{"text_format":"1","workbook":"xlsx","n_sheets":27,"sheets":["Draft decision changes","Cover page","Questions + comments","Read This Sheet","Instructions","Detailed price list","Weighted average price list","Revenue summary","FY25 to FY24 Comparison","Luminaire pricing","Unit Costs","Luminaire Volumes","Scenario_Price_List_linked","I_CAPEX - Stock Costs","O_OPEX Tariff Summary","I_CAPEX","I_Asset number input","C_CAPEX Build Up","C_OPEX Calc","I_Global Inputs","I_OPEX Input","O_New Component SLUOS","C_Warranty NPV","I_CAPEX - Hybid Calcs","I_Mapping & Lookups","Sheet1","SRC_STLAssetList"],"not_rendered":{"charts":0,"images":3,"macros":1,"external_links":22,"defined_names":12247,"comments":0,"pivot_tables":0},"unopened":[],"bounds":{"document_bytes":16777216,"sheet_cells":100000,"rows_first":2000,"rows_last":500,"rows_between":2000,"halvings":0,"cell_chars":16384,"cell_head_chars":4096},"cells_cut":0,"cells_raw":0,"read":"whole","date_system":"1900"}

{"sheet":"Draft decision changes","index":0,"n_rows":4,"n_cols":2,"rows_kept":4,"cut":false,"hidden":false,"merged":[]}
["Cell","Change"]
["I_Global Inputs'!G9","Substituted our draft decision benchmark labour rate for Field Worker."]
["I_Global Inputs'!G29","Substituted our draft decision pre-tax real WACC for 2023-24."]
["I_Global Inputs'!H60","Substituted our draft decision CPI forecast."]

{"sheet":"Cover page","index":1,"n_rows":34,"n_cols":2,"rows_kept":34,"cut":false,"hidden":false,"merged":[[26,1,26,2],[29,1,32,7]]}
[]
[]
[]
[]
[]
[]
[]
[]
[]
[]
[]
[]
[]
[]
[]
[]
[]
[]
[]
[]
[]
[]
[]
[]
[]
[]
[null,"2023-01-31"]
[]
[]
[null,"Attachment 9.1.b: Public lighting model FY24-29 "]
[]
[]
[]
[null,"Ausgrid’s 2024-29 Regulatory Proposal"]

{"sheet":"Questions + comments","index":2,"n_rows":55,"n_cols":5,"rows_kept":55,"cut":false,"hidden":false,"merged":[[0,5,0,6]]}
[null,"Questions and comments"]
[]
[]
[]
[null,"Owner","Question/comment","Response"]
[]
[]
[]
[]
[]
[]
[]
[]
[]
[]
[]
[]
[null,"Change Log"]
[]
[null,"General changes:"]
[null,"a) Worksheets with a tab colour highlighted red have not been used, as well as cells highlighted with a grey cross-hatch."]
[null,"b) Worksheets highlighted with a tab colour of blue are for reporting and have been added "]
[]
[null,"In addition the following specific changes were made to original model:"]
[null,"Change","Change Type","Worksheet","Cell Reference"]
[{"$f":"N(A25)+1","v":1},"Added this change log","Version control","Questions + comments","Row 18 onwards"]
[{"$f":"N(A26)+1","v":2},"Updated notes to be Ausgrid specific","Labelling","Read This Sheet","C11:C20"]
[3,"Removed unused mapping and formatted cell to show cells are not used","Formatting","O_New Component SLUOS","Columns F to M"]
[4,"Replaced Formulas with Ausgrid Support list using 15 of 19 available rows","Labelling","O_New Component SLUOS","B5:B23"]
[5,"Removed formulas given night patrol is included in bulk contract costs","Formulas","O_New Component SLUOS","C26:D26"]
[6,"Increased traditional luminaire categories from 57 to 70 aligning to FY23 pricing proposal","Formulas","O_New Component SLUOS","B33:B89"]
[7,"Created unused categories because only 59 of 92 LED luminaire cateories were required","Formulas","O_New Component SLUOS","B92:B183"]
[8,"This sheet was hidden as it is not required by Ausgrid","Simplification","Sheet 1","All"]
[9,"This sheet was hidden as it is not required by Ausgrid","Simplification","SRC_STLAssetList","All"]
[10,"This sheet is not required by Ausgrid, grey format applied to show it is not been applied.","Simplification","I_CAPEX - Hybid Calcs","All"]
[11,"Removed work in progress yellow cell fill colour","Formatting","I_CAPEX","T166:T478"]
[12,"Removed redundant working notes","Labelling","I_CAPEX","V481:V484"]
[13,"Removed note not applicable to Ausgrid","Labelling","I_CAPEX","AD398"]
[14,"Updated and simplified the list of materials required, including minor formatting changes","Simplification","I_CAPEX - Stock Costs","All"]
[15,"Updated sub assembly mapping to categories which align to Ausgrid's business model","Update","I_CAPEX","AE49:AK121"]
[16,"Updated bracket mapping to categories which align to Ausgrid's business model","Update","I_CAPEX","K49:Q55"]
[17,"Updated support mapping to categories which align to Ausgrid's business model","Update","I_CAPEX","A49:G87"]
[18,"Updated luminaire mapping to categories which align to Ausgrid's business model","Update","I_CAPEX","U49:AA477"]
[19,"Inserted [40] rows, standardised formatting, greyed out unused columns, removed conditional formatting","Formatting","C_CAPEX Build Up","All"]
[20,"Replaced logic for Design with Ausgrid Warranty logic including updating column M (Overheads) to exclude the new values in column K","Logic","C_CAPEX Build Up","K14:K185"]
[21,"Copied formulas from top row all the way down each column from J to N to ensure formula consistency and no hard codes","Logic","C_CAPEX Build Up","J14:AF14"]
[22,"Removed or greyed out unused mapping and charges","Simplification","O_New Component SLUOS","All"]
[23,"Updated formulas to include the full reference range","Formulas","O_New Component SLUOS","I5:I19"]
[24,"Changed heading and worksheet colours to Ausgrid colours","Formatting","All","All"]
[25]
[26]
[27]
[28]
[29]
[30]

{"sheet":"Read This Sheet","index":3,"n_rows":20,"n_cols":3,"rows_kept":20,"cut":false,"hidden":false,"merged":[[0,5,0,6],[3,1,3,2],[4,1,4,2]]}
[null,"SLUOS Construction Cost Calculation Workbook"]
[]
[null,"Description"]
[null,"This Excel workbook contains a costing model for the calculation of SLUOS Capital charges. "]
[null,"This workbook is designed to take financial, technical and material inputs to calculate both CAPEX and OPEX charges applicable to assemblies relating to Streetlights. For OPEX this is achieved through a ground up approach by calcualting the forecasted level of maintenance per failure rates and calculating the cost of repairs utilising labour, plant and material rates. For CAPEX this is achieved by calculating the cost of labour, plant and materials and applying a return on investment of a period of time for the economic life of the asset. This model takes into consideration appropriate overheads, oncosts and CPI to establish the final fully loaded SLUOS charges. These charges are based on an anuual charge."]
[]
[null,"A description of each of the sheets is contained below:"]
[null,null,"Items highlighted in red are not applicable for Ausgrid"]
[null,"Worksheet","Function"]
[null,"Global Inputs","Contains all inputs from other major workbooks - including overheads, oncosts, pay rates."]
[null,"CAPEX Inputs","• Contains a list of all stock and their associated costs.  This data is extracted from WASP.\n• Models the design costs associated with streetlights.\n• Contains components (from stock list) used to construct larger assemblies, giving prices for each.\n• Models the traffic control costs associated with a streetlight construction.\n"]
[null,"CAPEX - Stock Costs","Contains all stock costs as per 21/22 dollars as tracked through procurement purchase prices"]
[null,"CAPEX - Hybrid Calcs","Calculates assembly costs where assembly cannot be directly calculated (i.e. insufficient data to distinguish assets)"]
[null,"CAPEX Build Up","• For the assemblies listed in the CAPEX Input (luminaire, bracket, pole) the CAPEX cost for the component is calculated.\n• This is then calculated as an annual cost based of a given asset lifespan.\n"]
[null,"OPEX Input","• For a given lamp type, this sheet contains the associated lamp, ballast/igniter and starter/PE cell cost.  It also contains the failure rates for these components.\n• Pole maintenance costs are modelled\n• Small component usage (fuses, etc) are measured to be able to provide a cost per pole to account for these otherwise unrecovered costs\n• Bulk Works Additional Material usage is measured to pass on these costs on an average per pole basis\n• Streetlight Improvement Programs are listed to be able to have these costs passed on, in a per pole cost\n"]
[null,"Warrenty NPV","• Given that LEDs have parts and labour warranty for the first three years, the average NPV cost of maintenance is calculated across the span of the luminaire’s lifetime "]
[null,"OPEX Calc","• All luminaires and poles now have their associated costs calculated "]
[null,"OPEX Tariff and Revenue Summary","• Contains nominal Opex charges for each component and an estimate of the nominal revenue through to FY29"]
[null,"Mapping & Lookups","• This sheet provides construction information for a given construction code (type of pole, number of luminaires etc)\n• Because of different naming conventions for a number of the bulbs and luminaire types, this sheet provides a given CAPEX and OPEX code for a given lamp code from the traditional tariff code.  This then allows the costs to be found in the CAPEX Calc and OPEX Calc sheets\n"]
[null,"New Component SLUOS (For New Assets)","• To be able to map to the old lamp tariff codes, the new componentised structure is now collapsed again, such that it can map according allowing direct comparison of the old and new costs for a given assembly type."]

{"sheet":"Instructions","index":4,"n_rows":18,"n_cols":6,"rows_kept":18,"cut":false,"hidden":false,"merged":[[5,1,5,5],[11,1,11,5],[16,1,16,5]]}
[]
[null,"Steps to create new asset in pricing model"]
[null,"When creating a new code, always work from a copy of the model rather than the model itself"]
[null,"When creating new entries for the steps below, formulas from the previous entry should just be copied down"]
[]
[null,"CAPEX CHARGE"]
[null,"Step","Sheet affected","Columns","Instruction","Notes"]
[null,1,"CAPEX - Stock Costs","B:H","Create new entry in \"CAPEX - Stock Costs\" tab for the purchase price of the luminaire and its stock item code","This should be added after the last entry"]
[null,2,"CAPEX - Input","U:AC","Create new sub assembly in \"CAPEX - Input\" tab","This can be done by copying and pasting the last one in the list  (columns U to AC) and changing the materials item code (column Y) to the stock item code created in step 1"]
[null,3,"Mapping & Lookups","X:AD","Create new entry in \"Mapping & Lookups\" tab ","Data needs to be entered into columns X, Y, Z and AD"]
[null,4,"CAPEX Build Up","B:Z","Create new entry at bottom of table in \"CAPEX Build Up\" and change the \"Mapped to Assembly/Item\" (column F) to the new LED code created  in step 2 "]
[null,"OPEX CHARGE"]
[null,5,"OPEX Input","B:N","Create a new entry in the \"Additions through the regulatory period\" in tab \"OPEX Input\".","This should be added after the last entry which is currently in row 182. All entries in this table are usually common except for the luminaire failure column (column K) and smart controller cost (column H)."]
[null,{"$f":"B13+1","v":6},"OPEX Calc","B:AG","Create a new entry in the \"OPEX Calc\" tab and change the Mapping code (column F) "]
[null,{"$f":"B14+1","v":7},"Warranty NPV","B:N","Create a new entry in the \"Warranty NPV\" tab and change the Lamp Type (Column B) to the new LED code"]
[null,8,"OPEX Tariff and Revenue Summary","B:V","Create a new entry in the \"OPEX Tariff and Revenue Summary\" tab and change the Lamp Type (Column J) to the new LED code"]
[null,"PRICING SUMMARY"]
[null,{"$f":"B16+1","v":9},"New Component SLUOS","B:J","Create a new entry in the \"New Component SLUOS\" tab and change the CAPEX and OPEX lookups (column G&H) to the LED code created"]

{"sheet":"Detailed price list","index":5,"n_rows":237,"n_cols":17,"rows_kept":237,"cut":false,"hidden":false,"merged":[]}
[null,"Public lighting price list - post July 2009 capital annuity and annual maintenance charges"]
[null,"This sheet summarises the post July 2009 capital annuity and annual maintenance charges calculated in this model.",null,null,null,null,null,null,null,null,null,null,"Volume (FY25-FY29)"]
[null,null,null,"Nominal $",null,null,null,null,null,null,null,null,{"$f":"MATCH($M$2,$O$4:$Q$4,0)","v":1}]
[null,"Charge Reference","Charge Group",{"$f":"'C_CAPEX Build Up'!S14","v":"FY25"},{"$f":"'C_CAPEX Build Up'!T14","v":"FY26"},{"$f":"'C_CAPEX Build Up'!U14","v":"FY27"},{"$f":"'C_CAPEX Build Up'!V14","v":"FY28"},{"$f":"'C_CAPEX Build Up'!W14","v":"FY29"},null,"Charge Type","Road Type","Applied Scenario Price Grouping","Volume (FY25-FY29)",null,"Volume (FY25-FY29)","Volume (FY22 Billing)","Estimated Average Revenue"]
[null,"O/U","Opex - Connections",102.28306430013642,105.2233528577385,108.24816466326165,111.35992947123475,114.561146883326,null,"N/A","N/A","Connection - O/U",{"$f":"INDEX(O5:Q5,,$M$3)","v":2880},null,{"$f":"SUM('I_Asset number input'!K5:O5)","v":2880},4552,{"$f":"+O5/5*AVERAGE(D5,E5,F5,G5,H5)","v":62401.035821840327}]
[null,"UGR1",{"$f":"C5","v":"Opex - Connections"},93.757105377314076,96.452301752403926,99.224975812742954,102.07735477701067,105.01172988881237,null,"N/A","N/A","Connection - UGR1",{"$f":"INDEX(O6:Q6,,$M$3)","v":162507.5},null,{"$f":"SUM('I_Asset number input'!K6:O6)","v":162507.5},254888,{"$f":"+O6/5*AVERAGE(D6,E6,F6,G6,H6)","v":3227551.4964941284}]
[null,"UGR2",{"$f":"C6","v":"Opex - Connections"},34.089282231791088,35.069232599614296,36.077353191640732,37.114453805547633,38.181367517928045,null,"N/A","N/A","Connection - UGR2",{"$f":"INDEX(O7:Q7,,$M$3)","v":124642.5},null,{"$f":"SUM('I_Asset number input'!K7:O7)","v":124642.5},195760,900076.84357495373]
[null,"MBF1x1000","Opex - Maintenance- Traditional Luminaire",62.639277155026626,64.439942310452011,66.292370435522443,68.198049538721008,70.158510403689576,null,"Traditional","Major (Cat V)","Legacy Luminaire - Major (Cat V) road",{"$f":"INDEX(O8:Q8,,$M$3)","v":5},null,{"$f":"SUM('I_Asset number input'!K8:O8)","v":5},16,66.345629968682331]
[null,"MBF1x125",{"$f":"C8","v":"Opex - Maintenance- Traditional Luminaire"},36.454663563234732,37.502610560908614,38.580682453522996,39.689745228858932,40.830689768886756,null,"Traditional","Minor (Cat P)","Legacy Luminaire - Minor (Cat P) road",{"$f":"INDEX(O9:Q9,,$M$3)","v":977},null,{"$f":"SUM('I_Asset number input'!K9:O9)","v":977},10520,7544.7219427671025]
[null,"MBF1x250",{"$f":"C9","v":"Opex - Maintenance- Traditional Luminaire"},49.589613652000942,51.015145577491879,52.481656674243446,53.990324953387614,55.542362289850679,null,"Traditional","Major (Cat V)","Legacy Luminaire - Major (Cat V) road",{"$f":"INDEX(O10:Q10,,$M$3)","v":8847.5},null,{"$f":"SUM('I_Asset number input'!K10:O10)","v":8847.5},92720,92940.900603714297]
[null,"MBF1x400","Opex - Maintenance- Traditional Luminaire",49.589613652000942,51.015145577491879,52.481656674243446,53.990324953387614,55.542362289850679,null,"Traditional","Major (Cat V)","Legacy Luminaire - Major (Cat V) road",{"$f":"INDEX(O11:Q11,,$M$3)","v":2920},null,{"$f":"SUM('I_Asset number input'!K11:O11)","v":2920},31824,30673.91124756663]
[null,"MBF1x42","Opex - Maintenance- Traditional Luminaire",32.511399711004948,33.445991348594049,34.407449301900577,35.396545885688759,36.41407561613299,null,"Traditional","Minor (Cat P)","Legacy Luminaire - Minor (Cat P) road",{"$f":"INDEX(O12:Q12,,$M$3)","v":23720},null,{"$f":"SUM('I_Asset number input'!K12:O12)","v":23720},247472,163360.07821591932]
[null,"MBF1x50","Opex - Maintenance- Traditional Luminaire",36.479400840084914,37.528058949931342,38.606862396763084,39.716677756000117,40.858396514144331,null,"Traditional","Minor (Cat P)","Legacy Luminaire - Minor (Cat P) road",{"$f":"INDEX(O13:Q13,,$M$3)","v":2154},null,{"$f":"SUM('I_Asset number input'!K13:O13)","v":2154},23400,16645.198398728549]
[null,"MBF1x80","Opex - Maintenance- Traditional Luminaire",34.957655029002304,35.96256814717762,36.996369083321362,38.059888263479209,39.153979985607762,null,"Traditional","Minor (Cat P)","Legacy Luminaire - Minor (Cat P) road",{"$f":"INDEX(O14:Q14,,$M$3)","v":7315.5},null,{"$f":"SUM('I_Asset number input'!K14:O14)","v":7315.5},88712,54172.875354023083]
[null,"MBF2x80","Opex - Maintenance- Traditional Luminaire",44.050618855047091,45.316923609025928,46.619630297225619,47.959785350855441,49.338465282445874,null,"Traditional","Minor (Cat P)","Legacy Luminaire - Minor (Cat P) road",{"$f":"INDEX(O15:Q15,,$M$3)","v":11},null,{"$f":"SUM('I_Asset number input'!K15:O15)","v":11},120,102.64558629362398]
[null,"MBI1x100","Opex - Maintenance- Traditional Luminaire",46.532768571080041,47.870426646923491,49.246537821149346,50.662207488926896,52.118572821758988,null,"Traditional","Major (Cat V)","Legacy Luminaire - Major (Cat V) road",{"$f":"INDEX(O16:Q16,,$M$3)","v":17.5},null,{"$f":"SUM('I_Asset number input'!K16:O16)","v":17.5},168,172.50135934488711]
[null,"MBI1x1000","Opex - Maintenance- Traditional Luminaire",48.458142705389989,49.851148707842313,51.284198872421641,52.758444331942648,54.275069310354553,null,"Traditional","Major (Cat V)","Legacy Luminaire - Major (Cat V) road",{"$f":"INDEX(O17:Q17,,$M$3)","v":8.5},null,{"$f":"SUM('I_Asset number input'!K17:O17)","v":8.5},64,87.253181335503385]
[null,"MBI1x150","Opex - Maintenance- Traditional Luminaire",46.532768571080041,47.870426646923491,49.246537821149346,50.662207488926896,52.118572821758988,null,"Traditional","Major (Cat V)","Legacy Luminaire - Major (Cat V) road",{"$f":"INDEX(O18:Q18,,$M$3)","v":2},null,{"$f":"SUM('I_Asset number input'!K18:O18)","v":2},32,19.714441067987099]
[null,"MBI1x250","Opex - Maintenance- Traditional Luminaire",46.184034334560828,47.511667492864923,48.877465567431209,50.282525669177851,51.727976447212662,null,"Traditional","Major (Cat V)","Legacy Luminaire - Major (Cat V) road",{"$f":"INDEX(O19:Q19,,$M$3)","v":38},null,{"$f":"SUM('I_Asset number input'!K19:O19)","v":38},440,371.76717765709617]
[null,"MBI1x400","Opex - Maintenance- Traditional Luminaire",46.172748436938846,47.500057164254613,48.86552148155036,50.270238231645514,51.715335787842221,null,"Traditional","Major (Cat V)","Legacy Luminaire - Major (Cat V) road",{"$f":"INDEX(O20:Q20,,$M$3)","v":87},null,{"$f":"SUM('I_Asset number input'!K20:O20)","v":87},968,850.94317583576571]
[null,"MBI1x70","Opex - Maintenance- Traditional Luminaire",34.362058546215835,35.349850300895952,36.36603769285437,37.411436999623902,38.486887963926883,null,"Traditional","Minor (Cat P)","Legacy Luminaire - Minor (Cat P) road",{"$f":"INDEX(O21:Q21,,$M$3)","v":102},null,{"$f":"SUM('I_Asset number input'!K21:O21)","v":102},1400,742.46318773434905]
[null,"MBI1x70 II","Opex - Maintenance- Traditional Luminaire",36.816741278996687,37.875096773638298,38.963876371938341,40.083954662906002,41.236231376995669,null,"Traditional","Minor (Cat P)","Legacy Luminaire - Minor (Cat P) road",{"$f":"INDEX(O22:Q22,,$M$3)","v":13},null,{"$f":"SUM('I_Asset number input'!K22:O22)","v":13},584,101.387468241527]
[null,"SON1x100","Opex - Maintenance- Traditional Luminaire",55.614903493417778,57.213641911089745,58.858338594758578,60.550314687514408,62.290929310796344,null,"Traditional","Major (Cat V)","Legacy Luminaire - Major (Cat V) road",{"$f":"INDEX(O23:Q23,,$M$3)","v":876.5},null,{"$f":"SUM('I_Asset number input'!K23:O23)","v":876.5},10112,10326.156167595045]
[null,"SON1x1000","Opex - Maintenance- Traditional Luminaire",56.95476945035864,58.592024435449375,60.276344906224161,62.009083834555341,63.791633085632952,null,"Traditional","Major (Cat V)","Legacy Luminaire - Major (Cat V) road",{"$f":"INDEX(O24:Q24,,$M$3)","v":28.5},null,{"$f":"SUM('I_Asset number input'!K24:O24)","v":28.5},264,343.85119551193134]
[null,"SON1x150","Opex - Maintenance- Traditional Luminaire",54.950028348003762,56.529653877382138,58.154688242535116,59.826436792311547,61.546242399878814,null,"Traditional","Major (Cat V)","Legacy Luminaire - Major (Cat V) road",{"$f":"INDEX(O25:Q25,,$M$3)","v":12998.5},null,{"$f":"SUM('I_Asset number input'!K25:O25)","v":12998.5},137320,151306.2054002783]
[null,"SON1x150 AR","Opex - Maintenance- Traditional Luminaire",54.950028348003762,56.529653877382138,58.154688242535116,59.826436792311547,61.546242399878814,null,"Traditional","Major (Cat V)","Legacy Luminaire - Major (Cat V) road",{"$f":"INDEX(O26:Q26,,$M$3)","v":2321.5},null,{"$f":"SUM('I_Asset number input'!K26:O26)","v":2321.5},25040,27022.914631437943]
[null,"SON1x250","Opex - Maintenance- Traditional Luminaire",55.262694391490292,56.851308001117388,58.485588823110461,60.166849633762403,61.896440947198258,null,"Traditional","Major (Cat V)","Legacy Luminaire - Major (Cat V) road",{"$f":"INDEX(O27:Q27,,$M$3)","v":15865.5},null,{"$f":"SUM('I_Asset number input'!K27:O27)","v":15865.5},167184,185729.71804580829]
[null,"SON1x250 AR","Opex - Maintenance- Traditional Luminaire",55.262694391490292,56.851308001117388,58.485588823110461,60.166849633762403,61.896440947198258,null,"Traditional","Major (Cat V)","Legacy Luminaire - Major (Cat V) road",{"$f":"INDEX(O28:Q28,,$M$3)","v":3019.5},null,{"$f":"SUM('I_Asset number input'!K28:O28)","v":3019.5},32080,35347.822863402864]
[null,"SON1x400","Opex - Maintenance- Traditional Luminaire",55.400635293028479,56.993214232177067,58.631574373364302,60.317031769696619,62.050940306309791,null,"Traditional","Major (Cat V)","Legacy Luminaire - Major (Cat V) road",{"$f":"INDEX(O29:Q29,,$M$3)","v":1455.5},null,{"$f":"SUM('I_Asset number input'!K29:O29)","v":1455.5},15120,17081.363513639833]
[null,"SON1x400 AR","Opex - Maintenance- Traditional Luminaire",55.400635293028479,56.993214232177067,58.631574373364302,60.317031769696619,62.050940306309791,null,"Traditional","Major (Cat V)","Legacy Luminaire - Major (Cat V) road",{"$f":"INDEX(O30:Q30,,$M$3)","v":313},null,{"$f":"SUM('I_Asset number input'!K30:O30)","v":313},3280,3673.2853176016952]
[null,"SON1x50","Opex - Maintenance- Traditional Luminaire",40.828782795090234,42.002470772612675,43.209898268540407,44.452035178726526,45.729879280215386,null,"Traditional","Minor (Cat P)","Legacy Luminaire - Minor (Cat P) road",{"$f":"INDEX(O31:Q31,,$M$3)","v":8.5},null,{"$f":"SUM('I_Asset number input'!K31:O31)","v":8.5},88,73.515842540362982]
[null,"SON1x600","Opex - Maintenance- Traditional Luminaire",56.95476945035864,58.592024435449375,60.276344906224161,62.009083834555341,63.791633085632952,null,"Traditional","Major (Cat V)","Legacy Luminaire - Major (Cat V) road",{"$f":"INDEX(O32:Q32,,$M$3)","v":0},null,{"$f":"SUM('I_Asset number input'!K32:O32)","v":0},0,0]
[null,"SON1x70","Opex - Maintenance- Traditional Luminaire",40.483010935234539,41.646759153423105,42.84396115590414,44.075578624651456,45.342600886709171,null,"Traditional","Minor (Cat P)","Legacy Luminaire - Minor (Cat P) road",{"$f":"INDEX(O33:Q33,,$M$3)","v":360.5},null,{"$f":"SUM('I_Asset number input'!K33:O33)","v":360.5},5096,3091.5313531004008]
[null,"SON2x250","Opex - Maintenance- Traditional Luminaire",77.064297392847152,79.27963258420327,81.558651091648585,83.903183592890002,86.315113391362345,null,"Traditional","Major (Cat V)","Legacy Luminaire - Major (Cat V) road",{"$f":"INDEX(O34:Q34,,$M$3)","v":9},null,{"$f":"SUM('I_Asset number input'!K34:O34)","v":9},88,146.92351609906248]
[null,"SON2x400","Opex - Maintenance- Traditional Luminaire",77.33118735237764,79.55419471800343,81.841105948509863,84.193758061627889,86.61404088307043,null,"Traditional","Major (Cat V)","Legacy Luminaire - Major (Cat V) road",{"$f":"INDEX(O35:Q35,,$M$3)","v":2},null,{"$f":"SUM('I_Asset number input'!K35:O35)","v":2},32,32.762742957087141]
[null,"SON4x250","Opex - Maintenance- Traditional Luminaire",116.49665253426329,119.84553318023532,123.29068270035091,126.83486849575348,130.48093752091205,null,"Traditional","Major (Cat V)","Legacy Luminaire - Major (Cat V) road",{"$f":"INDEX(O36:Q36,,$M$3)","v":2},null,{"$f":"SUM('I_Asset number input'!K36:O36)","v":2},40,49.355893954521207]
[null,"SON4x600","Opex - Maintenance- Traditional Luminaire",122.63144453257073,126.15667948352292,129.78325289221559,133.5140778929958,137.35215136286783,null,"Traditional","Major (Cat V)","Legacy Luminaire - Major (Cat V) road",{"$f":"INDEX(O37:Q37,,$M$3)","v":-3},null,{"$f":"SUM('I_Asset number input'!K37:O37)","v":-3},24,-77.932512739700755]
[null,"TF1x20","Opex - Maintenance- Traditional Luminaire",38.704116256453318,39.81672733180217,40.961322173342367,42.138820205050934,43.350167281202204,null,"Traditional","Minor (Cat P)","Legacy Luminaire - Minor (Cat P) road",{"$f":"INDEX(O38:Q38,,$M$3)","v":5},null,{"$f":"SUM('I_Asset number input'!K38:O38)","v":5},8,40.994230649570198]
[null,"TF1x40","Opex - Maintenance- Traditional Luminaire",63.674637623172408,65.505065853827432,67.388112640828339,69.32529058785201,71.318155780761842,null,"Traditional","Minor (Cat P)","Legacy Luminaire - Minor (Cat P) road",{"$f":"INDEX(O39:Q39,,$M$3)","v":42.5},null,{"$f":"SUM('I_Asset number input'!K39:O39)","v":42.5},472,573.25914622695143]
[null,"TF1x80","Opex - Maintenance- Traditional Luminaire",38.721045102886279,39.834142824717624,40.979238302163623,42.157251361349417,43.369128270257839,null,"Traditional","Minor (Cat P)","Legacy Luminaire - Minor (Cat P) road",{"$f":"INDEX(O40:Q40,,$M$3)","v":16},null,{"$f":"SUM('I_Asset number input'!K40:O40)","v":16},144,131.23891575127988]
[null,"TF2x14 T5","Opex - Maintenance- Traditional Luminaire",38.721045102886279,39.834142824717624,40.979238302163623,42.157251361349417,43.369128270257839,null,"Traditional","Minor (Cat P)","Legacy Luminaire - Minor (Cat P) road",{"$f":"INDEX(O41:Q41,,$M$3)","v":2},null,{"$f":"SUM('I_Asset number input'!K41:O41)","v":2},56,16.404864468909985]
[null,"TF2x20","Opex - Maintenance- Traditional Luminaire",49.615574571256545,51.041852784457518,52.50913162214043,54.018589712144049,55.571439563829678,null,"Traditional","Minor (Cat P)","Legacy Luminaire - Minor (Cat P) road",{"$f":"INDEX(O42:Q42,,$M$3)","v":226},null,{"$f":"SUM('I_Asset number input'!K42:O42)","v":226},2648,2375.3195578146074]
[null,"TF2x26","Opex - Maintenance- Traditional Luminaire",38.721045102886279,39.834142824717624,40.979238302163623,42.157251361349417,43.369128270257839,null,"Traditional","Minor (Cat P)","Legacy Luminaire - Minor (Cat P) road",{"$f":"INDEX(O43:Q43,,$M$3)","v":8.5},null,{"$f":"SUM('I_Asset number input'!K43:O43)","v":8.5},64,69.720673992867432]
[null,"TF2x40","Opex - Maintenance- Traditional Luminaire",38.721045102886279,39.834142824717624,40.979238302163623,42.157251361349417,43.369128270257839,null,"Traditional","Minor (Cat P)","Legacy Luminaire - Minor (Cat P) road",{"$f":"INDEX(O44:Q44,,$M$3)","v":14},null,{"$f":"SUM('I_Asset number input'!K44:O44)","v":14},96,114.83405128236987]
[null,"TF4x20","Opex - Maintenance- Traditional Luminaire",38.704116256453318,39.81672733180217,40.961322173342367,42.138820205050934,43.350167281202204,null,"Traditional","Minor (Cat P)","Legacy Luminaire - Minor (Cat P) road",{"$f":"INDEX(O45:Q45,,$M$3)","v":12},null,{"$f":"SUM('I_Asset number input'!K45:O45)","v":12},56,98.386153558968473]
[null,"TF4x40","Opex - Maintenance- Traditional Luminaire",38.721045102886279,39.834142824717624,40.979238302163623,42.157251361349417,43.369128270257839,null,"Traditional","Minor (Cat P)","Legacy Luminaire - Minor (Cat P) road",{"$f":"INDEX(O46:Q46,,$M$3)","v":5},null,{"$f":"SUM('I_Asset number input'!K46:O46)","v":5},16,41.012161172274958]
[null,"LED TRIAL","Opex - Maintenance- LED Luminaire",23.443335396588658,24.117251174242238,24.810539727470939,25.523757957368236,26.25747877403089,null,"LED","Minor (Cat P)","Luminaire - Minor (Cat P) road",{"$f":"INDEX(O47:Q47,,$M$3)","v":440},null,{"$f":"SUM('I_Asset number input'!K47:O47)","v":440},712,2185.0815893227368]
[null,"LED1x100","Opex - Maintenance- LED Luminaire",31.940827448003311,32.859017082898532,33.803601531985763,34.775339555971669,35.775011727340264,null,"LED","Major (Cat V)","Luminaire - Major (Cat V) road",{"$f":"INDEX(O48:Q48,,$M$3)","v":40918.5},null,{"$f":"SUM('I_Asset number input'!K48:O48)","v":40918.5},71120,276860.78626841865]
[null,"LED1x17","Opex - Maintenance- LED Luminaire",23.443335396588658,24.117251174242238,24.810539727470939,25.523757957368236,26.25747877403089,null,"LED","Minor (Cat P)","Luminaire - Minor (Cat P) road",{"$f":"INDEX(O49:Q49,,$M$3)","v":692170},null,{"$f":"SUM('I_Asset number input'!K49:O49)","v":692170},764648,3437381.6447307244]
[null,"LED1x200","Opex - Maintenance- LED Luminaire",31.940827448003311,32.859017082898532,33.803601531985763,34.775339555971669,35.775011727340264,null,"LED","Major (Cat V)","Luminaire - Major (Cat V) road",{"$f":"INDEX(O50:Q50,,$M$3)","v":13525},null,{"$f":"SUM('I_Asset number input'!K50:O50)","v":13525},21384,91512.204364293953]
[null,"LED1x22","Opex - Maintenance- LED Luminaire",23.443335396588658,24.117251174242238,24.810539727470939,25.523757957368236,26.25747877403089,null,"LED","Minor (Cat P)","Luminaire - Minor (Cat P) road",{"$f":"INDEX(O51:Q51,,$M$3)","v":72155},null,{"$f":"SUM('I_Asset number input'!K51:O51)","v":72155},115744,358328.55017632287]
[null,"LED1x25 GE","Opex - Maintenance- LED Luminaire",23.443335396588658,24.117251174242238,24.810539727470939,25.523757957368236,26.25747877403089,null,"LED","Minor (Cat P)","Luminaire - Minor (Cat P) road",{"$f":"INDEX(O52:Q52,,$M$3)","v":22460},null,{"$f":"SUM('I_Asset number input'!K52:O52)","v":22460},35840,111538.48294588334]
[null,"LED1x28","Opex - Maintenance- LED Luminaire",23.443335396588658,24.117251174242238,24.810539727470939,25.523757957368236,26.25747877403089,null,"LED","Minor (Cat P)","Luminaire - Minor (Cat P) road",{"$f":"INDEX(O53:Q53,,$M$3)","v":19825},null,{"$f":"SUM('I_Asset number input'!K53:O53)","v":19825},30088,98452.823882552853]
[null,"LED1x29","Opex - Maintenance- LED Luminaire",23.443335396588658,24.117251174242238,24.810539727470939,25.523757957368236,26.25747877403089,null,"LED","Minor (Cat P)","Luminaire - Minor (Cat P) road",{"$f":"INDEX(O54:Q54,,$M$3)","v":72590},null,{"$f":"SUM('I_Asset number input'!K54:O54)","v":72590},116496,360488.80129303969]
[null,"LED1x298","Opex - Maintenance- LED Luminaire",31.940827448003311,32.859017082898532,33.803601531985763,34.775339555971669,35.775011727340264,null,"LED","Major (Cat V)","Luminaire - Major (Cat V) road",{"$f":"INDEX(O55:Q55,,$M$3)","v":265},null,{"$f":"SUM('I_Asset number input'!K55:O55)","v":265},424,1793.0302518697151]
[null,"LED1x33","Opex - Maintenance- LED Luminaire",23.443335396588658,24.117251174242238,24.810539727470939,25.523757957368236,26.25747877403089,null,"LED","Minor (Cat P)","Luminaire - Minor (Cat P) road",{"$f":"INDEX(O56:Q56,,$M$3)","v":145},null,{"$f":"SUM('I_Asset number input'!K56:O56)","v":145},232,720.08370557226556]
[null,"LED1x42","Opex - Maintenance- LED Luminaire",23.443335396588658,24.117251174242238,24.810539727470939,25.523757957368236,26.25747877403089,null,"LED","Minor (Cat P)","Luminaire - Minor (Cat P) road",{"$f":"INDEX(O57:Q57,,$M$3)","v":200},null,{"$f":"SUM('I_Asset number input'!K57:O57)","v":200},328,993.2189042376076]
[null,"Smart Controller (Licence and maintenance fee)","Opex - Maintenance- Smart controller",5.9196192287323921,6.0897880519163481,6.264848647233765,6.4449416364163916,6.6302116835902041,null,"Smart Controller","N/A","Smart Controller - Licence and maintenance fee",{"$f":"INDEX(O58:Q58,,$M$3)","v":304000},null,{"$f":"SUM('I_Asset number input'!K58:O58)","v":304000},0,381208.81645433145]
[null,"Luminaire - Decorative ","Opex - Maintenance- LED Luminaire",25.149242916588658,25.872197705692511,26.615934974365299,27.381052147872811,28.16816382541559,null,"LED","Minor (Cat P)","Luminaire - Decorative ",{"$f":"INDEX(O59:Q59,,$M$3)","v":0},null,{"$f":"SUM('I_Asset number input'!K59:O59)","v":0},0,0]
[null,"Luminaire - Floodlight","Opex - Maintenance- LED Luminaire",31.940827448003311,32.859017082898532,33.803601531985763,34.775339555971669,35.775011727340264,null,"LED","Major (Cat V)","Luminaire - Floodlight",{"$f":"INDEX(O60:Q60,,$M$3)","v":0},null,{"$f":"SUM('I_Asset number input'!K60:O60)","v":0},0,0]
[null,"Luminaire - Major (Cat V) road - smart controller installed","Opex - Maintenance- LED Luminaire",22.618269402628378,23.268467352527118,23.937356271506072,24.625473461051985,25.333371668233177,null,"LED","Major (Cat V)","Luminaire - Major (Cat V) road - smart controller installed",{"$f":"INDEX(O61:Q61,,$M$3)","v":260865},null,{"$f":"SUM('I_Asset number input'!K61:O61)","v":260865},0,1249887.0464820417]
[null,"Luminaire - Minor (Cat P) road - smart controller installed","Opex - Maintenance- LED Luminaire",18.12991292364439,18.651085963232749,19.187240946658221,19.73880855360699,20.30623184433442,null,"LED","Minor (Cat P)","Luminaire - Minor (Cat P) road - smart controller installed",{"$f":"INDEX(O62:Q62,,$M$3)","v":28985},null,{"$f":"SUM('I_Asset number input'!K62:O62)","v":28985},0,111317.79710037415]
[null,"Luminaire - Floodlight - smart controller installed","Opex - Maintenance- LED Luminaire",22.618269402628378,23.268467352527118,23.937356271506072,24.625473461051985,25.333371668233177,null,"LED","Major (Cat V)","Luminaire - Floodlight - smart controller installed",{"$f":"INDEX(O63:Q63,,$M$3)","v":0},null,{"$f":"SUM('I_Asset number input'!K63:O63)","v":0},0,0]
[null,"Luminaire - Decorative - smart controller installed","Opex - Maintenance- LED Luminaire",19.835820443644387,20.406032494683018,20.992636193552574,21.596102744111558,22.216916895719113,null,"LED","Minor (Cat P)","Luminaire - Decorative - smart controller installed",{"$f":"INDEX(O64:Q64,,$M$3)","v":0},null,{"$f":"SUM('I_Asset number input'!K64:O64)","v":0},0,0]
[null,"0.5","Capital - Bracket",6.5063364112348498,6.6933713483748605,6.8857829007864941,7.0837256277848253,7.2873585317370448,null,"Bracket","Minor (Cat P)","Legacy Bracket - Minor (Cat P) road - Short",{"$f":"INDEX(O65:Q65,,$M$3)","v":32543.500000000004},null,{"$f":"SUM('I_Asset number input'!K65:O65)","v":32543.500000000004},49704,44853.501706080162]
[null,"0.6","Capital - Bracket",6.5063364112348498,6.6933713483748605,6.8857829007864941,7.0837256277848253,7.2873585317370448,null,"Bracket","Minor (Cat P)","Legacy Bracket - Minor (Cat P) road - Short",{"$f":"INDEX(O66:Q66,,$M$3)","v":130},null,{"$f":"SUM('I_Asset number input'!K66:O66)","v":130},208,179.174189063574]
[null,"1.0","Capital - Bracket",7.9928380827112937,8.222604862951675,8.458976652921482,8.7021433240785466,8.9523002060362504,null,"Bracket","Minor (Cat P)","Legacy Bracket - Minor (Cat P) road - Short",{"$f":"INDEX(O67:Q67,,$M$3)","v":580},null,{"$f":"SUM('I_Asset number input'!K67:O67)","v":580},952,982.02962458582249]
[null,"1.2","Capital - Bracket",7.9928380827112937,8.222604862951675,8.458976652921482,8.7021433240785466,8.9523002060362504,null,"Bracket","Minor (Cat P)","Legacy Bracket - Minor (Cat P) road - Short",{"$f":"INDEX(O68:Q68,,$M$3)","v":2285},null,{"$f":"SUM('I_Asset number input'!K68:O68)","v":2285},3648,3868.8580899631111]
[null,"1.5","Capital - Bracket",7.9928380827112937,8.222604862951675,8.458976652921482,8.7021433240785466,8.9523002060362504,null,"Bracket","Minor (Cat P)","Legacy Bracket - Minor (Cat P) road - Short",{"$f":"INDEX(O69:Q69,,$M$3)","v":1330},null,{"$f":"SUM('I_Asset number input'!K69:O69)","v":1330},2160,2251.8955184467995]
[null,"2.0","Capital - Bracket",7.9928380827112937,8.222604862951675,8.458976652921482,8.7021433240785466,8.9523002060362504,null,"Bracket","Minor (Cat P)","Legacy Bracket - Minor (Cat P) road - Short",{"$f":"INDEX(O70:Q70,,$M$3)","v":203421.5},null,{"$f":"SUM('I_Asset number input'!K70:O70)","v":203421.5},300376,{"$f":"+O70/5*AVERAGE(D70,E70,F70,G70,H70)","v":344424.03323738778}]
[null,"2.5","Capital - Bracket",7.9928380827112937,8.222604862951675,8.458976652921482,8.7021433240785466,8.9523002060362504,null,"Bracket","Minor (Cat P)","Legacy Bracket - Minor (Cat P) road - Short",{"$f":"INDEX(O71:Q71,,$M$3)","v":345},null,{"$f":"SUM('I_Asset number input'!K71:O71)","v":345},552,584.13831117604957]
[null,"3.0","Capital - Bracket",7.9928380827112937,8.222604862951675,8.458976652921482,8.7021433240785466,8.9523002060362504,null,"Bracket","Minor (Cat P)","Legacy Bracket - Minor (Cat P) road - Short",{"$f":"INDEX(O72:Q72,,$M$3)","v":3245},null,{"$f":"SUM('I_Asset number input'!K72:O72)","v":3245},5008,5494.2864341051618]
[null,"3.5","Capital - Bracket",11.283271470094054,11.607626965530567,11.941306573011953,12.284578328895384,12.637717974667313,null,"Bracket","Minor (Cat P)","Legacy Bracket - Minor (Cat P) road - Medium",{"$f":"INDEX(O73:Q73,,$M$3)","v":5285},null,{"$f":"SUM('I_Asset number input'!K73:O73)","v":5285},8456,12632.101577398927]
[null,"4.0","Capital - Bracket",18.116652951873196,18.637444812587617,19.17320765954916,19.724371857450745,20.291380142499492,null,"Bracket","Minor (Cat P)","Legacy Bracket - Minor (Cat P) road - Medium",{"$f":"INDEX(O74:Q74,,$M$3)","v":3145},null,{"$f":"SUM('I_Asset number input'!K74:O74)","v":3145},4952,12069.636623934193]
[null,"4.5","Capital - Bracket",18.116652951873196,18.637444812587617,19.17320765954916,19.724371857450745,20.291380142499492,null,"Bracket","Minor (Cat P)","Legacy Bracket - Minor (Cat P) road - Medium",{"$f":"INDEX(O75:Q75,,$M$3)","v":720},null,{"$f":"SUM('I_Asset number input'!K75:O75)","v":720},1096,2763.1600538100538]
[null,"5.0","Capital - Bracket",18.116652951873196,18.637444812587617,19.17320765954916,19.724371857450745,20.291380142499492,null,"Bracket","Minor (Cat P)","Legacy Bracket - Minor (Cat P) road - Medium",{"$f":"INDEX(O76:Q76,,$M$3)","v":220},null,{"$f":"SUM('I_Asset number input'!K76:O76)","v":220},368,844.29890533084983]
[null,"6.0","Capital - Bracket",22.519580378646182,23.166941356364227,23.832911749907328,24.518026516384847,25.222835991094872,null,"Bracket","Minor (Cat P)","Legacy Bracket - Minor (Cat P) road - Long",{"$f":"INDEX(O77:Q77,,$M$3)","v":1360},null,{"$f":"SUM('I_Asset number input'!K77:O77)","v":1360},2144,6487.7601019864214]
[null,"6.5","Capital - Bracket",22.519580378646182,23.166941356364227,23.832911749907328,24.518026516384847,25.222835991094872,null,"Bracket","Minor (Cat P)","Legacy Bracket - Minor (Cat P) road - Long",{"$f":"INDEX(O78:Q78,,$M$3)","v":190},null,{"$f":"SUM('I_Asset number input'!K78:O78)","v":190},312,906.37824954222071]
[null,"7.0","Capital - Bracket",22.519580378646182,23.166941356364227,23.832911749907328,24.518026516384847,25.222835991094872,null,"Bracket","Minor (Cat P)","Legacy Bracket - Minor (Cat P) road - Long",{"$f":"INDEX(O79:Q79,,$M$3)","v":120},null,{"$f":"SUM('I_Asset number input'!K79:O79)","v":120},200,572.44942076350776]
[null,"8.0",{"$f":"C79","v":"Capital - Bracket"},22.519580378646182,23.166941356364227,23.832911749907328,24.518026516384847,25.222835991094872,null,"Bracket","Minor (Cat P)","Legacy Bracket - Minor (Cat P) road - Long",{"$f":"INDEX(O80:Q80,,$M$3)","v":10},null,{"$f":"SUM('I_Asset number input'!K80:O80)","v":10},16,47.704118396958982]
[null,"C4","Capital - Bracket",10.426039396254424,10.725752399063575,11.034081126467548,11.351273251105159,11.677583565357198,null,"Bracket","Major (Cat V)","Legacy Bracket - Major (Cat V) road - Short",{"$f":"INDEX(O81:Q81,,$M$3)","v":270},null,{"$f":"SUM('I_Asset number input'!K81:O81)","v":270},432,596.31908117307728]
[null,"T1","Capital - Bracket",9.5922644202660301,9.8680092418490126,10.151680784725164,10.443506915042972,10.743722049323987,null,"Bracket","Major (Cat V)","Legacy Bracket - Major (Cat V) road - Short",{"$f":"INDEX(O82:Q82,,$M$3)","v":10485},null,{"$f":"SUM('I_Asset number input'!K82:O82)","v":10485},14688,21305.177522660288]
[null,"T2","Capital - Bracket",15.309578541329284,15.749676605606,16.202425985244354,16.668190362326524,17.147343873551712,null,"Bracket","Major (Cat V)","Legacy Bracket - Major (Cat V) road - Short",{"$f":"INDEX(O83:Q83,,$M$3)","v":3660},null,{"$f":"SUM('I_Asset number input'!K83:O83)","v":3660},5848,11869.704329883672]
[null,"T2A","Capital - Bracket",15.309578541329284,15.749676605606,16.202425985244354,16.668190362326524,17.147343873551712,null,"Bracket","Major (Cat V)","Legacy Bracket - Major (Cat V) road - Short",{"$f":"INDEX(O84:Q84,,$M$3)","v":1905},null,{"$f":"SUM('I_Asset number input'!K84:O84)","v":1905},2584,6178.0838110460099]
[null,"T3","Capital - Bracket",22.188222093233509,22.826057652626123,23.482228804619002,24.157262634839547,24.851701380825695,null,"Bracket","Major (Cat V)","Legacy Bracket - Major (Cat V) road - Medium",{"$f":"INDEX(O85:Q85,,$M$3)","v":3160},null,{"$f":"SUM('I_Asset number input'!K85:O85)","v":3160},5064,14852.691732360587]
[null,"T3A","Capital - Bracket",22.188222093233509,22.826057652626123,23.482228804619002,24.157262634839547,24.851701380825695,null,"Bracket","Major (Cat V)","Legacy Bracket - Major (Cat V) road - Medium",{"$f":"INDEX(O86:Q86,,$M$3)","v":1550},null,{"$f":"SUM('I_Asset number input'!K86:O86)","v":1550},2120,7285.3392991009205]
[null,"T4","Capital - Bracket",22.188222093233509,22.826057652626123,23.482228804619002,24.157262634839547,24.851701380825695,null,"Bracket","Major (Cat V)","Legacy Bracket - Major (Cat V) road - Medium",{"$f":"INDEX(O87:Q87,,$M$3)","v":2270},null,{"$f":"SUM('I_Asset number input'!K87:O87)","v":2270},3656,10669.496909005864]
[null,"T5","Capital - Bracket",22.188222093233509,22.826057652626123,23.482228804619002,24.157262634839547,24.851701380825695,null,"Bracket","Major (Cat V)","Legacy Bracket - Major (Cat V) road - Medium",{"$f":"INDEX(O88:Q88,,$M$3)","v":395},null,{"$f":"SUM('I_Asset number input'!K88:O88)","v":395},624,1856.5864665450733]
[null,"T6","Capital - Bracket",22.188222093233509,22.826057652626123,23.482228804619002,24.157262634839547,24.851701380825695,null,"Bracket","Major (Cat V)","Legacy Bracket - Major (Cat V) road - Medium",{"$f":"INDEX(O89:Q89,,$M$3)","v":2525},null,{"$f":"SUM('I_Asset number input'!K89:O89)","v":2525},3896,11868.052729180532]
[null,"T7","Capital - Bracket",32.163744127380333,33.088341855014619,34.039518607608215,35.018038441297833,36.024687376223028,null,"Bracket","Major (Cat V)","Legacy Bracket - Major (Cat V) road - Long",{"$f":"INDEX(O90:Q90,,$M$3)","v":1380},null,{"$f":"SUM('I_Asset number input'!K90:O90)","v":1380},2104,9402.4550384953272]
[null,"Bracket - Minor Road (Cat P) - Short","Capital - Bracket",9.6494554566378081,9.9268443250724552,10.21220717552891,10.505773232740099,10.807778310866672,null,"Bracket","Minor (Cat P)","Bracket - Minor Road (Cat P) - Short",{"$f":"INDEX(O91:Q91,,$M$3)","v":10333.200000000004},null,{"$f":"SUM('I_Asset number input'!K91:O91)","v":10333.200000000004},null,21121.911636037661]
[null,"Bracket - Minor Road (Cat P) - Medium","Capital - Bracket",15.32114800905001,15.761578655986323,16.214670178899173,16.680786534705746,17.160302142840813,null,"Bracket","Minor (Cat P)","Bracket - Minor Road (Cat P) - Medium",{"$f":"INDEX(O92:Q92,,$M$3)","v":0},null,{"$f":"SUM('I_Asset number input'!K92:O92)","v":0},null,0]
[null,"Bracket - Major Road (Cat V) - Short","Capital - Bracket",12.520247031847971,12.880161347458134,13.250421969674839,13.631326319455669,14.023180367594332,null,"Bracket","Major (Cat V)","Bracket - Major Road (Cat V) - Short",{"$f":"INDEX(O93:Q93,,$M$3)","v":2583.3000000000011},null,{"$f":"SUM('I_Asset number input'!K93:O93)","v":2583.3000000000011},null,6851.463086607152]
[null,"Bracket - Major Road (Cat V) - Medium","Capital - Bracket",22.693346124171857,23.345702273248602,24.016811432256524,24.707212686144814,25.417460616712688,null,"Bracket","Major (Cat V)","Bracket - Major Road (Cat V) - Medium",{"$f":"INDEX(O94:Q94,,$M$3)","v":0},null,{"$f":"SUM('I_Asset number input'!K94:O94)","v":0},null,0]
[null,"Bracket - Major Road (Cat V) - Long","Capital - Bracket",28.283511265873646,29.096565559005015,29.932992384541052,30.79346362291535,31.678670468827899,null,"Bracket","Major (Cat V)","Bracket - Major Road (Cat V) - Long",{"$f":"INDEX(O95:Q95,,$M$3)","v":0},null,{"$f":"SUM('I_Asset number input'!K95:O95)","v":0},null,0]
[null,"1000W SON","Capital - Traditional Luminaire",107.46721498395996,110.55653015746205,113.73465258481039,117.00413517106412,120.36760420857856,null,"Traditional","Major (Cat V)","Legacy Luminaire - 1000W SON",{"$f":"INDEX(O96:Q96,,$M$3)","v":32.5},null,{"$f":"SUM('I_Asset number input'!K96:O96)","v":32.5},64,739.86917823763758]
[null,"1000W SON FLOODLIGHT","Capital - Traditional Luminaire",87.929475883870793,90.457147826301536,93.057481699038661,95.732566284264408,98.484550409510547,null,"Traditional","Major (Cat V)","Legacy Luminaire - 1000W SON FLOODLIGHT",{"$f":"INDEX(O97:Q97,,$M$3)","v":7.5},null,{"$f":"SUM('I_Asset number input'!K97:O97)","v":7.5},24,139.69836663089575]
[null,"1000W/1500W MBI FLOODLIG","Capital - Traditional Luminaire",119.10451058725982,122.52835824018989,126.05062981252212,129.67415465558648,133.40184345489473,null,"Traditional","Major (Cat V)","Legacy Luminaire - 1000W/1500W MBI FLOODLIG",{"$f":"INDEX(O98:Q98,,$M$3)","v":12.5},null,{"$f":"SUM('I_Asset number input'!K98:O98)","v":12.5},40,315.37974837522654]
[null,"100W MBI","Capital - Traditional Luminaire",40.351890241770491,41.511869188112392,42.705193565062238,43.932821939795701,45.195740435018948,null,"Traditional","Major (Cat V)","Legacy Luminaire - 100W MBI",{"$f":"INDEX(O99:Q99,,$M$3)","v":0},null,{"$f":"SUM('I_Asset number input'!K99:O99)","v":0},80,0]
[null,"100W MBI FLOODLIGHT","Capital - Traditional Luminaire",43.713903788214417,44.970529134708201,46.263278165535951,47.593189313173582,48.961330861481962,null,"Traditional","Major (Cat V)","Legacy Luminaire - 100W MBI FLOODLIGHT",{"$f":"INDEX(O100:Q100,,$M$3)","v":7.5},null,{"$f":"SUM('I_Asset number input'!K100:O100)","v":7.5},32,69.450669378934236]
[null,"100W SON","Capital - Traditional Luminaire",42.975760162237009,44.211166402007912,45.482086349308439,46.789540901865905,48.134580304728495,null,"Traditional","Major (Cat V)","Legacy Luminaire - 100W SON",{"$f":"INDEX(O101:Q101,,$M$3)","v":223.33333333333329},null,{"$f":"SUM('I_Asset number input'!K101:O101)","v":223.33333333333329},3040,2033.1653314733196]
[null,"100W SON - PLAIN","Capital - Traditional Luminaire",42.975760162237009,44.211166402007912,45.482086349308439,46.789540901865905,48.134580304728495,null,"Traditional","Major (Cat V)","Legacy Luminaire - 100W SON - PLAIN",{"$f":"INDEX(O102:Q102,,$M$3)","v":84.666666666666643},null,{"$f":"SUM('I_Asset number input'!K102:O102)","v":84.666666666666643},1016,770.7820808869003]
[null,"100W SON FLOODLIGHT","Capital - Traditional Luminaire",63.172830678238313,64.988833674096057,66.857040550095903,68.778951989390976,70.756111814646616,null,"Traditional","Major (Cat V)","Legacy Luminaire - 100W SON FLOODLIGHT",{"$f":"INDEX(O103:Q103,,$M$3)","v":5},null,{"$f":"SUM('I_Asset number input'!K103:O103)","v":5},16,66.910753741293576]
[null,"125W MBF","Capital - Traditional Luminaire",26.094043482576225,26.844158059201085,27.615835866470547,28.409696773575696,29.226378468828525,null,"Traditional","Minor (Cat P)","Legacy Luminaire - 125W MBF",{"$f":"INDEX(O104:Q104,,$M$3)","v":0},null,{"$f":"SUM('I_Asset number input'!K104:O104)","v":0},1896,0]
[null,"125W MBF - BOURKE HILL","Capital - Traditional Luminaire",80.651315338020069,82.969765037063951,85.354862241910666,87.808522840591593,90.332717796371668,null,"Traditional","Minor (Cat P)","Legacy Luminaire - 125W MBF - BOURKE HILL",{"$f":"INDEX(O105:Q105,,$M$3)","v":72.5},null,{"$f":"SUM('I_Asset number input'!K105:O105)","v":72.5},16,1238.6398314364781]
[null,"125W MBF - PARKVILLE","Capital - Traditional Luminaire",101.54231775240112,104.46131237817498,107.46421812409949,110.55344714812202,113.73148094948768,null,"Traditional","Minor (Cat P)","Legacy Luminaire - 125W MBF - PARKVILLE",{"$f":"INDEX(O106:Q106,,$M$3)","v":20},null,{"$f":"SUM('I_Asset number input'!K106:O106)","v":20},32,430.20222108182827]
[null,"125W MBF - PLAIN","Capital - Traditional Luminaire",26.094043482576225,26.844158059201085,27.615835866470547,28.409696773575696,29.226378468828525,null,"Traditional","Minor (Cat P)","Legacy Luminaire - 125W MBF - PLAIN",{"$f":"INDEX(O107:Q107,,$M$3)","v":915},null,{"$f":"SUM('I_Asset number input'!K107:O107)","v":915},1528,5057.7581230138667]
[null,"125W/250W MBF FLOODLIGHT","Capital - Traditional Luminaire",36.023132488936483,37.058674442933871,38.123984689258918,39.219918964586213,40.347357605095347,null,"Traditional","Minor (Cat P)","Legacy Luminaire - 125W/250W MBF FLOODLIGHT",{"$f":"INDEX(O108:Q108,,$M$3)","v":25},null,{"$f":"SUM('I_Asset number input'!K108:O108)","v":25},72,190.77306819081082]
[null,"150W SON","Capital - Traditional Luminaire",43.360209967433576,44.606667825289314,45.888957086926936,47.20810778275532,48.565179553037588,null,"Traditional","Major (Cat V)","Legacy Luminaire - 150W SON",{"$f":"INDEX(O109:Q109,,$M$3)","v":5170},null,{"$f":"SUM('I_Asset number input'!K109:O109)","v":5170},60400,47487.302474153556]
[null,"150W SON - PARKVILLE","Capital - Traditional Luminaire",117.06692661971806,120.43220069679849,123.8942149031441,127.45575018687262,131.11966743885654,null,"Traditional","Major (Cat V)","Legacy Luminaire - 150W SON - PARKVILLE",{"$f":"INDEX(O110:Q110,,$M$3)","v":75},null,{"$f":"SUM('I_Asset number input'!K110:O110)","v":75},112,1859.9062795361692]
[null,"150W SON - PARKWAY 1","Capital - Traditional Luminaire",51.721993230458757,53.208823781659675,54.738395630129126,56.311937442099946,57.930713203760327,null,"Traditional","Major (Cat V)","Legacy Luminaire - 150W SON - PARKWAY 1",{"$f":"INDEX(O111:Q111,,$M$3)","v":37.333333333333321},null,{"$f":"SUM('I_Asset number input'!K111:O111)","v":37.333333333333321},424,409.0417158435742]
[null,"150W SON ACTIVE REACTOR","Capital - Traditional Luminaire",63.736049642851263,65.568243259203285,67.453106180706982,69.392152469893944,71.386939713419423,null,"Traditional","Major (Cat V)","Legacy Luminaire - 150W SON ACTIVE REACTOR",{"$f":"INDEX(O112:Q112,,$M$3)","v":1924.6666666666663},null,{"$f":"SUM('I_Asset number input'!K112:O112)","v":1924.6666666666663},21016,25985.809340937551]
[null,"150W SON FLOODLIGHT","Capital - Traditional Luminaire",50.760868717467361,52.220070223456183,53.7212187860829,55.26552023987643,56.854215082987601,null,"Traditional","Major (Cat V)","Legacy Luminaire - 150W SON FLOODLIGHT",{"$f":"INDEX(O113:Q113,,$M$3)","v":625},null,{"$f":"SUM('I_Asset number input'!K113:O113)","v":625},1488,6720.5473262467622]
[null,"150W/250W MBI FLOODLIGHT","Capital - Traditional Luminaire",77.945314442916114,80.185975863683666,82.491048643086415,84.862384387566451,87.301887930923414,null,"Traditional","Major (Cat V)","Legacy Luminaire - 150W/250W MBI FLOODLIGHT",{"$f":"INDEX(O114:Q114,,$M$3)","v":100},null,{"$f":"SUM('I_Asset number input'!K114:O114)","v":100},288,1651.1464450727044]
[null,"250W MBF","Capital - Traditional Luminaire",42.591310357040456,43.815664978726524,45.075215611689956,46.370974020976504,47.703981056419408,null,"Traditional","Major (Cat V)","Legacy Luminaire - 250W MBF",{"$f":"INDEX(O115:Q115,,$M$3)","v":794},null,{"$f":"SUM('I_Asset number input'!K115:O115)","v":794},9040,7163.6949577493278]
[null,"250W MBF - PARKWAY 1","Capital - Traditional Luminaire",51.721993230458757,53.208823781659675,54.738395630129126,56.311937442099946,57.930713203760327,null,"Traditional","Major (Cat V)","Legacy Luminaire - 250W MBF - PARKWAY 1",{"$f":"INDEX(O116:Q116,,$M$3)","v":86},null,{"$f":"SUM('I_Asset number input'!K116:O116)","v":86},1032,942.25680971109091]
[null,"250W SON","Capital - Traditional Luminaire",43.360209967433576,44.606667825289314,45.888957086926936,47.20810778275532,48.565179553037588,null,"Traditional","Major (Cat V)","Legacy Luminaire - 250W SON",{"$f":"INDEX(O117:Q117,,$M$3)","v":5995.3333333333348},null,{"$f":"SUM('I_Asset number input'!K117:O117)","v":5995.3333333333348},62872,55068.125228892721]
[null,"250W SON - PARKVILLE","Capital - Traditional Luminaire",126.43981287041024,130.07452539639897,133.81372348628298,137.66041074295646,141.61767711263226,null,"Traditional","Major (Cat V)","Legacy Luminaire - 250W SON - PARKVILLE",{"$f":"INDEX(O118:Q118,,$M$3)","v":55},null,{"$f":"SUM('I_Asset number input'!K118:O118)","v":55},48,1473.1335291390978]
[null,"250W SON - PARKWAY 1","Capital - Traditional Luminaire",51.721993230458757,53.208823781659675,54.738395630129126,56.311937442099946,57.930713203760327,null,"Traditional","Major (Cat V)","Legacy Luminaire - 250W SON - PARKWAY 1",{"$f":"INDEX(O119:Q119,,$M$3)","v":185},null,{"$f":"SUM('I_Asset number input'!K119:O119)","v":185},280,2026.9477883319978]
[null,"250W SON ACTIVE REACTOR","Capital - Traditional Luminaire",63.736049642851263,65.568243259203285,67.453106180706982,69.392152469893944,71.386939713419423,null,"Traditional","Major (Cat V)","Legacy Luminaire - 250W SON ACTIVE REACTOR",{"$f":"INDEX(O120:Q120,,$M$3)","v":2546},null,{"$f":"SUM('I_Asset number input'!K120:O120)","v":2546},25160,34374.716270537072]
[null,"250W SON FLOODLIGHT","Capital - Traditional Luminaire",50.760868717467361,52.220070223456183,53.7212187860829,55.26552023987643,56.854215082987601,null,"Traditional","Major (Cat V)","Legacy Luminaire - 250W SON FLOODLIGHT",{"$f":"INDEX(O121:Q121,,$M$3)","v":2652.5},null,{"$f":"SUM('I_Asset number input'!K121:O121)","v":2652.5},7184,28522.002852591257]
[null,"250W SON GEC 'BOSTON 3'","Capital - Traditional Luminaire",109.01846994792808,112.15237840040248,115.376376011101,118.69305253545288,122.10507217550574,null,"Traditional","Major (Cat V)","Legacy Luminaire - 250W SON GEC 'BOSTON 3'",{"$f":"INDEX(O122:Q122,,$M$3)","v":35},null,{"$f":"SUM('I_Asset number input'!K122:O122)","v":35},24,808.28348869854631]
[null,"2X14W TF - T5 PIERLIGHT","Capital - Traditional Luminaire",34.143461278879201,35.124969109155309,36.134691935357715,37.173440842197678,38.242050230300123,null,"Traditional","Minor (Cat P)","Legacy Luminaire - 2X14W TF - T5 PIERLIGHT",{"$f":"INDEX(O123:Q123,,$M$3)","v":0},null,{"$f":"SUM('I_Asset number input'!K123:O123)","v":0},0,0]
[null,"2x14W TF - T5 PIERLITE M","Capital - Traditional Luminaire",34.143461278879201,35.124969109155309,36.134691935357715,37.173440842197678,38.242050230300123,null,"Traditional","Minor (Cat P)","Legacy Luminaire - 2x14W TF - T5 PIERLITE M",{"$f":"INDEX(O124:Q124,,$M$3)","v":0},null,{"$f":"SUM('I_Asset number input'!K124:O124)","v":0},16,0]
[null,"2x250W SON FLOODLIGHT","Capital - Traditional Luminaire",71.425045746782487,73.478271724831231,75.590520933076846,77.763490087682143,79.998924679601288,null,"Traditional","Major (Cat V)","Legacy Luminaire - 2x250W SON FLOODLIGHT",{"$f":"INDEX(O125:Q125,,$M$3)","v":4.6666666666666652},null,{"$f":"SUM('I_Asset number input'!K125:O125)","v":4.6666666666666652},40,70.607833925435116]
[null,"2x400W SON FLOODLIGHT","Capital - Traditional Luminaire",142.43484701561309,146.5293621120214,150.74158052490029,155.07488582236024,159.53275883853198,null,"Traditional","Major (Cat V)","Legacy Luminaire - 2x400W SON FLOODLIGHT",{"$f":"INDEX(O126:Q126,,$M$3)","v":5.3333333333333348},null,{"$f":"SUM('I_Asset number input'!K126:O126)","v":5.3333333333333348},48,160.92019932019778]
[null,"2x80W MBF - BOURKE HILL","Capital - Traditional Luminaire",70.305771080180605,72.32682173656157,74.405970692597037,76.5448880758576,78.745292024373995,null,"Traditional","Minor (Cat P)","Legacy Luminaire - 2x80W MBF - BOURKE HILL",{"$f":"INDEX(O127:Q127,,$M$3)","v":2.6666666666666674},null,{"$f":"SUM('I_Asset number input'!K127:O127)","v":2.6666666666666674},32,39.7150659850209]
[null,"400W MBF","Capital - Traditional Luminaire",34.104580907326387,35.084971059789709,36.093544078761752,37.131110125342822,38.198502649996222,null,"Traditional","Major (Cat V)","Legacy Luminaire - 400W MBF",{"$f":"INDEX(O128:Q128,,$M$3)","v":329.33333333333343},null,{"$f":"SUM('I_Asset number input'!K128:O128)","v":329.33333333333343},3800,2379.2714175381648]
[null,"400W MBF - B2229","Capital - Traditional Luminaire",34.104580907326387,35.084971059789709,36.093544078761752,37.131110125342822,38.198502649996222,null,"Traditional","Major (Cat V)","Legacy Luminaire - 400W MBF - B2229",{"$f":"INDEX(O129:Q129,,$M$3)","v":56.666666666666679},null,{"$f":"SUM('I_Asset number input'!K129:O129)","v":56.666666666666679},664,409.38880666142506]
[null,"400W MBF - PARKWAY 1","Capital - Traditional Luminaire",68.479542162845206,70.448094978787523,72.473236960877301,74.556594854254058,76.699842167420883,null,"Traditional","Major (Cat V)","Legacy Luminaire - 400W MBF - PARKWAY 1",{"$f":"INDEX(O130:Q130,,$M$3)","v":48.666666666666679},null,{"$f":"SUM('I_Asset number input'!K130:O130)","v":48.666666666666679},544,705.97289898841348]
[null,"400W MBF FLOODLIGHT","Capital - Traditional Luminaire",75.198715547490195,77.360421636211328,79.584269387592414,81.872045162072681,84.225586671849314,null,"Traditional","Major (Cat V)","Legacy Luminaire - 400W MBF FLOODLIGHT",{"$f":"INDEX(O131:Q131,,$M$3)","v":70},null,{"$f":"SUM('I_Asset number input'!K131:O131)","v":70},176,1115.0749075346046]
[null,"400W MBI FLOODLIGHT","Capital - Traditional Luminaire",59.199541941531848,60.901326464482814,62.65203147680878,64.453063275398932,66.305868583372146,null,"Traditional","Major (Cat V)","Legacy Luminaire - 400W MBI FLOODLIGHT",{"$f":"INDEX(O132:Q132,,$M$3)","v":132.5},null,{"$f":"SUM('I_Asset number input'!K132:O132)","v":132.5},432,1661.6127082304511]
[null,"400W SON","Capital - Traditional Luminaire",47.108595568100036,48.462806702282919,49.855946778707221,51.289134871427045,52.763522224051229,null,"Traditional","Major (Cat V)","Legacy Luminaire - 400W SON",{"$f":"INDEX(O133:Q133,,$M$3)","v":447.33333333333343},null,{"$f":"SUM('I_Asset number input'!K133:O133)","v":447.33333333333343},3952,4464.0289099468118]
[null,"400W SON - PARKWAY 1","Capital - Traditional Luminaire",51.721993230458757,53.208823781659675,54.738395630129126,56.311937442099946,57.930713203760327,null,"Traditional","Major (Cat V)","Legacy Luminaire - 400W SON - PARKWAY 1",{"$f":"INDEX(O134:Q134,,$M$3)","v":3.3333333333333326},null,{"$f":"SUM('I_Asset number input'!K134:O134)","v":3.3333333333333326},40,{"$f":"+O134/5*AVERAGE(D134,E134,F134,G134,H134)","v":36.521581771747705}]
[null,"400W SON ACTIVE REACTOR","Capital - Traditional Luminaire",71.425045746782487,73.478271724831231,75.590520933076846,77.763490087682143,79.998924679601288,null,"Traditional","Major (Cat V)","Legacy Luminaire - 400W SON ACTIVE REACTOR",{"$f":"INDEX(O135:Q135,,$M$3)","v":268.66666666666657},null,{"$f":"SUM('I_Asset number input'!K135:O135)","v":268.66666666666657},1528,4064.9938674214791]
[null,"400W SON FLOODLIGHT","Capital - Traditional Luminaire",50.760868717467361,52.220070223456183,53.7212187860829,55.26552023987643,56.854215082987601,null,"Traditional","Major (Cat V)","Legacy Luminaire - 400W SON FLOODLIGHT",{"$f":"INDEX(O136:Q136,,$M$3)","v":877.5},null,{"$f":"SUM('I_Asset number input'!K136:O136)","v":877.5},2248,9435.6484460504544]
[null,"42W MBF SYLVANIA SUB ECO","Capital - Traditional Luminaire",31.380228304028925,32.282302629320277,33.210308508724808,34.16499138580506,35.147118133078529,null,"Traditional","Minor (Cat P)","Legacy Luminaire - 42W MBF SYLVANIA SUB ECO",{"$f":"INDEX(O137:Q137,,$M$3)","v":0},null,{"$f":"SUM('I_Asset number input'!K137:O137)","v":0},193272,0]
[null,"4x250W SON","Capital - Traditional Luminaire",80.390415203966242,82.701364915753345,85.078746534340027,87.524469750023101,90.040499150169254,null,"Traditional","Major (Cat V)","Legacy Luminaire - 4x250W SON",{"$f":"INDEX(O138:Q138,,$M$3)","v":0},null,{"$f":"SUM('I_Asset number input'!K138:O138)","v":0},0,0]
[null,"4x600W SON","Capital - Traditional Luminaire",122.36464493532669,125.88221030961616,129.50089366752695,133.22360180552869,137.05332508055585,null,"Traditional","Major (Cat V)","Legacy Luminaire - 4x600W SON",{"$f":"INDEX(O139:Q139,,$M$3)","v":7.5},null,{"$f":"SUM('I_Asset number input'!K139:O139)","v":7.5},24,194.40740273956629]
[null,"50W MBF","Capital - Traditional Luminaire",23.691232200097723,24.37227416369236,25.072893756354976,25.793653768016895,26.535133166896703,null,"Traditional","Minor (Cat P)","Legacy Luminaire - 50W MBF",{"$f":"INDEX(O140:Q140,,$M$3)","v":0},null,{"$f":"SUM('I_Asset number input'!K140:O140)","v":0},1208,0]
[null,"50W MBF - BOURKE HILL","Capital - Traditional Luminaire",70.305771080180605,72.32682173656157,74.405970692597037,76.5448880758576,78.745292024373995,null,"Traditional","Minor (Cat P)","Legacy Luminaire - 50W MBF - BOURKE HILL",{"$f":"INDEX(O141:Q141,,$M$3)","v":40},null,{"$f":"SUM('I_Asset number input'!K141:O141)","v":40},8,595.72598977531334]
[null,"50W MBF - NOSTALGIA","Capital - Traditional Luminaire",70.305771080180605,72.32682173656157,74.405970692597037,76.5448880758576,78.745292024373995,null,"Traditional","Minor (Cat P)","Legacy Luminaire - 50W MBF - NOSTALGIA",{"$f":"INDEX(O142:Q142,,$M$3)","v":0},null,{"$f":"SUM('I_Asset number input'!K142:O142)","v":0},392,0]
[null,"50W MBF - PLAIN","Capital - Traditional Luminaire",23.691232200097723,24.37227416369236,25.072893756354976,25.793653768016895,26.535133166896703,null,"Traditional","Minor (Cat P)","Legacy Luminaire - 50W MBF - PLAIN",{"$f":"INDEX(O143:Q143,,$M$3)","v":290},null,{"$f":"SUM('I_Asset number input'!K143:O143)","v":290},536,1455.3961698386802]
[null,"50W SON","Capital - Traditional Luminaire",22.922332589704606,23.58127131712957,24.259152281117991,24.95652000623808,25.673934670278523,null,"Traditional","Minor (Cat P)","Legacy Luminaire - 50W SON",{"$f":"INDEX(O144:Q144,,$M$3)","v":0},null,{"$f":"SUM('I_Asset number input'!K144:O144)","v":0},16,0]
[null,"50W SON - NOSTALGIA","Capital - Traditional Luminaire",35.705288612490214,36.731693641235964,37.78760430693282,38.873868795810886,39.991359676555795,null,"Traditional","Minor (Cat P)","Legacy Luminaire - 50W SON - NOSTALGIA",{"$f":"INDEX(O145:Q145,,$M$3)","v":0},null,{"$f":"SUM('I_Asset number input'!K145:O145)","v":0},16,0]
[null,"50W SON - PLAIN","Capital - Traditional Luminaire",22.922332589704606,23.58127131712957,24.259152281117991,24.95652000623808,25.673934670278523,null,"Traditional","Minor (Cat P)","Legacy Luminaire - 50W SON - PLAIN",{"$f":"INDEX(O146:Q146,,$M$3)","v":0},null,{"$f":"SUM('I_Asset number input'!K146:O146)","v":0},8,0]
[null,"70W MBI",{"$f":"C146","v":"Capital - Traditional Luminaire"},29.609836951098767,30.461018575109449,31.336668761991653,32.237490899309336,33.164208594615168,null,"Traditional","Minor (Cat P)","Legacy Luminaire - 70W MBI",{"$f":"INDEX(O147:Q147,,$M$3)","v":0},null,{"$f":"SUM('I_Asset number input'!K147:O147)","v":0},384,0]
[null,"70W MBI - MACQUARIE DEC.","Capital - Traditional Luminaire",114.16957160408217,117.45155662585245,120.82788750117886,124.30127635093466,127.87451326019981,null,"Traditional","Minor (Cat P)","Legacy Luminaire - 70W MBI - MACQUARIE DEC.",{"$f":"INDEX(O148:Q148,,$M$3)","v":25},null,{"$f":"SUM('I_Asset number input'!K148:O148)","v":25},48,604.6248053422479]
[null,"70W MBI II","Capital - Traditional Luminaire",26.094043482576225,26.844158059201085,27.615835866470547,28.409696773575696,29.226378468828525,null,"Traditional","Minor (Cat P)","Legacy Luminaire - 70W MBI II",{"$f":"INDEX(O149:Q149,,$M$3)","v":0},null,{"$f":"SUM('I_Asset number input'!K149:O149)","v":0},520,0]
[null,"70W MBI II AERO","Capital - Traditional Luminaire",27.055167995567622,27.832911617404569,28.63301271051677,29.456113975799209,30.302876589601244,null,"Traditional","Minor (Cat P)","Legacy Luminaire - 70W MBI II AERO",{"$f":"INDEX(O150:Q150,,$M$3)","v":0},null,{"$f":"SUM('I_Asset number input'!K150:O150)","v":0},24,0]
[null,"70W SON","Capital - Traditional Luminaire",25.997931031277083,26.745282703380735,27.514118182065925,28.305055053353346,29.118728656751255,null,"Traditional","Minor (Cat P)","Legacy Luminaire - 70W SON",{"$f":"INDEX(O151:Q151,,$M$3)","v":0},null,{"$f":"SUM('I_Asset number input'!K151:O151)","v":0},1144,0]
[null,"70W SON - BOURKE HILL","Capital - Traditional Luminaire",78.613731370478305,80.873607493672566,83.19844733253268,85.59011837187775,88.050541780333504,null,"Traditional","Minor (Cat P)","Legacy Luminaire - 70W SON - BOURKE HILL",{"$f":"INDEX(O152:Q152,,$M$3)","v":5},null,{"$f":"SUM('I_Asset number input'!K152:O152)","v":5},16,83.265289269778961]
[null,"70W SON - NOSTALGIA","Capital - Traditional Luminaire",73.3160130548697,75.423597880854928,77.59176856814986,79.822266753221697,82.116884138634205,null,"Traditional","Minor (Cat P)","Legacy Luminaire - 70W SON - NOSTALGIA",{"$f":"INDEX(O153:Q153,,$M$3)","v":345},null,{"$f":"SUM('I_Asset number input'!K153:O153)","v":345},480,5358.1333194610788]
[null,"70W SON - PARKVILLE","Capital - Traditional Luminaire",91.93107262248715,94.573776796140123,97.29244968363723,100.08927512588684,102.96649974176042,null,"Traditional","Minor (Cat P)","Legacy Luminaire - 70W SON - PARKVILLE",{"$f":"INDEX(O154:Q154,,$M$3)","v":30},null,{"$f":"SUM('I_Asset number input'!K154:O154)","v":30},40,584.22368876389419]
[null,"70W SON - PLAIN","Capital - Traditional Luminaire",25.997931031277083,26.745282703380735,27.514118182065925,28.305055053353346,29.118728656751255,null,"Traditional","Minor (Cat P)","Legacy Luminaire - 70W SON - PLAIN",{"$f":"INDEX(O155:Q155,,$M$3)","v":160},null,{"$f":"SUM('I_Asset number input'!K155:O155)","v":160},272,881.15914001170131]
[null,"70W SON BOLLARD","Capital - Traditional Luminaire",55.996549330764665,57.606258762028041,59.262241838436807,60.965828769153852,62.718388002309638,null,"Traditional","Minor (Cat P)","Legacy Luminaire - 70W SON BOLLARD",{"$f":"INDEX(O156:Q156,,$M$3)","v":5},null,{"$f":"SUM('I_Asset number input'!K156:O156)","v":5},8,59.309853340538595]
[null,"70W SON FLOODLIGHT","Capital - Traditional Luminaire",31.326501443752708,32.227031305416702,33.153448323142619,34.106496664200762,35.086941888127335,null,"Traditional","Minor (Cat P)","Legacy Luminaire - 70W SON FLOODLIGHT",{"$f":"INDEX(O157:Q157,,$M$3)","v":52.5},null,{"$f":"SUM('I_Asset number input'!K157:O157)","v":52.5},168,348.39088121174427]
[null,"80W MBF - BEGA+CURVE BRA","Capital - Traditional Luminaire",114.78084679434467,118.08040388886984,121.47481197399223,124.96679769154878,128.55916606501123,null,"Traditional","Minor (Cat P)","Legacy Luminaire - 80W MBF - BEGA+CURVE BRA",{"$f":"INDEX(O158:Q158,,$M$3)","v":150},null,{"$f":"SUM('I_Asset number input'!K158:O158)","v":150},64,3647.1721584826005]
[null,"80W MBF - BOURKE HILL","Capital - Traditional Luminaire",53.857086164845811,55.405293341467079,56.998006183589908,58.636504077004297,60.322103185469544,null,"Traditional","Minor (Cat P)","Legacy Luminaire - 80W MBF - BOURKE HILL",{"$f":"INDEX(O159:Q159,,$M$3)","v":1445},null,{"$f":"SUM('I_Asset number input'!K159:O159)","v":1445},1744,16485.657792647373]
[null,"80W MBF - NOSTALGIA","Capital - Traditional Luminaire",69.138965921409081,71.126474916902566,73.17111800392496,75.274537592358286,77.438423305755947,null,"Traditional","Minor (Cat P)","Legacy Luminaire - 80W MBF - NOSTALGIA",{"$f":"INDEX(O160:Q160,,$M$3)","v":0},null,{"$f":"SUM('I_Asset number input'!K160:O160)","v":0},760,0]
[null,"80W MBF - PLAIN","Capital - Traditional Luminaire",22.595550255287531,23.245095107340386,23.913312154142279,24.600738157482088,25.307925309215801,null,"Traditional","Minor (Cat P)","Legacy Luminaire - 80W MBF - PLAIN",{"$f":"INDEX(O161:Q161,,$M$3)","v":815},null,{"$f":"SUM('I_Asset number input'!K161:O161)","v":815},12048,3901.0014440610594]
[null,"80W MBF - REGAL/FLINDERS","Capital - Traditional Luminaire",125.07064583043062,128.66599948299643,132.36470726635119,136.16974025855382,140.08415494600408,null,"Traditional","Minor (Cat P)","Legacy Luminaire - 80W MBF - REGAL/FLINDERS",{"$f":"INDEX(O162:Q162,,$M$3)","v":85},null,{"$f":"SUM('I_Asset number input'!K162:O162)","v":85},112,2252.0078424667427]
[null,"80W MBF BOLLARD","Capital - Traditional Luminaire",44.586079112530754,45.867776519036205,47.186318345919972,48.542763744356208,49.938202312495797,null,"Traditional","Minor (Cat P)","Legacy Luminaire - 80W MBF BOLLARD",{"$f":"INDEX(O163:Q163,,$M$3)","v":215},null,{"$f":"SUM('I_Asset number input'!K163:O163)","v":215},32,2030.6418042953151]
[null,"80W MBF TOORAK","Capital - Traditional Luminaire",63.097337232745119,64.911170050035409,66.77714436225034,68.696759059181218,70.67155611857855,null,"Traditional","Minor (Cat P)","Legacy Luminaire - 80W MBF TOORAK",{"$f":"INDEX(O164:Q164,,$M$3)","v":330},null,{"$f":"SUM('I_Asset number input'!K164:O164)","v":330},104,4410.8323620608371]
[null,"TH FLOODLIGHT","Capital - Traditional Luminaire",128.27363844119779,131.96106718545118,135.75449690472314,139.65697476479886,143.67163552706654,null,"Traditional","Major (Cat V)","Legacy Luminaire - TH FLOODLIGHT",{"$f":"INDEX(O165:Q165,,$M$3)","v":27.5},null,{"$f":"SUM('I_Asset number input'!K165:O165)","v":27.5},88,747.2495941055613]
[null,"10W LED PH RRW","Capital - LED Luminaire",54.931151264508671,56.510234142246901,58.134710256379527,59.805884507326539,61.525099306935644,null,"LED","Minor (Cat P)","Philips minor road RRW",{"$f":"INDEX(O166:Q166,,$M$3)","v":5},null,{"$f":"SUM('I_Asset number input'!K166:O166)","v":5},0,58.181415895479461]
[null,"16W LED PH","Capital - LED Luminaire",55.081582366624055,56.6649896244665,58.293914429853245,59.969665256725023,61.693588193176787,null,"LED","Minor (Cat P)","Philips minor road ",{"$f":"INDEX(O167:Q167,,$M$3)","v":985},null,{"$f":"SUM('I_Asset number input'!K167:O167)","v":985},896,11493.127350911316]
[null,"17W LED ALD","Capital - LED Luminaire",51.104184026693453,52.573254674580539,54.08455608320839,55.63930224262937,57.238742040961156,null,"LED","Minor (Cat P)","Aldridge minor road",{"$f":"INDEX(O168:Q168,,$M$3)","v":60485},null,{"$f":"SUM('I_Asset number input'!K168:O168)","v":60485},204624,654786.5105212956]
[null,"17W LED ALD RRW","Capital - LED Luminaire",51.104184026693453,52.573254674580539,54.08455608320839,55.63930224262937,57.238742040961156,null,"LED","Minor (Cat P)","Aldridge minor road RRW",{"$f":"INDEX(O169:Q169,,$M$3)","v":3525},null,{"$f":"SUM('I_Asset number input'!K169:O169)","v":3525},4856,38160.24550859828]
[null,"17W LED ALD RRW ZHAGA","Capital - LED Luminaire",53.802917998643323,55.349568025599964,56.940678955326703,58.577528886837975,60.261432660127113,null,"LED","Minor (Cat P)","Aldridge minor road RRW ZHAGA",{"$f":"INDEX(O170:Q170,,$M$3)","v":3480},null,{"$f":"SUM('I_Asset number input'!K170:O170)","v":3480},0,39662.552012493681]
[null,"17W LED ALD ZHAGA","Capital - LED Luminaire",53.802917998643323,55.349568025599964,56.940678955326703,58.577528886837975,60.261432660127113,null,"LED","Minor (Cat P)","Aldridge minor road ZHAGA",{"$f":"INDEX(O171:Q171,,$M$3)","v":195465},null,{"$f":"SUM('I_Asset number input'!K171:O171)","v":195465},0,2227770.3244603667]
[null,"17W LED SY RRW","Capital - LED Luminaire",67.009884696487063,68.936189882662958,70.917869760007108,72.956516161653738,75.053766680499763,null,"LED","Minor (Cat P)","17W LED SY RRW",{"$f":"INDEX(O172:Q172,,$M$3)","v":12565},null,{"$f":"SUM('I_Asset number input'!K172:O172)","v":12565},20088,178359.78658132674]
[null,"1x17W LED","Capital - LED Luminaire",63.163567805258616,64.979304525173035,66.847237470706162,68.768867104969715,70.745737024262226,null,"LED","Minor (Cat P)","1x17W LED",{"$f":"INDEX(O173:Q173,,$M$3)","v":95490.139089436241},null,{"$f":"SUM('I_Asset number input'!K173:O173)","v":95490.139089436241},45040,1277676.0663713235]
[null,"20W LED GE","Capital - LED Luminaire",56.272250041807659,57.889884926336926,59.554021285708622,61.265995878410834,63.027183890169958,null,"LED","Minor (Cat P)","20W LED GE",{"$f":"INDEX(O174:Q174,,$M$3)","v":223.22928862499998},null,{"$f":"SUM('I_Asset number input'!K174:O174)","v":223.22928862499998},392,2660.9764833558611]
[null,"1x22W LED","Capital - LED Luminaire",65.567515862276395,67.452357873604242,69.391382651519265,71.38614776539724,73.438255559410692,null,"LED","Minor (Cat P)","1x22W LED",{"$f":"INDEX(O175:Q175,,$M$3)","v":28375.360950653663},null,{"$f":"SUM('I_Asset number input'!K175:O175)","v":28375.360950653663},96776,394117.48717088986]
[null,"1x25W LED GE","Capital - LED Luminaire",56.272250041807659,57.889884926336926,59.554021285708622,61.265995878410834,63.027183890169958,null,"LED","Minor (Cat P)","1x25W LED GE",{"$f":"INDEX(O176:Q176,,$M$3)","v":12330.261959027501},null,{"$f":"SUM('I_Asset number input'!K176:O176)","v":12330.261959027501},32944,146981.32717569848]
[null,"25W LED PH","Capital - LED Luminaire",55.232013468739424,56.819745106686078,58.453118603326942,60.133446006123485,61.862077079417908,null,"LED","Minor (Cat P)","Philips minor road high",{"$f":"INDEX(O177:Q177,,$M$3)","v":4200},null,{"$f":"SUM('I_Asset number input'!K177:O177)","v":4200},1840,49140.067244401362]
[null,"28W LED SY","Capital - LED Luminaire",69.8946223649084,71.903853900780419,73.970843976982849,76.097252954166777,78.284788922677933,null,"LED","Minor (Cat P)","28W LED SY",{"$f":"INDEX(O178:Q178,,$M$3)","v":4894.5598439374999},null,{"$f":"SUM('I_Asset number input'!K178:O178)","v":4894.5598439374999},6344,72469.119728358113]
[null,"1x29W LED","Capital - LED Luminaire",40.922778445149085,42.099168476391007,43.30937570084869,44.554372247260581,45.835158189744213,null,"LED20","Minor (Cat P)","1x29W LED",{"$f":"INDEX(O179:Q179,,$M$3)","v":65825},null,{"$f":"SUM('I_Asset number input'!K179:O179)","v":65825},105648,570626.00610538328]
[null,"33W LED LRL","Capital - LED Luminaire",76.465413720756985,78.663533053159028,80.924840804538633,83.251153426001991,85.644339585417072,null,"LED","Minor (Cat P)","33W LED LRL",{"$f":"INDEX(O180:Q180,,$M$3)","v":14.5025},null,{"$f":"SUM('I_Asset number input'!K180:O180)","v":14.5025},24,234.91107767018573]
[null,"34W LED BOURKE HILL","Capital - LED Luminaire",156.62257629450431,161.12494012268965,165.75673152460635,170.52167110069482,175.42358640594335,null,"LED","Minor (Cat P)","Bourke Hill Decorative",{"$f":"INDEX(O181:Q181,,$M$3)","v":235},null,{"$f":"SUM('I_Asset number input'!K181:O181)","v":235},328,7796.8253512153215]
[null,"40W LED ALD","Capital - LED Luminaire",54.386420593127532,55.949844325620205,57.558211147594854,59.21281301928606,60.914979040370021,null,"LED","Minor (Cat P)","40W LED ALD",{"$f":"INDEX(O182:Q182,,$M$3)","v":15},null,{"$f":"SUM('I_Asset number input'!K182:O182)","v":15},0,172.81336087559919]
[null,"40W LED ALD ZHAGA","Capital - LED Luminaire",57.252303170148956,58.898111232895175,60.591230653078853,62.333021470544992,64.124882821636362,null,"LED","Minor (Cat P)","40W LED ALD ZHAGA",{"$f":"INDEX(O183:Q183,,$M$3)","v":0},null,{"$f":"SUM('I_Asset number input'!K183:O183)","v":0},0,0]
[null,"42W LED LRL","Capital - LED Luminaire",94.043182805061036,96.746602928560733,99.527737141972636,102.38881945980245,105.3321481168384,null,"LED","Major (Cat V)","42W LED LRL",{"$f":"INDEX(O184:Q184,,$M$3)","v":48.2612375},null,{"$f":"SUM('I_Asset number input'!K184:O184)","v":48.2612375},80,961.43815487427219]
[null,"49W LED PH","Capital - LED Luminaire",59.143222123739257,60.84338764439542,62.592427113643367,64.391745490483814,66.242788121687454,null,"LED","Minor (Cat P)","Philips major road V5",{"$f":"INDEX(O185:Q185,,$M$3)","v":940},null,{"$f":"SUM('I_Asset number input'!K185:O185)","v":940},528,11776.830250572493]
[null,"49W LED PH ZHAGA","Capital - LED Luminaire",67.416932740085059,69.35493916647286,71.348656654697322,73.399686707399866,75.50967686494991,null,"LED","Minor (Cat P)","Philips major road V5 ZHAGA",{"$f":"INDEX(O186:Q186,,$M$3)","v":4779.666666666667},null,{"$f":"SUM('I_Asset number input'!K186:O186)","v":4779.666666666667},0,68259.354977383511]
[null,"50W LED SY PT","Capital - LED Luminaire",201.39352632927802,207.18290197120743,213.13870237829323,219.26571169379548,225.56885158874371,null,"LED","Minor (Cat P)","50W LED SY PT ",{"$f":"INDEX(O187:Q187,,$M$3)","v":125},null,{"$f":"SUM('I_Asset number input'!K187:O187)","v":125},152,5332.7484698065891]
[null,"58W LED ALD","Capital - LED Luminaire",83.647791538978225,86.05237968867462,88.526091530261496,91.070914133658178,93.688891690253541,null,"LED","Minor (Cat P)","Aldridge major road V5",{"$f":"INDEX(O188:Q188,,$M$3)","v":30},null,{"$f":"SUM('I_Asset number input'!K188:O188)","v":30},16,531.58328229819131]
[null,"58W LED ALD ZHAGA","Capital - LED Luminaire",86.647209629391966,89.138020799009126,91.700434277681893,94.336508387102668,97.048360618678416,null,"LED","Minor (Cat P)","Aldridge major road V5 Zhaga",{"$f":"INDEX(O189:Q189,,$M$3)","v":0},null,{"$f":"SUM('I_Asset number input'!K189:O189)","v":0},0,0]
[null,"70W LED PH FLOOD","Capital - LED Luminaire",86.789059576886871,89.283948447738055,91.850556847620226,94.490946467899491,97.207238266523134,null,"LED","Major (Cat V)","Philips floodlight PX3",{"$f":"INDEX(O190:Q190,,$M$3)","v":1177.4999999999998},null,{"$f":"SUM('I_Asset number input'!K190:O190)","v":1177.4999999999998},40,21648.184406474047]
[null,"74W LED ALD","Capital - LED Luminaire",93.693190044626604,96.386549072325252,99.157332967814511,102.00776743145246,104.9401421448764,null,"LED","Major (Cat V)","Aldridge major road V3",{"$f":"INDEX(O191:Q191,,$M$3)","v":155},null,{"$f":"SUM('I_Asset number input'!K191:O191)","v":155},184,3076.3468862987907]
[null,"74W LED ALD ZHAGA","Capital - LED Luminaire",96.692608135040331,99.472190182659745,102.33167571523488,105.27336168489693,108.29961107330125,null,"LED","Major (Cat V)","Aldridge major road V3 ZHAGA",{"$f":"INDEX(O192:Q192,,$M$3)","v":5},null,{"$f":"SUM('I_Asset number input'!K192:O192)","v":5},0,102.41388935822663]
[null,"76W LED PH","Capital - LED Luminaire",70.241638344195266,72.260845403583161,74.338097765512302,76.475064034067373,78.673460779998209,null,"LED","Major (Cat V)","Philips major road V3",{"$f":"INDEX(O193:Q193,,$M$3)","v":16885},null,{"$f":"SUM('I_Asset number input'!K193:O193)","v":16885},19376,251241.44241349646]
[null,"76W LED PH ZHAGA","Capital - LED Luminaire",78.515348960541061,80.772396925660601,83.094327306566257,85.483005250983425,87.940349523260664,null,"LED","Major (Cat V)","Philips major road V3 ZHAGA",{"$f":"INDEX(O194:Q194,,$M$3)","v":133207.66666666666},null,{"$f":"SUM('I_Asset number input'!K194:O194)","v":133207.66666666666},0,2215538.8338728161]
[null,"100W LED ALD","Capital - LED Luminaire",125.93556036149687,129.55577735108136,133.28006320742639,137.11140955480755,141.05289401647474,null,"LED","Major (Cat V)","100W LED ALD",{"$f":"INDEX(O195:Q195,,$M$3)","v":13519.92887575},null,{"$f":"SUM('I_Asset number input'!K195:O195)","v":13519.92887575},22168,360676.93157681677]
[null,"100W LED SY CT","Capital - LED Luminaire",219.48670857372727,225.79620137374121,232.28707052976378,238.96452999219662,245.83394359469736,null,"LED","Minor (Cat P)","100W LED SY CT",{"$f":"INDEX(O196:Q196,,$M$3)","v":30},null,{"$f":"SUM('I_Asset number input'!K196:O196)","v":30},40,1394.8421448769518]
[null,"100W LED SY PT","Capital - LED Luminaire",216.47117819965237,222.69398480665222,229.09567583785199,235.68139360912974,242.45642826037172,null,"LED","Minor (Cat P)","100W LED SY PT",{"$f":"INDEX(O197:Q197,,$M$3)","v":215},null,{"$f":"SUM('I_Asset number input'!K197:O197)","v":215},304,9859.0284821374589]
[null,"110W LED SY FLOOD","Capital - LED Luminaire",129.06019927130811,132.77023895144279,136.58692959373226,140.51333704887062,144.55261530028227,null,"LED","Major (Cat V)","Sylvania floodlight PX2",{"$f":"INDEX(O198:Q198,,$M$3)","v":20},null,{"$f":"SUM('I_Asset number input'!K198:O198)","v":20},0,{"$f":"+O198/5*AVERAGE(D198,E198,F198,G198,H198)","v":546.78665613250882}]
[null,"120W LED PH FLOOD","Capital - LED Luminaire",95.363632397463434,98.105010934254679,100.9251947356216,103.82644918361251,106.81110478226789,null,"LED","Major (Cat V)","Philips floodlight PX2",{"$f":"INDEX(O199:Q199,,$M$3)","v":130.00000000000003},null,{"$f":"SUM('I_Asset number input'!K199:O199)","v":130.00000000000003},112,2626.1632385727453]
[null,"140W LED PH","Capital - LED Luminaire",75.506726918233511,77.677287281268818,79.910243837092111,82.207390263013977,84.570571798437982,null,"LED","Major (Cat V)","Philips major road V1",{"$f":"INDEX(O200:Q200,,$M$3)","v":16890},null,{"$f":"SUM('I_Asset number input'!K200:O200)","v":16890},19768,270153.67189824017]
[null,"140W LED PH ZHAGA","Capital - LED Luminaire",83.78043753457932,86.188838803346272,88.66647337814608,91.215331479930043,93.837460541700452,null,"LED","Major (Cat V)","Philips major road V1 ZHAGA",{"$f":"INDEX(O201:Q201,,$M$3)","v":96542},null,{"$f":"SUM('I_Asset number input'!K201:O201)","v":96542},0,1713383.1678576497]
[null,"150W LED SY FLOOD","Capital - LED Luminaire",134.62615004957712,138.49619179356762,142.47748401225945,146.57322477661415,150.78670409120429,null,"LED","Major (Cat V)","Sylvania floodlight PX1",{"$f":"INDEX(O202:Q202,,$M$3)","v":4365},null,{"$f":"SUM('I_Asset number input'!K202:O202)","v":4365},112,124482.77317467469]
[null,"150W LED SY PT","Capital - LED Luminaire",231.54883007002687,238.20506764209716,245.05264929741088,252.09707552446412,259.3440049319999,null,"LED","Minor (Cat P)","150W LED Syrkel PT",{"$f":"INDEX(O203:Q203,,$M$3)","v":235},null,{"$f":"SUM('I_Asset number input'!K203:O203)","v":235},336,11526.72769818039]
[null,"152W LED PH FLOOD","Capital - LED Luminaire",96.115787908040332,98.878788345352646,101.72121560299017,104.6453529306049,107.65354921347358,null,"LED","Major (Cat V)","Philips floodlight PX1",{"$f":"INDEX(O204:Q204,,$M$3)","v":10},null,{"$f":"SUM('I_Asset number input'!K204:O204)","v":10},16,203.60587760018464]
[null,"170W LED ALD","Capital - LED Luminaire",102.5414734113472,105.48919034781211,108.52164407270473,111.64127047911377,114.85057548372987,null,"LED","Major (Cat V)","Aldridge major road V1",{"$f":"INDEX(O205:Q205,,$M$3)","v":55},null,{"$f":"SUM('I_Asset number input'!K205:O205)","v":55},96,1194.6971383483569]
[null,"170W LED ALD ZHAGA","Capital - LED Luminaire",105.54089150176094,108.57483145814663,111.69598682012514,114.90686473255829,118.21004441215477,null,"LED","Major (Cat V)","Aldridge major road V1 ZHAGA",{"$f":"INDEX(O206:Q206,,$M$3)","v":0},null,{"$f":"SUM('I_Asset number input'!K206:O206)","v":0},0,0]
[null,"175W LED SY FLOOD","Capital - LED Luminaire",153.27960671188401,157.68587158879677,162.21880152299931,166.88203770202492,171.67932598510512,null,"LED","Major (Cat V)","Sylvania floodlight PX1",{"$f":"INDEX(O207:Q207,,$M$3)","v":1784},null,{"$f":"SUM('I_Asset number input'!K207:O207)","v":1784},16,57926.169120931416]
[null,"200W LED ALD","Capital - LED Luminaire",125.93556036149687,129.55577735108136,133.28006320742639,137.11140955480755,141.05289401647474,null,"LED","Major (Cat V)","200W LED ALD",{"$f":"INDEX(O208:Q208,,$M$3)","v":10456.3237461875},null,{"$f":"SUM('I_Asset number input'!K208:O208)","v":10456.3237461875},17104,278947.82576210133]
[null,"224W LED PH","Capital - LED Luminaire",87.842077291694494,90.36723682327515,92.964986061936145,95.637411713688778,98.386660470211055,null,"LED","Major (Cat V)","Philips major road V1 High",{"$f":"INDEX(O209:Q209,,$M$3)","v":570},null,{"$f":"SUM('I_Asset number input'!K209:O209)","v":570},680,10606.522889826369]
[null,"224W LED PH ZHAGA","Capital - LED Luminaire",96.115787908040332,98.878788345352646,101.72121560299017,104.6453529306049,107.65354921347358,null,"LED","Major (Cat V)","Philips major road V1 High ZHAGA",{"$f":"INDEX(O210:Q210,,$M$3)","v":23443.5},null,{"$f":"SUM('I_Asset number input'!K210:O210)","v":23443.5},0,477323.43915199285]
[null,"258W LED ALD",{"$f":"C210","v":"Capital - LED Luminaire"},115.13930508155103,118.44916662684194,121.85417538047528,125.35706649953585,128.96065376752756,null,"LED","Major (Cat V)","Aldridge major road V1 High",{"$f":"INDEX(O211:Q211,,$M$3)","v":5},null,{"$f":"SUM('I_Asset number input'!K211:O211)","v":5},8,121.95207347118635]
[null,"258W LED ALD ZHAGA","Capital - LED Luminaire",115.24350590193767,118.55636286471996,121.96445314386104,125.47051437175692,129.07736287837946,null,"LED","Major (Cat V)","Aldridge major road V1 High ZHAGA",{"$f":"INDEX(O212:Q212,,$M$3)","v":0},null,{"$f":"SUM('I_Asset number input'!K212:O212)","v":0},0,0]
[null,"298W LED ALD","Capital - LED Luminaire",182.18794489571277,187.42522570437143,192.81306043845279,198.3557770088114,204.05782773894876,null,"LED","Major (Cat V)","298W LED ALD",{"$f":"INDEX(O213:Q213,,$M$3)","v":81.067387500000009},null,{"$f":"SUM('I_Asset number input'!K213:O213)","v":81.067387500000009},144,3128.6817937249657]
[null,"600W LED ALD HM","Capital - LED Luminaire",409.90342292616651,421.68674553581315,433.80879840228909,446.27931886290514,459.10832417014348,null,"LED","Minor (Cat P)","600W LED ALD HM",{"$f":"INDEX(O214:Q214,,$M$3)","v":162.5},null,{"$f":"SUM('I_Asset number input'!K214:O214)","v":162.5},120,14110.112964332562]
[null,"COLONIAL ROCKS SPHERE","Capital - LED Luminaire",126.50175671794213,130.13824991786117,133.87927986996573,137.72785164863839,141.68705671388074,null,"LED","Minor (Cat P)","COLONIAL ROCKS SPHERE",{"$f":"INDEX(O215:Q215,,$M$3)","v":175},null,{"$f":"SUM('I_Asset number input'!K215:O215)","v":175},168,4689.5393640780167]
[null,"LED TRIAL","Capital - LED Luminaire",40.922778445149085,42.099168476391007,43.30937570084869,44.554372247260581,45.835158189744213,null,"LED20","Minor (Cat P)","LED TRIAL",{"$f":"INDEX(O216:Q216,,$M$3)","v":440},null,{"$f":"SUM('I_Asset number input'!K216:O216)","v":440},712,3814.2870138453272]
[null,"Spare Luminaire 1","Capital - LED Luminaire",0,0,0,0,0,null,"LED","Major (Cat V)","Spare Luminaire 1",{"$f":"INDEX(O217:Q217,,$M$3)","v":0},null,{"$f":"SUM('I_Asset number input'!K217:O217)","v":0},0,0]
[null,"Spare Luminaire 2","Capital - LED Luminaire",0,0,0,0,0,null,"LED","Major (Cat V)","Spare Luminaire 2",{"$f":"INDEX(O218:Q218,,$M$3)","v":0},null,{"$f":"SUM('I_Asset number input'!K218:O218)","v":0},0,0]
[null,"Spare Luminaire 3","Capital - LED Luminaire",0,0,0,0,0,null,"LED","Major (Cat V)","Spare Luminaire 3",{"$f":"INDEX(O219:Q219,,$M$3)","v":0},null,{"$f":"SUM('I_Asset number input'!K219:O219)","v":0},0,0]
[null,"Spare Luminaire 4","Capital - LED Luminaire",0,0,0,0,0,null,"LED","Major (Cat V)","Spare Luminaire 4",{"$f":"INDEX(O220:Q220,,$M$3)","v":0},null,{"$f":"SUM('I_Asset number input'!K220:O220)","v":0},0,0]
[null,"Spare Luminaire 5","Capital - LED Luminaire",0,0,0,0,0,null,"LED","Major (Cat V)","Spare Luminaire 5",{"$f":"INDEX(O221:Q221,,$M$3)","v":0},null,{"$f":"SUM('I_Asset number input'!K221:O221)","v":0},0,0]
[null,"Smart Controller - materials and installation","Capital - Smart Controller",50.218211099898113,51.66181305385404,53.146913630636647,54.674705773835264,56.246416720090657,null,"Smart Controller","Minor (Cat P)","Smart Controller - materials and installation",{"$f":"INDEX(O222:Q222,,$M$3)","v":41500},null,{"$f":"SUM('I_Asset number input'!K222:O222)","v":41500},0,441473.78006200242]
[null,"Smart Controller - material price only","Capital - Smart Controller",22.465701286857865,23.111513424812813,23.775890454742619,24.4593660538481,25.162489240725819,null,"Smart Controller","Minor (Cat P)","Smart Controller - material price only",{"$f":"INDEX(O223:Q223,,$M$3)","v":0},null,{"$f":"SUM('I_Asset number input'!K223:O223)","v":0},0,0]
[null,"Smart Controller - material price adjusted for PE Cell","Capital - Smart Controller",20.598634962574064,21.190775324197919,21.799937697644456,22.426611407582737,23.071299845093851,null,"Smart Controller","Minor (Cat P)","Smart Controller - material price adjusted for PE Cell",{"$f":"INDEX(O224:Q224,,$M$3)","v":262500},null,{"$f":"SUM('I_Asset number input'!K224:O224)","v":262500},0,1145416.2219894766]
[null,"COLUMN 10.5M-13.5M","Capital - Support",427.75962353966827,440.05625089536812,452.70636426518428,465.72012516402339,479.10798721561974,null,"Support","Major (Cat V)","Support - COLUMN 10.5M-13.5M",{"$f":"INDEX(O225:Q225,,$M$3)","v":5362.5},null,{"$f":"SUM('I_Asset number input'!K225:O225)","v":5362.5},7408,485917.65030663076]
[null,"COLUMN 14M-15M","Capital - Support",427.75962353966827,440.05625089536812,452.70636426518428,465.72012516402339,479.10798721561974,null,"Support","Major (Cat V)","Support - COLUMN 14M-15M",{"$f":"INDEX(O226:Q226,,$M$3)","v":77.5},null,{"$f":"SUM('I_Asset number input'!K226:O226)","v":77.5},88,7022.586088347578]
[null,"COLUMN 2.5M-3.5M","Capital - Support",373.98478131522666,384.73556572653229,395.79539845004973,407.17316356861676,418.87800055209232,null,"Support","Minor (Cat P)","Support - COLUMN 2.5M-3.5M",{"$f":"INDEX(O227:Q227,,$M$3)","v":143.5},null,{"$f":"SUM('I_Asset number input'!K227:O227)","v":143.5},192,11368.454061175851]
[null,"COLUMN 4-6.5M ORION WATE","Capital - Support",384.52886802590149,395.58275889689224,406.95441135497805,418.65295995987293,430.68780185866632,null,"Support","Minor (Cat P)","Support - COLUMN 4-6.5M ORION WATE",{"$f":"INDEX(O228:Q228,,$M$3)","v":3030},null,{"$f":"SUM('I_Asset number input'!K228:O228)","v":3030},3704,246812.50417167289]
[null,"COLUMN 4M-6.5M","Capital - Support",401.53120784686456,413.07385788409761,424.94831966417496,437.16413164077352,449.73110646551686,null,"Support","Minor (Cat P)","Support - COLUMN 4M-6.5M",{"$f":"INDEX(O229:Q229,,$M$3)","v":32089.75},null,{"$f":"SUM('I_Asset number input'!K229:O229)","v":32089.75},44512,2729488.1886401973]
[null,"COLUMN 7M-10M","Capital - Support",392.9641373944412,404.26051343318005,415.88162167892057,427.83679707287774,440.13564290392537,null,"Support","Major (Cat V)","Support - COLUMN 7M-10M",{"$f":"INDEX(O230:Q230,,$M$3)","v":5575},null,{"$f":"SUM('I_Asset number input'!K230:O230)","v":5575},7680,464080.55288378592]
[null,"DECORATIVE COLUMN","Capital - Support",412.47069780918969,424.32782079834607,436.52579555303811,449.07442039670184,461.98377532108742,null,"Support","Minor (Cat P)","Support - DECORATIVE COLUMN",{"$f":"INDEX(O231:Q231,,$M$3)","v":542.5},null,{"$f":"SUM('I_Asset number input'!K231:O231)","v":542.5},752,47401.100464360476]
[null,"DEDICATED SUPPORT & COND","Capital - Support",381.49744309658246,392.46419086041374,403.74619514481117,415.35251849738677,427.29248398302627,null,"Support","Minor (Cat P)","Support - DEDICATED SUPPORT & COND",{"$f":"INDEX(O232:Q232,,$M$3)","v":1422.5},null,{"$f":"SUM('I_Asset number input'!K232:O232)","v":1422.5},1720,114958.07611702835]
[null,"MACQUARIE STANDARD","Capital - Support",376.75260407677877,387.58295393375175,398.72463933759337,410.18661012132145,421.97807339506795,null,"Support","Minor (Cat P)","Support - MACQUARIE STANDARD",{"$f":"INDEX(O233:Q233,,$M$3)","v":45},null,{"$f":"SUM('I_Asset number input'!K233:O233)","v":45},72,3591.4047855561239]
[null,"MAST 15.5M-30M","Capital - Support",398.49978291754559,409.95528984761916,421.74010345400808,433.86369017828736,446.33578858987681,null,"Support","Major (Cat V)","Support - MAST 15.5M-30M",{"$f":"INDEX(O234:Q234,,$M$3)","v":55},null,{"$f":"SUM('I_Asset number input'!K234:O234)","v":55},88,4642.8682409721405]
[null,"ORION DOUBLE ARM","Capital - Support",365.79795698980706,376.31339817932093,387.13112236767944,398.25981915808075,409.70842795011924,null,"Support","Minor (Cat P)","Support - ORION DOUBLE ARM",{"$f":"INDEX(O235:Q235,,$M$3)","v":55},null,{"$f":"SUM('I_Asset number input'!K235:O235)","v":55},88,4261.8635942190158]
[null,"POLO 10.5M DECORATIVE 2M","Capital - Support",388.7465027101714,399.9216361650362,411.41801651694936,423.24487851637537,435.41172238129587,null,"Support","Minor (Cat P)","Support - POLO 10.5M DECORATIVE 2M",{"$f":"INDEX(O236:Q236,,$M$3)","v":5},null,{"$f":"SUM('I_Asset number input'!K236:O236)","v":5},8,411.74855125796569]
[null,"ROCKS STANDARD","Capital - Support",390.47111989278608,401.69583019796318,413.24321256521171,425.12254271362025,437.34336300750243,null,"Support","Minor (Cat P)","Support - ROCKS STANDARD",{"$f":"INDEX(O237:Q237,,$M$3)","v":197.5},null,{"$f":"SUM('I_Asset number input'!K237:O237)","v":197.5},280,16336.220940178962]

{"sheet":"Weighted average price list","index":6,"n_rows":237,"n_cols":7,"rows_kept":237,"cut":false,"hidden":false,"merged":[]}
[null,"Public lighting pricing list - weighted average price"]
[null,"This sheet displays the proposed weighted average post 2009 annuity capital and and annual maintenace charges. "]
[null,null,"Nominal $"]
[null,"Categories",{"$f":"'C_CAPEX Build Up'!S14","v":"FY25"},{"$f":"'C_CAPEX Build Up'!T14","v":"FY26"},{"$f":"'C_CAPEX Build Up'!U14","v":"FY27"},{"$f":"'C_CAPEX Build Up'!V14","v":"FY28"},{"$f":"'C_CAPEX Build Up'!W14","v":"FY29"}]
[null,"Connection - O/U",{"$f":"IF(SUMIF('Detailed price list'!$L$5:$L$237,$B5,'Detailed price list'!$M$5:$M$237)=0,0,\nSUMPRODUCT(('Detailed price list'!D$5:D$237)*('Detailed price list'!$M$5:$M$237)*('Detailed price list'!$L$5:$L$237=$B5))/SUMIF('Detailed price list'!$L$5:$L$237,$B5,'Detailed price list'!$M$5:$M$237))","v":102.28306430013642},{"$f":"IF(SUMIF('Detailed price list'!$L$5:$L$237,$B5,'Detailed price list'!$M$5:$M$237)=0,0,\nSUMPRODUCT(('Detailed price list'!E$5:E$237)*('Detailed price list'!$M$5:$M$237)*('Detailed price list'!$L$5:$L$237=$B5))/SUMIF('Detailed price list'!$L$5:$L$237,$B5,'Detailed price list'!$M$5:$M$237))","v":105.2233528577385},{"$f":"IF(SUMIF('Detailed price list'!$L$5:$L$237,$B5,'Detailed price list'!$M$5:$M$237)=0,0,\nSUMPRODUCT(('Detailed price list'!F$5:F$237)*('Detailed price list'!$M$5:$M$237)*('Detailed price list'!$L$5:$L$237=$B5))/SUMIF('Detailed price list'!$L$5:$L$237,$B5,'Detailed price list'!$M$5:$M$237))","v":108.24816466326163},{"$f":"IF(SUMIF('Detailed price list'!$L$5:$L$237,$B5,'Detailed price list'!$M$5:$M$237)=0,0,\nSUMPRODUCT(('Detailed price list'!G$5:G$237)*('Detailed price list'!$M$5:$M$237)*('Detailed price list'!$L$5:$L$237=$B5))/SUMIF('Detailed price list'!$L$5:$L$237,$B5,'Detailed price list'!$M$5:$M$237))","v":111.35992947123474},{"$f":"IF(SUMIF('Detailed price list'!$L$5:$L$237,$B5,'Detailed price list'!$M$5:$M$237)=0,0,\nSUMPRODUCT(('Detailed price list'!H$5:H$237)*('Detailed price list'!$M$5:$M$237)*('Detailed price list'!$L$5:$L$237=$B5))/SUMIF('Detailed price list'!$L$5:$L$237,$B5,'Detailed price list'!$M$5:$M$237))","v":114.561146883326}]
[null,"Connection - UGR1",{"$f":"IF(SUMIF('Detailed price list'!$L$5:$L$237,$B6,'Detailed price list'!$M$5:$M$237)=0,0,\nSUMPRODUCT(('Detailed price list'!D$5:D$237)*('Detailed price list'!$M$5:$M$237)*('Detailed price list'!$L$5:$L$237=$B6))/SUMIF('Detailed price list'!$L$5:$L$237,$B6,'Detailed price list'!$M$5:$M$237))","v":93.757105377314076},{"$f":"IF(SUMIF('Detailed price list'!$L$5:$L$237,$B6,'Detailed price list'!$M$5:$M$237)=0,0,\nSUMPRODUCT(('Detailed price list'!E$5:E$237)*('Detailed price list'!$M$5:$M$237)*('Detailed price list'!$L$5:$L$237=$B6))/SUMIF('Detailed price list'!$L$5:$L$237,$B6,'Detailed price list'!$M$5:$M$237))","v":96.452301752403926},{"$f":"IF(SUMIF('Detailed price list'!$L$5:$L$237,$B6,'Detailed price list'!$M$5:$M$237)=0,0,\nSUMPRODUCT(('Detailed price list'!F$5:F$237)*('Detailed price list'!$M$5:$M$237)*('Detailed price list'!$L$5:$L$237=$B6))/SUMIF('Detailed price list'!$L$5:$L$237,$B6,'Detailed price list'!$M$5:$M$237))","v":99.224975812742954},{"$f":"IF(SUMIF('Detailed price list'!$L$5:$L$237,$B6,'Detailed price list'!$M$5:$M$237)=0,0,\nSUMPRODUCT(('Detailed price list'!G$5:G$237)*('Detailed price list'!$M$5:$M$237)*('Detailed price list'!$L$5:$L$237=$B6))/SUMIF('Detailed price list'!$L$5:$L$237,$B6,'Detailed price list'!$M$5:$M$237))","v":102.07735477701067},{"$f":"IF(SUMIF('Detailed price list'!$L$5:$L$237,$B6,'Detailed price list'!$M$5:$M$237)=0,0,\nSUMPRODUCT(('Detailed price list'!H$5:H$237)*('Detailed price list'!$M$5:$M$237)*('Detailed price list'!$L$5:$L$237=$B6))/SUMIF('Detailed price list'!$L$5:$L$237,$B6,'Detailed price list'!$M$5:$M$237))","v":105.01172988881237}]
[null,"Connection - UGR2",{"$f":"IF(SUMIF('Detailed price list'!$L$5:$L$237,$B7,'Detailed price list'!$M$5:$M$237)=0,0,\nSUMPRODUCT(('Detailed price list'!D$5:D$237)*('Detailed price list'!$M$5:$M$237)*('Detailed price list'!$L$5:$L$237=$B7))/SUMIF('Detailed price list'!$L$5:$L$237,$B7,'Detailed price list'!$M$5:$M$237))","v":34.089282231791088},{"$f":"IF(SUMIF('Detailed price list'!$L$5:$L$237,$B7,'Detailed price list'!$M$5:$M$237)=0,0,\nSUMPRODUCT(('Detailed price list'!E$5:E$237)*('Detailed price list'!$M$5:$M$237)*('Detailed price list'!$L$5:$L$237=$B7))/SUMIF('Detailed price list'!$L$5:$L$237,$B7,'Detailed price list'!$M$5:$M$237))","v":35.069232599614296},{"$f":"IF(SUMIF('Detailed price list'!$L$5:$L$237,$B7,'Detailed price list'!$M$5:$M$237)=0,0,\nSUMPRODUCT(('Detailed price list'!F$5:F$237)*('Detailed price list'!$M$5:$M$237)*('Detailed price list'!$L$5:$L$237=$B7))/SUMIF('Detailed price list'!$L$5:$L$237,$B7,'Detailed price list'!$M$5:$M$237))","v":36.077353191640732},{"$f":"IF(SUMIF('Detailed price list'!$L$5:$L$237,$B7,'Detailed price list'!$M$5:$M$237)=0,0,\nSUMPRODUCT(('Detailed price list'!G$5:G$237)*('Detailed price list'!$M$5:$M$237)*('Detailed price list'!$L$5:$L$237=$B7))/SUMIF('Detailed price list'!$L$5:$L$237,$B7,'Detailed price list'!$M$5:$M$237))","v":37.114453805547633},{"$f":"IF(SUMIF('Detailed price list'!$L$5:$L$237,$B7,'Detailed price list'!$M$5:$M$237)=0,0,\nSUMPRODUCT(('Detailed price list'!H$5:H$237)*('Detailed price list'!$M$5:$M$237)*('Detailed price list'!$L$5:$L$237=$B7))/SUMIF('Detailed price list'!$L$5:$L$237,$B7,'Detailed price list'!$M$5:$M$237))","v":38.181367517928045}]
[null,"Legacy Luminaire - Major (Cat V) road",{"$f":"IF(SUMIF('Detailed price list'!$L$5:$L$237,$B8,'Detailed price list'!$M$5:$M$237)=0,0,\nSUMPRODUCT(('Detailed price list'!D$5:D$237)*('Detailed price list'!$M$5:$M$237)*('Detailed price list'!$L$5:$L$237=$B8))/SUMIF('Detailed price list'!$L$5:$L$237,$B8,'Detailed price list'!$M$5:$M$237))","v":53.785384027308034},{"$f":"IF(SUMIF('Detailed price list'!$L$5:$L$237,$B8,'Detailed price list'!$M$5:$M$237)=0,0,\nSUMPRODUCT(('Detailed price list'!E$5:E$237)*('Detailed price list'!$M$5:$M$237)*('Detailed price list'!$L$5:$L$237=$B8))/SUMIF('Detailed price list'!$L$5:$L$237,$B8,'Detailed price list'!$M$5:$M$237))","v":55.331530012509198},{"$f":"IF(SUMIF('Detailed price list'!$L$5:$L$237,$B8,'Detailed price list'!$M$5:$M$237)=0,0,\nSUMPRODUCT(('Detailed price list'!F$5:F$237)*('Detailed price list'!$M$5:$M$237)*('Detailed price list'!$L$5:$L$237=$B8))/SUMIF('Detailed price list'!$L$5:$L$237,$B8,'Detailed price list'!$M$5:$M$237))","v":56.922122411002505},{"$f":"IF(SUMIF('Detailed price list'!$L$5:$L$237,$B8,'Detailed price list'!$M$5:$M$237)=0,0,\nSUMPRODUCT(('Detailed price list'!G$5:G$237)*('Detailed price list'!$M$5:$M$237)*('Detailed price list'!$L$5:$L$237=$B8))/SUMIF('Detailed price list'!$L$5:$L$237,$B8,'Detailed price list'!$M$5:$M$237))","v":58.558438905279374},{"$f":"IF(SUMIF('Detailed price list'!$L$5:$L$237,$B8,'Detailed price list'!$M$5:$M$237)=0,0,\nSUMPRODUCT(('Detailed price list'!H$5:H$237)*('Detailed price list'!$M$5:$M$237)*('Detailed price list'!$L$5:$L$237=$B8))/SUMIF('Detailed price list'!$L$5:$L$237,$B8,'Detailed price list'!$M$5:$M$237))","v":60.241793906836598}]
[null,"Legacy Luminaire - Minor (Cat P) road",{"$f":"IF(SUMIF('Detailed price list'!$L$5:$L$237,$B9,'Detailed price list'!$M$5:$M$237)=0,0,\nSUMPRODUCT(('Detailed price list'!D$5:D$237)*('Detailed price list'!$M$5:$M$237)*('Detailed price list'!$L$5:$L$237=$B9))/SUMIF('Detailed price list'!$L$5:$L$237,$B9,'Detailed price list'!$M$5:$M$237))","v":33.631329748169293},{"$f":"IF(SUMIF('Detailed price list'!$L$5:$L$237,$B9,'Detailed price list'!$M$5:$M$237)=0,0,\nSUMPRODUCT(('Detailed price list'!E$5:E$237)*('Detailed price list'!$M$5:$M$237)*('Detailed price list'!$L$5:$L$237=$B9))/SUMIF('Detailed price list'!$L$5:$L$237,$B9,'Detailed price list'!$M$5:$M$237))","v":34.598115547090181},{"$f":"IF(SUMIF('Detailed price list'!$L$5:$L$237,$B9,'Detailed price list'!$M$5:$M$237)=0,0,\nSUMPRODUCT(('Detailed price list'!F$5:F$237)*('Detailed price list'!$M$5:$M$237)*('Detailed price list'!$L$5:$L$237=$B9))/SUMIF('Detailed price list'!$L$5:$L$237,$B9,'Detailed price list'!$M$5:$M$237))","v":35.592693133846822},{"$f":"IF(SUMIF('Detailed price list'!$L$5:$L$237,$B9,'Detailed price list'!$M$5:$M$237)=0,0,\nSUMPRODUCT(('Detailed price list'!G$5:G$237)*('Detailed price list'!$M$5:$M$237)*('Detailed price list'!$L$5:$L$237=$B9))/SUMIF('Detailed price list'!$L$5:$L$237,$B9,'Detailed price list'!$M$5:$M$237))","v":36.615861427364123},{"$f":"IF(SUMIF('Detailed price list'!$L$5:$L$237,$B9,'Detailed price list'!$M$5:$M$237)=0,0,\nSUMPRODUCT(('Detailed price list'!H$5:H$237)*('Detailed price list'!$M$5:$M$237)*('Detailed price list'!$L$5:$L$237=$B9))/SUMIF('Detailed price list'!$L$5:$L$237,$B9,'Detailed price list'!$M$5:$M$237))","v":37.668442312755914}]
[null,"Legacy Luminaire - Major (Cat V) road",{"$f":"IF(SUMIF('Detailed price list'!$L$5:$L$237,$B10,'Detailed price list'!$M$5:$M$237)=0,0,\nSUMPRODUCT(('Detailed price list'!D$5:D$237)*('Detailed price list'!$M$5:$M$237)*('Detailed price list'!$L$5:$L$237=$B10))/SUMIF('Detailed price list'!$L$5:$L$237,$B10,'Detailed price list'!$M$5:$M$237))","v":53.785384027308034},{"$f":"IF(SUMIF('Detailed price list'!$L$5:$L$237,$B10,'Detailed price list'!$M$5:$M$237)=0,0,\nSUMPRODUCT(('Detailed price list'!E$5:E$237)*('Detailed price list'!$M$5:$M$237)*('Detailed price list'!$L$5:$L$237=$B10))/SUMIF('Detailed price list'!$L$5:$L$237,$B10,'Detailed price list'!$M$5:$M$237))","v":55.331530012509198},{"$f":"IF(SUMIF('Detailed price list'!$L$5:$L$237,$B10,'Detailed price list'!$M$5:$M$237)=0,0,\nSUMPRODUCT(('Detailed price list'!F$5:F$237)*('Detailed price list'!$M$5:$M$237)*('Detailed price list'!$L$5:$L$237=$B10))/SUMIF('Detailed price list'!$L$5:$L$237,$B10,'Detailed price list'!$M$5:$M$237))","v":56.922122411002505},{"$f":"IF(SUMIF('Detailed price list'!$L$5:$L$237,$B10,'Detailed price list'!$M$5:$M$237)=0,0,\nSUMPRODUCT(('Detailed price list'!G$5:G$237)*('Detailed price list'!$M$5:$M$237)*('Detailed price list'!$L$5:$L$237=$B10))/SUMIF('Detailed price list'!$L$5:$L$237,$B10,'Detailed price list'!$M$5:$M$237))","v":58.558438905279374},{"$f":"IF(SUMIF('Detailed price list'!$L$5:$L$237,$B10,'Detailed price list'!$M$5:$M$237)=0,0,\nSUMPRODUCT(('Detailed price list'!H$5:H$237)*('Detailed price list'!$M$5:$M$237)*('Detailed price list'!$L$5:$L$237=$B10))/SUMIF('Detailed price list'!$L$5:$L$237,$B10,'Detailed price list'!$M$5:$M$237))","v":60.241793906836598}]
[null,"Legacy Luminaire - Major (Cat V) road",{"$f":"IF(SUMIF('Detailed price list'!$L$5:$L$237,$B11,'Detailed price list'!$M$5:$M$237)=0,0,\nSUMPRODUCT(('Detailed price list'!D$5:D$237)*('Detailed price list'!$M$5:$M$237)*('Detailed price list'!$L$5:$L$237=$B11))/SUMIF('Detailed price list'!$L$5:$L$237,$B11,'Detailed price list'!$M$5:$M$237))","v":53.785384027308034},{"$f":"IF(SUMIF('Detailed price list'!$L$5:$L$237,$B11,'Detailed price list'!$M$5:$M$237)=0,0,\nSUMPRODUCT(('Detailed price list'!E$5:E$237)*('Detailed price list'!$M$5:$M$237)*('Detailed price list'!$L$5:$L$237=$B11))/SUMIF('Detailed price list'!$L$5:$L$237,$B11,'Detailed price list'!$M$5:$M$237))","v":55.331530012509198},{"$f":"IF(SUMIF('Detailed price list'!$L$5:$L$237,$B11,'Detailed price list'!$M$5:$M$237)=0,0,\nSUMPRODUCT(('Detailed price list'!F$5:F$237)*('Detailed price list'!$M$5:$M$237)*('Detailed price list'!$L$5:$L$237=$B11))/SUMIF('Detailed price list'!$L$5:$L$237,$B11,'Detailed price list'!$M$5:$M$237))","v":56.922122411002505},{"$f":"IF(SUMIF('Detailed price list'!$L$5:$L$237,$B11,'Detailed price list'!$M$5:$M$237)=0,0,\nSUMPRODUCT(('Detailed price list'!G$5:G$237)*('Detailed price list'!$M$5:$M$237)*('Detailed price list'!$L$5:$L$237=$B11))/SUMIF('Detailed price list'!$L$5:$L$237,$B11,'Detailed price list'!$M$5:$M$237))","v":58.558438905279374},{"$f":"IF(SUMIF('Detailed price list'!$L$5:$L$237,$B11,'Detailed price list'!$M$5:$M$237)=0,0,\nSUMPRODUCT(('Detailed price list'!H$5:H$237)*('Detailed price list'!$M$5:$M$237)*('Detailed price list'!$L$5:$L$237=$B11))/SUMIF('Detailed price list'!$L$5:$L$237,$B11,'Detailed price list'!$M$5:$M$237))","v":60.241793906836598}]
[null,"Legacy Luminaire - Minor (Cat P) road",{"$f":"IF(SUMIF('Detailed price list'!$L$5:$L$237,$B12,'Detailed price list'!$M$5:$M$237)=0,0,\nSUMPRODUCT(('Detailed price list'!D$5:D$237)*('Detailed price list'!$M$5:$M$237)*('Detailed price list'!$L$5:$L$237=$B12))/SUMIF('Detailed price list'!$L$5:$L$237,$B12,'Detailed price list'!$M$5:$M$237))","v":33.631329748169293},{"$f":"IF(SUMIF('Detailed price list'!$L$5:$L$237,$B12,'Detailed price list'!$M$5:$M$237)=0,0,\nSUMPRODUCT(('Detailed price list'!E$5:E$237)*('Detailed price list'!$M$5:$M$237)*('Detailed price list'!$L$5:$L$237=$B12))/SUMIF('Detailed price list'!$L$5:$L$237,$B12,'Detailed price list'!$M$5:$M$237))","v":34.598115547090181},{"$f":"IF(SUMIF('Detailed price list'!$L$5:$L$237,$B12,'Detailed price list'!$M$5:$M$237)=0,0,\nSUMPRODUCT(('Detailed price list'!F$5:F$237)*('Detailed price list'!$M$5:$M$237)*('Detailed price list'!$L$5:$L$237=$B12))/SUMIF('Detailed price list'!$L$5:$L$237,$B12,'Detailed price list'!$M$5:$M$237))","v":35.592693133846822},{"$f":"IF(SUMIF('Detailed price list'!$L$5:$L$237,$B12,'Detailed price list'!$M$5:$M$237)=0,0,\nSUMPRODUCT(('Detailed price list'!G$5:G$237)*('Detailed price list'!$M$5:$M$237)*('Detailed price list'!$L$5:$L$237=$B12))/SUMIF('Detailed price list'!$L$5:$L$237,$B12,'Detailed price list'!$M$5:$M$237))","v":36.615861427364123},{"$f":"IF(SUMIF('Detailed price list'!$L$5:$L$237,$B12,'Detailed price list'!$M$5:$M$237)=0,0,\nSUMPRODUCT(('Detailed price list'!H$5:H$237)*('Detailed price list'!$M$5:$M$237)*('Detailed price list'!$L$5:$L$237=$B12))/SUMIF('Detailed price list'!$L$5:$L$237,$B12,'Detailed price list'!$M$5:$M$237))","v":37.668442312755914}]
[null,"Legacy Luminaire - Minor (Cat P) road",{"$f":"IF(SUMIF('Detailed price list'!$L$5:$L$237,$B13,'Detailed price list'!$M$5:$M$237)=0,0,\nSUMPRODUCT(('Detailed price list'!D$5:D$237)*('Detailed price list'!$M$5:$M$237)*('Detailed price list'!$L$5:$L$237=$B13))/SUMIF('Detailed price list'!$L$5:$L$237,$B13,'Detailed price list'!$M$5:$M$237))","v":33.631329748169293},{"$f":"IF(SUMIF('Detailed price list'!$L$5:$L$237,$B13,'Detailed price list'!$M$5:$M$237)=0,0,\nSUMPRODUCT(('Detailed price list'!E$5:E$237)*('Detailed price list'!$M$5:$M$237)*('Detailed price list'!$L$5:$L$237=$B13))/SUMIF('Detailed price list'!$L$5:$L$237,$B13,'Detailed price list'!$M$5:$M$237))","v":34.598115547090181},{"$f":"IF(SUMIF('Detailed price list'!$L$5:$L$237,$B13,'Detailed price list'!$M$5:$M$237)=0,0,\nSUMPRODUCT(('Detailed price list'!F$5:F$237)*('Detailed price list'!$M$5:$M$237)*('Detailed price list'!$L$5:$L$237=$B13))/SUMIF('Detailed price list'!$L$5:$L$237,$B13,'Detailed price list'!$M$5:$M$237))","v":35.592693133846822},{"$f":"IF(SUMIF('Detailed price list'!$L$5:$L$237,$B13,'Detailed price list'!$M$5:$M$237)=0,0,\nSUMPRODUCT(('Detailed price list'!G$5:G$237)*('Detailed price list'!$M$5:$M$237)*('Detailed price list'!$L$5:$L$237=$B13))/SUMIF('Detailed price list'!$L$5:$L$237,$B13,'Detailed price list'!$M$5:$M$237))","v":36.615861427364123},{"$f":"IF(SUMIF('Detailed price list'!$L$5:$L$237,$B13,'Detailed price list'!$M$5:$M$237)=0,0,\nSUMPRODUCT(('Detailed price list'!H$5:H$237)*('Detailed price list'!$M$5:$M$237)*('Detailed price list'!$L$5:$L$237=$B13))/SUMIF('Detailed price list'!$L$5:$L$237,$B13,'Detailed price list'!$M$5:$M$237))","v":37.668442312755914}]
[null,"Legacy Luminaire - Minor (Cat P) road",{"$f":"IF(SUMIF('Detailed price list'!$L$5:$L$237,$B14,'Detailed price list'!$M$5:$M$237)=0,0,\nSUMPRODUCT(('Detailed price list'!D$5:D$237)*('Detailed price list'!$M$5:$M$237)*('Detailed price list'!$L$5:$L$237=$B14))/SUMIF('Detailed price list'!$L$5:$L$237,$B14,'Detailed price list'!$M$5:$M$237))","v":33.631329748169293},{"$f":"IF(SUMIF('Detailed price list'!$L$5:$L$237,$B14,'Detailed price list'!$M$5:$M$237)=0,0,\nSUMPRODUCT(('Detailed price list'!E$5:E$237)*('Detailed price list'!$M$5:$M$237)*('Detailed price list'!$L$5:$L$237=$B14))/SUMIF('Detailed price list'!$L$5:$L$237,$B14,'Detailed price list'!$M$5:$M$237))","v":34.598115547090181},{"$f":"IF(SUMIF('Detailed price list'!$L$5:$L$237,$B14,'Detailed price list'!$M$5:$M$237)=0,0,\nSUMPRODUCT(('Detailed price list'!F$5:F$237)*('Detailed price list'!$M$5:$M$237)*('Detailed price list'!$L$5:$L$237=$B14))/SUMIF('Detailed price list'!$L$5:$L$237,$B14,'Detailed price list'!$M$5:$M$237))","v":35.592693133846822},{"$f":"IF(SUMIF('Detailed price list'!$L$5:$L$237,$B14,'Detailed price list'!$M$5:$M$237)=0,0,\nSUMPRODUCT(('Detailed price list'!G$5:G$237)*('Detailed price list'!$M$5:$M$237)*('Detailed price list'!$L$5:$L$237=$B14))/SUMIF('Detailed price list'!$L$5:$L$237,$B14,'Detailed price list'!$M$5:$M$237))","v":36.615861427364123},{"$f":"IF(SUMIF('Detailed price list'!$L$5:$L$237,$B14,'Detailed price list'!$M$5:$M$237)=0,0,\nSUMPRODUCT(('Detailed price list'!H$5:H$237)*('Detailed price list'!$M$5:$M$237)*('Detailed price list'!$L$5:$L$237=$B14))/SUMIF('Detailed price list'!$L$5:$L$237,$B14,'Detailed price list'!$M$5:$M$237))","v":37.668442312755914}]
[null,"Legacy Luminaire - Minor (Cat P) road",{"$f":"IF(SUMIF('Detailed price list'!$L$5:$L$237,$B15,'Detailed price list'!$M$5:$M$237)=0,0,\nSUMPRODUCT(('Detailed price list'!D$5:D$237)*('Detailed price list'!$M$5:$M$237)*('Detailed price list'!$L$5:$L$237=$B15))/SUMIF('Detailed price list'!$L$5:$L$237,$B15,'Detailed price list'!$M$5:$M$237))","v":33.631329748169293},{"$f":"IF(SUMIF('Detailed price list'!$L$5:$L$237,$B15,'Detailed price list'!$M$5:$M$237)=0,0,\nSUMPRODUCT(('Detailed price list'!E$5:E$237)*('Detailed price list'!$M$5:$M$237)*('Detailed price list'!$L$5:$L$237=$B15))/SUMIF('Detailed price list'!$L$5:$L$237,$B15,'Detailed price list'!$M$5:$M$237))","v":34.598115547090181},{"$f":"IF(SUMIF('Detailed price list'!$L$5:$L$237,$B15,'Detailed price list'!$M$5:$M$237)=0,0,\nSUMPRODUCT(('Detailed price list'!F$5:F$237)*('Detailed price list'!$M$5:$M$237)*('Detailed price list'!$L$5:$L$237=$B15))/SUMIF('Detailed price list'!$L$5:$L$237,$B15,'Detailed price list'!$M$5:$M$237))","v":35.592693133846822},{"$f":"IF(SUMIF('Detailed price list'!$L$5:$L$237,$B15,'Detailed price list'!$M$5:$M$237)=0,0,\nSUMPRODUCT(('Detailed price list'!G$5:G$237)*('Detailed price list'!$M$5:$M$237)*('Detailed price list'!$L$5:$L$237=$B15))/SUMIF('Detailed price list'!$L$5:$L$237,$B15,'Detailed price list'!$M$5:$M$237))","v":36.615861427364123},{"$f":"IF(SUMIF('Detailed price list'!$L$5:$L$237,$B15,'Detailed price list'!$M$5:$M$237)=0,0,\nSUMPRODUCT(('Detailed price list'!H$5:H$237)*('Detailed price list'!$M$5:$M$237)*('Detailed price list'!$L$5:$L$237=$B15))/SUMIF('Detailed price list'!$L$5:$L$237,$B15,'Detailed price list'!$M$5:$M$237))","v":37.668442312755914}]
[null,"Legacy Luminaire - Major (Cat V) road",{"$f":"IF(SUMIF('Detailed price list'!$L$5:$L$237,$B16,'Detailed price list'!$M$5:$M$237)=0,0,\nSUMPRODUCT(('Detailed price list'!D$5:D$237)*('Detailed price list'!$M$5:$M$237)*('Detailed price list'!$L$5:$L$237=$B16))/SUMIF('Detailed price list'!$L$5:$L$237,$B16,'Detailed price list'!$M$5:$M$237))","v":53.785384027308034},{"$f":"IF(SUMIF('Detailed price list'!$L$5:$L$237,$B16,'Detailed price list'!$M$5:$M$237)=0,0,\nSUMPRODUCT(('Detailed price list'!E$5:E$237)*('Detailed price list'!$M$5:$M$237)*('Detailed price list'!$L$5:$L$237=$B16))/SUMIF('Detailed price list'!$L$5:$L$237,$B16,'Detailed price list'!$M$5:$M$237))","v":55.331530012509198},{"$f":"IF(SUMIF('Detailed price list'!$L$5:$L$237,$B16,'Detailed price list'!$M$5:$M$237)=0,0,\nSUMPRODUCT(('Detailed price list'!F$5:F$237)*('Detailed price list'!$M$5:$M$237)*('Detailed price list'!$L$5:$L$237=$B16))/SUMIF('Detailed price list'!$L$5:$L$237,$B16,'Detailed price list'!$M$5:$M$237))","v":56.922122411002505},{"$f":"IF(SUMIF('Detailed price list'!$L$5:$L$237,$B16,'Detailed price list'!$M$5:$M$237)=0,0,\nSUMPRODUCT(('Detailed price list'!G$5:G$237)*('Detailed price list'!$M$5:$M$237)*('Detailed price list'!$L$5:$L$237=$B16))/SUMIF('Detailed price list'!$L$5:$L$237,$B16,'Detailed price list'!$M$5:$M$237))","v":58.558438905279374},{"$f":"IF(SUMIF('Detailed price list'!$L$5:$L$237,$B16,'Detailed price list'!$M$5:$M$237)=0,0,\nSUMPRODUCT(('Detailed price list'!H$5:H$237)*('Detailed price list'!$M$5:$M$237)*('Detailed price list'!$L$5:$L$237=$B16))/SUMIF('Detailed price list'!$L$5:$L$237,$B16,'Detailed price list'!$M$5:$M$237))","v":60.241793906836598}]
[null,"Legacy Luminaire - Major (Cat V) road",{"$f":"IF(SUMIF('Detailed price list'!$L$5:$L$237,$B17,'Detailed price list'!$M$5:$M$237)=0,0,\nSUMPRODUCT(('Detailed price list'!D$5:D$237)*('Detailed price list'!$M$5:$M$237)*('Detailed price list'!$L$5:$L$237=$B17))/SUMIF('Detailed price list'!$L$5:$L$237,$B17,'Detailed price list'!$M$5:$M$237))","v":53.785384027308034},{"$f":"IF(SUMIF('Detailed price list'!$L$5:$L$237,$B17,'Detailed price list'!$M$5:$M$237)=0,0,\nSUMPRODUCT(('Detailed price list'!E$5:E$237)*('Detailed price list'!$M$5:$M$237)*('Detailed price list'!$L$5:$L$237=$B17))/SUMIF('Detailed price list'!$L$5:$L$237,$B17,'Detailed price list'!$M$5:$M$237))","v":55.331530012509198},{"$f":"IF(SUMIF('Detailed price list'!$L$5:$L$237,$B17,'Detailed price list'!$M$5:$M$237)=0,0,\nSUMPRODUCT(('Detailed price list'!F$5:F$237)*('Detailed price list'!$M$5:$M$237)*('Detailed price list'!$L$5:$L$237=$B17))/SUMIF('Detailed price list'!$L$5:$L$237,$B17,'Detailed price list'!$M$5:$M$237))","v":56.922122411002505},{"$f":"IF(SUMIF('Detailed price list'!$L$5:$L$237,$B17,'Detailed price list'!$M$5:$M$237)=0,0,\nSUMPRODUCT(('Detailed price list'!G$5:G$237)*('Detailed price list'!$M$5:$M$237)*('Detailed price list'!$L$5:$L$237=$B17))/SUMIF('Detailed price list'!$L$5:$L$237,$B17,'Detailed price list'!$M$5:$M$237))","v":58.558438905279374},{"$f":"IF(SUMIF('Detailed price list'!$L$5:$L$237,$B17,'Detailed price list'!$M$5:$M$237)=0,0,\nSUMPRODUCT(('Detailed price list'!H$5:H$237)*('Detailed price list'!$M$5:$M$237)*('Detailed price list'!$L$5:$L$237=$B17))/SUMIF('Detailed price list'!$L$5:$L$237,$B17,'Detailed price list'!$M$5:$M$237))","v":60.241793906836598}]
[null,"Legacy Luminaire - Major (Cat V) road",{"$f":"IF(SUMIF('Detailed price list'!$L$5:$L$237,$B18,'Detailed price list'!$M$5:$M$237)=0,0,\nSUMPRODUCT(('Detailed price list'!D$5:D$237)*('Detailed price list'!$M$5:$M$237)*('Detailed price list'!$L$5:$L$237=$B18))/SUMIF('Detailed price list'!$L$5:$L$237,$B18,'Detailed price list'!$M$5:$M$237))","v":53.785384027308034},{"$f":"IF(SUMIF('Detailed price list'!$L$5:$L$237,$B18,'Detailed price list'!$M$5:$M$237)=0,0,\nSUMPRODUCT(('Detailed price list'!E$5:E$237)*('Detailed price list'!$M$5:$M$237)*('Detailed price list'!$L$5:$L$237=$B18))/SUMIF('Detailed price list'!$L$5:$L$237,$B18,'Detailed price list'!$M$5:$M$237))","v":55.331530012509198},{"$f":"IF(SUMIF('Detailed price list'!$L$5:$L$237,$B18,'Detailed price list'!$M$5:$M$237)=0,0,\nSUMPRODUCT(('Detailed price list'!F$5:F$237)*('Detailed price list'!$M$5:$M$237)*('Detailed price list'!$L$5:$L$237=$B18))/SUMIF('Detailed price list'!$L$5:$L$237,$B18,'Detailed price list'!$M$5:$M$237))","v":56.922122411002505},{"$f":"IF(SUMIF('Detailed price list'!$L$5:$L$237,$B18,'Detailed price list'!$M$5:$M$237)=0,0,\nSUMPRODUCT(('Detailed price list'!G$5:G$237)*('Detailed price list'!$M$5:$M$237)*('Detailed price list'!$L$5:$L$237=$B18))/SUMIF('Detailed price list'!$L$5:$L$237,$B18,'Detailed price list'!$M$5:$M$237))","v":58.558438905279374},{"$f":"IF(SUMIF('Detailed price list'!$L$5:$L$237,$B18,'Detailed price list'!$M$5:$M$237)=0,0,\nSUMPRODUCT(('Detailed price list'!H$5:H$237)*('Detailed price list'!$M$5:$M$237)*('Detailed price list'!$L$5:$L$237=$B18))/SUMIF('Detailed price list'!$L$5:$L$237,$B18,'Detailed price list'!$M$5:$M$237))","v":60.241793906836598}]
[null,"Legacy Luminaire - Major (Cat V) road",{"$f":"IF(SUMIF('Detailed price list'!$L$5:$L$237,$B19,'Detailed price list'!$M$5:$M$237)=0,0,\nSUMPRODUCT(('Detailed price list'!D$5:D$237)*('Detailed price list'!$M$5:$M$237)*('Detailed price list'!$L$5:$L$237=$B19))/SUMIF('Detailed price list'!$L$5:$L$237,$B19,'Detailed price list'!$M$5:$M$237))","v":53.785384027308034},{"$f":"IF(SUMIF('Detailed price list'!$L$5:$L$237,$B19,'Detailed price list'!$M$5:$M$237)=0,0,\nSUMPRODUCT(('Detailed price list'!E$5:E$237)*('Detailed price list'!$M$5:$M$237)*('Detailed price list'!$L$5:$L$237=$B19))/SUMIF('Detailed price list'!$L$5:$L$237,$B19,'Detailed price list'!$M$5:$M$237))","v":55.331530012509198},{"$f":"IF(SUMIF('Detailed price list'!$L$5:$L$237,$B19,'Detailed price list'!$M$5:$M$237)=0,0,\nSUMPRODUCT(('Detailed price list'!F$5:F$237)*('Detailed price list'!$M$5:$M$237)*('Detailed price list'!$L$5:$L$237=$B19))/SUMIF('Detailed price list'!$L$5:$L$237,$B19,'Detailed price list'!$M$5:$M$237))","v":56.922122411002505},{"$f":"IF(SUMIF('Detailed price list'!$L$5:$L$237,$B19,'Detailed price list'!$M$5:$M$237)=0,0,\nSUMPRODUCT(('Detailed price list'!G$5:G$237)*('Detailed price list'!$M$5:$M$237)*('Detailed price list'!$L$5:$L$237=$B19))/SUMIF('Detailed price list'!$L$5:$L$237,$B19,'Detailed price list'!$M$5:$M$237))","v":58.558438905279374},{"$f":"IF(SUMIF('Detailed price list'!$L$5:$L$237,$B19,'Detailed price list'!$M$5:$M$237)=0,0,\nSUMPRODUCT(('Detailed price list'!H$5:H$237)*('Detailed price list'!$M$5:$M$237)*('Detailed price list'!$L$5:$L$237=$B19))/SUMIF('Detailed price list'!$L$5:$L$237,$B19,'Detailed price list'!$M$5:$M$237))","v":60.241793906836598}]
[null,"Legacy Luminaire - Major (Cat V) road",{"$f":"IF(SUMIF('Detailed price list'!$L$5:$L$237,$B20,'Detailed price list'!$M$5:$M$237)=0,0,\nSUMPRODUCT(('Detailed price list'!D$5:D$237)*('Detailed price list'!$M$5:$M$237)*('Detailed price list'!$L$5:$L$237=$B20))/SUMIF('Detailed price list'!$L$5:$L$237,$B20,'Detailed price list'!$M$5:$M$237))","v":53.785384027308034},{"$f":"IF(SUMIF('Detailed price list'!$L$5:$L$237,$B20,'Detailed price list'!$M$5:$M$237)=0,0,\nSUMPRODUCT(('Detailed price list'!E$5:E$237)*('Detailed price list'!$M$5:$M$237)*('Detailed price list'!$L$5:$L$237=$B20))/SUMIF('Detailed price list'!$L$5:$L$237,$B20,'Detailed price list'!$M$5:$M$237))","v":55.331530012509198},{"$f":"IF(SUMIF('Detailed price list'!$L$5:$L$237,$B20,'Detailed price list'!$M$5:$M$237)=0,0,\nSUMPRODUCT(('Detailed price list'!F$5:F$237)*('Detailed price list'!$M$5:$M$237)*('Detailed price list'!$L$5:$L$237=$B20))/SUMIF('Detailed price list'!$L$5:$L$237,$B20,'Detailed price list'!$M$5:$M$237))","v":56.922122411002505},{"$f":"IF(SUMIF('Detailed price list'!$L$5:$L$237,$B20,'Detailed price list'!$M$5:$M$237)=0,0,\nSUMPRODUCT(('Detailed price list'!G$5:G$237)*('Detailed price list'!$M$5:$M$237)*('Detailed price list'!$L$5:$L$237=$B20))/SUMIF('Detailed price list'!$L$5:$L$237,$B20,'Detailed price list'!$M$5:$M$237))","v":58.558438905279374},{"$f":"IF(SUMIF('Detailed price list'!$L$5:$L$237,$B20,'Detailed price list'!$M$5:$M$237)=0,0,\nSUMPRODUCT(('Detailed price list'!H$5:H$237)*('Detailed price list'!$M$5:$M$237)*('Detailed price list'!$L$5:$L$237=$B20))/SUMIF('Detailed price list'!$L$5:$L$237,$B20,'Detailed price list'!$M$5:$M$237))","v":60.241793906836598}]
[null,"Legacy Luminaire - Minor (Cat P) road",{"$f":"IF(SUMIF('Detailed price list'!$L$5:$L$237,$B21,'Detailed price list'!$M$5:$M$237)=0,0,\nSUMPRODUCT(('Detailed price list'!D$5:D$237)*('Detailed price list'!$M$5:$M$237)*('Detailed price list'!$L$5:$L$237=$B21))/SUMIF('Detailed price list'!$L$5:$L$237,$B21,'Detailed price list'!$M$5:$M$237))","v":33.631329748169293},{"$f":"IF(SUMIF('Detailed price list'!$L$5:$L$237,$B21,'Detailed price list'!$M$5:$M$237)=0,0,\nSUMPRODUCT(('Detailed price list'!E$5:E$237)*('Detailed price list'!$M$5:$M$237)*('Detailed price list'!$L$5:$L$237=$B21))/SUMIF('Detailed price list'!$L$5:$L$237,$B21,'Detailed price list'!$M$5:$M$237))","v":34.598115547090181},{"$f":"IF(SUMIF('Detailed price list'!$L$5:$L$237,$B21,'Detailed price list'!$M$5:$M$237)=0,0,\nSUMPRODUCT(('Detailed price list'!F$5:F$237)*('Detailed price list'!$M$5:$M$237)*('Detailed price list'!$L$5:$L$237=$B21))/SUMIF('Detailed price list'!$L$5:$L$237,$B21,'Detailed price list'!$M$5:$M$237))","v":35.592693133846822},{"$f":"IF(SUMIF('Detailed price list'!$L$5:$L$237,$B21,'Detailed price list'!$M$5:$M$237)=0,0,\nSUMPRODUCT(('Detailed price list'!G$5:G$237)*('Detailed price list'!$M$5:$M$237)*('Detailed price list'!$L$5:$L$237=$B21))/SUMIF('Detailed price list'!$L$5:$L$237,$B21,'Detailed price list'!$M$5:$M$237))","v":36.615861427364123},{"$f":"IF(SUMIF('Detailed price list'!$L$5:$L$237,$B21,'Detailed price list'!$M$5:$M$237)=0,0,\nSUMPRODUCT(('Detailed price list'!H$5:H$237)*('Detailed price list'!$M$5:$M$237)*('Detailed price list'!$L$5:$L$237=$B21))/SUMIF('Detailed price list'!$L$5:$L$237,$B21,'Detailed price list'!$M$5:$M$237))","v":37.668442312755914}]
[null,"Legacy Luminaire - Minor (Cat P) road",{"$f":"IF(SUMIF('Detailed price list'!$L$5:$L$237,$B22,'Detailed price list'!$M$5:$M$237)=0,0,\nSUMPRODUCT(('Detailed price list'!D$5:D$237)*('Detailed price list'!$M$5:$M$237)*('Detailed price list'!$L$5:$L$237=$B22))/SUMIF('Detailed price list'!$L$5:$L$237,$B22,'Detailed price list'!$M$5:$M$237))","v":33.631329748169293},{"$f":"IF(SUMIF('Detailed price list'!$L$5:$L$237,$B22,'Detailed price list'!$M$5:$M$237)=0,0,\nSUMPRODUCT(('Detailed price list'!E$5:E$237)*('Detailed price list'!$M$5:$M$237)*('Detailed price list'!$L$5:$L$237=$B22))/SUMIF('Detailed price list'!$L$5:$L$237,$B22,'Detailed price list'!$M$5:$M$237))","v":34.598115547090181},{"$f":"IF(SUMIF('Detailed price list'!$L$5:$L$237,$B22,'Detailed price list'!$M$5:$M$237)=0,0,\nSUMPRODUCT(('Detailed price list'!F$5:F$237)*('Detailed price list'!$M$5:$M$237)*('Detailed price list'!$L$5:$L$237=$B22))/SUMIF('Detailed price list'!$L$5:$L$237,$B22,'Detailed price list'!$M$5:$M$237))","v":35.592693133846822},{"$f":"IF(SUMIF('Detailed price list'!$L$5:$L$237,$B22,'Detailed price list'!$M$5:$M$237)=0,0,\nSUMPRODUCT(('Detailed price list'!G$5:G$237)*('Detailed price list'!$M$5:$M$237)*('Detailed price list'!$L$5:$L$237=$B22))/SUMIF('Detailed price list'!$L$5:$L$237,$B22,'Detailed price list'!$M$5:$M$237))","v":36.615861427364123},{"$f":"IF(SUMIF('Detailed price list'!$L$5:$L$237,$B22,'Detailed price list'!$M$5:$M$237)=0,0,\nSUMPRODUCT(('Detailed price list'!H$5:H$237)*('Detailed price list'!$M$5:$M$237)*('Detailed price list'!$L$5:$L$237=$B22))/SUMIF('Detailed price list'!$L$5:$L$237,$B22,'Detailed price list'!$M$5:$M$237))","v":37.668442312755914}]
[null,"Legacy Luminaire - Major (Cat V) road",{"$f":"IF(SUMIF('Detailed price list'!$L$5:$L$237,$B23,'Detailed price list'!$M$5:$M$237)=0,0,\nSUMPRODUCT(('Detailed price list'!D$5:D$237)*('Detailed price list'!$M$5:$M$237)*('Detailed price list'!$L$5:$L$237=$B23))/SUMIF('Detailed price list'!$L$5:$L$237,$B23,'Detailed price list'!$M$5:$M$237))","v":53.785384027308034},{"$f":"IF(SUMIF('Detailed price list'!$L$5:$L$237,$B23,'Detailed price list'!$M$5:$M$237)=0,0,\nSUMPRODUCT(('Detailed price list'!E$5:E$237)*('Detailed price list'!$M$5:$M$237)*('Detailed price list'!$L$5:$L$237=$B23))/SUMIF('Detailed price list'!$L$5:$L$237,$B23,'Detailed price list'!$M$5:$M$237))","v":55.331530012509198},{"$f":"IF(SUMIF('Detailed price list'!$L$5:$L$237,$B23,'Detailed price list'!$M$5:$M$237)=0,0,\nSUMPRODUCT(('Detailed price list'!F$5:F$237)*('Detailed price list'!$M$5:$M$237)*('Detailed price list'!$L$5:$L$237=$B23))/SUMIF('Detailed price list'!$L$5:$L$237,$B23,'Detailed price list'!$M$5:$M$237))","v":56.922122411002505},{"$f":"IF(SUMIF('Detailed price list'!$L$5:$L$237,$B23,'Detailed price list'!$M$5:$M$237)=0,0,\nSUMPRODUCT(('Detailed price list'!G$5:G$237)*('Detailed price list'!$M$5:$M$237)*('Detailed price list'!$L$5:$L$237=$B23))/SUMIF('Detailed price list'!$L$5:$L$237,$B23,'Detailed price list'!$M$5:$M$237))","v":58.558438905279374},{"$f":"IF(SUMIF('Detailed price list'!$L$5:$L$237,$B23,'Detailed price list'!$M$5:$M$237)=0,0,\nSUMPRODUCT(('Detailed price list'!H$5:H$237)*('Detailed price list'!$M$5:$M$237)*('Detailed price list'!$L$5:$L$237=$B23))/SUMIF('Detailed price list'!$L$5:$L$237,$B23,'Detailed price list'!$M$5:$M$237))","v":60.241793906836598}]
[null,"Legacy Luminaire - Major (Cat V) road",{"$f":"IF(SUMIF('Detailed price list'!$L$5:$L$237,$B24,'Detailed price list'!$M$5:$M$237)=0,0,\nSUMPRODUCT(('Detailed price list'!D$5:D$237)*('Detailed price list'!$M$5:$M$237)*('Detailed price list'!$L$5:$L$237=$B24))/SUMIF('Detailed price list'!$L$5:$L$237,$B24,'Detailed price list'!$M$5:$M$237))","v":53.785384027308034},{"$f":"IF(SUMIF('Detailed price list'!$L$5:$L$237,$B24,'Detailed price list'!$M$5:$M$237)=0,0,\nSUMPRODUCT(('Detailed price list'!E$5:E$237)*('Detailed price list'!$M$5:$M$237)*('Detailed price list'!$L$5:$L$237=$B24))/SUMIF('Detailed price list'!$L$5:$L$237,$B24,'Detailed price list'!$M$5:$M$237))","v":55.331530012509198},{"$f":"IF(SUMIF('Detailed price list'!$L$5:$L$237,$B24,'Detailed price list'!$M$5:$M$237)=0,0,\nSUMPRODUCT(('Detailed price list'!F$5:F$237)*('Detailed price list'!$M$5:$M$237)*('Detailed price list'!$L$5:$L$237=$B24))/SUMIF('Detailed price list'!$L$5:$L$237,$B24,'Detailed price list'!$M$5:$M$237))","v":56.922122411002505},{"$f":"IF(SUMIF('Detailed price list'!$L$5:$L$237,$B24,'Detailed price list'!$M$5:$M$237)=0,0,\nSUMPRODUCT(('Detailed price list'!G$5:G$237)*('Detailed price list'!$M$5:$M$237)*('Detailed price list'!$L$5:$L$237=$B24))/SUMIF('Detailed price list'!$L$5:$L$237,$B24,'Detailed price list'!$M$5:$M$237))","v":58.558438905279374},{"$f":"IF(SUMIF('Detailed price list'!$L$5:$L$237,$B24,'Detailed price list'!$M$5:$M$237)=0,0,\nSUMPRODUCT(('Detailed price list'!H$5:H$237)*('Detailed price list'!$M$5:$M$237)*('Detailed price list'!$L$5:$L$237=$B24))/SUMIF('Detailed price list'!$L$5:$L$237,$B24,'Detailed price list'!$M$5:$M$237))","v":60.241793906836598}]
[null,"Legacy Luminaire - Major (Cat V) road",{"$f":"IF(SUMIF('Detailed price list'!$L$5:$L$237,$B25,'Detailed price list'!$M$5:$M$237)=0,0,\nSUMPRODUCT(('Detailed price list'!D$5:D$237)*('Detailed price list'!$M$5:$M$237)*('Detailed price list'!$L$5:$L$237=$B25))/SUMIF('Detailed price list'!$L$5:$L$237,$B25,'Detailed price list'!$M$5:$M$237))","v":53.785384027308034},{"$f":"IF(SUMIF('Detailed price list'!$L$5:$L$237,$B25,'Detailed price list'!$M$5:$M$237)=0,0,\nSUMPRODUCT(('Detailed price list'!E$5:E$237)*('Detailed price list'!$M$5:$M$237)*('Detailed price list'!$L$5:$L$237=$B25))/SUMIF('Detailed price list'!$L$5:$L$237,$B25,'Detailed price list'!$M$5:$M$237))","v":55.331530012509198},{"$f":"IF(SUMIF('Detailed price list'!$L$5:$L$237,$B25,'Detailed price list'!$M$5:$M$237)=0,0,\nSUMPRODUCT(('Detailed price list'!F$5:F$237)*('Detailed price list'!$M$5:$M$237)*('Detailed price list'!$L$5:$L$237=$B25))/SUMIF('Detailed price list'!$L$5:$L$237,$B25,'Detailed price list'!$M$5:$M$237))","v":56.922122411002505},{"$f":"IF(SUMIF('Detailed price list'!$L$5:$L$237,$B25,'Detailed price list'!$M$5:$M$237)=0,0,\nSUMPRODUCT(('Detailed price list'!G$5:G$237)*('Detailed price list'!$M$5:$M$237)*('Detailed price list'!$L$5:$L$237=$B25))/SUMIF('Detailed price list'!$L$5:$L$237,$B25,'Detailed price list'!$M$5:$M$237))","v":58.558438905279374},{"$f":"IF(SUMIF('Detailed price list'!$L$5:$L$237,$B25,'Detailed price list'!$M$5:$M$237)=0,0,\nSUMPRODUCT(('Detailed price list'!H$5:H$237)*('Detailed price list'!$M$5:$M$237)*('Detailed price list'!$L$5:$L$237=$B25))/SUMIF('Detailed price list'!$L$5:$L$237,$B25,'Detailed price list'!$M$5:$M$237))","v":60.241793906836598}]
[null,"Legacy Luminaire - Major (Cat V) road",{"$f":"IF(SUMIF('Detailed price list'!$L$5:$L$237,$B26,'Detailed price list'!$M$5:$M$237)=0,0,\nSUMPRODUCT(('Detailed price list'!D$5:D$237)*('Detailed price list'!$M$5:$M$237)*('Detailed price list'!$L$5:$L$237=$B26))/SUMIF('Detailed price list'!$L$5:$L$237,$B26,'Detailed price list'!$M$5:$M$237))","v":53.785384027308034},{"$f":"IF(SUMIF('Detailed price list'!$L$5:$L$237,$B26,'Detailed price list'!$M$5:$M$237)=0,0,\nSUMPRODUCT(('Detailed price list'!E$5:E$237)*('Detailed price list'!$M$5:$M$237)*('Detailed price list'!$L$5:$L$237=$B26))/SUMIF('Detailed price list'!$L$5:$L$237,$B26,'Detailed price list'!$M$5:$M$237))","v":55.331530012509198},{"$f":"IF(SUMIF('Detailed price list'!$L$5:$L$237,$B26,'Detailed price list'!$M$5:$M$237)=0,0,\nSUMPRODUCT(('Detailed price list'!F$5:F$237)*('Detailed price list'!$M$5:$M$237)*('Detailed price list'!$L$5:$L$237=$B26))/SUMIF('Detailed price list'!$L$5:$L$237,$B26,'Detailed price list'!$M$5:$M$237))","v":56.922122411002505},{"$f":"IF(SUMIF('Detailed price list'!$L$5:$L$237,$B26,'Detailed price list'!$M$5:$M$237)=0,0,\nSUMPRODUCT(('Detailed price list'!G$5:G$237)*('Detailed price list'!$M$5:$M$237)*('Detailed price list'!$L$5:$L$237=$B26))/SUMIF('Detailed price list'!$L$5:$L$237,$B26,'Detailed price list'!$M$5:$M$237))","v":58.558438905279374},{"$f":"IF(SUMIF('Detailed price list'!$L$5:$L$237,$B26,'Detailed price list'!$M$5:$M$237)=0,0,\nSUMPRODUCT(('Detailed price list'!H$5:H$237)*('Detailed price list'!$M$5:$M$237)*('Detailed price list'!$L$5:$L$237=$B26))/SUMIF('Detailed price list'!$L$5:$L$237,$B26,'Detailed price list'!$M$5:$M$237))","v":60.241793906836598}]
[null,"Legacy Luminaire - Major (Cat V) road",{"$f":"IF(SUMIF('Detailed price list'!$L$5:$L$237,$B27,'Detailed price list'!$M$5:$M$237)=0,0,\nSUMPRODUCT(('Detailed price list'!D$5:D$237)*('Detailed price list'!$M$5:$M$237)*('Detailed price list'!$L$5:$L$237=$B27))/SUMIF('Detailed price list'!$L$5:$L$237,$B27,'Detailed price list'!$M$5:$M$237))","v":53.785384027308034},{"$f":"IF(SUMIF('Detailed price list'!$L$5:$L$237,$B27,'Detailed price list'!$M$5:$M$237)=0,0,\nSUMPRODUCT(('Detailed price list'!E$5:E$237)*('Detailed price list'!$M$5:$M$237)*('Detailed price list'!$L$5:$L$237=$B27))/SUMIF('Detailed price list'!$L$5:$L$237,$B27,'Detailed price list'!$M$5:$M$237))","v":55.331530012509198},{"$f":"IF(SUMIF('Detailed price list'!$L$5:$L$237,$B27,'Detailed price list'!$M$5:$M$237)=0,0,\nSUMPRODUCT(('Detailed price list'!F$5:F$237)*('Detailed price list'!$M$5:$M$237)*('Detailed price list'!$L$5:$L$237=$B27))/SUMIF('Detailed price list'!$L$5:$L$237,$B27,'Detailed price list'!$M$5:$M$237))","v":56.922122411002505},{"$f":"IF(SUMIF('Detailed price list'!$L$5:$L$237,$B27,'Detailed price list'!$M$5:$M$237)=0,0,\nSUMPRODUCT(('Detailed price list'!G$5:G$237)*('Detailed price list'!$M$5:$M$237)*('Detailed price list'!$L$5:$L$237=$B27))/SUMIF('Detailed price list'!$L$5:$L$237,$B27,'Detailed price list'!$M$5:$M$237))","v":58.558438905279374},{"$f":"IF(SUMIF('Detailed price list'!$L$5:$L$237,$B27,'Detailed price list'!$M$5:$M$237)=0,0,\nSUMPRODUCT(('Detailed price list'!H$5:H$237)*('Detailed price list'!$M$5:$M$237)*('Detailed price list'!$L$5:$L$237=$B27))/SUMIF('Detailed price list'!$L$5:$L$237,$B27,'Detailed price list'!$M$5:$M$237))","v":60.241793906836598}]
[null,"Legacy Luminaire - Major (Cat V) road",{"$f":"IF(SUMIF('Detailed price list'!$L$5:$L$237,$B28,'Detailed price list'!$M$5:$M$237)=0,0,\nSUMPRODUCT(('Detailed price list'!D$5:D$237)*('Detailed price list'!$M$5:$M$237)*('Detailed price list'!$L$5:$L$237=$B28))/SUMIF('Detailed price list'!$L$5:$L$237,$B28,'Detailed price list'!$M$5:$M$237))","v":53.785384027308034},{"$f":"IF(SUMIF('Detailed price list'!$L$5:$L$237,$B28,'Detailed price list'!$M$5:$M$237)=0,0,\nSUMPRODUCT(('Detailed price list'!E$5:E$237)*('Detailed price list'!$M$5:$M$237)*('Detailed price list'!$L$5:$L$237=$B28))/SUMIF('Detailed price list'!$L$5:$L$237,$B28,'Detailed price list'!$M$5:$M$237))","v":55.331530012509198},{"$f":"IF(SUMIF('Detailed price list'!$L$5:$L$237,$B28,'Detailed price list'!$M$5:$M$237)=0,0,\nSUMPRODUCT(('Detailed price list'!F$5:F$237)*('Detailed price list'!$M$5:$M$237)*('Detailed price list'!$L$5:$L$237=$B28))/SUMIF('Detailed price list'!$L$5:$L$237,$B28,'Detailed price list'!$M$5:$M$237))","v":56.922122411002505},{"$f":"IF(SUMIF('Detailed price list'!$L$5:$L$237,$B28,'Detailed price list'!$M$5:$M$237)=0,0,\nSUMPRODUCT(('Detailed price list'!G$5:G$237)*('Detailed price list'!$M$5:$M$237)*('Detailed price list'!$L$5:$L$237=$B28))/SUMIF('Detailed price list'!$L$5:$L$237,$B28,'Detailed price list'!$M$5:$M$237))","v":58.558438905279374},{"$f":"IF(SUMIF('Detailed price list'!$L$5:$L$237,$B28,'Detailed price list'!$M$5:$M$237)=0,0,\nSUMPRODUCT(('Detailed price list'!H$5:H$237)*('Detailed price list'!$M$5:$M$237)*('Detailed price list'!$L$5:$L$237=$B28))/SUMIF('Detailed price list'!$L$5:$L$237,$B28,'Detailed price list'!$M$5:$M$237))","v":60.241793906836598}]
[null,"Legacy Luminaire - Major (Cat V) road",{"$f":"IF(SUMIF('Detailed price list'!$L$5:$L$237,$B29,'Detailed price list'!$M$5:$M$237)=0,0,\nSUMPRODUCT(('Detailed price list'!D$5:D$237)*('Detailed price list'!$M$5:$M$237)*('Detailed price list'!$L$5:$L$237=$B29))/SUMIF('Detailed price list'!$L$5:$L$237,$B29,'Detailed price list'!$M$5:$M$237))","v":53.785384027308034},{"$f":"IF(SUMIF('Detailed price list'!$L$5:$L$237,$B29,'Detailed price list'!$M$5:$M$237)=0,0,\nSUMPRODUCT(('Detailed price list'!E$5:E$237)*('Detailed price list'!$M$5:$M$237)*('Detailed price list'!$L$5:$L$237=$B29))/SUMIF('Detailed price list'!$L$5:$L$237,$B29,'Detailed price list'!$M$5:$M$237))","v":55.331530012509198},{"$f":"IF(SUMIF('Detailed price list'!$L$5:$L$237,$B29,'Detailed price list'!$M$5:$M$237)=0,0,\nSUMPRODUCT(('Detailed price list'!F$5:F$237)*('Detailed price list'!$M$5:$M$237)*('Detailed price list'!$L$5:$L$237=$B29))/SUMIF('Detailed price list'!$L$5:$L$237,$B29,'Detailed price list'!$M$5:$M$237))","v":56.922122411002505},{"$f":"IF(SUMIF('Detailed price list'!$L$5:$L$237,$B29,'Detailed price list'!$M$5:$M$237)=0,0,\nSUMPRODUCT(('Detailed price list'!G$5:G$237)*('Detailed price list'!$M$5:$M$237)*('Detailed price list'!$L$5:$L$237=$B29))/SUMIF('Detailed price list'!$L$5:$L$237,$B29,'Detailed price list'!$M$5:$M$237))","v":58.558438905279374},{"$f":"IF(SUMIF('Detailed price list'!$L$5:$L$237,$B29,'Detailed price list'!$M$5:$M$237)=0,0,\nSUMPRODUCT(('Detailed price list'!H$5:H$237)*('Detailed price list'!$M$5:$M$237)*('Detailed price list'!$L$5:$L$237=$B29))/SUMIF('Detailed price list'!$L$5:$L$237,$B29,'Detailed price list'!$M$5:$M$237))","v":60.241793906836598}]
[null,"Legacy Luminaire - Major (Cat V) road",{"$f":"IF(SUMIF('Detailed price list'!$L$5:$L$237,$B30,'Detailed price list'!$M$5:$M$237)=0,0,\nSUMPRODUCT(('Detailed price list'!D$5:D$237)*('Detailed price list'!$M$5:$M$237)*('Detailed price list'!$L$5:$L$237=$B30))/SUMIF('Detailed price list'!$L$5:$L$237,$B30,'Detailed price list'!$M$5:$M$237))","v":53.785384027308034},{"$f":"IF(SUMIF('Detailed price list'!$L$5:$L$237,$B30,'Detailed price list'!$M$5:$M$237)=0,0,\nSUMPRODUCT(('Detailed price list'!E$5:E$237)*('Detailed price list'!$M$5:$M$237)*('Detailed price list'!$L$5:$L$237=$B30))/SUMIF('Detailed price list'!$L$5:$L$237,$B30,'Detailed price list'!$M$5:$M$237))","v":55.331530012509198},{"$f":"IF(SUMIF('Detailed price list'!$L$5:$L$237,$B30,'Detailed price list'!$M$5:$M$237)=0,0,\nSUMPRODUCT(('Detailed price list'!F$5:F$237)*('Detailed price list'!$M$5:$M$237)*('Detailed price list'!$L$5:$L$237=$B30))/SUMIF('Detailed price list'!$L$5:$L$237,$B30,'Detailed price list'!$M$5:$M$237))","v":56.922122411002505},{"$f":"IF(SUMIF('Detailed price list'!$L$5:$L$237,$B30,'Detailed price list'!$M$5:$M$237)=0,0,\nSUMPRODUCT(('Detailed price list'!G$5:G$237)*('Detailed price list'!$M$5:$M$237)*('Detailed price list'!$L$5:$L$237=$B30))/SUMIF('Detailed price list'!$L$5:$L$237,$B30,'Detailed price list'!$M$5:$M$237))","v":58.558438905279374},{"$f":"IF(SUMIF('Detailed price list'!$L$5:$L$237,$B30,'Detailed price list'!$M$5:$M$237)=0,0,\nSUMPRODUCT(('Detailed price list'!H$5:H$237)*('Detailed price list'!$M$5:$M$237)*('Detailed price list'!$L$5:$L$237=$B30))/SUMIF('Detailed price list'!$L$5:$L$237,$B30,'Detailed price list'!$M$5:$M$237))","v":60.241793906836598}]
[null,"Legacy Luminaire - Minor (Cat P) road",{"$f":"IF(SUMIF('Detailed price list'!$L$5:$L$237,$B31,'Detailed price list'!$M$5:$M$237)=0,0,\nSUMPRODUCT(('Detailed price list'!D$5:D$237)*('Detailed price list'!$M$5:$M$237)*('Detailed price list'!$L$5:$L$237=$B31))/SUMIF('Detailed price list'!$L$5:$L$237,$B31,'Detailed price list'!$M$5:$M$237))","v":33.631329748169293},{"$f":"IF(SUMIF('Detailed price list'!$L$5:$L$237,$B31,'Detailed price list'!$M$5:$M$237)=0,0,\nSUMPRODUCT(('Detailed price list'!E$5:E$237)*('Detailed price list'!$M$5:$M$237)*('Detailed price list'!$L$5:$L$237=$B31))/SUMIF('Detailed price list'!$L$5:$L$237,$B31,'Detailed price list'!$M$5:$M$237))","v":34.598115547090181},{"$f":"IF(SUMIF('Detailed price list'!$L$5:$L$237,$B31,'Detailed price list'!$M$5:$M$237)=0,0,\nSUMPRODUCT(('Detailed price list'!F$5:F$237)*('Detailed price list'!$M$5:$M$237)*('Detailed price list'!$L$5:$L$237=$B31))/SUMIF('Detailed price list'!$L$5:$L$237,$B31,'Detailed price list'!$M$5:$M$237))","v":35.592693133846822},{"$f":"IF(SUMIF('Detailed price list'!$L$5:$L$237,$B31,'Detailed price list'!$M$5:$M$237)=0,0,\nSUMPRODUCT(('Detailed price list'!G$5:G$237)*('Detailed price list'!$M$5:$M$237)*('Detailed price list'!$L$5:$L$237=$B31))/SUMIF('Detailed price list'!$L$5:$L$237,$B31,'Detailed price list'!$M$5:$M$237))","v":36.615861427364123},{"$f":"IF(SUMIF('Detailed price list'!$L$5:$L$237,$B31,'Detailed price list'!$M$5:$M$237)=0,0,\nSUMPRODUCT(('Detailed price list'!H$5:H$237)*('Detailed price list'!$M$5:$M$237)*('Detailed price list'!$L$5:$L$237=$B31))/SUMIF('Detailed price list'!$L$5:$L$237,$B31,'Detailed price list'!$M$5:$M$237))","v":37.668442312755914}]
[null,"Legacy Luminaire - Major (Cat V) road",{"$f":"IF(SUMIF('Detailed price list'!$L$5:$L$237,$B32,'Detailed price list'!$M$5:$M$237)=0,0,\nSUMPRODUCT(('Detailed price list'!D$5:D$237)*('Detailed price list'!$M$5:$M$237)*('Detailed price list'!$L$5:$L$237=$B32))/SUMIF('Detailed price list'!$L$5:$L$237,$B32,'Detailed price list'!$M$5:$M$237))","v":53.785384027308034},{"$f":"IF(SUMIF('Detailed price list'!$L$5:$L$237,$B32,'Detailed price list'!$M$5:$M$237)=0,0,\nSUMPRODUCT(('Detailed price list'!E$5:E$237)*('Detailed price list'!$M$5:$M$237)*('Detailed price list'!$L$5:$L$237=$B32))/SUMIF('Detailed price list'!$L$5:$L$237,$B32,'Detailed price list'!$M$5:$M$237))","v":55.331530012509198},{"$f":"IF(SUMIF('Detailed price list'!$L$5:$L$237,$B32,'Detailed price list'!$M$5:$M$237)=0,0,\nSUMPRODUCT(('Detailed price list'!F$5:F$237)*('Detailed price list'!$M$5:$M$237)*('Detailed price list'!$L$5:$L$237=$B32))/SUMIF('Detailed price list'!$L$5:$L$237,$B32,'Detailed price list'!$M$5:$M$237))","v":56.922122411002505},{"$f":"IF(SUMIF('Detailed price list'!$L$5:$L$237,$B32,'Detailed price list'!$M$5:$M$237)=0,0,\nSUMPRODUCT(('Detailed price list'!G$5:G$237)*('Detailed price list'!$M$5:$M$237)*('Detailed price list'!$L$5:$L$237=$B32))/SUMIF('Detailed price list'!$L$5:$L$237,$B32,'Detailed price list'!$M$5:$M$237))","v":58.558438905279374},{"$f":"IF(SUMIF('Detailed price list'!$L$5:$L$237,$B32,'Detailed price list'!$M$5:$M$237)=0,0,\nSUMPRODUCT(('Detailed price list'!H$5:H$237)*('Detailed price list'!$M$5:$M$237)*('Detailed price list'!$L$5:$L$237=$B32))/SUMIF('Detailed price list'!$L$5:$L$237,$B32,'Detailed price list'!$M$5:$M$237))","v":60.241793906836598}]
[null,"Legacy Luminaire - Minor (Cat P) road",{"$f":"IF(SUMIF('Detailed price list'!$L$5:$L$237,$B33,'Detailed price list'!$M$5:$M$237)=0,0,\nSUMPRODUCT(('Detailed price list'!D$5:D$237)*('Detailed price list'!$M$5:$M$237)*('Detailed price list'!$L$5:$L$237=$B33))/SUMIF('Detailed price list'!$L$5:$L$237,$B33,'Detailed price list'!$M$5:$M$237))","v":33.631329748169293},{"$f":"IF(SUMIF('Detailed price list'!$L$5:$L$237,$B33,'Detailed price list'!$M$5:$M$237)=0,0,\nSUMPRODUCT(('Detailed price list'!E$5:E$237)*('Detailed price list'!$M$5:$M$237)*('Detailed price list'!$L$5:$L$237=$B33))/SUMIF('Detailed price list'!$L$5:$L$237,$B33,'Detailed price list'!$M$5:$M$237))","v":34.598115547090181},{"$f":"IF(SUMIF('Detailed price list'!$L$5:$L$237,$B33,'Detailed price list'!$M$5:$M$237)=0,0,\nSUMPRODUCT(('Detailed price list'!F$5:F$237)*('Detailed price list'!$M$5:$M$237)*('Detailed price list'!$L$5:$L$237=$B33))/SUMIF('Detailed price list'!$L$5:$L$237,$B33,'Detailed price list'!$M$5:$M$237))","v":35.592693133846822},{"$f":"IF(SUMIF('Detailed price list'!$L$5:$L$237,$B33,'Detailed price list'!$M$5:$M$237)=0,0,\nSUMPRODUCT(('Detailed price list'!G$5:G$237)*('Detailed price list'!$M$5:$M$237)*('Detailed price list'!$L$5:$L$237=$B33))/SUMIF('Detailed price list'!$L$5:$L$237,$B33,'Detailed price list'!$M$5:$M$237))","v":36.615861427364123},{"$f":"IF(SUMIF('Detailed price list'!$L$5:$L$237,$B33,'Detailed price list'!$M$5:$M$237)=0,0,\nSUMPRODUCT(('Detailed price list'!H$5:H$237)*('Detailed price list'!$M$5:$M$237)*('Detailed price list'!$L$5:$L$237=$B33))/SUMIF('Detailed price list'!$L$5:$L$237,$B33,'Detailed price list'!$M$5:$M$237))","v":37.668442312755914}]
[null,"Legacy Luminaire - Major (Cat V) road",{"$f":"IF(SUMIF('Detailed price list'!$L$5:$L$237,$B34,'Detailed price list'!$M$5:$M$237)=0,0,\nSUMPRODUCT(('Detailed price list'!D$5:D$237)*('Detailed price list'!$M$5:$M$237)*('Detailed price list'!$L$5:$L$237=$B34))/SUMIF('Detailed price list'!$L$5:$L$237,$B34,'Detailed price list'!$M$5:$M$237))","v":53.785384027308034},{"$f":"IF(SUMIF('Detailed price list'!$L$5:$L$237,$B34,'Detailed price list'!$M$5:$M$237)=0,0,\nSUMPRODUCT(('Detailed price list'!E$5:E$237)*('Detailed price list'!$M$5:$M$237)*('Detailed price list'!$L$5:$L$237=$B34))/SUMIF('Detailed price list'!$L$5:$L$237,$B34,'Detailed price list'!$M$5:$M$237))","v":55.331530012509198},{"$f":"IF(SUMIF('Detailed price list'!$L$5:$L$237,$B34,'Detailed price list'!$M$5:$M$237)=0,0,\nSUMPRODUCT(('Detailed price list'!F$5:F$237)*('Detailed price list'!$M$5:$M$237)*('Detailed price list'!$L$5:$L$237=$B34))/SUMIF('Detailed price list'!$L$5:$L$237,$B34,'Detailed price list'!$M$5:$M$237))","v":56.922122411002505},{"$f":"IF(SUMIF('Detailed price list'!$L$5:$L$237,$B34,'Detailed price list'!$M$5:$M$237)=0,0,\nSUMPRODUCT(('Detailed price list'!G$5:G$237)*('Detailed price list'!$M$5:$M$237)*('Detailed price list'!$L$5:$L$237=$B34))/SUMIF('Detailed price list'!$L$5:$L$237,$B34,'Detailed price list'!$M$5:$M$237))","v":58.558438905279374},{"$f":"IF(SUMIF('Detailed price list'!$L$5:$L$237,$B34,'Detailed price list'!$M$5:$M$237)=0,0,\nSUMPRODUCT(('Detailed price list'!H$5:H$237)*('Detailed price list'!$M$5:$M$237)*('Detailed price list'!$L$5:$L$237=$B34))/SUMIF('Detailed price list'!$L$5:$L$237,$B34,'Detailed price list'!$M$5:$M$237))","v":60.241793906836598}]
[null,"Legacy Luminaire - Major (Cat V) road",{"$f":"IF(SUMIF('Detailed price list'!$L$5:$L$237,$B35,'Detailed price list'!$M$5:$M$237)=0,0,\nSUMPRODUCT(('Detailed price list'!D$5:D$237)*('Detailed price list'!$M$5:$M$237)*('Detailed price list'!$L$5:$L$237=$B35))/SUMIF('Detailed price list'!$L$5:$L$237,$B35,'Detailed price list'!$M$5:$M$237))","v":53.785384027308034},{"$f":"IF(SUMIF('Detailed price list'!$L$5:$L$237,$B35,'Detailed price list'!$M$5:$M$237)=0,0,\nSUMPRODUCT(('Detailed price list'!E$5:E$237)*('Detailed price list'!$M$5:$M$237)*('Detailed price list'!$L$5:$L$237=$B35))/SUMIF('Detailed price list'!$L$5:$L$237,$B35,'Detailed price list'!$M$5:$M$237))","v":55.331530012509198},{"$f":"IF(SUMIF('Detailed price list'!$L$5:$L$237,$B35,'Detailed price list'!$M$5:$M$237)=0,0,\nSUMPRODUCT(('Detailed price list'!F$5:F$237)*('Detailed price list'!$M$5:$M$237)*('Detailed price list'!$L$5:$L$237=$B35))/SUMIF('Detailed price list'!$L$5:$L$237,$B35,'Detailed price list'!$M$5:$M$237))","v":56.922122411002505},{"$f":"IF(SUMIF('Detailed price list'!$L$5:$L$237,$B35,'Detailed price list'!$M$5:$M$237)=0,0,\nSUMPRODUCT(('Detailed price list'!G$5:G$237)*('Detailed price list'!$M$5:$M$237)*('Detailed price list'!$L$5:$L$237=$B35))/SUMIF('Detailed price list'!$L$5:$L$237,$B35,'Detailed price list'!$M$5:$M$237))","v":58.558438905279374},{"$f":"IF(SUMIF('Detailed price list'!$L$5:$L$237,$B35,'Detailed price list'!$M$5:$M$237)=0,0,\nSUMPRODUCT(('Detailed price list'!H$5:H$237)*('Detailed price list'!$M$5:$M$237)*('Detailed price list'!$L$5:$L$237=$B35))/SUMIF('Detailed price list'!$L$5:$L$237,$B35,'Detailed price list'!$M$5:$M$237))","v":60.241793906836598}]
[null,"Legacy Luminaire - Major (Cat V) road",{"$f":"IF(SUMIF('Detailed price list'!$L$5:$L$237,$B36,'Detailed price list'!$M$5:$M$237)=0,0,\nSUMPRODUCT(('Detailed price list'!D$5:D$237)*('Detailed price list'!$M$5:$M$237)*('Detailed price list'!$L$5:$L$237=$B36))/SUMIF('Detailed price list'!$L$5:$L$237,$B36,'Detailed price list'!$M$5:$M$237))","v":53.785384027308034},{"$f":"IF(SUMIF('Detailed price list'!$L$5:$L$237,$B36,'Detailed price list'!$M$5:$M$237)=0,0,\nSUMPRODUCT(('Detailed price list'!E$5:E$237)*('Detailed price list'!$M$5:$M$237)*('Detailed price list'!$L$5:$L$237=$B36))/SUMIF('Detailed price list'!$L$5:$L$237,$B36,'Detailed price list'!$M$5:$M$237))","v":55.331530012509198},{"$f":"IF(SUMIF('Detailed price list'!$L$5:$L$237,$B36,'Detailed price list'!$M$5:$M$237)=0,0,\nSUMPRODUCT(('Detailed price list'!F$5:F$237)*('Detailed price list'!$M$5:$M$237)*('Detailed price list'!$L$5:$L$237=$B36))/SUMIF('Detailed price list'!$L$5:$L$237,$B36,'Detailed price list'!$M$5:$M$237))","v":56.922122411002505},{"$f":"IF(SUMIF('Detailed price list'!$L$5:$L$237,$B36,'Detailed price list'!$M$5:$M$237)=0,0,\nSUMPRODUCT(('Detailed price list'!G$5:G$237)*('Detailed price list'!$M$5:$M$237)*('Detailed price list'!$L$5:$L$237=$B36))/SUMIF('Detailed price list'!$L$5:$L$237,$B36,'Detailed price list'!$M$5:$M$237))","v":58.558438905279374},{"$f":"IF(SUMIF('Detailed price list'!$L$5:$L$237,$B36,'Detailed price list'!$M$5:$M$237)=0,0,\nSUMPRODUCT(('Detailed price list'!H$5:H$237)*('Detailed price list'!$M$5:$M$237)*('Detailed price list'!$L$5:$L$237=$B36))/SUMIF('Detailed price list'!$L$5:$L$237,$B36,'Detailed price list'!$M$5:$M$237))","v":60.241793906836598}]
[null,"Legacy Luminaire - Major (Cat V) road",{"$f":"IF(SUMIF('Detailed price list'!$L$5:$L$237,$B37,'Detailed price list'!$M$5:$M$237)=0,0,\nSUMPRODUCT(('Detailed price list'!D$5:D$237)*('Detailed price list'!$M$5:$M$237)*('Detailed price list'!$L$5:$L$237=$B37))/SUMIF('Detailed price list'!$L$5:$L$237,$B37,'Detailed price list'!$M$5:$M$237))","v":53.785384027308034},{"$f":"IF(SUMIF('Detailed price list'!$L$5:$L$237,$B37,'Detailed price list'!$M$5:$M$237)=0,0,\nSUMPRODUCT(('Detailed price list'!E$5:E$237)*('Detailed price list'!$M$5:$M$237)*('Detailed price list'!$L$5:$L$237=$B37))/SUMIF('Detailed price list'!$L$5:$L$237,$B37,'Detailed price list'!$M$5:$M$237))","v":55.331530012509198},{"$f":"IF(SUMIF('Detailed price list'!$L$5:$L$237,$B37,'Detailed price list'!$M$5:$M$237)=0,0,\nSUMPRODUCT(('Detailed price list'!F$5:F$237)*('Detailed price list'!$M$5:$M$237)*('Detailed price list'!$L$5:$L$237=$B37))/SUMIF('Detailed price list'!$L$5:$L$237,$B37,'Detailed price list'!$M$5:$M$237))","v":56.922122411002505},{"$f":"IF(SUMIF('Detailed price list'!$L$5:$L$237,$B37,'Detailed price list'!$M$5:$M$237)=0,0,\nSUMPRODUCT(('Detailed price list'!G$5:G$237)*('Detailed price list'!$M$5:$M$237)*('Detailed price list'!$L$5:$L$237=$B37))/SUMIF('Detailed price list'!$L$5:$L$237,$B37,'Detailed price list'!$M$5:$M$237))","v":58.558438905279374},{"$f":"IF(SUMIF('Detailed price list'!$L$5:$L$237,$B37,'Detailed price list'!$M$5:$M$237)=0,0,\nSUMPRODUCT(('Detailed price list'!H$5:H$237)*('Detailed price list'!$M$5:$M$237)*('Detailed price list'!$L$5:$L$237=$B37))/SUMIF('Detailed price list'!$L$5:$L$237,$B37,'Detailed price list'!$M$5:$M$237))","v":60.241793906836598}]
[null,"Legacy Luminaire - Minor (Cat P) road",{"$f":"IF(SUMIF('Detailed price list'!$L$5:$L$237,$B38,'Detailed price list'!$M$5:$M$237)=0,0,\nSUMPRODUCT(('Detailed price list'!D$5:D$237)*('Detailed price list'!$M$5:$M$237)*('Detailed price list'!$L$5:$L$237=$B38))/SUMIF('Detailed price list'!$L$5:$L$237,$B38,'Detailed price list'!$M$5:$M$237))","v":33.631329748169293},{"$f":"IF(SUMIF('Detailed price list'!$L$5:$L$237,$B38,'Detailed price list'!$M$5:$M$237)=0,0,\nSUMPRODUCT(('Detailed price list'!E$5:E$237)*('Detailed price list'!$M$5:$M$237)*('Detailed price list'!$L$5:$L$237=$B38))/SUMIF('Detailed price list'!$L$5:$L$237,$B38,'Detailed price list'!$M$5:$M$237))","v":34.598115547090181},{"$f":"IF(SUMIF('Detailed price list'!$L$5:$L$237,$B38,'Detailed price list'!$M$5:$M$237)=0,0,\nSUMPRODUCT(('Detailed price list'!F$5:F$237)*('Detailed price list'!$M$5:$M$237)*('Detailed price list'!$L$5:$L$237=$B38))/SUMIF('Detailed price list'!$L$5:$L$237,$B38,'Detailed price list'!$M$5:$M$237))","v":35.592693133846822},{"$f":"IF(SUMIF('Detailed price list'!$L$5:$L$237,$B38,'Detailed price list'!$M$5:$M$237)=0,0,\nSUMPRODUCT(('Detailed price list'!G$5:G$237)*('Detailed price list'!$M$5:$M$237)*('Detailed price list'!$L$5:$L$237=$B38))/SUMIF('Detailed price list'!$L$5:$L$237,$B38,'Detailed price list'!$M$5:$M$237))","v":36.615861427364123},{"$f":"IF(SUMIF('Detailed price list'!$L$5:$L$237,$B38,'Detailed price list'!$M$5:$M$237)=0,0,\nSUMPRODUCT(('Detailed price list'!H$5:H$237)*('Detailed price list'!$M$5:$M$237)*('Detailed price list'!$L$5:$L$237=$B38))/SUMIF('Detailed price list'!$L$5:$L$237,$B38,'Detailed price list'!$M$5:$M$237))","v":37.668442312755914}]
[null,"Legacy Luminaire - Minor (Cat P) road",{"$f":"IF(SUMIF('Detailed price list'!$L$5:$L$237,$B39,'Detailed price list'!$M$5:$M$237)=0,0,\nSUMPRODUCT(('Detailed price list'!D$5:D$237)*('Detailed price list'!$M$5:$M$237)*('Detailed price list'!$L$5:$L$237=$B39))/SUMIF('Detailed price list'!$L$5:$L$237,$B39,'Detailed price list'!$M$5:$M$237))","v":33.631329748169293},{"$f":"IF(SUMIF('Detailed price list'!$L$5:$L$237,$B39,'Detailed price list'!$M$5:$M$237)=0,0,\nSUMPRODUCT(('Detailed price list'!E$5:E$237)*('Detailed price list'!$M$5:$M$237)*('Detailed price list'!$L$5:$L$237=$B39))/SUMIF('Detailed price list'!$L$5:$L$237,$B39,'Detailed price list'!$M$5:$M$237))","v":34.598115547090181},{"$f":"IF(SUMIF('Detailed price list'!$L$5:$L$237,$B39,'Detailed price list'!$M$5:$M$237)=0,0,\nSUMPRODUCT(('Detailed price list'!F$5:F$237)*('Detailed price list'!$M$5:$M$237)*('Detailed price list'!$L$5:$L$237=$B39))/SUMIF('Detailed price list'!$L$5:$L$237,$B39,'Detailed price list'!$M$5:$M$237))","v":35.592693133846822},{"$f":"IF(SUMIF('Detailed price list'!$L$5:$L$237,$B39,'Detailed price list'!$M$5:$M$237)=0,0,\nSUMPRODUCT(('Detailed price list'!G$5:G$237)*('Detailed price list'!$M$5:$M$237)*('Detailed price list'!$L$5:$L$237=$B39))/SUMIF('Detailed price list'!$L$5:$L$237,$B39,'Detailed price list'!$M$5:$M$237))","v":36.615861427364123},{"$f":"IF(SUMIF('Detailed price list'!$L$5:$L$237,$B39,'Detailed price list'!$M$5:$M$237)=0,0,\nSUMPRODUCT(('Detailed price list'!H$5:H$237)*('Detailed price list'!$M$5:$M$237)*('Detailed price list'!$L$5:$L$237=$B39))/SUMIF('Detailed price list'!$L$5:$L$237,$B39,'Detailed price list'!$M$5:$M$237))","v":37.668442312755914}]
[null,"Legacy Luminaire - Minor (Cat P) road",{"$f":"IF(SUMIF('Detailed price list'!$L$5:$L$237,$B40,'Detailed price list'!$M$5:$M$237)=0,0,\nSUMPRODUCT(('Detailed price list'!D$5:D$237)*('Detailed price list'!$M$5:$M$237)*('Detailed price list'!$L$5:$L$237=$B40))/SUMIF('Detailed price list'!$L$5:$L$237,$B40,'Detailed price list'!$M$5:$M$237))","v":33.631329748169293},{"$f":"IF(SUMIF('Detailed price list'!$L$5:$L$237,$B40,'Detailed price list'!$M$5:$M$237)=0,0,\nSUMPRODUCT(('Detailed price list'!E$5:E$237)*('Detailed price list'!$M$5:$M$237)*('Detailed price list'!$L$5:$L$237=$B40))/SUMIF('Detailed price list'!$L$5:$L$237,$B40,'Detailed price list'!$M$5:$M$237))","v":34.598115547090181},{"$f":"IF(SUMIF('Detailed price list'!$L$5:$L$237,$B40,'Detailed price list'!$M$5:$M$237)=0,0,\nSUMPRODUCT(('Detailed price list'!F$5:F$237)*('Detailed price list'!$M$5:$M$237)*('Detailed price list'!$L$5:$L$237=$B40))/SUMIF('Detailed price list'!$L$5:$L$237,$B40,'Detailed price list'!$M$5:$M$237))","v":35.592693133846822},{"$f":"IF(SUMIF('Detailed price list'!$L$5:$L$237,$B40,'Detailed price list'!$M$5:$M$237)=0,0,\nSUMPRODUCT(('Detailed price list'!G$5:G$237)*('Detailed price list'!$M$5:$M$237)*('Detailed price list'!$L$5:$L$237=$B40))/SUMIF('Detailed price list'!$L$5:$L$237,$B40,'Detailed price list'!$M$5:$M$237))","v":36.615861427364123},{"$f":"IF(SUMIF('Detailed price list'!$L$5:$L$237,$B40,'Detailed price list'!$M$5:$M$237)=0,0,\nSUMPRODUCT(('Detailed price list'!H$5:H$237)*('Detailed price list'!$M$5:$M$237)*('Detailed price list'!$L$5:$L$237=$B40))/SUMIF('Detailed price list'!$L$5:$L$237,$B40,'Detailed price list'!$M$5:$M$237))","v":37.668442312755914}]
[null,"Legacy Luminaire - Minor (Cat P) road",{"$f":"IF(SUMIF('Detailed price list'!$L$5:$L$237,$B41,'Detailed price list'!$M$5:$M$237)=0,0,\nSUMPRODUCT(('Detailed price list'!D$5:D$237)*('Detailed price list'!$M$5:$M$237)*('Detailed price list'!$L$5:$L$237=$B41))/SUMIF('Detailed price list'!$L$5:$L$237,$B41,'Detailed price list'!$M$5:$M$237))","v":33.631329748169293},{"$f":"IF(SUMIF('Detailed price list'!$L$5:$L$237,$B41,'Detailed price list'!$M$5:$M$237)=0,0,\nSUMPRODUCT(('Detailed price list'!E$5:E$237)*('Detailed price list'!$M$5:$M$237)*('Detailed price list'!$L$5:$L$237=$B41))/SUMIF('Detailed price list'!$L$5:$L$237,$B41,'Detailed price list'!$M$5:$M$237))","v":34.598115547090181},{"$f":"IF(SUMIF('Detailed price list'!$L$5:$L$237,$B41,'Detailed price list'!$M$5:$M$237)=0,0,\nSUMPRODUCT(('Detailed price list'!F$5:F$237)*('Detailed price list'!$M$5:$M$237)*('Detailed price list'!$L$5:$L$237=$B41))/SUMIF('Detailed price list'!$L$5:$L$237,$B41,'Detailed price list'!$M$5:$M$237))","v":35.592693133846822},{"$f":"IF(SUMIF('Detailed price list'!$L$5:$L$237,$B41,'Detailed price list'!$M$5:$M$237)=0,0,\nSUMPRODUCT(('Detailed price list'!G$5:G$237)*('Detailed price list'!$M$5:$M$237)*('Detailed price list'!$L$5:$L$237=$B41))/SUMIF('Detailed price list'!$L$5:$L$237,$B41,'Detailed price list'!$M$5:$M$237))","v":36.615861427364123},{"$f":"IF(SUMIF('Detailed price list'!$L$5:$L$237,$B41,'Detailed price list'!$M$5:$M$237)=0,0,\nSUMPRODUCT(('Detailed price list'!H$5:H$237)*('Detailed price list'!$M$5:$M$237)*('Detailed price list'!$L$5:$L$237=$B41))/SUMIF('Detailed price list'!$L$5:$L$237,$B41,'Detailed price list'!$M$5:$M$237))","v":37.668442312755914}]
[null,"Legacy Luminaire - Minor (Cat P) road",{"$f":"IF(SUMIF('Detailed price list'!$L$5:$L$237,$B42,'Detailed price list'!$M$5:$M$237)=0,0,\nSUMPRODUCT(('Detailed price list'!D$5:D$237)*('Detailed price list'!$M$5:$M$237)*('Detailed price list'!$L$5:$L$237=$B42))/SUMIF('Detailed price list'!$L$5:$L$237,$B42,'Detailed price list'!$M$5:$M$237))","v":33.631329748169293},{"$f":"IF(SUMIF('Detailed price list'!$L$5:$L$237,$B42,'Detailed price list'!$M$5:$M$237)=0,0,\nSUMPRODUCT(('Detailed price list'!E$5:E$237)*('Detailed price list'!$M$5:$M$237)*('Detailed price list'!$L$5:$L$237=$B42))/SUMIF('Detailed price list'!$L$5:$L$237,$B42,'Detailed price list'!$M$5:$M$237))","v":34.598115547090181},{"$f":"IF(SUMIF('Detailed price list'!$L$5:$L$237,$B42,'Detailed price list'!$M$5:$M$237)=0,0,\nSUMPRODUCT(('Detailed price list'!F$5:F$237)*('Detailed price list'!$M$5:$M$237)*('Detailed price list'!$L$5:$L$237=$B42))/SUMIF('Detailed price list'!$L$5:$L$237,$B42,'Detailed price list'!$M$5:$M$237))","v":35.592693133846822},{"$f":"IF(SUMIF('Detailed price list'!$L$5:$L$237,$B42,'Detailed price list'!$M$5:$M$237)=0,0,\nSUMPRODUCT(('Detailed price list'!G$5:G$237)*('Detailed price list'!$M$5:$M$237)*('Detailed price list'!$L$5:$L$237=$B42))/SUMIF('Detailed price list'!$L$5:$L$237,$B42,'Detailed price list'!$M$5:$M$237))","v":36.615861427364123},{"$f":"IF(SUMIF('Detailed price list'!$L$5:$L$237,$B42,'Detailed price list'!$M$5:$M$237)=0,0,\nSUMPRODUCT(('Detailed price list'!H$5:H$237)*('Detailed price list'!$M$5:$M$237)*('Detailed price list'!$L$5:$L$237=$B42))/SUMIF('Detailed price list'!$L$5:$L$237,$B42,'Detailed price list'!$M$5:$M$237))","v":37.668442312755914}]
[null,"Legacy Luminaire - Minor (Cat P) road",{"$f":"IF(SUMIF('Detailed price list'!$L$5:$L$237,$B43,'Detailed price list'!$M$5:$M$237)=0,0,\nSUMPRODUCT(('Detailed price list'!D$5:D$237)*('Detailed price list'!$M$5:$M$237)*('Detailed price list'!$L$5:$L$237=$B43))/SUMIF('Detailed price list'!$L$5:$L$237,$B43,'Detailed price list'!$M$5:$M$237))","v":33.631329748169293},{"$f":"IF(SUMIF('Detailed price list'!$L$5:$L$237,$B43,'Detailed price list'!$M$5:$M$237)=0,0,\nSUMPRODUCT(('Detailed price list'!E$5:E$237)*('Detailed price list'!$M$5:$M$237)*('Detailed price list'!$L$5:$L$237=$B43))/SUMIF('Detailed price list'!$L$5:$L$237,$B43,'Detailed price list'!$M$5:$M$237))","v":34.598115547090181},{"$f":"IF(SUMIF('Detailed price list'!$L$5:$L$237,$B43,'Detailed price list'!$M$5:$M$237)=0,0,\nSUMPRODUCT(('Detailed price list'!F$5:F$237)*('Detailed price list'!$M$5:$M$237)*('Detailed price list'!$L$5:$L$237=$B43))/SUMIF('Detailed price list'!$L$5:$L$237,$B43,'Detailed price list'!$M$5:$M$237))","v":35.592693133846822},{"$f":"IF(SUMIF('Detailed price list'!$L$5:$L$237,$B43,'Detailed price list'!$M$5:$M$237)=0,0,\nSUMPRODUCT(('Detailed price list'!G$5:G$237)*('Detailed price list'!$M$5:$M$237)*('Detailed price list'!$L$5:$L$237=$B43))/SUMIF('Detailed price list'!$L$5:$L$237,$B43,'Detailed price list'!$M$5:$M$237))","v":36.615861427364123},{"$f":"IF(SUMIF('Detailed price list'!$L$5:$L$237,$B43,'Detailed price list'!$M$5:$M$237)=0,0,\nSUMPRODUCT(('Detailed price list'!H$5:H$237)*('Detailed price list'!$M$5:$M$237)*('Detailed price list'!$L$5:$L$237=$B43))/SUMIF('Detailed price list'!$L$5:$L$237,$B43,'Detailed price list'!$M$5:$M$237))","v":37.668442312755914}]
[null,"Legacy Luminaire - Minor (Cat P) road",{"$f":"IF(SUMIF('Detailed price list'!$L$5:$L$237,$B44,'Detailed price list'!$M$5:$M$237)=0,0,\nSUMPRODUCT(('Detailed price list'!D$5:D$237)*('Detailed price list'!$M$5:$M$237)*('Detailed price list'!$L$5:$L$237=$B44))/SUMIF('Detailed price list'!$L$5:$L$237,$B44,'Detailed price list'!$M$5:$M$237))","v":33.631329748169293},{"$f":"IF(SUMIF('Detailed price list'!$L$5:$L$237,$B44,'Detailed price list'!$M$5:$M$237)=0,0,\nSUMPRODUCT(('Detailed price list'!E$5:E$237)*('Detailed price list'!$M$5:$M$237)*('Detailed price list'!$L$5:$L$237=$B44))/SUMIF('Detailed price list'!$L$5:$L$237,$B44,'Detailed price list'!$M$5:$M$237))","v":34.598115547090181},{"$f":"IF(SUMIF('Detailed price list'!$L$5:$L$237,$B44,'Detailed price list'!$M$5:$M$237)=0,0,\nSUMPRODUCT(('Detailed price list'!F$5:F$237)*('Detailed price list'!$M$5:$M$237)*('Detailed price list'!$L$5:$L$237=$B44))/SUMIF('Detailed price list'!$L$5:$L$237,$B44,'Detailed price list'!$M$5:$M$237))","v":35.592693133846822},{"$f":"IF(SUMIF('Detailed price list'!$L$5:$L$237,$B44,'Detailed price list'!$M$5:$M$237)=0,0,\nSUMPRODUCT(('Detailed price list'!G$5:G$237)*('Detailed price list'!$M$5:$M$237)*('Detailed price list'!$L$5:$L$237=$B44))/SUMIF('Detailed price list'!$L$5:$L$237,$B44,'Detailed price list'!$M$5:$M$237))","v":36.615861427364123},{"$f":"IF(SUMIF('Detailed price list'!$L$5:$L$237,$B44,'Detailed price list'!$M$5:$M$237)=0,0,\nSUMPRODUCT(('Detailed price list'!H$5:H$237)*('Detailed price list'!$M$5:$M$237)*('Detailed price list'!$L$5:$L$237=$B44))/SUMIF('Detailed price list'!$L$5:$L$237,$B44,'Detailed price list'!$M$5:$M$237))","v":37.668442312755914}]
[null,"Legacy Luminaire - Minor (Cat P) road",{"$f":"IF(SUMIF('Detailed price list'!$L$5:$L$237,$B45,'Detailed price list'!$M$5:$M$237)=0,0,\nSUMPRODUCT(('Detailed price list'!D$5:D$237)*('Detailed price list'!$M$5:$M$237)*('Detailed price list'!$L$5:$L$237=$B45))/SUMIF('Detailed price list'!$L$5:$L$237,$B45,'Detailed price list'!$M$5:$M$237))","v":33.631329748169293},{"$f":"IF(SUMIF('Detailed price list'!$L$5:$L$237,$B45,'Detailed price list'!$M$5:$M$237)=0,0,\nSUMPRODUCT(('Detailed price list'!E$5:E$237)*('Detailed price list'!$M$5:$M$237)*('Detailed price list'!$L$5:$L$237=$B45))/SUMIF('Detailed price list'!$L$5:$L$237,$B45,'Detailed price list'!$M$5:$M$237))","v":34.598115547090181},{"$f":"IF(SUMIF('Detailed price list'!$L$5:$L$237,$B45,'Detailed price list'!$M$5:$M$237)=0,0,\nSUMPRODUCT(('Detailed price list'!F$5:F$237)*('Detailed price list'!$M$5:$M$237)*('Detailed price list'!$L$5:$L$237=$B45))/SUMIF('Detailed price list'!$L$5:$L$237,$B45,'Detailed price list'!$M$5:$M$237))","v":35.592693133846822},{"$f":"IF(SUMIF('Detailed price list'!$L$5:$L$237,$B45,'Detailed price list'!$M$5:$M$237)=0,0,\nSUMPRODUCT(('Detailed price list'!G$5:G$237)*('Detailed price list'!$M$5:$M$237)*('Detailed price list'!$L$5:$L$237=$B45))/SUMIF('Detailed price list'!$L$5:$L$237,$B45,'Detailed price list'!$M$5:$M$237))","v":36.615861427364123},{"$f":"IF(SUMIF('Detailed price list'!$L$5:$L$237,$B45,'Detailed price list'!$M$5:$M$237)=0,0,\nSUMPRODUCT(('Detailed price list'!H$5:H$237)*('Detailed price list'!$M$5:$M$237)*('Detailed price list'!$L$5:$L$237=$B45))/SUMIF('Detailed price list'!$L$5:$L$237,$B45,'Detailed price list'!$M$5:$M$237))","v":37.668442312755914}]
[null,"Legacy Luminaire - Minor (Cat P) road",{"$f":"IF(SUMIF('Detailed price list'!$L$5:$L$237,$B46,'Detailed price list'!$M$5:$M$237)=0,0,\nSUMPRODUCT(('Detailed price list'!D$5:D$237)*('Detailed price list'!$M$5:$M$237)*('Detailed price list'!$L$5:$L$237=$B46))/SUMIF('Detailed price list'!$L$5:$L$237,$B46,'Detailed price list'!$M$5:$M$237))","v":33.631329748169293},{"$f":"IF(SUMIF('Detailed price list'!$L$5:$L$237,$B46,'Detailed price list'!$M$5:$M$237)=0,0,\nSUMPRODUCT(('Detailed price list'!E$5:E$237)*('Detailed price list'!$M$5:$M$237)*('Detailed price list'!$L$5:$L$237=$B46))/SUMIF('Detailed price list'!$L$5:$L$237,$B46,'Detailed price list'!$M$5:$M$237))","v":34.598115547090181},{"$f":"IF(SUMIF('Detailed price list'!$L$5:$L$237,$B46,'Detailed price list'!$M$5:$M$237)=0,0,\nSUMPRODUCT(('Detailed price list'!F$5:F$237)*('Detailed price list'!$M$5:$M$237)*('Detailed price list'!$L$5:$L$237=$B46))/SUMIF('Detailed price list'!$L$5:$L$237,$B46,'Detailed price list'!$M$5:$M$237))","v":35.592693133846822},{"$f":"IF(SUMIF('Detailed price list'!$L$5:$L$237,$B46,'Detailed price list'!$M$5:$M$237)=0,0,\nSUMPRODUCT(('Detailed price list'!G$5:G$237)*('Detailed price list'!$M$5:$M$237)*('Detailed price list'!$L$5:$L$237=$B46))/SUMIF('Detailed price list'!$L$5:$L$237,$B46,'Detailed price list'!$M$5:$M$237))","v":36.615861427364123},{"$f":"IF(SUMIF('Detailed price list'!$L$5:$L$237,$B46,'Detailed price list'!$M$5:$M$237)=0,0,\nSUMPRODUCT(('Detailed price list'!H$5:H$237)*('Detailed price list'!$M$5:$M$237)*('Detailed price list'!$L$5:$L$237=$B46))/SUMIF('Detailed price list'!$L$5:$L$237,$B46,'Detailed price list'!$M$5:$M$237))","v":37.668442312755914}]
[null,"Luminaire - Minor (Cat P) road",{"$f":"IF(SUMIF('Detailed price list'!$L$5:$L$237,$B47,'Detailed price list'!$M$5:$M$237)=0,0,\nSUMPRODUCT(('Detailed price list'!D$5:D$237)*('Detailed price list'!$M$5:$M$237)*('Detailed price list'!$L$5:$L$237=$B47))/SUMIF('Detailed price list'!$L$5:$L$237,$B47,'Detailed price list'!$M$5:$M$237))","v":23.443335396588658},{"$f":"IF(SUMIF('Detailed price list'!$L$5:$L$237,$B47,'Detailed price list'!$M$5:$M$237)=0,0,\nSUMPRODUCT(('Detailed price list'!E$5:E$237)*('Detailed price list'!$M$5:$M$237)*('Detailed price list'!$L$5:$L$237=$B47))/SUMIF('Detailed price list'!$L$5:$L$237,$B47,'Detailed price list'!$M$5:$M$237))","v":24.117251174242242},{"$f":"IF(SUMIF('Detailed price list'!$L$5:$L$237,$B47,'Detailed price list'!$M$5:$M$237)=0,0,\nSUMPRODUCT(('Detailed price list'!F$5:F$237)*('Detailed price list'!$M$5:$M$237)*('Detailed price list'!$L$5:$L$237=$B47))/SUMIF('Detailed price list'!$L$5:$L$237,$B47,'Detailed price list'!$M$5:$M$237))","v":24.810539727470935},{"$f":"IF(SUMIF('Detailed price list'!$L$5:$L$237,$B47,'Detailed price list'!$M$5:$M$237)=0,0,\nSUMPRODUCT(('Detailed price list'!G$5:G$237)*('Detailed price list'!$M$5:$M$237)*('Detailed price list'!$L$5:$L$237=$B47))/SUMIF('Detailed price list'!$L$5:$L$237,$B47,'Detailed price list'!$M$5:$M$237))","v":25.523757957368232},{"$f":"IF(SUMIF('Detailed price list'!$L$5:$L$237,$B47,'Detailed price list'!$M$5:$M$237)=0,0,\nSUMPRODUCT(('Detailed price list'!H$5:H$237)*('Detailed price list'!$M$5:$M$237)*('Detailed price list'!$L$5:$L$237=$B47))/SUMIF('Detailed price list'!$L$5:$L$237,$B47,'Detailed price list'!$M$5:$M$237))","v":26.257478774030893}]
[null,"Luminaire - Major (Cat V) road",{"$f":"IF(SUMIF('Detailed price list'!$L$5:$L$237,$B48,'Detailed price list'!$M$5:$M$237)=0,0,\nSUMPRODUCT(('Detailed price list'!D$5:D$237)*('Detailed price list'!$M$5:$M$237)*('Detailed price list'!$L$5:$L$237=$B48))/SUMIF('Detailed price list'!$L$5:$L$237,$B48,'Detailed price list'!$M$5:$M$237))","v":31.940827448003311},{"$f":"IF(SUMIF('Detailed price list'!$L$5:$L$237,$B48,'Detailed price list'!$M$5:$M$237)=0,0,\nSUMPRODUCT(('Detailed price list'!E$5:E$237)*('Detailed price list'!$M$5:$M$237)*('Detailed price list'!$L$5:$L$237=$B48))/SUMIF('Detailed price list'!$L$5:$L$237,$B48,'Detailed price list'!$M$5:$M$237))","v":32.859017082898532},{"$f":"IF(SUMIF('Detailed price list'!$L$5:$L$237,$B48,'Detailed price list'!$M$5:$M$237)=0,0,\nSUMPRODUCT(('Detailed price list'!F$5:F$237)*('Detailed price list'!$M$5:$M$237)*('Detailed price list'!$L$5:$L$237=$B48))/SUMIF('Detailed price list'!$L$5:$L$237,$B48,'Detailed price list'!$M$5:$M$237))","v":33.803601531985763},{"$f":"IF(SUMIF('Detailed price list'!$L$5:$L$237,$B48,'Detailed price list'!$M$5:$M$237)=0,0,\nSUMPRODUCT(('Detailed price list'!G$5:G$237)*('Detailed price list'!$M$5:$M$237)*('Detailed price list'!$L$5:$L$237=$B48))/SUMIF('Detailed price list'!$L$5:$L$237,$B48,'Detailed price list'!$M$5:$M$237))","v":34.775339555971669},{"$f":"IF(SUMIF('Detailed price list'!$L$5:$L$237,$B48,'Detailed price list'!$M$5:$M$237)=0,0,\nSUMPRODUCT(('Detailed price list'!H$5:H$237)*('Detailed price list'!$M$5:$M$237)*('Detailed price list'!$L$5:$L$237=$B48))/SUMIF('Detailed price list'!$L$5:$L$237,$B48,'Detailed price list'!$M$5:$M$237))","v":35.775011727340264}]
[null,"Luminaire - Minor (Cat P) road",{"$f":"IF(SUMIF('Detailed price list'!$L$5:$L$237,$B49,'Detailed price list'!$M$5:$M$237)=0,0,\nSUMPRODUCT(('Detailed price list'!D$5:D$237)*('Detailed price list'!$M$5:$M$237)*('Detailed price list'!$L$5:$L$237=$B49))/SUMIF('Detailed price list'!$L$5:$L$237,$B49,'Detailed price list'!$M$5:$M$237))","v":23.443335396588658},{"$f":"IF(SUMIF('Detailed price list'!$L$5:$L$237,$B49,'Detailed price list'!$M$5:$M$237)=0,0,\nSUMPRODUCT(('Detailed price list'!E$5:E$237)*('Detailed price list'!$M$5:$M$237)*('Detailed price list'!$L$5:$L$237=$B49))/SUMIF('Detailed price list'!$L$5:$L$237,$B49,'Detailed price list'!$M$5:$M$237))","v":24.117251174242242},{"$f":"IF(SUMIF('Detailed price list'!$L$5:$L$237,$B49,'Detailed price list'!$M$5:$M$237)=0,0,\nSUMPRODUCT(('Detailed price list'!F$5:F$237)*('Detailed price list'!$M$5:$M$237)*('Detailed price list'!$L$5:$L$237=$B49))/SUMIF('Detailed price list'!$L$5:$L$237,$B49,'Detailed price list'!$M$5:$M$237))","v":24.810539727470935},{"$f":"IF(SUMIF('Detailed price list'!$L$5:$L$237,$B49,'Detailed price list'!$M$5:$M$237)=0,0,\nSUMPRODUCT(('Detailed price list'!G$5:G$237)*('Detailed price list'!$M$5:$M$237)*('Detailed price list'!$L$5:$L$237=$B49))/SUMIF('Detailed price list'!$L$5:$L$237,$B49,'Detailed price list'!$M$5:$M$237))","v":25.523757957368232},{"$f":"IF(SUMIF('Detailed price list'!$L$5:$L$237,$B49,'Detailed price list'!$M$5:$M$237)=0,0,\nSUMPRODUCT(('Detailed price list'!H$5:H$237)*('Detailed price list'!$M$5:$M$237)*('Detailed price list'!$L$5:$L$237=$B49))/SUMIF('Detailed price list'!$L$5:$L$237,$B49,'Detailed price list'!$M$5:$M$237))","v":26.257478774030893}]
[null,"Luminaire - Major (Cat V) road",{"$f":"IF(SUMIF('Detailed price list'!$L$5:$L$237,$B50,'Detailed price list'!$M$5:$M$237)=0,0,\nSUMPRODUCT(('Detailed price list'!D$5:D$237)*('Detailed price list'!$M$5:$M$237)*('Detailed price list'!$L$5:$L$237=$B50))/SUMIF('Detailed price list'!$L$5:$L$237,$B50,'Detailed price list'!$M$5:$M$237))","v":31.940827448003311},{"$f":"IF(SUMIF('Detailed price list'!$L$5:$L$237,$B50,'Detailed price list'!$M$5:$M$237)=0,0,\nSUMPRODUCT(('Detailed price list'!E$5:E$237)*('Detailed price list'!$M$5:$M$237)*('Detailed price list'!$L$5:$L$237=$B50))/SUMIF('Detailed price list'!$L$5:$L$237,$B50,'Detailed price list'!$M$5:$M$237))","v":32.859017082898532},{"$f":"IF(SUMIF('Detailed price list'!$L$5:$L$237,$B50,'Detailed price list'!$M$5:$M$237)=0,0,\nSUMPRODUCT(('Detailed price list'!F$5:F$237)*('Detailed price list'!$M$5:$M$237)*('Detailed price list'!$L$5:$L$237=$B50))/SUMIF('Detailed price list'!$L$5:$L$237,$B50,'Detailed price list'!$M$5:$M$237))","v":33.803601531985763},{"$f":"IF(SUMIF('Detailed price list'!$L$5:$L$237,$B50,'Detailed price list'!$M$5:$M$237)=0,0,\nSUMPRODUCT(('Detailed price list'!G$5:G$237)*('Detailed price list'!$M$5:$M$237)*('Detailed price list'!$L$5:$L$237=$B50))/SUMIF('Detailed price list'!$L$5:$L$237,$B50,'Detailed price list'!$M$5:$M$237))","v":34.775339555971669},{"$f":"IF(SUMIF('Detailed price list'!$L$5:$L$237,$B50,'Detailed price list'!$M$5:$M$237)=0,0,\nSUMPRODUCT(('Detailed price list'!H$5:H$237)*('Detailed price list'!$M$5:$M$237)*('Detailed price list'!$L$5:$L$237=$B50))/SUMIF('Detailed price list'!$L$5:$L$237,$B50,'Detailed price list'!$M$5:$M$237))","v":35.775011727340264}]
[null,"Luminaire - Minor (Cat P) road",{"$f":"IF(SUMIF('Detailed price list'!$L$5:$L$237,$B51,'Detailed price list'!$M$5:$M$237)=0,0,\nSUMPRODUCT(('Detailed price list'!D$5:D$237)*('Detailed price list'!$M$5:$M$237)*('Detailed price list'!$L$5:$L$237=$B51))/SUMIF('Detailed price list'!$L$5:$L$237,$B51,'Detailed price list'!$M$5:$M$237))","v":23.443335396588658},{"$f":"IF(SUMIF('Detailed price list'!$L$5:$L$237,$B51,'Detailed price list'!$M$5:$M$237)=0,0,\nSUMPRODUCT(('Detailed price list'!E$5:E$237)*('Detailed price list'!$M$5:$M$237)*('Detailed price list'!$L$5:$L$237=$B51))/SUMIF('Detailed price list'!$L$5:$L$237,$B51,'Detailed price list'!$M$5:$M$237))","v":24.117251174242242},{"$f":"IF(SUMIF('Detailed price list'!$L$5:$L$237,$B51,'Detailed price list'!$M$5:$M$237)=0,0,\nSUMPRODUCT(('Detailed price list'!F$5:F$237)*('Detailed price list'!$M$5:$M$237)*('Detailed price list'!$L$5:$L$237=$B51))/SUMIF('Detailed price list'!$L$5:$L$237,$B51,'Detailed price list'!$M$5:$M$237))","v":24.810539727470935},{"$f":"IF(SUMIF('Detailed price list'!$L$5:$L$237,$B51,'Detailed price list'!$M$5:$M$237)=0,0,\nSUMPRODUCT(('Detailed price list'!G$5:G$237)*('Detailed price list'!$M$5:$M$237)*('Detailed price list'!$L$5:$L$237=$B51))/SUMIF('Detailed price list'!$L$5:$L$237,$B51,'Detailed price list'!$M$5:$M$237))","v":25.523757957368232},{"$f":"IF(SUMIF('Detailed price list'!$L$5:$L$237,$B51,'Detailed price list'!$M$5:$M$237)=0,0,\nSUMPRODUCT(('Detailed price list'!H$5:H$237)*('Detailed price list'!$M$5:$M$237)*('Detailed price list'!$L$5:$L$237=$B51))/SUMIF('Detailed price list'!$L$5:$L$237,$B51,'Detailed price list'!$M$5:$M$237))","v":26.257478774030893}]
[null,"Luminaire - Minor (Cat P) road",{"$f":"IF(SUMIF('Detailed price list'!$L$5:$L$237,$B52,'Detailed price list'!$M$5:$M$237)=0,0,\nSUMPRODUCT(('Detailed price list'!D$5:D$237)*('Detailed price list'!$M$5:$M$237)*('Detailed price list'!$L$5:$L$237=$B52))/SUMIF('Detailed price list'!$L$5:$L$237,$B52,'Detailed price list'!$M$5:$M$237))","v":23.443335396588658},{"$f":"IF(SUMIF('Detailed price list'!$L$5:$L$237,$B52,'Detailed price list'!$M$5:$M$237)=0,0,\nSUMPRODUCT(('Detailed price list'!E$5:E$237)*('Detailed price list'!$M$5:$M$237)*('Detailed price list'!$L$5:$L$237=$B52))/SUMIF('Detailed price list'!$L$5:$L$237,$B52,'Detailed price list'!$M$5:$M$237))","v":24.117251174242242},{"$f":"IF(SUMIF('Detailed price list'!$L$5:$L$237,$B52,'Detailed price list'!$M$5:$M$237)=0,0,\nSUMPRODUCT(('Detailed price list'!F$5:F$237)*('Detailed price list'!$M$5:$M$237)*('Detailed price list'!$L$5:$L$237=$B52))/SUMIF('Detailed price list'!$L$5:$L$237,$B52,'Detailed price list'!$M$5:$M$237))","v":24.810539727470935},{"$f":"IF(SUMIF('Detailed price list'!$L$5:$L$237,$B52,'Detailed price list'!$M$5:$M$237)=0,0,\nSUMPRODUCT(('Detailed price list'!G$5:G$237)*('Detailed price list'!$M$5:$M$237)*('Detailed price list'!$L$5:$L$237=$B52))/SUMIF('Detailed price list'!$L$5:$L$237,$B52,'Detailed price list'!$M$5:$M$237))","v":25.523757957368232},{"$f":"IF(SUMIF('Detailed price list'!$L$5:$L$237,$B52,'Detailed price list'!$M$5:$M$237)=0,0,\nSUMPRODUCT(('Detailed price list'!H$5:H$237)*('Detailed price list'!$M$5:$M$237)*('Detailed price list'!$L$5:$L$237=$B52))/SUMIF('Detailed price list'!$L$5:$L$237,$B52,'Detailed price list'!$M$5:$M$237))","v":26.257478774030893}]
[null,"Luminaire - Minor (Cat P) road",{"$f":"IF(SUMIF('Detailed price list'!$L$5:$L$237,$B53,'Detailed price list'!$M$5:$M$237)=0,0,\nSUMPRODUCT(('Detailed price list'!D$5:D$237)*('Detailed price list'!$M$5:$M$237)*('Detailed price list'!$L$5:$L$237=$B53))/SUMIF('Detailed price list'!$L$5:$L$237,$B53,'Detailed price list'!$M$5:$M$237))","v":23.443335396588658},{"$f":"IF(SUMIF('Detailed price list'!$L$5:$L$237,$B53,'Detailed price list'!$M$5:$M$237)=0,0,\nSUMPRODUCT(('Detailed price list'!E$5:E$237)*('Detailed price list'!$M$5:$M$237)*('Detailed price list'!$L$5:$L$237=$B53))/SUMIF('Detailed price list'!$L$5:$L$237,$B53,'Detailed price list'!$M$5:$M$237))","v":24.117251174242242},{"$f":"IF(SUMIF('Detailed price list'!$L$5:$L$237,$B53,'Detailed price list'!$M$5:$M$237)=0,0,\nSUMPRODUCT(('Detailed price list'!F$5:F$237)*('Detailed price list'!$M$5:$M$237)*('Detailed price list'!$L$5:$L$237=$B53))/SUMIF('Detailed price list'!$L$5:$L$237,$B53,'Detailed price list'!$M$5:$M$237))","v":24.810539727470935},{"$f":"IF(SUMIF('Detailed price list'!$L$5:$L$237,$B53,'Detailed price list'!$M$5:$M$237)=0,0,\nSUMPRODUCT(('Detailed price list'!G$5:G$237)*('Detailed price list'!$M$5:$M$237)*('Detailed price list'!$L$5:$L$237=$B53))/SUMIF('Detailed price list'!$L$5:$L$237,$B53,'Detailed price list'!$M$5:$M$237))","v":25.523757957368232},{"$f":"IF(SUMIF('Detailed price list'!$L$5:$L$237,$B53,'Detailed price list'!$M$5:$M$237)=0,0,\nSUMPRODUCT(('Detailed price list'!H$5:H$237)*('Detailed price list'!$M$5:$M$237)*('Detailed price list'!$L$5:$L$237=$B53))/SUMIF('Detailed price list'!$L$5:$L$237,$B53,'Detailed price list'!$M$5:$M$237))","v":26.257478774030893}]
[null,"Luminaire - Minor (Cat P) road",{"$f":"IF(SUMIF('Detailed price list'!$L$5:$L$237,$B54,'Detailed price list'!$M$5:$M$237)=0,0,\nSUMPRODUCT(('Detailed price list'!D$5:D$237)*('Detailed price list'!$M$5:$M$237)*('Detailed price list'!$L$5:$L$237=$B54))/SUMIF('Detailed price list'!$L$5:$L$237,$B54,'Detailed price list'!$M$5:$M$237))","v":23.443335396588658},{"$f":"IF(SUMIF('Detailed price list'!$L$5:$L$237,$B54,'Detailed price list'!$M$5:$M$237)=0,0,\nSUMPRODUCT(('Detailed price list'!E$5:E$237)*('Detailed price list'!$M$5:$M$237)*('Detailed price list'!$L$5:$L$237=$B54))/SUMIF('Detailed price list'!$L$5:$L$237,$B54,'Detailed price list'!$M$5:$M$237))","v":24.117251174242242},{"$f":"IF(SUMIF('Detailed price list'!$L$5:$L$237,$B54,'Detailed price list'!$M$5:$M$237)=0,0,\nSUMPRODUCT(('Detailed price list'!F$5:F$237)*('Detailed price list'!$M$5:$M$237)*('Detailed price list'!$L$5:$L$237=$B54))/SUMIF('Detailed price list'!$L$5:$L$237,$B54,'Detailed price list'!$M$5:$M$237))","v":24.810539727470935},{"$f":"IF(SUMIF('Detailed price list'!$L$5:$L$237,$B54,'Detailed price list'!$M$5:$M$237)=0,0,\nSUMPRODUCT(('Detailed price list'!G$5:G$237)*('Detailed price list'!$M$5:$M$237)*('Detailed price list'!$L$5:$L$237=$B54))/SUMIF('Detailed price list'!$L$5:$L$237,$B54,'Detailed price list'!$M$5:$M$237))","v":25.523757957368232},{"$f":"IF(SUMIF('Detailed price list'!$L$5:$L$237,$B54,'Detailed price list'!$M$5:$M$237)=0,0,\nSUMPRODUCT(('Detailed price list'!H$5:H$237)*('Detailed price list'!$M$5:$M$237)*('Detailed price list'!$L$5:$L$237=$B54))/SUMIF('Detailed price list'!$L$5:$L$237,$B54,'Detailed price list'!$M$5:$M$237))","v":26.257478774030893}]
[null,"Luminaire - Major (Cat V) road",{"$f":"IF(SUMIF('Detailed price list'!$L$5:$L$237,$B55,'Detailed price list'!$M$5:$M$237)=0,0,\nSUMPRODUCT(('Detailed price list'!D$5:D$237)*('Detailed price list'!$M$5:$M$237)*('Detailed price list'!$L$5:$L$237=$B55))/SUMIF('Detailed price list'!$L$5:$L$237,$B55,'Detailed price list'!$M$5:$M$237))","v":31.940827448003311},{"$f":"IF(SUMIF('Detailed price list'!$L$5:$L$237,$B55,'Detailed price list'!$M$5:$M$237)=0,0,\nSUMPRODUCT(('Detailed price list'!E$5:E$237)*('Detailed price list'!$M$5:$M$237)*('Detailed price list'!$L$5:$L$237=$B55))/SUMIF('Detailed price list'!$L$5:$L$237,$B55,'Detailed price list'!$M$5:$M$237))","v":32.859017082898532},{"$f":"IF(SUMIF('Detailed price list'!$L$5:$L$237,$B55,'Detailed price list'!$M$5:$M$237)=0,0,\nSUMPRODUCT(('Detailed price list'!F$5:F$237)*('Detailed price list'!$M$5:$M$237)*('Detailed price list'!$L$5:$L$237=$B55))/SUMIF('Detailed price list'!$L$5:$L$237,$B55,'Detailed price list'!$M$5:$M$237))","v":33.803601531985763},{"$f":"IF(SUMIF('Detailed price list'!$L$5:$L$237,$B55,'Detailed price list'!$M$5:$M$237)=0,0,\nSUMPRODUCT(('Detailed price list'!G$5:G$237)*('Detailed price list'!$M$5:$M$237)*('Detailed price list'!$L$5:$L$237=$B55))/SUMIF('Detailed price list'!$L$5:$L$237,$B55,'Detailed price list'!$M$5:$M$237))","v":34.775339555971669},{"$f":"IF(SUMIF('Detailed price list'!$L$5:$L$237,$B55,'Detailed price list'!$M$5:$M$237)=0,0,\nSUMPRODUCT(('Detailed price list'!H$5:H$237)*('Detailed price list'!$M$5:$M$237)*('Detailed price list'!$L$5:$L$237=$B55))/SUMIF('Detailed price list'!$L$5:$L$237,$B55,'Detailed price list'!$M$5:$M$237))","v":35.775011727340264}]
[null,"Luminaire - Minor (Cat P) road",{"$f":"IF(SUMIF('Detailed price list'!$L$5:$L$237,$B56,'Detailed price list'!$M$5:$M$237)=0,0,\nSUMPRODUCT(('Detailed price list'!D$5:D$237)*('Detailed price list'!$M$5:$M$237)*('Detailed price list'!$L$5:$L$237=$B56))/SUMIF('Detailed price list'!$L$5:$L$237,$B56,'Detailed price list'!$M$5:$M$237))","v":23.443335396588658},{"$f":"IF(SUMIF('Detailed price list'!$L$5:$L$237,$B56,'Detailed price list'!$M$5:$M$237)=0,0,\nSUMPRODUCT(('Detailed price list'!E$5:E$237)*('Detailed price list'!$M$5:$M$237)*('Detailed price list'!$L$5:$L$237=$B56))/SUMIF('Detailed price list'!$L$5:$L$237,$B56,'Detailed price list'!$M$5:$M$237))","v":24.117251174242242},{"$f":"IF(SUMIF('Detailed price list'!$L$5:$L$237,$B56,'Detailed price list'!$M$5:$M$237)=0,0,\nSUMPRODUCT(('Detailed price list'!F$5:F$237)*('Detailed price list'!$M$5:$M$237)*('Detailed price list'!$L$5:$L$237=$B56))/SUMIF('Detailed price list'!$L$5:$L$237,$B56,'Detailed price list'!$M$5:$M$237))","v":24.810539727470935},{"$f":"IF(SUMIF('Detailed price list'!$L$5:$L$237,$B56,'Detailed price list'!$M$5:$M$237)=0,0,\nSUMPRODUCT(('Detailed price list'!G$5:G$237)*('Detailed price list'!$M$5:$M$237)*('Detailed price list'!$L$5:$L$237=$B56))/SUMIF('Detailed price list'!$L$5:$L$237,$B56,'Detailed price list'!$M$5:$M$237))","v":25.523757957368232},{"$f":"IF(SUMIF('Detailed price list'!$L$5:$L$237,$B56,'Detailed price list'!$M$5:$M$237)=0,0,\nSUMPRODUCT(('Detailed price list'!H$5:H$237)*('Detailed price list'!$M$5:$M$237)*('Detailed price list'!$L$5:$L$237=$B56))/SUMIF('Detailed price list'!$L$5:$L$237,$B56,'Detailed price list'!$M$5:$M$237))","v":26.257478774030893}]
[null,"Luminaire - Minor (Cat P) road",{"$f":"IF(SUMIF('Detailed price list'!$L$5:$L$237,$B57,'Detailed price list'!$M$5:$M$237)=0,0,\nSUMPRODUCT(('Detailed price list'!D$5:D$237)*('Detailed price list'!$M$5:$M$237)*('Detailed price list'!$L$5:$L$237=$B57))/SUMIF('Detailed price list'!$L$5:$L$237,$B57,'Detailed price list'!$M$5:$M$237))","v":23.443335396588658},{"$f":"IF(SUMIF('Detailed price list'!$L$5:$L$237,$B57,'Detailed price list'!$M$5:$M$237)=0,0,\nSUMPRODUCT(('Detailed price list'!E$5:E$237)*('Detailed price list'!$M$5:$M$237)*('Detailed price list'!$L$5:$L$237=$B57))/SUMIF('Detailed price list'!$L$5:$L$237,$B57,'Detailed price list'!$M$5:$M$237))","v":24.117251174242242},{"$f":"IF(SUMIF('Detailed price list'!$L$5:$L$237,$B57,'Detailed price list'!$M$5:$M$237)=0,0,\nSUMPRODUCT(('Detailed price list'!F$5:F$237)*('Detailed price list'!$M$5:$M$237)*('Detailed price list'!$L$5:$L$237=$B57))/SUMIF('Detailed price list'!$L$5:$L$237,$B57,'Detailed price list'!$M$5:$M$237))","v":24.810539727470935},{"$f":"IF(SUMIF('Detailed price list'!$L$5:$L$237,$B57,'Detailed price list'!$M$5:$M$237)=0,0,\nSUMPRODUCT(('Detailed price list'!G$5:G$237)*('Detailed price list'!$M$5:$M$237)*('Detailed price list'!$L$5:$L$237=$B57))/SUMIF('Detailed price list'!$L$5:$L$237,$B57,'Detailed price list'!$M$5:$M$237))","v":25.523757957368232},{"$f":"IF(SUMIF('Detailed price list'!$L$5:$L$237,$B57,'Detailed price list'!$M$5:$M$237)=0,0,\nSUMPRODUCT(('Detailed price list'!H$5:H$237)*('Detailed price list'!$M$5:$M$237)*('Detailed price list'!$L$5:$L$237=$B57))/SUMIF('Detailed price list'!$L$5:$L$237,$B57,'Detailed price list'!$M$5:$M$237))","v":26.257478774030893}]
[null,"Smart Controller - Licence and maintenance fee",{"$f":"IF(SUMIF('Detailed price list'!$L$5:$L$237,$B58,'Detailed price list'!$M$5:$M$237)=0,0,\nSUMPRODUCT(('Detailed price list'!D$5:D$237)*('Detailed price list'!$M$5:$M$237)*('Detailed price list'!$L$5:$L$237=$B58))/SUMIF('Detailed price list'!$L$5:$L$237,$B58,'Detailed price list'!$M$5:$M$237))","v":5.9196192287323921},{"$f":"IF(SUMIF('Detailed price list'!$L$5:$L$237,$B58,'Detailed price list'!$M$5:$M$237)=0,0,\nSUMPRODUCT(('Detailed price list'!E$5:E$237)*('Detailed price list'!$M$5:$M$237)*('Detailed price list'!$L$5:$L$237=$B58))/SUMIF('Detailed price list'!$L$5:$L$237,$B58,'Detailed price list'!$M$5:$M$237))","v":6.0897880519163481},{"$f":"IF(SUMIF('Detailed price list'!$L$5:$L$237,$B58,'Detailed price list'!$M$5:$M$237)=0,0,\nSUMPRODUCT(('Detailed price list'!F$5:F$237)*('Detailed price list'!$M$5:$M$237)*('Detailed price list'!$L$5:$L$237=$B58))/SUMIF('Detailed price list'!$L$5:$L$237,$B58,'Detailed price list'!$M$5:$M$237))","v":6.264848647233765},{"$f":"IF(SUMIF('Detailed price list'!$L$5:$L$237,$B58,'Detailed price list'!$M$5:$M$237)=0,0,\nSUMPRODUCT(('Detailed price list'!G$5:G$237)*('Detailed price list'!$M$5:$M$237)*('Detailed price list'!$L$5:$L$237=$B58))/SUMIF('Detailed price list'!$L$5:$L$237,$B58,'Detailed price list'!$M$5:$M$237))","v":6.4449416364163916},{"$f":"IF(SUMIF('Detailed price list'!$L$5:$L$237,$B58,'Detailed price list'!$M$5:$M$237)=0,0,\nSUMPRODUCT(('Detailed price list'!H$5:H$237)*('Detailed price list'!$M$5:$M$237)*('Detailed price list'!$L$5:$L$237=$B58))/SUMIF('Detailed price list'!$L$5:$L$237,$B58,'Detailed price list'!$M$5:$M$237))","v":6.6302116835902041}]
[null,"Luminaire - Decorative ",{"$f":"IF(SUMIF('Detailed price list'!$L$5:$L$237,$B59,'Detailed price list'!$M$5:$M$237)=0,0,\nSUMPRODUCT(('Detailed price list'!D$5:D$237)*('Detailed price list'!$M$5:$M$237)*('Detailed price list'!$L$5:$L$237=$B59))/SUMIF('Detailed price list'!$L$5:$L$237,$B59,'Detailed price list'!$M$5:$M$237))","v":0},{"$f":"IF(SUMIF('Detailed price list'!$L$5:$L$237,$B59,'Detailed price list'!$M$5:$M$237)=0,0,\nSUMPRODUCT(('Detailed price list'!E$5:E$237)*('Detailed price list'!$M$5:$M$237)*('Detailed price list'!$L$5:$L$237=$B59))/SUMIF('Detailed price list'!$L$5:$L$237,$B59,'Detailed price list'!$M$5:$M$237))","v":0},{"$f":"IF(SUMIF('Detailed price list'!$L$5:$L$237,$B59,'Detailed price list'!$M$5:$M$237)=0,0,\nSUMPRODUCT(('Detailed price list'!F$5:F$237)*('Detailed price list'!$M$5:$M$237)*('Detailed price list'!$L$5:$L$237=$B59))/SUMIF('Detailed price list'!$L$5:$L$237,$B59,'Detailed price list'!$M$5:$M$237))","v":0},{"$f":"IF(SUMIF('Detailed price list'!$L$5:$L$237,$B59,'Detailed price list'!$M$5:$M$237)=0,0,\nSUMPRODUCT(('Detailed price list'!G$5:G$237)*('Detailed price list'!$M$5:$M$237)*('Detailed price list'!$L$5:$L$237=$B59))/SUMIF('Detailed price list'!$L$5:$L$237,$B59,'Detailed price list'!$M$5:$M$237))","v":0},{"$f":"IF(SUMIF('Detailed price list'!$L$5:$L$237,$B59,'Detailed price list'!$M$5:$M$237)=0,0,\nSUMPRODUCT(('Detailed price list'!H$5:H$237)*('Detailed price list'!$M$5:$M$237)*('Detailed price list'!$L$5:$L$237=$B59))/SUMIF('Detailed price list'!$L$5:$L$237,$B59,'Detailed price list'!$M$5:$M$237))","v":0}]
[null,"Luminaire - Floodlight",{"$f":"IF(SUMIF('Detailed price list'!$L$5:$L$237,$B60,'Detailed price list'!$M$5:$M$237)=0,0,\nSUMPRODUCT(('Detailed price list'!D$5:D$237)*('Detailed price list'!$M$5:$M$237)*('Detailed price list'!$L$5:$L$237=$B60))/SUMIF('Detailed price list'!$L$5:$L$237,$B60,'Detailed price list'!$M$5:$M$237))","v":0},{"$f":"IF(SUMIF('Detailed price list'!$L$5:$L$237,$B60,'Detailed price list'!$M$5:$M$237)=0,0,\nSUMPRODUCT(('Detailed price list'!E$5:E$237)*('Detailed price list'!$M$5:$M$237)*('Detailed price list'!$L$5:$L$237=$B60))/SUMIF('Detailed price list'!$L$5:$L$237,$B60,'Detailed price list'!$M$5:$M$237))","v":0},{"$f":"IF(SUMIF('Detailed price list'!$L$5:$L$237,$B60,'Detailed price list'!$M$5:$M$237)=0,0,\nSUMPRODUCT(('Detailed price list'!F$5:F$237)*('Detailed price list'!$M$5:$M$237)*('Detailed price list'!$L$5:$L$237=$B60))/SUMIF('Detailed price list'!$L$5:$L$237,$B60,'Detailed price list'!$M$5:$M$237))","v":0},{"$f":"IF(SUMIF('Detailed price list'!$L$5:$L$237,$B60,'Detailed price list'!$M$5:$M$237)=0,0,\nSUMPRODUCT(('Detailed price list'!G$5:G$237)*('Detailed price list'!$M$5:$M$237)*('Detailed price list'!$L$5:$L$237=$B60))/SUMIF('Detailed price list'!$L$5:$L$237,$B60,'Detailed price list'!$M$5:$M$237))","v":0},{"$f":"IF(SUMIF('Detailed price list'!$L$5:$L$237,$B60,'Detailed price list'!$M$5:$M$237)=0,0,\nSUMPRODUCT(('Detailed price list'!H$5:H$237)*('Detailed price list'!$M$5:$M$237)*('Detailed price list'!$L$5:$L$237=$B60))/SUMIF('Detailed price list'!$L$5:$L$237,$B60,'Detailed price list'!$M$5:$M$237))","v":0}]
[null,"Luminaire - Major (Cat V) road - smart controller installed",{"$f":"IF(SUMIF('Detailed price list'!$L$5:$L$237,$B61,'Detailed price list'!$M$5:$M$237)=0,0,\nSUMPRODUCT(('Detailed price list'!D$5:D$237)*('Detailed price list'!$M$5:$M$237)*('Detailed price list'!$L$5:$L$237=$B61))/SUMIF('Detailed price list'!$L$5:$L$237,$B61,'Detailed price list'!$M$5:$M$237))","v":22.618269402628378},{"$f":"IF(SUMIF('Detailed price list'!$L$5:$L$237,$B61,'Detailed price list'!$M$5:$M$237)=0,0,\nSUMPRODUCT(('Detailed price list'!E$5:E$237)*('Detailed price list'!$M$5:$M$237)*('Detailed price list'!$L$5:$L$237=$B61))/SUMIF('Detailed price list'!$L$5:$L$237,$B61,'Detailed price list'!$M$5:$M$237))","v":23.268467352527118},{"$f":"IF(SUMIF('Detailed price list'!$L$5:$L$237,$B61,'Detailed price list'!$M$5:$M$237)=0,0,\nSUMPRODUCT(('Detailed price list'!F$5:F$237)*('Detailed price list'!$M$5:$M$237)*('Detailed price list'!$L$5:$L$237=$B61))/SUMIF('Detailed price list'!$L$5:$L$237,$B61,'Detailed price list'!$M$5:$M$237))","v":23.937356271506072},{"$f":"IF(SUMIF('Detailed price list'!$L$5:$L$237,$B61,'Detailed price list'!$M$5:$M$237)=0,0,\nSUMPRODUCT(('Detailed price list'!G$5:G$237)*('Detailed price list'!$M$5:$M$237)*('Detailed price list'!$L$5:$L$237=$B61))/SUMIF('Detailed price list'!$L$5:$L$237,$B61,'Detailed price list'!$M$5:$M$237))","v":24.625473461051985},{"$f":"IF(SUMIF('Detailed price list'!$L$5:$L$237,$B61,'Detailed price list'!$M$5:$M$237)=0,0,\nSUMPRODUCT(('Detailed price list'!H$5:H$237)*('Detailed price list'!$M$5:$M$237)*('Detailed price list'!$L$5:$L$237=$B61))/SUMIF('Detailed price list'!$L$5:$L$237,$B61,'Detailed price list'!$M$5:$M$237))","v":25.333371668233177}]
[null,"Luminaire - Minor (Cat P) road - smart controller installed",{"$f":"IF(SUMIF('Detailed price list'!$L$5:$L$237,$B62,'Detailed price list'!$M$5:$M$237)=0,0,\nSUMPRODUCT(('Detailed price list'!D$5:D$237)*('Detailed price list'!$M$5:$M$237)*('Detailed price list'!$L$5:$L$237=$B62))/SUMIF('Detailed price list'!$L$5:$L$237,$B62,'Detailed price list'!$M$5:$M$237))","v":18.12991292364439},{"$f":"IF(SUMIF('Detailed price list'!$L$5:$L$237,$B62,'Detailed price list'!$M$5:$M$237)=0,0,\nSUMPRODUCT(('Detailed price list'!E$5:E$237)*('Detailed price list'!$M$5:$M$237)*('Detailed price list'!$L$5:$L$237=$B62))/SUMIF('Detailed price list'!$L$5:$L$237,$B62,'Detailed price list'!$M$5:$M$237))","v":18.651085963232749},{"$f":"IF(SUMIF('Detailed price list'!$L$5:$L$237,$B62,'Detailed price list'!$M$5:$M$237)=0,0,\nSUMPRODUCT(('Detailed price list'!F$5:F$237)*('Detailed price list'!$M$5:$M$237)*('Detailed price list'!$L$5:$L$237=$B62))/SUMIF('Detailed price list'!$L$5:$L$237,$B62,'Detailed price list'!$M$5:$M$237))","v":19.187240946658221},{"$f":"IF(SUMIF('Detailed price list'!$L$5:$L$237,$B62,'Detailed price list'!$M$5:$M$237)=0,0,\nSUMPRODUCT(('Detailed price list'!G$5:G$237)*('Detailed price list'!$M$5:$M$237)*('Detailed price list'!$L$5:$L$237=$B62))/SUMIF('Detailed price list'!$L$5:$L$237,$B62,'Detailed price list'!$M$5:$M$237))","v":19.738808553606994},{"$f":"IF(SUMIF('Detailed price list'!$L$5:$L$237,$B62,'Detailed price list'!$M$5:$M$237)=0,0,\nSUMPRODUCT(('Detailed price list'!H$5:H$237)*('Detailed price list'!$M$5:$M$237)*('Detailed price list'!$L$5:$L$237=$B62))/SUMIF('Detailed price list'!$L$5:$L$237,$B62,'Detailed price list'!$M$5:$M$237))","v":20.30623184433442}]
[null,"Luminaire - Floodlight - smart controller installed",{"$f":"IF(SUMIF('Detailed price list'!$L$5:$L$237,$B63,'Detailed price list'!$M$5:$M$237)=0,0,\nSUMPRODUCT(('Detailed price list'!D$5:D$237)*('Detailed price list'!$M$5:$M$237)*('Detailed price list'!$L$5:$L$237=$B63))/SUMIF('Detailed price list'!$L$5:$L$237,$B63,'Detailed price list'!$M$5:$M$237))","v":0},{"$f":"IF(SUMIF('Detailed price list'!$L$5:$L$237,$B63,'Detailed price list'!$M$5:$M$237)=0,0,\nSUMPRODUCT(('Detailed price list'!E$5:E$237)*('Detailed price list'!$M$5:$M$237)*('Detailed price list'!$L$5:$L$237=$B63))/SUMIF('Detailed price list'!$L$5:$L$237,$B63,'Detailed price list'!$M$5:$M$237))","v":0},{"$f":"IF(SUMIF('Detailed price list'!$L$5:$L$237,$B63,'Detailed price list'!$M$5:$M$237)=0,0,\nSUMPRODUCT(('Detailed price list'!F$5:F$237)*('Detailed price list'!$M$5:$M$237)*('Detailed price list'!$L$5:$L$237=$B63))/SUMIF('Detailed price list'!$L$5:$L$237,$B63,'Detailed price list'!$M$5:$M$237))","v":0},{"$f":"IF(SUMIF('Detailed price list'!$L$5:$L$237,$B63,'Detailed price list'!$M$5:$M$237)=0,0,\nSUMPRODUCT(('Detailed price list'!G$5:G$237)*('Detailed price list'!$M$5:$M$237)*('Detailed price list'!$L$5:$L$237=$B63))/SUMIF('Detailed price list'!$L$5:$L$237,$B63,'Detailed price list'!$M$5:$M$237))","v":0},{"$f":"IF(SUMIF('Detailed price list'!$L$5:$L$237,$B63,'Detailed price list'!$M$5:$M$237)=0,0,\nSUMPRODUCT(('Detailed price list'!H$5:H$237)*('Detailed price list'!$M$5:$M$237)*('Detailed price list'!$L$5:$L$237=$B63))/SUMIF('Detailed price list'!$L$5:$L$237,$B63,'Detailed price list'!$M$5:$M$237))","v":0}]
[null,"Luminaire - Decorative - smart controller installed",{"$f":"IF(SUMIF('Detailed price list'!$L$5:$L$237,$B64,'Detailed price list'!$M$5:$M$237)=0,0,\nSUMPRODUCT(('Detailed price list'!D$5:D$237)*('Detailed price list'!$M$5:$M$237)*('Detailed price list'!$L$5:$L$237=$B64))/SUMIF('Detailed price list'!$L$5:$L$237,$B64,'Detailed price list'!$M$5:$M$237))","v":0},{"$f":"IF(SUMIF('Detailed price list'!$L$5:$L$237,$B64,'Detailed price list'!$M$5:$M$237)=0,0,\nSUMPRODUCT(('Detailed price list'!E$5:E$237)*('Detailed price list'!$M$5:$M$237)*('Detailed price list'!$L$5:$L$237=$B64))/SUMIF('Detailed price list'!$L$5:$L$237,$B64,'Detailed price list'!$M$5:$M$237))","v":0},{"$f":"IF(SUMIF('Detailed price list'!$L$5:$L$237,$B64,'Detailed price list'!$M$5:$M$237)=0,0,\nSUMPRODUCT(('Detailed price list'!F$5:F$237)*('Detailed price list'!$M$5:$M$237)*('Detailed price list'!$L$5:$L$237=$B64))/SUMIF('Detailed price list'!$L$5:$L$237,$B64,'Detailed price list'!$M$5:$M$237))","v":0},{"$f":"IF(SUMIF('Detailed price list'!$L$5:$L$237,$B64,'Detailed price list'!$M$5:$M$237)=0,0,\nSUMPRODUCT(('Detailed price list'!G$5:G$237)*('Detailed price list'!$M$5:$M$237)*('Detailed price list'!$L$5:$L$237=$B64))/SUMIF('Detailed price list'!$L$5:$L$237,$B64,'Detailed price list'!$M$5:$M$237))","v":0},{"$f":"IF(SUMIF('Detailed price list'!$L$5:$L$237,$B64,'Detailed price list'!$M$5:$M$237)=0,0,\nSUMPRODUCT(('Detailed price list'!H$5:H$237)*('Detailed price list'!$M$5:$M$237)*('Detailed price list'!$L$5:$L$237=$B64))/SUMIF('Detailed price list'!$L$5:$L$237,$B64,'Detailed price list'!$M$5:$M$237))","v":0}]
[null,"Legacy Bracket - Minor (Cat P) road - Short",{"$f":"IF(SUMIF('Detailed price list'!$L$5:$L$237,$B65,'Detailed price list'!$M$5:$M$237)=0,0,\nSUMPRODUCT(('Detailed price list'!D$5:D$237)*('Detailed price list'!$M$5:$M$237)*('Detailed price list'!$L$5:$L$237=$B65))/SUMIF('Detailed price list'!$L$5:$L$237,$B65,'Detailed price list'!$M$5:$M$237))","v":7.7936859900305269},{"$f":"IF(SUMIF('Detailed price list'!$L$5:$L$237,$B65,'Detailed price list'!$M$5:$M$237)=0,0,\nSUMPRODUCT(('Detailed price list'!E$5:E$237)*('Detailed price list'!$M$5:$M$237)*('Detailed price list'!$L$5:$L$237=$B65))/SUMIF('Detailed price list'!$L$5:$L$237,$B65,'Detailed price list'!$M$5:$M$237))","v":8.017727828186521},{"$f":"IF(SUMIF('Detailed price list'!$L$5:$L$237,$B65,'Detailed price list'!$M$5:$M$237)=0,0,\nSUMPRODUCT(('Detailed price list'!F$5:F$237)*('Detailed price list'!$M$5:$M$237)*('Detailed price list'!$L$5:$L$237=$B65))/SUMIF('Detailed price list'!$L$5:$L$237,$B65,'Detailed price list'!$M$5:$M$237))","v":8.2482101035513704},{"$f":"IF(SUMIF('Detailed price list'!$L$5:$L$237,$B65,'Detailed price list'!$M$5:$M$237)=0,0,\nSUMPRODUCT(('Detailed price list'!G$5:G$237)*('Detailed price list'!$M$5:$M$237)*('Detailed price list'!$L$5:$L$237=$B65))/SUMIF('Detailed price list'!$L$5:$L$237,$B65,'Detailed price list'!$M$5:$M$237))","v":8.4853179566853498},{"$f":"IF(SUMIF('Detailed price list'!$L$5:$L$237,$B65,'Detailed price list'!$M$5:$M$237)=0,0,\nSUMPRODUCT(('Detailed price list'!H$5:H$237)*('Detailed price list'!$M$5:$M$237)*('Detailed price list'!$L$5:$L$237=$B65))/SUMIF('Detailed price list'!$L$5:$L$237,$B65,'Detailed price list'!$M$5:$M$237))","v":8.7292418503071421}]
[null,"Legacy Bracket - Minor (Cat P) road - Short",{"$f":"IF(SUMIF('Detailed price list'!$L$5:$L$237,$B66,'Detailed price list'!$M$5:$M$237)=0,0,\nSUMPRODUCT(('Detailed price list'!D$5:D$237)*('Detailed price list'!$M$5:$M$237)*('Detailed price list'!$L$5:$L$237=$B66))/SUMIF('Detailed price list'!$L$5:$L$237,$B66,'Detailed price list'!$M$5:$M$237))","v":7.7936859900305269},{"$f":"IF(SUMIF('Detailed price list'!$L$5:$L$237,$B66,'Detailed price list'!$M$5:$M$237)=0,0,\nSUMPRODUCT(('Detailed price list'!E$5:E$237)*('Detailed price list'!$M$5:$M$237)*('Detailed price list'!$L$5:$L$237=$B66))/SUMIF('Detailed price list'!$L$5:$L$237,$B66,'Detailed price list'!$M$5:$M$237))","v":8.017727828186521},{"$f":"IF(SUMIF('Detailed price list'!$L$5:$L$237,$B66,'Detailed price list'!$M$5:$M$237)=0,0,\nSUMPRODUCT(('Detailed price list'!F$5:F$237)*('Detailed price list'!$M$5:$M$237)*('Detailed price list'!$L$5:$L$237=$B66))/SUMIF('Detailed price list'!$L$5:$L$237,$B66,'Detailed price list'!$M$5:$M$237))","v":8.2482101035513704},{"$f":"IF(SUMIF('Detailed price list'!$L$5:$L$237,$B66,'Detailed price list'!$M$5:$M$237)=0,0,\nSUMPRODUCT(('Detailed price list'!G$5:G$237)*('Detailed price list'!$M$5:$M$237)*('Detailed price list'!$L$5:$L$237=$B66))/SUMIF('Detailed price list'!$L$5:$L$237,$B66,'Detailed price list'!$M$5:$M$237))","v":8.4853179566853498},{"$f":"IF(SUMIF('Detailed price list'!$L$5:$L$237,$B66,'Detailed price list'!$M$5:$M$237)=0,0,\nSUMPRODUCT(('Detailed price list'!H$5:H$237)*('Detailed price list'!$M$5:$M$237)*('Detailed price list'!$L$5:$L$237=$B66))/SUMIF('Detailed price list'!$L$5:$L$237,$B66,'Detailed price list'!$M$5:$M$237))","v":8.7292418503071421}]
[null,"Legacy Bracket - Minor (Cat P) road - Short",{"$f":"IF(SUMIF('Detailed price list'!$L$5:$L$237,$B67,'Detailed price list'!$M$5:$M$237)=0,0,\nSUMPRODUCT(('Detailed price list'!D$5:D$237)*('Detailed price list'!$M$5:$M$237)*('Detailed price list'!$L$5:$L$237=$B67))/SUMIF('Detailed price list'!$L$5:$L$237,$B67,'Detailed price list'!$M$5:$M$237))","v":7.7936859900305269},{"$f":"IF(SUMIF('Detailed price list'!$L$5:$L$237,$B67,'Detailed price list'!$M$5:$M$237)=0,0,\nSUMPRODUCT(('Detailed price list'!E$5:E$237)*('Detailed price list'!$M$5:$M$237)*('Detailed price list'!$L$5:$L$237=$B67))/SUMIF('Detailed price list'!$L$5:$L$237,$B67,'Detailed price list'!$M$5:$M$237))","v":8.017727828186521},{"$f":"IF(SUMIF('Detailed price list'!$L$5:$L$237,$B67,'Detailed price list'!$M$5:$M$237)=0,0,\nSUMPRODUCT(('Detailed price list'!F$5:F$237)*('Detailed price list'!$M$5:$M$237)*('Detailed price list'!$L$5:$L$237=$B67))/SUMIF('Detailed price list'!$L$5:$L$237,$B67,'Detailed price list'!$M$5:$M$237))","v":8.2482101035513704},{"$f":"IF(SUMIF('Detailed price list'!$L$5:$L$237,$B67,'Detailed price list'!$M$5:$M$237)=0,0,\nSUMPRODUCT(('Detailed price list'!G$5:G$237)*('Detailed price list'!$M$5:$M$237)*('Detailed price list'!$L$5:$L$237=$B67))/SUMIF('Detailed price list'!$L$5:$L$237,$B67,'Detailed price list'!$M$5:$M$237))","v":8.4853179566853498},{"$f":"IF(SUMIF('Detailed price list'!$L$5:$L$237,$B67,'Detailed price list'!$M$5:$M$237)=0,0,\nSUMPRODUCT(('Detailed price list'!H$5:H$237)*('Detailed price list'!$M$5:$M$237)*('Detailed price list'!$L$5:$L$237=$B67))/SUMIF('Detailed price list'!$L$5:$L$237,$B67,'Detailed price list'!$M$5:$M$237))","v":8.7292418503071421}]
[null,"Legacy Bracket - Minor (Cat P) road - Short",{"$f":"IF(SUMIF('Detailed price list'!$L$5:$L$237,$B68,'Detailed price list'!$M$5:$M$237)=0,0,\nSUMPRODUCT(('Detailed price list'!D$5:D$237)*('Detailed price list'!$M$5:$M$237)*('Detailed price list'!$L$5:$L$237=$B68))/SUMIF('Detailed price list'!$L$5:$L$237,$B68,'Detailed price list'!$M$5:$M$237))","v":7.7936859900305269},{"$f":"IF(SUMIF('Detailed price list'!$L$5:$L$237,$B68,'Detailed price list'!$M$5:$M$237)=0,0,\nSUMPRODUCT(('Detailed price list'!E$5:E$237)*('Detailed price list'!$M$5:$M$237)*('Detailed price list'!$L$5:$L$237=$B68))/SUMIF('Detailed price list'!$L$5:$L$237,$B68,'Detailed price list'!$M$5:$M$237))","v":8.017727828186521},{"$f":"IF(SUMIF('Detailed price list'!$L$5:$L$237,$B68,'Detailed price list'!$M$5:$M$237)=0,0,\nSUMPRODUCT(('Detailed price list'!F$5:F$237)*('Detailed price list'!$M$5:$M$237)*('Detailed price list'!$L$5:$L$237=$B68))/SUMIF('Detailed price list'!$L$5:$L$237,$B68,'Detailed price list'!$M$5:$M$237))","v":8.2482101035513704},{"$f":"IF(SUMIF('Detailed price list'!$L$5:$L$237,$B68,'Detailed price list'!$M$5:$M$237)=0,0,\nSUMPRODUCT(('Detailed price list'!G$5:G$237)*('Detailed price list'!$M$5:$M$237)*('Detailed price list'!$L$5:$L$237=$B68))/SUMIF('Detailed price list'!$L$5:$L$237,$B68,'Detailed price list'!$M$5:$M$237))","v":8.4853179566853498},{"$f":"IF(SUMIF('Detailed price list'!$L$5:$L$237,$B68,'Detailed price list'!$M$5:$M$237)=0,0,\nSUMPRODUCT(('Detailed price list'!H$5:H$237)*('Detailed price list'!$M$5:$M$237)*('Detailed price list'!$L$5:$L$237=$B68))/SUMIF('Detailed price list'!$L$5:$L$237,$B68,'Detailed price list'!$M$5:$M$237))","v":8.7292418503071421}]
[null,"Legacy Bracket - Minor (Cat P) road - Short",{"$f":"IF(SUMIF('Detailed price list'!$L$5:$L$237,$B69,'Detailed price list'!$M$5:$M$237)=0,0,\nSUMPRODUCT(('Detailed price list'!D$5:D$237)*('Detailed price list'!$M$5:$M$237)*('Detailed price list'!$L$5:$L$237=$B69))/SUMIF('Detailed price list'!$L$5:$L$237,$B69,'Detailed price list'!$M$5:$M$237))","v":7.7936859900305269},{"$f":"IF(SUMIF('Detailed price list'!$L$5:$L$237,$B69,'Detailed price list'!$M$5:$M$237)=0,0,\nSUMPRODUCT(('Detailed price list'!E$5:E$237)*('Detailed price list'!$M$5:$M$237)*('Detailed price list'!$L$5:$L$237=$B69))/SUMIF('Detailed price list'!$L$5:$L$237,$B69,'Detailed price list'!$M$5:$M$237))","v":8.017727828186521},{"$f":"IF(SUMIF('Detailed price list'!$L$5:$L$237,$B69,'Detailed price list'!$M$5:$M$237)=0,0,\nSUMPRODUCT(('Detailed price list'!F$5:F$237)*('Detailed price list'!$M$5:$M$237)*('Detailed price list'!$L$5:$L$237=$B69))/SUMIF('Detailed price list'!$L$5:$L$237,$B69,'Detailed price list'!$M$5:$M$237))","v":8.2482101035513704},{"$f":"IF(SUMIF('Detailed price list'!$L$5:$L$237,$B69,'Detailed price list'!$M$5:$M$237)=0,0,\nSUMPRODUCT(('Detailed price list'!G$5:G$237)*('Detailed price list'!$M$5:$M$237)*('Detailed price list'!$L$5:$L$237=$B69))/SUMIF('Detailed price list'!$L$5:$L$237,$B69,'Detailed price list'!$M$5:$M$237))","v":8.4853179566853498},{"$f":"IF(SUMIF('Detailed price list'!$L$5:$L$237,$B69,'Detailed price list'!$M$5:$M$237)=0,0,\nSUMPRODUCT(('Detailed price list'!H$5:H$237)*('Detailed price list'!$M$5:$M$237)*('Detailed price list'!$L$5:$L$237=$B69))/SUMIF('Detailed price list'!$L$5:$L$237,$B69,'Detailed price list'!$M$5:$M$237))","v":8.7292418503071421}]
[null,"Legacy Bracket - Minor (Cat P) road - Short",{"$f":"IF(SUMIF('Detailed price list'!$L$5:$L$237,$B70,'Detailed price list'!$M$5:$M$237)=0,0,\nSUMPRODUCT(('Detailed price list'!D$5:D$237)*('Detailed price list'!$M$5:$M$237)*('Detailed price list'!$L$5:$L$237=$B70))/SUMIF('Detailed price list'!$L$5:$L$237,$B70,'Detailed price list'!$M$5:$M$237))","v":7.7936859900305269},{"$f":"IF(SUMIF('Detailed price list'!$L$5:$L$237,$B70,'Detailed price list'!$M$5:$M$237)=0,0,\nSUMPRODUCT(('Detailed price list'!E$5:E$237)*('Detailed price list'!$M$5:$M$237)*('Detailed price list'!$L$5:$L$237=$B70))/SUMIF('Detailed price list'!$L$5:$L$237,$B70,'Detailed price list'!$M$5:$M$237))","v":8.017727828186521},{"$f":"IF(SUMIF('Detailed price list'!$L$5:$L$237,$B70,'Detailed price list'!$M$5:$M$237)=0,0,\nSUMPRODUCT(('Detailed price list'!F$5:F$237)*('Detailed price list'!$M$5:$M$237)*('Detailed price list'!$L$5:$L$237=$B70))/SUMIF('Detailed price list'!$L$5:$L$237,$B70,'Detailed price list'!$M$5:$M$237))","v":8.2482101035513704},{"$f":"IF(SUMIF('Detailed price list'!$L$5:$L$237,$B70,'Detailed price list'!$M$5:$M$237)=0,0,\nSUMPRODUCT(('Detailed price list'!G$5:G$237)*('Detailed price list'!$M$5:$M$237)*('Detailed price list'!$L$5:$L$237=$B70))/SUMIF('Detailed price list'!$L$5:$L$237,$B70,'Detailed price list'!$M$5:$M$237))","v":8.4853179566853498},{"$f":"IF(SUMIF('Detailed price list'!$L$5:$L$237,$B70,'Detailed price list'!$M$5:$M$237)=0,0,\nSUMPRODUCT(('Detailed price list'!H$5:H$237)*('Detailed price list'!$M$5:$M$237)*('Detailed price list'!$L$5:$L$237=$B70))/SUMIF('Detailed price list'!$L$5:$L$237,$B70,'Detailed price list'!$M$5:$M$237))","v":8.7292418503071421}]
[null,"Legacy Bracket - Minor (Cat P) road - Short",{"$f":"IF(SUMIF('Detailed price list'!$L$5:$L$237,$B71,'Detailed price list'!$M$5:$M$237)=0,0,\nSUMPRODUCT(('Detailed price list'!D$5:D$237)*('Detailed price list'!$M$5:$M$237)*('Detailed price list'!$L$5:$L$237=$B71))/SUMIF('Detailed price list'!$L$5:$L$237,$B71,'Detailed price list'!$M$5:$M$237))","v":7.7936859900305269},{"$f":"IF(SUMIF('Detailed price list'!$L$5:$L$237,$B71,'Detailed price list'!$M$5:$M$237)=0,0,\nSUMPRODUCT(('Detailed price list'!E$5:E$237)*('Detailed price list'!$M$5:$M$237)*('Detailed price list'!$L$5:$L$237=$B71))/SUMIF('Detailed price list'!$L$5:$L$237,$B71,'Detailed price list'!$M$5:$M$237))","v":8.017727828186521},{"$f":"IF(SUMIF('Detailed price list'!$L$5:$L$237,$B71,'Detailed price list'!$M$5:$M$237)=0,0,\nSUMPRODUCT(('Detailed price list'!F$5:F$237)*('Detailed price list'!$M$5:$M$237)*('Detailed price list'!$L$5:$L$237=$B71))/SUMIF('Detailed price list'!$L$5:$L$237,$B71,'Detailed price list'!$M$5:$M$237))","v":8.2482101035513704},{"$f":"IF(SUMIF('Detailed price list'!$L$5:$L$237,$B71,'Detailed price list'!$M$5:$M$237)=0,0,\nSUMPRODUCT(('Detailed price list'!G$5:G$237)*('Detailed price list'!$M$5:$M$237)*('Detailed price list'!$L$5:$L$237=$B71))/SUMIF('Detailed price list'!$L$5:$L$237,$B71,'Detailed price list'!$M$5:$M$237))","v":8.4853179566853498},{"$f":"IF(SUMIF('Detailed price list'!$L$5:$L$237,$B71,'Detailed price list'!$M$5:$M$237)=0,0,\nSUMPRODUCT(('Detailed price list'!H$5:H$237)*('Detailed price list'!$M$5:$M$237)*('Detailed price list'!$L$5:$L$237=$B71))/SUMIF('Detailed price list'!$L$5:$L$237,$B71,'Detailed price list'!$M$5:$M$237))","v":8.7292418503071421}]
[null,"Legacy Bracket - Minor (Cat P) road - Short",{"$f":"IF(SUMIF('Detailed price list'!$L$5:$L$237,$B72,'Detailed price list'!$M$5:$M$237)=0,0,\nSUMPRODUCT(('Detailed price list'!D$5:D$237)*('Detailed price list'!$M$5:$M$237)*('Detailed price list'!$L$5:$L$237=$B72))/SUMIF('Detailed price list'!$L$5:$L$237,$B72,'Detailed price list'!$M$5:$M$237))","v":7.7936859900305269},{"$f":"IF(SUMIF('Detailed price list'!$L$5:$L$237,$B72,'Detailed price list'!$M$5:$M$237)=0,0,\nSUMPRODUCT(('Detailed price list'!E$5:E$237)*('Detailed price list'!$M$5:$M$237)*('Detailed price list'!$L$5:$L$237=$B72))/SUMIF('Detailed price list'!$L$5:$L$237,$B72,'Detailed price list'!$M$5:$M$237))","v":8.017727828186521},{"$f":"IF(SUMIF('Detailed price list'!$L$5:$L$237,$B72,'Detailed price list'!$M$5:$M$237)=0,0,\nSUMPRODUCT(('Detailed price list'!F$5:F$237)*('Detailed price list'!$M$5:$M$237)*('Detailed price list'!$L$5:$L$237=$B72))/SUMIF('Detailed price list'!$L$5:$L$237,$B72,'Detailed price list'!$M$5:$M$237))","v":8.2482101035513704},{"$f":"IF(SUMIF('Detailed price list'!$L$5:$L$237,$B72,'Detailed price list'!$M$5:$M$237)=0,0,\nSUMPRODUCT(('Detailed price list'!G$5:G$237)*('Detailed price list'!$M$5:$M$237)*('Detailed price list'!$L$5:$L$237=$B72))/SUMIF('Detailed price list'!$L$5:$L$237,$B72,'Detailed price list'!$M$5:$M$237))","v":8.4853179566853498},{"$f":"IF(SUMIF('Detailed price list'!$L$5:$L$237,$B72,'Detailed price list'!$M$5:$M$237)=0,0,\nSUMPRODUCT(('Detailed price list'!H$5:H$237)*('Detailed price list'!$M$5:$M$237)*('Detailed price list'!$L$5:$L$237=$B72))/SUMIF('Detailed price list'!$L$5:$L$237,$B72,'Detailed price list'!$M$5:$M$237))","v":8.7292418503071421}]
[null,"Legacy Bracket - Minor (Cat P) road - Medium",{"$f":"IF(SUMIF('Detailed price list'!$L$5:$L$237,$B73,'Detailed price list'!$M$5:$M$237)=0,0,\nSUMPRODUCT(('Detailed price list'!D$5:D$237)*('Detailed price list'!$M$5:$M$237)*('Detailed price list'!$L$5:$L$237=$B73))/SUMIF('Detailed price list'!$L$5:$L$237,$B73,'Detailed price list'!$M$5:$M$237))","v":14.262392425597554},{"$f":"IF(SUMIF('Detailed price list'!$L$5:$L$237,$B73,'Detailed price list'!$M$5:$M$237)=0,0,\nSUMPRODUCT(('Detailed price list'!E$5:E$237)*('Detailed price list'!$M$5:$M$237)*('Detailed price list'!$L$5:$L$237=$B73))/SUMIF('Detailed price list'!$L$5:$L$237,$B73,'Detailed price list'!$M$5:$M$237))","v":14.672387467689376},{"$f":"IF(SUMIF('Detailed price list'!$L$5:$L$237,$B73,'Detailed price list'!$M$5:$M$237)=0,0,\nSUMPRODUCT(('Detailed price list'!F$5:F$237)*('Detailed price list'!$M$5:$M$237)*('Detailed price list'!$L$5:$L$237=$B73))/SUMIF('Detailed price list'!$L$5:$L$237,$B73,'Detailed price list'!$M$5:$M$237))","v":15.094168466128762},{"$f":"IF(SUMIF('Detailed price list'!$L$5:$L$237,$B73,'Detailed price list'!$M$5:$M$237)=0,0,\nSUMPRODUCT(('Detailed price list'!G$5:G$237)*('Detailed price list'!$M$5:$M$237)*('Detailed price list'!$L$5:$L$237=$B73))/SUMIF('Detailed price list'!$L$5:$L$237,$B73,'Detailed price list'!$M$5:$M$237))","v":15.528074226883501},{"$f":"IF(SUMIF('Detailed price list'!$L$5:$L$237,$B73,'Detailed price list'!$M$5:$M$237)=0,0,\nSUMPRODUCT(('Detailed price list'!H$5:H$237)*('Detailed price list'!$M$5:$M$237)*('Detailed price list'!$L$5:$L$237=$B73))/SUMIF('Detailed price list'!$L$5:$L$237,$B73,'Detailed price list'!$M$5:$M$237))","v":15.974453295435129}]
[null,"Legacy Bracket - Minor (Cat P) road - Medium",{"$f":"IF(SUMIF('Detailed price list'!$L$5:$L$237,$B74,'Detailed price list'!$M$5:$M$237)=0,0,\nSUMPRODUCT(('Detailed price list'!D$5:D$237)*('Detailed price list'!$M$5:$M$237)*('Detailed price list'!$L$5:$L$237=$B74))/SUMIF('Detailed price list'!$L$5:$L$237,$B74,'Detailed price list'!$M$5:$M$237))","v":14.262392425597554},{"$f":"IF(SUMIF('Detailed price list'!$L$5:$L$237,$B74,'Detailed price list'!$M$5:$M$237)=0,0,\nSUMPRODUCT(('Detailed price list'!E$5:E$237)*('Detailed price list'!$M$5:$M$237)*('Detailed price list'!$L$5:$L$237=$B74))/SUMIF('Detailed price list'!$L$5:$L$237,$B74,'Detailed price list'!$M$5:$M$237))","v":14.672387467689376},{"$f":"IF(SUMIF('Detailed price list'!$L$5:$L$237,$B74,'Detailed price list'!$M$5:$M$237)=0,0,\nSUMPRODUCT(('Detailed price list'!F$5:F$237)*('Detailed price list'!$M$5:$M$237)*('Detailed price list'!$L$5:$L$237=$B74))/SUMIF('Detailed price list'!$L$5:$L$237,$B74,'Detailed price list'!$M$5:$M$237))","v":15.094168466128762},{"$f":"IF(SUMIF('Detailed price list'!$L$5:$L$237,$B74,'Detailed price list'!$M$5:$M$237)=0,0,\nSUMPRODUCT(('Detailed price list'!G$5:G$237)*('Detailed price list'!$M$5:$M$237)*('Detailed price list'!$L$5:$L$237=$B74))/SUMIF('Detailed price list'!$L$5:$L$237,$B74,'Detailed price list'!$M$5:$M$237))","v":15.528074226883501},{"$f":"IF(SUMIF('Detailed price list'!$L$5:$L$237,$B74,'Detailed price list'!$M$5:$M$237)=0,0,\nSUMPRODUCT(('Detailed price list'!H$5:H$237)*('Detailed price list'!$M$5:$M$237)*('Detailed price list'!$L$5:$L$237=$B74))/SUMIF('Detailed price list'!$L$5:$L$237,$B74,'Detailed price list'!$M$5:$M$237))","v":15.974453295435129}]
[null,"Legacy Bracket - Minor (Cat P) road - Medium",{"$f":"IF(SUMIF('Detailed price list'!$L$5:$L$237,$B75,'Detailed price list'!$M$5:$M$237)=0,0,\nSUMPRODUCT(('Detailed price list'!D$5:D$237)*('Detailed price list'!$M$5:$M$237)*('Detailed price list'!$L$5:$L$237=$B75))/SUMIF('Detailed price list'!$L$5:$L$237,$B75,'Detailed price list'!$M$5:$M$237))","v":14.262392425597554},{"$f":"IF(SUMIF('Detailed price list'!$L$5:$L$237,$B75,'Detailed price list'!$M$5:$M$237)=0,0,\nSUMPRODUCT(('Detailed price list'!E$5:E$237)*('Detailed price list'!$M$5:$M$237)*('Detailed price list'!$L$5:$L$237=$B75))/SUMIF('Detailed price list'!$L$5:$L$237,$B75,'Detailed price list'!$M$5:$M$237))","v":14.672387467689376},{"$f":"IF(SUMIF('Detailed price list'!$L$5:$L$237,$B75,'Detailed price list'!$M$5:$M$237)=0,0,\nSUMPRODUCT(('Detailed price list'!F$5:F$237)*('Detailed price list'!$M$5:$M$237)*('Detailed price list'!$L$5:$L$237=$B75))/SUMIF('Detailed price list'!$L$5:$L$237,$B75,'Detailed price list'!$M$5:$M$237))","v":15.094168466128762},{"$f":"IF(SUMIF('Detailed price list'!$L$5:$L$237,$B75,'Detailed price list'!$M$5:$M$237)=0,0,\nSUMPRODUCT(('Detailed price list'!G$5:G$237)*('Detailed price list'!$M$5:$M$237)*('Detailed price list'!$L$5:$L$237=$B75))/SUMIF('Detailed price list'!$L$5:$L$237,$B75,'Detailed price list'!$M$5:$M$237))","v":15.528074226883501},{"$f":"IF(SUMIF('Detailed price list'!$L$5:$L$237,$B75,'Detailed price list'!$M$5:$M$237)=0,0,\nSUMPRODUCT(('Detailed price list'!H$5:H$237)*('Detailed price list'!$M$5:$M$237)*('Detailed price list'!$L$5:$L$237=$B75))/SUMIF('Detailed price list'!$L$5:$L$237,$B75,'Detailed price list'!$M$5:$M$237))","v":15.974453295435129}]
[null,"Legacy Bracket - Minor (Cat P) road - Medium",{"$f":"IF(SUMIF('Detailed price list'!$L$5:$L$237,$B76,'Detailed price list'!$M$5:$M$237)=0,0,\nSUMPRODUCT(('Detailed price list'!D$5:D$237)*('Detailed price list'!$M$5:$M$237)*('Detailed price list'!$L$5:$L$237=$B76))/SUMIF('Detailed price list'!$L$5:$L$237,$B76,'Detailed price list'!$M$5:$M$237))","v":14.262392425597554},{"$f":"IF(SUMIF('Detailed price list'!$L$5:$L$237,$B76,'Detailed price list'!$M$5:$M$237)=0,0,\nSUMPRODUCT(('Detailed price list'!E$5:E$237)*('Detailed price list'!$M$5:$M$237)*('Detailed price list'!$L$5:$L$237=$B76))/SUMIF('Detailed price list'!$L$5:$L$237,$B76,'Detailed price list'!$M$5:$M$237))","v":14.672387467689376},{"$f":"IF(SUMIF('Detailed price list'!$L$5:$L$237,$B76,'Detailed price list'!$M$5:$M$237)=0,0,\nSUMPRODUCT(('Detailed price list'!F$5:F$237)*('Detailed price list'!$M$5:$M$237)*('Detailed price list'!$L$5:$L$237=$B76))/SUMIF('Detailed price list'!$L$5:$L$237,$B76,'Detailed price list'!$M$5:$M$237))","v":15.094168466128762},{"$f":"IF(SUMIF('Detailed price list'!$L$5:$L$237,$B76,'Detailed price list'!$M$5:$M$237)=0,0,\nSUMPRODUCT(('Detailed price list'!G$5:G$237)*('Detailed price list'!$M$5:$M$237)*('Detailed price list'!$L$5:$L$237=$B76))/SUMIF('Detailed price list'!$L$5:$L$237,$B76,'Detailed price list'!$M$5:$M$237))","v":15.528074226883501},{"$f":"IF(SUMIF('Detailed price list'!$L$5:$L$237,$B76,'Detailed price list'!$M$5:$M$237)=0,0,\nSUMPRODUCT(('Detailed price list'!H$5:H$237)*('Detailed price list'!$M$5:$M$237)*('Detailed price list'!$L$5:$L$237=$B76))/SUMIF('Detailed price list'!$L$5:$L$237,$B76,'Detailed price list'!$M$5:$M$237))","v":15.974453295435129}]
[null,"Legacy Bracket - Minor (Cat P) road - Long",{"$f":"IF(SUMIF('Detailed price list'!$L$5:$L$237,$B77,'Detailed price list'!$M$5:$M$237)=0,0,\nSUMPRODUCT(('Detailed price list'!D$5:D$237)*('Detailed price list'!$M$5:$M$237)*('Detailed price list'!$L$5:$L$237=$B77))/SUMIF('Detailed price list'!$L$5:$L$237,$B77,'Detailed price list'!$M$5:$M$237))","v":22.519580378646182},{"$f":"IF(SUMIF('Detailed price list'!$L$5:$L$237,$B77,'Detailed price list'!$M$5:$M$237)=0,0,\nSUMPRODUCT(('Detailed price list'!E$5:E$237)*('Detailed price list'!$M$5:$M$237)*('Detailed price list'!$L$5:$L$237=$B77))/SUMIF('Detailed price list'!$L$5:$L$237,$B77,'Detailed price list'!$M$5:$M$237))","v":23.166941356364223},{"$f":"IF(SUMIF('Detailed price list'!$L$5:$L$237,$B77,'Detailed price list'!$M$5:$M$237)=0,0,\nSUMPRODUCT(('Detailed price list'!F$5:F$237)*('Detailed price list'!$M$5:$M$237)*('Detailed price list'!$L$5:$L$237=$B77))/SUMIF('Detailed price list'!$L$5:$L$237,$B77,'Detailed price list'!$M$5:$M$237))","v":23.832911749907328},{"$f":"IF(SUMIF('Detailed price list'!$L$5:$L$237,$B77,'Detailed price list'!$M$5:$M$237)=0,0,\nSUMPRODUCT(('Detailed price list'!G$5:G$237)*('Detailed price list'!$M$5:$M$237)*('Detailed price list'!$L$5:$L$237=$B77))/SUMIF('Detailed price list'!$L$5:$L$237,$B77,'Detailed price list'!$M$5:$M$237))","v":24.518026516384847},{"$f":"IF(SUMIF('Detailed price list'!$L$5:$L$237,$B77,'Detailed price list'!$M$5:$M$237)=0,0,\nSUMPRODUCT(('Detailed price list'!H$5:H$237)*('Detailed price list'!$M$5:$M$237)*('Detailed price list'!$L$5:$L$237=$B77))/SUMIF('Detailed price list'!$L$5:$L$237,$B77,'Detailed price list'!$M$5:$M$237))","v":25.222835991094872}]
[null,"Legacy Bracket - Minor (Cat P) road - Long",{"$f":"IF(SUMIF('Detailed price list'!$L$5:$L$237,$B78,'Detailed price list'!$M$5:$M$237)=0,0,\nSUMPRODUCT(('Detailed price list'!D$5:D$237)*('Detailed price list'!$M$5:$M$237)*('Detailed price list'!$L$5:$L$237=$B78))/SUMIF('Detailed price list'!$L$5:$L$237,$B78,'Detailed price list'!$M$5:$M$237))","v":22.519580378646182},{"$f":"IF(SUMIF('Detailed price list'!$L$5:$L$237,$B78,'Detailed price list'!$M$5:$M$237)=0,0,\nSUMPRODUCT(('Detailed price list'!E$5:E$237)*('Detailed price list'!$M$5:$M$237)*('Detailed price list'!$L$5:$L$237=$B78))/SUMIF('Detailed price list'!$L$5:$L$237,$B78,'Detailed price list'!$M$5:$M$237))","v":23.166941356364223},{"$f":"IF(SUMIF('Detailed price list'!$L$5:$L$237,$B78,'Detailed price list'!$M$5:$M$237)=0,0,\nSUMPRODUCT(('Detailed price list'!F$5:F$237)*('Detailed price list'!$M$5:$M$237)*('Detailed price list'!$L$5:$L$237=$B78))/SUMIF('Detailed price list'!$L$5:$L$237,$B78,'Detailed price list'!$M$5:$M$237))","v":23.832911749907328},{"$f":"IF(SUMIF('Detailed price list'!$L$5:$L$237,$B78,'Detailed price list'!$M$5:$M$237)=0,0,\nSUMPRODUCT(('Detailed price list'!G$5:G$237)*('Detailed price list'!$M$5:$M$237)*('Detailed price list'!$L$5:$L$237=$B78))/SUMIF('Detailed price list'!$L$5:$L$237,$B78,'Detailed price list'!$M$5:$M$237))","v":24.518026516384847},{"$f":"IF(SUMIF('Detailed price list'!$L$5:$L$237,$B78,'Detailed price list'!$M$5:$M$237)=0,0,\nSUMPRODUCT(('Detailed price list'!H$5:H$237)*('Detailed price list'!$M$5:$M$237)*('Detailed price list'!$L$5:$L$237=$B78))/SUMIF('Detailed price list'!$L$5:$L$237,$B78,'Detailed price list'!$M$5:$M$237))","v":25.222835991094872}]
[null,"Legacy Bracket - Minor (Cat P) road - Long",{"$f":"IF(SUMIF('Detailed price list'!$L$5:$L$237,$B79,'Detailed price list'!$M$5:$M$237)=0,0,\nSUMPRODUCT(('Detailed price list'!D$5:D$237)*('Detailed price list'!$M$5:$M$237)*('Detailed price list'!$L$5:$L$237=$B79))/SUMIF('Detailed price list'!$L$5:$L$237,$B79,'Detailed price list'!$M$5:$M$237))","v":22.519580378646182},{"$f":"IF(SUMIF('Detailed price list'!$L$5:$L$237,$B79,'Detailed price list'!$M$5:$M$237)=0,0,\nSUMPRODUCT(('Detailed price list'!E$5:E$237)*('Detailed price list'!$M$5:$M$237)*('Detailed price list'!$L$5:$L$237=$B79))/SUMIF('Detailed price list'!$L$5:$L$237,$B79,'Detailed price list'!$M$5:$M$237))","v":23.166941356364223},{"$f":"IF(SUMIF('Detailed price list'!$L$5:$L$237,$B79,'Detailed price list'!$M$5:$M$237)=0,0,\nSUMPRODUCT(('Detailed price list'!F$5:F$237)*('Detailed price list'!$M$5:$M$237)*('Detailed price list'!$L$5:$L$237=$B79))/SUMIF('Detailed price list'!$L$5:$L$237,$B79,'Detailed price list'!$M$5:$M$237))","v":23.832911749907328},{"$f":"IF(SUMIF('Detailed price list'!$L$5:$L$237,$B79,'Detailed price list'!$M$5:$M$237)=0,0,\nSUMPRODUCT(('Detailed price list'!G$5:G$237)*('Detailed price list'!$M$5:$M$237)*('Detailed price list'!$L$5:$L$237=$B79))/SUMIF('Detailed price list'!$L$5:$L$237,$B79,'Detailed price list'!$M$5:$M$237))","v":24.518026516384847},{"$f":"IF(SUMIF('Detailed price list'!$L$5:$L$237,$B79,'Detailed price list'!$M$5:$M$237)=0,0,\nSUMPRODUCT(('Detailed price list'!H$5:H$237)*('Detailed price list'!$M$5:$M$237)*('Detailed price list'!$L$5:$L$237=$B79))/SUMIF('Detailed price list'!$L$5:$L$237,$B79,'Detailed price list'!$M$5:$M$237))","v":25.222835991094872}]
[null,"Legacy Bracket - Minor (Cat P) road - Long",{"$f":"IF(SUMIF('Detailed price list'!$L$5:$L$237,$B80,'Detailed price list'!$M$5:$M$237)=0,0,\nSUMPRODUCT(('Detailed price list'!D$5:D$237)*('Detailed price list'!$M$5:$M$237)*('Detailed price list'!$L$5:$L$237=$B80))/SUMIF('Detailed price list'!$L$5:$L$237,$B80,'Detailed price list'!$M$5:$M$237))","v":22.519580378646182},{"$f":"IF(SUMIF('Detailed price list'!$L$5:$L$237,$B80,'Detailed price list'!$M$5:$M$237)=0,0,\nSUMPRODUCT(('Detailed price list'!E$5:E$237)*('Detailed price list'!$M$5:$M$237)*('Detailed price list'!$L$5:$L$237=$B80))/SUMIF('Detailed price list'!$L$5:$L$237,$B80,'Detailed price list'!$M$5:$M$237))","v":23.166941356364223},{"$f":"IF(SUMIF('Detailed price list'!$L$5:$L$237,$B80,'Detailed price list'!$M$5:$M$237)=0,0,\nSUMPRODUCT(('Detailed price list'!F$5:F$237)*('Detailed price list'!$M$5:$M$237)*('Detailed price list'!$L$5:$L$237=$B80))/SUMIF('Detailed price list'!$L$5:$L$237,$B80,'Detailed price list'!$M$5:$M$237))","v":23.832911749907328},{"$f":"IF(SUMIF('Detailed price list'!$L$5:$L$237,$B80,'Detailed price list'!$M$5:$M$237)=0,0,\nSUMPRODUCT(('Detailed price list'!G$5:G$237)*('Detailed price list'!$M$5:$M$237)*('Detailed price list'!$L$5:$L$237=$B80))/SUMIF('Detailed price list'!$L$5:$L$237,$B80,'Detailed price list'!$M$5:$M$237))","v":24.518026516384847},{"$f":"IF(SUMIF('Detailed price list'!$L$5:$L$237,$B80,'Detailed price list'!$M$5:$M$237)=0,0,\nSUMPRODUCT(('Detailed price list'!H$5:H$237)*('Detailed price list'!$M$5:$M$237)*('Detailed price list'!$L$5:$L$237=$B80))/SUMIF('Detailed price list'!$L$5:$L$237,$B80,'Detailed price list'!$M$5:$M$237))","v":25.222835991094872}]
[null,"Legacy Bracket - Major (Cat V) road - Short",{"$f":"IF(SUMIF('Detailed price list'!$L$5:$L$237,$B81,'Detailed price list'!$M$5:$M$237)=0,0,\nSUMPRODUCT(('Detailed price list'!D$5:D$237)*('Detailed price list'!$M$5:$M$237)*('Detailed price list'!$L$5:$L$237=$B81))/SUMIF('Detailed price list'!$L$5:$L$237,$B81,'Detailed price list'!$M$5:$M$237))","v":11.555620567768104},{"$f":"IF(SUMIF('Detailed price list'!$L$5:$L$237,$B81,'Detailed price list'!$M$5:$M$237)=0,0,\nSUMPRODUCT(('Detailed price list'!E$5:E$237)*('Detailed price list'!$M$5:$M$237)*('Detailed price list'!$L$5:$L$237=$B81))/SUMIF('Detailed price list'!$L$5:$L$237,$B81,'Detailed price list'!$M$5:$M$237))","v":11.887805169039918},{"$f":"IF(SUMIF('Detailed price list'!$L$5:$L$237,$B81,'Detailed price list'!$M$5:$M$237)=0,0,\nSUMPRODUCT(('Detailed price list'!F$5:F$237)*('Detailed price list'!$M$5:$M$237)*('Detailed price list'!$L$5:$L$237=$B81))/SUMIF('Detailed price list'!$L$5:$L$237,$B81,'Detailed price list'!$M$5:$M$237))","v":12.229538942394266},{"$f":"IF(SUMIF('Detailed price list'!$L$5:$L$237,$B81,'Detailed price list'!$M$5:$M$237)=0,0,\nSUMPRODUCT(('Detailed price list'!G$5:G$237)*('Detailed price list'!$M$5:$M$237)*('Detailed price list'!$L$5:$L$237=$B81))/SUMIF('Detailed price list'!$L$5:$L$237,$B81,'Detailed price list'!$M$5:$M$237))","v":12.581096393895287},{"$f":"IF(SUMIF('Detailed price list'!$L$5:$L$237,$B81,'Detailed price list'!$M$5:$M$237)=0,0,\nSUMPRODUCT(('Detailed price list'!H$5:H$237)*('Detailed price list'!$M$5:$M$237)*('Detailed price list'!$L$5:$L$237=$B81))/SUMIF('Detailed price list'!$L$5:$L$237,$B81,'Detailed price list'!$M$5:$M$237))","v":12.942759920718364}]
[null,"Legacy Bracket - Major (Cat V) road - Short",{"$f":"IF(SUMIF('Detailed price list'!$L$5:$L$237,$B82,'Detailed price list'!$M$5:$M$237)=0,0,\nSUMPRODUCT(('Detailed price list'!D$5:D$237)*('Detailed price list'!$M$5:$M$237)*('Detailed price list'!$L$5:$L$237=$B82))/SUMIF('Detailed price list'!$L$5:$L$237,$B82,'Detailed price list'!$M$5:$M$237))","v":11.555620567768104},{"$f":"IF(SUMIF('Detailed price list'!$L$5:$L$237,$B82,'Detailed price list'!$M$5:$M$237)=0,0,\nSUMPRODUCT(('Detailed price list'!E$5:E$237)*('Detailed price list'!$M$5:$M$237)*('Detailed price list'!$L$5:$L$237=$B82))/SUMIF('Detailed price list'!$L$5:$L$237,$B82,'Detailed price list'!$M$5:$M$237))","v":11.887805169039918},{"$f":"IF(SUMIF('Detailed price list'!$L$5:$L$237,$B82,'Detailed price list'!$M$5:$M$237)=0,0,\nSUMPRODUCT(('Detailed price list'!F$5:F$237)*('Detailed price list'!$M$5:$M$237)*('Detailed price list'!$L$5:$L$237=$B82))/SUMIF('Detailed price list'!$L$5:$L$237,$B82,'Detailed price list'!$M$5:$M$237))","v":12.229538942394266},{"$f":"IF(SUMIF('Detailed price list'!$L$5:$L$237,$B82,'Detailed price list'!$M$5:$M$237)=0,0,\nSUMPRODUCT(('Detailed price list'!G$5:G$237)*('Detailed price list'!$M$5:$M$237)*('Detailed price list'!$L$5:$L$237=$B82))/SUMIF('Detailed price list'!$L$5:$L$237,$B82,'Detailed price list'!$M$5:$M$237))","v":12.581096393895287},{"$f":"IF(SUMIF('Detailed price list'!$L$5:$L$237,$B82,'Detailed price list'!$M$5:$M$237)=0,0,\nSUMPRODUCT(('Detailed price list'!H$5:H$237)*('Detailed price list'!$M$5:$M$237)*('Detailed price list'!$L$5:$L$237=$B82))/SUMIF('Detailed price list'!$L$5:$L$237,$B82,'Detailed price list'!$M$5:$M$237))","v":12.942759920718364}]
[null,"Legacy Bracket - Major (Cat V) road - Short",{"$f":"IF(SUMIF('Detailed price list'!$L$5:$L$237,$B83,'Detailed price list'!$M$5:$M$237)=0,0,\nSUMPRODUCT(('Detailed price list'!D$5:D$237)*('Detailed price list'!$M$5:$M$237)*('Detailed price list'!$L$5:$L$237=$B83))/SUMIF('Detailed price list'!$L$5:$L$237,$B83,'Detailed price list'!$M$5:$M$237))","v":11.555620567768104},{"$f":"IF(SUMIF('Detailed price list'!$L$5:$L$237,$B83,'Detailed price list'!$M$5:$M$237)=0,0,\nSUMPRODUCT(('Detailed price list'!E$5:E$237)*('Detailed price list'!$M$5:$M$237)*('Detailed price list'!$L$5:$L$237=$B83))/SUMIF('Detailed price list'!$L$5:$L$237,$B83,'Detailed price list'!$M$5:$M$237))","v":11.887805169039918},{"$f":"IF(SUMIF('Detailed price list'!$L$5:$L$237,$B83,'Detailed price list'!$M$5:$M$237)=0,0,\nSUMPRODUCT(('Detailed price list'!F$5:F$237)*('Detailed price list'!$M$5:$M$237)*('Detailed price list'!$L$5:$L$237=$B83))/SUMIF('Detailed price list'!$L$5:$L$237,$B83,'Detailed price list'!$M$5:$M$237))","v":12.229538942394266},{"$f":"IF(SUMIF('Detailed price list'!$L$5:$L$237,$B83,'Detailed price list'!$M$5:$M$237)=0,0,\nSUMPRODUCT(('Detailed price list'!G$5:G$237)*('Detailed price list'!$M$5:$M$237)*('Detailed price list'!$L$5:$L$237=$B83))/SUMIF('Detailed price list'!$L$5:$L$237,$B83,'Detailed price list'!$M$5:$M$237))","v":12.581096393895287},{"$f":"IF(SUMIF('Detailed price list'!$L$5:$L$237,$B83,'Detailed price list'!$M$5:$M$237)=0,0,\nSUMPRODUCT(('Detailed price list'!H$5:H$237)*('Detailed price list'!$M$5:$M$237)*('Detailed price list'!$L$5:$L$237=$B83))/SUMIF('Detailed price list'!$L$5:$L$237,$B83,'Detailed price list'!$M$5:$M$237))","v":12.942759920718364}]
[null,"Legacy Bracket - Major (Cat V) road - Short",{"$f":"IF(SUMIF('Detailed price list'!$L$5:$L$237,$B84,'Detailed price list'!$M$5:$M$237)=0,0,\nSUMPRODUCT(('Detailed price list'!D$5:D$237)*('Detailed price list'!$M$5:$M$237)*('Detailed price list'!$L$5:$L$237=$B84))/SUMIF('Detailed price list'!$L$5:$L$237,$B84,'Detailed price list'!$M$5:$M$237))","v":11.555620567768104},{"$f":"IF(SUMIF('Detailed price list'!$L$5:$L$237,$B84,'Detailed price list'!$M$5:$M$237)=0,0,\nSUMPRODUCT(('Detailed price list'!E$5:E$237)*('Detailed price list'!$M$5:$M$237)*('Detailed price list'!$L$5:$L$237=$B84))/SUMIF('Detailed price list'!$L$5:$L$237,$B84,'Detailed price list'!$M$5:$M$237))","v":11.887805169039918},{"$f":"IF(SUMIF('Detailed price list'!$L$5:$L$237,$B84,'Detailed price list'!$M$5:$M$237)=0,0,\nSUMPRODUCT(('Detailed price list'!F$5:F$237)*('Detailed price list'!$M$5:$M$237)*('Detailed price list'!$L$5:$L$237=$B84))/SUMIF('Detailed price list'!$L$5:$L$237,$B84,'Detailed price list'!$M$5:$M$237))","v":12.229538942394266},{"$f":"IF(SUMIF('Detailed price list'!$L$5:$L$237,$B84,'Detailed price list'!$M$5:$M$237)=0,0,\nSUMPRODUCT(('Detailed price list'!G$5:G$237)*('Detailed price list'!$M$5:$M$237)*('Detailed price list'!$L$5:$L$237=$B84))/SUMIF('Detailed price list'!$L$5:$L$237,$B84,'Detailed price list'!$M$5:$M$237))","v":12.581096393895287},{"$f":"IF(SUMIF('Detailed price list'!$L$5:$L$237,$B84,'Detailed price list'!$M$5:$M$237)=0,0,\nSUMPRODUCT(('Detailed price list'!H$5:H$237)*('Detailed price list'!$M$5:$M$237)*('Detailed price list'!$L$5:$L$237=$B84))/SUMIF('Detailed price list'!$L$5:$L$237,$B84,'Detailed price list'!$M$5:$M$237))","v":12.942759920718364}]
[null,"Legacy Bracket - Major (Cat V) road - Medium",{"$f":"IF(SUMIF('Detailed price list'!$L$5:$L$237,$B85,'Detailed price list'!$M$5:$M$237)=0,0,\nSUMPRODUCT(('Detailed price list'!D$5:D$237)*('Detailed price list'!$M$5:$M$237)*('Detailed price list'!$L$5:$L$237=$B85))/SUMIF('Detailed price list'!$L$5:$L$237,$B85,'Detailed price list'!$M$5:$M$237))","v":22.188222093233506},{"$f":"IF(SUMIF('Detailed price list'!$L$5:$L$237,$B85,'Detailed price list'!$M$5:$M$237)=0,0,\nSUMPRODUCT(('Detailed price list'!E$5:E$237)*('Detailed price list'!$M$5:$M$237)*('Detailed price list'!$L$5:$L$237=$B85))/SUMIF('Detailed price list'!$L$5:$L$237,$B85,'Detailed price list'!$M$5:$M$237))","v":22.826057652626123},{"$f":"IF(SUMIF('Detailed price list'!$L$5:$L$237,$B85,'Detailed price list'!$M$5:$M$237)=0,0,\nSUMPRODUCT(('Detailed price list'!F$5:F$237)*('Detailed price list'!$M$5:$M$237)*('Detailed price list'!$L$5:$L$237=$B85))/SUMIF('Detailed price list'!$L$5:$L$237,$B85,'Detailed price list'!$M$5:$M$237))","v":23.482228804619002},{"$f":"IF(SUMIF('Detailed price list'!$L$5:$L$237,$B85,'Detailed price list'!$M$5:$M$237)=0,0,\nSUMPRODUCT(('Detailed price list'!G$5:G$237)*('Detailed price list'!$M$5:$M$237)*('Detailed price list'!$L$5:$L$237=$B85))/SUMIF('Detailed price list'!$L$5:$L$237,$B85,'Detailed price list'!$M$5:$M$237))","v":24.157262634839551},{"$f":"IF(SUMIF('Detailed price list'!$L$5:$L$237,$B85,'Detailed price list'!$M$5:$M$237)=0,0,\nSUMPRODUCT(('Detailed price list'!H$5:H$237)*('Detailed price list'!$M$5:$M$237)*('Detailed price list'!$L$5:$L$237=$B85))/SUMIF('Detailed price list'!$L$5:$L$237,$B85,'Detailed price list'!$M$5:$M$237))","v":24.851701380825695}]
[null,"Legacy Bracket - Major (Cat V) road - Medium",{"$f":"IF(SUMIF('Detailed price list'!$L$5:$L$237,$B86,'Detailed price list'!$M$5:$M$237)=0,0,\nSUMPRODUCT(('Detailed price list'!D$5:D$237)*('Detailed price list'!$M$5:$M$237)*('Detailed price list'!$L$5:$L$237=$B86))/SUMIF('Detailed price list'!$L$5:$L$237,$B86,'Detailed price list'!$M$5:$M$237))","v":22.188222093233506},{"$f":"IF(SUMIF('Detailed price list'!$L$5:$L$237,$B86,'Detailed price list'!$M$5:$M$237)=0,0,\nSUMPRODUCT(('Detailed price list'!E$5:E$237)*('Detailed price list'!$M$5:$M$237)*('Detailed price list'!$L$5:$L$237=$B86))/SUMIF('Detailed price list'!$L$5:$L$237,$B86,'Detailed price list'!$M$5:$M$237))","v":22.826057652626123},{"$f":"IF(SUMIF('Detailed price list'!$L$5:$L$237,$B86,'Detailed price list'!$M$5:$M$237)=0,0,\nSUMPRODUCT(('Detailed price list'!F$5:F$237)*('Detailed price list'!$M$5:$M$237)*('Detailed price list'!$L$5:$L$237=$B86))/SUMIF('Detailed price list'!$L$5:$L$237,$B86,'Detailed price list'!$M$5:$M$237))","v":23.482228804619002},{"$f":"IF(SUMIF('Detailed price list'!$L$5:$L$237,$B86,'Detailed price list'!$M$5:$M$237)=0,0,\nSUMPRODUCT(('Detailed price list'!G$5:G$237)*('Detailed price list'!$M$5:$M$237)*('Detailed price list'!$L$5:$L$237=$B86))/SUMIF('Detailed price list'!$L$5:$L$237,$B86,'Detailed price list'!$M$5:$M$237))","v":24.157262634839551},{"$f":"IF(SUMIF('Detailed price list'!$L$5:$L$237,$B86,'Detailed price list'!$M$5:$M$237)=0,0,\nSUMPRODUCT(('Detailed price list'!H$5:H$237)*('Detailed price list'!$M$5:$M$237)*('Detailed price list'!$L$5:$L$237=$B86))/SUMIF('Detailed price list'!$L$5:$L$237,$B86,'Detailed price list'!$M$5:$M$237))","v":24.851701380825695}]
[null,"Legacy Bracket - Major (Cat V) road - Medium",{"$f":"IF(SUMIF('Detailed price list'!$L$5:$L$237,$B87,'Detailed price list'!$M$5:$M$237)=0,0,\nSUMPRODUCT(('Detailed price list'!D$5:D$237)*('Detailed price list'!$M$5:$M$237)*('Detailed price list'!$L$5:$L$237=$B87))/SUMIF('Detailed price list'!$L$5:$L$237,$B87,'Detailed price list'!$M$5:$M$237))","v":22.188222093233506},{"$f":"IF(SUMIF('Detailed price list'!$L$5:$L$237,$B87,'Detailed price list'!$M$5:$M$237)=0,0,\nSUMPRODUCT(('Detailed price list'!E$5:E$237)*('Detailed price list'!$M$5:$M$237)*('Detailed price list'!$L$5:$L$237=$B87))/SUMIF('Detailed price list'!$L$5:$L$237,$B87,'Detailed price list'!$M$5:$M$237))","v":22.826057652626123},{"$f":"IF(SUMIF('Detailed price list'!$L$5:$L$237,$B87,'Detailed price list'!$M$5:$M$237)=0,0,\nSUMPRODUCT(('Detailed price list'!F$5:F$237)*('Detailed price list'!$M$5:$M$237)*('Detailed price list'!$L$5:$L$237=$B87))/SUMIF('Detailed price list'!$L$5:$L$237,$B87,'Detailed price list'!$M$5:$M$237))","v":23.482228804619002},{"$f":"IF(SUMIF('Detailed price list'!$L$5:$L$237,$B87,'Detailed price list'!$M$5:$M$237)=0,0,\nSUMPRODUCT(('Detailed price list'!G$5:G$237)*('Detailed price list'!$M$5:$M$237)*('Detailed price list'!$L$5:$L$237=$B87))/SUMIF('Detailed price list'!$L$5:$L$237,$B87,'Detailed price list'!$M$5:$M$237))","v":24.157262634839551},{"$f":"IF(SUMIF('Detailed price list'!$L$5:$L$237,$B87,'Detailed price list'!$M$5:$M$237)=0,0,\nSUMPRODUCT(('Detailed price list'!H$5:H$237)*('Detailed price list'!$M$5:$M$237)*('Detailed price list'!$L$5:$L$237=$B87))/SUMIF('Detailed price list'!$L$5:$L$237,$B87,'Detailed price list'!$M$5:$M$237))","v":24.851701380825695}]
[null,"Legacy Bracket - Major (Cat V) road - Medium",{"$f":"IF(SUMIF('Detailed price list'!$L$5:$L$237,$B88,'Detailed price list'!$M$5:$M$237)=0,0,\nSUMPRODUCT(('Detailed price list'!D$5:D$237)*('Detailed price list'!$M$5:$M$237)*('Detailed price list'!$L$5:$L$237=$B88))/SUMIF('Detailed price list'!$L$5:$L$237,$B88,'Detailed price list'!$M$5:$M$237))","v":22.188222093233506},{"$f":"IF(SUMIF('Detailed price list'!$L$5:$L$237,$B88,'Detailed price list'!$M$5:$M$237)=0,0,\nSUMPRODUCT(('Detailed price list'!E$5:E$237)*('Detailed price list'!$M$5:$M$237)*('Detailed price list'!$L$5:$L$237=$B88))/SUMIF('Detailed price list'!$L$5:$L$237,$B88,'Detailed price list'!$M$5:$M$237))","v":22.826057652626123},{"$f":"IF(SUMIF('Detailed price list'!$L$5:$L$237,$B88,'Detailed price list'!$M$5:$M$237)=0,0,\nSUMPRODUCT(('Detailed price list'!F$5:F$237)*('Detailed price list'!$M$5:$M$237)*('Detailed price list'!$L$5:$L$237=$B88))/SUMIF('Detailed price list'!$L$5:$L$237,$B88,'Detailed price list'!$M$5:$M$237))","v":23.482228804619002},{"$f":"IF(SUMIF('Detailed price list'!$L$5:$L$237,$B88,'Detailed price list'!$M$5:$M$237)=0,0,\nSUMPRODUCT(('Detailed price list'!G$5:G$237)*('Detailed price list'!$M$5:$M$237)*('Detailed price list'!$L$5:$L$237=$B88))/SUMIF('Detailed price list'!$L$5:$L$237,$B88,'Detailed price list'!$M$5:$M$237))","v":24.157262634839551},{"$f":"IF(SUMIF('Detailed price list'!$L$5:$L$237,$B88,'Detailed price list'!$M$5:$M$237)=0,0,\nSUMPRODUCT(('Detailed price list'!H$5:H$237)*('Detailed price list'!$M$5:$M$237)*('Detailed price list'!$L$5:$L$237=$B88))/SUMIF('Detailed price list'!$L$5:$L$237,$B88,'Detailed price list'!$M$5:$M$237))","v":24.851701380825695}]
[null,"Legacy Bracket - Major (Cat V) road - Medium",{"$f":"IF(SUMIF('Detailed price list'!$L$5:$L$237,$B89,'Detailed price list'!$M$5:$M$237)=0,0,\nSUMPRODUCT(('Detailed price list'!D$5:D$237)*('Detailed price list'!$M$5:$M$237)*('Detailed price list'!$L$5:$L$237=$B89))/SUMIF('Detailed price list'!$L$5:$L$237,$B89,'Detailed price list'!$M$5:$M$237))","v":22.188222093233506},{"$f":"IF(SUMIF('Detailed price list'!$L$5:$L$237,$B89,'Detailed price list'!$M$5:$M$237)=0,0,\nSUMPRODUCT(('Detailed price list'!E$5:E$237)*('Detailed price list'!$M$5:$M$237)*('Detailed price list'!$L$5:$L$237=$B89))/SUMIF('Detailed price list'!$L$5:$L$237,$B89,'Detailed price list'!$M$5:$M$237))","v":22.826057652626123},{"$f":"IF(SUMIF('Detailed price list'!$L$5:$L$237,$B89,'Detailed price list'!$M$5:$M$237)=0,0,\nSUMPRODUCT(('Detailed price list'!F$5:F$237)*('Detailed price list'!$M$5:$M$237)*('Detailed price list'!$L$5:$L$237=$B89))/SUMIF('Detailed price list'!$L$5:$L$237,$B89,'Detailed price list'!$M$5:$M$237))","v":23.482228804619002},{"$f":"IF(SUMIF('Detailed price list'!$L$5:$L$237,$B89,'Detailed price list'!$M$5:$M$237)=0,0,\nSUMPRODUCT(('Detailed price list'!G$5:G$237)*('Detailed price list'!$M$5:$M$237)*('Detailed price list'!$L$5:$L$237=$B89))/SUMIF('Detailed price list'!$L$5:$L$237,$B89,'Detailed price list'!$M$5:$M$237))","v":24.157262634839551},{"$f":"IF(SUMIF('Detailed price list'!$L$5:$L$237,$B89,'Detailed price list'!$M$5:$M$237)=0,0,\nSUMPRODUCT(('Detailed price list'!H$5:H$237)*('Detailed price list'!$M$5:$M$237)*('Detailed price list'!$L$5:$L$237=$B89))/SUMIF('Detailed price list'!$L$5:$L$237,$B89,'Detailed price list'!$M$5:$M$237))","v":24.851701380825695}]
[null,"Legacy Bracket - Major (Cat V) road - Long",{"$f":"IF(SUMIF('Detailed price list'!$L$5:$L$237,$B90,'Detailed price list'!$M$5:$M$237)=0,0,\nSUMPRODUCT(('Detailed price list'!D$5:D$237)*('Detailed price list'!$M$5:$M$237)*('Detailed price list'!$L$5:$L$237=$B90))/SUMIF('Detailed price list'!$L$5:$L$237,$B90,'Detailed price list'!$M$5:$M$237))","v":32.163744127380333},{"$f":"IF(SUMIF('Detailed price list'!$L$5:$L$237,$B90,'Detailed price list'!$M$5:$M$237)=0,0,\nSUMPRODUCT(('Detailed price list'!E$5:E$237)*('Detailed price list'!$M$5:$M$237)*('Detailed price list'!$L$5:$L$237=$B90))/SUMIF('Detailed price list'!$L$5:$L$237,$B90,'Detailed price list'!$M$5:$M$237))","v":33.088341855014619},{"$f":"IF(SUMIF('Detailed price list'!$L$5:$L$237,$B90,'Detailed price list'!$M$5:$M$237)=0,0,\nSUMPRODUCT(('Detailed price list'!F$5:F$237)*('Detailed price list'!$M$5:$M$237)*('Detailed price list'!$L$5:$L$237=$B90))/SUMIF('Detailed price list'!$L$5:$L$237,$B90,'Detailed price list'!$M$5:$M$237))","v":34.039518607608215},{"$f":"IF(SUMIF('Detailed price list'!$L$5:$L$237,$B90,'Detailed price list'!$M$5:$M$237)=0,0,\nSUMPRODUCT(('Detailed price list'!G$5:G$237)*('Detailed price list'!$M$5:$M$237)*('Detailed price list'!$L$5:$L$237=$B90))/SUMIF('Detailed price list'!$L$5:$L$237,$B90,'Detailed price list'!$M$5:$M$237))","v":35.018038441297833},{"$f":"IF(SUMIF('Detailed price list'!$L$5:$L$237,$B90,'Detailed price list'!$M$5:$M$237)=0,0,\nSUMPRODUCT(('Detailed price list'!H$5:H$237)*('Detailed price list'!$M$5:$M$237)*('Detailed price list'!$L$5:$L$237=$B90))/SUMIF('Detailed price list'!$L$5:$L$237,$B90,'Detailed price list'!$M$5:$M$237))","v":36.024687376223028}]
[null,"Bracket - Minor Road (Cat P) - Short",{"$f":"IF(SUMIF('Detailed price list'!$L$5:$L$237,$B91,'Detailed price list'!$M$5:$M$237)=0,0,\nSUMPRODUCT(('Detailed price list'!D$5:D$237)*('Detailed price list'!$M$5:$M$237)*('Detailed price list'!$L$5:$L$237=$B91))/SUMIF('Detailed price list'!$L$5:$L$237,$B91,'Detailed price list'!$M$5:$M$237))","v":9.6494554566378081},{"$f":"IF(SUMIF('Detailed price list'!$L$5:$L$237,$B91,'Detailed price list'!$M$5:$M$237)=0,0,\nSUMPRODUCT(('Detailed price list'!E$5:E$237)*('Detailed price list'!$M$5:$M$237)*('Detailed price list'!$L$5:$L$237=$B91))/SUMIF('Detailed price list'!$L$5:$L$237,$B91,'Detailed price list'!$M$5:$M$237))","v":9.9268443250724552},{"$f":"IF(SUMIF('Detailed price list'!$L$5:$L$237,$B91,'Detailed price list'!$M$5:$M$237)=0,0,\nSUMPRODUCT(('Detailed price list'!F$5:F$237)*('Detailed price list'!$M$5:$M$237)*('Detailed price list'!$L$5:$L$237=$B91))/SUMIF('Detailed price list'!$L$5:$L$237,$B91,'Detailed price list'!$M$5:$M$237))","v":10.21220717552891},{"$f":"IF(SUMIF('Detailed price list'!$L$5:$L$237,$B91,'Detailed price list'!$M$5:$M$237)=0,0,\nSUMPRODUCT(('Detailed price list'!G$5:G$237)*('Detailed price list'!$M$5:$M$237)*('Detailed price list'!$L$5:$L$237=$B91))/SUMIF('Detailed price list'!$L$5:$L$237,$B91,'Detailed price list'!$M$5:$M$237))","v":10.505773232740099},{"$f":"IF(SUMIF('Detailed price list'!$L$5:$L$237,$B91,'Detailed price list'!$M$5:$M$237)=0,0,\nSUMPRODUCT(('Detailed price list'!H$5:H$237)*('Detailed price list'!$M$5:$M$237)*('Detailed price list'!$L$5:$L$237=$B91))/SUMIF('Detailed price list'!$L$5:$L$237,$B91,'Detailed price list'!$M$5:$M$237))","v":10.807778310866672}]
[null,"Bracket - Minor Road (Cat P) - Medium",{"$f":"IF(SUMIF('Detailed price list'!$L$5:$L$237,$B92,'Detailed price list'!$M$5:$M$237)=0,0,\nSUMPRODUCT(('Detailed price list'!D$5:D$237)*('Detailed price list'!$M$5:$M$237)*('Detailed price list'!$L$5:$L$237=$B92))/SUMIF('Detailed price list'!$L$5:$L$237,$B92,'Detailed price list'!$M$5:$M$237))","v":0},{"$f":"IF(SUMIF('Detailed price list'!$L$5:$L$237,$B92,'Detailed price list'!$M$5:$M$237)=0,0,\nSUMPRODUCT(('Detailed price list'!E$5:E$237)*('Detailed price list'!$M$5:$M$237)*('Detailed price list'!$L$5:$L$237=$B92))/SUMIF('Detailed price list'!$L$5:$L$237,$B92,'Detailed price list'!$M$5:$M$237))","v":0},{"$f":"IF(SUMIF('Detailed price list'!$L$5:$L$237,$B92,'Detailed price list'!$M$5:$M$237)=0,0,\nSUMPRODUCT(('Detailed price list'!F$5:F$237)*('Detailed price list'!$M$5:$M$237)*('Detailed price list'!$L$5:$L$237=$B92))/SUMIF('Detailed price list'!$L$5:$L$237,$B92,'Detailed price list'!$M$5:$M$237))","v":0},{"$f":"IF(SUMIF('Detailed price list'!$L$5:$L$237,$B92,'Detailed price list'!$M$5:$M$237)=0,0,\nSUMPRODUCT(('Detailed price list'!G$5:G$237)*('Detailed price list'!$M$5:$M$237)*('Detailed price list'!$L$5:$L$237=$B92))/SUMIF('Detailed price list'!$L$5:$L$237,$B92,'Detailed price list'!$M$5:$M$237))","v":0},{"$f":"IF(SUMIF('Detailed price list'!$L$5:$L$237,$B92,'Detailed price list'!$M$5:$M$237)=0,0,\nSUMPRODUCT(('Detailed price list'!H$5:H$237)*('Detailed price list'!$M$5:$M$237)*('Detailed price list'!$L$5:$L$237=$B92))/SUMIF('Detailed price list'!$L$5:$L$237,$B92,'Detailed price list'!$M$5:$M$237))","v":0}]
[null,"Bracket - Major Road (Cat V) - Short",{"$f":"IF(SUMIF('Detailed price list'!$L$5:$L$237,$B93,'Detailed price list'!$M$5:$M$237)=0,0,\nSUMPRODUCT(('Detailed price list'!D$5:D$237)*('Detailed price list'!$M$5:$M$237)*('Detailed price list'!$L$5:$L$237=$B93))/SUMIF('Detailed price list'!$L$5:$L$237,$B93,'Detailed price list'!$M$5:$M$237))","v":12.520247031847971},{"$f":"IF(SUMIF('Detailed price list'!$L$5:$L$237,$B93,'Detailed price list'!$M$5:$M$237)=0,0,\nSUMPRODUCT(('Detailed price list'!E$5:E$237)*('Detailed price list'!$M$5:$M$237)*('Detailed price list'!$L$5:$L$237=$B93))/SUMIF('Detailed price list'!$L$5:$L$237,$B93,'Detailed price list'!$M$5:$M$237))","v":12.880161347458133},{"$f":"IF(SUMIF('Detailed price list'!$L$5:$L$237,$B93,'Detailed price list'!$M$5:$M$237)=0,0,\nSUMPRODUCT(('Detailed price list'!F$5:F$237)*('Detailed price list'!$M$5:$M$237)*('Detailed price list'!$L$5:$L$237=$B93))/SUMIF('Detailed price list'!$L$5:$L$237,$B93,'Detailed price list'!$M$5:$M$237))","v":13.250421969674838},{"$f":"IF(SUMIF('Detailed price list'!$L$5:$L$237,$B93,'Detailed price list'!$M$5:$M$237)=0,0,\nSUMPRODUCT(('Detailed price list'!G$5:G$237)*('Detailed price list'!$M$5:$M$237)*('Detailed price list'!$L$5:$L$237=$B93))/SUMIF('Detailed price list'!$L$5:$L$237,$B93,'Detailed price list'!$M$5:$M$237))","v":13.631326319455667},{"$f":"IF(SUMIF('Detailed price list'!$L$5:$L$237,$B93,'Detailed price list'!$M$5:$M$237)=0,0,\nSUMPRODUCT(('Detailed price list'!H$5:H$237)*('Detailed price list'!$M$5:$M$237)*('Detailed price list'!$L$5:$L$237=$B93))/SUMIF('Detailed price list'!$L$5:$L$237,$B93,'Detailed price list'!$M$5:$M$237))","v":14.023180367594332}]
[null,"Bracket - Major Road (Cat V) - Medium",{"$f":"IF(SUMIF('Detailed price list'!$L$5:$L$237,$B94,'Detailed price list'!$M$5:$M$237)=0,0,\nSUMPRODUCT(('Detailed price list'!D$5:D$237)*('Detailed price list'!$M$5:$M$237)*('Detailed price list'!$L$5:$L$237=$B94))/SUMIF('Detailed price list'!$L$5:$L$237,$B94,'Detailed price list'!$M$5:$M$237))","v":0},{"$f":"IF(SUMIF('Detailed price list'!$L$5:$L$237,$B94,'Detailed price list'!$M$5:$M$237)=0,0,\nSUMPRODUCT(('Detailed price list'!E$5:E$237)*('Detailed price list'!$M$5:$M$237)*('Detailed price list'!$L$5:$L$237=$B94))/SUMIF('Detailed price list'!$L$5:$L$237,$B94,'Detailed price list'!$M$5:$M$237))","v":0},{"$f":"IF(SUMIF('Detailed price list'!$L$5:$L$237,$B94,'Detailed price list'!$M$5:$M$237)=0,0,\nSUMPRODUCT(('Detailed price list'!F$5:F$237)*('Detailed price list'!$M$5:$M$237)*('Detailed price list'!$L$5:$L$237=$B94))/SUMIF('Detailed price list'!$L$5:$L$237,$B94,'Detailed price list'!$M$5:$M$237))","v":0},{"$f":"IF(SUMIF('Detailed price list'!$L$5:$L$237,$B94,'Detailed price list'!$M$5:$M$237)=0,0,\nSUMPRODUCT(('Detailed price list'!G$5:G$237)*('Detailed price list'!$M$5:$M$237)*('Detailed price list'!$L$5:$L$237=$B94))/SUMIF('Detailed price list'!$L$5:$L$237,$B94,'Detailed price list'!$M$5:$M$237))","v":0},{"$f":"IF(SUMIF('Detailed price list'!$L$5:$L$237,$B94,'Detailed price list'!$M$5:$M$237)=0,0,\nSUMPRODUCT(('Detailed price list'!H$5:H$237)*('Detailed price list'!$M$5:$M$237)*('Detailed price list'!$L$5:$L$237=$B94))/SUMIF('Detailed price list'!$L$5:$L$237,$B94,'Detailed price list'!$M$5:$M$237))","v":0}]
[null,"Bracket - Major Road (Cat V) - Long",{"$f":"IF(SUMIF('Detailed price list'!$L$5:$L$237,$B95,'Detailed price list'!$M$5:$M$237)=0,0,\nSUMPRODUCT(('Detailed price list'!D$5:D$237)*('Detailed price list'!$M$5:$M$237)*('Detailed price list'!$L$5:$L$237=$B95))/SUMIF('Detailed price list'!$L$5:$L$237,$B95,'Detailed price list'!$M$5:$M$237))","v":0},{"$f":"IF(SUMIF('Detailed price list'!$L$5:$L$237,$B95,'Detailed price list'!$M$5:$M$237)=0,0,\nSUMPRODUCT(('Detailed price list'!E$5:E$237)*('Detailed price list'!$M$5:$M$237)*('Detailed price list'!$L$5:$L$237=$B95))/SUMIF('Detailed price list'!$L$5:$L$237,$B95,'Detailed price list'!$M$5:$M$237))","v":0},{"$f":"IF(SUMIF('Detailed price list'!$L$5:$L$237,$B95,'Detailed price list'!$M$5:$M$237)=0,0,\nSUMPRODUCT(('Detailed price list'!F$5:F$237)*('Detailed price list'!$M$5:$M$237)*('Detailed price list'!$L$5:$L$237=$B95))/SUMIF('Detailed price list'!$L$5:$L$237,$B95,'Detailed price list'!$M$5:$M$237))","v":0},{"$f":"IF(SUMIF('Detailed price list'!$L$5:$L$237,$B95,'Detailed price list'!$M$5:$M$237)=0,0,\nSUMPRODUCT(('Detailed price list'!G$5:G$237)*('Detailed price list'!$M$5:$M$237)*('Detailed price list'!$L$5:$L$237=$B95))/SUMIF('Detailed price list'!$L$5:$L$237,$B95,'Detailed price list'!$M$5:$M$237))","v":0},{"$f":"IF(SUMIF('Detailed price list'!$L$5:$L$237,$B95,'Detailed price list'!$M$5:$M$237)=0,0,\nSUMPRODUCT(('Detailed price list'!H$5:H$237)*('Detailed price list'!$M$5:$M$237)*('Detailed price list'!$L$5:$L$237=$B95))/SUMIF('Detailed price list'!$L$5:$L$237,$B95,'Detailed price list'!$M$5:$M$237))","v":0}]
[null,"Legacy Luminaire - 1000W SON",{"$f":"IF(SUMIF('Detailed price list'!$L$5:$L$237,$B96,'Detailed price list'!$M$5:$M$237)=0,0,\nSUMPRODUCT(('Detailed price list'!D$5:D$237)*('Detailed price list'!$M$5:$M$237)*('Detailed price list'!$L$5:$L$237=$B96))/SUMIF('Detailed price list'!$L$5:$L$237,$B96,'Detailed price list'!$M$5:$M$237))","v":107.46721498395996},{"$f":"IF(SUMIF('Detailed price list'!$L$5:$L$237,$B96,'Detailed price list'!$M$5:$M$237)=0,0,\nSUMPRODUCT(('Detailed price list'!E$5:E$237)*('Detailed price list'!$M$5:$M$237)*('Detailed price list'!$L$5:$L$237=$B96))/SUMIF('Detailed price list'!$L$5:$L$237,$B96,'Detailed price list'!$M$5:$M$237))","v":110.55653015746205},{"$f":"IF(SUMIF('Detailed price list'!$L$5:$L$237,$B96,'Detailed price list'!$M$5:$M$237)=0,0,\nSUMPRODUCT(('Detailed price list'!F$5:F$237)*('Detailed price list'!$M$5:$M$237)*('Detailed price list'!$L$5:$L$237=$B96))/SUMIF('Detailed price list'!$L$5:$L$237,$B96,'Detailed price list'!$M$5:$M$237))","v":113.73465258481039},{"$f":"IF(SUMIF('Detailed price list'!$L$5:$L$237,$B96,'Detailed price list'!$M$5:$M$237)=0,0,\nSUMPRODUCT(('Detailed price list'!G$5:G$237)*('Detailed price list'!$M$5:$M$237)*('Detailed price list'!$L$5:$L$237=$B96))/SUMIF('Detailed price list'!$L$5:$L$237,$B96,'Detailed price list'!$M$5:$M$237))","v":117.00413517106412},{"$f":"IF(SUMIF('Detailed price list'!$L$5:$L$237,$B96,'Detailed price list'!$M$5:$M$237)=0,0,\nSUMPRODUCT(('Detailed price list'!H$5:H$237)*('Detailed price list'!$M$5:$M$237)*('Detailed price list'!$L$5:$L$237=$B96))/SUMIF('Detailed price list'!$L$5:$L$237,$B96,'Detailed price list'!$M$5:$M$237))","v":120.36760420857856}]
[null,"Legacy Luminaire - 1000W SON FLOODLIGHT",{"$f":"IF(SUMIF('Detailed price list'!$L$5:$L$237,$B97,'Detailed price list'!$M$5:$M$237)=0,0,\nSUMPRODUCT(('Detailed price list'!D$5:D$237)*('Detailed price list'!$M$5:$M$237)*('Detailed price list'!$L$5:$L$237=$B97))/SUMIF('Detailed price list'!$L$5:$L$237,$B97,'Detailed price list'!$M$5:$M$237))","v":87.929475883870793},{"$f":"IF(SUMIF('Detailed price list'!$L$5:$L$237,$B97,'Detailed price list'!$M$5:$M$237)=0,0,\nSUMPRODUCT(('Detailed price list'!E$5:E$237)*('Detailed price list'!$M$5:$M$237)*('Detailed price list'!$L$5:$L$237=$B97))/SUMIF('Detailed price list'!$L$5:$L$237,$B97,'Detailed price list'!$M$5:$M$237))","v":90.457147826301536},{"$f":"IF(SUMIF('Detailed price list'!$L$5:$L$237,$B97,'Detailed price list'!$M$5:$M$237)=0,0,\nSUMPRODUCT(('Detailed price list'!F$5:F$237)*('Detailed price list'!$M$5:$M$237)*('Detailed price list'!$L$5:$L$237=$B97))/SUMIF('Detailed price list'!$L$5:$L$237,$B97,'Detailed price list'!$M$5:$M$237))","v":93.057481699038661},{"$f":"IF(SUMIF('Detailed price list'!$L$5:$L$237,$B97,'Detailed price list'!$M$5:$M$237)=0,0,\nSUMPRODUCT(('Detailed price list'!G$5:G$237)*('Detailed price list'!$M$5:$M$237)*('Detailed price list'!$L$5:$L$237=$B97))/SUMIF('Detailed price list'!$L$5:$L$237,$B97,'Detailed price list'!$M$5:$M$237))","v":95.732566284264394},{"$f":"IF(SUMIF('Detailed price list'!$L$5:$L$237,$B97,'Detailed price list'!$M$5:$M$237)=0,0,\nSUMPRODUCT(('Detailed price list'!H$5:H$237)*('Detailed price list'!$M$5:$M$237)*('Detailed price list'!$L$5:$L$237=$B97))/SUMIF('Detailed price list'!$L$5:$L$237,$B97,'Detailed price list'!$M$5:$M$237))","v":98.484550409510547}]
[null,"Legacy Luminaire - 1000W/1500W MBI FLOODLIG",{"$f":"IF(SUMIF('Detailed price list'!$L$5:$L$237,$B98,'Detailed price list'!$M$5:$M$237)=0,0,\nSUMPRODUCT(('Detailed price list'!D$5:D$237)*('Detailed price list'!$M$5:$M$237)*('Detailed price list'!$L$5:$L$237=$B98))/SUMIF('Detailed price list'!$L$5:$L$237,$B98,'Detailed price list'!$M$5:$M$237))","v":119.10451058725982},{"$f":"IF(SUMIF('Detailed price list'!$L$5:$L$237,$B98,'Detailed price list'!$M$5:$M$237)=0,0,\nSUMPRODUCT(('Detailed price list'!E$5:E$237)*('Detailed price list'!$M$5:$M$237)*('Detailed price list'!$L$5:$L$237=$B98))/SUMIF('Detailed price list'!$L$5:$L$237,$B98,'Detailed price list'!$M$5:$M$237))","v":122.52835824018989},{"$f":"IF(SUMIF('Detailed price list'!$L$5:$L$237,$B98,'Detailed price list'!$M$5:$M$237)=0,0,\nSUMPRODUCT(('Detailed price list'!F$5:F$237)*('Detailed price list'!$M$5:$M$237)*('Detailed price list'!$L$5:$L$237=$B98))/SUMIF('Detailed price list'!$L$5:$L$237,$B98,'Detailed price list'!$M$5:$M$237))","v":126.05062981252212},{"$f":"IF(SUMIF('Detailed price list'!$L$5:$L$237,$B98,'Detailed price list'!$M$5:$M$237)=0,0,\nSUMPRODUCT(('Detailed price list'!G$5:G$237)*('Detailed price list'!$M$5:$M$237)*('Detailed price list'!$L$5:$L$237=$B98))/SUMIF('Detailed price list'!$L$5:$L$237,$B98,'Detailed price list'!$M$5:$M$237))","v":129.67415465558648},{"$f":"IF(SUMIF('Detailed price list'!$L$5:$L$237,$B98,'Detailed price list'!$M$5:$M$237)=0,0,\nSUMPRODUCT(('Detailed price list'!H$5:H$237)*('Detailed price list'!$M$5:$M$237)*('Detailed price list'!$L$5:$L$237=$B98))/SUMIF('Detailed price list'!$L$5:$L$237,$B98,'Detailed price list'!$M$5:$M$237))","v":133.40184345489473}]
[null,"Legacy Luminaire - 100W MBI",{"$f":"IF(SUMIF('Detailed price list'!$L$5:$L$237,$B99,'Detailed price list'!$M$5:$M$237)=0,0,\nSUMPRODUCT(('Detailed price list'!D$5:D$237)*('Detailed price list'!$M$5:$M$237)*('Detailed price list'!$L$5:$L$237=$B99))/SUMIF('Detailed price list'!$L$5:$L$237,$B99,'Detailed price list'!$M$5:$M$237))","v":0},{"$f":"IF(SUMIF('Detailed price list'!$L$5:$L$237,$B99,'Detailed price list'!$M$5:$M$237)=0,0,\nSUMPRODUCT(('Detailed price list'!E$5:E$237)*('Detailed price list'!$M$5:$M$237)*('Detailed price list'!$L$5:$L$237=$B99))/SUMIF('Detailed price list'!$L$5:$L$237,$B99,'Detailed price list'!$M$5:$M$237))","v":0},{"$f":"IF(SUMIF('Detailed price list'!$L$5:$L$237,$B99,'Detailed price list'!$M$5:$M$237)=0,0,\nSUMPRODUCT(('Detailed price list'!F$5:F$237)*('Detailed price list'!$M$5:$M$237)*('Detailed price list'!$L$5:$L$237=$B99))/SUMIF('Detailed price list'!$L$5:$L$237,$B99,'Detailed price list'!$M$5:$M$237))","v":0},{"$f":"IF(SUMIF('Detailed price list'!$L$5:$L$237,$B99,'Detailed price list'!$M$5:$M$237)=0,0,\nSUMPRODUCT(('Detailed price list'!G$5:G$237)*('Detailed price list'!$M$5:$M$237)*('Detailed price list'!$L$5:$L$237=$B99))/SUMIF('Detailed price list'!$L$5:$L$237,$B99,'Detailed price list'!$M$5:$M$237))","v":0},{"$f":"IF(SUMIF('Detailed price list'!$L$5:$L$237,$B99,'Detailed price list'!$M$5:$M$237)=0,0,\nSUMPRODUCT(('Detailed price list'!H$5:H$237)*('Detailed price list'!$M$5:$M$237)*('Detailed price list'!$L$5:$L$237=$B99))/SUMIF('Detailed price list'!$L$5:$L$237,$B99,'Detailed price list'!$M$5:$M$237))","v":0}]
[null,"Legacy Luminaire - 100W MBI FLOODLIGHT",{"$f":"IF(SUMIF('Detailed price list'!$L$5:$L$237,$B100,'Detailed price list'!$M$5:$M$237)=0,0,\nSUMPRODUCT(('Detailed price list'!D$5:D$237)*('Detailed price list'!$M$5:$M$237)*('Detailed price list'!$L$5:$L$237=$B100))/SUMIF('Detailed price list'!$L$5:$L$237,$B100,'Detailed price list'!$M$5:$M$237))","v":43.713903788214417},{"$f":"IF(SUMIF('Detailed price list'!$L$5:$L$237,$B100,'Detailed price list'!$M$5:$M$237)=0,0,\nSUMPRODUCT(('Detailed price list'!E$5:E$237)*('Detailed price list'!$M$5:$M$237)*('Detailed price list'!$L$5:$L$237=$B100))/SUMIF('Detailed price list'!$L$5:$L$237,$B100,'Detailed price list'!$M$5:$M$237))","v":44.970529134708201},{"$f":"IF(SUMIF('Detailed price list'!$L$5:$L$237,$B100,'Detailed price list'!$M$5:$M$237)=0,0,\nSUMPRODUCT(('Detailed price list'!F$5:F$237)*('Detailed price list'!$M$5:$M$237)*('Detailed price list'!$L$5:$L$237=$B100))/SUMIF('Detailed price list'!$L$5:$L$237,$B100,'Detailed price list'!$M$5:$M$237))","v":46.263278165535958},{"$f":"IF(SUMIF('Detailed price list'!$L$5:$L$237,$B100,'Detailed price list'!$M$5:$M$237)=0,0,\nSUMPRODUCT(('Detailed price list'!G$5:G$237)*('Detailed price list'!$M$5:$M$237)*('Detailed price list'!$L$5:$L$237=$B100))/SUMIF('Detailed price list'!$L$5:$L$237,$B100,'Detailed price list'!$M$5:$M$237))","v":47.593189313173589},{"$f":"IF(SUMIF('Detailed price list'!$L$5:$L$237,$B100,'Detailed price list'!$M$5:$M$237)=0,0,\nSUMPRODUCT(('Detailed price list'!H$5:H$237)*('Detailed price list'!$M$5:$M$237)*('Detailed price list'!$L$5:$L$237=$B100))/SUMIF('Detailed price list'!$L$5:$L$237,$B100,'Detailed price list'!$M$5:$M$237))","v":48.961330861481962}]
[null,"Legacy Luminaire - 100W SON",{"$f":"IF(SUMIF('Detailed price list'!$L$5:$L$237,$B101,'Detailed price list'!$M$5:$M$237)=0,0,\nSUMPRODUCT(('Detailed price list'!D$5:D$237)*('Detailed price list'!$M$5:$M$237)*('Detailed price list'!$L$5:$L$237=$B101))/SUMIF('Detailed price list'!$L$5:$L$237,$B101,'Detailed price list'!$M$5:$M$237))","v":42.975760162237002},{"$f":"IF(SUMIF('Detailed price list'!$L$5:$L$237,$B101,'Detailed price list'!$M$5:$M$237)=0,0,\nSUMPRODUCT(('Detailed price list'!E$5:E$237)*('Detailed price list'!$M$5:$M$237)*('Detailed price list'!$L$5:$L$237=$B101))/SUMIF('Detailed price list'!$L$5:$L$237,$B101,'Detailed price list'!$M$5:$M$237))","v":44.211166402007912},{"$f":"IF(SUMIF('Detailed price list'!$L$5:$L$237,$B101,'Detailed price list'!$M$5:$M$237)=0,0,\nSUMPRODUCT(('Detailed price list'!F$5:F$237)*('Detailed price list'!$M$5:$M$237)*('Detailed price list'!$L$5:$L$237=$B101))/SUMIF('Detailed price list'!$L$5:$L$237,$B101,'Detailed price list'!$M$5:$M$237))","v":45.482086349308439},{"$f":"IF(SUMIF('Detailed price list'!$L$5:$L$237,$B101,'Detailed price list'!$M$5:$M$237)=0,0,\nSUMPRODUCT(('Detailed price list'!G$5:G$237)*('Detailed price list'!$M$5:$M$237)*('Detailed price list'!$L$5:$L$237=$B101))/SUMIF('Detailed price list'!$L$5:$L$237,$B101,'Detailed price list'!$M$5:$M$237))","v":46.789540901865905},{"$f":"IF(SUMIF('Detailed price list'!$L$5:$L$237,$B101,'Detailed price list'!$M$5:$M$237)=0,0,\nSUMPRODUCT(('Detailed price list'!H$5:H$237)*('Detailed price list'!$M$5:$M$237)*('Detailed price list'!$L$5:$L$237=$B101))/SUMIF('Detailed price list'!$L$5:$L$237,$B101,'Detailed price list'!$M$5:$M$237))","v":48.134580304728495}]
[null,"Legacy Luminaire - 100W SON - PLAIN",{"$f":"IF(SUMIF('Detailed price list'!$L$5:$L$237,$B102,'Detailed price list'!$M$5:$M$237)=0,0,\nSUMPRODUCT(('Detailed price list'!D$5:D$237)*('Detailed price list'!$M$5:$M$237)*('Detailed price list'!$L$5:$L$237=$B102))/SUMIF('Detailed price list'!$L$5:$L$237,$B102,'Detailed price list'!$M$5:$M$237))","v":42.975760162237009},{"$f":"IF(SUMIF('Detailed price list'!$L$5:$L$237,$B102,'Detailed price list'!$M$5:$M$237)=0,0,\nSUMPRODUCT(('Detailed price list'!E$5:E$237)*('Detailed price list'!$M$5:$M$237)*('Detailed price list'!$L$5:$L$237=$B102))/SUMIF('Detailed price list'!$L$5:$L$237,$B102,'Detailed price list'!$M$5:$M$237))","v":44.211166402007912},{"$f":"IF(SUMIF('Detailed price list'!$L$5:$L$237,$B102,'Detailed price list'!$M$5:$M$237)=0,0,\nSUMPRODUCT(('Detailed price list'!F$5:F$237)*('Detailed price list'!$M$5:$M$237)*('Detailed price list'!$L$5:$L$237=$B102))/SUMIF('Detailed price list'!$L$5:$L$237,$B102,'Detailed price list'!$M$5:$M$237))","v":45.482086349308439},{"$f":"IF(SUMIF('Detailed price list'!$L$5:$L$237,$B102,'Detailed price list'!$M$5:$M$237)=0,0,\nSUMPRODUCT(('Detailed price list'!G$5:G$237)*('Detailed price list'!$M$5:$M$237)*('Detailed price list'!$L$5:$L$237=$B102))/SUMIF('Detailed price list'!$L$5:$L$237,$B102,'Detailed price list'!$M$5:$M$237))","v":46.789540901865905},{"$f":"IF(SUMIF('Detailed price list'!$L$5:$L$237,$B102,'Detailed price list'!$M$5:$M$237)=0,0,\nSUMPRODUCT(('Detailed price list'!H$5:H$237)*('Detailed price list'!$M$5:$M$237)*('Detailed price list'!$L$5:$L$237=$B102))/SUMIF('Detailed price list'!$L$5:$L$237,$B102,'Detailed price list'!$M$5:$M$237))","v":48.134580304728495}]
[null,"Legacy Luminaire - 100W SON FLOODLIGHT",{"$f":"IF(SUMIF('Detailed price list'!$L$5:$L$237,$B103,'Detailed price list'!$M$5:$M$237)=0,0,\nSUMPRODUCT(('Detailed price list'!D$5:D$237)*('Detailed price list'!$M$5:$M$237)*('Detailed price list'!$L$5:$L$237=$B103))/SUMIF('Detailed price list'!$L$5:$L$237,$B103,'Detailed price list'!$M$5:$M$237))","v":63.172830678238313},{"$f":"IF(SUMIF('Detailed price list'!$L$5:$L$237,$B103,'Detailed price list'!$M$5:$M$237)=0,0,\nSUMPRODUCT(('Detailed price list'!E$5:E$237)*('Detailed price list'!$M$5:$M$237)*('Detailed price list'!$L$5:$L$237=$B103))/SUMIF('Detailed price list'!$L$5:$L$237,$B103,'Detailed price list'!$M$5:$M$237))","v":64.988833674096057},{"$f":"IF(SUMIF('Detailed price list'!$L$5:$L$237,$B103,'Detailed price list'!$M$5:$M$237)=0,0,\nSUMPRODUCT(('Detailed price list'!F$5:F$237)*('Detailed price list'!$M$5:$M$237)*('Detailed price list'!$L$5:$L$237=$B103))/SUMIF('Detailed price list'!$L$5:$L$237,$B103,'Detailed price list'!$M$5:$M$237))","v":66.857040550095903},{"$f":"IF(SUMIF('Detailed price list'!$L$5:$L$237,$B103,'Detailed price list'!$M$5:$M$237)=0,0,\nSUMPRODUCT(('Detailed price list'!G$5:G$237)*('Detailed price list'!$M$5:$M$237)*('Detailed price list'!$L$5:$L$237=$B103))/SUMIF('Detailed price list'!$L$5:$L$237,$B103,'Detailed price list'!$M$5:$M$237))","v":68.778951989390976},{"$f":"IF(SUMIF('Detailed price list'!$L$5:$L$237,$B103,'Detailed price list'!$M$5:$M$237)=0,0,\nSUMPRODUCT(('Detailed price list'!H$5:H$237)*('Detailed price list'!$M$5:$M$237)*('Detailed price list'!$L$5:$L$237=$B103))/SUMIF('Detailed price list'!$L$5:$L$237,$B103,'Detailed price list'!$M$5:$M$237))","v":70.756111814646616}]
[null,"Legacy Luminaire - 125W MBF",{"$f":"IF(SUMIF('Detailed price list'!$L$5:$L$237,$B104,'Detailed price list'!$M$5:$M$237)=0,0,\nSUMPRODUCT(('Detailed price list'!D$5:D$237)*('Detailed price list'!$M$5:$M$237)*('Detailed price list'!$L$5:$L$237=$B104))/SUMIF('Detailed price list'!$L$5:$L$237,$B104,'Detailed price list'!$M$5:$M$237))","v":0},{"$f":"IF(SUMIF('Detailed price list'!$L$5:$L$237,$B104,'Detailed price list'!$M$5:$M$237)=0,0,\nSUMPRODUCT(('Detailed price list'!E$5:E$237)*('Detailed price list'!$M$5:$M$237)*('Detailed price list'!$L$5:$L$237=$B104))/SUMIF('Detailed price list'!$L$5:$L$237,$B104,'Detailed price list'!$M$5:$M$237))","v":0},{"$f":"IF(SUMIF('Detailed price list'!$L$5:$L$237,$B104,'Detailed price list'!$M$5:$M$237)=0,0,\nSUMPRODUCT(('Detailed price list'!F$5:F$237)*('Detailed price list'!$M$5:$M$237)*('Detailed price list'!$L$5:$L$237=$B104))/SUMIF('Detailed price list'!$L$5:$L$237,$B104,'Detailed price list'!$M$5:$M$237))","v":0},{"$f":"IF(SUMIF('Detailed price list'!$L$5:$L$237,$B104,'Detailed price list'!$M$5:$M$237)=0,0,\nSUMPRODUCT(('Detailed price list'!G$5:G$237)*('Detailed price list'!$M$5:$M$237)*('Detailed price list'!$L$5:$L$237=$B104))/SUMIF('Detailed price list'!$L$5:$L$237,$B104,'Detailed price list'!$M$5:$M$237))","v":0},{"$f":"IF(SUMIF('Detailed price list'!$L$5:$L$237,$B104,'Detailed price list'!$M$5:$M$237)=0,0,\nSUMPRODUCT(('Detailed price list'!H$5:H$237)*('Detailed price list'!$M$5:$M$237)*('Detailed price list'!$L$5:$L$237=$B104))/SUMIF('Detailed price list'!$L$5:$L$237,$B104,'Detailed price list'!$M$5:$M$237))","v":0}]
[null,"Legacy Luminaire - 125W MBF - BOURKE HILL",{"$f":"IF(SUMIF('Detailed price list'!$L$5:$L$237,$B105,'Detailed price list'!$M$5:$M$237)=0,0,\nSUMPRODUCT(('Detailed price list'!D$5:D$237)*('Detailed price list'!$M$5:$M$237)*('Detailed price list'!$L$5:$L$237=$B105))/SUMIF('Detailed price list'!$L$5:$L$237,$B105,'Detailed price list'!$M$5:$M$237))","v":80.651315338020069},{"$f":"IF(SUMIF('Detailed price list'!$L$5:$L$237,$B105,'Detailed price list'!$M$5:$M$237)=0,0,\nSUMPRODUCT(('Detailed price list'!E$5:E$237)*('Detailed price list'!$M$5:$M$237)*('Detailed price list'!$L$5:$L$237=$B105))/SUMIF('Detailed price list'!$L$5:$L$237,$B105,'Detailed price list'!$M$5:$M$237))","v":82.969765037063951},{"$f":"IF(SUMIF('Detailed price list'!$L$5:$L$237,$B105,'Detailed price list'!$M$5:$M$237)=0,0,\nSUMPRODUCT(('Detailed price list'!F$5:F$237)*('Detailed price list'!$M$5:$M$237)*('Detailed price list'!$L$5:$L$237=$B105))/SUMIF('Detailed price list'!$L$5:$L$237,$B105,'Detailed price list'!$M$5:$M$237))","v":85.354862241910666},{"$f":"IF(SUMIF('Detailed price list'!$L$5:$L$237,$B105,'Detailed price list'!$M$5:$M$237)=0,0,\nSUMPRODUCT(('Detailed price list'!G$5:G$237)*('Detailed price list'!$M$5:$M$237)*('Detailed price list'!$L$5:$L$237=$B105))/SUMIF('Detailed price list'!$L$5:$L$237,$B105,'Detailed price list'!$M$5:$M$237))","v":87.808522840591593},{"$f":"IF(SUMIF('Detailed price list'!$L$5:$L$237,$B105,'Detailed price list'!$M$5:$M$237)=0,0,\nSUMPRODUCT(('Detailed price list'!H$5:H$237)*('Detailed price list'!$M$5:$M$237)*('Detailed price list'!$L$5:$L$237=$B105))/SUMIF('Detailed price list'!$L$5:$L$237,$B105,'Detailed price list'!$M$5:$M$237))","v":90.332717796371668}]
[null,"Legacy Luminaire - 125W MBF - PARKVILLE",{"$f":"IF(SUMIF('Detailed price list'!$L$5:$L$237,$B106,'Detailed price list'!$M$5:$M$237)=0,0,\nSUMPRODUCT(('Detailed price list'!D$5:D$237)*('Detailed price list'!$M$5:$M$237)*('Detailed price list'!$L$5:$L$237=$B106))/SUMIF('Detailed price list'!$L$5:$L$237,$B106,'Detailed price list'!$M$5:$M$237))","v":101.54231775240112},{"$f":"IF(SUMIF('Detailed price list'!$L$5:$L$237,$B106,'Detailed price list'!$M$5:$M$237)=0,0,\nSUMPRODUCT(('Detailed price list'!E$5:E$237)*('Detailed price list'!$M$5:$M$237)*('Detailed price list'!$L$5:$L$237=$B106))/SUMIF('Detailed price list'!$L$5:$L$237,$B106,'Detailed price list'!$M$5:$M$237))","v":104.46131237817499},{"$f":"IF(SUMIF('Detailed price list'!$L$5:$L$237,$B106,'Detailed price list'!$M$5:$M$237)=0,0,\nSUMPRODUCT(('Detailed price list'!F$5:F$237)*('Detailed price list'!$M$5:$M$237)*('Detailed price list'!$L$5:$L$237=$B106))/SUMIF('Detailed price list'!$L$5:$L$237,$B106,'Detailed price list'!$M$5:$M$237))","v":107.46421812409949},{"$f":"IF(SUMIF('Detailed price list'!$L$5:$L$237,$B106,'Detailed price list'!$M$5:$M$237)=0,0,\nSUMPRODUCT(('Detailed price list'!G$5:G$237)*('Detailed price list'!$M$5:$M$237)*('Detailed price list'!$L$5:$L$237=$B106))/SUMIF('Detailed price list'!$L$5:$L$237,$B106,'Detailed price list'!$M$5:$M$237))","v":110.55344714812202},{"$f":"IF(SUMIF('Detailed price list'!$L$5:$L$237,$B106,'Detailed price list'!$M$5:$M$237)=0,0,\nSUMPRODUCT(('Detailed price list'!H$5:H$237)*('Detailed price list'!$M$5:$M$237)*('Detailed price list'!$L$5:$L$237=$B106))/SUMIF('Detailed price list'!$L$5:$L$237,$B106,'Detailed price list'!$M$5:$M$237))","v":113.73148094948768}]
[null,"Legacy Luminaire - 125W MBF - PLAIN",{"$f":"IF(SUMIF('Detailed price list'!$L$5:$L$237,$B107,'Detailed price list'!$M$5:$M$237)=0,0,\nSUMPRODUCT(('Detailed price list'!D$5:D$237)*('Detailed price list'!$M$5:$M$237)*('Detailed price list'!$L$5:$L$237=$B107))/SUMIF('Detailed price list'!$L$5:$L$237,$B107,'Detailed price list'!$M$5:$M$237))","v":26.094043482576225},{"$f":"IF(SUMIF('Detailed price list'!$L$5:$L$237,$B107,'Detailed price list'!$M$5:$M$237)=0,0,\nSUMPRODUCT(('Detailed price list'!E$5:E$237)*('Detailed price list'!$M$5:$M$237)*('Detailed price list'!$L$5:$L$237=$B107))/SUMIF('Detailed price list'!$L$5:$L$237,$B107,'Detailed price list'!$M$5:$M$237))","v":26.844158059201085},{"$f":"IF(SUMIF('Detailed price list'!$L$5:$L$237,$B107,'Detailed price list'!$M$5:$M$237)=0,0,\nSUMPRODUCT(('Detailed price list'!F$5:F$237)*('Detailed price list'!$M$5:$M$237)*('Detailed price list'!$L$5:$L$237=$B107))/SUMIF('Detailed price list'!$L$5:$L$237,$B107,'Detailed price list'!$M$5:$M$237))","v":27.615835866470547},{"$f":"IF(SUMIF('Detailed price list'!$L$5:$L$237,$B107,'Detailed price list'!$M$5:$M$237)=0,0,\nSUMPRODUCT(('Detailed price list'!G$5:G$237)*('Detailed price list'!$M$5:$M$237)*('Detailed price list'!$L$5:$L$237=$B107))/SUMIF('Detailed price list'!$L$5:$L$237,$B107,'Detailed price list'!$M$5:$M$237))","v":28.409696773575693},{"$f":"IF(SUMIF('Detailed price list'!$L$5:$L$237,$B107,'Detailed price list'!$M$5:$M$237)=0,0,\nSUMPRODUCT(('Detailed price list'!H$5:H$237)*('Detailed price list'!$M$5:$M$237)*('Detailed price list'!$L$5:$L$237=$B107))/SUMIF('Detailed price list'!$L$5:$L$237,$B107,'Detailed price list'!$M$5:$M$237))","v":29.226378468828525}]
[null,"Legacy Luminaire - 125W/250W MBF FLOODLIGHT",{"$f":"IF(SUMIF('Detailed price list'!$L$5:$L$237,$B108,'Detailed price list'!$M$5:$M$237)=0,0,\nSUMPRODUCT(('Detailed price list'!D$5:D$237)*('Detailed price list'!$M$5:$M$237)*('Detailed price list'!$L$5:$L$237=$B108))/SUMIF('Detailed price list'!$L$5:$L$237,$B108,'Detailed price list'!$M$5:$M$237))","v":36.023132488936483},{"$f":"IF(SUMIF('Detailed price list'!$L$5:$L$237,$B108,'Detailed price list'!$M$5:$M$237)=0,0,\nSUMPRODUCT(('Detailed price list'!E$5:E$237)*('Detailed price list'!$M$5:$M$237)*('Detailed price list'!$L$5:$L$237=$B108))/SUMIF('Detailed price list'!$L$5:$L$237,$B108,'Detailed price list'!$M$5:$M$237))","v":37.058674442933871},{"$f":"IF(SUMIF('Detailed price list'!$L$5:$L$237,$B108,'Detailed price list'!$M$5:$M$237)=0,0,\nSUMPRODUCT(('Detailed price list'!F$5:F$237)*('Detailed price list'!$M$5:$M$237)*('Detailed price list'!$L$5:$L$237=$B108))/SUMIF('Detailed price list'!$L$5:$L$237,$B108,'Detailed price list'!$M$5:$M$237))","v":38.123984689258918},{"$f":"IF(SUMIF('Detailed price list'!$L$5:$L$237,$B108,'Detailed price list'!$M$5:$M$237)=0,0,\nSUMPRODUCT(('Detailed price list'!G$5:G$237)*('Detailed price list'!$M$5:$M$237)*('Detailed price list'!$L$5:$L$237=$B108))/SUMIF('Detailed price list'!$L$5:$L$237,$B108,'Detailed price list'!$M$5:$M$237))","v":39.219918964586213},{"$f":"IF(SUMIF('Detailed price list'!$L$5:$L$237,$B108,'Detailed price list'!$M$5:$M$237)=0,0,\nSUMPRODUCT(('Detailed price list'!H$5:H$237)*('Detailed price list'!$M$5:$M$237)*('Detailed price list'!$L$5:$L$237=$B108))/SUMIF('Detailed price list'!$L$5:$L$237,$B108,'Detailed price list'!$M$5:$M$237))","v":40.347357605095347}]
[null,"Legacy Luminaire - 150W SON",{"$f":"IF(SUMIF('Detailed price list'!$L$5:$L$237,$B109,'Detailed price list'!$M$5:$M$237)=0,0,\nSUMPRODUCT(('Detailed price list'!D$5:D$237)*('Detailed price list'!$M$5:$M$237)*('Detailed price list'!$L$5:$L$237=$B109))/SUMIF('Detailed price list'!$L$5:$L$237,$B109,'Detailed price list'!$M$5:$M$237))","v":43.360209967433576},{"$f":"IF(SUMIF('Detailed price list'!$L$5:$L$237,$B109,'Detailed price list'!$M$5:$M$237)=0,0,\nSUMPRODUCT(('Detailed price list'!E$5:E$237)*('Detailed price list'!$M$5:$M$237)*('Detailed price list'!$L$5:$L$237=$B109))/SUMIF('Detailed price list'!$L$5:$L$237,$B109,'Detailed price list'!$M$5:$M$237))","v":44.606667825289314},{"$f":"IF(SUMIF('Detailed price list'!$L$5:$L$237,$B109,'Detailed price list'!$M$5:$M$237)=0,0,\nSUMPRODUCT(('Detailed price list'!F$5:F$237)*('Detailed price list'!$M$5:$M$237)*('Detailed price list'!$L$5:$L$237=$B109))/SUMIF('Detailed price list'!$L$5:$L$237,$B109,'Detailed price list'!$M$5:$M$237))","v":45.888957086926936},{"$f":"IF(SUMIF('Detailed price list'!$L$5:$L$237,$B109,'Detailed price list'!$M$5:$M$237)=0,0,\nSUMPRODUCT(('Detailed price list'!G$5:G$237)*('Detailed price list'!$M$5:$M$237)*('Detailed price list'!$L$5:$L$237=$B109))/SUMIF('Detailed price list'!$L$5:$L$237,$B109,'Detailed price list'!$M$5:$M$237))","v":47.20810778275532},{"$f":"IF(SUMIF('Detailed price list'!$L$5:$L$237,$B109,'Detailed price list'!$M$5:$M$237)=0,0,\nSUMPRODUCT(('Detailed price list'!H$5:H$237)*('Detailed price list'!$M$5:$M$237)*('Detailed price list'!$L$5:$L$237=$B109))/SUMIF('Detailed price list'!$L$5:$L$237,$B109,'Detailed price list'!$M$5:$M$237))","v":48.565179553037588}]
[null,"Legacy Luminaire - 150W SON - PARKVILLE",{"$f":"IF(SUMIF('Detailed price list'!$L$5:$L$237,$B110,'Detailed price list'!$M$5:$M$237)=0,0,\nSUMPRODUCT(('Detailed price list'!D$5:D$237)*('Detailed price list'!$M$5:$M$237)*('Detailed price list'!$L$5:$L$237=$B110))/SUMIF('Detailed price list'!$L$5:$L$237,$B110,'Detailed price list'!$M$5:$M$237))","v":117.06692661971807},{"$f":"IF(SUMIF('Detailed price list'!$L$5:$L$237,$B110,'Detailed price list'!$M$5:$M$237)=0,0,\nSUMPRODUCT(('Detailed price list'!E$5:E$237)*('Detailed price list'!$M$5:$M$237)*('Detailed price list'!$L$5:$L$237=$B110))/SUMIF('Detailed price list'!$L$5:$L$237,$B110,'Detailed price list'!$M$5:$M$237))","v":120.43220069679849},{"$f":"IF(SUMIF('Detailed price list'!$L$5:$L$237,$B110,'Detailed price list'!$M$5:$M$237)=0,0,\nSUMPRODUCT(('Detailed price list'!F$5:F$237)*('Detailed price list'!$M$5:$M$237)*('Detailed price list'!$L$5:$L$237=$B110))/SUMIF('Detailed price list'!$L$5:$L$237,$B110,'Detailed price list'!$M$5:$M$237))","v":123.89421490314409},{"$f":"IF(SUMIF('Detailed price list'!$L$5:$L$237,$B110,'Detailed price list'!$M$5:$M$237)=0,0,\nSUMPRODUCT(('Detailed price list'!G$5:G$237)*('Detailed price list'!$M$5:$M$237)*('Detailed price list'!$L$5:$L$237=$B110))/SUMIF('Detailed price list'!$L$5:$L$237,$B110,'Detailed price list'!$M$5:$M$237))","v":127.45575018687261},{"$f":"IF(SUMIF('Detailed price list'!$L$5:$L$237,$B110,'Detailed price list'!$M$5:$M$237)=0,0,\nSUMPRODUCT(('Detailed price list'!H$5:H$237)*('Detailed price list'!$M$5:$M$237)*('Detailed price list'!$L$5:$L$237=$B110))/SUMIF('Detailed price list'!$L$5:$L$237,$B110,'Detailed price list'!$M$5:$M$237))","v":131.11966743885654}]
[null,"Legacy Luminaire - 150W SON - PARKWAY 1",{"$f":"IF(SUMIF('Detailed price list'!$L$5:$L$237,$B111,'Detailed price list'!$M$5:$M$237)=0,0,\nSUMPRODUCT(('Detailed price list'!D$5:D$237)*('Detailed price list'!$M$5:$M$237)*('Detailed price list'!$L$5:$L$237=$B111))/SUMIF('Detailed price list'!$L$5:$L$237,$B111,'Detailed price list'!$M$5:$M$237))","v":51.721993230458757},{"$f":"IF(SUMIF('Detailed price list'!$L$5:$L$237,$B111,'Detailed price list'!$M$5:$M$237)=0,0,\nSUMPRODUCT(('Detailed price list'!E$5:E$237)*('Detailed price list'!$M$5:$M$237)*('Detailed price list'!$L$5:$L$237=$B111))/SUMIF('Detailed price list'!$L$5:$L$237,$B111,'Detailed price list'!$M$5:$M$237))","v":53.208823781659675},{"$f":"IF(SUMIF('Detailed price list'!$L$5:$L$237,$B111,'Detailed price list'!$M$5:$M$237)=0,0,\nSUMPRODUCT(('Detailed price list'!F$5:F$237)*('Detailed price list'!$M$5:$M$237)*('Detailed price list'!$L$5:$L$237=$B111))/SUMIF('Detailed price list'!$L$5:$L$237,$B111,'Detailed price list'!$M$5:$M$237))","v":54.738395630129126},{"$f":"IF(SUMIF('Detailed price list'!$L$5:$L$237,$B111,'Detailed price list'!$M$5:$M$237)=0,0,\nSUMPRODUCT(('Detailed price list'!G$5:G$237)*('Detailed price list'!$M$5:$M$237)*('Detailed price list'!$L$5:$L$237=$B111))/SUMIF('Detailed price list'!$L$5:$L$237,$B111,'Detailed price list'!$M$5:$M$237))","v":56.311937442099953},{"$f":"IF(SUMIF('Detailed price list'!$L$5:$L$237,$B111,'Detailed price list'!$M$5:$M$237)=0,0,\nSUMPRODUCT(('Detailed price list'!H$5:H$237)*('Detailed price list'!$M$5:$M$237)*('Detailed price list'!$L$5:$L$237=$B111))/SUMIF('Detailed price list'!$L$5:$L$237,$B111,'Detailed price list'!$M$5:$M$237))","v":57.93071320376032}]
[null,"Legacy Luminaire - 150W SON ACTIVE REACTOR",{"$f":"IF(SUMIF('Detailed price list'!$L$5:$L$237,$B112,'Detailed price list'!$M$5:$M$237)=0,0,\nSUMPRODUCT(('Detailed price list'!D$5:D$237)*('Detailed price list'!$M$5:$M$237)*('Detailed price list'!$L$5:$L$237=$B112))/SUMIF('Detailed price list'!$L$5:$L$237,$B112,'Detailed price list'!$M$5:$M$237))","v":63.736049642851263},{"$f":"IF(SUMIF('Detailed price list'!$L$5:$L$237,$B112,'Detailed price list'!$M$5:$M$237)=0,0,\nSUMPRODUCT(('Detailed price list'!E$5:E$237)*('Detailed price list'!$M$5:$M$237)*('Detailed price list'!$L$5:$L$237=$B112))/SUMIF('Detailed price list'!$L$5:$L$237,$B112,'Detailed price list'!$M$5:$M$237))","v":65.568243259203285},{"$f":"IF(SUMIF('Detailed price list'!$L$5:$L$237,$B112,'Detailed price list'!$M$5:$M$237)=0,0,\nSUMPRODUCT(('Detailed price list'!F$5:F$237)*('Detailed price list'!$M$5:$M$237)*('Detailed price list'!$L$5:$L$237=$B112))/SUMIF('Detailed price list'!$L$5:$L$237,$B112,'Detailed price list'!$M$5:$M$237))","v":67.453106180706982},{"$f":"IF(SUMIF('Detailed price list'!$L$5:$L$237,$B112,'Detailed price list'!$M$5:$M$237)=0,0,\nSUMPRODUCT(('Detailed price list'!G$5:G$237)*('Detailed price list'!$M$5:$M$237)*('Detailed price list'!$L$5:$L$237=$B112))/SUMIF('Detailed price list'!$L$5:$L$237,$B112,'Detailed price list'!$M$5:$M$237))","v":69.392152469893958},{"$f":"IF(SUMIF('Detailed price list'!$L$5:$L$237,$B112,'Detailed price list'!$M$5:$M$237)=0,0,\nSUMPRODUCT(('Detailed price list'!H$5:H$237)*('Detailed price list'!$M$5:$M$237)*('Detailed price list'!$L$5:$L$237=$B112))/SUMIF('Detailed price list'!$L$5:$L$237,$B112,'Detailed price list'!$M$5:$M$237))","v":71.386939713419423}]
[null,"Legacy Luminaire - 150W SON FLOODLIGHT",{"$f":"IF(SUMIF('Detailed price list'!$L$5:$L$237,$B113,'Detailed price list'!$M$5:$M$237)=0,0,\nSUMPRODUCT(('Detailed price list'!D$5:D$237)*('Detailed price list'!$M$5:$M$237)*('Detailed price list'!$L$5:$L$237=$B113))/SUMIF('Detailed price list'!$L$5:$L$237,$B113,'Detailed price list'!$M$5:$M$237))","v":50.760868717467361},{"$f":"IF(SUMIF('Detailed price list'!$L$5:$L$237,$B113,'Detailed price list'!$M$5:$M$237)=0,0,\nSUMPRODUCT(('Detailed price list'!E$5:E$237)*('Detailed price list'!$M$5:$M$237)*('Detailed price list'!$L$5:$L$237=$B113))/SUMIF('Detailed price list'!$L$5:$L$237,$B113,'Detailed price list'!$M$5:$M$237))","v":52.220070223456183},{"$f":"IF(SUMIF('Detailed price list'!$L$5:$L$237,$B113,'Detailed price list'!$M$5:$M$237)=0,0,\nSUMPRODUCT(('Detailed price list'!F$5:F$237)*('Detailed price list'!$M$5:$M$237)*('Detailed price list'!$L$5:$L$237=$B113))/SUMIF('Detailed price list'!$L$5:$L$237,$B113,'Detailed price list'!$M$5:$M$237))","v":53.721218786082908},{"$f":"IF(SUMIF('Detailed price list'!$L$5:$L$237,$B113,'Detailed price list'!$M$5:$M$237)=0,0,\nSUMPRODUCT(('Detailed price list'!G$5:G$237)*('Detailed price list'!$M$5:$M$237)*('Detailed price list'!$L$5:$L$237=$B113))/SUMIF('Detailed price list'!$L$5:$L$237,$B113,'Detailed price list'!$M$5:$M$237))","v":55.26552023987643},{"$f":"IF(SUMIF('Detailed price list'!$L$5:$L$237,$B113,'Detailed price list'!$M$5:$M$237)=0,0,\nSUMPRODUCT(('Detailed price list'!H$5:H$237)*('Detailed price list'!$M$5:$M$237)*('Detailed price list'!$L$5:$L$237=$B113))/SUMIF('Detailed price list'!$L$5:$L$237,$B113,'Detailed price list'!$M$5:$M$237))","v":56.854215082987594}]
[null,"Legacy Luminaire - 150W/250W MBI FLOODLIGHT",{"$f":"IF(SUMIF('Detailed price list'!$L$5:$L$237,$B114,'Detailed price list'!$M$5:$M$237)=0,0,\nSUMPRODUCT(('Detailed price list'!D$5:D$237)*('Detailed price list'!$M$5:$M$237)*('Detailed price list'!$L$5:$L$237=$B114))/SUMIF('Detailed price list'!$L$5:$L$237,$B114,'Detailed price list'!$M$5:$M$237))","v":77.945314442916114},{"$f":"IF(SUMIF('Detailed price list'!$L$5:$L$237,$B114,'Detailed price list'!$M$5:$M$237)=0,0,\nSUMPRODUCT(('Detailed price list'!E$5:E$237)*('Detailed price list'!$M$5:$M$237)*('Detailed price list'!$L$5:$L$237=$B114))/SUMIF('Detailed price list'!$L$5:$L$237,$B114,'Detailed price list'!$M$5:$M$237))","v":80.185975863683666},{"$f":"IF(SUMIF('Detailed price list'!$L$5:$L$237,$B114,'Detailed price list'!$M$5:$M$237)=0,0,\nSUMPRODUCT(('Detailed price list'!F$5:F$237)*('Detailed price list'!$M$5:$M$237)*('Detailed price list'!$L$5:$L$237=$B114))/SUMIF('Detailed price list'!$L$5:$L$237,$B114,'Detailed price list'!$M$5:$M$237))","v":82.491048643086415},{"$f":"IF(SUMIF('Detailed price list'!$L$5:$L$237,$B114,'Detailed price list'!$M$5:$M$237)=0,0,\nSUMPRODUCT(('Detailed price list'!G$5:G$237)*('Detailed price list'!$M$5:$M$237)*('Detailed price list'!$L$5:$L$237=$B114))/SUMIF('Detailed price list'!$L$5:$L$237,$B114,'Detailed price list'!$M$5:$M$237))","v":84.862384387566451},{"$f":"IF(SUMIF('Detailed price list'!$L$5:$L$237,$B114,'Detailed price list'!$M$5:$M$237)=0,0,\nSUMPRODUCT(('Detailed price list'!H$5:H$237)*('Detailed price list'!$M$5:$M$237)*('Detailed price list'!$L$5:$L$237=$B114))/SUMIF('Detailed price list'!$L$5:$L$237,$B114,'Detailed price list'!$M$5:$M$237))","v":87.301887930923428}]
[null,"Legacy Luminaire - 250W MBF",{"$f":"IF(SUMIF('Detailed price list'!$L$5:$L$237,$B115,'Detailed price list'!$M$5:$M$237)=0,0,\nSUMPRODUCT(('Detailed price list'!D$5:D$237)*('Detailed price list'!$M$5:$M$237)*('Detailed price list'!$L$5:$L$237=$B115))/SUMIF('Detailed price list'!$L$5:$L$237,$B115,'Detailed price list'!$M$5:$M$237))","v":42.591310357040456},{"$f":"IF(SUMIF('Detailed price list'!$L$5:$L$237,$B115,'Detailed price list'!$M$5:$M$237)=0,0,\nSUMPRODUCT(('Detailed price list'!E$5:E$237)*('Detailed price list'!$M$5:$M$237)*('Detailed price list'!$L$5:$L$237=$B115))/SUMIF('Detailed price list'!$L$5:$L$237,$B115,'Detailed price list'!$M$5:$M$237))","v":43.815664978726524},{"$f":"IF(SUMIF('Detailed price list'!$L$5:$L$237,$B115,'Detailed price list'!$M$5:$M$237)=0,0,\nSUMPRODUCT(('Detailed price list'!F$5:F$237)*('Detailed price list'!$M$5:$M$237)*('Detailed price list'!$L$5:$L$237=$B115))/SUMIF('Detailed price list'!$L$5:$L$237,$B115,'Detailed price list'!$M$5:$M$237))","v":45.075215611689963},{"$f":"IF(SUMIF('Detailed price list'!$L$5:$L$237,$B115,'Detailed price list'!$M$5:$M$237)=0,0,\nSUMPRODUCT(('Detailed price list'!G$5:G$237)*('Detailed price list'!$M$5:$M$237)*('Detailed price list'!$L$5:$L$237=$B115))/SUMIF('Detailed price list'!$L$5:$L$237,$B115,'Detailed price list'!$M$5:$M$237))","v":46.370974020976512},{"$f":"IF(SUMIF('Detailed price list'!$L$5:$L$237,$B115,'Detailed price list'!$M$5:$M$237)=0,0,\nSUMPRODUCT(('Detailed price list'!H$5:H$237)*('Detailed price list'!$M$5:$M$237)*('Detailed price list'!$L$5:$L$237=$B115))/SUMIF('Detailed price list'!$L$5:$L$237,$B115,'Detailed price list'!$M$5:$M$237))","v":47.703981056419408}]
[null,"Legacy Luminaire - 250W MBF - PARKWAY 1",{"$f":"IF(SUMIF('Detailed price list'!$L$5:$L$237,$B116,'Detailed price list'!$M$5:$M$237)=0,0,\nSUMPRODUCT(('Detailed price list'!D$5:D$237)*('Detailed price list'!$M$5:$M$237)*('Detailed price list'!$L$5:$L$237=$B116))/SUMIF('Detailed price list'!$L$5:$L$237,$B116,'Detailed price list'!$M$5:$M$237))","v":51.721993230458764},{"$f":"IF(SUMIF('Detailed price list'!$L$5:$L$237,$B116,'Detailed price list'!$M$5:$M$237)=0,0,\nSUMPRODUCT(('Detailed price list'!E$5:E$237)*('Detailed price list'!$M$5:$M$237)*('Detailed price list'!$L$5:$L$237=$B116))/SUMIF('Detailed price list'!$L$5:$L$237,$B116,'Detailed price list'!$M$5:$M$237))","v":53.208823781659675},{"$f":"IF(SUMIF('Detailed price list'!$L$5:$L$237,$B116,'Detailed price list'!$M$5:$M$237)=0,0,\nSUMPRODUCT(('Detailed price list'!F$5:F$237)*('Detailed price list'!$M$5:$M$237)*('Detailed price list'!$L$5:$L$237=$B116))/SUMIF('Detailed price list'!$L$5:$L$237,$B116,'Detailed price list'!$M$5:$M$237))","v":54.738395630129133},{"$f":"IF(SUMIF('Detailed price list'!$L$5:$L$237,$B116,'Detailed price list'!$M$5:$M$237)=0,0,\nSUMPRODUCT(('Detailed price list'!G$5:G$237)*('Detailed price list'!$M$5:$M$237)*('Detailed price list'!$L$5:$L$237=$B116))/SUMIF('Detailed price list'!$L$5:$L$237,$B116,'Detailed price list'!$M$5:$M$237))","v":56.311937442099946},{"$f":"IF(SUMIF('Detailed price list'!$L$5:$L$237,$B116,'Detailed price list'!$M$5:$M$237)=0,0,\nSUMPRODUCT(('Detailed price list'!H$5:H$237)*('Detailed price list'!$M$5:$M$237)*('Detailed price list'!$L$5:$L$237=$B116))/SUMIF('Detailed price list'!$L$5:$L$237,$B116,'Detailed price list'!$M$5:$M$237))","v":57.93071320376032}]
[null,"Legacy Luminaire - 250W SON",{"$f":"IF(SUMIF('Detailed price list'!$L$5:$L$237,$B117,'Detailed price list'!$M$5:$M$237)=0,0,\nSUMPRODUCT(('Detailed price list'!D$5:D$237)*('Detailed price list'!$M$5:$M$237)*('Detailed price list'!$L$5:$L$237=$B117))/SUMIF('Detailed price list'!$L$5:$L$237,$B117,'Detailed price list'!$M$5:$M$237))","v":43.360209967433576},{"$f":"IF(SUMIF('Detailed price list'!$L$5:$L$237,$B117,'Detailed price list'!$M$5:$M$237)=0,0,\nSUMPRODUCT(('Detailed price list'!E$5:E$237)*('Detailed price list'!$M$5:$M$237)*('Detailed price list'!$L$5:$L$237=$B117))/SUMIF('Detailed price list'!$L$5:$L$237,$B117,'Detailed price list'!$M$5:$M$237))","v":44.606667825289314},{"$f":"IF(SUMIF('Detailed price list'!$L$5:$L$237,$B117,'Detailed price list'!$M$5:$M$237)=0,0,\nSUMPRODUCT(('Detailed price list'!F$5:F$237)*('Detailed price list'!$M$5:$M$237)*('Detailed price list'!$L$5:$L$237=$B117))/SUMIF('Detailed price list'!$L$5:$L$237,$B117,'Detailed price list'!$M$5:$M$237))","v":45.888957086926936},{"$f":"IF(SUMIF('Detailed price list'!$L$5:$L$237,$B117,'Detailed price list'!$M$5:$M$237)=0,0,\nSUMPRODUCT(('Detailed price list'!G$5:G$237)*('Detailed price list'!$M$5:$M$237)*('Detailed price list'!$L$5:$L$237=$B117))/SUMIF('Detailed price list'!$L$5:$L$237,$B117,'Detailed price list'!$M$5:$M$237))","v":47.208107782755313},{"$f":"IF(SUMIF('Detailed price list'!$L$5:$L$237,$B117,'Detailed price list'!$M$5:$M$237)=0,0,\nSUMPRODUCT(('Detailed price list'!H$5:H$237)*('Detailed price list'!$M$5:$M$237)*('Detailed price list'!$L$5:$L$237=$B117))/SUMIF('Detailed price list'!$L$5:$L$237,$B117,'Detailed price list'!$M$5:$M$237))","v":48.565179553037588}]
[null,"Legacy Luminaire - 250W SON - PARKVILLE",{"$f":"IF(SUMIF('Detailed price list'!$L$5:$L$237,$B118,'Detailed price list'!$M$5:$M$237)=0,0,\nSUMPRODUCT(('Detailed price list'!D$5:D$237)*('Detailed price list'!$M$5:$M$237)*('Detailed price list'!$L$5:$L$237=$B118))/SUMIF('Detailed price list'!$L$5:$L$237,$B118,'Detailed price list'!$M$5:$M$237))","v":126.43981287041024},{"$f":"IF(SUMIF('Detailed price list'!$L$5:$L$237,$B118,'Detailed price list'!$M$5:$M$237)=0,0,\nSUMPRODUCT(('Detailed price list'!E$5:E$237)*('Detailed price list'!$M$5:$M$237)*('Detailed price list'!$L$5:$L$237=$B118))/SUMIF('Detailed price list'!$L$5:$L$237,$B118,'Detailed price list'!$M$5:$M$237))","v":130.07452539639897},{"$f":"IF(SUMIF('Detailed price list'!$L$5:$L$237,$B118,'Detailed price list'!$M$5:$M$237)=0,0,\nSUMPRODUCT(('Detailed price list'!F$5:F$237)*('Detailed price list'!$M$5:$M$237)*('Detailed price list'!$L$5:$L$237=$B118))/SUMIF('Detailed price list'!$L$5:$L$237,$B118,'Detailed price list'!$M$5:$M$237))","v":133.81372348628298},{"$f":"IF(SUMIF('Detailed price list'!$L$5:$L$237,$B118,'Detailed price list'!$M$5:$M$237)=0,0,\nSUMPRODUCT(('Detailed price list'!G$5:G$237)*('Detailed price list'!$M$5:$M$237)*('Detailed price list'!$L$5:$L$237=$B118))/SUMIF('Detailed price list'!$L$5:$L$237,$B118,'Detailed price list'!$M$5:$M$237))","v":137.66041074295646},{"$f":"IF(SUMIF('Detailed price list'!$L$5:$L$237,$B118,'Detailed price list'!$M$5:$M$237)=0,0,\nSUMPRODUCT(('Detailed price list'!H$5:H$237)*('Detailed price list'!$M$5:$M$237)*('Detailed price list'!$L$5:$L$237=$B118))/SUMIF('Detailed price list'!$L$5:$L$237,$B118,'Detailed price list'!$M$5:$M$237))","v":141.61767711263226}]
[null,"Legacy Luminaire - 250W SON - PARKWAY 1",{"$f":"IF(SUMIF('Detailed price list'!$L$5:$L$237,$B119,'Detailed price list'!$M$5:$M$237)=0,0,\nSUMPRODUCT(('Detailed price list'!D$5:D$237)*('Detailed price list'!$M$5:$M$237)*('Detailed price list'!$L$5:$L$237=$B119))/SUMIF('Detailed price list'!$L$5:$L$237,$B119,'Detailed price list'!$M$5:$M$237))","v":51.721993230458757},{"$f":"IF(SUMIF('Detailed price list'!$L$5:$L$237,$B119,'Detailed price list'!$M$5:$M$237)=0,0,\nSUMPRODUCT(('Detailed price list'!E$5:E$237)*('Detailed price list'!$M$5:$M$237)*('Detailed price list'!$L$5:$L$237=$B119))/SUMIF('Detailed price list'!$L$5:$L$237,$B119,'Detailed price list'!$M$5:$M$237))","v":53.208823781659682},{"$f":"IF(SUMIF('Detailed price list'!$L$5:$L$237,$B119,'Detailed price list'!$M$5:$M$237)=0,0,\nSUMPRODUCT(('Detailed price list'!F$5:F$237)*('Detailed price list'!$M$5:$M$237)*('Detailed price list'!$L$5:$L$237=$B119))/SUMIF('Detailed price list'!$L$5:$L$237,$B119,'Detailed price list'!$M$5:$M$237))","v":54.738395630129119},{"$f":"IF(SUMIF('Detailed price list'!$L$5:$L$237,$B119,'Detailed price list'!$M$5:$M$237)=0,0,\nSUMPRODUCT(('Detailed price list'!G$5:G$237)*('Detailed price list'!$M$5:$M$237)*('Detailed price list'!$L$5:$L$237=$B119))/SUMIF('Detailed price list'!$L$5:$L$237,$B119,'Detailed price list'!$M$5:$M$237))","v":56.311937442099939},{"$f":"IF(SUMIF('Detailed price list'!$L$5:$L$237,$B119,'Detailed price list'!$M$5:$M$237)=0,0,\nSUMPRODUCT(('Detailed price list'!H$5:H$237)*('Detailed price list'!$M$5:$M$237)*('Detailed price list'!$L$5:$L$237=$B119))/SUMIF('Detailed price list'!$L$5:$L$237,$B119,'Detailed price list'!$M$5:$M$237))","v":57.930713203760327}]
[null,"Legacy Luminaire - 250W SON ACTIVE REACTOR",{"$f":"IF(SUMIF('Detailed price list'!$L$5:$L$237,$B120,'Detailed price list'!$M$5:$M$237)=0,0,\nSUMPRODUCT(('Detailed price list'!D$5:D$237)*('Detailed price list'!$M$5:$M$237)*('Detailed price list'!$L$5:$L$237=$B120))/SUMIF('Detailed price list'!$L$5:$L$237,$B120,'Detailed price list'!$M$5:$M$237))","v":63.73604964285127},{"$f":"IF(SUMIF('Detailed price list'!$L$5:$L$237,$B120,'Detailed price list'!$M$5:$M$237)=0,0,\nSUMPRODUCT(('Detailed price list'!E$5:E$237)*('Detailed price list'!$M$5:$M$237)*('Detailed price list'!$L$5:$L$237=$B120))/SUMIF('Detailed price list'!$L$5:$L$237,$B120,'Detailed price list'!$M$5:$M$237))","v":65.568243259203285},{"$f":"IF(SUMIF('Detailed price list'!$L$5:$L$237,$B120,'Detailed price list'!$M$5:$M$237)=0,0,\nSUMPRODUCT(('Detailed price list'!F$5:F$237)*('Detailed price list'!$M$5:$M$237)*('Detailed price list'!$L$5:$L$237=$B120))/SUMIF('Detailed price list'!$L$5:$L$237,$B120,'Detailed price list'!$M$5:$M$237))","v":67.453106180706982},{"$f":"IF(SUMIF('Detailed price list'!$L$5:$L$237,$B120,'Detailed price list'!$M$5:$M$237)=0,0,\nSUMPRODUCT(('Detailed price list'!G$5:G$237)*('Detailed price list'!$M$5:$M$237)*('Detailed price list'!$L$5:$L$237=$B120))/SUMIF('Detailed price list'!$L$5:$L$237,$B120,'Detailed price list'!$M$5:$M$237))","v":69.392152469893944},{"$f":"IF(SUMIF('Detailed price list'!$L$5:$L$237,$B120,'Detailed price list'!$M$5:$M$237)=0,0,\nSUMPRODUCT(('Detailed price list'!H$5:H$237)*('Detailed price list'!$M$5:$M$237)*('Detailed price list'!$L$5:$L$237=$B120))/SUMIF('Detailed price list'!$L$5:$L$237,$B120,'Detailed price list'!$M$5:$M$237))","v":71.386939713419423}]
[null,"Legacy Luminaire - 250W SON FLOODLIGHT",{"$f":"IF(SUMIF('Detailed price list'!$L$5:$L$237,$B121,'Detailed price list'!$M$5:$M$237)=0,0,\nSUMPRODUCT(('Detailed price list'!D$5:D$237)*('Detailed price list'!$M$5:$M$237)*('Detailed price list'!$L$5:$L$237=$B121))/SUMIF('Detailed price list'!$L$5:$L$237,$B121,'Detailed price list'!$M$5:$M$237))","v":50.760868717467361},{"$f":"IF(SUMIF('Detailed price list'!$L$5:$L$237,$B121,'Detailed price list'!$M$5:$M$237)=0,0,\nSUMPRODUCT(('Detailed price list'!E$5:E$237)*('Detailed price list'!$M$5:$M$237)*('Detailed price list'!$L$5:$L$237=$B121))/SUMIF('Detailed price list'!$L$5:$L$237,$B121,'Detailed price list'!$M$5:$M$237))","v":52.220070223456183},{"$f":"IF(SUMIF('Detailed price list'!$L$5:$L$237,$B121,'Detailed price list'!$M$5:$M$237)=0,0,\nSUMPRODUCT(('Detailed price list'!F$5:F$237)*('Detailed price list'!$M$5:$M$237)*('Detailed price list'!$L$5:$L$237=$B121))/SUMIF('Detailed price list'!$L$5:$L$237,$B121,'Detailed price list'!$M$5:$M$237))","v":53.721218786082908},{"$f":"IF(SUMIF('Detailed price list'!$L$5:$L$237,$B121,'Detailed price list'!$M$5:$M$237)=0,0,\nSUMPRODUCT(('Detailed price list'!G$5:G$237)*('Detailed price list'!$M$5:$M$237)*('Detailed price list'!$L$5:$L$237=$B121))/SUMIF('Detailed price list'!$L$5:$L$237,$B121,'Detailed price list'!$M$5:$M$237))","v":55.26552023987643},{"$f":"IF(SUMIF('Detailed price list'!$L$5:$L$237,$B121,'Detailed price list'!$M$5:$M$237)=0,0,\nSUMPRODUCT(('Detailed price list'!H$5:H$237)*('Detailed price list'!$M$5:$M$237)*('Detailed price list'!$L$5:$L$237=$B121))/SUMIF('Detailed price list'!$L$5:$L$237,$B121,'Detailed price list'!$M$5:$M$237))","v":56.854215082987601}]
[null,"Legacy Luminaire - 250W SON GEC 'BOSTON 3'",{"$f":"IF(SUMIF('Detailed price list'!$L$5:$L$237,$B122,'Detailed price list'!$M$5:$M$237)=0,0,\nSUMPRODUCT(('Detailed price list'!D$5:D$237)*('Detailed price list'!$M$5:$M$237)*('Detailed price list'!$L$5:$L$237=$B122))/SUMIF('Detailed price list'!$L$5:$L$237,$B122,'Detailed price list'!$M$5:$M$237))","v":109.01846994792808},{"$f":"IF(SUMIF('Detailed price list'!$L$5:$L$237,$B122,'Detailed price list'!$M$5:$M$237)=0,0,\nSUMPRODUCT(('Detailed price list'!E$5:E$237)*('Detailed price list'!$M$5:$M$237)*('Detailed price list'!$L$5:$L$237=$B122))/SUMIF('Detailed price list'!$L$5:$L$237,$B122,'Detailed price list'!$M$5:$M$237))","v":112.15237840040248},{"$f":"IF(SUMIF('Detailed price list'!$L$5:$L$237,$B122,'Detailed price list'!$M$5:$M$237)=0,0,\nSUMPRODUCT(('Detailed price list'!F$5:F$237)*('Detailed price list'!$M$5:$M$237)*('Detailed price list'!$L$5:$L$237=$B122))/SUMIF('Detailed price list'!$L$5:$L$237,$B122,'Detailed price list'!$M$5:$M$237))","v":115.376376011101},{"$f":"IF(SUMIF('Detailed price list'!$L$5:$L$237,$B122,'Detailed price list'!$M$5:$M$237)=0,0,\nSUMPRODUCT(('Detailed price list'!G$5:G$237)*('Detailed price list'!$M$5:$M$237)*('Detailed price list'!$L$5:$L$237=$B122))/SUMIF('Detailed price list'!$L$5:$L$237,$B122,'Detailed price list'!$M$5:$M$237))","v":118.69305253545288},{"$f":"IF(SUMIF('Detailed price list'!$L$5:$L$237,$B122,'Detailed price list'!$M$5:$M$237)=0,0,\nSUMPRODUCT(('Detailed price list'!H$5:H$237)*('Detailed price list'!$M$5:$M$237)*('Detailed price list'!$L$5:$L$237=$B122))/SUMIF('Detailed price list'!$L$5:$L$237,$B122,'Detailed price list'!$M$5:$M$237))","v":122.10507217550574}]
[null,"Legacy Luminaire - 2X14W TF - T5 PIERLIGHT",{"$f":"IF(SUMIF('Detailed price list'!$L$5:$L$237,$B123,'Detailed price list'!$M$5:$M$237)=0,0,\nSUMPRODUCT(('Detailed price list'!D$5:D$237)*('Detailed price list'!$M$5:$M$237)*('Detailed price list'!$L$5:$L$237=$B123))/SUMIF('Detailed price list'!$L$5:$L$237,$B123,'Detailed price list'!$M$5:$M$237))","v":0},{"$f":"IF(SUMIF('Detailed price list'!$L$5:$L$237,$B123,'Detailed price list'!$M$5:$M$237)=0,0,\nSUMPRODUCT(('Detailed price list'!E$5:E$237)*('Detailed price list'!$M$5:$M$237)*('Detailed price list'!$L$5:$L$237=$B123))/SUMIF('Detailed price list'!$L$5:$L$237,$B123,'Detailed price list'!$M$5:$M$237))","v":0},{"$f":"IF(SUMIF('Detailed price list'!$L$5:$L$237,$B123,'Detailed price list'!$M$5:$M$237)=0,0,\nSUMPRODUCT(('Detailed price list'!F$5:F$237)*('Detailed price list'!$M$5:$M$237)*('Detailed price list'!$L$5:$L$237=$B123))/SUMIF('Detailed price list'!$L$5:$L$237,$B123,'Detailed price list'!$M$5:$M$237))","v":0},{"$f":"IF(SUMIF('Detailed price list'!$L$5:$L$237,$B123,'Detailed price list'!$M$5:$M$237)=0,0,\nSUMPRODUCT(('Detailed price list'!G$5:G$237)*('Detailed price list'!$M$5:$M$237)*('Detailed price list'!$L$5:$L$237=$B123))/SUMIF('Detailed price list'!$L$5:$L$237,$B123,'Detailed price list'!$M$5:$M$237))","v":0},{"$f":"IF(SUMIF('Detailed price list'!$L$5:$L$237,$B123,'Detailed price list'!$M$5:$M$237)=0,0,\nSUMPRODUCT(('Detailed price list'!H$5:H$237)*('Detailed price list'!$M$5:$M$237)*('Detailed price list'!$L$5:$L$237=$B123))/SUMIF('Detailed price list'!$L$5:$L$237,$B123,'Detailed price list'!$M$5:$M$237))","v":0}]
[null,"Legacy Luminaire - 2x14W TF - T5 PIERLITE M",{"$f":"IF(SUMIF('Detailed price list'!$L$5:$L$237,$B124,'Detailed price list'!$M$5:$M$237)=0,0,\nSUMPRODUCT(('Detailed price list'!D$5:D$237)*('Detailed price list'!$M$5:$M$237)*('Detailed price list'!$L$5:$L$237=$B124))/SUMIF('Detailed price list'!$L$5:$L$237,$B124,'Detailed price list'!$M$5:$M$237))","v":0},{"$f":"IF(SUMIF('Detailed price list'!$L$5:$L$237,$B124,'Detailed price list'!$M$5:$M$237)=0,0,\nSUMPRODUCT(('Detailed price list'!E$5:E$237)*('Detailed price list'!$M$5:$M$237)*('Detailed price list'!$L$5:$L$237=$B124))/SUMIF('Detailed price list'!$L$5:$L$237,$B124,'Detailed price list'!$M$5:$M$237))","v":0},{"$f":"IF(SUMIF('Detailed price list'!$L$5:$L$237,$B124,'Detailed price list'!$M$5:$M$237)=0,0,\nSUMPRODUCT(('Detailed price list'!F$5:F$237)*('Detailed price list'!$M$5:$M$237)*('Detailed price list'!$L$5:$L$237=$B124))/SUMIF('Detailed price list'!$L$5:$L$237,$B124,'Detailed price list'!$M$5:$M$237))","v":0},{"$f":"IF(SUMIF('Detailed price list'!$L$5:$L$237,$B124,'Detailed price list'!$M$5:$M$237)=0,0,\nSUMPRODUCT(('Detailed price list'!G$5:G$237)*('Detailed price list'!$M$5:$M$237)*('Detailed price list'!$L$5:$L$237=$B124))/SUMIF('Detailed price list'!$L$5:$L$237,$B124,'Detailed price list'!$M$5:$M$237))","v":0},{"$f":"IF(SUMIF('Detailed price list'!$L$5:$L$237,$B124,'Detailed price list'!$M$5:$M$237)=0,0,\nSUMPRODUCT(('Detailed price list'!H$5:H$237)*('Detailed price list'!$M$5:$M$237)*('Detailed price list'!$L$5:$L$237=$B124))/SUMIF('Detailed price list'!$L$5:$L$237,$B124,'Detailed price list'!$M$5:$M$237))","v":0}]
[null,"Legacy Luminaire - 2x250W SON FLOODLIGHT",{"$f":"IF(SUMIF('Detailed price list'!$L$5:$L$237,$B125,'Detailed price list'!$M$5:$M$237)=0,0,\nSUMPRODUCT(('Detailed price list'!D$5:D$237)*('Detailed price list'!$M$5:$M$237)*('Detailed price list'!$L$5:$L$237=$B125))/SUMIF('Detailed price list'!$L$5:$L$237,$B125,'Detailed price list'!$M$5:$M$237))","v":71.425045746782487},{"$f":"IF(SUMIF('Detailed price list'!$L$5:$L$237,$B125,'Detailed price list'!$M$5:$M$237)=0,0,\nSUMPRODUCT(('Detailed price list'!E$5:E$237)*('Detailed price list'!$M$5:$M$237)*('Detailed price list'!$L$5:$L$237=$B125))/SUMIF('Detailed price list'!$L$5:$L$237,$B125,'Detailed price list'!$M$5:$M$237))","v":73.478271724831231},{"$f":"IF(SUMIF('Detailed price list'!$L$5:$L$237,$B125,'Detailed price list'!$M$5:$M$237)=0,0,\nSUMPRODUCT(('Detailed price list'!F$5:F$237)*('Detailed price list'!$M$5:$M$237)*('Detailed price list'!$L$5:$L$237=$B125))/SUMIF('Detailed price list'!$L$5:$L$237,$B125,'Detailed price list'!$M$5:$M$237))","v":75.590520933076846},{"$f":"IF(SUMIF('Detailed price list'!$L$5:$L$237,$B125,'Detailed price list'!$M$5:$M$237)=0,0,\nSUMPRODUCT(('Detailed price list'!G$5:G$237)*('Detailed price list'!$M$5:$M$237)*('Detailed price list'!$L$5:$L$237=$B125))/SUMIF('Detailed price list'!$L$5:$L$237,$B125,'Detailed price list'!$M$5:$M$237))","v":77.763490087682143},{"$f":"IF(SUMIF('Detailed price list'!$L$5:$L$237,$B125,'Detailed price list'!$M$5:$M$237)=0,0,\nSUMPRODUCT(('Detailed price list'!H$5:H$237)*('Detailed price list'!$M$5:$M$237)*('Detailed price list'!$L$5:$L$237=$B125))/SUMIF('Detailed price list'!$L$5:$L$237,$B125,'Detailed price list'!$M$5:$M$237))","v":79.998924679601288}]
[null,"Legacy Luminaire - 2x400W SON FLOODLIGHT",{"$f":"IF(SUMIF('Detailed price list'!$L$5:$L$237,$B126,'Detailed price list'!$M$5:$M$237)=0,0,\nSUMPRODUCT(('Detailed price list'!D$5:D$237)*('Detailed price list'!$M$5:$M$237)*('Detailed price list'!$L$5:$L$237=$B126))/SUMIF('Detailed price list'!$L$5:$L$237,$B126,'Detailed price list'!$M$5:$M$237))","v":142.43484701561309},{"$f":"IF(SUMIF('Detailed price list'!$L$5:$L$237,$B126,'Detailed price list'!$M$5:$M$237)=0,0,\nSUMPRODUCT(('Detailed price list'!E$5:E$237)*('Detailed price list'!$M$5:$M$237)*('Detailed price list'!$L$5:$L$237=$B126))/SUMIF('Detailed price list'!$L$5:$L$237,$B126,'Detailed price list'!$M$5:$M$237))","v":146.5293621120214},{"$f":"IF(SUMIF('Detailed price list'!$L$5:$L$237,$B126,'Detailed price list'!$M$5:$M$237)=0,0,\nSUMPRODUCT(('Detailed price list'!F$5:F$237)*('Detailed price list'!$M$5:$M$237)*('Detailed price list'!$L$5:$L$237=$B126))/SUMIF('Detailed price list'!$L$5:$L$237,$B126,'Detailed price list'!$M$5:$M$237))","v":150.74158052490029},{"$f":"IF(SUMIF('Detailed price list'!$L$5:$L$237,$B126,'Detailed price list'!$M$5:$M$237)=0,0,\nSUMPRODUCT(('Detailed price list'!G$5:G$237)*('Detailed price list'!$M$5:$M$237)*('Detailed price list'!$L$5:$L$237=$B126))/SUMIF('Detailed price list'!$L$5:$L$237,$B126,'Detailed price list'!$M$5:$M$237))","v":155.07488582236024},{"$f":"IF(SUMIF('Detailed price list'!$L$5:$L$237,$B126,'Detailed price list'!$M$5:$M$237)=0,0,\nSUMPRODUCT(('Detailed price list'!H$5:H$237)*('Detailed price list'!$M$5:$M$237)*('Detailed price list'!$L$5:$L$237=$B126))/SUMIF('Detailed price list'!$L$5:$L$237,$B126,'Detailed price list'!$M$5:$M$237))","v":159.53275883853198}]
[null,"Legacy Luminaire - 2x80W MBF - BOURKE HILL",{"$f":"IF(SUMIF('Detailed price list'!$L$5:$L$237,$B127,'Detailed price list'!$M$5:$M$237)=0,0,\nSUMPRODUCT(('Detailed price list'!D$5:D$237)*('Detailed price list'!$M$5:$M$237)*('Detailed price list'!$L$5:$L$237=$B127))/SUMIF('Detailed price list'!$L$5:$L$237,$B127,'Detailed price list'!$M$5:$M$237))","v":70.305771080180605},{"$f":"IF(SUMIF('Detailed price list'!$L$5:$L$237,$B127,'Detailed price list'!$M$5:$M$237)=0,0,\nSUMPRODUCT(('Detailed price list'!E$5:E$237)*('Detailed price list'!$M$5:$M$237)*('Detailed price list'!$L$5:$L$237=$B127))/SUMIF('Detailed price list'!$L$5:$L$237,$B127,'Detailed price list'!$M$5:$M$237))","v":72.32682173656157},{"$f":"IF(SUMIF('Detailed price list'!$L$5:$L$237,$B127,'Detailed price list'!$M$5:$M$237)=0,0,\nSUMPRODUCT(('Detailed price list'!F$5:F$237)*('Detailed price list'!$M$5:$M$237)*('Detailed price list'!$L$5:$L$237=$B127))/SUMIF('Detailed price list'!$L$5:$L$237,$B127,'Detailed price list'!$M$5:$M$237))","v":74.405970692597037},{"$f":"IF(SUMIF('Detailed price list'!$L$5:$L$237,$B127,'Detailed price list'!$M$5:$M$237)=0,0,\nSUMPRODUCT(('Detailed price list'!G$5:G$237)*('Detailed price list'!$M$5:$M$237)*('Detailed price list'!$L$5:$L$237=$B127))/SUMIF('Detailed price list'!$L$5:$L$237,$B127,'Detailed price list'!$M$5:$M$237))","v":76.5448880758576},{"$f":"IF(SUMIF('Detailed price list'!$L$5:$L$237,$B127,'Detailed price list'!$M$5:$M$237)=0,0,\nSUMPRODUCT(('Detailed price list'!H$5:H$237)*('Detailed price list'!$M$5:$M$237)*('Detailed price list'!$L$5:$L$237=$B127))/SUMIF('Detailed price list'!$L$5:$L$237,$B127,'Detailed price list'!$M$5:$M$237))","v":78.745292024373995}]
[null,"Legacy Luminaire - 400W MBF",{"$f":"IF(SUMIF('Detailed price list'!$L$5:$L$237,$B128,'Detailed price list'!$M$5:$M$237)=0,0,\nSUMPRODUCT(('Detailed price list'!D$5:D$237)*('Detailed price list'!$M$5:$M$237)*('Detailed price list'!$L$5:$L$237=$B128))/SUMIF('Detailed price list'!$L$5:$L$237,$B128,'Detailed price list'!$M$5:$M$237))","v":34.104580907326387},{"$f":"IF(SUMIF('Detailed price list'!$L$5:$L$237,$B128,'Detailed price list'!$M$5:$M$237)=0,0,\nSUMPRODUCT(('Detailed price list'!E$5:E$237)*('Detailed price list'!$M$5:$M$237)*('Detailed price list'!$L$5:$L$237=$B128))/SUMIF('Detailed price list'!$L$5:$L$237,$B128,'Detailed price list'!$M$5:$M$237))","v":35.084971059789709},{"$f":"IF(SUMIF('Detailed price list'!$L$5:$L$237,$B128,'Detailed price list'!$M$5:$M$237)=0,0,\nSUMPRODUCT(('Detailed price list'!F$5:F$237)*('Detailed price list'!$M$5:$M$237)*('Detailed price list'!$L$5:$L$237=$B128))/SUMIF('Detailed price list'!$L$5:$L$237,$B128,'Detailed price list'!$M$5:$M$237))","v":36.093544078761752},{"$f":"IF(SUMIF('Detailed price list'!$L$5:$L$237,$B128,'Detailed price list'!$M$5:$M$237)=0,0,\nSUMPRODUCT(('Detailed price list'!G$5:G$237)*('Detailed price list'!$M$5:$M$237)*('Detailed price list'!$L$5:$L$237=$B128))/SUMIF('Detailed price list'!$L$5:$L$237,$B128,'Detailed price list'!$M$5:$M$237))","v":37.131110125342822},{"$f":"IF(SUMIF('Detailed price list'!$L$5:$L$237,$B128,'Detailed price list'!$M$5:$M$237)=0,0,\nSUMPRODUCT(('Detailed price list'!H$5:H$237)*('Detailed price list'!$M$5:$M$237)*('Detailed price list'!$L$5:$L$237=$B128))/SUMIF('Detailed price list'!$L$5:$L$237,$B128,'Detailed price list'!$M$5:$M$237))","v":38.198502649996222}]
[null,"Legacy Luminaire - 400W MBF - B2229",{"$f":"IF(SUMIF('Detailed price list'!$L$5:$L$237,$B129,'Detailed price list'!$M$5:$M$237)=0,0,\nSUMPRODUCT(('Detailed price list'!D$5:D$237)*('Detailed price list'!$M$5:$M$237)*('Detailed price list'!$L$5:$L$237=$B129))/SUMIF('Detailed price list'!$L$5:$L$237,$B129,'Detailed price list'!$M$5:$M$237))","v":34.104580907326387},{"$f":"IF(SUMIF('Detailed price list'!$L$5:$L$237,$B129,'Detailed price list'!$M$5:$M$237)=0,0,\nSUMPRODUCT(('Detailed price list'!E$5:E$237)*('Detailed price list'!$M$5:$M$237)*('Detailed price list'!$L$5:$L$237=$B129))/SUMIF('Detailed price list'!$L$5:$L$237,$B129,'Detailed price list'!$M$5:$M$237))","v":35.084971059789709},{"$f":"IF(SUMIF('Detailed price list'!$L$5:$L$237,$B129,'Detailed price list'!$M$5:$M$237)=0,0,\nSUMPRODUCT(('Detailed price list'!F$5:F$237)*('Detailed price list'!$M$5:$M$237)*('Detailed price list'!$L$5:$L$237=$B129))/SUMIF('Detailed price list'!$L$5:$L$237,$B129,'Detailed price list'!$M$5:$M$237))","v":36.093544078761752},{"$f":"IF(SUMIF('Detailed price list'!$L$5:$L$237,$B129,'Detailed price list'!$M$5:$M$237)=0,0,\nSUMPRODUCT(('Detailed price list'!G$5:G$237)*('Detailed price list'!$M$5:$M$237)*('Detailed price list'!$L$5:$L$237=$B129))/SUMIF('Detailed price list'!$L$5:$L$237,$B129,'Detailed price list'!$M$5:$M$237))","v":37.131110125342815},{"$f":"IF(SUMIF('Detailed price list'!$L$5:$L$237,$B129,'Detailed price list'!$M$5:$M$237)=0,0,\nSUMPRODUCT(('Detailed price list'!H$5:H$237)*('Detailed price list'!$M$5:$M$237)*('Detailed price list'!$L$5:$L$237=$B129))/SUMIF('Detailed price list'!$L$5:$L$237,$B129,'Detailed price list'!$M$5:$M$237))","v":38.198502649996222}]
[null,"Legacy Luminaire - 400W MBF - PARKWAY 1",{"$f":"IF(SUMIF('Detailed price list'!$L$5:$L$237,$B130,'Detailed price list'!$M$5:$M$237)=0,0,\nSUMPRODUCT(('Detailed price list'!D$5:D$237)*('Detailed price list'!$M$5:$M$237)*('Detailed price list'!$L$5:$L$237=$B130))/SUMIF('Detailed price list'!$L$5:$L$237,$B130,'Detailed price list'!$M$5:$M$237))","v":68.479542162845206},{"$f":"IF(SUMIF('Detailed price list'!$L$5:$L$237,$B130,'Detailed price list'!$M$5:$M$237)=0,0,\nSUMPRODUCT(('Detailed price list'!E$5:E$237)*('Detailed price list'!$M$5:$M$237)*('Detailed price list'!$L$5:$L$237=$B130))/SUMIF('Detailed price list'!$L$5:$L$237,$B130,'Detailed price list'!$M$5:$M$237))","v":70.448094978787523},{"$f":"IF(SUMIF('Detailed price list'!$L$5:$L$237,$B130,'Detailed price list'!$M$5:$M$237)=0,0,\nSUMPRODUCT(('Detailed price list'!F$5:F$237)*('Detailed price list'!$M$5:$M$237)*('Detailed price list'!$L$5:$L$237=$B130))/SUMIF('Detailed price list'!$L$5:$L$237,$B130,'Detailed price list'!$M$5:$M$237))","v":72.473236960877301},{"$f":"IF(SUMIF('Detailed price list'!$L$5:$L$237,$B130,'Detailed price list'!$M$5:$M$237)=0,0,\nSUMPRODUCT(('Detailed price list'!G$5:G$237)*('Detailed price list'!$M$5:$M$237)*('Detailed price list'!$L$5:$L$237=$B130))/SUMIF('Detailed price list'!$L$5:$L$237,$B130,'Detailed price list'!$M$5:$M$237))","v":74.556594854254058},{"$f":"IF(SUMIF('Detailed price list'!$L$5:$L$237,$B130,'Detailed price list'!$M$5:$M$237)=0,0,\nSUMPRODUCT(('Detailed price list'!H$5:H$237)*('Detailed price list'!$M$5:$M$237)*('Detailed price list'!$L$5:$L$237=$B130))/SUMIF('Detailed price list'!$L$5:$L$237,$B130,'Detailed price list'!$M$5:$M$237))","v":76.699842167420883}]
[null,"Legacy Luminaire - 400W MBF FLOODLIGHT",{"$f":"IF(SUMIF('Detailed price list'!$L$5:$L$237,$B131,'Detailed price list'!$M$5:$M$237)=0,0,\nSUMPRODUCT(('Detailed price list'!D$5:D$237)*('Detailed price list'!$M$5:$M$237)*('Detailed price list'!$L$5:$L$237=$B131))/SUMIF('Detailed price list'!$L$5:$L$237,$B131,'Detailed price list'!$M$5:$M$237))","v":75.198715547490195},{"$f":"IF(SUMIF('Detailed price list'!$L$5:$L$237,$B131,'Detailed price list'!$M$5:$M$237)=0,0,\nSUMPRODUCT(('Detailed price list'!E$5:E$237)*('Detailed price list'!$M$5:$M$237)*('Detailed price list'!$L$5:$L$237=$B131))/SUMIF('Detailed price list'!$L$5:$L$237,$B131,'Detailed price list'!$M$5:$M$237))","v":77.360421636211328},{"$f":"IF(SUMIF('Detailed price list'!$L$5:$L$237,$B131,'Detailed price list'!$M$5:$M$237)=0,0,\nSUMPRODUCT(('Detailed price list'!F$5:F$237)*('Detailed price list'!$M$5:$M$237)*('Detailed price list'!$L$5:$L$237=$B131))/SUMIF('Detailed price list'!$L$5:$L$237,$B131,'Detailed price list'!$M$5:$M$237))","v":79.584269387592414},{"$f":"IF(SUMIF('Detailed price list'!$L$5:$L$237,$B131,'Detailed price list'!$M$5:$M$237)=0,0,\nSUMPRODUCT(('Detailed price list'!G$5:G$237)*('Detailed price list'!$M$5:$M$237)*('Detailed price list'!$L$5:$L$237=$B131))/SUMIF('Detailed price list'!$L$5:$L$237,$B131,'Detailed price list'!$M$5:$M$237))","v":81.872045162072681},{"$f":"IF(SUMIF('Detailed price list'!$L$5:$L$237,$B131,'Detailed price list'!$M$5:$M$237)=0,0,\nSUMPRODUCT(('Detailed price list'!H$5:H$237)*('Detailed price list'!$M$5:$M$237)*('Detailed price list'!$L$5:$L$237=$B131))/SUMIF('Detailed price list'!$L$5:$L$237,$B131,'Detailed price list'!$M$5:$M$237))","v":84.225586671849314}]
[null,"Legacy Luminaire - 400W MBI FLOODLIGHT",{"$f":"IF(SUMIF('Detailed price list'!$L$5:$L$237,$B132,'Detailed price list'!$M$5:$M$237)=0,0,\nSUMPRODUCT(('Detailed price list'!D$5:D$237)*('Detailed price list'!$M$5:$M$237)*('Detailed price list'!$L$5:$L$237=$B132))/SUMIF('Detailed price list'!$L$5:$L$237,$B132,'Detailed price list'!$M$5:$M$237))","v":59.199541941531848},{"$f":"IF(SUMIF('Detailed price list'!$L$5:$L$237,$B132,'Detailed price list'!$M$5:$M$237)=0,0,\nSUMPRODUCT(('Detailed price list'!E$5:E$237)*('Detailed price list'!$M$5:$M$237)*('Detailed price list'!$L$5:$L$237=$B132))/SUMIF('Detailed price list'!$L$5:$L$237,$B132,'Detailed price list'!$M$5:$M$237))","v":60.901326464482814},{"$f":"IF(SUMIF('Detailed price list'!$L$5:$L$237,$B132,'Detailed price list'!$M$5:$M$237)=0,0,\nSUMPRODUCT(('Detailed price list'!F$5:F$237)*('Detailed price list'!$M$5:$M$237)*('Detailed price list'!$L$5:$L$237=$B132))/SUMIF('Detailed price list'!$L$5:$L$237,$B132,'Detailed price list'!$M$5:$M$237))","v":62.652031476808787},{"$f":"IF(SUMIF('Detailed price list'!$L$5:$L$237,$B132,'Detailed price list'!$M$5:$M$237)=0,0,\nSUMPRODUCT(('Detailed price list'!G$5:G$237)*('Detailed price list'!$M$5:$M$237)*('Detailed price list'!$L$5:$L$237=$B132))/SUMIF('Detailed price list'!$L$5:$L$237,$B132,'Detailed price list'!$M$5:$M$237))","v":64.453063275398932},{"$f":"IF(SUMIF('Detailed price list'!$L$5:$L$237,$B132,'Detailed price list'!$M$5:$M$237)=0,0,\nSUMPRODUCT(('Detailed price list'!H$5:H$237)*('Detailed price list'!$M$5:$M$237)*('Detailed price list'!$L$5:$L$237=$B132))/SUMIF('Detailed price list'!$L$5:$L$237,$B132,'Detailed price list'!$M$5:$M$237))","v":66.305868583372146}]
[null,"Legacy Luminaire - 400W SON",{"$f":"IF(SUMIF('Detailed price list'!$L$5:$L$237,$B133,'Detailed price list'!$M$5:$M$237)=0,0,\nSUMPRODUCT(('Detailed price list'!D$5:D$237)*('Detailed price list'!$M$5:$M$237)*('Detailed price list'!$L$5:$L$237=$B133))/SUMIF('Detailed price list'!$L$5:$L$237,$B133,'Detailed price list'!$M$5:$M$237))","v":47.108595568100043},{"$f":"IF(SUMIF('Detailed price list'!$L$5:$L$237,$B133,'Detailed price list'!$M$5:$M$237)=0,0,\nSUMPRODUCT(('Detailed price list'!E$5:E$237)*('Detailed price list'!$M$5:$M$237)*('Detailed price list'!$L$5:$L$237=$B133))/SUMIF('Detailed price list'!$L$5:$L$237,$B133,'Detailed price list'!$M$5:$M$237))","v":48.462806702282919},{"$f":"IF(SUMIF('Detailed price list'!$L$5:$L$237,$B133,'Detailed price list'!$M$5:$M$237)=0,0,\nSUMPRODUCT(('Detailed price list'!F$5:F$237)*('Detailed price list'!$M$5:$M$237)*('Detailed price list'!$L$5:$L$237=$B133))/SUMIF('Detailed price list'!$L$5:$L$237,$B133,'Detailed price list'!$M$5:$M$237))","v":49.855946778707221},{"$f":"IF(SUMIF('Detailed price list'!$L$5:$L$237,$B133,'Detailed price list'!$M$5:$M$237)=0,0,\nSUMPRODUCT(('Detailed price list'!G$5:G$237)*('Detailed price list'!$M$5:$M$237)*('Detailed price list'!$L$5:$L$237=$B133))/SUMIF('Detailed price list'!$L$5:$L$237,$B133,'Detailed price list'!$M$5:$M$237))","v":51.289134871427045},{"$f":"IF(SUMIF('Detailed price list'!$L$5:$L$237,$B133,'Detailed price list'!$M$5:$M$237)=0,0,\nSUMPRODUCT(('Detailed price list'!H$5:H$237)*('Detailed price list'!$M$5:$M$237)*('Detailed price list'!$L$5:$L$237=$B133))/SUMIF('Detailed price list'!$L$5:$L$237,$B133,'Detailed price list'!$M$5:$M$237))","v":52.763522224051229}]
[null,"Legacy Luminaire - 400W SON - PARKWAY 1",{"$f":"IF(SUMIF('Detailed price list'!$L$5:$L$237,$B134,'Detailed price list'!$M$5:$M$237)=0,0,\nSUMPRODUCT(('Detailed price list'!D$5:D$237)*('Detailed price list'!$M$5:$M$237)*('Detailed price list'!$L$5:$L$237=$B134))/SUMIF('Detailed price list'!$L$5:$L$237,$B134,'Detailed price list'!$M$5:$M$237))","v":51.72199323045875},{"$f":"IF(SUMIF('Detailed price list'!$L$5:$L$237,$B134,'Detailed price list'!$M$5:$M$237)=0,0,\nSUMPRODUCT(('Detailed price list'!E$5:E$237)*('Detailed price list'!$M$5:$M$237)*('Detailed price list'!$L$5:$L$237=$B134))/SUMIF('Detailed price list'!$L$5:$L$237,$B134,'Detailed price list'!$M$5:$M$237))","v":53.208823781659675},{"$f":"IF(SUMIF('Detailed price list'!$L$5:$L$237,$B134,'Detailed price list'!$M$5:$M$237)=0,0,\nSUMPRODUCT(('Detailed price list'!F$5:F$237)*('Detailed price list'!$M$5:$M$237)*('Detailed price list'!$L$5:$L$237=$B134))/SUMIF('Detailed price list'!$L$5:$L$237,$B134,'Detailed price list'!$M$5:$M$237))","v":54.738395630129126},{"$f":"IF(SUMIF('Detailed price list'!$L$5:$L$237,$B134,'Detailed price list'!$M$5:$M$237)=0,0,\nSUMPRODUCT(('Detailed price list'!G$5:G$237)*('Detailed price list'!$M$5:$M$237)*('Detailed price list'!$L$5:$L$237=$B134))/SUMIF('Detailed price list'!$L$5:$L$237,$B134,'Detailed price list'!$M$5:$M$237))","v":56.311937442099953},{"$f":"IF(SUMIF('Detailed price list'!$L$5:$L$237,$B134,'Detailed price list'!$M$5:$M$237)=0,0,\nSUMPRODUCT(('Detailed price list'!H$5:H$237)*('Detailed price list'!$M$5:$M$237)*('Detailed price list'!$L$5:$L$237=$B134))/SUMIF('Detailed price list'!$L$5:$L$237,$B134,'Detailed price list'!$M$5:$M$237))","v":57.930713203760327}]
[null,"Legacy Luminaire - 400W SON ACTIVE REACTOR",{"$f":"IF(SUMIF('Detailed price list'!$L$5:$L$237,$B135,'Detailed price list'!$M$5:$M$237)=0,0,\nSUMPRODUCT(('Detailed price list'!D$5:D$237)*('Detailed price list'!$M$5:$M$237)*('Detailed price list'!$L$5:$L$237=$B135))/SUMIF('Detailed price list'!$L$5:$L$237,$B135,'Detailed price list'!$M$5:$M$237))","v":71.425045746782487},{"$f":"IF(SUMIF('Detailed price list'!$L$5:$L$237,$B135,'Detailed price list'!$M$5:$M$237)=0,0,\nSUMPRODUCT(('Detailed price list'!E$5:E$237)*('Detailed price list'!$M$5:$M$237)*('Detailed price list'!$L$5:$L$237=$B135))/SUMIF('Detailed price list'!$L$5:$L$237,$B135,'Detailed price list'!$M$5:$M$237))","v":73.478271724831231},{"$f":"IF(SUMIF('Detailed price list'!$L$5:$L$237,$B135,'Detailed price list'!$M$5:$M$237)=0,0,\nSUMPRODUCT(('Detailed price list'!F$5:F$237)*('Detailed price list'!$M$5:$M$237)*('Detailed price list'!$L$5:$L$237=$B135))/SUMIF('Detailed price list'!$L$5:$L$237,$B135,'Detailed price list'!$M$5:$M$237))","v":75.590520933076846},{"$f":"IF(SUMIF('Detailed price list'!$L$5:$L$237,$B135,'Detailed price list'!$M$5:$M$237)=0,0,\nSUMPRODUCT(('Detailed price list'!G$5:G$237)*('Detailed price list'!$M$5:$M$237)*('Detailed price list'!$L$5:$L$237=$B135))/SUMIF('Detailed price list'!$L$5:$L$237,$B135,'Detailed price list'!$M$5:$M$237))","v":77.763490087682143},{"$f":"IF(SUMIF('Detailed price list'!$L$5:$L$237,$B135,'Detailed price list'!$M$5:$M$237)=0,0,\nSUMPRODUCT(('Detailed price list'!H$5:H$237)*('Detailed price list'!$M$5:$M$237)*('Detailed price list'!$L$5:$L$237=$B135))/SUMIF('Detailed price list'!$L$5:$L$237,$B135,'Detailed price list'!$M$5:$M$237))","v":79.998924679601288}]
[null,"Legacy Luminaire - 400W SON FLOODLIGHT",{"$f":"IF(SUMIF('Detailed price list'!$L$5:$L$237,$B136,'Detailed price list'!$M$5:$M$237)=0,0,\nSUMPRODUCT(('Detailed price list'!D$5:D$237)*('Detailed price list'!$M$5:$M$237)*('Detailed price list'!$L$5:$L$237=$B136))/SUMIF('Detailed price list'!$L$5:$L$237,$B136,'Detailed price list'!$M$5:$M$237))","v":50.760868717467368},{"$f":"IF(SUMIF('Detailed price list'!$L$5:$L$237,$B136,'Detailed price list'!$M$5:$M$237)=0,0,\nSUMPRODUCT(('Detailed price list'!E$5:E$237)*('Detailed price list'!$M$5:$M$237)*('Detailed price list'!$L$5:$L$237=$B136))/SUMIF('Detailed price list'!$L$5:$L$237,$B136,'Detailed price list'!$M$5:$M$237))","v":52.22007022345619},{"$f":"IF(SUMIF('Detailed price list'!$L$5:$L$237,$B136,'Detailed price list'!$M$5:$M$237)=0,0,\nSUMPRODUCT(('Detailed price list'!F$5:F$237)*('Detailed price list'!$M$5:$M$237)*('Detailed price list'!$L$5:$L$237=$B136))/SUMIF('Detailed price list'!$L$5:$L$237,$B136,'Detailed price list'!$M$5:$M$237))","v":53.721218786082908},{"$f":"IF(SUMIF('Detailed price list'!$L$5:$L$237,$B136,'Detailed price list'!$M$5:$M$237)=0,0,\nSUMPRODUCT(('Detailed price list'!G$5:G$237)*('Detailed price list'!$M$5:$M$237)*('Detailed price list'!$L$5:$L$237=$B136))/SUMIF('Detailed price list'!$L$5:$L$237,$B136,'Detailed price list'!$M$5:$M$237))","v":55.26552023987643},{"$f":"IF(SUMIF('Detailed price list'!$L$5:$L$237,$B136,'Detailed price list'!$M$5:$M$237)=0,0,\nSUMPRODUCT(('Detailed price list'!H$5:H$237)*('Detailed price list'!$M$5:$M$237)*('Detailed price list'!$L$5:$L$237=$B136))/SUMIF('Detailed price list'!$L$5:$L$237,$B136,'Detailed price list'!$M$5:$M$237))","v":56.854215082987601}]
[null,"Legacy Luminaire - 42W MBF SYLVANIA SUB ECO",{"$f":"IF(SUMIF('Detailed price list'!$L$5:$L$237,$B137,'Detailed price list'!$M$5:$M$237)=0,0,\nSUMPRODUCT(('Detailed price list'!D$5:D$237)*('Detailed price list'!$M$5:$M$237)*('Detailed price list'!$L$5:$L$237=$B137))/SUMIF('Detailed price list'!$L$5:$L$237,$B137,'Detailed price list'!$M$5:$M$237))","v":0},{"$f":"IF(SUMIF('Detailed price list'!$L$5:$L$237,$B137,'Detailed price list'!$M$5:$M$237)=0,0,\nSUMPRODUCT(('Detailed price list'!E$5:E$237)*('Detailed price list'!$M$5:$M$237)*('Detailed price list'!$L$5:$L$237=$B137))/SUMIF('Detailed price list'!$L$5:$L$237,$B137,'Detailed price list'!$M$5:$M$237))","v":0},{"$f":"IF(SUMIF('Detailed price list'!$L$5:$L$237,$B137,'Detailed price list'!$M$5:$M$237)=0,0,\nSUMPRODUCT(('Detailed price list'!F$5:F$237)*('Detailed price list'!$M$5:$M$237)*('Detailed price list'!$L$5:$L$237=$B137))/SUMIF('Detailed price list'!$L$5:$L$237,$B137,'Detailed price list'!$M$5:$M$237))","v":0},{"$f":"IF(SUMIF('Detailed price list'!$L$5:$L$237,$B137,'Detailed price list'!$M$5:$M$237)=0,0,\nSUMPRODUCT(('Detailed price list'!G$5:G$237)*('Detailed price list'!$M$5:$M$237)*('Detailed price list'!$L$5:$L$237=$B137))/SUMIF('Detailed price list'!$L$5:$L$237,$B137,'Detailed price list'!$M$5:$M$237))","v":0},{"$f":"IF(SUMIF('Detailed price list'!$L$5:$L$237,$B137,'Detailed price list'!$M$5:$M$237)=0,0,\nSUMPRODUCT(('Detailed price list'!H$5:H$237)*('Detailed price list'!$M$5:$M$237)*('Detailed price list'!$L$5:$L$237=$B137))/SUMIF('Detailed price list'!$L$5:$L$237,$B137,'Detailed price list'!$M$5:$M$237))","v":0}]
[null,"Legacy Luminaire - 4x250W SON",{"$f":"IF(SUMIF('Detailed price list'!$L$5:$L$237,$B138,'Detailed price list'!$M$5:$M$237)=0,0,\nSUMPRODUCT(('Detailed price list'!D$5:D$237)*('Detailed price list'!$M$5:$M$237)*('Detailed price list'!$L$5:$L$237=$B138))/SUMIF('Detailed price list'!$L$5:$L$237,$B138,'Detailed price list'!$M$5:$M$237))","v":0},{"$f":"IF(SUMIF('Detailed price list'!$L$5:$L$237,$B138,'Detailed price list'!$M$5:$M$237)=0,0,\nSUMPRODUCT(('Detailed price list'!E$5:E$237)*('Detailed price list'!$M$5:$M$237)*('Detailed price list'!$L$5:$L$237=$B138))/SUMIF('Detailed price list'!$L$5:$L$237,$B138,'Detailed price list'!$M$5:$M$237))","v":0},{"$f":"IF(SUMIF('Detailed price list'!$L$5:$L$237,$B138,'Detailed price list'!$M$5:$M$237)=0,0,\nSUMPRODUCT(('Detailed price list'!F$5:F$237)*('Detailed price list'!$M$5:$M$237)*('Detailed price list'!$L$5:$L$237=$B138))/SUMIF('Detailed price list'!$L$5:$L$237,$B138,'Detailed price list'!$M$5:$M$237))","v":0},{"$f":"IF(SUMIF('Detailed price list'!$L$5:$L$237,$B138,'Detailed price list'!$M$5:$M$237)=0,0,\nSUMPRODUCT(('Detailed price list'!G$5:G$237)*('Detailed price list'!$M$5:$M$237)*('Detailed price list'!$L$5:$L$237=$B138))/SUMIF('Detailed price list'!$L$5:$L$237,$B138,'Detailed price list'!$M$5:$M$237))","v":0},{"$f":"IF(SUMIF('Detailed price list'!$L$5:$L$237,$B138,'Detailed price list'!$M$5:$M$237)=0,0,\nSUMPRODUCT(('Detailed price list'!H$5:H$237)*('Detailed price list'!$M$5:$M$237)*('Detailed price list'!$L$5:$L$237=$B138))/SUMIF('Detailed price list'!$L$5:$L$237,$B138,'Detailed price list'!$M$5:$M$237))","v":0}]
[null,"Legacy Luminaire - 4x600W SON",{"$f":"IF(SUMIF('Detailed price list'!$L$5:$L$237,$B139,'Detailed price list'!$M$5:$M$237)=0,0,\nSUMPRODUCT(('Detailed price list'!D$5:D$237)*('Detailed price list'!$M$5:$M$237)*('Detailed price list'!$L$5:$L$237=$B139))/SUMIF('Detailed price list'!$L$5:$L$237,$B139,'Detailed price list'!$M$5:$M$237))","v":122.36464493532669},{"$f":"IF(SUMIF('Detailed price list'!$L$5:$L$237,$B139,'Detailed price list'!$M$5:$M$237)=0,0,\nSUMPRODUCT(('Detailed price list'!E$5:E$237)*('Detailed price list'!$M$5:$M$237)*('Detailed price list'!$L$5:$L$237=$B139))/SUMIF('Detailed price list'!$L$5:$L$237,$B139,'Detailed price list'!$M$5:$M$237))","v":125.88221030961616},{"$f":"IF(SUMIF('Detailed price list'!$L$5:$L$237,$B139,'Detailed price list'!$M$5:$M$237)=0,0,\nSUMPRODUCT(('Detailed price list'!F$5:F$237)*('Detailed price list'!$M$5:$M$237)*('Detailed price list'!$L$5:$L$237=$B139))/SUMIF('Detailed price list'!$L$5:$L$237,$B139,'Detailed price list'!$M$5:$M$237))","v":129.50089366752695},{"$f":"IF(SUMIF('Detailed price list'!$L$5:$L$237,$B139,'Detailed price list'!$M$5:$M$237)=0,0,\nSUMPRODUCT(('Detailed price list'!G$5:G$237)*('Detailed price list'!$M$5:$M$237)*('Detailed price list'!$L$5:$L$237=$B139))/SUMIF('Detailed price list'!$L$5:$L$237,$B139,'Detailed price list'!$M$5:$M$237))","v":133.22360180552869},{"$f":"IF(SUMIF('Detailed price list'!$L$5:$L$237,$B139,'Detailed price list'!$M$5:$M$237)=0,0,\nSUMPRODUCT(('Detailed price list'!H$5:H$237)*('Detailed price list'!$M$5:$M$237)*('Detailed price list'!$L$5:$L$237=$B139))/SUMIF('Detailed price list'!$L$5:$L$237,$B139,'Detailed price list'!$M$5:$M$237))","v":137.05332508055588}]
[null,"Legacy Luminaire - 50W MBF",{"$f":"IF(SUMIF('Detailed price list'!$L$5:$L$237,$B140,'Detailed price list'!$M$5:$M$237)=0,0,\nSUMPRODUCT(('Detailed price list'!D$5:D$237)*('Detailed price list'!$M$5:$M$237)*('Detailed price list'!$L$5:$L$237=$B140))/SUMIF('Detailed price list'!$L$5:$L$237,$B140,'Detailed price list'!$M$5:$M$237))","v":0},{"$f":"IF(SUMIF('Detailed price list'!$L$5:$L$237,$B140,'Detailed price list'!$M$5:$M$237)=0,0,\nSUMPRODUCT(('Detailed price list'!E$5:E$237)*('Detailed price list'!$M$5:$M$237)*('Detailed price list'!$L$5:$L$237=$B140))/SUMIF('Detailed price list'!$L$5:$L$237,$B140,'Detailed price list'!$M$5:$M$237))","v":0},{"$f":"IF(SUMIF('Detailed price list'!$L$5:$L$237,$B140,'Detailed price list'!$M$5:$M$237)=0,0,\nSUMPRODUCT(('Detailed price list'!F$5:F$237)*('Detailed price list'!$M$5:$M$237)*('Detailed price list'!$L$5:$L$237=$B140))/SUMIF('Detailed price list'!$L$5:$L$237,$B140,'Detailed price list'!$M$5:$M$237))","v":0},{"$f":"IF(SUMIF('Detailed price list'!$L$5:$L$237,$B140,'Detailed price list'!$M$5:$M$237)=0,0,\nSUMPRODUCT(('Detailed price list'!G$5:G$237)*('Detailed price list'!$M$5:$M$237)*('Detailed price list'!$L$5:$L$237=$B140))/SUMIF('Detailed price list'!$L$5:$L$237,$B140,'Detailed price list'!$M$5:$M$237))","v":0},{"$f":"IF(SUMIF('Detailed price list'!$L$5:$L$237,$B140,'Detailed price list'!$M$5:$M$237)=0,0,\nSUMPRODUCT(('Detailed price list'!H$5:H$237)*('Detailed price list'!$M$5:$M$237)*('Detailed price list'!$L$5:$L$237=$B140))/SUMIF('Detailed price list'!$L$5:$L$237,$B140,'Detailed price list'!$M$5:$M$237))","v":0}]
[null,"Legacy Luminaire - 50W MBF - BOURKE HILL",{"$f":"IF(SUMIF('Detailed price list'!$L$5:$L$237,$B141,'Detailed price list'!$M$5:$M$237)=0,0,\nSUMPRODUCT(('Detailed price list'!D$5:D$237)*('Detailed price list'!$M$5:$M$237)*('Detailed price list'!$L$5:$L$237=$B141))/SUMIF('Detailed price list'!$L$5:$L$237,$B141,'Detailed price list'!$M$5:$M$237))","v":70.305771080180605},{"$f":"IF(SUMIF('Detailed price list'!$L$5:$L$237,$B141,'Detailed price list'!$M$5:$M$237)=0,0,\nSUMPRODUCT(('Detailed price list'!E$5:E$237)*('Detailed price list'!$M$5:$M$237)*('Detailed price list'!$L$5:$L$237=$B141))/SUMIF('Detailed price list'!$L$5:$L$237,$B141,'Detailed price list'!$M$5:$M$237))","v":72.32682173656157},{"$f":"IF(SUMIF('Detailed price list'!$L$5:$L$237,$B141,'Detailed price list'!$M$5:$M$237)=0,0,\nSUMPRODUCT(('Detailed price list'!F$5:F$237)*('Detailed price list'!$M$5:$M$237)*('Detailed price list'!$L$5:$L$237=$B141))/SUMIF('Detailed price list'!$L$5:$L$237,$B141,'Detailed price list'!$M$5:$M$237))","v":74.405970692597037},{"$f":"IF(SUMIF('Detailed price list'!$L$5:$L$237,$B141,'Detailed price list'!$M$5:$M$237)=0,0,\nSUMPRODUCT(('Detailed price list'!G$5:G$237)*('Detailed price list'!$M$5:$M$237)*('Detailed price list'!$L$5:$L$237=$B141))/SUMIF('Detailed price list'!$L$5:$L$237,$B141,'Detailed price list'!$M$5:$M$237))","v":76.5448880758576},{"$f":"IF(SUMIF('Detailed price list'!$L$5:$L$237,$B141,'Detailed price list'!$M$5:$M$237)=0,0,\nSUMPRODUCT(('Detailed price list'!H$5:H$237)*('Detailed price list'!$M$5:$M$237)*('Detailed price list'!$L$5:$L$237=$B141))/SUMIF('Detailed price list'!$L$5:$L$237,$B141,'Detailed price list'!$M$5:$M$237))","v":78.745292024373995}]
[null,"Legacy Luminaire - 50W MBF - NOSTALGIA",{"$f":"IF(SUMIF('Detailed price list'!$L$5:$L$237,$B142,'Detailed price list'!$M$5:$M$237)=0,0,\nSUMPRODUCT(('Detailed price list'!D$5:D$237)*('Detailed price list'!$M$5:$M$237)*('Detailed price list'!$L$5:$L$237=$B142))/SUMIF('Detailed price list'!$L$5:$L$237,$B142,'Detailed price list'!$M$5:$M$237))","v":0},{"$f":"IF(SUMIF('Detailed price list'!$L$5:$L$237,$B142,'Detailed price list'!$M$5:$M$237)=0,0,\nSUMPRODUCT(('Detailed price list'!E$5:E$237)*('Detailed price list'!$M$5:$M$237)*('Detailed price list'!$L$5:$L$237=$B142))/SUMIF('Detailed price list'!$L$5:$L$237,$B142,'Detailed price list'!$M$5:$M$237))","v":0},{"$f":"IF(SUMIF('Detailed price list'!$L$5:$L$237,$B142,'Detailed price list'!$M$5:$M$237)=0,0,\nSUMPRODUCT(('Detailed price list'!F$5:F$237)*('Detailed price list'!$M$5:$M$237)*('Detailed price list'!$L$5:$L$237=$B142))/SUMIF('Detailed price list'!$L$5:$L$237,$B142,'Detailed price list'!$M$5:$M$237))","v":0},{"$f":"IF(SUMIF('Detailed price list'!$L$5:$L$237,$B142,'Detailed price list'!$M$5:$M$237)=0,0,\nSUMPRODUCT(('Detailed price list'!G$5:G$237)*('Detailed price list'!$M$5:$M$237)*('Detailed price list'!$L$5:$L$237=$B142))/SUMIF('Detailed price list'!$L$5:$L$237,$B142,'Detailed price list'!$M$5:$M$237))","v":0},{"$f":"IF(SUMIF('Detailed price list'!$L$5:$L$237,$B142,'Detailed price list'!$M$5:$M$237)=0,0,\nSUMPRODUCT(('Detailed price list'!H$5:H$237)*('Detailed price list'!$M$5:$M$237)*('Detailed price list'!$L$5:$L$237=$B142))/SUMIF('Detailed price list'!$L$5:$L$237,$B142,'Detailed price list'!$M$5:$M$237))","v":0}]
[null,"Legacy Luminaire - 50W MBF - PLAIN",{"$f":"IF(SUMIF('Detailed price list'!$L$5:$L$237,$B143,'Detailed price list'!$M$5:$M$237)=0,0,\nSUMPRODUCT(('Detailed price list'!D$5:D$237)*('Detailed price list'!$M$5:$M$237)*('Detailed price list'!$L$5:$L$237=$B143))/SUMIF('Detailed price list'!$L$5:$L$237,$B143,'Detailed price list'!$M$5:$M$237))","v":23.691232200097723},{"$f":"IF(SUMIF('Detailed price list'!$L$5:$L$237,$B143,'Detailed price list'!$M$5:$M$237)=0,0,\nSUMPRODUCT(('Detailed price list'!E$5:E$237)*('Detailed price list'!$M$5:$M$237)*('Detailed price list'!$L$5:$L$237=$B143))/SUMIF('Detailed price list'!$L$5:$L$237,$B143,'Detailed price list'!$M$5:$M$237))","v":24.37227416369236},{"$f":"IF(SUMIF('Detailed price list'!$L$5:$L$237,$B143,'Detailed price list'!$M$5:$M$237)=0,0,\nSUMPRODUCT(('Detailed price list'!F$5:F$237)*('Detailed price list'!$M$5:$M$237)*('Detailed price list'!$L$5:$L$237=$B143))/SUMIF('Detailed price list'!$L$5:$L$237,$B143,'Detailed price list'!$M$5:$M$237))","v":25.072893756354976},{"$f":"IF(SUMIF('Detailed price list'!$L$5:$L$237,$B143,'Detailed price list'!$M$5:$M$237)=0,0,\nSUMPRODUCT(('Detailed price list'!G$5:G$237)*('Detailed price list'!$M$5:$M$237)*('Detailed price list'!$L$5:$L$237=$B143))/SUMIF('Detailed price list'!$L$5:$L$237,$B143,'Detailed price list'!$M$5:$M$237))","v":25.793653768016895},{"$f":"IF(SUMIF('Detailed price list'!$L$5:$L$237,$B143,'Detailed price list'!$M$5:$M$237)=0,0,\nSUMPRODUCT(('Detailed price list'!H$5:H$237)*('Detailed price list'!$M$5:$M$237)*('Detailed price list'!$L$5:$L$237=$B143))/SUMIF('Detailed price list'!$L$5:$L$237,$B143,'Detailed price list'!$M$5:$M$237))","v":26.535133166896703}]
[null,"Legacy Luminaire - 50W SON",{"$f":"IF(SUMIF('Detailed price list'!$L$5:$L$237,$B144,'Detailed price list'!$M$5:$M$237)=0,0,\nSUMPRODUCT(('Detailed price list'!D$5:D$237)*('Detailed price list'!$M$5:$M$237)*('Detailed price list'!$L$5:$L$237=$B144))/SUMIF('Detailed price list'!$L$5:$L$237,$B144,'Detailed price list'!$M$5:$M$237))","v":0},{"$f":"IF(SUMIF('Detailed price list'!$L$5:$L$237,$B144,'Detailed price list'!$M$5:$M$237)=0,0,\nSUMPRODUCT(('Detailed price list'!E$5:E$237)*('Detailed price list'!$M$5:$M$237)*('Detailed price list'!$L$5:$L$237=$B144))/SUMIF('Detailed price list'!$L$5:$L$237,$B144,'Detailed price list'!$M$5:$M$237))","v":0},{"$f":"IF(SUMIF('Detailed price list'!$L$5:$L$237,$B144,'Detailed price list'!$M$5:$M$237)=0,0,\nSUMPRODUCT(('Detailed price list'!F$5:F$237)*('Detailed price list'!$M$5:$M$237)*('Detailed price list'!$L$5:$L$237=$B144))/SUMIF('Detailed price list'!$L$5:$L$237,$B144,'Detailed price list'!$M$5:$M$237))","v":0},{"$f":"IF(SUMIF('Detailed price list'!$L$5:$L$237,$B144,'Detailed price list'!$M$5:$M$237)=0,0,\nSUMPRODUCT(('Detailed price list'!G$5:G$237)*('Detailed price list'!$M$5:$M$237)*('Detailed price list'!$L$5:$L$237=$B144))/SUMIF('Detailed price list'!$L$5:$L$237,$B144,'Detailed price list'!$M$5:$M$237))","v":0},{"$f":"IF(SUMIF('Detailed price list'!$L$5:$L$237,$B144,'Detailed price list'!$M$5:$M$237)=0,0,\nSUMPRODUCT(('Detailed price list'!H$5:H$237)*('Detailed price list'!$M$5:$M$237)*('Detailed price list'!$L$5:$L$237=$B144))/SUMIF('Detailed price list'!$L$5:$L$237,$B144,'Detailed price list'!$M$5:$M$237))","v":0}]
[null,"Legacy Luminaire - 50W SON - NOSTALGIA",{"$f":"IF(SUMIF('Detailed price list'!$L$5:$L$237,$B145,'Detailed price list'!$M$5:$M$237)=0,0,\nSUMPRODUCT(('Detailed price list'!D$5:D$237)*('Detailed price list'!$M$5:$M$237)*('Detailed price list'!$L$5:$L$237=$B145))/SUMIF('Detailed price list'!$L$5:$L$237,$B145,'Detailed price list'!$M$5:$M$237))","v":0},{"$f":"IF(SUMIF('Detailed price list'!$L$5:$L$237,$B145,'Detailed price list'!$M$5:$M$237)=0,0,\nSUMPRODUCT(('Detailed price list'!E$5:E$237)*('Detailed price list'!$M$5:$M$237)*('Detailed price list'!$L$5:$L$237=$B145))/SUMIF('Detailed price list'!$L$5:$L$237,$B145,'Detailed price list'!$M$5:$M$237))","v":0},{"$f":"IF(SUMIF('Detailed price list'!$L$5:$L$237,$B145,'Detailed price list'!$M$5:$M$237)=0,0,\nSUMPRODUCT(('Detailed price list'!F$5:F$237)*('Detailed price list'!$M$5:$M$237)*('Detailed price list'!$L$5:$L$237=$B145))/SUMIF('Detailed price list'!$L$5:$L$237,$B145,'Detailed price list'!$M$5:$M$237))","v":0},{"$f":"IF(SUMIF('Detailed price list'!$L$5:$L$237,$B145,'Detailed price list'!$M$5:$M$237)=0,0,\nSUMPRODUCT(('Detailed price list'!G$5:G$237)*('Detailed price list'!$M$5:$M$237)*('Detailed price list'!$L$5:$L$237=$B145))/SUMIF('Detailed price list'!$L$5:$L$237,$B145,'Detailed price list'!$M$5:$M$237))","v":0},{"$f":"IF(SUMIF('Detailed price list'!$L$5:$L$237,$B145,'Detailed price list'!$M$5:$M$237)=0,0,\nSUMPRODUCT(('Detailed price list'!H$5:H$237)*('Detailed price list'!$M$5:$M$237)*('Detailed price list'!$L$5:$L$237=$B145))/SUMIF('Detailed price list'!$L$5:$L$237,$B145,'Detailed price list'!$M$5:$M$237))","v":0}]
[null,"Legacy Luminaire - 50W SON - PLAIN",{"$f":"IF(SUMIF('Detailed price list'!$L$5:$L$237,$B146,'Detailed price list'!$M$5:$M$237)=0,0,\nSUMPRODUCT(('Detailed price list'!D$5:D$237)*('Detailed price list'!$M$5:$M$237)*('Detailed price list'!$L$5:$L$237=$B146))/SUMIF('Detailed price list'!$L$5:$L$237,$B146,'Detailed price list'!$M$5:$M$237))","v":0},{"$f":"IF(SUMIF('Detailed price list'!$L$5:$L$237,$B146,'Detailed price list'!$M$5:$M$237)=0,0,\nSUMPRODUCT(('Detailed price list'!E$5:E$237)*('Detailed price list'!$M$5:$M$237)*('Detailed price list'!$L$5:$L$237=$B146))/SUMIF('Detailed price list'!$L$5:$L$237,$B146,'Detailed price list'!$M$5:$M$237))","v":0},{"$f":"IF(SUMIF('Detailed price list'!$L$5:$L$237,$B146,'Detailed price list'!$M$5:$M$237)=0,0,\nSUMPRODUCT(('Detailed price list'!F$5:F$237)*('Detailed price list'!$M$5:$M$237)*('Detailed price list'!$L$5:$L$237=$B146))/SUMIF('Detailed price list'!$L$5:$L$237,$B146,'Detailed price list'!$M$5:$M$237))","v":0},{"$f":"IF(SUMIF('Detailed price list'!$L$5:$L$237,$B146,'Detailed price list'!$M$5:$M$237)=0,0,\nSUMPRODUCT(('Detailed price list'!G$5:G$237)*('Detailed price list'!$M$5:$M$237)*('Detailed price list'!$L$5:$L$237=$B146))/SUMIF('Detailed price list'!$L$5:$L$237,$B146,'Detailed price list'!$M$5:$M$237))","v":0},{"$f":"IF(SUMIF('Detailed price list'!$L$5:$L$237,$B146,'Detailed price list'!$M$5:$M$237)=0,0,\nSUMPRODUCT(('Detailed price list'!H$5:H$237)*('Detailed price list'!$M$5:$M$237)*('Detailed price list'!$L$5:$L$237=$B146))/SUMIF('Detailed price list'!$L$5:$L$237,$B146,'Detailed price list'!$M$5:$M$237))","v":0}]
[null,"Legacy Luminaire - 70W MBI",{"$f":"IF(SUMIF('Detailed price list'!$L$5:$L$237,$B147,'Detailed price list'!$M$5:$M$237)=0,0,\nSUMPRODUCT(('Detailed price list'!D$5:D$237)*('Detailed price list'!$M$5:$M$237)*('Detailed price list'!$L$5:$L$237=$B147))/SUMIF('Detailed price list'!$L$5:$L$237,$B147,'Detailed price list'!$M$5:$M$237))","v":0},{"$f":"IF(SUMIF('Detailed price list'!$L$5:$L$237,$B147,'Detailed price list'!$M$5:$M$237)=0,0,\nSUMPRODUCT(('Detailed price list'!E$5:E$237)*('Detailed price list'!$M$5:$M$237)*('Detailed price list'!$L$5:$L$237=$B147))/SUMIF('Detailed price list'!$L$5:$L$237,$B147,'Detailed price list'!$M$5:$M$237))","v":0},{"$f":"IF(SUMIF('Detailed price list'!$L$5:$L$237,$B147,'Detailed price list'!$M$5:$M$237)=0,0,\nSUMPRODUCT(('Detailed price list'!F$5:F$237)*('Detailed price list'!$M$5:$M$237)*('Detailed price list'!$L$5:$L$237=$B147))/SUMIF('Detailed price list'!$L$5:$L$237,$B147,'Detailed price list'!$M$5:$M$237))","v":0},{"$f":"IF(SUMIF('Detailed price list'!$L$5:$L$237,$B147,'Detailed price list'!$M$5:$M$237)=0,0,\nSUMPRODUCT(('Detailed price list'!G$5:G$237)*('Detailed price list'!$M$5:$M$237)*('Detailed price list'!$L$5:$L$237=$B147))/SUMIF('Detailed price list'!$L$5:$L$237,$B147,'Detailed price list'!$M$5:$M$237))","v":0},{"$f":"IF(SUMIF('Detailed price list'!$L$5:$L$237,$B147,'Detailed price list'!$M$5:$M$237)=0,0,\nSUMPRODUCT(('Detailed price list'!H$5:H$237)*('Detailed price list'!$M$5:$M$237)*('Detailed price list'!$L$5:$L$237=$B147))/SUMIF('Detailed price list'!$L$5:$L$237,$B147,'Detailed price list'!$M$5:$M$237))","v":0}]
[null,"Legacy Luminaire - 70W MBI - MACQUARIE DEC.",{"$f":"IF(SUMIF('Detailed price list'!$L$5:$L$237,$B148,'Detailed price list'!$M$5:$M$237)=0,0,\nSUMPRODUCT(('Detailed price list'!D$5:D$237)*('Detailed price list'!$M$5:$M$237)*('Detailed price list'!$L$5:$L$237=$B148))/SUMIF('Detailed price list'!$L$5:$L$237,$B148,'Detailed price list'!$M$5:$M$237))","v":114.16957160408215},{"$f":"IF(SUMIF('Detailed price list'!$L$5:$L$237,$B148,'Detailed price list'!$M$5:$M$237)=0,0,\nSUMPRODUCT(('Detailed price list'!E$5:E$237)*('Detailed price list'!$M$5:$M$237)*('Detailed price list'!$L$5:$L$237=$B148))/SUMIF('Detailed price list'!$L$5:$L$237,$B148,'Detailed price list'!$M$5:$M$237))","v":117.45155662585245},{"$f":"IF(SUMIF('Detailed price list'!$L$5:$L$237,$B148,'Detailed price list'!$M$5:$M$237)=0,0,\nSUMPRODUCT(('Detailed price list'!F$5:F$237)*('Detailed price list'!$M$5:$M$237)*('Detailed price list'!$L$5:$L$237=$B148))/SUMIF('Detailed price list'!$L$5:$L$237,$B148,'Detailed price list'!$M$5:$M$237))","v":120.82788750117886},{"$f":"IF(SUMIF('Detailed price list'!$L$5:$L$237,$B148,'Detailed price list'!$M$5:$M$237)=0,0,\nSUMPRODUCT(('Detailed price list'!G$5:G$237)*('Detailed price list'!$M$5:$M$237)*('Detailed price list'!$L$5:$L$237=$B148))/SUMIF('Detailed price list'!$L$5:$L$237,$B148,'Detailed price list'!$M$5:$M$237))","v":124.30127635093466},{"$f":"IF(SUMIF('Detailed price list'!$L$5:$L$237,$B148,'Detailed price list'!$M$5:$M$237)=0,0,\nSUMPRODUCT(('Detailed price list'!H$5:H$237)*('Detailed price list'!$M$5:$M$237)*('Detailed price list'!$L$5:$L$237=$B148))/SUMIF('Detailed price list'!$L$5:$L$237,$B148,'Detailed price list'!$M$5:$M$237))","v":127.87451326019981}]
[null,"Legacy Luminaire - 70W MBI II",{"$f":"IF(SUMIF('Detailed price list'!$L$5:$L$237,$B149,'Detailed price list'!$M$5:$M$237)=0,0,\nSUMPRODUCT(('Detailed price list'!D$5:D$237)*('Detailed price list'!$M$5:$M$237)*('Detailed price list'!$L$5:$L$237=$B149))/SUMIF('Detailed price list'!$L$5:$L$237,$B149,'Detailed price list'!$M$5:$M$237))","v":0},{"$f":"IF(SUMIF('Detailed price list'!$L$5:$L$237,$B149,'Detailed price list'!$M$5:$M$237)=0,0,\nSUMPRODUCT(('Detailed price list'!E$5:E$237)*('Detailed price list'!$M$5:$M$237)*('Detailed price list'!$L$5:$L$237=$B149))/SUMIF('Detailed price list'!$L$5:$L$237,$B149,'Detailed price list'!$M$5:$M$237))","v":0},{"$f":"IF(SUMIF('Detailed price list'!$L$5:$L$237,$B149,'Detailed price list'!$M$5:$M$237)=0,0,\nSUMPRODUCT(('Detailed price list'!F$5:F$237)*('Detailed price list'!$M$5:$M$237)*('Detailed price list'!$L$5:$L$237=$B149))/SUMIF('Detailed price list'!$L$5:$L$237,$B149,'Detailed price list'!$M$5:$M$237))","v":0},{"$f":"IF(SUMIF('Detailed price list'!$L$5:$L$237,$B149,'Detailed price list'!$M$5:$M$237)=0,0,\nSUMPRODUCT(('Detailed price list'!G$5:G$237)*('Detailed price list'!$M$5:$M$237)*('Detailed price list'!$L$5:$L$237=$B149))/SUMIF('Detailed price list'!$L$5:$L$237,$B149,'Detailed price list'!$M$5:$M$237))","v":0},{"$f":"IF(SUMIF('Detailed price list'!$L$5:$L$237,$B149,'Detailed price list'!$M$5:$M$237)=0,0,\nSUMPRODUCT(('Detailed price list'!H$5:H$237)*('Detailed price list'!$M$5:$M$237)*('Detailed price list'!$L$5:$L$237=$B149))/SUMIF('Detailed price list'!$L$5:$L$237,$B149,'Detailed price list'!$M$5:$M$237))","v":0}]
[null,"Legacy Luminaire - 70W MBI II AERO",{"$f":"IF(SUMIF('Detailed price list'!$L$5:$L$237,$B150,'Detailed price list'!$M$5:$M$237)=0,0,\nSUMPRODUCT(('Detailed price list'!D$5:D$237)*('Detailed price list'!$M$5:$M$237)*('Detailed price list'!$L$5:$L$237=$B150))/SUMIF('Detailed price list'!$L$5:$L$237,$B150,'Detailed price list'!$M$5:$M$237))","v":0},{"$f":"IF(SUMIF('Detailed price list'!$L$5:$L$237,$B150,'Detailed price list'!$M$5:$M$237)=0,0,\nSUMPRODUCT(('Detailed price list'!E$5:E$237)*('Detailed price list'!$M$5:$M$237)*('Detailed price list'!$L$5:$L$237=$B150))/SUMIF('Detailed price list'!$L$5:$L$237,$B150,'Detailed price list'!$M$5:$M$237))","v":0},{"$f":"IF(SUMIF('Detailed price list'!$L$5:$L$237,$B150,'Detailed price list'!$M$5:$M$237)=0,0,\nSUMPRODUCT(('Detailed price list'!F$5:F$237)*('Detailed price list'!$M$5:$M$237)*('Detailed price list'!$L$5:$L$237=$B150))/SUMIF('Detailed price list'!$L$5:$L$237,$B150,'Detailed price list'!$M$5:$M$237))","v":0},{"$f":"IF(SUMIF('Detailed price list'!$L$5:$L$237,$B150,'Detailed price list'!$M$5:$M$237)=0,0,\nSUMPRODUCT(('Detailed price list'!G$5:G$237)*('Detailed price list'!$M$5:$M$237)*('Detailed price list'!$L$5:$L$237=$B150))/SUMIF('Detailed price list'!$L$5:$L$237,$B150,'Detailed price list'!$M$5:$M$237))","v":0},{"$f":"IF(SUMIF('Detailed price list'!$L$5:$L$237,$B150,'Detailed price list'!$M$5:$M$237)=0,0,\nSUMPRODUCT(('Detailed price list'!H$5:H$237)*('Detailed price list'!$M$5:$M$237)*('Detailed price list'!$L$5:$L$237=$B150))/SUMIF('Detailed price list'!$L$5:$L$237,$B150,'Detailed price list'!$M$5:$M$237))","v":0}]
[null,"Legacy Luminaire - 70W SON",{"$f":"IF(SUMIF('Detailed price list'!$L$5:$L$237,$B151,'Detailed price list'!$M$5:$M$237)=0,0,\nSUMPRODUCT(('Detailed price list'!D$5:D$237)*('Detailed price list'!$M$5:$M$237)*('Detailed price list'!$L$5:$L$237=$B151))/SUMIF('Detailed price list'!$L$5:$L$237,$B151,'Detailed price list'!$M$5:$M$237))","v":0},{"$f":"IF(SUMIF('Detailed price list'!$L$5:$L$237,$B151,'Detailed price list'!$M$5:$M$237)=0,0,\nSUMPRODUCT(('Detailed price list'!E$5:E$237)*('Detailed price list'!$M$5:$M$237)*('Detailed price list'!$L$5:$L$237=$B151))/SUMIF('Detailed price list'!$L$5:$L$237,$B151,'Detailed price list'!$M$5:$M$237))","v":0},{"$f":"IF(SUMIF('Detailed price list'!$L$5:$L$237,$B151,'Detailed price list'!$M$5:$M$237)=0,0,\nSUMPRODUCT(('Detailed price list'!F$5:F$237)*('Detailed price list'!$M$5:$M$237)*('Detailed price list'!$L$5:$L$237=$B151))/SUMIF('Detailed price list'!$L$5:$L$237,$B151,'Detailed price list'!$M$5:$M$237))","v":0},{"$f":"IF(SUMIF('Detailed price list'!$L$5:$L$237,$B151,'Detailed price list'!$M$5:$M$237)=0,0,\nSUMPRODUCT(('Detailed price list'!G$5:G$237)*('Detailed price list'!$M$5:$M$237)*('Detailed price list'!$L$5:$L$237=$B151))/SUMIF('Detailed price list'!$L$5:$L$237,$B151,'Detailed price list'!$M$5:$M$237))","v":0},{"$f":"IF(SUMIF('Detailed price list'!$L$5:$L$237,$B151,'Detailed price list'!$M$5:$M$237)=0,0,\nSUMPRODUCT(('Detailed price list'!H$5:H$237)*('Detailed price list'!$M$5:$M$237)*('Detailed price list'!$L$5:$L$237=$B151))/SUMIF('Detailed price list'!$L$5:$L$237,$B151,'Detailed price list'!$M$5:$M$237))","v":0}]
[null,"Legacy Luminaire - 70W SON - BOURKE HILL",{"$f":"IF(SUMIF('Detailed price list'!$L$5:$L$237,$B152,'Detailed price list'!$M$5:$M$237)=0,0,\nSUMPRODUCT(('Detailed price list'!D$5:D$237)*('Detailed price list'!$M$5:$M$237)*('Detailed price list'!$L$5:$L$237=$B152))/SUMIF('Detailed price list'!$L$5:$L$237,$B152,'Detailed price list'!$M$5:$M$237))","v":78.613731370478305},{"$f":"IF(SUMIF('Detailed price list'!$L$5:$L$237,$B152,'Detailed price list'!$M$5:$M$237)=0,0,\nSUMPRODUCT(('Detailed price list'!E$5:E$237)*('Detailed price list'!$M$5:$M$237)*('Detailed price list'!$L$5:$L$237=$B152))/SUMIF('Detailed price list'!$L$5:$L$237,$B152,'Detailed price list'!$M$5:$M$237))","v":80.873607493672566},{"$f":"IF(SUMIF('Detailed price list'!$L$5:$L$237,$B152,'Detailed price list'!$M$5:$M$237)=0,0,\nSUMPRODUCT(('Detailed price list'!F$5:F$237)*('Detailed price list'!$M$5:$M$237)*('Detailed price list'!$L$5:$L$237=$B152))/SUMIF('Detailed price list'!$L$5:$L$237,$B152,'Detailed price list'!$M$5:$M$237))","v":83.19844733253268},{"$f":"IF(SUMIF('Detailed price list'!$L$5:$L$237,$B152,'Detailed price list'!$M$5:$M$237)=0,0,\nSUMPRODUCT(('Detailed price list'!G$5:G$237)*('Detailed price list'!$M$5:$M$237)*('Detailed price list'!$L$5:$L$237=$B152))/SUMIF('Detailed price list'!$L$5:$L$237,$B152,'Detailed price list'!$M$5:$M$237))","v":85.59011837187775},{"$f":"IF(SUMIF('Detailed price list'!$L$5:$L$237,$B152,'Detailed price list'!$M$5:$M$237)=0,0,\nSUMPRODUCT(('Detailed price list'!H$5:H$237)*('Detailed price list'!$M$5:$M$237)*('Detailed price list'!$L$5:$L$237=$B152))/SUMIF('Detailed price list'!$L$5:$L$237,$B152,'Detailed price list'!$M$5:$M$237))","v":88.050541780333504}]
[null,"Legacy Luminaire - 70W SON - NOSTALGIA",{"$f":"IF(SUMIF('Detailed price list'!$L$5:$L$237,$B153,'Detailed price list'!$M$5:$M$237)=0,0,\nSUMPRODUCT(('Detailed price list'!D$5:D$237)*('Detailed price list'!$M$5:$M$237)*('Detailed price list'!$L$5:$L$237=$B153))/SUMIF('Detailed price list'!$L$5:$L$237,$B153,'Detailed price list'!$M$5:$M$237))","v":73.3160130548697},{"$f":"IF(SUMIF('Detailed price list'!$L$5:$L$237,$B153,'Detailed price list'!$M$5:$M$237)=0,0,\nSUMPRODUCT(('Detailed price list'!E$5:E$237)*('Detailed price list'!$M$5:$M$237)*('Detailed price list'!$L$5:$L$237=$B153))/SUMIF('Detailed price list'!$L$5:$L$237,$B153,'Detailed price list'!$M$5:$M$237))","v":75.423597880854928},{"$f":"IF(SUMIF('Detailed price list'!$L$5:$L$237,$B153,'Detailed price list'!$M$5:$M$237)=0,0,\nSUMPRODUCT(('Detailed price list'!F$5:F$237)*('Detailed price list'!$M$5:$M$237)*('Detailed price list'!$L$5:$L$237=$B153))/SUMIF('Detailed price list'!$L$5:$L$237,$B153,'Detailed price list'!$M$5:$M$237))","v":77.59176856814986},{"$f":"IF(SUMIF('Detailed price list'!$L$5:$L$237,$B153,'Detailed price list'!$M$5:$M$237)=0,0,\nSUMPRODUCT(('Detailed price list'!G$5:G$237)*('Detailed price list'!$M$5:$M$237)*('Detailed price list'!$L$5:$L$237=$B153))/SUMIF('Detailed price list'!$L$5:$L$237,$B153,'Detailed price list'!$M$5:$M$237))","v":79.822266753221697},{"$f":"IF(SUMIF('Detailed price list'!$L$5:$L$237,$B153,'Detailed price list'!$M$5:$M$237)=0,0,\nSUMPRODUCT(('Detailed price list'!H$5:H$237)*('Detailed price list'!$M$5:$M$237)*('Detailed price list'!$L$5:$L$237=$B153))/SUMIF('Detailed price list'!$L$5:$L$237,$B153,'Detailed price list'!$M$5:$M$237))","v":82.116884138634205}]
[null,"Legacy Luminaire - 70W SON - PARKVILLE",{"$f":"IF(SUMIF('Detailed price list'!$L$5:$L$237,$B154,'Detailed price list'!$M$5:$M$237)=0,0,\nSUMPRODUCT(('Detailed price list'!D$5:D$237)*('Detailed price list'!$M$5:$M$237)*('Detailed price list'!$L$5:$L$237=$B154))/SUMIF('Detailed price list'!$L$5:$L$237,$B154,'Detailed price list'!$M$5:$M$237))","v":91.93107262248715},{"$f":"IF(SUMIF('Detailed price list'!$L$5:$L$237,$B154,'Detailed price list'!$M$5:$M$237)=0,0,\nSUMPRODUCT(('Detailed price list'!E$5:E$237)*('Detailed price list'!$M$5:$M$237)*('Detailed price list'!$L$5:$L$237=$B154))/SUMIF('Detailed price list'!$L$5:$L$237,$B154,'Detailed price list'!$M$5:$M$237))","v":94.573776796140137},{"$f":"IF(SUMIF('Detailed price list'!$L$5:$L$237,$B154,'Detailed price list'!$M$5:$M$237)=0,0,\nSUMPRODUCT(('Detailed price list'!F$5:F$237)*('Detailed price list'!$M$5:$M$237)*('Detailed price list'!$L$5:$L$237=$B154))/SUMIF('Detailed price list'!$L$5:$L$237,$B154,'Detailed price list'!$M$5:$M$237))","v":97.29244968363723},{"$f":"IF(SUMIF('Detailed price list'!$L$5:$L$237,$B154,'Detailed price list'!$M$5:$M$237)=0,0,\nSUMPRODUCT(('Detailed price list'!G$5:G$237)*('Detailed price list'!$M$5:$M$237)*('Detailed price list'!$L$5:$L$237=$B154))/SUMIF('Detailed price list'!$L$5:$L$237,$B154,'Detailed price list'!$M$5:$M$237))","v":100.08927512588684},{"$f":"IF(SUMIF('Detailed price list'!$L$5:$L$237,$B154,'Detailed price list'!$M$5:$M$237)=0,0,\nSUMPRODUCT(('Detailed price list'!H$5:H$237)*('Detailed price list'!$M$5:$M$237)*('Detailed price list'!$L$5:$L$237=$B154))/SUMIF('Detailed price list'!$L$5:$L$237,$B154,'Detailed price list'!$M$5:$M$237))","v":102.96649974176042}]
[null,"Legacy Luminaire - 70W SON - PLAIN",{"$f":"IF(SUMIF('Detailed price list'!$L$5:$L$237,$B155,'Detailed price list'!$M$5:$M$237)=0,0,\nSUMPRODUCT(('Detailed price list'!D$5:D$237)*('Detailed price list'!$M$5:$M$237)*('Detailed price list'!$L$5:$L$237=$B155))/SUMIF('Detailed price list'!$L$5:$L$237,$B155,'Detailed price list'!$M$5:$M$237))","v":25.997931031277083},{"$f":"IF(SUMIF('Detailed price list'!$L$5:$L$237,$B155,'Detailed price list'!$M$5:$M$237)=0,0,\nSUMPRODUCT(('Detailed price list'!E$5:E$237)*('Detailed price list'!$M$5:$M$237)*('Detailed price list'!$L$5:$L$237=$B155))/SUMIF('Detailed price list'!$L$5:$L$237,$B155,'Detailed price list'!$M$5:$M$237))","v":26.745282703380735},{"$f":"IF(SUMIF('Detailed price list'!$L$5:$L$237,$B155,'Detailed price list'!$M$5:$M$237)=0,0,\nSUMPRODUCT(('Detailed price list'!F$5:F$237)*('Detailed price list'!$M$5:$M$237)*('Detailed price list'!$L$5:$L$237=$B155))/SUMIF('Detailed price list'!$L$5:$L$237,$B155,'Detailed price list'!$M$5:$M$237))","v":27.514118182065925},{"$f":"IF(SUMIF('Detailed price list'!$L$5:$L$237,$B155,'Detailed price list'!$M$5:$M$237)=0,0,\nSUMPRODUCT(('Detailed price list'!G$5:G$237)*('Detailed price list'!$M$5:$M$237)*('Detailed price list'!$L$5:$L$237=$B155))/SUMIF('Detailed price list'!$L$5:$L$237,$B155,'Detailed price list'!$M$5:$M$237))","v":28.305055053353346},{"$f":"IF(SUMIF('Detailed price list'!$L$5:$L$237,$B155,'Detailed price list'!$M$5:$M$237)=0,0,\nSUMPRODUCT(('Detailed price list'!H$5:H$237)*('Detailed price list'!$M$5:$M$237)*('Detailed price list'!$L$5:$L$237=$B155))/SUMIF('Detailed price list'!$L$5:$L$237,$B155,'Detailed price list'!$M$5:$M$237))","v":29.118728656751255}]
[null,"Legacy Luminaire - 70W SON BOLLARD",{"$f":"IF(SUMIF('Detailed price list'!$L$5:$L$237,$B156,'Detailed price list'!$M$5:$M$237)=0,0,\nSUMPRODUCT(('Detailed price list'!D$5:D$237)*('Detailed price list'!$M$5:$M$237)*('Detailed price list'!$L$5:$L$237=$B156))/SUMIF('Detailed price list'!$L$5:$L$237,$B156,'Detailed price list'!$M$5:$M$237))","v":55.996549330764665},{"$f":"IF(SUMIF('Detailed price list'!$L$5:$L$237,$B156,'Detailed price list'!$M$5:$M$237)=0,0,\nSUMPRODUCT(('Detailed price list'!E$5:E$237)*('Detailed price list'!$M$5:$M$237)*('Detailed price list'!$L$5:$L$237=$B156))/SUMIF('Detailed price list'!$L$5:$L$237,$B156,'Detailed price list'!$M$5:$M$237))","v":57.606258762028041},{"$f":"IF(SUMIF('Detailed price list'!$L$5:$L$237,$B156,'Detailed price list'!$M$5:$M$237)=0,0,\nSUMPRODUCT(('Detailed price list'!F$5:F$237)*('Detailed price list'!$M$5:$M$237)*('Detailed price list'!$L$5:$L$237=$B156))/SUMIF('Detailed price list'!$L$5:$L$237,$B156,'Detailed price list'!$M$5:$M$237))","v":59.262241838436807},{"$f":"IF(SUMIF('Detailed price list'!$L$5:$L$237,$B156,'Detailed price list'!$M$5:$M$237)=0,0,\nSUMPRODUCT(('Detailed price list'!G$5:G$237)*('Detailed price list'!$M$5:$M$237)*('Detailed price list'!$L$5:$L$237=$B156))/SUMIF('Detailed price list'!$L$5:$L$237,$B156,'Detailed price list'!$M$5:$M$237))","v":60.965828769153845},{"$f":"IF(SUMIF('Detailed price list'!$L$5:$L$237,$B156,'Detailed price list'!$M$5:$M$237)=0,0,\nSUMPRODUCT(('Detailed price list'!H$5:H$237)*('Detailed price list'!$M$5:$M$237)*('Detailed price list'!$L$5:$L$237=$B156))/SUMIF('Detailed price list'!$L$5:$L$237,$B156,'Detailed price list'!$M$5:$M$237))","v":62.718388002309645}]
[null,"Legacy Luminaire - 70W SON FLOODLIGHT",{"$f":"IF(SUMIF('Detailed price list'!$L$5:$L$237,$B157,'Detailed price list'!$M$5:$M$237)=0,0,\nSUMPRODUCT(('Detailed price list'!D$5:D$237)*('Detailed price list'!$M$5:$M$237)*('Detailed price list'!$L$5:$L$237=$B157))/SUMIF('Detailed price list'!$L$5:$L$237,$B157,'Detailed price list'!$M$5:$M$237))","v":31.326501443752708},{"$f":"IF(SUMIF('Detailed price list'!$L$5:$L$237,$B157,'Detailed price list'!$M$5:$M$237)=0,0,\nSUMPRODUCT(('Detailed price list'!E$5:E$237)*('Detailed price list'!$M$5:$M$237)*('Detailed price list'!$L$5:$L$237=$B157))/SUMIF('Detailed price list'!$L$5:$L$237,$B157,'Detailed price list'!$M$5:$M$237))","v":32.227031305416702},{"$f":"IF(SUMIF('Detailed price list'!$L$5:$L$237,$B157,'Detailed price list'!$M$5:$M$237)=0,0,\nSUMPRODUCT(('Detailed price list'!F$5:F$237)*('Detailed price list'!$M$5:$M$237)*('Detailed price list'!$L$5:$L$237=$B157))/SUMIF('Detailed price list'!$L$5:$L$237,$B157,'Detailed price list'!$M$5:$M$237))","v":33.153448323142619},{"$f":"IF(SUMIF('Detailed price list'!$L$5:$L$237,$B157,'Detailed price list'!$M$5:$M$237)=0,0,\nSUMPRODUCT(('Detailed price list'!G$5:G$237)*('Detailed price list'!$M$5:$M$237)*('Detailed price list'!$L$5:$L$237=$B157))/SUMIF('Detailed price list'!$L$5:$L$237,$B157,'Detailed price list'!$M$5:$M$237))","v":34.106496664200762},{"$f":"IF(SUMIF('Detailed price list'!$L$5:$L$237,$B157,'Detailed price list'!$M$5:$M$237)=0,0,\nSUMPRODUCT(('Detailed price list'!H$5:H$237)*('Detailed price list'!$M$5:$M$237)*('Detailed price list'!$L$5:$L$237=$B157))/SUMIF('Detailed price list'!$L$5:$L$237,$B157,'Detailed price list'!$M$5:$M$237))","v":35.086941888127335}]
[null,"Legacy Luminaire - 80W MBF - BEGA+CURVE BRA",{"$f":"IF(SUMIF('Detailed price list'!$L$5:$L$237,$B158,'Detailed price list'!$M$5:$M$237)=0,0,\nSUMPRODUCT(('Detailed price list'!D$5:D$237)*('Detailed price list'!$M$5:$M$237)*('Detailed price list'!$L$5:$L$237=$B158))/SUMIF('Detailed price list'!$L$5:$L$237,$B158,'Detailed price list'!$M$5:$M$237))","v":114.78084679434467},{"$f":"IF(SUMIF('Detailed price list'!$L$5:$L$237,$B158,'Detailed price list'!$M$5:$M$237)=0,0,\nSUMPRODUCT(('Detailed price list'!E$5:E$237)*('Detailed price list'!$M$5:$M$237)*('Detailed price list'!$L$5:$L$237=$B158))/SUMIF('Detailed price list'!$L$5:$L$237,$B158,'Detailed price list'!$M$5:$M$237))","v":118.08040388886984},{"$f":"IF(SUMIF('Detailed price list'!$L$5:$L$237,$B158,'Detailed price list'!$M$5:$M$237)=0,0,\nSUMPRODUCT(('Detailed price list'!F$5:F$237)*('Detailed price list'!$M$5:$M$237)*('Detailed price list'!$L$5:$L$237=$B158))/SUMIF('Detailed price list'!$L$5:$L$237,$B158,'Detailed price list'!$M$5:$M$237))","v":121.47481197399223},{"$f":"IF(SUMIF('Detailed price list'!$L$5:$L$237,$B158,'Detailed price list'!$M$5:$M$237)=0,0,\nSUMPRODUCT(('Detailed price list'!G$5:G$237)*('Detailed price list'!$M$5:$M$237)*('Detailed price list'!$L$5:$L$237=$B158))/SUMIF('Detailed price list'!$L$5:$L$237,$B158,'Detailed price list'!$M$5:$M$237))","v":124.96679769154878},{"$f":"IF(SUMIF('Detailed price list'!$L$5:$L$237,$B158,'Detailed price list'!$M$5:$M$237)=0,0,\nSUMPRODUCT(('Detailed price list'!H$5:H$237)*('Detailed price list'!$M$5:$M$237)*('Detailed price list'!$L$5:$L$237=$B158))/SUMIF('Detailed price list'!$L$5:$L$237,$B158,'Detailed price list'!$M$5:$M$237))","v":128.55916606501123}]
[null,"Legacy Luminaire - 80W MBF - BOURKE HILL",{"$f":"IF(SUMIF('Detailed price list'!$L$5:$L$237,$B159,'Detailed price list'!$M$5:$M$237)=0,0,\nSUMPRODUCT(('Detailed price list'!D$5:D$237)*('Detailed price list'!$M$5:$M$237)*('Detailed price list'!$L$5:$L$237=$B159))/SUMIF('Detailed price list'!$L$5:$L$237,$B159,'Detailed price list'!$M$5:$M$237))","v":53.857086164845811},{"$f":"IF(SUMIF('Detailed price list'!$L$5:$L$237,$B159,'Detailed price list'!$M$5:$M$237)=0,0,\nSUMPRODUCT(('Detailed price list'!E$5:E$237)*('Detailed price list'!$M$5:$M$237)*('Detailed price list'!$L$5:$L$237=$B159))/SUMIF('Detailed price list'!$L$5:$L$237,$B159,'Detailed price list'!$M$5:$M$237))","v":55.405293341467079},{"$f":"IF(SUMIF('Detailed price list'!$L$5:$L$237,$B159,'Detailed price list'!$M$5:$M$237)=0,0,\nSUMPRODUCT(('Detailed price list'!F$5:F$237)*('Detailed price list'!$M$5:$M$237)*('Detailed price list'!$L$5:$L$237=$B159))/SUMIF('Detailed price list'!$L$5:$L$237,$B159,'Detailed price list'!$M$5:$M$237))","v":56.998006183589908},{"$f":"IF(SUMIF('Detailed price list'!$L$5:$L$237,$B159,'Detailed price list'!$M$5:$M$237)=0,0,\nSUMPRODUCT(('Detailed price list'!G$5:G$237)*('Detailed price list'!$M$5:$M$237)*('Detailed price list'!$L$5:$L$237=$B159))/SUMIF('Detailed price list'!$L$5:$L$237,$B159,'Detailed price list'!$M$5:$M$237))","v":58.636504077004297},{"$f":"IF(SUMIF('Detailed price list'!$L$5:$L$237,$B159,'Detailed price list'!$M$5:$M$237)=0,0,\nSUMPRODUCT(('Detailed price list'!H$5:H$237)*('Detailed price list'!$M$5:$M$237)*('Detailed price list'!$L$5:$L$237=$B159))/SUMIF('Detailed price list'!$L$5:$L$237,$B159,'Detailed price list'!$M$5:$M$237))","v":60.322103185469544}]
[null,"Legacy Luminaire - 80W MBF - NOSTALGIA",{"$f":"IF(SUMIF('Detailed price list'!$L$5:$L$237,$B160,'Detailed price list'!$M$5:$M$237)=0,0,\nSUMPRODUCT(('Detailed price list'!D$5:D$237)*('Detailed price list'!$M$5:$M$237)*('Detailed price list'!$L$5:$L$237=$B160))/SUMIF('Detailed price list'!$L$5:$L$237,$B160,'Detailed price list'!$M$5:$M$237))","v":0},{"$f":"IF(SUMIF('Detailed price list'!$L$5:$L$237,$B160,'Detailed price list'!$M$5:$M$237)=0,0,\nSUMPRODUCT(('Detailed price list'!E$5:E$237)*('Detailed price list'!$M$5:$M$237)*('Detailed price list'!$L$5:$L$237=$B160))/SUMIF('Detailed price list'!$L$5:$L$237,$B160,'Detailed price list'!$M$5:$M$237))","v":0},{"$f":"IF(SUMIF('Detailed price list'!$L$5:$L$237,$B160,'Detailed price list'!$M$5:$M$237)=0,0,\nSUMPRODUCT(('Detailed price list'!F$5:F$237)*('Detailed price list'!$M$5:$M$237)*('Detailed price list'!$L$5:$L$237=$B160))/SUMIF('Detailed price list'!$L$5:$L$237,$B160,'Detailed price list'!$M$5:$M$237))","v":0},{"$f":"IF(SUMIF('Detailed price list'!$L$5:$L$237,$B160,'Detailed price list'!$M$5:$M$237)=0,0,\nSUMPRODUCT(('Detailed price list'!G$5:G$237)*('Detailed price list'!$M$5:$M$237)*('Detailed price list'!$L$5:$L$237=$B160))/SUMIF('Detailed price list'!$L$5:$L$237,$B160,'Detailed price list'!$M$5:$M$237))","v":0},{"$f":"IF(SUMIF('Detailed price list'!$L$5:$L$237,$B160,'Detailed price list'!$M$5:$M$237)=0,0,\nSUMPRODUCT(('Detailed price list'!H$5:H$237)*('Detailed price list'!$M$5:$M$237)*('Detailed price list'!$L$5:$L$237=$B160))/SUMIF('Detailed price list'!$L$5:$L$237,$B160,'Detailed price list'!$M$5:$M$237))","v":0}]
[null,"Legacy Luminaire - 80W MBF - PLAIN",{"$f":"IF(SUMIF('Detailed price list'!$L$5:$L$237,$B161,'Detailed price list'!$M$5:$M$237)=0,0,\nSUMPRODUCT(('Detailed price list'!D$5:D$237)*('Detailed price list'!$M$5:$M$237)*('Detailed price list'!$L$5:$L$237=$B161))/SUMIF('Detailed price list'!$L$5:$L$237,$B161,'Detailed price list'!$M$5:$M$237))","v":22.595550255287531},{"$f":"IF(SUMIF('Detailed price list'!$L$5:$L$237,$B161,'Detailed price list'!$M$5:$M$237)=0,0,\nSUMPRODUCT(('Detailed price list'!E$5:E$237)*('Detailed price list'!$M$5:$M$237)*('Detailed price list'!$L$5:$L$237=$B161))/SUMIF('Detailed price list'!$L$5:$L$237,$B161,'Detailed price list'!$M$5:$M$237))","v":23.245095107340383},{"$f":"IF(SUMIF('Detailed price list'!$L$5:$L$237,$B161,'Detailed price list'!$M$5:$M$237)=0,0,\nSUMPRODUCT(('Detailed price list'!F$5:F$237)*('Detailed price list'!$M$5:$M$237)*('Detailed price list'!$L$5:$L$237=$B161))/SUMIF('Detailed price list'!$L$5:$L$237,$B161,'Detailed price list'!$M$5:$M$237))","v":23.913312154142282},{"$f":"IF(SUMIF('Detailed price list'!$L$5:$L$237,$B161,'Detailed price list'!$M$5:$M$237)=0,0,\nSUMPRODUCT(('Detailed price list'!G$5:G$237)*('Detailed price list'!$M$5:$M$237)*('Detailed price list'!$L$5:$L$237=$B161))/SUMIF('Detailed price list'!$L$5:$L$237,$B161,'Detailed price list'!$M$5:$M$237))","v":24.600738157482088},{"$f":"IF(SUMIF('Detailed price list'!$L$5:$L$237,$B161,'Detailed price list'!$M$5:$M$237)=0,0,\nSUMPRODUCT(('Detailed price list'!H$5:H$237)*('Detailed price list'!$M$5:$M$237)*('Detailed price list'!$L$5:$L$237=$B161))/SUMIF('Detailed price list'!$L$5:$L$237,$B161,'Detailed price list'!$M$5:$M$237))","v":25.307925309215797}]
[null,"Legacy Luminaire - 80W MBF - REGAL/FLINDERS",{"$f":"IF(SUMIF('Detailed price list'!$L$5:$L$237,$B162,'Detailed price list'!$M$5:$M$237)=0,0,\nSUMPRODUCT(('Detailed price list'!D$5:D$237)*('Detailed price list'!$M$5:$M$237)*('Detailed price list'!$L$5:$L$237=$B162))/SUMIF('Detailed price list'!$L$5:$L$237,$B162,'Detailed price list'!$M$5:$M$237))","v":125.07064583043062},{"$f":"IF(SUMIF('Detailed price list'!$L$5:$L$237,$B162,'Detailed price list'!$M$5:$M$237)=0,0,\nSUMPRODUCT(('Detailed price list'!E$5:E$237)*('Detailed price list'!$M$5:$M$237)*('Detailed price list'!$L$5:$L$237=$B162))/SUMIF('Detailed price list'!$L$5:$L$237,$B162,'Detailed price list'!$M$5:$M$237))","v":128.66599948299643},{"$f":"IF(SUMIF('Detailed price list'!$L$5:$L$237,$B162,'Detailed price list'!$M$5:$M$237)=0,0,\nSUMPRODUCT(('Detailed price list'!F$5:F$237)*('Detailed price list'!$M$5:$M$237)*('Detailed price list'!$L$5:$L$237=$B162))/SUMIF('Detailed price list'!$L$5:$L$237,$B162,'Detailed price list'!$M$5:$M$237))","v":132.36470726635119},{"$f":"IF(SUMIF('Detailed price list'!$L$5:$L$237,$B162,'Detailed price list'!$M$5:$M$237)=0,0,\nSUMPRODUCT(('Detailed price list'!G$5:G$237)*('Detailed price list'!$M$5:$M$237)*('Detailed price list'!$L$5:$L$237=$B162))/SUMIF('Detailed price list'!$L$5:$L$237,$B162,'Detailed price list'!$M$5:$M$237))","v":136.16974025855382},{"$f":"IF(SUMIF('Detailed price list'!$L$5:$L$237,$B162,'Detailed price list'!$M$5:$M$237)=0,0,\nSUMPRODUCT(('Detailed price list'!H$5:H$237)*('Detailed price list'!$M$5:$M$237)*('Detailed price list'!$L$5:$L$237=$B162))/SUMIF('Detailed price list'!$L$5:$L$237,$B162,'Detailed price list'!$M$5:$M$237))","v":140.08415494600408}]
[null,"Legacy Luminaire - 80W MBF BOLLARD",{"$f":"IF(SUMIF('Detailed price list'!$L$5:$L$237,$B163,'Detailed price list'!$M$5:$M$237)=0,0,\nSUMPRODUCT(('Detailed price list'!D$5:D$237)*('Detailed price list'!$M$5:$M$237)*('Detailed price list'!$L$5:$L$237=$B163))/SUMIF('Detailed price list'!$L$5:$L$237,$B163,'Detailed price list'!$M$5:$M$237))","v":44.586079112530754},{"$f":"IF(SUMIF('Detailed price list'!$L$5:$L$237,$B163,'Detailed price list'!$M$5:$M$237)=0,0,\nSUMPRODUCT(('Detailed price list'!E$5:E$237)*('Detailed price list'!$M$5:$M$237)*('Detailed price list'!$L$5:$L$237=$B163))/SUMIF('Detailed price list'!$L$5:$L$237,$B163,'Detailed price list'!$M$5:$M$237))","v":45.867776519036212},{"$f":"IF(SUMIF('Detailed price list'!$L$5:$L$237,$B163,'Detailed price list'!$M$5:$M$237)=0,0,\nSUMPRODUCT(('Detailed price list'!F$5:F$237)*('Detailed price list'!$M$5:$M$237)*('Detailed price list'!$L$5:$L$237=$B163))/SUMIF('Detailed price list'!$L$5:$L$237,$B163,'Detailed price list'!$M$5:$M$237))","v":47.186318345919965},{"$f":"IF(SUMIF('Detailed price list'!$L$5:$L$237,$B163,'Detailed price list'!$M$5:$M$237)=0,0,\nSUMPRODUCT(('Detailed price list'!G$5:G$237)*('Detailed price list'!$M$5:$M$237)*('Detailed price list'!$L$5:$L$237=$B163))/SUMIF('Detailed price list'!$L$5:$L$237,$B163,'Detailed price list'!$M$5:$M$237))","v":48.542763744356208},{"$f":"IF(SUMIF('Detailed price list'!$L$5:$L$237,$B163,'Detailed price list'!$M$5:$M$237)=0,0,\nSUMPRODUCT(('Detailed price list'!H$5:H$237)*('Detailed price list'!$M$5:$M$237)*('Detailed price list'!$L$5:$L$237=$B163))/SUMIF('Detailed price list'!$L$5:$L$237,$B163,'Detailed price list'!$M$5:$M$237))","v":49.938202312495797}]
[null,"Legacy Luminaire - 80W MBF TOORAK",{"$f":"IF(SUMIF('Detailed price list'!$L$5:$L$237,$B164,'Detailed price list'!$M$5:$M$237)=0,0,\nSUMPRODUCT(('Detailed price list'!D$5:D$237)*('Detailed price list'!$M$5:$M$237)*('Detailed price list'!$L$5:$L$237=$B164))/SUMIF('Detailed price list'!$L$5:$L$237,$B164,'Detailed price list'!$M$5:$M$237))","v":63.097337232745119},{"$f":"IF(SUMIF('Detailed price list'!$L$5:$L$237,$B164,'Detailed price list'!$M$5:$M$237)=0,0,\nSUMPRODUCT(('Detailed price list'!E$5:E$237)*('Detailed price list'!$M$5:$M$237)*('Detailed price list'!$L$5:$L$237=$B164))/SUMIF('Detailed price list'!$L$5:$L$237,$B164,'Detailed price list'!$M$5:$M$237))","v":64.911170050035409},{"$f":"IF(SUMIF('Detailed price list'!$L$5:$L$237,$B164,'Detailed price list'!$M$5:$M$237)=0,0,\nSUMPRODUCT(('Detailed price list'!F$5:F$237)*('Detailed price list'!$M$5:$M$237)*('Detailed price list'!$L$5:$L$237=$B164))/SUMIF('Detailed price list'!$L$5:$L$237,$B164,'Detailed price list'!$M$5:$M$237))","v":66.77714436225034},{"$f":"IF(SUMIF('Detailed price list'!$L$5:$L$237,$B164,'Detailed price list'!$M$5:$M$237)=0,0,\nSUMPRODUCT(('Detailed price list'!G$5:G$237)*('Detailed price list'!$M$5:$M$237)*('Detailed price list'!$L$5:$L$237=$B164))/SUMIF('Detailed price list'!$L$5:$L$237,$B164,'Detailed price list'!$M$5:$M$237))","v":68.696759059181218},{"$f":"IF(SUMIF('Detailed price list'!$L$5:$L$237,$B164,'Detailed price list'!$M$5:$M$237)=0,0,\nSUMPRODUCT(('Detailed price list'!H$5:H$237)*('Detailed price list'!$M$5:$M$237)*('Detailed price list'!$L$5:$L$237=$B164))/SUMIF('Detailed price list'!$L$5:$L$237,$B164,'Detailed price list'!$M$5:$M$237))","v":70.67155611857855}]
[null,"Legacy Luminaire - TH FLOODLIGHT",{"$f":"IF(SUMIF('Detailed price list'!$L$5:$L$237,$B165,'Detailed price list'!$M$5:$M$237)=0,0,\nSUMPRODUCT(('Detailed price list'!D$5:D$237)*('Detailed price list'!$M$5:$M$237)*('Detailed price list'!$L$5:$L$237=$B165))/SUMIF('Detailed price list'!$L$5:$L$237,$B165,'Detailed price list'!$M$5:$M$237))","v":128.27363844119779},{"$f":"IF(SUMIF('Detailed price list'!$L$5:$L$237,$B165,'Detailed price list'!$M$5:$M$237)=0,0,\nSUMPRODUCT(('Detailed price list'!E$5:E$237)*('Detailed price list'!$M$5:$M$237)*('Detailed price list'!$L$5:$L$237=$B165))/SUMIF('Detailed price list'!$L$5:$L$237,$B165,'Detailed price list'!$M$5:$M$237))","v":131.96106718545118},{"$f":"IF(SUMIF('Detailed price list'!$L$5:$L$237,$B165,'Detailed price list'!$M$5:$M$237)=0,0,\nSUMPRODUCT(('Detailed price list'!F$5:F$237)*('Detailed price list'!$M$5:$M$237)*('Detailed price list'!$L$5:$L$237=$B165))/SUMIF('Detailed price list'!$L$5:$L$237,$B165,'Detailed price list'!$M$5:$M$237))","v":135.75449690472314},{"$f":"IF(SUMIF('Detailed price list'!$L$5:$L$237,$B165,'Detailed price list'!$M$5:$M$237)=0,0,\nSUMPRODUCT(('Detailed price list'!G$5:G$237)*('Detailed price list'!$M$5:$M$237)*('Detailed price list'!$L$5:$L$237=$B165))/SUMIF('Detailed price list'!$L$5:$L$237,$B165,'Detailed price list'!$M$5:$M$237))","v":139.65697476479886},{"$f":"IF(SUMIF('Detailed price list'!$L$5:$L$237,$B165,'Detailed price list'!$M$5:$M$237)=0,0,\nSUMPRODUCT(('Detailed price list'!H$5:H$237)*('Detailed price list'!$M$5:$M$237)*('Detailed price list'!$L$5:$L$237=$B165))/SUMIF('Detailed price list'!$L$5:$L$237,$B165,'Detailed price list'!$M$5:$M$237))","v":143.67163552706654}]
[null,"Philips minor road RRW",{"$f":"IF(SUMIF('Detailed price list'!$L$5:$L$237,$B166,'Detailed price list'!$M$5:$M$237)=0,0,\nSUMPRODUCT(('Detailed price list'!D$5:D$237)*('Detailed price list'!$M$5:$M$237)*('Detailed price list'!$L$5:$L$237=$B166))/SUMIF('Detailed price list'!$L$5:$L$237,$B166,'Detailed price list'!$M$5:$M$237))","v":54.931151264508671},{"$f":"IF(SUMIF('Detailed price list'!$L$5:$L$237,$B166,'Detailed price list'!$M$5:$M$237)=0,0,\nSUMPRODUCT(('Detailed price list'!E$5:E$237)*('Detailed price list'!$M$5:$M$237)*('Detailed price list'!$L$5:$L$237=$B166))/SUMIF('Detailed price list'!$L$5:$L$237,$B166,'Detailed price list'!$M$5:$M$237))","v":56.510234142246894},{"$f":"IF(SUMIF('Detailed price list'!$L$5:$L$237,$B166,'Detailed price list'!$M$5:$M$237)=0,0,\nSUMPRODUCT(('Detailed price list'!F$5:F$237)*('Detailed price list'!$M$5:$M$237)*('Detailed price list'!$L$5:$L$237=$B166))/SUMIF('Detailed price list'!$L$5:$L$237,$B166,'Detailed price list'!$M$5:$M$237))","v":58.134710256379527},{"$f":"IF(SUMIF('Detailed price list'!$L$5:$L$237,$B166,'Detailed price list'!$M$5:$M$237)=0,0,\nSUMPRODUCT(('Detailed price list'!G$5:G$237)*('Detailed price list'!$M$5:$M$237)*('Detailed price list'!$L$5:$L$237=$B166))/SUMIF('Detailed price list'!$L$5:$L$237,$B166,'Detailed price list'!$M$5:$M$237))","v":59.805884507326539},{"$f":"IF(SUMIF('Detailed price list'!$L$5:$L$237,$B166,'Detailed price list'!$M$5:$M$237)=0,0,\nSUMPRODUCT(('Detailed price list'!H$5:H$237)*('Detailed price list'!$M$5:$M$237)*('Detailed price list'!$L$5:$L$237=$B166))/SUMIF('Detailed price list'!$L$5:$L$237,$B166,'Detailed price list'!$M$5:$M$237))","v":61.525099306935644}]
[null,"Philips minor road ",{"$f":"IF(SUMIF('Detailed price list'!$L$5:$L$237,$B167,'Detailed price list'!$M$5:$M$237)=0,0,\nSUMPRODUCT(('Detailed price list'!D$5:D$237)*('Detailed price list'!$M$5:$M$237)*('Detailed price list'!$L$5:$L$237=$B167))/SUMIF('Detailed price list'!$L$5:$L$237,$B167,'Detailed price list'!$M$5:$M$237))","v":55.081582366624055},{"$f":"IF(SUMIF('Detailed price list'!$L$5:$L$237,$B167,'Detailed price list'!$M$5:$M$237)=0,0,\nSUMPRODUCT(('Detailed price list'!E$5:E$237)*('Detailed price list'!$M$5:$M$237)*('Detailed price list'!$L$5:$L$237=$B167))/SUMIF('Detailed price list'!$L$5:$L$237,$B167,'Detailed price list'!$M$5:$M$237))","v":56.6649896244665},{"$f":"IF(SUMIF('Detailed price list'!$L$5:$L$237,$B167,'Detailed price list'!$M$5:$M$237)=0,0,\nSUMPRODUCT(('Detailed price list'!F$5:F$237)*('Detailed price list'!$M$5:$M$237)*('Detailed price list'!$L$5:$L$237=$B167))/SUMIF('Detailed price list'!$L$5:$L$237,$B167,'Detailed price list'!$M$5:$M$237))","v":58.293914429853245},{"$f":"IF(SUMIF('Detailed price list'!$L$5:$L$237,$B167,'Detailed price list'!$M$5:$M$237)=0,0,\nSUMPRODUCT(('Detailed price list'!G$5:G$237)*('Detailed price list'!$M$5:$M$237)*('Detailed price list'!$L$5:$L$237=$B167))/SUMIF('Detailed price list'!$L$5:$L$237,$B167,'Detailed price list'!$M$5:$M$237))","v":59.969665256725023},{"$f":"IF(SUMIF('Detailed price list'!$L$5:$L$237,$B167,'Detailed price list'!$M$5:$M$237)=0,0,\nSUMPRODUCT(('Detailed price list'!H$5:H$237)*('Detailed price list'!$M$5:$M$237)*('Detailed price list'!$L$5:$L$237=$B167))/SUMIF('Detailed price list'!$L$5:$L$237,$B167,'Detailed price list'!$M$5:$M$237))","v":61.693588193176787}]
[null,"Aldridge minor road",{"$f":"IF(SUMIF('Detailed price list'!$L$5:$L$237,$B168,'Detailed price list'!$M$5:$M$237)=0,0,\nSUMPRODUCT(('Detailed price list'!D$5:D$237)*('Detailed price list'!$M$5:$M$237)*('Detailed price list'!$L$5:$L$237=$B168))/SUMIF('Detailed price list'!$L$5:$L$237,$B168,'Detailed price list'!$M$5:$M$237))","v":51.104184026693453},{"$f":"IF(SUMIF('Detailed price list'!$L$5:$L$237,$B168,'Detailed price list'!$M$5:$M$237)=0,0,\nSUMPRODUCT(('Detailed price list'!E$5:E$237)*('Detailed price list'!$M$5:$M$237)*('Detailed price list'!$L$5:$L$237=$B168))/SUMIF('Detailed price list'!$L$5:$L$237,$B168,'Detailed price list'!$M$5:$M$237))","v":52.573254674580539},{"$f":"IF(SUMIF('Detailed price list'!$L$5:$L$237,$B168,'Detailed price list'!$M$5:$M$237)=0,0,\nSUMPRODUCT(('Detailed price list'!F$5:F$237)*('Detailed price list'!$M$5:$M$237)*('Detailed price list'!$L$5:$L$237=$B168))/SUMIF('Detailed price list'!$L$5:$L$237,$B168,'Detailed price list'!$M$5:$M$237))","v":54.08455608320839},{"$f":"IF(SUMIF('Detailed price list'!$L$5:$L$237,$B168,'Detailed price list'!$M$5:$M$237)=0,0,\nSUMPRODUCT(('Detailed price list'!G$5:G$237)*('Detailed price list'!$M$5:$M$237)*('Detailed price list'!$L$5:$L$237=$B168))/SUMIF('Detailed price list'!$L$5:$L$237,$B168,'Detailed price list'!$M$5:$M$237))","v":55.639302242629377},{"$f":"IF(SUMIF('Detailed price list'!$L$5:$L$237,$B168,'Detailed price list'!$M$5:$M$237)=0,0,\nSUMPRODUCT(('Detailed price list'!H$5:H$237)*('Detailed price list'!$M$5:$M$237)*('Detailed price list'!$L$5:$L$237=$B168))/SUMIF('Detailed price list'!$L$5:$L$237,$B168,'Detailed price list'!$M$5:$M$237))","v":57.238742040961156}]
[null,"Aldridge minor road RRW",{"$f":"IF(SUMIF('Detailed price list'!$L$5:$L$237,$B169,'Detailed price list'!$M$5:$M$237)=0,0,\nSUMPRODUCT(('Detailed price list'!D$5:D$237)*('Detailed price list'!$M$5:$M$237)*('Detailed price list'!$L$5:$L$237=$B169))/SUMIF('Detailed price list'!$L$5:$L$237,$B169,'Detailed price list'!$M$5:$M$237))","v":51.104184026693453},{"$f":"IF(SUMIF('Detailed price list'!$L$5:$L$237,$B169,'Detailed price list'!$M$5:$M$237)=0,0,\nSUMPRODUCT(('Detailed price list'!E$5:E$237)*('Detailed price list'!$M$5:$M$237)*('Detailed price list'!$L$5:$L$237=$B169))/SUMIF('Detailed price list'!$L$5:$L$237,$B169,'Detailed price list'!$M$5:$M$237))","v":52.573254674580539},{"$f":"IF(SUMIF('Detailed price list'!$L$5:$L$237,$B169,'Detailed price list'!$M$5:$M$237)=0,0,\nSUMPRODUCT(('Detailed price list'!F$5:F$237)*('Detailed price list'!$M$5:$M$237)*('Detailed price list'!$L$5:$L$237=$B169))/SUMIF('Detailed price list'!$L$5:$L$237,$B169,'Detailed price list'!$M$5:$M$237))","v":54.084556083208398},{"$f":"IF(SUMIF('Detailed price list'!$L$5:$L$237,$B169,'Detailed price list'!$M$5:$M$237)=0,0,\nSUMPRODUCT(('Detailed price list'!G$5:G$237)*('Detailed price list'!$M$5:$M$237)*('Detailed price list'!$L$5:$L$237=$B169))/SUMIF('Detailed price list'!$L$5:$L$237,$B169,'Detailed price list'!$M$5:$M$237))","v":55.63930224262937},{"$f":"IF(SUMIF('Detailed price list'!$L$5:$L$237,$B169,'Detailed price list'!$M$5:$M$237)=0,0,\nSUMPRODUCT(('Detailed price list'!H$5:H$237)*('Detailed price list'!$M$5:$M$237)*('Detailed price list'!$L$5:$L$237=$B169))/SUMIF('Detailed price list'!$L$5:$L$237,$B169,'Detailed price list'!$M$5:$M$237))","v":57.238742040961164}]
[null,"Aldridge minor road RRW ZHAGA",{"$f":"IF(SUMIF('Detailed price list'!$L$5:$L$237,$B170,'Detailed price list'!$M$5:$M$237)=0,0,\nSUMPRODUCT(('Detailed price list'!D$5:D$237)*('Detailed price list'!$M$5:$M$237)*('Detailed price list'!$L$5:$L$237=$B170))/SUMIF('Detailed price list'!$L$5:$L$237,$B170,'Detailed price list'!$M$5:$M$237))","v":53.802917998643323},{"$f":"IF(SUMIF('Detailed price list'!$L$5:$L$237,$B170,'Detailed price list'!$M$5:$M$237)=0,0,\nSUMPRODUCT(('Detailed price list'!E$5:E$237)*('Detailed price list'!$M$5:$M$237)*('Detailed price list'!$L$5:$L$237=$B170))/SUMIF('Detailed price list'!$L$5:$L$237,$B170,'Detailed price list'!$M$5:$M$237))","v":55.349568025599964},{"$f":"IF(SUMIF('Detailed price list'!$L$5:$L$237,$B170,'Detailed price list'!$M$5:$M$237)=0,0,\nSUMPRODUCT(('Detailed price list'!F$5:F$237)*('Detailed price list'!$M$5:$M$237)*('Detailed price list'!$L$5:$L$237=$B170))/SUMIF('Detailed price list'!$L$5:$L$237,$B170,'Detailed price list'!$M$5:$M$237))","v":56.940678955326703},{"$f":"IF(SUMIF('Detailed price list'!$L$5:$L$237,$B170,'Detailed price list'!$M$5:$M$237)=0,0,\nSUMPRODUCT(('Detailed price list'!G$5:G$237)*('Detailed price list'!$M$5:$M$237)*('Detailed price list'!$L$5:$L$237=$B170))/SUMIF('Detailed price list'!$L$5:$L$237,$B170,'Detailed price list'!$M$5:$M$237))","v":58.577528886837982},{"$f":"IF(SUMIF('Detailed price list'!$L$5:$L$237,$B170,'Detailed price list'!$M$5:$M$237)=0,0,\nSUMPRODUCT(('Detailed price list'!H$5:H$237)*('Detailed price list'!$M$5:$M$237)*('Detailed price list'!$L$5:$L$237=$B170))/SUMIF('Detailed price list'!$L$5:$L$237,$B170,'Detailed price list'!$M$5:$M$237))","v":60.261432660127113}]
[null,"Aldridge minor road ZHAGA",{"$f":"IF(SUMIF('Detailed price list'!$L$5:$L$237,$B171,'Detailed price list'!$M$5:$M$237)=0,0,\nSUMPRODUCT(('Detailed price list'!D$5:D$237)*('Detailed price list'!$M$5:$M$237)*('Detailed price list'!$L$5:$L$237=$B171))/SUMIF('Detailed price list'!$L$5:$L$237,$B171,'Detailed price list'!$M$5:$M$237))","v":53.802917998643331},{"$f":"IF(SUMIF('Detailed price list'!$L$5:$L$237,$B171,'Detailed price list'!$M$5:$M$237)=0,0,\nSUMPRODUCT(('Detailed price list'!E$5:E$237)*('Detailed price list'!$M$5:$M$237)*('Detailed price list'!$L$5:$L$237=$B171))/SUMIF('Detailed price list'!$L$5:$L$237,$B171,'Detailed price list'!$M$5:$M$237))","v":55.349568025599964},{"$f":"IF(SUMIF('Detailed price list'!$L$5:$L$237,$B171,'Detailed price list'!$M$5:$M$237)=0,0,\nSUMPRODUCT(('Detailed price list'!F$5:F$237)*('Detailed price list'!$M$5:$M$237)*('Detailed price list'!$L$5:$L$237=$B171))/SUMIF('Detailed price list'!$L$5:$L$237,$B171,'Detailed price list'!$M$5:$M$237))","v":56.940678955326703},{"$f":"IF(SUMIF('Detailed price list'!$L$5:$L$237,$B171,'Detailed price list'!$M$5:$M$237)=0,0,\nSUMPRODUCT(('Detailed price list'!G$5:G$237)*('Detailed price list'!$M$5:$M$237)*('Detailed price list'!$L$5:$L$237=$B171))/SUMIF('Detailed price list'!$L$5:$L$237,$B171,'Detailed price list'!$M$5:$M$237))","v":58.577528886837982},{"$f":"IF(SUMIF('Detailed price list'!$L$5:$L$237,$B171,'Detailed price list'!$M$5:$M$237)=0,0,\nSUMPRODUCT(('Detailed price list'!H$5:H$237)*('Detailed price list'!$M$5:$M$237)*('Detailed price list'!$L$5:$L$237=$B171))/SUMIF('Detailed price list'!$L$5:$L$237,$B171,'Detailed price list'!$M$5:$M$237))","v":60.261432660127113}]
[null,"17W LED SY RRW",{"$f":"IF(SUMIF('Detailed price list'!$L$5:$L$237,$B172,'Detailed price list'!$M$5:$M$237)=0,0,\nSUMPRODUCT(('Detailed price list'!D$5:D$237)*('Detailed price list'!$M$5:$M$237)*('Detailed price list'!$L$5:$L$237=$B172))/SUMIF('Detailed price list'!$L$5:$L$237,$B172,'Detailed price list'!$M$5:$M$237))","v":67.009884696487063},{"$f":"IF(SUMIF('Detailed price list'!$L$5:$L$237,$B172,'Detailed price list'!$M$5:$M$237)=0,0,\nSUMPRODUCT(('Detailed price list'!E$5:E$237)*('Detailed price list'!$M$5:$M$237)*('Detailed price list'!$L$5:$L$237=$B172))/SUMIF('Detailed price list'!$L$5:$L$237,$B172,'Detailed price list'!$M$5:$M$237))","v":68.936189882662958},{"$f":"IF(SUMIF('Detailed price list'!$L$5:$L$237,$B172,'Detailed price list'!$M$5:$M$237)=0,0,\nSUMPRODUCT(('Detailed price list'!F$5:F$237)*('Detailed price list'!$M$5:$M$237)*('Detailed price list'!$L$5:$L$237=$B172))/SUMIF('Detailed price list'!$L$5:$L$237,$B172,'Detailed price list'!$M$5:$M$237))","v":70.917869760007108},{"$f":"IF(SUMIF('Detailed price list'!$L$5:$L$237,$B172,'Detailed price list'!$M$5:$M$237)=0,0,\nSUMPRODUCT(('Detailed price list'!G$5:G$237)*('Detailed price list'!$M$5:$M$237)*('Detailed price list'!$L$5:$L$237=$B172))/SUMIF('Detailed price list'!$L$5:$L$237,$B172,'Detailed price list'!$M$5:$M$237))","v":72.956516161653738},{"$f":"IF(SUMIF('Detailed price list'!$L$5:$L$237,$B172,'Detailed price list'!$M$5:$M$237)=0,0,\nSUMPRODUCT(('Detailed price list'!H$5:H$237)*('Detailed price list'!$M$5:$M$237)*('Detailed price list'!$L$5:$L$237=$B172))/SUMIF('Detailed price list'!$L$5:$L$237,$B172,'Detailed price list'!$M$5:$M$237))","v":75.053766680499763}]
[null,"1x17W LED",{"$f":"IF(SUMIF('Detailed price list'!$L$5:$L$237,$B173,'Detailed price list'!$M$5:$M$237)=0,0,\nSUMPRODUCT(('Detailed price list'!D$5:D$237)*('Detailed price list'!$M$5:$M$237)*('Detailed price list'!$L$5:$L$237=$B173))/SUMIF('Detailed price list'!$L$5:$L$237,$B173,'Detailed price list'!$M$5:$M$237))","v":63.163567805258623},{"$f":"IF(SUMIF('Detailed price list'!$L$5:$L$237,$B173,'Detailed price list'!$M$5:$M$237)=0,0,\nSUMPRODUCT(('Detailed price list'!E$5:E$237)*('Detailed price list'!$M$5:$M$237)*('Detailed price list'!$L$5:$L$237=$B173))/SUMIF('Detailed price list'!$L$5:$L$237,$B173,'Detailed price list'!$M$5:$M$237))","v":64.979304525173035},{"$f":"IF(SUMIF('Detailed price list'!$L$5:$L$237,$B173,'Detailed price list'!$M$5:$M$237)=0,0,\nSUMPRODUCT(('Detailed price list'!F$5:F$237)*('Detailed price list'!$M$5:$M$237)*('Detailed price list'!$L$5:$L$237=$B173))/SUMIF('Detailed price list'!$L$5:$L$237,$B173,'Detailed price list'!$M$5:$M$237))","v":66.847237470706162},{"$f":"IF(SUMIF('Detailed price list'!$L$5:$L$237,$B173,'Detailed price list'!$M$5:$M$237)=0,0,\nSUMPRODUCT(('Detailed price list'!G$5:G$237)*('Detailed price list'!$M$5:$M$237)*('Detailed price list'!$L$5:$L$237=$B173))/SUMIF('Detailed price list'!$L$5:$L$237,$B173,'Detailed price list'!$M$5:$M$237))","v":68.768867104969715},{"$f":"IF(SUMIF('Detailed price list'!$L$5:$L$237,$B173,'Detailed price list'!$M$5:$M$237)=0,0,\nSUMPRODUCT(('Detailed price list'!H$5:H$237)*('Detailed price list'!$M$5:$M$237)*('Detailed price list'!$L$5:$L$237=$B173))/SUMIF('Detailed price list'!$L$5:$L$237,$B173,'Detailed price list'!$M$5:$M$237))","v":70.745737024262226}]
[null,"20W LED GE",{"$f":"IF(SUMIF('Detailed price list'!$L$5:$L$237,$B174,'Detailed price list'!$M$5:$M$237)=0,0,\nSUMPRODUCT(('Detailed price list'!D$5:D$237)*('Detailed price list'!$M$5:$M$237)*('Detailed price list'!$L$5:$L$237=$B174))/SUMIF('Detailed price list'!$L$5:$L$237,$B174,'Detailed price list'!$M$5:$M$237))","v":56.272250041807659},{"$f":"IF(SUMIF('Detailed price list'!$L$5:$L$237,$B174,'Detailed price list'!$M$5:$M$237)=0,0,\nSUMPRODUCT(('Detailed price list'!E$5:E$237)*('Detailed price list'!$M$5:$M$237)*('Detailed price list'!$L$5:$L$237=$B174))/SUMIF('Detailed price list'!$L$5:$L$237,$B174,'Detailed price list'!$M$5:$M$237))","v":57.889884926336926},{"$f":"IF(SUMIF('Detailed price list'!$L$5:$L$237,$B174,'Detailed price list'!$M$5:$M$237)=0,0,\nSUMPRODUCT(('Detailed price list'!F$5:F$237)*('Detailed price list'!$M$5:$M$237)*('Detailed price list'!$L$5:$L$237=$B174))/SUMIF('Detailed price list'!$L$5:$L$237,$B174,'Detailed price list'!$M$5:$M$237))","v":59.554021285708622},{"$f":"IF(SUMIF('Detailed price list'!$L$5:$L$237,$B174,'Detailed price list'!$M$5:$M$237)=0,0,\nSUMPRODUCT(('Detailed price list'!G$5:G$237)*('Detailed price list'!$M$5:$M$237)*('Detailed price list'!$L$5:$L$237=$B174))/SUMIF('Detailed price list'!$L$5:$L$237,$B174,'Detailed price list'!$M$5:$M$237))","v":61.265995878410834},{"$f":"IF(SUMIF('Detailed price list'!$L$5:$L$237,$B174,'Detailed price list'!$M$5:$M$237)=0,0,\nSUMPRODUCT(('Detailed price list'!H$5:H$237)*('Detailed price list'!$M$5:$M$237)*('Detailed price list'!$L$5:$L$237=$B174))/SUMIF('Detailed price list'!$L$5:$L$237,$B174,'Detailed price list'!$M$5:$M$237))","v":63.027183890169958}]
[null,"1x22W LED",{"$f":"IF(SUMIF('Detailed price list'!$L$5:$L$237,$B175,'Detailed price list'!$M$5:$M$237)=0,0,\nSUMPRODUCT(('Detailed price list'!D$5:D$237)*('Detailed price list'!$M$5:$M$237)*('Detailed price list'!$L$5:$L$237=$B175))/SUMIF('Detailed price list'!$L$5:$L$237,$B175,'Detailed price list'!$M$5:$M$237))","v":65.567515862276395},{"$f":"IF(SUMIF('Detailed price list'!$L$5:$L$237,$B175,'Detailed price list'!$M$5:$M$237)=0,0,\nSUMPRODUCT(('Detailed price list'!E$5:E$237)*('Detailed price list'!$M$5:$M$237)*('Detailed price list'!$L$5:$L$237=$B175))/SUMIF('Detailed price list'!$L$5:$L$237,$B175,'Detailed price list'!$M$5:$M$237))","v":67.452357873604242},{"$f":"IF(SUMIF('Detailed price list'!$L$5:$L$237,$B175,'Detailed price list'!$M$5:$M$237)=0,0,\nSUMPRODUCT(('Detailed price list'!F$5:F$237)*('Detailed price list'!$M$5:$M$237)*('Detailed price list'!$L$5:$L$237=$B175))/SUMIF('Detailed price list'!$L$5:$L$237,$B175,'Detailed price list'!$M$5:$M$237))","v":69.391382651519265},{"$f":"IF(SUMIF('Detailed price list'!$L$5:$L$237,$B175,'Detailed price list'!$M$5:$M$237)=0,0,\nSUMPRODUCT(('Detailed price list'!G$5:G$237)*('Detailed price list'!$M$5:$M$237)*('Detailed price list'!$L$5:$L$237=$B175))/SUMIF('Detailed price list'!$L$5:$L$237,$B175,'Detailed price list'!$M$5:$M$237))","v":71.38614776539724},{"$f":"IF(SUMIF('Detailed price list'!$L$5:$L$237,$B175,'Detailed price list'!$M$5:$M$237)=0,0,\nSUMPRODUCT(('Detailed price list'!H$5:H$237)*('Detailed price list'!$M$5:$M$237)*('Detailed price list'!$L$5:$L$237=$B175))/SUMIF('Detailed price list'!$L$5:$L$237,$B175,'Detailed price list'!$M$5:$M$237))","v":73.438255559410692}]
[null,"1x25W LED GE",{"$f":"IF(SUMIF('Detailed price list'!$L$5:$L$237,$B176,'Detailed price list'!$M$5:$M$237)=0,0,\nSUMPRODUCT(('Detailed price list'!D$5:D$237)*('Detailed price list'!$M$5:$M$237)*('Detailed price list'!$L$5:$L$237=$B176))/SUMIF('Detailed price list'!$L$5:$L$237,$B176,'Detailed price list'!$M$5:$M$237))","v":56.272250041807652},{"$f":"IF(SUMIF('Detailed price list'!$L$5:$L$237,$B176,'Detailed price list'!$M$5:$M$237)=0,0,\nSUMPRODUCT(('Detailed price list'!E$5:E$237)*('Detailed price list'!$M$5:$M$237)*('Detailed price list'!$L$5:$L$237=$B176))/SUMIF('Detailed price list'!$L$5:$L$237,$B176,'Detailed price list'!$M$5:$M$237))","v":57.889884926336926},{"$f":"IF(SUMIF('Detailed price list'!$L$5:$L$237,$B176,'Detailed price list'!$M$5:$M$237)=0,0,\nSUMPRODUCT(('Detailed price list'!F$5:F$237)*('Detailed price list'!$M$5:$M$237)*('Detailed price list'!$L$5:$L$237=$B176))/SUMIF('Detailed price list'!$L$5:$L$237,$B176,'Detailed price list'!$M$5:$M$237))","v":59.554021285708615},{"$f":"IF(SUMIF('Detailed price list'!$L$5:$L$237,$B176,'Detailed price list'!$M$5:$M$237)=0,0,\nSUMPRODUCT(('Detailed price list'!G$5:G$237)*('Detailed price list'!$M$5:$M$237)*('Detailed price list'!$L$5:$L$237=$B176))/SUMIF('Detailed price list'!$L$5:$L$237,$B176,'Detailed price list'!$M$5:$M$237))","v":61.265995878410834},{"$f":"IF(SUMIF('Detailed price list'!$L$5:$L$237,$B176,'Detailed price list'!$M$5:$M$237)=0,0,\nSUMPRODUCT(('Detailed price list'!H$5:H$237)*('Detailed price list'!$M$5:$M$237)*('Detailed price list'!$L$5:$L$237=$B176))/SUMIF('Detailed price list'!$L$5:$L$237,$B176,'Detailed price list'!$M$5:$M$237))","v":63.027183890169958}]
[null,"Philips minor road high",{"$f":"IF(SUMIF('Detailed price list'!$L$5:$L$237,$B177,'Detailed price list'!$M$5:$M$237)=0,0,\nSUMPRODUCT(('Detailed price list'!D$5:D$237)*('Detailed price list'!$M$5:$M$237)*('Detailed price list'!$L$5:$L$237=$B177))/SUMIF('Detailed price list'!$L$5:$L$237,$B177,'Detailed price list'!$M$5:$M$237))","v":55.232013468739424},{"$f":"IF(SUMIF('Detailed price list'!$L$5:$L$237,$B177,'Detailed price list'!$M$5:$M$237)=0,0,\nSUMPRODUCT(('Detailed price list'!E$5:E$237)*('Detailed price list'!$M$5:$M$237)*('Detailed price list'!$L$5:$L$237=$B177))/SUMIF('Detailed price list'!$L$5:$L$237,$B177,'Detailed price list'!$M$5:$M$237))","v":56.819745106686078},{"$f":"IF(SUMIF('Detailed price list'!$L$5:$L$237,$B177,'Detailed price list'!$M$5:$M$237)=0,0,\nSUMPRODUCT(('Detailed price list'!F$5:F$237)*('Detailed price list'!$M$5:$M$237)*('Detailed price list'!$L$5:$L$237=$B177))/SUMIF('Detailed price list'!$L$5:$L$237,$B177,'Detailed price list'!$M$5:$M$237))","v":58.453118603326942},{"$f":"IF(SUMIF('Detailed price list'!$L$5:$L$237,$B177,'Detailed price list'!$M$5:$M$237)=0,0,\nSUMPRODUCT(('Detailed price list'!G$5:G$237)*('Detailed price list'!$M$5:$M$237)*('Detailed price list'!$L$5:$L$237=$B177))/SUMIF('Detailed price list'!$L$5:$L$237,$B177,'Detailed price list'!$M$5:$M$237))","v":60.133446006123485},{"$f":"IF(SUMIF('Detailed price list'!$L$5:$L$237,$B177,'Detailed price list'!$M$5:$M$237)=0,0,\nSUMPRODUCT(('Detailed price list'!H$5:H$237)*('Detailed price list'!$M$5:$M$237)*('Detailed price list'!$L$5:$L$237=$B177))/SUMIF('Detailed price list'!$L$5:$L$237,$B177,'Detailed price list'!$M$5:$M$237))","v":61.862077079417908}]
[null,"28W LED SY",{"$f":"IF(SUMIF('Detailed price list'!$L$5:$L$237,$B178,'Detailed price list'!$M$5:$M$237)=0,0,\nSUMPRODUCT(('Detailed price list'!D$5:D$237)*('Detailed price list'!$M$5:$M$237)*('Detailed price list'!$L$5:$L$237=$B178))/SUMIF('Detailed price list'!$L$5:$L$237,$B178,'Detailed price list'!$M$5:$M$237))","v":69.8946223649084},{"$f":"IF(SUMIF('Detailed price list'!$L$5:$L$237,$B178,'Detailed price list'!$M$5:$M$237)=0,0,\nSUMPRODUCT(('Detailed price list'!E$5:E$237)*('Detailed price list'!$M$5:$M$237)*('Detailed price list'!$L$5:$L$237=$B178))/SUMIF('Detailed price list'!$L$5:$L$237,$B178,'Detailed price list'!$M$5:$M$237))","v":71.903853900780419},{"$f":"IF(SUMIF('Detailed price list'!$L$5:$L$237,$B178,'Detailed price list'!$M$5:$M$237)=0,0,\nSUMPRODUCT(('Detailed price list'!F$5:F$237)*('Detailed price list'!$M$5:$M$237)*('Detailed price list'!$L$5:$L$237=$B178))/SUMIF('Detailed price list'!$L$5:$L$237,$B178,'Detailed price list'!$M$5:$M$237))","v":73.970843976982849},{"$f":"IF(SUMIF('Detailed price list'!$L$5:$L$237,$B178,'Detailed price list'!$M$5:$M$237)=0,0,\nSUMPRODUCT(('Detailed price list'!G$5:G$237)*('Detailed price list'!$M$5:$M$237)*('Detailed price list'!$L$5:$L$237=$B178))/SUMIF('Detailed price list'!$L$5:$L$237,$B178,'Detailed price list'!$M$5:$M$237))","v":76.097252954166777},{"$f":"IF(SUMIF('Detailed price list'!$L$5:$L$237,$B178,'Detailed price list'!$M$5:$M$237)=0,0,\nSUMPRODUCT(('Detailed price list'!H$5:H$237)*('Detailed price list'!$M$5:$M$237)*('Detailed price list'!$L$5:$L$237=$B178))/SUMIF('Detailed price list'!$L$5:$L$237,$B178,'Detailed price list'!$M$5:$M$237))","v":78.284788922677933}]
[null,"1x29W LED",{"$f":"IF(SUMIF('Detailed price list'!$L$5:$L$237,$B179,'Detailed price list'!$M$5:$M$237)=0,0,\nSUMPRODUCT(('Detailed price list'!D$5:D$237)*('Detailed price list'!$M$5:$M$237)*('Detailed price list'!$L$5:$L$237=$B179))/SUMIF('Detailed price list'!$L$5:$L$237,$B179,'Detailed price list'!$M$5:$M$237))","v":40.922778445149085},{"$f":"IF(SUMIF('Detailed price list'!$L$5:$L$237,$B179,'Detailed price list'!$M$5:$M$237)=0,0,\nSUMPRODUCT(('Detailed price list'!E$5:E$237)*('Detailed price list'!$M$5:$M$237)*('Detailed price list'!$L$5:$L$237=$B179))/SUMIF('Detailed price list'!$L$5:$L$237,$B179,'Detailed price list'!$M$5:$M$237))","v":42.099168476391007},{"$f":"IF(SUMIF('Detailed price list'!$L$5:$L$237,$B179,'Detailed price list'!$M$5:$M$237)=0,0,\nSUMPRODUCT(('Detailed price list'!F$5:F$237)*('Detailed price list'!$M$5:$M$237)*('Detailed price list'!$L$5:$L$237=$B179))/SUMIF('Detailed price list'!$L$5:$L$237,$B179,'Detailed price list'!$M$5:$M$237))","v":43.30937570084869},{"$f":"IF(SUMIF('Detailed price list'!$L$5:$L$237,$B179,'Detailed price list'!$M$5:$M$237)=0,0,\nSUMPRODUCT(('Detailed price list'!G$5:G$237)*('Detailed price list'!$M$5:$M$237)*('Detailed price list'!$L$5:$L$237=$B179))/SUMIF('Detailed price list'!$L$5:$L$237,$B179,'Detailed price list'!$M$5:$M$237))","v":44.554372247260581},{"$f":"IF(SUMIF('Detailed price list'!$L$5:$L$237,$B179,'Detailed price list'!$M$5:$M$237)=0,0,\nSUMPRODUCT(('Detailed price list'!H$5:H$237)*('Detailed price list'!$M$5:$M$237)*('Detailed price list'!$L$5:$L$237=$B179))/SUMIF('Detailed price list'!$L$5:$L$237,$B179,'Detailed price list'!$M$5:$M$237))","v":45.835158189744213}]
[null,"33W LED LRL",{"$f":"IF(SUMIF('Detailed price list'!$L$5:$L$237,$B180,'Detailed price list'!$M$5:$M$237)=0,0,\nSUMPRODUCT(('Detailed price list'!D$5:D$237)*('Detailed price list'!$M$5:$M$237)*('Detailed price list'!$L$5:$L$237=$B180))/SUMIF('Detailed price list'!$L$5:$L$237,$B180,'Detailed price list'!$M$5:$M$237))","v":76.465413720756985},{"$f":"IF(SUMIF('Detailed price list'!$L$5:$L$237,$B180,'Detailed price list'!$M$5:$M$237)=0,0,\nSUMPRODUCT(('Detailed price list'!E$5:E$237)*('Detailed price list'!$M$5:$M$237)*('Detailed price list'!$L$5:$L$237=$B180))/SUMIF('Detailed price list'!$L$5:$L$237,$B180,'Detailed price list'!$M$5:$M$237))","v":78.663533053159028},{"$f":"IF(SUMIF('Detailed price list'!$L$5:$L$237,$B180,'Detailed price list'!$M$5:$M$237)=0,0,\nSUMPRODUCT(('Detailed price list'!F$5:F$237)*('Detailed price list'!$M$5:$M$237)*('Detailed price list'!$L$5:$L$237=$B180))/SUMIF('Detailed price list'!$L$5:$L$237,$B180,'Detailed price list'!$M$5:$M$237))","v":80.924840804538633},{"$f":"IF(SUMIF('Detailed price list'!$L$5:$L$237,$B180,'Detailed price list'!$M$5:$M$237)=0,0,\nSUMPRODUCT(('Detailed price list'!G$5:G$237)*('Detailed price list'!$M$5:$M$237)*('Detailed price list'!$L$5:$L$237=$B180))/SUMIF('Detailed price list'!$L$5:$L$237,$B180,'Detailed price list'!$M$5:$M$237))","v":83.251153426002006},{"$f":"IF(SUMIF('Detailed price list'!$L$5:$L$237,$B180,'Detailed price list'!$M$5:$M$237)=0,0,\nSUMPRODUCT(('Detailed price list'!H$5:H$237)*('Detailed price list'!$M$5:$M$237)*('Detailed price list'!$L$5:$L$237=$B180))/SUMIF('Detailed price list'!$L$5:$L$237,$B180,'Detailed price list'!$M$5:$M$237))","v":85.644339585417072}]
[null,"Bourke Hill Decorative",{"$f":"IF(SUMIF('Detailed price list'!$L$5:$L$237,$B181,'Detailed price list'!$M$5:$M$237)=0,0,\nSUMPRODUCT(('Detailed price list'!D$5:D$237)*('Detailed price list'!$M$5:$M$237)*('Detailed price list'!$L$5:$L$237=$B181))/SUMIF('Detailed price list'!$L$5:$L$237,$B181,'Detailed price list'!$M$5:$M$237))","v":156.62257629450431},{"$f":"IF(SUMIF('Detailed price list'!$L$5:$L$237,$B181,'Detailed price list'!$M$5:$M$237)=0,0,\nSUMPRODUCT(('Detailed price list'!E$5:E$237)*('Detailed price list'!$M$5:$M$237)*('Detailed price list'!$L$5:$L$237=$B181))/SUMIF('Detailed price list'!$L$5:$L$237,$B181,'Detailed price list'!$M$5:$M$237))","v":161.12494012268965},{"$f":"IF(SUMIF('Detailed price list'!$L$5:$L$237,$B181,'Detailed price list'!$M$5:$M$237)=0,0,\nSUMPRODUCT(('Detailed price list'!F$5:F$237)*('Detailed price list'!$M$5:$M$237)*('Detailed price list'!$L$5:$L$237=$B181))/SUMIF('Detailed price list'!$L$5:$L$237,$B181,'Detailed price list'!$M$5:$M$237))","v":165.75673152460632},{"$f":"IF(SUMIF('Detailed price list'!$L$5:$L$237,$B181,'Detailed price list'!$M$5:$M$237)=0,0,\nSUMPRODUCT(('Detailed price list'!G$5:G$237)*('Detailed price list'!$M$5:$M$237)*('Detailed price list'!$L$5:$L$237=$B181))/SUMIF('Detailed price list'!$L$5:$L$237,$B181,'Detailed price list'!$M$5:$M$237))","v":170.52167110069482},{"$f":"IF(SUMIF('Detailed price list'!$L$5:$L$237,$B181,'Detailed price list'!$M$5:$M$237)=0,0,\nSUMPRODUCT(('Detailed price list'!H$5:H$237)*('Detailed price list'!$M$5:$M$237)*('Detailed price list'!$L$5:$L$237=$B181))/SUMIF('Detailed price list'!$L$5:$L$237,$B181,'Detailed price list'!$M$5:$M$237))","v":175.42358640594335}]
[null,"40W LED ALD",{"$f":"IF(SUMIF('Detailed price list'!$L$5:$L$237,$B182,'Detailed price list'!$M$5:$M$237)=0,0,\nSUMPRODUCT(('Detailed price list'!D$5:D$237)*('Detailed price list'!$M$5:$M$237)*('Detailed price list'!$L$5:$L$237=$B182))/SUMIF('Detailed price list'!$L$5:$L$237,$B182,'Detailed price list'!$M$5:$M$237))","v":54.386420593127532},{"$f":"IF(SUMIF('Detailed price list'!$L$5:$L$237,$B182,'Detailed price list'!$M$5:$M$237)=0,0,\nSUMPRODUCT(('Detailed price list'!E$5:E$237)*('Detailed price list'!$M$5:$M$237)*('Detailed price list'!$L$5:$L$237=$B182))/SUMIF('Detailed price list'!$L$5:$L$237,$B182,'Detailed price list'!$M$5:$M$237))","v":55.949844325620205},{"$f":"IF(SUMIF('Detailed price list'!$L$5:$L$237,$B182,'Detailed price list'!$M$5:$M$237)=0,0,\nSUMPRODUCT(('Detailed price list'!F$5:F$237)*('Detailed price list'!$M$5:$M$237)*('Detailed price list'!$L$5:$L$237=$B182))/SUMIF('Detailed price list'!$L$5:$L$237,$B182,'Detailed price list'!$M$5:$M$237))","v":57.558211147594854},{"$f":"IF(SUMIF('Detailed price list'!$L$5:$L$237,$B182,'Detailed price list'!$M$5:$M$237)=0,0,\nSUMPRODUCT(('Detailed price list'!G$5:G$237)*('Detailed price list'!$M$5:$M$237)*('Detailed price list'!$L$5:$L$237=$B182))/SUMIF('Detailed price list'!$L$5:$L$237,$B182,'Detailed price list'!$M$5:$M$237))","v":59.21281301928606},{"$f":"IF(SUMIF('Detailed price list'!$L$5:$L$237,$B182,'Detailed price list'!$M$5:$M$237)=0,0,\nSUMPRODUCT(('Detailed price list'!H$5:H$237)*('Detailed price list'!$M$5:$M$237)*('Detailed price list'!$L$5:$L$237=$B182))/SUMIF('Detailed price list'!$L$5:$L$237,$B182,'Detailed price list'!$M$5:$M$237))","v":60.914979040370021}]
[null,"40W LED ALD ZHAGA",{"$f":"IF(SUMIF('Detailed price list'!$L$5:$L$237,$B183,'Detailed price list'!$M$5:$M$237)=0,0,\nSUMPRODUCT(('Detailed price list'!D$5:D$237)*('Detailed price list'!$M$5:$M$237)*('Detailed price list'!$L$5:$L$237=$B183))/SUMIF('Detailed price list'!$L$5:$L$237,$B183,'Detailed price list'!$M$5:$M$237))","v":0},{"$f":"IF(SUMIF('Detailed price list'!$L$5:$L$237,$B183,'Detailed price list'!$M$5:$M$237)=0,0,\nSUMPRODUCT(('Detailed price list'!E$5:E$237)*('Detailed price list'!$M$5:$M$237)*('Detailed price list'!$L$5:$L$237=$B183))/SUMIF('Detailed price list'!$L$5:$L$237,$B183,'Detailed price list'!$M$5:$M$237))","v":0},{"$f":"IF(SUMIF('Detailed price list'!$L$5:$L$237,$B183,'Detailed price list'!$M$5:$M$237)=0,0,\nSUMPRODUCT(('Detailed price list'!F$5:F$237)*('Detailed price list'!$M$5:$M$237)*('Detailed price list'!$L$5:$L$237=$B183))/SUMIF('Detailed price list'!$L$5:$L$237,$B183,'Detailed price list'!$M$5:$M$237))","v":0},{"$f":"IF(SUMIF('Detailed price list'!$L$5:$L$237,$B183,'Detailed price list'!$M$5:$M$237)=0,0,\nSUMPRODUCT(('Detailed price list'!G$5:G$237)*('Detailed price list'!$M$5:$M$237)*('Detailed price list'!$L$5:$L$237=$B183))/SUMIF('Detailed price list'!$L$5:$L$237,$B183,'Detailed price list'!$M$5:$M$237))","v":0},{"$f":"IF(SUMIF('Detailed price list'!$L$5:$L$237,$B183,'Detailed price list'!$M$5:$M$237)=0,0,\nSUMPRODUCT(('Detailed price list'!H$5:H$237)*('Detailed price list'!$M$5:$M$237)*('Detailed price list'!$L$5:$L$237=$B183))/SUMIF('Detailed price list'!$L$5:$L$237,$B183,'Detailed price list'!$M$5:$M$237))","v":0}]
[null,"42W LED LRL",{"$f":"IF(SUMIF('Detailed price list'!$L$5:$L$237,$B184,'Detailed price list'!$M$5:$M$237)=0,0,\nSUMPRODUCT(('Detailed price list'!D$5:D$237)*('Detailed price list'!$M$5:$M$237)*('Detailed price list'!$L$5:$L$237=$B184))/SUMIF('Detailed price list'!$L$5:$L$237,$B184,'Detailed price list'!$M$5:$M$237))","v":94.043182805061022},{"$f":"IF(SUMIF('Detailed price list'!$L$5:$L$237,$B184,'Detailed price list'!$M$5:$M$237)=0,0,\nSUMPRODUCT(('Detailed price list'!E$5:E$237)*('Detailed price list'!$M$5:$M$237)*('Detailed price list'!$L$5:$L$237=$B184))/SUMIF('Detailed price list'!$L$5:$L$237,$B184,'Detailed price list'!$M$5:$M$237))","v":96.746602928560719},{"$f":"IF(SUMIF('Detailed price list'!$L$5:$L$237,$B184,'Detailed price list'!$M$5:$M$237)=0,0,\nSUMPRODUCT(('Detailed price list'!F$5:F$237)*('Detailed price list'!$M$5:$M$237)*('Detailed price list'!$L$5:$L$237=$B184))/SUMIF('Detailed price list'!$L$5:$L$237,$B184,'Detailed price list'!$M$5:$M$237))","v":99.527737141972636},{"$f":"IF(SUMIF('Detailed price list'!$L$5:$L$237,$B184,'Detailed price list'!$M$5:$M$237)=0,0,\nSUMPRODUCT(('Detailed price list'!G$5:G$237)*('Detailed price list'!$M$5:$M$237)*('Detailed price list'!$L$5:$L$237=$B184))/SUMIF('Detailed price list'!$L$5:$L$237,$B184,'Detailed price list'!$M$5:$M$237))","v":102.38881945980245},{"$f":"IF(SUMIF('Detailed price list'!$L$5:$L$237,$B184,'Detailed price list'!$M$5:$M$237)=0,0,\nSUMPRODUCT(('Detailed price list'!H$5:H$237)*('Detailed price list'!$M$5:$M$237)*('Detailed price list'!$L$5:$L$237=$B184))/SUMIF('Detailed price list'!$L$5:$L$237,$B184,'Detailed price list'!$M$5:$M$237))","v":105.3321481168384}]
[null,"Philips major road V5",{"$f":"IF(SUMIF('Detailed price list'!$L$5:$L$237,$B185,'Detailed price list'!$M$5:$M$237)=0,0,\nSUMPRODUCT(('Detailed price list'!D$5:D$237)*('Detailed price list'!$M$5:$M$237)*('Detailed price list'!$L$5:$L$237=$B185))/SUMIF('Detailed price list'!$L$5:$L$237,$B185,'Detailed price list'!$M$5:$M$237))","v":59.143222123739257},{"$f":"IF(SUMIF('Detailed price list'!$L$5:$L$237,$B185,'Detailed price list'!$M$5:$M$237)=0,0,\nSUMPRODUCT(('Detailed price list'!E$5:E$237)*('Detailed price list'!$M$5:$M$237)*('Detailed price list'!$L$5:$L$237=$B185))/SUMIF('Detailed price list'!$L$5:$L$237,$B185,'Detailed price list'!$M$5:$M$237))","v":60.84338764439542},{"$f":"IF(SUMIF('Detailed price list'!$L$5:$L$237,$B185,'Detailed price list'!$M$5:$M$237)=0,0,\nSUMPRODUCT(('Detailed price list'!F$5:F$237)*('Detailed price list'!$M$5:$M$237)*('Detailed price list'!$L$5:$L$237=$B185))/SUMIF('Detailed price list'!$L$5:$L$237,$B185,'Detailed price list'!$M$5:$M$237))","v":62.592427113643367},{"$f":"IF(SUMIF('Detailed price list'!$L$5:$L$237,$B185,'Detailed price list'!$M$5:$M$237)=0,0,\nSUMPRODUCT(('Detailed price list'!G$5:G$237)*('Detailed price list'!$M$5:$M$237)*('Detailed price list'!$L$5:$L$237=$B185))/SUMIF('Detailed price list'!$L$5:$L$237,$B185,'Detailed price list'!$M$5:$M$237))","v":64.391745490483814},{"$f":"IF(SUMIF('Detailed price list'!$L$5:$L$237,$B185,'Detailed price list'!$M$5:$M$237)=0,0,\nSUMPRODUCT(('Detailed price list'!H$5:H$237)*('Detailed price list'!$M$5:$M$237)*('Detailed price list'!$L$5:$L$237=$B185))/SUMIF('Detailed price list'!$L$5:$L$237,$B185,'Detailed price list'!$M$5:$M$237))","v":66.242788121687454}]
[null,"Philips major road V5 ZHAGA",{"$f":"IF(SUMIF('Detailed price list'!$L$5:$L$237,$B186,'Detailed price list'!$M$5:$M$237)=0,0,\nSUMPRODUCT(('Detailed price list'!D$5:D$237)*('Detailed price list'!$M$5:$M$237)*('Detailed price list'!$L$5:$L$237=$B186))/SUMIF('Detailed price list'!$L$5:$L$237,$B186,'Detailed price list'!$M$5:$M$237))","v":67.416932740085059},{"$f":"IF(SUMIF('Detailed price list'!$L$5:$L$237,$B186,'Detailed price list'!$M$5:$M$237)=0,0,\nSUMPRODUCT(('Detailed price list'!E$5:E$237)*('Detailed price list'!$M$5:$M$237)*('Detailed price list'!$L$5:$L$237=$B186))/SUMIF('Detailed price list'!$L$5:$L$237,$B186,'Detailed price list'!$M$5:$M$237))","v":69.35493916647286},{"$f":"IF(SUMIF('Detailed price list'!$L$5:$L$237,$B186,'Detailed price list'!$M$5:$M$237)=0,0,\nSUMPRODUCT(('Detailed price list'!F$5:F$237)*('Detailed price list'!$M$5:$M$237)*('Detailed price list'!$L$5:$L$237=$B186))/SUMIF('Detailed price list'!$L$5:$L$237,$B186,'Detailed price list'!$M$5:$M$237))","v":71.348656654697322},{"$f":"IF(SUMIF('Detailed price list'!$L$5:$L$237,$B186,'Detailed price list'!$M$5:$M$237)=0,0,\nSUMPRODUCT(('Detailed price list'!G$5:G$237)*('Detailed price list'!$M$5:$M$237)*('Detailed price list'!$L$5:$L$237=$B186))/SUMIF('Detailed price list'!$L$5:$L$237,$B186,'Detailed price list'!$M$5:$M$237))","v":73.399686707399866},{"$f":"IF(SUMIF('Detailed price list'!$L$5:$L$237,$B186,'Detailed price list'!$M$5:$M$237)=0,0,\nSUMPRODUCT(('Detailed price list'!H$5:H$237)*('Detailed price list'!$M$5:$M$237)*('Detailed price list'!$L$5:$L$237=$B186))/SUMIF('Detailed price list'!$L$5:$L$237,$B186,'Detailed price list'!$M$5:$M$237))","v":75.50967686494991}]
[null,"50W LED SY PT ",{"$f":"IF(SUMIF('Detailed price list'!$L$5:$L$237,$B187,'Detailed price list'!$M$5:$M$237)=0,0,\nSUMPRODUCT(('Detailed price list'!D$5:D$237)*('Detailed price list'!$M$5:$M$237)*('Detailed price list'!$L$5:$L$237=$B187))/SUMIF('Detailed price list'!$L$5:$L$237,$B187,'Detailed price list'!$M$5:$M$237))","v":201.39352632927802},{"$f":"IF(SUMIF('Detailed price list'!$L$5:$L$237,$B187,'Detailed price list'!$M$5:$M$237)=0,0,\nSUMPRODUCT(('Detailed price list'!E$5:E$237)*('Detailed price list'!$M$5:$M$237)*('Detailed price list'!$L$5:$L$237=$B187))/SUMIF('Detailed price list'!$L$5:$L$237,$B187,'Detailed price list'!$M$5:$M$237))","v":207.18290197120743},{"$f":"IF(SUMIF('Detailed price list'!$L$5:$L$237,$B187,'Detailed price list'!$M$5:$M$237)=0,0,\nSUMPRODUCT(('Detailed price list'!F$5:F$237)*('Detailed price list'!$M$5:$M$237)*('Detailed price list'!$L$5:$L$237=$B187))/SUMIF('Detailed price list'!$L$5:$L$237,$B187,'Detailed price list'!$M$5:$M$237))","v":213.13870237829323},{"$f":"IF(SUMIF('Detailed price list'!$L$5:$L$237,$B187,'Detailed price list'!$M$5:$M$237)=0,0,\nSUMPRODUCT(('Detailed price list'!G$5:G$237)*('Detailed price list'!$M$5:$M$237)*('Detailed price list'!$L$5:$L$237=$B187))/SUMIF('Detailed price list'!$L$5:$L$237,$B187,'Detailed price list'!$M$5:$M$237))","v":219.26571169379548},{"$f":"IF(SUMIF('Detailed price list'!$L$5:$L$237,$B187,'Detailed price list'!$M$5:$M$237)=0,0,\nSUMPRODUCT(('Detailed price list'!H$5:H$237)*('Detailed price list'!$M$5:$M$237)*('Detailed price list'!$L$5:$L$237=$B187))/SUMIF('Detailed price list'!$L$5:$L$237,$B187,'Detailed price list'!$M$5:$M$237))","v":225.56885158874371}]
[null,"Aldridge major road V5",{"$f":"IF(SUMIF('Detailed price list'!$L$5:$L$237,$B188,'Detailed price list'!$M$5:$M$237)=0,0,\nSUMPRODUCT(('Detailed price list'!D$5:D$237)*('Detailed price list'!$M$5:$M$237)*('Detailed price list'!$L$5:$L$237=$B188))/SUMIF('Detailed price list'!$L$5:$L$237,$B188,'Detailed price list'!$M$5:$M$237))","v":83.647791538978225},{"$f":"IF(SUMIF('Detailed price list'!$L$5:$L$237,$B188,'Detailed price list'!$M$5:$M$237)=0,0,\nSUMPRODUCT(('Detailed price list'!E$5:E$237)*('Detailed price list'!$M$5:$M$237)*('Detailed price list'!$L$5:$L$237=$B188))/SUMIF('Detailed price list'!$L$5:$L$237,$B188,'Detailed price list'!$M$5:$M$237))","v":86.05237968867462},{"$f":"IF(SUMIF('Detailed price list'!$L$5:$L$237,$B188,'Detailed price list'!$M$5:$M$237)=0,0,\nSUMPRODUCT(('Detailed price list'!F$5:F$237)*('Detailed price list'!$M$5:$M$237)*('Detailed price list'!$L$5:$L$237=$B188))/SUMIF('Detailed price list'!$L$5:$L$237,$B188,'Detailed price list'!$M$5:$M$237))","v":88.526091530261496},{"$f":"IF(SUMIF('Detailed price list'!$L$5:$L$237,$B188,'Detailed price list'!$M$5:$M$237)=0,0,\nSUMPRODUCT(('Detailed price list'!G$5:G$237)*('Detailed price list'!$M$5:$M$237)*('Detailed price list'!$L$5:$L$237=$B188))/SUMIF('Detailed price list'!$L$5:$L$237,$B188,'Detailed price list'!$M$5:$M$237))","v":91.070914133658178},{"$f":"IF(SUMIF('Detailed price list'!$L$5:$L$237,$B188,'Detailed price list'!$M$5:$M$237)=0,0,\nSUMPRODUCT(('Detailed price list'!H$5:H$237)*('Detailed price list'!$M$5:$M$237)*('Detailed price list'!$L$5:$L$237=$B188))/SUMIF('Detailed price list'!$L$5:$L$237,$B188,'Detailed price list'!$M$5:$M$237))","v":93.688891690253541}]
[null,"Aldridge major road V5 Zhaga",{"$f":"IF(SUMIF('Detailed price list'!$L$5:$L$237,$B189,'Detailed price list'!$M$5:$M$237)=0,0,\nSUMPRODUCT(('Detailed price list'!D$5:D$237)*('Detailed price list'!$M$5:$M$237)*('Detailed price list'!$L$5:$L$237=$B189))/SUMIF('Detailed price list'!$L$5:$L$237,$B189,'Detailed price list'!$M$5:$M$237))","v":0},{"$f":"IF(SUMIF('Detailed price list'!$L$5:$L$237,$B189,'Detailed price list'!$M$5:$M$237)=0,0,\nSUMPRODUCT(('Detailed price list'!E$5:E$237)*('Detailed price list'!$M$5:$M$237)*('Detailed price list'!$L$5:$L$237=$B189))/SUMIF('Detailed price list'!$L$5:$L$237,$B189,'Detailed price list'!$M$5:$M$237))","v":0},{"$f":"IF(SUMIF('Detailed price list'!$L$5:$L$237,$B189,'Detailed price list'!$M$5:$M$237)=0,0,\nSUMPRODUCT(('Detailed price list'!F$5:F$237)*('Detailed price list'!$M$5:$M$237)*('Detailed price list'!$L$5:$L$237=$B189))/SUMIF('Detailed price list'!$L$5:$L$237,$B189,'Detailed price list'!$M$5:$M$237))","v":0},{"$f":"IF(SUMIF('Detailed price list'!$L$5:$L$237,$B189,'Detailed price list'!$M$5:$M$237)=0,0,\nSUMPRODUCT(('Detailed price list'!G$5:G$237)*('Detailed price list'!$M$5:$M$237)*('Detailed price list'!$L$5:$L$237=$B189))/SUMIF('Detailed price list'!$L$5:$L$237,$B189,'Detailed price list'!$M$5:$M$237))","v":0},{"$f":"IF(SUMIF('Detailed price list'!$L$5:$L$237,$B189,'Detailed price list'!$M$5:$M$237)=0,0,\nSUMPRODUCT(('Detailed price list'!H$5:H$237)*('Detailed price list'!$M$5:$M$237)*('Detailed price list'!$L$5:$L$237=$B189))/SUMIF('Detailed price list'!$L$5:$L$237,$B189,'Detailed price list'!$M$5:$M$237))","v":0}]
[null,"Philips floodlight PX3",{"$f":"IF(SUMIF('Detailed price list'!$L$5:$L$237,$B190,'Detailed price list'!$M$5:$M$237)=0,0,\nSUMPRODUCT(('Detailed price list'!D$5:D$237)*('Detailed price list'!$M$5:$M$237)*('Detailed price list'!$L$5:$L$237=$B190))/SUMIF('Detailed price list'!$L$5:$L$237,$B190,'Detailed price list'!$M$5:$M$237))","v":86.789059576886871},{"$f":"IF(SUMIF('Detailed price list'!$L$5:$L$237,$B190,'Detailed price list'!$M$5:$M$237)=0,0,\nSUMPRODUCT(('Detailed price list'!E$5:E$237)*('Detailed price list'!$M$5:$M$237)*('Detailed price list'!$L$5:$L$237=$B190))/SUMIF('Detailed price list'!$L$5:$L$237,$B190,'Detailed price list'!$M$5:$M$237))","v":89.283948447738055},{"$f":"IF(SUMIF('Detailed price list'!$L$5:$L$237,$B190,'Detailed price list'!$M$5:$M$237)=0,0,\nSUMPRODUCT(('Detailed price list'!F$5:F$237)*('Detailed price list'!$M$5:$M$237)*('Detailed price list'!$L$5:$L$237=$B190))/SUMIF('Detailed price list'!$L$5:$L$237,$B190,'Detailed price list'!$M$5:$M$237))","v":91.850556847620226},{"$f":"IF(SUMIF('Detailed price list'!$L$5:$L$237,$B190,'Detailed price list'!$M$5:$M$237)=0,0,\nSUMPRODUCT(('Detailed price list'!G$5:G$237)*('Detailed price list'!$M$5:$M$237)*('Detailed price list'!$L$5:$L$237=$B190))/SUMIF('Detailed price list'!$L$5:$L$237,$B190,'Detailed price list'!$M$5:$M$237))","v":94.490946467899491},{"$f":"IF(SUMIF('Detailed price list'!$L$5:$L$237,$B190,'Detailed price list'!$M$5:$M$237)=0,0,\nSUMPRODUCT(('Detailed price list'!H$5:H$237)*('Detailed price list'!$M$5:$M$237)*('Detailed price list'!$L$5:$L$237=$B190))/SUMIF('Detailed price list'!$L$5:$L$237,$B190,'Detailed price list'!$M$5:$M$237))","v":97.207238266523134}]
[null,"Aldridge major road V3",{"$f":"IF(SUMIF('Detailed price list'!$L$5:$L$237,$B191,'Detailed price list'!$M$5:$M$237)=0,0,\nSUMPRODUCT(('Detailed price list'!D$5:D$237)*('Detailed price list'!$M$5:$M$237)*('Detailed price list'!$L$5:$L$237=$B191))/SUMIF('Detailed price list'!$L$5:$L$237,$B191,'Detailed price list'!$M$5:$M$237))","v":93.693190044626604},{"$f":"IF(SUMIF('Detailed price list'!$L$5:$L$237,$B191,'Detailed price list'!$M$5:$M$237)=0,0,\nSUMPRODUCT(('Detailed price list'!E$5:E$237)*('Detailed price list'!$M$5:$M$237)*('Detailed price list'!$L$5:$L$237=$B191))/SUMIF('Detailed price list'!$L$5:$L$237,$B191,'Detailed price list'!$M$5:$M$237))","v":96.386549072325252},{"$f":"IF(SUMIF('Detailed price list'!$L$5:$L$237,$B191,'Detailed price list'!$M$5:$M$237)=0,0,\nSUMPRODUCT(('Detailed price list'!F$5:F$237)*('Detailed price list'!$M$5:$M$237)*('Detailed price list'!$L$5:$L$237=$B191))/SUMIF('Detailed price list'!$L$5:$L$237,$B191,'Detailed price list'!$M$5:$M$237))","v":99.157332967814511},{"$f":"IF(SUMIF('Detailed price list'!$L$5:$L$237,$B191,'Detailed price list'!$M$5:$M$237)=0,0,\nSUMPRODUCT(('Detailed price list'!G$5:G$237)*('Detailed price list'!$M$5:$M$237)*('Detailed price list'!$L$5:$L$237=$B191))/SUMIF('Detailed price list'!$L$5:$L$237,$B191,'Detailed price list'!$M$5:$M$237))","v":102.00776743145246},{"$f":"IF(SUMIF('Detailed price list'!$L$5:$L$237,$B191,'Detailed price list'!$M$5:$M$237)=0,0,\nSUMPRODUCT(('Detailed price list'!H$5:H$237)*('Detailed price list'!$M$5:$M$237)*('Detailed price list'!$L$5:$L$237=$B191))/SUMIF('Detailed price list'!$L$5:$L$237,$B191,'Detailed price list'!$M$5:$M$237))","v":104.9401421448764}]
[null,"Aldridge major road V3 ZHAGA",{"$f":"IF(SUMIF('Detailed price list'!$L$5:$L$237,$B192,'Detailed price list'!$M$5:$M$237)=0,0,\nSUMPRODUCT(('Detailed price list'!D$5:D$237)*('Detailed price list'!$M$5:$M$237)*('Detailed price list'!$L$5:$L$237=$B192))/SUMIF('Detailed price list'!$L$5:$L$237,$B192,'Detailed price list'!$M$5:$M$237))","v":96.692608135040331},{"$f":"IF(SUMIF('Detailed price list'!$L$5:$L$237,$B192,'Detailed price list'!$M$5:$M$237)=0,0,\nSUMPRODUCT(('Detailed price list'!E$5:E$237)*('Detailed price list'!$M$5:$M$237)*('Detailed price list'!$L$5:$L$237=$B192))/SUMIF('Detailed price list'!$L$5:$L$237,$B192,'Detailed price list'!$M$5:$M$237))","v":99.472190182659745},{"$f":"IF(SUMIF('Detailed price list'!$L$5:$L$237,$B192,'Detailed price list'!$M$5:$M$237)=0,0,\nSUMPRODUCT(('Detailed price list'!F$5:F$237)*('Detailed price list'!$M$5:$M$237)*('Detailed price list'!$L$5:$L$237=$B192))/SUMIF('Detailed price list'!$L$5:$L$237,$B192,'Detailed price list'!$M$5:$M$237))","v":102.33167571523488},{"$f":"IF(SUMIF('Detailed price list'!$L$5:$L$237,$B192,'Detailed price list'!$M$5:$M$237)=0,0,\nSUMPRODUCT(('Detailed price list'!G$5:G$237)*('Detailed price list'!$M$5:$M$237)*('Detailed price list'!$L$5:$L$237=$B192))/SUMIF('Detailed price list'!$L$5:$L$237,$B192,'Detailed price list'!$M$5:$M$237))","v":105.27336168489691},{"$f":"IF(SUMIF('Detailed price list'!$L$5:$L$237,$B192,'Detailed price list'!$M$5:$M$237)=0,0,\nSUMPRODUCT(('Detailed price list'!H$5:H$237)*('Detailed price list'!$M$5:$M$237)*('Detailed price list'!$L$5:$L$237=$B192))/SUMIF('Detailed price list'!$L$5:$L$237,$B192,'Detailed price list'!$M$5:$M$237))","v":108.29961107330125}]
[null,"Philips major road V3",{"$f":"IF(SUMIF('Detailed price list'!$L$5:$L$237,$B193,'Detailed price list'!$M$5:$M$237)=0,0,\nSUMPRODUCT(('Detailed price list'!D$5:D$237)*('Detailed price list'!$M$5:$M$237)*('Detailed price list'!$L$5:$L$237=$B193))/SUMIF('Detailed price list'!$L$5:$L$237,$B193,'Detailed price list'!$M$5:$M$237))","v":70.241638344195266},{"$f":"IF(SUMIF('Detailed price list'!$L$5:$L$237,$B193,'Detailed price list'!$M$5:$M$237)=0,0,\nSUMPRODUCT(('Detailed price list'!E$5:E$237)*('Detailed price list'!$M$5:$M$237)*('Detailed price list'!$L$5:$L$237=$B193))/SUMIF('Detailed price list'!$L$5:$L$237,$B193,'Detailed price list'!$M$5:$M$237))","v":72.260845403583161},{"$f":"IF(SUMIF('Detailed price list'!$L$5:$L$237,$B193,'Detailed price list'!$M$5:$M$237)=0,0,\nSUMPRODUCT(('Detailed price list'!F$5:F$237)*('Detailed price list'!$M$5:$M$237)*('Detailed price list'!$L$5:$L$237=$B193))/SUMIF('Detailed price list'!$L$5:$L$237,$B193,'Detailed price list'!$M$5:$M$237))","v":74.338097765512302},{"$f":"IF(SUMIF('Detailed price list'!$L$5:$L$237,$B193,'Detailed price list'!$M$5:$M$237)=0,0,\nSUMPRODUCT(('Detailed price list'!G$5:G$237)*('Detailed price list'!$M$5:$M$237)*('Detailed price list'!$L$5:$L$237=$B193))/SUMIF('Detailed price list'!$L$5:$L$237,$B193,'Detailed price list'!$M$5:$M$237))","v":76.475064034067373},{"$f":"IF(SUMIF('Detailed price list'!$L$5:$L$237,$B193,'Detailed price list'!$M$5:$M$237)=0,0,\nSUMPRODUCT(('Detailed price list'!H$5:H$237)*('Detailed price list'!$M$5:$M$237)*('Detailed price list'!$L$5:$L$237=$B193))/SUMIF('Detailed price list'!$L$5:$L$237,$B193,'Detailed price list'!$M$5:$M$237))","v":78.673460779998209}]
[null,"Philips major road V3 ZHAGA",{"$f":"IF(SUMIF('Detailed price list'!$L$5:$L$237,$B194,'Detailed price list'!$M$5:$M$237)=0,0,\nSUMPRODUCT(('Detailed price list'!D$5:D$237)*('Detailed price list'!$M$5:$M$237)*('Detailed price list'!$L$5:$L$237=$B194))/SUMIF('Detailed price list'!$L$5:$L$237,$B194,'Detailed price list'!$M$5:$M$237))","v":78.515348960541061},{"$f":"IF(SUMIF('Detailed price list'!$L$5:$L$237,$B194,'Detailed price list'!$M$5:$M$237)=0,0,\nSUMPRODUCT(('Detailed price list'!E$5:E$237)*('Detailed price list'!$M$5:$M$237)*('Detailed price list'!$L$5:$L$237=$B194))/SUMIF('Detailed price list'!$L$5:$L$237,$B194,'Detailed price list'!$M$5:$M$237))","v":80.772396925660601},{"$f":"IF(SUMIF('Detailed price list'!$L$5:$L$237,$B194,'Detailed price list'!$M$5:$M$237)=0,0,\nSUMPRODUCT(('Detailed price list'!F$5:F$237)*('Detailed price list'!$M$5:$M$237)*('Detailed price list'!$L$5:$L$237=$B194))/SUMIF('Detailed price list'!$L$5:$L$237,$B194,'Detailed price list'!$M$5:$M$237))","v":83.094327306566257},{"$f":"IF(SUMIF('Detailed price list'!$L$5:$L$237,$B194,'Detailed price list'!$M$5:$M$237)=0,0,\nSUMPRODUCT(('Detailed price list'!G$5:G$237)*('Detailed price list'!$M$5:$M$237)*('Detailed price list'!$L$5:$L$237=$B194))/SUMIF('Detailed price list'!$L$5:$L$237,$B194,'Detailed price list'!$M$5:$M$237))","v":85.483005250983425},{"$f":"IF(SUMIF('Detailed price list'!$L$5:$L$237,$B194,'Detailed price list'!$M$5:$M$237)=0,0,\nSUMPRODUCT(('Detailed price list'!H$5:H$237)*('Detailed price list'!$M$5:$M$237)*('Detailed price list'!$L$5:$L$237=$B194))/SUMIF('Detailed price list'!$L$5:$L$237,$B194,'Detailed price list'!$M$5:$M$237))","v":87.940349523260664}]
[null,"100W LED ALD",{"$f":"IF(SUMIF('Detailed price list'!$L$5:$L$237,$B195,'Detailed price list'!$M$5:$M$237)=0,0,\nSUMPRODUCT(('Detailed price list'!D$5:D$237)*('Detailed price list'!$M$5:$M$237)*('Detailed price list'!$L$5:$L$237=$B195))/SUMIF('Detailed price list'!$L$5:$L$237,$B195,'Detailed price list'!$M$5:$M$237))","v":125.93556036149687},{"$f":"IF(SUMIF('Detailed price list'!$L$5:$L$237,$B195,'Detailed price list'!$M$5:$M$237)=0,0,\nSUMPRODUCT(('Detailed price list'!E$5:E$237)*('Detailed price list'!$M$5:$M$237)*('Detailed price list'!$L$5:$L$237=$B195))/SUMIF('Detailed price list'!$L$5:$L$237,$B195,'Detailed price list'!$M$5:$M$237))","v":129.55577735108136},{"$f":"IF(SUMIF('Detailed price list'!$L$5:$L$237,$B195,'Detailed price list'!$M$5:$M$237)=0,0,\nSUMPRODUCT(('Detailed price list'!F$5:F$237)*('Detailed price list'!$M$5:$M$237)*('Detailed price list'!$L$5:$L$237=$B195))/SUMIF('Detailed price list'!$L$5:$L$237,$B195,'Detailed price list'!$M$5:$M$237))","v":133.28006320742639},{"$f":"IF(SUMIF('Detailed price list'!$L$5:$L$237,$B195,'Detailed price list'!$M$5:$M$237)=0,0,\nSUMPRODUCT(('Detailed price list'!G$5:G$237)*('Detailed price list'!$M$5:$M$237)*('Detailed price list'!$L$5:$L$237=$B195))/SUMIF('Detailed price list'!$L$5:$L$237,$B195,'Detailed price list'!$M$5:$M$237))","v":137.11140955480755},{"$f":"IF(SUMIF('Detailed price list'!$L$5:$L$237,$B195,'Detailed price list'!$M$5:$M$237)=0,0,\nSUMPRODUCT(('Detailed price list'!H$5:H$237)*('Detailed price list'!$M$5:$M$237)*('Detailed price list'!$L$5:$L$237=$B195))/SUMIF('Detailed price list'!$L$5:$L$237,$B195,'Detailed price list'!$M$5:$M$237))","v":141.05289401647474}]
[null,"100W LED SY CT",{"$f":"IF(SUMIF('Detailed price list'!$L$5:$L$237,$B196,'Detailed price list'!$M$5:$M$237)=0,0,\nSUMPRODUCT(('Detailed price list'!D$5:D$237)*('Detailed price list'!$M$5:$M$237)*('Detailed price list'!$L$5:$L$237=$B196))/SUMIF('Detailed price list'!$L$5:$L$237,$B196,'Detailed price list'!$M$5:$M$237))","v":219.48670857372727},{"$f":"IF(SUMIF('Detailed price list'!$L$5:$L$237,$B196,'Detailed price list'!$M$5:$M$237)=0,0,\nSUMPRODUCT(('Detailed price list'!E$5:E$237)*('Detailed price list'!$M$5:$M$237)*('Detailed price list'!$L$5:$L$237=$B196))/SUMIF('Detailed price list'!$L$5:$L$237,$B196,'Detailed price list'!$M$5:$M$237))","v":225.79620137374121},{"$f":"IF(SUMIF('Detailed price list'!$L$5:$L$237,$B196,'Detailed price list'!$M$5:$M$237)=0,0,\nSUMPRODUCT(('Detailed price list'!F$5:F$237)*('Detailed price list'!$M$5:$M$237)*('Detailed price list'!$L$5:$L$237=$B196))/SUMIF('Detailed price list'!$L$5:$L$237,$B196,'Detailed price list'!$M$5:$M$237))","v":232.28707052976378},{"$f":"IF(SUMIF('Detailed price list'!$L$5:$L$237,$B196,'Detailed price list'!$M$5:$M$237)=0,0,\nSUMPRODUCT(('Detailed price list'!G$5:G$237)*('Detailed price list'!$M$5:$M$237)*('Detailed price list'!$L$5:$L$237=$B196))/SUMIF('Detailed price list'!$L$5:$L$237,$B196,'Detailed price list'!$M$5:$M$237))","v":238.96452999219662},{"$f":"IF(SUMIF('Detailed price list'!$L$5:$L$237,$B196,'Detailed price list'!$M$5:$M$237)=0,0,\nSUMPRODUCT(('Detailed price list'!H$5:H$237)*('Detailed price list'!$M$5:$M$237)*('Detailed price list'!$L$5:$L$237=$B196))/SUMIF('Detailed price list'!$L$5:$L$237,$B196,'Detailed price list'!$M$5:$M$237))","v":245.83394359469736}]
[null,"100W LED SY PT",{"$f":"IF(SUMIF('Detailed price list'!$L$5:$L$237,$B197,'Detailed price list'!$M$5:$M$237)=0,0,\nSUMPRODUCT(('Detailed price list'!D$5:D$237)*('Detailed price list'!$M$5:$M$237)*('Detailed price list'!$L$5:$L$237=$B197))/SUMIF('Detailed price list'!$L$5:$L$237,$B197,'Detailed price list'!$M$5:$M$237))","v":216.47117819965237},{"$f":"IF(SUMIF('Detailed price list'!$L$5:$L$237,$B197,'Detailed price list'!$M$5:$M$237)=0,0,\nSUMPRODUCT(('Detailed price list'!E$5:E$237)*('Detailed price list'!$M$5:$M$237)*('Detailed price list'!$L$5:$L$237=$B197))/SUMIF('Detailed price list'!$L$5:$L$237,$B197,'Detailed price list'!$M$5:$M$237))","v":222.69398480665222},{"$f":"IF(SUMIF('Detailed price list'!$L$5:$L$237,$B197,'Detailed price list'!$M$5:$M$237)=0,0,\nSUMPRODUCT(('Detailed price list'!F$5:F$237)*('Detailed price list'!$M$5:$M$237)*('Detailed price list'!$L$5:$L$237=$B197))/SUMIF('Detailed price list'!$L$5:$L$237,$B197,'Detailed price list'!$M$5:$M$237))","v":229.09567583785199},{"$f":"IF(SUMIF('Detailed price list'!$L$5:$L$237,$B197,'Detailed price list'!$M$5:$M$237)=0,0,\nSUMPRODUCT(('Detailed price list'!G$5:G$237)*('Detailed price list'!$M$5:$M$237)*('Detailed price list'!$L$5:$L$237=$B197))/SUMIF('Detailed price list'!$L$5:$L$237,$B197,'Detailed price list'!$M$5:$M$237))","v":235.68139360912974},{"$f":"IF(SUMIF('Detailed price list'!$L$5:$L$237,$B197,'Detailed price list'!$M$5:$M$237)=0,0,\nSUMPRODUCT(('Detailed price list'!H$5:H$237)*('Detailed price list'!$M$5:$M$237)*('Detailed price list'!$L$5:$L$237=$B197))/SUMIF('Detailed price list'!$L$5:$L$237,$B197,'Detailed price list'!$M$5:$M$237))","v":242.45642826037172}]
[null,"Sylvania floodlight PX2",{"$f":"IF(SUMIF('Detailed price list'!$L$5:$L$237,$B198,'Detailed price list'!$M$5:$M$237)=0,0,\nSUMPRODUCT(('Detailed price list'!D$5:D$237)*('Detailed price list'!$M$5:$M$237)*('Detailed price list'!$L$5:$L$237=$B198))/SUMIF('Detailed price list'!$L$5:$L$237,$B198,'Detailed price list'!$M$5:$M$237))","v":129.06019927130811},{"$f":"IF(SUMIF('Detailed price list'!$L$5:$L$237,$B198,'Detailed price list'!$M$5:$M$237)=0,0,\nSUMPRODUCT(('Detailed price list'!E$5:E$237)*('Detailed price list'!$M$5:$M$237)*('Detailed price list'!$L$5:$L$237=$B198))/SUMIF('Detailed price list'!$L$5:$L$237,$B198,'Detailed price list'!$M$5:$M$237))","v":132.77023895144279},{"$f":"IF(SUMIF('Detailed price list'!$L$5:$L$237,$B198,'Detailed price list'!$M$5:$M$237)=0,0,\nSUMPRODUCT(('Detailed price list'!F$5:F$237)*('Detailed price list'!$M$5:$M$237)*('Detailed price list'!$L$5:$L$237=$B198))/SUMIF('Detailed price list'!$L$5:$L$237,$B198,'Detailed price list'!$M$5:$M$237))","v":136.58692959373226},{"$f":"IF(SUMIF('Detailed price list'!$L$5:$L$237,$B198,'Detailed price list'!$M$5:$M$237)=0,0,\nSUMPRODUCT(('Detailed price list'!G$5:G$237)*('Detailed price list'!$M$5:$M$237)*('Detailed price list'!$L$5:$L$237=$B198))/SUMIF('Detailed price list'!$L$5:$L$237,$B198,'Detailed price list'!$M$5:$M$237))","v":140.51333704887062},{"$f":"IF(SUMIF('Detailed price list'!$L$5:$L$237,$B198,'Detailed price list'!$M$5:$M$237)=0,0,\nSUMPRODUCT(('Detailed price list'!H$5:H$237)*('Detailed price list'!$M$5:$M$237)*('Detailed price list'!$L$5:$L$237=$B198))/SUMIF('Detailed price list'!$L$5:$L$237,$B198,'Detailed price list'!$M$5:$M$237))","v":144.55261530028227}]
[null,"Philips floodlight PX2",{"$f":"IF(SUMIF('Detailed price list'!$L$5:$L$237,$B199,'Detailed price list'!$M$5:$M$237)=0,0,\nSUMPRODUCT(('Detailed price list'!D$5:D$237)*('Detailed price list'!$M$5:$M$237)*('Detailed price list'!$L$5:$L$237=$B199))/SUMIF('Detailed price list'!$L$5:$L$237,$B199,'Detailed price list'!$M$5:$M$237))","v":95.363632397463434},{"$f":"IF(SUMIF('Detailed price list'!$L$5:$L$237,$B199,'Detailed price list'!$M$5:$M$237)=0,0,\nSUMPRODUCT(('Detailed price list'!E$5:E$237)*('Detailed price list'!$M$5:$M$237)*('Detailed price list'!$L$5:$L$237=$B199))/SUMIF('Detailed price list'!$L$5:$L$237,$B199,'Detailed price list'!$M$5:$M$237))","v":98.105010934254679},{"$f":"IF(SUMIF('Detailed price list'!$L$5:$L$237,$B199,'Detailed price list'!$M$5:$M$237)=0,0,\nSUMPRODUCT(('Detailed price list'!F$5:F$237)*('Detailed price list'!$M$5:$M$237)*('Detailed price list'!$L$5:$L$237=$B199))/SUMIF('Detailed price list'!$L$5:$L$237,$B199,'Detailed price list'!$M$5:$M$237))","v":100.9251947356216},{"$f":"IF(SUMIF('Detailed price list'!$L$5:$L$237,$B199,'Detailed price list'!$M$5:$M$237)=0,0,\nSUMPRODUCT(('Detailed price list'!G$5:G$237)*('Detailed price list'!$M$5:$M$237)*('Detailed price list'!$L$5:$L$237=$B199))/SUMIF('Detailed price list'!$L$5:$L$237,$B199,'Detailed price list'!$M$5:$M$237))","v":103.82644918361251},{"$f":"IF(SUMIF('Detailed price list'!$L$5:$L$237,$B199,'Detailed price list'!$M$5:$M$237)=0,0,\nSUMPRODUCT(('Detailed price list'!H$5:H$237)*('Detailed price list'!$M$5:$M$237)*('Detailed price list'!$L$5:$L$237=$B199))/SUMIF('Detailed price list'!$L$5:$L$237,$B199,'Detailed price list'!$M$5:$M$237))","v":106.81110478226789}]
[null,"Philips major road V1",{"$f":"IF(SUMIF('Detailed price list'!$L$5:$L$237,$B200,'Detailed price list'!$M$5:$M$237)=0,0,\nSUMPRODUCT(('Detailed price list'!D$5:D$237)*('Detailed price list'!$M$5:$M$237)*('Detailed price list'!$L$5:$L$237=$B200))/SUMIF('Detailed price list'!$L$5:$L$237,$B200,'Detailed price list'!$M$5:$M$237))","v":75.506726918233511},{"$f":"IF(SUMIF('Detailed price list'!$L$5:$L$237,$B200,'Detailed price list'!$M$5:$M$237)=0,0,\nSUMPRODUCT(('Detailed price list'!E$5:E$237)*('Detailed price list'!$M$5:$M$237)*('Detailed price list'!$L$5:$L$237=$B200))/SUMIF('Detailed price list'!$L$5:$L$237,$B200,'Detailed price list'!$M$5:$M$237))","v":77.677287281268818},{"$f":"IF(SUMIF('Detailed price list'!$L$5:$L$237,$B200,'Detailed price list'!$M$5:$M$237)=0,0,\nSUMPRODUCT(('Detailed price list'!F$5:F$237)*('Detailed price list'!$M$5:$M$237)*('Detailed price list'!$L$5:$L$237=$B200))/SUMIF('Detailed price list'!$L$5:$L$237,$B200,'Detailed price list'!$M$5:$M$237))","v":79.910243837092111},{"$f":"IF(SUMIF('Detailed price list'!$L$5:$L$237,$B200,'Detailed price list'!$M$5:$M$237)=0,0,\nSUMPRODUCT(('Detailed price list'!G$5:G$237)*('Detailed price list'!$M$5:$M$237)*('Detailed price list'!$L$5:$L$237=$B200))/SUMIF('Detailed price list'!$L$5:$L$237,$B200,'Detailed price list'!$M$5:$M$237))","v":82.207390263013977},{"$f":"IF(SUMIF('Detailed price list'!$L$5:$L$237,$B200,'Detailed price list'!$M$5:$M$237)=0,0,\nSUMPRODUCT(('Detailed price list'!H$5:H$237)*('Detailed price list'!$M$5:$M$237)*('Detailed price list'!$L$5:$L$237=$B200))/SUMIF('Detailed price list'!$L$5:$L$237,$B200,'Detailed price list'!$M$5:$M$237))","v":84.570571798437982}]
[null,"Philips major road V1 ZHAGA",{"$f":"IF(SUMIF('Detailed price list'!$L$5:$L$237,$B201,'Detailed price list'!$M$5:$M$237)=0,0,\nSUMPRODUCT(('Detailed price list'!D$5:D$237)*('Detailed price list'!$M$5:$M$237)*('Detailed price list'!$L$5:$L$237=$B201))/SUMIF('Detailed price list'!$L$5:$L$237,$B201,'Detailed price list'!$M$5:$M$237))","v":83.78043753457932},{"$f":"IF(SUMIF('Detailed price list'!$L$5:$L$237,$B201,'Detailed price list'!$M$5:$M$237)=0,0,\nSUMPRODUCT(('Detailed price list'!E$5:E$237)*('Detailed price list'!$M$5:$M$237)*('Detailed price list'!$L$5:$L$237=$B201))/SUMIF('Detailed price list'!$L$5:$L$237,$B201,'Detailed price list'!$M$5:$M$237))","v":86.188838803346272},{"$f":"IF(SUMIF('Detailed price list'!$L$5:$L$237,$B201,'Detailed price list'!$M$5:$M$237)=0,0,\nSUMPRODUCT(('Detailed price list'!F$5:F$237)*('Detailed price list'!$M$5:$M$237)*('Detailed price list'!$L$5:$L$237=$B201))/SUMIF('Detailed price list'!$L$5:$L$237,$B201,'Detailed price list'!$M$5:$M$237))","v":88.66647337814608},{"$f":"IF(SUMIF('Detailed price list'!$L$5:$L$237,$B201,'Detailed price list'!$M$5:$M$237)=0,0,\nSUMPRODUCT(('Detailed price list'!G$5:G$237)*('Detailed price list'!$M$5:$M$237)*('Detailed price list'!$L$5:$L$237=$B201))/SUMIF('Detailed price list'!$L$5:$L$237,$B201,'Detailed price list'!$M$5:$M$237))","v":91.215331479930029},{"$f":"IF(SUMIF('Detailed price list'!$L$5:$L$237,$B201,'Detailed price list'!$M$5:$M$237)=0,0,\nSUMPRODUCT(('Detailed price list'!H$5:H$237)*('Detailed price list'!$M$5:$M$237)*('Detailed price list'!$L$5:$L$237=$B201))/SUMIF('Detailed price list'!$L$5:$L$237,$B201,'Detailed price list'!$M$5:$M$237))","v":93.837460541700452}]
[null,"Sylvania floodlight PX1",{"$f":"IF(SUMIF('Detailed price list'!$L$5:$L$237,$B202,'Detailed price list'!$M$5:$M$237)=0,0,\nSUMPRODUCT(('Detailed price list'!D$5:D$237)*('Detailed price list'!$M$5:$M$237)*('Detailed price list'!$L$5:$L$237=$B202))/SUMIF('Detailed price list'!$L$5:$L$237,$B202,'Detailed price list'!$M$5:$M$237))","v":140.03804900640841},{"$f":"IF(SUMIF('Detailed price list'!$L$5:$L$237,$B202,'Detailed price list'!$M$5:$M$237)=0,0,\nSUMPRODUCT(('Detailed price list'!E$5:E$237)*('Detailed price list'!$M$5:$M$237)*('Detailed price list'!$L$5:$L$237=$B202))/SUMIF('Detailed price list'!$L$5:$L$237,$B202,'Detailed price list'!$M$5:$M$237))","v":144.0636643508434},{"$f":"IF(SUMIF('Detailed price list'!$L$5:$L$237,$B202,'Detailed price list'!$M$5:$M$237)=0,0,\nSUMPRODUCT(('Detailed price list'!F$5:F$237)*('Detailed price list'!$M$5:$M$237)*('Detailed price list'!$L$5:$L$237=$B202))/SUMIF('Detailed price list'!$L$5:$L$237,$B202,'Detailed price list'!$M$5:$M$237))","v":148.205002379337},{"$f":"IF(SUMIF('Detailed price list'!$L$5:$L$237,$B202,'Detailed price list'!$M$5:$M$237)=0,0,\nSUMPRODUCT(('Detailed price list'!G$5:G$237)*('Detailed price list'!$M$5:$M$237)*('Detailed price list'!$L$5:$L$237=$B202))/SUMIF('Detailed price list'!$L$5:$L$237,$B202,'Detailed price list'!$M$5:$M$237))","v":152.46538972358647},{"$f":"IF(SUMIF('Detailed price list'!$L$5:$L$237,$B202,'Detailed price list'!$M$5:$M$237)=0,0,\nSUMPRODUCT(('Detailed price list'!H$5:H$237)*('Detailed price list'!$M$5:$M$237)*('Detailed price list'!$L$5:$L$237=$B202))/SUMIF('Detailed price list'!$L$5:$L$237,$B202,'Detailed price list'!$M$5:$M$237))","v":156.84824864458193}]
[null,"150W LED Syrkel PT",{"$f":"IF(SUMIF('Detailed price list'!$L$5:$L$237,$B203,'Detailed price list'!$M$5:$M$237)=0,0,\nSUMPRODUCT(('Detailed price list'!D$5:D$237)*('Detailed price list'!$M$5:$M$237)*('Detailed price list'!$L$5:$L$237=$B203))/SUMIF('Detailed price list'!$L$5:$L$237,$B203,'Detailed price list'!$M$5:$M$237))","v":231.54883007002687},{"$f":"IF(SUMIF('Detailed price list'!$L$5:$L$237,$B203,'Detailed price list'!$M$5:$M$237)=0,0,\nSUMPRODUCT(('Detailed price list'!E$5:E$237)*('Detailed price list'!$M$5:$M$237)*('Detailed price list'!$L$5:$L$237=$B203))/SUMIF('Detailed price list'!$L$5:$L$237,$B203,'Detailed price list'!$M$5:$M$237))","v":238.20506764209716},{"$f":"IF(SUMIF('Detailed price list'!$L$5:$L$237,$B203,'Detailed price list'!$M$5:$M$237)=0,0,\nSUMPRODUCT(('Detailed price list'!F$5:F$237)*('Detailed price list'!$M$5:$M$237)*('Detailed price list'!$L$5:$L$237=$B203))/SUMIF('Detailed price list'!$L$5:$L$237,$B203,'Detailed price list'!$M$5:$M$237))","v":245.05264929741088},{"$f":"IF(SUMIF('Detailed price list'!$L$5:$L$237,$B203,'Detailed price list'!$M$5:$M$237)=0,0,\nSUMPRODUCT(('Detailed price list'!G$5:G$237)*('Detailed price list'!$M$5:$M$237)*('Detailed price list'!$L$5:$L$237=$B203))/SUMIF('Detailed price list'!$L$5:$L$237,$B203,'Detailed price list'!$M$5:$M$237))","v":252.09707552446412},{"$f":"IF(SUMIF('Detailed price list'!$L$5:$L$237,$B203,'Detailed price list'!$M$5:$M$237)=0,0,\nSUMPRODUCT(('Detailed price list'!H$5:H$237)*('Detailed price list'!$M$5:$M$237)*('Detailed price list'!$L$5:$L$237=$B203))/SUMIF('Detailed price list'!$L$5:$L$237,$B203,'Detailed price list'!$M$5:$M$237))","v":259.3440049319999}]
[null,"Philips floodlight PX1",{"$f":"IF(SUMIF('Detailed price list'!$L$5:$L$237,$B204,'Detailed price list'!$M$5:$M$237)=0,0,\nSUMPRODUCT(('Detailed price list'!D$5:D$237)*('Detailed price list'!$M$5:$M$237)*('Detailed price list'!$L$5:$L$237=$B204))/SUMIF('Detailed price list'!$L$5:$L$237,$B204,'Detailed price list'!$M$5:$M$237))","v":96.115787908040332},{"$f":"IF(SUMIF('Detailed price list'!$L$5:$L$237,$B204,'Detailed price list'!$M$5:$M$237)=0,0,\nSUMPRODUCT(('Detailed price list'!E$5:E$237)*('Detailed price list'!$M$5:$M$237)*('Detailed price list'!$L$5:$L$237=$B204))/SUMIF('Detailed price list'!$L$5:$L$237,$B204,'Detailed price list'!$M$5:$M$237))","v":98.878788345352646},{"$f":"IF(SUMIF('Detailed price list'!$L$5:$L$237,$B204,'Detailed price list'!$M$5:$M$237)=0,0,\nSUMPRODUCT(('Detailed price list'!F$5:F$237)*('Detailed price list'!$M$5:$M$237)*('Detailed price list'!$L$5:$L$237=$B204))/SUMIF('Detailed price list'!$L$5:$L$237,$B204,'Detailed price list'!$M$5:$M$237))","v":101.72121560299017},{"$f":"IF(SUMIF('Detailed price list'!$L$5:$L$237,$B204,'Detailed price list'!$M$5:$M$237)=0,0,\nSUMPRODUCT(('Detailed price list'!G$5:G$237)*('Detailed price list'!$M$5:$M$237)*('Detailed price list'!$L$5:$L$237=$B204))/SUMIF('Detailed price list'!$L$5:$L$237,$B204,'Detailed price list'!$M$5:$M$237))","v":104.6453529306049},{"$f":"IF(SUMIF('Detailed price list'!$L$5:$L$237,$B204,'Detailed price list'!$M$5:$M$237)=0,0,\nSUMPRODUCT(('Detailed price list'!H$5:H$237)*('Detailed price list'!$M$5:$M$237)*('Detailed price list'!$L$5:$L$237=$B204))/SUMIF('Detailed price list'!$L$5:$L$237,$B204,'Detailed price list'!$M$5:$M$237))","v":107.65354921347357}]
[null,"Aldridge major road V1",{"$f":"IF(SUMIF('Detailed price list'!$L$5:$L$237,$B205,'Detailed price list'!$M$5:$M$237)=0,0,\nSUMPRODUCT(('Detailed price list'!D$5:D$237)*('Detailed price list'!$M$5:$M$237)*('Detailed price list'!$L$5:$L$237=$B205))/SUMIF('Detailed price list'!$L$5:$L$237,$B205,'Detailed price list'!$M$5:$M$237))","v":102.5414734113472},{"$f":"IF(SUMIF('Detailed price list'!$L$5:$L$237,$B205,'Detailed price list'!$M$5:$M$237)=0,0,\nSUMPRODUCT(('Detailed price list'!E$5:E$237)*('Detailed price list'!$M$5:$M$237)*('Detailed price list'!$L$5:$L$237=$B205))/SUMIF('Detailed price list'!$L$5:$L$237,$B205,'Detailed price list'!$M$5:$M$237))","v":105.48919034781211},{"$f":"IF(SUMIF('Detailed price list'!$L$5:$L$237,$B205,'Detailed price list'!$M$5:$M$237)=0,0,\nSUMPRODUCT(('Detailed price list'!F$5:F$237)*('Detailed price list'!$M$5:$M$237)*('Detailed price list'!$L$5:$L$237=$B205))/SUMIF('Detailed price list'!$L$5:$L$237,$B205,'Detailed price list'!$M$5:$M$237))","v":108.52164407270472},{"$f":"IF(SUMIF('Detailed price list'!$L$5:$L$237,$B205,'Detailed price list'!$M$5:$M$237)=0,0,\nSUMPRODUCT(('Detailed price list'!G$5:G$237)*('Detailed price list'!$M$5:$M$237)*('Detailed price list'!$L$5:$L$237=$B205))/SUMIF('Detailed price list'!$L$5:$L$237,$B205,'Detailed price list'!$M$5:$M$237))","v":111.64127047911377},{"$f":"IF(SUMIF('Detailed price list'!$L$5:$L$237,$B205,'Detailed price list'!$M$5:$M$237)=0,0,\nSUMPRODUCT(('Detailed price list'!H$5:H$237)*('Detailed price list'!$M$5:$M$237)*('Detailed price list'!$L$5:$L$237=$B205))/SUMIF('Detailed price list'!$L$5:$L$237,$B205,'Detailed price list'!$M$5:$M$237))","v":114.85057548372987}]
[null,"Aldridge major road V1 ZHAGA",{"$f":"IF(SUMIF('Detailed price list'!$L$5:$L$237,$B206,'Detailed price list'!$M$5:$M$237)=0,0,\nSUMPRODUCT(('Detailed price list'!D$5:D$237)*('Detailed price list'!$M$5:$M$237)*('Detailed price list'!$L$5:$L$237=$B206))/SUMIF('Detailed price list'!$L$5:$L$237,$B206,'Detailed price list'!$M$5:$M$237))","v":0},{"$f":"IF(SUMIF('Detailed price list'!$L$5:$L$237,$B206,'Detailed price list'!$M$5:$M$237)=0,0,\nSUMPRODUCT(('Detailed price list'!E$5:E$237)*('Detailed price list'!$M$5:$M$237)*('Detailed price list'!$L$5:$L$237=$B206))/SUMIF('Detailed price list'!$L$5:$L$237,$B206,'Detailed price list'!$M$5:$M$237))","v":0},{"$f":"IF(SUMIF('Detailed price list'!$L$5:$L$237,$B206,'Detailed price list'!$M$5:$M$237)=0,0,\nSUMPRODUCT(('Detailed price list'!F$5:F$237)*('Detailed price list'!$M$5:$M$237)*('Detailed price list'!$L$5:$L$237=$B206))/SUMIF('Detailed price list'!$L$5:$L$237,$B206,'Detailed price list'!$M$5:$M$237))","v":0},{"$f":"IF(SUMIF('Detailed price list'!$L$5:$L$237,$B206,'Detailed price list'!$M$5:$M$237)=0,0,\nSUMPRODUCT(('Detailed price list'!G$5:G$237)*('Detailed price list'!$M$5:$M$237)*('Detailed price list'!$L$5:$L$237=$B206))/SUMIF('Detailed price list'!$L$5:$L$237,$B206,'Detailed price list'!$M$5:$M$237))","v":0},{"$f":"IF(SUMIF('Detailed price list'!$L$5:$L$237,$B206,'Detailed price list'!$M$5:$M$237)=0,0,\nSUMPRODUCT(('Detailed price list'!H$5:H$237)*('Detailed price list'!$M$5:$M$237)*('Detailed price list'!$L$5:$L$237=$B206))/SUMIF('Detailed price list'!$L$5:$L$237,$B206,'Detailed price list'!$M$5:$M$237))","v":0}]
[null,"Sylvania floodlight PX1",{"$f":"IF(SUMIF('Detailed price list'!$L$5:$L$237,$B207,'Detailed price list'!$M$5:$M$237)=0,0,\nSUMPRODUCT(('Detailed price list'!D$5:D$237)*('Detailed price list'!$M$5:$M$237)*('Detailed price list'!$L$5:$L$237=$B207))/SUMIF('Detailed price list'!$L$5:$L$237,$B207,'Detailed price list'!$M$5:$M$237))","v":140.03804900640841},{"$f":"IF(SUMIF('Detailed price list'!$L$5:$L$237,$B207,'Detailed price list'!$M$5:$M$237)=0,0,\nSUMPRODUCT(('Detailed price list'!E$5:E$237)*('Detailed price list'!$M$5:$M$237)*('Detailed price list'!$L$5:$L$237=$B207))/SUMIF('Detailed price list'!$L$5:$L$237,$B207,'Detailed price list'!$M$5:$M$237))","v":144.0636643508434},{"$f":"IF(SUMIF('Detailed price list'!$L$5:$L$237,$B207,'Detailed price list'!$M$5:$M$237)=0,0,\nSUMPRODUCT(('Detailed price list'!F$5:F$237)*('Detailed price list'!$M$5:$M$237)*('Detailed price list'!$L$5:$L$237=$B207))/SUMIF('Detailed price list'!$L$5:$L$237,$B207,'Detailed price list'!$M$5:$M$237))","v":148.205002379337},{"$f":"IF(SUMIF('Detailed price list'!$L$5:$L$237,$B207,'Detailed price list'!$M$5:$M$237)=0,0,\nSUMPRODUCT(('Detailed price list'!G$5:G$237)*('Detailed price list'!$M$5:$M$237)*('Detailed price list'!$L$5:$L$237=$B207))/SUMIF('Detailed price list'!$L$5:$L$237,$B207,'Detailed price list'!$M$5:$M$237))","v":152.46538972358647},{"$f":"IF(SUMIF('Detailed price list'!$L$5:$L$237,$B207,'Detailed price list'!$M$5:$M$237)=0,0,\nSUMPRODUCT(('Detailed price list'!H$5:H$237)*('Detailed price list'!$M$5:$M$237)*('Detailed price list'!$L$5:$L$237=$B207))/SUMIF('Detailed price list'!$L$5:$L$237,$B207,'Detailed price list'!$M$5:$M$237))","v":156.84824864458193}]
[null,"200W LED ALD",{"$f":"IF(SUMIF('Detailed price list'!$L$5:$L$237,$B208,'Detailed price list'!$M$5:$M$237)=0,0,\nSUMPRODUCT(('Detailed price list'!D$5:D$237)*('Detailed price list'!$M$5:$M$237)*('Detailed price list'!$L$5:$L$237=$B208))/SUMIF('Detailed price list'!$L$5:$L$237,$B208,'Detailed price list'!$M$5:$M$237))","v":125.93556036149687},{"$f":"IF(SUMIF('Detailed price list'!$L$5:$L$237,$B208,'Detailed price list'!$M$5:$M$237)=0,0,\nSUMPRODUCT(('Detailed price list'!E$5:E$237)*('Detailed price list'!$M$5:$M$237)*('Detailed price list'!$L$5:$L$237=$B208))/SUMIF('Detailed price list'!$L$5:$L$237,$B208,'Detailed price list'!$M$5:$M$237))","v":129.55577735108136},{"$f":"IF(SUMIF('Detailed price list'!$L$5:$L$237,$B208,'Detailed price list'!$M$5:$M$237)=0,0,\nSUMPRODUCT(('Detailed price list'!F$5:F$237)*('Detailed price list'!$M$5:$M$237)*('Detailed price list'!$L$5:$L$237=$B208))/SUMIF('Detailed price list'!$L$5:$L$237,$B208,'Detailed price list'!$M$5:$M$237))","v":133.28006320742639},{"$f":"IF(SUMIF('Detailed price list'!$L$5:$L$237,$B208,'Detailed price list'!$M$5:$M$237)=0,0,\nSUMPRODUCT(('Detailed price list'!G$5:G$237)*('Detailed price list'!$M$5:$M$237)*('Detailed price list'!$L$5:$L$237=$B208))/SUMIF('Detailed price list'!$L$5:$L$237,$B208,'Detailed price list'!$M$5:$M$237))","v":137.11140955480755},{"$f":"IF(SUMIF('Detailed price list'!$L$5:$L$237,$B208,'Detailed price list'!$M$5:$M$237)=0,0,\nSUMPRODUCT(('Detailed price list'!H$5:H$237)*('Detailed price list'!$M$5:$M$237)*('Detailed price list'!$L$5:$L$237=$B208))/SUMIF('Detailed price list'!$L$5:$L$237,$B208,'Detailed price list'!$M$5:$M$237))","v":141.05289401647474}]
[null,"Philips major road V1 High",{"$f":"IF(SUMIF('Detailed price list'!$L$5:$L$237,$B209,'Detailed price list'!$M$5:$M$237)=0,0,\nSUMPRODUCT(('Detailed price list'!D$5:D$237)*('Detailed price list'!$M$5:$M$237)*('Detailed price list'!$L$5:$L$237=$B209))/SUMIF('Detailed price list'!$L$5:$L$237,$B209,'Detailed price list'!$M$5:$M$237))","v":87.842077291694494},{"$f":"IF(SUMIF('Detailed price list'!$L$5:$L$237,$B209,'Detailed price list'!$M$5:$M$237)=0,0,\nSUMPRODUCT(('Detailed price list'!E$5:E$237)*('Detailed price list'!$M$5:$M$237)*('Detailed price list'!$L$5:$L$237=$B209))/SUMIF('Detailed price list'!$L$5:$L$237,$B209,'Detailed price list'!$M$5:$M$237))","v":90.36723682327515},{"$f":"IF(SUMIF('Detailed price list'!$L$5:$L$237,$B209,'Detailed price list'!$M$5:$M$237)=0,0,\nSUMPRODUCT(('Detailed price list'!F$5:F$237)*('Detailed price list'!$M$5:$M$237)*('Detailed price list'!$L$5:$L$237=$B209))/SUMIF('Detailed price list'!$L$5:$L$237,$B209,'Detailed price list'!$M$5:$M$237))","v":92.964986061936145},{"$f":"IF(SUMIF('Detailed price list'!$L$5:$L$237,$B209,'Detailed price list'!$M$5:$M$237)=0,0,\nSUMPRODUCT(('Detailed price list'!G$5:G$237)*('Detailed price list'!$M$5:$M$237)*('Detailed price list'!$L$5:$L$237=$B209))/SUMIF('Detailed price list'!$L$5:$L$237,$B209,'Detailed price list'!$M$5:$M$237))","v":95.637411713688778},{"$f":"IF(SUMIF('Detailed price list'!$L$5:$L$237,$B209,'Detailed price list'!$M$5:$M$237)=0,0,\nSUMPRODUCT(('Detailed price list'!H$5:H$237)*('Detailed price list'!$M$5:$M$237)*('Detailed price list'!$L$5:$L$237=$B209))/SUMIF('Detailed price list'!$L$5:$L$237,$B209,'Detailed price list'!$M$5:$M$237))","v":98.386660470211055}]
[null,"Philips major road V1 High ZHAGA",{"$f":"IF(SUMIF('Detailed price list'!$L$5:$L$237,$B210,'Detailed price list'!$M$5:$M$237)=0,0,\nSUMPRODUCT(('Detailed price list'!D$5:D$237)*('Detailed price list'!$M$5:$M$237)*('Detailed price list'!$L$5:$L$237=$B210))/SUMIF('Detailed price list'!$L$5:$L$237,$B210,'Detailed price list'!$M$5:$M$237))","v":96.115787908040332},{"$f":"IF(SUMIF('Detailed price list'!$L$5:$L$237,$B210,'Detailed price list'!$M$5:$M$237)=0,0,\nSUMPRODUCT(('Detailed price list'!E$5:E$237)*('Detailed price list'!$M$5:$M$237)*('Detailed price list'!$L$5:$L$237=$B210))/SUMIF('Detailed price list'!$L$5:$L$237,$B210,'Detailed price list'!$M$5:$M$237))","v":98.878788345352646},{"$f":"IF(SUMIF('Detailed price list'!$L$5:$L$237,$B210,'Detailed price list'!$M$5:$M$237)=0,0,\nSUMPRODUCT(('Detailed price list'!F$5:F$237)*('Detailed price list'!$M$5:$M$237)*('Detailed price list'!$L$5:$L$237=$B210))/SUMIF('Detailed price list'!$L$5:$L$237,$B210,'Detailed price list'!$M$5:$M$237))","v":101.72121560299018},{"$f":"IF(SUMIF('Detailed price list'!$L$5:$L$237,$B210,'Detailed price list'!$M$5:$M$237)=0,0,\nSUMPRODUCT(('Detailed price list'!G$5:G$237)*('Detailed price list'!$M$5:$M$237)*('Detailed price list'!$L$5:$L$237=$B210))/SUMIF('Detailed price list'!$L$5:$L$237,$B210,'Detailed price list'!$M$5:$M$237))","v":104.6453529306049},{"$f":"IF(SUMIF('Detailed price list'!$L$5:$L$237,$B210,'Detailed price list'!$M$5:$M$237)=0,0,\nSUMPRODUCT(('Detailed price list'!H$5:H$237)*('Detailed price list'!$M$5:$M$237)*('Detailed price list'!$L$5:$L$237=$B210))/SUMIF('Detailed price list'!$L$5:$L$237,$B210,'Detailed price list'!$M$5:$M$237))","v":107.65354921347358}]
[null,"Aldridge major road V1 High",{"$f":"IF(SUMIF('Detailed price list'!$L$5:$L$237,$B211,'Detailed price list'!$M$5:$M$237)=0,0,\nSUMPRODUCT(('Detailed price list'!D$5:D$237)*('Detailed price list'!$M$5:$M$237)*('Detailed price list'!$L$5:$L$237=$B211))/SUMIF('Detailed price list'!$L$5:$L$237,$B211,'Detailed price list'!$M$5:$M$237))","v":115.13930508155104},{"$f":"IF(SUMIF('Detailed price list'!$L$5:$L$237,$B211,'Detailed price list'!$M$5:$M$237)=0,0,\nSUMPRODUCT(('Detailed price list'!E$5:E$237)*('Detailed price list'!$M$5:$M$237)*('Detailed price list'!$L$5:$L$237=$B211))/SUMIF('Detailed price list'!$L$5:$L$237,$B211,'Detailed price list'!$M$5:$M$237))","v":118.44916662684196},{"$f":"IF(SUMIF('Detailed price list'!$L$5:$L$237,$B211,'Detailed price list'!$M$5:$M$237)=0,0,\nSUMPRODUCT(('Detailed price list'!F$5:F$237)*('Detailed price list'!$M$5:$M$237)*('Detailed price list'!$L$5:$L$237=$B211))/SUMIF('Detailed price list'!$L$5:$L$237,$B211,'Detailed price list'!$M$5:$M$237))","v":121.85417538047527},{"$f":"IF(SUMIF('Detailed price list'!$L$5:$L$237,$B211,'Detailed price list'!$M$5:$M$237)=0,0,\nSUMPRODUCT(('Detailed price list'!G$5:G$237)*('Detailed price list'!$M$5:$M$237)*('Detailed price list'!$L$5:$L$237=$B211))/SUMIF('Detailed price list'!$L$5:$L$237,$B211,'Detailed price list'!$M$5:$M$237))","v":125.35706649953586},{"$f":"IF(SUMIF('Detailed price list'!$L$5:$L$237,$B211,'Detailed price list'!$M$5:$M$237)=0,0,\nSUMPRODUCT(('Detailed price list'!H$5:H$237)*('Detailed price list'!$M$5:$M$237)*('Detailed price list'!$L$5:$L$237=$B211))/SUMIF('Detailed price list'!$L$5:$L$237,$B211,'Detailed price list'!$M$5:$M$237))","v":128.96065376752756}]
[null,"Aldridge major road V1 High ZHAGA",{"$f":"IF(SUMIF('Detailed price list'!$L$5:$L$237,$B212,'Detailed price list'!$M$5:$M$237)=0,0,\nSUMPRODUCT(('Detailed price list'!D$5:D$237)*('Detailed price list'!$M$5:$M$237)*('Detailed price list'!$L$5:$L$237=$B212))/SUMIF('Detailed price list'!$L$5:$L$237,$B212,'Detailed price list'!$M$5:$M$237))","v":0},{"$f":"IF(SUMIF('Detailed price list'!$L$5:$L$237,$B212,'Detailed price list'!$M$5:$M$237)=0,0,\nSUMPRODUCT(('Detailed price list'!E$5:E$237)*('Detailed price list'!$M$5:$M$237)*('Detailed price list'!$L$5:$L$237=$B212))/SUMIF('Detailed price list'!$L$5:$L$237,$B212,'Detailed price list'!$M$5:$M$237))","v":0},{"$f":"IF(SUMIF('Detailed price list'!$L$5:$L$237,$B212,'Detailed price list'!$M$5:$M$237)=0,0,\nSUMPRODUCT(('Detailed price list'!F$5:F$237)*('Detailed price list'!$M$5:$M$237)*('Detailed price list'!$L$5:$L$237=$B212))/SUMIF('Detailed price list'!$L$5:$L$237,$B212,'Detailed price list'!$M$5:$M$237))","v":0},{"$f":"IF(SUMIF('Detailed price list'!$L$5:$L$237,$B212,'Detailed price list'!$M$5:$M$237)=0,0,\nSUMPRODUCT(('Detailed price list'!G$5:G$237)*('Detailed price list'!$M$5:$M$237)*('Detailed price list'!$L$5:$L$237=$B212))/SUMIF('Detailed price list'!$L$5:$L$237,$B212,'Detailed price list'!$M$5:$M$237))","v":0},{"$f":"IF(SUMIF('Detailed price list'!$L$5:$L$237,$B212,'Detailed price list'!$M$5:$M$237)=0,0,\nSUMPRODUCT(('Detailed price list'!H$5:H$237)*('Detailed price list'!$M$5:$M$237)*('Detailed price list'!$L$5:$L$237=$B212))/SUMIF('Detailed price list'!$L$5:$L$237,$B212,'Detailed price list'!$M$5:$M$237))","v":0}]
[null,"298W LED ALD",{"$f":"IF(SUMIF('Detailed price list'!$L$5:$L$237,$B213,'Detailed price list'!$M$5:$M$237)=0,0,\nSUMPRODUCT(('Detailed price list'!D$5:D$237)*('Detailed price list'!$M$5:$M$237)*('Detailed price list'!$L$5:$L$237=$B213))/SUMIF('Detailed price list'!$L$5:$L$237,$B213,'Detailed price list'!$M$5:$M$237))","v":182.18794489571277},{"$f":"IF(SUMIF('Detailed price list'!$L$5:$L$237,$B213,'Detailed price list'!$M$5:$M$237)=0,0,\nSUMPRODUCT(('Detailed price list'!E$5:E$237)*('Detailed price list'!$M$5:$M$237)*('Detailed price list'!$L$5:$L$237=$B213))/SUMIF('Detailed price list'!$L$5:$L$237,$B213,'Detailed price list'!$M$5:$M$237))","v":187.42522570437143},{"$f":"IF(SUMIF('Detailed price list'!$L$5:$L$237,$B213,'Detailed price list'!$M$5:$M$237)=0,0,\nSUMPRODUCT(('Detailed price list'!F$5:F$237)*('Detailed price list'!$M$5:$M$237)*('Detailed price list'!$L$5:$L$237=$B213))/SUMIF('Detailed price list'!$L$5:$L$237,$B213,'Detailed price list'!$M$5:$M$237))","v":192.81306043845279},{"$f":"IF(SUMIF('Detailed price list'!$L$5:$L$237,$B213,'Detailed price list'!$M$5:$M$237)=0,0,\nSUMPRODUCT(('Detailed price list'!G$5:G$237)*('Detailed price list'!$M$5:$M$237)*('Detailed price list'!$L$5:$L$237=$B213))/SUMIF('Detailed price list'!$L$5:$L$237,$B213,'Detailed price list'!$M$5:$M$237))","v":198.3557770088114},{"$f":"IF(SUMIF('Detailed price list'!$L$5:$L$237,$B213,'Detailed price list'!$M$5:$M$237)=0,0,\nSUMPRODUCT(('Detailed price list'!H$5:H$237)*('Detailed price list'!$M$5:$M$237)*('Detailed price list'!$L$5:$L$237=$B213))/SUMIF('Detailed price list'!$L$5:$L$237,$B213,'Detailed price list'!$M$5:$M$237))","v":204.05782773894876}]
[null,"600W LED ALD HM",{"$f":"IF(SUMIF('Detailed price list'!$L$5:$L$237,$B214,'Detailed price list'!$M$5:$M$237)=0,0,\nSUMPRODUCT(('Detailed price list'!D$5:D$237)*('Detailed price list'!$M$5:$M$237)*('Detailed price list'!$L$5:$L$237=$B214))/SUMIF('Detailed price list'!$L$5:$L$237,$B214,'Detailed price list'!$M$5:$M$237))","v":409.90342292616657},{"$f":"IF(SUMIF('Detailed price list'!$L$5:$L$237,$B214,'Detailed price list'!$M$5:$M$237)=0,0,\nSUMPRODUCT(('Detailed price list'!E$5:E$237)*('Detailed price list'!$M$5:$M$237)*('Detailed price list'!$L$5:$L$237=$B214))/SUMIF('Detailed price list'!$L$5:$L$237,$B214,'Detailed price list'!$M$5:$M$237))","v":421.68674553581315},{"$f":"IF(SUMIF('Detailed price list'!$L$5:$L$237,$B214,'Detailed price list'!$M$5:$M$237)=0,0,\nSUMPRODUCT(('Detailed price list'!F$5:F$237)*('Detailed price list'!$M$5:$M$237)*('Detailed price list'!$L$5:$L$237=$B214))/SUMIF('Detailed price list'!$L$5:$L$237,$B214,'Detailed price list'!$M$5:$M$237))","v":433.80879840228914},{"$f":"IF(SUMIF('Detailed price list'!$L$5:$L$237,$B214,'Detailed price list'!$M$5:$M$237)=0,0,\nSUMPRODUCT(('Detailed price list'!G$5:G$237)*('Detailed price list'!$M$5:$M$237)*('Detailed price list'!$L$5:$L$237=$B214))/SUMIF('Detailed price list'!$L$5:$L$237,$B214,'Detailed price list'!$M$5:$M$237))","v":446.27931886290514},{"$f":"IF(SUMIF('Detailed price list'!$L$5:$L$237,$B214,'Detailed price list'!$M$5:$M$237)=0,0,\nSUMPRODUCT(('Detailed price list'!H$5:H$237)*('Detailed price list'!$M$5:$M$237)*('Detailed price list'!$L$5:$L$237=$B214))/SUMIF('Detailed price list'!$L$5:$L$237,$B214,'Detailed price list'!$M$5:$M$237))","v":459.10832417014353}]
[null,"COLONIAL ROCKS SPHERE",{"$f":"IF(SUMIF('Detailed price list'!$L$5:$L$237,$B215,'Detailed price list'!$M$5:$M$237)=0,0,\nSUMPRODUCT(('Detailed price list'!D$5:D$237)*('Detailed price list'!$M$5:$M$237)*('Detailed price list'!$L$5:$L$237=$B215))/SUMIF('Detailed price list'!$L$5:$L$237,$B215,'Detailed price list'!$M$5:$M$237))","v":126.50175671794213},{"$f":"IF(SUMIF('Detailed price list'!$L$5:$L$237,$B215,'Detailed price list'!$M$5:$M$237)=0,0,\nSUMPRODUCT(('Detailed price list'!E$5:E$237)*('Detailed price list'!$M$5:$M$237)*('Detailed price list'!$L$5:$L$237=$B215))/SUMIF('Detailed price list'!$L$5:$L$237,$B215,'Detailed price list'!$M$5:$M$237))","v":130.13824991786117},{"$f":"IF(SUMIF('Detailed price list'!$L$5:$L$237,$B215,'Detailed price list'!$M$5:$M$237)=0,0,\nSUMPRODUCT(('Detailed price list'!F$5:F$237)*('Detailed price list'!$M$5:$M$237)*('Detailed price list'!$L$5:$L$237=$B215))/SUMIF('Detailed price list'!$L$5:$L$237,$B215,'Detailed price list'!$M$5:$M$237))","v":133.87927986996573},{"$f":"IF(SUMIF('Detailed price list'!$L$5:$L$237,$B215,'Detailed price list'!$M$5:$M$237)=0,0,\nSUMPRODUCT(('Detailed price list'!G$5:G$237)*('Detailed price list'!$M$5:$M$237)*('Detailed price list'!$L$5:$L$237=$B215))/SUMIF('Detailed price list'!$L$5:$L$237,$B215,'Detailed price list'!$M$5:$M$237))","v":137.72785164863839},{"$f":"IF(SUMIF('Detailed price list'!$L$5:$L$237,$B215,'Detailed price list'!$M$5:$M$237)=0,0,\nSUMPRODUCT(('Detailed price list'!H$5:H$237)*('Detailed price list'!$M$5:$M$237)*('Detailed price list'!$L$5:$L$237=$B215))/SUMIF('Detailed price list'!$L$5:$L$237,$B215,'Detailed price list'!$M$5:$M$237))","v":141.68705671388074}]
[null,"LED TRIAL",{"$f":"IF(SUMIF('Detailed price list'!$L$5:$L$237,$B216,'Detailed price list'!$M$5:$M$237)=0,0,\nSUMPRODUCT(('Detailed price list'!D$5:D$237)*('Detailed price list'!$M$5:$M$237)*('Detailed price list'!$L$5:$L$237=$B216))/SUMIF('Detailed price list'!$L$5:$L$237,$B216,'Detailed price list'!$M$5:$M$237))","v":40.922778445149085},{"$f":"IF(SUMIF('Detailed price list'!$L$5:$L$237,$B216,'Detailed price list'!$M$5:$M$237)=0,0,\nSUMPRODUCT(('Detailed price list'!E$5:E$237)*('Detailed price list'!$M$5:$M$237)*('Detailed price list'!$L$5:$L$237=$B216))/SUMIF('Detailed price list'!$L$5:$L$237,$B216,'Detailed price list'!$M$5:$M$237))","v":42.099168476391007},{"$f":"IF(SUMIF('Detailed price list'!$L$5:$L$237,$B216,'Detailed price list'!$M$5:$M$237)=0,0,\nSUMPRODUCT(('Detailed price list'!F$5:F$237)*('Detailed price list'!$M$5:$M$237)*('Detailed price list'!$L$5:$L$237=$B216))/SUMIF('Detailed price list'!$L$5:$L$237,$B216,'Detailed price list'!$M$5:$M$237))","v":43.30937570084869},{"$f":"IF(SUMIF('Detailed price list'!$L$5:$L$237,$B216,'Detailed price list'!$M$5:$M$237)=0,0,\nSUMPRODUCT(('Detailed price list'!G$5:G$237)*('Detailed price list'!$M$5:$M$237)*('Detailed price list'!$L$5:$L$237=$B216))/SUMIF('Detailed price list'!$L$5:$L$237,$B216,'Detailed price list'!$M$5:$M$237))","v":44.554372247260581},{"$f":"IF(SUMIF('Detailed price list'!$L$5:$L$237,$B216,'Detailed price list'!$M$5:$M$237)=0,0,\nSUMPRODUCT(('Detailed price list'!H$5:H$237)*('Detailed price list'!$M$5:$M$237)*('Detailed price list'!$L$5:$L$237=$B216))/SUMIF('Detailed price list'!$L$5:$L$237,$B216,'Detailed price list'!$M$5:$M$237))","v":45.835158189744213}]
[null,"Spare Luminaire 1",{"$f":"IF(SUMIF('Detailed price list'!$L$5:$L$237,$B217,'Detailed price list'!$M$5:$M$237)=0,0,\nSUMPRODUCT(('Detailed price list'!D$5:D$237)*('Detailed price list'!$M$5:$M$237)*('Detailed price list'!$L$5:$L$237=$B217))/SUMIF('Detailed price list'!$L$5:$L$237,$B217,'Detailed price list'!$M$5:$M$237))","v":0},{"$f":"IF(SUMIF('Detailed price list'!$L$5:$L$237,$B217,'Detailed price list'!$M$5:$M$237)=0,0,\nSUMPRODUCT(('Detailed price list'!E$5:E$237)*('Detailed price list'!$M$5:$M$237)*('Detailed price list'!$L$5:$L$237=$B217))/SUMIF('Detailed price list'!$L$5:$L$237,$B217,'Detailed price list'!$M$5:$M$237))","v":0},{"$f":"IF(SUMIF('Detailed price list'!$L$5:$L$237,$B217,'Detailed price list'!$M$5:$M$237)=0,0,\nSUMPRODUCT(('Detailed price list'!F$5:F$237)*('Detailed price list'!$M$5:$M$237)*('Detailed price list'!$L$5:$L$237=$B217))/SUMIF('Detailed price list'!$L$5:$L$237,$B217,'Detailed price list'!$M$5:$M$237))","v":0},{"$f":"IF(SUMIF('Detailed price list'!$L$5:$L$237,$B217,'Detailed price list'!$M$5:$M$237)=0,0,\nSUMPRODUCT(('Detailed price list'!G$5:G$237)*('Detailed price list'!$M$5:$M$237)*('Detailed price list'!$L$5:$L$237=$B217))/SUMIF('Detailed price list'!$L$5:$L$237,$B217,'Detailed price list'!$M$5:$M$237))","v":0},{"$f":"IF(SUMIF('Detailed price list'!$L$5:$L$237,$B217,'Detailed price list'!$M$5:$M$237)=0,0,\nSUMPRODUCT(('Detailed price list'!H$5:H$237)*('Detailed price list'!$M$5:$M$237)*('Detailed price list'!$L$5:$L$237=$B217))/SUMIF('Detailed price list'!$L$5:$L$237,$B217,'Detailed price list'!$M$5:$M$237))","v":0}]
[null,"Spare Luminaire 2",{"$f":"IF(SUMIF('Detailed price list'!$L$5:$L$237,$B218,'Detailed price list'!$M$5:$M$237)=0,0,\nSUMPRODUCT(('Detailed price list'!D$5:D$237)*('Detailed price list'!$M$5:$M$237)*('Detailed price list'!$L$5:$L$237=$B218))/SUMIF('Detailed price list'!$L$5:$L$237,$B218,'Detailed price list'!$M$5:$M$237))","v":0},{"$f":"IF(SUMIF('Detailed price list'!$L$5:$L$237,$B218,'Detailed price list'!$M$5:$M$237)=0,0,\nSUMPRODUCT(('Detailed price list'!E$5:E$237)*('Detailed price list'!$M$5:$M$237)*('Detailed price list'!$L$5:$L$237=$B218))/SUMIF('Detailed price list'!$L$5:$L$237,$B218,'Detailed price list'!$M$5:$M$237))","v":0},{"$f":"IF(SUMIF('Detailed price list'!$L$5:$L$237,$B218,'Detailed price list'!$M$5:$M$237)=0,0,\nSUMPRODUCT(('Detailed price list'!F$5:F$237)*('Detailed price list'!$M$5:$M$237)*('Detailed price list'!$L$5:$L$237=$B218))/SUMIF('Detailed price list'!$L$5:$L$237,$B218,'Detailed price list'!$M$5:$M$237))","v":0},{"$f":"IF(SUMIF('Detailed price list'!$L$5:$L$237,$B218,'Detailed price list'!$M$5:$M$237)=0,0,\nSUMPRODUCT(('Detailed price list'!G$5:G$237)*('Detailed price list'!$M$5:$M$237)*('Detailed price list'!$L$5:$L$237=$B218))/SUMIF('Detailed price list'!$L$5:$L$237,$B218,'Detailed price list'!$M$5:$M$237))","v":0},{"$f":"IF(SUMIF('Detailed price list'!$L$5:$L$237,$B218,'Detailed price list'!$M$5:$M$237)=0,0,\nSUMPRODUCT(('Detailed price list'!H$5:H$237)*('Detailed price list'!$M$5:$M$237)*('Detailed price list'!$L$5:$L$237=$B218))/SUMIF('Detailed price list'!$L$5:$L$237,$B218,'Detailed price list'!$M$5:$M$237))","v":0}]
[null,"Spare Luminaire 3",{"$f":"IF(SUMIF('Detailed price list'!$L$5:$L$237,$B219,'Detailed price list'!$M$5:$M$237)=0,0,\nSUMPRODUCT(('Detailed price list'!D$5:D$237)*('Detailed price list'!$M$5:$M$237)*('Detailed price list'!$L$5:$L$237=$B219))/SUMIF('Detailed price list'!$L$5:$L$237,$B219,'Detailed price list'!$M$5:$M$237))","v":0},{"$f":"IF(SUMIF('Detailed price list'!$L$5:$L$237,$B219,'Detailed price list'!$M$5:$M$237)=0,0,\nSUMPRODUCT(('Detailed price list'!E$5:E$237)*('Detailed price list'!$M$5:$M$237)*('Detailed price list'!$L$5:$L$237=$B219))/SUMIF('Detailed price list'!$L$5:$L$237,$B219,'Detailed price list'!$M$5:$M$237))","v":0},{"$f":"IF(SUMIF('Detailed price list'!$L$5:$L$237,$B219,'Detailed price list'!$M$5:$M$237)=0,0,\nSUMPRODUCT(('Detailed price list'!F$5:F$237)*('Detailed price list'!$M$5:$M$237)*('Detailed price list'!$L$5:$L$237=$B219))/SUMIF('Detailed price list'!$L$5:$L$237,$B219,'Detailed price list'!$M$5:$M$237))","v":0},{"$f":"IF(SUMIF('Detailed price list'!$L$5:$L$237,$B219,'Detailed price list'!$M$5:$M$237)=0,0,\nSUMPRODUCT(('Detailed price list'!G$5:G$237)*('Detailed price list'!$M$5:$M$237)*('Detailed price list'!$L$5:$L$237=$B219))/SUMIF('Detailed price list'!$L$5:$L$237,$B219,'Detailed price list'!$M$5:$M$237))","v":0},{"$f":"IF(SUMIF('Detailed price list'!$L$5:$L$237,$B219,'Detailed price list'!$M$5:$M$237)=0,0,\nSUMPRODUCT(('Detailed price list'!H$5:H$237)*('Detailed price list'!$M$5:$M$237)*('Detailed price list'!$L$5:$L$237=$B219))/SUMIF('Detailed price list'!$L$5:$L$237,$B219,'Detailed price list'!$M$5:$M$237))","v":0}]
[null,"Spare Luminaire 4",{"$f":"IF(SUMIF('Detailed price list'!$L$5:$L$237,$B220,'Detailed price list'!$M$5:$M$237)=0,0,\nSUMPRODUCT(('Detailed price list'!D$5:D$237)*('Detailed price list'!$M$5:$M$237)*('Detailed price list'!$L$5:$L$237=$B220))/SUMIF('Detailed price list'!$L$5:$L$237,$B220,'Detailed price list'!$M$5:$M$237))","v":0},{"$f":"IF(SUMIF('Detailed price list'!$L$5:$L$237,$B220,'Detailed price list'!$M$5:$M$237)=0,0,\nSUMPRODUCT(('Detailed price list'!E$5:E$237)*('Detailed price list'!$M$5:$M$237)*('Detailed price list'!$L$5:$L$237=$B220))/SUMIF('Detailed price list'!$L$5:$L$237,$B220,'Detailed price list'!$M$5:$M$237))","v":0},{"$f":"IF(SUMIF('Detailed price list'!$L$5:$L$237,$B220,'Detailed price list'!$M$5:$M$237)=0,0,\nSUMPRODUCT(('Detailed price list'!F$5:F$237)*('Detailed price list'!$M$5:$M$237)*('Detailed price list'!$L$5:$L$237=$B220))/SUMIF('Detailed price list'!$L$5:$L$237,$B220,'Detailed price list'!$M$5:$M$237))","v":0},{"$f":"IF(SUMIF('Detailed price list'!$L$5:$L$237,$B220,'Detailed price list'!$M$5:$M$237)=0,0,\nSUMPRODUCT(('Detailed price list'!G$5:G$237)*('Detailed price list'!$M$5:$M$237)*('Detailed price list'!$L$5:$L$237=$B220))/SUMIF('Detailed price list'!$L$5:$L$237,$B220,'Detailed price list'!$M$5:$M$237))","v":0},{"$f":"IF(SUMIF('Detailed price list'!$L$5:$L$237,$B220,'Detailed price list'!$M$5:$M$237)=0,0,\nSUMPRODUCT(('Detailed price list'!H$5:H$237)*('Detailed price list'!$M$5:$M$237)*('Detailed price list'!$L$5:$L$237=$B220))/SUMIF('Detailed price list'!$L$5:$L$237,$B220,'Detailed price list'!$M$5:$M$237))","v":0}]
[null,"Spare Luminaire 5",{"$f":"IF(SUMIF('Detailed price list'!$L$5:$L$237,$B221,'Detailed price list'!$M$5:$M$237)=0,0,\nSUMPRODUCT(('Detailed price list'!D$5:D$237)*('Detailed price list'!$M$5:$M$237)*('Detailed price list'!$L$5:$L$237=$B221))/SUMIF('Detailed price list'!$L$5:$L$237,$B221,'Detailed price list'!$M$5:$M$237))","v":0},{"$f":"IF(SUMIF('Detailed price list'!$L$5:$L$237,$B221,'Detailed price list'!$M$5:$M$237)=0,0,\nSUMPRODUCT(('Detailed price list'!E$5:E$237)*('Detailed price list'!$M$5:$M$237)*('Detailed price list'!$L$5:$L$237=$B221))/SUMIF('Detailed price list'!$L$5:$L$237,$B221,'Detailed price list'!$M$5:$M$237))","v":0},{"$f":"IF(SUMIF('Detailed price list'!$L$5:$L$237,$B221,'Detailed price list'!$M$5:$M$237)=0,0,\nSUMPRODUCT(('Detailed price list'!F$5:F$237)*('Detailed price list'!$M$5:$M$237)*('Detailed price list'!$L$5:$L$237=$B221))/SUMIF('Detailed price list'!$L$5:$L$237,$B221,'Detailed price list'!$M$5:$M$237))","v":0},{"$f":"IF(SUMIF('Detailed price list'!$L$5:$L$237,$B221,'Detailed price list'!$M$5:$M$237)=0,0,\nSUMPRODUCT(('Detailed price list'!G$5:G$237)*('Detailed price list'!$M$5:$M$237)*('Detailed price list'!$L$5:$L$237=$B221))/SUMIF('Detailed price list'!$L$5:$L$237,$B221,'Detailed price list'!$M$5:$M$237))","v":0},{"$f":"IF(SUMIF('Detailed price list'!$L$5:$L$237,$B221,'Detailed price list'!$M$5:$M$237)=0,0,\nSUMPRODUCT(('Detailed price list'!H$5:H$237)*('Detailed price list'!$M$5:$M$237)*('Detailed price list'!$L$5:$L$237=$B221))/SUMIF('Detailed price list'!$L$5:$L$237,$B221,'Detailed price list'!$M$5:$M$237))","v":0}]
[null,"Smart Controller - materials and installation",{"$f":"IF(SUMIF('Detailed price list'!$L$5:$L$237,$B222,'Detailed price list'!$M$5:$M$237)=0,0,\nSUMPRODUCT(('Detailed price list'!D$5:D$237)*('Detailed price list'!$M$5:$M$237)*('Detailed price list'!$L$5:$L$237=$B222))/SUMIF('Detailed price list'!$L$5:$L$237,$B222,'Detailed price list'!$M$5:$M$237))","v":50.218211099898113},{"$f":"IF(SUMIF('Detailed price list'!$L$5:$L$237,$B222,'Detailed price list'!$M$5:$M$237)=0,0,\nSUMPRODUCT(('Detailed price list'!E$5:E$237)*('Detailed price list'!$M$5:$M$237)*('Detailed price list'!$L$5:$L$237=$B222))/SUMIF('Detailed price list'!$L$5:$L$237,$B222,'Detailed price list'!$M$5:$M$237))","v":51.661813053854047},{"$f":"IF(SUMIF('Detailed price list'!$L$5:$L$237,$B222,'Detailed price list'!$M$5:$M$237)=0,0,\nSUMPRODUCT(('Detailed price list'!F$5:F$237)*('Detailed price list'!$M$5:$M$237)*('Detailed price list'!$L$5:$L$237=$B222))/SUMIF('Detailed price list'!$L$5:$L$237,$B222,'Detailed price list'!$M$5:$M$237))","v":53.146913630636647},{"$f":"IF(SUMIF('Detailed price list'!$L$5:$L$237,$B222,'Detailed price list'!$M$5:$M$237)=0,0,\nSUMPRODUCT(('Detailed price list'!G$5:G$237)*('Detailed price list'!$M$5:$M$237)*('Detailed price list'!$L$5:$L$237=$B222))/SUMIF('Detailed price list'!$L$5:$L$237,$B222,'Detailed price list'!$M$5:$M$237))","v":54.674705773835264},{"$f":"IF(SUMIF('Detailed price list'!$L$5:$L$237,$B222,'Detailed price list'!$M$5:$M$237)=0,0,\nSUMPRODUCT(('Detailed price list'!H$5:H$237)*('Detailed price list'!$M$5:$M$237)*('Detailed price list'!$L$5:$L$237=$B222))/SUMIF('Detailed price list'!$L$5:$L$237,$B222,'Detailed price list'!$M$5:$M$237))","v":56.246416720090657}]
[null,"Smart Controller - material price only",{"$f":"IF(SUMIF('Detailed price list'!$L$5:$L$237,$B223,'Detailed price list'!$M$5:$M$237)=0,0,\nSUMPRODUCT(('Detailed price list'!D$5:D$237)*('Detailed price list'!$M$5:$M$237)*('Detailed price list'!$L$5:$L$237=$B223))/SUMIF('Detailed price list'!$L$5:$L$237,$B223,'Detailed price list'!$M$5:$M$237))","v":0},{"$f":"IF(SUMIF('Detailed price list'!$L$5:$L$237,$B223,'Detailed price list'!$M$5:$M$237)=0,0,\nSUMPRODUCT(('Detailed price list'!E$5:E$237)*('Detailed price list'!$M$5:$M$237)*('Detailed price list'!$L$5:$L$237=$B223))/SUMIF('Detailed price list'!$L$5:$L$237,$B223,'Detailed price list'!$M$5:$M$237))","v":0},{"$f":"IF(SUMIF('Detailed price list'!$L$5:$L$237,$B223,'Detailed price list'!$M$5:$M$237)=0,0,\nSUMPRODUCT(('Detailed price list'!F$5:F$237)*('Detailed price list'!$M$5:$M$237)*('Detailed price list'!$L$5:$L$237=$B223))/SUMIF('Detailed price list'!$L$5:$L$237,$B223,'Detailed price list'!$M$5:$M$237))","v":0},{"$f":"IF(SUMIF('Detailed price list'!$L$5:$L$237,$B223,'Detailed price list'!$M$5:$M$237)=0,0,\nSUMPRODUCT(('Detailed price list'!G$5:G$237)*('Detailed price list'!$M$5:$M$237)*('Detailed price list'!$L$5:$L$237=$B223))/SUMIF('Detailed price list'!$L$5:$L$237,$B223,'Detailed price list'!$M$5:$M$237))","v":0},{"$f":"IF(SUMIF('Detailed price list'!$L$5:$L$237,$B223,'Detailed price list'!$M$5:$M$237)=0,0,\nSUMPRODUCT(('Detailed price list'!H$5:H$237)*('Detailed price list'!$M$5:$M$237)*('Detailed price list'!$L$5:$L$237=$B223))/SUMIF('Detailed price list'!$L$5:$L$237,$B223,'Detailed price list'!$M$5:$M$237))","v":0}]
[null,"Smart Controller - material price adjusted for PE Cell",{"$f":"IF(SUMIF('Detailed price list'!$L$5:$L$237,$B224,'Detailed price list'!$M$5:$M$237)=0,0,\nSUMPRODUCT(('Detailed price list'!D$5:D$237)*('Detailed price list'!$M$5:$M$237)*('Detailed price list'!$L$5:$L$237=$B224))/SUMIF('Detailed price list'!$L$5:$L$237,$B224,'Detailed price list'!$M$5:$M$237))","v":20.598634962574064},{"$f":"IF(SUMIF('Detailed price list'!$L$5:$L$237,$B224,'Detailed price list'!$M$5:$M$237)=0,0,\nSUMPRODUCT(('Detailed price list'!E$5:E$237)*('Detailed price list'!$M$5:$M$237)*('Detailed price list'!$L$5:$L$237=$B224))/SUMIF('Detailed price list'!$L$5:$L$237,$B224,'Detailed price list'!$M$5:$M$237))","v":21.190775324197919},{"$f":"IF(SUMIF('Detailed price list'!$L$5:$L$237,$B224,'Detailed price list'!$M$5:$M$237)=0,0,\nSUMPRODUCT(('Detailed price list'!F$5:F$237)*('Detailed price list'!$M$5:$M$237)*('Detailed price list'!$L$5:$L$237=$B224))/SUMIF('Detailed price list'!$L$5:$L$237,$B224,'Detailed price list'!$M$5:$M$237))","v":21.799937697644456},{"$f":"IF(SUMIF('Detailed price list'!$L$5:$L$237,$B224,'Detailed price list'!$M$5:$M$237)=0,0,\nSUMPRODUCT(('Detailed price list'!G$5:G$237)*('Detailed price list'!$M$5:$M$237)*('Detailed price list'!$L$5:$L$237=$B224))/SUMIF('Detailed price list'!$L$5:$L$237,$B224,'Detailed price list'!$M$5:$M$237))","v":22.426611407582737},{"$f":"IF(SUMIF('Detailed price list'!$L$5:$L$237,$B224,'Detailed price list'!$M$5:$M$237)=0,0,\nSUMPRODUCT(('Detailed price list'!H$5:H$237)*('Detailed price list'!$M$5:$M$237)*('Detailed price list'!$L$5:$L$237=$B224))/SUMIF('Detailed price list'!$L$5:$L$237,$B224,'Detailed price list'!$M$5:$M$237))","v":23.071299845093851}]
[null,"Support - COLUMN 10.5M-13.5M",{"$f":"IF(SUMIF('Detailed price list'!$L$5:$L$237,$B225,'Detailed price list'!$M$5:$M$237)=0,0,\nSUMPRODUCT(('Detailed price list'!D$5:D$237)*('Detailed price list'!$M$5:$M$237)*('Detailed price list'!$L$5:$L$237=$B225))/SUMIF('Detailed price list'!$L$5:$L$237,$B225,'Detailed price list'!$M$5:$M$237))","v":427.75962353966827},{"$f":"IF(SUMIF('Detailed price list'!$L$5:$L$237,$B225,'Detailed price list'!$M$5:$M$237)=0,0,\nSUMPRODUCT(('Detailed price list'!E$5:E$237)*('Detailed price list'!$M$5:$M$237)*('Detailed price list'!$L$5:$L$237=$B225))/SUMIF('Detailed price list'!$L$5:$L$237,$B225,'Detailed price list'!$M$5:$M$237))","v":440.05625089536812},{"$f":"IF(SUMIF('Detailed price list'!$L$5:$L$237,$B225,'Detailed price list'!$M$5:$M$237)=0,0,\nSUMPRODUCT(('Detailed price list'!F$5:F$237)*('Detailed price list'!$M$5:$M$237)*('Detailed price list'!$L$5:$L$237=$B225))/SUMIF('Detailed price list'!$L$5:$L$237,$B225,'Detailed price list'!$M$5:$M$237))","v":452.70636426518428},{"$f":"IF(SUMIF('Detailed price list'!$L$5:$L$237,$B225,'Detailed price list'!$M$5:$M$237)=0,0,\nSUMPRODUCT(('Detailed price list'!G$5:G$237)*('Detailed price list'!$M$5:$M$237)*('Detailed price list'!$L$5:$L$237=$B225))/SUMIF('Detailed price list'!$L$5:$L$237,$B225,'Detailed price list'!$M$5:$M$237))","v":465.72012516402344},{"$f":"IF(SUMIF('Detailed price list'!$L$5:$L$237,$B225,'Detailed price list'!$M$5:$M$237)=0,0,\nSUMPRODUCT(('Detailed price list'!H$5:H$237)*('Detailed price list'!$M$5:$M$237)*('Detailed price list'!$L$5:$L$237=$B225))/SUMIF('Detailed price list'!$L$5:$L$237,$B225,'Detailed price list'!$M$5:$M$237))","v":479.10798721561974}]
[null,"Support - COLUMN 14M-15M",{"$f":"IF(SUMIF('Detailed price list'!$L$5:$L$237,$B226,'Detailed price list'!$M$5:$M$237)=0,0,\nSUMPRODUCT(('Detailed price list'!D$5:D$237)*('Detailed price list'!$M$5:$M$237)*('Detailed price list'!$L$5:$L$237=$B226))/SUMIF('Detailed price list'!$L$5:$L$237,$B226,'Detailed price list'!$M$5:$M$237))","v":427.75962353966821},{"$f":"IF(SUMIF('Detailed price list'!$L$5:$L$237,$B226,'Detailed price list'!$M$5:$M$237)=0,0,\nSUMPRODUCT(('Detailed price list'!E$5:E$237)*('Detailed price list'!$M$5:$M$237)*('Detailed price list'!$L$5:$L$237=$B226))/SUMIF('Detailed price list'!$L$5:$L$237,$B226,'Detailed price list'!$M$5:$M$237))","v":440.05625089536807},{"$f":"IF(SUMIF('Detailed price list'!$L$5:$L$237,$B226,'Detailed price list'!$M$5:$M$237)=0,0,\nSUMPRODUCT(('Detailed price list'!F$5:F$237)*('Detailed price list'!$M$5:$M$237)*('Detailed price list'!$L$5:$L$237=$B226))/SUMIF('Detailed price list'!$L$5:$L$237,$B226,'Detailed price list'!$M$5:$M$237))","v":452.70636426518428},{"$f":"IF(SUMIF('Detailed price list'!$L$5:$L$237,$B226,'Detailed price list'!$M$5:$M$237)=0,0,\nSUMPRODUCT(('Detailed price list'!G$5:G$237)*('Detailed price list'!$M$5:$M$237)*('Detailed price list'!$L$5:$L$237=$B226))/SUMIF('Detailed price list'!$L$5:$L$237,$B226,'Detailed price list'!$M$5:$M$237))","v":465.72012516402344},{"$f":"IF(SUMIF('Detailed price list'!$L$5:$L$237,$B226,'Detailed price list'!$M$5:$M$237)=0,0,\nSUMPRODUCT(('Detailed price list'!H$5:H$237)*('Detailed price list'!$M$5:$M$237)*('Detailed price list'!$L$5:$L$237=$B226))/SUMIF('Detailed price list'!$L$5:$L$237,$B226,'Detailed price list'!$M$5:$M$237))","v":479.10798721561974}]
[null,"Support - COLUMN 2.5M-3.5M",{"$f":"IF(SUMIF('Detailed price list'!$L$5:$L$237,$B227,'Detailed price list'!$M$5:$M$237)=0,0,\nSUMPRODUCT(('Detailed price list'!D$5:D$237)*('Detailed price list'!$M$5:$M$237)*('Detailed price list'!$L$5:$L$237=$B227))/SUMIF('Detailed price list'!$L$5:$L$237,$B227,'Detailed price list'!$M$5:$M$237))","v":373.98478131522666},{"$f":"IF(SUMIF('Detailed price list'!$L$5:$L$237,$B227,'Detailed price list'!$M$5:$M$237)=0,0,\nSUMPRODUCT(('Detailed price list'!E$5:E$237)*('Detailed price list'!$M$5:$M$237)*('Detailed price list'!$L$5:$L$237=$B227))/SUMIF('Detailed price list'!$L$5:$L$237,$B227,'Detailed price list'!$M$5:$M$237))","v":384.73556572653229},{"$f":"IF(SUMIF('Detailed price list'!$L$5:$L$237,$B227,'Detailed price list'!$M$5:$M$237)=0,0,\nSUMPRODUCT(('Detailed price list'!F$5:F$237)*('Detailed price list'!$M$5:$M$237)*('Detailed price list'!$L$5:$L$237=$B227))/SUMIF('Detailed price list'!$L$5:$L$237,$B227,'Detailed price list'!$M$5:$M$237))","v":395.79539845004973},{"$f":"IF(SUMIF('Detailed price list'!$L$5:$L$237,$B227,'Detailed price list'!$M$5:$M$237)=0,0,\nSUMPRODUCT(('Detailed price list'!G$5:G$237)*('Detailed price list'!$M$5:$M$237)*('Detailed price list'!$L$5:$L$237=$B227))/SUMIF('Detailed price list'!$L$5:$L$237,$B227,'Detailed price list'!$M$5:$M$237))","v":407.17316356861676},{"$f":"IF(SUMIF('Detailed price list'!$L$5:$L$237,$B227,'Detailed price list'!$M$5:$M$237)=0,0,\nSUMPRODUCT(('Detailed price list'!H$5:H$237)*('Detailed price list'!$M$5:$M$237)*('Detailed price list'!$L$5:$L$237=$B227))/SUMIF('Detailed price list'!$L$5:$L$237,$B227,'Detailed price list'!$M$5:$M$237))","v":418.87800055209232}]
[null,"Support - COLUMN 4-6.5M ORION WATE",{"$f":"IF(SUMIF('Detailed price list'!$L$5:$L$237,$B228,'Detailed price list'!$M$5:$M$237)=0,0,\nSUMPRODUCT(('Detailed price list'!D$5:D$237)*('Detailed price list'!$M$5:$M$237)*('Detailed price list'!$L$5:$L$237=$B228))/SUMIF('Detailed price list'!$L$5:$L$237,$B228,'Detailed price list'!$M$5:$M$237))","v":384.52886802590149},{"$f":"IF(SUMIF('Detailed price list'!$L$5:$L$237,$B228,'Detailed price list'!$M$5:$M$237)=0,0,\nSUMPRODUCT(('Detailed price list'!E$5:E$237)*('Detailed price list'!$M$5:$M$237)*('Detailed price list'!$L$5:$L$237=$B228))/SUMIF('Detailed price list'!$L$5:$L$237,$B228,'Detailed price list'!$M$5:$M$237))","v":395.58275889689224},{"$f":"IF(SUMIF('Detailed price list'!$L$5:$L$237,$B228,'Detailed price list'!$M$5:$M$237)=0,0,\nSUMPRODUCT(('Detailed price list'!F$5:F$237)*('Detailed price list'!$M$5:$M$237)*('Detailed price list'!$L$5:$L$237=$B228))/SUMIF('Detailed price list'!$L$5:$L$237,$B228,'Detailed price list'!$M$5:$M$237))","v":406.95441135497805},{"$f":"IF(SUMIF('Detailed price list'!$L$5:$L$237,$B228,'Detailed price list'!$M$5:$M$237)=0,0,\nSUMPRODUCT(('Detailed price list'!G$5:G$237)*('Detailed price list'!$M$5:$M$237)*('Detailed price list'!$L$5:$L$237=$B228))/SUMIF('Detailed price list'!$L$5:$L$237,$B228,'Detailed price list'!$M$5:$M$237))","v":418.65295995987293},{"$f":"IF(SUMIF('Detailed price list'!$L$5:$L$237,$B228,'Detailed price list'!$M$5:$M$237)=0,0,\nSUMPRODUCT(('Detailed price list'!H$5:H$237)*('Detailed price list'!$M$5:$M$237)*('Detailed price list'!$L$5:$L$237=$B228))/SUMIF('Detailed price list'!$L$5:$L$237,$B228,'Detailed price list'!$M$5:$M$237))","v":430.68780185866638}]
[null,"Support - COLUMN 4M-6.5M",{"$f":"IF(SUMIF('Detailed price list'!$L$5:$L$237,$B229,'Detailed price list'!$M$5:$M$237)=0,0,\nSUMPRODUCT(('Detailed price list'!D$5:D$237)*('Detailed price list'!$M$5:$M$237)*('Detailed price list'!$L$5:$L$237=$B229))/SUMIF('Detailed price list'!$L$5:$L$237,$B229,'Detailed price list'!$M$5:$M$237))","v":401.53120784686456},{"$f":"IF(SUMIF('Detailed price list'!$L$5:$L$237,$B229,'Detailed price list'!$M$5:$M$237)=0,0,\nSUMPRODUCT(('Detailed price list'!E$5:E$237)*('Detailed price list'!$M$5:$M$237)*('Detailed price list'!$L$5:$L$237=$B229))/SUMIF('Detailed price list'!$L$5:$L$237,$B229,'Detailed price list'!$M$5:$M$237))","v":413.07385788409761},{"$f":"IF(SUMIF('Detailed price list'!$L$5:$L$237,$B229,'Detailed price list'!$M$5:$M$237)=0,0,\nSUMPRODUCT(('Detailed price list'!F$5:F$237)*('Detailed price list'!$M$5:$M$237)*('Detailed price list'!$L$5:$L$237=$B229))/SUMIF('Detailed price list'!$L$5:$L$237,$B229,'Detailed price list'!$M$5:$M$237))","v":424.94831966417496},{"$f":"IF(SUMIF('Detailed price list'!$L$5:$L$237,$B229,'Detailed price list'!$M$5:$M$237)=0,0,\nSUMPRODUCT(('Detailed price list'!G$5:G$237)*('Detailed price list'!$M$5:$M$237)*('Detailed price list'!$L$5:$L$237=$B229))/SUMIF('Detailed price list'!$L$5:$L$237,$B229,'Detailed price list'!$M$5:$M$237))","v":437.16413164077352},{"$f":"IF(SUMIF('Detailed price list'!$L$5:$L$237,$B229,'Detailed price list'!$M$5:$M$237)=0,0,\nSUMPRODUCT(('Detailed price list'!H$5:H$237)*('Detailed price list'!$M$5:$M$237)*('Detailed price list'!$L$5:$L$237=$B229))/SUMIF('Detailed price list'!$L$5:$L$237,$B229,'Detailed price list'!$M$5:$M$237))","v":449.73110646551686}]
[null,"Support - COLUMN 7M-10M",{"$f":"IF(SUMIF('Detailed price list'!$L$5:$L$237,$B230,'Detailed price list'!$M$5:$M$237)=0,0,\nSUMPRODUCT(('Detailed price list'!D$5:D$237)*('Detailed price list'!$M$5:$M$237)*('Detailed price list'!$L$5:$L$237=$B230))/SUMIF('Detailed price list'!$L$5:$L$237,$B230,'Detailed price list'!$M$5:$M$237))","v":392.9641373944412},{"$f":"IF(SUMIF('Detailed price list'!$L$5:$L$237,$B230,'Detailed price list'!$M$5:$M$237)=0,0,\nSUMPRODUCT(('Detailed price list'!E$5:E$237)*('Detailed price list'!$M$5:$M$237)*('Detailed price list'!$L$5:$L$237=$B230))/SUMIF('Detailed price list'!$L$5:$L$237,$B230,'Detailed price list'!$M$5:$M$237))","v":404.26051343318011},{"$f":"IF(SUMIF('Detailed price list'!$L$5:$L$237,$B230,'Detailed price list'!$M$5:$M$237)=0,0,\nSUMPRODUCT(('Detailed price list'!F$5:F$237)*('Detailed price list'!$M$5:$M$237)*('Detailed price list'!$L$5:$L$237=$B230))/SUMIF('Detailed price list'!$L$5:$L$237,$B230,'Detailed price list'!$M$5:$M$237))","v":415.88162167892062},{"$f":"IF(SUMIF('Detailed price list'!$L$5:$L$237,$B230,'Detailed price list'!$M$5:$M$237)=0,0,\nSUMPRODUCT(('Detailed price list'!G$5:G$237)*('Detailed price list'!$M$5:$M$237)*('Detailed price list'!$L$5:$L$237=$B230))/SUMIF('Detailed price list'!$L$5:$L$237,$B230,'Detailed price list'!$M$5:$M$237))","v":427.83679707287774},{"$f":"IF(SUMIF('Detailed price list'!$L$5:$L$237,$B230,'Detailed price list'!$M$5:$M$237)=0,0,\nSUMPRODUCT(('Detailed price list'!H$5:H$237)*('Detailed price list'!$M$5:$M$237)*('Detailed price list'!$L$5:$L$237=$B230))/SUMIF('Detailed price list'!$L$5:$L$237,$B230,'Detailed price list'!$M$5:$M$237))","v":440.13564290392532}]
[null,"Support - DECORATIVE COLUMN",{"$f":"IF(SUMIF('Detailed price list'!$L$5:$L$237,$B231,'Detailed price list'!$M$5:$M$237)=0,0,\nSUMPRODUCT(('Detailed price list'!D$5:D$237)*('Detailed price list'!$M$5:$M$237)*('Detailed price list'!$L$5:$L$237=$B231))/SUMIF('Detailed price list'!$L$5:$L$237,$B231,'Detailed price list'!$M$5:$M$237))","v":412.47069780918969},{"$f":"IF(SUMIF('Detailed price list'!$L$5:$L$237,$B231,'Detailed price list'!$M$5:$M$237)=0,0,\nSUMPRODUCT(('Detailed price list'!E$5:E$237)*('Detailed price list'!$M$5:$M$237)*('Detailed price list'!$L$5:$L$237=$B231))/SUMIF('Detailed price list'!$L$5:$L$237,$B231,'Detailed price list'!$M$5:$M$237))","v":424.32782079834607},{"$f":"IF(SUMIF('Detailed price list'!$L$5:$L$237,$B231,'Detailed price list'!$M$5:$M$237)=0,0,\nSUMPRODUCT(('Detailed price list'!F$5:F$237)*('Detailed price list'!$M$5:$M$237)*('Detailed price list'!$L$5:$L$237=$B231))/SUMIF('Detailed price list'!$L$5:$L$237,$B231,'Detailed price list'!$M$5:$M$237))","v":436.52579555303811},{"$f":"IF(SUMIF('Detailed price list'!$L$5:$L$237,$B231,'Detailed price list'!$M$5:$M$237)=0,0,\nSUMPRODUCT(('Detailed price list'!G$5:G$237)*('Detailed price list'!$M$5:$M$237)*('Detailed price list'!$L$5:$L$237=$B231))/SUMIF('Detailed price list'!$L$5:$L$237,$B231,'Detailed price list'!$M$5:$M$237))","v":449.07442039670184},{"$f":"IF(SUMIF('Detailed price list'!$L$5:$L$237,$B231,'Detailed price list'!$M$5:$M$237)=0,0,\nSUMPRODUCT(('Detailed price list'!H$5:H$237)*('Detailed price list'!$M$5:$M$237)*('Detailed price list'!$L$5:$L$237=$B231))/SUMIF('Detailed price list'!$L$5:$L$237,$B231,'Detailed price list'!$M$5:$M$237))","v":461.98377532108742}]
[null,"Support - DEDICATED SUPPORT & COND",{"$f":"IF(SUMIF('Detailed price list'!$L$5:$L$237,$B232,'Detailed price list'!$M$5:$M$237)=0,0,\nSUMPRODUCT(('Detailed price list'!D$5:D$237)*('Detailed price list'!$M$5:$M$237)*('Detailed price list'!$L$5:$L$237=$B232))/SUMIF('Detailed price list'!$L$5:$L$237,$B232,'Detailed price list'!$M$5:$M$237))","v":381.49744309658246},{"$f":"IF(SUMIF('Detailed price list'!$L$5:$L$237,$B232,'Detailed price list'!$M$5:$M$237)=0,0,\nSUMPRODUCT(('Detailed price list'!E$5:E$237)*('Detailed price list'!$M$5:$M$237)*('Detailed price list'!$L$5:$L$237=$B232))/SUMIF('Detailed price list'!$L$5:$L$237,$B232,'Detailed price list'!$M$5:$M$237))","v":392.46419086041379},{"$f":"IF(SUMIF('Detailed price list'!$L$5:$L$237,$B232,'Detailed price list'!$M$5:$M$237)=0,0,\nSUMPRODUCT(('Detailed price list'!F$5:F$237)*('Detailed price list'!$M$5:$M$237)*('Detailed price list'!$L$5:$L$237=$B232))/SUMIF('Detailed price list'!$L$5:$L$237,$B232,'Detailed price list'!$M$5:$M$237))","v":403.74619514481117},{"$f":"IF(SUMIF('Detailed price list'!$L$5:$L$237,$B232,'Detailed price list'!$M$5:$M$237)=0,0,\nSUMPRODUCT(('Detailed price list'!G$5:G$237)*('Detailed price list'!$M$5:$M$237)*('Detailed price list'!$L$5:$L$237=$B232))/SUMIF('Detailed price list'!$L$5:$L$237,$B232,'Detailed price list'!$M$5:$M$237))","v":415.35251849738671},{"$f":"IF(SUMIF('Detailed price list'!$L$5:$L$237,$B232,'Detailed price list'!$M$5:$M$237)=0,0,\nSUMPRODUCT(('Detailed price list'!H$5:H$237)*('Detailed price list'!$M$5:$M$237)*('Detailed price list'!$L$5:$L$237=$B232))/SUMIF('Detailed price list'!$L$5:$L$237,$B232,'Detailed price list'!$M$5:$M$237))","v":427.29248398302627}]
[null,"Support - MACQUARIE STANDARD",{"$f":"IF(SUMIF('Detailed price list'!$L$5:$L$237,$B233,'Detailed price list'!$M$5:$M$237)=0,0,\nSUMPRODUCT(('Detailed price list'!D$5:D$237)*('Detailed price list'!$M$5:$M$237)*('Detailed price list'!$L$5:$L$237=$B233))/SUMIF('Detailed price list'!$L$5:$L$237,$B233,'Detailed price list'!$M$5:$M$237))","v":376.75260407677877},{"$f":"IF(SUMIF('Detailed price list'!$L$5:$L$237,$B233,'Detailed price list'!$M$5:$M$237)=0,0,\nSUMPRODUCT(('Detailed price list'!E$5:E$237)*('Detailed price list'!$M$5:$M$237)*('Detailed price list'!$L$5:$L$237=$B233))/SUMIF('Detailed price list'!$L$5:$L$237,$B233,'Detailed price list'!$M$5:$M$237))","v":387.5829539337517},{"$f":"IF(SUMIF('Detailed price list'!$L$5:$L$237,$B233,'Detailed price list'!$M$5:$M$237)=0,0,\nSUMPRODUCT(('Detailed price list'!F$5:F$237)*('Detailed price list'!$M$5:$M$237)*('Detailed price list'!$L$5:$L$237=$B233))/SUMIF('Detailed price list'!$L$5:$L$237,$B233,'Detailed price list'!$M$5:$M$237))","v":398.72463933759337},{"$f":"IF(SUMIF('Detailed price list'!$L$5:$L$237,$B233,'Detailed price list'!$M$5:$M$237)=0,0,\nSUMPRODUCT(('Detailed price list'!G$5:G$237)*('Detailed price list'!$M$5:$M$237)*('Detailed price list'!$L$5:$L$237=$B233))/SUMIF('Detailed price list'!$L$5:$L$237,$B233,'Detailed price list'!$M$5:$M$237))","v":410.18661012132145},{"$f":"IF(SUMIF('Detailed price list'!$L$5:$L$237,$B233,'Detailed price list'!$M$5:$M$237)=0,0,\nSUMPRODUCT(('Detailed price list'!H$5:H$237)*('Detailed price list'!$M$5:$M$237)*('Detailed price list'!$L$5:$L$237=$B233))/SUMIF('Detailed price list'!$L$5:$L$237,$B233,'Detailed price list'!$M$5:$M$237))","v":421.97807339506795}]
[null,"Support - MAST 15.5M-30M",{"$f":"IF(SUMIF('Detailed price list'!$L$5:$L$237,$B234,'Detailed price list'!$M$5:$M$237)=0,0,\nSUMPRODUCT(('Detailed price list'!D$5:D$237)*('Detailed price list'!$M$5:$M$237)*('Detailed price list'!$L$5:$L$237=$B234))/SUMIF('Detailed price list'!$L$5:$L$237,$B234,'Detailed price list'!$M$5:$M$237))","v":398.49978291754559},{"$f":"IF(SUMIF('Detailed price list'!$L$5:$L$237,$B234,'Detailed price list'!$M$5:$M$237)=0,0,\nSUMPRODUCT(('Detailed price list'!E$5:E$237)*('Detailed price list'!$M$5:$M$237)*('Detailed price list'!$L$5:$L$237=$B234))/SUMIF('Detailed price list'!$L$5:$L$237,$B234,'Detailed price list'!$M$5:$M$237))","v":409.95528984761916},{"$f":"IF(SUMIF('Detailed price list'!$L$5:$L$237,$B234,'Detailed price list'!$M$5:$M$237)=0,0,\nSUMPRODUCT(('Detailed price list'!F$5:F$237)*('Detailed price list'!$M$5:$M$237)*('Detailed price list'!$L$5:$L$237=$B234))/SUMIF('Detailed price list'!$L$5:$L$237,$B234,'Detailed price list'!$M$5:$M$237))","v":421.74010345400808},{"$f":"IF(SUMIF('Detailed price list'!$L$5:$L$237,$B234,'Detailed price list'!$M$5:$M$237)=0,0,\nSUMPRODUCT(('Detailed price list'!G$5:G$237)*('Detailed price list'!$M$5:$M$237)*('Detailed price list'!$L$5:$L$237=$B234))/SUMIF('Detailed price list'!$L$5:$L$237,$B234,'Detailed price list'!$M$5:$M$237))","v":433.86369017828741},{"$f":"IF(SUMIF('Detailed price list'!$L$5:$L$237,$B234,'Detailed price list'!$M$5:$M$237)=0,0,\nSUMPRODUCT(('Detailed price list'!H$5:H$237)*('Detailed price list'!$M$5:$M$237)*('Detailed price list'!$L$5:$L$237=$B234))/SUMIF('Detailed price list'!$L$5:$L$237,$B234,'Detailed price list'!$M$5:$M$237))","v":446.33578858987681}]
[null,"Support - ORION DOUBLE ARM",{"$f":"IF(SUMIF('Detailed price list'!$L$5:$L$237,$B235,'Detailed price list'!$M$5:$M$237)=0,0,\nSUMPRODUCT(('Detailed price list'!D$5:D$237)*('Detailed price list'!$M$5:$M$237)*('Detailed price list'!$L$5:$L$237=$B235))/SUMIF('Detailed price list'!$L$5:$L$237,$B235,'Detailed price list'!$M$5:$M$237))","v":365.79795698980701},{"$f":"IF(SUMIF('Detailed price list'!$L$5:$L$237,$B235,'Detailed price list'!$M$5:$M$237)=0,0,\nSUMPRODUCT(('Detailed price list'!E$5:E$237)*('Detailed price list'!$M$5:$M$237)*('Detailed price list'!$L$5:$L$237=$B235))/SUMIF('Detailed price list'!$L$5:$L$237,$B235,'Detailed price list'!$M$5:$M$237))","v":376.31339817932093},{"$f":"IF(SUMIF('Detailed price list'!$L$5:$L$237,$B235,'Detailed price list'!$M$5:$M$237)=0,0,\nSUMPRODUCT(('Detailed price list'!F$5:F$237)*('Detailed price list'!$M$5:$M$237)*('Detailed price list'!$L$5:$L$237=$B235))/SUMIF('Detailed price list'!$L$5:$L$237,$B235,'Detailed price list'!$M$5:$M$237))","v":387.13112236767944},{"$f":"IF(SUMIF('Detailed price list'!$L$5:$L$237,$B235,'Detailed price list'!$M$5:$M$237)=0,0,\nSUMPRODUCT(('Detailed price list'!G$5:G$237)*('Detailed price list'!$M$5:$M$237)*('Detailed price list'!$L$5:$L$237=$B235))/SUMIF('Detailed price list'!$L$5:$L$237,$B235,'Detailed price list'!$M$5:$M$237))","v":398.25981915808075},{"$f":"IF(SUMIF('Detailed price list'!$L$5:$L$237,$B235,'Detailed price list'!$M$5:$M$237)=0,0,\nSUMPRODUCT(('Detailed price list'!H$5:H$237)*('Detailed price list'!$M$5:$M$237)*('Detailed price list'!$L$5:$L$237=$B235))/SUMIF('Detailed price list'!$L$5:$L$237,$B235,'Detailed price list'!$M$5:$M$237))","v":409.70842795011924}]
[null,"Support - POLO 10.5M DECORATIVE 2M",{"$f":"IF(SUMIF('Detailed price list'!$L$5:$L$237,$B236,'Detailed price list'!$M$5:$M$237)=0,0,\nSUMPRODUCT(('Detailed price list'!D$5:D$237)*('Detailed price list'!$M$5:$M$237)*('Detailed price list'!$L$5:$L$237=$B236))/SUMIF('Detailed price list'!$L$5:$L$237,$B236,'Detailed price list'!$M$5:$M$237))","v":388.7465027101714},{"$f":"IF(SUMIF('Detailed price list'!$L$5:$L$237,$B236,'Detailed price list'!$M$5:$M$237)=0,0,\nSUMPRODUCT(('Detailed price list'!E$5:E$237)*('Detailed price list'!$M$5:$M$237)*('Detailed price list'!$L$5:$L$237=$B236))/SUMIF('Detailed price list'!$L$5:$L$237,$B236,'Detailed price list'!$M$5:$M$237))","v":399.9216361650362},{"$f":"IF(SUMIF('Detailed price list'!$L$5:$L$237,$B236,'Detailed price list'!$M$5:$M$237)=0,0,\nSUMPRODUCT(('Detailed price list'!F$5:F$237)*('Detailed price list'!$M$5:$M$237)*('Detailed price list'!$L$5:$L$237=$B236))/SUMIF('Detailed price list'!$L$5:$L$237,$B236,'Detailed price list'!$M$5:$M$237))","v":411.41801651694931},{"$f":"IF(SUMIF('Detailed price list'!$L$5:$L$237,$B236,'Detailed price list'!$M$5:$M$237)=0,0,\nSUMPRODUCT(('Detailed price list'!G$5:G$237)*('Detailed price list'!$M$5:$M$237)*('Detailed price list'!$L$5:$L$237=$B236))/SUMIF('Detailed price list'!$L$5:$L$237,$B236,'Detailed price list'!$M$5:$M$237))","v":423.24487851637531},{"$f":"IF(SUMIF('Detailed price list'!$L$5:$L$237,$B236,'Detailed price list'!$M$5:$M$237)=0,0,\nSUMPRODUCT(('Detailed price list'!H$5:H$237)*('Detailed price list'!$M$5:$M$237)*('Detailed price list'!$L$5:$L$237=$B236))/SUMIF('Detailed price list'!$L$5:$L$237,$B236,'Detailed price list'!$M$5:$M$237))","v":435.41172238129582}]
[null,"Support - ROCKS STANDARD",{"$f":"IF(SUMIF('Detailed price list'!$L$5:$L$237,$B237,'Detailed price list'!$M$5:$M$237)=0,0,\nSUMPRODUCT(('Detailed price list'!D$5:D$237)*('Detailed price list'!$M$5:$M$237)*('Detailed price list'!$L$5:$L$237=$B237))/SUMIF('Detailed price list'!$L$5:$L$237,$B237,'Detailed price list'!$M$5:$M$237))","v":390.47111989278602},{"$f":"IF(SUMIF('Detailed price list'!$L$5:$L$237,$B237,'Detailed price list'!$M$5:$M$237)=0,0,\nSUMPRODUCT(('Detailed price list'!E$5:E$237)*('Detailed price list'!$M$5:$M$237)*('Detailed price list'!$L$5:$L$237=$B237))/SUMIF('Detailed price list'!$L$5:$L$237,$B237,'Detailed price list'!$M$5:$M$237))","v":401.69583019796323},{"$f":"IF(SUMIF('Detailed price list'!$L$5:$L$237,$B237,'Detailed price list'!$M$5:$M$237)=0,0,\nSUMPRODUCT(('Detailed price list'!F$5:F$237)*('Detailed price list'!$M$5:$M$237)*('Detailed price list'!$L$5:$L$237=$B237))/SUMIF('Detailed price list'!$L$5:$L$237,$B237,'Detailed price list'!$M$5:$M$237))","v":413.24321256521171},{"$f":"IF(SUMIF('Detailed price list'!$L$5:$L$237,$B237,'Detailed price list'!$M$5:$M$237)=0,0,\nSUMPRODUCT(('Detailed price list'!G$5:G$237)*('Detailed price list'!$M$5:$M$237)*('Detailed price list'!$L$5:$L$237=$B237))/SUMIF('Detailed price list'!$L$5:$L$237,$B237,'Detailed price list'!$M$5:$M$237))","v":425.12254271362025},{"$f":"IF(SUMIF('Detailed price list'!$L$5:$L$237,$B237,'Detailed price list'!$M$5:$M$237)=0,0,\nSUMPRODUCT(('Detailed price list'!H$5:H$237)*('Detailed price list'!$M$5:$M$237)*('Detailed price list'!$L$5:$L$237=$B237))/SUMIF('Detailed price list'!$L$5:$L$237,$B237,'Detailed price list'!$M$5:$M$237))","v":437.34336300750243}]

{"sheet":"Revenue summary","index":7,"n_rows":40,"n_cols":16,"rows_kept":40,"cut":false,"hidden":false,"merged":[]}
[null,"Forecast public lighting revenue by charge type - nominal and real FY24"]
[null,"This worksheet displays the total forecast public lighting revenue (both nominal and real) by category derived from the post July 2009 capital and maintenance charges multiplied by forecast volumes"]
[]
[]
[null,null,"Nominal $",null,null,null,null,null,null,"Nominal $m"]
[null,"Categories","FY24","FY25","FY26","FY27","FY28","FY29",null,"FY24","FY25","FY26","FY27","FY28","FY29","FY25-29 Total"]
[null,"Opex - Connections",{"$f":"SUMPRODUCT(('Detailed price list'!$C$5:$C$64=$B7)*('O_OPEX Tariff Summary'!AM$5:AM$64))","v":3755716.7539950507},{"$f":"SUMPRODUCT(('Detailed price list'!$C$5:$C$64=$B7)*('O_OPEX Tariff Summary'!AN$5:AN$64))","v":3925119.5197968506},{"$f":"SUMPRODUCT(('Detailed price list'!$C$5:$C$64=$B7)*('O_OPEX Tariff Summary'!AO$5:AO$64))","v":4053814.8969208654},{"$f":"SUMPRODUCT(('Detailed price list'!$C$5:$C$64=$B7)*('O_OPEX Tariff Summary'!AP$5:AP$64))","v":4186665.7932617199},{"$f":"SUMPRODUCT(('Detailed price list'!$C$5:$C$64=$B7)*('O_OPEX Tariff Summary'!AQ$5:AQ$64))","v":4323804.773286799},{"$f":"SUMPRODUCT(('Detailed price list'!$C$5:$C$64=$B7)*('O_OPEX Tariff Summary'!AR$5:AR$64))","v":4465368.5890344698},null,{"$f":"+C7/1000000","v":3.7557167539950509},{"$f":"+D7/1000000","v":3.9251195197968505},{"$f":"+E7/1000000","v":4.0538148969208656},{"$f":"+F7/1000000","v":4.1866657932617199},{"$f":"+G7/1000000","v":4.323804773286799},{"$f":"+H7/1000000","v":4.4653685890344699},{"$f":"SUM(K7:O7)","v":20.954773572300702}]
[null,"Opex - Maintenance- Smart controller",{"$f":"SUMPRODUCT(('Detailed price list'!$C$5:$C$64=$B8)*('O_OPEX Tariff Summary'!AM$5:AM$64))","v":104062.47059154927},{"$f":"SUMPRODUCT(('Detailed price list'!$C$5:$C$64=$B8)*('O_OPEX Tariff Summary'!AN$5:AN$64))","v":241520.46453228159},{"$f":"SUMPRODUCT(('Detailed price list'!$C$5:$C$64=$B8)*('O_OPEX Tariff Summary'!AO$5:AO$64))","v":359601.98446566035},{"$f":"SUMPRODUCT(('Detailed price list'!$C$5:$C$64=$B8)*('O_OPEX Tariff Summary'!AP$5:AP$64))","v":416925.67747340706},{"$f":"SUMPRODUCT(('Detailed price list'!$C$5:$C$64=$B8)*('O_OPEX Tariff Summary'!AQ$5:AQ$64))","v":441800.74917634367},{"$f":"SUMPRODUCT(('Detailed price list'!$C$5:$C$64=$B8)*('O_OPEX Tariff Summary'!AR$5:AR$64))","v":457816.11675190361},null,{"$f":"+C8/1000000","v":0.10406247059154927},0.2415204645322816,0.35960198446566033,0.41692567747340709,0.44180074917634365,0.45781611675190359,1.9176649923995961]
[null,"Opex - Maintenance- Traditional Luminaire",{"$f":"SUMPRODUCT(('Detailed price list'!$C$5:$C$64=$B9)*('O_OPEX Tariff Summary'!AM$5:AM$64))","v":2637948.4960597442},{"$f":"SUMPRODUCT(('Detailed price list'!$C$5:$C$64=$B9)*('O_OPEX Tariff Summary'!AN$5:AN$64))","v":1851357.876657672},{"$f":"SUMPRODUCT(('Detailed price list'!$C$5:$C$64=$B9)*('O_OPEX Tariff Summary'!AO$5:AO$64))","v":947492.33662659093},{"$f":"SUMPRODUCT(('Detailed price list'!$C$5:$C$64=$B9)*('O_OPEX Tariff Summary'!AP$5:AP$64))","v":425998.6735800489},{"$f":"SUMPRODUCT(('Detailed price list'!$C$5:$C$64=$B9)*('O_OPEX Tariff Summary'!AQ$5:AQ$64))","v":360891.1968855664},{"$f":"SUMPRODUCT(('Detailed price list'!$C$5:$C$64=$B9)*('O_OPEX Tariff Summary'!AR$5:AR$64))","v":331477.01997089054},null,2.6379484960597441,1.8513578766576719,0.94749233662659094,0.42599867358004889,0.36089119688556642,0.33147701997089052,3.9172171037207688]
[null,"Opex - Maintenance- LED Luminaire",{"$f":"SUMPRODUCT(('Detailed price list'!$C$5:$C$64=$B10)*('O_OPEX Tariff Summary'!AM$5:AM$64))","v":4765200.5660238201},{"$f":"SUMPRODUCT(('Detailed price list'!$C$5:$C$64=$B10)*('O_OPEX Tariff Summary'!AN$5:AN$64))","v":5307585.0517701739},{"$f":"SUMPRODUCT(('Detailed price list'!$C$5:$C$64=$B10)*('O_OPEX Tariff Summary'!AO$5:AO$64))","v":5787287.4651057106},{"$f":"SUMPRODUCT(('Detailed price list'!$C$5:$C$64=$B10)*('O_OPEX Tariff Summary'!AP$5:AP$64))","v":6252572.5955285067},{"$f":"SUMPRODUCT(('Detailed price list'!$C$5:$C$64=$B10)*('O_OPEX Tariff Summary'!AQ$5:AQ$64))","v":6488443.1288547246},{"$f":"SUMPRODUCT(('Detailed price list'!$C$5:$C$64=$B10)*('O_OPEX Tariff Summary'!AR$5:AR$64))","v":6722792.2336911289},null,4.7652005660238199,5.3075850517701744,5.7872874651057105,6.2525725955285063,6.4884431288547244,6.7227922336911288,30.558680474950243]
[null,"Total Maintenance",{"$f":"+C7+C8+C9+C10","v":11262928.286670163},{"$f":"+D7+D8+D9+D10","v":11325582.912756979},11148196.683118828,11282162.739843681,11614939.848203434,11977453.959448393,null,11.262928286670164,11.32558291275698,11.148196683118828,11.282162739843681,11.614939848203434,11.977453959448393,57.348336143371313]
[null,"Capital - Bracket",{"$f":"SUMPRODUCT(('Detailed price list'!$C$65:$C$237=$B12)*('C_CAPEX Build Up'!AT$15:AT$187))","v":481271.97831550188},{"$f":"SUMPRODUCT(('Detailed price list'!$C$65:$C$237=$B12)*('C_CAPEX Build Up'!AU$15:AU$187))","v":510298.74242048},{"$f":"SUMPRODUCT(('Detailed price list'!$C$65:$C$237=$B12)*('C_CAPEX Build Up'!AV$15:AV$187))","v":535793.31923699053},{"$f":"SUMPRODUCT(('Detailed price list'!$C$65:$C$237=$B12)*('C_CAPEX Build Up'!AW$15:AW$187))","v":562372.55105609319},{"$f":"SUMPRODUCT(('Detailed price list'!$C$65:$C$237=$B12)*('C_CAPEX Build Up'!AX$15:AX$187))","v":590131.78191335406},{"$f":"SUMPRODUCT(('Detailed price list'!$C$65:$C$237=$B12)*('C_CAPEX Build Up'!AY$15:AY$187))","v":619090.9756516054},null,0.48127197831550189,0.51029874242048001,0.53579331923699058,0.56237255105609318,0.59013178191335403,0.61909097565160542,2.8176873702785228]
[null,"Capital - Traditional Luminaire",{"$f":"SUMPRODUCT(('Detailed price list'!$C$65:$C$237=$B13)*('C_CAPEX Build Up'!AT$15:AT$187))","v":1219658.9469626364},{"$f":"SUMPRODUCT(('Detailed price list'!$C$65:$C$237=$B13)*('C_CAPEX Build Up'!AU$15:AU$187))","v":828863.53664864087},{"$f":"SUMPRODUCT(('Detailed price list'!$C$65:$C$237=$B13)*('C_CAPEX Build Up'!AV$15:AV$187))","v":376435.06480449368},{"$f":"SUMPRODUCT(('Detailed price list'!$C$65:$C$237=$B13)*('C_CAPEX Build Up'!AW$15:AW$187))","v":107127.05995836355},{"$f":"SUMPRODUCT(('Detailed price list'!$C$65:$C$237=$B13)*('C_CAPEX Build Up'!AX$15:AX$187))","v":61984.258519778152},{"$f":"SUMPRODUCT(('Detailed price list'!$C$65:$C$237=$B13)*('C_CAPEX Build Up'!AY$15:AY$187))","v":38961.811253053325},null,1.2196589469626364,0.82886353664864088,0.37643506480449368,0.10712705995836355,6.1984258519778151E-2,3.8961811253053327E-2,1.4133717311843297]
[null,"Capital - LED Luminaire",{"$f":"SUMPRODUCT(('Detailed price list'!$C$65:$C$237=$B14)*('C_CAPEX Build Up'!AT$15:AT$187))","v":7536833.136902879},{"$f":"SUMPRODUCT(('Detailed price list'!$C$65:$C$237=$B14)*('C_CAPEX Build Up'!AU$15:AU$187))","v":9405713.7823436521},{"$f":"SUMPRODUCT(('Detailed price list'!$C$65:$C$237=$B14)*('C_CAPEX Build Up'!AV$15:AV$187))","v":11193171.617311085},{"$f":"SUMPRODUCT(('Detailed price list'!$C$65:$C$237=$B14)*('C_CAPEX Build Up'!AW$15:AW$187))","v":12254484.423551943},{"$f":"SUMPRODUCT(('Detailed price list'!$C$65:$C$237=$B14)*('C_CAPEX Build Up'!AX$15:AX$187))","v":12544084.770344075},{"$f":"SUMPRODUCT(('Detailed price list'!$C$65:$C$237=$B14)*('C_CAPEX Build Up'!AY$15:AY$187))","v":12756493.246755548},null,7.5368331369028789,9.4057137823436516,11.193171617311085,12.254484423551943,12.544084770344075,12.756493246755548,58.153947840306294]
[null,"Capital - Smart Controller",{"$f":"SUMPRODUCT(('Detailed price list'!$C$65:$C$237=$B15)*('C_CAPEX Build Up'!AT$15:AT$187))","v":598268.49352055229},{"$f":"SUMPRODUCT(('Detailed price list'!$C$65:$C$237=$B15)*('C_CAPEX Build Up'!AU$15:AU$187))","v":1086266.7884128115},{"$f":"SUMPRODUCT(('Detailed price list'!$C$65:$C$237=$B15)*('C_CAPEX Build Up'!AV$15:AV$187))","v":1504224.8960500327},{"$f":"SUMPRODUCT(('Detailed price list'!$C$65:$C$237=$B15)*('C_CAPEX Build Up'!AW$15:AW$187))","v":1710965.7540220739},{"$f":"SUMPRODUCT(('Detailed price list'!$C$65:$C$237=$B15)*('C_CAPEX Build Up'!AX$15:AX$187))","v":1805003.3952296926},{"$f":"SUMPRODUCT(('Detailed price list'!$C$65:$C$237=$B15)*('C_CAPEX Build Up'!AY$15:AY$187))","v":1868426.7243662039},null,0.59826849352055234,1.0862667884128114,1.5042248960500326,1.710965754022074,1.8050033952296927,1.8684267243662038,7.9748875580808143]
[null,"Capital - Support",{"$f":"SUMPRODUCT(('Detailed price list'!$C$65:$C$237=$B16)*('C_CAPEX Build Up'!AT$15:AT$187))","v":3402434.7067799135},{"$f":"SUMPRODUCT(('Detailed price list'!$C$65:$C$237=$B16)*('C_CAPEX Build Up'!AU$15:AU$187))","v":3663112.5137891355},{"$f":"SUMPRODUCT(('Detailed price list'!$C$65:$C$237=$B16)*('C_CAPEX Build Up'!AV$15:AV$187))","v":3892972.6487752283},{"$f":"SUMPRODUCT(('Detailed price list'!$C$65:$C$237=$B16)*('C_CAPEX Build Up'!AW$15:AW$187))","v":4132914.8617212586},{"$f":"SUMPRODUCT(('Detailed price list'!$C$65:$C$237=$B16)*('C_CAPEX Build Up'!AX$15:AX$187))","v":4383536.8849689392},{"$f":"SUMPRODUCT(('Detailed price list'!$C$65:$C$237=$B16)*('C_CAPEX Build Up'!AY$15:AY$187))","v":4645257.3807361554},null,3.4024347067799137,3.6631125137891356,3.8929726487752281,4.1329148617212583,4.3835368849689393,4.6452573807361555,20.717794289990717]
[null,"Total Capital",{"$f":"SUM(C12:C16)","v":13238467.262481485},{"$f":"SUM(D12:D16)","v":15494255.363614721},17502597.546177831,18767864.650309734,19384741.09097584,19928230.138762563,null,13.238467262481485,15.494255363614721,17.502597546177832,18.767864650309733,19.38474109097584,19.928230138762565,91.077688789840693]
[null,"Total Nominal Revenue Forecast",{"$f":"+C11+C17","v":24501395.549151648},{"$f":"+D11+D17","v":26819838.276371703},28650794.229296658,30050027.390153416,30999680.939179271,31905684.098210957,null,24.501395549151649,26.819838276371701,28.650794229296658,30.050027390153417,30.999680939179271,31.905684098210958,148.42602493321201]
[]
[null,"Opex Build Up",{"$f":"'O_OPEX Tariff Summary'!AM139","v":11262928.286670165},{"$f":"'O_OPEX Tariff Summary'!AN139","v":11325582.912756978},{"$f":"'O_OPEX Tariff Summary'!AO139","v":11148196.683118828},{"$f":"'O_OPEX Tariff Summary'!AP139","v":11282162.739843683},{"$f":"'O_OPEX Tariff Summary'!AQ139","v":11614939.848203434},{"$f":"'O_OPEX Tariff Summary'!AR139","v":11977453.959448393}]
[null,"Capex Build Up",{"$f":"'C_CAPEX Build Up'!AT190","v":13238467.26248149},{"$f":"'C_CAPEX Build Up'!AU190","v":15494255.363614719},{"$f":"'C_CAPEX Build Up'!AV190","v":17502597.546177831},{"$f":"'C_CAPEX Build Up'!AW190","v":18767864.65030973},{"$f":"'C_CAPEX Build Up'!AX190","v":19384741.09097584},{"$f":"'C_CAPEX Build Up'!AY190","v":19928230.138762567}]
[null,"Total",{"$f":"SUM(C20:C21)","v":24501395.549151655},{"$f":"SUM(D20:D21)","v":26819838.276371695},{"$f":"SUM(E20:E21)","v":28650794.229296658},30050027.390153416,30999680.939179271,31905684.098210961]
[null,"Check",{"$f":"IF(ROUND(C22-C18,4)=0,\"Ok\",\"Check\")","v":"Ok"},"Ok","Ok","Ok","Ok","Ok"]
[]
[null,"CPI escalation",null,2.8746582610921667E-2,2.8746582610921667E-2,2.8746582610921667E-2,2.8746582610921667E-2,2.8746582610921667E-2]
[null,"Index",1,{"$f":"+C26/(1+D25)","v":0.97205669200089695},{"$f":"+D26/(1+E25)","v":0.94489421246372662},{"$f":"+E26/(1+F25)","v":0.91849074245828277},{"$f":"+F26/(1+G25)","v":0.89282507274744616},{"$f":"+G26/(1+H25)","v":0.86787658675034274}]
[null,null,"Real $, FY24",null,null,null,null,null,null,"Real $m, FY24"]
[null,"Categories","FY24","FY25","FY26","FY27","FY28","FY29",null,"FY24","FY25","FY26","FY27","FY28","FY29","FY25-29 Total"]
[null,"Opex - Connections",{"$f":"+C7*C$26","v":3755716.7539950507},{"$f":"+D7*D$26","v":3815438.6961218757},{"$f":"+E7*E$26","v":3830426.2344997642},3845413.7728776527,3860401.3112555412,3875388.8496334297,null,{"$f":"+C29/1000000","v":3.7557167539950509},{"$f":"+D29/1000000","v":3.8154386961218756},{"$f":"+E29/1000000","v":3.8304262344997642},{"$f":"+F29/1000000","v":3.8454137728776527},{"$f":"+G29/1000000","v":3.8604013112555413},{"$f":"+H29/1000000","v":3.8753888496334294},{"$f":"SUM(K29:O29)","v":19.227068864388265}]
[null,"Opex - Maintenance- Smart controller",{"$f":"+C8*C$26","v":104062.47059154927},234771.58380376961,339785.8339120734,382942.37505247217,394450.78602324525,397327.88876593852,null,{"$f":"+C30/1000000","v":0.10406247059154927},{"$f":"+D30/1000000","v":0.23477158380376961},0.3397858339120734,0.38294237505247219,0.39445078602324524,0.3973278887659385,1.7492784675574988]
[null,"Opex - Maintenance- Traditional Luminaire",{"$f":"+C9*C$26","v":2637948.4960597442},1799624.8132936612,895280.02523219876,391275.83798278274,322212.70911326876,287681.14467851166,null,2.6379484960597441,1.7996248132936612,0.89528002523219874,0.39127583798278276,0.32221270911326877,0.28768114467851164,3.696074530300423]
[null,"Opex - Maintenance- LED Luminaire",{"$f":"+C10*C$26","v":4765200.5660238201},5159273.5679371245,5468374.4316422576,5742930.0455412902,5793044.7085373867,5834553.9772075694,null,4.7652005660238199,5.1592735679371247,5.4683744316422578,5.7429300455412902,5.7930447085373871,5.8345539772075696,27.99817673086563]
[null,"Total Maintenance",{"$f":"+C11*C$26","v":11262928.286670163},11009108.661156433,10533866.525286295,10362562.031454196,10370109.514929442,10394951.86028545,null,11.262928286670164,11.009108661156432,10.533866525286294,10.362562031454196,10.370109514929442,10.394951860285449,52.670598593111805]
[null,"Capital - Bracket",{"$f":"+C12*C$26","v":481271.97831550188},496039.30748946959,506268.00642376224,516533.98195766954,526884.45111737039,537294.56283645483,null,0.48127197831550189,0.49603930748946962,0.50626800642376224,0.51653398195766953,0.52688445111737037,0.53729456283645483,2.5830203098247266]
[null,"Capital - Traditional Luminaire",{"$f":"+C13*C$26","v":1219658.9469626364},805702.34755484201,355691.31410217396,98395.212838530308,55341.100122117437,33814.043763911017,null,1.2196589469626364,0.80570234755484205,0.35569131410217397,9.839521283853031E-2,5.5341100122117438E-2,3.381404376391102E-2,1.3489440183815746]
[null,"Capital - LED Luminaire",{"$f":"+C14*C$26","v":7536833.136902879},9142887.025172215,10576363.080310494,11255630.496631686,11199673.39763258,11071061.817898003,null,7.5368331369028789,9.1428870251722145,10.576363080310493,11.255630496631685,11.19967339763258,11.071061817898004,53.245615817644982]
[null,"Capital - Smart Controller",{"$f":"+C15*C$26","v":598268.49352055229},1055912.9009749957,1421333.3985215267,1571506.2057324303,1611552.2876553375,1621563.8081360646,null,0.59826849352055234,1.0559129009749957,1.4213333985215266,1.5715062057324303,1.6115522876553374,1.6215638081360646,7.2818686010203546]
[null,"Capital - Support",{"$f":"+C16*C$26","v":3402434.7067799135},3560753.0325809573,3678447.3251072974,3796044.0398592297,3913731.6382135069,4031510.1201701318,null,3.4024347067799137,3.5607530325809571,3.6784473251072973,3.7960440398592299,3.9137316382135068,4.0315101201701316,18.980486155931121]
[null,"Total Capital",{"$f":"+C17*C$26","v":13238467.262481485},15061294.61377248,16538103.124465255,17238109.937019546,17307182.874740914,17295244.352804564,null,13.238467262481485,15.06129461377248,16.538103124465255,17.238109937019544,17.307182874740914,17.295244352804563,83.439934902802747]
[null,"Total Nominal Revenue Forecast",{"$f":"+C18*C$26","v":24501395.549151648},26070403.274928916,27071969.649751548,27600671.968473744,27677292.389670353,27690196.213090014,null,24.501395549151649,26.070403274928918,27.071969649751548,27.600671968473744,27.677292389670352,27.690196213090015,136.11053349591458]

{"sheet":"FY25 to FY24 Comparison","index":8,"n_rows":238,"n_cols":7,"rows_kept":238,"cut":false,"hidden":false,"merged":[]}
[null,"FY25 to FY24 (estimated actual) price comparison"]
[null,"This sheet compares the estimated FY24 prices in the current regulatory period to the calculated FY25 charges in this model."]
[null,null,null,"Nominal $"]
[null,null,null,"Calculated Model Charges","Estimated current period charges","Differences"]
[null,{"$f":"'Detailed price list'!B4","v":"Charge Reference"},{"$f":"'Detailed price list'!C4","v":"Charge Group"},"FY25","FY24","Difference ($)","Difference (%)"]
[null,{"$f":"'Detailed price list'!B5","v":"O/U"},{"$f":"'Detailed price list'!C5","v":"Opex - Connections"},{"$f":"+'Detailed price list'!D5","v":102.28306430013642},121.7052,{"$f":"IF(E6=0,0,D6-E6)","v":-19.422135699863588},{"$f":"IF(E6=0,0,F6/E6)","v":-0.15958345000758872}]
[null,{"$f":"'Detailed price list'!B6","v":"UGR1"},{"$f":"'Detailed price list'!C6","v":"Opex - Connections"},{"$f":"+'Detailed price list'!D6","v":93.757105377314076},111.56400000000001,{"$f":"IF(E7=0,0,D7-E7)","v":-17.806894622685931},{"$f":"IF(E7=0,0,F7/E7)","v":-0.15961147523113128}]
[null,{"$f":"'Detailed price list'!B7","v":"UGR2"},{"$f":"'Detailed price list'!C7","v":"Opex - Connections"},{"$f":"+'Detailed price list'!D7","v":34.089282231791088},40.564800000000005,-6.4755177682089169,-0.15963391334873872]
[null,{"$f":"'Detailed price list'!B8","v":"MBF1x1000"},{"$f":"'Detailed price list'!C8","v":"Opex - Maintenance- Traditional Luminaire"},{"$f":"+'Detailed price list'!D8","v":62.639277155026626},90.471599999999995,-27.832322844973369,-0.30763601887192632]
[null,{"$f":"'Detailed price list'!B9","v":"MBF1x125"},{"$f":"'Detailed price list'!C9","v":"Opex - Maintenance- Traditional Luminaire"},{"$f":"+'Detailed price list'!D9","v":36.454663563234732},47.800800000000002,-11.346136436765271,-0.23736289846122388]
[null,{"$f":"'Detailed price list'!B10","v":"MBF1x250"},{"$f":"'Detailed price list'!C10","v":"Opex - Maintenance- Traditional Luminaire"},{"$f":"+'Detailed price list'!D10","v":49.589613652000942},64.7136,-15.123986347999058,-0.23370645966225118]
[null,{"$f":"'Detailed price list'!B11","v":"MBF1x400"},{"$f":"'Detailed price list'!C11","v":"Opex - Maintenance- Traditional Luminaire"},{"$f":"+'Detailed price list'!D11","v":49.589613652000942},64.7136,-15.123986347999058,-0.23370645966225118]
[null,{"$f":"'Detailed price list'!B12","v":"MBF1x42"},{"$f":"'Detailed price list'!C12","v":"Opex - Maintenance- Traditional Luminaire"},{"$f":"+'Detailed price list'!D12","v":32.511399711004948},42.616800000000005,-10.105400288995057,-0.23712245614393984]
[null,{"$f":"'Detailed price list'!B13","v":"MBF1x50"},{"$f":"'Detailed price list'!C13","v":"Opex - Maintenance- Traditional Luminaire"},{"$f":"+'Detailed price list'!D13","v":36.479400840084914},47.919600000000003,-11.440199159915089,-0.23873736758894248]
[null,{"$f":"'Detailed price list'!B14","v":"MBF1x80"},{"$f":"'Detailed price list'!C14","v":"Opex - Maintenance- Traditional Luminaire"},{"$f":"+'Detailed price list'!D14","v":34.957655029002304},45.403200000000005,-10.445544970997702,-0.23006186724719183]
[null,{"$f":"'Detailed price list'!B15","v":"MBF2x80"},{"$f":"'Detailed price list'!C15","v":"Opex - Maintenance- Traditional Luminaire"},{"$f":"+'Detailed price list'!D15","v":44.050618855047091},57.812400000000004,-13.761781144952913,-0.23804203155296982]
[null,{"$f":"'Detailed price list'!B16","v":"MBI1x100"},{"$f":"'Detailed price list'!C16","v":"Opex - Maintenance- Traditional Luminaire"},{"$f":"+'Detailed price list'!D16","v":46.532768571080041},64.627200000000002,-18.094431428919961,-0.27998167070397545]
[null,{"$f":"'Detailed price list'!B17","v":"MBI1x1000"},{"$f":"'Detailed price list'!C17","v":"Opex - Maintenance- Traditional Luminaire"},{"$f":"+'Detailed price list'!D17","v":48.458142705389989},80.4816,-32.023457294610012,-0.39789787099920992]
[null,{"$f":"'Detailed price list'!B18","v":"MBI1x150"},{"$f":"'Detailed price list'!C18","v":"Opex - Maintenance- Traditional Luminaire"},{"$f":"+'Detailed price list'!D18","v":46.532768571080041},64.519200000000012,-17.986431428919971,-0.27877641739079168]
[null,{"$f":"'Detailed price list'!B19","v":"MBI1x250"},{"$f":"'Detailed price list'!C19","v":"Opex - Maintenance- Traditional Luminaire"},{"$f":"+'Detailed price list'!D19","v":46.184034334560828},61.840800000000002,-15.656765665439174,-0.25317857572086994]
[null,{"$f":"'Detailed price list'!B20","v":"MBI1x400"},{"$f":"'Detailed price list'!C20","v":"Opex - Maintenance- Traditional Luminaire"},{"$f":"+'Detailed price list'!D20","v":46.172748436938846},61.743600000000008,-15.570851563061161,-0.25218567694564553]
[null,{"$f":"'Detailed price list'!B21","v":"MBI1x70"},{"$f":"'Detailed price list'!C21","v":"Opex - Maintenance- Traditional Luminaire"},{"$f":"+'Detailed price list'!D21","v":34.362058546215835},49.453200000000002,-15.091141453784168,-0.30516005948622471]
[null,{"$f":"'Detailed price list'!B22","v":"MBI1x70 II"},{"$f":"'Detailed price list'!C22","v":"Opex - Maintenance- Traditional Luminaire"},{"$f":"+'Detailed price list'!D22","v":36.816741278996687},70.092000000000013,-33.275258721003325,-0.47473689894714544]
[null,{"$f":"'Detailed price list'!B23","v":"SON1x100"},{"$f":"'Detailed price list'!C23","v":"Opex - Maintenance- Traditional Luminaire"},{"$f":"+'Detailed price list'!D23","v":55.614903493417778},76.053600000000003,-20.438696506582225,-0.26874068428821546]
[null,{"$f":"'Detailed price list'!B24","v":"SON1x1000"},{"$f":"'Detailed price list'!C24","v":"Opex - Maintenance- Traditional Luminaire"},{"$f":"+'Detailed price list'!D24","v":56.95476945035864},83.473200000000006,-26.518430549641366,-0.31768795912510078]
[null,{"$f":"'Detailed price list'!B25","v":"SON1x150"},{"$f":"'Detailed price list'!C25","v":"Opex - Maintenance- Traditional Luminaire"},{"$f":"+'Detailed price list'!D25","v":54.950028348003762},72.349199999999996,-17.399171651996234,-0.24048879119598054]
[null,{"$f":"'Detailed price list'!B26","v":"SON1x150 AR"},{"$f":"'Detailed price list'!C26","v":"Opex - Maintenance- Traditional Luminaire"},{"$f":"+'Detailed price list'!D26","v":54.950028348003762},72.36,-17.409971651996237,-0.24060215107789162]
[null,{"$f":"'Detailed price list'!B27","v":"SON1x250"},{"$f":"'Detailed price list'!C27","v":"Opex - Maintenance- Traditional Luminaire"},{"$f":"+'Detailed price list'!D27","v":55.262694391490292},74.120400000000004,-18.857705608509711,-0.25441991150222759]
[null,{"$f":"'Detailed price list'!B28","v":"SON1x250 AR"},{"$f":"'Detailed price list'!C28","v":"Opex - Maintenance- Traditional Luminaire"},{"$f":"+'Detailed price list'!D28","v":55.262694391490292},74.131200000000007,-18.868505608509714,-0.25452853330999248]
[null,{"$f":"'Detailed price list'!B29","v":"SON1x400"},{"$f":"'Detailed price list'!C29","v":"Opex - Maintenance- Traditional Luminaire"},{"$f":"+'Detailed price list'!D29","v":55.400635293028479},74.887200000000007,-19.486564706971528,-0.26021222194142024]
[null,{"$f":"'Detailed price list'!B30","v":"SON1x400 AR"},{"$f":"'Detailed price list'!C30","v":"Opex - Maintenance- Traditional Luminaire"},{"$f":"+'Detailed price list'!D30","v":55.400635293028479},100.5912,-45.190564706971522,-0.44924968294414941]
[null,{"$f":"'Detailed price list'!B31","v":"SON1x50"},{"$f":"'Detailed price list'!C31","v":"Opex - Maintenance- Traditional Luminaire"},{"$f":"+'Detailed price list'!D31","v":40.828782795090234},55.263600000000004,-14.43481720490977,-0.26119936458916482]
[null,{"$f":"'Detailed price list'!B32","v":"SON1x600"},{"$f":"'Detailed price list'!C32","v":"Opex - Maintenance- Traditional Luminaire"},{"$f":"+'Detailed price list'!D32","v":56.95476945035864},83.624400000000009,-26.669630549641369,-0.3189216371016278]
[null,{"$f":"'Detailed price list'!B33","v":"SON1x70"},{"$f":"'Detailed price list'!C33","v":"Opex - Maintenance- Traditional Luminaire"},{"$f":"+'Detailed price list'!D33","v":40.483010935234539},53.330400000000004,-12.847389064765466,-0.24090179456305344]
[null,{"$f":"'Detailed price list'!B34","v":"SON2x250"},{"$f":"'Detailed price list'!C34","v":"Opex - Maintenance- Traditional Luminaire"},{"$f":"+'Detailed price list'!D34","v":77.064297392847152},106.15320000000001,-29.08890260715286,-0.27402756211920937]
[null,{"$f":"'Detailed price list'!B35","v":"SON2x400"},{"$f":"'Detailed price list'!C35","v":"Opex - Maintenance- Traditional Luminaire"},{"$f":"+'Detailed price list'!D35","v":77.33118735237764},107.69760000000001,-30.366412647622369,-0.28195997540913043]
[null,{"$f":"'Detailed price list'!B36","v":"SON4x250"},{"$f":"'Detailed price list'!C36","v":"Opex - Maintenance- Traditional Luminaire"},{"$f":"+'Detailed price list'!D36","v":116.49665253426329},164.82960000000003,-48.332947465736737,-0.2932297807295336]
[null,{"$f":"'Detailed price list'!B37","v":"SON4x600"},{"$f":"'Detailed price list'!C37","v":"Opex - Maintenance- Traditional Luminaire"},{"$f":"+'Detailed price list'!D37","v":122.63144453257073},202.05720000000002,-79.425755467429298,-0.39308549988532598]
[null,{"$f":"'Detailed price list'!B38","v":"TF1x20"},{"$f":"'Detailed price list'!C38","v":"Opex - Maintenance- Traditional Luminaire"},{"$f":"+'Detailed price list'!D38","v":38.704116256453318},49.204800000000006,-10.500683743546688,-0.21340771110840176]
[null,{"$f":"'Detailed price list'!B39","v":"TF1x40"},{"$f":"'Detailed price list'!C39","v":"Opex - Maintenance- Traditional Luminaire"},{"$f":"+'Detailed price list'!D39","v":63.674637623172408},77.922000000000011,-14.247362376827603,-0.18284133334395422]
[null,{"$f":"'Detailed price list'!B40","v":"TF1x80"},{"$f":"'Detailed price list'!C40","v":"Opex - Maintenance- Traditional Luminaire"},{"$f":"+'Detailed price list'!D40","v":38.721045102886279},48.848399999999998,-10.127354897113719,-0.20732214150542738]
[null,{"$f":"'Detailed price list'!B41","v":"TF2x14 T5"},{"$f":"'Detailed price list'!C41","v":"Opex - Maintenance- Traditional Luminaire"},{"$f":"+'Detailed price list'!D41","v":38.721045102886279},49.874400000000001,-11.153354897113722,-0.22362885362257434]
[null,{"$f":"'Detailed price list'!B42","v":"TF2x20"},{"$f":"'Detailed price list'!C42","v":"Opex - Maintenance- Traditional Luminaire"},{"$f":"+'Detailed price list'!D42","v":49.615574571256545},61.992000000000004,-12.37642542874346,-0.19964552569272581]
[null,{"$f":"'Detailed price list'!B43","v":"TF2x26"},{"$f":"'Detailed price list'!C43","v":"Opex - Maintenance- Traditional Luminaire"},{"$f":"+'Detailed price list'!D43","v":38.721045102886279},49.474800000000009,-10.75375489711373,-0.21735822877735186]
[null,{"$f":"'Detailed price list'!B44","v":"TF2x40"},{"$f":"'Detailed price list'!C44","v":"Opex - Maintenance- Traditional Luminaire"},{"$f":"+'Detailed price list'!D44","v":38.721045102886279},49.474800000000009,-10.75375489711373,-0.21735822877735186]
[null,{"$f":"'Detailed price list'!B45","v":"TF4x20"},{"$f":"'Detailed price list'!C45","v":"Opex - Maintenance- Traditional Luminaire"},{"$f":"+'Detailed price list'!D45","v":38.704116256453318},49.291200000000003,-10.587083743546685,-0.2147864881266166]
[null,{"$f":"'Detailed price list'!B46","v":"TF4x40"},{"$f":"'Detailed price list'!C46","v":"Opex - Maintenance- Traditional Luminaire"},{"$f":"+'Detailed price list'!D46","v":38.721045102886279},51.138000000000005,-12.416954897113726,-0.24281268131553296]
[null,{"$f":"'Detailed price list'!B47","v":"LED TRIAL"},{"$f":"'Detailed price list'!C47","v":"Opex - Maintenance- LED Luminaire"},{"$f":"+'Detailed price list'!D47","v":23.443335396588658},27.280800000000003,-3.8374646034113447,-0.14066539850045981]
[null,{"$f":"'Detailed price list'!B48","v":"LED1x100"},{"$f":"'Detailed price list'!C48","v":"Opex - Maintenance- LED Luminaire"},{"$f":"+'Detailed price list'!D48","v":31.940827448003311},36.288000000000004,-4.3471725519966924,-0.11979642173712224]
[null,{"$f":"'Detailed price list'!B49","v":"LED1x17"},{"$f":"'Detailed price list'!C49","v":"Opex - Maintenance- LED Luminaire"},{"$f":"+'Detailed price list'!D49","v":23.443335396588658},27.345600000000001,-3.9022646034113428,-0.14270173641870512]
[null,{"$f":"'Detailed price list'!B50","v":"LED1x200"},{"$f":"'Detailed price list'!C50","v":"Opex - Maintenance- LED Luminaire"},{"$f":"+'Detailed price list'!D50","v":31.940827448003311},36.2988,-4.3579725519966885,-0.12005830914511467]
[null,{"$f":"'Detailed price list'!B51","v":"LED1x22"},{"$f":"'Detailed price list'!C51","v":"Opex - Maintenance- LED Luminaire"},{"$f":"+'Detailed price list'!D51","v":23.443335396588658},27.280800000000003,-3.8374646034113447,-0.14066539850045981]
[null,{"$f":"'Detailed price list'!B52","v":"LED1x25 GE"},{"$f":"'Detailed price list'!C52","v":"Opex - Maintenance- LED Luminaire"},{"$f":"+'Detailed price list'!D52","v":23.443335396588658},27.280800000000003,-3.8374646034113447,-0.14066539850045981]
[null,{"$f":"'Detailed price list'!B53","v":"LED1x28"},{"$f":"'Detailed price list'!C53","v":"Opex - Maintenance- LED Luminaire"},{"$f":"+'Detailed price list'!D53","v":23.443335396588658},27.345600000000001,-3.9022646034113428,-0.14270173641870512]
[null,{"$f":"'Detailed price list'!B54","v":"LED1x29"},{"$f":"'Detailed price list'!C54","v":"Opex - Maintenance- LED Luminaire"},{"$f":"+'Detailed price list'!D54","v":23.443335396588658},27.280800000000003,-3.8374646034113447,-0.14066539850045981]
[null,{"$f":"'Detailed price list'!B55","v":"LED1x298"},{"$f":"'Detailed price list'!C55","v":"Opex - Maintenance- LED Luminaire"},{"$f":"+'Detailed price list'!D55","v":31.940827448003311},36.320400000000006,-4.379572551996695,-0.12058161672219178]
[null,{"$f":"'Detailed price list'!B56","v":"LED1x33"},{"$f":"'Detailed price list'!C56","v":"Opex - Maintenance- LED Luminaire"},{"$f":"+'Detailed price list'!D56","v":23.443335396588658},27.3888,-3.9454646034113416,-0.14405394188176707]
[null,{"$f":"'Detailed price list'!B57","v":"LED1x42"},{"$f":"'Detailed price list'!C57","v":"Opex - Maintenance- LED Luminaire"},{"$f":"+'Detailed price list'!D57","v":23.443335396588658},27.431999999999999,-3.9886646034113404,-0.14540188842998472]
[null,{"$f":"'Detailed price list'!B58","v":"Smart Controller (Licence and maintenance fee)"},{"$f":"'Detailed price list'!C58","v":"Opex - Maintenance- Smart controller"},{"$f":"+'Detailed price list'!D58","v":5.9196192287323921},5.5620000000000012,0.35761922873239094,6.429687679474845E-2]
[null,{"$f":"'Detailed price list'!B59","v":"Luminaire - Decorative "},{"$f":"'Detailed price list'!C59","v":"Opex - Maintenance- LED Luminaire"},{"$f":"+'Detailed price list'!D59","v":25.149242916588658},0,0,0]
[null,{"$f":"'Detailed price list'!B60","v":"Luminaire - Floodlight"},{"$f":"'Detailed price list'!C60","v":"Opex - Maintenance- LED Luminaire"},{"$f":"+'Detailed price list'!D60","v":31.940827448003311},0,0,0]
[null,{"$f":"'Detailed price list'!B61","v":"Luminaire - Major (Cat V) road - smart controller installed"},{"$f":"'Detailed price list'!C61","v":"Opex - Maintenance- LED Luminaire"},{"$f":"+'Detailed price list'!D61","v":22.618269402628378},0,0,0]
[null,{"$f":"'Detailed price list'!B62","v":"Luminaire - Minor (Cat P) road - smart controller installed"},{"$f":"'Detailed price list'!C62","v":"Opex - Maintenance- LED Luminaire"},{"$f":"+'Detailed price list'!D62","v":18.12991292364439},0,0,0]
[null,{"$f":"'Detailed price list'!B63","v":"Luminaire - Floodlight - smart controller installed"},{"$f":"'Detailed price list'!C63","v":"Opex - Maintenance- LED Luminaire"},{"$f":"+'Detailed price list'!D63","v":22.618269402628378},0,0,0]
[null,{"$f":"'Detailed price list'!B64","v":"Luminaire - Decorative - smart controller installed"},{"$f":"'Detailed price list'!C64","v":"Opex - Maintenance- LED Luminaire"},{"$f":"+'Detailed price list'!D64","v":19.835820443644387},0,0,0]
[null,{"$f":"'Detailed price list'!B65","v":"0.5"},{"$f":"'Detailed price list'!C65","v":"Capital - Bracket"},{"$f":"+'Detailed price list'!D65","v":6.5063364112348498},6.8040000000000003,-0.29766358876515042,-4.3748322863778721E-2]
[null,{"$f":"'Detailed price list'!B66","v":"0.6"},{"$f":"'Detailed price list'!C66","v":"Capital - Bracket"},{"$f":"+'Detailed price list'!D66","v":6.5063364112348498},6.8040000000000003,-0.29766358876515042,-4.3748322863778721E-2]
[null,{"$f":"'Detailed price list'!B67","v":"1.0"},{"$f":"'Detailed price list'!C67","v":"Capital - Bracket"},{"$f":"+'Detailed price list'!D67","v":7.9928380827112937},8.3592000000000013,-0.36636191728870759,-4.3827389856530237E-2]
[null,{"$f":"'Detailed price list'!B68","v":"1.2"},{"$f":"'Detailed price list'!C68","v":"Capital - Bracket"},{"$f":"+'Detailed price list'!D68","v":7.9928380827112937},8.3592000000000013,-0.36636191728870759,-4.3827389856530237E-2]
[null,{"$f":"'Detailed price list'!B69","v":"1.5"},{"$f":"'Detailed price list'!C69","v":"Capital - Bracket"},{"$f":"+'Detailed price list'!D69","v":7.9928380827112937},8.3592000000000013,-0.36636191728870759,-4.3827389856530237E-2]
[null,{"$f":"'Detailed price list'!B70","v":"2.0"},{"$f":"'Detailed price list'!C70","v":"Capital - Bracket"},{"$f":"+'Detailed price list'!D70","v":7.9928380827112937},8.3592000000000013,{"$f":"IF(E71=0,0,D71-E71)","v":-0.36636191728870759},-4.3827389856530237E-2]
[null,{"$f":"'Detailed price list'!B71","v":"2.5"},{"$f":"'Detailed price list'!C71","v":"Capital - Bracket"},{"$f":"+'Detailed price list'!D71","v":7.9928380827112937},8.3592000000000013,-0.36636191728870759,-4.3827389856530237E-2]
[null,{"$f":"'Detailed price list'!B72","v":"3.0"},{"$f":"'Detailed price list'!C72","v":"Capital - Bracket"},{"$f":"+'Detailed price list'!D72","v":7.9928380827112937},8.3592000000000013,-0.36636191728870759,-4.3827389856530237E-2]
[null,{"$f":"'Detailed price list'!B73","v":"3.5"},{"$f":"'Detailed price list'!C73","v":"Capital - Bracket"},{"$f":"+'Detailed price list'!D73","v":11.283271470094054},11.826000000000001,-0.542728529905947,-4.5892823431925162E-2]
[null,{"$f":"'Detailed price list'!B74","v":"4.0"},{"$f":"'Detailed price list'!C74","v":"Capital - Bracket"},{"$f":"+'Detailed price list'!D74","v":18.116652951873196},19.018800000000002,-0.90214704812680679,-4.7434488407618075E-2]
[null,{"$f":"'Detailed price list'!B75","v":"4.5"},{"$f":"'Detailed price list'!C75","v":"Capital - Bracket"},{"$f":"+'Detailed price list'!D75","v":18.116652951873196},19.018800000000002,-0.90214704812680679,-4.7434488407618075E-2]
[null,{"$f":"'Detailed price list'!B76","v":"5.0"},{"$f":"'Detailed price list'!C76","v":"Capital - Bracket"},{"$f":"+'Detailed price list'!D76","v":18.116652951873196},19.018800000000002,-0.90214704812680679,{"$f":"IF(E77=0,0,F77/E77)","v":-4.7434488407618075E-2}]
[null,{"$f":"'Detailed price list'!B77","v":"6.0"},{"$f":"'Detailed price list'!C77","v":"Capital - Bracket"},{"$f":"+'Detailed price list'!D77","v":22.519580378646182},23.641200000000001,-1.121619621353819,-4.7443430170795851E-2]
[null,{"$f":"'Detailed price list'!B78","v":"6.5"},{"$f":"'Detailed price list'!C78","v":"Capital - Bracket"},{"$f":"+'Detailed price list'!D78","v":22.519580378646182},23.641200000000001,-1.121619621353819,-4.7443430170795851E-2]
[null,{"$f":"'Detailed price list'!B79","v":"7.0"},{"$f":"'Detailed price list'!C79","v":"Capital - Bracket"},{"$f":"+'Detailed price list'!D79","v":22.519580378646182},23.641200000000001,-1.121619621353819,-4.7443430170795851E-2]
[null,{"$f":"'Detailed price list'!B80","v":"8.0"},{"$f":"'Detailed price list'!C80","v":"Capital - Bracket"},{"$f":"+'Detailed price list'!D80","v":22.519580378646182},23.641200000000001,-1.121619621353819,-4.7443430170795851E-2]
[null,{"$f":"'Detailed price list'!B81","v":"C4"},{"$f":"'Detailed price list'!C81","v":"Capital - Bracket"},{"$f":"+'Detailed price list'!D81","v":10.426039396254424},11.491200000000001,-1.0651606037455768,-9.2693591943885462E-2]
[null,{"$f":"'Detailed price list'!B82","v":"T1"},{"$f":"'Detailed price list'!C82","v":"Capital - Bracket"},{"$f":"+'Detailed price list'!D82","v":9.5922644202660301},10.616400000000001,-1.0241355797339704,-9.6467312811684788E-2]
[null,{"$f":"'Detailed price list'!B83","v":"T2"},{"$f":"'Detailed price list'!C83","v":"Capital - Bracket"},{"$f":"+'Detailed price list'!D83","v":15.309578541329284},16.632000000000001,-1.3224214586707177,-7.9510669713246607E-2]
[null,{"$f":"'Detailed price list'!B84","v":"T2A"},{"$f":"'Detailed price list'!C84","v":"Capital - Bracket"},{"$f":"+'Detailed price list'!D84","v":15.309578541329284},16.632000000000001,-1.3224214586707177,-7.9510669713246607E-2]
[null,{"$f":"'Detailed price list'!B85","v":"T3"},{"$f":"'Detailed price list'!C85","v":"Capital - Bracket"},{"$f":"+'Detailed price list'!D85","v":22.188222093233509},23.857200000000002,-1.6689779067664929,-6.995699020700219E-2]
[null,{"$f":"'Detailed price list'!B86","v":"T3A"},{"$f":"'Detailed price list'!C86","v":"Capital - Bracket"},{"$f":"+'Detailed price list'!D86","v":22.188222093233509},23.857200000000002,-1.6689779067664929,-6.995699020700219E-2]
[null,{"$f":"'Detailed price list'!B87","v":"T4"},{"$f":"'Detailed price list'!C87","v":"Capital - Bracket"},{"$f":"+'Detailed price list'!D87","v":22.188222093233509},23.857200000000002,-1.6689779067664929,-6.995699020700219E-2]
[null,{"$f":"'Detailed price list'!B88","v":"T5"},{"$f":"'Detailed price list'!C88","v":"Capital - Bracket"},{"$f":"+'Detailed price list'!D88","v":22.188222093233509},23.857200000000002,-1.6689779067664929,-6.995699020700219E-2]
[null,{"$f":"'Detailed price list'!B89","v":"T6"},{"$f":"'Detailed price list'!C89","v":"Capital - Bracket"},{"$f":"+'Detailed price list'!D89","v":22.188222093233509},23.857200000000002,-1.6689779067664929,-6.995699020700219E-2]
[null,{"$f":"'Detailed price list'!B90","v":"T7"},{"$f":"'Detailed price list'!C90","v":"Capital - Bracket"},{"$f":"+'Detailed price list'!D90","v":32.163744127380333},34.354799999999997,-2.1910558726196641,-6.3777285055353669E-2]
[null,{"$f":"'Detailed price list'!B91","v":"Bracket - Minor Road (Cat P) - Short"},{"$f":"'Detailed price list'!C91","v":"Capital - Bracket"},{"$f":"+'Detailed price list'!D91","v":9.6494554566378081},0,0,{"$f":"IF(E92=0,0,F92/E92)","v":0}]
[null,{"$f":"'Detailed price list'!B92","v":"Bracket - Minor Road (Cat P) - Medium"},{"$f":"'Detailed price list'!C92","v":"Capital - Bracket"},{"$f":"+'Detailed price list'!D92","v":15.32114800905001},0,0,0]
[null,{"$f":"'Detailed price list'!B93","v":"Bracket - Major Road (Cat V) - Short"},{"$f":"'Detailed price list'!C93","v":"Capital - Bracket"},{"$f":"+'Detailed price list'!D93","v":12.520247031847971},0,0,0]
[null,{"$f":"'Detailed price list'!B94","v":"Bracket - Major Road (Cat V) - Medium"},{"$f":"'Detailed price list'!C94","v":"Capital - Bracket"},{"$f":"+'Detailed price list'!D94","v":22.693346124171857},0,0,0]
[null,{"$f":"'Detailed price list'!B95","v":"Bracket - Major Road (Cat V) - Long"},{"$f":"'Detailed price list'!C95","v":"Capital - Bracket"},{"$f":"+'Detailed price list'!D95","v":28.283511265873646},0,0,0]
[null,{"$f":"'Detailed price list'!B96","v":"1000W SON"},{"$f":"'Detailed price list'!C96","v":"Capital - Traditional Luminaire"},{"$f":"+'Detailed price list'!D96","v":107.46721498395996},111.21840000000002,-3.7511850160400542,-3.3728097293613771E-2]
[null,{"$f":"'Detailed price list'!B97","v":"1000W SON FLOODLIGHT"},{"$f":"'Detailed price list'!C97","v":"Capital - Traditional Luminaire"},{"$f":"+'Detailed price list'!D97","v":87.929475883870793},91.357200000000006,-3.4277241161292125,-3.7520021587014625E-2]
[null,{"$f":"'Detailed price list'!B98","v":"1000W/1500W MBI FLOODLIG"},{"$f":"'Detailed price list'!C98","v":"Capital - Traditional Luminaire"},{"$f":"+'Detailed price list'!D98","v":119.10451058725982},123.0552,-3.950689412740175,-3.210501801419343E-2]
[null,{"$f":"'Detailed price list'!B99","v":"100W MBI"},{"$f":"'Detailed price list'!C99","v":"Capital - Traditional Luminaire"},{"$f":"+'Detailed price list'!D99","v":40.351890241770491},42.994800000000005,-2.6429097582295142,-6.1470451269211947E-2]
[null,{"$f":"'Detailed price list'!B100","v":"100W MBI FLOODLIGHT"},{"$f":"'Detailed price list'!C100","v":"Capital - Traditional Luminaire"},{"$f":"+'Detailed price list'!D100","v":43.713903788214417},46.396800000000006,-2.6828962117855895,-5.7825026979998383E-2]
[null,{"$f":"'Detailed price list'!B101","v":"100W SON"},{"$f":"'Detailed price list'!C101","v":"Capital - Traditional Luminaire"},{"$f":"+'Detailed price list'!D101","v":42.975760162237009},45.662400000000005,-2.6866398377629963,-5.8837026476115932E-2]
[null,{"$f":"'Detailed price list'!B102","v":"100W SON - PLAIN"},{"$f":"'Detailed price list'!C102","v":"Capital - Traditional Luminaire"},{"$f":"+'Detailed price list'!D102","v":42.975760162237009},45.662400000000005,-2.6866398377629963,-5.8837026476115932E-2]
[null,{"$f":"'Detailed price list'!B103","v":"100W SON FLOODLIGHT"},{"$f":"'Detailed price list'!C103","v":"Capital - Traditional Luminaire"},{"$f":"+'Detailed price list'!D103","v":63.172830678238313},66.193200000000004,-3.0203693217616916,-4.5629601254535079E-2]
[null,{"$f":"'Detailed price list'!B104","v":"125W MBF"},{"$f":"'Detailed price list'!C104","v":"Capital - Traditional Luminaire"},{"$f":"+'Detailed price list'!D104","v":26.094043482576225},26.406000000000002,-0.31195651742377706,-1.1813849785040409E-2]
[null,{"$f":"'Detailed price list'!B105","v":"125W MBF - BOURKE HILL"},{"$f":"'Detailed price list'!C105","v":"Capital - Traditional Luminaire"},{"$f":"+'Detailed price list'!D105","v":80.651315338020069},81.864000000000004,-1.2126846619799352,-1.4813405916885751E-2]
[null,{"$f":"'Detailed price list'!B106","v":"125W MBF - PARKVILLE"},{"$f":"'Detailed price list'!C106","v":"Capital - Traditional Luminaire"},{"$f":"+'Detailed price list'!D106","v":101.54231775240112},103.11840000000001,-1.5760822475988903,-1.5284199983697285E-2]
[null,{"$f":"'Detailed price list'!B107","v":"125W MBF - PLAIN"},{"$f":"'Detailed price list'!C107","v":"Capital - Traditional Luminaire"},{"$f":"+'Detailed price list'!D107","v":26.094043482576225},26.406000000000002,-0.31195651742377706,-1.1813849785040409E-2]
[null,{"$f":"'Detailed price list'!B108","v":"125W/250W MBF FLOODLIGHT"},{"$f":"'Detailed price list'!C108","v":"Capital - Traditional Luminaire"},{"$f":"+'Detailed price list'!D108","v":36.023132488936483},36.503999999999998,-0.480867511063515,-1.31730087405083E-2]
[null,{"$f":"'Detailed price list'!B109","v":"150W SON"},{"$f":"'Detailed price list'!C109","v":"Capital - Traditional Luminaire"},{"$f":"+'Detailed price list'!D109","v":43.360209967433576},46.051200000000001,-2.6909900325664253,-5.8434742907164751E-2]
[null,{"$f":"'Detailed price list'!B110","v":"150W SON - PARKVILLE"},{"$f":"'Detailed price list'!C110","v":"Capital - Traditional Luminaire"},{"$f":"+'Detailed price list'!D110","v":117.06692661971806},120.9816,-3.9146733802819398,-3.2357593057803336E-2]
[null,{"$f":"'Detailed price list'!B111","v":"150W SON - PARKWAY 1"},{"$f":"'Detailed price list'!C111","v":"Capital - Traditional Luminaire"},{"$f":"+'Detailed price list'!D111","v":51.721993230458757},54.550800000000002,-2.8288067695412451,-5.1856375516788844E-2]
[null,{"$f":"'Detailed price list'!B112","v":"150W SON ACTIVE REACTOR"},{"$f":"'Detailed price list'!C112","v":"Capital - Traditional Luminaire"},{"$f":"+'Detailed price list'!D112","v":63.736049642851263},66.765600000000006,-3.029550357148743,-4.5375917495667571E-2]
[null,{"$f":"'Detailed price list'!B113","v":"150W SON FLOODLIGHT"},{"$f":"'Detailed price list'!C113","v":"Capital - Traditional Luminaire"},{"$f":"+'Detailed price list'!D113","v":50.760868717467361},53.578800000000001,-2.8179312825326406,-5.2594146985984018E-2]
[null,{"$f":"'Detailed price list'!B114","v":"150W/250W MBI FLOODLIGHT"},{"$f":"'Detailed price list'!C114","v":"Capital - Traditional Luminaire"},{"$f":"+'Detailed price list'!D114","v":77.945314442916114},81.205200000000005,-3.2598855570838907,-4.0143803070294644E-2]
[null,{"$f":"'Detailed price list'!B115","v":"250W MBF"},{"$f":"'Detailed price list'!C115","v":"Capital - Traditional Luminaire"},{"$f":"+'Detailed price list'!D115","v":42.591310357040456},45.284400000000005,-2.6930896429595492,-5.9470582429259282E-2]
[null,{"$f":"'Detailed price list'!B116","v":"250W MBF - PARKWAY 1"},{"$f":"'Detailed price list'!C116","v":"Capital - Traditional Luminaire"},{"$f":"+'Detailed price list'!D116","v":51.721993230458757},54.550800000000002,-2.8288067695412451,-5.1856375516788844E-2]
[null,{"$f":"'Detailed price list'!B117","v":"250W SON"},{"$f":"'Detailed price list'!C117","v":"Capital - Traditional Luminaire"},{"$f":"+'Detailed price list'!D117","v":43.360209967433576},46.051200000000001,-2.6909900325664253,-5.8434742907164751E-2]
[null,{"$f":"'Detailed price list'!B118","v":"250W SON - PARKVILLE"},{"$f":"'Detailed price list'!C118","v":"Capital - Traditional Luminaire"},{"$f":"+'Detailed price list'!D118","v":126.43981287041024},130.50720000000001,-4.0673871295897754,-3.1165997964784895E-2]
[null,{"$f":"'Detailed price list'!B119","v":"250W SON - PARKWAY 1"},{"$f":"'Detailed price list'!C119","v":"Capital - Traditional Luminaire"},{"$f":"+'Detailed price list'!D119","v":51.721993230458757},54.550800000000002,-2.8288067695412451,-5.1856375516788844E-2]
[null,{"$f":"'Detailed price list'!B120","v":"250W SON ACTIVE REACTOR"},{"$f":"'Detailed price list'!C120","v":"Capital - Traditional Luminaire"},{"$f":"+'Detailed price list'!D120","v":63.736049642851263},66.765600000000006,-3.029550357148743,-4.5375917495667571E-2]
[null,{"$f":"'Detailed price list'!B121","v":"250W SON FLOODLIGHT"},{"$f":"'Detailed price list'!C121","v":"Capital - Traditional Luminaire"},{"$f":"+'Detailed price list'!D121","v":50.760868717467361},53.578800000000001,-2.8179312825326406,-5.2594146985984018E-2]
[null,{"$f":"'Detailed price list'!B122","v":"250W SON GEC 'BOSTON 3'"},{"$f":"'Detailed price list'!C122","v":"Capital - Traditional Luminaire"},{"$f":"+'Detailed price list'!D122","v":109.01846994792808},112.80600000000001,-3.7875300520719293,-3.3575608142048553E-2]
[null,{"$f":"'Detailed price list'!B123","v":"2X14W TF - T5 PIERLIGHT"},{"$f":"'Detailed price list'!C123","v":"Capital - Traditional Luminaire"},{"$f":"+'Detailed price list'!D123","v":34.143461278879201},34.581600000000009,-0.43813872112080787,-1.2669706465889599E-2]
[null,{"$f":"'Detailed price list'!B124","v":"2x14W TF - T5 PIERLITE M"},{"$f":"'Detailed price list'!C124","v":"Capital - Traditional Luminaire"},{"$f":"+'Detailed price list'!D124","v":34.143461278879201},34.581600000000009,-0.43813872112080787,-1.2669706465889599E-2]
[null,{"$f":"'Detailed price list'!B125","v":"2x250W SON FLOODLIGHT"},{"$f":"'Detailed price list'!C125","v":"Capital - Traditional Luminaire"},{"$f":"+'Detailed price list'!D125","v":71.425045746782487},74.584800000000001,-3.159754253217514,-4.2364587063550667E-2]
[null,{"$f":"'Detailed price list'!B126","v":"2x400W SON FLOODLIGHT"},{"$f":"'Detailed price list'!C126","v":"Capital - Traditional Luminaire"},{"$f":"+'Detailed price list'!D126","v":142.43484701561309},146.77200000000002,-4.3371529843869325,-2.9550275150484643E-2]
[null,{"$f":"'Detailed price list'!B127","v":"2x80W MBF - BOURKE HILL"},{"$f":"'Detailed price list'!C127","v":"Capital - Traditional Luminaire"},{"$f":"+'Detailed price list'!D127","v":70.305771080180605},71.344800000000006,-1.0390289198194012,-1.4563484932600569E-2]
[null,{"$f":"'Detailed price list'!B128","v":"400W MBF"},{"$f":"'Detailed price list'!C128","v":"Capital - Traditional Luminaire"},{"$f":"+'Detailed price list'!D128","v":34.104580907326387},36.644400000000005,-2.5398190926736177,-6.9309883438495853E-2]
[null,{"$f":"'Detailed price list'!B129","v":"400W MBF - B2229"},{"$f":"'Detailed price list'!C129","v":"Capital - Traditional Luminaire"},{"$f":"+'Detailed price list'!D129","v":34.104580907326387},36.644400000000005,-2.5398190926736177,-6.9309883438495853E-2]
[null,{"$f":"'Detailed price list'!B130","v":"400W MBF - PARKWAY 1"},{"$f":"'Detailed price list'!C130","v":"Capital - Traditional Luminaire"},{"$f":"+'Detailed price list'!D130","v":68.479542162845206},71.59320000000001,-3.113657837154804,-4.3490971728527339E-2]
[null,{"$f":"'Detailed price list'!B131","v":"400W MBF FLOODLIGHT"},{"$f":"'Detailed price list'!C131","v":"Capital - Traditional Luminaire"},{"$f":"+'Detailed price list'!D131","v":75.198715547490195},78.418800000000005,-3.2200844525098091,-4.1062659113755999E-2]
[null,{"$f":"'Detailed price list'!B132","v":"400W MBI FLOODLIGHT"},{"$f":"'Detailed price list'!C132","v":"Capital - Traditional Luminaire"},{"$f":"+'Detailed price list'!D132","v":59.199541941531848},62.154000000000003,-2.9544580584681555,-4.7534479815750479E-2]
[null,{"$f":"'Detailed price list'!B133","v":"400W SON"},{"$f":"'Detailed price list'!C133","v":"Capital - Traditional Luminaire"},{"$f":"+'Detailed price list'!D133","v":47.108595568100036},49.863600000000005,-2.7550044318999696,-5.5250812855469109E-2]
[null,{"$f":"'Detailed price list'!B134","v":"400W SON - PARKWAY 1"},{"$f":"'Detailed price list'!C134","v":"Capital - Traditional Luminaire"},{"$f":"+'Detailed price list'!D134","v":51.721993230458757},54.550800000000002,{"$f":"IF(E135=0,0,D135-E135)","v":-2.8288067695412451},-5.1856375516788844E-2]
[null,{"$f":"'Detailed price list'!B135","v":"400W SON ACTIVE REACTOR"},{"$f":"'Detailed price list'!C135","v":"Capital - Traditional Luminaire"},{"$f":"+'Detailed price list'!D135","v":71.425045746782487},74.584800000000001,-3.159754253217514,-4.2364587063550667E-2]
[null,{"$f":"'Detailed price list'!B136","v":"400W SON FLOODLIGHT"},{"$f":"'Detailed price list'!C136","v":"Capital - Traditional Luminaire"},{"$f":"+'Detailed price list'!D136","v":50.760868717467361},53.578800000000001,-2.8179312825326406,-5.2594146985984018E-2]
[null,{"$f":"'Detailed price list'!B137","v":"42W MBF SYLVANIA SUB ECO"},{"$f":"'Detailed price list'!C137","v":"Capital - Traditional Luminaire"},{"$f":"+'Detailed price list'!D137","v":31.380228304028925},31.773600000000005,-0.39337169597108002,-1.238045723402699E-2]
[null,{"$f":"'Detailed price list'!B138","v":"4x250W SON"},{"$f":"'Detailed price list'!C138","v":"Capital - Traditional Luminaire"},{"$f":"+'Detailed price list'!D138","v":80.390415203966242},83.7,-3.3095847960337608,-3.9541036989650662E-2]
[null,{"$f":"'Detailed price list'!B139","v":"4x600W SON"},{"$f":"'Detailed price list'!C139","v":"Capital - Traditional Luminaire"},{"$f":"+'Detailed price list'!D139","v":122.36464493532669},126.36000000000001,-3.9953550646733191,-3.1618827672311799E-2]
[null,{"$f":"'Detailed price list'!B140","v":"50W MBF"},{"$f":"'Detailed price list'!C140","v":"Capital - Traditional Luminaire"},{"$f":"+'Detailed price list'!D140","v":23.691232200097723},23.9544,-0.26316779990227701,-1.0986198773598046E-2]
[null,{"$f":"'Detailed price list'!B141","v":"50W MBF - BOURKE HILL"},{"$f":"'Detailed price list'!C141","v":"Capital - Traditional Luminaire"},{"$f":"+'Detailed price list'!D141","v":70.305771080180605},71.344800000000006,-1.0390289198194012,-1.4563484932600569E-2]
[null,{"$f":"'Detailed price list'!B142","v":"50W MBF - NOSTALGIA"},{"$f":"'Detailed price list'!C142","v":"Capital - Traditional Luminaire"},{"$f":"+'Detailed price list'!D142","v":70.305771080180605},71.344800000000006,-1.0390289198194012,-1.4563484932600569E-2]
[null,{"$f":"'Detailed price list'!B143","v":"50W MBF - PLAIN"},{"$f":"'Detailed price list'!C143","v":"Capital - Traditional Luminaire"},{"$f":"+'Detailed price list'!D143","v":23.691232200097723},23.9544,-0.26316779990227701,{"$f":"IF(E144=0,0,F144/E144)","v":-1.0986198773598046E-2}]
[null,{"$f":"'Detailed price list'!B144","v":"50W SON"},{"$f":"'Detailed price list'!C144","v":"Capital - Traditional Luminaire"},{"$f":"+'Detailed price list'!D144","v":22.922332589704606},23.1876,-0.2652674102953938,-1.1440054610886586E-2]
[null,{"$f":"'Detailed price list'!B145","v":"50W SON - NOSTALGIA"},{"$f":"'Detailed price list'!C145","v":"Capital - Traditional Luminaire"},{"$f":"+'Detailed price list'!D145","v":35.705288612490214},36.18,-0.47471138750978525,-1.3120823314256088E-2]
[null,{"$f":"'Detailed price list'!B146","v":"50W SON - PLAIN"},{"$f":"'Detailed price list'!C146","v":"Capital - Traditional Luminaire"},{"$f":"+'Detailed price list'!D146","v":22.922332589704606},23.1876,-0.2652674102953938,-1.1440054610886586E-2]
[null,{"$f":"'Detailed price list'!B147","v":"70W MBI"},{"$f":"'Detailed price list'!C147","v":"Capital - Traditional Luminaire"},{"$f":"+'Detailed price list'!D147","v":29.609836951098767},29.980800000000002,-0.37096304890123477,-1.2373353909876813E-2]
[null,{"$f":"'Detailed price list'!B148","v":"70W MBI - MACQUARIE DEC."},{"$f":"'Detailed price list'!C148","v":"Capital - Traditional Luminaire"},{"$f":"+'Detailed price list'!D148","v":114.16957160408217},115.95960000000001,-1.7900283959178438,-1.5436655489651945E-2]
[null,{"$f":"'Detailed price list'!B149","v":"70W MBI II"},{"$f":"'Detailed price list'!C149","v":"Capital - Traditional Luminaire"},{"$f":"+'Detailed price list'!D149","v":26.094043482576225},26.406000000000002,-0.31195651742377706,-1.1813849785040409E-2]
[null,{"$f":"'Detailed price list'!B150","v":"70W MBI II AERO"},{"$f":"'Detailed price list'!C150","v":"Capital - Traditional Luminaire"},{"$f":"+'Detailed price list'!D150","v":27.055167995567622},27.3888,-0.33363200443237773,-1.2181329756410567E-2]
[null,{"$f":"'Detailed price list'!B151","v":"70W SON"},{"$f":"'Detailed price list'!C151","v":"Capital - Traditional Luminaire"},{"$f":"+'Detailed price list'!D151","v":25.997931031277083},26.308800000000002,-0.31086896872291803,-1.1816159183349982E-2]
[null,{"$f":"'Detailed price list'!B152","v":"70W SON - BOURKE HILL"},{"$f":"'Detailed price list'!C152","v":"Capital - Traditional Luminaire"},{"$f":"+'Detailed price list'!D152","v":78.613731370478305},79.801200000000009,-1.1874686295217032,-1.4880335502745611E-2]
[null,{"$f":"'Detailed price list'!B153","v":"70W SON - NOSTALGIA"},{"$f":"'Detailed price list'!C153","v":"Capital - Traditional Luminaire"},{"$f":"+'Detailed price list'!D153","v":73.3160130548697},74.412000000000006,-1.0959869451303064,-1.4728631741255526E-2]
[null,{"$f":"'Detailed price list'!B154","v":"70W SON - PARKVILLE"},{"$f":"'Detailed price list'!C154","v":"Capital - Traditional Luminaire"},{"$f":"+'Detailed price list'!D154","v":91.93107262248715},93.344400000000007,-1.4133273775128572,-1.5140998040727211E-2]
[null,{"$f":"'Detailed price list'!B155","v":"70W SON - PLAIN"},{"$f":"'Detailed price list'!C155","v":"Capital - Traditional Luminaire"},{"$f":"+'Detailed price list'!D155","v":25.997931031277083},26.308800000000002,-0.31086896872291803,-1.1816159183349982E-2]
[null,{"$f":"'Detailed price list'!B156","v":"70W SON BOLLARD"},{"$f":"'Detailed price list'!C156","v":"Capital - Traditional Luminaire"},{"$f":"+'Detailed price list'!D156","v":55.996549330764665},56.808000000000007,-0.81145066923534159,-1.4284091487736612E-2]
[null,{"$f":"'Detailed price list'!B157","v":"70W SON FLOODLIGHT"},{"$f":"'Detailed price list'!C157","v":"Capital - Traditional Luminaire"},{"$f":"+'Detailed price list'!D157","v":31.326501443752708},31.719600000000003,-0.39309855624729551,-1.2392922869370845E-2]
[null,{"$f":"'Detailed price list'!B158","v":"80W MBF - BEGA+CURVE BRA"},{"$f":"'Detailed price list'!C158","v":"Capital - Traditional Luminaire"},{"$f":"+'Detailed price list'!D158","v":114.78084679434467},116.57520000000001,-1.7943532056553408,-1.5392237848661986E-2]
[null,{"$f":"'Detailed price list'!B159","v":"80W MBF - BOURKE HILL"},{"$f":"'Detailed price list'!C159","v":"Capital - Traditional Luminaire"},{"$f":"+'Detailed price list'!D159","v":53.857086164845811},54.637200000000007,-0.78011383515419652,-1.4278071261964311E-2]
[null,{"$f":"'Detailed price list'!B160","v":"80W MBF - NOSTALGIA"},{"$f":"'Detailed price list'!C160","v":"Capital - Traditional Luminaire"},{"$f":"+'Detailed price list'!D160","v":69.138965921409081},70.178400000000011,-1.0394340785909293,-1.4811310582614154E-2]
[null,{"$f":"'Detailed price list'!B161","v":"80W MBF - PLAIN"},{"$f":"'Detailed price list'!C161","v":"Capital - Traditional Luminaire"},{"$f":"+'Detailed price list'!D161","v":22.595550255287531},22.852800000000002,-0.25724974471247108,-1.1256815126044557E-2]
[null,{"$f":"'Detailed price list'!B162","v":"80W MBF - REGAL/FLINDERS"},{"$f":"'Detailed price list'!C162","v":"Capital - Traditional Luminaire"},{"$f":"+'Detailed price list'!D162","v":125.07064583043062},127.04040000000001,-1.9697541695693843,-1.5504943069837502E-2]
[null,{"$f":"'Detailed price list'!B163","v":"80W MBF BOLLARD"},{"$f":"'Detailed price list'!C163","v":"Capital - Traditional Luminaire"},{"$f":"+'Detailed price list'!D163","v":44.586079112530754},45.198000000000008,-0.61192088746925322,-1.3538671787894445E-2]
[null,{"$f":"'Detailed price list'!B164","v":"80W MBF TOORAK"},{"$f":"'Detailed price list'!C164","v":"Capital - Traditional Luminaire"},{"$f":"+'Detailed price list'!D164","v":63.097337232745119},64.033200000000008,-0.93586276725488915,-1.4615274064936455E-2]
[null,{"$f":"'Detailed price list'!B165","v":"TH FLOODLIGHT"},{"$f":"'Detailed price list'!C165","v":"Capital - Traditional Luminaire"},{"$f":"+'Detailed price list'!D165","v":128.27363844119779},132.37559999999999,-4.101961558802202,-3.0987293419649863E-2]
[null,{"$f":"'Detailed price list'!B166","v":"10W LED PH RRW"},{"$f":"'Detailed price list'!C166","v":"Capital - LED Luminaire"},{"$f":"+'Detailed price list'!D166","v":54.931151264508671},54.205199999999998,0.72595126450867298,1.3392649865855545E-2]
[null,{"$f":"'Detailed price list'!B167","v":"16W LED PH"},{"$f":"'Detailed price list'!C167","v":"Capital - LED Luminaire"},{"$f":"+'Detailed price list'!D167","v":55.081582366624055},54.345600000000005,0.73598236662405014,1.3542630252017645E-2]
[null,{"$f":"'Detailed price list'!B168","v":"17W LED ALD"},{"$f":"'Detailed price list'!C168","v":"Capital - LED Luminaire"},{"$f":"+'Detailed price list'!D168","v":51.104184026693453},50.619599999999998,0.48458402669345446,9.5730512823778632E-3]
[null,{"$f":"'Detailed price list'!B169","v":"17W LED ALD RRW"},{"$f":"'Detailed price list'!C169","v":"Capital - LED Luminaire"},{"$f":"+'Detailed price list'!D169","v":51.104184026693453},50.619599999999998,0.48458402669345446,9.5730512823778632E-3]
[null,{"$f":"'Detailed price list'!B170","v":"17W LED ALD RRW ZHAGA"},{"$f":"'Detailed price list'!C170","v":"Capital - LED Luminaire"},{"$f":"+'Detailed price list'!D170","v":53.802917998643323},53.308800000000005,0.4941179986433184,9.2689762036158828E-3]
[null,{"$f":"'Detailed price list'!B171","v":"17W LED ALD ZHAGA"},{"$f":"'Detailed price list'!C171","v":"Capital - LED Luminaire"},{"$f":"+'Detailed price list'!D171","v":53.802917998643323},53.308800000000005,0.4941179986433184,9.2689762036158828E-3]
[null,{"$f":"'Detailed price list'!B172","v":"17W LED SY RRW"},{"$f":"'Detailed price list'!C172","v":"Capital - LED Luminaire"},{"$f":"+'Detailed price list'!D172","v":67.009884696487063},66.25800000000001,0.75188469648705336,1.1347832661520922E-2]
[null,{"$f":"'Detailed price list'!B173","v":"1x17W LED"},{"$f":"'Detailed price list'!C173","v":"Capital - LED Luminaire"},{"$f":"+'Detailed price list'!D173","v":63.163567805258616},62.445600000000006,0.71796780525860981,1.1497492301436927E-2]
[null,{"$f":"'Detailed price list'!B174","v":"20W LED GE"},{"$f":"'Detailed price list'!C174","v":"Capital - LED Luminaire"},{"$f":"+'Detailed price list'!D174","v":56.272250041807659},55.620000000000005,0.65225004180765467,1.1726897551378184E-2]
[null,{"$f":"'Detailed price list'!B175","v":"1x22W LED"},{"$f":"'Detailed price list'!C175","v":"Capital - LED Luminaire"},{"$f":"+'Detailed price list'!D175","v":65.567515862276395},64.821600000000004,0.74591586227639084,1.1507211520178317E-2]
[null,{"$f":"'Detailed price list'!B176","v":"1x25W LED GE"},{"$f":"'Detailed price list'!C176","v":"Capital - LED Luminaire"},{"$f":"+'Detailed price list'!D176","v":56.272250041807659},55.620000000000005,0.65225004180765467,1.1726897551378184E-2]
[null,{"$f":"'Detailed price list'!B177","v":"25W LED PH"},{"$f":"'Detailed price list'!C177","v":"Capital - LED Luminaire"},{"$f":"+'Detailed price list'!D177","v":55.232013468739424},54.507600000000004,0.72441346873942081,1.3290136948598374E-2]
[null,{"$f":"'Detailed price list'!B178","v":"28W LED SY"},{"$f":"'Detailed price list'!C178","v":"Capital - LED Luminaire"},{"$f":"+'Detailed price list'!D178","v":69.8946223649084},69.12,0.77462236490839587,1.1206920788605263E-2]
[null,{"$f":"'Detailed price list'!B179","v":"1x29W LED"},{"$f":"'Detailed price list'!C179","v":"Capital - LED Luminaire"},{"$f":"+'Detailed price list'!D179","v":40.922778445149085},40.521600000000007,0.4011784451490783,9.9003604287362362E-3]
[null,{"$f":"'Detailed price list'!B180","v":"33W LED LRL"},{"$f":"'Detailed price list'!C180","v":"Capital - LED Luminaire"},{"$f":"+'Detailed price list'!D180","v":76.465413720756985},75.621600000000001,0.8438137207569838,1.1158369047428033E-2]
[null,{"$f":"'Detailed price list'!B181","v":"34W LED BOURKE HILL"},{"$f":"'Detailed price list'!C181","v":"Capital - LED Luminaire"},{"$f":"+'Detailed price list'!D181","v":156.62257629450431},173.21039999999999,-16.58782370549568,-9.5766903751135501E-2]
[null,{"$f":"'Detailed price list'!B182","v":"40W LED ALD"},{"$f":"'Detailed price list'!C182","v":"Capital - LED Luminaire"},{"$f":"+'Detailed price list'!D182","v":54.386420593127532},53.751600000000003,0.63482059312752881,1.1810264124742868E-2]
[null,{"$f":"'Detailed price list'!B183","v":"40W LED ALD ZHAGA"},{"$f":"'Detailed price list'!C183","v":"Capital - LED Luminaire"},{"$f":"+'Detailed price list'!D183","v":57.252303170148956},56.743200000000002,0.50910317014895412,8.9720560375332048E-3]
[null,{"$f":"'Detailed price list'!B184","v":"42W LED LRL"},{"$f":"'Detailed price list'!C184","v":"Capital - LED Luminaire"},{"$f":"+'Detailed price list'!D184","v":94.043182805061036},96.778800000000004,-2.7356171949389676,-2.8266698852837269E-2]
[null,{"$f":"'Detailed price list'!B185","v":"49W LED PH"},{"$f":"'Detailed price list'!C185","v":"Capital - LED Luminaire"},{"$f":"+'Detailed price list'!D185","v":59.143222123739257},58.395600000000002,0.74762212373925507,1.2802713282152338E-2]
[null,{"$f":"'Detailed price list'!B186","v":"49W LED PH ZHAGA"},{"$f":"'Detailed price list'!C186","v":"Capital - LED Luminaire"},{"$f":"+'Detailed price list'!D186","v":67.416932740085059},66.744,0.67293274008505932,1.0082295638335421E-2]
[null,{"$f":"'Detailed price list'!B187","v":"50W LED SY PT"},{"$f":"'Detailed price list'!C187","v":"Capital - LED Luminaire"},{"$f":"+'Detailed price list'!D187","v":201.39352632927802},199.34640000000002,2.0471263292780009,1.0269191363766793E-2]
[null,{"$f":"'Detailed price list'!B188","v":"58W LED ALD"},{"$f":"'Detailed price list'!C188","v":"Capital - LED Luminaire"},{"$f":"+'Detailed price list'!D188","v":83.647791538978225},80.4816,3.1661915389782251,3.93405640416968E-2]
[null,{"$f":"'Detailed price list'!B189","v":"58W LED ALD ZHAGA"},{"$f":"'Detailed price list'!C189","v":"Capital - LED Luminaire"},{"$f":"+'Detailed price list'!D189","v":86.647209629391966},83.473200000000006,3.1740096293919606,3.8024295575010428E-2]
[null,{"$f":"'Detailed price list'!B190","v":"70W LED PH FLOOD"},{"$f":"'Detailed price list'!C190","v":"Capital - LED Luminaire"},{"$f":"+'Detailed price list'!D190","v":86.789059576886871},89.704800000000006,-2.9157404231131352,-3.2503728040340484E-2]
[null,{"$f":"'Detailed price list'!B191","v":"74W LED ALD"},{"$f":"'Detailed price list'!C191","v":"Capital - LED Luminaire"},{"$f":"+'Detailed price list'!D191","v":93.693190044626604},94.186800000000005,-0.49360995537340102,-5.2407551310098763E-3]
[null,{"$f":"'Detailed price list'!B192","v":"74W LED ALD ZHAGA"},{"$f":"'Detailed price list'!C192","v":"Capital - LED Luminaire"},{"$f":"+'Detailed price list'!D192","v":96.692608135040331},97.167600000000007,-0.47499186495967649,-4.8883770409033096E-3]
[null,{"$f":"'Detailed price list'!B193","v":"76W LED PH"},{"$f":"'Detailed price list'!C193","v":"Capital - LED Luminaire"},{"$f":"+'Detailed price list'!D193","v":70.241638344195266},73.137600000000006,-2.8959616558047401,-3.9596071730611068E-2]
[null,{"$f":"'Detailed price list'!B194","v":"76W LED PH ZHAGA"},{"$f":"'Detailed price list'!C194","v":"Capital - LED Luminaire"},{"$f":"+'Detailed price list'!D194","v":78.515348960541061},81.496799999999993,-2.981451039458932,-3.6583657756610474E-2]
[null,{"$f":"'Detailed price list'!B195","v":"100W LED ALD"},{"$f":"'Detailed price list'!C195","v":"Capital - LED Luminaire"},{"$f":"+'Detailed price list'!D195","v":125.93556036149687},128.36880000000002,-2.4332396385031529,-1.8955070379275591E-2]
[null,{"$f":"'Detailed price list'!B196","v":"100W LED SY CT"},{"$f":"'Detailed price list'!C196","v":"Capital - LED Luminaire"},{"$f":"+'Detailed price list'!D196","v":219.48670857372727},217.2636,2.2231085737272736,1.0232310307512503E-2]
[null,{"$f":"'Detailed price list'!B197","v":"100W LED SY PT"},{"$f":"'Detailed price list'!C197","v":"Capital - LED Luminaire"},{"$f":"+'Detailed price list'!D197","v":216.47117819965237},214.28280000000001,2.1883781996523624,1.0212570489336345E-2]
[null,{"$f":"'Detailed price list'!B198","v":"110W LED SY FLOOD"},{"$f":"'Detailed price list'!C198","v":"Capital - LED Luminaire"},{"$f":"+'Detailed price list'!D198","v":129.06019927130811},131.67360000000002,{"$f":"IF(E199=0,0,D199-E199)","v":-2.6134007286919143},-1.9847567991548146E-2]
[null,{"$f":"'Detailed price list'!B199","v":"120W LED PH FLOOD"},{"$f":"'Detailed price list'!C199","v":"Capital - LED Luminaire"},{"$f":"+'Detailed price list'!D199","v":95.363632397463434},98.204400000000007,-2.8407676025365731,-2.8927090869009665E-2]
[null,{"$f":"'Detailed price list'!B200","v":"140W LED PH"},{"$f":"'Detailed price list'!C200","v":"Capital - LED Luminaire"},{"$f":"+'Detailed price list'!D200","v":75.506726918233511},78.364800000000002,-2.8580730817664914,-3.6471388707257482E-2]
[null,{"$f":"'Detailed price list'!B201","v":"140W LED PH ZHAGA"},{"$f":"'Detailed price list'!C201","v":"Capital - LED Luminaire"},{"$f":"+'Detailed price list'!D201","v":83.78043753457932},86.713200000000015,-2.9327624654206943,-3.3821407414565414E-2]
[null,{"$f":"'Detailed price list'!B202","v":"150W LED SY FLOOD"},{"$f":"'Detailed price list'!C202","v":"Capital - LED Luminaire"},{"$f":"+'Detailed price list'!D202","v":134.62615004957712},137.19240000000002,-2.5662499504229004,-1.8705481866509371E-2]
[null,{"$f":"'Detailed price list'!B203","v":"150W LED SY PT"},{"$f":"'Detailed price list'!C203","v":"Capital - LED Luminaire"},{"$f":"+'Detailed price list'!D203","v":231.54883007002687},229.19760000000002,2.351230070026844,1.025852831804017E-2]
[null,{"$f":"'Detailed price list'!B204","v":"152W LED PH FLOOD"},{"$f":"'Detailed price list'!C204","v":"Capital - LED Luminaire"},{"$f":"+'Detailed price list'!D204","v":96.115787908040332},98.97120000000001,-2.8554120919596784,-2.885093938397916E-2]
[null,{"$f":"'Detailed price list'!B205","v":"170W LED ALD"},{"$f":"'Detailed price list'!C205","v":"Capital - LED Luminaire"},{"$f":"+'Detailed price list'!D205","v":102.5414734113472},102.69720000000001,-0.15572658865281142,-1.516366450621939E-3]
[null,{"$f":"'Detailed price list'!B206","v":"170W LED ALD ZHAGA"},{"$f":"'Detailed price list'!C206","v":"Capital - LED Luminaire"},{"$f":"+'Detailed price list'!D206","v":105.54089150176094},105.6888,-0.14790849823906171,-1.399471828983409E-3]
[null,{"$f":"'Detailed price list'!B207","v":"175W LED SY FLOOD"},{"$f":"'Detailed price list'!C207","v":"Capital - LED Luminaire"},{"$f":"+'Detailed price list'!D207","v":153.27960671188401},155.70359999999999,-2.4239932881159802,{"$f":"IF(E208=0,0,F208/E208)","v":-1.5567997709211478E-2}]
[null,{"$f":"'Detailed price list'!B208","v":"200W LED ALD"},{"$f":"'Detailed price list'!C208","v":"Capital - LED Luminaire"},{"$f":"+'Detailed price list'!D208","v":125.93556036149687},128.36880000000002,-2.4332396385031529,-1.8955070379275591E-2]
[null,{"$f":"'Detailed price list'!B209","v":"224W LED PH"},{"$f":"'Detailed price list'!C209","v":"Capital - LED Luminaire"},{"$f":"+'Detailed price list'!D209","v":87.842077291694494},90.601200000000006,-2.7591227083055117,-3.0453489670175578E-2]
[null,{"$f":"'Detailed price list'!B210","v":"224W LED PH ZHAGA"},{"$f":"'Detailed price list'!C210","v":"Capital - LED Luminaire"},{"$f":"+'Detailed price list'!D210","v":96.115787908040332},98.97120000000001,-2.8554120919596784,-2.885093938397916E-2]
[null,{"$f":"'Detailed price list'!B211","v":"258W LED ALD"},{"$f":"'Detailed price list'!C211","v":"Capital - LED Luminaire"},{"$f":"+'Detailed price list'!D211","v":115.13930508155103},114.79320000000001,0.34610508155101627,3.0150312174503039E-3]
[null,{"$f":"'Detailed price list'!B212","v":"258W LED ALD ZHAGA"},{"$f":"'Detailed price list'!C212","v":"Capital - LED Luminaire"},{"$f":"+'Detailed price list'!D212","v":115.24350590193767},117.7848,-2.5412940980623375,-2.1575738958357422E-2]
[null,{"$f":"'Detailed price list'!B213","v":"298W LED ALD"},{"$f":"'Detailed price list'!C213","v":"Capital - LED Luminaire"},{"$f":"+'Detailed price list'!D213","v":182.18794489571277},184.07520000000002,-1.8872551042872487,-1.0252631013233985E-2]
[null,{"$f":"'Detailed price list'!B214","v":"600W LED ALD HM"},{"$f":"'Detailed price list'!C214","v":"Capital - LED Luminaire"},{"$f":"+'Detailed price list'!D214","v":409.90342292616651},406.60920000000004,3.2942229261664693,8.1016930412948565E-3]
[null,{"$f":"'Detailed price list'!B215","v":"COLONIAL ROCKS SPHERE"},{"$f":"'Detailed price list'!C215","v":"Capital - LED Luminaire"},{"$f":"+'Detailed price list'!D215","v":126.50175671794213},126.1764,0.32535671794212817,2.5785861535289338E-3]
[null,{"$f":"'Detailed price list'!B216","v":"LED TRIAL"},{"$f":"'Detailed price list'!C216","v":"Capital - LED Luminaire"},{"$f":"+'Detailed price list'!D216","v":40.922778445149085},40.521600000000007,0.4011784451490783,9.9003604287362362E-3]
[null,{"$f":"'Detailed price list'!B217","v":"Spare Luminaire 1"},{"$f":"'Detailed price list'!C217","v":"Capital - LED Luminaire"},{"$f":"+'Detailed price list'!D217","v":0},0,0,0]
[null,{"$f":"'Detailed price list'!B218","v":"Spare Luminaire 2"},{"$f":"'Detailed price list'!C218","v":"Capital - LED Luminaire"},{"$f":"+'Detailed price list'!D218","v":0},0,0,0]
[null,{"$f":"'Detailed price list'!B219","v":"Spare Luminaire 3"},{"$f":"'Detailed price list'!C219","v":"Capital - LED Luminaire"},{"$f":"+'Detailed price list'!D219","v":0},0,0,0]
[null,{"$f":"'Detailed price list'!B220","v":"Spare Luminaire 4"},{"$f":"'Detailed price list'!C220","v":"Capital - LED Luminaire"},{"$f":"+'Detailed price list'!D220","v":0},0,0,0]
[null,{"$f":"'Detailed price list'!B221","v":"Spare Luminaire 5"},{"$f":"'Detailed price list'!C221","v":"Capital - LED Luminaire"},{"$f":"+'Detailed price list'!D221","v":0},0,0,0]
[null,{"$f":"'Detailed price list'!B222","v":"Smart Controller - materials and installation"},{"$f":"'Detailed price list'!C222","v":"Capital - Smart Controller"},{"$f":"+'Detailed price list'!D222","v":50.218211099898113},49.518000000000008,0.70021109989810526,1.4140536772448507E-2]
[null,{"$f":"'Detailed price list'!B223","v":"Smart Controller - material price only"},{"$f":"'Detailed price list'!C223","v":"Capital - Smart Controller"},{"$f":"+'Detailed price list'!D223","v":22.465701286857865},22.258800000000001,0.20690128685786391,9.2952579140773046E-3]
[null,{"$f":"'Detailed price list'!B224","v":"Smart Controller - material price adjusted for PE Cell"},{"$f":"'Detailed price list'!C224","v":"Capital - Smart Controller"},{"$f":"+'Detailed price list'!D224","v":20.598634962574064},20.411999999999999,0.18663496257406464,9.1433942080180602E-3]
[null,{"$f":"'Detailed price list'!B225","v":"COLUMN 10.5M-13.5M"},{"$f":"'Detailed price list'!C225","v":"Capital - Support"},{"$f":"+'Detailed price list'!D225","v":427.75962353966827},449.74440000000004,-21.984776460331773,-4.8882824244908377E-2]
[null,{"$f":"'Detailed price list'!B226","v":"COLUMN 14M-15M"},{"$f":"'Detailed price list'!C226","v":"Capital - Support"},{"$f":"+'Detailed price list'!D226","v":427.75962353966827},449.74440000000004,-21.984776460331773,-4.8882824244908377E-2]
[null,{"$f":"'Detailed price list'!B227","v":"COLUMN 2.5M-3.5M"},{"$f":"'Detailed price list'!C227","v":"Capital - Support"},{"$f":"+'Detailed price list'!D227","v":373.98478131522666},393.20640000000003,-19.221618684773375,-4.8884297622758359E-2]
[null,{"$f":"'Detailed price list'!B228","v":"COLUMN 4-6.5M ORION WATE"},{"$f":"'Detailed price list'!C228","v":"Capital - Support"},{"$f":"+'Detailed price list'!D228","v":384.52886802590149},404.29800000000006,-19.76913197409857,-4.8897427081258299E-2]
[null,{"$f":"'Detailed price list'!B229","v":"COLUMN 4M-6.5M"},{"$f":"'Detailed price list'!C229","v":"Capital - Support"},{"$f":"+'Detailed price list'!D229","v":401.53120784686456},422.17200000000003,-20.640792153135465,-4.8891902241587466E-2]
[null,{"$f":"'Detailed price list'!B230","v":"COLUMN 7M-10M"},{"$f":"'Detailed price list'!C230","v":"Capital - Support"},{"$f":"+'Detailed price list'!D230","v":392.9641373944412},413.15400000000005,-20.189862605558858,-4.8867644039653144E-2]
[null,{"$f":"'Detailed price list'!B231","v":"DECORATIVE COLUMN"},{"$f":"'Detailed price list'!C231","v":"Capital - Support"},{"$f":"+'Detailed price list'!D231","v":412.47069780918969},433.66320000000007,-21.192502190810387,-4.8868574024289776E-2]
[null,{"$f":"'Detailed price list'!B232","v":"DEDICATED SUPPORT & COND"},{"$f":"'Detailed price list'!C232","v":"Capital - Support"},{"$f":"+'Detailed price list'!D232","v":381.49744309658246},401.10120000000001,-19.603756903417548,-4.8874839824507001E-2]
[null,{"$f":"'Detailed price list'!B233","v":"MACQUARIE STANDARD"},{"$f":"'Detailed price list'!C233","v":"Capital - Support"},{"$f":"+'Detailed price list'!D233","v":376.75260407677877},396.12239999999997,-19.369795923221204,-4.8898511983218332E-2]
[null,{"$f":"'Detailed price list'!B234","v":"MAST 15.5M-30M"},{"$f":"'Detailed price list'!C234","v":"Capital - Support"},{"$f":"+'Detailed price list'!D234","v":398.49978291754559},418.98599999999999,-20.486217082454402,-4.8894753243436305E-2]
[null,{"$f":"'Detailed price list'!B235","v":"ORION DOUBLE ARM"},{"$f":"'Detailed price list'!C235","v":"Capital - Support"},{"$f":"+'Detailed price list'!D235","v":365.79795698980706},384.60960000000006,-18.811643010192995,-4.8911007448053802E-2]
[null,{"$f":"'Detailed price list'!B236","v":"POLO 10.5M DECORATIVE 2M"},{"$f":"'Detailed price list'!C236","v":"Capital - Support"},{"$f":"+'Detailed price list'!D236","v":388.7465027101714},408.726,-19.979497289828601,-4.8882374230728165E-2]
[null,{"$f":"'Detailed price list'!B237","v":"ROCKS STANDARD"},{"$f":"'Detailed price list'!C237","v":"Capital - Support"},{"$f":"+'Detailed price list'!D237","v":390.47111989278608},410.54040000000003,-20.069280107213956,-4.8885030820874031E-2]

{"sheet":"Luminaire pricing","index":9,"n_rows":126,"n_cols":23,"rows_kept":126,"cut":false,"hidden":false,"merged":[]}
[null,"Luminaire Pricing - post July 2009 annuity capital and annual maintenance charge"]
[null,"This sheet displays the luminaire post July 2009 annuity capital charge, the applicable maintenance charge and the combined total cost by luminaire type."]
[]
[null,null,null,null,null,"Luminaire - post July 09 annual capital charge - Nominal $",null,null,null,null,"Luminnaire annual maintenance charge - Nominal $",null,null,null,null,"Luminnaire total annual charge - Nominal $"]
[null,"Luminaire Type","Maintenance Category","Charge Type","Road Type",{"$f":"'C_CAPEX Build Up'!S14","v":"FY25"},{"$f":"'C_CAPEX Build Up'!T14","v":"FY26"},{"$f":"'C_CAPEX Build Up'!U14","v":"FY27"},{"$f":"'C_CAPEX Build Up'!V14","v":"FY28"},{"$f":"'C_CAPEX Build Up'!W14","v":"FY29"},{"$f":"F5","v":"FY25"},{"$f":"G5","v":"FY26"},{"$f":"H5","v":"FY27"},{"$f":"I5","v":"FY28"},{"$f":"J5","v":"FY29"},{"$f":"K5","v":"FY25"},"FY26","FY27","FY28","FY29",null,"Capital Row Ref","Opex Row Ref"]
[null,"1000W SON","SON1x1000","Traditional","Major (Cat V)",{"$f":"INDEX('C_CAPEX Build Up'!S$15:S$189,$V6)","v":107.51621669521178},{"$f":"INDEX('C_CAPEX Build Up'!T$15:T$189,$V6)","v":110.60694050045444},{"$f":"INDEX('C_CAPEX Build Up'!U$15:U$189,$V6)","v":113.78651205289205},{"$f":"INDEX('C_CAPEX Build Up'!V$15:V$189,$V6)","v":117.05748542162914},{"$f":"INDEX('C_CAPEX Build Up'!W$15:W$189,$V6)","v":120.42248809652875},{"$f":"IF($W6=0,0,INDEX('O_OPEX Tariff Summary'!AB$5:AB$138,$W6))","v":56.95476945035864},{"$f":"IF($W6=0,0,INDEX('O_OPEX Tariff Summary'!AC$5:AC$138,$W6))","v":58.592024435449375},{"$f":"IF($W6=0,0,INDEX('O_OPEX Tariff Summary'!AD$5:AD$138,$W6))","v":60.276344906224161},{"$f":"IF($W6=0,0,INDEX('O_OPEX Tariff Summary'!AE$5:AE$138,$W6))","v":62.009083834555341},{"$f":"IF($W6=0,0,INDEX('O_OPEX Tariff Summary'!AF$5:AF$138,$W6))","v":63.791633085632952},{"$f":"F6+K6","v":164.47098614557041},169.1989649359038,174.0628569591162,179.06656925618449,184.2141211821617,null,{"$f":"MATCH($B6,'C_CAPEX Build Up'!$B$15:$B$189,0)","v":32},{"$f":"IFERROR(MATCH($C6,'O_OPEX Tariff Summary'!$B$5:$B$138,0),0)","v":20}]
[null,"1000W SON FLOODLIGHT","SON1x1000","Traditional","Major (Cat V)",{"$f":"INDEX('C_CAPEX Build Up'!S$15:S$189,$V7)","v":87.978477595122584},{"$f":"INDEX('C_CAPEX Build Up'!T$15:T$189,$V7)","v":90.507558169293901},{"$f":"INDEX('C_CAPEX Build Up'!U$15:U$189,$V7)","v":93.109341167120306},{"$f":"INDEX('C_CAPEX Build Up'!V$15:V$189,$V7)","v":95.785916534829425},{"$f":"INDEX('C_CAPEX Build Up'!W$15:W$189,$V7)","v":98.539434297460744},{"$f":"IF($W7=0,0,INDEX('O_OPEX Tariff Summary'!AB$5:AB$138,$W7))","v":56.95476945035864},{"$f":"IF($W7=0,0,INDEX('O_OPEX Tariff Summary'!AC$5:AC$138,$W7))","v":58.592024435449375},{"$f":"IF($W7=0,0,INDEX('O_OPEX Tariff Summary'!AD$5:AD$138,$W7))","v":60.276344906224161},{"$f":"IF($W7=0,0,INDEX('O_OPEX Tariff Summary'!AE$5:AE$138,$W7))","v":62.009083834555341},{"$f":"IF($W7=0,0,INDEX('O_OPEX Tariff Summary'!AF$5:AF$138,$W7))","v":63.791633085632952},144.93324704548121,149.09958260474326,153.38568607334446,157.79500036938475,162.33106738309368,null,{"$f":"MATCH($B7,'C_CAPEX Build Up'!$B$15:$B$189,0)","v":33},{"$f":"IFERROR(MATCH($C7,'O_OPEX Tariff Summary'!$B$5:$B$138,0),0)","v":20}]
[null,"1000W/1500W MBI FLOODLIG","MBI1x1000","Traditional","Major (Cat V)",{"$f":"INDEX('C_CAPEX Build Up'!S$15:S$189,$V8)","v":119.15351229851164},{"$f":"INDEX('C_CAPEX Build Up'!T$15:T$189,$V8)","v":122.57876858318228},{"$f":"INDEX('C_CAPEX Build Up'!U$15:U$189,$V8)","v":126.10248928060378},{"$f":"INDEX('C_CAPEX Build Up'!V$15:V$189,$V8)","v":129.72750490615152},{"$f":"INDEX('C_CAPEX Build Up'!W$15:W$189,$V8)","v":133.45672734284494},{"$f":"IF($W8=0,0,INDEX('O_OPEX Tariff Summary'!AB$5:AB$138,$W8))","v":48.458142705389989},{"$f":"IF($W8=0,0,INDEX('O_OPEX Tariff Summary'!AC$5:AC$138,$W8))","v":49.851148707842313},{"$f":"IF($W8=0,0,INDEX('O_OPEX Tariff Summary'!AD$5:AD$138,$W8))","v":51.284198872421641},{"$f":"IF($W8=0,0,INDEX('O_OPEX Tariff Summary'!AE$5:AE$138,$W8))","v":52.758444331942648},{"$f":"IF($W8=0,0,INDEX('O_OPEX Tariff Summary'!AF$5:AF$138,$W8))","v":54.275069310354553},167.61165500390163,172.42991729102459,177.38668815302543,182.48594923809418,187.7317966531995,null,{"$f":"MATCH($B8,'C_CAPEX Build Up'!$B$15:$B$189,0)","v":34},{"$f":"IFERROR(MATCH($C8,'O_OPEX Tariff Summary'!$B$5:$B$138,0),0)","v":13}]
[null,"100W MBI","MBI1x100","Traditional","Major (Cat V)",{"$f":"INDEX('C_CAPEX Build Up'!S$15:S$189,$V9)","v":40.400891953022295},{"$f":"INDEX('C_CAPEX Build Up'!T$15:T$189,$V9)","v":41.562279531104771},{"$f":"INDEX('C_CAPEX Build Up'!U$15:U$189,$V9)","v":42.75705303314389},{"$f":"INDEX('C_CAPEX Build Up'!V$15:V$189,$V9)","v":43.986172190360719},{"$f":"INDEX('C_CAPEX Build Up'!W$15:W$189,$V9)","v":45.250624322969152},{"$f":"IF($W9=0,0,INDEX('O_OPEX Tariff Summary'!AB$5:AB$138,$W9))","v":46.532768571080041},{"$f":"IF($W9=0,0,INDEX('O_OPEX Tariff Summary'!AC$5:AC$138,$W9))","v":47.870426646923491},{"$f":"IF($W9=0,0,INDEX('O_OPEX Tariff Summary'!AD$5:AD$138,$W9))","v":49.246537821149346},{"$f":"IF($W9=0,0,INDEX('O_OPEX Tariff Summary'!AE$5:AE$138,$W9))","v":50.662207488926896},{"$f":"IF($W9=0,0,INDEX('O_OPEX Tariff Summary'!AF$5:AF$138,$W9))","v":52.118572821758988},86.933660524102336,89.432706178028269,92.003590854293236,94.648379679287615,97.369197144728133,null,{"$f":"MATCH($B9,'C_CAPEX Build Up'!$B$15:$B$189,0)","v":35},{"$f":"IFERROR(MATCH($C9,'O_OPEX Tariff Summary'!$B$5:$B$138,0),0)","v":12}]
[null,"100W MBI FLOODLIGHT","MBI1x100","Traditional","Major (Cat V)",{"$f":"INDEX('C_CAPEX Build Up'!S$15:S$189,$V10)","v":43.762905499466214},{"$f":"INDEX('C_CAPEX Build Up'!T$15:T$189,$V10)","v":45.02093947770058},{"$f":"INDEX('C_CAPEX Build Up'!U$15:U$189,$V10)","v":46.315137633617603},{"$f":"INDEX('C_CAPEX Build Up'!V$15:V$189,$V10)","v":47.6465395637386},{"$f":"INDEX('C_CAPEX Build Up'!W$15:W$189,$V10)","v":49.016214749432159},{"$f":"IF($W10=0,0,INDEX('O_OPEX Tariff Summary'!AB$5:AB$138,$W10))","v":46.532768571080041},{"$f":"IF($W10=0,0,INDEX('O_OPEX Tariff Summary'!AC$5:AC$138,$W10))","v":47.870426646923491},{"$f":"IF($W10=0,0,INDEX('O_OPEX Tariff Summary'!AD$5:AD$138,$W10))","v":49.246537821149346},{"$f":"IF($W10=0,0,INDEX('O_OPEX Tariff Summary'!AE$5:AE$138,$W10))","v":50.662207488926896},{"$f":"IF($W10=0,0,INDEX('O_OPEX Tariff Summary'!AF$5:AF$138,$W10))","v":52.118572821758988},90.295674070546255,92.891366124624071,95.561675454766942,98.308747052665495,101.13478757119114,null,{"$f":"MATCH($B10,'C_CAPEX Build Up'!$B$15:$B$189,0)","v":36},{"$f":"IFERROR(MATCH($C10,'O_OPEX Tariff Summary'!$B$5:$B$138,0),0)","v":12}]
[null,"100W SON","SON1x100","Traditional","Major (Cat V)",{"$f":"INDEX('C_CAPEX Build Up'!S$15:S$189,$V11)","v":43.024761873488814},{"$f":"INDEX('C_CAPEX Build Up'!T$15:T$189,$V11)","v":44.261576745000291},{"$f":"INDEX('C_CAPEX Build Up'!U$15:U$189,$V11)","v":45.533945817390091},{"$f":"INDEX('C_CAPEX Build Up'!V$15:V$189,$V11)","v":46.842891152430923},{"$f":"INDEX('C_CAPEX Build Up'!W$15:W$189,$V11)","v":48.189464192678692},{"$f":"IF($W11=0,0,INDEX('O_OPEX Tariff Summary'!AB$5:AB$138,$W11))","v":55.614903493417778},{"$f":"IF($W11=0,0,INDEX('O_OPEX Tariff Summary'!AC$5:AC$138,$W11))","v":57.213641911089745},{"$f":"IF($W11=0,0,INDEX('O_OPEX Tariff Summary'!AD$5:AD$138,$W11))","v":58.858338594758578},{"$f":"IF($W11=0,0,INDEX('O_OPEX Tariff Summary'!AE$5:AE$138,$W11))","v":60.550314687514408},{"$f":"IF($W11=0,0,INDEX('O_OPEX Tariff Summary'!AF$5:AF$138,$W11))","v":62.290929310796344},98.639665366906598,101.47521865609004,104.39228441214867,107.39320583994532,110.48039350347503,null,{"$f":"MATCH($B11,'C_CAPEX Build Up'!$B$15:$B$189,0)","v":37},{"$f":"IFERROR(MATCH($C11,'O_OPEX Tariff Summary'!$B$5:$B$138,0),0)","v":19}]
[null,"100W SON - PLAIN","SON1x100","Traditional","Major (Cat V)",{"$f":"INDEX('C_CAPEX Build Up'!S$15:S$189,$V12)","v":43.024761873488814},{"$f":"INDEX('C_CAPEX Build Up'!T$15:T$189,$V12)","v":44.261576745000291},{"$f":"INDEX('C_CAPEX Build Up'!U$15:U$189,$V12)","v":45.533945817390091},{"$f":"INDEX('C_CAPEX Build Up'!V$15:V$189,$V12)","v":46.842891152430923},{"$f":"INDEX('C_CAPEX Build Up'!W$15:W$189,$V12)","v":48.189464192678692},{"$f":"IF($W12=0,0,INDEX('O_OPEX Tariff Summary'!AB$5:AB$138,$W12))","v":55.614903493417778},{"$f":"IF($W12=0,0,INDEX('O_OPEX Tariff Summary'!AC$5:AC$138,$W12))","v":57.213641911089745},{"$f":"IF($W12=0,0,INDEX('O_OPEX Tariff Summary'!AD$5:AD$138,$W12))","v":58.858338594758578},{"$f":"IF($W12=0,0,INDEX('O_OPEX Tariff Summary'!AE$5:AE$138,$W12))","v":60.550314687514408},{"$f":"IF($W12=0,0,INDEX('O_OPEX Tariff Summary'!AF$5:AF$138,$W12))","v":62.290929310796344},98.639665366906598,101.47521865609004,104.39228441214867,107.39320583994532,110.48039350347503,null,{"$f":"MATCH($B12,'C_CAPEX Build Up'!$B$15:$B$189,0)","v":38},{"$f":"IFERROR(MATCH($C12,'O_OPEX Tariff Summary'!$B$5:$B$138,0),0)","v":19}]
[null,"100W SON FLOODLIGHT","SON1x100","Traditional","Major (Cat V)",{"$f":"INDEX('C_CAPEX Build Up'!S$15:S$189,$V13)","v":63.22183238949011},{"$f":"INDEX('C_CAPEX Build Up'!T$15:T$189,$V13)","v":65.039244017088436},{"$f":"INDEX('C_CAPEX Build Up'!U$15:U$189,$V13)","v":66.908900018177562},{"$f":"INDEX('C_CAPEX Build Up'!V$15:V$189,$V13)","v":68.832302239956007},{"$f":"INDEX('C_CAPEX Build Up'!W$15:W$189,$V13)","v":70.810995702596827},{"$f":"IF($W13=0,0,INDEX('O_OPEX Tariff Summary'!AB$5:AB$138,$W13))","v":55.614903493417778},{"$f":"IF($W13=0,0,INDEX('O_OPEX Tariff Summary'!AC$5:AC$138,$W13))","v":57.213641911089745},{"$f":"IF($W13=0,0,INDEX('O_OPEX Tariff Summary'!AD$5:AD$138,$W13))","v":58.858338594758578},{"$f":"IF($W13=0,0,INDEX('O_OPEX Tariff Summary'!AE$5:AE$138,$W13))","v":60.550314687514408},{"$f":"IF($W13=0,0,INDEX('O_OPEX Tariff Summary'!AF$5:AF$138,$W13))","v":62.290929310796344},118.83673588290789,122.25288592817819,125.76723861293614,129.38261692747042,133.10192501339316,null,{"$f":"MATCH($B13,'C_CAPEX Build Up'!$B$15:$B$189,0)","v":39},{"$f":"IFERROR(MATCH($C13,'O_OPEX Tariff Summary'!$B$5:$B$138,0),0)","v":19}]
[null,"125W MBF","MBF1x125","Traditional","Minor (Cat P)",{"$f":"INDEX('C_CAPEX Build Up'!S$15:S$189,$V14)","v":26.094043482576225},{"$f":"INDEX('C_CAPEX Build Up'!T$15:T$189,$V14)","v":26.844158059201085},{"$f":"INDEX('C_CAPEX Build Up'!U$15:U$189,$V14)","v":27.615835866470547},{"$f":"INDEX('C_CAPEX Build Up'!V$15:V$189,$V14)","v":28.409696773575696},{"$f":"INDEX('C_CAPEX Build Up'!W$15:W$189,$V14)","v":29.226378468828525},{"$f":"IF($W14=0,0,INDEX('O_OPEX Tariff Summary'!AB$5:AB$138,$W14))","v":36.454663563234732},{"$f":"IF($W14=0,0,INDEX('O_OPEX Tariff Summary'!AC$5:AC$138,$W14))","v":37.502610560908614},{"$f":"IF($W14=0,0,INDEX('O_OPEX Tariff Summary'!AD$5:AD$138,$W14))","v":38.580682453522996},{"$f":"IF($W14=0,0,INDEX('O_OPEX Tariff Summary'!AE$5:AE$138,$W14))","v":39.689745228858932},{"$f":"IF($W14=0,0,INDEX('O_OPEX Tariff Summary'!AF$5:AF$138,$W14))","v":40.830689768886756},62.548707045810957,64.3467686201097,66.196518319993544,68.099442002434628,70.057068237715285,null,{"$f":"MATCH($B14,'C_CAPEX Build Up'!$B$15:$B$189,0)","v":40},{"$f":"IFERROR(MATCH($C14,'O_OPEX Tariff Summary'!$B$5:$B$138,0),0)","v":5}]
[null,"125W MBF - BOURKE HILL","MBF1x125","Traditional","Minor (Cat P)",{"$f":"INDEX('C_CAPEX Build Up'!S$15:S$189,$V15)","v":80.651315338020069},{"$f":"INDEX('C_CAPEX Build Up'!T$15:T$189,$V15)","v":82.969765037063951},{"$f":"INDEX('C_CAPEX Build Up'!U$15:U$189,$V15)","v":85.354862241910666},{"$f":"INDEX('C_CAPEX Build Up'!V$15:V$189,$V15)","v":87.808522840591593},{"$f":"INDEX('C_CAPEX Build Up'!W$15:W$189,$V15)","v":90.332717796371668},{"$f":"IF($W15=0,0,INDEX('O_OPEX Tariff Summary'!AB$5:AB$138,$W15))","v":36.454663563234732},{"$f":"IF($W15=0,0,INDEX('O_OPEX Tariff Summary'!AC$5:AC$138,$W15))","v":37.502610560908614},{"$f":"IF($W15=0,0,INDEX('O_OPEX Tariff Summary'!AD$5:AD$138,$W15))","v":38.580682453522996},{"$f":"IF($W15=0,0,INDEX('O_OPEX Tariff Summary'!AE$5:AE$138,$W15))","v":39.689745228858932},{"$f":"IF($W15=0,0,INDEX('O_OPEX Tariff Summary'!AF$5:AF$138,$W15))","v":40.830689768886756},117.1059789012548,120.47237559797256,123.93554469543366,127.49826806945052,131.16340756525841,null,{"$f":"MATCH($B15,'C_CAPEX Build Up'!$B$15:$B$189,0)","v":41},{"$f":"IFERROR(MATCH($C15,'O_OPEX Tariff Summary'!$B$5:$B$138,0),0)","v":5}]
[null,"125W MBF - PARKVILLE","MBF1x125","Traditional","Minor (Cat P)",{"$f":"INDEX('C_CAPEX Build Up'!S$15:S$189,$V16)","v":101.54231775240112},{"$f":"INDEX('C_CAPEX Build Up'!T$15:T$189,$V16)","v":104.46131237817498},{"$f":"INDEX('C_CAPEX Build Up'!U$15:U$189,$V16)","v":107.46421812409949},{"$f":"INDEX('C_CAPEX Build Up'!V$15:V$189,$V16)","v":110.55344714812202},{"$f":"INDEX('C_CAPEX Build Up'!W$15:W$189,$V16)","v":113.73148094948768},{"$f":"IF($W16=0,0,INDEX('O_OPEX Tariff Summary'!AB$5:AB$138,$W16))","v":36.454663563234732},{"$f":"IF($W16=0,0,INDEX('O_OPEX Tariff Summary'!AC$5:AC$138,$W16))","v":37.502610560908614},{"$f":"IF($W16=0,0,INDEX('O_OPEX Tariff Summary'!AD$5:AD$138,$W16))","v":38.580682453522996},{"$f":"IF($W16=0,0,INDEX('O_OPEX Tariff Summary'!AE$5:AE$138,$W16))","v":39.689745228858932},{"$f":"IF($W16=0,0,INDEX('O_OPEX Tariff Summary'!AF$5:AF$138,$W16))","v":40.830689768886756},137.99698131563585,141.9639229390836,146.04490057762249,150.24319237698094,154.56217071837443,null,{"$f":"MATCH($B16,'C_CAPEX Build Up'!$B$15:$B$189,0)","v":42},{"$f":"IFERROR(MATCH($C16,'O_OPEX Tariff Summary'!$B$5:$B$138,0),0)","v":5}]
[null,"125W MBF - PLAIN","MBF1x125","Traditional","Minor (Cat P)",{"$f":"INDEX('C_CAPEX Build Up'!S$15:S$189,$V17)","v":26.094043482576225},{"$f":"INDEX('C_CAPEX Build Up'!T$15:T$189,$V17)","v":26.844158059201085},{"$f":"INDEX('C_CAPEX Build Up'!U$15:U$189,$V17)","v":27.615835866470547},{"$f":"INDEX('C_CAPEX Build Up'!V$15:V$189,$V17)","v":28.409696773575696},{"$f":"INDEX('C_CAPEX Build Up'!W$15:W$189,$V17)","v":29.226378468828525},{"$f":"IF($W17=0,0,INDEX('O_OPEX Tariff Summary'!AB$5:AB$138,$W17))","v":36.454663563234732},{"$f":"IF($W17=0,0,INDEX('O_OPEX Tariff Summary'!AC$5:AC$138,$W17))","v":37.502610560908614},{"$f":"IF($W17=0,0,INDEX('O_OPEX Tariff Summary'!AD$5:AD$138,$W17))","v":38.580682453522996},{"$f":"IF($W17=0,0,INDEX('O_OPEX Tariff Summary'!AE$5:AE$138,$W17))","v":39.689745228858932},{"$f":"IF($W17=0,0,INDEX('O_OPEX Tariff Summary'!AF$5:AF$138,$W17))","v":40.830689768886756},62.548707045810957,64.3467686201097,66.196518319993544,68.099442002434628,70.057068237715285,null,{"$f":"MATCH($B17,'C_CAPEX Build Up'!$B$15:$B$189,0)","v":43},{"$f":"IFERROR(MATCH($C17,'O_OPEX Tariff Summary'!$B$5:$B$138,0),0)","v":5}]
[null,"125W/250W MBF FLOODLIGHT","MBF1x125","Traditional","Minor (Cat P)",{"$f":"INDEX('C_CAPEX Build Up'!S$15:S$189,$V18)","v":36.023132488936483},{"$f":"INDEX('C_CAPEX Build Up'!T$15:T$189,$V18)","v":37.058674442933871},{"$f":"INDEX('C_CAPEX Build Up'!U$15:U$189,$V18)","v":38.123984689258918},{"$f":"INDEX('C_CAPEX Build Up'!V$15:V$189,$V18)","v":39.219918964586213},{"$f":"INDEX('C_CAPEX Build Up'!W$15:W$189,$V18)","v":40.347357605095347},{"$f":"IF($W18=0,0,INDEX('O_OPEX Tariff Summary'!AB$5:AB$138,$W18))","v":36.454663563234732},{"$f":"IF($W18=0,0,INDEX('O_OPEX Tariff Summary'!AC$5:AC$138,$W18))","v":37.502610560908614},{"$f":"IF($W18=0,0,INDEX('O_OPEX Tariff Summary'!AD$5:AD$138,$W18))","v":38.580682453522996},{"$f":"IF($W18=0,0,INDEX('O_OPEX Tariff Summary'!AE$5:AE$138,$W18))","v":39.689745228858932},{"$f":"IF($W18=0,0,INDEX('O_OPEX Tariff Summary'!AF$5:AF$138,$W18))","v":40.830689768886756},72.477796052171215,74.561285003842485,76.704667142781915,78.909664193445138,81.17804737398211,null,{"$f":"MATCH($B18,'C_CAPEX Build Up'!$B$15:$B$189,0)","v":44},{"$f":"IFERROR(MATCH($C18,'O_OPEX Tariff Summary'!$B$5:$B$138,0),0)","v":5}]
[null,"150W SON","SON1x150","Traditional","Major (Cat V)",{"$f":"INDEX('C_CAPEX Build Up'!S$15:S$189,$V19)","v":43.409211678685381},{"$f":"INDEX('C_CAPEX Build Up'!T$15:T$189,$V19)","v":44.657078168281693},{"$f":"INDEX('C_CAPEX Build Up'!U$15:U$189,$V19)","v":45.940816555008588},{"$f":"INDEX('C_CAPEX Build Up'!V$15:V$189,$V19)","v":47.261458033320338},{"$f":"INDEX('C_CAPEX Build Up'!W$15:W$189,$V19)","v":48.620063440987785},{"$f":"IF($W19=0,0,INDEX('O_OPEX Tariff Summary'!AB$5:AB$138,$W19))","v":54.950028348003762},{"$f":"IF($W19=0,0,INDEX('O_OPEX Tariff Summary'!AC$5:AC$138,$W19))","v":56.529653877382138},{"$f":"IF($W19=0,0,INDEX('O_OPEX Tariff Summary'!AD$5:AD$138,$W19))","v":58.154688242535116},{"$f":"IF($W19=0,0,INDEX('O_OPEX Tariff Summary'!AE$5:AE$138,$W19))","v":59.826436792311547},{"$f":"IF($W19=0,0,INDEX('O_OPEX Tariff Summary'!AF$5:AF$138,$W19))","v":61.546242399878814},98.35924002668915,101.18673204566383,104.0955047975437,107.08789482563188,110.1663058408666,null,{"$f":"MATCH($B19,'C_CAPEX Build Up'!$B$15:$B$189,0)","v":45},{"$f":"IFERROR(MATCH($C19,'O_OPEX Tariff Summary'!$B$5:$B$138,0),0)","v":21}]
[null,"150W SON - PARKVILLE","SON1x150","Traditional","Major (Cat V)",{"$f":"INDEX('C_CAPEX Build Up'!S$15:S$189,$V20)","v":117.11592833096987},{"$f":"INDEX('C_CAPEX Build Up'!T$15:T$189,$V20)","v":120.48261103979087},{"$f":"INDEX('C_CAPEX Build Up'!U$15:U$189,$V20)","v":123.94607437122576},{"$f":"INDEX('C_CAPEX Build Up'!V$15:V$189,$V20)","v":127.50910043743764},{"$f":"INDEX('C_CAPEX Build Up'!W$15:W$189,$V20)","v":131.17455132680675},{"$f":"IF($W20=0,0,INDEX('O_OPEX Tariff Summary'!AB$5:AB$138,$W20))","v":54.950028348003762},{"$f":"IF($W20=0,0,INDEX('O_OPEX Tariff Summary'!AC$5:AC$138,$W20))","v":56.529653877382138},{"$f":"IF($W20=0,0,INDEX('O_OPEX Tariff Summary'!AD$5:AD$138,$W20))","v":58.154688242535116},{"$f":"IF($W20=0,0,INDEX('O_OPEX Tariff Summary'!AE$5:AE$138,$W20))","v":59.826436792311547},{"$f":"IF($W20=0,0,INDEX('O_OPEX Tariff Summary'!AF$5:AF$138,$W20))","v":61.546242399878814},172.06595667897363,177.01226491717301,182.10076261376088,187.33553722974918,192.72079372668557,null,{"$f":"MATCH($B20,'C_CAPEX Build Up'!$B$15:$B$189,0)","v":46},{"$f":"IFERROR(MATCH($C20,'O_OPEX Tariff Summary'!$B$5:$B$138,0),0)","v":21}]
[null,"150W SON - PARKWAY 1","SON1x150","Traditional","Major (Cat V)",{"$f":"INDEX('C_CAPEX Build Up'!S$15:S$189,$V21)","v":51.770994941710555},{"$f":"INDEX('C_CAPEX Build Up'!T$15:T$189,$V21)","v":53.259234124652046},{"$f":"INDEX('C_CAPEX Build Up'!U$15:U$189,$V21)","v":54.790255098210771},{"$f":"INDEX('C_CAPEX Build Up'!V$15:V$189,$V21)","v":56.365287692664957},{"$f":"INDEX('C_CAPEX Build Up'!W$15:W$189,$V21)","v":57.985597091710517},{"$f":"IF($W21=0,0,INDEX('O_OPEX Tariff Summary'!AB$5:AB$138,$W21))","v":54.950028348003762},{"$f":"IF($W21=0,0,INDEX('O_OPEX Tariff Summary'!AC$5:AC$138,$W21))","v":56.529653877382138},{"$f":"IF($W21=0,0,INDEX('O_OPEX Tariff Summary'!AD$5:AD$138,$W21))","v":58.154688242535116},{"$f":"IF($W21=0,0,INDEX('O_OPEX Tariff Summary'!AE$5:AE$138,$W21))","v":59.826436792311547},{"$f":"IF($W21=0,0,INDEX('O_OPEX Tariff Summary'!AF$5:AF$138,$W21))","v":61.546242399878814},106.72102328971431,109.78888800203418,112.94494334074588,116.1917244849765,119.53183949158932,null,{"$f":"MATCH($B21,'C_CAPEX Build Up'!$B$15:$B$189,0)","v":47},{"$f":"IFERROR(MATCH($C21,'O_OPEX Tariff Summary'!$B$5:$B$138,0),0)","v":21}]
[null,"150W SON ACTIVE REACTOR","SON1x150 AR","Traditional","Major (Cat V)",{"$f":"INDEX('C_CAPEX Build Up'!S$15:S$189,$V22)","v":63.785051354103054},{"$f":"INDEX('C_CAPEX Build Up'!T$15:T$189,$V22)","v":65.618653602195664},{"$f":"INDEX('C_CAPEX Build Up'!U$15:U$189,$V22)","v":67.504965648788641},{"$f":"INDEX('C_CAPEX Build Up'!V$15:V$189,$V22)","v":69.445502720458975},{"$f":"INDEX('C_CAPEX Build Up'!W$15:W$189,$V22)","v":71.441823601369634},{"$f":"IF($W22=0,0,INDEX('O_OPEX Tariff Summary'!AB$5:AB$138,$W22))","v":54.950028348003762},{"$f":"IF($W22=0,0,INDEX('O_OPEX Tariff Summary'!AC$5:AC$138,$W22))","v":56.529653877382138},{"$f":"IF($W22=0,0,INDEX('O_OPEX Tariff Summary'!AD$5:AD$138,$W22))","v":58.154688242535116},{"$f":"IF($W22=0,0,INDEX('O_OPEX Tariff Summary'!AE$5:AE$138,$W22))","v":59.826436792311547},{"$f":"IF($W22=0,0,INDEX('O_OPEX Tariff Summary'!AF$5:AF$138,$W22))","v":61.546242399878814},118.73507970210682,122.1483074795778,125.65965389132376,129.27193951277053,132.98806600124846,null,{"$f":"MATCH($B22,'C_CAPEX Build Up'!$B$15:$B$189,0)","v":48},{"$f":"IFERROR(MATCH($C22,'O_OPEX Tariff Summary'!$B$5:$B$138,0),0)","v":22}]
[null,"150W SON FLOODLIGHT","SON1x150","Traditional","Major (Cat V)",{"$f":"INDEX('C_CAPEX Build Up'!S$15:S$189,$V23)","v":50.809870428719158},{"$f":"INDEX('C_CAPEX Build Up'!T$15:T$189,$V23)","v":52.270480566448562},{"$f":"INDEX('C_CAPEX Build Up'!U$15:U$189,$V23)","v":53.773078254164552},{"$f":"INDEX('C_CAPEX Build Up'!V$15:V$189,$V23)","v":55.318870490441448},{"$f":"INDEX('C_CAPEX Build Up'!W$15:W$189,$V23)","v":56.909098970937798},{"$f":"IF($W23=0,0,INDEX('O_OPEX Tariff Summary'!AB$5:AB$138,$W23))","v":54.950028348003762},{"$f":"IF($W23=0,0,INDEX('O_OPEX Tariff Summary'!AC$5:AC$138,$W23))","v":56.529653877382138},{"$f":"IF($W23=0,0,INDEX('O_OPEX Tariff Summary'!AD$5:AD$138,$W23))","v":58.154688242535116},{"$f":"IF($W23=0,0,INDEX('O_OPEX Tariff Summary'!AE$5:AE$138,$W23))","v":59.826436792311547},{"$f":"IF($W23=0,0,INDEX('O_OPEX Tariff Summary'!AF$5:AF$138,$W23))","v":61.546242399878814},105.75989877672292,108.8001344438307,111.92776649669966,115.145307282753,118.45534137081661,null,{"$f":"MATCH($B23,'C_CAPEX Build Up'!$B$15:$B$189,0)","v":49},{"$f":"IFERROR(MATCH($C23,'O_OPEX Tariff Summary'!$B$5:$B$138,0),0)","v":21}]
[null,"150W/250W MBI FLOODLIGHT","MBI1x250","Traditional","Major (Cat V)",{"$f":"INDEX('C_CAPEX Build Up'!S$15:S$189,$V24)","v":77.994316154167919},{"$f":"INDEX('C_CAPEX Build Up'!T$15:T$189,$V24)","v":80.236386206676045},{"$f":"INDEX('C_CAPEX Build Up'!U$15:U$189,$V24)","v":82.542908111168074},{"$f":"INDEX('C_CAPEX Build Up'!V$15:V$189,$V24)","v":84.915734638131482},{"$f":"INDEX('C_CAPEX Build Up'!W$15:W$189,$V24)","v":87.356771818873625},{"$f":"IF($W24=0,0,INDEX('O_OPEX Tariff Summary'!AB$5:AB$138,$W24))","v":46.184034334560828},{"$f":"IF($W24=0,0,INDEX('O_OPEX Tariff Summary'!AC$5:AC$138,$W24))","v":47.511667492864923},{"$f":"IF($W24=0,0,INDEX('O_OPEX Tariff Summary'!AD$5:AD$138,$W24))","v":48.877465567431209},{"$f":"IF($W24=0,0,INDEX('O_OPEX Tariff Summary'!AE$5:AE$138,$W24))","v":50.282525669177851},{"$f":"IF($W24=0,0,INDEX('O_OPEX Tariff Summary'!AF$5:AF$138,$W24))","v":51.727976447212662},124.17835048872874,127.74805369954098,131.42037367859928,135.19826030730934,139.08474826608628,null,{"$f":"MATCH($B24,'C_CAPEX Build Up'!$B$15:$B$189,0)","v":50},{"$f":"IFERROR(MATCH($C24,'O_OPEX Tariff Summary'!$B$5:$B$138,0),0)","v":15}]
[null,"250W MBF","MBF1x250","Traditional","Major (Cat V)",{"$f":"INDEX('C_CAPEX Build Up'!S$15:S$189,$V25)","v":42.640312068292261},{"$f":"INDEX('C_CAPEX Build Up'!T$15:T$189,$V25)","v":43.866075321718903},{"$f":"INDEX('C_CAPEX Build Up'!U$15:U$189,$V25)","v":45.127075079771608},{"$f":"INDEX('C_CAPEX Build Up'!V$15:V$189,$V25)","v":46.424324271541529},{"$f":"INDEX('C_CAPEX Build Up'!W$15:W$189,$V25)","v":47.758864944369613},{"$f":"IF($W25=0,0,INDEX('O_OPEX Tariff Summary'!AB$5:AB$138,$W25))","v":49.589613652000942},{"$f":"IF($W25=0,0,INDEX('O_OPEX Tariff Summary'!AC$5:AC$138,$W25))","v":51.015145577491879},{"$f":"IF($W25=0,0,INDEX('O_OPEX Tariff Summary'!AD$5:AD$138,$W25))","v":52.481656674243446},{"$f":"IF($W25=0,0,INDEX('O_OPEX Tariff Summary'!AE$5:AE$138,$W25))","v":53.990324953387614},{"$f":"IF($W25=0,0,INDEX('O_OPEX Tariff Summary'!AF$5:AF$138,$W25))","v":55.542362289850679},92.22992572029321,94.881220899210774,97.608731754015054,100.41464922492915,103.30122723422029,null,{"$f":"MATCH($B25,'C_CAPEX Build Up'!$B$15:$B$189,0)","v":51},{"$f":"IFERROR(MATCH($C25,'O_OPEX Tariff Summary'!$B$5:$B$138,0),0)","v":6}]
[null,"250W MBF - PARKWAY 1","MBF1x250","Traditional","Major (Cat V)",{"$f":"INDEX('C_CAPEX Build Up'!S$15:S$189,$V26)","v":51.770994941710555},{"$f":"INDEX('C_CAPEX Build Up'!T$15:T$189,$V26)","v":53.259234124652046},{"$f":"INDEX('C_CAPEX Build Up'!U$15:U$189,$V26)","v":54.790255098210771},{"$f":"INDEX('C_CAPEX Build Up'!V$15:V$189,$V26)","v":56.365287692664957},{"$f":"INDEX('C_CAPEX Build Up'!W$15:W$189,$V26)","v":57.985597091710517},{"$f":"IF($W26=0,0,INDEX('O_OPEX Tariff Summary'!AB$5:AB$138,$W26))","v":49.589613652000942},{"$f":"IF($W26=0,0,INDEX('O_OPEX Tariff Summary'!AC$5:AC$138,$W26))","v":51.015145577491879},{"$f":"IF($W26=0,0,INDEX('O_OPEX Tariff Summary'!AD$5:AD$138,$W26))","v":52.481656674243446},{"$f":"IF($W26=0,0,INDEX('O_OPEX Tariff Summary'!AE$5:AE$138,$W26))","v":53.990324953387614},{"$f":"IF($W26=0,0,INDEX('O_OPEX Tariff Summary'!AF$5:AF$138,$W26))","v":55.542362289850679},101.3606085937115,104.27437970214393,107.27191177245422,110.35561264605258,113.5279593815612,null,{"$f":"MATCH($B26,'C_CAPEX Build Up'!$B$15:$B$189,0)","v":52},{"$f":"IFERROR(MATCH($C26,'O_OPEX Tariff Summary'!$B$5:$B$138,0),0)","v":6}]
[null,"250W SON","SON1x250","Traditional","Major (Cat V)",{"$f":"INDEX('C_CAPEX Build Up'!S$15:S$189,$V27)","v":43.409211678685381},{"$f":"INDEX('C_CAPEX Build Up'!T$15:T$189,$V27)","v":44.657078168281693},{"$f":"INDEX('C_CAPEX Build Up'!U$15:U$189,$V27)","v":45.940816555008588},{"$f":"INDEX('C_CAPEX Build Up'!V$15:V$189,$V27)","v":47.261458033320338},{"$f":"INDEX('C_CAPEX Build Up'!W$15:W$189,$V27)","v":48.620063440987785},{"$f":"IF($W27=0,0,INDEX('O_OPEX Tariff Summary'!AB$5:AB$138,$W27))","v":55.262694391490292},{"$f":"IF($W27=0,0,INDEX('O_OPEX Tariff Summary'!AC$5:AC$138,$W27))","v":56.851308001117388},{"$f":"IF($W27=0,0,INDEX('O_OPEX Tariff Summary'!AD$5:AD$138,$W27))","v":58.485588823110461},{"$f":"IF($W27=0,0,INDEX('O_OPEX Tariff Summary'!AE$5:AE$138,$W27))","v":60.166849633762403},{"$f":"IF($W27=0,0,INDEX('O_OPEX Tariff Summary'!AF$5:AF$138,$W27))","v":61.896440947198258},98.67190607017568,101.50838616939907,104.42640537811906,107.42830766708275,110.51650438818604,null,{"$f":"MATCH($B27,'C_CAPEX Build Up'!$B$15:$B$189,0)","v":53},{"$f":"IFERROR(MATCH($C27,'O_OPEX Tariff Summary'!$B$5:$B$138,0),0)","v":23}]
[null,"250W SON - PARKVILLE","SON1x250","Traditional","Major (Cat V)",{"$f":"INDEX('C_CAPEX Build Up'!S$15:S$189,$V28)","v":126.48881458166201},{"$f":"INDEX('C_CAPEX Build Up'!T$15:T$189,$V28)","v":130.1249357393913},{"$f":"INDEX('C_CAPEX Build Up'!U$15:U$189,$V28)","v":133.86558295436458},{"$f":"INDEX('C_CAPEX Build Up'!V$15:V$189,$V28)","v":137.71376099352142},{"$f":"INDEX('C_CAPEX Build Up'!W$15:W$189,$V28)","v":141.67256100058239},{"$f":"IF($W28=0,0,INDEX('O_OPEX Tariff Summary'!AB$5:AB$138,$W28))","v":55.262694391490292},{"$f":"IF($W28=0,0,INDEX('O_OPEX Tariff Summary'!AC$5:AC$138,$W28))","v":56.851308001117388},{"$f":"IF($W28=0,0,INDEX('O_OPEX Tariff Summary'!AD$5:AD$138,$W28))","v":58.485588823110461},{"$f":"IF($W28=0,0,INDEX('O_OPEX Tariff Summary'!AE$5:AE$138,$W28))","v":60.166849633762403},{"$f":"IF($W28=0,0,INDEX('O_OPEX Tariff Summary'!AF$5:AF$138,$W28))","v":61.896440947198258},181.75150897315231,186.97624374050869,192.35117177747503,197.88061062728383,203.56900194778063,null,{"$f":"MATCH($B28,'C_CAPEX Build Up'!$B$15:$B$189,0)","v":54},{"$f":"IFERROR(MATCH($C28,'O_OPEX Tariff Summary'!$B$5:$B$138,0),0)","v":23}]
[null,"250W SON - PARKWAY 1","SON1x250","Traditional","Major (Cat V)",{"$f":"INDEX('C_CAPEX Build Up'!S$15:S$189,$V29)","v":51.770994941710555},{"$f":"INDEX('C_CAPEX Build Up'!T$15:T$189,$V29)","v":53.259234124652046},{"$f":"INDEX('C_CAPEX Build Up'!U$15:U$189,$V29)","v":54.790255098210771},{"$f":"INDEX('C_CAPEX Build Up'!V$15:V$189,$V29)","v":56.365287692664957},{"$f":"INDEX('C_CAPEX Build Up'!W$15:W$189,$V29)","v":57.985597091710517},{"$f":"IF($W29=0,0,INDEX('O_OPEX Tariff Summary'!AB$5:AB$138,$W29))","v":55.262694391490292},{"$f":"IF($W29=0,0,INDEX('O_OPEX Tariff Summary'!AC$5:AC$138,$W29))","v":56.851308001117388},{"$f":"IF($W29=0,0,INDEX('O_OPEX Tariff Summary'!AD$5:AD$138,$W29))","v":58.485588823110461},{"$f":"IF($W29=0,0,INDEX('O_OPEX Tariff Summary'!AE$5:AE$138,$W29))","v":60.166849633762403},{"$f":"IF($W29=0,0,INDEX('O_OPEX Tariff Summary'!AF$5:AF$138,$W29))","v":61.896440947198258},107.03368933320084,110.11054212576943,113.27584392132124,116.53213732642736,119.88203803890877,null,{"$f":"MATCH($B29,'C_CAPEX Build Up'!$B$15:$B$189,0)","v":55},{"$f":"IFERROR(MATCH($C29,'O_OPEX Tariff Summary'!$B$5:$B$138,0),0)","v":23}]
[null,"250W SON ACTIVE REACTOR","SON1x250 AR","Traditional","Major (Cat V)",{"$f":"INDEX('C_CAPEX Build Up'!S$15:S$189,$V30)","v":63.785051354103054},{"$f":"INDEX('C_CAPEX Build Up'!T$15:T$189,$V30)","v":65.618653602195664},{"$f":"INDEX('C_CAPEX Build Up'!U$15:U$189,$V30)","v":67.504965648788641},{"$f":"INDEX('C_CAPEX Build Up'!V$15:V$189,$V30)","v":69.445502720458975},{"$f":"INDEX('C_CAPEX Build Up'!W$15:W$189,$V30)","v":71.441823601369634},{"$f":"IF($W30=0,0,INDEX('O_OPEX Tariff Summary'!AB$5:AB$138,$W30))","v":55.262694391490292},{"$f":"IF($W30=0,0,INDEX('O_OPEX Tariff Summary'!AC$5:AC$138,$W30))","v":56.851308001117388},{"$f":"IF($W30=0,0,INDEX('O_OPEX Tariff Summary'!AD$5:AD$138,$W30))","v":58.485588823110461},{"$f":"IF($W30=0,0,INDEX('O_OPEX Tariff Summary'!AE$5:AE$138,$W30))","v":60.166849633762403},{"$f":"IF($W30=0,0,INDEX('O_OPEX Tariff Summary'!AF$5:AF$138,$W30))","v":61.896440947198258},119.04774574559335,122.46996160331305,125.9905544718991,129.61235235422137,133.33826454856791,null,{"$f":"MATCH($B30,'C_CAPEX Build Up'!$B$15:$B$189,0)","v":56},{"$f":"IFERROR(MATCH($C30,'O_OPEX Tariff Summary'!$B$5:$B$138,0),0)","v":24}]
[null,"250W SON FLOODLIGHT","SON1x250","Traditional","Major (Cat V)",{"$f":"INDEX('C_CAPEX Build Up'!S$15:S$189,$V31)","v":50.809870428719158},{"$f":"INDEX('C_CAPEX Build Up'!T$15:T$189,$V31)","v":52.270480566448562},{"$f":"INDEX('C_CAPEX Build Up'!U$15:U$189,$V31)","v":53.773078254164552},{"$f":"INDEX('C_CAPEX Build Up'!V$15:V$189,$V31)","v":55.318870490441448},{"$f":"INDEX('C_CAPEX Build Up'!W$15:W$189,$V31)","v":56.909098970937798},{"$f":"IF($W31=0,0,INDEX('O_OPEX Tariff Summary'!AB$5:AB$138,$W31))","v":55.262694391490292},{"$f":"IF($W31=0,0,INDEX('O_OPEX Tariff Summary'!AC$5:AC$138,$W31))","v":56.851308001117388},{"$f":"IF($W31=0,0,INDEX('O_OPEX Tariff Summary'!AD$5:AD$138,$W31))","v":58.485588823110461},{"$f":"IF($W31=0,0,INDEX('O_OPEX Tariff Summary'!AE$5:AE$138,$W31))","v":60.166849633762403},{"$f":"IF($W31=0,0,INDEX('O_OPEX Tariff Summary'!AF$5:AF$138,$W31))","v":61.896440947198258},106.07256482020945,109.12178856756594,112.25866707727502,115.48572012420385,118.80553991813605,null,{"$f":"MATCH($B31,'C_CAPEX Build Up'!$B$15:$B$189,0)","v":57},{"$f":"IFERROR(MATCH($C31,'O_OPEX Tariff Summary'!$B$5:$B$138,0),0)","v":23}]
[null,"250W SON GEC 'BOSTON 3'","SON1x250","Traditional","Major (Cat V)",{"$f":"INDEX('C_CAPEX Build Up'!S$15:S$189,$V32)","v":109.06747165917987},{"$f":"INDEX('C_CAPEX Build Up'!T$15:T$189,$V32)","v":112.20278874339485},{"$f":"INDEX('C_CAPEX Build Up'!U$15:U$189,$V32)","v":115.42823547918265},{"$f":"INDEX('C_CAPEX Build Up'!V$15:V$189,$V32)","v":118.7464027860179},{"$f":"INDEX('C_CAPEX Build Up'!W$15:W$189,$V32)","v":122.15995606345594},{"$f":"IF($W32=0,0,INDEX('O_OPEX Tariff Summary'!AB$5:AB$138,$W32))","v":55.262694391490292},{"$f":"IF($W32=0,0,INDEX('O_OPEX Tariff Summary'!AC$5:AC$138,$W32))","v":56.851308001117388},{"$f":"IF($W32=0,0,INDEX('O_OPEX Tariff Summary'!AD$5:AD$138,$W32))","v":58.485588823110461},{"$f":"IF($W32=0,0,INDEX('O_OPEX Tariff Summary'!AE$5:AE$138,$W32))","v":60.166849633762403},{"$f":"IF($W32=0,0,INDEX('O_OPEX Tariff Summary'!AF$5:AF$138,$W32))","v":61.896440947198258},164.33016605067016,169.05409674451224,173.91382430229311,178.91325241978029,184.05639701065419,null,{"$f":"MATCH($B32,'C_CAPEX Build Up'!$B$15:$B$189,0)","v":58},{"$f":"IFERROR(MATCH($C32,'O_OPEX Tariff Summary'!$B$5:$B$138,0),0)","v":23}]
[null,"2X14W TF - T5 PIERLIGHT","TF2x14 T5","Traditional","Minor (Cat P)",{"$f":"INDEX('C_CAPEX Build Up'!S$15:S$189,$V33)","v":34.143461278879201},{"$f":"INDEX('C_CAPEX Build Up'!T$15:T$189,$V33)","v":35.124969109155309},{"$f":"INDEX('C_CAPEX Build Up'!U$15:U$189,$V33)","v":36.134691935357715},{"$f":"INDEX('C_CAPEX Build Up'!V$15:V$189,$V33)","v":37.173440842197678},{"$f":"INDEX('C_CAPEX Build Up'!W$15:W$189,$V33)","v":38.242050230300123},{"$f":"IF($W33=0,0,INDEX('O_OPEX Tariff Summary'!AB$5:AB$138,$W33))","v":38.721045102886279},{"$f":"IF($W33=0,0,INDEX('O_OPEX Tariff Summary'!AC$5:AC$138,$W33))","v":39.834142824717624},{"$f":"IF($W33=0,0,INDEX('O_OPEX Tariff Summary'!AD$5:AD$138,$W33))","v":40.979238302163623},{"$f":"IF($W33=0,0,INDEX('O_OPEX Tariff Summary'!AE$5:AE$138,$W33))","v":42.157251361349417},{"$f":"IF($W33=0,0,INDEX('O_OPEX Tariff Summary'!AF$5:AF$138,$W33))","v":43.369128270257839},72.86450638176548,74.959111933872933,77.113930237521345,79.330692203547102,81.611178500557969,null,{"$f":"MATCH($B33,'C_CAPEX Build Up'!$B$15:$B$189,0)","v":59},{"$f":"IFERROR(MATCH($C33,'O_OPEX Tariff Summary'!$B$5:$B$138,0),0)","v":37}]
[null,"2x14W TF - T5 PIERLITE M","TF2x14 T5","Traditional","Minor (Cat P)",{"$f":"INDEX('C_CAPEX Build Up'!S$15:S$189,$V34)","v":34.143461278879201},{"$f":"INDEX('C_CAPEX Build Up'!T$15:T$189,$V34)","v":35.124969109155309},{"$f":"INDEX('C_CAPEX Build Up'!U$15:U$189,$V34)","v":36.134691935357715},{"$f":"INDEX('C_CAPEX Build Up'!V$15:V$189,$V34)","v":37.173440842197678},{"$f":"INDEX('C_CAPEX Build Up'!W$15:W$189,$V34)","v":38.242050230300123},{"$f":"IF($W34=0,0,INDEX('O_OPEX Tariff Summary'!AB$5:AB$138,$W34))","v":38.721045102886279},{"$f":"IF($W34=0,0,INDEX('O_OPEX Tariff Summary'!AC$5:AC$138,$W34))","v":39.834142824717624},{"$f":"IF($W34=0,0,INDEX('O_OPEX Tariff Summary'!AD$5:AD$138,$W34))","v":40.979238302163623},{"$f":"IF($W34=0,0,INDEX('O_OPEX Tariff Summary'!AE$5:AE$138,$W34))","v":42.157251361349417},{"$f":"IF($W34=0,0,INDEX('O_OPEX Tariff Summary'!AF$5:AF$138,$W34))","v":43.369128270257839},72.86450638176548,74.959111933872933,77.113930237521345,79.330692203547102,81.611178500557969,null,{"$f":"MATCH($B34,'C_CAPEX Build Up'!$B$15:$B$189,0)","v":60},{"$f":"IFERROR(MATCH($C34,'O_OPEX Tariff Summary'!$B$5:$B$138,0),0)","v":37}]
[null,"2x250W SON FLOODLIGHT","SON2x250","Traditional","Major (Cat V)",{"$f":"INDEX('C_CAPEX Build Up'!S$15:S$189,$V35)","v":71.474047458034264},{"$f":"INDEX('C_CAPEX Build Up'!T$15:T$189,$V35)","v":73.528682067823581},{"$f":"INDEX('C_CAPEX Build Up'!U$15:U$189,$V35)","v":75.642380401158462},{"$f":"INDEX('C_CAPEX Build Up'!V$15:V$189,$V35)","v":77.816840338247133},{"$f":"INDEX('C_CAPEX Build Up'!W$15:W$189,$V35)","v":80.053808567551457},{"$f":"IF($W35=0,0,INDEX('O_OPEX Tariff Summary'!AB$5:AB$138,$W35))","v":77.064297392847152},{"$f":"IF($W35=0,0,INDEX('O_OPEX Tariff Summary'!AC$5:AC$138,$W35))","v":79.27963258420327},{"$f":"IF($W35=0,0,INDEX('O_OPEX Tariff Summary'!AD$5:AD$138,$W35))","v":81.558651091648585},{"$f":"IF($W35=0,0,INDEX('O_OPEX Tariff Summary'!AE$5:AE$138,$W35))","v":83.903183592890002},{"$f":"IF($W35=0,0,INDEX('O_OPEX Tariff Summary'!AF$5:AF$138,$W35))","v":86.315113391362345},148.5383448508814,152.80831465202687,157.20103149280703,161.72002393113712,166.3689219589138,null,{"$f":"MATCH($B35,'C_CAPEX Build Up'!$B$15:$B$189,0)","v":61},{"$f":"IFERROR(MATCH($C35,'O_OPEX Tariff Summary'!$B$5:$B$138,0),0)","v":30}]
[null,"2x400W SON FLOODLIGHT","SON2x400","Traditional","Major (Cat V)",{"$f":"INDEX('C_CAPEX Build Up'!S$15:S$189,$V36)","v":142.48384872686486},{"$f":"INDEX('C_CAPEX Build Up'!T$15:T$189,$V36)","v":146.57977245501374},{"$f":"INDEX('C_CAPEX Build Up'!U$15:U$189,$V36)","v":150.79343999298189},{"$f":"INDEX('C_CAPEX Build Up'!V$15:V$189,$V36)","v":155.1282360729252},{"$f":"INDEX('C_CAPEX Build Up'!W$15:W$189,$V36)","v":159.5876427264821},{"$f":"IF($W36=0,0,INDEX('O_OPEX Tariff Summary'!AB$5:AB$138,$W36))","v":77.33118735237764},{"$f":"IF($W36=0,0,INDEX('O_OPEX Tariff Summary'!AC$5:AC$138,$W36))","v":79.55419471800343},{"$f":"IF($W36=0,0,INDEX('O_OPEX Tariff Summary'!AD$5:AD$138,$W36))","v":81.841105948509863},{"$f":"IF($W36=0,0,INDEX('O_OPEX Tariff Summary'!AE$5:AE$138,$W36))","v":84.193758061627889},{"$f":"IF($W36=0,0,INDEX('O_OPEX Tariff Summary'!AF$5:AF$138,$W36))","v":86.61404088307043},219.8150360792425,226.13396717301717,232.63454594149175,239.32199413455311,246.20168360955253,null,{"$f":"MATCH($B36,'C_CAPEX Build Up'!$B$15:$B$189,0)","v":62},{"$f":"IFERROR(MATCH($C36,'O_OPEX Tariff Summary'!$B$5:$B$138,0),0)","v":31}]
[null,"2x80W MBF - BOURKE HILL","MBF2x80","Traditional","Minor (Cat P)",{"$f":"INDEX('C_CAPEX Build Up'!S$15:S$189,$V37)","v":70.305771080180605},{"$f":"INDEX('C_CAPEX Build Up'!T$15:T$189,$V37)","v":72.32682173656157},{"$f":"INDEX('C_CAPEX Build Up'!U$15:U$189,$V37)","v":74.405970692597037},{"$f":"INDEX('C_CAPEX Build Up'!V$15:V$189,$V37)","v":76.5448880758576},{"$f":"INDEX('C_CAPEX Build Up'!W$15:W$189,$V37)","v":78.745292024373995},{"$f":"IF($W37=0,0,INDEX('O_OPEX Tariff Summary'!AB$5:AB$138,$W37))","v":44.050618855047091},{"$f":"IF($W37=0,0,INDEX('O_OPEX Tariff Summary'!AC$5:AC$138,$W37))","v":45.316923609025928},{"$f":"IF($W37=0,0,INDEX('O_OPEX Tariff Summary'!AD$5:AD$138,$W37))","v":46.619630297225619},{"$f":"IF($W37=0,0,INDEX('O_OPEX Tariff Summary'!AE$5:AE$138,$W37))","v":47.959785350855441},{"$f":"IF($W37=0,0,INDEX('O_OPEX Tariff Summary'!AF$5:AF$138,$W37))","v":49.338465282445874},114.3563899352277,117.64374534558749,121.02560098982266,124.50467342671304,128.08375730681988,null,{"$f":"MATCH($B37,'C_CAPEX Build Up'!$B$15:$B$189,0)","v":63},{"$f":"IFERROR(MATCH($C37,'O_OPEX Tariff Summary'!$B$5:$B$138,0),0)","v":11}]
[null,"400W MBF","MBF1x400","Traditional","Major (Cat V)",{"$f":"INDEX('C_CAPEX Build Up'!S$15:S$189,$V38)","v":34.153582618578199},{"$f":"INDEX('C_CAPEX Build Up'!T$15:T$189,$V38)","v":35.135381402782095},{"$f":"INDEX('C_CAPEX Build Up'!U$15:U$189,$V38)","v":36.145403546843411},{"$f":"INDEX('C_CAPEX Build Up'!V$15:V$189,$V38)","v":37.184460375907847},{"$f":"INDEX('C_CAPEX Build Up'!W$15:W$189,$V38)","v":38.253386537946426},{"$f":"IF($W38=0,0,INDEX('O_OPEX Tariff Summary'!AB$5:AB$138,$W38))","v":49.589613652000942},{"$f":"IF($W38=0,0,INDEX('O_OPEX Tariff Summary'!AC$5:AC$138,$W38))","v":51.015145577491879},{"$f":"IF($W38=0,0,INDEX('O_OPEX Tariff Summary'!AD$5:AD$138,$W38))","v":52.481656674243446},{"$f":"IF($W38=0,0,INDEX('O_OPEX Tariff Summary'!AE$5:AE$138,$W38))","v":53.990324953387614},{"$f":"IF($W38=0,0,INDEX('O_OPEX Tariff Summary'!AF$5:AF$138,$W38))","v":55.542362289850679},{"$f":"F38+K38","v":83.743196270579148},86.15052698027398,88.62706022108685,91.17478532929546,93.795748827797098,null,{"$f":"MATCH($B38,'C_CAPEX Build Up'!$B$15:$B$189,0)","v":64},{"$f":"IFERROR(MATCH($C38,'O_OPEX Tariff Summary'!$B$5:$B$138,0),0)","v":7}]
[null,"400W MBF - B2229","MBF1x400","Traditional","Major (Cat V)",{"$f":"INDEX('C_CAPEX Build Up'!S$15:S$189,$V39)","v":34.153582618578199},{"$f":"INDEX('C_CAPEX Build Up'!T$15:T$189,$V39)","v":35.135381402782095},{"$f":"INDEX('C_CAPEX Build Up'!U$15:U$189,$V39)","v":36.145403546843411},{"$f":"INDEX('C_CAPEX Build Up'!V$15:V$189,$V39)","v":37.184460375907847},{"$f":"INDEX('C_CAPEX Build Up'!W$15:W$189,$V39)","v":38.253386537946426},{"$f":"IF($W39=0,0,INDEX('O_OPEX Tariff Summary'!AB$5:AB$138,$W39))","v":49.589613652000942},{"$f":"IF($W39=0,0,INDEX('O_OPEX Tariff Summary'!AC$5:AC$138,$W39))","v":51.015145577491879},{"$f":"IF($W39=0,0,INDEX('O_OPEX Tariff Summary'!AD$5:AD$138,$W39))","v":52.481656674243446},{"$f":"IF($W39=0,0,INDEX('O_OPEX Tariff Summary'!AE$5:AE$138,$W39))","v":53.990324953387614},{"$f":"IF($W39=0,0,INDEX('O_OPEX Tariff Summary'!AF$5:AF$138,$W39))","v":55.542362289850679},83.743196270579148,86.15052698027398,88.62706022108685,91.17478532929546,93.795748827797098,null,{"$f":"MATCH($B39,'C_CAPEX Build Up'!$B$15:$B$189,0)","v":65},{"$f":"IFERROR(MATCH($C39,'O_OPEX Tariff Summary'!$B$5:$B$138,0),0)","v":7}]
[null,"400W MBF - PARKWAY 1","MBF1x400","Traditional","Major (Cat V)",{"$f":"INDEX('C_CAPEX Build Up'!S$15:S$189,$V40)","v":68.528543874097011},{"$f":"INDEX('C_CAPEX Build Up'!T$15:T$189,$V40)","v":70.498505321779916},{"$f":"INDEX('C_CAPEX Build Up'!U$15:U$189,$V40)","v":72.52509642895896},{"$f":"INDEX('C_CAPEX Build Up'!V$15:V$189,$V40)","v":74.60994510481909},{"$f":"INDEX('C_CAPEX Build Up'!W$15:W$189,$V40)","v":76.754726055371108},{"$f":"IF($W40=0,0,INDEX('O_OPEX Tariff Summary'!AB$5:AB$138,$W40))","v":49.589613652000942},{"$f":"IF($W40=0,0,INDEX('O_OPEX Tariff Summary'!AC$5:AC$138,$W40))","v":51.015145577491879},{"$f":"IF($W40=0,0,INDEX('O_OPEX Tariff Summary'!AD$5:AD$138,$W40))","v":52.481656674243446},{"$f":"IF($W40=0,0,INDEX('O_OPEX Tariff Summary'!AE$5:AE$138,$W40))","v":53.990324953387614},{"$f":"IF($W40=0,0,INDEX('O_OPEX Tariff Summary'!AF$5:AF$138,$W40))","v":55.542362289850679},118.11815752609795,121.51365089927179,125.00675310320241,128.60027005820672,132.29708834522179,null,{"$f":"MATCH($B40,'C_CAPEX Build Up'!$B$15:$B$189,0)","v":66},{"$f":"IFERROR(MATCH($C40,'O_OPEX Tariff Summary'!$B$5:$B$138,0),0)","v":7}]
[null,"400W MBF FLOODLIGHT","MBF1x400","Traditional","Major (Cat V)",{"$f":"INDEX('C_CAPEX Build Up'!S$15:S$189,$V41)","v":75.247717258742},{"$f":"INDEX('C_CAPEX Build Up'!T$15:T$189,$V41)","v":77.410831979203707},{"$f":"INDEX('C_CAPEX Build Up'!U$15:U$189,$V41)","v":79.636128855674059},{"$f":"INDEX('C_CAPEX Build Up'!V$15:V$189,$V41)","v":81.925395412637698},{"$f":"INDEX('C_CAPEX Build Up'!W$15:W$189,$V41)","v":84.280470559799511},{"$f":"IF($W41=0,0,INDEX('O_OPEX Tariff Summary'!AB$5:AB$138,$W41))","v":49.589613652000942},{"$f":"IF($W41=0,0,INDEX('O_OPEX Tariff Summary'!AC$5:AC$138,$W41))","v":51.015145577491879},{"$f":"IF($W41=0,0,INDEX('O_OPEX Tariff Summary'!AD$5:AD$138,$W41))","v":52.481656674243446},{"$f":"IF($W41=0,0,INDEX('O_OPEX Tariff Summary'!AE$5:AE$138,$W41))","v":53.990324953387614},{"$f":"IF($W41=0,0,INDEX('O_OPEX Tariff Summary'!AF$5:AF$138,$W41))","v":55.542362289850679},124.83733091074293,128.42597755669559,132.11778552991751,135.91572036602531,139.82283284965018,null,{"$f":"MATCH($B41,'C_CAPEX Build Up'!$B$15:$B$189,0)","v":67},{"$f":"IFERROR(MATCH($C41,'O_OPEX Tariff Summary'!$B$5:$B$138,0),0)","v":7}]
[null,"400W MBI FLOODLIGHT","MBI1x400","Traditional","Major (Cat V)",{"$f":"INDEX('C_CAPEX Build Up'!S$15:S$189,$V42)","v":59.248543652783653},{"$f":"INDEX('C_CAPEX Build Up'!T$15:T$189,$V42)","v":60.9517368074752},{"$f":"INDEX('C_CAPEX Build Up'!U$15:U$189,$V42)","v":62.703890944890439},{"$f":"INDEX('C_CAPEX Build Up'!V$15:V$189,$V42)","v":64.50641352596395},{"$f":"INDEX('C_CAPEX Build Up'!W$15:W$189,$V42)","v":66.360752471322343},{"$f":"IF($W42=0,0,INDEX('O_OPEX Tariff Summary'!AB$5:AB$138,$W42))","v":46.172748436938846},{"$f":"IF($W42=0,0,INDEX('O_OPEX Tariff Summary'!AC$5:AC$138,$W42))","v":47.500057164254613},{"$f":"IF($W42=0,0,INDEX('O_OPEX Tariff Summary'!AD$5:AD$138,$W42))","v":48.86552148155036},{"$f":"IF($W42=0,0,INDEX('O_OPEX Tariff Summary'!AE$5:AE$138,$W42))","v":50.270238231645514},{"$f":"IF($W42=0,0,INDEX('O_OPEX Tariff Summary'!AF$5:AF$138,$W42))","v":51.715335787842221},105.4212920897225,108.45179397172981,111.56941242644081,114.77665175760947,118.07608825916456,null,{"$f":"MATCH($B42,'C_CAPEX Build Up'!$B$15:$B$189,0)","v":68},{"$f":"IFERROR(MATCH($C42,'O_OPEX Tariff Summary'!$B$5:$B$138,0),0)","v":16}]
[null,"400W SON","SON1x400","Traditional","Major (Cat V)",{"$f":"INDEX('C_CAPEX Build Up'!S$15:S$189,$V43)","v":47.15759727935184},{"$f":"INDEX('C_CAPEX Build Up'!T$15:T$189,$V43)","v":48.513217045275304},{"$f":"INDEX('C_CAPEX Build Up'!U$15:U$189,$V43)","v":49.907806246788887},{"$f":"INDEX('C_CAPEX Build Up'!V$15:V$189,$V43)","v":51.342485121992077},{"$f":"INDEX('C_CAPEX Build Up'!W$15:W$189,$V43)","v":52.818406112001441},{"$f":"IF($W43=0,0,INDEX('O_OPEX Tariff Summary'!AB$5:AB$138,$W43))","v":55.400635293028479},{"$f":"IF($W43=0,0,INDEX('O_OPEX Tariff Summary'!AC$5:AC$138,$W43))","v":56.993214232177067},{"$f":"IF($W43=0,0,INDEX('O_OPEX Tariff Summary'!AD$5:AD$138,$W43))","v":58.631574373364302},{"$f":"IF($W43=0,0,INDEX('O_OPEX Tariff Summary'!AE$5:AE$138,$W43))","v":60.317031769696619},{"$f":"IF($W43=0,0,INDEX('O_OPEX Tariff Summary'!AF$5:AF$138,$W43))","v":62.050940306309791},102.55823257238032,105.50643127745238,108.5393806201532,111.6595168916887,114.86934641831124,null,{"$f":"MATCH($B43,'C_CAPEX Build Up'!$B$15:$B$189,0)","v":69},{"$f":"IFERROR(MATCH($C43,'O_OPEX Tariff Summary'!$B$5:$B$138,0),0)","v":25}]
[null,"400W SON - PARKWAY 1","SON1x400","Traditional","Major (Cat V)",{"$f":"INDEX('C_CAPEX Build Up'!S$15:S$189,$V44)","v":51.770994941710555},{"$f":"INDEX('C_CAPEX Build Up'!T$15:T$189,$V44)","v":53.259234124652046},{"$f":"INDEX('C_CAPEX Build Up'!U$15:U$189,$V44)","v":54.790255098210771},{"$f":"INDEX('C_CAPEX Build Up'!V$15:V$189,$V44)","v":56.365287692664957},{"$f":"INDEX('C_CAPEX Build Up'!W$15:W$189,$V44)","v":57.985597091710517},{"$f":"IF($W44=0,0,INDEX('O_OPEX Tariff Summary'!AB$5:AB$138,$W44))","v":55.400635293028479},{"$f":"IF($W44=0,0,INDEX('O_OPEX Tariff Summary'!AC$5:AC$138,$W44))","v":56.993214232177067},{"$f":"IF($W44=0,0,INDEX('O_OPEX Tariff Summary'!AD$5:AD$138,$W44))","v":58.631574373364302},{"$f":"IF($W44=0,0,INDEX('O_OPEX Tariff Summary'!AE$5:AE$138,$W44))","v":60.317031769696619},{"$f":"IF($W44=0,0,INDEX('O_OPEX Tariff Summary'!AF$5:AF$138,$W44))","v":62.050940306309791},107.17163023473904,110.25244835682912,113.42182947157508,116.68231946236158,120.0365373980203,null,{"$f":"MATCH($B44,'C_CAPEX Build Up'!$B$15:$B$189,0)","v":70},{"$f":"IFERROR(MATCH($C44,'O_OPEX Tariff Summary'!$B$5:$B$138,0),0)","v":25}]
[null,"400W SON ACTIVE REACTOR","SON1x400 AR","Traditional","Major (Cat V)",{"$f":"INDEX('C_CAPEX Build Up'!S$15:S$189,$V45)","v":71.474047458034264},{"$f":"INDEX('C_CAPEX Build Up'!T$15:T$189,$V45)","v":73.528682067823581},{"$f":"INDEX('C_CAPEX Build Up'!U$15:U$189,$V45)","v":75.642380401158462},{"$f":"INDEX('C_CAPEX Build Up'!V$15:V$189,$V45)","v":77.816840338247133},{"$f":"INDEX('C_CAPEX Build Up'!W$15:W$189,$V45)","v":80.053808567551457},{"$f":"IF($W45=0,0,INDEX('O_OPEX Tariff Summary'!AB$5:AB$138,$W45))","v":55.400635293028479},{"$f":"IF($W45=0,0,INDEX('O_OPEX Tariff Summary'!AC$5:AC$138,$W45))","v":56.993214232177067},{"$f":"IF($W45=0,0,INDEX('O_OPEX Tariff Summary'!AD$5:AD$138,$W45))","v":58.631574373364302},{"$f":"IF($W45=0,0,INDEX('O_OPEX Tariff Summary'!AE$5:AE$138,$W45))","v":60.317031769696619},{"$f":"IF($W45=0,0,INDEX('O_OPEX Tariff Summary'!AF$5:AF$138,$W45))","v":62.050940306309791},126.87468275106275,130.52189630000066,134.27395477452276,138.13387210794374,142.10474887386124,null,{"$f":"MATCH($B45,'C_CAPEX Build Up'!$B$15:$B$189,0)","v":71},{"$f":"IFERROR(MATCH($C45,'O_OPEX Tariff Summary'!$B$5:$B$138,0),0)","v":26}]
[null,"400W SON FLOODLIGHT","SON1x400","Traditional","Major (Cat V)",{"$f":"INDEX('C_CAPEX Build Up'!S$15:S$189,$V46)","v":50.809870428719158},{"$f":"INDEX('C_CAPEX Build Up'!T$15:T$189,$V46)","v":52.270480566448562},{"$f":"INDEX('C_CAPEX Build Up'!U$15:U$189,$V46)","v":53.773078254164552},{"$f":"INDEX('C_CAPEX Build Up'!V$15:V$189,$V46)","v":55.318870490441448},{"$f":"INDEX('C_CAPEX Build Up'!W$15:W$189,$V46)","v":56.909098970937798},{"$f":"IF($W46=0,0,INDEX('O_OPEX Tariff Summary'!AB$5:AB$138,$W46))","v":55.400635293028479},{"$f":"IF($W46=0,0,INDEX('O_OPEX Tariff Summary'!AC$5:AC$138,$W46))","v":56.993214232177067},{"$f":"IF($W46=0,0,INDEX('O_OPEX Tariff Summary'!AD$5:AD$138,$W46))","v":58.631574373364302},{"$f":"IF($W46=0,0,INDEX('O_OPEX Tariff Summary'!AE$5:AE$138,$W46))","v":60.317031769696619},{"$f":"IF($W46=0,0,INDEX('O_OPEX Tariff Summary'!AF$5:AF$138,$W46))","v":62.050940306309791},106.21050572174764,109.26369479862564,112.40465262752886,115.63590226013807,118.96003927724759,null,{"$f":"MATCH($B46,'C_CAPEX Build Up'!$B$15:$B$189,0)","v":72},{"$f":"IFERROR(MATCH($C46,'O_OPEX Tariff Summary'!$B$5:$B$138,0),0)","v":25}]
[null,"42W MBF SYLVANIA SUB ECO","MBF1x42","Traditional","Minor (Cat P)",{"$f":"INDEX('C_CAPEX Build Up'!S$15:S$189,$V47)","v":31.380228304028925},{"$f":"INDEX('C_CAPEX Build Up'!T$15:T$189,$V47)","v":32.282302629320277},{"$f":"INDEX('C_CAPEX Build Up'!U$15:U$189,$V47)","v":33.210308508724808},{"$f":"INDEX('C_CAPEX Build Up'!V$15:V$189,$V47)","v":34.16499138580506},{"$f":"INDEX('C_CAPEX Build Up'!W$15:W$189,$V47)","v":35.147118133078529},{"$f":"IF($W47=0,0,INDEX('O_OPEX Tariff Summary'!AB$5:AB$138,$W47))","v":32.511399711004948},{"$f":"IF($W47=0,0,INDEX('O_OPEX Tariff Summary'!AC$5:AC$138,$W47))","v":33.445991348594049},{"$f":"IF($W47=0,0,INDEX('O_OPEX Tariff Summary'!AD$5:AD$138,$W47))","v":34.407449301900577},{"$f":"IF($W47=0,0,INDEX('O_OPEX Tariff Summary'!AE$5:AE$138,$W47))","v":35.396545885688759},{"$f":"IF($W47=0,0,INDEX('O_OPEX Tariff Summary'!AF$5:AF$138,$W47))","v":36.41407561613299},63.891628015033874,65.728293977914319,67.617757810625392,69.561537271493819,71.561193749211526,null,{"$f":"MATCH($B47,'C_CAPEX Build Up'!$B$15:$B$189,0)","v":73},{"$f":"IFERROR(MATCH($C47,'O_OPEX Tariff Summary'!$B$5:$B$138,0),0)","v":8}]
[null,"4x250W SON","SON4x250","Traditional","Major (Cat V)",{"$f":"INDEX('C_CAPEX Build Up'!S$15:S$189,$V48)","v":80.439416915218047},{"$f":"INDEX('C_CAPEX Build Up'!T$15:T$189,$V48)","v":82.751775258745738},{"$f":"INDEX('C_CAPEX Build Up'!U$15:U$189,$V48)","v":85.1306060024217},{"$f":"INDEX('C_CAPEX Build Up'!V$15:V$189,$V48)","v":87.577820000588133},{"$f":"INDEX('C_CAPEX Build Up'!W$15:W$189,$V48)","v":90.095383038119465},{"$f":"IF($W48=0,0,INDEX('O_OPEX Tariff Summary'!AB$5:AB$138,$W48))","v":116.49665253426329},{"$f":"IF($W48=0,0,INDEX('O_OPEX Tariff Summary'!AC$5:AC$138,$W48))","v":119.84553318023532},{"$f":"IF($W48=0,0,INDEX('O_OPEX Tariff Summary'!AD$5:AD$138,$W48))","v":123.29068270035091},{"$f":"IF($W48=0,0,INDEX('O_OPEX Tariff Summary'!AE$5:AE$138,$W48))","v":126.83486849575348},{"$f":"IF($W48=0,0,INDEX('O_OPEX Tariff Summary'!AF$5:AF$138,$W48))","v":130.48093752091205},196.93606944948135,202.59730843898106,208.42128870277261,214.41268849634162,220.5763205590315,null,{"$f":"MATCH($B48,'C_CAPEX Build Up'!$B$15:$B$189,0)","v":74},{"$f":"IFERROR(MATCH($C48,'O_OPEX Tariff Summary'!$B$5:$B$138,0),0)","v":32}]
[null,"4x600W SON","SON4x600","Traditional","Major (Cat V)",{"$f":"INDEX('C_CAPEX Build Up'!S$15:S$189,$V49)","v":122.4136466465785},{"$f":"INDEX('C_CAPEX Build Up'!T$15:T$189,$V49)","v":125.93262065260855},{"$f":"INDEX('C_CAPEX Build Up'!U$15:U$189,$V49)","v":129.55275313560861},{"$f":"INDEX('C_CAPEX Build Up'!V$15:V$189,$V49)","v":133.27695205609373},{"$f":"INDEX('C_CAPEX Build Up'!W$15:W$189,$V49)","v":137.10820896850609},{"$f":"IF($W49=0,0,INDEX('O_OPEX Tariff Summary'!AB$5:AB$138,$W49))","v":122.63144453257073},{"$f":"IF($W49=0,0,INDEX('O_OPEX Tariff Summary'!AC$5:AC$138,$W49))","v":126.15667948352292},{"$f":"IF($W49=0,0,INDEX('O_OPEX Tariff Summary'!AD$5:AD$138,$W49))","v":129.78325289221559},{"$f":"IF($W49=0,0,INDEX('O_OPEX Tariff Summary'!AE$5:AE$138,$W49))","v":133.5140778929958},{"$f":"IF($W49=0,0,INDEX('O_OPEX Tariff Summary'!AF$5:AF$138,$W49))","v":137.35215136286783},245.04509117914921,252.08930013613147,259.33600602782417,266.79102994908953,274.46036033137392,null,{"$f":"MATCH($B49,'C_CAPEX Build Up'!$B$15:$B$189,0)","v":75},{"$f":"IFERROR(MATCH($C49,'O_OPEX Tariff Summary'!$B$5:$B$138,0),0)","v":33}]
[null,"50W MBF","MBF1x50","Traditional","Minor (Cat P)",{"$f":"INDEX('C_CAPEX Build Up'!S$15:S$189,$V50)","v":23.691232200097723},{"$f":"INDEX('C_CAPEX Build Up'!T$15:T$189,$V50)","v":24.37227416369236},{"$f":"INDEX('C_CAPEX Build Up'!U$15:U$189,$V50)","v":25.072893756354976},{"$f":"INDEX('C_CAPEX Build Up'!V$15:V$189,$V50)","v":25.793653768016895},{"$f":"INDEX('C_CAPEX Build Up'!W$15:W$189,$V50)","v":26.535133166896703},{"$f":"IF($W50=0,0,INDEX('O_OPEX Tariff Summary'!AB$5:AB$138,$W50))","v":36.479400840084914},{"$f":"IF($W50=0,0,INDEX('O_OPEX Tariff Summary'!AC$5:AC$138,$W50))","v":37.528058949931342},{"$f":"IF($W50=0,0,INDEX('O_OPEX Tariff Summary'!AD$5:AD$138,$W50))","v":38.606862396763084},{"$f":"IF($W50=0,0,INDEX('O_OPEX Tariff Summary'!AE$5:AE$138,$W50))","v":39.716677756000117},{"$f":"IF($W50=0,0,INDEX('O_OPEX Tariff Summary'!AF$5:AF$138,$W50))","v":40.858396514144331},60.170633040182636,61.900333113623702,63.679756153118063,65.510331524017005,67.393529681041031,null,{"$f":"MATCH($B50,'C_CAPEX Build Up'!$B$15:$B$189,0)","v":76},{"$f":"IFERROR(MATCH($C50,'O_OPEX Tariff Summary'!$B$5:$B$138,0),0)","v":9}]
[null,"50W MBF - BOURKE HILL","MBF1x50","Traditional","Minor (Cat P)",{"$f":"INDEX('C_CAPEX Build Up'!S$15:S$189,$V51)","v":70.305771080180605},{"$f":"INDEX('C_CAPEX Build Up'!T$15:T$189,$V51)","v":72.32682173656157},{"$f":"INDEX('C_CAPEX Build Up'!U$15:U$189,$V51)","v":74.405970692597037},{"$f":"INDEX('C_CAPEX Build Up'!V$15:V$189,$V51)","v":76.5448880758576},{"$f":"INDEX('C_CAPEX Build Up'!W$15:W$189,$V51)","v":78.745292024373995},{"$f":"IF($W51=0,0,INDEX('O_OPEX Tariff Summary'!AB$5:AB$138,$W51))","v":36.479400840084914},{"$f":"IF($W51=0,0,INDEX('O_OPEX Tariff Summary'!AC$5:AC$138,$W51))","v":37.528058949931342},{"$f":"IF($W51=0,0,INDEX('O_OPEX Tariff Summary'!AD$5:AD$138,$W51))","v":38.606862396763084},{"$f":"IF($W51=0,0,INDEX('O_OPEX Tariff Summary'!AE$5:AE$138,$W51))","v":39.716677756000117},{"$f":"IF($W51=0,0,INDEX('O_OPEX Tariff Summary'!AF$5:AF$138,$W51))","v":40.858396514144331},106.78517192026553,109.85488068649292,113.01283308936013,116.26156583185772,119.60368853851833,null,{"$f":"MATCH($B51,'C_CAPEX Build Up'!$B$15:$B$189,0)","v":77},{"$f":"IFERROR(MATCH($C51,'O_OPEX Tariff Summary'!$B$5:$B$138,0),0)","v":9}]
[null,"50W MBF - NOSTALGIA","MBF1x50","Traditional","Minor (Cat P)",{"$f":"INDEX('C_CAPEX Build Up'!S$15:S$189,$V52)","v":70.305771080180605},{"$f":"INDEX('C_CAPEX Build Up'!T$15:T$189,$V52)","v":72.32682173656157},{"$f":"INDEX('C_CAPEX Build Up'!U$15:U$189,$V52)","v":74.405970692597037},{"$f":"INDEX('C_CAPEX Build Up'!V$15:V$189,$V52)","v":76.5448880758576},{"$f":"INDEX('C_CAPEX Build Up'!W$15:W$189,$V52)","v":78.745292024373995},{"$f":"IF($W52=0,0,INDEX('O_OPEX Tariff Summary'!AB$5:AB$138,$W52))","v":36.479400840084914},{"$f":"IF($W52=0,0,INDEX('O_OPEX Tariff Summary'!AC$5:AC$138,$W52))","v":37.528058949931342},{"$f":"IF($W52=0,0,INDEX('O_OPEX Tariff Summary'!AD$5:AD$138,$W52))","v":38.606862396763084},{"$f":"IF($W52=0,0,INDEX('O_OPEX Tariff Summary'!AE$5:AE$138,$W52))","v":39.716677756000117},{"$f":"IF($W52=0,0,INDEX('O_OPEX Tariff Summary'!AF$5:AF$138,$W52))","v":40.858396514144331},106.78517192026553,109.85488068649292,113.01283308936013,116.26156583185772,119.60368853851833,null,{"$f":"MATCH($B52,'C_CAPEX Build Up'!$B$15:$B$189,0)","v":78},{"$f":"IFERROR(MATCH($C52,'O_OPEX Tariff Summary'!$B$5:$B$138,0),0)","v":9}]
[null,"50W MBF - PLAIN","MBF1x50","Traditional","Minor (Cat P)",{"$f":"INDEX('C_CAPEX Build Up'!S$15:S$189,$V53)","v":23.691232200097723},{"$f":"INDEX('C_CAPEX Build Up'!T$15:T$189,$V53)","v":24.37227416369236},{"$f":"INDEX('C_CAPEX Build Up'!U$15:U$189,$V53)","v":25.072893756354976},{"$f":"INDEX('C_CAPEX Build Up'!V$15:V$189,$V53)","v":25.793653768016895},{"$f":"INDEX('C_CAPEX Build Up'!W$15:W$189,$V53)","v":26.535133166896703},{"$f":"IF($W53=0,0,INDEX('O_OPEX Tariff Summary'!AB$5:AB$138,$W53))","v":36.479400840084914},{"$f":"IF($W53=0,0,INDEX('O_OPEX Tariff Summary'!AC$5:AC$138,$W53))","v":37.528058949931342},{"$f":"IF($W53=0,0,INDEX('O_OPEX Tariff Summary'!AD$5:AD$138,$W53))","v":38.606862396763084},{"$f":"IF($W53=0,0,INDEX('O_OPEX Tariff Summary'!AE$5:AE$138,$W53))","v":39.716677756000117},{"$f":"IF($W53=0,0,INDEX('O_OPEX Tariff Summary'!AF$5:AF$138,$W53))","v":40.858396514144331},60.170633040182636,61.900333113623702,63.679756153118063,65.510331524017005,67.393529681041031,null,{"$f":"MATCH($B53,'C_CAPEX Build Up'!$B$15:$B$189,0)","v":79},{"$f":"IFERROR(MATCH($C53,'O_OPEX Tariff Summary'!$B$5:$B$138,0),0)","v":9}]
[null,"50W SON","SON1x50","Traditional","Minor (Cat P)",{"$f":"INDEX('C_CAPEX Build Up'!S$15:S$189,$V54)","v":22.922332589704606},{"$f":"INDEX('C_CAPEX Build Up'!T$15:T$189,$V54)","v":23.58127131712957},{"$f":"INDEX('C_CAPEX Build Up'!U$15:U$189,$V54)","v":24.259152281117991},{"$f":"INDEX('C_CAPEX Build Up'!V$15:V$189,$V54)","v":24.95652000623808},{"$f":"INDEX('C_CAPEX Build Up'!W$15:W$189,$V54)","v":25.673934670278523},{"$f":"IF($W54=0,0,INDEX('O_OPEX Tariff Summary'!AB$5:AB$138,$W54))","v":40.828782795090234},{"$f":"IF($W54=0,0,INDEX('O_OPEX Tariff Summary'!AC$5:AC$138,$W54))","v":42.002470772612675},{"$f":"IF($W54=0,0,INDEX('O_OPEX Tariff Summary'!AD$5:AD$138,$W54))","v":43.209898268540407},{"$f":"IF($W54=0,0,INDEX('O_OPEX Tariff Summary'!AE$5:AE$138,$W54))","v":44.452035178726526},{"$f":"IF($W54=0,0,INDEX('O_OPEX Tariff Summary'!AF$5:AF$138,$W54))","v":45.729879280215386},63.751115384794844,65.583742089742245,67.469050549658391,69.408555184964598,71.403813950493912,null,{"$f":"MATCH($B54,'C_CAPEX Build Up'!$B$15:$B$189,0)","v":80},{"$f":"IFERROR(MATCH($C54,'O_OPEX Tariff Summary'!$B$5:$B$138,0),0)","v":27}]
[null,"50W SON - NOSTALGIA","SON1x50","Traditional","Minor (Cat P)",{"$f":"INDEX('C_CAPEX Build Up'!S$15:S$189,$V55)","v":35.705288612490214},{"$f":"INDEX('C_CAPEX Build Up'!T$15:T$189,$V55)","v":36.731693641235964},{"$f":"INDEX('C_CAPEX Build Up'!U$15:U$189,$V55)","v":37.78760430693282},{"$f":"INDEX('C_CAPEX Build Up'!V$15:V$189,$V55)","v":38.873868795810886},{"$f":"INDEX('C_CAPEX Build Up'!W$15:W$189,$V55)","v":39.991359676555795},{"$f":"IF($W55=0,0,INDEX('O_OPEX Tariff Summary'!AB$5:AB$138,$W55))","v":40.828782795090234},{"$f":"IF($W55=0,0,INDEX('O_OPEX Tariff Summary'!AC$5:AC$138,$W55))","v":42.002470772612675},{"$f":"IF($W55=0,0,INDEX('O_OPEX Tariff Summary'!AD$5:AD$138,$W55))","v":43.209898268540407},{"$f":"IF($W55=0,0,INDEX('O_OPEX Tariff Summary'!AE$5:AE$138,$W55))","v":44.452035178726526},{"$f":"IF($W55=0,0,INDEX('O_OPEX Tariff Summary'!AF$5:AF$138,$W55))","v":45.729879280215386},76.534071407580456,78.734164413848646,80.99750257547322,83.325903974537411,85.721238956771174,null,{"$f":"MATCH($B55,'C_CAPEX Build Up'!$B$15:$B$189,0)","v":81},{"$f":"IFERROR(MATCH($C55,'O_OPEX Tariff Summary'!$B$5:$B$138,0),0)","v":27}]
[null,"50W SON - PLAIN","SON1x50","Traditional","Minor (Cat P)",{"$f":"INDEX('C_CAPEX Build Up'!S$15:S$189,$V56)","v":22.922332589704606},{"$f":"INDEX('C_CAPEX Build Up'!T$15:T$189,$V56)","v":23.58127131712957},{"$f":"INDEX('C_CAPEX Build Up'!U$15:U$189,$V56)","v":24.259152281117991},{"$f":"INDEX('C_CAPEX Build Up'!V$15:V$189,$V56)","v":24.95652000623808},{"$f":"INDEX('C_CAPEX Build Up'!W$15:W$189,$V56)","v":25.673934670278523},{"$f":"IF($W56=0,0,INDEX('O_OPEX Tariff Summary'!AB$5:AB$138,$W56))","v":40.828782795090234},{"$f":"IF($W56=0,0,INDEX('O_OPEX Tariff Summary'!AC$5:AC$138,$W56))","v":42.002470772612675},{"$f":"IF($W56=0,0,INDEX('O_OPEX Tariff Summary'!AD$5:AD$138,$W56))","v":43.209898268540407},{"$f":"IF($W56=0,0,INDEX('O_OPEX Tariff Summary'!AE$5:AE$138,$W56))","v":44.452035178726526},{"$f":"IF($W56=0,0,INDEX('O_OPEX Tariff Summary'!AF$5:AF$138,$W56))","v":45.729879280215386},63.751115384794844,65.583742089742245,67.469050549658391,69.408555184964598,71.403813950493912,null,{"$f":"MATCH($B56,'C_CAPEX Build Up'!$B$15:$B$189,0)","v":82},{"$f":"IFERROR(MATCH($C56,'O_OPEX Tariff Summary'!$B$5:$B$138,0),0)","v":27}]
[null,"70W MBI","MBI1x70","Traditional","Minor (Cat P)",{"$f":"INDEX('C_CAPEX Build Up'!S$15:S$189,$V57)","v":29.609836951098767},{"$f":"INDEX('C_CAPEX Build Up'!T$15:T$189,$V57)","v":30.461018575109449},{"$f":"INDEX('C_CAPEX Build Up'!U$15:U$189,$V57)","v":31.336668761991653},{"$f":"INDEX('C_CAPEX Build Up'!V$15:V$189,$V57)","v":32.237490899309336},{"$f":"INDEX('C_CAPEX Build Up'!W$15:W$189,$V57)","v":33.164208594615168},{"$f":"IF($W57=0,0,INDEX('O_OPEX Tariff Summary'!AB$5:AB$138,$W57))","v":34.362058546215835},{"$f":"IF($W57=0,0,INDEX('O_OPEX Tariff Summary'!AC$5:AC$138,$W57))","v":35.349850300895952},{"$f":"IF($W57=0,0,INDEX('O_OPEX Tariff Summary'!AD$5:AD$138,$W57))","v":36.36603769285437},{"$f":"IF($W57=0,0,INDEX('O_OPEX Tariff Summary'!AE$5:AE$138,$W57))","v":37.411436999623902},{"$f":"IF($W57=0,0,INDEX('O_OPEX Tariff Summary'!AF$5:AF$138,$W57))","v":38.486887963926883},63.971895497314605,65.810868876005401,67.702706454846023,69.648927898933238,71.651096558542051,null,{"$f":"MATCH($B57,'C_CAPEX Build Up'!$B$15:$B$189,0)","v":83},{"$f":"IFERROR(MATCH($C57,'O_OPEX Tariff Summary'!$B$5:$B$138,0),0)","v":17}]
[null,"70W MBI - MACQUARIE DEC.","MBI1x70","Traditional","Minor (Cat P)",{"$f":"INDEX('C_CAPEX Build Up'!S$15:S$189,$V58)","v":114.16957160408217},{"$f":"INDEX('C_CAPEX Build Up'!T$15:T$189,$V58)","v":117.45155662585245},{"$f":"INDEX('C_CAPEX Build Up'!U$15:U$189,$V58)","v":120.82788750117886},{"$f":"INDEX('C_CAPEX Build Up'!V$15:V$189,$V58)","v":124.30127635093466},{"$f":"INDEX('C_CAPEX Build Up'!W$15:W$189,$V58)","v":127.87451326019981},{"$f":"IF($W58=0,0,INDEX('O_OPEX Tariff Summary'!AB$5:AB$138,$W58))","v":34.362058546215835},{"$f":"IF($W58=0,0,INDEX('O_OPEX Tariff Summary'!AC$5:AC$138,$W58))","v":35.349850300895952},{"$f":"IF($W58=0,0,INDEX('O_OPEX Tariff Summary'!AD$5:AD$138,$W58))","v":36.36603769285437},{"$f":"IF($W58=0,0,INDEX('O_OPEX Tariff Summary'!AE$5:AE$138,$W58))","v":37.411436999623902},{"$f":"IF($W58=0,0,INDEX('O_OPEX Tariff Summary'!AF$5:AF$138,$W58))","v":38.486887963926883},148.53163015029799,152.8014069267484,157.19392519403323,161.71271335055854,166.36140122412669,null,{"$f":"MATCH($B58,'C_CAPEX Build Up'!$B$15:$B$189,0)","v":84},{"$f":"IFERROR(MATCH($C58,'O_OPEX Tariff Summary'!$B$5:$B$138,0),0)","v":17}]
[null,"70W MBI II","MBI1x70 II","Traditional","Minor (Cat P)",{"$f":"INDEX('C_CAPEX Build Up'!S$15:S$189,$V59)","v":26.094043482576225},{"$f":"INDEX('C_CAPEX Build Up'!T$15:T$189,$V59)","v":26.844158059201085},{"$f":"INDEX('C_CAPEX Build Up'!U$15:U$189,$V59)","v":27.615835866470547},{"$f":"INDEX('C_CAPEX Build Up'!V$15:V$189,$V59)","v":28.409696773575696},{"$f":"INDEX('C_CAPEX Build Up'!W$15:W$189,$V59)","v":29.226378468828525},{"$f":"IF($W59=0,0,INDEX('O_OPEX Tariff Summary'!AB$5:AB$138,$W59))","v":36.816741278996687},{"$f":"IF($W59=0,0,INDEX('O_OPEX Tariff Summary'!AC$5:AC$138,$W59))","v":37.875096773638298},{"$f":"IF($W59=0,0,INDEX('O_OPEX Tariff Summary'!AD$5:AD$138,$W59))","v":38.963876371938341},{"$f":"IF($W59=0,0,INDEX('O_OPEX Tariff Summary'!AE$5:AE$138,$W59))","v":40.083954662906002},{"$f":"IF($W59=0,0,INDEX('O_OPEX Tariff Summary'!AF$5:AF$138,$W59))","v":41.236231376995669},62.910784761572913,64.719254832839383,66.579712238408888,68.493651436481699,70.46260984582419,null,{"$f":"MATCH($B59,'C_CAPEX Build Up'!$B$15:$B$189,0)","v":85},{"$f":"IFERROR(MATCH($C59,'O_OPEX Tariff Summary'!$B$5:$B$138,0),0)","v":18}]
[null,"70W MBI II AERO","MBI1x70 II","Traditional","Minor (Cat P)",{"$f":"INDEX('C_CAPEX Build Up'!S$15:S$189,$V60)","v":27.055167995567622},{"$f":"INDEX('C_CAPEX Build Up'!T$15:T$189,$V60)","v":27.832911617404569},{"$f":"INDEX('C_CAPEX Build Up'!U$15:U$189,$V60)","v":28.63301271051677},{"$f":"INDEX('C_CAPEX Build Up'!V$15:V$189,$V60)","v":29.456113975799209},{"$f":"INDEX('C_CAPEX Build Up'!W$15:W$189,$V60)","v":30.302876589601244},{"$f":"IF($W60=0,0,INDEX('O_OPEX Tariff Summary'!AB$5:AB$138,$W60))","v":36.816741278996687},{"$f":"IF($W60=0,0,INDEX('O_OPEX Tariff Summary'!AC$5:AC$138,$W60))","v":37.875096773638298},{"$f":"IF($W60=0,0,INDEX('O_OPEX Tariff Summary'!AD$5:AD$138,$W60))","v":38.963876371938341},{"$f":"IF($W60=0,0,INDEX('O_OPEX Tariff Summary'!AE$5:AE$138,$W60))","v":40.083954662906002},{"$f":"IF($W60=0,0,INDEX('O_OPEX Tariff Summary'!AF$5:AF$138,$W60))","v":41.236231376995669},63.87190927456431,65.708008391042867,67.596889082455107,69.540068638705208,71.539107966596916,null,{"$f":"MATCH($B60,'C_CAPEX Build Up'!$B$15:$B$189,0)","v":86},{"$f":"IFERROR(MATCH($C60,'O_OPEX Tariff Summary'!$B$5:$B$138,0),0)","v":18}]
[null,"70W SON","SON1x70","Traditional","Minor (Cat P)",{"$f":"INDEX('C_CAPEX Build Up'!S$15:S$189,$V61)","v":25.997931031277083},{"$f":"INDEX('C_CAPEX Build Up'!T$15:T$189,$V61)","v":26.745282703380735},{"$f":"INDEX('C_CAPEX Build Up'!U$15:U$189,$V61)","v":27.514118182065925},{"$f":"INDEX('C_CAPEX Build Up'!V$15:V$189,$V61)","v":28.305055053353346},{"$f":"INDEX('C_CAPEX Build Up'!W$15:W$189,$V61)","v":29.118728656751255},{"$f":"IF($W61=0,0,INDEX('O_OPEX Tariff Summary'!AB$5:AB$138,$W61))","v":40.483010935234539},{"$f":"IF($W61=0,0,INDEX('O_OPEX Tariff Summary'!AC$5:AC$138,$W61))","v":41.646759153423105},{"$f":"IF($W61=0,0,INDEX('O_OPEX Tariff Summary'!AD$5:AD$138,$W61))","v":42.84396115590414},{"$f":"IF($W61=0,0,INDEX('O_OPEX Tariff Summary'!AE$5:AE$138,$W61))","v":44.075578624651456},{"$f":"IF($W61=0,0,INDEX('O_OPEX Tariff Summary'!AF$5:AF$138,$W61))","v":45.342600886709171},66.480941966511622,68.392041856803843,70.358079337970068,72.380633678004799,74.461329543460423,null,{"$f":"MATCH($B61,'C_CAPEX Build Up'!$B$15:$B$189,0)","v":87},{"$f":"IFERROR(MATCH($C61,'O_OPEX Tariff Summary'!$B$5:$B$138,0),0)","v":29}]
[null,"70W SON - BOURKE HILL","SON1x70","Traditional","Minor (Cat P)",{"$f":"INDEX('C_CAPEX Build Up'!S$15:S$189,$V62)","v":78.613731370478305},{"$f":"INDEX('C_CAPEX Build Up'!T$15:T$189,$V62)","v":80.873607493672566},{"$f":"INDEX('C_CAPEX Build Up'!U$15:U$189,$V62)","v":83.19844733253268},{"$f":"INDEX('C_CAPEX Build Up'!V$15:V$189,$V62)","v":85.59011837187775},{"$f":"INDEX('C_CAPEX Build Up'!W$15:W$189,$V62)","v":88.050541780333504},{"$f":"IF($W62=0,0,INDEX('O_OPEX Tariff Summary'!AB$5:AB$138,$W62))","v":40.483010935234539},{"$f":"IF($W62=0,0,INDEX('O_OPEX Tariff Summary'!AC$5:AC$138,$W62))","v":41.646759153423105},{"$f":"IF($W62=0,0,INDEX('O_OPEX Tariff Summary'!AD$5:AD$138,$W62))","v":42.84396115590414},{"$f":"IF($W62=0,0,INDEX('O_OPEX Tariff Summary'!AE$5:AE$138,$W62))","v":44.075578624651456},{"$f":"IF($W62=0,0,INDEX('O_OPEX Tariff Summary'!AF$5:AF$138,$W62))","v":45.342600886709171},119.09674230571284,122.52036664709567,126.04240848843682,129.66569699652922,133.39314266704267,null,{"$f":"MATCH($B62,'C_CAPEX Build Up'!$B$15:$B$189,0)","v":88},{"$f":"IFERROR(MATCH($C62,'O_OPEX Tariff Summary'!$B$5:$B$138,0),0)","v":29}]
[null,"70W SON - NOSTALGIA","SON1x70","Traditional","Minor (Cat P)",{"$f":"INDEX('C_CAPEX Build Up'!S$15:S$189,$V63)","v":73.3160130548697},{"$f":"INDEX('C_CAPEX Build Up'!T$15:T$189,$V63)","v":75.423597880854928},{"$f":"INDEX('C_CAPEX Build Up'!U$15:U$189,$V63)","v":77.59176856814986},{"$f":"INDEX('C_CAPEX Build Up'!V$15:V$189,$V63)","v":79.822266753221697},{"$f":"INDEX('C_CAPEX Build Up'!W$15:W$189,$V63)","v":82.116884138634205},{"$f":"IF($W63=0,0,INDEX('O_OPEX Tariff Summary'!AB$5:AB$138,$W63))","v":40.483010935234539},{"$f":"IF($W63=0,0,INDEX('O_OPEX Tariff Summary'!AC$5:AC$138,$W63))","v":41.646759153423105},{"$f":"IF($W63=0,0,INDEX('O_OPEX Tariff Summary'!AD$5:AD$138,$W63))","v":42.84396115590414},{"$f":"IF($W63=0,0,INDEX('O_OPEX Tariff Summary'!AE$5:AE$138,$W63))","v":44.075578624651456},{"$f":"IF($W63=0,0,INDEX('O_OPEX Tariff Summary'!AF$5:AF$138,$W63))","v":45.342600886709171},113.79902399010425,117.07035703427803,120.435729724054,123.89784537787315,127.45948502534338,null,{"$f":"MATCH($B63,'C_CAPEX Build Up'!$B$15:$B$189,0)","v":89},{"$f":"IFERROR(MATCH($C63,'O_OPEX Tariff Summary'!$B$5:$B$138,0),0)","v":29}]
[null,"70W SON - PARKVILLE","SON1x70","Traditional","Minor (Cat P)",{"$f":"INDEX('C_CAPEX Build Up'!S$15:S$189,$V64)","v":91.93107262248715},{"$f":"INDEX('C_CAPEX Build Up'!T$15:T$189,$V64)","v":94.573776796140123},{"$f":"INDEX('C_CAPEX Build Up'!U$15:U$189,$V64)","v":97.29244968363723},{"$f":"INDEX('C_CAPEX Build Up'!V$15:V$189,$V64)","v":100.08927512588684},{"$f":"INDEX('C_CAPEX Build Up'!W$15:W$189,$V64)","v":102.96649974176042},{"$f":"IF($W64=0,0,INDEX('O_OPEX Tariff Summary'!AB$5:AB$138,$W64))","v":40.483010935234539},{"$f":"IF($W64=0,0,INDEX('O_OPEX Tariff Summary'!AC$5:AC$138,$W64))","v":41.646759153423105},{"$f":"IF($W64=0,0,INDEX('O_OPEX Tariff Summary'!AD$5:AD$138,$W64))","v":42.84396115590414},{"$f":"IF($W64=0,0,INDEX('O_OPEX Tariff Summary'!AE$5:AE$138,$W64))","v":44.075578624651456},{"$f":"IF($W64=0,0,INDEX('O_OPEX Tariff Summary'!AF$5:AF$138,$W64))","v":45.342600886709171},132.41408355772168,136.22053594956321,140.13641083954138,144.1648537505383,148.30910062846959,null,{"$f":"MATCH($B64,'C_CAPEX Build Up'!$B$15:$B$189,0)","v":90},{"$f":"IFERROR(MATCH($C64,'O_OPEX Tariff Summary'!$B$5:$B$138,0),0)","v":29}]
[null,"70W SON - PLAIN","SON1x70","Traditional","Minor (Cat P)",{"$f":"INDEX('C_CAPEX Build Up'!S$15:S$189,$V65)","v":25.997931031277083},{"$f":"INDEX('C_CAPEX Build Up'!T$15:T$189,$V65)","v":26.745282703380735},{"$f":"INDEX('C_CAPEX Build Up'!U$15:U$189,$V65)","v":27.514118182065925},{"$f":"INDEX('C_CAPEX Build Up'!V$15:V$189,$V65)","v":28.305055053353346},{"$f":"INDEX('C_CAPEX Build Up'!W$15:W$189,$V65)","v":29.118728656751255},{"$f":"IF($W65=0,0,INDEX('O_OPEX Tariff Summary'!AB$5:AB$138,$W65))","v":40.483010935234539},{"$f":"IF($W65=0,0,INDEX('O_OPEX Tariff Summary'!AC$5:AC$138,$W65))","v":41.646759153423105},{"$f":"IF($W65=0,0,INDEX('O_OPEX Tariff Summary'!AD$5:AD$138,$W65))","v":42.84396115590414},{"$f":"IF($W65=0,0,INDEX('O_OPEX Tariff Summary'!AE$5:AE$138,$W65))","v":44.075578624651456},{"$f":"IF($W65=0,0,INDEX('O_OPEX Tariff Summary'!AF$5:AF$138,$W65))","v":45.342600886709171},66.480941966511622,68.392041856803843,70.358079337970068,72.380633678004799,74.461329543460423,null,{"$f":"MATCH($B65,'C_CAPEX Build Up'!$B$15:$B$189,0)","v":91},{"$f":"IFERROR(MATCH($C65,'O_OPEX Tariff Summary'!$B$5:$B$138,0),0)","v":29}]
[null,"70W SON BOLLARD","SON1x70","Traditional","Minor (Cat P)",{"$f":"INDEX('C_CAPEX Build Up'!S$15:S$189,$V66)","v":55.996549330764665},{"$f":"INDEX('C_CAPEX Build Up'!T$15:T$189,$V66)","v":57.606258762028041},{"$f":"INDEX('C_CAPEX Build Up'!U$15:U$189,$V66)","v":59.262241838436807},{"$f":"INDEX('C_CAPEX Build Up'!V$15:V$189,$V66)","v":60.965828769153852},{"$f":"INDEX('C_CAPEX Build Up'!W$15:W$189,$V66)","v":62.718388002309638},{"$f":"IF($W66=0,0,INDEX('O_OPEX Tariff Summary'!AB$5:AB$138,$W66))","v":40.483010935234539},{"$f":"IF($W66=0,0,INDEX('O_OPEX Tariff Summary'!AC$5:AC$138,$W66))","v":41.646759153423105},{"$f":"IF($W66=0,0,INDEX('O_OPEX Tariff Summary'!AD$5:AD$138,$W66))","v":42.84396115590414},{"$f":"IF($W66=0,0,INDEX('O_OPEX Tariff Summary'!AE$5:AE$138,$W66))","v":44.075578624651456},{"$f":"IF($W66=0,0,INDEX('O_OPEX Tariff Summary'!AF$5:AF$138,$W66))","v":45.342600886709171},96.479560265999197,99.253017915451153,102.10620299434095,105.04140739380531,108.0609888890188,null,{"$f":"MATCH($B66,'C_CAPEX Build Up'!$B$15:$B$189,0)","v":92},{"$f":"IFERROR(MATCH($C66,'O_OPEX Tariff Summary'!$B$5:$B$138,0),0)","v":29}]
[null,"70W SON FLOODLIGHT","SON1x70","Traditional","Minor (Cat P)",{"$f":"INDEX('C_CAPEX Build Up'!S$15:S$189,$V67)","v":31.326501443752708},{"$f":"INDEX('C_CAPEX Build Up'!T$15:T$189,$V67)","v":32.227031305416702},{"$f":"INDEX('C_CAPEX Build Up'!U$15:U$189,$V67)","v":33.153448323142619},{"$f":"INDEX('C_CAPEX Build Up'!V$15:V$189,$V67)","v":34.106496664200762},{"$f":"INDEX('C_CAPEX Build Up'!W$15:W$189,$V67)","v":35.086941888127335},{"$f":"IF($W67=0,0,INDEX('O_OPEX Tariff Summary'!AB$5:AB$138,$W67))","v":40.483010935234539},{"$f":"IF($W67=0,0,INDEX('O_OPEX Tariff Summary'!AC$5:AC$138,$W67))","v":41.646759153423105},{"$f":"IF($W67=0,0,INDEX('O_OPEX Tariff Summary'!AD$5:AD$138,$W67))","v":42.84396115590414},{"$f":"IF($W67=0,0,INDEX('O_OPEX Tariff Summary'!AE$5:AE$138,$W67))","v":44.075578624651456},{"$f":"IF($W67=0,0,INDEX('O_OPEX Tariff Summary'!AF$5:AF$138,$W67))","v":45.342600886709171},71.80951237898725,73.873790458839807,75.997409479046752,78.182075288852218,80.429542774836506,null,{"$f":"MATCH($B67,'C_CAPEX Build Up'!$B$15:$B$189,0)","v":93},{"$f":"IFERROR(MATCH($C67,'O_OPEX Tariff Summary'!$B$5:$B$138,0),0)","v":29}]
[null,"80W MBF - BEGA+CURVE BRA","MBF1x80","Traditional","Minor (Cat P)",{"$f":"INDEX('C_CAPEX Build Up'!S$15:S$189,$V68)","v":114.78084679434467},{"$f":"INDEX('C_CAPEX Build Up'!T$15:T$189,$V68)","v":118.08040388886984},{"$f":"INDEX('C_CAPEX Build Up'!U$15:U$189,$V68)","v":121.47481197399223},{"$f":"INDEX('C_CAPEX Build Up'!V$15:V$189,$V68)","v":124.96679769154878},{"$f":"INDEX('C_CAPEX Build Up'!W$15:W$189,$V68)","v":128.55916606501123},{"$f":"IF($W68=0,0,INDEX('O_OPEX Tariff Summary'!AB$5:AB$138,$W68))","v":34.957655029002304},{"$f":"IF($W68=0,0,INDEX('O_OPEX Tariff Summary'!AC$5:AC$138,$W68))","v":35.96256814717762},{"$f":"IF($W68=0,0,INDEX('O_OPEX Tariff Summary'!AD$5:AD$138,$W68))","v":36.996369083321362},{"$f":"IF($W68=0,0,INDEX('O_OPEX Tariff Summary'!AE$5:AE$138,$W68))","v":38.059888263479209},{"$f":"IF($W68=0,0,INDEX('O_OPEX Tariff Summary'!AF$5:AF$138,$W68))","v":39.153979985607762},149.73850182334698,154.04297203604744,158.4711810573136,163.02668595502797,167.713146050619,null,{"$f":"MATCH($B68,'C_CAPEX Build Up'!$B$15:$B$189,0)","v":94},{"$f":"IFERROR(MATCH($C68,'O_OPEX Tariff Summary'!$B$5:$B$138,0),0)","v":10}]
[null,"80W MBF - BOURKE HILL","MBF1x80","Traditional","Minor (Cat P)",{"$f":"INDEX('C_CAPEX Build Up'!S$15:S$189,$V69)","v":53.857086164845811},{"$f":"INDEX('C_CAPEX Build Up'!T$15:T$189,$V69)","v":55.405293341467079},{"$f":"INDEX('C_CAPEX Build Up'!U$15:U$189,$V69)","v":56.998006183589908},{"$f":"INDEX('C_CAPEX Build Up'!V$15:V$189,$V69)","v":58.636504077004297},{"$f":"INDEX('C_CAPEX Build Up'!W$15:W$189,$V69)","v":60.322103185469544},{"$f":"IF($W69=0,0,INDEX('O_OPEX Tariff Summary'!AB$5:AB$138,$W69))","v":34.957655029002304},{"$f":"IF($W69=0,0,INDEX('O_OPEX Tariff Summary'!AC$5:AC$138,$W69))","v":35.96256814717762},{"$f":"IF($W69=0,0,INDEX('O_OPEX Tariff Summary'!AD$5:AD$138,$W69))","v":36.996369083321362},{"$f":"IF($W69=0,0,INDEX('O_OPEX Tariff Summary'!AE$5:AE$138,$W69))","v":38.059888263479209},{"$f":"IF($W69=0,0,INDEX('O_OPEX Tariff Summary'!AF$5:AF$138,$W69))","v":39.153979985607762},88.814741193848107,91.367861488644706,93.994375266911277,96.696392340483499,99.476083171077306,null,{"$f":"MATCH($B69,'C_CAPEX Build Up'!$B$15:$B$189,0)","v":95},{"$f":"IFERROR(MATCH($C69,'O_OPEX Tariff Summary'!$B$5:$B$138,0),0)","v":10}]
[null,"80W MBF - NOSTALGIA","MBF1x80","Traditional","Minor (Cat P)",{"$f":"INDEX('C_CAPEX Build Up'!S$15:S$189,$V70)","v":69.138965921409081},{"$f":"INDEX('C_CAPEX Build Up'!T$15:T$189,$V70)","v":71.126474916902566},{"$f":"INDEX('C_CAPEX Build Up'!U$15:U$189,$V70)","v":73.17111800392496},{"$f":"INDEX('C_CAPEX Build Up'!V$15:V$189,$V70)","v":75.274537592358286},{"$f":"INDEX('C_CAPEX Build Up'!W$15:W$189,$V70)","v":77.438423305755947},{"$f":"IF($W70=0,0,INDEX('O_OPEX Tariff Summary'!AB$5:AB$138,$W70))","v":34.957655029002304},{"$f":"IF($W70=0,0,INDEX('O_OPEX Tariff Summary'!AC$5:AC$138,$W70))","v":35.96256814717762},{"$f":"IF($W70=0,0,INDEX('O_OPEX Tariff Summary'!AD$5:AD$138,$W70))","v":36.996369083321362},{"$f":"IF($W70=0,0,INDEX('O_OPEX Tariff Summary'!AE$5:AE$138,$W70))","v":38.059888263479209},{"$f":"IF($W70=0,0,INDEX('O_OPEX Tariff Summary'!AF$5:AF$138,$W70))","v":39.153979985607762},{"$f":"F70+K70","v":104.09662095041139},107.08904306408019,110.16748708724631,113.33442585583749,116.59240329136371,null,{"$f":"MATCH($B70,'C_CAPEX Build Up'!$B$15:$B$189,0)","v":96},{"$f":"IFERROR(MATCH($C70,'O_OPEX Tariff Summary'!$B$5:$B$138,0),0)","v":10}]
[null,"80W MBF - PLAIN","MBF1x80","Traditional","Minor (Cat P)",{"$f":"INDEX('C_CAPEX Build Up'!S$15:S$189,$V71)","v":22.595550255287531},{"$f":"INDEX('C_CAPEX Build Up'!T$15:T$189,$V71)","v":23.245095107340386},{"$f":"INDEX('C_CAPEX Build Up'!U$15:U$189,$V71)","v":23.913312154142279},{"$f":"INDEX('C_CAPEX Build Up'!V$15:V$189,$V71)","v":24.600738157482088},{"$f":"INDEX('C_CAPEX Build Up'!W$15:W$189,$V71)","v":25.307925309215801},{"$f":"IF($W71=0,0,INDEX('O_OPEX Tariff Summary'!AB$5:AB$138,$W71))","v":34.957655029002304},{"$f":"IF($W71=0,0,INDEX('O_OPEX Tariff Summary'!AC$5:AC$138,$W71))","v":35.96256814717762},{"$f":"IF($W71=0,0,INDEX('O_OPEX Tariff Summary'!AD$5:AD$138,$W71))","v":36.996369083321362},{"$f":"IF($W71=0,0,INDEX('O_OPEX Tariff Summary'!AE$5:AE$138,$W71))","v":38.059888263479209},{"$f":"IF($W71=0,0,INDEX('O_OPEX Tariff Summary'!AF$5:AF$138,$W71))","v":39.153979985607762},57.553205284289831,59.20766325451801,60.909681237463644,62.660626420961293,64.461905294823566,null,{"$f":"MATCH($B71,'C_CAPEX Build Up'!$B$15:$B$189,0)","v":97},{"$f":"IFERROR(MATCH($C71,'O_OPEX Tariff Summary'!$B$5:$B$138,0),0)","v":10}]
[null,"80W MBF - REGAL/FLINDERS","MBF1x80","Traditional","Minor (Cat P)",{"$f":"INDEX('C_CAPEX Build Up'!S$15:S$189,$V72)","v":125.07064583043062},{"$f":"INDEX('C_CAPEX Build Up'!T$15:T$189,$V72)","v":128.66599948299643},{"$f":"INDEX('C_CAPEX Build Up'!U$15:U$189,$V72)","v":132.36470726635119},{"$f":"INDEX('C_CAPEX Build Up'!V$15:V$189,$V72)","v":136.16974025855382},{"$f":"INDEX('C_CAPEX Build Up'!W$15:W$189,$V72)","v":140.08415494600408},{"$f":"IF($W72=0,0,INDEX('O_OPEX Tariff Summary'!AB$5:AB$138,$W72))","v":34.957655029002304},{"$f":"IF($W72=0,0,INDEX('O_OPEX Tariff Summary'!AC$5:AC$138,$W72))","v":35.96256814717762},{"$f":"IF($W72=0,0,INDEX('O_OPEX Tariff Summary'!AD$5:AD$138,$W72))","v":36.996369083321362},{"$f":"IF($W72=0,0,INDEX('O_OPEX Tariff Summary'!AE$5:AE$138,$W72))","v":38.059888263479209},{"$f":"IF($W72=0,0,INDEX('O_OPEX Tariff Summary'!AF$5:AF$138,$W72))","v":39.153979985607762},160.02830085943293,164.62856763017405,169.36107634967254,174.22962852203301,179.23813493161185,null,{"$f":"MATCH($B72,'C_CAPEX Build Up'!$B$15:$B$189,0)","v":98},{"$f":"IFERROR(MATCH($C72,'O_OPEX Tariff Summary'!$B$5:$B$138,0),0)","v":10}]
[null,"80W MBF BOLLARD","MBF1x80","Traditional","Minor (Cat P)",{"$f":"INDEX('C_CAPEX Build Up'!S$15:S$189,$V73)","v":44.586079112530754},{"$f":"INDEX('C_CAPEX Build Up'!T$15:T$189,$V73)","v":45.867776519036205},{"$f":"INDEX('C_CAPEX Build Up'!U$15:U$189,$V73)","v":47.186318345919972},{"$f":"INDEX('C_CAPEX Build Up'!V$15:V$189,$V73)","v":48.542763744356208},{"$f":"INDEX('C_CAPEX Build Up'!W$15:W$189,$V73)","v":49.938202312495797},{"$f":"IF($W73=0,0,INDEX('O_OPEX Tariff Summary'!AB$5:AB$138,$W73))","v":34.957655029002304},{"$f":"IF($W73=0,0,INDEX('O_OPEX Tariff Summary'!AC$5:AC$138,$W73))","v":35.96256814717762},{"$f":"IF($W73=0,0,INDEX('O_OPEX Tariff Summary'!AD$5:AD$138,$W73))","v":36.996369083321362},{"$f":"IF($W73=0,0,INDEX('O_OPEX Tariff Summary'!AE$5:AE$138,$W73))","v":38.059888263479209},{"$f":"IF($W73=0,0,INDEX('O_OPEX Tariff Summary'!AF$5:AF$138,$W73))","v":39.153979985607762},79.543734141533065,81.830344666213819,84.182687429241327,86.602652007835417,89.092182298103552,null,{"$f":"MATCH($B73,'C_CAPEX Build Up'!$B$15:$B$189,0)","v":99},{"$f":"IFERROR(MATCH($C73,'O_OPEX Tariff Summary'!$B$5:$B$138,0),0)","v":10}]
[null,"80W MBF TOORAK","MBF1x80","Traditional","Minor (Cat P)",{"$f":"INDEX('C_CAPEX Build Up'!S$15:S$189,$V74)","v":63.097337232745119},{"$f":"INDEX('C_CAPEX Build Up'!T$15:T$189,$V74)","v":64.911170050035409},{"$f":"INDEX('C_CAPEX Build Up'!U$15:U$189,$V74)","v":66.77714436225034},{"$f":"INDEX('C_CAPEX Build Up'!V$15:V$189,$V74)","v":68.696759059181218},{"$f":"INDEX('C_CAPEX Build Up'!W$15:W$189,$V74)","v":70.67155611857855},{"$f":"IF($W74=0,0,INDEX('O_OPEX Tariff Summary'!AB$5:AB$138,$W74))","v":34.957655029002304},{"$f":"IF($W74=0,0,INDEX('O_OPEX Tariff Summary'!AC$5:AC$138,$W74))","v":35.96256814717762},{"$f":"IF($W74=0,0,INDEX('O_OPEX Tariff Summary'!AD$5:AD$138,$W74))","v":36.996369083321362},{"$f":"IF($W74=0,0,INDEX('O_OPEX Tariff Summary'!AE$5:AE$138,$W74))","v":38.059888263479209},{"$f":"IF($W74=0,0,INDEX('O_OPEX Tariff Summary'!AF$5:AF$138,$W74))","v":39.153979985607762},98.054992261747429,100.87373819721303,103.77351344557169,106.75664732266043,109.82553610418631,null,{"$f":"MATCH($B74,'C_CAPEX Build Up'!$B$15:$B$189,0)","v":100},{"$f":"IFERROR(MATCH($C74,'O_OPEX Tariff Summary'!$B$5:$B$138,0),0)","v":10}]
[null,"TH FLOODLIGHT","Not Applicable","Traditional","Major (Cat V)",{"$f":"INDEX('C_CAPEX Build Up'!S$15:S$189,$V75)","v":128.32264015244959},{"$f":"INDEX('C_CAPEX Build Up'!T$15:T$189,$V75)","v":132.01147752844355},{"$f":"INDEX('C_CAPEX Build Up'!U$15:U$189,$V75)","v":135.80635637280477},{"$f":"INDEX('C_CAPEX Build Up'!V$15:V$189,$V75)","v":139.71032501536388},{"$f":"INDEX('C_CAPEX Build Up'!W$15:W$189,$V75)","v":143.72651941501675},{"$f":"IF($W75=0,0,INDEX('O_OPEX Tariff Summary'!AB$5:AB$138,$W75))","v":0},{"$f":"IF($W75=0,0,INDEX('O_OPEX Tariff Summary'!AC$5:AC$138,$W75))","v":0},{"$f":"IF($W75=0,0,INDEX('O_OPEX Tariff Summary'!AD$5:AD$138,$W75))","v":0},{"$f":"IF($W75=0,0,INDEX('O_OPEX Tariff Summary'!AE$5:AE$138,$W75))","v":0},{"$f":"IF($W75=0,0,INDEX('O_OPEX Tariff Summary'!AF$5:AF$138,$W75))","v":0},128.32264015244959,132.01147752844355,135.80635637280477,139.71032501536388,143.72651941501675,null,{"$f":"MATCH($B75,'C_CAPEX Build Up'!$B$15:$B$189,0)","v":101},{"$f":"IFERROR(MATCH($C75,'O_OPEX Tariff Summary'!$B$5:$B$138,0),0)","v":0}]
[null,"10W LED PH RRW","LED1x17","LED","Minor (Cat P)",{"$f":"INDEX('C_CAPEX Build Up'!S$15:S$189,$V76)","v":54.931151264508671},{"$f":"INDEX('C_CAPEX Build Up'!T$15:T$189,$V76)","v":56.510234142246901},{"$f":"INDEX('C_CAPEX Build Up'!U$15:U$189,$V76)","v":58.134710256379527},{"$f":"INDEX('C_CAPEX Build Up'!V$15:V$189,$V76)","v":59.805884507326539},{"$f":"INDEX('C_CAPEX Build Up'!W$15:W$189,$V76)","v":61.525099306935644},{"$f":"IF($W76=0,0,INDEX('O_OPEX Tariff Summary'!AB$5:AB$138,$W76))","v":23.443335396588658},{"$f":"IF($W76=0,0,INDEX('O_OPEX Tariff Summary'!AC$5:AC$138,$W76))","v":24.117251174242238},{"$f":"IF($W76=0,0,INDEX('O_OPEX Tariff Summary'!AD$5:AD$138,$W76))","v":24.810539727470939},{"$f":"IF($W76=0,0,INDEX('O_OPEX Tariff Summary'!AE$5:AE$138,$W76))","v":25.523757957368236},{"$f":"IF($W76=0,0,INDEX('O_OPEX Tariff Summary'!AF$5:AF$138,$W76))","v":26.25747877403089},78.374486661097336,80.627485316489143,82.945249983850459,85.329642464694771,87.78257808096653,null,{"$f":"MATCH($B76,'C_CAPEX Build Up'!$B$15:$B$189,0)","v":102},{"$f":"IFERROR(MATCH($C76,'O_OPEX Tariff Summary'!$B$5:$B$138,0),0)","v":45}]
[null,"16W LED PH","LED1x17","LED","Minor (Cat P)",{"$f":"INDEX('C_CAPEX Build Up'!S$15:S$189,$V77)","v":55.081582366624055},{"$f":"INDEX('C_CAPEX Build Up'!T$15:T$189,$V77)","v":56.6649896244665},{"$f":"INDEX('C_CAPEX Build Up'!U$15:U$189,$V77)","v":58.293914429853245},{"$f":"INDEX('C_CAPEX Build Up'!V$15:V$189,$V77)","v":59.969665256725023},{"$f":"INDEX('C_CAPEX Build Up'!W$15:W$189,$V77)","v":61.693588193176787},{"$f":"IF($W77=0,0,INDEX('O_OPEX Tariff Summary'!AB$5:AB$138,$W77))","v":23.443335396588658},{"$f":"IF($W77=0,0,INDEX('O_OPEX Tariff Summary'!AC$5:AC$138,$W77))","v":24.117251174242238},{"$f":"IF($W77=0,0,INDEX('O_OPEX Tariff Summary'!AD$5:AD$138,$W77))","v":24.810539727470939},{"$f":"IF($W77=0,0,INDEX('O_OPEX Tariff Summary'!AE$5:AE$138,$W77))","v":25.523757957368236},{"$f":"IF($W77=0,0,INDEX('O_OPEX Tariff Summary'!AF$5:AF$138,$W77))","v":26.25747877403089},78.524917763212713,80.782240798708742,83.104454157324184,85.493423214093255,87.95106696720768,null,{"$f":"MATCH($B77,'C_CAPEX Build Up'!$B$15:$B$189,0)","v":103},{"$f":"IFERROR(MATCH($C77,'O_OPEX Tariff Summary'!$B$5:$B$138,0),0)","v":45}]
[null,"17W LED ALD","LED1x17","LED","Minor (Cat P)",{"$f":"INDEX('C_CAPEX Build Up'!S$15:S$189,$V78)","v":51.104184026693453},{"$f":"INDEX('C_CAPEX Build Up'!T$15:T$189,$V78)","v":52.573254674580539},{"$f":"INDEX('C_CAPEX Build Up'!U$15:U$189,$V78)","v":54.08455608320839},{"$f":"INDEX('C_CAPEX Build Up'!V$15:V$189,$V78)","v":55.63930224262937},{"$f":"INDEX('C_CAPEX Build Up'!W$15:W$189,$V78)","v":57.238742040961156},{"$f":"IF($W78=0,0,INDEX('O_OPEX Tariff Summary'!AB$5:AB$138,$W78))","v":23.443335396588658},{"$f":"IF($W78=0,0,INDEX('O_OPEX Tariff Summary'!AC$5:AC$138,$W78))","v":24.117251174242238},{"$f":"IF($W78=0,0,INDEX('O_OPEX Tariff Summary'!AD$5:AD$138,$W78))","v":24.810539727470939},{"$f":"IF($W78=0,0,INDEX('O_OPEX Tariff Summary'!AE$5:AE$138,$W78))","v":25.523757957368236},{"$f":"IF($W78=0,0,INDEX('O_OPEX Tariff Summary'!AF$5:AF$138,$W78))","v":26.25747877403089},74.547519423282111,76.690505848822781,78.895095810679322,81.163060199997602,83.496220814992043,null,{"$f":"MATCH($B78,'C_CAPEX Build Up'!$B$15:$B$189,0)","v":104},{"$f":"IFERROR(MATCH($C78,'O_OPEX Tariff Summary'!$B$5:$B$138,0),0)","v":45}]
[null,"17W LED ALD RRW","LED1x17","LED","Minor (Cat P)",{"$f":"INDEX('C_CAPEX Build Up'!S$15:S$189,$V79)","v":51.104184026693453},{"$f":"INDEX('C_CAPEX Build Up'!T$15:T$189,$V79)","v":52.573254674580539},{"$f":"INDEX('C_CAPEX Build Up'!U$15:U$189,$V79)","v":54.08455608320839},{"$f":"INDEX('C_CAPEX Build Up'!V$15:V$189,$V79)","v":55.63930224262937},{"$f":"INDEX('C_CAPEX Build Up'!W$15:W$189,$V79)","v":57.238742040961156},{"$f":"IF($W79=0,0,INDEX('O_OPEX Tariff Summary'!AB$5:AB$138,$W79))","v":23.443335396588658},{"$f":"IF($W79=0,0,INDEX('O_OPEX Tariff Summary'!AC$5:AC$138,$W79))","v":24.117251174242238},{"$f":"IF($W79=0,0,INDEX('O_OPEX Tariff Summary'!AD$5:AD$138,$W79))","v":24.810539727470939},{"$f":"IF($W79=0,0,INDEX('O_OPEX Tariff Summary'!AE$5:AE$138,$W79))","v":25.523757957368236},{"$f":"IF($W79=0,0,INDEX('O_OPEX Tariff Summary'!AF$5:AF$138,$W79))","v":26.25747877403089},74.547519423282111,76.690505848822781,78.895095810679322,81.163060199997602,83.496220814992043,null,{"$f":"MATCH($B79,'C_CAPEX Build Up'!$B$15:$B$189,0)","v":105},{"$f":"IFERROR(MATCH($C79,'O_OPEX Tariff Summary'!$B$5:$B$138,0),0)","v":45}]
[null,"17W LED ALD RRW ZHAGA","LED1x17","LED","Minor (Cat P)",{"$f":"INDEX('C_CAPEX Build Up'!S$15:S$189,$V80)","v":53.802917998643323},{"$f":"INDEX('C_CAPEX Build Up'!T$15:T$189,$V80)","v":55.349568025599964},{"$f":"INDEX('C_CAPEX Build Up'!U$15:U$189,$V80)","v":56.940678955326703},{"$f":"INDEX('C_CAPEX Build Up'!V$15:V$189,$V80)","v":58.577528886837975},{"$f":"INDEX('C_CAPEX Build Up'!W$15:W$189,$V80)","v":60.261432660127113},{"$f":"IF($W80=0,0,INDEX('O_OPEX Tariff Summary'!AB$5:AB$138,$W80))","v":23.443335396588658},{"$f":"IF($W80=0,0,INDEX('O_OPEX Tariff Summary'!AC$5:AC$138,$W80))","v":24.117251174242238},{"$f":"IF($W80=0,0,INDEX('O_OPEX Tariff Summary'!AD$5:AD$138,$W80))","v":24.810539727470939},{"$f":"IF($W80=0,0,INDEX('O_OPEX Tariff Summary'!AE$5:AE$138,$W80))","v":25.523757957368236},{"$f":"IF($W80=0,0,INDEX('O_OPEX Tariff Summary'!AF$5:AF$138,$W80))","v":26.25747877403089},77.246253395231975,79.466819199842206,81.751218682797642,84.101286844206214,86.518911434157999,null,{"$f":"MATCH($B80,'C_CAPEX Build Up'!$B$15:$B$189,0)","v":106},{"$f":"IFERROR(MATCH($C80,'O_OPEX Tariff Summary'!$B$5:$B$138,0),0)","v":45}]
[null,"17W LED ALD ZHAGA","LED1x17","LED","Minor (Cat P)",{"$f":"INDEX('C_CAPEX Build Up'!S$15:S$189,$V81)","v":53.802917998643323},{"$f":"INDEX('C_CAPEX Build Up'!T$15:T$189,$V81)","v":55.349568025599964},{"$f":"INDEX('C_CAPEX Build Up'!U$15:U$189,$V81)","v":56.940678955326703},{"$f":"INDEX('C_CAPEX Build Up'!V$15:V$189,$V81)","v":58.577528886837975},{"$f":"INDEX('C_CAPEX Build Up'!W$15:W$189,$V81)","v":60.261432660127113},{"$f":"IF($W81=0,0,INDEX('O_OPEX Tariff Summary'!AB$5:AB$138,$W81))","v":23.443335396588658},{"$f":"IF($W81=0,0,INDEX('O_OPEX Tariff Summary'!AC$5:AC$138,$W81))","v":24.117251174242238},{"$f":"IF($W81=0,0,INDEX('O_OPEX Tariff Summary'!AD$5:AD$138,$W81))","v":24.810539727470939},{"$f":"IF($W81=0,0,INDEX('O_OPEX Tariff Summary'!AE$5:AE$138,$W81))","v":25.523757957368236},{"$f":"IF($W81=0,0,INDEX('O_OPEX Tariff Summary'!AF$5:AF$138,$W81))","v":26.25747877403089},77.246253395231975,79.466819199842206,81.751218682797642,84.101286844206214,86.518911434157999,null,{"$f":"MATCH($B81,'C_CAPEX Build Up'!$B$15:$B$189,0)","v":107},{"$f":"IFERROR(MATCH($C81,'O_OPEX Tariff Summary'!$B$5:$B$138,0),0)","v":45}]
[null,"17W LED SY RRW","LED1x17","LED","Minor (Cat P)",{"$f":"INDEX('C_CAPEX Build Up'!S$15:S$189,$V82)","v":67.009884696487063},{"$f":"INDEX('C_CAPEX Build Up'!T$15:T$189,$V82)","v":68.936189882662958},{"$f":"INDEX('C_CAPEX Build Up'!U$15:U$189,$V82)","v":70.917869760007108},{"$f":"INDEX('C_CAPEX Build Up'!V$15:V$189,$V82)","v":72.956516161653738},{"$f":"INDEX('C_CAPEX Build Up'!W$15:W$189,$V82)","v":75.053766680499763},{"$f":"IF($W82=0,0,INDEX('O_OPEX Tariff Summary'!AB$5:AB$138,$W82))","v":23.443335396588658},{"$f":"IF($W82=0,0,INDEX('O_OPEX Tariff Summary'!AC$5:AC$138,$W82))","v":24.117251174242238},{"$f":"IF($W82=0,0,INDEX('O_OPEX Tariff Summary'!AD$5:AD$138,$W82))","v":24.810539727470939},{"$f":"IF($W82=0,0,INDEX('O_OPEX Tariff Summary'!AE$5:AE$138,$W82))","v":25.523757957368236},{"$f":"IF($W82=0,0,INDEX('O_OPEX Tariff Summary'!AF$5:AF$138,$W82))","v":26.25747877403089},90.453220093075714,93.0534410569052,95.728409487478046,98.480274119021971,101.31124545453065,null,{"$f":"MATCH($B82,'C_CAPEX Build Up'!$B$15:$B$189,0)","v":108},{"$f":"IFERROR(MATCH($C82,'O_OPEX Tariff Summary'!$B$5:$B$138,0),0)","v":45}]
[null,"1x17W LED","LED1x17","LED","Minor (Cat P)",{"$f":"INDEX('C_CAPEX Build Up'!S$15:S$189,$V83)","v":63.163567805258616},{"$f":"INDEX('C_CAPEX Build Up'!T$15:T$189,$V83)","v":64.979304525173035},{"$f":"INDEX('C_CAPEX Build Up'!U$15:U$189,$V83)","v":66.847237470706162},{"$f":"INDEX('C_CAPEX Build Up'!V$15:V$189,$V83)","v":68.768867104969715},{"$f":"INDEX('C_CAPEX Build Up'!W$15:W$189,$V83)","v":70.745737024262226},{"$f":"IF($W83=0,0,INDEX('O_OPEX Tariff Summary'!AB$5:AB$138,$W83))","v":23.443335396588658},{"$f":"IF($W83=0,0,INDEX('O_OPEX Tariff Summary'!AC$5:AC$138,$W83))","v":24.117251174242238},{"$f":"IF($W83=0,0,INDEX('O_OPEX Tariff Summary'!AD$5:AD$138,$W83))","v":24.810539727470939},{"$f":"IF($W83=0,0,INDEX('O_OPEX Tariff Summary'!AE$5:AE$138,$W83))","v":25.523757957368236},{"$f":"IF($W83=0,0,INDEX('O_OPEX Tariff Summary'!AF$5:AF$138,$W83))","v":26.25747877403089},86.606903201847274,89.096555699415276,91.657777198177101,94.292625062337947,97.003215798293112,null,{"$f":"MATCH($B83,'C_CAPEX Build Up'!$B$15:$B$189,0)","v":109},{"$f":"IFERROR(MATCH($C83,'O_OPEX Tariff Summary'!$B$5:$B$138,0),0)","v":45}]
[null,"20W LED GE","LED1x20","LED","Minor (Cat P)",{"$f":"INDEX('C_CAPEX Build Up'!S$15:S$189,$V84)","v":56.272250041807659},{"$f":"INDEX('C_CAPEX Build Up'!T$15:T$189,$V84)","v":57.889884926336926},{"$f":"INDEX('C_CAPEX Build Up'!U$15:U$189,$V84)","v":59.554021285708622},{"$f":"INDEX('C_CAPEX Build Up'!V$15:V$189,$V84)","v":61.265995878410834},{"$f":"INDEX('C_CAPEX Build Up'!W$15:W$189,$V84)","v":63.027183890169958},{"$f":"IF($W84=0,0,INDEX('O_OPEX Tariff Summary'!AB$5:AB$138,$W84))","v":0},{"$f":"IF($W84=0,0,INDEX('O_OPEX Tariff Summary'!AC$5:AC$138,$W84))","v":0},{"$f":"IF($W84=0,0,INDEX('O_OPEX Tariff Summary'!AD$5:AD$138,$W84))","v":0},{"$f":"IF($W84=0,0,INDEX('O_OPEX Tariff Summary'!AE$5:AE$138,$W84))","v":0},{"$f":"IF($W84=0,0,INDEX('O_OPEX Tariff Summary'!AF$5:AF$138,$W84))","v":0},56.272250041807659,57.889884926336926,59.554021285708622,61.265995878410834,63.027183890169958,null,{"$f":"MATCH($B84,'C_CAPEX Build Up'!$B$15:$B$189,0)","v":110},{"$f":"IFERROR(MATCH($C84,'O_OPEX Tariff Summary'!$B$5:$B$138,0),0)","v":0}]
[null,"1x22W LED","LED1x22","LED","Minor (Cat P)",{"$f":"INDEX('C_CAPEX Build Up'!S$15:S$189,$V85)","v":65.567515862276395},{"$f":"INDEX('C_CAPEX Build Up'!T$15:T$189,$V85)","v":67.452357873604242},{"$f":"INDEX('C_CAPEX Build Up'!U$15:U$189,$V85)","v":69.391382651519265},{"$f":"INDEX('C_CAPEX Build Up'!V$15:V$189,$V85)","v":71.38614776539724},{"$f":"INDEX('C_CAPEX Build Up'!W$15:W$189,$V85)","v":73.438255559410692},{"$f":"IF($W85=0,0,INDEX('O_OPEX Tariff Summary'!AB$5:AB$138,$W85))","v":23.443335396588658},{"$f":"IF($W85=0,0,INDEX('O_OPEX Tariff Summary'!AC$5:AC$138,$W85))","v":24.117251174242238},{"$f":"IF($W85=0,0,INDEX('O_OPEX Tariff Summary'!AD$5:AD$138,$W85))","v":24.810539727470939},{"$f":"IF($W85=0,0,INDEX('O_OPEX Tariff Summary'!AE$5:AE$138,$W85))","v":25.523757957368236},{"$f":"IF($W85=0,0,INDEX('O_OPEX Tariff Summary'!AF$5:AF$138,$W85))","v":26.25747877403089},89.010851258865046,91.569609047846484,94.201922378990204,96.909905722765473,99.695734333441578,null,{"$f":"MATCH($B85,'C_CAPEX Build Up'!$B$15:$B$189,0)","v":111},{"$f":"IFERROR(MATCH($C85,'O_OPEX Tariff Summary'!$B$5:$B$138,0),0)","v":47}]
[null,"1x25W LED GE","LED1x25 GE","LED","Minor (Cat P)",{"$f":"INDEX('C_CAPEX Build Up'!S$15:S$189,$V86)","v":56.272250041807659},{"$f":"INDEX('C_CAPEX Build Up'!T$15:T$189,$V86)","v":57.889884926336926},{"$f":"INDEX('C_CAPEX Build Up'!U$15:U$189,$V86)","v":59.554021285708622},{"$f":"INDEX('C_CAPEX Build Up'!V$15:V$189,$V86)","v":61.265995878410834},{"$f":"INDEX('C_CAPEX Build Up'!W$15:W$189,$V86)","v":63.027183890169958},{"$f":"IF($W86=0,0,INDEX('O_OPEX Tariff Summary'!AB$5:AB$138,$W86))","v":23.443335396588658},{"$f":"IF($W86=0,0,INDEX('O_OPEX Tariff Summary'!AC$5:AC$138,$W86))","v":24.117251174242238},{"$f":"IF($W86=0,0,INDEX('O_OPEX Tariff Summary'!AD$5:AD$138,$W86))","v":24.810539727470939},{"$f":"IF($W86=0,0,INDEX('O_OPEX Tariff Summary'!AE$5:AE$138,$W86))","v":25.523757957368236},{"$f":"IF($W86=0,0,INDEX('O_OPEX Tariff Summary'!AF$5:AF$138,$W86))","v":26.25747877403089},79.715585438396317,82.00713610057916,84.364561013179554,86.789753835779067,89.284662664200852,null,{"$f":"MATCH($B86,'C_CAPEX Build Up'!$B$15:$B$189,0)","v":112},{"$f":"IFERROR(MATCH($C86,'O_OPEX Tariff Summary'!$B$5:$B$138,0),0)","v":48}]
[null,"25W LED PH","LED1x17","LED","Minor (Cat P)",{"$f":"INDEX('C_CAPEX Build Up'!S$15:S$189,$V87)","v":55.232013468739424},{"$f":"INDEX('C_CAPEX Build Up'!T$15:T$189,$V87)","v":56.819745106686078},{"$f":"INDEX('C_CAPEX Build Up'!U$15:U$189,$V87)","v":58.453118603326942},{"$f":"INDEX('C_CAPEX Build Up'!V$15:V$189,$V87)","v":60.133446006123485},{"$f":"INDEX('C_CAPEX Build Up'!W$15:W$189,$V87)","v":61.862077079417908},{"$f":"IF($W87=0,0,INDEX('O_OPEX Tariff Summary'!AB$5:AB$138,$W87))","v":23.443335396588658},{"$f":"IF($W87=0,0,INDEX('O_OPEX Tariff Summary'!AC$5:AC$138,$W87))","v":24.117251174242238},{"$f":"IF($W87=0,0,INDEX('O_OPEX Tariff Summary'!AD$5:AD$138,$W87))","v":24.810539727470939},{"$f":"IF($W87=0,0,INDEX('O_OPEX Tariff Summary'!AE$5:AE$138,$W87))","v":25.523757957368236},{"$f":"IF($W87=0,0,INDEX('O_OPEX Tariff Summary'!AF$5:AF$138,$W87))","v":26.25747877403089},78.67534886532809,80.936996280928312,83.263658330797881,85.657203963491725,88.119555853448801,null,{"$f":"MATCH($B87,'C_CAPEX Build Up'!$B$15:$B$189,0)","v":113},{"$f":"IFERROR(MATCH($C87,'O_OPEX Tariff Summary'!$B$5:$B$138,0),0)","v":45}]
[null,"28W LED SY","LED1x28","LED","Minor (Cat P)",{"$f":"INDEX('C_CAPEX Build Up'!S$15:S$189,$V88)","v":69.8946223649084},{"$f":"INDEX('C_CAPEX Build Up'!T$15:T$189,$V88)","v":71.903853900780419},{"$f":"INDEX('C_CAPEX Build Up'!U$15:U$189,$V88)","v":73.970843976982849},{"$f":"INDEX('C_CAPEX Build Up'!V$15:V$189,$V88)","v":76.097252954166777},{"$f":"INDEX('C_CAPEX Build Up'!W$15:W$189,$V88)","v":78.284788922677933},{"$f":"IF($W88=0,0,INDEX('O_OPEX Tariff Summary'!AB$5:AB$138,$W88))","v":23.443335396588658},{"$f":"IF($W88=0,0,INDEX('O_OPEX Tariff Summary'!AC$5:AC$138,$W88))","v":24.117251174242238},{"$f":"IF($W88=0,0,INDEX('O_OPEX Tariff Summary'!AD$5:AD$138,$W88))","v":24.810539727470939},{"$f":"IF($W88=0,0,INDEX('O_OPEX Tariff Summary'!AE$5:AE$138,$W88))","v":25.523757957368236},{"$f":"IF($W88=0,0,INDEX('O_OPEX Tariff Summary'!AF$5:AF$138,$W88))","v":26.25747877403089},93.337957761497051,96.02110507502266,98.781383704453788,101.62101091153501,104.54226769670882,null,{"$f":"MATCH($B88,'C_CAPEX Build Up'!$B$15:$B$189,0)","v":114},{"$f":"IFERROR(MATCH($C88,'O_OPEX Tariff Summary'!$B$5:$B$138,0),0)","v":49}]
[null,"1x29W LED","LED1x29","LED20","Minor (Cat P)",{"$f":"INDEX('C_CAPEX Build Up'!S$15:S$189,$V89)","v":40.922778445149085},{"$f":"INDEX('C_CAPEX Build Up'!T$15:T$189,$V89)","v":42.099168476391007},{"$f":"INDEX('C_CAPEX Build Up'!U$15:U$189,$V89)","v":43.30937570084869},{"$f":"INDEX('C_CAPEX Build Up'!V$15:V$189,$V89)","v":44.554372247260581},{"$f":"INDEX('C_CAPEX Build Up'!W$15:W$189,$V89)","v":45.835158189744213},{"$f":"IF($W89=0,0,INDEX('O_OPEX Tariff Summary'!AB$5:AB$138,$W89))","v":23.443335396588658},{"$f":"IF($W89=0,0,INDEX('O_OPEX Tariff Summary'!AC$5:AC$138,$W89))","v":24.117251174242238},{"$f":"IF($W89=0,0,INDEX('O_OPEX Tariff Summary'!AD$5:AD$138,$W89))","v":24.810539727470939},{"$f":"IF($W89=0,0,INDEX('O_OPEX Tariff Summary'!AE$5:AE$138,$W89))","v":25.523757957368236},{"$f":"IF($W89=0,0,INDEX('O_OPEX Tariff Summary'!AF$5:AF$138,$W89))","v":26.25747877403089},64.366113841737743,66.216419650633242,68.119915428319629,70.07813020462882,72.092636963775107,null,{"$f":"MATCH($B89,'C_CAPEX Build Up'!$B$15:$B$189,0)","v":115},{"$f":"IFERROR(MATCH($C89,'O_OPEX Tariff Summary'!$B$5:$B$138,0),0)","v":50}]
[null,"33W LED LRL","LED1x33","LED","Minor (Cat P)",{"$f":"INDEX('C_CAPEX Build Up'!S$15:S$189,$V90)","v":76.465413720756985},{"$f":"INDEX('C_CAPEX Build Up'!T$15:T$189,$V90)","v":78.663533053159028},{"$f":"INDEX('C_CAPEX Build Up'!U$15:U$189,$V90)","v":80.924840804538633},{"$f":"INDEX('C_CAPEX Build Up'!V$15:V$189,$V90)","v":83.251153426001991},{"$f":"INDEX('C_CAPEX Build Up'!W$15:W$189,$V90)","v":85.644339585417072},{"$f":"IF($W90=0,0,INDEX('O_OPEX Tariff Summary'!AB$5:AB$138,$W90))","v":23.443335396588658},{"$f":"IF($W90=0,0,INDEX('O_OPEX Tariff Summary'!AC$5:AC$138,$W90))","v":24.117251174242238},{"$f":"IF($W90=0,0,INDEX('O_OPEX Tariff Summary'!AD$5:AD$138,$W90))","v":24.810539727470939},{"$f":"IF($W90=0,0,INDEX('O_OPEX Tariff Summary'!AE$5:AE$138,$W90))","v":25.523757957368236},{"$f":"IF($W90=0,0,INDEX('O_OPEX Tariff Summary'!AF$5:AF$138,$W90))","v":26.25747877403089},99.90874911734565,102.78078422740127,105.73538053200957,108.77491138337022,111.90181835944796,null,{"$f":"MATCH($B90,'C_CAPEX Build Up'!$B$15:$B$189,0)","v":116},{"$f":"IFERROR(MATCH($C90,'O_OPEX Tariff Summary'!$B$5:$B$138,0),0)","v":52}]
[null,"34W LED BOURKE HILL","LED1x17","LED","Minor (Cat P)",{"$f":"INDEX('C_CAPEX Build Up'!S$15:S$189,$V91)","v":156.62257629450431},{"$f":"INDEX('C_CAPEX Build Up'!T$15:T$189,$V91)","v":161.12494012268965},{"$f":"INDEX('C_CAPEX Build Up'!U$15:U$189,$V91)","v":165.75673152460635},{"$f":"INDEX('C_CAPEX Build Up'!V$15:V$189,$V91)","v":170.52167110069482},{"$f":"INDEX('C_CAPEX Build Up'!W$15:W$189,$V91)","v":175.42358640594335},{"$f":"IF($W91=0,0,INDEX('O_OPEX Tariff Summary'!AB$5:AB$138,$W91))","v":23.443335396588658},{"$f":"IF($W91=0,0,INDEX('O_OPEX Tariff Summary'!AC$5:AC$138,$W91))","v":24.117251174242238},{"$f":"IF($W91=0,0,INDEX('O_OPEX Tariff Summary'!AD$5:AD$138,$W91))","v":24.810539727470939},{"$f":"IF($W91=0,0,INDEX('O_OPEX Tariff Summary'!AE$5:AE$138,$W91))","v":25.523757957368236},{"$f":"IF($W91=0,0,INDEX('O_OPEX Tariff Summary'!AF$5:AF$138,$W91))","v":26.25747877403089},180.06591169109296,185.24219129693188,190.56727125207729,196.04542905806306,201.68106517997424,null,{"$f":"MATCH($B91,'C_CAPEX Build Up'!$B$15:$B$189,0)","v":117},{"$f":"IFERROR(MATCH($C91,'O_OPEX Tariff Summary'!$B$5:$B$138,0),0)","v":45}]
[null,"40W LED ALD","LED1x17","LED","Minor (Cat P)",{"$f":"INDEX('C_CAPEX Build Up'!S$15:S$189,$V92)","v":54.386420593127532},{"$f":"INDEX('C_CAPEX Build Up'!T$15:T$189,$V92)","v":55.949844325620205},{"$f":"INDEX('C_CAPEX Build Up'!U$15:U$189,$V92)","v":57.558211147594854},{"$f":"INDEX('C_CAPEX Build Up'!V$15:V$189,$V92)","v":59.21281301928606},{"$f":"INDEX('C_CAPEX Build Up'!W$15:W$189,$V92)","v":60.914979040370021},{"$f":"IF($W92=0,0,INDEX('O_OPEX Tariff Summary'!AB$5:AB$138,$W92))","v":23.443335396588658},{"$f":"IF($W92=0,0,INDEX('O_OPEX Tariff Summary'!AC$5:AC$138,$W92))","v":24.117251174242238},{"$f":"IF($W92=0,0,INDEX('O_OPEX Tariff Summary'!AD$5:AD$138,$W92))","v":24.810539727470939},{"$f":"IF($W92=0,0,INDEX('O_OPEX Tariff Summary'!AE$5:AE$138,$W92))","v":25.523757957368236},{"$f":"IF($W92=0,0,INDEX('O_OPEX Tariff Summary'!AF$5:AF$138,$W92))","v":26.25747877403089},77.82975598971619,80.067095499862447,82.368750875065786,84.736570976654292,87.172457814400914,null,{"$f":"MATCH($B92,'C_CAPEX Build Up'!$B$15:$B$189,0)","v":118},{"$f":"IFERROR(MATCH($C92,'O_OPEX Tariff Summary'!$B$5:$B$138,0),0)","v":45}]
[null,"40W LED ALD ZHAGA","LED1x17","LED","Minor (Cat P)",{"$f":"INDEX('C_CAPEX Build Up'!S$15:S$189,$V93)","v":57.252303170148956},{"$f":"INDEX('C_CAPEX Build Up'!T$15:T$189,$V93)","v":58.898111232895175},{"$f":"INDEX('C_CAPEX Build Up'!U$15:U$189,$V93)","v":60.591230653078853},{"$f":"INDEX('C_CAPEX Build Up'!V$15:V$189,$V93)","v":62.333021470544992},{"$f":"INDEX('C_CAPEX Build Up'!W$15:W$189,$V93)","v":64.124882821636362},{"$f":"IF($W93=0,0,INDEX('O_OPEX Tariff Summary'!AB$5:AB$138,$W93))","v":23.443335396588658},{"$f":"IF($W93=0,0,INDEX('O_OPEX Tariff Summary'!AC$5:AC$138,$W93))","v":24.117251174242238},{"$f":"IF($W93=0,0,INDEX('O_OPEX Tariff Summary'!AD$5:AD$138,$W93))","v":24.810539727470939},{"$f":"IF($W93=0,0,INDEX('O_OPEX Tariff Summary'!AE$5:AE$138,$W93))","v":25.523757957368236},{"$f":"IF($W93=0,0,INDEX('O_OPEX Tariff Summary'!AF$5:AF$138,$W93))","v":26.25747877403089},80.695638566737614,83.015362407137417,85.401770380549792,87.856779427913224,90.382361595667248,null,{"$f":"MATCH($B93,'C_CAPEX Build Up'!$B$15:$B$189,0)","v":119},{"$f":"IFERROR(MATCH($C93,'O_OPEX Tariff Summary'!$B$5:$B$138,0),0)","v":45}]
[null,"42W LED LRL","LED1x42","LED","Major (Cat V)",{"$f":"INDEX('C_CAPEX Build Up'!S$15:S$189,$V94)","v":94.133596366907909},{"$f":"INDEX('C_CAPEX Build Up'!T$15:T$189,$V94)","v":96.839615571332388},{"$f":"INDEX('C_CAPEX Build Up'!U$15:U$189,$V94)","v":99.623423580363593},{"$f":"INDEX('C_CAPEX Build Up'!V$15:V$189,$V94)","v":102.48725655629936},{"$f":"INDEX('C_CAPEX Build Up'!W$15:W$189,$V94)","v":105.43341494346174},{"$f":"IF($W94=0,0,INDEX('O_OPEX Tariff Summary'!AB$5:AB$138,$W94))","v":23.443335396588658},{"$f":"IF($W94=0,0,INDEX('O_OPEX Tariff Summary'!AC$5:AC$138,$W94))","v":24.117251174242238},{"$f":"IF($W94=0,0,INDEX('O_OPEX Tariff Summary'!AD$5:AD$138,$W94))","v":24.810539727470939},{"$f":"IF($W94=0,0,INDEX('O_OPEX Tariff Summary'!AE$5:AE$138,$W94))","v":25.523757957368236},{"$f":"IF($W94=0,0,INDEX('O_OPEX Tariff Summary'!AF$5:AF$138,$W94))","v":26.25747877403089},117.57693176349656,120.95686674557463,124.43396330783453,128.01101451366759,131.69089371749263,null,{"$f":"MATCH($B94,'C_CAPEX Build Up'!$B$15:$B$189,0)","v":120},{"$f":"IFERROR(MATCH($C94,'O_OPEX Tariff Summary'!$B$5:$B$138,0),0)","v":53}]
[null,"49W LED PH","LED1x17","LED","Minor (Cat P)",{"$f":"INDEX('C_CAPEX Build Up'!S$15:S$189,$V95)","v":59.143222123739257},{"$f":"INDEX('C_CAPEX Build Up'!T$15:T$189,$V95)","v":60.84338764439542},{"$f":"INDEX('C_CAPEX Build Up'!U$15:U$189,$V95)","v":62.592427113643367},{"$f":"INDEX('C_CAPEX Build Up'!V$15:V$189,$V95)","v":64.391745490483814},{"$f":"INDEX('C_CAPEX Build Up'!W$15:W$189,$V95)","v":66.242788121687454},{"$f":"IF($W95=0,0,INDEX('O_OPEX Tariff Summary'!AB$5:AB$138,$W95))","v":23.443335396588658},{"$f":"IF($W95=0,0,INDEX('O_OPEX Tariff Summary'!AC$5:AC$138,$W95))","v":24.117251174242238},{"$f":"IF($W95=0,0,INDEX('O_OPEX Tariff Summary'!AD$5:AD$138,$W95))","v":24.810539727470939},{"$f":"IF($W95=0,0,INDEX('O_OPEX Tariff Summary'!AE$5:AE$138,$W95))","v":25.523757957368236},{"$f":"IF($W95=0,0,INDEX('O_OPEX Tariff Summary'!AF$5:AF$138,$W95))","v":26.25747877403089},82.586557520327915,84.960638818637662,87.402966841114306,89.915503447852046,92.50026689571834,null,{"$f":"MATCH($B95,'C_CAPEX Build Up'!$B$15:$B$189,0)","v":121},{"$f":"IFERROR(MATCH($C95,'O_OPEX Tariff Summary'!$B$5:$B$138,0),0)","v":45}]
[null,"49W LED PH ZHAGA","LED1x17","LED","Minor (Cat P)",{"$f":"INDEX('C_CAPEX Build Up'!S$15:S$189,$V96)","v":67.416932740085059},{"$f":"INDEX('C_CAPEX Build Up'!T$15:T$189,$V96)","v":69.35493916647286},{"$f":"INDEX('C_CAPEX Build Up'!U$15:U$189,$V96)","v":71.348656654697322},{"$f":"INDEX('C_CAPEX Build Up'!V$15:V$189,$V96)","v":73.399686707399866},{"$f":"INDEX('C_CAPEX Build Up'!W$15:W$189,$V96)","v":75.50967686494991},{"$f":"IF($W96=0,0,INDEX('O_OPEX Tariff Summary'!AB$5:AB$138,$W96))","v":23.443335396588658},{"$f":"IF($W96=0,0,INDEX('O_OPEX Tariff Summary'!AC$5:AC$138,$W96))","v":24.117251174242238},{"$f":"IF($W96=0,0,INDEX('O_OPEX Tariff Summary'!AD$5:AD$138,$W96))","v":24.810539727470939},{"$f":"IF($W96=0,0,INDEX('O_OPEX Tariff Summary'!AE$5:AE$138,$W96))","v":25.523757957368236},{"$f":"IF($W96=0,0,INDEX('O_OPEX Tariff Summary'!AF$5:AF$138,$W96))","v":26.25747877403089},90.86026813667371,93.472190340715102,96.159196382168261,98.923444664768098,101.7671556389808,null,{"$f":"MATCH($B96,'C_CAPEX Build Up'!$B$15:$B$189,0)","v":122},{"$f":"IFERROR(MATCH($C96,'O_OPEX Tariff Summary'!$B$5:$B$138,0),0)","v":45}]
[null,"50W LED SY PT","LED1x17","LED","Minor (Cat P)",{"$f":"INDEX('C_CAPEX Build Up'!S$15:S$189,$V97)","v":201.39352632927802},{"$f":"INDEX('C_CAPEX Build Up'!T$15:T$189,$V97)","v":207.18290197120743},{"$f":"INDEX('C_CAPEX Build Up'!U$15:U$189,$V97)","v":213.13870237829323},{"$f":"INDEX('C_CAPEX Build Up'!V$15:V$189,$V97)","v":219.26571169379548},{"$f":"INDEX('C_CAPEX Build Up'!W$15:W$189,$V97)","v":225.56885158874371},{"$f":"IF($W97=0,0,INDEX('O_OPEX Tariff Summary'!AB$5:AB$138,$W97))","v":23.443335396588658},{"$f":"IF($W97=0,0,INDEX('O_OPEX Tariff Summary'!AC$5:AC$138,$W97))","v":24.117251174242238},{"$f":"IF($W97=0,0,INDEX('O_OPEX Tariff Summary'!AD$5:AD$138,$W97))","v":24.810539727470939},{"$f":"IF($W97=0,0,INDEX('O_OPEX Tariff Summary'!AE$5:AE$138,$W97))","v":25.523757957368236},{"$f":"IF($W97=0,0,INDEX('O_OPEX Tariff Summary'!AF$5:AF$138,$W97))","v":26.25747877403089},224.83686172586667,231.30015314544966,237.94924210576417,244.78946965116373,251.8263303627746,null,{"$f":"MATCH($B97,'C_CAPEX Build Up'!$B$15:$B$189,0)","v":123},{"$f":"IFERROR(MATCH($C97,'O_OPEX Tariff Summary'!$B$5:$B$138,0),0)","v":45}]
[null,"58W LED ALD","LED1x17","LED","Minor (Cat P)",{"$f":"INDEX('C_CAPEX Build Up'!S$15:S$189,$V98)","v":83.647791538978225},{"$f":"INDEX('C_CAPEX Build Up'!T$15:T$189,$V98)","v":86.05237968867462},{"$f":"INDEX('C_CAPEX Build Up'!U$15:U$189,$V98)","v":88.526091530261496},{"$f":"INDEX('C_CAPEX Build Up'!V$15:V$189,$V98)","v":91.070914133658178},{"$f":"INDEX('C_CAPEX Build Up'!W$15:W$189,$V98)","v":93.688891690253541},{"$f":"IF($W98=0,0,INDEX('O_OPEX Tariff Summary'!AB$5:AB$138,$W98))","v":23.443335396588658},{"$f":"IF($W98=0,0,INDEX('O_OPEX Tariff Summary'!AC$5:AC$138,$W98))","v":24.117251174242238},{"$f":"IF($W98=0,0,INDEX('O_OPEX Tariff Summary'!AD$5:AD$138,$W98))","v":24.810539727470939},{"$f":"IF($W98=0,0,INDEX('O_OPEX Tariff Summary'!AE$5:AE$138,$W98))","v":25.523757957368236},{"$f":"IF($W98=0,0,INDEX('O_OPEX Tariff Summary'!AF$5:AF$138,$W98))","v":26.25747877403089},107.09112693556688,110.16963086291686,113.33663125773244,116.59467209102641,119.94637046428443,null,{"$f":"MATCH($B98,'C_CAPEX Build Up'!$B$15:$B$189,0)","v":124},{"$f":"IFERROR(MATCH($C98,'O_OPEX Tariff Summary'!$B$5:$B$138,0),0)","v":45}]
[null,"58W LED ALD ZHAGA","LED1x17","LED","Minor (Cat P)",{"$f":"INDEX('C_CAPEX Build Up'!S$15:S$189,$V99)","v":86.647209629391966},{"$f":"INDEX('C_CAPEX Build Up'!T$15:T$189,$V99)","v":89.138020799009126},{"$f":"INDEX('C_CAPEX Build Up'!U$15:U$189,$V99)","v":91.700434277681893},{"$f":"INDEX('C_CAPEX Build Up'!V$15:V$189,$V99)","v":94.336508387102668},{"$f":"INDEX('C_CAPEX Build Up'!W$15:W$189,$V99)","v":97.048360618678416},{"$f":"IF($W99=0,0,INDEX('O_OPEX Tariff Summary'!AB$5:AB$138,$W99))","v":23.443335396588658},{"$f":"IF($W99=0,0,INDEX('O_OPEX Tariff Summary'!AC$5:AC$138,$W99))","v":24.117251174242238},{"$f":"IF($W99=0,0,INDEX('O_OPEX Tariff Summary'!AD$5:AD$138,$W99))","v":24.810539727470939},{"$f":"IF($W99=0,0,INDEX('O_OPEX Tariff Summary'!AE$5:AE$138,$W99))","v":25.523757957368236},{"$f":"IF($W99=0,0,INDEX('O_OPEX Tariff Summary'!AF$5:AF$138,$W99))","v":26.25747877403089},110.09054502598062,113.25527197325137,116.51097400515283,119.8602663444709,123.3058393927093,null,{"$f":"MATCH($B99,'C_CAPEX Build Up'!$B$15:$B$189,0)","v":125},{"$f":"IFERROR(MATCH($C99,'O_OPEX Tariff Summary'!$B$5:$B$138,0),0)","v":45}]
[null,"70W LED PH FLOOD","LED1x100","LED","Major (Cat V)",{"$f":"INDEX('C_CAPEX Build Up'!S$15:S$189,$V100)","v":86.879473138733772},{"$f":"INDEX('C_CAPEX Build Up'!T$15:T$189,$V100)","v":89.376961090509738},{"$f":"INDEX('C_CAPEX Build Up'!U$15:U$189,$V100)","v":91.94624328601121},{"$f":"INDEX('C_CAPEX Build Up'!V$15:V$189,$V100)","v":94.589383564396428},{"$f":"INDEX('C_CAPEX Build Up'!W$15:W$189,$V100)","v":97.308505093146508},{"$f":"IF($W100=0,0,INDEX('O_OPEX Tariff Summary'!AB$5:AB$138,$W100))","v":31.940827448003311},{"$f":"IF($W100=0,0,INDEX('O_OPEX Tariff Summary'!AC$5:AC$138,$W100))","v":32.859017082898532},{"$f":"IF($W100=0,0,INDEX('O_OPEX Tariff Summary'!AD$5:AD$138,$W100))","v":33.803601531985763},{"$f":"IF($W100=0,0,INDEX('O_OPEX Tariff Summary'!AE$5:AE$138,$W100))","v":34.775339555971669},{"$f":"IF($W100=0,0,INDEX('O_OPEX Tariff Summary'!AF$5:AF$138,$W100))","v":35.775011727340264},118.82030058673709,122.23597817340827,125.74984481799697,129.3647231203681,133.08351682048678,null,{"$f":"MATCH($B100,'C_CAPEX Build Up'!$B$15:$B$189,0)","v":126},{"$f":"IFERROR(MATCH($C100,'O_OPEX Tariff Summary'!$B$5:$B$138,0),0)","v":44}]
[null,"74W LED ALD","LED1x100","LED","Major (Cat V)",{"$f":"INDEX('C_CAPEX Build Up'!S$15:S$189,$V101)","v":93.783603606473477},{"$f":"INDEX('C_CAPEX Build Up'!T$15:T$189,$V101)","v":96.479561715096892},{"$f":"INDEX('C_CAPEX Build Up'!U$15:U$189,$V101)","v":99.253019406205439},{"$f":"INDEX('C_CAPEX Build Up'!V$15:V$189,$V101)","v":102.10620452794933},{"$f":"INDEX('C_CAPEX Build Up'!W$15:W$189,$V101)","v":105.04140897149969},{"$f":"IF($W101=0,0,INDEX('O_OPEX Tariff Summary'!AB$5:AB$138,$W101))","v":31.940827448003311},{"$f":"IF($W101=0,0,INDEX('O_OPEX Tariff Summary'!AC$5:AC$138,$W101))","v":32.859017082898532},{"$f":"IF($W101=0,0,INDEX('O_OPEX Tariff Summary'!AD$5:AD$138,$W101))","v":33.803601531985763},{"$f":"IF($W101=0,0,INDEX('O_OPEX Tariff Summary'!AE$5:AE$138,$W101))","v":34.775339555971669},{"$f":"IF($W101=0,0,INDEX('O_OPEX Tariff Summary'!AF$5:AF$138,$W101))","v":35.775011727340264},125.72443105447678,129.33857879799541,133.0566209381912,136.881544083921,140.81642069883995,null,{"$f":"MATCH($B101,'C_CAPEX Build Up'!$B$15:$B$189,0)","v":127},{"$f":"IFERROR(MATCH($C101,'O_OPEX Tariff Summary'!$B$5:$B$138,0),0)","v":44}]
[null,"74W LED ALD ZHAGA","LED1x100","LED","Major (Cat V)",{"$f":"INDEX('C_CAPEX Build Up'!S$15:S$189,$V102)","v":96.783021696887246},{"$f":"INDEX('C_CAPEX Build Up'!T$15:T$189,$V102)","v":99.565202825431442},{"$f":"INDEX('C_CAPEX Build Up'!U$15:U$189,$V102)","v":102.42736215362588},{"$f":"INDEX('C_CAPEX Build Up'!V$15:V$189,$V102)","v":105.37179878139388},{"$f":"INDEX('C_CAPEX Build Up'!W$15:W$189,$V102)","v":108.40087789992464},{"$f":"IF($W102=0,0,INDEX('O_OPEX Tariff Summary'!AB$5:AB$138,$W102))","v":31.940827448003311},{"$f":"IF($W102=0,0,INDEX('O_OPEX Tariff Summary'!AC$5:AC$138,$W102))","v":32.859017082898532},{"$f":"IF($W102=0,0,INDEX('O_OPEX Tariff Summary'!AD$5:AD$138,$W102))","v":33.803601531985763},{"$f":"IF($W102=0,0,INDEX('O_OPEX Tariff Summary'!AE$5:AE$138,$W102))","v":34.775339555971669},{"$f":"IF($W102=0,0,INDEX('O_OPEX Tariff Summary'!AF$5:AF$138,$W102))","v":35.775011727340264},{"$f":"F102+K102","v":128.72384914489055},132.42421990832997,136.23096368561164,140.14713833736556,144.17588962726489,null,{"$f":"MATCH($B102,'C_CAPEX Build Up'!$B$15:$B$189,0)","v":128},{"$f":"IFERROR(MATCH($C102,'O_OPEX Tariff Summary'!$B$5:$B$138,0),0)","v":44}]
[null,"76W LED PH","LED1x100","LED","Major (Cat V)",{"$f":"INDEX('C_CAPEX Build Up'!S$15:S$189,$V103)","v":70.332051906042167},{"$f":"INDEX('C_CAPEX Build Up'!T$15:T$189,$V103)","v":72.353858046354844},{"$f":"INDEX('C_CAPEX Build Up'!U$15:U$189,$V103)","v":74.433784203903286},{"$f":"INDEX('C_CAPEX Build Up'!V$15:V$189,$V103)","v":76.57350113056431},{"$f":"INDEX('C_CAPEX Build Up'!W$15:W$189,$V103)","v":78.774727606621582},{"$f":"IF($W103=0,0,INDEX('O_OPEX Tariff Summary'!AB$5:AB$138,$W103))","v":31.940827448003311},{"$f":"IF($W103=0,0,INDEX('O_OPEX Tariff Summary'!AC$5:AC$138,$W103))","v":32.859017082898532},{"$f":"IF($W103=0,0,INDEX('O_OPEX Tariff Summary'!AD$5:AD$138,$W103))","v":33.803601531985763},{"$f":"IF($W103=0,0,INDEX('O_OPEX Tariff Summary'!AE$5:AE$138,$W103))","v":34.775339555971669},{"$f":"IF($W103=0,0,INDEX('O_OPEX Tariff Summary'!AF$5:AF$138,$W103))","v":35.775011727340264},102.27287935404547,105.21287512925338,108.23738573588905,111.34884068653598,114.54973933396184,null,{"$f":"MATCH($B103,'C_CAPEX Build Up'!$B$15:$B$189,0)","v":129},{"$f":"IFERROR(MATCH($C103,'O_OPEX Tariff Summary'!$B$5:$B$138,0),0)","v":44}]
[null,"76W LED PH ZHAGA","LED1x100","LED","Major (Cat V)",{"$f":"INDEX('C_CAPEX Build Up'!S$15:S$189,$V104)","v":78.605762522387991},{"$f":"INDEX('C_CAPEX Build Up'!T$15:T$189,$V104)","v":80.865409568432312},{"$f":"INDEX('C_CAPEX Build Up'!U$15:U$189,$V104)","v":83.19001374495727},{"$f":"INDEX('C_CAPEX Build Up'!V$15:V$189,$V104)","v":85.58144234748039},{"$f":"INDEX('C_CAPEX Build Up'!W$15:W$189,$V104)","v":88.041616349884066},{"$f":"IF($W104=0,0,INDEX('O_OPEX Tariff Summary'!AB$5:AB$138,$W104))","v":31.940827448003311},{"$f":"IF($W104=0,0,INDEX('O_OPEX Tariff Summary'!AC$5:AC$138,$W104))","v":32.859017082898532},{"$f":"IF($W104=0,0,INDEX('O_OPEX Tariff Summary'!AD$5:AD$138,$W104))","v":33.803601531985763},{"$f":"IF($W104=0,0,INDEX('O_OPEX Tariff Summary'!AE$5:AE$138,$W104))","v":34.775339555971669},{"$f":"IF($W104=0,0,INDEX('O_OPEX Tariff Summary'!AF$5:AF$138,$W104))","v":35.775011727340264},110.5465899703913,113.72442665133084,116.99361527694303,120.35678190345206,123.81662807722432,null,{"$f":"MATCH($B104,'C_CAPEX Build Up'!$B$15:$B$189,0)","v":130},{"$f":"IFERROR(MATCH($C104,'O_OPEX Tariff Summary'!$B$5:$B$138,0),0)","v":44}]
[null,"100W LED ALD","LED1x100","LED","Major (Cat V)",{"$f":"INDEX('C_CAPEX Build Up'!S$15:S$189,$V105)","v":126.02597392334377},{"$f":"INDEX('C_CAPEX Build Up'!T$15:T$189,$V105)","v":129.64878999385303},{"$f":"INDEX('C_CAPEX Build Up'!U$15:U$189,$V105)","v":133.37574964581736},{"$f":"INDEX('C_CAPEX Build Up'!V$15:V$189,$V105)","v":137.20984665130447},{"$f":"INDEX('C_CAPEX Build Up'!W$15:W$189,$V105)","v":141.15416084309808},{"$f":"IF($W105=0,0,INDEX('O_OPEX Tariff Summary'!AB$5:AB$138,$W105))","v":31.940827448003311},{"$f":"IF($W105=0,0,INDEX('O_OPEX Tariff Summary'!AC$5:AC$138,$W105))","v":32.859017082898532},{"$f":"IF($W105=0,0,INDEX('O_OPEX Tariff Summary'!AD$5:AD$138,$W105))","v":33.803601531985763},{"$f":"IF($W105=0,0,INDEX('O_OPEX Tariff Summary'!AE$5:AE$138,$W105))","v":34.775339555971669},{"$f":"IF($W105=0,0,INDEX('O_OPEX Tariff Summary'!AF$5:AF$138,$W105))","v":35.775011727340264},157.96680137134709,162.50780707675156,167.17935117780314,171.98518620727614,176.92917257043834,null,{"$f":"MATCH($B105,'C_CAPEX Build Up'!$B$15:$B$189,0)","v":131},{"$f":"IFERROR(MATCH($C105,'O_OPEX Tariff Summary'!$B$5:$B$138,0),0)","v":44}]
[null,"100W LED SY CT","LED1x17","LED","Minor (Cat P)",{"$f":"INDEX('C_CAPEX Build Up'!S$15:S$189,$V106)","v":219.48670857372727},{"$f":"INDEX('C_CAPEX Build Up'!T$15:T$189,$V106)","v":225.79620137374121},{"$f":"INDEX('C_CAPEX Build Up'!U$15:U$189,$V106)","v":232.28707052976378},{"$f":"INDEX('C_CAPEX Build Up'!V$15:V$189,$V106)","v":238.96452999219662},{"$f":"INDEX('C_CAPEX Build Up'!W$15:W$189,$V106)","v":245.83394359469736},{"$f":"IF($W106=0,0,INDEX('O_OPEX Tariff Summary'!AB$5:AB$138,$W106))","v":23.443335396588658},{"$f":"IF($W106=0,0,INDEX('O_OPEX Tariff Summary'!AC$5:AC$138,$W106))","v":24.117251174242238},{"$f":"IF($W106=0,0,INDEX('O_OPEX Tariff Summary'!AD$5:AD$138,$W106))","v":24.810539727470939},{"$f":"IF($W106=0,0,INDEX('O_OPEX Tariff Summary'!AE$5:AE$138,$W106))","v":25.523757957368236},{"$f":"IF($W106=0,0,INDEX('O_OPEX Tariff Summary'!AF$5:AF$138,$W106))","v":26.25747877403089},242.93004397031592,249.91345254798344,257.09761025723469,264.48828794956484,272.09142236872827,null,{"$f":"MATCH($B106,'C_CAPEX Build Up'!$B$15:$B$189,0)","v":132},{"$f":"IFERROR(MATCH($C106,'O_OPEX Tariff Summary'!$B$5:$B$138,0),0)","v":45}]
[null,"100W LED SY PT","LED1x17","LED","Minor (Cat P)",{"$f":"INDEX('C_CAPEX Build Up'!S$15:S$189,$V107)","v":216.47117819965237},{"$f":"INDEX('C_CAPEX Build Up'!T$15:T$189,$V107)","v":222.69398480665222},{"$f":"INDEX('C_CAPEX Build Up'!U$15:U$189,$V107)","v":229.09567583785199},{"$f":"INDEX('C_CAPEX Build Up'!V$15:V$189,$V107)","v":235.68139360912974},{"$f":"INDEX('C_CAPEX Build Up'!W$15:W$189,$V107)","v":242.45642826037172},{"$f":"IF($W107=0,0,INDEX('O_OPEX Tariff Summary'!AB$5:AB$138,$W107))","v":23.443335396588658},{"$f":"IF($W107=0,0,INDEX('O_OPEX Tariff Summary'!AC$5:AC$138,$W107))","v":24.117251174242238},{"$f":"IF($W107=0,0,INDEX('O_OPEX Tariff Summary'!AD$5:AD$138,$W107))","v":24.810539727470939},{"$f":"IF($W107=0,0,INDEX('O_OPEX Tariff Summary'!AE$5:AE$138,$W107))","v":25.523757957368236},{"$f":"IF($W107=0,0,INDEX('O_OPEX Tariff Summary'!AF$5:AF$138,$W107))","v":26.25747877403089},239.91451359624102,246.81123598089445,253.90621556532292,261.20515156649799,268.71390703440261,null,{"$f":"MATCH($B107,'C_CAPEX Build Up'!$B$15:$B$189,0)","v":133},{"$f":"IFERROR(MATCH($C107,'O_OPEX Tariff Summary'!$B$5:$B$138,0),0)","v":45}]
[null,"110W LED SY FLOOD","LED1x100","LED","Major (Cat V)",{"$f":"INDEX('C_CAPEX Build Up'!S$15:S$189,$V108)","v":129.15061283315501},{"$f":"INDEX('C_CAPEX Build Up'!T$15:T$189,$V108)","v":132.86325159421446},{"$f":"INDEX('C_CAPEX Build Up'!U$15:U$189,$V108)","v":136.68261603212321},{"$f":"INDEX('C_CAPEX Build Up'!V$15:V$189,$V108)","v":140.61177414536752},{"$f":"INDEX('C_CAPEX Build Up'!W$15:W$189,$V108)","v":144.65388212690559},{"$f":"IF($W108=0,0,INDEX('O_OPEX Tariff Summary'!AB$5:AB$138,$W108))","v":31.940827448003311},{"$f":"IF($W108=0,0,INDEX('O_OPEX Tariff Summary'!AC$5:AC$138,$W108))","v":32.859017082898532},{"$f":"IF($W108=0,0,INDEX('O_OPEX Tariff Summary'!AD$5:AD$138,$W108))","v":33.803601531985763},{"$f":"IF($W108=0,0,INDEX('O_OPEX Tariff Summary'!AE$5:AE$138,$W108))","v":34.775339555971669},{"$f":"IF($W108=0,0,INDEX('O_OPEX Tariff Summary'!AF$5:AF$138,$W108))","v":35.775011727340264},161.09144028115833,165.72226867711299,170.48621756410898,175.38711370133919,180.42889385424584,null,{"$f":"MATCH($B108,'C_CAPEX Build Up'!$B$15:$B$189,0)","v":134},{"$f":"IFERROR(MATCH($C108,'O_OPEX Tariff Summary'!$B$5:$B$138,0),0)","v":44}]
[null,"120W LED PH FLOOD","LED1x100","LED","Major (Cat V)",{"$f":"INDEX('C_CAPEX Build Up'!S$15:S$189,$V109)","v":95.454045959310335},{"$f":"INDEX('C_CAPEX Build Up'!T$15:T$189,$V109)","v":98.198023577026362},{"$f":"INDEX('C_CAPEX Build Up'!U$15:U$189,$V109)","v":101.02088117401259},{"$f":"INDEX('C_CAPEX Build Up'!V$15:V$189,$V109)","v":103.92488628010945},{"$f":"INDEX('C_CAPEX Build Up'!W$15:W$189,$V109)","v":106.91237160889125},{"$f":"IF($W109=0,0,INDEX('O_OPEX Tariff Summary'!AB$5:AB$138,$W109))","v":31.940827448003311},{"$f":"IF($W109=0,0,INDEX('O_OPEX Tariff Summary'!AC$5:AC$138,$W109))","v":32.859017082898532},{"$f":"IF($W109=0,0,INDEX('O_OPEX Tariff Summary'!AD$5:AD$138,$W109))","v":33.803601531985763},{"$f":"IF($W109=0,0,INDEX('O_OPEX Tariff Summary'!AE$5:AE$138,$W109))","v":34.775339555971669},{"$f":"IF($W109=0,0,INDEX('O_OPEX Tariff Summary'!AF$5:AF$138,$W109))","v":35.775011727340264},127.39487340731364,131.05704065992489,134.82448270599835,138.70022583608113,142.68738333623151,null,{"$f":"MATCH($B109,'C_CAPEX Build Up'!$B$15:$B$189,0)","v":135},{"$f":"IFERROR(MATCH($C109,'O_OPEX Tariff Summary'!$B$5:$B$138,0),0)","v":44}]
[null,"140W LED PH","LED1x100","LED","Major (Cat V)",{"$f":"INDEX('C_CAPEX Build Up'!S$15:S$189,$V110)","v":75.597140480080398},{"$f":"INDEX('C_CAPEX Build Up'!T$15:T$189,$V110)","v":77.770299924040486},{"$f":"INDEX('C_CAPEX Build Up'!U$15:U$189,$V110)","v":80.005930275483067},{"$f":"INDEX('C_CAPEX Build Up'!V$15:V$189,$V110)","v":82.305827359510886},{"$f":"INDEX('C_CAPEX Build Up'!W$15:W$189,$V110)","v":84.671838625061326},{"$f":"IF($W110=0,0,INDEX('O_OPEX Tariff Summary'!AB$5:AB$138,$W110))","v":31.940827448003311},{"$f":"IF($W110=0,0,INDEX('O_OPEX Tariff Summary'!AC$5:AC$138,$W110))","v":32.859017082898532},{"$f":"IF($W110=0,0,INDEX('O_OPEX Tariff Summary'!AD$5:AD$138,$W110))","v":33.803601531985763},{"$f":"IF($W110=0,0,INDEX('O_OPEX Tariff Summary'!AE$5:AE$138,$W110))","v":34.775339555971669},{"$f":"IF($W110=0,0,INDEX('O_OPEX Tariff Summary'!AF$5:AF$138,$W110))","v":35.775011727340264},107.5379679280837,110.62931700693902,113.80953180746883,117.08116691548256,120.44685035240158,null,{"$f":"MATCH($B110,'C_CAPEX Build Up'!$B$15:$B$189,0)","v":136},{"$f":"IFERROR(MATCH($C110,'O_OPEX Tariff Summary'!$B$5:$B$138,0),0)","v":44}]
[null,"140W LED PH ZHAGA","LED1x100","LED","Major (Cat V)",{"$f":"INDEX('C_CAPEX Build Up'!S$15:S$189,$V111)","v":83.870851096426193},{"$f":"INDEX('C_CAPEX Build Up'!T$15:T$189,$V111)","v":86.281851446117912},{"$f":"INDEX('C_CAPEX Build Up'!U$15:U$189,$V111)","v":88.762159816537007},{"$f":"INDEX('C_CAPEX Build Up'!V$15:V$189,$V111)","v":91.313768576426924},{"$f":"INDEX('C_CAPEX Build Up'!W$15:W$189,$V111)","v":93.938727368323768},{"$f":"IF($W111=0,0,INDEX('O_OPEX Tariff Summary'!AB$5:AB$138,$W111))","v":31.940827448003311},{"$f":"IF($W111=0,0,INDEX('O_OPEX Tariff Summary'!AC$5:AC$138,$W111))","v":32.859017082898532},{"$f":"IF($W111=0,0,INDEX('O_OPEX Tariff Summary'!AD$5:AD$138,$W111))","v":33.803601531985763},{"$f":"IF($W111=0,0,INDEX('O_OPEX Tariff Summary'!AE$5:AE$138,$W111))","v":34.775339555971669},{"$f":"IF($W111=0,0,INDEX('O_OPEX Tariff Summary'!AF$5:AF$138,$W111))","v":35.775011727340264},115.8116785444295,119.14086852901644,122.56576134852277,126.08910813239859,129.71373909566404,null,{"$f":"MATCH($B111,'C_CAPEX Build Up'!$B$15:$B$189,0)","v":137},{"$f":"IFERROR(MATCH($C111,'O_OPEX Tariff Summary'!$B$5:$B$138,0),0)","v":44}]
[null,"150W LED SY FLOOD","LED1x100","LED","Major (Cat V)",{"$f":"INDEX('C_CAPEX Build Up'!S$15:S$189,$V112)","v":134.71656361142402},{"$f":"INDEX('C_CAPEX Build Up'!T$15:T$189,$V112)","v":138.58920443633932},{"$f":"INDEX('C_CAPEX Build Up'!U$15:U$189,$V112)","v":142.57317045065045},{"$f":"INDEX('C_CAPEX Build Up'!V$15:V$189,$V112)","v":146.67166187311108},{"$f":"INDEX('C_CAPEX Build Up'!W$15:W$189,$V112)","v":150.88797091782763},{"$f":"IF($W112=0,0,INDEX('O_OPEX Tariff Summary'!AB$5:AB$138,$W112))","v":31.940827448003311},{"$f":"IF($W112=0,0,INDEX('O_OPEX Tariff Summary'!AC$5:AC$138,$W112))","v":32.859017082898532},{"$f":"IF($W112=0,0,INDEX('O_OPEX Tariff Summary'!AD$5:AD$138,$W112))","v":33.803601531985763},{"$f":"IF($W112=0,0,INDEX('O_OPEX Tariff Summary'!AE$5:AE$138,$W112))","v":34.775339555971669},{"$f":"IF($W112=0,0,INDEX('O_OPEX Tariff Summary'!AF$5:AF$138,$W112))","v":35.775011727340264},166.65739105942734,171.44822151923785,176.37677198263623,181.44700142908275,186.66298264516789,null,{"$f":"MATCH($B112,'C_CAPEX Build Up'!$B$15:$B$189,0)","v":138},{"$f":"IFERROR(MATCH($C112,'O_OPEX Tariff Summary'!$B$5:$B$138,0),0)","v":44}]
[null,"150W LED SY PT","LED1x100","LED","Minor (Cat P)",{"$f":"INDEX('C_CAPEX Build Up'!S$15:S$189,$V113)","v":231.54883007002687},{"$f":"INDEX('C_CAPEX Build Up'!T$15:T$189,$V113)","v":238.20506764209716},{"$f":"INDEX('C_CAPEX Build Up'!U$15:U$189,$V113)","v":245.05264929741088},{"$f":"INDEX('C_CAPEX Build Up'!V$15:V$189,$V113)","v":252.09707552446412},{"$f":"INDEX('C_CAPEX Build Up'!W$15:W$189,$V113)","v":259.3440049319999},{"$f":"IF($W113=0,0,INDEX('O_OPEX Tariff Summary'!AB$5:AB$138,$W113))","v":31.940827448003311},{"$f":"IF($W113=0,0,INDEX('O_OPEX Tariff Summary'!AC$5:AC$138,$W113))","v":32.859017082898532},{"$f":"IF($W113=0,0,INDEX('O_OPEX Tariff Summary'!AD$5:AD$138,$W113))","v":33.803601531985763},{"$f":"IF($W113=0,0,INDEX('O_OPEX Tariff Summary'!AE$5:AE$138,$W113))","v":34.775339555971669},{"$f":"IF($W113=0,0,INDEX('O_OPEX Tariff Summary'!AF$5:AF$138,$W113))","v":35.775011727340264},263.48965751803019,271.06408472499572,278.85625082939663,286.87241508043576,295.11901665934016,null,{"$f":"MATCH($B113,'C_CAPEX Build Up'!$B$15:$B$189,0)","v":139},{"$f":"IFERROR(MATCH($C113,'O_OPEX Tariff Summary'!$B$5:$B$138,0),0)","v":44}]
[null,"152W LED PH FLOOD","LED1x100","LED","Major (Cat V)",{"$f":"INDEX('C_CAPEX Build Up'!S$15:S$189,$V114)","v":96.206201469887219},{"$f":"INDEX('C_CAPEX Build Up'!T$15:T$189,$V114)","v":98.971800988124301},{"$f":"INDEX('C_CAPEX Build Up'!U$15:U$189,$V114)","v":101.81690204138111},{"$f":"INDEX('C_CAPEX Build Up'!V$15:V$189,$V114)","v":104.7437900271018},{"$f":"INDEX('C_CAPEX Build Up'!W$15:W$189,$V114)","v":107.75481604009691},{"$f":"IF($W114=0,0,INDEX('O_OPEX Tariff Summary'!AB$5:AB$138,$W114))","v":31.940827448003311},{"$f":"IF($W114=0,0,INDEX('O_OPEX Tariff Summary'!AC$5:AC$138,$W114))","v":32.859017082898532},{"$f":"IF($W114=0,0,INDEX('O_OPEX Tariff Summary'!AD$5:AD$138,$W114))","v":33.803601531985763},{"$f":"IF($W114=0,0,INDEX('O_OPEX Tariff Summary'!AE$5:AE$138,$W114))","v":34.775339555971669},{"$f":"IF($W114=0,0,INDEX('O_OPEX Tariff Summary'!AF$5:AF$138,$W114))","v":35.775011727340264},128.14702891789054,131.83081807102283,135.62050357336688,139.51912958307346,143.52982776743718,null,{"$f":"MATCH($B114,'C_CAPEX Build Up'!$B$15:$B$189,0)","v":140},{"$f":"IFERROR(MATCH($C114,'O_OPEX Tariff Summary'!$B$5:$B$138,0),0)","v":44}]
[null,"170W LED ALD","LED1x100","LED","Major (Cat V)",{"$f":"INDEX('C_CAPEX Build Up'!S$15:S$189,$V115)","v":102.63188697319409},{"$f":"INDEX('C_CAPEX Build Up'!T$15:T$189,$V115)","v":105.58220299058378},{"$f":"INDEX('C_CAPEX Build Up'!U$15:U$189,$V115)","v":108.6173305110957},{"$f":"INDEX('C_CAPEX Build Up'!V$15:V$189,$V115)","v":111.73970757561069},{"$f":"INDEX('C_CAPEX Build Up'!W$15:W$189,$V115)","v":114.95184231035321},{"$f":"IF($W115=0,0,INDEX('O_OPEX Tariff Summary'!AB$5:AB$138,$W115))","v":31.940827448003311},{"$f":"IF($W115=0,0,INDEX('O_OPEX Tariff Summary'!AC$5:AC$138,$W115))","v":32.859017082898532},{"$f":"IF($W115=0,0,INDEX('O_OPEX Tariff Summary'!AD$5:AD$138,$W115))","v":33.803601531985763},{"$f":"IF($W115=0,0,INDEX('O_OPEX Tariff Summary'!AE$5:AE$138,$W115))","v":34.775339555971669},{"$f":"IF($W115=0,0,INDEX('O_OPEX Tariff Summary'!AF$5:AF$138,$W115))","v":35.775011727340264},134.57271442119739,138.44122007348233,142.42093204308145,146.51504713158238,150.72685403769347,null,{"$f":"MATCH($B115,'C_CAPEX Build Up'!$B$15:$B$189,0)","v":141},{"$f":"IFERROR(MATCH($C115,'O_OPEX Tariff Summary'!$B$5:$B$138,0),0)","v":44}]
[null,"170W LED ALD ZHAGA","LED1x100","LED","Major (Cat V)",{"$f":"INDEX('C_CAPEX Build Up'!S$15:S$189,$V116)","v":105.63130506360784},{"$f":"INDEX('C_CAPEX Build Up'!T$15:T$189,$V116)","v":108.66784410091832},{"$f":"INDEX('C_CAPEX Build Up'!U$15:U$189,$V116)","v":111.79167325851613},{"$f":"INDEX('C_CAPEX Build Up'!V$15:V$189,$V116)","v":115.00530182905523},{"$f":"INDEX('C_CAPEX Build Up'!W$15:W$189,$V116)","v":118.31131123877815},{"$f":"IF($W116=0,0,INDEX('O_OPEX Tariff Summary'!AB$5:AB$138,$W116))","v":31.940827448003311},{"$f":"IF($W116=0,0,INDEX('O_OPEX Tariff Summary'!AC$5:AC$138,$W116))","v":32.859017082898532},{"$f":"IF($W116=0,0,INDEX('O_OPEX Tariff Summary'!AD$5:AD$138,$W116))","v":33.803601531985763},{"$f":"IF($W116=0,0,INDEX('O_OPEX Tariff Summary'!AE$5:AE$138,$W116))","v":34.775339555971669},{"$f":"IF($W116=0,0,INDEX('O_OPEX Tariff Summary'!AF$5:AF$138,$W116))","v":35.775011727340264},137.57213251161116,141.52686118381683,145.59527479050189,149.78064138502691,154.08632296611842,null,{"$f":"MATCH($B116,'C_CAPEX Build Up'!$B$15:$B$189,0)","v":142},{"$f":"IFERROR(MATCH($C116,'O_OPEX Tariff Summary'!$B$5:$B$138,0),0)","v":44}]
[null,"175W LED SY FLOOD","LED1x100","LED","Major (Cat V)",{"$f":"INDEX('C_CAPEX Build Up'!S$15:S$189,$V117)","v":153.37002027373094},{"$f":"INDEX('C_CAPEX Build Up'!T$15:T$189,$V117)","v":157.77888423156847},{"$f":"INDEX('C_CAPEX Build Up'!U$15:U$189,$V117)","v":162.31448796139028},{"$f":"INDEX('C_CAPEX Build Up'!V$15:V$189,$V117)","v":166.98047479852184},{"$f":"INDEX('C_CAPEX Build Up'!W$15:W$189,$V117)","v":171.78059281172847},{"$f":"IF($W117=0,0,INDEX('O_OPEX Tariff Summary'!AB$5:AB$138,$W117))","v":31.940827448003311},{"$f":"IF($W117=0,0,INDEX('O_OPEX Tariff Summary'!AC$5:AC$138,$W117))","v":32.859017082898532},{"$f":"IF($W117=0,0,INDEX('O_OPEX Tariff Summary'!AD$5:AD$138,$W117))","v":33.803601531985763},{"$f":"IF($W117=0,0,INDEX('O_OPEX Tariff Summary'!AE$5:AE$138,$W117))","v":34.775339555971669},{"$f":"IF($W117=0,0,INDEX('O_OPEX Tariff Summary'!AF$5:AF$138,$W117))","v":35.775011727340264},185.31084772173426,190.637901314467,196.11808949337603,201.75581435449351,207.55560453906872,null,{"$f":"MATCH($B117,'C_CAPEX Build Up'!$B$15:$B$189,0)","v":143},{"$f":"IFERROR(MATCH($C117,'O_OPEX Tariff Summary'!$B$5:$B$138,0),0)","v":44}]
[null,"200W LED ALD","LED1x200","LED","Major (Cat V)",{"$f":"INDEX('C_CAPEX Build Up'!S$15:S$189,$V118)","v":126.02597392334377},{"$f":"INDEX('C_CAPEX Build Up'!T$15:T$189,$V118)","v":129.64878999385303},{"$f":"INDEX('C_CAPEX Build Up'!U$15:U$189,$V118)","v":133.37574964581736},{"$f":"INDEX('C_CAPEX Build Up'!V$15:V$189,$V118)","v":137.20984665130447},{"$f":"INDEX('C_CAPEX Build Up'!W$15:W$189,$V118)","v":141.15416084309808},{"$f":"IF($W118=0,0,INDEX('O_OPEX Tariff Summary'!AB$5:AB$138,$W118))","v":31.940827448003311},{"$f":"IF($W118=0,0,INDEX('O_OPEX Tariff Summary'!AC$5:AC$138,$W118))","v":32.859017082898532},{"$f":"IF($W118=0,0,INDEX('O_OPEX Tariff Summary'!AD$5:AD$138,$W118))","v":33.803601531985763},{"$f":"IF($W118=0,0,INDEX('O_OPEX Tariff Summary'!AE$5:AE$138,$W118))","v":34.775339555971669},{"$f":"IF($W118=0,0,INDEX('O_OPEX Tariff Summary'!AF$5:AF$138,$W118))","v":35.775011727340264},157.96680137134709,162.50780707675156,167.17935117780314,171.98518620727614,176.92917257043834,null,{"$f":"MATCH($B118,'C_CAPEX Build Up'!$B$15:$B$189,0)","v":144},{"$f":"IFERROR(MATCH($C118,'O_OPEX Tariff Summary'!$B$5:$B$138,0),0)","v":46}]
[null,"224W LED PH","LED1x100","LED","Major (Cat V)",{"$f":"INDEX('C_CAPEX Build Up'!S$15:S$189,$V119)","v":87.93249085354141},{"$f":"INDEX('C_CAPEX Build Up'!T$15:T$189,$V119)","v":90.460249466046847},{"$f":"INDEX('C_CAPEX Build Up'!U$15:U$189,$V119)","v":93.060672500327144},{"$f":"INDEX('C_CAPEX Build Up'!V$15:V$189,$V119)","v":95.735848810185729},{"$f":"INDEX('C_CAPEX Build Up'!W$15:W$189,$V119)","v":98.487927296834442},{"$f":"IF($W119=0,0,INDEX('O_OPEX Tariff Summary'!AB$5:AB$138,$W119))","v":31.940827448003311},{"$f":"IF($W119=0,0,INDEX('O_OPEX Tariff Summary'!AC$5:AC$138,$W119))","v":32.859017082898532},{"$f":"IF($W119=0,0,INDEX('O_OPEX Tariff Summary'!AD$5:AD$138,$W119))","v":33.803601531985763},{"$f":"IF($W119=0,0,INDEX('O_OPEX Tariff Summary'!AE$5:AE$138,$W119))","v":34.775339555971669},{"$f":"IF($W119=0,0,INDEX('O_OPEX Tariff Summary'!AF$5:AF$138,$W119))","v":35.775011727340264},119.87331830154471,123.31926654894538,126.86427403231291,130.5111883661574,134.2629390241747,null,{"$f":"MATCH($B119,'C_CAPEX Build Up'!$B$15:$B$189,0)","v":145},{"$f":"IFERROR(MATCH($C119,'O_OPEX Tariff Summary'!$B$5:$B$138,0),0)","v":44}]
[null,"224W LED PH ZHAGA","LED1x100","LED","Major (Cat V)",{"$f":"INDEX('C_CAPEX Build Up'!S$15:S$189,$V120)","v":96.206201469887219},{"$f":"INDEX('C_CAPEX Build Up'!T$15:T$189,$V120)","v":98.971800988124301},{"$f":"INDEX('C_CAPEX Build Up'!U$15:U$189,$V120)","v":101.81690204138111},{"$f":"INDEX('C_CAPEX Build Up'!V$15:V$189,$V120)","v":104.7437900271018},{"$f":"INDEX('C_CAPEX Build Up'!W$15:W$189,$V120)","v":107.75481604009691},{"$f":"IF($W120=0,0,INDEX('O_OPEX Tariff Summary'!AB$5:AB$138,$W120))","v":31.940827448003311},{"$f":"IF($W120=0,0,INDEX('O_OPEX Tariff Summary'!AC$5:AC$138,$W120))","v":32.859017082898532},{"$f":"IF($W120=0,0,INDEX('O_OPEX Tariff Summary'!AD$5:AD$138,$W120))","v":33.803601531985763},{"$f":"IF($W120=0,0,INDEX('O_OPEX Tariff Summary'!AE$5:AE$138,$W120))","v":34.775339555971669},{"$f":"IF($W120=0,0,INDEX('O_OPEX Tariff Summary'!AF$5:AF$138,$W120))","v":35.775011727340264},128.14702891789054,131.83081807102283,135.62050357336688,139.51912958307346,143.52982776743718,null,{"$f":"MATCH($B120,'C_CAPEX Build Up'!$B$15:$B$189,0)","v":146},{"$f":"IFERROR(MATCH($C120,'O_OPEX Tariff Summary'!$B$5:$B$138,0),0)","v":44}]
[null,"258W LED ALD","LED1x100","LED","Major (Cat V)",{"$f":"INDEX('C_CAPEX Build Up'!S$15:S$189,$V121)","v":115.2297186433979},{"$f":"INDEX('C_CAPEX Build Up'!T$15:T$189,$V121)","v":118.5421792696136},{"$f":"INDEX('C_CAPEX Build Up'!U$15:U$189,$V121)","v":121.94986181886622},{"$f":"INDEX('C_CAPEX Build Up'!V$15:V$189,$V121)","v":125.45550359603274},{"$f":"INDEX('C_CAPEX Build Up'!W$15:W$189,$V121)","v":129.06192059415088},{"$f":"IF($W121=0,0,INDEX('O_OPEX Tariff Summary'!AB$5:AB$138,$W121))","v":31.940827448003311},{"$f":"IF($W121=0,0,INDEX('O_OPEX Tariff Summary'!AC$5:AC$138,$W121))","v":32.859017082898532},{"$f":"IF($W121=0,0,INDEX('O_OPEX Tariff Summary'!AD$5:AD$138,$W121))","v":33.803601531985763},{"$f":"IF($W121=0,0,INDEX('O_OPEX Tariff Summary'!AE$5:AE$138,$W121))","v":34.775339555971669},{"$f":"IF($W121=0,0,INDEX('O_OPEX Tariff Summary'!AF$5:AF$138,$W121))","v":35.775011727340264},147.17054609140121,151.40119635251213,155.75346335085197,160.23084315200441,164.83693232149113,null,{"$f":"MATCH($B121,'C_CAPEX Build Up'!$B$15:$B$189,0)","v":147},{"$f":"IFERROR(MATCH($C121,'O_OPEX Tariff Summary'!$B$5:$B$138,0),0)","v":44}]
[null,"258W LED ALD ZHAGA","LED1x100","LED","Major (Cat V)",{"$f":"INDEX('C_CAPEX Build Up'!S$15:S$189,$V122)","v":115.33391946378455},{"$f":"INDEX('C_CAPEX Build Up'!T$15:T$189,$V122)","v":118.64937550749163},{"$f":"INDEX('C_CAPEX Build Up'!U$15:U$189,$V122)","v":122.06013958225201},{"$f":"INDEX('C_CAPEX Build Up'!V$15:V$189,$V122)","v":125.56895146825384},{"$f":"INDEX('C_CAPEX Build Up'!W$15:W$189,$V122)","v":129.17862970500281},{"$f":"IF($W122=0,0,INDEX('O_OPEX Tariff Summary'!AB$5:AB$138,$W122))","v":31.940827448003311},{"$f":"IF($W122=0,0,INDEX('O_OPEX Tariff Summary'!AC$5:AC$138,$W122))","v":32.859017082898532},{"$f":"IF($W122=0,0,INDEX('O_OPEX Tariff Summary'!AD$5:AD$138,$W122))","v":33.803601531985763},{"$f":"IF($W122=0,0,INDEX('O_OPEX Tariff Summary'!AE$5:AE$138,$W122))","v":34.775339555971669},{"$f":"IF($W122=0,0,INDEX('O_OPEX Tariff Summary'!AF$5:AF$138,$W122))","v":35.775011727340264},147.27474691178787,151.50839259039014,155.86374111423777,160.34429102422553,164.95364143234306,null,{"$f":"MATCH($B122,'C_CAPEX Build Up'!$B$15:$B$189,0)","v":148},{"$f":"IFERROR(MATCH($C122,'O_OPEX Tariff Summary'!$B$5:$B$138,0),0)","v":44}]
[null,"298W LED ALD","LED1x298","LED","Major (Cat V)",{"$f":"INDEX('C_CAPEX Build Up'!S$15:S$189,$V123)","v":182.2783584575597},{"$f":"INDEX('C_CAPEX Build Up'!T$15:T$189,$V123)","v":187.51823834714313},{"$f":"INDEX('C_CAPEX Build Up'!U$15:U$189,$V123)","v":192.90874687684376},{"$f":"INDEX('C_CAPEX Build Up'!V$15:V$189,$V123)","v":198.45421410530832},{"$f":"INDEX('C_CAPEX Build Up'!W$15:W$189,$V123)","v":204.1590945655721},{"$f":"IF($W123=0,0,INDEX('O_OPEX Tariff Summary'!AB$5:AB$138,$W123))","v":31.940827448003311},{"$f":"IF($W123=0,0,INDEX('O_OPEX Tariff Summary'!AC$5:AC$138,$W123))","v":32.859017082898532},{"$f":"IF($W123=0,0,INDEX('O_OPEX Tariff Summary'!AD$5:AD$138,$W123))","v":33.803601531985763},{"$f":"IF($W123=0,0,INDEX('O_OPEX Tariff Summary'!AE$5:AE$138,$W123))","v":34.775339555971669},{"$f":"IF($W123=0,0,INDEX('O_OPEX Tariff Summary'!AF$5:AF$138,$W123))","v":35.775011727340264},214.21918590556302,220.37725543004166,226.71234840882954,233.22955366127999,239.93410629291236,null,{"$f":"MATCH($B123,'C_CAPEX Build Up'!$B$15:$B$189,0)","v":149},{"$f":"IFERROR(MATCH($C123,'O_OPEX Tariff Summary'!$B$5:$B$138,0),0)","v":51}]
[null,"600W LED ALD HM","LED1x17","LED","Minor (Cat P)",{"$f":"INDEX('C_CAPEX Build Up'!S$15:S$189,$V124)","v":409.90342292616651},{"$f":"INDEX('C_CAPEX Build Up'!T$15:T$189,$V124)","v":421.68674553581315},{"$f":"INDEX('C_CAPEX Build Up'!U$15:U$189,$V124)","v":433.80879840228909},{"$f":"INDEX('C_CAPEX Build Up'!V$15:V$189,$V124)","v":446.27931886290514},{"$f":"INDEX('C_CAPEX Build Up'!W$15:W$189,$V124)","v":459.10832417014348},{"$f":"IF($W124=0,0,INDEX('O_OPEX Tariff Summary'!AB$5:AB$138,$W124))","v":23.443335396588658},{"$f":"IF($W124=0,0,INDEX('O_OPEX Tariff Summary'!AC$5:AC$138,$W124))","v":24.117251174242238},{"$f":"IF($W124=0,0,INDEX('O_OPEX Tariff Summary'!AD$5:AD$138,$W124))","v":24.810539727470939},{"$f":"IF($W124=0,0,INDEX('O_OPEX Tariff Summary'!AE$5:AE$138,$W124))","v":25.523757957368236},{"$f":"IF($W124=0,0,INDEX('O_OPEX Tariff Summary'!AF$5:AF$138,$W124))","v":26.25747877403089},433.34675832275519,445.8039967100554,458.61933812976002,471.80307682027336,485.36580294417439,null,{"$f":"MATCH($B124,'C_CAPEX Build Up'!$B$15:$B$189,0)","v":150},{"$f":"IFERROR(MATCH($C124,'O_OPEX Tariff Summary'!$B$5:$B$138,0),0)","v":45}]
[null,"COLONIAL ROCKS SPHERE","LED1x17","LED","Minor (Cat P)",{"$f":"INDEX('C_CAPEX Build Up'!S$15:S$189,$V125)","v":126.50175671794213},{"$f":"INDEX('C_CAPEX Build Up'!T$15:T$189,$V125)","v":130.13824991786117},{"$f":"INDEX('C_CAPEX Build Up'!U$15:U$189,$V125)","v":133.87927986996573},{"$f":"INDEX('C_CAPEX Build Up'!V$15:V$189,$V125)","v":137.72785164863839},{"$f":"INDEX('C_CAPEX Build Up'!W$15:W$189,$V125)","v":141.68705671388074},{"$f":"IF($W125=0,0,INDEX('O_OPEX Tariff Summary'!AB$5:AB$138,$W125))","v":23.443335396588658},{"$f":"IF($W125=0,0,INDEX('O_OPEX Tariff Summary'!AC$5:AC$138,$W125))","v":24.117251174242238},{"$f":"IF($W125=0,0,INDEX('O_OPEX Tariff Summary'!AD$5:AD$138,$W125))","v":24.810539727470939},{"$f":"IF($W125=0,0,INDEX('O_OPEX Tariff Summary'!AE$5:AE$138,$W125))","v":25.523757957368236},{"$f":"IF($W125=0,0,INDEX('O_OPEX Tariff Summary'!AF$5:AF$138,$W125))","v":26.25747877403089},149.94509211453078,154.2555010921034,158.68981959743667,163.25160960600664,167.94453548791162,null,{"$f":"MATCH($B125,'C_CAPEX Build Up'!$B$15:$B$189,0)","v":151},{"$f":"IFERROR(MATCH($C125,'O_OPEX Tariff Summary'!$B$5:$B$138,0),0)","v":45}]
[null,"LED TRIAL","LED TRIAL","LED20","Minor (Cat P)",{"$f":"INDEX('C_CAPEX Build Up'!S$15:S$189,$V126)","v":40.922778445149085},{"$f":"INDEX('C_CAPEX Build Up'!T$15:T$189,$V126)","v":42.099168476391007},{"$f":"INDEX('C_CAPEX Build Up'!U$15:U$189,$V126)","v":43.30937570084869},{"$f":"INDEX('C_CAPEX Build Up'!V$15:V$189,$V126)","v":44.554372247260581},{"$f":"INDEX('C_CAPEX Build Up'!W$15:W$189,$V126)","v":45.835158189744213},{"$f":"IF($W126=0,0,INDEX('O_OPEX Tariff Summary'!AB$5:AB$138,$W126))","v":23.443335396588658},{"$f":"IF($W126=0,0,INDEX('O_OPEX Tariff Summary'!AC$5:AC$138,$W126))","v":24.117251174242238},{"$f":"IF($W126=0,0,INDEX('O_OPEX Tariff Summary'!AD$5:AD$138,$W126))","v":24.810539727470939},{"$f":"IF($W126=0,0,INDEX('O_OPEX Tariff Summary'!AE$5:AE$138,$W126))","v":25.523757957368236},{"$f":"IF($W126=0,0,INDEX('O_OPEX Tariff Summary'!AF$5:AF$138,$W126))","v":26.25747877403089},64.366113841737743,66.216419650633242,68.119915428319629,70.07813020462882,72.092636963775107,null,{"$f":"MATCH($B126,'C_CAPEX Build Up'!$B$15:$B$189,0)","v":152},{"$f":"IFERROR(MATCH($C126,'O_OPEX Tariff Summary'!$B$5:$B$138,0),0)","v":43}]

{"sheet":"Unit Costs","index":10,"n_rows":182,"n_cols":18,"rows_kept":182,"cut":false,"hidden":false,"merged":[]}
[null,"Material Price/Unit Costs - Real $FY24"]
[null,"This sheet shows bracket, luminaire and support total capital charges in real dollars for the current and forthcoming regulatory periods. "]
[null,"In addition unit rates for other key inputs/components, namely photoelectric dells, smart controllers, miscellaneous materials and labour rate (per hour)."]
[null,null,null,null,null,"Unit costs - Real $FY24 "]
[null,"Charge Reference","Maintenance Category","Charge Type","Road Type","FY20","FY21","FY22","FY23","FY24","FY25","FY26","FY27","FY28","FY29",null,"Capital Row Ref","Opex Row Ref"]
[null,"0.5","Not Applicable","Bracket","Minor (Cat P)",null,null,null,null,null,null,null,null,null,null,null,{"$f":"MATCH($B6,'C_CAPEX Build Up'!$B$15:$B$189,0)","v":1},{"$f":"IFERROR(MATCH($C6,'O_OPEX Tariff Summary'!$B$5:$B$138,0),0)","v":0}]
[null,"0.6","Not Applicable","Bracket","Minor (Cat P)",null,null,null,null,null,null,null,null,null,null,null,{"$f":"MATCH($B7,'C_CAPEX Build Up'!$B$15:$B$189,0)","v":2},{"$f":"IFERROR(MATCH($C7,'O_OPEX Tariff Summary'!$B$5:$B$138,0),0)","v":0}]
[null,"1.0","Not Applicable","Bracket","Minor (Cat P)",null,null,null,null,null,null,null,null,null,null,null,{"$f":"MATCH($B8,'C_CAPEX Build Up'!$B$15:$B$189,0)","v":3},{"$f":"IFERROR(MATCH($C8,'O_OPEX Tariff Summary'!$B$5:$B$138,0),0)","v":0}]
[null,"1.2","Not Applicable","Bracket","Minor (Cat P)",null,null,null,null,null,null,null,null,null,null,null,{"$f":"MATCH($B9,'C_CAPEX Build Up'!$B$15:$B$189,0)","v":4},{"$f":"IFERROR(MATCH($C9,'O_OPEX Tariff Summary'!$B$5:$B$138,0),0)","v":0}]
[null,"1.5","Not Applicable","Bracket","Minor (Cat P)",null,null,null,null,null,null,null,null,null,null,null,{"$f":"MATCH($B10,'C_CAPEX Build Up'!$B$15:$B$189,0)","v":5},{"$f":"IFERROR(MATCH($C10,'O_OPEX Tariff Summary'!$B$5:$B$138,0),0)","v":0}]
[null,"2.0","Not Applicable","Bracket","Minor (Cat P)",null,null,null,null,null,null,null,null,null,null,null,{"$f":"MATCH($B11,'C_CAPEX Build Up'!$B$15:$B$189,0)","v":6},{"$f":"IFERROR(MATCH($C11,'O_OPEX Tariff Summary'!$B$5:$B$138,0),0)","v":0}]
[null,"2.5","Not Applicable","Bracket","Minor (Cat P)",null,null,null,null,null,null,null,null,null,null,null,{"$f":"MATCH($B12,'C_CAPEX Build Up'!$B$15:$B$189,0)","v":7},{"$f":"IFERROR(MATCH($C12,'O_OPEX Tariff Summary'!$B$5:$B$138,0),0)","v":0}]
[null,"3.0","Not Applicable","Bracket","Minor (Cat P)",null,null,null,null,null,null,null,null,null,null,null,{"$f":"MATCH($B13,'C_CAPEX Build Up'!$B$15:$B$189,0)","v":8},{"$f":"IFERROR(MATCH($C13,'O_OPEX Tariff Summary'!$B$5:$B$138,0),0)","v":0}]
[null,"3.5","Not Applicable","Bracket","Minor (Cat P)",null,null,null,null,null,null,null,null,null,null,null,{"$f":"MATCH($B14,'C_CAPEX Build Up'!$B$15:$B$189,0)","v":9},{"$f":"IFERROR(MATCH($C14,'O_OPEX Tariff Summary'!$B$5:$B$138,0),0)","v":0}]
[null,"4.0","Not Applicable","Bracket","Minor (Cat P)",null,null,null,null,null,null,null,null,null,null,null,{"$f":"MATCH($B15,'C_CAPEX Build Up'!$B$15:$B$189,0)","v":10},{"$f":"IFERROR(MATCH($C15,'O_OPEX Tariff Summary'!$B$5:$B$138,0),0)","v":0}]
[null,"4.5","Not Applicable","Bracket","Minor (Cat P)",null,null,null,null,null,null,null,null,null,null,null,{"$f":"MATCH($B16,'C_CAPEX Build Up'!$B$15:$B$189,0)","v":11},{"$f":"IFERROR(MATCH($C16,'O_OPEX Tariff Summary'!$B$5:$B$138,0),0)","v":0}]
[null,"5.0","Not Applicable","Bracket","Minor (Cat P)",null,null,null,null,null,null,null,null,null,null,null,{"$f":"MATCH($B17,'C_CAPEX Build Up'!$B$15:$B$189,0)","v":12},{"$f":"IFERROR(MATCH($C17,'O_OPEX Tariff Summary'!$B$5:$B$138,0),0)","v":0}]
[null,"6.0","Not Applicable","Bracket","Minor (Cat P)",null,null,null,null,null,null,null,null,null,null,null,{"$f":"MATCH($B18,'C_CAPEX Build Up'!$B$15:$B$189,0)","v":13},{"$f":"IFERROR(MATCH($C18,'O_OPEX Tariff Summary'!$B$5:$B$138,0),0)","v":0}]
[null,"6.5","Not Applicable","Bracket","Minor (Cat P)",null,null,null,null,null,null,null,null,null,null,null,{"$f":"MATCH($B19,'C_CAPEX Build Up'!$B$15:$B$189,0)","v":14},{"$f":"IFERROR(MATCH($C19,'O_OPEX Tariff Summary'!$B$5:$B$138,0),0)","v":0}]
[null,"7.0","Not Applicable","Bracket","Minor (Cat P)",null,null,null,null,null,null,null,null,null,null,null,{"$f":"MATCH($B20,'C_CAPEX Build Up'!$B$15:$B$189,0)","v":15},{"$f":"IFERROR(MATCH($C20,'O_OPEX Tariff Summary'!$B$5:$B$138,0),0)","v":0}]
[null,"8.0","Not Applicable","Bracket","Minor (Cat P)",null,null,null,null,null,null,null,null,null,null,null,{"$f":"MATCH($B21,'C_CAPEX Build Up'!$B$15:$B$189,0)","v":16},{"$f":"IFERROR(MATCH($C21,'O_OPEX Tariff Summary'!$B$5:$B$138,0),0)","v":0}]
[null,"C4","Not Applicable","Bracket","Major (Cat V)",null,null,null,null,null,null,null,null,null,null,null,{"$f":"MATCH($B22,'C_CAPEX Build Up'!$B$15:$B$189,0)","v":17},{"$f":"IFERROR(MATCH($C22,'O_OPEX Tariff Summary'!$B$5:$B$138,0),0)","v":0}]
[null,"T1","Not Applicable","Bracket","Major (Cat V)",null,null,null,null,null,null,null,null,null,null,null,{"$f":"MATCH($B23,'C_CAPEX Build Up'!$B$15:$B$189,0)","v":18},{"$f":"IFERROR(MATCH($C23,'O_OPEX Tariff Summary'!$B$5:$B$138,0),0)","v":0}]
[null,"T2","Not Applicable","Bracket","Major (Cat V)",null,null,null,null,null,null,null,null,null,null,null,{"$f":"MATCH($B24,'C_CAPEX Build Up'!$B$15:$B$189,0)","v":19},{"$f":"IFERROR(MATCH($C24,'O_OPEX Tariff Summary'!$B$5:$B$138,0),0)","v":0}]
[null,"T2A","Not Applicable","Bracket","Major (Cat V)",null,null,null,null,null,null,null,null,null,null,null,{"$f":"MATCH($B25,'C_CAPEX Build Up'!$B$15:$B$189,0)","v":20},{"$f":"IFERROR(MATCH($C25,'O_OPEX Tariff Summary'!$B$5:$B$138,0),0)","v":0}]
[null,"T3","Not Applicable","Bracket","Major (Cat V)",null,null,null,null,null,null,null,null,null,null,null,{"$f":"MATCH($B26,'C_CAPEX Build Up'!$B$15:$B$189,0)","v":21},{"$f":"IFERROR(MATCH($C26,'O_OPEX Tariff Summary'!$B$5:$B$138,0),0)","v":0}]
[null,"T3A","Not Applicable","Bracket","Major (Cat V)",null,null,null,null,null,null,null,null,null,null,null,{"$f":"MATCH($B27,'C_CAPEX Build Up'!$B$15:$B$189,0)","v":22},{"$f":"IFERROR(MATCH($C27,'O_OPEX Tariff Summary'!$B$5:$B$138,0),0)","v":0}]
[null,"T4","Not Applicable","Bracket","Major (Cat V)",null,null,null,null,null,null,null,null,null,null,null,{"$f":"MATCH($B28,'C_CAPEX Build Up'!$B$15:$B$189,0)","v":23},{"$f":"IFERROR(MATCH($C28,'O_OPEX Tariff Summary'!$B$5:$B$138,0),0)","v":0}]
[null,"T5","Not Applicable","Bracket","Major (Cat V)",null,null,null,null,null,null,null,null,null,null,null,{"$f":"MATCH($B29,'C_CAPEX Build Up'!$B$15:$B$189,0)","v":24},{"$f":"IFERROR(MATCH($C29,'O_OPEX Tariff Summary'!$B$5:$B$138,0),0)","v":0}]
[null,"T6","Not Applicable","Bracket","Major (Cat V)",null,null,null,null,null,null,null,null,null,null,null,{"$f":"MATCH($B30,'C_CAPEX Build Up'!$B$15:$B$189,0)","v":25},{"$f":"IFERROR(MATCH($C30,'O_OPEX Tariff Summary'!$B$5:$B$138,0),0)","v":0}]
[null,"T7","Not Applicable","Bracket","Major (Cat V)",null,null,null,null,null,null,null,null,null,null,null,{"$f":"MATCH($B31,'C_CAPEX Build Up'!$B$15:$B$189,0)","v":26},{"$f":"IFERROR(MATCH($C31,'O_OPEX Tariff Summary'!$B$5:$B$138,0),0)","v":0}]
[null,"Bracket - Minor Road (Cat P) - Short","Not Applicable","Bracket","Minor (Cat P)",null,null,null,null,null,null,null,null,null,null,null,{"$f":"MATCH($B32,'C_CAPEX Build Up'!$B$15:$B$189,0)","v":27},{"$f":"IFERROR(MATCH($C32,'O_OPEX Tariff Summary'!$B$5:$B$138,0),0)","v":0}]
[null,"Bracket - Minor Road (Cat P) - Medium","Not Applicable","Bracket","Minor (Cat P)",null,null,null,null,null,null,null,null,null,null,null,{"$f":"MATCH($B33,'C_CAPEX Build Up'!$B$15:$B$189,0)","v":28},{"$f":"IFERROR(MATCH($C33,'O_OPEX Tariff Summary'!$B$5:$B$138,0),0)","v":0}]
[null,"Bracket - Major Road (Cat V) - Short","Not Applicable","Bracket","Major (Cat V)",null,null,null,null,null,null,null,null,null,null,null,{"$f":"MATCH($B34,'C_CAPEX Build Up'!$B$15:$B$189,0)","v":29},{"$f":"IFERROR(MATCH($C34,'O_OPEX Tariff Summary'!$B$5:$B$138,0),0)","v":0}]
[null,"Bracket - Major Road (Cat V) - Medium","Not Applicable","Bracket","Major (Cat V)",null,null,null,null,null,null,null,null,null,null,null,{"$f":"MATCH($B35,'C_CAPEX Build Up'!$B$15:$B$189,0)","v":30},{"$f":"IFERROR(MATCH($C35,'O_OPEX Tariff Summary'!$B$5:$B$138,0),0)","v":0}]
[null,"Bracket - Major Road (Cat V) - Long","Not Applicable","Bracket","Major (Cat V)",null,null,null,null,null,null,null,null,null,null,null,{"$f":"MATCH($B36,'C_CAPEX Build Up'!$B$15:$B$189,0)","v":31},{"$f":"IFERROR(MATCH($C36,'O_OPEX Tariff Summary'!$B$5:$B$138,0),0)","v":0}]
[null,"1000W SON","SON1x1000","Traditional","Major (Cat V)",null,null,null,null,null,null,null,null,null,null,null,{"$f":"MATCH($B37,'C_CAPEX Build Up'!$B$15:$B$189,0)","v":32},{"$f":"IFERROR(MATCH($C37,'O_OPEX Tariff Summary'!$B$5:$B$138,0),0)","v":20}]
[null,"1000W SON FLOODLIGHT","SON1x1000","Traditional","Major (Cat V)",null,null,null,null,null,null,null,null,null,null,null,{"$f":"MATCH($B38,'C_CAPEX Build Up'!$B$15:$B$189,0)","v":33},{"$f":"IFERROR(MATCH($C38,'O_OPEX Tariff Summary'!$B$5:$B$138,0),0)","v":20}]
[null,"1000W/1500W MBI FLOODLIG","MBI1x1000","Traditional","Major (Cat V)",null,null,null,null,null,null,null,null,null,null,null,{"$f":"MATCH($B39,'C_CAPEX Build Up'!$B$15:$B$189,0)","v":34},{"$f":"IFERROR(MATCH($C39,'O_OPEX Tariff Summary'!$B$5:$B$138,0),0)","v":13}]
[null,"100W MBI","MBI1x100","Traditional","Major (Cat V)",null,null,null,null,null,null,null,null,null,null,null,{"$f":"MATCH($B40,'C_CAPEX Build Up'!$B$15:$B$189,0)","v":35},{"$f":"IFERROR(MATCH($C40,'O_OPEX Tariff Summary'!$B$5:$B$138,0),0)","v":12}]
[null,"100W MBI FLOODLIGHT","MBI1x100","Traditional","Major (Cat V)",null,null,null,null,null,null,null,null,null,null,null,{"$f":"MATCH($B41,'C_CAPEX Build Up'!$B$15:$B$189,0)","v":36},{"$f":"IFERROR(MATCH($C41,'O_OPEX Tariff Summary'!$B$5:$B$138,0),0)","v":12}]
[null,"100W SON","SON1x100","Traditional","Major (Cat V)",null,null,null,null,null,null,null,null,null,null,null,{"$f":"MATCH($B42,'C_CAPEX Build Up'!$B$15:$B$189,0)","v":37},{"$f":"IFERROR(MATCH($C42,'O_OPEX Tariff Summary'!$B$5:$B$138,0),0)","v":19}]
[null,"100W SON - PLAIN","SON1x100","Traditional","Major (Cat V)",null,null,null,null,null,null,null,null,null,null,null,{"$f":"MATCH($B43,'C_CAPEX Build Up'!$B$15:$B$189,0)","v":38},{"$f":"IFERROR(MATCH($C43,'O_OPEX Tariff Summary'!$B$5:$B$138,0),0)","v":19}]
[null,"100W SON FLOODLIGHT","SON1x100","Traditional","Major (Cat V)",null,null,null,null,null,null,null,null,null,null,null,{"$f":"MATCH($B44,'C_CAPEX Build Up'!$B$15:$B$189,0)","v":39},{"$f":"IFERROR(MATCH($C44,'O_OPEX Tariff Summary'!$B$5:$B$138,0),0)","v":19}]
[null,"125W MBF","MBF1x125","Traditional","Minor (Cat P)",null,null,null,null,null,null,null,null,null,null,null,{"$f":"MATCH($B45,'C_CAPEX Build Up'!$B$15:$B$189,0)","v":40},{"$f":"IFERROR(MATCH($C45,'O_OPEX Tariff Summary'!$B$5:$B$138,0),0)","v":5}]
[null,"125W MBF - BOURKE HILL","MBF1x125","Traditional","Minor (Cat P)",null,null,null,null,null,null,null,null,null,null,null,{"$f":"MATCH($B46,'C_CAPEX Build Up'!$B$15:$B$189,0)","v":41},{"$f":"IFERROR(MATCH($C46,'O_OPEX Tariff Summary'!$B$5:$B$138,0),0)","v":5}]
[null,"125W MBF - PARKVILLE","MBF1x125","Traditional","Minor (Cat P)",null,null,null,null,null,null,null,null,null,null,null,{"$f":"MATCH($B47,'C_CAPEX Build Up'!$B$15:$B$189,0)","v":42},{"$f":"IFERROR(MATCH($C47,'O_OPEX Tariff Summary'!$B$5:$B$138,0),0)","v":5}]
[null,"125W MBF - PLAIN","MBF1x125","Traditional","Minor (Cat P)",null,null,null,null,null,null,null,null,null,null,null,{"$f":"MATCH($B48,'C_CAPEX Build Up'!$B$15:$B$189,0)","v":43},{"$f":"IFERROR(MATCH($C48,'O_OPEX Tariff Summary'!$B$5:$B$138,0),0)","v":5}]
[null,"125W/250W MBF FLOODLIGHT","MBF1x125","Traditional","Minor (Cat P)",null,null,null,null,null,null,null,null,null,null,null,{"$f":"MATCH($B49,'C_CAPEX Build Up'!$B$15:$B$189,0)","v":44},{"$f":"IFERROR(MATCH($C49,'O_OPEX Tariff Summary'!$B$5:$B$138,0),0)","v":5}]
[null,"150W SON","SON1x150","Traditional","Major (Cat V)",null,null,null,null,null,null,null,null,null,null,null,{"$f":"MATCH($B50,'C_CAPEX Build Up'!$B$15:$B$189,0)","v":45},{"$f":"IFERROR(MATCH($C50,'O_OPEX Tariff Summary'!$B$5:$B$138,0),0)","v":21}]
[null,"150W SON - PARKVILLE","SON1x150","Traditional","Major (Cat V)",null,null,null,null,null,null,null,null,null,null,null,{"$f":"MATCH($B51,'C_CAPEX Build Up'!$B$15:$B$189,0)","v":46},{"$f":"IFERROR(MATCH($C51,'O_OPEX Tariff Summary'!$B$5:$B$138,0),0)","v":21}]
[null,"150W SON - PARKWAY 1","SON1x150","Traditional","Major (Cat V)",null,null,null,null,null,null,null,null,null,null,null,{"$f":"MATCH($B52,'C_CAPEX Build Up'!$B$15:$B$189,0)","v":47},{"$f":"IFERROR(MATCH($C52,'O_OPEX Tariff Summary'!$B$5:$B$138,0),0)","v":21}]
[null,"150W SON ACTIVE REACTOR","SON1x150 AR","Traditional","Major (Cat V)",null,null,null,null,null,null,null,null,null,null,null,{"$f":"MATCH($B53,'C_CAPEX Build Up'!$B$15:$B$189,0)","v":48},{"$f":"IFERROR(MATCH($C53,'O_OPEX Tariff Summary'!$B$5:$B$138,0),0)","v":22}]
[null,"150W SON FLOODLIGHT","SON1x150","Traditional","Major (Cat V)",null,null,null,null,null,null,null,null,null,null,null,{"$f":"MATCH($B54,'C_CAPEX Build Up'!$B$15:$B$189,0)","v":49},{"$f":"IFERROR(MATCH($C54,'O_OPEX Tariff Summary'!$B$5:$B$138,0),0)","v":21}]
[null,"150W/250W MBI FLOODLIGHT","MBI1x250","Traditional","Major (Cat V)",null,null,null,null,null,null,null,null,null,null,null,{"$f":"MATCH($B55,'C_CAPEX Build Up'!$B$15:$B$189,0)","v":50},{"$f":"IFERROR(MATCH($C55,'O_OPEX Tariff Summary'!$B$5:$B$138,0),0)","v":15}]
[null,"250W MBF","MBF1x250","Traditional","Major (Cat V)",null,null,null,null,null,null,null,null,null,null,null,{"$f":"MATCH($B56,'C_CAPEX Build Up'!$B$15:$B$189,0)","v":51},{"$f":"IFERROR(MATCH($C56,'O_OPEX Tariff Summary'!$B$5:$B$138,0),0)","v":6}]
[null,"250W MBF - PARKWAY 1","MBF1x250","Traditional","Major (Cat V)",null,null,null,null,null,null,null,null,null,null,null,{"$f":"MATCH($B57,'C_CAPEX Build Up'!$B$15:$B$189,0)","v":52},{"$f":"IFERROR(MATCH($C57,'O_OPEX Tariff Summary'!$B$5:$B$138,0),0)","v":6}]
[null,"250W SON","SON1x250","Traditional","Major (Cat V)",null,null,null,null,null,null,null,null,null,null,null,{"$f":"MATCH($B58,'C_CAPEX Build Up'!$B$15:$B$189,0)","v":53},{"$f":"IFERROR(MATCH($C58,'O_OPEX Tariff Summary'!$B$5:$B$138,0),0)","v":23}]
[null,"250W SON - PARKVILLE","SON1x250","Traditional","Major (Cat V)",null,null,null,null,null,null,null,null,null,null,null,{"$f":"MATCH($B59,'C_CAPEX Build Up'!$B$15:$B$189,0)","v":54},{"$f":"IFERROR(MATCH($C59,'O_OPEX Tariff Summary'!$B$5:$B$138,0),0)","v":23}]
[null,"250W SON - PARKWAY 1","SON1x250","Traditional","Major (Cat V)",null,null,null,null,null,null,null,null,null,null,null,{"$f":"MATCH($B60,'C_CAPEX Build Up'!$B$15:$B$189,0)","v":55},{"$f":"IFERROR(MATCH($C60,'O_OPEX Tariff Summary'!$B$5:$B$138,0),0)","v":23}]
[null,"250W SON ACTIVE REACTOR","SON1x250 AR","Traditional","Major (Cat V)",null,null,null,null,null,null,null,null,null,null,null,{"$f":"MATCH($B61,'C_CAPEX Build Up'!$B$15:$B$189,0)","v":56},{"$f":"IFERROR(MATCH($C61,'O_OPEX Tariff Summary'!$B$5:$B$138,0),0)","v":24}]
[null,"250W SON FLOODLIGHT","SON1x250","Traditional","Major (Cat V)",null,null,null,null,null,null,null,null,null,null,null,{"$f":"MATCH($B62,'C_CAPEX Build Up'!$B$15:$B$189,0)","v":57},{"$f":"IFERROR(MATCH($C62,'O_OPEX Tariff Summary'!$B$5:$B$138,0),0)","v":23}]
[null,"250W SON GEC 'BOSTON 3'","SON1x250","Traditional","Major (Cat V)",null,null,null,null,null,null,null,null,null,null,null,{"$f":"MATCH($B63,'C_CAPEX Build Up'!$B$15:$B$189,0)","v":58},{"$f":"IFERROR(MATCH($C63,'O_OPEX Tariff Summary'!$B$5:$B$138,0),0)","v":23}]
[null,"2X14W TF - T5 PIERLIGHT","TF2x14 T5","Traditional","Minor (Cat P)",null,null,null,null,null,null,null,null,null,null,null,{"$f":"MATCH($B64,'C_CAPEX Build Up'!$B$15:$B$189,0)","v":59},{"$f":"IFERROR(MATCH($C64,'O_OPEX Tariff Summary'!$B$5:$B$138,0),0)","v":37}]
[null,"2x14W TF - T5 PIERLITE M","TF2x14 T5","Traditional","Minor (Cat P)",null,null,null,null,null,null,null,null,null,null,null,{"$f":"MATCH($B65,'C_CAPEX Build Up'!$B$15:$B$189,0)","v":60},{"$f":"IFERROR(MATCH($C65,'O_OPEX Tariff Summary'!$B$5:$B$138,0),0)","v":37}]
[null,"2x250W SON FLOODLIGHT","SON2x250","Traditional","Major (Cat V)",null,null,null,null,null,null,null,null,null,null,null,{"$f":"MATCH($B66,'C_CAPEX Build Up'!$B$15:$B$189,0)","v":61},{"$f":"IFERROR(MATCH($C66,'O_OPEX Tariff Summary'!$B$5:$B$138,0),0)","v":30}]
[null,"2x400W SON FLOODLIGHT","SON2x400","Traditional","Major (Cat V)",null,null,null,null,null,null,null,null,null,null,null,{"$f":"MATCH($B67,'C_CAPEX Build Up'!$B$15:$B$189,0)","v":62},{"$f":"IFERROR(MATCH($C67,'O_OPEX Tariff Summary'!$B$5:$B$138,0),0)","v":31}]
[null,"2x80W MBF - BOURKE HILL","MBF2x80","Traditional","Minor (Cat P)",null,null,null,null,null,null,null,null,null,null,null,{"$f":"MATCH($B68,'C_CAPEX Build Up'!$B$15:$B$189,0)","v":63},{"$f":"IFERROR(MATCH($C68,'O_OPEX Tariff Summary'!$B$5:$B$138,0),0)","v":11}]
[null,"400W MBF","MBF1x400","Traditional","Major (Cat V)",null,null,null,null,null,null,null,null,null,null,null,{"$f":"MATCH($B69,'C_CAPEX Build Up'!$B$15:$B$189,0)","v":64},{"$f":"IFERROR(MATCH($C69,'O_OPEX Tariff Summary'!$B$5:$B$138,0),0)","v":7}]
[null,"400W MBF - B2229","MBF1x400","Traditional","Major (Cat V)",null,null,null,null,null,null,null,null,null,null,null,{"$f":"MATCH($B70,'C_CAPEX Build Up'!$B$15:$B$189,0)","v":65},{"$f":"IFERROR(MATCH($C70,'O_OPEX Tariff Summary'!$B$5:$B$138,0),0)","v":7}]
[null,"400W MBF - PARKWAY 1","MBF1x400","Traditional","Major (Cat V)",null,null,null,null,null,null,null,null,null,null,null,{"$f":"MATCH($B71,'C_CAPEX Build Up'!$B$15:$B$189,0)","v":66},{"$f":"IFERROR(MATCH($C71,'O_OPEX Tariff Summary'!$B$5:$B$138,0),0)","v":7}]
[null,"400W MBF FLOODLIGHT","MBF1x400","Traditional","Major (Cat V)",null,null,null,null,null,null,null,null,null,null,null,{"$f":"MATCH($B72,'C_CAPEX Build Up'!$B$15:$B$189,0)","v":67},{"$f":"IFERROR(MATCH($C72,'O_OPEX Tariff Summary'!$B$5:$B$138,0),0)","v":7}]
[null,"400W MBI FLOODLIGHT","MBI1x400","Traditional","Major (Cat V)",null,null,null,null,null,null,null,null,null,null,null,{"$f":"MATCH($B73,'C_CAPEX Build Up'!$B$15:$B$189,0)","v":68},{"$f":"IFERROR(MATCH($C73,'O_OPEX Tariff Summary'!$B$5:$B$138,0),0)","v":16}]
[null,"400W SON","SON1x400","Traditional","Major (Cat V)",null,null,null,null,null,null,null,null,null,null,null,{"$f":"MATCH($B74,'C_CAPEX Build Up'!$B$15:$B$189,0)","v":69},{"$f":"IFERROR(MATCH($C74,'O_OPEX Tariff Summary'!$B$5:$B$138,0),0)","v":25}]
[null,"400W SON - PARKWAY 1","SON1x400","Traditional","Major (Cat V)",null,null,null,null,null,null,null,null,null,null,null,{"$f":"MATCH($B75,'C_CAPEX Build Up'!$B$15:$B$189,0)","v":70},{"$f":"IFERROR(MATCH($C75,'O_OPEX Tariff Summary'!$B$5:$B$138,0),0)","v":25}]
[null,"400W SON ACTIVE REACTOR","SON1x400 AR","Traditional","Major (Cat V)",null,null,null,null,null,null,null,null,null,null,null,{"$f":"MATCH($B76,'C_CAPEX Build Up'!$B$15:$B$189,0)","v":71},{"$f":"IFERROR(MATCH($C76,'O_OPEX Tariff Summary'!$B$5:$B$138,0),0)","v":26}]
[null,"400W SON FLOODLIGHT","SON1x400","Traditional","Major (Cat V)",null,null,null,null,null,null,null,null,null,null,null,{"$f":"MATCH($B77,'C_CAPEX Build Up'!$B$15:$B$189,0)","v":72},{"$f":"IFERROR(MATCH($C77,'O_OPEX Tariff Summary'!$B$5:$B$138,0),0)","v":25}]
[null,"42W MBF SYLVANIA SUB ECO","MBF1x42","Traditional","Minor (Cat P)",null,null,null,null,null,null,null,null,null,null,null,{"$f":"MATCH($B78,'C_CAPEX Build Up'!$B$15:$B$189,0)","v":73},{"$f":"IFERROR(MATCH($C78,'O_OPEX Tariff Summary'!$B$5:$B$138,0),0)","v":8}]
[null,"4x250W SON","SON4x250","Traditional","Major (Cat V)",null,null,null,null,null,null,null,null,null,null,null,{"$f":"MATCH($B79,'C_CAPEX Build Up'!$B$15:$B$189,0)","v":74},{"$f":"IFERROR(MATCH($C79,'O_OPEX Tariff Summary'!$B$5:$B$138,0),0)","v":32}]
[null,"4x600W SON","SON4x600","Traditional","Major (Cat V)",null,null,null,null,null,null,null,null,null,null,null,{"$f":"MATCH($B80,'C_CAPEX Build Up'!$B$15:$B$189,0)","v":75},{"$f":"IFERROR(MATCH($C80,'O_OPEX Tariff Summary'!$B$5:$B$138,0),0)","v":33}]
[null,"50W MBF","MBF1x50","Traditional","Minor (Cat P)",null,null,null,null,null,null,null,null,null,null,null,{"$f":"MATCH($B81,'C_CAPEX Build Up'!$B$15:$B$189,0)","v":76},{"$f":"IFERROR(MATCH($C81,'O_OPEX Tariff Summary'!$B$5:$B$138,0),0)","v":9}]
[null,"50W MBF - BOURKE HILL","MBF1x50","Traditional","Minor (Cat P)",null,null,null,null,null,null,null,null,null,null,null,{"$f":"MATCH($B82,'C_CAPEX Build Up'!$B$15:$B$189,0)","v":77},{"$f":"IFERROR(MATCH($C82,'O_OPEX Tariff Summary'!$B$5:$B$138,0),0)","v":9}]
[null,"50W MBF - NOSTALGIA","MBF1x50","Traditional","Minor (Cat P)",null,null,null,null,null,null,null,null,null,null,null,{"$f":"MATCH($B83,'C_CAPEX Build Up'!$B$15:$B$189,0)","v":78},{"$f":"IFERROR(MATCH($C83,'O_OPEX Tariff Summary'!$B$5:$B$138,0),0)","v":9}]
[null,"50W MBF - PLAIN","MBF1x50","Traditional","Minor (Cat P)",null,null,null,null,null,null,null,null,null,null,null,{"$f":"MATCH($B84,'C_CAPEX Build Up'!$B$15:$B$189,0)","v":79},{"$f":"IFERROR(MATCH($C84,'O_OPEX Tariff Summary'!$B$5:$B$138,0),0)","v":9}]
[null,"50W SON","SON1x50","Traditional","Minor (Cat P)",null,null,null,null,null,null,null,null,null,null,null,{"$f":"MATCH($B85,'C_CAPEX Build Up'!$B$15:$B$189,0)","v":80},{"$f":"IFERROR(MATCH($C85,'O_OPEX Tariff Summary'!$B$5:$B$138,0),0)","v":27}]
[null,"50W SON - NOSTALGIA","SON1x50","Traditional","Minor (Cat P)",null,null,null,null,null,null,null,null,null,null,null,{"$f":"MATCH($B86,'C_CAPEX Build Up'!$B$15:$B$189,0)","v":81},{"$f":"IFERROR(MATCH($C86,'O_OPEX Tariff Summary'!$B$5:$B$138,0),0)","v":27}]
[null,"50W SON - PLAIN","SON1x50","Traditional","Minor (Cat P)",null,null,null,null,null,null,null,null,null,null,null,{"$f":"MATCH($B87,'C_CAPEX Build Up'!$B$15:$B$189,0)","v":82},{"$f":"IFERROR(MATCH($C87,'O_OPEX Tariff Summary'!$B$5:$B$138,0),0)","v":27}]
[null,"70W MBI","MBI1x70","Traditional","Minor (Cat P)",null,null,null,null,null,null,null,null,null,null,null,{"$f":"MATCH($B88,'C_CAPEX Build Up'!$B$15:$B$189,0)","v":83},{"$f":"IFERROR(MATCH($C88,'O_OPEX Tariff Summary'!$B$5:$B$138,0),0)","v":17}]
[null,"70W MBI - MACQUARIE DEC.","MBI1x70","Traditional","Minor (Cat P)",null,null,null,null,null,null,null,null,null,null,null,{"$f":"MATCH($B89,'C_CAPEX Build Up'!$B$15:$B$189,0)","v":84},{"$f":"IFERROR(MATCH($C89,'O_OPEX Tariff Summary'!$B$5:$B$138,0),0)","v":17}]
[null,"70W MBI II","MBI1x70 II","Traditional","Minor (Cat P)",null,null,null,null,null,null,null,null,null,null,null,{"$f":"MATCH($B90,'C_CAPEX Build Up'!$B$15:$B$189,0)","v":85},{"$f":"IFERROR(MATCH($C90,'O_OPEX Tariff Summary'!$B$5:$B$138,0),0)","v":18}]
[null,"70W MBI II AERO","MBI1x70 II","Traditional","Minor (Cat P)",null,null,null,null,null,null,null,null,null,null,null,{"$f":"MATCH($B91,'C_CAPEX Build Up'!$B$15:$B$189,0)","v":86},{"$f":"IFERROR(MATCH($C91,'O_OPEX Tariff Summary'!$B$5:$B$138,0),0)","v":18}]
[null,"70W SON","SON1x70","Traditional","Minor (Cat P)",null,null,null,null,null,null,null,null,null,null,null,{"$f":"MATCH($B92,'C_CAPEX Build Up'!$B$15:$B$189,0)","v":87},{"$f":"IFERROR(MATCH($C92,'O_OPEX Tariff Summary'!$B$5:$B$138,0),0)","v":29}]
[null,"70W SON - BOURKE HILL","SON1x70","Traditional","Minor (Cat P)",null,null,null,null,null,null,null,null,null,null,null,{"$f":"MATCH($B93,'C_CAPEX Build Up'!$B$15:$B$189,0)","v":88},{"$f":"IFERROR(MATCH($C93,'O_OPEX Tariff Summary'!$B$5:$B$138,0),0)","v":29}]
[null,"70W SON - NOSTALGIA","SON1x70","Traditional","Minor (Cat P)",null,null,null,null,null,null,null,null,null,null,null,{"$f":"MATCH($B94,'C_CAPEX Build Up'!$B$15:$B$189,0)","v":89},{"$f":"IFERROR(MATCH($C94,'O_OPEX Tariff Summary'!$B$5:$B$138,0),0)","v":29}]
[null,"70W SON - PARKVILLE","SON1x70","Traditional","Minor (Cat P)",null,null,null,null,null,null,null,null,null,null,null,{"$f":"MATCH($B95,'C_CAPEX Build Up'!$B$15:$B$189,0)","v":90},{"$f":"IFERROR(MATCH($C95,'O_OPEX Tariff Summary'!$B$5:$B$138,0),0)","v":29}]
[null,"70W SON - PLAIN","SON1x70","Traditional","Minor (Cat P)",null,null,null,null,null,null,null,null,null,null,null,{"$f":"MATCH($B96,'C_CAPEX Build Up'!$B$15:$B$189,0)","v":91},{"$f":"IFERROR(MATCH($C96,'O_OPEX Tariff Summary'!$B$5:$B$138,0),0)","v":29}]
[null,"70W SON BOLLARD","SON1x70","Traditional","Minor (Cat P)",null,null,null,null,null,null,null,null,null,null,null,{"$f":"MATCH($B97,'C_CAPEX Build Up'!$B$15:$B$189,0)","v":92},{"$f":"IFERROR(MATCH($C97,'O_OPEX Tariff Summary'!$B$5:$B$138,0),0)","v":29}]
[null,"70W SON FLOODLIGHT","SON1x70","Traditional","Minor (Cat P)",null,null,null,null,null,null,null,null,null,null,null,{"$f":"MATCH($B98,'C_CAPEX Build Up'!$B$15:$B$189,0)","v":93},{"$f":"IFERROR(MATCH($C98,'O_OPEX Tariff Summary'!$B$5:$B$138,0),0)","v":29}]
[null,"80W MBF - BEGA+CURVE BRA","MBF1x80","Traditional","Minor (Cat P)",null,null,null,null,null,null,null,null,null,null,null,{"$f":"MATCH($B99,'C_CAPEX Build Up'!$B$15:$B$189,0)","v":94},{"$f":"IFERROR(MATCH($C99,'O_OPEX Tariff Summary'!$B$5:$B$138,0),0)","v":10}]
[null,"80W MBF - BOURKE HILL","MBF1x80","Traditional","Minor (Cat P)",null,null,null,null,null,null,null,null,null,null,null,{"$f":"MATCH($B100,'C_CAPEX Build Up'!$B$15:$B$189,0)","v":95},{"$f":"IFERROR(MATCH($C100,'O_OPEX Tariff Summary'!$B$5:$B$138,0),0)","v":10}]
[null,"80W MBF - NOSTALGIA","MBF1x80","Traditional","Minor (Cat P)",null,null,null,null,null,null,null,null,null,null,null,{"$f":"MATCH($B101,'C_CAPEX Build Up'!$B$15:$B$189,0)","v":96},{"$f":"IFERROR(MATCH($C101,'O_OPEX Tariff Summary'!$B$5:$B$138,0),0)","v":10}]
[null,"80W MBF - PLAIN","MBF1x80","Traditional","Minor (Cat P)",null,null,null,null,null,null,null,null,null,null,null,{"$f":"MATCH($B102,'C_CAPEX Build Up'!$B$15:$B$189,0)","v":97},{"$f":"IFERROR(MATCH($C102,'O_OPEX Tariff Summary'!$B$5:$B$138,0),0)","v":10}]
[null,"80W MBF - REGAL/FLINDERS","MBF1x80","Traditional","Minor (Cat P)",null,null,null,null,null,null,null,null,null,null,null,{"$f":"MATCH($B103,'C_CAPEX Build Up'!$B$15:$B$189,0)","v":98},{"$f":"IFERROR(MATCH($C103,'O_OPEX Tariff Summary'!$B$5:$B$138,0),0)","v":10}]
[null,"80W MBF BOLLARD","MBF1x80","Traditional","Minor (Cat P)",null,null,null,null,null,null,null,null,null,null,null,{"$f":"MATCH($B104,'C_CAPEX Build Up'!$B$15:$B$189,0)","v":99},{"$f":"IFERROR(MATCH($C104,'O_OPEX Tariff Summary'!$B$5:$B$138,0),0)","v":10}]
[null,"80W MBF TOORAK","MBF1x80","Traditional","Minor (Cat P)",null,null,null,null,null,null,null,null,null,null,null,{"$f":"MATCH($B105,'C_CAPEX Build Up'!$B$15:$B$189,0)","v":100},{"$f":"IFERROR(MATCH($C105,'O_OPEX Tariff Summary'!$B$5:$B$138,0),0)","v":10}]
[null,"TH FLOODLIGHT","Not Applicable","Traditional","Major (Cat V)",null,null,null,null,null,null,null,null,null,null,null,{"$f":"MATCH($B106,'C_CAPEX Build Up'!$B$15:$B$189,0)","v":101},{"$f":"IFERROR(MATCH($C106,'O_OPEX Tariff Summary'!$B$5:$B$138,0),0)","v":0}]
[null,"10W LED PH RRW","LED1x17","LED","Minor (Cat P)",null,null,null,null,null,null,null,null,null,null,null,{"$f":"MATCH($B107,'C_CAPEX Build Up'!$B$15:$B$189,0)","v":102},{"$f":"IFERROR(MATCH($C107,'O_OPEX Tariff Summary'!$B$5:$B$138,0),0)","v":45}]
[null,"16W LED PH","LED1x17","LED","Minor (Cat P)",null,null,null,null,null,null,null,null,null,null,null,{"$f":"MATCH($B108,'C_CAPEX Build Up'!$B$15:$B$189,0)","v":103},{"$f":"IFERROR(MATCH($C108,'O_OPEX Tariff Summary'!$B$5:$B$138,0),0)","v":45}]
[null,"17W LED ALD","LED1x17","LED","Minor (Cat P)",null,null,null,null,null,null,null,null,null,null,null,{"$f":"MATCH($B109,'C_CAPEX Build Up'!$B$15:$B$189,0)","v":104},{"$f":"IFERROR(MATCH($C109,'O_OPEX Tariff Summary'!$B$5:$B$138,0),0)","v":45}]
[null,"17W LED ALD RRW","LED1x17","LED","Minor (Cat P)",null,null,null,null,null,null,null,null,null,null,null,{"$f":"MATCH($B110,'C_CAPEX Build Up'!$B$15:$B$189,0)","v":105},{"$f":"IFERROR(MATCH($C110,'O_OPEX Tariff Summary'!$B$5:$B$138,0),0)","v":45}]
[null,"17W LED ALD RRW ZHAGA","LED1x17","LED","Minor (Cat P)",null,null,null,null,null,null,null,null,null,null,null,{"$f":"MATCH($B111,'C_CAPEX Build Up'!$B$15:$B$189,0)","v":106},{"$f":"IFERROR(MATCH($C111,'O_OPEX Tariff Summary'!$B$5:$B$138,0),0)","v":45}]
[null,"17W LED ALD ZHAGA","LED1x17","LED","Minor (Cat P)",null,null,null,null,null,null,null,null,null,null,null,{"$f":"MATCH($B112,'C_CAPEX Build Up'!$B$15:$B$189,0)","v":107},{"$f":"IFERROR(MATCH($C112,'O_OPEX Tariff Summary'!$B$5:$B$138,0),0)","v":45}]
[null,"17W LED SY RRW","LED1x17","LED","Minor (Cat P)",null,null,null,null,null,null,null,null,null,null,null,{"$f":"MATCH($B113,'C_CAPEX Build Up'!$B$15:$B$189,0)","v":108},{"$f":"IFERROR(MATCH($C113,'O_OPEX Tariff Summary'!$B$5:$B$138,0),0)","v":45}]
[null,"1x17W LED","LED1x17","LED","Minor (Cat P)",null,null,null,null,null,null,null,null,null,null,null,{"$f":"MATCH($B114,'C_CAPEX Build Up'!$B$15:$B$189,0)","v":109},{"$f":"IFERROR(MATCH($C114,'O_OPEX Tariff Summary'!$B$5:$B$138,0),0)","v":45}]
[null,"20W LED GE","LED1x20","LED","Minor (Cat P)",null,null,null,null,null,null,null,null,null,null,null,{"$f":"MATCH($B115,'C_CAPEX Build Up'!$B$15:$B$189,0)","v":110},{"$f":"IFERROR(MATCH($C115,'O_OPEX Tariff Summary'!$B$5:$B$138,0),0)","v":0}]
[null,"1x22W LED","LED1x22","LED","Minor (Cat P)",null,null,null,null,null,null,null,null,null,null,null,{"$f":"MATCH($B116,'C_CAPEX Build Up'!$B$15:$B$189,0)","v":111},{"$f":"IFERROR(MATCH($C116,'O_OPEX Tariff Summary'!$B$5:$B$138,0),0)","v":47}]
[null,"1x25W LED GE","LED1x25 GE","LED","Minor (Cat P)",null,null,null,null,null,null,null,null,null,null,null,{"$f":"MATCH($B117,'C_CAPEX Build Up'!$B$15:$B$189,0)","v":112},{"$f":"IFERROR(MATCH($C117,'O_OPEX Tariff Summary'!$B$5:$B$138,0),0)","v":48}]
[null,"25W LED PH","LED1x17","LED","Minor (Cat P)",null,null,null,null,null,null,null,null,null,null,null,{"$f":"MATCH($B118,'C_CAPEX Build Up'!$B$15:$B$189,0)","v":113},{"$f":"IFERROR(MATCH($C118,'O_OPEX Tariff Summary'!$B$5:$B$138,0),0)","v":45}]
[null,"28W LED SY","LED1x28","LED","Minor (Cat P)",null,null,null,null,null,null,null,null,null,null,null,{"$f":"MATCH($B119,'C_CAPEX Build Up'!$B$15:$B$189,0)","v":114},{"$f":"IFERROR(MATCH($C119,'O_OPEX Tariff Summary'!$B$5:$B$138,0),0)","v":49}]
[null,"1x29W LED","LED1x29","LED20","Minor (Cat P)",null,null,null,null,null,null,null,null,null,null,null,{"$f":"MATCH($B120,'C_CAPEX Build Up'!$B$15:$B$189,0)","v":115},{"$f":"IFERROR(MATCH($C120,'O_OPEX Tariff Summary'!$B$5:$B$138,0),0)","v":50}]
[null,"33W LED LRL","LED1x33","LED","Minor (Cat P)",null,null,null,null,null,null,null,null,null,null,null,{"$f":"MATCH($B121,'C_CAPEX Build Up'!$B$15:$B$189,0)","v":116},{"$f":"IFERROR(MATCH($C121,'O_OPEX Tariff Summary'!$B$5:$B$138,0),0)","v":52}]
[null,"34W LED BOURKE HILL","LED1x17","LED","Minor (Cat P)",null,null,null,null,null,null,null,null,null,null,null,{"$f":"MATCH($B122,'C_CAPEX Build Up'!$B$15:$B$189,0)","v":117},{"$f":"IFERROR(MATCH($C122,'O_OPEX Tariff Summary'!$B$5:$B$138,0),0)","v":45}]
[null,"40W LED ALD","LED1x17","LED","Minor (Cat P)",null,null,null,null,null,null,null,null,null,null,null,{"$f":"MATCH($B123,'C_CAPEX Build Up'!$B$15:$B$189,0)","v":118},{"$f":"IFERROR(MATCH($C123,'O_OPEX Tariff Summary'!$B$5:$B$138,0),0)","v":45}]
[null,"40W LED ALD ZHAGA","LED1x17","LED","Minor (Cat P)",null,null,null,null,null,null,null,null,null,null,null,{"$f":"MATCH($B124,'C_CAPEX Build Up'!$B$15:$B$189,0)","v":119},{"$f":"IFERROR(MATCH($C124,'O_OPEX Tariff Summary'!$B$5:$B$138,0),0)","v":45}]
[null,"42W LED LRL","LED1x42","LED","Major (Cat V)",null,null,null,null,null,null,null,null,null,null,null,{"$f":"MATCH($B125,'C_CAPEX Build Up'!$B$15:$B$189,0)","v":120},{"$f":"IFERROR(MATCH($C125,'O_OPEX Tariff Summary'!$B$5:$B$138,0),0)","v":53}]
[null,"49W LED PH","LED1x17","LED","Minor (Cat P)",null,null,null,null,null,null,null,null,null,null,null,{"$f":"MATCH($B126,'C_CAPEX Build Up'!$B$15:$B$189,0)","v":121},{"$f":"IFERROR(MATCH($C126,'O_OPEX Tariff Summary'!$B$5:$B$138,0),0)","v":45}]
[null,"49W LED PH ZHAGA","LED1x17","LED","Minor (Cat P)",null,null,null,null,null,null,null,null,null,null,null,{"$f":"MATCH($B127,'C_CAPEX Build Up'!$B$15:$B$189,0)","v":122},{"$f":"IFERROR(MATCH($C127,'O_OPEX Tariff Summary'!$B$5:$B$138,0),0)","v":45}]
[null,"50W LED SY PT","LED1x17","LED","Minor (Cat P)",null,null,null,null,null,null,null,null,null,null,null,{"$f":"MATCH($B128,'C_CAPEX Build Up'!$B$15:$B$189,0)","v":123},{"$f":"IFERROR(MATCH($C128,'O_OPEX Tariff Summary'!$B$5:$B$138,0),0)","v":45}]
[null,"58W LED ALD","LED1x17","LED","Minor (Cat P)",null,null,null,null,null,null,null,null,null,null,null,{"$f":"MATCH($B129,'C_CAPEX Build Up'!$B$15:$B$189,0)","v":124},{"$f":"IFERROR(MATCH($C129,'O_OPEX Tariff Summary'!$B$5:$B$138,0),0)","v":45}]
[null,"58W LED ALD ZHAGA","LED1x17","LED","Minor (Cat P)",null,null,null,null,null,null,null,null,null,null,null,{"$f":"MATCH($B130,'C_CAPEX Build Up'!$B$15:$B$189,0)","v":125},{"$f":"IFERROR(MATCH($C130,'O_OPEX Tariff Summary'!$B$5:$B$138,0),0)","v":45}]
[null,"70W LED PH FLOOD","LED1x100","LED","Major (Cat V)",null,null,null,null,null,null,null,null,null,null,null,{"$f":"MATCH($B131,'C_CAPEX Build Up'!$B$15:$B$189,0)","v":126},{"$f":"IFERROR(MATCH($C131,'O_OPEX Tariff Summary'!$B$5:$B$138,0),0)","v":44}]
[null,"74W LED ALD","LED1x100","LED","Major (Cat V)",null,null,null,null,null,null,null,null,null,null,null,{"$f":"MATCH($B132,'C_CAPEX Build Up'!$B$15:$B$189,0)","v":127},{"$f":"IFERROR(MATCH($C132,'O_OPEX Tariff Summary'!$B$5:$B$138,0),0)","v":44}]
[null,"74W LED ALD ZHAGA","LED1x100","LED","Major (Cat V)",null,null,null,null,null,null,null,null,null,null,null,{"$f":"MATCH($B133,'C_CAPEX Build Up'!$B$15:$B$189,0)","v":128},{"$f":"IFERROR(MATCH($C133,'O_OPEX Tariff Summary'!$B$5:$B$138,0),0)","v":44}]
[null,"76W LED PH","LED1x100","LED","Major (Cat V)",null,null,null,null,null,null,null,null,null,null,null,{"$f":"MATCH($B134,'C_CAPEX Build Up'!$B$15:$B$189,0)","v":129},{"$f":"IFERROR(MATCH($C134,'O_OPEX Tariff Summary'!$B$5:$B$138,0),0)","v":44}]
[null,"76W LED PH ZHAGA","LED1x100","LED","Major (Cat V)",null,null,null,null,null,null,null,null,null,null,null,{"$f":"MATCH($B135,'C_CAPEX Build Up'!$B$15:$B$189,0)","v":130},{"$f":"IFERROR(MATCH($C135,'O_OPEX Tariff Summary'!$B$5:$B$138,0),0)","v":44}]
[null,"100W LED ALD","LED1x100","LED","Major (Cat V)",null,null,null,null,null,null,null,null,null,null,null,{"$f":"MATCH($B136,'C_CAPEX Build Up'!$B$15:$B$189,0)","v":131},{"$f":"IFERROR(MATCH($C136,'O_OPEX Tariff Summary'!$B$5:$B$138,0),0)","v":44}]
[null,"100W LED SY CT","LED1x17","LED","Minor (Cat P)",null,null,null,null,null,null,null,null,null,null,null,{"$f":"MATCH($B137,'C_CAPEX Build Up'!$B$15:$B$189,0)","v":132},{"$f":"IFERROR(MATCH($C137,'O_OPEX Tariff Summary'!$B$5:$B$138,0),0)","v":45}]
[null,"100W LED SY PT","LED1x17","LED","Minor (Cat P)",null,null,null,null,null,null,null,null,null,null,null,{"$f":"MATCH($B138,'C_CAPEX Build Up'!$B$15:$B$189,0)","v":133},{"$f":"IFERROR(MATCH($C138,'O_OPEX Tariff Summary'!$B$5:$B$138,0),0)","v":45}]
[null,"110W LED SY FLOOD","LED1x100","LED","Major (Cat V)",null,null,null,null,null,null,null,null,null,null,null,{"$f":"MATCH($B139,'C_CAPEX Build Up'!$B$15:$B$189,0)","v":134},{"$f":"IFERROR(MATCH($C139,'O_OPEX Tariff Summary'!$B$5:$B$138,0),0)","v":44}]
[null,"120W LED PH FLOOD","LED1x100","LED","Major (Cat V)",null,null,null,null,null,null,null,null,null,null,null,{"$f":"MATCH($B140,'C_CAPEX Build Up'!$B$15:$B$189,0)","v":135},{"$f":"IFERROR(MATCH($C140,'O_OPEX Tariff Summary'!$B$5:$B$138,0),0)","v":44}]
[null,"140W LED PH","LED1x100","LED","Major (Cat V)",null,null,null,null,null,null,null,null,null,null,null,{"$f":"MATCH($B141,'C_CAPEX Build Up'!$B$15:$B$189,0)","v":136},{"$f":"IFERROR(MATCH($C141,'O_OPEX Tariff Summary'!$B$5:$B$138,0),0)","v":44}]
[null,"140W LED PH ZHAGA","LED1x100","LED","Major (Cat V)",null,null,null,null,null,null,null,null,null,null,null,{"$f":"MATCH($B142,'C_CAPEX Build Up'!$B$15:$B$189,0)","v":137},{"$f":"IFERROR(MATCH($C142,'O_OPEX Tariff Summary'!$B$5:$B$138,0),0)","v":44}]
[null,"150W LED SY FLOOD","LED1x100","LED","Major (Cat V)",null,null,null,null,null,null,null,null,null,null,null,{"$f":"MATCH($B143,'C_CAPEX Build Up'!$B$15:$B$189,0)","v":138},{"$f":"IFERROR(MATCH($C143,'O_OPEX Tariff Summary'!$B$5:$B$138,0),0)","v":44}]
[null,"150W LED SY PT","LED1x100","LED","Minor (Cat P)",null,null,null,null,null,null,null,null,null,null,null,{"$f":"MATCH($B144,'C_CAPEX Build Up'!$B$15:$B$189,0)","v":139},{"$f":"IFERROR(MATCH($C144,'O_OPEX Tariff Summary'!$B$5:$B$138,0),0)","v":44}]
[null,"152W LED PH FLOOD","LED1x100","LED","Major (Cat V)",null,null,null,null,null,null,null,null,null,null,null,{"$f":"MATCH($B145,'C_CAPEX Build Up'!$B$15:$B$189,0)","v":140},{"$f":"IFERROR(MATCH($C145,'O_OPEX Tariff Summary'!$B$5:$B$138,0),0)","v":44}]
[null,"170W LED ALD","LED1x100","LED","Major (Cat V)",null,null,null,null,null,null,null,null,null,null,null,{"$f":"MATCH($B146,'C_CAPEX Build Up'!$B$15:$B$189,0)","v":141},{"$f":"IFERROR(MATCH($C146,'O_OPEX Tariff Summary'!$B$5:$B$138,0),0)","v":44}]
[null,"170W LED ALD ZHAGA","LED1x100","LED","Major (Cat V)",null,null,null,null,null,null,null,null,null,null,null,{"$f":"MATCH($B147,'C_CAPEX Build Up'!$B$15:$B$189,0)","v":142},{"$f":"IFERROR(MATCH($C147,'O_OPEX Tariff Summary'!$B$5:$B$138,0),0)","v":44}]
[null,"175W LED SY FLOOD","LED1x100","LED","Major (Cat V)",null,null,null,null,null,null,null,null,null,null,null,{"$f":"MATCH($B148,'C_CAPEX Build Up'!$B$15:$B$189,0)","v":143},{"$f":"IFERROR(MATCH($C148,'O_OPEX Tariff Summary'!$B$5:$B$138,0),0)","v":44}]
[null,"200W LED ALD","LED1x200","LED","Major (Cat V)",null,null,null,null,null,null,null,null,null,null,null,{"$f":"MATCH($B149,'C_CAPEX Build Up'!$B$15:$B$189,0)","v":144},{"$f":"IFERROR(MATCH($C149,'O_OPEX Tariff Summary'!$B$5:$B$138,0),0)","v":46}]
[null,"224W LED PH","LED1x100","LED","Major (Cat V)",null,null,null,null,null,null,null,null,null,null,null,{"$f":"MATCH($B150,'C_CAPEX Build Up'!$B$15:$B$189,0)","v":145},{"$f":"IFERROR(MATCH($C150,'O_OPEX Tariff Summary'!$B$5:$B$138,0),0)","v":44}]
[null,"224W LED PH ZHAGA","LED1x100","LED","Major (Cat V)",null,null,null,null,null,null,null,null,null,null,null,{"$f":"MATCH($B151,'C_CAPEX Build Up'!$B$15:$B$189,0)","v":146},{"$f":"IFERROR(MATCH($C151,'O_OPEX Tariff Summary'!$B$5:$B$138,0),0)","v":44}]
[null,"258W LED ALD","LED1x100","LED","Major (Cat V)",null,null,null,null,null,null,null,null,null,null,null,{"$f":"MATCH($B152,'C_CAPEX Build Up'!$B$15:$B$189,0)","v":147},{"$f":"IFERROR(MATCH($C152,'O_OPEX Tariff Summary'!$B$5:$B$138,0),0)","v":44}]
[null,"258W LED ALD ZHAGA","LED1x100","LED","Major (Cat V)",null,null,null,null,null,null,null,null,null,null,null,{"$f":"MATCH($B153,'C_CAPEX Build Up'!$B$15:$B$189,0)","v":148},{"$f":"IFERROR(MATCH($C153,'O_OPEX Tariff Summary'!$B$5:$B$138,0),0)","v":44}]
[null,"298W LED ALD","LED1x298","LED","Major (Cat V)",null,null,null,null,null,null,null,null,null,null,null,{"$f":"MATCH($B154,'C_CAPEX Build Up'!$B$15:$B$189,0)","v":149},{"$f":"IFERROR(MATCH($C154,'O_OPEX Tariff Summary'!$B$5:$B$138,0),0)","v":51}]
[null,"600W LED ALD HM","LED1x17","LED","Minor (Cat P)",null,null,null,null,null,null,null,null,null,null,null,{"$f":"MATCH($B155,'C_CAPEX Build Up'!$B$15:$B$189,0)","v":150},{"$f":"IFERROR(MATCH($C155,'O_OPEX Tariff Summary'!$B$5:$B$138,0),0)","v":45}]
[null,"COLONIAL ROCKS SPHERE","LED1x17","LED","Minor (Cat P)",null,null,null,null,null,null,null,null,null,null,null,{"$f":"MATCH($B156,'C_CAPEX Build Up'!$B$15:$B$189,0)","v":151},{"$f":"IFERROR(MATCH($C156,'O_OPEX Tariff Summary'!$B$5:$B$138,0),0)","v":45}]
[null,"LED TRIAL","LED TRIAL","LED20","Minor (Cat P)",null,null,null,null,null,null,null,null,null,null,null,{"$f":"MATCH($B157,'C_CAPEX Build Up'!$B$15:$B$189,0)","v":152},{"$f":"IFERROR(MATCH($C157,'O_OPEX Tariff Summary'!$B$5:$B$138,0),0)","v":43}]
[null,"Spare Luminaire 1","Not Applicable","LED","Major (Cat V)",null,null,null,null,null,null,null,null,null,null,null,{"$f":"MATCH($B158,'C_CAPEX Build Up'!$B$15:$B$189,0)","v":153}]
[null,"Spare Luminaire 2","Not Applicable","LED","Major (Cat V)",null,null,null,null,null,null,null,null,null,null,null,{"$f":"MATCH($B159,'C_CAPEX Build Up'!$B$15:$B$189,0)","v":154}]
[null,"Spare Luminaire 3","Not Applicable","LED","Major (Cat V)",null,null,null,null,null,null,null,null,null,null,null,{"$f":"MATCH($B160,'C_CAPEX Build Up'!$B$15:$B$189,0)","v":155}]
[null,"Spare Luminaire 4","Not Applicable","LED","Major (Cat V)",null,null,null,null,null,null,null,null,null,null,null,{"$f":"MATCH($B161,'C_CAPEX Build Up'!$B$15:$B$189,0)","v":156}]
[null,"Spare Luminaire 5","Not Applicable","LED","Major (Cat V)",null,null,null,null,null,null,null,null,null,null,null,{"$f":"MATCH($B162,'C_CAPEX Build Up'!$B$15:$B$189,0)","v":157}]
[null,"Smart Controller - materials and installation","Not Applicable","Smart Controller","Minor (Cat P)",null,null,null,null,null,null,null,null,null,null,null,{"$f":"MATCH($B163,'C_CAPEX Build Up'!$B$15:$B$189,0)","v":158}]
[null,"Smart Controller - material price only","Not Applicable","Smart Controller","Minor (Cat P)",null,null,null,null,null,null,null,null,null,null,null,{"$f":"MATCH($B164,'C_CAPEX Build Up'!$B$15:$B$189,0)","v":159}]
[null,"Smart Controller - material price adjusted for PE Cell","Not Applicable","Smart Controller","Minor (Cat P)",null,null,null,null,null,null,null,null,null,null,null,{"$f":"MATCH($B165,'C_CAPEX Build Up'!$B$15:$B$189,0)","v":160}]
[null,"COLUMN 10.5M-13.5M","Not Applicable","Support","Major (Cat V)",1702.4870088961438,1702.4870088961438,1702.4870088961438,1702.4870088961438,1702.4870088961438,1702.4870088961436,1702.4870088961436,1702.4870088961436,1702.4870088961436,1702.4870088961436,null,{"$f":"MATCH($B166,'C_CAPEX Build Up'!$B$15:$B$189,0)","v":161}]
[null,"COLUMN 14M-15M","Not Applicable","Support","Major (Cat V)",1702.4870088961438,1702.4870088961438,1702.4870088961438,1702.4870088961438,1702.4870088961438,1702.4870088961436,1702.4870088961436,1702.4870088961436,1702.4870088961436,1702.4870088961436,null,{"$f":"MATCH($B167,'C_CAPEX Build Up'!$B$15:$B$189,0)","v":162}]
[null,"COLUMN 2.5M-3.5M","Not Applicable","Support","Minor (Cat P)",627.2320559091055,627.2320559091055,627.2320559091055,627.2320559091055,627.2320559091055,627.2320559091055,627.2320559091055,627.2320559091055,627.2320559091055,627.2320559091055,null,{"$f":"MATCH($B168,'C_CAPEX Build Up'!$B$15:$B$189,0)","v":163}]
[null,"COLUMN 4-6.5M ORION WATE","Not Applicable","Support","Minor (Cat P)",838.06636041636796,838.06636041636796,838.06636041636796,838.06636041636796,838.06636041636796,838.06636041636796,838.06636041636796,838.06636041636796,838.06636041636796,838.06636041636796,null,{"$f":"MATCH($B169,'C_CAPEX Build Up'!$B$15:$B$189,0)","v":164}]
[null,"COLUMN 4M-6.5M","Not Applicable","Support","Minor (Cat P)",1178.0366764343285,1178.0366764343285,1178.0366764343285,1178.0366764343285,1178.0366764343285,1178.0366764343287,1178.0366764343287,1178.0366764343287,1178.0366764343287,1178.0366764343287,null,{"$f":"MATCH($B170,'C_CAPEX Build Up'!$B$15:$B$189,0)","v":165}]
[null,"COLUMN 7M-10M","Not Applicable","Support","Major (Cat V)",1006.7338040221779,1006.7338040221779,1006.7338040221779,1006.7338040221779,1006.7338040221779,1006.7338040221778,1006.7338040221778,1006.7338040221778,1006.7338040221778,1006.7338040221778,null,{"$f":"MATCH($B171,'C_CAPEX Build Up'!$B$15:$B$189,0)","v":166}]
[null,"DECORATIVE COLUMN","Not Applicable","Support","Minor (Cat P)",1396.7772673606132,1396.7772673606132,1396.7772673606132,1396.7772673606132,1396.7772673606132,1396.7772673606132,1396.7772673606132,1396.7772673606132,1396.7772673606132,1396.7772673606132,null,{"$f":"MATCH($B172,'C_CAPEX Build Up'!$B$15:$B$189,0)","v":167}]
[null,"DEDICATED SUPPORT & COND","Not Applicable","Support","Minor (Cat P)",777.45149787052992,777.45149787052992,777.45149787052992,777.45149787052992,777.45149787052992,777.45149787052992,777.45149787052992,777.45149787052992,777.45149787052992,777.45149787052992,null,{"$f":"MATCH($B173,'C_CAPEX Build Up'!$B$15:$B$189,0)","v":168}]
[null,"MACQUARIE STANDARD","Not Applicable","Support","Minor (Cat P)",682.57606084226188,682.57606084226188,682.57606084226188,682.57606084226188,682.57606084226188,682.57606084226188,682.57606084226188,682.57606084226188,682.57606084226188,682.57606084226188,null,{"$f":"MATCH($B174,'C_CAPEX Build Up'!$B$15:$B$189,0)","v":169}]
[null,"MAST 15.5M-30M","Not Applicable","Support","Major (Cat V)",1117.4218138884905,1117.4218138884905,1117.4218138884905,1117.4218138884905,1117.4218138884905,1117.4218138884905,1117.4218138884905,1117.4218138884905,1117.4218138884905,1117.4218138884905,null,{"$f":"MATCH($B175,'C_CAPEX Build Up'!$B$15:$B$189,0)","v":170}]
[null,"ORION DOUBLE ARM","Not Applicable","Support","Minor (Cat P)",463.53239560324801,463.53239560324801,463.53239560324801,463.53239560324801,463.53239560324801,463.53239560324801,463.53239560324801,463.53239560324801,463.53239560324801,463.53239560324801,null,{"$f":"MATCH($B176,'C_CAPEX Build Up'!$B$15:$B$189,0)","v":171}]
[null,"POLO 10.5M DECORATIVE 2M","Not Applicable","Support","Minor (Cat P)",922.40008221927292,922.40008221927292,922.40008221927292,922.40008221927292,922.40008221927292,922.4000822192728,922.4000822192728,922.4000822192728,922.4000822192728,922.4000822192728,null,{"$f":"MATCH($B177,'C_CAPEX Build Up'!$B$15:$B$189,0)","v":172}]
[null,"ROCKS STANDARD","Not Applicable","Support","Minor (Cat P)",956.88466815024185,956.88466815024185,956.88466815024185,956.88466815024185,956.88466815024185,956.88466815024185,956.88466815024185,956.88466815024185,956.88466815024185,956.88466815024185,null,{"$f":"MATCH($B178,'C_CAPEX Build Up'!$B$15:$B$189,0)","v":173}]
[null,"Other Key Inputs/Components"]
[null,"Base Labour rate (per hour)",null,null,null,63.443114544235293,63.443114544235293,63.443114544235293,63.443114544235293,63.443114544235293,64.633551916248948,64.633551916248948,64.633551916248948,64.633551916248948,64.633551916248948]
[null,"Photoeletric Cells",null,null,null,13.873276854594112,13.873276854594112,13.873276854594112,13.873276854594112,13.873276854594112,13.0464,13.0464,13.0464,13.0464,13.0464]
[null,"Miscellaneous Materials",null,null,null,17.862588224799286,17.862588224799286,17.862588224799286,17.862588224799286,17.862588224799286,35.725176449598578,35.725176449598578,35.725176449598578,35.725176449598578,35.725176449598578]

{"sheet":"Luminaire Volumes","index":11,"n_rows":167,"n_cols":8,"rows_kept":167,"cut":false,"hidden":false,"merged":[]}
[null,"Luminaire volumes by Type"]
[null,"This sheet shows total luminaire volumes by luminaries type for the current regulatory period. Historical periods FY20-FY22 are shown. "]
[null,"Forecast volumes for FY23 to FY29 are shown in worksheet \"I_Asset number input\" "]
[null,null,null,null,null,"Toal Luminaire Volume"]
[null,"Charge Reference","Maintenance Category","Charge Type","Road Type","FY20","FY21","FY22"]
[null,"1000W SON","SON1x1000","Traditional","Major (Cat V)",41,34,27]
[null,"1000W SON FLOODLIGHT","SON1x1000","Traditional","Major (Cat V)",8,8,7]
[null,"1000W/1500W MBI FLOODLIG","MBI1x1000","Traditional","Major (Cat V)",8,8,8]
[null,"100W MBI","MBI1x100","Traditional","Major (Cat V)",17,16,15]
[null,"100W MBI FLOODLIGHT","MBI1x100","Traditional","Major (Cat V)",6,5,2]
[null,"100W SON","SON1x100","Traditional","Major (Cat V)",944,915,662]
[null,"100W SON - PLAIN","SON1x100","Traditional","Major (Cat V)",429,420,393]
[null,"100W SON FLOODLIGHT","SON1x100","Traditional","Major (Cat V)",8,8,8]
[null,"125W MBF","MBF1x125","Traditional","Minor (Cat P)",1760,727,524]
[null,"125W MBF - BOURKE HILL","MBF1x125","Traditional","Minor (Cat P)",29,36,36]
[null,"125W MBF - PARKVILLE","MBF1x125","Traditional","Minor (Cat P)",4,5,6]
[null,"125W MBF - PLAIN","MBF1x125","Traditional","Minor (Cat P)",756,726,644]
[null,"125W/250W MBF FLOODLIGHT","MBF1x125","Traditional","Minor (Cat P)",46,46,44]
[null,"150W SON","SON1x150","Traditional","Major (Cat V)",18693,17774,15700]
[null,"150W SON - PARKVILLE","SON1x150","Traditional","Major (Cat V)",34,33,34]
[null,"150W SON - PARKWAY 1","SON1x150","Traditional","Major (Cat V)",230,222,212]
[null,"150W SON ACTIVE REACTOR","SON1x150 AR","Traditional","Major (Cat V)",3335,3242,2803]
[null,"150W SON FLOODLIGHT","SON1x150","Traditional","Major (Cat V)",240,282,296]
[null,"150W/250W MBI FLOODLIGHT","MBI1x250","Traditional","Major (Cat V)",37,37,40]
[null,"250W MBF","MBF1x250","Traditional","Major (Cat V)",12609,11582,10428]
[null,"250W MBF - PARKWAY 1","MBF1x250","Traditional","Major (Cat V)",625,598,580]
[null,"250W SON","SON1x250","Traditional","Major (Cat V)",21734,20389,18059]
[null,"250W SON - PARKVILLE","SON1x250","Traditional","Major (Cat V)",13,13,11]
[null,"250W SON - PARKWAY 1","SON1x250","Traditional","Major (Cat V)",49,51,52]
[null,"250W SON ACTIVE REACTOR","SON1x250 AR","Traditional","Major (Cat V)",4369,4199,3716]
[null,"250W SON FLOODLIGHT","SON1x250","Traditional","Major (Cat V)",1646,1703,1682]
[null,"250W SON GEC 'BOSTON 3'","SON1x250","Traditional","Major (Cat V)",92,89,87]
[null,"2X14W TF - T5 PIERLIGHT","TF2x14 T5","Traditional","Minor (Cat P)",29,1,0]
[null,"2x14W TF - T5 PIERLITE M","TF2x14 T5","Traditional","Minor (Cat P)",37,10,4]
[null,"2x250W SON FLOODLIGHT","SON2x250","Traditional","Major (Cat V)",13,11,9]
[null,"2x400W SON FLOODLIGHT","SON2x400","Traditional","Major (Cat V)",6,6,8]
[null,"2x80W MBF - BOURKE HILL","MBF2x80","Traditional","Minor (Cat P)",15,14,14]
[null,"400W MBF","MBF1x400","Traditional","Major (Cat V)",4377,3952,3188]
[null,"400W MBF - B2229","MBF1x400","Traditional","Major (Cat V)",99,91,84]
[null,"400W MBF - PARKWAY 1","MBF1x400","Traditional","Major (Cat V)",170,162,161]
[null,"400W MBF FLOODLIGHT","MBF1x400","Traditional","Major (Cat V)",86,82,82]
[null,"400W MBI FLOODLIGHT","MBI1x400","Traditional","Major (Cat V)",80,81,78]
[null,"400W SON","SON1x400","Traditional","Major (Cat V)",1512,1406,1241]
[null,"400W SON - PARKWAY 1","SON1x400","Traditional","Major (Cat V)",14,13,13]
[null,"400W SON ACTIVE REACTOR","SON1x400 AR","Traditional","Major (Cat V)",451,429,389]
[null,"400W SON FLOODLIGHT","SON1x400","Traditional","Major (Cat V)",511,513,526]
[null,"42W MBF SYLVANIA SUB ECO","MBF1x42","Traditional","Minor (Cat P)",35592,32188,27865]
[null,"4x250W SON","SON4x250","Traditional","Major (Cat V)",5,3,3]
[null,"4x600W SON","SON4x600","Traditional","Major (Cat V)",2,2,3]
[null,"50W MBF","MBF1x50","Traditional","Minor (Cat P)",5674,3535,1365]
[null,"50W MBF - BOURKE HILL","MBF1x50","Traditional","Minor (Cat P)",18,26,26]
[null,"50W MBF - NOSTALGIA","MBF1x50","Traditional","Minor (Cat P)",92,87,58]
[null,"50W MBF - PLAIN","MBF1x50","Traditional","Minor (Cat P)",118,108,35]
[null,"50W SON","SON1x50","Traditional","Minor (Cat P)",262,14,4]
[null,"50W SON - NOSTALGIA","SON1x50","Traditional","Minor (Cat P)",2,2,2]
[null,"50W SON - PLAIN","SON1x50","Traditional","Minor (Cat P)",2,1,0]
[null,"70W MBI","MBI1x70","Traditional","Minor (Cat P)",115,77,27]
[null,"70W MBI - MACQUARIE DEC.","MBI1x70","Traditional","Minor (Cat P)",115,115,112]
[null,"70W MBI II","MBI1x70 II","Traditional","Minor (Cat P)",260,124,20]
[null,"70W MBI II AERO","MBI1x70 II","Traditional","Minor (Cat P)",16,11,0]
[null,"70W SON","SON1x70","Traditional","Minor (Cat P)",941,555,173]
[null,"70W SON - BOURKE HILL","SON1x70","Traditional","Minor (Cat P)",5,5,5]
[null,"70W SON - NOSTALGIA","SON1x70","Traditional","Minor (Cat P)",101,91,84]
[null,"70W SON - PARKVILLE","SON1x70","Traditional","Minor (Cat P)",10,10,6]
[null,"70W SON - PLAIN","SON1x70","Traditional","Minor (Cat P)",176,173,143]
[null,"70W SON BOLLARD","SON1x70","Traditional","Minor (Cat P)",2,1,1]
[null,"70W SON FLOODLIGHT","SON1x70","Traditional","Minor (Cat P)",35,34,30]
[null,"80W MBF - BEGA+CURVE BRA","MBF1x80","Traditional","Minor (Cat P)",63,77,78]
[null,"80W MBF - BOURKE HILL","MBF1x80","Traditional","Minor (Cat P)",1185,1206,1159]
[null,"80W MBF - NOSTALGIA","MBF1x80","Traditional","Minor (Cat P)",563,540,479]
[null,"80W MBF - PLAIN","MBF1x80","Traditional","Minor (Cat P)",431,405,310]
[null,"80W MBF - REGAL/FLINDERS","MBF1x80","Traditional","Minor (Cat P)",41,47,39]
[null,"80W MBF BOLLARD","MBF1x80","Traditional","Minor (Cat P)",67,67,66]
[null,"80W MBF TOORAK","MBF1x80","Traditional","Minor (Cat P)",137,131,126]
[null,"TH FLOODLIGHT","Not Applicable","Traditional","Major (Cat V)",24,24,24]
[null,"10W LED PH RRW","LED1x17","LED","Minor (Cat P)",0,0,22]
[null,"16W LED PH","LED1x17","LED","Minor (Cat P)",0,1,1010]
[null,"17W LED ALD","LED1x17","LED","Minor (Cat P)",0,9814,22715]
[null,"17W LED ALD RRW","LED1x17","LED","Minor (Cat P)",0,1041,1633]
[null,"17W LED ALD RRW ZHAGA","LED1x17","LED","Minor (Cat P)",0,0,237]
[null,"17W LED ALD ZHAGA","LED1x17","LED","Minor (Cat P)",0,0,4613]
[null,"17W LED SY RRW","LED1x17","LED","Minor (Cat P)",6218,9135,9364]
[null,"1x17W LED","LED1x17","LED","Minor (Cat P)",49016,62204,63500]
[null,"20W LED GE","LED1x20","LED","Minor (Cat P)",53,51,52]
[null,"1x22W LED","LED1x22","LED","Minor (Cat P)",14815,14554,14365]
[null,"1x25W LED GE","LED1x25 GE","LED","Minor (Cat P)",4461,4482,4502]
[null,"25W LED PH","LED1x17","LED","Minor (Cat P)",0,310,674]
[null,"28W LED SY","LED1x28","LED","Minor (Cat P)",2410,3490,3977]
[null,"1x29W LED","LED1x29","LED20","Minor (Cat P)",14968,14710,14442]
[null,"33W LED LRL","LED1x33","LED","Minor (Cat P)",30,43,30]
[null,"34W LED BOURKE HILL","LED1x17","LED","Minor (Cat P)",0,35,101]
[null,"40W LED ALD","LED1x17","LED","Minor (Cat P)",0,0,18]
[null,"40W LED ALD ZHAGA","LED1x17","LED","Minor (Cat P)",0,0,0]
[null,"42W LED LRL","LED1x42","LED","Major (Cat V)",0,0,0]
[null,"49W LED PH","LED1x17","LED","Minor (Cat P)",0,3,308]
[null,"49W LED PH ZHAGA","LED1x17","LED","Minor (Cat P)",0,0,0]
[null,"50W LED SY PT","LED1x17","LED","Minor (Cat P)",0,0,32]
[null,"58W LED ALD","LED1x17","LED","Minor (Cat P)",0,0,18]
[null,"58W LED ALD ZHAGA","LED1x17","LED","Minor (Cat P)",0,0,0]
[null,"70W LED PH FLOOD","LED1x100","LED","Major (Cat V)",0,0,13]
[null,"74W LED ALD","LED1x100","LED","Major (Cat V)",0,4,43]
[null,"74W LED ALD ZHAGA","LED1x100","LED","Major (Cat V)",0,0,0]
[null,"76W LED PH","LED1x100","LED","Major (Cat V)",0,809,4129]
[null,"76W LED PH ZHAGA","LED1x100","LED","Major (Cat V)",0,0,0]
[null,"100W LED ALD","LED1x100","LED","Major (Cat V)",1597,3028,3351]
[null,"100W LED SY CT","LED1x17","LED","Minor (Cat P)",0,2,6]
[null,"100W LED SY PT","LED1x17","LED","Minor (Cat P)",0,32,57]
[null,"110W LED SY FLOOD","LED1x100","LED","Major (Cat V)",0,0,14]
[null,"120W LED PH FLOOD","LED1x100","LED","Major (Cat V)",0,0,39]
[null,"140W LED PH","LED1x100","LED","Major (Cat V)",0,1003,4326]
[null,"140W LED PH ZHAGA","LED1x100","LED","Major (Cat V)",0,0,5]
[null,"150W LED SY FLOOD","LED1x100","LED","Major (Cat V)",0,0,26]
[null,"150W LED SY PT","LED1x100","LED","Minor (Cat P)",0,18,56]
[null,"152W LED PH FLOOD","LED1x100","LED","Major (Cat V)",0,0,9]
[null,"170W LED ALD","LED1x100","LED","Major (Cat V)",0,3,20]
[null,"170W LED ALD ZHAGA","LED1x100","LED","Major (Cat V)",0,0,0]
[null,"175W LED SY FLOOD","LED1x100","LED","Major (Cat V)",0,0,0]
[null,"200W LED ALD","LED1x200","LED","Major (Cat V)",1384,2447,2732]
[null,"224W LED PH","LED1x100","LED","Major (Cat V)",0,52,186]
[null,"224W LED PH ZHAGA","LED1x100","LED","Major (Cat V)",0,0,1]
[null,"258W LED ALD","LED1x100","LED","Major (Cat V)",0,0,2]
[null,"258W LED ALD ZHAGA","LED1x100","LED","Major (Cat V)",0,0,0]
[null,"298W LED ALD","LED1x298","LED","Major (Cat V)",34,45,54]
[null,"600W LED ALD HM","LED1x17","LED","Minor (Cat P)",0,0,0]
[null,"COLONIAL ROCKS SPHERE","LED1x17","LED","Minor (Cat P)",0,2,41]
[null,"LED TRIAL","LED TRIAL","LED20","Minor (Cat P)",78,89,88]
[]
[null,"Old Luminaire Types "]
[null,"1000W MBF",null,null,null,5,3,1]
[null,"100W SON - Parkville",null,null,null,13,12,11]
[null,"125W MBF - Hyde Park",null,null,null,13,14,12]
[null,"125W MBF - Nostalgia",null,null,null,1,0,0]
[null,"135W SOX",null,null,null,28,26,24]
[null,"1x40W TF",null,null,null,182,83,10]
[null,"150W SON GEC 'Boston 3'",null,null,null,80,82,83]
[null,"150W SON - Hyde Park",null,null,null,6,6,7]
[null,"150W SON - Material supplied b",null,null,null,0,0,24]
[null,"1x80W TF",null,null,null,61,31,12]
[null,"2x20W TF",null,null,null,5766,1456,261]
[null,"2x20W TF - WAVERLEY",null,null,null,1,1,0]
[null,"2x26W TF Macquarie Dec. Ball",null,null,null,14,14,9]
[null,"2x40W TF",null,null,null,13,12,12]
[null,"245W LED ALD Floodlight",null,null,null,0,0,1]
[null,"24W LED Bourke Hill 3S Lightin",null,null,null,139,230,447]
[null,"250W MBF - Parkville",null,null,null,0,0,1]
[null,"250W MBI - Smartpole",null,null,null,17,15,15]
[null,"2x70W SON - Bourke Hill",null,null,null,1,1,0]
[null,"400W MBI",null,null,null,24,23,21]
[null,"400W MBI - Smartpole",null,null,null,14,12,9]
[null,"4x20W TF",null,null,null,1,1,1]
[null,"4x20W TF - WAVERLEY",null,null,null,7,7,6]
[null,"42W CFL- BOURKE HILL",null,null,null,355,542,633]
[null,"42W CFL - Flinders Encounter",null,null,null,0,0,4]
[null,"42W LED LRL V5",null,null,null,29,35,32]
[null,"4x40W TF - WAVERLEY",null,null,null,2,2,2]
[null,"600W LED ALD High Mast",null,null,null,0,9,16]
[null,"600W SON",null,null,null,1,1,0]
[null,"700W MBF Floodlight",null,null,null,1,1,1]
[null,"70W SON - GEC Boston 2",null,null,null,1,1,1]
[null,"70W SON - Regal/Flinders Enc",null,null,null,3,3,3]
[null,"75W LED - Boston",null,null,null,0,0,1]
[null,"80W MBF",null,null,null,10721,7468,2372]
[null,"80W MBF - GEC Boston 2",null,null,null,12,11,11]
[null,"80W MBF - SY Suburban",null,null,null,21342,8982,2244]
[null,"PRIVATE",null,null,null,3,9,10]
[]
[null,"Total",null,null,null,{"$f":"SUM(F6:F166)","v":255136},{"$f":"SUM(G6:G166)","v":256098},257224]

{"sheet":"Scenario_Price_List_linked","index":12,"n_rows":237,"n_cols":11,"rows_kept":237,"cut":false,"hidden":false,"merged":[]}
[null,"Alternative / Scenario Price List"]
[null,"This sheet presents the high level 'grouped' charges by each detailed charge."]
[null,null,null,"Nominal $"]
[null,{"$f":"'Detailed price list'!B4","v":"Charge Reference"},{"$f":"'Detailed price list'!C4","v":"Charge Group"},"FY25","FY26","FY27","FY28","FY29",null,"Row Ref",{"$f":"'Detailed price list'!L4","v":"Applied Scenario Price Grouping"}]
[null,{"$f":"'Detailed price list'!B5","v":"O/U"},{"$f":"'Detailed price list'!C5","v":"Opex - Connections"},{"$f":"INDEX('Weighted average price list'!C$5:C$237,$J5)","v":102.28306430013642},{"$f":"INDEX('Weighted average price list'!D$5:D$237,$J5)","v":105.2233528577385},{"$f":"INDEX('Weighted average price list'!E$5:E$237,$J5)","v":108.24816466326163},{"$f":"INDEX('Weighted average price list'!F$5:F$237,$J5)","v":111.35992947123474},{"$f":"INDEX('Weighted average price list'!G$5:G$237,$J5)","v":114.561146883326},null,{"$f":"MATCH(K5,'Weighted average price list'!$B$5:$B$237,0)","v":1},{"$f":"'Detailed price list'!L5","v":"Connection - O/U"}]
[null,{"$f":"'Detailed price list'!B6","v":"UGR1"},{"$f":"'Detailed price list'!C6","v":"Opex - Connections"},{"$f":"INDEX('Weighted average price list'!C$5:C$237,$J6)","v":93.757105377314076},{"$f":"INDEX('Weighted average price list'!D$5:D$237,$J6)","v":96.452301752403926},{"$f":"INDEX('Weighted average price list'!E$5:E$237,$J6)","v":99.224975812742954},{"$f":"INDEX('Weighted average price list'!F$5:F$237,$J6)","v":102.07735477701067},{"$f":"INDEX('Weighted average price list'!G$5:G$237,$J6)","v":105.01172988881237},null,{"$f":"MATCH(K6,'Weighted average price list'!$B$5:$B$237,0)","v":2},{"$f":"'Detailed price list'!L6","v":"Connection - UGR1"}]
[null,{"$f":"'Detailed price list'!B7","v":"UGR2"},{"$f":"'Detailed price list'!C7","v":"Opex - Connections"},{"$f":"INDEX('Weighted average price list'!C$5:C$237,$J7)","v":34.089282231791088},{"$f":"INDEX('Weighted average price list'!D$5:D$237,$J7)","v":35.069232599614296},{"$f":"INDEX('Weighted average price list'!E$5:E$237,$J7)","v":36.077353191640732},{"$f":"INDEX('Weighted average price list'!F$5:F$237,$J7)","v":37.114453805547633},{"$f":"INDEX('Weighted average price list'!G$5:G$237,$J7)","v":38.181367517928045},null,{"$f":"MATCH(K7,'Weighted average price list'!$B$5:$B$237,0)","v":3},{"$f":"'Detailed price list'!L7","v":"Connection - UGR2"}]
[null,{"$f":"'Detailed price list'!B8","v":"MBF1x1000"},{"$f":"'Detailed price list'!C8","v":"Opex - Maintenance- Traditional Luminaire"},{"$f":"INDEX('Weighted average price list'!C$5:C$237,$J8)","v":53.785384027308034},{"$f":"INDEX('Weighted average price list'!D$5:D$237,$J8)","v":55.331530012509198},{"$f":"INDEX('Weighted average price list'!E$5:E$237,$J8)","v":56.922122411002505},{"$f":"INDEX('Weighted average price list'!F$5:F$237,$J8)","v":58.558438905279374},{"$f":"INDEX('Weighted average price list'!G$5:G$237,$J8)","v":60.241793906836598},null,{"$f":"MATCH(K8,'Weighted average price list'!$B$5:$B$237,0)","v":4},{"$f":"'Detailed price list'!L8","v":"Legacy Luminaire - Major (Cat V) road"}]
[null,{"$f":"'Detailed price list'!B9","v":"MBF1x125"},{"$f":"'Detailed price list'!C9","v":"Opex - Maintenance- Traditional Luminaire"},{"$f":"INDEX('Weighted average price list'!C$5:C$237,$J9)","v":33.631329748169293},{"$f":"INDEX('Weighted average price list'!D$5:D$237,$J9)","v":34.598115547090181},{"$f":"INDEX('Weighted average price list'!E$5:E$237,$J9)","v":35.592693133846822},{"$f":"INDEX('Weighted average price list'!F$5:F$237,$J9)","v":36.615861427364123},{"$f":"INDEX('Weighted average price list'!G$5:G$237,$J9)","v":37.668442312755914},null,{"$f":"MATCH(K9,'Weighted average price list'!$B$5:$B$237,0)","v":5},{"$f":"'Detailed price list'!L9","v":"Legacy Luminaire - Minor (Cat P) road"}]
[null,{"$f":"'Detailed price list'!B10","v":"MBF1x250"},{"$f":"'Detailed price list'!C10","v":"Opex - Maintenance- Traditional Luminaire"},{"$f":"INDEX('Weighted average price list'!C$5:C$237,$J10)","v":53.785384027308034},{"$f":"INDEX('Weighted average price list'!D$5:D$237,$J10)","v":55.331530012509198},{"$f":"INDEX('Weighted average price list'!E$5:E$237,$J10)","v":56.922122411002505},{"$f":"INDEX('Weighted average price list'!F$5:F$237,$J10)","v":58.558438905279374},{"$f":"INDEX('Weighted average price list'!G$5:G$237,$J10)","v":60.241793906836598},null,{"$f":"MATCH(K10,'Weighted average price list'!$B$5:$B$237,0)","v":4},{"$f":"'Detailed price list'!L10","v":"Legacy Luminaire - Major (Cat V) road"}]
[null,{"$f":"'Detailed price list'!B11","v":"MBF1x400"},{"$f":"'Detailed price list'!C11","v":"Opex - Maintenance- Traditional Luminaire"},{"$f":"INDEX('Weighted average price list'!C$5:C$237,$J11)","v":53.785384027308034},{"$f":"INDEX('Weighted average price list'!D$5:D$237,$J11)","v":55.331530012509198},{"$f":"INDEX('Weighted average price list'!E$5:E$237,$J11)","v":56.922122411002505},{"$f":"INDEX('Weighted average price list'!F$5:F$237,$J11)","v":58.558438905279374},{"$f":"INDEX('Weighted average price list'!G$5:G$237,$J11)","v":60.241793906836598},null,{"$f":"MATCH(K11,'Weighted average price list'!$B$5:$B$237,0)","v":4},{"$f":"'Detailed price list'!L11","v":"Legacy Luminaire - Major (Cat V) road"}]
[null,{"$f":"'Detailed price list'!B12","v":"MBF1x42"},{"$f":"'Detailed price list'!C12","v":"Opex - Maintenance- Traditional Luminaire"},{"$f":"INDEX('Weighted average price list'!C$5:C$237,$J12)","v":33.631329748169293},{"$f":"INDEX('Weighted average price list'!D$5:D$237,$J12)","v":34.598115547090181},{"$f":"INDEX('Weighted average price list'!E$5:E$237,$J12)","v":35.592693133846822},{"$f":"INDEX('Weighted average price list'!F$5:F$237,$J12)","v":36.615861427364123},{"$f":"INDEX('Weighted average price list'!G$5:G$237,$J12)","v":37.668442312755914},null,{"$f":"MATCH(K12,'Weighted average price list'!$B$5:$B$237,0)","v":5},{"$f":"'Detailed price list'!L12","v":"Legacy Luminaire - Minor (Cat P) road"}]
[null,{"$f":"'Detailed price list'!B13","v":"MBF1x50"},{"$f":"'Detailed price list'!C13","v":"Opex - Maintenance- Traditional Luminaire"},{"$f":"INDEX('Weighted average price list'!C$5:C$237,$J13)","v":33.631329748169293},{"$f":"INDEX('Weighted average price list'!D$5:D$237,$J13)","v":34.598115547090181},{"$f":"INDEX('Weighted average price list'!E$5:E$237,$J13)","v":35.592693133846822},{"$f":"INDEX('Weighted average price list'!F$5:F$237,$J13)","v":36.615861427364123},{"$f":"INDEX('Weighted average price list'!G$5:G$237,$J13)","v":37.668442312755914},null,{"$f":"MATCH(K13,'Weighted average price list'!$B$5:$B$237,0)","v":5},{"$f":"'Detailed price list'!L13","v":"Legacy Luminaire - Minor (Cat P) road"}]
[null,{"$f":"'Detailed price list'!B14","v":"MBF1x80"},{"$f":"'Detailed price list'!C14","v":"Opex - Maintenance- Traditional Luminaire"},{"$f":"INDEX('Weighted average price list'!C$5:C$237,$J14)","v":33.631329748169293},{"$f":"INDEX('Weighted average price list'!D$5:D$237,$J14)","v":34.598115547090181},{"$f":"INDEX('Weighted average price list'!E$5:E$237,$J14)","v":35.592693133846822},{"$f":"INDEX('Weighted average price list'!F$5:F$237,$J14)","v":36.615861427364123},{"$f":"INDEX('Weighted average price list'!G$5:G$237,$J14)","v":37.668442312755914},null,{"$f":"MATCH(K14,'Weighted average price list'!$B$5:$B$237,0)","v":5},{"$f":"'Detailed price list'!L14","v":"Legacy Luminaire - Minor (Cat P) road"}]
[null,{"$f":"'Detailed price list'!B15","v":"MBF2x80"},{"$f":"'Detailed price list'!C15","v":"Opex - Maintenance- Traditional Luminaire"},{"$f":"INDEX('Weighted average price list'!C$5:C$237,$J15)","v":33.631329748169293},{"$f":"INDEX('Weighted average price list'!D$5:D$237,$J15)","v":34.598115547090181},{"$f":"INDEX('Weighted average price list'!E$5:E$237,$J15)","v":35.592693133846822},{"$f":"INDEX('Weighted average price list'!F$5:F$237,$J15)","v":36.615861427364123},{"$f":"INDEX('Weighted average price list'!G$5:G$237,$J15)","v":37.668442312755914},null,{"$f":"MATCH(K15,'Weighted average price list'!$B$5:$B$237,0)","v":5},{"$f":"'Detailed price list'!L15","v":"Legacy Luminaire - Minor (Cat P) road"}]
[null,{"$f":"'Detailed price list'!B16","v":"MBI1x100"},{"$f":"'Detailed price list'!C16","v":"Opex - Maintenance- Traditional Luminaire"},{"$f":"INDEX('Weighted average price list'!C$5:C$237,$J16)","v":53.785384027308034},{"$f":"INDEX('Weighted average price list'!D$5:D$237,$J16)","v":55.331530012509198},{"$f":"INDEX('Weighted average price list'!E$5:E$237,$J16)","v":56.922122411002505},{"$f":"INDEX('Weighted average price list'!F$5:F$237,$J16)","v":58.558438905279374},{"$f":"INDEX('Weighted average price list'!G$5:G$237,$J16)","v":60.241793906836598},null,{"$f":"MATCH(K16,'Weighted average price list'!$B$5:$B$237,0)","v":4},{"$f":"'Detailed price list'!L16","v":"Legacy Luminaire - Major (Cat V) road"}]
[null,{"$f":"'Detailed price list'!B17","v":"MBI1x1000"},{"$f":"'Detailed price list'!C17","v":"Opex - Maintenance- Traditional Luminaire"},{"$f":"INDEX('Weighted average price list'!C$5:C$237,$J17)","v":53.785384027308034},{"$f":"INDEX('Weighted average price list'!D$5:D$237,$J17)","v":55.331530012509198},{"$f":"INDEX('Weighted average price list'!E$5:E$237,$J17)","v":56.922122411002505},{"$f":"INDEX('Weighted average price list'!F$5:F$237,$J17)","v":58.558438905279374},{"$f":"INDEX('Weighted average price list'!G$5:G$237,$J17)","v":60.241793906836598},null,{"$f":"MATCH(K17,'Weighted average price list'!$B$5:$B$237,0)","v":4},{"$f":"'Detailed price list'!L17","v":"Legacy Luminaire - Major (Cat V) road"}]
[null,{"$f":"'Detailed price list'!B18","v":"MBI1x150"},{"$f":"'Detailed price list'!C18","v":"Opex - Maintenance- Traditional Luminaire"},{"$f":"INDEX('Weighted average price list'!C$5:C$237,$J18)","v":53.785384027308034},{"$f":"INDEX('Weighted average price list'!D$5:D$237,$J18)","v":55.331530012509198},{"$f":"INDEX('Weighted average price list'!E$5:E$237,$J18)","v":56.922122411002505},{"$f":"INDEX('Weighted average price list'!F$5:F$237,$J18)","v":58.558438905279374},{"$f":"INDEX('Weighted average price list'!G$5:G$237,$J18)","v":60.241793906836598},null,{"$f":"MATCH(K18,'Weighted average price list'!$B$5:$B$237,0)","v":4},{"$f":"'Detailed price list'!L18","v":"Legacy Luminaire - Major (Cat V) road"}]
[null,{"$f":"'Detailed price list'!B19","v":"MBI1x250"},{"$f":"'Detailed price list'!C19","v":"Opex - Maintenance- Traditional Luminaire"},{"$f":"INDEX('Weighted average price list'!C$5:C$237,$J19)","v":53.785384027308034},{"$f":"INDEX('Weighted average price list'!D$5:D$237,$J19)","v":55.331530012509198},{"$f":"INDEX('Weighted average price list'!E$5:E$237,$J19)","v":56.922122411002505},{"$f":"INDEX('Weighted average price list'!F$5:F$237,$J19)","v":58.558438905279374},{"$f":"INDEX('Weighted average price list'!G$5:G$237,$J19)","v":60.241793906836598},null,{"$f":"MATCH(K19,'Weighted average price list'!$B$5:$B$237,0)","v":4},{"$f":"'Detailed price list'!L19","v":"Legacy Luminaire - Major (Cat V) road"}]
[null,{"$f":"'Detailed price list'!B20","v":"MBI1x400"},{"$f":"'Detailed price list'!C20","v":"Opex - Maintenance- Traditional Luminaire"},{"$f":"INDEX('Weighted average price list'!C$5:C$237,$J20)","v":53.785384027308034},{"$f":"INDEX('Weighted average price list'!D$5:D$237,$J20)","v":55.331530012509198},{"$f":"INDEX('Weighted average price list'!E$5:E$237,$J20)","v":56.922122411002505},{"$f":"INDEX('Weighted average price list'!F$5:F$237,$J20)","v":58.558438905279374},{"$f":"INDEX('Weighted average price list'!G$5:G$237,$J20)","v":60.241793906836598},null,{"$f":"MATCH(K20,'Weighted average price list'!$B$5:$B$237,0)","v":4},{"$f":"'Detailed price list'!L20","v":"Legacy Luminaire - Major (Cat V) road"}]
[null,{"$f":"'Detailed price list'!B21","v":"MBI1x70"},{"$f":"'Detailed price list'!C21","v":"Opex - Maintenance- Traditional Luminaire"},{"$f":"INDEX('Weighted average price list'!C$5:C$237,$J21)","v":33.631329748169293},{"$f":"INDEX('Weighted average price list'!D$5:D$237,$J21)","v":34.598115547090181},{"$f":"INDEX('Weighted average price list'!E$5:E$237,$J21)","v":35.592693133846822},{"$f":"INDEX('Weighted average price list'!F$5:F$237,$J21)","v":36.615861427364123},{"$f":"INDEX('Weighted average price list'!G$5:G$237,$J21)","v":37.668442312755914},null,{"$f":"MATCH(K21,'Weighted average price list'!$B$5:$B$237,0)","v":5},{"$f":"'Detailed price list'!L21","v":"Legacy Luminaire - Minor (Cat P) road"}]
[null,{"$f":"'Detailed price list'!B22","v":"MBI1x70 II"},{"$f":"'Detailed price list'!C22","v":"Opex - Maintenance- Traditional Luminaire"},{"$f":"INDEX('Weighted average price list'!C$5:C$237,$J22)","v":33.631329748169293},{"$f":"INDEX('Weighted average price list'!D$5:D$237,$J22)","v":34.598115547090181},{"$f":"INDEX('Weighted average price list'!E$5:E$237,$J22)","v":35.592693133846822},{"$f":"INDEX('Weighted average price list'!F$5:F$237,$J22)","v":36.615861427364123},{"$f":"INDEX('Weighted average price list'!G$5:G$237,$J22)","v":37.668442312755914},null,{"$f":"MATCH(K22,'Weighted average price list'!$B$5:$B$237,0)","v":5},{"$f":"'Detailed price list'!L22","v":"Legacy Luminaire - Minor (Cat P) road"}]
[null,{"$f":"'Detailed price list'!B23","v":"SON1x100"},{"$f":"'Detailed price list'!C23","v":"Opex - Maintenance- Traditional Luminaire"},{"$f":"INDEX('Weighted average price list'!C$5:C$237,$J23)","v":53.785384027308034},{"$f":"INDEX('Weighted average price list'!D$5:D$237,$J23)","v":55.331530012509198},{"$f":"INDEX('Weighted average price list'!E$5:E$237,$J23)","v":56.922122411002505},{"$f":"INDEX('Weighted average price list'!F$5:F$237,$J23)","v":58.558438905279374},{"$f":"INDEX('Weighted average price list'!G$5:G$237,$J23)","v":60.241793906836598},null,{"$f":"MATCH(K23,'Weighted average price list'!$B$5:$B$237,0)","v":4},{"$f":"'Detailed price list'!L23","v":"Legacy Luminaire - Major (Cat V) road"}]
[null,{"$f":"'Detailed price list'!B24","v":"SON1x1000"},{"$f":"'Detailed price list'!C24","v":"Opex - Maintenance- Traditional Luminaire"},{"$f":"INDEX('Weighted average price list'!C$5:C$237,$J24)","v":53.785384027308034},{"$f":"INDEX('Weighted average price list'!D$5:D$237,$J24)","v":55.331530012509198},{"$f":"INDEX('Weighted average price list'!E$5:E$237,$J24)","v":56.922122411002505},{"$f":"INDEX('Weighted average price list'!F$5:F$237,$J24)","v":58.558438905279374},{"$f":"INDEX('Weighted average price list'!G$5:G$237,$J24)","v":60.241793906836598},null,{"$f":"MATCH(K24,'Weighted average price list'!$B$5:$B$237,0)","v":4},{"$f":"'Detailed price list'!L24","v":"Legacy Luminaire - Major (Cat V) road"}]
[null,{"$f":"'Detailed price list'!B25","v":"SON1x150"},{"$f":"'Detailed price list'!C25","v":"Opex - Maintenance- Traditional Luminaire"},{"$f":"INDEX('Weighted average price list'!C$5:C$237,$J25)","v":53.785384027308034},{"$f":"INDEX('Weighted average price list'!D$5:D$237,$J25)","v":55.331530012509198},{"$f":"INDEX('Weighted average price list'!E$5:E$237,$J25)","v":56.922122411002505},{"$f":"INDEX('Weighted average price list'!F$5:F$237,$J25)","v":58.558438905279374},{"$f":"INDEX('Weighted average price list'!G$5:G$237,$J25)","v":60.241793906836598},null,{"$f":"MATCH(K25,'Weighted average price list'!$B$5:$B$237,0)","v":4},{"$f":"'Detailed price list'!L25","v":"Legacy Luminaire - Major (Cat V) road"}]
[null,{"$f":"'Detailed price list'!B26","v":"SON1x150 AR"},{"$f":"'Detailed price list'!C26","v":"Opex - Maintenance- Traditional Luminaire"},{"$f":"INDEX('Weighted average price list'!C$5:C$237,$J26)","v":53.785384027308034},{"$f":"INDEX('Weighted average price list'!D$5:D$237,$J26)","v":55.331530012509198},{"$f":"INDEX('Weighted average price list'!E$5:E$237,$J26)","v":56.922122411002505},{"$f":"INDEX('Weighted average price list'!F$5:F$237,$J26)","v":58.558438905279374},{"$f":"INDEX('Weighted average price list'!G$5:G$237,$J26)","v":60.241793906836598},null,{"$f":"MATCH(K26,'Weighted average price list'!$B$5:$B$237,0)","v":4},{"$f":"'Detailed price list'!L26","v":"Legacy Luminaire - Major (Cat V) road"}]
[null,{"$f":"'Detailed price list'!B27","v":"SON1x250"},{"$f":"'Detailed price list'!C27","v":"Opex - Maintenance- Traditional Luminaire"},{"$f":"INDEX('Weighted average price list'!C$5:C$237,$J27)","v":53.785384027308034},{"$f":"INDEX('Weighted average price list'!D$5:D$237,$J27)","v":55.331530012509198},{"$f":"INDEX('Weighted average price list'!E$5:E$237,$J27)","v":56.922122411002505},{"$f":"INDEX('Weighted average price list'!F$5:F$237,$J27)","v":58.558438905279374},{"$f":"INDEX('Weighted average price list'!G$5:G$237,$J27)","v":60.241793906836598},null,{"$f":"MATCH(K27,'Weighted average price list'!$B$5:$B$237,0)","v":4},{"$f":"'Detailed price list'!L27","v":"Legacy Luminaire - Major (Cat V) road"}]
[null,{"$f":"'Detailed price list'!B28","v":"SON1x250 AR"},{"$f":"'Detailed price list'!C28","v":"Opex - Maintenance- Traditional Luminaire"},{"$f":"INDEX('Weighted average price list'!C$5:C$237,$J28)","v":53.785384027308034},{"$f":"INDEX('Weighted average price list'!D$5:D$237,$J28)","v":55.331530012509198},{"$f":"INDEX('Weighted average price list'!E$5:E$237,$J28)","v":56.922122411002505},{"$f":"INDEX('Weighted average price list'!F$5:F$237,$J28)","v":58.558438905279374},{"$f":"INDEX('Weighted average price list'!G$5:G$237,$J28)","v":60.241793906836598},null,{"$f":"MATCH(K28,'Weighted average price list'!$B$5:$B$237,0)","v":4},{"$f":"'Detailed price list'!L28","v":"Legacy Luminaire - Major (Cat V) road"}]
[null,{"$f":"'Detailed price list'!B29","v":"SON1x400"},{"$f":"'Detailed price list'!C29","v":"Opex - Maintenance- Traditional Luminaire"},{"$f":"INDEX('Weighted average price list'!C$5:C$237,$J29)","v":53.785384027308034},{"$f":"INDEX('Weighted average price list'!D$5:D$237,$J29)","v":55.331530012509198},{"$f":"INDEX('Weighted average price list'!E$5:E$237,$J29)","v":56.922122411002505},{"$f":"INDEX('Weighted average price list'!F$5:F$237,$J29)","v":58.558438905279374},{"$f":"INDEX('Weighted average price list'!G$5:G$237,$J29)","v":60.241793906836598},null,{"$f":"MATCH(K29,'Weighted average price list'!$B$5:$B$237,0)","v":4},{"$f":"'Detailed price list'!L29","v":"Legacy Luminaire - Major (Cat V) road"}]
[null,{"$f":"'Detailed price list'!B30","v":"SON1x400 AR"},{"$f":"'Detailed price list'!C30","v":"Opex - Maintenance- Traditional Luminaire"},{"$f":"INDEX('Weighted average price list'!C$5:C$237,$J30)","v":53.785384027308034},{"$f":"INDEX('Weighted average price list'!D$5:D$237,$J30)","v":55.331530012509198},{"$f":"INDEX('Weighted average price list'!E$5:E$237,$J30)","v":56.922122411002505},{"$f":"INDEX('Weighted average price list'!F$5:F$237,$J30)","v":58.558438905279374},{"$f":"INDEX('Weighted average price list'!G$5:G$237,$J30)","v":60.241793906836598},null,{"$f":"MATCH(K30,'Weighted average price list'!$B$5:$B$237,0)","v":4},{"$f":"'Detailed price list'!L30","v":"Legacy Luminaire - Major (Cat V) road"}]
[null,{"$f":"'Detailed price list'!B31","v":"SON1x50"},{"$f":"'Detailed price list'!C31","v":"Opex - Maintenance- Traditional Luminaire"},{"$f":"INDEX('Weighted average price list'!C$5:C$237,$J31)","v":33.631329748169293},{"$f":"INDEX('Weighted average price list'!D$5:D$237,$J31)","v":34.598115547090181},{"$f":"INDEX('Weighted average price list'!E$5:E$237,$J31)","v":35.592693133846822},{"$f":"INDEX('Weighted average price list'!F$5:F$237,$J31)","v":36.615861427364123},{"$f":"INDEX('Weighted average price list'!G$5:G$237,$J31)","v":37.668442312755914},null,{"$f":"MATCH(K31,'Weighted average price list'!$B$5:$B$237,0)","v":5},{"$f":"'Detailed price list'!L31","v":"Legacy Luminaire - Minor (Cat P) road"}]
[null,{"$f":"'Detailed price list'!B32","v":"SON1x600"},{"$f":"'Detailed price list'!C32","v":"Opex - Maintenance- Traditional Luminaire"},{"$f":"INDEX('Weighted average price list'!C$5:C$237,$J32)","v":53.785384027308034},{"$f":"INDEX('Weighted average price list'!D$5:D$237,$J32)","v":55.331530012509198},{"$f":"INDEX('Weighted average price list'!E$5:E$237,$J32)","v":56.922122411002505},{"$f":"INDEX('Weighted average price list'!F$5:F$237,$J32)","v":58.558438905279374},{"$f":"INDEX('Weighted average price list'!G$5:G$237,$J32)","v":60.241793906836598},null,{"$f":"MATCH(K32,'Weighted average price list'!$B$5:$B$237,0)","v":4},{"$f":"'Detailed price list'!L32","v":"Legacy Luminaire - Major (Cat V) road"}]
[null,{"$f":"'Detailed price list'!B33","v":"SON1x70"},{"$f":"'Detailed price list'!C33","v":"Opex - Maintenance- Traditional Luminaire"},{"$f":"INDEX('Weighted average price list'!C$5:C$237,$J33)","v":33.631329748169293},{"$f":"INDEX('Weighted average price list'!D$5:D$237,$J33)","v":34.598115547090181},{"$f":"INDEX('Weighted average price list'!E$5:E$237,$J33)","v":35.592693133846822},{"$f":"INDEX('Weighted average price list'!F$5:F$237,$J33)","v":36.615861427364123},{"$f":"INDEX('Weighted average price list'!G$5:G$237,$J33)","v":37.668442312755914},null,{"$f":"MATCH(K33,'Weighted average price list'!$B$5:$B$237,0)","v":5},{"$f":"'Detailed price list'!L33","v":"Legacy Luminaire - Minor (Cat P) road"}]
[null,{"$f":"'Detailed price list'!B34","v":"SON2x250"},{"$f":"'Detailed price list'!C34","v":"Opex - Maintenance- Traditional Luminaire"},{"$f":"INDEX('Weighted average price list'!C$5:C$237,$J34)","v":53.785384027308034},{"$f":"INDEX('Weighted average price list'!D$5:D$237,$J34)","v":55.331530012509198},{"$f":"INDEX('Weighted average price list'!E$5:E$237,$J34)","v":56.922122411002505},{"$f":"INDEX('Weighted average price list'!F$5:F$237,$J34)","v":58.558438905279374},{"$f":"INDEX('Weighted average price list'!G$5:G$237,$J34)","v":60.241793906836598},null,{"$f":"MATCH(K34,'Weighted average price list'!$B$5:$B$237,0)","v":4},{"$f":"'Detailed price list'!L34","v":"Legacy Luminaire - Major (Cat V) road"}]
[null,{"$f":"'Detailed price list'!B35","v":"SON2x400"},{"$f":"'Detailed price list'!C35","v":"Opex - Maintenance- Traditional Luminaire"},{"$f":"INDEX('Weighted average price list'!C$5:C$237,$J35)","v":53.785384027308034},{"$f":"INDEX('Weighted average price list'!D$5:D$237,$J35)","v":55.331530012509198},{"$f":"INDEX('Weighted average price list'!E$5:E$237,$J35)","v":56.922122411002505},{"$f":"INDEX('Weighted average price list'!F$5:F$237,$J35)","v":58.558438905279374},{"$f":"INDEX('Weighted average price list'!G$5:G$237,$J35)","v":60.241793906836598},null,{"$f":"MATCH(K35,'Weighted average price list'!$B$5:$B$237,0)","v":4},{"$f":"'Detailed price list'!L35","v":"Legacy Luminaire - Major (Cat V) road"}]
[null,{"$f":"'Detailed price list'!B36","v":"SON4x250"},{"$f":"'Detailed price list'!C36","v":"Opex - Maintenance- Traditional Luminaire"},{"$f":"INDEX('Weighted average price list'!C$5:C$237,$J36)","v":53.785384027308034},{"$f":"INDEX('Weighted average price list'!D$5:D$237,$J36)","v":55.331530012509198},{"$f":"INDEX('Weighted average price list'!E$5:E$237,$J36)","v":56.922122411002505},{"$f":"INDEX('Weighted average price list'!F$5:F$237,$J36)","v":58.558438905279374},{"$f":"INDEX('Weighted average price list'!G$5:G$237,$J36)","v":60.241793906836598},null,{"$f":"MATCH(K36,'Weighted average price list'!$B$5:$B$237,0)","v":4},{"$f":"'Detailed price list'!L36","v":"Legacy Luminaire - Major (Cat V) road"}]
[null,{"$f":"'Detailed price list'!B37","v":"SON4x600"},{"$f":"'Detailed price list'!C37","v":"Opex - Maintenance- Traditional Luminaire"},{"$f":"INDEX('Weighted average price list'!C$5:C$237,$J37)","v":53.785384027308034},{"$f":"INDEX('Weighted average price list'!D$5:D$237,$J37)","v":55.331530012509198},{"$f":"INDEX('Weighted average price list'!E$5:E$237,$J37)","v":56.922122411002505},{"$f":"INDEX('Weighted average price list'!F$5:F$237,$J37)","v":58.558438905279374},{"$f":"INDEX('Weighted average price list'!G$5:G$237,$J37)","v":60.241793906836598},null,{"$f":"MATCH(K37,'Weighted average price list'!$B$5:$B$237,0)","v":4},{"$f":"'Detailed price list'!L37","v":"Legacy Luminaire - Major (Cat V) road"}]
[null,{"$f":"'Detailed price list'!B38","v":"TF1x20"},{"$f":"'Detailed price list'!C38","v":"Opex - Maintenance- Traditional Luminaire"},{"$f":"INDEX('Weighted average price list'!C$5:C$237,$J38)","v":33.631329748169293},{"$f":"INDEX('Weighted average price list'!D$5:D$237,$J38)","v":34.598115547090181},{"$f":"INDEX('Weighted average price list'!E$5:E$237,$J38)","v":35.592693133846822},{"$f":"INDEX('Weighted average price list'!F$5:F$237,$J38)","v":36.615861427364123},{"$f":"INDEX('Weighted average price list'!G$5:G$237,$J38)","v":37.668442312755914},null,{"$f":"MATCH(K38,'Weighted average price list'!$B$5:$B$237,0)","v":5},{"$f":"'Detailed price list'!L38","v":"Legacy Luminaire - Minor (Cat P) road"}]
[null,{"$f":"'Detailed price list'!B39","v":"TF1x40"},{"$f":"'Detailed price list'!C39","v":"Opex - Maintenance- Traditional Luminaire"},{"$f":"INDEX('Weighted average price list'!C$5:C$237,$J39)","v":33.631329748169293},{"$f":"INDEX('Weighted average price list'!D$5:D$237,$J39)","v":34.598115547090181},{"$f":"INDEX('Weighted average price list'!E$5:E$237,$J39)","v":35.592693133846822},{"$f":"INDEX('Weighted average price list'!F$5:F$237,$J39)","v":36.615861427364123},{"$f":"INDEX('Weighted average price list'!G$5:G$237,$J39)","v":37.668442312755914},null,{"$f":"MATCH(K39,'Weighted average price list'!$B$5:$B$237,0)","v":5},{"$f":"'Detailed price list'!L39","v":"Legacy Luminaire - Minor (Cat P) road"}]
[null,{"$f":"'Detailed price list'!B40","v":"TF1x80"},{"$f":"'Detailed price list'!C40","v":"Opex - Maintenance- Traditional Luminaire"},{"$f":"INDEX('Weighted average price list'!C$5:C$237,$J40)","v":33.631329748169293},{"$f":"INDEX('Weighted average price list'!D$5:D$237,$J40)","v":34.598115547090181},{"$f":"INDEX('Weighted average price list'!E$5:E$237,$J40)","v":35.592693133846822},{"$f":"INDEX('Weighted average price list'!F$5:F$237,$J40)","v":36.615861427364123},{"$f":"INDEX('Weighted average price list'!G$5:G$237,$J40)","v":37.668442312755914},null,{"$f":"MATCH(K40,'Weighted average price list'!$B$5:$B$237,0)","v":5},{"$f":"'Detailed price list'!L40","v":"Legacy Luminaire - Minor (Cat P) road"}]
[null,{"$f":"'Detailed price list'!B41","v":"TF2x14 T5"},{"$f":"'Detailed price list'!C41","v":"Opex - Maintenance- Traditional Luminaire"},{"$f":"INDEX('Weighted average price list'!C$5:C$237,$J41)","v":33.631329748169293},{"$f":"INDEX('Weighted average price list'!D$5:D$237,$J41)","v":34.598115547090181},{"$f":"INDEX('Weighted average price list'!E$5:E$237,$J41)","v":35.592693133846822},{"$f":"INDEX('Weighted average price list'!F$5:F$237,$J41)","v":36.615861427364123},{"$f":"INDEX('Weighted average price list'!G$5:G$237,$J41)","v":37.668442312755914},null,{"$f":"MATCH(K41,'Weighted average price list'!$B$5:$B$237,0)","v":5},{"$f":"'Detailed price list'!L41","v":"Legacy Luminaire - Minor (Cat P) road"}]
[null,{"$f":"'Detailed price list'!B42","v":"TF2x20"},{"$f":"'Detailed price list'!C42","v":"Opex - Maintenance- Traditional Luminaire"},{"$f":"INDEX('Weighted average price list'!C$5:C$237,$J42)","v":33.631329748169293},{"$f":"INDEX('Weighted average price list'!D$5:D$237,$J42)","v":34.598115547090181},{"$f":"INDEX('Weighted average price list'!E$5:E$237,$J42)","v":35.592693133846822},{"$f":"INDEX('Weighted average price list'!F$5:F$237,$J42)","v":36.615861427364123},{"$f":"INDEX('Weighted average price list'!G$5:G$237,$J42)","v":37.668442312755914},null,{"$f":"MATCH(K42,'Weighted average price list'!$B$5:$B$237,0)","v":5},{"$f":"'Detailed price list'!L42","v":"Legacy Luminaire - Minor (Cat P) road"}]
[null,{"$f":"'Detailed price list'!B43","v":"TF2x26"},{"$f":"'Detailed price list'!C43","v":"Opex - Maintenance- Traditional Luminaire"},{"$f":"INDEX('Weighted average price list'!C$5:C$237,$J43)","v":33.631329748169293},{"$f":"INDEX('Weighted average price list'!D$5:D$237,$J43)","v":34.598115547090181},{"$f":"INDEX('Weighted average price list'!E$5:E$237,$J43)","v":35.592693133846822},{"$f":"INDEX('Weighted average price list'!F$5:F$237,$J43)","v":36.615861427364123},{"$f":"INDEX('Weighted average price list'!G$5:G$237,$J43)","v":37.668442312755914},null,{"$f":"MATCH(K43,'Weighted average price list'!$B$5:$B$237,0)","v":5},{"$f":"'Detailed price list'!L43","v":"Legacy Luminaire - Minor (Cat P) road"}]
[null,{"$f":"'Detailed price list'!B44","v":"TF2x40"},{"$f":"'Detailed price list'!C44","v":"Opex - Maintenance- Traditional Luminaire"},{"$f":"INDEX('Weighted average price list'!C$5:C$237,$J44)","v":33.631329748169293},{"$f":"INDEX('Weighted average price list'!D$5:D$237,$J44)","v":34.598115547090181},{"$f":"INDEX('Weighted average price list'!E$5:E$237,$J44)","v":35.592693133846822},{"$f":"INDEX('Weighted average price list'!F$5:F$237,$J44)","v":36.615861427364123},{"$f":"INDEX('Weighted average price list'!G$5:G$237,$J44)","v":37.668442312755914},null,{"$f":"MATCH(K44,'Weighted average price list'!$B$5:$B$237,0)","v":5},{"$f":"'Detailed price list'!L44","v":"Legacy Luminaire - Minor (Cat P) road"}]
[null,{"$f":"'Detailed price list'!B45","v":"TF4x20"},{"$f":"'Detailed price list'!C45","v":"Opex - Maintenance- Traditional Luminaire"},{"$f":"INDEX('Weighted average price list'!C$5:C$237,$J45)","v":33.631329748169293},{"$f":"INDEX('Weighted average price list'!D$5:D$237,$J45)","v":34.598115547090181},{"$f":"INDEX('Weighted average price list'!E$5:E$237,$J45)","v":35.592693133846822},{"$f":"INDEX('Weighted average price list'!F$5:F$237,$J45)","v":36.615861427364123},{"$f":"INDEX('Weighted average price list'!G$5:G$237,$J45)","v":37.668442312755914},null,{"$f":"MATCH(K45,'Weighted average price list'!$B$5:$B$237,0)","v":5},{"$f":"'Detailed price list'!L45","v":"Legacy Luminaire - Minor (Cat P) road"}]
[null,{"$f":"'Detailed price list'!B46","v":"TF4x40"},{"$f":"'Detailed price list'!C46","v":"Opex - Maintenance- Traditional Luminaire"},{"$f":"INDEX('Weighted average price list'!C$5:C$237,$J46)","v":33.631329748169293},{"$f":"INDEX('Weighted average price list'!D$5:D$237,$J46)","v":34.598115547090181},{"$f":"INDEX('Weighted average price list'!E$5:E$237,$J46)","v":35.592693133846822},{"$f":"INDEX('Weighted average price list'!F$5:F$237,$J46)","v":36.615861427364123},{"$f":"INDEX('Weighted average price list'!G$5:G$237,$J46)","v":37.668442312755914},null,{"$f":"MATCH(K46,'Weighted average price list'!$B$5:$B$237,0)","v":5},{"$f":"'Detailed price list'!L46","v":"Legacy Luminaire - Minor (Cat P) road"}]
[null,{"$f":"'Detailed price list'!B47","v":"LED TRIAL"},{"$f":"'Detailed price list'!C47","v":"Opex - Maintenance- LED Luminaire"},{"$f":"INDEX('Weighted average price list'!C$5:C$237,$J47)","v":23.443335396588658},{"$f":"INDEX('Weighted average price list'!D$5:D$237,$J47)","v":24.117251174242242},{"$f":"INDEX('Weighted average price list'!E$5:E$237,$J47)","v":24.810539727470935},{"$f":"INDEX('Weighted average price list'!F$5:F$237,$J47)","v":25.523757957368232},{"$f":"INDEX('Weighted average price list'!G$5:G$237,$J47)","v":26.257478774030893},null,{"$f":"MATCH(K47,'Weighted average price list'!$B$5:$B$237,0)","v":43},{"$f":"'Detailed price list'!L47","v":"Luminaire - Minor (Cat P) road"}]
[null,{"$f":"'Detailed price list'!B48","v":"LED1x100"},{"$f":"'Detailed price list'!C48","v":"Opex - Maintenance- LED Luminaire"},{"$f":"INDEX('Weighted average price list'!C$5:C$237,$J48)","v":31.940827448003311},{"$f":"INDEX('Weighted average price list'!D$5:D$237,$J48)","v":32.859017082898532},{"$f":"INDEX('Weighted average price list'!E$5:E$237,$J48)","v":33.803601531985763},{"$f":"INDEX('Weighted average price list'!F$5:F$237,$J48)","v":34.775339555971669},{"$f":"INDEX('Weighted average price list'!G$5:G$237,$J48)","v":35.775011727340264},null,{"$f":"MATCH(K48,'Weighted average price list'!$B$5:$B$237,0)","v":44},{"$f":"'Detailed price list'!L48","v":"Luminaire - Major (Cat V) road"}]
[null,{"$f":"'Detailed price list'!B49","v":"LED1x17"},{"$f":"'Detailed price list'!C49","v":"Opex - Maintenance- LED Luminaire"},{"$f":"INDEX('Weighted average price list'!C$5:C$237,$J49)","v":23.443335396588658},{"$f":"INDEX('Weighted average price list'!D$5:D$237,$J49)","v":24.117251174242242},{"$f":"INDEX('Weighted average price list'!E$5:E$237,$J49)","v":24.810539727470935},{"$f":"INDEX('Weighted average price list'!F$5:F$237,$J49)","v":25.523757957368232},{"$f":"INDEX('Weighted average price list'!G$5:G$237,$J49)","v":26.257478774030893},null,{"$f":"MATCH(K49,'Weighted average price list'!$B$5:$B$237,0)","v":43},{"$f":"'Detailed price list'!L49","v":"Luminaire - Minor (Cat P) road"}]
[null,{"$f":"'Detailed price list'!B50","v":"LED1x200"},{"$f":"'Detailed price list'!C50","v":"Opex - Maintenance- LED Luminaire"},{"$f":"INDEX('Weighted average price list'!C$5:C$237,$J50)","v":31.940827448003311},{"$f":"INDEX('Weighted average price list'!D$5:D$237,$J50)","v":32.859017082898532},{"$f":"INDEX('Weighted average price list'!E$5:E$237,$J50)","v":33.803601531985763},{"$f":"INDEX('Weighted average price list'!F$5:F$237,$J50)","v":34.775339555971669},{"$f":"INDEX('Weighted average price list'!G$5:G$237,$J50)","v":35.775011727340264},null,{"$f":"MATCH(K50,'Weighted average price list'!$B$5:$B$237,0)","v":44},{"$f":"'Detailed price list'!L50","v":"Luminaire - Major (Cat V) road"}]
[null,{"$f":"'Detailed price list'!B51","v":"LED1x22"},{"$f":"'Detailed price list'!C51","v":"Opex - Maintenance- LED Luminaire"},{"$f":"INDEX('Weighted average price list'!C$5:C$237,$J51)","v":23.443335396588658},{"$f":"INDEX('Weighted average price list'!D$5:D$237,$J51)","v":24.117251174242242},{"$f":"INDEX('Weighted average price list'!E$5:E$237,$J51)","v":24.810539727470935},{"$f":"INDEX('Weighted average price list'!F$5:F$237,$J51)","v":25.523757957368232},{"$f":"INDEX('Weighted average price list'!G$5:G$237,$J51)","v":26.257478774030893},null,{"$f":"MATCH(K51,'Weighted average price list'!$B$5:$B$237,0)","v":43},{"$f":"'Detailed price list'!L51","v":"Luminaire - Minor (Cat P) road"}]
[null,{"$f":"'Detailed price list'!B52","v":"LED1x25 GE"},{"$f":"'Detailed price list'!C52","v":"Opex - Maintenance- LED Luminaire"},{"$f":"INDEX('Weighted average price list'!C$5:C$237,$J52)","v":23.443335396588658},{"$f":"INDEX('Weighted average price list'!D$5:D$237,$J52)","v":24.117251174242242},{"$f":"INDEX('Weighted average price list'!E$5:E$237,$J52)","v":24.810539727470935},{"$f":"INDEX('Weighted average price list'!F$5:F$237,$J52)","v":25.523757957368232},{"$f":"INDEX('Weighted average price list'!G$5:G$237,$J52)","v":26.257478774030893},null,{"$f":"MATCH(K52,'Weighted average price list'!$B$5:$B$237,0)","v":43},{"$f":"'Detailed price list'!L52","v":"Luminaire - Minor (Cat P) road"}]
[null,{"$f":"'Detailed price list'!B53","v":"LED1x28"},{"$f":"'Detailed price list'!C53","v":"Opex - Maintenance- LED Luminaire"},{"$f":"INDEX('Weighted average price list'!C$5:C$237,$J53)","v":23.443335396588658},{"$f":"INDEX('Weighted average price list'!D$5:D$237,$J53)","v":24.117251174242242},{"$f":"INDEX('Weighted average price list'!E$5:E$237,$J53)","v":24.810539727470935},{"$f":"INDEX('Weighted average price list'!F$5:F$237,$J53)","v":25.523757957368232},{"$f":"INDEX('Weighted average price list'!G$5:G$237,$J53)","v":26.257478774030893},null,{"$f":"MATCH(K53,'Weighted average price list'!$B$5:$B$237,0)","v":43},{"$f":"'Detailed price list'!L53","v":"Luminaire - Minor (Cat P) road"}]
[null,{"$f":"'Detailed price list'!B54","v":"LED1x29"},{"$f":"'Detailed price list'!C54","v":"Opex - Maintenance- LED Luminaire"},{"$f":"INDEX('Weighted average price list'!C$5:C$237,$J54)","v":23.443335396588658},{"$f":"INDEX('Weighted average price list'!D$5:D$237,$J54)","v":24.117251174242242},{"$f":"INDEX('Weighted average price list'!E$5:E$237,$J54)","v":24.810539727470935},{"$f":"INDEX('Weighted average price list'!F$5:F$237,$J54)","v":25.523757957368232},{"$f":"INDEX('Weighted average price list'!G$5:G$237,$J54)","v":26.257478774030893},null,{"$f":"MATCH(K54,'Weighted average price list'!$B$5:$B$237,0)","v":43},{"$f":"'Detailed price list'!L54","v":"Luminaire - Minor (Cat P) road"}]
[null,{"$f":"'Detailed price list'!B55","v":"LED1x298"},{"$f":"'Detailed price list'!C55","v":"Opex - Maintenance- LED Luminaire"},{"$f":"INDEX('Weighted average price list'!C$5:C$237,$J55)","v":31.940827448003311},{"$f":"INDEX('Weighted average price list'!D$5:D$237,$J55)","v":32.859017082898532},{"$f":"INDEX('Weighted average price list'!E$5:E$237,$J55)","v":33.803601531985763},{"$f":"INDEX('Weighted average price list'!F$5:F$237,$J55)","v":34.775339555971669},{"$f":"INDEX('Weighted average price list'!G$5:G$237,$J55)","v":35.775011727340264},null,{"$f":"MATCH(K55,'Weighted average price list'!$B$5:$B$237,0)","v":44},{"$f":"'Detailed price list'!L55","v":"Luminaire - Major (Cat V) road"}]
[null,{"$f":"'Detailed price list'!B56","v":"LED1x33"},{"$f":"'Detailed price list'!C56","v":"Opex - Maintenance- LED Luminaire"},{"$f":"INDEX('Weighted average price list'!C$5:C$237,$J56)","v":23.443335396588658},{"$f":"INDEX('Weighted average price list'!D$5:D$237,$J56)","v":24.117251174242242},{"$f":"INDEX('Weighted average price list'!E$5:E$237,$J56)","v":24.810539727470935},{"$f":"INDEX('Weighted average price list'!F$5:F$237,$J56)","v":25.523757957368232},{"$f":"INDEX('Weighted average price list'!G$5:G$237,$J56)","v":26.257478774030893},null,{"$f":"MATCH(K56,'Weighted average price list'!$B$5:$B$237,0)","v":43},{"$f":"'Detailed price list'!L56","v":"Luminaire - Minor (Cat P) road"}]
[null,{"$f":"'Detailed price list'!B57","v":"LED1x42"},{"$f":"'Detailed price list'!C57","v":"Opex - Maintenance- LED Luminaire"},{"$f":"INDEX('Weighted average price list'!C$5:C$237,$J57)","v":23.443335396588658},{"$f":"INDEX('Weighted average price list'!D$5:D$237,$J57)","v":24.117251174242242},{"$f":"INDEX('Weighted average price list'!E$5:E$237,$J57)","v":24.810539727470935},{"$f":"INDEX('Weighted average price list'!F$5:F$237,$J57)","v":25.523757957368232},{"$f":"INDEX('Weighted average price list'!G$5:G$237,$J57)","v":26.257478774030893},null,{"$f":"MATCH(K57,'Weighted average price list'!$B$5:$B$237,0)","v":43},{"$f":"'Detailed price list'!L57","v":"Luminaire - Minor (Cat P) road"}]
[null,{"$f":"'Detailed price list'!B58","v":"Smart Controller (Licence and maintenance fee)"},{"$f":"'Detailed price list'!C58","v":"Opex - Maintenance- Smart controller"},{"$f":"INDEX('Weighted average price list'!C$5:C$237,$J58)","v":5.9196192287323921},{"$f":"INDEX('Weighted average price list'!D$5:D$237,$J58)","v":6.0897880519163481},{"$f":"INDEX('Weighted average price list'!E$5:E$237,$J58)","v":6.264848647233765},{"$f":"INDEX('Weighted average price list'!F$5:F$237,$J58)","v":6.4449416364163916},{"$f":"INDEX('Weighted average price list'!G$5:G$237,$J58)","v":6.6302116835902041},null,{"$f":"MATCH(K58,'Weighted average price list'!$B$5:$B$237,0)","v":54},{"$f":"'Detailed price list'!L58","v":"Smart Controller - Licence and maintenance fee"}]
[null,{"$f":"'Detailed price list'!B59","v":"Luminaire - Decorative "},{"$f":"'Detailed price list'!C59","v":"Opex - Maintenance- LED Luminaire"},{"$f":"INDEX('Weighted average price list'!C$5:C$237,$J59)","v":0},{"$f":"INDEX('Weighted average price list'!D$5:D$237,$J59)","v":0},{"$f":"INDEX('Weighted average price list'!E$5:E$237,$J59)","v":0},{"$f":"INDEX('Weighted average price list'!F$5:F$237,$J59)","v":0},{"$f":"INDEX('Weighted average price list'!G$5:G$237,$J59)","v":0},null,{"$f":"MATCH(K59,'Weighted average price list'!$B$5:$B$237,0)","v":55},{"$f":"'Detailed price list'!L59","v":"Luminaire - Decorative "}]
[null,{"$f":"'Detailed price list'!B60","v":"Luminaire - Floodlight"},{"$f":"'Detailed price list'!C60","v":"Opex - Maintenance- LED Luminaire"},{"$f":"INDEX('Weighted average price list'!C$5:C$237,$J60)","v":0},{"$f":"INDEX('Weighted average price list'!D$5:D$237,$J60)","v":0},{"$f":"INDEX('Weighted average price list'!E$5:E$237,$J60)","v":0},{"$f":"INDEX('Weighted average price list'!F$5:F$237,$J60)","v":0},{"$f":"INDEX('Weighted average price list'!G$5:G$237,$J60)","v":0},null,{"$f":"MATCH(K60,'Weighted average price list'!$B$5:$B$237,0)","v":56},{"$f":"'Detailed price list'!L60","v":"Luminaire - Floodlight"}]
[null,{"$f":"'Detailed price list'!B61","v":"Luminaire - Major (Cat V) road - smart controller installed"},{"$f":"'Detailed price list'!C61","v":"Opex - Maintenance- LED Luminaire"},{"$f":"INDEX('Weighted average price list'!C$5:C$237,$J61)","v":22.618269402628378},{"$f":"INDEX('Weighted average price list'!D$5:D$237,$J61)","v":23.268467352527118},{"$f":"INDEX('Weighted average price list'!E$5:E$237,$J61)","v":23.937356271506072},{"$f":"INDEX('Weighted average price list'!F$5:F$237,$J61)","v":24.625473461051985},{"$f":"INDEX('Weighted average price list'!G$5:G$237,$J61)","v":25.333371668233177},null,{"$f":"MATCH(K61,'Weighted average price list'!$B$5:$B$237,0)","v":57},{"$f":"'Detailed price list'!L61","v":"Luminaire - Major (Cat V) road - smart controller installed"}]
[null,{"$f":"'Detailed price list'!B62","v":"Luminaire - Minor (Cat P) road - smart controller installed"},{"$f":"'Detailed price list'!C62","v":"Opex - Maintenance- LED Luminaire"},{"$f":"INDEX('Weighted average price list'!C$5:C$237,$J62)","v":18.12991292364439},{"$f":"INDEX('Weighted average price list'!D$5:D$237,$J62)","v":18.651085963232749},{"$f":"INDEX('Weighted average price list'!E$5:E$237,$J62)","v":19.187240946658221},{"$f":"INDEX('Weighted average price list'!F$5:F$237,$J62)","v":19.738808553606994},{"$f":"INDEX('Weighted average price list'!G$5:G$237,$J62)","v":20.30623184433442},null,{"$f":"MATCH(K62,'Weighted average price list'!$B$5:$B$237,0)","v":58},{"$f":"'Detailed price list'!L62","v":"Luminaire - Minor (Cat P) road - smart controller installed"}]
[null,{"$f":"'Detailed price list'!B63","v":"Luminaire - Floodlight - smart controller installed"},{"$f":"'Detailed price list'!C63","v":"Opex - Maintenance- LED Luminaire"},{"$f":"INDEX('Weighted average price list'!C$5:C$237,$J63)","v":0},{"$f":"INDEX('Weighted average price list'!D$5:D$237,$J63)","v":0},{"$f":"INDEX('Weighted average price list'!E$5:E$237,$J63)","v":0},{"$f":"INDEX('Weighted average price list'!F$5:F$237,$J63)","v":0},{"$f":"INDEX('Weighted average price list'!G$5:G$237,$J63)","v":0},null,{"$f":"MATCH(K63,'Weighted average price list'!$B$5:$B$237,0)","v":59},{"$f":"'Detailed price list'!L63","v":"Luminaire - Floodlight - smart controller installed"}]
[null,{"$f":"'Detailed price list'!B64","v":"Luminaire - Decorative - smart controller installed"},{"$f":"'Detailed price list'!C64","v":"Opex - Maintenance- LED Luminaire"},{"$f":"INDEX('Weighted average price list'!C$5:C$237,$J64)","v":0},{"$f":"INDEX('Weighted average price list'!D$5:D$237,$J64)","v":0},{"$f":"INDEX('Weighted average price list'!E$5:E$237,$J64)","v":0},{"$f":"INDEX('Weighted average price list'!F$5:F$237,$J64)","v":0},{"$f":"INDEX('Weighted average price list'!G$5:G$237,$J64)","v":0},null,{"$f":"MATCH(K64,'Weighted average price list'!$B$5:$B$237,0)","v":60},{"$f":"'Detailed price list'!L64","v":"Luminaire - Decorative - smart controller installed"}]
[null,{"$f":"'Detailed price list'!B65","v":"0.5"},{"$f":"'Detailed price list'!C65","v":"Capital - Bracket"},{"$f":"INDEX('Weighted average price list'!C$5:C$237,$J65)","v":7.7936859900305269},{"$f":"INDEX('Weighted average price list'!D$5:D$237,$J65)","v":8.017727828186521},{"$f":"INDEX('Weighted average price list'!E$5:E$237,$J65)","v":8.2482101035513704},{"$f":"INDEX('Weighted average price list'!F$5:F$237,$J65)","v":8.4853179566853498},{"$f":"INDEX('Weighted average price list'!G$5:G$237,$J65)","v":8.7292418503071421},null,{"$f":"MATCH(K65,'Weighted average price list'!$B$5:$B$237,0)","v":61},{"$f":"'Detailed price list'!L65","v":"Legacy Bracket - Minor (Cat P) road - Short"}]
[null,{"$f":"'Detailed price list'!B66","v":"0.6"},{"$f":"'Detailed price list'!C66","v":"Capital - Bracket"},{"$f":"INDEX('Weighted average price list'!C$5:C$237,$J66)","v":7.7936859900305269},{"$f":"INDEX('Weighted average price list'!D$5:D$237,$J66)","v":8.017727828186521},{"$f":"INDEX('Weighted average price list'!E$5:E$237,$J66)","v":8.2482101035513704},{"$f":"INDEX('Weighted average price list'!F$5:F$237,$J66)","v":8.4853179566853498},{"$f":"INDEX('Weighted average price list'!G$5:G$237,$J66)","v":8.7292418503071421},null,{"$f":"MATCH(K66,'Weighted average price list'!$B$5:$B$237,0)","v":61},{"$f":"'Detailed price list'!L66","v":"Legacy Bracket - Minor (Cat P) road - Short"}]
[null,{"$f":"'Detailed price list'!B67","v":"1.0"},{"$f":"'Detailed price list'!C67","v":"Capital - Bracket"},{"$f":"INDEX('Weighted average price list'!C$5:C$237,$J67)","v":7.7936859900305269},{"$f":"INDEX('Weighted average price list'!D$5:D$237,$J67)","v":8.017727828186521},{"$f":"INDEX('Weighted average price list'!E$5:E$237,$J67)","v":8.2482101035513704},{"$f":"INDEX('Weighted average price list'!F$5:F$237,$J67)","v":8.4853179566853498},{"$f":"INDEX('Weighted average price list'!G$5:G$237,$J67)","v":8.7292418503071421},null,{"$f":"MATCH(K67,'Weighted average price list'!$B$5:$B$237,0)","v":61},{"$f":"'Detailed price list'!L67","v":"Legacy Bracket - Minor (Cat P) road - Short"}]
[null,{"$f":"'Detailed price list'!B68","v":"1.2"},{"$f":"'Detailed price list'!C68","v":"Capital - Bracket"},{"$f":"INDEX('Weighted average price list'!C$5:C$237,$J68)","v":7.7936859900305269},{"$f":"INDEX('Weighted average price list'!D$5:D$237,$J68)","v":8.017727828186521},{"$f":"INDEX('Weighted average price list'!E$5:E$237,$J68)","v":8.2482101035513704},{"$f":"INDEX('Weighted average price list'!F$5:F$237,$J68)","v":8.4853179566853498},{"$f":"INDEX('Weighted average price list'!G$5:G$237,$J68)","v":8.7292418503071421},null,{"$f":"MATCH(K68,'Weighted average price list'!$B$5:$B$237,0)","v":61},{"$f":"'Detailed price list'!L68","v":"Legacy Bracket - Minor (Cat P) road - Short"}]
[null,{"$f":"'Detailed price list'!B69","v":"1.5"},{"$f":"'Detailed price list'!C69","v":"Capital - Bracket"},{"$f":"INDEX('Weighted average price list'!C$5:C$237,$J69)","v":7.7936859900305269},{"$f":"INDEX('Weighted average price list'!D$5:D$237,$J69)","v":8.017727828186521},{"$f":"INDEX('Weighted average price list'!E$5:E$237,$J69)","v":8.2482101035513704},{"$f":"INDEX('Weighted average price list'!F$5:F$237,$J69)","v":8.4853179566853498},{"$f":"INDEX('Weighted average price list'!G$5:G$237,$J69)","v":8.7292418503071421},null,{"$f":"MATCH(K69,'Weighted average price list'!$B$5:$B$237,0)","v":61},{"$f":"'Detailed price list'!L69","v":"Legacy Bracket - Minor (Cat P) road - Short"}]
[null,{"$f":"'Detailed price list'!B70","v":"2.0"},{"$f":"'Detailed price list'!C70","v":"Capital - Bracket"},{"$f":"INDEX('Weighted average price list'!C$5:C$237,$J70)","v":7.7936859900305269},{"$f":"INDEX('Weighted average price list'!D$5:D$237,$J70)","v":8.017727828186521},{"$f":"INDEX('Weighted average price list'!E$5:E$237,$J70)","v":8.2482101035513704},{"$f":"INDEX('Weighted average price list'!F$5:F$237,$J70)","v":8.4853179566853498},{"$f":"INDEX('Weighted average price list'!G$5:G$237,$J70)","v":8.7292418503071421},null,{"$f":"MATCH(K70,'Weighted average price list'!$B$5:$B$237,0)","v":61},{"$f":"'Detailed price list'!L70","v":"Legacy Bracket - Minor (Cat P) road - Short"}]
[null,{"$f":"'Detailed price list'!B71","v":"2.5"},{"$f":"'Detailed price list'!C71","v":"Capital - Bracket"},{"$f":"INDEX('Weighted average price list'!C$5:C$237,$J71)","v":7.7936859900305269},{"$f":"INDEX('Weighted average price list'!D$5:D$237,$J71)","v":8.017727828186521},{"$f":"INDEX('Weighted average price list'!E$5:E$237,$J71)","v":8.2482101035513704},{"$f":"INDEX('Weighted average price list'!F$5:F$237,$J71)","v":8.4853179566853498},{"$f":"INDEX('Weighted average price list'!G$5:G$237,$J71)","v":8.7292418503071421},null,{"$f":"MATCH(K71,'Weighted average price list'!$B$5:$B$237,0)","v":61},{"$f":"'Detailed price list'!L71","v":"Legacy Bracket - Minor (Cat P) road - Short"}]
[null,{"$f":"'Detailed price list'!B72","v":"3.0"},{"$f":"'Detailed price list'!C72","v":"Capital - Bracket"},{"$f":"INDEX('Weighted average price list'!C$5:C$237,$J72)","v":7.7936859900305269},{"$f":"INDEX('Weighted average price list'!D$5:D$237,$J72)","v":8.017727828186521},{"$f":"INDEX('Weighted average price list'!E$5:E$237,$J72)","v":8.2482101035513704},{"$f":"INDEX('Weighted average price list'!F$5:F$237,$J72)","v":8.4853179566853498},{"$f":"INDEX('Weighted average price list'!G$5:G$237,$J72)","v":8.7292418503071421},null,{"$f":"MATCH(K72,'Weighted average price list'!$B$5:$B$237,0)","v":61},{"$f":"'Detailed price list'!L72","v":"Legacy Bracket - Minor (Cat P) road - Short"}]
[null,{"$f":"'Detailed price list'!B73","v":"3.5"},{"$f":"'Detailed price list'!C73","v":"Capital - Bracket"},{"$f":"INDEX('Weighted average price list'!C$5:C$237,$J73)","v":14.262392425597554},{"$f":"INDEX('Weighted average price list'!D$5:D$237,$J73)","v":14.672387467689376},{"$f":"INDEX('Weighted average price list'!E$5:E$237,$J73)","v":15.094168466128762},{"$f":"INDEX('Weighted average price list'!F$5:F$237,$J73)","v":15.528074226883501},{"$f":"INDEX('Weighted average price list'!G$5:G$237,$J73)","v":15.974453295435129},null,{"$f":"MATCH(K73,'Weighted average price list'!$B$5:$B$237,0)","v":69},{"$f":"'Detailed price list'!L73","v":"Legacy Bracket - Minor (Cat P) road - Medium"}]
[null,{"$f":"'Detailed price list'!B74","v":"4.0"},{"$f":"'Detailed price list'!C74","v":"Capital - Bracket"},{"$f":"INDEX('Weighted average price list'!C$5:C$237,$J74)","v":14.262392425597554},{"$f":"INDEX('Weighted average price list'!D$5:D$237,$J74)","v":14.672387467689376},{"$f":"INDEX('Weighted average price list'!E$5:E$237,$J74)","v":15.094168466128762},{"$f":"INDEX('Weighted average price list'!F$5:F$237,$J74)","v":15.528074226883501},{"$f":"INDEX('Weighted average price list'!G$5:G$237,$J74)","v":15.974453295435129},null,{"$f":"MATCH(K74,'Weighted average price list'!$B$5:$B$237,0)","v":69},{"$f":"'Detailed price list'!L74","v":"Legacy Bracket - Minor (Cat P) road - Medium"}]
[null,{"$f":"'Detailed price list'!B75","v":"4.5"},{"$f":"'Detailed price list'!C75","v":"Capital - Bracket"},{"$f":"INDEX('Weighted average price list'!C$5:C$237,$J75)","v":14.262392425597554},{"$f":"INDEX('Weighted average price list'!D$5:D$237,$J75)","v":14.672387467689376},{"$f":"INDEX('Weighted average price list'!E$5:E$237,$J75)","v":15.094168466128762},{"$f":"INDEX('Weighted average price list'!F$5:F$237,$J75)","v":15.528074226883501},{"$f":"INDEX('Weighted average price list'!G$5:G$237,$J75)","v":15.974453295435129},null,{"$f":"MATCH(K75,'Weighted average price list'!$B$5:$B$237,0)","v":69},{"$f":"'Detailed price list'!L75","v":"Legacy Bracket - Minor (Cat P) road - Medium"}]
[null,{"$f":"'Detailed price list'!B76","v":"5.0"},{"$f":"'Detailed price list'!C76","v":"Capital - Bracket"},{"$f":"INDEX('Weighted average price list'!C$5:C$237,$J76)","v":14.262392425597554},{"$f":"INDEX('Weighted average price list'!D$5:D$237,$J76)","v":14.672387467689376},{"$f":"INDEX('Weighted average price list'!E$5:E$237,$J76)","v":15.094168466128762},{"$f":"INDEX('Weighted average price list'!F$5:F$237,$J76)","v":15.528074226883501},{"$f":"INDEX('Weighted average price list'!G$5:G$237,$J76)","v":15.974453295435129},null,{"$f":"MATCH(K76,'Weighted average price list'!$B$5:$B$237,0)","v":69},{"$f":"'Detailed price list'!L76","v":"Legacy Bracket - Minor (Cat P) road - Medium"}]
[null,{"$f":"'Detailed price list'!B77","v":"6.0"},{"$f":"'Detailed price list'!C77","v":"Capital - Bracket"},{"$f":"INDEX('Weighted average price list'!C$5:C$237,$J77)","v":22.519580378646182},{"$f":"INDEX('Weighted average price list'!D$5:D$237,$J77)","v":23.166941356364223},{"$f":"INDEX('Weighted average price list'!E$5:E$237,$J77)","v":23.832911749907328},{"$f":"INDEX('Weighted average price list'!F$5:F$237,$J77)","v":24.518026516384847},{"$f":"INDEX('Weighted average price list'!G$5:G$237,$J77)","v":25.222835991094872},null,{"$f":"MATCH(K77,'Weighted average price list'!$B$5:$B$237,0)","v":73},{"$f":"'Detailed price list'!L77","v":"Legacy Bracket - Minor (Cat P) road - Long"}]
[null,{"$f":"'Detailed price list'!B78","v":"6.5"},{"$f":"'Detailed price list'!C78","v":"Capital - Bracket"},{"$f":"INDEX('Weighted average price list'!C$5:C$237,$J78)","v":22.519580378646182},{"$f":"INDEX('Weighted average price list'!D$5:D$237,$J78)","v":23.166941356364223},{"$f":"INDEX('Weighted average price list'!E$5:E$237,$J78)","v":23.832911749907328},{"$f":"INDEX('Weighted average price list'!F$5:F$237,$J78)","v":24.518026516384847},{"$f":"INDEX('Weighted average price list'!G$5:G$237,$J78)","v":25.222835991094872},null,{"$f":"MATCH(K78,'Weighted average price list'!$B$5:$B$237,0)","v":73},{"$f":"'Detailed price list'!L78","v":"Legacy Bracket - Minor (Cat P) road - Long"}]
[null,{"$f":"'Detailed price list'!B79","v":"7.0"},{"$f":"'Detailed price list'!C79","v":"Capital - Bracket"},{"$f":"INDEX('Weighted average price list'!C$5:C$237,$J79)","v":22.519580378646182},{"$f":"INDEX('Weighted average price list'!D$5:D$237,$J79)","v":23.166941356364223},{"$f":"INDEX('Weighted average price list'!E$5:E$237,$J79)","v":23.832911749907328},{"$f":"INDEX('Weighted average price list'!F$5:F$237,$J79)","v":24.518026516384847},{"$f":"INDEX('Weighted average price list'!G$5:G$237,$J79)","v":25.222835991094872},null,{"$f":"MATCH(K79,'Weighted average price list'!$B$5:$B$237,0)","v":73},{"$f":"'Detailed price list'!L79","v":"Legacy Bracket - Minor (Cat P) road - Long"}]
[null,{"$f":"'Detailed price list'!B80","v":"8.0"},{"$f":"'Detailed price list'!C80","v":"Capital - Bracket"},{"$f":"INDEX('Weighted average price list'!C$5:C$237,$J80)","v":22.519580378646182},{"$f":"INDEX('Weighted average price list'!D$5:D$237,$J80)","v":23.166941356364223},{"$f":"INDEX('Weighted average price list'!E$5:E$237,$J80)","v":23.832911749907328},{"$f":"INDEX('Weighted average price list'!F$5:F$237,$J80)","v":24.518026516384847},{"$f":"INDEX('Weighted average price list'!G$5:G$237,$J80)","v":25.222835991094872},null,{"$f":"MATCH(K80,'Weighted average price list'!$B$5:$B$237,0)","v":73},{"$f":"'Detailed price list'!L80","v":"Legacy Bracket - Minor (Cat P) road - Long"}]
[null,{"$f":"'Detailed price list'!B81","v":"C4"},{"$f":"'Detailed price list'!C81","v":"Capital - Bracket"},{"$f":"INDEX('Weighted average price list'!C$5:C$237,$J81)","v":11.555620567768104},{"$f":"INDEX('Weighted average price list'!D$5:D$237,$J81)","v":11.887805169039918},{"$f":"INDEX('Weighted average price list'!E$5:E$237,$J81)","v":12.229538942394266},{"$f":"INDEX('Weighted average price list'!F$5:F$237,$J81)","v":12.581096393895287},{"$f":"INDEX('Weighted average price list'!G$5:G$237,$J81)","v":12.942759920718364},null,{"$f":"MATCH(K81,'Weighted average price list'!$B$5:$B$237,0)","v":77},{"$f":"'Detailed price list'!L81","v":"Legacy Bracket - Major (Cat V) road - Short"}]
[null,{"$f":"'Detailed price list'!B82","v":"T1"},{"$f":"'Detailed price list'!C82","v":"Capital - Bracket"},{"$f":"INDEX('Weighted average price list'!C$5:C$237,$J82)","v":11.555620567768104},{"$f":"INDEX('Weighted average price list'!D$5:D$237,$J82)","v":11.887805169039918},{"$f":"INDEX('Weighted average price list'!E$5:E$237,$J82)","v":12.229538942394266},{"$f":"INDEX('Weighted average price list'!F$5:F$237,$J82)","v":12.581096393895287},{"$f":"INDEX('Weighted average price list'!G$5:G$237,$J82)","v":12.942759920718364},null,{"$f":"MATCH(K82,'Weighted average price list'!$B$5:$B$237,0)","v":77},{"$f":"'Detailed price list'!L82","v":"Legacy Bracket - Major (Cat V) road - Short"}]
[null,{"$f":"'Detailed price list'!B83","v":"T2"},{"$f":"'Detailed price list'!C83","v":"Capital - Bracket"},{"$f":"INDEX('Weighted average price list'!C$5:C$237,$J83)","v":11.555620567768104},{"$f":"INDEX('Weighted average price list'!D$5:D$237,$J83)","v":11.887805169039918},{"$f":"INDEX('Weighted average price list'!E$5:E$237,$J83)","v":12.229538942394266},{"$f":"INDEX('Weighted average price list'!F$5:F$237,$J83)","v":12.581096393895287},{"$f":"INDEX('Weighted average price list'!G$5:G$237,$J83)","v":12.942759920718364},null,{"$f":"MATCH(K83,'Weighted average price list'!$B$5:$B$237,0)","v":77},{"$f":"'Detailed price list'!L83","v":"Legacy Bracket - Major (Cat V) road - Short"}]
[null,{"$f":"'Detailed price list'!B84","v":"T2A"},{"$f":"'Detailed price list'!C84","v":"Capital - Bracket"},{"$f":"INDEX('Weighted average price list'!C$5:C$237,$J84)","v":11.555620567768104},{"$f":"INDEX('Weighted average price list'!D$5:D$237,$J84)","v":11.887805169039918},{"$f":"INDEX('Weighted average price list'!E$5:E$237,$J84)","v":12.229538942394266},{"$f":"INDEX('Weighted average price list'!F$5:F$237,$J84)","v":12.581096393895287},{"$f":"INDEX('Weighted average price list'!G$5:G$237,$J84)","v":12.942759920718364},null,{"$f":"MATCH(K84,'Weighted average price list'!$B$5:$B$237,0)","v":77},{"$f":"'Detailed price list'!L84","v":"Legacy Bracket - Major (Cat V) road - Short"}]
[null,{"$f":"'Detailed price list'!B85","v":"T3"},{"$f":"'Detailed price list'!C85","v":"Capital - Bracket"},{"$f":"INDEX('Weighted average price list'!C$5:C$237,$J85)","v":22.188222093233506},{"$f":"INDEX('Weighted average price list'!D$5:D$237,$J85)","v":22.826057652626123},{"$f":"INDEX('Weighted average price list'!E$5:E$237,$J85)","v":23.482228804619002},{"$f":"INDEX('Weighted average price list'!F$5:F$237,$J85)","v":24.157262634839551},{"$f":"INDEX('Weighted average price list'!G$5:G$237,$J85)","v":24.851701380825695},null,{"$f":"MATCH(K85,'Weighted average price list'!$B$5:$B$237,0)","v":81},{"$f":"'Detailed price list'!L85","v":"Legacy Bracket - Major (Cat V) road - Medium"}]
[null,{"$f":"'Detailed price list'!B86","v":"T3A"},{"$f":"'Detailed price list'!C86","v":"Capital - Bracket"},{"$f":"INDEX('Weighted average price list'!C$5:C$237,$J86)","v":22.188222093233506},{"$f":"INDEX('Weighted average price list'!D$5:D$237,$J86)","v":22.826057652626123},{"$f":"INDEX('Weighted average price list'!E$5:E$237,$J86)","v":23.482228804619002},{"$f":"INDEX('Weighted average price list'!F$5:F$237,$J86)","v":24.157262634839551},{"$f":"INDEX('Weighted average price list'!G$5:G$237,$J86)","v":24.851701380825695},null,{"$f":"MATCH(K86,'Weighted average price list'!$B$5:$B$237,0)","v":81},{"$f":"'Detailed price list'!L86","v":"Legacy Bracket - Major (Cat V) road - Medium"}]
[null,{"$f":"'Detailed price list'!B87","v":"T4"},{"$f":"'Detailed price list'!C87","v":"Capital - Bracket"},{"$f":"INDEX('Weighted average price list'!C$5:C$237,$J87)","v":22.188222093233506},{"$f":"INDEX('Weighted average price list'!D$5:D$237,$J87)","v":22.826057652626123},{"$f":"INDEX('Weighted average price list'!E$5:E$237,$J87)","v":23.482228804619002},{"$f":"INDEX('Weighted average price list'!F$5:F$237,$J87)","v":24.157262634839551},{"$f":"INDEX('Weighted average price list'!G$5:G$237,$J87)","v":24.851701380825695},null,{"$f":"MATCH(K87,'Weighted average price list'!$B$5:$B$237,0)","v":81},{"$f":"'Detailed price list'!L87","v":"Legacy Bracket - Major (Cat V) road - Medium"}]
[null,{"$f":"'Detailed price list'!B88","v":"T5"},{"$f":"'Detailed price list'!C88","v":"Capital - Bracket"},{"$f":"INDEX('Weighted average price list'!C$5:C$237,$J88)","v":22.188222093233506},{"$f":"INDEX('Weighted average price list'!D$5:D$237,$J88)","v":22.826057652626123},{"$f":"INDEX('Weighted average price list'!E$5:E$237,$J88)","v":23.482228804619002},{"$f":"INDEX('Weighted average price list'!F$5:F$237,$J88)","v":24.157262634839551},{"$f":"INDEX('Weighted average price list'!G$5:G$237,$J88)","v":24.851701380825695},null,{"$f":"MATCH(K88,'Weighted average price list'!$B$5:$B$237,0)","v":81},{"$f":"'Detailed price list'!L88","v":"Legacy Bracket - Major (Cat V) road - Medium"}]
[null,{"$f":"'Detailed price list'!B89","v":"T6"},{"$f":"'Detailed price list'!C89","v":"Capital - Bracket"},{"$f":"INDEX('Weighted average price list'!C$5:C$237,$J89)","v":22.188222093233506},{"$f":"INDEX('Weighted average price list'!D$5:D$237,$J89)","v":22.826057652626123},{"$f":"INDEX('Weighted average price list'!E$5:E$237,$J89)","v":23.482228804619002},{"$f":"INDEX('Weighted average price list'!F$5:F$237,$J89)","v":24.157262634839551},{"$f":"INDEX('Weighted average price list'!G$5:G$237,$J89)","v":24.851701380825695},null,{"$f":"MATCH(K89,'Weighted average price list'!$B$5:$B$237,0)","v":81},{"$f":"'Detailed price list'!L89","v":"Legacy Bracket - Major (Cat V) road - Medium"}]
[null,{"$f":"'Detailed price list'!B90","v":"T7"},{"$f":"'Detailed price list'!C90","v":"Capital - Bracket"},{"$f":"INDEX('Weighted average price list'!C$5:C$237,$J90)","v":32.163744127380333},{"$f":"INDEX('Weighted average price list'!D$5:D$237,$J90)","v":33.088341855014619},{"$f":"INDEX('Weighted average price list'!E$5:E$237,$J90)","v":34.039518607608215},{"$f":"INDEX('Weighted average price list'!F$5:F$237,$J90)","v":35.018038441297833},{"$f":"INDEX('Weighted average price list'!G$5:G$237,$J90)","v":36.024687376223028},null,{"$f":"MATCH(K90,'Weighted average price list'!$B$5:$B$237,0)","v":86},{"$f":"'Detailed price list'!L90","v":"Legacy Bracket - Major (Cat V) road - Long"}]
[null,{"$f":"'Detailed price list'!B91","v":"Bracket - Minor Road (Cat P) - Short"},{"$f":"'Detailed price list'!C91","v":"Capital - Bracket"},{"$f":"INDEX('Weighted average price list'!C$5:C$237,$J91)","v":9.6494554566378081},{"$f":"INDEX('Weighted average price list'!D$5:D$237,$J91)","v":9.9268443250724552},{"$f":"INDEX('Weighted average price list'!E$5:E$237,$J91)","v":10.21220717552891},{"$f":"INDEX('Weighted average price list'!F$5:F$237,$J91)","v":10.505773232740099},{"$f":"INDEX('Weighted average price list'!G$5:G$237,$J91)","v":10.807778310866672},null,{"$f":"MATCH(K91,'Weighted average price list'!$B$5:$B$237,0)","v":87},{"$f":"'Detailed price list'!L91","v":"Bracket - Minor Road (Cat P) - Short"}]
[null,{"$f":"'Detailed price list'!B92","v":"Bracket - Minor Road (Cat P) - Medium"},{"$f":"'Detailed price list'!C92","v":"Capital - Bracket"},{"$f":"INDEX('Weighted average price list'!C$5:C$237,$J92)","v":0},{"$f":"INDEX('Weighted average price list'!D$5:D$237,$J92)","v":0},{"$f":"INDEX('Weighted average price list'!E$5:E$237,$J92)","v":0},{"$f":"INDEX('Weighted average price list'!F$5:F$237,$J92)","v":0},{"$f":"INDEX('Weighted average price list'!G$5:G$237,$J92)","v":0},null,{"$f":"MATCH(K92,'Weighted average price list'!$B$5:$B$237,0)","v":88},{"$f":"'Detailed price list'!L92","v":"Bracket - Minor Road (Cat P) - Medium"}]
[null,{"$f":"'Detailed price list'!B93","v":"Bracket - Major Road (Cat V) - Short"},{"$f":"'Detailed price list'!C93","v":"Capital - Bracket"},{"$f":"INDEX('Weighted average price list'!C$5:C$237,$J93)","v":12.520247031847971},{"$f":"INDEX('Weighted average price list'!D$5:D$237,$J93)","v":12.880161347458133},{"$f":"INDEX('Weighted average price list'!E$5:E$237,$J93)","v":13.250421969674838},{"$f":"INDEX('Weighted average price list'!F$5:F$237,$J93)","v":13.631326319455667},{"$f":"INDEX('Weighted average price list'!G$5:G$237,$J93)","v":14.023180367594332},null,{"$f":"MATCH(K93,'Weighted average price list'!$B$5:$B$237,0)","v":89},{"$f":"'Detailed price list'!L93","v":"Bracket - Major Road (Cat V) - Short"}]
[null,{"$f":"'Detailed price list'!B94","v":"Bracket - Major Road (Cat V) - Medium"},{"$f":"'Detailed price list'!C94","v":"Capital - Bracket"},{"$f":"INDEX('Weighted average price list'!C$5:C$237,$J94)","v":0},{"$f":"INDEX('Weighted average price list'!D$5:D$237,$J94)","v":0},{"$f":"INDEX('Weighted average price list'!E$5:E$237,$J94)","v":0},{"$f":"INDEX('Weighted average price list'!F$5:F$237,$J94)","v":0},{"$f":"INDEX('Weighted average price list'!G$5:G$237,$J94)","v":0},null,{"$f":"MATCH(K94,'Weighted average price list'!$B$5:$B$237,0)","v":90},{"$f":"'Detailed price list'!L94","v":"Bracket - Major Road (Cat V) - Medium"}]
[null,{"$f":"'Detailed price list'!B95","v":"Bracket - Major Road (Cat V) - Long"},{"$f":"'Detailed price list'!C95","v":"Capital - Bracket"},{"$f":"INDEX('Weighted average price list'!C$5:C$237,$J95)","v":0},{"$f":"INDEX('Weighted average price list'!D$5:D$237,$J95)","v":0},{"$f":"INDEX('Weighted average price list'!E$5:E$237,$J95)","v":0},{"$f":"INDEX('Weighted average price list'!F$5:F$237,$J95)","v":0},{"$f":"INDEX('Weighted average price list'!G$5:G$237,$J95)","v":0},null,{"$f":"MATCH(K95,'Weighted average price list'!$B$5:$B$237,0)","v":91},{"$f":"'Detailed price list'!L95","v":"Bracket - Major Road (Cat V) - Long"}]
[null,{"$f":"'Detailed price list'!B96","v":"1000W SON"},{"$f":"'Detailed price list'!C96","v":"Capital - Traditional Luminaire"},{"$f":"INDEX('Weighted average price list'!C$5:C$237,$J96)","v":107.46721498395996},{"$f":"INDEX('Weighted average price list'!D$5:D$237,$J96)","v":110.55653015746205},{"$f":"INDEX('Weighted average price list'!E$5:E$237,$J96)","v":113.73465258481039},{"$f":"INDEX('Weighted average price list'!F$5:F$237,$J96)","v":117.00413517106412},{"$f":"INDEX('Weighted average price list'!G$5:G$237,$J96)","v":120.36760420857856},null,{"$f":"MATCH(K96,'Weighted average price list'!$B$5:$B$237,0)","v":92},{"$f":"'Detailed price list'!L96","v":"Legacy Luminaire - 1000W SON"}]
[null,{"$f":"'Detailed price list'!B97","v":"1000W SON FLOODLIGHT"},{"$f":"'Detailed price list'!C97","v":"Capital - Traditional Luminaire"},{"$f":"INDEX('Weighted average price list'!C$5:C$237,$J97)","v":87.929475883870793},{"$f":"INDEX('Weighted average price list'!D$5:D$237,$J97)","v":90.457147826301536},{"$f":"INDEX('Weighted average price list'!E$5:E$237,$J97)","v":93.057481699038661},{"$f":"INDEX('Weighted average price list'!F$5:F$237,$J97)","v":95.732566284264394},{"$f":"INDEX('Weighted average price list'!G$5:G$237,$J97)","v":98.484550409510547},null,{"$f":"MATCH(K97,'Weighted average price list'!$B$5:$B$237,0)","v":93},{"$f":"'Detailed price list'!L97","v":"Legacy Luminaire - 1000W SON FLOODLIGHT"}]
[null,{"$f":"'Detailed price list'!B98","v":"1000W/1500W MBI FLOODLIG"},{"$f":"'Detailed price list'!C98","v":"Capital - Traditional Luminaire"},{"$f":"INDEX('Weighted average price list'!C$5:C$237,$J98)","v":119.10451058725982},{"$f":"INDEX('Weighted average price list'!D$5:D$237,$J98)","v":122.52835824018989},{"$f":"INDEX('Weighted average price list'!E$5:E$237,$J98)","v":126.05062981252212},{"$f":"INDEX('Weighted average price list'!F$5:F$237,$J98)","v":129.67415465558648},{"$f":"INDEX('Weighted average price list'!G$5:G$237,$J98)","v":133.40184345489473},null,{"$f":"MATCH(K98,'Weighted average price list'!$B$5:$B$237,0)","v":94},{"$f":"'Detailed price list'!L98","v":"Legacy Luminaire - 1000W/1500W MBI FLOODLIG"}]
[null,{"$f":"'Detailed price list'!B99","v":"100W MBI"},{"$f":"'Detailed price list'!C99","v":"Capital - Traditional Luminaire"},{"$f":"INDEX('Weighted average price list'!C$5:C$237,$J99)","v":0},{"$f":"INDEX('Weighted average price list'!D$5:D$237,$J99)","v":0},{"$f":"INDEX('Weighted average price list'!E$5:E$237,$J99)","v":0},{"$f":"INDEX('Weighted average price list'!F$5:F$237,$J99)","v":0},{"$f":"INDEX('Weighted average price list'!G$5:G$237,$J99)","v":0},null,{"$f":"MATCH(K99,'Weighted average price list'!$B$5:$B$237,0)","v":95},{"$f":"'Detailed price list'!L99","v":"Legacy Luminaire - 100W MBI"}]
[null,{"$f":"'Detailed price list'!B100","v":"100W MBI FLOODLIGHT"},{"$f":"'Detailed price list'!C100","v":"Capital - Traditional Luminaire"},{"$f":"INDEX('Weighted average price list'!C$5:C$237,$J100)","v":43.713903788214417},{"$f":"INDEX('Weighted average price list'!D$5:D$237,$J100)","v":44.970529134708201},{"$f":"INDEX('Weighted average price list'!E$5:E$237,$J100)","v":46.263278165535958},{"$f":"INDEX('Weighted average price list'!F$5:F$237,$J100)","v":47.593189313173589},{"$f":"INDEX('Weighted average price list'!G$5:G$237,$J100)","v":48.961330861481962},null,{"$f":"MATCH(K100,'Weighted average price list'!$B$5:$B$237,0)","v":96},{"$f":"'Detailed price list'!L100","v":"Legacy Luminaire - 100W MBI FLOODLIGHT"}]
[null,{"$f":"'Detailed price list'!B101","v":"100W SON"},{"$f":"'Detailed price list'!C101","v":"Capital - Traditional Luminaire"},{"$f":"INDEX('Weighted average price list'!C$5:C$237,$J101)","v":42.975760162237002},{"$f":"INDEX('Weighted average price list'!D$5:D$237,$J101)","v":44.211166402007912},{"$f":"INDEX('Weighted average price list'!E$5:E$237,$J101)","v":45.482086349308439},{"$f":"INDEX('Weighted average price list'!F$5:F$237,$J101)","v":46.789540901865905},{"$f":"INDEX('Weighted average price list'!G$5:G$237,$J101)","v":48.134580304728495},null,{"$f":"MATCH(K101,'Weighted average price list'!$B$5:$B$237,0)","v":97},{"$f":"'Detailed price list'!L101","v":"Legacy Luminaire - 100W SON"}]
[null,{"$f":"'Detailed price list'!B102","v":"100W SON - PLAIN"},{"$f":"'Detailed price list'!C102","v":"Capital - Traditional Luminaire"},{"$f":"INDEX('Weighted average price list'!C$5:C$237,$J102)","v":42.975760162237009},{"$f":"INDEX('Weighted average price list'!D$5:D$237,$J102)","v":44.211166402007912},{"$f":"INDEX('Weighted average price list'!E$5:E$237,$J102)","v":45.482086349308439},{"$f":"INDEX('Weighted average price list'!F$5:F$237,$J102)","v":46.789540901865905},{"$f":"INDEX('Weighted average price list'!G$5:G$237,$J102)","v":48.134580304728495},null,{"$f":"MATCH(K102,'Weighted average price list'!$B$5:$B$237,0)","v":98},{"$f":"'Detailed price list'!L102","v":"Legacy Luminaire - 100W SON - PLAIN"}]
[null,{"$f":"'Detailed price list'!B103","v":"100W SON FLOODLIGHT"},{"$f":"'Detailed price list'!C103","v":"Capital - Traditional Luminaire"},{"$f":"INDEX('Weighted average price list'!C$5:C$237,$J103)","v":63.172830678238313},{"$f":"INDEX('Weighted average price list'!D$5:D$237,$J103)","v":64.988833674096057},{"$f":"INDEX('Weighted average price list'!E$5:E$237,$J103)","v":66.857040550095903},{"$f":"INDEX('Weighted average price list'!F$5:F$237,$J103)","v":68.778951989390976},{"$f":"INDEX('Weighted average price list'!G$5:G$237,$J103)","v":70.756111814646616},null,{"$f":"MATCH(K103,'Weighted average price list'!$B$5:$B$237,0)","v":99},{"$f":"'Detailed price list'!L103","v":"Legacy Luminaire - 100W SON FLOODLIGHT"}]
[null,{"$f":"'Detailed price list'!B104","v":"125W MBF"},{"$f":"'Detailed price list'!C104","v":"Capital - Traditional Luminaire"},{"$f":"INDEX('Weighted average price list'!C$5:C$237,$J104)","v":0},{"$f":"INDEX('Weighted average price list'!D$5:D$237,$J104)","v":0},{"$f":"INDEX('Weighted average price list'!E$5:E$237,$J104)","v":0},{"$f":"INDEX('Weighted average price list'!F$5:F$237,$J104)","v":0},{"$f":"INDEX('Weighted average price list'!G$5:G$237,$J104)","v":0},null,{"$f":"MATCH(K104,'Weighted average price list'!$B$5:$B$237,0)","v":100},{"$f":"'Detailed price list'!L104","v":"Legacy Luminaire - 125W MBF"}]
[null,{"$f":"'Detailed price list'!B105","v":"125W MBF - BOURKE HILL"},{"$f":"'Detailed price list'!C105","v":"Capital - Traditional Luminaire"},{"$f":"INDEX('Weighted average price list'!C$5:C$237,$J105)","v":80.651315338020069},{"$f":"INDEX('Weighted average price list'!D$5:D$237,$J105)","v":82.969765037063951},{"$f":"INDEX('Weighted average price list'!E$5:E$237,$J105)","v":85.354862241910666},{"$f":"INDEX('Weighted average price list'!F$5:F$237,$J105)","v":87.808522840591593},{"$f":"INDEX('Weighted average price list'!G$5:G$237,$J105)","v":90.332717796371668},null,{"$f":"MATCH(K105,'Weighted average price list'!$B$5:$B$237,0)","v":101},{"$f":"'Detailed price list'!L105","v":"Legacy Luminaire - 125W MBF - BOURKE HILL"}]
[null,{"$f":"'Detailed price list'!B106","v":"125W MBF - PARKVILLE"},{"$f":"'Detailed price list'!C106","v":"Capital - Traditional Luminaire"},{"$f":"INDEX('Weighted average price list'!C$5:C$237,$J106)","v":101.54231775240112},{"$f":"INDEX('Weighted average price list'!D$5:D$237,$J106)","v":104.46131237817499},{"$f":"INDEX('Weighted average price list'!E$5:E$237,$J106)","v":107.46421812409949},{"$f":"INDEX('Weighted average price list'!F$5:F$237,$J106)","v":110.55344714812202},{"$f":"INDEX('Weighted average price list'!G$5:G$237,$J106)","v":113.73148094948768},null,{"$f":"MATCH(K106,'Weighted average price list'!$B$5:$B$237,0)","v":102},{"$f":"'Detailed price list'!L106","v":"Legacy Luminaire - 125W MBF - PARKVILLE"}]
[null,{"$f":"'Detailed price list'!B107","v":"125W MBF - PLAIN"},{"$f":"'Detailed price list'!C107","v":"Capital - Traditional Luminaire"},{"$f":"INDEX('Weighted average price list'!C$5:C$237,$J107)","v":26.094043482576225},{"$f":"INDEX('Weighted average price list'!D$5:D$237,$J107)","v":26.844158059201085},{"$f":"INDEX('Weighted average price list'!E$5:E$237,$J107)","v":27.615835866470547},{"$f":"INDEX('Weighted average price list'!F$5:F$237,$J107)","v":28.409696773575693},{"$f":"INDEX('Weighted average price list'!G$5:G$237,$J107)","v":29.226378468828525},null,{"$f":"MATCH(K107,'Weighted average price list'!$B$5:$B$237,0)","v":103},{"$f":"'Detailed price list'!L107","v":"Legacy Luminaire - 125W MBF - PLAIN"}]
[null,{"$f":"'Detailed price list'!B108","v":"125W/250W MBF FLOODLIGHT"},{"$f":"'Detailed price list'!C108","v":"Capital - Traditional Luminaire"},{"$f":"INDEX('Weighted average price list'!C$5:C$237,$J108)","v":36.023132488936483},{"$f":"INDEX('Weighted average price list'!D$5:D$237,$J108)","v":37.058674442933871},{"$f":"INDEX('Weighted average price list'!E$5:E$237,$J108)","v":38.123984689258918},{"$f":"INDEX('Weighted average price list'!F$5:F$237,$J108)","v":39.219918964586213},{"$f":"INDEX('Weighted average price list'!G$5:G$237,$J108)","v":40.347357605095347},null,{"$f":"MATCH(K108,'Weighted average price list'!$B$5:$B$237,0)","v":104},{"$f":"'Detailed price list'!L108","v":"Legacy Luminaire - 125W/250W MBF FLOODLIGHT"}]
[null,{"$f":"'Detailed price list'!B109","v":"150W SON"},{"$f":"'Detailed price list'!C109","v":"Capital - Traditional Luminaire"},{"$f":"INDEX('Weighted average price list'!C$5:C$237,$J109)","v":43.360209967433576},{"$f":"INDEX('Weighted average price list'!D$5:D$237,$J109)","v":44.606667825289314},{"$f":"INDEX('Weighted average price list'!E$5:E$237,$J109)","v":45.888957086926936},{"$f":"INDEX('Weighted average price list'!F$5:F$237,$J109)","v":47.20810778275532},{"$f":"INDEX('Weighted average price list'!G$5:G$237,$J109)","v":48.565179553037588},null,{"$f":"MATCH(K109,'Weighted average price list'!$B$5:$B$237,0)","v":105},{"$f":"'Detailed price list'!L109","v":"Legacy Luminaire - 150W SON"}]
[null,{"$f":"'Detailed price list'!B110","v":"150W SON - PARKVILLE"},{"$f":"'Detailed price list'!C110","v":"Capital - Traditional Luminaire"},{"$f":"INDEX('Weighted average price list'!C$5:C$237,$J110)","v":117.06692661971807},{"$f":"INDEX('Weighted average price list'!D$5:D$237,$J110)","v":120.43220069679849},{"$f":"INDEX('Weighted average price list'!E$5:E$237,$J110)","v":123.89421490314409},{"$f":"INDEX('Weighted average price list'!F$5:F$237,$J110)","v":127.45575018687261},{"$f":"INDEX('Weighted average price list'!G$5:G$237,$J110)","v":131.11966743885654},null,{"$f":"MATCH(K110,'Weighted average price list'!$B$5:$B$237,0)","v":106},{"$f":"'Detailed price list'!L110","v":"Legacy Luminaire - 150W SON - PARKVILLE"}]
[null,{"$f":"'Detailed price list'!B111","v":"150W SON - PARKWAY 1"},{"$f":"'Detailed price list'!C111","v":"Capital - Traditional Luminaire"},{"$f":"INDEX('Weighted average price list'!C$5:C$237,$J111)","v":51.721993230458757},{"$f":"INDEX('Weighted average price list'!D$5:D$237,$J111)","v":53.208823781659675},{"$f":"INDEX('Weighted average price list'!E$5:E$237,$J111)","v":54.738395630129126},{"$f":"INDEX('Weighted average price list'!F$5:F$237,$J111)","v":56.311937442099953},{"$f":"INDEX('Weighted average price list'!G$5:G$237,$J111)","v":57.93071320376032},null,{"$f":"MATCH(K111,'Weighted average price list'!$B$5:$B$237,0)","v":107},{"$f":"'Detailed price list'!L111","v":"Legacy Luminaire - 150W SON - PARKWAY 1"}]
[null,{"$f":"'Detailed price list'!B112","v":"150W SON ACTIVE REACTOR"},{"$f":"'Detailed price list'!C112","v":"Capital - Traditional Luminaire"},{"$f":"INDEX('Weighted average price list'!C$5:C$237,$J112)","v":63.736049642851263},{"$f":"INDEX('Weighted average price list'!D$5:D$237,$J112)","v":65.568243259203285},{"$f":"INDEX('Weighted average price list'!E$5:E$237,$J112)","v":67.453106180706982},{"$f":"INDEX('Weighted average price list'!F$5:F$237,$J112)","v":69.392152469893958},{"$f":"INDEX('Weighted average price list'!G$5:G$237,$J112)","v":71.386939713419423},null,{"$f":"MATCH(K112,'Weighted average price list'!$B$5:$B$237,0)","v":108},{"$f":"'Detailed price list'!L112","v":"Legacy Luminaire - 150W SON ACTIVE REACTOR"}]
[null,{"$f":"'Detailed price list'!B113","v":"150W SON FLOODLIGHT"},{"$f":"'Detailed price list'!C113","v":"Capital - Traditional Luminaire"},{"$f":"INDEX('Weighted average price list'!C$5:C$237,$J113)","v":50.760868717467361},{"$f":"INDEX('Weighted average price list'!D$5:D$237,$J113)","v":52.220070223456183},{"$f":"INDEX('Weighted average price list'!E$5:E$237,$J113)","v":53.721218786082908},{"$f":"INDEX('Weighted average price list'!F$5:F$237,$J113)","v":55.26552023987643},{"$f":"INDEX('Weighted average price list'!G$5:G$237,$J113)","v":56.854215082987594},null,{"$f":"MATCH(K113,'Weighted average price list'!$B$5:$B$237,0)","v":109},{"$f":"'Detailed price list'!L113","v":"Legacy Luminaire - 150W SON FLOODLIGHT"}]
[null,{"$f":"'Detailed price list'!B114","v":"150W/250W MBI FLOODLIGHT"},{"$f":"'Detailed price list'!C114","v":"Capital - Traditional Luminaire"},{"$f":"INDEX('Weighted average price list'!C$5:C$237,$J114)","v":77.945314442916114},{"$f":"INDEX('Weighted average price list'!D$5:D$237,$J114)","v":80.185975863683666},{"$f":"INDEX('Weighted average price list'!E$5:E$237,$J114)","v":82.491048643086415},{"$f":"INDEX('Weighted average price list'!F$5:F$237,$J114)","v":84.862384387566451},{"$f":"INDEX('Weighted average price list'!G$5:G$237,$J114)","v":87.301887930923428},null,{"$f":"MATCH(K114,'Weighted average price list'!$B$5:$B$237,0)","v":110},{"$f":"'Detailed price list'!L114","v":"Legacy Luminaire - 150W/250W MBI FLOODLIGHT"}]
[null,{"$f":"'Detailed price list'!B115","v":"250W MBF"},{"$f":"'Detailed price list'!C115","v":"Capital - Traditional Luminaire"},{"$f":"INDEX('Weighted average price list'!C$5:C$237,$J115)","v":42.591310357040456},{"$f":"INDEX('Weighted average price list'!D$5:D$237,$J115)","v":43.815664978726524},{"$f":"INDEX('Weighted average price list'!E$5:E$237,$J115)","v":45.075215611689963},{"$f":"INDEX('Weighted average price list'!F$5:F$237,$J115)","v":46.370974020976512},{"$f":"INDEX('Weighted average price list'!G$5:G$237,$J115)","v":47.703981056419408},null,{"$f":"MATCH(K115,'Weighted average price list'!$B$5:$B$237,0)","v":111},{"$f":"'Detailed price list'!L115","v":"Legacy Luminaire - 250W MBF"}]
[null,{"$f":"'Detailed price list'!B116","v":"250W MBF - PARKWAY 1"},{"$f":"'Detailed price list'!C116","v":"Capital - Traditional Luminaire"},{"$f":"INDEX('Weighted average price list'!C$5:C$237,$J116)","v":51.721993230458764},{"$f":"INDEX('Weighted average price list'!D$5:D$237,$J116)","v":53.208823781659675},{"$f":"INDEX('Weighted average price list'!E$5:E$237,$J116)","v":54.738395630129133},{"$f":"INDEX('Weighted average price list'!F$5:F$237,$J116)","v":56.311937442099946},{"$f":"INDEX('Weighted average price list'!G$5:G$237,$J116)","v":57.93071320376032},null,{"$f":"MATCH(K116,'Weighted average price list'!$B$5:$B$237,0)","v":112},{"$f":"'Detailed price list'!L116","v":"Legacy Luminaire - 250W MBF - PARKWAY 1"}]
[null,{"$f":"'Detailed price list'!B117","v":"250W SON"},{"$f":"'Detailed price list'!C117","v":"Capital - Traditional Luminaire"},{"$f":"INDEX('Weighted average price list'!C$5:C$237,$J117)","v":43.360209967433576},{"$f":"INDEX('Weighted average price list'!D$5:D$237,$J117)","v":44.606667825289314},{"$f":"INDEX('Weighted average price list'!E$5:E$237,$J117)","v":45.888957086926936},{"$f":"INDEX('Weighted average price list'!F$5:F$237,$J117)","v":47.208107782755313},{"$f":"INDEX('Weighted average price list'!G$5:G$237,$J117)","v":48.565179553037588},null,{"$f":"MATCH(K117,'Weighted average price list'!$B$5:$B$237,0)","v":113},{"$f":"'Detailed price list'!L117","v":"Legacy Luminaire - 250W SON"}]
[null,{"$f":"'Detailed price list'!B118","v":"250W SON - PARKVILLE"},{"$f":"'Detailed price list'!C118","v":"Capital - Traditional Luminaire"},{"$f":"INDEX('Weighted average price list'!C$5:C$237,$J118)","v":126.43981287041024},{"$f":"INDEX('Weighted average price list'!D$5:D$237,$J118)","v":130.07452539639897},{"$f":"INDEX('Weighted average price list'!E$5:E$237,$J118)","v":133.81372348628298},{"$f":"INDEX('Weighted average price list'!F$5:F$237,$J118)","v":137.66041074295646},{"$f":"INDEX('Weighted average price list'!G$5:G$237,$J118)","v":141.61767711263226},null,{"$f":"MATCH(K118,'Weighted average price list'!$B$5:$B$237,0)","v":114},{"$f":"'Detailed price list'!L118","v":"Legacy Luminaire - 250W SON - PARKVILLE"}]
[null,{"$f":"'Detailed price list'!B119","v":"250W SON - PARKWAY 1"},{"$f":"'Detailed price list'!C119","v":"Capital - Traditional Luminaire"},{"$f":"INDEX('Weighted average price list'!C$5:C$237,$J119)","v":51.721993230458757},{"$f":"INDEX('Weighted average price list'!D$5:D$237,$J119)","v":53.208823781659682},{"$f":"INDEX('Weighted average price list'!E$5:E$237,$J119)","v":54.738395630129119},{"$f":"INDEX('Weighted average price list'!F$5:F$237,$J119)","v":56.311937442099939},{"$f":"INDEX('Weighted average price list'!G$5:G$237,$J119)","v":57.930713203760327},null,{"$f":"MATCH(K119,'Weighted average price list'!$B$5:$B$237,0)","v":115},{"$f":"'Detailed price list'!L119","v":"Legacy Luminaire - 250W SON - PARKWAY 1"}]
[null,{"$f":"'Detailed price list'!B120","v":"250W SON ACTIVE REACTOR"},{"$f":"'Detailed price list'!C120","v":"Capital - Traditional Luminaire"},{"$f":"INDEX('Weighted average price list'!C$5:C$237,$J120)","v":63.73604964285127},{"$f":"INDEX('Weighted average price list'!D$5:D$237,$J120)","v":65.568243259203285},{"$f":"INDEX('Weighted average price list'!E$5:E$237,$J120)","v":67.453106180706982},{"$f":"INDEX('Weighted average price list'!F$5:F$237,$J120)","v":69.392152469893944},{"$f":"INDEX('Weighted average price list'!G$5:G$237,$J120)","v":71.386939713419423},null,{"$f":"MATCH(K120,'Weighted average price list'!$B$5:$B$237,0)","v":116},{"$f":"'Detailed price list'!L120","v":"Legacy Luminaire - 250W SON ACTIVE REACTOR"}]
[null,{"$f":"'Detailed price list'!B121","v":"250W SON FLOODLIGHT"},{"$f":"'Detailed price list'!C121","v":"Capital - Traditional Luminaire"},{"$f":"INDEX('Weighted average price list'!C$5:C$237,$J121)","v":50.760868717467361},{"$f":"INDEX('Weighted average price list'!D$5:D$237,$J121)","v":52.220070223456183},{"$f":"INDEX('Weighted average price list'!E$5:E$237,$J121)","v":53.721218786082908},{"$f":"INDEX('Weighted average price list'!F$5:F$237,$J121)","v":55.26552023987643},{"$f":"INDEX('Weighted average price list'!G$5:G$237,$J121)","v":56.854215082987601},null,{"$f":"MATCH(K121,'Weighted average price list'!$B$5:$B$237,0)","v":117},{"$f":"'Detailed price list'!L121","v":"Legacy Luminaire - 250W SON FLOODLIGHT"}]
[null,{"$f":"'Detailed price list'!B122","v":"250W SON GEC 'BOSTON 3'"},{"$f":"'Detailed price list'!C122","v":"Capital - Traditional Luminaire"},{"$f":"INDEX('Weighted average price list'!C$5:C$237,$J122)","v":109.01846994792808},{"$f":"INDEX('Weighted average price list'!D$5:D$237,$J122)","v":112.15237840040248},{"$f":"INDEX('Weighted average price list'!E$5:E$237,$J122)","v":115.376376011101},{"$f":"INDEX('Weighted average price list'!F$5:F$237,$J122)","v":118.69305253545288},{"$f":"INDEX('Weighted average price list'!G$5:G$237,$J122)","v":122.10507217550574},null,{"$f":"MATCH(K122,'Weighted average price list'!$B$5:$B$237,0)","v":118},{"$f":"'Detailed price list'!L122","v":"Legacy Luminaire - 250W SON GEC 'BOSTON 3'"}]
[null,{"$f":"'Detailed price list'!B123","v":"2X14W TF - T5 PIERLIGHT"},{"$f":"'Detailed price list'!C123","v":"Capital - Traditional Luminaire"},{"$f":"INDEX('Weighted average price list'!C$5:C$237,$J123)","v":0},{"$f":"INDEX('Weighted average price list'!D$5:D$237,$J123)","v":0},{"$f":"INDEX('Weighted average price list'!E$5:E$237,$J123)","v":0},{"$f":"INDEX('Weighted average price list'!F$5:F$237,$J123)","v":0},{"$f":"INDEX('Weighted average price list'!G$5:G$237,$J123)","v":0},null,{"$f":"MATCH(K123,'Weighted average price list'!$B$5:$B$237,0)","v":119},{"$f":"'Detailed price list'!L123","v":"Legacy Luminaire - 2X14W TF - T5 PIERLIGHT"}]
[null,{"$f":"'Detailed price list'!B124","v":"2x14W TF - T5 PIERLITE M"},{"$f":"'Detailed price list'!C124","v":"Capital - Traditional Luminaire"},{"$f":"INDEX('Weighted average price list'!C$5:C$237,$J124)","v":0},{"$f":"INDEX('Weighted average price list'!D$5:D$237,$J124)","v":0},{"$f":"INDEX('Weighted average price list'!E$5:E$237,$J124)","v":0},{"$f":"INDEX('Weighted average price list'!F$5:F$237,$J124)","v":0},{"$f":"INDEX('Weighted average price list'!G$5:G$237,$J124)","v":0},null,{"$f":"MATCH(K124,'Weighted average price list'!$B$5:$B$237,0)","v":120},{"$f":"'Detailed price list'!L124","v":"Legacy Luminaire - 2x14W TF - T5 PIERLITE M"}]
[null,{"$f":"'Detailed price list'!B125","v":"2x250W SON FLOODLIGHT"},{"$f":"'Detailed price list'!C125","v":"Capital - Traditional Luminaire"},{"$f":"INDEX('Weighted average price list'!C$5:C$237,$J125)","v":71.425045746782487},{"$f":"INDEX('Weighted average price list'!D$5:D$237,$J125)","v":73.478271724831231},{"$f":"INDEX('Weighted average price list'!E$5:E$237,$J125)","v":75.590520933076846},{"$f":"INDEX('Weighted average price list'!F$5:F$237,$J125)","v":77.763490087682143},{"$f":"INDEX('Weighted average price list'!G$5:G$237,$J125)","v":79.998924679601288},null,{"$f":"MATCH(K125,'Weighted average price list'!$B$5:$B$237,0)","v":121},{"$f":"'Detailed price list'!L125","v":"Legacy Luminaire - 2x250W SON FLOODLIGHT"}]
[null,{"$f":"'Detailed price list'!B126","v":"2x400W SON FLOODLIGHT"},{"$f":"'Detailed price list'!C126","v":"Capital - Traditional Luminaire"},{"$f":"INDEX('Weighted average price list'!C$5:C$237,$J126)","v":142.43484701561309},{"$f":"INDEX('Weighted average price list'!D$5:D$237,$J126)","v":146.5293621120214},{"$f":"INDEX('Weighted average price list'!E$5:E$237,$J126)","v":150.74158052490029},{"$f":"INDEX('Weighted average price list'!F$5:F$237,$J126)","v":155.07488582236024},{"$f":"INDEX('Weighted average price list'!G$5:G$237,$J126)","v":159.53275883853198},null,{"$f":"MATCH(K126,'Weighted average price list'!$B$5:$B$237,0)","v":122},{"$f":"'Detailed price list'!L126","v":"Legacy Luminaire - 2x400W SON FLOODLIGHT"}]
[null,{"$f":"'Detailed price list'!B127","v":"2x80W MBF - BOURKE HILL"},{"$f":"'Detailed price list'!C127","v":"Capital - Traditional Luminaire"},{"$f":"INDEX('Weighted average price list'!C$5:C$237,$J127)","v":70.305771080180605},{"$f":"INDEX('Weighted average price list'!D$5:D$237,$J127)","v":72.32682173656157},{"$f":"INDEX('Weighted average price list'!E$5:E$237,$J127)","v":74.405970692597037},{"$f":"INDEX('Weighted average price list'!F$5:F$237,$J127)","v":76.5448880758576},{"$f":"INDEX('Weighted average price list'!G$5:G$237,$J127)","v":78.745292024373995},null,{"$f":"MATCH(K127,'Weighted average price list'!$B$5:$B$237,0)","v":123},{"$f":"'Detailed price list'!L127","v":"Legacy Luminaire - 2x80W MBF - BOURKE HILL"}]
[null,{"$f":"'Detailed price list'!B128","v":"400W MBF"},{"$f":"'Detailed price list'!C128","v":"Capital - Traditional Luminaire"},{"$f":"INDEX('Weighted average price list'!C$5:C$237,$J128)","v":34.104580907326387},{"$f":"INDEX('Weighted average price list'!D$5:D$237,$J128)","v":35.084971059789709},{"$f":"INDEX('Weighted average price list'!E$5:E$237,$J128)","v":36.093544078761752},{"$f":"INDEX('Weighted average price list'!F$5:F$237,$J128)","v":37.131110125342822},{"$f":"INDEX('Weighted average price list'!G$5:G$237,$J128)","v":38.198502649996222},null,{"$f":"MATCH(K128,'Weighted average price list'!$B$5:$B$237,0)","v":124},{"$f":"'Detailed price list'!L128","v":"Legacy Luminaire - 400W MBF"}]
[null,{"$f":"'Detailed price list'!B129","v":"400W MBF - B2229"},{"$f":"'Detailed price list'!C129","v":"Capital - Traditional Luminaire"},{"$f":"INDEX('Weighted average price list'!C$5:C$237,$J129)","v":34.104580907326387},{"$f":"INDEX('Weighted average price list'!D$5:D$237,$J129)","v":35.084971059789709},{"$f":"INDEX('Weighted average price list'!E$5:E$237,$J129)","v":36.093544078761752},{"$f":"INDEX('Weighted average price list'!F$5:F$237,$J129)","v":37.131110125342815},{"$f":"INDEX('Weighted average price list'!G$5:G$237,$J129)","v":38.198502649996222},null,{"$f":"MATCH(K129,'Weighted average price list'!$B$5:$B$237,0)","v":125},{"$f":"'Detailed price list'!L129","v":"Legacy Luminaire - 400W MBF - B2229"}]
[null,{"$f":"'Detailed price list'!B130","v":"400W MBF - PARKWAY 1"},{"$f":"'Detailed price list'!C130","v":"Capital - Traditional Luminaire"},{"$f":"INDEX('Weighted average price list'!C$5:C$237,$J130)","v":68.479542162845206},{"$f":"INDEX('Weighted average price list'!D$5:D$237,$J130)","v":70.448094978787523},{"$f":"INDEX('Weighted average price list'!E$5:E$237,$J130)","v":72.473236960877301},{"$f":"INDEX('Weighted average price list'!F$5:F$237,$J130)","v":74.556594854254058},{"$f":"INDEX('Weighted average price list'!G$5:G$237,$J130)","v":76.699842167420883},null,{"$f":"MATCH(K130,'Weighted average price list'!$B$5:$B$237,0)","v":126},{"$f":"'Detailed price list'!L130","v":"Legacy Luminaire - 400W MBF - PARKWAY 1"}]
[null,{"$f":"'Detailed price list'!B131","v":"400W MBF FLOODLIGHT"},{"$f":"'Detailed price list'!C131","v":"Capital - Traditional Luminaire"},{"$f":"INDEX('Weighted average price list'!C$5:C$237,$J131)","v":75.198715547490195},{"$f":"INDEX('Weighted average price list'!D$5:D$237,$J131)","v":77.360421636211328},{"$f":"INDEX('Weighted average price list'!E$5:E$237,$J131)","v":79.584269387592414},{"$f":"INDEX('Weighted average price list'!F$5:F$237,$J131)","v":81.872045162072681},{"$f":"INDEX('Weighted average price list'!G$5:G$237,$J131)","v":84.225586671849314},null,{"$f":"MATCH(K131,'Weighted average price list'!$B$5:$B$237,0)","v":127},{"$f":"'Detailed price list'!L131","v":"Legacy Luminaire - 400W MBF FLOODLIGHT"}]
[null,{"$f":"'Detailed price list'!B132","v":"400W MBI FLOODLIGHT"},{"$f":"'Detailed price list'!C132","v":"Capital - Traditional Luminaire"},{"$f":"INDEX('Weighted average price list'!C$5:C$237,$J132)","v":59.199541941531848},{"$f":"INDEX('Weighted average price list'!D$5:D$237,$J132)","v":60.901326464482814},{"$f":"INDEX('Weighted average price list'!E$5:E$237,$J132)","v":62.652031476808787},{"$f":"INDEX('Weighted average price list'!F$5:F$237,$J132)","v":64.453063275398932},{"$f":"INDEX('Weighted average price list'!G$5:G$237,$J132)","v":66.305868583372146},null,{"$f":"MATCH(K132,'Weighted average price list'!$B$5:$B$237,0)","v":128},{"$f":"'Detailed price list'!L132","v":"Legacy Luminaire - 400W MBI FLOODLIGHT"}]
[null,{"$f":"'Detailed price list'!B133","v":"400W SON"},{"$f":"'Detailed price list'!C133","v":"Capital - Traditional Luminaire"},{"$f":"INDEX('Weighted average price list'!C$5:C$237,$J133)","v":47.108595568100043},{"$f":"INDEX('Weighted average price list'!D$5:D$237,$J133)","v":48.462806702282919},{"$f":"INDEX('Weighted average price list'!E$5:E$237,$J133)","v":49.855946778707221},{"$f":"INDEX('Weighted average price list'!F$5:F$237,$J133)","v":51.289134871427045},{"$f":"INDEX('Weighted average price list'!G$5:G$237,$J133)","v":52.763522224051229},null,{"$f":"MATCH(K133,'Weighted average price list'!$B$5:$B$237,0)","v":129},{"$f":"'Detailed price list'!L133","v":"Legacy Luminaire - 400W SON"}]
[null,{"$f":"'Detailed price list'!B134","v":"400W SON - PARKWAY 1"},{"$f":"'Detailed price list'!C134","v":"Capital - Traditional Luminaire"},{"$f":"INDEX('Weighted average price list'!C$5:C$237,$J134)","v":51.72199323045875},{"$f":"INDEX('Weighted average price list'!D$5:D$237,$J134)","v":53.208823781659675},{"$f":"INDEX('Weighted average price list'!E$5:E$237,$J134)","v":54.738395630129126},{"$f":"INDEX('Weighted average price list'!F$5:F$237,$J134)","v":56.311937442099953},{"$f":"INDEX('Weighted average price list'!G$5:G$237,$J134)","v":57.930713203760327},null,{"$f":"MATCH(K134,'Weighted average price list'!$B$5:$B$237,0)","v":130},{"$f":"'Detailed price list'!L134","v":"Legacy Luminaire - 400W SON - PARKWAY 1"}]
[null,{"$f":"'Detailed price list'!B135","v":"400W SON ACTIVE REACTOR"},{"$f":"'Detailed price list'!C135","v":"Capital - Traditional Luminaire"},{"$f":"INDEX('Weighted average price list'!C$5:C$237,$J135)","v":71.425045746782487},{"$f":"INDEX('Weighted average price list'!D$5:D$237,$J135)","v":73.478271724831231},{"$f":"INDEX('Weighted average price list'!E$5:E$237,$J135)","v":75.590520933076846},{"$f":"INDEX('Weighted average price list'!F$5:F$237,$J135)","v":77.763490087682143},{"$f":"INDEX('Weighted average price list'!G$5:G$237,$J135)","v":79.998924679601288},null,{"$f":"MATCH(K135,'Weighted average price list'!$B$5:$B$237,0)","v":131},{"$f":"'Detailed price list'!L135","v":"Legacy Luminaire - 400W SON ACTIVE REACTOR"}]
[null,{"$f":"'Detailed price list'!B136","v":"400W SON FLOODLIGHT"},{"$f":"'Detailed price list'!C136","v":"Capital - Traditional Luminaire"},{"$f":"INDEX('Weighted average price list'!C$5:C$237,$J136)","v":50.760868717467368},{"$f":"INDEX('Weighted average price list'!D$5:D$237,$J136)","v":52.22007022345619},{"$f":"INDEX('Weighted average price list'!E$5:E$237,$J136)","v":53.721218786082908},{"$f":"INDEX('Weighted average price list'!F$5:F$237,$J136)","v":55.26552023987643},{"$f":"INDEX('Weighted average price list'!G$5:G$237,$J136)","v":56.854215082987601},null,{"$f":"MATCH(K136,'Weighted average price list'!$B$5:$B$237,0)","v":132},{"$f":"'Detailed price list'!L136","v":"Legacy Luminaire - 400W SON FLOODLIGHT"}]
[null,{"$f":"'Detailed price list'!B137","v":"42W MBF SYLVANIA SUB ECO"},{"$f":"'Detailed price list'!C137","v":"Capital - Traditional Luminaire"},{"$f":"INDEX('Weighted average price list'!C$5:C$237,$J137)","v":0},{"$f":"INDEX('Weighted average price list'!D$5:D$237,$J137)","v":0},{"$f":"INDEX('Weighted average price list'!E$5:E$237,$J137)","v":0},{"$f":"INDEX('Weighted average price list'!F$5:F$237,$J137)","v":0},{"$f":"INDEX('Weighted average price list'!G$5:G$237,$J137)","v":0},null,{"$f":"MATCH(K137,'Weighted average price list'!$B$5:$B$237,0)","v":133},{"$f":"'Detailed price list'!L137","v":"Legacy Luminaire - 42W MBF SYLVANIA SUB ECO"}]
[null,{"$f":"'Detailed price list'!B138","v":"4x250W SON"},{"$f":"'Detailed price list'!C138","v":"Capital - Traditional Luminaire"},{"$f":"INDEX('Weighted average price list'!C$5:C$237,$J138)","v":0},{"$f":"INDEX('Weighted average price list'!D$5:D$237,$J138)","v":0},{"$f":"INDEX('Weighted average price list'!E$5:E$237,$J138)","v":0},{"$f":"INDEX('Weighted average price list'!F$5:F$237,$J138)","v":0},{"$f":"INDEX('Weighted average price list'!G$5:G$237,$J138)","v":0},null,{"$f":"MATCH(K138,'Weighted average price list'!$B$5:$B$237,0)","v":134},{"$f":"'Detailed price list'!L138","v":"Legacy Luminaire - 4x250W SON"}]
[null,{"$f":"'Detailed price list'!B139","v":"4x600W SON"},{"$f":"'Detailed price list'!C139","v":"Capital - Traditional Luminaire"},{"$f":"INDEX('Weighted average price list'!C$5:C$237,$J139)","v":122.36464493532669},{"$f":"INDEX('Weighted average price list'!D$5:D$237,$J139)","v":125.88221030961616},{"$f":"INDEX('Weighted average price list'!E$5:E$237,$J139)","v":129.50089366752695},{"$f":"INDEX('Weighted average price list'!F$5:F$237,$J139)","v":133.22360180552869},{"$f":"INDEX('Weighted average price list'!G$5:G$237,$J139)","v":137.05332508055588},null,{"$f":"MATCH(K139,'Weighted average price list'!$B$5:$B$237,0)","v":135},{"$f":"'Detailed price list'!L139","v":"Legacy Luminaire - 4x600W SON"}]
[null,{"$f":"'Detailed price list'!B140","v":"50W MBF"},{"$f":"'Detailed price list'!C140","v":"Capital - Traditional Luminaire"},{"$f":"INDEX('Weighted average price list'!C$5:C$237,$J140)","v":0},{"$f":"INDEX('Weighted average price list'!D$5:D$237,$J140)","v":0},{"$f":"INDEX('Weighted average price list'!E$5:E$237,$J140)","v":0},{"$f":"INDEX('Weighted average price list'!F$5:F$237,$J140)","v":0},{"$f":"INDEX('Weighted average price list'!G$5:G$237,$J140)","v":0},null,{"$f":"MATCH(K140,'Weighted average price list'!$B$5:$B$237,0)","v":136},{"$f":"'Detailed price list'!L140","v":"Legacy Luminaire - 50W MBF"}]
[null,{"$f":"'Detailed price list'!B141","v":"50W MBF - BOURKE HILL"},{"$f":"'Detailed price list'!C141","v":"Capital - Traditional Luminaire"},{"$f":"INDEX('Weighted average price list'!C$5:C$237,$J141)","v":70.305771080180605},{"$f":"INDEX('Weighted average price list'!D$5:D$237,$J141)","v":72.32682173656157},{"$f":"INDEX('Weighted average price list'!E$5:E$237,$J141)","v":74.405970692597037},{"$f":"INDEX('Weighted average price list'!F$5:F$237,$J141)","v":76.5448880758576},{"$f":"INDEX('Weighted average price list'!G$5:G$237,$J141)","v":78.745292024373995},null,{"$f":"MATCH(K141,'Weighted average price list'!$B$5:$B$237,0)","v":137},{"$f":"'Detailed price list'!L141","v":"Legacy Luminaire - 50W MBF - BOURKE HILL"}]
[null,{"$f":"'Detailed price list'!B142","v":"50W MBF - NOSTALGIA"},{"$f":"'Detailed price list'!C142","v":"Capital - Traditional Luminaire"},{"$f":"INDEX('Weighted average price list'!C$5:C$237,$J142)","v":0},{"$f":"INDEX('Weighted average price list'!D$5:D$237,$J142)","v":0},{"$f":"INDEX('Weighted average price list'!E$5:E$237,$J142)","v":0},{"$f":"INDEX('Weighted average price list'!F$5:F$237,$J142)","v":0},{"$f":"INDEX('Weighted average price list'!G$5:G$237,$J142)","v":0},null,{"$f":"MATCH(K142,'Weighted average price list'!$B$5:$B$237,0)","v":138},{"$f":"'Detailed price list'!L142","v":"Legacy Luminaire - 50W MBF - NOSTALGIA"}]
[null,{"$f":"'Detailed price list'!B143","v":"50W MBF - PLAIN"},{"$f":"'Detailed price list'!C143","v":"Capital - Traditional Luminaire"},{"$f":"INDEX('Weighted average price list'!C$5:C$237,$J143)","v":23.691232200097723},{"$f":"INDEX('Weighted average price list'!D$5:D$237,$J143)","v":24.37227416369236},{"$f":"INDEX('Weighted average price list'!E$5:E$237,$J143)","v":25.072893756354976},{"$f":"INDEX('Weighted average price list'!F$5:F$237,$J143)","v":25.793653768016895},{"$f":"INDEX('Weighted average price list'!G$5:G$237,$J143)","v":26.535133166896703},null,{"$f":"MATCH(K143,'Weighted average price list'!$B$5:$B$237,0)","v":139},{"$f":"'Detailed price list'!L143","v":"Legacy Luminaire - 50W MBF - PLAIN"}]
[null,{"$f":"'Detailed price list'!B144","v":"50W SON"},{"$f":"'Detailed price list'!C144","v":"Capital - Traditional Luminaire"},{"$f":"INDEX('Weighted average price list'!C$5:C$237,$J144)","v":0},{"$f":"INDEX('Weighted average price list'!D$5:D$237,$J144)","v":0},{"$f":"INDEX('Weighted average price list'!E$5:E$237,$J144)","v":0},{"$f":"INDEX('Weighted average price list'!F$5:F$237,$J144)","v":0},{"$f":"INDEX('Weighted average price list'!G$5:G$237,$J144)","v":0},null,{"$f":"MATCH(K144,'Weighted average price list'!$B$5:$B$237,0)","v":140},{"$f":"'Detailed price list'!L144","v":"Legacy Luminaire - 50W SON"}]
[null,{"$f":"'Detailed price list'!B145","v":"50W SON - NOSTALGIA"},{"$f":"'Detailed price list'!C145","v":"Capital - Traditional Luminaire"},{"$f":"INDEX('Weighted average price list'!C$5:C$237,$J145)","v":0},{"$f":"INDEX('Weighted average price list'!D$5:D$237,$J145)","v":0},{"$f":"INDEX('Weighted average price list'!E$5:E$237,$J145)","v":0},{"$f":"INDEX('Weighted average price list'!F$5:F$237,$J145)","v":0},{"$f":"INDEX('Weighted average price list'!G$5:G$237,$J145)","v":0},null,{"$f":"MATCH(K145,'Weighted average price list'!$B$5:$B$237,0)","v":141},{"$f":"'Detailed price list'!L145","v":"Legacy Luminaire - 50W SON - NOSTALGIA"}]
[null,{"$f":"'Detailed price list'!B146","v":"50W SON - PLAIN"},{"$f":"'Detailed price list'!C146","v":"Capital - Traditional Luminaire"},{"$f":"INDEX('Weighted average price list'!C$5:C$237,$J146)","v":0},{"$f":"INDEX('Weighted average price list'!D$5:D$237,$J146)","v":0},{"$f":"INDEX('Weighted average price list'!E$5:E$237,$J146)","v":0},{"$f":"INDEX('Weighted average price list'!F$5:F$237,$J146)","v":0},{"$f":"INDEX('Weighted average price list'!G$5:G$237,$J146)","v":0},null,{"$f":"MATCH(K146,'Weighted average price list'!$B$5:$B$237,0)","v":142},{"$f":"'Detailed price list'!L146","v":"Legacy Luminaire - 50W SON - PLAIN"}]
[null,{"$f":"'Detailed price list'!B147","v":"70W MBI"},{"$f":"'Detailed price list'!C147","v":"Capital - Traditional Luminaire"},{"$f":"INDEX('Weighted average price list'!C$5:C$237,$J147)","v":0},{"$f":"INDEX('Weighted average price list'!D$5:D$237,$J147)","v":0},{"$f":"INDEX('Weighted average price list'!E$5:E$237,$J147)","v":0},{"$f":"INDEX('Weighted average price list'!F$5:F$237,$J147)","v":0},{"$f":"INDEX('Weighted average price list'!G$5:G$237,$J147)","v":0},null,{"$f":"MATCH(K147,'Weighted average price list'!$B$5:$B$237,0)","v":143},{"$f":"'Detailed price list'!L147","v":"Legacy Luminaire - 70W MBI"}]
[null,{"$f":"'Detailed price list'!B148","v":"70W MBI - MACQUARIE DEC."},{"$f":"'Detailed price list'!C148","v":"Capital - Traditional Luminaire"},{"$f":"INDEX('Weighted average price list'!C$5:C$237,$J148)","v":114.16957160408215},{"$f":"INDEX('Weighted average price list'!D$5:D$237,$J148)","v":117.45155662585245},{"$f":"INDEX('Weighted average price list'!E$5:E$237,$J148)","v":120.82788750117886},{"$f":"INDEX('Weighted average price list'!F$5:F$237,$J148)","v":124.30127635093466},{"$f":"INDEX('Weighted average price list'!G$5:G$237,$J148)","v":127.87451326019981},null,{"$f":"MATCH(K148,'Weighted average price list'!$B$5:$B$237,0)","v":144},{"$f":"'Detailed price list'!L148","v":"Legacy Luminaire - 70W MBI - MACQUARIE DEC."}]
[null,{"$f":"'Detailed price list'!B149","v":"70W MBI II"},{"$f":"'Detailed price list'!C149","v":"Capital - Traditional Luminaire"},{"$f":"INDEX('Weighted average price list'!C$5:C$237,$J149)","v":0},{"$f":"INDEX('Weighted average price list'!D$5:D$237,$J149)","v":0},{"$f":"INDEX('Weighted average price list'!E$5:E$237,$J149)","v":0},{"$f":"INDEX('Weighted average price list'!F$5:F$237,$J149)","v":0},{"$f":"INDEX('Weighted average price list'!G$5:G$237,$J149)","v":0},null,{"$f":"MATCH(K149,'Weighted average price list'!$B$5:$B$237,0)","v":145},{"$f":"'Detailed price list'!L149","v":"Legacy Luminaire - 70W MBI II"}]
[null,{"$f":"'Detailed price list'!B150","v":"70W MBI II AERO"},{"$f":"'Detailed price list'!C150","v":"Capital - Traditional Luminaire"},{"$f":"INDEX('Weighted average price list'!C$5:C$237,$J150)","v":0},{"$f":"INDEX('Weighted average price list'!D$5:D$237,$J150)","v":0},{"$f":"INDEX('Weighted average price list'!E$5:E$237,$J150)","v":0},{"$f":"INDEX('Weighted average price list'!F$5:F$237,$J150)","v":0},{"$f":"INDEX('Weighted average price list'!G$5:G$237,$J150)","v":0},null,{"$f":"MATCH(K150,'Weighted average price list'!$B$5:$B$237,0)","v":146},{"$f":"'Detailed price list'!L150","v":"Legacy Luminaire - 70W MBI II AERO"}]
[null,{"$f":"'Detailed price list'!B151","v":"70W SON"},{"$f":"'Detailed price list'!C151","v":"Capital - Traditional Luminaire"},{"$f":"INDEX('Weighted average price list'!C$5:C$237,$J151)","v":0},{"$f":"INDEX('Weighted average price list'!D$5:D$237,$J151)","v":0},{"$f":"INDEX('Weighted average price list'!E$5:E$237,$J151)","v":0},{"$f":"INDEX('Weighted average price list'!F$5:F$237,$J151)","v":0},{"$f":"INDEX('Weighted average price list'!G$5:G$237,$J151)","v":0},null,{"$f":"MATCH(K151,'Weighted average price list'!$B$5:$B$237,0)","v":147},{"$f":"'Detailed price list'!L151","v":"Legacy Luminaire - 70W SON"}]
[null,{"$f":"'Detailed price list'!B152","v":"70W SON - BOURKE HILL"},{"$f":"'Detailed price list'!C152","v":"Capital - Traditional Luminaire"},{"$f":"INDEX('Weighted average price list'!C$5:C$237,$J152)","v":78.613731370478305},{"$f":"INDEX('Weighted average price list'!D$5:D$237,$J152)","v":80.873607493672566},{"$f":"INDEX('Weighted average price list'!E$5:E$237,$J152)","v":83.19844733253268},{"$f":"INDEX('Weighted average price list'!F$5:F$237,$J152)","v":85.59011837187775},{"$f":"INDEX('Weighted average price list'!G$5:G$237,$J152)","v":88.050541780333504},null,{"$f":"MATCH(K152,'Weighted average price list'!$B$5:$B$237,0)","v":148},{"$f":"'Detailed price list'!L152","v":"Legacy Luminaire - 70W SON - BOURKE HILL"}]
[null,{"$f":"'Detailed price list'!B153","v":"70W SON - NOSTALGIA"},{"$f":"'Detailed price list'!C153","v":"Capital - Traditional Luminaire"},{"$f":"INDEX('Weighted average price list'!C$5:C$237,$J153)","v":73.3160130548697},{"$f":"INDEX('Weighted average price list'!D$5:D$237,$J153)","v":75.423597880854928},{"$f":"INDEX('Weighted average price list'!E$5:E$237,$J153)","v":77.59176856814986},{"$f":"INDEX('Weighted average price list'!F$5:F$237,$J153)","v":79.822266753221697},{"$f":"INDEX('Weighted average price list'!G$5:G$237,$J153)","v":82.116884138634205},null,{"$f":"MATCH(K153,'Weighted average price list'!$B$5:$B$237,0)","v":149},{"$f":"'Detailed price list'!L153","v":"Legacy Luminaire - 70W SON - NOSTALGIA"}]
[null,{"$f":"'Detailed price list'!B154","v":"70W SON - PARKVILLE"},{"$f":"'Detailed price list'!C154","v":"Capital - Traditional Luminaire"},{"$f":"INDEX('Weighted average price list'!C$5:C$237,$J154)","v":91.93107262248715},{"$f":"INDEX('Weighted average price list'!D$5:D$237,$J154)","v":94.573776796140137},{"$f":"INDEX('Weighted average price list'!E$5:E$237,$J154)","v":97.29244968363723},{"$f":"INDEX('Weighted average price list'!F$5:F$237,$J154)","v":100.08927512588684},{"$f":"INDEX('Weighted average price list'!G$5:G$237,$J154)","v":102.96649974176042},null,{"$f":"MATCH(K154,'Weighted average price list'!$B$5:$B$237,0)","v":150},{"$f":"'Detailed price list'!L154","v":"Legacy Luminaire - 70W SON - PARKVILLE"}]
[null,{"$f":"'Detailed price list'!B155","v":"70W SON - PLAIN"},{"$f":"'Detailed price list'!C155","v":"Capital - Traditional Luminaire"},{"$f":"INDEX('Weighted average price list'!C$5:C$237,$J155)","v":25.997931031277083},{"$f":"INDEX('Weighted average price list'!D$5:D$237,$J155)","v":26.745282703380735},{"$f":"INDEX('Weighted average price list'!E$5:E$237,$J155)","v":27.514118182065925},{"$f":"INDEX('Weighted average price list'!F$5:F$237,$J155)","v":28.305055053353346},{"$f":"INDEX('Weighted average price list'!G$5:G$237,$J155)","v":29.118728656751255},null,{"$f":"MATCH(K155,'Weighted average price list'!$B$5:$B$237,0)","v":151},{"$f":"'Detailed price list'!L155","v":"Legacy Luminaire - 70W SON - PLAIN"}]
[null,{"$f":"'Detailed price list'!B156","v":"70W SON BOLLARD"},{"$f":"'Detailed price list'!C156","v":"Capital - Traditional Luminaire"},{"$f":"INDEX('Weighted average price list'!C$5:C$237,$J156)","v":55.996549330764665},{"$f":"INDEX('Weighted average price list'!D$5:D$237,$J156)","v":57.606258762028041},{"$f":"INDEX('Weighted average price list'!E$5:E$237,$J156)","v":59.262241838436807},{"$f":"INDEX('Weighted average price list'!F$5:F$237,$J156)","v":60.965828769153845},{"$f":"INDEX('Weighted average price list'!G$5:G$237,$J156)","v":62.718388002309645},null,{"$f":"MATCH(K156,'Weighted average price list'!$B$5:$B$237,0)","v":152},{"$f":"'Detailed price list'!L156","v":"Legacy Luminaire - 70W SON BOLLARD"}]
[null,{"$f":"'Detailed price list'!B157","v":"70W SON FLOODLIGHT"},{"$f":"'Detailed price list'!C157","v":"Capital - Traditional Luminaire"},{"$f":"INDEX('Weighted average price list'!C$5:C$237,$J157)","v":31.326501443752708},{"$f":"INDEX('Weighted average price list'!D$5:D$237,$J157)","v":32.227031305416702},{"$f":"INDEX('Weighted average price list'!E$5:E$237,$J157)","v":33.153448323142619},{"$f":"INDEX('Weighted average price list'!F$5:F$237,$J157)","v":34.106496664200762},{"$f":"INDEX('Weighted average price list'!G$5:G$237,$J157)","v":35.086941888127335},null,{"$f":"MATCH(K157,'Weighted average price list'!$B$5:$B$237,0)","v":153},{"$f":"'Detailed price list'!L157","v":"Legacy Luminaire - 70W SON FLOODLIGHT"}]
[null,{"$f":"'Detailed price list'!B158","v":"80W MBF - BEGA+CURVE BRA"},{"$f":"'Detailed price list'!C158","v":"Capital - Traditional Luminaire"},{"$f":"INDEX('Weighted average price list'!C$5:C$237,$J158)","v":114.78084679434467},{"$f":"INDEX('Weighted average price list'!D$5:D$237,$J158)","v":118.08040388886984},{"$f":"INDEX('Weighted average price list'!E$5:E$237,$J158)","v":121.47481197399223},{"$f":"INDEX('Weighted average price list'!F$5:F$237,$J158)","v":124.96679769154878},{"$f":"INDEX('Weighted average price list'!G$5:G$237,$J158)","v":128.55916606501123},null,{"$f":"MATCH(K158,'Weighted average price list'!$B$5:$B$237,0)","v":154},{"$f":"'Detailed price list'!L158","v":"Legacy Luminaire - 80W MBF - BEGA+CURVE BRA"}]
[null,{"$f":"'Detailed price list'!B159","v":"80W MBF - BOURKE HILL"},{"$f":"'Detailed price list'!C159","v":"Capital - Traditional Luminaire"},{"$f":"INDEX('Weighted average price list'!C$5:C$237,$J159)","v":53.857086164845811},{"$f":"INDEX('Weighted average price list'!D$5:D$237,$J159)","v":55.405293341467079},{"$f":"INDEX('Weighted average price list'!E$5:E$237,$J159)","v":56.998006183589908},{"$f":"INDEX('Weighted average price list'!F$5:F$237,$J159)","v":58.636504077004297},{"$f":"INDEX('Weighted average price list'!G$5:G$237,$J159)","v":60.322103185469544},null,{"$f":"MATCH(K159,'Weighted average price list'!$B$5:$B$237,0)","v":155},{"$f":"'Detailed price list'!L159","v":"Legacy Luminaire - 80W MBF - BOURKE HILL"}]
[null,{"$f":"'Detailed price list'!B160","v":"80W MBF - NOSTALGIA"},{"$f":"'Detailed price list'!C160","v":"Capital - Traditional Luminaire"},{"$f":"INDEX('Weighted average price list'!C$5:C$237,$J160)","v":0},{"$f":"INDEX('Weighted average price list'!D$5:D$237,$J160)","v":0},{"$f":"INDEX('Weighted average price list'!E$5:E$237,$J160)","v":0},{"$f":"INDEX('Weighted average price list'!F$5:F$237,$J160)","v":0},{"$f":"INDEX('Weighted average price list'!G$5:G$237,$J160)","v":0},null,{"$f":"MATCH(K160,'Weighted average price list'!$B$5:$B$237,0)","v":156},{"$f":"'Detailed price list'!L160","v":"Legacy Luminaire - 80W MBF - NOSTALGIA"}]
[null,{"$f":"'Detailed price list'!B161","v":"80W MBF - PLAIN"},{"$f":"'Detailed price list'!C161","v":"Capital - Traditional Luminaire"},{"$f":"INDEX('Weighted average price list'!C$5:C$237,$J161)","v":22.595550255287531},{"$f":"INDEX('Weighted average price list'!D$5:D$237,$J161)","v":23.245095107340383},{"$f":"INDEX('Weighted average price list'!E$5:E$237,$J161)","v":23.913312154142282},{"$f":"INDEX('Weighted average price list'!F$5:F$237,$J161)","v":24.600738157482088},{"$f":"INDEX('Weighted average price list'!G$5:G$237,$J161)","v":25.307925309215797},null,{"$f":"MATCH(K161,'Weighted average price list'!$B$5:$B$237,0)","v":157},{"$f":"'Detailed price list'!L161","v":"Legacy Luminaire - 80W MBF - PLAIN"}]
[null,{"$f":"'Detailed price list'!B162","v":"80W MBF - REGAL/FLINDERS"},{"$f":"'Detailed price list'!C162","v":"Capital - Traditional Luminaire"},{"$f":"INDEX('Weighted average price list'!C$5:C$237,$J162)","v":125.07064583043062},{"$f":"INDEX('Weighted average price list'!D$5:D$237,$J162)","v":128.66599948299643},{"$f":"INDEX('Weighted average price list'!E$5:E$237,$J162)","v":132.36470726635119},{"$f":"INDEX('Weighted average price list'!F$5:F$237,$J162)","v":136.16974025855382},{"$f":"INDEX('Weighted average price list'!G$5:G$237,$J162)","v":140.08415494600408},null,{"$f":"MATCH(K162,'Weighted average price list'!$B$5:$B$237,0)","v":158},{"$f":"'Detailed price list'!L162","v":"Legacy Luminaire - 80W MBF - REGAL/FLINDERS"}]
[null,{"$f":"'Detailed price list'!B163","v":"80W MBF BOLLARD"},{"$f":"'Detailed price list'!C163","v":"Capital - Traditional Luminaire"},{"$f":"INDEX('Weighted average price list'!C$5:C$237,$J163)","v":44.586079112530754},{"$f":"INDEX('Weighted average price list'!D$5:D$237,$J163)","v":45.867776519036212},{"$f":"INDEX('Weighted average price list'!E$5:E$237,$J163)","v":47.186318345919965},{"$f":"INDEX('Weighted average price list'!F$5:F$237,$J163)","v":48.542763744356208},{"$f":"INDEX('Weighted average price list'!G$5:G$237,$J163)","v":49.938202312495797},null,{"$f":"MATCH(K163,'Weighted average price list'!$B$5:$B$237,0)","v":159},{"$f":"'Detailed price list'!L163","v":"Legacy Luminaire - 80W MBF BOLLARD"}]
[null,{"$f":"'Detailed price list'!B164","v":"80W MBF TOORAK"},{"$f":"'Detailed price list'!C164","v":"Capital - Traditional Luminaire"},{"$f":"INDEX('Weighted average price list'!C$5:C$237,$J164)","v":63.097337232745119},{"$f":"INDEX('Weighted average price list'!D$5:D$237,$J164)","v":64.911170050035409},{"$f":"INDEX('Weighted average price list'!E$5:E$237,$J164)","v":66.77714436225034},{"$f":"INDEX('Weighted average price list'!F$5:F$237,$J164)","v":68.696759059181218},{"$f":"INDEX('Weighted average price list'!G$5:G$237,$J164)","v":70.67155611857855},null,{"$f":"MATCH(K164,'Weighted average price list'!$B$5:$B$237,0)","v":160},{"$f":"'Detailed price list'!L164","v":"Legacy Luminaire - 80W MBF TOORAK"}]
[null,{"$f":"'Detailed price list'!B165","v":"TH FLOODLIGHT"},{"$f":"'Detailed price list'!C165","v":"Capital - Traditional Luminaire"},{"$f":"INDEX('Weighted average price list'!C$5:C$237,$J165)","v":128.27363844119779},{"$f":"INDEX('Weighted average price list'!D$5:D$237,$J165)","v":131.96106718545118},{"$f":"INDEX('Weighted average price list'!E$5:E$237,$J165)","v":135.75449690472314},{"$f":"INDEX('Weighted average price list'!F$5:F$237,$J165)","v":139.65697476479886},{"$f":"INDEX('Weighted average price list'!G$5:G$237,$J165)","v":143.67163552706654},null,{"$f":"MATCH(K165,'Weighted average price list'!$B$5:$B$237,0)","v":161},{"$f":"'Detailed price list'!L165","v":"Legacy Luminaire - TH FLOODLIGHT"}]
[null,{"$f":"'Detailed price list'!B166","v":"10W LED PH RRW"},{"$f":"'Detailed price list'!C166","v":"Capital - LED Luminaire"},{"$f":"INDEX('Weighted average price list'!C$5:C$237,$J166)","v":54.931151264508671},{"$f":"INDEX('Weighted average price list'!D$5:D$237,$J166)","v":56.510234142246894},{"$f":"INDEX('Weighted average price list'!E$5:E$237,$J166)","v":58.134710256379527},{"$f":"INDEX('Weighted average price list'!F$5:F$237,$J166)","v":59.805884507326539},{"$f":"INDEX('Weighted average price list'!G$5:G$237,$J166)","v":61.525099306935644},null,{"$f":"MATCH(K166,'Weighted average price list'!$B$5:$B$237,0)","v":162},{"$f":"'Detailed price list'!L166","v":"Philips minor road RRW"}]
[null,{"$f":"'Detailed price list'!B167","v":"16W LED PH"},{"$f":"'Detailed price list'!C167","v":"Capital - LED Luminaire"},{"$f":"INDEX('Weighted average price list'!C$5:C$237,$J167)","v":55.081582366624055},{"$f":"INDEX('Weighted average price list'!D$5:D$237,$J167)","v":56.6649896244665},{"$f":"INDEX('Weighted average price list'!E$5:E$237,$J167)","v":58.293914429853245},{"$f":"INDEX('Weighted average price list'!F$5:F$237,$J167)","v":59.969665256725023},{"$f":"INDEX('Weighted average price list'!G$5:G$237,$J167)","v":61.693588193176787},null,{"$f":"MATCH(K167,'Weighted average price list'!$B$5:$B$237,0)","v":163},{"$f":"'Detailed price list'!L167","v":"Philips minor road "}]
[null,{"$f":"'Detailed price list'!B168","v":"17W LED ALD"},{"$f":"'Detailed price list'!C168","v":"Capital - LED Luminaire"},{"$f":"INDEX('Weighted average price list'!C$5:C$237,$J168)","v":51.104184026693453},{"$f":"INDEX('Weighted average price list'!D$5:D$237,$J168)","v":52.573254674580539},{"$f":"INDEX('Weighted average price list'!E$5:E$237,$J168)","v":54.08455608320839},{"$f":"INDEX('Weighted average price list'!F$5:F$237,$J168)","v":55.639302242629377},{"$f":"INDEX('Weighted average price list'!G$5:G$237,$J168)","v":57.238742040961156},null,{"$f":"MATCH(K168,'Weighted average price list'!$B$5:$B$237,0)","v":164},{"$f":"'Detailed price list'!L168","v":"Aldridge minor road"}]
[null,{"$f":"'Detailed price list'!B169","v":"17W LED ALD RRW"},{"$f":"'Detailed price list'!C169","v":"Capital - LED Luminaire"},{"$f":"INDEX('Weighted average price list'!C$5:C$237,$J169)","v":51.104184026693453},{"$f":"INDEX('Weighted average price list'!D$5:D$237,$J169)","v":52.573254674580539},{"$f":"INDEX('Weighted average price list'!E$5:E$237,$J169)","v":54.084556083208398},{"$f":"INDEX('Weighted average price list'!F$5:F$237,$J169)","v":55.63930224262937},{"$f":"INDEX('Weighted average price list'!G$5:G$237,$J169)","v":57.238742040961164},null,{"$f":"MATCH(K169,'Weighted average price list'!$B$5:$B$237,0)","v":165},{"$f":"'Detailed price list'!L169","v":"Aldridge minor road RRW"}]
[null,{"$f":"'Detailed price list'!B170","v":"17W LED ALD RRW ZHAGA"},{"$f":"'Detailed price list'!C170","v":"Capital - LED Luminaire"},{"$f":"INDEX('Weighted average price list'!C$5:C$237,$J170)","v":53.802917998643323},{"$f":"INDEX('Weighted average price list'!D$5:D$237,$J170)","v":55.349568025599964},{"$f":"INDEX('Weighted average price list'!E$5:E$237,$J170)","v":56.940678955326703},{"$f":"INDEX('Weighted average price list'!F$5:F$237,$J170)","v":58.577528886837982},{"$f":"INDEX('Weighted average price list'!G$5:G$237,$J170)","v":60.261432660127113},null,{"$f":"MATCH(K170,'Weighted average price list'!$B$5:$B$237,0)","v":166},{"$f":"'Detailed price list'!L170","v":"Aldridge minor road RRW ZHAGA"}]
[null,{"$f":"'Detailed price list'!B171","v":"17W LED ALD ZHAGA"},{"$f":"'Detailed price list'!C171","v":"Capital - LED Luminaire"},{"$f":"INDEX('Weighted average price list'!C$5:C$237,$J171)","v":53.802917998643331},{"$f":"INDEX('Weighted average price list'!D$5:D$237,$J171)","v":55.349568025599964},{"$f":"INDEX('Weighted average price list'!E$5:E$237,$J171)","v":56.940678955326703},{"$f":"INDEX('Weighted average price list'!F$5:F$237,$J171)","v":58.577528886837982},{"$f":"INDEX('Weighted average price list'!G$5:G$237,$J171)","v":60.261432660127113},null,{"$f":"MATCH(K171,'Weighted average price list'!$B$5:$B$237,0)","v":167},{"$f":"'Detailed price list'!L171","v":"Aldridge minor road ZHAGA"}]
[null,{"$f":"'Detailed price list'!B172","v":"17W LED SY RRW"},{"$f":"'Detailed price list'!C172","v":"Capital - LED Luminaire"},{"$f":"INDEX('Weighted average price list'!C$5:C$237,$J172)","v":67.009884696487063},{"$f":"INDEX('Weighted average price list'!D$5:D$237,$J172)","v":68.936189882662958},{"$f":"INDEX('Weighted average price list'!E$5:E$237,$J172)","v":70.917869760007108},{"$f":"INDEX('Weighted average price list'!F$5:F$237,$J172)","v":72.956516161653738},{"$f":"INDEX('Weighted average price list'!G$5:G$237,$J172)","v":75.053766680499763},null,{"$f":"MATCH(K172,'Weighted average price list'!$B$5:$B$237,0)","v":168},{"$f":"'Detailed price list'!L172","v":"17W LED SY RRW"}]
[null,{"$f":"'Detailed price list'!B173","v":"1x17W LED"},{"$f":"'Detailed price list'!C173","v":"Capital - LED Luminaire"},{"$f":"INDEX('Weighted average price list'!C$5:C$237,$J173)","v":63.163567805258623},{"$f":"INDEX('Weighted average price list'!D$5:D$237,$J173)","v":64.979304525173035},{"$f":"INDEX('Weighted average price list'!E$5:E$237,$J173)","v":66.847237470706162},{"$f":"INDEX('Weighted average price list'!F$5:F$237,$J173)","v":68.768867104969715},{"$f":"INDEX('Weighted average price list'!G$5:G$237,$J173)","v":70.745737024262226},null,{"$f":"MATCH(K173,'Weighted average price list'!$B$5:$B$237,0)","v":169},{"$f":"'Detailed price list'!L173","v":"1x17W LED"}]
[null,{"$f":"'Detailed price list'!B174","v":"20W LED GE"},{"$f":"'Detailed price list'!C174","v":"Capital - LED Luminaire"},{"$f":"INDEX('Weighted average price list'!C$5:C$237,$J174)","v":56.272250041807659},{"$f":"INDEX('Weighted average price list'!D$5:D$237,$J174)","v":57.889884926336926},{"$f":"INDEX('Weighted average price list'!E$5:E$237,$J174)","v":59.554021285708622},{"$f":"INDEX('Weighted average price list'!F$5:F$237,$J174)","v":61.265995878410834},{"$f":"INDEX('Weighted average price list'!G$5:G$237,$J174)","v":63.027183890169958},null,{"$f":"MATCH(K174,'Weighted average price list'!$B$5:$B$237,0)","v":170},{"$f":"'Detailed price list'!L174","v":"20W LED GE"}]
[null,{"$f":"'Detailed price list'!B175","v":"1x22W LED"},{"$f":"'Detailed price list'!C175","v":"Capital - LED Luminaire"},{"$f":"INDEX('Weighted average price list'!C$5:C$237,$J175)","v":65.567515862276395},{"$f":"INDEX('Weighted average price list'!D$5:D$237,$J175)","v":67.452357873604242},{"$f":"INDEX('Weighted average price list'!E$5:E$237,$J175)","v":69.391382651519265},{"$f":"INDEX('Weighted average price list'!F$5:F$237,$J175)","v":71.38614776539724},{"$f":"INDEX('Weighted average price list'!G$5:G$237,$J175)","v":73.438255559410692},null,{"$f":"MATCH(K175,'Weighted average price list'!$B$5:$B$237,0)","v":171},{"$f":"'Detailed price list'!L175","v":"1x22W LED"}]
[null,{"$f":"'Detailed price list'!B176","v":"1x25W LED GE"},{"$f":"'Detailed price list'!C176","v":"Capital - LED Luminaire"},{"$f":"INDEX('Weighted average price list'!C$5:C$237,$J176)","v":56.272250041807652},{"$f":"INDEX('Weighted average price list'!D$5:D$237,$J176)","v":57.889884926336926},{"$f":"INDEX('Weighted average price list'!E$5:E$237,$J176)","v":59.554021285708615},{"$f":"INDEX('Weighted average price list'!F$5:F$237,$J176)","v":61.265995878410834},{"$f":"INDEX('Weighted average price list'!G$5:G$237,$J176)","v":63.027183890169958},null,{"$f":"MATCH(K176,'Weighted average price list'!$B$5:$B$237,0)","v":172},{"$f":"'Detailed price list'!L176","v":"1x25W LED GE"}]
[null,{"$f":"'Detailed price list'!B177","v":"25W LED PH"},{"$f":"'Detailed price list'!C177","v":"Capital - LED Luminaire"},{"$f":"INDEX('Weighted average price list'!C$5:C$237,$J177)","v":55.232013468739424},{"$f":"INDEX('Weighted average price list'!D$5:D$237,$J177)","v":56.819745106686078},{"$f":"INDEX('Weighted average price list'!E$5:E$237,$J177)","v":58.453118603326942},{"$f":"INDEX('Weighted average price list'!F$5:F$237,$J177)","v":60.133446006123485},{"$f":"INDEX('Weighted average price list'!G$5:G$237,$J177)","v":61.862077079417908},null,{"$f":"MATCH(K177,'Weighted average price list'!$B$5:$B$237,0)","v":173},{"$f":"'Detailed price list'!L177","v":"Philips minor road high"}]
[null,{"$f":"'Detailed price list'!B178","v":"28W LED SY"},{"$f":"'Detailed price list'!C178","v":"Capital - LED Luminaire"},{"$f":"INDEX('Weighted average price list'!C$5:C$237,$J178)","v":69.8946223649084},{"$f":"INDEX('Weighted average price list'!D$5:D$237,$J178)","v":71.903853900780419},{"$f":"INDEX('Weighted average price list'!E$5:E$237,$J178)","v":73.970843976982849},{"$f":"INDEX('Weighted average price list'!F$5:F$237,$J178)","v":76.097252954166777},{"$f":"INDEX('Weighted average price list'!G$5:G$237,$J178)","v":78.284788922677933},null,{"$f":"MATCH(K178,'Weighted average price list'!$B$5:$B$237,0)","v":174},{"$f":"'Detailed price list'!L178","v":"28W LED SY"}]
[null,{"$f":"'Detailed price list'!B179","v":"1x29W LED"},{"$f":"'Detailed price list'!C179","v":"Capital - LED Luminaire"},{"$f":"INDEX('Weighted average price list'!C$5:C$237,$J179)","v":40.922778445149085},{"$f":"INDEX('Weighted average price list'!D$5:D$237,$J179)","v":42.099168476391007},{"$f":"INDEX('Weighted average price list'!E$5:E$237,$J179)","v":43.30937570084869},{"$f":"INDEX('Weighted average price list'!F$5:F$237,$J179)","v":44.554372247260581},{"$f":"INDEX('Weighted average price list'!G$5:G$237,$J179)","v":45.835158189744213},null,{"$f":"MATCH(K179,'Weighted average price list'!$B$5:$B$237,0)","v":175},{"$f":"'Detailed price list'!L179","v":"1x29W LED"}]
[null,{"$f":"'Detailed price list'!B180","v":"33W LED LRL"},{"$f":"'Detailed price list'!C180","v":"Capital - LED Luminaire"},{"$f":"INDEX('Weighted average price list'!C$5:C$237,$J180)","v":76.465413720756985},{"$f":"INDEX('Weighted average price list'!D$5:D$237,$J180)","v":78.663533053159028},{"$f":"INDEX('Weighted average price list'!E$5:E$237,$J180)","v":80.924840804538633},{"$f":"INDEX('Weighted average price list'!F$5:F$237,$J180)","v":83.251153426002006},{"$f":"INDEX('Weighted average price list'!G$5:G$237,$J180)","v":85.644339585417072},null,{"$f":"MATCH(K180,'Weighted average price list'!$B$5:$B$237,0)","v":176},{"$f":"'Detailed price list'!L180","v":"33W LED LRL"}]
[null,{"$f":"'Detailed price list'!B181","v":"34W LED BOURKE HILL"},{"$f":"'Detailed price list'!C181","v":"Capital - LED Luminaire"},{"$f":"INDEX('Weighted average price list'!C$5:C$237,$J181)","v":156.62257629450431},{"$f":"INDEX('Weighted average price list'!D$5:D$237,$J181)","v":161.12494012268965},{"$f":"INDEX('Weighted average price list'!E$5:E$237,$J181)","v":165.75673152460632},{"$f":"INDEX('Weighted average price list'!F$5:F$237,$J181)","v":170.52167110069482},{"$f":"INDEX('Weighted average price list'!G$5:G$237,$J181)","v":175.42358640594335},null,{"$f":"MATCH(K181,'Weighted average price list'!$B$5:$B$237,0)","v":177},{"$f":"'Detailed price list'!L181","v":"Bourke Hill Decorative"}]
[null,{"$f":"'Detailed price list'!B182","v":"40W LED ALD"},{"$f":"'Detailed price list'!C182","v":"Capital - LED Luminaire"},{"$f":"INDEX('Weighted average price list'!C$5:C$237,$J182)","v":54.386420593127532},{"$f":"INDEX('Weighted average price list'!D$5:D$237,$J182)","v":55.949844325620205},{"$f":"INDEX('Weighted average price list'!E$5:E$237,$J182)","v":57.558211147594854},{"$f":"INDEX('Weighted average price list'!F$5:F$237,$J182)","v":59.21281301928606},{"$f":"INDEX('Weighted average price list'!G$5:G$237,$J182)","v":60.914979040370021},null,{"$f":"MATCH(K182,'Weighted average price list'!$B$5:$B$237,0)","v":178},{"$f":"'Detailed price list'!L182","v":"40W LED ALD"}]
[null,{"$f":"'Detailed price list'!B183","v":"40W LED ALD ZHAGA"},{"$f":"'Detailed price list'!C183","v":"Capital - LED Luminaire"},{"$f":"INDEX('Weighted average price list'!C$5:C$237,$J183)","v":0},{"$f":"INDEX('Weighted average price list'!D$5:D$237,$J183)","v":0},{"$f":"INDEX('Weighted average price list'!E$5:E$237,$J183)","v":0},{"$f":"INDEX('Weighted average price list'!F$5:F$237,$J183)","v":0},{"$f":"INDEX('Weighted average price list'!G$5:G$237,$J183)","v":0},null,{"$f":"MATCH(K183,'Weighted average price list'!$B$5:$B$237,0)","v":179},{"$f":"'Detailed price list'!L183","v":"40W LED ALD ZHAGA"}]
[null,{"$f":"'Detailed price list'!B184","v":"42W LED LRL"},{"$f":"'Detailed price list'!C184","v":"Capital - LED Luminaire"},{"$f":"INDEX('Weighted average price list'!C$5:C$237,$J184)","v":94.043182805061022},{"$f":"INDEX('Weighted average price list'!D$5:D$237,$J184)","v":96.746602928560719},{"$f":"INDEX('Weighted average price list'!E$5:E$237,$J184)","v":99.527737141972636},{"$f":"INDEX('Weighted average price list'!F$5:F$237,$J184)","v":102.38881945980245},{"$f":"INDEX('Weighted average price list'!G$5:G$237,$J184)","v":105.3321481168384},null,{"$f":"MATCH(K184,'Weighted average price list'!$B$5:$B$237,0)","v":180},{"$f":"'Detailed price list'!L184","v":"42W LED LRL"}]
[null,{"$f":"'Detailed price list'!B185","v":"49W LED PH"},{"$f":"'Detailed price list'!C185","v":"Capital - LED Luminaire"},{"$f":"INDEX('Weighted average price list'!C$5:C$237,$J185)","v":59.143222123739257},{"$f":"INDEX('Weighted average price list'!D$5:D$237,$J185)","v":60.84338764439542},{"$f":"INDEX('Weighted average price list'!E$5:E$237,$J185)","v":62.592427113643367},{"$f":"INDEX('Weighted average price list'!F$5:F$237,$J185)","v":64.391745490483814},{"$f":"INDEX('Weighted average price list'!G$5:G$237,$J185)","v":66.242788121687454},null,{"$f":"MATCH(K185,'Weighted average price list'!$B$5:$B$237,0)","v":181},{"$f":"'Detailed price list'!L185","v":"Philips major road V5"}]
[null,{"$f":"'Detailed price list'!B186","v":"49W LED PH ZHAGA"},{"$f":"'Detailed price list'!C186","v":"Capital - LED Luminaire"},{"$f":"INDEX('Weighted average price list'!C$5:C$237,$J186)","v":67.416932740085059},{"$f":"INDEX('Weighted average price list'!D$5:D$237,$J186)","v":69.35493916647286},{"$f":"INDEX('Weighted average price list'!E$5:E$237,$J186)","v":71.348656654697322},{"$f":"INDEX('Weighted average price list'!F$5:F$237,$J186)","v":73.399686707399866},{"$f":"INDEX('Weighted average price list'!G$5:G$237,$J186)","v":75.50967686494991},null,{"$f":"MATCH(K186,'Weighted average price list'!$B$5:$B$237,0)","v":182},{"$f":"'Detailed price list'!L186","v":"Philips major road V5 ZHAGA"}]
[null,{"$f":"'Detailed price list'!B187","v":"50W LED SY PT"},{"$f":"'Detailed price list'!C187","v":"Capital - LED Luminaire"},{"$f":"INDEX('Weighted average price list'!C$5:C$237,$J187)","v":201.39352632927802},{"$f":"INDEX('Weighted average price list'!D$5:D$237,$J187)","v":207.18290197120743},{"$f":"INDEX('Weighted average price list'!E$5:E$237,$J187)","v":213.13870237829323},{"$f":"INDEX('Weighted average price list'!F$5:F$237,$J187)","v":219.26571169379548},{"$f":"INDEX('Weighted average price list'!G$5:G$237,$J187)","v":225.56885158874371},null,{"$f":"MATCH(K187,'Weighted average price list'!$B$5:$B$237,0)","v":183},{"$f":"'Detailed price list'!L187","v":"50W LED SY PT "}]
[null,{"$f":"'Detailed price list'!B188","v":"58W LED ALD"},{"$f":"'Detailed price list'!C188","v":"Capital - LED Luminaire"},{"$f":"INDEX('Weighted average price list'!C$5:C$237,$J188)","v":83.647791538978225},{"$f":"INDEX('Weighted average price list'!D$5:D$237,$J188)","v":86.05237968867462},{"$f":"INDEX('Weighted average price list'!E$5:E$237,$J188)","v":88.526091530261496},{"$f":"INDEX('Weighted average price list'!F$5:F$237,$J188)","v":91.070914133658178},{"$f":"INDEX('Weighted average price list'!G$5:G$237,$J188)","v":93.688891690253541},null,{"$f":"MATCH(K188,'Weighted average price list'!$B$5:$B$237,0)","v":184},{"$f":"'Detailed price list'!L188","v":"Aldridge major road V5"}]
[null,{"$f":"'Detailed price list'!B189","v":"58W LED ALD ZHAGA"},{"$f":"'Detailed price list'!C189","v":"Capital - LED Luminaire"},{"$f":"INDEX('Weighted average price list'!C$5:C$237,$J189)","v":0},{"$f":"INDEX('Weighted average price list'!D$5:D$237,$J189)","v":0},{"$f":"INDEX('Weighted average price list'!E$5:E$237,$J189)","v":0},{"$f":"INDEX('Weighted average price list'!F$5:F$237,$J189)","v":0},{"$f":"INDEX('Weighted average price list'!G$5:G$237,$J189)","v":0},null,{"$f":"MATCH(K189,'Weighted average price list'!$B$5:$B$237,0)","v":185},{"$f":"'Detailed price list'!L189","v":"Aldridge major road V5 Zhaga"}]
[null,{"$f":"'Detailed price list'!B190","v":"70W LED PH FLOOD"},{"$f":"'Detailed price list'!C190","v":"Capital - LED Luminaire"},{"$f":"INDEX('Weighted average price list'!C$5:C$237,$J190)","v":86.789059576886871},{"$f":"INDEX('Weighted average price list'!D$5:D$237,$J190)","v":89.283948447738055},{"$f":"INDEX('Weighted average price list'!E$5:E$237,$J190)","v":91.850556847620226},{"$f":"INDEX('Weighted average price list'!F$5:F$237,$J190)","v":94.490946467899491},{"$f":"INDEX('Weighted average price list'!G$5:G$237,$J190)","v":97.207238266523134},null,{"$f":"MATCH(K190,'Weighted average price list'!$B$5:$B$237,0)","v":186},{"$f":"'Detailed price list'!L190","v":"Philips floodlight PX3"}]
[null,{"$f":"'Detailed price list'!B191","v":"74W LED ALD"},{"$f":"'Detailed price list'!C191","v":"Capital - LED Luminaire"},{"$f":"INDEX('Weighted average price list'!C$5:C$237,$J191)","v":93.693190044626604},{"$f":"INDEX('Weighted average price list'!D$5:D$237,$J191)","v":96.386549072325252},{"$f":"INDEX('Weighted average price list'!E$5:E$237,$J191)","v":99.157332967814511},{"$f":"INDEX('Weighted average price list'!F$5:F$237,$J191)","v":102.00776743145246},{"$f":"INDEX('Weighted average price list'!G$5:G$237,$J191)","v":104.9401421448764},null,{"$f":"MATCH(K191,'Weighted average price list'!$B$5:$B$237,0)","v":187},{"$f":"'Detailed price list'!L191","v":"Aldridge major road V3"}]
[null,{"$f":"'Detailed price list'!B192","v":"74W LED ALD ZHAGA"},{"$f":"'Detailed price list'!C192","v":"Capital - LED Luminaire"},{"$f":"INDEX('Weighted average price list'!C$5:C$237,$J192)","v":96.692608135040331},{"$f":"INDEX('Weighted average price list'!D$5:D$237,$J192)","v":99.472190182659745},{"$f":"INDEX('Weighted average price list'!E$5:E$237,$J192)","v":102.33167571523488},{"$f":"INDEX('Weighted average price list'!F$5:F$237,$J192)","v":105.27336168489691},{"$f":"INDEX('Weighted average price list'!G$5:G$237,$J192)","v":108.29961107330125},null,{"$f":"MATCH(K192,'Weighted average price list'!$B$5:$B$237,0)","v":188},{"$f":"'Detailed price list'!L192","v":"Aldridge major road V3 ZHAGA"}]
[null,{"$f":"'Detailed price list'!B193","v":"76W LED PH"},{"$f":"'Detailed price list'!C193","v":"Capital - LED Luminaire"},{"$f":"INDEX('Weighted average price list'!C$5:C$237,$J193)","v":70.241638344195266},{"$f":"INDEX('Weighted average price list'!D$5:D$237,$J193)","v":72.260845403583161},{"$f":"INDEX('Weighted average price list'!E$5:E$237,$J193)","v":74.338097765512302},{"$f":"INDEX('Weighted average price list'!F$5:F$237,$J193)","v":76.475064034067373},{"$f":"INDEX('Weighted average price list'!G$5:G$237,$J193)","v":78.673460779998209},null,{"$f":"MATCH(K193,'Weighted average price list'!$B$5:$B$237,0)","v":189},{"$f":"'Detailed price list'!L193","v":"Philips major road V3"}]
[null,{"$f":"'Detailed price list'!B194","v":"76W LED PH ZHAGA"},{"$f":"'Detailed price list'!C194","v":"Capital - LED Luminaire"},{"$f":"INDEX('Weighted average price list'!C$5:C$237,$J194)","v":78.515348960541061},{"$f":"INDEX('Weighted average price list'!D$5:D$237,$J194)","v":80.772396925660601},{"$f":"INDEX('Weighted average price list'!E$5:E$237,$J194)","v":83.094327306566257},{"$f":"INDEX('Weighted average price list'!F$5:F$237,$J194)","v":85.483005250983425},{"$f":"INDEX('Weighted average price list'!G$5:G$237,$J194)","v":87.940349523260664},null,{"$f":"MATCH(K194,'Weighted average price list'!$B$5:$B$237,0)","v":190},{"$f":"'Detailed price list'!L194","v":"Philips major road V3 ZHAGA"}]
[null,{"$f":"'Detailed price list'!B195","v":"100W LED ALD"},{"$f":"'Detailed price list'!C195","v":"Capital - LED Luminaire"},{"$f":"INDEX('Weighted average price list'!C$5:C$237,$J195)","v":125.93556036149687},{"$f":"INDEX('Weighted average price list'!D$5:D$237,$J195)","v":129.55577735108136},{"$f":"INDEX('Weighted average price list'!E$5:E$237,$J195)","v":133.28006320742639},{"$f":"INDEX('Weighted average price list'!F$5:F$237,$J195)","v":137.11140955480755},{"$f":"INDEX('Weighted average price list'!G$5:G$237,$J195)","v":141.05289401647474},null,{"$f":"MATCH(K195,'Weighted average price list'!$B$5:$B$237,0)","v":191},{"$f":"'Detailed price list'!L195","v":"100W LED ALD"}]
[null,{"$f":"'Detailed price list'!B196","v":"100W LED SY CT"},{"$f":"'Detailed price list'!C196","v":"Capital - LED Luminaire"},{"$f":"INDEX('Weighted average price list'!C$5:C$237,$J196)","v":219.48670857372727},{"$f":"INDEX('Weighted average price list'!D$5:D$237,$J196)","v":225.79620137374121},{"$f":"INDEX('Weighted average price list'!E$5:E$237,$J196)","v":232.28707052976378},{"$f":"INDEX('Weighted average price list'!F$5:F$237,$J196)","v":238.96452999219662},{"$f":"INDEX('Weighted average price list'!G$5:G$237,$J196)","v":245.83394359469736},null,{"$f":"MATCH(K196,'Weighted average price list'!$B$5:$B$237,0)","v":192},{"$f":"'Detailed price list'!L196","v":"100W LED SY CT"}]
[null,{"$f":"'Detailed price list'!B197","v":"100W LED SY PT"},{"$f":"'Detailed price list'!C197","v":"Capital - LED Luminaire"},{"$f":"INDEX('Weighted average price list'!C$5:C$237,$J197)","v":216.47117819965237},{"$f":"INDEX('Weighted average price list'!D$5:D$237,$J197)","v":222.69398480665222},{"$f":"INDEX('Weighted average price list'!E$5:E$237,$J197)","v":229.09567583785199},{"$f":"INDEX('Weighted average price list'!F$5:F$237,$J197)","v":235.68139360912974},{"$f":"INDEX('Weighted average price list'!G$5:G$237,$J197)","v":242.45642826037172},null,{"$f":"MATCH(K197,'Weighted average price list'!$B$5:$B$237,0)","v":193},{"$f":"'Detailed price list'!L197","v":"100W LED SY PT"}]
[null,{"$f":"'Detailed price list'!B198","v":"110W LED SY FLOOD"},{"$f":"'Detailed price list'!C198","v":"Capital - LED Luminaire"},{"$f":"INDEX('Weighted average price list'!C$5:C$237,$J198)","v":129.06019927130811},{"$f":"INDEX('Weighted average price list'!D$5:D$237,$J198)","v":132.77023895144279},{"$f":"INDEX('Weighted average price list'!E$5:E$237,$J198)","v":136.58692959373226},{"$f":"INDEX('Weighted average price list'!F$5:F$237,$J198)","v":140.51333704887062},{"$f":"INDEX('Weighted average price list'!G$5:G$237,$J198)","v":144.55261530028227},null,{"$f":"MATCH(K198,'Weighted average price list'!$B$5:$B$237,0)","v":194},{"$f":"'Detailed price list'!L198","v":"Sylvania floodlight PX2"}]
[null,{"$f":"'Detailed price list'!B199","v":"120W LED PH FLOOD"},{"$f":"'Detailed price list'!C199","v":"Capital - LED Luminaire"},{"$f":"INDEX('Weighted average price list'!C$5:C$237,$J199)","v":95.363632397463434},{"$f":"INDEX('Weighted average price list'!D$5:D$237,$J199)","v":98.105010934254679},{"$f":"INDEX('Weighted average price list'!E$5:E$237,$J199)","v":100.9251947356216},{"$f":"INDEX('Weighted average price list'!F$5:F$237,$J199)","v":103.82644918361251},{"$f":"INDEX('Weighted average price list'!G$5:G$237,$J199)","v":106.81110478226789},null,{"$f":"MATCH(K199,'Weighted average price list'!$B$5:$B$237,0)","v":195},{"$f":"'Detailed price list'!L199","v":"Philips floodlight PX2"}]
[null,{"$f":"'Detailed price list'!B200","v":"140W LED PH"},{"$f":"'Detailed price list'!C200","v":"Capital - LED Luminaire"},{"$f":"INDEX('Weighted average price list'!C$5:C$237,$J200)","v":75.506726918233511},{"$f":"INDEX('Weighted average price list'!D$5:D$237,$J200)","v":77.677287281268818},{"$f":"INDEX('Weighted average price list'!E$5:E$237,$J200)","v":79.910243837092111},{"$f":"INDEX('Weighted average price list'!F$5:F$237,$J200)","v":82.207390263013977},{"$f":"INDEX('Weighted average price list'!G$5:G$237,$J200)","v":84.570571798437982},null,{"$f":"MATCH(K200,'Weighted average price list'!$B$5:$B$237,0)","v":196},{"$f":"'Detailed price list'!L200","v":"Philips major road V1"}]
[null,{"$f":"'Detailed price list'!B201","v":"140W LED PH ZHAGA"},{"$f":"'Detailed price list'!C201","v":"Capital - LED Luminaire"},{"$f":"INDEX('Weighted average price list'!C$5:C$237,$J201)","v":83.78043753457932},{"$f":"INDEX('Weighted average price list'!D$5:D$237,$J201)","v":86.188838803346272},{"$f":"INDEX('Weighted average price list'!E$5:E$237,$J201)","v":88.66647337814608},{"$f":"INDEX('Weighted average price list'!F$5:F$237,$J201)","v":91.215331479930029},{"$f":"INDEX('Weighted average price list'!G$5:G$237,$J201)","v":93.837460541700452},null,{"$f":"MATCH(K201,'Weighted average price list'!$B$5:$B$237,0)","v":197},{"$f":"'Detailed price list'!L201","v":"Philips major road V1 ZHAGA"}]
[null,{"$f":"'Detailed price list'!B202","v":"150W LED SY FLOOD"},{"$f":"'Detailed price list'!C202","v":"Capital - LED Luminaire"},{"$f":"INDEX('Weighted average price list'!C$5:C$237,$J202)","v":140.03804900640841},{"$f":"INDEX('Weighted average price list'!D$5:D$237,$J202)","v":144.0636643508434},{"$f":"INDEX('Weighted average price list'!E$5:E$237,$J202)","v":148.205002379337},{"$f":"INDEX('Weighted average price list'!F$5:F$237,$J202)","v":152.46538972358647},{"$f":"INDEX('Weighted average price list'!G$5:G$237,$J202)","v":156.84824864458193},null,{"$f":"MATCH(K202,'Weighted average price list'!$B$5:$B$237,0)","v":198},{"$f":"'Detailed price list'!L202","v":"Sylvania floodlight PX1"}]
[null,{"$f":"'Detailed price list'!B203","v":"150W LED SY PT"},{"$f":"'Detailed price list'!C203","v":"Capital - LED Luminaire"},{"$f":"INDEX('Weighted average price list'!C$5:C$237,$J203)","v":231.54883007002687},{"$f":"INDEX('Weighted average price list'!D$5:D$237,$J203)","v":238.20506764209716},{"$f":"INDEX('Weighted average price list'!E$5:E$237,$J203)","v":245.05264929741088},{"$f":"INDEX('Weighted average price list'!F$5:F$237,$J203)","v":252.09707552446412},{"$f":"INDEX('Weighted average price list'!G$5:G$237,$J203)","v":259.3440049319999},null,{"$f":"MATCH(K203,'Weighted average price list'!$B$5:$B$237,0)","v":199},{"$f":"'Detailed price list'!L203","v":"150W LED Syrkel PT"}]
[null,{"$f":"'Detailed price list'!B204","v":"152W LED PH FLOOD"},{"$f":"'Detailed price list'!C204","v":"Capital - LED Luminaire"},{"$f":"INDEX('Weighted average price list'!C$5:C$237,$J204)","v":96.115787908040332},{"$f":"INDEX('Weighted average price list'!D$5:D$237,$J204)","v":98.878788345352646},{"$f":"INDEX('Weighted average price list'!E$5:E$237,$J204)","v":101.72121560299017},{"$f":"INDEX('Weighted average price list'!F$5:F$237,$J204)","v":104.6453529306049},{"$f":"INDEX('Weighted average price list'!G$5:G$237,$J204)","v":107.65354921347357},null,{"$f":"MATCH(K204,'Weighted average price list'!$B$5:$B$237,0)","v":200},{"$f":"'Detailed price list'!L204","v":"Philips floodlight PX1"}]
[null,{"$f":"'Detailed price list'!B205","v":"170W LED ALD"},{"$f":"'Detailed price list'!C205","v":"Capital - LED Luminaire"},{"$f":"INDEX('Weighted average price list'!C$5:C$237,$J205)","v":102.5414734113472},{"$f":"INDEX('Weighted average price list'!D$5:D$237,$J205)","v":105.48919034781211},{"$f":"INDEX('Weighted average price list'!E$5:E$237,$J205)","v":108.52164407270472},{"$f":"INDEX('Weighted average price list'!F$5:F$237,$J205)","v":111.64127047911377},{"$f":"INDEX('Weighted average price list'!G$5:G$237,$J205)","v":114.85057548372987},null,{"$f":"MATCH(K205,'Weighted average price list'!$B$5:$B$237,0)","v":201},{"$f":"'Detailed price list'!L205","v":"Aldridge major road V1"}]
[null,{"$f":"'Detailed price list'!B206","v":"170W LED ALD ZHAGA"},{"$f":"'Detailed price list'!C206","v":"Capital - LED Luminaire"},{"$f":"INDEX('Weighted average price list'!C$5:C$237,$J206)","v":0},{"$f":"INDEX('Weighted average price list'!D$5:D$237,$J206)","v":0},{"$f":"INDEX('Weighted average price list'!E$5:E$237,$J206)","v":0},{"$f":"INDEX('Weighted average price list'!F$5:F$237,$J206)","v":0},{"$f":"INDEX('Weighted average price list'!G$5:G$237,$J206)","v":0},null,{"$f":"MATCH(K206,'Weighted average price list'!$B$5:$B$237,0)","v":202},{"$f":"'Detailed price list'!L206","v":"Aldridge major road V1 ZHAGA"}]
[null,{"$f":"'Detailed price list'!B207","v":"175W LED SY FLOOD"},{"$f":"'Detailed price list'!C207","v":"Capital - LED Luminaire"},{"$f":"INDEX('Weighted average price list'!C$5:C$237,$J207)","v":140.03804900640841},{"$f":"INDEX('Weighted average price list'!D$5:D$237,$J207)","v":144.0636643508434},{"$f":"INDEX('Weighted average price list'!E$5:E$237,$J207)","v":148.205002379337},{"$f":"INDEX('Weighted average price list'!F$5:F$237,$J207)","v":152.46538972358647},{"$f":"INDEX('Weighted average price list'!G$5:G$237,$J207)","v":156.84824864458193},null,{"$f":"MATCH(K207,'Weighted average price list'!$B$5:$B$237,0)","v":198},{"$f":"'Detailed price list'!L207","v":"Sylvania floodlight PX1"}]
[null,{"$f":"'Detailed price list'!B208","v":"200W LED ALD"},{"$f":"'Detailed price list'!C208","v":"Capital - LED Luminaire"},{"$f":"INDEX('Weighted average price list'!C$5:C$237,$J208)","v":125.93556036149687},{"$f":"INDEX('Weighted average price list'!D$5:D$237,$J208)","v":129.55577735108136},{"$f":"INDEX('Weighted average price list'!E$5:E$237,$J208)","v":133.28006320742639},{"$f":"INDEX('Weighted average price list'!F$5:F$237,$J208)","v":137.11140955480755},{"$f":"INDEX('Weighted average price list'!G$5:G$237,$J208)","v":141.05289401647474},null,{"$f":"MATCH(K208,'Weighted average price list'!$B$5:$B$237,0)","v":204},{"$f":"'Detailed price list'!L208","v":"200W LED ALD"}]
[null,{"$f":"'Detailed price list'!B209","v":"224W LED PH"},{"$f":"'Detailed price list'!C209","v":"Capital - LED Luminaire"},{"$f":"INDEX('Weighted average price list'!C$5:C$237,$J209)","v":87.842077291694494},{"$f":"INDEX('Weighted average price list'!D$5:D$237,$J209)","v":90.36723682327515},{"$f":"INDEX('Weighted average price list'!E$5:E$237,$J209)","v":92.964986061936145},{"$f":"INDEX('Weighted average price list'!F$5:F$237,$J209)","v":95.637411713688778},{"$f":"INDEX('Weighted average price list'!G$5:G$237,$J209)","v":98.386660470211055},null,{"$f":"MATCH(K209,'Weighted average price list'!$B$5:$B$237,0)","v":205},{"$f":"'Detailed price list'!L209","v":"Philips major road V1 High"}]
[null,{"$f":"'Detailed price list'!B210","v":"224W LED PH ZHAGA"},{"$f":"'Detailed price list'!C210","v":"Capital - LED Luminaire"},{"$f":"INDEX('Weighted average price list'!C$5:C$237,$J210)","v":96.115787908040332},{"$f":"INDEX('Weighted average price list'!D$5:D$237,$J210)","v":98.878788345352646},{"$f":"INDEX('Weighted average price list'!E$5:E$237,$J210)","v":101.72121560299018},{"$f":"INDEX('Weighted average price list'!F$5:F$237,$J210)","v":104.6453529306049},{"$f":"INDEX('Weighted average price list'!G$5:G$237,$J210)","v":107.65354921347358},null,{"$f":"MATCH(K210,'Weighted average price list'!$B$5:$B$237,0)","v":206},{"$f":"'Detailed price list'!L210","v":"Philips major road V1 High ZHAGA"}]
[null,{"$f":"'Detailed price list'!B211","v":"258W LED ALD"},{"$f":"'Detailed price list'!C211","v":"Capital - LED Luminaire"},{"$f":"INDEX('Weighted average price list'!C$5:C$237,$J211)","v":115.13930508155104},{"$f":"INDEX('Weighted average price list'!D$5:D$237,$J211)","v":118.44916662684196},{"$f":"INDEX('Weighted average price list'!E$5:E$237,$J211)","v":121.85417538047527},{"$f":"INDEX('Weighted average price list'!F$5:F$237,$J211)","v":125.35706649953586},{"$f":"INDEX('Weighted average price list'!G$5:G$237,$J211)","v":128.96065376752756},null,{"$f":"MATCH(K211,'Weighted average price list'!$B$5:$B$237,0)","v":207},{"$f":"'Detailed price list'!L211","v":"Aldridge major road V1 High"}]
[null,{"$f":"'Detailed price list'!B212","v":"258W LED ALD ZHAGA"},{"$f":"'Detailed price list'!C212","v":"Capital - LED Luminaire"},{"$f":"INDEX('Weighted average price list'!C$5:C$237,$J212)","v":0},{"$f":"INDEX('Weighted average price list'!D$5:D$237,$J212)","v":0},{"$f":"INDEX('Weighted average price list'!E$5:E$237,$J212)","v":0},{"$f":"INDEX('Weighted average price list'!F$5:F$237,$J212)","v":0},{"$f":"INDEX('Weighted average price list'!G$5:G$237,$J212)","v":0},null,{"$f":"MATCH(K212,'Weighted average price list'!$B$5:$B$237,0)","v":208},{"$f":"'Detailed price list'!L212","v":"Aldridge major road V1 High ZHAGA"}]
[null,{"$f":"'Detailed price list'!B213","v":"298W LED ALD"},{"$f":"'Detailed price list'!C213","v":"Capital - LED Luminaire"},{"$f":"INDEX('Weighted average price list'!C$5:C$237,$J213)","v":182.18794489571277},{"$f":"INDEX('Weighted average price list'!D$5:D$237,$J213)","v":187.42522570437143},{"$f":"INDEX('Weighted average price list'!E$5:E$237,$J213)","v":192.81306043845279},{"$f":"INDEX('Weighted average price list'!F$5:F$237,$J213)","v":198.3557770088114},{"$f":"INDEX('Weighted average price list'!G$5:G$237,$J213)","v":204.05782773894876},null,{"$f":"MATCH(K213,'Weighted average price list'!$B$5:$B$237,0)","v":209},{"$f":"'Detailed price list'!L213","v":"298W LED ALD"}]
[null,{"$f":"'Detailed price list'!B214","v":"600W LED ALD HM"},{"$f":"'Detailed price list'!C214","v":"Capital - LED Luminaire"},{"$f":"INDEX('Weighted average price list'!C$5:C$237,$J214)","v":409.90342292616657},{"$f":"INDEX('Weighted average price list'!D$5:D$237,$J214)","v":421.68674553581315},{"$f":"INDEX('Weighted average price list'!E$5:E$237,$J214)","v":433.80879840228914},{"$f":"INDEX('Weighted average price list'!F$5:F$237,$J214)","v":446.27931886290514},{"$f":"INDEX('Weighted average price list'!G$5:G$237,$J214)","v":459.10832417014353},null,{"$f":"MATCH(K214,'Weighted average price list'!$B$5:$B$237,0)","v":210},{"$f":"'Detailed price list'!L214","v":"600W LED ALD HM"}]
[null,{"$f":"'Detailed price list'!B215","v":"COLONIAL ROCKS SPHERE"},{"$f":"'Detailed price list'!C215","v":"Capital - LED Luminaire"},{"$f":"INDEX('Weighted average price list'!C$5:C$237,$J215)","v":126.50175671794213},{"$f":"INDEX('Weighted average price list'!D$5:D$237,$J215)","v":130.13824991786117},{"$f":"INDEX('Weighted average price list'!E$5:E$237,$J215)","v":133.87927986996573},{"$f":"INDEX('Weighted average price list'!F$5:F$237,$J215)","v":137.72785164863839},{"$f":"INDEX('Weighted average price list'!G$5:G$237,$J215)","v":141.68705671388074},null,{"$f":"MATCH(K215,'Weighted average price list'!$B$5:$B$237,0)","v":211},{"$f":"'Detailed price list'!L215","v":"COLONIAL ROCKS SPHERE"}]
[null,{"$f":"'Detailed price list'!B216","v":"LED TRIAL"},{"$f":"'Detailed price list'!C216","v":"Capital - LED Luminaire"},{"$f":"INDEX('Weighted average price list'!C$5:C$237,$J216)","v":40.922778445149085},{"$f":"INDEX('Weighted average price list'!D$5:D$237,$J216)","v":42.099168476391007},{"$f":"INDEX('Weighted average price list'!E$5:E$237,$J216)","v":43.30937570084869},{"$f":"INDEX('Weighted average price list'!F$5:F$237,$J216)","v":44.554372247260581},{"$f":"INDEX('Weighted average price list'!G$5:G$237,$J216)","v":45.835158189744213},null,{"$f":"MATCH(K216,'Weighted average price list'!$B$5:$B$237,0)","v":212},{"$f":"'Detailed price list'!L216","v":"LED TRIAL"}]
[null,{"$f":"'Detailed price list'!B217","v":"Spare Luminaire 1"},{"$f":"'Detailed price list'!C217","v":"Capital - LED Luminaire"},{"$f":"INDEX('Weighted average price list'!C$5:C$237,$J217)","v":0},{"$f":"INDEX('Weighted average price list'!D$5:D$237,$J217)","v":0},{"$f":"INDEX('Weighted average price list'!E$5:E$237,$J217)","v":0},{"$f":"INDEX('Weighted average price list'!F$5:F$237,$J217)","v":0},{"$f":"INDEX('Weighted average price list'!G$5:G$237,$J217)","v":0},null,{"$f":"MATCH(K217,'Weighted average price list'!$B$5:$B$237,0)","v":213},{"$f":"'Detailed price list'!L217","v":"Spare Luminaire 1"}]
[null,{"$f":"'Detailed price list'!B218","v":"Spare Luminaire 2"},{"$f":"'Detailed price list'!C218","v":"Capital - LED Luminaire"},{"$f":"INDEX('Weighted average price list'!C$5:C$237,$J218)","v":0},{"$f":"INDEX('Weighted average price list'!D$5:D$237,$J218)","v":0},{"$f":"INDEX('Weighted average price list'!E$5:E$237,$J218)","v":0},{"$f":"INDEX('Weighted average price list'!F$5:F$237,$J218)","v":0},{"$f":"INDEX('Weighted average price list'!G$5:G$237,$J218)","v":0},null,{"$f":"MATCH(K218,'Weighted average price list'!$B$5:$B$237,0)","v":214},{"$f":"'Detailed price list'!L218","v":"Spare Luminaire 2"}]
[null,{"$f":"'Detailed price list'!B219","v":"Spare Luminaire 3"},{"$f":"'Detailed price list'!C219","v":"Capital - LED Luminaire"},{"$f":"INDEX('Weighted average price list'!C$5:C$237,$J219)","v":0},{"$f":"INDEX('Weighted average price list'!D$5:D$237,$J219)","v":0},{"$f":"INDEX('Weighted average price list'!E$5:E$237,$J219)","v":0},{"$f":"INDEX('Weighted average price list'!F$5:F$237,$J219)","v":0},{"$f":"INDEX('Weighted average price list'!G$5:G$237,$J219)","v":0},null,{"$f":"MATCH(K219,'Weighted average price list'!$B$5:$B$237,0)","v":215},{"$f":"'Detailed price list'!L219","v":"Spare Luminaire 3"}]
[null,{"$f":"'Detailed price list'!B220","v":"Spare Luminaire 4"},{"$f":"'Detailed price list'!C220","v":"Capital - LED Luminaire"},{"$f":"INDEX('Weighted average price list'!C$5:C$237,$J220)","v":0},{"$f":"INDEX('Weighted average price list'!D$5:D$237,$J220)","v":0},{"$f":"INDEX('Weighted average price list'!E$5:E$237,$J220)","v":0},{"$f":"INDEX('Weighted average price list'!F$5:F$237,$J220)","v":0},{"$f":"INDEX('Weighted average price list'!G$5:G$237,$J220)","v":0},null,{"$f":"MATCH(K220,'Weighted average price list'!$B$5:$B$237,0)","v":216},{"$f":"'Detailed price list'!L220","v":"Spare Luminaire 4"}]
[null,{"$f":"'Detailed price list'!B221","v":"Spare Luminaire 5"},{"$f":"'Detailed price list'!C221","v":"Capital - LED Luminaire"},{"$f":"INDEX('Weighted average price list'!C$5:C$237,$J221)","v":0},{"$f":"INDEX('Weighted average price list'!D$5:D$237,$J221)","v":0},{"$f":"INDEX('Weighted average price list'!E$5:E$237,$J221)","v":0},{"$f":"INDEX('Weighted average price list'!F$5:F$237,$J221)","v":0},{"$f":"INDEX('Weighted average price list'!G$5:G$237,$J221)","v":0},null,{"$f":"MATCH(K221,'Weighted average price list'!$B$5:$B$237,0)","v":217},{"$f":"'Detailed price list'!L221","v":"Spare Luminaire 5"}]
[null,{"$f":"'Detailed price list'!B222","v":"Smart Controller - materials and installation"},{"$f":"'Detailed price list'!C222","v":"Capital - Smart Controller"},{"$f":"INDEX('Weighted average price list'!C$5:C$237,$J222)","v":50.218211099898113},{"$f":"INDEX('Weighted average price list'!D$5:D$237,$J222)","v":51.661813053854047},{"$f":"INDEX('Weighted average price list'!E$5:E$237,$J222)","v":53.146913630636647},{"$f":"INDEX('Weighted average price list'!F$5:F$237,$J222)","v":54.674705773835264},{"$f":"INDEX('Weighted average price list'!G$5:G$237,$J222)","v":56.246416720090657},null,{"$f":"MATCH(K222,'Weighted average price list'!$B$5:$B$237,0)","v":218},{"$f":"'Detailed price list'!L222","v":"Smart Controller - materials and installation"}]
[null,{"$f":"'Detailed price list'!B223","v":"Smart Controller - material price only"},{"$f":"'Detailed price list'!C223","v":"Capital - Smart Controller"},{"$f":"INDEX('Weighted average price list'!C$5:C$237,$J223)","v":0},{"$f":"INDEX('Weighted average price list'!D$5:D$237,$J223)","v":0},{"$f":"INDEX('Weighted average price list'!E$5:E$237,$J223)","v":0},{"$f":"INDEX('Weighted average price list'!F$5:F$237,$J223)","v":0},{"$f":"INDEX('Weighted average price list'!G$5:G$237,$J223)","v":0},null,{"$f":"MATCH(K223,'Weighted average price list'!$B$5:$B$237,0)","v":219},{"$f":"'Detailed price list'!L223","v":"Smart Controller - material price only"}]
[null,{"$f":"'Detailed price list'!B224","v":"Smart Controller - material price adjusted for PE Cell"},{"$f":"'Detailed price list'!C224","v":"Capital - Smart Controller"},{"$f":"INDEX('Weighted average price list'!C$5:C$237,$J224)","v":20.598634962574064},{"$f":"INDEX('Weighted average price list'!D$5:D$237,$J224)","v":21.190775324197919},{"$f":"INDEX('Weighted average price list'!E$5:E$237,$J224)","v":21.799937697644456},{"$f":"INDEX('Weighted average price list'!F$5:F$237,$J224)","v":22.426611407582737},{"$f":"INDEX('Weighted average price list'!G$5:G$237,$J224)","v":23.071299845093851},null,{"$f":"MATCH(K224,'Weighted average price list'!$B$5:$B$237,0)","v":220},{"$f":"'Detailed price list'!L224","v":"Smart Controller - material price adjusted for PE Cell"}]
[null,{"$f":"'Detailed price list'!B225","v":"COLUMN 10.5M-13.5M"},{"$f":"'Detailed price list'!C225","v":"Capital - Support"},{"$f":"INDEX('Weighted average price list'!C$5:C$237,$J225)","v":427.75962353966827},{"$f":"INDEX('Weighted average price list'!D$5:D$237,$J225)","v":440.05625089536812},{"$f":"INDEX('Weighted average price list'!E$5:E$237,$J225)","v":452.70636426518428},{"$f":"INDEX('Weighted average price list'!F$5:F$237,$J225)","v":465.72012516402344},{"$f":"INDEX('Weighted average price list'!G$5:G$237,$J225)","v":479.10798721561974},null,{"$f":"MATCH(K225,'Weighted average price list'!$B$5:$B$237,0)","v":221},{"$f":"'Detailed price list'!L225","v":"Support - COLUMN 10.5M-13.5M"}]
[null,{"$f":"'Detailed price list'!B226","v":"COLUMN 14M-15M"},{"$f":"'Detailed price list'!C226","v":"Capital - Support"},{"$f":"INDEX('Weighted average price list'!C$5:C$237,$J226)","v":427.75962353966821},{"$f":"INDEX('Weighted average price list'!D$5:D$237,$J226)","v":440.05625089536807},{"$f":"INDEX('Weighted average price list'!E$5:E$237,$J226)","v":452.70636426518428},{"$f":"INDEX('Weighted average price list'!F$5:F$237,$J226)","v":465.72012516402344},{"$f":"INDEX('Weighted average price list'!G$5:G$237,$J226)","v":479.10798721561974},null,{"$f":"MATCH(K226,'Weighted average price list'!$B$5:$B$237,0)","v":222},{"$f":"'Detailed price list'!L226","v":"Support - COLUMN 14M-15M"}]
[null,{"$f":"'Detailed price list'!B227","v":"COLUMN 2.5M-3.5M"},{"$f":"'Detailed price list'!C227","v":"Capital - Support"},{"$f":"INDEX('Weighted average price list'!C$5:C$237,$J227)","v":373.98478131522666},{"$f":"INDEX('Weighted average price list'!D$5:D$237,$J227)","v":384.73556572653229},{"$f":"INDEX('Weighted average price list'!E$5:E$237,$J227)","v":395.79539845004973},{"$f":"INDEX('Weighted average price list'!F$5:F$237,$J227)","v":407.17316356861676},{"$f":"INDEX('Weighted average price list'!G$5:G$237,$J227)","v":418.87800055209232},null,{"$f":"MATCH(K227,'Weighted average price list'!$B$5:$B$237,0)","v":223},{"$f":"'Detailed price list'!L227","v":"Support - COLUMN 2.5M-3.5M"}]
[null,{"$f":"'Detailed price list'!B228","v":"COLUMN 4-6.5M ORION WATE"},{"$f":"'Detailed price list'!C228","v":"Capital - Support"},{"$f":"INDEX('Weighted average price list'!C$5:C$237,$J228)","v":384.52886802590149},{"$f":"INDEX('Weighted average price list'!D$5:D$237,$J228)","v":395.58275889689224},{"$f":"INDEX('Weighted average price list'!E$5:E$237,$J228)","v":406.95441135497805},{"$f":"INDEX('Weighted average price list'!F$5:F$237,$J228)","v":418.65295995987293},{"$f":"INDEX('Weighted average price list'!G$5:G$237,$J228)","v":430.68780185866638},null,{"$f":"MATCH(K228,'Weighted average price list'!$B$5:$B$237,0)","v":224},{"$f":"'Detailed price list'!L228","v":"Support - COLUMN 4-6.5M ORION WATE"}]
[null,{"$f":"'Detailed price list'!B229","v":"COLUMN 4M-6.5M"},{"$f":"'Detailed price list'!C229","v":"Capital - Support"},{"$f":"INDEX('Weighted average price list'!C$5:C$237,$J229)","v":401.53120784686456},{"$f":"INDEX('Weighted average price list'!D$5:D$237,$J229)","v":413.07385788409761},{"$f":"INDEX('Weighted average price list'!E$5:E$237,$J229)","v":424.94831966417496},{"$f":"INDEX('Weighted average price list'!F$5:F$237,$J229)","v":437.16413164077352},{"$f":"INDEX('Weighted average price list'!G$5:G$237,$J229)","v":449.73110646551686},null,{"$f":"MATCH(K229,'Weighted average price list'!$B$5:$B$237,0)","v":225},{"$f":"'Detailed price list'!L229","v":"Support - COLUMN 4M-6.5M"}]
[null,{"$f":"'Detailed price list'!B230","v":"COLUMN 7M-10M"},{"$f":"'Detailed price list'!C230","v":"Capital - Support"},{"$f":"INDEX('Weighted average price list'!C$5:C$237,$J230)","v":392.9641373944412},{"$f":"INDEX('Weighted average price list'!D$5:D$237,$J230)","v":404.26051343318011},{"$f":"INDEX('Weighted average price list'!E$5:E$237,$J230)","v":415.88162167892062},{"$f":"INDEX('Weighted average price list'!F$5:F$237,$J230)","v":427.83679707287774},{"$f":"INDEX('Weighted average price list'!G$5:G$237,$J230)","v":440.13564290392532},null,{"$f":"MATCH(K230,'Weighted average price list'!$B$5:$B$237,0)","v":226},{"$f":"'Detailed price list'!L230","v":"Support - COLUMN 7M-10M"}]
[null,{"$f":"'Detailed price list'!B231","v":"DECORATIVE COLUMN"},{"$f":"'Detailed price list'!C231","v":"Capital - Support"},{"$f":"INDEX('Weighted average price list'!C$5:C$237,$J231)","v":412.47069780918969},{"$f":"INDEX('Weighted average price list'!D$5:D$237,$J231)","v":424.32782079834607},{"$f":"INDEX('Weighted average price list'!E$5:E$237,$J231)","v":436.52579555303811},{"$f":"INDEX('Weighted average price list'!F$5:F$237,$J231)","v":449.07442039670184},{"$f":"INDEX('Weighted average price list'!G$5:G$237,$J231)","v":461.98377532108742},null,{"$f":"MATCH(K231,'Weighted average price list'!$B$5:$B$237,0)","v":227},{"$f":"'Detailed price list'!L231","v":"Support - DECORATIVE COLUMN"}]
[null,{"$f":"'Detailed price list'!B232","v":"DEDICATED SUPPORT & COND"},{"$f":"'Detailed price list'!C232","v":"Capital - Support"},{"$f":"INDEX('Weighted average price list'!C$5:C$237,$J232)","v":381.49744309658246},{"$f":"INDEX('Weighted average price list'!D$5:D$237,$J232)","v":392.46419086041379},{"$f":"INDEX('Weighted average price list'!E$5:E$237,$J232)","v":403.74619514481117},{"$f":"INDEX('Weighted average price list'!F$5:F$237,$J232)","v":415.35251849738671},{"$f":"INDEX('Weighted average price list'!G$5:G$237,$J232)","v":427.29248398302627},null,{"$f":"MATCH(K232,'Weighted average price list'!$B$5:$B$237,0)","v":228},{"$f":"'Detailed price list'!L232","v":"Support - DEDICATED SUPPORT & COND"}]
[null,{"$f":"'Detailed price list'!B233","v":"MACQUARIE STANDARD"},{"$f":"'Detailed price list'!C233","v":"Capital - Support"},{"$f":"INDEX('Weighted average price list'!C$5:C$237,$J233)","v":376.75260407677877},{"$f":"INDEX('Weighted average price list'!D$5:D$237,$J233)","v":387.5829539337517},{"$f":"INDEX('Weighted average price list'!E$5:E$237,$J233)","v":398.72463933759337},{"$f":"INDEX('Weighted average price list'!F$5:F$237,$J233)","v":410.18661012132145},{"$f":"INDEX('Weighted average price list'!G$5:G$237,$J233)","v":421.97807339506795},null,{"$f":"MATCH(K233,'Weighted average price list'!$B$5:$B$237,0)","v":229},{"$f":"'Detailed price list'!L233","v":"Support - MACQUARIE STANDARD"}]
[null,{"$f":"'Detailed price list'!B234","v":"MAST 15.5M-30M"},{"$f":"'Detailed price list'!C234","v":"Capital - Support"},{"$f":"INDEX('Weighted average price list'!C$5:C$237,$J234)","v":398.49978291754559},{"$f":"INDEX('Weighted average price list'!D$5:D$237,$J234)","v":409.95528984761916},{"$f":"INDEX('Weighted average price list'!E$5:E$237,$J234)","v":421.74010345400808},{"$f":"INDEX('Weighted average price list'!F$5:F$237,$J234)","v":433.86369017828741},{"$f":"INDEX('Weighted average price list'!G$5:G$237,$J234)","v":446.33578858987681},null,{"$f":"MATCH(K234,'Weighted average price list'!$B$5:$B$237,0)","v":230},{"$f":"'Detailed price list'!L234","v":"Support - MAST 15.5M-30M"}]
[null,{"$f":"'Detailed price list'!B235","v":"ORION DOUBLE ARM"},{"$f":"'Detailed price list'!C235","v":"Capital - Support"},{"$f":"INDEX('Weighted average price list'!C$5:C$237,$J235)","v":365.79795698980701},{"$f":"INDEX('Weighted average price list'!D$5:D$237,$J235)","v":376.31339817932093},{"$f":"INDEX('Weighted average price list'!E$5:E$237,$J235)","v":387.13112236767944},{"$f":"INDEX('Weighted average price list'!F$5:F$237,$J235)","v":398.25981915808075},{"$f":"INDEX('Weighted average price list'!G$5:G$237,$J235)","v":409.70842795011924},null,{"$f":"MATCH(K235,'Weighted average price list'!$B$5:$B$237,0)","v":231},{"$f":"'Detailed price list'!L235","v":"Support - ORION DOUBLE ARM"}]
[null,{"$f":"'Detailed price list'!B236","v":"POLO 10.5M DECORATIVE 2M"},{"$f":"'Detailed price list'!C236","v":"Capital - Support"},{"$f":"INDEX('Weighted average price list'!C$5:C$237,$J236)","v":388.7465027101714},{"$f":"INDEX('Weighted average price list'!D$5:D$237,$J236)","v":399.9216361650362},{"$f":"INDEX('Weighted average price list'!E$5:E$237,$J236)","v":411.41801651694931},{"$f":"INDEX('Weighted average price list'!F$5:F$237,$J236)","v":423.24487851637531},{"$f":"INDEX('Weighted average price list'!G$5:G$237,$J236)","v":435.41172238129582},null,{"$f":"MATCH(K236,'Weighted average price list'!$B$5:$B$237,0)","v":232},{"$f":"'Detailed price list'!L236","v":"Support - POLO 10.5M DECORATIVE 2M"}]
[null,{"$f":"'Detailed price list'!B237","v":"ROCKS STANDARD"},{"$f":"'Detailed price list'!C237","v":"Capital - Support"},{"$f":"INDEX('Weighted average price list'!C$5:C$237,$J237)","v":390.47111989278602},{"$f":"INDEX('Weighted average price list'!D$5:D$237,$J237)","v":401.69583019796323},{"$f":"INDEX('Weighted average price list'!E$5:E$237,$J237)","v":413.24321256521171},{"$f":"INDEX('Weighted average price list'!F$5:F$237,$J237)","v":425.12254271362025},{"$f":"INDEX('Weighted average price list'!G$5:G$237,$J237)","v":437.34336300750243},null,{"$f":"MATCH(K237,'Weighted average price list'!$B$5:$B$237,0)","v":233},{"$f":"'Detailed price list'!L237","v":"Support - ROCKS STANDARD"}]

{"sheet":"I_CAPEX - Stock Costs","index":13,"n_rows":384,"n_cols":6,"rows_kept":384,"cut":false,"hidden":false,"merged":[[3,1,3,2]]}
[null,"Material Costs"]
[null,"Description"]
[]
[null,"The material costs presented below are expressed in FY24 dollars."]
[]
[null,"Data Updated","2023-01-31"]
[]
[null,"Total","Ord Oncost"]
[null,"Materials On cost Rate",{"$f":"I_CAPEX!D16","v":0}]
[null,"Labour ordinary on cost Rate",{"$f":"I_CAPEX!D17","v":0.52229999999999999}]
[]
[null,"Stock Number","Description","Cost \n(FY24 dollars)","Oncosts \n(FY24 dollars)","Total \n(FY24 dollars)"]
[null,{"$f":"C13","v":"Labour - Non Traffic"},"Labour - Non Traffic",68.026813391852016,{"$f":"D13*$C$10","v":35.530404634564306},{"$f":"SUM(D13:E13)","v":103.55721802641632}]
[null,{"$f":"C14","v":"Labour - Traffic"},"Labour - Traffic",68.026813391852016,{"$f":"D14*$C$10","v":35.530404634564306},103.55721802641632]
[null,"EWP","EWP",38.215966517221133,{"$f":"D15*$C$9","v":0},38.215966517221133]
[null,"PE Cell","PE Cell",13.0464,0,13.0464]
[null,"0.5","0.5"]
[null,"0.6","0.6"]
[null,"1.0","1.0"]
[null,"1.2","1.2"]
[null,"1.5","1.5"]
[null,"2.0","2.0"]
[null,"2.5","2.5"]
[null,"3.0","3.0"]
[null,"3.5","3.5"]
[null,"4.0","4.0"]
[null,"4.5","4.5"]
[null,"5.0","5.0"]
[null,"6.0","6.0"]
[null,"6.5","6.5"]
[null,"7.0","7.0"]
[null,"8.0","8.0"]
[null,"C4","C4"]
[null,"T1","T1"]
[null,"T2","T2"]
[null,"T2A","T2A"]
[null,"T3","T3"]
[null,"T3A","T3A"]
[null,"T4","T4"]
[null,"T5","T5"]
[null,"T6","T6"]
[null,"T7","T7"]
[null,"Bracket - Minor Road (Cat P) - Short","Bracket - Minor Road (Cat P) - Short"]
[null,"Bracket - Minor Road (Cat P) - Medium","Bracket - Minor Road (Cat P) - Medium"]
[null,"Bracket - Major Road (Cat V) - Short","Bracket - Major Road (Cat V) - Short"]
[null,"Bracket - Major Road (Cat V) - Medium","Bracket - Major Road (Cat V) - Medium"]
[null,"Bracket - Major Road (Cat V) - Long","Bracket - Major Road (Cat V) - Long"]
[null,"1000W SON","1000W SON"]
[null,"1000W SON FLOODLIGHT","1000W SON FLOODLIGHT"]
[null,"1000W/1500W MBI FLOODLIG","1000W/1500W MBI FLOODLIG"]
[null,"100W MBI","100W MBI"]
[null,"100W MBI FLOODLIGHT","100W MBI FLOODLIGHT"]
[null,"100W SON","100W SON"]
[null,"100W SON - PLAIN","100W SON - PLAIN"]
[null,"100W SON FLOODLIGHT","100W SON FLOODLIGHT"]
[null,"125W MBF","125W MBF"]
[null,"125W MBF - BOURKE HILL","125W MBF - BOURKE HILL"]
[null,"125W MBF - PARKVILLE","125W MBF - PARKVILLE"]
[null,"125W MBF - PLAIN","125W MBF - PLAIN"]
[null,"125W/250W MBF FLOODLIGHT","125W/250W MBF FLOODLIGHT"]
[null,"150W SON","150W SON"]
[null,"150W SON - PARKVILLE","150W SON - PARKVILLE"]
[null,"150W SON - PARKWAY 1","150W SON - PARKWAY 1"]
[null,"150W SON ACTIVE REACTOR","150W SON ACTIVE REACTOR"]
[null,"150W SON FLOODLIGHT","150W SON FLOODLIGHT"]
[null,"150W/250W MBI FLOODLIGHT","150W/250W MBI FLOODLIGHT"]
[null,"250W MBF","250W MBF"]
[null,"250W MBF - PARKWAY 1","250W MBF - PARKWAY 1"]
[null,"250W SON","250W SON"]
[null,"250W SON - PARKVILLE","250W SON - PARKVILLE"]
[null,"250W SON - PARKWAY 1","250W SON - PARKWAY 1"]
[null,"250W SON ACTIVE REACTOR","250W SON ACTIVE REACTOR"]
[null,"250W SON FLOODLIGHT","250W SON FLOODLIGHT"]
[null,"250W SON GEC 'BOSTON 3'","250W SON GEC 'BOSTON 3'"]
[null,"2X14W TF - T5 PIERLIGHT","2X14W TF - T5 PIERLIGHT"]
[null,"2x14W TF - T5 PIERLITE M","2x14W TF - T5 PIERLITE M"]
[null,"2x250W SON FLOODLIGHT","2x250W SON FLOODLIGHT"]
[null,"2x400W SON FLOODLIGHT","2x400W SON FLOODLIGHT"]
[null,"2x80W MBF - BOURKE HILL","2x80W MBF - BOURKE HILL"]
[null,"400W MBF","400W MBF"]
[null,{"$f":"C81","v":"400W MBF - B2229"},"400W MBF - B2229"]
[null,"400W MBF - PARKWAY 1","400W MBF - PARKWAY 1"]
[null,"400W MBF FLOODLIGHT","400W MBF FLOODLIGHT"]
[null,"400W MBI FLOODLIGHT","400W MBI FLOODLIGHT"]
[null,"400W SON","400W SON"]
[null,"400W SON - PARKWAY 1","400W SON - PARKWAY 1"]
[null,"400W SON ACTIVE REACTOR","400W SON ACTIVE REACTOR"]
[null,"400W SON FLOODLIGHT","400W SON FLOODLIGHT"]
[null,"42W MBF SYLVANIA SUB ECO","42W MBF SYLVANIA SUB ECO"]
[null,"4x250W SON","4x250W SON"]
[null,"4x600W SON","4x600W SON"]
[null,"50W MBF","50W MBF"]
[null,"50W MBF - BOURKE HILL","50W MBF - BOURKE HILL"]
[null,"50W MBF - NOSTALGIA","50W MBF - NOSTALGIA"]
[null,"50W MBF - PLAIN","50W MBF - PLAIN"]
[null,"50W SON","50W SON"]
[null,"50W SON - NOSTALGIA","50W SON - NOSTALGIA"]
[null,"50W SON - PLAIN","50W SON - PLAIN"]
[null,"70W MBI","70W MBI"]
[null,"70W MBI - MACQUARIE DEC.","70W MBI - MACQUARIE DEC."]
[null,"70W MBI II","70W MBI II"]
[null,"70W MBI II AERO","70W MBI II AERO"]
[null,"70W SON","70W SON"]
[null,"70W SON - BOURKE HILL","70W SON - BOURKE HILL"]
[null,"70W SON - NOSTALGIA","70W SON - NOSTALGIA"]
[null,"70W SON - PARKVILLE","70W SON - PARKVILLE"]
[null,"70W SON - PLAIN","70W SON - PLAIN"]
[null,"70W SON BOLLARD","70W SON BOLLARD"]
[null,"70W SON FLOODLIGHT","70W SON FLOODLIGHT"]
[null,"80W MBF - BEGA+CURVE BRA","80W MBF - BEGA+CURVE BRA"]
[null,"80W MBF - BOURKE HILL","80W MBF - BOURKE HILL"]
[null,"80W MBF - NOSTALGIA","80W MBF - NOSTALGIA"]
[null,"80W MBF - PLAIN","80W MBF - PLAIN"]
[null,"80W MBF - REGAL/FLINDERS","80W MBF - REGAL/FLINDERS"]
[null,"80W MBF BOLLARD","80W MBF BOLLARD"]
[null,"80W MBF TOORAK","80W MBF TOORAK"]
[null,"TH FLOODLIGHT","TH FLOODLIGHT"]
[null,"10W LED PH RRW","10W LED PH RRW"]
[null,"16W LED PH","16W LED PH"]
[null,"17W LED ALD","17W LED ALD"]
[null,"17W LED ALD RRW","17W LED ALD RRW"]
[null,"17W LED ALD RRW ZHAGA","17W LED ALD RRW ZHAGA"]
[null,"17W LED ALD ZHAGA","17W LED ALD ZHAGA"]
[null,"17W LED SY RRW","17W LED SY RRW"]
[null,"1x17W LED","1x17W LED"]
[null,"20W LED GE","20W LED GE"]
[null,"1x22W LED","1x22W LED"]
[null,"1x25W LED GE","1x25W LED GE"]
[null,"25W LED PH","25W LED PH"]
[null,"28W LED SY","28W LED SY"]
[null,"1x29W LED","1x29W LED"]
[null,"33W LED LRL","33W LED LRL"]
[null,"34W LED BOURKE HILL","34W LED BOURKE HILL"]
[null,"40W LED ALD","40W LED ALD"]
[null,"40W LED ALD ZHAGA","40W LED ALD ZHAGA"]
[null,"42W LED LRL","42W LED LRL"]
[null,"49W LED PH","49W LED PH"]
[null,"49W LED PH ZHAGA","49W LED PH ZHAGA"]
[null,"50W LED SY PT","50W LED SY PT"]
[null,"58W LED ALD","58W LED ALD"]
[null,"58W LED ALD ZHAGA","58W LED ALD ZHAGA"]
[null,"70W LED PH FLOOD","70W LED PH FLOOD"]
[null,"74W LED ALD","74W LED ALD"]
[null,"74W LED ALD ZHAGA","74W LED ALD ZHAGA"]
[null,{"$f":"C145","v":"76W LED PH"},"76W LED PH"]
[null,"76W LED PH ZHAGA","76W LED PH ZHAGA"]
[null,"100W LED ALD","100W LED ALD"]
[null,"100W LED SY CT","100W LED SY CT"]
[null,"100W LED SY PT","100W LED SY PT"]
[null,"110W LED SY FLOOD","110W LED SY FLOOD"]
[null,"120W LED PH FLOOD","120W LED PH FLOOD"]
[null,"140W LED PH","140W LED PH"]
[null,"140W LED PH ZHAGA","140W LED PH ZHAGA"]
[null,"150W LED SY FLOOD","150W LED SY FLOOD"]
[null,"150W LED SY PT","150W LED SY PT"]
[null,"152W LED PH FLOOD","152W LED PH FLOOD"]
[null,"170W LED ALD","170W LED ALD"]
[null,"170W LED ALD ZHAGA","170W LED ALD ZHAGA"]
[null,"175W LED SY FLOOD","175W LED SY FLOOD"]
[null,"200W LED ALD","200W LED ALD"]
[null,"224W LED PH","224W LED PH"]
[null,"224W LED PH ZHAGA","224W LED PH ZHAGA"]
[null,"258W LED ALD","258W LED ALD"]
[null,"258W LED ALD ZHAGA","258W LED ALD ZHAGA"]
[null,"298W LED ALD","298W LED ALD"]
[null,"600W LED ALD HM","600W LED ALD HM"]
[null,"COLONIAL ROCKS SPHERE","COLONIAL ROCKS SPHERE"]
[null,"LED TRIAL","LED TRIAL"]
[null,"Spare Luminaire 1","Spare Luminaire 1"]
[null,"Spare Luminaire 2","Spare Luminaire 2"]
[null,"Spare Luminaire 3","Spare Luminaire 3"]
[null,"Spare Luminaire 4","Spare Luminaire 4"]
[null,"Spare Luminaire 5","Spare Luminaire 5"]
[null,"Smart Controller - materials and installation","Smart Controller - materials and installation"]
[null,"Smart Controller - material price only","Smart Controller - material price only"]
[null,"Smart Controller - material price adjusted for PE Cell","Smart Controller - material price adjusted for PE Cell"]
[null,"COLUMN 10.5M-13.5M","COLUMN 10.5M-13.5M",1702.4870088961436,{"$f":"D177*$C$9","v":0},{"$f":"SUM(D177:E177)","v":1702.4870088961436}]
[null,"COLUMN 14M-15M","COLUMN 14M-15M",1702.4870088961436,0,1702.4870088961436]
[null,"COLUMN 2.5M-3.5M","COLUMN 2.5M-3.5M",627.2320559091055,0,627.2320559091055]
[null,"COLUMN 4-6.5M ORION WATE","COLUMN 4-6.5M ORION WATE",838.06636041636796,0,838.06636041636796]
[null,"COLUMN 4M-6.5M","COLUMN 4M-6.5M",1178.0366764343287,0,1178.0366764343287]
[null,"COLUMN 7M-10M","COLUMN 7M-10M",1006.7338040221778,0,1006.7338040221778]
[null,"DECORATIVE COLUMN","DECORATIVE COLUMN",1396.7772673606132,0,1396.7772673606132]
[null,"DEDICATED SUPPORT & COND","DEDICATED SUPPORT & COND",777.45149787052992,0,777.45149787052992]
[null,"MACQUARIE STANDARD","MACQUARIE STANDARD",682.57606084226188,0,682.57606084226188]
[null,"MAST 15.5M-30M","MAST 15.5M-30M",1117.4218138884905,0,1117.4218138884905]
[null,"ORION DOUBLE ARM","ORION DOUBLE ARM",463.53239560324801,0,463.53239560324801]
[null,"POLO 10.5M DECORATIVE 2M","POLO 10.5M DECORATIVE 2M",922.4000822192728,0,922.4000822192728]
[null,"ROCKS STANDARD","ROCKS STANDARD",956.88466815024185,0,956.88466815024185]
[null,null,null,null,0,0]
[null,null,null,null,0,0]
[null,null,null,null,0,0]
[null,null,null,null,0,0]
[null,null,null,null,0,0]
[null,null,null,null,0,0]
[null,null,null,null,0,0]
[null,null,null,null,0,0]
[null,null,null,null,0,0]
[null,null,null,null,0,0]
[null,null,null,null,0,0]
[null,null,null,null,0,0]
[null,null,null,null,0,0]
[null,null,null,null,0,0]
[null,null,null,null,0,0]
[null,null,null,null,0,0]
[null,null,null,null,0,0]
[null,null,null,null,0,0]
[null,null,null,null,0,{"$f":"SUM(D208:E208)","v":0}]
[null,null,null,null,{"$f":"D209*$C$9","v":0},0]
[null,null,null,null,0,0]
[null,null,null,null,0,0]
[null,null,null,null,0,0]
[null,null,null,null,0,0]
[null,null,null,null,0,0]
[null,null,null,null,0,0]
[null,null,null,null,0,0]
[null,null,null,null,0,0]
[null,null,null,null,0,0]
[null,null,null,null,0,0]
[null,null,null,null,0,0]
[null,null,null,null,0,0]
[null,null,null,null,0,0]
[null,null,null,null,0,0]
[null,null,null,null,0,0]
[null,null,null,null,0,0]
[null,null,null,null,0,0]
[null,null,null,null,0,0]
[null,null,null,null,0,0]
[null,null,null,null,0,0]
[null,null,null,null,0,0]
[null,null,null,null,0,0]
[null,null,null,null,0,0]
[null,null,null,null,0,0]
[null,null,null,null,0,0]
[null,null,null,null,0,0]
[null,null,null,null,0,0]
[null,null,null,null,0,0]
[null,null,null,null,0,0]
[null,null,null,null,0,0]
[null,null,null,null,0,0]
[null,null,null,null,0,0]
[null,null,null,null,0,0]
[null,null,null,null,0,0]
[null,null,null,null,0,0]
[null,null,null,null,0,0]
[null,null,null,null,0,0]
[null,null,null,null,0,0]
[null,null,null,null,0,0]
[null,null,null,null,0,0]
[null,null,null,null,0,0]
[null,null,null,null,0,0]
[null,null,null,null,0,0]
[null,null,null,null,0,0]
[null,null,null,null,0,0]
[null,null,null,null,0,0]
[null,null,null,null,0,0]
[null,null,null,null,0,0]
[null,null,null,null,0,0]
[null,null,null,null,0,0]
[null,null,null,null,0,0]
[null,null,null,null,0,0]
[null,null,null,null,0,0]
[null,null,null,null,0,0]
[null,null,null,null,0,0]
[null,null,null,null,0,0]
[null,null,null,null,0,0]
[null,null,null,null,0,0]
[null,null,null,null,0,0]
[null,null,null,null,0,0]
[null,null,null,null,0,0]
[null,null,null,null,0,0]
[null,null,null,null,0,{"$f":"SUM(D272:E272)","v":0}]
[null,null,null,null,{"$f":"D273*$C$9","v":0},0]
[null,null,null,null,0,0]
[null,null,null,null,0,0]
[null,null,null,null,0,0]
[null,null,null,null,0,0]
[null,null,null,null,0,0]
[null,null,null,null,0,0]
[null,null,null,null,0,0]
[null,null,null,null,0,0]
[null,null,null,null,0,0]
[null,null,null,null,0,0]
[null,null,null,null,0,0]
[null,null,null,null,0,0]
[null,null,null,null,0,0]
[null,null,null,null,0,0]
[null,null,null,null,0,0]
[null,null,null,null,0,0]
[null,null,null,null,0,0]
[null,null,null,null,0,0]
[null,null,null,null,0,0]
[null,null,null,null,0,0]
[null,null,null,null,0,0]
[null,null,null,null,0,0]
[null,null,null,null,0,0]
[null,null,null,null,0,0]
[null,null,null,null,0,0]
[null,null,null,null,0,0]
[null,null,null,null,0,0]
[null,null,null,null,0,0]
[null,null,null,null,0,0]
[null,null,null,null,0,0]
[null,null,null,null,0,0]
[null,null,null,null,0,0]
[null,null,null,null,0,0]
[null,null,null,null,0,0]
[null,null,null,null,0,0]
[null,null,null,null,0,0]
[null,null,null,null,0,0]
[null,null,null,null,0,0]
[null,null,null,null,0,0]
[null,null,null,null,0,0]
[null,null,null,null,0,0]
[null,null,null,null,0,0]
[null,null,null,null,0,0]
[null,null,null,null,0,0]
[null,null,null,null,0,0]
[null,null,null,null,0,0]
[null,null,null,null,0,0]
[null,null,null,null,0,0]
[null,null,null,null,0,0]
[null,null,null,null,0,0]
[null,null,null,null,0,0]
[null,null,null,null,0,0]
[null,null,null,null,0,0]
[null,null,null,null,0,0]
[null,null,null,null,0,0]
[null,null,null,null,0,0]
[null,null,null,null,0,0]
[null,null,null,null,0,0]
[null,null,null,null,0,0]
[null,null,null,null,0,0]
[null,null,null,null,0,0]
[null,null,null,null,0,0]
[null,null,null,null,0,{"$f":"SUM(D336:E336)","v":0}]
[null,null,null,null,{"$f":"D337*$C$9","v":0},0]
[null,null,null,null,0,0]
[null,null,null,null,0,0]
[null,null,null,null,0,0]
[null,null,null,null,0,0]
[null,null,null,null,0,0]
[null,null,null,null,0,0]
[null,null,null,null,0,0]
[null,null,null,null,0,0]
[null,null,null,null,0,0]
[null,null,null,null,0,0]
[null,null,null,null,0,0]
[null,null,null,null,0,0]
[null,null,null,null,0,0]
[null,null,null,null,{"$f":"D351*$C$9","v":0},{"$f":"SUM(D351:E351)","v":0}]
[null,null,null,null,{"$f":"D352*$C$9","v":0},{"$f":"SUM(D352:E352)","v":0}]
[null,null,null,null,0,0]
[null,null,null,null,0,0]
[null,null,null,null,0,0]
[null,null,null,null,0,0]
[null,null,null,null,0,0]
[null,null,null,null,0,0]
[null,null,null,null,0,0]
[null,null,null,null,0,0]
[]
[null,null,"Hybrid Stocks (See Hybrid Calcs Sheet)"]
[null,null,null,null,null,{"$f":"OFFSET('I_CAPEX - Hybid Calcs'!J$3,MATCH('I_CAPEX - Stock Costs'!B363,'I_CAPEX - Hybid Calcs'!C$4:C$114,0),0)","v":{"$error":"#N/A"}}]
[null,null,null,null,null,{"$f":"OFFSET('I_CAPEX - Hybid Calcs'!J$3,MATCH('I_CAPEX - Stock Costs'!B364,'I_CAPEX - Hybid Calcs'!C$4:C$114,0),0)","v":{"$error":"#N/A"}}]
[null,null,null,null,null,{"$f":"OFFSET('I_CAPEX - Hybid Calcs'!J$3,MATCH('I_CAPEX - Stock Costs'!B365,'I_CAPEX - Hybid Calcs'!C$4:C$114,0),0)","v":{"$error":"#N/A"}}]
[null,null,null,null,null,{"$f":"OFFSET('I_CAPEX - Hybid Calcs'!J$3,MATCH('I_CAPEX - Stock Costs'!B366,'I_CAPEX - Hybid Calcs'!C$4:C$114,0),0)","v":{"$error":"#N/A"}}]
[null,null,null,null,null,{"$f":"OFFSET('I_CAPEX - Hybid Calcs'!J$3,MATCH('I_CAPEX - Stock Costs'!B367,'I_CAPEX - Hybid Calcs'!C$4:C$114,0),0)","v":{"$error":"#N/A"}}]
[null,null,null,null,null,{"$f":"OFFSET('I_CAPEX - Hybid Calcs'!J$3,MATCH('I_CAPEX - Stock Costs'!B368,'I_CAPEX - Hybid Calcs'!C$4:C$114,0),0)","v":{"$error":"#N/A"}}]
[null,null,null,null,null,{"$f":"OFFSET('I_CAPEX - Hybid Calcs'!J$3,MATCH('I_CAPEX - Stock Costs'!B369,'I_CAPEX - Hybid Calcs'!C$4:C$114,0),0)","v":{"$error":"#N/A"}}]
[null,null,null,null,null,{"$f":"OFFSET('I_CAPEX - Hybid Calcs'!J$3,MATCH('I_CAPEX - Stock Costs'!B370,'I_CAPEX - Hybid Calcs'!C$4:C$114,0),0)","v":{"$error":"#N/A"}}]
[null,null,null,null,null,{"$f":"OFFSET('I_CAPEX - Hybid Calcs'!J$3,MATCH('I_CAPEX - Stock Costs'!B371,'I_CAPEX - Hybid Calcs'!C$4:C$114,0),0)","v":{"$error":"#N/A"}}]
[null,null,null,null,null,{"$f":"OFFSET('I_CAPEX - Hybid Calcs'!J$3,MATCH('I_CAPEX - Stock Costs'!B372,'I_CAPEX - Hybid Calcs'!C$4:C$114,0),0)","v":{"$error":"#N/A"}}]
[null,null,null,null,null,{"$f":"OFFSET('I_CAPEX - Hybid Calcs'!J$3,MATCH('I_CAPEX - Stock Costs'!B373,'I_CAPEX - Hybid Calcs'!C$4:C$114,0),0)","v":{"$error":"#N/A"}}]
[null,null,null,null,null,{"$f":"OFFSET('I_CAPEX - Hybid Calcs'!J$3,MATCH('I_CAPEX - Stock Costs'!B374,'I_CAPEX - Hybid Calcs'!C$4:C$114,0),0)","v":{"$error":"#N/A"}}]
[null,null,null,null,null,{"$f":"OFFSET('I_CAPEX - Hybid Calcs'!J$3,MATCH('I_CAPEX - Stock Costs'!B375,'I_CAPEX - Hybid Calcs'!C$4:C$114,0),0)","v":{"$error":"#N/A"}}]
[null,null,null,null,null,{"$f":"OFFSET('I_CAPEX - Hybid Calcs'!J$3,MATCH('I_CAPEX - Stock Costs'!B376,'I_CAPEX - Hybid Calcs'!C$4:C$114,0),0)","v":{"$error":"#N/A"}}]
[null,null,null,null,null,{"$f":"OFFSET('I_CAPEX - Hybid Calcs'!J$3,MATCH('I_CAPEX - Stock Costs'!B377,'I_CAPEX - Hybid Calcs'!C$4:C$114,0),0)","v":{"$error":"#N/A"}}]
[null,null,null,null,null,{"$f":"OFFSET('I_CAPEX - Hybid Calcs'!J$3,MATCH('I_CAPEX - Stock Costs'!B378,'I_CAPEX - Hybid Calcs'!C$4:C$114,0),0)","v":{"$error":"#N/A"}}]
[null,null,null,null,null,{"$f":"OFFSET('I_CAPEX - Hybid Calcs'!J$3,MATCH('I_CAPEX - Stock Costs'!B379,'I_CAPEX - Hybid Calcs'!C$4:C$114,0),0)","v":{"$error":"#N/A"}}]
[null,null,null,null,null,{"$f":"OFFSET('I_CAPEX - Hybid Calcs'!J$3,MATCH('I_CAPEX - Stock Costs'!B380,'I_CAPEX - Hybid Calcs'!C$4:C$114,0),0)","v":{"$error":"#N/A"}}]
[null,null,null,null,null,{"$f":"OFFSET('I_CAPEX - Hybid Calcs'!J$3,MATCH('I_CAPEX - Stock Costs'!B381,'I_CAPEX - Hybid Calcs'!C$4:C$114,0),0)","v":{"$error":"#N/A"}}]
[null,null,null,null,null,{"$f":"OFFSET('I_CAPEX - Hybid Calcs'!J$3,MATCH('I_CAPEX - Stock Costs'!B382,'I_CAPEX - Hybid Calcs'!C$4:C$114,0),0)","v":{"$error":"#N/A"}}]
[]
[null,null,null,null,{"$f":"D384*$C$9","v":0},{"$f":"SUM(D384:E384)","v":0}]

{"sheet":"O_OPEX Tariff Summary","index":14,"n_rows":139,"n_cols":44,"rows_kept":139,"cut":false,"hidden":false,"merged":[[2,10,2,14],[2,39,2,43],[2,25,2,31],[2,37,2,38],[2,20,2,24]]}
[null,"Tariff Class 4 - Maintenance Charges"]
[null,"This sheet summarise the maintenance costs for each lamp type."]
[null,null,null,null,null,null,null,null,null,null,"Cumulative Population",null,null,null,null,null,null,null,null,null,"Forecast from previous RP",null,null,null,null,"OPEX - Tariff Class 4 Annual Charges - Nominal Price Path ",null,null,null,null,null,null,null,null,null,null,null,null,null,"OPEX - Tariff Class 4 - Nominal Revenue"]
[null,{"$f":"'I_Asset number input'!B4","v":"Charge Reference"},{"$f":"'I_Asset number input'!C4","v":"Charge Group"},{"$f":"'I_Asset number input'!D4","v":"Description"},"Sparklines","FY20","FY21","FY22","FY23","FY24","FY25","FY26","FY27","FY28","FY29",{"$f":"'I_Asset number input'!P4","v":"Charge Type"},{"$f":"'I_Asset number input'!Q4","v":"Road Type"},{"$f":"'I_Asset number input'!R4","v":"Applied Scenario Price Grouping"},null,"Sparklines","FY20","FY21","FY22","FY23","FY24","FY23","FY24","FY25","FY26","FY27","FY28","FY29",null,"Sparklines","FY20","FY21","FY22","FY23","FY24","FY25","FY26","FY27","FY28","FY29"]
[null,{"$f":"'I_Asset number input'!B5","v":"O/U"},{"$f":"'I_Asset number input'!C5","v":"Opex - Connections"},{"$f":"'I_Asset number input'!D5","v":"O/U"},null,null,null,null,null,{"$f":"'I_Asset number input'!J5","v":570},{"$f":"'I_Asset number input'!K5","v":572},{"$f":"'I_Asset number input'!L5","v":574},{"$f":"'I_Asset number input'!M5","v":576},{"$f":"'I_Asset number input'!N5","v":578},{"$f":"'I_Asset number input'!O5","v":580},{"$f":"'I_Asset number input'!P5","v":"N/A"},{"$f":"'I_Asset number input'!Q5","v":"N/A"},{"$f":"'I_Asset number input'!R5","v":"Connection - O/U"},null,null,null,null,null,null,null,null,{"$f":"IFERROR(INDEX('C_OPEX Calc'!$AH$10:$AH$146,MATCH($B5,'C_OPEX Calc'!$F$10:$F$146,0)),0)","v":98.254624687931241},{"$f":"AA5*(1+CPIFY25)","v":102.28306430013642},{"$f":"AB5*(1+CPIFY26)","v":105.2233528577385},{"$f":"AC5*(1+CPIFY27)","v":108.24816466326165},{"$f":"AD5*(1+CPIFY28)","v":111.35992947123475},{"$f":"AE5*(1+CPIFY29)","v":114.561146883326},null,null,null,null,null,null,{"$f":"J5*AA5","v":56005.136072120804},{"$f":"K5*AB5","v":58505.91277967803},{"$f":"L5*AC5","v":60398.204540341903},{"$f":"M5*AD5","v":62350.942846038706},{"$f":"N5*AE5","v":64366.039234373682},{"$f":"O5*AF5","v":66445.46519232908}]
[null,{"$f":"'I_Asset number input'!B6","v":"UGR1"},{"$f":"'I_Asset number input'!C6","v":"Opex - Connections"},{"$f":"'I_Asset number input'!D6","v":"UGR1"},null,null,null,null,null,{"$f":"'I_Asset number input'!J6","v":32120.5},{"$f":"'I_Asset number input'!K6","v":32247.5},{"$f":"'I_Asset number input'!L6","v":32374.5},{"$f":"'I_Asset number input'!M6","v":32501.5},{"$f":"'I_Asset number input'!N6","v":32628.5},{"$f":"'I_Asset number input'!O6","v":32755.5},{"$f":"'I_Asset number input'!P6","v":"N/A"},{"$f":"'I_Asset number input'!Q6","v":"N/A"},{"$f":"'I_Asset number input'!R6","v":"Connection - UGR1"},null,null,null,null,null,null,null,null,{"$f":"IFERROR(INDEX('C_OPEX Calc'!$AH$10:$AH$146,MATCH($B6,'C_OPEX Calc'!$F$10:$F$146,0)),0)","v":90.064462418169143},{"$f":"AA6*(1+CPIFY25)","v":93.757105377314076},{"$f":"AB6*(1+CPIFY26)","v":96.452301752403926},{"$f":"AC6*(1+CPIFY27)","v":99.224975812742954},{"$f":"AD6*(1+CPIFY28)","v":102.07735477701067},{"$f":"AE6*(1+CPIFY29)","v":105.01172988881237},null,null,null,null,null,null,2892915.5651028021,{"$f":"K6*AB6","v":3023432.2556549357},3122595.0430832007,3224960.551377865,3330630.9703416927,3439711.7183729936]
[null,{"$f":"'I_Asset number input'!B7","v":"UGR2"},{"$f":"'I_Asset number input'!C7","v":"Opex - Connections"},{"$f":"'I_Asset number input'!D7","v":"UGR2"},null,null,null,null,null,{"$f":"'I_Asset number input'!J7","v":24637.5},{"$f":"'I_Asset number input'!K7","v":24734.5},{"$f":"'I_Asset number input'!L7","v":24831.5},{"$f":"'I_Asset number input'!M7","v":24928.5},{"$f":"'I_Asset number input'!N7","v":25025.5},{"$f":"'I_Asset number input'!O7","v":25122.5},{"$f":"'I_Asset number input'!P7","v":"N/A"},{"$f":"'I_Asset number input'!Q7","v":"N/A"},{"$f":"'I_Asset number input'!R7","v":"Connection - UGR2"},null,null,null,null,null,null,null,null,{"$f":"IFERROR(INDEX('C_OPEX Calc'!$AH$10:$AH$146,MATCH($B7,'C_OPEX Calc'!$F$10:$F$146,0)),0)","v":32.746668810558205},34.089282231791088,35.069232599614296,36.077353191640732,37.114453805547633,38.181367517928045,null,null,null,null,null,null,806796.05282012781,843181.35136223666,870821.64929732238,899354.299037816,928807.76371073234,959211.40546914737]
[null,{"$f":"'I_Asset number input'!B8","v":"MBF1x1000"},{"$f":"'I_Asset number input'!C8","v":"Opex - Maintenance- Traditional Luminaire"},{"$f":"'I_Asset number input'!D8","v":"MBF1x1000"},null,null,null,null,null,{"$f":"'I_Asset number input'!J8","v":1},{"$f":"'I_Asset number input'!K8","v":1},{"$f":"'I_Asset number input'!L8","v":1},{"$f":"'I_Asset number input'!M8","v":1},{"$f":"'I_Asset number input'!N8","v":1},{"$f":"'I_Asset number input'!O8","v":1},{"$f":"'I_Asset number input'!P8","v":"Traditional"},{"$f":"'I_Asset number input'!Q8","v":"Major (Cat V)"},{"$f":"'I_Asset number input'!R8","v":"Legacy Luminaire - Major (Cat V) road"},null,null,null,null,null,null,null,null,{"$f":"IFERROR(INDEX('C_OPEX Calc'!$AH$10:$AH$146,MATCH($B8,'C_OPEX Calc'!$F$10:$F$146,0)),0)","v":60.172216287249405},62.639277155026626,64.439942310452011,66.292370435522443,68.198049538721008,70.158510403689576,null,null,null,null,null,null,60.172216287249405,62.639277155026626,64.439942310452011,66.292370435522443,68.198049538721008,70.158510403689576]
[null,{"$f":"'I_Asset number input'!B9","v":"MBF1x125"},{"$f":"'I_Asset number input'!C9","v":"Opex - Maintenance- Traditional Luminaire"},{"$f":"'I_Asset number input'!D9","v":"MBF1x125"},null,null,null,null,null,{"$f":"'I_Asset number input'!J9","v":707.5},{"$f":"'I_Asset number input'!K9","v":476.5},{"$f":"'I_Asset number input'!L9","v":236.5},{"$f":"'I_Asset number input'!M9","v":103},{"$f":"'I_Asset number input'!N9","v":85},{"$f":"'I_Asset number input'!O9","v":76},{"$f":"'I_Asset number input'!P9","v":"Traditional"},{"$f":"'I_Asset number input'!Q9","v":"Minor (Cat P)"},{"$f":"'I_Asset number input'!R9","v":"Legacy Luminaire - Minor (Cat P) road"},null,null,null,null,null,null,null,null,{"$f":"IFERROR(INDEX('C_OPEX Calc'!$AH$10:$AH$146,MATCH($B9,'C_OPEX Calc'!$F$10:$F$146,0)),0)","v":35.018889109735575},36.454663563234732,37.502610560908614,38.580682453522996,39.689745228858932,40.830689768886756,null,null,null,null,null,null,24775.864045137918,17370.64718788135,8869.3673976548871,3973.8102927128684,3373.628344453009,3103.1324224353934]
[null,{"$f":"'I_Asset number input'!B10","v":"MBF1x250"},{"$f":"'I_Asset number input'!C10","v":"Opex - Maintenance- Traditional Luminaire"},{"$f":"'I_Asset number input'!D10","v":"MBF1x250"},null,null,null,null,null,{"$f":"'I_Asset number input'!J10","v":6390},{"$f":"'I_Asset number input'!K10","v":4308},{"$f":"'I_Asset number input'!L10","v":2143.5},{"$f":"'I_Asset number input'!M10","v":937},{"$f":"'I_Asset number input'!N10","v":771},{"$f":"'I_Asset number input'!O10","v":688},{"$f":"'I_Asset number input'!P10","v":"Traditional"},{"$f":"'I_Asset number input'!Q10","v":"Major (Cat V)"},{"$f":"'I_Asset number input'!R10","v":"Legacy Luminaire - Major (Cat V) road"},null,null,null,null,null,null,null,null,{"$f":"IFERROR(INDEX('C_OPEX Calc'!$AH$10:$AH$146,MATCH($B10,'C_OPEX Calc'!$F$10:$F$146,0)),0)","v":47.636516476465843},49.589613652000942,51.015145577491879,52.481656674243446,53.990324953387614,55.542362289850679,null,null,null,null,null,null,304397.34028461674,213632.05561282006,109350.96454535384,49175.312303766106,41626.540539061847,38213.145255417265]
[null,{"$f":"'I_Asset number input'!B11","v":"MBF1x400"},{"$f":"'I_Asset number input'!C11","v":"Opex - Maintenance- Traditional Luminaire"},{"$f":"'I_Asset number input'!D11","v":"MBF1x400"},null,null,null,null,null,{"$f":"'I_Asset number input'!J11","v":2108.5},{"$f":"'I_Asset number input'!K11","v":1421.5},{"$f":"'I_Asset number input'!L11","v":707.5},{"$f":"'I_Asset number input'!M11","v":309.5},{"$f":"'I_Asset number input'!N11","v":254.5},{"$f":"'I_Asset number input'!O11","v":227},{"$f":"'I_Asset number input'!P11","v":"Traditional"},{"$f":"'I_Asset number input'!Q11","v":"Major (Cat V)"},{"$f":"'I_Asset number input'!R11","v":"Legacy Luminaire - Major (Cat V) road"},null,null,null,null,null,null,null,null,{"$f":"IFERROR(INDEX('C_OPEX Calc'!$AH$10:$AH$146,MATCH($B11,'C_OPEX Calc'!$F$10:$F$146,0)),0)","v":47.636516476465843},49.589613652000942,51.015145577491879,52.481656674243446,53.990324953387614,55.542362289850679,null,null,null,null,null,null,100441.59499062823,70491.635806319333,36093.215496075507,16243.072740678346,13740.537700637147,12608.116239796103]
[null,{"$f":"'I_Asset number input'!B12","v":"MBF1x42"},{"$f":"'I_Asset number input'!C12","v":"Opex - Maintenance- Traditional Luminaire"},{"$f":"'I_Asset number input'!D12","v":"MBF1x42"},null,null,null,null,null,{"$f":"'I_Asset number input'!J12","v":17128},{"$f":"'I_Asset number input'!K12","v":11548},{"$f":"'I_Asset number input'!L12","v":5746},{"$f":"'I_Asset number input'!M12","v":2512},{"$f":"'I_Asset number input'!N12","v":2068},{"$f":"'I_Asset number input'!O12","v":1846},{"$f":"'I_Asset number input'!P12","v":"Traditional"},{"$f":"'I_Asset number input'!Q12","v":"Minor (Cat P)"},{"$f":"'I_Asset number input'!R12","v":"Legacy Luminaire - Minor (Cat P) road"},null,null,null,null,null,null,null,null,{"$f":"IFERROR(INDEX('C_OPEX Calc'!$AH$10:$AH$146,MATCH($B12,'C_OPEX Calc'!$F$10:$F$146,0)),0)","v":31.230931518736742},32.511399711004948,33.445991348594049,34.407449301900577,35.396545885688759,36.41407561613299,null,null,null,null,null,null,534923.39505292289,375441.64386268513,192180.66628902141,86431.512646374249,73200.056891604356,67220.383587381497]
[null,{"$f":"'I_Asset number input'!B13","v":"MBF1x50"},{"$f":"'I_Asset number input'!C13","v":"Opex - Maintenance- Traditional Luminaire"},{"$f":"'I_Asset number input'!D13","v":"MBF1x50"},null,null,null,null,null,{"$f":"'I_Asset number input'!J13","v":1555.5},{"$f":"'I_Asset number input'!K13","v":1048.5},{"$f":"'I_Asset number input'!L13","v":521.5},{"$f":"'I_Asset number input'!M13","v":228},{"$f":"'I_Asset number input'!N13","v":188},{"$f":"'I_Asset number input'!O13","v":168},{"$f":"'I_Asset number input'!P13","v":"Traditional"},{"$f":"'I_Asset number input'!Q13","v":"Minor (Cat P)"},{"$f":"'I_Asset number input'!R13","v":"Legacy Luminaire - Minor (Cat P) road"},null,null,null,null,null,null,null,null,{"$f":"IFERROR(INDEX('C_OPEX Calc'!$AH$10:$AH$146,MATCH($B13,'C_OPEX Calc'!$F$10:$F$146,0)),0)","v":35.042652103827969},36.479400840084914,37.528058949931342,38.606862396763084,39.716677756000117,40.858396514144331,null,null,null,null,null,null,54508.845347504408,38248.65178082903,19570.882742389196,8802.3646264619838,7466.7354181280216,6864.2106143762476]
[null,{"$f":"'I_Asset number input'!B14","v":"MBF1x80"},{"$f":"'I_Asset number input'!C14","v":"Opex - Maintenance- Traditional Luminaire"},{"$f":"'I_Asset number input'!D14","v":"MBF1x80"},null,null,null,null,null,{"$f":"'I_Asset number input'!J14","v":5278.5},{"$f":"'I_Asset number input'!K14","v":3559.5},{"$f":"'I_Asset number input'!L14","v":1772},{"$f":"'I_Asset number input'!M14","v":775.5},{"$f":"'I_Asset number input'!N14","v":638.5},{"$f":"'I_Asset number input'!O14","v":570},{"$f":"'I_Asset number input'!P14","v":"Traditional"},{"$f":"'I_Asset number input'!Q14","v":"Minor (Cat P)"},{"$f":"'I_Asset number input'!R14","v":"Legacy Luminaire - Minor (Cat P) road"},null,null,null,null,null,null,null,null,{"$f":"IFERROR(INDEX('C_OPEX Calc'!$AH$10:$AH$146,MATCH($B14,'C_OPEX Calc'!$F$10:$F$146,0)),0)","v":33.58084056580433},34.957655029002304,35.96256814717762,36.996369083321362,38.059888263479209,39.153979985607762,null,null,null,null,null,null,177256.46692659816,124431.7730757337,63725.670756798747,28690.684224115717,24301.238656231475,22317.768591796423]
[null,{"$f":"'I_Asset number input'!B15","v":"MBF2x80"},{"$f":"'I_Asset number input'!C15","v":"Opex - Maintenance- Traditional Luminaire"},{"$f":"'I_Asset number input'!D15","v":"MBF2x80"},null,null,null,null,null,{"$f":"'I_Asset number input'!J15","v":8.5},{"$f":"'I_Asset number input'!K15","v":5.5},{"$f":"'I_Asset number input'!L15","v":2.5},{"$f":"'I_Asset number input'!M15","v":1},{"$f":"'I_Asset number input'!N15","v":1},{"$f":"'I_Asset number input'!O15","v":1},{"$f":"'I_Asset number input'!P15","v":"Traditional"},{"$f":"'I_Asset number input'!Q15","v":"Minor (Cat P)"},{"$f":"'I_Asset number input'!R15","v":"Legacy Luminaire - Minor (Cat P) road"},null,null,null,null,null,null,null,null,{"$f":"IFERROR(INDEX('C_OPEX Calc'!$AH$10:$AH$146,MATCH($B15,'C_OPEX Calc'!$F$10:$F$146,0)),0)","v":42.315676133570697},44.050618855047091,45.316923609025928,46.619630297225619,47.959785350855441,49.338465282445874,null,null,null,null,null,null,359.68324713535094,242.27840370275899,113.29230902256482,46.619630297225619,47.959785350855441,49.338465282445874]
[null,{"$f":"'I_Asset number input'!B16","v":"MBI1x100"},{"$f":"'I_Asset number input'!C16","v":"Opex - Maintenance- Traditional Luminaire"},{"$f":"'I_Asset number input'!D16","v":"MBI1x100"},null,null,null,null,null,{"$f":"'I_Asset number input'!J16","v":10.5},{"$f":"'I_Asset number input'!K16","v":7.5},{"$f":"'I_Asset number input'!L16","v":4},{"$f":"'I_Asset number input'!M16","v":2},{"$f":"'I_Asset number input'!N16","v":2},{"$f":"'I_Asset number input'!O16","v":2},{"$f":"'I_Asset number input'!P16","v":"Traditional"},{"$f":"'I_Asset number input'!Q16","v":"Major (Cat V)"},{"$f":"'I_Asset number input'!R16","v":"Legacy Luminaire - Major (Cat V) road"},null,null,null,null,null,null,null,null,{"$f":"IFERROR(INDEX('C_OPEX Calc'!$AH$10:$AH$146,MATCH($B16,'C_OPEX Calc'!$F$10:$F$146,0)),0)","v":44.700065870393892},46.532768571080041,47.870426646923491,49.246537821149346,50.662207488926896,52.118572821758988,null,null,null,null,null,null,469.35069163913585,348.9957642831003,191.48170658769396,98.493075642298692,101.32441497785379,104.23714564351798]
[null,{"$f":"'I_Asset number input'!B17","v":"MBI1x1000"},{"$f":"'I_Asset number input'!C17","v":"Opex - Maintenance- Traditional Luminaire"},{"$f":"'I_Asset number input'!D17","v":"MBI1x1000"},null,null,null,null,null,{"$f":"'I_Asset number input'!J17","v":4.5},{"$f":"'I_Asset number input'!K17","v":3.5},{"$f":"'I_Asset number input'!L17","v":2},{"$f":"'I_Asset number input'!M17","v":1},{"$f":"'I_Asset number input'!N17","v":1},{"$f":"'I_Asset number input'!O17","v":1},{"$f":"'I_Asset number input'!P17","v":"Traditional"},{"$f":"'I_Asset number input'!Q17","v":"Major (Cat V)"},{"$f":"'I_Asset number input'!R17","v":"Legacy Luminaire - Major (Cat V) road"},null,null,null,null,null,null,null,null,{"$f":"IFERROR(INDEX('C_OPEX Calc'!$AH$10:$AH$146,MATCH($B17,'C_OPEX Calc'!$F$10:$F$146,0)),0)","v":46.549608746772329},48.458142705389989,49.851148707842313,51.284198872421641,52.758444331942648,54.275069310354553,null,null,null,null,null,null,209.47323936047547,169.60349946886495,99.702297415684626,51.284198872421641,52.758444331942648,54.275069310354553]
[null,{"$f":"'I_Asset number input'!B18","v":"MBI1x150"},{"$f":"'I_Asset number input'!C18","v":"Opex - Maintenance- Traditional Luminaire"},{"$f":"'I_Asset number input'!D18","v":"MBI1x150"},null,null,null,null,null,{"$f":"'I_Asset number input'!J18","v":2.5},{"$f":"'I_Asset number input'!K18","v":1.5},{"$f":"'I_Asset number input'!L18","v":0.5},{"$f":"'I_Asset number input'!M18","v":0},{"$f":"'I_Asset number input'!N18","v":0},{"$f":"'I_Asset number input'!O18","v":0},{"$f":"'I_Asset number input'!P18","v":"Traditional"},{"$f":"'I_Asset number input'!Q18","v":"Major (Cat V)"},{"$f":"'I_Asset number input'!R18","v":"Legacy Luminaire - Major (Cat V) road"},null,null,null,null,null,null,null,null,{"$f":"IFERROR(INDEX('C_OPEX Calc'!$AH$10:$AH$146,MATCH($B18,'C_OPEX Calc'!$F$10:$F$146,0)),0)","v":44.700065870393892},46.532768571080041,47.870426646923491,49.246537821149346,50.662207488926896,52.118572821758988,null,null,null,null,null,null,111.75016467598473,69.799152856620054,23.935213323461745,0,0,0]
[null,{"$f":"'I_Asset number input'!B19","v":"MBI1x250"},{"$f":"'I_Asset number input'!C19","v":"Opex - Maintenance- Traditional Luminaire"},{"$f":"'I_Asset number input'!D19","v":"MBI1x250"},null,null,null,null,null,{"$f":"'I_Asset number input'!J19","v":31.5},{"$f":"'I_Asset number input'!K19","v":20.5},{"$f":"'I_Asset number input'!L19","v":9.5},{"$f":"'I_Asset number input'!M19","v":3.5},{"$f":"'I_Asset number input'!N19","v":2.5},{"$f":"'I_Asset number input'!O19","v":2},{"$f":"'I_Asset number input'!P19","v":"Traditional"},{"$f":"'I_Asset number input'!Q19","v":"Major (Cat V)"},{"$f":"'I_Asset number input'!R19","v":"Legacy Luminaire - Major (Cat V) road"},null,null,null,null,null,null,null,null,{"$f":"IFERROR(INDEX('C_OPEX Calc'!$AH$10:$AH$146,MATCH($B19,'C_OPEX Calc'!$F$10:$F$146,0)),0)","v":44.365066603804834},46.184034334560828,47.511667492864923,48.877465567431209,50.282525669177851,51.727976447212662,null,null,null,null,null,null,1397.4995980198523,946.77270385849693,451.36084118221675,171.07112948600923,125.70631417294463,103.45595289442532]
[null,{"$f":"'I_Asset number input'!B20","v":"MBI1x400"},{"$f":"'I_Asset number input'!C20","v":"Opex - Maintenance- Traditional Luminaire"},{"$f":"'I_Asset number input'!D20","v":"MBI1x400"},null,null,null,null,null,{"$f":"'I_Asset number input'!J20","v":64.5},{"$f":"'I_Asset number input'!K20","v":43.5},{"$f":"'I_Asset number input'!L20","v":21.5},{"$f":"'I_Asset number input'!M20","v":9},{"$f":"'I_Asset number input'!N20","v":7},{"$f":"'I_Asset number input'!O20","v":6},{"$f":"'I_Asset number input'!P20","v":"Traditional"},{"$f":"'I_Asset number input'!Q20","v":"Major (Cat V)"},{"$f":"'I_Asset number input'!R20","v":"Legacy Luminaire - Major (Cat V) road"},null,null,null,null,null,null,null,null,{"$f":"IFERROR(INDEX('C_OPEX Calc'!$AH$10:$AH$146,MATCH($B20,'C_OPEX Calc'!$F$10:$F$146,0)),0)","v":44.354225203591596},46.172748436938846,47.500057164254613,48.86552148155036,50.270238231645514,51.715335787842221,null,null,null,null,null,null,2860.8475256316578,2008.5145570068398,1021.2512290314742,439.78969333395321,351.89166762151859,310.29201472705336]
[null,{"$f":"'I_Asset number input'!B21","v":"MBI1x70"},{"$f":"'I_Asset number input'!C21","v":"Opex - Maintenance- Traditional Luminaire"},{"$f":"'I_Asset number input'!D21","v":"MBI1x70"},null,null,null,null,null,{"$f":"'I_Asset number input'!J21","v":78},{"$f":"'I_Asset number input'!K21","v":52},{"$f":"'I_Asset number input'!L21","v":25},{"$f":"'I_Asset number input'!M21","v":10},{"$f":"'I_Asset number input'!N21","v":8},{"$f":"'I_Asset number input'!O21","v":7},{"$f":"'I_Asset number input'!P21","v":"Traditional"},{"$f":"'I_Asset number input'!Q21","v":"Minor (Cat P)"},{"$f":"'I_Asset number input'!R21","v":"Legacy Luminaire - Minor (Cat P) road"},null,null,null,null,null,null,null,null,{"$f":"IFERROR(INDEX('C_OPEX Calc'!$AH$10:$AH$146,MATCH($B21,'C_OPEX Calc'!$F$10:$F$146,0)),0)","v":33.008701773502246},34.362058546215835,35.349850300895952,36.36603769285437,37.411436999623902,38.486887963926883,null,null,null,null,null,null,2574.6787383331753,1786.8270444032235,883.74625752239876,363.66037692854371,299.29149599699122,269.40821574748816]
[null,{"$f":"'I_Asset number input'!B22","v":"MBI1x70 II"},{"$f":"'I_Asset number input'!C22","v":"Opex - Maintenance- Traditional Luminaire"},{"$f":"'I_Asset number input'!D22","v":"MBI1x70 II"},null,null,null,null,null,{"$f":"'I_Asset number input'!J22","v":11},{"$f":"'I_Asset number input'!K22","v":7},{"$f":"'I_Asset number input'!L22","v":3},{"$f":"'I_Asset number input'!M22","v":1},{"$f":"'I_Asset number input'!N22","v":1},{"$f":"'I_Asset number input'!O22","v":1},{"$f":"'I_Asset number input'!P22","v":"Traditional"},{"$f":"'I_Asset number input'!Q22","v":"Minor (Cat P)"},{"$f":"'I_Asset number input'!R22","v":"Legacy Luminaire - Minor (Cat P) road"},null,null,null,null,null,null,null,null,{"$f":"IFERROR(INDEX('C_OPEX Calc'!$AH$10:$AH$146,MATCH($B22,'C_OPEX Calc'!$F$10:$F$146,0)),0)","v":35.366706319881544},36.816741278996687,37.875096773638298,38.963876371938341,40.083954662906002,41.236231376995669,null,null,null,null,null,null,389.033769518697,257.71718895297681,113.6252903209149,38.963876371938341,40.083954662906002,41.236231376995669]
[null,{"$f":"'I_Asset number input'!B23","v":"SON1x100"},{"$f":"'I_Asset number input'!C23","v":"Opex - Maintenance- Traditional Luminaire"},{"$f":"'I_Asset number input'!D23","v":"SON1x100"},null,null,null,null,null,{"$f":"'I_Asset number input'!J23","v":630.5},{"$f":"'I_Asset number input'!K23","v":425.5},{"$f":"'I_Asset number input'!L23","v":212},{"$f":"'I_Asset number input'!M23","v":93},{"$f":"'I_Asset number input'!N23","v":77},{"$f":"'I_Asset number input'!O23","v":69},{"$f":"'I_Asset number input'!P23","v":"Traditional"},{"$f":"'I_Asset number input'!Q23","v":"Major (Cat V)"},{"$f":"'I_Asset number input'!R23","v":"Legacy Luminaire - Major (Cat V) road"},null,null,null,null,null,null,null,null,{"$f":"IFERROR(INDEX('C_OPEX Calc'!$AH$10:$AH$146,MATCH($B23,'C_OPEX Calc'!$F$10:$F$146,0)),0)","v":53.424499033062233},55.614903493417778,57.213641911089745,58.858338594758578,60.550314687514408,62.290929310796344,null,null,null,null,null,null,33684.146640345738,23664.141436449263,12129.292085151026,5473.8254893125477,4662.3742309386098,4298.0741224449475]
[null,{"$f":"'I_Asset number input'!B24","v":"SON1x1000"},{"$f":"'I_Asset number input'!C24","v":"Opex - Maintenance- Traditional Luminaire"},{"$f":"'I_Asset number input'!D24","v":"SON1x1000"},null,null,null,null,null,{"$f":"'I_Asset number input'!J24","v":19},{"$f":"'I_Asset number input'!K24","v":13},{"$f":"'I_Asset number input'!L24","v":6.5},{"$f":"'I_Asset number input'!M24","v":3},{"$f":"'I_Asset number input'!N24","v":3},{"$f":"'I_Asset number input'!O24","v":3},{"$f":"'I_Asset number input'!P24","v":"Traditional"},{"$f":"'I_Asset number input'!Q24","v":"Major (Cat V)"},{"$f":"'I_Asset number input'!R24","v":"Legacy Luminaire - Major (Cat V) road"},null,null,null,null,null,null,null,null,{"$f":"IFERROR(INDEX('C_OPEX Calc'!$AH$10:$AH$146,MATCH($B24,'C_OPEX Calc'!$F$10:$F$146,0)),0)","v":54.711594092563537},56.95476945035864,58.592024435449375,60.276344906224161,62.009083834555341,63.791633085632952,null,null,null,null,null,null,1039.5202877587071,740.41200285466232,380.84815883042091,180.82903471867249,186.02725150366604,191.37489925689886]
[null,{"$f":"'I_Asset number input'!B25","v":"SON1x150"},{"$f":"'I_Asset number input'!C25","v":"Opex - Maintenance- Traditional Luminaire"},{"$f":"'I_Asset number input'!D25","v":"SON1x150"},null,null,null,null,null,{"$f":"'I_Asset number input'!J25","v":9386},{"$f":"'I_Asset number input'!K25","v":6328},{"$f":"'I_Asset number input'!L25","v":3148.5},{"$f":"'I_Asset number input'!M25","v":1376.5},{"$f":"'I_Asset number input'!N25","v":1133.5},{"$f":"'I_Asset number input'!O25","v":1012},{"$f":"'I_Asset number input'!P25","v":"Traditional"},{"$f":"'I_Asset number input'!Q25","v":"Major (Cat V)"},{"$f":"'I_Asset number input'!R25","v":"Legacy Luminaire - Major (Cat V) road"},null,null,null,null,null,null,null,null,{"$f":"IFERROR(INDEX('C_OPEX Calc'!$AH$10:$AH$146,MATCH($B25,'C_OPEX Calc'!$F$10:$F$146,0)),0)","v":52.785810132568457},54.950028348003762,56.529653877382138,58.154688242535116,59.826436792311547,61.546242399878814,null,null,null,null,null,null,495447.61390428751,347723.77938616782,177983.61523293765,80049.928365849584,67813.266104085138,62284.797308677356]
[null,{"$f":"'I_Asset number input'!B26","v":"SON1x150 AR"},{"$f":"'I_Asset number input'!C26","v":"Opex - Maintenance- Traditional Luminaire"},{"$f":"'I_Asset number input'!D26","v":"SON1x150 AR"},null,null,null,null,null,{"$f":"'I_Asset number input'!J26","v":1677.5},{"$f":"'I_Asset number input'!K26","v":1130.5},{"$f":"'I_Asset number input'!L26","v":562},{"$f":"'I_Asset number input'!M26","v":245.5},{"$f":"'I_Asset number input'!N26","v":202.5},{"$f":"'I_Asset number input'!O26","v":181},{"$f":"'I_Asset number input'!P26","v":"Traditional"},{"$f":"'I_Asset number input'!Q26","v":"Major (Cat V)"},{"$f":"'I_Asset number input'!R26","v":"Legacy Luminaire - Major (Cat V) road"},null,null,null,null,null,null,null,null,{"$f":"IFERROR(INDEX('C_OPEX Calc'!$AH$10:$AH$146,MATCH($B26,'C_OPEX Calc'!$F$10:$F$146,0)),0)","v":52.785810132568457},54.950028348003762,56.529653877382138,58.154688242535116,59.826436792311547,61.546242399878814,null,null,null,null,null,null,88548.196497383586,62121.00704741825,31769.665479088762,14276.975963542371,12114.853450443088,11139.869874378066]
[null,{"$f":"'I_Asset number input'!B27","v":"SON1x250"},{"$f":"'I_Asset number input'!C27","v":"Opex - Maintenance- Traditional Luminaire"},{"$f":"'I_Asset number input'!D27","v":"SON1x250"},null,null,null,null,null,{"$f":"'I_Asset number input'!J27","v":11460},{"$f":"'I_Asset number input'!K27","v":7726},{"$f":"'I_Asset number input'!L27","v":3843.5},{"$f":"'I_Asset number input'!M27","v":1679.5},{"$f":"'I_Asset number input'!N27","v":1382.5},{"$f":"'I_Asset number input'!O27","v":1234},{"$f":"'I_Asset number input'!P27","v":"Traditional"},{"$f":"'I_Asset number input'!Q27","v":"Major (Cat V)"},{"$f":"'I_Asset number input'!R27","v":"Legacy Luminaire - Major (Cat V) road"},null,null,null,null,null,null,null,null,{"$f":"IFERROR(INDEX('C_OPEX Calc'!$AH$10:$AH$146,MATCH($B27,'C_OPEX Calc'!$F$10:$F$146,0)),0)","v":53.086161759356671},55.262694391490292,56.851308001117388,58.485588823110461,60.166849633762403,61.896440947198258,null,null,null,null,null,null,608367.4137622274,426959.576868654,218508.00230229468,98226.546428414018,83180.669618676518,76380.208128842656]
[null,{"$f":"'I_Asset number input'!B28","v":"SON1x250 AR"},{"$f":"'I_Asset number input'!C28","v":"Opex - Maintenance- Traditional Luminaire"},{"$f":"'I_Asset number input'!D28","v":"SON1x250 AR"},null,null,null,null,null,{"$f":"'I_Asset number input'!J28","v":2182.5},{"$f":"'I_Asset number input'!K28","v":1471.5},{"$f":"'I_Asset number input'!L28","v":732},{"$f":"'I_Asset number input'!M28","v":319.5},{"$f":"'I_Asset number input'!N28","v":262.5},{"$f":"'I_Asset number input'!O28","v":234},{"$f":"'I_Asset number input'!P28","v":"Traditional"},{"$f":"'I_Asset number input'!Q28","v":"Major (Cat V)"},{"$f":"'I_Asset number input'!R28","v":"Legacy Luminaire - Major (Cat V) road"},null,null,null,null,null,null,null,null,{"$f":"IFERROR(INDEX('C_OPEX Calc'!$AH$10:$AH$146,MATCH($B28,'C_OPEX Calc'!$F$10:$F$146,0)),0)","v":53.086161759356671},55.262694391490292,56.851308001117388,58.485588823110461,60.166849633762403,61.896440947198258,null,null,null,null,null,null,115860.54803979593,81319.054797077959,41615.157456817928,18686.145628983792,15793.798028862631,14483.767181644393]
[null,{"$f":"'I_Asset number input'!B29","v":"SON1x400"},{"$f":"'I_Asset number input'!C29","v":"Opex - Maintenance- Traditional Luminaire"},{"$f":"'I_Asset number input'!D29","v":"SON1x400"},null,null,null,null,null,{"$f":"'I_Asset number input'!J29","v":1054},{"$f":"'I_Asset number input'!K29","v":710},{"$f":"'I_Asset number input'!L29","v":352.5},{"$f":"'I_Asset number input'!M29","v":153.5},{"$f":"'I_Asset number input'!N29","v":126.5},{"$f":"'I_Asset number input'!O29","v":113},{"$f":"'I_Asset number input'!P29","v":"Traditional"},{"$f":"'I_Asset number input'!Q29","v":"Major (Cat V)"},{"$f":"'I_Asset number input'!R29","v":"Legacy Luminaire - Major (Cat V) road"},null,null,null,null,null,null,null,null,{"$f":"IFERROR(INDEX('C_OPEX Calc'!$AH$10:$AH$146,MATCH($B29,'C_OPEX Calc'!$F$10:$F$146,0)),0)","v":53.218669829998539},55.400635293028479,56.993214232177067,58.631574373364302,60.317031769696619,62.050940306309791,null,null,null,null,null,null,56092.478000818461,39334.451058050217,20090.108016842416,8999.9466663114199,7630.1045188666221,7011.7562546130066]
[null,{"$f":"'I_Asset number input'!B30","v":"SON1x400 AR"},{"$f":"'I_Asset number input'!C30","v":"Opex - Maintenance- Traditional Luminaire"},{"$f":"'I_Asset number input'!D30","v":"SON1x400 AR"},null,null,null,null,null,{"$f":"'I_Asset number input'!J30","v":227},{"$f":"'I_Asset number input'!K30","v":153},{"$f":"'I_Asset number input'!L30","v":76},{"$f":"'I_Asset number input'!M30","v":33},{"$f":"'I_Asset number input'!N30","v":27},{"$f":"'I_Asset number input'!O30","v":24},{"$f":"'I_Asset number input'!P30","v":"Traditional"},{"$f":"'I_Asset number input'!Q30","v":"Major (Cat V)"},{"$f":"'I_Asset number input'!R30","v":"Legacy Luminaire - Major (Cat V) road"},null,null,null,null,null,null,null,null,{"$f":"IFERROR(INDEX('C_OPEX Calc'!$AH$10:$AH$146,MATCH($B30,'C_OPEX Calc'!$F$10:$F$146,0)),0)","v":53.218669829998539},55.400635293028479,56.993214232177067,58.631574373364302,60.317031769696619,62.050940306309791,null,null,null,null,null,null,12080.638051409669,8476.2971998333578,4331.4842816454575,1934.8419543210221,1628.5598577818087,1489.2225673514349]
[null,{"$f":"'I_Asset number input'!B31","v":"SON1x50"},{"$f":"'I_Asset number input'!C31","v":"Opex - Maintenance- Traditional Luminaire"},{"$f":"'I_Asset number input'!D31","v":"SON1x50"},null,null,null,null,null,{"$f":"'I_Asset number input'!J31","v":4.5},{"$f":"'I_Asset number input'!K31","v":3.5},{"$f":"'I_Asset number input'!L31","v":2},{"$f":"'I_Asset number input'!M31","v":1},{"$f":"'I_Asset number input'!N31","v":1},{"$f":"'I_Asset number input'!O31","v":1},{"$f":"'I_Asset number input'!P31","v":"Traditional"},{"$f":"'I_Asset number input'!Q31","v":"Minor (Cat P)"},{"$f":"'I_Asset number input'!R31","v":"Legacy Luminaire - Minor (Cat P) road"},null,null,null,null,null,null,null,null,{"$f":"IFERROR(INDEX('C_OPEX Calc'!$AH$10:$AH$146,MATCH($B31,'C_OPEX Calc'!$F$10:$F$146,0)),0)","v":39.220732752248068},40.828782795090234,42.002470772612675,43.209898268540407,44.452035178726526,45.729879280215386,null,null,null,null,null,null,176.49329738511631,142.90073978281583,84.00494154522535,43.209898268540407,44.452035178726526,45.729879280215386]
[null,{"$f":"'I_Asset number input'!B32","v":"SON1x600"},{"$f":"'I_Asset number input'!C32","v":"Opex - Maintenance- Traditional Luminaire"},{"$f":"'I_Asset number input'!D32","v":"SON1x600"},null,null,null,null,null,{"$f":"'I_Asset number input'!J32","v":0},{"$f":"'I_Asset number input'!K32","v":0},{"$f":"'I_Asset number input'!L32","v":0},{"$f":"'I_Asset number input'!M32","v":0},{"$f":"'I_Asset number input'!N32","v":0},{"$f":"'I_Asset number input'!O32","v":0},{"$f":"'I_Asset number input'!P32","v":"Traditional"},{"$f":"'I_Asset number input'!Q32","v":"Major (Cat V)"},{"$f":"'I_Asset number input'!R32","v":"Legacy Luminaire - Major (Cat V) road"},null,null,null,null,null,null,null,null,{"$f":"IFERROR(INDEX('C_OPEX Calc'!$AH$10:$AH$146,MATCH($B32,'C_OPEX Calc'!$F$10:$F$146,0)),0)","v":54.711594092563537},56.95476945035864,58.592024435449375,60.276344906224161,62.009083834555341,63.791633085632952,null,null,null,null,null,null,0,0,0,0,0,0]
[null,{"$f":"'I_Asset number input'!B33","v":"SON1x70"},{"$f":"'I_Asset number input'!C33","v":"Opex - Maintenance- Traditional Luminaire"},{"$f":"'I_Asset number input'!D33","v":"SON1x70"},null,null,null,null,null,{"$f":"'I_Asset number input'!J33","v":259},{"$f":"'I_Asset number input'!K33","v":175},{"$f":"'I_Asset number input'!L33","v":87.5},{"$f":"'I_Asset number input'!M33","v":38.5},{"$f":"'I_Asset number input'!N33","v":31.5},{"$f":"'I_Asset number input'!O33","v":28},{"$f":"'I_Asset number input'!P33","v":"Traditional"},{"$f":"'I_Asset number input'!Q33","v":"Minor (Cat P)"},{"$f":"'I_Asset number input'!R33","v":"Legacy Luminaire - Minor (Cat P) road"},null,null,null,null,null,null,null,null,{"$f":"IFERROR(INDEX('C_OPEX Calc'!$AH$10:$AH$146,MATCH($B33,'C_OPEX Calc'!$F$10:$F$146,0)),0)","v":38.888579188505801},40.483010935234539,41.646759153423105,42.84396115590414,44.075578624651456,45.342600886709171,null,null,null,null,null,null,10072.142009823003,7084.5269136660445,3644.0914259245214,1649.4925045023094,1388.3807266765209,1269.5928248278567]
[null,{"$f":"'I_Asset number input'!B34","v":"SON2x250"},{"$f":"'I_Asset number input'!C34","v":"Opex - Maintenance- Traditional Luminaire"},{"$f":"'I_Asset number input'!D34","v":"SON2x250"},null,null,null,null,null,{"$f":"'I_Asset number input'!J34","v":6},{"$f":"'I_Asset number input'!K34","v":4},{"$f":"'I_Asset number input'!L34","v":2},{"$f":"'I_Asset number input'!M34","v":1},{"$f":"'I_Asset number input'!N34","v":1},{"$f":"'I_Asset number input'!O34","v":1},{"$f":"'I_Asset number input'!P34","v":"Traditional"},{"$f":"'I_Asset number input'!Q34","v":"Major (Cat V)"},{"$f":"'I_Asset number input'!R34","v":"Legacy Luminaire - Major (Cat V) road"},null,null,null,null,null,null,null,null,{"$f":"IFERROR(INDEX('C_OPEX Calc'!$AH$10:$AH$146,MATCH($B34,'C_OPEX Calc'!$F$10:$F$146,0)),0)","v":74.029104123772484},77.064297392847152,79.27963258420327,81.558651091648585,83.903183592890002,86.315113391362345,null,null,null,null,null,null,444.17462474263493,308.25718957138861,158.55926516840654,81.558651091648585,83.903183592890002,86.315113391362345]
[null,{"$f":"'I_Asset number input'!B35","v":"SON2x400"},{"$f":"'I_Asset number input'!C35","v":"Opex - Maintenance- Traditional Luminaire"},{"$f":"'I_Asset number input'!D35","v":"SON2x400"},null,null,null,null,null,{"$f":"'I_Asset number input'!J35","v":2.5},{"$f":"'I_Asset number input'!K35","v":1.5},{"$f":"'I_Asset number input'!L35","v":0.5},{"$f":"'I_Asset number input'!M35","v":0},{"$f":"'I_Asset number input'!N35","v":0},{"$f":"'I_Asset number input'!O35","v":0},{"$f":"'I_Asset number input'!P35","v":"Traditional"},{"$f":"'I_Asset number input'!Q35","v":"Major (Cat V)"},{"$f":"'I_Asset number input'!R35","v":"Legacy Luminaire - Major (Cat V) road"},null,null,null,null,null,null,null,null,{"$f":"IFERROR(INDEX('C_OPEX Calc'!$AH$10:$AH$146,MATCH($B35,'C_OPEX Calc'!$F$10:$F$146,0)),0)","v":74.285482567125499},77.33118735237764,79.55419471800343,81.841105948509863,84.193758061627889,86.61404088307043,null,null,null,null,null,null,185.71370641781374,115.99678102856646,39.777097359001715,0,0,0]
[null,{"$f":"'I_Asset number input'!B36","v":"SON4x250"},{"$f":"'I_Asset number input'!C36","v":"Opex - Maintenance- Traditional Luminaire"},{"$f":"'I_Asset number input'!D36","v":"SON4x250"},null,null,null,null,null,{"$f":"'I_Asset number input'!J36","v":2.5},{"$f":"'I_Asset number input'!K36","v":1.5},{"$f":"'I_Asset number input'!L36","v":0.5},{"$f":"'I_Asset number input'!M36","v":0},{"$f":"'I_Asset number input'!N36","v":0},{"$f":"'I_Asset number input'!O36","v":0},{"$f":"'I_Asset number input'!P36","v":"Traditional"},{"$f":"'I_Asset number input'!Q36","v":"Major (Cat V)"},{"$f":"'I_Asset number input'!R36","v":"Legacy Luminaire - Major (Cat V) road"},null,null,null,null,null,null,null,null,{"$f":"IFERROR(INDEX('C_OPEX Calc'!$AH$10:$AH$146,MATCH($B36,'C_OPEX Calc'!$F$10:$F$146,0)),0)","v":111.90840781389366},116.49665253426329,119.84553318023532,123.29068270035091,126.83486849575348,130.48093752091205,null,null,null,null,null,null,279.77101953473414,174.74497880139495,59.922766590117661,0,0,0]
[null,{"$f":"'I_Asset number input'!B37","v":"SON4x600"},{"$f":"'I_Asset number input'!C37","v":"Opex - Maintenance- Traditional Luminaire"},{"$f":"'I_Asset number input'!D37","v":"SON4x600"},null,null,null,null,null,{"$f":"'I_Asset number input'!J37","v":1.5},{"$f":"'I_Asset number input'!K37","v":0.5},{"$f":"'I_Asset number input'!L37","v":-0.5},{"$f":"'I_Asset number input'!M37","v":-1},{"$f":"'I_Asset number input'!N37","v":-1},{"$f":"'I_Asset number input'!O37","v":-1},{"$f":"'I_Asset number input'!P37","v":"Traditional"},{"$f":"'I_Asset number input'!Q37","v":"Major (Cat V)"},{"$f":"'I_Asset number input'!R37","v":"Legacy Luminaire - Major (Cat V) road"},null,null,null,null,null,null,null,null,{"$f":"IFERROR(INDEX('C_OPEX Calc'!$AH$10:$AH$146,MATCH($B37,'C_OPEX Calc'!$F$10:$F$146,0)),0)","v":117.80157976231578},122.63144453257073,126.15667948352292,129.78325289221559,133.5140778929958,137.35215136286783,null,null,null,null,null,null,176.70236964347367,61.315722266285363,-63.078339741761461,-129.78325289221559,-133.5140778929958,-137.35215136286783]
[null,{"$f":"'I_Asset number input'!B38","v":"TF1x20"},{"$f":"'I_Asset number input'!C38","v":"Opex - Maintenance- Traditional Luminaire"},{"$f":"'I_Asset number input'!D38","v":"TF1x20"},null,null,null,null,null,{"$f":"'I_Asset number input'!J38","v":1},{"$f":"'I_Asset number input'!K38","v":1},{"$f":"'I_Asset number input'!L38","v":1},{"$f":"'I_Asset number input'!M38","v":1},{"$f":"'I_Asset number input'!N38","v":1},{"$f":"'I_Asset number input'!O38","v":1},{"$f":"'I_Asset number input'!P38","v":"Traditional"},{"$f":"'I_Asset number input'!Q38","v":"Minor (Cat P)"},{"$f":"'I_Asset number input'!R38","v":"Legacy Luminaire - Minor (Cat P) road"},null,null,null,null,null,null,null,null,{"$f":"IFERROR(INDEX('C_OPEX Calc'!$AH$10:$AH$146,MATCH($B38,'C_OPEX Calc'!$F$10:$F$146,0)),0)","v":37.179746644047377},38.704116256453318,39.81672733180217,40.961322173342367,42.138820205050934,43.350167281202204,null,null,null,null,null,null,37.179746644047377,38.704116256453318,39.81672733180217,40.961322173342367,42.138820205050934,43.350167281202204]
[null,{"$f":"'I_Asset number input'!B39","v":"TF1x40"},{"$f":"'I_Asset number input'!C39","v":"Opex - Maintenance- Traditional Luminaire"},{"$f":"'I_Asset number input'!D39","v":"TF1x40"},null,null,null,null,null,{"$f":"'I_Asset number input'!J39","v":31},{"$f":"'I_Asset number input'!K39","v":21},{"$f":"'I_Asset number input'!L39","v":10.5},{"$f":"'I_Asset number input'!M39","v":4.5},{"$f":"'I_Asset number input'!N39","v":3.5},{"$f":"'I_Asset number input'!O39","v":3},{"$f":"'I_Asset number input'!P39","v":"Traditional"},{"$f":"'I_Asset number input'!Q39","v":"Minor (Cat P)"},{"$f":"'I_Asset number input'!R39","v":"Legacy Luminaire - Minor (Cat P) road"},null,null,null,null,null,null,null,null,{"$f":"IFERROR(INDEX('C_OPEX Calc'!$AH$10:$AH$146,MATCH($B39,'C_OPEX Calc'!$F$10:$F$146,0)),0)","v":61.166798869522012},63.674637623172408,65.505065853827432,67.388112640828339,69.32529058785201,71.318155780761842,null,null,null,null,null,null,1896.1707649551824,1337.1673900866206,687.80319146518809,303.24650688372753,242.63851705748203,213.95446734228551]
[null,{"$f":"'I_Asset number input'!B40","v":"TF1x80"},{"$f":"'I_Asset number input'!C40","v":"Opex - Maintenance- Traditional Luminaire"},{"$f":"'I_Asset number input'!D40","v":"TF1x80"},null,null,null,null,null,{"$f":"'I_Asset number input'!J40","v":9.5},{"$f":"'I_Asset number input'!K40","v":6.5},{"$f":"'I_Asset number input'!L40","v":3.5},{"$f":"'I_Asset number input'!M40","v":2},{"$f":"'I_Asset number input'!N40","v":2},{"$f":"'I_Asset number input'!O40","v":2},{"$f":"'I_Asset number input'!P40","v":"Traditional"},{"$f":"'I_Asset number input'!Q40","v":"Minor (Cat P)"},{"$f":"'I_Asset number input'!R40","v":"Legacy Luminaire - Minor (Cat P) road"},null,null,null,null,null,null,null,null,{"$f":"IFERROR(INDEX('C_OPEX Calc'!$AH$10:$AH$146,MATCH($B40,'C_OPEX Calc'!$F$10:$F$146,0)),0)","v":37.196008744367226},38.721045102886279,39.834142824717624,40.979238302163623,42.157251361349417,43.369128270257839,null,null,null,null,null,null,353.36208307148866,251.6867931687608,139.41949988651169,81.958476604327245,84.314502722698833,86.738256540515678]
[null,{"$f":"'I_Asset number input'!B41","v":"TF2x14 T5"},{"$f":"'I_Asset number input'!C41","v":"Opex - Maintenance- Traditional Luminaire"},{"$f":"'I_Asset number input'!D41","v":"TF2x14 T5"},null,null,null,null,null,{"$f":"'I_Asset number input'!J41","v":2.5},{"$f":"'I_Asset number input'!K41","v":1.5},{"$f":"'I_Asset number input'!L41","v":0.5},{"$f":"'I_Asset number input'!M41","v":0},{"$f":"'I_Asset number input'!N41","v":0},{"$f":"'I_Asset number input'!O41","v":0},{"$f":"'I_Asset number input'!P41","v":"Traditional"},{"$f":"'I_Asset number input'!Q41","v":"Minor (Cat P)"},{"$f":"'I_Asset number input'!R41","v":"Legacy Luminaire - Minor (Cat P) road"},null,null,null,null,null,null,null,null,{"$f":"IFERROR(INDEX('C_OPEX Calc'!$AH$10:$AH$146,MATCH($B41,'C_OPEX Calc'!$F$10:$F$146,0)),0)","v":37.196008744367226},38.721045102886279,39.834142824717624,40.979238302163623,42.157251361349417,43.369128270257839,null,null,null,null,null,null,92.990021860918063,58.081567654329419,19.917071412358812,0,0,0]
[null,{"$f":"'I_Asset number input'!B42","v":"TF2x20"},{"$f":"'I_Asset number input'!C42","v":"Opex - Maintenance- Traditional Luminaire"},{"$f":"'I_Asset number input'!D42","v":"TF2x20"},null,null,null,null,null,{"$f":"'I_Asset number input'!J42","v":162.5},{"$f":"'I_Asset number input'!K42","v":109.5},{"$f":"'I_Asset number input'!L42","v":54.5},{"$f":"'I_Asset number input'!M42","v":24},{"$f":"'I_Asset number input'!N42","v":20},{"$f":"'I_Asset number input'!O42","v":18},{"$f":"'I_Asset number input'!P42","v":"Traditional"},{"$f":"'I_Asset number input'!Q42","v":"Minor (Cat P)"},{"$f":"'I_Asset number input'!R42","v":"Legacy Luminaire - Minor (Cat P) road"},null,null,null,null,null,null,null,null,{"$f":"IFERROR(INDEX('C_OPEX Calc'!$AH$10:$AH$146,MATCH($B42,'C_OPEX Calc'!$F$10:$F$146,0)),0)","v":47.661454919554799},49.615574571256545,51.041852784457518,52.50913162214043,54.018589712144049,55.571439563829678,null,null,null,null,null,null,7744.986424427655,5432.9054155525919,2781.7809767529347,1260.2191589313702,1080.3717942428809,1000.2859121489342]
[null,{"$f":"'I_Asset number input'!B43","v":"TF2x26"},{"$f":"'I_Asset number input'!C43","v":"Opex - Maintenance- Traditional Luminaire"},{"$f":"'I_Asset number input'!D43","v":"TF2x26"},null,null,null,null,null,{"$f":"'I_Asset number input'!J43","v":4.5},{"$f":"'I_Asset number input'!K43","v":3.5},{"$f":"'I_Asset number input'!L43","v":2},{"$f":"'I_Asset number input'!M43","v":1},{"$f":"'I_Asset number input'!N43","v":1},{"$f":"'I_Asset number input'!O43","v":1},{"$f":"'I_Asset number input'!P43","v":"Traditional"},{"$f":"'I_Asset number input'!Q43","v":"Minor (Cat P)"},{"$f":"'I_Asset number input'!R43","v":"Legacy Luminaire - Minor (Cat P) road"},null,null,null,null,null,null,null,null,{"$f":"IFERROR(INDEX('C_OPEX Calc'!$AH$10:$AH$146,MATCH($B43,'C_OPEX Calc'!$F$10:$F$146,0)),0)","v":37.196008744367226},38.721045102886279,39.834142824717624,40.979238302163623,42.157251361349417,43.369128270257839,null,null,null,null,null,null,167.38203934965253,135.52365786010199,79.668285649435248,40.979238302163623,42.157251361349417,43.369128270257839]
[null,{"$f":"'I_Asset number input'!B44","v":"TF2x40"},{"$f":"'I_Asset number input'!C44","v":"Opex - Maintenance- Traditional Luminaire"},{"$f":"'I_Asset number input'!D44","v":"TF2x40"},null,null,null,null,null,{"$f":"'I_Asset number input'!J44","v":7},{"$f":"'I_Asset number input'!K44","v":5},{"$f":"'I_Asset number input'!L44","v":3},{"$f":"'I_Asset number input'!M44","v":2},{"$f":"'I_Asset number input'!N44","v":2},{"$f":"'I_Asset number input'!O44","v":2},{"$f":"'I_Asset number input'!P44","v":"Traditional"},{"$f":"'I_Asset number input'!Q44","v":"Minor (Cat P)"},{"$f":"'I_Asset number input'!R44","v":"Legacy Luminaire - Minor (Cat P) road"},null,null,null,null,null,null,null,null,{"$f":"IFERROR(INDEX('C_OPEX Calc'!$AH$10:$AH$146,MATCH($B44,'C_OPEX Calc'!$F$10:$F$146,0)),0)","v":37.196008744367226},38.721045102886279,39.834142824717624,40.979238302163623,42.157251361349417,43.369128270257839,null,null,null,null,null,null,260.37206121057056,193.6052255144314,119.50242847415288,81.958476604327245,84.314502722698833,86.738256540515678]
[null,{"$f":"'I_Asset number input'!B45","v":"TF4x20"},{"$f":"'I_Asset number input'!C45","v":"Opex - Maintenance- Traditional Luminaire"},{"$f":"'I_Asset number input'!D45","v":"TF4x20"},null,null,null,null,null,{"$f":"'I_Asset number input'!J45","v":4.5},{"$f":"'I_Asset number input'!K45","v":3.5},{"$f":"'I_Asset number input'!L45","v":2.5},{"$f":"'I_Asset number input'!M45","v":2},{"$f":"'I_Asset number input'!N45","v":2},{"$f":"'I_Asset number input'!O45","v":2},{"$f":"'I_Asset number input'!P45","v":"Traditional"},{"$f":"'I_Asset number input'!Q45","v":"Minor (Cat P)"},{"$f":"'I_Asset number input'!R45","v":"Legacy Luminaire - Minor (Cat P) road"},null,null,null,null,null,null,null,null,{"$f":"IFERROR(INDEX('C_OPEX Calc'!$AH$10:$AH$146,MATCH($B45,'C_OPEX Calc'!$F$10:$F$146,0)),0)","v":37.179746644047377},38.704116256453318,39.81672733180217,40.961322173342367,42.138820205050934,43.350167281202204,null,null,null,null,null,null,167.3088598982132,135.46440689758663,99.541818329505418,81.922644346684734,84.277640410101867,86.700334562404407]
[null,{"$f":"'I_Asset number input'!B46","v":"TF4x40"},{"$f":"'I_Asset number input'!C46","v":"Opex - Maintenance- Traditional Luminaire"},{"$f":"'I_Asset number input'!D46","v":"TF4x40"},null,null,null,null,null,{"$f":"'I_Asset number input'!J46","v":1},{"$f":"'I_Asset number input'!K46","v":1},{"$f":"'I_Asset number input'!L46","v":1},{"$f":"'I_Asset number input'!M46","v":1},{"$f":"'I_Asset number input'!N46","v":1},{"$f":"'I_Asset number input'!O46","v":1},{"$f":"'I_Asset number input'!P46","v":"Traditional"},{"$f":"'I_Asset number input'!Q46","v":"Minor (Cat P)"},{"$f":"'I_Asset number input'!R46","v":"Legacy Luminaire - Minor (Cat P) road"},null,null,null,null,null,null,null,null,{"$f":"IFERROR(INDEX('C_OPEX Calc'!$AH$10:$AH$146,MATCH($B46,'C_OPEX Calc'!$F$10:$F$146,0)),0)","v":37.196008744367226},38.721045102886279,39.834142824717624,40.979238302163623,42.157251361349417,43.369128270257839,null,null,null,null,null,null,37.196008744367226,38.721045102886279,39.834142824717624,40.979238302163623,42.157251361349417,43.369128270257839]
[null,{"$f":"'I_Asset number input'!B47","v":"LED TRIAL"},{"$f":"'I_Asset number input'!C47","v":"Opex - Maintenance- LED Luminaire"},{"$f":"'I_Asset number input'!D47","v":"LED TRIAL"},null,null,null,null,null,{"$f":"'I_Asset number input'!J47","v":88},{"$f":"'I_Asset number input'!K47","v":88},{"$f":"'I_Asset number input'!L47","v":88},{"$f":"'I_Asset number input'!M47","v":88},{"$f":"'I_Asset number input'!N47","v":88},{"$f":"'I_Asset number input'!O47","v":88},{"$f":"'I_Asset number input'!P47","v":"LED"},{"$f":"'I_Asset number input'!Q47","v":"Minor (Cat P)"},{"$f":"'I_Asset number input'!R47","v":"Luminaire - Minor (Cat P) road"},null,null,null,null,null,null,null,null,{"$f":"IFERROR(INDEX('C_OPEX Calc'!$AH$10:$AH$146,MATCH($B47,'C_OPEX Calc'!$F$10:$F$146,0)),0)","v":22.520014790190835},23.443335396588658,24.117251174242238,24.810539727470939,25.523757957368236,26.25747877403089,null,null,null,null,null,null,1981.7613015367936,2063.013514899802,2122.3181033333171,2183.3274960174426,2246.0907002484046,2310.6581321147182]
[null,{"$f":"'I_Asset number input'!B48","v":"LED1x100"},{"$f":"'I_Asset number input'!C48","v":"Opex - Maintenance- LED Luminaire"},{"$f":"'I_Asset number input'!D48","v":"LED1x100"},null,null,null,null,null,{"$f":"'I_Asset number input'!J48","v":34548.5},{"$f":"'I_Asset number input'!K48","v":22156.5},{"$f":"'I_Asset number input'!L48","v":5046.5},{"$f":"'I_Asset number input'!M48","v":5058},{"$f":"'I_Asset number input'!N48","v":4274},{"$f":"'I_Asset number input'!O48","v":4383.5},{"$f":"'I_Asset number input'!P48","v":"LED"},{"$f":"'I_Asset number input'!Q48","v":"Major (Cat V)"},{"$f":"'I_Asset number input'!R48","v":"Luminaire - Major (Cat V) road"},null,null,null,null,null,null,null,null,{"$f":"IFERROR(INDEX('C_OPEX Calc'!$AH$10:$AH$146,MATCH($B48,'C_OPEX Calc'!$F$10:$F$146,0)),0)","v":30.68283136215496},31.940827448003311,32.859017082898532,33.803601531985763,34.775339555971669,35.775011727340264,null,null,null,null,null,null,1060045.7993154107,707696.94335168542,165823.02970884743,170978.61654878399,148629.80126222293,156819.76390679606]
[null,{"$f":"'I_Asset number input'!B49","v":"LED1x17"},{"$f":"'I_Asset number input'!C49","v":"Opex - Maintenance- LED Luminaire"},{"$f":"'I_Asset number input'!D49","v":"LED1x17"},null,null,null,null,null,{"$f":"'I_Asset number input'!J49","v":123206.5},{"$f":"'I_Asset number input'!K49","v":129690.5},{"$f":"'I_Asset number input'!L49","v":135927},{"$f":"'I_Asset number input'!M49","v":140867},{"$f":"'I_Asset number input'!N49","v":142243},{"$f":"'I_Asset number input'!O49","v":143442.5},{"$f":"'I_Asset number input'!P49","v":"LED"},{"$f":"'I_Asset number input'!Q49","v":"Minor (Cat P)"},{"$f":"'I_Asset number input'!R49","v":"Luminaire - Minor (Cat P) road"},null,null,null,null,null,null,null,null,{"$f":"IFERROR(INDEX('C_OPEX Calc'!$AH$10:$AH$146,MATCH($B49,'C_OPEX Calc'!$F$10:$F$146,0)),0)","v":22.520014790190835},23.443335396588658,24.117251174242238,24.810539727470939,25.523757957368236,26.25747877403089,null,null,null,null,null,null,2774612.2022476471,3040377.8892512815,3278185.6003612247,3494986.299789649,3630575.9031299301,3766438.399043926]
[null,{"$f":"'I_Asset number input'!B50","v":"LED1x200"},{"$f":"'I_Asset number input'!C50","v":"Opex - Maintenance- LED Luminaire"},{"$f":"'I_Asset number input'!D50","v":"LED1x200"},null,null,null,null,null,{"$f":"'I_Asset number input'!J50","v":2705},{"$f":"'I_Asset number input'!K50","v":2705},{"$f":"'I_Asset number input'!L50","v":2705},{"$f":"'I_Asset number input'!M50","v":2705},{"$f":"'I_Asset number input'!N50","v":2705},{"$f":"'I_Asset number input'!O50","v":2705},{"$f":"'I_Asset number input'!P50","v":"LED"},{"$f":"'I_Asset number input'!Q50","v":"Major (Cat V)"},{"$f":"'I_Asset number input'!R50","v":"Luminaire - Major (Cat V) road"},null,null,null,null,null,null,null,null,{"$f":"IFERROR(INDEX('C_OPEX Calc'!$AH$10:$AH$146,MATCH($B50,'C_OPEX Calc'!$F$10:$F$146,0)),0)","v":30.68283136215496},31.940827448003311,32.859017082898532,33.803601531985763,34.775339555971669,35.775011727340264,null,null,null,null,null,null,82997.058834629162,86399.938246848964,88883.641209240523,91438.742144021482,94067.293498903367,96771.406722455416]
[null,{"$f":"'I_Asset number input'!B51","v":"LED1x22"},{"$f":"'I_Asset number input'!C51","v":"Opex - Maintenance- LED Luminaire"},{"$f":"'I_Asset number input'!D51","v":"LED1x22"},null,null,null,null,null,{"$f":"'I_Asset number input'!J51","v":14431},{"$f":"'I_Asset number input'!K51","v":14431},{"$f":"'I_Asset number input'!L51","v":14431},{"$f":"'I_Asset number input'!M51","v":14431},{"$f":"'I_Asset number input'!N51","v":14431},{"$f":"'I_Asset number input'!O51","v":14431},{"$f":"'I_Asset number input'!P51","v":"LED"},{"$f":"'I_Asset number input'!Q51","v":"Minor (Cat P)"},{"$f":"'I_Asset number input'!R51","v":"Luminaire - Minor (Cat P) road"},null,null,null,null,null,null,null,null,{"$f":"IFERROR(INDEX('C_OPEX Calc'!$AH$10:$AH$146,MATCH($B51,'C_OPEX Calc'!$F$10:$F$146,0)),0)","v":22.520014790190835},23.443335396588658,24.117251174242238,24.810539727470939,25.523757957368236,26.25747877403089,null,null,null,null,null,null,324986.33343724394,338310.77310817095,348036.05169548973,358040.89880713314,368333.35108278104,378921.67618803977]
[null,{"$f":"'I_Asset number input'!B52","v":"LED1x25 GE"},{"$f":"'I_Asset number input'!C52","v":"Opex - Maintenance- LED Luminaire"},{"$f":"'I_Asset number input'!D52","v":"LED1x25 GE"},null,null,null,null,null,{"$f":"'I_Asset number input'!J52","v":4492},{"$f":"'I_Asset number input'!K52","v":4492},{"$f":"'I_Asset number input'!L52","v":4492},{"$f":"'I_Asset number input'!M52","v":4492},{"$f":"'I_Asset number input'!N52","v":4492},{"$f":"'I_Asset number input'!O52","v":4492},{"$f":"'I_Asset number input'!P52","v":"LED"},{"$f":"'I_Asset number input'!Q52","v":"Minor (Cat P)"},{"$f":"'I_Asset number input'!R52","v":"Luminaire - Minor (Cat P) road"},null,null,null,null,null,null,null,null,{"$f":"IFERROR(INDEX('C_OPEX Calc'!$AH$10:$AH$146,MATCH($B52,'C_OPEX Calc'!$F$10:$F$146,0)),0)","v":22.520014790190835},23.443335396588658,24.117251174242238,24.810539727470939,25.523757957368236,26.25747877403089,null,null,null,null,null,null,101159.90643753723,105307.46260147625,108334.69227469614,111448.94445579946,114652.72074449812,117948.59465294676]
[null,{"$f":"'I_Asset number input'!B53","v":"LED1x28"},{"$f":"'I_Asset number input'!C53","v":"Opex - Maintenance- LED Luminaire"},{"$f":"'I_Asset number input'!D53","v":"LED1x28"},null,null,null,null,null,{"$f":"'I_Asset number input'!J53","v":3965},{"$f":"'I_Asset number input'!K53","v":3965},{"$f":"'I_Asset number input'!L53","v":3965},{"$f":"'I_Asset number input'!M53","v":3965},{"$f":"'I_Asset number input'!N53","v":3965},{"$f":"'I_Asset number input'!O53","v":3965},{"$f":"'I_Asset number input'!P53","v":"LED"},{"$f":"'I_Asset number input'!Q53","v":"Minor (Cat P)"},{"$f":"'I_Asset number input'!R53","v":"Luminaire - Minor (Cat P) road"},null,null,null,null,null,null,null,null,{"$f":"IFERROR(INDEX('C_OPEX Calc'!$AH$10:$AH$146,MATCH($B53,'C_OPEX Calc'!$F$10:$F$146,0)),0)","v":22.520014790190835},23.443335396588658,24.117251174242238,24.810539727470939,25.523757957368236,26.25747877403089,null,null,null,null,null,null,89291.858643106665,92952.824847474025,95624.900905870469,98373.790019422275,101201.70030096505,104110.90333903248]
[null,{"$f":"'I_Asset number input'!B54","v":"LED1x29"},{"$f":"'I_Asset number input'!C54","v":"Opex - Maintenance- LED Luminaire"},{"$f":"'I_Asset number input'!D54","v":"LED1x29"},null,null,null,null,null,{"$f":"'I_Asset number input'!J54","v":14518},{"$f":"'I_Asset number input'!K54","v":14518},{"$f":"'I_Asset number input'!L54","v":14518},{"$f":"'I_Asset number input'!M54","v":14518},{"$f":"'I_Asset number input'!N54","v":14518},{"$f":"'I_Asset number input'!O54","v":14518},{"$f":"'I_Asset number input'!P54","v":"LED"},{"$f":"'I_Asset number input'!Q54","v":"Minor (Cat P)"},{"$f":"'I_Asset number input'!R54","v":"Luminaire - Minor (Cat P) road"},null,null,null,null,null,null,null,null,{"$f":"IFERROR(INDEX('C_OPEX Calc'!$AH$10:$AH$146,MATCH($B54,'C_OPEX Calc'!$F$10:$F$146,0)),0)","v":22.520014790190835},23.443335396588658,24.117251174242238,24.810539727470939,25.523757957368236,26.25747877403089,null,null,null,null,null,null,326945.57472399052,340350.34328767413,350134.25254764879,360199.41576342308,370553.91802507202,381206.07684138045]
[null,{"$f":"'I_Asset number input'!B55","v":"LED1x298"},{"$f":"'I_Asset number input'!C55","v":"Opex - Maintenance- LED Luminaire"},{"$f":"'I_Asset number input'!D55","v":"LED1x298"},null,null,null,null,null,{"$f":"'I_Asset number input'!J55","v":53},{"$f":"'I_Asset number input'!K55","v":53},{"$f":"'I_Asset number input'!L55","v":53},{"$f":"'I_Asset number input'!M55","v":53},{"$f":"'I_Asset number input'!N55","v":53},{"$f":"'I_Asset number input'!O55","v":53},{"$f":"'I_Asset number input'!P55","v":"LED"},{"$f":"'I_Asset number input'!Q55","v":"Major (Cat V)"},{"$f":"'I_Asset number input'!R55","v":"Luminaire - Major (Cat V) road"},null,null,null,null,null,null,null,null,{"$f":"IFERROR(INDEX('C_OPEX Calc'!$AH$10:$AH$146,MATCH($B55,'C_OPEX Calc'!$F$10:$F$146,0)),0)","v":30.68283136215496},31.940827448003311,32.859017082898532,33.803601531985763,34.775339555971669,35.775011727340264,null,null,null,null,null,null,1626.1900621942129,1692.8638547441756,1741.5279053936222,1791.5908811952454,1843.0929964664986,1896.0756215490339]
[null,{"$f":"'I_Asset number input'!B56","v":"LED1x33"},{"$f":"'I_Asset number input'!C56","v":"Opex - Maintenance- LED Luminaire"},{"$f":"'I_Asset number input'!D56","v":"LED1x33"},null,null,null,null,null,{"$f":"'I_Asset number input'!J56","v":29},{"$f":"'I_Asset number input'!K56","v":29},{"$f":"'I_Asset number input'!L56","v":29},{"$f":"'I_Asset number input'!M56","v":29},{"$f":"'I_Asset number input'!N56","v":29},{"$f":"'I_Asset number input'!O56","v":29},{"$f":"'I_Asset number input'!P56","v":"LED"},{"$f":"'I_Asset number input'!Q56","v":"Minor (Cat P)"},{"$f":"'I_Asset number input'!R56","v":"Luminaire - Minor (Cat P) road"},null,null,null,null,null,null,null,null,{"$f":"IFERROR(INDEX('C_OPEX Calc'!$AH$10:$AH$146,MATCH($B56,'C_OPEX Calc'!$F$10:$F$146,0)),0)","v":22.520014790190835},23.443335396588658,24.117251174242238,24.810539727470939,25.523757957368236,26.25747877403089,null,null,null,null,null,null,653.08042891553418,679.85672650107108,699.40028405302485,719.50565209665729,740.18898076367884,761.46688444689585]
[null,{"$f":"'I_Asset number input'!B57","v":"LED1x42"},{"$f":"'I_Asset number input'!C57","v":"Opex - Maintenance- LED Luminaire"},{"$f":"'I_Asset number input'!D57","v":"LED1x42"},null,null,null,null,null,{"$f":"'I_Asset number input'!J57","v":40},{"$f":"'I_Asset number input'!K57","v":40},{"$f":"'I_Asset number input'!L57","v":40},{"$f":"'I_Asset number input'!M57","v":40},{"$f":"'I_Asset number input'!N57","v":40},{"$f":"'I_Asset number input'!O57","v":40},{"$f":"'I_Asset number input'!P57","v":"LED"},{"$f":"'I_Asset number input'!Q57","v":"Minor (Cat P)"},{"$f":"'I_Asset number input'!R57","v":"Luminaire - Minor (Cat P) road"},null,null,null,null,null,null,null,null,{"$f":"IFERROR(INDEX('C_OPEX Calc'!$AH$10:$AH$146,MATCH($B57,'C_OPEX Calc'!$F$10:$F$146,0)),0)","v":22.520014790190835},23.443335396588658,24.117251174242238,24.810539727470939,25.523757957368236,26.25747877403089,null,null,null,null,null,null,900.80059160763335,937.73341586354627,964.69004696968955,992.42158909883756,1020.9503182947294,1050.2991509612357]
[null,{"$f":"'I_Asset number input'!B58","v":"Smart Controller (Licence and maintenance fee)"},{"$f":"'I_Asset number input'!C58","v":"Opex - Maintenance- Smart controller"},{"$f":"'I_Asset number input'!D58","v":"Smart Controller (Licence and maintenance fee)"},null,null,null,null,null,{"$f":"'I_Asset number input'!J58","v":18300},{"$f":"'I_Asset number input'!K58","v":40800},{"$f":"'I_Asset number input'!L58","v":59050},{"$f":"'I_Asset number input'!M58","v":66550},{"$f":"'I_Asset number input'!N58","v":68550},{"$f":"'I_Asset number input'!O58","v":69050},{"$f":"'I_Asset number input'!P58","v":"Smart Controller"},{"$f":"'I_Asset number input'!Q58","v":"N/A"},{"$f":"'I_Asset number input'!R58","v":"Smart Controller - Licence and maintenance fee"},null,null,null,null,null,null,null,null,{"$f":"IFERROR(INDEX('C_OPEX Calc'!$AH$10:$AH$146,MATCH($B58,'C_OPEX Calc'!$F$10:$F$146,0)),0)","v":5.6864738028168995},5.9196192287323921,6.0897880519163481,6.264848647233765,6.4449416364163916,6.6302116835902041,null,null,null,null,null,null,104062.47059154927,241520.46453228159,359601.98446566035,416925.67747340706,441800.74917634367,457816.11675190361]
[null,{"$f":"'I_Asset number input'!B59","v":"Luminaire - Decorative "},{"$f":"'I_Asset number input'!C59","v":"Opex - Maintenance- LED Luminaire"},{"$f":"'I_Asset number input'!D59","v":"Luminaire - Decorative "},null,null,null,null,null,{"$f":"'I_Asset number input'!J59","v":0},{"$f":"'I_Asset number input'!K59","v":0},{"$f":"'I_Asset number input'!L59","v":0},{"$f":"'I_Asset number input'!M59","v":0},{"$f":"'I_Asset number input'!N59","v":0},{"$f":"'I_Asset number input'!O59","v":0},null,null,null,null,null,null,null,null,null,null,null,{"$f":"IFERROR(INDEX('C_OPEX Calc'!$AH$10:$AH$146,MATCH($B59,'C_OPEX Calc'!$F$10:$F$146,0)),0)","v":24.158734790190834},{"$f":"AA59*(1+CPIFY25)","v":25.149242916588658},{"$f":"AB59*(1+CPIFY26)","v":25.872197705692511},{"$f":"AC59*(1+CPIFY27)","v":26.615934974365299},{"$f":"AD59*(1+CPIFY28)","v":27.381052147872811},{"$f":"AE59*(1+CPIFY29)","v":28.16816382541559},null,null,null,null,null,null,{"$f":"J59*AA59","v":0},{"$f":"K59*AB59","v":0},{"$f":"L59*AC59","v":0},{"$f":"M59*AD59","v":0},{"$f":"N59*AE59","v":0},{"$f":"O59*AF59","v":0}]
[null,{"$f":"'I_Asset number input'!B60","v":"Luminaire - Floodlight"},{"$f":"'I_Asset number input'!C60","v":"Opex - Maintenance- LED Luminaire"},{"$f":"'I_Asset number input'!D60","v":"Luminaire - Floodlight"},null,null,null,null,null,{"$f":"'I_Asset number input'!J60","v":0},{"$f":"'I_Asset number input'!K60","v":0},{"$f":"'I_Asset number input'!L60","v":0},{"$f":"'I_Asset number input'!M60","v":0},{"$f":"'I_Asset number input'!N60","v":0},{"$f":"'I_Asset number input'!O60","v":0},null,null,null,null,null,null,null,null,null,null,null,{"$f":"IFERROR(INDEX('C_OPEX Calc'!$AH$10:$AH$146,MATCH($B60,'C_OPEX Calc'!$F$10:$F$146,0)),0)","v":30.68283136215496},31.940827448003311,32.859017082898532,33.803601531985763,34.775339555971669,35.775011727340264,null,null,null,null,null,null,0,0,0,0,0,0]
[null,{"$f":"'I_Asset number input'!B61","v":"Luminaire - Major (Cat V) road - smart controller installed"},{"$f":"'I_Asset number input'!C61","v":"Opex - Maintenance- LED Luminaire"},{"$f":"'I_Asset number input'!D61","v":"Luminaire - Major (Cat V) road - smart controller installed"},null,null,null,null,null,{"$f":"'I_Asset number input'!J61","v":0},{"$f":"'I_Asset number input'!K61","v":23985},{"$f":"'I_Asset number input'!L61","v":53145},{"$f":"'I_Asset number input'!M61","v":59895},{"$f":"'I_Asset number input'!N61","v":61695},{"$f":"'I_Asset number input'!O61","v":62145},null,null,null,null,null,null,null,null,null,null,null,{"$f":"IFERROR(INDEX('C_OPEX Calc'!$AH$10:$AH$146,MATCH($B61,'C_OPEX Calc'!$F$10:$F$146,0)),0)","v":21.727444190805361},{"$f":"AA61*(1+CPIFY25)","v":22.618269402628378},{"$f":"AB61*(1+CPIFY26)","v":23.268467352527118},{"$f":"AC61*(1+CPIFY27)","v":23.937356271506072},{"$f":"AD61*(1+CPIFY28)","v":24.625473461051985},{"$f":"AE61*(1+CPIFY29)","v":25.333371668233177},null,null,null,null,null,null,{"$f":"J61*AA61","v":0},{"$f":"K61*AB61","v":542499.19162204163},{"$f":"L61*AC61","v":1236602.6974500536},{"$f":"M61*AD61","v":1433727.9538818563},{"$f":"N61*AE61","v":1519268.5851796023},{"$f":"O61*AF61","v":1574342.3823223507}]
[null,{"$f":"'I_Asset number input'!B62","v":"Luminaire - Minor (Cat P) road - smart controller installed"},{"$f":"'I_Asset number input'!C62","v":"Opex - Maintenance- LED Luminaire"},{"$f":"'I_Asset number input'!D62","v":"Luminaire - Minor (Cat P) road - smart controller installed"},null,null,null,null,null,{"$f":"'I_Asset number input'!J62","v":0},{"$f":"'I_Asset number input'!K62","v":2665},{"$f":"'I_Asset number input'!L62","v":5905},{"$f":"'I_Asset number input'!M62","v":6655},{"$f":"'I_Asset number input'!N62","v":6855},{"$f":"'I_Asset number input'!O62","v":6905},null,null,null,null,null,null,null,null,null,null,null,{"$f":"IFERROR(INDEX('C_OPEX Calc'!$AH$10:$AH$146,MATCH($B62,'C_OPEX Calc'!$F$10:$F$146,0)),0)","v":17.415862558736208},18.12991292364439,18.651085963232749,19.187240946658221,19.73880855360699,20.30623184433442,null,null,null,null,null,null,0,48316.217941512303,110134.66261288938,127691.08850001046,135309.53263497591,140214.53088512918]
[null,{"$f":"'I_Asset number input'!B63","v":"Luminaire - Floodlight - smart controller installed"},{"$f":"'I_Asset number input'!C63","v":"Opex - Maintenance- LED Luminaire"},{"$f":"'I_Asset number input'!D63","v":"Luminaire - Floodlight - smart controller installed"},null,null,null,null,null,{"$f":"'I_Asset number input'!J63","v":0},{"$f":"'I_Asset number input'!K63","v":0},{"$f":"'I_Asset number input'!L63","v":0},{"$f":"'I_Asset number input'!M63","v":0},{"$f":"'I_Asset number input'!N63","v":0},{"$f":"'I_Asset number input'!O63","v":0},null,null,null,null,null,null,null,null,null,null,null,{"$f":"IFERROR(INDEX('C_OPEX Calc'!$AH$10:$AH$146,MATCH($B63,'C_OPEX Calc'!$F$10:$F$146,0)),0)","v":21.727444190805361},22.618269402628378,23.268467352527118,23.937356271506072,24.625473461051985,25.333371668233177,null,null,null,null,null,null,0,0,0,0,0,0]
[null,{"$f":"'I_Asset number input'!B64","v":"Luminaire - Decorative - smart controller installed"},{"$f":"'I_Asset number input'!C64","v":"Opex - Maintenance- LED Luminaire"},{"$f":"'I_Asset number input'!D64","v":"Luminaire - Decorative - smart controller installed"},null,null,null,null,null,{"$f":"'I_Asset number input'!J64","v":0},{"$f":"'I_Asset number input'!K64","v":0},{"$f":"'I_Asset number input'!L64","v":0},{"$f":"'I_Asset number input'!M64","v":0},{"$f":"'I_Asset number input'!N64","v":0},{"$f":"'I_Asset number input'!O64","v":0},null,null,null,null,null,null,null,null,null,null,null,{"$f":"IFERROR(INDEX('C_OPEX Calc'!$AH$10:$AH$146,MATCH($B64,'C_OPEX Calc'!$F$10:$F$146,0)),0)","v":19.054582558736204},19.835820443644387,20.406032494683018,20.992636193552574,21.596102744111558,22.216916895719113,null,null,null,null,null,null,0,0,0,0,0,0]
[]
[]
[]
[]
[]
[]
[]
[]
[]
[]
[]
[]
[]
[]
[]
[]
[]
[]
[]
[]
[]
[]
[]
[]
[]
[]
[]
[]
[]
[]
[]
[]
[]
[]
[]
[]
[]
[]
[]
[]
[]
[]
[]
[]
[]
[]
[]
[]
[]
[]
[]
[]
[]
[]
[]
[]
[]
[]
[]
[]
[]
[]
[]
[]
[]
[]
[]
[]
[]
[]
[]
[]
[]
[]
[null,null,null,null,null,null,null,null,null,null,null,null,null,null,null,null,null,null,null,null,null,null,null,null,null,null,null,null,null,null,null,null,null,"Total nominal revenue - maintenance",{"$f":"SUM(AI5:AI138)","v":0},{"$f":"SUM(AJ5:AJ138)","v":0},{"$f":"SUM(AK5:AK138)","v":0},0,{"$f":"SUM(AM5:AM138)","v":11262928.286670165},{"$f":"SUM(AN5:AN138)","v":11325582.912756978},{"$f":"SUM(AO5:AO138)","v":11148196.683118828},11282162.739843683,11614939.848203434,11977453.959448393]

{"sheet":"I_CAPEX","index":15,"n_rows":437,"n_cols":40,"rows_kept":437,"cut":false,"hidden":false,"merged":[[46,30,46,38],[0,1,0,3],[46,20,46,28],[46,0,46,8],[46,10,46,18]]}
[null,"CAPEX  Input Data"]
[null,"Description"]
[null,"This section contains all the relevant inputs from the Global Inputs sheet, along with traffic control assuptions. "]
[]
[null,"Labour Rates",null,"Hourly Rate (FY24)",null,"Assuptions"]
[null,{"$f":"'I_Global Inputs'!B9","v":"Ausgrid labour rate"},"$ / hour",{"$f":"'I_Global Inputs'!G9","v":67.42},null,"Number of Light installations in model"]
[]
[null,null,null,null,null,"Breakdown of Installation Types"]
[null,null,null,null,null,"Bulk"]
[null,"Overheads",null,null,null,"Streetlight Upgrade "]
[null,"Divisional",null,{"$f":"'I_Global Inputs'!G40","v":0},null,"Single Column Installation "]
[null,"Corporate",null,{"$f":"'I_Global Inputs'!G39","v":0.06},null,"Single Light Installation on Existing Pole",{"$f":"1-G13","v":1}]
[null,"Total",null,{"$f":"SUM(D11:D12)","v":0.06},null,"Single Light Installation on New Pole"]
[]
[null,"On-Cost Rates",null,null,null,"Base Design Estimates"]
[null,"Materials On-Cost Rate",null,{"$f":"'I_Global Inputs'!G34","v":0},null,"Bulk : design of a group of",null,"streetlights takes ",null,"hours"]
[null,"Labour Ordinary On-Cost Rate",null,{"$f":"'I_Global Inputs'!G36","v":0.52229999999999999},null,"Bulk : Lantern / Bracket design consumes",null,"of the total design time of ",null,"hours"]
[null,"Labour Escalation Rate (Above CPI)",null,null,null,"Bulk : Pole design consumes",{"$f":"1-G17","v":1},"of the total design time of ",null,"hours"]
[]
[null,"Plant Assumptions",null,null,null,"Bulk : design of a group of",null,"streetlights takes ",null,"hours"]
[null,"Plant Material Type",null,"Hourly Rate",null,"Bulk : Lantern / Bracket design consumes"]
[null,"EWP",null,null,null,"Bulk : Pole design consumes",{"$f":"1-G21","v":1}]
[null,"Borer",null,null,null,"Street Upgrade : TRL",null,"require new poles to be constructed"]
[null,"Ditchwitch",null,null,null,"Street Upgrade : TRL",null,"use existing pole"]
[null,"Trailer/Jinker",null,null,null,"Street Upgrade : Other projects",null,"require new poles to be constructed"]
[null,"Ute / Van",null,null,null,"Street Upgrade : Other projects",{"$f":"1-G25","v":1},"use existing pole"]
[null,"4 tonne truck"]
[null,null,null,null,null,"Single Light : design of ",null,"streetlight (lantern, bracket and pole) takes ",null,"hours"]
[null,"Traffic Control Assumptions",null,null,null,"Single Light : Lantern / Bracket design",null,"takes",null,"hours"]
[null,"Number of Controllers Required",null,null,null,"Single Light : Pole design",null,"takes",null,"hours"]
[null,"Hourly Rate for Controller (EE internal) Oncosted",null,{"$f":"D6*(1+D17)","v":102.633466},null,null,null,null,null,null,null,{"$f":"+D31*J34*J41*J38","v":0},"Luminarie cost"]
[null,"Minimum Hours for Controller",null,null,null,"Calculations",null,null,"Ausgrid Inputs",null,null,{"$f":"+D31*J34*J41*J37","v":0},"Bracket cost"]
[null,"% of lights requiring traffic control",null,null,null,"Lantern Bracket Design Proportion",{"$f":"I29/I28","v":{"$error":"#DIV/0!"}},null,"Number of people in standard crew",2]
[null,"Number of Lights maintained per 4 hour stint (bulk)",null,null,null,"Pole Design Proportion",{"$f":"I30/I28","v":{"$error":"#DIV/0!"}},null,"Time required for replacement (Hours)",1.0049999999999999]
[null,"Number of Brackets Maintained per 4 hour stint",null,null,null,{"$f":"\"BulkDesign Hours (Lantern & Bracket) for \" & TEXT(G$6, \"0\") & \" lights\"","v":"BulkDesign Hours (Lantern & Bracket) for 0 lights"},{"$f":"G6/G16*I16*G17","v":{"$error":"#DIV/0!"}}]
[null,"Number of Columns Maintained per 4 hour stint",null,null,null,{"$f":"\"Bulk Design Hours (Pole) for \" & TEXT(G$6, \"0\") & \" lights\"","v":"Bulk Design Hours (Pole) for 0 lights"},{"$f":"G6/G16*I16*G18","v":{"$error":"#DIV/0!"}},null,"Proportion of time - Support (%)",0]
[null,"Base Traffic Control Cost per light",null,{"$f":"IF(D34=0,0,D30*D31*D33*D32/D34)","v":0},null,{"$f":"\"Street Upgrade Design Hours (Lantern & Bracket) for \" & TEXT(G$6, \"0\") & \" lights\"","v":"Street Upgrade Design Hours (Lantern & Bracket) for 0 lights"},{"$f":"G6/G20*I20*(G21*G24 + G22*G26)","v":{"$error":"#DIV/0!"}},null,"Proportion of time - Bracket (%)"]
[null,"Base Traffic Control Cost per bracket",null,{"$f":"IF(D35=0,0,$D$30*$D$31*$D$33*$D$32/D35)","v":0},null,{"$f":"\"Street Upgrade Design Hours (Pole) for \" & TEXT(G$6, \"0\") & \" lights\"","v":"Street Upgrade Design Hours (Pole) for 0 lights"},{"$f":"G6/G20*I20*(G21*G23 + G22*G25)","v":{"$error":"#DIV/0!"}},null,"Proportion of time - Luminaire (%)"]
[null,"Base Traffic Control Cost per column",null,{"$f":"IF(D36=0,0,$D$30*$D$31*$D$33*$D$32/D36)","v":0},null,{"$f":"\"Single Light Design Hours (Lantern & Bracket) for \" & TEXT(G$6, \"0\") & \" lights\"","v":"Single Light Design Hours (Lantern & Bracket) for 0 lights"},{"$f":"G6/G28*I28*G33","v":{"$error":"#DIV/0!"}},null,null,"Opex","Capital"]
[null,"% of P-Category Lights Requiring Traffic Control",null,{"$f":"C40*D37","v":0},null,{"$f":"\"Single Light Hours (Pole) for \" & TEXT(G$6, \"0\") & \" lights\"","v":"Single Light Hours (Pole) for 0 lights"},{"$f":"G6/G28*I28*G34","v":{"$error":"#DIV/0!"}},null,"Traffic control in labour rates (1=Yes,0=No)",0,1]
[null,"% of V-Category Lights Requiring Traffic Control",null,{"$f":"C41*D37","v":0},null,null,null,null,"Number of additional workers for traffic control",1]
[null,"% of P-Category Brackets Requiring Traffic Control",null,{"$f":"C42*D38-D40","v":0},null,"Lantern & Bracket Design Hours / Light",null,null,"Time required for spot Maintenance (Hours)",0.7566666666666666]
[null,"% of V-Category Brackets Requiring Traffic Control",null,{"$f":"C43*D38-D41","v":0},null,"Pole Design Hours / Light",{"$f":"((G9*G36) + (G10*G38) + (G11*G13*G40))/G6","v":{"$error":"#DIV/0!"}}]
[null,"% of P-Category Columns Requiring Traffic Control",null,{"$f":"C44*D39","v":0},null,"Lantern & Bracket Design Cost / Light",{"$f":"G42*(1+D17)*D6","v":0}]
[null,"% of V-Category Columns Requiring Traffic Control",null,{"$f":"C45*D39","v":0},null,"Pole Design Cost / Light",{"$f":"G43*(1+D17)*D6","v":{"$error":"#DIV/0!"}}]
[]
["Column and Pole Assemblies",null,null,null,null,null,null,null,null,null,"Bracket Assemblies",null,null,null,null,null,null,null,null,null,"Luminaire Assemblies",null,null,null,null,null,null,null,null,null,"Sub-Assemblies"]
["Component","Assembly Code","Assembly Description","Component Type",null,"Stock Item","Qty","Cost","Subtotals \n(FY24 Dollars)",null,null,"Assembly Code","Assembly Description","Component Type",null,"Stock Item",{"$f":"$G$48","v":"Qty"},{"$f":"$H$48","v":"Cost"},{"$f":"$I$48","v":"Subtotals \n(FY24 Dollars)"},null,null,"Assembly Code","Assembly Description","Group","Component Type","Stock Item",{"$f":"$G$48","v":"Qty"},{"$f":"$H$48","v":"Cost"},{"$f":"$I$48","v":"Subtotals \n(FY24 Dollars)"},null,null,"Assembly Code","Assembly Description","Group","Component Type","Stock Item",{"$f":"$G$48","v":"Qty"},{"$f":"$H$48","v":"Cost"},{"$f":"$I$48","v":"Subtotals \n(FY24 Dollars)"}]
["Column","COLUMN 10.5M-13.5M","COLUMN 10.5M-13.5M","Materials","COLUMN 10.5M-13.5M","COLUMN 10.5M-13.5M",1,{"$f":"IF(D49=\"Sub-Assemblies\",G49*OFFSET($AM$48,MATCH(E49,$AF$49:$AF$157,0),0),G49*OFFSET('I_CAPEX - Stock Costs'!$F$12,MATCH(E49,'I_CAPEX - Stock Costs'!$B$13:$B$384,0),0))","v":1702.4870088961436},{"$f":"SUM(H49:H50)","v":8553.2683104710941},null,"Bracket","0.5","Capital - Brackets - Minor","Materials","0.5",null,1,null,130.09746123997729,null,"Luminaire","1x17W LED","1x17W LED","Materials","1x17W LED",{"$f":"IF(X49=\"Sub-Assemblies\",OFFSET($AG$48,MATCH(Y49,$AF$49:$AF$157,0),0),OFFSET('I_CAPEX - Stock Costs'!$C$12,MATCH(Y49,'I_CAPEX - Stock Costs'!$B$13:$B$384,0),0))","v":"1x17W LED"},1,null,469.33826179014693,null,"Sub-Assemblies","Bracket Traffic","Streetlight Bracket Assembly - Traffic","Labour - Non Traffic",{"$f":"AH49","v":"Labour - Non Traffic"}]
[null,null,null,"Sub-Assemblies","Dedicated Column ",null,1,{"$f":"IF(D50=\"Sub-Assemblies\",G50*OFFSET($AM$48,MATCH(E50,$AF$49:$AF$157,0),0),G50*OFFSET('I_CAPEX - Stock Costs'!$F$12,MATCH(E50,'I_CAPEX - Stock Costs'!$B$13:$B$384,0),0))","v":6850.7813015749498},null,null,null,"","","Sub-Assemblies","Bracket Non Traffic",null,1,null,null,null,"",null,null,"Sub-Assemblies","LED Non Traffic",{"$f":"IF(X50=\"Sub-Assemblies\",OFFSET($AG$48,MATCH(Y50,$AF$49:$AF$157,0),0),OFFSET('I_CAPEX - Stock Costs'!$C$12,MATCH(Y50,'I_CAPEX - Stock Costs'!$B$13:$B$384,0),0))","v":"Streetlight LED Luminaire Assembly - Non Traffic"},1,null,null,null,null,null,null,"EWP",{"$f":"AH50","v":"EWP"}]
["Column","COLUMN 14M-15M","COLUMN 14M-15M","Materials","COLUMN 14M-15M","COLUMN 14M-15M",1,{"$f":"IF(D51=\"Sub-Assemblies\",G51*OFFSET($AM$48,MATCH(E51,$AF$49:$AF$157,0),0),G51*OFFSET('I_CAPEX - Stock Costs'!$F$12,MATCH(E51,'I_CAPEX - Stock Costs'!$B$13:$B$384,0),0))","v":1702.4870088961436},{"$f":"SUM(H51:H52)","v":8553.2683104710941},null,"Bracket","0.6","Capital - Brackets - Minor","Materials","0.6",null,1,null,130.09746123997729,null,"Luminaire","1x22W LED","1x22W LED","Materials","1x22W LED",{"$f":"IF(X51=\"Sub-Assemblies\",OFFSET($AG$48,MATCH(Y51,$AF$49:$AF$157,0),0),OFFSET('I_CAPEX - Stock Costs'!$C$12,MATCH(Y51,'I_CAPEX - Stock Costs'!$B$13:$B$384,0),0))","v":"1x22W LED"},1,null,487.20085001494624,null,null,null,null,"Labour - Traffic","Labour - Traffic",null,null,null,null,"Note : Traffic control costs added as a separate calculation in \"C_CAPEX Build Up\""]
[null,null,null,"Sub-Assemblies","Dedicated Column ",null,1,{"$f":"IF(D52=\"Sub-Assemblies\",G52*OFFSET($AM$48,MATCH(E52,$AF$49:$AF$157,0),0),G52*OFFSET('I_CAPEX - Stock Costs'!$F$12,MATCH(E52,'I_CAPEX - Stock Costs'!$B$13:$B$384,0),0))","v":6850.7813015749498},null,null,null,"","","Sub-Assemblies","Bracket Non Traffic",null,1,null,null,null,"",null,null,"Sub-Assemblies","LED Non Traffic",{"$f":"IF(X52=\"Sub-Assemblies\",OFFSET($AG$48,MATCH(Y52,$AF$49:$AF$157,0),0),OFFSET('I_CAPEX - Stock Costs'!$C$12,MATCH(Y52,'I_CAPEX - Stock Costs'!$B$13:$B$384,0),0))","v":"Streetlight LED Luminaire Assembly - Non Traffic"},1]
["Column","COLUMN 2.5M-3.5M","COLUMN 2.5M-3.5M","Materials","COLUMN 2.5M-3.5M","COLUMN 2.5M-3.5M",1,{"$f":"IF(D53=\"Sub-Assemblies\",G53*OFFSET($AM$48,MATCH(E53,$AF$49:$AF$157,0),0),G53*OFFSET('I_CAPEX - Stock Costs'!$F$12,MATCH(E53,'I_CAPEX - Stock Costs'!$B$13:$B$384,0),0))","v":627.2320559091055},{"$f":"SUM(H53:H54)","v":7478.0133574840556},null,"Bracket","1.0","Capital - Brackets - Minor","Materials","1.0",null,1,null,159.82080804604328,null,"Luminaire","1x25W LED GE","1x25W LED GE","Materials","1x25W LED GE",{"$f":"IF(X53=\"Sub-Assemblies\",OFFSET($AG$48,MATCH(Y53,$AF$49:$AF$157,0),0),OFFSET('I_CAPEX - Stock Costs'!$C$12,MATCH(Y53,'I_CAPEX - Stock Costs'!$B$13:$B$384,0),0))","v":"1x25W LED GE"},1,null,418.13217554572236]
[null,null,null,"Sub-Assemblies","Dedicated Column ",null,1,{"$f":"IF(D54=\"Sub-Assemblies\",G54*OFFSET($AM$48,MATCH(E54,$AF$49:$AF$157,0),0),G54*OFFSET('I_CAPEX - Stock Costs'!$F$12,MATCH(E54,'I_CAPEX - Stock Costs'!$B$13:$B$384,0),0))","v":6850.7813015749498},null,null,null,"","","Sub-Assemblies","Bracket Non Traffic",null,1,null,null,null,"",null,null,"Sub-Assemblies","LED Non Traffic",{"$f":"IF(X54=\"Sub-Assemblies\",OFFSET($AG$48,MATCH(Y54,$AF$49:$AF$157,0),0),OFFSET('I_CAPEX - Stock Costs'!$C$12,MATCH(Y54,'I_CAPEX - Stock Costs'!$B$13:$B$384,0),0))","v":"Streetlight LED Luminaire Assembly - Non Traffic"},1]
["Column","COLUMN 4-6.5M ORION WATE","COLUMN 4-6.5M ORION WATE","Materials","COLUMN 4-6.5M ORION WATE","COLUMN 4-6.5M ORION WATE",1,{"$f":"IF(D55=\"Sub-Assemblies\",G55*OFFSET($AM$48,MATCH(E55,$AF$49:$AF$157,0),0),G55*OFFSET('I_CAPEX - Stock Costs'!$F$12,MATCH(E55,'I_CAPEX - Stock Costs'!$B$13:$B$384,0),0))","v":838.06636041636796},{"$f":"SUM(H55:H56)","v":7688.8476619913181},null,"Bracket","1.2","Capital - Brackets - Minor","Materials","1.2",null,1,null,159.82080804604328,null,""]
[null,null,null,"Sub-Assemblies","Dedicated Column ",null,1,{"$f":"IF(D56=\"Sub-Assemblies\",G56*OFFSET($AM$48,MATCH(E56,$AF$49:$AF$157,0),0),G56*OFFSET('I_CAPEX - Stock Costs'!$F$12,MATCH(E56,'I_CAPEX - Stock Costs'!$B$13:$B$384,0),0))","v":6850.7813015749498},null,null,null,"","","Sub-Assemblies","Bracket Non Traffic",null,1,null,null,null,"Luminaire","1x29W LED","1x29W LED","Materials","1x29W LED",{"$f":"IF(X56=\"Sub-Assemblies\",OFFSET($AG$48,MATCH(Y56,$AF$49:$AF$157,0),0),OFFSET('I_CAPEX - Stock Costs'!$C$12,MATCH(Y56,'I_CAPEX - Stock Costs'!$B$13:$B$384,0),0))","v":"1x29W LED"},1,null,561.05669812841643]
["Column","COLUMN 4M-6.5M","COLUMN 4M-6.5M","Materials","COLUMN 4M-6.5M","COLUMN 4M-6.5M",1,{"$f":"IF(D57=\"Sub-Assemblies\",G57*OFFSET($AM$48,MATCH(E57,$AF$49:$AF$157,0),0),G57*OFFSET('I_CAPEX - Stock Costs'!$F$12,MATCH(E57,'I_CAPEX - Stock Costs'!$B$13:$B$384,0),0))","v":1178.0366764343287},{"$f":"SUM(H57:H58)","v":8028.8179780092787},null,"Bracket","1.5","Capital - Brackets - Minor","Materials","1.5",null,1,null,159.82080804604328,null,"",null,null,"Sub-Assemblies","LED Non Traffic",{"$f":"IF(X57=\"Sub-Assemblies\",OFFSET($AG$48,MATCH(Y57,$AF$49:$AF$157,0),0),OFFSET('I_CAPEX - Stock Costs'!$C$12,MATCH(Y57,'I_CAPEX - Stock Costs'!$B$13:$B$384,0),0))","v":"Streetlight LED Luminaire Assembly - Non Traffic"},1]
[null,null,null,"Sub-Assemblies","Dedicated Column ",null,1,{"$f":"IF(D58=\"Sub-Assemblies\",G58*OFFSET($AM$48,MATCH(E58,$AF$49:$AF$157,0),0),G58*OFFSET('I_CAPEX - Stock Costs'!$F$12,MATCH(E58,'I_CAPEX - Stock Costs'!$B$13:$B$384,0),0))","v":6850.7813015749498},null,null,null,"","","Sub-Assemblies","Bracket Non Traffic",null,1,null,null,null,"Luminaire","1000W SON","1000W SON","Materials","1000W SON",{"$f":"IF(X58=\"Sub-Assemblies\",OFFSET($AG$48,MATCH(Y58,$AF$49:$AF$157,0),0),OFFSET('I_CAPEX - Stock Costs'!$C$12,MATCH(Y58,'I_CAPEX - Stock Costs'!$B$13:$B$384,0),0))","v":"1000W SON"},1,null,1398.7471615121597]
["Column","COLUMN 7M-10M","COLUMN 7M-10M","Materials","COLUMN 7M-10M","COLUMN 7M-10M",1,{"$f":"IF(D59=\"Sub-Assemblies\",G59*OFFSET($AM$48,MATCH(E59,$AF$49:$AF$157,0),0),G59*OFFSET('I_CAPEX - Stock Costs'!$F$12,MATCH(E59,'I_CAPEX - Stock Costs'!$B$13:$B$384,0),0))","v":1006.7338040221778},{"$f":"SUM(H59:H60)","v":7857.5151055971273},null,"Bracket","2.0","Capital - Brackets - Minor","Materials","2.0",null,1,null,159.82080804604328,null,null,null,null,"Sub-Assemblies","Luminaire Traffic",{"$f":"IF(X59=\"Sub-Assemblies\",OFFSET($AG$48,MATCH(Y59,$AF$49:$AF$157,0),0),OFFSET('I_CAPEX - Stock Costs'!$C$12,MATCH(Y59,'I_CAPEX - Stock Costs'!$B$13:$B$384,0),0))","v":"Streetlight Traditional Luminaire Assembly - Traffic"},1]
[null,null,null,"Sub-Assemblies","Dedicated Column ",null,1,{"$f":"IF(D60=\"Sub-Assemblies\",G60*OFFSET($AM$48,MATCH(E60,$AF$49:$AF$157,0),0),G60*OFFSET('I_CAPEX - Stock Costs'!$F$12,MATCH(E60,'I_CAPEX - Stock Costs'!$B$13:$B$384,0),0))","v":6850.7813015749498},null,null,null,"","","Sub-Assemblies","Bracket Non Traffic",null,1]
["Column","DECORATIVE COLUMN","DECORATIVE COLUMN","Materials","DECORATIVE COLUMN","DECORATIVE COLUMN",1,{"$f":"IF(D61=\"Sub-Assemblies\",G61*OFFSET($AM$48,MATCH(E61,$AF$49:$AF$157,0),0),G61*OFFSET('I_CAPEX - Stock Costs'!$F$12,MATCH(E61,'I_CAPEX - Stock Costs'!$B$13:$B$384,0),0))","v":1396.7772673606132},{"$f":"SUM(H61:H62)","v":8247.558568935563},null,"Bracket","2.5","Capital - Brackets - Minor","Materials","2.5",null,1,null,159.82080804604328,null,"Luminaire","1000W SON FLOODLIGHT","1000W SON FLOODLIGHT","Materials","1000W SON FLOODLIGHT",{"$f":"IF(X61=\"Sub-Assemblies\",OFFSET($AG$48,MATCH(Y61,$AF$49:$AF$157,0),0),OFFSET('I_CAPEX - Stock Costs'!$C$12,MATCH(Y61,'I_CAPEX - Stock Costs'!$B$13:$B$384,0),0))","v":"1000W SON FLOODLIGHT"},1,null,1130.8821776356829,null,"Sub-Assemblies","Bracket Non Traffic","Streetlight Bracket Assembly - Non Traffic","Labour - Non Traffic",{"$f":"AH61","v":"Labour - Non Traffic"}]
[null,null,null,"Sub-Assemblies","Dedicated Column ",null,1,{"$f":"IF(D62=\"Sub-Assemblies\",G62*OFFSET($AM$48,MATCH(E62,$AF$49:$AF$157,0),0),G62*OFFSET('I_CAPEX - Stock Costs'!$F$12,MATCH(E62,'I_CAPEX - Stock Costs'!$B$13:$B$384,0),0))","v":6850.7813015749498},null,null,null,"","","Sub-Assemblies","Bracket Non Traffic",null,1,null,null,null,null,null,null,"Sub-Assemblies","Luminaire Traffic",{"$f":"IF(X62=\"Sub-Assemblies\",OFFSET($AG$48,MATCH(Y62,$AF$49:$AF$157,0),0),OFFSET('I_CAPEX - Stock Costs'!$C$12,MATCH(Y62,'I_CAPEX - Stock Costs'!$B$13:$B$384,0),0))","v":"Streetlight Traditional Luminaire Assembly - Traffic"},1,null,null,null,null,null,null,"EWP",{"$f":"AH62","v":"EWP"}]
["Column","DEDICATED SUPPORT & COND","DEDICATED SUPPORT & COND","Materials","DEDICATED SUPPORT & COND","DEDICATED SUPPORT & COND",1,{"$f":"IF(D63=\"Sub-Assemblies\",G63*OFFSET($AM$48,MATCH(E63,$AF$49:$AF$157,0),0),G63*OFFSET('I_CAPEX - Stock Costs'!$F$12,MATCH(E63,'I_CAPEX - Stock Costs'!$B$13:$B$384,0),0))","v":777.45149787052992},{"$f":"SUM(H63:H64)","v":7628.2327994454799},null,"Bracket","3.0","Capital - Brackets - Minor","Materials","3.0",null,1,null,159.82080804604328,null,"Luminaire","1000W/1500W MBI FLOODLIG","1000W/1500W MBI FLOODLIG","Materials","1000W/1500W MBI FLOODLIG",{"$f":"IF(X63=\"Sub-Assemblies\",OFFSET($AG$48,MATCH(Y63,$AF$49:$AF$157,0),0),OFFSET('I_CAPEX - Stock Costs'!$C$12,MATCH(Y63,'I_CAPEX - Stock Costs'!$B$13:$B$384,0),0))","v":"1000W/1500W MBI FLOODLIG"},1,null,1558.2960214480304,null,"Sub-Assemblies","Luminaire Non Traffic","Streetlight Traditional Luminaire Assembly - Non Traffic","Labour - Non Traffic","Labour - Non Traffic"]
[null,null,null,"Sub-Assemblies","Dedicated Column ",null,1,{"$f":"IF(D64=\"Sub-Assemblies\",G64*OFFSET($AM$48,MATCH(E64,$AF$49:$AF$157,0),0),G64*OFFSET('I_CAPEX - Stock Costs'!$F$12,MATCH(E64,'I_CAPEX - Stock Costs'!$B$13:$B$384,0),0))","v":6850.7813015749498},null,null,null,"","","Sub-Assemblies","Bracket Non Traffic",null,1,null,null,null,null,null,null,"Sub-Assemblies","Luminaire Traffic",{"$f":"IF(X64=\"Sub-Assemblies\",OFFSET($AG$48,MATCH(Y64,$AF$49:$AF$157,0),0),OFFSET('I_CAPEX - Stock Costs'!$C$12,MATCH(Y64,'I_CAPEX - Stock Costs'!$B$13:$B$384,0),0))","v":"Streetlight Traditional Luminaire Assembly - Traffic"},1,null,null,null,null,null,null,"EWP","EWP"]
["Column","MACQUARIE STANDARD","MACQUARIE STANDARD","Materials","MACQUARIE STANDARD","MACQUARIE STANDARD",1,{"$f":"IF(D65=\"Sub-Assemblies\",G65*OFFSET($AM$48,MATCH(E65,$AF$49:$AF$157,0),0),G65*OFFSET('I_CAPEX - Stock Costs'!$F$12,MATCH(E65,'I_CAPEX - Stock Costs'!$B$13:$B$384,0),0))","v":682.57606084226188},{"$f":"SUM(H65:H66)","v":7533.3573624172113},null,"Bracket","3.5","Capital - Brackets - Minor","Materials","3.5",null,1,null,225.61467467405399,null,null,null,null,null,null,null,null,null,null,null,"Sub-Assemblies","Luminaire Traffic","Streetlight Traditional Luminaire Assembly - Traffic","Labour - Non Traffic","Labour - Non Traffic"]
[null,null,null,"Sub-Assemblies","Dedicated Column ",null,1,{"$f":"IF(D66=\"Sub-Assemblies\",G66*OFFSET($AM$48,MATCH(E66,$AF$49:$AF$157,0),0),G66*OFFSET('I_CAPEX - Stock Costs'!$F$12,MATCH(E66,'I_CAPEX - Stock Costs'!$B$13:$B$384,0),0))","v":6850.7813015749498},null,null,null,"","","Sub-Assemblies","Bracket Non Traffic",null,1,null,null,null,"Luminaire","100W LED ALD","100W LED ALD","Materials","100W LED ALD",{"$f":"IF(X66=\"Sub-Assemblies\",OFFSET($AG$48,MATCH(Y66,$AF$49:$AF$157,0),0),OFFSET('I_CAPEX - Stock Costs'!$C$12,MATCH(Y66,'I_CAPEX - Stock Costs'!$B$13:$B$384,0),0))","v":"100W LED ALD"},1,null,861.12436352074474,null,null,null,null,"EWP","EWP"]
["Column","MAST 15.5M-30M","MAST 15.5M-30M","Materials","MAST 15.5M-30M","MAST 15.5M-30M",1,{"$f":"IF(D67=\"Sub-Assemblies\",G67*OFFSET($AM$48,MATCH(E67,$AF$49:$AF$157,0),0),G67*OFFSET('I_CAPEX - Stock Costs'!$F$12,MATCH(E67,'I_CAPEX - Stock Costs'!$B$13:$B$384,0),0))","v":1117.4218138884905},{"$f":"SUM(H67:H68)","v":7968.2031154634406},null,"Bracket","4.0","Capital - Brackets - Minor","Materials","4.0",null,1,null,362.25156620161863,null,null,null,null,"Sub-Assemblies","LED Traffic",{"$f":"IF(X67=\"Sub-Assemblies\",OFFSET($AG$48,MATCH(Y67,$AF$49:$AF$157,0),0),OFFSET('I_CAPEX - Stock Costs'!$C$12,MATCH(Y67,'I_CAPEX - Stock Costs'!$B$13:$B$384,0),0))","v":"Streetlight LED Luminaire Assembly - Traffic"},1,null,null,null,null,null,null,"Labour - Traffic","Labour - Traffic"]
[null,null,null,"Sub-Assemblies","Dedicated Column ",null,1,{"$f":"IF(D68=\"Sub-Assemblies\",G68*OFFSET($AM$48,MATCH(E68,$AF$49:$AF$157,0),0),G68*OFFSET('I_CAPEX - Stock Costs'!$F$12,MATCH(E68,'I_CAPEX - Stock Costs'!$B$13:$B$384,0),0))","v":6850.7813015749498},null,null,null,"","","Sub-Assemblies","Bracket Non Traffic",null,1,null,null,null,"Luminaire","100W MBI","100W MBI","Materials","100W MBI",{"$f":"IF(X68=\"Sub-Assemblies\",OFFSET($AG$48,MATCH(Y68,$AF$49:$AF$157,0),0),OFFSET('I_CAPEX - Stock Costs'!$C$12,MATCH(Y68,'I_CAPEX - Stock Costs'!$B$13:$B$384,0),0))","v":"100W MBI"},1,null,478.58719377827651]
["Column","ORION DOUBLE ARM","ORION DOUBLE ARM","Materials","ORION DOUBLE ARM","ORION DOUBLE ARM",1,{"$f":"IF(D69=\"Sub-Assemblies\",G69*OFFSET($AM$48,MATCH(E69,$AF$49:$AF$157,0),0),G69*OFFSET('I_CAPEX - Stock Costs'!$F$12,MATCH(E69,'I_CAPEX - Stock Costs'!$B$13:$B$384,0),0))","v":463.53239560324801},{"$f":"SUM(H69:H70)","v":7314.3136971781978},null,"Bracket","4.5","Capital - Brackets - Minor","Materials","4.5",null,1,null,362.25156620161863,null,null,null,null,"Sub-Assemblies","Luminaire Traffic",{"$f":"IF(X69=\"Sub-Assemblies\",OFFSET($AG$48,MATCH(Y69,$AF$49:$AF$157,0),0),OFFSET('I_CAPEX - Stock Costs'!$C$12,MATCH(Y69,'I_CAPEX - Stock Costs'!$B$13:$B$384,0),0))","v":"Streetlight Traditional Luminaire Assembly - Traffic"},1]
[null,null,null,"Sub-Assemblies","Dedicated Column ",null,1,{"$f":"IF(D70=\"Sub-Assemblies\",G70*OFFSET($AM$48,MATCH(E70,$AF$49:$AF$157,0),0),G70*OFFSET('I_CAPEX - Stock Costs'!$F$12,MATCH(E70,'I_CAPEX - Stock Costs'!$B$13:$B$384,0),0))","v":6850.7813015749498},null,null,null,"","","Sub-Assemblies","Bracket Non Traffic",null,1]
["Column","POLO 10.5M DECORATIVE 2M","POLO 10.5M DECORATIVE 2M","Materials","POLO 10.5M DECORATIVE 2M","POLO 10.5M DECORATIVE 2M",1,{"$f":"IF(D71=\"Sub-Assemblies\",G71*OFFSET($AM$48,MATCH(E71,$AF$49:$AF$157,0),0),G71*OFFSET('I_CAPEX - Stock Costs'!$F$12,MATCH(E71,'I_CAPEX - Stock Costs'!$B$13:$B$384,0),0))","v":922.4000822192728},{"$f":"SUM(H71:H72)","v":7773.1813837942227},null,"Bracket","5.0","Capital - Brackets - Minor","Materials","5.0",null,1,null,362.25156620161863,null,"Luminaire","100W MBI FLOODLIGHT","100W MBI FLOODLIGHT","Materials","100W MBI FLOODLIGHT",{"$f":"IF(X71=\"Sub-Assemblies\",OFFSET($AG$48,MATCH(Y71,$AF$49:$AF$157,0),0),OFFSET('I_CAPEX - Stock Costs'!$C$12,MATCH(Y71,'I_CAPEX - Stock Costs'!$B$13:$B$384,0),0))","v":"100W MBI FLOODLIGHT"},1,null,524.68084360117678]
[null,null,null,"Sub-Assemblies","Dedicated Column ",null,1,{"$f":"IF(D72=\"Sub-Assemblies\",G72*OFFSET($AM$48,MATCH(E72,$AF$49:$AF$157,0),0),G72*OFFSET('I_CAPEX - Stock Costs'!$F$12,MATCH(E72,'I_CAPEX - Stock Costs'!$B$13:$B$384,0),0))","v":6850.7813015749498},null,null,null,"","","Sub-Assemblies","Bracket Non Traffic",null,1,null,null,null,null,null,null,"Sub-Assemblies","Luminaire Traffic",{"$f":"IF(X72=\"Sub-Assemblies\",OFFSET($AG$48,MATCH(Y72,$AF$49:$AF$157,0),0),OFFSET('I_CAPEX - Stock Costs'!$C$12,MATCH(Y72,'I_CAPEX - Stock Costs'!$B$13:$B$384,0),0))","v":"Streetlight Traditional Luminaire Assembly - Traffic"},1]
["Column","ROCKS STANDARD","ROCKS STANDARD","Materials","ROCKS STANDARD","ROCKS STANDARD",1,{"$f":"IF(D73=\"Sub-Assemblies\",G73*OFFSET($AM$48,MATCH(E73,$AF$49:$AF$157,0),0),G73*OFFSET('I_CAPEX - Stock Costs'!$F$12,MATCH(E73,'I_CAPEX - Stock Costs'!$B$13:$B$384,0),0))","v":956.88466815024185},{"$f":"SUM(H73:H74)","v":7807.6659697251916},null,"Bracket","6.0","Capital - Brackets - Minor","Materials","6.0",null,1,null,450.29030936557945,null,"Luminaire","100W SON","100W SON","Materials","100W SON",{"$f":"IF(X73=\"Sub-Assemblies\",OFFSET($AG$48,MATCH(Y73,$AF$49:$AF$157,0),0),OFFSET('I_CAPEX - Stock Costs'!$C$12,MATCH(Y73,'I_CAPEX - Stock Costs'!$B$13:$B$384,0),0))","v":"100W SON"},1,null,514.56079698482813]
[null,null,null,"Sub-Assemblies","Dedicated Column ",null,1,{"$f":"IF(D74=\"Sub-Assemblies\",G74*OFFSET($AM$48,MATCH(E74,$AF$49:$AF$157,0),0),G74*OFFSET('I_CAPEX - Stock Costs'!$F$12,MATCH(E74,'I_CAPEX - Stock Costs'!$B$13:$B$384,0),0))","v":6850.7813015749498},null,null,null,"","","Sub-Assemblies","Bracket Non Traffic",null,1,null,null,null,null,null,null,"Sub-Assemblies","Luminaire Traffic",{"$f":"IF(X74=\"Sub-Assemblies\",OFFSET($AG$48,MATCH(Y74,$AF$49:$AF$157,0),0),OFFSET('I_CAPEX - Stock Costs'!$C$12,MATCH(Y74,'I_CAPEX - Stock Costs'!$B$13:$B$384,0),0))","v":"Streetlight Traditional Luminaire Assembly - Traffic"},1]
[null,null,null,null,null,null,null,null,null,null,"Bracket","6.5","Capital - Brackets - Minor","Materials","6.5",null,1,null,450.29030936557945]
[null,null,null,null,null,null,null,null,null,null,null,"","","Sub-Assemblies","Bracket Non Traffic",null,1,null,null,null,"Floodlight","100W SON FLOODLIGHT","100W SON FLOODLIGHT","Materials","100W SON FLOODLIGHT",{"$f":"IF(X76=\"Sub-Assemblies\",OFFSET($AG$48,MATCH(Y76,$AF$49:$AF$157,0),0),OFFSET('I_CAPEX - Stock Costs'!$C$12,MATCH(Y76,'I_CAPEX - Stock Costs'!$B$13:$B$384,0),0))","v":"100W SON FLOODLIGHT"},1,null,791.46530166705395]
[null,null,null,null,null,null,null,null,null,null,"Bracket","7.0","Capital - Brackets - Minor","Materials","7.0",null,1,null,450.29030936557945,null,null,null,null,"Sub-Assemblies","Luminaire Traffic",{"$f":"IF(X77=\"Sub-Assemblies\",OFFSET($AG$48,MATCH(Y77,$AF$49:$AF$157,0),0),OFFSET('I_CAPEX - Stock Costs'!$C$12,MATCH(Y77,'I_CAPEX - Stock Costs'!$B$13:$B$384,0),0))","v":"Streetlight Traditional Luminaire Assembly - Traffic"},1]
[null,null,null,null,null,null,null,null,null,null,null,"","","Sub-Assemblies","Bracket Non Traffic",null,1,null,null,null,"Floodlight","100W SON - PLAIN","100W SON - PLAIN","Materials","100W SON - PLAIN",{"$f":"IF(X78=\"Sub-Assemblies\",OFFSET($AG$48,MATCH(Y78,$AF$49:$AF$157,0),0),OFFSET('I_CAPEX - Stock Costs'!$C$12,MATCH(Y78,'I_CAPEX - Stock Costs'!$B$13:$B$384,0),0))","v":"100W SON - PLAIN"},1,null,514.56079698482813]
[null,null,null,null,null,null,null,null,null,null,"Bracket","8.0","Capital - Brackets - Minor","Materials","8.0",null,1,null,450.29030936557945,null,null,null,null,"Sub-Assemblies","Luminaire Traffic",{"$f":"IF(X79=\"Sub-Assemblies\",OFFSET($AG$48,MATCH(Y79,$AF$49:$AF$157,0),0),OFFSET('I_CAPEX - Stock Costs'!$C$12,MATCH(Y79,'I_CAPEX - Stock Costs'!$B$13:$B$384,0),0))","v":"Streetlight Traditional Luminaire Assembly - Traffic"},1]
[null,null,null,null,null,null,null,null,null,null,null,"","","Sub-Assemblies","Bracket Non Traffic",null,1,null,null,null,"Floodlight","125W MBF","125W MBF","Materials","125W MBF",{"$f":"IF(X80=\"Sub-Assemblies\",OFFSET($AG$48,MATCH(Y80,$AF$49:$AF$157,0),0),OFFSET('I_CAPEX - Stock Costs'!$C$12,MATCH(Y80,'I_CAPEX - Stock Costs'!$B$13:$B$384,0),0))","v":"125W MBF"},1,null,357.75278300755178]
[null,null,null,null,null,null,null,null,null,null,"Bracket","C4","Capital - Brackets - Major","Materials","C4",null,1,null,179.96980756361688,null,null,null,null,"Sub-Assemblies","Luminaire Non Traffic",{"$f":"IF(X81=\"Sub-Assemblies\",OFFSET($AG$48,MATCH(Y81,$AF$49:$AF$157,0),0),OFFSET('I_CAPEX - Stock Costs'!$C$12,MATCH(Y81,'I_CAPEX - Stock Costs'!$B$13:$B$384,0),0))","v":"Streetlight Traditional Luminaire Assembly - Non Traffic"},1]
[null,null,null,null,null,null,null,null,null,null,null,"","","Sub-Assemblies","Bracket Traffic",null,1,null,null,null,"Floodlight","125W MBF - BOURKE HILL","125W MBF - BOURKE HILL","Materials","125W MBF - BOURKE HILL",{"$f":"IF(X82=\"Sub-Assemblies\",OFFSET($AG$48,MATCH(Y82,$AF$49:$AF$157,0),0),OFFSET('I_CAPEX - Stock Costs'!$C$12,MATCH(Y82,'I_CAPEX - Stock Costs'!$B$13:$B$384,0),0))","v":"125W MBF - BOURKE HILL"},1,null,1105.7401868231918]
[null,null,null,null,null,null,null,null,null,null,"Bracket","T1","Capital - Brackets - Major","Materials","T1",null,1,null,163.29805855380422,null,null,null,null,"Sub-Assemblies","Luminaire Non Traffic",{"$f":"IF(X83=\"Sub-Assemblies\",OFFSET($AG$48,MATCH(Y83,$AF$49:$AF$157,0),0),OFFSET('I_CAPEX - Stock Costs'!$C$12,MATCH(Y83,'I_CAPEX - Stock Costs'!$B$13:$B$384,0),0))","v":"Streetlight Traditional Luminaire Assembly - Non Traffic"},1]
[null,null,null,null,null,null,null,null,null,null,null,"","","Sub-Assemblies","Bracket Traffic",null,1,null,null,null,"Floodlight","125W MBF - PARKVILLE","125W MBF - PARKVILLE","Materials","125W MBF - PARKVILLE",{"$f":"IF(X84=\"Sub-Assemblies\",OFFSET($AG$48,MATCH(Y84,$AF$49:$AF$157,0),0),OFFSET('I_CAPEX - Stock Costs'!$C$12,MATCH(Y84,'I_CAPEX - Stock Costs'!$B$13:$B$384,0),0))","v":"125W MBF - PARKVILLE"},1,null,1392.1585894963075]
[null,null,null,null,null,null,null,null,null,null,"Bracket","T2","Capital - Brackets - Major","Materials","T2",null,1,null,277.61862319251964,null,null,null,null,"Sub-Assemblies","Luminaire Non Traffic",{"$f":"IF(X85=\"Sub-Assemblies\",OFFSET($AG$48,MATCH(Y85,$AF$49:$AF$157,0),0),OFFSET('I_CAPEX - Stock Costs'!$C$12,MATCH(Y85,'I_CAPEX - Stock Costs'!$B$13:$B$384,0),0))","v":"Streetlight Traditional Luminaire Assembly - Non Traffic"},1,null,null,null,"Sub-Assemblies","LED Non Traffic","Streetlight LED Luminaire Assembly - Non Traffic","Labour - Non Traffic",{"$f":"AH85","v":"Labour - Non Traffic"}]
[null,null,null,null,null,null,null,null,null,null,null,"","","Sub-Assemblies","Bracket Traffic",null,1,null,null,null,null,null,null,null,null,null,null,null,null,null,null,null,null,"EWP","EWP"]
[null,null,null,null,null,null,null,null,null,null,"Bracket","T2A","Capital - Brackets - Major","Materials","T2A",null,1,null,277.61862319251964,null,"Luminaire","125W MBF - PLAIN","125W MBF - PLAIN","Materials","125W MBF - PLAIN",{"$f":"IF(X87=\"Sub-Assemblies\",OFFSET($AG$48,MATCH(Y87,$AF$49:$AF$157,0),0),OFFSET('I_CAPEX - Stock Costs'!$C$12,MATCH(Y87,'I_CAPEX - Stock Costs'!$B$13:$B$384,0),0))","v":"125W MBF - PLAIN"},1,null,357.75278300755178,null,null,null,null,"PE Cell","PE Cell"]
[null,null,null,null,null,null,null,null,null,null,null,"","","Sub-Assemblies","Bracket Traffic",null,1,null,null,null,null,null,null,"Sub-Assemblies","Luminaire Non Traffic",{"$f":"IF(X88=\"Sub-Assemblies\",OFFSET($AG$48,MATCH(Y88,$AF$49:$AF$157,0),0),OFFSET('I_CAPEX - Stock Costs'!$C$12,MATCH(Y88,'I_CAPEX - Stock Costs'!$B$13:$B$384,0),0))","v":"Streetlight Traditional Luminaire Assembly - Non Traffic"},1]
[null,null,null,null,null,null,null,null,null,null,"Bracket","T3","Capital - Brackets - Major","Materials","T3",null,1,null,415.16055252347417]
[null,null,null,null,null,null,null,null,null,null,null,"","","Sub-Assemblies","Bracket Traffic",null,1]
[null,null,null,null,null,null,null,null,null,null,"Bracket","T3A","Capital - Brackets - Major","Materials","T3A",null,1,null,415.16055252347417,null,"Luminaire","125W/250W MBF FLOODLIGHT","125W/250W MBF FLOODLIGHT","Materials","125W/250W MBF FLOODLIGHT",{"$f":"IF(X91=\"Sub-Assemblies\",OFFSET($AG$48,MATCH(Y91,$AF$49:$AF$157,0),0),OFFSET('I_CAPEX - Stock Costs'!$C$12,MATCH(Y91,'I_CAPEX - Stock Costs'!$B$13:$B$384,0),0))","v":"125W/250W MBF FLOODLIGHT"},1,null,493.88190485587523]
[null,null,null,null,null,null,null,null,null,null,null,"","","Sub-Assemblies","Bracket Traffic",null,1,null,null,null,null,null,null,"Sub-Assemblies","Luminaire Non Traffic",{"$f":"IF(X92=\"Sub-Assemblies\",OFFSET($AG$48,MATCH(Y92,$AF$49:$AF$157,0),0),OFFSET('I_CAPEX - Stock Costs'!$C$12,MATCH(Y92,'I_CAPEX - Stock Costs'!$B$13:$B$384,0),0))","v":"Streetlight Traditional Luminaire Assembly - Non Traffic"},1]
[null,null,null,null,null,null,null,null,null,null,"Bracket","T4","Capital - Brackets - Major","Materials","T4",null,1,null,415.16055252347417]
[null,null,null,null,null,null,null,null,null,null,null,"","","Sub-Assemblies","Bracket Traffic",null,1,null,null,null,null,null,null,null,null,null,null,null,null,null,"Sub-Assemblies","LED Traffic","Streetlight LED Luminaire Assembly - Traffic","Labour - Non Traffic",{"$f":"AH94","v":"Labour - Non Traffic"}]
[null,null,null,null,null,null,null,null,null,null,"Bracket","T5","Capital - Brackets - Major","Materials","T5",null,1,null,415.16055252347417,null,"Luminaire","150W SON","150W SON","Materials","150W SON",{"$f":"IF(X95=\"Sub-Assemblies\",OFFSET($AG$48,MATCH(Y95,$AF$49:$AF$157,0),0),OFFSET('I_CAPEX - Stock Costs'!$C$12,MATCH(Y95,'I_CAPEX - Stock Costs'!$B$13:$B$384,0),0))","v":"150W SON"},1,null,519.83165459750967,null,null,null,null,"EWP","EWP"]
[null,null,null,null,null,null,null,null,null,null,null,"","","Sub-Assemblies","Bracket Traffic",null,1,null,null,null,null,null,null,"Sub-Assemblies","Luminaire Traffic",{"$f":"IF(X96=\"Sub-Assemblies\",OFFSET($AG$48,MATCH(Y96,$AF$49:$AF$157,0),0),OFFSET('I_CAPEX - Stock Costs'!$C$12,MATCH(Y96,'I_CAPEX - Stock Costs'!$B$13:$B$384,0),0))","v":"Streetlight Traditional Luminaire Assembly - Traffic"},1,null,null,null,null,null,null,"PE Cell","PE Cell"]
[null,null,null,null,null,null,null,null,null,null,"Bracket","T6","Capital - Brackets - Major","Materials","T6",null,1,null,415.16055252347417,null,null,null,null,null,null,null,null,null,null,null,null,null,null,"Labour - Traffic","Labour - Traffic"]
[null,null,null,null,null,null,null,null,null,null,null,"","","Sub-Assemblies","Bracket Traffic",null,1,null,null,null,null,null,null,null,null,null,null,null,null,null,"Sub-Assemblies","Dedicated Column ","Streetlight Support Assembly - Traffic","Labour - Non Traffic","Labour - Non Traffic",null,null,{"$f":"IF(AH98=\"Sub-Assemblies\",AK98*OFFSET($AM$48,MATCH(AI98,$AF$49:$AF$157,0),0),AK98*OFFSET('I_CAPEX - Stock Costs'!$F$12,MATCH(AI98,'I_CAPEX - Stock Costs'!$B$13:$B$384,0),0))","v":0},{"$f":"SUM(AL98:AL102)","v":6850.7813015749498}]
[null,null,null,null,null,null,null,null,null,null,"Bracket","T7","Capital - Brackets - Major","Materials","T7",null,1,null,614.62612103373283,null,"Luminaire","150W SON - PARKVILLE","150W SON - PARKVILLE","Materials","150W SON - PARKVILLE",{"$f":"IF(X99=\"Sub-Assemblies\",OFFSET($AG$48,MATCH(Y99,$AF$49:$AF$157,0),0),OFFSET('I_CAPEX - Stock Costs'!$C$12,MATCH(Y99,'I_CAPEX - Stock Costs'!$B$13:$B$384,0),0))","v":"150W SON - PARKVILLE"},1,null,1530.360476100818,null,null,null,null,"EWP","EWP",null,null,{"$f":"IF(AH99=\"Sub-Assemblies\",AK99*OFFSET($AM$48,MATCH(AI99,$AF$49:$AF$157,0),0),AK99*OFFSET('I_CAPEX - Stock Costs'!$F$12,MATCH(AI99,'I_CAPEX - Stock Costs'!$B$13:$B$384,0),0))","v":0}]
[null,null,null,null,null,null,null,null,null,null,null,"","","Sub-Assemblies","Bracket Traffic",null,1,null,null,null,null,null,null,"Sub-Assemblies","Luminaire Traffic",{"$f":"IF(X100=\"Sub-Assemblies\",OFFSET($AG$48,MATCH(Y100,$AF$49:$AF$157,0),0),OFFSET('I_CAPEX - Stock Costs'!$C$12,MATCH(Y100,'I_CAPEX - Stock Costs'!$B$13:$B$384,0),0))","v":"Streetlight Traditional Luminaire Assembly - Traffic"},1,null,null,null,null,null,null,"Installation cost","Installation cost",null,1,6850.7813015749498,null,"All inclusive installation cost - Labour, EWP and Traffic control"]
[null,null,null,null,null,null,null,null,null,null,"Bracket","Bracket - Minor Road (Cat P) - Short","Capital - Brackets - Minor","Materials","Bracket - Minor Road (Cat P) - Short",null,1,null,192.9457036818921,null,null,null,null,null,null,null,null,null,null,null,null,null,null,"Labour - Traffic","Labour - Traffic",null,0,{"$f":"IF(AH101=\"Sub-Assemblies\",AK101*OFFSET($AM$48,MATCH(AI101,$AF$49:$AF$157,0),0),AK101*OFFSET('I_CAPEX - Stock Costs'!$F$12,MATCH(AI101,'I_CAPEX - Stock Costs'!$B$13:$B$384,0),0))","v":0}]
[null,null,null,null,null,null,null,null,null,null,null,"","","Sub-Assemblies","Bracket Non Traffic",null,1]
[null,null,null,null,null,null,null,null,null,null,"Bracket","Bracket - Minor Road (Cat P) - Medium","Capital - Brackets - Minor","Materials","Bracket - Minor Road (Cat P) - Medium",null,1,null,306.35404216380471,null,"Luminaire","150W SON - PARKWAY 1","150W SON - PARKWAY 1","Materials","150W SON - PARKWAY 1",{"$f":"IF(X103=\"Sub-Assemblies\",OFFSET($AG$48,MATCH(Y103,$AF$49:$AF$157,0),0),OFFSET('I_CAPEX - Stock Costs'!$C$12,MATCH(Y103,'I_CAPEX - Stock Costs'!$B$13:$B$384,0),0))","v":"150W SON - PARKWAY 1"},1,null,634.47280767333359,null,"Sub-Assemblies","Shared Pole","Streetlight Bracket Assembly - Traffic","Labour - Non Traffic",{"$f":"AH103","v":"Labour - Non Traffic"}]
[null,null,null,null,null,null,null,null,null,null,null,"","","Sub-Assemblies","Bracket Non Traffic",null,1,null,null,null,null,null,null,"Sub-Assemblies","Luminaire Traffic",{"$f":"IF(X104=\"Sub-Assemblies\",OFFSET($AG$48,MATCH(Y104,$AF$49:$AF$157,0),0),OFFSET('I_CAPEX - Stock Costs'!$C$12,MATCH(Y104,'I_CAPEX - Stock Costs'!$B$13:$B$384,0),0))","v":"Streetlight Traditional Luminaire Assembly - Traffic"},1,null,null,null,null,null,null,"EWP","EWP"]
[null,null,null,null,null,null,null,null,null,null,"Bracket","Bracket - Major Road (Cat V) - Short","Capital - Brackets - Major","Materials","Bracket - Major Road (Cat V) - Short",null,1,null,221.84454005203227,null,null,null,null,null,null,null,null,null,null,null,null,null,null,"Labour - Traffic","Labour - Traffic"]
[null,null,null,null,null,null,null,null,null,null,null,"","","Sub-Assemblies","Bracket Traffic",null,1]
[null,null,null,null,null,null,null,null,null,null,"Bracket","Bracket - Major Road (Cat V) - Medium","Capital - Brackets - Major","Materials","Bracket - Major Road (Cat V) - Medium",null,1,null,425.26076097917417,null,"Luminaire","150W SON ACTIVE REACTOR","150W SON ACTIVE REACTOR","Materials","150W SON ACTIVE REACTOR",{"$f":"IF(X107=\"Sub-Assemblies\",OFFSET($AG$48,MATCH(Y107,$AF$49:$AF$157,0),0),OFFSET('I_CAPEX - Stock Costs'!$C$12,MATCH(Y107,'I_CAPEX - Stock Costs'!$B$13:$B$384,0),0))","v":"150W SON ACTIVE REACTOR"},1,null,799.18710806963225]
[null,null,null,null,null,null,null,null,null,null,null,"","","Sub-Assemblies","Bracket Traffic",null,1,null,null,null,null,null,null,"Sub-Assemblies","Luminaire Traffic",{"$f":"IF(X108=\"Sub-Assemblies\",OFFSET($AG$48,MATCH(Y108,$AF$49:$AF$157,0),0),OFFSET('I_CAPEX - Stock Costs'!$C$12,MATCH(Y108,'I_CAPEX - Stock Costs'!$B$13:$B$384,0),0))","v":"Streetlight Traditional Luminaire Assembly - Traffic"},1,null,null,null,"Sub-Assemblies","Smart Controller - Traffic","Smart Controller - Traffic","Labour - Traffic",{"$f":"AH108","v":"Labour - Traffic"}]
[null,null,null,null,null,null,null,null,null,null,"Bracket","Bracket - Major Road (Cat V) - Long","Capital - Brackets - Major","Materials","Bracket - Major Road (Cat V) - Long",null,1,null,537.03891797576114,null,null,null,null,null,null,null,null,null,null,null,null,null,null,"EWP","EWP"]
[null,null,null,null,null,null,null,null,null,null,null,"","","Sub-Assemblies","Bracket Traffic",null,1]
[null,null,null,null,null,null,null,null,null,null,null,null,null,null,null,null,null,null,null,null,"Luminaire","150W SON FLOODLIGHT","150W SON FLOODLIGHT","Materials","150W SON FLOODLIGHT",{"$f":"IF(X111=\"Sub-Assemblies\",OFFSET($AG$48,MATCH(Y111,$AF$49:$AF$157,0),0),OFFSET('I_CAPEX - Stock Costs'!$C$12,MATCH(Y111,'I_CAPEX - Stock Costs'!$B$13:$B$384,0),0))","v":"150W SON FLOODLIGHT"},1,null,621.29566364162974]
[null,null,null,null,null,null,null,null,null,null,null,null,null,null,null,null,null,null,null,null,null,null,null,"Sub-Assemblies","Luminaire Traffic",{"$f":"IF(X112=\"Sub-Assemblies\",OFFSET($AG$48,MATCH(Y112,$AF$49:$AF$157,0),0),OFFSET('I_CAPEX - Stock Costs'!$C$12,MATCH(Y112,'I_CAPEX - Stock Costs'!$B$13:$B$384,0),0))","v":"Streetlight Traditional Luminaire Assembly - Traffic"},1,null,null,null,"Sub-Assemblies","Smart Controller - No Installation","Smart Controller Only","Labour - Traffic",{"$f":"AH112","v":"Labour - Traffic"}]
[null,null,null,null,null,null,null,null,null,null,null,null,null,null,null,null,null,null,null,null,null,null,null,null,null,null,null,null,null,null,null,null,null,"EWP","EWP"]
[]
[null,null,null,null,null,null,null,null,null,null,null,null,null,null,null,null,null,null,null,null,"Luminaire","150W/250W MBI FLOODLIGHT","150W/250W MBI FLOODLIGHT","Materials","150W/250W MBI FLOODLIGHT",{"$f":"IF(X115=\"Sub-Assemblies\",OFFSET($AG$48,MATCH(Y115,$AF$49:$AF$157,0),0),OFFSET('I_CAPEX - Stock Costs'!$C$12,MATCH(Y115,'I_CAPEX - Stock Costs'!$B$13:$B$384,0),0))","v":"150W/250W MBI FLOODLIGHT"},1,null,993.99800543434276,null,null,null,null,null,null,null,null,null,{"$f":"SUM(AL115:AL115)","v":0}]
[null,null,null,null,null,null,null,null,null,null,null,null,null,null,null,null,null,null,null,null,null,null,null,"Sub-Assemblies","Luminaire Traffic",{"$f":"IF(X116=\"Sub-Assemblies\",OFFSET($AG$48,MATCH(Y116,$AF$49:$AF$157,0),0),OFFSET('I_CAPEX - Stock Costs'!$C$12,MATCH(Y116,'I_CAPEX - Stock Costs'!$B$13:$B$384,0),0))","v":"Streetlight Traditional Luminaire Assembly - Traffic"},1,null,null,null,null,null,null,null,null,null,null,null,{"$f":"SUM(AL116:AL118)","v":0}]
[]
[]
[null,null,null,null,null,null,null,null,null,null,null,null,null,null,null,null,null,null,null,null,"Luminaire","17W LED SY RRW","17W LED SY RRW","Materials","17W LED SY RRW",{"$f":"IF(X119=\"Sub-Assemblies\",OFFSET($AG$48,MATCH(Y119,$AF$49:$AF$157,0),0),OFFSET('I_CAPEX - Stock Costs'!$C$12,MATCH(Y119,'I_CAPEX - Stock Costs'!$B$13:$B$384,0),0))","v":"17W LED SY RRW"},1,null,497.9184029498258,null,null,null,null,null,null,null,null,null,{"$f":"SUM(AL119:AL121)","v":0}]
[null,null,null,null,null,null,null,null,null,null,null,null,null,null,null,null,null,null,null,null,null,null,null,"Sub-Assemblies","LED Non Traffic",{"$f":"IF(X120=\"Sub-Assemblies\",OFFSET($AG$48,MATCH(Y120,$AF$49:$AF$157,0),0),OFFSET('I_CAPEX - Stock Costs'!$C$12,MATCH(Y120,'I_CAPEX - Stock Costs'!$B$13:$B$384,0),0))","v":"Streetlight LED Luminaire Assembly - Non Traffic"},1]
[]
[]
[null,null,null,null,null,null,null,null,null,null,null,null,null,null,null,null,null,null,null,null,"Luminaire","2x14W TF - T5 PIERLITE M","2x14W TF - T5 PIERLITE M","Materials","2x14W TF - T5 PIERLITE M",{"$f":"IF(X123=\"Sub-Assemblies\",OFFSET($AG$48,MATCH(Y123,$AF$49:$AF$157,0),0),OFFSET('I_CAPEX - Stock Costs'!$C$12,MATCH(Y123,'I_CAPEX - Stock Costs'!$B$13:$B$384,0),0))","v":"2x14W TF - T5 PIERLITE M"},1,null,468.1113642730719]
[null,null,null,null,null,null,null,null,null,null,null,null,null,null,null,null,null,null,null,null,null,null,null,"Sub-Assemblies","Luminaire Non Traffic",{"$f":"IF(X124=\"Sub-Assemblies\",OFFSET($AG$48,MATCH(Y124,$AF$49:$AF$157,0),0),OFFSET('I_CAPEX - Stock Costs'!$C$12,MATCH(Y124,'I_CAPEX - Stock Costs'!$B$13:$B$384,0),0))","v":"Streetlight Traditional Luminaire Assembly - Non Traffic"},1]
[]
[]
[null,null,null,null,null,null,null,null,null,null,null,null,null,null,null,null,null,null,null,null,"Luminaire","2x250W SON FLOODLIGHT","2x250W SON FLOODLIGHT","Materials","2x250W SON FLOODLIGHT",{"$f":"IF(X127=\"Sub-Assemblies\",OFFSET($AG$48,MATCH(Y127,$AF$49:$AF$157,0),0),OFFSET('I_CAPEX - Stock Costs'!$C$12,MATCH(Y127,'I_CAPEX - Stock Costs'!$B$13:$B$384,0),0))","v":"2x250W SON FLOODLIGHT"},1,null,904.60426032326359]
[null,null,null,null,null,null,null,null,null,null,null,null,null,null,null,null,null,null,null,null,null,null,null,"Sub-Assemblies","Luminaire Traffic",{"$f":"IF(X128=\"Sub-Assemblies\",OFFSET($AG$48,MATCH(Y128,$AF$49:$AF$157,0),0),OFFSET('I_CAPEX - Stock Costs'!$C$12,MATCH(Y128,'I_CAPEX - Stock Costs'!$B$13:$B$384,0),0))","v":"Streetlight Traditional Luminaire Assembly - Traffic"},1]
[]
[]
[null,null,null,null,null,null,null,null,null,null,null,null,null,null,null,null,null,null,null,null,"Luminaire","2x400W SON FLOODLIGHT","2x400W SON FLOODLIGHT","Materials","2x400W SON FLOODLIGHT",{"$f":"IF(X131=\"Sub-Assemblies\",OFFSET($AG$48,MATCH(Y131,$AF$49:$AF$157,0),0),OFFSET('I_CAPEX - Stock Costs'!$C$12,MATCH(Y131,'I_CAPEX - Stock Costs'!$B$13:$B$384,0),0))","v":"2x400W SON FLOODLIGHT"},1,null,1878.1580156736106]
[null,null,null,null,null,null,null,null,null,null,null,null,null,null,null,null,null,null,null,null,null,null,null,"Sub-Assemblies","Luminaire Traffic",{"$f":"IF(X132=\"Sub-Assemblies\",OFFSET($AG$48,MATCH(Y132,$AF$49:$AF$157,0),0),OFFSET('I_CAPEX - Stock Costs'!$C$12,MATCH(Y132,'I_CAPEX - Stock Costs'!$B$13:$B$384,0),0))","v":"Streetlight Traditional Luminaire Assembly - Traffic"},1]
[]
[]
[null,null,null,null,null,null,null,null,null,null,null,null,null,null,null,null,null,null,null,null,"Luminaire","2x80W MBF - BOURKE HILL","2x80W MBF - BOURKE HILL","Materials","2x80W MBF - BOURKE HILL",{"$f":"IF(X135=\"Sub-Assemblies\",OFFSET($AG$48,MATCH(Y135,$AF$49:$AF$157,0),0),OFFSET('I_CAPEX - Stock Costs'!$C$12,MATCH(Y135,'I_CAPEX - Stock Costs'!$B$13:$B$384,0),0))","v":"2x80W MBF - BOURKE HILL"},1,null,963.9014084659309]
[null,null,null,null,null,null,null,null,null,null,null,null,null,null,null,null,null,null,null,null,null,null,null,"Sub-Assemblies","Luminaire Non Traffic",{"$f":"IF(X136=\"Sub-Assemblies\",OFFSET($AG$48,MATCH(Y136,$AF$49:$AF$157,0),0),OFFSET('I_CAPEX - Stock Costs'!$C$12,MATCH(Y136,'I_CAPEX - Stock Costs'!$B$13:$B$384,0),0))","v":"Streetlight Traditional Luminaire Assembly - Non Traffic"},1]
[]
[]
[null,null,null,null,null,null,null,null,null,null,null,null,null,null,null,null,null,null,null,null,"Luminaire","200W LED ALD","200W LED ALD","Materials","200W LED ALD",{"$f":"IF(X139=\"Sub-Assemblies\",OFFSET($AG$48,MATCH(Y139,$AF$49:$AF$157,0),0),OFFSET('I_CAPEX - Stock Costs'!$C$12,MATCH(Y139,'I_CAPEX - Stock Costs'!$B$13:$B$384,0),0))","v":"200W LED ALD"},1,null,861.12436352074474]
[null,null,null,null,null,null,null,null,null,null,null,null,null,null,null,null,null,null,null,null,null,null,null,"Sub-Assemblies","LED Traffic",{"$f":"IF(X140=\"Sub-Assemblies\",OFFSET($AG$48,MATCH(Y140,$AF$49:$AF$157,0),0),OFFSET('I_CAPEX - Stock Costs'!$C$12,MATCH(Y140,'I_CAPEX - Stock Costs'!$B$13:$B$384,0),0))","v":"Streetlight LED Luminaire Assembly - Traffic"},1]
[]
[]
[null,null,null,null,null,null,null,null,null,null,null,null,null,null,null,null,null,null,null,null,"Luminaire","20W LED GE","20W LED GE","Materials","20W LED GE",{"$f":"IF(X143=\"Sub-Assemblies\",OFFSET($AG$48,MATCH(Y143,$AF$49:$AF$157,0),0),OFFSET('I_CAPEX - Stock Costs'!$C$12,MATCH(Y143,'I_CAPEX - Stock Costs'!$B$13:$B$384,0),0))","v":"20W LED GE"},1,null,418.13217554572236]
[null,null,null,null,null,null,null,null,null,null,null,null,null,null,null,null,null,null,null,null,null,null,null,"Sub-Assemblies","LED Non Traffic",{"$f":"IF(X144=\"Sub-Assemblies\",OFFSET($AG$48,MATCH(Y144,$AF$49:$AF$157,0),0),OFFSET('I_CAPEX - Stock Costs'!$C$12,MATCH(Y144,'I_CAPEX - Stock Costs'!$B$13:$B$384,0),0))","v":"Streetlight LED Luminaire Assembly - Non Traffic"},1]
[]
[]
[null,null,null,null,null,null,null,null,null,null,null,null,null,null,null,null,null,null,null,null,"Luminaire","250W MBF","250W MBF","Materials","250W MBF",{"$f":"IF(X147=\"Sub-Assemblies\",OFFSET($AG$48,MATCH(Y147,$AF$49:$AF$157,0),0),OFFSET('I_CAPEX - Stock Costs'!$C$12,MATCH(Y147,'I_CAPEX - Stock Costs'!$B$13:$B$384,0),0))","v":"250W MBF"},1,null,509.28993937214659]
[null,null,null,null,null,null,null,null,null,null,null,null,null,null,null,null,null,null,null,null,null,null,null,"Sub-Assemblies","Luminaire Traffic",{"$f":"IF(X148=\"Sub-Assemblies\",OFFSET($AG$48,MATCH(Y148,$AF$49:$AF$157,0),0),OFFSET('I_CAPEX - Stock Costs'!$C$12,MATCH(Y148,'I_CAPEX - Stock Costs'!$B$13:$B$384,0),0))","v":"Streetlight Traditional Luminaire Assembly - Traffic"},1]
[]
[]
[null,null,null,null,null,null,null,null,null,null,null,null,null,null,null,null,null,null,null,null,"Luminaire","250W MBF - PARKWAY 1","250W MBF - PARKWAY 1","Materials","250W MBF - PARKWAY 1",{"$f":"IF(X151=\"Sub-Assemblies\",OFFSET($AG$48,MATCH(Y151,$AF$49:$AF$157,0),0),OFFSET('I_CAPEX - Stock Costs'!$C$12,MATCH(Y151,'I_CAPEX - Stock Costs'!$B$13:$B$384,0),0))","v":"250W MBF - PARKWAY 1"},1,null,634.47280767333359]
[null,null,null,null,null,null,null,null,null,null,null,null,null,null,null,null,null,null,null,null,null,null,null,"Sub-Assemblies","Luminaire Traffic",{"$f":"IF(X152=\"Sub-Assemblies\",OFFSET($AG$48,MATCH(Y152,$AF$49:$AF$157,0),0),OFFSET('I_CAPEX - Stock Costs'!$C$12,MATCH(Y152,'I_CAPEX - Stock Costs'!$B$13:$B$384,0),0))","v":"Streetlight Traditional Luminaire Assembly - Traffic"},1]
[]
[]
[null,null,null,null,null,null,null,null,null,null,null,null,null,null,null,null,null,null,null,null,"Luminaire","250W SON","250W SON","Materials","250W SON",{"$f":"IF(X155=\"Sub-Assemblies\",OFFSET($AG$48,MATCH(Y155,$AF$49:$AF$157,0),0),OFFSET('I_CAPEX - Stock Costs'!$C$12,MATCH(Y155,'I_CAPEX - Stock Costs'!$B$13:$B$384,0),0))","v":"250W SON"},1,null,519.83165459750967]
[null,null,null,null,null,null,null,null,null,null,null,null,null,null,null,null,null,null,null,null,null,null,null,"Sub-Assemblies","Luminaire Traffic",{"$f":"IF(X156=\"Sub-Assemblies\",OFFSET($AG$48,MATCH(Y156,$AF$49:$AF$157,0),0),OFFSET('I_CAPEX - Stock Costs'!$C$12,MATCH(Y156,'I_CAPEX - Stock Costs'!$B$13:$B$384,0),0))","v":"Streetlight Traditional Luminaire Assembly - Traffic"},1]
[]
[]
[null,null,null,null,null,null,null,null,null,null,null,null,null,null,null,null,null,null,null,null,"Luminaire","250W SON - PARKVILLE","250W SON - PARKVILLE","Materials","250W SON - PARKVILLE",{"$f":"IF(X159=\"Sub-Assemblies\",OFFSET($AG$48,MATCH(Y159,$AF$49:$AF$157,0),0),OFFSET('I_CAPEX - Stock Costs'!$C$12,MATCH(Y159,'I_CAPEX - Stock Costs'!$B$13:$B$384,0),0))","v":"250W SON - PARKVILLE"},1,null,1658.8639846979947]
[null,null,null,null,null,null,null,null,null,null,null,null,null,null,null,null,null,null,null,null,null,null,null,"Sub-Assemblies","Luminaire Traffic",{"$f":"IF(X160=\"Sub-Assemblies\",OFFSET($AG$48,MATCH(Y160,$AF$49:$AF$157,0),0),OFFSET('I_CAPEX - Stock Costs'!$C$12,MATCH(Y160,'I_CAPEX - Stock Costs'!$B$13:$B$384,0),0))","v":"Streetlight Traditional Luminaire Assembly - Traffic"},1]
[]
[]
[null,null,null,null,null,null,null,null,null,null,null,null,null,null,null,null,null,null,null,null,"Luminaire","250W SON - PARKWAY 1","250W SON - PARKWAY 1","Materials","250W SON - PARKWAY 1",{"$f":"IF(X163=\"Sub-Assemblies\",OFFSET($AG$48,MATCH(Y163,$AF$49:$AF$157,0),0),OFFSET('I_CAPEX - Stock Costs'!$C$12,MATCH(Y163,'I_CAPEX - Stock Costs'!$B$13:$B$384,0),0))","v":"250W SON - PARKWAY 1"},1,null,634.47280767333359]
[null,null,null,null,null,null,null,null,null,null,null,null,null,null,null,null,null,null,null,null,null,null,null,"Sub-Assemblies","Luminaire Traffic",{"$f":"IF(X164=\"Sub-Assemblies\",OFFSET($AG$48,MATCH(Y164,$AF$49:$AF$157,0),0),OFFSET('I_CAPEX - Stock Costs'!$C$12,MATCH(Y164,'I_CAPEX - Stock Costs'!$B$13:$B$384,0),0))","v":"Streetlight Traditional Luminaire Assembly - Traffic"},1]
[]
[]
[null,null,null,null,null,null,null,null,null,null,null,null,null,null,null,null,null,null,null,null,"Luminaire","250W SON ACTIVE REACTOR","250W SON ACTIVE REACTOR","Materials","250W SON ACTIVE REACTOR",{"$f":"IF(X167=\"Sub-Assemblies\",OFFSET($AG$48,MATCH(Y167,$AF$49:$AF$157,0),0),OFFSET('I_CAPEX - Stock Costs'!$C$12,MATCH(Y167,'I_CAPEX - Stock Costs'!$B$13:$B$384,0),0))","v":"250W SON ACTIVE REACTOR"},1,null,799.18710806963225]
[null,null,null,null,null,null,null,null,null,null,null,null,null,null,null,null,null,null,null,null,null,null,null,"Sub-Assemblies","Luminaire Traffic",{"$f":"IF(X168=\"Sub-Assemblies\",OFFSET($AG$48,MATCH(Y168,$AF$49:$AF$157,0),0),OFFSET('I_CAPEX - Stock Costs'!$C$12,MATCH(Y168,'I_CAPEX - Stock Costs'!$B$13:$B$384,0),0))","v":"Streetlight Traditional Luminaire Assembly - Traffic"},1]
[]
[]
[null,null,null,null,null,null,null,null,null,null,null,null,null,null,null,null,null,null,null,null,"Luminaire","250W SON FLOODLIGHT","250W SON FLOODLIGHT","Materials","250W SON FLOODLIGHT",{"$f":"IF(X171=\"Sub-Assemblies\",OFFSET($AG$48,MATCH(Y171,$AF$49:$AF$157,0),0),OFFSET('I_CAPEX - Stock Costs'!$C$12,MATCH(Y171,'I_CAPEX - Stock Costs'!$B$13:$B$384,0),0))","v":"250W SON FLOODLIGHT"},1,null,621.29566364162974]
[null,null,null,null,null,null,null,null,null,null,null,null,null,null,null,null,null,null,null,null,null,null,null,"Sub-Assemblies","Luminaire Traffic",{"$f":"IF(X172=\"Sub-Assemblies\",OFFSET($AG$48,MATCH(Y172,$AF$49:$AF$157,0),0),OFFSET('I_CAPEX - Stock Costs'!$C$12,MATCH(Y172,'I_CAPEX - Stock Costs'!$B$13:$B$384,0),0))","v":"Streetlight Traditional Luminaire Assembly - Traffic"},1]
[]
[]
[null,null,null,null,null,null,null,null,null,null,null,null,null,null,null,null,null,null,null,null,"Luminaire","250W SON GEC 'BOSTON 3'","250W SON GEC 'BOSTON 3'","Materials","250W SON GEC 'BOSTON 3'",{"$f":"IF(X175=\"Sub-Assemblies\",OFFSET($AG$48,MATCH(Y175,$AF$49:$AF$157,0),0),OFFSET('I_CAPEX - Stock Costs'!$C$12,MATCH(Y175,'I_CAPEX - Stock Costs'!$B$13:$B$384,0),0))","v":"250W SON GEC 'BOSTON 3'"},1,null,1420.0150719793296]
[null,null,null,null,null,null,null,null,null,null,null,null,null,null,null,null,null,null,null,null,null,null,null,"Sub-Assemblies","Luminaire Traffic",{"$f":"IF(X176=\"Sub-Assemblies\",OFFSET($AG$48,MATCH(Y176,$AF$49:$AF$157,0),0),OFFSET('I_CAPEX - Stock Costs'!$C$12,MATCH(Y176,'I_CAPEX - Stock Costs'!$B$13:$B$384,0),0))","v":"Streetlight Traditional Luminaire Assembly - Traffic"},1]
[]
[]
[null,null,null,null,null,null,null,null,null,null,null,null,null,null,null,null,null,null,null,null,"Luminaire","28W LED SY","28W LED SY","Materials","28W LED SY",{"$f":"IF(X179=\"Sub-Assemblies\",OFFSET($AG$48,MATCH(Y179,$AF$49:$AF$157,0),0),OFFSET('I_CAPEX - Stock Costs'!$C$12,MATCH(Y179,'I_CAPEX - Stock Costs'!$B$13:$B$384,0),0))","v":"28W LED SY"},1,null,519.35350881958493]
[null,null,null,null,null,null,null,null,null,null,null,null,null,null,null,null,null,null,null,null,null,null,null,"Sub-Assemblies","LED Non Traffic",{"$f":"IF(X180=\"Sub-Assemblies\",OFFSET($AG$48,MATCH(Y180,$AF$49:$AF$157,0),0),OFFSET('I_CAPEX - Stock Costs'!$C$12,MATCH(Y180,'I_CAPEX - Stock Costs'!$B$13:$B$384,0),0))","v":"Streetlight LED Luminaire Assembly - Non Traffic"},1]
[]
[]
[null,null,null,null,null,null,null,null,null,null,null,null,null,null,null,null,null,null,null,null,"Luminaire","298W LED ALD","298W LED ALD","Materials","298W LED ALD",{"$f":"IF(X183=\"Sub-Assemblies\",OFFSET($AG$48,MATCH(Y183,$AF$49:$AF$157,0),0),OFFSET('I_CAPEX - Stock Costs'!$C$12,MATCH(Y183,'I_CAPEX - Stock Costs'!$B$13:$B$384,0),0))","v":"298W LED ALD"},1,null,1279.1089279810478]
[null,null,null,null,null,null,null,null,null,null,null,null,null,null,null,null,null,null,null,null,null,null,null,"Sub-Assemblies","LED Traffic",{"$f":"IF(X184=\"Sub-Assemblies\",OFFSET($AG$48,MATCH(Y184,$AF$49:$AF$157,0),0),OFFSET('I_CAPEX - Stock Costs'!$C$12,MATCH(Y184,'I_CAPEX - Stock Costs'!$B$13:$B$384,0),0))","v":"Streetlight LED Luminaire Assembly - Traffic"},1]
[]
[]
[null,null,null,null,null,null,null,null,null,null,null,null,null,null,null,null,null,null,null,null,"Luminaire","2X14W TF - T5 PIERLIGHT","2X14W TF - T5 PIERLIGHT","Materials","2X14W TF - T5 PIERLIGHT",{"$f":"IF(X187=\"Sub-Assemblies\",OFFSET($AG$48,MATCH(Y187,$AF$49:$AF$157,0),0),OFFSET('I_CAPEX - Stock Costs'!$C$12,MATCH(Y187,'I_CAPEX - Stock Costs'!$B$13:$B$384,0),0))","v":"2X14W TF - T5 PIERLIGHT"},1,null,468.1113642730719]
[null,null,null,null,null,null,null,null,null,null,null,null,null,null,null,null,null,null,null,null,null,null,null,"Sub-Assemblies","Luminaire Non Traffic",{"$f":"IF(X188=\"Sub-Assemblies\",OFFSET($AG$48,MATCH(Y188,$AF$49:$AF$157,0),0),OFFSET('I_CAPEX - Stock Costs'!$C$12,MATCH(Y188,'I_CAPEX - Stock Costs'!$B$13:$B$384,0),0))","v":"Streetlight Traditional Luminaire Assembly - Non Traffic"},1]
[]
[]
[null,null,null,null,null,null,null,null,null,null,null,null,null,null,null,null,null,null,null,null,"Luminaire","33W LED LRL","33W LED LRL","Materials","33W LED LRL",{"$f":"IF(X191=\"Sub-Assemblies\",OFFSET($AG$48,MATCH(Y191,$AF$49:$AF$157,0),0),OFFSET('I_CAPEX - Stock Costs'!$C$12,MATCH(Y191,'I_CAPEX - Stock Costs'!$B$13:$B$384,0),0))","v":"33W LED LRL"},1,null,568.17791663403636]
[null,null,null,null,null,null,null,null,null,null,null,null,null,null,null,null,null,null,null,null,null,null,null,"Sub-Assemblies","LED Non Traffic",{"$f":"IF(X192=\"Sub-Assemblies\",OFFSET($AG$48,MATCH(Y192,$AF$49:$AF$157,0),0),OFFSET('I_CAPEX - Stock Costs'!$C$12,MATCH(Y192,'I_CAPEX - Stock Costs'!$B$13:$B$384,0),0))","v":"Streetlight LED Luminaire Assembly - Non Traffic"},1]
[]
[]
[null,null,null,null,null,null,null,null,null,null,null,null,null,null,null,null,null,null,null,null,"Luminaire","4x250W SON","4x250W SON","Materials","4x250W SON",{"$f":"IF(X195=\"Sub-Assemblies\",OFFSET($AG$48,MATCH(Y195,$AF$49:$AF$157,0),0),OFFSET('I_CAPEX - Stock Costs'!$C$12,MATCH(Y195,'I_CAPEX - Stock Costs'!$B$13:$B$384,0),0))","v":"4x250W SON"},1,null,1027.5206598509974]
[null,null,null,null,null,null,null,null,null,null,null,null,null,null,null,null,null,null,null,null,null,null,null,"Sub-Assemblies","Luminaire Traffic",{"$f":"IF(X196=\"Sub-Assemblies\",OFFSET($AG$48,MATCH(Y196,$AF$49:$AF$157,0),0),OFFSET('I_CAPEX - Stock Costs'!$C$12,MATCH(Y196,'I_CAPEX - Stock Costs'!$B$13:$B$384,0),0))","v":"Streetlight Traditional Luminaire Assembly - Traffic"},1]
[]
[]
[null,null,null,null,null,null,null,null,null,null,null,null,null,null,null,null,null,null,null,null,"Luminaire","4x600W SON","4x600W SON","Materials","4x600W SON",{"$f":"IF(X199=\"Sub-Assemblies\",OFFSET($AG$48,MATCH(Y199,$AF$49:$AF$157,0),0),OFFSET('I_CAPEX - Stock Costs'!$C$12,MATCH(Y199,'I_CAPEX - Stock Costs'!$B$13:$B$384,0),0))","v":"4x600W SON"},1,null,1602.9928940035702]
[null,null,null,null,null,null,null,null,null,null,null,null,null,null,null,null,null,null,null,null,null,null,null,"Sub-Assemblies","Luminaire Traffic",{"$f":"IF(X200=\"Sub-Assemblies\",OFFSET($AG$48,MATCH(Y200,$AF$49:$AF$157,0),0),OFFSET('I_CAPEX - Stock Costs'!$C$12,MATCH(Y200,'I_CAPEX - Stock Costs'!$B$13:$B$384,0),0))","v":"Streetlight Traditional Luminaire Assembly - Traffic"},1]
[]
[]
[null,null,null,null,null,null,null,null,null,null,null,null,null,null,null,null,null,null,null,null,"Luminaire","400W MBF","400W MBF","Materials","400W MBF",{"$f":"IF(X203=\"Sub-Assemblies\",OFFSET($AG$48,MATCH(Y203,$AF$49:$AF$157,0),0),OFFSET('I_CAPEX - Stock Costs'!$C$12,MATCH(Y203,'I_CAPEX - Stock Costs'!$B$13:$B$384,0),0))","v":"400W MBF"},1,null,392.93575757220117]
[null,null,null,null,null,null,null,null,null,null,null,null,null,null,null,null,null,null,null,null,null,null,null,"Sub-Assemblies","Luminaire Traffic",{"$f":"IF(X204=\"Sub-Assemblies\",OFFSET($AG$48,MATCH(Y204,$AF$49:$AF$157,0),0),OFFSET('I_CAPEX - Stock Costs'!$C$12,MATCH(Y204,'I_CAPEX - Stock Costs'!$B$13:$B$384,0),0))","v":"Streetlight Traditional Luminaire Assembly - Traffic"},1]
[]
[]
[null,null,null,null,null,null,null,null,null,null,null,null,null,null,null,null,null,null,null,null,"Luminaire","400W MBF - B2229","400W MBF - B2229","Materials","400W MBF - B2229",{"$f":"IF(X207=\"Sub-Assemblies\",OFFSET($AG$48,MATCH(Y207,$AF$49:$AF$157,0),0),OFFSET('I_CAPEX - Stock Costs'!$C$12,MATCH(Y207,'I_CAPEX - Stock Costs'!$B$13:$B$384,0),0))","v":"400W MBF - B2229"},1,null,392.93575757220117]
[null,null,null,null,null,null,null,null,null,null,null,null,null,null,null,null,null,null,null,null,null,null,null,"Sub-Assemblies","Luminaire Traffic",{"$f":"IF(X208=\"Sub-Assemblies\",OFFSET($AG$48,MATCH(Y208,$AF$49:$AF$157,0),0),OFFSET('I_CAPEX - Stock Costs'!$C$12,MATCH(Y208,'I_CAPEX - Stock Costs'!$B$13:$B$384,0),0))","v":"Streetlight Traditional Luminaire Assembly - Traffic"},1]
[]
[]
[null,null,null,null,null,null,null,null,null,null,null,null,null,null,null,null,null,null,null,null,"Luminaire","400W MBF - PARKWAY 1","400W MBF - PARKWAY 1","Materials","400W MBF - PARKWAY 1",{"$f":"IF(X211=\"Sub-Assemblies\",OFFSET($AG$48,MATCH(Y211,$AF$49:$AF$157,0),0),OFFSET('I_CAPEX - Stock Costs'!$C$12,MATCH(Y211,'I_CAPEX - Stock Costs'!$B$13:$B$384,0),0))","v":"400W MBF - PARKWAY 1"},1,null,864.22101710471452]
[null,null,null,null,null,null,null,null,null,null,null,null,null,null,null,null,null,null,null,null,null,null,null,"Sub-Assemblies","Luminaire Traffic",{"$f":"IF(X212=\"Sub-Assemblies\",OFFSET($AG$48,MATCH(Y212,$AF$49:$AF$157,0),0),OFFSET('I_CAPEX - Stock Costs'!$C$12,MATCH(Y212,'I_CAPEX - Stock Costs'!$B$13:$B$384,0),0))","v":"Streetlight Traditional Luminaire Assembly - Traffic"},1]
[]
[]
[null,null,null,null,null,null,null,null,null,null,null,null,null,null,null,null,null,null,null,null,"Luminaire","400W MBF FLOODLIGHT","400W MBF FLOODLIGHT","Materials","400W MBF FLOODLIGHT",{"$f":"IF(X215=\"Sub-Assemblies\",OFFSET($AG$48,MATCH(Y215,$AF$49:$AF$157,0),0),OFFSET('I_CAPEX - Stock Costs'!$C$12,MATCH(Y215,'I_CAPEX - Stock Costs'!$B$13:$B$384,0),0))","v":"400W MBF FLOODLIGHT"},1,null,956.34177176936066]
[null,null,null,null,null,null,null,null,null,null,null,null,null,null,null,null,null,null,null,null,null,null,null,"Sub-Assemblies","Luminaire Traffic",{"$f":"IF(X216=\"Sub-Assemblies\",OFFSET($AG$48,MATCH(Y216,$AF$49:$AF$157,0),0),OFFSET('I_CAPEX - Stock Costs'!$C$12,MATCH(Y216,'I_CAPEX - Stock Costs'!$B$13:$B$384,0),0))","v":"Streetlight Traditional Luminaire Assembly - Traffic"},1]
[]
[]
[null,null,null,null,null,null,null,null,null,null,null,null,null,null,null,null,null,null,null,null,"Luminaire","400W MBI FLOODLIGHT","400W MBI FLOODLIGHT","Materials","400W MBI FLOODLIGHT",{"$f":"IF(X219=\"Sub-Assemblies\",OFFSET($AG$48,MATCH(Y219,$AF$49:$AF$157,0),0),OFFSET('I_CAPEX - Stock Costs'!$C$12,MATCH(Y219,'I_CAPEX - Stock Costs'!$B$13:$B$384,0),0))","v":"400W MBI FLOODLIGHT"},1,null,736.99098823998986]
[null,null,null,null,null,null,null,null,null,null,null,null,null,null,null,null,null,null,null,null,null,null,null,"Sub-Assemblies","Luminaire Traffic",{"$f":"IF(X220=\"Sub-Assemblies\",OFFSET($AG$48,MATCH(Y220,$AF$49:$AF$157,0),0),OFFSET('I_CAPEX - Stock Costs'!$C$12,MATCH(Y220,'I_CAPEX - Stock Costs'!$B$13:$B$384,0),0))","v":"Streetlight Traditional Luminaire Assembly - Traffic"},1]
[]
[]
[null,null,null,null,null,null,null,null,null,null,null,null,null,null,null,null,null,null,null,null,"Luminaire","400W SON","400W SON","Materials","400W SON",{"$f":"IF(X223=\"Sub-Assemblies\",OFFSET($AG$48,MATCH(Y223,$AF$49:$AF$157,0),0),OFFSET('I_CAPEX - Stock Costs'!$C$12,MATCH(Y223,'I_CAPEX - Stock Costs'!$B$13:$B$384,0),0))","v":"400W SON"},1,null,571.2225163211549]
[null,null,null,null,null,null,null,null,null,null,null,null,null,null,null,null,null,null,null,null,null,null,null,"Sub-Assemblies","Luminaire Traffic",{"$f":"IF(X224=\"Sub-Assemblies\",OFFSET($AG$48,MATCH(Y224,$AF$49:$AF$157,0),0),OFFSET('I_CAPEX - Stock Costs'!$C$12,MATCH(Y224,'I_CAPEX - Stock Costs'!$B$13:$B$384,0),0))","v":"Streetlight Traditional Luminaire Assembly - Traffic"},1]
[]
[]
[null,null,null,null,null,null,null,null,null,null,null,null,null,null,null,null,null,null,null,null,"Luminaire","400W SON - PARKWAY 1","400W SON - PARKWAY 1","Materials","400W SON - PARKWAY 1",{"$f":"IF(X227=\"Sub-Assemblies\",OFFSET($AG$48,MATCH(Y227,$AF$49:$AF$157,0),0),OFFSET('I_CAPEX - Stock Costs'!$C$12,MATCH(Y227,'I_CAPEX - Stock Costs'!$B$13:$B$384,0),0))","v":"400W SON - PARKWAY 1"},1,null,634.47280767333359]
[null,null,null,null,null,null,null,null,null,null,null,null,null,null,null,null,null,null,null,null,null,null,null,"Sub-Assemblies","Luminaire Traffic",{"$f":"IF(X228=\"Sub-Assemblies\",OFFSET($AG$48,MATCH(Y228,$AF$49:$AF$157,0),0),OFFSET('I_CAPEX - Stock Costs'!$C$12,MATCH(Y228,'I_CAPEX - Stock Costs'!$B$13:$B$384,0),0))","v":"Streetlight Traditional Luminaire Assembly - Traffic"},1]
[]
[]
[null,null,null,null,null,null,null,null,null,null,null,null,null,null,null,null,null,null,null,null,"Luminaire","400W SON ACTIVE REACTOR","400W SON ACTIVE REACTOR","Materials","400W SON ACTIVE REACTOR",{"$f":"IF(X231=\"Sub-Assemblies\",OFFSET($AG$48,MATCH(Y231,$AF$49:$AF$157,0),0),OFFSET('I_CAPEX - Stock Costs'!$C$12,MATCH(Y231,'I_CAPEX - Stock Costs'!$B$13:$B$384,0),0))","v":"400W SON ACTIVE REACTOR"},1,null,904.60426032326359]
[null,null,null,null,null,null,null,null,null,null,null,null,null,null,null,null,null,null,null,null,null,null,null,"Sub-Assemblies","Luminaire Traffic",{"$f":"IF(X232=\"Sub-Assemblies\",OFFSET($AG$48,MATCH(Y232,$AF$49:$AF$157,0),0),OFFSET('I_CAPEX - Stock Costs'!$C$12,MATCH(Y232,'I_CAPEX - Stock Costs'!$B$13:$B$384,0),0))","v":"Streetlight Traditional Luminaire Assembly - Traffic"},1]
[]
[]
[null,null,null,null,null,null,null,null,null,null,null,null,null,null,null,null,null,null,null,null,"Luminaire","400W SON FLOODLIGHT","400W SON FLOODLIGHT","Materials","400W SON FLOODLIGHT",{"$f":"IF(X235=\"Sub-Assemblies\",OFFSET($AG$48,MATCH(Y235,$AF$49:$AF$157,0),0),OFFSET('I_CAPEX - Stock Costs'!$C$12,MATCH(Y235,'I_CAPEX - Stock Costs'!$B$13:$B$384,0),0))","v":"400W SON FLOODLIGHT"},1,null,621.29566364162974]
[null,null,null,null,null,null,null,null,null,null,null,null,null,null,null,null,null,null,null,null,null,null,null,"Sub-Assemblies","Luminaire Traffic",{"$f":"IF(X236=\"Sub-Assemblies\",OFFSET($AG$48,MATCH(Y236,$AF$49:$AF$157,0),0),OFFSET('I_CAPEX - Stock Costs'!$C$12,MATCH(Y236,'I_CAPEX - Stock Costs'!$B$13:$B$384,0),0))","v":"Streetlight Traditional Luminaire Assembly - Traffic"},1]
[]
[]
[null,null,null,null,null,null,null,null,null,null,null,null,null,null,null,null,null,null,null,null,"Luminaire","42W LED LRL","42W LED LRL","Materials","42W LED LRL",{"$f":"IF(X239=\"Sub-Assemblies\",OFFSET($AG$48,MATCH(Y239,$AF$49:$AF$157,0),0),OFFSET('I_CAPEX - Stock Costs'!$C$12,MATCH(Y239,'I_CAPEX - Stock Costs'!$B$13:$B$384,0),0))","v":"42W LED LRL"},1,null,624.14735973840743]
[null,null,null,null,null,null,null,null,null,null,null,null,null,null,null,null,null,null,null,null,null,null,null,"Sub-Assemblies","LED Traffic",{"$f":"IF(X240=\"Sub-Assemblies\",OFFSET($AG$48,MATCH(Y240,$AF$49:$AF$157,0),0),OFFSET('I_CAPEX - Stock Costs'!$C$12,MATCH(Y240,'I_CAPEX - Stock Costs'!$B$13:$B$384,0),0))","v":"Streetlight LED Luminaire Assembly - Traffic"},1]
[]
[]
[null,null,null,null,null,null,null,null,null,null,null,null,null,null,null,null,null,null,null,null,"Luminaire","42W MBF SYLVANIA SUB ECO","42W MBF SYLVANIA SUB ECO","Materials","42W MBF SYLVANIA SUB ECO",{"$f":"IF(X243=\"Sub-Assemblies\",OFFSET($AG$48,MATCH(Y243,$AF$49:$AF$157,0),0),OFFSET('I_CAPEX - Stock Costs'!$C$12,MATCH(Y243,'I_CAPEX - Stock Costs'!$B$13:$B$384,0),0))","v":"42W MBF SYLVANIA SUB ECO"},1,null,430.22707518192323]
[null,null,null,null,null,null,null,null,null,null,null,null,null,null,null,null,null,null,null,null,null,null,null,"Sub-Assemblies","Luminaire Non Traffic",{"$f":"IF(X244=\"Sub-Assemblies\",OFFSET($AG$48,MATCH(Y244,$AF$49:$AF$157,0),0),OFFSET('I_CAPEX - Stock Costs'!$C$12,MATCH(Y244,'I_CAPEX - Stock Costs'!$B$13:$B$384,0),0))","v":"Streetlight Traditional Luminaire Assembly - Non Traffic"},1]
[]
[]
[null,null,null,null,null,null,null,null,null,null,null,null,null,null,null,null,null,null,null,null,"Luminaire","50W MBF","50W MBF","Materials","50W MBF",{"$f":"IF(X247=\"Sub-Assemblies\",OFFSET($AG$48,MATCH(Y247,$AF$49:$AF$157,0),0),OFFSET('I_CAPEX - Stock Costs'!$C$12,MATCH(Y247,'I_CAPEX - Stock Costs'!$B$13:$B$384,0),0))","v":"50W MBF"},1,null,324.80992292829205]
[null,null,null,null,null,null,null,null,null,null,null,null,null,null,null,null,null,null,null,null,null,null,null,"Sub-Assemblies","Luminaire Non Traffic",{"$f":"IF(X248=\"Sub-Assemblies\",OFFSET($AG$48,MATCH(Y248,$AF$49:$AF$157,0),0),OFFSET('I_CAPEX - Stock Costs'!$C$12,MATCH(Y248,'I_CAPEX - Stock Costs'!$B$13:$B$384,0),0))","v":"Streetlight Traditional Luminaire Assembly - Non Traffic"},1]
[]
[]
[null,null,null,null,null,null,null,null,null,null,null,null,null,null,null,null,null,null,null,null,"Luminaire","50W MBF - BOURKE HILL","50W MBF - BOURKE HILL","Materials","50W MBF - BOURKE HILL",{"$f":"IF(X251=\"Sub-Assemblies\",OFFSET($AG$48,MATCH(Y251,$AF$49:$AF$157,0),0),OFFSET('I_CAPEX - Stock Costs'!$C$12,MATCH(Y251,'I_CAPEX - Stock Costs'!$B$13:$B$384,0),0))","v":"50W MBF - BOURKE HILL"},1,null,963.9014084659309]
[null,null,null,null,null,null,null,null,null,null,null,null,null,null,null,null,null,null,null,null,null,null,null,"Sub-Assemblies","Luminaire Non Traffic",{"$f":"IF(X252=\"Sub-Assemblies\",OFFSET($AG$48,MATCH(Y252,$AF$49:$AF$157,0),0),OFFSET('I_CAPEX - Stock Costs'!$C$12,MATCH(Y252,'I_CAPEX - Stock Costs'!$B$13:$B$384,0),0))","v":"Streetlight Traditional Luminaire Assembly - Non Traffic"},1]
[]
[]
[null,null,null,null,null,null,null,null,null,null,null,null,null,null,null,null,null,null,null,null,"Luminaire","50W MBF - NOSTALGIA","50W MBF - NOSTALGIA","Materials","50W MBF - NOSTALGIA",{"$f":"IF(X255=\"Sub-Assemblies\",OFFSET($AG$48,MATCH(Y255,$AF$49:$AF$157,0),0),OFFSET('I_CAPEX - Stock Costs'!$C$12,MATCH(Y255,'I_CAPEX - Stock Costs'!$B$13:$B$384,0),0))","v":"50W MBF - NOSTALGIA"},1,null,963.9014084659309]
[null,null,null,null,null,null,null,null,null,null,null,null,null,null,null,null,null,null,null,null,null,null,null,"Sub-Assemblies","Luminaire Non Traffic",{"$f":"IF(X256=\"Sub-Assemblies\",OFFSET($AG$48,MATCH(Y256,$AF$49:$AF$157,0),0),OFFSET('I_CAPEX - Stock Costs'!$C$12,MATCH(Y256,'I_CAPEX - Stock Costs'!$B$13:$B$384,0),0))","v":"Streetlight Traditional Luminaire Assembly - Non Traffic"},1]
[]
[]
[null,null,null,null,null,null,null,null,null,null,null,null,null,null,null,null,null,null,null,null,"Luminaire","50W MBF - PLAIN","50W MBF - PLAIN","Materials","50W MBF - PLAIN",{"$f":"IF(X259=\"Sub-Assemblies\",OFFSET($AG$48,MATCH(Y259,$AF$49:$AF$157,0),0),OFFSET('I_CAPEX - Stock Costs'!$C$12,MATCH(Y259,'I_CAPEX - Stock Costs'!$B$13:$B$384,0),0))","v":"50W MBF - PLAIN"},1,null,324.80992292829205]
[null,null,null,null,null,null,null,null,null,null,null,null,null,null,null,null,null,null,null,null,null,null,null,"Sub-Assemblies","Luminaire Non Traffic",{"$f":"IF(X260=\"Sub-Assemblies\",OFFSET($AG$48,MATCH(Y260,$AF$49:$AF$157,0),0),OFFSET('I_CAPEX - Stock Costs'!$C$12,MATCH(Y260,'I_CAPEX - Stock Costs'!$B$13:$B$384,0),0))","v":"Streetlight Traditional Luminaire Assembly - Non Traffic"},1]
[]
[]
[null,null,null,null,null,null,null,null,null,null,null,null,null,null,null,null,null,null,null,null,"Luminaire","50W SON","50W SON","Materials","50W SON",{"$f":"IF(X263=\"Sub-Assemblies\",OFFSET($AG$48,MATCH(Y263,$AF$49:$AF$157,0),0),OFFSET('I_CAPEX - Stock Costs'!$C$12,MATCH(Y263,'I_CAPEX - Stock Costs'!$B$13:$B$384,0),0))","v":"50W SON"},1,null,314.26820770292892]
[null,null,null,null,null,null,null,null,null,null,null,null,null,null,null,null,null,null,null,null,null,null,null,"Sub-Assemblies","Luminaire Non Traffic",{"$f":"IF(X264=\"Sub-Assemblies\",OFFSET($AG$48,MATCH(Y264,$AF$49:$AF$157,0),0),OFFSET('I_CAPEX - Stock Costs'!$C$12,MATCH(Y264,'I_CAPEX - Stock Costs'!$B$13:$B$384,0),0))","v":"Streetlight Traditional Luminaire Assembly - Non Traffic"},1]
[]
[]
[null,null,null,null,null,null,null,null,null,null,null,null,null,null,null,null,null,null,null,null,"Luminaire","50W SON - NOSTALGIA","50W SON - NOSTALGIA","Materials","50W SON - NOSTALGIA",{"$f":"IF(X267=\"Sub-Assemblies\",OFFSET($AG$48,MATCH(Y267,$AF$49:$AF$157,0),0),OFFSET('I_CAPEX - Stock Costs'!$C$12,MATCH(Y267,'I_CAPEX - Stock Costs'!$B$13:$B$384,0),0))","v":"50W SON - NOSTALGIA"},1,null,489.52422332459071]
[null,null,null,null,null,null,null,null,null,null,null,null,null,null,null,null,null,null,null,null,null,null,null,"Sub-Assemblies","Luminaire Non Traffic",{"$f":"IF(X268=\"Sub-Assemblies\",OFFSET($AG$48,MATCH(Y268,$AF$49:$AF$157,0),0),OFFSET('I_CAPEX - Stock Costs'!$C$12,MATCH(Y268,'I_CAPEX - Stock Costs'!$B$13:$B$384,0),0))","v":"Streetlight Traditional Luminaire Assembly - Non Traffic"},1]
[]
[]
[null,null,null,null,null,null,null,null,null,null,null,null,null,null,null,null,null,null,null,null,"Luminaire","50W SON - PLAIN","50W SON - PLAIN","Materials","50W SON - PLAIN",{"$f":"IF(X271=\"Sub-Assemblies\",OFFSET($AG$48,MATCH(Y271,$AF$49:$AF$157,0),0),OFFSET('I_CAPEX - Stock Costs'!$C$12,MATCH(Y271,'I_CAPEX - Stock Costs'!$B$13:$B$384,0),0))","v":"50W SON - PLAIN"},1,null,314.26820770292892]
[null,null,null,null,null,null,null,null,null,null,null,null,null,null,null,null,null,null,null,null,null,null,null,"Sub-Assemblies","Luminaire Non Traffic",{"$f":"IF(X272=\"Sub-Assemblies\",OFFSET($AG$48,MATCH(Y272,$AF$49:$AF$157,0),0),OFFSET('I_CAPEX - Stock Costs'!$C$12,MATCH(Y272,'I_CAPEX - Stock Costs'!$B$13:$B$384,0),0))","v":"Streetlight Traditional Luminaire Assembly - Non Traffic"},1]
[]
[]
[null,null,null,null,null,null,null,null,null,null,null,null,null,null,null,null,null,null,null,null,"Luminaire","70W MBI","70W MBI","Materials","70W MBI",{"$f":"IF(X275=\"Sub-Assemblies\",OFFSET($AG$48,MATCH(Y275,$AF$49:$AF$157,0),0),OFFSET('I_CAPEX - Stock Costs'!$C$12,MATCH(Y275,'I_CAPEX - Stock Costs'!$B$13:$B$384,0),0))","v":"70W MBI"},1,null,405.95477587552466]
[null,null,null,null,null,null,null,null,null,null,null,null,null,null,null,null,null,null,null,null,null,null,null,"Sub-Assemblies","Luminaire Non Traffic",{"$f":"IF(X276=\"Sub-Assemblies\",OFFSET($AG$48,MATCH(Y276,$AF$49:$AF$157,0),0),OFFSET('I_CAPEX - Stock Costs'!$C$12,MATCH(Y276,'I_CAPEX - Stock Costs'!$B$13:$B$384,0),0))","v":"Streetlight Traditional Luminaire Assembly - Non Traffic"},1]
[]
[]
[null,null,null,null,null,null,null,null,null,null,null,null,null,null,null,null,null,null,null,null,"Luminaire","70W MBI - MACQUARIE DEC.","70W MBI - MACQUARIE DEC.","Materials","70W MBI - MACQUARIE DEC.",{"$f":"IF(X279=\"Sub-Assemblies\",OFFSET($AG$48,MATCH(Y279,$AF$49:$AF$157,0),0),OFFSET('I_CAPEX - Stock Costs'!$C$12,MATCH(Y279,'I_CAPEX - Stock Costs'!$B$13:$B$384,0),0))","v":"70W MBI - MACQUARIE DEC."},1,null,1565.2799077848335]
[null,null,null,null,null,null,null,null,null,null,null,null,null,null,null,null,null,null,null,null,null,null,null,"Sub-Assemblies","Luminaire Non Traffic",{"$f":"IF(X280=\"Sub-Assemblies\",OFFSET($AG$48,MATCH(Y280,$AF$49:$AF$157,0),0),OFFSET('I_CAPEX - Stock Costs'!$C$12,MATCH(Y280,'I_CAPEX - Stock Costs'!$B$13:$B$384,0),0))","v":"Streetlight Traditional Luminaire Assembly - Non Traffic"},1]
[]
[]
[null,null,null,null,null,null,null,null,null,null,null,null,null,null,null,null,null,null,null,null,"Luminaire","70W MBI II","70W MBI II","Materials","70W MBI II",{"$f":"IF(X283=\"Sub-Assemblies\",OFFSET($AG$48,MATCH(Y283,$AF$49:$AF$157,0),0),OFFSET('I_CAPEX - Stock Costs'!$C$12,MATCH(Y283,'I_CAPEX - Stock Costs'!$B$13:$B$384,0),0))","v":"70W MBI II"},1,null,357.75278300755178]
[null,null,null,null,null,null,null,null,null,null,null,null,null,null,null,null,null,null,null,null,null,null,null,"Sub-Assemblies","Luminaire Non Traffic",{"$f":"IF(X284=\"Sub-Assemblies\",OFFSET($AG$48,MATCH(Y284,$AF$49:$AF$157,0),0),OFFSET('I_CAPEX - Stock Costs'!$C$12,MATCH(Y284,'I_CAPEX - Stock Costs'!$B$13:$B$384,0),0))","v":"Streetlight Traditional Luminaire Assembly - Non Traffic"},1]
[]
[]
[null,null,null,null,null,null,null,null,null,null,null,null,null,null,null,null,null,null,null,null,"Luminaire","70W MBI II AERO","70W MBI II AERO","Materials","70W MBI II AERO",{"$f":"IF(X287=\"Sub-Assemblies\",OFFSET($AG$48,MATCH(Y287,$AF$49:$AF$157,0),0),OFFSET('I_CAPEX - Stock Costs'!$C$12,MATCH(Y287,'I_CAPEX - Stock Costs'!$B$13:$B$384,0),0))","v":"70W MBI II AERO"},1,null,370.92992703925563]
[null,null,null,null,null,null,null,null,null,null,null,null,null,null,null,null,null,null,null,null,null,null,null,"Sub-Assemblies","Luminaire Non Traffic",{"$f":"IF(X288=\"Sub-Assemblies\",OFFSET($AG$48,MATCH(Y288,$AF$49:$AF$157,0),0),OFFSET('I_CAPEX - Stock Costs'!$C$12,MATCH(Y288,'I_CAPEX - Stock Costs'!$B$13:$B$384,0),0))","v":"Streetlight Traditional Luminaire Assembly - Non Traffic"},1]
[]
[]
[null,null,null,null,null,null,null,null,null,null,null,null,null,null,null,null,null,null,null,null,"Luminaire","70W SON","70W SON","Materials","70W SON",{"$f":"IF(X291=\"Sub-Assemblies\",OFFSET($AG$48,MATCH(Y291,$AF$49:$AF$157,0),0),OFFSET('I_CAPEX - Stock Costs'!$C$12,MATCH(Y291,'I_CAPEX - Stock Costs'!$B$13:$B$384,0),0))","v":"70W SON"},1,null,356.4350686043814]
[null,null,null,null,null,null,null,null,null,null,null,null,null,null,null,null,null,null,null,null,null,null,null,"Sub-Assemblies","Luminaire Non Traffic",{"$f":"IF(X292=\"Sub-Assemblies\",OFFSET($AG$48,MATCH(Y292,$AF$49:$AF$157,0),0),OFFSET('I_CAPEX - Stock Costs'!$C$12,MATCH(Y292,'I_CAPEX - Stock Costs'!$B$13:$B$384,0),0))","v":"Streetlight Traditional Luminaire Assembly - Non Traffic"},1]
[]
[]
[null,null,null,null,null,null,null,null,null,null,null,null,null,null,null,null,null,null,null,null,"Luminaire","70W SON - BOURKE HILL","70W SON - BOURKE HILL","Materials","70W SON - BOURKE HILL",{"$f":"IF(X295=\"Sub-Assemblies\",OFFSET($AG$48,MATCH(Y295,$AF$49:$AF$157,0),0),OFFSET('I_CAPEX - Stock Costs'!$C$12,MATCH(Y295,'I_CAPEX - Stock Costs'!$B$13:$B$384,0),0))","v":"70W SON - BOURKE HILL"},1,null,1077.8046414759795]
[null,null,null,null,null,null,null,null,null,null,null,null,null,null,null,null,null,null,null,null,null,null,null,"Sub-Assemblies","Luminaire Non Traffic",{"$f":"IF(X296=\"Sub-Assemblies\",OFFSET($AG$48,MATCH(Y296,$AF$49:$AF$157,0),0),OFFSET('I_CAPEX - Stock Costs'!$C$12,MATCH(Y296,'I_CAPEX - Stock Costs'!$B$13:$B$384,0),0))","v":"Streetlight Traditional Luminaire Assembly - Non Traffic"},1]
[]
[]
[null,null,null,null,null,null,null,null,null,null,null,null,null,null,null,null,null,null,null,null,"Luminaire","70W SON - NOSTALGIA","70W SON - NOSTALGIA","Materials","70W SON - NOSTALGIA",{"$f":"IF(X299=\"Sub-Assemblies\",OFFSET($AG$48,MATCH(Y299,$AF$49:$AF$157,0),0),OFFSET('I_CAPEX - Stock Costs'!$C$12,MATCH(Y299,'I_CAPEX - Stock Costs'!$B$13:$B$384,0),0))","v":"70W SON - NOSTALGIA"},1,null,1005.1722235732277]
[null,null,null,null,null,null,null,null,null,null,null,null,null,null,null,null,null,null,null,null,null,null,null,"Sub-Assemblies","Luminaire Non Traffic",{"$f":"IF(X300=\"Sub-Assemblies\",OFFSET($AG$48,MATCH(Y300,$AF$49:$AF$157,0),0),OFFSET('I_CAPEX - Stock Costs'!$C$12,MATCH(Y300,'I_CAPEX - Stock Costs'!$B$13:$B$384,0),0))","v":"Streetlight Traditional Luminaire Assembly - Non Traffic"},1]
[]
[]
[null,null,null,null,null,null,null,null,null,null,null,null,null,null,null,null,null,null,null,null,"Luminaire","70W SON - PARKVILLE","70W SON - PARKVILLE","Materials","70W SON - PARKVILLE",{"$f":"IF(X303=\"Sub-Assemblies\",OFFSET($AG$48,MATCH(Y303,$AF$49:$AF$157,0),0),OFFSET('I_CAPEX - Stock Costs'!$C$12,MATCH(Y303,'I_CAPEX - Stock Costs'!$B$13:$B$384,0),0))","v":"70W SON - PARKVILLE"},1,null,1260.3871491792688]
[null,null,null,null,null,null,null,null,null,null,null,null,null,null,null,null,null,null,null,null,null,null,null,"Sub-Assemblies","Luminaire Non Traffic",{"$f":"IF(X304=\"Sub-Assemblies\",OFFSET($AG$48,MATCH(Y304,$AF$49:$AF$157,0),0),OFFSET('I_CAPEX - Stock Costs'!$C$12,MATCH(Y304,'I_CAPEX - Stock Costs'!$B$13:$B$384,0),0))","v":"Streetlight Traditional Luminaire Assembly - Non Traffic"},1]
[]
[]
[null,null,null,null,null,null,null,null,null,null,null,null,null,null,null,null,null,null,null,null,"Luminaire","70W SON BOLLARD","70W SON BOLLARD","Materials","70W SON BOLLARD",{"$f":"IF(X307=\"Sub-Assemblies\",OFFSET($AG$48,MATCH(Y307,$AF$49:$AF$157,0),0),OFFSET('I_CAPEX - Stock Costs'!$C$12,MATCH(Y307,'I_CAPEX - Stock Costs'!$B$13:$B$384,0),0))","v":"70W SON BOLLARD"},1,null,767.72008812192337]
[null,null,null,null,null,null,null,null,null,null,null,null,null,null,null,null,null,null,null,null,null,null,null,"Sub-Assemblies","Luminaire Non Traffic",{"$f":"IF(X308=\"Sub-Assemblies\",OFFSET($AG$48,MATCH(Y308,$AF$49:$AF$157,0),0),OFFSET('I_CAPEX - Stock Costs'!$C$12,MATCH(Y308,'I_CAPEX - Stock Costs'!$B$13:$B$384,0),0))","v":"Streetlight Traditional Luminaire Assembly - Non Traffic"},1]
[]
[]
[null,null,null,null,null,null,null,null,null,null,null,null,null,null,null,null,null,null,null,null,"Luminaire","70W SON FLOODLIGHT","70W SON FLOODLIGHT","Materials","70W SON FLOODLIGHT",{"$f":"IF(X311=\"Sub-Assemblies\",OFFSET($AG$48,MATCH(Y311,$AF$49:$AF$157,0),0),OFFSET('I_CAPEX - Stock Costs'!$C$12,MATCH(Y311,'I_CAPEX - Stock Costs'!$B$13:$B$384,0),0))","v":"70W SON FLOODLIGHT"},1,null,429.49047283055097]
[null,null,null,null,null,null,null,null,null,null,null,null,null,null,null,null,null,null,null,null,null,null,null,"Sub-Assemblies","Luminaire Non Traffic",{"$f":"IF(X312=\"Sub-Assemblies\",OFFSET($AG$48,MATCH(Y312,$AF$49:$AF$157,0),0),OFFSET('I_CAPEX - Stock Costs'!$C$12,MATCH(Y312,'I_CAPEX - Stock Costs'!$B$13:$B$384,0),0))","v":"Streetlight Traditional Luminaire Assembly - Non Traffic"},1]
[]
[]
[null,null,null,null,null,null,null,null,null,null,null,null,null,null,null,null,null,null,null,null,"Luminaire","70W SON - PLAIN","70W SON - PLAIN","Materials","70W SON - PLAIN",{"$f":"IF(X315=\"Sub-Assemblies\",OFFSET($AG$48,MATCH(Y315,$AF$49:$AF$157,0),0),OFFSET('I_CAPEX - Stock Costs'!$C$12,MATCH(Y315,'I_CAPEX - Stock Costs'!$B$13:$B$384,0),0))","v":"70W SON - PLAIN"},1,null,356.4350686043814]
[null,null,null,null,null,null,null,null,null,null,null,null,null,null,null,null,null,null,null,null,null,null,null,"Sub-Assemblies","Luminaire Non Traffic",{"$f":"IF(X316=\"Sub-Assemblies\",OFFSET($AG$48,MATCH(Y316,$AF$49:$AF$157,0),0),OFFSET('I_CAPEX - Stock Costs'!$C$12,MATCH(Y316,'I_CAPEX - Stock Costs'!$B$13:$B$384,0),0))","v":"Streetlight Traditional Luminaire Assembly - Non Traffic"},1]
[]
[]
[null,null,null,null,null,null,null,null,null,null,null,null,null,null,null,null,null,null,null,null,"Luminaire","80W MBF - BEGA+CURVE BRA","80W MBF - BEGA+CURVE BRA","Materials","80W MBF - BEGA+CURVE BRA",{"$f":"IF(X319=\"Sub-Assemblies\",OFFSET($AG$48,MATCH(Y319,$AF$49:$AF$157,0),0),OFFSET('I_CAPEX - Stock Costs'!$C$12,MATCH(Y319,'I_CAPEX - Stock Costs'!$B$13:$B$384,0),0))","v":"80W MBF - BEGA+CURVE BRA"},1,null,1573.6605713889969]
[null,null,null,null,null,null,null,null,null,null,null,null,null,null,null,null,null,null,null,null,null,null,null,"Sub-Assemblies","Luminaire Non Traffic",{"$f":"IF(X320=\"Sub-Assemblies\",OFFSET($AG$48,MATCH(Y320,$AF$49:$AF$157,0),0),OFFSET('I_CAPEX - Stock Costs'!$C$12,MATCH(Y320,'I_CAPEX - Stock Costs'!$B$13:$B$384,0),0))","v":"Streetlight Traditional Luminaire Assembly - Non Traffic"},1]
[]
[]
[null,null,null,null,null,null,null,null,null,null,null,null,null,null,null,null,null,null,null,null,"Luminaire","80W MBF - BOURKE HILL","80W MBF - BOURKE HILL","Materials","80W MBF - BOURKE HILL",{"$f":"IF(X323=\"Sub-Assemblies\",OFFSET($AG$48,MATCH(Y323,$AF$49:$AF$157,0),0),OFFSET('I_CAPEX - Stock Costs'!$C$12,MATCH(Y323,'I_CAPEX - Stock Costs'!$B$13:$B$384,0),0))","v":"80W MBF - BOURKE HILL"},1,null,738.38776550735054]
[null,null,null,null,null,null,null,null,null,null,null,null,null,null,null,null,null,null,null,null,null,null,null,"Sub-Assemblies","Luminaire Non Traffic",{"$f":"IF(X324=\"Sub-Assemblies\",OFFSET($AG$48,MATCH(Y324,$AF$49:$AF$157,0),0),OFFSET('I_CAPEX - Stock Costs'!$C$12,MATCH(Y324,'I_CAPEX - Stock Costs'!$B$13:$B$384,0),0))","v":"Streetlight Traditional Luminaire Assembly - Non Traffic"},1]
[]
[]
[null,null,null,null,null,null,null,null,null,null,null,null,null,null,null,null,null,null,null,null,"Luminaire","80W MBF - NOSTALGIA","80W MBF - NOSTALGIA","Materials","80W MBF - NOSTALGIA",{"$f":"IF(X327=\"Sub-Assemblies\",OFFSET($AG$48,MATCH(Y327,$AF$49:$AF$157,0),0),OFFSET('I_CAPEX - Stock Costs'!$C$12,MATCH(Y327,'I_CAPEX - Stock Costs'!$B$13:$B$384,0),0))","v":"80W MBF - NOSTALGIA"},1,null,947.90435561144261]
[null,null,null,null,null,null,null,null,null,null,null,null,null,null,null,null,null,null,null,null,null,null,null,"Sub-Assemblies","Luminaire Non Traffic",{"$f":"IF(X328=\"Sub-Assemblies\",OFFSET($AG$48,MATCH(Y328,$AF$49:$AF$157,0),0),OFFSET('I_CAPEX - Stock Costs'!$C$12,MATCH(Y328,'I_CAPEX - Stock Costs'!$B$13:$B$384,0),0))","v":"Streetlight Traditional Luminaire Assembly - Non Traffic"},1]
[]
[]
[null,null,null,null,null,null,null,null,null,null,null,null,null,null,null,null,null,null,null,null,"Luminaire","80W MBF - PLAIN","80W MBF - PLAIN","Materials","80W MBF - PLAIN",{"$f":"IF(X331=\"Sub-Assemblies\",OFFSET($AG$48,MATCH(Y331,$AF$49:$AF$157,0),0),OFFSET('I_CAPEX - Stock Costs'!$C$12,MATCH(Y331,'I_CAPEX - Stock Costs'!$B$13:$B$384,0),0))","v":"80W MBF - PLAIN"},1,null,309.78797873214961]
[null,null,null,null,null,null,null,null,null,null,null,null,null,null,null,null,null,null,null,null,null,null,null,"Sub-Assemblies","Luminaire Non Traffic",{"$f":"IF(X332=\"Sub-Assemblies\",OFFSET($AG$48,MATCH(Y332,$AF$49:$AF$157,0),0),OFFSET('I_CAPEX - Stock Costs'!$C$12,MATCH(Y332,'I_CAPEX - Stock Costs'!$B$13:$B$384,0),0))","v":"Streetlight Traditional Luminaire Assembly - Non Traffic"},1]
[]
[]
[null,null,null,null,null,null,null,null,null,null,null,null,null,null,null,null,null,null,null,null,"Luminaire","80W MBF - REGAL/FLINDERS","80W MBF - REGAL/FLINDERS","Materials","80W MBF - REGAL/FLINDERS",{"$f":"IF(X335=\"Sub-Assemblies\",OFFSET($AG$48,MATCH(Y335,$AF$49:$AF$157,0),0),OFFSET('I_CAPEX - Stock Costs'!$C$12,MATCH(Y335,'I_CAPEX - Stock Costs'!$B$13:$B$384,0),0))","v":"80W MBF - REGAL/FLINDERS"},1,null,1714.735075392419]
[null,null,null,null,null,null,null,null,null,null,null,null,null,null,null,null,null,null,null,null,null,null,null,"Sub-Assemblies","Luminaire Non Traffic",{"$f":"IF(X336=\"Sub-Assemblies\",OFFSET($AG$48,MATCH(Y336,$AF$49:$AF$157,0),0),OFFSET('I_CAPEX - Stock Costs'!$C$12,MATCH(Y336,'I_CAPEX - Stock Costs'!$B$13:$B$384,0),0))","v":"Streetlight Traditional Luminaire Assembly - Non Traffic"},1]
[]
[]
[null,null,null,null,null,null,null,null,null,null,null,null,null,null,null,null,null,null,null,null,"Luminaire","80W MBF BOLLARD","80W MBF BOLLARD","Materials","80W MBF BOLLARD",{"$f":"IF(X339=\"Sub-Assemblies\",OFFSET($AG$48,MATCH(Y339,$AF$49:$AF$157,0),0),OFFSET('I_CAPEX - Stock Costs'!$C$12,MATCH(Y339,'I_CAPEX - Stock Costs'!$B$13:$B$384,0),0))","v":"80W MBF BOLLARD"},1,null,611.28103417753459]
[null,null,null,null,null,null,null,null,null,null,null,null,null,null,null,null,null,null,null,null,null,null,null,"Sub-Assemblies","Luminaire Non Traffic",{"$f":"IF(X340=\"Sub-Assemblies\",OFFSET($AG$48,MATCH(Y340,$AF$49:$AF$157,0),0),OFFSET('I_CAPEX - Stock Costs'!$C$12,MATCH(Y340,'I_CAPEX - Stock Costs'!$B$13:$B$384,0),0))","v":"Streetlight Traditional Luminaire Assembly - Non Traffic"},1]
[]
[]
[]
[null,null,null,null,null,null,null,null,null,null,null,null,null,null,null,null,null,null,null,null,"Luminaire","80W MBF TOORAK","80W MBF TOORAK","Materials","80W MBF TOORAK",{"$f":"IF(X344=\"Sub-Assemblies\",OFFSET($AG$48,MATCH(Y344,$AF$49:$AF$157,0),0),OFFSET('I_CAPEX - Stock Costs'!$C$12,MATCH(Y344,'I_CAPEX - Stock Costs'!$B$13:$B$384,0),0))","v":"80W MBF TOORAK"},1,null,865.07282822815171]
[null,null,null,null,null,null,null,null,null,null,null,null,null,null,null,null,null,null,null,null,null,null,null,"Sub-Assemblies","Luminaire Non Traffic",{"$f":"IF(X345=\"Sub-Assemblies\",OFFSET($AG$48,MATCH(Y345,$AF$49:$AF$157,0),0),OFFSET('I_CAPEX - Stock Costs'!$C$12,MATCH(Y345,'I_CAPEX - Stock Costs'!$B$13:$B$384,0),0))","v":"Streetlight Traditional Luminaire Assembly - Non Traffic"},1]
[]
[]
[]
[null,null,null,null,null,null,null,null,null,null,null,null,null,null,null,null,null,null,null,null,"Luminaire","LED TRIAL","LED TRIAL","Materials","LED TRIAL",{"$f":"IF(X349=\"Sub-Assemblies\",OFFSET($AG$48,MATCH(Y349,$AF$49:$AF$157,0),0),OFFSET('I_CAPEX - Stock Costs'!$C$12,MATCH(Y349,'I_CAPEX - Stock Costs'!$B$13:$B$384,0),0))","v":"LED TRIAL"},1,null,561.05669812841643]
[null,null,null,null,null,null,null,null,null,null,null,null,null,null,null,null,null,null,null,null,null,null,null,"Sub-Assemblies","LED Non Traffic",{"$f":"IF(X350=\"Sub-Assemblies\",OFFSET($AG$48,MATCH(Y350,$AF$49:$AF$157,0),0),OFFSET('I_CAPEX - Stock Costs'!$C$12,MATCH(Y350,'I_CAPEX - Stock Costs'!$B$13:$B$384,0),0))","v":"Streetlight LED Luminaire Assembly - Non Traffic"},1]
[]
[]
[]
[null,null,null,null,null,null,null,null,null,null,null,null,null,null,null,null,null,null,null,null,"Luminaire","TH FLOODLIGHT","TH FLOODLIGHT","Materials","TH FLOODLIGHT",{"$f":"IF(X354=\"Sub-Assemblies\",OFFSET($AG$48,MATCH(Y354,$AF$49:$AF$157,0),0),OFFSET('I_CAPEX - Stock Costs'!$C$12,MATCH(Y354,'I_CAPEX - Stock Costs'!$B$13:$B$384,0),0))","v":"TH FLOODLIGHT"},1,null,1684.0059755104855]
[null,null,null,null,null,null,null,null,null,null,null,null,null,null,null,null,null,null,null,null,null,null,null,"Sub-Assemblies","Luminaire Traffic",{"$f":"IF(X355=\"Sub-Assemblies\",OFFSET($AG$48,MATCH(Y355,$AF$49:$AF$157,0),0),OFFSET('I_CAPEX - Stock Costs'!$C$12,MATCH(Y355,'I_CAPEX - Stock Costs'!$B$13:$B$384,0),0))","v":"Streetlight Traditional Luminaire Assembly - Traffic"},1]
[null,null,null,null,null,null,null,null,null,null,null,null,null,null,null,null,null,null,null,null,"LED","10W LED PH RRW","10W LED PH RRW","Materials","10W LED PH RRW",{"$f":"IF(X356=\"Sub-Assemblies\",OFFSET($AG$48,MATCH(Y356,$AF$49:$AF$157,0),0),OFFSET('I_CAPEX - Stock Costs'!$C$12,MATCH(Y356,'I_CAPEX - Stock Costs'!$B$13:$B$384,0),0))","v":"10W LED PH RRW"},1,null,408.16711196718904]
[null,null,null,null,null,null,null,null,null,null,null,null,null,null,null,null,null,null,null,null,null,null,null,"Sub-Assemblies","LED Non Traffic",{"$f":"IF(X357=\"Sub-Assemblies\",OFFSET($AG$48,MATCH(Y357,$AF$49:$AF$157,0),0),OFFSET('I_CAPEX - Stock Costs'!$C$12,MATCH(Y357,'I_CAPEX - Stock Costs'!$B$13:$B$384,0),0))","v":"Streetlight LED Luminaire Assembly - Non Traffic"},1]
[null,null,null,null,null,null,null,null,null,null,null,null,null,null,null,null,null,null,null,null,"LED","16W LED PH","16W LED PH","Materials","16W LED PH",{"$f":"IF(X358=\"Sub-Assemblies\",OFFSET($AG$48,MATCH(Y358,$AF$49:$AF$157,0),0),OFFSET('I_CAPEX - Stock Costs'!$C$12,MATCH(Y358,'I_CAPEX - Stock Costs'!$B$13:$B$384,0),0))","v":"16W LED PH"},1,null,409.28489353715497]
[null,null,null,null,null,null,null,null,null,null,null,null,null,null,null,null,null,null,null,null,null,null,null,"Sub-Assemblies","LED Non Traffic",{"$f":"IF(X359=\"Sub-Assemblies\",OFFSET($AG$48,MATCH(Y359,$AF$49:$AF$157,0),0),OFFSET('I_CAPEX - Stock Costs'!$C$12,MATCH(Y359,'I_CAPEX - Stock Costs'!$B$13:$B$384,0),0))","v":"Streetlight LED Luminaire Assembly - Non Traffic"},1]
[null,null,null,null,null,null,null,null,null,null,null,null,null,null,null,null,null,null,null,null,"LED","17W LED ALD","17W LED ALD","Materials","17W LED ALD",{"$f":"IF(X360=\"Sub-Assemblies\",OFFSET($AG$48,MATCH(Y360,$AF$49:$AF$157,0),0),OFFSET('I_CAPEX - Stock Costs'!$C$12,MATCH(Y360,'I_CAPEX - Stock Costs'!$B$13:$B$384,0),0))","v":"17W LED ALD"},1,null,379.73074882725734]
[null,null,null,null,null,null,null,null,null,null,null,null,null,null,null,null,null,null,null,null,null,null,null,"Sub-Assemblies","LED Non Traffic",{"$f":"IF(X361=\"Sub-Assemblies\",OFFSET($AG$48,MATCH(Y361,$AF$49:$AF$157,0),0),OFFSET('I_CAPEX - Stock Costs'!$C$12,MATCH(Y361,'I_CAPEX - Stock Costs'!$B$13:$B$384,0),0))","v":"Streetlight LED Luminaire Assembly - Non Traffic"},1]
[null,null,null,null,null,null,null,null,null,null,null,null,null,null,null,null,null,null,null,null,"LED","17W LED ALD RRW","17W LED ALD RRW","Materials","17W LED ALD RRW",{"$f":"IF(X362=\"Sub-Assemblies\",OFFSET($AG$48,MATCH(Y362,$AF$49:$AF$157,0),0),OFFSET('I_CAPEX - Stock Costs'!$C$12,MATCH(Y362,'I_CAPEX - Stock Costs'!$B$13:$B$384,0),0))","v":"17W LED ALD RRW"},1,null,379.73074882725734]
[null,null,null,null,null,null,null,null,null,null,null,null,null,null,null,null,null,null,null,null,null,null,null,"Sub-Assemblies","LED Non Traffic",{"$f":"IF(X363=\"Sub-Assemblies\",OFFSET($AG$48,MATCH(Y363,$AF$49:$AF$157,0),0),OFFSET('I_CAPEX - Stock Costs'!$C$12,MATCH(Y363,'I_CAPEX - Stock Costs'!$B$13:$B$384,0),0))","v":"Streetlight LED Luminaire Assembly - Non Traffic"},1]
[null,null,null,null,null,null,null,null,null,null,null,null,null,null,null,null,null,null,null,null,"LED","17W LED ALD RRW ZHAGA","17W LED ALD RRW ZHAGA","Materials","17W LED ALD RRW ZHAGA",{"$f":"IF(X364=\"Sub-Assemblies\",OFFSET($AG$48,MATCH(Y364,$AF$49:$AF$157,0),0),OFFSET('I_CAPEX - Stock Costs'!$C$12,MATCH(Y364,'I_CAPEX - Stock Costs'!$B$13:$B$384,0),0))","v":"17W LED ALD RRW ZHAGA"},1,null,399.78375019244504]
[null,null,null,null,null,null,null,null,null,null,null,null,null,null,null,null,null,null,null,null,null,null,null,"Sub-Assemblies","LED Non Traffic",{"$f":"IF(X365=\"Sub-Assemblies\",OFFSET($AG$48,MATCH(Y365,$AF$49:$AF$157,0),0),OFFSET('I_CAPEX - Stock Costs'!$C$12,MATCH(Y365,'I_CAPEX - Stock Costs'!$B$13:$B$384,0),0))","v":"Streetlight LED Luminaire Assembly - Non Traffic"},1]
[null,null,null,null,null,null,null,null,null,null,null,null,null,null,null,null,null,null,null,null,"LED","17W LED ALD ZHAGA","17W LED ALD ZHAGA","Materials","17W LED ALD ZHAGA",{"$f":"IF(X366=\"Sub-Assemblies\",OFFSET($AG$48,MATCH(Y366,$AF$49:$AF$157,0),0),OFFSET('I_CAPEX - Stock Costs'!$C$12,MATCH(Y366,'I_CAPEX - Stock Costs'!$B$13:$B$384,0),0))","v":"17W LED ALD ZHAGA"},1,null,399.78375019244504]
[null,null,null,null,null,null,null,null,null,null,null,null,null,null,null,null,null,null,null,null,null,null,null,"Sub-Assemblies","LED Non Traffic",{"$f":"IF(X367=\"Sub-Assemblies\",OFFSET($AG$48,MATCH(Y367,$AF$49:$AF$157,0),0),OFFSET('I_CAPEX - Stock Costs'!$C$12,MATCH(Y367,'I_CAPEX - Stock Costs'!$B$13:$B$384,0),0))","v":"Streetlight LED Luminaire Assembly - Non Traffic"},1]
[null,null,null,null,null,null,null,null,null,null,null,null,null,null,null,null,null,null,null,null,"LED","25W LED PH","25W LED PH","Materials","25W LED PH",{"$f":"IF(X368=\"Sub-Assemblies\",OFFSET($AG$48,MATCH(Y368,$AF$49:$AF$157,0),0),OFFSET('I_CAPEX - Stock Costs'!$C$12,MATCH(Y368,'I_CAPEX - Stock Costs'!$B$13:$B$384,0),0))","v":"25W LED PH"},1,null,410.40267510712079]
[null,null,null,null,null,null,null,null,null,null,null,null,null,null,null,null,null,null,null,null,null,null,null,"Sub-Assemblies","LED Non Traffic",{"$f":"IF(X369=\"Sub-Assemblies\",OFFSET($AG$48,MATCH(Y369,$AF$49:$AF$157,0),0),OFFSET('I_CAPEX - Stock Costs'!$C$12,MATCH(Y369,'I_CAPEX - Stock Costs'!$B$13:$B$384,0),0))","v":"Streetlight LED Luminaire Assembly - Non Traffic"},1]
[null,null,null,null,null,null,null,null,null,null,null,null,null,null,null,null,null,null,null,null,"Decorative","34W LED BOURKE HILL","34W LED BOURKE HILL","Materials","34W LED BOURKE HILL",{"$f":"IF(X370=\"Sub-Assemblies\",OFFSET($AG$48,MATCH(Y370,$AF$49:$AF$157,0),0),OFFSET('I_CAPEX - Stock Costs'!$C$12,MATCH(Y370,'I_CAPEX - Stock Costs'!$B$13:$B$384,0),0))","v":"34W LED BOURKE HILL"},1,null,1163.7874532641174]
[null,null,null,null,null,null,null,null,null,null,null,null,null,null,null,null,null,null,null,null,null,null,null,"Sub-Assemblies","LED Non Traffic",{"$f":"IF(X371=\"Sub-Assemblies\",OFFSET($AG$48,MATCH(Y371,$AF$49:$AF$157,0),0),OFFSET('I_CAPEX - Stock Costs'!$C$12,MATCH(Y371,'I_CAPEX - Stock Costs'!$B$13:$B$384,0),0))","v":"Streetlight LED Luminaire Assembly - Non Traffic"},1]
[null,null,null,null,null,null,null,null,null,null,null,null,null,null,null,null,null,null,null,null,"LED","40W LED ALD","40W LED ALD","Materials","40W LED ALD",{"$f":"IF(X372=\"Sub-Assemblies\",OFFSET($AG$48,MATCH(Y372,$AF$49:$AF$157,0),0),OFFSET('I_CAPEX - Stock Costs'!$C$12,MATCH(Y372,'I_CAPEX - Stock Costs'!$B$13:$B$384,0),0))","v":"40W LED ALD"},1,null,404.11947888797408]
[null,null,null,null,null,null,null,null,null,null,null,null,null,null,null,null,null,null,null,null,null,null,null,"Sub-Assemblies","LED Non Traffic",{"$f":"IF(X373=\"Sub-Assemblies\",OFFSET($AG$48,MATCH(Y373,$AF$49:$AF$157,0),0),OFFSET('I_CAPEX - Stock Costs'!$C$12,MATCH(Y373,'I_CAPEX - Stock Costs'!$B$13:$B$384,0),0))","v":"Streetlight LED Luminaire Assembly - Non Traffic"},1]
[null,null,null,null,null,null,null,null,null,null,null,null,null,null,null,null,null,null,null,null,"LED","40W LED ALD ZHAGA","40W LED ALD ZHAGA","Materials","40W LED ALD ZHAGA",{"$f":"IF(X374=\"Sub-Assemblies\",OFFSET($AG$48,MATCH(Y374,$AF$49:$AF$157,0),0),OFFSET('I_CAPEX - Stock Costs'!$C$12,MATCH(Y374,'I_CAPEX - Stock Costs'!$B$13:$B$384,0),0))","v":"40W LED ALD ZHAGA"},1,null,425.41448159176247]
[null,null,null,null,null,null,null,null,null,null,null,null,null,null,null,null,null,null,null,null,null,null,null,"Sub-Assemblies","LED Non Traffic",{"$f":"IF(X375=\"Sub-Assemblies\",OFFSET($AG$48,MATCH(Y375,$AF$49:$AF$157,0),0),OFFSET('I_CAPEX - Stock Costs'!$C$12,MATCH(Y375,'I_CAPEX - Stock Costs'!$B$13:$B$384,0),0))","v":"Streetlight LED Luminaire Assembly - Non Traffic"},1]
[null,null,null,null,null,null,null,null,null,null,null,null,null,null,null,null,null,null,null,null,"LED","49W LED PH","49W LED PH","Materials","49W LED PH",{"$f":"IF(X376=\"Sub-Assemblies\",OFFSET($AG$48,MATCH(Y376,$AF$49:$AF$157,0),0),OFFSET('I_CAPEX - Stock Costs'!$C$12,MATCH(Y376,'I_CAPEX - Stock Costs'!$B$13:$B$384,0),0))","v":"49W LED PH"},1,null,439.46499592623343]
[null,null,null,null,null,null,null,null,null,null,null,null,null,null,null,null,null,null,null,null,null,null,null,"Sub-Assemblies","LED Non Traffic",{"$f":"IF(X377=\"Sub-Assemblies\",OFFSET($AG$48,MATCH(Y377,$AF$49:$AF$157,0),0),OFFSET('I_CAPEX - Stock Costs'!$C$12,MATCH(Y377,'I_CAPEX - Stock Costs'!$B$13:$B$384,0),0))","v":"Streetlight LED Luminaire Assembly - Non Traffic"},1]
[null,null,null,null,null,null,null,null,null,null,null,null,null,null,null,null,null,null,null,null,"LED","49W LED PH ZHAGA","49W LED PH ZHAGA","Materials","49W LED PH ZHAGA",{"$f":"IF(X378=\"Sub-Assemblies\",OFFSET($AG$48,MATCH(Y378,$AF$49:$AF$157,0),0),OFFSET('I_CAPEX - Stock Costs'!$C$12,MATCH(Y378,'I_CAPEX - Stock Costs'!$B$13:$B$384,0),0))","v":"49W LED PH ZHAGA"},1,null,500.94298227435632]
[null,null,null,null,null,null,null,null,null,null,null,null,null,null,null,null,null,null,null,null,null,null,null,"Sub-Assemblies","LED Non Traffic",{"$f":"IF(X379=\"Sub-Assemblies\",OFFSET($AG$48,MATCH(Y379,$AF$49:$AF$157,0),0),OFFSET('I_CAPEX - Stock Costs'!$C$12,MATCH(Y379,'I_CAPEX - Stock Costs'!$B$13:$B$384,0),0))","v":"Streetlight LED Luminaire Assembly - Non Traffic"},1]
[null,null,null,null,null,null,null,null,null,null,null,null,null,null,null,null,null,null,null,null,"LED","50W LED SY PT","50W LED SY PT","Materials","50W LED SY PT",{"$f":"IF(X380=\"Sub-Assemblies\",OFFSET($AG$48,MATCH(Y380,$AF$49:$AF$157,0),0),OFFSET('I_CAPEX - Stock Costs'!$C$12,MATCH(Y380,'I_CAPEX - Stock Costs'!$B$13:$B$384,0),0))","v":"50W LED SY PT"},1,null,1496.4589694267117]
[null,null,null,null,null,null,null,null,null,null,null,null,null,null,null,null,null,null,null,null,null,null,null,"Sub-Assemblies","LED Non Traffic",{"$f":"IF(X381=\"Sub-Assemblies\",OFFSET($AG$48,MATCH(Y381,$AF$49:$AF$157,0),0),OFFSET('I_CAPEX - Stock Costs'!$C$12,MATCH(Y381,'I_CAPEX - Stock Costs'!$B$13:$B$384,0),0))","v":"Streetlight LED Luminaire Assembly - Non Traffic"},1]
[null,null,null,null,null,null,null,null,null,null,null,null,null,null,null,null,null,null,null,null,"LED","58W LED ALD","58W LED ALD","Materials","58W LED ALD",{"$f":"IF(X382=\"Sub-Assemblies\",OFFSET($AG$48,MATCH(Y382,$AF$49:$AF$157,0),0),OFFSET('I_CAPEX - Stock Costs'!$C$12,MATCH(Y382,'I_CAPEX - Stock Costs'!$B$13:$B$384,0),0))","v":"58W LED ALD"},1,null,621.54673093403255]
[null,null,null,null,null,null,null,null,null,null,null,null,null,null,null,null,null,null,null,null,null,null,null,"Sub-Assemblies","LED Non Traffic",{"$f":"IF(X383=\"Sub-Assemblies\",OFFSET($AG$48,MATCH(Y383,$AF$49:$AF$157,0),0),OFFSET('I_CAPEX - Stock Costs'!$C$12,MATCH(Y383,'I_CAPEX - Stock Costs'!$B$13:$B$384,0),0))","v":"Streetlight LED Luminaire Assembly - Non Traffic"},1]
[null,null,null,null,null,null,null,null,null,null,null,null,null,null,null,null,null,null,null,null,"LED","58W LED ALD ZHAGA","58W LED ALD ZHAGA","Materials","58W LED ALD ZHAGA",{"$f":"IF(X384=\"Sub-Assemblies\",OFFSET($AG$48,MATCH(Y384,$AF$49:$AF$157,0),0),OFFSET('I_CAPEX - Stock Costs'!$C$12,MATCH(Y384,'I_CAPEX - Stock Costs'!$B$13:$B$384,0),0))","v":"58W LED ALD ZHAGA"},1,null,643.83397216899516]
[null,null,null,null,null,null,null,null,null,null,null,null,null,null,null,null,null,null,null,null,null,null,null,"Sub-Assemblies","LED Non Traffic",{"$f":"IF(X385=\"Sub-Assemblies\",OFFSET($AG$48,MATCH(Y385,$AF$49:$AF$157,0),0),OFFSET('I_CAPEX - Stock Costs'!$C$12,MATCH(Y385,'I_CAPEX - Stock Costs'!$B$13:$B$384,0),0))","v":"Streetlight LED Luminaire Assembly - Non Traffic"},1]
[null,null,null,null,null,null,null,null,null,null,null,null,null,null,null,null,null,null,null,null,"Floodlight","70W LED PH FLOOD","70W LED PH FLOOD","Materials","70W LED PH FLOOD",{"$f":"IF(X386=\"Sub-Assemblies\",OFFSET($AG$48,MATCH(Y386,$AF$49:$AF$157,0),0),OFFSET('I_CAPEX - Stock Costs'!$C$12,MATCH(Y386,'I_CAPEX - Stock Costs'!$B$13:$B$384,0),0))","v":"70W LED PH FLOOD"},1,null,570.24543961224026]
[null,null,null,null,null,null,null,null,null,null,null,null,null,null,null,null,null,null,null,null,null,null,null,"Sub-Assemblies","LED Traffic",{"$f":"IF(X387=\"Sub-Assemblies\",OFFSET($AG$48,MATCH(Y387,$AF$49:$AF$157,0),0),OFFSET('I_CAPEX - Stock Costs'!$C$12,MATCH(Y387,'I_CAPEX - Stock Costs'!$B$13:$B$384,0),0))","v":"Streetlight LED Luminaire Assembly - Traffic"},1]
[null,null,null,null,null,null,null,null,null,null,null,null,null,null,null,null,null,null,null,null,"LED","74W LED ALD","74W LED ALD","Materials","74W LED ALD",{"$f":"IF(X388=\"Sub-Assemblies\",OFFSET($AG$48,MATCH(Y388,$AF$49:$AF$157,0),0),OFFSET('I_CAPEX - Stock Costs'!$C$12,MATCH(Y388,'I_CAPEX - Stock Costs'!$B$13:$B$384,0),0))","v":"74W LED ALD"},1,null,621.54673093403255]
[null,null,null,null,null,null,null,null,null,null,null,null,null,null,null,null,null,null,null,null,null,null,null,"Sub-Assemblies","LED Traffic",{"$f":"IF(X389=\"Sub-Assemblies\",OFFSET($AG$48,MATCH(Y389,$AF$49:$AF$157,0),0),OFFSET('I_CAPEX - Stock Costs'!$C$12,MATCH(Y389,'I_CAPEX - Stock Costs'!$B$13:$B$384,0),0))","v":"Streetlight LED Luminaire Assembly - Traffic"},1]
[null,null,null,null,null,null,null,null,null,null,null,null,null,null,null,null,null,null,null,null,"LED","74W LED ALD ZHAGA","74W LED ALD ZHAGA","Materials","74W LED ALD ZHAGA",{"$f":"IF(X390=\"Sub-Assemblies\",OFFSET($AG$48,MATCH(Y390,$AF$49:$AF$157,0),0),OFFSET('I_CAPEX - Stock Costs'!$C$12,MATCH(Y390,'I_CAPEX - Stock Costs'!$B$13:$B$384,0),0))","v":"74W LED ALD ZHAGA"},1,null,643.83397216899516]
[null,null,null,null,null,null,null,null,null,null,null,null,null,null,null,null,null,null,null,null,null,null,null,"Sub-Assemblies","LED Traffic",{"$f":"IF(X391=\"Sub-Assemblies\",OFFSET($AG$48,MATCH(Y391,$AF$49:$AF$157,0),0),OFFSET('I_CAPEX - Stock Costs'!$C$12,MATCH(Y391,'I_CAPEX - Stock Costs'!$B$13:$B$384,0),0))","v":"Streetlight LED Luminaire Assembly - Traffic"},1]
[null,null,null,null,null,null,null,null,null,null,null,null,null,null,null,null,null,null,null,null,"LED","76W LED PH","76W LED PH","Materials","76W LED PH",{"$f":"IF(X392=\"Sub-Assemblies\",OFFSET($AG$48,MATCH(Y392,$AF$49:$AF$157,0),0),OFFSET('I_CAPEX - Stock Costs'!$C$12,MATCH(Y392,'I_CAPEX - Stock Costs'!$B$13:$B$384,0),0))","v":"76W LED PH"},1,null,447.28946691599458]
[null,null,null,null,null,null,null,null,null,null,null,null,null,null,null,null,null,null,null,null,null,null,null,"Sub-Assemblies","LED Traffic",{"$f":"IF(X393=\"Sub-Assemblies\",OFFSET($AG$48,MATCH(Y393,$AF$49:$AF$157,0),0),OFFSET('I_CAPEX - Stock Costs'!$C$12,MATCH(Y393,'I_CAPEX - Stock Costs'!$B$13:$B$384,0),0))","v":"Streetlight LED Luminaire Assembly - Traffic"},1]
[null,null,null,null,null,null,null,null,null,null,null,null,null,null,null,null,null,null,null,null,"LED","76W LED PH ZHAGA","76W LED PH ZHAGA","Materials","76W LED PH ZHAGA",{"$f":"IF(X394=\"Sub-Assemblies\",OFFSET($AG$48,MATCH(Y394,$AF$49:$AF$157,0),0),OFFSET('I_CAPEX - Stock Costs'!$C$12,MATCH(Y394,'I_CAPEX - Stock Costs'!$B$13:$B$384,0),0))","v":"76W LED PH ZHAGA"},1,null,508.76745326411742]
[null,null,null,null,null,null,null,null,null,null,null,null,null,null,null,null,null,null,null,null,null,null,null,"Sub-Assemblies","LED Traffic",{"$f":"IF(X395=\"Sub-Assemblies\",OFFSET($AG$48,MATCH(Y395,$AF$49:$AF$157,0),0),OFFSET('I_CAPEX - Stock Costs'!$C$12,MATCH(Y395,'I_CAPEX - Stock Costs'!$B$13:$B$384,0),0))","v":"Streetlight LED Luminaire Assembly - Traffic"},1]
[null,null,null,null,null,null,null,null,null,null,null,null,null,null,null,null,null,null,null,null,"LED","100W LED SY CT","100W LED SY CT","Materials","100W LED SY CT",{"$f":"IF(X396=\"Sub-Assemblies\",OFFSET($AG$48,MATCH(Y396,$AF$49:$AF$157,0),0),OFFSET('I_CAPEX - Stock Costs'!$C$12,MATCH(Y396,'I_CAPEX - Stock Costs'!$B$13:$B$384,0),0))","v":"100W LED SY CT"},1,null,1630.9007528776331]
[null,null,null,null,null,null,null,null,null,null,null,null,null,null,null,null,null,null,null,null,null,null,null,"Sub-Assemblies","LED Traffic",{"$f":"IF(X397=\"Sub-Assemblies\",OFFSET($AG$48,MATCH(Y397,$AF$49:$AF$157,0),0),OFFSET('I_CAPEX - Stock Costs'!$C$12,MATCH(Y397,'I_CAPEX - Stock Costs'!$B$13:$B$384,0),0))","v":"Streetlight LED Luminaire Assembly - Traffic"},1]
[null,null,null,null,null,null,null,null,null,null,null,null,null,null,null,null,null,null,null,null,"LED","100W LED SY PT","100W LED SY PT","Materials","100W LED SY PT",{"$f":"IF(X398=\"Sub-Assemblies\",OFFSET($AG$48,MATCH(Y398,$AF$49:$AF$157,0),0),OFFSET('I_CAPEX - Stock Costs'!$C$12,MATCH(Y398,'I_CAPEX - Stock Costs'!$B$13:$B$384,0),0))","v":"100W LED SY PT"},1,null,1608.4937889691462]
[null,null,null,null,null,null,null,null,null,null,null,null,null,null,null,null,null,null,null,null,null,null,null,"Sub-Assemblies","LED Traffic",{"$f":"IF(X399=\"Sub-Assemblies\",OFFSET($AG$48,MATCH(Y399,$AF$49:$AF$157,0),0),OFFSET('I_CAPEX - Stock Costs'!$C$12,MATCH(Y399,'I_CAPEX - Stock Costs'!$B$13:$B$384,0),0))","v":"Streetlight LED Luminaire Assembly - Traffic"},1]
[null,null,null,null,null,null,null,null,null,null,null,null,null,null,null,null,null,null,null,null,"Floodlight","110W LED SY FLOOD","110W LED SY FLOOD","Materials","110W LED SY FLOOD",{"$f":"IF(X400=\"Sub-Assemblies\",OFFSET($AG$48,MATCH(Y400,$AF$49:$AF$157,0),0),OFFSET('I_CAPEX - Stock Costs'!$C$12,MATCH(Y400,'I_CAPEX - Stock Costs'!$B$13:$B$384,0),0))","v":"110W LED SY FLOOD"},1,null,884.3420607726498]
[null,null,null,null,null,null,null,null,null,null,null,null,null,null,null,null,null,null,null,null,null,null,null,"Sub-Assemblies","LED Traffic",{"$f":"IF(X401=\"Sub-Assemblies\",OFFSET($AG$48,MATCH(Y401,$AF$49:$AF$157,0),0),OFFSET('I_CAPEX - Stock Costs'!$C$12,MATCH(Y401,'I_CAPEX - Stock Costs'!$B$13:$B$384,0),0))","v":"Streetlight LED Luminaire Assembly - Traffic"},1]
[null,null,null,null,null,null,null,null,null,null,null,null,null,null,null,null,null,null,null,null,"Floodlight","120W LED PH FLOOD","120W LED PH FLOOD","Materials","120W LED PH FLOOD",{"$f":"IF(X402=\"Sub-Assemblies\",OFFSET($AG$48,MATCH(Y402,$AF$49:$AF$157,0),0),OFFSET('I_CAPEX - Stock Costs'!$C$12,MATCH(Y402,'I_CAPEX - Stock Costs'!$B$13:$B$384,0),0))","v":"120W LED PH FLOOD"},1,null,633.95898910029496]
[null,null,null,null,null,null,null,null,null,null,null,null,null,null,null,null,null,null,null,null,null,null,null,"Sub-Assemblies","LED Traffic",{"$f":"IF(X403=\"Sub-Assemblies\",OFFSET($AG$48,MATCH(Y403,$AF$49:$AF$157,0),0),OFFSET('I_CAPEX - Stock Costs'!$C$12,MATCH(Y403,'I_CAPEX - Stock Costs'!$B$13:$B$384,0),0))","v":"Streetlight LED Luminaire Assembly - Traffic"},1]
[null,null,null,null,null,null,null,null,null,null,null,null,null,null,null,null,null,null,null,null,"LED","140W LED PH","140W LED PH","Materials","140W LED PH",{"$f":"IF(X404=\"Sub-Assemblies\",OFFSET($AG$48,MATCH(Y404,$AF$49:$AF$157,0),0),OFFSET('I_CAPEX - Stock Costs'!$C$12,MATCH(Y404,'I_CAPEX - Stock Costs'!$B$13:$B$384,0),0))","v":"140W LED PH"},1,null,486.4118218648]
[null,null,null,null,null,null,null,null,null,null,null,null,null,null,null,null,null,null,null,null,null,null,null,"Sub-Assemblies","LED Traffic",{"$f":"IF(X405=\"Sub-Assemblies\",OFFSET($AG$48,MATCH(Y405,$AF$49:$AF$157,0),0),OFFSET('I_CAPEX - Stock Costs'!$C$12,MATCH(Y405,'I_CAPEX - Stock Costs'!$B$13:$B$384,0),0))","v":"Streetlight LED Luminaire Assembly - Traffic"},1]
[null,null,null,null,null,null,null,null,null,null,null,null,null,null,null,null,null,null,null,null,"LED","140W LED PH ZHAGA","140W LED PH ZHAGA","Materials","140W LED PH ZHAGA",{"$f":"IF(X406=\"Sub-Assemblies\",OFFSET($AG$48,MATCH(Y406,$AF$49:$AF$157,0),0),OFFSET('I_CAPEX - Stock Costs'!$C$12,MATCH(Y406,'I_CAPEX - Stock Costs'!$B$13:$B$384,0),0))","v":"140W LED PH ZHAGA"},1,null,547.88980821292284]
[null,null,null,null,null,null,null,null,null,null,null,null,null,null,null,null,null,null,null,null,null,null,null,"Sub-Assemblies","LED Traffic",{"$f":"IF(X407=\"Sub-Assemblies\",OFFSET($AG$48,MATCH(Y407,$AF$49:$AF$157,0),0),OFFSET('I_CAPEX - Stock Costs'!$C$12,MATCH(Y407,'I_CAPEX - Stock Costs'!$B$13:$B$384,0),0))","v":"Streetlight LED Luminaire Assembly - Traffic"},1]
[null,null,null,null,null,null,null,null,null,null,null,null,null,null,null,null,null,null,null,null,"Floodlight","150W LED SY FLOOD","150W LED SY FLOOD","Materials","150W LED SY FLOOD",{"$f":"IF(X408=\"Sub-Assemblies\",OFFSET($AG$48,MATCH(Y408,$AF$49:$AF$157,0),0),OFFSET('I_CAPEX - Stock Costs'!$C$12,MATCH(Y408,'I_CAPEX - Stock Costs'!$B$13:$B$384,0),0))","v":"150W LED SY FLOOD"},1,null,925.69997886138708]
[null,null,null,null,null,null,null,null,null,null,null,null,null,null,null,null,null,null,null,null,null,null,null,"Sub-Assemblies","LED Traffic",{"$f":"IF(X409=\"Sub-Assemblies\",OFFSET($AG$48,MATCH(Y409,$AF$49:$AF$157,0),0),OFFSET('I_CAPEX - Stock Costs'!$C$12,MATCH(Y409,'I_CAPEX - Stock Costs'!$B$13:$B$384,0),0))","v":"Streetlight LED Luminaire Assembly - Traffic"},1]
[null,null,null,null,null,null,null,null,null,null,null,null,null,null,null,null,null,null,null,null,"LED","150W LED SY PT","150W LED SY PT","Materials","150W LED SY PT",{"$f":"IF(X410=\"Sub-Assemblies\",OFFSET($AG$48,MATCH(Y410,$AF$49:$AF$157,0),0),OFFSET('I_CAPEX - Stock Costs'!$C$12,MATCH(Y410,'I_CAPEX - Stock Costs'!$B$13:$B$384,0),0))","v":"150W LED SY PT"},1,null,1720.5286085115811]
[null,null,null,null,null,null,null,null,null,null,null,null,null,null,null,null,null,null,null,null,null,null,null,"Sub-Assemblies","LED Traffic",{"$f":"IF(X411=\"Sub-Assemblies\",OFFSET($AG$48,MATCH(Y411,$AF$49:$AF$157,0),0),OFFSET('I_CAPEX - Stock Costs'!$C$12,MATCH(Y411,'I_CAPEX - Stock Costs'!$B$13:$B$384,0),0))","v":"Streetlight LED Luminaire Assembly - Traffic"},1]
[null,null,null,null,null,null,null,null,null,null,null,null,null,null,null,null,null,null,null,null,"Floodlight","152W LED PH FLOOD","152W LED PH FLOOD","Materials","152W LED PH FLOOD",{"$f":"IF(X412=\"Sub-Assemblies\",OFFSET($AG$48,MATCH(Y412,$AF$49:$AF$157,0),0),OFFSET('I_CAPEX - Stock Costs'!$C$12,MATCH(Y412,'I_CAPEX - Stock Costs'!$B$13:$B$384,0),0))","v":"152W LED PH FLOOD"},1,null,639.54789695012425]
[null,null,null,null,null,null,null,null,null,null,null,null,null,null,null,null,null,null,null,null,null,null,null,"Sub-Assemblies","LED Traffic",{"$f":"IF(X413=\"Sub-Assemblies\",OFFSET($AG$48,MATCH(Y413,$AF$49:$AF$157,0),0),OFFSET('I_CAPEX - Stock Costs'!$C$12,MATCH(Y413,'I_CAPEX - Stock Costs'!$B$13:$B$384,0),0))","v":"Streetlight LED Luminaire Assembly - Traffic"},1]
[null,null,null,null,null,null,null,null,null,null,null,null,null,null,null,null,null,null,null,null,"LED","170W LED ALD","170W LED ALD","Materials","170W LED ALD",{"$f":"IF(X414=\"Sub-Assemblies\",OFFSET($AG$48,MATCH(Y414,$AF$49:$AF$157,0),0),OFFSET('I_CAPEX - Stock Costs'!$C$12,MATCH(Y414,'I_CAPEX - Stock Costs'!$B$13:$B$384,0),0))","v":"170W LED ALD"},1,null,687.29409257717236]
[null,null,null,null,null,null,null,null,null,null,null,null,null,null,null,null,null,null,null,null,null,null,null,"Sub-Assemblies","LED Traffic",{"$f":"IF(X415=\"Sub-Assemblies\",OFFSET($AG$48,MATCH(Y415,$AF$49:$AF$157,0),0),OFFSET('I_CAPEX - Stock Costs'!$C$12,MATCH(Y415,'I_CAPEX - Stock Costs'!$B$13:$B$384,0),0))","v":"Streetlight LED Luminaire Assembly - Traffic"},1]
[null,null,null,null,null,null,null,null,null,null,null,null,null,null,null,null,null,null,null,null,"LED","170W LED ALD ZHAGA","170W LED ALD ZHAGA","Materials","170W LED ALD ZHAGA",{"$f":"IF(X416=\"Sub-Assemblies\",OFFSET($AG$48,MATCH(Y416,$AF$49:$AF$157,0),0),OFFSET('I_CAPEX - Stock Costs'!$C$12,MATCH(Y416,'I_CAPEX - Stock Costs'!$B$13:$B$384,0),0))","v":"170W LED ALD ZHAGA"},1,null,709.58133381213497]
[null,null,null,null,null,null,null,null,null,null,null,null,null,null,null,null,null,null,null,null,null,null,null,"Sub-Assemblies","LED Traffic",{"$f":"IF(X417=\"Sub-Assemblies\",OFFSET($AG$48,MATCH(Y417,$AF$49:$AF$157,0),0),OFFSET('I_CAPEX - Stock Costs'!$C$12,MATCH(Y417,'I_CAPEX - Stock Costs'!$B$13:$B$384,0),0))","v":"Streetlight LED Luminaire Assembly - Traffic"},1]
[null,null,null,null,null,null,null,null,null,null,null,null,null,null,null,null,null,null,null,null,"Floodlight","175W LED SY FLOOD","175W LED SY FLOOD","Materials","175W LED SY FLOOD",{"$f":"IF(X418=\"Sub-Assemblies\",OFFSET($AG$48,MATCH(Y418,$AF$49:$AF$157,0),0),OFFSET('I_CAPEX - Stock Costs'!$C$12,MATCH(Y418,'I_CAPEX - Stock Costs'!$B$13:$B$384,0),0))","v":"175W LED SY FLOOD"},1,null,1064.3048935371551]
[null,null,null,null,null,null,null,null,null,null,null,null,null,null,null,null,null,null,null,null,null,null,null,"Sub-Assemblies","LED Traffic",{"$f":"IF(X419=\"Sub-Assemblies\",OFFSET($AG$48,MATCH(Y419,$AF$49:$AF$157,0),0),OFFSET('I_CAPEX - Stock Costs'!$C$12,MATCH(Y419,'I_CAPEX - Stock Costs'!$B$13:$B$384,0),0))","v":"Streetlight LED Luminaire Assembly - Traffic"},1]
[null,null,null,null,null,null,null,null,null,null,null,null,null,null,null,null,null,null,null,null,"LED","224W LED PH","224W LED PH","Materials","224W LED PH",{"$f":"IF(X420=\"Sub-Assemblies\",OFFSET($AG$48,MATCH(Y420,$AF$49:$AF$157,0),0),OFFSET('I_CAPEX - Stock Costs'!$C$12,MATCH(Y420,'I_CAPEX - Stock Costs'!$B$13:$B$384,0),0))","v":"224W LED PH"},1,null,578.0699106020013]
[null,null,null,null,null,null,null,null,null,null,null,null,null,null,null,null,null,null,null,null,null,null,null,"Sub-Assemblies","LED Traffic",{"$f":"IF(X421=\"Sub-Assemblies\",OFFSET($AG$48,MATCH(Y421,$AF$49:$AF$157,0),0),OFFSET('I_CAPEX - Stock Costs'!$C$12,MATCH(Y421,'I_CAPEX - Stock Costs'!$B$13:$B$384,0),0))","v":"Streetlight LED Luminaire Assembly - Traffic"},1]
[null,null,null,null,null,null,null,null,null,null,null,null,null,null,null,null,null,null,null,null,"LED","224W LED PH ZHAGA","224W LED PH ZHAGA","Materials","224W LED PH ZHAGA",{"$f":"IF(X422=\"Sub-Assemblies\",OFFSET($AG$48,MATCH(Y422,$AF$49:$AF$157,0),0),OFFSET('I_CAPEX - Stock Costs'!$C$12,MATCH(Y422,'I_CAPEX - Stock Costs'!$B$13:$B$384,0),0))","v":"224W LED PH ZHAGA"},1,null,639.54789695012425]
[null,null,null,null,null,null,null,null,null,null,null,null,null,null,null,null,null,null,null,null,null,null,null,"Sub-Assemblies","LED Traffic",{"$f":"IF(X423=\"Sub-Assemblies\",OFFSET($AG$48,MATCH(Y423,$AF$49:$AF$157,0),0),OFFSET('I_CAPEX - Stock Costs'!$C$12,MATCH(Y423,'I_CAPEX - Stock Costs'!$B$13:$B$384,0),0))","v":"Streetlight LED Luminaire Assembly - Traffic"},1]
[null,null,null,null,null,null,null,null,null,null,null,null,null,null,null,null,null,null,null,null,"LED","258W LED ALD","258W LED ALD","Materials","258W LED ALD",{"$f":"IF(X424=\"Sub-Assemblies\",OFFSET($AG$48,MATCH(Y424,$AF$49:$AF$157,0),0),OFFSET('I_CAPEX - Stock Costs'!$C$12,MATCH(Y424,'I_CAPEX - Stock Costs'!$B$13:$B$384,0),0))","v":"258W LED ALD"},1,null,780.9025542880081]
[null,null,null,null,null,null,null,null,null,null,null,null,null,null,null,null,null,null,null,null,null,null,null,"Sub-Assemblies","LED Traffic",{"$f":"IF(X425=\"Sub-Assemblies\",OFFSET($AG$48,MATCH(Y425,$AF$49:$AF$157,0),0),OFFSET('I_CAPEX - Stock Costs'!$C$12,MATCH(Y425,'I_CAPEX - Stock Costs'!$B$13:$B$384,0),0))","v":"Streetlight LED Luminaire Assembly - Traffic"},1]
[null,null,null,null,null,null,null,null,null,null,null,null,null,null,null,null,null,null,null,null,"LED","258W LED ALD ZHAGA","258W LED ALD ZHAGA","Materials","258W LED ALD ZHAGA",{"$f":"IF(X426=\"Sub-Assemblies\",OFFSET($AG$48,MATCH(Y426,$AF$49:$AF$157,0),0),OFFSET('I_CAPEX - Stock Costs'!$C$12,MATCH(Y426,'I_CAPEX - Stock Costs'!$B$13:$B$384,0),0))","v":"258W LED ALD ZHAGA"},1,null,781.67682074597883]
[null,null,null,null,null,null,null,null,null,null,null,null,null,null,null,null,null,null,null,null,null,null,null,"Sub-Assemblies","LED Traffic",{"$f":"IF(X427=\"Sub-Assemblies\",OFFSET($AG$48,MATCH(Y427,$AF$49:$AF$157,0),0),OFFSET('I_CAPEX - Stock Costs'!$C$12,MATCH(Y427,'I_CAPEX - Stock Costs'!$B$13:$B$384,0),0))","v":"Streetlight LED Luminaire Assembly - Traffic"},1]
[null,null,null,null,null,null,null,null,null,null,null,null,null,null,null,null,null,null,null,null,"LED","600W LED ALD HM","600W LED ALD HM","Materials","600W LED ALD HM",{"$f":"IF(X428=\"Sub-Assemblies\",OFFSET($AG$48,MATCH(Y428,$AF$49:$AF$157,0),0),OFFSET('I_CAPEX - Stock Costs'!$C$12,MATCH(Y428,'I_CAPEX - Stock Costs'!$B$13:$B$384,0),0))","v":"600W LED ALD HM"},1,null,3045.7962826156536]
[null,null,null,null,null,null,null,null,null,null,null,null,null,null,null,null,null,null,null,null,null,null,null,"Sub-Assemblies","LED Non Traffic",{"$f":"IF(X429=\"Sub-Assemblies\",OFFSET($AG$48,MATCH(Y429,$AF$49:$AF$157,0),0),OFFSET('I_CAPEX - Stock Costs'!$C$12,MATCH(Y429,'I_CAPEX - Stock Costs'!$B$13:$B$384,0),0))","v":"Streetlight LED Luminaire Assembly - Non Traffic"},1]
[null,null,null,null,null,null,null,null,null,null,null,null,null,null,null,null,null,null,null,null,"LED","COLONIAL ROCKS SPHERE","COLONIAL ROCKS SPHERE","Materials","COLONIAL ROCKS SPHERE",{"$f":"IF(X430=\"Sub-Assemblies\",OFFSET($AG$48,MATCH(Y430,$AF$49:$AF$157,0),0),OFFSET('I_CAPEX - Stock Costs'!$C$12,MATCH(Y430,'I_CAPEX - Stock Costs'!$B$13:$B$384,0),0))","v":"COLONIAL ROCKS SPHERE"},1,null,939.97404950985128]
[null,null,null,null,null,null,null,null,null,null,null,null,null,null,null,null,null,null,null,null,null,null,null,"Sub-Assemblies","LED Non Traffic",{"$f":"IF(X431=\"Sub-Assemblies\",OFFSET($AG$48,MATCH(Y431,$AF$49:$AF$157,0),0),OFFSET('I_CAPEX - Stock Costs'!$C$12,MATCH(Y431,'I_CAPEX - Stock Costs'!$B$13:$B$384,0),0))","v":"Streetlight LED Luminaire Assembly - Non Traffic"},1]
[null,null,null,null,null,null,null,null,null,null,null,null,null,null,null,null,null,null,null,null,"Smart Controller","Smart Controller - materials and installation","Smart Controller - materials and installation","Materials","Smart Controller - materials and installation",{"$f":"IF(X432=\"Sub-Assemblies\",OFFSET($AG$48,MATCH(Y432,$AF$49:$AF$157,0),0),OFFSET('I_CAPEX - Stock Costs'!$C$12,MATCH(Y432,'I_CAPEX - Stock Costs'!$B$13:$B$384,0),0))","v":"Smart Controller - materials and installation"},1,null,373.14750776118456]
[null,null,null,null,null,null,null,null,null,null,null,null,null,null,null,null,null,null,null,null,null,null,null,"Sub-Assemblies","Smart Controller - Traffic",{"$f":"IF(X433=\"Sub-Assemblies\",OFFSET($AG$48,MATCH(Y433,$AF$49:$AF$157,0),0),OFFSET('I_CAPEX - Stock Costs'!$C$12,MATCH(Y433,'I_CAPEX - Stock Costs'!$B$13:$B$384,0),0))","v":"Smart Controller - Traffic"},1]
[null,null,null,null,null,null,null,null,null,null,null,null,null,null,null,null,null,null,null,null,"Smart Controller","Smart Controller - material price only","Smart Controller - material price only","Materials","Smart Controller - material price only",{"$f":"IF(X434=\"Sub-Assemblies\",OFFSET($AG$48,MATCH(Y434,$AF$49:$AF$157,0),0),OFFSET('I_CAPEX - Stock Costs'!$C$12,MATCH(Y434,'I_CAPEX - Stock Costs'!$B$13:$B$384,0),0))","v":"Smart Controller - material price only"},1,null,166.93188111822758]
[null,null,null,null,null,null,null,null,null,null,null,null,null,null,null,null,null,null,null,null,null,null,null,"Sub-Assemblies","Smart Controller - No Installation",{"$f":"IF(X435=\"Sub-Assemblies\",OFFSET($AG$48,MATCH(Y435,$AF$49:$AF$157,0),0),OFFSET('I_CAPEX - Stock Costs'!$C$12,MATCH(Y435,'I_CAPEX - Stock Costs'!$B$13:$B$384,0),0))","v":"Smart Controller Only"},1]
[null,null,null,null,null,null,null,null,null,null,null,null,null,null,null,null,null,null,null,null,"Smart Controller","Smart Controller - material price adjusted for PE Cell","Smart Controller - material price adjusted for PE Cell","Materials","Smart Controller - material price adjusted for PE Cell",{"$f":"IF(X436=\"Sub-Assemblies\",OFFSET($AG$48,MATCH(Y436,$AF$49:$AF$157,0),0),OFFSET('I_CAPEX - Stock Costs'!$C$12,MATCH(Y436,'I_CAPEX - Stock Costs'!$B$13:$B$384,0),0))","v":"Smart Controller - material price adjusted for PE Cell"},1,null,153.05860426363347]
[null,null,null,null,null,null,null,null,null,null,null,null,null,null,null,null,null,null,null,null,null,null,null,"Sub-Assemblies","Smart Controller - No Installation",{"$f":"IF(X437=\"Sub-Assemblies\",OFFSET($AG$48,MATCH(Y437,$AF$49:$AF$157,0),0),OFFSET('I_CAPEX - Stock Costs'!$C$12,MATCH(Y437,'I_CAPEX - Stock Costs'!$B$13:$B$384,0),0))","v":"Smart Controller Only"},1]

{"sheet":"I_Asset number input","index":16,"n_rows":237,"n_cols":26,"rows_kept":237,"cut":false,"hidden":false,"merged":[[2,10,2,14]]}
[null,"Forecast number of assets",null,null,null,null,null,null,null,null,null,null,null,null,null,null,null,null,null,null,null,"If the forecast population is not input, then use the default growth rate"]
[null,"This sheet contains forecast volumes by tariff type in columns J to O.",null,null,null,null,null,null,null,null,null,null,null,null,null,null,null,null,null,null,"Default growth rate",{"$f":"'I_OPEX Input'!D29","v":0},{"$f":"'I_OPEX Input'!E29","v":0},{"$f":"'I_OPEX Input'!F29","v":0},{"$f":"'I_OPEX Input'!G29","v":0},{"$f":"'I_OPEX Input'!H29","v":0}]
[null,null,null,null,null,null,null,null,null,null,"Average volumes applicable for Maintenance and Post 09 Annuity charges"]
[null,{"$f":"'Detailed price list'!B4","v":"Charge Reference"},{"$f":"'Detailed price list'!C4","v":"Charge Group"},"Description","Sparklines","FY20","FY21","FY22","FY23","FY24","FY25","FY26","FY27","FY28","FY29",{"$f":"'Detailed price list'!J4","v":"Charge Type"},{"$f":"'Detailed price list'!K4","v":"Road Type"},{"$f":"'Detailed price list'!L4","v":"Applied Scenario Price Grouping"},null,null,null,{"$f":"K4","v":"FY25"},{"$f":"L4","v":"FY26"},"FY27","FY28","FY29"]
[null,{"$f":"'Detailed price list'!B5","v":"O/U"},{"$f":"'Detailed price list'!C5","v":"Opex - Connections"},{"$f":"B5","v":"O/U"},null,null,null,null,568,570,572,574,576,578,580,{"$f":"'Detailed price list'!J5","v":"N/A"},{"$f":"'Detailed price list'!K5","v":"N/A"},{"$f":"'Detailed price list'!L5","v":"Connection - O/U"},null,null,null,{"$f":"IF(K5=\"\",J5*(1+V$2),K5)","v":572},{"$f":"IF(L5=\"\",V5*(1+W$2),L5)","v":574},{"$f":"IF(M5=\"\",W5*(1+X$2),M5)","v":576},578,580]
[null,{"$f":"'Detailed price list'!B6","v":"UGR1"},{"$f":"'Detailed price list'!C6","v":"Opex - Connections"},{"$f":"B6","v":"UGR1"},null,null,null,null,31993.5,32120.5,32247.5,32374.5,32501.5,32628.5,32755.5,{"$f":"'Detailed price list'!J6","v":"N/A"},{"$f":"'Detailed price list'!K6","v":"N/A"},{"$f":"'Detailed price list'!L6","v":"Connection - UGR1"},null,null,null,{"$f":"IF(K6=\"\",J6*(1+V$2),K6)","v":32247.5},{"$f":"IF(L6=\"\",V6*(1+W$2),L6)","v":32374.5},32501.5,32628.5,32755.5]
[null,{"$f":"'Detailed price list'!B7","v":"UGR2"},{"$f":"'Detailed price list'!C7","v":"Opex - Connections"},"UGR2",null,null,null,null,24540.5,24637.5,24734.5,24831.5,24928.5,25025.5,25122.5,{"$f":"'Detailed price list'!J7","v":"N/A"},{"$f":"'Detailed price list'!K7","v":"N/A"},{"$f":"'Detailed price list'!L7","v":"Connection - UGR2"},null,null,null,24734.5,24831.5,24928.5,25025.5,25122.5]
[null,{"$f":"'Detailed price list'!B8","v":"MBF1x1000"},{"$f":"'Detailed price list'!C8","v":"Opex - Maintenance- Traditional Luminaire"},"MBF1x1000",null,null,null,null,1,1,1,1,1,1,1,{"$f":"'Detailed price list'!J8","v":"Traditional"},{"$f":"'Detailed price list'!K8","v":"Major (Cat V)"},{"$f":"'Detailed price list'!L8","v":"Legacy Luminaire - Major (Cat V) road"},null,null,null,1,1,1,1,1]
[null,{"$f":"'Detailed price list'!B9","v":"MBF1x125"},{"$f":"'Detailed price list'!C9","v":"Opex - Maintenance- Traditional Luminaire"},"MBF1x125",null,null,null,null,1037,707.5,476.5,236.5,103,85,76,{"$f":"'Detailed price list'!J9","v":"Traditional"},{"$f":"'Detailed price list'!K9","v":"Minor (Cat P)"},{"$f":"'Detailed price list'!L9","v":"Legacy Luminaire - Minor (Cat P) road"},null,null,null,476.5,236.5,103,85,76]
[null,{"$f":"'Detailed price list'!B10","v":"MBF1x250"},{"$f":"'Detailed price list'!C10","v":"Opex - Maintenance- Traditional Luminaire"},"MBF1x250",null,null,null,null,9363.5,6390,4308,2143.5,937,771,688,{"$f":"'Detailed price list'!J10","v":"Traditional"},{"$f":"'Detailed price list'!K10","v":"Major (Cat V)"},{"$f":"'Detailed price list'!L10","v":"Legacy Luminaire - Major (Cat V) road"},null,null,null,4308,2143.5,937,771,688]
[null,{"$f":"'Detailed price list'!B11","v":"MBF1x400"},{"$f":"'Detailed price list'!C11","v":"Opex - Maintenance- Traditional Luminaire"},"MBF1x400",null,null,null,null,3089.5,2108.5,1421.5,707.5,309.5,254.5,227,{"$f":"'Detailed price list'!J11","v":"Traditional"},{"$f":"'Detailed price list'!K11","v":"Major (Cat V)"},{"$f":"'Detailed price list'!L11","v":"Legacy Luminaire - Major (Cat V) road"},null,null,null,1421.5,707.5,309.5,254.5,227]
[null,{"$f":"'Detailed price list'!B12","v":"MBF1x42"},{"$f":"'Detailed price list'!C12","v":"Opex - Maintenance- Traditional Luminaire"},"MBF1x42",null,null,null,null,25097.5,17128,11548,5746,2512,2068,1846,{"$f":"'Detailed price list'!J12","v":"Traditional"},{"$f":"'Detailed price list'!K12","v":"Minor (Cat P)"},{"$f":"'Detailed price list'!L12","v":"Legacy Luminaire - Minor (Cat P) road"},null,null,null,11548,5746,2512,2068,1846]
[null,{"$f":"'Detailed price list'!B13","v":"MBF1x50"},{"$f":"'Detailed price list'!C13","v":"Opex - Maintenance- Traditional Luminaire"},"MBF1x50",null,null,null,null,2279.5,1555.5,1048.5,521.5,228,188,168,{"$f":"'Detailed price list'!J13","v":"Traditional"},{"$f":"'Detailed price list'!K13","v":"Minor (Cat P)"},{"$f":"'Detailed price list'!L13","v":"Legacy Luminaire - Minor (Cat P) road"},null,null,null,1048.5,521.5,228,188,168]
[null,{"$f":"'Detailed price list'!B14","v":"MBF1x80"},{"$f":"'Detailed price list'!C14","v":"Opex - Maintenance- Traditional Luminaire"},"MBF1x80",null,null,null,null,7734,5278.5,3559.5,1772,775.5,638.5,570,{"$f":"'Detailed price list'!J14","v":"Traditional"},{"$f":"'Detailed price list'!K14","v":"Minor (Cat P)"},{"$f":"'Detailed price list'!L14","v":"Legacy Luminaire - Minor (Cat P) road"},null,null,null,3559.5,1772,775.5,638.5,570]
[null,{"$f":"'Detailed price list'!B15","v":"MBF2x80"},{"$f":"'Detailed price list'!C15","v":"Opex - Maintenance- Traditional Luminaire"},"MBF2x80",null,null,null,null,12.5,8.5,5.5,2.5,1,1,1,{"$f":"'Detailed price list'!J15","v":"Traditional"},{"$f":"'Detailed price list'!K15","v":"Minor (Cat P)"},{"$f":"'Detailed price list'!L15","v":"Legacy Luminaire - Minor (Cat P) road"},null,null,null,5.5,2.5,1,1,1]
[null,{"$f":"'Detailed price list'!B16","v":"MBI1x100"},{"$f":"'Detailed price list'!C16","v":"Opex - Maintenance- Traditional Luminaire"},"MBI1x100",null,null,null,null,15,10.5,7.5,4,2,2,2,{"$f":"'Detailed price list'!J16","v":"Traditional"},{"$f":"'Detailed price list'!K16","v":"Major (Cat V)"},{"$f":"'Detailed price list'!L16","v":"Legacy Luminaire - Major (Cat V) road"},null,null,null,7.5,4,2,2,2]
[null,{"$f":"'Detailed price list'!B17","v":"MBI1x1000"},{"$f":"'Detailed price list'!C17","v":"Opex - Maintenance- Traditional Luminaire"},"MBI1x1000",null,null,null,null,6.5,4.5,3.5,2,1,1,1,{"$f":"'Detailed price list'!J17","v":"Traditional"},{"$f":"'Detailed price list'!K17","v":"Major (Cat V)"},{"$f":"'Detailed price list'!L17","v":"Legacy Luminaire - Major (Cat V) road"},null,null,null,3.5,2,1,1,1]
[null,{"$f":"'Detailed price list'!B18","v":"MBI1x150"},{"$f":"'Detailed price list'!C18","v":"Opex - Maintenance- Traditional Luminaire"},"MBI1x150",null,null,null,null,3.5,2.5,1.5,0.5,0,0,0,{"$f":"'Detailed price list'!J18","v":"Traditional"},{"$f":"'Detailed price list'!K18","v":"Major (Cat V)"},{"$f":"'Detailed price list'!L18","v":"Legacy Luminaire - Major (Cat V) road"},null,null,null,1.5,0.5,0,0,0]
[null,{"$f":"'Detailed price list'!B19","v":"MBI1x250"},{"$f":"'Detailed price list'!C19","v":"Opex - Maintenance- Traditional Luminaire"},"MBI1x250",null,null,null,null,47,31.5,20.5,9.5,3.5,2.5,2,{"$f":"'Detailed price list'!J19","v":"Traditional"},{"$f":"'Detailed price list'!K19","v":"Major (Cat V)"},{"$f":"'Detailed price list'!L19","v":"Legacy Luminaire - Major (Cat V) road"},null,null,null,20.5,9.5,3.5,2.5,2]
[null,{"$f":"'Detailed price list'!B20","v":"MBI1x400"},{"$f":"'Detailed price list'!C20","v":"Opex - Maintenance- Traditional Luminaire"},"MBI1x400",null,null,null,null,94.5,64.5,43.5,21.5,9,7,6,{"$f":"'Detailed price list'!J20","v":"Traditional"},{"$f":"'Detailed price list'!K20","v":"Major (Cat V)"},{"$f":"'Detailed price list'!L20","v":"Legacy Luminaire - Major (Cat V) road"},null,null,null,43.5,21.5,9,7,6]
[null,{"$f":"'Detailed price list'!B21","v":"MBI1x70"},{"$f":"'Detailed price list'!C21","v":"Opex - Maintenance- Traditional Luminaire"},"MBI1x70",null,null,null,null,115,78,52,25,10,8,7,{"$f":"'Detailed price list'!J21","v":"Traditional"},{"$f":"'Detailed price list'!K21","v":"Minor (Cat P)"},{"$f":"'Detailed price list'!L21","v":"Legacy Luminaire - Minor (Cat P) road"},null,null,null,52,25,10,8,7]
[null,{"$f":"'Detailed price list'!B22","v":"MBI1x70 II"},{"$f":"'Detailed price list'!C22","v":"Opex - Maintenance- Traditional Luminaire"},"MBI1x70 II",null,null,null,null,16.5,11,7,3,1,1,1,{"$f":"'Detailed price list'!J22","v":"Traditional"},{"$f":"'Detailed price list'!K22","v":"Minor (Cat P)"},{"$f":"'Detailed price list'!L22","v":"Legacy Luminaire - Minor (Cat P) road"},null,null,null,7,{"$f":"IF(L22=\"\",V22*(1+W$2),L22)","v":3},1,1,1]
[null,{"$f":"'Detailed price list'!B23","v":"SON1x100"},{"$f":"'Detailed price list'!C23","v":"Opex - Maintenance- Traditional Luminaire"},"SON1x100",null,null,null,null,923.5,630.5,425.5,212,93,77,69,{"$f":"'Detailed price list'!J23","v":"Traditional"},{"$f":"'Detailed price list'!K23","v":"Major (Cat V)"},{"$f":"'Detailed price list'!L23","v":"Legacy Luminaire - Major (Cat V) road"},null,null,null,425.5,212,93,77,69]
[null,{"$f":"'Detailed price list'!B24","v":"SON1x1000"},{"$f":"'Detailed price list'!C24","v":"Opex - Maintenance- Traditional Luminaire"},"SON1x1000",null,null,null,null,27.5,19,13,6.5,3,3,3,{"$f":"'Detailed price list'!J24","v":"Traditional"},{"$f":"'Detailed price list'!K24","v":"Major (Cat V)"},{"$f":"'Detailed price list'!L24","v":"Legacy Luminaire - Major (Cat V) road"},null,null,null,13,6.5,3,3,3]
[null,{"$f":"'Detailed price list'!B25","v":"SON1x150"},{"$f":"'Detailed price list'!C25","v":"Opex - Maintenance- Traditional Luminaire"},"SON1x150",null,null,null,null,13753.5,9386,6328,3148.5,1376.5,1133.5,1012,{"$f":"'Detailed price list'!J25","v":"Traditional"},{"$f":"'Detailed price list'!K25","v":"Major (Cat V)"},{"$f":"'Detailed price list'!L25","v":"Legacy Luminaire - Major (Cat V) road"},null,null,null,6328,3148.5,1376.5,1133.5,1012]
[null,{"$f":"'Detailed price list'!B26","v":"SON1x150 AR"},{"$f":"'Detailed price list'!C26","v":"Opex - Maintenance- Traditional Luminaire"},"SON1x150 AR",null,null,null,null,2458.5,1677.5,1130.5,562,245.5,202.5,181,{"$f":"'Detailed price list'!J26","v":"Traditional"},{"$f":"'Detailed price list'!K26","v":"Major (Cat V)"},{"$f":"'Detailed price list'!L26","v":"Legacy Luminaire - Major (Cat V) road"},null,null,null,1130.5,562,245.5,202.5,181]
[null,{"$f":"'Detailed price list'!B27","v":"SON1x250"},{"$f":"'Detailed price list'!C27","v":"Opex - Maintenance- Traditional Luminaire"},"SON1x250",null,null,null,null,16793,11460,7726,3843.5,1679.5,1382.5,1234,{"$f":"'Detailed price list'!J27","v":"Traditional"},{"$f":"'Detailed price list'!K27","v":"Major (Cat V)"},{"$f":"'Detailed price list'!L27","v":"Legacy Luminaire - Major (Cat V) road"},null,null,null,7726,3843.5,1679.5,1382.5,1234]
[null,{"$f":"'Detailed price list'!B28","v":"SON1x250 AR"},{"$f":"'Detailed price list'!C28","v":"Opex - Maintenance- Traditional Luminaire"},"SON1x250 AR",null,null,null,null,3198,2182.5,1471.5,732,319.5,262.5,234,{"$f":"'Detailed price list'!J28","v":"Traditional"},{"$f":"'Detailed price list'!K28","v":"Major (Cat V)"},{"$f":"'Detailed price list'!L28","v":"Legacy Luminaire - Major (Cat V) road"},null,null,null,1471.5,732,319.5,262.5,234]
[null,{"$f":"'Detailed price list'!B29","v":"SON1x400"},{"$f":"'Detailed price list'!C29","v":"Opex - Maintenance- Traditional Luminaire"},"SON1x400",null,null,null,null,1545,1054,710,352.5,153.5,126.5,113,{"$f":"'Detailed price list'!J29","v":"Traditional"},{"$f":"'Detailed price list'!K29","v":"Major (Cat V)"},{"$f":"'Detailed price list'!L29","v":"Legacy Luminaire - Major (Cat V) road"},null,null,null,710,352.5,153.5,126.5,113]
[null,{"$f":"'Detailed price list'!B30","v":"SON1x400 AR"},{"$f":"'Detailed price list'!C30","v":"Opex - Maintenance- Traditional Luminaire"},"SON1x400 AR",null,null,null,null,332.5,227,153,76,33,27,24,{"$f":"'Detailed price list'!J30","v":"Traditional"},{"$f":"'Detailed price list'!K30","v":"Major (Cat V)"},{"$f":"'Detailed price list'!L30","v":"Legacy Luminaire - Major (Cat V) road"},null,null,null,153,76,33,27,24]
[null,{"$f":"'Detailed price list'!B31","v":"SON1x50"},{"$f":"'Detailed price list'!C31","v":"Opex - Maintenance- Traditional Luminaire"},"SON1x50",null,null,null,null,6.5,4.5,3.5,2,1,1,1,{"$f":"'Detailed price list'!J31","v":"Traditional"},{"$f":"'Detailed price list'!K31","v":"Minor (Cat P)"},{"$f":"'Detailed price list'!L31","v":"Legacy Luminaire - Minor (Cat P) road"},null,null,null,3.5,2,1,1,1]
[null,{"$f":"'Detailed price list'!B32","v":"SON1x600"},{"$f":"'Detailed price list'!C32","v":"Opex - Maintenance- Traditional Luminaire"},"SON1x600",null,null,null,null,0,0,0,0,0,0,0,{"$f":"'Detailed price list'!J32","v":"Traditional"},{"$f":"'Detailed price list'!K32","v":"Major (Cat V)"},{"$f":"'Detailed price list'!L32","v":"Legacy Luminaire - Major (Cat V) road"},null,null,null,0,0,0,0,0]
[null,{"$f":"'Detailed price list'!B33","v":"SON1x70"},{"$f":"'Detailed price list'!C33","v":"Opex - Maintenance- Traditional Luminaire"},"SON1x70",null,null,null,null,379.5,259,175,87.5,38.5,31.5,28,{"$f":"'Detailed price list'!J33","v":"Traditional"},{"$f":"'Detailed price list'!K33","v":"Minor (Cat P)"},{"$f":"'Detailed price list'!L33","v":"Legacy Luminaire - Minor (Cat P) road"},null,null,null,175,87.5,38.5,31.5,28]
[null,{"$f":"'Detailed price list'!B34","v":"SON2x250"},{"$f":"'Detailed price list'!C34","v":"Opex - Maintenance- Traditional Luminaire"},"SON2x250",null,null,null,null,9,6,4,2,1,1,1,{"$f":"'Detailed price list'!J34","v":"Traditional"},{"$f":"'Detailed price list'!K34","v":"Major (Cat V)"},{"$f":"'Detailed price list'!L34","v":"Legacy Luminaire - Major (Cat V) road"},null,null,null,4,2,1,1,1]
[null,{"$f":"'Detailed price list'!B35","v":"SON2x400"},{"$f":"'Detailed price list'!C35","v":"Opex - Maintenance- Traditional Luminaire"},"SON2x400",null,null,null,null,3.5,2.5,1.5,0.5,0,0,0,{"$f":"'Detailed price list'!J35","v":"Traditional"},{"$f":"'Detailed price list'!K35","v":"Major (Cat V)"},{"$f":"'Detailed price list'!L35","v":"Legacy Luminaire - Major (Cat V) road"},null,null,null,1.5,0.5,0,0,0]
[null,{"$f":"'Detailed price list'!B36","v":"SON4x250"},{"$f":"'Detailed price list'!C36","v":"Opex - Maintenance- Traditional Luminaire"},"SON4x250",null,null,null,null,4,2.5,1.5,0.5,0,0,0,{"$f":"'Detailed price list'!J36","v":"Traditional"},{"$f":"'Detailed price list'!K36","v":"Major (Cat V)"},{"$f":"'Detailed price list'!L36","v":"Legacy Luminaire - Major (Cat V) road"},null,null,null,1.5,0.5,0,0,0]
[null,{"$f":"'Detailed price list'!B37","v":"SON4x600"},{"$f":"'Detailed price list'!C37","v":"Opex - Maintenance- Traditional Luminaire"},"SON4x600",null,null,null,null,2.5,1.5,0.5,-0.5,-1,-1,-1,{"$f":"'Detailed price list'!J37","v":"Traditional"},{"$f":"'Detailed price list'!K37","v":"Major (Cat V)"},{"$f":"'Detailed price list'!L37","v":"Legacy Luminaire - Major (Cat V) road"},null,null,null,0.5,-0.5,-1,-1,-1]
[null,{"$f":"'Detailed price list'!B38","v":"TF1x20"},{"$f":"'Detailed price list'!C38","v":"Opex - Maintenance- Traditional Luminaire"},"TF1x20",null,null,null,null,1,1,1,1,1,1,1,{"$f":"'Detailed price list'!J38","v":"Traditional"},{"$f":"'Detailed price list'!K38","v":"Minor (Cat P)"},{"$f":"'Detailed price list'!L38","v":"Legacy Luminaire - Minor (Cat P) road"},null,null,null,1,{"$f":"IF(L38=\"\",V38*(1+W$2),L38)","v":1},1,1,1]
[null,{"$f":"'Detailed price list'!B39","v":"TF1x40"},{"$f":"'Detailed price list'!C39","v":"Opex - Maintenance- Traditional Luminaire"},"TF1x40",null,null,null,null,45,31,21,10.5,4.5,3.5,3,{"$f":"'Detailed price list'!J39","v":"Traditional"},{"$f":"'Detailed price list'!K39","v":"Minor (Cat P)"},{"$f":"'Detailed price list'!L39","v":"Legacy Luminaire - Minor (Cat P) road"},null,null,null,21,10.5,4.5,3.5,3]
[null,{"$f":"'Detailed price list'!B40","v":"TF1x80"},{"$f":"'Detailed price list'!C40","v":"Opex - Maintenance- Traditional Luminaire"},"TF1x80",null,null,null,null,14,9.5,6.5,3.5,2,2,2,{"$f":"'Detailed price list'!J40","v":"Traditional"},{"$f":"'Detailed price list'!K40","v":"Minor (Cat P)"},{"$f":"'Detailed price list'!L40","v":"Legacy Luminaire - Minor (Cat P) road"},null,null,null,6.5,3.5,2,2,2]
[null,{"$f":"'Detailed price list'!B41","v":"TF2x14 T5"},{"$f":"'Detailed price list'!C41","v":"Opex - Maintenance- Traditional Luminaire"},"TF2x14 T5",null,null,null,null,4,2.5,1.5,0.5,0,0,0,{"$f":"'Detailed price list'!J41","v":"Traditional"},{"$f":"'Detailed price list'!K41","v":"Minor (Cat P)"},{"$f":"'Detailed price list'!L41","v":"Legacy Luminaire - Minor (Cat P) road"},null,null,null,1.5,0.5,0,0,0]
[null,{"$f":"'Detailed price list'!B42","v":"TF2x20"},{"$f":"'Detailed price list'!C42","v":"Opex - Maintenance- Traditional Luminaire"},"TF2x20",null,null,null,null,238,162.5,109.5,54.5,24,20,18,{"$f":"'Detailed price list'!J42","v":"Traditional"},{"$f":"'Detailed price list'!K42","v":"Minor (Cat P)"},{"$f":"'Detailed price list'!L42","v":"Legacy Luminaire - Minor (Cat P) road"},null,null,null,109.5,54.5,24,20,18]
[null,{"$f":"'Detailed price list'!B43","v":"TF2x26"},{"$f":"'Detailed price list'!C43","v":"Opex - Maintenance- Traditional Luminaire"},"TF2x26",null,null,null,null,6.5,4.5,3.5,2,1,1,1,{"$f":"'Detailed price list'!J43","v":"Traditional"},{"$f":"'Detailed price list'!K43","v":"Minor (Cat P)"},{"$f":"'Detailed price list'!L43","v":"Legacy Luminaire - Minor (Cat P) road"},null,null,null,3.5,2,1,1,1]
[null,{"$f":"'Detailed price list'!B44","v":"TF2x40"},{"$f":"'Detailed price list'!C44","v":"Opex - Maintenance- Traditional Luminaire"},"TF2x40",null,null,null,null,10,7,5,3,2,2,2,{"$f":"'Detailed price list'!J44","v":"Traditional"},{"$f":"'Detailed price list'!K44","v":"Minor (Cat P)"},{"$f":"'Detailed price list'!L44","v":"Legacy Luminaire - Minor (Cat P) road"},null,null,null,5,3,2,2,2]
[null,{"$f":"'Detailed price list'!B45","v":"TF4x20"},{"$f":"'Detailed price list'!C45","v":"Opex - Maintenance- Traditional Luminaire"},"TF4x20",null,null,null,null,6,4.5,3.5,2.5,2,2,2,{"$f":"'Detailed price list'!J45","v":"Traditional"},{"$f":"'Detailed price list'!K45","v":"Minor (Cat P)"},{"$f":"'Detailed price list'!L45","v":"Legacy Luminaire - Minor (Cat P) road"},null,null,null,3.5,2.5,2,2,2]
[null,{"$f":"'Detailed price list'!B46","v":"TF4x40"},{"$f":"'Detailed price list'!C46","v":"Opex - Maintenance- Traditional Luminaire"},"TF4x40",null,null,null,null,1.5,1,1,1,1,1,1,{"$f":"'Detailed price list'!J46","v":"Traditional"},{"$f":"'Detailed price list'!K46","v":"Minor (Cat P)"},{"$f":"'Detailed price list'!L46","v":"Legacy Luminaire - Minor (Cat P) road"},null,null,null,1,1,1,1,1]
[null,{"$f":"'Detailed price list'!B47","v":"LED TRIAL"},{"$f":"'Detailed price list'!C47","v":"Opex - Maintenance- LED Luminaire"},"LED TRIAL",null,null,null,null,88,88,88,88,88,88,88,{"$f":"'Detailed price list'!J47","v":"LED"},{"$f":"'Detailed price list'!K47","v":"Minor (Cat P)"},{"$f":"'Detailed price list'!L47","v":"Luminaire - Minor (Cat P) road"},null,null,null,88,88,88,88,88]
[null,{"$f":"'Detailed price list'!B48","v":"LED1x100"},{"$f":"'Detailed price list'!C48","v":"Opex - Maintenance- LED Luminaire"},"LED1x100",null,null,null,null,18036.5,34548.5,22156.5,5046.5,5058,4274,4383.5,{"$f":"'Detailed price list'!J48","v":"LED"},{"$f":"'Detailed price list'!K48","v":"Major (Cat V)"},{"$f":"'Detailed price list'!L48","v":"Luminaire - Major (Cat V) road"},null,null,null,22156.5,5046.5,5058,4274,4383.5]
[null,{"$f":"'Detailed price list'!B49","v":"LED1x17"},{"$f":"'Detailed price list'!C49","v":"Opex - Maintenance- LED Luminaire"},"LED1x17",null,null,null,null,110533.5,123206.5,129690.5,135927,140867,142243,143442.5,{"$f":"'Detailed price list'!J49","v":"LED"},{"$f":"'Detailed price list'!K49","v":"Minor (Cat P)"},{"$f":"'Detailed price list'!L49","v":"Luminaire - Minor (Cat P) road"},null,null,null,129690.5,135927,140867,142243,143442.5]
[null,{"$f":"'Detailed price list'!B50","v":"LED1x200"},{"$f":"'Detailed price list'!C50","v":"Opex - Maintenance- LED Luminaire"},"LED1x200",null,null,null,null,2705,2705,2705,2705,2705,2705,2705,{"$f":"'Detailed price list'!J50","v":"LED"},{"$f":"'Detailed price list'!K50","v":"Major (Cat V)"},{"$f":"'Detailed price list'!L50","v":"Luminaire - Major (Cat V) road"},null,null,null,2705,2705,2705,2705,2705]
[null,{"$f":"'Detailed price list'!B51","v":"LED1x22"},{"$f":"'Detailed price list'!C51","v":"Opex - Maintenance- LED Luminaire"},"LED1x22",null,null,null,null,14431,14431,14431,14431,14431,14431,14431,{"$f":"'Detailed price list'!J51","v":"LED"},{"$f":"'Detailed price list'!K51","v":"Minor (Cat P)"},{"$f":"'Detailed price list'!L51","v":"Luminaire - Minor (Cat P) road"},null,null,null,14431,14431,14431,14431,14431]
[null,{"$f":"'Detailed price list'!B52","v":"LED1x25 GE"},{"$f":"'Detailed price list'!C52","v":"Opex - Maintenance- LED Luminaire"},"LED1x25 GE",null,null,null,null,4492,4492,4492,4492,4492,4492,4492,{"$f":"'Detailed price list'!J52","v":"LED"},{"$f":"'Detailed price list'!K52","v":"Minor (Cat P)"},{"$f":"'Detailed price list'!L52","v":"Luminaire - Minor (Cat P) road"},null,null,null,4492,4492,4492,4492,4492]
[null,{"$f":"'Detailed price list'!B53","v":"LED1x28"},{"$f":"'Detailed price list'!C53","v":"Opex - Maintenance- LED Luminaire"},"LED1x28",null,null,null,null,3965,3965,3965,3965,3965,3965,3965,{"$f":"'Detailed price list'!J53","v":"LED"},{"$f":"'Detailed price list'!K53","v":"Minor (Cat P)"},{"$f":"'Detailed price list'!L53","v":"Luminaire - Minor (Cat P) road"},null,null,null,3965,3965,3965,3965,3965]
[null,{"$f":"'Detailed price list'!B54","v":"LED1x29"},{"$f":"'Detailed price list'!C54","v":"Opex - Maintenance- LED Luminaire"},"LED1x29",null,null,null,null,14518,14518,14518,14518,14518,14518,14518,{"$f":"'Detailed price list'!J54","v":"LED"},{"$f":"'Detailed price list'!K54","v":"Minor (Cat P)"},{"$f":"'Detailed price list'!L54","v":"Luminaire - Minor (Cat P) road"},null,null,null,14518,{"$f":"IF(L54=\"\",V54*(1+W$2),L54)","v":14518},14518,14518,14518]
[null,{"$f":"'Detailed price list'!B55","v":"LED1x298"},{"$f":"'Detailed price list'!C55","v":"Opex - Maintenance- LED Luminaire"},"LED1x298",null,null,null,null,53,53,53,53,53,53,53,{"$f":"'Detailed price list'!J55","v":"LED"},{"$f":"'Detailed price list'!K55","v":"Major (Cat V)"},{"$f":"'Detailed price list'!L55","v":"Luminaire - Major (Cat V) road"},null,null,null,53,53,53,53,53]
[null,{"$f":"'Detailed price list'!B56","v":"LED1x33"},{"$f":"'Detailed price list'!C56","v":"Opex - Maintenance- LED Luminaire"},"LED1x33",null,null,null,null,29,29,29,29,29,29,29,{"$f":"'Detailed price list'!J56","v":"LED"},{"$f":"'Detailed price list'!K56","v":"Minor (Cat P)"},{"$f":"'Detailed price list'!L56","v":"Luminaire - Minor (Cat P) road"},null,null,null,29,29,29,29,29]
[null,{"$f":"'Detailed price list'!B57","v":"LED1x42"},{"$f":"'Detailed price list'!C57","v":"Opex - Maintenance- LED Luminaire"},"LED1x42",null,null,null,null,40,40,40,40,40,40,40,{"$f":"'Detailed price list'!J57","v":"LED"},{"$f":"'Detailed price list'!K57","v":"Minor (Cat P)"},{"$f":"'Detailed price list'!L57","v":"Luminaire - Minor (Cat P) road"},null,null,null,40,40,40,40,40]
[null,{"$f":"'Detailed price list'!B58","v":"Smart Controller (Licence and maintenance fee)"},{"$f":"'Detailed price list'!C58","v":"Opex - Maintenance- Smart controller"},"Smart Controller (Licence and maintenance fee)",null,null,null,null,8300,18300,40800,59050,66550,68550,69050,{"$f":"'Detailed price list'!J58","v":"Smart Controller"},{"$f":"'Detailed price list'!K58","v":"N/A"},{"$f":"'Detailed price list'!L58","v":"Smart Controller - Licence and maintenance fee"},null,null,null,40800,59050,66550,68550,69050]
[null,{"$f":"'Detailed price list'!B59","v":"Luminaire - Decorative "},{"$f":"'Detailed price list'!C59","v":"Opex - Maintenance- LED Luminaire"},{"$f":"B59","v":"Luminaire - Decorative "},null,null,null,null,0,0,0,0,0,0,0,{"$f":"'Detailed price list'!J59","v":"LED"},{"$f":"'Detailed price list'!K59","v":"Minor (Cat P)"},{"$f":"'Detailed price list'!L59","v":"Luminaire - Decorative "},null,null,null,{"$f":"IF(K59=\"\",J59*(1+V$2),K59)","v":0},{"$f":"IF(L59=\"\",V59*(1+W$2),L59)","v":0},{"$f":"IF(M59=\"\",W59*(1+X$2),M59)","v":0},{"$f":"IF(N59=\"\",X59*(1+Y$2),N59)","v":0},{"$f":"IF(O59=\"\",Y59*(1+Z$2),O59)","v":0}]
[null,{"$f":"'Detailed price list'!B60","v":"Luminaire - Floodlight"},{"$f":"'Detailed price list'!C60","v":"Opex - Maintenance- LED Luminaire"},"Luminaire - Floodlight",null,null,null,null,0,0,0,0,0,0,0,{"$f":"'Detailed price list'!J60","v":"LED"},{"$f":"'Detailed price list'!K60","v":"Major (Cat V)"},{"$f":"'Detailed price list'!L60","v":"Luminaire - Floodlight"},null,null,null,0,0,0,0,0]
[null,{"$f":"'Detailed price list'!B61","v":"Luminaire - Major (Cat V) road - smart controller installed"},{"$f":"'Detailed price list'!C61","v":"Opex - Maintenance- LED Luminaire"},{"$f":"B61","v":"Luminaire - Major (Cat V) road - smart controller installed"},null,null,null,null,0,0,23985,53145,59895,61695,62145,{"$f":"'Detailed price list'!J61","v":"LED"},{"$f":"'Detailed price list'!K61","v":"Major (Cat V)"},{"$f":"'Detailed price list'!L61","v":"Luminaire - Major (Cat V) road - smart controller installed"},null,null,null,23985,53145,59895,61695,62145]
[null,{"$f":"'Detailed price list'!B62","v":"Luminaire - Minor (Cat P) road - smart controller installed"},{"$f":"'Detailed price list'!C62","v":"Opex - Maintenance- LED Luminaire"},"Luminaire - Minor (Cat P) road - smart controller installed",null,null,null,null,0,0,2665,5905,6655,6855,6905,{"$f":"'Detailed price list'!J62","v":"LED"},{"$f":"'Detailed price list'!K62","v":"Minor (Cat P)"},{"$f":"'Detailed price list'!L62","v":"Luminaire - Minor (Cat P) road - smart controller installed"},null,null,null,2665,5905,6655,6855,6905]
[null,{"$f":"'Detailed price list'!B63","v":"Luminaire - Floodlight - smart controller installed"},{"$f":"'Detailed price list'!C63","v":"Opex - Maintenance- LED Luminaire"},"Luminaire - Floodlight - smart controller installed",null,null,null,null,0,0,0,0,0,0,0,{"$f":"'Detailed price list'!J63","v":"LED"},{"$f":"'Detailed price list'!K63","v":"Major (Cat V)"},{"$f":"'Detailed price list'!L63","v":"Luminaire - Floodlight - smart controller installed"},null,null,null,0,0,0,0,0]
[null,{"$f":"'Detailed price list'!B64","v":"Luminaire - Decorative - smart controller installed"},{"$f":"'Detailed price list'!C64","v":"Opex - Maintenance- LED Luminaire"},"Luminaire - Decorative - smart controller installed",null,null,null,null,0,0,0,0,0,0,0,{"$f":"'Detailed price list'!J64","v":"LED"},{"$f":"'Detailed price list'!K64","v":"Minor (Cat P)"},{"$f":"'Detailed price list'!L64","v":"Luminaire - Decorative - smart controller installed"},null,null,null,0,0,0,0,0]
[null,{"$f":"'Detailed price list'!B65","v":"0.5"},{"$f":"'Detailed price list'!C65","v":"Capital - Bracket"},"0.5",null,null,null,null,6354.3,6457.1500000000005,6508.7000000000007,6508.7000000000007,6508.7000000000007,6508.7000000000007,6508.7000000000007,{"$f":"'Detailed price list'!J65","v":"Bracket"},{"$f":"'Detailed price list'!K65","v":"Minor (Cat P)"},{"$f":"'Detailed price list'!L65","v":"Legacy Bracket - Minor (Cat P) road - Short"},null,null,null,6508.7000000000007,6508.7000000000007,6508.7000000000007,6508.7000000000007,6508.7000000000007]
[null,{"$f":"'Detailed price list'!B66","v":"0.6"},{"$f":"'Detailed price list'!C66","v":"Capital - Bracket"},"0.6",null,null,null,null,26,26,26,26,26,26,26,{"$f":"'Detailed price list'!J66","v":"Bracket"},{"$f":"'Detailed price list'!K66","v":"Minor (Cat P)"},{"$f":"'Detailed price list'!L66","v":"Legacy Bracket - Minor (Cat P) road - Short"},null,null,null,26,26,26,26,26]
[null,{"$f":"'Detailed price list'!B67","v":"1.0"},{"$f":"'Detailed price list'!C67","v":"Capital - Bracket"},"1.0",null,null,null,null,116,116,116,116,116,116,116,{"$f":"'Detailed price list'!J67","v":"Bracket"},{"$f":"'Detailed price list'!K67","v":"Minor (Cat P)"},{"$f":"'Detailed price list'!L67","v":"Legacy Bracket - Minor (Cat P) road - Short"},null,null,null,116,116,116,116,116]
[null,{"$f":"'Detailed price list'!B68","v":"1.2"},{"$f":"'Detailed price list'!C68","v":"Capital - Bracket"},"1.2",null,null,null,null,457,457,457,457,457,457,457,{"$f":"'Detailed price list'!J68","v":"Bracket"},{"$f":"'Detailed price list'!K68","v":"Minor (Cat P)"},{"$f":"'Detailed price list'!L68","v":"Legacy Bracket - Minor (Cat P) road - Short"},null,null,null,457,457,457,457,457]
[null,{"$f":"'Detailed price list'!B69","v":"1.5"},{"$f":"'Detailed price list'!C69","v":"Capital - Bracket"},"1.5",null,null,null,null,266,266,266,266,266,266,266,{"$f":"'Detailed price list'!J69","v":"Bracket"},{"$f":"'Detailed price list'!K69","v":"Minor (Cat P)"},{"$f":"'Detailed price list'!L69","v":"Legacy Bracket - Minor (Cat P) road - Short"},null,null,null,266,266,266,266,266]
[null,{"$f":"'Detailed price list'!B70","v":"2.0"},{"$f":"'Detailed price list'!C70","v":"Capital - Bracket"},"2.0",null,null,null,null,39298.199999999997,40222.35,40684.300000000003,40684.300000000003,40684.300000000003,40684.300000000003,40684.300000000003,{"$f":"'Detailed price list'!J70","v":"Bracket"},{"$f":"'Detailed price list'!K70","v":"Minor (Cat P)"},{"$f":"'Detailed price list'!L70","v":"Legacy Bracket - Minor (Cat P) road - Short"},null,null,null,40684.300000000003,40684.300000000003,40684.300000000003,40684.300000000003,40684.300000000003]
[null,{"$f":"'Detailed price list'!B71","v":"2.5"},{"$f":"'Detailed price list'!C71","v":"Capital - Bracket"},"2.5",null,null,null,null,69,69,69,69,69,69,69,{"$f":"'Detailed price list'!J71","v":"Bracket"},{"$f":"'Detailed price list'!K71","v":"Minor (Cat P)"},{"$f":"'Detailed price list'!L71","v":"Legacy Bracket - Minor (Cat P) road - Short"},null,null,null,69,69,69,69,69]
[null,{"$f":"'Detailed price list'!B72","v":"3.0"},{"$f":"'Detailed price list'!C72","v":"Capital - Bracket"},"3.0",null,null,null,null,649,649,649,649,649,649,649,{"$f":"'Detailed price list'!J72","v":"Bracket"},{"$f":"'Detailed price list'!K72","v":"Minor (Cat P)"},{"$f":"'Detailed price list'!L72","v":"Legacy Bracket - Minor (Cat P) road - Short"},null,null,null,649,649,649,649,649]
[null,{"$f":"'Detailed price list'!B73","v":"3.5"},{"$f":"'Detailed price list'!C73","v":"Capital - Bracket"},"3.5",null,null,null,null,1057,1057,1057,1057,1057,1057,1057,{"$f":"'Detailed price list'!J73","v":"Bracket"},{"$f":"'Detailed price list'!K73","v":"Minor (Cat P)"},{"$f":"'Detailed price list'!L73","v":"Legacy Bracket - Minor (Cat P) road - Medium"},null,null,null,1057,1057,1057,1057,1057]
[null,{"$f":"'Detailed price list'!B74","v":"4.0"},{"$f":"'Detailed price list'!C74","v":"Capital - Bracket"},"4.0",null,null,null,null,629,629,629,629,629,629,629,{"$f":"'Detailed price list'!J74","v":"Bracket"},{"$f":"'Detailed price list'!K74","v":"Minor (Cat P)"},{"$f":"'Detailed price list'!L74","v":"Legacy Bracket - Minor (Cat P) road - Medium"},null,null,null,629,629,629,629,629]
[null,{"$f":"'Detailed price list'!B75","v":"4.5"},{"$f":"'Detailed price list'!C75","v":"Capital - Bracket"},"4.5",null,null,null,null,144,144,144,144,144,144,144,{"$f":"'Detailed price list'!J75","v":"Bracket"},{"$f":"'Detailed price list'!K75","v":"Minor (Cat P)"},{"$f":"'Detailed price list'!L75","v":"Legacy Bracket - Minor (Cat P) road - Medium"},null,null,null,144,144,144,144,144]
[null,{"$f":"'Detailed price list'!B76","v":"5.0"},{"$f":"'Detailed price list'!C76","v":"Capital - Bracket"},{"$f":"B76","v":"5.0"},null,null,null,null,44,44,44,44,44,44,44,{"$f":"'Detailed price list'!J76","v":"Bracket"},{"$f":"'Detailed price list'!K76","v":"Minor (Cat P)"},{"$f":"'Detailed price list'!L76","v":"Legacy Bracket - Minor (Cat P) road - Medium"},null,null,null,{"$f":"IF(K76=\"\",J76*(1+V$2),K76)","v":44},{"$f":"IF(L76=\"\",V76*(1+W$2),L76)","v":44},44,44,44]
[null,{"$f":"'Detailed price list'!B77","v":"6.0"},{"$f":"'Detailed price list'!C77","v":"Capital - Bracket"},"6.0",null,null,null,null,272,272,272,272,272,272,272,{"$f":"'Detailed price list'!J77","v":"Bracket"},{"$f":"'Detailed price list'!K77","v":"Minor (Cat P)"},{"$f":"'Detailed price list'!L77","v":"Legacy Bracket - Minor (Cat P) road - Long"},null,null,null,272,272,272,272,272]
[null,{"$f":"'Detailed price list'!B78","v":"6.5"},{"$f":"'Detailed price list'!C78","v":"Capital - Bracket"},"6.5",null,null,null,null,38,38,38,38,38,38,38,{"$f":"'Detailed price list'!J78","v":"Bracket"},{"$f":"'Detailed price list'!K78","v":"Minor (Cat P)"},{"$f":"'Detailed price list'!L78","v":"Legacy Bracket - Minor (Cat P) road - Long"},null,null,null,38,38,38,38,38]
[null,{"$f":"'Detailed price list'!B79","v":"7.0"},{"$f":"'Detailed price list'!C79","v":"Capital - Bracket"},"7.0",null,null,null,null,24,24,24,24,24,24,24,{"$f":"'Detailed price list'!J79","v":"Bracket"},{"$f":"'Detailed price list'!K79","v":"Minor (Cat P)"},{"$f":"'Detailed price list'!L79","v":"Legacy Bracket - Minor (Cat P) road - Long"},null,null,null,24,24,24,24,24]
[null,{"$f":"'Detailed price list'!B80","v":"8.0"},{"$f":"'Detailed price list'!C80","v":"Capital - Bracket"},"8.0",null,null,null,null,2,2,2,2,2,2,2,{"$f":"'Detailed price list'!J80","v":"Bracket"},{"$f":"'Detailed price list'!K80","v":"Minor (Cat P)"},{"$f":"'Detailed price list'!L80","v":"Legacy Bracket - Minor (Cat P) road - Long"},null,null,null,2,2,2,2,2]
[null,{"$f":"'Detailed price list'!B81","v":"C4"},{"$f":"'Detailed price list'!C81","v":"Capital - Bracket"},"C4",null,null,null,null,54,54,54,54,54,54,54,{"$f":"'Detailed price list'!J81","v":"Bracket"},{"$f":"'Detailed price list'!K81","v":"Major (Cat V)"},{"$f":"'Detailed price list'!L81","v":"Legacy Bracket - Major (Cat V) road - Short"},null,null,null,54,54,54,54,54]
[null,{"$f":"'Detailed price list'!B82","v":"T1"},{"$f":"'Detailed price list'!C82","v":"Capital - Bracket"},"T1",null,null,null,null,2097,2097,2097,2097,2097,2097,2097,{"$f":"'Detailed price list'!J82","v":"Bracket"},{"$f":"'Detailed price list'!K82","v":"Major (Cat V)"},{"$f":"'Detailed price list'!L82","v":"Legacy Bracket - Major (Cat V) road - Short"},null,null,null,2097,2097,2097,2097,2097]
[null,{"$f":"'Detailed price list'!B83","v":"T2"},{"$f":"'Detailed price list'!C83","v":"Capital - Bracket"},"T2",null,null,null,null,732,732,732,732,732,732,732,{"$f":"'Detailed price list'!J83","v":"Bracket"},{"$f":"'Detailed price list'!K83","v":"Major (Cat V)"},{"$f":"'Detailed price list'!L83","v":"Legacy Bracket - Major (Cat V) road - Short"},null,null,null,732,732,732,732,732]
[null,{"$f":"'Detailed price list'!B84","v":"T2A"},{"$f":"'Detailed price list'!C84","v":"Capital - Bracket"},"T2A",null,null,null,null,381,381,381,381,381,381,381,{"$f":"'Detailed price list'!J84","v":"Bracket"},{"$f":"'Detailed price list'!K84","v":"Major (Cat V)"},{"$f":"'Detailed price list'!L84","v":"Legacy Bracket - Major (Cat V) road - Short"},null,null,null,381,381,381,381,381]
[null,{"$f":"'Detailed price list'!B85","v":"T3"},{"$f":"'Detailed price list'!C85","v":"Capital - Bracket"},"T3",null,null,null,null,632,632,632,632,632,632,632,{"$f":"'Detailed price list'!J85","v":"Bracket"},{"$f":"'Detailed price list'!K85","v":"Major (Cat V)"},{"$f":"'Detailed price list'!L85","v":"Legacy Bracket - Major (Cat V) road - Medium"},null,null,null,632,632,632,632,632]
[null,{"$f":"'Detailed price list'!B86","v":"T3A"},{"$f":"'Detailed price list'!C86","v":"Capital - Bracket"},"T3A",null,null,null,null,310,310,310,310,310,310,310,{"$f":"'Detailed price list'!J86","v":"Bracket"},{"$f":"'Detailed price list'!K86","v":"Major (Cat V)"},{"$f":"'Detailed price list'!L86","v":"Legacy Bracket - Major (Cat V) road - Medium"},null,null,null,310,310,310,310,310]
[null,{"$f":"'Detailed price list'!B87","v":"T4"},{"$f":"'Detailed price list'!C87","v":"Capital - Bracket"},"T4",null,null,null,null,453.25,453.75,454,454,454,454,454,{"$f":"'Detailed price list'!J87","v":"Bracket"},{"$f":"'Detailed price list'!K87","v":"Major (Cat V)"},{"$f":"'Detailed price list'!L87","v":"Legacy Bracket - Major (Cat V) road - Medium"},null,null,null,454,454,454,454,454]
[null,{"$f":"'Detailed price list'!B88","v":"T5"},{"$f":"'Detailed price list'!C88","v":"Capital - Bracket"},"T5",null,null,null,null,79,79,79,79,79,79,79,{"$f":"'Detailed price list'!J88","v":"Bracket"},{"$f":"'Detailed price list'!K88","v":"Major (Cat V)"},{"$f":"'Detailed price list'!L88","v":"Legacy Bracket - Major (Cat V) road - Medium"},null,null,null,79,79,79,79,79]
[null,{"$f":"'Detailed price list'!B89","v":"T6"},{"$f":"'Detailed price list'!C89","v":"Capital - Bracket"},"T6",null,null,null,null,505,505,505,505,505,505,505,{"$f":"'Detailed price list'!J89","v":"Bracket"},{"$f":"'Detailed price list'!K89","v":"Major (Cat V)"},{"$f":"'Detailed price list'!L89","v":"Legacy Bracket - Major (Cat V) road - Medium"},null,null,null,505,505,505,505,505]
[null,{"$f":"'Detailed price list'!B90","v":"T7"},{"$f":"'Detailed price list'!C90","v":"Capital - Bracket"},"T7",null,null,null,null,276,276,276,276,276,276,276,{"$f":"'Detailed price list'!J90","v":"Bracket"},{"$f":"'Detailed price list'!K90","v":"Major (Cat V)"},{"$f":"'Detailed price list'!L90","v":"Legacy Bracket - Major (Cat V) road - Long"},null,null,null,276,276,276,276,276]
[null,{"$f":"'Detailed price list'!B91","v":"Bracket - Minor Road (Cat P) - Short"},{"$f":"'Detailed price list'!C91","v":"Capital - Bracket"},{"$f":"B91","v":"Bracket - Minor Road (Cat P) - Short"},null,null,null,null,0,0,411.59999999999786,1234.7999999999993,2061.0000000000009,2894.0000000000023,3731.8000000000038,{"$f":"'Detailed price list'!J91","v":"Bracket"},{"$f":"'Detailed price list'!K91","v":"Minor (Cat P)"},{"$f":"'Detailed price list'!L91","v":"Bracket - Minor Road (Cat P) - Short"},null,null,null,{"$f":"IF(K91=\"\",J91*(1+V$2),K91)","v":411.59999999999786},{"$f":"IF(L91=\"\",V91*(1+W$2),L91)","v":1234.7999999999993},{"$f":"IF(M91=\"\",W91*(1+X$2),M91)","v":2061.0000000000009},{"$f":"IF(N91=\"\",X91*(1+Y$2),N91)","v":2894.0000000000023},{"$f":"IF(O91=\"\",Y91*(1+Z$2),O91)","v":3731.8000000000038}]
[null,{"$f":"'Detailed price list'!B92","v":"Bracket - Minor Road (Cat P) - Medium"},{"$f":"'Detailed price list'!C92","v":"Capital - Bracket"},"Bracket - Minor Road (Cat P) - Medium",null,null,null,null,0,0,0,0,0,0,0,{"$f":"'Detailed price list'!J92","v":"Bracket"},{"$f":"'Detailed price list'!K92","v":"Minor (Cat P)"},{"$f":"'Detailed price list'!L92","v":"Bracket - Minor Road (Cat P) - Medium"},null,null,null,0,0,0,0,0]
[null,{"$f":"'Detailed price list'!B93","v":"Bracket - Major Road (Cat V) - Short"},{"$f":"'Detailed price list'!C93","v":"Capital - Bracket"},"Bracket - Major Road (Cat V) - Short",null,null,null,null,0,0,102.89999999999947,308.69999999999982,515.25000000000023,723.50000000000057,932.95000000000095,{"$f":"'Detailed price list'!J93","v":"Bracket"},{"$f":"'Detailed price list'!K93","v":"Major (Cat V)"},{"$f":"'Detailed price list'!L93","v":"Bracket - Major Road (Cat V) - Short"},null,null,null,102.89999999999947,308.69999999999982,515.25000000000023,723.50000000000057,932.95000000000095]
[null,{"$f":"'Detailed price list'!B94","v":"Bracket - Major Road (Cat V) - Medium"},{"$f":"'Detailed price list'!C94","v":"Capital - Bracket"},"Bracket - Major Road (Cat V) - Medium",null,null,null,null,0,0,0,0,0,0,0,{"$f":"'Detailed price list'!J94","v":"Bracket"},{"$f":"'Detailed price list'!K94","v":"Major (Cat V)"},{"$f":"'Detailed price list'!L94","v":"Bracket - Major Road (Cat V) - Medium"},null,null,null,0,0,0,0,0]
[null,{"$f":"'Detailed price list'!B95","v":"Bracket - Major Road (Cat V) - Long"},{"$f":"'Detailed price list'!C95","v":"Capital - Bracket"},"Bracket - Major Road (Cat V) - Long",null,null,null,null,0,0,0,0,0,0,0,{"$f":"'Detailed price list'!J95","v":"Bracket"},{"$f":"'Detailed price list'!K95","v":"Major (Cat V)"},{"$f":"'Detailed price list'!L95","v":"Bracket - Major Road (Cat V) - Long"},null,null,null,0,0,0,0,0]
[null,{"$f":"'Detailed price list'!B96","v":"1000W SON"},{"$f":"'Detailed price list'!C96","v":"Capital - Traditional Luminaire"},"1000W SON",null,null,null,null,13,13,13,10.833333333333334,6.5000000000000018,2.1666666666666674,0,{"$f":"'Detailed price list'!J96","v":"Traditional"},{"$f":"'Detailed price list'!K96","v":"Major (Cat V)"},{"$f":"'Detailed price list'!L96","v":"Legacy Luminaire - 1000W SON"},null,null,null,13,{"$f":"IF(L96=\"\",V96*(1+W$2),L96)","v":10.833333333333334},6.5000000000000018,2.1666666666666674,0]
[null,{"$f":"'Detailed price list'!B97","v":"1000W SON FLOODLIGHT"},{"$f":"'Detailed price list'!C97","v":"Capital - Traditional Luminaire"},"1000W SON FLOODLIGHT",null,null,null,null,3,3,3,2.5,1.5,0.5,0,{"$f":"'Detailed price list'!J97","v":"Traditional"},{"$f":"'Detailed price list'!K97","v":"Major (Cat V)"},{"$f":"'Detailed price list'!L97","v":"Legacy Luminaire - 1000W SON FLOODLIGHT"},null,null,null,3,2.5,1.5,0.5,0]
[null,{"$f":"'Detailed price list'!B98","v":"1000W/1500W MBI FLOODLIG"},{"$f":"'Detailed price list'!C98","v":"Capital - Traditional Luminaire"},"1000W/1500W MBI FLOODLIG",null,null,null,null,5,5,5,4.1666666666666661,2.4999999999999996,0.83333333333333315,0,{"$f":"'Detailed price list'!J98","v":"Traditional"},{"$f":"'Detailed price list'!K98","v":"Major (Cat V)"},{"$f":"'Detailed price list'!L98","v":"Legacy Luminaire - 1000W/1500W MBI FLOODLIG"},null,null,null,5,4.1666666666666661,2.4999999999999996,0.83333333333333315,0]
[null,{"$f":"'Detailed price list'!B99","v":"100W MBI"},{"$f":"'Detailed price list'!C99","v":"Capital - Traditional Luminaire"},"100W MBI",null,null,null,null,5.5,0,0,0,0,0,0,{"$f":"'Detailed price list'!J99","v":"Traditional"},{"$f":"'Detailed price list'!K99","v":"Major (Cat V)"},{"$f":"'Detailed price list'!L99","v":"Legacy Luminaire - 100W MBI"},null,null,null,0,0,0,0,0]
[null,{"$f":"'Detailed price list'!B100","v":"100W MBI FLOODLIGHT"},{"$f":"'Detailed price list'!C100","v":"Capital - Traditional Luminaire"},"100W MBI FLOODLIGHT",null,null,null,null,3,3,3,2.5,1.5,0.5,0,{"$f":"'Detailed price list'!J100","v":"Traditional"},{"$f":"'Detailed price list'!K100","v":"Major (Cat V)"},{"$f":"'Detailed price list'!L100","v":"Legacy Luminaire - 100W MBI FLOODLIGHT"},null,null,null,3,2.5,1.5,0.5,0]
[null,{"$f":"'Detailed price list'!B101","v":"100W SON"},{"$f":"'Detailed price list'!C101","v":"Capital - Traditional Luminaire"},"100W SON",null,null,null,null,335,279.16666666666663,167.49999999999997,55.833333333333321,0,0,0,{"$f":"'Detailed price list'!J101","v":"Traditional"},{"$f":"'Detailed price list'!K101","v":"Major (Cat V)"},{"$f":"'Detailed price list'!L101","v":"Legacy Luminaire - 100W SON"},null,null,null,167.49999999999997,55.833333333333321,0,0,0]
[null,{"$f":"'Detailed price list'!B102","v":"100W SON - PLAIN"},{"$f":"'Detailed price list'!C102","v":"Capital - Traditional Luminaire"},"100W SON - PLAIN",null,null,null,null,127,105.83333333333333,63.499999999999986,21.166666666666661,0,0,0,{"$f":"'Detailed price list'!J102","v":"Traditional"},{"$f":"'Detailed price list'!K102","v":"Major (Cat V)"},{"$f":"'Detailed price list'!L102","v":"Legacy Luminaire - 100W SON - PLAIN"},null,null,null,63.499999999999986,21.166666666666661,0,0,0]
[null,{"$f":"'Detailed price list'!B103","v":"100W SON FLOODLIGHT"},{"$f":"'Detailed price list'!C103","v":"Capital - Traditional Luminaire"},"100W SON FLOODLIGHT",null,null,null,null,2,2,2,1.6666666666666667,1.0000000000000002,0.33333333333333343,0,{"$f":"'Detailed price list'!J103","v":"Traditional"},{"$f":"'Detailed price list'!K103","v":"Major (Cat V)"},{"$f":"'Detailed price list'!L103","v":"Legacy Luminaire - 100W SON FLOODLIGHT"},null,null,null,2,1.6666666666666667,1.0000000000000002,0.33333333333333343,0]
[null,{"$f":"'Detailed price list'!B104","v":"125W MBF"},{"$f":"'Detailed price list'!C104","v":"Capital - Traditional Luminaire"},"125W MBF",null,null,null,null,127.5,0,0,0,0,0,0,{"$f":"'Detailed price list'!J104","v":"Traditional"},{"$f":"'Detailed price list'!K104","v":"Minor (Cat P)"},{"$f":"'Detailed price list'!L104","v":"Legacy Luminaire - 125W MBF"},null,null,null,0,0,0,0,0]
[null,{"$f":"'Detailed price list'!B105","v":"125W MBF - BOURKE HILL"},{"$f":"'Detailed price list'!C105","v":"Capital - Traditional Luminaire"},"125W MBF - BOURKE HILL",null,null,null,null,29,29,29,24.166666666666668,14.500000000000004,4.8333333333333348,0,{"$f":"'Detailed price list'!J105","v":"Traditional"},{"$f":"'Detailed price list'!K105","v":"Minor (Cat P)"},{"$f":"'Detailed price list'!L105","v":"Legacy Luminaire - 125W MBF - BOURKE HILL"},null,null,null,29,24.166666666666668,14.500000000000004,4.8333333333333348,0]
[null,{"$f":"'Detailed price list'!B106","v":"125W MBF - PARKVILLE"},{"$f":"'Detailed price list'!C106","v":"Capital - Traditional Luminaire"},"125W MBF - PARKVILLE",null,null,null,null,4,4,4,4,4,4,4,{"$f":"'Detailed price list'!J106","v":"Traditional"},{"$f":"'Detailed price list'!K106","v":"Minor (Cat P)"},{"$f":"'Detailed price list'!L106","v":"Legacy Luminaire - 125W MBF - PARKVILLE"},null,null,null,4,4,4,4,4]
[null,{"$f":"'Detailed price list'!B107","v":"125W MBF - PLAIN"},{"$f":"'Detailed price list'!C107","v":"Capital - Traditional Luminaire"},"125W MBF - PLAIN",null,null,null,null,183,183,183,183,183,183,183,{"$f":"'Detailed price list'!J107","v":"Traditional"},{"$f":"'Detailed price list'!K107","v":"Minor (Cat P)"},{"$f":"'Detailed price list'!L107","v":"Legacy Luminaire - 125W MBF - PLAIN"},null,null,null,183,183,183,183,183]
[null,{"$f":"'Detailed price list'!B108","v":"125W/250W MBF FLOODLIGHT"},{"$f":"'Detailed price list'!C108","v":"Capital - Traditional Luminaire"},"125W/250W MBF FLOODLIGHT",null,null,null,null,10,10,10,8.3333333333333321,4.9999999999999991,1.6666666666666663,0,{"$f":"'Detailed price list'!J108","v":"Traditional"},{"$f":"'Detailed price list'!K108","v":"Minor (Cat P)"},{"$f":"'Detailed price list'!L108","v":"Legacy Luminaire - 125W/250W MBF FLOODLIGHT"},null,null,null,10,8.3333333333333321,4.9999999999999991,1.6666666666666663,0]
[null,{"$f":"'Detailed price list'!B109","v":"150W SON"},{"$f":"'Detailed price list'!C109","v":"Capital - Traditional Luminaire"},"150W SON",null,null,null,null,7755,6462.5,3877.5,1292.5,0,0,0,{"$f":"'Detailed price list'!J109","v":"Traditional"},{"$f":"'Detailed price list'!K109","v":"Major (Cat V)"},{"$f":"'Detailed price list'!L109","v":"Legacy Luminaire - 150W SON"},null,null,null,3877.5,1292.5,0,0,0]
[null,{"$f":"'Detailed price list'!B110","v":"150W SON - PARKVILLE"},{"$f":"'Detailed price list'!C110","v":"Capital - Traditional Luminaire"},"150W SON - PARKVILLE",null,null,null,null,15,15,15,15,15,15,15,{"$f":"'Detailed price list'!J110","v":"Traditional"},{"$f":"'Detailed price list'!K110","v":"Major (Cat V)"},{"$f":"'Detailed price list'!L110","v":"Legacy Luminaire - 150W SON - PARKVILLE"},null,null,null,15,15,15,15,15]
[null,{"$f":"'Detailed price list'!B111","v":"150W SON - PARKWAY 1"},{"$f":"'Detailed price list'!C111","v":"Capital - Traditional Luminaire"},"150W SON - PARKWAY 1",null,null,null,null,56,46.666666666666664,27.999999999999993,9.3333333333333304,0,0,0,{"$f":"'Detailed price list'!J111","v":"Traditional"},{"$f":"'Detailed price list'!K111","v":"Major (Cat V)"},{"$f":"'Detailed price list'!L111","v":"Legacy Luminaire - 150W SON - PARKWAY 1"},null,null,null,27.999999999999993,{"$f":"IF(L111=\"\",V111*(1+W$2),L111)","v":9.3333333333333304},0,0,0]
[null,{"$f":"'Detailed price list'!B112","v":"150W SON ACTIVE REACTOR"},{"$f":"'Detailed price list'!C112","v":"Capital - Traditional Luminaire"},"150W SON ACTIVE REACTOR",null,null,null,null,2887,2405.833333333333,1443.4999999999998,481.16666666666657,0,0,0,{"$f":"'Detailed price list'!J112","v":"Traditional"},{"$f":"'Detailed price list'!K112","v":"Major (Cat V)"},{"$f":"'Detailed price list'!L112","v":"Legacy Luminaire - 150W SON ACTIVE REACTOR"},null,null,null,1443.4999999999998,481.16666666666657,0,0,0]
[null,{"$f":"'Detailed price list'!B113","v":"150W SON FLOODLIGHT"},{"$f":"'Detailed price list'!C113","v":"Capital - Traditional Luminaire"},"150W SON FLOODLIGHT",null,null,null,null,250,250,250,208.33333333333334,125.00000000000003,41.666666666666679,0,{"$f":"'Detailed price list'!J113","v":"Traditional"},{"$f":"'Detailed price list'!K113","v":"Major (Cat V)"},{"$f":"'Detailed price list'!L113","v":"Legacy Luminaire - 150W SON FLOODLIGHT"},null,null,null,250,208.33333333333334,125.00000000000003,41.666666666666679,0]
[null,{"$f":"'Detailed price list'!B114","v":"150W/250W MBI FLOODLIGHT"},{"$f":"'Detailed price list'!C114","v":"Capital - Traditional Luminaire"},"150W/250W MBI FLOODLIGHT",null,null,null,null,40,40,40,33.333333333333329,19.999999999999996,6.6666666666666652,0,{"$f":"'Detailed price list'!J114","v":"Traditional"},{"$f":"'Detailed price list'!K114","v":"Major (Cat V)"},{"$f":"'Detailed price list'!L114","v":"Legacy Luminaire - 150W/250W MBI FLOODLIGHT"},null,null,null,40,33.333333333333329,19.999999999999996,6.6666666666666652,0]
[null,{"$f":"'Detailed price list'!B115","v":"250W MBF"},{"$f":"'Detailed price list'!C115","v":"Capital - Traditional Luminaire"},"250W MBF",null,null,null,null,1191,992.5,595.5,198.5,0,0,0,{"$f":"'Detailed price list'!J115","v":"Traditional"},{"$f":"'Detailed price list'!K115","v":"Major (Cat V)"},{"$f":"'Detailed price list'!L115","v":"Legacy Luminaire - 250W MBF"},null,null,null,595.5,198.5,0,0,0]
[null,{"$f":"'Detailed price list'!B116","v":"250W MBF - PARKWAY 1"},{"$f":"'Detailed price list'!C116","v":"Capital - Traditional Luminaire"},"250W MBF - PARKWAY 1",null,null,null,null,129,107.5,64.5,21.5,0,0,0,{"$f":"'Detailed price list'!J116","v":"Traditional"},{"$f":"'Detailed price list'!K116","v":"Major (Cat V)"},{"$f":"'Detailed price list'!L116","v":"Legacy Luminaire - 250W MBF - PARKWAY 1"},null,null,null,64.5,21.5,0,0,0]
[null,{"$f":"'Detailed price list'!B117","v":"250W SON"},{"$f":"'Detailed price list'!C117","v":"Capital - Traditional Luminaire"},"250W SON",null,null,null,null,8993,7494.166666666667,4496.5000000000009,1498.8333333333337,0,0,0,{"$f":"'Detailed price list'!J117","v":"Traditional"},{"$f":"'Detailed price list'!K117","v":"Major (Cat V)"},{"$f":"'Detailed price list'!L117","v":"Legacy Luminaire - 250W SON"},null,null,null,4496.5000000000009,1498.8333333333337,0,0,0]
[null,{"$f":"'Detailed price list'!B118","v":"250W SON - PARKVILLE"},{"$f":"'Detailed price list'!C118","v":"Capital - Traditional Luminaire"},"250W SON - PARKVILLE",null,null,null,null,11,11,11,11,11,11,11,{"$f":"'Detailed price list'!J118","v":"Traditional"},{"$f":"'Detailed price list'!K118","v":"Major (Cat V)"},{"$f":"'Detailed price list'!L118","v":"Legacy Luminaire - 250W SON - PARKVILLE"},null,null,null,11,11,11,11,11]
[null,{"$f":"'Detailed price list'!B119","v":"250W SON - PARKWAY 1"},{"$f":"'Detailed price list'!C119","v":"Capital - Traditional Luminaire"},"250W SON - PARKWAY 1",null,null,null,null,37,37,37,37,37,37,37,{"$f":"'Detailed price list'!J119","v":"Traditional"},{"$f":"'Detailed price list'!K119","v":"Major (Cat V)"},{"$f":"'Detailed price list'!L119","v":"Legacy Luminaire - 250W SON - PARKWAY 1"},null,null,null,37,37,37,37,37]
[null,{"$f":"'Detailed price list'!B120","v":"250W SON ACTIVE REACTOR"},{"$f":"'Detailed price list'!C120","v":"Capital - Traditional Luminaire"},"250W SON ACTIVE REACTOR",null,null,null,null,3819,3182.5,1909.5,636.5,0,0,0,{"$f":"'Detailed price list'!J120","v":"Traditional"},{"$f":"'Detailed price list'!K120","v":"Major (Cat V)"},{"$f":"'Detailed price list'!L120","v":"Legacy Luminaire - 250W SON ACTIVE REACTOR"},null,null,null,1909.5,636.5,0,0,0]
[null,{"$f":"'Detailed price list'!B121","v":"250W SON FLOODLIGHT"},{"$f":"'Detailed price list'!C121","v":"Capital - Traditional Luminaire"},"250W SON FLOODLIGHT",null,null,null,null,1061,1061,1061,884.16666666666663,530.49999999999989,176.83333333333329,0,{"$f":"'Detailed price list'!J121","v":"Traditional"},{"$f":"'Detailed price list'!K121","v":"Major (Cat V)"},{"$f":"'Detailed price list'!L121","v":"Legacy Luminaire - 250W SON FLOODLIGHT"},null,null,null,1061,884.16666666666663,530.49999999999989,176.83333333333329,0]
[null,{"$f":"'Detailed price list'!B122","v":"250W SON GEC 'BOSTON 3'"},{"$f":"'Detailed price list'!C122","v":"Capital - Traditional Luminaire"},"250W SON GEC 'BOSTON 3'",null,null,null,null,7,7,7,7,7,7,7,{"$f":"'Detailed price list'!J122","v":"Traditional"},{"$f":"'Detailed price list'!K122","v":"Major (Cat V)"},{"$f":"'Detailed price list'!L122","v":"Legacy Luminaire - 250W SON GEC 'BOSTON 3'"},null,null,null,7,7,7,7,7]
[null,{"$f":"'Detailed price list'!B123","v":"2X14W TF - T5 PIERLIGHT"},{"$f":"'Detailed price list'!C123","v":"Capital - Traditional Luminaire"},"2X14W TF - T5 PIERLIGHT",null,null,null,null,0,0,0,0,0,0,0,{"$f":"'Detailed price list'!J123","v":"Traditional"},{"$f":"'Detailed price list'!K123","v":"Minor (Cat P)"},{"$f":"'Detailed price list'!L123","v":"Legacy Luminaire - 2X14W TF - T5 PIERLIGHT"},null,null,null,0,0,0,0,0]
[null,{"$f":"'Detailed price list'!B124","v":"2x14W TF - T5 PIERLITE M"},{"$f":"'Detailed price list'!C124","v":"Capital - Traditional Luminaire"},"2x14W TF - T5 PIERLITE M",null,null,null,null,1,0,0,0,0,0,0,{"$f":"'Detailed price list'!J124","v":"Traditional"},{"$f":"'Detailed price list'!K124","v":"Minor (Cat P)"},{"$f":"'Detailed price list'!L124","v":"Legacy Luminaire - 2x14W TF - T5 PIERLITE M"},null,null,null,0,0,0,0,0]
[null,{"$f":"'Detailed price list'!B125","v":"2x250W SON FLOODLIGHT"},{"$f":"'Detailed price list'!C125","v":"Capital - Traditional Luminaire"},"2x250W SON FLOODLIGHT",null,null,null,null,7,5.833333333333333,3.4999999999999991,1.1666666666666663,0,0,0,{"$f":"'Detailed price list'!J125","v":"Traditional"},{"$f":"'Detailed price list'!K125","v":"Major (Cat V)"},{"$f":"'Detailed price list'!L125","v":"Legacy Luminaire - 2x250W SON FLOODLIGHT"},null,null,null,3.4999999999999991,1.1666666666666663,0,0,0]
[null,{"$f":"'Detailed price list'!B126","v":"2x400W SON FLOODLIGHT"},{"$f":"'Detailed price list'!C126","v":"Capital - Traditional Luminaire"},"2x400W SON FLOODLIGHT",null,null,null,null,8,6.666666666666667,4.0000000000000009,1.3333333333333337,0,0,0,{"$f":"'Detailed price list'!J126","v":"Traditional"},{"$f":"'Detailed price list'!K126","v":"Major (Cat V)"},{"$f":"'Detailed price list'!L126","v":"Legacy Luminaire - 2x400W SON FLOODLIGHT"},null,null,null,4.0000000000000009,1.3333333333333337,0,0,0]
[null,{"$f":"'Detailed price list'!B127","v":"2x80W MBF - BOURKE HILL"},{"$f":"'Detailed price list'!C127","v":"Capital - Traditional Luminaire"},"2x80W MBF - BOURKE HILL",null,null,null,null,4,3.3333333333333335,2.0000000000000004,0.66666666666666685,0,0,0,{"$f":"'Detailed price list'!J127","v":"Traditional"},{"$f":"'Detailed price list'!K127","v":"Minor (Cat P)"},{"$f":"'Detailed price list'!L127","v":"Legacy Luminaire - 2x80W MBF - BOURKE HILL"},null,null,null,2.0000000000000004,{"$f":"IF(L127=\"\",V127*(1+W$2),L127)","v":0.66666666666666685},0,0,0]
[null,{"$f":"'Detailed price list'!B128","v":"400W MBF"},{"$f":"'Detailed price list'!C128","v":"Capital - Traditional Luminaire"},"400W MBF",null,null,null,null,494,411.66666666666669,247.00000000000006,82.333333333333357,0,0,0,{"$f":"'Detailed price list'!J128","v":"Traditional"},{"$f":"'Detailed price list'!K128","v":"Major (Cat V)"},{"$f":"'Detailed price list'!L128","v":"Legacy Luminaire - 400W MBF"},null,null,null,247.00000000000006,82.333333333333357,0,0,0]
[null,{"$f":"'Detailed price list'!B129","v":"400W MBF - B2229"},{"$f":"'Detailed price list'!C129","v":"Capital - Traditional Luminaire"},"400W MBF - B2229",null,null,null,null,85,70.833333333333343,42.500000000000007,14.16666666666667,0,0,0,{"$f":"'Detailed price list'!J129","v":"Traditional"},{"$f":"'Detailed price list'!K129","v":"Major (Cat V)"},{"$f":"'Detailed price list'!L129","v":"Legacy Luminaire - 400W MBF - B2229"},null,null,null,42.500000000000007,14.16666666666667,0,0,0]
[null,{"$f":"'Detailed price list'!B130","v":"400W MBF - PARKWAY 1"},{"$f":"'Detailed price list'!C130","v":"Capital - Traditional Luminaire"},"400W MBF - PARKWAY 1",null,null,null,null,73,60.833333333333336,36.500000000000007,12.16666666666667,0,0,0,{"$f":"'Detailed price list'!J130","v":"Traditional"},{"$f":"'Detailed price list'!K130","v":"Major (Cat V)"},{"$f":"'Detailed price list'!L130","v":"Legacy Luminaire - 400W MBF - PARKWAY 1"},null,null,null,36.500000000000007,12.16666666666667,0,0,0]
[null,{"$f":"'Detailed price list'!B131","v":"400W MBF FLOODLIGHT"},{"$f":"'Detailed price list'!C131","v":"Capital - Traditional Luminaire"},"400W MBF FLOODLIGHT",null,null,null,null,28,28,28,23.333333333333332,13.999999999999996,4.6666666666666652,0,{"$f":"'Detailed price list'!J131","v":"Traditional"},{"$f":"'Detailed price list'!K131","v":"Major (Cat V)"},{"$f":"'Detailed price list'!L131","v":"Legacy Luminaire - 400W MBF FLOODLIGHT"},null,null,null,28,23.333333333333332,13.999999999999996,4.6666666666666652,0]
[null,{"$f":"'Detailed price list'!B132","v":"400W MBI FLOODLIGHT"},{"$f":"'Detailed price list'!C132","v":"Capital - Traditional Luminaire"},"400W MBI FLOODLIGHT",null,null,null,null,53,53,53,44.166666666666664,26.499999999999993,8.8333333333333304,0,{"$f":"'Detailed price list'!J132","v":"Traditional"},{"$f":"'Detailed price list'!K132","v":"Major (Cat V)"},{"$f":"'Detailed price list'!L132","v":"Legacy Luminaire - 400W MBI FLOODLIGHT"},null,null,null,53,44.166666666666664,26.499999999999993,8.8333333333333304,0]
[null,{"$f":"'Detailed price list'!B133","v":"400W SON"},{"$f":"'Detailed price list'!C133","v":"Capital - Traditional Luminaire"},"400W SON",null,null,null,null,671,559.16666666666674,335.50000000000006,111.83333333333336,0,0,0,{"$f":"'Detailed price list'!J133","v":"Traditional"},{"$f":"'Detailed price list'!K133","v":"Major (Cat V)"},{"$f":"'Detailed price list'!L133","v":"Legacy Luminaire - 400W SON"},null,null,null,335.50000000000006,111.83333333333336,0,0,0]
[null,{"$f":"'Detailed price list'!B134","v":"400W SON - PARKWAY 1"},{"$f":"'Detailed price list'!C134","v":"Capital - Traditional Luminaire"},"400W SON - PARKWAY 1",null,null,null,null,5,4.1666666666666661,2.4999999999999996,0.83333333333333315,0,0,0,{"$f":"'Detailed price list'!J134","v":"Traditional"},{"$f":"'Detailed price list'!K134","v":"Major (Cat V)"},{"$f":"'Detailed price list'!L134","v":"Legacy Luminaire - 400W SON - PARKWAY 1"},null,null,null,2.4999999999999996,0.83333333333333315,0,0,0]
[null,{"$f":"'Detailed price list'!B135","v":"400W SON ACTIVE REACTOR"},{"$f":"'Detailed price list'!C135","v":"Capital - Traditional Luminaire"},"400W SON ACTIVE REACTOR",null,null,null,null,403,335.83333333333331,201.49999999999994,67.166666666666643,0,0,0,{"$f":"'Detailed price list'!J135","v":"Traditional"},{"$f":"'Detailed price list'!K135","v":"Major (Cat V)"},{"$f":"'Detailed price list'!L135","v":"Legacy Luminaire - 400W SON ACTIVE REACTOR"},null,null,null,201.49999999999994,67.166666666666643,0,0,0]
[null,{"$f":"'Detailed price list'!B136","v":"400W SON FLOODLIGHT"},{"$f":"'Detailed price list'!C136","v":"Capital - Traditional Luminaire"},"400W SON FLOODLIGHT",null,null,null,null,351,351,351,292.5,175.5,58.5,0,{"$f":"'Detailed price list'!J136","v":"Traditional"},{"$f":"'Detailed price list'!K136","v":"Major (Cat V)"},{"$f":"'Detailed price list'!L136","v":"Legacy Luminaire - 400W SON FLOODLIGHT"},null,null,null,351,292.5,175.5,58.5,0]
[null,{"$f":"'Detailed price list'!B137","v":"42W MBF SYLVANIA SUB ECO"},{"$f":"'Detailed price list'!C137","v":"Capital - Traditional Luminaire"},"42W MBF SYLVANIA SUB ECO",null,null,null,null,13465.5,0,0,0,0,0,0,{"$f":"'Detailed price list'!J137","v":"Traditional"},{"$f":"'Detailed price list'!K137","v":"Minor (Cat P)"},{"$f":"'Detailed price list'!L137","v":"Legacy Luminaire - 42W MBF SYLVANIA SUB ECO"},null,null,null,0,0,0,0,0]
[null,{"$f":"'Detailed price list'!B138","v":"4x250W SON"},{"$f":"'Detailed price list'!C138","v":"Capital - Traditional Luminaire"},"4x250W SON",null,null,null,null,0,0,0,0,0,0,0,{"$f":"'Detailed price list'!J138","v":"Traditional"},{"$f":"'Detailed price list'!K138","v":"Major (Cat V)"},{"$f":"'Detailed price list'!L138","v":"Legacy Luminaire - 4x250W SON"},null,null,null,0,0,0,0,0]
[null,{"$f":"'Detailed price list'!B139","v":"4x600W SON"},{"$f":"'Detailed price list'!C139","v":"Capital - Traditional Luminaire"},"4x600W SON",null,null,null,null,3,3,3,2.5,1.5,0.5,0,{"$f":"'Detailed price list'!J139","v":"Traditional"},{"$f":"'Detailed price list'!K139","v":"Major (Cat V)"},{"$f":"'Detailed price list'!L139","v":"Legacy Luminaire - 4x600W SON"},null,null,null,3,2.5,1.5,0.5,0]
[null,{"$f":"'Detailed price list'!B140","v":"50W MBF"},{"$f":"'Detailed price list'!C140","v":"Capital - Traditional Luminaire"},"50W MBF",null,null,null,null,93,0,0,0,0,0,0,{"$f":"'Detailed price list'!J140","v":"Traditional"},{"$f":"'Detailed price list'!K140","v":"Minor (Cat P)"},{"$f":"'Detailed price list'!L140","v":"Legacy Luminaire - 50W MBF"},null,null,null,0,0,0,0,0]
[null,{"$f":"'Detailed price list'!B141","v":"50W MBF - BOURKE HILL"},{"$f":"'Detailed price list'!C141","v":"Capital - Traditional Luminaire"},"50W MBF - BOURKE HILL",null,null,null,null,16,16,16,13.333333333333334,8.0000000000000018,2.6666666666666674,0,{"$f":"'Detailed price list'!J141","v":"Traditional"},{"$f":"'Detailed price list'!K141","v":"Minor (Cat P)"},{"$f":"'Detailed price list'!L141","v":"Legacy Luminaire - 50W MBF - BOURKE HILL"},null,null,null,16,13.333333333333334,8.0000000000000018,2.6666666666666674,0]
[null,{"$f":"'Detailed price list'!B142","v":"50W MBF - NOSTALGIA"},{"$f":"'Detailed price list'!C142","v":"Capital - Traditional Luminaire"},"50W MBF - NOSTALGIA",null,null,null,null,34.5,0,0,0,0,0,0,{"$f":"'Detailed price list'!J142","v":"Traditional"},{"$f":"'Detailed price list'!K142","v":"Minor (Cat P)"},{"$f":"'Detailed price list'!L142","v":"Legacy Luminaire - 50W MBF - NOSTALGIA"},null,null,null,0,0,0,0,0]
[null,{"$f":"'Detailed price list'!B143","v":"50W MBF - PLAIN"},{"$f":"'Detailed price list'!C143","v":"Capital - Traditional Luminaire"},{"$f":"B143","v":"50W MBF - PLAIN"},null,null,null,null,58,58,58,58,58,58,58,{"$f":"'Detailed price list'!J143","v":"Traditional"},{"$f":"'Detailed price list'!K143","v":"Minor (Cat P)"},{"$f":"'Detailed price list'!L143","v":"Legacy Luminaire - 50W MBF - PLAIN"},null,null,null,{"$f":"IF(K143=\"\",J143*(1+V$2),K143)","v":58},{"$f":"IF(L143=\"\",V143*(1+W$2),L143)","v":58},58,58,58]
[null,{"$f":"'Detailed price list'!B144","v":"50W SON"},{"$f":"'Detailed price list'!C144","v":"Capital - Traditional Luminaire"},"50W SON",null,null,null,null,1.5,0,0,0,0,0,0,{"$f":"'Detailed price list'!J144","v":"Traditional"},{"$f":"'Detailed price list'!K144","v":"Minor (Cat P)"},{"$f":"'Detailed price list'!L144","v":"Legacy Luminaire - 50W SON"}]
[null,{"$f":"'Detailed price list'!B145","v":"50W SON - NOSTALGIA"},{"$f":"'Detailed price list'!C145","v":"Capital - Traditional Luminaire"},"50W SON - NOSTALGIA",null,null,null,null,1,0,0,0,0,0,0,{"$f":"'Detailed price list'!J145","v":"Traditional"},{"$f":"'Detailed price list'!K145","v":"Minor (Cat P)"},{"$f":"'Detailed price list'!L145","v":"Legacy Luminaire - 50W SON - NOSTALGIA"}]
[null,{"$f":"'Detailed price list'!B146","v":"50W SON - PLAIN"},{"$f":"'Detailed price list'!C146","v":"Capital - Traditional Luminaire"},"50W SON - PLAIN",null,null,null,null,0,0,0,0,0,0,0,{"$f":"'Detailed price list'!J146","v":"Traditional"},{"$f":"'Detailed price list'!K146","v":"Minor (Cat P)"},{"$f":"'Detailed price list'!L146","v":"Legacy Luminaire - 50W SON - PLAIN"}]
[null,{"$f":"'Detailed price list'!B147","v":"70W MBI"},{"$f":"'Detailed price list'!C147","v":"Capital - Traditional Luminaire"},"70W MBI",null,null,null,null,11.5,0,0,0,0,0,0,{"$f":"'Detailed price list'!J147","v":"Traditional"},{"$f":"'Detailed price list'!K147","v":"Minor (Cat P)"},{"$f":"'Detailed price list'!L147","v":"Legacy Luminaire - 70W MBI"}]
[null,{"$f":"'Detailed price list'!B148","v":"70W MBI - MACQUARIE DEC."},{"$f":"'Detailed price list'!C148","v":"Capital - Traditional Luminaire"},"70W MBI - MACQUARIE DEC.",null,null,null,null,5,5,5,5,5,5,5,{"$f":"'Detailed price list'!J148","v":"Traditional"},{"$f":"'Detailed price list'!K148","v":"Minor (Cat P)"},{"$f":"'Detailed price list'!L148","v":"Legacy Luminaire - 70W MBI - MACQUARIE DEC."}]
[null,{"$f":"'Detailed price list'!B149","v":"70W MBI II"},{"$f":"'Detailed price list'!C149","v":"Capital - Traditional Luminaire"},"70W MBI II",null,null,null,null,10,0,0,0,0,0,0,{"$f":"'Detailed price list'!J149","v":"Traditional"},{"$f":"'Detailed price list'!K149","v":"Minor (Cat P)"},{"$f":"'Detailed price list'!L149","v":"Legacy Luminaire - 70W MBI II"}]
[null,{"$f":"'Detailed price list'!B150","v":"70W MBI II AERO"},{"$f":"'Detailed price list'!C150","v":"Capital - Traditional Luminaire"},"70W MBI II AERO",null,null,null,null,0,0,0,0,0,0,0,{"$f":"'Detailed price list'!J150","v":"Traditional"},{"$f":"'Detailed price list'!K150","v":"Minor (Cat P)"},{"$f":"'Detailed price list'!L150","v":"Legacy Luminaire - 70W MBI II AERO"}]
[null,{"$f":"'Detailed price list'!B151","v":"70W SON"},{"$f":"'Detailed price list'!C151","v":"Capital - Traditional Luminaire"},"70W SON",null,null,null,null,56,0,0,0,0,0,0,{"$f":"'Detailed price list'!J151","v":"Traditional"},{"$f":"'Detailed price list'!K151","v":"Minor (Cat P)"},{"$f":"'Detailed price list'!L151","v":"Legacy Luminaire - 70W SON"}]
[null,{"$f":"'Detailed price list'!B152","v":"70W SON - BOURKE HILL"},{"$f":"'Detailed price list'!C152","v":"Capital - Traditional Luminaire"},"70W SON - BOURKE HILL",null,null,null,null,2,2,2,1.6666666666666667,1.0000000000000002,0.33333333333333343,0,{"$f":"'Detailed price list'!J152","v":"Traditional"},{"$f":"'Detailed price list'!K152","v":"Minor (Cat P)"},{"$f":"'Detailed price list'!L152","v":"Legacy Luminaire - 70W SON - BOURKE HILL"}]
[null,{"$f":"'Detailed price list'!B153","v":"70W SON - NOSTALGIA"},{"$f":"'Detailed price list'!C153","v":"Capital - Traditional Luminaire"},"70W SON - NOSTALGIA",null,null,null,null,69,69,69,69,69,69,69,{"$f":"'Detailed price list'!J153","v":"Traditional"},{"$f":"'Detailed price list'!K153","v":"Minor (Cat P)"},{"$f":"'Detailed price list'!L153","v":"Legacy Luminaire - 70W SON - NOSTALGIA"}]
[null,{"$f":"'Detailed price list'!B154","v":"70W SON - PARKVILLE"},{"$f":"'Detailed price list'!C154","v":"Capital - Traditional Luminaire"},"70W SON - PARKVILLE",null,null,null,null,6,6,6,6,6,6,6,{"$f":"'Detailed price list'!J154","v":"Traditional"},{"$f":"'Detailed price list'!K154","v":"Minor (Cat P)"},{"$f":"'Detailed price list'!L154","v":"Legacy Luminaire - 70W SON - PARKVILLE"}]
[null,{"$f":"'Detailed price list'!B155","v":"70W SON - PLAIN"},{"$f":"'Detailed price list'!C155","v":"Capital - Traditional Luminaire"},"70W SON - PLAIN",null,null,null,null,32,32,32,32,32,32,32,{"$f":"'Detailed price list'!J155","v":"Traditional"},{"$f":"'Detailed price list'!K155","v":"Minor (Cat P)"},{"$f":"'Detailed price list'!L155","v":"Legacy Luminaire - 70W SON - PLAIN"}]
[null,{"$f":"'Detailed price list'!B156","v":"70W SON BOLLARD"},{"$f":"'Detailed price list'!C156","v":"Capital - Traditional Luminaire"},"70W SON BOLLARD",null,null,null,null,1,1,1,1,1,1,1,{"$f":"'Detailed price list'!J156","v":"Traditional"},{"$f":"'Detailed price list'!K156","v":"Minor (Cat P)"},{"$f":"'Detailed price list'!L156","v":"Legacy Luminaire - 70W SON BOLLARD"}]
[null,{"$f":"'Detailed price list'!B157","v":"70W SON FLOODLIGHT"},{"$f":"'Detailed price list'!C157","v":"Capital - Traditional Luminaire"},"70W SON FLOODLIGHT",null,null,null,null,21,21,21,17.5,10.5,3.5,0,{"$f":"'Detailed price list'!J157","v":"Traditional"},{"$f":"'Detailed price list'!K157","v":"Minor (Cat P)"},{"$f":"'Detailed price list'!L157","v":"Legacy Luminaire - 70W SON FLOODLIGHT"}]
[null,{"$f":"'Detailed price list'!B158","v":"80W MBF - BEGA+CURVE BRA"},{"$f":"'Detailed price list'!C158","v":"Capital - Traditional Luminaire"},"80W MBF - BEGA+CURVE BRA",null,null,null,null,30,30,30,30,30,30,30,{"$f":"'Detailed price list'!J158","v":"Traditional"},{"$f":"'Detailed price list'!K158","v":"Minor (Cat P)"},{"$f":"'Detailed price list'!L158","v":"Legacy Luminaire - 80W MBF - BEGA+CURVE BRA"}]
[null,{"$f":"'Detailed price list'!B159","v":"80W MBF - BOURKE HILL"},{"$f":"'Detailed price list'!C159","v":"Capital - Traditional Luminaire"},"80W MBF - BOURKE HILL",null,null,null,null,578,578,578,481.66666666666669,289.00000000000006,96.333333333333357,0,{"$f":"'Detailed price list'!J159","v":"Traditional"},{"$f":"'Detailed price list'!K159","v":"Minor (Cat P)"},{"$f":"'Detailed price list'!L159","v":"Legacy Luminaire - 80W MBF - BOURKE HILL"}]
[null,{"$f":"'Detailed price list'!B160","v":"80W MBF - NOSTALGIA"},{"$f":"'Detailed price list'!C160","v":"Capital - Traditional Luminaire"},"80W MBF - NOSTALGIA",null,null,null,null,110.5,0,0,0,0,0,0,{"$f":"'Detailed price list'!J160","v":"Traditional"},{"$f":"'Detailed price list'!K160","v":"Minor (Cat P)"},{"$f":"'Detailed price list'!L160","v":"Legacy Luminaire - 80W MBF - NOSTALGIA"}]
[null,{"$f":"'Detailed price list'!B161","v":"80W MBF - PLAIN"},{"$f":"'Detailed price list'!C161","v":"Capital - Traditional Luminaire"},"80W MBF - PLAIN",null,null,null,null,163,163,163,163,163,163,163,{"$f":"'Detailed price list'!J161","v":"Traditional"},{"$f":"'Detailed price list'!K161","v":"Minor (Cat P)"},{"$f":"'Detailed price list'!L161","v":"Legacy Luminaire - 80W MBF - PLAIN"}]
[null,{"$f":"'Detailed price list'!B162","v":"80W MBF - REGAL/FLINDERS"},{"$f":"'Detailed price list'!C162","v":"Capital - Traditional Luminaire"},"80W MBF - REGAL/FLINDERS",null,null,null,null,17,17,17,17,17,17,17,{"$f":"'Detailed price list'!J162","v":"Traditional"},{"$f":"'Detailed price list'!K162","v":"Minor (Cat P)"},{"$f":"'Detailed price list'!L162","v":"Legacy Luminaire - 80W MBF - REGAL/FLINDERS"}]
[null,{"$f":"'Detailed price list'!B163","v":"80W MBF BOLLARD"},{"$f":"'Detailed price list'!C163","v":"Capital - Traditional Luminaire"},"80W MBF BOLLARD",null,null,null,null,43,43,43,43,43,43,43,{"$f":"'Detailed price list'!J163","v":"Traditional"},{"$f":"'Detailed price list'!K163","v":"Minor (Cat P)"},{"$f":"'Detailed price list'!L163","v":"Legacy Luminaire - 80W MBF BOLLARD"}]
[null,{"$f":"'Detailed price list'!B164","v":"80W MBF TOORAK"},{"$f":"'Detailed price list'!C164","v":"Capital - Traditional Luminaire"},"80W MBF TOORAK",null,null,null,null,66,66,66,66,66,66,66,{"$f":"'Detailed price list'!J164","v":"Traditional"},{"$f":"'Detailed price list'!K164","v":"Minor (Cat P)"},{"$f":"'Detailed price list'!L164","v":"Legacy Luminaire - 80W MBF TOORAK"}]
[null,{"$f":"'Detailed price list'!B165","v":"TH FLOODLIGHT"},{"$f":"'Detailed price list'!C165","v":"Capital - Traditional Luminaire"},"TH FLOODLIGHT",null,null,null,null,11,11,11,9.1666666666666679,5.5000000000000009,1.8333333333333337,0,{"$f":"'Detailed price list'!J165","v":"Traditional"},{"$f":"'Detailed price list'!K165","v":"Major (Cat V)"},{"$f":"'Detailed price list'!L165","v":"Legacy Luminaire - TH FLOODLIGHT"}]
[null,{"$f":"'Detailed price list'!B166","v":"10W LED PH RRW"},{"$f":"'Detailed price list'!C166","v":"Capital - LED Luminaire"},"10W LED PH RRW",null,null,null,null,1,1,1,1,1,1,1,{"$f":"'Detailed price list'!J166","v":"LED"},{"$f":"'Detailed price list'!K166","v":"Minor (Cat P)"},{"$f":"'Detailed price list'!L166","v":"Philips minor road RRW"}]
[null,{"$f":"'Detailed price list'!B167","v":"16W LED PH"},{"$f":"'Detailed price list'!C167","v":"Capital - LED Luminaire"},"16W LED PH",null,null,null,null,197,197,197,197,197,197,197,{"$f":"'Detailed price list'!J167","v":"LED"},{"$f":"'Detailed price list'!K167","v":"Minor (Cat P)"},{"$f":"'Detailed price list'!L167","v":"Philips minor road "}]
[null,{"$f":"'Detailed price list'!B168","v":"17W LED ALD"},{"$f":"'Detailed price list'!C168","v":"Capital - LED Luminaire"},"17W LED ALD",null,null,null,null,12097,12097,12097,12097,12097,12097,12097,{"$f":"'Detailed price list'!J168","v":"LED"},{"$f":"'Detailed price list'!K168","v":"Minor (Cat P)"},{"$f":"'Detailed price list'!L168","v":"Aldridge minor road"}]
[null,{"$f":"'Detailed price list'!B169","v":"17W LED ALD RRW"},{"$f":"'Detailed price list'!C169","v":"Capital - LED Luminaire"},"17W LED ALD RRW",null,null,null,null,705,705,705,705,705,705,705,{"$f":"'Detailed price list'!J169","v":"LED"},{"$f":"'Detailed price list'!K169","v":"Minor (Cat P)"},{"$f":"'Detailed price list'!L169","v":"Aldridge minor road RRW"}]
[null,{"$f":"'Detailed price list'!B170","v":"17W LED ALD RRW ZHAGA"},{"$f":"'Detailed price list'!C170","v":"Capital - LED Luminaire"},"17W LED ALD RRW ZHAGA",null,null,null,null,355,696,696,696,696,696,696,{"$f":"'Detailed price list'!J170","v":"LED"},{"$f":"'Detailed price list'!K170","v":"Minor (Cat P)"},{"$f":"'Detailed price list'!L170","v":"Aldridge minor road RRW ZHAGA"}]
[null,{"$f":"'Detailed price list'!B171","v":"17W LED ALD ZHAGA"},{"$f":"'Detailed price list'!C171","v":"Capital - LED Luminaire"},"17W LED ALD ZHAGA",null,null,null,null,18039.5,35988,36613,37488,38588,40238,42538,{"$f":"'Detailed price list'!J171","v":"LED"},{"$f":"'Detailed price list'!K171","v":"Minor (Cat P)"},{"$f":"'Detailed price list'!L171","v":"Aldridge minor road ZHAGA"}]
[null,{"$f":"'Detailed price list'!B172","v":"17W LED SY RRW"},{"$f":"'Detailed price list'!C172","v":"Capital - LED Luminaire"},"17W LED SY RRW",null,null,null,null,2513,2513,2513,2513,2513,2513,2513,{"$f":"'Detailed price list'!J172","v":"LED"},{"$f":"'Detailed price list'!K172","v":"Minor (Cat P)"},{"$f":"'Detailed price list'!L172","v":"17W LED SY RRW"}]
[null,{"$f":"'Detailed price list'!B173","v":"1x17W LED"},{"$f":"'Detailed price list'!C173","v":"Capital - LED Luminaire"},"1x17W LED",null,null,null,null,21279,21279,21279,21279,20645.524162499998,18211.134743812501,14075.480183123749,{"$f":"'Detailed price list'!J173","v":"LED"},{"$f":"'Detailed price list'!K173","v":"Minor (Cat P)"},{"$f":"'Detailed price list'!L173","v":"1x17W LED"}]
[null,{"$f":"'Detailed price list'!B174","v":"20W LED GE"},{"$f":"'Detailed price list'!C174","v":"Capital - LED Luminaire"},"20W LED GE",null,null,null,null,49,49,49,49,48.0075,44.544924999999999,32.676863624999996,{"$f":"'Detailed price list'!J174","v":"LED"},{"$f":"'Detailed price list'!K174","v":"Minor (Cat P)"},{"$f":"'Detailed price list'!L174","v":"20W LED GE"}]
[null,{"$f":"'Detailed price list'!B175","v":"1x22W LED"},{"$f":"'Detailed price list'!C175","v":"Capital - LED Luminaire"},"1x22W LED",null,null,null,null,12118,12120.333333333332,10735.459799999999,7189.3882529999983,4066.0653034399988,3162.0182094756656,3222.429384737999,{"$f":"'Detailed price list'!J175","v":"LED"},{"$f":"'Detailed price list'!K175","v":"Minor (Cat P)"},{"$f":"'Detailed price list'!L175","v":"1x22W LED"}]
[null,{"$f":"'Detailed price list'!B176","v":"1x25W LED GE"},{"$f":"'Detailed price list'!C176","v":"Capital - LED Luminaire"},"1x25W LED GE",null,null,null,null,4094,4094,4094,3706.0950000000003,2539.6878000000002,1291.8196017500002,698.6595572775002,{"$f":"'Detailed price list'!J176","v":"LED"},{"$f":"'Detailed price list'!K176","v":"Minor (Cat P)"},{"$f":"'Detailed price list'!L176","v":"1x25W LED GE"}]
[null,{"$f":"'Detailed price list'!B177","v":"25W LED PH"},{"$f":"'Detailed price list'!C177","v":"Capital - LED Luminaire"},"25W LED PH",null,null,null,null,569.5,840,840,840,840,840,840,{"$f":"'Detailed price list'!J177","v":"LED"},{"$f":"'Detailed price list'!K177","v":"Minor (Cat P)"},{"$f":"'Detailed price list'!L177","v":"Philips minor road high"}]
[null,{"$f":"'Detailed price list'!B178","v":"28W LED SY"},{"$f":"'Detailed price list'!C178","v":"Capital - LED Luminaire"},"28W LED SY",null,null,null,null,989,989,989,989,989,989,938.55984393750009,{"$f":"'Detailed price list'!J178","v":"LED"},{"$f":"'Detailed price list'!K178","v":"Minor (Cat P)"},{"$f":"'Detailed price list'!L178","v":"28W LED SY"}]
[null,{"$f":"'Detailed price list'!B179","v":"1x29W LED"},{"$f":"'Detailed price list'!C179","v":"Capital - LED Luminaire"},"1x29W LED",null,null,null,null,13165,13165,13165,13165,13165,13165,13165,{"$f":"'Detailed price list'!J179","v":"LED20"},{"$f":"'Detailed price list'!K179","v":"Minor (Cat P)"},{"$f":"'Detailed price list'!L179","v":"1x29W LED"}]
[null,{"$f":"'Detailed price list'!B180","v":"33W LED LRL"},{"$f":"'Detailed price list'!C180","v":"Capital - LED Luminaire"},"33W LED LRL",null,null,null,null,3,3,3,3,3,3,2.5024999999999999,{"$f":"'Detailed price list'!J180","v":"LED"},{"$f":"'Detailed price list'!K180","v":"Minor (Cat P)"},{"$f":"'Detailed price list'!L180","v":"33W LED LRL"}]
[null,{"$f":"'Detailed price list'!B181","v":"34W LED BOURKE HILL"},{"$f":"'Detailed price list'!C181","v":"Capital - LED Luminaire"},"34W LED BOURKE HILL",null,null,null,null,47,47,47,47,47,47,47,{"$f":"'Detailed price list'!J181","v":"LED"},{"$f":"'Detailed price list'!K181","v":"Minor (Cat P)"},{"$f":"'Detailed price list'!L181","v":"Bourke Hill Decorative"}]
[null,{"$f":"'Detailed price list'!B182","v":"40W LED ALD"},{"$f":"'Detailed price list'!C182","v":"Capital - LED Luminaire"},"40W LED ALD",null,null,null,null,3,3,3,3,3,3,3,{"$f":"'Detailed price list'!J182","v":"LED"},{"$f":"'Detailed price list'!K182","v":"Minor (Cat P)"},{"$f":"'Detailed price list'!L182","v":"40W LED ALD"}]
[null,{"$f":"'Detailed price list'!B183","v":"40W LED ALD ZHAGA"},{"$f":"'Detailed price list'!C183","v":"Capital - LED Luminaire"},"40W LED ALD ZHAGA",null,null,null,null,0,0,0,0,0,0,0,{"$f":"'Detailed price list'!J183","v":"LED"},{"$f":"'Detailed price list'!K183","v":"Minor (Cat P)"},{"$f":"'Detailed price list'!L183","v":"40W LED ALD ZHAGA"}]
[null,{"$f":"'Detailed price list'!B184","v":"42W LED LRL"},{"$f":"'Detailed price list'!C184","v":"Capital - LED Luminaire"},"42W LED LRL",null,null,null,null,10,10,10,10,10,9.7512500000000006,8.5099875000000011,{"$f":"'Detailed price list'!J184","v":"LED"},{"$f":"'Detailed price list'!K184","v":"Major (Cat V)"},{"$f":"'Detailed price list'!L184","v":"42W LED LRL"}]
[null,{"$f":"'Detailed price list'!B185","v":"49W LED PH"},{"$f":"'Detailed price list'!C185","v":"Capital - LED Luminaire"},"49W LED PH",null,null,null,null,188,188,188,188,188,188,188,{"$f":"'Detailed price list'!J185","v":"LED"},{"$f":"'Detailed price list'!K185","v":"Minor (Cat P)"},{"$f":"'Detailed price list'!L185","v":"Philips major road V5"}]
[null,{"$f":"'Detailed price list'!B186","v":"49W LED PH ZHAGA"},{"$f":"'Detailed price list'!C186","v":"Capital - LED Luminaire"},"49W LED PH ZHAGA",null,null,null,null,0,183.83333333333334,551.5,919.16666666666674,1103,1103,1103,{"$f":"'Detailed price list'!J186","v":"LED"},{"$f":"'Detailed price list'!K186","v":"Minor (Cat P)"},{"$f":"'Detailed price list'!L186","v":"Philips major road V5 ZHAGA"}]
[null,{"$f":"'Detailed price list'!B187","v":"50W LED SY PT"},{"$f":"'Detailed price list'!C187","v":"Capital - LED Luminaire"},"50W LED SY PT",null,null,null,null,25,25,25,25,25,25,25,{"$f":"'Detailed price list'!J187","v":"LED"},{"$f":"'Detailed price list'!K187","v":"Minor (Cat P)"},{"$f":"'Detailed price list'!L187","v":"50W LED SY PT "}]
[null,{"$f":"'Detailed price list'!B188","v":"58W LED ALD"},{"$f":"'Detailed price list'!C188","v":"Capital - LED Luminaire"},"58W LED ALD",null,null,null,null,6,6,6,6,6,6,6,{"$f":"'Detailed price list'!J188","v":"LED"},{"$f":"'Detailed price list'!K188","v":"Minor (Cat P)"},{"$f":"'Detailed price list'!L188","v":"Aldridge major road V5"}]
[null,{"$f":"'Detailed price list'!B189","v":"58W LED ALD ZHAGA"},{"$f":"'Detailed price list'!C189","v":"Capital - LED Luminaire"},"58W LED ALD ZHAGA",null,null,null,null,0,0,0,0,0,0,0,{"$f":"'Detailed price list'!J189","v":"LED"},{"$f":"'Detailed price list'!K189","v":"Minor (Cat P)"},{"$f":"'Detailed price list'!L189","v":"Aldridge major road V5 Zhaga"}]
[null,{"$f":"'Detailed price list'!B190","v":"70W LED PH FLOOD"},{"$f":"'Detailed price list'!C190","v":"Capital - LED Luminaire"},"70W LED PH FLOOD",null,null,null,null,10,10,10,85.166666666666657,235.49999999999997,385.83333333333326,460.99999999999994,{"$f":"'Detailed price list'!J190","v":"LED"},{"$f":"'Detailed price list'!K190","v":"Major (Cat V)"},{"$f":"'Detailed price list'!L190","v":"Philips floodlight PX3"}]
[null,{"$f":"'Detailed price list'!B191","v":"74W LED ALD"},{"$f":"'Detailed price list'!C191","v":"Capital - LED Luminaire"},"74W LED ALD",null,null,null,null,31,31,31,31,31,31,31,{"$f":"'Detailed price list'!J191","v":"LED"},{"$f":"'Detailed price list'!K191","v":"Major (Cat V)"},{"$f":"'Detailed price list'!L191","v":"Aldridge major road V3"}]
[null,{"$f":"'Detailed price list'!B192","v":"74W LED ALD ZHAGA"},{"$f":"'Detailed price list'!C192","v":"Capital - LED Luminaire"},"74W LED ALD ZHAGA",null,null,null,null,1,1,1,1,1,1,1,{"$f":"'Detailed price list'!J192","v":"LED"},{"$f":"'Detailed price list'!K192","v":"Major (Cat V)"},{"$f":"'Detailed price list'!L192","v":"Aldridge major road V3 ZHAGA"}]
[null,{"$f":"'Detailed price list'!B193","v":"76W LED PH"},{"$f":"'Detailed price list'!C193","v":"Capital - LED Luminaire"},"76W LED PH",null,null,null,null,3377,3377,3377,3377,3377,3377,3377,{"$f":"'Detailed price list'!J193","v":"LED"},{"$f":"'Detailed price list'!K193","v":"Major (Cat V)"},{"$f":"'Detailed price list'!L193","v":"Philips major road V3"}]
[null,{"$f":"'Detailed price list'!B194","v":"76W LED PH ZHAGA"},{"$f":"'Detailed price list'!C194","v":"Capital - LED Luminaire"},"76W LED PH ZHAGA",null,null,null,null,0,5061.833333333333,15185.5,25309.166666666664,30521,30871,31321,{"$f":"'Detailed price list'!J194","v":"LED"},{"$f":"'Detailed price list'!K194","v":"Major (Cat V)"},{"$f":"'Detailed price list'!L194","v":"Philips major road V3 ZHAGA"}]
[null,{"$f":"'Detailed price list'!B195","v":"100W LED ALD"},{"$f":"'Detailed price list'!C195","v":"Capital - LED Luminaire"},"100W LED ALD",null,null,null,null,2798,2798,2798,2798,2798,2702.0849499999999,2423.8439257499995,{"$f":"'Detailed price list'!J195","v":"LED"},{"$f":"'Detailed price list'!K195","v":"Major (Cat V)"},{"$f":"'Detailed price list'!L195","v":"100W LED ALD"}]
[null,{"$f":"'Detailed price list'!B196","v":"100W LED SY CT"},{"$f":"'Detailed price list'!C196","v":"Capital - LED Luminaire"},"100W LED SY CT",null,null,null,null,6,6,6,6,6,6,6,{"$f":"'Detailed price list'!J196","v":"LED"},{"$f":"'Detailed price list'!K196","v":"Minor (Cat P)"},{"$f":"'Detailed price list'!L196","v":"100W LED SY CT"}]
[null,{"$f":"'Detailed price list'!B197","v":"100W LED SY PT"},{"$f":"'Detailed price list'!C197","v":"Capital - LED Luminaire"},"100W LED SY PT",null,null,null,null,43,43,43,43,43,43,43,{"$f":"'Detailed price list'!J197","v":"LED"},{"$f":"'Detailed price list'!K197","v":"Minor (Cat P)"},{"$f":"'Detailed price list'!L197","v":"100W LED SY PT"}]
[null,{"$f":"'Detailed price list'!B198","v":"110W LED SY FLOOD"},{"$f":"'Detailed price list'!C198","v":"Capital - LED Luminaire"},"110W LED SY FLOOD",null,null,null,null,4,4,4,4,4,4,4,{"$f":"'Detailed price list'!J198","v":"LED"},{"$f":"'Detailed price list'!K198","v":"Major (Cat V)"},{"$f":"'Detailed price list'!L198","v":"Sylvania floodlight PX2"}]
[null,{"$f":"'Detailed price list'!B199","v":"120W LED PH FLOOD"},{"$f":"'Detailed price list'!C199","v":"Capital - LED Luminaire"},"120W LED PH FLOOD",null,null,null,null,22,22,22,23.333333333333336,26,28.666666666666671,30.000000000000004,{"$f":"'Detailed price list'!J199","v":"LED"},{"$f":"'Detailed price list'!K199","v":"Major (Cat V)"},{"$f":"'Detailed price list'!L199","v":"Philips floodlight PX2"}]
[null,{"$f":"'Detailed price list'!B200","v":"140W LED PH"},{"$f":"'Detailed price list'!C200","v":"Capital - LED Luminaire"},"140W LED PH",null,null,null,null,3378,3378,3378,3378,3378,3378,3378,{"$f":"'Detailed price list'!J200","v":"LED"},{"$f":"'Detailed price list'!K200","v":"Major (Cat V)"},{"$f":"'Detailed price list'!L200","v":"Philips major road V1"}]
[null,{"$f":"'Detailed price list'!B201","v":"140W LED PH ZHAGA"},{"$f":"'Detailed price list'!C201","v":"Capital - LED Luminaire"},"140W LED PH ZHAGA",null,null,null,null,6,3718,11142,18566,22278,22278,22278,{"$f":"'Detailed price list'!J201","v":"LED"},{"$f":"'Detailed price list'!K201","v":"Major (Cat V)"},{"$f":"'Detailed price list'!L201","v":"Philips major road V1 ZHAGA"}]
[null,{"$f":"'Detailed price list'!B202","v":"150W LED SY FLOOD"},{"$f":"'Detailed price list'!C202","v":"Capital - LED Luminaire"},"150W LED SY FLOOD",null,null,null,null,24,24,24,307,873,1439,1722,{"$f":"'Detailed price list'!J202","v":"LED"},{"$f":"'Detailed price list'!K202","v":"Major (Cat V)"},{"$f":"'Detailed price list'!L202","v":"Sylvania floodlight PX1"}]
[null,{"$f":"'Detailed price list'!B203","v":"150W LED SY PT"},{"$f":"'Detailed price list'!C203","v":"Capital - LED Luminaire"},"150W LED SY PT",null,null,null,null,47,47,47,47,47,47,47,{"$f":"'Detailed price list'!J203","v":"LED"},{"$f":"'Detailed price list'!K203","v":"Minor (Cat P)"},{"$f":"'Detailed price list'!L203","v":"150W LED Syrkel PT"}]
[null,{"$f":"'Detailed price list'!B204","v":"152W LED PH FLOOD"},{"$f":"'Detailed price list'!C204","v":"Capital - LED Luminaire"},"152W LED PH FLOOD",null,null,null,null,2,2,2,2,2,2,2,{"$f":"'Detailed price list'!J204","v":"LED"},{"$f":"'Detailed price list'!K204","v":"Major (Cat V)"},{"$f":"'Detailed price list'!L204","v":"Philips floodlight PX1"}]
[null,{"$f":"'Detailed price list'!B205","v":"170W LED ALD"},{"$f":"'Detailed price list'!C205","v":"Capital - LED Luminaire"},"170W LED ALD",null,null,null,null,11,11,11,11,11,11,11,{"$f":"'Detailed price list'!J205","v":"LED"},{"$f":"'Detailed price list'!K205","v":"Major (Cat V)"},{"$f":"'Detailed price list'!L205","v":"Aldridge major road V1"}]
[null,{"$f":"'Detailed price list'!B206","v":"170W LED ALD ZHAGA"},{"$f":"'Detailed price list'!C206","v":"Capital - LED Luminaire"},"170W LED ALD ZHAGA",null,null,null,null,0,0,0,0,0,0,0,{"$f":"'Detailed price list'!J206","v":"LED"},{"$f":"'Detailed price list'!K206","v":"Major (Cat V)"},{"$f":"'Detailed price list'!L206","v":"Aldridge major road V1 ZHAGA"}]
[null,{"$f":"'Detailed price list'!B207","v":"175W LED SY FLOOD"},{"$f":"'Detailed price list'!C207","v":"Capital - LED Luminaire"},{"$f":"B207","v":"175W LED SY FLOOD"},null,null,null,null,0,1.5,4.5,123.83333333333334,358,590.66666666666674,707,{"$f":"'Detailed price list'!J207","v":"LED"},{"$f":"'Detailed price list'!K207","v":"Major (Cat V)"},{"$f":"'Detailed price list'!L207","v":"Sylvania floodlight PX1"}]
[null,{"$f":"'Detailed price list'!B208","v":"200W LED ALD"},{"$f":"'Detailed price list'!C208","v":"Capital - LED Luminaire"},"200W LED ALD",null,null,null,null,2156,2156,2156,2156,2156,2095.1610874999997,1893.1626586874997,{"$f":"'Detailed price list'!J208","v":"LED"},{"$f":"'Detailed price list'!K208","v":"Major (Cat V)"},{"$f":"'Detailed price list'!L208","v":"200W LED ALD"}]
[null,{"$f":"'Detailed price list'!B209","v":"224W LED PH"},{"$f":"'Detailed price list'!C209","v":"Capital - LED Luminaire"},"224W LED PH",null,null,null,null,114,114,114,114,114,114,114,{"$f":"'Detailed price list'!J209","v":"LED"},{"$f":"'Detailed price list'!K209","v":"Major (Cat V)"},{"$f":"'Detailed price list'!L209","v":"Philips major road V1 High"}]
[null,{"$f":"'Detailed price list'!B210","v":"224W LED PH ZHAGA"},{"$f":"'Detailed price list'!C210","v":"Capital - LED Luminaire"},"224W LED PH ZHAGA",null,null,null,null,3,904,2706,4508.1666666666661,5409.5,5409.8333333333321,5409.9999999999991,{"$f":"'Detailed price list'!J210","v":"LED"},{"$f":"'Detailed price list'!K210","v":"Major (Cat V)"},{"$f":"'Detailed price list'!L210","v":"Philips major road V1 High ZHAGA"}]
[null,{"$f":"'Detailed price list'!B211","v":"258W LED ALD"},{"$f":"'Detailed price list'!C211","v":"Capital - LED Luminaire"},"258W LED ALD",null,null,null,null,1,1,1,1,1,1,1,{"$f":"'Detailed price list'!J211","v":"LED"},{"$f":"'Detailed price list'!K211","v":"Major (Cat V)"},{"$f":"'Detailed price list'!L211","v":"Aldridge major road V1 High"}]
[null,{"$f":"'Detailed price list'!B212","v":"258W LED ALD ZHAGA"},{"$f":"'Detailed price list'!C212","v":"Capital - LED Luminaire"},"258W LED ALD ZHAGA",null,null,null,null,0,0,0,0,0,0,0,{"$f":"'Detailed price list'!J212","v":"LED"},{"$f":"'Detailed price list'!K212","v":"Major (Cat V)"},{"$f":"'Detailed price list'!L212","v":"Aldridge major road V1 High ZHAGA"}]
[null,{"$f":"'Detailed price list'!B213","v":"298W LED ALD"},{"$f":"'Detailed price list'!C213","v":"Capital - LED Luminaire"},"298W LED ALD",null,null,null,null,18,18,18,18,18,15.76125,11.306137500000002,{"$f":"'Detailed price list'!J213","v":"LED"},{"$f":"'Detailed price list'!K213","v":"Major (Cat V)"},{"$f":"'Detailed price list'!L213","v":"298W LED ALD"}]
[null,{"$f":"'Detailed price list'!B214","v":"600W LED ALD HM"},{"$f":"'Detailed price list'!C214","v":"Capital - LED Luminaire"},"600W LED ALD HM",null,null,null,null,16,16,16,21.5,32.5,43.5,49,{"$f":"'Detailed price list'!J214","v":"LED"},{"$f":"'Detailed price list'!K214","v":"Minor (Cat P)"},{"$f":"'Detailed price list'!L214","v":"600W LED ALD HM"}]
[null,{"$f":"'Detailed price list'!B215","v":"COLONIAL ROCKS SPHERE"},{"$f":"'Detailed price list'!C215","v":"Capital - LED Luminaire"},"COLONIAL ROCKS SPHERE",null,null,null,null,35,35,35,35,35,35,35,{"$f":"'Detailed price list'!J215","v":"LED"},{"$f":"'Detailed price list'!K215","v":"Minor (Cat P)"},{"$f":"'Detailed price list'!L215","v":"COLONIAL ROCKS SPHERE"}]
[null,{"$f":"'Detailed price list'!B216","v":"LED TRIAL"},{"$f":"'Detailed price list'!C216","v":"Capital - LED Luminaire"},"LED TRIAL",null,null,null,null,88,88,88,88,88,88,88,{"$f":"'Detailed price list'!J216","v":"LED20"},{"$f":"'Detailed price list'!K216","v":"Minor (Cat P)"},{"$f":"'Detailed price list'!L216","v":"LED TRIAL"}]
[null,{"$f":"'Detailed price list'!B217","v":"Spare Luminaire 1"},{"$f":"'Detailed price list'!C217","v":"Capital - LED Luminaire"},"Spare Luminaire 1",null,null,null,null,0,0,0,0,0,0,0,{"$f":"'Detailed price list'!J217","v":"LED"},{"$f":"'Detailed price list'!K217","v":"Major (Cat V)"},{"$f":"'Detailed price list'!L217","v":"Spare Luminaire 1"}]
[null,{"$f":"'Detailed price list'!B218","v":"Spare Luminaire 2"},{"$f":"'Detailed price list'!C218","v":"Capital - LED Luminaire"},"Spare Luminaire 2",null,null,null,null,0,0,0,0,0,0,0,{"$f":"'Detailed price list'!J218","v":"LED"},{"$f":"'Detailed price list'!K218","v":"Major (Cat V)"},{"$f":"'Detailed price list'!L218","v":"Spare Luminaire 2"}]
[null,{"$f":"'Detailed price list'!B219","v":"Spare Luminaire 3"},{"$f":"'Detailed price list'!C219","v":"Capital - LED Luminaire"},"Spare Luminaire 3",null,null,null,null,0,0,0,0,0,0,0,{"$f":"'Detailed price list'!J219","v":"LED"},{"$f":"'Detailed price list'!K219","v":"Major (Cat V)"},{"$f":"'Detailed price list'!L219","v":"Spare Luminaire 3"}]
[null,{"$f":"'Detailed price list'!B220","v":"Spare Luminaire 4"},{"$f":"'Detailed price list'!C220","v":"Capital - LED Luminaire"},"Spare Luminaire 4",null,null,null,null,0,0,0,0,0,0,0,{"$f":"'Detailed price list'!J220","v":"LED"},{"$f":"'Detailed price list'!K220","v":"Major (Cat V)"},{"$f":"'Detailed price list'!L220","v":"Spare Luminaire 4"}]
[null,{"$f":"'Detailed price list'!B221","v":"Spare Luminaire 5"},{"$f":"'Detailed price list'!C221","v":"Capital - LED Luminaire"},"Spare Luminaire 5",null,null,null,null,0,0,0,0,0,0,0,{"$f":"'Detailed price list'!J221","v":"LED"},{"$f":"'Detailed price list'!K221","v":"Major (Cat V)"},{"$f":"'Detailed price list'!L221","v":"Spare Luminaire 5"}]
[null,{"$f":"'Detailed price list'!B222","v":"Smart Controller - materials and installation"},{"$f":"'Detailed price list'!C222","v":"Capital - Smart Controller"},"Smart Controller - materials and installation",null,null,null,null,8300,8300,8300,8300,8300,8300,8300,{"$f":"'Detailed price list'!J222","v":"Smart Controller"},{"$f":"'Detailed price list'!K222","v":"Minor (Cat P)"},{"$f":"'Detailed price list'!L222","v":"Smart Controller - materials and installation"}]
[null,{"$f":"'Detailed price list'!B223","v":"Smart Controller - material price only"},{"$f":"'Detailed price list'!C223","v":"Capital - Smart Controller"},"Smart Controller - material price only",null,null,null,null,0,0,0,0,0,0,0,{"$f":"'Detailed price list'!J223","v":"Smart Controller"},{"$f":"'Detailed price list'!K223","v":"Minor (Cat P)"},{"$f":"'Detailed price list'!L223","v":"Smart Controller - material price only"}]
[null,{"$f":"'Detailed price list'!B224","v":"Smart Controller - material price adjusted for PE Cell"},{"$f":"'Detailed price list'!C224","v":"Capital - Smart Controller"},"Smart Controller - material price adjusted for PE Cell",null,null,null,null,0,10000,32500,50750,58250,60250,60750,{"$f":"'Detailed price list'!J224","v":"Smart Controller"},{"$f":"'Detailed price list'!K224","v":"Minor (Cat P)"},{"$f":"'Detailed price list'!L224","v":"Smart Controller - material price adjusted for PE Cell"}]
[null,{"$f":"'Detailed price list'!B225","v":"COLUMN 10.5M-13.5M"},{"$f":"'Detailed price list'!C225","v":"Capital - Support"},"COLUMN 10.5M-13.5M",null,null,null,null,948.5,979.5,1010.5,1041.5,1072.5,1103.5,1134.5,{"$f":"'Detailed price list'!J225","v":"Support"},{"$f":"'Detailed price list'!K225","v":"Major (Cat V)"},{"$f":"'Detailed price list'!L225","v":"Support - COLUMN 10.5M-13.5M"}]
[null,{"$f":"'Detailed price list'!B226","v":"COLUMN 14M-15M"},{"$f":"'Detailed price list'!C226","v":"Capital - Support"},"COLUMN 14M-15M",null,null,null,null,11.5,12.5,13.5,14.5,15.5,16.5,17.5,{"$f":"'Detailed price list'!J226","v":"Support"},{"$f":"'Detailed price list'!K226","v":"Major (Cat V)"},{"$f":"'Detailed price list'!L226","v":"Support - COLUMN 14M-15M"}]
[null,{"$f":"'Detailed price list'!B227","v":"COLUMN 2.5M-3.5M"},{"$f":"'Detailed price list'!C227","v":"Capital - Support"},"COLUMN 2.5M-3.5M",null,null,null,null,24.5,25.5,26.5,27.5,28.5,29.75,31.25,{"$f":"'Detailed price list'!J227","v":"Support"},{"$f":"'Detailed price list'!K227","v":"Minor (Cat P)"},{"$f":"'Detailed price list'!L227","v":"Support - COLUMN 2.5M-3.5M"}]
[null,{"$f":"'Detailed price list'!B228","v":"COLUMN 4-6.5M ORION WATE"},{"$f":"'Detailed price list'!C228","v":"Capital - Support"},"COLUMN 4-6.5M ORION WATE",null,null,null,null,478,510,542,574,606,638,670,{"$f":"'Detailed price list'!J228","v":"Support"},{"$f":"'Detailed price list'!K228","v":"Minor (Cat P)"},{"$f":"'Detailed price list'!L228","v":"Support - COLUMN 4-6.5M ORION WATE"}]
[null,{"$f":"'Detailed price list'!B229","v":"COLUMN 4M-6.5M"},{"$f":"'Detailed price list'!C229","v":"Capital - Support"},"COLUMN 4M-6.5M",null,null,null,null,5673,5859.25,6045.75,6232,6418,6604,6790,{"$f":"'Detailed price list'!J229","v":"Support"},{"$f":"'Detailed price list'!K229","v":"Minor (Cat P)"},{"$f":"'Detailed price list'!L229","v":"Support - COLUMN 4M-6.5M"}]
[null,{"$f":"'Detailed price list'!B230","v":"COLUMN 7M-10M"},{"$f":"'Detailed price list'!C230","v":"Capital - Support"},"COLUMN 7M-10M",null,null,null,null,987,1019,1051,1083,1115,1147,1179,{"$f":"'Detailed price list'!J230","v":"Support"},{"$f":"'Detailed price list'!K230","v":"Major (Cat V)"},{"$f":"'Detailed price list'!L230","v":"Support - COLUMN 7M-10M"}]
[null,{"$f":"'Detailed price list'!B231","v":"DECORATIVE COLUMN"},{"$f":"'Detailed price list'!C231","v":"Capital - Support"},"DECORATIVE COLUMN",null,null,null,null,96.5,99.5,102.5,105.5,108.5,111.5,114.5,{"$f":"'Detailed price list'!J231","v":"Support"},{"$f":"'Detailed price list'!K231","v":"Minor (Cat P)"},{"$f":"'Detailed price list'!L231","v":"Support - DECORATIVE COLUMN"}]
[null,{"$f":"'Detailed price list'!B232","v":"DEDICATED SUPPORT & COND"},{"$f":"'Detailed price list'!C232","v":"Capital - Support"},"DEDICATED SUPPORT & COND",null,null,null,null,224.5,239.5,254.5,269.5,284.5,299.5,314.5,{"$f":"'Detailed price list'!J232","v":"Support"},{"$f":"'Detailed price list'!K232","v":"Minor (Cat P)"},{"$f":"'Detailed price list'!L232","v":"Support - DEDICATED SUPPORT & COND"}]
[null,{"$f":"'Detailed price list'!B233","v":"MACQUARIE STANDARD"},{"$f":"'Detailed price list'!C233","v":"Capital - Support"},"MACQUARIE STANDARD",null,null,null,null,9,9,9,9,9,9,9,{"$f":"'Detailed price list'!J233","v":"Support"},{"$f":"'Detailed price list'!K233","v":"Minor (Cat P)"},{"$f":"'Detailed price list'!L233","v":"Support - MACQUARIE STANDARD"}]
[null,{"$f":"'Detailed price list'!B234","v":"MAST 15.5M-30M"},{"$f":"'Detailed price list'!C234","v":"Capital - Support"},"MAST 15.5M-30M",null,null,null,null,11,11,11,11,11,11,11,{"$f":"'Detailed price list'!J234","v":"Support"},{"$f":"'Detailed price list'!K234","v":"Major (Cat V)"},{"$f":"'Detailed price list'!L234","v":"Support - MAST 15.5M-30M"}]
[null,{"$f":"'Detailed price list'!B235","v":"ORION DOUBLE ARM"},{"$f":"'Detailed price list'!C235","v":"Capital - Support"},"ORION DOUBLE ARM",null,null,null,null,11,11,11,11,11,11,11,{"$f":"'Detailed price list'!J235","v":"Support"},{"$f":"'Detailed price list'!K235","v":"Minor (Cat P)"},{"$f":"'Detailed price list'!L235","v":"Support - ORION DOUBLE ARM"}]
[null,{"$f":"'Detailed price list'!B236","v":"POLO 10.5M DECORATIVE 2M"},{"$f":"'Detailed price list'!C236","v":"Capital - Support"},"POLO 10.5M DECORATIVE 2M",null,null,null,null,1,1,1,1,1,1,1,{"$f":"'Detailed price list'!J236","v":"Support"},{"$f":"'Detailed price list'!K236","v":"Minor (Cat P)"},{"$f":"'Detailed price list'!L236","v":"Support - POLO 10.5M DECORATIVE 2M"}]
[null,{"$f":"'Detailed price list'!B237","v":"ROCKS STANDARD"},{"$f":"'Detailed price list'!C237","v":"Capital - Support"},"ROCKS STANDARD",null,null,null,null,35.5,36.5,37.5,38.5,39.5,40.5,41.5,{"$f":"'Detailed price list'!J237","v":"Support"},{"$f":"'Detailed price list'!K237","v":"Minor (Cat P)"},{"$f":"'Detailed price list'!L237","v":"Support - ROCKS STANDARD"}]

{"sheet":"C_CAPEX Build Up","index":17,"n_rows":190,"n_cols":51,"rows_kept":190,"cut":false,"hidden":false,"merged":[[12,9,12,13],[12,15,12,22],[12,24,12,31],[12,46,12,50],[12,37,12,41]]}
[null,"SLUOS Capital Charge"]
[]
[null,"Description "]
[null,"This sheet details all CAPEX-relatred SLUOS, broken down for each component.  ALL COSTS HERE ARE ALREADY ONCOSTED"]
[]
[null,"Parameters"]
[null,"Return on Asset Percentage",null,{"$f":"+'I_Global Inputs'!G29","v":2.8196668362525878E-2}]
[null,"LED Luminaire life span in years (10yrs)",null,10]
[null,"LED Luminaire life span in years (20 yrs)",null,20]
[null,"Traditional Luminaire life span in years",null,20]
[null,"Pole/bracket lifespan in years",null,35,null,null,null,null,null,null,null,null,null,null,"THESE NEED EDITING regarding life span of wiring etc etc"]
[]
[null,null,null,null,null,null,null,null,null,"Cost Build up $FY24",null,null,null,null,null,"Capital Annuity Charges - Nominal Price Path",null,null,null,null,null,null,null,null,"Charges if paid by council up front/TC2 discount in upgrades",null,null,null,null,null,null,null,null,null,null,null,null,"Forecast Volumes",null,null,null,null,null,null,null,null,"Cost recovery"]
[null,"Name","Classification","Light globe category","Grouping","Type","Calculation Method","Mapped to Assembly/Item",null,"Installation (Materials, Labour, Plant)","Warranty","Traffic Control","Overheads","Total Capital Cost",null,"FY22","FY23","FY24","FY25","FY26","FY27","FY28","FY29",null,{"$f":"P14","v":"FY22"},{"$f":"Q14","v":"FY23"},"FY24","FY25","FY26","FY27","FY28","FY29",null,"Opex lookup name",{"$f":"Y14","v":"FY22"},"FY23","FY24",{"$f":"AB14","v":"FY25"},{"$f":"AC14","v":"FY26"},{"$f":"AD14","v":"FY27"},{"$f":"AE14","v":"FY28"},{"$f":"AF14","v":"FY29"},null,{"$f":"AI14","v":"FY22"},"FY23","FY24",{"$f":"AL14","v":"FY25"},{"$f":"AM14","v":"FY26"},{"$f":"AN14","v":"FY27"},{"$f":"AO14","v":"FY28"},{"$f":"AP14","v":"FY29"}]
[null,{"$f":"H15","v":"0.5"},"Minor (Cat P)",null,null,{"$f":"IF(OR(G15=\"Bracket\",G15=\"Support\",G15=\"Smart Controller\"),G15,\"Luminaire\")","v":"Bracket"},"Bracket","0.5",null,{"$f":"IF(ISBLANK(F15),0,\nIF(OR(F15=\"Luminaire\",F15=\"Smart Controller\",F15=\"NW\"),OFFSET(I_CAPEX!$AC$48,(MATCH('C_CAPEX Build Up'!H15,I_CAPEX!V$49:V$437,0)),0),\nIF('C_CAPEX Build Up'!F15=\"Bracket\",OFFSET(I_CAPEX!S$48,MATCH('C_CAPEX Build Up'!H15,I_CAPEX!L$49:L$130,0),0),\nOFFSET(I_CAPEX!I$48,MATCH('C_CAPEX Build Up'!H15,I_CAPEX!B$49:B$102,0),0))))","v":130.09746123997729},null,0,{"$f":"SUM(J15,L15)*I_CAPEX!$D$13","v":7.8058476743986374},{"$f":"SUM(J15:M15)","v":137.90330891437594},null,null,null,{"$f":"IF(OR(G15=\"LED\",G15=\"Smart Controller\"),-PMT(return_on_assests_pct,LED_lantern_lifespan,N15)*(1+'I_Global Inputs'!$G$54),IF(G15=\"LED20\",-PMT(return_on_assests_pct,LED_life_span_20yrs,N15),\nIF(G15=\"Traditional\",-PMT(return_on_assests_pct,trad_lantern_lifespan,N15),\n-PMT(return_on_assests_pct,pole_lifespan,N15))))","v":6.2500830079105194},{"$f":"R15*(1+CPIFY25)","v":6.5063364112348498},{"$f":"S15*(1+CPIFY26)","v":6.6933713483748605},{"$f":"T15*(1+CPIFY27)","v":6.8857829007864941},{"$f":"U15*(1+CPIFY28)","v":7.0837256277848253},{"$f":"V15*(1+CPIFY29)","v":7.2873585317370448},null,null,null,{"$f":"N15","v":137.90330891437594},{"$f":"AA15*(1+CPIFY25)","v":143.55734457986534},{"$f":"AB15*(1+CPIFY26)","v":147.68412764523498},{"$f":"AC15*(1+CPIFY27)","v":151.92954162091064},{"$f":"AD15*(1+CPIFY28)","v":156.29699674015561},{"$f":"AE15*(1+CPIFY29)","v":160.79000126878543},null,null,null,null,{"$f":"_xlfn.XLOOKUP($H15,'I_Asset number input'!$B$5:$B$239,'I_Asset number input'!J$5:J$239)","v":6457.1500000000005},{"$f":"_xlfn.XLOOKUP($H15,'I_Asset number input'!$B$5:$B$239,'I_Asset number input'!K$5:K$239)","v":6508.7000000000007},{"$f":"_xlfn.XLOOKUP($H15,'I_Asset number input'!$B$5:$B$239,'I_Asset number input'!L$5:L$239)","v":6508.7000000000007},{"$f":"_xlfn.XLOOKUP($H15,'I_Asset number input'!$B$5:$B$239,'I_Asset number input'!M$5:M$239)","v":6508.7000000000007},{"$f":"_xlfn.XLOOKUP($H15,'I_Asset number input'!$B$5:$B$239,'I_Asset number input'!N$5:N$239)","v":6508.7000000000007},{"$f":"_xlfn.XLOOKUP($H15,'I_Asset number input'!$B$5:$B$239,'I_Asset number input'!O$5:O$239)","v":6508.7000000000007},null,null,null,{"$f":"IFERROR(R15*AK15,0)","v":40357.723494529411},{"$f":"IFERROR(S15*AL15,0)","v":42347.791799804269},{"$f":"IFERROR(T15*AM15,0)","v":43565.14609516746},{"$f":"IFERROR(U15*AN15,0)","v":44817.495166349057},{"$f":"IFERROR(V15*AO15,0)","v":46105.8449935631},{"$f":"IFERROR(W15*AP15,0)","v":47431.23047551691}]
[null,{"$f":"H16","v":"0.6"},"Minor (Cat P)",null,null,{"$f":"IF(OR(G16=\"Bracket\",G16=\"Support\",G16=\"Smart Controller\"),G16,\"Luminaire\")","v":"Bracket"},"Bracket","0.6",null,{"$f":"IF(ISBLANK(F16),0,\nIF(OR(F16=\"Luminaire\",F16=\"Smart Controller\",F16=\"NW\"),OFFSET(I_CAPEX!$AC$48,(MATCH('C_CAPEX Build Up'!H16,I_CAPEX!V$49:V$437,0)),0),\nIF('C_CAPEX Build Up'!F16=\"Bracket\",OFFSET(I_CAPEX!S$48,MATCH('C_CAPEX Build Up'!H16,I_CAPEX!L$49:L$130,0),0),\nOFFSET(I_CAPEX!I$48,MATCH('C_CAPEX Build Up'!H16,I_CAPEX!B$49:B$102,0),0))))","v":130.09746123997729},null,0,{"$f":"SUM(J16,L16)*I_CAPEX!$D$13","v":7.8058476743986374},{"$f":"SUM(J16:M16)","v":137.90330891437594},null,null,null,{"$f":"IF(OR(G16=\"LED\",G16=\"Smart Controller\"),-PMT(return_on_assests_pct,LED_lantern_lifespan,N16)*(1+'I_Global Inputs'!$G$54),IF(G16=\"LED20\",-PMT(return_on_assests_pct,LED_life_span_20yrs,N16),\nIF(G16=\"Traditional\",-PMT(return_on_assests_pct,trad_lantern_lifespan,N16),\n-PMT(return_on_assests_pct,pole_lifespan,N16))))","v":6.2500830079105194},{"$f":"R16*(1+CPIFY25)","v":6.5063364112348498},{"$f":"S16*(1+CPIFY26)","v":6.6933713483748605},{"$f":"T16*(1+CPIFY27)","v":6.8857829007864941},{"$f":"U16*(1+CPIFY28)","v":7.0837256277848253},{"$f":"V16*(1+CPIFY29)","v":7.2873585317370448},null,null,null,{"$f":"N16","v":137.90330891437594},{"$f":"AA16*(1+CPIFY25)","v":143.55734457986534},{"$f":"AB16*(1+CPIFY26)","v":147.68412764523498},{"$f":"AC16*(1+CPIFY27)","v":151.92954162091064},{"$f":"AD16*(1+CPIFY28)","v":156.29699674015561},{"$f":"AE16*(1+CPIFY29)","v":160.79000126878543},null,null,null,null,{"$f":"_xlfn.XLOOKUP($H16,'I_Asset number input'!$B$5:$B$239,'I_Asset number input'!J$5:J$239)","v":26},{"$f":"_xlfn.XLOOKUP($H16,'I_Asset number input'!$B$5:$B$239,'I_Asset number input'!K$5:K$239)","v":26},{"$f":"_xlfn.XLOOKUP($H16,'I_Asset number input'!$B$5:$B$239,'I_Asset number input'!L$5:L$239)","v":26},{"$f":"_xlfn.XLOOKUP($H16,'I_Asset number input'!$B$5:$B$239,'I_Asset number input'!M$5:M$239)","v":26},{"$f":"_xlfn.XLOOKUP($H16,'I_Asset number input'!$B$5:$B$239,'I_Asset number input'!N$5:N$239)","v":26},{"$f":"_xlfn.XLOOKUP($H16,'I_Asset number input'!$B$5:$B$239,'I_Asset number input'!O$5:O$239)","v":26},null,null,null,162.50215820567351,{"$f":"IFERROR(S16*AL16,0)","v":169.16474669210609},174.02765505774636,179.03035542044884,184.17686632240546,189.47132182516316]
[null,"1.0","Minor (Cat P)",null,null,"Bracket","Bracket","1.0",null,{"$f":"IF(ISBLANK(F17),0,\nIF(OR(F17=\"Luminaire\",F17=\"Smart Controller\",F17=\"NW\"),OFFSET(I_CAPEX!$AC$48,(MATCH('C_CAPEX Build Up'!H17,I_CAPEX!V$49:V$437,0)),0),\nIF('C_CAPEX Build Up'!F17=\"Bracket\",OFFSET(I_CAPEX!S$48,MATCH('C_CAPEX Build Up'!H17,I_CAPEX!L$49:L$130,0),0),\nOFFSET(I_CAPEX!I$48,MATCH('C_CAPEX Build Up'!H17,I_CAPEX!B$49:B$102,0),0))))","v":159.82080804604328},null,0,{"$f":"SUM(J17,L17)*I_CAPEX!$D$13","v":9.5892484827625974},169.41005652880588,null,null,null,{"$f":"IF(OR(G17=\"LED\",G17=\"Smart Controller\"),-PMT(return_on_assests_pct,LED_lantern_lifespan,N17)*(1+'I_Global Inputs'!$G$54),IF(G17=\"LED20\",-PMT(return_on_assests_pct,LED_life_span_20yrs,N17),\nIF(G17=\"Traditional\",-PMT(return_on_assests_pct,trad_lantern_lifespan,N17),\n-PMT(return_on_assests_pct,pole_lifespan,N17))))","v":7.678038504045432},7.9928380827112937,8.222604862951675,8.458976652921482,8.7021433240785466,8.9523002060362504,null,null,null,169.41005652880588,176.35586884648691,181.42549739920332,186.64086044791708,192.00614736135662,197.52566793828467,null,null,null,null,{"$f":"_xlfn.XLOOKUP($H17,'I_Asset number input'!$B$5:$B$239,'I_Asset number input'!J$5:J$239)","v":116},{"$f":"_xlfn.XLOOKUP($H17,'I_Asset number input'!$B$5:$B$239,'I_Asset number input'!K$5:K$239)","v":116},{"$f":"_xlfn.XLOOKUP($H17,'I_Asset number input'!$B$5:$B$239,'I_Asset number input'!L$5:L$239)","v":116},{"$f":"_xlfn.XLOOKUP($H17,'I_Asset number input'!$B$5:$B$239,'I_Asset number input'!M$5:M$239)","v":116},{"$f":"_xlfn.XLOOKUP($H17,'I_Asset number input'!$B$5:$B$239,'I_Asset number input'!N$5:N$239)","v":116},{"$f":"_xlfn.XLOOKUP($H17,'I_Asset number input'!$B$5:$B$239,'I_Asset number input'!O$5:O$239)","v":116},null,null,null,890.65246646927017,927.16921759451009,953.82216410239425,981.24129173889196,1009.4486255931114,1038.4668239002051]
[null,"1.2","Minor (Cat P)",null,null,"Bracket","Bracket","1.2",null,{"$f":"IF(ISBLANK(F18),0,\nIF(OR(F18=\"Luminaire\",F18=\"Smart Controller\",F18=\"NW\"),OFFSET(I_CAPEX!$AC$48,(MATCH('C_CAPEX Build Up'!H18,I_CAPEX!V$49:V$437,0)),0),\nIF('C_CAPEX Build Up'!F18=\"Bracket\",OFFSET(I_CAPEX!S$48,MATCH('C_CAPEX Build Up'!H18,I_CAPEX!L$49:L$130,0),0),\nOFFSET(I_CAPEX!I$48,MATCH('C_CAPEX Build Up'!H18,I_CAPEX!B$49:B$102,0),0))))","v":159.82080804604328},null,0,{"$f":"SUM(J18,L18)*I_CAPEX!$D$13","v":9.5892484827625974},169.41005652880588,null,null,null,{"$f":"IF(OR(G18=\"LED\",G18=\"Smart Controller\"),-PMT(return_on_assests_pct,LED_lantern_lifespan,N18)*(1+'I_Global Inputs'!$G$54),IF(G18=\"LED20\",-PMT(return_on_assests_pct,LED_life_span_20yrs,N18),\nIF(G18=\"Traditional\",-PMT(return_on_assests_pct,trad_lantern_lifespan,N18),\n-PMT(return_on_assests_pct,pole_lifespan,N18))))","v":7.678038504045432},7.9928380827112937,8.222604862951675,8.458976652921482,8.7021433240785466,8.9523002060362504,null,null,null,169.41005652880588,176.35586884648691,181.42549739920332,186.64086044791708,192.00614736135662,197.52566793828467,null,null,null,null,{"$f":"_xlfn.XLOOKUP($H18,'I_Asset number input'!$B$5:$B$239,'I_Asset number input'!J$5:J$239)","v":457},{"$f":"_xlfn.XLOOKUP($H18,'I_Asset number input'!$B$5:$B$239,'I_Asset number input'!K$5:K$239)","v":457},{"$f":"_xlfn.XLOOKUP($H18,'I_Asset number input'!$B$5:$B$239,'I_Asset number input'!L$5:L$239)","v":457},{"$f":"_xlfn.XLOOKUP($H18,'I_Asset number input'!$B$5:$B$239,'I_Asset number input'!M$5:M$239)","v":457},{"$f":"_xlfn.XLOOKUP($H18,'I_Asset number input'!$B$5:$B$239,'I_Asset number input'!N$5:N$239)","v":457},{"$f":"_xlfn.XLOOKUP($H18,'I_Asset number input'!$B$5:$B$239,'I_Asset number input'!O$5:O$239)","v":457},null,null,null,3508.8635963487623,3652.7270037990611,3757.7304223689157,3865.7523303851171,3976.8794991038958,4091.2011941585665]
[null,"1.5","Minor (Cat P)",null,null,"Bracket","Bracket","1.5",null,{"$f":"IF(ISBLANK(F19),0,\nIF(OR(F19=\"Luminaire\",F19=\"Smart Controller\",F19=\"NW\"),OFFSET(I_CAPEX!$AC$48,(MATCH('C_CAPEX Build Up'!H19,I_CAPEX!V$49:V$437,0)),0),\nIF('C_CAPEX Build Up'!F19=\"Bracket\",OFFSET(I_CAPEX!S$48,MATCH('C_CAPEX Build Up'!H19,I_CAPEX!L$49:L$130,0),0),\nOFFSET(I_CAPEX!I$48,MATCH('C_CAPEX Build Up'!H19,I_CAPEX!B$49:B$102,0),0))))","v":159.82080804604328},null,0,{"$f":"SUM(J19,L19)*I_CAPEX!$D$13","v":9.5892484827625974},169.41005652880588,null,null,null,{"$f":"IF(OR(G19=\"LED\",G19=\"Smart Controller\"),-PMT(return_on_assests_pct,LED_lantern_lifespan,N19)*(1+'I_Global Inputs'!$G$54),IF(G19=\"LED20\",-PMT(return_on_assests_pct,LED_life_span_20yrs,N19),\nIF(G19=\"Traditional\",-PMT(return_on_assests_pct,trad_lantern_lifespan,N19),\n-PMT(return_on_assests_pct,pole_lifespan,N19))))","v":7.678038504045432},7.9928380827112937,8.222604862951675,8.458976652921482,8.7021433240785466,8.9523002060362504,null,null,null,169.41005652880588,176.35586884648691,181.42549739920332,186.64086044791708,192.00614736135662,197.52566793828467,null,null,null,null,{"$f":"_xlfn.XLOOKUP($H19,'I_Asset number input'!$B$5:$B$239,'I_Asset number input'!J$5:J$239)","v":266},{"$f":"_xlfn.XLOOKUP($H19,'I_Asset number input'!$B$5:$B$239,'I_Asset number input'!K$5:K$239)","v":266},{"$f":"_xlfn.XLOOKUP($H19,'I_Asset number input'!$B$5:$B$239,'I_Asset number input'!L$5:L$239)","v":266},{"$f":"_xlfn.XLOOKUP($H19,'I_Asset number input'!$B$5:$B$239,'I_Asset number input'!M$5:M$239)","v":266},{"$f":"_xlfn.XLOOKUP($H19,'I_Asset number input'!$B$5:$B$239,'I_Asset number input'!N$5:N$239)","v":266},{"$f":"_xlfn.XLOOKUP($H19,'I_Asset number input'!$B$5:$B$239,'I_Asset number input'!O$5:O$239)","v":266},null,null,null,2042.3582420760849,2126.0949300012039,2187.2128935451456,2250.0877896771144,2314.7701242048934,2381.3118548056427]
[null,"2.0","Minor (Cat P)",null,null,"Bracket","Bracket","2.0",null,{"$f":"IF(ISBLANK(F20),0,\nIF(OR(F20=\"Luminaire\",F20=\"Smart Controller\",F20=\"NW\"),OFFSET(I_CAPEX!$AC$48,(MATCH('C_CAPEX Build Up'!H20,I_CAPEX!V$49:V$437,0)),0),\nIF('C_CAPEX Build Up'!F20=\"Bracket\",OFFSET(I_CAPEX!S$48,MATCH('C_CAPEX Build Up'!H20,I_CAPEX!L$49:L$130,0),0),\nOFFSET(I_CAPEX!I$48,MATCH('C_CAPEX Build Up'!H20,I_CAPEX!B$49:B$102,0),0))))","v":159.82080804604328},null,0,{"$f":"SUM(J20,L20)*I_CAPEX!$D$13","v":9.5892484827625974},169.41005652880588,null,null,null,{"$f":"IF(OR(G20=\"LED\",G20=\"Smart Controller\"),-PMT(return_on_assests_pct,LED_lantern_lifespan,N20)*(1+'I_Global Inputs'!$G$54),IF(G20=\"LED20\",-PMT(return_on_assests_pct,LED_life_span_20yrs,N20),\nIF(G20=\"Traditional\",-PMT(return_on_assests_pct,trad_lantern_lifespan,N20),\n-PMT(return_on_assests_pct,pole_lifespan,N20))))","v":7.678038504045432},7.9928380827112937,8.222604862951675,8.458976652921482,8.7021433240785466,8.9523002060362504,null,null,null,169.41005652880588,176.35586884648691,181.42549739920332,186.64086044791708,192.00614736135662,197.52566793828467,null,null,null,null,{"$f":"_xlfn.XLOOKUP($H20,'I_Asset number input'!$B$5:$B$239,'I_Asset number input'!J$5:J$239)","v":40222.35},{"$f":"_xlfn.XLOOKUP($H20,'I_Asset number input'!$B$5:$B$239,'I_Asset number input'!K$5:K$239)","v":40684.300000000003},{"$f":"_xlfn.XLOOKUP($H20,'I_Asset number input'!$B$5:$B$239,'I_Asset number input'!L$5:L$239)","v":40684.300000000003},{"$f":"_xlfn.XLOOKUP($H20,'I_Asset number input'!$B$5:$B$239,'I_Asset number input'!M$5:M$239)","v":40684.300000000003},{"$f":"_xlfn.XLOOKUP($H20,'I_Asset number input'!$B$5:$B$239,'I_Asset number input'!N$5:N$239)","v":40684.300000000003},{"$f":"_xlfn.XLOOKUP($H20,'I_Asset number input'!$B$5:$B$239,'I_Asset number input'!O$5:O$239)","v":40684.300000000003},null,null,null,308828.75202319177,325183.02240845113,334530.92302578484,344147.54384045349,354040.60963980883,364218.06727244065]
[null,"2.5","Minor (Cat P)",null,null,"Bracket","Bracket","2.5",null,{"$f":"IF(ISBLANK(F21),0,\nIF(OR(F21=\"Luminaire\",F21=\"Smart Controller\",F21=\"NW\"),OFFSET(I_CAPEX!$AC$48,(MATCH('C_CAPEX Build Up'!H21,I_CAPEX!V$49:V$437,0)),0),\nIF('C_CAPEX Build Up'!F21=\"Bracket\",OFFSET(I_CAPEX!S$48,MATCH('C_CAPEX Build Up'!H21,I_CAPEX!L$49:L$130,0),0),\nOFFSET(I_CAPEX!I$48,MATCH('C_CAPEX Build Up'!H21,I_CAPEX!B$49:B$102,0),0))))","v":159.82080804604328},null,0,{"$f":"SUM(J21,L21)*I_CAPEX!$D$13","v":9.5892484827625974},169.41005652880588,null,null,null,{"$f":"IF(OR(G21=\"LED\",G21=\"Smart Controller\"),-PMT(return_on_assests_pct,LED_lantern_lifespan,N21)*(1+'I_Global Inputs'!$G$54),IF(G21=\"LED20\",-PMT(return_on_assests_pct,LED_life_span_20yrs,N21),\nIF(G21=\"Traditional\",-PMT(return_on_assests_pct,trad_lantern_lifespan,N21),\n-PMT(return_on_assests_pct,pole_lifespan,N21))))","v":7.678038504045432},7.9928380827112937,8.222604862951675,8.458976652921482,8.7021433240785466,8.9523002060362504,null,null,null,169.41005652880588,176.35586884648691,181.42549739920332,186.64086044791708,192.00614736135662,197.52566793828467,null,null,null,null,{"$f":"_xlfn.XLOOKUP($H21,'I_Asset number input'!$B$5:$B$239,'I_Asset number input'!J$5:J$239)","v":69},{"$f":"_xlfn.XLOOKUP($H21,'I_Asset number input'!$B$5:$B$239,'I_Asset number input'!K$5:K$239)","v":69},{"$f":"_xlfn.XLOOKUP($H21,'I_Asset number input'!$B$5:$B$239,'I_Asset number input'!L$5:L$239)","v":69},{"$f":"_xlfn.XLOOKUP($H21,'I_Asset number input'!$B$5:$B$239,'I_Asset number input'!M$5:M$239)","v":69},{"$f":"_xlfn.XLOOKUP($H21,'I_Asset number input'!$B$5:$B$239,'I_Asset number input'!N$5:N$239)","v":69},{"$f":"_xlfn.XLOOKUP($H21,'I_Asset number input'!$B$5:$B$239,'I_Asset number input'!O$5:O$239)","v":69},null,null,null,529.78465677913482,551.50582770707922,567.35973554366558,583.66938905158224,600.4478893614197,617.70871421650133]
[null,"3.0","Minor (Cat P)",null,null,"Bracket","Bracket","3.0",null,{"$f":"IF(ISBLANK(F22),0,\nIF(OR(F22=\"Luminaire\",F22=\"Smart Controller\",F22=\"NW\"),OFFSET(I_CAPEX!$AC$48,(MATCH('C_CAPEX Build Up'!H22,I_CAPEX!V$49:V$437,0)),0),\nIF('C_CAPEX Build Up'!F22=\"Bracket\",OFFSET(I_CAPEX!S$48,MATCH('C_CAPEX Build Up'!H22,I_CAPEX!L$49:L$130,0),0),\nOFFSET(I_CAPEX!I$48,MATCH('C_CAPEX Build Up'!H22,I_CAPEX!B$49:B$102,0),0))))","v":159.82080804604328},null,0,{"$f":"SUM(J22,L22)*I_CAPEX!$D$13","v":9.5892484827625974},169.41005652880588,null,null,null,{"$f":"IF(OR(G22=\"LED\",G22=\"Smart Controller\"),-PMT(return_on_assests_pct,LED_lantern_lifespan,N22)*(1+'I_Global Inputs'!$G$54),IF(G22=\"LED20\",-PMT(return_on_assests_pct,LED_life_span_20yrs,N22),\nIF(G22=\"Traditional\",-PMT(return_on_assests_pct,trad_lantern_lifespan,N22),\n-PMT(return_on_assests_pct,pole_lifespan,N22))))","v":7.678038504045432},7.9928380827112937,8.222604862951675,8.458976652921482,8.7021433240785466,8.9523002060362504,null,null,null,169.41005652880588,176.35586884648691,181.42549739920332,186.64086044791708,192.00614736135662,197.52566793828467,null,null,null,null,{"$f":"_xlfn.XLOOKUP($H22,'I_Asset number input'!$B$5:$B$239,'I_Asset number input'!J$5:J$239)","v":649},{"$f":"_xlfn.XLOOKUP($H22,'I_Asset number input'!$B$5:$B$239,'I_Asset number input'!K$5:K$239)","v":649},{"$f":"_xlfn.XLOOKUP($H22,'I_Asset number input'!$B$5:$B$239,'I_Asset number input'!L$5:L$239)","v":649},{"$f":"_xlfn.XLOOKUP($H22,'I_Asset number input'!$B$5:$B$239,'I_Asset number input'!M$5:M$239)","v":649},{"$f":"_xlfn.XLOOKUP($H22,'I_Asset number input'!$B$5:$B$239,'I_Asset number input'!N$5:N$239)","v":649},{"$f":"_xlfn.XLOOKUP($H22,'I_Asset number input'!$B$5:$B$239,'I_Asset number input'!O$5:O$239)","v":649},null,null,null,4983.0469891254852,5187.3519156796292,5336.4705560556367,5489.8758477460415,5647.6910173269771,5810.0428337175263]
[null,"3.5","Minor (Cat P)",null,null,"Bracket","Bracket","3.5",null,{"$f":"IF(ISBLANK(F23),0,\nIF(OR(F23=\"Luminaire\",F23=\"Smart Controller\",F23=\"NW\"),OFFSET(I_CAPEX!$AC$48,(MATCH('C_CAPEX Build Up'!H23,I_CAPEX!V$49:V$437,0)),0),\nIF('C_CAPEX Build Up'!F23=\"Bracket\",OFFSET(I_CAPEX!S$48,MATCH('C_CAPEX Build Up'!H23,I_CAPEX!L$49:L$130,0),0),\nOFFSET(I_CAPEX!I$48,MATCH('C_CAPEX Build Up'!H23,I_CAPEX!B$49:B$102,0),0))))","v":225.61467467405399},null,0,{"$f":"SUM(J23,L23)*I_CAPEX!$D$13","v":13.536880480443239},239.15155515449723,null,null,null,{"$f":"IF(OR(G23=\"LED\",G23=\"Smart Controller\"),-PMT(return_on_assests_pct,LED_lantern_lifespan,N23)*(1+'I_Global Inputs'!$G$54),IF(G23=\"LED20\",-PMT(return_on_assests_pct,LED_life_span_20yrs,N23),\nIF(G23=\"Traditional\",-PMT(return_on_assests_pct,trad_lantern_lifespan,N23),\n-PMT(return_on_assests_pct,pole_lifespan,N23))))","v":10.838877492885739},11.283271470094054,11.607626965530567,11.941306573011953,12.284578328895384,12.637717974667313,null,null,null,239.15155515449723,248.95676891583159,256.11342524001867,263.47581097644695,271.04984014266097,278.84159676399906,null,null,null,null,{"$f":"_xlfn.XLOOKUP($H23,'I_Asset number input'!$B$5:$B$239,'I_Asset number input'!J$5:J$239)","v":1057},{"$f":"_xlfn.XLOOKUP($H23,'I_Asset number input'!$B$5:$B$239,'I_Asset number input'!K$5:K$239)","v":1057},{"$f":"_xlfn.XLOOKUP($H23,'I_Asset number input'!$B$5:$B$239,'I_Asset number input'!L$5:L$239)","v":1057},{"$f":"_xlfn.XLOOKUP($H23,'I_Asset number input'!$B$5:$B$239,'I_Asset number input'!M$5:M$239)","v":1057},{"$f":"_xlfn.XLOOKUP($H23,'I_Asset number input'!$B$5:$B$239,'I_Asset number input'!N$5:N$239)","v":1057},{"$f":"_xlfn.XLOOKUP($H23,'I_Asset number input'!$B$5:$B$239,'I_Asset number input'!O$5:O$239)","v":1057},null,null,null,11456.693509980227,11926.417943889415,12269.261702565809,12621.961047673634,12984.79929364242,13358.06789922335]
[null,"4.0","Minor (Cat P)",null,null,"Bracket","Bracket","4.0",null,{"$f":"IF(ISBLANK(F24),0,\nIF(OR(F24=\"Luminaire\",F24=\"Smart Controller\",F24=\"NW\"),OFFSET(I_CAPEX!$AC$48,(MATCH('C_CAPEX Build Up'!H24,I_CAPEX!V$49:V$437,0)),0),\nIF('C_CAPEX Build Up'!F24=\"Bracket\",OFFSET(I_CAPEX!S$48,MATCH('C_CAPEX Build Up'!H24,I_CAPEX!L$49:L$130,0),0),\nOFFSET(I_CAPEX!I$48,MATCH('C_CAPEX Build Up'!H24,I_CAPEX!B$49:B$102,0),0))))","v":362.25156620161863},null,0,{"$f":"SUM(J24,L24)*I_CAPEX!$D$13","v":21.735093972097118},383.98666017371573,null,null,null,{"$f":"IF(OR(G24=\"LED\",G24=\"Smart Controller\"),-PMT(return_on_assests_pct,LED_lantern_lifespan,N24)*(1+'I_Global Inputs'!$G$54),IF(G24=\"LED20\",-PMT(return_on_assests_pct,LED_life_span_20yrs,N24),\nIF(G24=\"Traditional\",-PMT(return_on_assests_pct,trad_lantern_lifespan,N24),\n-PMT(return_on_assests_pct,pole_lifespan,N24))))","v":17.40312483369183},18.116652951873196,18.637444812587617,19.17320765954916,19.724371857450745,20.291380142499492,null,null,null,383.98666017371573,399.73011324083802,411.22098796318886,423.04218606501752,435.20320321464044,447.71380804838782,null,null,null,null,{"$f":"_xlfn.XLOOKUP($H24,'I_Asset number input'!$B$5:$B$239,'I_Asset number input'!J$5:J$239)","v":629},{"$f":"_xlfn.XLOOKUP($H24,'I_Asset number input'!$B$5:$B$239,'I_Asset number input'!K$5:K$239)","v":629},{"$f":"_xlfn.XLOOKUP($H24,'I_Asset number input'!$B$5:$B$239,'I_Asset number input'!L$5:L$239)","v":629},{"$f":"_xlfn.XLOOKUP($H24,'I_Asset number input'!$B$5:$B$239,'I_Asset number input'!M$5:M$239)","v":629},{"$f":"_xlfn.XLOOKUP($H24,'I_Asset number input'!$B$5:$B$239,'I_Asset number input'!N$5:N$239)","v":629},{"$f":"_xlfn.XLOOKUP($H24,'I_Asset number input'!$B$5:$B$239,'I_Asset number input'!O$5:O$239)","v":629},null,null,null,10946.565520392161,11395.37470672824,11722.952787117611,12059.947617856422,12406.629898336518,12763.27810963218]
[null,"4.5","Minor (Cat P)",null,null,"Bracket","Bracket","4.5",null,{"$f":"IF(ISBLANK(F25),0,\nIF(OR(F25=\"Luminaire\",F25=\"Smart Controller\",F25=\"NW\"),OFFSET(I_CAPEX!$AC$48,(MATCH('C_CAPEX Build Up'!H25,I_CAPEX!V$49:V$437,0)),0),\nIF('C_CAPEX Build Up'!F25=\"Bracket\",OFFSET(I_CAPEX!S$48,MATCH('C_CAPEX Build Up'!H25,I_CAPEX!L$49:L$130,0),0),\nOFFSET(I_CAPEX!I$48,MATCH('C_CAPEX Build Up'!H25,I_CAPEX!B$49:B$102,0),0))))","v":362.25156620161863},null,0,{"$f":"SUM(J25,L25)*I_CAPEX!$D$13","v":21.735093972097118},383.98666017371573,null,null,null,{"$f":"IF(OR(G25=\"LED\",G25=\"Smart Controller\"),-PMT(return_on_assests_pct,LED_lantern_lifespan,N25)*(1+'I_Global Inputs'!$G$54),IF(G25=\"LED20\",-PMT(return_on_assests_pct,LED_life_span_20yrs,N25),\nIF(G25=\"Traditional\",-PMT(return_on_assests_pct,trad_lantern_lifespan,N25),\n-PMT(return_on_assests_pct,pole_lifespan,N25))))","v":17.40312483369183},18.116652951873196,18.637444812587617,19.17320765954916,19.724371857450745,20.291380142499492,null,null,null,383.98666017371573,399.73011324083802,411.22098796318886,423.04218606501752,435.20320321464044,447.71380804838782,null,null,null,null,{"$f":"_xlfn.XLOOKUP($H25,'I_Asset number input'!$B$5:$B$239,'I_Asset number input'!J$5:J$239)","v":144},{"$f":"_xlfn.XLOOKUP($H25,'I_Asset number input'!$B$5:$B$239,'I_Asset number input'!K$5:K$239)","v":144},{"$f":"_xlfn.XLOOKUP($H25,'I_Asset number input'!$B$5:$B$239,'I_Asset number input'!L$5:L$239)","v":144},{"$f":"_xlfn.XLOOKUP($H25,'I_Asset number input'!$B$5:$B$239,'I_Asset number input'!M$5:M$239)","v":144},{"$f":"_xlfn.XLOOKUP($H25,'I_Asset number input'!$B$5:$B$239,'I_Asset number input'!N$5:N$239)","v":144},{"$f":"_xlfn.XLOOKUP($H25,'I_Asset number input'!$B$5:$B$239,'I_Asset number input'!O$5:O$239)","v":144},null,null,null,2506.0499760516236,2608.7980250697401,2683.7920530126166,2760.9419029750788,2840.3095474729071,2921.9587405199268]
[null,"5.0","Minor (Cat P)",null,null,"Bracket","Bracket","5.0",null,{"$f":"IF(ISBLANK(F26),0,\nIF(OR(F26=\"Luminaire\",F26=\"Smart Controller\",F26=\"NW\"),OFFSET(I_CAPEX!$AC$48,(MATCH('C_CAPEX Build Up'!H26,I_CAPEX!V$49:V$437,0)),0),\nIF('C_CAPEX Build Up'!F26=\"Bracket\",OFFSET(I_CAPEX!S$48,MATCH('C_CAPEX Build Up'!H26,I_CAPEX!L$49:L$130,0),0),\nOFFSET(I_CAPEX!I$48,MATCH('C_CAPEX Build Up'!H26,I_CAPEX!B$49:B$102,0),0))))","v":362.25156620161863},null,0,{"$f":"SUM(J26,L26)*I_CAPEX!$D$13","v":21.735093972097118},383.98666017371573,null,null,null,{"$f":"IF(OR(G26=\"LED\",G26=\"Smart Controller\"),-PMT(return_on_assests_pct,LED_lantern_lifespan,N26)*(1+'I_Global Inputs'!$G$54),IF(G26=\"LED20\",-PMT(return_on_assests_pct,LED_life_span_20yrs,N26),\nIF(G26=\"Traditional\",-PMT(return_on_assests_pct,trad_lantern_lifespan,N26),\n-PMT(return_on_assests_pct,pole_lifespan,N26))))","v":17.40312483369183},18.116652951873196,18.637444812587617,19.17320765954916,19.724371857450745,20.291380142499492,null,null,null,383.98666017371573,399.73011324083802,411.22098796318886,423.04218606501752,435.20320321464044,447.71380804838782,null,null,null,null,{"$f":"_xlfn.XLOOKUP($H26,'I_Asset number input'!$B$5:$B$239,'I_Asset number input'!J$5:J$239)","v":44},{"$f":"_xlfn.XLOOKUP($H26,'I_Asset number input'!$B$5:$B$239,'I_Asset number input'!K$5:K$239)","v":44},{"$f":"_xlfn.XLOOKUP($H26,'I_Asset number input'!$B$5:$B$239,'I_Asset number input'!L$5:L$239)","v":44},{"$f":"_xlfn.XLOOKUP($H26,'I_Asset number input'!$B$5:$B$239,'I_Asset number input'!M$5:M$239)","v":44},{"$f":"_xlfn.XLOOKUP($H26,'I_Asset number input'!$B$5:$B$239,'I_Asset number input'!N$5:N$239)","v":44},{"$f":"_xlfn.XLOOKUP($H26,'I_Asset number input'!$B$5:$B$239,'I_Asset number input'!O$5:O$239)","v":44},null,null,null,765.73749268244057,797.13272988242056,820.04757175385521,843.62113702016302,867.87236172783275,892.82072626997763]
[null,"6.0","Minor (Cat P)",null,null,"Bracket","Bracket","6.0",null,{"$f":"IF(ISBLANK(F27),0,\nIF(OR(F27=\"Luminaire\",F27=\"Smart Controller\",F27=\"NW\"),OFFSET(I_CAPEX!$AC$48,(MATCH('C_CAPEX Build Up'!H27,I_CAPEX!V$49:V$437,0)),0),\nIF('C_CAPEX Build Up'!F27=\"Bracket\",OFFSET(I_CAPEX!S$48,MATCH('C_CAPEX Build Up'!H27,I_CAPEX!L$49:L$130,0),0),\nOFFSET(I_CAPEX!I$48,MATCH('C_CAPEX Build Up'!H27,I_CAPEX!B$49:B$102,0),0))))","v":450.29030936557945},null,0,{"$f":"SUM(J27,L27)*I_CAPEX!$D$13","v":27.017418561934765},477.30772792751424,null,null,null,{"$f":"IF(OR(G27=\"LED\",G27=\"Smart Controller\"),-PMT(return_on_assests_pct,LED_lantern_lifespan,N27)*(1+'I_Global Inputs'!$G$54),IF(G27=\"LED20\",-PMT(return_on_assests_pct,LED_life_span_20yrs,N27),\nIF(G27=\"Traditional\",-PMT(return_on_assests_pct,trad_lantern_lifespan,N27),\n-PMT(return_on_assests_pct,pole_lifespan,N27))))","v":21.632642054415161},22.519580378646182,23.166941356364227,23.832911749907328,24.518026516384847,25.222835991094872,null,null,null,477.30772792751424,496.8773447725423,511.16087041154162,525.85499860029768,540.9715327589272,556.5226156155386,null,null,null,null,{"$f":"_xlfn.XLOOKUP($H27,'I_Asset number input'!$B$5:$B$239,'I_Asset number input'!J$5:J$239)","v":272},{"$f":"_xlfn.XLOOKUP($H27,'I_Asset number input'!$B$5:$B$239,'I_Asset number input'!K$5:K$239)","v":272},{"$f":"_xlfn.XLOOKUP($H27,'I_Asset number input'!$B$5:$B$239,'I_Asset number input'!L$5:L$239)","v":272},{"$f":"_xlfn.XLOOKUP($H27,'I_Asset number input'!$B$5:$B$239,'I_Asset number input'!M$5:M$239)","v":272},{"$f":"_xlfn.XLOOKUP($H27,'I_Asset number input'!$B$5:$B$239,'I_Asset number input'!N$5:N$239)","v":272},{"$f":"_xlfn.XLOOKUP($H27,'I_Asset number input'!$B$5:$B$239,'I_Asset number input'!O$5:O$239)","v":272},null,null,null,5884.0786388009237,6125.3258629917618,6301.40804893107,6482.5519959747935,6668.9032124566784,6860.6113895778053]
[null,"6.5","Minor (Cat P)",null,null,"Bracket","Bracket","6.5",null,{"$f":"IF(ISBLANK(F28),0,\nIF(OR(F28=\"Luminaire\",F28=\"Smart Controller\",F28=\"NW\"),OFFSET(I_CAPEX!$AC$48,(MATCH('C_CAPEX Build Up'!H28,I_CAPEX!V$49:V$437,0)),0),\nIF('C_CAPEX Build Up'!F28=\"Bracket\",OFFSET(I_CAPEX!S$48,MATCH('C_CAPEX Build Up'!H28,I_CAPEX!L$49:L$130,0),0),\nOFFSET(I_CAPEX!I$48,MATCH('C_CAPEX Build Up'!H28,I_CAPEX!B$49:B$102,0),0))))","v":450.29030936557945},null,0,{"$f":"SUM(J28,L28)*I_CAPEX!$D$13","v":27.017418561934765},477.30772792751424,null,null,null,{"$f":"IF(OR(G28=\"LED\",G28=\"Smart Controller\"),-PMT(return_on_assests_pct,LED_lantern_lifespan,N28)*(1+'I_Global Inputs'!$G$54),IF(G28=\"LED20\",-PMT(return_on_assests_pct,LED_life_span_20yrs,N28),\nIF(G28=\"Traditional\",-PMT(return_on_assests_pct,trad_lantern_lifespan,N28),\n-PMT(return_on_assests_pct,pole_lifespan,N28))))","v":21.632642054415161},22.519580378646182,23.166941356364227,23.832911749907328,24.518026516384847,25.222835991094872,null,null,null,477.30772792751424,496.8773447725423,511.16087041154162,525.85499860029768,540.9715327589272,556.5226156155386,null,null,null,null,{"$f":"_xlfn.XLOOKUP($H28,'I_Asset number input'!$B$5:$B$239,'I_Asset number input'!J$5:J$239)","v":38},{"$f":"_xlfn.XLOOKUP($H28,'I_Asset number input'!$B$5:$B$239,'I_Asset number input'!K$5:K$239)","v":38},{"$f":"_xlfn.XLOOKUP($H28,'I_Asset number input'!$B$5:$B$239,'I_Asset number input'!L$5:L$239)","v":38},{"$f":"_xlfn.XLOOKUP($H28,'I_Asset number input'!$B$5:$B$239,'I_Asset number input'!M$5:M$239)","v":38},{"$f":"_xlfn.XLOOKUP($H28,'I_Asset number input'!$B$5:$B$239,'I_Asset number input'!N$5:N$239)","v":38},{"$f":"_xlfn.XLOOKUP($H28,'I_Asset number input'!$B$5:$B$239,'I_Asset number input'!O$5:O$239)","v":38},null,null,null,822.0403980677761,855.7440543885549,880.34377154184062,905.65064649647843,931.6850076226242,958.46776766160508]
[null,"7.0","Minor (Cat P)",null,null,"Bracket","Bracket","7.0",null,{"$f":"IF(ISBLANK(F29),0,\nIF(OR(F29=\"Luminaire\",F29=\"Smart Controller\",F29=\"NW\"),OFFSET(I_CAPEX!$AC$48,(MATCH('C_CAPEX Build Up'!H29,I_CAPEX!V$49:V$437,0)),0),\nIF('C_CAPEX Build Up'!F29=\"Bracket\",OFFSET(I_CAPEX!S$48,MATCH('C_CAPEX Build Up'!H29,I_CAPEX!L$49:L$130,0),0),\nOFFSET(I_CAPEX!I$48,MATCH('C_CAPEX Build Up'!H29,I_CAPEX!B$49:B$102,0),0))))","v":450.29030936557945},null,0,{"$f":"SUM(J29,L29)*I_CAPEX!$D$13","v":27.017418561934765},477.30772792751424,null,null,null,{"$f":"IF(OR(G29=\"LED\",G29=\"Smart Controller\"),-PMT(return_on_assests_pct,LED_lantern_lifespan,N29)*(1+'I_Global Inputs'!$G$54),IF(G29=\"LED20\",-PMT(return_on_assests_pct,LED_life_span_20yrs,N29),\nIF(G29=\"Traditional\",-PMT(return_on_assests_pct,trad_lantern_lifespan,N29),\n-PMT(return_on_assests_pct,pole_lifespan,N29))))","v":21.632642054415161},22.519580378646182,23.166941356364227,23.832911749907328,24.518026516384847,25.222835991094872,null,null,null,477.30772792751424,496.8773447725423,511.16087041154162,525.85499860029768,540.9715327589272,556.5226156155386,null,null,null,null,{"$f":"_xlfn.XLOOKUP($H29,'I_Asset number input'!$B$5:$B$239,'I_Asset number input'!J$5:J$239)","v":24},{"$f":"_xlfn.XLOOKUP($H29,'I_Asset number input'!$B$5:$B$239,'I_Asset number input'!K$5:K$239)","v":24},{"$f":"_xlfn.XLOOKUP($H29,'I_Asset number input'!$B$5:$B$239,'I_Asset number input'!L$5:L$239)","v":24},{"$f":"_xlfn.XLOOKUP($H29,'I_Asset number input'!$B$5:$B$239,'I_Asset number input'!M$5:M$239)","v":24},{"$f":"_xlfn.XLOOKUP($H29,'I_Asset number input'!$B$5:$B$239,'I_Asset number input'!N$5:N$239)","v":24},{"$f":"_xlfn.XLOOKUP($H29,'I_Asset number input'!$B$5:$B$239,'I_Asset number input'!O$5:O$239)","v":24},null,null,null,519.18340930596389,540.46992908750838,556.00659255274149,571.98988199777591,588.43263639323629,605.34806378627695]
[null,"8.0","Minor (Cat P)",null,null,"Bracket","Bracket","8.0",null,{"$f":"IF(ISBLANK(F30),0,\nIF(OR(F30=\"Luminaire\",F30=\"Smart Controller\",F30=\"NW\"),OFFSET(I_CAPEX!$AC$48,(MATCH('C_CAPEX Build Up'!H30,I_CAPEX!V$49:V$437,0)),0),\nIF('C_CAPEX Build Up'!F30=\"Bracket\",OFFSET(I_CAPEX!S$48,MATCH('C_CAPEX Build Up'!H30,I_CAPEX!L$49:L$130,0),0),\nOFFSET(I_CAPEX!I$48,MATCH('C_CAPEX Build Up'!H30,I_CAPEX!B$49:B$102,0),0))))","v":450.29030936557945},null,0,{"$f":"SUM(J30,L30)*I_CAPEX!$D$13","v":27.017418561934765},477.30772792751424,null,null,null,{"$f":"IF(OR(G30=\"LED\",G30=\"Smart Controller\"),-PMT(return_on_assests_pct,LED_lantern_lifespan,N30)*(1+'I_Global Inputs'!$G$54),IF(G30=\"LED20\",-PMT(return_on_assests_pct,LED_life_span_20yrs,N30),\nIF(G30=\"Traditional\",-PMT(return_on_assests_pct,trad_lantern_lifespan,N30),\n-PMT(return_on_assests_pct,pole_lifespan,N30))))","v":21.632642054415161},22.519580378646182,23.166941356364227,23.832911749907328,24.518026516384847,25.222835991094872,null,null,null,477.30772792751424,496.8773447725423,511.16087041154162,525.85499860029768,540.9715327589272,556.5226156155386,null,null,null,null,{"$f":"_xlfn.XLOOKUP($H30,'I_Asset number input'!$B$5:$B$239,'I_Asset number input'!J$5:J$239)","v":2},{"$f":"_xlfn.XLOOKUP($H30,'I_Asset number input'!$B$5:$B$239,'I_Asset number input'!K$5:K$239)","v":2},{"$f":"_xlfn.XLOOKUP($H30,'I_Asset number input'!$B$5:$B$239,'I_Asset number input'!L$5:L$239)","v":2},{"$f":"_xlfn.XLOOKUP($H30,'I_Asset number input'!$B$5:$B$239,'I_Asset number input'!M$5:M$239)","v":2},{"$f":"_xlfn.XLOOKUP($H30,'I_Asset number input'!$B$5:$B$239,'I_Asset number input'!N$5:N$239)","v":2},{"$f":"_xlfn.XLOOKUP($H30,'I_Asset number input'!$B$5:$B$239,'I_Asset number input'!O$5:O$239)","v":2},null,null,null,43.265284108830322,45.039160757292365,46.333882712728453,47.665823499814657,49.036053032769694,50.445671982189744]
[null,"C4","Major (Cat V)",null,null,"Bracket","Bracket","C4",null,{"$f":"IF(ISBLANK(F31),0,\nIF(OR(F31=\"Luminaire\",F31=\"Smart Controller\",F31=\"NW\"),OFFSET(I_CAPEX!$AC$48,(MATCH('C_CAPEX Build Up'!H31,I_CAPEX!V$49:V$437,0)),0),\nIF('C_CAPEX Build Up'!F31=\"Bracket\",OFFSET(I_CAPEX!S$48,MATCH('C_CAPEX Build Up'!H31,I_CAPEX!L$49:L$130,0),0),\nOFFSET(I_CAPEX!I$48,MATCH('C_CAPEX Build Up'!H31,I_CAPEX!B$49:B$102,0),0))))","v":179.96980756361688},null,28.760632511438175,{"$f":"SUM(J31,L31)*I_CAPEX!$D$13","v":12.523826404503303},221.25426647955837,null,null,null,{"$f":"IF(OR(G31=\"LED\",G31=\"Smart Controller\"),-PMT(return_on_assests_pct,LED_lantern_lifespan,N31)*(1+'I_Global Inputs'!$G$54),IF(G31=\"LED20\",-PMT(return_on_assests_pct,LED_life_span_20yrs,N31),\nIF(G31=\"Traditional\",-PMT(return_on_assests_pct,trad_lantern_lifespan,N31),\n-PMT(return_on_assests_pct,pole_lifespan,N31))))","v":10.027732780583307},10.438869824587222,10.738951658364376,11.047659819366242,11.365242285021013,11.69195416126051,null,null,null,221.25426647955837,230.32569140522025,236.94676792061807,243.758177759039,250.76539235307695,257.97404042031485,null,null,null,null,{"$f":"_xlfn.XLOOKUP($H31,'I_Asset number input'!$B$5:$B$239,'I_Asset number input'!J$5:J$239)","v":54},{"$f":"_xlfn.XLOOKUP($H31,'I_Asset number input'!$B$5:$B$239,'I_Asset number input'!K$5:K$239)","v":54},{"$f":"_xlfn.XLOOKUP($H31,'I_Asset number input'!$B$5:$B$239,'I_Asset number input'!L$5:L$239)","v":54},{"$f":"_xlfn.XLOOKUP($H31,'I_Asset number input'!$B$5:$B$239,'I_Asset number input'!M$5:M$239)","v":54},{"$f":"_xlfn.XLOOKUP($H31,'I_Asset number input'!$B$5:$B$239,'I_Asset number input'!N$5:N$239)","v":54},{"$f":"_xlfn.XLOOKUP($H31,'I_Asset number input'!$B$5:$B$239,'I_Asset number input'!O$5:O$239)","v":54},null,null,null,{"$f":"IFERROR(R31*AK31,0)","v":541.49757015149862},563.69897052771,579.90338955167636,596.57363024577705,613.72308339113476,631.36552470806748]
[null,"T1","Major (Cat V)",null,null,"Bracket","Bracket","T1",null,{"$f":"IF(ISBLANK(F32),0,\nIF(OR(F32=\"Luminaire\",F32=\"Smart Controller\",F32=\"NW\"),OFFSET(I_CAPEX!$AC$48,(MATCH('C_CAPEX Build Up'!H32,I_CAPEX!V$49:V$437,0)),0),\nIF('C_CAPEX Build Up'!F32=\"Bracket\",OFFSET(I_CAPEX!S$48,MATCH('C_CAPEX Build Up'!H32,I_CAPEX!L$49:L$130,0),0),\nOFFSET(I_CAPEX!I$48,MATCH('C_CAPEX Build Up'!H32,I_CAPEX!B$49:B$102,0),0))))","v":163.29805855380422},null,28.760632511438175,{"$f":"SUM(J32,L32)*I_CAPEX!$D$13","v":11.523521463914543},203.58221252915692,null,null,null,{"$f":"IF(OR(G32=\"LED\",G32=\"Smart Controller\"),-PMT(return_on_assests_pct,LED_lantern_lifespan,N32)*(1+'I_Global Inputs'!$G$54),IF(G32=\"LED20\",-PMT(return_on_assests_pct,LED_life_span_20yrs,N32),\nIF(G32=\"Traditional\",-PMT(return_on_assests_pct,trad_lantern_lifespan,N32),\n-PMT(return_on_assests_pct,pole_lifespan,N32))))","v":9.2267962042255824},9.6050948485988314,9.8812085011498159,10.165259477623861,10.45747594895883,10.758092645227302,null,null,null,203.58221252915692,211.92908324285233,218.02132014194987,224.28868803235264,230.73622133156991,237.3690991794098,null,null,null,null,{"$f":"_xlfn.XLOOKUP($H32,'I_Asset number input'!$B$5:$B$239,'I_Asset number input'!J$5:J$239)","v":2097},{"$f":"_xlfn.XLOOKUP($H32,'I_Asset number input'!$B$5:$B$239,'I_Asset number input'!K$5:K$239)","v":2097},{"$f":"_xlfn.XLOOKUP($H32,'I_Asset number input'!$B$5:$B$239,'I_Asset number input'!L$5:L$239)","v":2097},{"$f":"_xlfn.XLOOKUP($H32,'I_Asset number input'!$B$5:$B$239,'I_Asset number input'!M$5:M$239)","v":2097},{"$f":"_xlfn.XLOOKUP($H32,'I_Asset number input'!$B$5:$B$239,'I_Asset number input'!N$5:N$239)","v":2097},{"$f":"_xlfn.XLOOKUP($H32,'I_Asset number input'!$B$5:$B$239,'I_Asset number input'!O$5:O$239)","v":2097},null,null,null,19348.591640261046,20141.883897511751,20720.894226911165,21316.549124577235,21929.327064966667,22559.720277041652]
[null,"T2","Major (Cat V)",null,null,"Bracket","Bracket","T2",null,{"$f":"IF(ISBLANK(F33),0,\nIF(OR(F33=\"Luminaire\",F33=\"Smart Controller\",F33=\"NW\"),OFFSET(I_CAPEX!$AC$48,(MATCH('C_CAPEX Build Up'!H33,I_CAPEX!V$49:V$437,0)),0),\nIF('C_CAPEX Build Up'!F33=\"Bracket\",OFFSET(I_CAPEX!S$48,MATCH('C_CAPEX Build Up'!H33,I_CAPEX!L$49:L$130,0),0),\nOFFSET(I_CAPEX!I$48,MATCH('C_CAPEX Build Up'!H33,I_CAPEX!B$49:B$102,0),0))))","v":277.61862319251964},null,28.760632511438175,{"$f":"SUM(J33,L33)*I_CAPEX!$D$13","v":18.38275534223747},324.76201104619531,null,null,null,{"$f":"IF(OR(G33=\"LED\",G33=\"Smart Controller\"),-PMT(return_on_assests_pct,LED_lantern_lifespan,N33)*(1+'I_Global Inputs'!$G$54),IF(G33=\"LED20\",-PMT(return_on_assests_pct,LED_life_span_20yrs,N33),\nIF(G33=\"Traditional\",-PMT(return_on_assests_pct,trad_lantern_lifespan,N33),\n-PMT(return_on_assests_pct,pole_lifespan,N33))))","v":14.718932727821409},15.322408969662085,15.762875864906803,16.216004678143051,16.682159396242383,17.161714469455028,null,null,null,324.76201104619531,338.0772534990893,347.79581919567437,357.79376044391597,368.07910833618934,378.66012483132999,null,null,null,null,{"$f":"_xlfn.XLOOKUP($H33,'I_Asset number input'!$B$5:$B$239,'I_Asset number input'!J$5:J$239)","v":732},{"$f":"_xlfn.XLOOKUP($H33,'I_Asset number input'!$B$5:$B$239,'I_Asset number input'!K$5:K$239)","v":732},{"$f":"_xlfn.XLOOKUP($H33,'I_Asset number input'!$B$5:$B$239,'I_Asset number input'!L$5:L$239)","v":732},{"$f":"_xlfn.XLOOKUP($H33,'I_Asset number input'!$B$5:$B$239,'I_Asset number input'!M$5:M$239)","v":732},{"$f":"_xlfn.XLOOKUP($H33,'I_Asset number input'!$B$5:$B$239,'I_Asset number input'!N$5:N$239)","v":732},{"$f":"_xlfn.XLOOKUP($H33,'I_Asset number input'!$B$5:$B$239,'I_Asset number input'!O$5:O$239)","v":732},null,null,null,10774.258756765272,11216.003365792647,11538.425133111779,11870.115424400714,12211.340678049424,12562.37499164108]
[null,"T2A","Major (Cat V)",null,null,"Bracket","Bracket","T2A",null,{"$f":"IF(ISBLANK(F34),0,\nIF(OR(F34=\"Luminaire\",F34=\"Smart Controller\",F34=\"NW\"),OFFSET(I_CAPEX!$AC$48,(MATCH('C_CAPEX Build Up'!H34,I_CAPEX!V$49:V$437,0)),0),\nIF('C_CAPEX Build Up'!F34=\"Bracket\",OFFSET(I_CAPEX!S$48,MATCH('C_CAPEX Build Up'!H34,I_CAPEX!L$49:L$130,0),0),\nOFFSET(I_CAPEX!I$48,MATCH('C_CAPEX Build Up'!H34,I_CAPEX!B$49:B$102,0),0))))","v":277.61862319251964},null,28.760632511438175,{"$f":"SUM(J34,L34)*I_CAPEX!$D$13","v":18.38275534223747},324.76201104619531,null,null,null,{"$f":"IF(OR(G34=\"LED\",G34=\"Smart Controller\"),-PMT(return_on_assests_pct,LED_lantern_lifespan,N34)*(1+'I_Global Inputs'!$G$54),IF(G34=\"LED20\",-PMT(return_on_assests_pct,LED_life_span_20yrs,N34),\nIF(G34=\"Traditional\",-PMT(return_on_assests_pct,trad_lantern_lifespan,N34),\n-PMT(return_on_assests_pct,pole_lifespan,N34))))","v":14.718932727821409},15.322408969662085,15.762875864906803,16.216004678143051,16.682159396242383,17.161714469455028,null,null,null,324.76201104619531,338.0772534990893,347.79581919567437,357.79376044391597,368.07910833618934,378.66012483132999,null,null,null,null,{"$f":"_xlfn.XLOOKUP($H34,'I_Asset number input'!$B$5:$B$239,'I_Asset number input'!J$5:J$239)","v":381},{"$f":"_xlfn.XLOOKUP($H34,'I_Asset number input'!$B$5:$B$239,'I_Asset number input'!K$5:K$239)","v":381},{"$f":"_xlfn.XLOOKUP($H34,'I_Asset number input'!$B$5:$B$239,'I_Asset number input'!L$5:L$239)","v":381},{"$f":"_xlfn.XLOOKUP($H34,'I_Asset number input'!$B$5:$B$239,'I_Asset number input'!M$5:M$239)","v":381},{"$f":"_xlfn.XLOOKUP($H34,'I_Asset number input'!$B$5:$B$239,'I_Asset number input'!N$5:N$239)","v":381},{"$f":"_xlfn.XLOOKUP($H34,'I_Asset number input'!$B$5:$B$239,'I_Asset number input'!O$5:O$239)","v":381},null,null,null,5607.9133692999567,5837.8378174412546,6005.6557045294921,6178.2977823725023,6355.9027299683485,6538.6132128623658]
[null,"T3","Major (Cat V)",null,null,"Bracket","Bracket","T3",null,{"$f":"IF(ISBLANK(F35),0,\nIF(OR(F35=\"Luminaire\",F35=\"Smart Controller\",F35=\"NW\"),OFFSET(I_CAPEX!$AC$48,(MATCH('C_CAPEX Build Up'!H35,I_CAPEX!V$49:V$437,0)),0),\nIF('C_CAPEX Build Up'!F35=\"Bracket\",OFFSET(I_CAPEX!S$48,MATCH('C_CAPEX Build Up'!H35,I_CAPEX!L$49:L$130,0),0),\nOFFSET(I_CAPEX!I$48,MATCH('C_CAPEX Build Up'!H35,I_CAPEX!B$49:B$102,0),0))))","v":415.16055252347417},null,28.760632511438175,{"$f":"SUM(J35,L35)*I_CAPEX!$D$13","v":26.635271102094741},470.5564561370071,null,null,null,{"$f":"IF(OR(G35=\"LED\",G35=\"Smart Controller\"),-PMT(return_on_assests_pct,LED_lantern_lifespan,N35)*(1+'I_Global Inputs'!$G$54),IF(G35=\"LED20\",-PMT(return_on_assests_pct,LED_life_span_20yrs,N35),\nIF(G35=\"Traditional\",-PMT(return_on_assests_pct,trad_lantern_lifespan,N35),\n-PMT(return_on_assests_pct,pole_lifespan,N35))))","v":21.326659482772634},22.201052521566311,22.839256911926928,23.495807497517699,24.171231668755404,24.866071976729007,null,null,null,470.5564561370071,489.84927083862436,503.93076336968664,518.41705068907811,533.31976926362211,548.65089006879646,null,null,null,null,{"$f":"_xlfn.XLOOKUP($H35,'I_Asset number input'!$B$5:$B$239,'I_Asset number input'!J$5:J$239)","v":632},{"$f":"_xlfn.XLOOKUP($H35,'I_Asset number input'!$B$5:$B$239,'I_Asset number input'!K$5:K$239)","v":632},{"$f":"_xlfn.XLOOKUP($H35,'I_Asset number input'!$B$5:$B$239,'I_Asset number input'!L$5:L$239)","v":632},{"$f":"_xlfn.XLOOKUP($H35,'I_Asset number input'!$B$5:$B$239,'I_Asset number input'!M$5:M$239)","v":632},{"$f":"_xlfn.XLOOKUP($H35,'I_Asset number input'!$B$5:$B$239,'I_Asset number input'!N$5:N$239)","v":632},{"$f":"_xlfn.XLOOKUP($H35,'I_Asset number input'!$B$5:$B$239,'I_Asset number input'!O$5:O$239)","v":632},null,null,null,13478.448793112304,14031.065193629909,14434.410368337818,14849.350338431186,15276.218414653415,15715.357489292732]
[null,"T3A","Major (Cat V)",null,null,"Bracket","Bracket","T3A",null,{"$f":"IF(ISBLANK(F36),0,\nIF(OR(F36=\"Luminaire\",F36=\"Smart Controller\",F36=\"NW\"),OFFSET(I_CAPEX!$AC$48,(MATCH('C_CAPEX Build Up'!H36,I_CAPEX!V$49:V$437,0)),0),\nIF('C_CAPEX Build Up'!F36=\"Bracket\",OFFSET(I_CAPEX!S$48,MATCH('C_CAPEX Build Up'!H36,I_CAPEX!L$49:L$130,0),0),\nOFFSET(I_CAPEX!I$48,MATCH('C_CAPEX Build Up'!H36,I_CAPEX!B$49:B$102,0),0))))","v":415.16055252347417},null,28.760632511438175,{"$f":"SUM(J36,L36)*I_CAPEX!$D$13","v":26.635271102094741},470.5564561370071,null,null,null,{"$f":"IF(OR(G36=\"LED\",G36=\"Smart Controller\"),-PMT(return_on_assests_pct,LED_lantern_lifespan,N36)*(1+'I_Global Inputs'!$G$54),IF(G36=\"LED20\",-PMT(return_on_assests_pct,LED_life_span_20yrs,N36),\nIF(G36=\"Traditional\",-PMT(return_on_assests_pct,trad_lantern_lifespan,N36),\n-PMT(return_on_assests_pct,pole_lifespan,N36))))","v":21.326659482772634},22.201052521566311,22.839256911926928,23.495807497517699,24.171231668755404,24.866071976729007,null,null,null,470.5564561370071,489.84927083862436,503.93076336968664,518.41705068907811,533.31976926362211,548.65089006879646,null,null,null,null,{"$f":"_xlfn.XLOOKUP($H36,'I_Asset number input'!$B$5:$B$239,'I_Asset number input'!J$5:J$239)","v":310},{"$f":"_xlfn.XLOOKUP($H36,'I_Asset number input'!$B$5:$B$239,'I_Asset number input'!K$5:K$239)","v":310},{"$f":"_xlfn.XLOOKUP($H36,'I_Asset number input'!$B$5:$B$239,'I_Asset number input'!L$5:L$239)","v":310},{"$f":"_xlfn.XLOOKUP($H36,'I_Asset number input'!$B$5:$B$239,'I_Asset number input'!M$5:M$239)","v":310},{"$f":"_xlfn.XLOOKUP($H36,'I_Asset number input'!$B$5:$B$239,'I_Asset number input'!N$5:N$239)","v":310},{"$f":"_xlfn.XLOOKUP($H36,'I_Asset number input'!$B$5:$B$239,'I_Asset number input'!O$5:O$239)","v":310},null,null,null,6611.264439659516,6882.3262816855568,7080.1696426973476,7283.7003242304863,7493.0818173141752,7708.4823127859918]
[null,"T4","Major (Cat V)",null,null,"Bracket","Bracket","T4",null,{"$f":"IF(ISBLANK(F37),0,\nIF(OR(F37=\"Luminaire\",F37=\"Smart Controller\",F37=\"NW\"),OFFSET(I_CAPEX!$AC$48,(MATCH('C_CAPEX Build Up'!H37,I_CAPEX!V$49:V$437,0)),0),\nIF('C_CAPEX Build Up'!F37=\"Bracket\",OFFSET(I_CAPEX!S$48,MATCH('C_CAPEX Build Up'!H37,I_CAPEX!L$49:L$130,0),0),\nOFFSET(I_CAPEX!I$48,MATCH('C_CAPEX Build Up'!H37,I_CAPEX!B$49:B$102,0),0))))","v":415.16055252347417},null,28.760632511438175,{"$f":"SUM(J37,L37)*I_CAPEX!$D$13","v":26.635271102094741},470.5564561370071,null,null,null,{"$f":"IF(OR(G37=\"LED\",G37=\"Smart Controller\"),-PMT(return_on_assests_pct,LED_lantern_lifespan,N37)*(1+'I_Global Inputs'!$G$54),IF(G37=\"LED20\",-PMT(return_on_assests_pct,LED_life_span_20yrs,N37),\nIF(G37=\"Traditional\",-PMT(return_on_assests_pct,trad_lantern_lifespan,N37),\n-PMT(return_on_assests_pct,pole_lifespan,N37))))","v":21.326659482772634},22.201052521566311,22.839256911926928,23.495807497517699,24.171231668755404,24.866071976729007,null,null,null,470.5564561370071,489.84927083862436,503.93076336968664,518.41705068907811,533.31976926362211,548.65089006879646,null,null,null,null,{"$f":"_xlfn.XLOOKUP($H37,'I_Asset number input'!$B$5:$B$239,'I_Asset number input'!J$5:J$239)","v":453.75},{"$f":"_xlfn.XLOOKUP($H37,'I_Asset number input'!$B$5:$B$239,'I_Asset number input'!K$5:K$239)","v":454},{"$f":"_xlfn.XLOOKUP($H37,'I_Asset number input'!$B$5:$B$239,'I_Asset number input'!L$5:L$239)","v":454},{"$f":"_xlfn.XLOOKUP($H37,'I_Asset number input'!$B$5:$B$239,'I_Asset number input'!M$5:M$239)","v":454},{"$f":"_xlfn.XLOOKUP($H37,'I_Asset number input'!$B$5:$B$239,'I_Asset number input'!N$5:N$239)","v":454},{"$f":"_xlfn.XLOOKUP($H37,'I_Asset number input'!$B$5:$B$239,'I_Asset number input'!O$5:O$239)","v":454},null,null,null,9676.9717403080831,10079.277844791106,10369.022638014825,10667.096603873035,10973.739177614952,11289.196677434969]
[null,"T5","Major (Cat V)",null,null,"Bracket","Bracket","T5",null,{"$f":"IF(ISBLANK(F38),0,\nIF(OR(F38=\"Luminaire\",F38=\"Smart Controller\",F38=\"NW\"),OFFSET(I_CAPEX!$AC$48,(MATCH('C_CAPEX Build Up'!H38,I_CAPEX!V$49:V$437,0)),0),\nIF('C_CAPEX Build Up'!F38=\"Bracket\",OFFSET(I_CAPEX!S$48,MATCH('C_CAPEX Build Up'!H38,I_CAPEX!L$49:L$130,0),0),\nOFFSET(I_CAPEX!I$48,MATCH('C_CAPEX Build Up'!H38,I_CAPEX!B$49:B$102,0),0))))","v":415.16055252347417},null,28.760632511438175,{"$f":"SUM(J38,L38)*I_CAPEX!$D$13","v":26.635271102094741},470.5564561370071,null,null,null,{"$f":"IF(OR(G38=\"LED\",G38=\"Smart Controller\"),-PMT(return_on_assests_pct,LED_lantern_lifespan,N38)*(1+'I_Global Inputs'!$G$54),IF(G38=\"LED20\",-PMT(return_on_assests_pct,LED_life_span_20yrs,N38),\nIF(G38=\"Traditional\",-PMT(return_on_assests_pct,trad_lantern_lifespan,N38),\n-PMT(return_on_assests_pct,pole_lifespan,N38))))","v":21.326659482772634},22.201052521566311,22.839256911926928,23.495807497517699,24.171231668755404,24.866071976729007,null,null,null,470.5564561370071,489.84927083862436,503.93076336968664,518.41705068907811,533.31976926362211,548.65089006879646,null,null,null,null,{"$f":"_xlfn.XLOOKUP($H38,'I_Asset number input'!$B$5:$B$239,'I_Asset number input'!J$5:J$239)","v":79},{"$f":"_xlfn.XLOOKUP($H38,'I_Asset number input'!$B$5:$B$239,'I_Asset number input'!K$5:K$239)","v":79},{"$f":"_xlfn.XLOOKUP($H38,'I_Asset number input'!$B$5:$B$239,'I_Asset number input'!L$5:L$239)","v":79},{"$f":"_xlfn.XLOOKUP($H38,'I_Asset number input'!$B$5:$B$239,'I_Asset number input'!M$5:M$239)","v":79},{"$f":"_xlfn.XLOOKUP($H38,'I_Asset number input'!$B$5:$B$239,'I_Asset number input'!N$5:N$239)","v":79},{"$f":"_xlfn.XLOOKUP($H38,'I_Asset number input'!$B$5:$B$239,'I_Asset number input'!O$5:O$239)","v":79},null,null,null,1684.806099139038,1753.8831492037386,1804.3012960422272,1856.1687923038983,1909.5273018316768,1964.4196861615915]
[null,"T6","Major (Cat V)",null,null,"Bracket","Bracket","T6",null,{"$f":"IF(ISBLANK(F39),0,\nIF(OR(F39=\"Luminaire\",F39=\"Smart Controller\",F39=\"NW\"),OFFSET(I_CAPEX!$AC$48,(MATCH('C_CAPEX Build Up'!H39,I_CAPEX!V$49:V$437,0)),0),\nIF('C_CAPEX Build Up'!F39=\"Bracket\",OFFSET(I_CAPEX!S$48,MATCH('C_CAPEX Build Up'!H39,I_CAPEX!L$49:L$130,0),0),\nOFFSET(I_CAPEX!I$48,MATCH('C_CAPEX Build Up'!H39,I_CAPEX!B$49:B$102,0),0))))","v":415.16055252347417},null,28.760632511438175,{"$f":"SUM(J39,L39)*I_CAPEX!$D$13","v":26.635271102094741},470.5564561370071,null,null,null,{"$f":"IF(OR(G39=\"LED\",G39=\"Smart Controller\"),-PMT(return_on_assests_pct,LED_lantern_lifespan,N39)*(1+'I_Global Inputs'!$G$54),IF(G39=\"LED20\",-PMT(return_on_assests_pct,LED_life_span_20yrs,N39),\nIF(G39=\"Traditional\",-PMT(return_on_assests_pct,trad_lantern_lifespan,N39),\n-PMT(return_on_assests_pct,pole_lifespan,N39))))","v":21.326659482772634},22.201052521566311,22.839256911926928,23.495807497517699,24.171231668755404,24.866071976729007,null,null,null,470.5564561370071,489.84927083862436,503.93076336968664,518.41705068907811,533.31976926362211,548.65089006879646,null,null,null,null,{"$f":"_xlfn.XLOOKUP($H39,'I_Asset number input'!$B$5:$B$239,'I_Asset number input'!J$5:J$239)","v":505},{"$f":"_xlfn.XLOOKUP($H39,'I_Asset number input'!$B$5:$B$239,'I_Asset number input'!K$5:K$239)","v":505},{"$f":"_xlfn.XLOOKUP($H39,'I_Asset number input'!$B$5:$B$239,'I_Asset number input'!L$5:L$239)","v":505},{"$f":"_xlfn.XLOOKUP($H39,'I_Asset number input'!$B$5:$B$239,'I_Asset number input'!M$5:M$239)","v":505},{"$f":"_xlfn.XLOOKUP($H39,'I_Asset number input'!$B$5:$B$239,'I_Asset number input'!N$5:N$239)","v":505},{"$f":"_xlfn.XLOOKUP($H39,'I_Asset number input'!$B$5:$B$239,'I_Asset number input'!O$5:O$239)","v":505},null,null,null,10769.963038800181,11211.531523390988,11533.824740523098,11865.382786246439,12206.471992721479,12557.366348248148]
[null,"T7","Major (Cat V)",null,null,"Bracket","Bracket","T7",null,{"$f":"IF(ISBLANK(F40),0,\nIF(OR(F40=\"Luminaire\",F40=\"Smart Controller\",F40=\"NW\"),OFFSET(I_CAPEX!$AC$48,(MATCH('C_CAPEX Build Up'!H40,I_CAPEX!V$49:V$437,0)),0),\nIF('C_CAPEX Build Up'!F40=\"Bracket\",OFFSET(I_CAPEX!S$48,MATCH('C_CAPEX Build Up'!H40,I_CAPEX!L$49:L$130,0),0),\nOFFSET(I_CAPEX!I$48,MATCH('C_CAPEX Build Up'!H40,I_CAPEX!B$49:B$102,0),0))))","v":614.62612103373283},null,28.760632511438175,{"$f":"SUM(J40,L40)*I_CAPEX!$D$13","v":38.603205212710257},681.98995875788125,null,null,null,{"$f":"IF(OR(G40=\"LED\",G40=\"Smart Controller\"),-PMT(return_on_assests_pct,LED_lantern_lifespan,N40)*(1+'I_Global Inputs'!$G$54),IF(G40=\"LED20\",-PMT(return_on_assests_pct,LED_life_span_20yrs,N40),\nIF(G40=\"Traditional\",-PMT(return_on_assests_pct,trad_lantern_lifespan,N40),\n-PMT(return_on_assests_pct,pole_lifespan,N40))))","v":30.909293521338267},32.176574555713131,33.101541114315417,34.053097300506906,35.032007475213682,36.039057972126336,null,null,null,681.98995875788125,709.95154706695439,730.3602278644662,751.35558849050369,772.95449398522362,795.17429420105304,null,null,null,null,{"$f":"_xlfn.XLOOKUP($H40,'I_Asset number input'!$B$5:$B$239,'I_Asset number input'!J$5:J$239)","v":276},{"$f":"_xlfn.XLOOKUP($H40,'I_Asset number input'!$B$5:$B$239,'I_Asset number input'!K$5:K$239)","v":276},{"$f":"_xlfn.XLOOKUP($H40,'I_Asset number input'!$B$5:$B$239,'I_Asset number input'!L$5:L$239)","v":276},{"$f":"_xlfn.XLOOKUP($H40,'I_Asset number input'!$B$5:$B$239,'I_Asset number input'!M$5:M$239)","v":276},{"$f":"_xlfn.XLOOKUP($H40,'I_Asset number input'!$B$5:$B$239,'I_Asset number input'!N$5:N$239)","v":276},{"$f":"_xlfn.XLOOKUP($H40,'I_Asset number input'!$B$5:$B$239,'I_Asset number input'!O$5:O$239)","v":276},null,null,null,8530.9650118893624,8880.7345773768247,9136.0253475510544,9398.6548549399067,9668.8340631589763,9946.7800003068696]
[null,{"$f":"H41","v":"Bracket - Minor Road (Cat P) - Short"},"Minor (Cat P)",null,null,{"$f":"IF(OR(G41=\"Bracket\",G41=\"Support\",G41=\"Smart Controller\"),G41,\"Luminaire\")","v":"Bracket"},"Bracket","Bracket - Minor Road (Cat P) - Short",null,{"$f":"IF(ISBLANK(F41),0,\nIF(OR(F41=\"Luminaire\",F41=\"Smart Controller\",F41=\"NW\"),OFFSET(I_CAPEX!$AC$48,(MATCH('C_CAPEX Build Up'!H41,I_CAPEX!V$49:V$437,0)),0),\nIF('C_CAPEX Build Up'!F41=\"Bracket\",OFFSET(I_CAPEX!S$48,MATCH('C_CAPEX Build Up'!H41,I_CAPEX!L$49:L$130,0),0),\nOFFSET(I_CAPEX!I$48,MATCH('C_CAPEX Build Up'!H41,I_CAPEX!B$49:B$102,0),0))))","v":192.9457036818921},null,0,{"$f":"SUM(J41,L41)*I_CAPEX!$D$13","v":11.576742220913525},{"$f":"SUM(J41:M41)","v":204.52244590280563},null,null,null,{"$f":"IF(OR(G41=\"LED\",G41=\"Smart Controller\"),-PMT(return_on_assests_pct,LED_lantern_lifespan,N41)*(1+'I_Global Inputs'!$G$54),IF(G41=\"LED20\",-PMT(return_on_assests_pct,LED_life_span_20yrs,N41),\nIF(G41=\"Traditional\",-PMT(return_on_assests_pct,trad_lantern_lifespan,N41),\n-PMT(return_on_assests_pct,pole_lifespan,N41))))","v":9.269409660555052},{"$f":"R41*(1+CPIFY25)","v":9.6494554566378081},{"$f":"S41*(1+CPIFY26)","v":9.9268443250724552},{"$f":"T41*(1+CPIFY27)","v":10.21220717552891},{"$f":"U41*(1+CPIFY28)","v":10.505773232740099},{"$f":"V41*(1+CPIFY29)","v":10.807778310866672},null,null,null,{"$f":"N41","v":204.52244590280563},{"$f":"AA41*(1+CPIFY25)","v":212.90786618482065},{"$f":"AB41*(1+CPIFY26)","v":219.02823974861764},{"$f":"AC41*(1+CPIFY27)","v":225.32455313667603},{"$f":"AD41*(1+CPIFY28)","v":231.8018640176885},{"$f":"AE41*(1+CPIFY29)","v":238.46537545103862},null,null,null,null,{"$f":"_xlfn.XLOOKUP($H41,'I_Asset number input'!$B$5:$B$239,'I_Asset number input'!J$5:J$239)","v":0},{"$f":"_xlfn.XLOOKUP($H41,'I_Asset number input'!$B$5:$B$239,'I_Asset number input'!K$5:K$239)","v":411.59999999999786},{"$f":"_xlfn.XLOOKUP($H41,'I_Asset number input'!$B$5:$B$239,'I_Asset number input'!L$5:L$239)","v":1234.7999999999993},{"$f":"_xlfn.XLOOKUP($H41,'I_Asset number input'!$B$5:$B$239,'I_Asset number input'!M$5:M$239)","v":2061.0000000000009},{"$f":"_xlfn.XLOOKUP($H41,'I_Asset number input'!$B$5:$B$239,'I_Asset number input'!N$5:N$239)","v":2894.0000000000023},{"$f":"_xlfn.XLOOKUP($H41,'I_Asset number input'!$B$5:$B$239,'I_Asset number input'!O$5:O$239)","v":3731.8000000000038},null,null,null,{"$f":"IFERROR(R41*AK41,0)","v":0},{"$f":"IFERROR(S41*AL41,0)","v":3971.715865952101},{"$f":"IFERROR(T41*AM41,0)","v":12257.667372599461},{"$f":"IFERROR(U41*AN41,0)","v":21047.358988765092},{"$f":"IFERROR(V41*AO41,0)","v":30403.70773554987},{"$f":"IFERROR(W41*AP41,0)","v":40332.467100492286}]
[null,"Bracket - Minor Road (Cat P) - Medium","Minor (Cat P)",null,null,"Bracket","Bracket","Bracket - Minor Road (Cat P) - Medium",null,{"$f":"IF(ISBLANK(F42),0,\nIF(OR(F42=\"Luminaire\",F42=\"Smart Controller\",F42=\"NW\"),OFFSET(I_CAPEX!$AC$48,(MATCH('C_CAPEX Build Up'!H42,I_CAPEX!V$49:V$437,0)),0),\nIF('C_CAPEX Build Up'!F42=\"Bracket\",OFFSET(I_CAPEX!S$48,MATCH('C_CAPEX Build Up'!H42,I_CAPEX!L$49:L$130,0),0),\nOFFSET(I_CAPEX!I$48,MATCH('C_CAPEX Build Up'!H42,I_CAPEX!B$49:B$102,0),0))))","v":306.35404216380471},null,0,{"$f":"SUM(J42,L42)*I_CAPEX!$D$13","v":18.381242529828281},324.73528469363299,null,null,null,{"$f":"IF(OR(G42=\"LED\",G42=\"Smart Controller\"),-PMT(return_on_assests_pct,LED_lantern_lifespan,N42)*(1+'I_Global Inputs'!$G$54),IF(G42=\"LED20\",-PMT(return_on_assests_pct,LED_life_span_20yrs,N42),\nIF(G42=\"Traditional\",-PMT(return_on_assests_pct,trad_lantern_lifespan,N42),\n-PMT(return_on_assests_pct,pole_lifespan,N42))))","v":14.717721430403468},15.32114800905001,15.761578655986323,16.214670178899173,16.680786534705746,17.160302142840813,null,null,null,324.73528469363299,338.04943136607193,347.76719727141182,357.76431573714314,368.04881719472081,378.62896292306084,null,null,null,null,{"$f":"_xlfn.XLOOKUP($H42,'I_Asset number input'!$B$5:$B$239,'I_Asset number input'!J$5:J$239)","v":0},{"$f":"_xlfn.XLOOKUP($H42,'I_Asset number input'!$B$5:$B$239,'I_Asset number input'!K$5:K$239)","v":0},{"$f":"_xlfn.XLOOKUP($H42,'I_Asset number input'!$B$5:$B$239,'I_Asset number input'!L$5:L$239)","v":0},{"$f":"_xlfn.XLOOKUP($H42,'I_Asset number input'!$B$5:$B$239,'I_Asset number input'!M$5:M$239)","v":0},{"$f":"_xlfn.XLOOKUP($H42,'I_Asset number input'!$B$5:$B$239,'I_Asset number input'!N$5:N$239)","v":0},{"$f":"_xlfn.XLOOKUP($H42,'I_Asset number input'!$B$5:$B$239,'I_Asset number input'!O$5:O$239)","v":0},null,null,null,0,0,0,0,0,0]
[null,"Bracket - Major Road (Cat V) - Short","Major (Cat V)",null,null,"Bracket","Bracket","Bracket - Major Road (Cat V) - Short",null,{"$f":"IF(ISBLANK(F43),0,\nIF(OR(F43=\"Luminaire\",F43=\"Smart Controller\",F43=\"NW\"),OFFSET(I_CAPEX!$AC$48,(MATCH('C_CAPEX Build Up'!H43,I_CAPEX!V$49:V$437,0)),0),\nIF('C_CAPEX Build Up'!F43=\"Bracket\",OFFSET(I_CAPEX!S$48,MATCH('C_CAPEX Build Up'!H43,I_CAPEX!L$49:L$130,0),0),\nOFFSET(I_CAPEX!I$48,MATCH('C_CAPEX Build Up'!H43,I_CAPEX!B$49:B$102,0),0))))","v":221.84454005203227},null,28.760632511438175,{"$f":"SUM(J43,L43)*I_CAPEX!$D$13","v":15.036310353808226},265.64148291727867,null,null,null,{"$f":"IF(OR(G43=\"LED\",G43=\"Smart Controller\"),-PMT(return_on_assests_pct,LED_lantern_lifespan,N43)*(1+'I_Global Inputs'!$G$54),IF(G43=\"LED20\",-PMT(return_on_assests_pct,LED_life_span_20yrs,N43),\nIF(G43=\"Traditional\",-PMT(return_on_assests_pct,trad_lantern_lifespan,N43),\n-PMT(return_on_assests_pct,pole_lifespan,N43))))","v":12.039459615927731},12.533077460180767,12.893360606758934,13.264000662573533,13.645295353371523,14.037550963497644,null,null,null,265.64148291727867,276.53278371688708,284.48215622863273,292.66004603399227,301.07302222422459,309.7278427295131,null,null,null,null,{"$f":"_xlfn.XLOOKUP($H43,'I_Asset number input'!$B$5:$B$239,'I_Asset number input'!J$5:J$239)","v":0},{"$f":"_xlfn.XLOOKUP($H43,'I_Asset number input'!$B$5:$B$239,'I_Asset number input'!K$5:K$239)","v":102.89999999999947},{"$f":"_xlfn.XLOOKUP($H43,'I_Asset number input'!$B$5:$B$239,'I_Asset number input'!L$5:L$239)","v":308.69999999999982},{"$f":"_xlfn.XLOOKUP($H43,'I_Asset number input'!$B$5:$B$239,'I_Asset number input'!M$5:M$239)","v":515.25000000000023},{"$f":"_xlfn.XLOOKUP($H43,'I_Asset number input'!$B$5:$B$239,'I_Asset number input'!N$5:N$239)","v":723.50000000000057},{"$f":"_xlfn.XLOOKUP($H43,'I_Asset number input'!$B$5:$B$239,'I_Asset number input'!O$5:O$239)","v":932.95000000000095},null,null,null,0,1289.6536706525942,3980.1804193064804,6834.2763413910161,9872.3711881643048,13096.333171395141]
[null,"Bracket - Major Road (Cat V) - Medium","Major (Cat V)",null,null,"Bracket","Bracket","Bracket - Major Road (Cat V) - Medium",null,{"$f":"IF(ISBLANK(F44),0,\nIF(OR(F44=\"Luminaire\",F44=\"Smart Controller\",F44=\"NW\"),OFFSET(I_CAPEX!$AC$48,(MATCH('C_CAPEX Build Up'!H44,I_CAPEX!V$49:V$437,0)),0),\nIF('C_CAPEX Build Up'!F44=\"Bracket\",OFFSET(I_CAPEX!S$48,MATCH('C_CAPEX Build Up'!H44,I_CAPEX!L$49:L$130,0),0),\nOFFSET(I_CAPEX!I$48,MATCH('C_CAPEX Build Up'!H44,I_CAPEX!B$49:B$102,0),0))))","v":425.26076097917417},null,28.760632511438175,{"$f":"SUM(J44,L44)*I_CAPEX!$D$13","v":27.241283609436739},481.26267710004907,null,null,null,{"$f":"IF(OR(G44=\"LED\",G44=\"Smart Controller\"),-PMT(return_on_assests_pct,LED_lantern_lifespan,N44)*(1+'I_Global Inputs'!$G$54),IF(G44=\"LED20\",-PMT(return_on_assests_pct,LED_life_span_20yrs,N44),\nIF(G44=\"Traditional\",-PMT(return_on_assests_pct,trad_lantern_lifespan,N44),\n-PMT(return_on_assests_pct,pole_lifespan,N44))))","v":21.811889099428107},22.706176552504658,23.358901532549407,24.030390125155222,24.721181720060674,25.431831212616004,null,null,null,481.26267710004907,500.99444686115106,515.39632511545813,530.21220815275512,545.45399719573754,561.1339355865822,null,null,null,null,{"$f":"_xlfn.XLOOKUP($H44,'I_Asset number input'!$B$5:$B$239,'I_Asset number input'!J$5:J$239)","v":0},{"$f":"_xlfn.XLOOKUP($H44,'I_Asset number input'!$B$5:$B$239,'I_Asset number input'!K$5:K$239)","v":0},{"$f":"_xlfn.XLOOKUP($H44,'I_Asset number input'!$B$5:$B$239,'I_Asset number input'!L$5:L$239)","v":0},{"$f":"_xlfn.XLOOKUP($H44,'I_Asset number input'!$B$5:$B$239,'I_Asset number input'!M$5:M$239)","v":0},{"$f":"_xlfn.XLOOKUP($H44,'I_Asset number input'!$B$5:$B$239,'I_Asset number input'!N$5:N$239)","v":0},{"$f":"_xlfn.XLOOKUP($H44,'I_Asset number input'!$B$5:$B$239,'I_Asset number input'!O$5:O$239)","v":0},null,null,null,0,0,0,0,0,0]
[null,"Bracket - Major Road (Cat V) - Long","Major (Cat V)",null,null,"Bracket","Bracket","Bracket - Major Road (Cat V) - Long",null,{"$f":"IF(ISBLANK(F45),0,\nIF(OR(F45=\"Luminaire\",F45=\"Smart Controller\",F45=\"NW\"),OFFSET(I_CAPEX!$AC$48,(MATCH('C_CAPEX Build Up'!H45,I_CAPEX!V$49:V$437,0)),0),\nIF('C_CAPEX Build Up'!F45=\"Bracket\",OFFSET(I_CAPEX!S$48,MATCH('C_CAPEX Build Up'!H45,I_CAPEX!L$49:L$130,0),0),\nOFFSET(I_CAPEX!I$48,MATCH('C_CAPEX Build Up'!H45,I_CAPEX!B$49:B$102,0),0))))","v":537.03891797576114},null,28.760632511438175,{"$f":"SUM(J45,L45)*I_CAPEX!$D$13","v":33.94797302923196},599.74752351643133,null,null,null,{"$f":"IF(OR(G45=\"LED\",G45=\"Smart Controller\"),-PMT(return_on_assests_pct,LED_lantern_lifespan,N45)*(1+'I_Global Inputs'!$G$54),IF(G45=\"LED20\",-PMT(return_on_assests_pct,LED_life_span_20yrs,N45),\nIF(G45=\"Traditional\",-PMT(return_on_assests_pct,trad_lantern_lifespan,N45),\n-PMT(return_on_assests_pct,pole_lifespan,N45))))","v":27.18188443247497},28.29634169420644,29.109764818305813,29.946571077439742,30.8074326568312,31.693041064731204,null,null,null,599.74752351643133,624.33717198060492,642.28473207201455,660.74822318225642,679.74247656498483,699.28274982171263,null,null,null,null,{"$f":"_xlfn.XLOOKUP($H45,'I_Asset number input'!$B$5:$B$239,'I_Asset number input'!J$5:J$239)","v":0},{"$f":"_xlfn.XLOOKUP($H45,'I_Asset number input'!$B$5:$B$239,'I_Asset number input'!K$5:K$239)","v":0},{"$f":"_xlfn.XLOOKUP($H45,'I_Asset number input'!$B$5:$B$239,'I_Asset number input'!L$5:L$239)","v":0},{"$f":"_xlfn.XLOOKUP($H45,'I_Asset number input'!$B$5:$B$239,'I_Asset number input'!M$5:M$239)","v":0},{"$f":"_xlfn.XLOOKUP($H45,'I_Asset number input'!$B$5:$B$239,'I_Asset number input'!N$5:N$239)","v":0},{"$f":"_xlfn.XLOOKUP($H45,'I_Asset number input'!$B$5:$B$239,'I_Asset number input'!O$5:O$239)","v":0},null,null,null,0,0,0,0,0,0]
[null,"1000W SON","Major (Cat V)",null,null,"Luminaire","Traditional","1000W SON",null,{"$f":"IF(ISBLANK(F46),0,\nIF(OR(F46=\"Luminaire\",F46=\"Smart Controller\",F46=\"NW\"),OFFSET(I_CAPEX!$AC$48,(MATCH('C_CAPEX Build Up'!H46,I_CAPEX!V$49:V$437,0)),0),\nIF('C_CAPEX Build Up'!F46=\"Bracket\",OFFSET(I_CAPEX!S$48,MATCH('C_CAPEX Build Up'!H46,I_CAPEX!L$49:L$130,0),0),\nOFFSET(I_CAPEX!I$48,MATCH('C_CAPEX Build Up'!H46,I_CAPEX!B$49:B$102,0),0))))","v":1398.7471615121597},null,75.314371605110225,{"$f":"SUM(J46,L46)*I_CAPEX!$D$13","v":88.443691987036189},1562.505225104306,null,null,null,{"$f":"IF(OR(G46=\"LED\",G46=\"Smart Controller\"),-PMT(return_on_assests_pct,LED_lantern_lifespan,N46)*(1+'I_Global Inputs'!$G$54),IF(G46=\"LED20\",-PMT(return_on_assests_pct,LED_life_span_20yrs,N46),\nIF(G46=\"Traditional\",-PMT(return_on_assests_pct,trad_lantern_lifespan,N46),\n-PMT(return_on_assests_pct,pole_lifespan,N46))))","v":103.28166829511218},107.51621669521178,110.60694050045444,113.78651205289205,117.05748542162914,120.42248809652875,null,null,null,1562.505225104306,1626.5679393335824,1673.3262089739119,1721.4286190752009,1770.913809082251,1821.8215291918559,null,null,null,null,{"$f":"_xlfn.XLOOKUP($H46,'I_Asset number input'!$B$5:$B$239,'I_Asset number input'!J$5:J$239)","v":13},{"$f":"_xlfn.XLOOKUP($H46,'I_Asset number input'!$B$5:$B$239,'I_Asset number input'!K$5:K$239)","v":13},{"$f":"_xlfn.XLOOKUP($H46,'I_Asset number input'!$B$5:$B$239,'I_Asset number input'!L$5:L$239)","v":10.833333333333334},{"$f":"_xlfn.XLOOKUP($H46,'I_Asset number input'!$B$5:$B$239,'I_Asset number input'!M$5:M$239)","v":6.5000000000000018},{"$f":"_xlfn.XLOOKUP($H46,'I_Asset number input'!$B$5:$B$239,'I_Asset number input'!N$5:N$239)","v":2.1666666666666674},{"$f":"_xlfn.XLOOKUP($H46,'I_Asset number input'!$B$5:$B$239,'I_Asset number input'!O$5:O$239)","v":0},null,null,null,1342.6616878364584,1397.7108170377533,1198.2418554215899,739.61232834379848,253.62455174686323,0]
[null,"1000W SON FLOODLIGHT","Major (Cat V)",null,null,"Luminaire","Traditional","1000W SON FLOODLIGHT",null,{"$f":"IF(ISBLANK(F47),0,\nIF(OR(F47=\"Luminaire\",F47=\"Smart Controller\",F47=\"NW\"),OFFSET(I_CAPEX!$AC$48,(MATCH('C_CAPEX Build Up'!H47,I_CAPEX!V$49:V$437,0)),0),\nIF('C_CAPEX Build Up'!F47=\"Bracket\",OFFSET(I_CAPEX!S$48,MATCH('C_CAPEX Build Up'!H47,I_CAPEX!L$49:L$130,0),0),\nOFFSET(I_CAPEX!I$48,MATCH('C_CAPEX Build Up'!H47,I_CAPEX!B$49:B$102,0),0))))","v":1130.8821776356829},null,75.314371605110225,{"$f":"SUM(J47,L47)*I_CAPEX!$D$13","v":72.371792954447585},1278.5683421952406,null,null,null,{"$f":"IF(OR(G47=\"LED\",G47=\"Smart Controller\"),-PMT(return_on_assests_pct,LED_lantern_lifespan,N47)*(1+'I_Global Inputs'!$G$54),IF(G47=\"LED20\",-PMT(return_on_assests_pct,LED_life_span_20yrs,N47),\nIF(G47=\"Traditional\",-PMT(return_on_assests_pct,trad_lantern_lifespan,N47),\n-PMT(return_on_assests_pct,pole_lifespan,N47))))","v":84.513427084651866},87.978477595122584,90.507558169293901,93.109341167120306,95.785916534829425,98.539434297460744,null,null,null,1278.5683421952406,1330.9896442252455,1369.2510479872476,1408.612336353304,1449.1051272470477,1490.7619474993651,null,null,null,null,{"$f":"_xlfn.XLOOKUP($H47,'I_Asset number input'!$B$5:$B$239,'I_Asset number input'!J$5:J$239)","v":3},{"$f":"_xlfn.XLOOKUP($H47,'I_Asset number input'!$B$5:$B$239,'I_Asset number input'!K$5:K$239)","v":3},{"$f":"_xlfn.XLOOKUP($H47,'I_Asset number input'!$B$5:$B$239,'I_Asset number input'!L$5:L$239)","v":2.5},{"$f":"_xlfn.XLOOKUP($H47,'I_Asset number input'!$B$5:$B$239,'I_Asset number input'!M$5:M$239)","v":1.5},{"$f":"_xlfn.XLOOKUP($H47,'I_Asset number input'!$B$5:$B$239,'I_Asset number input'!N$5:N$239)","v":0.5},{"$f":"_xlfn.XLOOKUP($H47,'I_Asset number input'!$B$5:$B$239,'I_Asset number input'!O$5:O$239)","v":0},null,null,null,253.54028125395558,263.93543278536777,226.26889542323477,139.66401175068046,47.892958267414713,0]
[null,"1000W/1500W MBI FLOODLIG","Major (Cat V)",null,null,"Luminaire","Traditional","1000W/1500W MBI FLOODLIG",null,{"$f":"IF(ISBLANK(F48),0,\nIF(OR(F48=\"Luminaire\",F48=\"Smart Controller\",F48=\"NW\"),OFFSET(I_CAPEX!$AC$48,(MATCH('C_CAPEX Build Up'!H48,I_CAPEX!V$49:V$437,0)),0),\nIF('C_CAPEX Build Up'!F48=\"Bracket\",OFFSET(I_CAPEX!S$48,MATCH('C_CAPEX Build Up'!H48,I_CAPEX!L$49:L$130,0),0),\nOFFSET(I_CAPEX!I$48,MATCH('C_CAPEX Build Up'!H48,I_CAPEX!B$49:B$102,0),0))))","v":1558.2960214480304},null,75.314371605110225,{"$f":"SUM(J48,L48)*I_CAPEX!$D$13","v":98.016623583188434},1731.627016636329,null,null,null,{"$f":"IF(OR(G48=\"LED\",G48=\"Smart Controller\"),-PMT(return_on_assests_pct,LED_lantern_lifespan,N48)*(1+'I_Global Inputs'!$G$54),IF(G48=\"LED20\",-PMT(return_on_assests_pct,LED_life_span_20yrs,N48),\nIF(G48=\"Traditional\",-PMT(return_on_assests_pct,trad_lantern_lifespan,N48),\n-PMT(return_on_assests_pct,pole_lifespan,N48))))","v":114.46062660760005},119.15351229851164,122.57876858318228,126.10248928060378,129.72750490615152,133.45672734284494,null,null,null,1731.627016636329,1802.6237243184185,1854.4429961259452,1907.7518949113248,1962.5932423595357,2019.0110911326606,null,null,null,null,{"$f":"_xlfn.XLOOKUP($H48,'I_Asset number input'!$B$5:$B$239,'I_Asset number input'!J$5:J$239)","v":5},{"$f":"_xlfn.XLOOKUP($H48,'I_Asset number input'!$B$5:$B$239,'I_Asset number input'!K$5:K$239)","v":5},{"$f":"_xlfn.XLOOKUP($H48,'I_Asset number input'!$B$5:$B$239,'I_Asset number input'!L$5:L$239)","v":4.1666666666666661},{"$f":"_xlfn.XLOOKUP($H48,'I_Asset number input'!$B$5:$B$239,'I_Asset number input'!M$5:M$239)","v":2.4999999999999996},{"$f":"_xlfn.XLOOKUP($H48,'I_Asset number input'!$B$5:$B$239,'I_Asset number input'!N$5:N$239)","v":0.83333333333333315},{"$f":"_xlfn.XLOOKUP($H48,'I_Asset number input'!$B$5:$B$239,'I_Asset number input'!O$5:O$239)","v":0},null,null,null,572.30313303800028,595.76756149255823,510.74486909659277,315.25622320150939,108.10625408845958,0]
[null,"100W MBI","Major (Cat V)",null,null,"Luminaire","Traditional","100W MBI",null,{"$f":"IF(ISBLANK(F49),0,\nIF(OR(F49=\"Luminaire\",F49=\"Smart Controller\",F49=\"NW\"),OFFSET(I_CAPEX!$AC$48,(MATCH('C_CAPEX Build Up'!H49,I_CAPEX!V$49:V$437,0)),0),\nIF('C_CAPEX Build Up'!F49=\"Bracket\",OFFSET(I_CAPEX!S$48,MATCH('C_CAPEX Build Up'!H49,I_CAPEX!L$49:L$130,0),0),\nOFFSET(I_CAPEX!I$48,MATCH('C_CAPEX Build Up'!H49,I_CAPEX!B$49:B$102,0),0))))","v":478.58719377827651},null,75.314371605110225,{"$f":"SUM(J49,L49)*I_CAPEX!$D$13","v":33.234093923003201},587.13565930638993,null,null,null,{"$f":"IF(OR(G49=\"LED\",G49=\"Smart Controller\"),-PMT(return_on_assests_pct,LED_lantern_lifespan,N49)*(1+'I_Global Inputs'!$G$54),IF(G49=\"LED20\",-PMT(return_on_assests_pct,LED_life_span_20yrs,N49),\nIF(G49=\"Traditional\",-PMT(return_on_assests_pct,trad_lantern_lifespan,N49),\n-PMT(return_on_assests_pct,pole_lifespan,N49))))","v":38.809694479368204},40.400891953022295,41.562279531104771,42.75705303314389,43.986172190360719,45.250624322969152,null,null,null,587.13565930638993,611.20822133795184,628.77836896511781,646.85359829253412,665.44842869302238,684.57779692175438,null,null,null,null,{"$f":"_xlfn.XLOOKUP($H49,'I_Asset number input'!$B$5:$B$239,'I_Asset number input'!J$5:J$239)","v":0},{"$f":"_xlfn.XLOOKUP($H49,'I_Asset number input'!$B$5:$B$239,'I_Asset number input'!K$5:K$239)","v":0},{"$f":"_xlfn.XLOOKUP($H49,'I_Asset number input'!$B$5:$B$239,'I_Asset number input'!L$5:L$239)","v":0},{"$f":"_xlfn.XLOOKUP($H49,'I_Asset number input'!$B$5:$B$239,'I_Asset number input'!M$5:M$239)","v":0},{"$f":"_xlfn.XLOOKUP($H49,'I_Asset number input'!$B$5:$B$239,'I_Asset number input'!N$5:N$239)","v":0},{"$f":"_xlfn.XLOOKUP($H49,'I_Asset number input'!$B$5:$B$239,'I_Asset number input'!O$5:O$239)","v":0},null,null,null,0,0,0,0,0,0]
[null,"100W MBI FLOODLIGHT","Major (Cat V)",null,null,"Luminaire","Traditional","100W MBI FLOODLIGHT",null,{"$f":"IF(ISBLANK(F50),0,\nIF(OR(F50=\"Luminaire\",F50=\"Smart Controller\",F50=\"NW\"),OFFSET(I_CAPEX!$AC$48,(MATCH('C_CAPEX Build Up'!H50,I_CAPEX!V$49:V$437,0)),0),\nIF('C_CAPEX Build Up'!F50=\"Bracket\",OFFSET(I_CAPEX!S$48,MATCH('C_CAPEX Build Up'!H50,I_CAPEX!L$49:L$130,0),0),\nOFFSET(I_CAPEX!I$48,MATCH('C_CAPEX Build Up'!H50,I_CAPEX!B$49:B$102,0),0))))","v":524.68084360117678},null,75.314371605110225,{"$f":"SUM(J50,L50)*I_CAPEX!$D$13","v":35.999712912377213},635.99492811866412,null,null,null,{"$f":"IF(OR(G50=\"LED\",G50=\"Smart Controller\"),-PMT(return_on_assests_pct,LED_lantern_lifespan,N50)*(1+'I_Global Inputs'!$G$54),IF(G50=\"LED20\",-PMT(return_on_assests_pct,LED_life_span_20yrs,N50),\nIF(G50=\"Traditional\",-PMT(return_on_assests_pct,trad_lantern_lifespan,N50),\n-PMT(return_on_assests_pct,pole_lifespan,N50))))","v":42.03929442792144},43.762905499466214,45.02093947770058,46.315137633617603,47.6465395637386,49.016214749432159,null,null,null,635.99492811866412,662.07072017152927,681.10299082321251,700.6823742154578,720.82459796985916,741.54584182338408,null,null,null,null,{"$f":"_xlfn.XLOOKUP($H50,'I_Asset number input'!$B$5:$B$239,'I_Asset number input'!J$5:J$239)","v":3},{"$f":"_xlfn.XLOOKUP($H50,'I_Asset number input'!$B$5:$B$239,'I_Asset number input'!K$5:K$239)","v":3},{"$f":"_xlfn.XLOOKUP($H50,'I_Asset number input'!$B$5:$B$239,'I_Asset number input'!L$5:L$239)","v":2.5},{"$f":"_xlfn.XLOOKUP($H50,'I_Asset number input'!$B$5:$B$239,'I_Asset number input'!M$5:M$239)","v":1.5},{"$f":"_xlfn.XLOOKUP($H50,'I_Asset number input'!$B$5:$B$239,'I_Asset number input'!N$5:N$239)","v":0.5},{"$f":"_xlfn.XLOOKUP($H50,'I_Asset number input'!$B$5:$B$239,'I_Asset number input'!O$5:O$239)","v":0},null,null,null,126.11788328376431,131.28871649839863,112.55234869425145,69.472706450426401,23.8232697818693,0]
[null,"100W SON","Major (Cat V)",null,null,"Luminaire","Traditional","100W SON",null,{"$f":"IF(ISBLANK(F51),0,\nIF(OR(F51=\"Luminaire\",F51=\"Smart Controller\",F51=\"NW\"),OFFSET(I_CAPEX!$AC$48,(MATCH('C_CAPEX Build Up'!H51,I_CAPEX!V$49:V$437,0)),0),\nIF('C_CAPEX Build Up'!F51=\"Bracket\",OFFSET(I_CAPEX!S$48,MATCH('C_CAPEX Build Up'!H51,I_CAPEX!L$49:L$130,0),0),\nOFFSET(I_CAPEX!I$48,MATCH('C_CAPEX Build Up'!H51,I_CAPEX!B$49:B$102,0),0))))","v":514.56079698482813},null,75.314371605110225,{"$f":"SUM(J51,L51)*I_CAPEX!$D$13","v":35.392510115396298},625.26767870533456,null,null,null,{"$f":"IF(OR(G51=\"LED\",G51=\"Smart Controller\"),-PMT(return_on_assests_pct,LED_lantern_lifespan,N51)*(1+'I_Global Inputs'!$G$54),IF(G51=\"LED20\",-PMT(return_on_assests_pct,LED_life_span_20yrs,N51),\nIF(G51=\"Traditional\",-PMT(return_on_assests_pct,trad_lantern_lifespan,N51),\n-PMT(return_on_assests_pct,pole_lifespan,N51))))","v":41.330222741103569},43.024761873488814,44.261576745000291,45.533945817390091,46.842891152430923,48.189464192678692,null,null,null,625.26767870533456,650.9036535322532,669.61490918026891,688.86404948452434,708.66653679072522,729.03827793417554,null,null,null,null,{"$f":"_xlfn.XLOOKUP($H51,'I_Asset number input'!$B$5:$B$239,'I_Asset number input'!J$5:J$239)","v":279.16666666666663},{"$f":"_xlfn.XLOOKUP($H51,'I_Asset number input'!$B$5:$B$239,'I_Asset number input'!K$5:K$239)","v":167.49999999999997},{"$f":"_xlfn.XLOOKUP($H51,'I_Asset number input'!$B$5:$B$239,'I_Asset number input'!L$5:L$239)","v":55.833333333333321},{"$f":"_xlfn.XLOOKUP($H51,'I_Asset number input'!$B$5:$B$239,'I_Asset number input'!M$5:M$239)","v":0},{"$f":"_xlfn.XLOOKUP($H51,'I_Asset number input'!$B$5:$B$239,'I_Asset number input'!N$5:N$239)","v":0},{"$f":"_xlfn.XLOOKUP($H51,'I_Asset number input'!$B$5:$B$239,'I_Asset number input'!O$5:O$239)","v":0},null,null,null,11538.020515224745,7206.6476138093749,2471.2713682625158,0,0,0]
[null,"100W SON - PLAIN","Major (Cat V)",null,null,"Luminaire","Traditional","100W SON - PLAIN",null,{"$f":"IF(ISBLANK(F52),0,\nIF(OR(F52=\"Luminaire\",F52=\"Smart Controller\",F52=\"NW\"),OFFSET(I_CAPEX!$AC$48,(MATCH('C_CAPEX Build Up'!H52,I_CAPEX!V$49:V$437,0)),0),\nIF('C_CAPEX Build Up'!F52=\"Bracket\",OFFSET(I_CAPEX!S$48,MATCH('C_CAPEX Build Up'!H52,I_CAPEX!L$49:L$130,0),0),\nOFFSET(I_CAPEX!I$48,MATCH('C_CAPEX Build Up'!H52,I_CAPEX!B$49:B$102,0),0))))","v":514.56079698482813},null,75.314371605110225,{"$f":"SUM(J52,L52)*I_CAPEX!$D$13","v":35.392510115396298},625.26767870533456,null,null,null,{"$f":"IF(OR(G52=\"LED\",G52=\"Smart Controller\"),-PMT(return_on_assests_pct,LED_lantern_lifespan,N52)*(1+'I_Global Inputs'!$G$54),IF(G52=\"LED20\",-PMT(return_on_assests_pct,LED_life_span_20yrs,N52),\nIF(G52=\"Traditional\",-PMT(return_on_assests_pct,trad_lantern_lifespan,N52),\n-PMT(return_on_assests_pct,pole_lifespan,N52))))","v":41.330222741103569},43.024761873488814,44.261576745000291,45.533945817390091,46.842891152430923,48.189464192678692,null,null,null,625.26767870533456,650.9036535322532,669.61490918026891,688.86404948452434,708.66653679072522,729.03827793417554,null,null,null,null,{"$f":"_xlfn.XLOOKUP($H52,'I_Asset number input'!$B$5:$B$239,'I_Asset number input'!J$5:J$239)","v":105.83333333333333},{"$f":"_xlfn.XLOOKUP($H52,'I_Asset number input'!$B$5:$B$239,'I_Asset number input'!K$5:K$239)","v":63.499999999999986},{"$f":"_xlfn.XLOOKUP($H52,'I_Asset number input'!$B$5:$B$239,'I_Asset number input'!L$5:L$239)","v":21.166666666666661},{"$f":"_xlfn.XLOOKUP($H52,'I_Asset number input'!$B$5:$B$239,'I_Asset number input'!M$5:M$239)","v":0},{"$f":"_xlfn.XLOOKUP($H52,'I_Asset number input'!$B$5:$B$239,'I_Asset number input'!N$5:N$239)","v":0},{"$f":"_xlfn.XLOOKUP($H52,'I_Asset number input'!$B$5:$B$239,'I_Asset number input'!O$5:O$239)","v":0},null,null,null,4374.1152401001273,2732.072378966539,936.87004110250587,0,0,0]
[null,"100W SON FLOODLIGHT","Major (Cat V)",null,null,"Luminaire","Traditional","100W SON FLOODLIGHT",null,{"$f":"IF(ISBLANK(F53),0,\nIF(OR(F53=\"Luminaire\",F53=\"Smart Controller\",F53=\"NW\"),OFFSET(I_CAPEX!$AC$48,(MATCH('C_CAPEX Build Up'!H53,I_CAPEX!V$49:V$437,0)),0),\nIF('C_CAPEX Build Up'!F53=\"Bracket\",OFFSET(I_CAPEX!S$48,MATCH('C_CAPEX Build Up'!H53,I_CAPEX!L$49:L$130,0),0),\nOFFSET(I_CAPEX!I$48,MATCH('C_CAPEX Build Up'!H53,I_CAPEX!B$49:B$102,0),0))))","v":791.46530166705395},null,75.314371605110225,{"$f":"SUM(J53,L53)*I_CAPEX!$D$13","v":52.006780396329845},918.786453668494,null,null,null,{"$f":"IF(OR(G53=\"LED\",G53=\"Smart Controller\"),-PMT(return_on_assests_pct,LED_lantern_lifespan,N53)*(1+'I_Global Inputs'!$G$54),IF(G53=\"LED20\",-PMT(return_on_assests_pct,LED_life_span_20yrs,N53),\nIF(G53=\"Traditional\",-PMT(return_on_assests_pct,trad_lantern_lifespan,N53),\n-PMT(return_on_assests_pct,pole_lifespan,N53))))","v":60.731827463487143},63.22183238949011,65.039244017088436,66.908900018177562,68.832302239956007,70.810995702596827,null,null,null,918.786453668494,956.45669826890219,983.95155975945852,1012.236804557229,1041.3351534812487,1071.2699804964541,null,null,null,null,{"$f":"_xlfn.XLOOKUP($H53,'I_Asset number input'!$B$5:$B$239,'I_Asset number input'!J$5:J$239)","v":2},{"$f":"_xlfn.XLOOKUP($H53,'I_Asset number input'!$B$5:$B$239,'I_Asset number input'!K$5:K$239)","v":2},{"$f":"_xlfn.XLOOKUP($H53,'I_Asset number input'!$B$5:$B$239,'I_Asset number input'!L$5:L$239)","v":1.6666666666666667},{"$f":"_xlfn.XLOOKUP($H53,'I_Asset number input'!$B$5:$B$239,'I_Asset number input'!M$5:M$239)","v":1.0000000000000002},{"$f":"_xlfn.XLOOKUP($H53,'I_Asset number input'!$B$5:$B$239,'I_Asset number input'!N$5:N$239)","v":0.33333333333333343},{"$f":"_xlfn.XLOOKUP($H53,'I_Asset number input'!$B$5:$B$239,'I_Asset number input'!O$5:O$239)","v":0},null,null,null,121.46365492697429,126.44366477898022,108.39874002848073,66.908900018177576,22.944100746652008,0]
[null,"125W MBF","Minor (Cat P)",null,null,"Luminaire","Traditional","125W MBF",null,{"$f":"IF(ISBLANK(F54),0,\nIF(OR(F54=\"Luminaire\",F54=\"Smart Controller\",F54=\"NW\"),OFFSET(I_CAPEX!$AC$48,(MATCH('C_CAPEX Build Up'!H54,I_CAPEX!V$49:V$437,0)),0),\nIF('C_CAPEX Build Up'!F54=\"Bracket\",OFFSET(I_CAPEX!S$48,MATCH('C_CAPEX Build Up'!H54,I_CAPEX!L$49:L$130,0),0),\nOFFSET(I_CAPEX!I$48,MATCH('C_CAPEX Build Up'!H54,I_CAPEX!B$49:B$102,0),0))))","v":357.75278300755178},null,0,{"$f":"SUM(J54,L54)*I_CAPEX!$D$13","v":21.465166980453105},379.21794998800488,null,null,null,{"$f":"IF(OR(G54=\"LED\",G54=\"Smart Controller\"),-PMT(return_on_assests_pct,LED_lantern_lifespan,N54)*(1+'I_Global Inputs'!$G$54),IF(G54=\"LED20\",-PMT(return_on_assests_pct,LED_life_span_20yrs,N54),\nIF(G54=\"Traditional\",-PMT(return_on_assests_pct,trad_lantern_lifespan,N54),\n-PMT(return_on_assests_pct,pole_lifespan,N54))))","v":25.06632419075526},26.094043482576225,26.844158059201085,27.615835866470547,28.409696773575696,29.226378468828525,null,null,null,379.21794998800488,394.76588593751302,406.11405608958944,417.78844735242529,429.79843746813049,442.15367375685315,null,null,null,null,{"$f":"_xlfn.XLOOKUP($H54,'I_Asset number input'!$B$5:$B$239,'I_Asset number input'!J$5:J$239)","v":0},{"$f":"_xlfn.XLOOKUP($H54,'I_Asset number input'!$B$5:$B$239,'I_Asset number input'!K$5:K$239)","v":0},{"$f":"_xlfn.XLOOKUP($H54,'I_Asset number input'!$B$5:$B$239,'I_Asset number input'!L$5:L$239)","v":0},{"$f":"_xlfn.XLOOKUP($H54,'I_Asset number input'!$B$5:$B$239,'I_Asset number input'!M$5:M$239)","v":0},{"$f":"_xlfn.XLOOKUP($H54,'I_Asset number input'!$B$5:$B$239,'I_Asset number input'!N$5:N$239)","v":0},{"$f":"_xlfn.XLOOKUP($H54,'I_Asset number input'!$B$5:$B$239,'I_Asset number input'!O$5:O$239)","v":0},null,null,null,0,0,0,0,0,0]
[null,"125W MBF - BOURKE HILL","Minor (Cat P)",null,null,"Luminaire","Traditional","125W MBF - BOURKE HILL",null,{"$f":"IF(ISBLANK(F55),0,\nIF(OR(F55=\"Luminaire\",F55=\"Smart Controller\",F55=\"NW\"),OFFSET(I_CAPEX!$AC$48,(MATCH('C_CAPEX Build Up'!H55,I_CAPEX!V$49:V$437,0)),0),\nIF('C_CAPEX Build Up'!F55=\"Bracket\",OFFSET(I_CAPEX!S$48,MATCH('C_CAPEX Build Up'!H55,I_CAPEX!L$49:L$130,0),0),\nOFFSET(I_CAPEX!I$48,MATCH('C_CAPEX Build Up'!H55,I_CAPEX!B$49:B$102,0),0))))","v":1105.7401868231918},null,0,{"$f":"SUM(J55,L55)*I_CAPEX!$D$13","v":66.344411209391509},1172.0845980325832,null,null,null,{"$f":"IF(OR(G55=\"LED\",G55=\"Smart Controller\"),-PMT(return_on_assests_pct,LED_lantern_lifespan,N55)*(1+'I_Global Inputs'!$G$54),IF(G55=\"LED20\",-PMT(return_on_assests_pct,LED_life_span_20yrs,N55),\nIF(G55=\"Traditional\",-PMT(return_on_assests_pct,trad_lantern_lifespan,N55),\n-PMT(return_on_assests_pct,pole_lifespan,N55))))","v":77.474846626340124},80.651315338020069,82.969765037063951,85.354862241910666,87.808522840591593,90.332717796371668,null,null,null,1172.0845980325832,1220.1400665519191,1255.2149237719493,1291.2980632726214,1328.4184697238111,1366.6059610056009,null,null,null,null,{"$f":"_xlfn.XLOOKUP($H55,'I_Asset number input'!$B$5:$B$239,'I_Asset number input'!J$5:J$239)","v":29},{"$f":"_xlfn.XLOOKUP($H55,'I_Asset number input'!$B$5:$B$239,'I_Asset number input'!K$5:K$239)","v":29},{"$f":"_xlfn.XLOOKUP($H55,'I_Asset number input'!$B$5:$B$239,'I_Asset number input'!L$5:L$239)","v":24.166666666666668},{"$f":"_xlfn.XLOOKUP($H55,'I_Asset number input'!$B$5:$B$239,'I_Asset number input'!M$5:M$239)","v":14.500000000000004},{"$f":"_xlfn.XLOOKUP($H55,'I_Asset number input'!$B$5:$B$239,'I_Asset number input'!N$5:N$239)","v":4.8333333333333348},{"$f":"_xlfn.XLOOKUP($H55,'I_Asset number input'!$B$5:$B$239,'I_Asset number input'!O$5:O$239)","v":0},null,null,null,2246.7705521638636,2338.8881448025818,2005.102655062379,1237.645502507705,424.4078603961928,0]
[null,"125W MBF - PARKVILLE","Minor (Cat P)",null,null,"Luminaire","Traditional","125W MBF - PARKVILLE",null,{"$f":"IF(ISBLANK(F56),0,\nIF(OR(F56=\"Luminaire\",F56=\"Smart Controller\",F56=\"NW\"),OFFSET(I_CAPEX!$AC$48,(MATCH('C_CAPEX Build Up'!H56,I_CAPEX!V$49:V$437,0)),0),\nIF('C_CAPEX Build Up'!F56=\"Bracket\",OFFSET(I_CAPEX!S$48,MATCH('C_CAPEX Build Up'!H56,I_CAPEX!L$49:L$130,0),0),\nOFFSET(I_CAPEX!I$48,MATCH('C_CAPEX Build Up'!H56,I_CAPEX!B$49:B$102,0),0))))","v":1392.1585894963075},null,0,{"$f":"SUM(J56,L56)*I_CAPEX!$D$13","v":83.529515369778451},1475.688104866086,null,null,null,{"$f":"IF(OR(G56=\"LED\",G56=\"Smart Controller\"),-PMT(return_on_assests_pct,LED_lantern_lifespan,N56)*(1+'I_Global Inputs'!$G$54),IF(G56=\"LED20\",-PMT(return_on_assests_pct,LED_life_span_20yrs,N56),\nIF(G56=\"Traditional\",-PMT(return_on_assests_pct,trad_lantern_lifespan,N56),\n-PMT(return_on_assests_pct,pole_lifespan,N56))))","v":97.5430525959665},101.54231775240112,104.46131237817498,107.46421812409949,110.55344714812202,113.73148094948768,null,null,null,1475.688104866086,1536.1913171655954,1580.3515677706766,1625.781274667896,1672.5169303874263,1720.5960764949737,null,null,null,null,{"$f":"_xlfn.XLOOKUP($H56,'I_Asset number input'!$B$5:$B$239,'I_Asset number input'!J$5:J$239)","v":4},{"$f":"_xlfn.XLOOKUP($H56,'I_Asset number input'!$B$5:$B$239,'I_Asset number input'!K$5:K$239)","v":4},{"$f":"_xlfn.XLOOKUP($H56,'I_Asset number input'!$B$5:$B$239,'I_Asset number input'!L$5:L$239)","v":4},{"$f":"_xlfn.XLOOKUP($H56,'I_Asset number input'!$B$5:$B$239,'I_Asset number input'!M$5:M$239)","v":4},{"$f":"_xlfn.XLOOKUP($H56,'I_Asset number input'!$B$5:$B$239,'I_Asset number input'!N$5:N$239)","v":4},{"$f":"_xlfn.XLOOKUP($H56,'I_Asset number input'!$B$5:$B$239,'I_Asset number input'!O$5:O$239)","v":4},null,null,null,390.172210383866,406.16927100960447,417.84524951269992,429.85687249639795,442.21378859248807,454.9259237979507]
[null,"125W MBF - PLAIN","Minor (Cat P)",null,null,"Luminaire","Traditional","125W MBF - PLAIN",null,{"$f":"IF(ISBLANK(F57),0,\nIF(OR(F57=\"Luminaire\",F57=\"Smart Controller\",F57=\"NW\"),OFFSET(I_CAPEX!$AC$48,(MATCH('C_CAPEX Build Up'!H57,I_CAPEX!V$49:V$437,0)),0),\nIF('C_CAPEX Build Up'!F57=\"Bracket\",OFFSET(I_CAPEX!S$48,MATCH('C_CAPEX Build Up'!H57,I_CAPEX!L$49:L$130,0),0),\nOFFSET(I_CAPEX!I$48,MATCH('C_CAPEX Build Up'!H57,I_CAPEX!B$49:B$102,0),0))))","v":357.75278300755178},null,0,{"$f":"SUM(J57,L57)*I_CAPEX!$D$13","v":21.465166980453105},379.21794998800488,null,null,null,{"$f":"IF(OR(G57=\"LED\",G57=\"Smart Controller\"),-PMT(return_on_assests_pct,LED_lantern_lifespan,N57)*(1+'I_Global Inputs'!$G$54),IF(G57=\"LED20\",-PMT(return_on_assests_pct,LED_life_span_20yrs,N57),\nIF(G57=\"Traditional\",-PMT(return_on_assests_pct,trad_lantern_lifespan,N57),\n-PMT(return_on_assests_pct,pole_lifespan,N57))))","v":25.06632419075526},26.094043482576225,26.844158059201085,27.615835866470547,28.409696773575696,29.226378468828525,null,null,null,379.21794998800488,394.76588593751302,406.11405608958944,417.78844735242529,429.79843746813049,442.15367375685315,null,null,null,null,{"$f":"_xlfn.XLOOKUP($H57,'I_Asset number input'!$B$5:$B$239,'I_Asset number input'!J$5:J$239)","v":183},{"$f":"_xlfn.XLOOKUP($H57,'I_Asset number input'!$B$5:$B$239,'I_Asset number input'!K$5:K$239)","v":183},{"$f":"_xlfn.XLOOKUP($H57,'I_Asset number input'!$B$5:$B$239,'I_Asset number input'!L$5:L$239)","v":183},{"$f":"_xlfn.XLOOKUP($H57,'I_Asset number input'!$B$5:$B$239,'I_Asset number input'!M$5:M$239)","v":183},{"$f":"_xlfn.XLOOKUP($H57,'I_Asset number input'!$B$5:$B$239,'I_Asset number input'!N$5:N$239)","v":183},{"$f":"_xlfn.XLOOKUP($H57,'I_Asset number input'!$B$5:$B$239,'I_Asset number input'!O$5:O$239)","v":183},null,null,null,4587.1373269082123,4775.2099573114492,4912.4809248337988,5053.6979635641101,5198.974509564352,5348.4272597956196]
[null,"125W/250W MBF FLOODLIGHT","Minor (Cat P)",null,null,"Luminaire","Traditional","125W/250W MBF FLOODLIGHT",null,{"$f":"IF(ISBLANK(F58),0,\nIF(OR(F58=\"Luminaire\",F58=\"Smart Controller\",F58=\"NW\"),OFFSET(I_CAPEX!$AC$48,(MATCH('C_CAPEX Build Up'!H58,I_CAPEX!V$49:V$437,0)),0),\nIF('C_CAPEX Build Up'!F58=\"Bracket\",OFFSET(I_CAPEX!S$48,MATCH('C_CAPEX Build Up'!H58,I_CAPEX!L$49:L$130,0),0),\nOFFSET(I_CAPEX!I$48,MATCH('C_CAPEX Build Up'!H58,I_CAPEX!B$49:B$102,0),0))))","v":493.88190485587523},null,0,{"$f":"SUM(J58,L58)*I_CAPEX!$D$13","v":29.632914291352513},523.51481914722774,null,null,null,{"$f":"IF(OR(G58=\"LED\",G58=\"Smart Controller\"),-PMT(return_on_assests_pct,LED_lantern_lifespan,N58)*(1+'I_Global Inputs'!$G$54),IF(G58=\"LED20\",-PMT(return_on_assests_pct,LED_life_span_20yrs,N58),\nIF(G58=\"Traditional\",-PMT(return_on_assests_pct,trad_lantern_lifespan,N58),\n-PMT(return_on_assests_pct,pole_lifespan,N58))))","v":34.604353975923615},36.023132488936483,37.058674442933871,38.123984689258918,39.219918964586213,40.347357605095347,null,null,null,523.51481914722774,544.97892673226409,560.6452084707845,576.76184227150725,593.34177421719255,610.39832254623786,null,null,null,null,{"$f":"_xlfn.XLOOKUP($H58,'I_Asset number input'!$B$5:$B$239,'I_Asset number input'!J$5:J$239)","v":10},{"$f":"_xlfn.XLOOKUP($H58,'I_Asset number input'!$B$5:$B$239,'I_Asset number input'!K$5:K$239)","v":10},{"$f":"_xlfn.XLOOKUP($H58,'I_Asset number input'!$B$5:$B$239,'I_Asset number input'!L$5:L$239)","v":8.3333333333333321},{"$f":"_xlfn.XLOOKUP($H58,'I_Asset number input'!$B$5:$B$239,'I_Asset number input'!M$5:M$239)","v":4.9999999999999991},{"$f":"_xlfn.XLOOKUP($H58,'I_Asset number input'!$B$5:$B$239,'I_Asset number input'!N$5:N$239)","v":1.6666666666666663},{"$f":"_xlfn.XLOOKUP($H58,'I_Asset number input'!$B$5:$B$239,'I_Asset number input'!O$5:O$239)","v":0},null,null,null,346.04353975923618,360.23132488936483,308.82228702444888,190.61992344629456,65.36653160764368,0]
[null,"150W SON","Major (Cat V)",null,null,"Luminaire","Traditional","150W SON",null,{"$f":"IF(ISBLANK(F59),0,\nIF(OR(F59=\"Luminaire\",F59=\"Smart Controller\",F59=\"NW\"),OFFSET(I_CAPEX!$AC$48,(MATCH('C_CAPEX Build Up'!H59,I_CAPEX!V$49:V$437,0)),0),\nIF('C_CAPEX Build Up'!F59=\"Bracket\",OFFSET(I_CAPEX!S$48,MATCH('C_CAPEX Build Up'!H59,I_CAPEX!L$49:L$130,0),0),\nOFFSET(I_CAPEX!I$48,MATCH('C_CAPEX Build Up'!H59,I_CAPEX!B$49:B$102,0),0))))","v":519.83165459750967},null,75.314371605110225,{"$f":"SUM(J59,L59)*I_CAPEX!$D$13","v":35.708761572157186},630.85478777477704,null,null,null,{"$f":"IF(OR(G59=\"LED\",G59=\"Smart Controller\"),-PMT(return_on_assests_pct,LED_lantern_lifespan,N59)*(1+'I_Global Inputs'!$G$54),IF(G59=\"LED20\",-PMT(return_on_assests_pct,LED_life_span_20yrs,N59),\nIF(G59=\"Traditional\",-PMT(return_on_assests_pct,trad_lantern_lifespan,N59),\n-PMT(return_on_assests_pct,pole_lifespan,N59))))","v":41.699530911321212},43.409211678685381,44.657078168281693,45.940816555008588,47.261458033320338,48.620063440987785,null,null,null,630.85478777477704,656.71983407354287,675.59828503596873,695.01942694855222,714.99886032152426,735.55263412647184,null,null,null,null,{"$f":"_xlfn.XLOOKUP($H59,'I_Asset number input'!$B$5:$B$239,'I_Asset number input'!J$5:J$239)","v":6462.5},{"$f":"_xlfn.XLOOKUP($H59,'I_Asset number input'!$B$5:$B$239,'I_Asset number input'!K$5:K$239)","v":3877.5},{"$f":"_xlfn.XLOOKUP($H59,'I_Asset number input'!$B$5:$B$239,'I_Asset number input'!L$5:L$239)","v":1292.5},{"$f":"_xlfn.XLOOKUP($H59,'I_Asset number input'!$B$5:$B$239,'I_Asset number input'!M$5:M$239)","v":0},{"$f":"_xlfn.XLOOKUP($H59,'I_Asset number input'!$B$5:$B$239,'I_Asset number input'!N$5:N$239)","v":0},{"$f":"_xlfn.XLOOKUP($H59,'I_Asset number input'!$B$5:$B$239,'I_Asset number input'!O$5:O$239)","v":0},null,null,null,269483.21851441334,168319.21828410256,57719.273532504085,0,0,0]
[null,"150W SON - PARKVILLE","Major (Cat V)",null,null,"Luminaire","Traditional","150W SON - PARKVILLE",null,{"$f":"IF(ISBLANK(F60),0,\nIF(OR(F60=\"Luminaire\",F60=\"Smart Controller\",F60=\"NW\"),OFFSET(I_CAPEX!$AC$48,(MATCH('C_CAPEX Build Up'!H60,I_CAPEX!V$49:V$437,0)),0),\nIF('C_CAPEX Build Up'!F60=\"Bracket\",OFFSET(I_CAPEX!S$48,MATCH('C_CAPEX Build Up'!H60,I_CAPEX!L$49:L$130,0),0),\nOFFSET(I_CAPEX!I$48,MATCH('C_CAPEX Build Up'!H60,I_CAPEX!B$49:B$102,0),0))))","v":1530.360476100818},null,75.314371605110225,{"$f":"SUM(J60,L60)*I_CAPEX!$D$13","v":96.340490862355693},1702.0153385682838,null,null,null,{"$f":"IF(OR(G60=\"LED\",G60=\"Smart Controller\"),-PMT(return_on_assests_pct,LED_lantern_lifespan,N60)*(1+'I_Global Inputs'!$G$54),IF(G60=\"LED20\",-PMT(return_on_assests_pct,LED_life_span_20yrs,N60),\nIF(G60=\"Traditional\",-PMT(return_on_assests_pct,trad_lantern_lifespan,N60),\n-PMT(return_on_assests_pct,pole_lifespan,N60))))","v":112.50329330544656},117.11592833096987,120.48261103979087,123.94607437122576,127.50910043743764,131.17455132680675,null,null,null,1702.0153385682838,1771.7979674495834,1822.7311040907359,1875.1283943519768,1929.0319276463008,1984.4850033134906,null,null,null,null,{"$f":"_xlfn.XLOOKUP($H60,'I_Asset number input'!$B$5:$B$239,'I_Asset number input'!J$5:J$239)","v":15},{"$f":"_xlfn.XLOOKUP($H60,'I_Asset number input'!$B$5:$B$239,'I_Asset number input'!K$5:K$239)","v":15},{"$f":"_xlfn.XLOOKUP($H60,'I_Asset number input'!$B$5:$B$239,'I_Asset number input'!L$5:L$239)","v":15},{"$f":"_xlfn.XLOOKUP($H60,'I_Asset number input'!$B$5:$B$239,'I_Asset number input'!M$5:M$239)","v":15},{"$f":"_xlfn.XLOOKUP($H60,'I_Asset number input'!$B$5:$B$239,'I_Asset number input'!N$5:N$239)","v":15},{"$f":"_xlfn.XLOOKUP($H60,'I_Asset number input'!$B$5:$B$239,'I_Asset number input'!O$5:O$239)","v":15},null,null,null,1687.5493995816985,1756.738924964548,1807.2391655968631,1859.1911155683865,1912.6365065615646,1967.6182699021012]
[null,"150W SON - PARKWAY 1","Major (Cat V)",null,null,"Luminaire","Traditional","150W SON - PARKWAY 1",null,{"$f":"IF(ISBLANK(F61),0,\nIF(OR(F61=\"Luminaire\",F61=\"Smart Controller\",F61=\"NW\"),OFFSET(I_CAPEX!$AC$48,(MATCH('C_CAPEX Build Up'!H61,I_CAPEX!V$49:V$437,0)),0),\nIF('C_CAPEX Build Up'!F61=\"Bracket\",OFFSET(I_CAPEX!S$48,MATCH('C_CAPEX Build Up'!H61,I_CAPEX!L$49:L$130,0),0),\nOFFSET(I_CAPEX!I$48,MATCH('C_CAPEX Build Up'!H61,I_CAPEX!B$49:B$102,0),0))))","v":634.47280767333359},null,75.314371605110225,{"$f":"SUM(J61,L61)*I_CAPEX!$D$13","v":42.587230756706624},752.37441003515039,null,null,null,{"$f":"IF(OR(G61=\"LED\",G61=\"Smart Controller\"),-PMT(return_on_assests_pct,LED_lantern_lifespan,N61)*(1+'I_Global Inputs'!$G$54),IF(G61=\"LED20\",-PMT(return_on_assests_pct,LED_life_span_20yrs,N61),\nIF(G61=\"Traditional\",-PMT(return_on_assests_pct,trad_lantern_lifespan,N61),\n-PMT(return_on_assests_pct,pole_lifespan,N61))))","v":49.73198361355481},51.770994941710555,53.259234124652046,54.790255098210771,56.365287692664957,57.985597091710517,null,null,null,752.37441003515039,783.22176084659145,805.73670989743948,828.89888679115847,852.72689711640157,877.23988130891314,null,null,null,null,{"$f":"_xlfn.XLOOKUP($H61,'I_Asset number input'!$B$5:$B$239,'I_Asset number input'!J$5:J$239)","v":46.666666666666664},{"$f":"_xlfn.XLOOKUP($H61,'I_Asset number input'!$B$5:$B$239,'I_Asset number input'!K$5:K$239)","v":27.999999999999993},{"$f":"_xlfn.XLOOKUP($H61,'I_Asset number input'!$B$5:$B$239,'I_Asset number input'!L$5:L$239)","v":9.3333333333333304},{"$f":"_xlfn.XLOOKUP($H61,'I_Asset number input'!$B$5:$B$239,'I_Asset number input'!M$5:M$239)","v":0},{"$f":"_xlfn.XLOOKUP($H61,'I_Asset number input'!$B$5:$B$239,'I_Asset number input'!N$5:N$239)","v":0},{"$f":"_xlfn.XLOOKUP($H61,'I_Asset number input'!$B$5:$B$239,'I_Asset number input'!O$5:O$239)","v":0},null,null,null,2320.8259019658908,1449.5878583678953,497.08618516341892,0,0,0]
[null,"150W SON ACTIVE REACTOR","Major (Cat V)",null,null,"Luminaire","Traditional","150W SON ACTIVE REACTOR",null,{"$f":"IF(ISBLANK(F62),0,\nIF(OR(F62=\"Luminaire\",F62=\"Smart Controller\",F62=\"NW\"),OFFSET(I_CAPEX!$AC$48,(MATCH('C_CAPEX Build Up'!H62,I_CAPEX!V$49:V$437,0)),0),\nIF('C_CAPEX Build Up'!F62=\"Bracket\",OFFSET(I_CAPEX!S$48,MATCH('C_CAPEX Build Up'!H62,I_CAPEX!L$49:L$130,0),0),\nOFFSET(I_CAPEX!I$48,MATCH('C_CAPEX Build Up'!H62,I_CAPEX!B$49:B$102,0),0))))","v":799.18710806963225},null,75.314371605110225,{"$f":"SUM(J62,L62)*I_CAPEX!$D$13","v":52.470088780484545},926.97156845522693,null,null,null,{"$f":"IF(OR(G62=\"LED\",G62=\"Smart Controller\"),-PMT(return_on_assests_pct,LED_lantern_lifespan,N62)*(1+'I_Global Inputs'!$G$54),IF(G62=\"LED20\",-PMT(return_on_assests_pct,LED_life_span_20yrs,N62),\nIF(G62=\"Traditional\",-PMT(return_on_assests_pct,trad_lantern_lifespan,N62),\n-PMT(return_on_assests_pct,pole_lifespan,N62))))","v":61.272863932855962},63.785051354103054,65.618653602195664,67.504965648788641,69.445502720458975,71.441823601369634,null,null,null,926.97156845522693,964.9774027618912,992.71720538805857,1021.2544325420297,1050.6120074538692,1080.813512318168,null,null,null,null,{"$f":"_xlfn.XLOOKUP($H62,'I_Asset number input'!$B$5:$B$239,'I_Asset number input'!J$5:J$239)","v":2405.833333333333},{"$f":"_xlfn.XLOOKUP($H62,'I_Asset number input'!$B$5:$B$239,'I_Asset number input'!K$5:K$239)","v":1443.4999999999998},{"$f":"_xlfn.XLOOKUP($H62,'I_Asset number input'!$B$5:$B$239,'I_Asset number input'!L$5:L$239)","v":481.16666666666657},{"$f":"_xlfn.XLOOKUP($H62,'I_Asset number input'!$B$5:$B$239,'I_Asset number input'!M$5:M$239)","v":0},{"$f":"_xlfn.XLOOKUP($H62,'I_Asset number input'!$B$5:$B$239,'I_Asset number input'!N$5:N$239)","v":0},{"$f":"_xlfn.XLOOKUP($H62,'I_Asset number input'!$B$5:$B$239,'I_Asset number input'!O$5:O$239)","v":0},null,null,null,147412.29847846262,92073.721629647742,31573.508824923141,0,0,0]
[null,"150W SON FLOODLIGHT","Major (Cat V)",null,null,"Luminaire","Traditional","150W SON FLOODLIGHT",null,{"$f":"IF(ISBLANK(F63),0,\nIF(OR(F63=\"Luminaire\",F63=\"Smart Controller\",F63=\"NW\"),OFFSET(I_CAPEX!$AC$48,(MATCH('C_CAPEX Build Up'!H63,I_CAPEX!V$49:V$437,0)),0),\nIF('C_CAPEX Build Up'!F63=\"Bracket\",OFFSET(I_CAPEX!S$48,MATCH('C_CAPEX Build Up'!H63,I_CAPEX!L$49:L$130,0),0),\nOFFSET(I_CAPEX!I$48,MATCH('C_CAPEX Build Up'!H63,I_CAPEX!B$49:B$102,0),0))))","v":621.29566364162974},null,75.314371605110225,{"$f":"SUM(J63,L63)*I_CAPEX!$D$13","v":41.796602114804394},738.40663736154431,null,null,null,{"$f":"IF(OR(G63=\"LED\",G63=\"Smart Controller\"),-PMT(return_on_assests_pct,LED_lantern_lifespan,N63)*(1+'I_Global Inputs'!$G$54),IF(G63=\"LED20\",-PMT(return_on_assests_pct,LED_life_span_20yrs,N63),\nIF(G63=\"Traditional\",-PMT(return_on_assests_pct,trad_lantern_lifespan,N63),\n-PMT(return_on_assests_pct,pole_lifespan,N63))))","v":48.808713188010721},50.809870428719158,52.270480566448562,53.773078254164552,55.318870490441448,56.909098970937798,null,null,null,738.40663736154431,768.68130949336762,790.7782702581901,813.51044313108889,836.89608828940425,860.95399082817278,null,null,null,null,{"$f":"_xlfn.XLOOKUP($H63,'I_Asset number input'!$B$5:$B$239,'I_Asset number input'!J$5:J$239)","v":250},{"$f":"_xlfn.XLOOKUP($H63,'I_Asset number input'!$B$5:$B$239,'I_Asset number input'!K$5:K$239)","v":250},{"$f":"_xlfn.XLOOKUP($H63,'I_Asset number input'!$B$5:$B$239,'I_Asset number input'!L$5:L$239)","v":208.33333333333334},{"$f":"_xlfn.XLOOKUP($H63,'I_Asset number input'!$B$5:$B$239,'I_Asset number input'!M$5:M$239)","v":125.00000000000003},{"$f":"_xlfn.XLOOKUP($H63,'I_Asset number input'!$B$5:$B$239,'I_Asset number input'!N$5:N$239)","v":41.666666666666679},{"$f":"_xlfn.XLOOKUP($H63,'I_Asset number input'!$B$5:$B$239,'I_Asset number input'!O$5:O$239)","v":0},null,null,null,12202.17829700268,12702.467607179789,10889.683451343451,6721.634781770571,2304.9529371017275,0]
[null,"150W/250W MBI FLOODLIGHT","Major (Cat V)",null,null,"Luminaire","Traditional","150W/250W MBI FLOODLIGHT",null,{"$f":"IF(ISBLANK(F64),0,\nIF(OR(F64=\"Luminaire\",F64=\"Smart Controller\",F64=\"NW\"),OFFSET(I_CAPEX!$AC$48,(MATCH('C_CAPEX Build Up'!H64,I_CAPEX!V$49:V$437,0)),0),\nIF('C_CAPEX Build Up'!F64=\"Bracket\",OFFSET(I_CAPEX!S$48,MATCH('C_CAPEX Build Up'!H64,I_CAPEX!L$49:L$130,0),0),\nOFFSET(I_CAPEX!I$48,MATCH('C_CAPEX Build Up'!H64,I_CAPEX!B$49:B$102,0),0))))","v":993.99800543434276},null,75.314371605110225,{"$f":"SUM(J64,L64)*I_CAPEX!$D$13","v":64.158742622367171},1133.47111966182,null,null,null,{"$f":"IF(OR(G64=\"LED\",G64=\"Smart Controller\"),-PMT(return_on_assests_pct,LED_lantern_lifespan,N64)*(1+'I_Global Inputs'!$G$54),IF(G64=\"LED20\",-PMT(return_on_assests_pct,LED_life_span_20yrs,N64),\nIF(G64=\"Traditional\",-PMT(return_on_assests_pct,trad_lantern_lifespan,N64),\n-PMT(return_on_assests_pct,pole_lifespan,N64))))","v":74.922493904099838},77.994316154167919,80.236386206676045,82.542908111168074,84.915734638131482,87.356771818873625,null,null,null,1133.47111966182,1179.9434355679546,1213.8627770147234,1248.7571836124998,1284.6546851521985,1321.5841171854338,null,null,null,null,{"$f":"_xlfn.XLOOKUP($H64,'I_Asset number input'!$B$5:$B$239,'I_Asset number input'!J$5:J$239)","v":40},{"$f":"_xlfn.XLOOKUP($H64,'I_Asset number input'!$B$5:$B$239,'I_Asset number input'!K$5:K$239)","v":40},{"$f":"_xlfn.XLOOKUP($H64,'I_Asset number input'!$B$5:$B$239,'I_Asset number input'!L$5:L$239)","v":33.333333333333329},{"$f":"_xlfn.XLOOKUP($H64,'I_Asset number input'!$B$5:$B$239,'I_Asset number input'!M$5:M$239)","v":19.999999999999996},{"$f":"_xlfn.XLOOKUP($H64,'I_Asset number input'!$B$5:$B$239,'I_Asset number input'!N$5:N$239)","v":6.6666666666666652},{"$f":"_xlfn.XLOOKUP($H64,'I_Asset number input'!$B$5:$B$239,'I_Asset number input'!O$5:O$239)","v":0},null,null,null,2996.8997561639935,3119.7726461667166,2674.5462068892011,1650.8581622233612,566.10489758754306,0]
[null,"250W MBF","Major (Cat V)",null,null,"Luminaire","Traditional","250W MBF",null,{"$f":"IF(ISBLANK(F65),0,\nIF(OR(F65=\"Luminaire\",F65=\"Smart Controller\",F65=\"NW\"),OFFSET(I_CAPEX!$AC$48,(MATCH('C_CAPEX Build Up'!H65,I_CAPEX!V$49:V$437,0)),0),\nIF('C_CAPEX Build Up'!F65=\"Bracket\",OFFSET(I_CAPEX!S$48,MATCH('C_CAPEX Build Up'!H65,I_CAPEX!L$49:L$130,0),0),\nOFFSET(I_CAPEX!I$48,MATCH('C_CAPEX Build Up'!H65,I_CAPEX!B$49:B$102,0),0))))","v":509.28993937214659},null,75.314371605110225,{"$f":"SUM(J65,L65)*I_CAPEX!$D$13","v":35.076258658635403},619.6805696358922,null,null,null,{"$f":"IF(OR(G65=\"LED\",G65=\"Smart Controller\"),-PMT(return_on_assests_pct,LED_lantern_lifespan,N65)*(1+'I_Global Inputs'!$G$54),IF(G65=\"LED20\",-PMT(return_on_assests_pct,LED_life_span_20yrs,N65),\nIF(G65=\"Traditional\",-PMT(return_on_assests_pct,trad_lantern_lifespan,N65),\n-PMT(return_on_assests_pct,pole_lifespan,N65))))","v":40.96091457088594},42.640312068292261,43.866075321718903,45.127075079771608,46.424324271541529,47.758864944369613,null,null,null,619.6805696358922,645.08747299096376,663.6315333245692,682.70867202049658,702.3342132599264,722.52392174187958,null,null,null,null,{"$f":"_xlfn.XLOOKUP($H65,'I_Asset number input'!$B$5:$B$239,'I_Asset number input'!J$5:J$239)","v":992.5},{"$f":"_xlfn.XLOOKUP($H65,'I_Asset number input'!$B$5:$B$239,'I_Asset number input'!K$5:K$239)","v":595.5},{"$f":"_xlfn.XLOOKUP($H65,'I_Asset number input'!$B$5:$B$239,'I_Asset number input'!L$5:L$239)","v":198.5},{"$f":"_xlfn.XLOOKUP($H65,'I_Asset number input'!$B$5:$B$239,'I_Asset number input'!M$5:M$239)","v":0},{"$f":"_xlfn.XLOOKUP($H65,'I_Asset number input'!$B$5:$B$239,'I_Asset number input'!N$5:N$239)","v":0},{"$f":"_xlfn.XLOOKUP($H65,'I_Asset number input'!$B$5:$B$239,'I_Asset number input'!O$5:O$239)","v":0},null,null,null,40653.707711604293,25392.305836668042,8707.415951361203,0,0,0]
[null,"250W MBF - PARKWAY 1","Major (Cat V)",null,null,"Luminaire","Traditional","250W MBF - PARKWAY 1",null,{"$f":"IF(ISBLANK(F66),0,\nIF(OR(F66=\"Luminaire\",F66=\"Smart Controller\",F66=\"NW\"),OFFSET(I_CAPEX!$AC$48,(MATCH('C_CAPEX Build Up'!H66,I_CAPEX!V$49:V$437,0)),0),\nIF('C_CAPEX Build Up'!F66=\"Bracket\",OFFSET(I_CAPEX!S$48,MATCH('C_CAPEX Build Up'!H66,I_CAPEX!L$49:L$130,0),0),\nOFFSET(I_CAPEX!I$48,MATCH('C_CAPEX Build Up'!H66,I_CAPEX!B$49:B$102,0),0))))","v":634.47280767333359},null,75.314371605110225,{"$f":"SUM(J66,L66)*I_CAPEX!$D$13","v":42.587230756706624},752.37441003515039,null,null,null,{"$f":"IF(OR(G66=\"LED\",G66=\"Smart Controller\"),-PMT(return_on_assests_pct,LED_lantern_lifespan,N66)*(1+'I_Global Inputs'!$G$54),IF(G66=\"LED20\",-PMT(return_on_assests_pct,LED_life_span_20yrs,N66),\nIF(G66=\"Traditional\",-PMT(return_on_assests_pct,trad_lantern_lifespan,N66),\n-PMT(return_on_assests_pct,pole_lifespan,N66))))","v":49.73198361355481},51.770994941710555,53.259234124652046,54.790255098210771,56.365287692664957,57.985597091710517,null,null,null,752.37441003515039,783.22176084659145,805.73670989743948,828.89888679115847,852.72689711640157,877.23988130891314,null,null,null,null,{"$f":"_xlfn.XLOOKUP($H66,'I_Asset number input'!$B$5:$B$239,'I_Asset number input'!J$5:J$239)","v":107.5},{"$f":"_xlfn.XLOOKUP($H66,'I_Asset number input'!$B$5:$B$239,'I_Asset number input'!K$5:K$239)","v":64.5},{"$f":"_xlfn.XLOOKUP($H66,'I_Asset number input'!$B$5:$B$239,'I_Asset number input'!L$5:L$239)","v":21.5},{"$f":"_xlfn.XLOOKUP($H66,'I_Asset number input'!$B$5:$B$239,'I_Asset number input'!M$5:M$239)","v":0},{"$f":"_xlfn.XLOOKUP($H66,'I_Asset number input'!$B$5:$B$239,'I_Asset number input'!N$5:N$239)","v":0},{"$f":"_xlfn.XLOOKUP($H66,'I_Asset number input'!$B$5:$B$239,'I_Asset number input'!O$5:O$239)","v":0},null,null,null,5346.1882384571418,3339.2291737403307,1145.073533680019,0,0,0]
[null,"250W SON","Major (Cat V)",null,null,"Luminaire","Traditional","250W SON",null,{"$f":"IF(ISBLANK(F67),0,\nIF(OR(F67=\"Luminaire\",F67=\"Smart Controller\",F67=\"NW\"),OFFSET(I_CAPEX!$AC$48,(MATCH('C_CAPEX Build Up'!H67,I_CAPEX!V$49:V$437,0)),0),\nIF('C_CAPEX Build Up'!F67=\"Bracket\",OFFSET(I_CAPEX!S$48,MATCH('C_CAPEX Build Up'!H67,I_CAPEX!L$49:L$130,0),0),\nOFFSET(I_CAPEX!I$48,MATCH('C_CAPEX Build Up'!H67,I_CAPEX!B$49:B$102,0),0))))","v":519.83165459750967},null,75.314371605110225,{"$f":"SUM(J67,L67)*I_CAPEX!$D$13","v":35.708761572157186},630.85478777477704,null,null,null,{"$f":"IF(OR(G67=\"LED\",G67=\"Smart Controller\"),-PMT(return_on_assests_pct,LED_lantern_lifespan,N67)*(1+'I_Global Inputs'!$G$54),IF(G67=\"LED20\",-PMT(return_on_assests_pct,LED_life_span_20yrs,N67),\nIF(G67=\"Traditional\",-PMT(return_on_assests_pct,trad_lantern_lifespan,N67),\n-PMT(return_on_assests_pct,pole_lifespan,N67))))","v":41.699530911321212},43.409211678685381,44.657078168281693,45.940816555008588,47.261458033320338,48.620063440987785,null,null,null,630.85478777477704,656.71983407354287,675.59828503596873,695.01942694855222,714.99886032152426,735.55263412647184,null,null,null,null,{"$f":"_xlfn.XLOOKUP($H67,'I_Asset number input'!$B$5:$B$239,'I_Asset number input'!J$5:J$239)","v":7494.166666666667},{"$f":"_xlfn.XLOOKUP($H67,'I_Asset number input'!$B$5:$B$239,'I_Asset number input'!K$5:K$239)","v":4496.5000000000009},{"$f":"_xlfn.XLOOKUP($H67,'I_Asset number input'!$B$5:$B$239,'I_Asset number input'!L$5:L$239)","v":1498.8333333333337},{"$f":"_xlfn.XLOOKUP($H67,'I_Asset number input'!$B$5:$B$239,'I_Asset number input'!M$5:M$239)","v":0},{"$f":"_xlfn.XLOOKUP($H67,'I_Asset number input'!$B$5:$B$239,'I_Asset number input'!N$5:N$239)","v":0},{"$f":"_xlfn.XLOOKUP($H67,'I_Asset number input'!$B$5:$B$239,'I_Asset number input'!O$5:O$239)","v":0},null,null,null,312503.2345712597,195189.52031320886,66933.5173278929,0,0,0]
[null,"250W SON - PARKVILLE","Major (Cat V)",null,null,"Luminaire","Traditional","250W SON - PARKVILLE",null,{"$f":"IF(ISBLANK(F68),0,\nIF(OR(F68=\"Luminaire\",F68=\"Smart Controller\",F68=\"NW\"),OFFSET(I_CAPEX!$AC$48,(MATCH('C_CAPEX Build Up'!H68,I_CAPEX!V$49:V$437,0)),0),\nIF('C_CAPEX Build Up'!F68=\"Bracket\",OFFSET(I_CAPEX!S$48,MATCH('C_CAPEX Build Up'!H68,I_CAPEX!L$49:L$130,0),0),\nOFFSET(I_CAPEX!I$48,MATCH('C_CAPEX Build Up'!H68,I_CAPEX!B$49:B$102,0),0))))","v":1658.8639846979947},null,75.314371605110225,{"$f":"SUM(J68,L68)*I_CAPEX!$D$13","v":104.05070137818629},1838.2290576812911,null,null,null,{"$f":"IF(OR(G68=\"LED\",G68=\"Smart Controller\"),-PMT(return_on_assests_pct,LED_lantern_lifespan,N68)*(1+'I_Global Inputs'!$G$54),IF(G68=\"LED20\",-PMT(return_on_assests_pct,LED_life_span_20yrs,N68),\nIF(G68=\"Traditional\",-PMT(return_on_assests_pct,trad_lantern_lifespan,N68),\n-PMT(return_on_assests_pct,pole_lifespan,N68))))","v":121.50702649535256},126.48881458166201,130.1249357393913,133.86558295436458,137.71376099352142,141.67256100058239,null,null,null,1838.2290576812911,1913.5964490462238,1968.6058074526975,2025.1964969249766,2083.4139753271797,2143.3050072816714,null,null,null,null,{"$f":"_xlfn.XLOOKUP($H68,'I_Asset number input'!$B$5:$B$239,'I_Asset number input'!J$5:J$239)","v":11},{"$f":"_xlfn.XLOOKUP($H68,'I_Asset number input'!$B$5:$B$239,'I_Asset number input'!K$5:K$239)","v":11},{"$f":"_xlfn.XLOOKUP($H68,'I_Asset number input'!$B$5:$B$239,'I_Asset number input'!L$5:L$239)","v":11},{"$f":"_xlfn.XLOOKUP($H68,'I_Asset number input'!$B$5:$B$239,'I_Asset number input'!M$5:M$239)","v":11},{"$f":"_xlfn.XLOOKUP($H68,'I_Asset number input'!$B$5:$B$239,'I_Asset number input'!N$5:N$239)","v":11},{"$f":"_xlfn.XLOOKUP($H68,'I_Asset number input'!$B$5:$B$239,'I_Asset number input'!O$5:O$239)","v":11},null,null,null,1336.5772914488782,1391.3769603982821,1431.3742931333043,1472.5214124980105,1514.8513709287356,1558.3981710064063]
[null,"250W SON - PARKWAY 1","Major (Cat V)",null,null,"Luminaire","Traditional","250W SON - PARKWAY 1",null,{"$f":"IF(ISBLANK(F69),0,\nIF(OR(F69=\"Luminaire\",F69=\"Smart Controller\",F69=\"NW\"),OFFSET(I_CAPEX!$AC$48,(MATCH('C_CAPEX Build Up'!H69,I_CAPEX!V$49:V$437,0)),0),\nIF('C_CAPEX Build Up'!F69=\"Bracket\",OFFSET(I_CAPEX!S$48,MATCH('C_CAPEX Build Up'!H69,I_CAPEX!L$49:L$130,0),0),\nOFFSET(I_CAPEX!I$48,MATCH('C_CAPEX Build Up'!H69,I_CAPEX!B$49:B$102,0),0))))","v":634.47280767333359},null,75.314371605110225,{"$f":"SUM(J69,L69)*I_CAPEX!$D$13","v":42.587230756706624},752.37441003515039,null,null,null,{"$f":"IF(OR(G69=\"LED\",G69=\"Smart Controller\"),-PMT(return_on_assests_pct,LED_lantern_lifespan,N69)*(1+'I_Global Inputs'!$G$54),IF(G69=\"LED20\",-PMT(return_on_assests_pct,LED_life_span_20yrs,N69),\nIF(G69=\"Traditional\",-PMT(return_on_assests_pct,trad_lantern_lifespan,N69),\n-PMT(return_on_assests_pct,pole_lifespan,N69))))","v":49.73198361355481},51.770994941710555,53.259234124652046,54.790255098210771,56.365287692664957,57.985597091710517,null,null,null,752.37441003515039,783.22176084659145,805.73670989743948,828.89888679115847,852.72689711640157,877.23988130891314,null,null,null,null,{"$f":"_xlfn.XLOOKUP($H69,'I_Asset number input'!$B$5:$B$239,'I_Asset number input'!J$5:J$239)","v":37},{"$f":"_xlfn.XLOOKUP($H69,'I_Asset number input'!$B$5:$B$239,'I_Asset number input'!K$5:K$239)","v":37},{"$f":"_xlfn.XLOOKUP($H69,'I_Asset number input'!$B$5:$B$239,'I_Asset number input'!L$5:L$239)","v":37},{"$f":"_xlfn.XLOOKUP($H69,'I_Asset number input'!$B$5:$B$239,'I_Asset number input'!M$5:M$239)","v":37},{"$f":"_xlfn.XLOOKUP($H69,'I_Asset number input'!$B$5:$B$239,'I_Asset number input'!N$5:N$239)","v":37},{"$f":"_xlfn.XLOOKUP($H69,'I_Asset number input'!$B$5:$B$239,'I_Asset number input'!O$5:O$239)","v":37},null,null,null,1840.0833937015279,1915.5268128432906,1970.5916626121257,2027.2394386337985,2085.5156446286032,2145.467092393289]
[null,"250W SON ACTIVE REACTOR","Major (Cat V)",null,null,"Luminaire","Traditional","250W SON ACTIVE REACTOR",null,{"$f":"IF(ISBLANK(F70),0,\nIF(OR(F70=\"Luminaire\",F70=\"Smart Controller\",F70=\"NW\"),OFFSET(I_CAPEX!$AC$48,(MATCH('C_CAPEX Build Up'!H70,I_CAPEX!V$49:V$437,0)),0),\nIF('C_CAPEX Build Up'!F70=\"Bracket\",OFFSET(I_CAPEX!S$48,MATCH('C_CAPEX Build Up'!H70,I_CAPEX!L$49:L$130,0),0),\nOFFSET(I_CAPEX!I$48,MATCH('C_CAPEX Build Up'!H70,I_CAPEX!B$49:B$102,0),0))))","v":799.18710806963225},null,75.314371605110225,{"$f":"SUM(J70,L70)*I_CAPEX!$D$13","v":52.470088780484545},926.97156845522693,null,null,null,{"$f":"IF(OR(G70=\"LED\",G70=\"Smart Controller\"),-PMT(return_on_assests_pct,LED_lantern_lifespan,N70)*(1+'I_Global Inputs'!$G$54),IF(G70=\"LED20\",-PMT(return_on_assests_pct,LED_life_span_20yrs,N70),\nIF(G70=\"Traditional\",-PMT(return_on_assests_pct,trad_lantern_lifespan,N70),\n-PMT(return_on_assests_pct,pole_lifespan,N70))))","v":61.272863932855962},63.785051354103054,65.618653602195664,67.504965648788641,69.445502720458975,71.441823601369634,null,null,null,926.97156845522693,964.9774027618912,992.71720538805857,1021.2544325420297,1050.6120074538692,1080.813512318168,null,null,null,null,{"$f":"_xlfn.XLOOKUP($H70,'I_Asset number input'!$B$5:$B$239,'I_Asset number input'!J$5:J$239)","v":3182.5},{"$f":"_xlfn.XLOOKUP($H70,'I_Asset number input'!$B$5:$B$239,'I_Asset number input'!K$5:K$239)","v":1909.5},{"$f":"_xlfn.XLOOKUP($H70,'I_Asset number input'!$B$5:$B$239,'I_Asset number input'!L$5:L$239)","v":636.5},{"$f":"_xlfn.XLOOKUP($H70,'I_Asset number input'!$B$5:$B$239,'I_Asset number input'!M$5:M$239)","v":0},{"$f":"_xlfn.XLOOKUP($H70,'I_Asset number input'!$B$5:$B$239,'I_Asset number input'!N$5:N$239)","v":0},{"$f":"_xlfn.XLOOKUP($H70,'I_Asset number input'!$B$5:$B$239,'I_Asset number input'!O$5:O$239)","v":0},null,null,null,195000.88946631411,121797.55556065978,41766.273017797539,0,0,0]
[null,"250W SON FLOODLIGHT","Major (Cat V)",null,null,"Luminaire","Traditional","250W SON FLOODLIGHT",null,{"$f":"IF(ISBLANK(F71),0,\nIF(OR(F71=\"Luminaire\",F71=\"Smart Controller\",F71=\"NW\"),OFFSET(I_CAPEX!$AC$48,(MATCH('C_CAPEX Build Up'!H71,I_CAPEX!V$49:V$437,0)),0),\nIF('C_CAPEX Build Up'!F71=\"Bracket\",OFFSET(I_CAPEX!S$48,MATCH('C_CAPEX Build Up'!H71,I_CAPEX!L$49:L$130,0),0),\nOFFSET(I_CAPEX!I$48,MATCH('C_CAPEX Build Up'!H71,I_CAPEX!B$49:B$102,0),0))))","v":621.29566364162974},null,75.314371605110225,{"$f":"SUM(J71,L71)*I_CAPEX!$D$13","v":41.796602114804394},738.40663736154431,null,null,null,{"$f":"IF(OR(G71=\"LED\",G71=\"Smart Controller\"),-PMT(return_on_assests_pct,LED_lantern_lifespan,N71)*(1+'I_Global Inputs'!$G$54),IF(G71=\"LED20\",-PMT(return_on_assests_pct,LED_life_span_20yrs,N71),\nIF(G71=\"Traditional\",-PMT(return_on_assests_pct,trad_lantern_lifespan,N71),\n-PMT(return_on_assests_pct,pole_lifespan,N71))))","v":48.808713188010721},50.809870428719158,52.270480566448562,53.773078254164552,55.318870490441448,56.909098970937798,null,null,null,738.40663736154431,768.68130949336762,790.7782702581901,813.51044313108889,836.89608828940425,860.95399082817278,null,null,null,null,{"$f":"_xlfn.XLOOKUP($H71,'I_Asset number input'!$B$5:$B$239,'I_Asset number input'!J$5:J$239)","v":1061},{"$f":"_xlfn.XLOOKUP($H71,'I_Asset number input'!$B$5:$B$239,'I_Asset number input'!K$5:K$239)","v":1061},{"$f":"_xlfn.XLOOKUP($H71,'I_Asset number input'!$B$5:$B$239,'I_Asset number input'!L$5:L$239)","v":884.16666666666663},{"$f":"_xlfn.XLOOKUP($H71,'I_Asset number input'!$B$5:$B$239,'I_Asset number input'!M$5:M$239)","v":530.49999999999989},{"$f":"_xlfn.XLOOKUP($H71,'I_Asset number input'!$B$5:$B$239,'I_Asset number input'!N$5:N$239)","v":176.83333333333329},{"$f":"_xlfn.XLOOKUP($H71,'I_Asset number input'!$B$5:$B$239,'I_Asset number input'!O$5:O$239)","v":0},null,null,null,51786.044692479372,53909.272524871027,46215.816567501599,28526.61801383429,9782.2202650597264,0]
[null,"250W SON GEC 'BOSTON 3'","Major (Cat V)",null,null,"Luminaire","Traditional","250W SON GEC 'BOSTON 3'",null,{"$f":"IF(ISBLANK(F72),0,\nIF(OR(F72=\"Luminaire\",F72=\"Smart Controller\",F72=\"NW\"),OFFSET(I_CAPEX!$AC$48,(MATCH('C_CAPEX Build Up'!H72,I_CAPEX!V$49:V$437,0)),0),\nIF('C_CAPEX Build Up'!F72=\"Bracket\",OFFSET(I_CAPEX!S$48,MATCH('C_CAPEX Build Up'!H72,I_CAPEX!L$49:L$130,0),0),\nOFFSET(I_CAPEX!I$48,MATCH('C_CAPEX Build Up'!H72,I_CAPEX!B$49:B$102,0),0))))","v":1420.0150719793296},null,75.314371605110225,{"$f":"SUM(J72,L72)*I_CAPEX!$D$13","v":89.719766615066391},1585.0492101995062,null,null,null,{"$f":"IF(OR(G72=\"LED\",G72=\"Smart Controller\"),-PMT(return_on_assests_pct,LED_lantern_lifespan,N72)*(1+'I_Global Inputs'!$G$54),IF(G72=\"LED20\",-PMT(return_on_assests_pct,LED_life_span_20yrs,N72),\nIF(G72=\"Traditional\",-PMT(return_on_assests_pct,trad_lantern_lifespan,N72),\n-PMT(return_on_assests_pct,pole_lifespan,N72))))","v":104.77182676194033},109.06747165917987,112.20278874339485,115.42823547918265,118.7464027860179,122.15995606345594,null,null,null,1585.0492101995062,1650.0362278176858,1697.4691305516606,1746.2655671425532,1796.4647345290246,1848.1069564277707,null,null,null,null,{"$f":"_xlfn.XLOOKUP($H72,'I_Asset number input'!$B$5:$B$239,'I_Asset number input'!J$5:J$239)","v":7},{"$f":"_xlfn.XLOOKUP($H72,'I_Asset number input'!$B$5:$B$239,'I_Asset number input'!K$5:K$239)","v":7},{"$f":"_xlfn.XLOOKUP($H72,'I_Asset number input'!$B$5:$B$239,'I_Asset number input'!L$5:L$239)","v":7},{"$f":"_xlfn.XLOOKUP($H72,'I_Asset number input'!$B$5:$B$239,'I_Asset number input'!M$5:M$239)","v":7},{"$f":"_xlfn.XLOOKUP($H72,'I_Asset number input'!$B$5:$B$239,'I_Asset number input'!N$5:N$239)","v":7},{"$f":"_xlfn.XLOOKUP($H72,'I_Asset number input'!$B$5:$B$239,'I_Asset number input'!O$5:O$239)","v":7},null,null,null,733.4027873335823,763.4723016142591,785.41952120376391,807.99764835427857,831.22481950212523,855.11969244419151]
[null,"2X14W TF - T5 PIERLIGHT","Minor (Cat P)",null,null,"Luminaire","Traditional","2X14W TF - T5 PIERLIGHT",null,{"$f":"IF(ISBLANK(F73),0,\nIF(OR(F73=\"Luminaire\",F73=\"Smart Controller\",F73=\"NW\"),OFFSET(I_CAPEX!$AC$48,(MATCH('C_CAPEX Build Up'!H73,I_CAPEX!V$49:V$437,0)),0),\nIF('C_CAPEX Build Up'!F73=\"Bracket\",OFFSET(I_CAPEX!S$48,MATCH('C_CAPEX Build Up'!H73,I_CAPEX!L$49:L$130,0),0),\nOFFSET(I_CAPEX!I$48,MATCH('C_CAPEX Build Up'!H73,I_CAPEX!B$49:B$102,0),0))))","v":468.1113642730719},null,0,{"$f":"SUM(J73,L73)*I_CAPEX!$D$13","v":28.086681856384313},496.1980461294562,null,null,null,{"$f":"IF(OR(G73=\"LED\",G73=\"Smart Controller\"),-PMT(return_on_assests_pct,LED_lantern_lifespan,N73)*(1+'I_Global Inputs'!$G$54),IF(G73=\"LED20\",-PMT(return_on_assests_pct,LED_life_span_20yrs,N73),\nIF(G73=\"Traditional\",-PMT(return_on_assests_pct,trad_lantern_lifespan,N73),\n-PMT(return_on_assests_pct,pole_lifespan,N73))))","v":32.798714004687035},34.143461278879201,35.124969109155309,36.134691935357715,37.173440842197678,38.242050230300123,null,null,null,496.1980461294562,516.54216602076383,531.39098806830418,546.66666300550901,562.38146139423372,578.54800653305392,null,null,null,null,{"$f":"_xlfn.XLOOKUP($H73,'I_Asset number input'!$B$5:$B$239,'I_Asset number input'!J$5:J$239)","v":0},{"$f":"_xlfn.XLOOKUP($H73,'I_Asset number input'!$B$5:$B$239,'I_Asset number input'!K$5:K$239)","v":0},{"$f":"_xlfn.XLOOKUP($H73,'I_Asset number input'!$B$5:$B$239,'I_Asset number input'!L$5:L$239)","v":0},{"$f":"_xlfn.XLOOKUP($H73,'I_Asset number input'!$B$5:$B$239,'I_Asset number input'!M$5:M$239)","v":0},{"$f":"_xlfn.XLOOKUP($H73,'I_Asset number input'!$B$5:$B$239,'I_Asset number input'!N$5:N$239)","v":0},{"$f":"_xlfn.XLOOKUP($H73,'I_Asset number input'!$B$5:$B$239,'I_Asset number input'!O$5:O$239)","v":0},null,null,null,0,0,0,0,0,0]
[null,"2x14W TF - T5 PIERLITE M","Minor (Cat P)",null,null,"Luminaire","Traditional","2x14W TF - T5 PIERLITE M",null,{"$f":"IF(ISBLANK(F74),0,\nIF(OR(F74=\"Luminaire\",F74=\"Smart Controller\",F74=\"NW\"),OFFSET(I_CAPEX!$AC$48,(MATCH('C_CAPEX Build Up'!H74,I_CAPEX!V$49:V$437,0)),0),\nIF('C_CAPEX Build Up'!F74=\"Bracket\",OFFSET(I_CAPEX!S$48,MATCH('C_CAPEX Build Up'!H74,I_CAPEX!L$49:L$130,0),0),\nOFFSET(I_CAPEX!I$48,MATCH('C_CAPEX Build Up'!H74,I_CAPEX!B$49:B$102,0),0))))","v":468.1113642730719},null,0,{"$f":"SUM(J74,L74)*I_CAPEX!$D$13","v":28.086681856384313},496.1980461294562,null,null,null,{"$f":"IF(OR(G74=\"LED\",G74=\"Smart Controller\"),-PMT(return_on_assests_pct,LED_lantern_lifespan,N74)*(1+'I_Global Inputs'!$G$54),IF(G74=\"LED20\",-PMT(return_on_assests_pct,LED_life_span_20yrs,N74),\nIF(G74=\"Traditional\",-PMT(return_on_assests_pct,trad_lantern_lifespan,N74),\n-PMT(return_on_assests_pct,pole_lifespan,N74))))","v":32.798714004687035},34.143461278879201,35.124969109155309,36.134691935357715,37.173440842197678,38.242050230300123,null,null,null,496.1980461294562,516.54216602076383,531.39098806830418,546.66666300550901,562.38146139423372,578.54800653305392,null,null,null,null,{"$f":"_xlfn.XLOOKUP($H74,'I_Asset number input'!$B$5:$B$239,'I_Asset number input'!J$5:J$239)","v":0},{"$f":"_xlfn.XLOOKUP($H74,'I_Asset number input'!$B$5:$B$239,'I_Asset number input'!K$5:K$239)","v":0},{"$f":"_xlfn.XLOOKUP($H74,'I_Asset number input'!$B$5:$B$239,'I_Asset number input'!L$5:L$239)","v":0},{"$f":"_xlfn.XLOOKUP($H74,'I_Asset number input'!$B$5:$B$239,'I_Asset number input'!M$5:M$239)","v":0},{"$f":"_xlfn.XLOOKUP($H74,'I_Asset number input'!$B$5:$B$239,'I_Asset number input'!N$5:N$239)","v":0},{"$f":"_xlfn.XLOOKUP($H74,'I_Asset number input'!$B$5:$B$239,'I_Asset number input'!O$5:O$239)","v":0},null,null,null,0,0,0,0,0,0]
[null,"2x250W SON FLOODLIGHT","Major (Cat V)",null,null,"Luminaire","Traditional","2x250W SON FLOODLIGHT",null,{"$f":"IF(ISBLANK(F75),0,\nIF(OR(F75=\"Luminaire\",F75=\"Smart Controller\",F75=\"NW\"),OFFSET(I_CAPEX!$AC$48,(MATCH('C_CAPEX Build Up'!H75,I_CAPEX!V$49:V$437,0)),0),\nIF('C_CAPEX Build Up'!F75=\"Bracket\",OFFSET(I_CAPEX!S$48,MATCH('C_CAPEX Build Up'!H75,I_CAPEX!L$49:L$130,0),0),\nOFFSET(I_CAPEX!I$48,MATCH('C_CAPEX Build Up'!H75,I_CAPEX!B$49:B$102,0),0))))","v":904.60426032326359},null,75.314371605110225,{"$f":"SUM(J75,L75)*I_CAPEX!$D$13","v":58.795117915702427},1038.7137498440761,null,null,null,{"$f":"IF(OR(G75=\"LED\",G75=\"Smart Controller\"),-PMT(return_on_assests_pct,LED_lantern_lifespan,N75)*(1+'I_Global Inputs'!$G$54),IF(G75=\"LED20\",-PMT(return_on_assests_pct,LED_life_span_20yrs,N75),\nIF(G75=\"Traditional\",-PMT(return_on_assests_pct,trad_lantern_lifespan,N75),\n-PMT(return_on_assests_pct,pole_lifespan,N75))))","v":68.659027337208713},71.474047458034264,73.528682067823581,75.642380401158462,77.816840338247133,80.053808567551457,null,null,null,1038.7137498440761,1081.3010135876832,1112.384722502055,1144.3619818225875,1177.2584780698485,1211.1006361640914,null,null,null,null,{"$f":"_xlfn.XLOOKUP($H75,'I_Asset number input'!$B$5:$B$239,'I_Asset number input'!J$5:J$239)","v":5.833333333333333},{"$f":"_xlfn.XLOOKUP($H75,'I_Asset number input'!$B$5:$B$239,'I_Asset number input'!K$5:K$239)","v":3.4999999999999991},{"$f":"_xlfn.XLOOKUP($H75,'I_Asset number input'!$B$5:$B$239,'I_Asset number input'!L$5:L$239)","v":1.1666666666666663},{"$f":"_xlfn.XLOOKUP($H75,'I_Asset number input'!$B$5:$B$239,'I_Asset number input'!M$5:M$239)","v":0},{"$f":"_xlfn.XLOOKUP($H75,'I_Asset number input'!$B$5:$B$239,'I_Asset number input'!N$5:N$239)","v":0},{"$f":"_xlfn.XLOOKUP($H75,'I_Asset number input'!$B$5:$B$239,'I_Asset number input'!O$5:O$239)","v":0},null,null,null,400.51099280038414,250.15916610311987,85.783462412460821,0,0,0]
[null,"2x400W SON FLOODLIGHT","Major (Cat V)",null,null,"Luminaire","Traditional","2x400W SON FLOODLIGHT",null,{"$f":"IF(ISBLANK(F76),0,\nIF(OR(F76=\"Luminaire\",F76=\"Smart Controller\",F76=\"NW\"),OFFSET(I_CAPEX!$AC$48,(MATCH('C_CAPEX Build Up'!H76,I_CAPEX!V$49:V$437,0)),0),\nIF('C_CAPEX Build Up'!F76=\"Bracket\",OFFSET(I_CAPEX!S$48,MATCH('C_CAPEX Build Up'!H76,I_CAPEX!L$49:L$130,0),0),\nOFFSET(I_CAPEX!I$48,MATCH('C_CAPEX Build Up'!H76,I_CAPEX!B$49:B$102,0),0))))","v":1878.1580156736106},null,75.314371605110225,{"$f":"SUM(J76,L76)*I_CAPEX!$D$13","v":117.20834323672324},2070.6807305154439,null,null,null,{"$f":"IF(OR(G76=\"LED\",G76=\"Smart Controller\"),-PMT(return_on_assests_pct,LED_lantern_lifespan,N76)*(1+'I_Global Inputs'!$G$54),IF(G76=\"LED20\",-PMT(return_on_assests_pct,LED_life_span_20yrs,N76),\nIF(G76=\"Traditional\",-PMT(return_on_assests_pct,trad_lantern_lifespan,N76),\n-PMT(return_on_assests_pct,pole_lifespan,N76))))","v":136.87209291725733},142.48384872686486,146.57977245501374,150.79343999298189,155.1282360729252,159.5876427264821,null,null,null,2070.6807305154439,2155.5786404665769,2217.5441599290875,2281.2909763158559,2346.8702958260697,2414.3347966621518,null,null,null,null,{"$f":"_xlfn.XLOOKUP($H76,'I_Asset number input'!$B$5:$B$239,'I_Asset number input'!J$5:J$239)","v":6.666666666666667},{"$f":"_xlfn.XLOOKUP($H76,'I_Asset number input'!$B$5:$B$239,'I_Asset number input'!K$5:K$239)","v":4.0000000000000009},{"$f":"_xlfn.XLOOKUP($H76,'I_Asset number input'!$B$5:$B$239,'I_Asset number input'!L$5:L$239)","v":1.3333333333333337},{"$f":"_xlfn.XLOOKUP($H76,'I_Asset number input'!$B$5:$B$239,'I_Asset number input'!M$5:M$239)","v":0},{"$f":"_xlfn.XLOOKUP($H76,'I_Asset number input'!$B$5:$B$239,'I_Asset number input'!N$5:N$239)","v":0},{"$f":"_xlfn.XLOOKUP($H76,'I_Asset number input'!$B$5:$B$239,'I_Asset number input'!O$5:O$239)","v":0},null,null,null,912.4806194483823,569.93539490745957,195.43969660668503,0,0,0]
[null,"2x80W MBF - BOURKE HILL","Minor (Cat P)",null,null,"Luminaire","Traditional","2x80W MBF - BOURKE HILL",null,{"$f":"IF(ISBLANK(F77),0,\nIF(OR(F77=\"Luminaire\",F77=\"Smart Controller\",F77=\"NW\"),OFFSET(I_CAPEX!$AC$48,(MATCH('C_CAPEX Build Up'!H77,I_CAPEX!V$49:V$437,0)),0),\nIF('C_CAPEX Build Up'!F77=\"Bracket\",OFFSET(I_CAPEX!S$48,MATCH('C_CAPEX Build Up'!H77,I_CAPEX!L$49:L$130,0),0),\nOFFSET(I_CAPEX!I$48,MATCH('C_CAPEX Build Up'!H77,I_CAPEX!B$49:B$102,0),0))))","v":963.9014084659309},null,0,{"$f":"SUM(J77,L77)*I_CAPEX!$D$13","v":57.834084507955851},1021.7354929738867,null,null,null,{"$f":"IF(OR(G77=\"LED\",G77=\"Smart Controller\"),-PMT(return_on_assests_pct,LED_lantern_lifespan,N77)*(1+'I_Global Inputs'!$G$54),IF(G77=\"LED20\",-PMT(return_on_assests_pct,LED_life_span_20yrs,N77),\nIF(G77=\"Traditional\",-PMT(return_on_assests_pct,trad_lantern_lifespan,N77),\n-PMT(return_on_assests_pct,pole_lifespan,N77))))","v":67.53676376578349},70.305771080180605,72.32682173656157,74.405970692597037,76.5448880758576,78.745292024373995,null,null,null,1021.7354929738867,1063.6266481858161,1094.2022794950674,1125.6568557156311,1158.0156435100107,1191.3046358709109,null,null,null,null,{"$f":"_xlfn.XLOOKUP($H77,'I_Asset number input'!$B$5:$B$239,'I_Asset number input'!J$5:J$239)","v":3.3333333333333335},{"$f":"_xlfn.XLOOKUP($H77,'I_Asset number input'!$B$5:$B$239,'I_Asset number input'!K$5:K$239)","v":2.0000000000000004},{"$f":"_xlfn.XLOOKUP($H77,'I_Asset number input'!$B$5:$B$239,'I_Asset number input'!L$5:L$239)","v":0.66666666666666685},{"$f":"_xlfn.XLOOKUP($H77,'I_Asset number input'!$B$5:$B$239,'I_Asset number input'!M$5:M$239)","v":0},{"$f":"_xlfn.XLOOKUP($H77,'I_Asset number input'!$B$5:$B$239,'I_Asset number input'!N$5:N$239)","v":0},{"$f":"_xlfn.XLOOKUP($H77,'I_Asset number input'!$B$5:$B$239,'I_Asset number input'!O$5:O$239)","v":0},null,null,null,225.12254588594499,140.61154216036124,48.21788115770773,0,0,0]
[null,"400W MBF","Major (Cat V)",null,null,"Luminaire","Traditional","400W MBF",null,{"$f":"IF(ISBLANK(F78),0,\nIF(OR(F78=\"Luminaire\",F78=\"Smart Controller\",F78=\"NW\"),OFFSET(I_CAPEX!$AC$48,(MATCH('C_CAPEX Build Up'!H78,I_CAPEX!V$49:V$437,0)),0),\nIF('C_CAPEX Build Up'!F78=\"Bracket\",OFFSET(I_CAPEX!S$48,MATCH('C_CAPEX Build Up'!H78,I_CAPEX!L$49:L$130,0),0),\nOFFSET(I_CAPEX!I$48,MATCH('C_CAPEX Build Up'!H78,I_CAPEX!B$49:B$102,0),0))))","v":392.93575757220117},null,75.314371605110225,{"$f":"SUM(J78,L78)*I_CAPEX!$D$13","v":28.095007750638683},496.34513692795008,null,null,null,{"$f":"IF(OR(G78=\"LED\",G78=\"Smart Controller\"),-PMT(return_on_assests_pct,LED_lantern_lifespan,N78)*(1+'I_Global Inputs'!$G$54),IF(G78=\"LED20\",-PMT(return_on_assests_pct,LED_life_span_20yrs,N78),\nIF(G78=\"Traditional\",-PMT(return_on_assests_pct,trad_lantern_lifespan,N78),\n-PMT(return_on_assests_pct,pole_lifespan,N78))))","v":32.808436713331602},34.153582618578199,35.135381402782095,36.145403546843411,37.184460375907847,38.253386537946426,null,null,null,496.34513692795008,516.69528754199598,531.54851130999589,546.82871450208108,562.5481713175393,578.71950879694191,null,null,null,null,{"$f":"_xlfn.XLOOKUP($H78,'I_Asset number input'!$B$5:$B$239,'I_Asset number input'!J$5:J$239)","v":411.66666666666669},{"$f":"_xlfn.XLOOKUP($H78,'I_Asset number input'!$B$5:$B$239,'I_Asset number input'!K$5:K$239)","v":247.00000000000006},{"$f":"_xlfn.XLOOKUP($H78,'I_Asset number input'!$B$5:$B$239,'I_Asset number input'!L$5:L$239)","v":82.333333333333357},{"$f":"_xlfn.XLOOKUP($H78,'I_Asset number input'!$B$5:$B$239,'I_Asset number input'!M$5:M$239)","v":0},{"$f":"_xlfn.XLOOKUP($H78,'I_Asset number input'!$B$5:$B$239,'I_Asset number input'!N$5:N$239)","v":0},{"$f":"_xlfn.XLOOKUP($H78,'I_Asset number input'!$B$5:$B$239,'I_Asset number input'!O$5:O$239)","v":0},null,null,null,13506.13978032151,8435.9349067888161,2892.8130688290598,0,0,0]
[null,"400W MBF - B2229","Major (Cat V)",null,null,"Luminaire","Traditional","400W MBF - B2229",null,{"$f":"IF(ISBLANK(F79),0,\nIF(OR(F79=\"Luminaire\",F79=\"Smart Controller\",F79=\"NW\"),OFFSET(I_CAPEX!$AC$48,(MATCH('C_CAPEX Build Up'!H79,I_CAPEX!V$49:V$437,0)),0),\nIF('C_CAPEX Build Up'!F79=\"Bracket\",OFFSET(I_CAPEX!S$48,MATCH('C_CAPEX Build Up'!H79,I_CAPEX!L$49:L$130,0),0),\nOFFSET(I_CAPEX!I$48,MATCH('C_CAPEX Build Up'!H79,I_CAPEX!B$49:B$102,0),0))))","v":392.93575757220117},null,75.314371605110225,{"$f":"SUM(J79,L79)*I_CAPEX!$D$13","v":28.095007750638683},496.34513692795008,null,null,null,{"$f":"IF(OR(G79=\"LED\",G79=\"Smart Controller\"),-PMT(return_on_assests_pct,LED_lantern_lifespan,N79)*(1+'I_Global Inputs'!$G$54),IF(G79=\"LED20\",-PMT(return_on_assests_pct,LED_life_span_20yrs,N79),\nIF(G79=\"Traditional\",-PMT(return_on_assests_pct,trad_lantern_lifespan,N79),\n-PMT(return_on_assests_pct,pole_lifespan,N79))))","v":32.808436713331602},34.153582618578199,35.135381402782095,36.145403546843411,37.184460375907847,38.253386537946426,null,null,null,496.34513692795008,516.69528754199598,531.54851130999589,546.82871450208108,562.5481713175393,578.71950879694191,null,null,null,null,{"$f":"_xlfn.XLOOKUP($H79,'I_Asset number input'!$B$5:$B$239,'I_Asset number input'!J$5:J$239)","v":70.833333333333343},{"$f":"_xlfn.XLOOKUP($H79,'I_Asset number input'!$B$5:$B$239,'I_Asset number input'!K$5:K$239)","v":42.500000000000007},{"$f":"_xlfn.XLOOKUP($H79,'I_Asset number input'!$B$5:$B$239,'I_Asset number input'!L$5:L$239)","v":14.16666666666667},{"$f":"_xlfn.XLOOKUP($H79,'I_Asset number input'!$B$5:$B$239,'I_Asset number input'!M$5:M$239)","v":0},{"$f":"_xlfn.XLOOKUP($H79,'I_Asset number input'!$B$5:$B$239,'I_Asset number input'!N$5:N$239)","v":0},{"$f":"_xlfn.XLOOKUP($H79,'I_Asset number input'!$B$5:$B$239,'I_Asset number input'!O$5:O$239)","v":0},null,null,null,2323.9309338609887,1451.5272612895737,497.75123653941313,0,0,0]
[null,"400W MBF - PARKWAY 1","Major (Cat V)",null,null,"Luminaire","Traditional","400W MBF - PARKWAY 1",null,{"$f":"IF(ISBLANK(F80),0,\nIF(OR(F80=\"Luminaire\",F80=\"Smart Controller\",F80=\"NW\"),OFFSET(I_CAPEX!$AC$48,(MATCH('C_CAPEX Build Up'!H80,I_CAPEX!V$49:V$437,0)),0),\nIF('C_CAPEX Build Up'!F80=\"Bracket\",OFFSET(I_CAPEX!S$48,MATCH('C_CAPEX Build Up'!H80,I_CAPEX!L$49:L$130,0),0),\nOFFSET(I_CAPEX!I$48,MATCH('C_CAPEX Build Up'!H80,I_CAPEX!B$49:B$102,0),0))))","v":864.22101710471452},null,75.314371605110225,{"$f":"SUM(J80,L80)*I_CAPEX!$D$13","v":56.372123322589481},995.90751203241416,null,null,null,{"$f":"IF(OR(G80=\"LED\",G80=\"Smart Controller\"),-PMT(return_on_assests_pct,LED_lantern_lifespan,N80)*(1+'I_Global Inputs'!$G$54),IF(G80=\"LED20\",-PMT(return_on_assests_pct,LED_life_span_20yrs,N80),\nIF(G80=\"Traditional\",-PMT(return_on_assests_pct,trad_lantern_lifespan,N80),\n-PMT(return_on_assests_pct,pole_lifespan,N80))))","v":65.829533020266112},68.528543874097011,70.498505321779916,72.52509642895896,74.60994510481909,76.754726055371108,null,null,null,995.90751203241416,1036.7397200257431,1066.5424440334868,1097.2018945089499,1128.7426994103112,1161.1901946653843,null,null,null,null,{"$f":"_xlfn.XLOOKUP($H80,'I_Asset number input'!$B$5:$B$239,'I_Asset number input'!J$5:J$239)","v":60.833333333333336},{"$f":"_xlfn.XLOOKUP($H80,'I_Asset number input'!$B$5:$B$239,'I_Asset number input'!K$5:K$239)","v":36.500000000000007},{"$f":"_xlfn.XLOOKUP($H80,'I_Asset number input'!$B$5:$B$239,'I_Asset number input'!L$5:L$239)","v":12.16666666666667},{"$f":"_xlfn.XLOOKUP($H80,'I_Asset number input'!$B$5:$B$239,'I_Asset number input'!M$5:M$239)","v":0},{"$f":"_xlfn.XLOOKUP($H80,'I_Asset number input'!$B$5:$B$239,'I_Asset number input'!N$5:N$239)","v":0},{"$f":"_xlfn.XLOOKUP($H80,'I_Asset number input'!$B$5:$B$239,'I_Asset number input'!O$5:O$239)","v":0},null,null,null,4004.6299253995221,2501.2918514045414,857.73181474832256,0,0,0]
[null,"400W MBF FLOODLIGHT","Major (Cat V)",null,null,"Luminaire","Traditional","400W MBF FLOODLIGHT",null,{"$f":"IF(ISBLANK(F81),0,\nIF(OR(F81=\"Luminaire\",F81=\"Smart Controller\",F81=\"NW\"),OFFSET(I_CAPEX!$AC$48,(MATCH('C_CAPEX Build Up'!H81,I_CAPEX!V$49:V$437,0)),0),\nIF('C_CAPEX Build Up'!F81=\"Bracket\",OFFSET(I_CAPEX!S$48,MATCH('C_CAPEX Build Up'!H81,I_CAPEX!L$49:L$130,0),0),\nOFFSET(I_CAPEX!I$48,MATCH('C_CAPEX Build Up'!H81,I_CAPEX!B$49:B$102,0),0))))","v":956.34177176936066},null,75.314371605110225,{"$f":"SUM(J81,L81)*I_CAPEX!$D$13","v":61.899368602468257},1093.5555119769392,null,null,null,{"$f":"IF(OR(G81=\"LED\",G81=\"Smart Controller\"),-PMT(return_on_assests_pct,LED_lantern_lifespan,N81)*(1+'I_Global Inputs'!$G$54),IF(G81=\"LED20\",-PMT(return_on_assests_pct,LED_life_span_20yrs,N81),\nIF(G81=\"Traditional\",-PMT(return_on_assests_pct,trad_lantern_lifespan,N81),\n-PMT(return_on_assests_pct,pole_lifespan,N81))))","v":72.284070373431319},75.247717258742,77.410831979203707,79.636128855674059,81.925395412637698,84.280470559799511,null,null,null,1093.5555119769392,1138.3912879679935,1171.1161471711189,1204.7817342427577,1239.4150918942967,1275.0440402226591,null,null,null,null,{"$f":"_xlfn.XLOOKUP($H81,'I_Asset number input'!$B$5:$B$239,'I_Asset number input'!J$5:J$239)","v":28},{"$f":"_xlfn.XLOOKUP($H81,'I_Asset number input'!$B$5:$B$239,'I_Asset number input'!K$5:K$239)","v":28},{"$f":"_xlfn.XLOOKUP($H81,'I_Asset number input'!$B$5:$B$239,'I_Asset number input'!L$5:L$239)","v":23.333333333333332},{"$f":"_xlfn.XLOOKUP($H81,'I_Asset number input'!$B$5:$B$239,'I_Asset number input'!M$5:M$239)","v":13.999999999999996},{"$f":"_xlfn.XLOOKUP($H81,'I_Asset number input'!$B$5:$B$239,'I_Asset number input'!N$5:N$239)","v":4.6666666666666652},{"$f":"_xlfn.XLOOKUP($H81,'I_Asset number input'!$B$5:$B$239,'I_Asset number input'!O$5:O$239)","v":0},null,null,null,2023.9539704560771,2106.936083244776,1806.2527461814198,1114.9058039794365,382.3185119256425,0]
[null,"400W MBI FLOODLIGHT","Major (Cat V)",null,null,"Luminaire","Traditional","400W MBI FLOODLIGHT",null,{"$f":"IF(ISBLANK(F82),0,\nIF(OR(F82=\"Luminaire\",F82=\"Smart Controller\",F82=\"NW\"),OFFSET(I_CAPEX!$AC$48,(MATCH('C_CAPEX Build Up'!H82,I_CAPEX!V$49:V$437,0)),0),\nIF('C_CAPEX Build Up'!F82=\"Bracket\",OFFSET(I_CAPEX!S$48,MATCH('C_CAPEX Build Up'!H82,I_CAPEX!L$49:L$130,0),0),\nOFFSET(I_CAPEX!I$48,MATCH('C_CAPEX Build Up'!H82,I_CAPEX!B$49:B$102,0),0))))","v":736.99098823998986},null,75.314371605110225,{"$f":"SUM(J82,L82)*I_CAPEX!$D$13","v":48.738321590706001},861.04368143580609,null,null,null,{"$f":"IF(OR(G82=\"LED\",G82=\"Smart Controller\"),-PMT(return_on_assests_pct,LED_lantern_lifespan,N82)*(1+'I_Global Inputs'!$G$54),IF(G82=\"LED20\",-PMT(return_on_assests_pct,LED_life_span_20yrs,N82),\nIF(G82=\"Traditional\",-PMT(return_on_assests_pct,trad_lantern_lifespan,N82),\n-PMT(return_on_assests_pct,pole_lifespan,N82))))","v":56.915027524287858},59.248543652783653,60.9517368074752,62.703890944890439,64.50641352596395,66.360752471322343,null,null,null,861.04368143580609,896.34647237467402,922.11337029080084,948.62097846650079,975.89058979044137,1003.9441092490733,null,null,null,null,{"$f":"_xlfn.XLOOKUP($H82,'I_Asset number input'!$B$5:$B$239,'I_Asset number input'!J$5:J$239)","v":53},{"$f":"_xlfn.XLOOKUP($H82,'I_Asset number input'!$B$5:$B$239,'I_Asset number input'!K$5:K$239)","v":53},{"$f":"_xlfn.XLOOKUP($H82,'I_Asset number input'!$B$5:$B$239,'I_Asset number input'!L$5:L$239)","v":44.166666666666664},{"$f":"_xlfn.XLOOKUP($H82,'I_Asset number input'!$B$5:$B$239,'I_Asset number input'!M$5:M$239)","v":26.499999999999993},{"$f":"_xlfn.XLOOKUP($H82,'I_Asset number input'!$B$5:$B$239,'I_Asset number input'!N$5:N$239)","v":8.8333333333333304},{"$f":"_xlfn.XLOOKUP($H82,'I_Asset number input'!$B$5:$B$239,'I_Asset number input'!O$5:O$239)","v":0},null,null,null,3016.4964587872564,3140.1728135975336,{"$f":"IFERROR(T82*AM82,0)","v":2692.0350423301547},{"$f":"IFERROR(U82*AN82,0)","v":1661.6531100395962},{"$f":"IFERROR(V82*AO82,0)","v":569.80665281268136},{"$f":"IFERROR(W82*AP82,0)","v":0}]
[null,{"$f":"H83","v":"400W SON"},"Major (Cat V)",null,null,{"$f":"IF(OR(G83=\"Bracket\",G83=\"Support\",G83=\"Smart Controller\"),G83,\"Luminaire\")","v":"Luminaire"},"Traditional","400W SON",null,{"$f":"IF(ISBLANK(F83),0,\nIF(OR(F83=\"Luminaire\",F83=\"Smart Controller\",F83=\"NW\"),OFFSET(I_CAPEX!$AC$48,(MATCH('C_CAPEX Build Up'!H83,I_CAPEX!V$49:V$437,0)),0),\nIF('C_CAPEX Build Up'!F83=\"Bracket\",OFFSET(I_CAPEX!S$48,MATCH('C_CAPEX Build Up'!H83,I_CAPEX!L$49:L$130,0),0),\nOFFSET(I_CAPEX!I$48,MATCH('C_CAPEX Build Up'!H83,I_CAPEX!B$49:B$102,0),0))))","v":571.2225163211549},null,75.314371605110225,{"$f":"SUM(J83,L83)*I_CAPEX!$D$13","v":38.792213275575904},{"$f":"SUM(J83:M83)","v":685.32910120184101},null,null,null,{"$f":"IF(OR(G83=\"LED\",G83=\"Smart Controller\"),-PMT(return_on_assests_pct,LED_lantern_lifespan,N83)*(1+'I_Global Inputs'!$G$54),IF(G83=\"LED20\",-PMT(return_on_assests_pct,LED_life_span_20yrs,N83),\nIF(G83=\"Traditional\",-PMT(return_on_assests_pct,trad_lantern_lifespan,N83),\n-PMT(return_on_assests_pct,pole_lifespan,N83))))","v":45.300285570943174},{"$f":"R83*(1+CPIFY25)","v":47.15759727935184},{"$f":"S83*(1+CPIFY26)","v":48.513217045275304},{"$f":"T83*(1+CPIFY27)","v":49.907806246788887},{"$f":"U83*(1+CPIFY28)","v":51.342485121992077},{"$f":"V83*(1+CPIFY29)","v":52.818406112001441},null,null,null,{"$f":"N83","v":685.32910120184101},{"$f":"AA83*(1+CPIFY25)","v":713.42759435111645},{"$f":"AB83*(1+CPIFY26)","v":733.93619962904188},{"$f":"AC83*(1+CPIFY27)","v":755.03435722282404},{"$f":"AD83*(1+CPIFY28)","v":776.73901474681406},{"$f":"AE83*(1+CPIFY29)","v":799.06760700135931},null,null,null,null,{"$f":"_xlfn.XLOOKUP($H83,'I_Asset number input'!$B$5:$B$239,'I_Asset number input'!J$5:J$239)","v":559.16666666666674},{"$f":"_xlfn.XLOOKUP($H83,'I_Asset number input'!$B$5:$B$239,'I_Asset number input'!K$5:K$239)","v":335.50000000000006},{"$f":"_xlfn.XLOOKUP($H83,'I_Asset number input'!$B$5:$B$239,'I_Asset number input'!L$5:L$239)","v":111.83333333333336},{"$f":"_xlfn.XLOOKUP($H83,'I_Asset number input'!$B$5:$B$239,'I_Asset number input'!M$5:M$239)","v":0},{"$f":"_xlfn.XLOOKUP($H83,'I_Asset number input'!$B$5:$B$239,'I_Asset number input'!N$5:N$239)","v":0},{"$f":"_xlfn.XLOOKUP($H83,'I_Asset number input'!$B$5:$B$239,'I_Asset number input'!O$5:O$239)","v":0},null,null,null,25330.409681752393,{"$f":"IFERROR(S83*AL83,0)","v":15821.373887222546},5425.3947728966223,0,0,0]
[null,"400W SON - PARKWAY 1","Major (Cat V)",null,null,"Luminaire","Traditional","400W SON - PARKWAY 1",null,{"$f":"IF(ISBLANK(F84),0,\nIF(OR(F84=\"Luminaire\",F84=\"Smart Controller\",F84=\"NW\"),OFFSET(I_CAPEX!$AC$48,(MATCH('C_CAPEX Build Up'!H84,I_CAPEX!V$49:V$437,0)),0),\nIF('C_CAPEX Build Up'!F84=\"Bracket\",OFFSET(I_CAPEX!S$48,MATCH('C_CAPEX Build Up'!H84,I_CAPEX!L$49:L$130,0),0),\nOFFSET(I_CAPEX!I$48,MATCH('C_CAPEX Build Up'!H84,I_CAPEX!B$49:B$102,0),0))))","v":634.47280767333359},null,75.314371605110225,{"$f":"SUM(J84,L84)*I_CAPEX!$D$13","v":42.587230756706624},752.37441003515039,null,null,null,{"$f":"IF(OR(G84=\"LED\",G84=\"Smart Controller\"),-PMT(return_on_assests_pct,LED_lantern_lifespan,N84)*(1+'I_Global Inputs'!$G$54),IF(G84=\"LED20\",-PMT(return_on_assests_pct,LED_life_span_20yrs,N84),\nIF(G84=\"Traditional\",-PMT(return_on_assests_pct,trad_lantern_lifespan,N84),\n-PMT(return_on_assests_pct,pole_lifespan,N84))))","v":49.73198361355481},51.770994941710555,53.259234124652046,54.790255098210771,56.365287692664957,57.985597091710517,null,null,null,752.37441003515039,783.22176084659145,805.73670989743948,828.89888679115847,852.72689711640157,877.23988130891314,null,null,null,null,{"$f":"_xlfn.XLOOKUP($H84,'I_Asset number input'!$B$5:$B$239,'I_Asset number input'!J$5:J$239)","v":4.1666666666666661},{"$f":"_xlfn.XLOOKUP($H84,'I_Asset number input'!$B$5:$B$239,'I_Asset number input'!K$5:K$239)","v":2.4999999999999996},{"$f":"_xlfn.XLOOKUP($H84,'I_Asset number input'!$B$5:$B$239,'I_Asset number input'!L$5:L$239)","v":0.83333333333333315},{"$f":"_xlfn.XLOOKUP($H84,'I_Asset number input'!$B$5:$B$239,'I_Asset number input'!M$5:M$239)","v":0},{"$f":"_xlfn.XLOOKUP($H84,'I_Asset number input'!$B$5:$B$239,'I_Asset number input'!N$5:N$239)","v":0},{"$f":"_xlfn.XLOOKUP($H84,'I_Asset number input'!$B$5:$B$239,'I_Asset number input'!O$5:O$239)","v":0},null,null,null,207.21659838981168,129.42748735427637,44.382695103876692,0,0,0]
[null,"400W SON ACTIVE REACTOR","Major (Cat V)",null,null,"Luminaire","Traditional","400W SON ACTIVE REACTOR",null,{"$f":"IF(ISBLANK(F85),0,\nIF(OR(F85=\"Luminaire\",F85=\"Smart Controller\",F85=\"NW\"),OFFSET(I_CAPEX!$AC$48,(MATCH('C_CAPEX Build Up'!H85,I_CAPEX!V$49:V$437,0)),0),\nIF('C_CAPEX Build Up'!F85=\"Bracket\",OFFSET(I_CAPEX!S$48,MATCH('C_CAPEX Build Up'!H85,I_CAPEX!L$49:L$130,0),0),\nOFFSET(I_CAPEX!I$48,MATCH('C_CAPEX Build Up'!H85,I_CAPEX!B$49:B$102,0),0))))","v":904.60426032326359},null,75.314371605110225,{"$f":"SUM(J85,L85)*I_CAPEX!$D$13","v":58.795117915702427},1038.7137498440761,null,null,null,{"$f":"IF(OR(G85=\"LED\",G85=\"Smart Controller\"),-PMT(return_on_assests_pct,LED_lantern_lifespan,N85)*(1+'I_Global Inputs'!$G$54),IF(G85=\"LED20\",-PMT(return_on_assests_pct,LED_life_span_20yrs,N85),\nIF(G85=\"Traditional\",-PMT(return_on_assests_pct,trad_lantern_lifespan,N85),\n-PMT(return_on_assests_pct,pole_lifespan,N85))))","v":68.659027337208713},71.474047458034264,73.528682067823581,75.642380401158462,77.816840338247133,80.053808567551457,null,null,null,1038.7137498440761,1081.3010135876832,1112.384722502055,1144.3619818225875,1177.2584780698485,1211.1006361640914,null,null,null,null,{"$f":"_xlfn.XLOOKUP($H85,'I_Asset number input'!$B$5:$B$239,'I_Asset number input'!J$5:J$239)","v":335.83333333333331},{"$f":"_xlfn.XLOOKUP($H85,'I_Asset number input'!$B$5:$B$239,'I_Asset number input'!K$5:K$239)","v":201.49999999999994},{"$f":"_xlfn.XLOOKUP($H85,'I_Asset number input'!$B$5:$B$239,'I_Asset number input'!L$5:L$239)","v":67.166666666666643},{"$f":"_xlfn.XLOOKUP($H85,'I_Asset number input'!$B$5:$B$239,'I_Asset number input'!M$5:M$239)","v":0},{"$f":"_xlfn.XLOOKUP($H85,'I_Asset number input'!$B$5:$B$239,'I_Asset number input'!N$5:N$239)","v":0},{"$f":"_xlfn.XLOOKUP($H85,'I_Asset number input'!$B$5:$B$239,'I_Asset number input'!O$5:O$239)","v":0},null,null,null,23057.99001407926,14402.020562793899,4938.6764788888158,0,0,0]
[null,"400W SON FLOODLIGHT","Major (Cat V)",null,null,"Luminaire","Traditional","400W SON FLOODLIGHT",null,{"$f":"IF(ISBLANK(F86),0,\nIF(OR(F86=\"Luminaire\",F86=\"Smart Controller\",F86=\"NW\"),OFFSET(I_CAPEX!$AC$48,(MATCH('C_CAPEX Build Up'!H86,I_CAPEX!V$49:V$437,0)),0),\nIF('C_CAPEX Build Up'!F86=\"Bracket\",OFFSET(I_CAPEX!S$48,MATCH('C_CAPEX Build Up'!H86,I_CAPEX!L$49:L$130,0),0),\nOFFSET(I_CAPEX!I$48,MATCH('C_CAPEX Build Up'!H86,I_CAPEX!B$49:B$102,0),0))))","v":621.29566364162974},null,75.314371605110225,{"$f":"SUM(J86,L86)*I_CAPEX!$D$13","v":41.796602114804394},738.40663736154431,null,null,null,{"$f":"IF(OR(G86=\"LED\",G86=\"Smart Controller\"),-PMT(return_on_assests_pct,LED_lantern_lifespan,N86)*(1+'I_Global Inputs'!$G$54),IF(G86=\"LED20\",-PMT(return_on_assests_pct,LED_life_span_20yrs,N86),\nIF(G86=\"Traditional\",-PMT(return_on_assests_pct,trad_lantern_lifespan,N86),\n-PMT(return_on_assests_pct,pole_lifespan,N86))))","v":48.808713188010721},50.809870428719158,52.270480566448562,53.773078254164552,55.318870490441448,56.909098970937798,null,null,null,738.40663736154431,768.68130949336762,790.7782702581901,813.51044313108889,836.89608828940425,860.95399082817278,null,null,null,null,{"$f":"_xlfn.XLOOKUP($H86,'I_Asset number input'!$B$5:$B$239,'I_Asset number input'!J$5:J$239)","v":351},{"$f":"_xlfn.XLOOKUP($H86,'I_Asset number input'!$B$5:$B$239,'I_Asset number input'!K$5:K$239)","v":351},{"$f":"_xlfn.XLOOKUP($H86,'I_Asset number input'!$B$5:$B$239,'I_Asset number input'!L$5:L$239)","v":292.5},{"$f":"_xlfn.XLOOKUP($H86,'I_Asset number input'!$B$5:$B$239,'I_Asset number input'!M$5:M$239)","v":175.5},{"$f":"_xlfn.XLOOKUP($H86,'I_Asset number input'!$B$5:$B$239,'I_Asset number input'!N$5:N$239)","v":58.5},{"$f":"_xlfn.XLOOKUP($H86,'I_Asset number input'!$B$5:$B$239,'I_Asset number input'!O$5:O$239)","v":0},null,null,null,17131.858328991762,17834.264520480425,15289.115565686205,9437.1752336058798,3236.1539236908247,0]
[null,"42W MBF SYLVANIA SUB ECO","Minor (Cat P)",null,null,"Luminaire","Traditional","42W MBF SYLVANIA SUB ECO",null,{"$f":"IF(ISBLANK(F87),0,\nIF(OR(F87=\"Luminaire\",F87=\"Smart Controller\",F87=\"NW\"),OFFSET(I_CAPEX!$AC$48,(MATCH('C_CAPEX Build Up'!H87,I_CAPEX!V$49:V$437,0)),0),\nIF('C_CAPEX Build Up'!F87=\"Bracket\",OFFSET(I_CAPEX!S$48,MATCH('C_CAPEX Build Up'!H87,I_CAPEX!L$49:L$130,0),0),\nOFFSET(I_CAPEX!I$48,MATCH('C_CAPEX Build Up'!H87,I_CAPEX!B$49:B$102,0),0))))","v":430.22707518192323},null,0,{"$f":"SUM(J87,L87)*I_CAPEX!$D$13","v":25.813624510915393},456.04069969283864,null,null,null,{"$f":"IF(OR(G87=\"LED\",G87=\"Smart Controller\"),-PMT(return_on_assests_pct,LED_lantern_lifespan,N87)*(1+'I_Global Inputs'!$G$54),IF(G87=\"LED20\",-PMT(return_on_assests_pct,LED_life_span_20yrs,N87),\nIF(G87=\"Traditional\",-PMT(return_on_assests_pct,trad_lantern_lifespan,N87),\n-PMT(return_on_assests_pct,pole_lifespan,N87))))","v":30.144311531247769},31.380228304028925,32.282302629320277,33.210308508724808,34.16499138580506,35.147118133078529,null,null,null,456.04069969283864,474.73836838024499,488.38547410546187,502.42488748280869,516.86788601661624,531.72607140092532,null,null,null,null,{"$f":"_xlfn.XLOOKUP($H87,'I_Asset number input'!$B$5:$B$239,'I_Asset number input'!J$5:J$239)","v":0},{"$f":"_xlfn.XLOOKUP($H87,'I_Asset number input'!$B$5:$B$239,'I_Asset number input'!K$5:K$239)","v":0},{"$f":"_xlfn.XLOOKUP($H87,'I_Asset number input'!$B$5:$B$239,'I_Asset number input'!L$5:L$239)","v":0},{"$f":"_xlfn.XLOOKUP($H87,'I_Asset number input'!$B$5:$B$239,'I_Asset number input'!M$5:M$239)","v":0},{"$f":"_xlfn.XLOOKUP($H87,'I_Asset number input'!$B$5:$B$239,'I_Asset number input'!N$5:N$239)","v":0},{"$f":"_xlfn.XLOOKUP($H87,'I_Asset number input'!$B$5:$B$239,'I_Asset number input'!O$5:O$239)","v":0},null,null,null,0,0,0,0,0,0]
[null,"4x250W SON","Major (Cat V)",null,null,"Luminaire","Traditional","4x250W SON",null,{"$f":"IF(ISBLANK(F88),0,\nIF(OR(F88=\"Luminaire\",F88=\"Smart Controller\",F88=\"NW\"),OFFSET(I_CAPEX!$AC$48,(MATCH('C_CAPEX Build Up'!H88,I_CAPEX!V$49:V$437,0)),0),\nIF('C_CAPEX Build Up'!F88=\"Bracket\",OFFSET(I_CAPEX!S$48,MATCH('C_CAPEX Build Up'!H88,I_CAPEX!L$49:L$130,0),0),\nOFFSET(I_CAPEX!I$48,MATCH('C_CAPEX Build Up'!H88,I_CAPEX!B$49:B$102,0),0))))","v":1027.5206598509974},null,75.314371605110225,{"$f":"SUM(J88,L88)*I_CAPEX!$D$13","v":66.170101887366457},1169.005133343474,null,null,null,{"$f":"IF(OR(G88=\"LED\",G88=\"Smart Controller\"),-PMT(return_on_assests_pct,LED_lantern_lifespan,N88)*(1+'I_Global Inputs'!$G$54),IF(G88=\"LED20\",-PMT(return_on_assests_pct,LED_life_span_20yrs,N88),\nIF(G88=\"Traditional\",-PMT(return_on_assests_pct,trad_lantern_lifespan,N88),\n-PMT(return_on_assests_pct,pole_lifespan,N88))))","v":77.271293866684005},80.439416915218047,82.751775258745738,85.1306060024217,87.577820000588133,90.095383038119465,null,null,null,1169.005133343474,1216.9343438105564,1251.9170474569742,1287.9053842837172,1324.92826280808,1363.0154225684375,null,null,null,null,{"$f":"_xlfn.XLOOKUP($H88,'I_Asset number input'!$B$5:$B$239,'I_Asset number input'!J$5:J$239)","v":0},{"$f":"_xlfn.XLOOKUP($H88,'I_Asset number input'!$B$5:$B$239,'I_Asset number input'!K$5:K$239)","v":0},{"$f":"_xlfn.XLOOKUP($H88,'I_Asset number input'!$B$5:$B$239,'I_Asset number input'!L$5:L$239)","v":0},{"$f":"_xlfn.XLOOKUP($H88,'I_Asset number input'!$B$5:$B$239,'I_Asset number input'!M$5:M$239)","v":0},{"$f":"_xlfn.XLOOKUP($H88,'I_Asset number input'!$B$5:$B$239,'I_Asset number input'!N$5:N$239)","v":0},{"$f":"_xlfn.XLOOKUP($H88,'I_Asset number input'!$B$5:$B$239,'I_Asset number input'!O$5:O$239)","v":0},null,null,null,0,0,0,0,0,0]
[null,"4x600W SON","Major (Cat V)",null,null,"Luminaire","Traditional","4x600W SON",null,{"$f":"IF(ISBLANK(F89),0,\nIF(OR(F89=\"Luminaire\",F89=\"Smart Controller\",F89=\"NW\"),OFFSET(I_CAPEX!$AC$48,(MATCH('C_CAPEX Build Up'!H89,I_CAPEX!V$49:V$437,0)),0),\nIF('C_CAPEX Build Up'!F89=\"Bracket\",OFFSET(I_CAPEX!S$48,MATCH('C_CAPEX Build Up'!H89,I_CAPEX!L$49:L$130,0),0),\nOFFSET(I_CAPEX!I$48,MATCH('C_CAPEX Build Up'!H89,I_CAPEX!B$49:B$102,0),0))))","v":1602.9928940035702},null,75.314371605110225,{"$f":"SUM(J89,L89)*I_CAPEX!$D$13","v":100.69843593652082},1779.0057015452012,null,null,null,{"$f":"IF(OR(G89=\"LED\",G89=\"Smart Controller\"),-PMT(return_on_assests_pct,LED_lantern_lifespan,N89)*(1+'I_Global Inputs'!$G$54),IF(G89=\"LED20\",-PMT(return_on_assests_pct,LED_life_span_20yrs,N89),\nIF(G89=\"Traditional\",-PMT(return_on_assests_pct,trad_lantern_lifespan,N89),\n-PMT(return_on_assests_pct,pole_lifespan,N89))))","v":117.59235989104563},122.4136466465785,125.93262065260855,129.55275313560861,133.27695205609373,137.10820896850609,null,null,null,1779.0057015452012,1851.9449353085542,1905.1820233822796,1959.9494958062812,2016.2913459007107,2074.2528316433318,null,null,null,null,{"$f":"_xlfn.XLOOKUP($H89,'I_Asset number input'!$B$5:$B$239,'I_Asset number input'!J$5:J$239)","v":3},{"$f":"_xlfn.XLOOKUP($H89,'I_Asset number input'!$B$5:$B$239,'I_Asset number input'!K$5:K$239)","v":3},{"$f":"_xlfn.XLOOKUP($H89,'I_Asset number input'!$B$5:$B$239,'I_Asset number input'!L$5:L$239)","v":2.5},{"$f":"_xlfn.XLOOKUP($H89,'I_Asset number input'!$B$5:$B$239,'I_Asset number input'!M$5:M$239)","v":1.5},{"$f":"_xlfn.XLOOKUP($H89,'I_Asset number input'!$B$5:$B$239,'I_Asset number input'!N$5:N$239)","v":0.5},{"$f":"_xlfn.XLOOKUP($H89,'I_Asset number input'!$B$5:$B$239,'I_Asset number input'!O$5:O$239)","v":0},null,null,null,352.77707967313688,367.24093993973548,314.83155163152139,194.32912970341292,66.638476028046867,0]
[null,"50W MBF","Minor (Cat P)",null,null,"Luminaire","Traditional","50W MBF",null,{"$f":"IF(ISBLANK(F90),0,\nIF(OR(F90=\"Luminaire\",F90=\"Smart Controller\",F90=\"NW\"),OFFSET(I_CAPEX!$AC$48,(MATCH('C_CAPEX Build Up'!H90,I_CAPEX!V$49:V$437,0)),0),\nIF('C_CAPEX Build Up'!F90=\"Bracket\",OFFSET(I_CAPEX!S$48,MATCH('C_CAPEX Build Up'!H90,I_CAPEX!L$49:L$130,0),0),\nOFFSET(I_CAPEX!I$48,MATCH('C_CAPEX Build Up'!H90,I_CAPEX!B$49:B$102,0),0))))","v":324.80992292829205},null,0,{"$f":"SUM(J90,L90)*I_CAPEX!$D$13","v":19.488595375697521},344.29851830398957,null,null,null,{"$f":"IF(OR(G90=\"LED\",G90=\"Smart Controller\"),-PMT(return_on_assests_pct,LED_lantern_lifespan,N90)*(1+'I_Global Inputs'!$G$54),IF(G90=\"LED20\",-PMT(return_on_assests_pct,LED_life_span_20yrs,N90),\nIF(G90=\"Traditional\",-PMT(return_on_assests_pct,trad_lantern_lifespan,N90),\n-PMT(return_on_assests_pct,pole_lifespan,N90))))","v":22.75814812689503},23.691232200097723,24.37227416369236,25.072893756354976,25.793653768016895,26.535133166896703,null,null,null,344.29851830398957,358.4147575544531,368.71795699146566,379.31733820225111,390.22141540063706,401.43894755500224,null,null,null,null,{"$f":"_xlfn.XLOOKUP($H90,'I_Asset number input'!$B$5:$B$239,'I_Asset number input'!J$5:J$239)","v":0},{"$f":"_xlfn.XLOOKUP($H90,'I_Asset number input'!$B$5:$B$239,'I_Asset number input'!K$5:K$239)","v":0},{"$f":"_xlfn.XLOOKUP($H90,'I_Asset number input'!$B$5:$B$239,'I_Asset number input'!L$5:L$239)","v":0},{"$f":"_xlfn.XLOOKUP($H90,'I_Asset number input'!$B$5:$B$239,'I_Asset number input'!M$5:M$239)","v":0},{"$f":"_xlfn.XLOOKUP($H90,'I_Asset number input'!$B$5:$B$239,'I_Asset number input'!N$5:N$239)","v":0},{"$f":"_xlfn.XLOOKUP($H90,'I_Asset number input'!$B$5:$B$239,'I_Asset number input'!O$5:O$239)","v":0},null,null,null,0,0,0,0,0,0]
[null,"50W MBF - BOURKE HILL","Minor (Cat P)",null,null,"Luminaire","Traditional","50W MBF - BOURKE HILL",null,{"$f":"IF(ISBLANK(F91),0,\nIF(OR(F91=\"Luminaire\",F91=\"Smart Controller\",F91=\"NW\"),OFFSET(I_CAPEX!$AC$48,(MATCH('C_CAPEX Build Up'!H91,I_CAPEX!V$49:V$437,0)),0),\nIF('C_CAPEX Build Up'!F91=\"Bracket\",OFFSET(I_CAPEX!S$48,MATCH('C_CAPEX Build Up'!H91,I_CAPEX!L$49:L$130,0),0),\nOFFSET(I_CAPEX!I$48,MATCH('C_CAPEX Build Up'!H91,I_CAPEX!B$49:B$102,0),0))))","v":963.9014084659309},null,0,{"$f":"SUM(J91,L91)*I_CAPEX!$D$13","v":57.834084507955851},1021.7354929738867,null,null,null,{"$f":"IF(OR(G91=\"LED\",G91=\"Smart Controller\"),-PMT(return_on_assests_pct,LED_lantern_lifespan,N91)*(1+'I_Global Inputs'!$G$54),IF(G91=\"LED20\",-PMT(return_on_assests_pct,LED_life_span_20yrs,N91),\nIF(G91=\"Traditional\",-PMT(return_on_assests_pct,trad_lantern_lifespan,N91),\n-PMT(return_on_assests_pct,pole_lifespan,N91))))","v":67.53676376578349},70.305771080180605,72.32682173656157,74.405970692597037,76.5448880758576,78.745292024373995,null,null,null,1021.7354929738867,1063.6266481858161,1094.2022794950674,1125.6568557156311,1158.0156435100107,1191.3046358709109,null,null,null,null,{"$f":"_xlfn.XLOOKUP($H91,'I_Asset number input'!$B$5:$B$239,'I_Asset number input'!J$5:J$239)","v":16},{"$f":"_xlfn.XLOOKUP($H91,'I_Asset number input'!$B$5:$B$239,'I_Asset number input'!K$5:K$239)","v":16},{"$f":"_xlfn.XLOOKUP($H91,'I_Asset number input'!$B$5:$B$239,'I_Asset number input'!L$5:L$239)","v":13.333333333333334},{"$f":"_xlfn.XLOOKUP($H91,'I_Asset number input'!$B$5:$B$239,'I_Asset number input'!M$5:M$239)","v":8.0000000000000018},{"$f":"_xlfn.XLOOKUP($H91,'I_Asset number input'!$B$5:$B$239,'I_Asset number input'!N$5:N$239)","v":2.6666666666666674},{"$f":"_xlfn.XLOOKUP($H91,'I_Asset number input'!$B$5:$B$239,'I_Asset number input'!O$5:O$239)","v":0},null,null,null,1080.5882202525358,1124.8923372828897,964.35762315415434,595.24776554077641,204.11970153562032,0]
[null,"50W MBF - NOSTALGIA","Minor (Cat P)",null,null,"Luminaire","Traditional","50W MBF - NOSTALGIA",null,{"$f":"IF(ISBLANK(F92),0,\nIF(OR(F92=\"Luminaire\",F92=\"Smart Controller\",F92=\"NW\"),OFFSET(I_CAPEX!$AC$48,(MATCH('C_CAPEX Build Up'!H92,I_CAPEX!V$49:V$437,0)),0),\nIF('C_CAPEX Build Up'!F92=\"Bracket\",OFFSET(I_CAPEX!S$48,MATCH('C_CAPEX Build Up'!H92,I_CAPEX!L$49:L$130,0),0),\nOFFSET(I_CAPEX!I$48,MATCH('C_CAPEX Build Up'!H92,I_CAPEX!B$49:B$102,0),0))))","v":963.9014084659309},null,0,{"$f":"SUM(J92,L92)*I_CAPEX!$D$13","v":57.834084507955851},1021.7354929738867,null,null,null,{"$f":"IF(OR(G92=\"LED\",G92=\"Smart Controller\"),-PMT(return_on_assests_pct,LED_lantern_lifespan,N92)*(1+'I_Global Inputs'!$G$54),IF(G92=\"LED20\",-PMT(return_on_assests_pct,LED_life_span_20yrs,N92),\nIF(G92=\"Traditional\",-PMT(return_on_assests_pct,trad_lantern_lifespan,N92),\n-PMT(return_on_assests_pct,pole_lifespan,N92))))","v":67.53676376578349},70.305771080180605,72.32682173656157,74.405970692597037,76.5448880758576,78.745292024373995,null,null,null,1021.7354929738867,1063.6266481858161,1094.2022794950674,1125.6568557156311,1158.0156435100107,1191.3046358709109,null,null,null,null,{"$f":"_xlfn.XLOOKUP($H92,'I_Asset number input'!$B$5:$B$239,'I_Asset number input'!J$5:J$239)","v":0},{"$f":"_xlfn.XLOOKUP($H92,'I_Asset number input'!$B$5:$B$239,'I_Asset number input'!K$5:K$239)","v":0},{"$f":"_xlfn.XLOOKUP($H92,'I_Asset number input'!$B$5:$B$239,'I_Asset number input'!L$5:L$239)","v":0},{"$f":"_xlfn.XLOOKUP($H92,'I_Asset number input'!$B$5:$B$239,'I_Asset number input'!M$5:M$239)","v":0},{"$f":"_xlfn.XLOOKUP($H92,'I_Asset number input'!$B$5:$B$239,'I_Asset number input'!N$5:N$239)","v":0},{"$f":"_xlfn.XLOOKUP($H92,'I_Asset number input'!$B$5:$B$239,'I_Asset number input'!O$5:O$239)","v":0},null,null,null,0,0,0,0,0,0]
[null,"50W MBF - PLAIN","Minor (Cat P)",null,null,"Luminaire","Traditional","50W MBF - PLAIN",null,{"$f":"IF(ISBLANK(F93),0,\nIF(OR(F93=\"Luminaire\",F93=\"Smart Controller\",F93=\"NW\"),OFFSET(I_CAPEX!$AC$48,(MATCH('C_CAPEX Build Up'!H93,I_CAPEX!V$49:V$437,0)),0),\nIF('C_CAPEX Build Up'!F93=\"Bracket\",OFFSET(I_CAPEX!S$48,MATCH('C_CAPEX Build Up'!H93,I_CAPEX!L$49:L$130,0),0),\nOFFSET(I_CAPEX!I$48,MATCH('C_CAPEX Build Up'!H93,I_CAPEX!B$49:B$102,0),0))))","v":324.80992292829205},null,0,{"$f":"SUM(J93,L93)*I_CAPEX!$D$13","v":19.488595375697521},344.29851830398957,null,null,null,{"$f":"IF(OR(G93=\"LED\",G93=\"Smart Controller\"),-PMT(return_on_assests_pct,LED_lantern_lifespan,N93)*(1+'I_Global Inputs'!$G$54),IF(G93=\"LED20\",-PMT(return_on_assests_pct,LED_life_span_20yrs,N93),\nIF(G93=\"Traditional\",-PMT(return_on_assests_pct,trad_lantern_lifespan,N93),\n-PMT(return_on_assests_pct,pole_lifespan,N93))))","v":22.75814812689503},23.691232200097723,24.37227416369236,25.072893756354976,25.793653768016895,26.535133166896703,null,null,null,344.29851830398957,358.4147575544531,368.71795699146566,379.31733820225111,390.22141540063706,401.43894755500224,null,null,null,null,{"$f":"_xlfn.XLOOKUP($H93,'I_Asset number input'!$B$5:$B$239,'I_Asset number input'!J$5:J$239)","v":58},{"$f":"_xlfn.XLOOKUP($H93,'I_Asset number input'!$B$5:$B$239,'I_Asset number input'!K$5:K$239)","v":58},{"$f":"_xlfn.XLOOKUP($H93,'I_Asset number input'!$B$5:$B$239,'I_Asset number input'!L$5:L$239)","v":58},{"$f":"_xlfn.XLOOKUP($H93,'I_Asset number input'!$B$5:$B$239,'I_Asset number input'!M$5:M$239)","v":58},{"$f":"_xlfn.XLOOKUP($H93,'I_Asset number input'!$B$5:$B$239,'I_Asset number input'!N$5:N$239)","v":58},{"$f":"_xlfn.XLOOKUP($H93,'I_Asset number input'!$B$5:$B$239,'I_Asset number input'!O$5:O$239)","v":58},null,null,null,1319.9725913599118,1374.091467605668,1413.5919014941569,1454.2278378685885,1496.0319185449798,1539.0377236800089]
[null,"50W SON","Minor (Cat P)",null,null,"Luminaire","Traditional","50W SON",null,{"$f":"IF(ISBLANK(F94),0,\nIF(OR(F94=\"Luminaire\",F94=\"Smart Controller\",F94=\"NW\"),OFFSET(I_CAPEX!$AC$48,(MATCH('C_CAPEX Build Up'!H94,I_CAPEX!V$49:V$437,0)),0),\nIF('C_CAPEX Build Up'!F94=\"Bracket\",OFFSET(I_CAPEX!S$48,MATCH('C_CAPEX Build Up'!H94,I_CAPEX!L$49:L$130,0),0),\nOFFSET(I_CAPEX!I$48,MATCH('C_CAPEX Build Up'!H94,I_CAPEX!B$49:B$102,0),0))))","v":314.26820770292892},null,0,{"$f":"SUM(J94,L94)*I_CAPEX!$D$13","v":18.856092462175734},333.12430016510467,null,null,null,{"$f":"IF(OR(G94=\"LED\",G94=\"Smart Controller\"),-PMT(return_on_assests_pct,LED_lantern_lifespan,N94)*(1+'I_Global Inputs'!$G$54),IF(G94=\"LED20\",-PMT(return_on_assests_pct,LED_life_span_20yrs,N94),\nIF(G94=\"Traditional\",-PMT(return_on_assests_pct,trad_lantern_lifespan,N94),\n-PMT(return_on_assests_pct,pole_lifespan,N94))))","v":22.019531786459758},22.922332589704606,23.58127131712957,24.259152281117991,24.95652000623808,25.673934670278523,null,null,null,333.12430016510467,346.78239647187394,356.75120528006607,367.00658327419535,377.55676833903908,388.41023517040986,null,null,null,null,{"$f":"_xlfn.XLOOKUP($H94,'I_Asset number input'!$B$5:$B$239,'I_Asset number input'!J$5:J$239)","v":0},{"$f":"_xlfn.XLOOKUP($H94,'I_Asset number input'!$B$5:$B$239,'I_Asset number input'!K$5:K$239)","v":0},{"$f":"_xlfn.XLOOKUP($H94,'I_Asset number input'!$B$5:$B$239,'I_Asset number input'!L$5:L$239)","v":0},{"$f":"_xlfn.XLOOKUP($H94,'I_Asset number input'!$B$5:$B$239,'I_Asset number input'!M$5:M$239)","v":0},{"$f":"_xlfn.XLOOKUP($H94,'I_Asset number input'!$B$5:$B$239,'I_Asset number input'!N$5:N$239)","v":0},{"$f":"_xlfn.XLOOKUP($H94,'I_Asset number input'!$B$5:$B$239,'I_Asset number input'!O$5:O$239)","v":0},null,null,null,0,0,0,0,0,0]
[null,"50W SON - NOSTALGIA","Minor (Cat P)",null,null,"Luminaire","Traditional","50W SON - NOSTALGIA",null,{"$f":"IF(ISBLANK(F95),0,\nIF(OR(F95=\"Luminaire\",F95=\"Smart Controller\",F95=\"NW\"),OFFSET(I_CAPEX!$AC$48,(MATCH('C_CAPEX Build Up'!H95,I_CAPEX!V$49:V$437,0)),0),\nIF('C_CAPEX Build Up'!F95=\"Bracket\",OFFSET(I_CAPEX!S$48,MATCH('C_CAPEX Build Up'!H95,I_CAPEX!L$49:L$130,0),0),\nOFFSET(I_CAPEX!I$48,MATCH('C_CAPEX Build Up'!H95,I_CAPEX!B$49:B$102,0),0))))","v":489.52422332459071},null,0,{"$f":"SUM(J95,L95)*I_CAPEX!$D$13","v":29.371453399475442},518.89567672406611,null,null,null,{"$f":"IF(OR(G95=\"LED\",G95=\"Smart Controller\"),-PMT(return_on_assests_pct,LED_lantern_lifespan,N95)*(1+'I_Global Inputs'!$G$54),IF(G95=\"LED20\",-PMT(return_on_assests_pct,LED_life_span_20yrs,N95),\nIF(G95=\"Traditional\",-PMT(return_on_assests_pct,trad_lantern_lifespan,N95),\n-PMT(return_on_assests_pct,pole_lifespan,N95))))","v":34.299028446196175},35.705288612490214,36.731693641235964,37.78760430693282,38.873868795810886,39.991359676555795,null,null,null,518.89567672406611,540.17039946975274,555.69845248208458,571.6728839531221,588.10652573810432,605.01257856425684,null,null,null,null,{"$f":"_xlfn.XLOOKUP($H95,'I_Asset number input'!$B$5:$B$239,'I_Asset number input'!J$5:J$239)","v":0},{"$f":"_xlfn.XLOOKUP($H95,'I_Asset number input'!$B$5:$B$239,'I_Asset number input'!K$5:K$239)","v":0},{"$f":"_xlfn.XLOOKUP($H95,'I_Asset number input'!$B$5:$B$239,'I_Asset number input'!L$5:L$239)","v":0},{"$f":"_xlfn.XLOOKUP($H95,'I_Asset number input'!$B$5:$B$239,'I_Asset number input'!M$5:M$239)","v":0},{"$f":"_xlfn.XLOOKUP($H95,'I_Asset number input'!$B$5:$B$239,'I_Asset number input'!N$5:N$239)","v":0},{"$f":"_xlfn.XLOOKUP($H95,'I_Asset number input'!$B$5:$B$239,'I_Asset number input'!O$5:O$239)","v":0},null,null,null,0,0,0,0,0,0]
[null,"50W SON - PLAIN","Minor (Cat P)",null,null,"Luminaire","Traditional","50W SON - PLAIN",null,{"$f":"IF(ISBLANK(F96),0,\nIF(OR(F96=\"Luminaire\",F96=\"Smart Controller\",F96=\"NW\"),OFFSET(I_CAPEX!$AC$48,(MATCH('C_CAPEX Build Up'!H96,I_CAPEX!V$49:V$437,0)),0),\nIF('C_CAPEX Build Up'!F96=\"Bracket\",OFFSET(I_CAPEX!S$48,MATCH('C_CAPEX Build Up'!H96,I_CAPEX!L$49:L$130,0),0),\nOFFSET(I_CAPEX!I$48,MATCH('C_CAPEX Build Up'!H96,I_CAPEX!B$49:B$102,0),0))))","v":314.26820770292892},null,0,{"$f":"SUM(J96,L96)*I_CAPEX!$D$13","v":18.856092462175734},333.12430016510467,null,null,null,{"$f":"IF(OR(G96=\"LED\",G96=\"Smart Controller\"),-PMT(return_on_assests_pct,LED_lantern_lifespan,N96)*(1+'I_Global Inputs'!$G$54),IF(G96=\"LED20\",-PMT(return_on_assests_pct,LED_life_span_20yrs,N96),\nIF(G96=\"Traditional\",-PMT(return_on_assests_pct,trad_lantern_lifespan,N96),\n-PMT(return_on_assests_pct,pole_lifespan,N96))))","v":22.019531786459758},22.922332589704606,23.58127131712957,24.259152281117991,24.95652000623808,25.673934670278523,null,null,null,333.12430016510467,346.78239647187394,356.75120528006607,367.00658327419535,377.55676833903908,388.41023517040986,null,null,null,null,{"$f":"_xlfn.XLOOKUP($H96,'I_Asset number input'!$B$5:$B$239,'I_Asset number input'!J$5:J$239)","v":0},{"$f":"_xlfn.XLOOKUP($H96,'I_Asset number input'!$B$5:$B$239,'I_Asset number input'!K$5:K$239)","v":0},{"$f":"_xlfn.XLOOKUP($H96,'I_Asset number input'!$B$5:$B$239,'I_Asset number input'!L$5:L$239)","v":0},{"$f":"_xlfn.XLOOKUP($H96,'I_Asset number input'!$B$5:$B$239,'I_Asset number input'!M$5:M$239)","v":0},{"$f":"_xlfn.XLOOKUP($H96,'I_Asset number input'!$B$5:$B$239,'I_Asset number input'!N$5:N$239)","v":0},{"$f":"_xlfn.XLOOKUP($H96,'I_Asset number input'!$B$5:$B$239,'I_Asset number input'!O$5:O$239)","v":0},null,null,null,0,0,0,0,0,0]
[null,"70W MBI","Minor (Cat P)",null,null,"Luminaire","Traditional","70W MBI",null,{"$f":"IF(ISBLANK(F97),0,\nIF(OR(F97=\"Luminaire\",F97=\"Smart Controller\",F97=\"NW\"),OFFSET(I_CAPEX!$AC$48,(MATCH('C_CAPEX Build Up'!H97,I_CAPEX!V$49:V$437,0)),0),\nIF('C_CAPEX Build Up'!F97=\"Bracket\",OFFSET(I_CAPEX!S$48,MATCH('C_CAPEX Build Up'!H97,I_CAPEX!L$49:L$130,0),0),\nOFFSET(I_CAPEX!I$48,MATCH('C_CAPEX Build Up'!H97,I_CAPEX!B$49:B$102,0),0))))","v":405.95477587552466},null,0,{"$f":"SUM(J97,L97)*I_CAPEX!$D$13","v":24.35728655253148},430.31206242805615,null,null,null,{"$f":"IF(OR(G97=\"LED\",G97=\"Smart Controller\"),-PMT(return_on_assests_pct,LED_lantern_lifespan,N97)*(1+'I_Global Inputs'!$G$54),IF(G97=\"LED20\",-PMT(return_on_assests_pct,LED_life_span_20yrs,N97),\nIF(G97=\"Traditional\",-PMT(return_on_assests_pct,trad_lantern_lifespan,N97),\n-PMT(return_on_assests_pct,pole_lifespan,N97))))","v":28.443647407395552},29.609836951098767,30.461018575109449,31.336668761991653,32.237490899309336,33.164208594615168,null,null,null,430.31206242805615,447.95485698760643,460.83202828996428,474.07937426096032,487.70753615728705,501.7274611354016,null,null,null,null,{"$f":"_xlfn.XLOOKUP($H97,'I_Asset number input'!$B$5:$B$239,'I_Asset number input'!J$5:J$239)","v":0},{"$f":"_xlfn.XLOOKUP($H97,'I_Asset number input'!$B$5:$B$239,'I_Asset number input'!K$5:K$239)","v":0},{"$f":"_xlfn.XLOOKUP($H97,'I_Asset number input'!$B$5:$B$239,'I_Asset number input'!L$5:L$239)","v":0},{"$f":"_xlfn.XLOOKUP($H97,'I_Asset number input'!$B$5:$B$239,'I_Asset number input'!M$5:M$239)","v":0},{"$f":"_xlfn.XLOOKUP($H97,'I_Asset number input'!$B$5:$B$239,'I_Asset number input'!N$5:N$239)","v":0},{"$f":"_xlfn.XLOOKUP($H97,'I_Asset number input'!$B$5:$B$239,'I_Asset number input'!O$5:O$239)","v":0},null,null,null,0,0,0,0,0,0]
[null,"70W MBI - MACQUARIE DEC.","Minor (Cat P)",null,null,"Luminaire","Traditional","70W MBI - MACQUARIE DEC.",null,{"$f":"IF(ISBLANK(F98),0,\nIF(OR(F98=\"Luminaire\",F98=\"Smart Controller\",F98=\"NW\"),OFFSET(I_CAPEX!$AC$48,(MATCH('C_CAPEX Build Up'!H98,I_CAPEX!V$49:V$437,0)),0),\nIF('C_CAPEX Build Up'!F98=\"Bracket\",OFFSET(I_CAPEX!S$48,MATCH('C_CAPEX Build Up'!H98,I_CAPEX!L$49:L$130,0),0),\nOFFSET(I_CAPEX!I$48,MATCH('C_CAPEX Build Up'!H98,I_CAPEX!B$49:B$102,0),0))))","v":1565.2799077848335},null,0,{"$f":"SUM(J98,L98)*I_CAPEX!$D$13","v":93.916794467090014},1659.1967022519236,null,null,null,{"$f":"IF(OR(G98=\"LED\",G98=\"Smart Controller\"),-PMT(return_on_assests_pct,LED_lantern_lifespan,N98)*(1+'I_Global Inputs'!$G$54),IF(G98=\"LED20\",-PMT(return_on_assests_pct,LED_life_span_20yrs,N98),\nIF(G98=\"Traditional\",-PMT(return_on_assests_pct,trad_lantern_lifespan,N98),\n-PMT(return_on_assests_pct,pole_lifespan,N98))))","v":109.67297944676481},114.16957160408217,117.45155662585245,120.82788750117886,124.30127635093466,127.87451326019981,null,null,null,1659.1967022519236,1727.2237670442523,1776.8755477511372,1827.954647473892,1880.5020967565185,1934.5601056309413,null,null,null,null,{"$f":"_xlfn.XLOOKUP($H98,'I_Asset number input'!$B$5:$B$239,'I_Asset number input'!J$5:J$239)","v":5},{"$f":"_xlfn.XLOOKUP($H98,'I_Asset number input'!$B$5:$B$239,'I_Asset number input'!K$5:K$239)","v":5},{"$f":"_xlfn.XLOOKUP($H98,'I_Asset number input'!$B$5:$B$239,'I_Asset number input'!L$5:L$239)","v":5},{"$f":"_xlfn.XLOOKUP($H98,'I_Asset number input'!$B$5:$B$239,'I_Asset number input'!M$5:M$239)","v":5},{"$f":"_xlfn.XLOOKUP($H98,'I_Asset number input'!$B$5:$B$239,'I_Asset number input'!N$5:N$239)","v":5},{"$f":"_xlfn.XLOOKUP($H98,'I_Asset number input'!$B$5:$B$239,'I_Asset number input'!O$5:O$239)","v":5},null,null,null,{"$f":"IFERROR(R98*AK98,0)","v":548.36489723382408},570.84785802041085,587.25778312926218,604.13943750589431,621.50638175467327,639.37256630099898]
[null,"70W MBI II","Minor (Cat P)",null,null,"Luminaire","Traditional","70W MBI II",null,{"$f":"IF(ISBLANK(F99),0,\nIF(OR(F99=\"Luminaire\",F99=\"Smart Controller\",F99=\"NW\"),OFFSET(I_CAPEX!$AC$48,(MATCH('C_CAPEX Build Up'!H99,I_CAPEX!V$49:V$437,0)),0),\nIF('C_CAPEX Build Up'!F99=\"Bracket\",OFFSET(I_CAPEX!S$48,MATCH('C_CAPEX Build Up'!H99,I_CAPEX!L$49:L$130,0),0),\nOFFSET(I_CAPEX!I$48,MATCH('C_CAPEX Build Up'!H99,I_CAPEX!B$49:B$102,0),0))))","v":357.75278300755178},null,0,{"$f":"SUM(J99,L99)*I_CAPEX!$D$13","v":21.465166980453105},379.21794998800488,null,null,null,{"$f":"IF(OR(G99=\"LED\",G99=\"Smart Controller\"),-PMT(return_on_assests_pct,LED_lantern_lifespan,N99)*(1+'I_Global Inputs'!$G$54),IF(G99=\"LED20\",-PMT(return_on_assests_pct,LED_life_span_20yrs,N99),\nIF(G99=\"Traditional\",-PMT(return_on_assests_pct,trad_lantern_lifespan,N99),\n-PMT(return_on_assests_pct,pole_lifespan,N99))))","v":25.06632419075526},26.094043482576225,26.844158059201085,27.615835866470547,28.409696773575696,29.226378468828525,null,null,null,379.21794998800488,394.76588593751302,406.11405608958944,417.78844735242529,429.79843746813049,442.15367375685315,null,null,null,null,{"$f":"_xlfn.XLOOKUP($H99,'I_Asset number input'!$B$5:$B$239,'I_Asset number input'!J$5:J$239)","v":0},{"$f":"_xlfn.XLOOKUP($H99,'I_Asset number input'!$B$5:$B$239,'I_Asset number input'!K$5:K$239)","v":0},{"$f":"_xlfn.XLOOKUP($H99,'I_Asset number input'!$B$5:$B$239,'I_Asset number input'!L$5:L$239)","v":0},{"$f":"_xlfn.XLOOKUP($H99,'I_Asset number input'!$B$5:$B$239,'I_Asset number input'!M$5:M$239)","v":0},{"$f":"_xlfn.XLOOKUP($H99,'I_Asset number input'!$B$5:$B$239,'I_Asset number input'!N$5:N$239)","v":0},{"$f":"_xlfn.XLOOKUP($H99,'I_Asset number input'!$B$5:$B$239,'I_Asset number input'!O$5:O$239)","v":0},null,null,null,0,0,0,0,0,0]
[null,"70W MBI II AERO","Minor (Cat P)",null,null,"Luminaire","Traditional","70W MBI II AERO",null,{"$f":"IF(ISBLANK(F100),0,\nIF(OR(F100=\"Luminaire\",F100=\"Smart Controller\",F100=\"NW\"),OFFSET(I_CAPEX!$AC$48,(MATCH('C_CAPEX Build Up'!H100,I_CAPEX!V$49:V$437,0)),0),\nIF('C_CAPEX Build Up'!F100=\"Bracket\",OFFSET(I_CAPEX!S$48,MATCH('C_CAPEX Build Up'!H100,I_CAPEX!L$49:L$130,0),0),\nOFFSET(I_CAPEX!I$48,MATCH('C_CAPEX Build Up'!H100,I_CAPEX!B$49:B$102,0),0))))","v":370.92992703925563},null,0,{"$f":"SUM(J100,L100)*I_CAPEX!$D$13","v":22.255795622355336},393.18572266161095,null,null,null,{"$f":"IF(OR(G100=\"LED\",G100=\"Smart Controller\"),-PMT(return_on_assests_pct,LED_lantern_lifespan,N100)*(1+'I_Global Inputs'!$G$54),IF(G100=\"LED20\",-PMT(return_on_assests_pct,LED_life_span_20yrs,N100),\nIF(G100=\"Traditional\",-PMT(return_on_assests_pct,trad_lantern_lifespan,N100),\n-PMT(return_on_assests_pct,pole_lifespan,N100))))","v":25.98959461629935},27.055167995567622,27.832911617404569,28.63301271051677,29.456113975799209,30.302876589601244,null,null,null,393.18572266161095,409.30633729073696,421.07249572883887,433.17689101249488,445.62924629512776,458.4395642375934,null,null,null,null,{"$f":"_xlfn.XLOOKUP($H100,'I_Asset number input'!$B$5:$B$239,'I_Asset number input'!J$5:J$239)","v":0},{"$f":"_xlfn.XLOOKUP($H100,'I_Asset number input'!$B$5:$B$239,'I_Asset number input'!K$5:K$239)","v":0},{"$f":"_xlfn.XLOOKUP($H100,'I_Asset number input'!$B$5:$B$239,'I_Asset number input'!L$5:L$239)","v":0},{"$f":"_xlfn.XLOOKUP($H100,'I_Asset number input'!$B$5:$B$239,'I_Asset number input'!M$5:M$239)","v":0},{"$f":"_xlfn.XLOOKUP($H100,'I_Asset number input'!$B$5:$B$239,'I_Asset number input'!N$5:N$239)","v":0},{"$f":"_xlfn.XLOOKUP($H100,'I_Asset number input'!$B$5:$B$239,'I_Asset number input'!O$5:O$239)","v":0},null,null,null,0,0,0,0,0,0]
[null,"70W SON","Minor (Cat P)",null,null,"Luminaire","Traditional","70W SON",null,{"$f":"IF(ISBLANK(F101),0,\nIF(OR(F101=\"Luminaire\",F101=\"Smart Controller\",F101=\"NW\"),OFFSET(I_CAPEX!$AC$48,(MATCH('C_CAPEX Build Up'!H101,I_CAPEX!V$49:V$437,0)),0),\nIF('C_CAPEX Build Up'!F101=\"Bracket\",OFFSET(I_CAPEX!S$48,MATCH('C_CAPEX Build Up'!H101,I_CAPEX!L$49:L$130,0),0),\nOFFSET(I_CAPEX!I$48,MATCH('C_CAPEX Build Up'!H101,I_CAPEX!B$49:B$102,0),0))))","v":356.4350686043814},null,0,{"$f":"SUM(J101,L101)*I_CAPEX!$D$13","v":21.386104116262882},377.82117272064426,null,null,null,{"$f":"IF(OR(G101=\"LED\",G101=\"Smart Controller\"),-PMT(return_on_assests_pct,LED_lantern_lifespan,N101)*(1+'I_Global Inputs'!$G$54),IF(G101=\"LED20\",-PMT(return_on_assests_pct,LED_life_span_20yrs,N101),\nIF(G101=\"Traditional\",-PMT(return_on_assests_pct,trad_lantern_lifespan,N101),\n-PMT(return_on_assests_pct,pole_lifespan,N101))))","v":24.973997148200851},25.997931031277083,26.745282703380735,27.514118182065925,28.305055053353346,29.118728656751255,null,null,null,377.82117272064426,393.31184080219066,404.61821212566451,416.24960298641838,428.21535658543081,440.52508470877916,null,null,null,null,{"$f":"_xlfn.XLOOKUP($H101,'I_Asset number input'!$B$5:$B$239,'I_Asset number input'!J$5:J$239)","v":0},{"$f":"_xlfn.XLOOKUP($H101,'I_Asset number input'!$B$5:$B$239,'I_Asset number input'!K$5:K$239)","v":0},{"$f":"_xlfn.XLOOKUP($H101,'I_Asset number input'!$B$5:$B$239,'I_Asset number input'!L$5:L$239)","v":0},{"$f":"_xlfn.XLOOKUP($H101,'I_Asset number input'!$B$5:$B$239,'I_Asset number input'!M$5:M$239)","v":0},{"$f":"_xlfn.XLOOKUP($H101,'I_Asset number input'!$B$5:$B$239,'I_Asset number input'!N$5:N$239)","v":0},{"$f":"_xlfn.XLOOKUP($H101,'I_Asset number input'!$B$5:$B$239,'I_Asset number input'!O$5:O$239)","v":0},null,null,null,0,0,0,0,0,0]
[null,"70W SON - BOURKE HILL","Minor (Cat P)",null,null,"Luminaire","Traditional","70W SON - BOURKE HILL",null,{"$f":"IF(ISBLANK(F102),0,\nIF(OR(F102=\"Luminaire\",F102=\"Smart Controller\",F102=\"NW\"),OFFSET(I_CAPEX!$AC$48,(MATCH('C_CAPEX Build Up'!H102,I_CAPEX!V$49:V$437,0)),0),\nIF('C_CAPEX Build Up'!F102=\"Bracket\",OFFSET(I_CAPEX!S$48,MATCH('C_CAPEX Build Up'!H102,I_CAPEX!L$49:L$130,0),0),\nOFFSET(I_CAPEX!I$48,MATCH('C_CAPEX Build Up'!H102,I_CAPEX!B$49:B$102,0),0))))","v":1077.8046414759795},null,0,{"$f":"SUM(J102,L102)*I_CAPEX!$D$13","v":64.668278488558769},1142.4729199645383,null,null,null,{"$f":"IF(OR(G102=\"LED\",G102=\"Smart Controller\"),-PMT(return_on_assests_pct,LED_lantern_lifespan,N102)*(1+'I_Global Inputs'!$G$54),IF(G102=\"LED20\",-PMT(return_on_assests_pct,LED_life_span_20yrs,N102),\nIF(G102=\"Traditional\",-PMT(return_on_assests_pct,trad_lantern_lifespan,N102),\n-PMT(return_on_assests_pct,pole_lifespan,N102))))","v":75.517513324186652},78.613731370478305,80.873607493672566,83.19844733253268,85.59011837187775,88.050541780333504,null,null,null,1142.4729199645383,1189.3143096830843,1223.5030317367402,1258.6745627132736,1294.8571550105764,1332.0798731864309,null,null,null,null,{"$f":"_xlfn.XLOOKUP($H102,'I_Asset number input'!$B$5:$B$239,'I_Asset number input'!J$5:J$239)","v":2},{"$f":"_xlfn.XLOOKUP($H102,'I_Asset number input'!$B$5:$B$239,'I_Asset number input'!K$5:K$239)","v":2},{"$f":"_xlfn.XLOOKUP($H102,'I_Asset number input'!$B$5:$B$239,'I_Asset number input'!L$5:L$239)","v":1.6666666666666667},{"$f":"_xlfn.XLOOKUP($H102,'I_Asset number input'!$B$5:$B$239,'I_Asset number input'!M$5:M$239)","v":1.0000000000000002},{"$f":"_xlfn.XLOOKUP($H102,'I_Asset number input'!$B$5:$B$239,'I_Asset number input'!N$5:N$239)","v":0.33333333333333343},{"$f":"_xlfn.XLOOKUP($H102,'I_Asset number input'!$B$5:$B$239,'I_Asset number input'!O$5:O$239)","v":0},null,null,null,151.0350266483733,157.22746274095661,134.78934582278762,83.198447332532695,28.530039457292592,0]
[null,"70W SON - NOSTALGIA","Minor (Cat P)",null,null,"Luminaire","Traditional","70W SON - NOSTALGIA",null,{"$f":"IF(ISBLANK(F103),0,\nIF(OR(F103=\"Luminaire\",F103=\"Smart Controller\",F103=\"NW\"),OFFSET(I_CAPEX!$AC$48,(MATCH('C_CAPEX Build Up'!H103,I_CAPEX!V$49:V$437,0)),0),\nIF('C_CAPEX Build Up'!F103=\"Bracket\",OFFSET(I_CAPEX!S$48,MATCH('C_CAPEX Build Up'!H103,I_CAPEX!L$49:L$130,0),0),\nOFFSET(I_CAPEX!I$48,MATCH('C_CAPEX Build Up'!H103,I_CAPEX!B$49:B$102,0),0))))","v":1005.1722235732277},null,0,{"$f":"SUM(J103,L103)*I_CAPEX!$D$13","v":60.310333414393661},1065.4825569876214,null,null,null,{"$f":"IF(OR(G103=\"LED\",G103=\"Smart Controller\"),-PMT(return_on_assests_pct,LED_lantern_lifespan,N103)*(1+'I_Global Inputs'!$G$54),IF(G103=\"LED20\",-PMT(return_on_assests_pct,LED_life_span_20yrs,N103),\nIF(G103=\"Traditional\",-PMT(return_on_assests_pct,trad_lantern_lifespan,N103),\n-PMT(return_on_assests_pct,pole_lifespan,N103))))","v":70.42844673858761},73.3160130548697,75.423597880854928,77.59176856814986,79.822266753221697,82.116884138634205,null,null,null,1065.4825569876214,1109.1673418241137,1141.0521124451971,1173.8534612589697,1207.597736756167,1242.3120448565903,null,null,null,null,{"$f":"_xlfn.XLOOKUP($H103,'I_Asset number input'!$B$5:$B$239,'I_Asset number input'!J$5:J$239)","v":69},{"$f":"_xlfn.XLOOKUP($H103,'I_Asset number input'!$B$5:$B$239,'I_Asset number input'!K$5:K$239)","v":69},{"$f":"_xlfn.XLOOKUP($H103,'I_Asset number input'!$B$5:$B$239,'I_Asset number input'!L$5:L$239)","v":69},{"$f":"_xlfn.XLOOKUP($H103,'I_Asset number input'!$B$5:$B$239,'I_Asset number input'!M$5:M$239)","v":69},{"$f":"_xlfn.XLOOKUP($H103,'I_Asset number input'!$B$5:$B$239,'I_Asset number input'!N$5:N$239)","v":69},{"$f":"_xlfn.XLOOKUP($H103,'I_Asset number input'!$B$5:$B$239,'I_Asset number input'!O$5:O$239)","v":69},null,null,null,4859.5628249625452,5058.8049007860091,5204.2282537789897,5353.8320312023407,5507.7364059722968,5666.0650055657597]
[null,"70W SON - PARKVILLE","Minor (Cat P)",null,null,"Luminaire","Traditional","70W SON - PARKVILLE",null,{"$f":"IF(ISBLANK(F104),0,\nIF(OR(F104=\"Luminaire\",F104=\"Smart Controller\",F104=\"NW\"),OFFSET(I_CAPEX!$AC$48,(MATCH('C_CAPEX Build Up'!H104,I_CAPEX!V$49:V$437,0)),0),\nIF('C_CAPEX Build Up'!F104=\"Bracket\",OFFSET(I_CAPEX!S$48,MATCH('C_CAPEX Build Up'!H104,I_CAPEX!L$49:L$130,0),0),\nOFFSET(I_CAPEX!I$48,MATCH('C_CAPEX Build Up'!H104,I_CAPEX!B$49:B$102,0),0))))","v":1260.3871491792688},null,0,{"$f":"SUM(J104,L104)*I_CAPEX!$D$13","v":75.623228950756129},1336.0103781300249,null,null,null,{"$f":"IF(OR(G104=\"LED\",G104=\"Smart Controller\"),-PMT(return_on_assests_pct,LED_lantern_lifespan,N104)*(1+'I_Global Inputs'!$G$54),IF(G104=\"LED20\",-PMT(return_on_assests_pct,LED_life_span_20yrs,N104),\nIF(G104=\"Traditional\",-PMT(return_on_assests_pct,trad_lantern_lifespan,N104),\n-PMT(return_on_assests_pct,pole_lifespan,N104))))","v":88.310348340525607},91.93107262248715,94.573776796140123,97.29244968363723,100.08927512588684,102.96649974176042,null,null,null,1336.0103781300249,1390.7868036333559,1430.767171378182,1471.8968380671995,1514.2088421174526,1557.73717168757,null,null,null,null,{"$f":"_xlfn.XLOOKUP($H104,'I_Asset number input'!$B$5:$B$239,'I_Asset number input'!J$5:J$239)","v":6},{"$f":"_xlfn.XLOOKUP($H104,'I_Asset number input'!$B$5:$B$239,'I_Asset number input'!K$5:K$239)","v":6},{"$f":"_xlfn.XLOOKUP($H104,'I_Asset number input'!$B$5:$B$239,'I_Asset number input'!L$5:L$239)","v":6},{"$f":"_xlfn.XLOOKUP($H104,'I_Asset number input'!$B$5:$B$239,'I_Asset number input'!M$5:M$239)","v":6},{"$f":"_xlfn.XLOOKUP($H104,'I_Asset number input'!$B$5:$B$239,'I_Asset number input'!N$5:N$239)","v":6},{"$f":"_xlfn.XLOOKUP($H104,'I_Asset number input'!$B$5:$B$239,'I_Asset number input'!O$5:O$239)","v":6},null,null,null,529.86209004315367,551.58643573492293,567.44266077684074,583.75469810182335,600.53565075532106,617.79899845056252]
[null,"70W SON - PLAIN","Minor (Cat P)",null,null,"Luminaire","Traditional","70W SON - PLAIN",null,{"$f":"IF(ISBLANK(F105),0,\nIF(OR(F105=\"Luminaire\",F105=\"Smart Controller\",F105=\"NW\"),OFFSET(I_CAPEX!$AC$48,(MATCH('C_CAPEX Build Up'!H105,I_CAPEX!V$49:V$437,0)),0),\nIF('C_CAPEX Build Up'!F105=\"Bracket\",OFFSET(I_CAPEX!S$48,MATCH('C_CAPEX Build Up'!H105,I_CAPEX!L$49:L$130,0),0),\nOFFSET(I_CAPEX!I$48,MATCH('C_CAPEX Build Up'!H105,I_CAPEX!B$49:B$102,0),0))))","v":356.4350686043814},null,0,{"$f":"SUM(J105,L105)*I_CAPEX!$D$13","v":21.386104116262882},377.82117272064426,null,null,null,{"$f":"IF(OR(G105=\"LED\",G105=\"Smart Controller\"),-PMT(return_on_assests_pct,LED_lantern_lifespan,N105)*(1+'I_Global Inputs'!$G$54),IF(G105=\"LED20\",-PMT(return_on_assests_pct,LED_life_span_20yrs,N105),\nIF(G105=\"Traditional\",-PMT(return_on_assests_pct,trad_lantern_lifespan,N105),\n-PMT(return_on_assests_pct,pole_lifespan,N105))))","v":24.973997148200851},25.997931031277083,26.745282703380735,27.514118182065925,28.305055053353346,29.118728656751255,null,null,null,377.82117272064426,393.31184080219066,404.61821212566451,416.24960298641838,428.21535658543081,440.52508470877916,null,null,null,null,{"$f":"_xlfn.XLOOKUP($H105,'I_Asset number input'!$B$5:$B$239,'I_Asset number input'!J$5:J$239)","v":32},{"$f":"_xlfn.XLOOKUP($H105,'I_Asset number input'!$B$5:$B$239,'I_Asset number input'!K$5:K$239)","v":32},{"$f":"_xlfn.XLOOKUP($H105,'I_Asset number input'!$B$5:$B$239,'I_Asset number input'!L$5:L$239)","v":32},{"$f":"_xlfn.XLOOKUP($H105,'I_Asset number input'!$B$5:$B$239,'I_Asset number input'!M$5:M$239)","v":32},{"$f":"_xlfn.XLOOKUP($H105,'I_Asset number input'!$B$5:$B$239,'I_Asset number input'!N$5:N$239)","v":32},{"$f":"_xlfn.XLOOKUP($H105,'I_Asset number input'!$B$5:$B$239,'I_Asset number input'!O$5:O$239)","v":32},null,null,null,799.16790874242724,831.93379300086667,855.84904650818351,880.4517818261096,905.76176170730707,931.79931701604016]
[null,"70W SON BOLLARD","Minor (Cat P)",null,null,"Luminaire","Traditional","70W SON BOLLARD",null,{"$f":"IF(ISBLANK(F106),0,\nIF(OR(F106=\"Luminaire\",F106=\"Smart Controller\",F106=\"NW\"),OFFSET(I_CAPEX!$AC$48,(MATCH('C_CAPEX Build Up'!H106,I_CAPEX!V$49:V$437,0)),0),\nIF('C_CAPEX Build Up'!F106=\"Bracket\",OFFSET(I_CAPEX!S$48,MATCH('C_CAPEX Build Up'!H106,I_CAPEX!L$49:L$130,0),0),\nOFFSET(I_CAPEX!I$48,MATCH('C_CAPEX Build Up'!H106,I_CAPEX!B$49:B$102,0),0))))","v":767.72008812192337},null,0,{"$f":"SUM(J106,L106)*I_CAPEX!$D$13","v":46.063205287315398},813.78329340923881,null,null,null,{"$f":"IF(OR(G106=\"LED\",G106=\"Smart Controller\"),-PMT(return_on_assests_pct,LED_lantern_lifespan,N106)*(1+'I_Global Inputs'!$G$54),IF(G106=\"LED20\",-PMT(return_on_assests_pct,LED_life_span_20yrs,N106),\nIF(G106=\"Traditional\",-PMT(return_on_assests_pct,trad_lantern_lifespan,N106),\n-PMT(return_on_assests_pct,pole_lifespan,N106))))","v":53.79111367028306},55.996549330764665,57.606258762028041,59.262241838436807,60.965828769153852,62.718388002309638,null,null,null,813.78329340923881,847.14840843901754,871.50103014592059,896.55370650451368,922.32656169367374,948.84029839364825,null,null,null,null,{"$f":"_xlfn.XLOOKUP($H106,'I_Asset number input'!$B$5:$B$239,'I_Asset number input'!J$5:J$239)","v":1},{"$f":"_xlfn.XLOOKUP($H106,'I_Asset number input'!$B$5:$B$239,'I_Asset number input'!K$5:K$239)","v":1},{"$f":"_xlfn.XLOOKUP($H106,'I_Asset number input'!$B$5:$B$239,'I_Asset number input'!L$5:L$239)","v":1},{"$f":"_xlfn.XLOOKUP($H106,'I_Asset number input'!$B$5:$B$239,'I_Asset number input'!M$5:M$239)","v":1},{"$f":"_xlfn.XLOOKUP($H106,'I_Asset number input'!$B$5:$B$239,'I_Asset number input'!N$5:N$239)","v":1},{"$f":"_xlfn.XLOOKUP($H106,'I_Asset number input'!$B$5:$B$239,'I_Asset number input'!O$5:O$239)","v":1},null,null,null,53.79111367028306,55.996549330764665,57.606258762028041,59.262241838436807,60.965828769153852,62.718388002309638]
[null,"70W SON FLOODLIGHT","Minor (Cat P)",null,null,"Luminaire","Traditional","70W SON FLOODLIGHT",null,{"$f":"IF(ISBLANK(F107),0,\nIF(OR(F107=\"Luminaire\",F107=\"Smart Controller\",F107=\"NW\"),OFFSET(I_CAPEX!$AC$48,(MATCH('C_CAPEX Build Up'!H107,I_CAPEX!V$49:V$437,0)),0),\nIF('C_CAPEX Build Up'!F107=\"Bracket\",OFFSET(I_CAPEX!S$48,MATCH('C_CAPEX Build Up'!H107,I_CAPEX!L$49:L$130,0),0),\nOFFSET(I_CAPEX!I$48,MATCH('C_CAPEX Build Up'!H107,I_CAPEX!B$49:B$102,0),0))))","v":429.49047283055097},null,0,{"$f":"SUM(J107,L107)*I_CAPEX!$D$13","v":25.769428369833058},455.25990120038404,null,null,null,{"$f":"IF(OR(G107=\"LED\",G107=\"Smart Controller\"),-PMT(return_on_assests_pct,LED_lantern_lifespan,N107)*(1+'I_Global Inputs'!$G$54),IF(G107=\"LED20\",-PMT(return_on_assests_pct,LED_life_span_20yrs,N107),\nIF(G107=\"Traditional\",-PMT(return_on_assests_pct,trad_lantern_lifespan,N107),\n-PMT(return_on_assests_pct,pole_lifespan,N107))))","v":30.092700714459856},31.326501443752708,32.227031305416702,33.153448323142619,34.106496664200762,35.086941888127335,null,null,null,455.25990120038404,473.92555714959974,487.54929732962779,501.56467348221076,515.98294380318714,530.81569012305204,null,null,null,null,{"$f":"_xlfn.XLOOKUP($H107,'I_Asset number input'!$B$5:$B$239,'I_Asset number input'!J$5:J$239)","v":21},{"$f":"_xlfn.XLOOKUP($H107,'I_Asset number input'!$B$5:$B$239,'I_Asset number input'!K$5:K$239)","v":21},{"$f":"_xlfn.XLOOKUP($H107,'I_Asset number input'!$B$5:$B$239,'I_Asset number input'!L$5:L$239)","v":17.5},{"$f":"_xlfn.XLOOKUP($H107,'I_Asset number input'!$B$5:$B$239,'I_Asset number input'!M$5:M$239)","v":10.5},{"$f":"_xlfn.XLOOKUP($H107,'I_Asset number input'!$B$5:$B$239,'I_Asset number input'!N$5:N$239)","v":3.5},{"$f":"_xlfn.XLOOKUP($H107,'I_Asset number input'!$B$5:$B$239,'I_Asset number input'!O$5:O$239)","v":0},null,null,null,631.946715003657,657.8565303188069,563.97304784479229,348.11120739299753,119.37273832470267,0]
[null,"80W MBF - BEGA+CURVE BRA","Minor (Cat P)",null,null,"Luminaire","Traditional","80W MBF - BEGA+CURVE BRA",null,{"$f":"IF(ISBLANK(F108),0,\nIF(OR(F108=\"Luminaire\",F108=\"Smart Controller\",F108=\"NW\"),OFFSET(I_CAPEX!$AC$48,(MATCH('C_CAPEX Build Up'!H108,I_CAPEX!V$49:V$437,0)),0),\nIF('C_CAPEX Build Up'!F108=\"Bracket\",OFFSET(I_CAPEX!S$48,MATCH('C_CAPEX Build Up'!H108,I_CAPEX!L$49:L$130,0),0),\nOFFSET(I_CAPEX!I$48,MATCH('C_CAPEX Build Up'!H108,I_CAPEX!B$49:B$102,0),0))))","v":1573.6605713889969},null,0,{"$f":"SUM(J108,L108)*I_CAPEX!$D$13","v":94.419634283339818},1668.0802056723367,null,null,null,{"$f":"IF(OR(G108=\"LED\",G108=\"Smart Controller\"),-PMT(return_on_assests_pct,LED_lantern_lifespan,N108)*(1+'I_Global Inputs'!$G$54),IF(G108=\"LED20\",-PMT(return_on_assests_pct,LED_life_span_20yrs,N108),\nIF(G108=\"Traditional\",-PMT(return_on_assests_pct,trad_lantern_lifespan,N108),\n-PMT(return_on_assests_pct,pole_lifespan,N108))))","v":110.26017943741083},114.78084679434467,118.08040388886984,121.47481197399223,124.96679769154878,128.55916606501123,null,null,null,1668.0802056723367,1736.4714941049024,1786.3891153616996,1837.741697641696,1890.5704911704884,1944.9179319766915,null,null,null,null,{"$f":"_xlfn.XLOOKUP($H108,'I_Asset number input'!$B$5:$B$239,'I_Asset number input'!J$5:J$239)","v":30},{"$f":"_xlfn.XLOOKUP($H108,'I_Asset number input'!$B$5:$B$239,'I_Asset number input'!K$5:K$239)","v":30},{"$f":"_xlfn.XLOOKUP($H108,'I_Asset number input'!$B$5:$B$239,'I_Asset number input'!L$5:L$239)","v":30},{"$f":"_xlfn.XLOOKUP($H108,'I_Asset number input'!$B$5:$B$239,'I_Asset number input'!M$5:M$239)","v":30},{"$f":"_xlfn.XLOOKUP($H108,'I_Asset number input'!$B$5:$B$239,'I_Asset number input'!N$5:N$239)","v":30},{"$f":"_xlfn.XLOOKUP($H108,'I_Asset number input'!$B$5:$B$239,'I_Asset number input'!O$5:O$239)","v":30},null,null,null,3307.8053831223247,3443.4254038303402,3542.4121166660952,3644.2443592197669,3749.0039307464631,3856.774981950337]
[null,"80W MBF - BOURKE HILL","Minor (Cat P)",null,null,"Luminaire","Traditional","80W MBF - BOURKE HILL",null,{"$f":"IF(ISBLANK(F109),0,\nIF(OR(F109=\"Luminaire\",F109=\"Smart Controller\",F109=\"NW\"),OFFSET(I_CAPEX!$AC$48,(MATCH('C_CAPEX Build Up'!H109,I_CAPEX!V$49:V$437,0)),0),\nIF('C_CAPEX Build Up'!F109=\"Bracket\",OFFSET(I_CAPEX!S$48,MATCH('C_CAPEX Build Up'!H109,I_CAPEX!L$49:L$130,0),0),\nOFFSET(I_CAPEX!I$48,MATCH('C_CAPEX Build Up'!H109,I_CAPEX!B$49:B$102,0),0))))","v":738.38776550735054},null,0,{"$f":"SUM(J109,L109)*I_CAPEX!$D$13","v":44.303265930441029},782.69103143779159,null,null,null,{"$f":"IF(OR(G109=\"LED\",G109=\"Smart Controller\"),-PMT(return_on_assests_pct,LED_lantern_lifespan,N109)*(1+'I_Global Inputs'!$G$54),IF(G109=\"LED20\",-PMT(return_on_assests_pct,LED_life_span_20yrs,N109),\nIF(G109=\"Traditional\",-PMT(return_on_assests_pct,trad_lantern_lifespan,N109),\n-PMT(return_on_assests_pct,pole_lifespan,N109))))","v":51.735913703021915},53.857086164845811,55.405293341467079,56.998006183589908,58.636504077004297,60.322103185469544,null,null,null,782.69103143779159,814.78136372674101,838.20354350895116,862.29903091719848,887.08718124477741,912.58790618352009,null,null,null,null,{"$f":"_xlfn.XLOOKUP($H109,'I_Asset number input'!$B$5:$B$239,'I_Asset number input'!J$5:J$239)","v":578},{"$f":"_xlfn.XLOOKUP($H109,'I_Asset number input'!$B$5:$B$239,'I_Asset number input'!K$5:K$239)","v":578},{"$f":"_xlfn.XLOOKUP($H109,'I_Asset number input'!$B$5:$B$239,'I_Asset number input'!L$5:L$239)","v":481.66666666666669},{"$f":"_xlfn.XLOOKUP($H109,'I_Asset number input'!$B$5:$B$239,'I_Asset number input'!M$5:M$239)","v":289.00000000000006},{"$f":"_xlfn.XLOOKUP($H109,'I_Asset number input'!$B$5:$B$239,'I_Asset number input'!N$5:N$239)","v":96.333333333333357},{"$f":"_xlfn.XLOOKUP($H109,'I_Asset number input'!$B$5:$B$239,'I_Asset number input'!O$5:O$239)","v":0},null,null,null,29903.358120346667,31129.395803280877,26686.882959473311,16472.423787057487,5648.6498927514149,0]
[null,"80W MBF - NOSTALGIA","Minor (Cat P)",null,null,"Luminaire","Traditional","80W MBF - NOSTALGIA",null,{"$f":"IF(ISBLANK(F110),0,\nIF(OR(F110=\"Luminaire\",F110=\"Smart Controller\",F110=\"NW\"),OFFSET(I_CAPEX!$AC$48,(MATCH('C_CAPEX Build Up'!H110,I_CAPEX!V$49:V$437,0)),0),\nIF('C_CAPEX Build Up'!F110=\"Bracket\",OFFSET(I_CAPEX!S$48,MATCH('C_CAPEX Build Up'!H110,I_CAPEX!L$49:L$130,0),0),\nOFFSET(I_CAPEX!I$48,MATCH('C_CAPEX Build Up'!H110,I_CAPEX!B$49:B$102,0),0))))","v":947.90435561144261},null,0,{"$f":"SUM(J110,L110)*I_CAPEX!$D$13","v":56.874261336686551},1004.7786169481292,null,null,null,{"$f":"IF(OR(G110=\"LED\",G110=\"Smart Controller\"),-PMT(return_on_assests_pct,LED_lantern_lifespan,N110)*(1+'I_Global Inputs'!$G$54),IF(G110=\"LED20\",-PMT(return_on_assests_pct,LED_life_span_20yrs,N110),\nIF(G110=\"Traditional\",-PMT(return_on_assests_pct,trad_lantern_lifespan,N110),\n-PMT(return_on_assests_pct,pole_lifespan,N110))))","v":66.415913469172992},69.138965921409081,71.126474916902566,73.17111800392496,75.274537592358286,77.438423305755947,null,null,null,1004.7786169481292,1045.9745402430024,1076.0427337730187,1106.9752851123067,1138.797041594036,1171.5335648272921,null,null,null,null,{"$f":"_xlfn.XLOOKUP($H110,'I_Asset number input'!$B$5:$B$239,'I_Asset number input'!J$5:J$239)","v":0},{"$f":"_xlfn.XLOOKUP($H110,'I_Asset number input'!$B$5:$B$239,'I_Asset number input'!K$5:K$239)","v":0},{"$f":"_xlfn.XLOOKUP($H110,'I_Asset number input'!$B$5:$B$239,'I_Asset number input'!L$5:L$239)","v":0},{"$f":"_xlfn.XLOOKUP($H110,'I_Asset number input'!$B$5:$B$239,'I_Asset number input'!M$5:M$239)","v":0},{"$f":"_xlfn.XLOOKUP($H110,'I_Asset number input'!$B$5:$B$239,'I_Asset number input'!N$5:N$239)","v":0},{"$f":"_xlfn.XLOOKUP($H110,'I_Asset number input'!$B$5:$B$239,'I_Asset number input'!O$5:O$239)","v":0},null,null,null,0,0,0,0,0,0]
[null,"80W MBF - PLAIN","Minor (Cat P)",null,null,"Luminaire","Traditional","80W MBF - PLAIN",null,{"$f":"IF(ISBLANK(F111),0,\nIF(OR(F111=\"Luminaire\",F111=\"Smart Controller\",F111=\"NW\"),OFFSET(I_CAPEX!$AC$48,(MATCH('C_CAPEX Build Up'!H111,I_CAPEX!V$49:V$437,0)),0),\nIF('C_CAPEX Build Up'!F111=\"Bracket\",OFFSET(I_CAPEX!S$48,MATCH('C_CAPEX Build Up'!H111,I_CAPEX!L$49:L$130,0),0),\nOFFSET(I_CAPEX!I$48,MATCH('C_CAPEX Build Up'!H111,I_CAPEX!B$49:B$102,0),0))))","v":309.78797873214961},null,0,{"$f":"SUM(J111,L111)*I_CAPEX!$D$13","v":18.587278723928975},328.3752574560786,null,null,null,{"$f":"IF(OR(G111=\"LED\",G111=\"Smart Controller\"),-PMT(return_on_assests_pct,LED_lantern_lifespan,N111)*(1+'I_Global Inputs'!$G$54),IF(G111=\"LED20\",-PMT(return_on_assests_pct,LED_life_span_20yrs,N111),\nIF(G111=\"Traditional\",-PMT(return_on_assests_pct,trad_lantern_lifespan,N111),\n-PMT(return_on_assests_pct,pole_lifespan,N111))))","v":21.705619841774766},22.595550255287531,23.245095107340386,23.913312154142279,24.600738157482088,25.307925309215801,null,null,null,328.3752574560786,341.83864301177778,351.66533580272119,361.77451242977162,372.17429333785998,382.87303240695815,null,null,null,null,{"$f":"_xlfn.XLOOKUP($H111,'I_Asset number input'!$B$5:$B$239,'I_Asset number input'!J$5:J$239)","v":163},{"$f":"_xlfn.XLOOKUP($H111,'I_Asset number input'!$B$5:$B$239,'I_Asset number input'!K$5:K$239)","v":163},{"$f":"_xlfn.XLOOKUP($H111,'I_Asset number input'!$B$5:$B$239,'I_Asset number input'!L$5:L$239)","v":163},{"$f":"_xlfn.XLOOKUP($H111,'I_Asset number input'!$B$5:$B$239,'I_Asset number input'!M$5:M$239)","v":163},{"$f":"_xlfn.XLOOKUP($H111,'I_Asset number input'!$B$5:$B$239,'I_Asset number input'!N$5:N$239)","v":163},{"$f":"_xlfn.XLOOKUP($H111,'I_Asset number input'!$B$5:$B$239,'I_Asset number input'!O$5:O$239)","v":163},null,null,null,3538.0160342092868,3683.0746916118674,3788.9505024964828,3897.8698811251916,4009.9203196695803,4125.1918254021757]
[null,"80W MBF - REGAL/FLINDERS","Minor (Cat P)",null,null,"Luminaire","Traditional","80W MBF - REGAL/FLINDERS",null,{"$f":"IF(ISBLANK(F112),0,\nIF(OR(F112=\"Luminaire\",F112=\"Smart Controller\",F112=\"NW\"),OFFSET(I_CAPEX!$AC$48,(MATCH('C_CAPEX Build Up'!H112,I_CAPEX!V$49:V$437,0)),0),\nIF('C_CAPEX Build Up'!F112=\"Bracket\",OFFSET(I_CAPEX!S$48,MATCH('C_CAPEX Build Up'!H112,I_CAPEX!L$49:L$130,0),0),\nOFFSET(I_CAPEX!I$48,MATCH('C_CAPEX Build Up'!H112,I_CAPEX!B$49:B$102,0),0))))","v":1714.735075392419},null,0,{"$f":"SUM(J112,L112)*I_CAPEX!$D$13","v":102.88410452354513},1817.6191799159642,null,null,null,{"$f":"IF(OR(G112=\"LED\",G112=\"Smart Controller\"),-PMT(return_on_assests_pct,LED_lantern_lifespan,N112)*(1+'I_Global Inputs'!$G$54),IF(G112=\"LED20\",-PMT(return_on_assests_pct,LED_life_span_20yrs,N112),\nIF(G112=\"Traditional\",-PMT(return_on_assests_pct,trad_lantern_lifespan,N112),\n-PMT(return_on_assests_pct,pole_lifespan,N112))))","v":120.1447126132859},125.07064583043062,128.66599948299643,132.36470726635119,136.16974025855382,140.08415494600408,null,null,null,1817.6191799159642,1892.1415662925185,1946.534170139505,2002.4903754664022,2060.0551304723226,2119.2746754634982,null,null,null,null,{"$f":"_xlfn.XLOOKUP($H112,'I_Asset number input'!$B$5:$B$239,'I_Asset number input'!J$5:J$239)","v":17},{"$f":"_xlfn.XLOOKUP($H112,'I_Asset number input'!$B$5:$B$239,'I_Asset number input'!K$5:K$239)","v":17},{"$f":"_xlfn.XLOOKUP($H112,'I_Asset number input'!$B$5:$B$239,'I_Asset number input'!L$5:L$239)","v":17},{"$f":"_xlfn.XLOOKUP($H112,'I_Asset number input'!$B$5:$B$239,'I_Asset number input'!M$5:M$239)","v":17},{"$f":"_xlfn.XLOOKUP($H112,'I_Asset number input'!$B$5:$B$239,'I_Asset number input'!N$5:N$239)","v":17},{"$f":"_xlfn.XLOOKUP($H112,'I_Asset number input'!$B$5:$B$239,'I_Asset number input'!O$5:O$239)","v":17},null,null,null,2042.4601144258604,2126.2009791173205,2187.3219912109394,2250.2000235279702,2314.8855843954148,2381.4306340820694]
[null,"80W MBF BOLLARD","Minor (Cat P)",null,null,"Luminaire","Traditional","80W MBF BOLLARD",null,{"$f":"IF(ISBLANK(F113),0,\nIF(OR(F113=\"Luminaire\",F113=\"Smart Controller\",F113=\"NW\"),OFFSET(I_CAPEX!$AC$48,(MATCH('C_CAPEX Build Up'!H113,I_CAPEX!V$49:V$437,0)),0),\nIF('C_CAPEX Build Up'!F113=\"Bracket\",OFFSET(I_CAPEX!S$48,MATCH('C_CAPEX Build Up'!H113,I_CAPEX!L$49:L$130,0),0),\nOFFSET(I_CAPEX!I$48,MATCH('C_CAPEX Build Up'!H113,I_CAPEX!B$49:B$102,0),0))))","v":611.28103417753459},null,0,{"$f":"SUM(J113,L113)*I_CAPEX!$D$13","v":36.676862050652076},647.95789622818666,null,null,null,{"$f":"IF(OR(G113=\"LED\",G113=\"Smart Controller\"),-PMT(return_on_assests_pct,LED_lantern_lifespan,N113)*(1+'I_Global Inputs'!$G$54),IF(G113=\"LED20\",-PMT(return_on_assests_pct,LED_life_span_20yrs,N113),\nIF(G113=\"Traditional\",-PMT(return_on_assests_pct,trad_lantern_lifespan,N113),\n-PMT(return_on_assests_pct,pole_lifespan,N113))))","v":42.830047178223587},44.586079112530754,45.867776519036205,47.186318345919972,48.542763744356208,49.938202312495797,null,null,null,647.95789622818666,674.52416997354226,693.91443474875007,713.86210337216608,734.38319929956037,755.49420660629812,null,null,null,null,{"$f":"_xlfn.XLOOKUP($H113,'I_Asset number input'!$B$5:$B$239,'I_Asset number input'!J$5:J$239)","v":43},{"$f":"_xlfn.XLOOKUP($H113,'I_Asset number input'!$B$5:$B$239,'I_Asset number input'!K$5:K$239)","v":43},{"$f":"_xlfn.XLOOKUP($H113,'I_Asset number input'!$B$5:$B$239,'I_Asset number input'!L$5:L$239)","v":43},{"$f":"_xlfn.XLOOKUP($H113,'I_Asset number input'!$B$5:$B$239,'I_Asset number input'!M$5:M$239)","v":43},{"$f":"_xlfn.XLOOKUP($H113,'I_Asset number input'!$B$5:$B$239,'I_Asset number input'!N$5:N$239)","v":43},{"$f":"_xlfn.XLOOKUP($H113,'I_Asset number input'!$B$5:$B$239,'I_Asset number input'!O$5:O$239)","v":43},null,null,null,1841.6920286636143,1917.2014018388224,1972.3143903185569,2029.0116888745588,2087.3388410073171,2147.3426994373194]
[null,"80W MBF TOORAK","Minor (Cat P)",null,null,"Luminaire","Traditional","80W MBF TOORAK",null,{"$f":"IF(ISBLANK(F114),0,\nIF(OR(F114=\"Luminaire\",F114=\"Smart Controller\",F114=\"NW\"),OFFSET(I_CAPEX!$AC$48,(MATCH('C_CAPEX Build Up'!H114,I_CAPEX!V$49:V$437,0)),0),\nIF('C_CAPEX Build Up'!F114=\"Bracket\",OFFSET(I_CAPEX!S$48,MATCH('C_CAPEX Build Up'!H114,I_CAPEX!L$49:L$130,0),0),\nOFFSET(I_CAPEX!I$48,MATCH('C_CAPEX Build Up'!H114,I_CAPEX!B$49:B$102,0),0))))","v":865.07282822815171},null,0,{"$f":"SUM(J114,L114)*I_CAPEX!$D$13","v":51.904369693689098},916.9771979218408,null,null,null,{"$f":"IF(OR(G114=\"LED\",G114=\"Smart Controller\"),-PMT(return_on_assests_pct,LED_lantern_lifespan,N114)*(1+'I_Global Inputs'!$G$54),IF(G114=\"LED20\",-PMT(return_on_assests_pct,LED_life_span_20yrs,N114),\nIF(G114=\"Traditional\",-PMT(return_on_assests_pct,trad_lantern_lifespan,N114),\n-PMT(return_on_assests_pct,pole_lifespan,N114))))","v":60.612235574202806},63.097337232745119,64.911170050035409,66.77714436225034,68.696759059181218,70.67155611857855,null,null,null,916.9771979218408,954.57326303663615,982.01398220069586,1010.2435282651084,1039.2845773075303,1069.160457265358,null,null,null,null,{"$f":"_xlfn.XLOOKUP($H114,'I_Asset number input'!$B$5:$B$239,'I_Asset number input'!J$5:J$239)","v":66},{"$f":"_xlfn.XLOOKUP($H114,'I_Asset number input'!$B$5:$B$239,'I_Asset number input'!K$5:K$239)","v":66},{"$f":"_xlfn.XLOOKUP($H114,'I_Asset number input'!$B$5:$B$239,'I_Asset number input'!L$5:L$239)","v":66},{"$f":"_xlfn.XLOOKUP($H114,'I_Asset number input'!$B$5:$B$239,'I_Asset number input'!M$5:M$239)","v":66},{"$f":"_xlfn.XLOOKUP($H114,'I_Asset number input'!$B$5:$B$239,'I_Asset number input'!N$5:N$239)","v":66},{"$f":"_xlfn.XLOOKUP($H114,'I_Asset number input'!$B$5:$B$239,'I_Asset number input'!O$5:O$239)","v":66},null,null,null,4000.407547897385,4164.4242573611782,4284.1372233023367,4407.2915279085228,4533.9860979059604,4664.3227038261839]
[null,"TH FLOODLIGHT","Major (Cat V)",null,null,"Luminaire","Traditional","TH FLOODLIGHT",null,{"$f":"IF(ISBLANK(F115),0,\nIF(OR(F115=\"Luminaire\",F115=\"Smart Controller\",F115=\"NW\"),OFFSET(I_CAPEX!$AC$48,(MATCH('C_CAPEX Build Up'!H115,I_CAPEX!V$49:V$437,0)),0),\nIF('C_CAPEX Build Up'!F115=\"Bracket\",OFFSET(I_CAPEX!S$48,MATCH('C_CAPEX Build Up'!H115,I_CAPEX!L$49:L$130,0),0),\nOFFSET(I_CAPEX!I$48,MATCH('C_CAPEX Build Up'!H115,I_CAPEX!B$49:B$102,0),0))))","v":1684.0059755104855},null,75.314371605110225,{"$f":"SUM(J115,L115)*I_CAPEX!$D$13","v":105.55922082693574},1864.8795679425314,null,null,null,{"$f":"IF(OR(G115=\"LED\",G115=\"Smart Controller\"),-PMT(return_on_assests_pct,LED_lantern_lifespan,N115)*(1+'I_Global Inputs'!$G$54),IF(G115=\"LED20\",-PMT(return_on_assests_pct,LED_life_span_20yrs,N115),\nIF(G115=\"Traditional\",-PMT(return_on_assests_pct,trad_lantern_lifespan,N115),\n-PMT(return_on_assests_pct,pole_lifespan,N115))))","v":123.26862646729067},128.32264015244959,132.01147752844355,135.80635637280477,139.71032501536388,143.72651941501675,null,null,null,1864.8795679425314,1941.3396302281751,1997.1465102843854,2054.5576474283894,2113.6191585690904,2174.3784863189235,null,null,null,null,{"$f":"_xlfn.XLOOKUP($H115,'I_Asset number input'!$B$5:$B$239,'I_Asset number input'!J$5:J$239)","v":11},{"$f":"_xlfn.XLOOKUP($H115,'I_Asset number input'!$B$5:$B$239,'I_Asset number input'!K$5:K$239)","v":11},{"$f":"_xlfn.XLOOKUP($H115,'I_Asset number input'!$B$5:$B$239,'I_Asset number input'!L$5:L$239)","v":9.1666666666666679},{"$f":"_xlfn.XLOOKUP($H115,'I_Asset number input'!$B$5:$B$239,'I_Asset number input'!M$5:M$239)","v":5.5000000000000009},{"$f":"_xlfn.XLOOKUP($H115,'I_Asset number input'!$B$5:$B$239,'I_Asset number input'!N$5:N$239)","v":1.8333333333333337},{"$f":"_xlfn.XLOOKUP($H115,'I_Asset number input'!$B$5:$B$239,'I_Asset number input'!O$5:O$239)","v":0},null,null,null,1355.9548911401973,1411.5490416769455,1210.1052106773993,746.93496005042641,256.13559586150052,0]
[null,"10W LED PH RRW","Minor (Cat P)",null,null,"Luminaire","LED","10W LED PH RRW",null,{"$f":"IF(ISBLANK(F116),0,\nIF(OR(F116=\"Luminaire\",F116=\"Smart Controller\",F116=\"NW\"),OFFSET(I_CAPEX!$AC$48,(MATCH('C_CAPEX Build Up'!H116,I_CAPEX!V$49:V$437,0)),0),\nIF('C_CAPEX Build Up'!F116=\"Bracket\",OFFSET(I_CAPEX!S$48,MATCH('C_CAPEX Build Up'!H116,I_CAPEX!L$49:L$130,0),0),\nOFFSET(I_CAPEX!I$48,MATCH('C_CAPEX Build Up'!H116,I_CAPEX!B$49:B$102,0),0))))","v":408.16711196718904},null,0,{"$f":"SUM(J116,L116)*I_CAPEX!$D$13","v":24.490026718031341},432.65713868522039,null,null,null,{"$f":"IF(OR(G116=\"LED\",G116=\"Smart Controller\"),-PMT(return_on_assests_pct,LED_lantern_lifespan,N116)*(1+'I_Global Inputs'!$G$54),IF(G116=\"LED20\",-PMT(return_on_assests_pct,LED_life_span_20yrs,N116),\nIF(G116=\"Traditional\",-PMT(return_on_assests_pct,trad_lantern_lifespan,N116),\n-PMT(return_on_assests_pct,pole_lifespan,N116))))","v":52.767676526905547},54.931151264508671,56.510234142246901,58.134710256379527,59.805884507326539,61.525099306935644,null,null,null,432.65713868522039,450.39608137131438,463.34342953209028,476.66296970636228,490.3654011425935,504.46173065607678,null,null,null,null,{"$f":"_xlfn.XLOOKUP($H116,'I_Asset number input'!$B$5:$B$239,'I_Asset number input'!J$5:J$239)","v":1},{"$f":"_xlfn.XLOOKUP($H116,'I_Asset number input'!$B$5:$B$239,'I_Asset number input'!K$5:K$239)","v":1},{"$f":"_xlfn.XLOOKUP($H116,'I_Asset number input'!$B$5:$B$239,'I_Asset number input'!L$5:L$239)","v":1},{"$f":"_xlfn.XLOOKUP($H116,'I_Asset number input'!$B$5:$B$239,'I_Asset number input'!M$5:M$239)","v":1},{"$f":"_xlfn.XLOOKUP($H116,'I_Asset number input'!$B$5:$B$239,'I_Asset number input'!N$5:N$239)","v":1},{"$f":"_xlfn.XLOOKUP($H116,'I_Asset number input'!$B$5:$B$239,'I_Asset number input'!O$5:O$239)","v":1},null,null,null,52.767676526905547,54.931151264508671,56.510234142246901,58.134710256379527,59.805884507326539,61.525099306935644]
[null,"16W LED PH","Minor (Cat P)",null,null,"Luminaire","LED","16W LED PH",null,{"$f":"IF(ISBLANK(F117),0,\nIF(OR(F117=\"Luminaire\",F117=\"Smart Controller\",F117=\"NW\"),OFFSET(I_CAPEX!$AC$48,(MATCH('C_CAPEX Build Up'!H117,I_CAPEX!V$49:V$437,0)),0),\nIF('C_CAPEX Build Up'!F117=\"Bracket\",OFFSET(I_CAPEX!S$48,MATCH('C_CAPEX Build Up'!H117,I_CAPEX!L$49:L$130,0),0),\nOFFSET(I_CAPEX!I$48,MATCH('C_CAPEX Build Up'!H117,I_CAPEX!B$49:B$102,0),0))))","v":409.28489353715497},null,0,{"$f":"SUM(J117,L117)*I_CAPEX!$D$13","v":24.557093612229298},433.84198714938429,null,null,null,{"$f":"IF(OR(G117=\"LED\",G117=\"Smart Controller\"),-PMT(return_on_assests_pct,LED_lantern_lifespan,N117)*(1+'I_Global Inputs'!$G$54),IF(G117=\"LED20\",-PMT(return_on_assests_pct,LED_life_span_20yrs,N117),\nIF(G117=\"Traditional\",-PMT(return_on_assests_pct,trad_lantern_lifespan,N117),\n-PMT(return_on_assests_pct,pole_lifespan,N117))))","v":52.912182868995252},55.081582366624055,56.6649896244665,58.293914429853245,59.969665256725023,61.693588193176787,null,null,null,433.84198714938429,451.62950862250904,464.61231360165596,477.96832985665742,491.70828593628607,505.84321879842821,null,null,null,null,{"$f":"_xlfn.XLOOKUP($H117,'I_Asset number input'!$B$5:$B$239,'I_Asset number input'!J$5:J$239)","v":197},{"$f":"_xlfn.XLOOKUP($H117,'I_Asset number input'!$B$5:$B$239,'I_Asset number input'!K$5:K$239)","v":197},{"$f":"_xlfn.XLOOKUP($H117,'I_Asset number input'!$B$5:$B$239,'I_Asset number input'!L$5:L$239)","v":197},{"$f":"_xlfn.XLOOKUP($H117,'I_Asset number input'!$B$5:$B$239,'I_Asset number input'!M$5:M$239)","v":197},{"$f":"_xlfn.XLOOKUP($H117,'I_Asset number input'!$B$5:$B$239,'I_Asset number input'!N$5:N$239)","v":197},{"$f":"_xlfn.XLOOKUP($H117,'I_Asset number input'!$B$5:$B$239,'I_Asset number input'!O$5:O$239)","v":197},null,null,null,10423.700025192065,10851.071726224938,11163.0029560199,11483.901142681088,11814.02405557483,12153.636874055826]
[null,"17W LED ALD","Minor (Cat P)",null,null,"Luminaire","LED","17W LED ALD",null,{"$f":"IF(ISBLANK(F118),0,\nIF(OR(F118=\"Luminaire\",F118=\"Smart Controller\",F118=\"NW\"),OFFSET(I_CAPEX!$AC$48,(MATCH('C_CAPEX Build Up'!H118,I_CAPEX!V$49:V$437,0)),0),\nIF('C_CAPEX Build Up'!F118=\"Bracket\",OFFSET(I_CAPEX!S$48,MATCH('C_CAPEX Build Up'!H118,I_CAPEX!L$49:L$130,0),0),\nOFFSET(I_CAPEX!I$48,MATCH('C_CAPEX Build Up'!H118,I_CAPEX!B$49:B$102,0),0))))","v":379.73074882725734},null,0,{"$f":"SUM(J118,L118)*I_CAPEX!$D$13","v":22.783844929635439},402.51459375689279,null,null,null,{"$f":"IF(OR(G118=\"LED\",G118=\"Smart Controller\"),-PMT(return_on_assests_pct,LED_lantern_lifespan,N118)*(1+'I_Global Inputs'!$G$54),IF(G118=\"LED20\",-PMT(return_on_assests_pct,LED_life_span_20yrs,N118),\nIF(G118=\"Traditional\",-PMT(return_on_assests_pct,trad_lantern_lifespan,N118),\n-PMT(return_on_assests_pct,pole_lifespan,N118))))","v":49.09143518414357},51.104184026693453,52.573254674580539,54.08455608320839,55.63930224262937,57.238742040961156,null,null,null,402.51459375689279,419.01769210092539,431.06301880234236,443.45460748285717,456.20241199105698,469.31667231465963,null,null,null,null,{"$f":"_xlfn.XLOOKUP($H118,'I_Asset number input'!$B$5:$B$239,'I_Asset number input'!J$5:J$239)","v":12097},{"$f":"_xlfn.XLOOKUP($H118,'I_Asset number input'!$B$5:$B$239,'I_Asset number input'!K$5:K$239)","v":12097},{"$f":"_xlfn.XLOOKUP($H118,'I_Asset number input'!$B$5:$B$239,'I_Asset number input'!L$5:L$239)","v":12097},{"$f":"_xlfn.XLOOKUP($H118,'I_Asset number input'!$B$5:$B$239,'I_Asset number input'!M$5:M$239)","v":12097},{"$f":"_xlfn.XLOOKUP($H118,'I_Asset number input'!$B$5:$B$239,'I_Asset number input'!N$5:N$239)","v":12097},{"$f":"_xlfn.XLOOKUP($H118,'I_Asset number input'!$B$5:$B$239,'I_Asset number input'!O$5:O$239)","v":12097},null,null,null,593859.09142258472,618207.31417091074,635978.6617984008,654260.87493857194,673068.63922908751,692417.0624695071]
[null,"17W LED ALD RRW","Minor (Cat P)",null,null,"Luminaire","LED","17W LED ALD RRW",null,{"$f":"IF(ISBLANK(F119),0,\nIF(OR(F119=\"Luminaire\",F119=\"Smart Controller\",F119=\"NW\"),OFFSET(I_CAPEX!$AC$48,(MATCH('C_CAPEX Build Up'!H119,I_CAPEX!V$49:V$437,0)),0),\nIF('C_CAPEX Build Up'!F119=\"Bracket\",OFFSET(I_CAPEX!S$48,MATCH('C_CAPEX Build Up'!H119,I_CAPEX!L$49:L$130,0),0),\nOFFSET(I_CAPEX!I$48,MATCH('C_CAPEX Build Up'!H119,I_CAPEX!B$49:B$102,0),0))))","v":379.73074882725734},null,0,{"$f":"SUM(J119,L119)*I_CAPEX!$D$13","v":22.783844929635439},402.51459375689279,null,null,null,{"$f":"IF(OR(G119=\"LED\",G119=\"Smart Controller\"),-PMT(return_on_assests_pct,LED_lantern_lifespan,N119)*(1+'I_Global Inputs'!$G$54),IF(G119=\"LED20\",-PMT(return_on_assests_pct,LED_life_span_20yrs,N119),\nIF(G119=\"Traditional\",-PMT(return_on_assests_pct,trad_lantern_lifespan,N119),\n-PMT(return_on_assests_pct,pole_lifespan,N119))))","v":49.09143518414357},51.104184026693453,52.573254674580539,54.08455608320839,55.63930224262937,57.238742040961156,null,null,null,402.51459375689279,419.01769210092539,431.06301880234236,443.45460748285717,456.20241199105698,469.31667231465963,null,null,null,null,{"$f":"_xlfn.XLOOKUP($H119,'I_Asset number input'!$B$5:$B$239,'I_Asset number input'!J$5:J$239)","v":705},{"$f":"_xlfn.XLOOKUP($H119,'I_Asset number input'!$B$5:$B$239,'I_Asset number input'!K$5:K$239)","v":705},{"$f":"_xlfn.XLOOKUP($H119,'I_Asset number input'!$B$5:$B$239,'I_Asset number input'!L$5:L$239)","v":705},{"$f":"_xlfn.XLOOKUP($H119,'I_Asset number input'!$B$5:$B$239,'I_Asset number input'!M$5:M$239)","v":705},{"$f":"_xlfn.XLOOKUP($H119,'I_Asset number input'!$B$5:$B$239,'I_Asset number input'!N$5:N$239)","v":705},{"$f":"_xlfn.XLOOKUP($H119,'I_Asset number input'!$B$5:$B$239,'I_Asset number input'!O$5:O$239)","v":705},null,null,null,34609.461804821214,36028.449738818883,37064.144545579278,38129.612038661915,39225.708081053708,40353.313138877616]
[null,"17W LED ALD RRW ZHAGA","Minor (Cat P)",null,null,"Luminaire","LED","17W LED ALD RRW ZHAGA",null,{"$f":"IF(ISBLANK(F120),0,\nIF(OR(F120=\"Luminaire\",F120=\"Smart Controller\",F120=\"NW\"),OFFSET(I_CAPEX!$AC$48,(MATCH('C_CAPEX Build Up'!H120,I_CAPEX!V$49:V$437,0)),0),\nIF('C_CAPEX Build Up'!F120=\"Bracket\",OFFSET(I_CAPEX!S$48,MATCH('C_CAPEX Build Up'!H120,I_CAPEX!L$49:L$130,0),0),\nOFFSET(I_CAPEX!I$48,MATCH('C_CAPEX Build Up'!H120,I_CAPEX!B$49:B$102,0),0))))","v":399.78375019244504},null,0,{"$f":"SUM(J120,L120)*I_CAPEX!$D$13","v":23.987025011546702},423.77077520399172,null,null,null,{"$f":"IF(OR(G120=\"LED\",G120=\"Smart Controller\"),-PMT(return_on_assests_pct,LED_lantern_lifespan,N120)*(1+'I_Global Inputs'!$G$54),IF(G120=\"LED20\",-PMT(return_on_assests_pct,LED_life_span_20yrs,N120),\nIF(G120=\"Traditional\",-PMT(return_on_assests_pct,trad_lantern_lifespan,N120),\n-PMT(return_on_assests_pct,pole_lifespan,N120))))","v":51.683878961232786},53.802917998643323,55.349568025599964,56.940678955326703,58.577528886837975,60.261432660127113,null,null,null,423.77077520399172,441.14537698735535,453.82679901034857,466.87276857914969,480.29376518989994,494.100569588442,null,null,null,null,{"$f":"_xlfn.XLOOKUP($H120,'I_Asset number input'!$B$5:$B$239,'I_Asset number input'!J$5:J$239)","v":696},{"$f":"_xlfn.XLOOKUP($H120,'I_Asset number input'!$B$5:$B$239,'I_Asset number input'!K$5:K$239)","v":696},{"$f":"_xlfn.XLOOKUP($H120,'I_Asset number input'!$B$5:$B$239,'I_Asset number input'!L$5:L$239)","v":696},{"$f":"_xlfn.XLOOKUP($H120,'I_Asset number input'!$B$5:$B$239,'I_Asset number input'!M$5:M$239)","v":696},{"$f":"_xlfn.XLOOKUP($H120,'I_Asset number input'!$B$5:$B$239,'I_Asset number input'!N$5:N$239)","v":696},{"$f":"_xlfn.XLOOKUP($H120,'I_Asset number input'!$B$5:$B$239,'I_Asset number input'!O$5:O$239)","v":696},null,null,null,35971.979757018016,37446.830927055751,38523.299345817577,39630.712552907382,40769.960105239232,41941.957131448471]
[null,"17W LED ALD ZHAGA","Minor (Cat P)",null,null,"Luminaire","LED","17W LED ALD ZHAGA",null,{"$f":"IF(ISBLANK(F121),0,\nIF(OR(F121=\"Luminaire\",F121=\"Smart Controller\",F121=\"NW\"),OFFSET(I_CAPEX!$AC$48,(MATCH('C_CAPEX Build Up'!H121,I_CAPEX!V$49:V$437,0)),0),\nIF('C_CAPEX Build Up'!F121=\"Bracket\",OFFSET(I_CAPEX!S$48,MATCH('C_CAPEX Build Up'!H121,I_CAPEX!L$49:L$130,0),0),\nOFFSET(I_CAPEX!I$48,MATCH('C_CAPEX Build Up'!H121,I_CAPEX!B$49:B$102,0),0))))","v":399.78375019244504},null,0,{"$f":"SUM(J121,L121)*I_CAPEX!$D$13","v":23.987025011546702},423.77077520399172,null,null,null,{"$f":"IF(OR(G121=\"LED\",G121=\"Smart Controller\"),-PMT(return_on_assests_pct,LED_lantern_lifespan,N121)*(1+'I_Global Inputs'!$G$54),IF(G121=\"LED20\",-PMT(return_on_assests_pct,LED_life_span_20yrs,N121),\nIF(G121=\"Traditional\",-PMT(return_on_assests_pct,trad_lantern_lifespan,N121),\n-PMT(return_on_assests_pct,pole_lifespan,N121))))","v":51.683878961232786},53.802917998643323,55.349568025599964,56.940678955326703,58.577528886837975,60.261432660127113,null,null,null,423.77077520399172,441.14537698735535,453.82679901034857,466.87276857914969,480.29376518989994,494.100569588442,null,null,null,null,{"$f":"_xlfn.XLOOKUP($H121,'I_Asset number input'!$B$5:$B$239,'I_Asset number input'!J$5:J$239)","v":35988},{"$f":"_xlfn.XLOOKUP($H121,'I_Asset number input'!$B$5:$B$239,'I_Asset number input'!K$5:K$239)","v":36613},{"$f":"_xlfn.XLOOKUP($H121,'I_Asset number input'!$B$5:$B$239,'I_Asset number input'!L$5:L$239)","v":37488},{"$f":"_xlfn.XLOOKUP($H121,'I_Asset number input'!$B$5:$B$239,'I_Asset number input'!M$5:M$239)","v":38588},{"$f":"_xlfn.XLOOKUP($H121,'I_Asset number input'!$B$5:$B$239,'I_Asset number input'!N$5:N$239)","v":40238},{"$f":"_xlfn.XLOOKUP($H121,'I_Asset number input'!$B$5:$B$239,'I_Asset number input'!O$5:O$239)","v":42538},null,null,null,1859999.4360568456,1969886.2366843279,2074944.6061436916,2197226.9195281467,2357042.6073485864,2563400.8224964873]
[null,"17W LED SY RRW","Minor (Cat P)",null,null,"Luminaire","LED","17W LED SY RRW",null,{"$f":"IF(ISBLANK(F122),0,\nIF(OR(F122=\"Luminaire\",F122=\"Smart Controller\",F122=\"NW\"),OFFSET(I_CAPEX!$AC$48,(MATCH('C_CAPEX Build Up'!H122,I_CAPEX!V$49:V$437,0)),0),\nIF('C_CAPEX Build Up'!F122=\"Bracket\",OFFSET(I_CAPEX!S$48,MATCH('C_CAPEX Build Up'!H122,I_CAPEX!L$49:L$130,0),0),\nOFFSET(I_CAPEX!I$48,MATCH('C_CAPEX Build Up'!H122,I_CAPEX!B$49:B$102,0),0))))","v":497.9184029498258},null,0,{"$f":"SUM(J122,L122)*I_CAPEX!$D$13","v":29.875104176989549},527.79350712681537,null,null,null,{"$f":"IF(OR(G122=\"LED\",G122=\"Smart Controller\"),-PMT(return_on_assests_pct,LED_lantern_lifespan,N122)*(1+'I_Global Inputs'!$G$54),IF(G122=\"LED20\",-PMT(return_on_assests_pct,LED_life_span_20yrs,N122),\nIF(G122=\"Traditional\",-PMT(return_on_assests_pct,trad_lantern_lifespan,N122),\n-PMT(return_on_assests_pct,pole_lifespan,N122))))","v":64.370686548018313},67.009884696487063,68.936189882662958,70.917869760007108,72.956516161653738,75.053766680499763,null,null,null,527.79350712681537,549.43304091901473,565.22736321896309,581.47571830969048,598.19115808232505,615.38710962526147,null,null,null,null,{"$f":"_xlfn.XLOOKUP($H122,'I_Asset number input'!$B$5:$B$239,'I_Asset number input'!J$5:J$239)","v":2513},{"$f":"_xlfn.XLOOKUP($H122,'I_Asset number input'!$B$5:$B$239,'I_Asset number input'!K$5:K$239)","v":2513},{"$f":"_xlfn.XLOOKUP($H122,'I_Asset number input'!$B$5:$B$239,'I_Asset number input'!L$5:L$239)","v":2513},{"$f":"_xlfn.XLOOKUP($H122,'I_Asset number input'!$B$5:$B$239,'I_Asset number input'!M$5:M$239)","v":2513},{"$f":"_xlfn.XLOOKUP($H122,'I_Asset number input'!$B$5:$B$239,'I_Asset number input'!N$5:N$239)","v":2513},{"$f":"_xlfn.XLOOKUP($H122,'I_Asset number input'!$B$5:$B$239,'I_Asset number input'!O$5:O$239)","v":2513},null,null,null,161763.53529517003,168395.84024227198,173236.64517513203,178216.60670689787,183339.72511423586,188610.11566809591]
[null,"1x17W LED","Minor (Cat P)",null,null,"Luminaire","LED","1x17W LED",null,{"$f":"IF(ISBLANK(F123),0,\nIF(OR(F123=\"Luminaire\",F123=\"Smart Controller\",F123=\"NW\"),OFFSET(I_CAPEX!$AC$48,(MATCH('C_CAPEX Build Up'!H123,I_CAPEX!V$49:V$437,0)),0),\nIF('C_CAPEX Build Up'!F123=\"Bracket\",OFFSET(I_CAPEX!S$48,MATCH('C_CAPEX Build Up'!H123,I_CAPEX!L$49:L$130,0),0),\nOFFSET(I_CAPEX!I$48,MATCH('C_CAPEX Build Up'!H123,I_CAPEX!B$49:B$102,0),0))))","v":469.33826179014693},null,0,{"$f":"SUM(J123,L123)*I_CAPEX!$D$13","v":28.160295707408814},497.49855749755574,null,null,null,{"$f":"IF(OR(G123=\"LED\",G123=\"Smart Controller\"),-PMT(return_on_assests_pct,LED_lantern_lifespan,N123)*(1+'I_Global Inputs'!$G$54),IF(G123=\"LED20\",-PMT(return_on_assests_pct,LED_life_span_20yrs,N123),\nIF(G123=\"Traditional\",-PMT(return_on_assests_pct,trad_lantern_lifespan,N123),\n-PMT(return_on_assests_pct,pole_lifespan,N123))))","v":60.675857641939118},63.163567805258616,64.979304525173035,66.847237470706162,68.768867104969715,70.745737024262226,null,null,null,497.49855749755574,517.89599835495551,532.78373845553199,548.09945020679959,563.85543633117015,580.06435321228139,null,null,null,null,{"$f":"_xlfn.XLOOKUP($H123,'I_Asset number input'!$B$5:$B$239,'I_Asset number input'!J$5:J$239)","v":21279},{"$f":"_xlfn.XLOOKUP($H123,'I_Asset number input'!$B$5:$B$239,'I_Asset number input'!K$5:K$239)","v":21279},{"$f":"_xlfn.XLOOKUP($H123,'I_Asset number input'!$B$5:$B$239,'I_Asset number input'!L$5:L$239)","v":21279},{"$f":"_xlfn.XLOOKUP($H123,'I_Asset number input'!$B$5:$B$239,'I_Asset number input'!M$5:M$239)","v":20645.524162499998},{"$f":"_xlfn.XLOOKUP($H123,'I_Asset number input'!$B$5:$B$239,'I_Asset number input'!N$5:N$239)","v":18211.134743812501},{"$f":"_xlfn.XLOOKUP($H123,'I_Asset number input'!$B$5:$B$239,'I_Asset number input'!O$5:O$239)","v":14075.480183123749},null,null,null,1291121.5747628226,1344057.5593280981,1382694.6209911569,1380096.2563978394,1252359.1050279385,995780.21952548705]
[null,"20W LED GE","Minor (Cat P)",null,null,"Luminaire","LED","20W LED GE",null,{"$f":"IF(ISBLANK(F124),0,\nIF(OR(F124=\"Luminaire\",F124=\"Smart Controller\",F124=\"NW\"),OFFSET(I_CAPEX!$AC$48,(MATCH('C_CAPEX Build Up'!H124,I_CAPEX!V$49:V$437,0)),0),\nIF('C_CAPEX Build Up'!F124=\"Bracket\",OFFSET(I_CAPEX!S$48,MATCH('C_CAPEX Build Up'!H124,I_CAPEX!L$49:L$130,0),0),\nOFFSET(I_CAPEX!I$48,MATCH('C_CAPEX Build Up'!H124,I_CAPEX!B$49:B$102,0),0))))","v":418.13217554572236},null,0,{"$f":"SUM(J124,L124)*I_CAPEX!$D$13","v":25.087930532743339},443.22010607846568,null,null,null,{"$f":"IF(OR(G124=\"LED\",G124=\"Smart Controller\"),-PMT(return_on_assests_pct,LED_lantern_lifespan,N124)*(1+'I_Global Inputs'!$G$54),IF(G124=\"LED20\",-PMT(return_on_assests_pct,LED_life_span_20yrs,N124),\nIF(G124=\"Traditional\",-PMT(return_on_assests_pct,trad_lantern_lifespan,N124),\n-PMT(return_on_assests_pct,pole_lifespan,N124))))","v":54.055955851880562},56.272250041807659,57.889884926336926,59.554021285708622,61.265995878410834,63.027183890169958,null,null,null,443.22010607846568,461.39213042768273,474.65557742105125,488.3003031891202,502.33726819368434,516.77774797235884,null,null,null,null,{"$f":"_xlfn.XLOOKUP($H124,'I_Asset number input'!$B$5:$B$239,'I_Asset number input'!J$5:J$239)","v":49},{"$f":"_xlfn.XLOOKUP($H124,'I_Asset number input'!$B$5:$B$239,'I_Asset number input'!K$5:K$239)","v":49},{"$f":"_xlfn.XLOOKUP($H124,'I_Asset number input'!$B$5:$B$239,'I_Asset number input'!L$5:L$239)","v":49},{"$f":"_xlfn.XLOOKUP($H124,'I_Asset number input'!$B$5:$B$239,'I_Asset number input'!M$5:M$239)","v":48.0075},{"$f":"_xlfn.XLOOKUP($H124,'I_Asset number input'!$B$5:$B$239,'I_Asset number input'!N$5:N$239)","v":44.544924999999999},{"$f":"_xlfn.XLOOKUP($H124,'I_Asset number input'!$B$5:$B$239,'I_Asset number input'!O$5:O$239)","v":32.676863624999996},null,null,null,2648.7418367421474,2757.3402520485752,2836.6043613905094,2859.0396768736568,2729.0891914541198,2059.5306926468807]
[null,"1x22W LED","Minor (Cat P)",null,null,"Luminaire","LED","1x22W LED",null,{"$f":"IF(ISBLANK(F125),0,\nIF(OR(F125=\"Luminaire\",F125=\"Smart Controller\",F125=\"NW\"),OFFSET(I_CAPEX!$AC$48,(MATCH('C_CAPEX Build Up'!H125,I_CAPEX!V$49:V$437,0)),0),\nIF('C_CAPEX Build Up'!F125=\"Bracket\",OFFSET(I_CAPEX!S$48,MATCH('C_CAPEX Build Up'!H125,I_CAPEX!L$49:L$130,0),0),\nOFFSET(I_CAPEX!I$48,MATCH('C_CAPEX Build Up'!H125,I_CAPEX!B$49:B$102,0),0))))","v":487.20085001494624},null,0,{"$f":"SUM(J125,L125)*I_CAPEX!$D$13","v":29.232051000896774},516.43290101584307,null,null,null,{"$f":"IF(OR(G125=\"LED\",G125=\"Smart Controller\"),-PMT(return_on_assests_pct,LED_lantern_lifespan,N125)*(1+'I_Global Inputs'!$G$54),IF(G125=\"LED20\",-PMT(return_on_assests_pct,LED_life_span_20yrs,N125),\nIF(G125=\"Traditional\",-PMT(return_on_assests_pct,trad_lantern_lifespan,N125),\n-PMT(return_on_assests_pct,pole_lifespan,N125))))","v":62.98512570823862},65.567515862276395,67.452357873604242,69.391382651519265,71.38614776539724,73.438255559410692,null,null,null,516.43290101584307,537.60664995749255,553.0610039326765,568.95961777110642,585.315262425642,602.14107597039401,null,null,null,null,{"$f":"_xlfn.XLOOKUP($H125,'I_Asset number input'!$B$5:$B$239,'I_Asset number input'!J$5:J$239)","v":12120.333333333332},{"$f":"_xlfn.XLOOKUP($H125,'I_Asset number input'!$B$5:$B$239,'I_Asset number input'!K$5:K$239)","v":10735.459799999999},{"$f":"_xlfn.XLOOKUP($H125,'I_Asset number input'!$B$5:$B$239,'I_Asset number input'!L$5:L$239)","v":7189.3882529999983},{"$f":"_xlfn.XLOOKUP($H125,'I_Asset number input'!$B$5:$B$239,'I_Asset number input'!M$5:M$239)","v":4066.0653034399988},{"$f":"_xlfn.XLOOKUP($H125,'I_Asset number input'!$B$5:$B$239,'I_Asset number input'!N$5:N$239)","v":3162.0182094756656},{"$f":"_xlfn.XLOOKUP($H125,'I_Asset number input'!$B$5:$B$239,'I_Asset number input'!O$5:O$239)","v":3222.429384737999},null,null,null,763400.7186257547,703897.43072533049,484941.18933364231,282149.89335707074,225724.29913850667,236649.59267854373]
[null,"1x25W LED GE","Minor (Cat P)",null,null,"Luminaire","LED","1x25W LED GE",null,{"$f":"IF(ISBLANK(F126),0,\nIF(OR(F126=\"Luminaire\",F126=\"Smart Controller\",F126=\"NW\"),OFFSET(I_CAPEX!$AC$48,(MATCH('C_CAPEX Build Up'!H126,I_CAPEX!V$49:V$437,0)),0),\nIF('C_CAPEX Build Up'!F126=\"Bracket\",OFFSET(I_CAPEX!S$48,MATCH('C_CAPEX Build Up'!H126,I_CAPEX!L$49:L$130,0),0),\nOFFSET(I_CAPEX!I$48,MATCH('C_CAPEX Build Up'!H126,I_CAPEX!B$49:B$102,0),0))))","v":418.13217554572236},null,0,{"$f":"SUM(J126,L126)*I_CAPEX!$D$13","v":25.087930532743339},443.22010607846568,null,null,null,{"$f":"IF(OR(G126=\"LED\",G126=\"Smart Controller\"),-PMT(return_on_assests_pct,LED_lantern_lifespan,N126)*(1+'I_Global Inputs'!$G$54),IF(G126=\"LED20\",-PMT(return_on_assests_pct,LED_life_span_20yrs,N126),\nIF(G126=\"Traditional\",-PMT(return_on_assests_pct,trad_lantern_lifespan,N126),\n-PMT(return_on_assests_pct,pole_lifespan,N126))))","v":54.055955851880562},56.272250041807659,57.889884926336926,59.554021285708622,61.265995878410834,63.027183890169958,null,null,null,443.22010607846568,461.39213042768273,474.65557742105125,488.3003031891202,502.33726819368434,516.77774797235884,null,null,null,null,{"$f":"_xlfn.XLOOKUP($H126,'I_Asset number input'!$B$5:$B$239,'I_Asset number input'!J$5:J$239)","v":4094},{"$f":"_xlfn.XLOOKUP($H126,'I_Asset number input'!$B$5:$B$239,'I_Asset number input'!K$5:K$239)","v":4094},{"$f":"_xlfn.XLOOKUP($H126,'I_Asset number input'!$B$5:$B$239,'I_Asset number input'!L$5:L$239)","v":3706.0950000000003},{"$f":"_xlfn.XLOOKUP($H126,'I_Asset number input'!$B$5:$B$239,'I_Asset number input'!M$5:M$239)","v":2539.6878000000002},{"$f":"_xlfn.XLOOKUP($H126,'I_Asset number input'!$B$5:$B$239,'I_Asset number input'!N$5:N$239)","v":1291.8196017500002},{"$f":"_xlfn.XLOOKUP($H126,'I_Asset number input'!$B$5:$B$239,'I_Asset number input'!O$5:O$239)","v":698.6595572775002},null,null,null,221305.08325759901,230378.59167116057,214545.41307607267,151248.62130025451,79144.61439646584,44034.544393153737]
[null,"25W LED PH","Minor (Cat P)",null,null,"Luminaire","LED","25W LED PH",null,{"$f":"IF(ISBLANK(F127),0,\nIF(OR(F127=\"Luminaire\",F127=\"Smart Controller\",F127=\"NW\"),OFFSET(I_CAPEX!$AC$48,(MATCH('C_CAPEX Build Up'!H127,I_CAPEX!V$49:V$437,0)),0),\nIF('C_CAPEX Build Up'!F127=\"Bracket\",OFFSET(I_CAPEX!S$48,MATCH('C_CAPEX Build Up'!H127,I_CAPEX!L$49:L$130,0),0),\nOFFSET(I_CAPEX!I$48,MATCH('C_CAPEX Build Up'!H127,I_CAPEX!B$49:B$102,0),0))))","v":410.40267510712079},null,0,{"$f":"SUM(J127,L127)*I_CAPEX!$D$13","v":24.624160506427245},435.02683561354803,null,null,null,{"$f":"IF(OR(G127=\"LED\",G127=\"Smart Controller\"),-PMT(return_on_assests_pct,LED_lantern_lifespan,N127)*(1+'I_Global Inputs'!$G$54),IF(G127=\"LED20\",-PMT(return_on_assests_pct,LED_life_span_20yrs,N127),\nIF(G127=\"Traditional\",-PMT(return_on_assests_pct,trad_lantern_lifespan,N127),\n-PMT(return_on_assests_pct,pole_lifespan,N127))))","v":53.056689211084944},55.232013468739424,56.819745106686078,58.453118603326942,60.133446006123485,61.862077079417908,null,null,null,435.02683561354803,452.86293587370346,465.8811976712214,479.27369000695228,493.05117072997837,507.22470694077936,null,null,null,null,{"$f":"_xlfn.XLOOKUP($H127,'I_Asset number input'!$B$5:$B$239,'I_Asset number input'!J$5:J$239)","v":840},{"$f":"_xlfn.XLOOKUP($H127,'I_Asset number input'!$B$5:$B$239,'I_Asset number input'!K$5:K$239)","v":840},{"$f":"_xlfn.XLOOKUP($H127,'I_Asset number input'!$B$5:$B$239,'I_Asset number input'!L$5:L$239)","v":840},{"$f":"_xlfn.XLOOKUP($H127,'I_Asset number input'!$B$5:$B$239,'I_Asset number input'!M$5:M$239)","v":840},{"$f":"_xlfn.XLOOKUP($H127,'I_Asset number input'!$B$5:$B$239,'I_Asset number input'!N$5:N$239)","v":840},{"$f":"_xlfn.XLOOKUP($H127,'I_Asset number input'!$B$5:$B$239,'I_Asset number input'!O$5:O$239)","v":840},null,null,null,44567.618937311352,46394.891313741115,47728.585889616304,49100.619626794629,50512.094645143727,51964.144746711041]
[null,"28W LED SY","Minor (Cat P)",null,null,"Luminaire","LED","28W LED SY",null,{"$f":"IF(ISBLANK(F128),0,\nIF(OR(F128=\"Luminaire\",F128=\"Smart Controller\",F128=\"NW\"),OFFSET(I_CAPEX!$AC$48,(MATCH('C_CAPEX Build Up'!H128,I_CAPEX!V$49:V$437,0)),0),\nIF('C_CAPEX Build Up'!F128=\"Bracket\",OFFSET(I_CAPEX!S$48,MATCH('C_CAPEX Build Up'!H128,I_CAPEX!L$49:L$130,0),0),\nOFFSET(I_CAPEX!I$48,MATCH('C_CAPEX Build Up'!H128,I_CAPEX!B$49:B$102,0),0))))","v":519.35350881958493},null,0,{"$f":"SUM(J128,L128)*I_CAPEX!$D$13","v":31.161210529175094},550.51471934876008,null,null,null,{"$f":"IF(OR(G128=\"LED\",G128=\"Smart Controller\"),-PMT(return_on_assests_pct,LED_lantern_lifespan,N128)*(1+'I_Global Inputs'!$G$54),IF(G128=\"LED20\",-PMT(return_on_assests_pct,LED_life_span_20yrs,N128),\nIF(G128=\"Traditional\",-PMT(return_on_assests_pct,trad_lantern_lifespan,N128),\n-PMT(return_on_assests_pct,pole_lifespan,N128))))","v":67.141808227577712},69.8946223649084,71.903853900780419,73.970843976982849,76.097252954166777,78.284788922677933,null,null,null,550.51471934876008,573.0858228420592,589.5600817915365,606.50791938685859,623.94294939569113,641.87917693499651,null,null,null,null,{"$f":"_xlfn.XLOOKUP($H128,'I_Asset number input'!$B$5:$B$239,'I_Asset number input'!J$5:J$239)","v":989},{"$f":"_xlfn.XLOOKUP($H128,'I_Asset number input'!$B$5:$B$239,'I_Asset number input'!K$5:K$239)","v":989},{"$f":"_xlfn.XLOOKUP($H128,'I_Asset number input'!$B$5:$B$239,'I_Asset number input'!L$5:L$239)","v":989},{"$f":"_xlfn.XLOOKUP($H128,'I_Asset number input'!$B$5:$B$239,'I_Asset number input'!M$5:M$239)","v":989},{"$f":"_xlfn.XLOOKUP($H128,'I_Asset number input'!$B$5:$B$239,'I_Asset number input'!N$5:N$239)","v":989},{"$f":"_xlfn.XLOOKUP($H128,'I_Asset number input'!$B$5:$B$239,'I_Asset number input'!O$5:O$239)","v":938.55984393750009},null,null,null,66403.248337074358,69125.781518894408,71112.911507871831,73157.164693236031,75260.183171670942,73474.959273948742]
[null,"1x29W LED","Minor (Cat P)",null,null,"Luminaire","LED20","1x29W LED",null,{"$f":"IF(ISBLANK(F129),0,\nIF(OR(F129=\"Luminaire\",F129=\"Smart Controller\",F129=\"NW\"),OFFSET(I_CAPEX!$AC$48,(MATCH('C_CAPEX Build Up'!H129,I_CAPEX!V$49:V$437,0)),0),\nIF('C_CAPEX Build Up'!F129=\"Bracket\",OFFSET(I_CAPEX!S$48,MATCH('C_CAPEX Build Up'!H129,I_CAPEX!L$49:L$130,0),0),\nOFFSET(I_CAPEX!I$48,MATCH('C_CAPEX Build Up'!H129,I_CAPEX!B$49:B$102,0),0))))","v":561.05669812841643},null,0,{"$f":"SUM(J129,L129)*I_CAPEX!$D$13","v":33.663401887704985},594.72010001612136,null,null,null,{"$f":"IF(OR(G129=\"LED\",G129=\"Smart Controller\"),-PMT(return_on_assests_pct,LED_lantern_lifespan,N129)*(1+'I_Global Inputs'!$G$54),IF(G129=\"LED20\",-PMT(return_on_assests_pct,LED_life_span_20yrs,N129),\nIF(G129=\"Traditional\",-PMT(return_on_assests_pct,trad_lantern_lifespan,N129),\n-PMT(return_on_assests_pct,pole_lifespan,N129))))","v":39.311026364216225},40.922778445149085,42.099168476391007,43.30937570084869,44.554372247260581,45.835158189744213,null,null,null,594.72010001612136,619.10362411678227,636.90073759217637,655.20945726032676,674.04449005091794,693.42096566760324,null,null,null,null,{"$f":"_xlfn.XLOOKUP($H129,'I_Asset number input'!$B$5:$B$239,'I_Asset number input'!J$5:J$239)","v":13165},{"$f":"_xlfn.XLOOKUP($H129,'I_Asset number input'!$B$5:$B$239,'I_Asset number input'!K$5:K$239)","v":13165},{"$f":"_xlfn.XLOOKUP($H129,'I_Asset number input'!$B$5:$B$239,'I_Asset number input'!L$5:L$239)","v":13165},{"$f":"_xlfn.XLOOKUP($H129,'I_Asset number input'!$B$5:$B$239,'I_Asset number input'!M$5:M$239)","v":13165},{"$f":"_xlfn.XLOOKUP($H129,'I_Asset number input'!$B$5:$B$239,'I_Asset number input'!N$5:N$239)","v":13165},{"$f":"_xlfn.XLOOKUP($H129,'I_Asset number input'!$B$5:$B$239,'I_Asset number input'!O$5:O$239)","v":13165},null,null,null,517529.66208490659,538748.37823038769,554235.55299168755,570167.93110167305,586558.31063518557,603419.85756798252]
[null,"33W LED LRL","Minor (Cat P)",null,null,"Luminaire","LED","33W LED LRL",null,{"$f":"IF(ISBLANK(F130),0,\nIF(OR(F130=\"Luminaire\",F130=\"Smart Controller\",F130=\"NW\"),OFFSET(I_CAPEX!$AC$48,(MATCH('C_CAPEX Build Up'!H130,I_CAPEX!V$49:V$437,0)),0),\nIF('C_CAPEX Build Up'!F130=\"Bracket\",OFFSET(I_CAPEX!S$48,MATCH('C_CAPEX Build Up'!H130,I_CAPEX!L$49:L$130,0),0),\nOFFSET(I_CAPEX!I$48,MATCH('C_CAPEX Build Up'!H130,I_CAPEX!B$49:B$102,0),0))))","v":568.17791663403636},null,0,{"$f":"SUM(J130,L130)*I_CAPEX!$D$13","v":34.090674998042182},602.2685916320786,null,null,null,{"$f":"IF(OR(G130=\"LED\",G130=\"Smart Controller\"),-PMT(return_on_assests_pct,LED_lantern_lifespan,N130)*(1+'I_Global Inputs'!$G$54),IF(G130=\"LED20\",-PMT(return_on_assests_pct,LED_life_span_20yrs,N130),\nIF(G130=\"Traditional\",-PMT(return_on_assests_pct,trad_lantern_lifespan,N130),\n-PMT(return_on_assests_pct,pole_lifespan,N130))))","v":73.453807608796339},76.465413720756985,78.663533053159028,80.924840804538633,83.251153426001991,85.644339585417072,null,null,null,602.2685916320786,626.96160388899375,644.98460742906468,663.5257107292972,682.59980738724744,702.22221914050419,null,null,null,null,{"$f":"_xlfn.XLOOKUP($H130,'I_Asset number input'!$B$5:$B$239,'I_Asset number input'!J$5:J$239)","v":3},{"$f":"_xlfn.XLOOKUP($H130,'I_Asset number input'!$B$5:$B$239,'I_Asset number input'!K$5:K$239)","v":3},{"$f":"_xlfn.XLOOKUP($H130,'I_Asset number input'!$B$5:$B$239,'I_Asset number input'!L$5:L$239)","v":3},{"$f":"_xlfn.XLOOKUP($H130,'I_Asset number input'!$B$5:$B$239,'I_Asset number input'!M$5:M$239)","v":3},{"$f":"_xlfn.XLOOKUP($H130,'I_Asset number input'!$B$5:$B$239,'I_Asset number input'!N$5:N$239)","v":3},{"$f":"_xlfn.XLOOKUP($H130,'I_Asset number input'!$B$5:$B$239,'I_Asset number input'!O$5:O$239)","v":2.5024999999999999},null,null,null,220.361422826389,229.39624116227094,235.99059915947709,242.7745224136159,249.75346027800597,214.32495981250622]
[null,"34W LED BOURKE HILL","Minor (Cat P)",null,null,"Luminaire","LED","34W LED BOURKE HILL",null,{"$f":"IF(ISBLANK(F131),0,\nIF(OR(F131=\"Luminaire\",F131=\"Smart Controller\",F131=\"NW\"),OFFSET(I_CAPEX!$AC$48,(MATCH('C_CAPEX Build Up'!H131,I_CAPEX!V$49:V$437,0)),0),\nIF('C_CAPEX Build Up'!F131=\"Bracket\",OFFSET(I_CAPEX!S$48,MATCH('C_CAPEX Build Up'!H131,I_CAPEX!L$49:L$130,0),0),\nOFFSET(I_CAPEX!I$48,MATCH('C_CAPEX Build Up'!H131,I_CAPEX!B$49:B$102,0),0))))","v":1163.7874532641174},null,0,{"$f":"SUM(J131,L131)*I_CAPEX!$D$13","v":69.827247195847036},1233.6147004599645,null,null,null,{"$f":"IF(OR(G131=\"LED\",G131=\"Smart Controller\"),-PMT(return_on_assests_pct,LED_lantern_lifespan,N131)*(1+'I_Global Inputs'!$G$54),IF(G131=\"LED20\",-PMT(return_on_assests_pct,LED_life_span_20yrs,N131),\nIF(G131=\"Traditional\",-PMT(return_on_assests_pct,trad_lantern_lifespan,N131),\n-PMT(return_on_assests_pct,pole_lifespan,N131))))","v":150.45396377954305},156.62257629450431,161.12494012268965,165.75673152460635,170.52167110069482,175.42358640594335,null,null,null,1233.6147004599645,1284.1929031788229,1321.1090605584122,1359.0864313057918,1398.1555216787065,1438.3477148855598,null,null,null,null,{"$f":"_xlfn.XLOOKUP($H131,'I_Asset number input'!$B$5:$B$239,'I_Asset number input'!J$5:J$239)","v":47},{"$f":"_xlfn.XLOOKUP($H131,'I_Asset number input'!$B$5:$B$239,'I_Asset number input'!K$5:K$239)","v":47},{"$f":"_xlfn.XLOOKUP($H131,'I_Asset number input'!$B$5:$B$239,'I_Asset number input'!L$5:L$239)","v":47},{"$f":"_xlfn.XLOOKUP($H131,'I_Asset number input'!$B$5:$B$239,'I_Asset number input'!M$5:M$239)","v":47},{"$f":"_xlfn.XLOOKUP($H131,'I_Asset number input'!$B$5:$B$239,'I_Asset number input'!N$5:N$239)","v":47},{"$f":"_xlfn.XLOOKUP($H131,'I_Asset number input'!$B$5:$B$239,'I_Asset number input'!O$5:O$239)","v":47},null,null,null,7071.3362976385233,7361.2610858417029,7572.8721857664132,7790.5663816564984,8014.5185417326566,8244.9085610793372]
[null,"40W LED ALD","Minor (Cat P)",null,null,"Luminaire","LED","40W LED ALD",null,{"$f":"IF(ISBLANK(F132),0,\nIF(OR(F132=\"Luminaire\",F132=\"Smart Controller\",F132=\"NW\"),OFFSET(I_CAPEX!$AC$48,(MATCH('C_CAPEX Build Up'!H132,I_CAPEX!V$49:V$437,0)),0),\nIF('C_CAPEX Build Up'!F132=\"Bracket\",OFFSET(I_CAPEX!S$48,MATCH('C_CAPEX Build Up'!H132,I_CAPEX!L$49:L$130,0),0),\nOFFSET(I_CAPEX!I$48,MATCH('C_CAPEX Build Up'!H132,I_CAPEX!B$49:B$102,0),0))))","v":404.11947888797408},null,0,{"$f":"SUM(J132,L132)*I_CAPEX!$D$13","v":24.247168733278443},428.36664762125253,null,null,null,{"$f":"IF(OR(G132=\"LED\",G132=\"Smart Controller\"),-PMT(return_on_assests_pct,LED_lantern_lifespan,N132)*(1+'I_Global Inputs'!$G$54),IF(G132=\"LED20\",-PMT(return_on_assests_pct,LED_life_span_20yrs,N132),\nIF(G132=\"Traditional\",-PMT(return_on_assests_pct,trad_lantern_lifespan,N132),\n-PMT(return_on_assests_pct,pole_lifespan,N132))))","v":52.244400185521165},54.386420593127532,55.949844325620205,57.558211147594854,59.21281301928606,60.914979040370021,null,null,null,428.36664762125253,445.92968017372385,458.74863456349971,471.93609008462687,485.50263988531998,499.45918163060389,null,null,null,null,{"$f":"_xlfn.XLOOKUP($H132,'I_Asset number input'!$B$5:$B$239,'I_Asset number input'!J$5:J$239)","v":3},{"$f":"_xlfn.XLOOKUP($H132,'I_Asset number input'!$B$5:$B$239,'I_Asset number input'!K$5:K$239)","v":3},{"$f":"_xlfn.XLOOKUP($H132,'I_Asset number input'!$B$5:$B$239,'I_Asset number input'!L$5:L$239)","v":3},{"$f":"_xlfn.XLOOKUP($H132,'I_Asset number input'!$B$5:$B$239,'I_Asset number input'!M$5:M$239)","v":3},{"$f":"_xlfn.XLOOKUP($H132,'I_Asset number input'!$B$5:$B$239,'I_Asset number input'!N$5:N$239)","v":3},{"$f":"_xlfn.XLOOKUP($H132,'I_Asset number input'!$B$5:$B$239,'I_Asset number input'!O$5:O$239)","v":3},null,null,null,156.7332005565635,163.1592617793826,167.84953297686062,172.67463344278457,177.63843905785819,182.74493712111007]
[null,"40W LED ALD ZHAGA","Minor (Cat P)",null,null,"Luminaire","LED","40W LED ALD ZHAGA",null,{"$f":"IF(ISBLANK(F133),0,\nIF(OR(F133=\"Luminaire\",F133=\"Smart Controller\",F133=\"NW\"),OFFSET(I_CAPEX!$AC$48,(MATCH('C_CAPEX Build Up'!H133,I_CAPEX!V$49:V$437,0)),0),\nIF('C_CAPEX Build Up'!F133=\"Bracket\",OFFSET(I_CAPEX!S$48,MATCH('C_CAPEX Build Up'!H133,I_CAPEX!L$49:L$130,0),0),\nOFFSET(I_CAPEX!I$48,MATCH('C_CAPEX Build Up'!H133,I_CAPEX!B$49:B$102,0),0))))","v":425.41448159176247},null,0,{"$f":"SUM(J133,L133)*I_CAPEX!$D$13","v":25.524868895505747},450.9393504872682,null,null,null,{"$f":"IF(OR(G133=\"LED\",G133=\"Smart Controller\"),-PMT(return_on_assests_pct,LED_lantern_lifespan,N133)*(1+'I_Global Inputs'!$G$54),IF(G133=\"LED20\",-PMT(return_on_assests_pct,LED_life_span_20yrs,N133),\nIF(G133=\"Traditional\",-PMT(return_on_assests_pct,trad_lantern_lifespan,N133),\n-PMT(return_on_assests_pct,pole_lifespan,N133))))","v":54.997409385349627},57.252303170148956,58.898111232895175,60.591230653078853,62.333021470544992,64.124882821636362,null,null,null,450.9393504872682,469.42786385724617,482.92231072548697,496.80467682541433,511.08611350926833,525.77809269255738,null,null,null,null,{"$f":"_xlfn.XLOOKUP($H133,'I_Asset number input'!$B$5:$B$239,'I_Asset number input'!J$5:J$239)","v":0},{"$f":"_xlfn.XLOOKUP($H133,'I_Asset number input'!$B$5:$B$239,'I_Asset number input'!K$5:K$239)","v":0},{"$f":"_xlfn.XLOOKUP($H133,'I_Asset number input'!$B$5:$B$239,'I_Asset number input'!L$5:L$239)","v":0},{"$f":"_xlfn.XLOOKUP($H133,'I_Asset number input'!$B$5:$B$239,'I_Asset number input'!M$5:M$239)","v":0},{"$f":"_xlfn.XLOOKUP($H133,'I_Asset number input'!$B$5:$B$239,'I_Asset number input'!N$5:N$239)","v":0},{"$f":"_xlfn.XLOOKUP($H133,'I_Asset number input'!$B$5:$B$239,'I_Asset number input'!O$5:O$239)","v":0},null,null,null,0,0,0,0,0,0]
[null,"42W LED LRL","Major (Cat V)",null,null,"Luminaire","LED","42W LED LRL",null,{"$f":"IF(ISBLANK(F134),0,\nIF(OR(F134=\"Luminaire\",F134=\"Smart Controller\",F134=\"NW\"),OFFSET(I_CAPEX!$AC$48,(MATCH('C_CAPEX Build Up'!H134,I_CAPEX!V$49:V$437,0)),0),\nIF('C_CAPEX Build Up'!F134=\"Bracket\",OFFSET(I_CAPEX!S$48,MATCH('C_CAPEX Build Up'!H134,I_CAPEX!L$49:L$130,0),0),\nOFFSET(I_CAPEX!I$48,MATCH('C_CAPEX Build Up'!H134,I_CAPEX!B$49:B$102,0),0))))","v":624.14735973840743},null,75.314371605110225,{"$f":"SUM(J134,L134)*I_CAPEX!$D$13","v":41.967703880611055},741.42943522412861,null,null,null,{"$f":"IF(OR(G134=\"LED\",G134=\"Smart Controller\"),-PMT(return_on_assests_pct,LED_lantern_lifespan,N134)*(1+'I_Global Inputs'!$G$54),IF(G134=\"LED20\",-PMT(return_on_assests_pct,LED_life_span_20yrs,N134),\nIF(G134=\"Traditional\",-PMT(return_on_assests_pct,trad_lantern_lifespan,N134),\n-PMT(return_on_assests_pct,pole_lifespan,N134))))","v":90.426125232380329},94.133596366907909,96.839615571332388,99.623423580363593,102.48725655629936,105.43341494346174,null,null,null,741.42943522412861,771.82804206831781,794.0154606410606,816.84069167472785,840.32207009791784,864.47845790576832,null,null,null,null,{"$f":"_xlfn.XLOOKUP($H134,'I_Asset number input'!$B$5:$B$239,'I_Asset number input'!J$5:J$239)","v":10},{"$f":"_xlfn.XLOOKUP($H134,'I_Asset number input'!$B$5:$B$239,'I_Asset number input'!K$5:K$239)","v":10},{"$f":"_xlfn.XLOOKUP($H134,'I_Asset number input'!$B$5:$B$239,'I_Asset number input'!L$5:L$239)","v":10},{"$f":"_xlfn.XLOOKUP($H134,'I_Asset number input'!$B$5:$B$239,'I_Asset number input'!M$5:M$239)","v":10},{"$f":"_xlfn.XLOOKUP($H134,'I_Asset number input'!$B$5:$B$239,'I_Asset number input'!N$5:N$239)","v":9.7512500000000006},{"$f":"_xlfn.XLOOKUP($H134,'I_Asset number input'!$B$5:$B$239,'I_Asset number input'!O$5:O$239)","v":8.5099875000000011},null,null,null,904.26125232380332,941.33596366907909,968.39615571332388,996.2342358036359,999.37886049461417,897.23704325117274]
[null,"49W LED PH","Minor (Cat P)",null,null,"Luminaire","LED","49W LED PH",null,{"$f":"IF(ISBLANK(F135),0,\nIF(OR(F135=\"Luminaire\",F135=\"Smart Controller\",F135=\"NW\"),OFFSET(I_CAPEX!$AC$48,(MATCH('C_CAPEX Build Up'!H135,I_CAPEX!V$49:V$437,0)),0),\nIF('C_CAPEX Build Up'!F135=\"Bracket\",OFFSET(I_CAPEX!S$48,MATCH('C_CAPEX Build Up'!H135,I_CAPEX!L$49:L$130,0),0),\nOFFSET(I_CAPEX!I$48,MATCH('C_CAPEX Build Up'!H135,I_CAPEX!B$49:B$102,0),0))))","v":439.46499592623343},null,0,{"$f":"SUM(J135,L135)*I_CAPEX!$D$13","v":26.367899755574005},465.83289568180743,null,null,null,{"$f":"IF(OR(G135=\"LED\",G135=\"Smart Controller\"),-PMT(return_on_assests_pct,LED_lantern_lifespan,N135)*(1+'I_Global Inputs'!$G$54),IF(G135=\"LED20\",-PMT(return_on_assests_pct,LED_life_span_20yrs,N135),\nIF(G135=\"Traditional\",-PMT(return_on_assests_pct,trad_lantern_lifespan,N135),\n-PMT(return_on_assests_pct,pole_lifespan,N135))))","v":56.813854105417157},59.143222123739257,60.84338764439542,62.592427113643367,64.391745490483814,66.242788121687454,null,null,null,465.83289568180743,484.93204440476148,498.87218347992609,513.21305391462261,527.96617536598274,543.14339864191334,null,null,null,null,{"$f":"_xlfn.XLOOKUP($H135,'I_Asset number input'!$B$5:$B$239,'I_Asset number input'!J$5:J$239)","v":188},{"$f":"_xlfn.XLOOKUP($H135,'I_Asset number input'!$B$5:$B$239,'I_Asset number input'!K$5:K$239)","v":188},{"$f":"_xlfn.XLOOKUP($H135,'I_Asset number input'!$B$5:$B$239,'I_Asset number input'!L$5:L$239)","v":188},{"$f":"_xlfn.XLOOKUP($H135,'I_Asset number input'!$B$5:$B$239,'I_Asset number input'!M$5:M$239)","v":188},{"$f":"_xlfn.XLOOKUP($H135,'I_Asset number input'!$B$5:$B$239,'I_Asset number input'!N$5:N$239)","v":188},{"$f":"_xlfn.XLOOKUP($H135,'I_Asset number input'!$B$5:$B$239,'I_Asset number input'!O$5:O$239)","v":188},null,null,null,10681.004571818425,11118.92575926298,11438.556877146339,11767.376297364954,12105.648152210957,12453.644166877242]
[null,"49W LED PH ZHAGA","Minor (Cat P)",null,null,"Luminaire","LED","49W LED PH ZHAGA",null,{"$f":"IF(ISBLANK(F136),0,\nIF(OR(F136=\"Luminaire\",F136=\"Smart Controller\",F136=\"NW\"),OFFSET(I_CAPEX!$AC$48,(MATCH('C_CAPEX Build Up'!H136,I_CAPEX!V$49:V$437,0)),0),\nIF('C_CAPEX Build Up'!F136=\"Bracket\",OFFSET(I_CAPEX!S$48,MATCH('C_CAPEX Build Up'!H136,I_CAPEX!L$49:L$130,0),0),\nOFFSET(I_CAPEX!I$48,MATCH('C_CAPEX Build Up'!H136,I_CAPEX!B$49:B$102,0),0))))","v":500.94298227435632},null,0,{"$f":"SUM(J136,L136)*I_CAPEX!$D$13","v":30.056578936461378},530.99956121081766,null,null,null,{"$f":"IF(OR(G136=\"LED\",G136=\"Smart Controller\"),-PMT(return_on_assests_pct,LED_lantern_lifespan,N136)*(1+'I_Global Inputs'!$G$54),IF(G136=\"LED20\",-PMT(return_on_assests_pct,LED_life_span_20yrs,N136),\nIF(G136=\"Traditional\",-PMT(return_on_assests_pct,trad_lantern_lifespan,N136),\n-PMT(return_on_assests_pct,pole_lifespan,N136))))","v":64.761702920350686},67.416932740085059,69.35493916647286,71.348656654697322,73.399686707399866,75.50967686494991,null,null,null,530.99956121081766,552.77054322046115,568.66080730603221,585.00786218084852,601.82483901906892,619.12524647123519,null,null,null,null,{"$f":"_xlfn.XLOOKUP($H136,'I_Asset number input'!$B$5:$B$239,'I_Asset number input'!J$5:J$239)","v":183.83333333333334},{"$f":"_xlfn.XLOOKUP($H136,'I_Asset number input'!$B$5:$B$239,'I_Asset number input'!K$5:K$239)","v":551.5},{"$f":"_xlfn.XLOOKUP($H136,'I_Asset number input'!$B$5:$B$239,'I_Asset number input'!L$5:L$239)","v":919.16666666666674},{"$f":"_xlfn.XLOOKUP($H136,'I_Asset number input'!$B$5:$B$239,'I_Asset number input'!M$5:M$239)","v":1103},{"$f":"_xlfn.XLOOKUP($H136,'I_Asset number input'!$B$5:$B$239,'I_Asset number input'!N$5:N$239)","v":1103},{"$f":"_xlfn.XLOOKUP($H136,'I_Asset number input'!$B$5:$B$239,'I_Asset number input'!O$5:O$239)","v":1103},null,null,null,11905.359720191134,37180.438406156907,63748.748250516306,78697.568290131152,80959.854438262046,83287.173582039744]
[null,"50W LED SY PT","Minor (Cat P)",null,null,"Luminaire","LED","50W LED SY PT",null,{"$f":"IF(ISBLANK(F137),0,\nIF(OR(F137=\"Luminaire\",F137=\"Smart Controller\",F137=\"NW\"),OFFSET(I_CAPEX!$AC$48,(MATCH('C_CAPEX Build Up'!H137,I_CAPEX!V$49:V$437,0)),0),\nIF('C_CAPEX Build Up'!F137=\"Bracket\",OFFSET(I_CAPEX!S$48,MATCH('C_CAPEX Build Up'!H137,I_CAPEX!L$49:L$130,0),0),\nOFFSET(I_CAPEX!I$48,MATCH('C_CAPEX Build Up'!H137,I_CAPEX!B$49:B$102,0),0))))","v":1496.4589694267117},null,0,{"$f":"SUM(J137,L137)*I_CAPEX!$D$13","v":89.787538165602697},1586.2465075923144,null,null,null,{"$f":"IF(OR(G137=\"LED\",G137=\"Smart Controller\"),-PMT(return_on_assests_pct,LED_lantern_lifespan,N137)*(1+'I_Global Inputs'!$G$54),IF(G137=\"LED20\",-PMT(return_on_assests_pct,LED_life_span_20yrs,N137),\nIF(G137=\"Traditional\",-PMT(return_on_assests_pct,trad_lantern_lifespan,N137),\n-PMT(return_on_assests_pct,pole_lifespan,N137))))","v":193.46160070055527},201.39352632927802,207.18290197120743,213.13870237829323,219.26571169379548,225.56885158874371,null,null,null,1586.2465075923144,1651.2826144035992,1698.751346492531,1747.5846424098929,1797.821728702507,1849.5029595463636,null,null,null,null,{"$f":"_xlfn.XLOOKUP($H137,'I_Asset number input'!$B$5:$B$239,'I_Asset number input'!J$5:J$239)","v":25},{"$f":"_xlfn.XLOOKUP($H137,'I_Asset number input'!$B$5:$B$239,'I_Asset number input'!K$5:K$239)","v":25},{"$f":"_xlfn.XLOOKUP($H137,'I_Asset number input'!$B$5:$B$239,'I_Asset number input'!L$5:L$239)","v":25},{"$f":"_xlfn.XLOOKUP($H137,'I_Asset number input'!$B$5:$B$239,'I_Asset number input'!M$5:M$239)","v":25},{"$f":"_xlfn.XLOOKUP($H137,'I_Asset number input'!$B$5:$B$239,'I_Asset number input'!N$5:N$239)","v":25},{"$f":"_xlfn.XLOOKUP($H137,'I_Asset number input'!$B$5:$B$239,'I_Asset number input'!O$5:O$239)","v":25},null,null,null,4836.540017513882,5034.8381582319507,5179.5725492801857,5328.4675594573309,5481.6427923448873,5639.2212897185927]
[null,"58W LED ALD","Minor (Cat P)",null,null,"Luminaire","LED","58W LED ALD",null,{"$f":"IF(ISBLANK(F138),0,\nIF(OR(F138=\"Luminaire\",F138=\"Smart Controller\",F138=\"NW\"),OFFSET(I_CAPEX!$AC$48,(MATCH('C_CAPEX Build Up'!H138,I_CAPEX!V$49:V$437,0)),0),\nIF('C_CAPEX Build Up'!F138=\"Bracket\",OFFSET(I_CAPEX!S$48,MATCH('C_CAPEX Build Up'!H138,I_CAPEX!L$49:L$130,0),0),\nOFFSET(I_CAPEX!I$48,MATCH('C_CAPEX Build Up'!H138,I_CAPEX!B$49:B$102,0),0))))","v":621.54673093403255},null,0,{"$f":"SUM(J138,L138)*I_CAPEX!$D$13","v":37.292803856041949},658.83953479007448,null,null,null,{"$f":"IF(OR(G138=\"LED\",G138=\"Smart Controller\"),-PMT(return_on_assests_pct,LED_lantern_lifespan,N138)*(1+'I_Global Inputs'!$G$54),IF(G138=\"LED20\",-PMT(return_on_assests_pct,LED_life_span_20yrs,N138),\nIF(G138=\"Traditional\",-PMT(return_on_assests_pct,trad_lantern_lifespan,N138),\n-PMT(return_on_assests_pct,pole_lifespan,N138))))","v":80.353305993254779},83.647791538978225,86.05237968867462,88.526091530261496,91.070914133658178,93.688891690253541,null,null,null,658.83953479007448,685.8519557164675,705.56785562033315,725.85052026953394,746.71624221364254,768.181782357354,null,null,null,null,{"$f":"_xlfn.XLOOKUP($H138,'I_Asset number input'!$B$5:$B$239,'I_Asset number input'!J$5:J$239)","v":6},{"$f":"_xlfn.XLOOKUP($H138,'I_Asset number input'!$B$5:$B$239,'I_Asset number input'!K$5:K$239)","v":6},{"$f":"_xlfn.XLOOKUP($H138,'I_Asset number input'!$B$5:$B$239,'I_Asset number input'!L$5:L$239)","v":6},{"$f":"_xlfn.XLOOKUP($H138,'I_Asset number input'!$B$5:$B$239,'I_Asset number input'!M$5:M$239)","v":6},{"$f":"_xlfn.XLOOKUP($H138,'I_Asset number input'!$B$5:$B$239,'I_Asset number input'!N$5:N$239)","v":6},{"$f":"_xlfn.XLOOKUP($H138,'I_Asset number input'!$B$5:$B$239,'I_Asset number input'!O$5:O$239)","v":6},null,null,null,482.1198359595287,501.88674923386935,516.31427813204778,531.15654918156895,546.4254848019491,562.1333501415213]
[null,"58W LED ALD ZHAGA","Minor (Cat P)",null,null,"Luminaire","LED","58W LED ALD ZHAGA",null,{"$f":"IF(ISBLANK(F139),0,\nIF(OR(F139=\"Luminaire\",F139=\"Smart Controller\",F139=\"NW\"),OFFSET(I_CAPEX!$AC$48,(MATCH('C_CAPEX Build Up'!H139,I_CAPEX!V$49:V$437,0)),0),\nIF('C_CAPEX Build Up'!F139=\"Bracket\",OFFSET(I_CAPEX!S$48,MATCH('C_CAPEX Build Up'!H139,I_CAPEX!L$49:L$130,0),0),\nOFFSET(I_CAPEX!I$48,MATCH('C_CAPEX Build Up'!H139,I_CAPEX!B$49:B$102,0),0))))","v":643.83397216899516},null,0,{"$f":"SUM(J139,L139)*I_CAPEX!$D$13","v":38.630038330139705},682.46401049913482,null,null,null,{"$f":"IF(OR(G139=\"LED\",G139=\"Smart Controller\"),-PMT(return_on_assests_pct,LED_lantern_lifespan,N139)*(1+'I_Global Inputs'!$G$54),IF(G139=\"LED20\",-PMT(return_on_assests_pct,LED_life_span_20yrs,N139),\nIF(G139=\"Traditional\",-PMT(return_on_assests_pct,trad_lantern_lifespan,N139),\n-PMT(return_on_assests_pct,pole_lifespan,N139))))","v":83.234591382701225},86.647209629391966,89.138020799009126,91.700434277681893,94.336508387102668,97.048360618678416,null,null,null,682.46401049913482,710.44503492959927,730.86790181672211,751.87785633396754,773.4917752443946,795.727020460326,null,null,null,null,{"$f":"_xlfn.XLOOKUP($H139,'I_Asset number input'!$B$5:$B$239,'I_Asset number input'!J$5:J$239)","v":0},{"$f":"_xlfn.XLOOKUP($H139,'I_Asset number input'!$B$5:$B$239,'I_Asset number input'!K$5:K$239)","v":0},{"$f":"_xlfn.XLOOKUP($H139,'I_Asset number input'!$B$5:$B$239,'I_Asset number input'!L$5:L$239)","v":0},{"$f":"_xlfn.XLOOKUP($H139,'I_Asset number input'!$B$5:$B$239,'I_Asset number input'!M$5:M$239)","v":0},{"$f":"_xlfn.XLOOKUP($H139,'I_Asset number input'!$B$5:$B$239,'I_Asset number input'!N$5:N$239)","v":0},{"$f":"_xlfn.XLOOKUP($H139,'I_Asset number input'!$B$5:$B$239,'I_Asset number input'!O$5:O$239)","v":0},null,null,null,0,0,0,0,0,0]
[null,"70W LED PH FLOOD","Major (Cat V)",null,null,"Luminaire","LED","70W LED PH FLOOD",null,{"$f":"IF(ISBLANK(F140),0,\nIF(OR(F140=\"Luminaire\",F140=\"Smart Controller\",F140=\"NW\"),OFFSET(I_CAPEX!$AC$48,(MATCH('C_CAPEX Build Up'!H140,I_CAPEX!V$49:V$437,0)),0),\nIF('C_CAPEX Build Up'!F140=\"Bracket\",OFFSET(I_CAPEX!S$48,MATCH('C_CAPEX Build Up'!H140,I_CAPEX!L$49:L$130,0),0),\nOFFSET(I_CAPEX!I$48,MATCH('C_CAPEX Build Up'!H140,I_CAPEX!B$49:B$102,0),0))))","v":570.24543961224026},null,75.314371605110225,{"$f":"SUM(J140,L140)*I_CAPEX!$D$13","v":38.733588673041027},684.29339989039147,null,null,null,{"$f":"IF(OR(G140=\"LED\",G140=\"Smart Controller\"),-PMT(return_on_assests_pct,LED_lantern_lifespan,N140)*(1+'I_Global Inputs'!$G$54),IF(G140=\"LED20\",-PMT(return_on_assests_pct,LED_life_span_20yrs,N140),\nIF(G140=\"Traditional\",-PMT(return_on_assests_pct,trad_lantern_lifespan,N140),\n-PMT(return_on_assests_pct,pole_lifespan,N140))))","v":83.457707145757709},86.879473138733772,89.376961090509738,91.94624328601121,94.589383564396428,97.308505093146508,null,null,null,684.29339989039147,712.34942928589749,732.82704100270746,753.89331407640907,775.56517050932803,797.86001875352792,null,null,null,null,{"$f":"_xlfn.XLOOKUP($H140,'I_Asset number input'!$B$5:$B$239,'I_Asset number input'!J$5:J$239)","v":10},{"$f":"_xlfn.XLOOKUP($H140,'I_Asset number input'!$B$5:$B$239,'I_Asset number input'!K$5:K$239)","v":10},{"$f":"_xlfn.XLOOKUP($H140,'I_Asset number input'!$B$5:$B$239,'I_Asset number input'!L$5:L$239)","v":85.166666666666657},{"$f":"_xlfn.XLOOKUP($H140,'I_Asset number input'!$B$5:$B$239,'I_Asset number input'!M$5:M$239)","v":235.49999999999997},{"$f":"_xlfn.XLOOKUP($H140,'I_Asset number input'!$B$5:$B$239,'I_Asset number input'!N$5:N$239)","v":385.83333333333326},{"$f":"_xlfn.XLOOKUP($H140,'I_Asset number input'!$B$5:$B$239,'I_Asset number input'!O$5:O$239)","v":460.99999999999994},null,null,null,834.57707145757706,868.79473138733772,7611.9378528750785,21653.340293855639,36495.737158596283,44859.220847940538]
[null,"74W LED ALD","Major (Cat V)",null,null,"Luminaire","LED","74W LED ALD",null,{"$f":"IF(ISBLANK(F141),0,\nIF(OR(F141=\"Luminaire\",F141=\"Smart Controller\",F141=\"NW\"),OFFSET(I_CAPEX!$AC$48,(MATCH('C_CAPEX Build Up'!H141,I_CAPEX!V$49:V$437,0)),0),\nIF('C_CAPEX Build Up'!F141=\"Bracket\",OFFSET(I_CAPEX!S$48,MATCH('C_CAPEX Build Up'!H141,I_CAPEX!L$49:L$130,0),0),\nOFFSET(I_CAPEX!I$48,MATCH('C_CAPEX Build Up'!H141,I_CAPEX!B$49:B$102,0),0))))","v":621.54673093403255},null,75.314371605110225,{"$f":"SUM(J141,L141)*I_CAPEX!$D$13","v":41.811666152348565},738.67276869149134,null,null,null,{"$f":"IF(OR(G141=\"LED\",G141=\"Smart Controller\"),-PMT(return_on_assests_pct,LED_lantern_lifespan,N141)*(1+'I_Global Inputs'!$G$54),IF(G141=\"LED20\",-PMT(return_on_assests_pct,LED_life_span_20yrs,N141),\nIF(G141=\"Traditional\",-PMT(return_on_assests_pct,trad_lantern_lifespan,N141),\n-PMT(return_on_assests_pct,pole_lifespan,N141))))","v":90.089917009100375},93.783603606473477,96.479561715096892,99.253019406205439,102.10620452794933,105.04140897149969,null,null,null,738.67276869149134,768.95835220784238,791.06327700394331,813.80364284680354,837.19771649496818,861.26428981386573,null,null,null,null,{"$f":"_xlfn.XLOOKUP($H141,'I_Asset number input'!$B$5:$B$239,'I_Asset number input'!J$5:J$239)","v":31},{"$f":"_xlfn.XLOOKUP($H141,'I_Asset number input'!$B$5:$B$239,'I_Asset number input'!K$5:K$239)","v":31},{"$f":"_xlfn.XLOOKUP($H141,'I_Asset number input'!$B$5:$B$239,'I_Asset number input'!L$5:L$239)","v":31},{"$f":"_xlfn.XLOOKUP($H141,'I_Asset number input'!$B$5:$B$239,'I_Asset number input'!M$5:M$239)","v":31},{"$f":"_xlfn.XLOOKUP($H141,'I_Asset number input'!$B$5:$B$239,'I_Asset number input'!N$5:N$239)","v":31},{"$f":"_xlfn.XLOOKUP($H141,'I_Asset number input'!$B$5:$B$239,'I_Asset number input'!O$5:O$239)","v":31},null,null,null,2792.7874272821118,2907.2917118006776,2990.8664131680039,3076.8436015923685,3165.292340366429,3256.2836781164906]
[null,"74W LED ALD ZHAGA","Major (Cat V)",null,null,"Luminaire","LED","74W LED ALD ZHAGA",null,{"$f":"IF(ISBLANK(F142),0,\nIF(OR(F142=\"Luminaire\",F142=\"Smart Controller\",F142=\"NW\"),OFFSET(I_CAPEX!$AC$48,(MATCH('C_CAPEX Build Up'!H142,I_CAPEX!V$49:V$437,0)),0),\nIF('C_CAPEX Build Up'!F142=\"Bracket\",OFFSET(I_CAPEX!S$48,MATCH('C_CAPEX Build Up'!H142,I_CAPEX!L$49:L$130,0),0),\nOFFSET(I_CAPEX!I$48,MATCH('C_CAPEX Build Up'!H142,I_CAPEX!B$49:B$102,0),0))))","v":643.83397216899516},null,75.314371605110225,{"$f":"SUM(J142,L142)*I_CAPEX!$D$13","v":43.14890062644632},762.29724440055168,null,null,null,{"$f":"IF(OR(G142=\"LED\",G142=\"Smart Controller\"),-PMT(return_on_assests_pct,LED_lantern_lifespan,N142)*(1+'I_Global Inputs'!$G$54),IF(G142=\"LED20\",-PMT(return_on_assests_pct,LED_life_span_20yrs,N142),\nIF(G142=\"Traditional\",-PMT(return_on_assests_pct,trad_lantern_lifespan,N142),\n-PMT(return_on_assests_pct,pole_lifespan,N142))))","v":92.971202398546836},96.783021696887246,99.565202825431442,102.42736215362588,105.37179878139388,108.40087789992464,null,null,null,762.29724440055168,793.55143142097427,816.36332320033239,839.83097891123725,863.97324952572035,888.80952791683785,null,null,null,null,{"$f":"_xlfn.XLOOKUP($H142,'I_Asset number input'!$B$5:$B$239,'I_Asset number input'!J$5:J$239)","v":1},{"$f":"_xlfn.XLOOKUP($H142,'I_Asset number input'!$B$5:$B$239,'I_Asset number input'!K$5:K$239)","v":1},{"$f":"_xlfn.XLOOKUP($H142,'I_Asset number input'!$B$5:$B$239,'I_Asset number input'!L$5:L$239)","v":1},{"$f":"_xlfn.XLOOKUP($H142,'I_Asset number input'!$B$5:$B$239,'I_Asset number input'!M$5:M$239)","v":1},{"$f":"_xlfn.XLOOKUP($H142,'I_Asset number input'!$B$5:$B$239,'I_Asset number input'!N$5:N$239)","v":1},{"$f":"_xlfn.XLOOKUP($H142,'I_Asset number input'!$B$5:$B$239,'I_Asset number input'!O$5:O$239)","v":1},null,null,null,92.971202398546836,96.783021696887246,99.565202825431442,102.42736215362588,105.37179878139388,108.40087789992464]
[null,"76W LED PH","Major (Cat V)",null,null,"Luminaire","LED","76W LED PH",null,{"$f":"IF(ISBLANK(F143),0,\nIF(OR(F143=\"Luminaire\",F143=\"Smart Controller\",F143=\"NW\"),OFFSET(I_CAPEX!$AC$48,(MATCH('C_CAPEX Build Up'!H143,I_CAPEX!V$49:V$437,0)),0),\nIF('C_CAPEX Build Up'!F143=\"Bracket\",OFFSET(I_CAPEX!S$48,MATCH('C_CAPEX Build Up'!H143,I_CAPEX!L$49:L$130,0),0),\nOFFSET(I_CAPEX!I$48,MATCH('C_CAPEX Build Up'!H143,I_CAPEX!B$49:B$102,0),0))))","v":447.28946691599458},null,75.314371605110225,{"$f":"SUM(J143,L143)*I_CAPEX!$D$13","v":31.356230311266284},553.96006883237101,null,null,null,{"$f":"IF(OR(G143=\"LED\",G143=\"Smart Controller\"),-PMT(return_on_assests_pct,LED_lantern_lifespan,N143)*(1+'I_Global Inputs'!$G$54),IF(G143=\"LED20\",-PMT(return_on_assests_pct,LED_life_span_20yrs,N143),\nIF(G143=\"Traditional\",-PMT(return_on_assests_pct,trad_lantern_lifespan,N143),\n-PMT(return_on_assests_pct,pole_lifespan,N143))))","v":67.562009515890651},70.332051906042167,72.353858046354844,74.433784203903286,76.57350113056431,78.774727606621582,null,null,null,553.96006883237101,576.67243165449815,593.24979335049522,610.30369754395747,627.84784320315578,645.89632309488434,null,null,null,null,{"$f":"_xlfn.XLOOKUP($H143,'I_Asset number input'!$B$5:$B$239,'I_Asset number input'!J$5:J$239)","v":3377},{"$f":"_xlfn.XLOOKUP($H143,'I_Asset number input'!$B$5:$B$239,'I_Asset number input'!K$5:K$239)","v":3377},{"$f":"_xlfn.XLOOKUP($H143,'I_Asset number input'!$B$5:$B$239,'I_Asset number input'!L$5:L$239)","v":3377},{"$f":"_xlfn.XLOOKUP($H143,'I_Asset number input'!$B$5:$B$239,'I_Asset number input'!M$5:M$239)","v":3377},{"$f":"_xlfn.XLOOKUP($H143,'I_Asset number input'!$B$5:$B$239,'I_Asset number input'!N$5:N$239)","v":3377},{"$f":"_xlfn.XLOOKUP($H143,'I_Asset number input'!$B$5:$B$239,'I_Asset number input'!O$5:O$239)","v":3377},null,null,null,228156.90613516272,237511.3392867044,244338.97862254031,251362.8892565814,258588.71331791568,266022.2551275611]
[null,"76W LED PH ZHAGA","Major (Cat V)",null,null,"Luminaire","LED","76W LED PH ZHAGA",null,{"$f":"IF(ISBLANK(F144),0,\nIF(OR(F144=\"Luminaire\",F144=\"Smart Controller\",F144=\"NW\"),OFFSET(I_CAPEX!$AC$48,(MATCH('C_CAPEX Build Up'!H144,I_CAPEX!V$49:V$437,0)),0),\nIF('C_CAPEX Build Up'!F144=\"Bracket\",OFFSET(I_CAPEX!S$48,MATCH('C_CAPEX Build Up'!H144,I_CAPEX!L$49:L$130,0),0),\nOFFSET(I_CAPEX!I$48,MATCH('C_CAPEX Build Up'!H144,I_CAPEX!B$49:B$102,0),0))))","v":508.76745326411742},null,75.314371605110225,{"$f":"SUM(J144,L144)*I_CAPEX!$D$13","v":35.044909492153657},619.1267343613813,null,null,null,{"$f":"IF(OR(G144=\"LED\",G144=\"Smart Controller\"),-PMT(return_on_assests_pct,LED_lantern_lifespan,N144)*(1+'I_Global Inputs'!$G$54),IF(G144=\"LED20\",-PMT(return_on_assests_pct,LED_life_span_20yrs,N144),\nIF(G144=\"Traditional\",-PMT(return_on_assests_pct,trad_lantern_lifespan,N144),\n-PMT(return_on_assests_pct,pole_lifespan,N144))))","v":75.509858330824201},78.605762522387991,80.865409568432312,83.19001374495727,85.58144234748039,88.041616349884066,null,null,null,619.1267343613813,644.51093047019788,663.03841717660146,682.09850581018338,701.70650685624207,721.8781709242063,null,null,null,null,{"$f":"_xlfn.XLOOKUP($H144,'I_Asset number input'!$B$5:$B$239,'I_Asset number input'!J$5:J$239)","v":5061.833333333333},{"$f":"_xlfn.XLOOKUP($H144,'I_Asset number input'!$B$5:$B$239,'I_Asset number input'!K$5:K$239)","v":15185.5},{"$f":"_xlfn.XLOOKUP($H144,'I_Asset number input'!$B$5:$B$239,'I_Asset number input'!L$5:L$239)","v":25309.166666666664},{"$f":"_xlfn.XLOOKUP($H144,'I_Asset number input'!$B$5:$B$239,'I_Asset number input'!M$5:M$239)","v":30521},{"$f":"_xlfn.XLOOKUP($H144,'I_Asset number input'!$B$5:$B$239,'I_Asset number input'!N$5:N$239)","v":30871},{"$f":"_xlfn.XLOOKUP($H144,'I_Asset number input'!$B$5:$B$239,'I_Asset number input'!O$5:O$239)","v":31321},null,null,null,382218.31789424364,1193667.8067837229,2046636.1283357146,2539042.4095098409,2641984.7067090673,2757551.465694719]
[null,"100W LED ALD","Major (Cat V)",null,null,"Luminaire","LED","100W LED ALD",null,{"$f":"IF(ISBLANK(F145),0,\nIF(OR(F145=\"Luminaire\",F145=\"Smart Controller\",F145=\"NW\"),OFFSET(I_CAPEX!$AC$48,(MATCH('C_CAPEX Build Up'!H145,I_CAPEX!V$49:V$437,0)),0),\nIF('C_CAPEX Build Up'!F145=\"Bracket\",OFFSET(I_CAPEX!S$48,MATCH('C_CAPEX Build Up'!H145,I_CAPEX!L$49:L$130,0),0),\nOFFSET(I_CAPEX!I$48,MATCH('C_CAPEX Build Up'!H145,I_CAPEX!B$49:B$102,0),0))))","v":861.12436352074474},null,75.314371605110225,{"$f":"SUM(J145,L145)*I_CAPEX!$D$13","v":56.186324107551293},992.6250592334062,null,null,null,{"$f":"IF(OR(G145=\"LED\",G145=\"Smart Controller\"),-PMT(return_on_assests_pct,LED_lantern_lifespan,N145)*(1+'I_Global Inputs'!$G$54),IF(G145=\"LED20\",-PMT(return_on_assests_pct,LED_life_span_20yrs,N145),\nIF(G145=\"Traditional\",-PMT(return_on_assests_pct,trad_lantern_lifespan,N145),\n-PMT(return_on_assests_pct,pole_lifespan,N145))))","v":121.06241491195368},126.02597392334377,129.64878999385303,133.37574964581736,137.20984665130447,141.15416084309808,null,null,null,992.6250592334062,1033.3226866619757,1063.0271826378437,1093.5855813611977,1125.0224296179101,1157.3629798300612,null,null,null,null,{"$f":"_xlfn.XLOOKUP($H145,'I_Asset number input'!$B$5:$B$239,'I_Asset number input'!J$5:J$239)","v":2798},{"$f":"_xlfn.XLOOKUP($H145,'I_Asset number input'!$B$5:$B$239,'I_Asset number input'!K$5:K$239)","v":2798},{"$f":"_xlfn.XLOOKUP($H145,'I_Asset number input'!$B$5:$B$239,'I_Asset number input'!L$5:L$239)","v":2798},{"$f":"_xlfn.XLOOKUP($H145,'I_Asset number input'!$B$5:$B$239,'I_Asset number input'!M$5:M$239)","v":2798},{"$f":"_xlfn.XLOOKUP($H145,'I_Asset number input'!$B$5:$B$239,'I_Asset number input'!N$5:N$239)","v":2702.0849499999999},{"$f":"_xlfn.XLOOKUP($H145,'I_Asset number input'!$B$5:$B$239,'I_Asset number input'!O$5:O$239)","v":2423.8439257499995},null,null,null,338732.63692364638,352620.67503751587,362757.31440280075,373185.34750899696,370752.6616282977,342135.65535388171]
[null,"100W LED SY CT","Minor (Cat P)",null,null,"Luminaire","LED","100W LED SY CT",null,{"$f":"IF(ISBLANK(F146),0,\nIF(OR(F146=\"Luminaire\",F146=\"Smart Controller\",F146=\"NW\"),OFFSET(I_CAPEX!$AC$48,(MATCH('C_CAPEX Build Up'!H146,I_CAPEX!V$49:V$437,0)),0),\nIF('C_CAPEX Build Up'!F146=\"Bracket\",OFFSET(I_CAPEX!S$48,MATCH('C_CAPEX Build Up'!H146,I_CAPEX!L$49:L$130,0),0),\nOFFSET(I_CAPEX!I$48,MATCH('C_CAPEX Build Up'!H146,I_CAPEX!B$49:B$102,0),0))))","v":1630.9007528776331},null,0,{"$f":"SUM(J146,L146)*I_CAPEX!$D$13","v":97.854045172657976},1728.7547980502911,null,null,null,{"$f":"IF(OR(G146=\"LED\",G146=\"Smart Controller\"),-PMT(return_on_assests_pct,LED_lantern_lifespan,N146)*(1+'I_Global Inputs'!$G$54),IF(G146=\"LED20\",-PMT(return_on_assests_pct,LED_life_span_20yrs,N146),\nIF(G146=\"Traditional\",-PMT(return_on_assests_pct,trad_lantern_lifespan,N146),\n-PMT(return_on_assests_pct,pole_lifespan,N146))))","v":210.84217922548251},219.48670857372727,225.79620137374121,232.28707052976378,238.96452999219662,245.83394359469736,null,null,null,1728.7547980502911,1799.6337447703529,1851.3670648837963,1904.5875411576178,1959.3379242492374,2015.6621937513798,null,null,null,null,{"$f":"_xlfn.XLOOKUP($H146,'I_Asset number input'!$B$5:$B$239,'I_Asset number input'!J$5:J$239)","v":6},{"$f":"_xlfn.XLOOKUP($H146,'I_Asset number input'!$B$5:$B$239,'I_Asset number input'!K$5:K$239)","v":6},{"$f":"_xlfn.XLOOKUP($H146,'I_Asset number input'!$B$5:$B$239,'I_Asset number input'!L$5:L$239)","v":6},{"$f":"_xlfn.XLOOKUP($H146,'I_Asset number input'!$B$5:$B$239,'I_Asset number input'!M$5:M$239)","v":6},{"$f":"_xlfn.XLOOKUP($H146,'I_Asset number input'!$B$5:$B$239,'I_Asset number input'!N$5:N$239)","v":6},{"$f":"_xlfn.XLOOKUP($H146,'I_Asset number input'!$B$5:$B$239,'I_Asset number input'!O$5:O$239)","v":6},null,null,null,1265.0530753528951,1316.9202514423637,{"$f":"IFERROR(T146*AM146,0)","v":1354.7772082424472},{"$f":"IFERROR(U146*AN146,0)","v":1393.7224231785826},{"$f":"IFERROR(V146*AO146,0)","v":1433.7871799531797},{"$f":"IFERROR(W146*AP146,0)","v":1475.0036615681843}]
[null,{"$f":"H147","v":"100W LED SY PT"},"Minor (Cat P)",null,null,{"$f":"IF(OR(G147=\"Bracket\",G147=\"Support\",G147=\"Smart Controller\"),G147,\"Luminaire\")","v":"Luminaire"},"LED","100W LED SY PT",null,{"$f":"IF(ISBLANK(F147),0,\nIF(OR(F147=\"Luminaire\",F147=\"Smart Controller\",F147=\"NW\"),OFFSET(I_CAPEX!$AC$48,(MATCH('C_CAPEX Build Up'!H147,I_CAPEX!V$49:V$437,0)),0),\nIF('C_CAPEX Build Up'!F147=\"Bracket\",OFFSET(I_CAPEX!S$48,MATCH('C_CAPEX Build Up'!H147,I_CAPEX!L$49:L$130,0),0),\nOFFSET(I_CAPEX!I$48,MATCH('C_CAPEX Build Up'!H147,I_CAPEX!B$49:B$102,0),0))))","v":1608.4937889691462},null,0,{"$f":"SUM(J147,L147)*I_CAPEX!$D$13","v":96.509627338148761},{"$f":"SUM(J147:M147)","v":1705.0034163072949},null,null,null,{"$f":"IF(OR(G147=\"LED\",G147=\"Smart Controller\"),-PMT(return_on_assests_pct,LED_lantern_lifespan,N147)*(1+'I_Global Inputs'!$G$54),IF(G147=\"LED20\",-PMT(return_on_assests_pct,LED_life_span_20yrs,N147),\nIF(G147=\"Traditional\",-PMT(return_on_assests_pct,trad_lantern_lifespan,N147),\n-PMT(return_on_assests_pct,pole_lifespan,N147))))","v":207.94541613799461},{"$f":"R147*(1+CPIFY25)","v":216.47117819965237},{"$f":"S147*(1+CPIFY26)","v":222.69398480665222},{"$f":"T147*(1+CPIFY27)","v":229.09567583785199},{"$f":"U147*(1+CPIFY28)","v":235.68139360912974},{"$f":"V147*(1+CPIFY29)","v":242.45642826037172},null,null,null,{"$f":"N147","v":1705.0034163072949},{"$f":"AA147*(1+CPIFY25)","v":1774.9085563758938},{"$f":"AB147*(1+CPIFY26)","v":1825.9311118185851},{"$f":"AC147*(1+CPIFY27)","v":1878.42039136633},{"$f":"AD147*(1+CPIFY28)","v":1932.418558324782},{"$f":"AE147*(1+CPIFY29)","v":1987.9689880505434},null,null,null,null,{"$f":"_xlfn.XLOOKUP($H147,'I_Asset number input'!$B$5:$B$239,'I_Asset number input'!J$5:J$239)","v":43},{"$f":"_xlfn.XLOOKUP($H147,'I_Asset number input'!$B$5:$B$239,'I_Asset number input'!K$5:K$239)","v":43},{"$f":"_xlfn.XLOOKUP($H147,'I_Asset number input'!$B$5:$B$239,'I_Asset number input'!L$5:L$239)","v":43},{"$f":"_xlfn.XLOOKUP($H147,'I_Asset number input'!$B$5:$B$239,'I_Asset number input'!M$5:M$239)","v":43},{"$f":"_xlfn.XLOOKUP($H147,'I_Asset number input'!$B$5:$B$239,'I_Asset number input'!N$5:N$239)","v":43},{"$f":"_xlfn.XLOOKUP($H147,'I_Asset number input'!$B$5:$B$239,'I_Asset number input'!O$5:O$239)","v":43},null,null,null,8941.6528939337677,{"$f":"IFERROR(S147*AL147,0)","v":9308.2606625850513},9575.8413466860457,9851.1140610276361,10134.299925192579,10425.626415195984]
[null,"110W LED SY FLOOD","Major (Cat V)",null,null,"Luminaire","LED","110W LED SY FLOOD",null,{"$f":"IF(ISBLANK(F148),0,\nIF(OR(F148=\"Luminaire\",F148=\"Smart Controller\",F148=\"NW\"),OFFSET(I_CAPEX!$AC$48,(MATCH('C_CAPEX Build Up'!H148,I_CAPEX!V$49:V$437,0)),0),\nIF('C_CAPEX Build Up'!F148=\"Bracket\",OFFSET(I_CAPEX!S$48,MATCH('C_CAPEX Build Up'!H148,I_CAPEX!L$49:L$130,0),0),\nOFFSET(I_CAPEX!I$48,MATCH('C_CAPEX Build Up'!H148,I_CAPEX!B$49:B$102,0),0))))","v":884.3420607726498},null,75.314371605110225,{"$f":"SUM(J148,L148)*I_CAPEX!$D$13","v":57.579385942665596},1017.2358183204256,null,null,null,{"$f":"IF(OR(G148=\"LED\",G148=\"Smart Controller\"),-PMT(return_on_assests_pct,LED_lantern_lifespan,N148)*(1+'I_Global Inputs'!$G$54),IF(G148=\"LED20\",-PMT(return_on_assests_pct,LED_life_span_20yrs,N148),\nIF(G148=\"Traditional\",-PMT(return_on_assests_pct,trad_lantern_lifespan,N148),\n-PMT(return_on_assests_pct,pole_lifespan,N148))))","v":124.06398927296351},129.15061283315501,132.86325159421446,136.68261603212321,140.61177414536752,144.65388212690559,null,null,null,1017.2358183204256,1058.942486871563,1089.3834645506313,1120.6995163093081,1152.9157975369137,1186.0581867542453,null,null,null,null,{"$f":"_xlfn.XLOOKUP($H148,'I_Asset number input'!$B$5:$B$239,'I_Asset number input'!J$5:J$239)","v":4},{"$f":"_xlfn.XLOOKUP($H148,'I_Asset number input'!$B$5:$B$239,'I_Asset number input'!K$5:K$239)","v":4},{"$f":"_xlfn.XLOOKUP($H148,'I_Asset number input'!$B$5:$B$239,'I_Asset number input'!L$5:L$239)","v":4},{"$f":"_xlfn.XLOOKUP($H148,'I_Asset number input'!$B$5:$B$239,'I_Asset number input'!M$5:M$239)","v":4},{"$f":"_xlfn.XLOOKUP($H148,'I_Asset number input'!$B$5:$B$239,'I_Asset number input'!N$5:N$239)","v":4},{"$f":"_xlfn.XLOOKUP($H148,'I_Asset number input'!$B$5:$B$239,'I_Asset number input'!O$5:O$239)","v":4},null,null,null,496.25595709185404,516.60245133262003,531.45300637685784,546.73046412849283,562.44709658147008,578.61552850762234]
[null,"120W LED PH FLOOD","Major (Cat V)",null,null,"Luminaire","LED","120W LED PH FLOOD",null,{"$f":"IF(ISBLANK(F149),0,\nIF(OR(F149=\"Luminaire\",F149=\"Smart Controller\",F149=\"NW\"),OFFSET(I_CAPEX!$AC$48,(MATCH('C_CAPEX Build Up'!H149,I_CAPEX!V$49:V$437,0)),0),\nIF('C_CAPEX Build Up'!F149=\"Bracket\",OFFSET(I_CAPEX!S$48,MATCH('C_CAPEX Build Up'!H149,I_CAPEX!L$49:L$130,0),0),\nOFFSET(I_CAPEX!I$48,MATCH('C_CAPEX Build Up'!H149,I_CAPEX!B$49:B$102,0),0))))","v":633.95898910029496},null,75.314371605110225,{"$f":"SUM(J149,L149)*I_CAPEX!$D$13","v":42.556401642324303},751.82976234772946,null,null,null,{"$f":"IF(OR(G149=\"LED\",G149=\"Smart Controller\"),-PMT(return_on_assests_pct,LED_lantern_lifespan,N149)*(1+'I_Global Inputs'!$G$54),IF(G149=\"LED20\",-PMT(return_on_assests_pct,LED_life_span_20yrs,N149),\nIF(G149=\"Traditional\",-PMT(return_on_assests_pct,trad_lantern_lifespan,N149),\n-PMT(return_on_assests_pct,pole_lifespan,N149))))","v":91.694568644870643},95.454045959310335,98.198023577026362,101.02088117401259,103.92488628010945,106.91237160889125,null,null,null,751.82976234772946,782.65478260398629,805.1534329679447,828.29884264322493,852.10960374979925,876.60484286755263,null,null,null,null,{"$f":"_xlfn.XLOOKUP($H149,'I_Asset number input'!$B$5:$B$239,'I_Asset number input'!J$5:J$239)","v":22},{"$f":"_xlfn.XLOOKUP($H149,'I_Asset number input'!$B$5:$B$239,'I_Asset number input'!K$5:K$239)","v":22},{"$f":"_xlfn.XLOOKUP($H149,'I_Asset number input'!$B$5:$B$239,'I_Asset number input'!L$5:L$239)","v":23.333333333333336},{"$f":"_xlfn.XLOOKUP($H149,'I_Asset number input'!$B$5:$B$239,'I_Asset number input'!M$5:M$239)","v":26},{"$f":"_xlfn.XLOOKUP($H149,'I_Asset number input'!$B$5:$B$239,'I_Asset number input'!N$5:N$239)","v":28.666666666666671},{"$f":"_xlfn.XLOOKUP($H149,'I_Asset number input'!$B$5:$B$239,'I_Asset number input'!O$5:O$239)","v":30.000000000000004},null,null,null,2017.2805101871541,2099.9890111048276,2291.2872167972819,2626.5429105243275,2979.180073363138,3207.3711482667377]
[null,"140W LED PH","Major (Cat V)",null,null,"Luminaire","LED","140W LED PH",null,{"$f":"IF(ISBLANK(F150),0,\nIF(OR(F150=\"Luminaire\",F150=\"Smart Controller\",F150=\"NW\"),OFFSET(I_CAPEX!$AC$48,(MATCH('C_CAPEX Build Up'!H150,I_CAPEX!V$49:V$437,0)),0),\nIF('C_CAPEX Build Up'!F150=\"Bracket\",OFFSET(I_CAPEX!S$48,MATCH('C_CAPEX Build Up'!H150,I_CAPEX!L$49:L$130,0),0),\nOFFSET(I_CAPEX!I$48,MATCH('C_CAPEX Build Up'!H150,I_CAPEX!B$49:B$102,0),0))))","v":486.4118218648},null,75.314371605110225,{"$f":"SUM(J150,L150)*I_CAPEX!$D$13","v":33.703571608194608},595.42976507810477,null,null,null,{"$f":"IF(OR(G150=\"LED\",G150=\"Smart Controller\"),-PMT(return_on_assests_pct,LED_lantern_lifespan,N150)*(1+'I_Global Inputs'!$G$54),IF(G150=\"LED20\",-PMT(return_on_assests_pct,LED_life_span_20yrs,N150),\nIF(G150=\"Traditional\",-PMT(return_on_assests_pct,trad_lantern_lifespan,N150),\n-PMT(return_on_assests_pct,pole_lifespan,N150))))","v":72.619731489030173},75.597140480080398,77.770299924040486,80.005930275483067,82.305827359510886,84.671838625061326,null,null,null,595.42976507810477,619.84238544630705,637.66073578529006,655.99130280428301,674.84881098239248,694.2484080771801,null,null,null,null,{"$f":"_xlfn.XLOOKUP($H150,'I_Asset number input'!$B$5:$B$239,'I_Asset number input'!J$5:J$239)","v":3378},{"$f":"_xlfn.XLOOKUP($H150,'I_Asset number input'!$B$5:$B$239,'I_Asset number input'!K$5:K$239)","v":3378},{"$f":"_xlfn.XLOOKUP($H150,'I_Asset number input'!$B$5:$B$239,'I_Asset number input'!L$5:L$239)","v":3378},{"$f":"_xlfn.XLOOKUP($H150,'I_Asset number input'!$B$5:$B$239,'I_Asset number input'!M$5:M$239)","v":3378},{"$f":"_xlfn.XLOOKUP($H150,'I_Asset number input'!$B$5:$B$239,'I_Asset number input'!N$5:N$239)","v":3378},{"$f":"_xlfn.XLOOKUP($H150,'I_Asset number input'!$B$5:$B$239,'I_Asset number input'!O$5:O$239)","v":3378},null,null,null,245309.45296994393,255367.14054171159,262708.07314340875,270260.03247058182,278029.08482042776,286021.47087545716]
[null,"140W LED PH ZHAGA","Major (Cat V)",null,null,"Luminaire","LED","140W LED PH ZHAGA",null,{"$f":"IF(ISBLANK(F151),0,\nIF(OR(F151=\"Luminaire\",F151=\"Smart Controller\",F151=\"NW\"),OFFSET(I_CAPEX!$AC$48,(MATCH('C_CAPEX Build Up'!H151,I_CAPEX!V$49:V$437,0)),0),\nIF('C_CAPEX Build Up'!F151=\"Bracket\",OFFSET(I_CAPEX!S$48,MATCH('C_CAPEX Build Up'!H151,I_CAPEX!L$49:L$130,0),0),\nOFFSET(I_CAPEX!I$48,MATCH('C_CAPEX Build Up'!H151,I_CAPEX!B$49:B$102,0),0))))","v":547.88980821292284},null,75.314371605110225,{"$f":"SUM(J151,L151)*I_CAPEX!$D$13","v":37.392250789081977},660.59643060711505,null,null,null,{"$f":"IF(OR(G151=\"LED\",G151=\"Smart Controller\"),-PMT(return_on_assests_pct,LED_lantern_lifespan,N151)*(1+'I_Global Inputs'!$G$54),IF(G151=\"LED20\",-PMT(return_on_assests_pct,LED_life_span_20yrs,N151),\nIF(G151=\"Traditional\",-PMT(return_on_assests_pct,trad_lantern_lifespan,N151),\n-PMT(return_on_assests_pct,pole_lifespan,N151))))","v":80.567580303963695},83.870851096426193,86.281851446117912,88.762159816537007,91.313768576426924,93.938727368323768,null,null,null,660.59643060711505,687.68088426200677,707.44935961139618,727.78611107050881,748.70747463547855,770.23025590650184,null,null,null,null,{"$f":"_xlfn.XLOOKUP($H151,'I_Asset number input'!$B$5:$B$239,'I_Asset number input'!J$5:J$239)","v":3718},{"$f":"_xlfn.XLOOKUP($H151,'I_Asset number input'!$B$5:$B$239,'I_Asset number input'!K$5:K$239)","v":11142},{"$f":"_xlfn.XLOOKUP($H151,'I_Asset number input'!$B$5:$B$239,'I_Asset number input'!L$5:L$239)","v":18566},{"$f":"_xlfn.XLOOKUP($H151,'I_Asset number input'!$B$5:$B$239,'I_Asset number input'!M$5:M$239)","v":22278},{"$f":"_xlfn.XLOOKUP($H151,'I_Asset number input'!$B$5:$B$239,'I_Asset number input'!N$5:N$239)","v":22278},{"$f":"_xlfn.XLOOKUP($H151,'I_Asset number input'!$B$5:$B$239,'I_Asset number input'!O$5:O$239)","v":22278},null,null,null,299550.26357013703,934489.02291638067,1601908.8539486253,1977443.3963928116,2034288.1363456389,2092766.9683115168]
[null,"150W LED SY FLOOD","Major (Cat V)",null,null,"Luminaire","LED","150W LED SY FLOOD",null,{"$f":"IF(ISBLANK(F152),0,\nIF(OR(F152=\"Luminaire\",F152=\"Smart Controller\",F152=\"NW\"),OFFSET(I_CAPEX!$AC$48,(MATCH('C_CAPEX Build Up'!H152,I_CAPEX!V$49:V$437,0)),0),\nIF('C_CAPEX Build Up'!F152=\"Bracket\",OFFSET(I_CAPEX!S$48,MATCH('C_CAPEX Build Up'!H152,I_CAPEX!L$49:L$130,0),0),\nOFFSET(I_CAPEX!I$48,MATCH('C_CAPEX Build Up'!H152,I_CAPEX!B$49:B$102,0),0))))","v":925.69997886138708},null,75.314371605110225,{"$f":"SUM(J152,L152)*I_CAPEX!$D$13","v":60.06086102798983},1061.0752114944871,null,null,null,{"$f":"IF(OR(G152=\"LED\",G152=\"Smart Controller\"),-PMT(return_on_assests_pct,LED_lantern_lifespan,N152)*(1+'I_Global Inputs'!$G$54),IF(G152=\"LED20\",-PMT(return_on_assests_pct,LED_life_span_20yrs,N152),\nIF(G152=\"Traditional\",-PMT(return_on_assests_pct,trad_lantern_lifespan,N152),\n-PMT(return_on_assests_pct,pole_lifespan,N152))))","v":129.41072393028244},134.71656361142402,138.58920443633932,142.57317045065045,146.67166187311108,150.88797091782763,null,null,null,1061.0752114944871,1104.5792951657611,1136.3321751245574,1168.9978418702237,1202.6025349035353,1237.1732480212436,null,null,null,null,{"$f":"_xlfn.XLOOKUP($H152,'I_Asset number input'!$B$5:$B$239,'I_Asset number input'!J$5:J$239)","v":24},{"$f":"_xlfn.XLOOKUP($H152,'I_Asset number input'!$B$5:$B$239,'I_Asset number input'!K$5:K$239)","v":24},{"$f":"_xlfn.XLOOKUP($H152,'I_Asset number input'!$B$5:$B$239,'I_Asset number input'!L$5:L$239)","v":307},{"$f":"_xlfn.XLOOKUP($H152,'I_Asset number input'!$B$5:$B$239,'I_Asset number input'!M$5:M$239)","v":873},{"$f":"_xlfn.XLOOKUP($H152,'I_Asset number input'!$B$5:$B$239,'I_Asset number input'!N$5:N$239)","v":1439},{"$f":"_xlfn.XLOOKUP($H152,'I_Asset number input'!$B$5:$B$239,'I_Asset number input'!O$5:O$239)","v":1722},null,null,null,3105.8573743267789,3233.1975266741765,42546.885761956168,124466.37780341784,211060.52143540684,259829.08592049917]
[null,"150W LED SY PT","Minor (Cat P)",null,null,"Luminaire","LED","150W LED SY PT",null,{"$f":"IF(ISBLANK(F153),0,\nIF(OR(F153=\"Luminaire\",F153=\"Smart Controller\",F153=\"NW\"),OFFSET(I_CAPEX!$AC$48,(MATCH('C_CAPEX Build Up'!H153,I_CAPEX!V$49:V$437,0)),0),\nIF('C_CAPEX Build Up'!F153=\"Bracket\",OFFSET(I_CAPEX!S$48,MATCH('C_CAPEX Build Up'!H153,I_CAPEX!L$49:L$130,0),0),\nOFFSET(I_CAPEX!I$48,MATCH('C_CAPEX Build Up'!H153,I_CAPEX!B$49:B$102,0),0))))","v":1720.5286085115811},null,0,{"$f":"SUM(J153,L153)*I_CAPEX!$D$13","v":103.23171651069487},1823.760325022276,null,null,null,{"$f":"IF(OR(G153=\"LED\",G153=\"Smart Controller\"),-PMT(return_on_assests_pct,LED_lantern_lifespan,N153)*(1+'I_Global Inputs'!$G$54),IF(G153=\"LED20\",-PMT(return_on_assests_pct,LED_life_span_20yrs,N153),\nIF(G153=\"Traditional\",-PMT(return_on_assests_pct,trad_lantern_lifespan,N153),\n-PMT(return_on_assests_pct,pole_lifespan,N153))))","v":222.42923157543407},231.54883007002687,238.20506764209716,245.05264929741088,252.09707552446412,259.3440049319999,null,null,null,1823.760325022276,1898.5344983481891,1953.11087714464,2009.256140322768,2067.0153879470581,2126.4350165547244,null,null,null,null,{"$f":"_xlfn.XLOOKUP($H153,'I_Asset number input'!$B$5:$B$239,'I_Asset number input'!J$5:J$239)","v":47},{"$f":"_xlfn.XLOOKUP($H153,'I_Asset number input'!$B$5:$B$239,'I_Asset number input'!K$5:K$239)","v":47},{"$f":"_xlfn.XLOOKUP($H153,'I_Asset number input'!$B$5:$B$239,'I_Asset number input'!L$5:L$239)","v":47},{"$f":"_xlfn.XLOOKUP($H153,'I_Asset number input'!$B$5:$B$239,'I_Asset number input'!M$5:M$239)","v":47},{"$f":"_xlfn.XLOOKUP($H153,'I_Asset number input'!$B$5:$B$239,'I_Asset number input'!N$5:N$239)","v":47},{"$f":"_xlfn.XLOOKUP($H153,'I_Asset number input'!$B$5:$B$239,'I_Asset number input'!O$5:O$239)","v":47},null,null,null,10454.173884045402,10882.795013291263,11195.638179178566,11517.474516978311,11848.562549649814,12189.168231803995]
[null,"152W LED PH FLOOD","Major (Cat V)",null,null,"Luminaire","LED","152W LED PH FLOOD",null,{"$f":"IF(ISBLANK(F154),0,\nIF(OR(F154=\"Luminaire\",F154=\"Smart Controller\",F154=\"NW\"),OFFSET(I_CAPEX!$AC$48,(MATCH('C_CAPEX Build Up'!H154,I_CAPEX!V$49:V$437,0)),0),\nIF('C_CAPEX Build Up'!F154=\"Bracket\",OFFSET(I_CAPEX!S$48,MATCH('C_CAPEX Build Up'!H154,I_CAPEX!L$49:L$130,0),0),\nOFFSET(I_CAPEX!I$48,MATCH('C_CAPEX Build Up'!H154,I_CAPEX!B$49:B$102,0),0))))","v":639.54789695012425},null,75.314371605110225,{"$f":"SUM(J154,L154)*I_CAPEX!$D$13","v":42.891736113314067},757.75400466854853,null,null,null,{"$f":"IF(OR(G154=\"LED\",G154=\"Smart Controller\"),-PMT(return_on_assests_pct,LED_lantern_lifespan,N154)*(1+'I_Global Inputs'!$G$54),IF(G154=\"LED20\",-PMT(return_on_assests_pct,LED_life_span_20yrs,N154),\nIF(G154=\"Traditional\",-PMT(return_on_assests_pct,trad_lantern_lifespan,N154),\n-PMT(return_on_assests_pct,pole_lifespan,N154))))","v":92.417100355319135},96.206201469887219,98.971800988124301,101.81690204138111,104.7437900271018,107.75481604009691,null,null,null,757.75400466854853,788.82191885995894,811.49785331577255,834.82564339470002,858.82402771826162,883.51228357930916,null,null,null,null,{"$f":"_xlfn.XLOOKUP($H154,'I_Asset number input'!$B$5:$B$239,'I_Asset number input'!J$5:J$239)","v":2},{"$f":"_xlfn.XLOOKUP($H154,'I_Asset number input'!$B$5:$B$239,'I_Asset number input'!K$5:K$239)","v":2},{"$f":"_xlfn.XLOOKUP($H154,'I_Asset number input'!$B$5:$B$239,'I_Asset number input'!L$5:L$239)","v":2},{"$f":"_xlfn.XLOOKUP($H154,'I_Asset number input'!$B$5:$B$239,'I_Asset number input'!M$5:M$239)","v":2},{"$f":"_xlfn.XLOOKUP($H154,'I_Asset number input'!$B$5:$B$239,'I_Asset number input'!N$5:N$239)","v":2},{"$f":"_xlfn.XLOOKUP($H154,'I_Asset number input'!$B$5:$B$239,'I_Asset number input'!O$5:O$239)","v":2},null,null,null,184.83420071063827,192.41240293977444,197.9436019762486,203.63380408276223,209.48758005420359,215.50963208019382]
[null,"170W LED ALD","Major (Cat V)",null,null,"Luminaire","LED","170W LED ALD",null,{"$f":"IF(ISBLANK(F155),0,\nIF(OR(F155=\"Luminaire\",F155=\"Smart Controller\",F155=\"NW\"),OFFSET(I_CAPEX!$AC$48,(MATCH('C_CAPEX Build Up'!H155,I_CAPEX!V$49:V$437,0)),0),\nIF('C_CAPEX Build Up'!F155=\"Bracket\",OFFSET(I_CAPEX!S$48,MATCH('C_CAPEX Build Up'!H155,I_CAPEX!L$49:L$130,0),0),\nOFFSET(I_CAPEX!I$48,MATCH('C_CAPEX Build Up'!H155,I_CAPEX!B$49:B$102,0),0))))","v":687.29409257717236},null,75.314371605110225,{"$f":"SUM(J155,L155)*I_CAPEX!$D$13","v":45.756507850936949},808.36497203321949,null,null,null,{"$f":"IF(OR(G155=\"LED\",G155=\"Smart Controller\"),-PMT(return_on_assests_pct,LED_lantern_lifespan,N155)*(1+'I_Global Inputs'!$G$54),IF(G155=\"LED20\",-PMT(return_on_assests_pct,LED_life_span_20yrs,N155),\nIF(G155=\"Traditional\",-PMT(return_on_assests_pct,trad_lantern_lifespan,N155),\n-PMT(return_on_assests_pct,pole_lifespan,N155))))","v":98.589708907967434},102.63188697319409,105.58220299058378,108.6173305110957,111.73970757561069,114.95184231035321,null,null,null,808.36497203321949,841.50793588658144,865.69841328329119,890.58428423688315,916.1855389356873,942.52274221763378,null,null,null,null,{"$f":"_xlfn.XLOOKUP($H155,'I_Asset number input'!$B$5:$B$239,'I_Asset number input'!J$5:J$239)","v":11},{"$f":"_xlfn.XLOOKUP($H155,'I_Asset number input'!$B$5:$B$239,'I_Asset number input'!K$5:K$239)","v":11},{"$f":"_xlfn.XLOOKUP($H155,'I_Asset number input'!$B$5:$B$239,'I_Asset number input'!L$5:L$239)","v":11},{"$f":"_xlfn.XLOOKUP($H155,'I_Asset number input'!$B$5:$B$239,'I_Asset number input'!M$5:M$239)","v":11},{"$f":"_xlfn.XLOOKUP($H155,'I_Asset number input'!$B$5:$B$239,'I_Asset number input'!N$5:N$239)","v":11},{"$f":"_xlfn.XLOOKUP($H155,'I_Asset number input'!$B$5:$B$239,'I_Asset number input'!O$5:O$239)","v":11},null,null,null,1084.4867979876417,1128.9507567051348,1161.4042328964215,1194.7906356220528,1229.1367833317177,1264.4702654138853]
[null,"170W LED ALD ZHAGA","Major (Cat V)",null,null,"Luminaire","LED","170W LED ALD ZHAGA",null,{"$f":"IF(ISBLANK(F156),0,\nIF(OR(F156=\"Luminaire\",F156=\"Smart Controller\",F156=\"NW\"),OFFSET(I_CAPEX!$AC$48,(MATCH('C_CAPEX Build Up'!H156,I_CAPEX!V$49:V$437,0)),0),\nIF('C_CAPEX Build Up'!F156=\"Bracket\",OFFSET(I_CAPEX!S$48,MATCH('C_CAPEX Build Up'!H156,I_CAPEX!L$49:L$130,0),0),\nOFFSET(I_CAPEX!I$48,MATCH('C_CAPEX Build Up'!H156,I_CAPEX!B$49:B$102,0),0))))","v":709.58133381213497},null,75.314371605110225,{"$f":"SUM(J156,L156)*I_CAPEX!$D$13","v":47.093742325034711},831.98944774227982,null,null,null,{"$f":"IF(OR(G156=\"LED\",G156=\"Smart Controller\"),-PMT(return_on_assests_pct,LED_lantern_lifespan,N156)*(1+'I_Global Inputs'!$G$54),IF(G156=\"LED20\",-PMT(return_on_assests_pct,LED_life_span_20yrs,N156),\nIF(G156=\"Traditional\",-PMT(return_on_assests_pct,trad_lantern_lifespan,N156),\n-PMT(return_on_assests_pct,pole_lifespan,N156))))","v":101.47099429741388},105.63130506360784,108.66784410091832,111.79167325851613,115.00530182905523,118.31131123877815,null,null,null,831.98944774227982,866.10101509971321,890.99845947968026,916.61162030131686,942.96107196643948,970.06798032060601,null,null,null,null,{"$f":"_xlfn.XLOOKUP($H156,'I_Asset number input'!$B$5:$B$239,'I_Asset number input'!J$5:J$239)","v":0},{"$f":"_xlfn.XLOOKUP($H156,'I_Asset number input'!$B$5:$B$239,'I_Asset number input'!K$5:K$239)","v":0},{"$f":"_xlfn.XLOOKUP($H156,'I_Asset number input'!$B$5:$B$239,'I_Asset number input'!L$5:L$239)","v":0},{"$f":"_xlfn.XLOOKUP($H156,'I_Asset number input'!$B$5:$B$239,'I_Asset number input'!M$5:M$239)","v":0},{"$f":"_xlfn.XLOOKUP($H156,'I_Asset number input'!$B$5:$B$239,'I_Asset number input'!N$5:N$239)","v":0},{"$f":"_xlfn.XLOOKUP($H156,'I_Asset number input'!$B$5:$B$239,'I_Asset number input'!O$5:O$239)","v":0},null,null,null,0,0,0,0,0,0]
[null,"175W LED SY FLOOD","Major (Cat V)",null,null,"Luminaire","LED","175W LED SY FLOOD",null,{"$f":"IF(ISBLANK(F157),0,\nIF(OR(F157=\"Luminaire\",F157=\"Smart Controller\",F157=\"NW\"),OFFSET(I_CAPEX!$AC$48,(MATCH('C_CAPEX Build Up'!H157,I_CAPEX!V$49:V$437,0)),0),\nIF('C_CAPEX Build Up'!F157=\"Bracket\",OFFSET(I_CAPEX!S$48,MATCH('C_CAPEX Build Up'!H157,I_CAPEX!L$49:L$130,0),0),\nOFFSET(I_CAPEX!I$48,MATCH('C_CAPEX Build Up'!H157,I_CAPEX!B$49:B$102,0),0))))","v":1064.3048935371551},null,75.314371605110225,{"$f":"SUM(J157,L157)*I_CAPEX!$D$13","v":68.377155908535912},1207.9964210508012,null,null,null,{"$f":"IF(OR(G157=\"LED\",G157=\"Smart Controller\"),-PMT(return_on_assests_pct,LED_lantern_lifespan,N157)*(1+'I_Global Inputs'!$G$54),IF(G157=\"LED20\",-PMT(return_on_assests_pct,LED_life_span_20yrs,N157),\nIF(G157=\"Traditional\",-PMT(return_on_assests_pct,trad_lantern_lifespan,N157),\n-PMT(return_on_assests_pct,pole_lifespan,N157))))","v":147.32951034940533},153.37002027373094,157.77888423156847,162.31448796139028,166.98047479852184,171.78059281172847,null,null,null,1207.9964210508012,1257.524274313884,1293.6737997506873,1330.8625005068054,1369.1202493214021,1408.4777776728054,null,null,null,null,{"$f":"_xlfn.XLOOKUP($H157,'I_Asset number input'!$B$5:$B$239,'I_Asset number input'!J$5:J$239)","v":1.5},{"$f":"_xlfn.XLOOKUP($H157,'I_Asset number input'!$B$5:$B$239,'I_Asset number input'!K$5:K$239)","v":4.5},{"$f":"_xlfn.XLOOKUP($H157,'I_Asset number input'!$B$5:$B$239,'I_Asset number input'!L$5:L$239)","v":123.83333333333334},{"$f":"_xlfn.XLOOKUP($H157,'I_Asset number input'!$B$5:$B$239,'I_Asset number input'!M$5:M$239)","v":358},{"$f":"_xlfn.XLOOKUP($H157,'I_Asset number input'!$B$5:$B$239,'I_Asset number input'!N$5:N$239)","v":590.66666666666674},{"$f":"_xlfn.XLOOKUP($H157,'I_Asset number input'!$B$5:$B$239,'I_Asset number input'!O$5:O$239)","v":707},null,null,null,220.99426552410799,690.16509123178923,19538.28516400923,58108.586690177719,98629.800447660251,121448.87911789202]
[null,"200W LED ALD","Major (Cat V)",null,null,"Luminaire","LED","200W LED ALD",null,{"$f":"IF(ISBLANK(F158),0,\nIF(OR(F158=\"Luminaire\",F158=\"Smart Controller\",F158=\"NW\"),OFFSET(I_CAPEX!$AC$48,(MATCH('C_CAPEX Build Up'!H158,I_CAPEX!V$49:V$437,0)),0),\nIF('C_CAPEX Build Up'!F158=\"Bracket\",OFFSET(I_CAPEX!S$48,MATCH('C_CAPEX Build Up'!H158,I_CAPEX!L$49:L$130,0),0),\nOFFSET(I_CAPEX!I$48,MATCH('C_CAPEX Build Up'!H158,I_CAPEX!B$49:B$102,0),0))))","v":861.12436352074474},null,75.314371605110225,{"$f":"SUM(J158,L158)*I_CAPEX!$D$13","v":56.186324107551293},992.6250592334062,null,null,null,{"$f":"IF(OR(G158=\"LED\",G158=\"Smart Controller\"),-PMT(return_on_assests_pct,LED_lantern_lifespan,N158)*(1+'I_Global Inputs'!$G$54),IF(G158=\"LED20\",-PMT(return_on_assests_pct,LED_life_span_20yrs,N158),\nIF(G158=\"Traditional\",-PMT(return_on_assests_pct,trad_lantern_lifespan,N158),\n-PMT(return_on_assests_pct,pole_lifespan,N158))))","v":121.06241491195368},126.02597392334377,129.64878999385303,133.37574964581736,137.20984665130447,141.15416084309808,null,null,null,992.6250592334062,1033.3226866619757,1063.0271826378437,1093.5855813611977,1125.0224296179101,1157.3629798300612,null,null,null,null,{"$f":"_xlfn.XLOOKUP($H158,'I_Asset number input'!$B$5:$B$239,'I_Asset number input'!J$5:J$239)","v":2156},{"$f":"_xlfn.XLOOKUP($H158,'I_Asset number input'!$B$5:$B$239,'I_Asset number input'!K$5:K$239)","v":2156},{"$f":"_xlfn.XLOOKUP($H158,'I_Asset number input'!$B$5:$B$239,'I_Asset number input'!L$5:L$239)","v":2156},{"$f":"_xlfn.XLOOKUP($H158,'I_Asset number input'!$B$5:$B$239,'I_Asset number input'!M$5:M$239)","v":2156},{"$f":"_xlfn.XLOOKUP($H158,'I_Asset number input'!$B$5:$B$239,'I_Asset number input'!N$5:N$239)","v":2095.1610874999997},{"$f":"_xlfn.XLOOKUP($H158,'I_Asset number input'!$B$5:$B$239,'I_Asset number input'!O$5:O$239)","v":1893.1626586874997},null,null,null,261010.56655017214,271711.99977872916,279522.79122674715,287558.11623638222,287476.73152565525,267227.78642652254]
[null,"224W LED PH","Major (Cat V)",null,null,"Luminaire","LED","224W LED PH",null,{"$f":"IF(ISBLANK(F159),0,\nIF(OR(F159=\"Luminaire\",F159=\"Smart Controller\",F159=\"NW\"),OFFSET(I_CAPEX!$AC$48,(MATCH('C_CAPEX Build Up'!H159,I_CAPEX!V$49:V$437,0)),0),\nIF('C_CAPEX Build Up'!F159=\"Bracket\",OFFSET(I_CAPEX!S$48,MATCH('C_CAPEX Build Up'!H159,I_CAPEX!L$49:L$130,0),0),\nOFFSET(I_CAPEX!I$48,MATCH('C_CAPEX Build Up'!H159,I_CAPEX!B$49:B$102,0),0))))","v":578.0699106020013},null,75.314371605110225,{"$f":"SUM(J159,L159)*I_CAPEX!$D$13","v":39.203056932426691},692.58733913953813,null,null,null,{"$f":"IF(OR(G159=\"LED\",G159=\"Smart Controller\"),-PMT(return_on_assests_pct,LED_lantern_lifespan,N159)*(1+'I_Global Inputs'!$G$54),IF(G159=\"LED20\",-PMT(return_on_assests_pct,LED_life_span_20yrs,N159),\nIF(G159=\"Traditional\",-PMT(return_on_assests_pct,trad_lantern_lifespan,N159),\n-PMT(return_on_assests_pct,pole_lifespan,N159))))","v":84.469251540385599},87.93249085354141,90.460249466046847,93.060672500327144,95.735848810185729,98.487927296834442,null,null,null,692.58733913953813,720.98342004425911,741.7092294896662,763.030835128474,784.96536406517521,807.53043574998696,null,null,null,null,{"$f":"_xlfn.XLOOKUP($H159,'I_Asset number input'!$B$5:$B$239,'I_Asset number input'!J$5:J$239)","v":114},{"$f":"_xlfn.XLOOKUP($H159,'I_Asset number input'!$B$5:$B$239,'I_Asset number input'!K$5:K$239)","v":114},{"$f":"_xlfn.XLOOKUP($H159,'I_Asset number input'!$B$5:$B$239,'I_Asset number input'!L$5:L$239)","v":114},{"$f":"_xlfn.XLOOKUP($H159,'I_Asset number input'!$B$5:$B$239,'I_Asset number input'!M$5:M$239)","v":114},{"$f":"_xlfn.XLOOKUP($H159,'I_Asset number input'!$B$5:$B$239,'I_Asset number input'!N$5:N$239)","v":114},{"$f":"_xlfn.XLOOKUP($H159,'I_Asset number input'!$B$5:$B$239,'I_Asset number input'!O$5:O$239)","v":114},null,null,null,9629.494675603959,10024.30395730372,10312.468439129341,10608.916665037294,10913.886764361174,11227.623711839127]
[null,"224W LED PH ZHAGA","Major (Cat V)",null,null,"Luminaire","LED","224W LED PH ZHAGA",null,{"$f":"IF(ISBLANK(F160),0,\nIF(OR(F160=\"Luminaire\",F160=\"Smart Controller\",F160=\"NW\"),OFFSET(I_CAPEX!$AC$48,(MATCH('C_CAPEX Build Up'!H160,I_CAPEX!V$49:V$437,0)),0),\nIF('C_CAPEX Build Up'!F160=\"Bracket\",OFFSET(I_CAPEX!S$48,MATCH('C_CAPEX Build Up'!H160,I_CAPEX!L$49:L$130,0),0),\nOFFSET(I_CAPEX!I$48,MATCH('C_CAPEX Build Up'!H160,I_CAPEX!B$49:B$102,0),0))))","v":639.54789695012425},null,75.314371605110225,{"$f":"SUM(J160,L160)*I_CAPEX!$D$13","v":42.891736113314067},757.75400466854853,null,null,null,{"$f":"IF(OR(G160=\"LED\",G160=\"Smart Controller\"),-PMT(return_on_assests_pct,LED_lantern_lifespan,N160)*(1+'I_Global Inputs'!$G$54),IF(G160=\"LED20\",-PMT(return_on_assests_pct,LED_life_span_20yrs,N160),\nIF(G160=\"Traditional\",-PMT(return_on_assests_pct,trad_lantern_lifespan,N160),\n-PMT(return_on_assests_pct,pole_lifespan,N160))))","v":92.417100355319135},96.206201469887219,98.971800988124301,101.81690204138111,104.7437900271018,107.75481604009691,null,null,null,757.75400466854853,788.82191885995894,811.49785331577255,834.82564339470002,858.82402771826162,883.51228357930916,null,null,null,null,{"$f":"_xlfn.XLOOKUP($H160,'I_Asset number input'!$B$5:$B$239,'I_Asset number input'!J$5:J$239)","v":904},{"$f":"_xlfn.XLOOKUP($H160,'I_Asset number input'!$B$5:$B$239,'I_Asset number input'!K$5:K$239)","v":2706},{"$f":"_xlfn.XLOOKUP($H160,'I_Asset number input'!$B$5:$B$239,'I_Asset number input'!L$5:L$239)","v":4508.1666666666661},{"$f":"_xlfn.XLOOKUP($H160,'I_Asset number input'!$B$5:$B$239,'I_Asset number input'!M$5:M$239)","v":5409.5},{"$f":"_xlfn.XLOOKUP($H160,'I_Asset number input'!$B$5:$B$239,'I_Asset number input'!N$5:N$239)","v":5409.8333333333321},{"$f":"_xlfn.XLOOKUP($H160,'I_Asset number input'!$B$5:$B$239,'I_Asset number input'!O$5:O$239)","v":5409.9999999999991},null,null,null,83545.058721208494,260333.98117751483,446181.37415462895,550778.53159285116,566646.44674828276,582953.5547769242]
[null,"258W LED ALD","Major (Cat V)",null,null,"Luminaire","LED","258W LED ALD",null,{"$f":"IF(ISBLANK(F161),0,\nIF(OR(F161=\"Luminaire\",F161=\"Smart Controller\",F161=\"NW\"),OFFSET(I_CAPEX!$AC$48,(MATCH('C_CAPEX Build Up'!H161,I_CAPEX!V$49:V$437,0)),0),\nIF('C_CAPEX Build Up'!F161=\"Bracket\",OFFSET(I_CAPEX!S$48,MATCH('C_CAPEX Build Up'!H161,I_CAPEX!L$49:L$130,0),0),\nOFFSET(I_CAPEX!I$48,MATCH('C_CAPEX Build Up'!H161,I_CAPEX!B$49:B$102,0),0))))","v":780.9025542880081},null,75.314371605110225,{"$f":"SUM(J161,L161)*I_CAPEX!$D$13","v":51.373015553587095},907.58994144670532,null,null,null,{"$f":"IF(OR(G161=\"LED\",G161=\"Smart Controller\"),-PMT(return_on_assests_pct,LED_lantern_lifespan,N161)*(1+'I_Global Inputs'!$G$54),IF(G161=\"LED20\",-PMT(return_on_assests_pct,LED_life_span_20yrs,N161),\nIF(G161=\"Traditional\",-PMT(return_on_assests_pct,trad_lantern_lifespan,N161),\n-PMT(return_on_assests_pct,pole_lifespan,N161))))","v":110.69137237598262},115.2297186433979,118.5421792696136,121.94986181886622,125.45550359603274,129.06192059415088,null,null,null,907.58994144670532,944.80112904602015,971.9609327530336,999.90148800100712,1028.6452387286115,1058.2152740610547,null,null,null,null,{"$f":"_xlfn.XLOOKUP($H161,'I_Asset number input'!$B$5:$B$239,'I_Asset number input'!J$5:J$239)","v":1},{"$f":"_xlfn.XLOOKUP($H161,'I_Asset number input'!$B$5:$B$239,'I_Asset number input'!K$5:K$239)","v":1},{"$f":"_xlfn.XLOOKUP($H161,'I_Asset number input'!$B$5:$B$239,'I_Asset number input'!L$5:L$239)","v":1},{"$f":"_xlfn.XLOOKUP($H161,'I_Asset number input'!$B$5:$B$239,'I_Asset number input'!M$5:M$239)","v":1},{"$f":"_xlfn.XLOOKUP($H161,'I_Asset number input'!$B$5:$B$239,'I_Asset number input'!N$5:N$239)","v":1},{"$f":"_xlfn.XLOOKUP($H161,'I_Asset number input'!$B$5:$B$239,'I_Asset number input'!O$5:O$239)","v":1},null,null,null,110.69137237598262,115.2297186433979,118.5421792696136,121.94986181886622,125.45550359603274,129.06192059415088]
[null,"258W LED ALD ZHAGA","Major (Cat V)",null,null,"Luminaire","LED","258W LED ALD ZHAGA",null,{"$f":"IF(ISBLANK(F162),0,\nIF(OR(F162=\"Luminaire\",F162=\"Smart Controller\",F162=\"NW\"),OFFSET(I_CAPEX!$AC$48,(MATCH('C_CAPEX Build Up'!H162,I_CAPEX!V$49:V$437,0)),0),\nIF('C_CAPEX Build Up'!F162=\"Bracket\",OFFSET(I_CAPEX!S$48,MATCH('C_CAPEX Build Up'!H162,I_CAPEX!L$49:L$130,0),0),\nOFFSET(I_CAPEX!I$48,MATCH('C_CAPEX Build Up'!H162,I_CAPEX!B$49:B$102,0),0))))","v":781.67682074597883},null,75.314371605110225,{"$f":"SUM(J162,L162)*I_CAPEX!$D$13","v":51.419471541065342},908.41066389215439,null,null,null,{"$f":"IF(OR(G162=\"LED\",G162=\"Smart Controller\"),-PMT(return_on_assests_pct,LED_lantern_lifespan,N162)*(1+'I_Global Inputs'!$G$54),IF(G162=\"LED20\",-PMT(return_on_assests_pct,LED_life_span_20yrs,N162),\nIF(G162=\"Traditional\",-PMT(return_on_assests_pct,trad_lantern_lifespan,N162),\n-PMT(return_on_assests_pct,pole_lifespan,N162))))","v":110.79146922553753},115.33391946378455,118.64937550749163,122.06013958225201,125.56895146825384,129.17862970500281,null,null,null,908.41066389215439,945.65550111173263,972.83986509591364,1000.8056866450912,1029.5754299937146,1059.1722051462041,null,null,null,null,{"$f":"_xlfn.XLOOKUP($H162,'I_Asset number input'!$B$5:$B$239,'I_Asset number input'!J$5:J$239)","v":0},{"$f":"_xlfn.XLOOKUP($H162,'I_Asset number input'!$B$5:$B$239,'I_Asset number input'!K$5:K$239)","v":0},{"$f":"_xlfn.XLOOKUP($H162,'I_Asset number input'!$B$5:$B$239,'I_Asset number input'!L$5:L$239)","v":0},{"$f":"_xlfn.XLOOKUP($H162,'I_Asset number input'!$B$5:$B$239,'I_Asset number input'!M$5:M$239)","v":0},{"$f":"_xlfn.XLOOKUP($H162,'I_Asset number input'!$B$5:$B$239,'I_Asset number input'!N$5:N$239)","v":0},{"$f":"_xlfn.XLOOKUP($H162,'I_Asset number input'!$B$5:$B$239,'I_Asset number input'!O$5:O$239)","v":0},null,null,null,{"$f":"IFERROR(R162*AK162,0)","v":0},0,0,0,0,0]
[null,"298W LED ALD","Major (Cat V)",null,null,"Luminaire","LED","298W LED ALD",null,{"$f":"IF(ISBLANK(F163),0,\nIF(OR(F163=\"Luminaire\",F163=\"Smart Controller\",F163=\"NW\"),OFFSET(I_CAPEX!$AC$48,(MATCH('C_CAPEX Build Up'!H163,I_CAPEX!V$49:V$437,0)),0),\nIF('C_CAPEX Build Up'!F163=\"Bracket\",OFFSET(I_CAPEX!S$48,MATCH('C_CAPEX Build Up'!H163,I_CAPEX!L$49:L$130,0),0),\nOFFSET(I_CAPEX!I$48,MATCH('C_CAPEX Build Up'!H163,I_CAPEX!B$49:B$102,0),0))))","v":1279.1089279810478},null,75.314371605110225,{"$f":"SUM(J163,L163)*I_CAPEX!$D$13","v":81.265397975169478},1435.6886975613274,null,null,null,{"$f":"IF(OR(G163=\"LED\",G163=\"Smart Controller\"),-PMT(return_on_assests_pct,LED_lantern_lifespan,N163)*(1+'I_Global Inputs'!$G$54),IF(G163=\"LED20\",-PMT(return_on_assests_pct,LED_life_span_20yrs,N163),\nIF(G163=\"Traditional\",-PMT(return_on_assests_pct,trad_lantern_lifespan,N163),\n-PMT(return_on_assests_pct,pole_lifespan,N163))))","v":175.09928766336188},182.2783584575597,187.51823834714313,192.90874687684376,198.45421410530832,204.1590945655721,null,null,null,1435.6886975613274,1494.5519341613417,1537.5151948030234,1581.7135023659757,1627.1823602285494,1673.958292369894,null,null,null,null,{"$f":"_xlfn.XLOOKUP($H163,'I_Asset number input'!$B$5:$B$239,'I_Asset number input'!J$5:J$239)","v":18},{"$f":"_xlfn.XLOOKUP($H163,'I_Asset number input'!$B$5:$B$239,'I_Asset number input'!K$5:K$239)","v":18},{"$f":"_xlfn.XLOOKUP($H163,'I_Asset number input'!$B$5:$B$239,'I_Asset number input'!L$5:L$239)","v":18},{"$f":"_xlfn.XLOOKUP($H163,'I_Asset number input'!$B$5:$B$239,'I_Asset number input'!M$5:M$239)","v":18},{"$f":"_xlfn.XLOOKUP($H163,'I_Asset number input'!$B$5:$B$239,'I_Asset number input'!N$5:N$239)","v":15.76125},{"$f":"_xlfn.XLOOKUP($H163,'I_Asset number input'!$B$5:$B$239,'I_Asset number input'!O$5:O$239)","v":11.306137500000002},null,null,null,3151.7871779405136,3281.0104522360748,3375.3282902485762,3472.3574437831876,3127.8864820672911,2308.2507950338613]
[null,"600W LED ALD HM","Minor (Cat P)",null,null,"Luminaire","LED","600W LED ALD HM",null,{"$f":"IF(ISBLANK(F164),0,\nIF(OR(F164=\"Luminaire\",F164=\"Smart Controller\",F164=\"NW\"),OFFSET(I_CAPEX!$AC$48,(MATCH('C_CAPEX Build Up'!H164,I_CAPEX!V$49:V$437,0)),0),\nIF('C_CAPEX Build Up'!F164=\"Bracket\",OFFSET(I_CAPEX!S$48,MATCH('C_CAPEX Build Up'!H164,I_CAPEX!L$49:L$130,0),0),\nOFFSET(I_CAPEX!I$48,MATCH('C_CAPEX Build Up'!H164,I_CAPEX!B$49:B$102,0),0))))","v":3045.7962826156536},null,0,{"$f":"SUM(J164,L164)*I_CAPEX!$D$13","v":182.74777695693922},3228.5440595725927,null,null,null,{"$f":"IF(OR(G164=\"LED\",G164=\"Smart Controller\"),-PMT(return_on_assests_pct,LED_lantern_lifespan,N164)*(1+'I_Global Inputs'!$G$54),IF(G164=\"LED20\",-PMT(return_on_assests_pct,LED_life_span_20yrs,N164),\nIF(G164=\"Traditional\",-PMT(return_on_assests_pct,trad_lantern_lifespan,N164),\n-PMT(return_on_assests_pct,pole_lifespan,N164))))","v":393.75929195597172},409.90342292616651,421.68674553581315,433.80879840228909,446.27931886290514,459.10832417014348,null,null,null,3228.5440595725927,3360.9143660150689,3457.5291684859544,3556.9213163575073,3659.1706488187265,3764.359300162454,null,null,null,null,{"$f":"_xlfn.XLOOKUP($H164,'I_Asset number input'!$B$5:$B$239,'I_Asset number input'!J$5:J$239)","v":16},{"$f":"_xlfn.XLOOKUP($H164,'I_Asset number input'!$B$5:$B$239,'I_Asset number input'!K$5:K$239)","v":16},{"$f":"_xlfn.XLOOKUP($H164,'I_Asset number input'!$B$5:$B$239,'I_Asset number input'!L$5:L$239)","v":21.5},{"$f":"_xlfn.XLOOKUP($H164,'I_Asset number input'!$B$5:$B$239,'I_Asset number input'!M$5:M$239)","v":32.5},{"$f":"_xlfn.XLOOKUP($H164,'I_Asset number input'!$B$5:$B$239,'I_Asset number input'!N$5:N$239)","v":43.5},{"$f":"_xlfn.XLOOKUP($H164,'I_Asset number input'!$B$5:$B$239,'I_Asset number input'!O$5:O$239)","v":49},null,null,null,6300.1486712955475,6558.4547668186642,9066.2650290199817,14098.785948074395,19413.150370536372,22496.307884337031]
[null,"COLONIAL ROCKS SPHERE","Minor (Cat P)",null,null,"Luminaire","LED","COLONIAL ROCKS SPHERE",null,{"$f":"IF(ISBLANK(F165),0,\nIF(OR(F165=\"Luminaire\",F165=\"Smart Controller\",F165=\"NW\"),OFFSET(I_CAPEX!$AC$48,(MATCH('C_CAPEX Build Up'!H165,I_CAPEX!V$49:V$437,0)),0),\nIF('C_CAPEX Build Up'!F165=\"Bracket\",OFFSET(I_CAPEX!S$48,MATCH('C_CAPEX Build Up'!H165,I_CAPEX!L$49:L$130,0),0),\nOFFSET(I_CAPEX!I$48,MATCH('C_CAPEX Build Up'!H165,I_CAPEX!B$49:B$102,0),0))))","v":939.97404950985128},null,0,{"$f":"SUM(J165,L165)*I_CAPEX!$D$13","v":56.398442970591077},996.37249248044236,null,null,null,{"$f":"IF(OR(G165=\"LED\",G165=\"Smart Controller\"),-PMT(return_on_assests_pct,LED_lantern_lifespan,N165)*(1+'I_Global Inputs'!$G$54),IF(G165=\"LED20\",-PMT(return_on_assests_pct,LED_life_span_20yrs,N165),\nIF(G165=\"Traditional\",-PMT(return_on_assests_pct,trad_lantern_lifespan,N165),\n-PMT(return_on_assests_pct,pole_lifespan,N165))))","v":121.51945890292232},126.50175671794213,130.13824991786117,133.87927986996573,137.72785164863839,141.68705671388074,null,null,null,996.37249248044236,1037.2237646721405,1067.0404033092993,1097.7141684122212,1129.2696994376622,1161.7323441425576,null,null,null,null,{"$f":"_xlfn.XLOOKUP($H165,'I_Asset number input'!$B$5:$B$239,'I_Asset number input'!J$5:J$239)","v":35},{"$f":"_xlfn.XLOOKUP($H165,'I_Asset number input'!$B$5:$B$239,'I_Asset number input'!K$5:K$239)","v":35},{"$f":"_xlfn.XLOOKUP($H165,'I_Asset number input'!$B$5:$B$239,'I_Asset number input'!L$5:L$239)","v":35},{"$f":"_xlfn.XLOOKUP($H165,'I_Asset number input'!$B$5:$B$239,'I_Asset number input'!M$5:M$239)","v":35},{"$f":"_xlfn.XLOOKUP($H165,'I_Asset number input'!$B$5:$B$239,'I_Asset number input'!N$5:N$239)","v":35},{"$f":"_xlfn.XLOOKUP($H165,'I_Asset number input'!$B$5:$B$239,'I_Asset number input'!O$5:O$239)","v":35},null,null,null,4253.1810616022813,4427.5614851279743,4554.8387471251408,4685.7747954488004,4820.4748077023442,4959.0469849858255]
[null,"LED TRIAL","Minor (Cat P)",null,null,"Luminaire","LED20","LED TRIAL",null,{"$f":"IF(ISBLANK(F166),0,\nIF(OR(F166=\"Luminaire\",F166=\"Smart Controller\",F166=\"NW\"),OFFSET(I_CAPEX!$AC$48,(MATCH('C_CAPEX Build Up'!H166,I_CAPEX!V$49:V$437,0)),0),\nIF('C_CAPEX Build Up'!F166=\"Bracket\",OFFSET(I_CAPEX!S$48,MATCH('C_CAPEX Build Up'!H166,I_CAPEX!L$49:L$130,0),0),\nOFFSET(I_CAPEX!I$48,MATCH('C_CAPEX Build Up'!H166,I_CAPEX!B$49:B$102,0),0))))","v":561.05669812841643},null,0,{"$f":"SUM(J166,L166)*I_CAPEX!$D$13","v":33.663401887704985},594.72010001612136,null,null,null,{"$f":"IF(OR(G166=\"LED\",G166=\"Smart Controller\"),-PMT(return_on_assests_pct,LED_lantern_lifespan,N166)*(1+'I_Global Inputs'!$G$54),IF(G166=\"LED20\",-PMT(return_on_assests_pct,LED_life_span_20yrs,N166),\nIF(G166=\"Traditional\",-PMT(return_on_assests_pct,trad_lantern_lifespan,N166),\n-PMT(return_on_assests_pct,pole_lifespan,N166))))","v":39.311026364216225},40.922778445149085,42.099168476391007,43.30937570084869,44.554372247260581,45.835158189744213,null,null,null,594.72010001612136,619.10362411678227,636.90073759217637,655.20945726032676,674.04449005091794,693.42096566760324,null,null,null,null,{"$f":"_xlfn.XLOOKUP($H166,'I_Asset number input'!$B$5:$B$239,'I_Asset number input'!J$5:J$239)","v":88},{"$f":"_xlfn.XLOOKUP($H166,'I_Asset number input'!$B$5:$B$239,'I_Asset number input'!K$5:K$239)","v":88},{"$f":"_xlfn.XLOOKUP($H166,'I_Asset number input'!$B$5:$B$239,'I_Asset number input'!L$5:L$239)","v":88},{"$f":"_xlfn.XLOOKUP($H166,'I_Asset number input'!$B$5:$B$239,'I_Asset number input'!M$5:M$239)","v":88},{"$f":"_xlfn.XLOOKUP($H166,'I_Asset number input'!$B$5:$B$239,'I_Asset number input'!N$5:N$239)","v":88},{"$f":"_xlfn.XLOOKUP($H166,'I_Asset number input'!$B$5:$B$239,'I_Asset number input'!O$5:O$239)","v":88},null,null,null,3459.3703200510276,3601.2045031731195,3704.7268259224088,3811.2250616746846,3920.7847577589309,4033.4939206974909]
[null,"Spare Luminaire 1","Major (Cat V)",null,null,"Luminaire","LED","Spare Luminaire 1",null,{"$f":"IF(ISBLANK(F167),0,\nIF(OR(F167=\"Luminaire\",F167=\"Smart Controller\",F167=\"NW\"),OFFSET(I_CAPEX!$AC$48,(MATCH('C_CAPEX Build Up'!H167,I_CAPEX!V$49:V$437,0)),0),\nIF('C_CAPEX Build Up'!F167=\"Bracket\",OFFSET(I_CAPEX!S$48,MATCH('C_CAPEX Build Up'!H167,I_CAPEX!L$49:L$130,0),0),\nOFFSET(I_CAPEX!I$48,MATCH('C_CAPEX Build Up'!H167,I_CAPEX!B$49:B$102,0),0))))","v":{"$error":"#N/A"}},null,75.314371605110225,{"$f":"SUM(J167,L167)*I_CAPEX!$D$13","v":{"$error":"#N/A"}},{"$error":"#N/A"},null,null,null,{"$f":"IF(OR(G167=\"LED\",G167=\"Smart Controller\"),-PMT(return_on_assests_pct,LED_lantern_lifespan,N167)*(1+'I_Global Inputs'!$G$54),IF(G167=\"LED20\",-PMT(return_on_assests_pct,LED_life_span_20yrs,N167),\nIF(G167=\"Traditional\",-PMT(return_on_assests_pct,trad_lantern_lifespan,N167),\n-PMT(return_on_assests_pct,pole_lifespan,N167))))","v":{"$error":"#N/A"}},{"$error":"#N/A"},{"$error":"#N/A"},{"$error":"#N/A"},{"$error":"#N/A"},{"$error":"#N/A"},null,null,null,{"$error":"#N/A"},{"$error":"#N/A"},{"$error":"#N/A"},{"$error":"#N/A"},{"$error":"#N/A"},{"$error":"#N/A"},null,null,null,null,{"$f":"_xlfn.XLOOKUP($H167,'I_Asset number input'!$B$5:$B$239,'I_Asset number input'!J$5:J$239)","v":0},{"$f":"_xlfn.XLOOKUP($H167,'I_Asset number input'!$B$5:$B$239,'I_Asset number input'!K$5:K$239)","v":0},{"$f":"_xlfn.XLOOKUP($H167,'I_Asset number input'!$B$5:$B$239,'I_Asset number input'!L$5:L$239)","v":0},{"$f":"_xlfn.XLOOKUP($H167,'I_Asset number input'!$B$5:$B$239,'I_Asset number input'!M$5:M$239)","v":0},{"$f":"_xlfn.XLOOKUP($H167,'I_Asset number input'!$B$5:$B$239,'I_Asset number input'!N$5:N$239)","v":0},{"$f":"_xlfn.XLOOKUP($H167,'I_Asset number input'!$B$5:$B$239,'I_Asset number input'!O$5:O$239)","v":0},null,null,null,0,0,0,0,0,0]
[null,"Spare Luminaire 2","Major (Cat V)",null,null,"Luminaire","LED","Spare Luminaire 2",null,{"$f":"IF(ISBLANK(F168),0,\nIF(OR(F168=\"Luminaire\",F168=\"Smart Controller\",F168=\"NW\"),OFFSET(I_CAPEX!$AC$48,(MATCH('C_CAPEX Build Up'!H168,I_CAPEX!V$49:V$437,0)),0),\nIF('C_CAPEX Build Up'!F168=\"Bracket\",OFFSET(I_CAPEX!S$48,MATCH('C_CAPEX Build Up'!H168,I_CAPEX!L$49:L$130,0),0),\nOFFSET(I_CAPEX!I$48,MATCH('C_CAPEX Build Up'!H168,I_CAPEX!B$49:B$102,0),0))))","v":{"$error":"#N/A"}},null,75.314371605110225,{"$f":"SUM(J168,L168)*I_CAPEX!$D$13","v":{"$error":"#N/A"}},{"$error":"#N/A"},null,null,null,{"$f":"IF(OR(G168=\"LED\",G168=\"Smart Controller\"),-PMT(return_on_assests_pct,LED_lantern_lifespan,N168)*(1+'I_Global Inputs'!$G$54),IF(G168=\"LED20\",-PMT(return_on_assests_pct,LED_life_span_20yrs,N168),\nIF(G168=\"Traditional\",-PMT(return_on_assests_pct,trad_lantern_lifespan,N168),\n-PMT(return_on_assests_pct,pole_lifespan,N168))))","v":{"$error":"#N/A"}},{"$error":"#N/A"},{"$error":"#N/A"},{"$error":"#N/A"},{"$error":"#N/A"},{"$error":"#N/A"},null,null,null,{"$error":"#N/A"},{"$error":"#N/A"},{"$error":"#N/A"},{"$error":"#N/A"},{"$error":"#N/A"},{"$error":"#N/A"},null,null,null,null,{"$f":"_xlfn.XLOOKUP($H168,'I_Asset number input'!$B$5:$B$239,'I_Asset number input'!J$5:J$239)","v":0},{"$f":"_xlfn.XLOOKUP($H168,'I_Asset number input'!$B$5:$B$239,'I_Asset number input'!K$5:K$239)","v":0},{"$f":"_xlfn.XLOOKUP($H168,'I_Asset number input'!$B$5:$B$239,'I_Asset number input'!L$5:L$239)","v":0},{"$f":"_xlfn.XLOOKUP($H168,'I_Asset number input'!$B$5:$B$239,'I_Asset number input'!M$5:M$239)","v":0},{"$f":"_xlfn.XLOOKUP($H168,'I_Asset number input'!$B$5:$B$239,'I_Asset number input'!N$5:N$239)","v":0},{"$f":"_xlfn.XLOOKUP($H168,'I_Asset number input'!$B$5:$B$239,'I_Asset number input'!O$5:O$239)","v":0},null,null,null,0,0,0,0,0,0]
[null,"Spare Luminaire 3","Major (Cat V)",null,null,"Luminaire","LED","Spare Luminaire 3",null,{"$f":"IF(ISBLANK(F169),0,\nIF(OR(F169=\"Luminaire\",F169=\"Smart Controller\",F169=\"NW\"),OFFSET(I_CAPEX!$AC$48,(MATCH('C_CAPEX Build Up'!H169,I_CAPEX!V$49:V$437,0)),0),\nIF('C_CAPEX Build Up'!F169=\"Bracket\",OFFSET(I_CAPEX!S$48,MATCH('C_CAPEX Build Up'!H169,I_CAPEX!L$49:L$130,0),0),\nOFFSET(I_CAPEX!I$48,MATCH('C_CAPEX Build Up'!H169,I_CAPEX!B$49:B$102,0),0))))","v":{"$error":"#N/A"}},null,75.314371605110225,{"$f":"SUM(J169,L169)*I_CAPEX!$D$13","v":{"$error":"#N/A"}},{"$error":"#N/A"},null,null,null,{"$f":"IF(OR(G169=\"LED\",G169=\"Smart Controller\"),-PMT(return_on_assests_pct,LED_lantern_lifespan,N169)*(1+'I_Global Inputs'!$G$54),IF(G169=\"LED20\",-PMT(return_on_assests_pct,LED_life_span_20yrs,N169),\nIF(G169=\"Traditional\",-PMT(return_on_assests_pct,trad_lantern_lifespan,N169),\n-PMT(return_on_assests_pct,pole_lifespan,N169))))","v":{"$error":"#N/A"}},{"$error":"#N/A"},{"$error":"#N/A"},{"$error":"#N/A"},{"$error":"#N/A"},{"$error":"#N/A"},null,null,null,{"$error":"#N/A"},{"$error":"#N/A"},{"$error":"#N/A"},{"$error":"#N/A"},{"$error":"#N/A"},{"$error":"#N/A"},null,null,null,null,{"$f":"_xlfn.XLOOKUP($H169,'I_Asset number input'!$B$5:$B$239,'I_Asset number input'!J$5:J$239)","v":0},{"$f":"_xlfn.XLOOKUP($H169,'I_Asset number input'!$B$5:$B$239,'I_Asset number input'!K$5:K$239)","v":0},{"$f":"_xlfn.XLOOKUP($H169,'I_Asset number input'!$B$5:$B$239,'I_Asset number input'!L$5:L$239)","v":0},{"$f":"_xlfn.XLOOKUP($H169,'I_Asset number input'!$B$5:$B$239,'I_Asset number input'!M$5:M$239)","v":0},{"$f":"_xlfn.XLOOKUP($H169,'I_Asset number input'!$B$5:$B$239,'I_Asset number input'!N$5:N$239)","v":0},{"$f":"_xlfn.XLOOKUP($H169,'I_Asset number input'!$B$5:$B$239,'I_Asset number input'!O$5:O$239)","v":0},null,null,null,0,0,0,0,0,0]
[null,"Spare Luminaire 4","Major (Cat V)",null,null,"Luminaire","LED","Spare Luminaire 4",null,{"$f":"IF(ISBLANK(F170),0,\nIF(OR(F170=\"Luminaire\",F170=\"Smart Controller\",F170=\"NW\"),OFFSET(I_CAPEX!$AC$48,(MATCH('C_CAPEX Build Up'!H170,I_CAPEX!V$49:V$437,0)),0),\nIF('C_CAPEX Build Up'!F170=\"Bracket\",OFFSET(I_CAPEX!S$48,MATCH('C_CAPEX Build Up'!H170,I_CAPEX!L$49:L$130,0),0),\nOFFSET(I_CAPEX!I$48,MATCH('C_CAPEX Build Up'!H170,I_CAPEX!B$49:B$102,0),0))))","v":{"$error":"#N/A"}},null,75.314371605110225,{"$f":"SUM(J170,L170)*I_CAPEX!$D$13","v":{"$error":"#N/A"}},{"$error":"#N/A"},null,null,null,{"$f":"IF(OR(G170=\"LED\",G170=\"Smart Controller\"),-PMT(return_on_assests_pct,LED_lantern_lifespan,N170)*(1+'I_Global Inputs'!$G$54),IF(G170=\"LED20\",-PMT(return_on_assests_pct,LED_life_span_20yrs,N170),\nIF(G170=\"Traditional\",-PMT(return_on_assests_pct,trad_lantern_lifespan,N170),\n-PMT(return_on_assests_pct,pole_lifespan,N170))))","v":{"$error":"#N/A"}},{"$error":"#N/A"},{"$error":"#N/A"},{"$error":"#N/A"},{"$error":"#N/A"},{"$error":"#N/A"},null,null,null,{"$error":"#N/A"},{"$error":"#N/A"},{"$error":"#N/A"},{"$error":"#N/A"},{"$error":"#N/A"},{"$error":"#N/A"},null,null,null,null,{"$f":"_xlfn.XLOOKUP($H170,'I_Asset number input'!$B$5:$B$239,'I_Asset number input'!J$5:J$239)","v":0},{"$f":"_xlfn.XLOOKUP($H170,'I_Asset number input'!$B$5:$B$239,'I_Asset number input'!K$5:K$239)","v":0},{"$f":"_xlfn.XLOOKUP($H170,'I_Asset number input'!$B$5:$B$239,'I_Asset number input'!L$5:L$239)","v":0},{"$f":"_xlfn.XLOOKUP($H170,'I_Asset number input'!$B$5:$B$239,'I_Asset number input'!M$5:M$239)","v":0},{"$f":"_xlfn.XLOOKUP($H170,'I_Asset number input'!$B$5:$B$239,'I_Asset number input'!N$5:N$239)","v":0},{"$f":"_xlfn.XLOOKUP($H170,'I_Asset number input'!$B$5:$B$239,'I_Asset number input'!O$5:O$239)","v":0},null,null,null,0,0,0,0,0,0]
[null,"Spare Luminaire 5","Major (Cat V)",null,null,"Luminaire","LED","Spare Luminaire 5",null,{"$f":"IF(ISBLANK(F171),0,\nIF(OR(F171=\"Luminaire\",F171=\"Smart Controller\",F171=\"NW\"),OFFSET(I_CAPEX!$AC$48,(MATCH('C_CAPEX Build Up'!H171,I_CAPEX!V$49:V$437,0)),0),\nIF('C_CAPEX Build Up'!F171=\"Bracket\",OFFSET(I_CAPEX!S$48,MATCH('C_CAPEX Build Up'!H171,I_CAPEX!L$49:L$130,0),0),\nOFFSET(I_CAPEX!I$48,MATCH('C_CAPEX Build Up'!H171,I_CAPEX!B$49:B$102,0),0))))","v":{"$error":"#N/A"}},null,75.314371605110225,{"$f":"SUM(J171,L171)*I_CAPEX!$D$13","v":{"$error":"#N/A"}},{"$error":"#N/A"},null,null,null,{"$f":"IF(OR(G171=\"LED\",G171=\"Smart Controller\"),-PMT(return_on_assests_pct,LED_lantern_lifespan,N171)*(1+'I_Global Inputs'!$G$54),IF(G171=\"LED20\",-PMT(return_on_assests_pct,LED_life_span_20yrs,N171),\nIF(G171=\"Traditional\",-PMT(return_on_assests_pct,trad_lantern_lifespan,N171),\n-PMT(return_on_assests_pct,pole_lifespan,N171))))","v":{"$error":"#N/A"}},{"$error":"#N/A"},{"$error":"#N/A"},{"$error":"#N/A"},{"$error":"#N/A"},{"$error":"#N/A"},null,null,null,{"$error":"#N/A"},{"$error":"#N/A"},{"$error":"#N/A"},{"$error":"#N/A"},{"$error":"#N/A"},{"$error":"#N/A"},null,null,null,null,{"$f":"_xlfn.XLOOKUP($H171,'I_Asset number input'!$B$5:$B$239,'I_Asset number input'!J$5:J$239)","v":0},{"$f":"_xlfn.XLOOKUP($H171,'I_Asset number input'!$B$5:$B$239,'I_Asset number input'!K$5:K$239)","v":0},{"$f":"_xlfn.XLOOKUP($H171,'I_Asset number input'!$B$5:$B$239,'I_Asset number input'!L$5:L$239)","v":0},{"$f":"_xlfn.XLOOKUP($H171,'I_Asset number input'!$B$5:$B$239,'I_Asset number input'!M$5:M$239)","v":0},{"$f":"_xlfn.XLOOKUP($H171,'I_Asset number input'!$B$5:$B$239,'I_Asset number input'!N$5:N$239)","v":0},{"$f":"_xlfn.XLOOKUP($H171,'I_Asset number input'!$B$5:$B$239,'I_Asset number input'!O$5:O$239)","v":0},null,null,null,0,0,0,0,0,0]
[null,"Smart Controller - materials and installation","Minor (Cat P)",null,null,"Smart Controller","Smart Controller","Smart Controller - materials and installation",null,{"$f":"IF(ISBLANK(F172),0,\nIF(OR(F172=\"Luminaire\",F172=\"Smart Controller\",F172=\"NW\"),OFFSET(I_CAPEX!$AC$48,(MATCH('C_CAPEX Build Up'!H172,I_CAPEX!V$49:V$437,0)),0),\nIF('C_CAPEX Build Up'!F172=\"Bracket\",OFFSET(I_CAPEX!S$48,MATCH('C_CAPEX Build Up'!H172,I_CAPEX!L$49:L$130,0),0),\nOFFSET(I_CAPEX!I$48,MATCH('C_CAPEX Build Up'!H172,I_CAPEX!B$49:B$102,0),0))))","v":373.14750776118456},null,0,{"$f":"SUM(J172,L172)*I_CAPEX!$D$13","v":22.388850465671073},395.53635822685561,null,null,null,{"$f":"IF(OR(G172=\"LED\",G172=\"Smart Controller\"),-PMT(return_on_assests_pct,LED_lantern_lifespan,N172)*(1+'I_Global Inputs'!$G$54),IF(G172=\"LED20\",-PMT(return_on_assests_pct,LED_life_span_20yrs,N172),\nIF(G172=\"Traditional\",-PMT(return_on_assests_pct,trad_lantern_lifespan,N172),\n-PMT(return_on_assests_pct,pole_lifespan,N172))))","v":48.240356484051986},50.218211099898113,51.66181305385404,53.146913630636647,54.674705773835264,56.246416720090657,null,null,null,395.53635822685561,411.75334891415667,423.58985057404112,435.76661120671577,448.29341209485102,461.18031569956759,null,null,null,null,{"$f":"_xlfn.XLOOKUP($H172,'I_Asset number input'!$B$5:$B$239,'I_Asset number input'!J$5:J$239)","v":8300},{"$f":"_xlfn.XLOOKUP($H172,'I_Asset number input'!$B$5:$B$239,'I_Asset number input'!K$5:K$239)","v":8300},{"$f":"_xlfn.XLOOKUP($H172,'I_Asset number input'!$B$5:$B$239,'I_Asset number input'!L$5:L$239)","v":8300},{"$f":"_xlfn.XLOOKUP($H172,'I_Asset number input'!$B$5:$B$239,'I_Asset number input'!M$5:M$239)","v":8300},{"$f":"_xlfn.XLOOKUP($H172,'I_Asset number input'!$B$5:$B$239,'I_Asset number input'!N$5:N$239)","v":8300},{"$f":"_xlfn.XLOOKUP($H172,'I_Asset number input'!$B$5:$B$239,'I_Asset number input'!O$5:O$239)","v":8300},null,null,null,400394.95881763147,416811.15212915436,428793.04834698851,441119.38313428417,453800.05792283267,466845.25877675245]
[null,"Smart Controller - material price only","Minor (Cat P)",null,null,"Smart Controller","Smart Controller","Smart Controller - material price only",null,{"$f":"IF(ISBLANK(F173),0,\nIF(OR(F173=\"Luminaire\",F173=\"Smart Controller\",F173=\"NW\"),OFFSET(I_CAPEX!$AC$48,(MATCH('C_CAPEX Build Up'!H173,I_CAPEX!V$49:V$437,0)),0),\nIF('C_CAPEX Build Up'!F173=\"Bracket\",OFFSET(I_CAPEX!S$48,MATCH('C_CAPEX Build Up'!H173,I_CAPEX!L$49:L$130,0),0),\nOFFSET(I_CAPEX!I$48,MATCH('C_CAPEX Build Up'!H173,I_CAPEX!B$49:B$102,0),0))))","v":166.93188111822758},null,0,{"$f":"SUM(J173,L173)*I_CAPEX!$D$13","v":10.015912867093654},176.94779398532123,null,null,null,{"$f":"IF(OR(G173=\"LED\",G173=\"Smart Controller\"),-PMT(return_on_assests_pct,LED_lantern_lifespan,N173)*(1+'I_Global Inputs'!$G$54),IF(G173=\"LED20\",-PMT(return_on_assests_pct,LED_life_span_20yrs,N173),\nIF(G173=\"Traditional\",-PMT(return_on_assests_pct,trad_lantern_lifespan,N173),\n-PMT(return_on_assests_pct,pole_lifespan,N173))))","v":21.580885001784694},22.465701286857865,23.111513424812813,23.775890454742619,24.4593660538481,25.162489240725819,null,null,null,176.94779398532123,184.20265353871937,189.49785033582114,194.9452659450919,200.54927613719059,206.31438247122887,null,null,null,null,{"$f":"_xlfn.XLOOKUP($H173,'I_Asset number input'!$B$5:$B$239,'I_Asset number input'!J$5:J$239)","v":0},{"$f":"_xlfn.XLOOKUP($H173,'I_Asset number input'!$B$5:$B$239,'I_Asset number input'!K$5:K$239)","v":0},{"$f":"_xlfn.XLOOKUP($H173,'I_Asset number input'!$B$5:$B$239,'I_Asset number input'!L$5:L$239)","v":0},{"$f":"_xlfn.XLOOKUP($H173,'I_Asset number input'!$B$5:$B$239,'I_Asset number input'!M$5:M$239)","v":0},{"$f":"_xlfn.XLOOKUP($H173,'I_Asset number input'!$B$5:$B$239,'I_Asset number input'!N$5:N$239)","v":0},{"$f":"_xlfn.XLOOKUP($H173,'I_Asset number input'!$B$5:$B$239,'I_Asset number input'!O$5:O$239)","v":0},null,null,null,0,0,0,0,0,0]
[null,"Smart Controller - material price adjusted for PE Cell","Minor (Cat P)",null,null,"Smart Controller","Smart Controller","Smart Controller - material price adjusted for PE Cell",null,{"$f":"IF(ISBLANK(F174),0,\nIF(OR(F174=\"Luminaire\",F174=\"Smart Controller\",F174=\"NW\"),OFFSET(I_CAPEX!$AC$48,(MATCH('C_CAPEX Build Up'!H174,I_CAPEX!V$49:V$437,0)),0),\nIF('C_CAPEX Build Up'!F174=\"Bracket\",OFFSET(I_CAPEX!S$48,MATCH('C_CAPEX Build Up'!H174,I_CAPEX!L$49:L$130,0),0),\nOFFSET(I_CAPEX!I$48,MATCH('C_CAPEX Build Up'!H174,I_CAPEX!B$49:B$102,0),0))))","v":153.05860426363347},null,0,{"$f":"SUM(J174,L174)*I_CAPEX!$D$13","v":9.1835162558180077},162.24212051945148,null,null,null,{"$f":"IF(OR(G174=\"LED\",G174=\"Smart Controller\"),-PMT(return_on_assests_pct,LED_lantern_lifespan,N174)*(1+'I_Global Inputs'!$G$54),IF(G174=\"LED20\",-PMT(return_on_assests_pct,LED_life_span_20yrs,N174),\nIF(G174=\"Traditional\",-PMT(return_on_assests_pct,trad_lantern_lifespan,N174),\n-PMT(return_on_assests_pct,pole_lifespan,N174))))","v":19.787353470292089},20.598634962574064,21.190775324197919,21.799937697644456,22.426611407582737,23.071299845093851,null,null,null,162.24212051945148,168.89404746074896,173.74917414857231,178.74386913681366,183.88214453715085,189.16812779576151,null,null,null,null,{"$f":"_xlfn.XLOOKUP($H174,'I_Asset number input'!$B$5:$B$239,'I_Asset number input'!J$5:J$239)","v":10000},{"$f":"_xlfn.XLOOKUP($H174,'I_Asset number input'!$B$5:$B$239,'I_Asset number input'!K$5:K$239)","v":32500},{"$f":"_xlfn.XLOOKUP($H174,'I_Asset number input'!$B$5:$B$239,'I_Asset number input'!L$5:L$239)","v":50750},{"$f":"_xlfn.XLOOKUP($H174,'I_Asset number input'!$B$5:$B$239,'I_Asset number input'!M$5:M$239)","v":58250},{"$f":"_xlfn.XLOOKUP($H174,'I_Asset number input'!$B$5:$B$239,'I_Asset number input'!N$5:N$239)","v":60250},{"$f":"_xlfn.XLOOKUP($H174,'I_Asset number input'!$B$5:$B$239,'I_Asset number input'!O$5:O$239)","v":60750},null,null,null,197873.53470292088,669455.63628365705,1075431.8477030443,1269846.3708877896,1351203.3373068599,1401581.4655894514]
[null,"COLUMN 10.5M-13.5M","Major (Cat V)",null,null,"Support","Support","COLUMN 10.5M-13.5M",null,{"$f":"IF(ISBLANK(F175),0,\nIF(OR(F175=\"Luminaire\",F175=\"Smart Controller\",F175=\"NW\"),OFFSET(I_CAPEX!$AC$48,(MATCH('C_CAPEX Build Up'!H175,I_CAPEX!V$49:V$437,0)),0),\nIF('C_CAPEX Build Up'!F175=\"Bracket\",OFFSET(I_CAPEX!S$48,MATCH('C_CAPEX Build Up'!H175,I_CAPEX!L$49:L$130,0),0),\nOFFSET(I_CAPEX!I$48,MATCH('C_CAPEX Build Up'!H175,I_CAPEX!B$49:B$102,0),0))))","v":8553.2683104710941},null,0,{"$f":"SUM(J175,L175)*I_CAPEX!$D$13","v":513.19609862826564},9066.4644090993606,null,null,null,{"$f":"IF(OR(G175=\"LED\",G175=\"Smart Controller\"),-PMT(return_on_assests_pct,LED_lantern_lifespan,N175)*(1+'I_Global Inputs'!$G$54),IF(G175=\"LED20\",-PMT(return_on_assests_pct,LED_life_span_20yrs,N175),\nIF(G175=\"Traditional\",-PMT(return_on_assests_pct,trad_lantern_lifespan,N175),\n-PMT(return_on_assests_pct,pole_lifespan,N175))))","v":410.91222242043062},427.75962353966827,440.05625089536812,452.70636426518428,465.72012516402339,479.10798721561974,null,null,null,9066.4644090993606,9438.1894498724341,9709.5051425907222,9988.6202342833749,10275.758931017326,10571.151884017732,null,null,null,null,{"$f":"_xlfn.XLOOKUP($H175,'I_Asset number input'!$B$5:$B$239,'I_Asset number input'!J$5:J$239)","v":979.5},{"$f":"_xlfn.XLOOKUP($H175,'I_Asset number input'!$B$5:$B$239,'I_Asset number input'!K$5:K$239)","v":1010.5},{"$f":"_xlfn.XLOOKUP($H175,'I_Asset number input'!$B$5:$B$239,'I_Asset number input'!L$5:L$239)","v":1041.5},{"$f":"_xlfn.XLOOKUP($H175,'I_Asset number input'!$B$5:$B$239,'I_Asset number input'!M$5:M$239)","v":1072.5},{"$f":"_xlfn.XLOOKUP($H175,'I_Asset number input'!$B$5:$B$239,'I_Asset number input'!N$5:N$239)","v":1103.5},{"$f":"_xlfn.XLOOKUP($H175,'I_Asset number input'!$B$5:$B$239,'I_Asset number input'!O$5:O$239)","v":1134.5},null,null,null,402488.5218608118,432251.09958683478,458318.58530752588,485527.57567441015,513922.15811849979,543548.0114961206]
[null,"COLUMN 14M-15M","Major (Cat V)",null,null,"Support","Support","COLUMN 14M-15M",null,{"$f":"IF(ISBLANK(F176),0,\nIF(OR(F176=\"Luminaire\",F176=\"Smart Controller\",F176=\"NW\"),OFFSET(I_CAPEX!$AC$48,(MATCH('C_CAPEX Build Up'!H176,I_CAPEX!V$49:V$437,0)),0),\nIF('C_CAPEX Build Up'!F176=\"Bracket\",OFFSET(I_CAPEX!S$48,MATCH('C_CAPEX Build Up'!H176,I_CAPEX!L$49:L$130,0),0),\nOFFSET(I_CAPEX!I$48,MATCH('C_CAPEX Build Up'!H176,I_CAPEX!B$49:B$102,0),0))))","v":8553.2683104710941},null,0,{"$f":"SUM(J176,L176)*I_CAPEX!$D$13","v":513.19609862826564},9066.4644090993606,null,null,null,{"$f":"IF(OR(G176=\"LED\",G176=\"Smart Controller\"),-PMT(return_on_assests_pct,LED_lantern_lifespan,N176)*(1+'I_Global Inputs'!$G$54),IF(G176=\"LED20\",-PMT(return_on_assests_pct,LED_life_span_20yrs,N176),\nIF(G176=\"Traditional\",-PMT(return_on_assests_pct,trad_lantern_lifespan,N176),\n-PMT(return_on_assests_pct,pole_lifespan,N176))))","v":410.91222242043062},427.75962353966827,440.05625089536812,452.70636426518428,465.72012516402339,479.10798721561974,null,null,null,9066.4644090993606,9438.1894498724341,9709.5051425907222,9988.6202342833749,10275.758931017326,10571.151884017732,null,null,null,null,{"$f":"_xlfn.XLOOKUP($H176,'I_Asset number input'!$B$5:$B$239,'I_Asset number input'!J$5:J$239)","v":12.5},{"$f":"_xlfn.XLOOKUP($H176,'I_Asset number input'!$B$5:$B$239,'I_Asset number input'!K$5:K$239)","v":13.5},{"$f":"_xlfn.XLOOKUP($H176,'I_Asset number input'!$B$5:$B$239,'I_Asset number input'!L$5:L$239)","v":14.5},{"$f":"_xlfn.XLOOKUP($H176,'I_Asset number input'!$B$5:$B$239,'I_Asset number input'!M$5:M$239)","v":15.5},{"$f":"_xlfn.XLOOKUP($H176,'I_Asset number input'!$B$5:$B$239,'I_Asset number input'!N$5:N$239)","v":16.5},{"$f":"_xlfn.XLOOKUP($H176,'I_Asset number input'!$B$5:$B$239,'I_Asset number input'!O$5:O$239)","v":17.5},null,null,null,5136.4027802553828,5774.7549177855217,6380.8156379828379,7016.9486461103561,7684.382065206386,8384.389776273345]
[null,"COLUMN 2.5M-3.5M","Minor (Cat P)",null,null,"Support","Support","COLUMN 2.5M-3.5M",null,{"$f":"IF(ISBLANK(F177),0,\nIF(OR(F177=\"Luminaire\",F177=\"Smart Controller\",F177=\"NW\"),OFFSET(I_CAPEX!$AC$48,(MATCH('C_CAPEX Build Up'!H177,I_CAPEX!V$49:V$437,0)),0),\nIF('C_CAPEX Build Up'!F177=\"Bracket\",OFFSET(I_CAPEX!S$48,MATCH('C_CAPEX Build Up'!H177,I_CAPEX!L$49:L$130,0),0),\nOFFSET(I_CAPEX!I$48,MATCH('C_CAPEX Build Up'!H177,I_CAPEX!B$49:B$102,0),0))))","v":7478.0133574840556},null,0,{"$f":"SUM(J177,L177)*I_CAPEX!$D$13","v":448.68080144904332},7926.6941589330991,null,null,null,{"$f":"IF(OR(G177=\"LED\",G177=\"Smart Controller\"),-PMT(return_on_assests_pct,LED_lantern_lifespan,N177)*(1+'I_Global Inputs'!$G$54),IF(G177=\"LED20\",-PMT(return_on_assests_pct,LED_life_span_20yrs,N177),\nIF(G177=\"Traditional\",-PMT(return_on_assests_pct,trad_lantern_lifespan,N177),\n-PMT(return_on_assests_pct,pole_lifespan,N177))))","v":359.25531346323407},373.98478131522666,384.73556572653229,395.79539845004973,407.17316356861676,418.87800055209232,null,null,null,7926.6941589330991,8251.6886194493563,8488.8964680279587,8732.9232316216858,8983.9649307343352,9242.2232207893121,null,null,null,null,{"$f":"_xlfn.XLOOKUP($H177,'I_Asset number input'!$B$5:$B$239,'I_Asset number input'!J$5:J$239)","v":25.5},{"$f":"_xlfn.XLOOKUP($H177,'I_Asset number input'!$B$5:$B$239,'I_Asset number input'!K$5:K$239)","v":26.5},{"$f":"_xlfn.XLOOKUP($H177,'I_Asset number input'!$B$5:$B$239,'I_Asset number input'!L$5:L$239)","v":27.5},{"$f":"_xlfn.XLOOKUP($H177,'I_Asset number input'!$B$5:$B$239,'I_Asset number input'!M$5:M$239)","v":28.5},{"$f":"_xlfn.XLOOKUP($H177,'I_Asset number input'!$B$5:$B$239,'I_Asset number input'!N$5:N$239)","v":29.75},{"$f":"_xlfn.XLOOKUP($H177,'I_Asset number input'!$B$5:$B$239,'I_Asset number input'!O$5:O$239)","v":31.25},null,null,null,9161.0104933124694,9910.5967048535058,10580.228057479639,11280.168855826418,12113.401616166349,13089.937517252885]
[null,"COLUMN 4-6.5M ORION WATE","Minor (Cat P)",null,null,"Support","Support","COLUMN 4-6.5M ORION WATE",null,{"$f":"IF(ISBLANK(F178),0,\nIF(OR(F178=\"Luminaire\",F178=\"Smart Controller\",F178=\"NW\"),OFFSET(I_CAPEX!$AC$48,(MATCH('C_CAPEX Build Up'!H178,I_CAPEX!V$49:V$437,0)),0),\nIF('C_CAPEX Build Up'!F178=\"Bracket\",OFFSET(I_CAPEX!S$48,MATCH('C_CAPEX Build Up'!H178,I_CAPEX!L$49:L$130,0),0),\nOFFSET(I_CAPEX!I$48,MATCH('C_CAPEX Build Up'!H178,I_CAPEX!B$49:B$102,0),0))))","v":7688.8476619913181},null,0,{"$f":"SUM(J178,L178)*I_CAPEX!$D$13","v":461.33085971947907},8150.1785217107972,null,null,null,{"$f":"IF(OR(G178=\"LED\",G178=\"Smart Controller\"),-PMT(return_on_assests_pct,LED_lantern_lifespan,N178)*(1+'I_Global Inputs'!$G$54),IF(G178=\"LED20\",-PMT(return_on_assests_pct,LED_life_span_20yrs,N178),\nIF(G178=\"Traditional\",-PMT(return_on_assests_pct,trad_lantern_lifespan,N178),\n-PMT(return_on_assests_pct,pole_lifespan,N178))))","v":369.38411914111578},384.52886802590149,395.58275889689224,406.95441135497805,418.65295995987293,430.68780185866632,null,null,null,8150.1785217107972,8484.3358411009394,8728.2315022559505,8979.1383301828009,9237.2578719662943,9502.7974684811597,null,null,null,null,{"$f":"_xlfn.XLOOKUP($H178,'I_Asset number input'!$B$5:$B$239,'I_Asset number input'!J$5:J$239)","v":510},{"$f":"_xlfn.XLOOKUP($H178,'I_Asset number input'!$B$5:$B$239,'I_Asset number input'!K$5:K$239)","v":542},{"$f":"_xlfn.XLOOKUP($H178,'I_Asset number input'!$B$5:$B$239,'I_Asset number input'!L$5:L$239)","v":574},{"$f":"_xlfn.XLOOKUP($H178,'I_Asset number input'!$B$5:$B$239,'I_Asset number input'!M$5:M$239)","v":606},{"$f":"_xlfn.XLOOKUP($H178,'I_Asset number input'!$B$5:$B$239,'I_Asset number input'!N$5:N$239)","v":638},{"$f":"_xlfn.XLOOKUP($H178,'I_Asset number input'!$B$5:$B$239,'I_Asset number input'!O$5:O$239)","v":670},null,null,null,188385.90076196904,208414.6464700386,227064.50360681614,246614.37328111668,267100.58845439891,288560.82724530646]
[null,"COLUMN 4M-6.5M","Minor (Cat P)",null,null,"Support","Support","COLUMN 4M-6.5M",null,{"$f":"IF(ISBLANK(F179),0,\nIF(OR(F179=\"Luminaire\",F179=\"Smart Controller\",F179=\"NW\"),OFFSET(I_CAPEX!$AC$48,(MATCH('C_CAPEX Build Up'!H179,I_CAPEX!V$49:V$437,0)),0),\nIF('C_CAPEX Build Up'!F179=\"Bracket\",OFFSET(I_CAPEX!S$48,MATCH('C_CAPEX Build Up'!H179,I_CAPEX!L$49:L$130,0),0),\nOFFSET(I_CAPEX!I$48,MATCH('C_CAPEX Build Up'!H179,I_CAPEX!B$49:B$102,0),0))))","v":8028.8179780092787},null,0,{"$f":"SUM(J179,L179)*I_CAPEX!$D$13","v":481.72907868055671},8510.5470566898348,null,null,null,{"$f":"IF(OR(G179=\"LED\",G179=\"Smart Controller\"),-PMT(return_on_assests_pct,LED_lantern_lifespan,N179)*(1+'I_Global Inputs'!$G$54),IF(G179=\"LED20\",-PMT(return_on_assests_pct,LED_life_span_20yrs,N179),\nIF(G179=\"Traditional\",-PMT(return_on_assests_pct,trad_lantern_lifespan,N179),\n-PMT(return_on_assests_pct,pole_lifespan,N179))))","v":385.7168182966999},401.53120784686456,413.07385788409761,424.94831966417496,437.16413164077352,449.73110646551686,null,null,null,8510.5470566898348,8859.4794860141174,9114.1592449485888,9376.1601766125987,9645.6927397028267,9922.9734428842621,null,null,null,null,{"$f":"_xlfn.XLOOKUP($H179,'I_Asset number input'!$B$5:$B$239,'I_Asset number input'!J$5:J$239)","v":5859.25},{"$f":"_xlfn.XLOOKUP($H179,'I_Asset number input'!$B$5:$B$239,'I_Asset number input'!K$5:K$239)","v":6045.75},{"$f":"_xlfn.XLOOKUP($H179,'I_Asset number input'!$B$5:$B$239,'I_Asset number input'!L$5:L$239)","v":6232},{"$f":"_xlfn.XLOOKUP($H179,'I_Asset number input'!$B$5:$B$239,'I_Asset number input'!M$5:M$239)","v":6418},{"$f":"_xlfn.XLOOKUP($H179,'I_Asset number input'!$B$5:$B$239,'I_Asset number input'!N$5:N$239)","v":6604},{"$f":"_xlfn.XLOOKUP($H179,'I_Asset number input'!$B$5:$B$239,'I_Asset number input'!O$5:O$239)","v":6790},null,null,null,2260011.2676049387,2427557.2998401816,2574276.2823336963,2727318.3156046751,2887031.9253556682,3053674.2129008593]
[null,"COLUMN 7M-10M","Major (Cat V)",null,null,"Support","Support","COLUMN 7M-10M",null,{"$f":"IF(ISBLANK(F180),0,\nIF(OR(F180=\"Luminaire\",F180=\"Smart Controller\",F180=\"NW\"),OFFSET(I_CAPEX!$AC$48,(MATCH('C_CAPEX Build Up'!H180,I_CAPEX!V$49:V$437,0)),0),\nIF('C_CAPEX Build Up'!F180=\"Bracket\",OFFSET(I_CAPEX!S$48,MATCH('C_CAPEX Build Up'!H180,I_CAPEX!L$49:L$130,0),0),\nOFFSET(I_CAPEX!I$48,MATCH('C_CAPEX Build Up'!H180,I_CAPEX!B$49:B$102,0),0))))","v":7857.5151055971273},null,0,{"$f":"SUM(J180,L180)*I_CAPEX!$D$13","v":471.4509063358276},8328.9660119329546,null,null,null,{"$f":"IF(OR(G180=\"LED\",G180=\"Smart Controller\"),-PMT(return_on_assests_pct,LED_lantern_lifespan,N180)*(1+'I_Global Inputs'!$G$54),IF(G180=\"LED20\",-PMT(return_on_assests_pct,LED_life_span_20yrs,N180),\nIF(G180=\"Traditional\",-PMT(return_on_assests_pct,trad_lantern_lifespan,N180),\n-PMT(return_on_assests_pct,pole_lifespan,N180))))","v":377.48716368342099},392.9641373944412,404.26051343318005,415.88162167892057,427.83679707287774,440.13564290392537,null,null,null,8328.9660119329546,8670.4536184222052,8919.6995296383429,9176.1104090316912,9439.8922249518582,9711.2568666346342,null,null,null,null,{"$f":"_xlfn.XLOOKUP($H180,'I_Asset number input'!$B$5:$B$239,'I_Asset number input'!J$5:J$239)","v":1019},{"$f":"_xlfn.XLOOKUP($H180,'I_Asset number input'!$B$5:$B$239,'I_Asset number input'!K$5:K$239)","v":1051},{"$f":"_xlfn.XLOOKUP($H180,'I_Asset number input'!$B$5:$B$239,'I_Asset number input'!L$5:L$239)","v":1083},{"$f":"_xlfn.XLOOKUP($H180,'I_Asset number input'!$B$5:$B$239,'I_Asset number input'!M$5:M$239)","v":1115},{"$f":"_xlfn.XLOOKUP($H180,'I_Asset number input'!$B$5:$B$239,'I_Asset number input'!N$5:N$239)","v":1147},{"$f":"_xlfn.XLOOKUP($H180,'I_Asset number input'!$B$5:$B$239,'I_Asset number input'!O$5:O$239)","v":1179},null,null,null,384659.41979340598,413005.30840155768,437814.13604813401,463708.00817199645,490728.80624259077,518919.922983728]
[null,"DECORATIVE COLUMN","Minor (Cat P)",null,null,"Support","Support","DECORATIVE COLUMN",null,{"$f":"IF(ISBLANK(F181),0,\nIF(OR(F181=\"Luminaire\",F181=\"Smart Controller\",F181=\"NW\"),OFFSET(I_CAPEX!$AC$48,(MATCH('C_CAPEX Build Up'!H181,I_CAPEX!V$49:V$437,0)),0),\nIF('C_CAPEX Build Up'!F181=\"Bracket\",OFFSET(I_CAPEX!S$48,MATCH('C_CAPEX Build Up'!H181,I_CAPEX!L$49:L$130,0),0),\nOFFSET(I_CAPEX!I$48,MATCH('C_CAPEX Build Up'!H181,I_CAPEX!B$49:B$102,0),0))))","v":8247.558568935563},null,0,{"$f":"SUM(J181,L181)*I_CAPEX!$D$13","v":494.85351413613375},8742.4120830716965,null,null,null,{"$f":"IF(OR(G181=\"LED\",G181=\"Smart Controller\"),-PMT(return_on_assests_pct,LED_lantern_lifespan,N181)*(1+'I_Global Inputs'!$G$54),IF(G181=\"LED20\",-PMT(return_on_assests_pct,LED_life_span_20yrs,N181),\nIF(G181=\"Traditional\",-PMT(return_on_assests_pct,trad_lantern_lifespan,N181),\n-PMT(return_on_assests_pct,pole_lifespan,N181))))","v":396.22545418750212},412.47069780918969,424.32782079834607,436.52579555303811,449.07442039670184,461.98377532108742,null,null,null,8742.4120830716965,9100.8509784776361,9362.4693429601302,9631.6083413697543,9908.4841662309827,10193.319224864552,null,null,null,null,{"$f":"_xlfn.XLOOKUP($H181,'I_Asset number input'!$B$5:$B$239,'I_Asset number input'!J$5:J$239)","v":99.5},{"$f":"_xlfn.XLOOKUP($H181,'I_Asset number input'!$B$5:$B$239,'I_Asset number input'!K$5:K$239)","v":102.5},{"$f":"_xlfn.XLOOKUP($H181,'I_Asset number input'!$B$5:$B$239,'I_Asset number input'!L$5:L$239)","v":105.5},{"$f":"_xlfn.XLOOKUP($H181,'I_Asset number input'!$B$5:$B$239,'I_Asset number input'!M$5:M$239)","v":108.5},{"$f":"_xlfn.XLOOKUP($H181,'I_Asset number input'!$B$5:$B$239,'I_Asset number input'!N$5:N$239)","v":111.5},{"$f":"_xlfn.XLOOKUP($H181,'I_Asset number input'!$B$5:$B$239,'I_Asset number input'!O$5:O$239)","v":114.5},null,null,null,39424.432691656461,42278.246525441944,44766.585094225513,47363.048817504634,50071.797874232252,52897.142274264508]
[null,"DEDICATED SUPPORT & COND","Minor (Cat P)",null,null,"Support","Support","DEDICATED SUPPORT & COND",null,{"$f":"IF(ISBLANK(F182),0,\nIF(OR(F182=\"Luminaire\",F182=\"Smart Controller\",F182=\"NW\"),OFFSET(I_CAPEX!$AC$48,(MATCH('C_CAPEX Build Up'!H182,I_CAPEX!V$49:V$437,0)),0),\nIF('C_CAPEX Build Up'!F182=\"Bracket\",OFFSET(I_CAPEX!S$48,MATCH('C_CAPEX Build Up'!H182,I_CAPEX!L$49:L$130,0),0),\nOFFSET(I_CAPEX!I$48,MATCH('C_CAPEX Build Up'!H182,I_CAPEX!B$49:B$102,0),0))))","v":7628.2327994454799},null,0,{"$f":"SUM(J182,L182)*I_CAPEX!$D$13","v":457.69396796672879},8085.9267674122084,null,null,null,{"$f":"IF(OR(G182=\"LED\",G182=\"Smart Controller\"),-PMT(return_on_assests_pct,LED_lantern_lifespan,N182)*(1+'I_Global Inputs'!$G$54),IF(G182=\"LED20\",-PMT(return_on_assests_pct,LED_life_span_20yrs,N182),\nIF(G182=\"Traditional\",-PMT(return_on_assests_pct,trad_lantern_lifespan,N182),\n-PMT(return_on_assests_pct,pole_lifespan,N182))))","v":366.47208750872477},381.49744309658246,392.46419086041374,403.74619514481117,415.35251849738677,427.29248398302627,null,null,null,8085.9267674122084,8417.449764876108,8659.4226799154021,8908.351489346478,9164.4361513621043,9427.8823722697525,null,null,null,null,{"$f":"_xlfn.XLOOKUP($H182,'I_Asset number input'!$B$5:$B$239,'I_Asset number input'!J$5:J$239)","v":239.5},{"$f":"_xlfn.XLOOKUP($H182,'I_Asset number input'!$B$5:$B$239,'I_Asset number input'!K$5:K$239)","v":254.5},{"$f":"_xlfn.XLOOKUP($H182,'I_Asset number input'!$B$5:$B$239,'I_Asset number input'!L$5:L$239)","v":269.5},{"$f":"_xlfn.XLOOKUP($H182,'I_Asset number input'!$B$5:$B$239,'I_Asset number input'!M$5:M$239)","v":284.5},{"$f":"_xlfn.XLOOKUP($H182,'I_Asset number input'!$B$5:$B$239,'I_Asset number input'!N$5:N$239)","v":299.5},{"$f":"_xlfn.XLOOKUP($H182,'I_Asset number input'!$B$5:$B$239,'I_Asset number input'!O$5:O$239)","v":314.5},null,null,null,87770.064958339586,97091.09926808023,105769.0994368815,114865.79251869877,124398.07928996734,134383.48621266175]
[null,"MACQUARIE STANDARD","Minor (Cat P)",null,null,"Support","Support","MACQUARIE STANDARD",null,{"$f":"IF(ISBLANK(F183),0,\nIF(OR(F183=\"Luminaire\",F183=\"Smart Controller\",F183=\"NW\"),OFFSET(I_CAPEX!$AC$48,(MATCH('C_CAPEX Build Up'!H183,I_CAPEX!V$49:V$437,0)),0),\nIF('C_CAPEX Build Up'!F183=\"Bracket\",OFFSET(I_CAPEX!S$48,MATCH('C_CAPEX Build Up'!H183,I_CAPEX!L$49:L$130,0),0),\nOFFSET(I_CAPEX!I$48,MATCH('C_CAPEX Build Up'!H183,I_CAPEX!B$49:B$102,0),0))))","v":7533.3573624172113},null,0,{"$f":"SUM(J183,L183)*I_CAPEX!$D$13","v":452.00144174503265},7985.3588041622443,null,null,null,{"$f":"IF(OR(G183=\"LED\",G183=\"Smart Controller\"),-PMT(return_on_assests_pct,LED_lantern_lifespan,N183)*(1+'I_Global Inputs'!$G$54),IF(G183=\"LED20\",-PMT(return_on_assests_pct,LED_life_span_20yrs,N183),\nIF(G183=\"Traditional\",-PMT(return_on_assests_pct,trad_lantern_lifespan,N183),\n-PMT(return_on_assests_pct,pole_lifespan,N183))))","v":361.91412495367797},376.75260407677877,387.58295393375175,398.72463933759337,410.18661012132145,421.97807339506795,null,null,null,7985.3588041622443,8312.7585151328949,8551.7219145128056,8797.554694993978,9050.4543278077235,9310.6239608084215,null,null,null,null,{"$f":"_xlfn.XLOOKUP($H183,'I_Asset number input'!$B$5:$B$239,'I_Asset number input'!J$5:J$239)","v":9},{"$f":"_xlfn.XLOOKUP($H183,'I_Asset number input'!$B$5:$B$239,'I_Asset number input'!K$5:K$239)","v":9},{"$f":"_xlfn.XLOOKUP($H183,'I_Asset number input'!$B$5:$B$239,'I_Asset number input'!L$5:L$239)","v":9},{"$f":"_xlfn.XLOOKUP($H183,'I_Asset number input'!$B$5:$B$239,'I_Asset number input'!M$5:M$239)","v":9},{"$f":"_xlfn.XLOOKUP($H183,'I_Asset number input'!$B$5:$B$239,'I_Asset number input'!N$5:N$239)","v":9},{"$f":"_xlfn.XLOOKUP($H183,'I_Asset number input'!$B$5:$B$239,'I_Asset number input'!O$5:O$239)","v":9},null,null,null,3257.2271245831016,3390.773436691009,3488.2465854037659,3588.5217540383405,3691.6794910918929,3797.8026605556115]
[null,"MAST 15.5M-30M","Major (Cat V)",null,null,"Support","Support","MAST 15.5M-30M",null,{"$f":"IF(ISBLANK(F184),0,\nIF(OR(F184=\"Luminaire\",F184=\"Smart Controller\",F184=\"NW\"),OFFSET(I_CAPEX!$AC$48,(MATCH('C_CAPEX Build Up'!H184,I_CAPEX!V$49:V$437,0)),0),\nIF('C_CAPEX Build Up'!F184=\"Bracket\",OFFSET(I_CAPEX!S$48,MATCH('C_CAPEX Build Up'!H184,I_CAPEX!L$49:L$130,0),0),\nOFFSET(I_CAPEX!I$48,MATCH('C_CAPEX Build Up'!H184,I_CAPEX!B$49:B$102,0),0))))","v":7968.2031154634406},null,0,{"$f":"SUM(J184,L184)*I_CAPEX!$D$13","v":478.09218692780644},8446.2953023912469,null,null,null,{"$f":"IF(OR(G184=\"LED\",G184=\"Smart Controller\"),-PMT(return_on_assests_pct,LED_lantern_lifespan,N184)*(1+'I_Global Inputs'!$G$54),IF(G184=\"LED20\",-PMT(return_on_assests_pct,LED_life_span_20yrs,N184),\nIF(G184=\"Traditional\",-PMT(return_on_assests_pct,trad_lantern_lifespan,N184),\n-PMT(return_on_assests_pct,pole_lifespan,N184))))","v":382.80478666430895},398.49978291754559,409.95528984761916,421.74010345400808,433.86369017828736,446.33578858987681,null,null,null,8446.2953023912469,8792.5934097892878,9045.3504226080404,9305.3733357762776,9572.8710190986385,9848.0583466728549,null,null,null,null,{"$f":"_xlfn.XLOOKUP($H184,'I_Asset number input'!$B$5:$B$239,'I_Asset number input'!J$5:J$239)","v":11},{"$f":"_xlfn.XLOOKUP($H184,'I_Asset number input'!$B$5:$B$239,'I_Asset number input'!K$5:K$239)","v":11},{"$f":"_xlfn.XLOOKUP($H184,'I_Asset number input'!$B$5:$B$239,'I_Asset number input'!L$5:L$239)","v":11},{"$f":"_xlfn.XLOOKUP($H184,'I_Asset number input'!$B$5:$B$239,'I_Asset number input'!M$5:M$239)","v":11},{"$f":"_xlfn.XLOOKUP($H184,'I_Asset number input'!$B$5:$B$239,'I_Asset number input'!N$5:N$239)","v":11},{"$f":"_xlfn.XLOOKUP($H184,'I_Asset number input'!$B$5:$B$239,'I_Asset number input'!O$5:O$239)","v":11},null,null,null,4210.8526533073982,4383.4976120930014,4509.5081883238108,4639.1411379940891,4772.5005919611613,4909.6936744886452]
[null,"ORION DOUBLE ARM","Minor (Cat P)",null,null,"Support","Support","ORION DOUBLE ARM",null,{"$f":"IF(ISBLANK(F185),0,\nIF(OR(F185=\"Luminaire\",F185=\"Smart Controller\",F185=\"NW\"),OFFSET(I_CAPEX!$AC$48,(MATCH('C_CAPEX Build Up'!H185,I_CAPEX!V$49:V$437,0)),0),\nIF('C_CAPEX Build Up'!F185=\"Bracket\",OFFSET(I_CAPEX!S$48,MATCH('C_CAPEX Build Up'!H185,I_CAPEX!L$49:L$130,0),0),\nOFFSET(I_CAPEX!I$48,MATCH('C_CAPEX Build Up'!H185,I_CAPEX!B$49:B$102,0),0))))","v":7314.3136971781978},null,0,{"$f":"SUM(J185,L185)*I_CAPEX!$D$13","v":438.85882183069185},7753.17251900889,null,null,null,{"$f":"IF(OR(G185=\"LED\",G185=\"Smart Controller\"),-PMT(return_on_assests_pct,LED_lantern_lifespan,N185)*(1+'I_Global Inputs'!$G$54),IF(G185=\"LED20\",-PMT(return_on_assests_pct,LED_life_span_20yrs,N185),\nIF(G185=\"Traditional\",-PMT(return_on_assests_pct,trad_lantern_lifespan,N185),\n-PMT(return_on_assests_pct,pole_lifespan,N185))))","v":351.3909289047138},365.79795698980706,376.31339817932093,387.13112236767944,398.25981915808075,409.70842795011924,null,null,null,7753.17251900889,8071.0525922882543,8303.0677723895624,8541.7525960326402,8787.2987926765472,9039.9036033470766,null,null,null,null,{"$f":"_xlfn.XLOOKUP($H185,'I_Asset number input'!$B$5:$B$239,'I_Asset number input'!J$5:J$239)","v":11},{"$f":"_xlfn.XLOOKUP($H185,'I_Asset number input'!$B$5:$B$239,'I_Asset number input'!K$5:K$239)","v":11},{"$f":"_xlfn.XLOOKUP($H185,'I_Asset number input'!$B$5:$B$239,'I_Asset number input'!L$5:L$239)","v":11},{"$f":"_xlfn.XLOOKUP($H185,'I_Asset number input'!$B$5:$B$239,'I_Asset number input'!M$5:M$239)","v":11},{"$f":"_xlfn.XLOOKUP($H185,'I_Asset number input'!$B$5:$B$239,'I_Asset number input'!N$5:N$239)","v":11},{"$f":"_xlfn.XLOOKUP($H185,'I_Asset number input'!$B$5:$B$239,'I_Asset number input'!O$5:O$239)","v":11},null,null,null,3865.3002179518517,4023.7775268878777,4139.4473799725301,4258.4423460444741,4380.858010738888,4506.7927074513118]
[null,"POLO 10.5M DECORATIVE 2M","Minor (Cat P)",null,null,"Support","Support","POLO 10.5M DECORATIVE 2M",null,{"$f":"IF(ISBLANK(F186),0,\nIF(OR(F186=\"Luminaire\",F186=\"Smart Controller\",F186=\"NW\"),OFFSET(I_CAPEX!$AC$48,(MATCH('C_CAPEX Build Up'!H186,I_CAPEX!V$49:V$437,0)),0),\nIF('C_CAPEX Build Up'!F186=\"Bracket\",OFFSET(I_CAPEX!S$48,MATCH('C_CAPEX Build Up'!H186,I_CAPEX!L$49:L$130,0),0),\nOFFSET(I_CAPEX!I$48,MATCH('C_CAPEX Build Up'!H186,I_CAPEX!B$49:B$102,0),0))))","v":7773.1813837942227},null,0,{"$f":"SUM(J186,L186)*I_CAPEX!$D$13","v":466.39088302765333},8239.5722668218768,null,null,null,{"$f":"IF(OR(G186=\"LED\",G186=\"Smart Controller\"),-PMT(return_on_assests_pct,LED_lantern_lifespan,N186)*(1+'I_Global Inputs'!$G$54),IF(G186=\"LED20\",-PMT(return_on_assests_pct,LED_life_span_20yrs,N186),\nIF(G186=\"Traditional\",-PMT(return_on_assests_pct,trad_lantern_lifespan,N186),\n-PMT(return_on_assests_pct,pole_lifespan,N186))))","v":373.43564141226841},388.7465027101714,399.9216361650362,411.41801651694936,423.24487851637537,435.41172238129587,null,null,null,8239.5722668218768,8577.3947297615723,8823.9655159471477,9077.624369607247,9338.5750484590772,9607.027167557897,null,null,null,null,{"$f":"_xlfn.XLOOKUP($H186,'I_Asset number input'!$B$5:$B$239,'I_Asset number input'!J$5:J$239)","v":1},{"$f":"_xlfn.XLOOKUP($H186,'I_Asset number input'!$B$5:$B$239,'I_Asset number input'!K$5:K$239)","v":1},{"$f":"_xlfn.XLOOKUP($H186,'I_Asset number input'!$B$5:$B$239,'I_Asset number input'!L$5:L$239)","v":1},{"$f":"_xlfn.XLOOKUP($H186,'I_Asset number input'!$B$5:$B$239,'I_Asset number input'!M$5:M$239)","v":1},{"$f":"_xlfn.XLOOKUP($H186,'I_Asset number input'!$B$5:$B$239,'I_Asset number input'!N$5:N$239)","v":1},{"$f":"_xlfn.XLOOKUP($H186,'I_Asset number input'!$B$5:$B$239,'I_Asset number input'!O$5:O$239)","v":1},null,null,null,373.43564141226841,388.7465027101714,399.9216361650362,411.41801651694936,423.24487851637537,435.41172238129587]
[null,"ROCKS STANDARD","Minor (Cat P)",null,null,"Support","Support","ROCKS STANDARD",null,{"$f":"IF(ISBLANK(F187),0,\nIF(OR(F187=\"Luminaire\",F187=\"Smart Controller\",F187=\"NW\"),OFFSET(I_CAPEX!$AC$48,(MATCH('C_CAPEX Build Up'!H187,I_CAPEX!V$49:V$437,0)),0),\nIF('C_CAPEX Build Up'!F187=\"Bracket\",OFFSET(I_CAPEX!S$48,MATCH('C_CAPEX Build Up'!H187,I_CAPEX!L$49:L$130,0),0),\nOFFSET(I_CAPEX!I$48,MATCH('C_CAPEX Build Up'!H187,I_CAPEX!B$49:B$102,0),0))))","v":7807.6659697251916},null,0,{"$f":"SUM(J187,L187)*I_CAPEX!$D$13","v":468.4599581835115},8276.1259279087026,null,null,null,{"$f":"IF(OR(G187=\"LED\",G187=\"Smart Controller\"),-PMT(return_on_assests_pct,LED_lantern_lifespan,N187)*(1+'I_Global Inputs'!$G$54),IF(G187=\"LED20\",-PMT(return_on_assests_pct,LED_life_span_20yrs,N187),\nIF(G187=\"Traditional\",-PMT(return_on_assests_pct,trad_lantern_lifespan,N187),\n-PMT(return_on_assests_pct,pole_lifespan,N187))))","v":375.09233419095688},390.47111989278608,401.69583019796318,413.24321256521171,425.12254271362025,437.34336300750243,null,null,null,8276.1259279087026,8615.4470909529591,8863.1117524830624,9117.8959266656475,9380.0042751593282,9649.6473429459948,null,null,null,null,{"$f":"_xlfn.XLOOKUP($H187,'I_Asset number input'!$B$5:$B$239,'I_Asset number input'!J$5:J$239)","v":36.5},{"$f":"_xlfn.XLOOKUP($H187,'I_Asset number input'!$B$5:$B$239,'I_Asset number input'!K$5:K$239)","v":37.5},{"$f":"_xlfn.XLOOKUP($H187,'I_Asset number input'!$B$5:$B$239,'I_Asset number input'!L$5:L$239)","v":38.5},{"$f":"_xlfn.XLOOKUP($H187,'I_Asset number input'!$B$5:$B$239,'I_Asset number input'!M$5:M$239)","v":39.5},{"$f":"_xlfn.XLOOKUP($H187,'I_Asset number input'!$B$5:$B$239,'I_Asset number input'!N$5:N$239)","v":40.5},{"$f":"_xlfn.XLOOKUP($H187,'I_Asset number input'!$B$5:$B$239,'I_Asset number input'!O$5:O$239)","v":41.5},null,null,null,13690.870197969925,14642.666995979478,15465.289462621582,16323.106896325862,17217.462979901618,18149.749564811351]
[null,null,null,null,null,null,null,null,null,{"$f":"IF(ISBLANK(F188),0,\nIF(OR(F188=\"Luminaire\",F188=\"Smart Controller\",F188=\"NW\"),OFFSET(I_CAPEX!$AC$48,(MATCH('C_CAPEX Build Up'!H188,I_CAPEX!V$49:V$437,0)),0),\nIF('C_CAPEX Build Up'!F188=\"Bracket\",OFFSET(I_CAPEX!S$48,MATCH('C_CAPEX Build Up'!H188,I_CAPEX!L$49:L$130,0),0),\nOFFSET(I_CAPEX!I$48,MATCH('C_CAPEX Build Up'!H188,I_CAPEX!B$49:B$102,0),0))))","v":0},null,0,{"$f":"SUM(J188,L188)*I_CAPEX!$D$13","v":0},0,null,null,null,{"$f":"IF(OR(G188=\"LED\",G188=\"Smart Controller\"),-PMT(return_on_assests_pct,LED_lantern_lifespan,N188)*(1+'I_Global Inputs'!$G$54),IF(G188=\"LED20\",-PMT(return_on_assests_pct,LED_life_span_20yrs,N188)*(1+'I_Global Inputs'!$G$54),\nIF(G188=\"Traditional\",-PMT(return_on_assests_pct,trad_lantern_lifespan,N188),\n-PMT(return_on_assests_pct,pole_lifespan,N188))))","v":0},0,0,0,0,0,null,null,null,0,0,0,0,0,0,null,null,null,null,{"$f":"_xlfn.XLOOKUP($H188,'I_Asset number input'!$B$5:$B$239,'I_Asset number input'!J$5:J$239)","v":0},{"$f":"_xlfn.XLOOKUP($H188,'I_Asset number input'!$B$5:$B$239,'I_Asset number input'!K$5:K$239)","v":0},{"$f":"_xlfn.XLOOKUP($H188,'I_Asset number input'!$B$5:$B$239,'I_Asset number input'!L$5:L$239)","v":0},{"$f":"_xlfn.XLOOKUP($H188,'I_Asset number input'!$B$5:$B$239,'I_Asset number input'!M$5:M$239)","v":0},{"$f":"_xlfn.XLOOKUP($H188,'I_Asset number input'!$B$5:$B$239,'I_Asset number input'!N$5:N$239)","v":0},{"$f":"_xlfn.XLOOKUP($H188,'I_Asset number input'!$B$5:$B$239,'I_Asset number input'!O$5:O$239)","v":0},null,null,null,0,0,0,0,0,0]
[null,null,null,null,null,null,null,null,null,{"$f":"IF(ISBLANK(F189),0,\nIF(OR(F189=\"Luminaire\",F189=\"Smart Controller\",F189=\"NW\"),OFFSET(I_CAPEX!$AC$48,(MATCH('C_CAPEX Build Up'!H189,I_CAPEX!V$49:V$437,0)),0),\nIF('C_CAPEX Build Up'!F189=\"Bracket\",OFFSET(I_CAPEX!S$48,MATCH('C_CAPEX Build Up'!H189,I_CAPEX!L$49:L$130,0),0),\nOFFSET(I_CAPEX!I$48,MATCH('C_CAPEX Build Up'!H189,I_CAPEX!B$49:B$102,0),0))))","v":0},null,0,{"$f":"SUM(J189,L189)*I_CAPEX!$D$13","v":0},0,null,null,null,{"$f":"IF(OR(G189=\"LED\",G189=\"Smart Controller\"),-PMT(return_on_assests_pct,LED_lantern_lifespan,N189)*(1+'I_Global Inputs'!$G$54),IF(G189=\"LED20\",-PMT(return_on_assests_pct,LED_life_span_20yrs,N189)*(1+'I_Global Inputs'!$G$54),\nIF(G189=\"Traditional\",-PMT(return_on_assests_pct,trad_lantern_lifespan,N189),\n-PMT(return_on_assests_pct,pole_lifespan,N189))))","v":0},0,0,0,0,0,null,null,null,0,0,0,0,0,0,null,null,null,null,{"$f":"_xlfn.XLOOKUP($H189,'I_Asset number input'!$B$5:$B$239,'I_Asset number input'!J$5:J$239)","v":0},{"$f":"_xlfn.XLOOKUP($H189,'I_Asset number input'!$B$5:$B$239,'I_Asset number input'!K$5:K$239)","v":0},{"$f":"_xlfn.XLOOKUP($H189,'I_Asset number input'!$B$5:$B$239,'I_Asset number input'!L$5:L$239)","v":0},{"$f":"_xlfn.XLOOKUP($H189,'I_Asset number input'!$B$5:$B$239,'I_Asset number input'!M$5:M$239)","v":0},{"$f":"_xlfn.XLOOKUP($H189,'I_Asset number input'!$B$5:$B$239,'I_Asset number input'!N$5:N$239)","v":0},{"$f":"_xlfn.XLOOKUP($H189,'I_Asset number input'!$B$5:$B$239,'I_Asset number input'!O$5:O$239)","v":0},null,null,null,0,0,0,0,0,0]
[null,null,null,null,null,null,null,null,null,null,null,null,null,null,null,null,null,null,null,null,null,null,null,null,null,null,null,null,null,null,null,null,null,null,null,null,null,null,null,null,null,null,"Total Cost Recovery",{"$f":"SUM(AR15:AR189)","v":0},{"$f":"SUM(AS15:AS189)","v":0},{"$f":"SUM(AT15:AT189)","v":13238467.26248149},{"$f":"SUM(AU15:AU189)","v":15494255.363614719},{"$f":"SUM(AV15:AV189)","v":17502597.546177831},18767864.65030973,19384741.09097584,19928230.138762567]

{"sheet":"C_OPEX Calc","index":18,"n_rows":146,"n_cols":34,"rows_kept":146,"cut":false,"hidden":false,"merged":[[7,25,7,30],[7,16,7,23],[7,7,7,14],[5,3,5,5],[67,7,67,14],[67,16,67,23],[67,25,67,30],[6,3,6,5]]}
[null,"Maintenance Charge Build Up"]
[]
[null,"Description"]
[null,"This sheet models the FY24 maintenance costs for both spot and bulk replacement for each lamp type."]
[]
[null,"Corporate, Divisional & Non-Network Overheads",null,{"$f":"'I_Global Inputs'!G45+'I_Global Inputs'!G50","v":0.13800000000000001}]
[null,"Corporate, Divisional & Non-Network Overheads - with priority faults (apply to major roads)",null,{"$f":"+'I_Global Inputs'!G45+'I_Global Inputs'!G46","v":0.13800000000000001},null,{"$f":"+'I_Global Inputs'!G45++'I_Global Inputs'!G46","v":0.13800000000000001}]
[null,null,null,null,null,null,null,"Lookup From Inputs",null,null,null,null,null,null,null,null,"MAINT SPOT COST PER YEAR PER STREET LIGHT",null,null,null,null,null,null,null,null,"Bulk Cost",null,null,null,null,null,null,"FY24 Annual Charge","FY24 Annual Charge"]
[null,"Type","Description","Category","Intentially Blank","Mapping Code",null,"Lamp on-costed","Starter / PE Cell on-costed","Ballast / Igniter on-costed","Bulb Failure Rate","PE Cell Failure Rate","Ballast / Ignitor Failure Rate","Luminaire Failure Rate","Bulk % (expressed as a pecentage chance of failure for year)",null,"Pole Maintenance Cost","Labour & Plant","Lamp","PE Cell Cost","Ballast/Ignitor","Standard Luminaire Charge For Additional Components & Labour","Traffic Control\n\n(Taking into account category)","Total",null,"Contract Rate (Bulk)","Standard Materials (Lamp etc)","Additional Bulk Works Materials","Streetlight patrols","Improvement Works","Total",null,"Total maintenace (Excluding Corporate & Operational OVH)","Total maintenace Including Corporate & Operational OVH"]
[null,null,null,null,null,null,null,null,null,null,null,null,null,null,null,null,null,null,null,null,null,null,null,{"$f":"SUM(Q10:W10)","v":0},null,null,null,null,null,null,{"$f":"SUM(Z10:AD10)","v":0},null,{"$f":"SUM(X10,AE10)","v":0},{"$f":"$AG10*(1+$D$6)","v":0}]
[null,null,null,null,null,null,null,null,null,null,null,null,null,null,null,null,null,null,null,null,null,null,null,0,null,null,null,null,null,null,{"$f":"SUM(Z11:AD11)","v":0},null,{"$f":"SUM(X11,AE11)","v":0},{"$f":"$AG11*(1+$D$6)","v":0}]
[null,null,null,null,null,null,null,null,null,null,null,null,null,null,null,null,null,null,null,null,null,null,null,0,null,null,null,null,null,null,0,null,0,0]
[null,null,null,null,null,null,null,null,null,null,null,null,null,null,null,null,null,null,null,null,null,null,null,0,null,null,null,null,null,null,0,null,0,0]
[null,null,null,null,null,null,null,null,null,null,null,null,null,null,null,null,null,null,null,null,null,null,null,0,null,null,null,null,null,null,0,null,0,0]
[null,null,null,null,null,null,null,null,null,null,null,null,null,null,null,null,null,null,null,null,null,null,null,0,null,null,null,null,null,null,0,null,0,0]
[null,null,null,null,null,null,null,null,null,null,null,null,null,null,null,null,null,null,null,null,null,null,null,0,null,null,null,null,null,null,0,null,0,0]
[null,null,null,null,null,null,null,null,null,null,null,null,null,null,null,null,null,null,null,null,null,null,null,0,null,null,null,null,null,null,0,null,0,0]
[null,null,null,null,null,null,null,null,null,null,null,null,null,null,null,null,null,null,null,null,null,null,null,0,null,null,null,null,null,null,0,null,0,0]
[null,null,null,null,null,null,null,null,null,null,null,null,null,null,null,null,null,null,null,null,null,null,null,0,null,null,null,null,null,null,0,null,0,0]
[null,null,null,null,null,null,null,null,null,null,null,null,null,null,null,null,null,null,null,null,null,null,null,0,null,null,null,null,null,null,0,null,0,0]
[null,null,null,null,null,null,null,null,null,null,null,null,null,null,null,null,null,null,null,null,null,null,null,0,null,null,null,null,null,null,0,null,0,0]
[null,null,null,null,null,null,null,null,null,null,null,null,null,null,null,null,null,null,null,null,null,null,null,0,null,null,null,null,null,null,0,null,0,0]
[null,null,null,null,null,null,null,null,null,null,null,null,null,null,null,null,null,null,null,null,null,null,null,0,null,null,null,null,null,null,0,null,0,0]
[null,null,null,null,null,null,null,null,null,null,null,null,null,null,null,null,null,null,null,null,null,null,null,0,null,null,null,null,null,null,{"$f":"SUM(Z24:AD24)","v":0},null,0,0]
[null,null,null,null,null,null,null,null,null,null,null,null,null,null,null,null,null,null,null,null,null,null,null,0,null,null,null,null,null,null,0,null,0,0]
[null,null,null,null,null,null,null,null,null,null,null,null,null,null,null,null,null,null,null,null,null,null,null,0,null,null,null,null,null,null,0,null,0,0]
[null,null,null,null,null,null,null,null,null,null,null,null,null,null,null,null,null,null,null,null,null,null,null,0,null,null,null,null,null,null,0,null,0,0]
[null,null,null,null,null,null,null,null,null,null,null,null,null,null,null,null,null,null,null,null,null,null,null,0,null,null,null,null,null,null,0,null,0,0]
[null,null,null,null,null,null,null,null,null,null,null,null,null,null,null,null,null,null,null,null,null,null,null,0,null,null,null,null,null,null,0,null,0,0]
[null,null,null,null,null,null,null,null,null,null,null,null,null,null,null,null,null,null,null,null,null,null,null,0,null,null,null,null,null,null,0,null,0,0]
[null,null,null,null,null,null,null,null,null,null,null,null,null,null,null,null,null,null,null,null,null,null,null,0,null,null,null,null,null,null,0,null,0,0]
[null,null,null,null,null,null,null,null,null,null,null,null,null,null,null,null,null,null,null,null,null,null,null,0,null,null,null,null,null,null,0,null,0,0]
[null,null,null,null,null,null,null,null,null,null,null,null,null,null,null,null,null,null,null,null,null,null,null,0,null,null,null,null,null,null,0,null,0,0]
[null,null,null,null,null,null,null,null,null,null,null,null,null,null,null,null,null,null,null,null,null,null,null,{"$f":"SUM(Q34:W34)","v":0},null,null,null,null,null,null,{"$f":"SUM(Z34:AD34)","v":0},null,0,0]
[null,null,null,null,null,null,null,null,null,null,null,null,null,null,null,null,null,null,null,null,null,null,null,0,null,null,null,null,null,null,0,null,0,0]
[null,null,null,null,null,null,null,null,null,null,null,null,null,null,null,null,null,null,null,null,null,null,null,0,null,null,null,null,null,null,0,null,0,0]
[null,null,null,null,null,null,null,null,null,null,null,null,null,null,null,null,null,null,null,null,null,null,null,0,null,null,null,null,null,null,0,null,0,0]
[null,null,null,null,null,null,null,null,null,null,null,null,null,null,null,null,null,null,null,null,null,null,null,0,null,null,null,null,null,null,0,null,0,0]
[null,null,null,null,null,null,null,null,null,null,null,null,null,null,null,null,null,null,null,null,null,null,null,0,null,null,null,null,null,null,0,null,0,0]
[null,null,null,null,null,null,null,null,null,null,null,null,null,null,null,null,null,null,null,null,null,null,null,0,null,null,null,null,null,null,0,null,0,0]
[null,null,null,null,null,null,null,null,null,null,null,null,null,null,null,null,null,null,null,null,null,null,null,0,null,null,null,null,null,null,0,null,0,0]
[null,null,null,null,null,null,null,null,null,null,null,null,null,null,null,null,null,null,null,null,null,null,null,0,null,null,null,null,null,null,0,null,0,0]
[null,null,null,null,null,null,null,null,null,null,null,null,null,null,null,null,null,null,null,null,null,null,null,0,null,null,null,null,null,null,0,null,0,0]
[null,null,null,null,null,null,null,null,null,null,null,null,null,null,null,null,null,null,null,null,null,null,null,0,null,null,null,null,null,null,0,null,0,0]
[null,null,null,null,null,null,null,null,null,null,null,null,null,null,null,null,null,null,null,null,null,null,null,{"$f":"SUM(Q45:W45)","v":0},null,null,null,null,null,null,0,null,0,0]
[null,null,null,null,null,null,null,null,null,null,null,null,null,null,null,null,null,null,null,null,null,null,null,0,null,null,null,null,null,null,0,null,0,0]
[null,null,null,null,null,null,null,null,null,null,null,null,null,null,null,null,null,null,null,null,null,null,null,0,null,null,null,null,null,null,0,null,0,0]
[null,null,null,null,null,null,null,null,null,null,null,null,null,null,null,null,null,null,null,null,null,null,null,0,null,null,null,null,null,null,0,null,0,0]
[null,null,null,null,null,null,null,null,null,null,null,null,null,null,null,null,null,null,null,null,null,null,null,0,null,null,null,null,null,null,0,null,0,0]
[null,null,null,null,null,null,null,null,null,null,null,null,null,null,null,null,null,null,null,null,null,null,null,0,null,null,null,null,null,null,0,null,0,0]
[null,null,null,null,null,null,null,null,null,null,null,null,null,null,null,null,null,null,null,null,null,null,null,0,null,null,null,null,null,null,0,null,0,0]
[null,null,null,null,null,null,null,null,null,null,null,null,null,null,null,null,null,null,null,null,null,null,null,0,null,null,null,null,null,null,0,null,0,0]
[null,null,null,null,null,null,null,null,null,null,null,null,null,null,null,null,null,null,null,null,null,null,null,0,null,null,null,null,null,null,0,null,0,0]
[null,null,null,null,null,null,null,null,null,null,null,null,null,null,null,null,null,null,null,null,null,null,null,0,null,null,null,null,null,null,0,null,0,0]
[null,null,null,null,null,null,null,null,null,null,null,null,null,null,null,null,null,null,null,null,null,null,null,0,null,null,null,null,null,null,0,null,0,0]
[null,null,null,null,null,null,null,null,null,null,null,null,null,null,null,null,null,null,null,null,null,null,null,0,null,null,null,null,null,null,0,null,0,0]
[null,null,null,null,null,null,null,null,null,null,null,null,null,null,null,null,null,null,null,null,null,null,null,0,null,null,null,null,null,null,0,null,0,0]
[null,null,null,null,null,null,null,null,null,null,null,null,null,null,null,null,null,null,null,null,null,null,null,0,null,null,null,null,null,null,0,null,0,0]
[null,null,null,null,null,null,null,null,null,null,null,null,null,null,null,null,null,null,null,null,null,null,null,0,null,null,null,null,null,null,0,null,0,0]
[null,null,null,null,null,null,null,null,null,null,null,null,null,null,null,null,null,null,null,null,null,null,null,0,null,null,null,null,null,null,0,null,0,0]
[null,null,null,null,null,null,null,null,null,null,null,null,null,null,null,null,null,null,null,null,null,null,null,0,null,null,null,null,null,null,0,null,0,0]
[null,null,null,null,null,null,null,null,null,null,null,null,null,null,null,null,null,null,null,null,null,null,null,0,null,null,null,null,null,null,0,null,0,0]
[null,null,null,null,null,null,null,null,null,null,null,null,null,null,null,null,null,null,null,null,null,null,null,0,null,null,null,null,null,null,0,null,0,0]
[null,null,null,null,null,null,null,null,null,null,null,null,null,null,null,null,null,null,null,null,null,null,null,0,null,null,null,null,null,null,{"$f":"SUM(Z64:AD64)","v":0},null,0,0]
[null,null,null,null,null,null,null,null,null,null,null,null,null,null,null,null,null,null,null,null,null,null,null,0,null,null,null,null,null,null,0,null,0,0]
[null,null,null,null,null,null,null,null,null,null,null,null,null,null,null,null,null,null,null,null,null,null,null,{"$f":"SUM(Q66:W66)","v":0},null,null,null,null,null,null,{"$f":"SUM(Z66:AD66)","v":0},null,{"$f":"SUM(X66,AE66)","v":0},0]
[]
[null,"Connection and Maintenance Charges",null,null,null,null,null,"Lookup From Inputs",null,null,null,null,null,null,null,null,"MAINT SPOT COST PER YEAR PER STREET LIGHT",null,null,null,null,null,null,null,null,"Bulk Cost",null,null,null,null,null,null,{"$f":"AG8","v":"FY24 Annual Charge"},{"$f":"AH8","v":"FY24 Annual Charge"}]
[null,"Type","Description","Category","Intentially Blank","Mapping Code",null,"Bulk Luminaire Cost",{"$f":"I9","v":"Starter / PE Cell on-costed"},"Ballast / Igniter on-costed","Bulb Failure Rate","PE Cell Failure Rate","Miscellaneous Failure Rate","Luminaire Failure Rate","Bulk % (expressed as a pecentage chance of failure for year)",null,"Connection Cost","Labour & Plant","Lamp","PE Cell Cost","Miscellaneous","Standard Luminaire Charge For Additional Components & Labour","Traffic Control\n\n(Taking into account category)","Total",null,"Contract Rate (Bulk)","Standard Materials (Lamp etc)","Additional Bulk Works Materials","Streetlight patrols","Improvement Works","Total",null,{"$f":"AG9","v":"Total maintenace (Excluding Corporate & Operational OVH)"},{"$f":"AH9","v":"Total maintenace Including Corporate & Operational OVH"}]
[null,null,{"$f":"VLOOKUP(F70, 'I_OPEX Input'!$B$98:$C$188, 2, FALSE)","v":"O/U"},{"$f":"INDEX('I_Mapping & Lookups'!$Z:$Z,MATCH('C_OPEX Calc'!F70,'I_Mapping & Lookups'!$X:$X,0))","v":"N/A"},null,"O/U",null,null,null,null,null,null,null,null,null,null,86.339740499060852,null,null,null,null,null,null,{"$f":"SUM(Q70:W70)","v":86.339740499060852},null,null,null,null,null,null,{"$f":"SUM(Z70:AD70)","v":0},null,86.339740499060852,{"$f":"IF(D70=\"Major (Cat V)\",$AG70*(1+$D$7),$AG70*(1+$D$6))","v":98.254624687931241}]
[null,null,{"$f":"VLOOKUP(F71, 'I_OPEX Input'!$B$98:$C$188, 2, FALSE)","v":"UGR1"},{"$f":"INDEX('I_Mapping & Lookups'!$Z:$Z,MATCH('C_OPEX Calc'!F71,'I_Mapping & Lookups'!$X:$X,0))","v":"N/A"},null,"UGR1",null,null,null,null,null,null,null,null,null,null,79.142761351642491,null,null,null,null,null,null,{"$f":"SUM(Q71:W71)","v":79.142761351642491},null,null,null,null,null,null,{"$f":"SUM(Z71:AD71)","v":0},null,79.142761351642491,{"$f":"IF(D71=\"Major (Cat V)\",$AG71*(1+$D$7),$AG71*(1+$D$6))","v":90.064462418169143}]
[null,null,{"$f":"VLOOKUP(F72, 'I_OPEX Input'!$B$98:$C$188, 2, FALSE)","v":"UGR2"},{"$f":"INDEX('I_Mapping & Lookups'!$Z:$Z,MATCH('C_OPEX Calc'!F72,'I_Mapping & Lookups'!$X:$X,0))","v":"N/A"},null,"UGR2",null,null,null,null,null,null,null,null,null,null,28.77563164372426,null,null,null,null,null,null,28.77563164372426,null,null,null,null,null,null,0,null,28.77563164372426,32.746668810558205]
[null,null,{"$f":"VLOOKUP(F73, 'I_OPEX Input'!$B$98:$C$188, 2, FALSE)","v":"MBF1x1000"},{"$f":"INDEX('I_Mapping & Lookups'!$Z:$Z,MATCH('C_OPEX Calc'!F73,'I_Mapping & Lookups'!$X:$X,0))","v":"Major (Cat V)"},null,"MBF1x1000",null,0,null,null,null,1.9828577401484269E-2,3.2561912355422808E-2,0.08,{"$f":"1/'I_OPEX Input'!L101","v":0.16666666666666666},null,null,{"$f":"'I_OPEX Input'!$C$38*'I_OPEX Input'!$C$24*'I_OPEX Input'!K101+'I_OPEX Input'!$C$38*'I_OPEX Input'!$C$24*'I_OPEX Input'!N101+'I_OPEX Input'!$C$38*'I_OPEX Input'!$C$24*'I_OPEX Input'!M101+('I_Global Inputs'!$G$16*('I_OPEX Input'!$C$24*'I_OPEX Input'!K101+'I_OPEX Input'!$C$24*'I_OPEX Input'!N101+'I_OPEX Input'!$C$24*'I_OPEX Input'!M101))","v":28.219316367445174},{"$f":"'I_OPEX Input'!D101*'I_OPEX Input'!K101","v":2.6484264141302409},{"$f":"'I_OPEX Input'!H101*'I_OPEX Input'!N101","v":0.25869155221072437},{"$f":"'I_OPEX Input'!F101*'I_OPEX Input'!M101","v":1.1632800644338439},null,{"$f":"IF(D73<>\"Major (Cat V)\",0,(I_CAPEX!$J$41*I_CAPEX!$J$42*(I_CAPEX!$J$40=0)*'I_OPEX Input'!$C$49)*'I_OPEX Input'!K101+(I_CAPEX!$J$41*I_CAPEX!$J$42*'I_OPEX Input'!$N101*'I_OPEX Input'!$C$49)+(I_CAPEX!$J$41*I_CAPEX!$J$42*'I_OPEX Input'!$M101*'I_OPEX Input'!$C$49))","v":10.281355754086245},42.571070152306234,null,{"$f":"'I_OPEX Input'!Q101*O73+'I_OPEX Input'!R101*O73","v":8.4600000000000009},null,null,{"$f":"IF(D73=\"Major (Cat V)\",'I_OPEX Input'!$F$24/'I_OPEX Input'!$F$25,0)","v":1.8443395904436859},null,10.304339590443687,null,{"$f":"SUM(X73,AE73)","v":52.875409742749923},60.172216287249405]
[null,null,{"$f":"VLOOKUP(F74, 'I_OPEX Input'!$B$98:$C$188, 2, FALSE)","v":"MBF1x125"},{"$f":"INDEX('I_Mapping & Lookups'!$Z:$Z,MATCH('C_OPEX Calc'!F74,'I_Mapping & Lookups'!$X:$X,0))","v":"Minor (Cat P)"},null,"MBF1x125",null,0,null,null,null,1.9828577401484269E-2,3.2561912355422808E-2,5.0099999999999999E-2,{"$f":"1/'I_OPEX Input'!L102","v":0.16666666666666666},null,null,{"$f":"'I_OPEX Input'!$C$38*'I_OPEX Input'!$C$24*'I_OPEX Input'!K102+'I_OPEX Input'!$C$38*'I_OPEX Input'!$C$24*'I_OPEX Input'!N102+'I_OPEX Input'!$C$38*'I_OPEX Input'!$C$24*'I_OPEX Input'!M102+('I_Global Inputs'!$G$16*('I_OPEX Input'!$C$24*'I_OPEX Input'!K102+'I_OPEX Input'!$C$24*'I_OPEX Input'!N102+'I_OPEX Input'!$C$24*'I_OPEX Input'!M102))","v":21.846067345284272},{"$f":"'I_OPEX Input'!D102*'I_OPEX Input'!K102","v":0.30427132782123095},{"$f":"'I_OPEX Input'!H102*'I_OPEX Input'!N102","v":0.25869155221072437},{"$f":"'I_OPEX Input'!F102*'I_OPEX Input'!M102","v":1.1632800644338439},null,{"$f":"IF(D74<>\"Major (Cat V)\",0,(I_CAPEX!$J$41*I_CAPEX!$J$42*(I_CAPEX!$J$40=0)*'I_OPEX Input'!$C$49)*'I_OPEX Input'!K102+(I_CAPEX!$J$41*I_CAPEX!$J$42*'I_OPEX Input'!$N102*'I_OPEX Input'!$C$49)+(I_CAPEX!$J$41*I_CAPEX!$J$42*'I_OPEX Input'!$M102*'I_OPEX Input'!$C$49))","v":0},23.572310289750071,null,{"$f":"'I_OPEX Input'!Q102*O74+'I_OPEX Input'!R102*O74","v":7.2},null,null,{"$f":"IF(D74=\"Major (Cat V)\",'I_OPEX Input'!$F$24/'I_OPEX Input'!$F$25,0)","v":0},null,7.2,null,30.77231028975007,35.018889109735575]
[null,null,{"$f":"VLOOKUP(F75, 'I_OPEX Input'!$B$98:$C$188, 2, FALSE)","v":"MBF1x250"},{"$f":"INDEX('I_Mapping & Lookups'!$Z:$Z,MATCH('C_OPEX Calc'!F75,'I_Mapping & Lookups'!$X:$X,0))","v":"Major (Cat V)"},null,"MBF1x250",null,0,null,null,null,1.9828577401484269E-2,3.2561912355422808E-2,5.0099999999999999E-2,{"$f":"1/'I_OPEX Input'!L103","v":0.16666666666666666},null,null,{"$f":"'I_OPEX Input'!$C$38*'I_OPEX Input'!$C$24*'I_OPEX Input'!K103+'I_OPEX Input'!$C$38*'I_OPEX Input'!$C$24*'I_OPEX Input'!N103+'I_OPEX Input'!$C$38*'I_OPEX Input'!$C$24*'I_OPEX Input'!M103+('I_Global Inputs'!$G$16*('I_OPEX Input'!$C$24*'I_OPEX Input'!K103+'I_OPEX Input'!$C$24*'I_OPEX Input'!N103+'I_OPEX Input'!$C$24*'I_OPEX Input'!M103))","v":21.846067345284272},{"$f":"'I_OPEX Input'!D103*'I_OPEX Input'!K103","v":0.32813574568956283},{"$f":"'I_OPEX Input'!H103*'I_OPEX Input'!N103","v":0.25869155221072437},{"$f":"'I_OPEX Input'!F103*'I_OPEX Input'!M103","v":1.1632800644338439},null,{"$f":"IF(D75<>\"Major (Cat V)\",0,(I_CAPEX!$J$41*I_CAPEX!$J$42*(I_CAPEX!$J$40=0)*'I_OPEX Input'!$C$49)*'I_OPEX Input'!K103+(I_CAPEX!$J$41*I_CAPEX!$J$42*'I_OPEX Input'!$N103*'I_OPEX Input'!$C$49)+(I_CAPEX!$J$41*I_CAPEX!$J$42*'I_OPEX Input'!$M103*'I_OPEX Input'!$C$49))","v":7.9593420081469111},31.555516715765314,null,{"$f":"'I_OPEX Input'!Q103*O75+'I_OPEX Input'!R103*O75","v":8.4600000000000009},null,null,{"$f":"IF(D75=\"Major (Cat V)\",'I_OPEX Input'!$F$24/'I_OPEX Input'!$F$25,0)","v":1.8443395904436859},null,10.304339590443687,null,{"$f":"SUM(X75,AE75)","v":41.859856306209004},47.636516476465843]
[null,null,{"$f":"VLOOKUP(F76, 'I_OPEX Input'!$B$98:$C$188, 2, FALSE)","v":"MBF1x400"},{"$f":"INDEX('I_Mapping & Lookups'!$Z:$Z,MATCH('C_OPEX Calc'!F76,'I_Mapping & Lookups'!$X:$X,0))","v":"Major (Cat V)"},null,"MBF1x400",null,0,null,null,null,1.9828577401484269E-2,3.2561912355422808E-2,5.0099999999999999E-2,{"$f":"1/'I_OPEX Input'!L104","v":0.16666666666666666},null,null,{"$f":"'I_OPEX Input'!$C$38*'I_OPEX Input'!$C$24*'I_OPEX Input'!K104+'I_OPEX Input'!$C$38*'I_OPEX Input'!$C$24*'I_OPEX Input'!N104+'I_OPEX Input'!$C$38*'I_OPEX Input'!$C$24*'I_OPEX Input'!M104+('I_Global Inputs'!$G$16*('I_OPEX Input'!$C$24*'I_OPEX Input'!K104+'I_OPEX Input'!$C$24*'I_OPEX Input'!N104+'I_OPEX Input'!$C$24*'I_OPEX Input'!M104))","v":21.846067345284272},{"$f":"'I_OPEX Input'!D104*'I_OPEX Input'!K104","v":0.32813574568956283},{"$f":"'I_OPEX Input'!H104*'I_OPEX Input'!N104","v":0.25869155221072437},{"$f":"'I_OPEX Input'!F104*'I_OPEX Input'!M104","v":1.1632800644338439},null,{"$f":"IF(D76<>\"Major (Cat V)\",0,(I_CAPEX!$J$41*I_CAPEX!$J$42*(I_CAPEX!$J$40=0)*'I_OPEX Input'!$C$49)*'I_OPEX Input'!K104+(I_CAPEX!$J$41*I_CAPEX!$J$42*'I_OPEX Input'!$N104*'I_OPEX Input'!$C$49)+(I_CAPEX!$J$41*I_CAPEX!$J$42*'I_OPEX Input'!$M104*'I_OPEX Input'!$C$49))","v":7.9593420081469111},31.555516715765314,null,{"$f":"'I_OPEX Input'!Q104*O76+'I_OPEX Input'!R104*O76","v":8.4600000000000009},null,null,{"$f":"IF(D76=\"Major (Cat V)\",'I_OPEX Input'!$F$24/'I_OPEX Input'!$F$25,0)","v":1.8443395904436859},null,10.304339590443687,null,41.859856306209004,47.636516476465843]
[null,null,{"$f":"VLOOKUP(F77, 'I_OPEX Input'!$B$98:$C$188, 2, FALSE)","v":"MBF1x42"},{"$f":"INDEX('I_Mapping & Lookups'!$Z:$Z,MATCH('C_OPEX Calc'!F77,'I_Mapping & Lookups'!$X:$X,0))","v":"Minor (Cat P)"},null,"MBF1x42",null,0,null,null,null,1.9828577401484269E-2,3.2561912355422808E-2,3.5299999999999998E-2,{"$f":"1/'I_OPEX Input'!L105","v":0.16666666666666666},null,null,{"$f":"'I_OPEX Input'!$C$38*'I_OPEX Input'!$C$24*'I_OPEX Input'!K105+'I_OPEX Input'!$C$38*'I_OPEX Input'!$C$24*'I_OPEX Input'!N105+'I_OPEX Input'!$C$38*'I_OPEX Input'!$C$24*'I_OPEX Input'!M105+('I_Global Inputs'!$G$16*('I_OPEX Input'!$C$24*'I_OPEX Input'!K105+'I_OPEX Input'!$C$24*'I_OPEX Input'!N105+'I_OPEX Input'!$C$24*'I_OPEX Input'!M105))","v":18.691415655385232},{"$f":"'I_OPEX Input'!D105*'I_OPEX Input'!K105","v":0.13031353529598569},{"$f":"'I_OPEX Input'!H105*'I_OPEX Input'!N105","v":0.25869155221072437},{"$f":"'I_OPEX Input'!F105*'I_OPEX Input'!M105","v":1.1632800644338439},null,{"$f":"IF(D77<>\"Major (Cat V)\",0,(I_CAPEX!$J$41*I_CAPEX!$J$42*(I_CAPEX!$J$40=0)*'I_OPEX Input'!$C$49)*'I_OPEX Input'!K105+(I_CAPEX!$J$41*I_CAPEX!$J$42*'I_OPEX Input'!$N105*'I_OPEX Input'!$C$49)+(I_CAPEX!$J$41*I_CAPEX!$J$42*'I_OPEX Input'!$M105*'I_OPEX Input'!$C$49))","v":0},20.243700807325787,null,{"$f":"'I_OPEX Input'!Q105*O77+'I_OPEX Input'!R105*O77","v":7.2},null,null,{"$f":"IF(D77=\"Major (Cat V)\",'I_OPEX Input'!$F$24/'I_OPEX Input'!$F$25,0)","v":0},null,7.2,null,27.443700807325786,31.230931518736742]
[null,null,{"$f":"VLOOKUP(F78, 'I_OPEX Input'!$B$98:$C$188, 2, FALSE)","v":"MBF1x50"},{"$f":"INDEX('I_Mapping & Lookups'!$Z:$Z,MATCH('C_OPEX Calc'!F78,'I_Mapping & Lookups'!$X:$X,0))","v":"Minor (Cat P)"},null,"MBF1x50",null,0,null,null,null,1.9828577401484269E-2,3.2561912355422808E-2,5.0099999999999999E-2,{"$f":"1/'I_OPEX Input'!L106","v":0.16666666666666666},null,null,{"$f":"'I_OPEX Input'!$C$38*'I_OPEX Input'!$C$24*'I_OPEX Input'!K106+'I_OPEX Input'!$C$38*'I_OPEX Input'!$C$24*'I_OPEX Input'!N106+'I_OPEX Input'!$C$38*'I_OPEX Input'!$C$24*'I_OPEX Input'!M106+('I_Global Inputs'!$G$16*('I_OPEX Input'!$C$24*'I_OPEX Input'!K106+'I_OPEX Input'!$C$24*'I_OPEX Input'!N106+'I_OPEX Input'!$C$24*'I_OPEX Input'!M106))","v":21.846067345284272},{"$f":"'I_OPEX Input'!D106*'I_OPEX Input'!K106","v":0.32515269345602138},{"$f":"'I_OPEX Input'!H106*'I_OPEX Input'!N106","v":0.25869155221072437},{"$f":"'I_OPEX Input'!F106*'I_OPEX Input'!M106","v":1.1632800644338439},null,{"$f":"IF(D78<>\"Major (Cat V)\",0,(I_CAPEX!$J$41*I_CAPEX!$J$42*(I_CAPEX!$J$40=0)*'I_OPEX Input'!$C$49)*'I_OPEX Input'!K106+(I_CAPEX!$J$41*I_CAPEX!$J$42*'I_OPEX Input'!$N106*'I_OPEX Input'!$C$49)+(I_CAPEX!$J$41*I_CAPEX!$J$42*'I_OPEX Input'!$M106*'I_OPEX Input'!$C$49))","v":0},23.593191655384864,null,{"$f":"'I_OPEX Input'!Q106*O78+'I_OPEX Input'!R106*O78","v":7.2},null,null,{"$f":"IF(D78=\"Major (Cat V)\",'I_OPEX Input'!$F$24/'I_OPEX Input'!$F$25,0)","v":0},null,7.2,null,30.793191655384863,35.042652103827969]
[null,null,{"$f":"VLOOKUP(F79, 'I_OPEX Input'!$B$98:$C$188, 2, FALSE)","v":"MBF1x80"},{"$f":"INDEX('I_Mapping & Lookups'!$Z:$Z,MATCH('C_OPEX Calc'!F79,'I_Mapping & Lookups'!$X:$X,0))","v":"Minor (Cat P)"},null,"MBF1x80",null,0,null,null,null,1.9828577401484269E-2,3.2561912355422808E-2,4.4699999999999997E-2,{"$f":"1/'I_OPEX Input'!L107","v":0.16666666666666666},null,null,{"$f":"'I_OPEX Input'!$C$38*'I_OPEX Input'!$C$24*'I_OPEX Input'!K107+'I_OPEX Input'!$C$38*'I_OPEX Input'!$C$24*'I_OPEX Input'!N107+'I_OPEX Input'!$C$38*'I_OPEX Input'!$C$24*'I_OPEX Input'!M107+('I_Global Inputs'!$G$16*('I_OPEX Input'!$C$24*'I_OPEX Input'!K107+'I_OPEX Input'!$C$24*'I_OPEX Input'!N107+'I_OPEX Input'!$C$24*'I_OPEX Input'!M107))","v":20.695045782753539},{"$f":"'I_OPEX Input'!D107*'I_OPEX Input'!K107","v":0.19162984647564671},{"$f":"'I_OPEX Input'!H107*'I_OPEX Input'!N107","v":0.25869155221072437},{"$f":"'I_OPEX Input'!F107*'I_OPEX Input'!M107","v":1.1632800644338439},null,{"$f":"IF(D79<>\"Major (Cat V)\",0,(I_CAPEX!$J$41*I_CAPEX!$J$42*(I_CAPEX!$J$40=0)*'I_OPEX Input'!$C$49)*'I_OPEX Input'!K107+(I_CAPEX!$J$41*I_CAPEX!$J$42*'I_OPEX Input'!$N107*'I_OPEX Input'!$C$49)+(I_CAPEX!$J$41*I_CAPEX!$J$42*'I_OPEX Input'!$M107*'I_OPEX Input'!$C$49))","v":0},22.308647245873754,null,{"$f":"'I_OPEX Input'!Q107*O79+'I_OPEX Input'!R107*O79","v":7.2},null,null,{"$f":"IF(D79=\"Major (Cat V)\",'I_OPEX Input'!$F$24/'I_OPEX Input'!$F$25,0)","v":0},null,7.2,null,29.508647245873753,33.58084056580433]
[null,null,{"$f":"VLOOKUP(F80, 'I_OPEX Input'!$B$98:$C$188, 2, FALSE)","v":"MBF2x80"},{"$f":"INDEX('I_Mapping & Lookups'!$Z:$Z,MATCH('C_OPEX Calc'!F80,'I_Mapping & Lookups'!$X:$X,0))","v":"Minor (Cat P)"},null,"MBF2x80",null,0,null,null,null,1.9828577401484269E-2,3.2561912355422808E-2,0.08,{"$f":"1/'I_OPEX Input'!L108","v":0.16666666666666666},null,null,{"$f":"'I_OPEX Input'!$C$38*'I_OPEX Input'!$C$24*'I_OPEX Input'!K108+'I_OPEX Input'!$C$38*'I_OPEX Input'!$C$24*'I_OPEX Input'!N108+'I_OPEX Input'!$C$38*'I_OPEX Input'!$C$24*'I_OPEX Input'!M108+('I_Global Inputs'!$G$16*('I_OPEX Input'!$C$24*'I_OPEX Input'!K108+'I_OPEX Input'!$C$24*'I_OPEX Input'!N108+'I_OPEX Input'!$C$24*'I_OPEX Input'!M108))","v":28.219316367445174},{"$f":"'I_OPEX Input'!D108*'I_OPEX Input'!K108","v":0.34296169391614628},{"$f":"'I_OPEX Input'!H108*'I_OPEX Input'!N108","v":0.25869155221072437},{"$f":"'I_OPEX Input'!F108*'I_OPEX Input'!M108","v":1.1632800644338439},null,{"$f":"IF(D80<>\"Major (Cat V)\",0,(I_CAPEX!$J$41*I_CAPEX!$J$42*(I_CAPEX!$J$40=0)*'I_OPEX Input'!$C$49)*'I_OPEX Input'!K108+(I_CAPEX!$J$41*I_CAPEX!$J$42*'I_OPEX Input'!$N108*'I_OPEX Input'!$C$49)+(I_CAPEX!$J$41*I_CAPEX!$J$42*'I_OPEX Input'!$M108*'I_OPEX Input'!$C$49))","v":0},29.984249678005888,null,{"$f":"'I_OPEX Input'!Q108*O80+'I_OPEX Input'!R108*O80","v":7.2},null,null,{"$f":"IF(D80=\"Major (Cat V)\",'I_OPEX Input'!$F$24/'I_OPEX Input'!$F$25,0)","v":0},null,7.2,null,37.184249678005891,42.315676133570697]
[null,null,{"$f":"VLOOKUP(F81, 'I_OPEX Input'!$B$98:$C$188, 2, FALSE)","v":"MBI1x100"},{"$f":"INDEX('I_Mapping & Lookups'!$Z:$Z,MATCH('C_OPEX Calc'!F81,'I_Mapping & Lookups'!$X:$X,0))","v":"Major (Cat V)"},null,"MBI1x100",null,0,null,null,null,1.9828577401484269E-2,3.2561912355422808E-2,0.04,{"$f":"1/'I_OPEX Input'!L109","v":0.16666666666666666},null,null,{"$f":"'I_OPEX Input'!$C$38*'I_OPEX Input'!$C$24*'I_OPEX Input'!K109+'I_OPEX Input'!$C$38*'I_OPEX Input'!$C$24*'I_OPEX Input'!N109+'I_OPEX Input'!$C$38*'I_OPEX Input'!$C$24*'I_OPEX Input'!M109+('I_Global Inputs'!$G$16*('I_OPEX Input'!$C$24*'I_OPEX Input'!K109+'I_OPEX Input'!$C$24*'I_OPEX Input'!N109+'I_OPEX Input'!$C$24*'I_OPEX Input'!M109))","v":19.693230719069383},{"$f":"'I_OPEX Input'!D109*'I_OPEX Input'!K109","v":0.68497071646030327},{"$f":"'I_OPEX Input'!H109*'I_OPEX Input'!N109","v":0.25869155221072437},{"$f":"'I_OPEX Input'!F109*'I_OPEX Input'!M109","v":1.1632800644338439},null,{"$f":"IF(D81<>\"Major (Cat V)\",0,(I_CAPEX!$J$41*I_CAPEX!$J$42*(I_CAPEX!$J$40=0)*'I_OPEX Input'!$C$49)*'I_OPEX Input'!K109+(I_CAPEX!$J$41*I_CAPEX!$J$42*'I_OPEX Input'!$N109*'I_OPEX Input'!$C$49)+(I_CAPEX!$J$41*I_CAPEX!$J$42*'I_OPEX Input'!$M109*'I_OPEX Input'!$C$49))","v":7.1749828498195782},28.975155901993833,null,{"$f":"'I_OPEX Input'!Q109*O81+'I_OPEX Input'!R109*O81","v":8.4600000000000009},null,null,{"$f":"IF(D81=\"Major (Cat V)\",'I_OPEX Input'!$F$24/'I_OPEX Input'!$F$25,0)","v":1.8443395904436859},null,10.304339590443687,null,39.279495492437519,44.700065870393892]
[null,null,{"$f":"VLOOKUP(F82, 'I_OPEX Input'!$B$98:$C$188, 2, FALSE)","v":"MBI1x1000"},{"$f":"INDEX('I_Mapping & Lookups'!$Z:$Z,MATCH('C_OPEX Calc'!F82,'I_Mapping & Lookups'!$X:$X,0))","v":"Major (Cat V)"},null,"MBI1x1000",null,0,null,null,null,1.9828577401484269E-2,3.2561912355422808E-2,0.04,{"$f":"1/'I_OPEX Input'!L110","v":0.16666666666666666},null,null,{"$f":"'I_OPEX Input'!$C$38*'I_OPEX Input'!$C$24*'I_OPEX Input'!K110+'I_OPEX Input'!$C$38*'I_OPEX Input'!$C$24*'I_OPEX Input'!N110+'I_OPEX Input'!$C$38*'I_OPEX Input'!$C$24*'I_OPEX Input'!M110+('I_Global Inputs'!$G$16*('I_OPEX Input'!$C$24*'I_OPEX Input'!K110+'I_OPEX Input'!$C$24*'I_OPEX Input'!N110+'I_OPEX Input'!$C$24*'I_OPEX Input'!M110))","v":19.693230719069383},{"$f":"'I_OPEX Input'!D110*'I_OPEX Input'!K110","v":2.3102280770740409},{"$f":"'I_OPEX Input'!H110*'I_OPEX Input'!N110","v":0.25869155221072437},{"$f":"'I_OPEX Input'!F110*'I_OPEX Input'!M110","v":1.1632800644338439},null,{"$f":"IF(D82<>\"Major (Cat V)\",0,(I_CAPEX!$J$41*I_CAPEX!$J$42*(I_CAPEX!$J$40=0)*'I_OPEX Input'!$C$49)*'I_OPEX Input'!K110+(I_CAPEX!$J$41*I_CAPEX!$J$42*'I_OPEX Input'!$N110*'I_OPEX Input'!$C$49)+(I_CAPEX!$J$41*I_CAPEX!$J$42*'I_OPEX Input'!$M110*'I_OPEX Input'!$C$49))","v":7.1749828498195782},30.600413262607571,null,{"$f":"'I_OPEX Input'!Q110*O82+'I_OPEX Input'!R110*O82","v":8.4600000000000009},null,null,{"$f":"IF(D82=\"Major (Cat V)\",'I_OPEX Input'!$F$24/'I_OPEX Input'!$F$25,0)","v":1.8443395904436859},null,10.304339590443687,null,40.904752853051257,46.549608746772329]
[null,null,{"$f":"VLOOKUP(F83, 'I_OPEX Input'!$B$98:$C$188, 2, FALSE)","v":"MBI1x150"},{"$f":"INDEX('I_Mapping & Lookups'!$Z:$Z,MATCH('C_OPEX Calc'!F83,'I_Mapping & Lookups'!$X:$X,0))","v":"Major (Cat V)"},null,"MBI1x150",null,0,null,null,null,1.9828577401484269E-2,3.2561912355422808E-2,0.04,{"$f":"1/'I_OPEX Input'!L111","v":0.16666666666666666},null,null,{"$f":"'I_OPEX Input'!$C$38*'I_OPEX Input'!$C$24*'I_OPEX Input'!K111+'I_OPEX Input'!$C$38*'I_OPEX Input'!$C$24*'I_OPEX Input'!N111+'I_OPEX Input'!$C$38*'I_OPEX Input'!$C$24*'I_OPEX Input'!M111+('I_Global Inputs'!$G$16*('I_OPEX Input'!$C$24*'I_OPEX Input'!K111+'I_OPEX Input'!$C$24*'I_OPEX Input'!N111+'I_OPEX Input'!$C$24*'I_OPEX Input'!M111))","v":19.693230719069383},{"$f":"'I_OPEX Input'!D111*'I_OPEX Input'!K111","v":0.68497071646030327},{"$f":"'I_OPEX Input'!H111*'I_OPEX Input'!N111","v":0.25869155221072437},{"$f":"'I_OPEX Input'!F111*'I_OPEX Input'!M111","v":1.1632800644338439},null,{"$f":"IF(D83<>\"Major (Cat V)\",0,(I_CAPEX!$J$41*I_CAPEX!$J$42*(I_CAPEX!$J$40=0)*'I_OPEX Input'!$C$49)*'I_OPEX Input'!K111+(I_CAPEX!$J$41*I_CAPEX!$J$42*'I_OPEX Input'!$N111*'I_OPEX Input'!$C$49)+(I_CAPEX!$J$41*I_CAPEX!$J$42*'I_OPEX Input'!$M111*'I_OPEX Input'!$C$49))","v":7.1749828498195782},28.975155901993833,null,{"$f":"'I_OPEX Input'!Q111*O83+'I_OPEX Input'!R111*O83","v":8.4600000000000009},null,null,{"$f":"IF(D83=\"Major (Cat V)\",'I_OPEX Input'!$F$24/'I_OPEX Input'!$F$25,0)","v":1.8443395904436859},null,10.304339590443687,null,39.279495492437519,44.700065870393892]
[null,null,{"$f":"VLOOKUP(F84, 'I_OPEX Input'!$B$98:$C$188, 2, FALSE)","v":"MBI1x250"},{"$f":"INDEX('I_Mapping & Lookups'!$Z:$Z,MATCH('C_OPEX Calc'!F84,'I_Mapping & Lookups'!$X:$X,0))","v":"Major (Cat V)"},null,"MBI1x250",null,0,null,null,null,1.9828577401484269E-2,3.2561912355422808E-2,0.04,{"$f":"1/'I_OPEX Input'!L112","v":0.16666666666666666},null,null,{"$f":"'I_OPEX Input'!$C$38*'I_OPEX Input'!$C$24*'I_OPEX Input'!K112+'I_OPEX Input'!$C$38*'I_OPEX Input'!$C$24*'I_OPEX Input'!N112+'I_OPEX Input'!$C$38*'I_OPEX Input'!$C$24*'I_OPEX Input'!M112+('I_Global Inputs'!$G$16*('I_OPEX Input'!$C$24*'I_OPEX Input'!K112+'I_OPEX Input'!$C$24*'I_OPEX Input'!N112+'I_OPEX Input'!$C$24*'I_OPEX Input'!M112))","v":19.693230719069383},{"$f":"'I_OPEX Input'!D112*'I_OPEX Input'!K112","v":0.39059526251561094},{"$f":"'I_OPEX Input'!H112*'I_OPEX Input'!N112","v":0.25869155221072437},{"$f":"'I_OPEX Input'!F112*'I_OPEX Input'!M112","v":1.1632800644338439},null,{"$f":"IF(D84<>\"Major (Cat V)\",0,(I_CAPEX!$J$41*I_CAPEX!$J$42*(I_CAPEX!$J$40=0)*'I_OPEX Input'!$C$49)*'I_OPEX Input'!K112+(I_CAPEX!$J$41*I_CAPEX!$J$42*'I_OPEX Input'!$N112*'I_OPEX Input'!$C$49)+(I_CAPEX!$J$41*I_CAPEX!$J$42*'I_OPEX Input'!$M112*'I_OPEX Input'!$C$49))","v":7.1749828498195782},28.680780448049141,null,{"$f":"'I_OPEX Input'!Q112*O84+'I_OPEX Input'!R112*O84","v":8.4600000000000009},null,null,{"$f":"IF(D84=\"Major (Cat V)\",'I_OPEX Input'!$F$24/'I_OPEX Input'!$F$25,0)","v":1.8443395904436859},null,10.304339590443687,null,38.98512003849283,44.365066603804834]
[null,null,{"$f":"VLOOKUP(F85, 'I_OPEX Input'!$B$98:$C$188, 2, FALSE)","v":"MBI1x400"},{"$f":"INDEX('I_Mapping & Lookups'!$Z:$Z,MATCH('C_OPEX Calc'!F85,'I_Mapping & Lookups'!$X:$X,0))","v":"Major (Cat V)"},null,"MBI1x400",null,0,null,null,null,1.9828577401484269E-2,3.2561912355422808E-2,0.04,{"$f":"1/'I_OPEX Input'!L113","v":0.16666666666666666},null,null,{"$f":"'I_OPEX Input'!$C$38*'I_OPEX Input'!$C$24*'I_OPEX Input'!K113+'I_OPEX Input'!$C$38*'I_OPEX Input'!$C$24*'I_OPEX Input'!N113+'I_OPEX Input'!$C$38*'I_OPEX Input'!$C$24*'I_OPEX Input'!M113+('I_Global Inputs'!$G$16*('I_OPEX Input'!$C$24*'I_OPEX Input'!K113+'I_OPEX Input'!$C$24*'I_OPEX Input'!N113+'I_OPEX Input'!$C$24*'I_OPEX Input'!M113))","v":19.693230719069383},{"$f":"'I_OPEX Input'!D113*'I_OPEX Input'!K113","v":0.38106854879571805},{"$f":"'I_OPEX Input'!H113*'I_OPEX Input'!N113","v":0.25869155221072437},{"$f":"'I_OPEX Input'!F113*'I_OPEX Input'!M113","v":1.1632800644338439},null,{"$f":"IF(D85<>\"Major (Cat V)\",0,(I_CAPEX!$J$41*I_CAPEX!$J$42*(I_CAPEX!$J$40=0)*'I_OPEX Input'!$C$49)*'I_OPEX Input'!K113+(I_CAPEX!$J$41*I_CAPEX!$J$42*'I_OPEX Input'!$N113*'I_OPEX Input'!$C$49)+(I_CAPEX!$J$41*I_CAPEX!$J$42*'I_OPEX Input'!$M113*'I_OPEX Input'!$C$49))","v":7.1749828498195782},28.671253734329248,null,{"$f":"'I_OPEX Input'!Q113*O85+'I_OPEX Input'!R113*O85","v":8.4600000000000009},null,null,{"$f":"IF(D85=\"Major (Cat V)\",'I_OPEX Input'!$F$24/'I_OPEX Input'!$F$25,0)","v":1.8443395904436859},null,10.304339590443687,null,38.975593324772937,44.354225203591596]
[null,null,{"$f":"VLOOKUP(F86, 'I_OPEX Input'!$B$98:$C$188, 2, FALSE)","v":"MBI1x70"},{"$f":"INDEX('I_Mapping & Lookups'!$Z:$Z,MATCH('C_OPEX Calc'!F86,'I_Mapping & Lookups'!$X:$X,0))","v":"Minor (Cat P)"},null,"MBI1x70",null,0,null,null,null,1.9828577401484269E-2,3.2561912355422808E-2,0.04,{"$f":"1/'I_OPEX Input'!L114","v":0.16666666666666666},null,null,{"$f":"'I_OPEX Input'!$C$38*'I_OPEX Input'!$C$24*'I_OPEX Input'!K114+'I_OPEX Input'!$C$38*'I_OPEX Input'!$C$24*'I_OPEX Input'!N114+'I_OPEX Input'!$C$38*'I_OPEX Input'!$C$24*'I_OPEX Input'!M114+('I_Global Inputs'!$G$16*('I_OPEX Input'!$C$24*'I_OPEX Input'!K114+'I_OPEX Input'!$C$24*'I_OPEX Input'!N114+'I_OPEX Input'!$C$24*'I_OPEX Input'!M114))","v":19.693230719069383},{"$f":"'I_OPEX Input'!D114*'I_OPEX Input'!K114","v":0.69068674469223912},{"$f":"'I_OPEX Input'!H114*'I_OPEX Input'!N114","v":0.25869155221072437},{"$f":"'I_OPEX Input'!F114*'I_OPEX Input'!M114","v":1.1632800644338439},null,{"$f":"IF(D86<>\"Major (Cat V)\",0,(I_CAPEX!$J$41*I_CAPEX!$J$42*(I_CAPEX!$J$40=0)*'I_OPEX Input'!$C$49)*'I_OPEX Input'!K114+(I_CAPEX!$J$41*I_CAPEX!$J$42*'I_OPEX Input'!$N114*'I_OPEX Input'!$C$49)+(I_CAPEX!$J$41*I_CAPEX!$J$42*'I_OPEX Input'!$M114*'I_OPEX Input'!$C$49))","v":0},21.805889080406192,null,{"$f":"'I_OPEX Input'!Q114*O86+'I_OPEX Input'!R114*O86","v":7.2},null,null,{"$f":"IF(D86=\"Major (Cat V)\",'I_OPEX Input'!$F$24/'I_OPEX Input'!$F$25,0)","v":0},null,7.2,null,29.005889080406192,33.008701773502246]
[null,null,{"$f":"VLOOKUP(F87, 'I_OPEX Input'!$B$98:$C$188, 2, FALSE)","v":"MBI1x70 II"},{"$f":"INDEX('I_Mapping & Lookups'!$Z:$Z,MATCH('C_OPEX Calc'!F87,'I_Mapping & Lookups'!$X:$X,0))","v":"Minor (Cat P)"},null,"MBI1x70 II",null,0,null,null,null,1.9828577401484269E-2,3.2561912355422808E-2,0.04,{"$f":"1/'I_OPEX Input'!L115","v":0.16666666666666666},null,null,{"$f":"'I_OPEX Input'!$C$38*'I_OPEX Input'!$C$24*'I_OPEX Input'!K115+'I_OPEX Input'!$C$38*'I_OPEX Input'!$C$24*'I_OPEX Input'!N115+'I_OPEX Input'!$C$38*'I_OPEX Input'!$C$24*'I_OPEX Input'!M115+('I_Global Inputs'!$G$16*('I_OPEX Input'!$C$24*'I_OPEX Input'!K115+'I_OPEX Input'!$C$24*'I_OPEX Input'!N115+'I_OPEX Input'!$C$24*'I_OPEX Input'!M115))","v":19.693230719069383},{"$f":"'I_OPEX Input'!D115*'I_OPEX Input'!K115","v":2.7627469787689565},{"$f":"'I_OPEX Input'!H115*'I_OPEX Input'!N115","v":0.25869155221072437},{"$f":"'I_OPEX Input'!F115*'I_OPEX Input'!M115","v":1.1632800644338439},null,{"$f":"IF(D87<>\"Major (Cat V)\",0,(I_CAPEX!$J$41*I_CAPEX!$J$42*(I_CAPEX!$J$40=0)*'I_OPEX Input'!$C$49)*'I_OPEX Input'!K115+(I_CAPEX!$J$41*I_CAPEX!$J$42*'I_OPEX Input'!$N115*'I_OPEX Input'!$C$49)+(I_CAPEX!$J$41*I_CAPEX!$J$42*'I_OPEX Input'!$M115*'I_OPEX Input'!$C$49))","v":0},23.877949314482908,null,{"$f":"'I_OPEX Input'!Q115*O87+'I_OPEX Input'!R115*O87","v":7.2},null,null,{"$f":"IF(D87=\"Major (Cat V)\",'I_OPEX Input'!$F$24/'I_OPEX Input'!$F$25,0)","v":0},null,7.2,null,31.077949314482908,35.366706319881544]
[null,null,{"$f":"VLOOKUP(F88, 'I_OPEX Input'!$B$98:$C$188, 2, FALSE)","v":"SON1x100"},{"$f":"INDEX('I_Mapping & Lookups'!$Z:$Z,MATCH('C_OPEX Calc'!F88,'I_Mapping & Lookups'!$X:$X,0))","v":"Major (Cat V)"},null,"SON1x100",null,0,null,null,null,1.9828577401484269E-2,3.2561912355422808E-2,6.518620253747219E-2,{"$f":"1/'I_OPEX Input'!L116","v":0.16666666666666666},null,null,{"$f":"'I_OPEX Input'!$C$38*'I_OPEX Input'!$C$24*'I_OPEX Input'!K116+'I_OPEX Input'!$C$38*'I_OPEX Input'!$C$24*'I_OPEX Input'!N116+'I_OPEX Input'!$C$38*'I_OPEX Input'!$C$24*'I_OPEX Input'!M116+('I_Global Inputs'!$G$16*('I_OPEX Input'!$C$24*'I_OPEX Input'!K116+'I_OPEX Input'!$C$24*'I_OPEX Input'!N116+'I_OPEX Input'!$C$24*'I_OPEX Input'!M116))","v":25.061723718865075},{"$f":"'I_OPEX Input'!D116*'I_OPEX Input'!K116","v":1.0269957671891345},{"$f":"'I_OPEX Input'!H116*'I_OPEX Input'!N116","v":0.25869155221072437},{"$f":"'I_OPEX Input'!F116*'I_OPEX Input'!M116","v":1.1632800644338439},null,{"$f":"IF(D88<>\"Major (Cat V)\",0,(I_CAPEX!$J$41*I_CAPEX!$J$42*(I_CAPEX!$J$40=0)*'I_OPEX Input'!$C$49)*'I_OPEX Input'!K116+(I_CAPEX!$J$41*I_CAPEX!$J$42*'I_OPEX Input'!$N116*'I_OPEX Input'!$C$49)+(I_CAPEX!$J$41*I_CAPEX!$J$42*'I_OPEX Input'!$M116*'I_OPEX Input'!$C$49))","v":9.1309262779139786},36.641617380612757,null,{"$f":"'I_OPEX Input'!Q116*O88+'I_OPEX Input'!R116*O88","v":8.4600000000000009},null,null,{"$f":"IF(D88=\"Major (Cat V)\",'I_OPEX Input'!$F$24/'I_OPEX Input'!$F$25,0)","v":1.8443395904436859},null,10.304339590443687,null,46.945956971056447,53.424499033062233]
[null,null,{"$f":"VLOOKUP(F89, 'I_OPEX Input'!$B$98:$C$188, 2, FALSE)","v":"SON1x1000"},{"$f":"INDEX('I_Mapping & Lookups'!$Z:$Z,MATCH('C_OPEX Calc'!F89,'I_Mapping & Lookups'!$X:$X,0))","v":"Major (Cat V)"},null,"SON1x1000",null,0,null,null,null,1.9828577401484269E-2,3.2561912355422808E-2,6.518620253747219E-2,{"$f":"1/'I_OPEX Input'!L117","v":0.16666666666666666},null,null,{"$f":"'I_OPEX Input'!$C$38*'I_OPEX Input'!$C$24*'I_OPEX Input'!K117+'I_OPEX Input'!$C$38*'I_OPEX Input'!$C$24*'I_OPEX Input'!N117+'I_OPEX Input'!$C$38*'I_OPEX Input'!$C$24*'I_OPEX Input'!M117+('I_Global Inputs'!$G$16*('I_OPEX Input'!$C$24*'I_OPEX Input'!K117+'I_OPEX Input'!$C$24*'I_OPEX Input'!N117+'I_OPEX Input'!$C$24*'I_OPEX Input'!M117))","v":25.061723718865075},{"$f":"'I_OPEX Input'!D117*'I_OPEX Input'!K117","v":2.1580107579635635},{"$f":"'I_OPEX Input'!H117*'I_OPEX Input'!N117","v":0.25869155221072437},{"$f":"'I_OPEX Input'!F117*'I_OPEX Input'!M117","v":1.1632800644338439},null,{"$f":"IF(D89<>\"Major (Cat V)\",0,(I_CAPEX!$J$41*I_CAPEX!$J$42*(I_CAPEX!$J$40=0)*'I_OPEX Input'!$C$49)*'I_OPEX Input'!K117+(I_CAPEX!$J$41*I_CAPEX!$J$42*'I_OPEX Input'!$N117*'I_OPEX Input'!$C$49)+(I_CAPEX!$J$41*I_CAPEX!$J$42*'I_OPEX Input'!$M117*'I_OPEX Input'!$C$49))","v":9.1309262779139786},37.772632371387189,null,{"$f":"'I_OPEX Input'!Q117*O89+'I_OPEX Input'!R117*O89","v":8.4600000000000009},null,null,{"$f":"IF(D89=\"Major (Cat V)\",'I_OPEX Input'!$F$24/'I_OPEX Input'!$F$25,0)","v":1.8443395904436859},null,10.304339590443687,null,48.076971961830878,54.711594092563537]
[null,null,{"$f":"VLOOKUP(F90, 'I_OPEX Input'!$B$98:$C$188, 2, FALSE)","v":"SON1x150"},{"$f":"INDEX('I_Mapping & Lookups'!$Z:$Z,MATCH('C_OPEX Calc'!F90,'I_Mapping & Lookups'!$X:$X,0))","v":"Major (Cat V)"},null,"SON1x150",null,0,null,null,null,1.9828577401484269E-2,3.2561912355422808E-2,6.518620253747219E-2,{"$f":"1/'I_OPEX Input'!L118","v":0.16666666666666666},null,null,{"$f":"'I_OPEX Input'!$C$38*'I_OPEX Input'!$C$24*'I_OPEX Input'!K118+'I_OPEX Input'!$C$38*'I_OPEX Input'!$C$24*'I_OPEX Input'!N118+'I_OPEX Input'!$C$38*'I_OPEX Input'!$C$24*'I_OPEX Input'!M118+('I_Global Inputs'!$G$16*('I_OPEX Input'!$C$24*'I_OPEX Input'!K118+'I_OPEX Input'!$C$24*'I_OPEX Input'!N118+'I_OPEX Input'!$C$24*'I_OPEX Input'!M118))","v":25.061723718865075},{"$f":"'I_OPEX Input'!D118*'I_OPEX Input'!K118","v":0.46575771754609274},{"$f":"'I_OPEX Input'!H118*'I_OPEX Input'!N118","v":0.25869155221072437},{"$f":"'I_OPEX Input'!F118*'I_OPEX Input'!M118","v":1.1632800644338439},null,{"$f":"IF(D90<>\"Major (Cat V)\",0,(I_CAPEX!$J$41*I_CAPEX!$J$42*(I_CAPEX!$J$40=0)*'I_OPEX Input'!$C$49)*'I_OPEX Input'!K118+(I_CAPEX!$J$41*I_CAPEX!$J$42*'I_OPEX Input'!$N118*'I_OPEX Input'!$C$49)+(I_CAPEX!$J$41*I_CAPEX!$J$42*'I_OPEX Input'!$M118*'I_OPEX Input'!$C$49))","v":9.1309262779139786},36.08037933096972,null,{"$f":"'I_OPEX Input'!Q118*O90+'I_OPEX Input'!R118*O90","v":8.4600000000000009},null,null,{"$f":"IF(D90=\"Major (Cat V)\",'I_OPEX Input'!$F$24/'I_OPEX Input'!$F$25,0)","v":1.8443395904436859},null,10.304339590443687,null,46.384718921413409,52.785810132568457]
[null,null,{"$f":"VLOOKUP(F91, 'I_OPEX Input'!$B$98:$C$188, 2, FALSE)","v":"SON1x150 AR"},{"$f":"INDEX('I_Mapping & Lookups'!$Z:$Z,MATCH('C_OPEX Calc'!F91,'I_Mapping & Lookups'!$X:$X,0))","v":"Major (Cat V)"},null,"SON1x150 AR",null,0,null,null,null,1.9828577401484269E-2,3.2561912355422808E-2,6.518620253747219E-2,{"$f":"1/'I_OPEX Input'!L119","v":0.16666666666666666},null,null,{"$f":"'I_OPEX Input'!$C$38*'I_OPEX Input'!$C$24*'I_OPEX Input'!K119+'I_OPEX Input'!$C$38*'I_OPEX Input'!$C$24*'I_OPEX Input'!N119+'I_OPEX Input'!$C$38*'I_OPEX Input'!$C$24*'I_OPEX Input'!M119+('I_Global Inputs'!$G$16*('I_OPEX Input'!$C$24*'I_OPEX Input'!K119+'I_OPEX Input'!$C$24*'I_OPEX Input'!N119+'I_OPEX Input'!$C$24*'I_OPEX Input'!M119))","v":25.061723718865075},{"$f":"'I_OPEX Input'!D119*'I_OPEX Input'!K119","v":0.46575771754609274},{"$f":"'I_OPEX Input'!H119*'I_OPEX Input'!N119","v":0.25869155221072437},{"$f":"'I_OPEX Input'!F119*'I_OPEX Input'!M119","v":1.1632800644338439},null,{"$f":"IF(D91<>\"Major (Cat V)\",0,(I_CAPEX!$J$41*I_CAPEX!$J$42*(I_CAPEX!$J$40=0)*'I_OPEX Input'!$C$49)*'I_OPEX Input'!K119+(I_CAPEX!$J$41*I_CAPEX!$J$42*'I_OPEX Input'!$N119*'I_OPEX Input'!$C$49)+(I_CAPEX!$J$41*I_CAPEX!$J$42*'I_OPEX Input'!$M119*'I_OPEX Input'!$C$49))","v":9.1309262779139786},36.08037933096972,null,{"$f":"'I_OPEX Input'!Q119*O91+'I_OPEX Input'!R119*O91","v":8.4600000000000009},null,null,{"$f":"IF(D91=\"Major (Cat V)\",'I_OPEX Input'!$F$24/'I_OPEX Input'!$F$25,0)","v":1.8443395904436859},null,10.304339590443687,null,46.384718921413409,52.785810132568457]
[null,null,{"$f":"VLOOKUP(F92, 'I_OPEX Input'!$B$98:$C$188, 2, FALSE)","v":"SON1x250"},{"$f":"INDEX('I_Mapping & Lookups'!$Z:$Z,MATCH('C_OPEX Calc'!F92,'I_Mapping & Lookups'!$X:$X,0))","v":"Major (Cat V)"},null,"SON1x250",null,0,null,null,null,1.9828577401484269E-2,3.2561912355422808E-2,6.518620253747219E-2,{"$f":"1/'I_OPEX Input'!L120","v":0.16666666666666666},null,null,{"$f":"'I_OPEX Input'!$C$38*'I_OPEX Input'!$C$24*'I_OPEX Input'!K120+'I_OPEX Input'!$C$38*'I_OPEX Input'!$C$24*'I_OPEX Input'!N120+'I_OPEX Input'!$C$38*'I_OPEX Input'!$C$24*'I_OPEX Input'!M120+('I_Global Inputs'!$G$16*('I_OPEX Input'!$C$24*'I_OPEX Input'!K120+'I_OPEX Input'!$C$24*'I_OPEX Input'!N120+'I_OPEX Input'!$C$24*'I_OPEX Input'!M120))","v":25.061723718865075},{"$f":"'I_OPEX Input'!D120*'I_OPEX Input'!K120","v":0.72968709082221206},{"$f":"'I_OPEX Input'!H120*'I_OPEX Input'!N120","v":0.25869155221072437},{"$f":"'I_OPEX Input'!F120*'I_OPEX Input'!M120","v":1.1632800644338439},null,{"$f":"IF(D92<>\"Major (Cat V)\",0,(I_CAPEX!$J$41*I_CAPEX!$J$42*(I_CAPEX!$J$40=0)*'I_OPEX Input'!$C$49)*'I_OPEX Input'!K120+(I_CAPEX!$J$41*I_CAPEX!$J$42*'I_OPEX Input'!$N120*'I_OPEX Input'!$C$49)+(I_CAPEX!$J$41*I_CAPEX!$J$42*'I_OPEX Input'!$M120*'I_OPEX Input'!$C$49))","v":9.1309262779139786},36.344308704245833,null,{"$f":"'I_OPEX Input'!Q120*O92+'I_OPEX Input'!R120*O92","v":8.4600000000000009},null,null,{"$f":"IF(D92=\"Major (Cat V)\",'I_OPEX Input'!$F$24/'I_OPEX Input'!$F$25,0)","v":1.8443395904436859},null,10.304339590443687,null,46.648648294689522,53.086161759356671]
[null,null,{"$f":"VLOOKUP(F93, 'I_OPEX Input'!$B$98:$C$188, 2, FALSE)","v":"SON1x250 AR"},{"$f":"INDEX('I_Mapping & Lookups'!$Z:$Z,MATCH('C_OPEX Calc'!F93,'I_Mapping & Lookups'!$X:$X,0))","v":"Major (Cat V)"},null,"SON1x250 AR",null,0,null,null,null,1.9828577401484269E-2,3.2561912355422808E-2,6.518620253747219E-2,{"$f":"1/'I_OPEX Input'!L121","v":0.16666666666666666},null,null,{"$f":"'I_OPEX Input'!$C$38*'I_OPEX Input'!$C$24*'I_OPEX Input'!K121+'I_OPEX Input'!$C$38*'I_OPEX Input'!$C$24*'I_OPEX Input'!N121+'I_OPEX Input'!$C$38*'I_OPEX Input'!$C$24*'I_OPEX Input'!M121+('I_Global Inputs'!$G$16*('I_OPEX Input'!$C$24*'I_OPEX Input'!K121+'I_OPEX Input'!$C$24*'I_OPEX Input'!N121+'I_OPEX Input'!$C$24*'I_OPEX Input'!M121))","v":25.061723718865075},{"$f":"'I_OPEX Input'!D121*'I_OPEX Input'!K121","v":0.72968709082221206},{"$f":"'I_OPEX Input'!H121*'I_OPEX Input'!N121","v":0.25869155221072437},{"$f":"'I_OPEX Input'!F121*'I_OPEX Input'!M121","v":1.1632800644338439},null,{"$f":"IF(D93<>\"Major (Cat V)\",0,(I_CAPEX!$J$41*I_CAPEX!$J$42*(I_CAPEX!$J$40=0)*'I_OPEX Input'!$C$49)*'I_OPEX Input'!K121+(I_CAPEX!$J$41*I_CAPEX!$J$42*'I_OPEX Input'!$N121*'I_OPEX Input'!$C$49)+(I_CAPEX!$J$41*I_CAPEX!$J$42*'I_OPEX Input'!$M121*'I_OPEX Input'!$C$49))","v":9.1309262779139786},36.344308704245833,null,{"$f":"'I_OPEX Input'!Q121*O93+'I_OPEX Input'!R121*O93","v":8.4600000000000009},null,null,{"$f":"IF(D93=\"Major (Cat V)\",'I_OPEX Input'!$F$24/'I_OPEX Input'!$F$25,0)","v":1.8443395904436859},null,10.304339590443687,null,46.648648294689522,53.086161759356671]
[null,null,{"$f":"VLOOKUP(F94, 'I_OPEX Input'!$B$98:$C$188, 2, FALSE)","v":"SON1x400"},{"$f":"INDEX('I_Mapping & Lookups'!$Z:$Z,MATCH('C_OPEX Calc'!F94,'I_Mapping & Lookups'!$X:$X,0))","v":"Major (Cat V)"},null,"SON1x400",null,0,null,null,null,1.9828577401484269E-2,3.2561912355422808E-2,6.518620253747219E-2,{"$f":"1/'I_OPEX Input'!L122","v":0.16666666666666666},null,null,{"$f":"'I_OPEX Input'!$C$38*'I_OPEX Input'!$C$24*'I_OPEX Input'!K122+'I_OPEX Input'!$C$38*'I_OPEX Input'!$C$24*'I_OPEX Input'!N122+'I_OPEX Input'!$C$38*'I_OPEX Input'!$C$24*'I_OPEX Input'!M122+('I_Global Inputs'!$G$16*('I_OPEX Input'!$C$24*'I_OPEX Input'!K122+'I_OPEX Input'!$C$24*'I_OPEX Input'!N122+'I_OPEX Input'!$C$24*'I_OPEX Input'!M122))","v":25.061723718865075},{"$f":"'I_OPEX Input'!D122*'I_OPEX Input'!K122","v":0.84612652020873524},{"$f":"'I_OPEX Input'!H122*'I_OPEX Input'!N122","v":0.25869155221072437},{"$f":"'I_OPEX Input'!F122*'I_OPEX Input'!M122","v":1.1632800644338439},null,{"$f":"IF(D94<>\"Major (Cat V)\",0,(I_CAPEX!$J$41*I_CAPEX!$J$42*(I_CAPEX!$J$40=0)*'I_OPEX Input'!$C$49)*'I_OPEX Input'!K122+(I_CAPEX!$J$41*I_CAPEX!$J$42*'I_OPEX Input'!$N122*'I_OPEX Input'!$C$49)+(I_CAPEX!$J$41*I_CAPEX!$J$42*'I_OPEX Input'!$M122*'I_OPEX Input'!$C$49))","v":9.1309262779139786},36.460748133632357,null,{"$f":"'I_OPEX Input'!Q122*O94+'I_OPEX Input'!R122*O94","v":8.4600000000000009},null,null,{"$f":"IF(D94=\"Major (Cat V)\",'I_OPEX Input'!$F$24/'I_OPEX Input'!$F$25,0)","v":1.8443395904436859},null,10.304339590443687,null,46.765087724076047,53.218669829998539]
[null,null,{"$f":"VLOOKUP(F95, 'I_OPEX Input'!$B$98:$C$188, 2, FALSE)","v":"SON1x400 AR"},{"$f":"INDEX('I_Mapping & Lookups'!$Z:$Z,MATCH('C_OPEX Calc'!F95,'I_Mapping & Lookups'!$X:$X,0))","v":"Major (Cat V)"},null,"SON1x400 AR",null,0,null,null,null,1.9828577401484269E-2,3.2561912355422808E-2,6.518620253747219E-2,{"$f":"1/'I_OPEX Input'!L123","v":0.16666666666666666},null,null,{"$f":"'I_OPEX Input'!$C$38*'I_OPEX Input'!$C$24*'I_OPEX Input'!K123+'I_OPEX Input'!$C$38*'I_OPEX Input'!$C$24*'I_OPEX Input'!N123+'I_OPEX Input'!$C$38*'I_OPEX Input'!$C$24*'I_OPEX Input'!M123+('I_Global Inputs'!$G$16*('I_OPEX Input'!$C$24*'I_OPEX Input'!K123+'I_OPEX Input'!$C$24*'I_OPEX Input'!N123+'I_OPEX Input'!$C$24*'I_OPEX Input'!M123))","v":25.061723718865075},{"$f":"'I_OPEX Input'!D123*'I_OPEX Input'!K123","v":0.84612652020873524},{"$f":"'I_OPEX Input'!H123*'I_OPEX Input'!N123","v":0.25869155221072437},{"$f":"'I_OPEX Input'!F123*'I_OPEX Input'!M123","v":1.1632800644338439},null,{"$f":"IF(D95<>\"Major (Cat V)\",0,(I_CAPEX!$J$41*I_CAPEX!$J$42*(I_CAPEX!$J$40=0)*'I_OPEX Input'!$C$49)*'I_OPEX Input'!K123+(I_CAPEX!$J$41*I_CAPEX!$J$42*'I_OPEX Input'!$N123*'I_OPEX Input'!$C$49)+(I_CAPEX!$J$41*I_CAPEX!$J$42*'I_OPEX Input'!$M123*'I_OPEX Input'!$C$49))","v":9.1309262779139786},36.460748133632357,null,{"$f":"'I_OPEX Input'!Q123*O95+'I_OPEX Input'!R123*O95","v":8.4600000000000009},null,null,{"$f":"IF(D95=\"Major (Cat V)\",'I_OPEX Input'!$F$24/'I_OPEX Input'!$F$25,0)","v":1.8443395904436859},null,10.304339590443687,null,46.765087724076047,53.218669829998539]
[null,null,{"$f":"VLOOKUP(F96, 'I_OPEX Input'!$B$98:$C$188, 2, FALSE)","v":"SON1x50"},{"$f":"INDEX('I_Mapping & Lookups'!$Z:$Z,MATCH('C_OPEX Calc'!F96,'I_Mapping & Lookups'!$X:$X,0))","v":"Minor (Cat P)"},null,"SON1x50",null,0,null,null,null,1.9828577401484269E-2,3.2561912355422808E-2,6.518620253747219E-2,{"$f":"1/'I_OPEX Input'!L124","v":0.16666666666666666},null,null,{"$f":"'I_OPEX Input'!$C$38*'I_OPEX Input'!$C$24*'I_OPEX Input'!K124+'I_OPEX Input'!$C$38*'I_OPEX Input'!$C$24*'I_OPEX Input'!N124+'I_OPEX Input'!$C$38*'I_OPEX Input'!$C$24*'I_OPEX Input'!M124+('I_Global Inputs'!$G$16*('I_OPEX Input'!$C$24*'I_OPEX Input'!K124+'I_OPEX Input'!$C$24*'I_OPEX Input'!N124+'I_OPEX Input'!$C$24*'I_OPEX Input'!M124))","v":25.061723718865075},{"$f":"'I_OPEX Input'!D124*'I_OPEX Input'!K124","v":0.78092043975228231},{"$f":"'I_OPEX Input'!H124*'I_OPEX Input'!N124","v":0.25869155221072437},{"$f":"'I_OPEX Input'!F124*'I_OPEX Input'!M124","v":1.1632800644338439},null,{"$f":"IF(D96<>\"Major (Cat V)\",0,(I_CAPEX!$J$41*I_CAPEX!$J$42*(I_CAPEX!$J$40=0)*'I_OPEX Input'!$C$49)*'I_OPEX Input'!K124+(I_CAPEX!$J$41*I_CAPEX!$J$42*'I_OPEX Input'!$N124*'I_OPEX Input'!$C$49)+(I_CAPEX!$J$41*I_CAPEX!$J$42*'I_OPEX Input'!$M124*'I_OPEX Input'!$C$49))","v":0},27.264615775261927,null,{"$f":"'I_OPEX Input'!Q124*O96+'I_OPEX Input'!R124*O96","v":7.2},null,null,{"$f":"IF(D96=\"Major (Cat V)\",'I_OPEX Input'!$F$24/'I_OPEX Input'!$F$25,0)","v":0},null,7.2,null,34.464615775261926,39.220732752248068]
[null,null,{"$f":"VLOOKUP(F97, 'I_OPEX Input'!$B$98:$C$188, 2, FALSE)","v":"SON1x600"},{"$f":"INDEX('I_Mapping & Lookups'!$Z:$Z,MATCH('C_OPEX Calc'!F97,'I_Mapping & Lookups'!$X:$X,0))","v":"Major (Cat V)"},null,"SON1x600",null,0,null,null,null,1.9828577401484269E-2,3.2561912355422808E-2,6.518620253747219E-2,{"$f":"1/'I_OPEX Input'!L125","v":0.16666666666666666},null,null,{"$f":"'I_OPEX Input'!$C$38*'I_OPEX Input'!$C$24*'I_OPEX Input'!K125+'I_OPEX Input'!$C$38*'I_OPEX Input'!$C$24*'I_OPEX Input'!N125+'I_OPEX Input'!$C$38*'I_OPEX Input'!$C$24*'I_OPEX Input'!M125+('I_Global Inputs'!$G$16*('I_OPEX Input'!$C$24*'I_OPEX Input'!K125+'I_OPEX Input'!$C$24*'I_OPEX Input'!N125+'I_OPEX Input'!$C$24*'I_OPEX Input'!M125))","v":25.061723718865075},{"$f":"'I_OPEX Input'!D125*'I_OPEX Input'!K125","v":2.1580107579635635},{"$f":"'I_OPEX Input'!H125*'I_OPEX Input'!N125","v":0.25869155221072437},{"$f":"'I_OPEX Input'!F125*'I_OPEX Input'!M125","v":1.1632800644338439},null,{"$f":"IF(D97<>\"Major (Cat V)\",0,(I_CAPEX!$J$41*I_CAPEX!$J$42*(I_CAPEX!$J$40=0)*'I_OPEX Input'!$C$49)*'I_OPEX Input'!K125+(I_CAPEX!$J$41*I_CAPEX!$J$42*'I_OPEX Input'!$N125*'I_OPEX Input'!$C$49)+(I_CAPEX!$J$41*I_CAPEX!$J$42*'I_OPEX Input'!$M125*'I_OPEX Input'!$C$49))","v":9.1309262779139786},37.772632371387189,null,{"$f":"'I_OPEX Input'!Q125*O97+'I_OPEX Input'!R125*O97","v":8.4600000000000009},null,null,{"$f":"IF(D97=\"Major (Cat V)\",'I_OPEX Input'!$F$24/'I_OPEX Input'!$F$25,0)","v":1.8443395904436859},null,10.304339590443687,null,48.076971961830878,54.711594092563537]
[null,null,{"$f":"VLOOKUP(F98, 'I_OPEX Input'!$B$98:$C$188, 2, FALSE)","v":"SON1x70"},{"$f":"INDEX('I_Mapping & Lookups'!$Z:$Z,MATCH('C_OPEX Calc'!F98,'I_Mapping & Lookups'!$X:$X,0))","v":"Minor (Cat P)"},null,"SON1x70",null,0,null,null,null,1.9828577401484269E-2,3.2561912355422808E-2,6.518620253747219E-2,{"$f":"1/'I_OPEX Input'!L126","v":0.16666666666666666},null,null,{"$f":"'I_OPEX Input'!$C$38*'I_OPEX Input'!$C$24*'I_OPEX Input'!K126+'I_OPEX Input'!$C$38*'I_OPEX Input'!$C$24*'I_OPEX Input'!N126+'I_OPEX Input'!$C$38*'I_OPEX Input'!$C$24*'I_OPEX Input'!M126+('I_Global Inputs'!$G$16*('I_OPEX Input'!$C$24*'I_OPEX Input'!K126+'I_OPEX Input'!$C$24*'I_OPEX Input'!N126+'I_OPEX Input'!$C$24*'I_OPEX Input'!M126))","v":25.061723718865075},{"$f":"'I_OPEX Input'!D126*'I_OPEX Input'!K126","v":0.48904560342339742},{"$f":"'I_OPEX Input'!H126*'I_OPEX Input'!N126","v":0.25869155221072437},{"$f":"'I_OPEX Input'!F126*'I_OPEX Input'!M126","v":1.1632800644338439},null,{"$f":"IF(D98<>\"Major (Cat V)\",0,(I_CAPEX!$J$41*I_CAPEX!$J$42*(I_CAPEX!$J$40=0)*'I_OPEX Input'!$C$49)*'I_OPEX Input'!K126+(I_CAPEX!$J$41*I_CAPEX!$J$42*'I_OPEX Input'!$N126*'I_OPEX Input'!$C$49)+(I_CAPEX!$J$41*I_CAPEX!$J$42*'I_OPEX Input'!$M126*'I_OPEX Input'!$C$49))","v":0},26.972740938933043,null,{"$f":"'I_OPEX Input'!Q126*O98+'I_OPEX Input'!R126*O98","v":7.2},null,null,{"$f":"IF(D98=\"Major (Cat V)\",'I_OPEX Input'!$F$24/'I_OPEX Input'!$F$25,0)","v":0},null,7.2,null,34.172740938933046,38.888579188505801]
[null,null,{"$f":"VLOOKUP(F99, 'I_OPEX Input'!$B$98:$C$188, 2, FALSE)","v":"SON2x250"},{"$f":"INDEX('I_Mapping & Lookups'!$Z:$Z,MATCH('C_OPEX Calc'!F99,'I_Mapping & Lookups'!$X:$X,0))","v":"Major (Cat V)"},null,"SON2x250",null,0,null,null,null,1.9828577401484269E-2,3.2561912355422808E-2,0.12612316407368807,{"$f":"1/'I_OPEX Input'!L127","v":0.16666666666666666},null,null,{"$f":"'I_OPEX Input'!$C$38*'I_OPEX Input'!$C$24*'I_OPEX Input'!K127+'I_OPEX Input'!$C$38*'I_OPEX Input'!$C$24*'I_OPEX Input'!N127+'I_OPEX Input'!$C$38*'I_OPEX Input'!$C$24*'I_OPEX Input'!M127+('I_Global Inputs'!$G$16*('I_OPEX Input'!$C$24*'I_OPEX Input'!K127+'I_OPEX Input'!$C$24*'I_OPEX Input'!N127+'I_OPEX Input'!$C$24*'I_OPEX Input'!M127))","v":38.050567549104009},{"$f":"'I_OPEX Input'!D127*'I_OPEX Input'!K127","v":1.4118086511531089},{"$f":"'I_OPEX Input'!H127*'I_OPEX Input'!N127","v":0.25869155221072437},{"$f":"'I_OPEX Input'!F127*'I_OPEX Input'!M127","v":1.1632800644338439},null,{"$f":"IF(D99<>\"Major (Cat V)\",0,(I_CAPEX!$J$41*I_CAPEX!$J$42*(I_CAPEX!$J$40=0)*'I_OPEX Input'!$C$49)*'I_OPEX Input'!K127+(I_CAPEX!$J$41*I_CAPEX!$J$42*'I_OPEX Input'!$N127*'I_OPEX Input'!$C$49)+(I_CAPEX!$J$41*I_CAPEX!$J$42*'I_OPEX Input'!$M127*'I_OPEX Input'!$C$49))","v":13.863249432525004},54.74759724942669,null,{"$f":"'I_OPEX Input'!Q127*O99+'I_OPEX Input'!R127*O99","v":8.4600000000000009},null,null,{"$f":"IF(D99=\"Major (Cat V)\",'I_OPEX Input'!$F$24/'I_OPEX Input'!$F$25,0)","v":1.8443395904436859},null,10.304339590443687,null,65.051936839870379,74.029104123772484]
[null,null,{"$f":"VLOOKUP(F100, 'I_OPEX Input'!$B$98:$C$188, 2, FALSE)","v":"SON2x400"},{"$f":"INDEX('I_Mapping & Lookups'!$Z:$Z,MATCH('C_OPEX Calc'!F100,'I_Mapping & Lookups'!$X:$X,0))","v":"Major (Cat V)"},null,"SON2x400",null,0,null,null,null,1.9828577401484269E-2,3.2561912355422808E-2,0.12612316407368807,{"$f":"1/'I_OPEX Input'!L128","v":0.16666666666666666},null,null,{"$f":"'I_OPEX Input'!$C$38*'I_OPEX Input'!$C$24*'I_OPEX Input'!K128+'I_OPEX Input'!$C$38*'I_OPEX Input'!$C$24*'I_OPEX Input'!N128+'I_OPEX Input'!$C$38*'I_OPEX Input'!$C$24*'I_OPEX Input'!M128+('I_Global Inputs'!$G$16*('I_OPEX Input'!$C$24*'I_OPEX Input'!K128+'I_OPEX Input'!$C$24*'I_OPEX Input'!N128+'I_OPEX Input'!$C$24*'I_OPEX Input'!M128))","v":38.050567549104009},{"$f":"'I_OPEX Input'!D128*'I_OPEX Input'!K128","v":1.6370972656988176},{"$f":"'I_OPEX Input'!H128*'I_OPEX Input'!N128","v":0.25869155221072437},{"$f":"'I_OPEX Input'!F128*'I_OPEX Input'!M128","v":1.1632800644338439},null,{"$f":"IF(D100<>\"Major (Cat V)\",0,(I_CAPEX!$J$41*I_CAPEX!$J$42*(I_CAPEX!$J$40=0)*'I_OPEX Input'!$C$49)*'I_OPEX Input'!K128+(I_CAPEX!$J$41*I_CAPEX!$J$42*'I_OPEX Input'!$N128*'I_OPEX Input'!$C$49)+(I_CAPEX!$J$41*I_CAPEX!$J$42*'I_OPEX Input'!$M128*'I_OPEX Input'!$C$49))","v":13.863249432525004},54.972885863972401,null,{"$f":"'I_OPEX Input'!Q128*O100+'I_OPEX Input'!R128*O100","v":8.4600000000000009},null,null,{"$f":"IF(D100=\"Major (Cat V)\",'I_OPEX Input'!$F$24/'I_OPEX Input'!$F$25,0)","v":1.8443395904436859},null,10.304339590443687,null,65.277225454416083,74.285482567125499]
[null,null,{"$f":"VLOOKUP(F101, 'I_OPEX Input'!$B$98:$C$188, 2, FALSE)","v":"SON4x250"},{"$f":"INDEX('I_Mapping & Lookups'!$Z:$Z,MATCH('C_OPEX Calc'!F101,'I_Mapping & Lookups'!$X:$X,0))","v":"Major (Cat V)"},null,"SON4x250",null,0,null,null,null,1.9828577401484269E-2,3.2561912355422808E-2,0.23633927563141766,{"$f":"1/'I_OPEX Input'!L129","v":0.16666666666666666},null,null,{"$f":"'I_OPEX Input'!$C$38*'I_OPEX Input'!$C$24*'I_OPEX Input'!K129+'I_OPEX Input'!$C$38*'I_OPEX Input'!$C$24*'I_OPEX Input'!N129+'I_OPEX Input'!$C$38*'I_OPEX Input'!$C$24*'I_OPEX Input'!M129+('I_Global Inputs'!$G$16*('I_OPEX Input'!$C$24*'I_OPEX Input'!K129+'I_OPEX Input'!$C$24*'I_OPEX Input'!N129+'I_OPEX Input'!$C$24*'I_OPEX Input'!M129))","v":61.543367723407577},{"$f":"'I_OPEX Input'!D129*'I_OPEX Input'!K129","v":2.6455555281561818},{"$f":"'I_OPEX Input'!H129*'I_OPEX Input'!N129","v":0.25869155221072437},{"$f":"'I_OPEX Input'!F129*'I_OPEX Input'!M129","v":1.1632800644338439},null,{"$f":"IF(D101<>\"Major (Cat V)\",0,(I_CAPEX!$J$41*I_CAPEX!$J$42*(I_CAPEX!$J$40=0)*'I_OPEX Input'!$C$49)*'I_OPEX Input'!K129+(I_CAPEX!$J$41*I_CAPEX!$J$42*'I_OPEX Input'!$N129*'I_OPEX Input'!$C$49)+(I_CAPEX!$J$41*I_CAPEX!$J$42*'I_OPEX Input'!$M129*'I_OPEX Input'!$C$49))","v":22.422557996439089},88.033452864647415,null,{"$f":"'I_OPEX Input'!Q129*O101+'I_OPEX Input'!R129*O101","v":8.4600000000000009},null,null,{"$f":"IF(D101=\"Major (Cat V)\",'I_OPEX Input'!$F$24/'I_OPEX Input'!$F$25,0)","v":1.8443395904436859},null,10.304339590443687,null,98.337792455091105,111.90840781389366]
[null,null,{"$f":"VLOOKUP(F102, 'I_OPEX Input'!$B$98:$C$188, 2, FALSE)","v":"SON4x600"},{"$f":"INDEX('I_Mapping & Lookups'!$Z:$Z,MATCH('C_OPEX Calc'!F102,'I_Mapping & Lookups'!$X:$X,0))","v":"Major (Cat V)"},null,"SON4x600",null,0,null,null,null,1.9828577401484269E-2,3.2561912355422808E-2,0.23633927563141766,{"$f":"1/'I_OPEX Input'!L130","v":0.16666666666666666},null,null,{"$f":"'I_OPEX Input'!$C$38*'I_OPEX Input'!$C$24*'I_OPEX Input'!K130+'I_OPEX Input'!$C$38*'I_OPEX Input'!$C$24*'I_OPEX Input'!N130+'I_OPEX Input'!$C$38*'I_OPEX Input'!$C$24*'I_OPEX Input'!M130+('I_Global Inputs'!$G$16*('I_OPEX Input'!$C$24*'I_OPEX Input'!K130+'I_OPEX Input'!$C$24*'I_OPEX Input'!N130+'I_OPEX Input'!$C$24*'I_OPEX Input'!M130))","v":61.543367723407577},{"$f":"'I_OPEX Input'!D130*'I_OPEX Input'!K130","v":7.8240897534831753},{"$f":"'I_OPEX Input'!H130*'I_OPEX Input'!N130","v":0.25869155221072437},{"$f":"'I_OPEX Input'!F130*'I_OPEX Input'!M130","v":1.1632800644338439},null,{"$f":"IF(D102<>\"Major (Cat V)\",0,(I_CAPEX!$J$41*I_CAPEX!$J$42*(I_CAPEX!$J$40=0)*'I_OPEX Input'!$C$49)*'I_OPEX Input'!K130+(I_CAPEX!$J$41*I_CAPEX!$J$42*'I_OPEX Input'!$N130*'I_OPEX Input'!$C$49)+(I_CAPEX!$J$41*I_CAPEX!$J$42*'I_OPEX Input'!$M130*'I_OPEX Input'!$C$49))","v":22.422557996439089},93.2119870899744,null,{"$f":"'I_OPEX Input'!Q130*O102+'I_OPEX Input'!R130*O102","v":8.4600000000000009},null,null,{"$f":"IF(D102=\"Major (Cat V)\",'I_OPEX Input'!$F$24/'I_OPEX Input'!$F$25,0)","v":1.8443395904436859},null,10.304339590443687,null,103.51632668041809,117.80157976231578]
[null,null,{"$f":"VLOOKUP(F103, 'I_OPEX Input'!$B$98:$C$188, 2, FALSE)","v":"TF1x20"},{"$f":"INDEX('I_Mapping & Lookups'!$Z:$Z,MATCH('C_OPEX Calc'!F103,'I_Mapping & Lookups'!$X:$X,0))","v":"Minor (Cat P)"},null,"TF1x20",null,0,null,null,null,1.9828577401484269E-2,3.2561912355422808E-2,0.06,{"$f":"1/'I_OPEX Input'!L131","v":0.16666666666666666},null,null,{"$f":"'I_OPEX Input'!$C$38*'I_OPEX Input'!$C$24*'I_OPEX Input'!K131+'I_OPEX Input'!$C$38*'I_OPEX Input'!$C$24*'I_OPEX Input'!N131+'I_OPEX Input'!$C$38*'I_OPEX Input'!$C$24*'I_OPEX Input'!M131+('I_Global Inputs'!$G$16*('I_OPEX Input'!$C$24*'I_OPEX Input'!K131+'I_OPEX Input'!$C$24*'I_OPEX Input'!N131+'I_OPEX Input'!$C$24*'I_OPEX Input'!M131))","v":23.956273543257279},{"$f":"'I_OPEX Input'!D131*'I_OPEX Input'!K131","v":9.2885458768956278E-2},{"$f":"'I_OPEX Input'!H131*'I_OPEX Input'!N131","v":0.25869155221072437},{"$f":"'I_OPEX Input'!F131*'I_OPEX Input'!M131","v":1.1632800644338439},null,{"$f":"IF(D103<>\"Major (Cat V)\",0,(I_CAPEX!$J$41*I_CAPEX!$J$42*(I_CAPEX!$J$40=0)*'I_OPEX Input'!$C$49)*'I_OPEX Input'!K131+(I_CAPEX!$J$41*I_CAPEX!$J$42*'I_OPEX Input'!$N131*'I_OPEX Input'!$C$49)+(I_CAPEX!$J$41*I_CAPEX!$J$42*'I_OPEX Input'!$M131*'I_OPEX Input'!$C$49))","v":0},25.471130618670806,null,{"$f":"'I_OPEX Input'!Q131*O103+'I_OPEX Input'!R131*O103","v":7.2},null,null,{"$f":"IF(D103=\"Major (Cat V)\",'I_OPEX Input'!$F$24/'I_OPEX Input'!$F$25,0)","v":0},null,7.2,null,32.671130618670809,37.179746644047377]
[null,null,{"$f":"VLOOKUP(F104, 'I_OPEX Input'!$B$98:$C$188, 2, FALSE)","v":"TF1x40"},{"$f":"INDEX('I_Mapping & Lookups'!$Z:$Z,MATCH('C_OPEX Calc'!F104,'I_Mapping & Lookups'!$X:$X,0))","v":"Minor (Cat P)"},null,"TF1x40",null,0,null,null,null,1.9828577401484269E-2,3.2561912355422808E-2,0.158,{"$f":"1/'I_OPEX Input'!L132","v":0.16666666666666666},null,null,{"$f":"'I_OPEX Input'!$C$38*'I_OPEX Input'!$C$24*'I_OPEX Input'!K132+'I_OPEX Input'!$C$38*'I_OPEX Input'!$C$24*'I_OPEX Input'!N132+'I_OPEX Input'!$C$38*'I_OPEX Input'!$C$24*'I_OPEX Input'!M132+('I_Global Inputs'!$G$16*('I_OPEX Input'!$C$24*'I_OPEX Input'!K132+'I_OPEX Input'!$C$24*'I_OPEX Input'!N132+'I_OPEX Input'!$C$24*'I_OPEX Input'!M132))","v":44.84518338177795},{"$f":"'I_OPEX Input'!D132*'I_OPEX Input'!K132","v":0.28222889395182865},{"$f":"'I_OPEX Input'!H132*'I_OPEX Input'!N132","v":0.25869155221072437},{"$f":"'I_OPEX Input'!F132*'I_OPEX Input'!M132","v":1.1632800644338439},null,{"$f":"IF(D104<>\"Major (Cat V)\",0,(I_CAPEX!$J$41*I_CAPEX!$J$42*(I_CAPEX!$J$40=0)*'I_OPEX Input'!$C$49)*'I_OPEX Input'!K132+(I_CAPEX!$J$41*I_CAPEX!$J$42*'I_OPEX Input'!$N132*'I_OPEX Input'!$C$49)+(I_CAPEX!$J$41*I_CAPEX!$J$42*'I_OPEX Input'!$M132*'I_OPEX Input'!$C$49))","v":0},46.549383892374351,null,{"$f":"'I_OPEX Input'!Q132*O104+'I_OPEX Input'!R132*O104","v":7.2},null,null,{"$f":"IF(D104=\"Major (Cat V)\",'I_OPEX Input'!$F$24/'I_OPEX Input'!$F$25,0)","v":0},null,7.2,null,53.749383892374354,61.166798869522012]
[null,null,{"$f":"VLOOKUP(F105, 'I_OPEX Input'!$B$98:$C$188, 2, FALSE)","v":"TF1x80"},{"$f":"INDEX('I_Mapping & Lookups'!$Z:$Z,MATCH('C_OPEX Calc'!F105,'I_Mapping & Lookups'!$X:$X,0))","v":"Minor (Cat P)"},null,"TF1x80",null,0,null,null,null,1.9828577401484269E-2,3.2561912355422808E-2,0.06,{"$f":"1/'I_OPEX Input'!L133","v":0.16666666666666666},null,null,{"$f":"'I_OPEX Input'!$C$38*'I_OPEX Input'!$C$24*'I_OPEX Input'!K133+'I_OPEX Input'!$C$38*'I_OPEX Input'!$C$24*'I_OPEX Input'!N133+'I_OPEX Input'!$C$38*'I_OPEX Input'!$C$24*'I_OPEX Input'!M133+('I_Global Inputs'!$G$16*('I_OPEX Input'!$C$24*'I_OPEX Input'!K133+'I_OPEX Input'!$C$24*'I_OPEX Input'!N133+'I_OPEX Input'!$C$24*'I_OPEX Input'!M133))","v":23.956273543257279},{"$f":"'I_OPEX Input'!D133*'I_OPEX Input'!K133","v":0.10717552934879569},{"$f":"'I_OPEX Input'!H133*'I_OPEX Input'!N133","v":0.25869155221072437},{"$f":"'I_OPEX Input'!F133*'I_OPEX Input'!M133","v":1.1632800644338439},null,{"$f":"IF(D105<>\"Major (Cat V)\",0,(I_CAPEX!$J$41*I_CAPEX!$J$42*(I_CAPEX!$J$40=0)*'I_OPEX Input'!$C$49)*'I_OPEX Input'!K133+(I_CAPEX!$J$41*I_CAPEX!$J$42*'I_OPEX Input'!$N133*'I_OPEX Input'!$C$49)+(I_CAPEX!$J$41*I_CAPEX!$J$42*'I_OPEX Input'!$M133*'I_OPEX Input'!$C$49))","v":0},25.485420689250642,null,{"$f":"'I_OPEX Input'!Q133*O105+'I_OPEX Input'!R133*O105","v":7.2},null,null,{"$f":"IF(D105=\"Major (Cat V)\",'I_OPEX Input'!$F$24/'I_OPEX Input'!$F$25,0)","v":0},null,7.2,null,32.685420689250641,37.196008744367226]
[null,null,{"$f":"VLOOKUP(F106, 'I_OPEX Input'!$B$98:$C$188, 2, FALSE)","v":"TF2x14 T5"},{"$f":"INDEX('I_Mapping & Lookups'!$Z:$Z,MATCH('C_OPEX Calc'!F106,'I_Mapping & Lookups'!$X:$X,0))","v":"Minor (Cat P)"},null,"TF2x14 T5",null,0,null,null,null,1.9828577401484269E-2,3.2561912355422808E-2,0.06,{"$f":"1/'I_OPEX Input'!L134","v":0.16666666666666666},null,null,{"$f":"'I_OPEX Input'!$C$38*'I_OPEX Input'!$C$24*'I_OPEX Input'!K134+'I_OPEX Input'!$C$38*'I_OPEX Input'!$C$24*'I_OPEX Input'!N134+'I_OPEX Input'!$C$38*'I_OPEX Input'!$C$24*'I_OPEX Input'!M134+('I_Global Inputs'!$G$16*('I_OPEX Input'!$C$24*'I_OPEX Input'!K134+'I_OPEX Input'!$C$24*'I_OPEX Input'!N134+'I_OPEX Input'!$C$24*'I_OPEX Input'!M134))","v":23.956273543257279},{"$f":"'I_OPEX Input'!D134*'I_OPEX Input'!K134","v":0.10717552934879569},{"$f":"'I_OPEX Input'!H134*'I_OPEX Input'!N134","v":0.25869155221072437},{"$f":"'I_OPEX Input'!F134*'I_OPEX Input'!M134","v":1.1632800644338439},null,{"$f":"IF(D106<>\"Major (Cat V)\",0,(I_CAPEX!$J$41*I_CAPEX!$J$42*(I_CAPEX!$J$40=0)*'I_OPEX Input'!$C$49)*'I_OPEX Input'!K134+(I_CAPEX!$J$41*I_CAPEX!$J$42*'I_OPEX Input'!$N134*'I_OPEX Input'!$C$49)+(I_CAPEX!$J$41*I_CAPEX!$J$42*'I_OPEX Input'!$M134*'I_OPEX Input'!$C$49))","v":0},25.485420689250642,null,{"$f":"'I_OPEX Input'!Q134*O106+'I_OPEX Input'!R134*O106","v":7.2},null,null,{"$f":"IF(D106=\"Major (Cat V)\",'I_OPEX Input'!$F$24/'I_OPEX Input'!$F$25,0)","v":0},null,7.2,null,32.685420689250641,37.196008744367226]
[null,null,{"$f":"VLOOKUP(F107, 'I_OPEX Input'!$B$98:$C$188, 2, FALSE)","v":"TF2x20"},{"$f":"INDEX('I_Mapping & Lookups'!$Z:$Z,MATCH('C_OPEX Calc'!F107,'I_Mapping & Lookups'!$X:$X,0))","v":"Minor (Cat P)"},null,"TF2x20",null,0,null,null,null,1.9828577401484269E-2,3.2561912355422808E-2,0.10290000000000001,{"$f":"1/'I_OPEX Input'!L135","v":0.16666666666666666},null,null,{"$f":"'I_OPEX Input'!$C$38*'I_OPEX Input'!$C$24*'I_OPEX Input'!K135+'I_OPEX Input'!$C$38*'I_OPEX Input'!$C$24*'I_OPEX Input'!N135+'I_OPEX Input'!$C$38*'I_OPEX Input'!$C$24*'I_OPEX Input'!M135+('I_Global Inputs'!$G$16*('I_OPEX Input'!$C$24*'I_OPEX Input'!K135+'I_OPEX Input'!$C$24*'I_OPEX Input'!N135+'I_OPEX Input'!$C$24*'I_OPEX Input'!M135))","v":33.100500401140309},{"$f":"'I_OPEX Input'!D135*'I_OPEX Input'!K135","v":0.15929856178876003},{"$f":"'I_OPEX Input'!H135*'I_OPEX Input'!N135","v":0.25869155221072437},{"$f":"'I_OPEX Input'!F135*'I_OPEX Input'!M135","v":1.1632800644338439},null,{"$f":"IF(D107<>\"Major (Cat V)\",0,(I_CAPEX!$J$41*I_CAPEX!$J$42*(I_CAPEX!$J$40=0)*'I_OPEX Input'!$C$49)*'I_OPEX Input'!K135+(I_CAPEX!$J$41*I_CAPEX!$J$42*'I_OPEX Input'!$N135*'I_OPEX Input'!$C$49)+(I_CAPEX!$J$41*I_CAPEX!$J$42*'I_OPEX Input'!$M135*'I_OPEX Input'!$C$49))","v":0},34.681770579573637,null,{"$f":"'I_OPEX Input'!Q135*O107+'I_OPEX Input'!R135*O107","v":7.2},null,null,{"$f":"IF(D107=\"Major (Cat V)\",'I_OPEX Input'!$F$24/'I_OPEX Input'!$F$25,0)","v":0},null,7.2,null,41.88177057957364,47.661454919554799]
[null,null,{"$f":"VLOOKUP(F108, 'I_OPEX Input'!$B$98:$C$188, 2, FALSE)","v":"TF2x26"},{"$f":"INDEX('I_Mapping & Lookups'!$Z:$Z,MATCH('C_OPEX Calc'!F108,'I_Mapping & Lookups'!$X:$X,0))","v":"Minor (Cat P)"},null,"TF2x26",null,0,null,null,null,1.9828577401484269E-2,3.2561912355422808E-2,0.06,{"$f":"1/'I_OPEX Input'!L136","v":0.16666666666666666},null,null,{"$f":"'I_OPEX Input'!$C$38*'I_OPEX Input'!$C$24*'I_OPEX Input'!K136+'I_OPEX Input'!$C$38*'I_OPEX Input'!$C$24*'I_OPEX Input'!N136+'I_OPEX Input'!$C$38*'I_OPEX Input'!$C$24*'I_OPEX Input'!M136+('I_Global Inputs'!$G$16*('I_OPEX Input'!$C$24*'I_OPEX Input'!K136+'I_OPEX Input'!$C$24*'I_OPEX Input'!N136+'I_OPEX Input'!$C$24*'I_OPEX Input'!M136))","v":23.956273543257279},{"$f":"'I_OPEX Input'!D136*'I_OPEX Input'!K136","v":0.10717552934879569},{"$f":"'I_OPEX Input'!H136*'I_OPEX Input'!N136","v":0.25869155221072437},{"$f":"'I_OPEX Input'!F136*'I_OPEX Input'!M136","v":1.1632800644338439},null,{"$f":"IF(D108<>\"Major (Cat V)\",0,(I_CAPEX!$J$41*I_CAPEX!$J$42*(I_CAPEX!$J$40=0)*'I_OPEX Input'!$C$49)*'I_OPEX Input'!K136+(I_CAPEX!$J$41*I_CAPEX!$J$42*'I_OPEX Input'!$N136*'I_OPEX Input'!$C$49)+(I_CAPEX!$J$41*I_CAPEX!$J$42*'I_OPEX Input'!$M136*'I_OPEX Input'!$C$49))","v":0},25.485420689250642,null,{"$f":"'I_OPEX Input'!Q136*O108+'I_OPEX Input'!R136*O108","v":7.2},null,null,{"$f":"IF(D108=\"Major (Cat V)\",'I_OPEX Input'!$F$24/'I_OPEX Input'!$F$25,0)","v":0},null,7.2,null,32.685420689250641,37.196008744367226]
[null,null,{"$f":"VLOOKUP(F109, 'I_OPEX Input'!$B$98:$C$188, 2, FALSE)","v":"TF2x40"},{"$f":"INDEX('I_Mapping & Lookups'!$Z:$Z,MATCH('C_OPEX Calc'!F109,'I_Mapping & Lookups'!$X:$X,0))","v":"Minor (Cat P)"},null,"TF2x40",null,0,null,null,null,1.9828577401484269E-2,3.2561912355422808E-2,0.06,{"$f":"1/'I_OPEX Input'!L137","v":0.16666666666666666},null,null,{"$f":"'I_OPEX Input'!$C$38*'I_OPEX Input'!$C$24*'I_OPEX Input'!K137+'I_OPEX Input'!$C$38*'I_OPEX Input'!$C$24*'I_OPEX Input'!N137+'I_OPEX Input'!$C$38*'I_OPEX Input'!$C$24*'I_OPEX Input'!M137+('I_Global Inputs'!$G$16*('I_OPEX Input'!$C$24*'I_OPEX Input'!K137+'I_OPEX Input'!$C$24*'I_OPEX Input'!N137+'I_OPEX Input'!$C$24*'I_OPEX Input'!M137))","v":23.956273543257279},{"$f":"'I_OPEX Input'!D137*'I_OPEX Input'!K137","v":0.10717552934879569},{"$f":"'I_OPEX Input'!H137*'I_OPEX Input'!N137","v":0.25869155221072437},{"$f":"'I_OPEX Input'!F137*'I_OPEX Input'!M137","v":1.1632800644338439},null,{"$f":"IF(D109<>\"Major (Cat V)\",0,(I_CAPEX!$J$41*I_CAPEX!$J$42*(I_CAPEX!$J$40=0)*'I_OPEX Input'!$C$49)*'I_OPEX Input'!K137+(I_CAPEX!$J$41*I_CAPEX!$J$42*'I_OPEX Input'!$N137*'I_OPEX Input'!$C$49)+(I_CAPEX!$J$41*I_CAPEX!$J$42*'I_OPEX Input'!$M137*'I_OPEX Input'!$C$49))","v":0},25.485420689250642,null,{"$f":"'I_OPEX Input'!Q137*O109+'I_OPEX Input'!R137*O109","v":7.2},null,null,{"$f":"IF(D109=\"Major (Cat V)\",'I_OPEX Input'!$F$24/'I_OPEX Input'!$F$25,0)","v":0},null,7.2,null,32.685420689250641,37.196008744367226]
[null,null,{"$f":"VLOOKUP(F110, 'I_OPEX Input'!$B$98:$C$188, 2, FALSE)","v":"TF4x20"},{"$f":"INDEX('I_Mapping & Lookups'!$Z:$Z,MATCH('C_OPEX Calc'!F110,'I_Mapping & Lookups'!$X:$X,0))","v":"Minor (Cat P)"},null,"TF4x20",null,0,null,null,null,1.9828577401484269E-2,3.2561912355422808E-2,0.06,{"$f":"1/'I_OPEX Input'!L138","v":0.16666666666666666},null,null,{"$f":"'I_OPEX Input'!$C$38*'I_OPEX Input'!$C$24*'I_OPEX Input'!K138+'I_OPEX Input'!$C$38*'I_OPEX Input'!$C$24*'I_OPEX Input'!N138+'I_OPEX Input'!$C$38*'I_OPEX Input'!$C$24*'I_OPEX Input'!M138+('I_Global Inputs'!$G$16*('I_OPEX Input'!$C$24*'I_OPEX Input'!K138+'I_OPEX Input'!$C$24*'I_OPEX Input'!N138+'I_OPEX Input'!$C$24*'I_OPEX Input'!M138))","v":23.956273543257279},{"$f":"'I_OPEX Input'!D138*'I_OPEX Input'!K138","v":9.2885458768956278E-2},{"$f":"'I_OPEX Input'!H138*'I_OPEX Input'!N138","v":0.25869155221072437},{"$f":"'I_OPEX Input'!F138*'I_OPEX Input'!M138","v":1.1632800644338439},null,{"$f":"IF(D110<>\"Major (Cat V)\",0,(I_CAPEX!$J$41*I_CAPEX!$J$42*(I_CAPEX!$J$40=0)*'I_OPEX Input'!$C$49)*'I_OPEX Input'!K138+(I_CAPEX!$J$41*I_CAPEX!$J$42*'I_OPEX Input'!$N138*'I_OPEX Input'!$C$49)+(I_CAPEX!$J$41*I_CAPEX!$J$42*'I_OPEX Input'!$M138*'I_OPEX Input'!$C$49))","v":0},25.471130618670806,null,{"$f":"'I_OPEX Input'!Q138*O110+'I_OPEX Input'!R138*O110","v":7.2},null,null,{"$f":"IF(D110=\"Major (Cat V)\",'I_OPEX Input'!$F$24/'I_OPEX Input'!$F$25,0)","v":0},null,7.2,null,32.671130618670809,37.179746644047377]
[null,null,{"$f":"VLOOKUP(F111, 'I_OPEX Input'!$B$98:$C$188, 2, FALSE)","v":"TF4x40"},{"$f":"INDEX('I_Mapping & Lookups'!$Z:$Z,MATCH('C_OPEX Calc'!F111,'I_Mapping & Lookups'!$X:$X,0))","v":"Minor (Cat P)"},null,"TF4x40",null,0,null,null,null,1.9828577401484269E-2,3.2561912355422808E-2,0.06,{"$f":"1/'I_OPEX Input'!L139","v":0.16666666666666666},null,null,{"$f":"'I_OPEX Input'!$C$38*'I_OPEX Input'!$C$24*'I_OPEX Input'!K139+'I_OPEX Input'!$C$38*'I_OPEX Input'!$C$24*'I_OPEX Input'!N139+'I_OPEX Input'!$C$38*'I_OPEX Input'!$C$24*'I_OPEX Input'!M139+('I_Global Inputs'!$G$16*('I_OPEX Input'!$C$24*'I_OPEX Input'!K139+'I_OPEX Input'!$C$24*'I_OPEX Input'!N139+'I_OPEX Input'!$C$24*'I_OPEX Input'!M139))","v":23.956273543257279},{"$f":"'I_OPEX Input'!D139*'I_OPEX Input'!K139","v":0.10717552934879569},{"$f":"'I_OPEX Input'!H139*'I_OPEX Input'!N139","v":0.25869155221072437},{"$f":"'I_OPEX Input'!F139*'I_OPEX Input'!M139","v":1.1632800644338439},null,{"$f":"IF(D111<>\"Major (Cat V)\",0,(I_CAPEX!$J$41*I_CAPEX!$J$42*(I_CAPEX!$J$40=0)*'I_OPEX Input'!$C$49)*'I_OPEX Input'!K139+(I_CAPEX!$J$41*I_CAPEX!$J$42*'I_OPEX Input'!$N139*'I_OPEX Input'!$C$49)+(I_CAPEX!$J$41*I_CAPEX!$J$42*'I_OPEX Input'!$M139*'I_OPEX Input'!$C$49))","v":0},25.485420689250642,null,{"$f":"'I_OPEX Input'!Q139*O111+'I_OPEX Input'!R139*O111","v":7.2},null,null,{"$f":"IF(D111=\"Major (Cat V)\",'I_OPEX Input'!$F$24/'I_OPEX Input'!$F$25,0)","v":0},null,7.2,null,32.685420689250641,37.196008744367226]
[null,null,{"$f":"VLOOKUP(F112, 'I_OPEX Input'!$B$98:$C$188, 2, FALSE)","v":"LED TRIAL"},{"$f":"INDEX('I_Mapping & Lookups'!$Z:$Z,MATCH('C_OPEX Calc'!F112,'I_Mapping & Lookups'!$X:$X,0))","v":"Minor (Cat P)"},null,"LED TRIAL",null,0,null,null,null,1.9828577401484269E-2,3.2561912355422808E-2,0,{"$f":"1/'I_OPEX Input'!L140","v":0.16666666666666666},null,null,{"$f":"'I_OPEX Input'!$C$38*'I_OPEX Input'!$C$24*'I_OPEX Input'!K140+'I_OPEX Input'!$C$38*'I_OPEX Input'!$C$24*'I_OPEX Input'!N140+'I_OPEX Input'!$C$38*'I_OPEX Input'!$C$24*'I_OPEX Input'!M140+('I_Global Inputs'!$G$16*('I_OPEX Input'!$C$24*'I_OPEX Input'!K140+'I_OPEX Input'!$C$24*'I_OPEX Input'!N140+'I_OPEX Input'!$C$24*'I_OPEX Input'!M140))","v":11.1671450706936},{"$f":"'I_OPEX Input'!D140*'I_OPEX Input'!K140","v":0},{"$f":"'I_OPEX Input'!H140*'I_OPEX Input'!N140","v":0.25869155221072437},{"$f":"'I_OPEX Input'!F140*'I_OPEX Input'!M140","v":1.1632800644338439},null,{"$f":"IF(D112<>\"Major (Cat V)\",0,(I_CAPEX!$J$41*I_CAPEX!$J$42*(I_CAPEX!$J$40=0)*'I_OPEX Input'!$C$49)*'I_OPEX Input'!K140+(I_CAPEX!$J$41*I_CAPEX!$J$42*'I_OPEX Input'!$N140*'I_OPEX Input'!$C$49)+(I_CAPEX!$J$41*I_CAPEX!$J$42*'I_OPEX Input'!$M140*'I_OPEX Input'!$C$49))","v":0},12.589116687338167,null,{"$f":"'I_OPEX Input'!Q140*O112+'I_OPEX Input'!R140*O112","v":7.2},null,null,{"$f":"IF(D112=\"Major (Cat V)\",'I_OPEX Input'!$F$24/'I_OPEX Input'!$F$25,0)","v":0},null,7.2,null,19.789116687338169,22.520014790190835]
[null,null,{"$f":"VLOOKUP(F113, 'I_OPEX Input'!$B$98:$C$188, 2, FALSE)","v":"LED1x100"},{"$f":"INDEX('I_Mapping & Lookups'!$Z:$Z,MATCH('C_OPEX Calc'!F113,'I_Mapping & Lookups'!$X:$X,0))","v":"Major (Cat V)"},null,"LED1x100",null,0,null,null,null,1.9828577401484269E-2,3.2561912355422808E-2,0,{"$f":"1/'I_OPEX Input'!L141","v":0.16666666666666666},null,null,{"$f":"'I_OPEX Input'!$C$38*'I_OPEX Input'!$C$24*'I_OPEX Input'!K141+'I_OPEX Input'!$C$38*'I_OPEX Input'!$C$24*'I_OPEX Input'!N141+'I_OPEX Input'!$C$38*'I_OPEX Input'!$C$24*'I_OPEX Input'!M141+('I_Global Inputs'!$G$16*('I_OPEX Input'!$C$24*'I_OPEX Input'!K141+'I_OPEX Input'!$C$24*'I_OPEX Input'!N141+'I_OPEX Input'!$C$24*'I_OPEX Input'!M141))","v":11.1671450706936},{"$f":"'I_OPEX Input'!D141*'I_OPEX Input'!K141","v":0},{"$f":"'I_OPEX Input'!H141*'I_OPEX Input'!N141","v":0.25869155221072437},{"$f":"'I_OPEX Input'!F141*'I_OPEX Input'!M141","v":1.1632800644338439},null,{"$f":"IF(D113<>\"Major (Cat V)\",0,(I_CAPEX!$J$41*I_CAPEX!$J$42*(I_CAPEX!$J$40=0)*'I_OPEX Input'!$C$49)*'I_OPEX Input'!K141+(I_CAPEX!$J$41*I_CAPEX!$J$42*'I_OPEX Input'!$N141*'I_OPEX Input'!$C$49)+(I_CAPEX!$J$41*I_CAPEX!$J$42*'I_OPEX Input'!$M141*'I_OPEX Input'!$C$49))","v":4.0686099455529119},16.65772663289108,null,{"$f":"'I_OPEX Input'!Q141*O113+'I_OPEX Input'!R141*O113","v":8.4600000000000009},null,null,{"$f":"IF(D113=\"Major (Cat V)\",'I_OPEX Input'!$F$24/'I_OPEX Input'!$F$25,0)","v":1.8443395904436859},null,10.304339590443687,null,26.962066223334766,30.68283136215496]
[null,null,{"$f":"VLOOKUP(F114, 'I_OPEX Input'!$B$98:$C$188, 2, FALSE)","v":"LED1x17"},{"$f":"INDEX('I_Mapping & Lookups'!$Z:$Z,MATCH('C_OPEX Calc'!F114,'I_Mapping & Lookups'!$X:$X,0))","v":"Minor (Cat P)"},null,"LED1x17",null,0,null,null,null,1.9828577401484269E-2,3.2561912355422808E-2,0,{"$f":"1/'I_OPEX Input'!L142","v":0.16666666666666666},null,null,{"$f":"'I_OPEX Input'!$C$38*'I_OPEX Input'!$C$24*'I_OPEX Input'!K142+'I_OPEX Input'!$C$38*'I_OPEX Input'!$C$24*'I_OPEX Input'!N142+'I_OPEX Input'!$C$38*'I_OPEX Input'!$C$24*'I_OPEX Input'!M142+('I_Global Inputs'!$G$16*('I_OPEX Input'!$C$24*'I_OPEX Input'!K142+'I_OPEX Input'!$C$24*'I_OPEX Input'!N142+'I_OPEX Input'!$C$24*'I_OPEX Input'!M142))","v":11.1671450706936},{"$f":"'I_OPEX Input'!D142*'I_OPEX Input'!K142","v":0},{"$f":"'I_OPEX Input'!H142*'I_OPEX Input'!N142","v":0.25869155221072437},{"$f":"'I_OPEX Input'!F142*'I_OPEX Input'!M142","v":1.1632800644338439},null,{"$f":"IF(D114<>\"Major (Cat V)\",0,(I_CAPEX!$J$41*I_CAPEX!$J$42*(I_CAPEX!$J$40=0)*'I_OPEX Input'!$C$49)*'I_OPEX Input'!K142+(I_CAPEX!$J$41*I_CAPEX!$J$42*'I_OPEX Input'!$N142*'I_OPEX Input'!$C$49)+(I_CAPEX!$J$41*I_CAPEX!$J$42*'I_OPEX Input'!$M142*'I_OPEX Input'!$C$49))","v":0},12.589116687338167,null,{"$f":"'I_OPEX Input'!Q142*O114+'I_OPEX Input'!R142*O114","v":7.2},null,null,{"$f":"IF(D114=\"Major (Cat V)\",'I_OPEX Input'!$F$24/'I_OPEX Input'!$F$25,0)","v":0},null,7.2,null,19.789116687338169,22.520014790190835]
[null,null,{"$f":"VLOOKUP(F115, 'I_OPEX Input'!$B$98:$C$188, 2, FALSE)","v":"LED1x200"},{"$f":"INDEX('I_Mapping & Lookups'!$Z:$Z,MATCH('C_OPEX Calc'!F115,'I_Mapping & Lookups'!$X:$X,0))","v":"Major (Cat V)"},null,"LED1x200",null,0,null,null,null,1.9828577401484269E-2,3.2561912355422808E-2,0,{"$f":"1/'I_OPEX Input'!L143","v":0.16666666666666666},null,null,{"$f":"'I_OPEX Input'!$C$38*'I_OPEX Input'!$C$24*'I_OPEX Input'!K143+'I_OPEX Input'!$C$38*'I_OPEX Input'!$C$24*'I_OPEX Input'!N143+'I_OPEX Input'!$C$38*'I_OPEX Input'!$C$24*'I_OPEX Input'!M143+('I_Global Inputs'!$G$16*('I_OPEX Input'!$C$24*'I_OPEX Input'!K143+'I_OPEX Input'!$C$24*'I_OPEX Input'!N143+'I_OPEX Input'!$C$24*'I_OPEX Input'!M143))","v":11.1671450706936},{"$f":"'I_OPEX Input'!D143*'I_OPEX Input'!K143","v":0},{"$f":"'I_OPEX Input'!H143*'I_OPEX Input'!N143","v":0.25869155221072437},{"$f":"'I_OPEX Input'!F143*'I_OPEX Input'!M143","v":1.1632800644338439},null,{"$f":"IF(D115<>\"Major (Cat V)\",0,(I_CAPEX!$J$41*I_CAPEX!$J$42*(I_CAPEX!$J$40=0)*'I_OPEX Input'!$C$49)*'I_OPEX Input'!K143+(I_CAPEX!$J$41*I_CAPEX!$J$42*'I_OPEX Input'!$N143*'I_OPEX Input'!$C$49)+(I_CAPEX!$J$41*I_CAPEX!$J$42*'I_OPEX Input'!$M143*'I_OPEX Input'!$C$49))","v":4.0686099455529119},16.65772663289108,null,{"$f":"'I_OPEX Input'!Q143*O115+'I_OPEX Input'!R143*O115","v":8.4600000000000009},null,null,{"$f":"IF(D115=\"Major (Cat V)\",'I_OPEX Input'!$F$24/'I_OPEX Input'!$F$25,0)","v":1.8443395904436859},null,10.304339590443687,null,26.962066223334766,30.68283136215496]
[null,null,{"$f":"VLOOKUP(F116, 'I_OPEX Input'!$B$98:$C$188, 2, FALSE)","v":"LED1x22"},{"$f":"INDEX('I_Mapping & Lookups'!$Z:$Z,MATCH('C_OPEX Calc'!F116,'I_Mapping & Lookups'!$X:$X,0))","v":"Minor (Cat P)"},null,"LED1x22",null,0,null,null,null,1.9828577401484269E-2,3.2561912355422808E-2,0,{"$f":"1/'I_OPEX Input'!L144","v":0.16666666666666666},null,null,{"$f":"'I_OPEX Input'!$C$38*'I_OPEX Input'!$C$24*'I_OPEX Input'!K144+'I_OPEX Input'!$C$38*'I_OPEX Input'!$C$24*'I_OPEX Input'!N144+'I_OPEX Input'!$C$38*'I_OPEX Input'!$C$24*'I_OPEX Input'!M144+('I_Global Inputs'!$G$16*('I_OPEX Input'!$C$24*'I_OPEX Input'!K144+'I_OPEX Input'!$C$24*'I_OPEX Input'!N144+'I_OPEX Input'!$C$24*'I_OPEX Input'!M144))","v":11.1671450706936},{"$f":"'I_OPEX Input'!D144*'I_OPEX Input'!K144","v":0},{"$f":"'I_OPEX Input'!H144*'I_OPEX Input'!N144","v":0.25869155221072437},{"$f":"'I_OPEX Input'!F144*'I_OPEX Input'!M144","v":1.1632800644338439},null,{"$f":"IF(D116<>\"Major (Cat V)\",0,(I_CAPEX!$J$41*I_CAPEX!$J$42*(I_CAPEX!$J$40=0)*'I_OPEX Input'!$C$49)*'I_OPEX Input'!K144+(I_CAPEX!$J$41*I_CAPEX!$J$42*'I_OPEX Input'!$N144*'I_OPEX Input'!$C$49)+(I_CAPEX!$J$41*I_CAPEX!$J$42*'I_OPEX Input'!$M144*'I_OPEX Input'!$C$49))","v":0},12.589116687338167,null,{"$f":"'I_OPEX Input'!Q144*O116+'I_OPEX Input'!R144*O116","v":7.2},null,null,{"$f":"IF(D116=\"Major (Cat V)\",'I_OPEX Input'!$F$24/'I_OPEX Input'!$F$25,0)","v":0},null,7.2,null,19.789116687338169,22.520014790190835]
[null,null,{"$f":"VLOOKUP(F117, 'I_OPEX Input'!$B$98:$C$188, 2, FALSE)","v":"LED1x25 GE"},{"$f":"INDEX('I_Mapping & Lookups'!$Z:$Z,MATCH('C_OPEX Calc'!F117,'I_Mapping & Lookups'!$X:$X,0))","v":"Minor (Cat P)"},null,"LED1x25 GE",null,0,null,null,null,1.9828577401484269E-2,3.2561912355422808E-2,0,{"$f":"1/'I_OPEX Input'!L145","v":0.16666666666666666},null,null,{"$f":"'I_OPEX Input'!$C$38*'I_OPEX Input'!$C$24*'I_OPEX Input'!K145+'I_OPEX Input'!$C$38*'I_OPEX Input'!$C$24*'I_OPEX Input'!N145+'I_OPEX Input'!$C$38*'I_OPEX Input'!$C$24*'I_OPEX Input'!M145+('I_Global Inputs'!$G$16*('I_OPEX Input'!$C$24*'I_OPEX Input'!K145+'I_OPEX Input'!$C$24*'I_OPEX Input'!N145+'I_OPEX Input'!$C$24*'I_OPEX Input'!M145))","v":11.1671450706936},{"$f":"'I_OPEX Input'!D145*'I_OPEX Input'!K145","v":0},{"$f":"'I_OPEX Input'!H145*'I_OPEX Input'!N145","v":0.25869155221072437},{"$f":"'I_OPEX Input'!F145*'I_OPEX Input'!M145","v":1.1632800644338439},null,{"$f":"IF(D117<>\"Major (Cat V)\",0,(I_CAPEX!$J$41*I_CAPEX!$J$42*(I_CAPEX!$J$40=0)*'I_OPEX Input'!$C$49)*'I_OPEX Input'!K145+(I_CAPEX!$J$41*I_CAPEX!$J$42*'I_OPEX Input'!$N145*'I_OPEX Input'!$C$49)+(I_CAPEX!$J$41*I_CAPEX!$J$42*'I_OPEX Input'!$M145*'I_OPEX Input'!$C$49))","v":0},12.589116687338167,null,{"$f":"'I_OPEX Input'!Q145*O117+'I_OPEX Input'!R145*O117","v":7.2},null,null,{"$f":"IF(D117=\"Major (Cat V)\",'I_OPEX Input'!$F$24/'I_OPEX Input'!$F$25,0)","v":0},null,7.2,null,19.789116687338169,22.520014790190835]
[null,null,{"$f":"VLOOKUP(F118, 'I_OPEX Input'!$B$98:$C$188, 2, FALSE)","v":"LED1x28"},{"$f":"INDEX('I_Mapping & Lookups'!$Z:$Z,MATCH('C_OPEX Calc'!F118,'I_Mapping & Lookups'!$X:$X,0))","v":"Minor (Cat P)"},null,"LED1x28",null,0,null,null,null,1.9828577401484269E-2,3.2561912355422808E-2,0,{"$f":"1/'I_OPEX Input'!L146","v":0.16666666666666666},null,null,{"$f":"'I_OPEX Input'!$C$38*'I_OPEX Input'!$C$24*'I_OPEX Input'!K146+'I_OPEX Input'!$C$38*'I_OPEX Input'!$C$24*'I_OPEX Input'!N146+'I_OPEX Input'!$C$38*'I_OPEX Input'!$C$24*'I_OPEX Input'!M146+('I_Global Inputs'!$G$16*('I_OPEX Input'!$C$24*'I_OPEX Input'!K146+'I_OPEX Input'!$C$24*'I_OPEX Input'!N146+'I_OPEX Input'!$C$24*'I_OPEX Input'!M146))","v":11.1671450706936},{"$f":"'I_OPEX Input'!D146*'I_OPEX Input'!K146","v":0},{"$f":"'I_OPEX Input'!H146*'I_OPEX Input'!N146","v":0.25869155221072437},{"$f":"'I_OPEX Input'!F146*'I_OPEX Input'!M146","v":1.1632800644338439},null,{"$f":"IF(D118<>\"Major (Cat V)\",0,(I_CAPEX!$J$41*I_CAPEX!$J$42*(I_CAPEX!$J$40=0)*'I_OPEX Input'!$C$49)*'I_OPEX Input'!K146+(I_CAPEX!$J$41*I_CAPEX!$J$42*'I_OPEX Input'!$N146*'I_OPEX Input'!$C$49)+(I_CAPEX!$J$41*I_CAPEX!$J$42*'I_OPEX Input'!$M146*'I_OPEX Input'!$C$49))","v":0},12.589116687338167,null,{"$f":"'I_OPEX Input'!Q146*O118+'I_OPEX Input'!R146*O118","v":7.2},null,null,{"$f":"IF(D118=\"Major (Cat V)\",'I_OPEX Input'!$F$24/'I_OPEX Input'!$F$25,0)","v":0},null,7.2,null,19.789116687338169,22.520014790190835]
[null,null,{"$f":"VLOOKUP(F119, 'I_OPEX Input'!$B$98:$C$188, 2, FALSE)","v":"LED1x29"},{"$f":"INDEX('I_Mapping & Lookups'!$Z:$Z,MATCH('C_OPEX Calc'!F119,'I_Mapping & Lookups'!$X:$X,0))","v":"Minor (Cat P)"},null,"LED1x29",null,0,null,null,null,1.9828577401484269E-2,3.2561912355422808E-2,0,{"$f":"1/'I_OPEX Input'!L147","v":0.16666666666666666},null,null,{"$f":"'I_OPEX Input'!$C$38*'I_OPEX Input'!$C$24*'I_OPEX Input'!K147+'I_OPEX Input'!$C$38*'I_OPEX Input'!$C$24*'I_OPEX Input'!N147+'I_OPEX Input'!$C$38*'I_OPEX Input'!$C$24*'I_OPEX Input'!M147+('I_Global Inputs'!$G$16*('I_OPEX Input'!$C$24*'I_OPEX Input'!K147+'I_OPEX Input'!$C$24*'I_OPEX Input'!N147+'I_OPEX Input'!$C$24*'I_OPEX Input'!M147))","v":11.1671450706936},{"$f":"'I_OPEX Input'!D147*'I_OPEX Input'!K147","v":0},{"$f":"'I_OPEX Input'!H147*'I_OPEX Input'!N147","v":0.25869155221072437},{"$f":"'I_OPEX Input'!F147*'I_OPEX Input'!M147","v":1.1632800644338439},null,{"$f":"IF(D119<>\"Major (Cat V)\",0,(I_CAPEX!$J$41*I_CAPEX!$J$42*(I_CAPEX!$J$40=0)*'I_OPEX Input'!$C$49)*'I_OPEX Input'!K147+(I_CAPEX!$J$41*I_CAPEX!$J$42*'I_OPEX Input'!$N147*'I_OPEX Input'!$C$49)+(I_CAPEX!$J$41*I_CAPEX!$J$42*'I_OPEX Input'!$M147*'I_OPEX Input'!$C$49))","v":0},12.589116687338167,null,{"$f":"'I_OPEX Input'!Q147*O119+'I_OPEX Input'!R147*O119","v":7.2},null,null,{"$f":"IF(D119=\"Major (Cat V)\",'I_OPEX Input'!$F$24/'I_OPEX Input'!$F$25,0)","v":0},null,7.2,null,19.789116687338169,22.520014790190835]
[null,null,{"$f":"VLOOKUP(F120, 'I_OPEX Input'!$B$98:$C$188, 2, FALSE)","v":"LED1x298"},{"$f":"INDEX('I_Mapping & Lookups'!$Z:$Z,MATCH('C_OPEX Calc'!F120,'I_Mapping & Lookups'!$X:$X,0))","v":"Major (Cat V)"},null,"LED1x298",null,0,null,null,null,1.9828577401484269E-2,3.2561912355422808E-2,0,{"$f":"1/'I_OPEX Input'!L148","v":0.16666666666666666},null,null,{"$f":"'I_OPEX Input'!$C$38*'I_OPEX Input'!$C$24*'I_OPEX Input'!K148+'I_OPEX Input'!$C$38*'I_OPEX Input'!$C$24*'I_OPEX Input'!N148+'I_OPEX Input'!$C$38*'I_OPEX Input'!$C$24*'I_OPEX Input'!M148+('I_Global Inputs'!$G$16*('I_OPEX Input'!$C$24*'I_OPEX Input'!K148+'I_OPEX Input'!$C$24*'I_OPEX Input'!N148+'I_OPEX Input'!$C$24*'I_OPEX Input'!M148))","v":11.1671450706936},{"$f":"'I_OPEX Input'!D148*'I_OPEX Input'!K148","v":0},{"$f":"'I_OPEX Input'!H148*'I_OPEX Input'!N148","v":0.25869155221072437},{"$f":"'I_OPEX Input'!F148*'I_OPEX Input'!M148","v":1.1632800644338439},null,{"$f":"IF(D120<>\"Major (Cat V)\",0,(I_CAPEX!$J$41*I_CAPEX!$J$42*(I_CAPEX!$J$40=0)*'I_OPEX Input'!$C$49)*'I_OPEX Input'!K148+(I_CAPEX!$J$41*I_CAPEX!$J$42*'I_OPEX Input'!$N148*'I_OPEX Input'!$C$49)+(I_CAPEX!$J$41*I_CAPEX!$J$42*'I_OPEX Input'!$M148*'I_OPEX Input'!$C$49))","v":4.0686099455529119},16.65772663289108,null,{"$f":"'I_OPEX Input'!Q148*O120+'I_OPEX Input'!R148*O120","v":8.4600000000000009},null,null,{"$f":"IF(D120=\"Major (Cat V)\",'I_OPEX Input'!$F$24/'I_OPEX Input'!$F$25,0)","v":1.8443395904436859},null,10.304339590443687,null,26.962066223334766,30.68283136215496]
[null,null,{"$f":"VLOOKUP(F121, 'I_OPEX Input'!$B$98:$C$188, 2, FALSE)","v":"LED1x33"},{"$f":"INDEX('I_Mapping & Lookups'!$Z:$Z,MATCH('C_OPEX Calc'!F121,'I_Mapping & Lookups'!$X:$X,0))","v":"Minor (Cat P)"},null,"LED1x33",null,0,null,null,null,1.9828577401484269E-2,3.2561912355422808E-2,0,{"$f":"1/'I_OPEX Input'!L149","v":0.16666666666666666},null,null,{"$f":"'I_OPEX Input'!$C$38*'I_OPEX Input'!$C$24*'I_OPEX Input'!K149+'I_OPEX Input'!$C$38*'I_OPEX Input'!$C$24*'I_OPEX Input'!N149+'I_OPEX Input'!$C$38*'I_OPEX Input'!$C$24*'I_OPEX Input'!M149+('I_Global Inputs'!$G$16*('I_OPEX Input'!$C$24*'I_OPEX Input'!K149+'I_OPEX Input'!$C$24*'I_OPEX Input'!N149+'I_OPEX Input'!$C$24*'I_OPEX Input'!M149))","v":11.1671450706936},{"$f":"'I_OPEX Input'!D149*'I_OPEX Input'!K149","v":0},{"$f":"'I_OPEX Input'!H149*'I_OPEX Input'!N149","v":0.25869155221072437},{"$f":"'I_OPEX Input'!F149*'I_OPEX Input'!M149","v":1.1632800644338439},null,{"$f":"IF(D121<>\"Major (Cat V)\",0,(I_CAPEX!$J$41*I_CAPEX!$J$42*(I_CAPEX!$J$40=0)*'I_OPEX Input'!$C$49)*'I_OPEX Input'!K149+(I_CAPEX!$J$41*I_CAPEX!$J$42*'I_OPEX Input'!$N149*'I_OPEX Input'!$C$49)+(I_CAPEX!$J$41*I_CAPEX!$J$42*'I_OPEX Input'!$M149*'I_OPEX Input'!$C$49))","v":0},12.589116687338167,null,{"$f":"'I_OPEX Input'!Q149*O121+'I_OPEX Input'!R149*O121","v":7.2},null,null,{"$f":"IF(D121=\"Major (Cat V)\",'I_OPEX Input'!$F$24/'I_OPEX Input'!$F$25,0)","v":0},null,7.2,null,19.789116687338169,22.520014790190835]
[null,null,{"$f":"VLOOKUP(F122, 'I_OPEX Input'!$B$98:$C$188, 2, FALSE)","v":"LED1x42"},{"$f":"INDEX('I_Mapping & Lookups'!$Z:$Z,MATCH('C_OPEX Calc'!F122,'I_Mapping & Lookups'!$X:$X,0))","v":"Minor (Cat P)"},null,"LED1x42",null,0,null,null,null,1.9828577401484269E-2,3.2561912355422808E-2,0,{"$f":"1/'I_OPEX Input'!L150","v":0.16666666666666666},null,null,{"$f":"'I_OPEX Input'!$C$38*'I_OPEX Input'!$C$24*'I_OPEX Input'!K150+'I_OPEX Input'!$C$38*'I_OPEX Input'!$C$24*'I_OPEX Input'!N150+'I_OPEX Input'!$C$38*'I_OPEX Input'!$C$24*'I_OPEX Input'!M150+('I_Global Inputs'!$G$16*('I_OPEX Input'!$C$24*'I_OPEX Input'!K150+'I_OPEX Input'!$C$24*'I_OPEX Input'!N150+'I_OPEX Input'!$C$24*'I_OPEX Input'!M150))","v":11.1671450706936},{"$f":"'I_OPEX Input'!D150*'I_OPEX Input'!K150","v":0},{"$f":"'I_OPEX Input'!H150*'I_OPEX Input'!N150","v":0.25869155221072437},{"$f":"'I_OPEX Input'!F150*'I_OPEX Input'!M150","v":1.1632800644338439},null,{"$f":"IF(D122<>\"Major (Cat V)\",0,(I_CAPEX!$J$41*I_CAPEX!$J$42*(I_CAPEX!$J$40=0)*'I_OPEX Input'!$C$49)*'I_OPEX Input'!K150+(I_CAPEX!$J$41*I_CAPEX!$J$42*'I_OPEX Input'!$N150*'I_OPEX Input'!$C$49)+(I_CAPEX!$J$41*I_CAPEX!$J$42*'I_OPEX Input'!$M150*'I_OPEX Input'!$C$49))","v":0},12.589116687338167,null,{"$f":"'I_OPEX Input'!Q150*O122+'I_OPEX Input'!R150*O122","v":7.2},null,null,{"$f":"IF(D122=\"Major (Cat V)\",'I_OPEX Input'!$F$24/'I_OPEX Input'!$F$25,0)","v":0},null,7.2,null,19.789116687338169,22.520014790190835]
[null,null,{"$f":"VLOOKUP(F123, 'I_OPEX Input'!$B$98:$C$188, 2, FALSE)","v":"Smart Controller (Licence and maintenance fee)"},{"$f":"INDEX('I_Mapping & Lookups'!$Z:$Z,MATCH('C_OPEX Calc'!F123,'I_Mapping & Lookups'!$X:$X,0))","v":"N/A"},null,"Smart Controller (Licence and maintenance fee)",null,0,null,null,null,0,0,0,{"$f":"1/'I_OPEX Input'!L151","v":1},null,null,{"$f":"'I_OPEX Input'!$C$38*'I_OPEX Input'!$C$24*'I_OPEX Input'!K151+'I_OPEX Input'!$C$38*'I_OPEX Input'!$C$24*'I_OPEX Input'!N151+'I_OPEX Input'!$C$38*'I_OPEX Input'!$C$24*'I_OPEX Input'!M151+('I_Global Inputs'!$G$16*('I_OPEX Input'!$C$24*'I_OPEX Input'!K151+'I_OPEX Input'!$C$24*'I_OPEX Input'!N151+'I_OPEX Input'!$C$24*'I_OPEX Input'!M151))","v":0},{"$f":"'I_OPEX Input'!D151*'I_OPEX Input'!K151","v":0},{"$f":"'I_OPEX Input'!H151*'I_OPEX Input'!N151","v":0},{"$f":"'I_OPEX Input'!F151*'I_OPEX Input'!M151","v":0},null,{"$f":"IF(D123<>\"Major (Cat V)\",0,(I_CAPEX!$J$41*I_CAPEX!$J$42*(I_CAPEX!$J$40=0)*'I_OPEX Input'!$C$49)*'I_OPEX Input'!K151+(I_CAPEX!$J$41*I_CAPEX!$J$42*'I_OPEX Input'!$N151*'I_OPEX Input'!$C$49)+(I_CAPEX!$J$41*I_CAPEX!$J$42*'I_OPEX Input'!$M151*'I_OPEX Input'!$C$49))","v":0},0,null,{"$f":"'I_OPEX Input'!Q151*O123+'I_OPEX Input'!R151*O123","v":4.9969014084507029},null,null,{"$f":"IF(D123=\"Major (Cat V)\",'I_OPEX Input'!$F$24/'I_OPEX Input'!$F$25,0)","v":0},null,4.9969014084507029,null,4.9969014084507029,5.6864738028168995]
[null,null,{"$f":"VLOOKUP(F124, 'I_OPEX Input'!$B$98:$C$188, 2, FALSE)","v":"Luminaire - Decorative "},{"$f":"INDEX('I_Mapping & Lookups'!$Z:$Z,MATCH('C_OPEX Calc'!F124,'I_Mapping & Lookups'!$X:$X,0))","v":"Minor (Cat P)"},null,"Luminaire - Decorative ",null,0,null,null,null,1.9828577401484269E-2,3.2561912355422808E-2,0,{"$f":"1/'I_OPEX Input'!L152","v":0.16666666666666666},null,null,{"$f":"'I_OPEX Input'!$C$38*'I_OPEX Input'!$C$24*'I_OPEX Input'!K152+'I_OPEX Input'!$C$38*'I_OPEX Input'!$C$24*'I_OPEX Input'!N152+'I_OPEX Input'!$C$38*'I_OPEX Input'!$C$24*'I_OPEX Input'!M152+('I_Global Inputs'!$G$16*('I_OPEX Input'!$C$24*'I_OPEX Input'!K152+'I_OPEX Input'!$C$24*'I_OPEX Input'!N152+'I_OPEX Input'!$C$24*'I_OPEX Input'!M152))","v":11.1671450706936},{"$f":"'I_OPEX Input'!D152*'I_OPEX Input'!K152","v":0},{"$f":"'I_OPEX Input'!H152*'I_OPEX Input'!N152","v":0.25869155221072437},{"$f":"'I_OPEX Input'!F152*'I_OPEX Input'!M152","v":1.1632800644338439},null,{"$f":"IF(D124<>\"Major (Cat V)\",0,(I_CAPEX!$J$41*I_CAPEX!$J$42*(I_CAPEX!$J$40=0)*'I_OPEX Input'!$C$49)*'I_OPEX Input'!K152+(I_CAPEX!$J$41*I_CAPEX!$J$42*'I_OPEX Input'!$N152*'I_OPEX Input'!$C$49)+(I_CAPEX!$J$41*I_CAPEX!$J$42*'I_OPEX Input'!$M152*'I_OPEX Input'!$C$49))","v":0},12.589116687338167,null,{"$f":"'I_OPEX Input'!Q152*O124+'I_OPEX Input'!R152*O124","v":8.64},null,null,{"$f":"IF(D124=\"Major (Cat V)\",'I_OPEX Input'!$F$24/'I_OPEX Input'!$F$25,0)","v":0},null,8.64,null,21.22911668733817,24.158734790190834]
[null,null,{"$f":"VLOOKUP(F125, 'I_OPEX Input'!$B$98:$C$188, 2, FALSE)","v":"Luminaire - Floodlight"},{"$f":"INDEX('I_Mapping & Lookups'!$Z:$Z,MATCH('C_OPEX Calc'!F125,'I_Mapping & Lookups'!$X:$X,0))","v":"Major (Cat V)"},null,"Luminaire - Floodlight",null,0,null,null,null,1.9828577401484269E-2,3.2561912355422808E-2,0,{"$f":"1/'I_OPEX Input'!L153","v":0.16666666666666666},null,null,{"$f":"'I_OPEX Input'!$C$38*'I_OPEX Input'!$C$24*'I_OPEX Input'!K153+'I_OPEX Input'!$C$38*'I_OPEX Input'!$C$24*'I_OPEX Input'!N153+'I_OPEX Input'!$C$38*'I_OPEX Input'!$C$24*'I_OPEX Input'!M153+('I_Global Inputs'!$G$16*('I_OPEX Input'!$C$24*'I_OPEX Input'!K153+'I_OPEX Input'!$C$24*'I_OPEX Input'!N153+'I_OPEX Input'!$C$24*'I_OPEX Input'!M153))","v":11.1671450706936},{"$f":"'I_OPEX Input'!D153*'I_OPEX Input'!K153","v":0},{"$f":"'I_OPEX Input'!H153*'I_OPEX Input'!N153","v":0.25869155221072437},{"$f":"'I_OPEX Input'!F153*'I_OPEX Input'!M153","v":1.1632800644338439},null,{"$f":"IF(D125<>\"Major (Cat V)\",0,(I_CAPEX!$J$41*I_CAPEX!$J$42*(I_CAPEX!$J$40=0)*'I_OPEX Input'!$C$49)*'I_OPEX Input'!K153+(I_CAPEX!$J$41*I_CAPEX!$J$42*'I_OPEX Input'!$N153*'I_OPEX Input'!$C$49)+(I_CAPEX!$J$41*I_CAPEX!$J$42*'I_OPEX Input'!$M153*'I_OPEX Input'!$C$49))","v":4.0686099455529119},16.65772663289108,null,{"$f":"'I_OPEX Input'!Q153*O125+'I_OPEX Input'!R153*O125","v":8.4600000000000009},null,null,{"$f":"IF(D125=\"Major (Cat V)\",'I_OPEX Input'!$F$24/'I_OPEX Input'!$F$25,0)","v":1.8443395904436859},null,10.304339590443687,null,26.962066223334766,30.68283136215496]
[null,null,{"$f":"VLOOKUP(F126, 'I_OPEX Input'!$B$98:$C$188, 2, FALSE)","v":"Luminaire - Major (Cat V) road - smart controller installed"},{"$f":"INDEX('I_Mapping & Lookups'!$Z:$Z,MATCH('C_OPEX Calc'!F126,'I_Mapping & Lookups'!$X:$X,0))","v":"Major (Cat V)"},null,"Luminaire - Major (Cat V) road - smart controller installed",null,0,null,null,null,0,3.2561912355422808E-2,0,{"$f":"1/'I_OPEX Input'!L154","v":0.16666666666666666},null,null,{"$f":"'I_OPEX Input'!$C$38*'I_OPEX Input'!$C$24*'I_OPEX Input'!K154+'I_OPEX Input'!$C$38*'I_OPEX Input'!$C$24*'I_OPEX Input'!N154+'I_OPEX Input'!$C$38*'I_OPEX Input'!$C$24*'I_OPEX Input'!M154+('I_Global Inputs'!$G$16*('I_OPEX Input'!$C$24*'I_OPEX Input'!K154+'I_OPEX Input'!$C$24*'I_OPEX Input'!N154+'I_OPEX Input'!$C$24*'I_OPEX Input'!M154))","v":6.9406413404310143},{"$f":"'I_OPEX Input'!D154*'I_OPEX Input'!K154","v":0},{"$f":"'I_OPEX Input'!H154*'I_OPEX Input'!N154","v":0},{"$f":"'I_OPEX Input'!F154*'I_OPEX Input'!M154","v":1.1632800644338439},null,{"$f":"IF(D126<>\"Major (Cat V)\",0,(I_CAPEX!$J$41*I_CAPEX!$J$42*(I_CAPEX!$J$40=0)*'I_OPEX Input'!$C$49)*'I_OPEX Input'!K154+(I_CAPEX!$J$41*I_CAPEX!$J$42*'I_OPEX Input'!$N154*'I_OPEX Input'!$C$49)+(I_CAPEX!$J$41*I_CAPEX!$J$42*'I_OPEX Input'!$M154*'I_OPEX Input'!$C$49))","v":2.5287360562997847},{"$f":"SUM(Q126:W126)","v":10.632657461164642},null,{"$f":"'I_OPEX Input'!Q154*O126+'I_OPEX Input'!R154*O126","v":8.4600000000000009},null,null,null,null,{"$f":"SUM(Z126:AD126)","v":8.4600000000000009},null,{"$f":"SUM(X126,AE126)","v":19.092657461164642},21.727444190805361]
[null,null,{"$f":"VLOOKUP(F127, 'I_OPEX Input'!$B$98:$C$188, 2, FALSE)","v":"Luminaire - Minor (Cat P) road - smart controller installed"},{"$f":"INDEX('I_Mapping & Lookups'!$Z:$Z,MATCH('C_OPEX Calc'!F127,'I_Mapping & Lookups'!$X:$X,0))","v":"Minor (Cat P)"},null,"Luminaire - Minor (Cat P) road - smart controller installed",null,0,null,null,null,0,3.2561912355422808E-2,0,{"$f":"1/'I_OPEX Input'!L155","v":0.16666666666666666},null,null,{"$f":"'I_OPEX Input'!$C$38*'I_OPEX Input'!$C$24*'I_OPEX Input'!K155+'I_OPEX Input'!$C$38*'I_OPEX Input'!$C$24*'I_OPEX Input'!N155+'I_OPEX Input'!$C$38*'I_OPEX Input'!$C$24*'I_OPEX Input'!M155+('I_Global Inputs'!$G$16*('I_OPEX Input'!$C$24*'I_OPEX Input'!K155+'I_OPEX Input'!$C$24*'I_OPEX Input'!N155+'I_OPEX Input'!$C$24*'I_OPEX Input'!M155))","v":6.9406413404310143},{"$f":"'I_OPEX Input'!D155*'I_OPEX Input'!K155","v":0},{"$f":"'I_OPEX Input'!H155*'I_OPEX Input'!N155","v":0},{"$f":"'I_OPEX Input'!F155*'I_OPEX Input'!M155","v":1.1632800644338439},null,{"$f":"IF(D127<>\"Major (Cat V)\",0,(I_CAPEX!$J$41*I_CAPEX!$J$42*(I_CAPEX!$J$40=0)*'I_OPEX Input'!$C$49)*'I_OPEX Input'!K155+(I_CAPEX!$J$41*I_CAPEX!$J$42*'I_OPEX Input'!$N155*'I_OPEX Input'!$C$49)+(I_CAPEX!$J$41*I_CAPEX!$J$42*'I_OPEX Input'!$M155*'I_OPEX Input'!$C$49))","v":0},8.1039214048648578,null,{"$f":"'I_OPEX Input'!Q155*O127+'I_OPEX Input'!R155*O127","v":7.2},null,null,null,null,7.2,null,15.303921404864859,17.415862558736208]
[null,null,{"$f":"VLOOKUP(F128, 'I_OPEX Input'!$B$98:$C$188, 2, FALSE)","v":"Luminaire - Floodlight - smart controller installed"},{"$f":"INDEX('I_Mapping & Lookups'!$Z:$Z,MATCH('C_OPEX Calc'!F128,'I_Mapping & Lookups'!$X:$X,0))","v":"Major (Cat V)"},null,"Luminaire - Floodlight - smart controller installed",null,0,null,null,null,0,3.2561912355422808E-2,0,{"$f":"1/'I_OPEX Input'!L156","v":0.16666666666666666},null,null,{"$f":"'I_OPEX Input'!$C$38*'I_OPEX Input'!$C$24*'I_OPEX Input'!K156+'I_OPEX Input'!$C$38*'I_OPEX Input'!$C$24*'I_OPEX Input'!N156+'I_OPEX Input'!$C$38*'I_OPEX Input'!$C$24*'I_OPEX Input'!M156+('I_Global Inputs'!$G$16*('I_OPEX Input'!$C$24*'I_OPEX Input'!K156+'I_OPEX Input'!$C$24*'I_OPEX Input'!N156+'I_OPEX Input'!$C$24*'I_OPEX Input'!M156))","v":6.9406413404310143},{"$f":"'I_OPEX Input'!D156*'I_OPEX Input'!K156","v":0},{"$f":"'I_OPEX Input'!H156*'I_OPEX Input'!N156","v":0},{"$f":"'I_OPEX Input'!F156*'I_OPEX Input'!M156","v":1.1632800644338439},null,{"$f":"IF(D128<>\"Major (Cat V)\",0,(I_CAPEX!$J$41*I_CAPEX!$J$42*(I_CAPEX!$J$40=0)*'I_OPEX Input'!$C$49)*'I_OPEX Input'!K156+(I_CAPEX!$J$41*I_CAPEX!$J$42*'I_OPEX Input'!$N156*'I_OPEX Input'!$C$49)+(I_CAPEX!$J$41*I_CAPEX!$J$42*'I_OPEX Input'!$M156*'I_OPEX Input'!$C$49))","v":2.5287360562997847},10.632657461164642,null,{"$f":"'I_OPEX Input'!Q156*O128+'I_OPEX Input'!R156*O128","v":8.4600000000000009},null,null,null,null,8.4600000000000009,null,19.092657461164642,21.727444190805361]
[null,null,{"$f":"VLOOKUP(F129, 'I_OPEX Input'!$B$98:$C$188, 2, FALSE)","v":"Luminaire - Decorative - smart controller installed"},{"$f":"INDEX('I_Mapping & Lookups'!$Z:$Z,MATCH('C_OPEX Calc'!F129,'I_Mapping & Lookups'!$X:$X,0))","v":"Minor (Cat P)"},null,"Luminaire - Decorative - smart controller installed",null,0,null,null,null,0,3.2561912355422808E-2,0,{"$f":"1/'I_OPEX Input'!L157","v":0.16666666666666666},null,null,{"$f":"'I_OPEX Input'!$C$38*'I_OPEX Input'!$C$24*'I_OPEX Input'!K157+'I_OPEX Input'!$C$38*'I_OPEX Input'!$C$24*'I_OPEX Input'!N157+'I_OPEX Input'!$C$38*'I_OPEX Input'!$C$24*'I_OPEX Input'!M157+('I_Global Inputs'!$G$16*('I_OPEX Input'!$C$24*'I_OPEX Input'!K157+'I_OPEX Input'!$C$24*'I_OPEX Input'!N157+'I_OPEX Input'!$C$24*'I_OPEX Input'!M157))","v":6.9406413404310143},{"$f":"'I_OPEX Input'!D157*'I_OPEX Input'!K157","v":0},{"$f":"'I_OPEX Input'!H157*'I_OPEX Input'!N157","v":0},{"$f":"'I_OPEX Input'!F157*'I_OPEX Input'!M157","v":1.1632800644338439},null,{"$f":"IF(D129<>\"Major (Cat V)\",0,(I_CAPEX!$J$41*I_CAPEX!$J$42*(I_CAPEX!$J$40=0)*'I_OPEX Input'!$C$49)*'I_OPEX Input'!K157+(I_CAPEX!$J$41*I_CAPEX!$J$42*'I_OPEX Input'!$N157*'I_OPEX Input'!$C$49)+(I_CAPEX!$J$41*I_CAPEX!$J$42*'I_OPEX Input'!$M157*'I_OPEX Input'!$C$49))","v":0},8.1039214048648578,null,{"$f":"'I_OPEX Input'!Q157*O129+'I_OPEX Input'!R157*O129","v":8.64},null,null,null,null,8.64,null,16.743921404864857,19.054582558736204]
[null,null,null,null,null,null,null,null,null,null,null,null,null,null,null,null,null,null,null,null,null,null,null,{"$f":"SUM(Q130:W130)","v":0},null,null,null,null,null,null,{"$f":"SUM(Z130:AD130)","v":0},null,0,0]
[null,null,null,null,null,null,null,null,null,null,null,null,null,null,null,null,null,null,null,null,null,null,null,0,null,null,null,null,null,null,0,null,0,0]
[null,null,null,null,null,null,null,null,null,null,null,null,null,null,null,null,null,null,null,null,null,null,null,0,null,null,null,null,null,null,0,null,0,0]
[null,null,null,null,null,null,null,null,null,null,null,null,null,null,null,null,null,null,null,null,null,null,null,0,null,null,null,null,null,null,0,null,0,0]
[null,null,null,null,null,null,null,null,null,null,null,null,null,null,null,null,null,null,null,null,null,null,null,0,null,null,null,null,null,null,0,null,0,0]
[null,null,null,null,null,null,null,null,null,null,null,null,null,null,null,null,null,null,null,null,null,null,null,0,null,null,null,null,null,null,0,null,0,{"$f":"IF(D135=\"Major (Cat V)\",$AG135*(1+$D$7),$AG135*(1+$D$6))","v":0}]
[null,null,null,null,null,null,null,null,null,null,null,null,null,null,null,null,null,null,null,null,null,null,null,0,null,null,null,null,null,null,0,null,0,0]
[null,null,null,null,null,null,null,null,null,null,null,null,null,null,null,null,null,null,null,null,null,null,null,0,null,null,null,null,null,null,0,null,0,0]
[null,null,null,null,null,null,null,null,null,null,null,null,null,null,null,null,null,null,null,null,null,null,null,0,null,null,null,null,null,null,0,null,0,0]
[null,null,null,null,null,null,null,null,null,null,null,null,null,null,null,null,null,null,null,null,null,null,null,0,null,null,null,null,null,null,0,null,0,0]
[null,null,null,null,null,null,null,null,null,null,null,null,null,null,null,null,null,null,null,null,null,null,null,0,null,null,null,null,null,null,0,null,0,0]
[null,null,null,null,null,null,null,null,null,null,null,null,null,null,null,null,null,null,null,null,null,null,null,0,null,null,null,null,null,null,0,null,0,0]
[null,null,null,null,null,null,null,null,null,null,null,null,null,null,null,null,null,null,null,null,null,null,null,0,null,null,null,null,null,null,0,null,{"$f":"SUM(X142,AE142)","v":0},0]
[null,null,null,null,null,null,null,null,null,null,null,null,null,null,null,null,null,null,null,null,null,null,null,0,null,null,null,null,null,null,0,null,0,0]
[null,null,null,null,null,null,null,null,null,null,null,null,null,null,null,null,null,null,null,null,null,null,null,0,null,null,null,null,null,null,0,null,0,0]
[null,null,null,null,null,null,null,null,null,null,null,null,null,null,null,null,null,null,null,null,null,null,null,0,null,null,null,null,null,null,0,null,0,0]
[null,null,null,null,null,null,null,null,null,null,null,null,null,null,null,null,null,null,null,null,null,null,null,0,null,null,null,null,null,null,0,null,0,0]

{"sheet":"I_Global Inputs","index":19,"n_rows":61,"n_cols":21,"rows_kept":61,"cut":false,"hidden":false,"merged":[[0,1,0,4]]}
[null,"Global Inputs"]
[null,"Description:"]
[null,"This sheet contains all the major inputs for this spreadheet such as overheads and oncosts."]
[]
[null,"Real 2023-24$"]
[null,"Cost_Type","Source",null,"FY22","FY23","FY24","FY25","FY26","FY27","FY28","FY29","Average 25-29",null,"To use in model"]
[]
[null,"Labour Rates (including oncost)",null,"2023/24"]
[null,"Ausgrid labour rate","[Insert source here]",null,null,null,67.42]
[null,"[Spare labour rate 1]","[Insert source here]",null,null,null,{"$f":"G9","v":67.42}]
[null,"[Spare labour rate 1]","[Insert source here]",null,null,null,{"$f":"G10","v":67.42}]
[]
[]
[null,null,null,null,null,null,null,null,null,null,null,null,null,null,null,null,"Plant material cost"]
[null,"Plant Material Type (including oncost)",null,"Hourly Rate $23/24",null,null,null,null,null,null,null,null,null,null,null,null,"$/month",null,null,"Hours per month","Days of hire"]
[null,"EWP","[Insert source here]",null,null,null,38.215966517221133]
[null,"Borer","[Insert source here]",null,null,null,0]
[null,"Ditchwitch","[Insert source here]",null,null,null,0]
[null,"Trailer/Jinker","[Insert source here]",null,null,null,0]
[null,"Ute / Van","[Insert source here]",null,null,null,0]
[null,"4 tonne truck","[Insert source here]",null,null,null,0]
[]
[null,"WACC","ACS PTRM Model sheet \"WACC\""]
[null,"Nominal Vanilla WACC","Metering PTRM"]
[null,"Real Vanilla WACC","Public lighting PTRM"]
[null,"Post-tax Nominal WACC ","Public lighting PTRM"]
[null,"Post-tax Real WACC ","Public lighting PTRM"]
[null,"Pre-tax Nominal WACC ","Public lighting PTRM"]
[null,"Pre-tax Real WACC ","Public lighting PTRM",null,null,null,2.8196668362525878E-2]
[null,"Nominal Tax Allowance","Public lighting PTRM"]
[null,"Real Tax Allowance","Public lighting PTRM"]
[]
[null,"On-Cost Rates"]
[null,"Materials On-Cost Rate","[Insert source here]",null,null,null,0]
[null,"Labour Annual Escalator","[Insert source here]",null,null,null,0]
[null,"Labour Ordinary On-Cost Rate","[Insert source here]",null,null,null,0.52229999999999999]
[]
[null,"CAPEX Overhead Rates"]
[null,"Corporate","[Insert source here]",null,null,null,0.06]
[null,"Divisional","[Insert source here]"]
[null,"Total CAPEX overehead %",null,null,null,null,{"$f":"SUM(G39:G40)","v":0.06}]
[null,"OPEX Overhead Rates"]
[null,"Corporate","[Insert source here]",null,null,null,0.04]
[null,"Divisional","[Insert source here]",null,null,null,9.8000000000000004E-2]
[null,"Total OPEX overhead %",null,null,null,null,{"$f":"SUM(G43:G44)","v":0.13800000000000001}]
[null,"Additional Overhead for priority faults (to apply to major raods/floodlights)",null,null,null,null,0]
[null,"Non-System Overheads - Given To OPEX"]
[null,"Direct opex Spend Street Lighting","[Insert source here]"]
[null,"Non-System Spend","[Insert source here]"]
[null,"Non-System Overheads (to be spread over opex only)","Calculation",null,null,null,0]
[]
[]
[null,"LED Warranty NPV Discout Rate"]
[null,"Discount Rate",null,null,null,null,0.05]
[]
[null,"Cumulative weighted average escalation rate(real)"]
[null,"Public lighting (capex)",null,"No escalation applied"]
[null,"Public lighting (opex)",null,"No escalation applied"]
[null,"Consumer Price Index"]
[null,"Annual CPI Rate","[Insert source here]","Not required",null,null,null,4.1000000000000002E-2,2.8746582610921667E-2,2.8746582610921667E-2,2.8746582610921667E-2,2.8746582610921667E-2]
[null,"Cumulative CPI rate Nominal to 23/24","[Insert source here]",null,null,null,1,{"$f":"G61*(1+H60)","v":1.0409999999999999},1.0709251924979695,1.1017106320142296,1.1333810477107573,1.1659618796284275]

{"sheet":"I_OPEX Input","index":20,"n_rows":353,"n_cols":18,"rows_kept":353,"cut":false,"hidden":false,"merged":[[0,1,0,2],[229,13,231,13],[89,5,89,7],[93,1,93,5],[336,1,336,2],[240,1,240,2],[245,1,245,5],[95,16,95,17],[191,14,192,14],[213,14,214,14],[310,1,310,2],[334,1,334,2],[287,1,287,2],[312,1,312,2],[313,1,313,2]]}
[null,"OPEX Input Data"]
[]
[null,"Labour Rates","FY24","FY25","FY26","FY27","FY28","FY29"]
[null,{"$f":"'I_Global Inputs'!B9","v":"Ausgrid labour rate"},{"$f":"'I_Global Inputs'!G9","v":67.42}]
[]
[null,"On-Cost Rates",{"$f":"C$3","v":"FY24"},"FY25","FY26","FY27","FY28","FY29"]
[null,"Materials On-Cost Rate"]
[null,"Labour Ordinary On-Cost Rate",{"$f":"'I_Global Inputs'!G36","v":0.52229999999999999}]
[null,"Labour Escalation Rate (Above CPI)",{"$f":"'I_Global Inputs'!G35","v":0}]
[]
[null,"Contractor Rate",{"$f":"C$3","v":"FY24"},"FY25","FY26","FY27","FY28","FY29"]
[null,"Lamp/PE Change"]
[null,"LED clean"]
[]
[null,"Overheads",{"$f":"C$3","v":"FY24"},"FY25","FY26","FY27","FY28","FY29"]
[null,"Divisional"]
[null,"Corporate"]
[null,"Non-System"]
[null,"Total"]
[]
[null,"Assumptions"]
[]
[null,"Task Estimation","Man hours",null,"Streetlight patrols","FY24"]
[null,"Spot Replacement Hours",1.5133333333333332,null,"Actual cost $FY24",133840.95756911262]
[null,"Bulk Replacement Hours",null,null,"Cat V volume",{"$f":"SUMIF('C_OPEX Calc'!D73:D125,\"Major (Cat V)\",'O_OPEX Tariff Summary'!J8:J60)","v":72568.5}]
[]
[null,"Asset growth assumption"]
[null,"Asset growth",{"$f":"C$3","v":"FY24"},"FY25","FY26","FY27","FY28","FY29"]
[null,"Default annual growth rate",null,0,0,0,0,0]
[]
[null,"Plant Assumptions"]
[null,"Plant Material Type",{"$f":"C$3","v":"FY24"},"FY25","FY26","FY27","FY28","FY29"]
[null,"EWP",{"$f":"'I_Global Inputs'!G16","v":38.215966517221133}]
[null,"Ute / Van"]
[]
[null,"Traffic Control Assumptions - SPOT",{"$f":"C$3","v":"FY24"},"FY25","FY26","FY27","FY28","FY29"]
[null,"Number of Controllers Required"]
[null,"Hourly Rate for Controller ",{"$f":"C50","v":102.633466}]
[null,"Minimum Hours for Controller"]
[null,"Number of Lights maintained per 4 hour stint (bulk)"]
[null,"Base Traffic Control Cost per light"]
[]
[null,"Percentage of Installations Requiring Traffic Control : Spot Replacement, Category P"]
[null,"Percentage of Installations Requiring Traffic Control : Spot Replacement, Category V"]
[]
[]
[null,"Labour Rates",{"$f":"C$3","v":"FY24"},"FY25","FY26","FY27","FY28","FY29"]
[null,"EE Standard Labour Rate",{"$f":"C4*(1+C9)","v":67.42}]
[null,"EE Standard Labour Rate (oncosted)",{"$f":"C48*(1+'I_OPEX Input'!C8)","v":102.633466}]
[null,"Pole Inspection and Treatment Labour Rate (oncosted)",{"$f":"C49","v":102.633466}]
[]
[null,"Labour & Plant (RATE)",{"$f":"C$3","v":"FY24"},"FY25","FY26","FY27","FY28","FY29"]
[null,"Spot Replacement Labour and Plant Cost",{"$f":"C24*C33+C24*C49","v":213.15214120939464}]
[]
[null,"Pole Maintenance",{"$f":"C$3","v":"FY24"},"FY25","FY26","FY27","FY28","FY29"]
[null,"Shared Poles - All pole inspection cost is attributed to the reticulation pole."]
[null,"Total Number of Dedicated wood streetlight poles as determined from WASP (April 2014)"]
[null,"Total Number of Dedicated steel streetlight poles as determined from WASP(April 2014)"]
[null,"Pole Treatment Cost (oncosted)"]
[null,"Pole Treatment Time (includes any travel)"]
[null,"Percentage of Poles >= 12 years and hence requiring drill hoile and treatment (as determined from WASP)"]
[null,"Pole Inspection Frequency"]
[]
[null,"Annual Pole Maintenance Costs",{"$f":"C$3","v":"FY24"},"FY25","FY26","FY27","FY28","FY29"]
[null,"WOOD POLE"]
[null,"STEEL POLE"]
[null,"R/BOUT COLUMN"]
[null,"SHARED OR NO POLE"]
[null,"SUSPENDED"]
[null,"NO CAPITAL"]
[]
[null,"Street Light Patrol Cost (Cat V Light Only)",{"$f":"C$3","v":"FY24"},"FY25","FY26","FY27","FY28","FY29"]
[null,"Num Cat  V Lights"]
[null,"Cost Total For Steet Light Patrol"]
[null,"Cost Per Year"]
[]
[null,"Street Lighting Smart Controls",{"$f":"C$3","v":"FY24"},"FY25","FY26","FY27","FY28","FY29"]
[null,"Connection Maintenance Charge"]
[null,"Zhaga call out rate"]
[]
[null,"Fault & Emergency","No longer used - built up from failure rates"]
[]
[]
[]
[]
[]
[]
[]
[]
[null,"Lamp Stock"]
[]
[null,"Description"]
[]
[null,"The costs presented below are expressed in FY24 dollars."]
[]
[null,null,null,null,null,null,null,null,null,null,null,null,null,null,null,null,"Bulk contract"]
["Type","Mapping Code","Description","Lamp Cost","Lamp On-costed","Miscellaneous Cost","Ballast / Igniter On-costed","Starter / PE Cell Cost","Starter / PE Cell On-Costed","Bulb Failure Rate","Luminaire Failure Rate","Bulk Maintenance","Miscellaneous Failure Rate","PE Cell Failure Rate","Remarks",null,"Scheduled service - minor","Scheduled service - major"]
[null,"O/U",{"$f":"B98","v":"O/U"}]
[null,"UGR1",{"$f":"B99","v":"UGR1"}]
[null,"UGR2","UGR2"]
[null,"MBF1x1000","MBF1x1000",33.105330176628009,null,35.725176449598578,null,13.0464,null,0,0.08,6,3.2561912355422808E-2,1.9828577401484269E-2,null,null,0,50.760000000000005]
[null,"MBF1x125","MBF1x125",6.0732799964317561,null,35.725176449598578,null,13.0464,null,0,5.0099999999999999E-2,6,3.2561912355422808E-2,1.9828577401484269E-2,null,null,43.2,0]
[null,"MBF1x250","MBF1x250",6.5496156824264045,null,35.725176449598578,null,13.0464,null,0,5.0099999999999999E-2,6,3.2561912355422808E-2,1.9828577401484269E-2,null,null,0,50.760000000000005]
[null,"MBF1x400","MBF1x400",6.5496156824264045,null,35.725176449598578,null,13.0464,null,0,5.0099999999999999E-2,6,3.2561912355422808E-2,1.9828577401484269E-2,null,null,0,50.760000000000005]
[null,"MBF1x42","MBF1x42",3.6916015664585187,null,35.725176449598578,null,13.0464,null,0,3.5299999999999998E-2,6,3.2561912355422808E-2,1.9828577401484269E-2,null,null,43.2,0]
[null,"MBF1x50","MBF1x50",6.4900737216770734,null,35.725176449598578,null,13.0464,null,0,5.0099999999999999E-2,6,3.2561912355422808E-2,1.9828577401484269E-2,null,null,43.2,0]
[null,"MBF1x80","MBF1x80",4.2870211739518282,null,35.725176449598578,null,13.0464,null,0,4.4699999999999997E-2,6,3.2561912355422808E-2,1.9828577401484269E-2,null,null,43.2,0]
[null,"MBF2x80","MBF2x80",4.2870211739518282,null,35.725176449598578,null,13.0464,null,0,0.08,6,3.2561912355422808E-2,1.9828577401484269E-2,null,null,43.2,0]
[null,"MBI1x100","MBI1x100",17.12426791150758,null,35.725176449598578,null,13.0464,null,0,0.04,6,3.2561912355422808E-2,1.9828577401484269E-2,null,null,0,50.760000000000005]
[null,"MBI1x1000","MBI1x1000",57.755701926851017,null,35.725176449598578,null,13.0464,null,0,0.04,6,3.2561912355422808E-2,1.9828577401484269E-2,null,null,0,50.760000000000005]
[null,"MBI1x150","MBI1x150",17.12426791150758,null,35.725176449598578,null,13.0464,null,0,0.04,6,3.2561912355422808E-2,1.9828577401484269E-2,null,null,0,50.760000000000005]
[null,"MBI1x250","MBI1x250",9.7648815628902739,null,35.725176449598578,null,13.0464,null,0,0.04,6,3.2561912355422808E-2,1.9828577401484269E-2,null,null,0,50.760000000000005]
[null,"MBI1x400","MBI1x400",9.5267137198929515,null,35.725176449598578,null,13.0464,null,0,0.04,6,3.2561912355422808E-2,1.9828577401484269E-2,null,null,0,50.760000000000005]
[null,"MBI1x70","MBI1x70",17.267168617305977,null,35.725176449598578,null,13.0464,null,0,0.04,6,3.2561912355422808E-2,1.9828577401484269E-2,null,null,43.2,0]
[null,"MBI1x70 II","MBI1x70 II",69.068674469223907,null,35.725176449598578,null,13.0464,null,0,0.04,6,3.2561912355422808E-2,1.9828577401484269E-2,null,null,43.2,0]
[null,"SON1x100","SON1x100",15.754802814272969,null,35.725176449598578,null,13.0464,null,0,6.518620253747219E-2,6,3.2561912355422808E-2,1.9828577401484269E-2,null,null,0,50.760000000000005]
[null,"SON1x1000","SON1x1000",33.105330176628009,null,35.725176449598578,null,13.0464,null,0,6.518620253747219E-2,6,3.2561912355422808E-2,1.9828577401484269E-2,null,null,0,50.760000000000005]
[null,"SON1x150","SON1x150",7.1450352899197132,null,35.725176449598578,null,13.0464,null,0,6.518620253747219E-2,6,3.2561912355422808E-2,1.9828577401484269E-2,null,null,0,50.760000000000005]
[null,"SON1x150 AR","SON1x150 AR",7.1450352899197132,null,35.725176449598578,null,13.0464,null,0,6.518620253747219E-2,6,3.2561912355422808E-2,1.9828577401484269E-2,null,null,0,50.760000000000005]
[null,"SON1x250","SON1x250",11.193888620874219,null,35.725176449598578,null,13.0464,null,0,6.518620253747219E-2,6,3.2561912355422808E-2,1.9828577401484269E-2,null,null,0,50.760000000000005]
[null,"SON1x250 AR","SON1x250 AR",11.193888620874219,null,35.725176449598578,null,13.0464,null,0,6.518620253747219E-2,6,3.2561912355422808E-2,1.9828577401484269E-2,null,null,0,50.760000000000005]
[null,"SON1x400","SON1x400",12.980147443354147,null,35.725176449598578,null,13.0464,null,0,6.518620253747219E-2,6,3.2561912355422808E-2,1.9828577401484269E-2,null,null,0,50.760000000000005]
[null,"SON1x400 AR","SON1x400 AR",12.980147443354147,null,35.725176449598578,null,13.0464,null,0,6.518620253747219E-2,6,3.2561912355422808E-2,1.9828577401484269E-2,null,null,0,50.760000000000005]
[null,"SON1x50","SON1x50",11.979842502765388,null,35.725176449598578,null,13.0464,null,0,6.518620253747219E-2,6,3.2561912355422808E-2,1.9828577401484269E-2,null,null,43.2,0]
[null,"SON1x600","SON1x600",33.105330176628009,null,35.725176449598578,null,13.0464,null,0,6.518620253747219E-2,6,3.2561912355422808E-2,1.9828577401484269E-2,null,null,0,50.760000000000005]
[null,"SON1x70","SON1x70",7.5022870544156994,null,35.725176449598578,null,13.0464,null,0,6.518620253747219E-2,6,3.2561912355422808E-2,1.9828577401484269E-2,null,null,43.2,0]
[null,"SON2x250","SON2x250",11.193888620874219,null,35.725176449598578,null,13.0464,null,0,0.12612316407368807,6,3.2561912355422808E-2,1.9828577401484269E-2,null,null,0,50.760000000000005]
[null,"SON2x400","SON2x400",12.980147443354147,null,35.725176449598578,null,13.0464,null,0,0.12612316407368807,6,3.2561912355422808E-2,1.9828577401484269E-2,null,null,0,50.760000000000005]
[null,"SON4x250","SON4x250",11.193888620874219,null,35.725176449598578,null,13.0464,null,0,0.23633927563141766,6,3.2561912355422808E-2,1.9828577401484269E-2,null,null,0,50.760000000000005]
[null,"SON4x600","SON4x600",33.105330176628009,null,35.725176449598578,null,13.0464,null,0,0.23633927563141766,6,3.2561912355422808E-2,1.9828577401484269E-2,null,null,0,50.760000000000005]
[null,"TF1x20","TF1x20",1.5480909794826048,null,35.725176449598578,null,13.0464,null,0,0.06,6,3.2561912355422808E-2,1.9828577401484269E-2,null,null,43.2,0]
[null,"TF1x40","TF1x40",1.7862588224799283,null,35.725176449598578,null,13.0464,null,0,0.158,6,3.2561912355422808E-2,1.9828577401484269E-2,null,null,43.2,0]
[null,"TF1x80","TF1x80",1.7862588224799283,null,35.725176449598578,null,13.0464,null,0,0.06,6,3.2561912355422808E-2,1.9828577401484269E-2,null,null,43.2,0]
[null,"TF2x14 T5","TF2x14 T5",1.7862588224799283,null,35.725176449598578,null,13.0464,null,0,0.06,6,3.2561912355422808E-2,1.9828577401484269E-2,null,null,43.2,0]
[null,"TF2x20","TF2x20",1.5480909794826048,null,35.725176449598578,null,13.0464,null,0,0.10290000000000001,6,3.2561912355422808E-2,1.9828577401484269E-2,null,null,43.2,0]
[null,"TF2x26","TF2x26",1.7862588224799283,null,35.725176449598578,null,13.0464,null,0,0.06,6,3.2561912355422808E-2,1.9828577401484269E-2,null,null,43.2,0]
[null,"TF2x40","TF2x40",1.7862588224799283,null,35.725176449598578,null,13.0464,null,0,0.06,6,3.2561912355422808E-2,1.9828577401484269E-2,null,null,43.2,0]
[null,"TF4x20","TF4x20",1.5480909794826048,null,35.725176449598578,null,13.0464,null,0,0.06,6,3.2561912355422808E-2,1.9828577401484269E-2,null,null,43.2,0]
[null,"TF4x40","TF4x40",1.7862588224799283,null,35.725176449598578,null,13.0464,null,0,0.06,6,3.2561912355422808E-2,1.9828577401484269E-2,null,null,43.2,0]
[null,"LED TRIAL","LED TRIAL",0,null,35.725176449598578,null,13.0464,null,0,0,6,3.2561912355422808E-2,1.9828577401484269E-2,null,null,43.2,0]
[null,"LED1x100","LED1x100",0,null,35.725176449598578,null,13.0464,null,0,0,6,3.2561912355422808E-2,1.9828577401484269E-2,null,null,0,50.760000000000005]
[null,"LED1x17","LED1x17",0,null,35.725176449598578,null,13.0464,null,0,0,6,3.2561912355422808E-2,1.9828577401484269E-2,null,null,43.2,0]
[null,"LED1x200","LED1x200",0,null,35.725176449598578,null,13.0464,null,0,0,6,3.2561912355422808E-2,1.9828577401484269E-2,null,null,0,50.760000000000005]
[null,"LED1x22","LED1x22",0,null,35.725176449598578,null,13.0464,null,0,0,6,3.2561912355422808E-2,1.9828577401484269E-2,null,null,43.2,0]
[null,"LED1x25 GE","LED1x25 GE",0,null,35.725176449598578,null,13.0464,null,0,0,6,3.2561912355422808E-2,1.9828577401484269E-2,null,null,43.2,0]
[null,"LED1x28","LED1x28",0,null,35.725176449598578,null,13.0464,null,0,0,6,3.2561912355422808E-2,1.9828577401484269E-2,null,null,43.2,0]
[null,"LED1x29","LED1x29",0,null,35.725176449598578,null,13.0464,null,0,0,6,3.2561912355422808E-2,1.9828577401484269E-2,null,null,43.2,0]
[null,"LED1x298","LED1x298",0,null,35.725176449598578,null,13.0464,null,0,0,6,3.2561912355422808E-2,1.9828577401484269E-2,null,null,0,50.760000000000005]
[null,"LED1x33","LED1x33",0,null,35.725176449598578,null,13.0464,null,0,0,6,3.2561912355422808E-2,1.9828577401484269E-2,null,null,43.2,0]
[null,"LED1x42","LED1x42",0,null,35.725176449598578,null,13.0464,null,0,0,6,3.2561912355422808E-2,1.9828577401484269E-2,null,null,43.2,0]
[null,"Smart Controller (Licence and maintenance fee)","Smart Controller (Licence and maintenance fee)",0,null,0,null,0,null,0,0,1,0,0,null,null,0,4.9969014084507029]
[null,"Luminaire - Decorative ","Luminaire - Decorative ",0,null,35.725176449598578,null,13.0464,null,0,0,6,3.2561912355422808E-2,1.9828577401484269E-2,null,null,51.84,0]
[null,"Luminaire - Floodlight","Luminaire - Floodlight",0,null,35.725176449598578,null,13.0464,null,0,0,6,3.2561912355422808E-2,1.9828577401484269E-2,null,null,0,50.760000000000005]
[null,"Luminaire - Major (Cat V) road - smart controller installed","Luminaire - Major (Cat V) road - smart controller installed",0,null,35.725176449598578,null,0,null,0,0,6,3.2561912355422808E-2,0,null,null,0,50.760000000000005]
[null,"Luminaire - Minor (Cat P) road - smart controller installed",{"$f":"B155","v":"Luminaire - Minor (Cat P) road - smart controller installed"},0,null,35.725176449598578,null,0,null,0,0,6,3.2561912355422808E-2,0,null,null,43.2,0]
[null,"Luminaire - Floodlight - smart controller installed","Luminaire - Floodlight - smart controller installed",0,null,35.725176449598578,null,0,null,0,0,6,3.2561912355422808E-2,0,null,null,0,50.760000000000005]
[null,"Luminaire - Decorative - smart controller installed","Luminaire - Decorative - smart controller installed",0,null,35.725176449598578,null,0,null,0,0,6,3.2561912355422808E-2,0,null,null,51.84,0]
[]
[]
[]
[]
[]
[]
[]
[]
[]
[]
[]
[]
[]
[]
[]
[]
[]
[]
[]
[]
[]
[]
[]
[]
[]
[]
[]
[]
[]
[]
[]
[]
[]
[null,"Mapping Code","Description",{"$f":"D$97","v":"Lamp Cost"},{"$f":"E$97","v":"Lamp On-costed"},"Miscellaneous Cost","Ballast / Igniter On-costed","Starter / PE Cell Cost","Starter / PE Cell On-Costed","Bulb Failure Rate","Luminaire Failure Rate","Bulk Maintenance","Miscellaneous Failure Rate","PE Cell Failure Rate","Remarks","Previous Bulb Failure To Save For Archive Purposes","Previous Bulb Failure To Save For Archive Purposes (FY20-25 determination)"]
[]
[]
[]
[]
[]
[]
[]
[]
[]
[]
[]
[]
[]
[]
[]
[]
[]
[]
[]
[]
[]
[]
[]
[]
[]
[]
[]
[]
[]
[]
[]
[]
[]
[]
[]
[]
[]
[null,"Mapping Code",null,null,"Inspection Cost"]
[]
[]
[]
[]
[]
[]
[]
[]
[]
[]
[]
[null,"Other Maintenance"]
[]
[]
[]
[null,"Description"]
[]
[]
[]
[]
[]
[null,"Item ID","Description","Average of Standard Price","In $23/24",null,null,"Count of Items Used","Sum Of Costs"]
[null,null,null,null,null,null,null,null,{"$f":"H252*E252","v":0}]
[null,null,null,null,null,null,null,null,{"$f":"H253*E253","v":0}]
[null,null,null,null,null,null,null,null,{"$f":"H254*E254","v":0}]
[null,null,null,null,null,null,null,null,{"$f":"H255*E255","v":0}]
[null,null,null,null,null,null,null,null,{"$f":"H256*E256","v":0}]
[null,null,null,null,null,null,null,null,0]
[null,null,null,null,null,null,null,null,0]
[null,null,null,null,null,null,null,null,{"$f":"H259*E259","v":0}]
[null,null,null,null,null,null,null,null,{"$f":"H260*E260","v":0}]
[null,null,null,null,null,null,null,null,{"$f":"H261*E261","v":0}]
[null,null,null,null,null,null,null,null,{"$f":"H262*E262","v":0}]
[null,null,null,null,null,null,null,"TOTAL:",{"$f":"SUM(I252:I262)","v":0}]
[]
[null,"Calculations - Materials"]
[null,"Total Cost Of Components",{"$f":"I263","v":0}]
[null,"Number Of Assets "]
[null,"Average Per Light",{"$f":"C266/C267","v":{"$error":"#DIV/0!"}}]
[]
[null,"Calculations - Labour"]
[null,"Number of callouts for other maintenance"]
[null,"Cost Per Callout (Labour)",{"$f":"$C$53","v":213.15214120939464}]
[null,"Total On Labour",{"$f":"C271*C272","v":0}]
[null,"$ Labour Per Asset (Averaged)",{"$f":"C273/C267","v":{"$error":"#DIV/0!"}}]
[]
[null,"Calculations - Warranty"]
[null,"Number of hours to assess warranties",{"$f":"'C_Warranty NPV'!C8","v":0}]
[null,"Hourly rate",{"$f":"'I_Global Inputs'!$G$9","v":67.42}]
[null,"Support costs of assessing lamps for warranty",{"$f":"C277*C278/C267","v":{"$error":"#DIV/0!"}}]
[]
[null,"TOTAL PER LAMP"]
[null,"Addition of materials and labour",{"$f":"C274+C268+C279","v":{"$error":"#DIV/0!"}}]
[]
[]
[]
[null,"Bulk Works Additional Material Usage"]
[]
[]
[]
[]
[]
[null,"Inputs"]
[]
[]
[]
[]
[]
[]
[]
[]
[]
[null,"Total:",null,null,{"$f":"SUM(E293:E301)","v":0}]
[null,"Number Of Assets:"]
[null,"Average Per Light:",null,null,{"$f":"E302/E303","v":{"$error":"#DIV/0!"}}]
[]
[]
[]
[]
[]
[]
[null,"Additional Pole Maintenance"]
[]
[null,"Currently not used, but left in here in case future years wish to use this feature."]
[null,"(E.g. pole remedial work)"]
[]
[null,"Type Of Work","Cost"]
[]
[]
[]
[]
[]
[]
[]
[]
[]
[]
[]
[]
[null,"Total:",0]
[]
[]
[]
[]
[]
[null,"Street Light Improvement Programs"]
[]
[]
[]
[null,"Type Of Works","Cost"]
[]
[]
[]
[]
[]
[]
[]
[]
[]
[]
[]
[null,"Total:",{"$f":"SUM(C340:C350)","v":0}]
[null,"Total Lights"]
[null,"Per light surcharge",{"$f":"C351/C352","v":{"$error":"#DIV/0!"}}]

{"sheet":"O_New Component SLUOS","index":21,"n_rows":91,"n_cols":13,"rows_kept":91,"cut":false,"hidden":false,"merged":[[1,1,1,3],[1,5,1,12]]}
[]
[null,"Final Pricing - FY24 Nominal",null,null,null,"Internal Use Only"]
[]
[null,"Support Type","CAPEX","OPEX",null,"-","CAPEX Lookup","OPEX Lookup","Name From Model","Grouping","Category","Grouping - Category","Prefered Name"]
[]
[]
[]
[]
[]
[]
[]
[]
[]
[]
[]
[]
[]
[]
[]
[]
[]
[]
[]
[]
[null,"Night Patrol","CAPEX","OPEX",null,"-","CAPEX Lookup","OPEX Lookup","Name From Model",{"$f":"J$4","v":"Grouping"},{"$f":"K$4","v":"Category"},{"$f":"L$4","v":"Grouping - Category"},"Prefered Name"]
[]
[]
[null,"Bracket Type","CAPEX","OPEX",null,"-","CAPEX Lookup","OPEX Lookup",null,{"$f":"J$4","v":"Grouping"},{"$f":"K$4","v":"Category"},{"$f":"L$4","v":"Grouping - Category"},"Prefered Name"]
[]
[]
[]
[null,"Traditional Luminaire Type","CAPEX","OPEX",null,"Lamp Code","CAPEX Lookup","OPEX Lookup","New Code",{"$f":"J$4","v":"Grouping"},{"$f":"K$4","v":"Category"},{"$f":"L$4","v":"Grouping - Category"},"Prefered Naming"]
[]
[]
[]
[]
[]
[]
[]
[]
[]
[]
[]
[]
[]
[]
[]
[]
[]
[]
[]
[]
[]
[]
[]
[]
[]
[]
[]
[]
[]
[]
[]
[]
[]
[]
[]
[]
[]
[]
[]
[]
[]
[]
[]
[]
[]
[]
[]
[]
[]
[]
[]
[]
[]
[]
[]
[]
[]
[]
[null,"LED Luminaire Type","CAPEX","OPEX",null,"Lamp Code","CAPEX Lookup","OPEX Lookup",null,{"$f":"J$4","v":"Grouping"},{"$f":"K$4","v":"Category"},{"$f":"L$4","v":"Grouping - Category"},"Prefered Naming"]

{"sheet":"C_Warranty NPV","index":22,"n_rows":106,"n_cols":14,"rows_kept":106,"cut":false,"hidden":false,"merged":[[0,11,0,12],[1,1,1,2],[0,1,0,2]]}
[null,"Warranty NPV Calculation"]
[null,"Description"]
[null,"This sheet is not used by Ausgrid. Originally it provided the NPV calculation for warranty to feed into the maitenance costs."]
[]
[null,"Proportion of warranties accepted",0]
[null,"Discount Rate:",{"$f":"'I_Global Inputs'!G54","v":0.05}]
[null,"Labour warranty (years):",0]
[null,"Time taken to assess bulbs (hours)",0]
[]
[null,null,null,"Year","Year","Year","Year","Year","Year","Year","Year","Year","Year","NPV"]
[null,"Lamp Type","Description",1,2,3,4,5,6,7,8,9,10,"PA"]
[null,null,null,{"$f":"IF(D11<($C$7+1),0,'C_OPEX Calc'!$N$10*'I_OPEX Input'!$C$53)","v":0},{"$f":"IF(E11<($C$7+1),0,'C_OPEX Calc'!$N$10*'I_OPEX Input'!$C$53)","v":0},{"$f":"IF(F11<($C$7+1),0,'C_OPEX Calc'!$N$10*'I_OPEX Input'!$C$53)","v":0},{"$f":"IF(G11<($C$7+1),0,'C_OPEX Calc'!$N$10*'I_OPEX Input'!$C$53)","v":0},{"$f":"IF(H11<($C$7+1),0,'C_OPEX Calc'!$N$10*'I_OPEX Input'!$C$53)","v":0},{"$f":"IF(I11<($C$7+1),0,'C_OPEX Calc'!$N$10*'I_OPEX Input'!$C$53)","v":0},{"$f":"IF(J11<($C$7+1),0,'C_OPEX Calc'!$N$10*'I_OPEX Input'!$C$53)","v":0},{"$f":"IF(K11<($C$7+1),0,'C_OPEX Calc'!$N$10*'I_OPEX Input'!$C$53)","v":0},{"$f":"IF(L11<($C$7+1),0,'C_OPEX Calc'!$N$10*'I_OPEX Input'!$C$53)","v":0},{"$f":"IF(M11<($C$7+1),0,'C_OPEX Calc'!$N$10*'I_OPEX Input'!$C$53)","v":0},{"$f":"NPV('C_Warranty NPV'!$C$6,'C_Warranty NPV'!D12:M12)/10 * $C$5","v":0}]
[null,null,null,{"$f":"IF(D$11<($C$7+1),0,'C_OPEX Calc'!$N11*'I_OPEX Input'!$C$53)","v":0},{"$f":"IF(E$11<($C$7+1),0,'C_OPEX Calc'!$N11*'I_OPEX Input'!$C$53)","v":0},{"$f":"IF(F$11<($C$7+1),0,'C_OPEX Calc'!$N11*'I_OPEX Input'!$C$53)","v":0},{"$f":"IF(G$11<($C$7+1),0,'C_OPEX Calc'!$N11*'I_OPEX Input'!$C$53)","v":0},{"$f":"IF(H$11<($C$7+1),0,'C_OPEX Calc'!$N11*'I_OPEX Input'!$C$53)","v":0},{"$f":"IF(I$11<($C$7+1),0,'C_OPEX Calc'!$N11*'I_OPEX Input'!$C$53)","v":0},{"$f":"IF(J$11<($C$7+1),0,'C_OPEX Calc'!$N11*'I_OPEX Input'!$C$53)","v":0},{"$f":"IF(K$11<($C$7+1),0,'C_OPEX Calc'!$N11*'I_OPEX Input'!$C$53)","v":0},{"$f":"IF(L$11<($C$7+1),0,'C_OPEX Calc'!$N11*'I_OPEX Input'!$C$53)","v":0},{"$f":"IF(M$11<($C$7+1),0,'C_OPEX Calc'!$N11*'I_OPEX Input'!$C$53)","v":0},{"$f":"NPV('C_Warranty NPV'!$C$6,'C_Warranty NPV'!D13:M13)/10 * $C$5","v":0}]
[null,null,null,{"$f":"IF(D$11<($C$7+1),0,'C_OPEX Calc'!$N12*'I_OPEX Input'!$C$53)","v":0},{"$f":"IF(E$11<($C$7+1),0,'C_OPEX Calc'!$N12*'I_OPEX Input'!$C$53)","v":0},{"$f":"IF(F$11<($C$7+1),0,'C_OPEX Calc'!$N12*'I_OPEX Input'!$C$53)","v":0},{"$f":"IF(G$11<($C$7+1),0,'C_OPEX Calc'!$N12*'I_OPEX Input'!$C$53)","v":0},{"$f":"IF(H$11<($C$7+1),0,'C_OPEX Calc'!$N12*'I_OPEX Input'!$C$53)","v":0},{"$f":"IF(I$11<($C$7+1),0,'C_OPEX Calc'!$N12*'I_OPEX Input'!$C$53)","v":0},{"$f":"IF(J$11<($C$7+1),0,'C_OPEX Calc'!$N12*'I_OPEX Input'!$C$53)","v":0},{"$f":"IF(K$11<($C$7+1),0,'C_OPEX Calc'!$N12*'I_OPEX Input'!$C$53)","v":0},{"$f":"IF(L$11<($C$7+1),0,'C_OPEX Calc'!$N12*'I_OPEX Input'!$C$53)","v":0},{"$f":"IF(M$11<($C$7+1),0,'C_OPEX Calc'!$N12*'I_OPEX Input'!$C$53)","v":0},{"$f":"NPV('C_Warranty NPV'!$C$6,'C_Warranty NPV'!D14:M14)/10 * $C$5","v":0}]
[null,null,null,{"$f":"IF(D$11<($C$7+1),0,'C_OPEX Calc'!$N13*'I_OPEX Input'!$C$53)","v":0},{"$f":"IF(E$11<($C$7+1),0,'C_OPEX Calc'!$N13*'I_OPEX Input'!$C$53)","v":0},{"$f":"IF(F$11<($C$7+1),0,'C_OPEX Calc'!$N13*'I_OPEX Input'!$C$53)","v":0},{"$f":"IF(G$11<($C$7+1),0,'C_OPEX Calc'!$N13*'I_OPEX Input'!$C$53)","v":0},{"$f":"IF(H$11<($C$7+1),0,'C_OPEX Calc'!$N13*'I_OPEX Input'!$C$53)","v":0},{"$f":"IF(I$11<($C$7+1),0,'C_OPEX Calc'!$N13*'I_OPEX Input'!$C$53)","v":0},{"$f":"IF(J$11<($C$7+1),0,'C_OPEX Calc'!$N13*'I_OPEX Input'!$C$53)","v":0},{"$f":"IF(K$11<($C$7+1),0,'C_OPEX Calc'!$N13*'I_OPEX Input'!$C$53)","v":0},{"$f":"IF(L$11<($C$7+1),0,'C_OPEX Calc'!$N13*'I_OPEX Input'!$C$53)","v":0},{"$f":"IF(M$11<($C$7+1),0,'C_OPEX Calc'!$N13*'I_OPEX Input'!$C$53)","v":0},{"$f":"NPV('C_Warranty NPV'!$C$6,'C_Warranty NPV'!D15:M15)/10 * $C$5","v":0}]
[null,null,null,{"$f":"IF(D$11<($C$7+1),0,'C_OPEX Calc'!$N14*'I_OPEX Input'!$C$53)","v":0},{"$f":"IF(E$11<($C$7+1),0,'C_OPEX Calc'!$N14*'I_OPEX Input'!$C$53)","v":0},{"$f":"IF(F$11<($C$7+1),0,'C_OPEX Calc'!$N14*'I_OPEX Input'!$C$53)","v":0},{"$f":"IF(G$11<($C$7+1),0,'C_OPEX Calc'!$N14*'I_OPEX Input'!$C$53)","v":0},{"$f":"IF(H$11<($C$7+1),0,'C_OPEX Calc'!$N14*'I_OPEX Input'!$C$53)","v":0},{"$f":"IF(I$11<($C$7+1),0,'C_OPEX Calc'!$N14*'I_OPEX Input'!$C$53)","v":0},{"$f":"IF(J$11<($C$7+1),0,'C_OPEX Calc'!$N14*'I_OPEX Input'!$C$53)","v":0},{"$f":"IF(K$11<($C$7+1),0,'C_OPEX Calc'!$N14*'I_OPEX Input'!$C$53)","v":0},{"$f":"IF(L$11<($C$7+1),0,'C_OPEX Calc'!$N14*'I_OPEX Input'!$C$53)","v":0},{"$f":"IF(M$11<($C$7+1),0,'C_OPEX Calc'!$N14*'I_OPEX Input'!$C$53)","v":0},{"$f":"NPV('C_Warranty NPV'!$C$6,'C_Warranty NPV'!D16:M16)/10 * $C$5","v":0}]
[null,null,null,{"$f":"IF(D$11<($C$7+1),0,'C_OPEX Calc'!$N15*'I_OPEX Input'!$C$53)","v":0},{"$f":"IF(E$11<($C$7+1),0,'C_OPEX Calc'!$N15*'I_OPEX Input'!$C$53)","v":0},{"$f":"IF(F$11<($C$7+1),0,'C_OPEX Calc'!$N15*'I_OPEX Input'!$C$53)","v":0},{"$f":"IF(G$11<($C$7+1),0,'C_OPEX Calc'!$N15*'I_OPEX Input'!$C$53)","v":0},{"$f":"IF(H$11<($C$7+1),0,'C_OPEX Calc'!$N15*'I_OPEX Input'!$C$53)","v":0},{"$f":"IF(I$11<($C$7+1),0,'C_OPEX Calc'!$N15*'I_OPEX Input'!$C$53)","v":0},{"$f":"IF(J$11<($C$7+1),0,'C_OPEX Calc'!$N15*'I_OPEX Input'!$C$53)","v":0},{"$f":"IF(K$11<($C$7+1),0,'C_OPEX Calc'!$N15*'I_OPEX Input'!$C$53)","v":0},{"$f":"IF(L$11<($C$7+1),0,'C_OPEX Calc'!$N15*'I_OPEX Input'!$C$53)","v":0},{"$f":"IF(M$11<($C$7+1),0,'C_OPEX Calc'!$N15*'I_OPEX Input'!$C$53)","v":0},{"$f":"NPV('C_Warranty NPV'!$C$6,'C_Warranty NPV'!D17:M17)/10 * $C$5","v":0}]
[null,null,null,{"$f":"IF(D$11<($C$7+1),0,'C_OPEX Calc'!$N16*'I_OPEX Input'!$C$53)","v":0},{"$f":"IF(E$11<($C$7+1),0,'C_OPEX Calc'!$N16*'I_OPEX Input'!$C$53)","v":0},{"$f":"IF(F$11<($C$7+1),0,'C_OPEX Calc'!$N16*'I_OPEX Input'!$C$53)","v":0},{"$f":"IF(G$11<($C$7+1),0,'C_OPEX Calc'!$N16*'I_OPEX Input'!$C$53)","v":0},{"$f":"IF(H$11<($C$7+1),0,'C_OPEX Calc'!$N16*'I_OPEX Input'!$C$53)","v":0},{"$f":"IF(I$11<($C$7+1),0,'C_OPEX Calc'!$N16*'I_OPEX Input'!$C$53)","v":0},{"$f":"IF(J$11<($C$7+1),0,'C_OPEX Calc'!$N16*'I_OPEX Input'!$C$53)","v":0},{"$f":"IF(K$11<($C$7+1),0,'C_OPEX Calc'!$N16*'I_OPEX Input'!$C$53)","v":0},{"$f":"IF(L$11<($C$7+1),0,'C_OPEX Calc'!$N16*'I_OPEX Input'!$C$53)","v":0},{"$f":"IF(M$11<($C$7+1),0,'C_OPEX Calc'!$N16*'I_OPEX Input'!$C$53)","v":0},{"$f":"NPV('C_Warranty NPV'!$C$6,'C_Warranty NPV'!D18:M18)/10 * $C$5","v":0}]
[null,null,null,{"$f":"IF(D$11<($C$7+1),0,'C_OPEX Calc'!$N17*'I_OPEX Input'!$C$53)","v":0},{"$f":"IF(E$11<($C$7+1),0,'C_OPEX Calc'!$N17*'I_OPEX Input'!$C$53)","v":0},{"$f":"IF(F$11<($C$7+1),0,'C_OPEX Calc'!$N17*'I_OPEX Input'!$C$53)","v":0},{"$f":"IF(G$11<($C$7+1),0,'C_OPEX Calc'!$N17*'I_OPEX Input'!$C$53)","v":0},{"$f":"IF(H$11<($C$7+1),0,'C_OPEX Calc'!$N17*'I_OPEX Input'!$C$53)","v":0},{"$f":"IF(I$11<($C$7+1),0,'C_OPEX Calc'!$N17*'I_OPEX Input'!$C$53)","v":0},{"$f":"IF(J$11<($C$7+1),0,'C_OPEX Calc'!$N17*'I_OPEX Input'!$C$53)","v":0},{"$f":"IF(K$11<($C$7+1),0,'C_OPEX Calc'!$N17*'I_OPEX Input'!$C$53)","v":0},{"$f":"IF(L$11<($C$7+1),0,'C_OPEX Calc'!$N17*'I_OPEX Input'!$C$53)","v":0},{"$f":"IF(M$11<($C$7+1),0,'C_OPEX Calc'!$N17*'I_OPEX Input'!$C$53)","v":0},{"$f":"NPV('C_Warranty NPV'!$C$6,'C_Warranty NPV'!D19:M19)/10 * $C$5","v":0}]
[null,null,null,{"$f":"IF(D$11<($C$7+1),0,'C_OPEX Calc'!$N18*'I_OPEX Input'!$C$53)","v":0},{"$f":"IF(E$11<($C$7+1),0,'C_OPEX Calc'!$N18*'I_OPEX Input'!$C$53)","v":0},{"$f":"IF(F$11<($C$7+1),0,'C_OPEX Calc'!$N18*'I_OPEX Input'!$C$53)","v":0},{"$f":"IF(G$11<($C$7+1),0,'C_OPEX Calc'!$N18*'I_OPEX Input'!$C$53)","v":0},{"$f":"IF(H$11<($C$7+1),0,'C_OPEX Calc'!$N18*'I_OPEX Input'!$C$53)","v":0},{"$f":"IF(I$11<($C$7+1),0,'C_OPEX Calc'!$N18*'I_OPEX Input'!$C$53)","v":0},{"$f":"IF(J$11<($C$7+1),0,'C_OPEX Calc'!$N18*'I_OPEX Input'!$C$53)","v":0},{"$f":"IF(K$11<($C$7+1),0,'C_OPEX Calc'!$N18*'I_OPEX Input'!$C$53)","v":0},{"$f":"IF(L$11<($C$7+1),0,'C_OPEX Calc'!$N18*'I_OPEX Input'!$C$53)","v":0},{"$f":"IF(M$11<($C$7+1),0,'C_OPEX Calc'!$N18*'I_OPEX Input'!$C$53)","v":0},{"$f":"NPV('C_Warranty NPV'!$C$6,'C_Warranty NPV'!D20:M20)/10 * $C$5","v":0}]
[null,null,null,{"$f":"IF(D$11<($C$7+1),0,'C_OPEX Calc'!$N19*'I_OPEX Input'!$C$53)","v":0},{"$f":"IF(E$11<($C$7+1),0,'C_OPEX Calc'!$N19*'I_OPEX Input'!$C$53)","v":0},{"$f":"IF(F$11<($C$7+1),0,'C_OPEX Calc'!$N19*'I_OPEX Input'!$C$53)","v":0},{"$f":"IF(G$11<($C$7+1),0,'C_OPEX Calc'!$N19*'I_OPEX Input'!$C$53)","v":0},{"$f":"IF(H$11<($C$7+1),0,'C_OPEX Calc'!$N19*'I_OPEX Input'!$C$53)","v":0},{"$f":"IF(I$11<($C$7+1),0,'C_OPEX Calc'!$N19*'I_OPEX Input'!$C$53)","v":0},{"$f":"IF(J$11<($C$7+1),0,'C_OPEX Calc'!$N19*'I_OPEX Input'!$C$53)","v":0},{"$f":"IF(K$11<($C$7+1),0,'C_OPEX Calc'!$N19*'I_OPEX Input'!$C$53)","v":0},{"$f":"IF(L$11<($C$7+1),0,'C_OPEX Calc'!$N19*'I_OPEX Input'!$C$53)","v":0},{"$f":"IF(M$11<($C$7+1),0,'C_OPEX Calc'!$N19*'I_OPEX Input'!$C$53)","v":0},{"$f":"NPV('C_Warranty NPV'!$C$6,'C_Warranty NPV'!D21:M21)/10 * $C$5","v":0}]
[null,null,null,{"$f":"IF(D$11<($C$7+1),0,'C_OPEX Calc'!$N20*'I_OPEX Input'!$C$53)","v":0},{"$f":"IF(E$11<($C$7+1),0,'C_OPEX Calc'!$N20*'I_OPEX Input'!$C$53)","v":0},{"$f":"IF(F$11<($C$7+1),0,'C_OPEX Calc'!$N20*'I_OPEX Input'!$C$53)","v":0},{"$f":"IF(G$11<($C$7+1),0,'C_OPEX Calc'!$N20*'I_OPEX Input'!$C$53)","v":0},{"$f":"IF(H$11<($C$7+1),0,'C_OPEX Calc'!$N20*'I_OPEX Input'!$C$53)","v":0},{"$f":"IF(I$11<($C$7+1),0,'C_OPEX Calc'!$N20*'I_OPEX Input'!$C$53)","v":0},{"$f":"IF(J$11<($C$7+1),0,'C_OPEX Calc'!$N20*'I_OPEX Input'!$C$53)","v":0},{"$f":"IF(K$11<($C$7+1),0,'C_OPEX Calc'!$N20*'I_OPEX Input'!$C$53)","v":0},{"$f":"IF(L$11<($C$7+1),0,'C_OPEX Calc'!$N20*'I_OPEX Input'!$C$53)","v":0},{"$f":"IF(M$11<($C$7+1),0,'C_OPEX Calc'!$N20*'I_OPEX Input'!$C$53)","v":0},{"$f":"NPV('C_Warranty NPV'!$C$6,'C_Warranty NPV'!D22:M22)/10 * $C$5","v":0}]
[null,null,null,{"$f":"IF(D$11<($C$7+1),0,'C_OPEX Calc'!$N21*'I_OPEX Input'!$C$53)","v":0},{"$f":"IF(E$11<($C$7+1),0,'C_OPEX Calc'!$N21*'I_OPEX Input'!$C$53)","v":0},{"$f":"IF(F$11<($C$7+1),0,'C_OPEX Calc'!$N21*'I_OPEX Input'!$C$53)","v":0},{"$f":"IF(G$11<($C$7+1),0,'C_OPEX Calc'!$N21*'I_OPEX Input'!$C$53)","v":0},{"$f":"IF(H$11<($C$7+1),0,'C_OPEX Calc'!$N21*'I_OPEX Input'!$C$53)","v":0},{"$f":"IF(I$11<($C$7+1),0,'C_OPEX Calc'!$N21*'I_OPEX Input'!$C$53)","v":0},{"$f":"IF(J$11<($C$7+1),0,'C_OPEX Calc'!$N21*'I_OPEX Input'!$C$53)","v":0},{"$f":"IF(K$11<($C$7+1),0,'C_OPEX Calc'!$N21*'I_OPEX Input'!$C$53)","v":0},{"$f":"IF(L$11<($C$7+1),0,'C_OPEX Calc'!$N21*'I_OPEX Input'!$C$53)","v":0},{"$f":"IF(M$11<($C$7+1),0,'C_OPEX Calc'!$N21*'I_OPEX Input'!$C$53)","v":0},{"$f":"NPV('C_Warranty NPV'!$C$6,'C_Warranty NPV'!D23:M23)/10 * $C$5","v":0}]
[null,null,null,{"$f":"IF(D$11<($C$7+1),0,'C_OPEX Calc'!$N22*'I_OPEX Input'!$C$53)","v":0},{"$f":"IF(E$11<($C$7+1),0,'C_OPEX Calc'!$N22*'I_OPEX Input'!$C$53)","v":0},{"$f":"IF(F$11<($C$7+1),0,'C_OPEX Calc'!$N22*'I_OPEX Input'!$C$53)","v":0},{"$f":"IF(G$11<($C$7+1),0,'C_OPEX Calc'!$N22*'I_OPEX Input'!$C$53)","v":0},{"$f":"IF(H$11<($C$7+1),0,'C_OPEX Calc'!$N22*'I_OPEX Input'!$C$53)","v":0},{"$f":"IF(I$11<($C$7+1),0,'C_OPEX Calc'!$N22*'I_OPEX Input'!$C$53)","v":0},{"$f":"IF(J$11<($C$7+1),0,'C_OPEX Calc'!$N22*'I_OPEX Input'!$C$53)","v":0},{"$f":"IF(K$11<($C$7+1),0,'C_OPEX Calc'!$N22*'I_OPEX Input'!$C$53)","v":0},{"$f":"IF(L$11<($C$7+1),0,'C_OPEX Calc'!$N22*'I_OPEX Input'!$C$53)","v":0},{"$f":"IF(M$11<($C$7+1),0,'C_OPEX Calc'!$N22*'I_OPEX Input'!$C$53)","v":0},{"$f":"NPV('C_Warranty NPV'!$C$6,'C_Warranty NPV'!D24:M24)/10 * $C$5","v":0}]
[null,null,null,{"$f":"IF(D$11<($C$7+1),0,'C_OPEX Calc'!$N23*'I_OPEX Input'!$C$53)","v":0},{"$f":"IF(E$11<($C$7+1),0,'C_OPEX Calc'!$N23*'I_OPEX Input'!$C$53)","v":0},{"$f":"IF(F$11<($C$7+1),0,'C_OPEX Calc'!$N23*'I_OPEX Input'!$C$53)","v":0},{"$f":"IF(G$11<($C$7+1),0,'C_OPEX Calc'!$N23*'I_OPEX Input'!$C$53)","v":0},{"$f":"IF(H$11<($C$7+1),0,'C_OPEX Calc'!$N23*'I_OPEX Input'!$C$53)","v":0},{"$f":"IF(I$11<($C$7+1),0,'C_OPEX Calc'!$N23*'I_OPEX Input'!$C$53)","v":0},{"$f":"IF(J$11<($C$7+1),0,'C_OPEX Calc'!$N23*'I_OPEX Input'!$C$53)","v":0},{"$f":"IF(K$11<($C$7+1),0,'C_OPEX Calc'!$N23*'I_OPEX Input'!$C$53)","v":0},{"$f":"IF(L$11<($C$7+1),0,'C_OPEX Calc'!$N23*'I_OPEX Input'!$C$53)","v":0},{"$f":"IF(M$11<($C$7+1),0,'C_OPEX Calc'!$N23*'I_OPEX Input'!$C$53)","v":0},{"$f":"NPV('C_Warranty NPV'!$C$6,'C_Warranty NPV'!D25:M25)/10 * $C$5","v":0}]
[null,null,null,{"$f":"IF(D$11<($C$7+1),0,'C_OPEX Calc'!$N24*'I_OPEX Input'!$C$53)","v":0},{"$f":"IF(E$11<($C$7+1),0,'C_OPEX Calc'!$N24*'I_OPEX Input'!$C$53)","v":0},{"$f":"IF(F$11<($C$7+1),0,'C_OPEX Calc'!$N24*'I_OPEX Input'!$C$53)","v":0},{"$f":"IF(G$11<($C$7+1),0,'C_OPEX Calc'!$N24*'I_OPEX Input'!$C$53)","v":0},{"$f":"IF(H$11<($C$7+1),0,'C_OPEX Calc'!$N24*'I_OPEX Input'!$C$53)","v":0},{"$f":"IF(I$11<($C$7+1),0,'C_OPEX Calc'!$N24*'I_OPEX Input'!$C$53)","v":0},{"$f":"IF(J$11<($C$7+1),0,'C_OPEX Calc'!$N24*'I_OPEX Input'!$C$53)","v":0},{"$f":"IF(K$11<($C$7+1),0,'C_OPEX Calc'!$N24*'I_OPEX Input'!$C$53)","v":0},{"$f":"IF(L$11<($C$7+1),0,'C_OPEX Calc'!$N24*'I_OPEX Input'!$C$53)","v":0},{"$f":"IF(M$11<($C$7+1),0,'C_OPEX Calc'!$N24*'I_OPEX Input'!$C$53)","v":0},{"$f":"NPV('C_Warranty NPV'!$C$6,'C_Warranty NPV'!D26:M26)/10 * $C$5","v":0}]
[null,null,null,{"$f":"IF(D$11<($C$7+1),0,'C_OPEX Calc'!$N25*'I_OPEX Input'!$C$53)","v":0},{"$f":"IF(E$11<($C$7+1),0,'C_OPEX Calc'!$N25*'I_OPEX Input'!$C$53)","v":0},{"$f":"IF(F$11<($C$7+1),0,'C_OPEX Calc'!$N25*'I_OPEX Input'!$C$53)","v":0},{"$f":"IF(G$11<($C$7+1),0,'C_OPEX Calc'!$N25*'I_OPEX Input'!$C$53)","v":0},{"$f":"IF(H$11<($C$7+1),0,'C_OPEX Calc'!$N25*'I_OPEX Input'!$C$53)","v":0},{"$f":"IF(I$11<($C$7+1),0,'C_OPEX Calc'!$N25*'I_OPEX Input'!$C$53)","v":0},{"$f":"IF(J$11<($C$7+1),0,'C_OPEX Calc'!$N25*'I_OPEX Input'!$C$53)","v":0},{"$f":"IF(K$11<($C$7+1),0,'C_OPEX Calc'!$N25*'I_OPEX Input'!$C$53)","v":0},{"$f":"IF(L$11<($C$7+1),0,'C_OPEX Calc'!$N25*'I_OPEX Input'!$C$53)","v":0},{"$f":"IF(M$11<($C$7+1),0,'C_OPEX Calc'!$N25*'I_OPEX Input'!$C$53)","v":0},{"$f":"NPV('C_Warranty NPV'!$C$6,'C_Warranty NPV'!D27:M27)/10 * $C$5","v":0}]
[null,null,null,{"$f":"IF(D$11<($C$7+1),0,'C_OPEX Calc'!$N26*'I_OPEX Input'!$C$53)","v":0},{"$f":"IF(E$11<($C$7+1),0,'C_OPEX Calc'!$N26*'I_OPEX Input'!$C$53)","v":0},{"$f":"IF(F$11<($C$7+1),0,'C_OPEX Calc'!$N26*'I_OPEX Input'!$C$53)","v":0},{"$f":"IF(G$11<($C$7+1),0,'C_OPEX Calc'!$N26*'I_OPEX Input'!$C$53)","v":0},{"$f":"IF(H$11<($C$7+1),0,'C_OPEX Calc'!$N26*'I_OPEX Input'!$C$53)","v":0},{"$f":"IF(I$11<($C$7+1),0,'C_OPEX Calc'!$N26*'I_OPEX Input'!$C$53)","v":0},{"$f":"IF(J$11<($C$7+1),0,'C_OPEX Calc'!$N26*'I_OPEX Input'!$C$53)","v":0},{"$f":"IF(K$11<($C$7+1),0,'C_OPEX Calc'!$N26*'I_OPEX Input'!$C$53)","v":0},{"$f":"IF(L$11<($C$7+1),0,'C_OPEX Calc'!$N26*'I_OPEX Input'!$C$53)","v":0},{"$f":"IF(M$11<($C$7+1),0,'C_OPEX Calc'!$N26*'I_OPEX Input'!$C$53)","v":0},{"$f":"NPV('C_Warranty NPV'!$C$6,'C_Warranty NPV'!D28:M28)/10 * $C$5","v":0}]
[]
[null,"Emerging Technology Additions"]
[null,null,null,"Year","Year","Year","Year","Year","Year","Year","Year","Year","Year","NPV"]
[null,"Lamp Type","Description",1,2,3,4,5,6,7,8,9,10,"PA"]
[null,null,{"$f":"VLOOKUP(B33,I_CAPEX!V:AC,2,FALSE)","v":{"$error":"#N/A"}},{"$f":"IF(D$11<($C$7+1),0,INDEX('C_OPEX Calc'!$N:$N,MATCH('C_Warranty NPV'!$B33,'C_OPEX Calc'!$F:$F,0))*'I_OPEX Input'!$C$53)","v":{"$error":"#N/A"}},{"$f":"IF(E$11<($C$7+1),0,INDEX('C_OPEX Calc'!$N:$N,MATCH('C_Warranty NPV'!$B33,'C_OPEX Calc'!$F:$F,0))*'I_OPEX Input'!$C$53)","v":{"$error":"#N/A"}},{"$f":"IF(F$11<($C$7+1),0,INDEX('C_OPEX Calc'!$N:$N,MATCH('C_Warranty NPV'!$B33,'C_OPEX Calc'!$F:$F,0))*'I_OPEX Input'!$C$53)","v":{"$error":"#N/A"}},{"$f":"IF(G$11<($C$7+1),0,INDEX('C_OPEX Calc'!$N:$N,MATCH('C_Warranty NPV'!$B33,'C_OPEX Calc'!$F:$F,0))*'I_OPEX Input'!$C$53)","v":{"$error":"#N/A"}},{"$f":"IF(H$11<($C$7+1),0,INDEX('C_OPEX Calc'!$N:$N,MATCH('C_Warranty NPV'!$B33,'C_OPEX Calc'!$F:$F,0))*'I_OPEX Input'!$C$53)","v":{"$error":"#N/A"}},{"$f":"IF(I$11<($C$7+1),0,INDEX('C_OPEX Calc'!$N:$N,MATCH('C_Warranty NPV'!$B33,'C_OPEX Calc'!$F:$F,0))*'I_OPEX Input'!$C$53)","v":{"$error":"#N/A"}},{"$f":"IF(J$11<($C$7+1),0,INDEX('C_OPEX Calc'!$N:$N,MATCH('C_Warranty NPV'!$B33,'C_OPEX Calc'!$F:$F,0))*'I_OPEX Input'!$C$53)","v":{"$error":"#N/A"}},{"$f":"IF(K$11<($C$7+1),0,INDEX('C_OPEX Calc'!$N:$N,MATCH('C_Warranty NPV'!$B33,'C_OPEX Calc'!$F:$F,0))*'I_OPEX Input'!$C$53)","v":{"$error":"#N/A"}},{"$f":"IF(L$11<($C$7+1),0,INDEX('C_OPEX Calc'!$N:$N,MATCH('C_Warranty NPV'!$B33,'C_OPEX Calc'!$F:$F,0))*'I_OPEX Input'!$C$53)","v":{"$error":"#N/A"}},{"$f":"IF(M$11<($C$7+1),0,INDEX('C_OPEX Calc'!$N:$N,MATCH('C_Warranty NPV'!$B33,'C_OPEX Calc'!$F:$F,0))*'I_OPEX Input'!$C$53)","v":{"$error":"#N/A"}},{"$f":"NPV('C_Warranty NPV'!$C$6,'C_Warranty NPV'!D33:M33)/10 * $C$5","v":{"$error":"#N/A"}}]
[null,null,{"$f":"VLOOKUP(B34,I_CAPEX!V:AC,2,FALSE)","v":{"$error":"#N/A"}},{"$f":"IF(D$11<($C$7+1),0,INDEX('C_OPEX Calc'!$N:$N,MATCH('C_Warranty NPV'!$B34,'C_OPEX Calc'!$F:$F,0))*'I_OPEX Input'!$C$53)","v":{"$error":"#N/A"}},{"$f":"IF(E$11<($C$7+1),0,INDEX('C_OPEX Calc'!$N:$N,MATCH('C_Warranty NPV'!$B34,'C_OPEX Calc'!$F:$F,0))*'I_OPEX Input'!$C$53)","v":{"$error":"#N/A"}},{"$f":"IF(F$11<($C$7+1),0,INDEX('C_OPEX Calc'!$N:$N,MATCH('C_Warranty NPV'!$B34,'C_OPEX Calc'!$F:$F,0))*'I_OPEX Input'!$C$53)","v":{"$error":"#N/A"}},{"$f":"IF(G$11<($C$7+1),0,INDEX('C_OPEX Calc'!$N:$N,MATCH('C_Warranty NPV'!$B34,'C_OPEX Calc'!$F:$F,0))*'I_OPEX Input'!$C$53)","v":{"$error":"#N/A"}},{"$f":"IF(H$11<($C$7+1),0,INDEX('C_OPEX Calc'!$N:$N,MATCH('C_Warranty NPV'!$B34,'C_OPEX Calc'!$F:$F,0))*'I_OPEX Input'!$C$53)","v":{"$error":"#N/A"}},{"$f":"IF(I$11<($C$7+1),0,INDEX('C_OPEX Calc'!$N:$N,MATCH('C_Warranty NPV'!$B34,'C_OPEX Calc'!$F:$F,0))*'I_OPEX Input'!$C$53)","v":{"$error":"#N/A"}},{"$f":"IF(J$11<($C$7+1),0,INDEX('C_OPEX Calc'!$N:$N,MATCH('C_Warranty NPV'!$B34,'C_OPEX Calc'!$F:$F,0))*'I_OPEX Input'!$C$53)","v":{"$error":"#N/A"}},{"$f":"IF(K$11<($C$7+1),0,INDEX('C_OPEX Calc'!$N:$N,MATCH('C_Warranty NPV'!$B34,'C_OPEX Calc'!$F:$F,0))*'I_OPEX Input'!$C$53)","v":{"$error":"#N/A"}},{"$f":"IF(L$11<($C$7+1),0,INDEX('C_OPEX Calc'!$N:$N,MATCH('C_Warranty NPV'!$B34,'C_OPEX Calc'!$F:$F,0))*'I_OPEX Input'!$C$53)","v":{"$error":"#N/A"}},{"$f":"IF(M$11<($C$7+1),0,INDEX('C_OPEX Calc'!$N:$N,MATCH('C_Warranty NPV'!$B34,'C_OPEX Calc'!$F:$F,0))*'I_OPEX Input'!$C$53)","v":{"$error":"#N/A"}},{"$f":"NPV('C_Warranty NPV'!$C$6,'C_Warranty NPV'!D34:M34)/10 * $C$5","v":{"$error":"#N/A"}}]
[null,null,{"$f":"VLOOKUP(B35,I_CAPEX!V:AC,2,FALSE)","v":{"$error":"#N/A"}},{"$f":"IF(D$11<($C$7+1),0,INDEX('C_OPEX Calc'!$N:$N,MATCH('C_Warranty NPV'!$B35,'C_OPEX Calc'!$F:$F,0))*'I_OPEX Input'!$C$53)","v":{"$error":"#N/A"}},{"$f":"IF(E$11<($C$7+1),0,INDEX('C_OPEX Calc'!$N:$N,MATCH('C_Warranty NPV'!$B35,'C_OPEX Calc'!$F:$F,0))*'I_OPEX Input'!$C$53)","v":{"$error":"#N/A"}},{"$f":"IF(F$11<($C$7+1),0,INDEX('C_OPEX Calc'!$N:$N,MATCH('C_Warranty NPV'!$B35,'C_OPEX Calc'!$F:$F,0))*'I_OPEX Input'!$C$53)","v":{"$error":"#N/A"}},{"$f":"IF(G$11<($C$7+1),0,INDEX('C_OPEX Calc'!$N:$N,MATCH('C_Warranty NPV'!$B35,'C_OPEX Calc'!$F:$F,0))*'I_OPEX Input'!$C$53)","v":{"$error":"#N/A"}},{"$f":"IF(H$11<($C$7+1),0,INDEX('C_OPEX Calc'!$N:$N,MATCH('C_Warranty NPV'!$B35,'C_OPEX Calc'!$F:$F,0))*'I_OPEX Input'!$C$53)","v":{"$error":"#N/A"}},{"$f":"IF(I$11<($C$7+1),0,INDEX('C_OPEX Calc'!$N:$N,MATCH('C_Warranty NPV'!$B35,'C_OPEX Calc'!$F:$F,0))*'I_OPEX Input'!$C$53)","v":{"$error":"#N/A"}},{"$f":"IF(J$11<($C$7+1),0,INDEX('C_OPEX Calc'!$N:$N,MATCH('C_Warranty NPV'!$B35,'C_OPEX Calc'!$F:$F,0))*'I_OPEX Input'!$C$53)","v":{"$error":"#N/A"}},{"$f":"IF(K$11<($C$7+1),0,INDEX('C_OPEX Calc'!$N:$N,MATCH('C_Warranty NPV'!$B35,'C_OPEX Calc'!$F:$F,0))*'I_OPEX Input'!$C$53)","v":{"$error":"#N/A"}},{"$f":"IF(L$11<($C$7+1),0,INDEX('C_OPEX Calc'!$N:$N,MATCH('C_Warranty NPV'!$B35,'C_OPEX Calc'!$F:$F,0))*'I_OPEX Input'!$C$53)","v":{"$error":"#N/A"}},{"$f":"IF(M$11<($C$7+1),0,INDEX('C_OPEX Calc'!$N:$N,MATCH('C_Warranty NPV'!$B35,'C_OPEX Calc'!$F:$F,0))*'I_OPEX Input'!$C$53)","v":{"$error":"#N/A"}},{"$f":"NPV('C_Warranty NPV'!$C$6,'C_Warranty NPV'!D35:M35)/10 * $C$5","v":{"$error":"#N/A"}}]
[null,null,{"$f":"VLOOKUP(B36,I_CAPEX!V:AC,2,FALSE)","v":{"$error":"#N/A"}},{"$f":"IF(D$11<($C$7+1),0,INDEX('C_OPEX Calc'!$N:$N,MATCH('C_Warranty NPV'!$B36,'C_OPEX Calc'!$F:$F,0))*'I_OPEX Input'!$C$53)","v":{"$error":"#N/A"}},{"$f":"IF(E$11<($C$7+1),0,INDEX('C_OPEX Calc'!$N:$N,MATCH('C_Warranty NPV'!$B36,'C_OPEX Calc'!$F:$F,0))*'I_OPEX Input'!$C$53)","v":{"$error":"#N/A"}},{"$f":"IF(F$11<($C$7+1),0,INDEX('C_OPEX Calc'!$N:$N,MATCH('C_Warranty NPV'!$B36,'C_OPEX Calc'!$F:$F,0))*'I_OPEX Input'!$C$53)","v":{"$error":"#N/A"}},{"$f":"IF(G$11<($C$7+1),0,INDEX('C_OPEX Calc'!$N:$N,MATCH('C_Warranty NPV'!$B36,'C_OPEX Calc'!$F:$F,0))*'I_OPEX Input'!$C$53)","v":{"$error":"#N/A"}},{"$f":"IF(H$11<($C$7+1),0,INDEX('C_OPEX Calc'!$N:$N,MATCH('C_Warranty NPV'!$B36,'C_OPEX Calc'!$F:$F,0))*'I_OPEX Input'!$C$53)","v":{"$error":"#N/A"}},{"$f":"IF(I$11<($C$7+1),0,INDEX('C_OPEX Calc'!$N:$N,MATCH('C_Warranty NPV'!$B36,'C_OPEX Calc'!$F:$F,0))*'I_OPEX Input'!$C$53)","v":{"$error":"#N/A"}},{"$f":"IF(J$11<($C$7+1),0,INDEX('C_OPEX Calc'!$N:$N,MATCH('C_Warranty NPV'!$B36,'C_OPEX Calc'!$F:$F,0))*'I_OPEX Input'!$C$53)","v":{"$error":"#N/A"}},{"$f":"IF(K$11<($C$7+1),0,INDEX('C_OPEX Calc'!$N:$N,MATCH('C_Warranty NPV'!$B36,'C_OPEX Calc'!$F:$F,0))*'I_OPEX Input'!$C$53)","v":{"$error":"#N/A"}},{"$f":"IF(L$11<($C$7+1),0,INDEX('C_OPEX Calc'!$N:$N,MATCH('C_Warranty NPV'!$B36,'C_OPEX Calc'!$F:$F,0))*'I_OPEX Input'!$C$53)","v":{"$error":"#N/A"}},{"$f":"IF(M$11<($C$7+1),0,INDEX('C_OPEX Calc'!$N:$N,MATCH('C_Warranty NPV'!$B36,'C_OPEX Calc'!$F:$F,0))*'I_OPEX Input'!$C$53)","v":{"$error":"#N/A"}},{"$f":"NPV('C_Warranty NPV'!$C$6,'C_Warranty NPV'!D36:M36)/10 * $C$5","v":{"$error":"#N/A"}}]
[null,null,{"$f":"VLOOKUP(B37,I_CAPEX!V:AC,2,FALSE)","v":{"$error":"#N/A"}},{"$f":"IF(D$11<($C$7+1),0,INDEX('C_OPEX Calc'!$N:$N,MATCH('C_Warranty NPV'!$B37,'C_OPEX Calc'!$F:$F,0))*'I_OPEX Input'!$C$53)","v":{"$error":"#N/A"}},{"$f":"IF(E$11<($C$7+1),0,INDEX('C_OPEX Calc'!$N:$N,MATCH('C_Warranty NPV'!$B37,'C_OPEX Calc'!$F:$F,0))*'I_OPEX Input'!$C$53)","v":{"$error":"#N/A"}},{"$f":"IF(F$11<($C$7+1),0,INDEX('C_OPEX Calc'!$N:$N,MATCH('C_Warranty NPV'!$B37,'C_OPEX Calc'!$F:$F,0))*'I_OPEX Input'!$C$53)","v":{"$error":"#N/A"}},{"$f":"IF(G$11<($C$7+1),0,INDEX('C_OPEX Calc'!$N:$N,MATCH('C_Warranty NPV'!$B37,'C_OPEX Calc'!$F:$F,0))*'I_OPEX Input'!$C$53)","v":{"$error":"#N/A"}},{"$f":"IF(H$11<($C$7+1),0,INDEX('C_OPEX Calc'!$N:$N,MATCH('C_Warranty NPV'!$B37,'C_OPEX Calc'!$F:$F,0))*'I_OPEX Input'!$C$53)","v":{"$error":"#N/A"}},{"$f":"IF(I$11<($C$7+1),0,INDEX('C_OPEX Calc'!$N:$N,MATCH('C_Warranty NPV'!$B37,'C_OPEX Calc'!$F:$F,0))*'I_OPEX Input'!$C$53)","v":{"$error":"#N/A"}},{"$f":"IF(J$11<($C$7+1),0,INDEX('C_OPEX Calc'!$N:$N,MATCH('C_Warranty NPV'!$B37,'C_OPEX Calc'!$F:$F,0))*'I_OPEX Input'!$C$53)","v":{"$error":"#N/A"}},{"$f":"IF(K$11<($C$7+1),0,INDEX('C_OPEX Calc'!$N:$N,MATCH('C_Warranty NPV'!$B37,'C_OPEX Calc'!$F:$F,0))*'I_OPEX Input'!$C$53)","v":{"$error":"#N/A"}},{"$f":"IF(L$11<($C$7+1),0,INDEX('C_OPEX Calc'!$N:$N,MATCH('C_Warranty NPV'!$B37,'C_OPEX Calc'!$F:$F,0))*'I_OPEX Input'!$C$53)","v":{"$error":"#N/A"}},{"$f":"IF(M$11<($C$7+1),0,INDEX('C_OPEX Calc'!$N:$N,MATCH('C_Warranty NPV'!$B37,'C_OPEX Calc'!$F:$F,0))*'I_OPEX Input'!$C$53)","v":{"$error":"#N/A"}},{"$f":"NPV('C_Warranty NPV'!$C$6,'C_Warranty NPV'!D37:M37)/10 * $C$5","v":{"$error":"#N/A"}}]
[null,null,{"$f":"VLOOKUP(B38,I_CAPEX!V:AC,2,FALSE)","v":{"$error":"#N/A"}},{"$f":"IF(D$11<($C$7+1),0,INDEX('C_OPEX Calc'!$N:$N,MATCH('C_Warranty NPV'!$B38,'C_OPEX Calc'!$F:$F,0))*'I_OPEX Input'!$C$53)","v":{"$error":"#N/A"}},{"$f":"IF(E$11<($C$7+1),0,INDEX('C_OPEX Calc'!$N:$N,MATCH('C_Warranty NPV'!$B38,'C_OPEX Calc'!$F:$F,0))*'I_OPEX Input'!$C$53)","v":{"$error":"#N/A"}},{"$f":"IF(F$11<($C$7+1),0,INDEX('C_OPEX Calc'!$N:$N,MATCH('C_Warranty NPV'!$B38,'C_OPEX Calc'!$F:$F,0))*'I_OPEX Input'!$C$53)","v":{"$error":"#N/A"}},{"$f":"IF(G$11<($C$7+1),0,INDEX('C_OPEX Calc'!$N:$N,MATCH('C_Warranty NPV'!$B38,'C_OPEX Calc'!$F:$F,0))*'I_OPEX Input'!$C$53)","v":{"$error":"#N/A"}},{"$f":"IF(H$11<($C$7+1),0,INDEX('C_OPEX Calc'!$N:$N,MATCH('C_Warranty NPV'!$B38,'C_OPEX Calc'!$F:$F,0))*'I_OPEX Input'!$C$53)","v":{"$error":"#N/A"}},{"$f":"IF(I$11<($C$7+1),0,INDEX('C_OPEX Calc'!$N:$N,MATCH('C_Warranty NPV'!$B38,'C_OPEX Calc'!$F:$F,0))*'I_OPEX Input'!$C$53)","v":{"$error":"#N/A"}},{"$f":"IF(J$11<($C$7+1),0,INDEX('C_OPEX Calc'!$N:$N,MATCH('C_Warranty NPV'!$B38,'C_OPEX Calc'!$F:$F,0))*'I_OPEX Input'!$C$53)","v":{"$error":"#N/A"}},{"$f":"IF(K$11<($C$7+1),0,INDEX('C_OPEX Calc'!$N:$N,MATCH('C_Warranty NPV'!$B38,'C_OPEX Calc'!$F:$F,0))*'I_OPEX Input'!$C$53)","v":{"$error":"#N/A"}},{"$f":"IF(L$11<($C$7+1),0,INDEX('C_OPEX Calc'!$N:$N,MATCH('C_Warranty NPV'!$B38,'C_OPEX Calc'!$F:$F,0))*'I_OPEX Input'!$C$53)","v":{"$error":"#N/A"}},{"$f":"IF(M$11<($C$7+1),0,INDEX('C_OPEX Calc'!$N:$N,MATCH('C_Warranty NPV'!$B38,'C_OPEX Calc'!$F:$F,0))*'I_OPEX Input'!$C$53)","v":{"$error":"#N/A"}},{"$f":"NPV('C_Warranty NPV'!$C$6,'C_Warranty NPV'!D38:M38)/10 * $C$5","v":{"$error":"#N/A"}}]
[null,null,{"$f":"VLOOKUP(B39,I_CAPEX!V:AC,2,FALSE)","v":{"$error":"#N/A"}},{"$f":"IF(D$11<($C$7+1),0,INDEX('C_OPEX Calc'!$N:$N,MATCH('C_Warranty NPV'!$B39,'C_OPEX Calc'!$F:$F,0))*'I_OPEX Input'!$C$53)","v":{"$error":"#N/A"}},{"$f":"IF(E$11<($C$7+1),0,INDEX('C_OPEX Calc'!$N:$N,MATCH('C_Warranty NPV'!$B39,'C_OPEX Calc'!$F:$F,0))*'I_OPEX Input'!$C$53)","v":{"$error":"#N/A"}},{"$f":"IF(F$11<($C$7+1),0,INDEX('C_OPEX Calc'!$N:$N,MATCH('C_Warranty NPV'!$B39,'C_OPEX Calc'!$F:$F,0))*'I_OPEX Input'!$C$53)","v":{"$error":"#N/A"}},{"$f":"IF(G$11<($C$7+1),0,INDEX('C_OPEX Calc'!$N:$N,MATCH('C_Warranty NPV'!$B39,'C_OPEX Calc'!$F:$F,0))*'I_OPEX Input'!$C$53)","v":{"$error":"#N/A"}},{"$f":"IF(H$11<($C$7+1),0,INDEX('C_OPEX Calc'!$N:$N,MATCH('C_Warranty NPV'!$B39,'C_OPEX Calc'!$F:$F,0))*'I_OPEX Input'!$C$53)","v":{"$error":"#N/A"}},{"$f":"IF(I$11<($C$7+1),0,INDEX('C_OPEX Calc'!$N:$N,MATCH('C_Warranty NPV'!$B39,'C_OPEX Calc'!$F:$F,0))*'I_OPEX Input'!$C$53)","v":{"$error":"#N/A"}},{"$f":"IF(J$11<($C$7+1),0,INDEX('C_OPEX Calc'!$N:$N,MATCH('C_Warranty NPV'!$B39,'C_OPEX Calc'!$F:$F,0))*'I_OPEX Input'!$C$53)","v":{"$error":"#N/A"}},{"$f":"IF(K$11<($C$7+1),0,INDEX('C_OPEX Calc'!$N:$N,MATCH('C_Warranty NPV'!$B39,'C_OPEX Calc'!$F:$F,0))*'I_OPEX Input'!$C$53)","v":{"$error":"#N/A"}},{"$f":"IF(L$11<($C$7+1),0,INDEX('C_OPEX Calc'!$N:$N,MATCH('C_Warranty NPV'!$B39,'C_OPEX Calc'!$F:$F,0))*'I_OPEX Input'!$C$53)","v":{"$error":"#N/A"}},{"$f":"IF(M$11<($C$7+1),0,INDEX('C_OPEX Calc'!$N:$N,MATCH('C_Warranty NPV'!$B39,'C_OPEX Calc'!$F:$F,0))*'I_OPEX Input'!$C$53)","v":{"$error":"#N/A"}},{"$f":"NPV('C_Warranty NPV'!$C$6,'C_Warranty NPV'!D39:M39)/10 * $C$5","v":{"$error":"#N/A"}}]
[null,null,{"$f":"VLOOKUP(B40,I_CAPEX!V:AC,2,FALSE)","v":{"$error":"#N/A"}},{"$f":"IF(D$11<($C$7+1),0,INDEX('C_OPEX Calc'!$N:$N,MATCH('C_Warranty NPV'!$B40,'C_OPEX Calc'!$F:$F,0))*'I_OPEX Input'!$C$53)","v":{"$error":"#N/A"}},{"$f":"IF(E$11<($C$7+1),0,INDEX('C_OPEX Calc'!$N:$N,MATCH('C_Warranty NPV'!$B40,'C_OPEX Calc'!$F:$F,0))*'I_OPEX Input'!$C$53)","v":{"$error":"#N/A"}},{"$f":"IF(F$11<($C$7+1),0,INDEX('C_OPEX Calc'!$N:$N,MATCH('C_Warranty NPV'!$B40,'C_OPEX Calc'!$F:$F,0))*'I_OPEX Input'!$C$53)","v":{"$error":"#N/A"}},{"$f":"IF(G$11<($C$7+1),0,INDEX('C_OPEX Calc'!$N:$N,MATCH('C_Warranty NPV'!$B40,'C_OPEX Calc'!$F:$F,0))*'I_OPEX Input'!$C$53)","v":{"$error":"#N/A"}},{"$f":"IF(H$11<($C$7+1),0,INDEX('C_OPEX Calc'!$N:$N,MATCH('C_Warranty NPV'!$B40,'C_OPEX Calc'!$F:$F,0))*'I_OPEX Input'!$C$53)","v":{"$error":"#N/A"}},{"$f":"IF(I$11<($C$7+1),0,INDEX('C_OPEX Calc'!$N:$N,MATCH('C_Warranty NPV'!$B40,'C_OPEX Calc'!$F:$F,0))*'I_OPEX Input'!$C$53)","v":{"$error":"#N/A"}},{"$f":"IF(J$11<($C$7+1),0,INDEX('C_OPEX Calc'!$N:$N,MATCH('C_Warranty NPV'!$B40,'C_OPEX Calc'!$F:$F,0))*'I_OPEX Input'!$C$53)","v":{"$error":"#N/A"}},{"$f":"IF(K$11<($C$7+1),0,INDEX('C_OPEX Calc'!$N:$N,MATCH('C_Warranty NPV'!$B40,'C_OPEX Calc'!$F:$F,0))*'I_OPEX Input'!$C$53)","v":{"$error":"#N/A"}},{"$f":"IF(L$11<($C$7+1),0,INDEX('C_OPEX Calc'!$N:$N,MATCH('C_Warranty NPV'!$B40,'C_OPEX Calc'!$F:$F,0))*'I_OPEX Input'!$C$53)","v":{"$error":"#N/A"}},{"$f":"IF(M$11<($C$7+1),0,INDEX('C_OPEX Calc'!$N:$N,MATCH('C_Warranty NPV'!$B40,'C_OPEX Calc'!$F:$F,0))*'I_OPEX Input'!$C$53)","v":{"$error":"#N/A"}},{"$f":"NPV('C_Warranty NPV'!$C$6,'C_Warranty NPV'!D40:M40)/10 * $C$5","v":{"$error":"#N/A"}}]
[null,null,{"$f":"VLOOKUP(B41,I_CAPEX!V:AC,2,FALSE)","v":{"$error":"#N/A"}},{"$f":"IF(D$11<($C$7+1),0,INDEX('C_OPEX Calc'!$N:$N,MATCH('C_Warranty NPV'!$B41,'C_OPEX Calc'!$F:$F,0))*'I_OPEX Input'!$C$53)","v":{"$error":"#N/A"}},{"$f":"IF(E$11<($C$7+1),0,INDEX('C_OPEX Calc'!$N:$N,MATCH('C_Warranty NPV'!$B41,'C_OPEX Calc'!$F:$F,0))*'I_OPEX Input'!$C$53)","v":{"$error":"#N/A"}},{"$f":"IF(F$11<($C$7+1),0,INDEX('C_OPEX Calc'!$N:$N,MATCH('C_Warranty NPV'!$B41,'C_OPEX Calc'!$F:$F,0))*'I_OPEX Input'!$C$53)","v":{"$error":"#N/A"}},{"$f":"IF(G$11<($C$7+1),0,INDEX('C_OPEX Calc'!$N:$N,MATCH('C_Warranty NPV'!$B41,'C_OPEX Calc'!$F:$F,0))*'I_OPEX Input'!$C$53)","v":{"$error":"#N/A"}},{"$f":"IF(H$11<($C$7+1),0,INDEX('C_OPEX Calc'!$N:$N,MATCH('C_Warranty NPV'!$B41,'C_OPEX Calc'!$F:$F,0))*'I_OPEX Input'!$C$53)","v":{"$error":"#N/A"}},{"$f":"IF(I$11<($C$7+1),0,INDEX('C_OPEX Calc'!$N:$N,MATCH('C_Warranty NPV'!$B41,'C_OPEX Calc'!$F:$F,0))*'I_OPEX Input'!$C$53)","v":{"$error":"#N/A"}},{"$f":"IF(J$11<($C$7+1),0,INDEX('C_OPEX Calc'!$N:$N,MATCH('C_Warranty NPV'!$B41,'C_OPEX Calc'!$F:$F,0))*'I_OPEX Input'!$C$53)","v":{"$error":"#N/A"}},{"$f":"IF(K$11<($C$7+1),0,INDEX('C_OPEX Calc'!$N:$N,MATCH('C_Warranty NPV'!$B41,'C_OPEX Calc'!$F:$F,0))*'I_OPEX Input'!$C$53)","v":{"$error":"#N/A"}},{"$f":"IF(L$11<($C$7+1),0,INDEX('C_OPEX Calc'!$N:$N,MATCH('C_Warranty NPV'!$B41,'C_OPEX Calc'!$F:$F,0))*'I_OPEX Input'!$C$53)","v":{"$error":"#N/A"}},{"$f":"IF(M$11<($C$7+1),0,INDEX('C_OPEX Calc'!$N:$N,MATCH('C_Warranty NPV'!$B41,'C_OPEX Calc'!$F:$F,0))*'I_OPEX Input'!$C$53)","v":{"$error":"#N/A"}},{"$f":"NPV('C_Warranty NPV'!$C$6,'C_Warranty NPV'!D41:M41)/10 * $C$5","v":{"$error":"#N/A"}}]
[null,null,{"$f":"VLOOKUP(B42,I_CAPEX!V:AC,2,FALSE)","v":{"$error":"#N/A"}},{"$f":"IF(D$11<($C$7+1),0,INDEX('C_OPEX Calc'!$N:$N,MATCH('C_Warranty NPV'!$B42,'C_OPEX Calc'!$F:$F,0))*'I_OPEX Input'!$C$53)","v":{"$error":"#N/A"}},{"$f":"IF(E$11<($C$7+1),0,INDEX('C_OPEX Calc'!$N:$N,MATCH('C_Warranty NPV'!$B42,'C_OPEX Calc'!$F:$F,0))*'I_OPEX Input'!$C$53)","v":{"$error":"#N/A"}},{"$f":"IF(F$11<($C$7+1),0,INDEX('C_OPEX Calc'!$N:$N,MATCH('C_Warranty NPV'!$B42,'C_OPEX Calc'!$F:$F,0))*'I_OPEX Input'!$C$53)","v":{"$error":"#N/A"}},{"$f":"IF(G$11<($C$7+1),0,INDEX('C_OPEX Calc'!$N:$N,MATCH('C_Warranty NPV'!$B42,'C_OPEX Calc'!$F:$F,0))*'I_OPEX Input'!$C$53)","v":{"$error":"#N/A"}},{"$f":"IF(H$11<($C$7+1),0,INDEX('C_OPEX Calc'!$N:$N,MATCH('C_Warranty NPV'!$B42,'C_OPEX Calc'!$F:$F,0))*'I_OPEX Input'!$C$53)","v":{"$error":"#N/A"}},{"$f":"IF(I$11<($C$7+1),0,INDEX('C_OPEX Calc'!$N:$N,MATCH('C_Warranty NPV'!$B42,'C_OPEX Calc'!$F:$F,0))*'I_OPEX Input'!$C$53)","v":{"$error":"#N/A"}},{"$f":"IF(J$11<($C$7+1),0,INDEX('C_OPEX Calc'!$N:$N,MATCH('C_Warranty NPV'!$B42,'C_OPEX Calc'!$F:$F,0))*'I_OPEX Input'!$C$53)","v":{"$error":"#N/A"}},{"$f":"IF(K$11<($C$7+1),0,INDEX('C_OPEX Calc'!$N:$N,MATCH('C_Warranty NPV'!$B42,'C_OPEX Calc'!$F:$F,0))*'I_OPEX Input'!$C$53)","v":{"$error":"#N/A"}},{"$f":"IF(L$11<($C$7+1),0,INDEX('C_OPEX Calc'!$N:$N,MATCH('C_Warranty NPV'!$B42,'C_OPEX Calc'!$F:$F,0))*'I_OPEX Input'!$C$53)","v":{"$error":"#N/A"}},{"$f":"IF(M$11<($C$7+1),0,INDEX('C_OPEX Calc'!$N:$N,MATCH('C_Warranty NPV'!$B42,'C_OPEX Calc'!$F:$F,0))*'I_OPEX Input'!$C$53)","v":{"$error":"#N/A"}},{"$f":"NPV('C_Warranty NPV'!$C$6,'C_Warranty NPV'!D42:M42)/10 * $C$5","v":{"$error":"#N/A"}}]
[null,null,{"$f":"VLOOKUP(B43,I_CAPEX!V:AC,2,FALSE)","v":{"$error":"#N/A"}},{"$f":"IF(D$11<($C$7+1),0,INDEX('C_OPEX Calc'!$N:$N,MATCH('C_Warranty NPV'!$B43,'C_OPEX Calc'!$F:$F,0))*'I_OPEX Input'!$C$53)","v":{"$error":"#N/A"}},{"$f":"IF(E$11<($C$7+1),0,INDEX('C_OPEX Calc'!$N:$N,MATCH('C_Warranty NPV'!$B43,'C_OPEX Calc'!$F:$F,0))*'I_OPEX Input'!$C$53)","v":{"$error":"#N/A"}},{"$f":"IF(F$11<($C$7+1),0,INDEX('C_OPEX Calc'!$N:$N,MATCH('C_Warranty NPV'!$B43,'C_OPEX Calc'!$F:$F,0))*'I_OPEX Input'!$C$53)","v":{"$error":"#N/A"}},{"$f":"IF(G$11<($C$7+1),0,INDEX('C_OPEX Calc'!$N:$N,MATCH('C_Warranty NPV'!$B43,'C_OPEX Calc'!$F:$F,0))*'I_OPEX Input'!$C$53)","v":{"$error":"#N/A"}},{"$f":"IF(H$11<($C$7+1),0,INDEX('C_OPEX Calc'!$N:$N,MATCH('C_Warranty NPV'!$B43,'C_OPEX Calc'!$F:$F,0))*'I_OPEX Input'!$C$53)","v":{"$error":"#N/A"}},{"$f":"IF(I$11<($C$7+1),0,INDEX('C_OPEX Calc'!$N:$N,MATCH('C_Warranty NPV'!$B43,'C_OPEX Calc'!$F:$F,0))*'I_OPEX Input'!$C$53)","v":{"$error":"#N/A"}},{"$f":"IF(J$11<($C$7+1),0,INDEX('C_OPEX Calc'!$N:$N,MATCH('C_Warranty NPV'!$B43,'C_OPEX Calc'!$F:$F,0))*'I_OPEX Input'!$C$53)","v":{"$error":"#N/A"}},{"$f":"IF(K$11<($C$7+1),0,INDEX('C_OPEX Calc'!$N:$N,MATCH('C_Warranty NPV'!$B43,'C_OPEX Calc'!$F:$F,0))*'I_OPEX Input'!$C$53)","v":{"$error":"#N/A"}},{"$f":"IF(L$11<($C$7+1),0,INDEX('C_OPEX Calc'!$N:$N,MATCH('C_Warranty NPV'!$B43,'C_OPEX Calc'!$F:$F,0))*'I_OPEX Input'!$C$53)","v":{"$error":"#N/A"}},{"$f":"IF(M$11<($C$7+1),0,INDEX('C_OPEX Calc'!$N:$N,MATCH('C_Warranty NPV'!$B43,'C_OPEX Calc'!$F:$F,0))*'I_OPEX Input'!$C$53)","v":{"$error":"#N/A"}},{"$f":"NPV('C_Warranty NPV'!$C$6,'C_Warranty NPV'!D43:M43)/10 * $C$5","v":{"$error":"#N/A"}}]
[null,null,{"$f":"VLOOKUP(B44,I_CAPEX!V:AC,2,FALSE)","v":{"$error":"#N/A"}},{"$f":"IF(D$11<($C$7+1),0,INDEX('C_OPEX Calc'!$N:$N,MATCH('C_Warranty NPV'!$B44,'C_OPEX Calc'!$F:$F,0))*'I_OPEX Input'!$C$53)","v":{"$error":"#N/A"}},{"$f":"IF(E$11<($C$7+1),0,INDEX('C_OPEX Calc'!$N:$N,MATCH('C_Warranty NPV'!$B44,'C_OPEX Calc'!$F:$F,0))*'I_OPEX Input'!$C$53)","v":{"$error":"#N/A"}},{"$f":"IF(F$11<($C$7+1),0,INDEX('C_OPEX Calc'!$N:$N,MATCH('C_Warranty NPV'!$B44,'C_OPEX Calc'!$F:$F,0))*'I_OPEX Input'!$C$53)","v":{"$error":"#N/A"}},{"$f":"IF(G$11<($C$7+1),0,INDEX('C_OPEX Calc'!$N:$N,MATCH('C_Warranty NPV'!$B44,'C_OPEX Calc'!$F:$F,0))*'I_OPEX Input'!$C$53)","v":{"$error":"#N/A"}},{"$f":"IF(H$11<($C$7+1),0,INDEX('C_OPEX Calc'!$N:$N,MATCH('C_Warranty NPV'!$B44,'C_OPEX Calc'!$F:$F,0))*'I_OPEX Input'!$C$53)","v":{"$error":"#N/A"}},{"$f":"IF(I$11<($C$7+1),0,INDEX('C_OPEX Calc'!$N:$N,MATCH('C_Warranty NPV'!$B44,'C_OPEX Calc'!$F:$F,0))*'I_OPEX Input'!$C$53)","v":{"$error":"#N/A"}},{"$f":"IF(J$11<($C$7+1),0,INDEX('C_OPEX Calc'!$N:$N,MATCH('C_Warranty NPV'!$B44,'C_OPEX Calc'!$F:$F,0))*'I_OPEX Input'!$C$53)","v":{"$error":"#N/A"}},{"$f":"IF(K$11<($C$7+1),0,INDEX('C_OPEX Calc'!$N:$N,MATCH('C_Warranty NPV'!$B44,'C_OPEX Calc'!$F:$F,0))*'I_OPEX Input'!$C$53)","v":{"$error":"#N/A"}},{"$f":"IF(L$11<($C$7+1),0,INDEX('C_OPEX Calc'!$N:$N,MATCH('C_Warranty NPV'!$B44,'C_OPEX Calc'!$F:$F,0))*'I_OPEX Input'!$C$53)","v":{"$error":"#N/A"}},{"$f":"IF(M$11<($C$7+1),0,INDEX('C_OPEX Calc'!$N:$N,MATCH('C_Warranty NPV'!$B44,'C_OPEX Calc'!$F:$F,0))*'I_OPEX Input'!$C$53)","v":{"$error":"#N/A"}},{"$f":"NPV('C_Warranty NPV'!$C$6,'C_Warranty NPV'!D44:M44)/10 * $C$5","v":{"$error":"#N/A"}}]
[null,null,{"$f":"VLOOKUP(B45,I_CAPEX!V:AC,2,FALSE)","v":{"$error":"#N/A"}},{"$f":"IF(D$11<($C$7+1),0,INDEX('C_OPEX Calc'!$N:$N,MATCH('C_Warranty NPV'!$B45,'C_OPEX Calc'!$F:$F,0))*'I_OPEX Input'!$C$53)","v":{"$error":"#N/A"}},{"$f":"IF(E$11<($C$7+1),0,INDEX('C_OPEX Calc'!$N:$N,MATCH('C_Warranty NPV'!$B45,'C_OPEX Calc'!$F:$F,0))*'I_OPEX Input'!$C$53)","v":{"$error":"#N/A"}},{"$f":"IF(F$11<($C$7+1),0,INDEX('C_OPEX Calc'!$N:$N,MATCH('C_Warranty NPV'!$B45,'C_OPEX Calc'!$F:$F,0))*'I_OPEX Input'!$C$53)","v":{"$error":"#N/A"}},{"$f":"IF(G$11<($C$7+1),0,INDEX('C_OPEX Calc'!$N:$N,MATCH('C_Warranty NPV'!$B45,'C_OPEX Calc'!$F:$F,0))*'I_OPEX Input'!$C$53)","v":{"$error":"#N/A"}},{"$f":"IF(H$11<($C$7+1),0,INDEX('C_OPEX Calc'!$N:$N,MATCH('C_Warranty NPV'!$B45,'C_OPEX Calc'!$F:$F,0))*'I_OPEX Input'!$C$53)","v":{"$error":"#N/A"}},{"$f":"IF(I$11<($C$7+1),0,INDEX('C_OPEX Calc'!$N:$N,MATCH('C_Warranty NPV'!$B45,'C_OPEX Calc'!$F:$F,0))*'I_OPEX Input'!$C$53)","v":{"$error":"#N/A"}},{"$f":"IF(J$11<($C$7+1),0,INDEX('C_OPEX Calc'!$N:$N,MATCH('C_Warranty NPV'!$B45,'C_OPEX Calc'!$F:$F,0))*'I_OPEX Input'!$C$53)","v":{"$error":"#N/A"}},{"$f":"IF(K$11<($C$7+1),0,INDEX('C_OPEX Calc'!$N:$N,MATCH('C_Warranty NPV'!$B45,'C_OPEX Calc'!$F:$F,0))*'I_OPEX Input'!$C$53)","v":{"$error":"#N/A"}},{"$f":"IF(L$11<($C$7+1),0,INDEX('C_OPEX Calc'!$N:$N,MATCH('C_Warranty NPV'!$B45,'C_OPEX Calc'!$F:$F,0))*'I_OPEX Input'!$C$53)","v":{"$error":"#N/A"}},{"$f":"IF(M$11<($C$7+1),0,INDEX('C_OPEX Calc'!$N:$N,MATCH('C_Warranty NPV'!$B45,'C_OPEX Calc'!$F:$F,0))*'I_OPEX Input'!$C$53)","v":{"$error":"#N/A"}},{"$f":"NPV('C_Warranty NPV'!$C$6,'C_Warranty NPV'!D45:M45)/10 * $C$5","v":{"$error":"#N/A"}}]
[null,null,{"$f":"VLOOKUP(B46,I_CAPEX!V:AC,2,FALSE)","v":{"$error":"#N/A"}},{"$f":"IF(D$11<($C$7+1),0,INDEX('C_OPEX Calc'!$N:$N,MATCH('C_Warranty NPV'!$B46,'C_OPEX Calc'!$F:$F,0))*'I_OPEX Input'!$C$53)","v":{"$error":"#N/A"}},{"$f":"IF(E$11<($C$7+1),0,INDEX('C_OPEX Calc'!$N:$N,MATCH('C_Warranty NPV'!$B46,'C_OPEX Calc'!$F:$F,0))*'I_OPEX Input'!$C$53)","v":{"$error":"#N/A"}},{"$f":"IF(F$11<($C$7+1),0,INDEX('C_OPEX Calc'!$N:$N,MATCH('C_Warranty NPV'!$B46,'C_OPEX Calc'!$F:$F,0))*'I_OPEX Input'!$C$53)","v":{"$error":"#N/A"}},{"$f":"IF(G$11<($C$7+1),0,INDEX('C_OPEX Calc'!$N:$N,MATCH('C_Warranty NPV'!$B46,'C_OPEX Calc'!$F:$F,0))*'I_OPEX Input'!$C$53)","v":{"$error":"#N/A"}},{"$f":"IF(H$11<($C$7+1),0,INDEX('C_OPEX Calc'!$N:$N,MATCH('C_Warranty NPV'!$B46,'C_OPEX Calc'!$F:$F,0))*'I_OPEX Input'!$C$53)","v":{"$error":"#N/A"}},{"$f":"IF(I$11<($C$7+1),0,INDEX('C_OPEX Calc'!$N:$N,MATCH('C_Warranty NPV'!$B46,'C_OPEX Calc'!$F:$F,0))*'I_OPEX Input'!$C$53)","v":{"$error":"#N/A"}},{"$f":"IF(J$11<($C$7+1),0,INDEX('C_OPEX Calc'!$N:$N,MATCH('C_Warranty NPV'!$B46,'C_OPEX Calc'!$F:$F,0))*'I_OPEX Input'!$C$53)","v":{"$error":"#N/A"}},{"$f":"IF(K$11<($C$7+1),0,INDEX('C_OPEX Calc'!$N:$N,MATCH('C_Warranty NPV'!$B46,'C_OPEX Calc'!$F:$F,0))*'I_OPEX Input'!$C$53)","v":{"$error":"#N/A"}},{"$f":"IF(L$11<($C$7+1),0,INDEX('C_OPEX Calc'!$N:$N,MATCH('C_Warranty NPV'!$B46,'C_OPEX Calc'!$F:$F,0))*'I_OPEX Input'!$C$53)","v":{"$error":"#N/A"}},{"$f":"IF(M$11<($C$7+1),0,INDEX('C_OPEX Calc'!$N:$N,MATCH('C_Warranty NPV'!$B46,'C_OPEX Calc'!$F:$F,0))*'I_OPEX Input'!$C$53)","v":{"$error":"#N/A"}},{"$f":"NPV('C_Warranty NPV'!$C$6,'C_Warranty NPV'!D46:M46)/10 * $C$5","v":{"$error":"#N/A"}}]
[null,null,{"$f":"VLOOKUP(B47,I_CAPEX!V:AC,2,FALSE)","v":{"$error":"#N/A"}},{"$f":"IF(D$11<($C$7+1),0,INDEX('C_OPEX Calc'!$N:$N,MATCH('C_Warranty NPV'!$B47,'C_OPEX Calc'!$F:$F,0))*'I_OPEX Input'!$C$53)","v":{"$error":"#N/A"}},{"$f":"IF(E$11<($C$7+1),0,INDEX('C_OPEX Calc'!$N:$N,MATCH('C_Warranty NPV'!$B47,'C_OPEX Calc'!$F:$F,0))*'I_OPEX Input'!$C$53)","v":{"$error":"#N/A"}},{"$f":"IF(F$11<($C$7+1),0,INDEX('C_OPEX Calc'!$N:$N,MATCH('C_Warranty NPV'!$B47,'C_OPEX Calc'!$F:$F,0))*'I_OPEX Input'!$C$53)","v":{"$error":"#N/A"}},{"$f":"IF(G$11<($C$7+1),0,INDEX('C_OPEX Calc'!$N:$N,MATCH('C_Warranty NPV'!$B47,'C_OPEX Calc'!$F:$F,0))*'I_OPEX Input'!$C$53)","v":{"$error":"#N/A"}},{"$f":"IF(H$11<($C$7+1),0,INDEX('C_OPEX Calc'!$N:$N,MATCH('C_Warranty NPV'!$B47,'C_OPEX Calc'!$F:$F,0))*'I_OPEX Input'!$C$53)","v":{"$error":"#N/A"}},{"$f":"IF(I$11<($C$7+1),0,INDEX('C_OPEX Calc'!$N:$N,MATCH('C_Warranty NPV'!$B47,'C_OPEX Calc'!$F:$F,0))*'I_OPEX Input'!$C$53)","v":{"$error":"#N/A"}},{"$f":"IF(J$11<($C$7+1),0,INDEX('C_OPEX Calc'!$N:$N,MATCH('C_Warranty NPV'!$B47,'C_OPEX Calc'!$F:$F,0))*'I_OPEX Input'!$C$53)","v":{"$error":"#N/A"}},{"$f":"IF(K$11<($C$7+1),0,INDEX('C_OPEX Calc'!$N:$N,MATCH('C_Warranty NPV'!$B47,'C_OPEX Calc'!$F:$F,0))*'I_OPEX Input'!$C$53)","v":{"$error":"#N/A"}},{"$f":"IF(L$11<($C$7+1),0,INDEX('C_OPEX Calc'!$N:$N,MATCH('C_Warranty NPV'!$B47,'C_OPEX Calc'!$F:$F,0))*'I_OPEX Input'!$C$53)","v":{"$error":"#N/A"}},{"$f":"IF(M$11<($C$7+1),0,INDEX('C_OPEX Calc'!$N:$N,MATCH('C_Warranty NPV'!$B47,'C_OPEX Calc'!$F:$F,0))*'I_OPEX Input'!$C$53)","v":{"$error":"#N/A"}},{"$f":"NPV('C_Warranty NPV'!$C$6,'C_Warranty NPV'!D47:M47)/10 * $C$5","v":{"$error":"#N/A"}}]
[null,null,{"$f":"VLOOKUP(B48,I_CAPEX!V:AC,2,FALSE)","v":{"$error":"#N/A"}},{"$f":"IF(D$11<($C$7+1),0,INDEX('C_OPEX Calc'!$N:$N,MATCH('C_Warranty NPV'!$B48,'C_OPEX Calc'!$F:$F,0))*'I_OPEX Input'!$C$53)","v":{"$error":"#N/A"}},{"$f":"IF(E$11<($C$7+1),0,INDEX('C_OPEX Calc'!$N:$N,MATCH('C_Warranty NPV'!$B48,'C_OPEX Calc'!$F:$F,0))*'I_OPEX Input'!$C$53)","v":{"$error":"#N/A"}},{"$f":"IF(F$11<($C$7+1),0,INDEX('C_OPEX Calc'!$N:$N,MATCH('C_Warranty NPV'!$B48,'C_OPEX Calc'!$F:$F,0))*'I_OPEX Input'!$C$53)","v":{"$error":"#N/A"}},{"$f":"IF(G$11<($C$7+1),0,INDEX('C_OPEX Calc'!$N:$N,MATCH('C_Warranty NPV'!$B48,'C_OPEX Calc'!$F:$F,0))*'I_OPEX Input'!$C$53)","v":{"$error":"#N/A"}},{"$f":"IF(H$11<($C$7+1),0,INDEX('C_OPEX Calc'!$N:$N,MATCH('C_Warranty NPV'!$B48,'C_OPEX Calc'!$F:$F,0))*'I_OPEX Input'!$C$53)","v":{"$error":"#N/A"}},{"$f":"IF(I$11<($C$7+1),0,INDEX('C_OPEX Calc'!$N:$N,MATCH('C_Warranty NPV'!$B48,'C_OPEX Calc'!$F:$F,0))*'I_OPEX Input'!$C$53)","v":{"$error":"#N/A"}},{"$f":"IF(J$11<($C$7+1),0,INDEX('C_OPEX Calc'!$N:$N,MATCH('C_Warranty NPV'!$B48,'C_OPEX Calc'!$F:$F,0))*'I_OPEX Input'!$C$53)","v":{"$error":"#N/A"}},{"$f":"IF(K$11<($C$7+1),0,INDEX('C_OPEX Calc'!$N:$N,MATCH('C_Warranty NPV'!$B48,'C_OPEX Calc'!$F:$F,0))*'I_OPEX Input'!$C$53)","v":{"$error":"#N/A"}},{"$f":"IF(L$11<($C$7+1),0,INDEX('C_OPEX Calc'!$N:$N,MATCH('C_Warranty NPV'!$B48,'C_OPEX Calc'!$F:$F,0))*'I_OPEX Input'!$C$53)","v":{"$error":"#N/A"}},{"$f":"IF(M$11<($C$7+1),0,INDEX('C_OPEX Calc'!$N:$N,MATCH('C_Warranty NPV'!$B48,'C_OPEX Calc'!$F:$F,0))*'I_OPEX Input'!$C$53)","v":{"$error":"#N/A"}},{"$f":"NPV('C_Warranty NPV'!$C$6,'C_Warranty NPV'!D48:M48)/10 * $C$5","v":{"$error":"#N/A"}}]
[null,null,{"$f":"VLOOKUP(B49,I_CAPEX!V:AC,2,FALSE)","v":{"$error":"#N/A"}},{"$f":"IF(D$11<($C$7+1),0,INDEX('C_OPEX Calc'!$N:$N,MATCH('C_Warranty NPV'!$B49,'C_OPEX Calc'!$F:$F,0))*'I_OPEX Input'!$C$53)","v":{"$error":"#N/A"}},{"$f":"IF(E$11<($C$7+1),0,INDEX('C_OPEX Calc'!$N:$N,MATCH('C_Warranty NPV'!$B49,'C_OPEX Calc'!$F:$F,0))*'I_OPEX Input'!$C$53)","v":{"$error":"#N/A"}},{"$f":"IF(F$11<($C$7+1),0,INDEX('C_OPEX Calc'!$N:$N,MATCH('C_Warranty NPV'!$B49,'C_OPEX Calc'!$F:$F,0))*'I_OPEX Input'!$C$53)","v":{"$error":"#N/A"}},{"$f":"IF(G$11<($C$7+1),0,INDEX('C_OPEX Calc'!$N:$N,MATCH('C_Warranty NPV'!$B49,'C_OPEX Calc'!$F:$F,0))*'I_OPEX Input'!$C$53)","v":{"$error":"#N/A"}},{"$f":"IF(H$11<($C$7+1),0,INDEX('C_OPEX Calc'!$N:$N,MATCH('C_Warranty NPV'!$B49,'C_OPEX Calc'!$F:$F,0))*'I_OPEX Input'!$C$53)","v":{"$error":"#N/A"}},{"$f":"IF(I$11<($C$7+1),0,INDEX('C_OPEX Calc'!$N:$N,MATCH('C_Warranty NPV'!$B49,'C_OPEX Calc'!$F:$F,0))*'I_OPEX Input'!$C$53)","v":{"$error":"#N/A"}},{"$f":"IF(J$11<($C$7+1),0,INDEX('C_OPEX Calc'!$N:$N,MATCH('C_Warranty NPV'!$B49,'C_OPEX Calc'!$F:$F,0))*'I_OPEX Input'!$C$53)","v":{"$error":"#N/A"}},{"$f":"IF(K$11<($C$7+1),0,INDEX('C_OPEX Calc'!$N:$N,MATCH('C_Warranty NPV'!$B49,'C_OPEX Calc'!$F:$F,0))*'I_OPEX Input'!$C$53)","v":{"$error":"#N/A"}},{"$f":"IF(L$11<($C$7+1),0,INDEX('C_OPEX Calc'!$N:$N,MATCH('C_Warranty NPV'!$B49,'C_OPEX Calc'!$F:$F,0))*'I_OPEX Input'!$C$53)","v":{"$error":"#N/A"}},{"$f":"IF(M$11<($C$7+1),0,INDEX('C_OPEX Calc'!$N:$N,MATCH('C_Warranty NPV'!$B49,'C_OPEX Calc'!$F:$F,0))*'I_OPEX Input'!$C$53)","v":{"$error":"#N/A"}},{"$f":"NPV('C_Warranty NPV'!$C$6,'C_Warranty NPV'!D49:M49)/10 * $C$5","v":{"$error":"#N/A"}}]
[null,null,{"$f":"VLOOKUP(B50,I_CAPEX!V:AC,2,FALSE)","v":{"$error":"#N/A"}},{"$f":"IF(D$11<($C$7+1),0,INDEX('C_OPEX Calc'!$N:$N,MATCH('C_Warranty NPV'!$B50,'C_OPEX Calc'!$F:$F,0))*'I_OPEX Input'!$C$53)","v":{"$error":"#N/A"}},{"$f":"IF(E$11<($C$7+1),0,INDEX('C_OPEX Calc'!$N:$N,MATCH('C_Warranty NPV'!$B50,'C_OPEX Calc'!$F:$F,0))*'I_OPEX Input'!$C$53)","v":{"$error":"#N/A"}},{"$f":"IF(F$11<($C$7+1),0,INDEX('C_OPEX Calc'!$N:$N,MATCH('C_Warranty NPV'!$B50,'C_OPEX Calc'!$F:$F,0))*'I_OPEX Input'!$C$53)","v":{"$error":"#N/A"}},{"$f":"IF(G$11<($C$7+1),0,INDEX('C_OPEX Calc'!$N:$N,MATCH('C_Warranty NPV'!$B50,'C_OPEX Calc'!$F:$F,0))*'I_OPEX Input'!$C$53)","v":{"$error":"#N/A"}},{"$f":"IF(H$11<($C$7+1),0,INDEX('C_OPEX Calc'!$N:$N,MATCH('C_Warranty NPV'!$B50,'C_OPEX Calc'!$F:$F,0))*'I_OPEX Input'!$C$53)","v":{"$error":"#N/A"}},{"$f":"IF(I$11<($C$7+1),0,INDEX('C_OPEX Calc'!$N:$N,MATCH('C_Warranty NPV'!$B50,'C_OPEX Calc'!$F:$F,0))*'I_OPEX Input'!$C$53)","v":{"$error":"#N/A"}},{"$f":"IF(J$11<($C$7+1),0,INDEX('C_OPEX Calc'!$N:$N,MATCH('C_Warranty NPV'!$B50,'C_OPEX Calc'!$F:$F,0))*'I_OPEX Input'!$C$53)","v":{"$error":"#N/A"}},{"$f":"IF(K$11<($C$7+1),0,INDEX('C_OPEX Calc'!$N:$N,MATCH('C_Warranty NPV'!$B50,'C_OPEX Calc'!$F:$F,0))*'I_OPEX Input'!$C$53)","v":{"$error":"#N/A"}},{"$f":"IF(L$11<($C$7+1),0,INDEX('C_OPEX Calc'!$N:$N,MATCH('C_Warranty NPV'!$B50,'C_OPEX Calc'!$F:$F,0))*'I_OPEX Input'!$C$53)","v":{"$error":"#N/A"}},{"$f":"IF(M$11<($C$7+1),0,INDEX('C_OPEX Calc'!$N:$N,MATCH('C_Warranty NPV'!$B50,'C_OPEX Calc'!$F:$F,0))*'I_OPEX Input'!$C$53)","v":{"$error":"#N/A"}},{"$f":"NPV('C_Warranty NPV'!$C$6,'C_Warranty NPV'!D50:M50)/10 * $C$5","v":{"$error":"#N/A"}}]
[null,null,{"$f":"VLOOKUP(B51,I_CAPEX!V:AC,2,FALSE)","v":{"$error":"#N/A"}},{"$f":"IF(D$11<($C$7+1),0,INDEX('C_OPEX Calc'!$N:$N,MATCH('C_Warranty NPV'!$B51,'C_OPEX Calc'!$F:$F,0))*'I_OPEX Input'!$C$53)","v":{"$error":"#N/A"}},{"$f":"IF(E$11<($C$7+1),0,INDEX('C_OPEX Calc'!$N:$N,MATCH('C_Warranty NPV'!$B51,'C_OPEX Calc'!$F:$F,0))*'I_OPEX Input'!$C$53)","v":{"$error":"#N/A"}},{"$f":"IF(F$11<($C$7+1),0,INDEX('C_OPEX Calc'!$N:$N,MATCH('C_Warranty NPV'!$B51,'C_OPEX Calc'!$F:$F,0))*'I_OPEX Input'!$C$53)","v":{"$error":"#N/A"}},{"$f":"IF(G$11<($C$7+1),0,INDEX('C_OPEX Calc'!$N:$N,MATCH('C_Warranty NPV'!$B51,'C_OPEX Calc'!$F:$F,0))*'I_OPEX Input'!$C$53)","v":{"$error":"#N/A"}},{"$f":"IF(H$11<($C$7+1),0,INDEX('C_OPEX Calc'!$N:$N,MATCH('C_Warranty NPV'!$B51,'C_OPEX Calc'!$F:$F,0))*'I_OPEX Input'!$C$53)","v":{"$error":"#N/A"}},{"$f":"IF(I$11<($C$7+1),0,INDEX('C_OPEX Calc'!$N:$N,MATCH('C_Warranty NPV'!$B51,'C_OPEX Calc'!$F:$F,0))*'I_OPEX Input'!$C$53)","v":{"$error":"#N/A"}},{"$f":"IF(J$11<($C$7+1),0,INDEX('C_OPEX Calc'!$N:$N,MATCH('C_Warranty NPV'!$B51,'C_OPEX Calc'!$F:$F,0))*'I_OPEX Input'!$C$53)","v":{"$error":"#N/A"}},{"$f":"IF(K$11<($C$7+1),0,INDEX('C_OPEX Calc'!$N:$N,MATCH('C_Warranty NPV'!$B51,'C_OPEX Calc'!$F:$F,0))*'I_OPEX Input'!$C$53)","v":{"$error":"#N/A"}},{"$f":"IF(L$11<($C$7+1),0,INDEX('C_OPEX Calc'!$N:$N,MATCH('C_Warranty NPV'!$B51,'C_OPEX Calc'!$F:$F,0))*'I_OPEX Input'!$C$53)","v":{"$error":"#N/A"}},{"$f":"IF(M$11<($C$7+1),0,INDEX('C_OPEX Calc'!$N:$N,MATCH('C_Warranty NPV'!$B51,'C_OPEX Calc'!$F:$F,0))*'I_OPEX Input'!$C$53)","v":{"$error":"#N/A"}},{"$f":"NPV('C_Warranty NPV'!$C$6,'C_Warranty NPV'!D51:M51)/10 * $C$5","v":{"$error":"#N/A"}}]
[null,null,{"$f":"VLOOKUP(B52,I_CAPEX!V:AC,2,FALSE)","v":{"$error":"#N/A"}},{"$f":"IF(D$11<($C$7+1),0,INDEX('C_OPEX Calc'!$N:$N,MATCH('C_Warranty NPV'!$B52,'C_OPEX Calc'!$F:$F,0))*'I_OPEX Input'!$C$53)","v":{"$error":"#N/A"}},{"$f":"IF(E$11<($C$7+1),0,INDEX('C_OPEX Calc'!$N:$N,MATCH('C_Warranty NPV'!$B52,'C_OPEX Calc'!$F:$F,0))*'I_OPEX Input'!$C$53)","v":{"$error":"#N/A"}},{"$f":"IF(F$11<($C$7+1),0,INDEX('C_OPEX Calc'!$N:$N,MATCH('C_Warranty NPV'!$B52,'C_OPEX Calc'!$F:$F,0))*'I_OPEX Input'!$C$53)","v":{"$error":"#N/A"}},{"$f":"IF(G$11<($C$7+1),0,INDEX('C_OPEX Calc'!$N:$N,MATCH('C_Warranty NPV'!$B52,'C_OPEX Calc'!$F:$F,0))*'I_OPEX Input'!$C$53)","v":{"$error":"#N/A"}},{"$f":"IF(H$11<($C$7+1),0,INDEX('C_OPEX Calc'!$N:$N,MATCH('C_Warranty NPV'!$B52,'C_OPEX Calc'!$F:$F,0))*'I_OPEX Input'!$C$53)","v":{"$error":"#N/A"}},{"$f":"IF(I$11<($C$7+1),0,INDEX('C_OPEX Calc'!$N:$N,MATCH('C_Warranty NPV'!$B52,'C_OPEX Calc'!$F:$F,0))*'I_OPEX Input'!$C$53)","v":{"$error":"#N/A"}},{"$f":"IF(J$11<($C$7+1),0,INDEX('C_OPEX Calc'!$N:$N,MATCH('C_Warranty NPV'!$B52,'C_OPEX Calc'!$F:$F,0))*'I_OPEX Input'!$C$53)","v":{"$error":"#N/A"}},{"$f":"IF(K$11<($C$7+1),0,INDEX('C_OPEX Calc'!$N:$N,MATCH('C_Warranty NPV'!$B52,'C_OPEX Calc'!$F:$F,0))*'I_OPEX Input'!$C$53)","v":{"$error":"#N/A"}},{"$f":"IF(L$11<($C$7+1),0,INDEX('C_OPEX Calc'!$N:$N,MATCH('C_Warranty NPV'!$B52,'C_OPEX Calc'!$F:$F,0))*'I_OPEX Input'!$C$53)","v":{"$error":"#N/A"}},{"$f":"IF(M$11<($C$7+1),0,INDEX('C_OPEX Calc'!$N:$N,MATCH('C_Warranty NPV'!$B52,'C_OPEX Calc'!$F:$F,0))*'I_OPEX Input'!$C$53)","v":{"$error":"#N/A"}},{"$f":"NPV('C_Warranty NPV'!$C$6,'C_Warranty NPV'!D52:M52)/10 * $C$5","v":{"$error":"#N/A"}}]
[null,null,{"$f":"VLOOKUP(B53,I_CAPEX!V:AC,2,FALSE)","v":{"$error":"#N/A"}},{"$f":"IF(D$11<($C$7+1),0,INDEX('C_OPEX Calc'!$N:$N,MATCH('C_Warranty NPV'!$B53,'C_OPEX Calc'!$F:$F,0))*'I_OPEX Input'!$C$53)","v":{"$error":"#N/A"}},{"$f":"IF(E$11<($C$7+1),0,INDEX('C_OPEX Calc'!$N:$N,MATCH('C_Warranty NPV'!$B53,'C_OPEX Calc'!$F:$F,0))*'I_OPEX Input'!$C$53)","v":{"$error":"#N/A"}},{"$f":"IF(F$11<($C$7+1),0,INDEX('C_OPEX Calc'!$N:$N,MATCH('C_Warranty NPV'!$B53,'C_OPEX Calc'!$F:$F,0))*'I_OPEX Input'!$C$53)","v":{"$error":"#N/A"}},{"$f":"IF(G$11<($C$7+1),0,INDEX('C_OPEX Calc'!$N:$N,MATCH('C_Warranty NPV'!$B53,'C_OPEX Calc'!$F:$F,0))*'I_OPEX Input'!$C$53)","v":{"$error":"#N/A"}},{"$f":"IF(H$11<($C$7+1),0,INDEX('C_OPEX Calc'!$N:$N,MATCH('C_Warranty NPV'!$B53,'C_OPEX Calc'!$F:$F,0))*'I_OPEX Input'!$C$53)","v":{"$error":"#N/A"}},{"$f":"IF(I$11<($C$7+1),0,INDEX('C_OPEX Calc'!$N:$N,MATCH('C_Warranty NPV'!$B53,'C_OPEX Calc'!$F:$F,0))*'I_OPEX Input'!$C$53)","v":{"$error":"#N/A"}},{"$f":"IF(J$11<($C$7+1),0,INDEX('C_OPEX Calc'!$N:$N,MATCH('C_Warranty NPV'!$B53,'C_OPEX Calc'!$F:$F,0))*'I_OPEX Input'!$C$53)","v":{"$error":"#N/A"}},{"$f":"IF(K$11<($C$7+1),0,INDEX('C_OPEX Calc'!$N:$N,MATCH('C_Warranty NPV'!$B53,'C_OPEX Calc'!$F:$F,0))*'I_OPEX Input'!$C$53)","v":{"$error":"#N/A"}},{"$f":"IF(L$11<($C$7+1),0,INDEX('C_OPEX Calc'!$N:$N,MATCH('C_Warranty NPV'!$B53,'C_OPEX Calc'!$F:$F,0))*'I_OPEX Input'!$C$53)","v":{"$error":"#N/A"}},{"$f":"IF(M$11<($C$7+1),0,INDEX('C_OPEX Calc'!$N:$N,MATCH('C_Warranty NPV'!$B53,'C_OPEX Calc'!$F:$F,0))*'I_OPEX Input'!$C$53)","v":{"$error":"#N/A"}},{"$f":"NPV('C_Warranty NPV'!$C$6,'C_Warranty NPV'!D53:M53)/10 * $C$5","v":{"$error":"#N/A"}}]
[null,null,{"$f":"VLOOKUP(B54,I_CAPEX!V:AC,2,FALSE)","v":{"$error":"#N/A"}},{"$f":"IF(D$11<($C$7+1),0,INDEX('C_OPEX Calc'!$N:$N,MATCH('C_Warranty NPV'!$B54,'C_OPEX Calc'!$F:$F,0))*'I_OPEX Input'!$C$53)","v":{"$error":"#N/A"}},{"$f":"IF(E$11<($C$7+1),0,INDEX('C_OPEX Calc'!$N:$N,MATCH('C_Warranty NPV'!$B54,'C_OPEX Calc'!$F:$F,0))*'I_OPEX Input'!$C$53)","v":{"$error":"#N/A"}},{"$f":"IF(F$11<($C$7+1),0,INDEX('C_OPEX Calc'!$N:$N,MATCH('C_Warranty NPV'!$B54,'C_OPEX Calc'!$F:$F,0))*'I_OPEX Input'!$C$53)","v":{"$error":"#N/A"}},{"$f":"IF(G$11<($C$7+1),0,INDEX('C_OPEX Calc'!$N:$N,MATCH('C_Warranty NPV'!$B54,'C_OPEX Calc'!$F:$F,0))*'I_OPEX Input'!$C$53)","v":{"$error":"#N/A"}},{"$f":"IF(H$11<($C$7+1),0,INDEX('C_OPEX Calc'!$N:$N,MATCH('C_Warranty NPV'!$B54,'C_OPEX Calc'!$F:$F,0))*'I_OPEX Input'!$C$53)","v":{"$error":"#N/A"}},{"$f":"IF(I$11<($C$7+1),0,INDEX('C_OPEX Calc'!$N:$N,MATCH('C_Warranty NPV'!$B54,'C_OPEX Calc'!$F:$F,0))*'I_OPEX Input'!$C$53)","v":{"$error":"#N/A"}},{"$f":"IF(J$11<($C$7+1),0,INDEX('C_OPEX Calc'!$N:$N,MATCH('C_Warranty NPV'!$B54,'C_OPEX Calc'!$F:$F,0))*'I_OPEX Input'!$C$53)","v":{"$error":"#N/A"}},{"$f":"IF(K$11<($C$7+1),0,INDEX('C_OPEX Calc'!$N:$N,MATCH('C_Warranty NPV'!$B54,'C_OPEX Calc'!$F:$F,0))*'I_OPEX Input'!$C$53)","v":{"$error":"#N/A"}},{"$f":"IF(L$11<($C$7+1),0,INDEX('C_OPEX Calc'!$N:$N,MATCH('C_Warranty NPV'!$B54,'C_OPEX Calc'!$F:$F,0))*'I_OPEX Input'!$C$53)","v":{"$error":"#N/A"}},{"$f":"IF(M$11<($C$7+1),0,INDEX('C_OPEX Calc'!$N:$N,MATCH('C_Warranty NPV'!$B54,'C_OPEX Calc'!$F:$F,0))*'I_OPEX Input'!$C$53)","v":{"$error":"#N/A"}},{"$f":"NPV('C_Warranty NPV'!$C$6,'C_Warranty NPV'!D54:M54)/10 * $C$5","v":{"$error":"#N/A"}}]
[null,null,{"$f":"VLOOKUP(B55,I_CAPEX!V:AC,2,FALSE)","v":{"$error":"#N/A"}},{"$f":"IF(D$11<($C$7+1),0,INDEX('C_OPEX Calc'!$N:$N,MATCH('C_Warranty NPV'!$B55,'C_OPEX Calc'!$F:$F,0))*'I_OPEX Input'!$C$53)","v":{"$error":"#N/A"}},{"$f":"IF(E$11<($C$7+1),0,INDEX('C_OPEX Calc'!$N:$N,MATCH('C_Warranty NPV'!$B55,'C_OPEX Calc'!$F:$F,0))*'I_OPEX Input'!$C$53)","v":{"$error":"#N/A"}},{"$f":"IF(F$11<($C$7+1),0,INDEX('C_OPEX Calc'!$N:$N,MATCH('C_Warranty NPV'!$B55,'C_OPEX Calc'!$F:$F,0))*'I_OPEX Input'!$C$53)","v":{"$error":"#N/A"}},{"$f":"IF(G$11<($C$7+1),0,INDEX('C_OPEX Calc'!$N:$N,MATCH('C_Warranty NPV'!$B55,'C_OPEX Calc'!$F:$F,0))*'I_OPEX Input'!$C$53)","v":{"$error":"#N/A"}},{"$f":"IF(H$11<($C$7+1),0,INDEX('C_OPEX Calc'!$N:$N,MATCH('C_Warranty NPV'!$B55,'C_OPEX Calc'!$F:$F,0))*'I_OPEX Input'!$C$53)","v":{"$error":"#N/A"}},{"$f":"IF(I$11<($C$7+1),0,INDEX('C_OPEX Calc'!$N:$N,MATCH('C_Warranty NPV'!$B55,'C_OPEX Calc'!$F:$F,0))*'I_OPEX Input'!$C$53)","v":{"$error":"#N/A"}},{"$f":"IF(J$11<($C$7+1),0,INDEX('C_OPEX Calc'!$N:$N,MATCH('C_Warranty NPV'!$B55,'C_OPEX Calc'!$F:$F,0))*'I_OPEX Input'!$C$53)","v":{"$error":"#N/A"}},{"$f":"IF(K$11<($C$7+1),0,INDEX('C_OPEX Calc'!$N:$N,MATCH('C_Warranty NPV'!$B55,'C_OPEX Calc'!$F:$F,0))*'I_OPEX Input'!$C$53)","v":{"$error":"#N/A"}},{"$f":"IF(L$11<($C$7+1),0,INDEX('C_OPEX Calc'!$N:$N,MATCH('C_Warranty NPV'!$B55,'C_OPEX Calc'!$F:$F,0))*'I_OPEX Input'!$C$53)","v":{"$error":"#N/A"}},{"$f":"IF(M$11<($C$7+1),0,INDEX('C_OPEX Calc'!$N:$N,MATCH('C_Warranty NPV'!$B55,'C_OPEX Calc'!$F:$F,0))*'I_OPEX Input'!$C$53)","v":{"$error":"#N/A"}},{"$f":"NPV('C_Warranty NPV'!$C$6,'C_Warranty NPV'!D55:M55)/10 * $C$5","v":{"$error":"#N/A"}}]
[null,null,{"$f":"VLOOKUP(B56,I_CAPEX!V:AC,2,FALSE)","v":{"$error":"#N/A"}},{"$f":"IF(D$11<($C$7+1),0,INDEX('C_OPEX Calc'!$N:$N,MATCH('C_Warranty NPV'!$B56,'C_OPEX Calc'!$F:$F,0))*'I_OPEX Input'!$C$53)","v":{"$error":"#N/A"}},{"$f":"IF(E$11<($C$7+1),0,INDEX('C_OPEX Calc'!$N:$N,MATCH('C_Warranty NPV'!$B56,'C_OPEX Calc'!$F:$F,0))*'I_OPEX Input'!$C$53)","v":{"$error":"#N/A"}},{"$f":"IF(F$11<($C$7+1),0,INDEX('C_OPEX Calc'!$N:$N,MATCH('C_Warranty NPV'!$B56,'C_OPEX Calc'!$F:$F,0))*'I_OPEX Input'!$C$53)","v":{"$error":"#N/A"}},{"$f":"IF(G$11<($C$7+1),0,INDEX('C_OPEX Calc'!$N:$N,MATCH('C_Warranty NPV'!$B56,'C_OPEX Calc'!$F:$F,0))*'I_OPEX Input'!$C$53)","v":{"$error":"#N/A"}},{"$f":"IF(H$11<($C$7+1),0,INDEX('C_OPEX Calc'!$N:$N,MATCH('C_Warranty NPV'!$B56,'C_OPEX Calc'!$F:$F,0))*'I_OPEX Input'!$C$53)","v":{"$error":"#N/A"}},{"$f":"IF(I$11<($C$7+1),0,INDEX('C_OPEX Calc'!$N:$N,MATCH('C_Warranty NPV'!$B56,'C_OPEX Calc'!$F:$F,0))*'I_OPEX Input'!$C$53)","v":{"$error":"#N/A"}},{"$f":"IF(J$11<($C$7+1),0,INDEX('C_OPEX Calc'!$N:$N,MATCH('C_Warranty NPV'!$B56,'C_OPEX Calc'!$F:$F,0))*'I_OPEX Input'!$C$53)","v":{"$error":"#N/A"}},{"$f":"IF(K$11<($C$7+1),0,INDEX('C_OPEX Calc'!$N:$N,MATCH('C_Warranty NPV'!$B56,'C_OPEX Calc'!$F:$F,0))*'I_OPEX Input'!$C$53)","v":{"$error":"#N/A"}},{"$f":"IF(L$11<($C$7+1),0,INDEX('C_OPEX Calc'!$N:$N,MATCH('C_Warranty NPV'!$B56,'C_OPEX Calc'!$F:$F,0))*'I_OPEX Input'!$C$53)","v":{"$error":"#N/A"}},{"$f":"IF(M$11<($C$7+1),0,INDEX('C_OPEX Calc'!$N:$N,MATCH('C_Warranty NPV'!$B56,'C_OPEX Calc'!$F:$F,0))*'I_OPEX Input'!$C$53)","v":{"$error":"#N/A"}},{"$f":"NPV('C_Warranty NPV'!$C$6,'C_Warranty NPV'!D56:M56)/10 * $C$5","v":{"$error":"#N/A"}}]
[null,null,{"$f":"VLOOKUP(B57,I_CAPEX!V:AC,2,FALSE)","v":{"$error":"#N/A"}},{"$f":"IF(D$11<($C$7+1),0,INDEX('C_OPEX Calc'!$N:$N,MATCH('C_Warranty NPV'!$B57,'C_OPEX Calc'!$F:$F,0))*'I_OPEX Input'!$C$53)","v":{"$error":"#N/A"}},{"$f":"IF(E$11<($C$7+1),0,INDEX('C_OPEX Calc'!$N:$N,MATCH('C_Warranty NPV'!$B57,'C_OPEX Calc'!$F:$F,0))*'I_OPEX Input'!$C$53)","v":{"$error":"#N/A"}},{"$f":"IF(F$11<($C$7+1),0,INDEX('C_OPEX Calc'!$N:$N,MATCH('C_Warranty NPV'!$B57,'C_OPEX Calc'!$F:$F,0))*'I_OPEX Input'!$C$53)","v":{"$error":"#N/A"}},{"$f":"IF(G$11<($C$7+1),0,INDEX('C_OPEX Calc'!$N:$N,MATCH('C_Warranty NPV'!$B57,'C_OPEX Calc'!$F:$F,0))*'I_OPEX Input'!$C$53)","v":{"$error":"#N/A"}},{"$f":"IF(H$11<($C$7+1),0,INDEX('C_OPEX Calc'!$N:$N,MATCH('C_Warranty NPV'!$B57,'C_OPEX Calc'!$F:$F,0))*'I_OPEX Input'!$C$53)","v":{"$error":"#N/A"}},{"$f":"IF(I$11<($C$7+1),0,INDEX('C_OPEX Calc'!$N:$N,MATCH('C_Warranty NPV'!$B57,'C_OPEX Calc'!$F:$F,0))*'I_OPEX Input'!$C$53)","v":{"$error":"#N/A"}},{"$f":"IF(J$11<($C$7+1),0,INDEX('C_OPEX Calc'!$N:$N,MATCH('C_Warranty NPV'!$B57,'C_OPEX Calc'!$F:$F,0))*'I_OPEX Input'!$C$53)","v":{"$error":"#N/A"}},{"$f":"IF(K$11<($C$7+1),0,INDEX('C_OPEX Calc'!$N:$N,MATCH('C_Warranty NPV'!$B57,'C_OPEX Calc'!$F:$F,0))*'I_OPEX Input'!$C$53)","v":{"$error":"#N/A"}},{"$f":"IF(L$11<($C$7+1),0,INDEX('C_OPEX Calc'!$N:$N,MATCH('C_Warranty NPV'!$B57,'C_OPEX Calc'!$F:$F,0))*'I_OPEX Input'!$C$53)","v":{"$error":"#N/A"}},{"$f":"IF(M$11<($C$7+1),0,INDEX('C_OPEX Calc'!$N:$N,MATCH('C_Warranty NPV'!$B57,'C_OPEX Calc'!$F:$F,0))*'I_OPEX Input'!$C$53)","v":{"$error":"#N/A"}},{"$f":"NPV('C_Warranty NPV'!$C$6,'C_Warranty NPV'!D57:M57)/10 * $C$5","v":{"$error":"#N/A"}}]
[null,null,{"$f":"VLOOKUP(B58,I_CAPEX!V:AC,2,FALSE)","v":{"$error":"#N/A"}},{"$f":"IF(D$11<($C$7+1),0,INDEX('C_OPEX Calc'!$N:$N,MATCH('C_Warranty NPV'!$B58,'C_OPEX Calc'!$F:$F,0))*'I_OPEX Input'!$C$53)","v":{"$error":"#N/A"}},{"$f":"IF(E$11<($C$7+1),0,INDEX('C_OPEX Calc'!$N:$N,MATCH('C_Warranty NPV'!$B58,'C_OPEX Calc'!$F:$F,0))*'I_OPEX Input'!$C$53)","v":{"$error":"#N/A"}},{"$f":"IF(F$11<($C$7+1),0,INDEX('C_OPEX Calc'!$N:$N,MATCH('C_Warranty NPV'!$B58,'C_OPEX Calc'!$F:$F,0))*'I_OPEX Input'!$C$53)","v":{"$error":"#N/A"}},{"$f":"IF(G$11<($C$7+1),0,INDEX('C_OPEX Calc'!$N:$N,MATCH('C_Warranty NPV'!$B58,'C_OPEX Calc'!$F:$F,0))*'I_OPEX Input'!$C$53)","v":{"$error":"#N/A"}},{"$f":"IF(H$11<($C$7+1),0,INDEX('C_OPEX Calc'!$N:$N,MATCH('C_Warranty NPV'!$B58,'C_OPEX Calc'!$F:$F,0))*'I_OPEX Input'!$C$53)","v":{"$error":"#N/A"}},{"$f":"IF(I$11<($C$7+1),0,INDEX('C_OPEX Calc'!$N:$N,MATCH('C_Warranty NPV'!$B58,'C_OPEX Calc'!$F:$F,0))*'I_OPEX Input'!$C$53)","v":{"$error":"#N/A"}},{"$f":"IF(J$11<($C$7+1),0,INDEX('C_OPEX Calc'!$N:$N,MATCH('C_Warranty NPV'!$B58,'C_OPEX Calc'!$F:$F,0))*'I_OPEX Input'!$C$53)","v":{"$error":"#N/A"}},{"$f":"IF(K$11<($C$7+1),0,INDEX('C_OPEX Calc'!$N:$N,MATCH('C_Warranty NPV'!$B58,'C_OPEX Calc'!$F:$F,0))*'I_OPEX Input'!$C$53)","v":{"$error":"#N/A"}},{"$f":"IF(L$11<($C$7+1),0,INDEX('C_OPEX Calc'!$N:$N,MATCH('C_Warranty NPV'!$B58,'C_OPEX Calc'!$F:$F,0))*'I_OPEX Input'!$C$53)","v":{"$error":"#N/A"}},{"$f":"IF(M$11<($C$7+1),0,INDEX('C_OPEX Calc'!$N:$N,MATCH('C_Warranty NPV'!$B58,'C_OPEX Calc'!$F:$F,0))*'I_OPEX Input'!$C$53)","v":{"$error":"#N/A"}},{"$f":"NPV('C_Warranty NPV'!$C$6,'C_Warranty NPV'!D58:M58)/10 * $C$5","v":{"$error":"#N/A"}}]
[null,null,{"$f":"VLOOKUP(B59,I_CAPEX!V:AC,2,FALSE)","v":{"$error":"#N/A"}},{"$f":"IF(D$11<($C$7+1),0,INDEX('C_OPEX Calc'!$N:$N,MATCH('C_Warranty NPV'!$B59,'C_OPEX Calc'!$F:$F,0))*'I_OPEX Input'!$C$53)","v":{"$error":"#N/A"}},{"$f":"IF(E$11<($C$7+1),0,INDEX('C_OPEX Calc'!$N:$N,MATCH('C_Warranty NPV'!$B59,'C_OPEX Calc'!$F:$F,0))*'I_OPEX Input'!$C$53)","v":{"$error":"#N/A"}},{"$f":"IF(F$11<($C$7+1),0,INDEX('C_OPEX Calc'!$N:$N,MATCH('C_Warranty NPV'!$B59,'C_OPEX Calc'!$F:$F,0))*'I_OPEX Input'!$C$53)","v":{"$error":"#N/A"}},{"$f":"IF(G$11<($C$7+1),0,INDEX('C_OPEX Calc'!$N:$N,MATCH('C_Warranty NPV'!$B59,'C_OPEX Calc'!$F:$F,0))*'I_OPEX Input'!$C$53)","v":{"$error":"#N/A"}},{"$f":"IF(H$11<($C$7+1),0,INDEX('C_OPEX Calc'!$N:$N,MATCH('C_Warranty NPV'!$B59,'C_OPEX Calc'!$F:$F,0))*'I_OPEX Input'!$C$53)","v":{"$error":"#N/A"}},{"$f":"IF(I$11<($C$7+1),0,INDEX('C_OPEX Calc'!$N:$N,MATCH('C_Warranty NPV'!$B59,'C_OPEX Calc'!$F:$F,0))*'I_OPEX Input'!$C$53)","v":{"$error":"#N/A"}},{"$f":"IF(J$11<($C$7+1),0,INDEX('C_OPEX Calc'!$N:$N,MATCH('C_Warranty NPV'!$B59,'C_OPEX Calc'!$F:$F,0))*'I_OPEX Input'!$C$53)","v":{"$error":"#N/A"}},{"$f":"IF(K$11<($C$7+1),0,INDEX('C_OPEX Calc'!$N:$N,MATCH('C_Warranty NPV'!$B59,'C_OPEX Calc'!$F:$F,0))*'I_OPEX Input'!$C$53)","v":{"$error":"#N/A"}},{"$f":"IF(L$11<($C$7+1),0,INDEX('C_OPEX Calc'!$N:$N,MATCH('C_Warranty NPV'!$B59,'C_OPEX Calc'!$F:$F,0))*'I_OPEX Input'!$C$53)","v":{"$error":"#N/A"}},{"$f":"IF(M$11<($C$7+1),0,INDEX('C_OPEX Calc'!$N:$N,MATCH('C_Warranty NPV'!$B59,'C_OPEX Calc'!$F:$F,0))*'I_OPEX Input'!$C$53)","v":{"$error":"#N/A"}},{"$f":"NPV('C_Warranty NPV'!$C$6,'C_Warranty NPV'!D59:M59)/10 * $C$5","v":{"$error":"#N/A"}}]
[null,null,{"$f":"VLOOKUP(B60,I_CAPEX!V:AC,2,FALSE)","v":{"$error":"#N/A"}},{"$f":"IF(D$11<($C$7+1),0,INDEX('C_OPEX Calc'!$N:$N,MATCH('C_Warranty NPV'!$B60,'C_OPEX Calc'!$F:$F,0))*'I_OPEX Input'!$C$53)","v":{"$error":"#N/A"}},{"$f":"IF(E$11<($C$7+1),0,INDEX('C_OPEX Calc'!$N:$N,MATCH('C_Warranty NPV'!$B60,'C_OPEX Calc'!$F:$F,0))*'I_OPEX Input'!$C$53)","v":{"$error":"#N/A"}},{"$f":"IF(F$11<($C$7+1),0,INDEX('C_OPEX Calc'!$N:$N,MATCH('C_Warranty NPV'!$B60,'C_OPEX Calc'!$F:$F,0))*'I_OPEX Input'!$C$53)","v":{"$error":"#N/A"}},{"$f":"IF(G$11<($C$7+1),0,INDEX('C_OPEX Calc'!$N:$N,MATCH('C_Warranty NPV'!$B60,'C_OPEX Calc'!$F:$F,0))*'I_OPEX Input'!$C$53)","v":{"$error":"#N/A"}},{"$f":"IF(H$11<($C$7+1),0,INDEX('C_OPEX Calc'!$N:$N,MATCH('C_Warranty NPV'!$B60,'C_OPEX Calc'!$F:$F,0))*'I_OPEX Input'!$C$53)","v":{"$error":"#N/A"}},{"$f":"IF(I$11<($C$7+1),0,INDEX('C_OPEX Calc'!$N:$N,MATCH('C_Warranty NPV'!$B60,'C_OPEX Calc'!$F:$F,0))*'I_OPEX Input'!$C$53)","v":{"$error":"#N/A"}},{"$f":"IF(J$11<($C$7+1),0,INDEX('C_OPEX Calc'!$N:$N,MATCH('C_Warranty NPV'!$B60,'C_OPEX Calc'!$F:$F,0))*'I_OPEX Input'!$C$53)","v":{"$error":"#N/A"}},{"$f":"IF(K$11<($C$7+1),0,INDEX('C_OPEX Calc'!$N:$N,MATCH('C_Warranty NPV'!$B60,'C_OPEX Calc'!$F:$F,0))*'I_OPEX Input'!$C$53)","v":{"$error":"#N/A"}},{"$f":"IF(L$11<($C$7+1),0,INDEX('C_OPEX Calc'!$N:$N,MATCH('C_Warranty NPV'!$B60,'C_OPEX Calc'!$F:$F,0))*'I_OPEX Input'!$C$53)","v":{"$error":"#N/A"}},{"$f":"IF(M$11<($C$7+1),0,INDEX('C_OPEX Calc'!$N:$N,MATCH('C_Warranty NPV'!$B60,'C_OPEX Calc'!$F:$F,0))*'I_OPEX Input'!$C$53)","v":{"$error":"#N/A"}},{"$f":"NPV('C_Warranty NPV'!$C$6,'C_Warranty NPV'!D60:M60)/10 * $C$5","v":{"$error":"#N/A"}}]
[null,null,{"$f":"VLOOKUP(B61,I_CAPEX!V:AC,2,FALSE)","v":{"$error":"#N/A"}},{"$f":"IF(D$11<($C$7+1),0,INDEX('C_OPEX Calc'!$N:$N,MATCH('C_Warranty NPV'!$B61,'C_OPEX Calc'!$F:$F,0))*'I_OPEX Input'!$C$53)","v":{"$error":"#N/A"}},{"$f":"IF(E$11<($C$7+1),0,INDEX('C_OPEX Calc'!$N:$N,MATCH('C_Warranty NPV'!$B61,'C_OPEX Calc'!$F:$F,0))*'I_OPEX Input'!$C$53)","v":{"$error":"#N/A"}},{"$f":"IF(F$11<($C$7+1),0,INDEX('C_OPEX Calc'!$N:$N,MATCH('C_Warranty NPV'!$B61,'C_OPEX Calc'!$F:$F,0))*'I_OPEX Input'!$C$53)","v":{"$error":"#N/A"}},{"$f":"IF(G$11<($C$7+1),0,INDEX('C_OPEX Calc'!$N:$N,MATCH('C_Warranty NPV'!$B61,'C_OPEX Calc'!$F:$F,0))*'I_OPEX Input'!$C$53)","v":{"$error":"#N/A"}},{"$f":"IF(H$11<($C$7+1),0,INDEX('C_OPEX Calc'!$N:$N,MATCH('C_Warranty NPV'!$B61,'C_OPEX Calc'!$F:$F,0))*'I_OPEX Input'!$C$53)","v":{"$error":"#N/A"}},{"$f":"IF(I$11<($C$7+1),0,INDEX('C_OPEX Calc'!$N:$N,MATCH('C_Warranty NPV'!$B61,'C_OPEX Calc'!$F:$F,0))*'I_OPEX Input'!$C$53)","v":{"$error":"#N/A"}},{"$f":"IF(J$11<($C$7+1),0,INDEX('C_OPEX Calc'!$N:$N,MATCH('C_Warranty NPV'!$B61,'C_OPEX Calc'!$F:$F,0))*'I_OPEX Input'!$C$53)","v":{"$error":"#N/A"}},{"$f":"IF(K$11<($C$7+1),0,INDEX('C_OPEX Calc'!$N:$N,MATCH('C_Warranty NPV'!$B61,'C_OPEX Calc'!$F:$F,0))*'I_OPEX Input'!$C$53)","v":{"$error":"#N/A"}},{"$f":"IF(L$11<($C$7+1),0,INDEX('C_OPEX Calc'!$N:$N,MATCH('C_Warranty NPV'!$B61,'C_OPEX Calc'!$F:$F,0))*'I_OPEX Input'!$C$53)","v":{"$error":"#N/A"}},{"$f":"IF(M$11<($C$7+1),0,INDEX('C_OPEX Calc'!$N:$N,MATCH('C_Warranty NPV'!$B61,'C_OPEX Calc'!$F:$F,0))*'I_OPEX Input'!$C$53)","v":{"$error":"#N/A"}},{"$f":"NPV('C_Warranty NPV'!$C$6,'C_Warranty NPV'!D61:M61)/10 * $C$5","v":{"$error":"#N/A"}}]
[null,null,{"$f":"VLOOKUP(B62,I_CAPEX!V:AC,2,FALSE)","v":{"$error":"#N/A"}},{"$f":"IF(D$11<($C$7+1),0,INDEX('C_OPEX Calc'!$N:$N,MATCH('C_Warranty NPV'!$B62,'C_OPEX Calc'!$F:$F,0))*'I_OPEX Input'!$C$53)","v":{"$error":"#N/A"}},{"$f":"IF(E$11<($C$7+1),0,INDEX('C_OPEX Calc'!$N:$N,MATCH('C_Warranty NPV'!$B62,'C_OPEX Calc'!$F:$F,0))*'I_OPEX Input'!$C$53)","v":{"$error":"#N/A"}},{"$f":"IF(F$11<($C$7+1),0,INDEX('C_OPEX Calc'!$N:$N,MATCH('C_Warranty NPV'!$B62,'C_OPEX Calc'!$F:$F,0))*'I_OPEX Input'!$C$53)","v":{"$error":"#N/A"}},{"$f":"IF(G$11<($C$7+1),0,INDEX('C_OPEX Calc'!$N:$N,MATCH('C_Warranty NPV'!$B62,'C_OPEX Calc'!$F:$F,0))*'I_OPEX Input'!$C$53)","v":{"$error":"#N/A"}},{"$f":"IF(H$11<($C$7+1),0,INDEX('C_OPEX Calc'!$N:$N,MATCH('C_Warranty NPV'!$B62,'C_OPEX Calc'!$F:$F,0))*'I_OPEX Input'!$C$53)","v":{"$error":"#N/A"}},{"$f":"IF(I$11<($C$7+1),0,INDEX('C_OPEX Calc'!$N:$N,MATCH('C_Warranty NPV'!$B62,'C_OPEX Calc'!$F:$F,0))*'I_OPEX Input'!$C$53)","v":{"$error":"#N/A"}},{"$f":"IF(J$11<($C$7+1),0,INDEX('C_OPEX Calc'!$N:$N,MATCH('C_Warranty NPV'!$B62,'C_OPEX Calc'!$F:$F,0))*'I_OPEX Input'!$C$53)","v":{"$error":"#N/A"}},{"$f":"IF(K$11<($C$7+1),0,INDEX('C_OPEX Calc'!$N:$N,MATCH('C_Warranty NPV'!$B62,'C_OPEX Calc'!$F:$F,0))*'I_OPEX Input'!$C$53)","v":{"$error":"#N/A"}},{"$f":"IF(L$11<($C$7+1),0,INDEX('C_OPEX Calc'!$N:$N,MATCH('C_Warranty NPV'!$B62,'C_OPEX Calc'!$F:$F,0))*'I_OPEX Input'!$C$53)","v":{"$error":"#N/A"}},{"$f":"IF(M$11<($C$7+1),0,INDEX('C_OPEX Calc'!$N:$N,MATCH('C_Warranty NPV'!$B62,'C_OPEX Calc'!$F:$F,0))*'I_OPEX Input'!$C$53)","v":{"$error":"#N/A"}},{"$f":"NPV('C_Warranty NPV'!$C$6,'C_Warranty NPV'!D62:M62)/10 * $C$5","v":{"$error":"#N/A"}}]
[null,null,{"$f":"VLOOKUP(B63,I_CAPEX!V:AC,2,FALSE)","v":{"$error":"#N/A"}},{"$f":"IF(D$11<($C$7+1),0,INDEX('C_OPEX Calc'!$N:$N,MATCH('C_Warranty NPV'!$B63,'C_OPEX Calc'!$F:$F,0))*'I_OPEX Input'!$C$53)","v":{"$error":"#N/A"}},{"$f":"IF(E$11<($C$7+1),0,INDEX('C_OPEX Calc'!$N:$N,MATCH('C_Warranty NPV'!$B63,'C_OPEX Calc'!$F:$F,0))*'I_OPEX Input'!$C$53)","v":{"$error":"#N/A"}},{"$f":"IF(F$11<($C$7+1),0,INDEX('C_OPEX Calc'!$N:$N,MATCH('C_Warranty NPV'!$B63,'C_OPEX Calc'!$F:$F,0))*'I_OPEX Input'!$C$53)","v":{"$error":"#N/A"}},{"$f":"IF(G$11<($C$7+1),0,INDEX('C_OPEX Calc'!$N:$N,MATCH('C_Warranty NPV'!$B63,'C_OPEX Calc'!$F:$F,0))*'I_OPEX Input'!$C$53)","v":{"$error":"#N/A"}},{"$f":"IF(H$11<($C$7+1),0,INDEX('C_OPEX Calc'!$N:$N,MATCH('C_Warranty NPV'!$B63,'C_OPEX Calc'!$F:$F,0))*'I_OPEX Input'!$C$53)","v":{"$error":"#N/A"}},{"$f":"IF(I$11<($C$7+1),0,INDEX('C_OPEX Calc'!$N:$N,MATCH('C_Warranty NPV'!$B63,'C_OPEX Calc'!$F:$F,0))*'I_OPEX Input'!$C$53)","v":{"$error":"#N/A"}},{"$f":"IF(J$11<($C$7+1),0,INDEX('C_OPEX Calc'!$N:$N,MATCH('C_Warranty NPV'!$B63,'C_OPEX Calc'!$F:$F,0))*'I_OPEX Input'!$C$53)","v":{"$error":"#N/A"}},{"$f":"IF(K$11<($C$7+1),0,INDEX('C_OPEX Calc'!$N:$N,MATCH('C_Warranty NPV'!$B63,'C_OPEX Calc'!$F:$F,0))*'I_OPEX Input'!$C$53)","v":{"$error":"#N/A"}},{"$f":"IF(L$11<($C$7+1),0,INDEX('C_OPEX Calc'!$N:$N,MATCH('C_Warranty NPV'!$B63,'C_OPEX Calc'!$F:$F,0))*'I_OPEX Input'!$C$53)","v":{"$error":"#N/A"}},{"$f":"IF(M$11<($C$7+1),0,INDEX('C_OPEX Calc'!$N:$N,MATCH('C_Warranty NPV'!$B63,'C_OPEX Calc'!$F:$F,0))*'I_OPEX Input'!$C$53)","v":{"$error":"#N/A"}},{"$f":"NPV('C_Warranty NPV'!$C$6,'C_Warranty NPV'!D63:M63)/10 * $C$5","v":{"$error":"#N/A"}}]
[null,null,{"$f":"VLOOKUP(B64,I_CAPEX!V:AC,2,FALSE)","v":{"$error":"#N/A"}},{"$f":"IF(D$11<($C$7+1),0,INDEX('C_OPEX Calc'!$N:$N,MATCH('C_Warranty NPV'!$B64,'C_OPEX Calc'!$F:$F,0))*'I_OPEX Input'!$C$53)","v":{"$error":"#N/A"}},{"$f":"IF(E$11<($C$7+1),0,INDEX('C_OPEX Calc'!$N:$N,MATCH('C_Warranty NPV'!$B64,'C_OPEX Calc'!$F:$F,0))*'I_OPEX Input'!$C$53)","v":{"$error":"#N/A"}},{"$f":"IF(F$11<($C$7+1),0,INDEX('C_OPEX Calc'!$N:$N,MATCH('C_Warranty NPV'!$B64,'C_OPEX Calc'!$F:$F,0))*'I_OPEX Input'!$C$53)","v":{"$error":"#N/A"}},{"$f":"IF(G$11<($C$7+1),0,INDEX('C_OPEX Calc'!$N:$N,MATCH('C_Warranty NPV'!$B64,'C_OPEX Calc'!$F:$F,0))*'I_OPEX Input'!$C$53)","v":{"$error":"#N/A"}},{"$f":"IF(H$11<($C$7+1),0,INDEX('C_OPEX Calc'!$N:$N,MATCH('C_Warranty NPV'!$B64,'C_OPEX Calc'!$F:$F,0))*'I_OPEX Input'!$C$53)","v":{"$error":"#N/A"}},{"$f":"IF(I$11<($C$7+1),0,INDEX('C_OPEX Calc'!$N:$N,MATCH('C_Warranty NPV'!$B64,'C_OPEX Calc'!$F:$F,0))*'I_OPEX Input'!$C$53)","v":{"$error":"#N/A"}},{"$f":"IF(J$11<($C$7+1),0,INDEX('C_OPEX Calc'!$N:$N,MATCH('C_Warranty NPV'!$B64,'C_OPEX Calc'!$F:$F,0))*'I_OPEX Input'!$C$53)","v":{"$error":"#N/A"}},{"$f":"IF(K$11<($C$7+1),0,INDEX('C_OPEX Calc'!$N:$N,MATCH('C_Warranty NPV'!$B64,'C_OPEX Calc'!$F:$F,0))*'I_OPEX Input'!$C$53)","v":{"$error":"#N/A"}},{"$f":"IF(L$11<($C$7+1),0,INDEX('C_OPEX Calc'!$N:$N,MATCH('C_Warranty NPV'!$B64,'C_OPEX Calc'!$F:$F,0))*'I_OPEX Input'!$C$53)","v":{"$error":"#N/A"}},{"$f":"IF(M$11<($C$7+1),0,INDEX('C_OPEX Calc'!$N:$N,MATCH('C_Warranty NPV'!$B64,'C_OPEX Calc'!$F:$F,0))*'I_OPEX Input'!$C$53)","v":{"$error":"#N/A"}},{"$f":"NPV('C_Warranty NPV'!$C$6,'C_Warranty NPV'!D64:M64)/10 * $C$5","v":{"$error":"#N/A"}}]
[null,null,{"$f":"VLOOKUP(B65,I_CAPEX!V:AC,2,FALSE)","v":{"$error":"#N/A"}},{"$f":"IF(D$11<($C$7+1),0,INDEX('C_OPEX Calc'!$N:$N,MATCH('C_Warranty NPV'!$B65,'C_OPEX Calc'!$F:$F,0))*'I_OPEX Input'!$C$53)","v":{"$error":"#N/A"}},{"$f":"IF(E$11<($C$7+1),0,INDEX('C_OPEX Calc'!$N:$N,MATCH('C_Warranty NPV'!$B65,'C_OPEX Calc'!$F:$F,0))*'I_OPEX Input'!$C$53)","v":{"$error":"#N/A"}},{"$f":"IF(F$11<($C$7+1),0,INDEX('C_OPEX Calc'!$N:$N,MATCH('C_Warranty NPV'!$B65,'C_OPEX Calc'!$F:$F,0))*'I_OPEX Input'!$C$53)","v":{"$error":"#N/A"}},{"$f":"IF(G$11<($C$7+1),0,INDEX('C_OPEX Calc'!$N:$N,MATCH('C_Warranty NPV'!$B65,'C_OPEX Calc'!$F:$F,0))*'I_OPEX Input'!$C$53)","v":{"$error":"#N/A"}},{"$f":"IF(H$11<($C$7+1),0,INDEX('C_OPEX Calc'!$N:$N,MATCH('C_Warranty NPV'!$B65,'C_OPEX Calc'!$F:$F,0))*'I_OPEX Input'!$C$53)","v":{"$error":"#N/A"}},{"$f":"IF(I$11<($C$7+1),0,INDEX('C_OPEX Calc'!$N:$N,MATCH('C_Warranty NPV'!$B65,'C_OPEX Calc'!$F:$F,0))*'I_OPEX Input'!$C$53)","v":{"$error":"#N/A"}},{"$f":"IF(J$11<($C$7+1),0,INDEX('C_OPEX Calc'!$N:$N,MATCH('C_Warranty NPV'!$B65,'C_OPEX Calc'!$F:$F,0))*'I_OPEX Input'!$C$53)","v":{"$error":"#N/A"}},{"$f":"IF(K$11<($C$7+1),0,INDEX('C_OPEX Calc'!$N:$N,MATCH('C_Warranty NPV'!$B65,'C_OPEX Calc'!$F:$F,0))*'I_OPEX Input'!$C$53)","v":{"$error":"#N/A"}},{"$f":"IF(L$11<($C$7+1),0,INDEX('C_OPEX Calc'!$N:$N,MATCH('C_Warranty NPV'!$B65,'C_OPEX Calc'!$F:$F,0))*'I_OPEX Input'!$C$53)","v":{"$error":"#N/A"}},{"$f":"IF(M$11<($C$7+1),0,INDEX('C_OPEX Calc'!$N:$N,MATCH('C_Warranty NPV'!$B65,'C_OPEX Calc'!$F:$F,0))*'I_OPEX Input'!$C$53)","v":{"$error":"#N/A"}},{"$f":"NPV('C_Warranty NPV'!$C$6,'C_Warranty NPV'!D65:M65)/10 * $C$5","v":{"$error":"#N/A"}}]
[null,null,{"$f":"VLOOKUP(B66,I_CAPEX!V:AC,2,FALSE)","v":{"$error":"#N/A"}},{"$f":"IF(D$11<($C$7+1),0,INDEX('C_OPEX Calc'!$N:$N,MATCH('C_Warranty NPV'!$B66,'C_OPEX Calc'!$F:$F,0))*'I_OPEX Input'!$C$53)","v":{"$error":"#N/A"}},{"$f":"IF(E$11<($C$7+1),0,INDEX('C_OPEX Calc'!$N:$N,MATCH('C_Warranty NPV'!$B66,'C_OPEX Calc'!$F:$F,0))*'I_OPEX Input'!$C$53)","v":{"$error":"#N/A"}},{"$f":"IF(F$11<($C$7+1),0,INDEX('C_OPEX Calc'!$N:$N,MATCH('C_Warranty NPV'!$B66,'C_OPEX Calc'!$F:$F,0))*'I_OPEX Input'!$C$53)","v":{"$error":"#N/A"}},{"$f":"IF(G$11<($C$7+1),0,INDEX('C_OPEX Calc'!$N:$N,MATCH('C_Warranty NPV'!$B66,'C_OPEX Calc'!$F:$F,0))*'I_OPEX Input'!$C$53)","v":{"$error":"#N/A"}},{"$f":"IF(H$11<($C$7+1),0,INDEX('C_OPEX Calc'!$N:$N,MATCH('C_Warranty NPV'!$B66,'C_OPEX Calc'!$F:$F,0))*'I_OPEX Input'!$C$53)","v":{"$error":"#N/A"}},{"$f":"IF(I$11<($C$7+1),0,INDEX('C_OPEX Calc'!$N:$N,MATCH('C_Warranty NPV'!$B66,'C_OPEX Calc'!$F:$F,0))*'I_OPEX Input'!$C$53)","v":{"$error":"#N/A"}},{"$f":"IF(J$11<($C$7+1),0,INDEX('C_OPEX Calc'!$N:$N,MATCH('C_Warranty NPV'!$B66,'C_OPEX Calc'!$F:$F,0))*'I_OPEX Input'!$C$53)","v":{"$error":"#N/A"}},{"$f":"IF(K$11<($C$7+1),0,INDEX('C_OPEX Calc'!$N:$N,MATCH('C_Warranty NPV'!$B66,'C_OPEX Calc'!$F:$F,0))*'I_OPEX Input'!$C$53)","v":{"$error":"#N/A"}},{"$f":"IF(L$11<($C$7+1),0,INDEX('C_OPEX Calc'!$N:$N,MATCH('C_Warranty NPV'!$B66,'C_OPEX Calc'!$F:$F,0))*'I_OPEX Input'!$C$53)","v":{"$error":"#N/A"}},{"$f":"IF(M$11<($C$7+1),0,INDEX('C_OPEX Calc'!$N:$N,MATCH('C_Warranty NPV'!$B66,'C_OPEX Calc'!$F:$F,0))*'I_OPEX Input'!$C$53)","v":{"$error":"#N/A"}},{"$f":"NPV('C_Warranty NPV'!$C$6,'C_Warranty NPV'!D66:M66)/10 * $C$5","v":{"$error":"#N/A"}}]
[null,null,{"$f":"VLOOKUP(B67,I_CAPEX!V:AC,2,FALSE)","v":{"$error":"#N/A"}},{"$f":"IF(D$11<($C$7+1),0,INDEX('C_OPEX Calc'!$N:$N,MATCH('C_Warranty NPV'!$B67,'C_OPEX Calc'!$F:$F,0))*'I_OPEX Input'!$C$53)","v":{"$error":"#N/A"}},{"$f":"IF(E$11<($C$7+1),0,INDEX('C_OPEX Calc'!$N:$N,MATCH('C_Warranty NPV'!$B67,'C_OPEX Calc'!$F:$F,0))*'I_OPEX Input'!$C$53)","v":{"$error":"#N/A"}},{"$f":"IF(F$11<($C$7+1),0,INDEX('C_OPEX Calc'!$N:$N,MATCH('C_Warranty NPV'!$B67,'C_OPEX Calc'!$F:$F,0))*'I_OPEX Input'!$C$53)","v":{"$error":"#N/A"}},{"$f":"IF(G$11<($C$7+1),0,INDEX('C_OPEX Calc'!$N:$N,MATCH('C_Warranty NPV'!$B67,'C_OPEX Calc'!$F:$F,0))*'I_OPEX Input'!$C$53)","v":{"$error":"#N/A"}},{"$f":"IF(H$11<($C$7+1),0,INDEX('C_OPEX Calc'!$N:$N,MATCH('C_Warranty NPV'!$B67,'C_OPEX Calc'!$F:$F,0))*'I_OPEX Input'!$C$53)","v":{"$error":"#N/A"}},{"$f":"IF(I$11<($C$7+1),0,INDEX('C_OPEX Calc'!$N:$N,MATCH('C_Warranty NPV'!$B67,'C_OPEX Calc'!$F:$F,0))*'I_OPEX Input'!$C$53)","v":{"$error":"#N/A"}},{"$f":"IF(J$11<($C$7+1),0,INDEX('C_OPEX Calc'!$N:$N,MATCH('C_Warranty NPV'!$B67,'C_OPEX Calc'!$F:$F,0))*'I_OPEX Input'!$C$53)","v":{"$error":"#N/A"}},{"$f":"IF(K$11<($C$7+1),0,INDEX('C_OPEX Calc'!$N:$N,MATCH('C_Warranty NPV'!$B67,'C_OPEX Calc'!$F:$F,0))*'I_OPEX Input'!$C$53)","v":{"$error":"#N/A"}},{"$f":"IF(L$11<($C$7+1),0,INDEX('C_OPEX Calc'!$N:$N,MATCH('C_Warranty NPV'!$B67,'C_OPEX Calc'!$F:$F,0))*'I_OPEX Input'!$C$53)","v":{"$error":"#N/A"}},{"$f":"IF(M$11<($C$7+1),0,INDEX('C_OPEX Calc'!$N:$N,MATCH('C_Warranty NPV'!$B67,'C_OPEX Calc'!$F:$F,0))*'I_OPEX Input'!$C$53)","v":{"$error":"#N/A"}},{"$f":"NPV('C_Warranty NPV'!$C$6,'C_Warranty NPV'!D67:M67)/10 * $C$5","v":{"$error":"#N/A"}}]
[null,null,{"$f":"VLOOKUP(B68,I_CAPEX!V:AC,2,FALSE)","v":{"$error":"#N/A"}},{"$f":"IF(D$11<($C$7+1),0,INDEX('C_OPEX Calc'!$N:$N,MATCH('C_Warranty NPV'!$B68,'C_OPEX Calc'!$F:$F,0))*'I_OPEX Input'!$C$53)","v":{"$error":"#N/A"}},{"$f":"IF(E$11<($C$7+1),0,INDEX('C_OPEX Calc'!$N:$N,MATCH('C_Warranty NPV'!$B68,'C_OPEX Calc'!$F:$F,0))*'I_OPEX Input'!$C$53)","v":{"$error":"#N/A"}},{"$f":"IF(F$11<($C$7+1),0,INDEX('C_OPEX Calc'!$N:$N,MATCH('C_Warranty NPV'!$B68,'C_OPEX Calc'!$F:$F,0))*'I_OPEX Input'!$C$53)","v":{"$error":"#N/A"}},{"$f":"IF(G$11<($C$7+1),0,INDEX('C_OPEX Calc'!$N:$N,MATCH('C_Warranty NPV'!$B68,'C_OPEX Calc'!$F:$F,0))*'I_OPEX Input'!$C$53)","v":{"$error":"#N/A"}},{"$f":"IF(H$11<($C$7+1),0,INDEX('C_OPEX Calc'!$N:$N,MATCH('C_Warranty NPV'!$B68,'C_OPEX Calc'!$F:$F,0))*'I_OPEX Input'!$C$53)","v":{"$error":"#N/A"}},{"$f":"IF(I$11<($C$7+1),0,INDEX('C_OPEX Calc'!$N:$N,MATCH('C_Warranty NPV'!$B68,'C_OPEX Calc'!$F:$F,0))*'I_OPEX Input'!$C$53)","v":{"$error":"#N/A"}},{"$f":"IF(J$11<($C$7+1),0,INDEX('C_OPEX Calc'!$N:$N,MATCH('C_Warranty NPV'!$B68,'C_OPEX Calc'!$F:$F,0))*'I_OPEX Input'!$C$53)","v":{"$error":"#N/A"}},{"$f":"IF(K$11<($C$7+1),0,INDEX('C_OPEX Calc'!$N:$N,MATCH('C_Warranty NPV'!$B68,'C_OPEX Calc'!$F:$F,0))*'I_OPEX Input'!$C$53)","v":{"$error":"#N/A"}},{"$f":"IF(L$11<($C$7+1),0,INDEX('C_OPEX Calc'!$N:$N,MATCH('C_Warranty NPV'!$B68,'C_OPEX Calc'!$F:$F,0))*'I_OPEX Input'!$C$53)","v":{"$error":"#N/A"}},{"$f":"IF(M$11<($C$7+1),0,INDEX('C_OPEX Calc'!$N:$N,MATCH('C_Warranty NPV'!$B68,'C_OPEX Calc'!$F:$F,0))*'I_OPEX Input'!$C$53)","v":{"$error":"#N/A"}},{"$f":"NPV('C_Warranty NPV'!$C$6,'C_Warranty NPV'!D68:M68)/10 * $C$5","v":{"$error":"#N/A"}}]
[null,null,{"$f":"VLOOKUP(B69,I_CAPEX!V:AC,2,FALSE)","v":{"$error":"#N/A"}},{"$f":"IF(D$11<($C$7+1),0,INDEX('C_OPEX Calc'!$N:$N,MATCH('C_Warranty NPV'!$B69,'C_OPEX Calc'!$F:$F,0))*'I_OPEX Input'!$C$53)","v":{"$error":"#N/A"}},{"$f":"IF(E$11<($C$7+1),0,INDEX('C_OPEX Calc'!$N:$N,MATCH('C_Warranty NPV'!$B69,'C_OPEX Calc'!$F:$F,0))*'I_OPEX Input'!$C$53)","v":{"$error":"#N/A"}},{"$f":"IF(F$11<($C$7+1),0,INDEX('C_OPEX Calc'!$N:$N,MATCH('C_Warranty NPV'!$B69,'C_OPEX Calc'!$F:$F,0))*'I_OPEX Input'!$C$53)","v":{"$error":"#N/A"}},{"$f":"IF(G$11<($C$7+1),0,INDEX('C_OPEX Calc'!$N:$N,MATCH('C_Warranty NPV'!$B69,'C_OPEX Calc'!$F:$F,0))*'I_OPEX Input'!$C$53)","v":{"$error":"#N/A"}},{"$f":"IF(H$11<($C$7+1),0,INDEX('C_OPEX Calc'!$N:$N,MATCH('C_Warranty NPV'!$B69,'C_OPEX Calc'!$F:$F,0))*'I_OPEX Input'!$C$53)","v":{"$error":"#N/A"}},{"$f":"IF(I$11<($C$7+1),0,INDEX('C_OPEX Calc'!$N:$N,MATCH('C_Warranty NPV'!$B69,'C_OPEX Calc'!$F:$F,0))*'I_OPEX Input'!$C$53)","v":{"$error":"#N/A"}},{"$f":"IF(J$11<($C$7+1),0,INDEX('C_OPEX Calc'!$N:$N,MATCH('C_Warranty NPV'!$B69,'C_OPEX Calc'!$F:$F,0))*'I_OPEX Input'!$C$53)","v":{"$error":"#N/A"}},{"$f":"IF(K$11<($C$7+1),0,INDEX('C_OPEX Calc'!$N:$N,MATCH('C_Warranty NPV'!$B69,'C_OPEX Calc'!$F:$F,0))*'I_OPEX Input'!$C$53)","v":{"$error":"#N/A"}},{"$f":"IF(L$11<($C$7+1),0,INDEX('C_OPEX Calc'!$N:$N,MATCH('C_Warranty NPV'!$B69,'C_OPEX Calc'!$F:$F,0))*'I_OPEX Input'!$C$53)","v":{"$error":"#N/A"}},{"$f":"IF(M$11<($C$7+1),0,INDEX('C_OPEX Calc'!$N:$N,MATCH('C_Warranty NPV'!$B69,'C_OPEX Calc'!$F:$F,0))*'I_OPEX Input'!$C$53)","v":{"$error":"#N/A"}},{"$f":"NPV('C_Warranty NPV'!$C$6,'C_Warranty NPV'!D69:M69)/10 * $C$5","v":{"$error":"#N/A"}}]
[null,null,{"$f":"VLOOKUP(B70,I_CAPEX!V:AC,2,FALSE)","v":{"$error":"#N/A"}},{"$f":"IF(D$11<($C$7+1),0,INDEX('C_OPEX Calc'!$N:$N,MATCH('C_Warranty NPV'!$B70,'C_OPEX Calc'!$F:$F,0))*'I_OPEX Input'!$C$53)","v":{"$error":"#N/A"}},{"$f":"IF(E$11<($C$7+1),0,INDEX('C_OPEX Calc'!$N:$N,MATCH('C_Warranty NPV'!$B70,'C_OPEX Calc'!$F:$F,0))*'I_OPEX Input'!$C$53)","v":{"$error":"#N/A"}},{"$f":"IF(F$11<($C$7+1),0,INDEX('C_OPEX Calc'!$N:$N,MATCH('C_Warranty NPV'!$B70,'C_OPEX Calc'!$F:$F,0))*'I_OPEX Input'!$C$53)","v":{"$error":"#N/A"}},{"$f":"IF(G$11<($C$7+1),0,INDEX('C_OPEX Calc'!$N:$N,MATCH('C_Warranty NPV'!$B70,'C_OPEX Calc'!$F:$F,0))*'I_OPEX Input'!$C$53)","v":{"$error":"#N/A"}},{"$f":"IF(H$11<($C$7+1),0,INDEX('C_OPEX Calc'!$N:$N,MATCH('C_Warranty NPV'!$B70,'C_OPEX Calc'!$F:$F,0))*'I_OPEX Input'!$C$53)","v":{"$error":"#N/A"}},{"$f":"IF(I$11<($C$7+1),0,INDEX('C_OPEX Calc'!$N:$N,MATCH('C_Warranty NPV'!$B70,'C_OPEX Calc'!$F:$F,0))*'I_OPEX Input'!$C$53)","v":{"$error":"#N/A"}},{"$f":"IF(J$11<($C$7+1),0,INDEX('C_OPEX Calc'!$N:$N,MATCH('C_Warranty NPV'!$B70,'C_OPEX Calc'!$F:$F,0))*'I_OPEX Input'!$C$53)","v":{"$error":"#N/A"}},{"$f":"IF(K$11<($C$7+1),0,INDEX('C_OPEX Calc'!$N:$N,MATCH('C_Warranty NPV'!$B70,'C_OPEX Calc'!$F:$F,0))*'I_OPEX Input'!$C$53)","v":{"$error":"#N/A"}},{"$f":"IF(L$11<($C$7+1),0,INDEX('C_OPEX Calc'!$N:$N,MATCH('C_Warranty NPV'!$B70,'C_OPEX Calc'!$F:$F,0))*'I_OPEX Input'!$C$53)","v":{"$error":"#N/A"}},{"$f":"IF(M$11<($C$7+1),0,INDEX('C_OPEX Calc'!$N:$N,MATCH('C_Warranty NPV'!$B70,'C_OPEX Calc'!$F:$F,0))*'I_OPEX Input'!$C$53)","v":{"$error":"#N/A"}},{"$f":"NPV('C_Warranty NPV'!$C$6,'C_Warranty NPV'!D70:M70)/10 * $C$5","v":{"$error":"#N/A"}}]
[null,null,{"$f":"VLOOKUP(B71,I_CAPEX!V:AC,2,FALSE)","v":{"$error":"#N/A"}},{"$f":"IF(D$11<($C$7+1),0,INDEX('C_OPEX Calc'!$N:$N,MATCH('C_Warranty NPV'!$B71,'C_OPEX Calc'!$F:$F,0))*'I_OPEX Input'!$C$53)","v":{"$error":"#N/A"}},{"$f":"IF(E$11<($C$7+1),0,INDEX('C_OPEX Calc'!$N:$N,MATCH('C_Warranty NPV'!$B71,'C_OPEX Calc'!$F:$F,0))*'I_OPEX Input'!$C$53)","v":{"$error":"#N/A"}},{"$f":"IF(F$11<($C$7+1),0,INDEX('C_OPEX Calc'!$N:$N,MATCH('C_Warranty NPV'!$B71,'C_OPEX Calc'!$F:$F,0))*'I_OPEX Input'!$C$53)","v":{"$error":"#N/A"}},{"$f":"IF(G$11<($C$7+1),0,INDEX('C_OPEX Calc'!$N:$N,MATCH('C_Warranty NPV'!$B71,'C_OPEX Calc'!$F:$F,0))*'I_OPEX Input'!$C$53)","v":{"$error":"#N/A"}},{"$f":"IF(H$11<($C$7+1),0,INDEX('C_OPEX Calc'!$N:$N,MATCH('C_Warranty NPV'!$B71,'C_OPEX Calc'!$F:$F,0))*'I_OPEX Input'!$C$53)","v":{"$error":"#N/A"}},{"$f":"IF(I$11<($C$7+1),0,INDEX('C_OPEX Calc'!$N:$N,MATCH('C_Warranty NPV'!$B71,'C_OPEX Calc'!$F:$F,0))*'I_OPEX Input'!$C$53)","v":{"$error":"#N/A"}},{"$f":"IF(J$11<($C$7+1),0,INDEX('C_OPEX Calc'!$N:$N,MATCH('C_Warranty NPV'!$B71,'C_OPEX Calc'!$F:$F,0))*'I_OPEX Input'!$C$53)","v":{"$error":"#N/A"}},{"$f":"IF(K$11<($C$7+1),0,INDEX('C_OPEX Calc'!$N:$N,MATCH('C_Warranty NPV'!$B71,'C_OPEX Calc'!$F:$F,0))*'I_OPEX Input'!$C$53)","v":{"$error":"#N/A"}},{"$f":"IF(L$11<($C$7+1),0,INDEX('C_OPEX Calc'!$N:$N,MATCH('C_Warranty NPV'!$B71,'C_OPEX Calc'!$F:$F,0))*'I_OPEX Input'!$C$53)","v":{"$error":"#N/A"}},{"$f":"IF(M$11<($C$7+1),0,INDEX('C_OPEX Calc'!$N:$N,MATCH('C_Warranty NPV'!$B71,'C_OPEX Calc'!$F:$F,0))*'I_OPEX Input'!$C$53)","v":{"$error":"#N/A"}},{"$f":"NPV('C_Warranty NPV'!$C$6,'C_Warranty NPV'!D71:M71)/10 * $C$5","v":{"$error":"#N/A"}}]
[null,null,{"$f":"VLOOKUP(B72,I_CAPEX!V:AC,2,FALSE)","v":{"$error":"#N/A"}},{"$f":"IF(D$11<($C$7+1),0,INDEX('C_OPEX Calc'!$N:$N,MATCH('C_Warranty NPV'!$B72,'C_OPEX Calc'!$F:$F,0))*'I_OPEX Input'!$C$53)","v":{"$error":"#N/A"}},{"$f":"IF(E$11<($C$7+1),0,INDEX('C_OPEX Calc'!$N:$N,MATCH('C_Warranty NPV'!$B72,'C_OPEX Calc'!$F:$F,0))*'I_OPEX Input'!$C$53)","v":{"$error":"#N/A"}},{"$f":"IF(F$11<($C$7+1),0,INDEX('C_OPEX Calc'!$N:$N,MATCH('C_Warranty NPV'!$B72,'C_OPEX Calc'!$F:$F,0))*'I_OPEX Input'!$C$53)","v":{"$error":"#N/A"}},{"$f":"IF(G$11<($C$7+1),0,INDEX('C_OPEX Calc'!$N:$N,MATCH('C_Warranty NPV'!$B72,'C_OPEX Calc'!$F:$F,0))*'I_OPEX Input'!$C$53)","v":{"$error":"#N/A"}},{"$f":"IF(H$11<($C$7+1),0,INDEX('C_OPEX Calc'!$N:$N,MATCH('C_Warranty NPV'!$B72,'C_OPEX Calc'!$F:$F,0))*'I_OPEX Input'!$C$53)","v":{"$error":"#N/A"}},{"$f":"IF(I$11<($C$7+1),0,INDEX('C_OPEX Calc'!$N:$N,MATCH('C_Warranty NPV'!$B72,'C_OPEX Calc'!$F:$F,0))*'I_OPEX Input'!$C$53)","v":{"$error":"#N/A"}},{"$f":"IF(J$11<($C$7+1),0,INDEX('C_OPEX Calc'!$N:$N,MATCH('C_Warranty NPV'!$B72,'C_OPEX Calc'!$F:$F,0))*'I_OPEX Input'!$C$53)","v":{"$error":"#N/A"}},{"$f":"IF(K$11<($C$7+1),0,INDEX('C_OPEX Calc'!$N:$N,MATCH('C_Warranty NPV'!$B72,'C_OPEX Calc'!$F:$F,0))*'I_OPEX Input'!$C$53)","v":{"$error":"#N/A"}},{"$f":"IF(L$11<($C$7+1),0,INDEX('C_OPEX Calc'!$N:$N,MATCH('C_Warranty NPV'!$B72,'C_OPEX Calc'!$F:$F,0))*'I_OPEX Input'!$C$53)","v":{"$error":"#N/A"}},{"$f":"IF(M$11<($C$7+1),0,INDEX('C_OPEX Calc'!$N:$N,MATCH('C_Warranty NPV'!$B72,'C_OPEX Calc'!$F:$F,0))*'I_OPEX Input'!$C$53)","v":{"$error":"#N/A"}},{"$f":"NPV('C_Warranty NPV'!$C$6,'C_Warranty NPV'!D72:M72)/10 * $C$5","v":{"$error":"#N/A"}}]
[null,null,{"$f":"VLOOKUP(B73,I_CAPEX!V:AC,2,FALSE)","v":{"$error":"#N/A"}},{"$f":"IF(D$11<($C$7+1),0,INDEX('C_OPEX Calc'!$N:$N,MATCH('C_Warranty NPV'!$B73,'C_OPEX Calc'!$F:$F,0))*'I_OPEX Input'!$C$53)","v":{"$error":"#N/A"}},{"$f":"IF(E$11<($C$7+1),0,INDEX('C_OPEX Calc'!$N:$N,MATCH('C_Warranty NPV'!$B73,'C_OPEX Calc'!$F:$F,0))*'I_OPEX Input'!$C$53)","v":{"$error":"#N/A"}},{"$f":"IF(F$11<($C$7+1),0,INDEX('C_OPEX Calc'!$N:$N,MATCH('C_Warranty NPV'!$B73,'C_OPEX Calc'!$F:$F,0))*'I_OPEX Input'!$C$53)","v":{"$error":"#N/A"}},{"$f":"IF(G$11<($C$7+1),0,INDEX('C_OPEX Calc'!$N:$N,MATCH('C_Warranty NPV'!$B73,'C_OPEX Calc'!$F:$F,0))*'I_OPEX Input'!$C$53)","v":{"$error":"#N/A"}},{"$f":"IF(H$11<($C$7+1),0,INDEX('C_OPEX Calc'!$N:$N,MATCH('C_Warranty NPV'!$B73,'C_OPEX Calc'!$F:$F,0))*'I_OPEX Input'!$C$53)","v":{"$error":"#N/A"}},{"$f":"IF(I$11<($C$7+1),0,INDEX('C_OPEX Calc'!$N:$N,MATCH('C_Warranty NPV'!$B73,'C_OPEX Calc'!$F:$F,0))*'I_OPEX Input'!$C$53)","v":{"$error":"#N/A"}},{"$f":"IF(J$11<($C$7+1),0,INDEX('C_OPEX Calc'!$N:$N,MATCH('C_Warranty NPV'!$B73,'C_OPEX Calc'!$F:$F,0))*'I_OPEX Input'!$C$53)","v":{"$error":"#N/A"}},{"$f":"IF(K$11<($C$7+1),0,INDEX('C_OPEX Calc'!$N:$N,MATCH('C_Warranty NPV'!$B73,'C_OPEX Calc'!$F:$F,0))*'I_OPEX Input'!$C$53)","v":{"$error":"#N/A"}},{"$f":"IF(L$11<($C$7+1),0,INDEX('C_OPEX Calc'!$N:$N,MATCH('C_Warranty NPV'!$B73,'C_OPEX Calc'!$F:$F,0))*'I_OPEX Input'!$C$53)","v":{"$error":"#N/A"}},{"$f":"IF(M$11<($C$7+1),0,INDEX('C_OPEX Calc'!$N:$N,MATCH('C_Warranty NPV'!$B73,'C_OPEX Calc'!$F:$F,0))*'I_OPEX Input'!$C$53)","v":{"$error":"#N/A"}},{"$f":"NPV('C_Warranty NPV'!$C$6,'C_Warranty NPV'!D73:M73)/10 * $C$5","v":{"$error":"#N/A"}}]
[null,null,{"$f":"VLOOKUP(B74,I_CAPEX!V:AC,2,FALSE)","v":{"$error":"#N/A"}},{"$f":"IF(D$11<($C$7+1),0,INDEX('C_OPEX Calc'!$N:$N,MATCH('C_Warranty NPV'!$B74,'C_OPEX Calc'!$F:$F,0))*'I_OPEX Input'!$C$53)","v":{"$error":"#N/A"}},{"$f":"IF(E$11<($C$7+1),0,INDEX('C_OPEX Calc'!$N:$N,MATCH('C_Warranty NPV'!$B74,'C_OPEX Calc'!$F:$F,0))*'I_OPEX Input'!$C$53)","v":{"$error":"#N/A"}},{"$f":"IF(F$11<($C$7+1),0,INDEX('C_OPEX Calc'!$N:$N,MATCH('C_Warranty NPV'!$B74,'C_OPEX Calc'!$F:$F,0))*'I_OPEX Input'!$C$53)","v":{"$error":"#N/A"}},{"$f":"IF(G$11<($C$7+1),0,INDEX('C_OPEX Calc'!$N:$N,MATCH('C_Warranty NPV'!$B74,'C_OPEX Calc'!$F:$F,0))*'I_OPEX Input'!$C$53)","v":{"$error":"#N/A"}},{"$f":"IF(H$11<($C$7+1),0,INDEX('C_OPEX Calc'!$N:$N,MATCH('C_Warranty NPV'!$B74,'C_OPEX Calc'!$F:$F,0))*'I_OPEX Input'!$C$53)","v":{"$error":"#N/A"}},{"$f":"IF(I$11<($C$7+1),0,INDEX('C_OPEX Calc'!$N:$N,MATCH('C_Warranty NPV'!$B74,'C_OPEX Calc'!$F:$F,0))*'I_OPEX Input'!$C$53)","v":{"$error":"#N/A"}},{"$f":"IF(J$11<($C$7+1),0,INDEX('C_OPEX Calc'!$N:$N,MATCH('C_Warranty NPV'!$B74,'C_OPEX Calc'!$F:$F,0))*'I_OPEX Input'!$C$53)","v":{"$error":"#N/A"}},{"$f":"IF(K$11<($C$7+1),0,INDEX('C_OPEX Calc'!$N:$N,MATCH('C_Warranty NPV'!$B74,'C_OPEX Calc'!$F:$F,0))*'I_OPEX Input'!$C$53)","v":{"$error":"#N/A"}},{"$f":"IF(L$11<($C$7+1),0,INDEX('C_OPEX Calc'!$N:$N,MATCH('C_Warranty NPV'!$B74,'C_OPEX Calc'!$F:$F,0))*'I_OPEX Input'!$C$53)","v":{"$error":"#N/A"}},{"$f":"IF(M$11<($C$7+1),0,INDEX('C_OPEX Calc'!$N:$N,MATCH('C_Warranty NPV'!$B74,'C_OPEX Calc'!$F:$F,0))*'I_OPEX Input'!$C$53)","v":{"$error":"#N/A"}},{"$f":"NPV('C_Warranty NPV'!$C$6,'C_Warranty NPV'!D74:M74)/10 * $C$5","v":{"$error":"#N/A"}}]
[null,null,{"$f":"VLOOKUP(B75,I_CAPEX!V:AC,2,FALSE)","v":{"$error":"#N/A"}},{"$f":"IF(D$11<($C$7+1),0,INDEX('C_OPEX Calc'!$N:$N,MATCH('C_Warranty NPV'!$B75,'C_OPEX Calc'!$F:$F,0))*'I_OPEX Input'!$C$53)","v":{"$error":"#N/A"}},{"$f":"IF(E$11<($C$7+1),0,INDEX('C_OPEX Calc'!$N:$N,MATCH('C_Warranty NPV'!$B75,'C_OPEX Calc'!$F:$F,0))*'I_OPEX Input'!$C$53)","v":{"$error":"#N/A"}},{"$f":"IF(F$11<($C$7+1),0,INDEX('C_OPEX Calc'!$N:$N,MATCH('C_Warranty NPV'!$B75,'C_OPEX Calc'!$F:$F,0))*'I_OPEX Input'!$C$53)","v":{"$error":"#N/A"}},{"$f":"IF(G$11<($C$7+1),0,INDEX('C_OPEX Calc'!$N:$N,MATCH('C_Warranty NPV'!$B75,'C_OPEX Calc'!$F:$F,0))*'I_OPEX Input'!$C$53)","v":{"$error":"#N/A"}},{"$f":"IF(H$11<($C$7+1),0,INDEX('C_OPEX Calc'!$N:$N,MATCH('C_Warranty NPV'!$B75,'C_OPEX Calc'!$F:$F,0))*'I_OPEX Input'!$C$53)","v":{"$error":"#N/A"}},{"$f":"IF(I$11<($C$7+1),0,INDEX('C_OPEX Calc'!$N:$N,MATCH('C_Warranty NPV'!$B75,'C_OPEX Calc'!$F:$F,0))*'I_OPEX Input'!$C$53)","v":{"$error":"#N/A"}},{"$f":"IF(J$11<($C$7+1),0,INDEX('C_OPEX Calc'!$N:$N,MATCH('C_Warranty NPV'!$B75,'C_OPEX Calc'!$F:$F,0))*'I_OPEX Input'!$C$53)","v":{"$error":"#N/A"}},{"$f":"IF(K$11<($C$7+1),0,INDEX('C_OPEX Calc'!$N:$N,MATCH('C_Warranty NPV'!$B75,'C_OPEX Calc'!$F:$F,0))*'I_OPEX Input'!$C$53)","v":{"$error":"#N/A"}},{"$f":"IF(L$11<($C$7+1),0,INDEX('C_OPEX Calc'!$N:$N,MATCH('C_Warranty NPV'!$B75,'C_OPEX Calc'!$F:$F,0))*'I_OPEX Input'!$C$53)","v":{"$error":"#N/A"}},{"$f":"IF(M$11<($C$7+1),0,INDEX('C_OPEX Calc'!$N:$N,MATCH('C_Warranty NPV'!$B75,'C_OPEX Calc'!$F:$F,0))*'I_OPEX Input'!$C$53)","v":{"$error":"#N/A"}},{"$f":"NPV('C_Warranty NPV'!$C$6,'C_Warranty NPV'!D75:M75)/10 * $C$5","v":{"$error":"#N/A"}}]
[null,null,{"$f":"VLOOKUP(B76,I_CAPEX!V:AC,2,FALSE)","v":{"$error":"#N/A"}},{"$f":"IF(D$11<($C$7+1),0,INDEX('C_OPEX Calc'!$N:$N,MATCH('C_Warranty NPV'!$B76,'C_OPEX Calc'!$F:$F,0))*'I_OPEX Input'!$C$53)","v":{"$error":"#N/A"}},{"$f":"IF(E$11<($C$7+1),0,INDEX('C_OPEX Calc'!$N:$N,MATCH('C_Warranty NPV'!$B76,'C_OPEX Calc'!$F:$F,0))*'I_OPEX Input'!$C$53)","v":{"$error":"#N/A"}},{"$f":"IF(F$11<($C$7+1),0,INDEX('C_OPEX Calc'!$N:$N,MATCH('C_Warranty NPV'!$B76,'C_OPEX Calc'!$F:$F,0))*'I_OPEX Input'!$C$53)","v":{"$error":"#N/A"}},{"$f":"IF(G$11<($C$7+1),0,INDEX('C_OPEX Calc'!$N:$N,MATCH('C_Warranty NPV'!$B76,'C_OPEX Calc'!$F:$F,0))*'I_OPEX Input'!$C$53)","v":{"$error":"#N/A"}},{"$f":"IF(H$11<($C$7+1),0,INDEX('C_OPEX Calc'!$N:$N,MATCH('C_Warranty NPV'!$B76,'C_OPEX Calc'!$F:$F,0))*'I_OPEX Input'!$C$53)","v":{"$error":"#N/A"}},{"$f":"IF(I$11<($C$7+1),0,INDEX('C_OPEX Calc'!$N:$N,MATCH('C_Warranty NPV'!$B76,'C_OPEX Calc'!$F:$F,0))*'I_OPEX Input'!$C$53)","v":{"$error":"#N/A"}},{"$f":"IF(J$11<($C$7+1),0,INDEX('C_OPEX Calc'!$N:$N,MATCH('C_Warranty NPV'!$B76,'C_OPEX Calc'!$F:$F,0))*'I_OPEX Input'!$C$53)","v":{"$error":"#N/A"}},{"$f":"IF(K$11<($C$7+1),0,INDEX('C_OPEX Calc'!$N:$N,MATCH('C_Warranty NPV'!$B76,'C_OPEX Calc'!$F:$F,0))*'I_OPEX Input'!$C$53)","v":{"$error":"#N/A"}},{"$f":"IF(L$11<($C$7+1),0,INDEX('C_OPEX Calc'!$N:$N,MATCH('C_Warranty NPV'!$B76,'C_OPEX Calc'!$F:$F,0))*'I_OPEX Input'!$C$53)","v":{"$error":"#N/A"}},{"$f":"IF(M$11<($C$7+1),0,INDEX('C_OPEX Calc'!$N:$N,MATCH('C_Warranty NPV'!$B76,'C_OPEX Calc'!$F:$F,0))*'I_OPEX Input'!$C$53)","v":{"$error":"#N/A"}},{"$f":"NPV('C_Warranty NPV'!$C$6,'C_Warranty NPV'!D76:M76)/10 * $C$5","v":{"$error":"#N/A"}}]
[null,null,{"$f":"VLOOKUP(B77,I_CAPEX!V:AC,2,FALSE)","v":{"$error":"#N/A"}},{"$f":"IF(D$11<($C$7+1),0,INDEX('C_OPEX Calc'!$N:$N,MATCH('C_Warranty NPV'!$B77,'C_OPEX Calc'!$F:$F,0))*'I_OPEX Input'!$C$53)","v":{"$error":"#N/A"}},{"$f":"IF(E$11<($C$7+1),0,INDEX('C_OPEX Calc'!$N:$N,MATCH('C_Warranty NPV'!$B77,'C_OPEX Calc'!$F:$F,0))*'I_OPEX Input'!$C$53)","v":{"$error":"#N/A"}},{"$f":"IF(F$11<($C$7+1),0,INDEX('C_OPEX Calc'!$N:$N,MATCH('C_Warranty NPV'!$B77,'C_OPEX Calc'!$F:$F,0))*'I_OPEX Input'!$C$53)","v":{"$error":"#N/A"}},{"$f":"IF(G$11<($C$7+1),0,INDEX('C_OPEX Calc'!$N:$N,MATCH('C_Warranty NPV'!$B77,'C_OPEX Calc'!$F:$F,0))*'I_OPEX Input'!$C$53)","v":{"$error":"#N/A"}},{"$f":"IF(H$11<($C$7+1),0,INDEX('C_OPEX Calc'!$N:$N,MATCH('C_Warranty NPV'!$B77,'C_OPEX Calc'!$F:$F,0))*'I_OPEX Input'!$C$53)","v":{"$error":"#N/A"}},{"$f":"IF(I$11<($C$7+1),0,INDEX('C_OPEX Calc'!$N:$N,MATCH('C_Warranty NPV'!$B77,'C_OPEX Calc'!$F:$F,0))*'I_OPEX Input'!$C$53)","v":{"$error":"#N/A"}},{"$f":"IF(J$11<($C$7+1),0,INDEX('C_OPEX Calc'!$N:$N,MATCH('C_Warranty NPV'!$B77,'C_OPEX Calc'!$F:$F,0))*'I_OPEX Input'!$C$53)","v":{"$error":"#N/A"}},{"$f":"IF(K$11<($C$7+1),0,INDEX('C_OPEX Calc'!$N:$N,MATCH('C_Warranty NPV'!$B77,'C_OPEX Calc'!$F:$F,0))*'I_OPEX Input'!$C$53)","v":{"$error":"#N/A"}},{"$f":"IF(L$11<($C$7+1),0,INDEX('C_OPEX Calc'!$N:$N,MATCH('C_Warranty NPV'!$B77,'C_OPEX Calc'!$F:$F,0))*'I_OPEX Input'!$C$53)","v":{"$error":"#N/A"}},{"$f":"IF(M$11<($C$7+1),0,INDEX('C_OPEX Calc'!$N:$N,MATCH('C_Warranty NPV'!$B77,'C_OPEX Calc'!$F:$F,0))*'I_OPEX Input'!$C$53)","v":{"$error":"#N/A"}},{"$f":"NPV('C_Warranty NPV'!$C$6,'C_Warranty NPV'!D77:M77)/10 * $C$5","v":{"$error":"#N/A"}}]
[null,null,{"$f":"VLOOKUP(B78,I_CAPEX!V:AC,2,FALSE)","v":{"$error":"#N/A"}},{"$f":"IF(D$11<($C$7+1),0,INDEX('C_OPEX Calc'!$N:$N,MATCH('C_Warranty NPV'!$B78,'C_OPEX Calc'!$F:$F,0))*'I_OPEX Input'!$C$53)","v":{"$error":"#N/A"}},{"$f":"IF(E$11<($C$7+1),0,INDEX('C_OPEX Calc'!$N:$N,MATCH('C_Warranty NPV'!$B78,'C_OPEX Calc'!$F:$F,0))*'I_OPEX Input'!$C$53)","v":{"$error":"#N/A"}},{"$f":"IF(F$11<($C$7+1),0,INDEX('C_OPEX Calc'!$N:$N,MATCH('C_Warranty NPV'!$B78,'C_OPEX Calc'!$F:$F,0))*'I_OPEX Input'!$C$53)","v":{"$error":"#N/A"}},{"$f":"IF(G$11<($C$7+1),0,INDEX('C_OPEX Calc'!$N:$N,MATCH('C_Warranty NPV'!$B78,'C_OPEX Calc'!$F:$F,0))*'I_OPEX Input'!$C$53)","v":{"$error":"#N/A"}},{"$f":"IF(H$11<($C$7+1),0,INDEX('C_OPEX Calc'!$N:$N,MATCH('C_Warranty NPV'!$B78,'C_OPEX Calc'!$F:$F,0))*'I_OPEX Input'!$C$53)","v":{"$error":"#N/A"}},{"$f":"IF(I$11<($C$7+1),0,INDEX('C_OPEX Calc'!$N:$N,MATCH('C_Warranty NPV'!$B78,'C_OPEX Calc'!$F:$F,0))*'I_OPEX Input'!$C$53)","v":{"$error":"#N/A"}},{"$f":"IF(J$11<($C$7+1),0,INDEX('C_OPEX Calc'!$N:$N,MATCH('C_Warranty NPV'!$B78,'C_OPEX Calc'!$F:$F,0))*'I_OPEX Input'!$C$53)","v":{"$error":"#N/A"}},{"$f":"IF(K$11<($C$7+1),0,INDEX('C_OPEX Calc'!$N:$N,MATCH('C_Warranty NPV'!$B78,'C_OPEX Calc'!$F:$F,0))*'I_OPEX Input'!$C$53)","v":{"$error":"#N/A"}},{"$f":"IF(L$11<($C$7+1),0,INDEX('C_OPEX Calc'!$N:$N,MATCH('C_Warranty NPV'!$B78,'C_OPEX Calc'!$F:$F,0))*'I_OPEX Input'!$C$53)","v":{"$error":"#N/A"}},{"$f":"IF(M$11<($C$7+1),0,INDEX('C_OPEX Calc'!$N:$N,MATCH('C_Warranty NPV'!$B78,'C_OPEX Calc'!$F:$F,0))*'I_OPEX Input'!$C$53)","v":{"$error":"#N/A"}},{"$f":"NPV('C_Warranty NPV'!$C$6,'C_Warranty NPV'!D78:M78)/10 * $C$5","v":{"$error":"#N/A"}}]
[null,null,{"$f":"VLOOKUP(B79,I_CAPEX!V:AC,2,FALSE)","v":{"$error":"#N/A"}},{"$f":"IF(D$11<($C$7+1),0,INDEX('C_OPEX Calc'!$N:$N,MATCH('C_Warranty NPV'!$B79,'C_OPEX Calc'!$F:$F,0))*'I_OPEX Input'!$C$53)","v":{"$error":"#N/A"}},{"$f":"IF(E$11<($C$7+1),0,INDEX('C_OPEX Calc'!$N:$N,MATCH('C_Warranty NPV'!$B79,'C_OPEX Calc'!$F:$F,0))*'I_OPEX Input'!$C$53)","v":{"$error":"#N/A"}},{"$f":"IF(F$11<($C$7+1),0,INDEX('C_OPEX Calc'!$N:$N,MATCH('C_Warranty NPV'!$B79,'C_OPEX Calc'!$F:$F,0))*'I_OPEX Input'!$C$53)","v":{"$error":"#N/A"}},{"$f":"IF(G$11<($C$7+1),0,INDEX('C_OPEX Calc'!$N:$N,MATCH('C_Warranty NPV'!$B79,'C_OPEX Calc'!$F:$F,0))*'I_OPEX Input'!$C$53)","v":{"$error":"#N/A"}},{"$f":"IF(H$11<($C$7+1),0,INDEX('C_OPEX Calc'!$N:$N,MATCH('C_Warranty NPV'!$B79,'C_OPEX Calc'!$F:$F,0))*'I_OPEX Input'!$C$53)","v":{"$error":"#N/A"}},{"$f":"IF(I$11<($C$7+1),0,INDEX('C_OPEX Calc'!$N:$N,MATCH('C_Warranty NPV'!$B79,'C_OPEX Calc'!$F:$F,0))*'I_OPEX Input'!$C$53)","v":{"$error":"#N/A"}},{"$f":"IF(J$11<($C$7+1),0,INDEX('C_OPEX Calc'!$N:$N,MATCH('C_Warranty NPV'!$B79,'C_OPEX Calc'!$F:$F,0))*'I_OPEX Input'!$C$53)","v":{"$error":"#N/A"}},{"$f":"IF(K$11<($C$7+1),0,INDEX('C_OPEX Calc'!$N:$N,MATCH('C_Warranty NPV'!$B79,'C_OPEX Calc'!$F:$F,0))*'I_OPEX Input'!$C$53)","v":{"$error":"#N/A"}},{"$f":"IF(L$11<($C$7+1),0,INDEX('C_OPEX Calc'!$N:$N,MATCH('C_Warranty NPV'!$B79,'C_OPEX Calc'!$F:$F,0))*'I_OPEX Input'!$C$53)","v":{"$error":"#N/A"}},{"$f":"IF(M$11<($C$7+1),0,INDEX('C_OPEX Calc'!$N:$N,MATCH('C_Warranty NPV'!$B79,'C_OPEX Calc'!$F:$F,0))*'I_OPEX Input'!$C$53)","v":{"$error":"#N/A"}},{"$f":"NPV('C_Warranty NPV'!$C$6,'C_Warranty NPV'!D79:M79)/10 * $C$5","v":{"$error":"#N/A"}}]
[null,null,{"$f":"VLOOKUP(B80,I_CAPEX!V:AC,2,FALSE)","v":{"$error":"#N/A"}},{"$f":"IF(D$11<($C$7+1),0,INDEX('C_OPEX Calc'!$N:$N,MATCH('C_Warranty NPV'!$B80,'C_OPEX Calc'!$F:$F,0))*'I_OPEX Input'!$C$53)","v":{"$error":"#N/A"}},{"$f":"IF(E$11<($C$7+1),0,INDEX('C_OPEX Calc'!$N:$N,MATCH('C_Warranty NPV'!$B80,'C_OPEX Calc'!$F:$F,0))*'I_OPEX Input'!$C$53)","v":{"$error":"#N/A"}},{"$f":"IF(F$11<($C$7+1),0,INDEX('C_OPEX Calc'!$N:$N,MATCH('C_Warranty NPV'!$B80,'C_OPEX Calc'!$F:$F,0))*'I_OPEX Input'!$C$53)","v":{"$error":"#N/A"}},{"$f":"IF(G$11<($C$7+1),0,INDEX('C_OPEX Calc'!$N:$N,MATCH('C_Warranty NPV'!$B80,'C_OPEX Calc'!$F:$F,0))*'I_OPEX Input'!$C$53)","v":{"$error":"#N/A"}},{"$f":"IF(H$11<($C$7+1),0,INDEX('C_OPEX Calc'!$N:$N,MATCH('C_Warranty NPV'!$B80,'C_OPEX Calc'!$F:$F,0))*'I_OPEX Input'!$C$53)","v":{"$error":"#N/A"}},{"$f":"IF(I$11<($C$7+1),0,INDEX('C_OPEX Calc'!$N:$N,MATCH('C_Warranty NPV'!$B80,'C_OPEX Calc'!$F:$F,0))*'I_OPEX Input'!$C$53)","v":{"$error":"#N/A"}},{"$f":"IF(J$11<($C$7+1),0,INDEX('C_OPEX Calc'!$N:$N,MATCH('C_Warranty NPV'!$B80,'C_OPEX Calc'!$F:$F,0))*'I_OPEX Input'!$C$53)","v":{"$error":"#N/A"}},{"$f":"IF(K$11<($C$7+1),0,INDEX('C_OPEX Calc'!$N:$N,MATCH('C_Warranty NPV'!$B80,'C_OPEX Calc'!$F:$F,0))*'I_OPEX Input'!$C$53)","v":{"$error":"#N/A"}},{"$f":"IF(L$11<($C$7+1),0,INDEX('C_OPEX Calc'!$N:$N,MATCH('C_Warranty NPV'!$B80,'C_OPEX Calc'!$F:$F,0))*'I_OPEX Input'!$C$53)","v":{"$error":"#N/A"}},{"$f":"IF(M$11<($C$7+1),0,INDEX('C_OPEX Calc'!$N:$N,MATCH('C_Warranty NPV'!$B80,'C_OPEX Calc'!$F:$F,0))*'I_OPEX Input'!$C$53)","v":{"$error":"#N/A"}},{"$f":"NPV('C_Warranty NPV'!$C$6,'C_Warranty NPV'!D80:M80)/10 * $C$5","v":{"$error":"#N/A"}}]
[null,null,{"$f":"VLOOKUP(B81,I_CAPEX!V:AC,2,FALSE)","v":{"$error":"#N/A"}},{"$f":"IF(D$11<($C$7+1),0,INDEX('C_OPEX Calc'!$N:$N,MATCH('C_Warranty NPV'!$B81,'C_OPEX Calc'!$F:$F,0))*'I_OPEX Input'!$C$53)","v":{"$error":"#N/A"}},{"$f":"IF(E$11<($C$7+1),0,INDEX('C_OPEX Calc'!$N:$N,MATCH('C_Warranty NPV'!$B81,'C_OPEX Calc'!$F:$F,0))*'I_OPEX Input'!$C$53)","v":{"$error":"#N/A"}},{"$f":"IF(F$11<($C$7+1),0,INDEX('C_OPEX Calc'!$N:$N,MATCH('C_Warranty NPV'!$B81,'C_OPEX Calc'!$F:$F,0))*'I_OPEX Input'!$C$53)","v":{"$error":"#N/A"}},{"$f":"IF(G$11<($C$7+1),0,INDEX('C_OPEX Calc'!$N:$N,MATCH('C_Warranty NPV'!$B81,'C_OPEX Calc'!$F:$F,0))*'I_OPEX Input'!$C$53)","v":{"$error":"#N/A"}},{"$f":"IF(H$11<($C$7+1),0,INDEX('C_OPEX Calc'!$N:$N,MATCH('C_Warranty NPV'!$B81,'C_OPEX Calc'!$F:$F,0))*'I_OPEX Input'!$C$53)","v":{"$error":"#N/A"}},{"$f":"IF(I$11<($C$7+1),0,INDEX('C_OPEX Calc'!$N:$N,MATCH('C_Warranty NPV'!$B81,'C_OPEX Calc'!$F:$F,0))*'I_OPEX Input'!$C$53)","v":{"$error":"#N/A"}},{"$f":"IF(J$11<($C$7+1),0,INDEX('C_OPEX Calc'!$N:$N,MATCH('C_Warranty NPV'!$B81,'C_OPEX Calc'!$F:$F,0))*'I_OPEX Input'!$C$53)","v":{"$error":"#N/A"}},{"$f":"IF(K$11<($C$7+1),0,INDEX('C_OPEX Calc'!$N:$N,MATCH('C_Warranty NPV'!$B81,'C_OPEX Calc'!$F:$F,0))*'I_OPEX Input'!$C$53)","v":{"$error":"#N/A"}},{"$f":"IF(L$11<($C$7+1),0,INDEX('C_OPEX Calc'!$N:$N,MATCH('C_Warranty NPV'!$B81,'C_OPEX Calc'!$F:$F,0))*'I_OPEX Input'!$C$53)","v":{"$error":"#N/A"}},{"$f":"IF(M$11<($C$7+1),0,INDEX('C_OPEX Calc'!$N:$N,MATCH('C_Warranty NPV'!$B81,'C_OPEX Calc'!$F:$F,0))*'I_OPEX Input'!$C$53)","v":{"$error":"#N/A"}},{"$f":"NPV('C_Warranty NPV'!$C$6,'C_Warranty NPV'!D81:M81)/10 * $C$5","v":{"$error":"#N/A"}}]
[null,null,{"$f":"VLOOKUP(B82,I_CAPEX!V:AC,2,FALSE)","v":{"$error":"#N/A"}},{"$f":"IF(D$11<($C$7+1),0,INDEX('C_OPEX Calc'!$N:$N,MATCH('C_Warranty NPV'!$B82,'C_OPEX Calc'!$F:$F,0))*'I_OPEX Input'!$C$53)","v":{"$error":"#N/A"}},{"$f":"IF(E$11<($C$7+1),0,INDEX('C_OPEX Calc'!$N:$N,MATCH('C_Warranty NPV'!$B82,'C_OPEX Calc'!$F:$F,0))*'I_OPEX Input'!$C$53)","v":{"$error":"#N/A"}},{"$f":"IF(F$11<($C$7+1),0,INDEX('C_OPEX Calc'!$N:$N,MATCH('C_Warranty NPV'!$B82,'C_OPEX Calc'!$F:$F,0))*'I_OPEX Input'!$C$53)","v":{"$error":"#N/A"}},{"$f":"IF(G$11<($C$7+1),0,INDEX('C_OPEX Calc'!$N:$N,MATCH('C_Warranty NPV'!$B82,'C_OPEX Calc'!$F:$F,0))*'I_OPEX Input'!$C$53)","v":{"$error":"#N/A"}},{"$f":"IF(H$11<($C$7+1),0,INDEX('C_OPEX Calc'!$N:$N,MATCH('C_Warranty NPV'!$B82,'C_OPEX Calc'!$F:$F,0))*'I_OPEX Input'!$C$53)","v":{"$error":"#N/A"}},{"$f":"IF(I$11<($C$7+1),0,INDEX('C_OPEX Calc'!$N:$N,MATCH('C_Warranty NPV'!$B82,'C_OPEX Calc'!$F:$F,0))*'I_OPEX Input'!$C$53)","v":{"$error":"#N/A"}},{"$f":"IF(J$11<($C$7+1),0,INDEX('C_OPEX Calc'!$N:$N,MATCH('C_Warranty NPV'!$B82,'C_OPEX Calc'!$F:$F,0))*'I_OPEX Input'!$C$53)","v":{"$error":"#N/A"}},{"$f":"IF(K$11<($C$7+1),0,INDEX('C_OPEX Calc'!$N:$N,MATCH('C_Warranty NPV'!$B82,'C_OPEX Calc'!$F:$F,0))*'I_OPEX Input'!$C$53)","v":{"$error":"#N/A"}},{"$f":"IF(L$11<($C$7+1),0,INDEX('C_OPEX Calc'!$N:$N,MATCH('C_Warranty NPV'!$B82,'C_OPEX Calc'!$F:$F,0))*'I_OPEX Input'!$C$53)","v":{"$error":"#N/A"}},{"$f":"IF(M$11<($C$7+1),0,INDEX('C_OPEX Calc'!$N:$N,MATCH('C_Warranty NPV'!$B82,'C_OPEX Calc'!$F:$F,0))*'I_OPEX Input'!$C$53)","v":{"$error":"#N/A"}},{"$f":"NPV('C_Warranty NPV'!$C$6,'C_Warranty NPV'!D82:M82)/10 * $C$5","v":{"$error":"#N/A"}}]
[null,null,{"$f":"VLOOKUP(B83,I_CAPEX!V:AC,2,FALSE)","v":{"$error":"#N/A"}},{"$f":"IF(D$11<($C$7+1),0,INDEX('C_OPEX Calc'!$N:$N,MATCH('C_Warranty NPV'!$B83,'C_OPEX Calc'!$F:$F,0))*'I_OPEX Input'!$C$53)","v":{"$error":"#N/A"}},{"$f":"IF(E$11<($C$7+1),0,INDEX('C_OPEX Calc'!$N:$N,MATCH('C_Warranty NPV'!$B83,'C_OPEX Calc'!$F:$F,0))*'I_OPEX Input'!$C$53)","v":{"$error":"#N/A"}},{"$f":"IF(F$11<($C$7+1),0,INDEX('C_OPEX Calc'!$N:$N,MATCH('C_Warranty NPV'!$B83,'C_OPEX Calc'!$F:$F,0))*'I_OPEX Input'!$C$53)","v":{"$error":"#N/A"}},{"$f":"IF(G$11<($C$7+1),0,INDEX('C_OPEX Calc'!$N:$N,MATCH('C_Warranty NPV'!$B83,'C_OPEX Calc'!$F:$F,0))*'I_OPEX Input'!$C$53)","v":{"$error":"#N/A"}},{"$f":"IF(H$11<($C$7+1),0,INDEX('C_OPEX Calc'!$N:$N,MATCH('C_Warranty NPV'!$B83,'C_OPEX Calc'!$F:$F,0))*'I_OPEX Input'!$C$53)","v":{"$error":"#N/A"}},{"$f":"IF(I$11<($C$7+1),0,INDEX('C_OPEX Calc'!$N:$N,MATCH('C_Warranty NPV'!$B83,'C_OPEX Calc'!$F:$F,0))*'I_OPEX Input'!$C$53)","v":{"$error":"#N/A"}},{"$f":"IF(J$11<($C$7+1),0,INDEX('C_OPEX Calc'!$N:$N,MATCH('C_Warranty NPV'!$B83,'C_OPEX Calc'!$F:$F,0))*'I_OPEX Input'!$C$53)","v":{"$error":"#N/A"}},{"$f":"IF(K$11<($C$7+1),0,INDEX('C_OPEX Calc'!$N:$N,MATCH('C_Warranty NPV'!$B83,'C_OPEX Calc'!$F:$F,0))*'I_OPEX Input'!$C$53)","v":{"$error":"#N/A"}},{"$f":"IF(L$11<($C$7+1),0,INDEX('C_OPEX Calc'!$N:$N,MATCH('C_Warranty NPV'!$B83,'C_OPEX Calc'!$F:$F,0))*'I_OPEX Input'!$C$53)","v":{"$error":"#N/A"}},{"$f":"IF(M$11<($C$7+1),0,INDEX('C_OPEX Calc'!$N:$N,MATCH('C_Warranty NPV'!$B83,'C_OPEX Calc'!$F:$F,0))*'I_OPEX Input'!$C$53)","v":{"$error":"#N/A"}},{"$f":"NPV('C_Warranty NPV'!$C$6,'C_Warranty NPV'!D83:M83)/10 * $C$5","v":{"$error":"#N/A"}}]
[null,null,{"$f":"VLOOKUP(B84,I_CAPEX!V:AC,2,FALSE)","v":{"$error":"#N/A"}},{"$f":"IF(D$11<($C$7+1),0,INDEX('C_OPEX Calc'!$N:$N,MATCH('C_Warranty NPV'!$B84,'C_OPEX Calc'!$F:$F,0))*'I_OPEX Input'!$C$53)","v":{"$error":"#N/A"}},{"$f":"IF(E$11<($C$7+1),0,INDEX('C_OPEX Calc'!$N:$N,MATCH('C_Warranty NPV'!$B84,'C_OPEX Calc'!$F:$F,0))*'I_OPEX Input'!$C$53)","v":{"$error":"#N/A"}},{"$f":"IF(F$11<($C$7+1),0,INDEX('C_OPEX Calc'!$N:$N,MATCH('C_Warranty NPV'!$B84,'C_OPEX Calc'!$F:$F,0))*'I_OPEX Input'!$C$53)","v":{"$error":"#N/A"}},{"$f":"IF(G$11<($C$7+1),0,INDEX('C_OPEX Calc'!$N:$N,MATCH('C_Warranty NPV'!$B84,'C_OPEX Calc'!$F:$F,0))*'I_OPEX Input'!$C$53)","v":{"$error":"#N/A"}},{"$f":"IF(H$11<($C$7+1),0,INDEX('C_OPEX Calc'!$N:$N,MATCH('C_Warranty NPV'!$B84,'C_OPEX Calc'!$F:$F,0))*'I_OPEX Input'!$C$53)","v":{"$error":"#N/A"}},{"$f":"IF(I$11<($C$7+1),0,INDEX('C_OPEX Calc'!$N:$N,MATCH('C_Warranty NPV'!$B84,'C_OPEX Calc'!$F:$F,0))*'I_OPEX Input'!$C$53)","v":{"$error":"#N/A"}},{"$f":"IF(J$11<($C$7+1),0,INDEX('C_OPEX Calc'!$N:$N,MATCH('C_Warranty NPV'!$B84,'C_OPEX Calc'!$F:$F,0))*'I_OPEX Input'!$C$53)","v":{"$error":"#N/A"}},{"$f":"IF(K$11<($C$7+1),0,INDEX('C_OPEX Calc'!$N:$N,MATCH('C_Warranty NPV'!$B84,'C_OPEX Calc'!$F:$F,0))*'I_OPEX Input'!$C$53)","v":{"$error":"#N/A"}},{"$f":"IF(L$11<($C$7+1),0,INDEX('C_OPEX Calc'!$N:$N,MATCH('C_Warranty NPV'!$B84,'C_OPEX Calc'!$F:$F,0))*'I_OPEX Input'!$C$53)","v":{"$error":"#N/A"}},{"$f":"IF(M$11<($C$7+1),0,INDEX('C_OPEX Calc'!$N:$N,MATCH('C_Warranty NPV'!$B84,'C_OPEX Calc'!$F:$F,0))*'I_OPEX Input'!$C$53)","v":{"$error":"#N/A"}},{"$f":"NPV('C_Warranty NPV'!$C$6,'C_Warranty NPV'!D84:M84)/10 * $C$5","v":{"$error":"#N/A"}}]
[null,null,{"$f":"VLOOKUP(B85,I_CAPEX!V:AC,2,FALSE)","v":{"$error":"#N/A"}},{"$f":"IF(D$11<($C$7+1),0,INDEX('C_OPEX Calc'!$N:$N,MATCH('C_Warranty NPV'!$B85,'C_OPEX Calc'!$F:$F,0))*'I_OPEX Input'!$C$53)","v":{"$error":"#N/A"}},{"$f":"IF(E$11<($C$7+1),0,INDEX('C_OPEX Calc'!$N:$N,MATCH('C_Warranty NPV'!$B85,'C_OPEX Calc'!$F:$F,0))*'I_OPEX Input'!$C$53)","v":{"$error":"#N/A"}},{"$f":"IF(F$11<($C$7+1),0,INDEX('C_OPEX Calc'!$N:$N,MATCH('C_Warranty NPV'!$B85,'C_OPEX Calc'!$F:$F,0))*'I_OPEX Input'!$C$53)","v":{"$error":"#N/A"}},{"$f":"IF(G$11<($C$7+1),0,INDEX('C_OPEX Calc'!$N:$N,MATCH('C_Warranty NPV'!$B85,'C_OPEX Calc'!$F:$F,0))*'I_OPEX Input'!$C$53)","v":{"$error":"#N/A"}},{"$f":"IF(H$11<($C$7+1),0,INDEX('C_OPEX Calc'!$N:$N,MATCH('C_Warranty NPV'!$B85,'C_OPEX Calc'!$F:$F,0))*'I_OPEX Input'!$C$53)","v":{"$error":"#N/A"}},{"$f":"IF(I$11<($C$7+1),0,INDEX('C_OPEX Calc'!$N:$N,MATCH('C_Warranty NPV'!$B85,'C_OPEX Calc'!$F:$F,0))*'I_OPEX Input'!$C$53)","v":{"$error":"#N/A"}},{"$f":"IF(J$11<($C$7+1),0,INDEX('C_OPEX Calc'!$N:$N,MATCH('C_Warranty NPV'!$B85,'C_OPEX Calc'!$F:$F,0))*'I_OPEX Input'!$C$53)","v":{"$error":"#N/A"}},{"$f":"IF(K$11<($C$7+1),0,INDEX('C_OPEX Calc'!$N:$N,MATCH('C_Warranty NPV'!$B85,'C_OPEX Calc'!$F:$F,0))*'I_OPEX Input'!$C$53)","v":{"$error":"#N/A"}},{"$f":"IF(L$11<($C$7+1),0,INDEX('C_OPEX Calc'!$N:$N,MATCH('C_Warranty NPV'!$B85,'C_OPEX Calc'!$F:$F,0))*'I_OPEX Input'!$C$53)","v":{"$error":"#N/A"}},{"$f":"IF(M$11<($C$7+1),0,INDEX('C_OPEX Calc'!$N:$N,MATCH('C_Warranty NPV'!$B85,'C_OPEX Calc'!$F:$F,0))*'I_OPEX Input'!$C$53)","v":{"$error":"#N/A"}},{"$f":"NPV('C_Warranty NPV'!$C$6,'C_Warranty NPV'!D85:M85)/10 * $C$5","v":{"$error":"#N/A"}}]
[null,null,{"$f":"VLOOKUP(B86,I_CAPEX!V:AC,2,FALSE)","v":{"$error":"#N/A"}},{"$f":"IF(D$11<($C$7+1),0,INDEX('C_OPEX Calc'!$N:$N,MATCH('C_Warranty NPV'!$B86,'C_OPEX Calc'!$F:$F,0))*'I_OPEX Input'!$C$53)","v":{"$error":"#N/A"}},{"$f":"IF(E$11<($C$7+1),0,INDEX('C_OPEX Calc'!$N:$N,MATCH('C_Warranty NPV'!$B86,'C_OPEX Calc'!$F:$F,0))*'I_OPEX Input'!$C$53)","v":{"$error":"#N/A"}},{"$f":"IF(F$11<($C$7+1),0,INDEX('C_OPEX Calc'!$N:$N,MATCH('C_Warranty NPV'!$B86,'C_OPEX Calc'!$F:$F,0))*'I_OPEX Input'!$C$53)","v":{"$error":"#N/A"}},{"$f":"IF(G$11<($C$7+1),0,INDEX('C_OPEX Calc'!$N:$N,MATCH('C_Warranty NPV'!$B86,'C_OPEX Calc'!$F:$F,0))*'I_OPEX Input'!$C$53)","v":{"$error":"#N/A"}},{"$f":"IF(H$11<($C$7+1),0,INDEX('C_OPEX Calc'!$N:$N,MATCH('C_Warranty NPV'!$B86,'C_OPEX Calc'!$F:$F,0))*'I_OPEX Input'!$C$53)","v":{"$error":"#N/A"}},{"$f":"IF(I$11<($C$7+1),0,INDEX('C_OPEX Calc'!$N:$N,MATCH('C_Warranty NPV'!$B86,'C_OPEX Calc'!$F:$F,0))*'I_OPEX Input'!$C$53)","v":{"$error":"#N/A"}},{"$f":"IF(J$11<($C$7+1),0,INDEX('C_OPEX Calc'!$N:$N,MATCH('C_Warranty NPV'!$B86,'C_OPEX Calc'!$F:$F,0))*'I_OPEX Input'!$C$53)","v":{"$error":"#N/A"}},{"$f":"IF(K$11<($C$7+1),0,INDEX('C_OPEX Calc'!$N:$N,MATCH('C_Warranty NPV'!$B86,'C_OPEX Calc'!$F:$F,0))*'I_OPEX Input'!$C$53)","v":{"$error":"#N/A"}},{"$f":"IF(L$11<($C$7+1),0,INDEX('C_OPEX Calc'!$N:$N,MATCH('C_Warranty NPV'!$B86,'C_OPEX Calc'!$F:$F,0))*'I_OPEX Input'!$C$53)","v":{"$error":"#N/A"}},{"$f":"IF(M$11<($C$7+1),0,INDEX('C_OPEX Calc'!$N:$N,MATCH('C_Warranty NPV'!$B86,'C_OPEX Calc'!$F:$F,0))*'I_OPEX Input'!$C$53)","v":{"$error":"#N/A"}},{"$f":"NPV('C_Warranty NPV'!$C$6,'C_Warranty NPV'!D86:M86)/10 * $C$5","v":{"$error":"#N/A"}}]
[null,null,{"$f":"VLOOKUP(B87,I_CAPEX!V:AC,2,FALSE)","v":{"$error":"#N/A"}},{"$f":"IF(D$11<($C$7+1),0,INDEX('C_OPEX Calc'!$N:$N,MATCH('C_Warranty NPV'!$B87,'C_OPEX Calc'!$F:$F,0))*'I_OPEX Input'!$C$53)","v":{"$error":"#N/A"}},{"$f":"IF(E$11<($C$7+1),0,INDEX('C_OPEX Calc'!$N:$N,MATCH('C_Warranty NPV'!$B87,'C_OPEX Calc'!$F:$F,0))*'I_OPEX Input'!$C$53)","v":{"$error":"#N/A"}},{"$f":"IF(F$11<($C$7+1),0,INDEX('C_OPEX Calc'!$N:$N,MATCH('C_Warranty NPV'!$B87,'C_OPEX Calc'!$F:$F,0))*'I_OPEX Input'!$C$53)","v":{"$error":"#N/A"}},{"$f":"IF(G$11<($C$7+1),0,INDEX('C_OPEX Calc'!$N:$N,MATCH('C_Warranty NPV'!$B87,'C_OPEX Calc'!$F:$F,0))*'I_OPEX Input'!$C$53)","v":{"$error":"#N/A"}},{"$f":"IF(H$11<($C$7+1),0,INDEX('C_OPEX Calc'!$N:$N,MATCH('C_Warranty NPV'!$B87,'C_OPEX Calc'!$F:$F,0))*'I_OPEX Input'!$C$53)","v":{"$error":"#N/A"}},{"$f":"IF(I$11<($C$7+1),0,INDEX('C_OPEX Calc'!$N:$N,MATCH('C_Warranty NPV'!$B87,'C_OPEX Calc'!$F:$F,0))*'I_OPEX Input'!$C$53)","v":{"$error":"#N/A"}},{"$f":"IF(J$11<($C$7+1),0,INDEX('C_OPEX Calc'!$N:$N,MATCH('C_Warranty NPV'!$B87,'C_OPEX Calc'!$F:$F,0))*'I_OPEX Input'!$C$53)","v":{"$error":"#N/A"}},{"$f":"IF(K$11<($C$7+1),0,INDEX('C_OPEX Calc'!$N:$N,MATCH('C_Warranty NPV'!$B87,'C_OPEX Calc'!$F:$F,0))*'I_OPEX Input'!$C$53)","v":{"$error":"#N/A"}},{"$f":"IF(L$11<($C$7+1),0,INDEX('C_OPEX Calc'!$N:$N,MATCH('C_Warranty NPV'!$B87,'C_OPEX Calc'!$F:$F,0))*'I_OPEX Input'!$C$53)","v":{"$error":"#N/A"}},{"$f":"IF(M$11<($C$7+1),0,INDEX('C_OPEX Calc'!$N:$N,MATCH('C_Warranty NPV'!$B87,'C_OPEX Calc'!$F:$F,0))*'I_OPEX Input'!$C$53)","v":{"$error":"#N/A"}},{"$f":"NPV('C_Warranty NPV'!$C$6,'C_Warranty NPV'!D87:M87)/10 * $C$5","v":{"$error":"#N/A"}}]
[null,null,{"$f":"VLOOKUP(B88,I_CAPEX!V:AC,2,FALSE)","v":{"$error":"#N/A"}},{"$f":"IF(D$11<($C$7+1),0,INDEX('C_OPEX Calc'!$N:$N,MATCH('C_Warranty NPV'!$B88,'C_OPEX Calc'!$F:$F,0))*'I_OPEX Input'!$C$53)","v":{"$error":"#N/A"}},{"$f":"IF(E$11<($C$7+1),0,INDEX('C_OPEX Calc'!$N:$N,MATCH('C_Warranty NPV'!$B88,'C_OPEX Calc'!$F:$F,0))*'I_OPEX Input'!$C$53)","v":{"$error":"#N/A"}},{"$f":"IF(F$11<($C$7+1),0,INDEX('C_OPEX Calc'!$N:$N,MATCH('C_Warranty NPV'!$B88,'C_OPEX Calc'!$F:$F,0))*'I_OPEX Input'!$C$53)","v":{"$error":"#N/A"}},{"$f":"IF(G$11<($C$7+1),0,INDEX('C_OPEX Calc'!$N:$N,MATCH('C_Warranty NPV'!$B88,'C_OPEX Calc'!$F:$F,0))*'I_OPEX Input'!$C$53)","v":{"$error":"#N/A"}},{"$f":"IF(H$11<($C$7+1),0,INDEX('C_OPEX Calc'!$N:$N,MATCH('C_Warranty NPV'!$B88,'C_OPEX Calc'!$F:$F,0))*'I_OPEX Input'!$C$53)","v":{"$error":"#N/A"}},{"$f":"IF(I$11<($C$7+1),0,INDEX('C_OPEX Calc'!$N:$N,MATCH('C_Warranty NPV'!$B88,'C_OPEX Calc'!$F:$F,0))*'I_OPEX Input'!$C$53)","v":{"$error":"#N/A"}},{"$f":"IF(J$11<($C$7+1),0,INDEX('C_OPEX Calc'!$N:$N,MATCH('C_Warranty NPV'!$B88,'C_OPEX Calc'!$F:$F,0))*'I_OPEX Input'!$C$53)","v":{"$error":"#N/A"}},{"$f":"IF(K$11<($C$7+1),0,INDEX('C_OPEX Calc'!$N:$N,MATCH('C_Warranty NPV'!$B88,'C_OPEX Calc'!$F:$F,0))*'I_OPEX Input'!$C$53)","v":{"$error":"#N/A"}},{"$f":"IF(L$11<($C$7+1),0,INDEX('C_OPEX Calc'!$N:$N,MATCH('C_Warranty NPV'!$B88,'C_OPEX Calc'!$F:$F,0))*'I_OPEX Input'!$C$53)","v":{"$error":"#N/A"}},{"$f":"IF(M$11<($C$7+1),0,INDEX('C_OPEX Calc'!$N:$N,MATCH('C_Warranty NPV'!$B88,'C_OPEX Calc'!$F:$F,0))*'I_OPEX Input'!$C$53)","v":{"$error":"#N/A"}},{"$f":"NPV('C_Warranty NPV'!$C$6,'C_Warranty NPV'!D88:M88)/10 * $C$5","v":{"$error":"#N/A"}}]
[null,null,{"$f":"VLOOKUP(B89,I_CAPEX!V:AC,2,FALSE)","v":{"$error":"#N/A"}},{"$f":"IF(D$11<($C$7+1),0,INDEX('C_OPEX Calc'!$N:$N,MATCH('C_Warranty NPV'!$B89,'C_OPEX Calc'!$F:$F,0))*'I_OPEX Input'!$C$53)","v":{"$error":"#N/A"}},{"$f":"IF(E$11<($C$7+1),0,INDEX('C_OPEX Calc'!$N:$N,MATCH('C_Warranty NPV'!$B89,'C_OPEX Calc'!$F:$F,0))*'I_OPEX Input'!$C$53)","v":{"$error":"#N/A"}},{"$f":"IF(F$11<($C$7+1),0,INDEX('C_OPEX Calc'!$N:$N,MATCH('C_Warranty NPV'!$B89,'C_OPEX Calc'!$F:$F,0))*'I_OPEX Input'!$C$53)","v":{"$error":"#N/A"}},{"$f":"IF(G$11<($C$7+1),0,INDEX('C_OPEX Calc'!$N:$N,MATCH('C_Warranty NPV'!$B89,'C_OPEX Calc'!$F:$F,0))*'I_OPEX Input'!$C$53)","v":{"$error":"#N/A"}},{"$f":"IF(H$11<($C$7+1),0,INDEX('C_OPEX Calc'!$N:$N,MATCH('C_Warranty NPV'!$B89,'C_OPEX Calc'!$F:$F,0))*'I_OPEX Input'!$C$53)","v":{"$error":"#N/A"}},{"$f":"IF(I$11<($C$7+1),0,INDEX('C_OPEX Calc'!$N:$N,MATCH('C_Warranty NPV'!$B89,'C_OPEX Calc'!$F:$F,0))*'I_OPEX Input'!$C$53)","v":{"$error":"#N/A"}},{"$f":"IF(J$11<($C$7+1),0,INDEX('C_OPEX Calc'!$N:$N,MATCH('C_Warranty NPV'!$B89,'C_OPEX Calc'!$F:$F,0))*'I_OPEX Input'!$C$53)","v":{"$error":"#N/A"}},{"$f":"IF(K$11<($C$7+1),0,INDEX('C_OPEX Calc'!$N:$N,MATCH('C_Warranty NPV'!$B89,'C_OPEX Calc'!$F:$F,0))*'I_OPEX Input'!$C$53)","v":{"$error":"#N/A"}},{"$f":"IF(L$11<($C$7+1),0,INDEX('C_OPEX Calc'!$N:$N,MATCH('C_Warranty NPV'!$B89,'C_OPEX Calc'!$F:$F,0))*'I_OPEX Input'!$C$53)","v":{"$error":"#N/A"}},{"$f":"IF(M$11<($C$7+1),0,INDEX('C_OPEX Calc'!$N:$N,MATCH('C_Warranty NPV'!$B89,'C_OPEX Calc'!$F:$F,0))*'I_OPEX Input'!$C$53)","v":{"$error":"#N/A"}},{"$f":"NPV('C_Warranty NPV'!$C$6,'C_Warranty NPV'!D89:M89)/10 * $C$5","v":{"$error":"#N/A"}}]
[null,null,{"$f":"VLOOKUP(B90,I_CAPEX!V:AC,2,FALSE)","v":{"$error":"#N/A"}},{"$f":"IF(D$11<($C$7+1),0,INDEX('C_OPEX Calc'!$N:$N,MATCH('C_Warranty NPV'!$B90,'C_OPEX Calc'!$F:$F,0))*'I_OPEX Input'!$C$53)","v":{"$error":"#N/A"}},{"$f":"IF(E$11<($C$7+1),0,INDEX('C_OPEX Calc'!$N:$N,MATCH('C_Warranty NPV'!$B90,'C_OPEX Calc'!$F:$F,0))*'I_OPEX Input'!$C$53)","v":{"$error":"#N/A"}},{"$f":"IF(F$11<($C$7+1),0,INDEX('C_OPEX Calc'!$N:$N,MATCH('C_Warranty NPV'!$B90,'C_OPEX Calc'!$F:$F,0))*'I_OPEX Input'!$C$53)","v":{"$error":"#N/A"}},{"$f":"IF(G$11<($C$7+1),0,INDEX('C_OPEX Calc'!$N:$N,MATCH('C_Warranty NPV'!$B90,'C_OPEX Calc'!$F:$F,0))*'I_OPEX Input'!$C$53)","v":{"$error":"#N/A"}},{"$f":"IF(H$11<($C$7+1),0,INDEX('C_OPEX Calc'!$N:$N,MATCH('C_Warranty NPV'!$B90,'C_OPEX Calc'!$F:$F,0))*'I_OPEX Input'!$C$53)","v":{"$error":"#N/A"}},{"$f":"IF(I$11<($C$7+1),0,INDEX('C_OPEX Calc'!$N:$N,MATCH('C_Warranty NPV'!$B90,'C_OPEX Calc'!$F:$F,0))*'I_OPEX Input'!$C$53)","v":{"$error":"#N/A"}},{"$f":"IF(J$11<($C$7+1),0,INDEX('C_OPEX Calc'!$N:$N,MATCH('C_Warranty NPV'!$B90,'C_OPEX Calc'!$F:$F,0))*'I_OPEX Input'!$C$53)","v":{"$error":"#N/A"}},{"$f":"IF(K$11<($C$7+1),0,INDEX('C_OPEX Calc'!$N:$N,MATCH('C_Warranty NPV'!$B90,'C_OPEX Calc'!$F:$F,0))*'I_OPEX Input'!$C$53)","v":{"$error":"#N/A"}},{"$f":"IF(L$11<($C$7+1),0,INDEX('C_OPEX Calc'!$N:$N,MATCH('C_Warranty NPV'!$B90,'C_OPEX Calc'!$F:$F,0))*'I_OPEX Input'!$C$53)","v":{"$error":"#N/A"}},{"$f":"IF(M$11<($C$7+1),0,INDEX('C_OPEX Calc'!$N:$N,MATCH('C_Warranty NPV'!$B90,'C_OPEX Calc'!$F:$F,0))*'I_OPEX Input'!$C$53)","v":{"$error":"#N/A"}},{"$f":"NPV('C_Warranty NPV'!$C$6,'C_Warranty NPV'!D90:M90)/10 * $C$5","v":{"$error":"#N/A"}}]
[null,null,{"$f":"VLOOKUP(B91,I_CAPEX!V:AC,2,FALSE)","v":{"$error":"#N/A"}},{"$f":"IF(D$11<($C$7+1),0,INDEX('C_OPEX Calc'!$N:$N,MATCH('C_Warranty NPV'!$B91,'C_OPEX Calc'!$F:$F,0))*'I_OPEX Input'!$C$53)","v":{"$error":"#N/A"}},{"$f":"IF(E$11<($C$7+1),0,INDEX('C_OPEX Calc'!$N:$N,MATCH('C_Warranty NPV'!$B91,'C_OPEX Calc'!$F:$F,0))*'I_OPEX Input'!$C$53)","v":{"$error":"#N/A"}},{"$f":"IF(F$11<($C$7+1),0,INDEX('C_OPEX Calc'!$N:$N,MATCH('C_Warranty NPV'!$B91,'C_OPEX Calc'!$F:$F,0))*'I_OPEX Input'!$C$53)","v":{"$error":"#N/A"}},{"$f":"IF(G$11<($C$7+1),0,INDEX('C_OPEX Calc'!$N:$N,MATCH('C_Warranty NPV'!$B91,'C_OPEX Calc'!$F:$F,0))*'I_OPEX Input'!$C$53)","v":{"$error":"#N/A"}},{"$f":"IF(H$11<($C$7+1),0,INDEX('C_OPEX Calc'!$N:$N,MATCH('C_Warranty NPV'!$B91,'C_OPEX Calc'!$F:$F,0))*'I_OPEX Input'!$C$53)","v":{"$error":"#N/A"}},{"$f":"IF(I$11<($C$7+1),0,INDEX('C_OPEX Calc'!$N:$N,MATCH('C_Warranty NPV'!$B91,'C_OPEX Calc'!$F:$F,0))*'I_OPEX Input'!$C$53)","v":{"$error":"#N/A"}},{"$f":"IF(J$11<($C$7+1),0,INDEX('C_OPEX Calc'!$N:$N,MATCH('C_Warranty NPV'!$B91,'C_OPEX Calc'!$F:$F,0))*'I_OPEX Input'!$C$53)","v":{"$error":"#N/A"}},{"$f":"IF(K$11<($C$7+1),0,INDEX('C_OPEX Calc'!$N:$N,MATCH('C_Warranty NPV'!$B91,'C_OPEX Calc'!$F:$F,0))*'I_OPEX Input'!$C$53)","v":{"$error":"#N/A"}},{"$f":"IF(L$11<($C$7+1),0,INDEX('C_OPEX Calc'!$N:$N,MATCH('C_Warranty NPV'!$B91,'C_OPEX Calc'!$F:$F,0))*'I_OPEX Input'!$C$53)","v":{"$error":"#N/A"}},{"$f":"IF(M$11<($C$7+1),0,INDEX('C_OPEX Calc'!$N:$N,MATCH('C_Warranty NPV'!$B91,'C_OPEX Calc'!$F:$F,0))*'I_OPEX Input'!$C$53)","v":{"$error":"#N/A"}},{"$f":"NPV('C_Warranty NPV'!$C$6,'C_Warranty NPV'!D91:M91)/10 * $C$5","v":{"$error":"#N/A"}}]
[null,null,{"$f":"VLOOKUP(B92,I_CAPEX!V:AC,2,FALSE)","v":{"$error":"#N/A"}},{"$f":"IF(D$11<($C$7+1),0,INDEX('C_OPEX Calc'!$N:$N,MATCH('C_Warranty NPV'!$B92,'C_OPEX Calc'!$F:$F,0))*'I_OPEX Input'!$C$53)","v":{"$error":"#N/A"}},{"$f":"IF(E$11<($C$7+1),0,INDEX('C_OPEX Calc'!$N:$N,MATCH('C_Warranty NPV'!$B92,'C_OPEX Calc'!$F:$F,0))*'I_OPEX Input'!$C$53)","v":{"$error":"#N/A"}},{"$f":"IF(F$11<($C$7+1),0,INDEX('C_OPEX Calc'!$N:$N,MATCH('C_Warranty NPV'!$B92,'C_OPEX Calc'!$F:$F,0))*'I_OPEX Input'!$C$53)","v":{"$error":"#N/A"}},{"$f":"IF(G$11<($C$7+1),0,INDEX('C_OPEX Calc'!$N:$N,MATCH('C_Warranty NPV'!$B92,'C_OPEX Calc'!$F:$F,0))*'I_OPEX Input'!$C$53)","v":{"$error":"#N/A"}},{"$f":"IF(H$11<($C$7+1),0,INDEX('C_OPEX Calc'!$N:$N,MATCH('C_Warranty NPV'!$B92,'C_OPEX Calc'!$F:$F,0))*'I_OPEX Input'!$C$53)","v":{"$error":"#N/A"}},{"$f":"IF(I$11<($C$7+1),0,INDEX('C_OPEX Calc'!$N:$N,MATCH('C_Warranty NPV'!$B92,'C_OPEX Calc'!$F:$F,0))*'I_OPEX Input'!$C$53)","v":{"$error":"#N/A"}},{"$f":"IF(J$11<($C$7+1),0,INDEX('C_OPEX Calc'!$N:$N,MATCH('C_Warranty NPV'!$B92,'C_OPEX Calc'!$F:$F,0))*'I_OPEX Input'!$C$53)","v":{"$error":"#N/A"}},{"$f":"IF(K$11<($C$7+1),0,INDEX('C_OPEX Calc'!$N:$N,MATCH('C_Warranty NPV'!$B92,'C_OPEX Calc'!$F:$F,0))*'I_OPEX Input'!$C$53)","v":{"$error":"#N/A"}},{"$f":"IF(L$11<($C$7+1),0,INDEX('C_OPEX Calc'!$N:$N,MATCH('C_Warranty NPV'!$B92,'C_OPEX Calc'!$F:$F,0))*'I_OPEX Input'!$C$53)","v":{"$error":"#N/A"}},{"$f":"IF(M$11<($C$7+1),0,INDEX('C_OPEX Calc'!$N:$N,MATCH('C_Warranty NPV'!$B92,'C_OPEX Calc'!$F:$F,0))*'I_OPEX Input'!$C$53)","v":{"$error":"#N/A"}},{"$f":"NPV('C_Warranty NPV'!$C$6,'C_Warranty NPV'!D92:M92)/10 * $C$5","v":{"$error":"#N/A"}}]
[null,null,{"$f":"VLOOKUP(B93,I_CAPEX!V:AC,2,FALSE)","v":{"$error":"#N/A"}},{"$f":"IF(D$11<($C$7+1),0,INDEX('C_OPEX Calc'!$N:$N,MATCH('C_Warranty NPV'!$B93,'C_OPEX Calc'!$F:$F,0))*'I_OPEX Input'!$C$53)","v":{"$error":"#N/A"}},{"$f":"IF(E$11<($C$7+1),0,INDEX('C_OPEX Calc'!$N:$N,MATCH('C_Warranty NPV'!$B93,'C_OPEX Calc'!$F:$F,0))*'I_OPEX Input'!$C$53)","v":{"$error":"#N/A"}},{"$f":"IF(F$11<($C$7+1),0,INDEX('C_OPEX Calc'!$N:$N,MATCH('C_Warranty NPV'!$B93,'C_OPEX Calc'!$F:$F,0))*'I_OPEX Input'!$C$53)","v":{"$error":"#N/A"}},{"$f":"IF(G$11<($C$7+1),0,INDEX('C_OPEX Calc'!$N:$N,MATCH('C_Warranty NPV'!$B93,'C_OPEX Calc'!$F:$F,0))*'I_OPEX Input'!$C$53)","v":{"$error":"#N/A"}},{"$f":"IF(H$11<($C$7+1),0,INDEX('C_OPEX Calc'!$N:$N,MATCH('C_Warranty NPV'!$B93,'C_OPEX Calc'!$F:$F,0))*'I_OPEX Input'!$C$53)","v":{"$error":"#N/A"}},{"$f":"IF(I$11<($C$7+1),0,INDEX('C_OPEX Calc'!$N:$N,MATCH('C_Warranty NPV'!$B93,'C_OPEX Calc'!$F:$F,0))*'I_OPEX Input'!$C$53)","v":{"$error":"#N/A"}},{"$f":"IF(J$11<($C$7+1),0,INDEX('C_OPEX Calc'!$N:$N,MATCH('C_Warranty NPV'!$B93,'C_OPEX Calc'!$F:$F,0))*'I_OPEX Input'!$C$53)","v":{"$error":"#N/A"}},{"$f":"IF(K$11<($C$7+1),0,INDEX('C_OPEX Calc'!$N:$N,MATCH('C_Warranty NPV'!$B93,'C_OPEX Calc'!$F:$F,0))*'I_OPEX Input'!$C$53)","v":{"$error":"#N/A"}},{"$f":"IF(L$11<($C$7+1),0,INDEX('C_OPEX Calc'!$N:$N,MATCH('C_Warranty NPV'!$B93,'C_OPEX Calc'!$F:$F,0))*'I_OPEX Input'!$C$53)","v":{"$error":"#N/A"}},{"$f":"IF(M$11<($C$7+1),0,INDEX('C_OPEX Calc'!$N:$N,MATCH('C_Warranty NPV'!$B93,'C_OPEX Calc'!$F:$F,0))*'I_OPEX Input'!$C$53)","v":{"$error":"#N/A"}},{"$f":"NPV('C_Warranty NPV'!$C$6,'C_Warranty NPV'!D93:M93)/10 * $C$5","v":{"$error":"#N/A"}}]
[null,null,{"$f":"VLOOKUP(B94,I_CAPEX!V:AC,2,FALSE)","v":{"$error":"#N/A"}},{"$f":"IF(D$11<($C$7+1),0,INDEX('C_OPEX Calc'!$N:$N,MATCH('C_Warranty NPV'!$B94,'C_OPEX Calc'!$F:$F,0))*'I_OPEX Input'!$C$53)","v":{"$error":"#N/A"}},{"$f":"IF(E$11<($C$7+1),0,INDEX('C_OPEX Calc'!$N:$N,MATCH('C_Warranty NPV'!$B94,'C_OPEX Calc'!$F:$F,0))*'I_OPEX Input'!$C$53)","v":{"$error":"#N/A"}},{"$f":"IF(F$11<($C$7+1),0,INDEX('C_OPEX Calc'!$N:$N,MATCH('C_Warranty NPV'!$B94,'C_OPEX Calc'!$F:$F,0))*'I_OPEX Input'!$C$53)","v":{"$error":"#N/A"}},{"$f":"IF(G$11<($C$7+1),0,INDEX('C_OPEX Calc'!$N:$N,MATCH('C_Warranty NPV'!$B94,'C_OPEX Calc'!$F:$F,0))*'I_OPEX Input'!$C$53)","v":{"$error":"#N/A"}},{"$f":"IF(H$11<($C$7+1),0,INDEX('C_OPEX Calc'!$N:$N,MATCH('C_Warranty NPV'!$B94,'C_OPEX Calc'!$F:$F,0))*'I_OPEX Input'!$C$53)","v":{"$error":"#N/A"}},{"$f":"IF(I$11<($C$7+1),0,INDEX('C_OPEX Calc'!$N:$N,MATCH('C_Warranty NPV'!$B94,'C_OPEX Calc'!$F:$F,0))*'I_OPEX Input'!$C$53)","v":{"$error":"#N/A"}},{"$f":"IF(J$11<($C$7+1),0,INDEX('C_OPEX Calc'!$N:$N,MATCH('C_Warranty NPV'!$B94,'C_OPEX Calc'!$F:$F,0))*'I_OPEX Input'!$C$53)","v":{"$error":"#N/A"}},{"$f":"IF(K$11<($C$7+1),0,INDEX('C_OPEX Calc'!$N:$N,MATCH('C_Warranty NPV'!$B94,'C_OPEX Calc'!$F:$F,0))*'I_OPEX Input'!$C$53)","v":{"$error":"#N/A"}},{"$f":"IF(L$11<($C$7+1),0,INDEX('C_OPEX Calc'!$N:$N,MATCH('C_Warranty NPV'!$B94,'C_OPEX Calc'!$F:$F,0))*'I_OPEX Input'!$C$53)","v":{"$error":"#N/A"}},{"$f":"IF(M$11<($C$7+1),0,INDEX('C_OPEX Calc'!$N:$N,MATCH('C_Warranty NPV'!$B94,'C_OPEX Calc'!$F:$F,0))*'I_OPEX Input'!$C$53)","v":{"$error":"#N/A"}},{"$f":"NPV('C_Warranty NPV'!$C$6,'C_Warranty NPV'!D94:M94)/10 * $C$5","v":{"$error":"#N/A"}}]
[null,null,{"$f":"VLOOKUP(B95,I_CAPEX!V:AC,2,FALSE)","v":{"$error":"#N/A"}},{"$f":"IF(D$11<($C$7+1),0,INDEX('C_OPEX Calc'!$N:$N,MATCH('C_Warranty NPV'!$B95,'C_OPEX Calc'!$F:$F,0))*'I_OPEX Input'!$C$53)","v":{"$error":"#N/A"}},{"$f":"IF(E$11<($C$7+1),0,INDEX('C_OPEX Calc'!$N:$N,MATCH('C_Warranty NPV'!$B95,'C_OPEX Calc'!$F:$F,0))*'I_OPEX Input'!$C$53)","v":{"$error":"#N/A"}},{"$f":"IF(F$11<($C$7+1),0,INDEX('C_OPEX Calc'!$N:$N,MATCH('C_Warranty NPV'!$B95,'C_OPEX Calc'!$F:$F,0))*'I_OPEX Input'!$C$53)","v":{"$error":"#N/A"}},{"$f":"IF(G$11<($C$7+1),0,INDEX('C_OPEX Calc'!$N:$N,MATCH('C_Warranty NPV'!$B95,'C_OPEX Calc'!$F:$F,0))*'I_OPEX Input'!$C$53)","v":{"$error":"#N/A"}},{"$f":"IF(H$11<($C$7+1),0,INDEX('C_OPEX Calc'!$N:$N,MATCH('C_Warranty NPV'!$B95,'C_OPEX Calc'!$F:$F,0))*'I_OPEX Input'!$C$53)","v":{"$error":"#N/A"}},{"$f":"IF(I$11<($C$7+1),0,INDEX('C_OPEX Calc'!$N:$N,MATCH('C_Warranty NPV'!$B95,'C_OPEX Calc'!$F:$F,0))*'I_OPEX Input'!$C$53)","v":{"$error":"#N/A"}},{"$f":"IF(J$11<($C$7+1),0,INDEX('C_OPEX Calc'!$N:$N,MATCH('C_Warranty NPV'!$B95,'C_OPEX Calc'!$F:$F,0))*'I_OPEX Input'!$C$53)","v":{"$error":"#N/A"}},{"$f":"IF(K$11<($C$7+1),0,INDEX('C_OPEX Calc'!$N:$N,MATCH('C_Warranty NPV'!$B95,'C_OPEX Calc'!$F:$F,0))*'I_OPEX Input'!$C$53)","v":{"$error":"#N/A"}},{"$f":"IF(L$11<($C$7+1),0,INDEX('C_OPEX Calc'!$N:$N,MATCH('C_Warranty NPV'!$B95,'C_OPEX Calc'!$F:$F,0))*'I_OPEX Input'!$C$53)","v":{"$error":"#N/A"}},{"$f":"IF(M$11<($C$7+1),0,INDEX('C_OPEX Calc'!$N:$N,MATCH('C_Warranty NPV'!$B95,'C_OPEX Calc'!$F:$F,0))*'I_OPEX Input'!$C$53)","v":{"$error":"#N/A"}},{"$f":"NPV('C_Warranty NPV'!$C$6,'C_Warranty NPV'!D95:M95)/10 * $C$5","v":{"$error":"#N/A"}}]
[null,null,{"$f":"VLOOKUP(B96,I_CAPEX!V:AC,2,FALSE)","v":{"$error":"#N/A"}},{"$f":"IF(D$11<($C$7+1),0,INDEX('C_OPEX Calc'!$N:$N,MATCH('C_Warranty NPV'!$B96,'C_OPEX Calc'!$F:$F,0))*'I_OPEX Input'!$C$53)","v":{"$error":"#N/A"}},{"$f":"IF(E$11<($C$7+1),0,INDEX('C_OPEX Calc'!$N:$N,MATCH('C_Warranty NPV'!$B96,'C_OPEX Calc'!$F:$F,0))*'I_OPEX Input'!$C$53)","v":{"$error":"#N/A"}},{"$f":"IF(F$11<($C$7+1),0,INDEX('C_OPEX Calc'!$N:$N,MATCH('C_Warranty NPV'!$B96,'C_OPEX Calc'!$F:$F,0))*'I_OPEX Input'!$C$53)","v":{"$error":"#N/A"}},{"$f":"IF(G$11<($C$7+1),0,INDEX('C_OPEX Calc'!$N:$N,MATCH('C_Warranty NPV'!$B96,'C_OPEX Calc'!$F:$F,0))*'I_OPEX Input'!$C$53)","v":{"$error":"#N/A"}},{"$f":"IF(H$11<($C$7+1),0,INDEX('C_OPEX Calc'!$N:$N,MATCH('C_Warranty NPV'!$B96,'C_OPEX Calc'!$F:$F,0))*'I_OPEX Input'!$C$53)","v":{"$error":"#N/A"}},{"$f":"IF(I$11<($C$7+1),0,INDEX('C_OPEX Calc'!$N:$N,MATCH('C_Warranty NPV'!$B96,'C_OPEX Calc'!$F:$F,0))*'I_OPEX Input'!$C$53)","v":{"$error":"#N/A"}},{"$f":"IF(J$11<($C$7+1),0,INDEX('C_OPEX Calc'!$N:$N,MATCH('C_Warranty NPV'!$B96,'C_OPEX Calc'!$F:$F,0))*'I_OPEX Input'!$C$53)","v":{"$error":"#N/A"}},{"$f":"IF(K$11<($C$7+1),0,INDEX('C_OPEX Calc'!$N:$N,MATCH('C_Warranty NPV'!$B96,'C_OPEX Calc'!$F:$F,0))*'I_OPEX Input'!$C$53)","v":{"$error":"#N/A"}},{"$f":"IF(L$11<($C$7+1),0,INDEX('C_OPEX Calc'!$N:$N,MATCH('C_Warranty NPV'!$B96,'C_OPEX Calc'!$F:$F,0))*'I_OPEX Input'!$C$53)","v":{"$error":"#N/A"}},{"$f":"IF(M$11<($C$7+1),0,INDEX('C_OPEX Calc'!$N:$N,MATCH('C_Warranty NPV'!$B96,'C_OPEX Calc'!$F:$F,0))*'I_OPEX Input'!$C$53)","v":{"$error":"#N/A"}},{"$f":"NPV('C_Warranty NPV'!$C$6,'C_Warranty NPV'!D96:M96)/10 * $C$5","v":{"$error":"#N/A"}}]
[null,null,{"$f":"VLOOKUP(B97,I_CAPEX!V:AC,2,FALSE)","v":{"$error":"#N/A"}},{"$f":"IF(D$11<($C$7+1),0,INDEX('C_OPEX Calc'!$N:$N,MATCH('C_Warranty NPV'!$B97,'C_OPEX Calc'!$F:$F,0))*'I_OPEX Input'!$C$53)","v":{"$error":"#N/A"}},{"$f":"IF(E$11<($C$7+1),0,INDEX('C_OPEX Calc'!$N:$N,MATCH('C_Warranty NPV'!$B97,'C_OPEX Calc'!$F:$F,0))*'I_OPEX Input'!$C$53)","v":{"$error":"#N/A"}},{"$f":"IF(F$11<($C$7+1),0,INDEX('C_OPEX Calc'!$N:$N,MATCH('C_Warranty NPV'!$B97,'C_OPEX Calc'!$F:$F,0))*'I_OPEX Input'!$C$53)","v":{"$error":"#N/A"}},{"$f":"IF(G$11<($C$7+1),0,INDEX('C_OPEX Calc'!$N:$N,MATCH('C_Warranty NPV'!$B97,'C_OPEX Calc'!$F:$F,0))*'I_OPEX Input'!$C$53)","v":{"$error":"#N/A"}},{"$f":"IF(H$11<($C$7+1),0,INDEX('C_OPEX Calc'!$N:$N,MATCH('C_Warranty NPV'!$B97,'C_OPEX Calc'!$F:$F,0))*'I_OPEX Input'!$C$53)","v":{"$error":"#N/A"}},{"$f":"IF(I$11<($C$7+1),0,INDEX('C_OPEX Calc'!$N:$N,MATCH('C_Warranty NPV'!$B97,'C_OPEX Calc'!$F:$F,0))*'I_OPEX Input'!$C$53)","v":{"$error":"#N/A"}},{"$f":"IF(J$11<($C$7+1),0,INDEX('C_OPEX Calc'!$N:$N,MATCH('C_Warranty NPV'!$B97,'C_OPEX Calc'!$F:$F,0))*'I_OPEX Input'!$C$53)","v":{"$error":"#N/A"}},{"$f":"IF(K$11<($C$7+1),0,INDEX('C_OPEX Calc'!$N:$N,MATCH('C_Warranty NPV'!$B97,'C_OPEX Calc'!$F:$F,0))*'I_OPEX Input'!$C$53)","v":{"$error":"#N/A"}},{"$f":"IF(L$11<($C$7+1),0,INDEX('C_OPEX Calc'!$N:$N,MATCH('C_Warranty NPV'!$B97,'C_OPEX Calc'!$F:$F,0))*'I_OPEX Input'!$C$53)","v":{"$error":"#N/A"}},{"$f":"IF(M$11<($C$7+1),0,INDEX('C_OPEX Calc'!$N:$N,MATCH('C_Warranty NPV'!$B97,'C_OPEX Calc'!$F:$F,0))*'I_OPEX Input'!$C$53)","v":{"$error":"#N/A"}},{"$f":"NPV('C_Warranty NPV'!$C$6,'C_Warranty NPV'!D97:M97)/10 * $C$5","v":{"$error":"#N/A"}}]
[null,null,{"$f":"VLOOKUP(B98,I_CAPEX!V:AC,2,FALSE)","v":{"$error":"#N/A"}},{"$f":"IF(D$11<($C$7+1),0,INDEX('C_OPEX Calc'!$N:$N,MATCH('C_Warranty NPV'!$B98,'C_OPEX Calc'!$F:$F,0))*'I_OPEX Input'!$C$53)","v":{"$error":"#N/A"}},{"$f":"IF(E$11<($C$7+1),0,INDEX('C_OPEX Calc'!$N:$N,MATCH('C_Warranty NPV'!$B98,'C_OPEX Calc'!$F:$F,0))*'I_OPEX Input'!$C$53)","v":{"$error":"#N/A"}},{"$f":"IF(F$11<($C$7+1),0,INDEX('C_OPEX Calc'!$N:$N,MATCH('C_Warranty NPV'!$B98,'C_OPEX Calc'!$F:$F,0))*'I_OPEX Input'!$C$53)","v":{"$error":"#N/A"}},{"$f":"IF(G$11<($C$7+1),0,INDEX('C_OPEX Calc'!$N:$N,MATCH('C_Warranty NPV'!$B98,'C_OPEX Calc'!$F:$F,0))*'I_OPEX Input'!$C$53)","v":{"$error":"#N/A"}},{"$f":"IF(H$11<($C$7+1),0,INDEX('C_OPEX Calc'!$N:$N,MATCH('C_Warranty NPV'!$B98,'C_OPEX Calc'!$F:$F,0))*'I_OPEX Input'!$C$53)","v":{"$error":"#N/A"}},{"$f":"IF(I$11<($C$7+1),0,INDEX('C_OPEX Calc'!$N:$N,MATCH('C_Warranty NPV'!$B98,'C_OPEX Calc'!$F:$F,0))*'I_OPEX Input'!$C$53)","v":{"$error":"#N/A"}},{"$f":"IF(J$11<($C$7+1),0,INDEX('C_OPEX Calc'!$N:$N,MATCH('C_Warranty NPV'!$B98,'C_OPEX Calc'!$F:$F,0))*'I_OPEX Input'!$C$53)","v":{"$error":"#N/A"}},{"$f":"IF(K$11<($C$7+1),0,INDEX('C_OPEX Calc'!$N:$N,MATCH('C_Warranty NPV'!$B98,'C_OPEX Calc'!$F:$F,0))*'I_OPEX Input'!$C$53)","v":{"$error":"#N/A"}},{"$f":"IF(L$11<($C$7+1),0,INDEX('C_OPEX Calc'!$N:$N,MATCH('C_Warranty NPV'!$B98,'C_OPEX Calc'!$F:$F,0))*'I_OPEX Input'!$C$53)","v":{"$error":"#N/A"}},{"$f":"IF(M$11<($C$7+1),0,INDEX('C_OPEX Calc'!$N:$N,MATCH('C_Warranty NPV'!$B98,'C_OPEX Calc'!$F:$F,0))*'I_OPEX Input'!$C$53)","v":{"$error":"#N/A"}},{"$f":"NPV('C_Warranty NPV'!$C$6,'C_Warranty NPV'!D98:M98)/10 * $C$5","v":{"$error":"#N/A"}}]
[null,null,{"$f":"VLOOKUP(B99,I_CAPEX!V:AC,2,FALSE)","v":{"$error":"#N/A"}},{"$f":"IF(D$11<($C$7+1),0,INDEX('C_OPEX Calc'!$N:$N,MATCH('C_Warranty NPV'!$B99,'C_OPEX Calc'!$F:$F,0))*'I_OPEX Input'!$C$53)","v":{"$error":"#N/A"}},{"$f":"IF(E$11<($C$7+1),0,INDEX('C_OPEX Calc'!$N:$N,MATCH('C_Warranty NPV'!$B99,'C_OPEX Calc'!$F:$F,0))*'I_OPEX Input'!$C$53)","v":{"$error":"#N/A"}},{"$f":"IF(F$11<($C$7+1),0,INDEX('C_OPEX Calc'!$N:$N,MATCH('C_Warranty NPV'!$B99,'C_OPEX Calc'!$F:$F,0))*'I_OPEX Input'!$C$53)","v":{"$error":"#N/A"}},{"$f":"IF(G$11<($C$7+1),0,INDEX('C_OPEX Calc'!$N:$N,MATCH('C_Warranty NPV'!$B99,'C_OPEX Calc'!$F:$F,0))*'I_OPEX Input'!$C$53)","v":{"$error":"#N/A"}},{"$f":"IF(H$11<($C$7+1),0,INDEX('C_OPEX Calc'!$N:$N,MATCH('C_Warranty NPV'!$B99,'C_OPEX Calc'!$F:$F,0))*'I_OPEX Input'!$C$53)","v":{"$error":"#N/A"}},{"$f":"IF(I$11<($C$7+1),0,INDEX('C_OPEX Calc'!$N:$N,MATCH('C_Warranty NPV'!$B99,'C_OPEX Calc'!$F:$F,0))*'I_OPEX Input'!$C$53)","v":{"$error":"#N/A"}},{"$f":"IF(J$11<($C$7+1),0,INDEX('C_OPEX Calc'!$N:$N,MATCH('C_Warranty NPV'!$B99,'C_OPEX Calc'!$F:$F,0))*'I_OPEX Input'!$C$53)","v":{"$error":"#N/A"}},{"$f":"IF(K$11<($C$7+1),0,INDEX('C_OPEX Calc'!$N:$N,MATCH('C_Warranty NPV'!$B99,'C_OPEX Calc'!$F:$F,0))*'I_OPEX Input'!$C$53)","v":{"$error":"#N/A"}},{"$f":"IF(L$11<($C$7+1),0,INDEX('C_OPEX Calc'!$N:$N,MATCH('C_Warranty NPV'!$B99,'C_OPEX Calc'!$F:$F,0))*'I_OPEX Input'!$C$53)","v":{"$error":"#N/A"}},{"$f":"IF(M$11<($C$7+1),0,INDEX('C_OPEX Calc'!$N:$N,MATCH('C_Warranty NPV'!$B99,'C_OPEX Calc'!$F:$F,0))*'I_OPEX Input'!$C$53)","v":{"$error":"#N/A"}},{"$f":"NPV('C_Warranty NPV'!$C$6,'C_Warranty NPV'!D99:M99)/10 * $C$5","v":{"$error":"#N/A"}}]
[null,null,{"$f":"VLOOKUP(B100,I_CAPEX!V:AC,2,FALSE)","v":{"$error":"#N/A"}},{"$f":"IF(D$11<($C$7+1),0,INDEX('C_OPEX Calc'!$N:$N,MATCH('C_Warranty NPV'!$B100,'C_OPEX Calc'!$F:$F,0))*'I_OPEX Input'!$C$53)","v":{"$error":"#N/A"}},{"$f":"IF(E$11<($C$7+1),0,INDEX('C_OPEX Calc'!$N:$N,MATCH('C_Warranty NPV'!$B100,'C_OPEX Calc'!$F:$F,0))*'I_OPEX Input'!$C$53)","v":{"$error":"#N/A"}},{"$f":"IF(F$11<($C$7+1),0,INDEX('C_OPEX Calc'!$N:$N,MATCH('C_Warranty NPV'!$B100,'C_OPEX Calc'!$F:$F,0))*'I_OPEX Input'!$C$53)","v":{"$error":"#N/A"}},{"$f":"IF(G$11<($C$7+1),0,INDEX('C_OPEX Calc'!$N:$N,MATCH('C_Warranty NPV'!$B100,'C_OPEX Calc'!$F:$F,0))*'I_OPEX Input'!$C$53)","v":{"$error":"#N/A"}},{"$f":"IF(H$11<($C$7+1),0,INDEX('C_OPEX Calc'!$N:$N,MATCH('C_Warranty NPV'!$B100,'C_OPEX Calc'!$F:$F,0))*'I_OPEX Input'!$C$53)","v":{"$error":"#N/A"}},{"$f":"IF(I$11<($C$7+1),0,INDEX('C_OPEX Calc'!$N:$N,MATCH('C_Warranty NPV'!$B100,'C_OPEX Calc'!$F:$F,0))*'I_OPEX Input'!$C$53)","v":{"$error":"#N/A"}},{"$f":"IF(J$11<($C$7+1),0,INDEX('C_OPEX Calc'!$N:$N,MATCH('C_Warranty NPV'!$B100,'C_OPEX Calc'!$F:$F,0))*'I_OPEX Input'!$C$53)","v":{"$error":"#N/A"}},{"$f":"IF(K$11<($C$7+1),0,INDEX('C_OPEX Calc'!$N:$N,MATCH('C_Warranty NPV'!$B100,'C_OPEX Calc'!$F:$F,0))*'I_OPEX Input'!$C$53)","v":{"$error":"#N/A"}},{"$f":"IF(L$11<($C$7+1),0,INDEX('C_OPEX Calc'!$N:$N,MATCH('C_Warranty NPV'!$B100,'C_OPEX Calc'!$F:$F,0))*'I_OPEX Input'!$C$53)","v":{"$error":"#N/A"}},{"$f":"IF(M$11<($C$7+1),0,INDEX('C_OPEX Calc'!$N:$N,MATCH('C_Warranty NPV'!$B100,'C_OPEX Calc'!$F:$F,0))*'I_OPEX Input'!$C$53)","v":{"$error":"#N/A"}},{"$f":"NPV('C_Warranty NPV'!$C$6,'C_Warranty NPV'!D100:M100)/10 * $C$5","v":{"$error":"#N/A"}}]
[null,null,{"$f":"VLOOKUP(B101,I_CAPEX!V:AC,2,FALSE)","v":{"$error":"#N/A"}},{"$f":"IF(D$11<($C$7+1),0,INDEX('C_OPEX Calc'!$N:$N,MATCH('C_Warranty NPV'!$B101,'C_OPEX Calc'!$F:$F,0))*'I_OPEX Input'!$C$53)","v":{"$error":"#N/A"}},{"$f":"IF(E$11<($C$7+1),0,INDEX('C_OPEX Calc'!$N:$N,MATCH('C_Warranty NPV'!$B101,'C_OPEX Calc'!$F:$F,0))*'I_OPEX Input'!$C$53)","v":{"$error":"#N/A"}},{"$f":"IF(F$11<($C$7+1),0,INDEX('C_OPEX Calc'!$N:$N,MATCH('C_Warranty NPV'!$B101,'C_OPEX Calc'!$F:$F,0))*'I_OPEX Input'!$C$53)","v":{"$error":"#N/A"}},{"$f":"IF(G$11<($C$7+1),0,INDEX('C_OPEX Calc'!$N:$N,MATCH('C_Warranty NPV'!$B101,'C_OPEX Calc'!$F:$F,0))*'I_OPEX Input'!$C$53)","v":{"$error":"#N/A"}},{"$f":"IF(H$11<($C$7+1),0,INDEX('C_OPEX Calc'!$N:$N,MATCH('C_Warranty NPV'!$B101,'C_OPEX Calc'!$F:$F,0))*'I_OPEX Input'!$C$53)","v":{"$error":"#N/A"}},{"$f":"IF(I$11<($C$7+1),0,INDEX('C_OPEX Calc'!$N:$N,MATCH('C_Warranty NPV'!$B101,'C_OPEX Calc'!$F:$F,0))*'I_OPEX Input'!$C$53)","v":{"$error":"#N/A"}},{"$f":"IF(J$11<($C$7+1),0,INDEX('C_OPEX Calc'!$N:$N,MATCH('C_Warranty NPV'!$B101,'C_OPEX Calc'!$F:$F,0))*'I_OPEX Input'!$C$53)","v":{"$error":"#N/A"}},{"$f":"IF(K$11<($C$7+1),0,INDEX('C_OPEX Calc'!$N:$N,MATCH('C_Warranty NPV'!$B101,'C_OPEX Calc'!$F:$F,0))*'I_OPEX Input'!$C$53)","v":{"$error":"#N/A"}},{"$f":"IF(L$11<($C$7+1),0,INDEX('C_OPEX Calc'!$N:$N,MATCH('C_Warranty NPV'!$B101,'C_OPEX Calc'!$F:$F,0))*'I_OPEX Input'!$C$53)","v":{"$error":"#N/A"}},{"$f":"IF(M$11<($C$7+1),0,INDEX('C_OPEX Calc'!$N:$N,MATCH('C_Warranty NPV'!$B101,'C_OPEX Calc'!$F:$F,0))*'I_OPEX Input'!$C$53)","v":{"$error":"#N/A"}},{"$f":"NPV('C_Warranty NPV'!$C$6,'C_Warranty NPV'!D101:M101)/10 * $C$5","v":{"$error":"#N/A"}}]
[null,null,{"$f":"VLOOKUP(B102,I_CAPEX!V:AC,2,FALSE)","v":{"$error":"#N/A"}},{"$f":"IF(D$11<($C$7+1),0,INDEX('C_OPEX Calc'!$N:$N,MATCH('C_Warranty NPV'!$B102,'C_OPEX Calc'!$F:$F,0))*'I_OPEX Input'!$C$53)","v":{"$error":"#N/A"}},{"$f":"IF(E$11<($C$7+1),0,INDEX('C_OPEX Calc'!$N:$N,MATCH('C_Warranty NPV'!$B102,'C_OPEX Calc'!$F:$F,0))*'I_OPEX Input'!$C$53)","v":{"$error":"#N/A"}},{"$f":"IF(F$11<($C$7+1),0,INDEX('C_OPEX Calc'!$N:$N,MATCH('C_Warranty NPV'!$B102,'C_OPEX Calc'!$F:$F,0))*'I_OPEX Input'!$C$53)","v":{"$error":"#N/A"}},{"$f":"IF(G$11<($C$7+1),0,INDEX('C_OPEX Calc'!$N:$N,MATCH('C_Warranty NPV'!$B102,'C_OPEX Calc'!$F:$F,0))*'I_OPEX Input'!$C$53)","v":{"$error":"#N/A"}},{"$f":"IF(H$11<($C$7+1),0,INDEX('C_OPEX Calc'!$N:$N,MATCH('C_Warranty NPV'!$B102,'C_OPEX Calc'!$F:$F,0))*'I_OPEX Input'!$C$53)","v":{"$error":"#N/A"}},{"$f":"IF(I$11<($C$7+1),0,INDEX('C_OPEX Calc'!$N:$N,MATCH('C_Warranty NPV'!$B102,'C_OPEX Calc'!$F:$F,0))*'I_OPEX Input'!$C$53)","v":{"$error":"#N/A"}},{"$f":"IF(J$11<($C$7+1),0,INDEX('C_OPEX Calc'!$N:$N,MATCH('C_Warranty NPV'!$B102,'C_OPEX Calc'!$F:$F,0))*'I_OPEX Input'!$C$53)","v":{"$error":"#N/A"}},{"$f":"IF(K$11<($C$7+1),0,INDEX('C_OPEX Calc'!$N:$N,MATCH('C_Warranty NPV'!$B102,'C_OPEX Calc'!$F:$F,0))*'I_OPEX Input'!$C$53)","v":{"$error":"#N/A"}},{"$f":"IF(L$11<($C$7+1),0,INDEX('C_OPEX Calc'!$N:$N,MATCH('C_Warranty NPV'!$B102,'C_OPEX Calc'!$F:$F,0))*'I_OPEX Input'!$C$53)","v":{"$error":"#N/A"}},{"$f":"IF(M$11<($C$7+1),0,INDEX('C_OPEX Calc'!$N:$N,MATCH('C_Warranty NPV'!$B102,'C_OPEX Calc'!$F:$F,0))*'I_OPEX Input'!$C$53)","v":{"$error":"#N/A"}},{"$f":"NPV('C_Warranty NPV'!$C$6,'C_Warranty NPV'!D102:M102)/10 * $C$5","v":{"$error":"#N/A"}}]
[null,null,{"$f":"VLOOKUP(B103,I_CAPEX!V:AC,2,FALSE)","v":{"$error":"#N/A"}},{"$f":"IF(D$11<($C$7+1),0,INDEX('C_OPEX Calc'!$N:$N,MATCH('C_Warranty NPV'!$B103,'C_OPEX Calc'!$F:$F,0))*'I_OPEX Input'!$C$53)","v":{"$error":"#N/A"}},{"$f":"IF(E$11<($C$7+1),0,INDEX('C_OPEX Calc'!$N:$N,MATCH('C_Warranty NPV'!$B103,'C_OPEX Calc'!$F:$F,0))*'I_OPEX Input'!$C$53)","v":{"$error":"#N/A"}},{"$f":"IF(F$11<($C$7+1),0,INDEX('C_OPEX Calc'!$N:$N,MATCH('C_Warranty NPV'!$B103,'C_OPEX Calc'!$F:$F,0))*'I_OPEX Input'!$C$53)","v":{"$error":"#N/A"}},{"$f":"IF(G$11<($C$7+1),0,INDEX('C_OPEX Calc'!$N:$N,MATCH('C_Warranty NPV'!$B103,'C_OPEX Calc'!$F:$F,0))*'I_OPEX Input'!$C$53)","v":{"$error":"#N/A"}},{"$f":"IF(H$11<($C$7+1),0,INDEX('C_OPEX Calc'!$N:$N,MATCH('C_Warranty NPV'!$B103,'C_OPEX Calc'!$F:$F,0))*'I_OPEX Input'!$C$53)","v":{"$error":"#N/A"}},{"$f":"IF(I$11<($C$7+1),0,INDEX('C_OPEX Calc'!$N:$N,MATCH('C_Warranty NPV'!$B103,'C_OPEX Calc'!$F:$F,0))*'I_OPEX Input'!$C$53)","v":{"$error":"#N/A"}},{"$f":"IF(J$11<($C$7+1),0,INDEX('C_OPEX Calc'!$N:$N,MATCH('C_Warranty NPV'!$B103,'C_OPEX Calc'!$F:$F,0))*'I_OPEX Input'!$C$53)","v":{"$error":"#N/A"}},{"$f":"IF(K$11<($C$7+1),0,INDEX('C_OPEX Calc'!$N:$N,MATCH('C_Warranty NPV'!$B103,'C_OPEX Calc'!$F:$F,0))*'I_OPEX Input'!$C$53)","v":{"$error":"#N/A"}},{"$f":"IF(L$11<($C$7+1),0,INDEX('C_OPEX Calc'!$N:$N,MATCH('C_Warranty NPV'!$B103,'C_OPEX Calc'!$F:$F,0))*'I_OPEX Input'!$C$53)","v":{"$error":"#N/A"}},{"$f":"IF(M$11<($C$7+1),0,INDEX('C_OPEX Calc'!$N:$N,MATCH('C_Warranty NPV'!$B103,'C_OPEX Calc'!$F:$F,0))*'I_OPEX Input'!$C$53)","v":{"$error":"#N/A"}},{"$f":"NPV('C_Warranty NPV'!$C$6,'C_Warranty NPV'!D103:M103)/10 * $C$5","v":{"$error":"#N/A"}}]
[null,null,{"$f":"VLOOKUP(B104,I_CAPEX!V:AC,2,FALSE)","v":{"$error":"#N/A"}},{"$f":"IF(D$11<($C$7+1),0,INDEX('C_OPEX Calc'!$N:$N,MATCH('C_Warranty NPV'!$B104,'C_OPEX Calc'!$F:$F,0))*'I_OPEX Input'!$C$53)","v":{"$error":"#N/A"}},{"$f":"IF(E$11<($C$7+1),0,INDEX('C_OPEX Calc'!$N:$N,MATCH('C_Warranty NPV'!$B104,'C_OPEX Calc'!$F:$F,0))*'I_OPEX Input'!$C$53)","v":{"$error":"#N/A"}},{"$f":"IF(F$11<($C$7+1),0,INDEX('C_OPEX Calc'!$N:$N,MATCH('C_Warranty NPV'!$B104,'C_OPEX Calc'!$F:$F,0))*'I_OPEX Input'!$C$53)","v":{"$error":"#N/A"}},{"$f":"IF(G$11<($C$7+1),0,INDEX('C_OPEX Calc'!$N:$N,MATCH('C_Warranty NPV'!$B104,'C_OPEX Calc'!$F:$F,0))*'I_OPEX Input'!$C$53)","v":{"$error":"#N/A"}},{"$f":"IF(H$11<($C$7+1),0,INDEX('C_OPEX Calc'!$N:$N,MATCH('C_Warranty NPV'!$B104,'C_OPEX Calc'!$F:$F,0))*'I_OPEX Input'!$C$53)","v":{"$error":"#N/A"}},{"$f":"IF(I$11<($C$7+1),0,INDEX('C_OPEX Calc'!$N:$N,MATCH('C_Warranty NPV'!$B104,'C_OPEX Calc'!$F:$F,0))*'I_OPEX Input'!$C$53)","v":{"$error":"#N/A"}},{"$f":"IF(J$11<($C$7+1),0,INDEX('C_OPEX Calc'!$N:$N,MATCH('C_Warranty NPV'!$B104,'C_OPEX Calc'!$F:$F,0))*'I_OPEX Input'!$C$53)","v":{"$error":"#N/A"}},{"$f":"IF(K$11<($C$7+1),0,INDEX('C_OPEX Calc'!$N:$N,MATCH('C_Warranty NPV'!$B104,'C_OPEX Calc'!$F:$F,0))*'I_OPEX Input'!$C$53)","v":{"$error":"#N/A"}},{"$f":"IF(L$11<($C$7+1),0,INDEX('C_OPEX Calc'!$N:$N,MATCH('C_Warranty NPV'!$B104,'C_OPEX Calc'!$F:$F,0))*'I_OPEX Input'!$C$53)","v":{"$error":"#N/A"}},{"$f":"IF(M$11<($C$7+1),0,INDEX('C_OPEX Calc'!$N:$N,MATCH('C_Warranty NPV'!$B104,'C_OPEX Calc'!$F:$F,0))*'I_OPEX Input'!$C$53)","v":{"$error":"#N/A"}},{"$f":"NPV('C_Warranty NPV'!$C$6,'C_Warranty NPV'!D104:M104)/10 * $C$5","v":{"$error":"#N/A"}}]
[null,null,{"$f":"VLOOKUP(B105,I_CAPEX!V:AC,2,FALSE)","v":{"$error":"#N/A"}},{"$f":"IF(D$11<($C$7+1),0,INDEX('C_OPEX Calc'!$N:$N,MATCH('C_Warranty NPV'!$B105,'C_OPEX Calc'!$F:$F,0))*'I_OPEX Input'!$C$53)","v":{"$error":"#N/A"}},{"$f":"IF(E$11<($C$7+1),0,INDEX('C_OPEX Calc'!$N:$N,MATCH('C_Warranty NPV'!$B105,'C_OPEX Calc'!$F:$F,0))*'I_OPEX Input'!$C$53)","v":{"$error":"#N/A"}},{"$f":"IF(F$11<($C$7+1),0,INDEX('C_OPEX Calc'!$N:$N,MATCH('C_Warranty NPV'!$B105,'C_OPEX Calc'!$F:$F,0))*'I_OPEX Input'!$C$53)","v":{"$error":"#N/A"}},{"$f":"IF(G$11<($C$7+1),0,INDEX('C_OPEX Calc'!$N:$N,MATCH('C_Warranty NPV'!$B105,'C_OPEX Calc'!$F:$F,0))*'I_OPEX Input'!$C$53)","v":{"$error":"#N/A"}},{"$f":"IF(H$11<($C$7+1),0,INDEX('C_OPEX Calc'!$N:$N,MATCH('C_Warranty NPV'!$B105,'C_OPEX Calc'!$F:$F,0))*'I_OPEX Input'!$C$53)","v":{"$error":"#N/A"}},{"$f":"IF(I$11<($C$7+1),0,INDEX('C_OPEX Calc'!$N:$N,MATCH('C_Warranty NPV'!$B105,'C_OPEX Calc'!$F:$F,0))*'I_OPEX Input'!$C$53)","v":{"$error":"#N/A"}},{"$f":"IF(J$11<($C$7+1),0,INDEX('C_OPEX Calc'!$N:$N,MATCH('C_Warranty NPV'!$B105,'C_OPEX Calc'!$F:$F,0))*'I_OPEX Input'!$C$53)","v":{"$error":"#N/A"}},{"$f":"IF(K$11<($C$7+1),0,INDEX('C_OPEX Calc'!$N:$N,MATCH('C_Warranty NPV'!$B105,'C_OPEX Calc'!$F:$F,0))*'I_OPEX Input'!$C$53)","v":{"$error":"#N/A"}},{"$f":"IF(L$11<($C$7+1),0,INDEX('C_OPEX Calc'!$N:$N,MATCH('C_Warranty NPV'!$B105,'C_OPEX Calc'!$F:$F,0))*'I_OPEX Input'!$C$53)","v":{"$error":"#N/A"}},{"$f":"IF(M$11<($C$7+1),0,INDEX('C_OPEX Calc'!$N:$N,MATCH('C_Warranty NPV'!$B105,'C_OPEX Calc'!$F:$F,0))*'I_OPEX Input'!$C$53)","v":{"$error":"#N/A"}},{"$f":"NPV('C_Warranty NPV'!$C$6,'C_Warranty NPV'!D105:M105)/10 * $C$5","v":{"$error":"#N/A"}}]
[null,null,{"$f":"VLOOKUP(B106,I_CAPEX!V:AC,2,FALSE)","v":{"$error":"#N/A"}},{"$f":"IF(D$11<($C$7+1),0,INDEX('C_OPEX Calc'!$N:$N,MATCH('C_Warranty NPV'!$B106,'C_OPEX Calc'!$F:$F,0))*'I_OPEX Input'!$C$53)","v":{"$error":"#N/A"}},{"$f":"IF(E$11<($C$7+1),0,INDEX('C_OPEX Calc'!$N:$N,MATCH('C_Warranty NPV'!$B106,'C_OPEX Calc'!$F:$F,0))*'I_OPEX Input'!$C$53)","v":{"$error":"#N/A"}},{"$f":"IF(F$11<($C$7+1),0,INDEX('C_OPEX Calc'!$N:$N,MATCH('C_Warranty NPV'!$B106,'C_OPEX Calc'!$F:$F,0))*'I_OPEX Input'!$C$53)","v":{"$error":"#N/A"}},{"$f":"IF(G$11<($C$7+1),0,INDEX('C_OPEX Calc'!$N:$N,MATCH('C_Warranty NPV'!$B106,'C_OPEX Calc'!$F:$F,0))*'I_OPEX Input'!$C$53)","v":{"$error":"#N/A"}},{"$f":"IF(H$11<($C$7+1),0,INDEX('C_OPEX Calc'!$N:$N,MATCH('C_Warranty NPV'!$B106,'C_OPEX Calc'!$F:$F,0))*'I_OPEX Input'!$C$53)","v":{"$error":"#N/A"}},{"$f":"IF(I$11<($C$7+1),0,INDEX('C_OPEX Calc'!$N:$N,MATCH('C_Warranty NPV'!$B106,'C_OPEX Calc'!$F:$F,0))*'I_OPEX Input'!$C$53)","v":{"$error":"#N/A"}},{"$f":"IF(J$11<($C$7+1),0,INDEX('C_OPEX Calc'!$N:$N,MATCH('C_Warranty NPV'!$B106,'C_OPEX Calc'!$F:$F,0))*'I_OPEX Input'!$C$53)","v":{"$error":"#N/A"}},{"$f":"IF(K$11<($C$7+1),0,INDEX('C_OPEX Calc'!$N:$N,MATCH('C_Warranty NPV'!$B106,'C_OPEX Calc'!$F:$F,0))*'I_OPEX Input'!$C$53)","v":{"$error":"#N/A"}},{"$f":"IF(L$11<($C$7+1),0,INDEX('C_OPEX Calc'!$N:$N,MATCH('C_Warranty NPV'!$B106,'C_OPEX Calc'!$F:$F,0))*'I_OPEX Input'!$C$53)","v":{"$error":"#N/A"}},{"$f":"IF(M$11<($C$7+1),0,INDEX('C_OPEX Calc'!$N:$N,MATCH('C_Warranty NPV'!$B106,'C_OPEX Calc'!$F:$F,0))*'I_OPEX Input'!$C$53)","v":{"$error":"#N/A"}},{"$f":"NPV('C_Warranty NPV'!$C$6,'C_Warranty NPV'!D106:M106)/10 * $C$5","v":{"$error":"#N/A"}}]

{"sheet":"I_CAPEX - Hybid Calcs","index":23,"n_rows":111,"n_cols":11,"rows_kept":111,"cut":false,"hidden":false,"merged":[[33,10,38,10],[40,10,45,10],[47,10,49,10],[51,10,53,10],[55,10,57,10],[64,10,65,10],[73,10,75,10],[82,10,83,10],[91,10,93,10],[103,10,104,10]]}
[null,"Hybrid calculations"]
[]
[null,null,"Assembly Code","Assembly Description","Component Type","Stock No.","Stock Name","Breakdown","Cost","Hybrid Cost  (Loaded)","Notes"]
[null,null,null,null,null,null,{"$f":"OFFSET('I_CAPEX - Stock Costs'!C$12,MATCH('I_CAPEX - Hybid Calcs'!F4,'I_CAPEX - Stock Costs'!B$13:B$383,0),0)","v":{"$error":"#N/A"}},null,{"$f":"OFFSET('I_CAPEX - Stock Costs'!F$12,MATCH('I_CAPEX - Hybid Calcs'!F4,'I_CAPEX - Stock Costs'!B$13:B$383,0),0)*H4","v":{"$error":"#N/A"}},{"$f":"AVERAGE(I4:I8)","v":{"$error":"#N/A"}}]
[null,null,null,null,null,null,{"$f":"OFFSET('I_CAPEX - Stock Costs'!C$12,MATCH('I_CAPEX - Hybid Calcs'!F5,'I_CAPEX - Stock Costs'!B$13:B$383,0),0)","v":{"$error":"#N/A"}},null,{"$f":"OFFSET('I_CAPEX - Stock Costs'!F$12,MATCH('I_CAPEX - Hybid Calcs'!F5,'I_CAPEX - Stock Costs'!B$13:B$383,0),0)*H5","v":{"$error":"#N/A"}}]
[null,null,null,null,null,null,{"$f":"OFFSET('I_CAPEX - Stock Costs'!C$12,MATCH('I_CAPEX - Hybid Calcs'!F6,'I_CAPEX - Stock Costs'!B$13:B$383,0),0)","v":{"$error":"#N/A"}},null,{"$f":"OFFSET('I_CAPEX - Stock Costs'!F$12,MATCH('I_CAPEX - Hybid Calcs'!F6,'I_CAPEX - Stock Costs'!B$13:B$383,0),0)*H6","v":{"$error":"#N/A"}}]
[null,null,null,null,null,null,{"$f":"OFFSET('I_CAPEX - Stock Costs'!C$12,MATCH('I_CAPEX - Hybid Calcs'!F7,'I_CAPEX - Stock Costs'!B$13:B$383,0),0)","v":{"$error":"#N/A"}},null,{"$f":"OFFSET('I_CAPEX - Stock Costs'!F$12,MATCH('I_CAPEX - Hybid Calcs'!F7,'I_CAPEX - Stock Costs'!B$13:B$383,0),0)*H7","v":{"$error":"#N/A"}}]
[null,null,null,null,null,null,{"$f":"OFFSET('I_CAPEX - Stock Costs'!C$12,MATCH('I_CAPEX - Hybid Calcs'!F8,'I_CAPEX - Stock Costs'!B$13:B$383,0),0)","v":{"$error":"#N/A"}},null,{"$f":"OFFSET('I_CAPEX - Stock Costs'!F$12,MATCH('I_CAPEX - Hybid Calcs'!F8,'I_CAPEX - Stock Costs'!B$13:B$383,0),0)*H8","v":{"$error":"#N/A"}}]
[null,null,null,null,null,null,{"$f":"OFFSET('I_CAPEX - Stock Costs'!C$12,MATCH('I_CAPEX - Hybid Calcs'!F9,'I_CAPEX - Stock Costs'!B$13:B$383,0),0)","v":{"$error":"#N/A"}},null,{"$f":"OFFSET('I_CAPEX - Stock Costs'!F$12,MATCH('I_CAPEX - Hybid Calcs'!F9,'I_CAPEX - Stock Costs'!B$13:B$383,0),0)*H9","v":{"$error":"#N/A"}},{"$f":"AVERAGE(I9:I11)","v":{"$error":"#N/A"}}]
[null,null,null,null,null,null,{"$f":"OFFSET('I_CAPEX - Stock Costs'!C$12,MATCH('I_CAPEX - Hybid Calcs'!F10,'I_CAPEX - Stock Costs'!B$13:B$383,0),0)","v":{"$error":"#N/A"}},null,{"$f":"OFFSET('I_CAPEX - Stock Costs'!F$12,MATCH('I_CAPEX - Hybid Calcs'!F10,'I_CAPEX - Stock Costs'!B$13:B$383,0),0)*H10","v":{"$error":"#N/A"}}]
[null,null,null,null,null,null,{"$f":"OFFSET('I_CAPEX - Stock Costs'!C$12,MATCH('I_CAPEX - Hybid Calcs'!F11,'I_CAPEX - Stock Costs'!B$13:B$383,0),0)","v":{"$error":"#N/A"}},null,{"$f":"OFFSET('I_CAPEX - Stock Costs'!F$12,MATCH('I_CAPEX - Hybid Calcs'!F11,'I_CAPEX - Stock Costs'!B$13:B$383,0),0)*H11","v":{"$error":"#N/A"}}]
[null,null,null,null,null,null,{"$f":"OFFSET('I_CAPEX - Stock Costs'!C$12,MATCH('I_CAPEX - Hybid Calcs'!F12,'I_CAPEX - Stock Costs'!B$13:B$383,0),0)","v":{"$error":"#N/A"}},null,{"$f":"OFFSET('I_CAPEX - Stock Costs'!F$12,MATCH('I_CAPEX - Hybid Calcs'!F12,'I_CAPEX - Stock Costs'!B$13:B$383,0),0)*H12","v":{"$error":"#N/A"}},{"$f":"SUM(I12:I13)","v":{"$error":"#N/A"}}]
[null,null,null,null,null,null,{"$f":"OFFSET('I_CAPEX - Stock Costs'!C$12,MATCH('I_CAPEX - Hybid Calcs'!F13,'I_CAPEX - Stock Costs'!B$13:B$383,0),0)","v":{"$error":"#N/A"}},null,{"$f":"OFFSET('I_CAPEX - Stock Costs'!F$12,MATCH('I_CAPEX - Hybid Calcs'!F13,'I_CAPEX - Stock Costs'!B$13:B$383,0),0)*H13","v":{"$error":"#N/A"}}]
[null,null,null,null,null,null,{"$f":"OFFSET('I_CAPEX - Stock Costs'!C$12,MATCH('I_CAPEX - Hybid Calcs'!F14,'I_CAPEX - Stock Costs'!B$13:B$383,0),0)","v":{"$error":"#N/A"}},null,{"$f":"OFFSET('I_CAPEX - Stock Costs'!F$12,MATCH('I_CAPEX - Hybid Calcs'!F14,'I_CAPEX - Stock Costs'!B$13:B$383,0),0)*H14","v":{"$error":"#N/A"}},{"$f":"SUM(I14:I15)","v":{"$error":"#N/A"}}]
[null,null,null,null,null,null,{"$f":"OFFSET('I_CAPEX - Stock Costs'!C$12,MATCH('I_CAPEX - Hybid Calcs'!F15,'I_CAPEX - Stock Costs'!B$13:B$383,0),0)","v":{"$error":"#N/A"}},null,{"$f":"OFFSET('I_CAPEX - Stock Costs'!F$12,MATCH('I_CAPEX - Hybid Calcs'!F15,'I_CAPEX - Stock Costs'!B$13:B$383,0),0)*H15","v":{"$error":"#N/A"}}]
[null,null,null,null,null,null,{"$f":"OFFSET('I_CAPEX - Stock Costs'!C$12,MATCH('I_CAPEX - Hybid Calcs'!F16,'I_CAPEX - Stock Costs'!B$13:B$383,0),0)","v":{"$error":"#N/A"}},null,{"$f":"OFFSET('I_CAPEX - Stock Costs'!F$12,MATCH('I_CAPEX - Hybid Calcs'!F16,'I_CAPEX - Stock Costs'!B$13:B$383,0),0)*H16","v":{"$error":"#N/A"}},{"$f":"SUM(I16:I17)","v":{"$error":"#N/A"}}]
[null,null,null,null,null,null,{"$f":"OFFSET('I_CAPEX - Stock Costs'!C$12,MATCH('I_CAPEX - Hybid Calcs'!F17,'I_CAPEX - Stock Costs'!B$13:B$383,0),0)","v":{"$error":"#N/A"}},null,{"$f":"OFFSET('I_CAPEX - Stock Costs'!F$12,MATCH('I_CAPEX - Hybid Calcs'!F17,'I_CAPEX - Stock Costs'!B$13:B$383,0),0)*H17","v":{"$error":"#N/A"}}]
[null,null,null,null,null,null,{"$f":"OFFSET('I_CAPEX - Stock Costs'!C$12,MATCH('I_CAPEX - Hybid Calcs'!F18,'I_CAPEX - Stock Costs'!B$13:B$383,0),0)","v":{"$error":"#N/A"}},null,{"$f":"OFFSET('I_CAPEX - Stock Costs'!F$12,MATCH('I_CAPEX - Hybid Calcs'!F18,'I_CAPEX - Stock Costs'!B$13:B$383,0),0)*H18","v":{"$error":"#N/A"}},{"$f":"SUM(I18:I19)","v":{"$error":"#N/A"}}]
[null,null,null,null,null,null,{"$f":"OFFSET('I_CAPEX - Stock Costs'!C$12,MATCH('I_CAPEX - Hybid Calcs'!F19,'I_CAPEX - Stock Costs'!B$13:B$383,0),0)","v":{"$error":"#N/A"}},null,{"$f":"OFFSET('I_CAPEX - Stock Costs'!F$12,MATCH('I_CAPEX - Hybid Calcs'!F19,'I_CAPEX - Stock Costs'!B$13:B$383,0),0)*H19","v":{"$error":"#N/A"}}]
[null,null,null,null,null,null,{"$f":"OFFSET('I_CAPEX - Stock Costs'!C$12,MATCH('I_CAPEX - Hybid Calcs'!F20,'I_CAPEX - Stock Costs'!B$13:B$383,0),0)","v":{"$error":"#N/A"}},null,{"$f":"OFFSET('I_CAPEX - Stock Costs'!F$12,MATCH('I_CAPEX - Hybid Calcs'!F20,'I_CAPEX - Stock Costs'!B$13:B$383,0),0)*H20","v":{"$error":"#N/A"}},{"$f":"SUM(I20:I21)","v":{"$error":"#N/A"}}]
[null,null,null,null,null,null,{"$f":"OFFSET('I_CAPEX - Stock Costs'!C$12,MATCH('I_CAPEX - Hybid Calcs'!F21,'I_CAPEX - Stock Costs'!B$13:B$383,0),0)","v":{"$error":"#N/A"}},null,{"$f":"OFFSET('I_CAPEX - Stock Costs'!F$12,MATCH('I_CAPEX - Hybid Calcs'!F21,'I_CAPEX - Stock Costs'!B$13:B$383,0),0)*H21","v":{"$error":"#N/A"}}]
[null,null,null,null,null,null,{"$f":"OFFSET('I_CAPEX - Stock Costs'!C$12,MATCH('I_CAPEX - Hybid Calcs'!F22,'I_CAPEX - Stock Costs'!B$13:B$383,0),0)","v":{"$error":"#N/A"}},null,{"$f":"OFFSET('I_CAPEX - Stock Costs'!F$12,MATCH('I_CAPEX - Hybid Calcs'!F22,'I_CAPEX - Stock Costs'!B$13:B$383,0),0)*H22","v":{"$error":"#N/A"}},{"$f":"SUM(I22:I23)","v":{"$error":"#N/A"}}]
[null,null,null,null,null,null,{"$f":"OFFSET('I_CAPEX - Stock Costs'!C$12,MATCH('I_CAPEX - Hybid Calcs'!F23,'I_CAPEX - Stock Costs'!B$13:B$383,0),0)","v":{"$error":"#N/A"}},null,{"$f":"OFFSET('I_CAPEX - Stock Costs'!F$12,MATCH('I_CAPEX - Hybid Calcs'!F23,'I_CAPEX - Stock Costs'!B$13:B$383,0),0)*H23","v":{"$error":"#N/A"}}]
[null,null,null,null,null,null,{"$f":"OFFSET('I_CAPEX - Stock Costs'!C$12,MATCH('I_CAPEX - Hybid Calcs'!F24,'I_CAPEX - Stock Costs'!B$13:B$383,0),0)","v":{"$error":"#N/A"}},null,{"$f":"OFFSET('I_CAPEX - Stock Costs'!F$12,MATCH('I_CAPEX - Hybid Calcs'!F24,'I_CAPEX - Stock Costs'!B$13:B$383,0),0)*H24","v":{"$error":"#N/A"}},{"$f":"SUM(I24:I26)","v":{"$error":"#N/A"}}]
[null,null,null,null,null,null,{"$f":"OFFSET('I_CAPEX - Stock Costs'!C$12,MATCH('I_CAPEX - Hybid Calcs'!F25,'I_CAPEX - Stock Costs'!B$13:B$383,0),0)","v":{"$error":"#N/A"}},null,{"$f":"OFFSET('I_CAPEX - Stock Costs'!F$12,MATCH('I_CAPEX - Hybid Calcs'!F25,'I_CAPEX - Stock Costs'!B$13:B$383,0),0)*H25","v":{"$error":"#N/A"}}]
[null,null,null,null,null,null,{"$f":"OFFSET('I_CAPEX - Stock Costs'!C$12,MATCH('I_CAPEX - Hybid Calcs'!F26,'I_CAPEX - Stock Costs'!B$13:B$383,0),0)","v":{"$error":"#N/A"}},null,{"$f":"OFFSET('I_CAPEX - Stock Costs'!F$12,MATCH('I_CAPEX - Hybid Calcs'!F26,'I_CAPEX - Stock Costs'!B$13:B$383,0),0)*H26","v":{"$error":"#N/A"}}]
[null,null,null,null,null,null,{"$f":"OFFSET('I_CAPEX - Stock Costs'!C$12,MATCH('I_CAPEX - Hybid Calcs'!F27,'I_CAPEX - Stock Costs'!B$13:B$383,0),0)","v":{"$error":"#N/A"}},null,{"$f":"OFFSET('I_CAPEX - Stock Costs'!F$12,MATCH('I_CAPEX - Hybid Calcs'!F27,'I_CAPEX - Stock Costs'!B$13:B$383,0),0)*H27","v":{"$error":"#N/A"}},{"$f":"SUM(I27:I28)","v":{"$error":"#N/A"}}]
[null,null,null,null,null,null,{"$f":"OFFSET('I_CAPEX - Stock Costs'!C$12,MATCH('I_CAPEX - Hybid Calcs'!F28,'I_CAPEX - Stock Costs'!B$13:B$383,0),0)","v":{"$error":"#N/A"}},null,{"$f":"OFFSET('I_CAPEX - Stock Costs'!F$12,MATCH('I_CAPEX - Hybid Calcs'!F28,'I_CAPEX - Stock Costs'!B$13:B$383,0),0)*H28","v":{"$error":"#N/A"}}]
[null,null,null,null,null,null,{"$f":"OFFSET('I_CAPEX - Stock Costs'!C$12,MATCH('I_CAPEX - Hybid Calcs'!F29,'I_CAPEX - Stock Costs'!B$13:B$383,0),0)","v":{"$error":"#N/A"}},null,{"$f":"OFFSET('I_CAPEX - Stock Costs'!F$12,MATCH('I_CAPEX - Hybid Calcs'!F29,'I_CAPEX - Stock Costs'!B$13:B$383,0),0)*H29","v":{"$error":"#N/A"}},{"$f":"SUM(I29:I30)","v":{"$error":"#N/A"}}]
[null,null,null,null,null,null,{"$f":"OFFSET('I_CAPEX - Stock Costs'!C$12,MATCH('I_CAPEX - Hybid Calcs'!F30,'I_CAPEX - Stock Costs'!B$13:B$383,0),0)","v":{"$error":"#N/A"}},null,{"$f":"OFFSET('I_CAPEX - Stock Costs'!F$12,MATCH('I_CAPEX - Hybid Calcs'!F30,'I_CAPEX - Stock Costs'!B$13:B$383,0),0)*H30","v":{"$error":"#N/A"}}]
[null,null,null,null,null,null,{"$f":"OFFSET('I_CAPEX - Stock Costs'!C$12,MATCH('I_CAPEX - Hybid Calcs'!F31,'I_CAPEX - Stock Costs'!B$13:B$383,0),0)","v":{"$error":"#N/A"}},null,{"$f":"OFFSET('I_CAPEX - Stock Costs'!F$12,MATCH('I_CAPEX - Hybid Calcs'!F31,'I_CAPEX - Stock Costs'!B$13:B$383,0),0)*H31","v":{"$error":"#N/A"}},{"$f":"SUM(I31:I32)","v":{"$error":"#N/A"}}]
[null,null,null,null,null,null,{"$f":"OFFSET('I_CAPEX - Stock Costs'!C$12,MATCH('I_CAPEX - Hybid Calcs'!F32,'I_CAPEX - Stock Costs'!B$13:B$383,0),0)","v":{"$error":"#N/A"}},null,{"$f":"OFFSET('I_CAPEX - Stock Costs'!F$12,MATCH('I_CAPEX - Hybid Calcs'!F32,'I_CAPEX - Stock Costs'!B$13:B$383,0),0)*H32","v":{"$error":"#N/A"}}]
[null,null,null,null,null,null,{"$f":"OFFSET('I_CAPEX - Stock Costs'!C$12,MATCH('I_CAPEX - Hybid Calcs'!F33,'I_CAPEX - Stock Costs'!B$13:B$383,0),0)","v":{"$error":"#N/A"}},null,{"$f":"OFFSET('I_CAPEX - Stock Costs'!F$12,MATCH('I_CAPEX - Hybid Calcs'!F33,'I_CAPEX - Stock Costs'!B$13:B$383,0),0)*H33","v":{"$error":"#N/A"}},{"$f":"SUM(I33:I39)","v":{"$error":"#N/A"}}]
[null,null,null,null,null,null,{"$f":"OFFSET('I_CAPEX - Stock Costs'!C$12,MATCH('I_CAPEX - Hybid Calcs'!F34,'I_CAPEX - Stock Costs'!B$13:B$383,0),0)","v":{"$error":"#N/A"}},null,{"$f":"OFFSET('I_CAPEX - Stock Costs'!F$12,MATCH('I_CAPEX - Hybid Calcs'!F34,'I_CAPEX - Stock Costs'!B$13:B$383,0),0)*H34","v":{"$error":"#N/A"}}]
[null,null,null,null,null,null,{"$f":"OFFSET('I_CAPEX - Stock Costs'!C$12,MATCH('I_CAPEX - Hybid Calcs'!F35,'I_CAPEX - Stock Costs'!B$13:B$383,0),0)","v":{"$error":"#N/A"}},null,{"$f":"OFFSET('I_CAPEX - Stock Costs'!F$12,MATCH('I_CAPEX - Hybid Calcs'!F35,'I_CAPEX - Stock Costs'!B$13:B$383,0),0)*H35","v":{"$error":"#N/A"}}]
[null,null,null,null,null,null,{"$f":"OFFSET('I_CAPEX - Stock Costs'!C$12,MATCH('I_CAPEX - Hybid Calcs'!F36,'I_CAPEX - Stock Costs'!B$13:B$383,0),0)","v":{"$error":"#N/A"}},null,{"$f":"OFFSET('I_CAPEX - Stock Costs'!F$12,MATCH('I_CAPEX - Hybid Calcs'!F36,'I_CAPEX - Stock Costs'!B$13:B$383,0),0)*H36","v":{"$error":"#N/A"}}]
[null,null,null,null,null,null,{"$f":"OFFSET('I_CAPEX - Stock Costs'!C$12,MATCH('I_CAPEX - Hybid Calcs'!F37,'I_CAPEX - Stock Costs'!B$13:B$383,0),0)","v":{"$error":"#N/A"}},null,{"$f":"OFFSET('I_CAPEX - Stock Costs'!F$12,MATCH('I_CAPEX - Hybid Calcs'!F37,'I_CAPEX - Stock Costs'!B$13:B$383,0),0)*H37","v":{"$error":"#N/A"}}]
[null,null,null,null,null,null,{"$f":"OFFSET('I_CAPEX - Stock Costs'!C$12,MATCH('I_CAPEX - Hybid Calcs'!F38,'I_CAPEX - Stock Costs'!B$13:B$383,0),0)","v":{"$error":"#N/A"}},null,{"$f":"OFFSET('I_CAPEX - Stock Costs'!F$12,MATCH('I_CAPEX - Hybid Calcs'!F38,'I_CAPEX - Stock Costs'!B$13:B$383,0),0)*H38","v":{"$error":"#N/A"}}]
[null,null,null,null,null,null,{"$f":"OFFSET('I_CAPEX - Stock Costs'!C$12,MATCH('I_CAPEX - Hybid Calcs'!F39,'I_CAPEX - Stock Costs'!B$13:B$383,0),0)","v":{"$error":"#N/A"}},null,{"$f":"OFFSET('I_CAPEX - Stock Costs'!F$12,MATCH('I_CAPEX - Hybid Calcs'!F39,'I_CAPEX - Stock Costs'!B$13:B$383,0),0)*H39","v":{"$error":"#N/A"}}]
[null,null,null,null,null,null,{"$f":"OFFSET('I_CAPEX - Stock Costs'!C$12,MATCH('I_CAPEX - Hybid Calcs'!F40,'I_CAPEX - Stock Costs'!B$13:B$383,0),0)","v":{"$error":"#N/A"}},null,{"$f":"OFFSET('I_CAPEX - Stock Costs'!F$12,MATCH('I_CAPEX - Hybid Calcs'!F40,'I_CAPEX - Stock Costs'!B$13:B$383,0),0)*H40","v":{"$error":"#N/A"}},{"$f":"SUM(I40:I46)","v":{"$error":"#N/A"}}]
[null,null,null,null,null,null,{"$f":"OFFSET('I_CAPEX - Stock Costs'!C$12,MATCH('I_CAPEX - Hybid Calcs'!F41,'I_CAPEX - Stock Costs'!B$13:B$383,0),0)","v":{"$error":"#N/A"}},null,{"$f":"OFFSET('I_CAPEX - Stock Costs'!F$12,MATCH('I_CAPEX - Hybid Calcs'!F41,'I_CAPEX - Stock Costs'!B$13:B$383,0),0)*H41","v":{"$error":"#N/A"}}]
[null,null,null,null,null,null,{"$f":"OFFSET('I_CAPEX - Stock Costs'!C$12,MATCH('I_CAPEX - Hybid Calcs'!F42,'I_CAPEX - Stock Costs'!B$13:B$383,0),0)","v":{"$error":"#N/A"}},null,{"$f":"OFFSET('I_CAPEX - Stock Costs'!F$12,MATCH('I_CAPEX - Hybid Calcs'!F42,'I_CAPEX - Stock Costs'!B$13:B$383,0),0)*H42","v":{"$error":"#N/A"}}]
[null,null,null,null,null,null,{"$f":"OFFSET('I_CAPEX - Stock Costs'!C$12,MATCH('I_CAPEX - Hybid Calcs'!F43,'I_CAPEX - Stock Costs'!B$13:B$383,0),0)","v":{"$error":"#N/A"}},null,{"$f":"OFFSET('I_CAPEX - Stock Costs'!F$12,MATCH('I_CAPEX - Hybid Calcs'!F43,'I_CAPEX - Stock Costs'!B$13:B$383,0),0)*H43","v":{"$error":"#N/A"}}]
[null,null,null,null,null,null,{"$f":"OFFSET('I_CAPEX - Stock Costs'!C$12,MATCH('I_CAPEX - Hybid Calcs'!F44,'I_CAPEX - Stock Costs'!B$13:B$383,0),0)","v":{"$error":"#N/A"}},null,{"$f":"OFFSET('I_CAPEX - Stock Costs'!F$12,MATCH('I_CAPEX - Hybid Calcs'!F44,'I_CAPEX - Stock Costs'!B$13:B$383,0),0)*H44","v":{"$error":"#N/A"}}]
[null,null,null,null,null,null,{"$f":"OFFSET('I_CAPEX - Stock Costs'!C$12,MATCH('I_CAPEX - Hybid Calcs'!F45,'I_CAPEX - Stock Costs'!B$13:B$383,0),0)","v":{"$error":"#N/A"}},null,{"$f":"OFFSET('I_CAPEX - Stock Costs'!F$12,MATCH('I_CAPEX - Hybid Calcs'!F45,'I_CAPEX - Stock Costs'!B$13:B$383,0),0)*H45","v":{"$error":"#N/A"}}]
[null,null,null,null,null,null,{"$f":"OFFSET('I_CAPEX - Stock Costs'!C$12,MATCH('I_CAPEX - Hybid Calcs'!F46,'I_CAPEX - Stock Costs'!B$13:B$383,0),0)","v":{"$error":"#N/A"}},null,{"$f":"OFFSET('I_CAPEX - Stock Costs'!F$12,MATCH('I_CAPEX - Hybid Calcs'!F46,'I_CAPEX - Stock Costs'!B$13:B$383,0),0)*H46","v":{"$error":"#N/A"}}]
[null,null,null,null,null,null,{"$f":"OFFSET('I_CAPEX - Stock Costs'!C$12,MATCH('I_CAPEX - Hybid Calcs'!F47,'I_CAPEX - Stock Costs'!B$13:B$383,0),0)","v":{"$error":"#N/A"}},null,{"$f":"OFFSET('I_CAPEX - Stock Costs'!F$12,MATCH('I_CAPEX - Hybid Calcs'!F47,'I_CAPEX - Stock Costs'!B$13:B$383,0),0)*H47","v":{"$error":"#N/A"}},{"$f":"SUM(I47:I50)","v":{"$error":"#N/A"}}]
[null,null,null,null,null,null,{"$f":"OFFSET('I_CAPEX - Stock Costs'!C$12,MATCH('I_CAPEX - Hybid Calcs'!F48,'I_CAPEX - Stock Costs'!B$13:B$383,0),0)","v":{"$error":"#N/A"}},null,{"$f":"OFFSET('I_CAPEX - Stock Costs'!F$12,MATCH('I_CAPEX - Hybid Calcs'!F48,'I_CAPEX - Stock Costs'!B$13:B$383,0),0)*H48","v":{"$error":"#N/A"}}]
[null,null,null,null,null,null,{"$f":"OFFSET('I_CAPEX - Stock Costs'!C$12,MATCH('I_CAPEX - Hybid Calcs'!F49,'I_CAPEX - Stock Costs'!B$13:B$383,0),0)","v":{"$error":"#N/A"}},null,{"$f":"OFFSET('I_CAPEX - Stock Costs'!F$12,MATCH('I_CAPEX - Hybid Calcs'!F49,'I_CAPEX - Stock Costs'!B$13:B$383,0),0)*H49","v":{"$error":"#N/A"}}]
[null,null,null,null,null,null,{"$f":"OFFSET('I_CAPEX - Stock Costs'!C$12,MATCH('I_CAPEX - Hybid Calcs'!F50,'I_CAPEX - Stock Costs'!B$13:B$383,0),0)","v":{"$error":"#N/A"}},null,{"$f":"OFFSET('I_CAPEX - Stock Costs'!F$12,MATCH('I_CAPEX - Hybid Calcs'!F50,'I_CAPEX - Stock Costs'!B$13:B$383,0),0)*H50","v":{"$error":"#N/A"}}]
[null,null,null,null,null,null,{"$f":"OFFSET('I_CAPEX - Stock Costs'!C$12,MATCH('I_CAPEX - Hybid Calcs'!F51,'I_CAPEX - Stock Costs'!B$13:B$383,0),0)","v":{"$error":"#N/A"}},null,{"$f":"OFFSET('I_CAPEX - Stock Costs'!F$12,MATCH('I_CAPEX - Hybid Calcs'!F51,'I_CAPEX - Stock Costs'!B$13:B$383,0),0)*H51","v":{"$error":"#N/A"}},{"$f":"SUM(I51:I54)","v":{"$error":"#N/A"}}]
[null,null,null,null,null,null,{"$f":"OFFSET('I_CAPEX - Stock Costs'!C$12,MATCH('I_CAPEX - Hybid Calcs'!F52,'I_CAPEX - Stock Costs'!B$13:B$383,0),0)","v":{"$error":"#N/A"}},null,{"$f":"OFFSET('I_CAPEX - Stock Costs'!F$12,MATCH('I_CAPEX - Hybid Calcs'!F52,'I_CAPEX - Stock Costs'!B$13:B$383,0),0)*H52","v":{"$error":"#N/A"}}]
[null,null,null,null,null,null,{"$f":"OFFSET('I_CAPEX - Stock Costs'!C$12,MATCH('I_CAPEX - Hybid Calcs'!F53,'I_CAPEX - Stock Costs'!B$13:B$383,0),0)","v":{"$error":"#N/A"}},null,{"$f":"OFFSET('I_CAPEX - Stock Costs'!F$12,MATCH('I_CAPEX - Hybid Calcs'!F53,'I_CAPEX - Stock Costs'!B$13:B$383,0),0)*H53","v":{"$error":"#N/A"}}]
[null,null,null,null,null,null,{"$f":"OFFSET('I_CAPEX - Stock Costs'!C$12,MATCH('I_CAPEX - Hybid Calcs'!F54,'I_CAPEX - Stock Costs'!B$13:B$383,0),0)","v":{"$error":"#N/A"}},null,{"$f":"OFFSET('I_CAPEX - Stock Costs'!F$12,MATCH('I_CAPEX - Hybid Calcs'!F54,'I_CAPEX - Stock Costs'!B$13:B$383,0),0)*H54","v":{"$error":"#N/A"}}]
[null,null,null,null,null,null,{"$f":"OFFSET('I_CAPEX - Stock Costs'!C$12,MATCH('I_CAPEX - Hybid Calcs'!F55,'I_CAPEX - Stock Costs'!B$13:B$383,0),0)","v":{"$error":"#N/A"}},null,{"$f":"OFFSET('I_CAPEX - Stock Costs'!F$12,MATCH('I_CAPEX - Hybid Calcs'!F55,'I_CAPEX - Stock Costs'!B$13:B$383,0),0)*H55","v":{"$error":"#N/A"}},{"$f":"SUM(I55:I63)","v":{"$error":"#N/A"}}]
[null,null,null,null,null,null,{"$f":"OFFSET('I_CAPEX - Stock Costs'!C$12,MATCH('I_CAPEX - Hybid Calcs'!F56,'I_CAPEX - Stock Costs'!B$13:B$383,0),0)","v":{"$error":"#N/A"}},null,{"$f":"OFFSET('I_CAPEX - Stock Costs'!F$12,MATCH('I_CAPEX - Hybid Calcs'!F56,'I_CAPEX - Stock Costs'!B$13:B$383,0),0)*H56","v":{"$error":"#N/A"}}]
[null,null,null,null,null,null,{"$f":"OFFSET('I_CAPEX - Stock Costs'!C$12,MATCH('I_CAPEX - Hybid Calcs'!F57,'I_CAPEX - Stock Costs'!B$13:B$383,0),0)","v":{"$error":"#N/A"}},null,{"$f":"OFFSET('I_CAPEX - Stock Costs'!F$12,MATCH('I_CAPEX - Hybid Calcs'!F57,'I_CAPEX - Stock Costs'!B$13:B$383,0),0)*H57","v":{"$error":"#N/A"}}]
[null,null,null,null,null,null,{"$f":"OFFSET('I_CAPEX - Stock Costs'!C$12,MATCH('I_CAPEX - Hybid Calcs'!F58,'I_CAPEX - Stock Costs'!B$13:B$383,0),0)","v":{"$error":"#N/A"}},null,{"$f":"OFFSET('I_CAPEX - Stock Costs'!F$12,MATCH('I_CAPEX - Hybid Calcs'!F58,'I_CAPEX - Stock Costs'!B$13:B$383,0),0)*H58","v":{"$error":"#N/A"}}]
[null,null,null,null,null,null,{"$f":"OFFSET('I_CAPEX - Stock Costs'!C$12,MATCH('I_CAPEX - Hybid Calcs'!F59,'I_CAPEX - Stock Costs'!B$13:B$383,0),0)","v":{"$error":"#N/A"}},null,{"$f":"OFFSET('I_CAPEX - Stock Costs'!F$12,MATCH('I_CAPEX - Hybid Calcs'!F59,'I_CAPEX - Stock Costs'!B$13:B$383,0),0)*H59","v":{"$error":"#N/A"}}]
[null,null,null,null,null,null,{"$f":"OFFSET('I_CAPEX - Stock Costs'!C$12,MATCH('I_CAPEX - Hybid Calcs'!F60,'I_CAPEX - Stock Costs'!B$13:B$383,0),0)","v":{"$error":"#N/A"}},null,{"$f":"OFFSET('I_CAPEX - Stock Costs'!F$12,MATCH('I_CAPEX - Hybid Calcs'!F60,'I_CAPEX - Stock Costs'!B$13:B$383,0),0)*H60","v":{"$error":"#N/A"}}]
[null,null,null,null,null,null,{"$f":"OFFSET('I_CAPEX - Stock Costs'!C$12,MATCH('I_CAPEX - Hybid Calcs'!F61,'I_CAPEX - Stock Costs'!B$13:B$383,0),0)","v":{"$error":"#N/A"}},null,{"$f":"OFFSET('I_CAPEX - Stock Costs'!F$12,MATCH('I_CAPEX - Hybid Calcs'!F61,'I_CAPEX - Stock Costs'!B$13:B$383,0),0)*H61","v":{"$error":"#N/A"}}]
[null,null,null,null,null,null,{"$f":"OFFSET('I_CAPEX - Stock Costs'!C$12,MATCH('I_CAPEX - Hybid Calcs'!F62,'I_CAPEX - Stock Costs'!B$13:B$383,0),0)","v":{"$error":"#N/A"}},null,{"$f":"OFFSET('I_CAPEX - Stock Costs'!F$12,MATCH('I_CAPEX - Hybid Calcs'!F62,'I_CAPEX - Stock Costs'!B$13:B$383,0),0)*H62","v":{"$error":"#N/A"}}]
[null,null,null,null,null,null,{"$f":"OFFSET('I_CAPEX - Stock Costs'!C$12,MATCH('I_CAPEX - Hybid Calcs'!F63,'I_CAPEX - Stock Costs'!B$13:B$383,0),0)","v":{"$error":"#N/A"}},null,{"$f":"OFFSET('I_CAPEX - Stock Costs'!F$12,MATCH('I_CAPEX - Hybid Calcs'!F63,'I_CAPEX - Stock Costs'!B$13:B$383,0),0)*H63","v":{"$error":"#N/A"}}]
[null,null,null,null,null,null,{"$f":"OFFSET('I_CAPEX - Stock Costs'!C$12,MATCH('I_CAPEX - Hybid Calcs'!F64,'I_CAPEX - Stock Costs'!B$13:B$383,0),0)","v":{"$error":"#N/A"}},null,{"$f":"OFFSET('I_CAPEX - Stock Costs'!F$12,MATCH('I_CAPEX - Hybid Calcs'!F64,'I_CAPEX - Stock Costs'!B$13:B$383,0),0)*H64","v":{"$error":"#N/A"}},{"$f":"SUM(I64:I72)","v":{"$error":"#N/A"}}]
[null,null,null,null,null,null,{"$f":"OFFSET('I_CAPEX - Stock Costs'!C$12,MATCH('I_CAPEX - Hybid Calcs'!F65,'I_CAPEX - Stock Costs'!B$13:B$383,0),0)","v":{"$error":"#N/A"}},null,{"$f":"OFFSET('I_CAPEX - Stock Costs'!F$12,MATCH('I_CAPEX - Hybid Calcs'!F65,'I_CAPEX - Stock Costs'!B$13:B$383,0),0)*H65","v":{"$error":"#N/A"}}]
[null,null,null,null,null,null,{"$f":"OFFSET('I_CAPEX - Stock Costs'!C$12,MATCH('I_CAPEX - Hybid Calcs'!F66,'I_CAPEX - Stock Costs'!B$13:B$383,0),0)","v":{"$error":"#N/A"}},null,{"$f":"OFFSET('I_CAPEX - Stock Costs'!F$12,MATCH('I_CAPEX - Hybid Calcs'!F66,'I_CAPEX - Stock Costs'!B$13:B$383,0),0)*H66","v":{"$error":"#N/A"}}]
[null,null,null,null,null,null,{"$f":"OFFSET('I_CAPEX - Stock Costs'!C$12,MATCH('I_CAPEX - Hybid Calcs'!F67,'I_CAPEX - Stock Costs'!B$13:B$383,0),0)","v":{"$error":"#N/A"}},null,{"$f":"OFFSET('I_CAPEX - Stock Costs'!F$12,MATCH('I_CAPEX - Hybid Calcs'!F67,'I_CAPEX - Stock Costs'!B$13:B$383,0),0)*H67","v":{"$error":"#N/A"}}]
[null,null,null,null,null,null,{"$f":"OFFSET('I_CAPEX - Stock Costs'!C$12,MATCH('I_CAPEX - Hybid Calcs'!F68,'I_CAPEX - Stock Costs'!B$13:B$383,0),0)","v":{"$error":"#N/A"}},null,{"$f":"OFFSET('I_CAPEX - Stock Costs'!F$12,MATCH('I_CAPEX - Hybid Calcs'!F68,'I_CAPEX - Stock Costs'!B$13:B$383,0),0)*H68","v":{"$error":"#N/A"}}]
[null,null,null,null,null,null,{"$f":"OFFSET('I_CAPEX - Stock Costs'!C$12,MATCH('I_CAPEX - Hybid Calcs'!F69,'I_CAPEX - Stock Costs'!B$13:B$383,0),0)","v":{"$error":"#N/A"}},null,{"$f":"OFFSET('I_CAPEX - Stock Costs'!F$12,MATCH('I_CAPEX - Hybid Calcs'!F69,'I_CAPEX - Stock Costs'!B$13:B$383,0),0)*H69","v":{"$error":"#N/A"}}]
[null,null,null,null,null,null,{"$f":"OFFSET('I_CAPEX - Stock Costs'!C$12,MATCH('I_CAPEX - Hybid Calcs'!F70,'I_CAPEX - Stock Costs'!B$13:B$383,0),0)","v":{"$error":"#N/A"}},null,{"$f":"OFFSET('I_CAPEX - Stock Costs'!F$12,MATCH('I_CAPEX - Hybid Calcs'!F70,'I_CAPEX - Stock Costs'!B$13:B$383,0),0)*H70","v":{"$error":"#N/A"}}]
[null,null,null,null,null,null,{"$f":"OFFSET('I_CAPEX - Stock Costs'!C$12,MATCH('I_CAPEX - Hybid Calcs'!F71,'I_CAPEX - Stock Costs'!B$13:B$383,0),0)","v":{"$error":"#N/A"}},null,{"$f":"OFFSET('I_CAPEX - Stock Costs'!F$12,MATCH('I_CAPEX - Hybid Calcs'!F71,'I_CAPEX - Stock Costs'!B$13:B$383,0),0)*H71","v":{"$error":"#N/A"}}]
[null,null,null,null,null,null,{"$f":"OFFSET('I_CAPEX - Stock Costs'!C$12,MATCH('I_CAPEX - Hybid Calcs'!F72,'I_CAPEX - Stock Costs'!B$13:B$383,0),0)","v":{"$error":"#N/A"}},null,{"$f":"OFFSET('I_CAPEX - Stock Costs'!F$12,MATCH('I_CAPEX - Hybid Calcs'!F72,'I_CAPEX - Stock Costs'!B$13:B$383,0),0)*H72","v":{"$error":"#N/A"}}]
[null,null,null,null,null,null,{"$f":"OFFSET('I_CAPEX - Stock Costs'!C$12,MATCH('I_CAPEX - Hybid Calcs'!F73,'I_CAPEX - Stock Costs'!B$13:B$383,0),0)","v":{"$error":"#N/A"}},null,{"$f":"OFFSET('I_CAPEX - Stock Costs'!F$12,MATCH('I_CAPEX - Hybid Calcs'!F73,'I_CAPEX - Stock Costs'!B$13:B$383,0),0)*H73","v":{"$error":"#N/A"}},{"$f":"SUM(I73:I81)","v":{"$error":"#N/A"}}]
[null,null,null,null,null,null,{"$f":"OFFSET('I_CAPEX - Stock Costs'!C$12,MATCH('I_CAPEX - Hybid Calcs'!F74,'I_CAPEX - Stock Costs'!B$13:B$383,0),0)","v":{"$error":"#N/A"}},null,{"$f":"OFFSET('I_CAPEX - Stock Costs'!F$12,MATCH('I_CAPEX - Hybid Calcs'!F74,'I_CAPEX - Stock Costs'!B$13:B$383,0),0)*H74","v":{"$error":"#N/A"}}]
[null,null,null,null,null,null,{"$f":"OFFSET('I_CAPEX - Stock Costs'!C$12,MATCH('I_CAPEX - Hybid Calcs'!F75,'I_CAPEX - Stock Costs'!B$13:B$383,0),0)","v":{"$error":"#N/A"}},null,{"$f":"OFFSET('I_CAPEX - Stock Costs'!F$12,MATCH('I_CAPEX - Hybid Calcs'!F75,'I_CAPEX - Stock Costs'!B$13:B$383,0),0)*H75","v":{"$error":"#N/A"}}]
[null,null,null,null,null,null,{"$f":"OFFSET('I_CAPEX - Stock Costs'!C$12,MATCH('I_CAPEX - Hybid Calcs'!F76,'I_CAPEX - Stock Costs'!B$13:B$383,0),0)","v":{"$error":"#N/A"}},null,{"$f":"OFFSET('I_CAPEX - Stock Costs'!F$12,MATCH('I_CAPEX - Hybid Calcs'!F76,'I_CAPEX - Stock Costs'!B$13:B$383,0),0)*H76","v":{"$error":"#N/A"}}]
[null,null,null,null,null,null,{"$f":"OFFSET('I_CAPEX - Stock Costs'!C$12,MATCH('I_CAPEX - Hybid Calcs'!F77,'I_CAPEX - Stock Costs'!B$13:B$383,0),0)","v":{"$error":"#N/A"}},null,{"$f":"OFFSET('I_CAPEX - Stock Costs'!F$12,MATCH('I_CAPEX - Hybid Calcs'!F77,'I_CAPEX - Stock Costs'!B$13:B$383,0),0)*H77","v":{"$error":"#N/A"}}]
[null,null,null,null,null,null,{"$f":"OFFSET('I_CAPEX - Stock Costs'!C$12,MATCH('I_CAPEX - Hybid Calcs'!F78,'I_CAPEX - Stock Costs'!B$13:B$383,0),0)","v":{"$error":"#N/A"}},null,{"$f":"OFFSET('I_CAPEX - Stock Costs'!F$12,MATCH('I_CAPEX - Hybid Calcs'!F78,'I_CAPEX - Stock Costs'!B$13:B$383,0),0)*H78","v":{"$error":"#N/A"}}]
[null,null,null,null,null,null,{"$f":"OFFSET('I_CAPEX - Stock Costs'!C$12,MATCH('I_CAPEX - Hybid Calcs'!F79,'I_CAPEX - Stock Costs'!B$13:B$383,0),0)","v":{"$error":"#N/A"}},null,{"$f":"OFFSET('I_CAPEX - Stock Costs'!F$12,MATCH('I_CAPEX - Hybid Calcs'!F79,'I_CAPEX - Stock Costs'!B$13:B$383,0),0)*H79","v":{"$error":"#N/A"}}]
[null,null,null,null,null,null,{"$f":"OFFSET('I_CAPEX - Stock Costs'!C$12,MATCH('I_CAPEX - Hybid Calcs'!F80,'I_CAPEX - Stock Costs'!B$13:B$383,0),0)","v":{"$error":"#N/A"}},null,{"$f":"OFFSET('I_CAPEX - Stock Costs'!F$12,MATCH('I_CAPEX - Hybid Calcs'!F80,'I_CAPEX - Stock Costs'!B$13:B$383,0),0)*H80","v":{"$error":"#N/A"}}]
[null,null,null,null,null,null,{"$f":"OFFSET('I_CAPEX - Stock Costs'!C$12,MATCH('I_CAPEX - Hybid Calcs'!F81,'I_CAPEX - Stock Costs'!B$13:B$383,0),0)","v":{"$error":"#N/A"}},null,{"$f":"OFFSET('I_CAPEX - Stock Costs'!F$12,MATCH('I_CAPEX - Hybid Calcs'!F81,'I_CAPEX - Stock Costs'!B$13:B$383,0),0)*H81","v":{"$error":"#N/A"}}]
[null,null,null,null,null,null,{"$f":"OFFSET('I_CAPEX - Stock Costs'!C$12,MATCH('I_CAPEX - Hybid Calcs'!F82,'I_CAPEX - Stock Costs'!B$13:B$383,0),0)","v":{"$error":"#N/A"}},null,{"$f":"OFFSET('I_CAPEX - Stock Costs'!F$12,MATCH('I_CAPEX - Hybid Calcs'!F82,'I_CAPEX - Stock Costs'!B$13:B$383,0),0)*H82","v":{"$error":"#N/A"}},{"$f":"SUM(I82:I90)","v":{"$error":"#N/A"}}]
[null,null,null,null,null,null,{"$f":"OFFSET('I_CAPEX - Stock Costs'!C$12,MATCH('I_CAPEX - Hybid Calcs'!F83,'I_CAPEX - Stock Costs'!B$13:B$383,0),0)","v":{"$error":"#N/A"}},null,{"$f":"OFFSET('I_CAPEX - Stock Costs'!F$12,MATCH('I_CAPEX - Hybid Calcs'!F83,'I_CAPEX - Stock Costs'!B$13:B$383,0),0)*H83","v":{"$error":"#N/A"}}]
[null,null,null,null,null,null,{"$f":"OFFSET('I_CAPEX - Stock Costs'!C$12,MATCH('I_CAPEX - Hybid Calcs'!F84,'I_CAPEX - Stock Costs'!B$13:B$383,0),0)","v":{"$error":"#N/A"}},null,{"$f":"OFFSET('I_CAPEX - Stock Costs'!F$12,MATCH('I_CAPEX - Hybid Calcs'!F84,'I_CAPEX - Stock Costs'!B$13:B$383,0),0)*H84","v":{"$error":"#N/A"}}]
[null,null,null,null,null,null,{"$f":"OFFSET('I_CAPEX - Stock Costs'!C$12,MATCH('I_CAPEX - Hybid Calcs'!F85,'I_CAPEX - Stock Costs'!B$13:B$383,0),0)","v":{"$error":"#N/A"}},null,{"$f":"OFFSET('I_CAPEX - Stock Costs'!F$12,MATCH('I_CAPEX - Hybid Calcs'!F85,'I_CAPEX - Stock Costs'!B$13:B$383,0),0)*H85","v":{"$error":"#N/A"}}]
[null,null,null,null,null,null,{"$f":"OFFSET('I_CAPEX - Stock Costs'!C$12,MATCH('I_CAPEX - Hybid Calcs'!F86,'I_CAPEX - Stock Costs'!B$13:B$383,0),0)","v":{"$error":"#N/A"}},null,{"$f":"OFFSET('I_CAPEX - Stock Costs'!F$12,MATCH('I_CAPEX - Hybid Calcs'!F86,'I_CAPEX - Stock Costs'!B$13:B$383,0),0)*H86","v":{"$error":"#N/A"}}]
[null,null,null,null,null,null,{"$f":"OFFSET('I_CAPEX - Stock Costs'!C$12,MATCH('I_CAPEX - Hybid Calcs'!F87,'I_CAPEX - Stock Costs'!B$13:B$383,0),0)","v":{"$error":"#N/A"}},null,{"$f":"OFFSET('I_CAPEX - Stock Costs'!F$12,MATCH('I_CAPEX - Hybid Calcs'!F87,'I_CAPEX - Stock Costs'!B$13:B$383,0),0)*H87","v":{"$error":"#N/A"}}]
[null,null,null,null,null,null,{"$f":"OFFSET('I_CAPEX - Stock Costs'!C$12,MATCH('I_CAPEX - Hybid Calcs'!F88,'I_CAPEX - Stock Costs'!B$13:B$383,0),0)","v":{"$error":"#N/A"}},null,{"$f":"OFFSET('I_CAPEX - Stock Costs'!F$12,MATCH('I_CAPEX - Hybid Calcs'!F88,'I_CAPEX - Stock Costs'!B$13:B$383,0),0)*H88","v":{"$error":"#N/A"}}]
[null,null,null,null,null,null,{"$f":"OFFSET('I_CAPEX - Stock Costs'!C$12,MATCH('I_CAPEX - Hybid Calcs'!F89,'I_CAPEX - Stock Costs'!B$13:B$383,0),0)","v":{"$error":"#N/A"}},null,{"$f":"OFFSET('I_CAPEX - Stock Costs'!F$12,MATCH('I_CAPEX - Hybid Calcs'!F89,'I_CAPEX - Stock Costs'!B$13:B$383,0),0)*H89","v":{"$error":"#N/A"}}]
[null,null,null,null,null,null,{"$f":"OFFSET('I_CAPEX - Stock Costs'!C$12,MATCH('I_CAPEX - Hybid Calcs'!F90,'I_CAPEX - Stock Costs'!B$13:B$383,0),0)","v":{"$error":"#N/A"}},null,{"$f":"OFFSET('I_CAPEX - Stock Costs'!F$12,MATCH('I_CAPEX - Hybid Calcs'!F90,'I_CAPEX - Stock Costs'!B$13:B$383,0),0)*H90","v":{"$error":"#N/A"}}]
[null,null,null,null,null,null,{"$f":"OFFSET('I_CAPEX - Stock Costs'!C$12,MATCH('I_CAPEX - Hybid Calcs'!F91,'I_CAPEX - Stock Costs'!B$13:B$383,0),0)","v":{"$error":"#N/A"}},null,{"$f":"OFFSET('I_CAPEX - Stock Costs'!F$12,MATCH('I_CAPEX - Hybid Calcs'!F91,'I_CAPEX - Stock Costs'!B$13:B$383,0),0)*H91","v":{"$error":"#N/A"}},{"$f":"SUM(I91:I102)","v":{"$error":"#N/A"}}]
[null,null,null,null,null,null,{"$f":"OFFSET('I_CAPEX - Stock Costs'!C$12,MATCH('I_CAPEX - Hybid Calcs'!F92,'I_CAPEX - Stock Costs'!B$13:B$383,0),0)","v":{"$error":"#N/A"}},null,{"$f":"OFFSET('I_CAPEX - Stock Costs'!F$12,MATCH('I_CAPEX - Hybid Calcs'!F92,'I_CAPEX - Stock Costs'!B$13:B$383,0),0)*H92","v":{"$error":"#N/A"}}]
[null,null,null,null,null,null,{"$f":"OFFSET('I_CAPEX - Stock Costs'!C$12,MATCH('I_CAPEX - Hybid Calcs'!F93,'I_CAPEX - Stock Costs'!B$13:B$383,0),0)","v":{"$error":"#N/A"}},null,{"$f":"OFFSET('I_CAPEX - Stock Costs'!F$12,MATCH('I_CAPEX - Hybid Calcs'!F93,'I_CAPEX - Stock Costs'!B$13:B$383,0),0)*H93","v":{"$error":"#N/A"}}]
[null,null,null,null,null,null,{"$f":"OFFSET('I_CAPEX - Stock Costs'!C$12,MATCH('I_CAPEX - Hybid Calcs'!F94,'I_CAPEX - Stock Costs'!B$13:B$383,0),0)","v":{"$error":"#N/A"}},null,{"$f":"OFFSET('I_CAPEX - Stock Costs'!F$12,MATCH('I_CAPEX - Hybid Calcs'!F94,'I_CAPEX - Stock Costs'!B$13:B$383,0),0)*H94","v":{"$error":"#N/A"}}]
[null,null,null,null,null,null,{"$f":"OFFSET('I_CAPEX - Stock Costs'!C$12,MATCH('I_CAPEX - Hybid Calcs'!F95,'I_CAPEX - Stock Costs'!B$13:B$383,0),0)","v":{"$error":"#N/A"}},null,{"$f":"OFFSET('I_CAPEX - Stock Costs'!F$12,MATCH('I_CAPEX - Hybid Calcs'!F95,'I_CAPEX - Stock Costs'!B$13:B$383,0),0)*H95","v":{"$error":"#N/A"}}]
[null,null,null,null,null,null,{"$f":"OFFSET('I_CAPEX - Stock Costs'!C$12,MATCH('I_CAPEX - Hybid Calcs'!F96,'I_CAPEX - Stock Costs'!B$13:B$383,0),0)","v":{"$error":"#N/A"}},null,{"$f":"OFFSET('I_CAPEX - Stock Costs'!F$12,MATCH('I_CAPEX - Hybid Calcs'!F96,'I_CAPEX - Stock Costs'!B$13:B$383,0),0)*H96","v":{"$error":"#N/A"}}]
[null,null,null,null,null,null,{"$f":"OFFSET('I_CAPEX - Stock Costs'!C$12,MATCH('I_CAPEX - Hybid Calcs'!F97,'I_CAPEX - Stock Costs'!B$13:B$383,0),0)","v":{"$error":"#N/A"}},null,{"$f":"OFFSET('I_CAPEX - Stock Costs'!F$12,MATCH('I_CAPEX - Hybid Calcs'!F97,'I_CAPEX - Stock Costs'!B$13:B$383,0),0)*H97","v":{"$error":"#N/A"}}]
[null,null,null,null,null,null,{"$f":"OFFSET('I_CAPEX - Stock Costs'!C$12,MATCH('I_CAPEX - Hybid Calcs'!F98,'I_CAPEX - Stock Costs'!B$13:B$383,0),0)","v":{"$error":"#N/A"}},null,{"$f":"OFFSET('I_CAPEX - Stock Costs'!F$12,MATCH('I_CAPEX - Hybid Calcs'!F98,'I_CAPEX - Stock Costs'!B$13:B$383,0),0)*H98","v":{"$error":"#N/A"}}]
[null,null,null,null,null,null,{"$f":"OFFSET('I_CAPEX - Stock Costs'!C$12,MATCH('I_CAPEX - Hybid Calcs'!F99,'I_CAPEX - Stock Costs'!B$13:B$383,0),0)","v":{"$error":"#N/A"}},null,{"$f":"OFFSET('I_CAPEX - Stock Costs'!F$12,MATCH('I_CAPEX - Hybid Calcs'!F99,'I_CAPEX - Stock Costs'!B$13:B$383,0),0)*H99","v":{"$error":"#N/A"}}]
[null,null,null,null,null,null,{"$f":"OFFSET('I_CAPEX - Stock Costs'!C$12,MATCH('I_CAPEX - Hybid Calcs'!F100,'I_CAPEX - Stock Costs'!B$13:B$383,0),0)","v":{"$error":"#N/A"}},null,{"$f":"OFFSET('I_CAPEX - Stock Costs'!F$12,MATCH('I_CAPEX - Hybid Calcs'!F100,'I_CAPEX - Stock Costs'!B$13:B$383,0),0)*H100","v":{"$error":"#N/A"}}]
[null,null,null,null,null,null,{"$f":"OFFSET('I_CAPEX - Stock Costs'!C$12,MATCH('I_CAPEX - Hybid Calcs'!F101,'I_CAPEX - Stock Costs'!B$13:B$383,0),0)","v":{"$error":"#N/A"}},null,{"$f":"OFFSET('I_CAPEX - Stock Costs'!F$12,MATCH('I_CAPEX - Hybid Calcs'!F101,'I_CAPEX - Stock Costs'!B$13:B$383,0),0)*H101","v":{"$error":"#N/A"}}]
[null,null,null,null,null,null,{"$f":"OFFSET('I_CAPEX - Stock Costs'!C$12,MATCH('I_CAPEX - Hybid Calcs'!F102,'I_CAPEX - Stock Costs'!B$13:B$383,0),0)","v":{"$error":"#N/A"}},null,{"$f":"OFFSET('I_CAPEX - Stock Costs'!F$12,MATCH('I_CAPEX - Hybid Calcs'!F102,'I_CAPEX - Stock Costs'!B$13:B$383,0),0)*H102","v":{"$error":"#N/A"}}]
[null,null,null,null,null,null,{"$f":"OFFSET('I_CAPEX - Stock Costs'!C$12,MATCH('I_CAPEX - Hybid Calcs'!F103,'I_CAPEX - Stock Costs'!B$13:B$383,0),0)","v":{"$error":"#N/A"}},null,{"$f":"OFFSET('I_CAPEX - Stock Costs'!F$12,MATCH('I_CAPEX - Hybid Calcs'!F103,'I_CAPEX - Stock Costs'!B$13:B$383,0),0)*H103","v":{"$error":"#N/A"}},{"$f":"SUM(I103:I111)","v":{"$error":"#N/A"}}]
[null,null,null,null,null,null,{"$f":"OFFSET('I_CAPEX - Stock Costs'!C$12,MATCH('I_CAPEX - Hybid Calcs'!F104,'I_CAPEX - Stock Costs'!B$13:B$383,0),0)","v":{"$error":"#N/A"}},null,{"$f":"OFFSET('I_CAPEX - Stock Costs'!F$12,MATCH('I_CAPEX - Hybid Calcs'!F104,'I_CAPEX - Stock Costs'!B$13:B$383,0),0)*H104","v":{"$error":"#N/A"}}]
[null,null,null,null,null,null,{"$f":"OFFSET('I_CAPEX - Stock Costs'!C$12,MATCH('I_CAPEX - Hybid Calcs'!F105,'I_CAPEX - Stock Costs'!B$13:B$383,0),0)","v":{"$error":"#N/A"}},null,{"$f":"OFFSET('I_CAPEX - Stock Costs'!F$12,MATCH('I_CAPEX - Hybid Calcs'!F105,'I_CAPEX - Stock Costs'!B$13:B$383,0),0)*H105","v":{"$error":"#N/A"}}]
[null,null,null,null,null,null,{"$f":"OFFSET('I_CAPEX - Stock Costs'!C$12,MATCH('I_CAPEX - Hybid Calcs'!F106,'I_CAPEX - Stock Costs'!B$13:B$383,0),0)","v":{"$error":"#N/A"}},null,{"$f":"OFFSET('I_CAPEX - Stock Costs'!F$12,MATCH('I_CAPEX - Hybid Calcs'!F106,'I_CAPEX - Stock Costs'!B$13:B$383,0),0)*H106","v":{"$error":"#N/A"}}]
[null,null,null,null,null,null,{"$f":"OFFSET('I_CAPEX - Stock Costs'!C$12,MATCH('I_CAPEX - Hybid Calcs'!F107,'I_CAPEX - Stock Costs'!B$13:B$383,0),0)","v":{"$error":"#N/A"}},null,{"$f":"OFFSET('I_CAPEX - Stock Costs'!F$12,MATCH('I_CAPEX - Hybid Calcs'!F107,'I_CAPEX - Stock Costs'!B$13:B$383,0),0)*H107","v":{"$error":"#N/A"}}]
[null,null,null,null,null,null,{"$f":"OFFSET('I_CAPEX - Stock Costs'!C$12,MATCH('I_CAPEX - Hybid Calcs'!F108,'I_CAPEX - Stock Costs'!B$13:B$383,0),0)","v":{"$error":"#N/A"}},null,{"$f":"OFFSET('I_CAPEX - Stock Costs'!F$12,MATCH('I_CAPEX - Hybid Calcs'!F108,'I_CAPEX - Stock Costs'!B$13:B$383,0),0)*H108","v":{"$error":"#N/A"}}]
[null,null,null,null,null,null,{"$f":"OFFSET('I_CAPEX - Stock Costs'!C$12,MATCH('I_CAPEX - Hybid Calcs'!F109,'I_CAPEX - Stock Costs'!B$13:B$383,0),0)","v":{"$error":"#N/A"}},null,{"$f":"OFFSET('I_CAPEX - Stock Costs'!F$12,MATCH('I_CAPEX - Hybid Calcs'!F109,'I_CAPEX - Stock Costs'!B$13:B$383,0),0)*H109","v":{"$error":"#N/A"}}]
[null,null,null,null,null,null,{"$f":"OFFSET('I_CAPEX - Stock Costs'!C$12,MATCH('I_CAPEX - Hybid Calcs'!F110,'I_CAPEX - Stock Costs'!B$13:B$383,0),0)","v":{"$error":"#N/A"}},null,{"$f":"OFFSET('I_CAPEX - Stock Costs'!F$12,MATCH('I_CAPEX - Hybid Calcs'!F110,'I_CAPEX - Stock Costs'!B$13:B$383,0),0)*H110","v":{"$error":"#N/A"}}]
[null,null,null,null,null,null,{"$f":"OFFSET('I_CAPEX - Stock Costs'!C$12,MATCH('I_CAPEX - Hybid Calcs'!F111,'I_CAPEX - Stock Costs'!B$13:B$383,0),0)","v":{"$error":"#N/A"}},null,{"$f":"OFFSET('I_CAPEX - Stock Costs'!F$12,MATCH('I_CAPEX - Hybid Calcs'!F111,'I_CAPEX - Stock Costs'!B$13:B$383,0),0)*H111","v":{"$error":"#N/A"}}]

{"sheet":"I_Mapping & Lookups","index":24,"n_rows":416,"n_cols":32,"rows_kept":416,"cut":false,"hidden":false,"merged":[[1,22,2,27],[3,22,4,27],[1,1,2,5],[3,1,4,5],[3,15,4,20],[1,15,2,20],[1,7,4,8],[1,10,2,13],[3,10,4,13]]}
[]
[null,"Description Lookup Table",null,null,null,null,null,"Unused Mapping",null,null,"Construction Code Mapping",null,null,null,null,"Capex Lookup",null,null,null,null,null,null,"Opex Lookup"]
[]
[null,"This table is used to get only the description of the lamp, \nfrom the lamp code",null,null,null,null,null,null,null,null,"This table is used for lookup in the public lighting charges tab to determine if a pole maintenance charge needs to be applied ",null,null,null,null,"This table is used in finding the associated assembly number, \ngiven the lamp code.\nOPEX and CAPEX mapping codes are different for a given lamp type.",null,null,null,null,null,null,"This table find the associated OPEX mapping code given the lamp code.\nThe OPEX and CAPEX mapping codes are different for a given lamp type."]
[]
[null,"Lamp Code","Description","Unused","Nominal Rating","Total Watts",null,"Equivalent / Replacement Construction","Capital Code",null,"Capital Code","Equivalent / Replacement Construction","Dedicated Pole Type","Number of lights",null,"Capital Code","Mapped to Assembly",null,"LAMP CODE","cap","Assembly",null,"Lamp Code","Mapping Code","Lantern Watts (Nominal)\n(N/A)","Category","Number of Lamps","Count of Lamps in WASP (as of 16-04-2014)",null,null,null,"Council"]
[null,null,null,null,null,null,null,{"$f":"CONCATENATE(L7,\" \",M7,\" \",N7)","v":"  "},{"$f":"K7","v":0},null,null,null,null,null,null,null,null,null,null,null,null,null,{"$f":"X7","v":"O/U"},"O/U",null,"N/A",null,null,null,null,1]
[null,null,null,null,null,null,null,"  ",0,null,null,null,null,null,null,null,null,null,null,null,null,null,{"$f":"X8","v":"UGR1"},"UGR1",null,"N/A",null,null,null,null,{"$f":"AE7+1","v":2}]
[null,null,null,null,null,null,null,"  ",0,null,null,null,null,null,null,null,null,null,null,null,null,null,"UGR2","UGR2",null,"N/A",null,null,null,null,{"$f":"AE8+1","v":3}]
[null,null,null,null,null,null,null,"  ",0,null,null,null,null,null,null,null,null,null,null,null,null,null,"MBF1x1000","MBF1x1000",null,"Major (Cat V)",null,null,null,null,4]
[null,null,null,null,null,null,null,"  ",0,null,null,null,null,null,null,null,null,null,null,null,null,null,"MBF1x125","MBF1x125",null,"Minor (Cat P)",null,null,null,null,5]
[null,null,null,null,null,null,null,"  ",0,null,null,null,null,null,null,null,null,null,null,null,null,null,"MBF1x250","MBF1x250",null,"Major (Cat V)",null,null,null,null,6]
[null,null,null,null,null,null,null,"  ",0,null,null,null,null,null,null,null,null,null,null,null,null,null,"MBF1x400","MBF1x400",null,"Major (Cat V)",null,null,null,null,7]
[null,null,null,null,null,null,null,"  ",0,null,null,null,null,null,null,null,null,null,null,null,null,null,"MBF1x42","MBF1x42",null,"Minor (Cat P)",null,null,null,null,8]
[null,null,null,null,null,null,null,"  ",0,null,null,null,null,null,null,null,null,null,null,null,null,null,"MBF1x50","MBF1x50",null,"Minor (Cat P)",null,null,null,null,9]
[null,null,null,null,null,null,null,"  ",0,null,null,null,null,null,null,null,null,null,null,null,null,null,"MBF1x80","MBF1x80",null,"Minor (Cat P)",null,null,null,null,10]
[null,null,null,null,null,null,null,"  ",0,null,null,null,null,null,null,null,null,null,null,null,null,null,"MBF2x80","MBF2x80",null,"Minor (Cat P)",null,null,null,null,11]
[null,null,null,null,null,null,null,"  ",0,null,null,null,null,null,null,null,null,null,null,null,null,null,"MBI1x100","MBI1x100",null,"Major (Cat V)",null,null,null,null,12]
[null,null,null,null,null,null,null,"  ",0,null,null,null,null,null,null,null,null,null,null,null,null,null,"MBI1x1000","MBI1x1000",null,"Major (Cat V)",null,null,null,null,13]
[null,null,null,null,null,null,null,"  ",0,null,null,null,null,null,null,null,null,null,null,null,null,null,"MBI1x150","MBI1x150",null,"Major (Cat V)",null,null,null,null,14]
[null,null,null,null,null,null,null,"  ",0,null,null,null,null,null,null,null,null,null,null,null,null,null,"MBI1x250","MBI1x250",null,"Major (Cat V)",null,null,null,null,15]
[null,null,null,null,null,null,null,"  ",0,null,null,null,null,null,null,null,null,null,null,null,null,null,"MBI1x400","MBI1x400",null,"Major (Cat V)",null,null,null,null,16]
[null,null,null,null,null,null,null,"  ",0,null,null,null,null,null,null,null,null,null,null,null,null,null,"MBI1x70","MBI1x70",null,"Minor (Cat P)",null,null,null,null,17]
[null,null,null,null,null,null,null,"  ",0,null,null,null,null,null,null,null,null,null,null,null,null,null,"MBI1x70 II","MBI1x70 II",null,"Minor (Cat P)",null,null,null,null,18]
[null,null,null,null,null,null,null,"  ",0,null,null,null,null,null,null,null,null,null,null,null,null,null,"SON1x100","SON1x100",null,"Major (Cat V)",null,null,null,null,19]
[null,null,null,null,null,null,null,"  ",0,null,null,null,null,null,null,null,null,null,null,null,null,null,"SON1x1000","SON1x1000",null,"Major (Cat V)",null,null,null,null,20]
[null,null,null,null,null,null,null,"  ",0,null,null,null,null,null,null,null,null,null,null,null,null,null,"SON1x150","SON1x150",null,"Major (Cat V)",null,null,null,null,21]
[null,null,null,null,null,null,null,"  ",0,null,null,null,null,null,null,null,null,null,null,null,null,null,"SON1x150 AR","SON1x150 AR",null,"Major (Cat V)",null,null,null,null,22]
[null,null,null,null,null,null,null,"  ",0,null,null,null,null,null,null,null,null,null,null,null,null,null,"SON1x250","SON1x250",null,"Major (Cat V)",null,null,null,null,23]
[null,null,null,null,null,null,null,"  ",0,null,null,null,null,null,null,null,null,null,null,null,null,null,"SON1x250 AR","SON1x250 AR",null,"Major (Cat V)",null,null,null,null,24]
[null,null,null,null,null,null,null,"  ",0,null,null,null,null,null,null,null,null,null,null,null,null,null,"SON1x400","SON1x400",null,"Major (Cat V)",null,null,null,null,25]
[null,null,null,null,null,null,null,"  ",0,null,null,null,null,null,null,null,null,null,null,null,null,null,"SON1x400 AR","SON1x400 AR",null,"Major (Cat V)",null,null,null,null,26]
[null,null,null,null,null,null,null,"  ",0,null,null,null,null,null,null,null,null,null,null,null,null,null,"SON1x50","SON1x50",null,"Minor (Cat P)",null,null,null,null,27]
[null,null,null,null,null,null,null,"  ",0,null,null,null,null,null,null,null,null,null,null,null,null,null,"SON1x600","SON1x600",null,"Major (Cat V)",null,null,null,null,28]
[null,null,null,null,null,null,null,"  ",0,null,null,null,null,null,null,null,null,null,null,null,null,null,"SON1x70","SON1x70",null,"Minor (Cat P)",null,null,null,null,29]
[null,null,null,null,null,null,null,"  ",0,null,null,null,null,null,null,null,null,null,null,null,null,null,"SON2x250","SON2x250",null,"Major (Cat V)",null,null,null,null,30]
[null,null,null,null,null,null,null,"  ",0,null,null,null,null,null,null,null,null,null,null,null,null,null,"SON2x400","SON2x400",null,"Major (Cat V)",null,null,null,null,31]
[null,null,null,null,null,null,null,"  ",0,null,null,null,null,null,null,null,null,null,null,null,null,null,"SON4x250","SON4x250",null,"Major (Cat V)",null,null,null,null,32]
[null,null,null,null,null,null,null,{"$f":"CONCATENATE(L39,\" \",M39,\" \",N39)","v":"  "},{"$f":"K39","v":0},null,null,null,null,null,null,null,null,null,null,null,null,null,"SON4x600","SON4x600",null,"Major (Cat V)",null,null,null,null,33]
[null,null,null,null,null,null,null,"  ",0,null,null,null,null,null,null,null,null,null,null,null,null,null,"TF1x20","TF1x20",null,"Minor (Cat P)",null,null,null,null,34]
[null,null,null,null,null,null,null,"  ",0,null,null,null,null,null,null,null,null,null,null,null,null,null,"TF1x40","TF1x40",null,"Minor (Cat P)",null,null,null,null,35]
[null,null,null,null,null,null,null,"  ",0,null,null,null,null,null,null,null,null,null,null,null,null,null,"TF1x80","TF1x80",null,"Minor (Cat P)",null,null,null,null,36]
[null,null,null,null,null,null,null,"  ",0,null,null,null,null,null,null,null,null,null,null,null,null,null,"TF2x14 T5","TF2x14 T5",null,"Minor (Cat P)",null,null,null,null,37]
[null,null,null,null,null,null,null,"  ",0,null,null,null,null,null,null,null,null,null,null,null,null,null,"TF2x20","TF2x20",null,"Minor (Cat P)",null,null,null,null,38]
[null,null,null,null,null,null,null,"  ",0,null,null,null,null,null,null,null,null,null,null,null,null,null,"TF2x26","TF2x26",null,"Minor (Cat P)",null,null,null,null,39]
[null,null,null,null,null,null,null,"  ",0,null,null,null,null,null,null,null,null,null,null,null,null,null,"TF2x40","TF2x40",null,"Minor (Cat P)",null,null,null,null,40]
[null,null,null,null,null,null,null,"  ",0,null,null,null,null,null,null,null,null,null,null,null,null,null,"TF4x20","TF4x20",null,"Minor (Cat P)",null,null,null,null,41]
[null,null,null,null,null,null,null,"  ",0,null,null,null,null,null,null,null,null,null,null,null,null,null,"TF4x40","TF4x40",null,"Minor (Cat P)",null,null,null,null,42]
[null,null,null,null,null,null,null,"  ",0,null,null,null,null,null,null,null,null,null,null,null,null,null,"LED TRIAL","LED TRIAL",null,"Minor (Cat P)",null,null,null,null,43]
[null,null,null,null,null,null,null,"  ",0,null,null,null,null,null,null,null,null,null,null,null,null,null,"LED1x100","LED1x100",null,"Major (Cat V)",null,null,null,null,44]
[null,null,null,null,null,null,null,"  ",0,null,null,null,null,null,null,null,null,null,null,null,null,null,"LED1x17","LED1x17",null,"Minor (Cat P)",null,null,null,null,45]
[null,null,null,null,null,null,null,"  ",0,null,null,null,null,null,null,null,null,null,null,null,null,null,"LED1x200","LED1x200",null,"Major (Cat V)",null,null,null,null,46]
[null,null,null,null,null,null,null,"  ",0,null,null,null,null,null,null,null,null,null,null,null,null,null,"LED1x22","LED1x22",null,"Minor (Cat P)",null,null,null,null,47]
[null,null,null,null,null,null,null,"  ",0,null,null,null,null,null,null,null,null,null,null,null,null,null,"LED1x25 GE","LED1x25 GE",null,"Minor (Cat P)",null,null,null,null,48]
[null,null,null,null,null,null,null,"  ",0,null,null,null,null,null,null,null,null,null,null,null,null,null,"LED1x28","LED1x28",null,"Minor (Cat P)",null,null,null,null,49]
[null,null,null,null,null,null,null,"  ",0,null,null,null,null,null,null,null,null,null,null,null,null,null,"LED1x29","LED1x29",null,"Minor (Cat P)",null,null,null,null,50]
[null,null,null,null,null,null,null,"  ",0,null,null,null,null,null,null,null,null,null,null,null,null,null,"LED1x298","LED1x298",null,"Major (Cat V)",null,null,null,null,51]
[null,null,null,null,null,null,null,"  ",0,null,null,null,null,null,null,null,null,null,null,null,null,null,"LED1x33","LED1x33",null,"Minor (Cat P)",null,null,null,null,52]
[null,null,null,null,null,null,null,"  ",0,null,null,null,null,null,null,null,null,null,null,null,null,null,"LED1x42","LED1x42",null,"Minor (Cat P)",null,null,null,null,53]
[null,null,null,null,null,null,null,"  ",0,null,null,null,null,null,null,null,null,null,null,null,null,null,"Smart Controller (Licence and maintenance fee)","Smart Controller (Licence and maintenance fee)",null,"N/A",null,null,null,null,54]
[null,null,null,null,null,null,null,"  ",0,null,null,null,null,null,null,null,null,null,null,null,null,null,"Luminaire - Decorative ","Luminaire - Decorative ",null,"Minor (Cat P)",null,null,null,null,55]
[null,null,null,null,null,null,null,"  ",0,null,null,null,null,null,null,null,null,null,null,null,null,null,{"$f":"X62","v":"Luminaire - Floodlight"},"Luminaire - Floodlight",null,"Major (Cat V)",null,null,null,null,56]
[null,null,null,null,null,null,null,"  ",0,null,null,null,null,null,null,null,null,null,null,null,null,null,{"$f":"X63","v":"Luminaire - Major (Cat V) road - smart controller installed"},"Luminaire - Major (Cat V) road - smart controller installed",null,"Major (Cat V)",null,null,null,null,57]
[null,null,null,null,null,null,null,"  ",0,null,null,null,null,null,null,null,null,null,null,null,null,null,{"$f":"X64","v":"Luminaire - Minor (Cat P) road - smart controller installed"},"Luminaire - Minor (Cat P) road - smart controller installed",null,"Minor (Cat P)",null,null,null,null,58]
[null,null,null,null,null,null,null,"  ",0,null,null,null,null,null,null,null,null,null,null,null,null,null,"Luminaire - Floodlight - smart controller installed","Luminaire - Floodlight - smart controller installed",null,"Major (Cat V)",null,null,null,null,59]
[null,null,null,null,null,null,null,"  ",0,null,null,null,null,null,null,null,null,null,null,null,null,null,{"$f":"X66","v":"Luminaire - Decorative - smart controller installed"},"Luminaire - Decorative - smart controller installed",null,"Minor (Cat P)",null,null,null,null,60]
[null,null,null,null,null,null,null,"  ",0,null,null,null,null,null,null,null,null,null,null,null,null,null,null,null,null,null,null,null,null,null,61]
[null,null,null,null,null,null,null,"  ",0,null,null,null,null,null,null,null,null,null,null,null,null,null,null,null,null,null,null,null,null,null,62]
[null,null,null,null,null,null,null,"  ",0,null,null,null,null,null,null,null,null,null,null,null,null,null,null,null,null,null,null,null,null,null,63]
[null,null,null,null,null,null,null,"  ",0,null,null,null,null,null,null,null,null,null,null,null,null,null,null,null,null,null,null,null,null,null,64]
[null,null,null,null,null,null,null,{"$f":"CONCATENATE(L71,\" \",M71,\" \",N71)","v":"  "},{"$f":"K71","v":0},null,null,null,null,null,null,null,null,null,null,null,null,null,null,null,null,null,null,null,null,null,65]
[null,null,null,null,null,null,null,"  ",0,null,null,null,null,null,null,null,null,null,null,null,null,null,null,null,null,null,null,null,null,null,66]
[null,null,null,null,null,null,null,"  ",0,null,null,null,null,null,null,null,null,null,null,null,null,null,null,null,null,null,null,null,null,null,{"$f":"AE72+1","v":67}]
[null,null,null,null,null,null,null,"  ",0,null,null,null,null,null,null,null,null,null,null,null,null,null,null,null,null,null,null,null,null,null,68]
[null,null,null,null,null,null,null,"  ",0,null,null,null,null,null,null,null,null,null,null,null,null,null,null,null,null,null,null,null,null,null,69]
[null,null,null,null,null,null,null,"  ",0,null,null,null,null,null,null,null,null,null,null,null,null,null,null,null,null,null,null,null,null,null,70]
[null,null,null,null,null,null,null,"  ",0,null,null,null,null,null,null,null,null,null,null,null,null,null,null,null,null,null,null,null,null,null,71]
[null,null,null,null,null,null,null,"  ",0,null,null,null,null,null,null,null,null,null,null,null,null,null,null,null,null,null,null,null,null,null,72]
[null,null,null,null,null,null,null,"  ",0,null,null,null,null,null,null,null,null,null,null,null,null,null,null,null,null,null,null,null,null,null,73]
[null,null,null,null,null,null,null,"  ",0,null,null,null,null,null,null,null,null,null,null,null,null,null,null,null,null,null,null,null,null,null,74]
[null,null,null,null,null,null,null,"  ",0,null,null,null,null,null,null,null,null,null,null,null,null,null,null,null,null,null,null,null,null,null,75]
[null,null,null,null,null,null,null,"  ",0,null,null,null,null,null,null,null,null,null,null,null,null,null,null,null,null,null,null,null,null,null,76]
[null,null,null,null,null,null,null,"  ",0,null,null,null,null,null,null,null,null,null,null,null,null,null,null,null,null,null,null,null,null,null,77]
[null,null,null,null,null,null,null,"  ",0,null,null,null,null,null,null,null,null,null,null,null,null,null,null,null,null,null,null,null,null,null,78]
[null,null,null,null,null,null,null,"  ",0,null,null,null,null,null,null,null,null,null,null,null,null,null,null,null,null,null,null,null,null,null,79]
[null,null,null,null,null,null,null,"  ",0,null,null,null,null,null,null,null,null,null,null,null,null,null,null,null,null,null,null,null,null,null,80]
[null,null,null,null,null,null,null,"  ",0,null,null,null,null,null,null,null,null,null,null,null,null,null,null,null,null,null,null,null,null,null,81]
[null,null,null,null,null,null,null,"  ",0,null,null,null,null,null,null,null,null,null,null,null,null,null,null,null,null,null,null,null,null,null,82]
[null,null,null,null,null,null,null,"  ",0,null,null,null,null,null,null,null,null,null,null,null,null,null,null,null,null,null,null,null,null,null,83]
[null,null,null,null,null,null,null,"  ",0,null,null,null,null,null,null,null,null,null,null,null,null,null,null,null,null,null,null,null,null,null,84]
[null,null,null,null,null,null,null,"  ",0,null,null,null,null,null,null,null,null,null,null,null,null,null,null,null,null,null,null,null,null,null,85]
[null,null,null,null,null,null,null,"  ",0,null,null,null,null,null,null,null,null,null,null,null,null,null,null,null,null,null,null,null,null,null,86]
[null,null,null,null,null,null,null,"  ",0,null,null,null,null,null,null,null,null,null,null,null,null,null,null,null,null,null,null,null,null,null,87]
[null,null,null,null,null,null,null,"  ",0]
[null,null,null,null,null,null,null,"  ",0]
[null,null,null,null,null,null,null,"  ",0]
[null,null,null,null,null,null,null,"  ",0]
[null,null,null,null,null,null,null,"  ",0]
[null,null,null,null,null,null,null,"  ",0]
[null,null,null,null,null,null,null,"  ",0]
[null,null,null,null,null,null,null,"  ",0]
[null,null,null,null,null,null,null,"  ",0]
[null,null,null,null,null,null,null,{"$f":"CONCATENATE(L103,\" \",M103,\" \",N103)","v":"  "},{"$f":"K103","v":0}]
[null,null,null,null,null,null,null,"  ",0]
[null,null,null,null,null,null,null,"  ",0]
[null,null,null,null,null,null,null,"  ",0]
[null,null,null,null,null,null,null,"  ",0]
[null,null,null,null,null,null,null,"  ",0]
[null,null,null,null,null,null,null,"  ",0]
[null,null,null,null,null,null,null,"  ",0]
[null,null,null,null,null,null,null,"  ",0]
[null,null,null,null,null,null,null,"  ",0]
[null,null,null,null,null,null,null,"  ",0]
[null,null,null,null,null,null,null,"  ",0]
[null,null,null,null,null,null,null,"  ",0]
[null,null,null,null,null,null,null,"  ",0]
[null,null,null,null,null,null,null,"  ",0]
[null,null,null,null,null,null,null,"  ",0]
[null,null,null,null,null,null,null,"  ",0]
[null,null,null,null,null,null,null,"  ",0]
[null,null,null,null,null,null,null,"  ",0]
[null,null,null,null,null,null,null,"  ",0]
[null,null,null,null,null,null,null,"  ",0]
[null,null,null,null,null,null,null,"  ",0]
[null,null,null,null,null,null,null,"  ",0]
[null,null,null,null,null,null,null,"  ",0]
[null,null,null,null,null,null,null,"  ",0]
[null,null,null,null,null,null,null,"  ",0]
[null,null,null,null,null,null,null,"  ",0]
[null,null,null,null,null,null,null,"  ",0]
[null,null,null,null,null,null,null,"  ",0]
[null,null,null,null,null,null,null,"  ",0]
[null,null,null,null,null,null,null,"  ",0]
[null,null,null,null,null,null,null,"  ",0]
[null,null,null,null,null,null,null,{"$f":"CONCATENATE(L135,\" \",M135,\" \",N135)","v":"  "},{"$f":"K135","v":0}]
[null,null,null,null,null,null,null,"  ",0]
[null,null,null,null,null,null,null,"  ",0]
[null,null,null,null,null,null,null,"  ",0]
[null,null,null,null,null,null,null,"  ",0]
[null,null,null,null,null,null,null,"  ",0]
[null,null,null,null,null,null,null,"  ",0]
[null,null,null,null,null,null,null,"  ",0]
[null,null,null,null,null,null,null,"  ",0]
[null,null,null,null,null,null,null,"  ",0]
[null,null,null,null,null,null,null,"  ",0]
[null,null,null,null,null,null,null,"  ",0]
[null,null,null,null,null,null,null,"  ",0]
[null,null,null,null,null,null,null,"  ",0]
[null,null,null,null,null,null,null,"  ",0]
[null,null,null,null,null,null,null,"  ",0]
[null,null,null,null,null,null,null,"  ",0]
[null,null,null,null,null,null,null,"  ",0]
[null,null,null,null,null,null,null,"  ",0]
[null,null,null,null,null,null,null,"  ",0]
[null,null,null,null,null,null,null,"  ",0]
[null,null,null,null,null,null,null,"  ",0]
[null,null,null,null,null,null,null,"  ",0]
[null,null,null,null,null,null,null,"  ",0]
[null,null,null,null,null,null,null,"  ",0]
[null,null,null,null,null,null,null,"  ",0]
[null,null,null,null,null,null,null,"  ",0]
[null,null,null,null,null,null,null,"  ",0]
[null,null,null,null,null,null,null,"  ",0,null,null,null,null,null,null,null,null,null,null,null,null,null,"ADDED LEDS:"]
[null,null,null,null,null,null,null,"  ",0]
[null,null,null,null,null,null,null,"  ",0]
[null,null,null,null,null,null,null,"  ",0]
[null,null,null,null,null,null,null,{"$f":"CONCATENATE(L167,\" \",M167,\" \",N167)","v":"  "},{"$f":"K167","v":0}]
[null,null,null,null,null,null,null,"  ",0]
[null,null,null,null,null,null,null,"  ",0]
[null,null,null,null,null,null,null,"  ",0]
[null,null,null,null,null,null,null,"  ",0]
[null,null,null,null,null,null,null,"  ",0]
[null,null,null,null,null,null,null,"  ",0,null,null,null,null,null,null,null,null,null,null,null,null,null,"TEMPORARY MAPPINGS FOR CATEGORY INFORMATION FOR TRAFFIC CALCULATIONS ETC:"]
[null,null,null,null,null,null,null,"  ",0]
[null,null,null,null,null,null,null,"  ",0]
[null,null,null,null,null,null,null,"  ",0]
[null,null,null,null,null,null,null,"  ",0]
[null,null,null,null,null,null,null,"  ",0]
[null,null,null,null,null,null,null,"  ",0]
[null,null,null,null,null,null,null,"  ",0]
[null,null,null,null,null,null,null,"  ",0]
[null,null,null,null,null,null,null,"  ",0]
[null,null,null,null,null,null,null,"  ",0]
[null,null,null,null,null,null,null,"  ",0]
[null,null,null,null,null,null,null,"  ",0]
[null,null,null,null,null,null,null,"  ",0]
[null,null,null,null,null,null,null,"  ",0]
[null,null,null,null,null,null,null,"  ",0]
[null,null,null,null,null,null,null,"  ",0]
[null,null,null,null,null,null,null,"  ",0]
[null,null,null,null,null,null,null,"  ",0]
[null,null,null,null,null,null,null,"  ",0]
[null,null,null,null,null,null,null,"NO CAPITALNO CAPITAL1",1]
[null,null,null,null,null,null,null,"MAINTENANCE COMPONENTNO CAPITAL1",5,null,null,null,null,null,null,null,null,null,null,null,null,null,"For New Assemblies (Not In Current Asset DB) The Mapping Codes Are CAPEX Assembly Codes"]
[null,null,null,null,null,null,null,"MERCURY VAPOUR 80WSHARED OR NO POLE1",10]
[null,null,null,null,null,null,null,"MERCURY VAPOUR 250W SHARED OR NO POLE1",20]
[null,null,null,null,null,null,null,"MERCURY VAPOUR 400WSHARED OR NO POLE1",30]
[null,null,null,null,null,null,null,"HIGH PRESSURE SODIUM 70W (100)SHARED OR NO POLE1",40]
[null,null,null,null,null,null,null,"HIGH PRESSURE SODIUM 150WSHARED OR NO POLE1",50]
[null,null,null,null,null,null,null,"HIGH PRESSURE SODIUM 250W (210/220)SHARED OR NO POLE1",60]
[null,null,null,null,null,null,null,"HIGH PRESSURE SODIUM 400W (310/360)SHARED OR NO POLE1",70]
[null,null,null,null,null,null,null,"HIGH PRESSURE SODIUM 50W TWIN ARCSHARED OR NO POLE1",80]
[null,null,null,null,null,null,null,"HIGH PRESSURE SODIUM 70W TWIN ARCSHARED OR NO POLE1",90]
[null,null,null,null,null,null,null,"35W LOW PRESSURE SODIUMSHARED OR NO POLE1",100]
[null,null,null,null,null,null,null,"BULKHEADS ETCSHARED OR NO POLE1",110]
[null,null,null,null,null,null,null,"METAL HALIDE 1000W FLOODLIGHT SHARED OR NO POLE1",120]
[null,null,null,null,null,null,null,"HIGH PRESSURE SODIUM 70W TWIN ARCWOOD POLE1",140]
[null,null,null,null,null,null,null,"HIGH PRESSURE SODIUM 50W TWIN ARCWOOD POLE1",140]
[null,null,null,null,null,null,null,"35W LOW PRESSURE SODIUMWOOD POLE1",150]
[null,null,null,null,null,null,null,"HIGH PRESSURE SODIUM 70W TWIN ARCSTEEL POLE1",170]
[null,null,null,null,null,null,null,"HIGH PRESSURE SODIUM 50W TWIN ARCSTEEL POLE1",170]
[null,null,null,null,null,null,null,"35W LOW PRESSURE SODIUMSTEEL POLE1",180]
[null,null,null,null,null,null,null,"HIGH PRESSURE SODIUM 600W HIGH MASTSHARED OR NO POLE1",190]
[null,null,null,null,null,null,null,"MERCURY VAPOUR 250W WOOD POLE1",200]
[null,null,null,null,null,null,null,"MERCURY VAPOUR 400WWOOD POLE1",210]
[null,null,null,null,null,null,null,"HIGH PRESSURE SODIUM 150WWOOD POLE1",220]
[null,null,null,null,null,null,null,"HIGH PRESSURE SODIUM 250W (210/220)WOOD POLE1",230]
[null,null,null,null,null,null,null,"HIGH PRESSURE SODIUM 400W (310/360)WOOD POLE1",240]
[null,null,null,null,null,null,null,"HIGH PRESSURE SODIUM 600W HIGH MASTWOOD POLE1",250]
[null,null,null,null,null,null,null,"METAL HALIDE/HPS 400W FLOOD (310/360)R/BOUT COLUMN2",260]
[null,null,null,null,null,null,null,"METAL HALIDE/HPS 400W FLOOD (310/360)R/BOUT COLUMN3",270]
[null,null,null,null,null,null,null,"METAL HALIDE/HPS 400W FLOOD (310/360)R/BOUT COLUMN4",280]
[null,null,null,null,null,null,null,"MERCURY VAPOUR 250W STEEL POLE1",290]
[null,null,null,null,null,null,null,"MERCURY VAPOUR 400WSTEEL POLE1",300]
[null,null,null,null,null,null,null,"HIGH PRESSURE SODIUM 150WSTEEL POLE1",310]
[null,null,null,null,null,null,null,"HIGH PRESSURE SODIUM 250W (210/220)STEEL POLE1",320]
[null,null,null,null,null,null,null,"HIGH PRESSURE SODIUM 400W (310/360)STEEL POLE1",330]
[null,null,null,null,null,null,null,"HIGH PRESSURE SODIUM 600W HIGH MASTSTEEL POLE1",340]
[null,null,null,null,null,null,null,"HIGH PRESSURE SODIUM 70W (100)WOOD POLE1",350]
[null,null,null,null,null,null,null,"HIGH PRESSURE SODIUM 70W (100)STEEL POLE1",360]
[null,null,null,null,null,null,null,"MERCURY VAPOUR 250W STEEL POLE2",370]
[null,null,null,null,null,null,null,"MERCURY VAPOUR 400WSTEEL POLE2",380]
[null,null,null,null,null,null,null,"HIGH PRESSURE SODIUM 250W (210/220)STEEL POLE2",390]
[null,null,null,null,null,null,null,"HIGH PRESSURE SODIUM 400W (310/360)STEEL POLE2",400]
[null,null,null,null,null,null,null,"MERCURY VAPOUR 250W STEEL POLE3",410]
[null,null,null,null,null,null,null,"MERCURY VAPOUR 400WSTEEL POLE3",420]
[null,null,null,null,null,null,null,"HIGH PRESSURE SODIUM 250W (210/220)STEEL POLE3",430]
[null,null,null,null,null,null,null,"HIGH PRESSURE SODIUM 400W (310/360)STEEL POLE3",440]
[null,null,null,null,null,null,null,"MERCURY VAPOUR 250W STEEL POLE4",450]
[null,null,null,null,null,null,null,"MERCURY VAPOUR 400W STEEL POLE4",460]
[null,null,null,null,null,null,null,"HIGH PRESSURE SODIUM 250W (210/220)STEEL POLE4",470]
[null,null,null,null,null,null,null,"HIGH PRESSURE SODIUM 400W (310/360)STEEL POLE4",480]
[null,null,null,null,null,null,null,"MERCURY VAPOUR 250W R/BOUT COLUMN2",490]
[null,null,null,null,null,null,null,"MERCURY VAPOUR 400WR/BOUT COLUMN2",500]
[null,null,null,null,null,null,null,"HIGH PRESSURE SODIUM 250W (210/220)R/BOUT COLUMN2",510]
[null,null,null,null,null,null,null,"HIGH PRESSURE SODIUM 400W (310/360)R/BOUT COLUMN2",520]
[null,null,null,null,null,null,null,"MERCURY VAPOUR 250W R/BOUT COLUMN3",530]
[null,null,null,null,null,null,null,"MERCURY VAPOUR 400WR/BOUT COLUMN3",540]
[null,null,null,null,null,null,null,"HIGH PRESSURE SODIUM 250W (210/220)R/BOUT COLUMN3",550]
[null,null,null,null,null,null,null,"HIGH PRESSURE SODIUM 400W (310/360)R/BOUT COLUMN3",560]
[null,null,null,null,null,null,null,"MERCURY VAPOUR 250W R/BOUT COLUMN4",570]
[null,null,null,null,null,null,null,"MERCURY VAPOUR 400WR/BOUT COLUMN4",580]
[null,null,null,null,null,null,null,"HIGH PRESSURE SODIUM 250W (210/220)R/BOUT COLUMN4",590]
[null,null,null,null,null,null,null,"HIGH PRESSURE SODIUM 400W (310/360)R/BOUT COLUMN4",600]
[null,null,null,null,null,null,null,"METAL HALIDE/HPS 250W FLOOD (210/220)SHARED OR NO POLE1",610]
[null,null,null,null,null,null,null,"METAL HALIDE/HPS 400W FLOOD (310/360)SHARED OR NO POLE1",620]
[null,null,null,null,null,null,null,"METAL HALIDE/HPS 250W FLOOD (210/220)SHARED OR NO POLE1",630]
[null,null,null,null,null,null,null,"METAL HALIDE/HPS 400W FLOOD (310/360)SHARED OR NO POLE1",640]
[null,null,null,null,null,null,null,"METAL HALIDE/HPS 250W FLOOD (210/220)SHARED OR NO POLE2",650]
[null,null,null,null,null,null,null,"METAL HALIDE/HPS 400W FLOOD (310/360)SHARED OR NO POLE2",660]
[null,null,null,null,null,null,null,"METAL HALIDE/HPS 250W FLOOD (210/220)SHARED OR NO POLE2",670]
[null,null,null,null,null,null,null,"METAL HALIDE/HPS 400W FLOOD (310/360)SHARED OR NO POLE2",680]
[null,null,null,null,null,null,null,"HIGH PRESSURE SODIUM 150WSTEEL POLE2",690]
[null,null,null,null,null,null,null,"HIGH PRESSURE SODIUM 600W HIGH MASTWOOD POLE2",700]
[null,null,null,null,null,null,null,"HIGH PRESSURE SODIUM 150WSTEEL POLE3",710]
[null,null,null,null,null,null,null,"HIGH PRESSURE SODIUM 150WSTEEL POLE4",720]
[null,null,null,null,null,null,null,"HIGH PRESSURE SODIUM 70W (100)STEEL POLE2",730]
[null,null,null,null,null,null,null,"MERCURY VAPOUR 80WSHARED OR NO POLE2",740]
[null,null,null,null,null,null,null,"HIGH PRESSURE SODIUM 70W (100)SHARED OR NO POLE3",750]
[null,null,null,null,null,null,null,"HIGH PRESSURE SODIUM 250W (210/220)WOOD POLE2",760]
[null,null,null,null,null,null,null,"HIGH PRESSURE SODIUM 400W (310/360)WOOD POLE2",770]
[null,null,null,null,null,null,null,"MERCURY VAPOUR 250W WOOD POLE2",780]
[null,null,null,null,null,null,null,"MERCURY VAPOUR 400WWOOD POLE2",790]
[null,null,null,null,null,null,null,"SV 600W HIGH MASTR/BOUT COLUMN6",800]
[null,null,null,null,null,null,null,"MERCURY VAPOUR 80WWOOD POLE1",810]
[null,null,null,null,null,null,null,"MERCURY VAPOUR 80WSHARED OR NO POLE3",820]
[null,null,null,null,null,null,null,"MERCURY VAPOUR 80WSHARED OR NO POLE4",830]
[null,null,null,null,null,null,null,"METAL HALIDE 1000W FLOODLIGHT R/BOUT COLUMN3",840]
[null,null,null,null,null,null,null,"METAL HALIDE 1000W FLOODLIGHT R/BOUT COLUMN2",850]
[null,null,null,null,null,null,null,"HIGH PRESSURE SODIUM 2X250 W OR 2X400 W FLOODR/BOUT COLUMN3",860]
[null,null,null,null,null,null,null,"HIGH PRESSURE SODIUM 2X250 W OR 2X400 W FLOODR/BOUT COLUMN4",870]
[null,null,null,null,null,null,null,"HIGH PRESSURE SODIUM 70W (100)STEEL POLE4",880]
[null,null,null,null,null,null,null,"HIGH PRESSURE SODIUM 70W (100)SHARED OR NO POLE2",890]
[null,null,null,null,null,null,null,"METAL HALIDE/HPS 400W FLOOD (310/360)WOOD POLE2",900]
[null,null,null,null,null,null,null,"HIGH PRESSURE SODIUM 70W (100)WOOD POLE2",910]
[null,null,null,null,null,null,null,"HIGH PRESSURE SODIUM 70W (100)SHARED OR NO POLE4",920]
[null,null,null,null,null,null,null,"HIGH PRESSURE SODIUM 250W (210/220)WOOD POLE3",930]
[null,null,null,null,null,null,null,"MERCURY VAPOUR 250W SHARED OR NO POLE2",940]
[null,null,null,null,null,null,null,"MERCURY VAPOUR 400WSHARED OR NO POLE2",950]
[null,null,null,null,null,null,null,"HIGH PRESSURE SODIUM 250W (210/220)SHARED OR NO POLE2",960]
[null,null,null,null,null,null,null,"HIGH PRESSURE SODIUM 250W (210/220)SHARED OR NO POLE4",970]
[null,null,null,null,null,null,null,"HIGH PRESSURE SODIUM 150WWOOD POLE2",980]
[null,null,null,null,null,null,null,"MERCURY VAPOUR 80WSTEEL POLE1",990]
[null,null,null,null,null,null,null,"MERCURY VAPOUR 80WSTEEL POLE2",1000]
[null,null,null,null,null,null,null,"HIGH PRESSURE SODIUM 150WSHARED OR NO POLE2",1010]
[null,null,null,null,null,null,null,"HIGH PRESSURE SODIUM 250W (210/220)SHARED OR NO POLE3",1020]
[null,null,null,null,null,null,null,"HIGH PRESSURE SODIUM 400W (310/360)SHARED OR NO POLE2",1030]
[null,null,null,null,null,null,null,"METAL HALIDE 1000W FLOODLIGHT SHARED OR NO POLE2",1040]
[null,null,null,null,null,null,null,"METAL HALIDE 1000W FLOODLIGHT R/BOUT COLUMN4",1050]
[null,null,null,null,null,null,null,"HIGH PRESSURE SODIUM 400W (310/360)WOOD POLE4",1060]
[null,null,null,null,null,null,null,"METAL HALIDE/HPS 250W FLOOD (210/220)WOOD POLE1",1070]
[null,null,null,null,null,null,null,"METAL HALIDE/HPS 400W FLOOD (310/360)WOOD POLE1",1100]
[null,null,null,null,null,null,null,"METAL HALIDE/HPS 400W FLOOD (310/360)SHARED OR NO POLE2",1080]
[null,null,null,null,null,null,null,"METAL HALIDE/HPS 400W FLOOD (310/360)WOOD POLE1",1100]
[null,null,null,null,null,null,null,"METAL HALIDE 1000W FLOODLIGHT WOOD POLE1",1110]
[null,null,null,null,null,null,null,"METAL HALIDE/HPS 250W FLOOD (210/220)STEEL POLE1",1120]
[null,null,null,null,null,null,null,"METAL HALIDE/HPS 400W FLOOD (310/360)STEEL POLE2",1130]
[null,null,null,null,null,null,null,"METAL HALIDE/HPS 250W FLOOD (210/220)STEEL POLE2",1140]
[null,null,null,null,null,null,null,"METAL HALIDE/HPS 250W FLOOD (210/220)STEEL POLE3",1150]
[null,null,null,null,null,null,null,"METAL HALIDE/HPS 250W FLOOD (210/220)WOOD POLE2",1160]
[null,null,null,null,null,null,null,"METAL HALIDE/HPS 400W FLOOD (310/360)STEEL POLE1",1170]
[null,null,null,null,null,null,null,"HIGH PRESSURE SODIUM 70W TWIN ARCSHARED OR NO POLE2",1180]
[null,null,null,null,null,null,null,"HIGH PRESSURE SODIUM 70W TWIN ARCSHARED OR NO POLE3",1190]
[null,null,null,null,null,null,null,"HIGH PRESSURE SODIUM 70W TWIN ARCSHARED OR NO POLE4",1200]
[null,null,null,null,null,null,null,"HIGH PRESSURE SODIUM 70W TWIN ARCWOOD POLE2",1210]
[null,null,null,null,null,null,null,"HIGH PRESSURE SODIUM 70W TWIN ARCSTEEL POLE2",1220]
[null,null,null,null,null,null,null,"HIGH PRESSURE SODIUM 70W TWIN ARCSTEEL POLE3",1230]
[null,null,null,null,null,null,null,"HIGH PRESSURE SODIUM 70W TWIN ARCSTEEL POLE4",1240]
[null,null,null,null,null,null,null,"METAL HALIDE/HPS 400W FLOOD (310/360)WOOD POLE3",1250]
[null,null,null,null,null,null,null,"MERCURY VAPOUR 80WWOOD POLE2",1260]
[null,null,null,null,null,null,null,"METAL HALIDE 250W BOSTON 3STEEL POLE1",1270]
[null,null,null,null,null,null,null,"METAL HALIDE 250W BOSTON 3STEEL POLE2",1280]
[null,null,null,null,null,null,null,"METAL HALIDE 250W BOSTON 3STEEL POLE4",1290]
[null,null,null,null,null,null,null,"HIGH PRESSURE SODIUM DECORATIVE 150WSTEEL POLE1",1300]
[null,null,null,null,null,null,null,"HIGH PRESSURE SODIUM DECORATIVE 150WSTEEL POLE2",1310]
[null,null,null,null,null,null,null,"HIGH PRESSURE SODIUM DECORATIVE 150WSTEEL POLE4",1320]
[null,null,null,null,null,null,null,"HIGH PRESSURE SODIUM DECORATIVE 250W (210/220)STEEL POLE1",1330]
[null,null,null,null,null,null,null,"HIGH PRESSURE SODIUM DECORATIVE 250W (210/220)STEEL POLE2",1340]
[null,null,null,null,null,null,null,"HIGH PRESSURE SODIUM DECORATIVE 250W (210/220)STEEL POLE4",1350]
[null,null,null,null,null,null,null,"HIGH PRESSURE SODIUM 150WR/BOUT COLUMN3",1360]
[null,null,null,null,null,null,null,"HIGH PRESSURE SODIUM 150WR/BOUT COLUMN4",1370]
[null,null,null,null,null,null,null,"METAL HALIDE/HPS 250W FLOOD (210/220)R/BOUT COLUMN3",1380]
[null,null,null,null,null,null,null,"METAL HALIDE/HPS 250W FLOOD (210/220)R/BOUT COLUMN4",1450]
[null,null,null,null,null,null,null,"MERCURY VAPOUR 80WSTEEL POLE3",1460]
[null,null,null,null,null,null,null,"HIGH PRESSURE SODIUM 3X400 W POST TOPR/BOUT COLUMN1",1470]
[null,null,null,null,null,null,null,"HIGH PRESSURE SODIUM 1X400 W POST TOPR/BOUT COLUMN1",1480]
[null,null,null,null,null,null,null,"HIGH PRESSURE SODIUM 2X250 W OR 2X400 W FLOODR/BOUT COLUMN2",1490]
[null,null,null,null,null,null,null,"MERCURY VAPOUR 80WSTEEL POLE4",1500]
[null,null,null,null,null,null,null,"KENSINGTON 80 WSTEEL POLE1",1600]
[null,null,null,null,null,null,null,"NOSTALGIA 80 WSTEEL POLE1",1610]
[null,null,null,null,null,null,null,"REXEL OPTISPAN MINOR CFL57SHARED OR NO POLE1",7090]
[null,null,null,null,null,null,null,"REXEL OPTISPAN MINOR CFL57WOOD POLE1",7140]
[null,null,null,null,null,null,null,"REXEL OPTISPAN MINOR CFL57STEEL POLE1",7170]
[null,null,null,null,null,null,null,"REXEL OPTISPAN MINOR 70 HPSSHARED OR NO POLE1",8090]
[null,null,null,null,null,null,null,"REXEL OPTISPAN MINOR 70 HPSWOOD POLE1",8140]
[null,null,null,null,null,null,null,"REXEL OPTISPAN MINOR 70 HPSSTEEL POLE1",8170]
[null,null,null,null,null,null,null,"2000 W MH FLOODLIGHT SHARED OR NO POLE1",8180]
[null,null,null,null,null,null,null,"2000 W MH FLOODLIGHT SHARED OR NO POLE1",8190]
[null,null,null,null,null,null,null,"2000 W MH FLOODLIGHT SHARED OR NO POLE1",8200]
[null,null,null,null,null,null,null,"COMPACT FLUORESCENT 42WSHARED OR NO POLE1",1620]
[null,null,null,null,null,null,null,"COMPACT FLUORESCENT 42WSHARED OR NO POLE2",1630]
[null,null,null,null,null,null,null,"COMPACT FLUORESCENT 42WSHARED OR NO POLE3",1640]
[null,null,null,null,null,null,null,"COMPACT FLUORESCENT 42WSHARED OR NO POLE4",1650]
[null,null,null,null,null,null,null,"COMPACT FLUORESCENT 42WWOOD POLE1",1660]
[null,null,null,null,null,null,null,"COMPACT FLUORESCENT 42WWOOD POLE2",1670]
[null,null,null,null,null,null,null,"COMPACT FLUORESCENT 42WWOOD POLE3",1680]
[null,null,null,null,null,null,null,"COMPACT FLUORESCENT 42WWOOD POLE4",1690]
[null,null,null,null,null,null,null,"COMPACT FLUORESCENT 42WSTEEL POLE1",1700]
[null,null,null,null,null,null,null,"COMPACT FLUORESCENT 42WSTEEL POLE2",1710]
[null,null,null,null,null,null,null,"COMPACT FLUORESCENT 42WSTEEL POLE3",1720]
[null,null,null,null,null,null,null,"COMPACT FLUORESCENT 42WSTEEL POLE4",1730]
[null,null,null,null,null,null,null,"COMPACT FLUORESCENT 32WSHARED OR NO POLE1",1980]
[null,null,null,null,null,null,null,"COMPACT FLUORESCENT 32WSHARED OR NO POLE2",1990]
[null,null,null,null,null,null,null,"COMPACT FLUORESCENT 32WSHARED OR NO POLE3",2000]
[null,null,null,null,null,null,null,"COMPACT FLUORESCENT 32WSHARED OR NO POLE4",2010]
[null,null,null,null,null,null,null,"COMPACT FLUORESCENT 32WWOOD POLE1",2020]
[null,null,null,null,null,null,null,"COMPACT FLUORESCENT 32WWOOD POLE2",2030]
[null,null,null,null,null,null,null,"COMPACT FLUORESCENT 32WWOOD POLE3",2040]
[null,null,null,null,null,null,null,"COMPACT FLUORESCENT 32WWOOD POLE4",2050]
[null,null,null,null,null,null,null,"COMPACT FLUORESCENT 32WSTEEL POLE1",2060]
[null,null,null,null,null,null,null,"COMPACT FLUORESCENT 32WSTEEL POLE2",2070]
[null,null,null,null,null,null,null,"COMPACT FLUORESCENT 32WSTEEL POLE3",2080]
[null,null,null,null,null,null,null,"COMPACT FLUORESCENT 32WSTEEL POLE4",2090]
[null,null,null,null,null,null,null,"T5 2x14WSHARED OR NO POLE1",1740]
[null,null,null,null,null,null,null,"T5 2x14WSHARED OR NO POLE2",1750]
[null,null,null,null,null,null,null,"T5 2x14WSHARED OR NO POLE3",1760]
[null,null,null,null,null,null,null,"T5 2x14WSHARED OR NO POLE4",1770]
[null,null,null,null,null,null,null,"T5 2x14WWOOD POLE1",1780]
[null,null,null,null,null,null,null,"T5 2x14WWOOD POLE2",1790]
[null,null,null,null,null,null,null,"T5 2x14WWOOD POLE3",1800]
[null,null,null,null,null,null,null,"T5 2x14WWOOD POLE4",1810]
[null,null,null,null,null,null,null,"T5 2x14WSTEEL POLE1",1820]
[null,null,null,null,null,null,null,"T5 2x14WSTEEL POLE2",1830]
[null,null,null,null,null,null,null,"T5 2x14WSTEEL POLE3",1840]
[null,null,null,null,null,null,null,"T5 2x14WSTEEL POLE4",1850]
[null,null,null,null,null,null,null,"T5 2x24WSHARED OR NO POLE1",1860]
[null,null,null,null,null,null,null,"T5 2x24WSHARED OR NO POLE2",1870]
[null,null,null,null,null,null,null,"T5 2x24WSHARED OR NO POLE3",1880]
[null,null,null,null,null,null,null,"T5 2x24WSHARED OR NO POLE4",1890]
[null,null,null,null,null,null,null,"T5 2x24WWOOD POLE1",1900]
[null,null,null,null,null,null,null,"T5 2x24WWOOD POLE2",1910]
[null,null,null,null,null,null,null,"T5 2x24WWOOD POLE3",1920]
[null,null,null,null,null,null,null,"T5 2x24WWOOD POLE4",1930]
[null,null,null,null,null,null,null,"T5 2x24WSTEEL POLE1",1940]
[null,null,null,null,null,null,null,"T5 2x24WSTEEL POLE2",1950]
[null,null,null,null,null,null,null,"T5 2x24WSTEEL POLE3",1960]
[null,null,null,null,null,null,null,"T5 2x24WSTEEL POLE4",1970]
[]
[null,null,null,null,null,null,null,"Hand-calculated construction codes"]
[]
[null,null,null,null,null,null,null,"FLU0355 - Compact Fluorescent 32",1980,"FLU0355-ST"]
[null,null,null,null,null,null,null,"LED0090 - LED90",3030,"LED0090-ST"]
[null,null,null,null,null,null,null,"LED0090 - LED90",3040,"LED0090-ST"]
[null,null,null,null,null,null,null,"LED0090 - LED90",3050,"LED0090-ST"]
[null,null,null,null,null,null,null,"LED0025 - EvolveLED 25w",3060,"LED0025-ST"]
[null,null,null,null,null,null,null,"LED0025 - EvolveLED 25w",3070,"LED0025-ST"]
[null,null,null,null,null,null,null,"LED0025 - EvolveLED 25w",3100,"LED0025-ST"]
[null,null,null,null,null,null,null,"LED0025 - EvolveLED 25w",3110,"LED0025-ST"]
[null,null,null,null,null,null,null,"LED0025 - EvolveLED 25w",3140,"LED0025-ST"]
[null,null,null,null,null,null,null,"LED0025 - EvolveLED 25w",3150,"LED0025-ST"]
[null,null,null,null,null,null,null,"LED0018 - StreetLED 18w",3180,"LED0018-ST"]
[null,null,null,null,null,null,null,"LED0018 - StreetLED 18w",3190,"LED0018-ST"]
[null,null,null,null,null,null,null,"LED0018 - StreetLED 18w",3200,"LED0018-ST"]
[null,null,null,null,null,null,null,"LED0018 - StreetLED 18w",3220,"LED0018-ST"]
[null,null,null,null,null,null,null,"LED0018 - StreetLED 18w",3260,"LED0018-ST"]
[null,null,null,null,null,null,null,"LED0012 - Aldridge LED 198W - Std Distribution",4710,"LED0012-ST"]

{"sheet":"Sheet1","index":25,"n_rows":2,"n_cols":4,"rows_kept":2,"cut":false,"hidden":false,"merged":[]}
[]
[null,"Mapping Code","Description","Category"]

{"sheet":"SRC_STLAssetList","index":26,"n_rows":0,"n_cols":0,"rows_kept":0,"cut":false,"hidden":false,"merged":[]}