{"text_format":"1","workbook":"xlsx","n_sheets":41,"sheets":["Index","Output|Fee Based","Output|Quoted","Output|RIN Expense","Output|RIN Revenue","Input|Setup","Input|Escalations","Input|Indirect Cost Rates","Input|Labour Rates","Input|Fee Based","Input|Fee Based Mapping","Input|Volume, Revenue, Cost","Input|Tax Recovery","Input|Materials","Calc|Labour Rates","Calc|Fee Based","Model Validation","ND1P","ND3P","BTSO","BTSP","SUTK","RTK1","REEN","DEEN","DCTK","RCTK","SLOM","RFOM","REENRM","DEENRM","MCTK","SPRDRM","MECFRM","SPRD","MTAL","MDCH","NCUM","WSVR","RTK3","Template"],"not_rendered":{"charts":0,"images":0,"macros":0,"external_links":0,"defined_names":271,"comments":0,"pivot_tables":0},"unopened":[],"bounds":{"document_bytes":16777216,"sheet_cells":100000,"rows_first":2000,"rows_last":500,"rows_between":2000,"halvings":0,"cell_chars":16384,"cell_head_chars":4096},"cells_cut":0,"cells_raw":0,"read":"whole","date_system":"1900"}

{"sheet":"Index","index":0,"n_rows":85,"n_cols":8,"rows_kept":85,"cut":false,"hidden":false,"merged":[]}
[null,"Jemena Electricity Networks – Alternative Control Services Forecast model"]
[null,{"$f":"IFERROR(MID(CELL(\"filename\",A1),FIND(\"]\",CELL(\"filename\",A1))+1,255),\"\")","v":"Index"},"Overall Check:",{"$f":"'Model Validation'!C4","v":0}]
[]
[]
[null,"Worksheet summary"]
[]
[null,"Worksheet name","Check:",null,null,"Input required?",null,"Description"]
[null,{"$f":"'Output|Fee Based'!B2","v":"Output|Fee Based"},{"$f":"'Model Validation'!C8","v":0},null,null,"N",null,"Contains caclulated price and X factors for fee based services."]
[null,{"$f":"'Output|Quoted'!B2","v":"Output|Quoted"},{"$f":"'Model Validation'!C9","v":0},null,null,"N",null,"Contains caclulated labour rates and X factors for quoted services."]
[null,{"$f":"'Input|Setup'!B2","v":"Input|Setup"},{"$f":"'Model Validation'!C10","v":0},null,null,"Y",null,"Sets up model with relevant years and output categories."]
[null,{"$f":"'Input|Escalations'!B2","v":"Input|Escalations"},{"$f":"'Model Validation'!C11","v":0},null,null,"Y",null,"Sets up the inflation and labour escalations."]
[null,{"$f":"'Input|Indirect Cost Rates'!B2","v":"Input|Indirect Cost Rates"},{"$f":"'Model Validation'!C12","v":"NA"},null,null,"Y",null,"Input for indirect cost rates."]
[null,{"$f":"'Input|Labour Rates'!B2","v":"Input|Labour Rates"},{"$f":"'Model Validation'!C13","v":0},null,null,"Y",null,"Input for labour cost components."]
[null,{"$f":"'Input|Fee Based'!B2","v":"Input|Fee Based"},{"$f":"'Model Validation'!C14","v":0},null,null,"Y",null,"Input for fee based costs and service information."]
[null,{"$f":"'Input|Fee Based Mapping'!B2","v":"Input|Fee Based Mapping"},{"$f":"'Model Validation'!C15","v":0},null,null,"Y",null,"Aligns historical and proposed fee based services information."]
[null,"Calc|Tax Recovery",{"$f":"'Input|Tax Recovery'!J1","v":0},null,null,"Y",null,"Input for tax recovery components."]
[null,{"$f":"'Calc|Labour Rates'!B2","v":"Calc|Labour Rates"},{"$f":"'Model Validation'!C16","v":"NA"},null,null,"N",null,"Calculation tables for labour rates."]
[null,{"$f":"'Calc|Fee Based'!B2","v":"Calc|Fee Based"},{"$f":"'Model Validation'!C17","v":0},null,null,"N",null,"Calculation tables for fee based services prices."]
[null,{"$f":"'Model Validation'!B2","v":"Model Validation"},{"$f":"'Model Validation'!C18","v":"NA"},null,null,"N",null,"Checks and traces possible input errors."]
[null,{"$f":"'Input|Labour Rates'!B87","v":"ND1P"},{"$f":"'Model Validation'!C19","v":0},null,null,"Y",null,"Cost Build Up"]
[null,{"$f":"'Input|Labour Rates'!B88","v":"ND3P"},{"$f":"'Model Validation'!C20","v":0},null,null,"Y",null,"Cost Build Up"]
[null,{"$f":"'Input|Labour Rates'!B89","v":"BTSO"},{"$f":"'Model Validation'!C21","v":0},null,null,"Y",null,"Cost Build Up"]
[null,{"$f":"'Input|Labour Rates'!B90","v":"BTSP"},{"$f":"'Model Validation'!C22","v":0},null,null,"Y",null,"Cost Build Up"]
[null,{"$f":"'Input|Labour Rates'!B91","v":"SUTK"},{"$f":"'Model Validation'!C23","v":0},null,null,"Y",null,"Cost Build Up"]
[null,{"$f":"'Input|Labour Rates'!B92","v":"RTK1"},{"$f":"'Model Validation'!C24","v":0},null,null,"Y",null,"Cost Build Up"]
[null,{"$f":"'Input|Labour Rates'!B93","v":"REEN"},{"$f":"'Model Validation'!C25","v":0},null,null,"Y",null,"Cost Build Up"]
[null,{"$f":"'Input|Labour Rates'!B94","v":"DEEN"},{"$f":"'Model Validation'!C26","v":0},null,null,"Y",null,"Cost Build Up"]
[null,{"$f":"'Input|Labour Rates'!B95","v":"DCTK"},{"$f":"'Model Validation'!C27","v":0},null,null,"Y",null,"Cost Build Up"]
[null,{"$f":"'Input|Labour Rates'!B96","v":"RCTK"},{"$f":"'Model Validation'!C28","v":0},null,null,"Y",null,"Cost Build Up"]
[null,{"$f":"'Input|Labour Rates'!B97","v":"SLOM"},{"$f":"'Model Validation'!C29","v":0},null,null,"Y",null,"Cost Build Up"]
[null,{"$f":"'Input|Labour Rates'!B99","v":"RFOM"},{"$f":"'Model Validation'!C30","v":0},null,null,"Y",null,"Cost Build Up"]
[null,{"$f":"'Input|Labour Rates'!B100","v":"REENRM"},{"$f":"'Model Validation'!C31","v":0},null,null,"Y",null,"Cost Build Up"]
[null,{"$f":"'Input|Labour Rates'!B101","v":"DEENRM"},{"$f":"'Model Validation'!C32","v":0},null,null,"Y",null,"Cost Build Up"]
[null,{"$f":"'Input|Labour Rates'!B102","v":"MCTK"},{"$f":"'Model Validation'!C33","v":0},null,null,"Y",null,"Cost Build Up"]
[null,{"$f":"'Input|Labour Rates'!B103","v":"SPRDRM"},{"$f":"'Model Validation'!C34","v":0},null,null,"Y",null,"Cost Build Up"]
[null,{"$f":"'Input|Labour Rates'!B104","v":"MECFRM"},{"$f":"'Model Validation'!C35","v":0},null,null,"Y",null,"Cost Build Up"]
[null,{"$f":"'Input|Labour Rates'!B105","v":"SPRD"},{"$f":"'Model Validation'!C36","v":0},null,null,"Y",null,"Cost Build Up"]
[null,{"$f":"'Input|Labour Rates'!B106","v":"MTAL"},{"$f":"'Model Validation'!C37","v":0},null,null,"Y",null,"Cost Build Up"]
[null,{"$f":"'Input|Labour Rates'!B107","v":"MDCH"},{"$f":"'Model Validation'!C38","v":0},null,null,"Y",null,"Cost Build Up"]
[null,{"$f":"'Input|Labour Rates'!B108","v":"NCUM"},{"$f":"'Model Validation'!C39","v":0},null,null,"Y",null,"Cost Build Up"]
[null,{"$f":"'Input|Labour Rates'!B109","v":"WSVR"},{"$f":"'Model Validation'!C40","v":0},null,null,"Y",null,"Cost Build Up"]
[null,{"$f":"'Input|Labour Rates'!B110","v":"RTK3"},{"$f":"'Model Validation'!C41","v":0},null,null,"Y",null,"Cost Build Up"]
[null,"Template",{"$f":"'Model Validation'!C42","v":0},null,null,"N",null,"Cost Build Up"]
[]
[null,"Table summary"]
[]
[null,"Name","Tab",null,null,"Input required?",null,"Description"]
[null,{"$f":"'Output|Fee Based'!B5","v":"1.1 X-factors for each year of 2026-27 to 2030-31 regulatory period, (per cent)"},{"$f":"B8","v":"Output|Fee Based"},null,null,"N",null,"Contains X-factors to apply to fee-based services for years 2-5 of the forthcoming regulatory control period."]
[null,{"$f":"'Output|Fee Based'!B10","v":"1.2 Fee based services for 2026-27"},{"$f":"$C$48","v":"Output|Fee Based"},null,null,"N",null,"Contains the calculated price for each fee based servce, in nominal terms, for year 1 of the forthcoming regulatory control period."]
[null,{"$f":"'Output|Quoted'!B5","v":"2.1 X-factors for each year of 2026-27 to 2030-31 regulatory period, (per cent)"},{"$f":"B9","v":"Output|Quoted"},null,null,"N",null,"Contains X-factors to apply to the labour rates used to provide quoted services for years 2-5 of the forthcoming regulatory control period."]
[null,{"$f":"'Output|Quoted'!B10","v":"2.2 Labour rates for 2026-27, ($2026-27)"},{"$f":"$C$50","v":"Output|Quoted"},null,null,"N",null,"Contains the calculated labour rate for each labour type used to provide quoted servces, in nominal terms, for year 1 of the forthcoming regulatory control period."]
[null,{"$f":"'Output|Quoted'!B34","v":"2.3 List of quoted services for 2026-27 to 2030-31 regulatory period"},{"$f":"$C$50","v":"Output|Quoted"},null,null,"N",null,"Lists the quoted services the distributor proposes to provide in the forthcoming regulatory control period."]
[null,{"$f":"'Input|Setup'!A5 & \" \" & 'Input|Setup'!B5","v":"3.1 Years setup"},{"$f":"'Input|Setup'!B2","v":"Input|Setup"},null,null,"Y",null,"Please choose the first year of the forthcoming regulatory period and the base year for inputs."]
[null,{"$f":"'Input|Setup'!A10 & \" \" & 'Input|Setup'!B10","v":"3.2 Current regulatory period"},{"$f":"$C$53","v":"Input|Setup"},null,null,"N",null,"Contains the regulatory years of the current regulatory control period."]
[null,{"$f":"'Input|Setup'!D10 & \" \" & 'Input|Setup'!E10","v":"3.3 Forecast regulatory period"},{"$f":"$C$53","v":"Input|Setup"},null,null,"N",null,"Contains the regulatory years of the forthcoming regulatory control period."]
[null,{"$f":"'Input|Setup'!A18 & \" \" & 'Input|Setup'!B18","v":"3.4 Used for quoted service?"},{"$f":"$C$53","v":"Input|Setup"},null,null,"N",null,"Contains reference to drop down lists for use in 'Input|Labour rates' to denote whether the labour category is to be used in the provision of quoted services."]
[null,{"$f":"'Input|Setup'!D18 & \" \" & 'Input|Setup'!E18","v":"3.5 Conversions"},{"$f":"$C$53","v":"Input|Setup"},null,null,"Optional",null,"Lists figures used for conversions in formulas."]
[null,{"$f":"'Input|Setup'!A24 & \" \" & 'Input|Setup'!B24","v":"3.6 Hours"},"Input|Setup",null,null,"Y",null,"Please enter time periods that would result in different rates applied for the same service or labour type (e.g. business hours, after hours)."]
[null,{"$f":"'Input|Setup'!A30 & \" \" & 'Input|Setup'!B30","v":"3.7 Labour type"},"Input|Setup",null,null,"Y",null,"Please enter the specific labour types used to provide fee based and quoted services."]
[null,{"$f":"'Input|Setup'!D30 & \" \" & 'Input|Setup'!E30","v":"3.8 Service category"},"Input|Setup",null,null,"Y",null,"Please enter the major service categories for fee based services (e.g. basic connection services, network safety services, auxiliary metering services)."]
[null,{"$f":"'Input|Setup'!G30 & \" \" & 'Input|Setup'!H30","v":"3.9 Expense Type"},"Input|Setup",null,null,"Optional",null,"Please enter distributor-specific categories for fee-based services, if required."]
[null,{"$f":"'Input|Setup'!G40 & \" \" & 'Input|Setup'!H40","v":"3.10 Control Mechanism"},"Input|Setup",null,null,"Optional",null,"Please enter distributor-specific categories for fee-based services, if required."]
[null,{"$f":"'Input|Escalations'!A5 & \" \" & 'Input|Escalations'!B5","v":"4.1 Escalation setup"},{"$f":"'Input|Escalations'!B2","v":"Input|Escalations"},null,null,"N",null,"Contains the first year of the forthcoming regulatory control period and the nominated base year. These are used in calculations in the 'Input|Escalation' sheet."]
[null,{"$f":"'Input|Escalations'!A13 & \" \" & 'Input|Escalations'!B13","v":"4.2 Inflation"},{"$f":"$C$63","v":"Input|Escalations"},null,null,"Y",null,"Please enter ABS index, all groups CPI inflation series A2325846C, up to latest available December. Please enter forecast CPI, including source, for other years."]
[null,{"$f":"'Input|Escalations'!A24 & \" \" & 'Input|Escalations'!B24","v":"4.3 Real price escalation"},{"$f":"$C$63","v":"Input|Escalations"},null,null,"Optional",null,"Calculates X factor (real wage price escalation). Other real escalators are set to equal X factor by default, but can be amended by distributors."]
[null,{"$f":"'Input|Escalations'!A34 & \" \" & 'Input|Escalations'!B34","v":"4.3.1 Real wage price escalation"},{"$f":"$C$63","v":"Input|Escalations"},null,null,"Y",null,"Please enter sources and forecasts for real wage price escalation, including weightings for each source, in the green input cells. Grey cells will calculate the forecast real wage price escalation."]
[null,{"$f":"'Input|Escalations'!A54& \" \" & 'Input|Escalations'!B54","v":"4.3.2 Real price escalation (non-wage)"},{"$f":"$C$63","v":"Input|Escalations"},null,null,"N",null,"Contains the calculated forecast real escalation for non-wage inputs."]
[null,{"$f":"'Input|Indirect Cost Rates'!A5 & \" \" & 'Input|Indirect Cost Rates'!B5","v":"5.1 On costs"},{"$f":"'Input|Indirect Cost Rates'!B2","v":"Input|Indirect Cost Rates"},null,null,"Y",null,"Please enter relevant on-cost rates. Distributors may enter a total on-cost rate only. Alternatively, disaggregated on-cost rates may be provided with the total on-cost rate calculated in row 19, as required."]
[null,{"$f":"'Input|Indirect Cost Rates'!A22 & \" \" & 'Input|Indirect Cost Rates'!B22","v":"5.2 Overhead"},{"$f":"$C$68","v":"Input|Indirect Cost Rates"},null,null,"Y",null,"Please enter rates for network overhead and corporate overhead. Where relevant, distributors may enter other overhead rates (e.g. a total overhead rate)."]
[null,{"$f":"'Input|Indirect Cost Rates'!A32 & \" \" & 'Input|Indirect Cost Rates'!B32","v":"5.3 Margins"},{"$f":"$C$68","v":"Input|Indirect Cost Rates"},null,null,"Y",null,"Please enter margin rates as required."]
[null,{"$f":"'Input|Indirect Cost Rates'!A41 & \" \" & 'Input|Indirect Cost Rates'!B41","v":"5.4 Tax recovery rate"},{"$f":"$C$68","v":"Input|Indirect Cost Rates"},null,null,"Y",null,"Please enter tax recovery rates as required."]
[null,{"$f":"'Input|Labour Rates'!B7","v":"6.1 Labour rates"},{"$f":"'Input|Labour Rates'!B2","v":"Input|Labour Rates"},null,null,"Y",null,"Please enter required information regarding labour rates (in base year dollar terms) used to provide ANS. For on-cost and overhead rates, please use formulas to reference tables 5.1 and 5.2, respectively."]
[null,{"$f":"'Input|Labour Rates'!K7","v":"6.2 Notes and sources for \"Other costs\""},{"$f":"$C$72","v":"Input|Labour Rates"},null,null,"Y",null,"Please describe \"Other costs\" used to derive total labour rates, where appropriate, and provide sources."]
[null,{"$f":"'Input|Labour Rates'!B32","v":"6.3 List of quoted services for 2026-27 to 2030-31 regulatory period"},{"$f":"$C$72","v":"Input|Labour Rates"},null,null,"Y",null,"Please list the quoted services the distributor proposes to provide in the forthcoming regulatory control period."]
[null,{"$f":"'Input|Fee Based'!B6","v":"7.1 Fee based services"},{"$f":"'Input|Fee Based'!B2","v":"Input|Fee Based"},null,null,"Y",null,"Please list the name and service code of the fee-based services, including hours provided and general service category."]
[null,{"$f":"'Input|Fee Based'!I6","v":"7.2 Service cost build up - DIRECT COSTS, $'s ($2024-25)"},{"$f":"$C$75","v":"Input|Fee Based"},null,null,"Y",null,"Please input the direct costs in base year dollar terms incurred for providinng each fee based service, and other requested information such as the total time in minutes each labour type is required to provide the service."]
[null,{"$f":"'Input|Fee Based'!X6","v":"7.3 Service cost build - INDIRECT COSTS (per cent)"},{"$f":"$C$75","v":"Input|Fee Based"},null,null,"Y",null,"Please use formulas to reference in the 'Input|Indirect Cost Rates' sheet as appropriate."]
[null,{"$f":"'Input|Fee Based'!AF6","v":"7.4 Notes and sources for \"Other costs\""},{"$f":"$C$75","v":"Input|Fee Based"},null,null,"Y",null,"Please describe \"Other costs\" used to derive the year 1 price for fee based services, where appropriate, and provide sources."]
[null,{"$f":"'Input|Fee Based Mapping'!B9","v":"8.1 Current regulatory period - Fee based services"},{"$f":"'Input|Fee Based Mapping'!B2","v":"Input|Fee Based Mapping"},null,null,"Y",null,"Please enter approved fee based services and prices (in nominal dollar terms) for the current regulatory control perod (including the final decision prices in column K). Please align with the fee based services for the forthcoming regulatoru control period in table 8.2."]
[null,{"$f":"'Input|Fee Based Mapping'!U9","v":"8.2 Forecast regulatory period - Fee based services"},{"$f":"$C$79","v":"Input|Fee Based Mapping"},null,null,"N",null,"Includes the year 1 price for fee based services (from 'Calc|Fee Based' sheet), then calculates prices for years 2 to 5 of the forthcoming regulatory control period using forecast inflation and X factors."]
[null,{"$f":"'Calc|Labour Rates'!B7","v":"9.1 Year 1 labour rates"},{"$f":"'Calc|Labour Rates'!B2","v":"Calc|Labour Rates"},null,null,"N",null,"Calculates labour rate for each labour type used to provide quoted servces, in nominal terms, for year 1 of the forthcoming regulatory control period."]
[null,{"$f":"'Calc|Labour Rates'!H7","v":"9.2 Year 1 labour rates build up, $'s ($2026-27)"},{"$f":"$C$81","v":"Calc|Labour Rates"},null,null,"N",null,"Calculates labour rate for each labour type used to provide quoted servces for year 1 of the forthcoming regulatory control period."]
[null,{"$f":"'Calc|Fee Based'!B6","v":"10.1 Fee based services"},{"$f":"'Calc|Fee Based'!$B$2","v":"Calc|Fee Based"},null,null,"N",null,"Calculates price for each fee based servce, in nominal terms, for year 1 of the forthcoming regulatory control period."]
[null,{"$f":"'Calc|Fee Based'!J6","v":"10.2 Year 1 service cost build up - DIRECT COSTS, $'s ($2026-27)"},{"$f":"$C$83","v":"Calc|Fee Based"},null,null,"N",null,"Calculates the direct costs for each fee based service, in base year dollar terms, for year 1 of the forthcoming regulatory control period."]
[null,{"$f":"'Calc|Fee Based'!AB6","v":"10.3 Year 1 Service cost build up - INDIRECT COSTS, $'s ($2026-27)"},{"$f":"$C$83","v":"Calc|Fee Based"},null,null,"N",null,"Calculates the indirect costs for each fee based service, in base year dollar terms, for year 1 of the forthcoming regulatory control period."]

{"sheet":"Output|Fee Based","index":1,"n_rows":71,"n_cols":9,"rows_kept":71,"cut":false,"hidden":false,"merged":[]}
[null,{"$f":"Index!B1","v":"Jemena Electricity Networks – Alternative Control Services Forecast model"},null,null,"Key:","Input",null,"Sheet Validation",{"$f":"'Model Validation'!C8","v":0}]
[null,{"$f":"MID(CELL(\"filename\",A1),FIND(\"]\",CELL(\"filename\",A1))+1,255)","v":"Output|Fee Based"},null,null,null,"Formula"]
[]
[null,null,null,{"$f":"IF(D7='Input|Escalations'!J27,0,1)","v":0},{"$f":"IF(E7='Input|Escalations'!K27,0,1)","v":0},{"$f":"IF(F7='Input|Escalations'!L27,0,1)","v":0},{"$f":"IF(G7='Input|Escalations'!M27,0,1)","v":0}]
[null,{"$f":"IFERROR(\"1.1 X-factors for each year of \"&'Input|Setup'!$E$11&\" to \"&'Input|Setup'!$E$15&\" regulatory period, (per cent)\",\"\")","v":"1.1 X-factors for each year of 2026-27 to 2030-31 regulatory period, (per cent)"},null,null,null,null,null,{"$f":"IF(SUM(D4:G4)=0,0,1)","v":0}]
[null,null,{"$f":"'Input|Setup'!$E$11","v":"2026-27"},{"$f":"'Input|Setup'!$E$12","v":"2027-28"},{"$f":"'Input|Setup'!$E$13","v":"2028-29"},{"$f":"'Input|Setup'!$E$14","v":"2029-30"},{"$f":"'Input|Setup'!$E$15","v":"2030-31"}]
[null,null,null,{"$f":"'Input|Escalations'!J27","v":-8.3583556288052887E-3},{"$f":"'Input|Escalations'!K27","v":-1.0254990531688098E-2},{"$f":"'Input|Escalations'!L27","v":-1.2240188084018007E-2},{"$f":"'Input|Escalations'!M27","v":-1.1482353043552641E-2}]
[]
[]
[null,{"$f":"IFERROR(\"1.2 Fee based services for \"&'Input|Setup'!$E$11,\"\")","v":"1.2 Fee based services for 2026-27"},null,null,null,null,null,null,{"$f":"IF(SUM(I12:I61)=0,0,1)","v":0}]
[null,{"$f":"'Calc|Fee Based'!B11","v":"Service code"},{"$f":"'Calc|Fee Based'!C11","v":"Service"},{"$f":"'Input|Setup'!B24","v":"Hours"},{"$f":"'Input|Setup'!E30","v":"Service category"},{"$f":"'Input|Setup'!H30","v":"Expense Type"},{"$f":"'Input|Setup'!H40","v":"Control Mechanism"},{"$f":"\"Price ($\" & 'Input|Setup'!$E$8 & \")\"","v":"Price ($2026-27)"}]
[1,{"$f":"'Calc|Fee Based'!B12","v":"ND1P"},{"$f":"'Calc|Fee Based'!C12","v":"Basic connection, single-phase BH"},{"$f":"'Calc|Fee Based'!E12","v":"Business Hours"},{"$f":"'Calc|Fee Based'!D12","v":"Basic connection services"},{"$f":"'Calc|Fee Based'!F12","v":"Capex"},{"$f":"'Calc|Fee Based'!G12","v":"Fee Based"},{"$f":"'Calc|Fee Based'!H12","v":872.33250420147192},{"$f":"IF(AND(B12='Calc|Fee Based'!B12,C12='Calc|Fee Based'!C12,D12='Calc|Fee Based'!E12,E12='Calc|Fee Based'!D12, F12='Calc|Fee Based'!F12,G12='Calc|Fee Based'!G12, H12='Calc|Fee Based'!H12),0,1)","v":0}]
[2,{"$f":"'Calc|Fee Based'!B13","v":"ND1P"},{"$f":"'Calc|Fee Based'!C13","v":"Basic connection, single-phase AH"},{"$f":"'Calc|Fee Based'!E13","v":"After Hours"},{"$f":"'Calc|Fee Based'!D13","v":"Basic connection services"},{"$f":"'Calc|Fee Based'!F13","v":"Capex"},{"$f":"'Calc|Fee Based'!G13","v":"Fee Based"},{"$f":"'Calc|Fee Based'!H13","v":1230.2512393042891},{"$f":"IF(AND(B13='Calc|Fee Based'!B13,C13='Calc|Fee Based'!C13,D13='Calc|Fee Based'!E13,E13='Calc|Fee Based'!D13, F13='Calc|Fee Based'!F13,G13='Calc|Fee Based'!G13, H13='Calc|Fee Based'!H13),0,1)","v":0}]
[3,{"$f":"'Calc|Fee Based'!B14","v":"ND3P"},{"$f":"'Calc|Fee Based'!C14","v":"Basic connection, three-phase BH"},{"$f":"'Calc|Fee Based'!E14","v":"Business Hours"},{"$f":"'Calc|Fee Based'!D14","v":"Basic connection services"},{"$f":"'Calc|Fee Based'!F14","v":"Capex"},{"$f":"'Calc|Fee Based'!G14","v":"Fee Based"},{"$f":"'Calc|Fee Based'!H14","v":1195.3470315990394},{"$f":"IF(AND(B14='Calc|Fee Based'!B14,C14='Calc|Fee Based'!C14,D14='Calc|Fee Based'!E14,E14='Calc|Fee Based'!D14, F14='Calc|Fee Based'!F14,G14='Calc|Fee Based'!G14, H14='Calc|Fee Based'!H14),0,1)","v":0}]
[4,{"$f":"'Calc|Fee Based'!B15","v":"ND3P"},{"$f":"'Calc|Fee Based'!C15","v":"Basic connection, three-phase AH"},{"$f":"'Calc|Fee Based'!E15","v":"After Hours"},{"$f":"'Calc|Fee Based'!D15","v":"Basic connection services"},{"$f":"'Calc|Fee Based'!F15","v":"Capex"},{"$f":"'Calc|Fee Based'!G15","v":"Fee Based"},{"$f":"'Calc|Fee Based'!H15","v":1553.265766701857},{"$f":"IF(AND(B15='Calc|Fee Based'!B15,C15='Calc|Fee Based'!C15,D15='Calc|Fee Based'!E15,E15='Calc|Fee Based'!D15, F15='Calc|Fee Based'!F15,G15='Calc|Fee Based'!G15, H15='Calc|Fee Based'!H15),0,1)","v":0}]
[5,{"$f":"'Calc|Fee Based'!B16","v":"BTSO"},{"$f":"'Calc|Fee Based'!C16","v":"Temporary connection, single-phase BH"},{"$f":"'Calc|Fee Based'!E16","v":"Business Hours"},{"$f":"'Calc|Fee Based'!D16","v":"Connection service"},{"$f":"'Calc|Fee Based'!F16","v":"Capex"},{"$f":"'Calc|Fee Based'!G16","v":"Fee Based"},{"$f":"'Calc|Fee Based'!H16","v":872.33250420147192},{"$f":"IF(AND(B16='Calc|Fee Based'!B16,C16='Calc|Fee Based'!C16,D16='Calc|Fee Based'!E16,E16='Calc|Fee Based'!D16, F16='Calc|Fee Based'!F16,G16='Calc|Fee Based'!G16, H16='Calc|Fee Based'!H16),0,1)","v":0}]
[6,{"$f":"'Calc|Fee Based'!B17","v":"BTSO"},{"$f":"'Calc|Fee Based'!C17","v":"Temporary connection, single-phase AH"},{"$f":"'Calc|Fee Based'!E17","v":"After Hours"},{"$f":"'Calc|Fee Based'!D17","v":"Connection service"},{"$f":"'Calc|Fee Based'!F17","v":"Capex"},{"$f":"'Calc|Fee Based'!G17","v":"Fee Based"},{"$f":"'Calc|Fee Based'!H17","v":1230.2512393042891},{"$f":"IF(AND(B17='Calc|Fee Based'!B17,C17='Calc|Fee Based'!C17,D17='Calc|Fee Based'!E17,E17='Calc|Fee Based'!D17, F17='Calc|Fee Based'!F17,G17='Calc|Fee Based'!G17, H17='Calc|Fee Based'!H17),0,1)","v":0}]
[7,{"$f":"'Calc|Fee Based'!B18","v":"BTSP"},{"$f":"'Calc|Fee Based'!C18","v":"Temporary connection, three-phase BH"},{"$f":"'Calc|Fee Based'!E18","v":"Business Hours"},{"$f":"'Calc|Fee Based'!D18","v":"Connection service"},{"$f":"'Calc|Fee Based'!F18","v":"Capex"},{"$f":"'Calc|Fee Based'!G18","v":"Fee Based"},{"$f":"'Calc|Fee Based'!H18","v":1195.3470315990394},{"$f":"IF(AND(B18='Calc|Fee Based'!B18,C18='Calc|Fee Based'!C18,D18='Calc|Fee Based'!E18,E18='Calc|Fee Based'!D18, F18='Calc|Fee Based'!F18,G18='Calc|Fee Based'!G18, H18='Calc|Fee Based'!H18),0,1)","v":0}]
[8,{"$f":"'Calc|Fee Based'!B19","v":"BTSP"},{"$f":"'Calc|Fee Based'!C19","v":"Temporary connection, three-phase AH"},{"$f":"'Calc|Fee Based'!E19","v":"After Hours"},{"$f":"'Calc|Fee Based'!D19","v":"Connection service"},{"$f":"'Calc|Fee Based'!F19","v":"Capex"},{"$f":"'Calc|Fee Based'!G19","v":"Fee Based"},{"$f":"'Calc|Fee Based'!H19","v":1553.265766701857},{"$f":"IF(AND(B19='Calc|Fee Based'!B19,C19='Calc|Fee Based'!C19,D19='Calc|Fee Based'!E19,E19='Calc|Fee Based'!D19, F19='Calc|Fee Based'!F19,G19='Calc|Fee Based'!G19, H19='Calc|Fee Based'!H19),0,1)","v":0}]
[9,{"$f":"'Calc|Fee Based'!B20","v":"SUTK"},{"$f":"'Calc|Fee Based'!C20","v":"Supply upgrade/enhancement (1ph to 3ph) BH"},{"$f":"'Calc|Fee Based'!E20","v":"Business Hours"},{"$f":"'Calc|Fee Based'!D20","v":"Connection service"},{"$f":"'Calc|Fee Based'!F20","v":"Capex"},{"$f":"'Calc|Fee Based'!G20","v":"Fee Based"},{"$f":"'Calc|Fee Based'!H20","v":1195.3470315990394},{"$f":"IF(AND(B20='Calc|Fee Based'!B20,C20='Calc|Fee Based'!C20,D20='Calc|Fee Based'!E20,E20='Calc|Fee Based'!D20, F20='Calc|Fee Based'!F20,G20='Calc|Fee Based'!G20, H20='Calc|Fee Based'!H20),0,1)","v":0}]
[10,{"$f":"'Calc|Fee Based'!B21","v":"SUTK"},{"$f":"'Calc|Fee Based'!C21","v":"Supply upgrade/enhancement (1ph to 3ph) AH"},{"$f":"'Calc|Fee Based'!E21","v":"After Hours"},{"$f":"'Calc|Fee Based'!D21","v":"Connection service"},{"$f":"'Calc|Fee Based'!F21","v":"Capex"},{"$f":"'Calc|Fee Based'!G21","v":"Fee Based"},{"$f":"'Calc|Fee Based'!H21","v":1553.265766701857},{"$f":"IF(AND(B21='Calc|Fee Based'!B21,C21='Calc|Fee Based'!C21,D21='Calc|Fee Based'!E21,E21='Calc|Fee Based'!D21, F21='Calc|Fee Based'!F21,G21='Calc|Fee Based'!G21, H21='Calc|Fee Based'!H21),0,1)","v":0}]
[11,{"$f":"'Calc|Fee Based'!B22","v":"RTK1"},{"$f":"'Calc|Fee Based'!C22","v":"Replacement of 1-phase overhead service line BH"},{"$f":"'Calc|Fee Based'!E22","v":"Business Hours"},{"$f":"'Calc|Fee Based'!D22","v":"Connection service"},{"$f":"'Calc|Fee Based'!F22","v":"Capex"},{"$f":"'Calc|Fee Based'!G22","v":"Fee Based"},{"$f":"'Calc|Fee Based'!H22","v":908.25697194742463},{"$f":"IF(AND(B22='Calc|Fee Based'!B22,C22='Calc|Fee Based'!C22,D22='Calc|Fee Based'!E22,E22='Calc|Fee Based'!D22, F22='Calc|Fee Based'!F22,G22='Calc|Fee Based'!G22, H22='Calc|Fee Based'!H22),0,1)","v":0}]
[12,{"$f":"'Calc|Fee Based'!B23","v":"RTK1"},{"$f":"'Calc|Fee Based'!C23","v":"Replacement of 1-phase overhead service line AH"},{"$f":"'Calc|Fee Based'!E23","v":"After Hours"},{"$f":"'Calc|Fee Based'!D23","v":"Connection service"},{"$f":"'Calc|Fee Based'!F23","v":"Capex"},{"$f":"'Calc|Fee Based'!G23","v":"Fee Based"},{"$f":"'Calc|Fee Based'!H23","v":1266.1757070502422},{"$f":"IF(AND(B23='Calc|Fee Based'!B23,C23='Calc|Fee Based'!C23,D23='Calc|Fee Based'!E23,E23='Calc|Fee Based'!D23, F23='Calc|Fee Based'!F23,G23='Calc|Fee Based'!G23, H23='Calc|Fee Based'!H23),0,1)","v":0}]
[13,{"$f":"'Calc|Fee Based'!B24","v":"REEN"},{"$f":"'Calc|Fee Based'!C24","v":"Field-based energisation BH"},{"$f":"'Calc|Fee Based'!E24","v":"Business Hours"},{"$f":"'Calc|Fee Based'!D24","v":"Connection service"},{"$f":"'Calc|Fee Based'!F24","v":"Opex"},{"$f":"'Calc|Fee Based'!G24","v":"Fee Based"},{"$f":"'Calc|Fee Based'!H24","v":159.8233370499355},{"$f":"IF(AND(B24='Calc|Fee Based'!B24,C24='Calc|Fee Based'!C24,D24='Calc|Fee Based'!E24,E24='Calc|Fee Based'!D24, F24='Calc|Fee Based'!F24,G24='Calc|Fee Based'!G24, H24='Calc|Fee Based'!H24),0,1)","v":0}]
[14,{"$f":"'Calc|Fee Based'!B25","v":"REEN"},{"$f":"'Calc|Fee Based'!C25","v":"Field-based energisation AH"},{"$f":"'Calc|Fee Based'!E25","v":"After Hours"},{"$f":"'Calc|Fee Based'!D25","v":"Connection service"},{"$f":"'Calc|Fee Based'!F25","v":"Opex"},{"$f":"'Calc|Fee Based'!G25","v":"Fee Based"},{"$f":"'Calc|Fee Based'!H25","v":227.38851345930226},{"$f":"IF(AND(B25='Calc|Fee Based'!B25,C25='Calc|Fee Based'!C25,D25='Calc|Fee Based'!E25,E25='Calc|Fee Based'!D25, F25='Calc|Fee Based'!F25,G25='Calc|Fee Based'!G25, H25='Calc|Fee Based'!H25),0,1)","v":0}]
[15,{"$f":"'Calc|Fee Based'!B26","v":"DEEN"},{"$f":"'Calc|Fee Based'!C26","v":"Field-based de-energisation BH"},{"$f":"'Calc|Fee Based'!E26","v":"Business Hours"},{"$f":"'Calc|Fee Based'!D26","v":"Connection service"},{"$f":"'Calc|Fee Based'!F26","v":"Opex"},{"$f":"'Calc|Fee Based'!G26","v":"Fee Based"},{"$f":"'Calc|Fee Based'!H26","v":175.23821824247068},{"$f":"IF(AND(B26='Calc|Fee Based'!B26,C26='Calc|Fee Based'!C26,D26='Calc|Fee Based'!E26,E26='Calc|Fee Based'!D26, F26='Calc|Fee Based'!F26,G26='Calc|Fee Based'!G26, H26='Calc|Fee Based'!H26),0,1)","v":0}]
[16,{"$f":"'Calc|Fee Based'!B27","v":"DCTK"},{"$f":"'Calc|Fee Based'!C27","v":"Disconnection (temporary) BH"},{"$f":"'Calc|Fee Based'!E27","v":"Business Hours"},{"$f":"'Calc|Fee Based'!D27","v":"Customer requested supply outage"},{"$f":"'Calc|Fee Based'!F27","v":"Opex"},{"$f":"'Calc|Fee Based'!G27","v":"Fee Based"},{"$f":"'Calc|Fee Based'!H27","v":496.31282728826193},{"$f":"IF(AND(B27='Calc|Fee Based'!B27,C27='Calc|Fee Based'!C27,D27='Calc|Fee Based'!E27,E27='Calc|Fee Based'!D27, F27='Calc|Fee Based'!F27,G27='Calc|Fee Based'!G27, H27='Calc|Fee Based'!H27),0,1)","v":0}]
[17,{"$f":"'Calc|Fee Based'!B28","v":"DCTK"},{"$f":"'Calc|Fee Based'!C28","v":"Disconnection (temporary) AH"},{"$f":"'Calc|Fee Based'!E28","v":"After Hours"},{"$f":"'Calc|Fee Based'!D28","v":"Customer requested supply outage"},{"$f":"'Calc|Fee Based'!F28","v":"Opex"},{"$f":"'Calc|Fee Based'!G28","v":"Fee Based"},{"$f":"'Calc|Fee Based'!H28","v":793.5996034894755},{"$f":"IF(AND(B28='Calc|Fee Based'!B28,C28='Calc|Fee Based'!C28,D28='Calc|Fee Based'!E28,E28='Calc|Fee Based'!D28, F28='Calc|Fee Based'!F28,G28='Calc|Fee Based'!G28, H28='Calc|Fee Based'!H28),0,1)","v":0}]
[18,{"$f":"'Calc|Fee Based'!B29","v":"RCTK"},{"$f":"'Calc|Fee Based'!C29","v":"Reconnection after temp discon BH"},{"$f":"'Calc|Fee Based'!E29","v":"Business Hours"},{"$f":"'Calc|Fee Based'!D29","v":"Customer requested supply outage"},{"$f":"'Calc|Fee Based'!F29","v":"Opex"},{"$f":"'Calc|Fee Based'!G29","v":"Fee Based"},{"$f":"'Calc|Fee Based'!H29","v":575.34070047337491},{"$f":"IF(AND(B29='Calc|Fee Based'!B29,C29='Calc|Fee Based'!C29,D29='Calc|Fee Based'!E29,E29='Calc|Fee Based'!D29, F29='Calc|Fee Based'!F29,G29='Calc|Fee Based'!G29, H29='Calc|Fee Based'!H29),0,1)","v":0}]
[19,{"$f":"'Calc|Fee Based'!B30","v":"RCTK"},{"$f":"'Calc|Fee Based'!C30","v":"Reconnection after temp discon AH"},{"$f":"'Calc|Fee Based'!E30","v":"After Hours"},{"$f":"'Calc|Fee Based'!D30","v":"Customer requested supply outage"},{"$f":"'Calc|Fee Based'!F30","v":"Opex"},{"$f":"'Calc|Fee Based'!G30","v":"Fee Based"},{"$f":"'Calc|Fee Based'!H30","v":926.67961780208179},{"$f":"IF(AND(B30='Calc|Fee Based'!B30,C30='Calc|Fee Based'!C30,D30='Calc|Fee Based'!E30,E30='Calc|Fee Based'!D30, F30='Calc|Fee Based'!F30,G30='Calc|Fee Based'!G30, H30='Calc|Fee Based'!H30),0,1)","v":0}]
[20,{"$f":"'Calc|Fee Based'!B31","v":"SLOM"},{"$f":"'Calc|Fee Based'!C31","v":"Security Lighting - O&M"},{"$f":"'Calc|Fee Based'!E31","v":"Business Hours"},{"$f":"'Calc|Fee Based'!D31","v":"Security lights"},{"$f":"'Calc|Fee Based'!F31","v":"Capex"},{"$f":"'Calc|Fee Based'!G31","v":"Fee Based"},{"$f":"'Calc|Fee Based'!H31","v":173.00081145970739},{"$f":"IF(AND(B31='Calc|Fee Based'!B31,C31='Calc|Fee Based'!C31,D31='Calc|Fee Based'!E31,E31='Calc|Fee Based'!D31, F31='Calc|Fee Based'!F31,G31='Calc|Fee Based'!G31, H31='Calc|Fee Based'!H31),0,1)","v":0}]
[21,{"$f":"'Calc|Fee Based'!B32","v":"RFOM"},{"$f":"'Calc|Fee Based'!C32","v":"Enhanced Connection Operation and Maintenance"},{"$f":"'Calc|Fee Based'!E32","v":"Business Hours"},{"$f":"'Calc|Fee Based'!D32","v":"Enhanced connection services"},{"$f":"'Calc|Fee Based'!F32","v":"Opex"},{"$f":"'Calc|Fee Based'!G32","v":"Fee Based"},{"$f":"'Calc|Fee Based'!H32","v":16.174377},{"$f":"IF(AND(B32='Calc|Fee Based'!B32,C32='Calc|Fee Based'!C32,D32='Calc|Fee Based'!E32,E32='Calc|Fee Based'!D32, F32='Calc|Fee Based'!F32,G32='Calc|Fee Based'!G32, H32='Calc|Fee Based'!H32),0,1)","v":0}]
[22,{"$f":"'Calc|Fee Based'!B33","v":"REENRM"},{"$f":"'Calc|Fee Based'!C33","v":"Remote  energisation"},{"$f":"'Calc|Fee Based'!E33","v":"Business Hours"},{"$f":"'Calc|Fee Based'!D33","v":"Auxiliary metering services"},{"$f":"'Calc|Fee Based'!F33","v":"Opex"},{"$f":"'Calc|Fee Based'!G33","v":"Fee Based"},{"$f":"'Calc|Fee Based'!H33","v":0},{"$f":"IF(AND(B33='Calc|Fee Based'!B33,C33='Calc|Fee Based'!C33,D33='Calc|Fee Based'!E33,E33='Calc|Fee Based'!D33, F33='Calc|Fee Based'!F33,G33='Calc|Fee Based'!G33, H33='Calc|Fee Based'!H33),0,1)","v":0}]
[23,{"$f":"'Calc|Fee Based'!B34","v":"DEENRM"},{"$f":"'Calc|Fee Based'!C34","v":"Remote de-energisation"},{"$f":"'Calc|Fee Based'!E34","v":"Business Hours"},{"$f":"'Calc|Fee Based'!D34","v":"Auxiliary metering services"},{"$f":"'Calc|Fee Based'!F34","v":"Opex"},{"$f":"'Calc|Fee Based'!G34","v":"Fee Based"},{"$f":"'Calc|Fee Based'!H34","v":0},{"$f":"IF(AND(B34='Calc|Fee Based'!B34,C34='Calc|Fee Based'!C34,D34='Calc|Fee Based'!E34,E34='Calc|Fee Based'!D34, F34='Calc|Fee Based'!F34,G34='Calc|Fee Based'!G34, H34='Calc|Fee Based'!H34),0,1)","v":0}]
[24,{"$f":"'Calc|Fee Based'!B35","v":"MCTK"},{"$f":"'Calc|Fee Based'!C35","v":"Meter Alteration BH"},{"$f":"'Calc|Fee Based'!E35","v":"Business Hours"},{"$f":"'Calc|Fee Based'!D35","v":"Auxiliary metering services"},{"$f":"'Calc|Fee Based'!F35","v":"Opex"},{"$f":"'Calc|Fee Based'!G35","v":"Fee Based"},{"$f":"'Calc|Fee Based'!H35","v":637.0002252435155},{"$f":"IF(AND(B35='Calc|Fee Based'!B35,C35='Calc|Fee Based'!C35,D35='Calc|Fee Based'!E35,E35='Calc|Fee Based'!D35, F35='Calc|Fee Based'!F35,G35='Calc|Fee Based'!G35, H35='Calc|Fee Based'!H35),0,1)","v":0}]
[25,{"$f":"'Calc|Fee Based'!B36","v":"MCTK"},{"$f":"'Calc|Fee Based'!C36","v":"Meter Alteration AH"},{"$f":"'Calc|Fee Based'!E36","v":"After Hours"},{"$f":"'Calc|Fee Based'!D36","v":"Auxiliary metering services"},{"$f":"'Calc|Fee Based'!F36","v":"Opex"},{"$f":"'Calc|Fee Based'!G36","v":"Fee Based"},{"$f":"'Calc|Fee Based'!H36","v":988.33914257222261},{"$f":"IF(AND(B36='Calc|Fee Based'!B36,C36='Calc|Fee Based'!C36,D36='Calc|Fee Based'!E36,E36='Calc|Fee Based'!D36, F36='Calc|Fee Based'!F36,G36='Calc|Fee Based'!G36, H36='Calc|Fee Based'!H36),0,1)","v":0}]
[26,{"$f":"'Calc|Fee Based'!B37","v":"SPRDRM"},{"$f":"'Calc|Fee Based'!C37","v":"Remote special meter read"},{"$f":"'Calc|Fee Based'!E37","v":"Business Hours"},{"$f":"'Calc|Fee Based'!D37","v":"Auxiliary metering services"},{"$f":"'Calc|Fee Based'!F37","v":"Opex"},{"$f":"'Calc|Fee Based'!G37","v":"Fee Based"},{"$f":"'Calc|Fee Based'!H37","v":0},{"$f":"IF(AND(B37='Calc|Fee Based'!B37,C37='Calc|Fee Based'!C37,D37='Calc|Fee Based'!E37,E37='Calc|Fee Based'!D37, F37='Calc|Fee Based'!F37,G37='Calc|Fee Based'!G37, H37='Calc|Fee Based'!H37),0,1)","v":0}]
[27,{"$f":"'Calc|Fee Based'!B38","v":"MECFRM"},{"$f":"'Calc|Fee Based'!C38","v":"Remote meter reconfiguration"},{"$f":"'Calc|Fee Based'!E38","v":"Business Hours"},{"$f":"'Calc|Fee Based'!D38","v":"Auxiliary metering services"},{"$f":"'Calc|Fee Based'!F38","v":"Opex"},{"$f":"'Calc|Fee Based'!G38","v":"Fee Based"},{"$f":"'Calc|Fee Based'!H38","v":65.77015975481676},{"$f":"IF(AND(B38='Calc|Fee Based'!B38,C38='Calc|Fee Based'!C38,D38='Calc|Fee Based'!E38,E38='Calc|Fee Based'!D38, F38='Calc|Fee Based'!F38,G38='Calc|Fee Based'!G38, H38='Calc|Fee Based'!H38),0,1)","v":0}]
[28,{"$f":"'Calc|Fee Based'!B39","v":"SPRD"},{"$f":"'Calc|Fee Based'!C39","v":"Field-based special meter reads "},{"$f":"'Calc|Fee Based'!E39","v":"Business Hours"},{"$f":"'Calc|Fee Based'!D39","v":"Auxiliary metering services"},{"$f":"'Calc|Fee Based'!F39","v":"Opex"},{"$f":"'Calc|Fee Based'!G39","v":"Fee Based"},{"$f":"'Calc|Fee Based'!H39","v":199.83009383434376},{"$f":"IF(AND(B39='Calc|Fee Based'!B39,C39='Calc|Fee Based'!C39,D39='Calc|Fee Based'!E39,E39='Calc|Fee Based'!D39, F39='Calc|Fee Based'!F39,G39='Calc|Fee Based'!G39, H39='Calc|Fee Based'!H39),0,1)","v":0}]
[29,{"$f":"'Calc|Fee Based'!B40","v":"MTAL"},{"$f":"'Calc|Fee Based'!C40","v":"Meter test of types 5, 6 and AMI smart metering installations BH"},{"$f":"'Calc|Fee Based'!E40","v":"Business Hours"},{"$f":"'Calc|Fee Based'!D40","v":"Auxiliary metering services"},{"$f":"'Calc|Fee Based'!F40","v":"Opex"},{"$f":"'Calc|Fee Based'!G40","v":"Fee Based"},{"$f":"'Calc|Fee Based'!H40","v":1336.0848402478655},{"$f":"IF(AND(B40='Calc|Fee Based'!B40,C40='Calc|Fee Based'!C40,D40='Calc|Fee Based'!E40,E40='Calc|Fee Based'!D40, F40='Calc|Fee Based'!F40,G40='Calc|Fee Based'!G40, H40='Calc|Fee Based'!H40),0,1)","v":0}]
[30,{"$f":"'Calc|Fee Based'!B41","v":"MTAL"},{"$f":"'Calc|Fee Based'!C41","v":"Meter test of types 5, 6 and AMI smart metering installations AH"},{"$f":"'Calc|Fee Based'!E41","v":"After Hours"},{"$f":"'Calc|Fee Based'!D41","v":"Auxiliary metering services"},{"$f":"'Calc|Fee Based'!F41","v":"Opex"},{"$f":"'Calc|Fee Based'!G41","v":"Fee Based"},{"$f":"'Calc|Fee Based'!H41","v":2146.8669571602663},{"$f":"IF(AND(B41='Calc|Fee Based'!B41,C41='Calc|Fee Based'!C41,D41='Calc|Fee Based'!E41,E41='Calc|Fee Based'!D41, F41='Calc|Fee Based'!F41,G41='Calc|Fee Based'!G41, H41='Calc|Fee Based'!H41),0,1)","v":0}]
[31,{"$f":"'Calc|Fee Based'!B42","v":"MDCH"},{"$f":"'Calc|Fee Based'!C42","v":"Type 7 metering"},{"$f":"'Calc|Fee Based'!E42","v":"Business Hours"},{"$f":"'Calc|Fee Based'!D42","v":"Type 7 metering services"},{"$f":"'Calc|Fee Based'!F42","v":"Opex"},{"$f":"'Calc|Fee Based'!G42","v":"Fee Based"},{"$f":"'Calc|Fee Based'!H42","v":0},{"$f":"IF(AND(B42='Calc|Fee Based'!B42,C42='Calc|Fee Based'!C42,D42='Calc|Fee Based'!E42,E42='Calc|Fee Based'!D42, F42='Calc|Fee Based'!F42,G42='Calc|Fee Based'!G42, H42='Calc|Fee Based'!H42),0,1)","v":0}]
[32,{"$f":"'Calc|Fee Based'!B43","v":"NCUM"},{"$f":"'Calc|Fee Based'!C43","v":"Non-contestable unmetered loads"},{"$f":"'Calc|Fee Based'!E43","v":"Business Hours"},{"$f":"'Calc|Fee Based'!D43","v":"Auxiliary metering services"},{"$f":"'Calc|Fee Based'!F43","v":"Capex"},{"$f":"'Calc|Fee Based'!G43","v":"Fee Based"},{"$f":"'Calc|Fee Based'!H43","v":0},{"$f":"IF(AND(B43='Calc|Fee Based'!B43,C43='Calc|Fee Based'!C43,D43='Calc|Fee Based'!E43,E43='Calc|Fee Based'!D43, F43='Calc|Fee Based'!F43,G43='Calc|Fee Based'!G43, H43='Calc|Fee Based'!H43),0,1)","v":0}]
[33,{"$f":"'Calc|Fee Based'!B44","v":"WSVR"},{"$f":"'Calc|Fee Based'!C44","v":"Wasted site attendance BH"},{"$f":"'Calc|Fee Based'!E44","v":"Business Hours"},{"$f":"'Calc|Fee Based'!D44","v":"Connection service"},{"$f":"'Calc|Fee Based'!F44","v":"Opex"},{"$f":"'Calc|Fee Based'!G44","v":"Fee Based"},{"$f":"'Calc|Fee Based'!H44","v":637.0002252435155},{"$f":"IF(AND(B44='Calc|Fee Based'!B44,C44='Calc|Fee Based'!C44,D44='Calc|Fee Based'!E44,E44='Calc|Fee Based'!D44, F44='Calc|Fee Based'!F44,G44='Calc|Fee Based'!G44, H44='Calc|Fee Based'!H44),0,1)","v":0}]
[34,{"$f":"'Calc|Fee Based'!B45","v":"WSVR"},{"$f":"'Calc|Fee Based'!C45","v":"Wasted site attendance AH"},{"$f":"'Calc|Fee Based'!E45","v":"After Hours"},{"$f":"'Calc|Fee Based'!D45","v":"Connection service"},{"$f":"'Calc|Fee Based'!F45","v":"Opex"},{"$f":"'Calc|Fee Based'!G45","v":"Fee Based"},{"$f":"'Calc|Fee Based'!H45","v":988.33914257222261},{"$f":"IF(AND(B45='Calc|Fee Based'!B45,C45='Calc|Fee Based'!C45,D45='Calc|Fee Based'!E45,E45='Calc|Fee Based'!D45, F45='Calc|Fee Based'!F45,G45='Calc|Fee Based'!G45, H45='Calc|Fee Based'!H45),0,1)","v":0}]
[35,{"$f":"'Calc|Fee Based'!B46","v":"RTK3"},{"$f":"'Calc|Fee Based'!C46","v":"Replacement of 3-phase overhead service line BH"},{"$f":"'Calc|Fee Based'!E46","v":"Business Hours"},{"$f":"'Calc|Fee Based'!D46","v":"Connection service"},{"$f":"'Calc|Fee Based'!F46","v":"Capex"},{"$f":"'Calc|Fee Based'!G46","v":"Fee Based"},{"$f":"'Calc|Fee Based'!H46","v":970.87797129710248},{"$f":"IF(AND(B46='Calc|Fee Based'!B46,C46='Calc|Fee Based'!C46,D46='Calc|Fee Based'!E46,E46='Calc|Fee Based'!D46, F46='Calc|Fee Based'!F46,G46='Calc|Fee Based'!G46, H46='Calc|Fee Based'!H46),0,1)","v":0}]
[36,{"$f":"'Calc|Fee Based'!B47","v":"RTK3"},{"$f":"'Calc|Fee Based'!C47","v":"Replacement of 3-phase overhead service line AH"},{"$f":"'Calc|Fee Based'!E47","v":"After Hours"},{"$f":"'Calc|Fee Based'!D47","v":"Connection service"},{"$f":"'Calc|Fee Based'!F47","v":"Capex"},{"$f":"'Calc|Fee Based'!G47","v":"Fee Based"},{"$f":"'Calc|Fee Based'!H47","v":1328.7967063999199},{"$f":"IF(AND(B47='Calc|Fee Based'!B47,C47='Calc|Fee Based'!C47,D47='Calc|Fee Based'!E47,E47='Calc|Fee Based'!D47, F47='Calc|Fee Based'!F47,G47='Calc|Fee Based'!G47, H47='Calc|Fee Based'!H47),0,1)","v":0}]
[37,{"$f":"'Calc|Fee Based'!B48","v":""},{"$f":"'Calc|Fee Based'!C48","v":""},{"$f":"'Calc|Fee Based'!E48","v":""},{"$f":"'Calc|Fee Based'!D48","v":""},{"$f":"'Calc|Fee Based'!F48","v":""},{"$f":"'Calc|Fee Based'!G48","v":""},{"$f":"'Calc|Fee Based'!H48","v":0},{"$f":"IF(AND(B48='Calc|Fee Based'!B48,C48='Calc|Fee Based'!C48,D48='Calc|Fee Based'!E48,E48='Calc|Fee Based'!D48, F48='Calc|Fee Based'!F48,G48='Calc|Fee Based'!G48, H48='Calc|Fee Based'!H48),0,1)","v":0}]
[38,{"$f":"'Calc|Fee Based'!B49","v":""},{"$f":"'Calc|Fee Based'!C49","v":""},{"$f":"'Calc|Fee Based'!E49","v":""},{"$f":"'Calc|Fee Based'!D49","v":""},{"$f":"'Calc|Fee Based'!F49","v":""},{"$f":"'Calc|Fee Based'!G49","v":""},{"$f":"'Calc|Fee Based'!H49","v":0},{"$f":"IF(AND(B49='Calc|Fee Based'!B49,C49='Calc|Fee Based'!C49,D49='Calc|Fee Based'!E49,E49='Calc|Fee Based'!D49, F49='Calc|Fee Based'!F49,G49='Calc|Fee Based'!G49, H49='Calc|Fee Based'!H49),0,1)","v":0}]
[39,{"$f":"'Calc|Fee Based'!B50","v":""},{"$f":"'Calc|Fee Based'!C50","v":""},{"$f":"'Calc|Fee Based'!E50","v":""},{"$f":"'Calc|Fee Based'!D50","v":""},{"$f":"'Calc|Fee Based'!F50","v":""},{"$f":"'Calc|Fee Based'!G50","v":""},{"$f":"'Calc|Fee Based'!H50","v":0},{"$f":"IF(AND(B50='Calc|Fee Based'!B50,C50='Calc|Fee Based'!C50,D50='Calc|Fee Based'!E50,E50='Calc|Fee Based'!D50, F50='Calc|Fee Based'!F50,G50='Calc|Fee Based'!G50, H50='Calc|Fee Based'!H50),0,1)","v":0}]
[40,{"$f":"'Calc|Fee Based'!B51","v":""},{"$f":"'Calc|Fee Based'!C51","v":""},{"$f":"'Calc|Fee Based'!E51","v":""},{"$f":"'Calc|Fee Based'!D51","v":""},{"$f":"'Calc|Fee Based'!F51","v":""},{"$f":"'Calc|Fee Based'!G51","v":""},{"$f":"'Calc|Fee Based'!H51","v":0},{"$f":"IF(AND(B51='Calc|Fee Based'!B51,C51='Calc|Fee Based'!C51,D51='Calc|Fee Based'!E51,E51='Calc|Fee Based'!D51, F51='Calc|Fee Based'!F51,G51='Calc|Fee Based'!G51, H51='Calc|Fee Based'!H51),0,1)","v":0}]
[41,{"$f":"'Calc|Fee Based'!B52","v":""},{"$f":"'Calc|Fee Based'!C52","v":""},{"$f":"'Calc|Fee Based'!E52","v":""},{"$f":"'Calc|Fee Based'!D52","v":""},{"$f":"'Calc|Fee Based'!F52","v":""},{"$f":"'Calc|Fee Based'!G52","v":""},{"$f":"'Calc|Fee Based'!H52","v":0},{"$f":"IF(AND(B52='Calc|Fee Based'!B52,C52='Calc|Fee Based'!C52,D52='Calc|Fee Based'!E52,E52='Calc|Fee Based'!D52, F52='Calc|Fee Based'!F52,G52='Calc|Fee Based'!G52, H52='Calc|Fee Based'!H52),0,1)","v":0}]
[42,{"$f":"'Calc|Fee Based'!B53","v":""},{"$f":"'Calc|Fee Based'!C53","v":""},{"$f":"'Calc|Fee Based'!E53","v":""},{"$f":"'Calc|Fee Based'!D53","v":""},{"$f":"'Calc|Fee Based'!F53","v":""},{"$f":"'Calc|Fee Based'!G53","v":""},{"$f":"'Calc|Fee Based'!H53","v":0},{"$f":"IF(AND(B53='Calc|Fee Based'!B53,C53='Calc|Fee Based'!C53,D53='Calc|Fee Based'!E53,E53='Calc|Fee Based'!D53, F53='Calc|Fee Based'!F53,G53='Calc|Fee Based'!G53, H53='Calc|Fee Based'!H53),0,1)","v":0}]
[43,{"$f":"'Calc|Fee Based'!B54","v":""},{"$f":"'Calc|Fee Based'!C54","v":""},{"$f":"'Calc|Fee Based'!E54","v":""},{"$f":"'Calc|Fee Based'!D54","v":""},{"$f":"'Calc|Fee Based'!F54","v":""},{"$f":"'Calc|Fee Based'!G54","v":""},{"$f":"'Calc|Fee Based'!H54","v":0},{"$f":"IF(AND(B54='Calc|Fee Based'!B54,C54='Calc|Fee Based'!C54,D54='Calc|Fee Based'!E54,E54='Calc|Fee Based'!D54, F54='Calc|Fee Based'!F54,G54='Calc|Fee Based'!G54, H54='Calc|Fee Based'!H54),0,1)","v":0}]
[44,{"$f":"'Calc|Fee Based'!B55","v":""},{"$f":"'Calc|Fee Based'!C55","v":""},{"$f":"'Calc|Fee Based'!E55","v":""},{"$f":"'Calc|Fee Based'!D55","v":""},{"$f":"'Calc|Fee Based'!F55","v":""},{"$f":"'Calc|Fee Based'!G55","v":""},{"$f":"'Calc|Fee Based'!H55","v":0},{"$f":"IF(AND(B55='Calc|Fee Based'!B55,C55='Calc|Fee Based'!C55,D55='Calc|Fee Based'!E55,E55='Calc|Fee Based'!D55, F55='Calc|Fee Based'!F55,G55='Calc|Fee Based'!G55, H55='Calc|Fee Based'!H55),0,1)","v":0}]
[45,{"$f":"'Calc|Fee Based'!B56","v":""},{"$f":"'Calc|Fee Based'!C56","v":""},{"$f":"'Calc|Fee Based'!E56","v":""},{"$f":"'Calc|Fee Based'!D56","v":""},{"$f":"'Calc|Fee Based'!F56","v":""},{"$f":"'Calc|Fee Based'!G56","v":""},{"$f":"'Calc|Fee Based'!H56","v":0},{"$f":"IF(AND(B56='Calc|Fee Based'!B56,C56='Calc|Fee Based'!C56,D56='Calc|Fee Based'!E56,E56='Calc|Fee Based'!D56, F56='Calc|Fee Based'!F56,G56='Calc|Fee Based'!G56, H56='Calc|Fee Based'!H56),0,1)","v":0}]
[46,{"$f":"'Calc|Fee Based'!B57","v":""},{"$f":"'Calc|Fee Based'!C57","v":""},{"$f":"'Calc|Fee Based'!E57","v":""},{"$f":"'Calc|Fee Based'!D57","v":""},{"$f":"'Calc|Fee Based'!F57","v":""},{"$f":"'Calc|Fee Based'!G57","v":""},{"$f":"'Calc|Fee Based'!H57","v":0},{"$f":"IF(AND(B57='Calc|Fee Based'!B57,C57='Calc|Fee Based'!C57,D57='Calc|Fee Based'!E57,E57='Calc|Fee Based'!D57, F57='Calc|Fee Based'!F57,G57='Calc|Fee Based'!G57, H57='Calc|Fee Based'!H57),0,1)","v":0}]
[47,{"$f":"'Calc|Fee Based'!B58","v":""},{"$f":"'Calc|Fee Based'!C58","v":""},{"$f":"'Calc|Fee Based'!E58","v":""},{"$f":"'Calc|Fee Based'!D58","v":""},{"$f":"'Calc|Fee Based'!F58","v":""},{"$f":"'Calc|Fee Based'!G58","v":""},{"$f":"'Calc|Fee Based'!H58","v":0},{"$f":"IF(AND(B58='Calc|Fee Based'!B58,C58='Calc|Fee Based'!C58,D58='Calc|Fee Based'!E58,E58='Calc|Fee Based'!D58, F58='Calc|Fee Based'!F58,G58='Calc|Fee Based'!G58, H58='Calc|Fee Based'!H58),0,1)","v":0}]
[48,{"$f":"'Calc|Fee Based'!B59","v":""},{"$f":"'Calc|Fee Based'!C59","v":""},{"$f":"'Calc|Fee Based'!E59","v":""},{"$f":"'Calc|Fee Based'!D59","v":""},{"$f":"'Calc|Fee Based'!F59","v":""},{"$f":"'Calc|Fee Based'!G59","v":""},{"$f":"'Calc|Fee Based'!H59","v":0},{"$f":"IF(AND(B59='Calc|Fee Based'!B59,C59='Calc|Fee Based'!C59,D59='Calc|Fee Based'!E59,E59='Calc|Fee Based'!D59, F59='Calc|Fee Based'!F59,G59='Calc|Fee Based'!G59, H59='Calc|Fee Based'!H59),0,1)","v":0}]
[49,{"$f":"'Calc|Fee Based'!B60","v":""},{"$f":"'Calc|Fee Based'!C60","v":""},{"$f":"'Calc|Fee Based'!E60","v":""},{"$f":"'Calc|Fee Based'!D60","v":""},{"$f":"'Calc|Fee Based'!F60","v":""},{"$f":"'Calc|Fee Based'!G60","v":""},{"$f":"'Calc|Fee Based'!H60","v":0},{"$f":"IF(AND(B60='Calc|Fee Based'!B60,C60='Calc|Fee Based'!C60,D60='Calc|Fee Based'!E60,E60='Calc|Fee Based'!D60, F60='Calc|Fee Based'!F60,G60='Calc|Fee Based'!G60, H60='Calc|Fee Based'!H60),0,1)","v":0}]
[50,{"$f":"'Calc|Fee Based'!B61","v":""},{"$f":"'Calc|Fee Based'!C61","v":""},{"$f":"'Calc|Fee Based'!E61","v":""},{"$f":"'Calc|Fee Based'!D61","v":""},{"$f":"'Calc|Fee Based'!F61","v":""},{"$f":"'Calc|Fee Based'!G61","v":""},{"$f":"'Calc|Fee Based'!H61","v":0},{"$f":"IF(AND(B61='Calc|Fee Based'!B61,C61='Calc|Fee Based'!C61,D61='Calc|Fee Based'!E61,E61='Calc|Fee Based'!D61, F61='Calc|Fee Based'!F61,G61='Calc|Fee Based'!G61, H61='Calc|Fee Based'!H61),0,1)","v":0}]
[51,{"$f":"'Calc|Fee Based'!B62","v":""},{"$f":"'Calc|Fee Based'!C62","v":""},{"$f":"'Calc|Fee Based'!E62","v":""},{"$f":"'Calc|Fee Based'!D62","v":""},{"$f":"'Calc|Fee Based'!F62","v":""},{"$f":"'Calc|Fee Based'!G62","v":""},{"$f":"'Calc|Fee Based'!H62","v":0},{"$f":"IF(AND(B62='Calc|Fee Based'!B62,C62='Calc|Fee Based'!C62,D62='Calc|Fee Based'!E62,E62='Calc|Fee Based'!D62, F62='Calc|Fee Based'!F62,G62='Calc|Fee Based'!G62, H62='Calc|Fee Based'!H62),0,1)","v":0}]
[52,{"$f":"'Calc|Fee Based'!B63","v":""},{"$f":"'Calc|Fee Based'!C63","v":""},{"$f":"'Calc|Fee Based'!E63","v":""},{"$f":"'Calc|Fee Based'!D63","v":""},{"$f":"'Calc|Fee Based'!F63","v":""},{"$f":"'Calc|Fee Based'!G63","v":""},{"$f":"'Calc|Fee Based'!H63","v":0},{"$f":"IF(AND(B63='Calc|Fee Based'!B63,C63='Calc|Fee Based'!C63,D63='Calc|Fee Based'!E63,E63='Calc|Fee Based'!D63, F63='Calc|Fee Based'!F63,G63='Calc|Fee Based'!G63, H63='Calc|Fee Based'!H63),0,1)","v":0}]
[53,{"$f":"'Calc|Fee Based'!B64","v":""},{"$f":"'Calc|Fee Based'!C64","v":""},{"$f":"'Calc|Fee Based'!E64","v":""},{"$f":"'Calc|Fee Based'!D64","v":""},{"$f":"'Calc|Fee Based'!F64","v":""},{"$f":"'Calc|Fee Based'!G64","v":""},{"$f":"'Calc|Fee Based'!H64","v":0},{"$f":"IF(AND(B64='Calc|Fee Based'!B64,C64='Calc|Fee Based'!C64,D64='Calc|Fee Based'!E64,E64='Calc|Fee Based'!D64, F64='Calc|Fee Based'!F64,G64='Calc|Fee Based'!G64, H64='Calc|Fee Based'!H64),0,1)","v":0}]
[54,{"$f":"'Calc|Fee Based'!B65","v":""},{"$f":"'Calc|Fee Based'!C65","v":""},{"$f":"'Calc|Fee Based'!E65","v":""},{"$f":"'Calc|Fee Based'!D65","v":""},{"$f":"'Calc|Fee Based'!F65","v":""},{"$f":"'Calc|Fee Based'!G65","v":""},{"$f":"'Calc|Fee Based'!H65","v":0},{"$f":"IF(AND(B65='Calc|Fee Based'!B65,C65='Calc|Fee Based'!C65,D65='Calc|Fee Based'!E65,E65='Calc|Fee Based'!D65, F65='Calc|Fee Based'!F65,G65='Calc|Fee Based'!G65, H65='Calc|Fee Based'!H65),0,1)","v":0}]
[55,{"$f":"'Calc|Fee Based'!B66","v":""},{"$f":"'Calc|Fee Based'!C66","v":""},{"$f":"'Calc|Fee Based'!E66","v":""},{"$f":"'Calc|Fee Based'!D66","v":""},{"$f":"'Calc|Fee Based'!F66","v":""},{"$f":"'Calc|Fee Based'!G66","v":""},{"$f":"'Calc|Fee Based'!H66","v":0},{"$f":"IF(AND(B66='Calc|Fee Based'!B66,C66='Calc|Fee Based'!C66,D66='Calc|Fee Based'!E66,E66='Calc|Fee Based'!D66, F66='Calc|Fee Based'!F66,G66='Calc|Fee Based'!G66, H66='Calc|Fee Based'!H66),0,1)","v":0}]
[56,{"$f":"'Calc|Fee Based'!B67","v":""},{"$f":"'Calc|Fee Based'!C67","v":""},{"$f":"'Calc|Fee Based'!E67","v":""},{"$f":"'Calc|Fee Based'!D67","v":""},{"$f":"'Calc|Fee Based'!F67","v":""},{"$f":"'Calc|Fee Based'!G67","v":""},{"$f":"'Calc|Fee Based'!H67","v":0},{"$f":"IF(AND(B67='Calc|Fee Based'!B67,C67='Calc|Fee Based'!C67,D67='Calc|Fee Based'!E67,E67='Calc|Fee Based'!D67, F67='Calc|Fee Based'!F67,G67='Calc|Fee Based'!G67, H67='Calc|Fee Based'!H67),0,1)","v":0}]
[57,{"$f":"'Calc|Fee Based'!B68","v":""},{"$f":"'Calc|Fee Based'!C68","v":""},{"$f":"'Calc|Fee Based'!E68","v":""},{"$f":"'Calc|Fee Based'!D68","v":""},{"$f":"'Calc|Fee Based'!F68","v":""},{"$f":"'Calc|Fee Based'!G68","v":""},{"$f":"'Calc|Fee Based'!H68","v":0},{"$f":"IF(AND(B68='Calc|Fee Based'!B68,C68='Calc|Fee Based'!C68,D68='Calc|Fee Based'!E68,E68='Calc|Fee Based'!D68, F68='Calc|Fee Based'!F68,G68='Calc|Fee Based'!G68, H68='Calc|Fee Based'!H68),0,1)","v":0}]
[58,{"$f":"'Calc|Fee Based'!B69","v":""},{"$f":"'Calc|Fee Based'!C69","v":""},{"$f":"'Calc|Fee Based'!E69","v":""},{"$f":"'Calc|Fee Based'!D69","v":""},{"$f":"'Calc|Fee Based'!F69","v":""},{"$f":"'Calc|Fee Based'!G69","v":""},{"$f":"'Calc|Fee Based'!H69","v":0},{"$f":"IF(AND(B69='Calc|Fee Based'!B69,C69='Calc|Fee Based'!C69,D69='Calc|Fee Based'!E69,E69='Calc|Fee Based'!D69, F69='Calc|Fee Based'!F69,G69='Calc|Fee Based'!G69, H69='Calc|Fee Based'!H69),0,1)","v":0}]
[59,{"$f":"'Calc|Fee Based'!B70","v":""},{"$f":"'Calc|Fee Based'!C70","v":""},{"$f":"'Calc|Fee Based'!E70","v":""},{"$f":"'Calc|Fee Based'!D70","v":""},{"$f":"'Calc|Fee Based'!F70","v":""},{"$f":"'Calc|Fee Based'!G70","v":""},{"$f":"'Calc|Fee Based'!H70","v":0},{"$f":"IF(AND(B70='Calc|Fee Based'!B70,C70='Calc|Fee Based'!C70,D70='Calc|Fee Based'!E70,E70='Calc|Fee Based'!D70, F70='Calc|Fee Based'!F70,G70='Calc|Fee Based'!G70, H70='Calc|Fee Based'!H70),0,1)","v":0}]
[60,{"$f":"'Calc|Fee Based'!B71","v":""},{"$f":"'Calc|Fee Based'!C71","v":""},{"$f":"'Calc|Fee Based'!E71","v":""},{"$f":"'Calc|Fee Based'!D71","v":""},{"$f":"'Calc|Fee Based'!F71","v":""},{"$f":"'Calc|Fee Based'!G71","v":""},{"$f":"'Calc|Fee Based'!H71","v":0},{"$f":"IF(AND(B71='Calc|Fee Based'!B71,C71='Calc|Fee Based'!C71,D71='Calc|Fee Based'!E71,E71='Calc|Fee Based'!D71, F71='Calc|Fee Based'!F71,G71='Calc|Fee Based'!G71, H71='Calc|Fee Based'!H71),0,1)","v":0}]

{"sheet":"Output|Quoted","index":2,"n_rows":85,"n_cols":10,"rows_kept":85,"cut":false,"hidden":false,"merged":[[8,8,8,9]]}
[null,{"$f":"Index!B1","v":"Jemena Electricity Networks – Alternative Control Services Forecast model"},"Key:","Input",null,"Sheet Validation",{"$f":"'Model Validation'!C9","v":0}]
[null,{"$f":"MID(CELL(\"filename\",A1),FIND(\"]\",CELL(\"filename\",A1))+1,255)","v":"Output|Quoted"},null,"Formula"]
[]
[null,null,null,{"$f":"IF(D7='Input|Escalations'!J27,0,1)","v":0},{"$f":"IF(E7='Input|Escalations'!K27,0,1)","v":0},{"$f":"IF(F7='Input|Escalations'!L27,0,1)","v":0},{"$f":"IF(G7='Input|Escalations'!M27,0,1)","v":0}]
[null,{"$f":"IFERROR(\"2.1 X-factors for each year of \"&'Input|Setup'!$E$11&\" to \"&'Input|Setup'!$E$15&\" regulatory period, (per cent)\",\"\")","v":"2.1 X-factors for each year of 2026-27 to 2030-31 regulatory period, (per cent)"},null,null,null,null,null,{"$f":"IF(SUM(D4:G4)=0,0,1)","v":0}]
[null,null,{"$f":"'Output|Fee Based'!C6","v":"2026-27"},{"$f":"'Output|Fee Based'!D6","v":"2027-28"},{"$f":"'Output|Fee Based'!E6","v":"2028-29"},{"$f":"'Output|Fee Based'!F6","v":"2029-30"},{"$f":"'Output|Fee Based'!G6","v":"2030-31"}]
[null,null,null,{"$f":"'Output|Fee Based'!D7","v":-8.3583556288052887E-3},{"$f":"'Output|Fee Based'!E7","v":-1.0254990531688098E-2},{"$f":"'Output|Fee Based'!F7","v":-1.2240188084018007E-2},{"$f":"'Output|Fee Based'!G7","v":-1.1482353043552641E-2}]
[]
[null,null,null,null,null,null,null,null,"For AER only"]
[null,{"$f":"IFERROR(\"2.2 Labour rates for \"&'Input|Setup'!$E$11&\", ($\"&'Input|Setup'!$E$8&\")\",\"\")","v":"2.2 Labour rates for 2026-27, ($2026-27)"},null,null,null,null,null,null,"AER maximum rates","AER decision"]
[null,"Quoted service - Labour rates","Hours","Hourly rate ($)",null,null,null,null,"Hourly rate ($)","Hourly rate ($)"]
[1,{"$f":"'Calc|Labour Rates'!B10","v":"Administrative Officer"},{"$f":"'Calc|Labour Rates'!C10","v":"Business hours"},{"$f":"IF('Calc|Labour Rates'!$D10=\"No\",\"NA\",IFERROR(LOOKUP(2, 1/('Calc|Labour Rates'!$B$10:$B$29='Output|Quoted'!$B12)/('Calc|Labour Rates'!$C$10:$C$29='Output|Quoted'!$C12),'Calc|Labour Rates'!$F$10:$F$29),0))","v":121.40386235507451},null,null,{"$f":"IF(OR($D12=\"NA\",AND(B12='Calc|Labour Rates'!B10,'Output|Quoted'!C12='Calc|Labour Rates'!C10,'Output|Quoted'!D12='Calc|Labour Rates'!F10)),0,1)","v":0},null,72,{"$f":"MIN($I12,$D12)","v":72}]
[{"$f":"IFERROR(A12+1,\"\")","v":2},{"$f":"'Calc|Labour Rates'!B11","v":"Field Worker"},{"$f":"'Calc|Labour Rates'!C11","v":"Business hours"},{"$f":"IF('Calc|Labour Rates'!$D11=\"No\",\"NA\",IFERROR(LOOKUP(2, 1/('Calc|Labour Rates'!$B$10:$B$29='Output|Quoted'!$B13)/('Calc|Labour Rates'!$C$10:$C$29='Output|Quoted'!$C13),'Calc|Labour Rates'!$F$10:$F$29),0))","v":210.8874625437997},null,null,{"$f":"IF(OR($D13=\"NA\",AND(B13='Calc|Labour Rates'!B11,'Output|Quoted'!C13='Calc|Labour Rates'!C11,'Output|Quoted'!D13='Calc|Labour Rates'!F11)),0,1)","v":0},null,150,150]
[{"$f":"IFERROR(A13+1,\"\")","v":3},{"$f":"'Calc|Labour Rates'!B12","v":"Technical Specialist"},{"$f":"'Calc|Labour Rates'!C12","v":"Business hours"},{"$f":"IF('Calc|Labour Rates'!$D12=\"No\",\"NA\",IFERROR(LOOKUP(2, 1/('Calc|Labour Rates'!$B$10:$B$29='Output|Quoted'!$B14)/('Calc|Labour Rates'!$C$10:$C$29='Output|Quoted'!$C14),'Calc|Labour Rates'!$F$10:$F$29),0))","v":225.05684138611807},null,null,{"$f":"IF(OR($D14=\"NA\",AND(B14='Calc|Labour Rates'!B12,'Output|Quoted'!C14='Calc|Labour Rates'!C12,'Output|Quoted'!D14='Calc|Labour Rates'!F12)),0,1)","v":0},null,150,150]
[4,{"$f":"'Calc|Labour Rates'!B13","v":"Engineer"},{"$f":"'Calc|Labour Rates'!C13","v":"Business hours"},{"$f":"IF('Calc|Labour Rates'!$D13=\"No\",\"NA\",IFERROR(LOOKUP(2, 1/('Calc|Labour Rates'!$B$10:$B$29='Output|Quoted'!$B15)/('Calc|Labour Rates'!$C$10:$C$29='Output|Quoted'!$C15),'Calc|Labour Rates'!$F$10:$F$29),0))","v":271.82902287926146},null,null,{"$f":"IF(OR($D15=\"NA\",AND(B15='Calc|Labour Rates'!B13,'Output|Quoted'!C15='Calc|Labour Rates'!C13,'Output|Quoted'!D15='Calc|Labour Rates'!F13)),0,1)","v":0},null,205,205]
[5,{"$f":"'Calc|Labour Rates'!B14","v":"Senior Engineer"},{"$f":"'Calc|Labour Rates'!C14","v":"Business hours"},{"$f":"IF('Calc|Labour Rates'!$D14=\"No\",\"NA\",IFERROR(LOOKUP(2, 1/('Calc|Labour Rates'!$B$10:$B$29='Output|Quoted'!$B16)/('Calc|Labour Rates'!$C$10:$C$29='Output|Quoted'!$C16),'Calc|Labour Rates'!$F$10:$F$29),0))","v":326.1948274551138},null,null,{"$f":"IF(OR($D16=\"NA\",AND(B16='Calc|Labour Rates'!B14,'Output|Quoted'!C16='Calc|Labour Rates'!C14,'Output|Quoted'!D16='Calc|Labour Rates'!F14)),0,1)","v":0},null,300,300]
[6,{"$f":"'Calc|Labour Rates'!B15","v":"Administrative Officer"},{"$f":"'Calc|Labour Rates'!C15","v":"After Hours"},{"$f":"IF('Calc|Labour Rates'!$D15=\"No\",\"NA\",IFERROR(LOOKUP(2, 1/('Calc|Labour Rates'!$B$10:$B$29='Output|Quoted'!$B17)/('Calc|Labour Rates'!$C$10:$C$29='Output|Quoted'!$C17),'Calc|Labour Rates'!$F$10:$F$29),0))","v":"NA"},null,null,{"$f":"IF(OR($D17=\"NA\",AND(B17='Calc|Labour Rates'!B15,'Output|Quoted'!C17='Calc|Labour Rates'!C15,'Output|Quoted'!D17='Calc|Labour Rates'!F15)),0,1)","v":0},null,{"$f":"I12*1.69","v":121.67999999999999},121.67999999999999]
[7,{"$f":"'Calc|Labour Rates'!B16","v":"Field Worker"},{"$f":"'Calc|Labour Rates'!C16","v":"After Hours"},{"$f":"IF('Calc|Labour Rates'!$D16=\"No\",\"NA\",IFERROR(LOOKUP(2, 1/('Calc|Labour Rates'!$B$10:$B$29='Output|Quoted'!$B18)/('Calc|Labour Rates'!$C$10:$C$29='Output|Quoted'!$C18),'Calc|Labour Rates'!$F$10:$F$29),0))","v":370.5255409891526},null,null,{"$f":"IF(OR($D18=\"NA\",AND(B18='Calc|Labour Rates'!B16,'Output|Quoted'!C18='Calc|Labour Rates'!C16,'Output|Quoted'!D18='Calc|Labour Rates'!F16)),0,1)","v":0},null,{"$f":"I13*1.69","v":253.5},253.5]
[8,{"$f":"'Calc|Labour Rates'!B17","v":"Technical Specialist"},{"$f":"'Calc|Labour Rates'!C17","v":"After Hours"},{"$f":"IF('Calc|Labour Rates'!$D17=\"No\",\"NA\",IFERROR(LOOKUP(2, 1/('Calc|Labour Rates'!$B$10:$B$29='Output|Quoted'!$B19)/('Calc|Labour Rates'!$C$10:$C$29='Output|Quoted'!$C19),'Calc|Labour Rates'!$F$10:$F$29),0))","v":"NA"},null,null,{"$f":"IF(OR($D19=\"NA\",AND(B19='Calc|Labour Rates'!B17,'Output|Quoted'!C19='Calc|Labour Rates'!C17,'Output|Quoted'!D19='Calc|Labour Rates'!F17)),0,1)","v":0},null,{"$f":"I14*1.69","v":253.5},253.5]
[9,{"$f":"'Calc|Labour Rates'!B18","v":"Engineer"},{"$f":"'Calc|Labour Rates'!C18","v":"After Hours"},{"$f":"IF('Calc|Labour Rates'!$D18=\"No\",\"NA\",IFERROR(LOOKUP(2, 1/('Calc|Labour Rates'!$B$10:$B$29='Output|Quoted'!$B20)/('Calc|Labour Rates'!$C$10:$C$29='Output|Quoted'!$C20),'Calc|Labour Rates'!$F$10:$F$29),0))","v":"NA"},null,null,{"$f":"IF(OR($D20=\"NA\",AND(B20='Calc|Labour Rates'!B18,'Output|Quoted'!C20='Calc|Labour Rates'!C18,'Output|Quoted'!D20='Calc|Labour Rates'!F18)),0,1)","v":0},null,{"$f":"I15*1.69","v":346.45},346.45]
[10,{"$f":"'Calc|Labour Rates'!B19","v":"Senior Engineer"},{"$f":"'Calc|Labour Rates'!C19","v":"After Hours"},{"$f":"IF('Calc|Labour Rates'!$D19=\"No\",\"NA\",IFERROR(LOOKUP(2, 1/('Calc|Labour Rates'!$B$10:$B$29='Output|Quoted'!$B21)/('Calc|Labour Rates'!$C$10:$C$29='Output|Quoted'!$C21),'Calc|Labour Rates'!$F$10:$F$29),0))","v":"NA"},null,null,{"$f":"IF(OR($D21=\"NA\",AND(B21='Calc|Labour Rates'!B19,'Output|Quoted'!C21='Calc|Labour Rates'!C19,'Output|Quoted'!D21='Calc|Labour Rates'!F19)),0,1)","v":0},null,{"$f":"I16*1.69","v":507},507]
[11,{"$f":"'Calc|Labour Rates'!B20","v":""},{"$f":"'Calc|Labour Rates'!C20","v":""},{"$f":"IF('Calc|Labour Rates'!$D20=\"No\",\"NA\",IFERROR(LOOKUP(2, 1/('Calc|Labour Rates'!$B$10:$B$29='Output|Quoted'!$B22)/('Calc|Labour Rates'!$C$10:$C$29='Output|Quoted'!$C22),'Calc|Labour Rates'!$F$10:$F$29),0))","v":0},null,null,{"$f":"IF(OR($D22=\"NA\",AND(B22='Calc|Labour Rates'!B20,'Output|Quoted'!C22='Calc|Labour Rates'!C20,'Output|Quoted'!D22='Calc|Labour Rates'!F20)),0,1)","v":0},null,null,0]
[12,{"$f":"'Calc|Labour Rates'!B21","v":""},{"$f":"'Calc|Labour Rates'!C21","v":""},{"$f":"IF('Calc|Labour Rates'!$D21=\"No\",\"NA\",IFERROR(LOOKUP(2, 1/('Calc|Labour Rates'!$B$10:$B$29='Output|Quoted'!$B23)/('Calc|Labour Rates'!$C$10:$C$29='Output|Quoted'!$C23),'Calc|Labour Rates'!$F$10:$F$29),0))","v":0},null,null,{"$f":"IF(OR($D23=\"NA\",AND(B23='Calc|Labour Rates'!B21,'Output|Quoted'!C23='Calc|Labour Rates'!C21,'Output|Quoted'!D23='Calc|Labour Rates'!F21)),0,1)","v":0},null,null,0]
[13,{"$f":"'Calc|Labour Rates'!B22","v":""},{"$f":"'Calc|Labour Rates'!C22","v":""},{"$f":"IF('Calc|Labour Rates'!$D22=\"No\",\"NA\",IFERROR(LOOKUP(2, 1/('Calc|Labour Rates'!$B$10:$B$29='Output|Quoted'!$B24)/('Calc|Labour Rates'!$C$10:$C$29='Output|Quoted'!$C24),'Calc|Labour Rates'!$F$10:$F$29),0))","v":0},null,null,{"$f":"IF(OR($D24=\"NA\",AND(B24='Calc|Labour Rates'!B22,'Output|Quoted'!C24='Calc|Labour Rates'!C22,'Output|Quoted'!D24='Calc|Labour Rates'!F22)),0,1)","v":0},null,null,0]
[14,{"$f":"'Calc|Labour Rates'!B23","v":""},{"$f":"'Calc|Labour Rates'!C23","v":""},{"$f":"IF('Calc|Labour Rates'!$D23=\"No\",\"NA\",IFERROR(LOOKUP(2, 1/('Calc|Labour Rates'!$B$10:$B$29='Output|Quoted'!$B25)/('Calc|Labour Rates'!$C$10:$C$29='Output|Quoted'!$C25),'Calc|Labour Rates'!$F$10:$F$29),0))","v":0},null,null,{"$f":"IF(OR($D25=\"NA\",AND(B25='Calc|Labour Rates'!B23,'Output|Quoted'!C25='Calc|Labour Rates'!C23,'Output|Quoted'!D25='Calc|Labour Rates'!F23)),0,1)","v":0},null,null,0]
[15,{"$f":"'Calc|Labour Rates'!B24","v":""},{"$f":"'Calc|Labour Rates'!C24","v":""},{"$f":"IF('Calc|Labour Rates'!$D24=\"No\",\"NA\",IFERROR(LOOKUP(2, 1/('Calc|Labour Rates'!$B$10:$B$29='Output|Quoted'!$B26)/('Calc|Labour Rates'!$C$10:$C$29='Output|Quoted'!$C26),'Calc|Labour Rates'!$F$10:$F$29),0))","v":0},null,null,{"$f":"IF(OR($D26=\"NA\",AND(B26='Calc|Labour Rates'!B24,'Output|Quoted'!C26='Calc|Labour Rates'!C24,'Output|Quoted'!D26='Calc|Labour Rates'!F24)),0,1)","v":0},null,null,0]
[16,{"$f":"'Calc|Labour Rates'!B25","v":""},{"$f":"'Calc|Labour Rates'!C25","v":""},{"$f":"IF('Calc|Labour Rates'!$D25=\"No\",\"NA\",IFERROR(LOOKUP(2, 1/('Calc|Labour Rates'!$B$10:$B$29='Output|Quoted'!$B27)/('Calc|Labour Rates'!$C$10:$C$29='Output|Quoted'!$C27),'Calc|Labour Rates'!$F$10:$F$29),0))","v":0},null,null,{"$f":"IF(OR($D27=\"NA\",AND(B27='Calc|Labour Rates'!B25,'Output|Quoted'!C27='Calc|Labour Rates'!C25,'Output|Quoted'!D27='Calc|Labour Rates'!F25)),0,1)","v":0},null,null,0]
[17,{"$f":"'Calc|Labour Rates'!B26","v":""},{"$f":"'Calc|Labour Rates'!C26","v":""},{"$f":"IF('Calc|Labour Rates'!$D26=\"No\",\"NA\",IFERROR(LOOKUP(2, 1/('Calc|Labour Rates'!$B$10:$B$29='Output|Quoted'!$B28)/('Calc|Labour Rates'!$C$10:$C$29='Output|Quoted'!$C28),'Calc|Labour Rates'!$F$10:$F$29),0))","v":0},null,null,{"$f":"IF(OR($D28=\"NA\",AND(B28='Calc|Labour Rates'!B26,'Output|Quoted'!C28='Calc|Labour Rates'!C26,'Output|Quoted'!D28='Calc|Labour Rates'!F26)),0,1)","v":0},null,null,0]
[18,{"$f":"'Calc|Labour Rates'!B27","v":""},{"$f":"'Calc|Labour Rates'!C27","v":""},{"$f":"IF('Calc|Labour Rates'!$D27=\"No\",\"NA\",IFERROR(LOOKUP(2, 1/('Calc|Labour Rates'!$B$10:$B$29='Output|Quoted'!$B29)/('Calc|Labour Rates'!$C$10:$C$29='Output|Quoted'!$C29),'Calc|Labour Rates'!$F$10:$F$29),0))","v":0},null,null,{"$f":"IF(OR($D29=\"NA\",AND(B29='Calc|Labour Rates'!B27,'Output|Quoted'!C29='Calc|Labour Rates'!C27,'Output|Quoted'!D29='Calc|Labour Rates'!F27)),0,1)","v":0},null,null,0]
[19,{"$f":"'Calc|Labour Rates'!B28","v":""},{"$f":"'Calc|Labour Rates'!C28","v":""},{"$f":"IF('Calc|Labour Rates'!$D28=\"No\",\"NA\",IFERROR(LOOKUP(2, 1/('Calc|Labour Rates'!$B$10:$B$29='Output|Quoted'!$B30)/('Calc|Labour Rates'!$C$10:$C$29='Output|Quoted'!$C30),'Calc|Labour Rates'!$F$10:$F$29),0))","v":0},null,null,{"$f":"IF(OR($D30=\"NA\",AND(B30='Calc|Labour Rates'!B28,'Output|Quoted'!C30='Calc|Labour Rates'!C28,'Output|Quoted'!D30='Calc|Labour Rates'!F28)),0,1)","v":0},null,null,0]
[20,{"$f":"'Calc|Labour Rates'!B29","v":""},{"$f":"'Calc|Labour Rates'!C29","v":""},{"$f":"IF('Calc|Labour Rates'!$D29=\"No\",\"NA\",IFERROR(LOOKUP(2, 1/('Calc|Labour Rates'!$B$10:$B$29='Output|Quoted'!$B31)/('Calc|Labour Rates'!$C$10:$C$29='Output|Quoted'!$C31),'Calc|Labour Rates'!$F$10:$F$29),0))","v":0},null,null,{"$f":"IF(OR($D31=\"NA\",AND(B31='Calc|Labour Rates'!B29,'Output|Quoted'!C31='Calc|Labour Rates'!C29,'Output|Quoted'!D31='Calc|Labour Rates'!F29)),0,1)","v":0},null,null,0]
[]
[]
[null,{"$f":"IFERROR(\"2.3 List of quoted services for \"&'Input|Setup'!$E$11&\" to \"&'Input|Setup'!$E$15&\" regulatory period\",\"\")","v":"2.3 List of quoted services for 2026-27 to 2030-31 regulatory period"}]
[]
[1,{"$f":"'Input|Labour Rates'!B34","v":"Supply abolishment (non-basic) "},null,null,null,null,{"$f":"IF(B36='Input|Labour Rates'!B34,0,1)","v":0}]
[{"$f":"IFERROR(A36+1,\"\")","v":2},{"$f":"'Input|Labour Rates'!B35","v":"Temporary covering of low voltage mains and service lines (fitting of tiger tails) "},null,null,null,null,{"$f":"IF(B37='Input|Labour Rates'!B35,0,1)","v":0}]
[{"$f":"IFERROR(A37+1,\"\")","v":3},{"$f":"'Input|Labour Rates'!B36","v":"Rearrangement of network assets at customer request, excluding alteration and relocation of public lighting assets "},null,null,null,null,{"$f":"IF(B38='Input|Labour Rates'!B36,0,1)","v":0}]
[4,{"$f":"'Input|Labour Rates'!B37","v":"Elective undergrounding "},null,null,null,null,{"$f":"IF(B39='Input|Labour Rates'!B37,0,1)","v":0}]
[5,{"$f":"'Input|Labour Rates'!B38","v":"Reserve feeder construction "},null,null,null,null,{"$f":"IF(B40='Input|Labour Rates'!B38,0,1)","v":0}]
[6,{"$f":"'Input|Labour Rates'!B39","v":"Access permits, oversight and facilitation "},null,null,null,null,{"$f":"IF(B41='Input|Labour Rates'!B39,0,1)","v":0}]
[7,{"$f":"'Input|Labour Rates'!B40","v":"Sale of approved materials or equipment "},null,null,null,null,{"$f":"IF(B42='Input|Labour Rates'!B40,0,1)","v":0}]
[8,{"$f":"'Input|Labour Rates'!B41","v":"Notices of arrangement and completion notices "},null,null,null,null,{"$f":"IF(B43='Input|Labour Rates'!B41,0,1)","v":0}]
[9,{"$f":"'Input|Labour Rates'!B42","v":"Network related property services "},null,null,null,null,{"$f":"IF(B44='Input|Labour Rates'!B42,0,1)","v":0}]
[10,{"$f":"'Input|Labour Rates'!B43","v":"Network safety services "},null,null,null,null,{"$f":"IF(B45='Input|Labour Rates'!B43,0,1)","v":0}]
[11,{"$f":"'Input|Labour Rates'!B44","v":"High load escorts "},null,null,null,null,{"$f":"IF(B46='Input|Labour Rates'!B44,0,1)","v":0}]
[12,{"$f":"'Input|Labour Rates'!B45","v":"Fitting of possum guards and aerial markers "},null,null,null,null,{"$f":"IF(B47='Input|Labour Rates'!B45,0,1)","v":0}]
[13,{"$f":"'Input|Labour Rates'!B46","v":"Site visit relating to location of underground cables/assets "},null,null,null,null,{"$f":"IF(B48='Input|Labour Rates'!B46,0,1)","v":0}]
[14,{"$f":"'Input|Labour Rates'!B47","v":"Third party request for de-energising wires for safe approach "},null,null,null,null,{"$f":"IF(B49='Input|Labour Rates'!B47,0,1)","v":0}]
[15,{"$f":"'Input|Labour Rates'!B48","v":"Provision of traffic control and safety observer services by the distributor where required "},null,null,null,null,{"$f":"IF(B50='Input|Labour Rates'!B48,0,1)","v":0}]
[16,{"$f":"'Input|Labour Rates'!B49","v":"Planned interruption – customer requested "},null,null,null,null,{"$f":"IF(B51='Input|Labour Rates'!B49,0,1)","v":0}]
[17,{"$f":"'Input|Labour Rates'!B50","v":"Customer requested supply interruption "},null,null,null,null,{"$f":"IF(B52='Input|Labour Rates'!B50,0,1)","v":0}]
[18,{"$f":"'Input|Labour Rates'!B51","v":"Inspection and auditing services "},null,null,null,null,{"$f":"IF(B53='Input|Labour Rates'!B51,0,1)","v":0}]
[19,{"$f":"'Input|Labour Rates'!B52","v":"Provision of training to third parties for network related access "},null,null,null,null,{"$f":"IF(B54='Input|Labour Rates'!B52,0,1)","v":0}]
[20,{"$f":"'Input|Labour Rates'!B53","v":"Authorisation and approval of third party service providers "},null,null,null,null,{"$f":"IF(B55='Input|Labour Rates'!B53,0,1)","v":0}]
[21,{"$f":"'Input|Labour Rates'!B54","v":"Replacement of security lights that are beyond repair "},null,null,null,null,{"$f":"IF(B56='Input|Labour Rates'!B54,0,1)","v":0}]
[22,{"$f":"'Input|Labour Rates'!B55","v":"Provision of electricity network data to customers or third parties outside of legislative obligations"},null,null,null,null,{"$f":"IF(B57='Input|Labour Rates'!B55,0,1)","v":0}]
[23,{"$f":"'Input|Labour Rates'!B56","v":"Third party requested network alterations or other improvements "},null,null,null,null,{"$f":"IF(B58='Input|Labour Rates'!B56,0,1)","v":0}]
[24,{"$f":"'Input|Labour Rates'!B57","v":"Community network upgrades "},null,null,null,null,{"$f":"IF(B59='Input|Labour Rates'!B57,0,1)","v":0}]
[25,{"$f":"'Input|Labour Rates'!B58","v":"Non-standard metering services (eg. initial setup of load and inventory table of non-contestable unmetered devices) "},null,null,null,null,{"$f":"IF(B60='Input|Labour Rates'!B58,0,1)","v":0}]
[26,{"$f":"'Input|Labour Rates'!B59","v":"Connection management services "},null,null,null,null,{"$f":"IF(B61='Input|Labour Rates'!B59,0,1)","v":0}]
[27,{"$f":"'Input|Labour Rates'!B60","v":"Temporary non-basic connections "},null,null,null,null,{"$f":"IF(B62='Input|Labour Rates'!B60,0,1)","v":0}]
[28,{"$f":"'Input|Labour Rates'!B61","v":"Temporary disconnection of non-basic connections "},null,null,null,null,{"$f":"IF(B63='Input|Labour Rates'!B61,0,1)","v":0}]
[29,{"$f":"'Input|Labour Rates'!B62","v":"Reconnection of non-basic connection after temporary disconnection "},null,null,null,null,{"$f":"IF(B64='Input|Labour Rates'!B62,0,1)","v":0}]
[30,{"$f":"'Input|Labour Rates'!B63","v":"Protection and power quality assessment "},null,null,null,null,{"$f":"IF(B65='Input|Labour Rates'!B63,0,1)","v":0}]
[31,{"$f":"'Input|Labour Rates'!B64","v":"Customer requested change requiring secondary and primary plant studies "},null,null,null,null,{"$f":"IF(B66='Input|Labour Rates'!B64,0,1)","v":0},"`"]
[32,{"$f":"'Input|Labour Rates'!B65","v":"Calculation of a site-specific distribution loss factor on request "},null,null,null,null,{"$f":"IF(B67='Input|Labour Rates'!B65,0,1)","v":0}]
[33,{"$f":"'Input|Labour Rates'!B66","v":"Embedded network management "},null,null,null,null,{"$f":"IF(B68='Input|Labour Rates'!B66,0,1)","v":0}]
[34,{"$f":"'Input|Labour Rates'!B67","v":"Connection application related services "},null,null,null,null,{"$f":"IF(B69='Input|Labour Rates'!B67,0,1)","v":0}]
[35,{"$f":"'Input|Labour Rates'!B68","v":"Alteration and relocation of public lighting assets "},null,null,null,null,{"$f":"IF(B70='Input|Labour Rates'!B68,0,1)","v":0}]
[36,{"$f":"'Input|Labour Rates'!B69","v":"New public lighting services including greenfield sites and new light types (distributor provided)"},null,null,null,null,{"$f":"IF(B71='Input|Labour Rates'!B69,0,1)","v":0}]
[37,{"$f":"'Input|Labour Rates'!B70","v":"Provision, construction and maintenance of emerging public lighting technology"},null,null,null,null,{"$f":"IF(B72='Input|Labour Rates'!B70,0,1)","v":0}]
[38,{"$f":"'Input|Labour Rates'!B71","v":0},null,null,null,null,{"$f":"IF(B73='Input|Labour Rates'!B71,0,1)","v":0}]
[39,{"$f":"'Input|Labour Rates'!B72","v":0},null,null,null,null,{"$f":"IF(B74='Input|Labour Rates'!B72,0,1)","v":0}]
[40,{"$f":"'Input|Labour Rates'!B73","v":0},null,null,null,null,{"$f":"IF(B75='Input|Labour Rates'!B73,0,1)","v":0}]
[41,{"$f":"'Input|Labour Rates'!B74","v":0},null,null,null,null,{"$f":"IF(B76='Input|Labour Rates'!B74,0,1)","v":0}]
[42,{"$f":"'Input|Labour Rates'!B75","v":0},null,null,null,null,{"$f":"IF(B77='Input|Labour Rates'!B75,0,1)","v":0}]
[43,{"$f":"'Input|Labour Rates'!B76","v":0},null,null,null,null,{"$f":"IF(B78='Input|Labour Rates'!B76,0,1)","v":0}]
[44,{"$f":"'Input|Labour Rates'!B77","v":0},null,null,null,null,{"$f":"IF(B79='Input|Labour Rates'!B77,0,1)","v":0}]
[45,{"$f":"'Input|Labour Rates'!B78","v":0},null,null,null,null,{"$f":"IF(B80='Input|Labour Rates'!B78,0,1)","v":0}]
[46,{"$f":"'Input|Labour Rates'!B79","v":0},null,null,null,null,{"$f":"IF(B81='Input|Labour Rates'!B79,0,1)","v":0}]
[47,{"$f":"'Input|Labour Rates'!B80","v":0},null,null,null,null,{"$f":"IF(B82='Input|Labour Rates'!B80,0,1)","v":0}]
[48,{"$f":"'Input|Labour Rates'!B81","v":0},null,null,null,null,{"$f":"IF(B83='Input|Labour Rates'!B81,0,1)","v":0}]
[49,{"$f":"'Input|Labour Rates'!B82","v":0},null,null,null,null,{"$f":"IF(B84='Input|Labour Rates'!B82,0,1)","v":0}]
[50,{"$f":"'Input|Labour Rates'!B83","v":0},null,null,null,null,{"$f":"IF(B85='Input|Labour Rates'!B83,0,1)","v":0}]

{"sheet":"Output|RIN Expense","index":3,"n_rows":26,"n_cols":9,"rows_kept":26,"cut":false,"hidden":false,"merged":[[2,1,4,1],[2,2,2,8],[3,2,3,8],[16,1,18,1],[16,2,16,8],[17,2,17,8]]}
[]
[null,"2.1.3 - ALTERNATIVE CONTROL SERVICES CAPEX"]
[null,null,"EXPENDITURE"]
[null,null,"($, real June 2026) "]
[null,null,"2024-25","2025-26","2026-27","2027-28","2028-29","2029-30","2030-31"]
[null,"Connections"]
[null,"Metering"]
[null,"Public lighting","                                              -   ","                                              -   ","                                              -   ","                                              -   ","                                              -   ","                                              -   ","                                              -   "]
[null,"Fee and quoted",{"$f":"SUM('Input|Volume, Revenue, Cost'!BC74)","v":1274497.6933187339},{"$f":"SUM('Input|Volume, Revenue, Cost'!BD74)","v":1301390.111282906},{"$f":"SUM('Input|Volume, Revenue, Cost'!BE74)","v":1727732.6896564809},{"$f":"SUM('Input|Volume, Revenue, Cost'!BF74)","v":1773600.4562552932},{"$f":"SUM('Input|Volume, Revenue, Cost'!BG74)","v":1823420.2326855867},{"$f":"SUM('Input|Volume, Revenue, Cost'!BH74)","v":1877715.5284464573},{"$f":"SUM('Input|Volume, Revenue, Cost'!BI74)","v":1931636.9112906777}]
[null,"Network overheads",{"$f":"D10/(D9/C9)","v":156789.05105601513},{"$f":"E10/(E9/D9)","v":160097.3635898926},{"$f":"'Input|Volume, Revenue, Cost'!BU74","v":212546.14293126907},{"$f":"'Input|Volume, Revenue, Cost'!BV74","v":218188.80798808843},{"$f":"'Input|Volume, Revenue, Cost'!BW74","v":224317.65036361958},{"$f":"'Input|Volume, Revenue, Cost'!BX74","v":230997.07233808035},{"$f":"'Input|Volume, Revenue, Cost'!BY74","v":237630.49544437003}]
[null,"Corporate overheads",0,0,0,0,0,0,0]
[null,"capital contributions (included in the above)"]
[null," Total ","                                  -   ","                                  -   ","                                  -   ","                                  -   ","                                  -   ","                                  -   ","                                  -   "]
[]
[]
[null,"2.1.4 - ALTERNATIVE CONTROL SERVICES OPEX"]
[null,null,"EXPENDITURE"]
[null,null,"($, real June 2026)"]
[null,null,"2024-25","2025-26","2026-27","2027-28","2028-29","2029-30","2030-31"]
[null,"Connections"]
[null,"Metering"]
[null,"Public lighting"]
[null,"Fee and quoted",{"$f":"'Input|Volume, Revenue, Cost'!AU74","v":9271461.4674025513},{"$f":"'Input|Volume, Revenue, Cost'!AV74","v":9467093.0626790058},{"$f":"'Input|Volume, Revenue, Cost'!AW74","v":11829893.317450507},{"$f":"'Input|Volume, Revenue, Cost'!AX74","v":12143952.771683296},{"$f":"'Input|Volume, Revenue, Cost'!AY74","v":12485071.883336376},{"$f":"'Input|Volume, Revenue, Cost'!AZ74","v":12856835.154550646},{"$f":"'Input|Volume, Revenue, Cost'!BA74","v":13226038.220739879}]
[null,"Network overheads",{"$f":"D24/(D23/C23)","v":1149534.6012313031},{"$f":"E24/(E23/D23)","v":1173790.2472969245},{"$f":"'Input|Volume, Revenue, Cost'!CC74","v":1466745.2100293441},{"$f":"'Input|Volume, Revenue, Cost'!CD74","v":1505684.2932314614},{"$f":"'Input|Volume, Revenue, Cost'!CE74","v":1547978.4043988525},{"$f":"'Input|Volume, Revenue, Cost'!CF74","v":1594071.9728432964},{"$f":"'Input|Volume, Revenue, Cost'!CG74","v":1639848.1108294588}]
[null,"Corporate overheads",{"$f":"D25/(D23/C23)","v":2521026.9289856348},{"$f":"E25/(E23/D23)","v":2574221.6191201271},{"$f":"'Input|Volume, Revenue, Cost'!CS74","v":3216696.7122902949},{"$f":"'Input|Volume, Revenue, Cost'!CT74","v":3302093.426088558},{"$f":"'Input|Volume, Revenue, Cost'!CU74","v":3394848.0009193593},{"$f":"'Input|Volume, Revenue, Cost'!CV74","v":3495935.1079773079},{"$f":"'Input|Volume, Revenue, Cost'!CW74","v":3596326.0631033792}]
[null," Total ","                                  -   ","                                  -   ","                                  -   ","                                  -   ","                                  -   ","                                  -   ","                                  -   "]

{"sheet":"Output|RIN Revenue","index":4,"n_rows":54,"n_cols":17,"rows_kept":54,"cut":false,"hidden":false,"merged":[[9,2,9,8],[9,10,9,16],[29,2,29,8],[29,10,29,16],[42,2,42,8],[42,10,42,16]]}
[null,"REGULATORY REPORTING STATEMENT"]
[null,"Australian Distribution Co. (Victoria)"]
[null,"REGULATORY PERIOD FROM 2026-27 TO 2030-31"]
[null,"3.1 REVENUE"]
[null," TEMPLATE DATE - SEPTEMBER 2024 - FINAL RIN"]
[]
[null,"There are THREE tables on this worksheet. Each table has been 'grouped' (and 'sub-grouped') for easy navigation. See the Instructions sheet on how to group or ungroup data."]
[]
[null,"3.1.1 - REVENUE GROUPING BY CHARGEABLE QUANTITY"]
[null,null,"Standard control services",null,null,null,null,null,null,null,"Alternative control services"]
[null,null,"REVENUE \nFORECAST ($, real June 2026)",null,null,null,null,null,null,null,"REVENUE \nFORECAST ($, real June 2026)"]
[null,null,"2024-25","2025-26","2026-27","2027-28","2028-29","2029-30","2030-31",null,"2024-25","2025-26","2026-27","2027-28","2028-29","2029-30","2030-31"]
["DREV0101","Revenue from Fixed Customer Charges "]
["DREV0102","Revenue from Energy Delivery charges where time of use is not a determinant"]
["DREV0103","Revenue from On–Peak Energy Delivery charges "]
["DREV0104","Revenue from Shoulder period Energy Delivery Charges"]
["DREV0105","Revenue from Off–Peak Energy Delivery charges "]
["DREV0106","Revenue from controlled load customer charges"]
["DREV0107","Revenue from unmetered supplies"]
["DREV0108","Revenue from Contracted Maximum Demand charges"]
["DREV0109","Revenue from Measured Maximum Demand charges"]
["DREV0110","Revenue from metering charges",null,null,null,null,null,null,null,null,{"$f":"SUM('Input|Volume, Revenue, Cost'!AG36:AG37,'Input|Volume, Revenue, Cost'!AG38:AG39,'Input|Volume, Revenue, Cost'!AG40:AG43)","v":1006035.7908864419},{"$f":"SUM('Input|Volume, Revenue, Cost'!AH36:AH37,'Input|Volume, Revenue, Cost'!AH38:AH39,'Input|Volume, Revenue, Cost'!AH40:AH43)","v":1027263.553884573},{"$f":"SUM('Input|Volume, Revenue, Cost'!AI36:AI37,'Input|Volume, Revenue, Cost'!AI38:AI39,'Input|Volume, Revenue, Cost'!AI40:AI43)","v":1218184.5081258423},{"$f":"SUM('Input|Volume, Revenue, Cost'!AJ36:AJ37,'Input|Volume, Revenue, Cost'!AJ38:AJ39,'Input|Volume, Revenue, Cost'!AJ40:AJ43)","v":1250524.813444783},{"$f":"SUM('Input|Volume, Revenue, Cost'!AK36:AK37,'Input|Volume, Revenue, Cost'!AK38:AK39,'Input|Volume, Revenue, Cost'!AK40:AK43)","v":1285651.5898315536},{"$f":"SUM('Input|Volume, Revenue, Cost'!AL36:AL37,'Input|Volume, Revenue, Cost'!AL38:AL39,'Input|Volume, Revenue, Cost'!AL40:AL43)","v":1323933.9517709771},{"$f":"SUM('Input|Volume, Revenue, Cost'!AM36:AM37,'Input|Volume, Revenue, Cost'!AM38:AM39,'Input|Volume, Revenue, Cost'!AM40:AM43)","v":1361952.6763287745}]
["DREV0111","Revenue from connection charges",null,null,null,null,null,null,null,null,{"$f":"SUM('Input|Volume, Revenue, Cost'!AG13:AG20)","v":5704163.3584517222},{"$f":"SUM('Input|Volume, Revenue, Cost'!AH13:AH20)","v":5824523.5175760258},{"$f":"SUM('Input|Volume, Revenue, Cost'!AI13:AI20)","v":7595661.7957324479},{"$f":"SUM('Input|Volume, Revenue, Cost'!AJ13:AJ20)","v":7797311.0696600275},{"$f":"SUM('Input|Volume, Revenue, Cost'!AK13:AK20)","v":8016334.6343404818},{"$f":"SUM('Input|Volume, Revenue, Cost'!AL13:AL20)","v":8255034.0038481783},{"$f":"SUM('Input|Volume, Revenue, Cost'!AM13:AM20)","v":8492089.5333840251}]
["DREV0112","Revenue from public lighting charges"]
["DREV0113","Revenue from other Sources",null,null,null,null,null,null,null,null,{"$f":"'Input|Volume, Revenue, Cost'!AG74-SUM('Output|RIN Revenue'!K22:K23)","v":3835760.011383119},{"$f":"'Input|Volume, Revenue, Cost'!AH74-SUM('Output|RIN Revenue'!L22:L23)","v":3916696.1025013104},{"$f":"'Input|Volume, Revenue, Cost'!AI74-SUM('Output|RIN Revenue'!M22:M23)","v":4743779.7032486964},{"$f":"'Input|Volume, Revenue, Cost'!AJ74-SUM('Output|RIN Revenue'!N22:N23)","v":4869717.3448337801},{"$f":"'Input|Volume, Revenue, Cost'!AK74-SUM('Output|RIN Revenue'!O22:O23)","v":5006505.8918499257},{"$f":"'Input|Volume, Revenue, Cost'!AL74-SUM('Output|RIN Revenue'!P22:P23)","v":5155582.7273779474},{"$f":"'Input|Volume, Revenue, Cost'!AM74-SUM('Output|RIN Revenue'!Q22:Q23)","v":5303632.9223177545}]
["DREV01","Total revenue by chargeable quantity",0,0,0,0,0,0,0,null,{"$f":"SUM(K22:K25)","v":10545959.160721283},{"$f":"SUM(L22:L25)","v":10768483.173961909},13557626.007106986,13917553.227938591,14308492.116021961,14734550.682997104,15157675.132030554]
[null,null,null,null,null,null,null,null,null,null,{"$f":"IF(ROUND(K26-'Input|Volume, Revenue, Cost'!AG74,10)=0,\"Ok\",\"Error\")","v":"Ok"},{"$f":"IF(ROUND(L26-'Input|Volume, Revenue, Cost'!AH74,10)=0,\"Ok\",\"Error\")","v":"Ok"},{"$f":"IF(ROUND(M26-'Input|Volume, Revenue, Cost'!AI74,10)=0,\"Ok\",\"Error\")","v":"Ok"},{"$f":"IF(ROUND(N26-'Input|Volume, Revenue, Cost'!AJ74,10)=0,\"Ok\",\"Error\")","v":"Ok"},{"$f":"IF(ROUND(O26-'Input|Volume, Revenue, Cost'!AK74,10)=0,\"Ok\",\"Error\")","v":"Ok"},{"$f":"IF(ROUND(P26-'Input|Volume, Revenue, Cost'!AL74,10)=0,\"Ok\",\"Error\")","v":"Ok"},{"$f":"IF(ROUND(Q26-'Input|Volume, Revenue, Cost'!AM74,10)=0,\"Ok\",\"Error\")","v":"Ok"}]
[]
[null,"3.1.2 - REVENUE GROUPING BY CUSTOMER TYPE OR CLASS"]
[null,null,"Standard control services",null,null,null,null,null,null,null,"Alternative control services"]
[null,null,"REVENUE \nFORECAST ($, real June 2026)",null,null,null,null,null,null,null,"REVENUE \nFORECAST ($, real June 2026)"]
[null,null,"2024-25","2025-26","2026-27","2027-28","2028-29","2029-30","2030-31",null,"2024-25","2025-26","2026-27","2027-28","2028-29","2029-30","2030-31"]
["DREV0201","Revenue from residential Customers "]
["DREV0202","Revenue from Non residential customers not on demand tariffs "]
["DREV0203","Revenue from Non-residential low voltage demand tariff customers "]
["DREV0204","Revenue from Non-residential high voltage demand tariff customers "]
["DREV0205","Revenue from unmetered supplies"]
["DREV0206","Revenue from Other Customers"]
["DREV02","Total revenue by customer class",0,0,0,0,0,0,0,null,0,0,0,0,0,0,0]
[]
[]
[null,"3.1.3 - REVENUE (penalties) ALLOWED (deducted) THROUGH INCENTIVE SCHEMES"]
[null,null,"Standard control services",null,null,null,null,null,null,null,"Alternative control services"]
[null,null,"REVENUE \nFORECAST ($, real June 2026)",null,null,null,null,null,null,null,"REVENUE \nFORECAST ($, real June 2026)"]
[null,null,"2024-25","2025-26","2026-27","2027-28","2028-29","2029-30","2030-31",null,"2024-25","2025-26","2026-27","2027-28","2028-29","2029-30","2030-31"]
["DREV0301","EBSS"]
["DREV0306","CESS"]
["DREV0302","STPIS"]
["DREV0307","CSIS"]
["DREV0308","ESIS"]
["DREV0309","DMIS/DMIA/DMIAM"]
["DREV0303","F-Factor"]
["DREV0305","Other"]
["DREV03","Total revenue rewards and penalties - incentive schemes",0,0,0,0,0,0,0,null,0,0,0,0,0,0,0]

{"sheet":"Input|Setup","index":5,"n_rows":49,"n_cols":17,"rows_kept":49,"cut":false,"hidden":false,"merged":[]}
[null,{"$f":"IFERROR(Index!B1,\"\")","v":"Jemena Electricity Networks – Alternative Control Services Forecast model"},null,null,"Key:","Input",null,"Sheet Validation",{"$f":"'Model Validation'!C10","v":0}]
[null,{"$f":"IFERROR(MID(CELL(\"filename\",A1),FIND(\"]\",CELL(\"filename\",A1))+1,255),\"\")","v":"Input|Setup"},null,null,null,"Formula"]
[]
[null,null,null,null,null,null,null,null,null,null,null,null,null,null,null,null,"For AER only"]
[3.1,"Years setup",null,null,"Year",{"$f":"IF(COUNTA(E6:E7)=0,1,0)","v":0},null,null,null,null,null,null,null,null,null,null,"Years"]
[null,"First year of forecast regulatory control period",null,null,"2026-27",null,null,null,null,null,null,null,null,null,null,null,"2016-17"]
[null,"Base year for inputs",null,null,"2024-25",null,null,null,null,null,null,null,null,null,null,null,{"$f":"LEFT(Q6,4)+1&\"-\"&RIGHT(Q6,2)+1","v":"2017-18"}]
[null,"Base year for outputs",null,null,{"$f":"E6","v":"2026-27"},null,null,null,null,null,null,null,null,null,null,null,"2018-19"]
[null,null,null,null,null,null,null,null,null,null,null,null,null,null,null,null,"2019-20"]
[3.2,"Current regulatory period",null,3.3,"Forecast regulatory period",null,null,null,null,null,null,null,null,null,null,null,"2020-21"]
[1,{"$f":"LEFT(B12,4)-1&\"-\"&RIGHT(B12,2)-1","v":"2021-22"},null,1,{"$f":"E6","v":"2026-27"},null,null,null,null,null,null,null,null,null,null,null,"2021-22"]
[{"$f":"A11+1","v":2},{"$f":"LEFT(B13,4)-1&\"-\"&RIGHT(B13,2)-1","v":"2022-23"},null,{"$f":"D11+1","v":2},{"$f":"LEFT(E11,4)+1&\"-\"&RIGHT(E11,2)+1","v":"2027-28"},null,null,null,null,null,null,null,null,null,null,null,"2022-23"]
[{"$f":"A12+1","v":3},{"$f":"LEFT(B14,4)-1&\"-\"&RIGHT(B14,2)-1","v":"2023-24"},null,{"$f":"D12+1","v":3},{"$f":"LEFT(E12,4)+1&\"-\"&RIGHT(E12,2)+1","v":"2028-29"},null,null,null,null,null,null,null,null,null,null,null,"2023-24"]
[{"$f":"A13+1","v":4},{"$f":"LEFT(B15,4)-1&\"-\"&RIGHT(B15,2)-1","v":"2024-25"},null,{"$f":"D13+1","v":4},{"$f":"LEFT(E13,4)+1&\"-\"&RIGHT(E13,2)+1","v":"2029-30"},null,null,null,null,null,null,null,null,null,null,null,"2024-25"]
[{"$f":"A14+1","v":5},{"$f":"LEFT(E11,4)-1&\"-\"&RIGHT(E11,2)-1","v":"2025-26"},null,{"$f":"D14+1","v":5},{"$f":"LEFT(E14,4)+1&\"-\"&RIGHT(E14,2)+1","v":"2030-31"},null,null,null,null,null,null,null,null,null,null,null,"2025-26"]
[null,null,null,null,null,null,null,null,null,null,null,null,null,null,null,null,"2026-27"]
[null,null,null,null,null,null,null,null,null,null,null,null,null,null,null,null,"2027-28"]
[3.4,"Used for quoted service?",null,3.5,"Conversions",null,null,null,null,null,null,null,null,null,null,null,"2028-29"]
[1,"Yes",null,null,60,"mins",null,null,null,null,null,null,null,null,null,null,"2029-30"]
[{"$f":"A19+1","v":2},"No",null,null,null,null,null,null,null,null,null,null,null,null,null,null,"2030-31"]
[null,null,null,null,null,null,null,null,null,null,null,null,null,null,null,null,"2031-32"]
[null,null,null,null,null,null,null,null,null,null,null,null,null,null,null,null,"2032-33"]
[null,null,null,null,null,null,null,null,null,null,null,null,null,null,null,null,"2033-34"]
[3.6,"Hours",{"$f":"IF(COUNTA(B25:B27)=0,1,0)","v":0},null,null,null,null,null,null,null,null,null,null,null,null,null,"2034-35"]
[null,"Business Hours"]
[null,"After Hours"]
[null,"Not Applicable"]
[]
[]
[3.7,"Labour type",{"$f":"IF(COUNTA(B31:B49)=0,1,0)","v":0},3.8,"Service category",{"$f":"IF(COUNTA(E31:E49)=0,1,0)","v":0},{"$f":"\"3.9\"","v":"3.9"},"Expense Type",{"$f":"IF(COUNTA(H31:H38)=0,1,0)","v":0}]
[1,"Administrative Officer",null,null,"Network safety services",null,null,"Capex"]
[{"$f":"A31+1","v":2},"Field Worker",null,null,"Customer requested supply outage",null,null,"Opex"]
[{"$f":"A32+1","v":3},"Technical Specialist",null,null,"Security lights"]
[{"$f":"A33+1","v":4},"Engineer",null,null,"Customer requested electricity data"]
[5,"Senior Engineer",null,null,"Auxiliary metering services"]
[6,null,null,null,"Type 7 metering services"]
[7,null,null,null,"Basic connection services"]
[8,null,null,null,"Enhanced connection services"]
[9,null,null,null,"Connection management services"]
[10,null,null,null,"Wasted Site Attendance",null,{"$f":"\"3.10\"","v":"3.10"},"Control Mechanism",{"$f":"IF(COUNTA(H41:H48)=0,1,0)","v":0}]
[11,null,null,null,"AMI Meter Charges (<160 MWh p.a.)",null,null,"Fee Based"]
[12,null,null,null,"Type 5 and 6 (incl. smart metering)"]
[13]
[14]
[15]
[16]
[17]
[18]
[19]

{"sheet":"Input|Escalations","index":6,"n_rows":74,"n_cols":14,"rows_kept":74,"cut":false,"hidden":false,"merged":[]}
[null,{"$f":"IFERROR(Index!B1,\"\")","v":"Jemena Electricity Networks – Alternative Control Services Forecast model"},"Key: ","Input",null,"Sheet Validation ",{"$f":"'Model Validation'!C11","v":0}]
[null,{"$f":"IFERROR(MID(CELL(\"filename\",A1),FIND(\"]\",CELL(\"filename\",A1))+1,255),\"\")","v":"Input|Escalations"},null,"Formula"]
[]
[]
[4.0999999999999996,"Escalation setup"]
[]
[null,null,"Year"]
[null,"First year of forecast regulatory control period",{"$f":"'Input|Setup'!E6","v":"2026-27"}]
[null,"Base year for inputs",{"$f":"'Input|Setup'!E7","v":"2024-25"}]
[null,"Base year for outputs",{"$f":"'Input|Setup'!E8","v":"2026-27"}]
[]
[]
[4.2,"Inflation",null,"Current regulatory period",null,null,null,null,"Forecast regulatory period"]
[]
[null,null,null,{"$f":"IFERROR((LEFT(E15,4)-1&IF(MID(E15,5,1)=\"\",\"\",\"-\"&TEXT(MOD(MID(E15,6,2)-1,100),\"00\"))),\"\")","v":"2021-22"},{"$f":"IFERROR((LEFT(F15,4)-1&IF(MID(F15,5,1)=\"\",\"\",\"-\"&TEXT(MOD(MID(F15,6,2)-1,100),\"00\"))),\"\")","v":"2022-23"},{"$f":"IFERROR((LEFT(G15,4)-1&IF(MID(G15,5,1)=\"\",\"\",\"-\"&TEXT(MOD(MID(G15,6,2)-1,100),\"00\"))),\"\")","v":"2023-24"},{"$f":"IFERROR((LEFT(H15,4)-1&IF(MID(H15,5,1)=\"\",\"\",\"-\"&TEXT(MOD(MID(H15,6,2)-1,100),\"00\"))),\"\")","v":"2024-25"},{"$f":"IFERROR((LEFT(I15,4)-1&IF(MID(I15,5,1)=\"\",\"\",\"-\"&TEXT(MOD(MID(I15,6,2)-1,100),\"00\"))),\"\")","v":"2025-26"},{"$f":"$C$8","v":"2026-27"},{"$f":"IFERROR((LEFT(I15,4)+1&IF(MID(I15,5,1)=\"\",\"\",\"-\"&TEXT(MOD(MID(I15,6,2)+1,100),\"00\"))),\"\")","v":"2027-28"},{"$f":"IFERROR((LEFT(J15,4)+1&IF(MID(J15,5,1)=\"\",\"\",\"-\"&TEXT(MOD(MID(J15,6,2)+1,100),\"00\"))),\"\")","v":"2028-29"},{"$f":"IFERROR((LEFT(K15,4)+1&IF(MID(K15,5,1)=\"\",\"\",\"-\"&TEXT(MOD(MID(K15,6,2)+1,100),\"00\"))),\"\")","v":"2029-30"},{"$f":"IFERROR((LEFT(L15,4)+1&IF(MID(L15,5,1)=\"\",\"\",\"-\"&TEXT(MOD(MID(L15,6,2)+1,100),\"00\"))),\"\")","v":"2030-31"}]
[null,"CPI year on year change (%) - lagged one year (actual/estimate)",null,8.6058519793459354E-3,{"$f":"IFERROR(E20/D20-1,0)","v":3.4982935153583528E-2},7.8318219291014124E-2,4.0519877675840865E-2,2.6000000000000023E-2,2.4999999999999911E-2,2.4999999999999911E-2,2.4999999999999911E-2,2.4999999999999911E-2,2.4999999999999911E-2]
[null,"Cumulative Inflation Index ",null,1,{"$f":"IFERROR(D17*(1+E16),\"\")","v":1.0349829351535835},{"$f":"E17*(1+F16)","v":1.1160409556313993},1.1612627986348121,1.1914556313993172,1.2212420221843001,1.2517730727389076,1.2830673995573803,1.3151440845463147,1.3480226866599725]
[null,{"$f":"IFERROR(\"Real \"&C9 &\" \"&LEFT(D9,9)&\" to \"& \"Real \"&C10 &\" \"&LEFT(D10,9),\"\")","v":"Real 2024-25  to Real 2026-27 "},null,null,null,null,null,null,{"$f":"I$17/INDEX($D$15:$M$17,3, MATCH($C$9,$D$15:$M$15,0))","v":1.05165}]
[null,"ABS index, all groups CPI inflation series A2325846C, weighted average for the eight capital cities",null,{"$f":"\"Dec-\" & RIGHT(D15,2)-2","v":"Dec-20"},"Dec-21","Dec-22","Dec-23","Dec-24","Dec-25","Dec-26","Dec-27","Dec-28","Dec-29"]
[null,null,null,117.2,121.3,130.80000000000001,136.1,{"$f":"G20*(1+H21)","v":139.6386},143.12956499999999,146.70780412499997,150.37549922812497,154.13488670882808,157.98825887654877,{"$f":"IF(COUNTA(D20:M20)=0,1,0)","v":0}]
[null,"Source (where ABS index is not available. E.g. forecast CPI)",null,null,null,null,null,2.5999999999999999E-2,2.5000000000000001E-2,2.5000000000000001E-2,2.5000000000000001E-2,2.5000000000000001E-2,2.5000000000000001E-2,{"$f":"IF(COUNTA(G21:M21)=0,1,0)","v":0}]
[]
[]
[4.3,"Real price escalation",null,"Current regulatory period",null,null,null,null,"Forecast regulatory period"]
[]
[null,null,null,{"$f":"IFERROR((LEFT(E26,4)-1&IF(MID(E26,5,1)=\"\",\"\",\"-\"&TEXT(MOD(MID(E26,6,2)-1,100),\"00\"))),\"\")","v":"2021-22"},{"$f":"IFERROR((LEFT(F26,4)-1&IF(MID(F26,5,1)=\"\",\"\",\"-\"&TEXT(MOD(MID(F26,6,2)-1,100),\"00\"))),\"\")","v":"2022-23"},{"$f":"IFERROR((LEFT(G26,4)-1&IF(MID(G26,5,1)=\"\",\"\",\"-\"&TEXT(MOD(MID(G26,6,2)-1,100),\"00\"))),\"\")","v":"2023-24"},{"$f":"IFERROR((LEFT(H26,4)-1&IF(MID(H26,5,1)=\"\",\"\",\"-\"&TEXT(MOD(MID(H26,6,2)-1,100),\"00\"))),\"\")","v":"2024-25"},{"$f":"IFERROR((LEFT(I26,4)-1&IF(MID(I26,5,1)=\"\",\"\",\"-\"&TEXT(MOD(MID(I26,6,2)-1,100),\"00\"))),\"\")","v":"2025-26"},{"$f":"$C$8","v":"2026-27"},{"$f":"IFERROR((LEFT(I26,4)+1&IF(MID(I26,5,1)=\"\",\"\",\"-\"&TEXT(MOD(MID(I26,6,2)+1,100),\"00\"))),\"\")","v":"2027-28"},{"$f":"IFERROR((LEFT(J26,4)+1&IF(MID(J26,5,1)=\"\",\"\",\"-\"&TEXT(MOD(MID(J26,6,2)+1,100),\"00\"))),\"\")","v":"2028-29"},{"$f":"IFERROR((LEFT(K26,4)+1&IF(MID(K26,5,1)=\"\",\"\",\"-\"&TEXT(MOD(MID(K26,6,2)+1,100),\"00\"))),\"\")","v":"2029-30"},{"$f":"IFERROR((LEFT(L26,4)+1&IF(MID(L26,5,1)=\"\",\"\",\"-\"&TEXT(MOD(MID(L26,6,2)+1,100),\"00\"))),\"\")","v":"2030-31"}]
[null,"X-factor (real wage price escalation)",null,{"$f":"-D37","v":2.8120407869096802E-2},{"$f":"-E37","v":4.374835875726607E-2},1.5093609819145648E-2,-6.5363129067719239E-3,-7.2010311340859889E-3,-9.3135243940020672E-3,-8.3583556288052887E-3,-1.0254990531688098E-2,-1.2240188084018007E-2,-1.1482353043552641E-2]
[null,"Materials",null,0,0,0,0,0,0,0,0,0,0]
[null,"Contracts",null,{"$f":"D27","v":2.8120407869096802E-2},{"$f":"E27","v":4.374835875726607E-2},1.5093609819145648E-2,-6.5363129067719239E-3,-7.2010311340859889E-3,-9.3135243940020672E-3,-8.3583556288052887E-3,-1.0254990531688098E-2,-1.2240188084018007E-2,-1.1482353043552641E-2]
[null,"Vehicles",null,{"$f":"D28","v":0},{"$f":"E28","v":0},0,0,0,0,0,0,0,0]
[null,"Other",null,{"$f":"D28","v":0},{"$f":"E28","v":0},0,0,0,0,0,0,0,0]
[]
[]
["4.3.1","Real wage price escalation",null,"Current regulatory period",null,null,null,null,"Forecast regulatory period"]
[]
[null,null,null,{"$f":"IFERROR((LEFT(E36,4)-1&IF(MID(E36,5,1)=\"\",\"\",\"-\"&TEXT(MOD(MID(E36,6,2)-1,100),\"00\"))),\"\")","v":"2021-22"},{"$f":"IFERROR((LEFT(F36,4)-1&IF(MID(F36,5,1)=\"\",\"\",\"-\"&TEXT(MOD(MID(F36,6,2)-1,100),\"00\"))),\"\")","v":"2022-23"},{"$f":"IFERROR((LEFT(G36,4)-1&IF(MID(G36,5,1)=\"\",\"\",\"-\"&TEXT(MOD(MID(G36,6,2)-1,100),\"00\"))),\"\")","v":"2023-24"},{"$f":"IFERROR((LEFT(H36,4)-1&IF(MID(H36,5,1)=\"\",\"\",\"-\"&TEXT(MOD(MID(H36,6,2)-1,100),\"00\"))),\"\")","v":"2024-25"},{"$f":"IFERROR((LEFT(I36,4)-1&IF(MID(I36,5,1)=\"\",\"\",\"-\"&TEXT(MOD(MID(I36,6,2)-1,100),\"00\"))),\"\")","v":"2025-26"},{"$f":"$C$8","v":"2026-27"},{"$f":"IFERROR((LEFT(I36,4)+1&IF(MID(I36,5,1)=\"\",\"\",\"-\"&TEXT(MOD(MID(I36,6,2)+1,100),\"00\"))),\"\")","v":"2027-28"},{"$f":"IFERROR((LEFT(J36,4)+1&IF(MID(J36,5,1)=\"\",\"\",\"-\"&TEXT(MOD(MID(J36,6,2)+1,100),\"00\"))),\"\")","v":"2028-29"},{"$f":"IFERROR((LEFT(K36,4)+1&IF(MID(K36,5,1)=\"\",\"\",\"-\"&TEXT(MOD(MID(K36,6,2)+1,100),\"00\"))),\"\")","v":"2029-30"},{"$f":"IFERROR((LEFT(L36,4)+1&IF(MID(L36,5,1)=\"\",\"\",\"-\"&TEXT(MOD(MID(L36,6,2)+1,100),\"00\"))),\"\")","v":"2030-31"}]
[null,"Labour - Real wage price growth",null,{"$f":"SUM((D42*D48),(D43*D49),(D44*D50),(D45*D51))","v":-2.8120407869096802E-2},-4.374835875726607E-2,-1.5093609819145648E-2,6.5363129067719239E-3,7.2010311340859889E-3,9.3135243940020672E-3,8.3583556288052887E-3,1.0254990531688098E-2,1.2240188084018007E-2,1.1482353043552641E-2]
[null,"Cumulative Labour - Wage price growth index",null,{"$f":"1+D37","v":0.97187959213090325},{"$f":"IFERROR(D38*(1+E37),\"\")","v":0.92936145506549517},0.91533403588178308,0.92131694555452481,0.92795137756382395,0.93659387535521255,0.94442226004519247,0.95410730137987132,0.96578575420109569,0.97687524719526642]
[null,{"$f":"\"Escalate from base year to \" & C8","v":"Escalate from base year to 2026-27"},null,null,null,null,null,null,{"$f":"I38/INDEX($D$36:$M$38,3,MATCH($C$9,$D$36:$M$36,0))","v":1.0165816225072175}]
[]
[null,"Forecast/Source",null,{"$f":"IFERROR((LEFT(E41,4)-1&IF(MID(E41,5,1)=\"\",\"\",\"-\"&TEXT(MOD(MID(E41,6,2)-1,100),\"00\"))),\"\")","v":"2021-22"},{"$f":"IFERROR((LEFT(F41,4)-1&IF(MID(F41,5,1)=\"\",\"\",\"-\"&TEXT(MOD(MID(F41,6,2)-1,100),\"00\"))),\"\")","v":"2022-23"},{"$f":"IFERROR((LEFT(G41,4)-1&IF(MID(G41,5,1)=\"\",\"\",\"-\"&TEXT(MOD(MID(G41,6,2)-1,100),\"00\"))),\"\")","v":"2023-24"},{"$f":"IFERROR((LEFT(H41,4)-1&IF(MID(H41,5,1)=\"\",\"\",\"-\"&TEXT(MOD(MID(H41,6,2)-1,100),\"00\"))),\"\")","v":"2024-25"},{"$f":"IFERROR((LEFT(I41,4)-1&IF(MID(I41,5,1)=\"\",\"\",\"-\"&TEXT(MOD(MID(I41,6,2)-1,100),\"00\"))),\"\")","v":"2025-26"},{"$f":"$C$8","v":"2026-27"},{"$f":"IFERROR((LEFT(I41,4)+1&IF(MID(I41,5,1)=\"\",\"\",\"-\"&TEXT(MOD(MID(I41,6,2)+1,100),\"00\"))),\"\")","v":"2027-28"},{"$f":"IFERROR((LEFT(J41,4)+1&IF(MID(J41,5,1)=\"\",\"\",\"-\"&TEXT(MOD(MID(J41,6,2)+1,100),\"00\"))),\"\")","v":"2028-29"},{"$f":"IFERROR((LEFT(K41,4)+1&IF(MID(K41,5,1)=\"\",\"\",\"-\"&TEXT(MOD(MID(K41,6,2)+1,100),\"00\"))),\"\")","v":"2029-30"},{"$f":"IFERROR((LEFT(L41,4)+1&IF(MID(L41,5,1)=\"\",\"\",\"-\"&TEXT(MOD(MID(L41,6,2)+1,100),\"00\"))),\"\")","v":"2030-31"},{"$f":"IF(COUNTA(B42:M45)=0,1,0)","v":0}]
[null,"WPI - DAE forecast (placeholder from Ergon Report) AUS",null,null,null,null,null,null,7.0000000000000001E-3,7.0000000000000001E-3,8.0000000000000002E-3,1.0999999999999999E-2,1.0999999999999999E-2]
[null,"WPI - Oxford Economics actual and forecast October 2024",null,-2.8120407869096802E-2,-4.374835875726607E-2,-1.5093609819145648E-2,6.5363129067719239E-3,7.2010311340859889E-3,1.1627048788004135E-2,9.7167112576105781E-3,1.2509981063376197E-2,1.3480376168036013E-2,1.1964706087105283E-2]
[]
[]
[]
[null,"Weights (per cent)",null,{"$f":"IFERROR((LEFT(E47,4)-1&IF(MID(E47,5,1)=\"\",\"\",\"-\"&TEXT(MOD(MID(E47,6,2)-1,100),\"00\"))),\"\")","v":"2021-22"},{"$f":"IFERROR((LEFT(F47,4)-1&IF(MID(F47,5,1)=\"\",\"\",\"-\"&TEXT(MOD(MID(F47,6,2)-1,100),\"00\"))),\"\")","v":"2022-23"},{"$f":"IFERROR((LEFT(G47,4)-1&IF(MID(G47,5,1)=\"\",\"\",\"-\"&TEXT(MOD(MID(G47,6,2)-1,100),\"00\"))),\"\")","v":"2023-24"},{"$f":"IFERROR((LEFT(H47,4)-1&IF(MID(H47,5,1)=\"\",\"\",\"-\"&TEXT(MOD(MID(H47,6,2)-1,100),\"00\"))),\"\")","v":"2024-25"},{"$f":"IFERROR((LEFT(I47,4)-1&IF(MID(I47,5,1)=\"\",\"\",\"-\"&TEXT(MOD(MID(I47,6,2)-1,100),\"00\"))),\"\")","v":"2025-26"},{"$f":"$C$8","v":"2026-27"},{"$f":"IFERROR((LEFT(I47,4)+1&IF(MID(I47,5,1)=\"\",\"\",\"-\"&TEXT(MOD(MID(I47,6,2)+1,100),\"00\"))),\"\")","v":"2027-28"},{"$f":"IFERROR((LEFT(J47,4)+1&IF(MID(J47,5,1)=\"\",\"\",\"-\"&TEXT(MOD(MID(J47,6,2)+1,100),\"00\"))),\"\")","v":"2028-29"},{"$f":"IFERROR((LEFT(K47,4)+1&IF(MID(K47,5,1)=\"\",\"\",\"-\"&TEXT(MOD(MID(K47,6,2)+1,100),\"00\"))),\"\")","v":"2029-30"},{"$f":"IFERROR((LEFT(L47,4)+1&IF(MID(L47,5,1)=\"\",\"\",\"-\"&TEXT(MOD(MID(L47,6,2)+1,100),\"00\"))),\"\")","v":"2030-31"},{"$f":"IF(COUNTA(D48:M51)=0,1,0)","v":0}]
[null,{"$f":"B42","v":"WPI - DAE forecast (placeholder from Ergon Report) AUS"},null,null,null,null,null,null,0.5,0.5,0.5,0.5,0.5]
[null,{"$f":"B43","v":"WPI - Oxford Economics actual and forecast October 2024"},null,1,1,1,1,1,0.5,0.5,0.5,0.5,0.5]
[null,{"$f":"B44","v":0}]
[null,{"$f":"B45","v":0}]
[null,null,null,{"$f":"IF(OR(SUM(D48:D51)=0,SUM(D48:D51)=1),0,1)","v":0},0,0,0,0,{"$f":"IF(OR(SUM(I48:I51)=0,SUM(I48:I51)=1),0,1)","v":0},0,0,0,0,{"$f":"IF(SUM(D52:M52)=0,0,1)","v":0}]
[]
["4.3.2","Real price escalation (non-wage)",null,"Current regulatory period",null,null,null,null,"Forecast regulatory period"]
[]
[null,null,null,{"$f":"IFERROR((LEFT(E56,4)-1&IF(MID(E56,5,1)=\"\",\"\",\"-\"&TEXT(MOD(MID(E56,6,2)-1,100),\"00\"))),\"\")","v":"2021-22"},{"$f":"IFERROR((LEFT(F56,4)-1&IF(MID(F56,5,1)=\"\",\"\",\"-\"&TEXT(MOD(MID(F56,6,2)-1,100),\"00\"))),\"\")","v":"2022-23"},{"$f":"IFERROR((LEFT(G56,4)-1&IF(MID(G56,5,1)=\"\",\"\",\"-\"&TEXT(MOD(MID(G56,6,2)-1,100),\"00\"))),\"\")","v":"2023-24"},{"$f":"IFERROR((LEFT(H56,4)-1&IF(MID(H56,5,1)=\"\",\"\",\"-\"&TEXT(MOD(MID(H56,6,2)-1,100),\"00\"))),\"\")","v":"2024-25"},{"$f":"IFERROR((LEFT(I56,4)-1&IF(MID(I56,5,1)=\"\",\"\",\"-\"&TEXT(MOD(MID(I56,6,2)-1,100),\"00\"))),\"\")","v":"2025-26"},{"$f":"$C$8","v":"2026-27"},{"$f":"IFERROR((LEFT(I56,4)+1&IF(MID(I56,5,1)=\"\",\"\",\"-\"&TEXT(MOD(MID(I56,6,2)+1,100),\"00\"))),\"\")","v":"2027-28"},{"$f":"IFERROR((LEFT(J56,4)+1&IF(MID(J56,5,1)=\"\",\"\",\"-\"&TEXT(MOD(MID(J56,6,2)+1,100),\"00\"))),\"\")","v":"2028-29"},{"$f":"IFERROR((LEFT(K56,4)+1&IF(MID(K56,5,1)=\"\",\"\",\"-\"&TEXT(MOD(MID(K56,6,2)+1,100),\"00\"))),\"\")","v":"2029-30"},{"$f":"IFERROR((LEFT(L56,4)+1&IF(MID(L56,5,1)=\"\",\"\",\"-\"&TEXT(MOD(MID(L56,6,2)+1,100),\"00\"))),\"\")","v":"2030-31"}]
[null,"Materials - Real price growth",null,{"$f":"-D$28","v":0},0,0,0,0,0,0,0,0,0]
[null,"Cumulative Labour - Wage price growth index",null,{"$f":"1+D57","v":1},{"$f":"IFERROR(D58*(1+E57),\"\")","v":1},1,1,1,1,1,1,1,1]
[null,{"$f":"\"Escalate from base year to \" & C28","v":"Escalate from base year to "},null,null,null,null,null,null,{"$f":"I58/INDEX($D$56:$M$58,3,MATCH($C$9,$D$56:$M$56,0))","v":1}]
[]
[null,null,null,{"$f":"IFERROR((LEFT(E61,4)-1&IF(MID(E61,5,1)=\"\",\"\",\"-\"&TEXT(MOD(MID(E61,6,2)-1,100),\"00\"))),\"\")","v":"2021-22"},{"$f":"IFERROR((LEFT(F61,4)-1&IF(MID(F61,5,1)=\"\",\"\",\"-\"&TEXT(MOD(MID(F61,6,2)-1,100),\"00\"))),\"\")","v":"2022-23"},{"$f":"IFERROR((LEFT(G61,4)-1&IF(MID(G61,5,1)=\"\",\"\",\"-\"&TEXT(MOD(MID(G61,6,2)-1,100),\"00\"))),\"\")","v":"2023-24"},{"$f":"IFERROR((LEFT(H61,4)-1&IF(MID(H61,5,1)=\"\",\"\",\"-\"&TEXT(MOD(MID(H61,6,2)-1,100),\"00\"))),\"\")","v":"2024-25"},{"$f":"IFERROR((LEFT(I61,4)-1&IF(MID(I61,5,1)=\"\",\"\",\"-\"&TEXT(MOD(MID(I61,6,2)-1,100),\"00\"))),\"\")","v":"2025-26"},{"$f":"$C$8","v":"2026-27"},{"$f":"IFERROR((LEFT(I61,4)+1&IF(MID(I61,5,1)=\"\",\"\",\"-\"&TEXT(MOD(MID(I61,6,2)+1,100),\"00\"))),\"\")","v":"2027-28"},{"$f":"IFERROR((LEFT(J61,4)+1&IF(MID(J61,5,1)=\"\",\"\",\"-\"&TEXT(MOD(MID(J61,6,2)+1,100),\"00\"))),\"\")","v":"2028-29"},{"$f":"IFERROR((LEFT(K61,4)+1&IF(MID(K61,5,1)=\"\",\"\",\"-\"&TEXT(MOD(MID(K61,6,2)+1,100),\"00\"))),\"\")","v":"2029-30"},{"$f":"IFERROR((LEFT(L61,4)+1&IF(MID(L61,5,1)=\"\",\"\",\"-\"&TEXT(MOD(MID(L61,6,2)+1,100),\"00\"))),\"\")","v":"2030-31"}]
[null,"Contracts - Real price growth",null,{"$f":"-D$29","v":-2.8120407869096802E-2},-4.374835875726607E-2,-1.5093609819145648E-2,6.5363129067719239E-3,7.2010311340859889E-3,9.3135243940020672E-3,8.3583556288052887E-3,1.0254990531688098E-2,1.2240188084018007E-2,1.1482353043552641E-2]
[null,"Cumulative Labour - Wage price growth index",null,{"$f":"1+D62","v":0.97187959213090325},{"$f":"IFERROR(D63*(1+E62),\"\")","v":0.92936145506549517},0.91533403588178308,0.92131694555452481,0.92795137756382395,0.93659387535521255,0.94442226004519247,0.95410730137987132,0.96578575420109569,0.97687524719526642]
[null,{"$f":"\"Escalate from base year to \" & C33","v":"Escalate from base year to "},null,null,null,null,null,null,{"$f":"I63/INDEX($D$61:$M$63,3,MATCH($C$9,$D$61:$M$61,0))","v":1.0165816225072175}]
[]
[null,null,null,{"$f":"IFERROR((LEFT(E66,4)-1&IF(MID(E66,5,1)=\"\",\"\",\"-\"&TEXT(MOD(MID(E66,6,2)-1,100),\"00\"))),\"\")","v":"2021-22"},{"$f":"IFERROR((LEFT(F66,4)-1&IF(MID(F66,5,1)=\"\",\"\",\"-\"&TEXT(MOD(MID(F66,6,2)-1,100),\"00\"))),\"\")","v":"2022-23"},{"$f":"IFERROR((LEFT(G66,4)-1&IF(MID(G66,5,1)=\"\",\"\",\"-\"&TEXT(MOD(MID(G66,6,2)-1,100),\"00\"))),\"\")","v":"2023-24"},{"$f":"IFERROR((LEFT(H66,4)-1&IF(MID(H66,5,1)=\"\",\"\",\"-\"&TEXT(MOD(MID(H66,6,2)-1,100),\"00\"))),\"\")","v":"2024-25"},{"$f":"IFERROR((LEFT(I66,4)-1&IF(MID(I66,5,1)=\"\",\"\",\"-\"&TEXT(MOD(MID(I66,6,2)-1,100),\"00\"))),\"\")","v":"2025-26"},{"$f":"$C$8","v":"2026-27"},{"$f":"IFERROR((LEFT(I66,4)+1&IF(MID(I66,5,1)=\"\",\"\",\"-\"&TEXT(MOD(MID(I66,6,2)+1,100),\"00\"))),\"\")","v":"2027-28"},{"$f":"IFERROR((LEFT(J66,4)+1&IF(MID(J66,5,1)=\"\",\"\",\"-\"&TEXT(MOD(MID(J66,6,2)+1,100),\"00\"))),\"\")","v":"2028-29"},{"$f":"IFERROR((LEFT(K66,4)+1&IF(MID(K66,5,1)=\"\",\"\",\"-\"&TEXT(MOD(MID(K66,6,2)+1,100),\"00\"))),\"\")","v":"2029-30"},{"$f":"IFERROR((LEFT(L66,4)+1&IF(MID(L66,5,1)=\"\",\"\",\"-\"&TEXT(MOD(MID(L66,6,2)+1,100),\"00\"))),\"\")","v":"2030-31"}]
[null,"Vehicles - Real price growth",null,{"$f":"-D$30","v":0},0,0,0,0,0,0,0,0,0]
[null,"Cumulative Labour - Wage price growth index",null,{"$f":"1+D67","v":1},{"$f":"IFERROR(D68*(1+E67),\"\")","v":1},1,1,1,1,1,1,1,1]
[null,{"$f":"\"Escalate from base year to \" & C38","v":"Escalate from base year to "},null,null,null,null,null,null,{"$f":"I68/INDEX($D$66:$M$68,3,MATCH($C$9,$D$66:$M$66,0))","v":1}]
[]
[null,null,null,{"$f":"IFERROR((LEFT(E71,4)-1&IF(MID(E71,5,1)=\"\",\"\",\"-\"&TEXT(MOD(MID(E71,6,2)-1,100),\"00\"))),\"\")","v":"2021-22"},{"$f":"IFERROR((LEFT(F71,4)-1&IF(MID(F71,5,1)=\"\",\"\",\"-\"&TEXT(MOD(MID(F71,6,2)-1,100),\"00\"))),\"\")","v":"2022-23"},{"$f":"IFERROR((LEFT(G71,4)-1&IF(MID(G71,5,1)=\"\",\"\",\"-\"&TEXT(MOD(MID(G71,6,2)-1,100),\"00\"))),\"\")","v":"2023-24"},{"$f":"IFERROR((LEFT(H71,4)-1&IF(MID(H71,5,1)=\"\",\"\",\"-\"&TEXT(MOD(MID(H71,6,2)-1,100),\"00\"))),\"\")","v":"2024-25"},{"$f":"IFERROR((LEFT(I71,4)-1&IF(MID(I71,5,1)=\"\",\"\",\"-\"&TEXT(MOD(MID(I71,6,2)-1,100),\"00\"))),\"\")","v":"2025-26"},{"$f":"$C$8","v":"2026-27"},{"$f":"IFERROR((LEFT(I71,4)+1&IF(MID(I71,5,1)=\"\",\"\",\"-\"&TEXT(MOD(MID(I71,6,2)+1,100),\"00\"))),\"\")","v":"2027-28"},{"$f":"IFERROR((LEFT(J71,4)+1&IF(MID(J71,5,1)=\"\",\"\",\"-\"&TEXT(MOD(MID(J71,6,2)+1,100),\"00\"))),\"\")","v":"2028-29"},{"$f":"IFERROR((LEFT(K71,4)+1&IF(MID(K71,5,1)=\"\",\"\",\"-\"&TEXT(MOD(MID(K71,6,2)+1,100),\"00\"))),\"\")","v":"2029-30"},{"$f":"IFERROR((LEFT(L71,4)+1&IF(MID(L71,5,1)=\"\",\"\",\"-\"&TEXT(MOD(MID(L71,6,2)+1,100),\"00\"))),\"\")","v":"2030-31"}]
[null,"Other - Real price growth",null,{"$f":"-D$31","v":0},0,0,0,0,0,0,0,0,0]
[null,"Cumulative Labour - Wage price growth index",null,{"$f":"1+D72","v":1},{"$f":"IFERROR(D73*(1+E72),\"\")","v":1},1,1,1,1,1,1,1,1]
[null,{"$f":"\"Escalate from base year to \" & C43","v":"Escalate from base year to "},null,null,null,null,null,null,{"$f":"I73/INDEX($D$71:$M$73,3,MATCH($C$9,$D$71:$M$71,0))","v":1}]

{"sheet":"Input|Indirect Cost Rates","index":7,"n_rows":47,"n_cols":10,"rows_kept":47,"cut":false,"hidden":false,"merged":[[28,5,28,9],[46,5,46,9],[36,5,36,9],[37,5,37,9],[34,5,34,9],[43,5,43,9],[44,5,44,9],[45,5,45,9],[35,5,35,9]]}
[null,{"$f":"IFERROR(Index!B1,\"\")","v":"Jemena Electricity Networks – Alternative Control Services Forecast model"},"Key:","Input",null,"Sheet Validation","NA"]
[null,{"$f":"IFERROR(MID(CELL(\"filename\",A1),FIND(\"]\",CELL(\"filename\",A1))+1,255),\"\")","v":"Input|Indirect Cost Rates"},null,"Formula"]
[]
[]
[5.0999999999999996,"On costs"]
[]
[null,"On cost drivers","Unit","Administrative Officer (BH)","Field Worker (BH)","Technical Specialist (BH)","Senior Engineer (BH)","Engineer (BH)","Field Worker (AH)"]
[null,"Standard leave (annual leave, sick leave, public holidays)","Per cent",0.17150000000000001,0.18779999999999999,0.17150000000000001,0.17150000000000001,0.17150000000000001,0,"Att 11-03M ACS Labour rate model"]
[null,"Superannuation","Per cent",0.12,0.12,0.12,0.12,0.12,0.12,"Att 11-03M ACS Labour rate model"]
[null,"Workcover Insurance","Per cent",6.5100000000000002E-3,6.5100000000000002E-3,6.5100000000000002E-3,6.5100000000000002E-3,6.5100000000000002E-3,6.5100000000000002E-3,"Att 11-03M ACS Labour rate model"]
[null,"Payroll tax","Per cent",5.8500000000000003E-2,5.8500000000000003E-2,5.8500000000000003E-2,5.8500000000000003E-2,5.8500000000000003E-2,5.8500000000000003E-2,"Att 11-03M ACS Labour rate model"]
[null,"Annual leave loading","Per cent",0.02,0.02,0.02,0.02,0.02,0,"Att 11-03M ACS Labour rate model"]
[null,"Long Service leave allowance","Per cent",2.5000000000000001E-2,2.5000000000000001E-2,2.5000000000000001E-2,2.5000000000000001E-2,2.5000000000000001E-2,0,"Att 11-03M ACS Labour rate model"]
[null,"Non-chargeable time","Per cent",0,0,0,0,0,0,"Att 11-03M ACS Labour rate model"]
[null,"Other","Per cent",0,0,0,0,0,0,"Att 11-03M ACS Labour rate model"]
[null,"Allowances","Per cent",0,7.0000000000000001E-3,0,0,0,0,"Att 11-03M ACS Labour rate model"]
[null,"Training & Development","Per cent",0,0,7.571406071948044E-3,7.571406071948044E-3,7.571406071948044E-3,0,"Att 11-03M ACS Labour rate model"]
[null,"Safety Meetings/Toolbox Talks","Per cent",0,0,0,0,0,0]
[null,"Compounded on cost factor","Per cent",{"$f":"PRODUCT(1+D8:D17)-1","v":0.46148145609559954},{"$f":"PRODUCT(1+E8:E17)-1","v":0.4921889093172902},{"$f":"PRODUCT(1+F8:F17)-1","v":0.47254692566632128},{"$f":"PRODUCT(1+G8:G17)-1","v":0.47254692566632128},{"$f":"PRODUCT(1+H8:H17)-1","v":0.47254692566632128},{"$f":"PRODUCT(1+I8:I17)-1","v":0.19323773520000009}]
[]
[]
[5.2,"Overhead"]
[]
[null,"Type of Overhead","Unit","Input","Type","Notes"]
[null,"Network Overhead","Per cent",0.2093290403743884,"Capex","Att 11-03M ACS Labour rate model"]
[null,"Network Overhead","Per cent",0.2093290403743884,"Opex","Att 11-03M ACS Labour rate model"]
[null,"Corporate Overhead","Per cent",0.40097153765012611,"Capex","Att 11-03M ACS Labour rate model"]
[null,"Corporate Overhead","Per cent",0.40097153765012611,"Opex","Att 11-03M ACS Labour rate model"]
[null,null,"Per cent"]
[]
[]
[5.3,"Margins"]
[]
[null,null,"Unit","Input",null,"Notes"]
[null,"Margin 1","Per cent",0.06]
[null,null,"Per cent"]
[null,null,"Per cent"]
[null,null,"Per cent"]
[]
[]
[5.4,"Tax recovery rate"]
[]
[null,null,"Unit","Input",null,"Notes"]
[null,"Tax rate 1","Per cent",{"$f":"'Input|Tax Recovery'!G28","v":1.8727836426826648E-2},null,"Do we need to explore more than one tax rate, eg. One for metering, etc."]
[null,"Tax rate 2","Per cent",{"$f":"'Input|Tax Recovery'!G54","v":1.6405316877913263E-2}]
[null,null,"Per cent"]
[null,null,"Per cent"]

{"sheet":"Input|Labour Rates","index":8,"n_rows":136,"n_cols":12,"rows_kept":136,"cut":false,"hidden":false,"merged":[]}
[null,{"$f":"IFERROR(Index!B1,\"\")","v":"Jemena Electricity Networks – Alternative Control Services Forecast model"},null,"Key:","Input",null,"Sheet Validation",{"$f":"'Model Validation'!C13","v":0}]
[null,{"$f":"IFERROR(MID(CELL(\"filename\",A1),FIND(\"]\",CELL(\"filename\",A1))+1,255),\"\")","v":"Input|Labour Rates"},null,null,"Formula"]
[]
[]
[]
[]
[null,"6.1 Labour rates",null,null,{"$f":"IFERROR(\"Inputs, $'s ($\"&Input_base_year&\")\",\"\")","v":""},{"$f":"IFERROR(\"Inputs, $'s ($\"&Input_base_year&\")\",\"\")","v":""},{"$f":"IFERROR(\"Inputs, $'s ($\"&Input_base_year&\")\",\"\")","v":""},{"$f":"IFERROR(\"Inputs, $'s ($\"&Input_base_year&\")\",\"\")","v":""},null,null,"6.2 Notes and sources for \"Other costs\""]
[]
[null,{"$f":"'Input|Setup'!$B$30","v":"Labour type"},{"$f":"'Input|Setup'!$B$24","v":"Hours"},{"$f":"'Input|Setup'!$B$18","v":"Used for quoted service?"},"Base labour rate ($2024-25)",{"$f":"'Input|Indirect Cost Rates'!B5 & \" \n(%)\"","v":"On costs \n(%)"},{"$f":"'Input|Indirect Cost Rates'!B22 & \" \n(%)\"","v":"Overhead \n(%)"},"Vehicle \n($2024-25)","Other costs \n($2024-25)"]
[1,"Administrative Officer","Business hours","Yes",45.424262612803588,{"$f":"'Input|Indirect Cost Rates'!D19","v":0.46148145609559954},{"$f":"SUM('Input|Indirect Cost Rates'!$D$25,'Input|Indirect Cost Rates'!$D$27)","v":0.61030057802451454},0,2.672564237693265,{"$f":"IF(AND(ISTEXT(B10),OR(ISBLANK(C10),ISBLANK(D10),COUNTA(E10:I10)=0)),1,0)","v":0},"Att 11-03M ACS Labour rate model",{"$f":"IF(AND(ISNUMBER(I10),ISBLANK(K10)),1,0)","v":0}]
[{"$f":"A10+1","v":2},"Field Worker","Business hours","Yes",68.489963436607113,{"$f":"'Input|Indirect Cost Rates'!E19","v":0.4921889093172902},{"$f":"SUM('Input|Indirect Cost Rates'!$D$25,'Input|Indirect Cost Rates'!$D$27)","v":0.61030057802451454},22.440230832646332,4.1143165211268968,0,"Att 11-03M ACS Labour rate model",0]
[3,"Technical Specialist","Business hours","Yes",74.665288008760214,{"$f":"'Input|Indirect Cost Rates'!F19","v":0.47254692566632128},{"$f":"SUM('Input|Indirect Cost Rates'!$D$25,'Input|Indirect Cost Rates'!$D$27)","v":0.61030057802451454},22.440230832646332,4.4262388473997802,0,"Att 11-03M ACS Labour rate model",0]
[4,"Engineer","Business hours","Yes",100.94280580623018,{"$f":"'Input|Indirect Cost Rates'!H19","v":0.47254692566632128},{"$f":"SUM('Input|Indirect Cost Rates'!$D$25,'Input|Indirect Cost Rates'!$D$27)","v":0.61030057802451454},0,5.9839984595337938,0,"Att 11-03M ACS Labour rate model",0]
[5,"Senior Engineer","Business hours","Yes",121.13136696747624,{"$f":"'Input|Indirect Cost Rates'!G19","v":0.47254692566632128},{"$f":"SUM('Input|Indirect Cost Rates'!$D$25,'Input|Indirect Cost Rates'!$D$27)","v":0.61030057802451454},0,7.1807981514405528,0,"Att 11-03M ACS Labour rate model",0]
[6,"Administrative Officer","After Hours","No",0,0,{"$f":"SUM('Input|Indirect Cost Rates'!$D$25,'Input|Indirect Cost Rates'!$D$27)","v":0.61030057802451454},0,0,0,"Att 11-03M ACS Labour rate model",0]
[7,"Field Worker","After Hours","Yes",158.80667934960499,{"$f":"'Input|Indirect Cost Rates'!I19","v":0.19323773520000009},{"$f":"SUM('Input|Indirect Cost Rates'!$D$25,'Input|Indirect Cost Rates'!$D$27)","v":0.61030057802451454},22.440230832646332,7.6285623708948664,0,"Att 11-03M ACS Labour rate model",0]
[8,"Technical Specialist","After Hours","No",0,0,{"$f":"SUM('Input|Indirect Cost Rates'!$D$25,'Input|Indirect Cost Rates'!$D$27)","v":0.61030057802451454},0,0,0,"Att 11-03M ACS Labour rate model",0]
[9,"Engineer","After Hours","No",0,0,{"$f":"SUM('Input|Indirect Cost Rates'!$D$25,'Input|Indirect Cost Rates'!$D$27)","v":0.61030057802451454},0,0,0,"Att 11-03M ACS Labour rate model",0]
[10,"Senior Engineer","After Hours","No",0,0,{"$f":"SUM('Input|Indirect Cost Rates'!$D$25,'Input|Indirect Cost Rates'!$D$27)","v":0.61030057802451454},0,0,0,"Att 11-03M ACS Labour rate model",0]
[11,null,null,null,null,null,null,null,null,0,null,0]
[12,null,null,null,null,null,null,null,null,0,null,0]
[13,null,null,null,null,null,null,null,null,0,null,0]
[14,null,null,null,null,null,null,null,null,0,null,0]
[15,null,null,null,null,null,null,null,null,0,null,0]
[16,null,null,null,null,null,null,null,null,0,null,0]
[17,null,null,null,null,null,null,null,null,0,null,0]
[18,null,null,null,null,null,null,null,null,0,null,0]
[19,null,null,null,null,null,null,null,null,0,null,0]
[20,null,null,null,null,null,null,null,null,0,null,0]
[]
[]
[null,{"$f":"IFERROR(\"6.3 List of quoted services for \"&'Input|Setup'!$E$11&\" to \"&'Input|Setup'!$E$15&\" regulatory period\",\"\")","v":"6.3 List of quoted services for 2026-27 to 2030-31 regulatory period"}]
[]
[1,"Supply abolishment (non-basic) "]
[{"$f":"IFERROR(A34+1,\"\")","v":2},"Temporary covering of low voltage mains and service lines (fitting of tiger tails) "]
[{"$f":"IFERROR(A35+1,\"\")","v":3},"Rearrangement of network assets at customer request, excluding alteration and relocation of public lighting assets "]
[4,"Elective undergrounding "]
[5,"Reserve feeder construction "]
[6,"Access permits, oversight and facilitation "]
[7,"Sale of approved materials or equipment "]
[8,"Notices of arrangement and completion notices "]
[9,"Network related property services "]
[10,"Network safety services "]
[11,"High load escorts "]
[12,"Fitting of possum guards and aerial markers "]
[13,"Site visit relating to location of underground cables/assets "]
[14,"Third party request for de-energising wires for safe approach "]
[15,"Provision of traffic control and safety observer services by the distributor where required "]
[16,"Planned interruption – customer requested "]
[17,"Customer requested supply interruption "]
[18,"Inspection and auditing services "]
[19,"Provision of training to third parties for network related access "]
[20,"Authorisation and approval of third party service providers "]
[21,"Replacement of security lights that are beyond repair "]
[22,"Provision of electricity network data to customers or third parties outside of legislative obligations"]
[23,"Third party requested network alterations or other improvements "]
[24,"Community network upgrades "]
[25,"Non-standard metering services (eg. initial setup of load and inventory table of non-contestable unmetered devices) "]
[26,"Connection management services "]
[27,"Temporary non-basic connections "]
[28,"Temporary disconnection of non-basic connections "]
[29,"Reconnection of non-basic connection after temporary disconnection "]
[30,"Protection and power quality assessment "]
[31,"Customer requested change requiring secondary and primary plant studies "]
[32,"Calculation of a site-specific distribution loss factor on request "]
[33,"Embedded network management "]
[34,"Connection application related services "]
[35,"Alteration and relocation of public lighting assets "]
[36,"New public lighting services including greenfield sites and new light types (distributor provided)"]
[37,"Provision, construction and maintenance of emerging public lighting technology"]
[38]
[39]
[40]
[41]
[42]
[43]
[44]
[45]
[46]
[47]
[48]
[49]
[50]
[]
[null,{"$f":"IFERROR(\"6.4 List of Service Codes for \"&'Input|Setup'!$E$11&\" to \"&'Input|Setup'!$E$15&\" regulatory period\",\"\")","v":"6.4 List of Service Codes for 2026-27 to 2030-31 regulatory period"}]
[]
[1,"ND1P"]
[{"$f":"IFERROR(A87+1,\"\")","v":2},"ND3P"]
[{"$f":"IFERROR(A88+1,\"\")","v":3},"BTSO"]
[4,"BTSP"]
[5,"SUTK"]
[6,"RTK1"]
[7,"REEN"]
[8,"DEEN"]
[9,"DCTK"]
[10,"RCTK"]
[11,"SLOM"]
[12,"CUAC"]
[13,"RFOM"]
[14,"REENRM"]
[15,"DEENRM"]
[16,"MCTK"]
[17,"SPRDRM"]
[18,"MECFRM"]
[19,"SPRD"]
[20,"MTAL"]
[21,"MDCH"]
[22,"NCUM"]
[23,"WSVR"]
[24,"RTK3"]
[25,"1PNOP"]
[26,"1POP"]
[27,"3DCL"]
[28,"3CTL"]
[29,"AEXTSP"]
[30,"AEXTS2"]
[31,"AEXTTP"]
[32,"AEXTCT"]
[33,"NCI1"]
[34,"NCII"]
[35]
[36]
[37]
[38]
[39]
[40]
[41]
[42]
[43]
[44]
[45]
[46]
[47]
[48]
[49]
[50]

{"sheet":"Input|Fee Based","index":9,"n_rows":71,"n_cols":33,"rows_kept":71,"cut":false,"hidden":false,"merged":[[9,23,9,26],[5,8,5,21],[5,23,5,26]]}
[null,{"$f":"IFERROR(Index!B1,\"\")","v":"Jemena Electricity Networks – Alternative Control Services Forecast model"},null,"Key:","Input",null,null,null,"Sheet Validation",{"$f":"'Model Validation'!C14","v":0}]
[null,{"$f":"IFERROR(MID(CELL(\"filename\",A1),FIND(\"]\",CELL(\"filename\",A1))+1,255),\"\")","v":"Input|Fee Based"},null,null,"Formula"]
[]
[]
[]
[null,"7.1 Fee based services",null,null,null,"Mapping categories",null,null,{"$f":"IFERROR(\"7.2 Service cost build up - DIRECT COSTS, $'s ($\"&'Input|Escalations'!$C$9&\")\",\"\")","v":"7.2 Service cost build up - DIRECT COSTS, $'s ($2024-25)"},null,null,null,null,null,null,null,null,null,null,null,null,null,null,"7.3 Service cost build - INDIRECT COSTS (per cent)",null,null,null,null,null,null,null,"7.4 Notes and sources for \"Other costs\""]
[]
[]
[]
[null,null,null,null,null,null,null,null,"7.2.1 Non-field based labour",null,null,null,{"$f":"IF(SUM(M12:M61)=0,0,1)","v":0},"7.2.2 Field based labour",null,null,null,null,{"$f":"IF(SUM(S12:S61)=0,0,1)","v":0},"7.2.3 Direct non-labour",null,null,null,"Indirect Costs"]
[null,"Service code","Service",{"$f":"'Input|Setup'!$B$24","v":"Hours"},{"$f":"'Input|Setup'!$H$30","v":"Expense Type"},{"$f":"'Input|Setup'!$E$30","v":"Service category"},{"$f":"'Input|Setup'!$H$40","v":"Control Mechanism"},null,"Labour category",{"$f":"'Input|Setup'!$B$24","v":"Hours"},"FTE","Time on task (Minutes)",null,"Labour category",{"$f":"'Input|Setup'!$B$24","v":"Hours"},"FTE","Travel time\n(Minutes)","Time on task (Minutes)",null,{"$f":"\"Materials \n($\" & 'Input|Setup'!$E$7 & \")\"","v":"Materials \n($2024-25)"},{"$f":"\"Vehicles \n($\" & 'Input|Setup'!$E$7 & \")\"","v":"Vehicles \n($2024-25)"},{"$f":"\"Other \n($\" & 'Input|Setup'!$E$7 & \")\"","v":"Other \n($2024-25)"},null,"Network Overhead\n(%)","Corporate Overhead\n(%)","Margin\n(%)","Tax recovery\n(%)",null,null,null,null,"Notes and sources for \"Other costs\""]
[1,"ND1P","Basic connection, single-phase BH","Business Hours","Capex","Basic connection services","Fee Based",{"$f":"IF(AND(ISTEXT(C12),OR(ISBLANK(D12),ISBLANK(F12))),1,0)","v":0},{"$f":"IF(INDIRECT(\"'\"&$B12&\"'!B10\",TRUE)=\"\",\"\",INDIRECT(\"'\"&$B12&\"'!B10\",TRUE))","v":"Administrative Officer"},{"$f":"IF(I12=\"\",\"\",$D$12)","v":"Business Hours"},{"$f":"IF(I12=\"\",\"\",INDIRECT(\"'\"&$B12&\"'!D10\",TRUE))","v":1},{"$f":"IF(I12=\"\",\"\",INDIRECT(\"'\"&$B12&\"'!F30\",TRUE))","v":60},{"$f":"IF(OR(\nAND(ISTEXT(I12),ISBLANK(J12)),\nAND(ISTEXT(#REF!),ISBLANK(#REF!)),\nAND(ISTEXT(#REF!),ISBLANK(#REF!))),1,0)","v":0},{"$f":"IF(INDIRECT(\"'\"&$B12&\"'!H10\",TRUE)=\"\",\"\",INDIRECT(\"'\"&$B12&\"'!H10\",TRUE))","v":"Field Worker"},{"$f":"IF(N12=\"\",\"\",D12)","v":"Business Hours"},{"$f":"IF(N12=\"\",\"\",INDIRECT(\"'\"&$B12&\"'!J10\",TRUE))","v":2},{"$f":"IF(N12=\"\",\"\",INDIRECT(\"'\"&$B12&\"'!L10\",TRUE)/P12)","v":30},{"$f":"IF(N12=\"\",\"\",(INDIRECT(\"'\"&$B12&\"'!L30\",TRUE)-($Q12*P12))/P12)","v":35},{"$f":"IF(OR(\nAND(ISTEXT(N12),ISBLANK(O12)),\nAND(ISTEXT(#REF!),ISBLANK(#REF!)),\nAND(ISTEXT(#REF!),ISBLANK(#REF!)),\nAND(ISTEXT(#REF!),ISBLANK(#REF!)),),1,0)","v":0},{"$f":"INDIRECT(\"'\"&$B12&\"'!F56\",TRUE)","v":125.36405911999999},{"$f":"INDIRECT(\"'\"&$B12&\"'!M56\",TRUE)","v":57.745771163390941},{"$f":"INDIRECT(\"'\"&$B12&\"'!q56\",TRUE)","v":0},null,{"$f":"SUMIF('Input|Indirect Cost Rates'!$E$25:$E$26,'Input|Fee Based'!$E12,'Input|Indirect Cost Rates'!$D$25:$D$26)","v":0.2093290403743884},{"$f":"SUMIF('Input|Indirect Cost Rates'!$E$27:$E$28,'Input|Fee Based'!$E12,'Input|Indirect Cost Rates'!$D$27:$D$28)","v":0.40097153765012611},{"$f":"'Input|Indirect Cost Rates'!$D$35","v":0.06},{"$f":"IF(E12='Input|Setup'!$H$31,'Input|Indirect Cost Rates'!$D$44,0)","v":1.8727836426826648E-2},{"$f":"IF(OR(ISBLANK(X12),_xlfn.ISFORMULA(X12)),0,1)","v":0},{"$f":"IF(OR(ISBLANK(Y12),_xlfn.ISFORMULA(Y12)),0,1)","v":0},{"$f":"IF(OR(ISBLANK(Z12),_xlfn.ISFORMULA(Z12)),0,1)","v":0},{"$f":"IF(OR(ISBLANK(AA12),_xlfn.ISFORMULA(AA12)),0,1)","v":0},null,{"$f":"IF(AND(OR(V12=\"\",V12=0),AF12=\"\"),0,IF(AND(V12<>\"\",V12<>0,AF12=\"\"),1,0))","v":0}]
[{"$f":"IFERROR(A12+1,\"\")","v":2},"ND1P","Basic connection, single-phase AH","After Hours","Capex","Basic connection services","Fee Based",0,{"$f":"IF(INDIRECT(\"'\"&$B13&\"'!B10\",TRUE)=\"\",\"\",INDIRECT(\"'\"&$B13&\"'!B10\",TRUE))","v":"Administrative Officer"},{"$f":"IF(I13=\"\",\"\",$D$12)","v":"Business Hours"},{"$f":"IF(I13=\"\",\"\",INDIRECT(\"'\"&$B13&\"'!D10\",TRUE))","v":1},{"$f":"IF(I13=\"\",\"\",INDIRECT(\"'\"&$B13&\"'!F30\",TRUE))","v":60},{"$f":"IF(OR(\nAND(ISTEXT(I13),ISBLANK(J13)),\nAND(ISTEXT(#REF!),ISBLANK(#REF!)),\nAND(ISTEXT(#REF!),ISBLANK(#REF!))),1,0)","v":0},{"$f":"IF(INDIRECT(\"'\"&$B13&\"'!H10\",TRUE)=\"\",\"\",INDIRECT(\"'\"&$B13&\"'!H10\",TRUE))","v":"Field Worker"},{"$f":"IF(N13=\"\",\"\",D13)","v":"After Hours"},{"$f":"IF(N13=\"\",\"\",INDIRECT(\"'\"&$B13&\"'!J10\",TRUE))","v":2},{"$f":"IF(N13=\"\",\"\",INDIRECT(\"'\"&$B13&\"'!L10\",TRUE)/P13)","v":30},{"$f":"IF(N13=\"\",\"\",(INDIRECT(\"'\"&$B13&\"'!L30\",TRUE)-($Q13*P13))/P13)","v":35},{"$f":"IF(OR(\nAND(ISTEXT(N13),ISBLANK(O13)),\nAND(ISTEXT(#REF!),ISBLANK(#REF!)),\nAND(ISTEXT(#REF!),ISBLANK(#REF!)),\nAND(ISTEXT(#REF!),ISBLANK(#REF!)),),1,0)","v":0},{"$f":"INDIRECT(\"'\"&$B13&\"'!F56\",TRUE)","v":125.36405911999999},{"$f":"INDIRECT(\"'\"&$B13&\"'!M56\",TRUE)","v":57.745771163390941},{"$f":"INDIRECT(\"'\"&$B13&\"'!q56\",TRUE)","v":0},null,{"$f":"SUMIF('Input|Indirect Cost Rates'!$E$25:$E$26,'Input|Fee Based'!$E13,'Input|Indirect Cost Rates'!$D$25:$D$26)","v":0.2093290403743884},{"$f":"SUMIF('Input|Indirect Cost Rates'!$E$27:$E$28,'Input|Fee Based'!$E13,'Input|Indirect Cost Rates'!$D$27:$D$28)","v":0.40097153765012611},{"$f":"'Input|Indirect Cost Rates'!$D$35","v":0.06},{"$f":"IF(E13='Input|Setup'!$H$31,'Input|Indirect Cost Rates'!$D$44,0)","v":1.8727836426826648E-2},{"$f":"IF(OR(ISBLANK(X13),_xlfn.ISFORMULA(X13)),0,1)","v":0},{"$f":"IF(OR(ISBLANK(Y13),_xlfn.ISFORMULA(Y13)),0,1)","v":0},{"$f":"IF(OR(ISBLANK(Z13),_xlfn.ISFORMULA(Z13)),0,1)","v":0},{"$f":"IF(OR(ISBLANK(AA13),_xlfn.ISFORMULA(AA13)),0,1)","v":0},null,{"$f":"IF(AND(OR(V13=\"\",V13=0),AF13=\"\"),0,IF(AND(V13<>\"\",V13<>0,AF13=\"\"),1,0))","v":0}]
[{"$f":"IFERROR(A13+1,\"\")","v":3},"ND3P","Basic connection, three-phase BH","Business Hours","Capex","Basic connection services","Fee Based",0,{"$f":"IF(INDIRECT(\"'\"&$B14&\"'!B10\",TRUE)=\"\",\"\",INDIRECT(\"'\"&$B14&\"'!B10\",TRUE))","v":"Administrative Officer"},"Business Hours",{"$f":"IF(I14=\"\",\"\",INDIRECT(\"'\"&$B14&\"'!D10\",TRUE))","v":1},{"$f":"IF(I14=\"\",\"\",INDIRECT(\"'\"&$B14&\"'!F30\",TRUE))","v":60},{"$f":"IF(OR(\nAND(ISTEXT(I14),ISBLANK(J14)),\nAND(ISTEXT(#REF!),ISBLANK(#REF!)),\nAND(ISTEXT(#REF!),ISBLANK(#REF!))),1,0)","v":0},{"$f":"IF(INDIRECT(\"'\"&$B14&\"'!H10\",TRUE)=\"\",\"\",INDIRECT(\"'\"&$B14&\"'!H10\",TRUE))","v":"Field Worker"},"Business Hours",{"$f":"IF(N14=\"\",\"\",INDIRECT(\"'\"&$B14&\"'!J10\",TRUE))","v":2},{"$f":"IF(N14=\"\",\"\",INDIRECT(\"'\"&$B14&\"'!L10\",TRUE)/P14)","v":30},{"$f":"IF(N14=\"\",\"\",(INDIRECT(\"'\"&$B14&\"'!L30\",TRUE)-($Q14*P14))/P14)","v":35},{"$f":"IF(OR(\nAND(ISTEXT(N14),ISBLANK(O14)),\nAND(ISTEXT(#REF!),ISBLANK(#REF!)),\nAND(ISTEXT(#REF!),ISBLANK(#REF!)),\nAND(ISTEXT(#REF!),ISBLANK(#REF!)),),1,0)","v":0},{"$f":"INDIRECT(\"'\"&$B14&\"'!F56\",TRUE)","v":305.87271155999997},{"$f":"INDIRECT(\"'\"&$B14&\"'!M56\",TRUE)","v":57.745771163390941},{"$f":"INDIRECT(\"'\"&$B14&\"'!q56\",TRUE)","v":0},null,{"$f":"SUMIF('Input|Indirect Cost Rates'!$E$25:$E$26,'Input|Fee Based'!$E14,'Input|Indirect Cost Rates'!$D$25:$D$26)","v":0.2093290403743884},{"$f":"SUMIF('Input|Indirect Cost Rates'!$E$27:$E$28,'Input|Fee Based'!$E14,'Input|Indirect Cost Rates'!$D$27:$D$28)","v":0.40097153765012611},{"$f":"'Input|Indirect Cost Rates'!$D$35","v":0.06},{"$f":"IF(E14='Input|Setup'!$H$31,'Input|Indirect Cost Rates'!$D$44,0)","v":1.8727836426826648E-2},0,0,0,0,null,0]
[4,"ND3P","Basic connection, three-phase AH","After Hours","Capex","Basic connection services","Fee Based",0,{"$f":"IF(INDIRECT(\"'\"&$B15&\"'!B10\",TRUE)=\"\",\"\",INDIRECT(\"'\"&$B15&\"'!B10\",TRUE))","v":"Administrative Officer"},"Business Hours",{"$f":"IF(I15=\"\",\"\",INDIRECT(\"'\"&$B15&\"'!D10\",TRUE))","v":1},{"$f":"IF(I15=\"\",\"\",INDIRECT(\"'\"&$B15&\"'!F30\",TRUE))","v":60},{"$f":"IF(OR(\nAND(ISTEXT(I15),ISBLANK(J15)),\nAND(ISTEXT(#REF!),ISBLANK(#REF!)),\nAND(ISTEXT(#REF!),ISBLANK(#REF!))),1,0)","v":0},{"$f":"IF(INDIRECT(\"'\"&$B15&\"'!H10\",TRUE)=\"\",\"\",INDIRECT(\"'\"&$B15&\"'!H10\",TRUE))","v":"Field Worker"},"After Hours",{"$f":"IF(N15=\"\",\"\",INDIRECT(\"'\"&$B15&\"'!J10\",TRUE))","v":2},{"$f":"IF(N15=\"\",\"\",INDIRECT(\"'\"&$B15&\"'!L10\",TRUE)/P15)","v":30},{"$f":"IF(N15=\"\",\"\",(INDIRECT(\"'\"&$B15&\"'!L30\",TRUE)-($Q15*P15))/P15)","v":35},{"$f":"IF(OR(\nAND(ISTEXT(N15),ISBLANK(O15)),\nAND(ISTEXT(#REF!),ISBLANK(#REF!)),\nAND(ISTEXT(#REF!),ISBLANK(#REF!)),\nAND(ISTEXT(#REF!),ISBLANK(#REF!)),),1,0)","v":0},{"$f":"INDIRECT(\"'\"&$B15&\"'!F56\",TRUE)","v":305.87271155999997},{"$f":"INDIRECT(\"'\"&$B15&\"'!M56\",TRUE)","v":57.745771163390941},{"$f":"INDIRECT(\"'\"&$B15&\"'!q56\",TRUE)","v":0},null,{"$f":"SUMIF('Input|Indirect Cost Rates'!$E$25:$E$26,'Input|Fee Based'!$E15,'Input|Indirect Cost Rates'!$D$25:$D$26)","v":0.2093290403743884},{"$f":"SUMIF('Input|Indirect Cost Rates'!$E$27:$E$28,'Input|Fee Based'!$E15,'Input|Indirect Cost Rates'!$D$27:$D$28)","v":0.40097153765012611},{"$f":"'Input|Indirect Cost Rates'!$D$35","v":0.06},{"$f":"IF(E15='Input|Setup'!$H$31,'Input|Indirect Cost Rates'!$D$44,0)","v":1.8727836426826648E-2},0,0,0,0,null,0]
[5,"BTSO","Temporary connection, single-phase BH","Business Hours","Capex","Connection service","Fee Based",0,{"$f":"IF(INDIRECT(\"'\"&$B16&\"'!B10\",TRUE)=\"\",\"\",INDIRECT(\"'\"&$B16&\"'!B10\",TRUE))","v":"Administrative Officer"},"Business Hours",{"$f":"IF(I16=\"\",\"\",INDIRECT(\"'\"&$B16&\"'!D10\",TRUE))","v":1},{"$f":"IF(I16=\"\",\"\",INDIRECT(\"'\"&$B16&\"'!F30\",TRUE))","v":60},{"$f":"IF(OR(\nAND(ISTEXT(I16),ISBLANK(J16)),\nAND(ISTEXT(#REF!),ISBLANK(#REF!)),\nAND(ISTEXT(#REF!),ISBLANK(#REF!))),1,0)","v":0},{"$f":"IF(INDIRECT(\"'\"&$B16&\"'!H10\",TRUE)=\"\",\"\",INDIRECT(\"'\"&$B16&\"'!H10\",TRUE))","v":"Field Worker"},"Business Hours",{"$f":"IF(N16=\"\",\"\",INDIRECT(\"'\"&$B16&\"'!J10\",TRUE))","v":2},{"$f":"IF(N16=\"\",\"\",INDIRECT(\"'\"&$B16&\"'!L10\",TRUE)/P16)","v":30},{"$f":"IF(N16=\"\",\"\",(INDIRECT(\"'\"&$B16&\"'!L30\",TRUE)-($Q16*P16))/P16)","v":35},{"$f":"IF(OR(\nAND(ISTEXT(N16),ISBLANK(O16)),\nAND(ISTEXT(#REF!),ISBLANK(#REF!)),\nAND(ISTEXT(#REF!),ISBLANK(#REF!)),\nAND(ISTEXT(#REF!),ISBLANK(#REF!)),),1,0)","v":0},{"$f":"INDIRECT(\"'\"&$B16&\"'!F56\",TRUE)","v":125.36405911999999},{"$f":"INDIRECT(\"'\"&$B16&\"'!M56\",TRUE)","v":57.745771163390941},{"$f":"INDIRECT(\"'\"&$B16&\"'!q56\",TRUE)","v":0},null,{"$f":"SUMIF('Input|Indirect Cost Rates'!$E$25:$E$26,'Input|Fee Based'!$E16,'Input|Indirect Cost Rates'!$D$25:$D$26)","v":0.2093290403743884},{"$f":"SUMIF('Input|Indirect Cost Rates'!$E$27:$E$28,'Input|Fee Based'!$E16,'Input|Indirect Cost Rates'!$D$27:$D$28)","v":0.40097153765012611},{"$f":"'Input|Indirect Cost Rates'!$D$35","v":0.06},{"$f":"IF(E16='Input|Setup'!$H$31,'Input|Indirect Cost Rates'!$D$44,0)","v":1.8727836426826648E-2},0,0,0,0,null,0]
[6,"BTSO","Temporary connection, single-phase AH","After Hours","Capex","Connection service","Fee Based",0,{"$f":"IF(INDIRECT(\"'\"&$B17&\"'!B10\",TRUE)=\"\",\"\",INDIRECT(\"'\"&$B17&\"'!B10\",TRUE))","v":"Administrative Officer"},"Business Hours",{"$f":"IF(I17=\"\",\"\",INDIRECT(\"'\"&$B17&\"'!D10\",TRUE))","v":1},{"$f":"IF(I17=\"\",\"\",INDIRECT(\"'\"&$B17&\"'!F30\",TRUE))","v":60},{"$f":"IF(OR(\nAND(ISTEXT(I17),ISBLANK(J17)),\nAND(ISTEXT(#REF!),ISBLANK(#REF!)),\nAND(ISTEXT(#REF!),ISBLANK(#REF!))),1,0)","v":0},{"$f":"IF(INDIRECT(\"'\"&$B17&\"'!H10\",TRUE)=\"\",\"\",INDIRECT(\"'\"&$B17&\"'!H10\",TRUE))","v":"Field Worker"},"After Hours",{"$f":"IF(N17=\"\",\"\",INDIRECT(\"'\"&$B17&\"'!J10\",TRUE))","v":2},{"$f":"IF(N17=\"\",\"\",INDIRECT(\"'\"&$B17&\"'!L10\",TRUE)/P17)","v":30},{"$f":"IF(N17=\"\",\"\",(INDIRECT(\"'\"&$B17&\"'!L30\",TRUE)-($Q17*P17))/P17)","v":35},{"$f":"IF(OR(\nAND(ISTEXT(N17),ISBLANK(O17)),\nAND(ISTEXT(#REF!),ISBLANK(#REF!)),\nAND(ISTEXT(#REF!),ISBLANK(#REF!)),\nAND(ISTEXT(#REF!),ISBLANK(#REF!)),),1,0)","v":0},{"$f":"INDIRECT(\"'\"&$B17&\"'!F56\",TRUE)","v":125.36405911999999},{"$f":"INDIRECT(\"'\"&$B17&\"'!M56\",TRUE)","v":57.745771163390941},{"$f":"INDIRECT(\"'\"&$B17&\"'!q56\",TRUE)","v":0},null,{"$f":"SUMIF('Input|Indirect Cost Rates'!$E$25:$E$26,'Input|Fee Based'!$E17,'Input|Indirect Cost Rates'!$D$25:$D$26)","v":0.2093290403743884},{"$f":"SUMIF('Input|Indirect Cost Rates'!$E$27:$E$28,'Input|Fee Based'!$E17,'Input|Indirect Cost Rates'!$D$27:$D$28)","v":0.40097153765012611},{"$f":"'Input|Indirect Cost Rates'!$D$35","v":0.06},{"$f":"IF(E17='Input|Setup'!$H$31,'Input|Indirect Cost Rates'!$D$44,0)","v":1.8727836426826648E-2},0,0,0,0,null,0]
[7,"BTSP","Temporary connection, three-phase BH","Business Hours","Capex","Connection service","Fee Based",0,{"$f":"IF(INDIRECT(\"'\"&$B18&\"'!B10\",TRUE)=\"\",\"\",INDIRECT(\"'\"&$B18&\"'!B10\",TRUE))","v":"Administrative Officer"},"Business Hours",{"$f":"IF(I18=\"\",\"\",INDIRECT(\"'\"&$B18&\"'!D10\",TRUE))","v":1},{"$f":"IF(I18=\"\",\"\",INDIRECT(\"'\"&$B18&\"'!F30\",TRUE))","v":60},{"$f":"IF(OR(\nAND(ISTEXT(I18),ISBLANK(J18)),\nAND(ISTEXT(#REF!),ISBLANK(#REF!)),\nAND(ISTEXT(#REF!),ISBLANK(#REF!))),1,0)","v":0},{"$f":"IF(INDIRECT(\"'\"&$B18&\"'!H10\",TRUE)=\"\",\"\",INDIRECT(\"'\"&$B18&\"'!H10\",TRUE))","v":"Field Worker"},"Business Hours",{"$f":"IF(N18=\"\",\"\",INDIRECT(\"'\"&$B18&\"'!J10\",TRUE))","v":2},{"$f":"IF(N18=\"\",\"\",INDIRECT(\"'\"&$B18&\"'!L10\",TRUE)/P18)","v":30},{"$f":"IF(N18=\"\",\"\",(INDIRECT(\"'\"&$B18&\"'!L30\",TRUE)-($Q18*P18))/P18)","v":35},{"$f":"IF(OR(\nAND(ISTEXT(N18),ISBLANK(O18)),\nAND(ISTEXT(#REF!),ISBLANK(#REF!)),\nAND(ISTEXT(#REF!),ISBLANK(#REF!)),\nAND(ISTEXT(#REF!),ISBLANK(#REF!)),),1,0)","v":0},{"$f":"INDIRECT(\"'\"&$B18&\"'!F56\",TRUE)","v":305.87271155999997},{"$f":"INDIRECT(\"'\"&$B18&\"'!M56\",TRUE)","v":57.745771163390941},{"$f":"INDIRECT(\"'\"&$B18&\"'!q56\",TRUE)","v":0},null,{"$f":"SUMIF('Input|Indirect Cost Rates'!$E$25:$E$26,'Input|Fee Based'!$E18,'Input|Indirect Cost Rates'!$D$25:$D$26)","v":0.2093290403743884},{"$f":"SUMIF('Input|Indirect Cost Rates'!$E$27:$E$28,'Input|Fee Based'!$E18,'Input|Indirect Cost Rates'!$D$27:$D$28)","v":0.40097153765012611},{"$f":"'Input|Indirect Cost Rates'!$D$35","v":0.06},{"$f":"IF(E18='Input|Setup'!$H$31,'Input|Indirect Cost Rates'!$D$44,0)","v":1.8727836426826648E-2},0,0,0,0,null,0]
[8,"BTSP","Temporary connection, three-phase AH","After Hours","Capex","Connection service","Fee Based",0,{"$f":"IF(INDIRECT(\"'\"&$B19&\"'!B10\",TRUE)=\"\",\"\",INDIRECT(\"'\"&$B19&\"'!B10\",TRUE))","v":"Administrative Officer"},"Business Hours",{"$f":"IF(I19=\"\",\"\",INDIRECT(\"'\"&$B19&\"'!D10\",TRUE))","v":1},{"$f":"IF(I19=\"\",\"\",INDIRECT(\"'\"&$B19&\"'!F30\",TRUE))","v":60},{"$f":"IF(OR(\nAND(ISTEXT(I19),ISBLANK(J19)),\nAND(ISTEXT(#REF!),ISBLANK(#REF!)),\nAND(ISTEXT(#REF!),ISBLANK(#REF!))),1,0)","v":0},{"$f":"IF(INDIRECT(\"'\"&$B19&\"'!H10\",TRUE)=\"\",\"\",INDIRECT(\"'\"&$B19&\"'!H10\",TRUE))","v":"Field Worker"},"After Hours",{"$f":"IF(N19=\"\",\"\",INDIRECT(\"'\"&$B19&\"'!J10\",TRUE))","v":2},{"$f":"IF(N19=\"\",\"\",INDIRECT(\"'\"&$B19&\"'!L10\",TRUE)/P19)","v":30},{"$f":"IF(N19=\"\",\"\",(INDIRECT(\"'\"&$B19&\"'!L30\",TRUE)-($Q19*P19))/P19)","v":35},{"$f":"IF(OR(\nAND(ISTEXT(N19),ISBLANK(O19)),\nAND(ISTEXT(#REF!),ISBLANK(#REF!)),\nAND(ISTEXT(#REF!),ISBLANK(#REF!)),\nAND(ISTEXT(#REF!),ISBLANK(#REF!)),),1,0)","v":0},{"$f":"INDIRECT(\"'\"&$B19&\"'!F56\",TRUE)","v":305.87271155999997},{"$f":"INDIRECT(\"'\"&$B19&\"'!M56\",TRUE)","v":57.745771163390941},{"$f":"INDIRECT(\"'\"&$B19&\"'!q56\",TRUE)","v":0},null,{"$f":"SUMIF('Input|Indirect Cost Rates'!$E$25:$E$26,'Input|Fee Based'!$E19,'Input|Indirect Cost Rates'!$D$25:$D$26)","v":0.2093290403743884},{"$f":"SUMIF('Input|Indirect Cost Rates'!$E$27:$E$28,'Input|Fee Based'!$E19,'Input|Indirect Cost Rates'!$D$27:$D$28)","v":0.40097153765012611},{"$f":"'Input|Indirect Cost Rates'!$D$35","v":0.06},{"$f":"IF(E19='Input|Setup'!$H$31,'Input|Indirect Cost Rates'!$D$44,0)","v":1.8727836426826648E-2},0,0,0,0,null,0]
[9,"SUTK","Supply upgrade/enhancement (1ph to 3ph) BH","Business Hours","Capex","Connection service","Fee Based",0,{"$f":"IF(INDIRECT(\"'\"&$B20&\"'!B10\",TRUE)=\"\",\"\",INDIRECT(\"'\"&$B20&\"'!B10\",TRUE))","v":"Administrative Officer"},"Business Hours",{"$f":"IF(I20=\"\",\"\",INDIRECT(\"'\"&$B20&\"'!D10\",TRUE))","v":1},{"$f":"IF(I20=\"\",\"\",INDIRECT(\"'\"&$B20&\"'!F30\",TRUE))","v":60},{"$f":"IF(OR(\nAND(ISTEXT(I20),ISBLANK(J20)),\nAND(ISTEXT(#REF!),ISBLANK(#REF!)),\nAND(ISTEXT(#REF!),ISBLANK(#REF!))),1,0)","v":0},{"$f":"IF(INDIRECT(\"'\"&$B20&\"'!H10\",TRUE)=\"\",\"\",INDIRECT(\"'\"&$B20&\"'!H10\",TRUE))","v":"Field Worker"},"Business Hours",{"$f":"IF(N20=\"\",\"\",INDIRECT(\"'\"&$B20&\"'!J10\",TRUE))","v":2},{"$f":"IF(N20=\"\",\"\",INDIRECT(\"'\"&$B20&\"'!L10\",TRUE)/P20)","v":30},{"$f":"IF(N20=\"\",\"\",(INDIRECT(\"'\"&$B20&\"'!L30\",TRUE)-($Q20*P20))/P20)","v":35},{"$f":"IF(OR(\nAND(ISTEXT(N20),ISBLANK(O20)),\nAND(ISTEXT(#REF!),ISBLANK(#REF!)),\nAND(ISTEXT(#REF!),ISBLANK(#REF!)),\nAND(ISTEXT(#REF!),ISBLANK(#REF!)),),1,0)","v":0},{"$f":"INDIRECT(\"'\"&$B20&\"'!F56\",TRUE)","v":305.87271155999997},{"$f":"INDIRECT(\"'\"&$B20&\"'!M56\",TRUE)","v":57.745771163390941},{"$f":"INDIRECT(\"'\"&$B20&\"'!q56\",TRUE)","v":0},null,{"$f":"SUMIF('Input|Indirect Cost Rates'!$E$25:$E$26,'Input|Fee Based'!$E20,'Input|Indirect Cost Rates'!$D$25:$D$26)","v":0.2093290403743884},{"$f":"SUMIF('Input|Indirect Cost Rates'!$E$27:$E$28,'Input|Fee Based'!$E20,'Input|Indirect Cost Rates'!$D$27:$D$28)","v":0.40097153765012611},{"$f":"'Input|Indirect Cost Rates'!$D$35","v":0.06},{"$f":"IF(E20='Input|Setup'!$H$31,'Input|Indirect Cost Rates'!$D$44,0)","v":1.8727836426826648E-2},0,0,0,0,null,0]
[10,"SUTK","Supply upgrade/enhancement (1ph to 3ph) AH","After Hours","Capex","Connection service","Fee Based",0,{"$f":"IF(INDIRECT(\"'\"&$B21&\"'!B10\",TRUE)=\"\",\"\",INDIRECT(\"'\"&$B21&\"'!B10\",TRUE))","v":"Administrative Officer"},"Business Hours",{"$f":"IF(I21=\"\",\"\",INDIRECT(\"'\"&$B21&\"'!D10\",TRUE))","v":1},{"$f":"IF(I21=\"\",\"\",INDIRECT(\"'\"&$B21&\"'!F30\",TRUE))","v":60},{"$f":"IF(OR(\nAND(ISTEXT(I21),ISBLANK(J21)),\nAND(ISTEXT(#REF!),ISBLANK(#REF!)),\nAND(ISTEXT(#REF!),ISBLANK(#REF!))),1,0)","v":0},{"$f":"IF(INDIRECT(\"'\"&$B21&\"'!H10\",TRUE)=\"\",\"\",INDIRECT(\"'\"&$B21&\"'!H10\",TRUE))","v":"Field Worker"},"After Hours",{"$f":"IF(N21=\"\",\"\",INDIRECT(\"'\"&$B21&\"'!J10\",TRUE))","v":2},{"$f":"IF(N21=\"\",\"\",INDIRECT(\"'\"&$B21&\"'!L10\",TRUE)/P21)","v":30},{"$f":"IF(N21=\"\",\"\",(INDIRECT(\"'\"&$B21&\"'!L30\",TRUE)-($Q21*P21))/P21)","v":35},{"$f":"IF(OR(\nAND(ISTEXT(N21),ISBLANK(O21)),\nAND(ISTEXT(#REF!),ISBLANK(#REF!)),\nAND(ISTEXT(#REF!),ISBLANK(#REF!)),\nAND(ISTEXT(#REF!),ISBLANK(#REF!)),),1,0)","v":0},{"$f":"INDIRECT(\"'\"&$B21&\"'!F56\",TRUE)","v":305.87271155999997},{"$f":"INDIRECT(\"'\"&$B21&\"'!M56\",TRUE)","v":57.745771163390941},{"$f":"INDIRECT(\"'\"&$B21&\"'!q56\",TRUE)","v":0},null,{"$f":"SUMIF('Input|Indirect Cost Rates'!$E$25:$E$26,'Input|Fee Based'!$E21,'Input|Indirect Cost Rates'!$D$25:$D$26)","v":0.2093290403743884},{"$f":"SUMIF('Input|Indirect Cost Rates'!$E$27:$E$28,'Input|Fee Based'!$E21,'Input|Indirect Cost Rates'!$D$27:$D$28)","v":0.40097153765012611},{"$f":"'Input|Indirect Cost Rates'!$D$35","v":0.06},{"$f":"IF(E21='Input|Setup'!$H$31,'Input|Indirect Cost Rates'!$D$44,0)","v":1.8727836426826648E-2},0,0,0,0,null,0]
[11,"RTK1","Replacement of 1-phase overhead service line BH","Business Hours","Capex","Connection service","Fee Based",0,{"$f":"IF(INDIRECT(\"'\"&$B22&\"'!B10\",TRUE)=\"\",\"\",INDIRECT(\"'\"&$B22&\"'!B10\",TRUE))","v":"Administrative Officer"},"Business Hours",{"$f":"IF(I22=\"\",\"\",INDIRECT(\"'\"&$B22&\"'!D10\",TRUE))","v":1},{"$f":"IF(I22=\"\",\"\",INDIRECT(\"'\"&$B22&\"'!F30\",TRUE))","v":60},{"$f":"IF(OR(\nAND(ISTEXT(I22),ISBLANK(J22)),\nAND(ISTEXT(#REF!),ISBLANK(#REF!)),\nAND(ISTEXT(#REF!),ISBLANK(#REF!))),1,0)","v":0},{"$f":"IF(INDIRECT(\"'\"&$B22&\"'!H10\",TRUE)=\"\",\"\",INDIRECT(\"'\"&$B22&\"'!H10\",TRUE))","v":"Field Worker"},"Business Hours",{"$f":"IF(N22=\"\",\"\",INDIRECT(\"'\"&$B22&\"'!J10\",TRUE))","v":2},{"$f":"IF(N22=\"\",\"\",INDIRECT(\"'\"&$B22&\"'!L10\",TRUE)/P22)","v":30},{"$f":"IF(N22=\"\",\"\",(INDIRECT(\"'\"&$B22&\"'!L30\",TRUE)-($Q22*P22))/P22)","v":35},{"$f":"IF(OR(\nAND(ISTEXT(N22),ISBLANK(O22)),\nAND(ISTEXT(#REF!),ISBLANK(#REF!)),\nAND(ISTEXT(#REF!),ISBLANK(#REF!)),\nAND(ISTEXT(#REF!),ISBLANK(#REF!)),),1,0)","v":0},{"$f":"INDIRECT(\"'\"&$B22&\"'!F56\",TRUE)","v":122.02743955999999},{"$f":"INDIRECT(\"'\"&$B22&\"'!M56\",TRUE)","v":81.157887991861514},{"$f":"INDIRECT(\"'\"&$B22&\"'!q56\",TRUE)","v":0},null,{"$f":"SUMIF('Input|Indirect Cost Rates'!$E$25:$E$26,'Input|Fee Based'!$E22,'Input|Indirect Cost Rates'!$D$25:$D$26)","v":0.2093290403743884},{"$f":"SUMIF('Input|Indirect Cost Rates'!$E$27:$E$28,'Input|Fee Based'!$E22,'Input|Indirect Cost Rates'!$D$27:$D$28)","v":0.40097153765012611},{"$f":"'Input|Indirect Cost Rates'!$D$35","v":0.06},{"$f":"IF(E22='Input|Setup'!$H$31,'Input|Indirect Cost Rates'!$D$44,0)","v":1.8727836426826648E-2},0,0,0,0,null,0]
[12,"RTK1","Replacement of 1-phase overhead service line AH","After Hours","Capex","Connection service","Fee Based",0,{"$f":"IF(INDIRECT(\"'\"&$B23&\"'!B10\",TRUE)=\"\",\"\",INDIRECT(\"'\"&$B23&\"'!B10\",TRUE))","v":"Administrative Officer"},"Business Hours",{"$f":"IF(I23=\"\",\"\",INDIRECT(\"'\"&$B23&\"'!D10\",TRUE))","v":1},{"$f":"IF(I23=\"\",\"\",INDIRECT(\"'\"&$B23&\"'!F30\",TRUE))","v":60},{"$f":"IF(OR(\nAND(ISTEXT(I23),ISBLANK(J23)),\nAND(ISTEXT(#REF!),ISBLANK(#REF!)),\nAND(ISTEXT(#REF!),ISBLANK(#REF!))),1,0)","v":0},{"$f":"IF(INDIRECT(\"'\"&$B23&\"'!H10\",TRUE)=\"\",\"\",INDIRECT(\"'\"&$B23&\"'!H10\",TRUE))","v":"Field Worker"},"After Hours",{"$f":"IF(N23=\"\",\"\",INDIRECT(\"'\"&$B23&\"'!J10\",TRUE))","v":2},{"$f":"IF(N23=\"\",\"\",INDIRECT(\"'\"&$B23&\"'!L10\",TRUE)/P23)","v":30},{"$f":"IF(N23=\"\",\"\",(INDIRECT(\"'\"&$B23&\"'!L30\",TRUE)-($Q23*P23))/P23)","v":35},{"$f":"IF(OR(\nAND(ISTEXT(N23),ISBLANK(O23)),\nAND(ISTEXT(#REF!),ISBLANK(#REF!)),\nAND(ISTEXT(#REF!),ISBLANK(#REF!)),\nAND(ISTEXT(#REF!),ISBLANK(#REF!)),),1,0)","v":0},{"$f":"INDIRECT(\"'\"&$B23&\"'!F56\",TRUE)","v":122.02743955999999},{"$f":"INDIRECT(\"'\"&$B23&\"'!M56\",TRUE)","v":81.157887991861514},{"$f":"INDIRECT(\"'\"&$B23&\"'!q56\",TRUE)","v":0},null,{"$f":"SUMIF('Input|Indirect Cost Rates'!$E$25:$E$26,'Input|Fee Based'!$E23,'Input|Indirect Cost Rates'!$D$25:$D$26)","v":0.2093290403743884},{"$f":"SUMIF('Input|Indirect Cost Rates'!$E$27:$E$28,'Input|Fee Based'!$E23,'Input|Indirect Cost Rates'!$D$27:$D$28)","v":0.40097153765012611},{"$f":"'Input|Indirect Cost Rates'!$D$35","v":0.06},{"$f":"IF(E23='Input|Setup'!$H$31,'Input|Indirect Cost Rates'!$D$44,0)","v":1.8727836426826648E-2},0,0,0,0,null,0]
[13,"REEN","Field-based energisation BH","Business Hours","Opex","Connection service","Fee Based",0,{"$f":"IF(INDIRECT(\"'\"&$B24&\"'!B10\",TRUE)=\"\",\"\",INDIRECT(\"'\"&$B24&\"'!B10\",TRUE))","v":"Administrative Officer"},"Business Hours",{"$f":"IF(I24=\"\",\"\",INDIRECT(\"'\"&$B24&\"'!D10\",TRUE))","v":1},{"$f":"IF(I24=\"\",\"\",INDIRECT(\"'\"&$B24&\"'!F30\",TRUE))","v":12.7},{"$f":"IF(OR(\nAND(ISTEXT(I24),ISBLANK(J24)),\nAND(ISTEXT(#REF!),ISBLANK(#REF!)),\nAND(ISTEXT(#REF!),ISBLANK(#REF!))),1,0)","v":0},{"$f":"IF(INDIRECT(\"'\"&$B24&\"'!H10\",TRUE)=\"\",\"\",INDIRECT(\"'\"&$B24&\"'!H10\",TRUE))","v":"Field Worker"},"Business Hours",{"$f":"IF(N24=\"\",\"\",INDIRECT(\"'\"&$B24&\"'!J10\",TRUE))","v":1},{"$f":"IF(N24=\"\",\"\",INDIRECT(\"'\"&$B24&\"'!L10\",TRUE)/P24)","v":20},{"$f":"IF(N24=\"\",\"\",(INDIRECT(\"'\"&$B24&\"'!L30\",TRUE)-($Q24*P24))/P24)","v":15},{"$f":"IF(OR(\nAND(ISTEXT(N24),ISBLANK(O24)),\nAND(ISTEXT(#REF!),ISBLANK(#REF!)),\nAND(ISTEXT(#REF!),ISBLANK(#REF!)),\nAND(ISTEXT(#REF!),ISBLANK(#REF!)),),1,0)","v":0},{"$f":"INDIRECT(\"'\"&$B24&\"'!F56\",TRUE)","v":0},{"$f":"INDIRECT(\"'\"&$B24&\"'!M56\",TRUE)","v":31.093876780287435},{"$f":"INDIRECT(\"'\"&$B24&\"'!q56\",TRUE)","v":0},null,{"$f":"SUMIF('Input|Indirect Cost Rates'!$E$25:$E$26,'Input|Fee Based'!$E24,'Input|Indirect Cost Rates'!$D$25:$D$26)","v":0.2093290403743884},{"$f":"SUMIF('Input|Indirect Cost Rates'!$E$27:$E$28,'Input|Fee Based'!$E24,'Input|Indirect Cost Rates'!$D$27:$D$28)","v":0.40097153765012611},{"$f":"'Input|Indirect Cost Rates'!$D$35","v":0.06},{"$f":"IF(E24='Input|Setup'!$H$31,'Input|Indirect Cost Rates'!$D$44,0)","v":0},0,0,0,0,0,0]
[14,"REEN","Field-based energisation AH","After Hours","Opex","Connection service","Fee Based",0,{"$f":"IF(INDIRECT(\"'\"&$B25&\"'!B10\",TRUE)=\"\",\"\",INDIRECT(\"'\"&$B25&\"'!B10\",TRUE))","v":"Administrative Officer"},"Business Hours",{"$f":"IF(I25=\"\",\"\",INDIRECT(\"'\"&$B25&\"'!D10\",TRUE))","v":1},{"$f":"IF(I25=\"\",\"\",INDIRECT(\"'\"&$B25&\"'!F30\",TRUE))","v":12.7},{"$f":"IF(OR(\nAND(ISTEXT(I25),ISBLANK(J25)),\nAND(ISTEXT(#REF!),ISBLANK(#REF!)),\nAND(ISTEXT(#REF!),ISBLANK(#REF!))),1,0)","v":0},{"$f":"IF(INDIRECT(\"'\"&$B25&\"'!H10\",TRUE)=\"\",\"\",INDIRECT(\"'\"&$B25&\"'!H10\",TRUE))","v":"Field Worker"},"After Hours",{"$f":"IF(N25=\"\",\"\",INDIRECT(\"'\"&$B25&\"'!J10\",TRUE))","v":1},{"$f":"IF(N25=\"\",\"\",INDIRECT(\"'\"&$B25&\"'!L10\",TRUE)/P25)","v":20},{"$f":"IF(N25=\"\",\"\",(INDIRECT(\"'\"&$B25&\"'!L30\",TRUE)-($Q25*P25))/P25)","v":15},{"$f":"IF(OR(\nAND(ISTEXT(N25),ISBLANK(O25)),\nAND(ISTEXT(#REF!),ISBLANK(#REF!)),\nAND(ISTEXT(#REF!),ISBLANK(#REF!)),\nAND(ISTEXT(#REF!),ISBLANK(#REF!)),),1,0)","v":0},{"$f":"INDIRECT(\"'\"&$B25&\"'!F56\",TRUE)","v":0},{"$f":"INDIRECT(\"'\"&$B25&\"'!M56\",TRUE)","v":31.093876780287435},{"$f":"INDIRECT(\"'\"&$B25&\"'!q56\",TRUE)","v":0},null,{"$f":"SUMIF('Input|Indirect Cost Rates'!$E$25:$E$26,'Input|Fee Based'!$E25,'Input|Indirect Cost Rates'!$D$25:$D$26)","v":0.2093290403743884},{"$f":"SUMIF('Input|Indirect Cost Rates'!$E$27:$E$28,'Input|Fee Based'!$E25,'Input|Indirect Cost Rates'!$D$27:$D$28)","v":0.40097153765012611},{"$f":"'Input|Indirect Cost Rates'!$D$35","v":0.06},{"$f":"IF(E25='Input|Setup'!$H$31,'Input|Indirect Cost Rates'!$D$44,0)","v":0},0,0,0,0,0,0]
[15,"DEEN","Field-based de-energisation BH","Business Hours","Opex","Connection service","Fee Based",0,{"$f":"IF(INDIRECT(\"'\"&$B26&\"'!B10\",TRUE)=\"\",\"\",INDIRECT(\"'\"&$B26&\"'!B10\",TRUE))","v":"Administrative Officer"},"Business Hours",{"$f":"IF(I26=\"\",\"\",INDIRECT(\"'\"&$B26&\"'!D10\",TRUE))","v":1},{"$f":"IF(I26=\"\",\"\",INDIRECT(\"'\"&$B26&\"'!F30\",TRUE))","v":20.200000000000003},{"$f":"IF(OR(\nAND(ISTEXT(I26),ISBLANK(J26)),\nAND(ISTEXT(#REF!),ISBLANK(#REF!)),\nAND(ISTEXT(#REF!),ISBLANK(#REF!))),1,0)","v":0},{"$f":"IF(INDIRECT(\"'\"&$B26&\"'!H10\",TRUE)=\"\",\"\",INDIRECT(\"'\"&$B26&\"'!H10\",TRUE))","v":"Field Worker"},"Business Hours",{"$f":"IF(N26=\"\",\"\",INDIRECT(\"'\"&$B26&\"'!J10\",TRUE))","v":1},{"$f":"IF(N26=\"\",\"\",INDIRECT(\"'\"&$B26&\"'!L10\",TRUE)/P26)","v":20},{"$f":"IF(N26=\"\",\"\",(INDIRECT(\"'\"&$B26&\"'!L30\",TRUE)-($Q26*P26))/P26)","v":15},{"$f":"IF(OR(\nAND(ISTEXT(N26),ISBLANK(O26)),\nAND(ISTEXT(#REF!),ISBLANK(#REF!)),\nAND(ISTEXT(#REF!),ISBLANK(#REF!)),\nAND(ISTEXT(#REF!),ISBLANK(#REF!)),),1,0)","v":0},{"$f":"INDIRECT(\"'\"&$B26&\"'!F56\",TRUE)","v":0},{"$f":"INDIRECT(\"'\"&$B26&\"'!M56\",TRUE)","v":31.093876780287435},{"$f":"INDIRECT(\"'\"&$B26&\"'!q56\",TRUE)","v":0},null,{"$f":"SUMIF('Input|Indirect Cost Rates'!$E$25:$E$26,'Input|Fee Based'!$E26,'Input|Indirect Cost Rates'!$D$25:$D$26)","v":0.2093290403743884},{"$f":"SUMIF('Input|Indirect Cost Rates'!$E$27:$E$28,'Input|Fee Based'!$E26,'Input|Indirect Cost Rates'!$D$27:$D$28)","v":0.40097153765012611},{"$f":"'Input|Indirect Cost Rates'!$D$35","v":0.06},{"$f":"IF(E26='Input|Setup'!$H$31,'Input|Indirect Cost Rates'!$D$44,0)","v":0},0,0,0,0,0,0]
[16,"DCTK","Disconnection (temporary) BH","Business Hours","Opex","Customer requested supply outage","Fee Based",0,{"$f":"IF(INDIRECT(\"'\"&$B27&\"'!B10\",TRUE)=\"\",\"\",INDIRECT(\"'\"&$B27&\"'!B10\",TRUE))","v":"Administrative Officer"},"Business Hours",{"$f":"IF(I27=\"\",\"\",INDIRECT(\"'\"&$B27&\"'!D10\",TRUE))","v":1},{"$f":"IF(I27=\"\",\"\",INDIRECT(\"'\"&$B27&\"'!F30\",TRUE))","v":30},{"$f":"IF(OR(\nAND(ISTEXT(I27),ISBLANK(J27)),\nAND(ISTEXT(#REF!),ISBLANK(#REF!)),\nAND(ISTEXT(#REF!),ISBLANK(#REF!))),1,0)","v":0},{"$f":"IF(INDIRECT(\"'\"&$B27&\"'!H10\",TRUE)=\"\",\"\",INDIRECT(\"'\"&$B27&\"'!H10\",TRUE))","v":"Field Worker"},"Business Hours",{"$f":"IF(N27=\"\",\"\",INDIRECT(\"'\"&$B27&\"'!J10\",TRUE))","v":2},{"$f":"IF(N27=\"\",\"\",INDIRECT(\"'\"&$B27&\"'!L10\",TRUE)/P27)","v":30},{"$f":"IF(N27=\"\",\"\",(INDIRECT(\"'\"&$B27&\"'!L30\",TRUE)-($Q27*P27))/P27)","v":25},{"$f":"IF(OR(\nAND(ISTEXT(N27),ISBLANK(O27)),\nAND(ISTEXT(#REF!),ISBLANK(#REF!)),\nAND(ISTEXT(#REF!),ISBLANK(#REF!)),\nAND(ISTEXT(#REF!),ISBLANK(#REF!)),),1,0)","v":0},{"$f":"INDIRECT(\"'\"&$B27&\"'!F56\",TRUE)","v":0},{"$f":"INDIRECT(\"'\"&$B27&\"'!M56\",TRUE)","v":49.302683204777075},{"$f":"INDIRECT(\"'\"&$B27&\"'!q56\",TRUE)","v":0},null,{"$f":"SUMIF('Input|Indirect Cost Rates'!$E$25:$E$26,'Input|Fee Based'!$E27,'Input|Indirect Cost Rates'!$D$25:$D$26)","v":0.2093290403743884},{"$f":"SUMIF('Input|Indirect Cost Rates'!$E$27:$E$28,'Input|Fee Based'!$E27,'Input|Indirect Cost Rates'!$D$27:$D$28)","v":0.40097153765012611},{"$f":"'Input|Indirect Cost Rates'!$D$35","v":0.06},{"$f":"IF(E27='Input|Setup'!$H$31,'Input|Indirect Cost Rates'!$D$44,0)","v":0},0,0,0,0,null,0]
[17,"DCTK","Disconnection (temporary) AH","After Hours","Opex","Customer requested supply outage","Fee Based",0,{"$f":"IF(INDIRECT(\"'\"&$B28&\"'!B10\",TRUE)=\"\",\"\",INDIRECT(\"'\"&$B28&\"'!B10\",TRUE))","v":"Administrative Officer"},"Business Hours",{"$f":"IF(I28=\"\",\"\",INDIRECT(\"'\"&$B28&\"'!D10\",TRUE))","v":1},{"$f":"IF(I28=\"\",\"\",INDIRECT(\"'\"&$B28&\"'!F30\",TRUE))","v":30},{"$f":"IF(OR(\nAND(ISTEXT(I28),ISBLANK(J28)),\nAND(ISTEXT(#REF!),ISBLANK(#REF!)),\nAND(ISTEXT(#REF!),ISBLANK(#REF!))),1,0)","v":0},{"$f":"IF(INDIRECT(\"'\"&$B28&\"'!H10\",TRUE)=\"\",\"\",INDIRECT(\"'\"&$B28&\"'!H10\",TRUE))","v":"Field Worker"},"After Hours",{"$f":"IF(N28=\"\",\"\",INDIRECT(\"'\"&$B28&\"'!J10\",TRUE))","v":2},{"$f":"IF(N28=\"\",\"\",INDIRECT(\"'\"&$B28&\"'!L10\",TRUE)/P28)","v":30},{"$f":"IF(N28=\"\",\"\",(INDIRECT(\"'\"&$B28&\"'!L30\",TRUE)-($Q28*P28))/P28)","v":25},{"$f":"IF(OR(\nAND(ISTEXT(N28),ISBLANK(O28)),\nAND(ISTEXT(#REF!),ISBLANK(#REF!)),\nAND(ISTEXT(#REF!),ISBLANK(#REF!)),\nAND(ISTEXT(#REF!),ISBLANK(#REF!)),),1,0)","v":0},{"$f":"INDIRECT(\"'\"&$B28&\"'!F56\",TRUE)","v":0},{"$f":"INDIRECT(\"'\"&$B28&\"'!M56\",TRUE)","v":49.302683204777075},{"$f":"INDIRECT(\"'\"&$B28&\"'!q56\",TRUE)","v":0},null,{"$f":"SUMIF('Input|Indirect Cost Rates'!$E$25:$E$26,'Input|Fee Based'!$E28,'Input|Indirect Cost Rates'!$D$25:$D$26)","v":0.2093290403743884},{"$f":"SUMIF('Input|Indirect Cost Rates'!$E$27:$E$28,'Input|Fee Based'!$E28,'Input|Indirect Cost Rates'!$D$27:$D$28)","v":0.40097153765012611},{"$f":"'Input|Indirect Cost Rates'!$D$35","v":0.06},{"$f":"IF(E28='Input|Setup'!$H$31,'Input|Indirect Cost Rates'!$D$44,0)","v":0},0,0,0,0,null,0]
[18,"RCTK","Reconnection after temp discon BH","Business Hours","Opex","Customer requested supply outage","Fee Based",0,{"$f":"IF(INDIRECT(\"'\"&$B29&\"'!B10\",TRUE)=\"\",\"\",INDIRECT(\"'\"&$B29&\"'!B10\",TRUE))","v":"Administrative Officer"},"Business Hours",{"$f":"IF(I29=\"\",\"\",INDIRECT(\"'\"&$B29&\"'!D10\",TRUE))","v":1},{"$f":"IF(I29=\"\",\"\",INDIRECT(\"'\"&$B29&\"'!F30\",TRUE))","v":30},{"$f":"IF(OR(\nAND(ISTEXT(I29),ISBLANK(J29)),\nAND(ISTEXT(#REF!),ISBLANK(#REF!)),\nAND(ISTEXT(#REF!),ISBLANK(#REF!))),1,0)","v":0},{"$f":"IF(INDIRECT(\"'\"&$B29&\"'!H10\",TRUE)=\"\",\"\",INDIRECT(\"'\"&$B29&\"'!H10\",TRUE))","v":"Field Worker"},"Business Hours",{"$f":"IF(N29=\"\",\"\",INDIRECT(\"'\"&$B29&\"'!J10\",TRUE))","v":2},{"$f":"IF(N29=\"\",\"\",INDIRECT(\"'\"&$B29&\"'!L10\",TRUE)/P29)","v":30},{"$f":"IF(N29=\"\",\"\",(INDIRECT(\"'\"&$B29&\"'!L30\",TRUE)-($Q29*P29))/P29)","v":35},{"$f":"IF(OR(\nAND(ISTEXT(N29),ISBLANK(O29)),\nAND(ISTEXT(#REF!),ISBLANK(#REF!)),\nAND(ISTEXT(#REF!),ISBLANK(#REF!)),\nAND(ISTEXT(#REF!),ISBLANK(#REF!)),),1,0)","v":0},{"$f":"INDIRECT(\"'\"&$B29&\"'!F56\",TRUE)","v":0},{"$f":"INDIRECT(\"'\"&$B29&\"'!M56\",TRUE)","v":58.266807423827451},{"$f":"INDIRECT(\"'\"&$B29&\"'!q56\",TRUE)","v":0},null,{"$f":"SUMIF('Input|Indirect Cost Rates'!$E$25:$E$26,'Input|Fee Based'!$E29,'Input|Indirect Cost Rates'!$D$25:$D$26)","v":0.2093290403743884},{"$f":"SUMIF('Input|Indirect Cost Rates'!$E$27:$E$28,'Input|Fee Based'!$E29,'Input|Indirect Cost Rates'!$D$27:$D$28)","v":0.40097153765012611},{"$f":"'Input|Indirect Cost Rates'!$D$35","v":0.06},{"$f":"IF(E29='Input|Setup'!$H$31,'Input|Indirect Cost Rates'!$D$44,0)","v":0},0,0,0,0,null,0]
[19,"RCTK","Reconnection after temp discon AH","After Hours","Opex","Customer requested supply outage","Fee Based",0,{"$f":"IF(INDIRECT(\"'\"&$B30&\"'!B10\",TRUE)=\"\",\"\",INDIRECT(\"'\"&$B30&\"'!B10\",TRUE))","v":"Administrative Officer"},"Business Hours",{"$f":"IF(I30=\"\",\"\",INDIRECT(\"'\"&$B30&\"'!D10\",TRUE))","v":1},{"$f":"IF(I30=\"\",\"\",INDIRECT(\"'\"&$B30&\"'!F30\",TRUE))","v":30},{"$f":"IF(OR(\nAND(ISTEXT(I30),ISBLANK(J30)),\nAND(ISTEXT(#REF!),ISBLANK(#REF!)),\nAND(ISTEXT(#REF!),ISBLANK(#REF!))),1,0)","v":0},{"$f":"IF(INDIRECT(\"'\"&$B30&\"'!H10\",TRUE)=\"\",\"\",INDIRECT(\"'\"&$B30&\"'!H10\",TRUE))","v":"Field Worker"},"After Hours",{"$f":"IF(N30=\"\",\"\",INDIRECT(\"'\"&$B30&\"'!J10\",TRUE))","v":2},{"$f":"IF(N30=\"\",\"\",INDIRECT(\"'\"&$B30&\"'!L10\",TRUE)/P30)","v":30},{"$f":"IF(N30=\"\",\"\",(INDIRECT(\"'\"&$B30&\"'!L30\",TRUE)-($Q30*P30))/P30)","v":35},{"$f":"IF(OR(\nAND(ISTEXT(N30),ISBLANK(O30)),\nAND(ISTEXT(#REF!),ISBLANK(#REF!)),\nAND(ISTEXT(#REF!),ISBLANK(#REF!)),\nAND(ISTEXT(#REF!),ISBLANK(#REF!)),),1,0)","v":0},{"$f":"INDIRECT(\"'\"&$B30&\"'!F56\",TRUE)","v":0},{"$f":"INDIRECT(\"'\"&$B30&\"'!M56\",TRUE)","v":58.266807423827451},{"$f":"INDIRECT(\"'\"&$B30&\"'!q56\",TRUE)","v":0},null,{"$f":"SUMIF('Input|Indirect Cost Rates'!$E$25:$E$26,'Input|Fee Based'!$E30,'Input|Indirect Cost Rates'!$D$25:$D$26)","v":0.2093290403743884},{"$f":"SUMIF('Input|Indirect Cost Rates'!$E$27:$E$28,'Input|Fee Based'!$E30,'Input|Indirect Cost Rates'!$D$27:$D$28)","v":0.40097153765012611},{"$f":"'Input|Indirect Cost Rates'!$D$35","v":0.06},{"$f":"IF(E30='Input|Setup'!$H$31,'Input|Indirect Cost Rates'!$D$44,0)","v":0},0,0,0,0,null,0]
[20,"SLOM","Security Lighting - O&M","Business Hours","Capex","Security lights","Fee Based",0,{"$f":"IF(INDIRECT(\"'\"&$B31&\"'!B10\",TRUE)=\"\",\"\",INDIRECT(\"'\"&$B31&\"'!B10\",TRUE))","v":""},"",{"$f":"IF(I31=\"\",\"\",INDIRECT(\"'\"&$B31&\"'!D10\",TRUE))","v":""},{"$f":"IF(I31=\"\",\"\",INDIRECT(\"'\"&$B31&\"'!F30\",TRUE))","v":""},{"$f":"IF(OR(\nAND(ISTEXT(I31),ISBLANK(J31)),\nAND(ISTEXT(#REF!),ISBLANK(#REF!)),\nAND(ISTEXT(#REF!),ISBLANK(#REF!))),1,0)","v":0},{"$f":"IF(INDIRECT(\"'\"&$B31&\"'!H10\",TRUE)=\"\",\"\",INDIRECT(\"'\"&$B31&\"'!H10\",TRUE))","v":""},"",{"$f":"IF(N31=\"\",\"\",INDIRECT(\"'\"&$B31&\"'!J10\",TRUE))","v":""},{"$f":"IF(N31=\"\",\"\",INDIRECT(\"'\"&$B31&\"'!L10\",TRUE)/P31)","v":""},{"$f":"IF(N31=\"\",\"\",(INDIRECT(\"'\"&$B31&\"'!L30\",TRUE)-($Q31*P31))/P31)","v":""},{"$f":"IF(OR(\nAND(ISTEXT(N31),ISBLANK(O31)),\nAND(ISTEXT(#REF!),ISBLANK(#REF!)),\nAND(ISTEXT(#REF!),ISBLANK(#REF!)),\nAND(ISTEXT(#REF!),ISBLANK(#REF!)),),1,0)","v":0},{"$f":"INDIRECT(\"'\"&$B31&\"'!F56\",TRUE)","v":0},{"$f":"INDIRECT(\"'\"&$B31&\"'!M56\",TRUE)","v":0},{"$f":"INDIRECT(\"'\"&$B31&\"'!q56\",TRUE)","v":96.677210152788433},null,{"$f":"SUMIF('Input|Indirect Cost Rates'!$E$25:$E$26,'Input|Fee Based'!$E31,'Input|Indirect Cost Rates'!$D$25:$D$26)","v":0.2093290403743884},{"$f":"SUMIF('Input|Indirect Cost Rates'!$E$27:$E$28,'Input|Fee Based'!$E31,'Input|Indirect Cost Rates'!$D$27:$D$28)","v":0.40097153765012611},{"$f":"'Input|Indirect Cost Rates'!$D$35","v":0.06},{"$f":"IF(E31='Input|Setup'!$H$31,'Input|Indirect Cost Rates'!$D$44,0)","v":1.8727836426826648E-2},0,0,0,0,"Refer to \"Other Costs\" table in 'SLOM' tab.",0]
[21,"RFOM","Enhanced Connection Operation and Maintenance","Business Hours","Opex","Enhanced connection services","Fee Based",0,{"$f":"IF(INDIRECT(\"'\"&$B32&\"'!B10\",TRUE)=\"\",\"\",INDIRECT(\"'\"&$B32&\"'!B10\",TRUE))","v":""},"",{"$f":"IF(I32=\"\",\"\",INDIRECT(\"'\"&$B32&\"'!D10\",TRUE))","v":""},{"$f":"IF(I32=\"\",\"\",INDIRECT(\"'\"&$B32&\"'!F30\",TRUE))","v":""},{"$f":"IF(OR(\nAND(ISTEXT(I32),ISBLANK(J32)),\nAND(ISTEXT(#REF!),ISBLANK(#REF!)),\nAND(ISTEXT(#REF!),ISBLANK(#REF!))),1,0)","v":0},{"$f":"IF(INDIRECT(\"'\"&$B32&\"'!H10\",TRUE)=\"\",\"\",INDIRECT(\"'\"&$B32&\"'!H10\",TRUE))","v":""},"",{"$f":"IF(N32=\"\",\"\",INDIRECT(\"'\"&$B32&\"'!J10\",TRUE))","v":""},{"$f":"IF(N32=\"\",\"\",INDIRECT(\"'\"&$B32&\"'!L10\",TRUE)/P32)","v":""},{"$f":"IF(N32=\"\",\"\",(INDIRECT(\"'\"&$B32&\"'!L30\",TRUE)-($Q32*P32))/P32)","v":""},{"$f":"IF(OR(\nAND(ISTEXT(N32),ISBLANK(O32)),\nAND(ISTEXT(#REF!),ISBLANK(#REF!)),\nAND(ISTEXT(#REF!),ISBLANK(#REF!)),\nAND(ISTEXT(#REF!),ISBLANK(#REF!)),),1,0)","v":0},{"$f":"INDIRECT(\"'\"&$B32&\"'!F56\",TRUE)","v":0},{"$f":"INDIRECT(\"'\"&$B32&\"'!M56\",TRUE)","v":0},{"$f":"INDIRECT(\"'\"&$B32&\"'!q56\",TRUE)","v":9.2079235332541884},null,{"$f":"SUMIF('Input|Indirect Cost Rates'!$E$25:$E$26,'Input|Fee Based'!$E32,'Input|Indirect Cost Rates'!$D$25:$D$26)","v":0.2093290403743884},{"$f":"SUMIF('Input|Indirect Cost Rates'!$E$27:$E$28,'Input|Fee Based'!$E32,'Input|Indirect Cost Rates'!$D$27:$D$28)","v":0.40097153765012611},{"$f":"'Input|Indirect Cost Rates'!$D$35","v":0.06},{"$f":"IF(E32='Input|Setup'!$H$31,'Input|Indirect Cost Rates'!$D$44,0)","v":0},0,0,0,0,"Estimation of operating and maintenance expenditure attributed to the high voltage network for deriving reserve feeder rate ($/kW)",0]
[22,"REENRM","Remote  energisation","Business Hours","Opex","Auxiliary metering services","Fee Based",0,{"$f":"IF(INDIRECT(\"'\"&$B33&\"'!B10\",TRUE)=\"\",\"\",INDIRECT(\"'\"&$B33&\"'!B10\",TRUE))","v":""},"",{"$f":"IF(I33=\"\",\"\",INDIRECT(\"'\"&$B33&\"'!D10\",TRUE))","v":""},{"$f":"IF(I33=\"\",\"\",INDIRECT(\"'\"&$B33&\"'!F30\",TRUE))","v":""},{"$f":"IF(OR(\nAND(ISTEXT(I33),ISBLANK(J33)),\nAND(ISTEXT(#REF!),ISBLANK(#REF!)),\nAND(ISTEXT(#REF!),ISBLANK(#REF!))),1,0)","v":0},{"$f":"IF(INDIRECT(\"'\"&$B33&\"'!H10\",TRUE)=\"\",\"\",INDIRECT(\"'\"&$B33&\"'!H10\",TRUE))","v":""},"",{"$f":"IF(N33=\"\",\"\",INDIRECT(\"'\"&$B33&\"'!J10\",TRUE))","v":""},{"$f":"IF(N33=\"\",\"\",INDIRECT(\"'\"&$B33&\"'!L10\",TRUE)/P33)","v":""},{"$f":"IF(N33=\"\",\"\",(INDIRECT(\"'\"&$B33&\"'!L30\",TRUE)-($Q33*P33))/P33)","v":""},{"$f":"IF(OR(\nAND(ISTEXT(N33),ISBLANK(O33)),\nAND(ISTEXT(#REF!),ISBLANK(#REF!)),\nAND(ISTEXT(#REF!),ISBLANK(#REF!)),\nAND(ISTEXT(#REF!),ISBLANK(#REF!)),),1,0)","v":0},{"$f":"INDIRECT(\"'\"&$B33&\"'!F56\",TRUE)","v":0},{"$f":"INDIRECT(\"'\"&$B33&\"'!M56\",TRUE)","v":0},{"$f":"INDIRECT(\"'\"&$B33&\"'!q56\",TRUE)","v":0},null,{"$f":"SUMIF('Input|Indirect Cost Rates'!$E$25:$E$26,'Input|Fee Based'!$E33,'Input|Indirect Cost Rates'!$D$25:$D$26)","v":0.2093290403743884},{"$f":"SUMIF('Input|Indirect Cost Rates'!$E$27:$E$28,'Input|Fee Based'!$E33,'Input|Indirect Cost Rates'!$D$27:$D$28)","v":0.40097153765012611},{"$f":"'Input|Indirect Cost Rates'!$D$35","v":0.06},{"$f":"IF(E33='Input|Setup'!$H$31,'Input|Indirect Cost Rates'!$D$44,0)","v":0},0,0,0,0,null,0]
[23,"DEENRM","Remote de-energisation","Business Hours","Opex","Auxiliary metering services","Fee Based",0,{"$f":"IF(INDIRECT(\"'\"&$B34&\"'!B10\",TRUE)=\"\",\"\",INDIRECT(\"'\"&$B34&\"'!B10\",TRUE))","v":""},"",{"$f":"IF(I34=\"\",\"\",INDIRECT(\"'\"&$B34&\"'!D10\",TRUE))","v":""},{"$f":"IF(I34=\"\",\"\",INDIRECT(\"'\"&$B34&\"'!F30\",TRUE))","v":""},{"$f":"IF(OR(\nAND(ISTEXT(I34),ISBLANK(J34)),\nAND(ISTEXT(#REF!),ISBLANK(#REF!)),\nAND(ISTEXT(#REF!),ISBLANK(#REF!))),1,0)","v":0},{"$f":"IF(INDIRECT(\"'\"&$B34&\"'!H10\",TRUE)=\"\",\"\",INDIRECT(\"'\"&$B34&\"'!H10\",TRUE))","v":""},"",{"$f":"IF(N34=\"\",\"\",INDIRECT(\"'\"&$B34&\"'!J10\",TRUE))","v":""},{"$f":"IF(N34=\"\",\"\",INDIRECT(\"'\"&$B34&\"'!L10\",TRUE)/P34)","v":""},{"$f":"IF(N34=\"\",\"\",(INDIRECT(\"'\"&$B34&\"'!L30\",TRUE)-($Q34*P34))/P34)","v":""},{"$f":"IF(OR(\nAND(ISTEXT(N34),ISBLANK(O34)),\nAND(ISTEXT(#REF!),ISBLANK(#REF!)),\nAND(ISTEXT(#REF!),ISBLANK(#REF!)),\nAND(ISTEXT(#REF!),ISBLANK(#REF!)),),1,0)","v":0},{"$f":"INDIRECT(\"'\"&$B34&\"'!F56\",TRUE)","v":0},{"$f":"INDIRECT(\"'\"&$B34&\"'!M56\",TRUE)","v":0},{"$f":"INDIRECT(\"'\"&$B34&\"'!q56\",TRUE)","v":0},null,{"$f":"SUMIF('Input|Indirect Cost Rates'!$E$25:$E$26,'Input|Fee Based'!$E34,'Input|Indirect Cost Rates'!$D$25:$D$26)","v":0.2093290403743884},{"$f":"SUMIF('Input|Indirect Cost Rates'!$E$27:$E$28,'Input|Fee Based'!$E34,'Input|Indirect Cost Rates'!$D$27:$D$28)","v":0.40097153765012611},{"$f":"'Input|Indirect Cost Rates'!$D$35","v":0.06},{"$f":"IF(E34='Input|Setup'!$H$31,'Input|Indirect Cost Rates'!$D$44,0)","v":0},0,0,0,0,null,0]
[24,"MCTK","Meter Alteration BH","Business Hours","Opex","Auxiliary metering services","Fee Based",0,{"$f":"IF(INDIRECT(\"'\"&$B35&\"'!B10\",TRUE)=\"\",\"\",INDIRECT(\"'\"&$B35&\"'!B10\",TRUE))","v":"Administrative Officer"},"Business Hours",{"$f":"IF(I35=\"\",\"\",INDIRECT(\"'\"&$B35&\"'!D10\",TRUE))","v":1},{"$f":"IF(I35=\"\",\"\",INDIRECT(\"'\"&$B35&\"'!F30\",TRUE))","v":60},{"$f":"IF(OR(\nAND(ISTEXT(I35),ISBLANK(J35)),\nAND(ISTEXT(#REF!),ISBLANK(#REF!)),\nAND(ISTEXT(#REF!),ISBLANK(#REF!))),1,0)","v":0},{"$f":"IF(INDIRECT(\"'\"&$B35&\"'!H10\",TRUE)=\"\",\"\",INDIRECT(\"'\"&$B35&\"'!H10\",TRUE))","v":"Field Worker"},"Business Hours",{"$f":"IF(N35=\"\",\"\",INDIRECT(\"'\"&$B35&\"'!J10\",TRUE))","v":2},{"$f":"IF(N35=\"\",\"\",INDIRECT(\"'\"&$B35&\"'!L10\",TRUE)/P35)","v":30},{"$f":"IF(N35=\"\",\"\",(INDIRECT(\"'\"&$B35&\"'!L30\",TRUE)-($Q35*P35))/P35)","v":35},{"$f":"IF(OR(\nAND(ISTEXT(N35),ISBLANK(O35)),\nAND(ISTEXT(#REF!),ISBLANK(#REF!)),\nAND(ISTEXT(#REF!),ISBLANK(#REF!)),\nAND(ISTEXT(#REF!),ISBLANK(#REF!)),),1,0)","v":0},{"$f":"INDIRECT(\"'\"&$B35&\"'!F56\",TRUE)","v":0},{"$f":"INDIRECT(\"'\"&$B35&\"'!M56\",TRUE)","v":58.266807423827451},{"$f":"INDIRECT(\"'\"&$B35&\"'!q56\",TRUE)","v":0},null,{"$f":"SUMIF('Input|Indirect Cost Rates'!$E$25:$E$26,'Input|Fee Based'!$E35,'Input|Indirect Cost Rates'!$D$25:$D$26)","v":0.2093290403743884},{"$f":"SUMIF('Input|Indirect Cost Rates'!$E$27:$E$28,'Input|Fee Based'!$E35,'Input|Indirect Cost Rates'!$D$27:$D$28)","v":0.40097153765012611},{"$f":"'Input|Indirect Cost Rates'!$D$35","v":0.06},{"$f":"IF(E35='Input|Setup'!$H$31,'Input|Indirect Cost Rates'!$D$44,0)","v":0},0,0,0,0,null,0]
[25,"MCTK","Meter Alteration AH","After Hours","Opex","Auxiliary metering services","Fee Based",0,{"$f":"IF(INDIRECT(\"'\"&$B36&\"'!B10\",TRUE)=\"\",\"\",INDIRECT(\"'\"&$B36&\"'!B10\",TRUE))","v":"Administrative Officer"},"Business Hours",{"$f":"IF(I36=\"\",\"\",INDIRECT(\"'\"&$B36&\"'!D10\",TRUE))","v":1},{"$f":"IF(I36=\"\",\"\",INDIRECT(\"'\"&$B36&\"'!F30\",TRUE))","v":60},{"$f":"IF(OR(\nAND(ISTEXT(I36),ISBLANK(J36)),\nAND(ISTEXT(#REF!),ISBLANK(#REF!)),\nAND(ISTEXT(#REF!),ISBLANK(#REF!))),1,0)","v":0},{"$f":"IF(INDIRECT(\"'\"&$B36&\"'!H10\",TRUE)=\"\",\"\",INDIRECT(\"'\"&$B36&\"'!H10\",TRUE))","v":"Field Worker"},"After Hours",{"$f":"IF(N36=\"\",\"\",INDIRECT(\"'\"&$B36&\"'!J10\",TRUE))","v":2},{"$f":"IF(N36=\"\",\"\",INDIRECT(\"'\"&$B36&\"'!L10\",TRUE)/P36)","v":30},{"$f":"IF(N36=\"\",\"\",(INDIRECT(\"'\"&$B36&\"'!L30\",TRUE)-($Q36*P36))/P36)","v":35},{"$f":"IF(OR(\nAND(ISTEXT(N36),ISBLANK(O36)),\nAND(ISTEXT(#REF!),ISBLANK(#REF!)),\nAND(ISTEXT(#REF!),ISBLANK(#REF!)),\nAND(ISTEXT(#REF!),ISBLANK(#REF!)),),1,0)","v":0},{"$f":"INDIRECT(\"'\"&$B36&\"'!F56\",TRUE)","v":0},{"$f":"INDIRECT(\"'\"&$B36&\"'!M56\",TRUE)","v":58.266807423827451},{"$f":"INDIRECT(\"'\"&$B36&\"'!q56\",TRUE)","v":0},null,{"$f":"SUMIF('Input|Indirect Cost Rates'!$E$25:$E$26,'Input|Fee Based'!$E36,'Input|Indirect Cost Rates'!$D$25:$D$26)","v":0.2093290403743884},{"$f":"SUMIF('Input|Indirect Cost Rates'!$E$27:$E$28,'Input|Fee Based'!$E36,'Input|Indirect Cost Rates'!$D$27:$D$28)","v":0.40097153765012611},{"$f":"'Input|Indirect Cost Rates'!$D$35","v":0.06},{"$f":"IF(E36='Input|Setup'!$H$31,'Input|Indirect Cost Rates'!$D$44,0)","v":0},0,0,0,0,null,0]
[26,"SPRDRM","Remote special meter read","Business Hours","Opex","Auxiliary metering services","Fee Based",0,{"$f":"IF(INDIRECT(\"'\"&$B37&\"'!B10\",TRUE)=\"\",\"\",INDIRECT(\"'\"&$B37&\"'!B10\",TRUE))","v":""},"",{"$f":"IF(I37=\"\",\"\",INDIRECT(\"'\"&$B37&\"'!D10\",TRUE))","v":""},{"$f":"IF(I37=\"\",\"\",INDIRECT(\"'\"&$B37&\"'!F30\",TRUE))","v":""},{"$f":"IF(OR(\nAND(ISTEXT(I37),ISBLANK(J37)),\nAND(ISTEXT(#REF!),ISBLANK(#REF!)),\nAND(ISTEXT(#REF!),ISBLANK(#REF!))),1,0)","v":0},{"$f":"IF(INDIRECT(\"'\"&$B37&\"'!H10\",TRUE)=\"\",\"\",INDIRECT(\"'\"&$B37&\"'!H10\",TRUE))","v":""},"",{"$f":"IF(N37=\"\",\"\",INDIRECT(\"'\"&$B37&\"'!J10\",TRUE))","v":""},{"$f":"IF(N37=\"\",\"\",INDIRECT(\"'\"&$B37&\"'!L10\",TRUE)/P37)","v":""},{"$f":"IF(N37=\"\",\"\",(INDIRECT(\"'\"&$B37&\"'!L30\",TRUE)-($Q37*P37))/P37)","v":""},{"$f":"IF(OR(\nAND(ISTEXT(N37),ISBLANK(O37)),\nAND(ISTEXT(#REF!),ISBLANK(#REF!)),\nAND(ISTEXT(#REF!),ISBLANK(#REF!)),\nAND(ISTEXT(#REF!),ISBLANK(#REF!)),),1,0)","v":0},{"$f":"INDIRECT(\"'\"&$B37&\"'!F56\",TRUE)","v":0},{"$f":"INDIRECT(\"'\"&$B37&\"'!M56\",TRUE)","v":0},{"$f":"INDIRECT(\"'\"&$B37&\"'!q56\",TRUE)","v":0},null,{"$f":"SUMIF('Input|Indirect Cost Rates'!$E$25:$E$26,'Input|Fee Based'!$E37,'Input|Indirect Cost Rates'!$D$25:$D$26)","v":0.2093290403743884},{"$f":"SUMIF('Input|Indirect Cost Rates'!$E$27:$E$28,'Input|Fee Based'!$E37,'Input|Indirect Cost Rates'!$D$27:$D$28)","v":0.40097153765012611},{"$f":"'Input|Indirect Cost Rates'!$D$35","v":0.06},{"$f":"IF(E37='Input|Setup'!$H$31,'Input|Indirect Cost Rates'!$D$44,0)","v":0},0,0,0,0,null,0]
[27,"MECFRM","Remote meter reconfiguration","Business Hours","Opex","Auxiliary metering services","Fee Based",0,{"$f":"IF(INDIRECT(\"'\"&$B38&\"'!B10\",TRUE)=\"\",\"\",INDIRECT(\"'\"&$B38&\"'!B10\",TRUE))","v":"Administrative Officer"},"Business Hours",{"$f":"IF(I38=\"\",\"\",INDIRECT(\"'\"&$B38&\"'!D10\",TRUE))","v":1},{"$f":"IF(I38=\"\",\"\",INDIRECT(\"'\"&$B38&\"'!F30\",TRUE))","v":32},{"$f":"IF(OR(\nAND(ISTEXT(I38),ISBLANK(J38)),\nAND(ISTEXT(#REF!),ISBLANK(#REF!)),\nAND(ISTEXT(#REF!),ISBLANK(#REF!))),1,0)","v":0},{"$f":"IF(INDIRECT(\"'\"&$B38&\"'!H10\",TRUE)=\"\",\"\",INDIRECT(\"'\"&$B38&\"'!H10\",TRUE))","v":""},"",{"$f":"IF(N38=\"\",\"\",INDIRECT(\"'\"&$B38&\"'!J10\",TRUE))","v":""},{"$f":"IF(N38=\"\",\"\",INDIRECT(\"'\"&$B38&\"'!L10\",TRUE)/P38)","v":""},{"$f":"IF(N38=\"\",\"\",(INDIRECT(\"'\"&$B38&\"'!L30\",TRUE)-($Q38*P38))/P38)","v":""},{"$f":"IF(OR(\nAND(ISTEXT(N38),ISBLANK(O38)),\nAND(ISTEXT(#REF!),ISBLANK(#REF!)),\nAND(ISTEXT(#REF!),ISBLANK(#REF!)),\nAND(ISTEXT(#REF!),ISBLANK(#REF!)),),1,0)","v":0},{"$f":"INDIRECT(\"'\"&$B38&\"'!F56\",TRUE)","v":0},{"$f":"INDIRECT(\"'\"&$B38&\"'!M56\",TRUE)","v":0},{"$f":"INDIRECT(\"'\"&$B38&\"'!q56\",TRUE)","v":0},null,{"$f":"SUMIF('Input|Indirect Cost Rates'!$E$25:$E$26,'Input|Fee Based'!$E38,'Input|Indirect Cost Rates'!$D$25:$D$26)","v":0.2093290403743884},{"$f":"SUMIF('Input|Indirect Cost Rates'!$E$27:$E$28,'Input|Fee Based'!$E38,'Input|Indirect Cost Rates'!$D$27:$D$28)","v":0.40097153765012611},{"$f":"'Input|Indirect Cost Rates'!$D$35","v":0.06},{"$f":"IF(E38='Input|Setup'!$H$31,'Input|Indirect Cost Rates'!$D$44,0)","v":0},0,0,0,0,null,0]
[28,"SPRD","Field-based special meter reads ","Business Hours","Opex","Auxiliary metering services","Fee Based",0,{"$f":"IF(INDIRECT(\"'\"&$B39&\"'!B10\",TRUE)=\"\",\"\",INDIRECT(\"'\"&$B39&\"'!B10\",TRUE))","v":"Administrative Officer"},"Business Hours",{"$f":"IF(I39=\"\",\"\",INDIRECT(\"'\"&$B39&\"'!D10\",TRUE))","v":1},{"$f":"IF(I39=\"\",\"\",INDIRECT(\"'\"&$B39&\"'!F30\",TRUE))","v":12.7},{"$f":"IF(OR(\nAND(ISTEXT(I39),ISBLANK(J39)),\nAND(ISTEXT(#REF!),ISBLANK(#REF!)),\nAND(ISTEXT(#REF!),ISBLANK(#REF!))),1,0)","v":0},{"$f":"IF(INDIRECT(\"'\"&$B39&\"'!H10\",TRUE)=\"\",\"\",INDIRECT(\"'\"&$B39&\"'!H10\",TRUE))","v":"Field Worker"},"Business Hours",{"$f":"IF(N39=\"\",\"\",INDIRECT(\"'\"&$B39&\"'!J10\",TRUE))","v":1},{"$f":"IF(N39=\"\",\"\",INDIRECT(\"'\"&$B39&\"'!L10\",TRUE)/P39)","v":30},{"$f":"IF(N39=\"\",\"\",(INDIRECT(\"'\"&$B39&\"'!L30\",TRUE)-($Q39*P39))/P39)","v":10},{"$f":"IF(OR(\nAND(ISTEXT(N39),ISBLANK(O39)),\nAND(ISTEXT(#REF!),ISBLANK(#REF!)),\nAND(ISTEXT(#REF!),ISBLANK(#REF!)),\nAND(ISTEXT(#REF!),ISBLANK(#REF!)),),1,0)","v":0},{"$f":"INDIRECT(\"'\"&$B39&\"'!F56\",TRUE)","v":0},{"$f":"INDIRECT(\"'\"&$B39&\"'!M56\",TRUE)","v":35.856496876201504},{"$f":"INDIRECT(\"'\"&$B39&\"'!q56\",TRUE)","v":0},null,{"$f":"SUMIF('Input|Indirect Cost Rates'!$E$25:$E$26,'Input|Fee Based'!$E39,'Input|Indirect Cost Rates'!$D$25:$D$26)","v":0.2093290403743884},{"$f":"SUMIF('Input|Indirect Cost Rates'!$E$27:$E$28,'Input|Fee Based'!$E39,'Input|Indirect Cost Rates'!$D$27:$D$28)","v":0.40097153765012611},{"$f":"'Input|Indirect Cost Rates'!$D$35","v":0.06},{"$f":"IF(E39='Input|Setup'!$H$31,'Input|Indirect Cost Rates'!$D$44,0)","v":0},0,0,0,0,null,0]
[29,"MTAL","Meter test of types 5, 6 and AMI smart metering installations BH","Business Hours","Opex","Auxiliary metering services","Fee Based",0,{"$f":"IF(INDIRECT(\"'\"&$B40&\"'!B10\",TRUE)=\"\",\"\",INDIRECT(\"'\"&$B40&\"'!B10\",TRUE))","v":"Administrative Officer"},"Business Hours",{"$f":"IF(I40=\"\",\"\",INDIRECT(\"'\"&$B40&\"'!D10\",TRUE))","v":1},{"$f":"IF(I40=\"\",\"\",INDIRECT(\"'\"&$B40&\"'!F30\",TRUE))","v":35},{"$f":"IF(OR(\nAND(ISTEXT(I40),ISBLANK(J40)),\nAND(ISTEXT(#REF!),ISBLANK(#REF!)),\nAND(ISTEXT(#REF!),ISBLANK(#REF!))),1,0)","v":0},{"$f":"IF(INDIRECT(\"'\"&$B40&\"'!H10\",TRUE)=\"\",\"\",INDIRECT(\"'\"&$B40&\"'!H10\",TRUE))","v":"Field Worker"},"Business Hours",{"$f":"IF(N40=\"\",\"\",INDIRECT(\"'\"&$B40&\"'!J10\",TRUE))","v":2},{"$f":"IF(N40=\"\",\"\",INDIRECT(\"'\"&$B40&\"'!L10\",TRUE)/P40)","v":30},{"$f":"IF(N40=\"\",\"\",(INDIRECT(\"'\"&$B40&\"'!L30\",TRUE)-($Q40*P40))/P40)","v":120},{"$f":"IF(OR(\nAND(ISTEXT(N40),ISBLANK(O40)),\nAND(ISTEXT(#REF!),ISBLANK(#REF!)),\nAND(ISTEXT(#REF!),ISBLANK(#REF!)),\nAND(ISTEXT(#REF!),ISBLANK(#REF!)),),1,0)","v":0},{"$f":"INDIRECT(\"'\"&$B40&\"'!F56\",TRUE)","v":0},{"$f":"INDIRECT(\"'\"&$B40&\"'!M56\",TRUE)","v":179.28248438100755},{"$f":"INDIRECT(\"'\"&$B40&\"'!q56\",TRUE)","v":0},null,{"$f":"SUMIF('Input|Indirect Cost Rates'!$E$25:$E$26,'Input|Fee Based'!$E40,'Input|Indirect Cost Rates'!$D$25:$D$26)","v":0.2093290403743884},{"$f":"SUMIF('Input|Indirect Cost Rates'!$E$27:$E$28,'Input|Fee Based'!$E40,'Input|Indirect Cost Rates'!$D$27:$D$28)","v":0.40097153765012611},{"$f":"'Input|Indirect Cost Rates'!$D$35","v":0.06},{"$f":"IF(E40='Input|Setup'!$H$31,'Input|Indirect Cost Rates'!$D$44,0)","v":0},0,0,0,0,null,0]
[30,"MTAL","Meter test of types 5, 6 and AMI smart metering installations AH","After Hours","Opex","Auxiliary metering services","Fee Based",0,{"$f":"IF(INDIRECT(\"'\"&$B41&\"'!B10\",TRUE)=\"\",\"\",INDIRECT(\"'\"&$B41&\"'!B10\",TRUE))","v":"Administrative Officer"},"Business Hours",{"$f":"IF(I41=\"\",\"\",INDIRECT(\"'\"&$B41&\"'!D10\",TRUE))","v":1},{"$f":"IF(I41=\"\",\"\",INDIRECT(\"'\"&$B41&\"'!F30\",TRUE))","v":35},{"$f":"IF(OR(\nAND(ISTEXT(I41),ISBLANK(J41)),\nAND(ISTEXT(#REF!),ISBLANK(#REF!)),\nAND(ISTEXT(#REF!),ISBLANK(#REF!))),1,0)","v":0},{"$f":"IF(INDIRECT(\"'\"&$B41&\"'!H10\",TRUE)=\"\",\"\",INDIRECT(\"'\"&$B41&\"'!H10\",TRUE))","v":"Field Worker"},"After Hours",{"$f":"IF(N41=\"\",\"\",INDIRECT(\"'\"&$B41&\"'!J10\",TRUE))","v":2},{"$f":"IF(N41=\"\",\"\",INDIRECT(\"'\"&$B41&\"'!L10\",TRUE)/P41)","v":30},{"$f":"IF(N41=\"\",\"\",(INDIRECT(\"'\"&$B41&\"'!L30\",TRUE)-($Q41*P41))/P41)","v":120},{"$f":"IF(OR(\nAND(ISTEXT(N41),ISBLANK(O41)),\nAND(ISTEXT(#REF!),ISBLANK(#REF!)),\nAND(ISTEXT(#REF!),ISBLANK(#REF!)),\nAND(ISTEXT(#REF!),ISBLANK(#REF!)),),1,0)","v":0},{"$f":"INDIRECT(\"'\"&$B41&\"'!F56\",TRUE)","v":0},{"$f":"INDIRECT(\"'\"&$B41&\"'!M56\",TRUE)","v":179.28248438100755},{"$f":"INDIRECT(\"'\"&$B41&\"'!q56\",TRUE)","v":0},null,{"$f":"SUMIF('Input|Indirect Cost Rates'!$E$25:$E$26,'Input|Fee Based'!$E41,'Input|Indirect Cost Rates'!$D$25:$D$26)","v":0.2093290403743884},{"$f":"SUMIF('Input|Indirect Cost Rates'!$E$27:$E$28,'Input|Fee Based'!$E41,'Input|Indirect Cost Rates'!$D$27:$D$28)","v":0.40097153765012611},{"$f":"'Input|Indirect Cost Rates'!$D$35","v":0.06},{"$f":"IF(E41='Input|Setup'!$H$31,'Input|Indirect Cost Rates'!$D$44,0)","v":0},0,0,0,0,null,0]
[31,"MDCH","Type 7 metering","Business Hours","Opex","Type 7 metering services","Fee Based",0,{"$f":"IF(INDIRECT(\"'\"&$B42&\"'!B10\",TRUE)=\"\",\"\",INDIRECT(\"'\"&$B42&\"'!B10\",TRUE))","v":""},"",{"$f":"IF(I42=\"\",\"\",INDIRECT(\"'\"&$B42&\"'!D10\",TRUE))","v":""},{"$f":"IF(I42=\"\",\"\",INDIRECT(\"'\"&$B42&\"'!F30\",TRUE))","v":""},{"$f":"IF(OR(\nAND(ISTEXT(I42),ISBLANK(J42)),\nAND(ISTEXT(#REF!),ISBLANK(#REF!)),\nAND(ISTEXT(#REF!),ISBLANK(#REF!))),1,0)","v":0},{"$f":"IF(INDIRECT(\"'\"&$B42&\"'!H10\",TRUE)=\"\",\"\",INDIRECT(\"'\"&$B42&\"'!H10\",TRUE))","v":""},"",{"$f":"IF(N42=\"\",\"\",INDIRECT(\"'\"&$B42&\"'!J10\",TRUE))","v":""},{"$f":"IF(N42=\"\",\"\",INDIRECT(\"'\"&$B42&\"'!L10\",TRUE)/P42)","v":""},{"$f":"IF(N42=\"\",\"\",(INDIRECT(\"'\"&$B42&\"'!L30\",TRUE)-($Q42*P42))/P42)","v":""},{"$f":"IF(OR(\nAND(ISTEXT(N42),ISBLANK(O42)),\nAND(ISTEXT(#REF!),ISBLANK(#REF!)),\nAND(ISTEXT(#REF!),ISBLANK(#REF!)),\nAND(ISTEXT(#REF!),ISBLANK(#REF!)),),1,0)","v":0},{"$f":"INDIRECT(\"'\"&$B42&\"'!F56\",TRUE)","v":0},{"$f":"INDIRECT(\"'\"&$B42&\"'!M56\",TRUE)","v":0},{"$f":"INDIRECT(\"'\"&$B42&\"'!q56\",TRUE)","v":0},null,{"$f":"SUMIF('Input|Indirect Cost Rates'!$E$25:$E$26,'Input|Fee Based'!$E42,'Input|Indirect Cost Rates'!$D$25:$D$26)","v":0.2093290403743884},{"$f":"SUMIF('Input|Indirect Cost Rates'!$E$27:$E$28,'Input|Fee Based'!$E42,'Input|Indirect Cost Rates'!$D$27:$D$28)","v":0.40097153765012611},{"$f":"'Input|Indirect Cost Rates'!$D$35","v":0.06},{"$f":"IF(E42='Input|Setup'!$H$31,'Input|Indirect Cost Rates'!$D$44,0)","v":0},0,0,0,0,null,0]
[32,"NCUM","Non-contestable unmetered loads","Business Hours","Capex","Auxiliary metering services","Fee Based",0,{"$f":"IF(INDIRECT(\"'\"&$B43&\"'!B10\",TRUE)=\"\",\"\",INDIRECT(\"'\"&$B43&\"'!B10\",TRUE))","v":""},"",{"$f":"IF(I43=\"\",\"\",INDIRECT(\"'\"&$B43&\"'!D10\",TRUE))","v":""},{"$f":"IF(I43=\"\",\"\",INDIRECT(\"'\"&$B43&\"'!F30\",TRUE))","v":""},{"$f":"IF(OR(\nAND(ISTEXT(I43),ISBLANK(J43)),\nAND(ISTEXT(#REF!),ISBLANK(#REF!)),\nAND(ISTEXT(#REF!),ISBLANK(#REF!))),1,0)","v":0},{"$f":"IF(INDIRECT(\"'\"&$B43&\"'!H10\",TRUE)=\"\",\"\",INDIRECT(\"'\"&$B43&\"'!H10\",TRUE))","v":""},"",{"$f":"IF(N43=\"\",\"\",INDIRECT(\"'\"&$B43&\"'!J10\",TRUE))","v":""},{"$f":"IF(N43=\"\",\"\",INDIRECT(\"'\"&$B43&\"'!L10\",TRUE)/P43)","v":""},{"$f":"IF(N43=\"\",\"\",(INDIRECT(\"'\"&$B43&\"'!L30\",TRUE)-($Q43*P43))/P43)","v":""},{"$f":"IF(OR(\nAND(ISTEXT(N43),ISBLANK(O43)),\nAND(ISTEXT(#REF!),ISBLANK(#REF!)),\nAND(ISTEXT(#REF!),ISBLANK(#REF!)),\nAND(ISTEXT(#REF!),ISBLANK(#REF!)),),1,0)","v":0},{"$f":"INDIRECT(\"'\"&$B43&\"'!F56\",TRUE)","v":0},{"$f":"INDIRECT(\"'\"&$B43&\"'!M56\",TRUE)","v":0},{"$f":"INDIRECT(\"'\"&$B43&\"'!q56\",TRUE)","v":0},null,{"$f":"SUMIF('Input|Indirect Cost Rates'!$E$25:$E$26,'Input|Fee Based'!$E43,'Input|Indirect Cost Rates'!$D$25:$D$26)","v":0.2093290403743884},{"$f":"SUMIF('Input|Indirect Cost Rates'!$E$27:$E$28,'Input|Fee Based'!$E43,'Input|Indirect Cost Rates'!$D$27:$D$28)","v":0.40097153765012611},{"$f":"'Input|Indirect Cost Rates'!$D$35","v":0.06},{"$f":"IF(E43='Input|Setup'!$H$31,'Input|Indirect Cost Rates'!$D$44,0)","v":1.8727836426826648E-2},0,0,0,0,null,0]
[33,"WSVR","Wasted site attendance BH","Business Hours","Opex","Connection service","Fee Based",0,{"$f":"IF(INDIRECT(\"'\"&$B44&\"'!B10\",TRUE)=\"\",\"\",INDIRECT(\"'\"&$B44&\"'!B10\",TRUE))","v":"Administrative Officer"},"Business Hours",{"$f":"IF(I44=\"\",\"\",INDIRECT(\"'\"&$B44&\"'!D10\",TRUE))","v":1},{"$f":"IF(I44=\"\",\"\",INDIRECT(\"'\"&$B44&\"'!F30\",TRUE))","v":60},{"$f":"IF(OR(\nAND(ISTEXT(I44),ISBLANK(J44)),\nAND(ISTEXT(#REF!),ISBLANK(#REF!)),\nAND(ISTEXT(#REF!),ISBLANK(#REF!))),1,0)","v":0},{"$f":"IF(INDIRECT(\"'\"&$B44&\"'!H10\",TRUE)=\"\",\"\",INDIRECT(\"'\"&$B44&\"'!H10\",TRUE))","v":"Field Worker"},"Business Hours",{"$f":"IF(N44=\"\",\"\",INDIRECT(\"'\"&$B44&\"'!J10\",TRUE))","v":2},{"$f":"IF(N44=\"\",\"\",INDIRECT(\"'\"&$B44&\"'!L10\",TRUE)/P44)","v":30},{"$f":"IF(N44=\"\",\"\",(INDIRECT(\"'\"&$B44&\"'!L30\",TRUE)-($Q44*P44))/P44)","v":35},{"$f":"IF(OR(\nAND(ISTEXT(N44),ISBLANK(O44)),\nAND(ISTEXT(#REF!),ISBLANK(#REF!)),\nAND(ISTEXT(#REF!),ISBLANK(#REF!)),\nAND(ISTEXT(#REF!),ISBLANK(#REF!)),),1,0)","v":0},{"$f":"INDIRECT(\"'\"&$B44&\"'!F56\",TRUE)","v":0},{"$f":"INDIRECT(\"'\"&$B44&\"'!M56\",TRUE)","v":58.266807423827451},{"$f":"INDIRECT(\"'\"&$B44&\"'!q56\",TRUE)","v":0},null,{"$f":"SUMIF('Input|Indirect Cost Rates'!$E$25:$E$26,'Input|Fee Based'!$E44,'Input|Indirect Cost Rates'!$D$25:$D$26)","v":0.2093290403743884},{"$f":"SUMIF('Input|Indirect Cost Rates'!$E$27:$E$28,'Input|Fee Based'!$E44,'Input|Indirect Cost Rates'!$D$27:$D$28)","v":0.40097153765012611},{"$f":"'Input|Indirect Cost Rates'!$D$35","v":0.06},{"$f":"IF(E44='Input|Setup'!$H$31,'Input|Indirect Cost Rates'!$D$44,0)","v":0},0,0,0,0,null,0]
[34,"WSVR","Wasted site attendance AH","After Hours","Opex","Connection service","Fee Based",0,{"$f":"IF(INDIRECT(\"'\"&$B45&\"'!B10\",TRUE)=\"\",\"\",INDIRECT(\"'\"&$B45&\"'!B10\",TRUE))","v":"Administrative Officer"},"Business Hours",{"$f":"IF(I45=\"\",\"\",INDIRECT(\"'\"&$B45&\"'!D10\",TRUE))","v":1},{"$f":"IF(I45=\"\",\"\",INDIRECT(\"'\"&$B45&\"'!F30\",TRUE))","v":60},{"$f":"IF(OR(\nAND(ISTEXT(I45),ISBLANK(J45)),\nAND(ISTEXT(#REF!),ISBLANK(#REF!)),\nAND(ISTEXT(#REF!),ISBLANK(#REF!))),1,0)","v":0},{"$f":"IF(INDIRECT(\"'\"&$B45&\"'!H10\",TRUE)=\"\",\"\",INDIRECT(\"'\"&$B45&\"'!H10\",TRUE))","v":"Field Worker"},"After Hours",{"$f":"IF(N45=\"\",\"\",INDIRECT(\"'\"&$B45&\"'!J10\",TRUE))","v":2},{"$f":"IF(N45=\"\",\"\",INDIRECT(\"'\"&$B45&\"'!L10\",TRUE)/P45)","v":30},{"$f":"IF(N45=\"\",\"\",(INDIRECT(\"'\"&$B45&\"'!L30\",TRUE)-($Q45*P45))/P45)","v":35},{"$f":"IF(OR(\nAND(ISTEXT(N45),ISBLANK(O45)),\nAND(ISTEXT(#REF!),ISBLANK(#REF!)),\nAND(ISTEXT(#REF!),ISBLANK(#REF!)),\nAND(ISTEXT(#REF!),ISBLANK(#REF!)),),1,0)","v":0},{"$f":"INDIRECT(\"'\"&$B45&\"'!F56\",TRUE)","v":0},{"$f":"INDIRECT(\"'\"&$B45&\"'!M56\",TRUE)","v":58.266807423827451},{"$f":"INDIRECT(\"'\"&$B45&\"'!q56\",TRUE)","v":0},null,{"$f":"SUMIF('Input|Indirect Cost Rates'!$E$25:$E$26,'Input|Fee Based'!$E45,'Input|Indirect Cost Rates'!$D$25:$D$26)","v":0.2093290403743884},{"$f":"SUMIF('Input|Indirect Cost Rates'!$E$27:$E$28,'Input|Fee Based'!$E45,'Input|Indirect Cost Rates'!$D$27:$D$28)","v":0.40097153765012611},{"$f":"'Input|Indirect Cost Rates'!$D$35","v":0.06},{"$f":"IF(E45='Input|Setup'!$H$31,'Input|Indirect Cost Rates'!$D$44,0)","v":0},0,0,0,0,null,0]
[35,"RTK3","Replacement of 3-phase overhead service line BH","Business Hours","Capex","Connection service","Fee Based",0,{"$f":"IF(INDIRECT(\"'\"&$B46&\"'!B10\",TRUE)=\"\",\"\",INDIRECT(\"'\"&$B46&\"'!B10\",TRUE))","v":"Administrative Officer"},"Business Hours",{"$f":"IF(I46=\"\",\"\",INDIRECT(\"'\"&$B46&\"'!D10\",TRUE))","v":1},{"$f":"IF(I46=\"\",\"\",INDIRECT(\"'\"&$B46&\"'!F30\",TRUE))","v":60},{"$f":"IF(OR(\nAND(ISTEXT(I46),ISBLANK(J46)),\nAND(ISTEXT(#REF!),ISBLANK(#REF!)),\nAND(ISTEXT(#REF!),ISBLANK(#REF!))),1,0)","v":0},{"$f":"IF(INDIRECT(\"'\"&$B46&\"'!H10\",TRUE)=\"\",\"\",INDIRECT(\"'\"&$B46&\"'!H10\",TRUE))","v":"Field Worker"},"Business Hours",{"$f":"IF(N46=\"\",\"\",INDIRECT(\"'\"&$B46&\"'!J10\",TRUE))","v":2},{"$f":"IF(N46=\"\",\"\",INDIRECT(\"'\"&$B46&\"'!L10\",TRUE)/P46)","v":30},{"$f":"IF(N46=\"\",\"\",(INDIRECT(\"'\"&$B46&\"'!L30\",TRUE)-($Q46*P46))/P46)","v":35},{"$f":"IF(OR(\nAND(ISTEXT(N46),ISBLANK(O46)),\nAND(ISTEXT(#REF!),ISBLANK(#REF!)),\nAND(ISTEXT(#REF!),ISBLANK(#REF!)),\nAND(ISTEXT(#REF!),ISBLANK(#REF!)),),1,0)","v":0},{"$f":"INDIRECT(\"'\"&$B46&\"'!F56\",TRUE)","v":179.91271155999999},{"$f":"INDIRECT(\"'\"&$B46&\"'!M56\",TRUE)","v":58.266807423827451},{"$f":"INDIRECT(\"'\"&$B46&\"'!q56\",TRUE)","v":0},null,{"$f":"SUMIF('Input|Indirect Cost Rates'!$E$25:$E$26,'Input|Fee Based'!$E46,'Input|Indirect Cost Rates'!$D$25:$D$26)","v":0.2093290403743884},{"$f":"SUMIF('Input|Indirect Cost Rates'!$E$27:$E$28,'Input|Fee Based'!$E46,'Input|Indirect Cost Rates'!$D$27:$D$28)","v":0.40097153765012611},{"$f":"'Input|Indirect Cost Rates'!$D$35","v":0.06},{"$f":"IF(E46='Input|Setup'!$H$31,'Input|Indirect Cost Rates'!$D$44,0)","v":1.8727836426826648E-2},0,0,0,0,null,0]
[36,"RTK3","Replacement of 3-phase overhead service line AH","After Hours","Capex","Connection service","Fee Based",0,{"$f":"IF(INDIRECT(\"'\"&$B47&\"'!B10\",TRUE)=\"\",\"\",INDIRECT(\"'\"&$B47&\"'!B10\",TRUE))","v":"Administrative Officer"},"Business Hours",{"$f":"IF(I47=\"\",\"\",INDIRECT(\"'\"&$B47&\"'!D10\",TRUE))","v":1},{"$f":"IF(I47=\"\",\"\",INDIRECT(\"'\"&$B47&\"'!F30\",TRUE))","v":60},{"$f":"IF(OR(\nAND(ISTEXT(I47),ISBLANK(J47)),\nAND(ISTEXT(#REF!),ISBLANK(#REF!)),\nAND(ISTEXT(#REF!),ISBLANK(#REF!))),1,0)","v":0},{"$f":"IF(INDIRECT(\"'\"&$B47&\"'!H10\",TRUE)=\"\",\"\",INDIRECT(\"'\"&$B47&\"'!H10\",TRUE))","v":"Field Worker"},"After Hours",{"$f":"IF(N47=\"\",\"\",INDIRECT(\"'\"&$B47&\"'!J10\",TRUE))","v":2},{"$f":"IF(N47=\"\",\"\",INDIRECT(\"'\"&$B47&\"'!L10\",TRUE)/P47)","v":30},{"$f":"IF(N47=\"\",\"\",(INDIRECT(\"'\"&$B47&\"'!L30\",TRUE)-($Q47*P47))/P47)","v":35},{"$f":"IF(OR(\nAND(ISTEXT(N47),ISBLANK(O47)),\nAND(ISTEXT(#REF!),ISBLANK(#REF!)),\nAND(ISTEXT(#REF!),ISBLANK(#REF!)),\nAND(ISTEXT(#REF!),ISBLANK(#REF!)),),1,0)","v":0},{"$f":"INDIRECT(\"'\"&$B47&\"'!F56\",TRUE)","v":179.91271155999999},{"$f":"INDIRECT(\"'\"&$B47&\"'!M56\",TRUE)","v":58.266807423827451},{"$f":"INDIRECT(\"'\"&$B47&\"'!q56\",TRUE)","v":0},null,{"$f":"SUMIF('Input|Indirect Cost Rates'!$E$25:$E$26,'Input|Fee Based'!$E47,'Input|Indirect Cost Rates'!$D$25:$D$26)","v":0.2093290403743884},{"$f":"SUMIF('Input|Indirect Cost Rates'!$E$27:$E$28,'Input|Fee Based'!$E47,'Input|Indirect Cost Rates'!$D$27:$D$28)","v":0.40097153765012611},{"$f":"'Input|Indirect Cost Rates'!$D$35","v":0.06},{"$f":"IF(E47='Input|Setup'!$H$31,'Input|Indirect Cost Rates'!$D$44,0)","v":1.8727836426826648E-2},0,0,0,0,null,0]
[37,null,null,null,null,null,null,0,null,null,null,null,{"$f":"IF(OR(\nAND(ISTEXT(I48),ISBLANK(J48)),\nAND(ISTEXT(#REF!),ISBLANK(#REF!)),\nAND(ISTEXT(#REF!),ISBLANK(#REF!))),1,0)","v":0},null,null,null,null,null,{"$f":"IF(OR(\nAND(ISTEXT(N48),ISBLANK(O48)),\nAND(ISTEXT(#REF!),ISBLANK(#REF!)),\nAND(ISTEXT(#REF!),ISBLANK(#REF!)),\nAND(ISTEXT(#REF!),ISBLANK(#REF!)),),1,0)","v":0},null,null,null,null,null,null,null,null,{"$f":"IF(OR(ISBLANK(X48),_xlfn.ISFORMULA(X48)),0,1)","v":0},0,0,0,null,{"$f":"IF(AND(OR(V48=\"\",V48=0),AF48=\"\"),0,IF(AND(V48<>\"\",V48<>0,AF48=\"\"),1,0))","v":0}]
[38,null,null,null,null,null,null,0,null,null,null,null,{"$f":"IF(OR(\nAND(ISTEXT(I49),ISBLANK(J49)),\nAND(ISTEXT(#REF!),ISBLANK(#REF!)),\nAND(ISTEXT(#REF!),ISBLANK(#REF!))),1,0)","v":0},null,null,null,null,null,{"$f":"IF(OR(\nAND(ISTEXT(N49),ISBLANK(O49)),\nAND(ISTEXT(#REF!),ISBLANK(#REF!)),\nAND(ISTEXT(#REF!),ISBLANK(#REF!)),\nAND(ISTEXT(#REF!),ISBLANK(#REF!)),),1,0)","v":0},null,null,null,null,null,null,null,null,0,0,0,0,null,0]
[39,null,null,null,null,null,null,0,null,null,null,null,{"$f":"IF(OR(\nAND(ISTEXT(I50),ISBLANK(J50)),\nAND(ISTEXT(#REF!),ISBLANK(#REF!)),\nAND(ISTEXT(#REF!),ISBLANK(#REF!))),1,0)","v":0},null,null,null,null,null,{"$f":"IF(OR(\nAND(ISTEXT(N50),ISBLANK(O50)),\nAND(ISTEXT(#REF!),ISBLANK(#REF!)),\nAND(ISTEXT(#REF!),ISBLANK(#REF!)),\nAND(ISTEXT(#REF!),ISBLANK(#REF!)),),1,0)","v":0},null,null,null,null,null,null,null,null,0,0,0,0,null,0]
[40,null,null,null,null,null,null,0,null,null,null,null,{"$f":"IF(OR(\nAND(ISTEXT(I51),ISBLANK(J51)),\nAND(ISTEXT(#REF!),ISBLANK(#REF!)),\nAND(ISTEXT(#REF!),ISBLANK(#REF!))),1,0)","v":0},null,null,null,null,null,{"$f":"IF(OR(\nAND(ISTEXT(N51),ISBLANK(O51)),\nAND(ISTEXT(#REF!),ISBLANK(#REF!)),\nAND(ISTEXT(#REF!),ISBLANK(#REF!)),\nAND(ISTEXT(#REF!),ISBLANK(#REF!)),),1,0)","v":0},null,null,null,null,null,null,null,null,{"$f":"IF(OR(ISBLANK(X51),_xlfn.ISFORMULA(X51)),0,1)","v":0},0,0,0,null,0]
[41,null,null,null,null,null,null,0,null,null,null,null,{"$f":"IF(OR(\nAND(ISTEXT(I52),ISBLANK(J52)),\nAND(ISTEXT(#REF!),ISBLANK(#REF!)),\nAND(ISTEXT(#REF!),ISBLANK(#REF!))),1,0)","v":0},null,null,null,null,null,{"$f":"IF(OR(\nAND(ISTEXT(N52),ISBLANK(O52)),\nAND(ISTEXT(#REF!),ISBLANK(#REF!)),\nAND(ISTEXT(#REF!),ISBLANK(#REF!)),\nAND(ISTEXT(#REF!),ISBLANK(#REF!)),),1,0)","v":0},null,null,null,null,null,null,null,null,0,0,0,0,null,0]
[42,null,null,null,null,null,null,0,null,null,null,null,{"$f":"IF(OR(\nAND(ISTEXT(I53),ISBLANK(J53)),\nAND(ISTEXT(#REF!),ISBLANK(#REF!)),\nAND(ISTEXT(#REF!),ISBLANK(#REF!))),1,0)","v":0},null,null,null,null,null,{"$f":"IF(OR(\nAND(ISTEXT(N53),ISBLANK(O53)),\nAND(ISTEXT(#REF!),ISBLANK(#REF!)),\nAND(ISTEXT(#REF!),ISBLANK(#REF!)),\nAND(ISTEXT(#REF!),ISBLANK(#REF!)),),1,0)","v":0},null,null,null,null,null,null,null,null,0,0,0,0,null,0]
[43,null,null,null,null,null,null,0,null,null,null,null,{"$f":"IF(OR(\nAND(ISTEXT(I54),ISBLANK(J54)),\nAND(ISTEXT(#REF!),ISBLANK(#REF!)),\nAND(ISTEXT(#REF!),ISBLANK(#REF!))),1,0)","v":0},null,null,null,null,null,{"$f":"IF(OR(\nAND(ISTEXT(N54),ISBLANK(O54)),\nAND(ISTEXT(#REF!),ISBLANK(#REF!)),\nAND(ISTEXT(#REF!),ISBLANK(#REF!)),\nAND(ISTEXT(#REF!),ISBLANK(#REF!)),),1,0)","v":0},null,null,null,null,null,null,null,null,0,0,0,0,null,0]
[44,null,null,null,null,null,null,0,null,null,null,null,{"$f":"IF(OR(\nAND(ISTEXT(I55),ISBLANK(J55)),\nAND(ISTEXT(#REF!),ISBLANK(#REF!)),\nAND(ISTEXT(#REF!),ISBLANK(#REF!))),1,0)","v":0},null,null,null,null,null,{"$f":"IF(OR(\nAND(ISTEXT(N55),ISBLANK(O55)),\nAND(ISTEXT(#REF!),ISBLANK(#REF!)),\nAND(ISTEXT(#REF!),ISBLANK(#REF!)),\nAND(ISTEXT(#REF!),ISBLANK(#REF!)),),1,0)","v":0},null,null,null,null,null,null,null,null,0,0,0,0,null,0]
[45,null,null,null,null,null,null,0,null,null,null,null,{"$f":"IF(OR(\nAND(ISTEXT(I56),ISBLANK(J56)),\nAND(ISTEXT(#REF!),ISBLANK(#REF!)),\nAND(ISTEXT(#REF!),ISBLANK(#REF!))),1,0)","v":0},null,null,null,null,null,{"$f":"IF(OR(\nAND(ISTEXT(N56),ISBLANK(O56)),\nAND(ISTEXT(#REF!),ISBLANK(#REF!)),\nAND(ISTEXT(#REF!),ISBLANK(#REF!)),\nAND(ISTEXT(#REF!),ISBLANK(#REF!)),),1,0)","v":0},null,null,null,null,null,null,null,null,0,0,0,0,null,0]
[46,null,null,null,null,null,null,0,null,null,null,null,{"$f":"IF(OR(\nAND(ISTEXT(I57),ISBLANK(J57)),\nAND(ISTEXT(#REF!),ISBLANK(#REF!)),\nAND(ISTEXT(#REF!),ISBLANK(#REF!))),1,0)","v":0},null,null,null,null,null,{"$f":"IF(OR(\nAND(ISTEXT(N57),ISBLANK(O57)),\nAND(ISTEXT(#REF!),ISBLANK(#REF!)),\nAND(ISTEXT(#REF!),ISBLANK(#REF!)),\nAND(ISTEXT(#REF!),ISBLANK(#REF!)),),1,0)","v":0},null,null,null,null,null,null,null,null,0,0,0,0,null,0]
[47,null,null,null,null,null,null,0,null,null,null,null,{"$f":"IF(OR(\nAND(ISTEXT(I58),ISBLANK(J58)),\nAND(ISTEXT(#REF!),ISBLANK(#REF!)),\nAND(ISTEXT(#REF!),ISBLANK(#REF!))),1,0)","v":0},null,null,null,null,null,{"$f":"IF(OR(\nAND(ISTEXT(N58),ISBLANK(O58)),\nAND(ISTEXT(#REF!),ISBLANK(#REF!)),\nAND(ISTEXT(#REF!),ISBLANK(#REF!)),\nAND(ISTEXT(#REF!),ISBLANK(#REF!)),),1,0)","v":0},null,null,null,null,null,null,null,null,0,0,0,0,null,0]
[48,null,null,null,null,null,null,0,null,null,null,null,{"$f":"IF(OR(\nAND(ISTEXT(I59),ISBLANK(J59)),\nAND(ISTEXT(#REF!),ISBLANK(#REF!)),\nAND(ISTEXT(#REF!),ISBLANK(#REF!))),1,0)","v":0},null,null,null,null,null,{"$f":"IF(OR(\nAND(ISTEXT(N59),ISBLANK(O59)),\nAND(ISTEXT(#REF!),ISBLANK(#REF!)),\nAND(ISTEXT(#REF!),ISBLANK(#REF!)),\nAND(ISTEXT(#REF!),ISBLANK(#REF!)),),1,0)","v":0},null,null,null,null,null,null,null,null,0,0,0,0,null,0]
[49,null,null,null,null,null,null,0,null,null,null,null,{"$f":"IF(OR(\nAND(ISTEXT(I60),ISBLANK(J60)),\nAND(ISTEXT(#REF!),ISBLANK(#REF!)),\nAND(ISTEXT(#REF!),ISBLANK(#REF!))),1,0)","v":0},null,null,null,null,null,{"$f":"IF(OR(\nAND(ISTEXT(N60),ISBLANK(O60)),\nAND(ISTEXT(#REF!),ISBLANK(#REF!)),\nAND(ISTEXT(#REF!),ISBLANK(#REF!)),\nAND(ISTEXT(#REF!),ISBLANK(#REF!)),),1,0)","v":0},null,null,null,null,null,null,null,null,0,0,0,0,null,0]
[50,null,null,null,null,null,null,0,null,null,null,null,{"$f":"IF(OR(\nAND(ISTEXT(I61),ISBLANK(J61)),\nAND(ISTEXT(#REF!),ISBLANK(#REF!)),\nAND(ISTEXT(#REF!),ISBLANK(#REF!))),1,0)","v":0},null,null,null,null,null,{"$f":"IF(OR(\nAND(ISTEXT(N61),ISBLANK(O61)),\nAND(ISTEXT(#REF!),ISBLANK(#REF!)),\nAND(ISTEXT(#REF!),ISBLANK(#REF!)),\nAND(ISTEXT(#REF!),ISBLANK(#REF!)),),1,0)","v":0},null,null,null,null,null,null,null,null,0,0,0,0,null,0]
[51,null,null,null,null,null,null,0,null,null,null,null,{"$f":"IF(OR(\nAND(ISTEXT(I62),ISBLANK(J62)),\nAND(ISTEXT(#REF!),ISBLANK(#REF!)),\nAND(ISTEXT(#REF!),ISBLANK(#REF!))),1,0)","v":0},null,null,null,null,null,{"$f":"IF(OR(\nAND(ISTEXT(N62),ISBLANK(O62)),\nAND(ISTEXT(#REF!),ISBLANK(#REF!)),\nAND(ISTEXT(#REF!),ISBLANK(#REF!)),\nAND(ISTEXT(#REF!),ISBLANK(#REF!)),),1,0)","v":0},null,null,null,null,null,null,null,null,0,0,0,0,null,0]
[52,null,null,null,null,null,null,0,null,null,null,null,{"$f":"IF(OR(\nAND(ISTEXT(I63),ISBLANK(J63)),\nAND(ISTEXT(#REF!),ISBLANK(#REF!)),\nAND(ISTEXT(#REF!),ISBLANK(#REF!))),1,0)","v":0},null,null,null,null,null,{"$f":"IF(OR(\nAND(ISTEXT(N63),ISBLANK(O63)),\nAND(ISTEXT(#REF!),ISBLANK(#REF!)),\nAND(ISTEXT(#REF!),ISBLANK(#REF!)),\nAND(ISTEXT(#REF!),ISBLANK(#REF!)),),1,0)","v":0},null,null,null,null,null,null,null,null,0,0,0,0,null,0]
[53,null,null,null,null,null,null,0,null,null,null,null,{"$f":"IF(OR(\nAND(ISTEXT(I64),ISBLANK(J64)),\nAND(ISTEXT(#REF!),ISBLANK(#REF!)),\nAND(ISTEXT(#REF!),ISBLANK(#REF!))),1,0)","v":0},null,null,null,null,null,{"$f":"IF(OR(\nAND(ISTEXT(N64),ISBLANK(O64)),\nAND(ISTEXT(#REF!),ISBLANK(#REF!)),\nAND(ISTEXT(#REF!),ISBLANK(#REF!)),\nAND(ISTEXT(#REF!),ISBLANK(#REF!)),),1,0)","v":0},null,null,null,null,null,null,null,null,0,0,0,0,null,0]
[54,null,null,null,null,null,null,0,null,null,null,null,{"$f":"IF(OR(\nAND(ISTEXT(I65),ISBLANK(J65)),\nAND(ISTEXT(#REF!),ISBLANK(#REF!)),\nAND(ISTEXT(#REF!),ISBLANK(#REF!))),1,0)","v":0},null,null,null,null,null,{"$f":"IF(OR(\nAND(ISTEXT(N65),ISBLANK(O65)),\nAND(ISTEXT(#REF!),ISBLANK(#REF!)),\nAND(ISTEXT(#REF!),ISBLANK(#REF!)),\nAND(ISTEXT(#REF!),ISBLANK(#REF!)),),1,0)","v":0},null,null,null,null,null,null,null,null,0,0,0,0,null,0]
[55,null,null,null,null,null,null,0,null,null,null,null,{"$f":"IF(OR(\nAND(ISTEXT(I66),ISBLANK(J66)),\nAND(ISTEXT(#REF!),ISBLANK(#REF!)),\nAND(ISTEXT(#REF!),ISBLANK(#REF!))),1,0)","v":0},null,null,null,null,null,{"$f":"IF(OR(\nAND(ISTEXT(N66),ISBLANK(O66)),\nAND(ISTEXT(#REF!),ISBLANK(#REF!)),\nAND(ISTEXT(#REF!),ISBLANK(#REF!)),\nAND(ISTEXT(#REF!),ISBLANK(#REF!)),),1,0)","v":0},null,null,null,null,null,null,null,null,0,0,0,0,null,0]
[56,null,null,null,null,null,null,0,null,null,null,null,{"$f":"IF(OR(\nAND(ISTEXT(I67),ISBLANK(J67)),\nAND(ISTEXT(#REF!),ISBLANK(#REF!)),\nAND(ISTEXT(#REF!),ISBLANK(#REF!))),1,0)","v":0},null,null,null,null,null,{"$f":"IF(OR(\nAND(ISTEXT(N67),ISBLANK(O67)),\nAND(ISTEXT(#REF!),ISBLANK(#REF!)),\nAND(ISTEXT(#REF!),ISBLANK(#REF!)),\nAND(ISTEXT(#REF!),ISBLANK(#REF!)),),1,0)","v":0},null,null,null,null,null,null,null,null,{"$f":"IF(OR(ISBLANK(X67),_xlfn.ISFORMULA(X67)),0,1)","v":0},0,0,0,null,0]
[57,null,null,null,null,null,null,0,null,null,null,null,{"$f":"IF(OR(\nAND(ISTEXT(I68),ISBLANK(J68)),\nAND(ISTEXT(#REF!),ISBLANK(#REF!)),\nAND(ISTEXT(#REF!),ISBLANK(#REF!))),1,0)","v":0},null,null,null,null,null,{"$f":"IF(OR(\nAND(ISTEXT(N68),ISBLANK(O68)),\nAND(ISTEXT(#REF!),ISBLANK(#REF!)),\nAND(ISTEXT(#REF!),ISBLANK(#REF!)),\nAND(ISTEXT(#REF!),ISBLANK(#REF!)),),1,0)","v":0},null,null,null,null,null,null,null,null,0,0,0,0,null,0]
[58,null,null,null,null,null,null,0,null,null,null,null,{"$f":"IF(OR(\nAND(ISTEXT(I69),ISBLANK(J69)),\nAND(ISTEXT(#REF!),ISBLANK(#REF!)),\nAND(ISTEXT(#REF!),ISBLANK(#REF!))),1,0)","v":0},null,null,null,null,null,{"$f":"IF(OR(\nAND(ISTEXT(N69),ISBLANK(O69)),\nAND(ISTEXT(#REF!),ISBLANK(#REF!)),\nAND(ISTEXT(#REF!),ISBLANK(#REF!)),\nAND(ISTEXT(#REF!),ISBLANK(#REF!)),),1,0)","v":0},null,null,null,null,null,null,null,null,0,0,0,0,null,0]
[59,null,null,null,null,null,null,0,null,null,null,null,{"$f":"IF(OR(\nAND(ISTEXT(I70),ISBLANK(J70)),\nAND(ISTEXT(#REF!),ISBLANK(#REF!)),\nAND(ISTEXT(#REF!),ISBLANK(#REF!))),1,0)","v":0},null,null,null,null,null,{"$f":"IF(OR(\nAND(ISTEXT(N70),ISBLANK(O70)),\nAND(ISTEXT(#REF!),ISBLANK(#REF!)),\nAND(ISTEXT(#REF!),ISBLANK(#REF!)),\nAND(ISTEXT(#REF!),ISBLANK(#REF!)),),1,0)","v":0},null,null,null,null,null,null,null,null,0,0,0,0,null,0]
[60,null,null,null,null,null,null,0,null,null,null,null,{"$f":"IF(OR(\nAND(ISTEXT(I71),ISBLANK(J71)),\nAND(ISTEXT(#REF!),ISBLANK(#REF!)),\nAND(ISTEXT(#REF!),ISBLANK(#REF!))),1,0)","v":0},null,null,null,null,null,{"$f":"IF(OR(\nAND(ISTEXT(N71),ISBLANK(O71)),\nAND(ISTEXT(#REF!),ISBLANK(#REF!)),\nAND(ISTEXT(#REF!),ISBLANK(#REF!)),\nAND(ISTEXT(#REF!),ISBLANK(#REF!)),),1,0)","v":0},null,null,null,null,null,null,null,null,0,0,0,0,null,0]

{"sheet":"Input|Fee Based Mapping","index":10,"n_rows":71,"n_cols":29,"rows_kept":71,"cut":false,"hidden":false,"merged":[[8,6,8,10],[8,24,8,28],[2,14,2,17]]}
[null,{"$f":"IFERROR(Index!B1,\"\")","v":"Jemena Electricity Networks – Alternative Control Services Forecast model"},null,"Key:","Input",null,"Sheet Validation",{"$f":"'Model Validation'!C15","v":0}]
[null,{"$f":"IFERROR(MID(CELL(\"filename\",A1),FIND(\"]\",CELL(\"filename\",A1))+1,255),\"\")","v":"Input|Fee Based Mapping"},null,null,"Formula"]
[null,null,null,null,null,null,null,null,null,null,null,null,null,null,"For AER input"]
[null,"(1) Jemena will apply a Wasted Site Attendance fee in circumstances where on arrival at the site, it is found the customer’s premises are not ready for ",null,null,null,null,null,null,null,null,null,null,null,{"$f":"G11","v":"2021-22"},{"$f":"H11","v":"2022-23"},{"$f":"I11","v":"2023-24"},{"$f":"J11","v":"2024-25"},{"$f":"K11","v":"2025-26"},null,null,null,null,null,"* Estimate",{"$f":"IFERROR('Input|Setup'!$E$6,\"\")","v":"2026-27"},{"$f":"IFERROR((LEFT(Y4,4)+1&IF(MID(Y4,5,1)=\"\",\"\",\"-\"&TEXT(MOD(MID(Y4,6,2)+1,100),\"00\"))),\"\")","v":"2027-28"},{"$f":"IFERROR((LEFT(Z4,4)+1&IF(MID(Z4,5,1)=\"\",\"\",\"-\"&TEXT(MOD(MID(Z4,6,2)+1,100),\"00\"))),\"\")","v":"2028-29"},{"$f":"IFERROR((LEFT(AA4,4)+1&IF(MID(AA4,5,1)=\"\",\"\",\"-\"&TEXT(MOD(MID(AA4,6,2)+1,100),\"00\"))),\"\")","v":"2029-30"},{"$f":"IFERROR((LEFT(AB4,4)+1&IF(MID(AB4,5,1)=\"\",\"\",\"-\"&TEXT(MOD(MID(AB4,6,2)+1,100),\"00\"))),\"\")","v":"2030-31"}]
[null,"the scheduled work, or if the site is not safe to undertake the work or access to the site is limited.",null,null,null,null,null,null,null,null,null,null,null,"CPI",{"$f":"'Input|Escalations'!E16","v":3.4982935153583528E-2},{"$f":"'Input|Escalations'!F16","v":7.8318219291014124E-2},{"$f":"'Input|Escalations'!G16","v":4.0519877675840865E-2},{"$f":"'Input|Escalations'!H16","v":2.6000000000000023E-2},null,null,null,null,null,null,"CPI",{"$f":"'Input|Escalations'!J16","v":2.4999999999999911E-2},{"$f":"'Input|Escalations'!K16","v":2.4999999999999911E-2},{"$f":"'Input|Escalations'!L16","v":2.4999999999999911E-2},{"$f":"'Input|Escalations'!M16","v":2.4999999999999911E-2}]
[null,"(2) For services marked (*), the Wasted Site Attendance fee applies. For all other services, the Wasted Site Attendance fee is the service fee shown",null,null,null,null,null,null,null,null,null,null,null,"X factors",{"$f":"'Input|Escalations'!E27","v":4.374835875726607E-2},{"$f":"'Input|Escalations'!F27","v":1.5093609819145648E-2},{"$f":"'Input|Escalations'!G27","v":-6.5363129067719239E-3},{"$f":"'Input|Escalations'!H27","v":-7.2010311340859889E-3},null,null,null,null,null,null,"X factors",{"$f":"'Input|Escalations'!J27","v":-8.3583556288052887E-3},{"$f":"'Input|Escalations'!K27","v":-1.0254990531688098E-2},{"$f":"'Input|Escalations'!L27","v":-1.2240188084018007E-2},{"$f":"'Input|Escalations'!M27","v":-1.1482353043552641E-2}]
[null,"applicable to the service"]
[]
[null,"8.1 Current regulatory period - Fee based services",null,"Mapping categories",null,null,{"$f":"IFERROR(\"Approved price, $ ($nominal)\",\"\")","v":"Approved price, $ ($nominal)"},null,null,null,null,null,"AER final decision\n($ nominal)",null,null,null,null,null,null,null,"8.2 Forecast regulatory period - Fee based services",null,null,null,{"$f":"IFERROR(\"Price of service, $ ($,nominal)\",\"\")","v":"Price of service, $ ($,nominal)"}]
[null,null,null,null,null,null,null,null,null,null,null,null,null,{"$f":"IF(SUM(N12:N61)=0,0,1)","v":0},{"$f":"IF(SUM(O12:O61)=0,0,1)","v":0},{"$f":"IF(SUM(P12:P61)=0,0,1)","v":0},{"$f":"IF(SUM(Q12:Q61)=0,0,1)","v":0},{"$f":"IF(SUM(R12:R61)=0,0,1)","v":0}]
[null,"Service code","Fee based service","Hours\n(List)","Product Code \n(List)","Unit Cost",{"$f":"'Input|Setup'!B11","v":"2021-22"},{"$f":"'Input|Setup'!B12","v":"2022-23"},{"$f":"'Input|Setup'!B13","v":"2023-24"},{"$f":"'Input|Setup'!B14","v":"2024-25"},{"$f":"'Input|Setup'!B15","v":"2025-26"},null,{"$f":"G11","v":"2021-22"},{"$f":"G11","v":"2021-22"},{"$f":"H11","v":"2022-23"},{"$f":"I11","v":"2023-24"},{"$f":"J11","v":"2024-25"},{"$f":"K11","v":"2025-26"},null,null,null,"Fee based service",{"$f":"'Input|Setup'!$B$24","v":"Hours"},{"$f":"'Input|Setup'!E30","v":"Service category"},{"$f":"'Input|Setup'!E11","v":"2026-27"},{"$f":"LEFT(Y11,4)+1&\"-\"&RIGHT(Y11,2)+1","v":"2027-28"},{"$f":"LEFT(Z11,4)+1&\"-\"&RIGHT(Z11,2)+1","v":"2028-29"},{"$f":"LEFT(AA11,4)+1&\"-\"&RIGHT(AA11,2)+1","v":"2029-30"},{"$f":"LEFT(AB11,4)+1&\"-\"&RIGHT(AB11,2)+1","v":"2030-31"}]
[1,"ND1P","Basic connection, single-phase BH *","Business Hours","ND1PBH","Per connection",563.99,587.59,637.47,668.16,{"$f":"J12*(1+$R$5)*(1-$R$6)","v":690.46869842757724},null,{"$f":"G12","v":563.99},{"$f":"IF(G12<=M12,0,1)","v":0},{"$f":"IF(M12=0,(IF(G12<=M12,0,1)),IF(H12<=$M12*(1+O$5)*(1-O$6),1,0))","v":0},{"$f":"IF(M12=0,(IF(G12<=M12,0,1)),IF(I12<=$M12*(1+P$5)*(1-P$6),1,0))","v":0},{"$f":"IF(M12=0,(IF(G12<=M12,0,1)),IF(J12<=$M12*(1+Q$5)*(1-Q$6),1,0))","v":0},{"$f":"IF(M12=0,(IF(G12<=M12,0,1)),IF(K12<=$M12*(1+R$5)*(1-R$6),1,0))","v":0},null,1,{"$f":"'Calc|Fee Based'!B12","v":"ND1P"},{"$f":"'Calc|Fee Based'!C12","v":"Basic connection, single-phase BH"},{"$f":"'Calc|Fee Based'!E12","v":"Business Hours"},{"$f":"'Calc|Fee Based'!F12","v":"Capex"},{"$f":"'Calc|Fee Based'!H12","v":872.33250420147192},{"$f":"Y12*(1+Z$5)*(1-Z$6)","v":901.61436373560798},{"$f":"Z12*(1+AA$5)*(1-AA$6)","v":933.63192076142411},968.68624484960651,1004.304268358938]
[{"$f":"IFERROR(A12+1,\"\")","v":2},"ND1P","Basic connection, single-phase AH *","After Hours","ND1PAH","Per connection",746.97,778.22,844.28,884.93,{"$f":"J13*(1+$R$5)*(1-$R$6)","v":914.4762711020054},null,{"$f":"G13","v":746.97},{"$f":"IF(G13<=M13,0,1)","v":0},{"$f":"IF(M13=0,(IF(G13<=M13,0,1)),IF(H13<=$M13*(1+O$5)*(1-O$6),1,0))","v":0},{"$f":"IF(M13=0,(IF(G13<=M13,0,1)),IF(I13<=$M13*(1+P$5)*(1-P$6),1,0))","v":0},{"$f":"IF(M13=0,(IF(G13<=M13,0,1)),IF(J13<=$M13*(1+Q$5)*(1-Q$6),1,0))","v":0},{"$f":"IF(M13=0,(IF(G13<=M13,0,1)),IF(K13<=$M13*(1+R$5)*(1-R$6),1,0))","v":0},null,{"$f":"IFERROR(T12+1,\"\")","v":2},{"$f":"'Calc|Fee Based'!B13","v":"ND1P"},{"$f":"'Calc|Fee Based'!C13","v":"Basic connection, single-phase AH"},{"$f":"'Calc|Fee Based'!E13","v":"After Hours"},{"$f":"'Calc|Fee Based'!F13","v":"Capex"},{"$f":"'Calc|Fee Based'!H13","v":1230.2512393042891},1271.5474695920523,1316.7018562746434,1366.138998012171,1416.3711255012597]
[{"$f":"IFERROR(A13+1,\"\")","v":3},"ND3P","Basic connection, three-phase BH *","Business Hours","ND3PBH","Per connection",693.87,722.9,784.26,822.02,849.46581579477527,null,693.87,0,0,0,0,0,null,{"$f":"IFERROR(T13+1,\"\")","v":3},{"$f":"'Calc|Fee Based'!B14","v":"ND3P"},{"$f":"'Calc|Fee Based'!C14","v":"Basic connection, three-phase BH"},{"$f":"'Calc|Fee Based'!E14","v":"Business Hours"},{"$f":"'Calc|Fee Based'!F14","v":"Capex"},{"$f":"'Calc|Fee Based'!H14","v":1195.3470315990394},1235.4716213687054,1279.3449054267107,1327.3794358858004,1376.1863970711775]
[4,"ND3P","Basic connection, three-phase AH *","After Hours","ND3PAH","Per connection",876.85,913.54,991.09,1038.81,1073.4940562343622,null,876.85,0,0,0,0,0,null,{"$f":"IFERROR(T14+1,\"\")","v":4},{"$f":"'Calc|Fee Based'!B15","v":"ND3P"},{"$f":"'Calc|Fee Based'!C15","v":"Basic connection, three-phase AH"},{"$f":"'Calc|Fee Based'!E15","v":"After Hours"},{"$f":"'Calc|Fee Based'!F15","v":"Capex"},{"$f":"'Calc|Fee Based'!H15","v":1553.265766701857},1605.4047272251501,1662.4148409399302,1724.8321890483651,1788.2532542134995]
[5,"BTSO","Temporary connection, single-phase BH *","Business Hours","BTSOBH","Per connection",563.99,587.59,637.47,668.16,690.46869842757724,null,563.99,0,0,0,0,0,null,5,{"$f":"'Calc|Fee Based'!B16","v":"BTSO"},{"$f":"'Calc|Fee Based'!C16","v":"Temporary connection, single-phase BH"},{"$f":"'Calc|Fee Based'!E16","v":"Business Hours"},{"$f":"'Calc|Fee Based'!F16","v":"Capex"},{"$f":"'Calc|Fee Based'!H16","v":872.33250420147192},901.61436373560798,933.63192076142411,968.68624484960651,1004.304268358938]
[6,"BTSO","Temporary connection, single-phase AH *","After Hours","BTSOAH","Per connection",746.97,778.22,844.28,884.93,914.4762711020054,null,746.97,0,0,0,0,0,null,6,{"$f":"'Calc|Fee Based'!B17","v":"BTSO"},{"$f":"'Calc|Fee Based'!C17","v":"Temporary connection, single-phase AH"},{"$f":"'Calc|Fee Based'!E17","v":"After Hours"},{"$f":"'Calc|Fee Based'!F17","v":"Capex"},{"$f":"'Calc|Fee Based'!H17","v":1230.2512393042891},1271.5474695920523,1316.7018562746434,1366.138998012171,1416.3711255012597]
[7,"BTSP","Temporary connection, three-phase BH *","Business Hours","BTSPBH","Per connection",693.87,722.9,784.26,822.02,849.46581579477527,null,693.87,0,0,0,0,0,null,7,{"$f":"'Calc|Fee Based'!B18","v":"BTSP"},{"$f":"'Calc|Fee Based'!C18","v":"Temporary connection, three-phase BH"},{"$f":"'Calc|Fee Based'!E18","v":"Business Hours"},{"$f":"'Calc|Fee Based'!F18","v":"Capex"},{"$f":"'Calc|Fee Based'!H18","v":1195.3470315990394},1235.4716213687054,1279.3449054267107,1327.3794358858004,1376.1863970711775]
[8,"BTSP","Temporary connection, three-phase AH *","After Hours","BTSPAH","Per connection",876.85,913.54,991.09,1038.81,1073.4940562343622,null,876.85,0,0,0,0,0,null,8,{"$f":"'Calc|Fee Based'!B19","v":"BTSP"},{"$f":"'Calc|Fee Based'!C19","v":"Temporary connection, three-phase AH"},{"$f":"'Calc|Fee Based'!E19","v":"After Hours"},{"$f":"'Calc|Fee Based'!F19","v":"Capex"},{"$f":"'Calc|Fee Based'!H19","v":1553.265766701857},1605.4047272251501,1662.4148409399302,1724.8321890483651,1788.2532542134995]
[9,"SUTK","Supply upgrade/enhancement (1ph to 3ph) BH *","Business Hours","SUTKBH","Per connection",693.87,722.9,784.26,822.02,849.46581579477527,null,693.87,0,0,0,0,0,null,9,{"$f":"'Calc|Fee Based'!B20","v":"SUTK"},{"$f":"'Calc|Fee Based'!C20","v":"Supply upgrade/enhancement (1ph to 3ph) BH"},{"$f":"'Calc|Fee Based'!E20","v":"Business Hours"},{"$f":"'Calc|Fee Based'!F20","v":"Capex"},{"$f":"'Calc|Fee Based'!H20","v":1195.3470315990394},1235.4716213687054,1279.3449054267107,1327.3794358858004,1376.1863970711775]
[10,"SUTK","Supply upgrade/enhancement (1ph to 3ph) AH *","After Hours","SUTKAH","Per connection",876.85,913.54,991.09,1038.81,1073.4940562343622,null,876.85,0,0,0,0,0,null,10,{"$f":"'Calc|Fee Based'!B21","v":"SUTK"},{"$f":"'Calc|Fee Based'!C21","v":"Supply upgrade/enhancement (1ph to 3ph) AH"},{"$f":"'Calc|Fee Based'!E21","v":"After Hours"},{"$f":"'Calc|Fee Based'!F21","v":"Capex"},{"$f":"'Calc|Fee Based'!H21","v":1553.265766701857},1605.4047272251501,1662.4148409399302,1724.8321890483651,1788.2532542134995]
[11,"RTK1","Replacement of 1-phase overhead service line BH *","Business Hours","RTK1BH","Per connection",676.4,704.7,764.52,801.33,828.08501273792285,null,676.4,0,0,0,0,0,null,11,{"$f":"'Calc|Fee Based'!B22","v":"RTK1"},{"$f":"'Calc|Fee Based'!C22","v":"Replacement of 1-phase overhead service line BH"},{"$f":"'Calc|Fee Based'!E22","v":"Business Hours"},{"$f":"'Calc|Fee Based'!F22","v":"Capex"},{"$f":"'Calc|Fee Based'!H22","v":908.25697194742463},938.74471938933561,972.08082603830394,1008.5787601364273,1045.6636079708558]
[12,"RTK1","Replacement of 1-phase overhead service line AH *","After Hours","RTK1AH","Per connection",859.38,895.34,971.34,1018.1,1052.0925854123509,null,859.38,0,0,0,0,0,null,12,{"$f":"'Calc|Fee Based'!B23","v":"RTK1"},{"$f":"'Calc|Fee Based'!C23","v":"Replacement of 1-phase overhead service line AH"},{"$f":"'Calc|Fee Based'!E23","v":"After Hours"},{"$f":"'Calc|Fee Based'!F23","v":"Capex"},{"$f":"'Calc|Fee Based'!H23","v":1266.1757070502422},1308.67782524578,1355.1507615515231,1406.0315132989917,1457.7304651131774]
[13,"REEN","Field-based energisation BH","Business Hours","REENBH","Per connection",49.5,51.57,55.95,58.64,60.597887445811075,null,49.5,0,0,0,0,0,null,13,{"$f":"'Calc|Fee Based'!B24","v":"REEN"},{"$f":"'Calc|Fee Based'!C24","v":"Field-based energisation BH"},{"$f":"'Calc|Fee Based'!E24","v":"Business Hours"},{"$f":"'Calc|Fee Based'!F24","v":"Opex"},{"$f":"'Calc|Fee Based'!H24","v":159.8233370499355},165.18817727225081,171.05423497777764,177.47667026113524,184.00238304721947]
[14,"REEN","Field-based energisation AH","After Hours","REENAH","Per connection",86.4,90.02,97.66,102.36,105.77762208310405,null,86.4,0,0,0,0,0,null,14,{"$f":"'Calc|Fee Based'!B25","v":"REEN"},{"$f":"'Calc|Fee Based'!C25","v":"Field-based energisation AH"},{"$f":"'Calc|Fee Based'!E25","v":"After Hours"},{"$f":"'Calc|Fee Based'!F25","v":"Opex"},{"$f":"'Calc|Fee Based'!H25","v":227.38851345930226},235.021335208718,243.36726369542873,252.50477789596741,261.78923007347652]
[15,"DEEN","Field-based de-energisation BH","Business Hours","DEENBH","Per connection",70.98,73.95,80.23,84.09,86.897618610474993,null,70.98,0,0,0,0,0,null,15,{"$f":"'Calc|Fee Based'!B26","v":"DEEN"},{"$f":"'Calc|Fee Based'!C26","v":"Field-based de-energisation BH"},{"$f":"'Calc|Fee Based'!E26","v":"Business Hours"},{"$f":"'Calc|Fee Based'!F26","v":"Opex"},{"$f":"'Calc|Fee Based'!H26","v":175.23821824247068},181.12049463005692,187.55233067727235,194.59420664236703,201.74932117384631]
[16,"DCTK","Disconnection (temporary) BH","Business Hours","DCTKBH","Per connection",367.05,382.41,414.87,434.84,449.35855008418292,null,367.05,0,0,0,0,0,null,16,{"$f":"'Calc|Fee Based'!B27","v":"DCTK"},{"$f":"'Calc|Fee Based'!C27","v":"Disconnection (temporary) BH"},{"$f":"'Calc|Fee Based'!E27","v":"Business Hours"},{"$f":"'Calc|Fee Based'!F27","v":"Opex"},{"$f":"'Calc|Fee Based'!H27","v":496.31282728826193},512.97271606192191,531.18907756835495,551.13320508061668,571.39804889326138]
[17,"DCTK","Disconnection (temporary) AH","After Hours","DCTKAH","Per connection",519.54999999999995,541.29,587.24,615.51,636.06080664684816,null,519.54999999999995,0,0,0,0,0,null,17,{"$f":"'Calc|Fee Based'!B28","v":"DCTK"},{"$f":"'Calc|Fee Based'!C28","v":"Disconnection (temporary) AH"},{"$f":"'Calc|Fee Based'!E28","v":"After Hours"},{"$f":"'Calc|Fee Based'!F28","v":"Opex"},{"$f":"'Calc|Fee Based'!H28","v":793.5996034894755},820.23861098237739,849.36640392601964,881.25687867387796,913.66017580879236]
[18,"RCTK","Reconnection after temp discon BH","Business Hours","RCTKBH","Per connection",425.28,443.07,480.68,503.82,520.6416721171305,null,425.28,0,0,0,0,0,null,18,{"$f":"'Calc|Fee Based'!B29","v":"RCTK"},{"$f":"'Calc|Fee Based'!C29","v":"Reconnection after temp discon BH"},{"$f":"'Calc|Fee Based'!E29","v":"Business Hours"},{"$f":"'Calc|Fee Based'!F29","v":"Opex"},{"$f":"'Calc|Fee Based'!H29","v":575.34070047337491},594.65334272204871,615.77029479933231,638.89012499983301,662.38173914539846]
[19,"RCTK","Reconnection after temp discon AH","After Hours","RCTKAH","Per connection",605.51,630.85,684.4,717.35,741.30106683582164,null,605.51,0,0,0,0,0,null,19,{"$f":"'Calc|Fee Based'!B30","v":"RCTK"},{"$f":"'Calc|Fee Based'!C30","v":"Reconnection after temp discon AH"},{"$f":"'Calc|Fee Based'!E30","v":"After Hours"},{"$f":"'Calc|Fee Based'!F30","v":"Opex"},{"$f":"'Calc|Fee Based'!H30","v":926.67961780208179},957.78576399167787,991.79804413111788,1029.0362847009599,1066.873343681935]
[20,"SLOM","Security Lighting - O&M","Business Hours","SLOM","$/light/annum",136.31,142.01,154.06,161.47999999999999,166.87153589272802,null,136.31,0,0,0,0,0,null,20,{"$f":"'Calc|Fee Based'!B31","v":"SLOM"},{"$f":"'Calc|Fee Based'!C31","v":"Security Lighting - O&M"},{"$f":"'Calc|Fee Based'!E31","v":"Business Hours"},{"$f":"'Calc|Fee Based'!F31","v":"Capex"},{"$f":"'Calc|Fee Based'!H31","v":173.00081145970739},178.80798411010852,185.15769975150158,192.10966644220568,199.17342589175857]
[21,"RFOM","Enhanced Connection Operation and Maintenance","Business Hours","RFOM","$/kVA/annum",12.98,13.52,14.67,15.38,15.893511407172142,null,12.98,0,0,0,0,0,null,21,{"$f":"'Calc|Fee Based'!B32","v":"RFOM"},{"$f":"'Calc|Fee Based'!C32","v":"Enhanced Connection Operation and Maintenance"},{"$f":"'Calc|Fee Based'!E32","v":"Business Hours"},{"$f":"'Calc|Fee Based'!F32","v":"Opex"},{"$f":"'Calc|Fee Based'!H32","v":16.174377},{"$f":"Y32*(1+Z$5)*(1-Z$6)","v":16.717307399916379},{"$f":"Z32*(1+AA$5)*(1-AA$6)","v":17.310961809743283},{"$f":"AA32*(1+AB$5)*(1-AB$6)","v":17.960922519165035},{"$f":"AB32*(1+AC$5)*(1-AC$6)","v":18.621335076830928}]
[22,"REENRM","Remote energisation","Business Hours","REENRM","Per connection",0,0,0,{"$f":"I33*(1+$Q$5)*(1-$Q$6)","v":0},0,null,0,0,0,0,0,0,null,22,{"$f":"'Calc|Fee Based'!B33","v":"REENRM"},{"$f":"'Calc|Fee Based'!C33","v":"Remote  energisation"},{"$f":"'Calc|Fee Based'!E33","v":"Business Hours"},{"$f":"'Calc|Fee Based'!F33","v":"Opex"},{"$f":"'Calc|Fee Based'!H33","v":0},{"$f":"Y33*(1+Z$5)*(1-Z$6)","v":0},{"$f":"Z33*(1+AA$5)*(1-AA$6)","v":0},{"$f":"AA33*(1+AB$5)*(1-AB$6)","v":0},{"$f":"AB33*(1+AC$5)*(1-AC$6)","v":0}]
[23,"DEENRM","Remote de-energisation","Business Hours","DEENRM","Per connection",0,0,0,{"$f":"I34*(1+$Q$5)*(1-$Q$6)","v":0},0,null,0,0,0,0,0,0,null,23,{"$f":"'Calc|Fee Based'!B34","v":"DEENRM"},{"$f":"'Calc|Fee Based'!C34","v":"Remote de-energisation"},{"$f":"'Calc|Fee Based'!E34","v":"Business Hours"},{"$f":"'Calc|Fee Based'!F34","v":"Opex"},{"$f":"'Calc|Fee Based'!H34","v":0},0,0,0,0]
[24,"MCTK","Meter Alteration BH","Business Hours","MCTKBH","Per connection",472.07,491.82,533.57000000000005,559.26,577.93271713752222,null,472.07,0,0,0,0,0,null,24,{"$f":"'Calc|Fee Based'!B35","v":"MCTK"},{"$f":"'Calc|Fee Based'!C35","v":"Meter Alteration BH"},{"$f":"'Calc|Fee Based'!E35","v":"Business Hours"},{"$f":"'Calc|Fee Based'!F35","v":"Opex"},{"$f":"'Calc|Fee Based'!H35","v":637.0002252435155},658.38261215327316,681.76267759731127,707.36027052476015,733.36949165190606]
[25,"MCTK","Meter Alteration AH","After Hours","MCTKAH","Per connection",652.29999999999995,679.59,737.28,772.78,798.58177797363373,null,652.29999999999995,0,0,0,0,0,null,25,{"$f":"'Calc|Fee Based'!B36","v":"MCTK"},{"$f":"'Calc|Fee Based'!C36","v":"Meter Alteration AH"},{"$f":"'Calc|Fee Based'!E36","v":"After Hours"},{"$f":"'Calc|Fee Based'!F36","v":"Opex"},{"$f":"'Calc|Fee Based'!H36","v":988.33914257222261},1021.5150334229024,1057.7904269290971,1097.5064302258875,1137.8610961884428]
[26,"SPRDRM","Remote special meter read","Business Hours","SPRDRM","Per connection",{"$f":"SUMIF('Calc|Fee Based'!$B$12:$B$71,B37,'Calc|Fee Based'!$H$12:$H$71)","v":0},0,0,{"$f":"I37*(1+$Q$5)*(1-$Q$6)","v":0},0,null,0,0,0,0,0,0,null,26,{"$f":"'Calc|Fee Based'!B37","v":"SPRDRM"},{"$f":"'Calc|Fee Based'!C37","v":"Remote special meter read"},{"$f":"'Calc|Fee Based'!E37","v":"Business Hours"},{"$f":"'Calc|Fee Based'!F37","v":"Opex"},{"$f":"'Calc|Fee Based'!H37","v":0},0,0,0,0]
[27,"MECFRM","Remote meter reconfiguration","Business Hours","MECFRM","Per connection",49.91,52,56.41,59.13,61.10424769220343,null,49.91,0,0,0,0,0,null,27,{"$f":"'Calc|Fee Based'!B38","v":"MECFRM"},{"$f":"'Calc|Fee Based'!C38","v":"Remote meter reconfiguration"},{"$f":"'Calc|Fee Based'!E38","v":"Business Hours"},{"$f":"'Calc|Fee Based'!F38","v":"Opex"},{"$f":"'Calc|Fee Based'!H38","v":65.77015975481676},67.977887393306119,70.391874984510835,73.034821893255611,75.720269340274612]
[28,"SPRD","Field-based special meter reads ","Business Hours","SPRDBH","Per connection",47.69,49.69,53.91,56.51,58.396770456391266,null,47.69,0,0,0,0,0,null,28,{"$f":"'Calc|Fee Based'!B39","v":"SPRD"},{"$f":"'Calc|Fee Based'!C39","v":"Field-based special meter reads "},{"$f":"'Calc|Fee Based'!E39","v":"Business Hours"},{"$f":"'Calc|Fee Based'!F39","v":"Opex"},{"$f":"'Calc|Fee Based'!H39","v":199.83009383434376},206.53785344454744,213.87229460545782,221.90238501032383,230.06160519962415]
[29,"MTAL","Meter test of types 5, 6 and AMI smart metering installations BH","Business Hours","MTALBH","Per connection",514.16999999999996,535.67999999999995,581.15,609.13,629.46778956116816,null,514.16999999999996,0,0,0,0,0,null,29,{"$f":"'Calc|Fee Based'!B40","v":"MTAL"},{"$f":"'Calc|Fee Based'!C40","v":"Meter test of types 5, 6 and AMI smart metering installations BH"},{"$f":"'Calc|Fee Based'!E40","v":"Business Hours"},{"$f":"'Calc|Fee Based'!F40","v":"Opex"},{"$f":"'Calc|Fee Based'!H40","v":1336.0848402478655},1380.9336203052353,1429.972458544014,1483.6624801513472,1538.2158769595655]
[30,"MTAL","Meter test of types 5, 6 and AMI smart metering installations AH","After Hours","MTALAH","Per connection",698.04,727.25,788.98,826.97,854.58108767159592,null,698.04,0,0,0,0,0,null,30,{"$f":"'Calc|Fee Based'!B41","v":"MTAL"},{"$f":"'Calc|Fee Based'!C41","v":"Meter test of types 5, 6 and AMI smart metering installations AH"},{"$f":"'Calc|Fee Based'!E41","v":"After Hours"},{"$f":"'Calc|Fee Based'!F41","v":"Opex"},{"$f":"'Calc|Fee Based'!H41","v":2146.8669571602663},2218.9315155428412,2297.7288031558269,2383.9997717693327,2471.6580412746503]
[31,"MDCH","Type 7 metering","Business Hours","MDCH","Per connection",1.44,1.5,1.63,1.71,1.7670939210835084,null,1.44,0,0,0,0,0,null,31,{"$f":"'Calc|Fee Based'!B42","v":"MDCH"},{"$f":"'Calc|Fee Based'!C42","v":"Type 7 metering"},{"$f":"'Calc|Fee Based'!E42","v":"Business Hours"},{"$f":"'Calc|Fee Based'!F42","v":"Opex"},{"$f":"'Calc|Fee Based'!H42","v":0},0,0,0,0]
[32,"NCUM","Non-contestable unmetered loads","Business Hours","NCUM","$/unmetered install/annum",16.579999999999998,17.27,18.739999999999998,19.64,20.29574538601176,null,16.579999999999998,0,0,0,0,0,null,32,{"$f":"'Calc|Fee Based'!B43","v":"NCUM"},{"$f":"'Calc|Fee Based'!C43","v":"Non-contestable unmetered loads"},{"$f":"'Calc|Fee Based'!E43","v":"Business Hours"},{"$f":"'Calc|Fee Based'!F43","v":"Capex"},{"$f":"'Calc|Fee Based'!H43","v":0},0,0,0,0]
[33,"WSVR","Wasted site attendance BH (1),(2)","Business Hours","WSVRBH","Per connection",472.07,491.82,533.57000000000005,559.26,577.93271713752222,null,472.07,0,0,0,0,0,null,33,{"$f":"'Calc|Fee Based'!B44","v":"WSVR"},{"$f":"'Calc|Fee Based'!C44","v":"Wasted site attendance BH"},{"$f":"'Calc|Fee Based'!E44","v":"Business Hours"},{"$f":"'Calc|Fee Based'!F44","v":"Opex"},{"$f":"'Calc|Fee Based'!H44","v":637.0002252435155},658.38261215327316,681.76267759731127,707.36027052476015,733.36949165190606]
[34,"WSVR","Wasted site attendance AH (1),(2)","After Hours","WSVRAH","Per connection",652.29999999999995,679.59,737.28,772.78,798.58177797363373,null,{"$f":"G45","v":652.29999999999995},0,0,0,0,0,null,34,{"$f":"'Calc|Fee Based'!B45","v":"WSVR"},{"$f":"'Calc|Fee Based'!C45","v":"Wasted site attendance AH"},{"$f":"'Calc|Fee Based'!E45","v":"After Hours"},{"$f":"'Calc|Fee Based'!F45","v":"Opex"},{"$f":"'Calc|Fee Based'!H45","v":988.33914257222261},1021.5150334229024,1057.7904269290971,1097.5064302258875,1137.8610961884428]
[35,"RTK3","Replacement of 3-phase overhead service line BH *","Business Hours","RTK3BH","Per connection",750.72,782.13,848.52,889.37,919.06451496727493,null,{"$f":"G46","v":750.72},0,0,0,0,0,null,35,{"$f":"'Calc|Fee Based'!B46","v":"RTK3"},{"$f":"'Calc|Fee Based'!C46","v":"Replacement of 3-phase overhead service line BH"},{"$f":"'Calc|Fee Based'!E46","v":"Business Hours"},{"$f":"'Calc|Fee Based'!F46","v":"Capex"},{"$f":"'Calc|Fee Based'!H46","v":970.87797129710248},1003.4677375197111,1039.1022469085008,1078.116580195416,1117.7582927761105]
[36,"RTK3","Replacement of 3-phase overhead service line AH *","After Hours","RTK3AH","Per connection",933.7,972.77,1055.3499999999999,1106.1600000000001,1143.0927554068619,null,{"$f":"G47","v":933.7},0,0,0,0,0,null,36,{"$f":"'Calc|Fee Based'!B47","v":"RTK3"},{"$f":"'Calc|Fee Based'!C47","v":"Replacement of 3-phase overhead service line AH"},{"$f":"'Calc|Fee Based'!E47","v":"After Hours"},{"$f":"'Calc|Fee Based'!F47","v":"Capex"},{"$f":"'Calc|Fee Based'!H47","v":1328.7967063999199},1373.4008433761555,1422.17218242172,1475.5693333579807,1529.8251499184323]
[37,null,null,null,null,null,null,null,null,null,null,null,null,0,0,0,0,0,null,37,{"$f":"'Calc|Fee Based'!B48","v":""},{"$f":"'Calc|Fee Based'!C48","v":""},{"$f":"'Calc|Fee Based'!E48","v":""},{"$f":"'Calc|Fee Based'!F48","v":""},{"$f":"'Calc|Fee Based'!H48","v":0},0,0,0,0]
[38,null,null,null,null,null,null,null,null,null,null,null,null,0,0,0,0,0,null,38,{"$f":"'Calc|Fee Based'!B49","v":""},{"$f":"'Calc|Fee Based'!C49","v":""},{"$f":"'Calc|Fee Based'!E49","v":""},{"$f":"'Calc|Fee Based'!F49","v":""},{"$f":"'Calc|Fee Based'!H49","v":0},0,0,0,0]
[39,null,null,null,null,null,null,null,null,null,null,null,null,0,0,0,0,0,null,39,{"$f":"'Calc|Fee Based'!B50","v":""},{"$f":"'Calc|Fee Based'!C50","v":""},{"$f":"'Calc|Fee Based'!E50","v":""},{"$f":"'Calc|Fee Based'!F50","v":""},{"$f":"'Calc|Fee Based'!H50","v":0},0,0,0,0]
[40,null,null,null,null,null,null,null,null,null,null,null,null,0,0,0,0,0,null,40,{"$f":"'Calc|Fee Based'!B51","v":""},{"$f":"'Calc|Fee Based'!C51","v":""},{"$f":"'Calc|Fee Based'!E51","v":""},{"$f":"'Calc|Fee Based'!F51","v":""},{"$f":"'Calc|Fee Based'!H51","v":0},0,0,0,0]
[41,null,null,null,null,null,null,null,null,null,null,null,null,0,0,0,0,0,null,41,{"$f":"'Calc|Fee Based'!B52","v":""},{"$f":"'Calc|Fee Based'!C52","v":""},{"$f":"'Calc|Fee Based'!E52","v":""},{"$f":"'Calc|Fee Based'!F52","v":""},{"$f":"'Calc|Fee Based'!H52","v":0},0,0,0,0]
[42,null,null,null,null,null,null,null,null,null,null,null,null,0,0,0,0,0,null,42,{"$f":"'Calc|Fee Based'!B53","v":""},{"$f":"'Calc|Fee Based'!C53","v":""},{"$f":"'Calc|Fee Based'!E53","v":""},{"$f":"'Calc|Fee Based'!F53","v":""},{"$f":"'Calc|Fee Based'!H53","v":0},0,0,0,0]
[43,null,null,null,null,null,null,null,null,null,null,null,null,0,0,0,0,0,null,43,{"$f":"'Calc|Fee Based'!B54","v":""},{"$f":"'Calc|Fee Based'!C54","v":""},{"$f":"'Calc|Fee Based'!E54","v":""},{"$f":"'Calc|Fee Based'!F54","v":""},{"$f":"'Calc|Fee Based'!H54","v":0},0,0,0,0]
[44,null,null,null,null,null,null,null,null,null,null,null,null,0,0,0,0,0,null,44,{"$f":"'Calc|Fee Based'!B55","v":""},{"$f":"'Calc|Fee Based'!C55","v":""},{"$f":"'Calc|Fee Based'!E55","v":""},{"$f":"'Calc|Fee Based'!F55","v":""},{"$f":"'Calc|Fee Based'!H55","v":0},0,0,0,0]
[45,null,null,null,null,null,null,null,null,null,null,null,null,0,0,0,0,0,null,45,{"$f":"'Calc|Fee Based'!B56","v":""},{"$f":"'Calc|Fee Based'!C56","v":""},{"$f":"'Calc|Fee Based'!E56","v":""},{"$f":"'Calc|Fee Based'!F56","v":""},{"$f":"'Calc|Fee Based'!H56","v":0},0,0,0,0]
[46,null,null,null,null,null,null,null,null,null,null,null,null,0,0,0,0,0,null,46,{"$f":"'Calc|Fee Based'!B57","v":""},{"$f":"'Calc|Fee Based'!C57","v":""},{"$f":"'Calc|Fee Based'!E57","v":""},{"$f":"'Calc|Fee Based'!F57","v":""},{"$f":"'Calc|Fee Based'!H57","v":0},0,0,0,0]
[47,null,null,null,null,null,null,null,null,null,null,null,null,0,0,0,0,0,null,47,{"$f":"'Calc|Fee Based'!B58","v":""},{"$f":"'Calc|Fee Based'!C58","v":""},{"$f":"'Calc|Fee Based'!E58","v":""},{"$f":"'Calc|Fee Based'!F58","v":""},{"$f":"'Calc|Fee Based'!H58","v":0},0,0,0,0]
[48,null,null,null,null,null,null,null,null,null,null,null,null,0,0,0,0,0,null,48,{"$f":"'Calc|Fee Based'!B59","v":""},{"$f":"'Calc|Fee Based'!C59","v":""},{"$f":"'Calc|Fee Based'!E59","v":""},{"$f":"'Calc|Fee Based'!F59","v":""},{"$f":"'Calc|Fee Based'!H59","v":0},0,0,0,0]
[49,null,null,null,null,null,null,null,null,null,null,null,null,0,0,0,0,0,null,49,{"$f":"'Calc|Fee Based'!B60","v":""},{"$f":"'Calc|Fee Based'!C60","v":""},{"$f":"'Calc|Fee Based'!E60","v":""},{"$f":"'Calc|Fee Based'!F60","v":""},{"$f":"'Calc|Fee Based'!H60","v":0},0,0,0,0]
[50,null,null,null,null,null,null,null,null,null,null,null,null,0,0,0,0,0,null,50,{"$f":"'Calc|Fee Based'!B61","v":""},{"$f":"'Calc|Fee Based'!C61","v":""},{"$f":"'Calc|Fee Based'!E61","v":""},{"$f":"'Calc|Fee Based'!F61","v":""},{"$f":"'Calc|Fee Based'!H61","v":0},0,0,0,0]
[51,null,null,null,null,null,null,null,null,null,null,null,null,0,0,0,0,0,null,51,{"$f":"'Calc|Fee Based'!B62","v":""},{"$f":"'Calc|Fee Based'!C62","v":""},{"$f":"'Calc|Fee Based'!E62","v":""},{"$f":"'Calc|Fee Based'!F62","v":""},{"$f":"'Calc|Fee Based'!H62","v":0},0,0,0,0]
[52,null,null,null,null,null,null,null,null,null,null,null,null,0,0,0,0,0,null,52,{"$f":"'Calc|Fee Based'!B63","v":""},{"$f":"'Calc|Fee Based'!C63","v":""},{"$f":"'Calc|Fee Based'!E63","v":""},{"$f":"'Calc|Fee Based'!F63","v":""},{"$f":"'Calc|Fee Based'!H63","v":0},0,0,0,0]
[53,null,null,null,null,null,null,null,null,null,null,null,null,0,0,0,0,0,null,53,{"$f":"'Calc|Fee Based'!B64","v":""},{"$f":"'Calc|Fee Based'!C64","v":""},{"$f":"'Calc|Fee Based'!E64","v":""},{"$f":"'Calc|Fee Based'!F64","v":""},{"$f":"'Calc|Fee Based'!H64","v":0},0,0,0,0]
[54,null,null,null,null,null,null,null,null,null,null,null,null,0,0,0,0,0,null,54,{"$f":"'Calc|Fee Based'!B65","v":""},{"$f":"'Calc|Fee Based'!C65","v":""},{"$f":"'Calc|Fee Based'!E65","v":""},{"$f":"'Calc|Fee Based'!F65","v":""},{"$f":"'Calc|Fee Based'!H65","v":0},0,0,0,0]
[55,null,null,null,null,null,null,null,null,null,null,null,null,0,0,0,0,0,null,55,{"$f":"'Calc|Fee Based'!B66","v":""},{"$f":"'Calc|Fee Based'!C66","v":""},{"$f":"'Calc|Fee Based'!E66","v":""},{"$f":"'Calc|Fee Based'!F66","v":""},{"$f":"'Calc|Fee Based'!H66","v":0},0,0,0,0]
[56,null,null,null,null,null,null,null,null,null,null,null,null,0,0,0,0,0,null,56,{"$f":"'Calc|Fee Based'!B67","v":""},{"$f":"'Calc|Fee Based'!C67","v":""},{"$f":"'Calc|Fee Based'!E67","v":""},{"$f":"'Calc|Fee Based'!F67","v":""},{"$f":"'Calc|Fee Based'!H67","v":0},0,0,0,0]
[57,null,null,null,null,null,null,null,null,null,null,null,null,0,0,0,0,0,null,57,{"$f":"'Calc|Fee Based'!B68","v":""},{"$f":"'Calc|Fee Based'!C68","v":""},{"$f":"'Calc|Fee Based'!E68","v":""},{"$f":"'Calc|Fee Based'!F68","v":""},{"$f":"'Calc|Fee Based'!H68","v":0},0,0,0,0]
[58,null,null,null,null,null,null,null,null,null,null,null,null,0,0,0,0,0,null,58,{"$f":"'Calc|Fee Based'!B69","v":""},{"$f":"'Calc|Fee Based'!C69","v":""},{"$f":"'Calc|Fee Based'!E69","v":""},{"$f":"'Calc|Fee Based'!F69","v":""},{"$f":"'Calc|Fee Based'!H69","v":0},0,0,0,0]
[59,null,null,null,null,null,null,null,null,null,null,null,null,0,0,0,0,0,null,59,{"$f":"'Calc|Fee Based'!B70","v":""},{"$f":"'Calc|Fee Based'!C70","v":""},{"$f":"'Calc|Fee Based'!E70","v":""},{"$f":"'Calc|Fee Based'!F70","v":""},{"$f":"'Calc|Fee Based'!H70","v":0},0,0,0,0]
[60,null,null,null,null,null,null,null,null,null,null,null,null,0,0,0,0,0,null,60,{"$f":"'Calc|Fee Based'!B71","v":""},{"$f":"'Calc|Fee Based'!C71","v":""},{"$f":"'Calc|Fee Based'!E71","v":""},{"$f":"'Calc|Fee Based'!F71","v":""},{"$f":"'Calc|Fee Based'!H71","v":0},0,0,0,0]

{"sheet":"Input|Volume, Revenue, Cost","index":11,"n_rows":74,"n_cols":101,"rows_kept":74,"cut":false,"hidden":false,"merged":[[9,62,9,68],[9,70,9,76],[9,78,9,84],[9,86,9,92],[9,94,9,100],[9,54,9,60],[9,7,9,14],[9,16,9,22],[9,24,9,30],[9,32,9,38],[9,40,9,44],[9,46,9,52]]}
[null,"Jemena Electricity Networks – Alternative Control Services Forecast model",null,"Key:","Input",null,null,"Sheet Validation",0]
[null,{"$f":"IFERROR(MID(CELL(\"filename\",A1),FIND(\"]\",CELL(\"filename\",A1))+1,255),\"\")","v":"Input|Volume, Revenue, Cost"},null,null,"Formula"]
[]
[null,"Customer numnber growth"]
[]
[null,null,null,"2024-25","2025-26","2026-27","2027-28","2028-29","2029-30","2030-31"]
[null,"Customer number growth",null,1.3899999999999999E-2,1.38E-2,1.7242464344908726E-2,1.803882268285939E-2,1.7653599629277039E-2,1.7324380647018245E-2,1.7038486332985769E-2]
[]
[]
[null,"Fee-Based Alternative Control Services - Forecast volumes and revenue",null,null,null,null,null,"Volumes Forecast",null,null,null,null,null,null,null,null,{"$f":"IFERROR(\"Price Forecast, $ ($nominal)\",\"\")","v":"Price Forecast, $ ($nominal)"},null,null,null,null,null,null,null,{"$f":"IFERROR(\"Revenue Forecast, $ ($nominal)\",\"\")","v":"Revenue Forecast, $ ($nominal)"},null,null,null,null,null,null,null,"Revenue Forecast, $ ($2025-26)",null,null,null,null,null,null,null,"Cost Breakdown",null,null,null,null,null,"Operating Expenditure, $ ($2025-26)",null,null,null,null,null,null,null,"Capital Expenditure, $ ($2025-26)",null,null,null,null,null,null,null,"Network Overheads rate, $ ($2025-26)",null,null,null,null,null,null,null,"Network Overheads Capex, $ ($2025-26)",null,null,null,null,null,null,null,"Network Overheads Opex, $ ($2025-26)",null,null,null,null,null,null,null,"Corproate Overheads rate, $ ($2025-26)",null,null,null,null,null,null,null,"Corproate Overheads Opex, $ ($2025-26)"]
[]
[null,"Service code","Fee based service","Hours\n(List)","Product Code \n(List)","Unit Cost",null,"2023-24",{"$f":"D6","v":"2024-25"},{"$f":"E6","v":"2025-26"},"2026-27","2027-28","2028-29","2029-30","2030-31",null,{"$f":"I12","v":"2024-25"},{"$f":"J12","v":"2025-26"},"2026-27","2027-28","2028-29","2029-30","2030-31",null,{"$f":"I12","v":"2024-25"},"2025-26","2026-27","2027-28","2028-29","2029-30","2030-31",null,{"$f":"Y12","v":"2024-25"},"2025-26","2026-27","2027-28","2028-29","2029-30","2030-31",null,"Operating","Capital",null,"Operating","Capital",null,{"$f":"AG12","v":"2024-25"},{"$f":"AH12","v":"2025-26"},"2026-27","2027-28","2028-29","2029-30","2030-31",null,{"$f":"AU12","v":"2024-25"},{"$f":"AV12","v":"2025-26"},"2026-27","2027-28","2028-29","2029-30","2030-31",null,{"$f":"BC12","v":"2024-25"},{"$f":"BD12","v":"2025-26"},"2026-27","2027-28","2028-29","2029-30","2030-31",null,{"$f":"BK12","v":"2024-25"},{"$f":"BL12","v":"2025-26"},"2026-27","2027-28","2028-29","2029-30","2030-31",null,{"$f":"BS12","v":"2024-25"},{"$f":"BT12","v":"2025-26"},"2026-27","2027-28","2028-29","2029-30","2030-31",null,{"$f":"CA12","v":"2024-25"},{"$f":"CB12","v":"2025-26"},"2026-27","2027-28","2028-29","2029-30","2030-31",null,{"$f":"CI12","v":"2024-25"},{"$f":"CJ12","v":"2025-26"},"2026-27","2027-28","2028-29","2029-30","2030-31"]
[1,"ND1P","Basic connection, single-phase BH *","Business Hours","ND1PBH","Per connection",null,4764,{"$f":"H13*(1+D$7)","v":4830.2196000000004},4896.8766304800001,4981.3108511824685,5071.1678343551521,5160.6922009557256,5250.0979970471808,5339.5517200167051,null,668.16,690.46869842757724,872.33250420147192,901.61436373560798,933.63192076142411,968.68624484960651,1004.304268358938,null,{"$f":"I13*Q13","v":3227359.5279359999},{"$f":"J13*R13","v":3381140.0334079457},4345359.369017968,4572237.7603686014,4818186.9720367957,5085697.713852074,5362534.5835360857,null,3311270.8756623361,3381140.0334079457,4239374.9941638717,4351921.7231348976,4474165.5839345763,4607391.1231209254,4739699.1841126848,null,740.49339142792394,131.83911277354798,{"$f":"SUM(AO13:AP13)-S13","v":0},{"$f":"IFERROR(AO13/SUM($AO13:$AP13),0)","v":0.84886598614798525},{"$f":"IFERROR(AP13/SUM($AO13:$AP13),0)","v":0.15113401385201475},null,{"$f":"AG13*$AR13","v":2810825.2172722118},{"$f":"AH13*$AR13","v":2870134.7687632674},3598661.2350720242,3694198.3251477443,3797966.9805960003,3911057.6092975177,4023369.4219666151,null,{"$f":"AG13*$AS13","v":500445.6583901245},{"$f":"AH13*$AS13","v":511005.26464467804},640713.75909184758,657723.3979871535,676198.60333857592,696333.5138234077,716329.76214606955,{"$f":"SUM(AG13:AM13)-SUM(AU13:BA13,BC13:BI13)","v":0},null,null,104.69715188517655,105.57224791395591,106.65489031672254,107.96036623427953,109.20000527409276,null,null,null,{"$f":"BM13*K13*$AS13","v":78820.779992906755},{"$f":"BN13*L13*$AS13","v":80913.310371879779},83186.13513280316,85663.137268282982,88123.08114705664,null,null,null,{"$f":"BM13*K13*$AR13","v":442708.27878062229},{"$f":"BN13*L13*$AR13","v":454461.2774499412},467226.92551849521,481139.36525878805,494955.99484005861,null,null,null,200.54827511703627,202.22452892120796,204.29833955057001,206.79898965192154,209.17352866015489,null,null,null,{"$f":"CK13*K13","v":998993.29902641976},{"$f":"CL13*L13","v":1025514.526382853},1054320.8475868313,1085714.961362934,1116892.8747392935]
[{"$f":"IFERROR(A13+1,\"\")","v":2},"ND1P","Basic connection, single-phase AH *","After Hours","ND1PAH","Per connection",null,4,4.0556000000000001,4.11156728,4.1824608322270933,4.257907501557642,4.333074895848636,4.4081427347163569,4.4832508144556718,null,884.93,914.4762711020054,1230.2512393042891,1271.5474695920523,1316.7018562746434,1366.138998012171,1416.3711255012597,null,3588.9221079999998,3759.9307145994148,5145.4776221890297,5414.1315093626372,5705.3677587409566,6022.1356987000354,6349.9470019750188,null,3682.234082808,3759.9307145994148,5019.9781679892976,5153.2483134921004,5298.0011398473798,5455.7577193089191,5612.4278837888187,null,1098.4121265307413,131.83911277354798,{"$f":"SUM(AO14:AP14)-S14","v":0},{"$f":"IFERROR(AO14/SUM($AO14:$AP14),0)","v":0.8928356188057136},0.10716438119428628,null,{"$f":"AG14*$AR14","v":3287.6297459113698},3357.0000662359776,4482.0153140078974,4601.0036468362196,4730.2441261290114,4871.0948193732274,5010.9755226250318,null,394.60433689662966,402.93064836343694,537.96285398140003,552.24466665588034,567.75701371836783,584.66289993569092,601.45236116378646,{"$f":"SUM(AG14:AM14)-SUM(AU14:BA14,BC14:BI14)","v":0},null,null,147.65447835315283,148.88862699341422,150.41547845350772,152.2565922005262,154.00485614538087,null,null,null,{"$f":"BM14*K14*$AS14","v":66.180335846269287},67.937288305524561,69.845621438121881,71.925388134578483,73.990832197360731,null,null,null,{"$f":"BM14*K14*$AR14","v":551.37873656871557},566.01671346635146,581.91591219583381,599.24340258684208,616.45156454654659,null,null,null,282.83339531056663,285.19741741227483,288.12211422749959,291.6487830968091,294.99759738904913,null,null,null,{"$f":"CK14*K14","v":1182.9395979322469},1214.344223024591,1248.4547000980117,1285.6294642970656,1322.548218756921]
[{"$f":"IFERROR(A14+1,\"\")","v":3},"ND3P","Basic connection, three-phase BH *","Business Hours","ND3PBH","Per connection",null,2318,2350.2202000000002,2382.6532387600005,2423.7360522756012,2467.4573971526543,2511.0169021442853,2554.5187147681295,2598.0438469770625,null,822.02,849.46581579477527,1195.3470315990394,1235.4716213687054,1279.3449054267107,1327.3794358858004,1376.1863970711775,null,1931928.0088040002,2023982.4772193274,2897205.6954672141,3048473.5911183953,3212456.6811986528,3390815.6105686394,3575392.601204305,null,1982158.1370329044,2023982.4772193274,2826542.1419192334,2901581.050439877,2983085.3817662802,3071911.5887917331,3160126.0804617689,null,873.67599448696524,321.67103711207398,0,0.73089736402175332,0.26910263597824668,null,1448754.1574316192,1479323.4574258248,2065912.2008251683,2120757.941261976,2180329.2421847996,2245252.0827557538,2309727.8221859019,null,533403.9796012853,544659.01979350264,760629.94109406509,780823.10917790083,802756.1395814803,826659.50603597914,850398.25827586686,0,null,null,143.46528315757374,144.664417014592,146.14794924134881,147.93682762815644,149.63549051112611,null,null,null,93572.901146951146,96057.070148022394,98755.277482400037,101695.87609084947,104616.22381407993,null,null,null,254149.07789198792,260896.21571940891,268224.6932763519,276211.51868870301,284143.34159774584,null,null,null,274.80895667518371,277.10590766505584,279.94762612443577,283.37423772187321,286.62804076284334,null,null,null,666064.37578188651,683747.02166284248,702953.2209136273,723884.79354367801,744672.21767499577]
[4,"ND3P","Basic connection, three-phase AH *","After Hours","ND3PAH","Per connection",null,10,10.138999999999999,10.2789182,10.456152080567733,10.644768753894105,10.83268723962159,11.020356836790892,11.20812703613918,null,1038.81,1073.4940562343622,1553.265766701857,1605.4047272251501,1662.4148409399302,1724.8321890483651,1788.2532542134995,null,10532.494589999998,11034.357592219209,16241.183078174257,17089.162077720168,18008.420034407536,19008.266206896151,20042.969646014193,null,10806.339449339999,11034.357592219209,15845.056661633424,16265.710484445135,16722.608235546242,17220.551026662957,17715.064658057046,null,1231.5947295897829,321.67103711207398,0,0.79290663323180199,0.20709336676819803,null,8568.4182303361831,8749.2153283223051,12563.650530942894,12897.189737344615,13259.466994901375,13654.289136947777,14046.392275503697,null,2237.9212190038156,2285.1422638969029,3281.4061306905301,3368.5207471005206,3463.1412406448671,3566.261889715181,3668.6723825533504,0,null,null,186.42260962555008,187.98079609405039,189.90853737813404,192.23305359440315,194.44034138241426,null,null,null,403.67947000410317,414.39633368430702,426.03657240034511,438.7225025489621,451.32106908576321,null,null,null,1545.5836874969586,1586.6157709097797,1631.1832171509673,1679.7543438873086,1727.9909780786061,null,null,null,357.09407686871418,360.07879615612285,363.77140080136547,368.22403116676088,372.45210949173776,null,null,null,3733.8299748092199,3832.9555182625013,3940.6218116002228,4057.9602193393157,4174.4905580614159]
[5,"BTSO","Temporary connection, single-phase BH *","Business Hours","BTSOBH","Per connection",null,554,561.70060000000001,569.45206828000005,579.27082526345248,589.72018896573354,600.13087307503622,610.52776875821553,620.9302378021107,null,668.16,690.46869842757724,872.33250420147192,901.61436373560798,933.63192076142411,968.68624484960651,1004.304268358938,null,375305.87289599999,393188.82840218348,505316.76961292076,531700.19295638241,560301.33973727643,591409.85169480473,623602.8881777901,null,385063.82559129602,393188.82840218348,492991.97035406908,506079.89811434381,520295.49401758093,535788.13648383575,551174.086481618,null,740.49339142792394,131.83911277354798,0,0.84886598614798525,0.15113401385201475,null,326867.58404047129,333764.62256399042,418484.11507764517,429594.01178250439,441661.147617587,454812.32484274253,467872.93446043355,null,58196.241550824721,59424.205838193047,74507.855276423914,76485.886331839443,78634.346399993927,80975.811641093198,83301.152021184433,0,null,null,104.69715188517655,105.57224791395591,106.65489031672254,107.96036623427953,109.20000527409276,null,null,null,9165.9765147082999,9409.3144303151548,9673.6185691798819,9961.6662566391224,10247.730259334465,null,null,null,51482.029060550951,52848.771559040186,54333.273874317041,55951.135254695349,57557.854983499696,null,null,null,200.54827511703627,202.22452892120796,204.29833955057001,206.79898965192154,209.17352866015489,null,null,null,116171.76483220751,119255.8874089212,122605.74088226378,126256.52573364097,129882.16889285659]
[6,"BTSO","Temporary connection, single-phase AH *","After Hours","BTSOAH","Per connection",null,1,1.0139,1.02789182,1.0456152080567733,1.0644768753894105,1.083268723962159,1.1020356836790892,1.1208127036139179,null,884.93,914.4762711020054,1230.2512393042891,1271.5474695920523,1316.7018562746434,1366.138998012171,1416.3711255012597,null,897.23052699999994,939.98267864985371,1286.3694055472574,1353.5328773406593,1426.3419396852391,1505.5339246750088,1587.4867504937547,null,920.55852070200001,939.98267864985371,1254.9945419973244,1288.3120783730251,1324.500284961845,1363.9394298272298,1403.1069709472047,null,1098.4121265307413,131.83911277354798,0,0.8928356188057136,0.10716438119428628,null,821.90743647784245,839.25001655899439,1120.5038285019743,1150.2509117090549,1182.5610315322529,1217.7737048433069,1252.7438806562579,null,98.651084224157415,100.73266209085924,134.49071349535001,138.06116666397008,141.93925342959196,146.16572498392273,150.36309029094662,0,null,null,147.65447835315283,148.88862699341422,150.41547845350772,152.2565922005262,154.00485614538087,null,null,null,16.545083961567322,16.98432207638114,17.46140535953047,17.981347033644621,18.497708049340183,null,null,null,137.84468414217889,141.50417836658787,145.47897804895845,149.81085064671052,154.11289113663665,null,null,null,282.83339531056663,285.19741741227483,288.12211422749959,291.6487830968091,294.99759738904913,null,null,null,295.73489948306172,303.58605575614774,312.11367502450292,321.40736607426641,330.63705468923024]
[7,"BTSP","Temporary connection, three-phase BH *","Business Hours","BTSPBH","Per connection",null,12,12.1668,12.334701840000001,12.547382496681282,12.773722504672929,12.99922468754591,13.224428204149072,13.449752443367018,null,822.02,849.46581579477527,1195.3470315990394,1235.4716213687054,1279.3449054267107,1327.3794358858004,1376.1863970711775,null,10001.352935999999,10477.907561100916,14998.476421745714,15781.571653762185,16630.491878508987,17553.834049535664,18509.36635653652,null,10261.388112336001,10477.907561100916,14632.659923654357,15021.127094598154,15443.064961689111,15902.907275884727,16359.582815160147,null,873.67599448696524,321.67103711207398,0,0.73089736402175332,0.26910263597824668,null,7500.0215225105376,7658.2750168722578,10694.97256682572,10978.902198077529,11287.29547291527,11623.393008226509,11957.175956096125,null,2761.3665898254626,2819.6325442286584,3937.6873568286373,4042.2248965206254,4155.7694887738407,4279.5142676582182,4402.4068590640209,0,null,null,143.46528315757374,144.664417014592,146.14794924134881,147.93682762815644,149.63549051112611,null,null,null,484.4153640049239,497.27560042116858,511.24388688041427,526.4670030587547,541.58528290291599,null,null,null,1315.6984187678406,1350.6275188235147,1388.5661429319337,1429.912952659377,1470.9750212135248,null,null,null,274.80895667518371,277.10590766505584,279.94762612443577,283.37423772187321,286.62804076284334,null,null,null,3448.1330929174446,3539.6739689189421,3639.1020927366376,3747.4622616583843,3855.0761915875532]
[8,"BTSP","Temporary connection, three-phase AH *","After Hours","BTSPAH","Per connection",null,0,0,0,0,0,0,0,0,null,1038.81,1073.4940562343622,1553.265766701857,1605.4047272251501,1662.4148409399302,1724.8321890483651,1788.2532542134995,null,0,0,0,0,0,0,0,null,0,0,0,0,0,0,0,null,1231.5947295897829,321.67103711207398,0,0.79290663323180199,0.20709336676819803,null,0,0,0,0,0,0,0,null,0,0,0,0,0,0,0,0,null,null,186.42260962555008,187.98079609405039,189.90853737813404,192.23305359440315,194.44034138241426,null,null,null,0,0,0,0,0,null,null,null,0,0,0,0,0,null,null,null,357.09407686871418,360.07879615612285,363.77140080136547,368.22403116676088,372.45210949173776,null,null,null,0,0,0,0,0]
[9,"SUTK","Supply upgrade/enhancement (1ph to 3ph) BH *","Business Hours","SUTKBH","Per connection",null,657,666.13229999999999,675.32492574000003,686.9691916933001,699.36130713084276,711.70755164313846,724.03744417716155,736.37394627434401,null,822.02,849.46581579477527,1195.3470315990394,1235.4716213687054,1279.3449054267107,1327.3794358858004,1376.1863970711775,null,547574.07324599999,573665.43897027511,821166.58409057779,864041.04804347944,910519.43034836685,961072.41421207739,1013387.8080203743,null,561810.99915039598,573665.43897027511,801138.13082007598,822406.70842924877,845507.80665247876,870684.17335468857,895687.15913001786,null,873.67599448696524,321.67103711207398,0,0.73089736402175332,0.26910263597824668,null,410626.17835745192,419290.55717375607,585549.74803370808,601094.89534474455,617979.427142111,636380.76720040117,654655.38359626278,null,151184.82079294405,154374.88179651904,215588.38278636787,221311.81308450419,227528.37951036778,234303.4061542874,241031.77553375511,0,null,null,143.46528315757374,144.664417014592,146.14794924134881,147.93682762815644,149.63549051112611,null,null,null,26521.741179269578,27225.839123058973,27990.602806702678,28824.068417466813,29651.794238934639,null,null,null,72034.488427539269,73946.856655587413,76023.99632552336,78287.734158100866,80535.882411440442,null,null,null,274.80895667518371,277.10590766505584,279.94762612443577,283.37423772187321,286.62804076284334,null,null,null,188785.28683723009,193797.14979831208,199240.83957733089,205173.55882579647,211065.42148941848]
[10,"SUTK","Supply upgrade/enhancement (1ph to 3ph) AH *","After Hours","SUTKAH","Per connection",null,6,6.0834000000000001,6.1673509200000005,6.2736912483406408,6.3868612523364643,6.4996123437729549,6.6122141020745362,6.724876221683509,null,1038.81,1073.4940562343622,1553.265766701857,1605.4047272251501,1662.4148409399302,1724.8321890483651,1788.2532542134995,null,6319.4967539999998,6620.6145553315264,9744.7098469045559,10253.497246632101,10805.052020644524,11404.959724137692,12025.781787608517,null,6483.8036696039999,6620.6145553315264,9507.0339969800552,9759.426290667081,10033.564941327746,10332.330615997776,10629.03879483423,null,1231.5947295897829,321.67103711207398,0,0.79290663323180199,0.20709336676819803,null,5141.0509382017108,5249.5291969933842,7538.1903185657375,7738.3138424067693,7955.6801969408261,8192.5734821686674,8427.8353653022205,null,1342.7527314022896,1371.0853583381422,1968.8436784143182,2021.1124482603122,2077.8847443869204,2139.7571338291091,2201.2034295320109,0,null,null,186.42260962555008,187.98079609405039,189.90853737813404,192.23305359440315,194.44034138241426,null,null,null,242.20768200246195,248.63780021058426,255.62194344020713,263.23350152937735,270.79264145145794,null,null,null,927.35021249817544,951.96946254586794,978.70993029058059,1007.8526063323853,1036.7945868471636,null,null,null,357.09407686871418,360.07879615612285,363.77140080136547,368.22403116676088,372.45210949173776,null,null,null,2240.2979848855321,2299.7733109575011,2364.3730869601341,2434.7761316035899,2504.69433483685]
[11,"RTK1","Replacement of 1-phase overhead service line BH *","Business Hours","RTK1BH","Per connection",null,51,51.7089,52.422482819999999,53.32637561089544,54.288320644859937,55.246704922070109,56.203819867633548,57.161447884309815,null,801.33,828.08501273792285,908.25697194742463,938.74471938933561,972.08082603830394,1008.5787601364273,1045.6636079708558,null,41435.892836999999,43410.272353753244,48434.052437282888,50962.874329877319,53704.262556540343,56685.978957028943,59771.645831545444,null,42513.226050762001,43410.272353753244,47252.734085154043,48507.197458538794,49869.746573882883,51354.699187225706,52829.425445688954,null,779.92681513415073,128.33015681327399,0,0.85870721527398031,0.14129278472601969,null,36506.413954363074,37276.7140871765,40576.26370034452,41653.480450366944,42823.511206878087,44098.650730295529,45365.008808991915,null,6006.8120963989277,6133.5582665767415,6676.4703848095232,6853.7170081718514,7046.2353670047924,7256.0484569301798,7464.4166366970367,0,null,null,109.00879846245859,109.91993276667658,111.04716063644263,112.40639876882884,113.69708872384689,null,null,null,821.34119310334756,843.14612066465031,866.82978125541877,892.64104434438616,918.27455419472096,null,null,null,4991.7029385981195,5124.2224346341345,5268.1599348598456,5425.0279440282548,5580.8156574912027,null,null,null,208.80727040409539,210.55255582801294,212.71177029445192,215.31540237054043,217.78772983627354,null,null,null,11134.934931854601,11430.544663385939,11751.624406908744,12101.548089560891,12449.061968878295]
[12,"RTK1","Replacement of 1-phase overhead service line AH *","After Hours","RTK1AH","Per connection",null,2,2.0278,2.05578364,2.0912304161135467,2.128953750778821,2.166537447924318,2.2040713673581784,2.2416254072278359,null,1018.1,1052.0925854123509,1266.1757070502422,1308.67782524578,1355.1507615515231,1406.0315132989917,1457.7304651131774,null,2064.5031800000002,2162.8747248560135,2647.8651507275422,2786.1145646180739,2935.9848724845328,3098.9938000655975,3267.6856474877491,null,2118.1802626800004,2162.8747248560135,2583.2830738805292,2651.8639520457577,2726.3538230584309,2807.5354313998705,2888.1579700921279,null,1137.8455502369679,128.33015681327399,0,0.89864743408145176,0.10135256591854817,null,1903.4972579793578,1943.6618217314824,2321.4607058487827,2383.0907360390183,2450.030867489615,2522.9845115202552,2595.4357490451848,null,214.68300470064241,219.21290312453084,261.82236803174607,268.77321600673935,276.32295556881542,284.55091987961498,292.72222104694271,0,null,null,151.96612493043489,153.23631184613492,154.80774877322781,156.70262473507552,158.50193959513498,null,null,null,32.209458553072459,33.064553751554918,33.993324755114465,35.005531150760248,36.010766831165519,null,null,null,285.58672412036412,293.16846710878707,301.40346019094346,310.37823721769314,319.29120806018074,null,null,null,291.09239059762575,293.52544431907984,296.53554497138151,300.16519581542798,303.61179856516782,null,null,null,608.74126111696,624.902095632125,642.45536282114369,661.58551357424574,680.58392159781999]
[13,"REEN","Field-based energisation BH","Business Hours","REENBH","Per connection",null,1775,1799.6725000000001,1824.5079805000003,1855.966994300773,1889.4464538162042,1922.8019850328328,1956.113338530384,1989.4425489147052,null,58.64,60.597887445811075,159.8233370499355,165.18817727225081,171.05423497777764,177.47667026113524,184.00238304721947,null,105532.7954,110561.32924632309,296626.83848368819,312114.21575941681,328903.42256354349,347164.48197576537,366062.16993584024,null,108276.6480804,110561.32924632309,289392.03754506167,297074.80381622066,305419.52444199572,314513.88629751751,323545.618429436,null,159.8233370499355,0,0,1,0,null,108276.6480804,110561.32924632309,289392.03754506167,297074.80381622066,305419.52444199572,314513.88629751751,323545.618429436,null,0,0,0,0,0,0,0,0,null,null,19.54119776726062,19.704530047612202,19.906599816681826,20.150260342551288,20.381632745723959,null,null,null,0,0,0,0,0,null,null,null,36267.818085139668,37230.654422575717,38276.449642770043,39416.193030924398,40548.087400696495,null,null,null,37.431328697871294,37.744193054786813,38.131259397189858,38.597993184091941,39.041188968604324,null,null,null,69471.310616072456,71315.631719521145,73318.86126071852,75502.049307907087,77670.202494360856]
[14,"REEN","Field-based energisation AH","After Hours","REENAH","Per connection",null,926,938.87139999999999,951.82782531999999,968.23968266057204,985.7055866105942,1003.1068383889593,1020.4850430868366,1037.8725635464882,null,102.36,105.77762208310405,227.38851345930226,235.021335208718,243.36726369542873,252.50477789596741,261.78923007347652,null,96102.876504,100682.08399488173,220166.58211249404,231661.84308791446,244123.36645289368,257677.34915079843,271703.85932522046,null,98601.551293103999,100682.08399488173,214796.66547560395,220499.07729962116,226692.81427990305,233442.9606134574,240146.62102464915,null,227.38851345930223,0,0,1,0,null,98601.551293103999,100682.08399488173,214796.66547560395,220499.07729962116,226692.81427990305,233442.9606134574,240146.62102464915,null,0,0,0,0,0,0,0,0,null,null,27.802222088025296,28.034602947508038,28.322097535294365,28.668765336060268,28.997950220971674,null,null,null,0,0,0,0,0,null,null,null,26919.21469176836,27633.864743768503,28410.089715172868,29256.04622921587,30096.176933433326,null,null,null,53.255390273550212,53.700517764607369,54.251216065830164,54.915261154262623,55.54581757031476,null,null,null,51563.98217842717,52932.900364454945,54419.765826551215,56040.20264513258,57649.480075988147]
[15,"DEEN","Field-based de-energisation BH","Business Hours","DEENBH","Per connection",null,616,624.56240000000003,633.18136112000002,644.09896816297237,655.71775523987696,667.29353396069007,678.85398114631903,690.42062542617361,null,84.09,86.897618610474993,175.23821824247068,181.12049463005692,187.55233067727235,194.59420664236703,201.74932117384631,null,52519.452216000005,55021.952429867204,112870.75555269312,118763.92416675712,125152.45754020101,132101.05188718034,139291.89250415293,null,53884.957973616009,55021.952429867204,110117.81029531038,113041.21277026259,116216.49834698954,119677.03313591689,123113.7364190395,null,175.23821824247068,0,0,1,0,null,53884.957973616009,55021.952429867204,110117.81029531038,113041.21277026259,116216.49834698954,119677.03313591689,123113.7364190395,null,0,0,0,0,0,0,0,0,null,null,21.425936551359726,21.605022148736211,21.82658144630841,22.093742908442362,22.347431064570586,null,null,null,0,0,0,0,0,null,null,null,13800.423624656114,14166.796625277131,14564.736667587969,14998.425331819351,15429.127332269125,null,null,null,41.041561692669418,41.384601660858308,41.809000359048092,42.320750387047617,42.806692184059763,null,null,null,26434.827538045345,27136.618102554494,27898.875600952961,28729.609885346897,29554.623190144241]
[16,"DCTK","Disconnection (temporary) BH","Business Hours","DCTKBH","Per connection",null,899,911.49610000000007,924.07474618000015,940.00807204303942,956.96471097508038,973.85858284198127,990.73007962750148,1007.6106205489126,null,434.84,449.35855008418292,496.31282728826193,512.97271606192191,531.18907756835495,551.13320508061668,571.39804889326138,null,396354.96412399999,415240.88811285421,466538.06390946911,490896.7869642991,517303.04230185744,546024.24415487947,575746.74262577703,null,406660.19319122401,415240.88811285421,455159.08674094552,467242.62887738168,480367.30034849868,494671.01606841182,508876.22704700608,null,496.31282728826187,0,0,1,0,null,406660.19319122401,415240.88811285421,455159.08674094552,467242.62887738168,480367.30034849868,494671.01606841182,508876.22704700608,null,0,0,0,0,0,0,0,0,null,null,60.682922103159179,61.190131546692477,61.817635766336551,62.574295255025824,63.29279540459553,null,null,null,0,0,0,0,0,null,null,null,57042.4366121286,58556.796550107712,60201.635162046288,61994.236520646526,63774.492853899865,null,null,null,116.23864773510715,117.21021169068861,118.41220130179377,119.86158891717032,121.23788199747844,null,null,null,109265.26715436808,112166.03635390781,115316.73855096429,118750.481532187,122160.57751351509]
[17,"DCTK","Disconnection (temporary) AH","After Hours","DCTKAH","Per connection",null,49,{"$f":"H29*(1+D$7)","v":49.681100000000001},50.366699180000005,51.2351451947819,52.159366894081124,53.080167474145803,53.999748500275381,54.919822477081993,null,615.51,636.06080664684816,793.5996034894755,820.23861098237739,849.36640392601964,881.25687867387796,913.66017580879236,null,30579.213861,32036.283308569949,40660.19091130462,42783.126650921302,45084.510967306094,47587.649812527103,50178.054659798399,null,31374.273421386002,32036.283308569949,39668.47893785817,40721.595860484289,41865.450325845391,43112.062032163863,44350.088754967517,null,793.5996034894755,0,0,1,0,null,31374.273421386002,32036.283308569949,39668.47893785817,40721.595860484289,41865.450325845391,43112.062032163863,44350.088754967517,null,0,0,0,0,0,0,0,0,null,null,97.031429114523746,97.842452306234151,98.845825728231716,100.05571722646533,101.20459229568547,null,null,null,0,0,0,0,0,null,null,null,4971.4193591398116,5103.4003676575012,5246.7529837747697,5402.983566243799,5558.138242744506,null,null,null,185.86451866809441,187.41804041389906,189.34001064381113,191.65756798592133,193.85824784500437,null,null,null,9522.7956005180677,9775.6063325182859,10050.199474530044,10349.460469414182,10646.660557365803]
[18,"RCTK","Reconnection after temp discon BH","Business Hours","RCTKBH","Per connection",null,964,977.39960000000008,990.88771448000011,1007.9730605667296,1026.155707875392,1044.2710498995216,1062.3623990666422,1080.4634462838171,null,503.82,520.6416721171305,575.34070047337491,594.65334272204871,615.77029479933231,638.89012499983301,662.38173914539846,null,492433.46647200006,515897.43654718902,579927.92672475381,610206.92184141197,643031.09224703663,678732.84593480953,715679.25663250557,null,505236.73660027207,515897.43654718902,565783.34314610134,580803.73286511551,597118.29346368089,614898.45942141337,632556.17952783185,null,575.3407004733748,0,0,1,0,null,505236.73660027207,515897.43654718902,565783.34314610134,580803.73286511551,597118.29346368089,614898.45942141337,632556.17952783185,null,0,0,0,0,0,0,0,0,null,null,70.345461551661501,70.933433936182738,71.660855629578407,72.537997980746098,73.370904882633525,null,null,null,0,0,0,0,0,null,null,null,70906.330177207448,72788.748112815942,74833.356944997882,77061.641558316667,79274.580746452368,null,null,null,134.74732332709164,135.8735893754891,137.26697174804121,138.94714529996082,140.54258547668877,null,null,null,135821.67189718323,139427.45928717536,143343.92470385498,147612.2226243277,151851.12625378108]
[19,"RCTK","Reconnection after temp discon AH","After Hours","RCTKAH","Per connection",null,390,395.42099999999999,400.87780980000002,407.7899311421416,415.14598140187013,422.47480234524204,429.79391663484483,437.11695440942805,null,717.35,741.30106683582164,926.67961780208179,957.78576399167787,991.79804413111788,1029.0362847009599,1066.873343681935,null,283655.25435,297171.14807554759,377890.61753433704,397620.91096506506,419009.68266069167,442273.5351609948,466348.42673085042,null,291030.29096310004,297171.14807554759,368673.77320423129,378461.30728382163,389092.1444883892,400677.9943569703,412184.05648601486,null,926.67961780208179,0,0,1,0,null,291030.29096310004,297171.14807554759,368673.77320423129,378461.30728382163,389092.1444883892,400677.9943569703,412184.05648601486,null,0,0,0,0,0,0,0,0,null,null,113.3027880196378,114.24981301564108,115.42144376636361,116.83422394699279,118.17575575392165,null,null,null,0,0,0,0,0,null,null,null,46203.736124740768,47430.350749358469,48762.651641596938,50214.638707170612,51656.626440186672,null,null,null,217.03244352062202,218.846477866556,221.0907464249708,223.79693874484838,226.36665420558305,null,null,null,88503.645198885191,90853.235830254038,93405.269396251562,96186.562834036842,98948.702466196613]
[20,"SLOM","Security Lighting - O&M","Business Hours","SLOM","$/light/annum",null,232,235.22480000000002,238.47090224000002,242.58272826917144,246.95863509034328,251.31834395922093,255.67227861354874,260.02854723842904,null,161.47999999999999,166.87153589272802,173.00081145970739,178.80798411010852,185.15769975150158,192.10966644220568,199.17342589175857,null,37984.100703999997,39794.005722513401,41967.008836676359,44158.175699088191,46533.526472846032,49117.116162967526,51790.776583134888,null,38971.687322304002,39794.005722513401,40943.423255294016,42030.387340000663,43211.005270703361,44497.683058544892,45775.49994163034,null,173.00081145970739,0,0,1,0,null,38971.687322304002,39794.005722513401,40943.423255294016,42030.387340000663,43211.005270703361,44497.683058544892,45775.49994163034,null,0,0,0,0,0,0,0,0,null,null,20.763518665667547,20.937067538780536,21.151776968152042,21.410678696553422,21.656523668249321,null,null,null,0,0,0,0,0,null,null,null,5036.8710063854996,5170.5896221715739,5315.8295594307619,5474.1170090103788,5631.3143876895247,null,null,null,39.772694660565854,40.105128986854751,40.516406704887075,41.012335143443458,41.483253254700976,null,null,null,9648.168781376773,9904.3079147158114,10182.516236250494,10485.717177386712,10786.830078543728]
[21,"RFOM","Enhanced Connection Operation and Maintenance","Business Hours","RFOM","$/kVA/annum",null,60697.225000000006,61540.916427500008,62390.181074199507,63465.941546843795,64610.792412808027,65751.405473794075,66890.507850298527,68030.220854112311,null,15.38,15.893511407172142,16.174377,16.717307399916379,17.310961809743283,17.960922519165035,18.621335076830928,null,946499.29465495015,991599.05459832528,1026522.0652386147,1080118.4781170967,1138220.0690937948,1201415.2287668122,1266813.5378752365,null,971108.27631597896,991599.05459832528,1001484.9416962095,1028072.3170656484,1056950.4856575336,1088422.9011735385,1119678.5770528091,null,16.174377,0,0,1,0,null,971108.27631597896,991599.05459832528,1001484.9416962095,1028072.3170656484,1056950.4856575336,1088422.9011735385,1119678.5770528091,null,0,0,0,0,0,0,0,0,null,null,1.9776004277803252,1.9941299154473908,2.0145796988492597,2.0392385332734189,2.0626537900524808,null,null,null,0,0,0,0,0,null,null,null,125510.2731525194,128842.31401114179,132461.44663831164,136405.70111855687,140322.79288284207,null,null,null,3.788110254393751,3.8197726270610985,3.8589443591848109,3.9061785639469933,3.9510306852693899,null,null,null,240415.98397835338,246798.536271171,253731.01526157095,261286.26789636418,268789.49012025131]
[22,"REENRM","Remote energisation","Business Hours","REENRM","Per connection",null,0,0,0,0,0,0,0,0,null,0,0,0,0,0,0,0,null,0,0,0,0,0,0,0,null,0,0,0,0,0,0,0,null,0,0,0,0,0,null,0,0,0,0,0,0,0,null,0,0,0,0,0,0,0,0,null,null,0,0,0,0,0,null,null,null,0,0,0,0,0,null,null,null,0,0,0,0,0,null,null,null,0,0,0,0,0,null,null,null,0,0,0,0,0]
[23,"DEENRM","Remote de-energisation","Business Hours","DEENRM","Per connection",null,0,0,0,0,0,0,0,0,null,0,0,0,0,0,0,0,null,0,0,0,0,0,0,0,null,0,0,0,0,0,0,0,null,0,0,0,0,0,null,0,0,0,0,0,0,0,null,0,0,0,0,0,0,0,0,null,null,0,0,0,0,0,null,null,null,0,0,0,0,0,null,null,null,0,0,0,0,0,null,null,null,0,0,0,0,0,null,null,null,0,0,0,0,0]
[24,"MCTK","Meter Alteration BH","Business Hours","MCTKBH","Per connection",null,949,962.19110000000001,975.46933718000003,992.28883244587792,1010.1885547445506,1028.0220190400889,1045.8318638114556,1063.6512557296082,null,559.26,577.93271713752222,637.0002252435155,658.38261215327316,681.76267759731127,707.36027052476015,733.36949165190606,null,538114.99458599999,563755.64452077518,632088.20977464924,665090.57944005704,700867.04432976514,739779.91010908538,780049.38070933428,null,552105.98444523604,563755.64452077518,616671.42417038954,633042.7882832191,650824.72449768533,670204.08657323057,689449.98968709353,null,637.00022524351562,0,0,1,0,null,552105.98444523604,563755.64452077518,616671.42417038954,633042.7882832191,650824.72449768533,670204.08657323057,689449.98968709353,null,0,0,0,0,0,0,0,0,null,null,77.884416688057897,78.535402340678743,79.340782148084713,80.311928244310366,81.234098158020004,null,null,null,0,0,0,0,0,null,null,null,77283.83690112122,79335.564586812063,81564.07105609389,83992.773602039,86404.750513840234,null,null,null,149.18825530628413,150.43522379977506,151.97793559547412,153.8381741117835,155.60459833851053,null,null,null,148037.83967251022,151967.9413129678,156236.6642004039,160888.86435667775,165509.02642005804]
[25,"MCTK","Meter Alteration AH","After Hours","MCTKAH","Per connection",null,15,15.208500000000001,15.418377300000001,15.684228120851602,15.96715313084116,16.249030859432388,16.53053525518634,16.812190554208772,null,772.78,798.58177797363373,988.33914257222261,1021.5150334229024,1057.7904269290971,1097.5064302258875,1137.8610961884428,null,11752.824630000001,12312.835157702315,15501.336572869614,16310.686964119808,17188.069289983057,18142.368737642741,19129.93757334098,null,12058.398070380003,12312.835157702315,15123.255193043527,15524.746664242532,15960.831017526092,16436.090656062355,16908.077345899823,null,988.33914257222261,0,0,1,0,null,12058.398070380003,12312.835157702315,15123.255193043527,15524.746664242532,15960.831017526092,16436.090656062355,16908.077345899823,null,0,0,0,0,0,0,0,0,null,null,120.84174315603421,121.8517814201371,123.10137028486992,124.60815421055706,126.03894902930813,null,null,null,0,0,0,0,0,null,null,null,1895.3094661805983,1945.6260532011147,2000.2779645972644,2059.8394862613095,2118.9908283329351,null,null,null,231.47337549981452,233.40811229084198,235.80171027240374,238.68796755667105,241.42866706740477,null,null,null,3630.4812252426332,3726.8630709284425,3831.5492669232235,3945.6398626843243,4058.9447559858372]
[26,"SPRDRM","Remote special meter read","Business Hours","SPRDRM","Per connection",null,0,0,0,0,0,0,0,0,null,0,0,0,0,0,0,0,null,0,0,0,0,0,0,0,null,0,0,0,0,0,0,0,null,0,0,0,0,0,null,0,0,0,0,0,0,0,null,0,0,0,0,0,0,0,0,null,null,0,0,0,0,0,null,null,null,0,0,0,0,0,null,null,null,0,0,0,0,0,null,null,null,0,0,0,0,0,null,null,null,0,0,0,0,0]
[27,"MECFRM","Remote meter reconfiguration","Business Hours","MECFRM","Per connection",null,5973,6056.0246999999999,6139.5978408600004,6245.4596377231073,6358.1203767009501,6470.364088225977,6582.4591386152006,6694.6142786859327,null,59.13,61.10424769220343,65.77015975481676,67.977887393306119,70.391874984510835,73.034821893255611,75.720269340274612,null,358092.74051100004,375155.50719842681,410764.87811530876,432211.5910004623,455461.06000267138,480748.73080839391,506917.99631134706,null,367403.15176428604,375155.50719842681,400746.2225515208,411385.21451560961,422940.87201536499,435534.62266252824,448041.64450620941,null,65.77015975481676,0,0,1,0,null,367403.15176428604,375155.50719842681,400746.2225515208,411385.21451560961,422940.87201536499,435534.62266252824,448041.64450620941,null,0,0,0,0,0,0,0,0,null,null,8.0415521454894954,8.1087662981290798,8.1919216197400644,8.2921922811352164,8.3874061604122332,null,null,null,0,0,0,0,0,null,null,null,50223.189349300301,51556.512230040433,53004.715461928092,54583.016860112934,56150.449042634093,null,null,null,15.403660777805321,15.532410052571699,15.691694770595117,15.883764065944202,16.066147052609868,null,null,null,96202.94166096166,98756.932854530794,101530.978327062,104554.22793148215,107556.65746186994]
[28,"SPRD","Field-based special meter reads ","Business Hours","SPRDBH","Per connection",null,329,333.57310000000001,338.17640878000003,344.00740345067845,350.21289200311611,356.39541018355038,362.56973993042044,368.74737948897911,null,56.51,58.396770456391266,199.83009383434376,206.53785344454744,213.87229460545782,221.90238501032383,230.06160519962415,null,18850.215881,19748.410117292402,68743.031711258023,72332.21896293071,76223.104162809264,80455.090023133132,84834.614038389496,null,19340.321493906002,19748.410117292402,67066.372401227345,68846.847317483131,70780.729624059342,72888.340683879782,74981.43735552908,null,199.83009383434373,0,0,1,0,null,19340.321493906002,19748.410117292402,67066.372401227345,68846.847317483131,70780.729624059342,72888.340683879782,74981.43735552908,null,0,0,0,0,0,0,0,0,null,null,24.432723377857503,24.636940768829863,24.889592363143972,25.194245655003392,25.483534878280132,null,null,null,0,0,0,0,0,null,null,null,8405.0377284454498,8628.1742767613814,8870.5364795640598,9134.6710948777054,9396.986706481799,null,null,null,46.801087151013171,47.192267281236056,47.676223535374021,48.259789478582682,48.813925419183292,null,null,null,16099.92046948895,16527.340404745712,16991.587242892263,17497.539320346565,18000.007080894306]
[29,"MTAL","Meter test of types 5, 6 and AMI smart metering installations BH","Business Hours","MTALBH","Per connection",null,87,88.209299999999999,89.426588339999995,90.968523100939279,92.609488158878719,94.244378984707836,95.87710448008076,97.510705214410862,null,609.13,629.46778956116816,1336.0848402478655,1380.9336203052353,1429.972458544014,1483.6624801513472,1538.2158769595655,null,53730.930909000002,56291.156890376333,121541.66465490272,127887.55575785521,134766.86632071648,142249.26262264646,149992.51493433068,null,55127.935112634004,56291.156890376333,118577.23380966121,121725.21666422865,125144.43267691786,128870.81119527623,132571.52743404268,null,1336.0848402478655,0,0,1,0,null,55127.935112634004,56291.156890376333,118577.23380966121,121725.21666422865,125144.43267691786,128870.81119527623,132571.52743404268,null,0,0,0,0,0,0,0,0,null,null,163.35973568719129,164.72515445349248,166.41440935274389,168.45135302311223,170.38557092918771,null,null,null,0,0,0,0,0,null,null,null,14860.593889623595,15255.11224083018,15683.622663556303,16150.6279736079,16614.417179665117,null,null,null,312.9169478418226,315.5324189741649,318.76820094318555,322.66998367793417,326.37499434708155,null,null,null,28465.592598424249,29221.295818730283,30042.111137963082,30936.663737675248,31825.055863133282]
[30,"MTAL","Meter test of types 5, 6 and AMI smart metering installations AH","After Hours","MTALAH","Per connection",null,0,0,0,0,0,0,0,0,null,826.97,854.58108767159592,2146.8669571602663,2218.9315155428412,2297.7288031558269,2383.9997717693327,2471.6580412746503,null,0,0,0,0,0,0,0,null,0,0,0,0,0,0,0,null,2146.8669571602663,0,0,1,0,null,0,0,0,0,0,0,0,null,0,0,0,0,0,0,0,0,null,null,262.49202753636735,264.68602925224246,267.40038197609431,270.67341294521992,273.78138063216022,null,null,null,0,0,0,0,0,null,null,null,0,0,0,0,0,null,null,null,502.80568674996971,507.00831549201166,512.20768096686936,518.47719931998245,524.43053756760685,null,null,null,0,0,0,0,0]
[31,"MDCH","Type 7 metering","Business Hours","MDCH","Per connection",null,0,0,0,0,0,0,0,0,null,1.71,1.7670939210835084,0,0,0,0,0,null,0,0,0,0,0,0,0,null,0,0,0,0,0,0,0,null,0,0,0,0,0,null,0,0,0,0,0,0,0,null,0,0,0,0,0,0,0,0,null,null,0,0,0,0,0,null,null,null,0,0,0,0,0,null,null,null,0,0,0,0,0,null,null,null,0,0,0,0,0,null,null,null,0,0,0,0,0]
[32,"NCUM","Non-contestable unmetered loads","Business Hours","NCUM","$/unmetered install/annum",null,0,0,0,0,0,0,0,0,null,19.64,20.29574538601176,0,0,0,0,0,null,0,0,0,0,0,0,0,null,0,0,0,0,0,0,0,null,0,0,0,0,0,null,0,0,0,0,0,0,0,null,0,0,0,0,0,0,0,0,null,null,0,0,0,0,0,null,null,null,0,0,0,0,0,null,null,null,0,0,0,0,0,null,null,null,0,0,0,0,0,null,null,null,0,0,0,0,0]
[33,"WSVR","Wasted site attendance BH (1),(2)","Business Hours","WSVRBH","Per connection",null,1073,1087.9147,1102.9279228600001,1121.9451182449179,1142.1836872928377,1162.3473408113969,1182.4842885876631,1202.6320309777343,null,559.26,577.93271713752222,637.0002252435155,658.38261215327316,681.76267759731127,707.36027052476015,733.36949165190606,null,{"$f":"I45*Q45","v":608427.17512200004},637418.13126532338,714679.2930328754,751993.87959871581,792445.03536969249,836442.40626664786,881973.64120244037,null,624246.28167517204,637418.13126532338,697248.09076378099,715758.60045088956,735863.99303057592,757775.5372951281,779536.18433535472,null,637.00022524351562,0,0,1,0,null,624246.28167517204,637418.13126532338,697248.09076378099,715758.60045088956,735863.99303057592,757775.5372951281,779536.18433535472,null,{"$f":"AG45*$AS45","v":0},0,0,0,0,0,0,0,null,null,77.884416688057897,78.535402340678743,79.340782148084713,80.311928244310366,81.234098158020004,null,null,null,0,0,0,0,0,null,null,null,87382.041090519575,89701.855428502997,92221.547147722609,94967.593335076788,97694.728452424228,null,null,null,149.18825530628413,150.43522379977506,151.97793559547412,153.8381741117835,155.60459833851053,null,null,null,167381.03474036197,171824.65861835034,176651.14930140509,181911.22387219736,187135.07412931751]
[34,"WSVR","Wasted site attendance AH (1),(2)","After Hours","WSVRAH","Per connection",null,0,0,0,0,0,0,0,0,null,772.78,798.58177797363373,988.33914257222261,1021.5150334229024,1057.7904269290971,1097.5064302258875,1137.8610961884428,null,0,0,0,0,0,0,0,null,0,0,0,0,0,0,0,null,988.33914257222261,0,0,1,0,null,0,0,0,0,0,0,0,null,0,0,0,0,0,0,0,0,null,null,120.84174315603421,121.8517814201371,123.10137028486992,124.60815421055706,126.03894902930813,null,null,null,0,0,0,0,0,null,null,null,0,0,0,0,0,null,null,null,231.47337549981452,233.40811229084198,235.80171027240374,238.68796755667105,241.42866706740477,null,null,null,0,0,0,0,0]
[35,"RTK3","Replacement of 3-phase overhead service line BH *","Business Hours","RTK3BH","Per connection",null,101,102.40390000000001,103.81707382,105.60713601373411,107.51216441433047,109.41014112017807,111.30560405158802,113.20208306500572,null,889.37,919.06451496727493,970.87797129710248,1003.4677375197111,1039.1022469085008,1078.116580195416,1117.7582927761105,null,91074.956543000008,95414.588595700086,102531.64196751134,107884.9883806954,113688.32347255318,120000.41719668311,126532.56710544025,null,93442.905413118016,95414.588595700086,100030.87021220619,102686.48507383263,105570.91020506673,108714.45533557465,111836.35195838229,null,781.67276818502853,189.20520311207397,0,0.80511948081457241,0.19488051918542756,null,75232.703492014771,76820.144032306081,80536.802290681328,82674.889549317464,84997.196413425161,87528.125836816878,90041.625624928536,null,18210.201921103238,18594.444563394009,19494.067921524864,20011.595524515164,20573.713791641556,21186.329498757765,21794.726333453749,0,null,null,116.52455678687903,117.49851047199269,118.70345658437041,120.15640921918617,121.53608753028645,null,null,null,2398.1655099575069,2461.831895697956,2530.9838370047332,2606.3479870414794,2681.1931302516459,null,null,null,9907.6592075745102,10170.687280605853,10456.378099344165,10767.733721769837,11076.945145747648,null,null,null,223.20376869482337,225.06938517126432,227.37746958516846,230.16061257895899,232.80339798931092,null,null,null,23571.910759332259,24197.696743165241,24877.401034862276,25618.166011984558,26353.829597001561]
[36,"RTK3","Replacement of 3-phase overhead service line AH *","After Hours","RTK3AH","Per connection",null,0,0,0,0,0,0,0,0,null,1106.1600000000001,1143.0927554068619,1328.7967063999199,1373.4008433761555,1422.17218242172,1475.5693333579807,1529.8251499184323,null,0,0,0,0,0,0,0,null,0,0,0,0,0,0,0,null,1139.5915032878459,189.20520311207397,0,0.85761162546475334,0.14238837453524664,null,0,0,0,0,0,0,0,null,0,0,0,0,0,0,0,0,null,null,159.48188325485538,160.81488955145107,162.46404472115566,164.45263518543291,166.34093840157462,null,null,null,0,0,0,0,0,null,null,null,0,0,0,0,0,null,null,null,305.48888888835376,308.04227366233124,311.2012442620981,315.0104060238466,318.62746671820526,null,null,null,0,0,0,0,0]
[37,null,null,null,null,null,null,null,0,0,0,0,0,0,0,null,0,0,0,0,0,0,0,null,0,0,0,0,0,0,0,null,0,0,0,0,0,0,0,null,0,0,0,0,0,null,0,0,0,0,0,0,0,null,0,0,0,0,0,0,0,0]
[38,null,null,null,null,null,null,null,0,0,0,0,0,0,0,null,0,0,0,0,0,0,0,null,0,0,0,0,0,0,0,null,0,0,0,0,0,0,0,null,0,0,0,0,0,null,0,0,0,0,0,0,0,null,0,0,0,0,0,0,0,0]
[39,null,null,null,null,null,null,null,0,0,0,0,0,0,0,null,0,0,0,0,0,0,0,null,0,0,0,0,0,0,0,null,0,0,0,0,0,0,0,null,0,0,0,0,0,null,0,0,0,0,0,0,0,null,0,0,0,0,0,0,0,0]
[40,null,null,null,null,null,null,null,0,0,0,0,0,0,0,null,0,0,0,0,0,0,0,null,0,0,0,0,0,0,0,null,0,0,0,0,0,0,0,null,0,0,0,0,0,null,0,0,0,0,0,0,0,null,0,0,0,0,0,0,0,0]
[41,null,null,null,null,null,null,null,0,0,0,0,0,0,0,null,0,0,0,0,0,0,0,null,0,0,0,0,0,0,0,null,0,0,0,0,0,0,0,null,0,0,0,0,0,null,0,0,0,0,0,0,0,null,0,0,0,0,0,0,0,0]
[42,null,null,null,null,null,null,null,0,0,0,0,0,0,0,null,0,0,0,0,0,0,0,null,0,0,0,0,0,0,0,null,0,0,0,0,0,0,0,null,0,0,0,0,0,null,0,0,0,0,0,0,0,null,0,0,0,0,0,0,0,0]
[43,null,null,null,null,null,null,null,0,0,0,0,0,0,0,null,0,0,0,0,0,0,0,null,0,0,0,0,{"$f":"M55*U55","v":0},{"$f":"N55*V55","v":0},{"$f":"O55*W55","v":0},null,0,0,0,0,0,0,0,null,0,0,0,0,0,null,0,0,0,0,0,0,0,null,0,0,0,0,{"$f":"AK55*$AS55","v":0},{"$f":"AL55*$AS55","v":0},{"$f":"AM55*$AS55","v":0},0]
[44,null,null,null,null,null,null,null,0,0,0,0,0,0,0,null,0,0,0,0,0,0,0,null,0,{"$f":"J56*R56","v":0},{"$f":"K56*S56","v":0},{"$f":"L56*T56","v":0},0,0,0,null,0,0,0,0,0,0,0,null,0,0,0,0,0,null,0,0,0,0,0,0,0,null,0,{"$f":"AH56*$AS56","v":0},{"$f":"AI56*$AS56","v":0},{"$f":"AJ56*$AS56","v":0},0,0,0,0]
[45,null,null,null,null,null,null,null,0,0,0,0,0,0,0,null,0,0,0,0,0,0,0,null,0,0,0,0,0,0,0,null,0,0,0,0,0,0,0,null,0,0,0,0,0,null,0,0,0,0,0,0,0,null,0,0,0,0,0,0,0,0]
[46,null,null,null,null,null,null,null,0,0,0,0,0,0,0,null,0,0,0,0,0,0,0,null,0,0,0,0,0,0,0,null,0,0,0,0,0,0,0,null,0,0,0,0,0,null,0,0,0,0,0,0,0,null,0,0,0,0,0,0,0,0]
[47,null,null,null,null,null,null,null,0,0,0,0,0,0,0,null,0,0,0,0,0,0,0,null,0,0,0,0,0,0,0,null,0,0,0,0,0,0,0,null,0,0,0,0,0,null,0,0,0,0,0,0,0,null,0,0,0,0,0,0,0,0]
[48,null,null,null,null,null,null,null,0,0,0,0,0,0,0,null,0,0,0,0,0,0,0,null,0,0,0,0,0,0,0,null,0,0,0,0,0,0,0,null,0,0,0,0,0,null,0,0,0,0,0,0,0,null,0,0,0,0,0,0,0,0]
[49,null,null,null,null,null,null,null,0,0,0,0,0,0,0,null,0,0,0,0,0,0,0,null,0,0,0,0,0,0,0,null,0,0,0,0,0,0,0,null,0,0,0,0,0,null,0,0,0,0,0,0,0,null,0,0,0,0,0,0,0,0]
[50,null,null,null,null,null,null,null,0,0,0,0,0,0,0,null,0,0,0,0,0,0,0,null,0,0,0,0,0,0,0,null,0,0,0,0,0,0,0,null,0,0,0,0,0,null,0,0,0,0,0,0,0,null,0,0,0,0,0,0,0,0]
[51,null,null,null,null,null,null,null,0,0,0,0,0,0,0,null,0,0,0,0,0,0,0,null,0,0,0,0,0,0,0,null,0,0,0,0,0,0,0,null,0,0,0,0,0,null,0,0,{"$f":"AI63*$AR63","v":0},{"$f":"AJ63*$AR63","v":0},{"$f":"AK63*$AR63","v":0},{"$f":"AL63*$AR63","v":0},{"$f":"AM63*$AR63","v":0},null,0,0,0,0,0,0,0,0]
[52,null,null,null,null,null,null,null,0,0,0,0,0,0,0,null,0,0,0,0,0,0,0,null,0,0,0,0,0,0,0,null,0,0,0,0,0,0,0,null,0,0,0,0,0,null,{"$f":"AG64*$AR64","v":0},{"$f":"AH64*$AR64","v":0},0,0,0,0,0,null,0,0,0,0,0,0,0,0]
[53,null,null,null,null,null,null,null,0,0,0,{"$f":"K65*(1+G$7)","v":0},0,0,0,null,0,0,0,0,0,0,0,null,0,0,0,0,0,0,0,null,0,0,0,0,0,0,0,null,0,0,0,0,0,null,0,0,0,0,0,0,0,null,0,0,0,0,0,0,0,0]
[54,null,null,null,null,null,null,null,{"$f":"H66*(1+D$7)","v":0},0,0,0,0,0,0,null,0,0,0,0,0,0,0,null,0,0,0,0,0,0,0,null,0,0,0,0,0,0,0,null,0,0,0,0,0,null,0,0,0,0,0,0,0,null,0,0,0,0,0,0,0,0]
[55,null,null,null,null,null,null,null,0,0,0,0,0,0,0,null,0,0,0,0,0,0,0,null,0,0,0,0,0,0,0,null,0,0,0,0,0,0,0,null,0,0,0,0,0,null,0,0,0,0,0,0,0,null,0,0,0,0,0,0,0,0]
[56,null,null,null,null,null,null,null,0,0,0,0,0,0,0,null,0,0,0,0,0,0,0,null,0,0,0,0,0,0,0,null,0,0,0,0,0,0,0,null,0,0,0,0,0,null,0,0,0,0,0,0,0,null,0,0,0,0,0,0,0,0]
[57,null,null,null,null,null,null,null,0,0,0,0,0,0,0,null,0,0,0,0,0,0,0,null,0,0,0,0,0,0,0,null,0,0,0,0,0,0,0,null,0,0,0,0,0,null,0,0,0,0,0,0,0,null,0,0,0,0,0,0,0,0]
[58,null,null,null,null,null,null,null,0,0,0,0,0,0,0,null,0,0,0,0,0,0,0,null,0,0,0,0,0,0,0,null,0,0,0,0,0,0,0,null,0,0,0,0,0,null,0,0,0,0,0,0,0,null,0,0,0,0,0,0,0,0]
[59,null,null,null,null,null,null,null,0,0,0,0,0,0,0,null,0,0,0,0,0,0,0,null,0,0,0,0,0,0,0,null,0,0,0,0,0,0,0,null,0,0,0,0,0,null,0,0,0,0,0,0,0,null,0,0,0,0,0,0,0,0]
[60,null,null,null,null,null,null,null,0,0,0,0,0,0,0,null,0,0,0,0,0,0,0,null,0,0,0,0,0,0,0,null,0,0,0,0,0,0,0,null,0,0,0,0,0,null,0,0,0,0,0,0,0,null,0,0,0,0,0,0,0,0]
[]
[null,null,null,null,null,null,null,null,null,null,null,null,null,null,null,null,null,null,null,null,null,null,null,null,{"$f":"SUM(Y13:Y72)","v":10278712.632281952},10768483.173961909,13896566.657284657,14622129.360102985,15408681.017630465,16264186.981459608,17149518.132707357,null,10545959.160721283,10768483.173961909,13557626.007106986,13917553.227938591,14308492.116021961,14734550.682997104,15157675.132030554,null,null,null,null,null,null,null,{"$f":"SUM(AU13:AU72)","v":9271461.4674025513},9467093.0626790058,11829893.317450507,12143952.771683296,12485071.883336376,12856835.154550646,13226038.220739879,null,{"$f":"SUM(BC13:BC72)","v":1274497.6933187339},1301390.111282906,1727732.6896564809,1773600.4562552932,1823420.2326855867,1877715.5284464573,1931636.9112906777,0,null,null,null,null,null,null,null,null,{"$f":"SUM(BS13:BS72)","v":0},0,212546.14293126907,218188.80798808843,224317.65036361958,230997.07233808035,237630.49544437003,null,{"$f":"SUM(CA13:CA72)","v":0},0,1466745.2100293441,1505684.2932314614,1547978.4043988525,1594071.9728432964,1639848.1108294588,null,null,null,null,null,null,null,null,null,{"$f":"SUM(CQ13:CQ72)","v":0},0,3216696.7122902949,3302093.426088558,3394848.0009193593,3495935.1079773079,3596326.0631033792]

{"sheet":"Input|Tax Recovery","index":12,"n_rows":54,"n_cols":31,"rows_kept":54,"cut":false,"hidden":false,"merged":[[6,8,11,12],[32,8,37,12]]}
[null,{"$f":"IFERROR(Index!B1,\"\")","v":"Jemena Electricity Networks – Alternative Control Services Forecast model"},null,"Key:","Input",null,null,null,"Sheet Validation",{"$f":"'Model Validation'!C11","v":0}]
[null,{"$f":"IFERROR(MID(CELL(\"filename\",A1),FIND(\"]\",CELL(\"filename\",A1))+1,255),\"\")","v":"Input|Tax Recovery"},null,null,"Formula"]
[]
[null,"Input - Tax Recovery Rate 1"]
[]
[null,"Item - New Connection Services","Source","Unit","Basis","Timing","Input",null,"Note"]
[null,"Nominal vanilla WACC","Metering PTRM","Percent","n.m.","N/A",0.06]
[null,"Asset life","AER","Years","n.m.","N/A",15]
[null,"Standard cost (example)","JEN","Dollars","n.m.","End year",100]
[null,"Corporate tax rate","Metering PTRM","Percent","n.m.","N/A",0.3]
[null,"Depreciation rate (diminishing value)","AER","Percent","n.m.","N/A",0.375]
[null,"Gamma","Metering PTRM","Percent","n.m.","N/A",0.56999999999999995]
[]
[null,"Calc - Tax Recovery Rate 1"]
[]
[null,"Workings","Source","Unit","Basis","Timing",1,{"$f":"G16+1","v":2},{"$f":"H16+1","v":3},4,5,6,7,8,9,10,11,12,13,14,15,16,17,18,19,20,21,22,23,24,25]
[null,"Additional taxable income","Above","$dollars","Real 2019","End year",{"$f":"IF(G$42=1,$G$9,0)","v":100},0,0,0,0,0,0,0,0,0,0,0,0,0,0,0,0,0,0,0,0,0,0,0,0]
[null,"Additional tax depreciation","Calculated","$dollars","Real 2019","End year",{"$f":"G9*G11/2","v":18.75},{"$f":"(H16<=$G$8)*IF(H16=$G$8,$G$9-SUM($G$18:G18),$G$11*($G$9-SUM($G$18:G18)))","v":30.46875},{"$f":"(I16<=$G$8)*IF(I16=$G$8,$G$9-SUM($G$18:H18),$G$11*($G$9-SUM($G$18:H18)))","v":19.04296875},{"$f":"(J16<=$G$8)*IF(J16=$G$8,$G$9-SUM($G$18:I18),$G$11*($G$9-SUM($G$18:I18)))","v":11.90185546875},{"$f":"(K16<=$G$8)*IF(K16=$G$8,$G$9-SUM($G$18:J18),$G$11*($G$9-SUM($G$18:J18)))","v":7.43865966796875},{"$f":"(L16<=$G$8)*IF(L16=$G$8,$G$9-SUM($G$18:K18),$G$11*($G$9-SUM($G$18:K18)))","v":4.6491622924804688},{"$f":"(M16<=$G$8)*IF(M16=$G$8,$G$9-SUM($G$18:L18),$G$11*($G$9-SUM($G$18:L18)))","v":2.905726432800293},{"$f":"(N16<=$G$8)*IF(N16=$G$8,$G$9-SUM($G$18:M18),$G$11*($G$9-SUM($G$18:M18)))","v":1.8160790205001831},{"$f":"(O16<=$G$8)*IF(O16=$G$8,$G$9-SUM($G$18:N18),$G$11*($G$9-SUM($G$18:N18)))","v":1.1350493878126144},{"$f":"(P16<=$G$8)*IF(P16=$G$8,$G$9-SUM($G$18:O18),$G$11*($G$9-SUM($G$18:O18)))","v":0.70940586738288403},{"$f":"(Q16<=$G$8)*IF(Q16=$G$8,$G$9-SUM($G$18:P18),$G$11*($G$9-SUM($G$18:P18)))","v":0.44337866711430252},{"$f":"(R16<=$G$8)*IF(R16=$G$8,$G$9-SUM($G$18:Q18),$G$11*($G$9-SUM($G$18:Q18)))","v":0.27711166694643907},{"$f":"(S16<=$G$8)*IF(S16=$G$8,$G$9-SUM($G$18:R18),$G$11*($G$9-SUM($G$18:R18)))","v":0.17319479184152442},{"$f":"(T16<=$G$8)*IF(T16=$G$8,$G$9-SUM($G$18:S18),$G$11*($G$9-SUM($G$18:S18)))","v":0.10824674490095276},{"$f":"(U16<=$G$8)*IF(U16=$G$8,$G$9-SUM($G$18:T18),$G$11*($G$9-SUM($G$18:T18)))","v":0.18041124150158794},{"$f":"(V16<=$G$8)*IF(V16=$G$8,$G$9-SUM($G$18:U18),$G$11*($G$9-SUM($G$18:U18)))","v":0},{"$f":"(W16<=$G$8)*IF(W16=$G$8,$G$9-SUM($G$18:V18),$G$11*($G$9-SUM($G$18:V18)))","v":0},{"$f":"(X16<=$G$8)*IF(X16=$G$8,$G$9-SUM($G$18:W18),$G$11*($G$9-SUM($G$18:W18)))","v":0},{"$f":"(Y16<=$G$8)*IF(Y16=$G$8,$G$9-SUM($G$18:X18),$G$11*($G$9-SUM($G$18:X18)))","v":0},{"$f":"(Z16<=$G$8)*IF(Z16=$G$8,$G$9-SUM($G$18:Y18),$G$11*($G$9-SUM($G$18:Y18)))","v":0},{"$f":"(AA16<=$G$8)*IF(AA16=$G$8,$G$9-SUM($G$18:Z18),$G$11*($G$9-SUM($G$18:Z18)))","v":0},{"$f":"(AB16<=$G$8)*IF(AB16=$G$8,$G$9-SUM($G$18:AA18),$G$11*($G$9-SUM($G$18:AA18)))","v":0},{"$f":"(AC16<=$G$8)*IF(AC16=$G$8,$G$9-SUM($G$18:AB18),$G$11*($G$9-SUM($G$18:AB18)))","v":0},{"$f":"(AD16<=$G$8)*IF(AD16=$G$8,$G$9-SUM($G$18:AC18),$G$11*($G$9-SUM($G$18:AC18)))","v":0},{"$f":"(AE16<=$G$8)*IF(AE16=$G$8,$G$9-SUM($G$18:AD18),$G$11*($G$9-SUM($G$18:AD18)))","v":0}]
[null,"Additional taxable income","Calculated","$dollars","Real 2019","End year",{"$f":"G17-G18","v":81.25},{"$f":"H17-H18","v":-30.46875},{"$f":"I17-I18","v":-19.04296875},-11.90185546875,-7.43865966796875,-4.6491622924804688,-2.905726432800293,-1.8160790205001831,-1.1350493878126144,-0.70940586738288403,-0.44337866711430252,-0.27711166694643907,-0.17319479184152442,-0.10824674490095276,-0.18041124150158794,0,0,0,0,0,0,0,0,0,0]
[null,"Additional taxation","Calculated","$dollars","Real 2019","End year",{"$f":"G19*$G$10","v":24.375},{"$f":"H19*$G$10","v":-9.140625},{"$f":"I19*$G$10","v":-5.712890625},-3.570556640625,-2.231597900390625,-1.3947486877441406,-0.87171792984008789,-0.54482370615005493,-0.34051481634378433,-0.21282176021486521,-0.13301360013429075,-8.3133500083931722E-2,-5.1958437552457326E-2,-3.2474023470285829E-2,-5.4123372450476381E-2,0,0,0,0,0,0,0,0,0,0]
[null,"Discount factor","Calculated","factor","n.m.","End year",{"$f":"1/((1+$G$7)^(G16-0.5))","v":0.97128586235726422},{"$f":"1/((1+$G$7)^(H16-0.5))","v":0.91630741731817356},{"$f":"1/((1+$G$7)^(I16-0.5))","v":0.86444095973412605},0.81551033937181705,0.76934937676586501,0.72580129883572175,0.684718206448794,0.64596057212150371,0.60939676615236205,0.57490260957770001,0.5423609524317925,0.51166127587904942,0.48269931686702772,0.45537671402549784,0.42960067360896026,0.40528365434807562,0.38234307013969404,0.36070100956574902,0.34028397128844246,0.32102261442305891,0.30285152304062163,0.28570898400058636,0.26953677735904374,0.25427997864060731,0.23988677230245972]
[]
[null,"Tax Recovery on capex","Source","Unit","Basis","Timing","Value"]
[null,"Post tax dollar margin required","Calculated","$dollars","Real 2019","End year",{"$f":"SUMPRODUCT(G20:AE20,G21:AE21)*(1-G12)","v":1.4033160166989977}]
[null,"Tax on margin","Calculated","$dollars","Real 2019","End year",{"$f":"G24*G10/(1-G10*(1-G12))","v":0.48334650402950552}]
[null,"Tax on margin - discounted by half a year","Calculated","$dollars","Real 2019","End year",{"$f":"G25/(1+$G$7)^0.5","v":0.46946762598366715}]
[null,"Pre tax mark-up required","Calculated","$dollars","Real 2019","End year",{"$f":"G24+G26","v":1.872783642682665}]
[null,"Tax recovery rate","Calculated","Per cent","N/A","N/A",{"$f":"G27/$G$9","v":1.8727836426826648E-2}]
[]
[null,"Input - Tax Recovery Rate 2"]
[]
[null,"Item - New Connection Services","Source","Unit","Basis","Timing","Input",null,"Note"]
[null,"Nominal vanilla WACC","Metering PTRM","Percent","n.m.","N/A",5.1299999999999998E-2]
[null,"Asset life","AER","Years","n.m.","N/A",15]
[null,"Standard cost (example)","JEN","Dollars","n.m.","End year",100]
[null,"Corporate tax rate","Metering PTRM","Percent","n.m.","N/A",0.3]
[null,"Depreciation rate (diminishing value)","AER","Percent","n.m.","N/A",0.375]
[null,"Gamma","Metering PTRM","Percent","n.m.","N/A",0.56999999999999995]
[]
[null,"Calc - Tax Recovery Rate 2"]
[]
[null,"Workings","Source","Unit","Basis","Timing",1,{"$f":"G42+1","v":2},{"$f":"H42+1","v":3},4,5,6,7,8,9,10,11,12,13,14,15,16,17,18,19,20,21,22,23,24,25]
[null,"Additional taxable income","Above","$dollars","Real 2019","End year",{"$f":"IF(G$42=1,$G$35,0)","v":100},{"$f":"IF(H$42=1,$G$35,0)","v":0},{"$f":"IF(I$42=1,$G$35,0)","v":0},0,0,0,0,0,0,0,0,0,0,0,0,0,0,0,0,0,0,0,0,0,0]
[null,"Additional tax depreciation","Calculated","$dollars","Real 2019","End year",{"$f":"G35*G37/2","v":18.75},{"$f":"(H42<=$G$34)*IF(H42=$G$34,$G$35-SUM($G$44:G44),$G$37*($G$35-SUM($G$44:G44)))","v":30.46875},{"$f":"(I42<=$G$34)*IF(I42=$G$34,$G$35-SUM($G$44:H44),$G$37*($G$35-SUM($G$44:H44)))","v":19.04296875},{"$f":"(J42<=$G$34)*IF(J42=$G$34,$G$35-SUM($G$44:I44),$G$37*($G$35-SUM($G$44:I44)))","v":11.90185546875},{"$f":"(K42<=$G$34)*IF(K42=$G$34,$G$35-SUM($G$44:J44),$G$37*($G$35-SUM($G$44:J44)))","v":7.43865966796875},{"$f":"(L42<=$G$34)*IF(L42=$G$34,$G$35-SUM($G$44:K44),$G$37*($G$35-SUM($G$44:K44)))","v":4.6491622924804688},{"$f":"(M42<=$G$34)*IF(M42=$G$34,$G$35-SUM($G$44:L44),$G$37*($G$35-SUM($G$44:L44)))","v":2.905726432800293},{"$f":"(N42<=$G$34)*IF(N42=$G$34,$G$35-SUM($G$44:M44),$G$37*($G$35-SUM($G$44:M44)))","v":1.8160790205001831},{"$f":"(O42<=$G$34)*IF(O42=$G$34,$G$35-SUM($G$44:N44),$G$37*($G$35-SUM($G$44:N44)))","v":1.1350493878126144},{"$f":"(P42<=$G$34)*IF(P42=$G$34,$G$35-SUM($G$44:O44),$G$37*($G$35-SUM($G$44:O44)))","v":0.70940586738288403},{"$f":"(Q42<=$G$34)*IF(Q42=$G$34,$G$35-SUM($G$44:P44),$G$37*($G$35-SUM($G$44:P44)))","v":0.44337866711430252},{"$f":"(R42<=$G$34)*IF(R42=$G$34,$G$35-SUM($G$44:Q44),$G$37*($G$35-SUM($G$44:Q44)))","v":0.27711166694643907},{"$f":"(S42<=$G$34)*IF(S42=$G$34,$G$35-SUM($G$44:R44),$G$37*($G$35-SUM($G$44:R44)))","v":0.17319479184152442},{"$f":"(T42<=$G$34)*IF(T42=$G$34,$G$35-SUM($G$44:S44),$G$37*($G$35-SUM($G$44:S44)))","v":0.10824674490095276},{"$f":"(U42<=$G$34)*IF(U42=$G$34,$G$35-SUM($G$44:T44),$G$37*($G$35-SUM($G$44:T44)))","v":0.18041124150158794},{"$f":"(V42<=$G$34)*IF(V42=$G$34,$G$35-SUM($G$44:U44),$G$37*($G$35-SUM($G$44:U44)))","v":0},{"$f":"(W42<=$G$34)*IF(W42=$G$34,$G$35-SUM($G$44:V44),$G$37*($G$35-SUM($G$44:V44)))","v":0},{"$f":"(X42<=$G$34)*IF(X42=$G$34,$G$35-SUM($G$44:W44),$G$37*($G$35-SUM($G$44:W44)))","v":0},{"$f":"(Y42<=$G$34)*IF(Y42=$G$34,$G$35-SUM($G$44:X44),$G$37*($G$35-SUM($G$44:X44)))","v":0},{"$f":"(Z42<=$G$34)*IF(Z42=$G$34,$G$35-SUM($G$44:Y44),$G$37*($G$35-SUM($G$44:Y44)))","v":0},{"$f":"(AA42<=$G$34)*IF(AA42=$G$34,$G$35-SUM($G$44:Z44),$G$37*($G$35-SUM($G$44:Z44)))","v":0},{"$f":"(AB42<=$G$34)*IF(AB42=$G$34,$G$35-SUM($G$44:AA44),$G$37*($G$35-SUM($G$44:AA44)))","v":0},{"$f":"(AC42<=$G$34)*IF(AC42=$G$34,$G$35-SUM($G$44:AB44),$G$37*($G$35-SUM($G$44:AB44)))","v":0},{"$f":"(AD42<=$G$34)*IF(AD42=$G$34,$G$35-SUM($G$44:AC44),$G$37*($G$35-SUM($G$44:AC44)))","v":0},{"$f":"(AE42<=$G$34)*IF(AE42=$G$34,$G$35-SUM($G$44:AD44),$G$37*($G$35-SUM($G$44:AD44)))","v":0}]
[null,"Additional taxable income","Calculated","$dollars","Real 2019","End year",{"$f":"G43-G44","v":81.25},{"$f":"H43-H44","v":-30.46875},{"$f":"I43-I44","v":-19.04296875},{"$f":"J43-J44","v":-11.90185546875},{"$f":"K43-K44","v":-7.43865966796875},{"$f":"L43-L44","v":-4.6491622924804688},-2.905726432800293,-1.8160790205001831,-1.1350493878126144,-0.70940586738288403,-0.44337866711430252,-0.27711166694643907,-0.17319479184152442,-0.10824674490095276,-0.18041124150158794,0,0,0,0,0,0,0,0,0,0]
[null,"Additional taxation","Calculated","$dollars","Real 2019","End year",{"$f":"G45*$G$36","v":24.375},{"$f":"H45*$G$36","v":-9.140625},{"$f":"I45*$G$36","v":-5.712890625},{"$f":"J45*$G$36","v":-3.570556640625},{"$f":"K45*$G$36","v":-2.231597900390625},{"$f":"L45*$G$36","v":-1.3947486877441406},-0.87171792984008789,-0.54482370615005493,-0.34051481634378433,-0.21282176021486521,-0.13301360013429075,-8.3133500083931722E-2,-5.1958437552457326E-2,-3.2474023470285829E-2,-5.4123372450476381E-2,0,0,0,0,0,0,0,0,0,0]
[null,"Discount factor","Calculated","factor","n.m.","End year",{"$f":"1/((1+$G$33)^(G42-0.5))","v":0.97529650473035956},{"$f":"1/((1+$G$33)^(H42-0.5))","v":0.9277052266054977},{"$f":"1/((1+$G$33)^(I42-0.5))","v":0.88243624712783952},{"$f":"1/((1+$G$33)^(J42-0.5))","v":0.83937624572228642},{"$f":"1/((1+$G$33)^(K42-0.5))","v":0.79841743148700317},{"$f":"1/((1+$G$33)^(L42-0.5))","v":0.75945727336345781},0.72239824347327874,0.68714757297943385,0.65361701986058585,0.62172264801729848,0.59138461715713742,0.56252698293269043,0.53507750683219868,0.50896747534690268,0.48413152796243009,0.46050749354364129,0.43803623470335895,0.41666149976539435,0.39632978195129304,0.37699018543830787,0.35859429795330339,0.34109606958366168,0.3244516975018184,0.30861951631486584,0.29355989376473496]
[]
[null,"Tax Recovery on capex","Source","Unit","Basis","Timing","Value"]
[null,"Post tax dollar margin required","Calculated","$dollars","Real 2019","End year",{"$f":"SUMPRODUCT(G46:AE46,G47:AE47)*(1-G38)","v":1.2292847614164597}]
[null,"Tax on margin","Calculated","$dollars","Real 2019","End year",{"$f":"G50*G36/(1-G36*(1-G38))","v":0.42340462505733395}]
[null,"Tax on margin - discounted by half a year","Calculated","$dollars","Real 2019","End year",{"$f":"G51/(1+$G$7)^0.5","v":0.41124692637486671}]
[null,"Pre tax mark-up required","Calculated","$dollars","Real 2019","End year",{"$f":"G50+G52","v":1.6405316877913263}]
[null,"Tax recovery rate","Calculated","Per cent","N/A","N/A",{"$f":"G53/$G$9","v":1.6405316877913263E-2}]

{"sheet":"Input|Materials","index":13,"n_rows":56,"n_cols":9,"rows_kept":56,"cut":false,"hidden":false,"merged":[]}
[null,"Jemena Electricity Networks – Alternative Control Services Forecast model",null,"Key:","Input",null,null,"Sheet Validation",0]
[null,{"$f":"IFERROR(MID(CELL(\"filename\",A1),FIND(\"]\",CELL(\"filename\",A1))+1,255),\"\")","v":"Input|Materials"},null,null,"Formula"]
[]
[null,"Fee-Based Alternative Control Services - Forecast volumes and revenue"]
[]
[null,"Contract Number / Latest PO","Material Code","Material Name","Unit Cost ($)"]
[1,4600011080,11000787]
[{"$f":"IFERROR(A7+1,\"\")","v":2},4600011081,11000852]
[{"$f":"IFERROR(A8+1,\"\")","v":3},4600006124,11000852]
[4,4600011080,11000860]
[5,4600011081,11001736]
[6,4100394127,11000862]
[7,4600008366,11000870]
[8,4100435482,11000908]
[9,4600011141,11001521]
[10,4100416042,11005059]
[11,4600011141,11011038]
[12]
[13]
[14]
[15]
[16]
[17]
[18]
[19]
[20]
[21]
[22]
[23]
[24]
[25]
[26]
[27]
[28]
[29]
[30]
[31]
[32]
[33]
[34]
[35]
[36]
[37]
[38]
[39]
[40]
[41]
[42]
[43]
[44]
[45]
[46]
[47]
[48]
[49]
[50]

{"sheet":"Calc|Labour Rates","index":14,"n_rows":29,"n_cols":13,"rows_kept":29,"cut":false,"hidden":false,"merged":[]}
[null,{"$f":"IFERROR(Index!B1,\"\")","v":"Jemena Electricity Networks – Alternative Control Services Forecast model"},null,"Key:","Input"]
[null,{"$f":"IFERROR(MID(CELL(\"filename\",A1),FIND(\"]\",CELL(\"filename\",A1))+1,255),\"\")","v":"Calc|Labour Rates"},null,null,"Formula"]
[]
[]
[]
[]
[null,"9.1 Year 1 labour rates",null,null,null,{"$f":"IFERROR(\"Year 1 labour rates, $'s ($\"&Output_first_year&\")\",\"\")","v":""},null,{"$f":"IFERROR(\"9.2 Year 1 labour rates build up, $'s ($\"&'Input|Setup'!$E$8&\")\",\"\")","v":"9.2 Year 1 labour rates build up, $'s ($2026-27)"}]
[]
[null,{"$f":"'Input|Labour Rates'!B9","v":"Labour type"},{"$f":"'Input|Labour Rates'!C9","v":"Hours"},{"$f":"'Input|Labour Rates'!D9","v":"Used for quoted service?"},{"$f":"'Input|Labour Rates'!E9&\" (incl. On Costs & Overheads)\"","v":"Base labour rate ($2024-25) (incl. On Costs & Overheads)"},"TOTAL LABOUR RATE (incl. On Costs & Overheads)",null,"BASE LABOUR RATE","On costs","STANDARD LABOUR RATE (EXCL OVERHEADS)","Overhead","Wage Measure Stickiness","Vehicle and Other costs"]
[1,{"$f":"IF(ISBLANK('Input|Labour Rates'!B10),\"\",'Input|Labour Rates'!B10)","v":"Administrative Officer"},{"$f":"IF(ISBLANK('Input|Labour Rates'!C10),\"\",'Input|Labour Rates'!C10)","v":"Business hours"},{"$f":"IF(ISBLANK('Input|Labour Rates'!D10),\"\",'Input|Labour Rates'!D10)","v":"Yes"},{"$f":"SUM(J10,L10)","v":73.830453729551124},{"$f":"SUM(J10:M10)+J10*'Input|Indirect Cost Rates'!$D$35","v":121.40386235507451},null,{"$f":"'Input|Labour Rates'!$E10*CPI_Escalator_to_Y1*RealLabour_Escalator_to_Y1","v":48.562536943994097},{"$f":"H10*'Input|Labour Rates'!F10","v":22.410710260610742},{"$f":"SUM(H10:I10)","v":70.973247204604831},{"$f":"J10*'Input|Labour Rates'!G10","v":43.31501379324709},{"$f":"'Input|Labour Rates'!I10*CPI_Escalator_to_Y1*RealLabour_Escalator_to_Y1","v":2.8572065249462986},{"$f":"'Input|Labour Rates'!H10*CPI_Escalator_to_Y1*RealLabour_Escalator_to_Y1","v":0}]
[{"$f":"A10+1","v":2},{"$f":"IF(ISBLANK('Input|Labour Rates'!B11),\"\",'Input|Labour Rates'!B11)","v":"Field Worker"},{"$f":"IF(ISBLANK('Input|Labour Rates'!C11),\"\",'Input|Labour Rates'!C11)","v":"Business hours"},{"$f":"IF(ISBLANK('Input|Labour Rates'!D11),\"\",'Input|Labour Rates'!D11)","v":"Yes"},{"$f":"SUM(J11,L11)","v":113.65932809307105},{"$f":"SUM(J11:M11)+J11*'Input|Indirect Cost Rates'!$D$35","v":210.8874625437997},null,{"$f":"'Input|Labour Rates'!$E11*CPI_Escalator_to_Y1*RealLabour_Escalator_to_Y1","v":73.221802366595512},{"$f":"H11*'Input|Labour Rates'!F11","v":36.038959045060821},{"$f":"SUM(H11:I11)","v":109.26076141165633},{"$f":"J11*'Input|Labour Rates'!G11","v":66.68190584493243},{"$f":"'Input|Labour Rates'!I11*CPI_Escalator_to_Y1*RealLabour_Escalator_to_Y1","v":4.3985666814147191},{"$f":"'Input|Labour Rates'!H11*CPI_Escalator_to_Y1*RealLabour_Escalator_to_Y1","v":23.990582921096827}]
[3,{"$f":"IF(ISBLANK('Input|Labour Rates'!B12),\"\",'Input|Labour Rates'!B12)","v":"Technical Specialist"},{"$f":"IF(ISBLANK('Input|Labour Rates'!C12),\"\",'Input|Labour Rates'!C12)","v":"Business hours"},{"$f":"IF(ISBLANK('Input|Labour Rates'!D12),\"\",'Input|Labour Rates'!D12)","v":"Yes"},122.27628350701502,{"$f":"SUM(J12:M12)+J12*'Input|Indirect Cost Rates'!$D$35","v":225.05684138611807},null,{"$f":"'Input|Labour Rates'!$E12*CPI_Escalator_to_Y1*RealLabour_Escalator_to_Y1","v":79.823768153747551},{"$f":"H12*'Input|Labour Rates'!F12","v":37.72047623615461},117.54424438990216,{"$f":"J12*'Input|Labour Rates'!G12","v":71.73732029461209},{"$f":"'Input|Labour Rates'!I12*CPI_Escalator_to_Y1*RealLabour_Escalator_to_Y1","v":4.7320391171128575},{"$f":"'Input|Labour Rates'!H12*CPI_Escalator_to_Y1*RealLabour_Escalator_to_Y1","v":23.990582921096827}]
[4,{"$f":"IF(ISBLANK('Input|Labour Rates'!B13),\"\",'Input|Labour Rates'!B13)","v":"Engineer"},{"$f":"IF(ISBLANK('Input|Labour Rates'!C13),\"\",'Input|Labour Rates'!C13)","v":"Business hours"},{"$f":"IF(ISBLANK('Input|Labour Rates'!D13),\"\",'Input|Labour Rates'!D13)","v":"Yes"},165.30989794491941,{"$f":"SUM(J13:M13)+J13*'Input|Indirect Cost Rates'!$D$35","v":271.82902287926146},null,{"$f":"'Input|Labour Rates'!$E13*CPI_Escalator_to_Y1*RealLabour_Escalator_to_Y1","v":107.91674876443132},{"$f":"H13*'Input|Labour Rates'!F13","v":50.995727856536796},158.91247662096811,{"$f":"J13*'Input|Labour Rates'!G13","v":96.984376337083987},{"$f":"'Input|Labour Rates'!I13*CPI_Escalator_to_Y1*RealLabour_Escalator_to_Y1","v":6.3974213239513036},{"$f":"'Input|Labour Rates'!H13*CPI_Escalator_to_Y1*RealLabour_Escalator_to_Y1","v":0}]
[5,{"$f":"IF(ISBLANK('Input|Labour Rates'!B14),\"\",'Input|Labour Rates'!B14)","v":"Senior Engineer"},{"$f":"IF(ISBLANK('Input|Labour Rates'!C14),\"\",'Input|Labour Rates'!C14)","v":"Business hours"},{"$f":"IF(ISBLANK('Input|Labour Rates'!D14),\"\",'Input|Labour Rates'!D14)","v":"Yes"},198.3718775339033,{"$f":"SUM(J14:M14)+J14*'Input|Indirect Cost Rates'!$D$35","v":326.1948274551138},null,{"$f":"'Input|Labour Rates'!$E14*CPI_Escalator_to_Y1*RealLabour_Escalator_to_Y1","v":129.50009851731758},{"$f":"H14*'Input|Labour Rates'!F14","v":61.194873427844158},190.69497194516174,{"$f":"J14*'Input|Labour Rates'!G14","v":116.38125160450079},{"$f":"'Input|Labour Rates'!I14*CPI_Escalator_to_Y1*RealLabour_Escalator_to_Y1","v":7.6769055887415636},{"$f":"'Input|Labour Rates'!H14*CPI_Escalator_to_Y1*RealLabour_Escalator_to_Y1","v":0}]
[6,{"$f":"IF(ISBLANK('Input|Labour Rates'!B15),\"\",'Input|Labour Rates'!B15)","v":"Administrative Officer"},{"$f":"IF(ISBLANK('Input|Labour Rates'!C15),\"\",'Input|Labour Rates'!C15)","v":"After Hours"},{"$f":"IF(ISBLANK('Input|Labour Rates'!D15),\"\",'Input|Labour Rates'!D15)","v":"No"},0,{"$f":"SUM(J15:M15)+J15*'Input|Indirect Cost Rates'!$D$35","v":0},null,{"$f":"'Input|Labour Rates'!$E15*CPI_Escalator_to_Y1*RealLabour_Escalator_to_Y1","v":0},{"$f":"H15*'Input|Labour Rates'!F15","v":0},0,{"$f":"J15*'Input|Labour Rates'!G15","v":0},{"$f":"'Input|Labour Rates'!I15*CPI_Escalator_to_Y1*RealLabour_Escalator_to_Y1","v":0},{"$f":"'Input|Labour Rates'!H15*CPI_Escalator_to_Y1*RealLabour_Escalator_to_Y1","v":0}]
[7,{"$f":"IF(ISBLANK('Input|Labour Rates'!B16),\"\",'Input|Labour Rates'!B16)","v":"Field Worker"},{"$f":"IF(ISBLANK('Input|Labour Rates'!C16),\"\",'Input|Labour Rates'!C16)","v":"After Hours"},{"$f":"IF(ISBLANK('Input|Labour Rates'!D16),\"\",'Input|Labour Rates'!D16)","v":"Yes"},210.74150929800402,{"$f":"SUM(J16:M16)+J16*'Input|Indirect Cost Rates'!$D$35","v":370.5255409891526},null,{"$f":"'Input|Labour Rates'!$E16*CPI_Escalator_to_Y1*RealLabour_Escalator_to_Y1","v":169.77832526651613},{"$f":"H16*'Input|Labour Rates'!F16","v":32.80757906055053},202.58590432706666,{"$f":"J16*'Input|Labour Rates'!G16","v":123.63829451042778},{"$f":"'Input|Labour Rates'!I16*CPI_Escalator_to_Y1*RealLabour_Escalator_to_Y1","v":8.1556049709373628},{"$f":"'Input|Labour Rates'!H16*CPI_Escalator_to_Y1*RealLabour_Escalator_to_Y1","v":23.990582921096827}]
[8,{"$f":"IF(ISBLANK('Input|Labour Rates'!B17),\"\",'Input|Labour Rates'!B17)","v":"Technical Specialist"},{"$f":"IF(ISBLANK('Input|Labour Rates'!C17),\"\",'Input|Labour Rates'!C17)","v":"After Hours"},{"$f":"IF(ISBLANK('Input|Labour Rates'!D17),\"\",'Input|Labour Rates'!D17)","v":"No"},0,{"$f":"SUM(J17:M17)+J17*'Input|Indirect Cost Rates'!$D$35","v":0},null,{"$f":"'Input|Labour Rates'!$E17*CPI_Escalator_to_Y1*RealLabour_Escalator_to_Y1","v":0},{"$f":"H17*'Input|Labour Rates'!F17","v":0},0,{"$f":"J17*'Input|Labour Rates'!G17","v":0},{"$f":"'Input|Labour Rates'!I17*CPI_Escalator_to_Y1*RealLabour_Escalator_to_Y1","v":0},{"$f":"'Input|Labour Rates'!H17*CPI_Escalator_to_Y1*RealLabour_Escalator_to_Y1","v":0}]
[9,{"$f":"IF(ISBLANK('Input|Labour Rates'!B18),\"\",'Input|Labour Rates'!B18)","v":"Engineer"},{"$f":"IF(ISBLANK('Input|Labour Rates'!C18),\"\",'Input|Labour Rates'!C18)","v":"After Hours"},{"$f":"IF(ISBLANK('Input|Labour Rates'!D18),\"\",'Input|Labour Rates'!D18)","v":"No"},0,{"$f":"SUM(J18:M18)+J18*'Input|Indirect Cost Rates'!$D$35","v":0},null,{"$f":"'Input|Labour Rates'!$E18*CPI_Escalator_to_Y1*RealLabour_Escalator_to_Y1","v":0},{"$f":"H18*'Input|Labour Rates'!F18","v":0},0,{"$f":"J18*'Input|Labour Rates'!G18","v":0},{"$f":"'Input|Labour Rates'!I18*CPI_Escalator_to_Y1*RealLabour_Escalator_to_Y1","v":0},{"$f":"'Input|Labour Rates'!H18*CPI_Escalator_to_Y1*RealLabour_Escalator_to_Y1","v":0}]
[10,{"$f":"IF(ISBLANK('Input|Labour Rates'!B19),\"\",'Input|Labour Rates'!B19)","v":"Senior Engineer"},{"$f":"IF(ISBLANK('Input|Labour Rates'!C19),\"\",'Input|Labour Rates'!C19)","v":"After Hours"},{"$f":"IF(ISBLANK('Input|Labour Rates'!D19),\"\",'Input|Labour Rates'!D19)","v":"No"},0,{"$f":"SUM(J19:M19)+J19*'Input|Indirect Cost Rates'!$D$35","v":0},null,{"$f":"'Input|Labour Rates'!$E19*CPI_Escalator_to_Y1*RealLabour_Escalator_to_Y1","v":0},{"$f":"H19*'Input|Labour Rates'!F19","v":0},0,{"$f":"J19*'Input|Labour Rates'!G19","v":0},{"$f":"'Input|Labour Rates'!I19*CPI_Escalator_to_Y1*RealLabour_Escalator_to_Y1","v":0},{"$f":"'Input|Labour Rates'!H19*CPI_Escalator_to_Y1*RealLabour_Escalator_to_Y1","v":0}]
[11,{"$f":"IF(ISBLANK('Input|Labour Rates'!B20),\"\",'Input|Labour Rates'!B20)","v":""},{"$f":"IF(ISBLANK('Input|Labour Rates'!C20),\"\",'Input|Labour Rates'!C20)","v":""},{"$f":"IF(ISBLANK('Input|Labour Rates'!D20),\"\",'Input|Labour Rates'!D20)","v":""},0,{"$f":"SUM(J20:M20)+J20*'Input|Indirect Cost Rates'!$D$35","v":0},null,{"$f":"'Input|Labour Rates'!$E20*CPI_Escalator_to_Y1*RealLabour_Escalator_to_Y1","v":0},{"$f":"H20*'Input|Labour Rates'!F20","v":0},0,{"$f":"J20*'Input|Labour Rates'!G20","v":0},{"$f":"'Input|Labour Rates'!I20*CPI_Escalator_to_Y1*RealLabour_Escalator_to_Y1","v":0},{"$f":"'Input|Labour Rates'!H20*CPI_Escalator_to_Y1*RealLabour_Escalator_to_Y1","v":0}]
[12,{"$f":"IF(ISBLANK('Input|Labour Rates'!B21),\"\",'Input|Labour Rates'!B21)","v":""},{"$f":"IF(ISBLANK('Input|Labour Rates'!C21),\"\",'Input|Labour Rates'!C21)","v":""},{"$f":"IF(ISBLANK('Input|Labour Rates'!D21),\"\",'Input|Labour Rates'!D21)","v":""},0,{"$f":"SUM(J21:M21)+J21*'Input|Indirect Cost Rates'!$D$35","v":0},null,{"$f":"'Input|Labour Rates'!$E21*CPI_Escalator_to_Y1*RealLabour_Escalator_to_Y1","v":0},{"$f":"H21*'Input|Labour Rates'!F21","v":0},0,{"$f":"J21*'Input|Labour Rates'!G21","v":0},{"$f":"'Input|Labour Rates'!I21*CPI_Escalator_to_Y1*RealLabour_Escalator_to_Y1","v":0},{"$f":"'Input|Labour Rates'!H21*CPI_Escalator_to_Y1*RealLabour_Escalator_to_Y1","v":0}]
[13,{"$f":"IF(ISBLANK('Input|Labour Rates'!B22),\"\",'Input|Labour Rates'!B22)","v":""},{"$f":"IF(ISBLANK('Input|Labour Rates'!C22),\"\",'Input|Labour Rates'!C22)","v":""},{"$f":"IF(ISBLANK('Input|Labour Rates'!D22),\"\",'Input|Labour Rates'!D22)","v":""},0,{"$f":"SUM(J22:M22)+J22*'Input|Indirect Cost Rates'!$D$35","v":0},null,{"$f":"'Input|Labour Rates'!$E22*CPI_Escalator_to_Y1*RealLabour_Escalator_to_Y1","v":0},{"$f":"H22*'Input|Labour Rates'!F22","v":0},0,{"$f":"J22*'Input|Labour Rates'!G22","v":0},{"$f":"'Input|Labour Rates'!I22*CPI_Escalator_to_Y1*RealLabour_Escalator_to_Y1","v":0},{"$f":"'Input|Labour Rates'!H22*CPI_Escalator_to_Y1*RealLabour_Escalator_to_Y1","v":0}]
[14,{"$f":"IF(ISBLANK('Input|Labour Rates'!B23),\"\",'Input|Labour Rates'!B23)","v":""},{"$f":"IF(ISBLANK('Input|Labour Rates'!C23),\"\",'Input|Labour Rates'!C23)","v":""},{"$f":"IF(ISBLANK('Input|Labour Rates'!D23),\"\",'Input|Labour Rates'!D23)","v":""},0,{"$f":"SUM(J23:M23)+J23*'Input|Indirect Cost Rates'!$D$35","v":0},null,{"$f":"'Input|Labour Rates'!$E23*CPI_Escalator_to_Y1*RealLabour_Escalator_to_Y1","v":0},{"$f":"H23*'Input|Labour Rates'!F23","v":0},0,{"$f":"J23*'Input|Labour Rates'!G23","v":0},{"$f":"'Input|Labour Rates'!I23*CPI_Escalator_to_Y1*RealLabour_Escalator_to_Y1","v":0},{"$f":"'Input|Labour Rates'!H23*CPI_Escalator_to_Y1*RealLabour_Escalator_to_Y1","v":0}]
[15,{"$f":"IF(ISBLANK('Input|Labour Rates'!B24),\"\",'Input|Labour Rates'!B24)","v":""},{"$f":"IF(ISBLANK('Input|Labour Rates'!C24),\"\",'Input|Labour Rates'!C24)","v":""},{"$f":"IF(ISBLANK('Input|Labour Rates'!D24),\"\",'Input|Labour Rates'!D24)","v":""},0,{"$f":"SUM(J24:M24)+J24*'Input|Indirect Cost Rates'!$D$35","v":0},null,{"$f":"'Input|Labour Rates'!$E24*CPI_Escalator_to_Y1*RealLabour_Escalator_to_Y1","v":0},{"$f":"H24*'Input|Labour Rates'!F24","v":0},0,{"$f":"J24*'Input|Labour Rates'!G24","v":0},{"$f":"'Input|Labour Rates'!I24*CPI_Escalator_to_Y1*RealLabour_Escalator_to_Y1","v":0},{"$f":"'Input|Labour Rates'!H24*CPI_Escalator_to_Y1*RealLabour_Escalator_to_Y1","v":0}]
[16,{"$f":"IF(ISBLANK('Input|Labour Rates'!B25),\"\",'Input|Labour Rates'!B25)","v":""},{"$f":"IF(ISBLANK('Input|Labour Rates'!C25),\"\",'Input|Labour Rates'!C25)","v":""},{"$f":"IF(ISBLANK('Input|Labour Rates'!D25),\"\",'Input|Labour Rates'!D25)","v":""},0,{"$f":"SUM(J25:M25)+J25*'Input|Indirect Cost Rates'!$D$35","v":0},null,{"$f":"'Input|Labour Rates'!$E25*CPI_Escalator_to_Y1*RealLabour_Escalator_to_Y1","v":0},{"$f":"H25*'Input|Labour Rates'!F25","v":0},0,{"$f":"J25*'Input|Labour Rates'!G25","v":0},{"$f":"'Input|Labour Rates'!I25*CPI_Escalator_to_Y1*RealLabour_Escalator_to_Y1","v":0},{"$f":"'Input|Labour Rates'!H25*CPI_Escalator_to_Y1*RealLabour_Escalator_to_Y1","v":0}]
[17,{"$f":"IF(ISBLANK('Input|Labour Rates'!B26),\"\",'Input|Labour Rates'!B26)","v":""},{"$f":"IF(ISBLANK('Input|Labour Rates'!C26),\"\",'Input|Labour Rates'!C26)","v":""},{"$f":"IF(ISBLANK('Input|Labour Rates'!D26),\"\",'Input|Labour Rates'!D26)","v":""},0,{"$f":"SUM(J26:M26)+J26*'Input|Indirect Cost Rates'!$D$35","v":0},null,{"$f":"'Input|Labour Rates'!$E26*CPI_Escalator_to_Y1*RealLabour_Escalator_to_Y1","v":0},{"$f":"H26*'Input|Labour Rates'!F26","v":0},0,{"$f":"J26*'Input|Labour Rates'!G26","v":0},{"$f":"'Input|Labour Rates'!I26*CPI_Escalator_to_Y1*RealLabour_Escalator_to_Y1","v":0},{"$f":"'Input|Labour Rates'!H26*CPI_Escalator_to_Y1*RealLabour_Escalator_to_Y1","v":0}]
[18,{"$f":"IF(ISBLANK('Input|Labour Rates'!B27),\"\",'Input|Labour Rates'!B27)","v":""},{"$f":"IF(ISBLANK('Input|Labour Rates'!C27),\"\",'Input|Labour Rates'!C27)","v":""},{"$f":"IF(ISBLANK('Input|Labour Rates'!D27),\"\",'Input|Labour Rates'!D27)","v":""},0,{"$f":"SUM(J27:M27)+J27*'Input|Indirect Cost Rates'!$D$35","v":0},null,{"$f":"'Input|Labour Rates'!$E27*CPI_Escalator_to_Y1*RealLabour_Escalator_to_Y1","v":0},{"$f":"H27*'Input|Labour Rates'!F27","v":0},0,{"$f":"J27*'Input|Labour Rates'!G27","v":0},{"$f":"'Input|Labour Rates'!I27*CPI_Escalator_to_Y1*RealLabour_Escalator_to_Y1","v":0},{"$f":"'Input|Labour Rates'!H27*CPI_Escalator_to_Y1*RealLabour_Escalator_to_Y1","v":0}]
[19,{"$f":"IF(ISBLANK('Input|Labour Rates'!B28),\"\",'Input|Labour Rates'!B28)","v":""},{"$f":"IF(ISBLANK('Input|Labour Rates'!C28),\"\",'Input|Labour Rates'!C28)","v":""},{"$f":"IF(ISBLANK('Input|Labour Rates'!D28),\"\",'Input|Labour Rates'!D28)","v":""},0,{"$f":"SUM(J28:M28)+J28*'Input|Indirect Cost Rates'!$D$35","v":0},null,{"$f":"'Input|Labour Rates'!$E28*CPI_Escalator_to_Y1*RealLabour_Escalator_to_Y1","v":0},{"$f":"H28*'Input|Labour Rates'!F28","v":0},0,{"$f":"J28*'Input|Labour Rates'!G28","v":0},{"$f":"'Input|Labour Rates'!I28*CPI_Escalator_to_Y1*RealLabour_Escalator_to_Y1","v":0},{"$f":"'Input|Labour Rates'!H28*CPI_Escalator_to_Y1*RealLabour_Escalator_to_Y1","v":0}]
[20,{"$f":"IF(ISBLANK('Input|Labour Rates'!B29),\"\",'Input|Labour Rates'!B29)","v":""},{"$f":"IF(ISBLANK('Input|Labour Rates'!C29),\"\",'Input|Labour Rates'!C29)","v":""},{"$f":"IF(ISBLANK('Input|Labour Rates'!D29),\"\",'Input|Labour Rates'!D29)","v":""},0,{"$f":"SUM(J29:M29)+J29*'Input|Indirect Cost Rates'!$D$35","v":0},null,{"$f":"'Input|Labour Rates'!$E29*CPI_Escalator_to_Y1*RealLabour_Escalator_to_Y1","v":0},{"$f":"H29*'Input|Labour Rates'!F29","v":0},0,{"$f":"J29*'Input|Labour Rates'!G29","v":0},{"$f":"'Input|Labour Rates'!I29*CPI_Escalator_to_Y1*RealLabour_Escalator_to_Y1","v":0},{"$f":"'Input|Labour Rates'!H29*CPI_Escalator_to_Y1*RealLabour_Escalator_to_Y1","v":0}]

{"sheet":"Calc|Fee Based","index":15,"n_rows":71,"n_cols":31,"rows_kept":71,"cut":false,"hidden":false,"merged":[[5,27,5,30]]}
[null,{"$f":"IFERROR(Index!B1,\"\")","v":"Jemena Electricity Networks – Alternative Control Services Forecast model"},null,null,"Input",null,"Sheet Validation",{"$f":"'Model Validation'!C17","v":0}]
[null,{"$f":"IFERROR(MID(CELL(\"filename\",A1),FIND(\"]\",CELL(\"filename\",A1))+1,255),\"\")","v":"Calc|Fee Based"},null,null,"Formula"]
[]
[]
[]
[null,"10.1 Fee based services",null,null,null,null,null,{"$f":"IFERROR(\"Year 1 PRICE, $'s ($\"&'Input|Setup'!$E$8&\")\",\"\")","v":"Year 1 PRICE, $'s ($2026-27)"},null,{"$f":"IFERROR(\"10.2 Year 1 service cost build up - DIRECT COSTS, $'s ($\"&'Input|Setup'!$E$8&\")\",\"\")","v":"10.2 Year 1 service cost build up - DIRECT COSTS, $'s ($2026-27)"},null,null,null,null,null,null,null,null,null,null,null,null,null,null,null,null,null,{"$f":"IFERROR(\"10.3 Year 1 Service cost build up - INDIRECT COSTS, $'s ($\"&'Input|Setup'!$E$8&\")\",\"\")","v":"10.3 Year 1 Service cost build up - INDIRECT COSTS, $'s ($2026-27)"}]
[]
[]
[]
[null,null,null,null,null,null,null,null,null,"Non-field based labour",null,null,null,{"$f":"IF(SUM(N12:N61)=0,0,1)","v":0},"Field based labour",null,null,null,null,null,{"$f":"IF(SUM(U12:U61)=0,0,1)","v":0},"Materials","Vehicles","Other",null,"Total Direct Cost",null,"Indirect Costs"]
[null,{"$f":"'Input|Fee Based'!B11","v":"Service code"},{"$f":"'Input|Fee Based'!C11","v":"Service"},{"$f":"'Input|Fee Based'!F11","v":"Service category"},{"$f":"'Input|Fee Based'!D11","v":"Hours"},{"$f":"'Input|Fee Based'!E11","v":"Expense Type"},{"$f":"'Input|Fee Based'!G11","v":"Control Mechanism"},"Total",null,"Labour category","Applied Labour Rate",{"$f":"J$11 &\n\" Total cost\"","v":"Labour category Total cost"},"TOTAL NON-FIELD LABOUR",{"$f":"IF(SUM(N13:N62)=0,0,1)","v":0},"Labour category","Applied Labour Rate","Travel cost","Task cost",{"$f":"O11 & \" Total cost\"","v":"Labour category Total cost"},"TOTAL FIELD LABOUR",null,"Total","Total","Total",null,"Total",null,"Network \nOverhead","Corporate Overhead","Margin","Tax recovery"]
[1,{"$f":"IF(ISBLANK('Input|Fee Based'!B12),\"\",'Input|Fee Based'!B12)","v":"ND1P"},{"$f":"IF(ISBLANK('Input|Fee Based'!C12),\"\",'Input|Fee Based'!C12)","v":"Basic connection, single-phase BH"},{"$f":"IF(ISBLANK('Input|Fee Based'!F12),\"\",'Input|Fee Based'!F12)","v":"Basic connection services"},{"$f":"IF(ISBLANK('Input|Fee Based'!D12),\"\",'Input|Fee Based'!D12)","v":"Business Hours"},{"$f":"IF(ISBLANK('Input|Fee Based'!E12),\"\",'Input|Fee Based'!E12)","v":"Capex"},{"$f":"IF(ISBLANK('Input|Fee Based'!G12),\"\",'Input|Fee Based'!G12)","v":"Fee Based"},{"$f":"$Z12+SUM($AB12:$AE12)","v":872.33250420147192},null,{"$f":"IF(ISBLANK('Input|Fee Based'!I12),\"\",'Input|Fee Based'!I12)","v":"Administrative Officer"},{"$f":"IFERROR(VLOOKUP(J12,'Calc|Labour Rates'!$B$10:$M$14,4,FALSE),0)","v":73.830453729551124},{"$f":"IFERROR(K12*'Input|Fee Based'!K12*'Input|Fee Based'!L12/'Input|Setup'!$E$19,0)","v":73.830453729551124},{"$f":"L12","v":73.830453729551124},{"$f":"IF(\nAND(K12<>0,L12=0),1,0)","v":0},{"$f":"IF(ISBLANK('Input|Fee Based'!$N12),\"\",'Input|Fee Based'!$N12)","v":"Field Worker"},{"$f":"IFERROR(IF(E12='Calc|Labour Rates'!$C$10,VLOOKUP(O12,'Calc|Labour Rates'!$B$10:$M$14,4,FALSE),VLOOKUP(O12,'Calc|Labour Rates'!$B$15:$M$19,4,FALSE)),0)","v":113.65932809307105},{"$f":"IFERROR((('Input|Fee Based'!Q12*'Input|Fee Based'!P12)/60)*P12,0)","v":113.65932809307105},{"$f":"IFERROR((('Input|Fee Based'!R12*'Input|Fee Based'!P12)/60)*Q12,0)","v":132.60254944191624},{"$f":"Q12+R12","v":246.26187753498729},{"$f":"S12","v":246.26187753498729},{"$f":"IF(\nAND(R12<>0,S12=0),1,0)","v":0},{"$f":"'Input|Fee Based'!T12*CPI_Escalator_to_Y1*RealMaterials_Escalator_to_Y1","v":131.83911277354798},{"$f":"'Input|Fee Based'!U12*CPI_Escalator_to_Y1*RealVehicles_Escalator_to_Y1","v":60.728340243980085},{"$f":"'Input|Fee Based'!V12*CPI_Escalator_to_Y1*RealOther_Escalator_to_Y1","v":0},null,{"$f":"SUM($M12,$T12,$V12,$W12,$X12)","v":512.65978428206654},null,{"$f":"$Z12*SUMIF('Input|Indirect Cost Rates'!$E$25:$E$26,$F12,'Input|Indirect Cost Rates'!$D$25:$D$26)","v":107.31458068230596},{"$f":"$Z12*SUMIF('Input|Indirect Cost Rates'!$E$27:$E$28,$F12,'Input|Indirect Cost Rates'!$D$27:$D$28)","v":205.56198199496217},{"$f":"$Z12*'Input|Fee Based'!Z12","v":30.759587056923991},{"$f":"SUM($Z12,$AB12:$AD12)*'Input|Fee Based'!$AA12","v":16.036570185213236}]
[{"$f":"IFERROR(A12+1,\"\")","v":2},{"$f":"IF(ISBLANK('Input|Fee Based'!B13),\"\",'Input|Fee Based'!B13)","v":"ND1P"},{"$f":"IF(ISBLANK('Input|Fee Based'!C13),\"\",'Input|Fee Based'!C13)","v":"Basic connection, single-phase AH"},{"$f":"IF(ISBLANK('Input|Fee Based'!F13),\"\",'Input|Fee Based'!F13)","v":"Basic connection services"},{"$f":"IF(ISBLANK('Input|Fee Based'!D13),\"\",'Input|Fee Based'!D13)","v":"After Hours"},{"$f":"IF(ISBLANK('Input|Fee Based'!E13),\"\",'Input|Fee Based'!E13)","v":"Capex"},{"$f":"IF(ISBLANK('Input|Fee Based'!G13),\"\",'Input|Fee Based'!G13)","v":"Fee Based"},{"$f":"$Z13+SUM($AB13:$AE13)","v":1230.2512393042891},null,{"$f":"IF(ISBLANK('Input|Fee Based'!I13),\"\",'Input|Fee Based'!I13)","v":"Administrative Officer"},{"$f":"IFERROR(VLOOKUP(J13,'Calc|Labour Rates'!$B$10:$M$14,4,FALSE),0)","v":73.830453729551124},{"$f":"IFERROR(K13*'Input|Fee Based'!K13*'Input|Fee Based'!L13/'Input|Setup'!$E$19,0)","v":73.830453729551124},{"$f":"L13","v":73.830453729551124},{"$f":"IF(\nAND(K13<>0,L13=0),1,0)","v":0},{"$f":"IF(ISBLANK('Input|Fee Based'!$N13),\"\",'Input|Fee Based'!$N13)","v":"Field Worker"},{"$f":"IFERROR(IF(E13='Calc|Labour Rates'!$C$10,VLOOKUP(O13,'Calc|Labour Rates'!$B$10:$M$14,4,FALSE),VLOOKUP(O13,'Calc|Labour Rates'!$B$15:$M$19,4,FALSE)),0)","v":210.74150929800402},{"$f":"IFERROR((('Input|Fee Based'!Q13*'Input|Fee Based'!P13)/60)*P13,0)","v":210.74150929800402},{"$f":"IFERROR((('Input|Fee Based'!R13*'Input|Fee Based'!P13)/60)*Q13,0)","v":245.86509418100471},{"$f":"Q13+R13","v":456.60660347900875},{"$f":"S13","v":456.60660347900875},{"$f":"IF(\nAND(R13<>0,S13=0),1,0)","v":0},{"$f":"'Input|Fee Based'!T13*CPI_Escalator_to_Y1*RealMaterials_Escalator_to_Y1","v":131.83911277354798},{"$f":"'Input|Fee Based'!U13*CPI_Escalator_to_Y1*RealVehicles_Escalator_to_Y1","v":60.728340243980085},{"$f":"'Input|Fee Based'!V13*CPI_Escalator_to_Y1*RealOther_Escalator_to_Y1","v":0},null,{"$f":"SUM($M13,$T13,$V13,$W13,$X13)","v":723.00451022608786},null,{"$f":"$Z13*SUMIF('Input|Indirect Cost Rates'!$E$25:$E$26,$F13,'Input|Indirect Cost Rates'!$D$25:$D$26)","v":151.34584031198165},{"$f":"$Z13*SUMIF('Input|Indirect Cost Rates'!$E$27:$E$28,$F13,'Input|Indirect Cost Rates'!$D$27:$D$28)","v":289.90423019333076},{"$f":"$Z13*'Input|Fee Based'!Z13","v":43.380270613565273},{"$f":"SUM($Z13,$AB13:$AD13)*'Input|Fee Based'!$AA13","v":22.616387959323628}]
[{"$f":"IFERROR(A13+1,\"\")","v":3},{"$f":"IF(ISBLANK('Input|Fee Based'!B14),\"\",'Input|Fee Based'!B14)","v":"ND3P"},{"$f":"IF(ISBLANK('Input|Fee Based'!C14),\"\",'Input|Fee Based'!C14)","v":"Basic connection, three-phase BH"},{"$f":"IF(ISBLANK('Input|Fee Based'!F14),\"\",'Input|Fee Based'!F14)","v":"Basic connection services"},{"$f":"IF(ISBLANK('Input|Fee Based'!D14),\"\",'Input|Fee Based'!D14)","v":"Business Hours"},{"$f":"IF(ISBLANK('Input|Fee Based'!E14),\"\",'Input|Fee Based'!E14)","v":"Capex"},{"$f":"IF(ISBLANK('Input|Fee Based'!G14),\"\",'Input|Fee Based'!G14)","v":"Fee Based"},1195.3470315990394,null,{"$f":"IF(ISBLANK('Input|Fee Based'!I14),\"\",'Input|Fee Based'!I14)","v":"Administrative Officer"},{"$f":"IFERROR(VLOOKUP(J14,'Calc|Labour Rates'!$B$10:$M$14,4,FALSE),0)","v":73.830453729551124},{"$f":"IFERROR(K14*'Input|Fee Based'!K14*'Input|Fee Based'!L14/'Input|Setup'!$E$19,0)","v":73.830453729551124},73.830453729551124,0,{"$f":"IF(ISBLANK('Input|Fee Based'!$N14),\"\",'Input|Fee Based'!$N14)","v":"Field Worker"},{"$f":"IFERROR(IF(E14='Calc|Labour Rates'!$C$10,VLOOKUP(O14,'Calc|Labour Rates'!$B$10:$M$14,4,FALSE),VLOOKUP(O14,'Calc|Labour Rates'!$B$15:$M$19,4,FALSE)),0)","v":113.65932809307105},{"$f":"IFERROR((('Input|Fee Based'!Q14*'Input|Fee Based'!P14)/60)*P14,0)","v":113.65932809307105},{"$f":"IFERROR((('Input|Fee Based'!R14*'Input|Fee Based'!P14)/60)*Q14,0)","v":132.60254944191624},246.26187753498729,246.26187753498729,0,{"$f":"'Input|Fee Based'!T14*CPI_Escalator_to_Y1*RealMaterials_Escalator_to_Y1","v":321.67103711207398},{"$f":"'Input|Fee Based'!U14*CPI_Escalator_to_Y1*RealVehicles_Escalator_to_Y1","v":60.728340243980085},{"$f":"'Input|Fee Based'!V14*CPI_Escalator_to_Y1*RealOther_Escalator_to_Y1","v":0},null,702.49170862059236,null,{"$f":"$Z14*SUMIF('Input|Indirect Cost Rates'!$E$25:$E$26,$F14,'Input|Indirect Cost Rates'!$D$25:$D$26)","v":147.05191523651308},{"$f":"$Z14*SUMIF('Input|Indirect Cost Rates'!$E$27:$E$28,$F14,'Input|Indirect Cost Rates'!$D$27:$D$28)","v":281.67918059206329},{"$f":"$Z14*'Input|Fee Based'!Z14","v":42.14950251723554},{"$f":"SUM($Z14,$AB14:$AD14)*'Input|Fee Based'!$AA14","v":21.974724632635045}]
[4,{"$f":"IF(ISBLANK('Input|Fee Based'!B15),\"\",'Input|Fee Based'!B15)","v":"ND3P"},{"$f":"IF(ISBLANK('Input|Fee Based'!C15),\"\",'Input|Fee Based'!C15)","v":"Basic connection, three-phase AH"},{"$f":"IF(ISBLANK('Input|Fee Based'!F15),\"\",'Input|Fee Based'!F15)","v":"Basic connection services"},{"$f":"IF(ISBLANK('Input|Fee Based'!D15),\"\",'Input|Fee Based'!D15)","v":"After Hours"},{"$f":"IF(ISBLANK('Input|Fee Based'!E15),\"\",'Input|Fee Based'!E15)","v":"Capex"},{"$f":"IF(ISBLANK('Input|Fee Based'!G15),\"\",'Input|Fee Based'!G15)","v":"Fee Based"},1553.265766701857,null,{"$f":"IF(ISBLANK('Input|Fee Based'!I15),\"\",'Input|Fee Based'!I15)","v":"Administrative Officer"},{"$f":"IFERROR(VLOOKUP(J15,'Calc|Labour Rates'!$B$10:$M$14,4,FALSE),0)","v":73.830453729551124},{"$f":"IFERROR(K15*'Input|Fee Based'!K15*'Input|Fee Based'!L15/'Input|Setup'!$E$19,0)","v":73.830453729551124},73.830453729551124,0,{"$f":"IF(ISBLANK('Input|Fee Based'!$N15),\"\",'Input|Fee Based'!$N15)","v":"Field Worker"},{"$f":"IFERROR(IF(E15='Calc|Labour Rates'!$C$10,VLOOKUP(O15,'Calc|Labour Rates'!$B$10:$M$14,4,FALSE),VLOOKUP(O15,'Calc|Labour Rates'!$B$15:$M$19,4,FALSE)),0)","v":210.74150929800402},{"$f":"IFERROR((('Input|Fee Based'!Q15*'Input|Fee Based'!P15)/60)*P15,0)","v":210.74150929800402},{"$f":"IFERROR((('Input|Fee Based'!R15*'Input|Fee Based'!P15)/60)*Q15,0)","v":245.86509418100471},456.60660347900875,456.60660347900875,0,{"$f":"'Input|Fee Based'!T15*CPI_Escalator_to_Y1*RealMaterials_Escalator_to_Y1","v":321.67103711207398},{"$f":"'Input|Fee Based'!U15*CPI_Escalator_to_Y1*RealVehicles_Escalator_to_Y1","v":60.728340243980085},{"$f":"'Input|Fee Based'!V15*CPI_Escalator_to_Y1*RealOther_Escalator_to_Y1","v":0},null,912.83643456461391,null,{"$f":"$Z15*SUMIF('Input|Indirect Cost Rates'!$E$25:$E$26,$F15,'Input|Indirect Cost Rates'!$D$25:$D$26)","v":191.08317486618881},{"$f":"$Z15*SUMIF('Input|Indirect Cost Rates'!$E$27:$E$28,$F15,'Input|Indirect Cost Rates'!$D$27:$D$28)","v":366.02142879043197},{"$f":"$Z15*'Input|Fee Based'!Z15","v":54.770186073876836},{"$f":"SUM($Z15,$AB15:$AD15)*'Input|Fee Based'!$AA15","v":28.554542406745444}]
[5,{"$f":"IF(ISBLANK('Input|Fee Based'!B16),\"\",'Input|Fee Based'!B16)","v":"BTSO"},{"$f":"IF(ISBLANK('Input|Fee Based'!C16),\"\",'Input|Fee Based'!C16)","v":"Temporary connection, single-phase BH"},{"$f":"IF(ISBLANK('Input|Fee Based'!F16),\"\",'Input|Fee Based'!F16)","v":"Connection service"},{"$f":"IF(ISBLANK('Input|Fee Based'!D16),\"\",'Input|Fee Based'!D16)","v":"Business Hours"},{"$f":"IF(ISBLANK('Input|Fee Based'!E16),\"\",'Input|Fee Based'!E16)","v":"Capex"},{"$f":"IF(ISBLANK('Input|Fee Based'!G16),\"\",'Input|Fee Based'!G16)","v":"Fee Based"},872.33250420147192,null,{"$f":"IF(ISBLANK('Input|Fee Based'!I16),\"\",'Input|Fee Based'!I16)","v":"Administrative Officer"},{"$f":"IFERROR(VLOOKUP(J16,'Calc|Labour Rates'!$B$10:$M$14,4,FALSE),0)","v":73.830453729551124},{"$f":"IFERROR(K16*'Input|Fee Based'!K16*'Input|Fee Based'!L16/'Input|Setup'!$E$19,0)","v":73.830453729551124},73.830453729551124,0,{"$f":"IF(ISBLANK('Input|Fee Based'!$N16),\"\",'Input|Fee Based'!$N16)","v":"Field Worker"},{"$f":"IFERROR(IF(E16='Calc|Labour Rates'!$C$10,VLOOKUP(O16,'Calc|Labour Rates'!$B$10:$M$14,4,FALSE),VLOOKUP(O16,'Calc|Labour Rates'!$B$15:$M$19,4,FALSE)),0)","v":113.65932809307105},{"$f":"IFERROR((('Input|Fee Based'!Q16*'Input|Fee Based'!P16)/60)*P16,0)","v":113.65932809307105},{"$f":"IFERROR((('Input|Fee Based'!R16*'Input|Fee Based'!P16)/60)*Q16,0)","v":132.60254944191624},246.26187753498729,246.26187753498729,0,{"$f":"'Input|Fee Based'!T16*CPI_Escalator_to_Y1*RealMaterials_Escalator_to_Y1","v":131.83911277354798},{"$f":"'Input|Fee Based'!U16*CPI_Escalator_to_Y1*RealVehicles_Escalator_to_Y1","v":60.728340243980085},{"$f":"'Input|Fee Based'!V16*CPI_Escalator_to_Y1*RealOther_Escalator_to_Y1","v":0},null,512.65978428206654,null,{"$f":"$Z16*SUMIF('Input|Indirect Cost Rates'!$E$25:$E$26,$F16,'Input|Indirect Cost Rates'!$D$25:$D$26)","v":107.31458068230596},{"$f":"$Z16*SUMIF('Input|Indirect Cost Rates'!$E$27:$E$28,$F16,'Input|Indirect Cost Rates'!$D$27:$D$28)","v":205.56198199496217},{"$f":"$Z16*'Input|Fee Based'!Z16","v":30.759587056923991},{"$f":"SUM($Z16,$AB16:$AD16)*'Input|Fee Based'!$AA16","v":16.036570185213236}]
[6,{"$f":"IF(ISBLANK('Input|Fee Based'!B17),\"\",'Input|Fee Based'!B17)","v":"BTSO"},{"$f":"IF(ISBLANK('Input|Fee Based'!C17),\"\",'Input|Fee Based'!C17)","v":"Temporary connection, single-phase AH"},{"$f":"IF(ISBLANK('Input|Fee Based'!F17),\"\",'Input|Fee Based'!F17)","v":"Connection service"},{"$f":"IF(ISBLANK('Input|Fee Based'!D17),\"\",'Input|Fee Based'!D17)","v":"After Hours"},{"$f":"IF(ISBLANK('Input|Fee Based'!E17),\"\",'Input|Fee Based'!E17)","v":"Capex"},{"$f":"IF(ISBLANK('Input|Fee Based'!G17),\"\",'Input|Fee Based'!G17)","v":"Fee Based"},1230.2512393042891,null,{"$f":"IF(ISBLANK('Input|Fee Based'!I17),\"\",'Input|Fee Based'!I17)","v":"Administrative Officer"},{"$f":"IFERROR(VLOOKUP(J17,'Calc|Labour Rates'!$B$10:$M$14,4,FALSE),0)","v":73.830453729551124},{"$f":"IFERROR(K17*'Input|Fee Based'!K17*'Input|Fee Based'!L17/'Input|Setup'!$E$19,0)","v":73.830453729551124},73.830453729551124,0,{"$f":"IF(ISBLANK('Input|Fee Based'!$N17),\"\",'Input|Fee Based'!$N17)","v":"Field Worker"},{"$f":"IFERROR(IF(E17='Calc|Labour Rates'!$C$10,VLOOKUP(O17,'Calc|Labour Rates'!$B$10:$M$14,4,FALSE),VLOOKUP(O17,'Calc|Labour Rates'!$B$15:$M$19,4,FALSE)),0)","v":210.74150929800402},{"$f":"IFERROR((('Input|Fee Based'!Q17*'Input|Fee Based'!P17)/60)*P17,0)","v":210.74150929800402},{"$f":"IFERROR((('Input|Fee Based'!R17*'Input|Fee Based'!P17)/60)*Q17,0)","v":245.86509418100471},456.60660347900875,456.60660347900875,0,{"$f":"'Input|Fee Based'!T17*CPI_Escalator_to_Y1*RealMaterials_Escalator_to_Y1","v":131.83911277354798},{"$f":"'Input|Fee Based'!U17*CPI_Escalator_to_Y1*RealVehicles_Escalator_to_Y1","v":60.728340243980085},{"$f":"'Input|Fee Based'!V17*CPI_Escalator_to_Y1*RealOther_Escalator_to_Y1","v":0},null,723.00451022608786,null,{"$f":"$Z17*SUMIF('Input|Indirect Cost Rates'!$E$25:$E$26,$F17,'Input|Indirect Cost Rates'!$D$25:$D$26)","v":151.34584031198165},{"$f":"$Z17*SUMIF('Input|Indirect Cost Rates'!$E$27:$E$28,$F17,'Input|Indirect Cost Rates'!$D$27:$D$28)","v":289.90423019333076},{"$f":"$Z17*'Input|Fee Based'!Z17","v":43.380270613565273},{"$f":"SUM($Z17,$AB17:$AD17)*'Input|Fee Based'!$AA17","v":22.616387959323628}]
[7,{"$f":"IF(ISBLANK('Input|Fee Based'!B18),\"\",'Input|Fee Based'!B18)","v":"BTSP"},{"$f":"IF(ISBLANK('Input|Fee Based'!C18),\"\",'Input|Fee Based'!C18)","v":"Temporary connection, three-phase BH"},{"$f":"IF(ISBLANK('Input|Fee Based'!F18),\"\",'Input|Fee Based'!F18)","v":"Connection service"},{"$f":"IF(ISBLANK('Input|Fee Based'!D18),\"\",'Input|Fee Based'!D18)","v":"Business Hours"},{"$f":"IF(ISBLANK('Input|Fee Based'!E18),\"\",'Input|Fee Based'!E18)","v":"Capex"},{"$f":"IF(ISBLANK('Input|Fee Based'!G18),\"\",'Input|Fee Based'!G18)","v":"Fee Based"},1195.3470315990394,null,{"$f":"IF(ISBLANK('Input|Fee Based'!I18),\"\",'Input|Fee Based'!I18)","v":"Administrative Officer"},{"$f":"IFERROR(VLOOKUP(J18,'Calc|Labour Rates'!$B$10:$M$14,4,FALSE),0)","v":73.830453729551124},{"$f":"IFERROR(K18*'Input|Fee Based'!K18*'Input|Fee Based'!L18/'Input|Setup'!$E$19,0)","v":73.830453729551124},73.830453729551124,0,{"$f":"IF(ISBLANK('Input|Fee Based'!$N18),\"\",'Input|Fee Based'!$N18)","v":"Field Worker"},{"$f":"IFERROR(IF(E18='Calc|Labour Rates'!$C$10,VLOOKUP(O18,'Calc|Labour Rates'!$B$10:$M$14,4,FALSE),VLOOKUP(O18,'Calc|Labour Rates'!$B$15:$M$19,4,FALSE)),0)","v":113.65932809307105},{"$f":"IFERROR((('Input|Fee Based'!Q18*'Input|Fee Based'!P18)/60)*P18,0)","v":113.65932809307105},{"$f":"IFERROR((('Input|Fee Based'!R18*'Input|Fee Based'!P18)/60)*Q18,0)","v":132.60254944191624},246.26187753498729,246.26187753498729,0,{"$f":"'Input|Fee Based'!T18*CPI_Escalator_to_Y1*RealMaterials_Escalator_to_Y1","v":321.67103711207398},{"$f":"'Input|Fee Based'!U18*CPI_Escalator_to_Y1*RealVehicles_Escalator_to_Y1","v":60.728340243980085},{"$f":"'Input|Fee Based'!V18*CPI_Escalator_to_Y1*RealOther_Escalator_to_Y1","v":0},null,702.49170862059236,null,{"$f":"$Z18*SUMIF('Input|Indirect Cost Rates'!$E$25:$E$26,$F18,'Input|Indirect Cost Rates'!$D$25:$D$26)","v":147.05191523651308},{"$f":"$Z18*SUMIF('Input|Indirect Cost Rates'!$E$27:$E$28,$F18,'Input|Indirect Cost Rates'!$D$27:$D$28)","v":281.67918059206329},{"$f":"$Z18*'Input|Fee Based'!Z18","v":42.14950251723554},{"$f":"SUM($Z18,$AB18:$AD18)*'Input|Fee Based'!$AA18","v":21.974724632635045}]
[8,{"$f":"IF(ISBLANK('Input|Fee Based'!B19),\"\",'Input|Fee Based'!B19)","v":"BTSP"},{"$f":"IF(ISBLANK('Input|Fee Based'!C19),\"\",'Input|Fee Based'!C19)","v":"Temporary connection, three-phase AH"},{"$f":"IF(ISBLANK('Input|Fee Based'!F19),\"\",'Input|Fee Based'!F19)","v":"Connection service"},{"$f":"IF(ISBLANK('Input|Fee Based'!D19),\"\",'Input|Fee Based'!D19)","v":"After Hours"},{"$f":"IF(ISBLANK('Input|Fee Based'!E19),\"\",'Input|Fee Based'!E19)","v":"Capex"},{"$f":"IF(ISBLANK('Input|Fee Based'!G19),\"\",'Input|Fee Based'!G19)","v":"Fee Based"},1553.265766701857,null,{"$f":"IF(ISBLANK('Input|Fee Based'!I19),\"\",'Input|Fee Based'!I19)","v":"Administrative Officer"},{"$f":"IFERROR(VLOOKUP(J19,'Calc|Labour Rates'!$B$10:$M$14,4,FALSE),0)","v":73.830453729551124},{"$f":"IFERROR(K19*'Input|Fee Based'!K19*'Input|Fee Based'!L19/'Input|Setup'!$E$19,0)","v":73.830453729551124},73.830453729551124,0,{"$f":"IF(ISBLANK('Input|Fee Based'!$N19),\"\",'Input|Fee Based'!$N19)","v":"Field Worker"},{"$f":"IFERROR(IF(E19='Calc|Labour Rates'!$C$10,VLOOKUP(O19,'Calc|Labour Rates'!$B$10:$M$14,4,FALSE),VLOOKUP(O19,'Calc|Labour Rates'!$B$15:$M$19,4,FALSE)),0)","v":210.74150929800402},{"$f":"IFERROR((('Input|Fee Based'!Q19*'Input|Fee Based'!P19)/60)*P19,0)","v":210.74150929800402},{"$f":"IFERROR((('Input|Fee Based'!R19*'Input|Fee Based'!P19)/60)*Q19,0)","v":245.86509418100471},456.60660347900875,456.60660347900875,0,{"$f":"'Input|Fee Based'!T19*CPI_Escalator_to_Y1*RealMaterials_Escalator_to_Y1","v":321.67103711207398},{"$f":"'Input|Fee Based'!U19*CPI_Escalator_to_Y1*RealVehicles_Escalator_to_Y1","v":60.728340243980085},{"$f":"'Input|Fee Based'!V19*CPI_Escalator_to_Y1*RealOther_Escalator_to_Y1","v":0},null,912.83643456461391,null,{"$f":"$Z19*SUMIF('Input|Indirect Cost Rates'!$E$25:$E$26,$F19,'Input|Indirect Cost Rates'!$D$25:$D$26)","v":191.08317486618881},{"$f":"$Z19*SUMIF('Input|Indirect Cost Rates'!$E$27:$E$28,$F19,'Input|Indirect Cost Rates'!$D$27:$D$28)","v":366.02142879043197},{"$f":"$Z19*'Input|Fee Based'!Z19","v":54.770186073876836},{"$f":"SUM($Z19,$AB19:$AD19)*'Input|Fee Based'!$AA19","v":28.554542406745444}]
[9,{"$f":"IF(ISBLANK('Input|Fee Based'!B20),\"\",'Input|Fee Based'!B20)","v":"SUTK"},{"$f":"IF(ISBLANK('Input|Fee Based'!C20),\"\",'Input|Fee Based'!C20)","v":"Supply upgrade/enhancement (1ph to 3ph) BH"},{"$f":"IF(ISBLANK('Input|Fee Based'!F20),\"\",'Input|Fee Based'!F20)","v":"Connection service"},{"$f":"IF(ISBLANK('Input|Fee Based'!D20),\"\",'Input|Fee Based'!D20)","v":"Business Hours"},{"$f":"IF(ISBLANK('Input|Fee Based'!E20),\"\",'Input|Fee Based'!E20)","v":"Capex"},{"$f":"IF(ISBLANK('Input|Fee Based'!G20),\"\",'Input|Fee Based'!G20)","v":"Fee Based"},1195.3470315990394,null,{"$f":"IF(ISBLANK('Input|Fee Based'!I20),\"\",'Input|Fee Based'!I20)","v":"Administrative Officer"},{"$f":"IFERROR(VLOOKUP(J20,'Calc|Labour Rates'!$B$10:$M$14,4,FALSE),0)","v":73.830453729551124},{"$f":"IFERROR(K20*'Input|Fee Based'!K20*'Input|Fee Based'!L20/'Input|Setup'!$E$19,0)","v":73.830453729551124},73.830453729551124,0,{"$f":"IF(ISBLANK('Input|Fee Based'!$N20),\"\",'Input|Fee Based'!$N20)","v":"Field Worker"},{"$f":"IFERROR(IF(E20='Calc|Labour Rates'!$C$10,VLOOKUP(O20,'Calc|Labour Rates'!$B$10:$M$14,4,FALSE),VLOOKUP(O20,'Calc|Labour Rates'!$B$15:$M$19,4,FALSE)),0)","v":113.65932809307105},{"$f":"IFERROR((('Input|Fee Based'!Q20*'Input|Fee Based'!P20)/60)*P20,0)","v":113.65932809307105},{"$f":"IFERROR((('Input|Fee Based'!R20*'Input|Fee Based'!P20)/60)*Q20,0)","v":132.60254944191624},246.26187753498729,246.26187753498729,0,{"$f":"'Input|Fee Based'!T20*CPI_Escalator_to_Y1*RealMaterials_Escalator_to_Y1","v":321.67103711207398},{"$f":"'Input|Fee Based'!U20*CPI_Escalator_to_Y1*RealVehicles_Escalator_to_Y1","v":60.728340243980085},{"$f":"'Input|Fee Based'!V20*CPI_Escalator_to_Y1*RealOther_Escalator_to_Y1","v":0},null,702.49170862059236,null,{"$f":"$Z20*SUMIF('Input|Indirect Cost Rates'!$E$25:$E$26,$F20,'Input|Indirect Cost Rates'!$D$25:$D$26)","v":147.05191523651308},{"$f":"$Z20*SUMIF('Input|Indirect Cost Rates'!$E$27:$E$28,$F20,'Input|Indirect Cost Rates'!$D$27:$D$28)","v":281.67918059206329},{"$f":"$Z20*'Input|Fee Based'!Z20","v":42.14950251723554},{"$f":"SUM($Z20,$AB20:$AD20)*'Input|Fee Based'!$AA20","v":21.974724632635045}]
[10,{"$f":"IF(ISBLANK('Input|Fee Based'!B21),\"\",'Input|Fee Based'!B21)","v":"SUTK"},{"$f":"IF(ISBLANK('Input|Fee Based'!C21),\"\",'Input|Fee Based'!C21)","v":"Supply upgrade/enhancement (1ph to 3ph) AH"},{"$f":"IF(ISBLANK('Input|Fee Based'!F21),\"\",'Input|Fee Based'!F21)","v":"Connection service"},{"$f":"IF(ISBLANK('Input|Fee Based'!D21),\"\",'Input|Fee Based'!D21)","v":"After Hours"},{"$f":"IF(ISBLANK('Input|Fee Based'!E21),\"\",'Input|Fee Based'!E21)","v":"Capex"},{"$f":"IF(ISBLANK('Input|Fee Based'!G21),\"\",'Input|Fee Based'!G21)","v":"Fee Based"},1553.265766701857,null,{"$f":"IF(ISBLANK('Input|Fee Based'!I21),\"\",'Input|Fee Based'!I21)","v":"Administrative Officer"},{"$f":"IFERROR(VLOOKUP(J21,'Calc|Labour Rates'!$B$10:$M$14,4,FALSE),0)","v":73.830453729551124},{"$f":"IFERROR(K21*'Input|Fee Based'!K21*'Input|Fee Based'!L21/'Input|Setup'!$E$19,0)","v":73.830453729551124},73.830453729551124,0,{"$f":"IF(ISBLANK('Input|Fee Based'!$N21),\"\",'Input|Fee Based'!$N21)","v":"Field Worker"},{"$f":"IFERROR(IF(E21='Calc|Labour Rates'!$C$10,VLOOKUP(O21,'Calc|Labour Rates'!$B$10:$M$14,4,FALSE),VLOOKUP(O21,'Calc|Labour Rates'!$B$15:$M$19,4,FALSE)),0)","v":210.74150929800402},{"$f":"IFERROR((('Input|Fee Based'!Q21*'Input|Fee Based'!P21)/60)*P21,0)","v":210.74150929800402},{"$f":"IFERROR((('Input|Fee Based'!R21*'Input|Fee Based'!P21)/60)*Q21,0)","v":245.86509418100471},456.60660347900875,456.60660347900875,0,{"$f":"'Input|Fee Based'!T21*CPI_Escalator_to_Y1*RealMaterials_Escalator_to_Y1","v":321.67103711207398},{"$f":"'Input|Fee Based'!U21*CPI_Escalator_to_Y1*RealVehicles_Escalator_to_Y1","v":60.728340243980085},{"$f":"'Input|Fee Based'!V21*CPI_Escalator_to_Y1*RealOther_Escalator_to_Y1","v":0},null,912.83643456461391,null,{"$f":"$Z21*SUMIF('Input|Indirect Cost Rates'!$E$25:$E$26,$F21,'Input|Indirect Cost Rates'!$D$25:$D$26)","v":191.08317486618881},{"$f":"$Z21*SUMIF('Input|Indirect Cost Rates'!$E$27:$E$28,$F21,'Input|Indirect Cost Rates'!$D$27:$D$28)","v":366.02142879043197},{"$f":"$Z21*'Input|Fee Based'!Z21","v":54.770186073876836},{"$f":"SUM($Z21,$AB21:$AD21)*'Input|Fee Based'!$AA21","v":28.554542406745444}]
[11,{"$f":"IF(ISBLANK('Input|Fee Based'!B22),\"\",'Input|Fee Based'!B22)","v":"RTK1"},{"$f":"IF(ISBLANK('Input|Fee Based'!C22),\"\",'Input|Fee Based'!C22)","v":"Replacement of 1-phase overhead service line BH"},{"$f":"IF(ISBLANK('Input|Fee Based'!F22),\"\",'Input|Fee Based'!F22)","v":"Connection service"},{"$f":"IF(ISBLANK('Input|Fee Based'!D22),\"\",'Input|Fee Based'!D22)","v":"Business Hours"},{"$f":"IF(ISBLANK('Input|Fee Based'!E22),\"\",'Input|Fee Based'!E22)","v":"Capex"},{"$f":"IF(ISBLANK('Input|Fee Based'!G22),\"\",'Input|Fee Based'!G22)","v":"Fee Based"},908.25697194742463,null,{"$f":"IF(ISBLANK('Input|Fee Based'!I22),\"\",'Input|Fee Based'!I22)","v":"Administrative Officer"},{"$f":"IFERROR(VLOOKUP(J22,'Calc|Labour Rates'!$B$10:$M$14,4,FALSE),0)","v":73.830453729551124},{"$f":"IFERROR(K22*'Input|Fee Based'!K22*'Input|Fee Based'!L22/'Input|Setup'!$E$19,0)","v":73.830453729551124},73.830453729551124,0,{"$f":"IF(ISBLANK('Input|Fee Based'!$N22),\"\",'Input|Fee Based'!$N22)","v":"Field Worker"},{"$f":"IFERROR(IF(E22='Calc|Labour Rates'!$C$10,VLOOKUP(O22,'Calc|Labour Rates'!$B$10:$M$14,4,FALSE),VLOOKUP(O22,'Calc|Labour Rates'!$B$15:$M$19,4,FALSE)),0)","v":113.65932809307105},{"$f":"IFERROR((('Input|Fee Based'!Q22*'Input|Fee Based'!P22)/60)*P22,0)","v":113.65932809307105},{"$f":"IFERROR((('Input|Fee Based'!R22*'Input|Fee Based'!P22)/60)*Q22,0)","v":132.60254944191624},246.26187753498729,246.26187753498729,0,{"$f":"'Input|Fee Based'!T22*CPI_Escalator_to_Y1*RealMaterials_Escalator_to_Y1","v":128.33015681327399},{"$f":"'Input|Fee Based'!U22*CPI_Escalator_to_Y1*RealVehicles_Escalator_to_Y1","v":85.349692906641152},{"$f":"'Input|Fee Based'!V22*CPI_Escalator_to_Y1*RealOther_Escalator_to_Y1","v":0},null,533.7721809844536,null,{"$f":"$Z22*SUMIF('Input|Indirect Cost Rates'!$E$25:$E$26,$F22,'Input|Indirect Cost Rates'!$D$25:$D$26)","v":111.73401842402004},{"$f":"$Z22*SUMIF('Input|Indirect Cost Rates'!$E$27:$E$28,$F22,'Input|Indirect Cost Rates'!$D$27:$D$28)","v":214.02745216419777},{"$f":"$Z22*'Input|Fee Based'!Z22","v":32.026330859067215},{"$f":"SUM($Z22,$AB22:$AD22)*'Input|Fee Based'!$AA22","v":16.696989515686042}]
[12,{"$f":"IF(ISBLANK('Input|Fee Based'!B23),\"\",'Input|Fee Based'!B23)","v":"RTK1"},{"$f":"IF(ISBLANK('Input|Fee Based'!C23),\"\",'Input|Fee Based'!C23)","v":"Replacement of 1-phase overhead service line AH"},{"$f":"IF(ISBLANK('Input|Fee Based'!F23),\"\",'Input|Fee Based'!F23)","v":"Connection service"},{"$f":"IF(ISBLANK('Input|Fee Based'!D23),\"\",'Input|Fee Based'!D23)","v":"After Hours"},{"$f":"IF(ISBLANK('Input|Fee Based'!E23),\"\",'Input|Fee Based'!E23)","v":"Capex"},{"$f":"IF(ISBLANK('Input|Fee Based'!G23),\"\",'Input|Fee Based'!G23)","v":"Fee Based"},1266.1757070502422,null,{"$f":"IF(ISBLANK('Input|Fee Based'!I23),\"\",'Input|Fee Based'!I23)","v":"Administrative Officer"},{"$f":"IFERROR(VLOOKUP(J23,'Calc|Labour Rates'!$B$10:$M$14,4,FALSE),0)","v":73.830453729551124},{"$f":"IFERROR(K23*'Input|Fee Based'!K23*'Input|Fee Based'!L23/'Input|Setup'!$E$19,0)","v":73.830453729551124},73.830453729551124,0,{"$f":"IF(ISBLANK('Input|Fee Based'!$N23),\"\",'Input|Fee Based'!$N23)","v":"Field Worker"},{"$f":"IFERROR(IF(E23='Calc|Labour Rates'!$C$10,VLOOKUP(O23,'Calc|Labour Rates'!$B$10:$M$14,4,FALSE),VLOOKUP(O23,'Calc|Labour Rates'!$B$15:$M$19,4,FALSE)),0)","v":210.74150929800402},{"$f":"IFERROR((('Input|Fee Based'!Q23*'Input|Fee Based'!P23)/60)*P23,0)","v":210.74150929800402},{"$f":"IFERROR((('Input|Fee Based'!R23*'Input|Fee Based'!P23)/60)*Q23,0)","v":245.86509418100471},456.60660347900875,456.60660347900875,0,{"$f":"'Input|Fee Based'!T23*CPI_Escalator_to_Y1*RealMaterials_Escalator_to_Y1","v":128.33015681327399},{"$f":"'Input|Fee Based'!U23*CPI_Escalator_to_Y1*RealVehicles_Escalator_to_Y1","v":85.349692906641152},{"$f":"'Input|Fee Based'!V23*CPI_Escalator_to_Y1*RealOther_Escalator_to_Y1","v":0},null,744.11690692847503,null,{"$f":"$Z23*SUMIF('Input|Indirect Cost Rates'!$E$25:$E$26,$F23,'Input|Indirect Cost Rates'!$D$25:$D$26)","v":155.76527805369577},{"$f":"$Z23*SUMIF('Input|Indirect Cost Rates'!$E$27:$E$28,$F23,'Input|Indirect Cost Rates'!$D$27:$D$28)","v":298.36970036256639},{"$f":"$Z23*'Input|Fee Based'!Z23","v":44.647014415708497},{"$f":"SUM($Z23,$AB23:$AD23)*'Input|Fee Based'!$AA23","v":23.276807289796441}]
[13,{"$f":"IF(ISBLANK('Input|Fee Based'!B24),\"\",'Input|Fee Based'!B24)","v":"REEN"},{"$f":"IF(ISBLANK('Input|Fee Based'!C24),\"\",'Input|Fee Based'!C24)","v":"Field-based energisation BH"},{"$f":"IF(ISBLANK('Input|Fee Based'!F24),\"\",'Input|Fee Based'!F24)","v":"Connection service"},{"$f":"IF(ISBLANK('Input|Fee Based'!D24),\"\",'Input|Fee Based'!D24)","v":"Business Hours"},{"$f":"IF(ISBLANK('Input|Fee Based'!E24),\"\",'Input|Fee Based'!E24)","v":"Opex"},{"$f":"IF(ISBLANK('Input|Fee Based'!G24),\"\",'Input|Fee Based'!G24)","v":"Fee Based"},159.8233370499355,null,{"$f":"IF(ISBLANK('Input|Fee Based'!I24),\"\",'Input|Fee Based'!I24)","v":"Administrative Officer"},{"$f":"IFERROR(VLOOKUP(J24,'Calc|Labour Rates'!$B$10:$M$14,4,FALSE),0)","v":73.830453729551124},{"$f":"IFERROR(K24*'Input|Fee Based'!K24*'Input|Fee Based'!L24/'Input|Setup'!$E$19,0)","v":15.627446039421653},15.627446039421653,0,{"$f":"IF(ISBLANK('Input|Fee Based'!$N24),\"\",'Input|Fee Based'!$N24)","v":"Field Worker"},{"$f":"IFERROR(IF(E24='Calc|Labour Rates'!$C$10,VLOOKUP(O24,'Calc|Labour Rates'!$B$10:$M$14,4,FALSE),VLOOKUP(O24,'Calc|Labour Rates'!$B$15:$M$19,4,FALSE)),0)","v":113.65932809307105},{"$f":"IFERROR((('Input|Fee Based'!Q24*'Input|Fee Based'!P24)/60)*P24,0)","v":37.886442697690349},{"$f":"IFERROR((('Input|Fee Based'!R24*'Input|Fee Based'!P24)/60)*Q24,0)","v":9.4716106744225872},47.358053372112934,47.358053372112934,0,{"$f":"'Input|Fee Based'!T24*CPI_Escalator_to_Y1*RealMaterials_Escalator_to_Y1","v":0},{"$f":"'Input|Fee Based'!U24*CPI_Escalator_to_Y1*RealVehicles_Escalator_to_Y1","v":32.699875515989277},{"$f":"'Input|Fee Based'!V24*CPI_Escalator_to_Y1*RealOther_Escalator_to_Y1","v":0},null,95.685374927523867,null,{"$f":"$Z24*SUMIF('Input|Indirect Cost Rates'!$E$25:$E$26,$F24,'Input|Indirect Cost Rates'!$D$25:$D$26)","v":20.029727711442135},{"$f":"$Z24*SUMIF('Input|Indirect Cost Rates'!$E$27:$E$28,$F24,'Input|Indirect Cost Rates'!$D$27:$D$28)","v":38.36711191531807},{"$f":"$Z24*'Input|Fee Based'!Z24","v":5.7411224956514317},{"$f":"SUM($Z24,$AB24:$AD24)*'Input|Fee Based'!$AA24","v":0}]
[14,{"$f":"IF(ISBLANK('Input|Fee Based'!B25),\"\",'Input|Fee Based'!B25)","v":"REEN"},{"$f":"IF(ISBLANK('Input|Fee Based'!C25),\"\",'Input|Fee Based'!C25)","v":"Field-based energisation AH"},{"$f":"IF(ISBLANK('Input|Fee Based'!F25),\"\",'Input|Fee Based'!F25)","v":"Connection service"},{"$f":"IF(ISBLANK('Input|Fee Based'!D25),\"\",'Input|Fee Based'!D25)","v":"After Hours"},{"$f":"IF(ISBLANK('Input|Fee Based'!E25),\"\",'Input|Fee Based'!E25)","v":"Opex"},{"$f":"IF(ISBLANK('Input|Fee Based'!G25),\"\",'Input|Fee Based'!G25)","v":"Fee Based"},227.38851345930226,null,{"$f":"IF(ISBLANK('Input|Fee Based'!I25),\"\",'Input|Fee Based'!I25)","v":"Administrative Officer"},{"$f":"IFERROR(VLOOKUP(J25,'Calc|Labour Rates'!$B$10:$M$14,4,FALSE),0)","v":73.830453729551124},{"$f":"IFERROR(K25*'Input|Fee Based'!K25*'Input|Fee Based'!L25/'Input|Setup'!$E$19,0)","v":15.627446039421653},15.627446039421653,0,{"$f":"IF(ISBLANK('Input|Fee Based'!$N25),\"\",'Input|Fee Based'!$N25)","v":"Field Worker"},{"$f":"IFERROR(IF(E25='Calc|Labour Rates'!$C$10,VLOOKUP(O25,'Calc|Labour Rates'!$B$10:$M$14,4,FALSE),VLOOKUP(O25,'Calc|Labour Rates'!$B$15:$M$19,4,FALSE)),0)","v":210.74150929800402},{"$f":"IFERROR((('Input|Fee Based'!Q25*'Input|Fee Based'!P25)/60)*P25,0)","v":70.247169766001335},{"$f":"IFERROR((('Input|Fee Based'!R25*'Input|Fee Based'!P25)/60)*Q25,0)","v":17.561792441500334},87.808962207501665,87.808962207501665,0,{"$f":"'Input|Fee Based'!T25*CPI_Escalator_to_Y1*RealMaterials_Escalator_to_Y1","v":0},{"$f":"'Input|Fee Based'!U25*CPI_Escalator_to_Y1*RealVehicles_Escalator_to_Y1","v":32.699875515989277},{"$f":"'Input|Fee Based'!V25*CPI_Escalator_to_Y1*RealOther_Escalator_to_Y1","v":0},null,136.1362837629126,null,{"$f":"$Z25*SUMIF('Input|Indirect Cost Rates'!$E$25:$E$26,$F25,'Input|Indirect Cost Rates'!$D$25:$D$26)","v":28.497277640225928},{"$f":"$Z25*SUMIF('Input|Indirect Cost Rates'!$E$27:$E$28,$F25,'Input|Indirect Cost Rates'!$D$27:$D$28)","v":54.586775030388964},{"$f":"$Z25*'Input|Fee Based'!Z25","v":8.1681770257747548},{"$f":"SUM($Z25,$AB25:$AD25)*'Input|Fee Based'!$AA25","v":0}]
[15,{"$f":"IF(ISBLANK('Input|Fee Based'!B26),\"\",'Input|Fee Based'!B26)","v":"DEEN"},{"$f":"IF(ISBLANK('Input|Fee Based'!C26),\"\",'Input|Fee Based'!C26)","v":"Field-based de-energisation BH"},{"$f":"IF(ISBLANK('Input|Fee Based'!F26),\"\",'Input|Fee Based'!F26)","v":"Connection service"},{"$f":"IF(ISBLANK('Input|Fee Based'!D26),\"\",'Input|Fee Based'!D26)","v":"Business Hours"},{"$f":"IF(ISBLANK('Input|Fee Based'!E26),\"\",'Input|Fee Based'!E26)","v":"Opex"},{"$f":"IF(ISBLANK('Input|Fee Based'!G26),\"\",'Input|Fee Based'!G26)","v":"Fee Based"},175.23821824247068,null,{"$f":"IF(ISBLANK('Input|Fee Based'!I26),\"\",'Input|Fee Based'!I26)","v":"Administrative Officer"},{"$f":"IFERROR(VLOOKUP(J26,'Calc|Labour Rates'!$B$10:$M$14,4,FALSE),0)","v":73.830453729551124},{"$f":"IFERROR(K26*'Input|Fee Based'!K26*'Input|Fee Based'!L26/'Input|Setup'!$E$19,0)","v":24.85625275561555},24.85625275561555,0,{"$f":"IF(ISBLANK('Input|Fee Based'!$N26),\"\",'Input|Fee Based'!$N26)","v":"Field Worker"},{"$f":"IFERROR(IF(E26='Calc|Labour Rates'!$C$10,VLOOKUP(O26,'Calc|Labour Rates'!$B$10:$M$14,4,FALSE),VLOOKUP(O26,'Calc|Labour Rates'!$B$15:$M$19,4,FALSE)),0)","v":113.65932809307105},{"$f":"IFERROR((('Input|Fee Based'!Q26*'Input|Fee Based'!P26)/60)*P26,0)","v":37.886442697690349},{"$f":"IFERROR((('Input|Fee Based'!R26*'Input|Fee Based'!P26)/60)*Q26,0)","v":9.4716106744225872},47.358053372112934,47.358053372112934,0,{"$f":"'Input|Fee Based'!T26*CPI_Escalator_to_Y1*RealMaterials_Escalator_to_Y1","v":0},{"$f":"'Input|Fee Based'!U26*CPI_Escalator_to_Y1*RealVehicles_Escalator_to_Y1","v":32.699875515989277},{"$f":"'Input|Fee Based'!V26*CPI_Escalator_to_Y1*RealOther_Escalator_to_Y1","v":0},null,104.91418164371777,null,{"$f":"$Z26*SUMIF('Input|Indirect Cost Rates'!$E$25:$E$26,$F26,'Input|Indirect Cost Rates'!$D$25:$D$26)","v":21.961584965143714},{"$f":"$Z26*SUMIF('Input|Indirect Cost Rates'!$E$27:$E$28,$F26,'Input|Indirect Cost Rates'!$D$27:$D$28)","v":42.067600734986151},{"$f":"$Z26*'Input|Fee Based'!Z26","v":6.294850898623066},{"$f":"SUM($Z26,$AB26:$AD26)*'Input|Fee Based'!$AA26","v":0}]
[16,{"$f":"IF(ISBLANK('Input|Fee Based'!B27),\"\",'Input|Fee Based'!B27)","v":"DCTK"},{"$f":"IF(ISBLANK('Input|Fee Based'!C27),\"\",'Input|Fee Based'!C27)","v":"Disconnection (temporary) BH"},{"$f":"IF(ISBLANK('Input|Fee Based'!F27),\"\",'Input|Fee Based'!F27)","v":"Customer requested supply outage"},{"$f":"IF(ISBLANK('Input|Fee Based'!D27),\"\",'Input|Fee Based'!D27)","v":"Business Hours"},{"$f":"IF(ISBLANK('Input|Fee Based'!E27),\"\",'Input|Fee Based'!E27)","v":"Opex"},{"$f":"IF(ISBLANK('Input|Fee Based'!G27),\"\",'Input|Fee Based'!G27)","v":"Fee Based"},496.31282728826193,null,{"$f":"IF(ISBLANK('Input|Fee Based'!I27),\"\",'Input|Fee Based'!I27)","v":"Administrative Officer"},{"$f":"IFERROR(VLOOKUP(J27,'Calc|Labour Rates'!$B$10:$M$14,4,FALSE),0)","v":73.830453729551124},{"$f":"IFERROR(K27*'Input|Fee Based'!K27*'Input|Fee Based'!L27/'Input|Setup'!$E$19,0)","v":36.915226864775562},36.915226864775562,0,{"$f":"IF(ISBLANK('Input|Fee Based'!$N27),\"\",'Input|Fee Based'!$N27)","v":"Field Worker"},{"$f":"IFERROR(IF(E27='Calc|Labour Rates'!$C$10,VLOOKUP(O27,'Calc|Labour Rates'!$B$10:$M$14,4,FALSE),VLOOKUP(O27,'Calc|Labour Rates'!$B$15:$M$19,4,FALSE)),0)","v":113.65932809307105},{"$f":"IFERROR((('Input|Fee Based'!Q27*'Input|Fee Based'!P27)/60)*P27,0)","v":113.65932809307105},{"$f":"IFERROR((('Input|Fee Based'!R27*'Input|Fee Based'!P27)/60)*Q27,0)","v":94.716106744225883},208.37543483729695,208.37543483729695,0,{"$f":"'Input|Fee Based'!T27*CPI_Escalator_to_Y1*RealMaterials_Escalator_to_Y1","v":0},{"$f":"'Input|Fee Based'!U27*CPI_Escalator_to_Y1*RealVehicles_Escalator_to_Y1","v":51.849166792303812},{"$f":"'Input|Fee Based'!V27*CPI_Escalator_to_Y1*RealOther_Escalator_to_Y1","v":0},null,297.13982849437633,null,{"$f":"$Z27*SUMIF('Input|Indirect Cost Rates'!$E$25:$E$26,$F27,'Input|Indirect Cost Rates'!$D$25:$D$26)","v":62.199995155738151},{"$f":"$Z27*SUMIF('Input|Indirect Cost Rates'!$E$27:$E$28,$F27,'Input|Indirect Cost Rates'!$D$27:$D$28)","v":119.14461392848483},{"$f":"$Z27*'Input|Fee Based'!Z27","v":17.828389709662581},{"$f":"SUM($Z27,$AB27:$AD27)*'Input|Fee Based'!$AA27","v":0}]
[17,{"$f":"IF(ISBLANK('Input|Fee Based'!B28),\"\",'Input|Fee Based'!B28)","v":"DCTK"},{"$f":"IF(ISBLANK('Input|Fee Based'!C28),\"\",'Input|Fee Based'!C28)","v":"Disconnection (temporary) AH"},{"$f":"IF(ISBLANK('Input|Fee Based'!F28),\"\",'Input|Fee Based'!F28)","v":"Customer requested supply outage"},{"$f":"IF(ISBLANK('Input|Fee Based'!D28),\"\",'Input|Fee Based'!D28)","v":"After Hours"},{"$f":"IF(ISBLANK('Input|Fee Based'!E28),\"\",'Input|Fee Based'!E28)","v":"Opex"},{"$f":"IF(ISBLANK('Input|Fee Based'!G28),\"\",'Input|Fee Based'!G28)","v":"Fee Based"},793.5996034894755,null,{"$f":"IF(ISBLANK('Input|Fee Based'!I28),\"\",'Input|Fee Based'!I28)","v":"Administrative Officer"},{"$f":"IFERROR(VLOOKUP(J28,'Calc|Labour Rates'!$B$10:$M$14,4,FALSE),0)","v":73.830453729551124},{"$f":"IFERROR(K28*'Input|Fee Based'!K28*'Input|Fee Based'!L28/'Input|Setup'!$E$19,0)","v":36.915226864775562},36.915226864775562,0,{"$f":"IF(ISBLANK('Input|Fee Based'!$N28),\"\",'Input|Fee Based'!$N28)","v":"Field Worker"},{"$f":"IFERROR(IF(E28='Calc|Labour Rates'!$C$10,VLOOKUP(O28,'Calc|Labour Rates'!$B$10:$M$14,4,FALSE),VLOOKUP(O28,'Calc|Labour Rates'!$B$15:$M$19,4,FALSE)),0)","v":210.74150929800402},{"$f":"IFERROR((('Input|Fee Based'!Q28*'Input|Fee Based'!P28)/60)*P28,0)","v":210.74150929800402},{"$f":"IFERROR((('Input|Fee Based'!R28*'Input|Fee Based'!P28)/60)*Q28,0)","v":175.61792441500336},386.35943371300738,386.35943371300738,0,{"$f":"'Input|Fee Based'!T28*CPI_Escalator_to_Y1*RealMaterials_Escalator_to_Y1","v":0},{"$f":"'Input|Fee Based'!U28*CPI_Escalator_to_Y1*RealVehicles_Escalator_to_Y1","v":51.849166792303812},{"$f":"'Input|Fee Based'!V28*CPI_Escalator_to_Y1*RealOther_Escalator_to_Y1","v":0},null,475.12382737008676,null,{"$f":"$Z28*SUMIF('Input|Indirect Cost Rates'!$E$25:$E$26,$F28,'Input|Indirect Cost Rates'!$D$25:$D$26)","v":99.457214842386833},{"$f":"$Z28*SUMIF('Input|Indirect Cost Rates'!$E$27:$E$28,$F28,'Input|Indirect Cost Rates'!$D$27:$D$28)","v":190.51113163479675},{"$f":"$Z28*'Input|Fee Based'!Z28","v":28.507429642205203},{"$f":"SUM($Z28,$AB28:$AD28)*'Input|Fee Based'!$AA28","v":0}]
[18,{"$f":"IF(ISBLANK('Input|Fee Based'!B29),\"\",'Input|Fee Based'!B29)","v":"RCTK"},{"$f":"IF(ISBLANK('Input|Fee Based'!C29),\"\",'Input|Fee Based'!C29)","v":"Reconnection after temp discon BH"},{"$f":"IF(ISBLANK('Input|Fee Based'!F29),\"\",'Input|Fee Based'!F29)","v":"Customer requested supply outage"},{"$f":"IF(ISBLANK('Input|Fee Based'!D29),\"\",'Input|Fee Based'!D29)","v":"Business Hours"},{"$f":"IF(ISBLANK('Input|Fee Based'!E29),\"\",'Input|Fee Based'!E29)","v":"Opex"},{"$f":"IF(ISBLANK('Input|Fee Based'!G29),\"\",'Input|Fee Based'!G29)","v":"Fee Based"},575.34070047337491,null,{"$f":"IF(ISBLANK('Input|Fee Based'!I29),\"\",'Input|Fee Based'!I29)","v":"Administrative Officer"},{"$f":"IFERROR(VLOOKUP(J29,'Calc|Labour Rates'!$B$10:$M$14,4,FALSE),0)","v":73.830453729551124},{"$f":"IFERROR(K29*'Input|Fee Based'!K29*'Input|Fee Based'!L29/'Input|Setup'!$E$19,0)","v":36.915226864775562},36.915226864775562,0,{"$f":"IF(ISBLANK('Input|Fee Based'!$N29),\"\",'Input|Fee Based'!$N29)","v":"Field Worker"},{"$f":"IFERROR(IF(E29='Calc|Labour Rates'!$C$10,VLOOKUP(O29,'Calc|Labour Rates'!$B$10:$M$14,4,FALSE),VLOOKUP(O29,'Calc|Labour Rates'!$B$15:$M$19,4,FALSE)),0)","v":113.65932809307105},{"$f":"IFERROR((('Input|Fee Based'!Q29*'Input|Fee Based'!P29)/60)*P29,0)","v":113.65932809307105},{"$f":"IFERROR((('Input|Fee Based'!R29*'Input|Fee Based'!P29)/60)*Q29,0)","v":132.60254944191624},246.26187753498729,246.26187753498729,0,{"$f":"'Input|Fee Based'!T29*CPI_Escalator_to_Y1*RealMaterials_Escalator_to_Y1","v":0},{"$f":"'Input|Fee Based'!U29*CPI_Escalator_to_Y1*RealVehicles_Escalator_to_Y1","v":61.276288027268137},{"$f":"'Input|Fee Based'!V29*CPI_Escalator_to_Y1*RealOther_Escalator_to_Y1","v":0},null,344.45339242703102,null,{"$f":"$Z29*SUMIF('Input|Indirect Cost Rates'!$E$25:$E$26,$F29,'Input|Indirect Cost Rates'!$D$25:$D$26)","v":72.104098090453036},{"$f":"$Z29*SUMIF('Input|Indirect Cost Rates'!$E$27:$E$28,$F29,'Input|Indirect Cost Rates'!$D$27:$D$28)","v":138.11600641026894},{"$f":"$Z29*'Input|Fee Based'!Z29","v":20.667203545621859},{"$f":"SUM($Z29,$AB29:$AD29)*'Input|Fee Based'!$AA29","v":0}]
[19,{"$f":"IF(ISBLANK('Input|Fee Based'!B30),\"\",'Input|Fee Based'!B30)","v":"RCTK"},{"$f":"IF(ISBLANK('Input|Fee Based'!C30),\"\",'Input|Fee Based'!C30)","v":"Reconnection after temp discon AH"},{"$f":"IF(ISBLANK('Input|Fee Based'!F30),\"\",'Input|Fee Based'!F30)","v":"Customer requested supply outage"},{"$f":"IF(ISBLANK('Input|Fee Based'!D30),\"\",'Input|Fee Based'!D30)","v":"After Hours"},{"$f":"IF(ISBLANK('Input|Fee Based'!E30),\"\",'Input|Fee Based'!E30)","v":"Opex"},{"$f":"IF(ISBLANK('Input|Fee Based'!G30),\"\",'Input|Fee Based'!G30)","v":"Fee Based"},926.67961780208179,null,{"$f":"IF(ISBLANK('Input|Fee Based'!I30),\"\",'Input|Fee Based'!I30)","v":"Administrative Officer"},{"$f":"IFERROR(VLOOKUP(J30,'Calc|Labour Rates'!$B$10:$M$14,4,FALSE),0)","v":73.830453729551124},{"$f":"IFERROR(K30*'Input|Fee Based'!K30*'Input|Fee Based'!L30/'Input|Setup'!$E$19,0)","v":36.915226864775562},36.915226864775562,0,{"$f":"IF(ISBLANK('Input|Fee Based'!$N30),\"\",'Input|Fee Based'!$N30)","v":"Field Worker"},{"$f":"IFERROR(IF(E30='Calc|Labour Rates'!$C$10,VLOOKUP(O30,'Calc|Labour Rates'!$B$10:$M$14,4,FALSE),VLOOKUP(O30,'Calc|Labour Rates'!$B$15:$M$19,4,FALSE)),0)","v":210.74150929800402},{"$f":"IFERROR((('Input|Fee Based'!Q30*'Input|Fee Based'!P30)/60)*P30,0)","v":210.74150929800402},{"$f":"IFERROR((('Input|Fee Based'!R30*'Input|Fee Based'!P30)/60)*Q30,0)","v":245.86509418100471},456.60660347900875,456.60660347900875,0,{"$f":"'Input|Fee Based'!T30*CPI_Escalator_to_Y1*RealMaterials_Escalator_to_Y1","v":0},{"$f":"'Input|Fee Based'!U30*CPI_Escalator_to_Y1*RealVehicles_Escalator_to_Y1","v":61.276288027268137},{"$f":"'Input|Fee Based'!V30*CPI_Escalator_to_Y1*RealOther_Escalator_to_Y1","v":0},null,554.7981183710524,null,{"$f":"$Z30*SUMIF('Input|Indirect Cost Rates'!$E$25:$E$26,$F30,'Input|Indirect Cost Rates'!$D$25:$D$26)","v":116.13535772012874},{"$f":"$Z30*SUMIF('Input|Indirect Cost Rates'!$E$27:$E$28,$F30,'Input|Indirect Cost Rates'!$D$27:$D$28)","v":222.45825460863756},{"$f":"$Z30*'Input|Fee Based'!Z30","v":33.287887102263142},{"$f":"SUM($Z30,$AB30:$AD30)*'Input|Fee Based'!$AA30","v":0}]
[20,{"$f":"IF(ISBLANK('Input|Fee Based'!B31),\"\",'Input|Fee Based'!B31)","v":"SLOM"},{"$f":"IF(ISBLANK('Input|Fee Based'!C31),\"\",'Input|Fee Based'!C31)","v":"Security Lighting - O&M"},{"$f":"IF(ISBLANK('Input|Fee Based'!F31),\"\",'Input|Fee Based'!F31)","v":"Security lights"},{"$f":"IF(ISBLANK('Input|Fee Based'!D31),\"\",'Input|Fee Based'!D31)","v":"Business Hours"},{"$f":"IF(ISBLANK('Input|Fee Based'!E31),\"\",'Input|Fee Based'!E31)","v":"Capex"},{"$f":"IF(ISBLANK('Input|Fee Based'!G31),\"\",'Input|Fee Based'!G31)","v":"Fee Based"},173.00081145970739,null,{"$f":"IF(ISBLANK('Input|Fee Based'!I31),\"\",'Input|Fee Based'!I31)","v":""},{"$f":"IFERROR(VLOOKUP(J31,'Calc|Labour Rates'!$B$10:$M$14,4,FALSE),0)","v":0},{"$f":"IFERROR(K31*'Input|Fee Based'!K31*'Input|Fee Based'!L31/'Input|Setup'!$E$19,0)","v":0},0,0,{"$f":"IF(ISBLANK('Input|Fee Based'!$N31),\"\",'Input|Fee Based'!$N31)","v":""},{"$f":"IFERROR(IF(E31='Calc|Labour Rates'!$C$10,VLOOKUP(O31,'Calc|Labour Rates'!$B$10:$M$14,4,FALSE),VLOOKUP(O31,'Calc|Labour Rates'!$B$15:$M$19,4,FALSE)),0)","v":0},{"$f":"IFERROR((('Input|Fee Based'!Q31*'Input|Fee Based'!P31)/60)*P31,0)","v":0},{"$f":"IFERROR((('Input|Fee Based'!R31*'Input|Fee Based'!P31)/60)*Q31,0)","v":0},0,0,0,{"$f":"'Input|Fee Based'!T31*CPI_Escalator_to_Y1*RealMaterials_Escalator_to_Y1","v":0},{"$f":"'Input|Fee Based'!U31*CPI_Escalator_to_Y1*RealVehicles_Escalator_to_Y1","v":0},{"$f":"'Input|Fee Based'!V31*CPI_Escalator_to_Y1*RealOther_Escalator_to_Y1","v":101.67058805717996},null,101.67058805717996,null,{"$f":"$Z31*SUMIF('Input|Indirect Cost Rates'!$E$25:$E$26,$F31,'Input|Indirect Cost Rates'!$D$25:$D$26)","v":21.282606632309236},{"$f":"$Z31*SUMIF('Input|Indirect Cost Rates'!$E$27:$E$28,$F31,'Input|Indirect Cost Rates'!$D$27:$D$28)","v":40.767012027079993},{"$f":"$Z31*'Input|Fee Based'!Z31","v":6.1002352834307967},{"$f":"SUM($Z31,$AB31:$AD31)*'Input|Fee Based'!$AA31","v":3.1803694597074017}]
[21,{"$f":"IF(ISBLANK('Input|Fee Based'!B32),\"\",'Input|Fee Based'!B32)","v":"RFOM"},{"$f":"IF(ISBLANK('Input|Fee Based'!C32),\"\",'Input|Fee Based'!C32)","v":"Enhanced Connection Operation and Maintenance"},{"$f":"IF(ISBLANK('Input|Fee Based'!F32),\"\",'Input|Fee Based'!F32)","v":"Enhanced connection services"},{"$f":"IF(ISBLANK('Input|Fee Based'!D32),\"\",'Input|Fee Based'!D32)","v":"Business Hours"},{"$f":"IF(ISBLANK('Input|Fee Based'!E32),\"\",'Input|Fee Based'!E32)","v":"Opex"},{"$f":"IF(ISBLANK('Input|Fee Based'!G32),\"\",'Input|Fee Based'!G32)","v":"Fee Based"},16.174377,null,{"$f":"IF(ISBLANK('Input|Fee Based'!I32),\"\",'Input|Fee Based'!I32)","v":""},{"$f":"IFERROR(VLOOKUP(J32,'Calc|Labour Rates'!$B$10:$M$14,4,FALSE),0)","v":0},{"$f":"IFERROR(K32*'Input|Fee Based'!K32*'Input|Fee Based'!L32/'Input|Setup'!$E$19,0)","v":0},0,0,{"$f":"IF(ISBLANK('Input|Fee Based'!$N32),\"\",'Input|Fee Based'!$N32)","v":""},{"$f":"IFERROR(IF(E32='Calc|Labour Rates'!$C$10,VLOOKUP(O32,'Calc|Labour Rates'!$B$10:$M$14,4,FALSE),VLOOKUP(O32,'Calc|Labour Rates'!$B$15:$M$19,4,FALSE)),0)","v":0},{"$f":"IFERROR((('Input|Fee Based'!Q32*'Input|Fee Based'!P32)/60)*P32,0)","v":0},{"$f":"IFERROR((('Input|Fee Based'!R32*'Input|Fee Based'!P32)/60)*Q32,0)","v":0},0,0,0,{"$f":"'Input|Fee Based'!T32*CPI_Escalator_to_Y1*RealMaterials_Escalator_to_Y1","v":0},{"$f":"'Input|Fee Based'!U32*CPI_Escalator_to_Y1*RealVehicles_Escalator_to_Y1","v":0},{"$f":"'Input|Fee Based'!V32*CPI_Escalator_to_Y1*RealOther_Escalator_to_Y1","v":9.6835127837467674},null,9.6835127837467674,null,{"$f":"$Z32*SUMIF('Input|Indirect Cost Rates'!$E$25:$E$26,$F32,'Input|Indirect Cost Rates'!$D$25:$D$26)","v":2.0270404384748333},{"$f":"$Z32*SUMIF('Input|Indirect Cost Rates'!$E$27:$E$28,$F32,'Input|Indirect Cost Rates'!$D$27:$D$28)","v":3.8828130107535945},{"$f":"$Z32*'Input|Fee Based'!Z32","v":0.58101076702480603},{"$f":"SUM($Z32,$AB32:$AD32)*'Input|Fee Based'!$AA32","v":0}]
[22,{"$f":"IF(ISBLANK('Input|Fee Based'!B33),\"\",'Input|Fee Based'!B33)","v":"REENRM"},{"$f":"IF(ISBLANK('Input|Fee Based'!C33),\"\",'Input|Fee Based'!C33)","v":"Remote  energisation"},{"$f":"IF(ISBLANK('Input|Fee Based'!F33),\"\",'Input|Fee Based'!F33)","v":"Auxiliary metering services"},{"$f":"IF(ISBLANK('Input|Fee Based'!D33),\"\",'Input|Fee Based'!D33)","v":"Business Hours"},{"$f":"IF(ISBLANK('Input|Fee Based'!E33),\"\",'Input|Fee Based'!E33)","v":"Opex"},{"$f":"IF(ISBLANK('Input|Fee Based'!G33),\"\",'Input|Fee Based'!G33)","v":"Fee Based"},{"$f":"$Z33+SUM($AB33:$AE33)","v":0},null,{"$f":"IF(ISBLANK('Input|Fee Based'!I33),\"\",'Input|Fee Based'!I33)","v":""},{"$f":"IFERROR(VLOOKUP(J33,'Calc|Labour Rates'!$B$10:$M$14,4,FALSE),0)","v":0},{"$f":"IFERROR(K33*'Input|Fee Based'!K33*'Input|Fee Based'!L33/'Input|Setup'!$E$19,0)","v":0},0,0,{"$f":"IF(ISBLANK('Input|Fee Based'!$N33),\"\",'Input|Fee Based'!$N33)","v":""},{"$f":"IFERROR(IF(E33='Calc|Labour Rates'!$C$10,VLOOKUP(O33,'Calc|Labour Rates'!$B$10:$M$14,4,FALSE),VLOOKUP(O33,'Calc|Labour Rates'!$B$15:$M$19,4,FALSE)),0)","v":0},{"$f":"IFERROR((('Input|Fee Based'!Q33*'Input|Fee Based'!P33)/60)*P33,0)","v":0},{"$f":"IFERROR((('Input|Fee Based'!R33*'Input|Fee Based'!P33)/60)*Q33,0)","v":0},0,0,0,{"$f":"'Input|Fee Based'!T33*CPI_Escalator_to_Y1*RealMaterials_Escalator_to_Y1","v":0},{"$f":"'Input|Fee Based'!U33*CPI_Escalator_to_Y1*RealVehicles_Escalator_to_Y1","v":0},{"$f":"'Input|Fee Based'!V33*CPI_Escalator_to_Y1*RealOther_Escalator_to_Y1","v":0},null,0,null,{"$f":"$Z33*SUMIF('Input|Indirect Cost Rates'!$E$25:$E$26,$F33,'Input|Indirect Cost Rates'!$D$25:$D$26)","v":0},{"$f":"$Z33*SUMIF('Input|Indirect Cost Rates'!$E$27:$E$28,$F33,'Input|Indirect Cost Rates'!$D$27:$D$28)","v":0},{"$f":"$Z33*'Input|Fee Based'!Z33","v":0},{"$f":"SUM($Z33,$AB33:$AD33)*'Input|Fee Based'!$AA33","v":0}]
[23,{"$f":"IF(ISBLANK('Input|Fee Based'!B34),\"\",'Input|Fee Based'!B34)","v":"DEENRM"},{"$f":"IF(ISBLANK('Input|Fee Based'!C34),\"\",'Input|Fee Based'!C34)","v":"Remote de-energisation"},{"$f":"IF(ISBLANK('Input|Fee Based'!F34),\"\",'Input|Fee Based'!F34)","v":"Auxiliary metering services"},{"$f":"IF(ISBLANK('Input|Fee Based'!D34),\"\",'Input|Fee Based'!D34)","v":"Business Hours"},{"$f":"IF(ISBLANK('Input|Fee Based'!E34),\"\",'Input|Fee Based'!E34)","v":"Opex"},{"$f":"IF(ISBLANK('Input|Fee Based'!G34),\"\",'Input|Fee Based'!G34)","v":"Fee Based"},{"$f":"$Z34+SUM($AB34:$AE34)","v":0},null,{"$f":"IF(ISBLANK('Input|Fee Based'!I34),\"\",'Input|Fee Based'!I34)","v":""},{"$f":"IFERROR(VLOOKUP(J34,'Calc|Labour Rates'!$B$10:$M$14,4,FALSE),0)","v":0},{"$f":"IFERROR(K34*'Input|Fee Based'!K34*'Input|Fee Based'!L34/'Input|Setup'!$E$19,0)","v":0},0,0,{"$f":"IF(ISBLANK('Input|Fee Based'!$N34),\"\",'Input|Fee Based'!$N34)","v":""},{"$f":"IFERROR(IF(E34='Calc|Labour Rates'!$C$10,VLOOKUP(O34,'Calc|Labour Rates'!$B$10:$M$14,4,FALSE),VLOOKUP(O34,'Calc|Labour Rates'!$B$15:$M$19,4,FALSE)),0)","v":0},{"$f":"IFERROR((('Input|Fee Based'!Q34*'Input|Fee Based'!P34)/60)*P34,0)","v":0},{"$f":"IFERROR((('Input|Fee Based'!R34*'Input|Fee Based'!P34)/60)*Q34,0)","v":0},0,0,0,{"$f":"'Input|Fee Based'!T34*CPI_Escalator_to_Y1*RealMaterials_Escalator_to_Y1","v":0},{"$f":"'Input|Fee Based'!U34*CPI_Escalator_to_Y1*RealVehicles_Escalator_to_Y1","v":0},{"$f":"'Input|Fee Based'!V34*CPI_Escalator_to_Y1*RealOther_Escalator_to_Y1","v":0},null,0,null,{"$f":"$Z34*SUMIF('Input|Indirect Cost Rates'!$E$25:$E$26,$F34,'Input|Indirect Cost Rates'!$D$25:$D$26)","v":0},{"$f":"$Z34*SUMIF('Input|Indirect Cost Rates'!$E$27:$E$28,$F34,'Input|Indirect Cost Rates'!$D$27:$D$28)","v":0},{"$f":"$Z34*'Input|Fee Based'!Z34","v":0},{"$f":"SUM($Z34,$AB34:$AD34)*'Input|Fee Based'!$AA34","v":0}]
[24,{"$f":"IF(ISBLANK('Input|Fee Based'!B35),\"\",'Input|Fee Based'!B35)","v":"MCTK"},{"$f":"IF(ISBLANK('Input|Fee Based'!C35),\"\",'Input|Fee Based'!C35)","v":"Meter Alteration BH"},{"$f":"IF(ISBLANK('Input|Fee Based'!F35),\"\",'Input|Fee Based'!F35)","v":"Auxiliary metering services"},{"$f":"IF(ISBLANK('Input|Fee Based'!D35),\"\",'Input|Fee Based'!D35)","v":"Business Hours"},{"$f":"IF(ISBLANK('Input|Fee Based'!E35),\"\",'Input|Fee Based'!E35)","v":"Opex"},{"$f":"IF(ISBLANK('Input|Fee Based'!G35),\"\",'Input|Fee Based'!G35)","v":"Fee Based"},637.0002252435155,null,{"$f":"IF(ISBLANK('Input|Fee Based'!I35),\"\",'Input|Fee Based'!I35)","v":"Administrative Officer"},{"$f":"IFERROR(VLOOKUP(J35,'Calc|Labour Rates'!$B$10:$M$14,4,FALSE),0)","v":73.830453729551124},{"$f":"IFERROR(K35*'Input|Fee Based'!K35*'Input|Fee Based'!L35/'Input|Setup'!$E$19,0)","v":73.830453729551124},73.830453729551124,0,{"$f":"IF(ISBLANK('Input|Fee Based'!$N35),\"\",'Input|Fee Based'!$N35)","v":"Field Worker"},{"$f":"IFERROR(IF(E35='Calc|Labour Rates'!$C$10,VLOOKUP(O35,'Calc|Labour Rates'!$B$10:$M$14,4,FALSE),VLOOKUP(O35,'Calc|Labour Rates'!$B$15:$M$19,4,FALSE)),0)","v":113.65932809307105},{"$f":"IFERROR((('Input|Fee Based'!Q35*'Input|Fee Based'!P35)/60)*P35,0)","v":113.65932809307105},{"$f":"IFERROR((('Input|Fee Based'!R35*'Input|Fee Based'!P35)/60)*Q35,0)","v":132.60254944191624},246.26187753498729,246.26187753498729,0,{"$f":"'Input|Fee Based'!T35*CPI_Escalator_to_Y1*RealMaterials_Escalator_to_Y1","v":0},{"$f":"'Input|Fee Based'!U35*CPI_Escalator_to_Y1*RealVehicles_Escalator_to_Y1","v":61.276288027268137},{"$f":"'Input|Fee Based'!V35*CPI_Escalator_to_Y1*RealOther_Escalator_to_Y1","v":0},null,381.36861929180657,null,{"$f":"$Z35*SUMIF('Input|Indirect Cost Rates'!$E$25:$E$26,$F35,'Input|Indirect Cost Rates'!$D$25:$D$26)","v":79.83152710525934},{"$f":"$Z35*SUMIF('Input|Indirect Cost Rates'!$E$27:$E$28,$F35,'Input|Indirect Cost Rates'!$D$27:$D$28)","v":152.91796168894123},{"$f":"$Z35*'Input|Fee Based'!Z35","v":22.882117157508393},{"$f":"SUM($Z35,$AB35:$AD35)*'Input|Fee Based'!$AA35","v":0}]
[25,{"$f":"IF(ISBLANK('Input|Fee Based'!B36),\"\",'Input|Fee Based'!B36)","v":"MCTK"},{"$f":"IF(ISBLANK('Input|Fee Based'!C36),\"\",'Input|Fee Based'!C36)","v":"Meter Alteration AH"},{"$f":"IF(ISBLANK('Input|Fee Based'!F36),\"\",'Input|Fee Based'!F36)","v":"Auxiliary metering services"},{"$f":"IF(ISBLANK('Input|Fee Based'!D36),\"\",'Input|Fee Based'!D36)","v":"After Hours"},{"$f":"IF(ISBLANK('Input|Fee Based'!E36),\"\",'Input|Fee Based'!E36)","v":"Opex"},{"$f":"IF(ISBLANK('Input|Fee Based'!G36),\"\",'Input|Fee Based'!G36)","v":"Fee Based"},988.33914257222261,null,{"$f":"IF(ISBLANK('Input|Fee Based'!I36),\"\",'Input|Fee Based'!I36)","v":"Administrative Officer"},{"$f":"IFERROR(VLOOKUP(J36,'Calc|Labour Rates'!$B$10:$M$14,4,FALSE),0)","v":73.830453729551124},{"$f":"IFERROR(K36*'Input|Fee Based'!K36*'Input|Fee Based'!L36/'Input|Setup'!$E$19,0)","v":73.830453729551124},73.830453729551124,0,{"$f":"IF(ISBLANK('Input|Fee Based'!$N36),\"\",'Input|Fee Based'!$N36)","v":"Field Worker"},{"$f":"IFERROR(IF(E36='Calc|Labour Rates'!$C$10,VLOOKUP(O36,'Calc|Labour Rates'!$B$10:$M$14,4,FALSE),VLOOKUP(O36,'Calc|Labour Rates'!$B$15:$M$19,4,FALSE)),0)","v":210.74150929800402},{"$f":"IFERROR((('Input|Fee Based'!Q36*'Input|Fee Based'!P36)/60)*P36,0)","v":210.74150929800402},{"$f":"IFERROR((('Input|Fee Based'!R36*'Input|Fee Based'!P36)/60)*Q36,0)","v":245.86509418100471},456.60660347900875,456.60660347900875,0,{"$f":"'Input|Fee Based'!T36*CPI_Escalator_to_Y1*RealMaterials_Escalator_to_Y1","v":0},{"$f":"'Input|Fee Based'!U36*CPI_Escalator_to_Y1*RealVehicles_Escalator_to_Y1","v":61.276288027268137},{"$f":"'Input|Fee Based'!V36*CPI_Escalator_to_Y1*RealOther_Escalator_to_Y1","v":0},null,591.713345235828,null,{"$f":"$Z36*SUMIF('Input|Indirect Cost Rates'!$E$25:$E$26,$F36,'Input|Indirect Cost Rates'!$D$25:$D$26)","v":123.86278673493506},{"$f":"$Z36*SUMIF('Input|Indirect Cost Rates'!$E$27:$E$28,$F36,'Input|Indirect Cost Rates'!$D$27:$D$28)","v":237.26020988730988},{"$f":"$Z36*'Input|Fee Based'!Z36","v":35.502800714149679},{"$f":"SUM($Z36,$AB36:$AD36)*'Input|Fee Based'!$AA36","v":0}]
[26,{"$f":"IF(ISBLANK('Input|Fee Based'!B37),\"\",'Input|Fee Based'!B37)","v":"SPRDRM"},{"$f":"IF(ISBLANK('Input|Fee Based'!C37),\"\",'Input|Fee Based'!C37)","v":"Remote special meter read"},{"$f":"IF(ISBLANK('Input|Fee Based'!F37),\"\",'Input|Fee Based'!F37)","v":"Auxiliary metering services"},{"$f":"IF(ISBLANK('Input|Fee Based'!D37),\"\",'Input|Fee Based'!D37)","v":"Business Hours"},{"$f":"IF(ISBLANK('Input|Fee Based'!E37),\"\",'Input|Fee Based'!E37)","v":"Opex"},{"$f":"IF(ISBLANK('Input|Fee Based'!G37),\"\",'Input|Fee Based'!G37)","v":"Fee Based"},0,null,{"$f":"IF(ISBLANK('Input|Fee Based'!I37),\"\",'Input|Fee Based'!I37)","v":""},{"$f":"IFERROR(VLOOKUP(J37,'Calc|Labour Rates'!$B$10:$M$14,4,FALSE),0)","v":0},{"$f":"IFERROR(K37*'Input|Fee Based'!K37*'Input|Fee Based'!L37/'Input|Setup'!$E$19,0)","v":0},0,0,{"$f":"IF(ISBLANK('Input|Fee Based'!$N37),\"\",'Input|Fee Based'!$N37)","v":""},{"$f":"IFERROR(IF(E37='Calc|Labour Rates'!$C$10,VLOOKUP(O37,'Calc|Labour Rates'!$B$10:$M$14,4,FALSE),VLOOKUP(O37,'Calc|Labour Rates'!$B$15:$M$19,4,FALSE)),0)","v":0},{"$f":"IFERROR((('Input|Fee Based'!Q37*'Input|Fee Based'!P37)/60)*P37,0)","v":0},{"$f":"IFERROR((('Input|Fee Based'!R37*'Input|Fee Based'!P37)/60)*Q37,0)","v":0},0,0,0,{"$f":"'Input|Fee Based'!T37*CPI_Escalator_to_Y1*RealMaterials_Escalator_to_Y1","v":0},{"$f":"'Input|Fee Based'!U37*CPI_Escalator_to_Y1*RealVehicles_Escalator_to_Y1","v":0},{"$f":"'Input|Fee Based'!V37*CPI_Escalator_to_Y1*RealOther_Escalator_to_Y1","v":0},null,0,null,{"$f":"$Z37*SUMIF('Input|Indirect Cost Rates'!$E$25:$E$26,$F37,'Input|Indirect Cost Rates'!$D$25:$D$26)","v":0},{"$f":"$Z37*SUMIF('Input|Indirect Cost Rates'!$E$27:$E$28,$F37,'Input|Indirect Cost Rates'!$D$27:$D$28)","v":0},{"$f":"$Z37*'Input|Fee Based'!Z37","v":0},{"$f":"SUM($Z37,$AB37:$AD37)*'Input|Fee Based'!$AA37","v":0}]
[27,{"$f":"IF(ISBLANK('Input|Fee Based'!B38),\"\",'Input|Fee Based'!B38)","v":"MECFRM"},{"$f":"IF(ISBLANK('Input|Fee Based'!C38),\"\",'Input|Fee Based'!C38)","v":"Remote meter reconfiguration"},{"$f":"IF(ISBLANK('Input|Fee Based'!F38),\"\",'Input|Fee Based'!F38)","v":"Auxiliary metering services"},{"$f":"IF(ISBLANK('Input|Fee Based'!D38),\"\",'Input|Fee Based'!D38)","v":"Business Hours"},{"$f":"IF(ISBLANK('Input|Fee Based'!E38),\"\",'Input|Fee Based'!E38)","v":"Opex"},{"$f":"IF(ISBLANK('Input|Fee Based'!G38),\"\",'Input|Fee Based'!G38)","v":"Fee Based"},65.77015975481676,null,{"$f":"IF(ISBLANK('Input|Fee Based'!I38),\"\",'Input|Fee Based'!I38)","v":"Administrative Officer"},{"$f":"IFERROR(VLOOKUP(J38,'Calc|Labour Rates'!$B$10:$M$14,4,FALSE),0)","v":73.830453729551124},{"$f":"IFERROR(K38*'Input|Fee Based'!K38*'Input|Fee Based'!L38/'Input|Setup'!$E$19,0)","v":39.376241989093934},39.376241989093934,0,{"$f":"IF(ISBLANK('Input|Fee Based'!$N38),\"\",'Input|Fee Based'!$N38)","v":""},{"$f":"IFERROR(IF(E38='Calc|Labour Rates'!$C$10,VLOOKUP(O38,'Calc|Labour Rates'!$B$10:$M$14,4,FALSE),VLOOKUP(O38,'Calc|Labour Rates'!$B$15:$M$19,4,FALSE)),0)","v":0},{"$f":"IFERROR((('Input|Fee Based'!Q38*'Input|Fee Based'!P38)/60)*P38,0)","v":0},{"$f":"IFERROR((('Input|Fee Based'!R38*'Input|Fee Based'!P38)/60)*Q38,0)","v":0},0,0,0,{"$f":"'Input|Fee Based'!T38*CPI_Escalator_to_Y1*RealMaterials_Escalator_to_Y1","v":0},{"$f":"'Input|Fee Based'!U38*CPI_Escalator_to_Y1*RealVehicles_Escalator_to_Y1","v":0},{"$f":"'Input|Fee Based'!V38*CPI_Escalator_to_Y1*RealOther_Escalator_to_Y1","v":0},null,39.376241989093934,null,{"$f":"$Z38*SUMIF('Input|Indirect Cost Rates'!$E$25:$E$26,$F38,'Input|Indirect Cost Rates'!$D$25:$D$26)","v":8.2425909491267326},{"$f":"$Z38*SUMIF('Input|Indirect Cost Rates'!$E$27:$E$28,$F38,'Input|Indirect Cost Rates'!$D$27:$D$28)","v":15.788752297250454},{"$f":"$Z38*'Input|Fee Based'!Z38","v":2.3625745193456358},{"$f":"SUM($Z38,$AB38:$AD38)*'Input|Fee Based'!$AA38","v":0}]
[28,{"$f":"IF(ISBLANK('Input|Fee Based'!B39),\"\",'Input|Fee Based'!B39)","v":"SPRD"},{"$f":"IF(ISBLANK('Input|Fee Based'!C39),\"\",'Input|Fee Based'!C39)","v":"Field-based special meter reads "},{"$f":"IF(ISBLANK('Input|Fee Based'!F39),\"\",'Input|Fee Based'!F39)","v":"Auxiliary metering services"},{"$f":"IF(ISBLANK('Input|Fee Based'!D39),\"\",'Input|Fee Based'!D39)","v":"Business Hours"},{"$f":"IF(ISBLANK('Input|Fee Based'!E39),\"\",'Input|Fee Based'!E39)","v":"Opex"},{"$f":"IF(ISBLANK('Input|Fee Based'!G39),\"\",'Input|Fee Based'!G39)","v":"Fee Based"},199.83009383434376,null,{"$f":"IF(ISBLANK('Input|Fee Based'!I39),\"\",'Input|Fee Based'!I39)","v":"Administrative Officer"},{"$f":"IFERROR(VLOOKUP(J39,'Calc|Labour Rates'!$B$10:$M$14,4,FALSE),0)","v":73.830453729551124},{"$f":"IFERROR(K39*'Input|Fee Based'!K39*'Input|Fee Based'!L39/'Input|Setup'!$E$19,0)","v":15.627446039421653},15.627446039421653,0,{"$f":"IF(ISBLANK('Input|Fee Based'!$N39),\"\",'Input|Fee Based'!$N39)","v":"Field Worker"},{"$f":"IFERROR(IF(E39='Calc|Labour Rates'!$C$10,VLOOKUP(O39,'Calc|Labour Rates'!$B$10:$M$14,4,FALSE),VLOOKUP(O39,'Calc|Labour Rates'!$B$15:$M$19,4,FALSE)),0)","v":113.65932809307105},{"$f":"IFERROR((('Input|Fee Based'!Q39*'Input|Fee Based'!P39)/60)*P39,0)","v":56.829664046535527},{"$f":"IFERROR((('Input|Fee Based'!R39*'Input|Fee Based'!P39)/60)*Q39,0)","v":9.4716106744225872},66.301274720958119,66.301274720958119,0,{"$f":"'Input|Fee Based'!T39*CPI_Escalator_to_Y1*RealMaterials_Escalator_to_Y1","v":0},{"$f":"'Input|Fee Based'!U39*CPI_Escalator_to_Y1*RealVehicles_Escalator_to_Y1","v":37.708484939857314},{"$f":"'Input|Fee Based'!V39*CPI_Escalator_to_Y1*RealOther_Escalator_to_Y1","v":0},null,119.63720570023709,null,{"$f":"$Z39*SUMIF('Input|Indirect Cost Rates'!$E$25:$E$26,$F39,'Input|Indirect Cost Rates'!$D$25:$D$26)","v":25.043541462303939},{"$f":"$Z39*SUMIF('Input|Indirect Cost Rates'!$E$27:$E$28,$F39,'Input|Indirect Cost Rates'!$D$27:$D$28)","v":47.971114329788499},{"$f":"$Z39*'Input|Fee Based'!Z39","v":7.1782323420142253},{"$f":"SUM($Z39,$AB39:$AD39)*'Input|Fee Based'!$AA39","v":0}]
[29,{"$f":"IF(ISBLANK('Input|Fee Based'!B40),\"\",'Input|Fee Based'!B40)","v":"MTAL"},{"$f":"IF(ISBLANK('Input|Fee Based'!C40),\"\",'Input|Fee Based'!C40)","v":"Meter test of types 5, 6 and AMI smart metering installations BH"},{"$f":"IF(ISBLANK('Input|Fee Based'!F40),\"\",'Input|Fee Based'!F40)","v":"Auxiliary metering services"},{"$f":"IF(ISBLANK('Input|Fee Based'!D40),\"\",'Input|Fee Based'!D40)","v":"Business Hours"},{"$f":"IF(ISBLANK('Input|Fee Based'!E40),\"\",'Input|Fee Based'!E40)","v":"Opex"},{"$f":"IF(ISBLANK('Input|Fee Based'!G40),\"\",'Input|Fee Based'!G40)","v":"Fee Based"},1336.0848402478655,null,{"$f":"IF(ISBLANK('Input|Fee Based'!I40),\"\",'Input|Fee Based'!I40)","v":"Administrative Officer"},{"$f":"IFERROR(VLOOKUP(J40,'Calc|Labour Rates'!$B$10:$M$14,4,FALSE),0)","v":73.830453729551124},{"$f":"IFERROR(K40*'Input|Fee Based'!K40*'Input|Fee Based'!L40/'Input|Setup'!$E$19,0)","v":43.067764675571489},43.067764675571489,0,{"$f":"IF(ISBLANK('Input|Fee Based'!$N40),\"\",'Input|Fee Based'!$N40)","v":"Field Worker"},{"$f":"IFERROR(IF(E40='Calc|Labour Rates'!$C$10,VLOOKUP(O40,'Calc|Labour Rates'!$B$10:$M$14,4,FALSE),VLOOKUP(O40,'Calc|Labour Rates'!$B$15:$M$19,4,FALSE)),0)","v":113.65932809307105},{"$f":"IFERROR((('Input|Fee Based'!Q40*'Input|Fee Based'!P40)/60)*P40,0)","v":113.65932809307105},{"$f":"IFERROR((('Input|Fee Based'!R40*'Input|Fee Based'!P40)/60)*Q40,0)","v":454.63731237228421},568.29664046535527,568.29664046535527,0,{"$f":"'Input|Fee Based'!T40*CPI_Escalator_to_Y1*RealMaterials_Escalator_to_Y1","v":0},{"$f":"'Input|Fee Based'!U40*CPI_Escalator_to_Y1*RealVehicles_Escalator_to_Y1","v":188.54242469928658},{"$f":"'Input|Fee Based'!V40*CPI_Escalator_to_Y1*RealOther_Escalator_to_Y1","v":0},null,799.90682984021339,null,{"$f":"$Z40*SUMIF('Input|Indirect Cost Rates'!$E$25:$E$26,$F40,'Input|Indirect Cost Rates'!$D$25:$D$26)","v":167.44372907937105},{"$f":"$Z40*SUMIF('Input|Indirect Cost Rates'!$E$27:$E$28,$F40,'Input|Indirect Cost Rates'!$D$27:$D$28)","v":320.73987153786817},{"$f":"$Z40*'Input|Fee Based'!Z40","v":47.994409790412803},{"$f":"SUM($Z40,$AB40:$AD40)*'Input|Fee Based'!$AA40","v":0}]
[30,{"$f":"IF(ISBLANK('Input|Fee Based'!B41),\"\",'Input|Fee Based'!B41)","v":"MTAL"},{"$f":"IF(ISBLANK('Input|Fee Based'!C41),\"\",'Input|Fee Based'!C41)","v":"Meter test of types 5, 6 and AMI smart metering installations AH"},{"$f":"IF(ISBLANK('Input|Fee Based'!F41),\"\",'Input|Fee Based'!F41)","v":"Auxiliary metering services"},{"$f":"IF(ISBLANK('Input|Fee Based'!D41),\"\",'Input|Fee Based'!D41)","v":"After Hours"},{"$f":"IF(ISBLANK('Input|Fee Based'!E41),\"\",'Input|Fee Based'!E41)","v":"Opex"},{"$f":"IF(ISBLANK('Input|Fee Based'!G41),\"\",'Input|Fee Based'!G41)","v":"Fee Based"},2146.8669571602663,null,{"$f":"IF(ISBLANK('Input|Fee Based'!I41),\"\",'Input|Fee Based'!I41)","v":"Administrative Officer"},{"$f":"IFERROR(VLOOKUP(J41,'Calc|Labour Rates'!$B$10:$M$14,4,FALSE),0)","v":73.830453729551124},{"$f":"IFERROR(K41*'Input|Fee Based'!K41*'Input|Fee Based'!L41/'Input|Setup'!$E$19,0)","v":43.067764675571489},43.067764675571489,0,{"$f":"IF(ISBLANK('Input|Fee Based'!$N41),\"\",'Input|Fee Based'!$N41)","v":"Field Worker"},{"$f":"IFERROR(IF(E41='Calc|Labour Rates'!$C$10,VLOOKUP(O41,'Calc|Labour Rates'!$B$10:$M$14,4,FALSE),VLOOKUP(O41,'Calc|Labour Rates'!$B$15:$M$19,4,FALSE)),0)","v":210.74150929800402},{"$f":"IFERROR((('Input|Fee Based'!Q41*'Input|Fee Based'!P41)/60)*P41,0)","v":210.74150929800402},{"$f":"IFERROR((('Input|Fee Based'!R41*'Input|Fee Based'!P41)/60)*Q41,0)","v":842.96603719201607},1053.7075464900201,1053.7075464900201,0,{"$f":"'Input|Fee Based'!T41*CPI_Escalator_to_Y1*RealMaterials_Escalator_to_Y1","v":0},{"$f":"'Input|Fee Based'!U41*CPI_Escalator_to_Y1*RealVehicles_Escalator_to_Y1","v":188.54242469928658},{"$f":"'Input|Fee Based'!V41*CPI_Escalator_to_Y1*RealOther_Escalator_to_Y1","v":0},null,1285.3177358648782,null,{"$f":"$Z41*SUMIF('Input|Indirect Cost Rates'!$E$25:$E$26,$F41,'Input|Indirect Cost Rates'!$D$25:$D$26)","v":269.05432822477655},{"$f":"$Z41*SUMIF('Input|Indirect Cost Rates'!$E$27:$E$28,$F41,'Input|Indirect Cost Rates'!$D$27:$D$28)","v":515.37582891871887},{"$f":"$Z41*'Input|Fee Based'!Z41","v":77.119064151892687},{"$f":"SUM($Z41,$AB41:$AD41)*'Input|Fee Based'!$AA41","v":0}]
[31,{"$f":"IF(ISBLANK('Input|Fee Based'!B42),\"\",'Input|Fee Based'!B42)","v":"MDCH"},{"$f":"IF(ISBLANK('Input|Fee Based'!C42),\"\",'Input|Fee Based'!C42)","v":"Type 7 metering"},{"$f":"IF(ISBLANK('Input|Fee Based'!F42),\"\",'Input|Fee Based'!F42)","v":"Type 7 metering services"},{"$f":"IF(ISBLANK('Input|Fee Based'!D42),\"\",'Input|Fee Based'!D42)","v":"Business Hours"},{"$f":"IF(ISBLANK('Input|Fee Based'!E42),\"\",'Input|Fee Based'!E42)","v":"Opex"},{"$f":"IF(ISBLANK('Input|Fee Based'!G42),\"\",'Input|Fee Based'!G42)","v":"Fee Based"},0,null,{"$f":"IF(ISBLANK('Input|Fee Based'!I42),\"\",'Input|Fee Based'!I42)","v":""},{"$f":"IFERROR(VLOOKUP(J42,'Calc|Labour Rates'!$B$10:$M$14,4,FALSE),0)","v":0},{"$f":"IFERROR(K42*'Input|Fee Based'!K42*'Input|Fee Based'!L42/'Input|Setup'!$E$19,0)","v":0},0,0,{"$f":"IF(ISBLANK('Input|Fee Based'!$N42),\"\",'Input|Fee Based'!$N42)","v":""},{"$f":"IFERROR(IF(E42='Calc|Labour Rates'!$C$10,VLOOKUP(O42,'Calc|Labour Rates'!$B$10:$M$14,4,FALSE),VLOOKUP(O42,'Calc|Labour Rates'!$B$15:$M$19,4,FALSE)),0)","v":0},{"$f":"IFERROR((('Input|Fee Based'!Q42*'Input|Fee Based'!P42)/60)*P42,0)","v":0},{"$f":"IFERROR((('Input|Fee Based'!R42*'Input|Fee Based'!P42)/60)*Q42,0)","v":0},0,0,0,{"$f":"'Input|Fee Based'!T42*CPI_Escalator_to_Y1*RealMaterials_Escalator_to_Y1","v":0},{"$f":"'Input|Fee Based'!U42*CPI_Escalator_to_Y1*RealVehicles_Escalator_to_Y1","v":0},{"$f":"'Input|Fee Based'!V42*CPI_Escalator_to_Y1*RealOther_Escalator_to_Y1","v":0},null,0,null,{"$f":"$Z42*SUMIF('Input|Indirect Cost Rates'!$E$25:$E$26,$F42,'Input|Indirect Cost Rates'!$D$25:$D$26)","v":0},{"$f":"$Z42*SUMIF('Input|Indirect Cost Rates'!$E$27:$E$28,$F42,'Input|Indirect Cost Rates'!$D$27:$D$28)","v":0},{"$f":"$Z42*'Input|Fee Based'!Z42","v":0},{"$f":"SUM($Z42,$AB42:$AD42)*'Input|Fee Based'!$AA42","v":0}]
[32,{"$f":"IF(ISBLANK('Input|Fee Based'!B43),\"\",'Input|Fee Based'!B43)","v":"NCUM"},{"$f":"IF(ISBLANK('Input|Fee Based'!C43),\"\",'Input|Fee Based'!C43)","v":"Non-contestable unmetered loads"},{"$f":"IF(ISBLANK('Input|Fee Based'!F43),\"\",'Input|Fee Based'!F43)","v":"Auxiliary metering services"},{"$f":"IF(ISBLANK('Input|Fee Based'!D43),\"\",'Input|Fee Based'!D43)","v":"Business Hours"},{"$f":"IF(ISBLANK('Input|Fee Based'!E43),\"\",'Input|Fee Based'!E43)","v":"Capex"},{"$f":"IF(ISBLANK('Input|Fee Based'!G43),\"\",'Input|Fee Based'!G43)","v":"Fee Based"},0,null,{"$f":"IF(ISBLANK('Input|Fee Based'!I43),\"\",'Input|Fee Based'!I43)","v":""},{"$f":"IFERROR(VLOOKUP(J43,'Calc|Labour Rates'!$B$10:$M$14,4,FALSE),0)","v":0},{"$f":"IFERROR(K43*'Input|Fee Based'!K43*'Input|Fee Based'!L43/'Input|Setup'!$E$19,0)","v":0},0,0,{"$f":"IF(ISBLANK('Input|Fee Based'!$N43),\"\",'Input|Fee Based'!$N43)","v":""},{"$f":"IFERROR(IF(E43='Calc|Labour Rates'!$C$10,VLOOKUP(O43,'Calc|Labour Rates'!$B$10:$M$14,4,FALSE),VLOOKUP(O43,'Calc|Labour Rates'!$B$15:$M$19,4,FALSE)),0)","v":0},{"$f":"IFERROR((('Input|Fee Based'!Q43*'Input|Fee Based'!P43)/60)*P43,0)","v":0},{"$f":"IFERROR((('Input|Fee Based'!R43*'Input|Fee Based'!P43)/60)*Q43,0)","v":0},0,0,0,{"$f":"'Input|Fee Based'!T43*CPI_Escalator_to_Y1*RealMaterials_Escalator_to_Y1","v":0},{"$f":"'Input|Fee Based'!U43*CPI_Escalator_to_Y1*RealVehicles_Escalator_to_Y1","v":0},{"$f":"'Input|Fee Based'!V43*CPI_Escalator_to_Y1*RealOther_Escalator_to_Y1","v":0},null,0,null,{"$f":"$Z43*SUMIF('Input|Indirect Cost Rates'!$E$25:$E$26,$F43,'Input|Indirect Cost Rates'!$D$25:$D$26)","v":0},{"$f":"$Z43*SUMIF('Input|Indirect Cost Rates'!$E$27:$E$28,$F43,'Input|Indirect Cost Rates'!$D$27:$D$28)","v":0},{"$f":"$Z43*'Input|Fee Based'!Z43","v":0},{"$f":"SUM($Z43,$AB43:$AD43)*'Input|Fee Based'!$AA43","v":0}]
[33,{"$f":"IF(ISBLANK('Input|Fee Based'!B44),\"\",'Input|Fee Based'!B44)","v":"WSVR"},{"$f":"IF(ISBLANK('Input|Fee Based'!C44),\"\",'Input|Fee Based'!C44)","v":"Wasted site attendance BH"},{"$f":"IF(ISBLANK('Input|Fee Based'!F44),\"\",'Input|Fee Based'!F44)","v":"Connection service"},{"$f":"IF(ISBLANK('Input|Fee Based'!D44),\"\",'Input|Fee Based'!D44)","v":"Business Hours"},{"$f":"IF(ISBLANK('Input|Fee Based'!E44),\"\",'Input|Fee Based'!E44)","v":"Opex"},{"$f":"IF(ISBLANK('Input|Fee Based'!G44),\"\",'Input|Fee Based'!G44)","v":"Fee Based"},637.0002252435155,null,{"$f":"IF(ISBLANK('Input|Fee Based'!I44),\"\",'Input|Fee Based'!I44)","v":"Administrative Officer"},{"$f":"IFERROR(VLOOKUP(J44,'Calc|Labour Rates'!$B$10:$M$14,4,FALSE),0)","v":73.830453729551124},{"$f":"IFERROR(K44*'Input|Fee Based'!K44*'Input|Fee Based'!L44/'Input|Setup'!$E$19,0)","v":73.830453729551124},73.830453729551124,0,{"$f":"IF(ISBLANK('Input|Fee Based'!$N44),\"\",'Input|Fee Based'!$N44)","v":"Field Worker"},{"$f":"IFERROR(IF(E44='Calc|Labour Rates'!$C$10,VLOOKUP(O44,'Calc|Labour Rates'!$B$10:$M$14,4,FALSE),VLOOKUP(O44,'Calc|Labour Rates'!$B$15:$M$19,4,FALSE)),0)","v":113.65932809307105},{"$f":"IFERROR((('Input|Fee Based'!Q44*'Input|Fee Based'!P44)/60)*P44,0)","v":113.65932809307105},{"$f":"IFERROR((('Input|Fee Based'!R44*'Input|Fee Based'!P44)/60)*Q44,0)","v":132.60254944191624},246.26187753498729,246.26187753498729,0,{"$f":"'Input|Fee Based'!T44*CPI_Escalator_to_Y1*RealMaterials_Escalator_to_Y1","v":0},{"$f":"'Input|Fee Based'!U44*CPI_Escalator_to_Y1*RealVehicles_Escalator_to_Y1","v":61.276288027268137},{"$f":"'Input|Fee Based'!V44*CPI_Escalator_to_Y1*RealOther_Escalator_to_Y1","v":0},null,381.36861929180657,null,{"$f":"$Z44*SUMIF('Input|Indirect Cost Rates'!$E$25:$E$26,$F44,'Input|Indirect Cost Rates'!$D$25:$D$26)","v":79.83152710525934},{"$f":"$Z44*SUMIF('Input|Indirect Cost Rates'!$E$27:$E$28,$F44,'Input|Indirect Cost Rates'!$D$27:$D$28)","v":152.91796168894123},{"$f":"$Z44*'Input|Fee Based'!Z44","v":22.882117157508393},{"$f":"SUM($Z44,$AB44:$AD44)*'Input|Fee Based'!$AA44","v":0}]
[34,{"$f":"IF(ISBLANK('Input|Fee Based'!B45),\"\",'Input|Fee Based'!B45)","v":"WSVR"},{"$f":"IF(ISBLANK('Input|Fee Based'!C45),\"\",'Input|Fee Based'!C45)","v":"Wasted site attendance AH"},{"$f":"IF(ISBLANK('Input|Fee Based'!F45),\"\",'Input|Fee Based'!F45)","v":"Connection service"},{"$f":"IF(ISBLANK('Input|Fee Based'!D45),\"\",'Input|Fee Based'!D45)","v":"After Hours"},{"$f":"IF(ISBLANK('Input|Fee Based'!E45),\"\",'Input|Fee Based'!E45)","v":"Opex"},{"$f":"IF(ISBLANK('Input|Fee Based'!G45),\"\",'Input|Fee Based'!G45)","v":"Fee Based"},988.33914257222261,null,{"$f":"IF(ISBLANK('Input|Fee Based'!I45),\"\",'Input|Fee Based'!I45)","v":"Administrative Officer"},{"$f":"IFERROR(VLOOKUP(J45,'Calc|Labour Rates'!$B$10:$M$14,4,FALSE),0)","v":73.830453729551124},{"$f":"IFERROR(K45*'Input|Fee Based'!K45*'Input|Fee Based'!L45/'Input|Setup'!$E$19,0)","v":73.830453729551124},73.830453729551124,0,{"$f":"IF(ISBLANK('Input|Fee Based'!$N45),\"\",'Input|Fee Based'!$N45)","v":"Field Worker"},{"$f":"IFERROR(IF(E45='Calc|Labour Rates'!$C$10,VLOOKUP(O45,'Calc|Labour Rates'!$B$10:$M$14,4,FALSE),VLOOKUP(O45,'Calc|Labour Rates'!$B$15:$M$19,4,FALSE)),0)","v":210.74150929800402},{"$f":"IFERROR((('Input|Fee Based'!Q45*'Input|Fee Based'!P45)/60)*P45,0)","v":210.74150929800402},{"$f":"IFERROR((('Input|Fee Based'!R45*'Input|Fee Based'!P45)/60)*Q45,0)","v":245.86509418100471},456.60660347900875,456.60660347900875,0,{"$f":"'Input|Fee Based'!T45*CPI_Escalator_to_Y1*RealMaterials_Escalator_to_Y1","v":0},{"$f":"'Input|Fee Based'!U45*CPI_Escalator_to_Y1*RealVehicles_Escalator_to_Y1","v":61.276288027268137},{"$f":"'Input|Fee Based'!V45*CPI_Escalator_to_Y1*RealOther_Escalator_to_Y1","v":0},null,591.713345235828,null,{"$f":"$Z45*SUMIF('Input|Indirect Cost Rates'!$E$25:$E$26,$F45,'Input|Indirect Cost Rates'!$D$25:$D$26)","v":123.86278673493506},{"$f":"$Z45*SUMIF('Input|Indirect Cost Rates'!$E$27:$E$28,$F45,'Input|Indirect Cost Rates'!$D$27:$D$28)","v":237.26020988730988},{"$f":"$Z45*'Input|Fee Based'!Z45","v":35.502800714149679},{"$f":"SUM($Z45,$AB45:$AD45)*'Input|Fee Based'!$AA45","v":0}]
[35,{"$f":"IF(ISBLANK('Input|Fee Based'!B46),\"\",'Input|Fee Based'!B46)","v":"RTK3"},{"$f":"IF(ISBLANK('Input|Fee Based'!C46),\"\",'Input|Fee Based'!C46)","v":"Replacement of 3-phase overhead service line BH"},{"$f":"IF(ISBLANK('Input|Fee Based'!F46),\"\",'Input|Fee Based'!F46)","v":"Connection service"},{"$f":"IF(ISBLANK('Input|Fee Based'!D46),\"\",'Input|Fee Based'!D46)","v":"Business Hours"},{"$f":"IF(ISBLANK('Input|Fee Based'!E46),\"\",'Input|Fee Based'!E46)","v":"Capex"},{"$f":"IF(ISBLANK('Input|Fee Based'!G46),\"\",'Input|Fee Based'!G46)","v":"Fee Based"},970.87797129710248,null,{"$f":"IF(ISBLANK('Input|Fee Based'!I46),\"\",'Input|Fee Based'!I46)","v":"Administrative Officer"},{"$f":"IFERROR(VLOOKUP(J46,'Calc|Labour Rates'!$B$10:$M$14,4,FALSE),0)","v":73.830453729551124},{"$f":"IFERROR(K46*'Input|Fee Based'!K46*'Input|Fee Based'!L46/'Input|Setup'!$E$19,0)","v":73.830453729551124},73.830453729551124,0,{"$f":"IF(ISBLANK('Input|Fee Based'!$N46),\"\",'Input|Fee Based'!$N46)","v":"Field Worker"},{"$f":"IFERROR(IF(E46='Calc|Labour Rates'!$C$10,VLOOKUP(O46,'Calc|Labour Rates'!$B$10:$M$14,4,FALSE),VLOOKUP(O46,'Calc|Labour Rates'!$B$15:$M$19,4,FALSE)),0)","v":113.65932809307105},{"$f":"IFERROR((('Input|Fee Based'!Q46*'Input|Fee Based'!P46)/60)*P46,0)","v":113.65932809307105},{"$f":"IFERROR((('Input|Fee Based'!R46*'Input|Fee Based'!P46)/60)*Q46,0)","v":132.60254944191624},246.26187753498729,246.26187753498729,0,{"$f":"'Input|Fee Based'!T46*CPI_Escalator_to_Y1*RealMaterials_Escalator_to_Y1","v":189.20520311207397},{"$f":"'Input|Fee Based'!U46*CPI_Escalator_to_Y1*RealVehicles_Escalator_to_Y1","v":61.276288027268137},{"$f":"'Input|Fee Based'!V46*CPI_Escalator_to_Y1*RealOther_Escalator_to_Y1","v":0},null,570.57382240388051,null,{"$f":"$Z46*SUMIF('Input|Indirect Cost Rates'!$E$25:$E$26,$F46,'Input|Indirect Cost Rates'!$D$25:$D$26)","v":119.43767070655102},{"$f":"$Z46*SUMIF('Input|Indirect Cost Rates'!$E$27:$E$28,$F46,'Input|Indirect Cost Rates'!$D$27:$D$28)","v":228.78386291219394},{"$f":"$Z46*'Input|Fee Based'!Z46","v":34.234429344232829},{"$f":"SUM($Z46,$AB46:$AD46)*'Input|Fee Based'!$AA46","v":17.848185930244231}]
[36,{"$f":"IF(ISBLANK('Input|Fee Based'!B47),\"\",'Input|Fee Based'!B47)","v":"RTK3"},{"$f":"IF(ISBLANK('Input|Fee Based'!C47),\"\",'Input|Fee Based'!C47)","v":"Replacement of 3-phase overhead service line AH"},{"$f":"IF(ISBLANK('Input|Fee Based'!F47),\"\",'Input|Fee Based'!F47)","v":"Connection service"},{"$f":"IF(ISBLANK('Input|Fee Based'!D47),\"\",'Input|Fee Based'!D47)","v":"After Hours"},{"$f":"IF(ISBLANK('Input|Fee Based'!E47),\"\",'Input|Fee Based'!E47)","v":"Capex"},{"$f":"IF(ISBLANK('Input|Fee Based'!G47),\"\",'Input|Fee Based'!G47)","v":"Fee Based"},1328.7967063999199,null,{"$f":"IF(ISBLANK('Input|Fee Based'!I47),\"\",'Input|Fee Based'!I47)","v":"Administrative Officer"},{"$f":"IFERROR(VLOOKUP(J47,'Calc|Labour Rates'!$B$10:$M$14,4,FALSE),0)","v":73.830453729551124},{"$f":"IFERROR(K47*'Input|Fee Based'!K47*'Input|Fee Based'!L47/'Input|Setup'!$E$19,0)","v":73.830453729551124},73.830453729551124,0,{"$f":"IF(ISBLANK('Input|Fee Based'!$N47),\"\",'Input|Fee Based'!$N47)","v":"Field Worker"},{"$f":"IFERROR(IF(E47='Calc|Labour Rates'!$C$10,VLOOKUP(O47,'Calc|Labour Rates'!$B$10:$M$14,4,FALSE),VLOOKUP(O47,'Calc|Labour Rates'!$B$15:$M$19,4,FALSE)),0)","v":210.74150929800402},{"$f":"IFERROR((('Input|Fee Based'!Q47*'Input|Fee Based'!P47)/60)*P47,0)","v":210.74150929800402},{"$f":"IFERROR((('Input|Fee Based'!R47*'Input|Fee Based'!P47)/60)*Q47,0)","v":245.86509418100471},456.60660347900875,456.60660347900875,0,{"$f":"'Input|Fee Based'!T47*CPI_Escalator_to_Y1*RealMaterials_Escalator_to_Y1","v":189.20520311207397},{"$f":"'Input|Fee Based'!U47*CPI_Escalator_to_Y1*RealVehicles_Escalator_to_Y1","v":61.276288027268137},{"$f":"'Input|Fee Based'!V47*CPI_Escalator_to_Y1*RealOther_Escalator_to_Y1","v":0},null,780.91854834790195,null,{"$f":"$Z47*SUMIF('Input|Indirect Cost Rates'!$E$25:$E$26,$F47,'Input|Indirect Cost Rates'!$D$25:$D$26)","v":163.46893033622675},{"$f":"$Z47*SUMIF('Input|Indirect Cost Rates'!$E$27:$E$28,$F47,'Input|Indirect Cost Rates'!$D$27:$D$28)","v":313.12611111056259},{"$f":"$Z47*'Input|Fee Based'!Z47","v":46.855112900874119},{"$f":"SUM($Z47,$AB47:$AD47)*'Input|Fee Based'!$AA47","v":24.428003704354627}]
[37,{"$f":"IF(ISBLANK('Input|Fee Based'!B48),\"\",'Input|Fee Based'!B48)","v":""},{"$f":"IF(ISBLANK('Input|Fee Based'!C48),\"\",'Input|Fee Based'!C48)","v":""},{"$f":"IF(ISBLANK('Input|Fee Based'!F48),\"\",'Input|Fee Based'!F48)","v":""},{"$f":"IF(ISBLANK('Input|Fee Based'!D48),\"\",'Input|Fee Based'!D48)","v":""},{"$f":"IF(ISBLANK('Input|Fee Based'!E48),\"\",'Input|Fee Based'!E48)","v":""},{"$f":"IF(ISBLANK('Input|Fee Based'!G48),\"\",'Input|Fee Based'!G48)","v":""},0,null,{"$f":"IF(ISBLANK('Input|Fee Based'!I48),\"\",'Input|Fee Based'!I48)","v":""},{"$f":"IFERROR(VLOOKUP(J48,'Calc|Labour Rates'!$B$10:$M$14,4,FALSE),0)","v":0},{"$f":"IFERROR(K48*'Input|Fee Based'!K48*'Input|Fee Based'!L48/'Input|Setup'!$E$19,0)","v":0},0,0,{"$f":"IF(ISBLANK('Input|Fee Based'!$N48),\"\",'Input|Fee Based'!$N48)","v":""},{"$f":"IFERROR(IF(E48='Calc|Labour Rates'!$C$10,VLOOKUP(O48,'Calc|Labour Rates'!$B$10:$M$14,4,FALSE),VLOOKUP(O48,'Calc|Labour Rates'!$B$15:$M$19,4,FALSE)),0)","v":0},{"$f":"IFERROR((('Input|Fee Based'!Q48*'Input|Fee Based'!P48)/60)*P48,0)","v":0},{"$f":"IFERROR((('Input|Fee Based'!R48*'Input|Fee Based'!P48)/60)*Q48,0)","v":0},0,0,0,{"$f":"'Input|Fee Based'!T48*CPI_Escalator_to_Y1*RealMaterials_Escalator_to_Y1","v":0},{"$f":"'Input|Fee Based'!U48*CPI_Escalator_to_Y1*RealVehicles_Escalator_to_Y1","v":0},{"$f":"'Input|Fee Based'!V48*CPI_Escalator_to_Y1*RealOther_Escalator_to_Y1","v":0},null,0,null,{"$f":"$Z48*SUMIF('Input|Indirect Cost Rates'!$E$25:$E$26,$F48,'Input|Indirect Cost Rates'!$D$25:$D$26)","v":0},{"$f":"$Z48*SUMIF('Input|Indirect Cost Rates'!$E$27:$E$28,$F48,'Input|Indirect Cost Rates'!$D$27:$D$28)","v":0},{"$f":"$Z48*'Input|Fee Based'!Z48","v":0},{"$f":"SUM($Z48,$AB48:$AD48)*'Input|Fee Based'!$AA48","v":0}]
[38,{"$f":"IF(ISBLANK('Input|Fee Based'!B49),\"\",'Input|Fee Based'!B49)","v":""},{"$f":"IF(ISBLANK('Input|Fee Based'!C49),\"\",'Input|Fee Based'!C49)","v":""},{"$f":"IF(ISBLANK('Input|Fee Based'!F49),\"\",'Input|Fee Based'!F49)","v":""},{"$f":"IF(ISBLANK('Input|Fee Based'!D49),\"\",'Input|Fee Based'!D49)","v":""},{"$f":"IF(ISBLANK('Input|Fee Based'!E49),\"\",'Input|Fee Based'!E49)","v":""},{"$f":"IF(ISBLANK('Input|Fee Based'!G49),\"\",'Input|Fee Based'!G49)","v":""},0,null,{"$f":"IF(ISBLANK('Input|Fee Based'!I49),\"\",'Input|Fee Based'!I49)","v":""},{"$f":"IFERROR(VLOOKUP(J49,'Calc|Labour Rates'!$B$10:$M$14,4,FALSE),0)","v":0},{"$f":"IFERROR(K49*'Input|Fee Based'!K49*'Input|Fee Based'!L49/'Input|Setup'!$E$19,0)","v":0},0,0,{"$f":"IF(ISBLANK('Input|Fee Based'!$N49),\"\",'Input|Fee Based'!$N49)","v":""},{"$f":"IFERROR(IF(E49='Calc|Labour Rates'!$C$10,VLOOKUP(O49,'Calc|Labour Rates'!$B$10:$M$14,4,FALSE),VLOOKUP(O49,'Calc|Labour Rates'!$B$15:$M$19,4,FALSE)),0)","v":0},{"$f":"IFERROR((('Input|Fee Based'!Q49*'Input|Fee Based'!P49)/60)*P49,0)","v":0},{"$f":"IFERROR((('Input|Fee Based'!R49*'Input|Fee Based'!P49)/60)*Q49,0)","v":0},0,0,0,{"$f":"'Input|Fee Based'!T49*CPI_Escalator_to_Y1*RealMaterials_Escalator_to_Y1","v":0},{"$f":"'Input|Fee Based'!U49*CPI_Escalator_to_Y1*RealVehicles_Escalator_to_Y1","v":0},{"$f":"'Input|Fee Based'!V49*CPI_Escalator_to_Y1*RealOther_Escalator_to_Y1","v":0},null,0,null,{"$f":"$Z49*SUMIF('Input|Indirect Cost Rates'!$E$25:$E$26,$F49,'Input|Indirect Cost Rates'!$D$25:$D$26)","v":0},{"$f":"$Z49*SUMIF('Input|Indirect Cost Rates'!$E$27:$E$28,$F49,'Input|Indirect Cost Rates'!$D$27:$D$28)","v":0},{"$f":"$Z49*'Input|Fee Based'!Z49","v":0},{"$f":"SUM($Z49,$AB49:$AD49)*'Input|Fee Based'!$AA49","v":0}]
[39,{"$f":"IF(ISBLANK('Input|Fee Based'!B50),\"\",'Input|Fee Based'!B50)","v":""},{"$f":"IF(ISBLANK('Input|Fee Based'!C50),\"\",'Input|Fee Based'!C50)","v":""},{"$f":"IF(ISBLANK('Input|Fee Based'!F50),\"\",'Input|Fee Based'!F50)","v":""},{"$f":"IF(ISBLANK('Input|Fee Based'!D50),\"\",'Input|Fee Based'!D50)","v":""},{"$f":"IF(ISBLANK('Input|Fee Based'!E50),\"\",'Input|Fee Based'!E50)","v":""},{"$f":"IF(ISBLANK('Input|Fee Based'!G50),\"\",'Input|Fee Based'!G50)","v":""},0,null,{"$f":"IF(ISBLANK('Input|Fee Based'!I50),\"\",'Input|Fee Based'!I50)","v":""},{"$f":"IFERROR(VLOOKUP(J50,'Calc|Labour Rates'!$B$10:$M$14,4,FALSE),0)","v":0},{"$f":"IFERROR(K50*'Input|Fee Based'!K50*'Input|Fee Based'!L50/'Input|Setup'!$E$19,0)","v":0},0,0,{"$f":"IF(ISBLANK('Input|Fee Based'!$N50),\"\",'Input|Fee Based'!$N50)","v":""},{"$f":"IFERROR(IF(E50='Calc|Labour Rates'!$C$10,VLOOKUP(O50,'Calc|Labour Rates'!$B$10:$M$14,4,FALSE),VLOOKUP(O50,'Calc|Labour Rates'!$B$15:$M$19,4,FALSE)),0)","v":0},{"$f":"IFERROR((('Input|Fee Based'!Q50*'Input|Fee Based'!P50)/60)*P50,0)","v":0},{"$f":"IFERROR((('Input|Fee Based'!R50*'Input|Fee Based'!P50)/60)*Q50,0)","v":0},0,0,0,{"$f":"'Input|Fee Based'!T50*CPI_Escalator_to_Y1*RealMaterials_Escalator_to_Y1","v":0},{"$f":"'Input|Fee Based'!U50*CPI_Escalator_to_Y1*RealVehicles_Escalator_to_Y1","v":0},{"$f":"'Input|Fee Based'!V50*CPI_Escalator_to_Y1*RealOther_Escalator_to_Y1","v":0},null,0,null,{"$f":"$Z50*SUMIF('Input|Indirect Cost Rates'!$E$25:$E$26,$F50,'Input|Indirect Cost Rates'!$D$25:$D$26)","v":0},{"$f":"$Z50*SUMIF('Input|Indirect Cost Rates'!$E$27:$E$28,$F50,'Input|Indirect Cost Rates'!$D$27:$D$28)","v":0},{"$f":"$Z50*'Input|Fee Based'!Z50","v":0},{"$f":"SUM($Z50,$AB50:$AD50)*'Input|Fee Based'!$AA50","v":0}]
[40,{"$f":"IF(ISBLANK('Input|Fee Based'!B51),\"\",'Input|Fee Based'!B51)","v":""},{"$f":"IF(ISBLANK('Input|Fee Based'!C51),\"\",'Input|Fee Based'!C51)","v":""},{"$f":"IF(ISBLANK('Input|Fee Based'!F51),\"\",'Input|Fee Based'!F51)","v":""},{"$f":"IF(ISBLANK('Input|Fee Based'!D51),\"\",'Input|Fee Based'!D51)","v":""},{"$f":"IF(ISBLANK('Input|Fee Based'!E51),\"\",'Input|Fee Based'!E51)","v":""},{"$f":"IF(ISBLANK('Input|Fee Based'!G51),\"\",'Input|Fee Based'!G51)","v":""},0,null,{"$f":"IF(ISBLANK('Input|Fee Based'!I51),\"\",'Input|Fee Based'!I51)","v":""},{"$f":"IFERROR(VLOOKUP(J51,'Calc|Labour Rates'!$B$10:$M$14,4,FALSE),0)","v":0},{"$f":"IFERROR(K51*'Input|Fee Based'!K51*'Input|Fee Based'!L51/'Input|Setup'!$E$19,0)","v":0},0,0,{"$f":"IF(ISBLANK('Input|Fee Based'!$N51),\"\",'Input|Fee Based'!$N51)","v":""},{"$f":"IFERROR(IF(E51='Calc|Labour Rates'!$C$10,VLOOKUP(O51,'Calc|Labour Rates'!$B$10:$M$14,4,FALSE),VLOOKUP(O51,'Calc|Labour Rates'!$B$15:$M$19,4,FALSE)),0)","v":0},{"$f":"IFERROR((('Input|Fee Based'!Q51*'Input|Fee Based'!P51)/60)*P51,0)","v":0},{"$f":"IFERROR((('Input|Fee Based'!R51*'Input|Fee Based'!P51)/60)*Q51,0)","v":0},0,0,0,{"$f":"'Input|Fee Based'!T51*CPI_Escalator_to_Y1*RealMaterials_Escalator_to_Y1","v":0},{"$f":"'Input|Fee Based'!U51*CPI_Escalator_to_Y1*RealVehicles_Escalator_to_Y1","v":0},{"$f":"'Input|Fee Based'!V51*CPI_Escalator_to_Y1*RealOther_Escalator_to_Y1","v":0},null,0,null,{"$f":"$Z51*SUMIF('Input|Indirect Cost Rates'!$E$25:$E$26,$F51,'Input|Indirect Cost Rates'!$D$25:$D$26)","v":0},{"$f":"$Z51*SUMIF('Input|Indirect Cost Rates'!$E$27:$E$28,$F51,'Input|Indirect Cost Rates'!$D$27:$D$28)","v":0},{"$f":"$Z51*'Input|Fee Based'!Z51","v":0},{"$f":"SUM($Z51,$AB51:$AD51)*'Input|Fee Based'!$AA51","v":0}]
[41,{"$f":"IF(ISBLANK('Input|Fee Based'!B52),\"\",'Input|Fee Based'!B52)","v":""},{"$f":"IF(ISBLANK('Input|Fee Based'!C52),\"\",'Input|Fee Based'!C52)","v":""},{"$f":"IF(ISBLANK('Input|Fee Based'!F52),\"\",'Input|Fee Based'!F52)","v":""},{"$f":"IF(ISBLANK('Input|Fee Based'!D52),\"\",'Input|Fee Based'!D52)","v":""},{"$f":"IF(ISBLANK('Input|Fee Based'!E52),\"\",'Input|Fee Based'!E52)","v":""},{"$f":"IF(ISBLANK('Input|Fee Based'!G52),\"\",'Input|Fee Based'!G52)","v":""},0,null,{"$f":"IF(ISBLANK('Input|Fee Based'!I52),\"\",'Input|Fee Based'!I52)","v":""},{"$f":"IFERROR(VLOOKUP(J52,'Calc|Labour Rates'!$B$10:$M$14,4,FALSE),0)","v":0},{"$f":"IFERROR(K52*'Input|Fee Based'!K52*'Input|Fee Based'!L52/'Input|Setup'!$E$19,0)","v":0},0,0,{"$f":"IF(ISBLANK('Input|Fee Based'!$N52),\"\",'Input|Fee Based'!$N52)","v":""},{"$f":"IFERROR(IF(E52='Calc|Labour Rates'!$C$10,VLOOKUP(O52,'Calc|Labour Rates'!$B$10:$M$14,4,FALSE),VLOOKUP(O52,'Calc|Labour Rates'!$B$15:$M$19,4,FALSE)),0)","v":0},{"$f":"IFERROR((('Input|Fee Based'!Q52*'Input|Fee Based'!P52)/60)*P52,0)","v":0},{"$f":"IFERROR((('Input|Fee Based'!R52*'Input|Fee Based'!P52)/60)*Q52,0)","v":0},0,0,0,{"$f":"'Input|Fee Based'!T52*CPI_Escalator_to_Y1*RealMaterials_Escalator_to_Y1","v":0},{"$f":"'Input|Fee Based'!U52*CPI_Escalator_to_Y1*RealVehicles_Escalator_to_Y1","v":0},{"$f":"'Input|Fee Based'!V52*CPI_Escalator_to_Y1*RealOther_Escalator_to_Y1","v":0},null,0,null,{"$f":"$Z52*SUMIF('Input|Indirect Cost Rates'!$E$25:$E$26,$F52,'Input|Indirect Cost Rates'!$D$25:$D$26)","v":0},{"$f":"$Z52*SUMIF('Input|Indirect Cost Rates'!$E$27:$E$28,$F52,'Input|Indirect Cost Rates'!$D$27:$D$28)","v":0},{"$f":"$Z52*'Input|Fee Based'!Z52","v":0},{"$f":"SUM($Z52,$AB52:$AD52)*'Input|Fee Based'!$AA52","v":0}]
[42,{"$f":"IF(ISBLANK('Input|Fee Based'!B53),\"\",'Input|Fee Based'!B53)","v":""},{"$f":"IF(ISBLANK('Input|Fee Based'!C53),\"\",'Input|Fee Based'!C53)","v":""},{"$f":"IF(ISBLANK('Input|Fee Based'!F53),\"\",'Input|Fee Based'!F53)","v":""},{"$f":"IF(ISBLANK('Input|Fee Based'!D53),\"\",'Input|Fee Based'!D53)","v":""},{"$f":"IF(ISBLANK('Input|Fee Based'!E53),\"\",'Input|Fee Based'!E53)","v":""},{"$f":"IF(ISBLANK('Input|Fee Based'!G53),\"\",'Input|Fee Based'!G53)","v":""},0,null,{"$f":"IF(ISBLANK('Input|Fee Based'!I53),\"\",'Input|Fee Based'!I53)","v":""},{"$f":"IFERROR(VLOOKUP(J53,'Calc|Labour Rates'!$B$10:$M$14,4,FALSE),0)","v":0},{"$f":"IFERROR(K53*'Input|Fee Based'!K53*'Input|Fee Based'!L53/'Input|Setup'!$E$19,0)","v":0},0,0,{"$f":"IF(ISBLANK('Input|Fee Based'!$N53),\"\",'Input|Fee Based'!$N53)","v":""},{"$f":"IFERROR(IF(E53='Calc|Labour Rates'!$C$10,VLOOKUP(O53,'Calc|Labour Rates'!$B$10:$M$14,4,FALSE),VLOOKUP(O53,'Calc|Labour Rates'!$B$15:$M$19,4,FALSE)),0)","v":0},{"$f":"IFERROR((('Input|Fee Based'!Q53*'Input|Fee Based'!P53)/60)*P53,0)","v":0},{"$f":"IFERROR((('Input|Fee Based'!R53*'Input|Fee Based'!P53)/60)*Q53,0)","v":0},0,0,0,{"$f":"'Input|Fee Based'!T53*CPI_Escalator_to_Y1*RealMaterials_Escalator_to_Y1","v":0},{"$f":"'Input|Fee Based'!U53*CPI_Escalator_to_Y1*RealVehicles_Escalator_to_Y1","v":0},{"$f":"'Input|Fee Based'!V53*CPI_Escalator_to_Y1*RealOther_Escalator_to_Y1","v":0},null,0,null,{"$f":"$Z53*SUMIF('Input|Indirect Cost Rates'!$E$25:$E$26,$F53,'Input|Indirect Cost Rates'!$D$25:$D$26)","v":0},{"$f":"$Z53*SUMIF('Input|Indirect Cost Rates'!$E$27:$E$28,$F53,'Input|Indirect Cost Rates'!$D$27:$D$28)","v":0},{"$f":"$Z53*'Input|Fee Based'!Z53","v":0},{"$f":"SUM($Z53,$AB53:$AD53)*'Input|Fee Based'!$AA53","v":0}]
[43,{"$f":"IF(ISBLANK('Input|Fee Based'!B54),\"\",'Input|Fee Based'!B54)","v":""},{"$f":"IF(ISBLANK('Input|Fee Based'!C54),\"\",'Input|Fee Based'!C54)","v":""},{"$f":"IF(ISBLANK('Input|Fee Based'!F54),\"\",'Input|Fee Based'!F54)","v":""},{"$f":"IF(ISBLANK('Input|Fee Based'!D54),\"\",'Input|Fee Based'!D54)","v":""},{"$f":"IF(ISBLANK('Input|Fee Based'!E54),\"\",'Input|Fee Based'!E54)","v":""},{"$f":"IF(ISBLANK('Input|Fee Based'!G54),\"\",'Input|Fee Based'!G54)","v":""},0,null,{"$f":"IF(ISBLANK('Input|Fee Based'!I54),\"\",'Input|Fee Based'!I54)","v":""},{"$f":"IFERROR(VLOOKUP(J54,'Calc|Labour Rates'!$B$10:$M$14,4,FALSE),0)","v":0},{"$f":"IFERROR(K54*'Input|Fee Based'!K54*'Input|Fee Based'!L54/'Input|Setup'!$E$19,0)","v":0},0,0,{"$f":"IF(ISBLANK('Input|Fee Based'!$N54),\"\",'Input|Fee Based'!$N54)","v":""},{"$f":"IFERROR(IF(E54='Calc|Labour Rates'!$C$10,VLOOKUP(O54,'Calc|Labour Rates'!$B$10:$M$14,4,FALSE),VLOOKUP(O54,'Calc|Labour Rates'!$B$15:$M$19,4,FALSE)),0)","v":0},{"$f":"IFERROR((('Input|Fee Based'!Q54*'Input|Fee Based'!P54)/60)*P54,0)","v":0},{"$f":"IFERROR((('Input|Fee Based'!R54*'Input|Fee Based'!P54)/60)*Q54,0)","v":0},0,0,0,{"$f":"'Input|Fee Based'!T54*CPI_Escalator_to_Y1*RealMaterials_Escalator_to_Y1","v":0},{"$f":"'Input|Fee Based'!U54*CPI_Escalator_to_Y1*RealVehicles_Escalator_to_Y1","v":0},{"$f":"'Input|Fee Based'!V54*CPI_Escalator_to_Y1*RealOther_Escalator_to_Y1","v":0},null,0,null,{"$f":"$Z54*SUMIF('Input|Indirect Cost Rates'!$E$25:$E$26,$F54,'Input|Indirect Cost Rates'!$D$25:$D$26)","v":0},{"$f":"$Z54*SUMIF('Input|Indirect Cost Rates'!$E$27:$E$28,$F54,'Input|Indirect Cost Rates'!$D$27:$D$28)","v":0},{"$f":"$Z54*'Input|Fee Based'!Z54","v":0},{"$f":"SUM($Z54,$AB54:$AD54)*'Input|Fee Based'!$AA54","v":0}]
[44,{"$f":"IF(ISBLANK('Input|Fee Based'!B55),\"\",'Input|Fee Based'!B55)","v":""},{"$f":"IF(ISBLANK('Input|Fee Based'!C55),\"\",'Input|Fee Based'!C55)","v":""},{"$f":"IF(ISBLANK('Input|Fee Based'!F55),\"\",'Input|Fee Based'!F55)","v":""},{"$f":"IF(ISBLANK('Input|Fee Based'!D55),\"\",'Input|Fee Based'!D55)","v":""},{"$f":"IF(ISBLANK('Input|Fee Based'!E55),\"\",'Input|Fee Based'!E55)","v":""},{"$f":"IF(ISBLANK('Input|Fee Based'!G55),\"\",'Input|Fee Based'!G55)","v":""},0,null,{"$f":"IF(ISBLANK('Input|Fee Based'!I55),\"\",'Input|Fee Based'!I55)","v":""},{"$f":"IFERROR(VLOOKUP(J55,'Calc|Labour Rates'!$B$10:$M$14,4,FALSE),0)","v":0},{"$f":"IFERROR(K55*'Input|Fee Based'!K55*'Input|Fee Based'!L55/'Input|Setup'!$E$19,0)","v":0},0,0,{"$f":"IF(ISBLANK('Input|Fee Based'!$N55),\"\",'Input|Fee Based'!$N55)","v":""},{"$f":"IFERROR(IF(E55='Calc|Labour Rates'!$C$10,VLOOKUP(O55,'Calc|Labour Rates'!$B$10:$M$14,4,FALSE),VLOOKUP(O55,'Calc|Labour Rates'!$B$15:$M$19,4,FALSE)),0)","v":0},{"$f":"IFERROR((('Input|Fee Based'!Q55*'Input|Fee Based'!P55)/60)*P55,0)","v":0},{"$f":"IFERROR((('Input|Fee Based'!R55*'Input|Fee Based'!P55)/60)*Q55,0)","v":0},0,0,0,{"$f":"'Input|Fee Based'!T55*CPI_Escalator_to_Y1*RealMaterials_Escalator_to_Y1","v":0},{"$f":"'Input|Fee Based'!U55*CPI_Escalator_to_Y1*RealVehicles_Escalator_to_Y1","v":0},{"$f":"'Input|Fee Based'!V55*CPI_Escalator_to_Y1*RealOther_Escalator_to_Y1","v":0},null,0,null,{"$f":"$Z55*SUMIF('Input|Indirect Cost Rates'!$E$25:$E$26,$F55,'Input|Indirect Cost Rates'!$D$25:$D$26)","v":0},{"$f":"$Z55*SUMIF('Input|Indirect Cost Rates'!$E$27:$E$28,$F55,'Input|Indirect Cost Rates'!$D$27:$D$28)","v":0},{"$f":"$Z55*'Input|Fee Based'!Z55","v":0},{"$f":"SUM($Z55,$AB55:$AD55)*'Input|Fee Based'!$AA55","v":0}]
[45,{"$f":"IF(ISBLANK('Input|Fee Based'!B56),\"\",'Input|Fee Based'!B56)","v":""},{"$f":"IF(ISBLANK('Input|Fee Based'!C56),\"\",'Input|Fee Based'!C56)","v":""},{"$f":"IF(ISBLANK('Input|Fee Based'!F56),\"\",'Input|Fee Based'!F56)","v":""},{"$f":"IF(ISBLANK('Input|Fee Based'!D56),\"\",'Input|Fee Based'!D56)","v":""},{"$f":"IF(ISBLANK('Input|Fee Based'!E56),\"\",'Input|Fee Based'!E56)","v":""},{"$f":"IF(ISBLANK('Input|Fee Based'!G56),\"\",'Input|Fee Based'!G56)","v":""},0,null,{"$f":"IF(ISBLANK('Input|Fee Based'!I56),\"\",'Input|Fee Based'!I56)","v":""},{"$f":"IFERROR(VLOOKUP(J56,'Calc|Labour Rates'!$B$10:$M$14,4,FALSE),0)","v":0},{"$f":"IFERROR(K56*'Input|Fee Based'!K56*'Input|Fee Based'!L56/'Input|Setup'!$E$19,0)","v":0},0,0,{"$f":"IF(ISBLANK('Input|Fee Based'!$N56),\"\",'Input|Fee Based'!$N56)","v":""},{"$f":"IFERROR(IF(E56='Calc|Labour Rates'!$C$10,VLOOKUP(O56,'Calc|Labour Rates'!$B$10:$M$14,4,FALSE),VLOOKUP(O56,'Calc|Labour Rates'!$B$15:$M$19,4,FALSE)),0)","v":0},{"$f":"IFERROR((('Input|Fee Based'!Q56*'Input|Fee Based'!P56)/60)*P56,0)","v":0},{"$f":"IFERROR((('Input|Fee Based'!R56*'Input|Fee Based'!P56)/60)*Q56,0)","v":0},0,0,0,{"$f":"'Input|Fee Based'!T56*CPI_Escalator_to_Y1*RealMaterials_Escalator_to_Y1","v":0},{"$f":"'Input|Fee Based'!U56*CPI_Escalator_to_Y1*RealVehicles_Escalator_to_Y1","v":0},{"$f":"'Input|Fee Based'!V56*CPI_Escalator_to_Y1*RealOther_Escalator_to_Y1","v":0},null,0,null,{"$f":"$Z56*SUMIF('Input|Indirect Cost Rates'!$E$25:$E$26,$F56,'Input|Indirect Cost Rates'!$D$25:$D$26)","v":0},{"$f":"$Z56*SUMIF('Input|Indirect Cost Rates'!$E$27:$E$28,$F56,'Input|Indirect Cost Rates'!$D$27:$D$28)","v":0},{"$f":"$Z56*'Input|Fee Based'!Z56","v":0},{"$f":"SUM($Z56,$AB56:$AD56)*'Input|Fee Based'!$AA56","v":0}]
[46,{"$f":"IF(ISBLANK('Input|Fee Based'!B57),\"\",'Input|Fee Based'!B57)","v":""},{"$f":"IF(ISBLANK('Input|Fee Based'!C57),\"\",'Input|Fee Based'!C57)","v":""},{"$f":"IF(ISBLANK('Input|Fee Based'!F57),\"\",'Input|Fee Based'!F57)","v":""},{"$f":"IF(ISBLANK('Input|Fee Based'!D57),\"\",'Input|Fee Based'!D57)","v":""},{"$f":"IF(ISBLANK('Input|Fee Based'!E57),\"\",'Input|Fee Based'!E57)","v":""},{"$f":"IF(ISBLANK('Input|Fee Based'!G57),\"\",'Input|Fee Based'!G57)","v":""},0,null,{"$f":"IF(ISBLANK('Input|Fee Based'!I57),\"\",'Input|Fee Based'!I57)","v":""},{"$f":"IFERROR(VLOOKUP(J57,'Calc|Labour Rates'!$B$10:$M$14,4,FALSE),0)","v":0},{"$f":"IFERROR(K57*'Input|Fee Based'!K57*'Input|Fee Based'!L57/'Input|Setup'!$E$19,0)","v":0},0,0,{"$f":"IF(ISBLANK('Input|Fee Based'!$N57),\"\",'Input|Fee Based'!$N57)","v":""},{"$f":"IFERROR(IF(E57='Calc|Labour Rates'!$C$10,VLOOKUP(O57,'Calc|Labour Rates'!$B$10:$M$14,4,FALSE),VLOOKUP(O57,'Calc|Labour Rates'!$B$15:$M$19,4,FALSE)),0)","v":0},{"$f":"IFERROR((('Input|Fee Based'!Q57*'Input|Fee Based'!P57)/60)*P57,0)","v":0},{"$f":"IFERROR((('Input|Fee Based'!R57*'Input|Fee Based'!P57)/60)*Q57,0)","v":0},0,0,0,{"$f":"'Input|Fee Based'!T57*CPI_Escalator_to_Y1*RealMaterials_Escalator_to_Y1","v":0},{"$f":"'Input|Fee Based'!U57*CPI_Escalator_to_Y1*RealVehicles_Escalator_to_Y1","v":0},{"$f":"'Input|Fee Based'!V57*CPI_Escalator_to_Y1*RealOther_Escalator_to_Y1","v":0},null,0,null,{"$f":"$Z57*SUMIF('Input|Indirect Cost Rates'!$E$25:$E$26,$F57,'Input|Indirect Cost Rates'!$D$25:$D$26)","v":0},{"$f":"$Z57*SUMIF('Input|Indirect Cost Rates'!$E$27:$E$28,$F57,'Input|Indirect Cost Rates'!$D$27:$D$28)","v":0},{"$f":"$Z57*'Input|Fee Based'!Z57","v":0},{"$f":"SUM($Z57,$AB57:$AD57)*'Input|Fee Based'!$AA57","v":0}]
[47,{"$f":"IF(ISBLANK('Input|Fee Based'!B58),\"\",'Input|Fee Based'!B58)","v":""},{"$f":"IF(ISBLANK('Input|Fee Based'!C58),\"\",'Input|Fee Based'!C58)","v":""},{"$f":"IF(ISBLANK('Input|Fee Based'!F58),\"\",'Input|Fee Based'!F58)","v":""},{"$f":"IF(ISBLANK('Input|Fee Based'!D58),\"\",'Input|Fee Based'!D58)","v":""},{"$f":"IF(ISBLANK('Input|Fee Based'!E58),\"\",'Input|Fee Based'!E58)","v":""},{"$f":"IF(ISBLANK('Input|Fee Based'!G58),\"\",'Input|Fee Based'!G58)","v":""},0,null,{"$f":"IF(ISBLANK('Input|Fee Based'!I58),\"\",'Input|Fee Based'!I58)","v":""},{"$f":"IFERROR(VLOOKUP(J58,'Calc|Labour Rates'!$B$10:$M$14,4,FALSE),0)","v":0},{"$f":"IFERROR(K58*'Input|Fee Based'!K58*'Input|Fee Based'!L58/'Input|Setup'!$E$19,0)","v":0},0,0,{"$f":"IF(ISBLANK('Input|Fee Based'!$N58),\"\",'Input|Fee Based'!$N58)","v":""},{"$f":"IFERROR(IF(E58='Calc|Labour Rates'!$C$10,VLOOKUP(O58,'Calc|Labour Rates'!$B$10:$M$14,4,FALSE),VLOOKUP(O58,'Calc|Labour Rates'!$B$15:$M$19,4,FALSE)),0)","v":0},{"$f":"IFERROR((('Input|Fee Based'!Q58*'Input|Fee Based'!P58)/60)*P58,0)","v":0},{"$f":"IFERROR((('Input|Fee Based'!R58*'Input|Fee Based'!P58)/60)*Q58,0)","v":0},0,0,0,{"$f":"'Input|Fee Based'!T58*CPI_Escalator_to_Y1*RealMaterials_Escalator_to_Y1","v":0},{"$f":"'Input|Fee Based'!U58*CPI_Escalator_to_Y1*RealVehicles_Escalator_to_Y1","v":0},{"$f":"'Input|Fee Based'!V58*CPI_Escalator_to_Y1*RealOther_Escalator_to_Y1","v":0},null,0,null,{"$f":"$Z58*SUMIF('Input|Indirect Cost Rates'!$E$25:$E$26,$F58,'Input|Indirect Cost Rates'!$D$25:$D$26)","v":0},{"$f":"$Z58*SUMIF('Input|Indirect Cost Rates'!$E$27:$E$28,$F58,'Input|Indirect Cost Rates'!$D$27:$D$28)","v":0},{"$f":"$Z58*'Input|Fee Based'!Z58","v":0},{"$f":"SUM($Z58,$AB58:$AD58)*'Input|Fee Based'!$AA58","v":0}]
[48,{"$f":"IF(ISBLANK('Input|Fee Based'!B59),\"\",'Input|Fee Based'!B59)","v":""},{"$f":"IF(ISBLANK('Input|Fee Based'!C59),\"\",'Input|Fee Based'!C59)","v":""},{"$f":"IF(ISBLANK('Input|Fee Based'!F59),\"\",'Input|Fee Based'!F59)","v":""},{"$f":"IF(ISBLANK('Input|Fee Based'!D59),\"\",'Input|Fee Based'!D59)","v":""},{"$f":"IF(ISBLANK('Input|Fee Based'!E59),\"\",'Input|Fee Based'!E59)","v":""},{"$f":"IF(ISBLANK('Input|Fee Based'!G59),\"\",'Input|Fee Based'!G59)","v":""},0,null,{"$f":"IF(ISBLANK('Input|Fee Based'!I59),\"\",'Input|Fee Based'!I59)","v":""},{"$f":"IFERROR(VLOOKUP(J59,'Calc|Labour Rates'!$B$10:$M$14,4,FALSE),0)","v":0},{"$f":"IFERROR(K59*'Input|Fee Based'!K59*'Input|Fee Based'!L59/'Input|Setup'!$E$19,0)","v":0},0,0,{"$f":"IF(ISBLANK('Input|Fee Based'!$N59),\"\",'Input|Fee Based'!$N59)","v":""},{"$f":"IFERROR(IF(E59='Calc|Labour Rates'!$C$10,VLOOKUP(O59,'Calc|Labour Rates'!$B$10:$M$14,4,FALSE),VLOOKUP(O59,'Calc|Labour Rates'!$B$15:$M$19,4,FALSE)),0)","v":0},{"$f":"IFERROR((('Input|Fee Based'!Q59*'Input|Fee Based'!P59)/60)*P59,0)","v":0},{"$f":"IFERROR((('Input|Fee Based'!R59*'Input|Fee Based'!P59)/60)*Q59,0)","v":0},0,0,0,{"$f":"'Input|Fee Based'!T59*CPI_Escalator_to_Y1*RealMaterials_Escalator_to_Y1","v":0},{"$f":"'Input|Fee Based'!U59*CPI_Escalator_to_Y1*RealVehicles_Escalator_to_Y1","v":0},{"$f":"'Input|Fee Based'!V59*CPI_Escalator_to_Y1*RealOther_Escalator_to_Y1","v":0},null,0,null,{"$f":"$Z59*SUMIF('Input|Indirect Cost Rates'!$E$25:$E$26,$F59,'Input|Indirect Cost Rates'!$D$25:$D$26)","v":0},{"$f":"$Z59*SUMIF('Input|Indirect Cost Rates'!$E$27:$E$28,$F59,'Input|Indirect Cost Rates'!$D$27:$D$28)","v":0},{"$f":"$Z59*'Input|Fee Based'!Z59","v":0},{"$f":"SUM($Z59,$AB59:$AD59)*'Input|Fee Based'!$AA59","v":0}]
[49,{"$f":"IF(ISBLANK('Input|Fee Based'!B60),\"\",'Input|Fee Based'!B60)","v":""},{"$f":"IF(ISBLANK('Input|Fee Based'!C60),\"\",'Input|Fee Based'!C60)","v":""},{"$f":"IF(ISBLANK('Input|Fee Based'!F60),\"\",'Input|Fee Based'!F60)","v":""},{"$f":"IF(ISBLANK('Input|Fee Based'!D60),\"\",'Input|Fee Based'!D60)","v":""},{"$f":"IF(ISBLANK('Input|Fee Based'!E60),\"\",'Input|Fee Based'!E60)","v":""},{"$f":"IF(ISBLANK('Input|Fee Based'!G60),\"\",'Input|Fee Based'!G60)","v":""},0,null,{"$f":"IF(ISBLANK('Input|Fee Based'!I60),\"\",'Input|Fee Based'!I60)","v":""},{"$f":"IFERROR(VLOOKUP(J60,'Calc|Labour Rates'!$B$10:$M$14,4,FALSE),0)","v":0},{"$f":"IFERROR(K60*'Input|Fee Based'!K60*'Input|Fee Based'!L60/'Input|Setup'!$E$19,0)","v":0},0,0,{"$f":"IF(ISBLANK('Input|Fee Based'!$N60),\"\",'Input|Fee Based'!$N60)","v":""},{"$f":"IFERROR(IF(E60='Calc|Labour Rates'!$C$10,VLOOKUP(O60,'Calc|Labour Rates'!$B$10:$M$14,4,FALSE),VLOOKUP(O60,'Calc|Labour Rates'!$B$15:$M$19,4,FALSE)),0)","v":0},{"$f":"IFERROR((('Input|Fee Based'!Q60*'Input|Fee Based'!P60)/60)*P60,0)","v":0},{"$f":"IFERROR((('Input|Fee Based'!R60*'Input|Fee Based'!P60)/60)*Q60,0)","v":0},0,0,0,{"$f":"'Input|Fee Based'!T60*CPI_Escalator_to_Y1*RealMaterials_Escalator_to_Y1","v":0},{"$f":"'Input|Fee Based'!U60*CPI_Escalator_to_Y1*RealVehicles_Escalator_to_Y1","v":0},{"$f":"'Input|Fee Based'!V60*CPI_Escalator_to_Y1*RealOther_Escalator_to_Y1","v":0},null,0,null,{"$f":"$Z60*SUMIF('Input|Indirect Cost Rates'!$E$25:$E$26,$F60,'Input|Indirect Cost Rates'!$D$25:$D$26)","v":0},{"$f":"$Z60*SUMIF('Input|Indirect Cost Rates'!$E$27:$E$28,$F60,'Input|Indirect Cost Rates'!$D$27:$D$28)","v":0},{"$f":"$Z60*'Input|Fee Based'!Z60","v":0},{"$f":"SUM($Z60,$AB60:$AD60)*'Input|Fee Based'!$AA60","v":0}]
[50,{"$f":"IF(ISBLANK('Input|Fee Based'!B61),\"\",'Input|Fee Based'!B61)","v":""},{"$f":"IF(ISBLANK('Input|Fee Based'!C61),\"\",'Input|Fee Based'!C61)","v":""},{"$f":"IF(ISBLANK('Input|Fee Based'!F61),\"\",'Input|Fee Based'!F61)","v":""},{"$f":"IF(ISBLANK('Input|Fee Based'!D61),\"\",'Input|Fee Based'!D61)","v":""},{"$f":"IF(ISBLANK('Input|Fee Based'!E61),\"\",'Input|Fee Based'!E61)","v":""},{"$f":"IF(ISBLANK('Input|Fee Based'!G61),\"\",'Input|Fee Based'!G61)","v":""},0,null,{"$f":"IF(ISBLANK('Input|Fee Based'!I61),\"\",'Input|Fee Based'!I61)","v":""},{"$f":"IFERROR(VLOOKUP(J61,'Calc|Labour Rates'!$B$10:$M$14,4,FALSE),0)","v":0},{"$f":"IFERROR(K61*'Input|Fee Based'!K61*'Input|Fee Based'!L61/'Input|Setup'!$E$19,0)","v":0},0,0,{"$f":"IF(ISBLANK('Input|Fee Based'!$N61),\"\",'Input|Fee Based'!$N61)","v":""},{"$f":"IFERROR(IF(E61='Calc|Labour Rates'!$C$10,VLOOKUP(O61,'Calc|Labour Rates'!$B$10:$M$14,4,FALSE),VLOOKUP(O61,'Calc|Labour Rates'!$B$15:$M$19,4,FALSE)),0)","v":0},{"$f":"IFERROR((('Input|Fee Based'!Q61*'Input|Fee Based'!P61)/60)*P61,0)","v":0},{"$f":"IFERROR((('Input|Fee Based'!R61*'Input|Fee Based'!P61)/60)*Q61,0)","v":0},0,0,0,{"$f":"'Input|Fee Based'!T61*CPI_Escalator_to_Y1*RealMaterials_Escalator_to_Y1","v":0},{"$f":"'Input|Fee Based'!U61*CPI_Escalator_to_Y1*RealVehicles_Escalator_to_Y1","v":0},{"$f":"'Input|Fee Based'!V61*CPI_Escalator_to_Y1*RealOther_Escalator_to_Y1","v":0},null,0,null,{"$f":"$Z61*SUMIF('Input|Indirect Cost Rates'!$E$25:$E$26,$F61,'Input|Indirect Cost Rates'!$D$25:$D$26)","v":0},{"$f":"$Z61*SUMIF('Input|Indirect Cost Rates'!$E$27:$E$28,$F61,'Input|Indirect Cost Rates'!$D$27:$D$28)","v":0},{"$f":"$Z61*'Input|Fee Based'!Z61","v":0},{"$f":"SUM($Z61,$AB61:$AD61)*'Input|Fee Based'!$AA61","v":0}]
[51,{"$f":"IF(ISBLANK('Input|Fee Based'!B62),\"\",'Input|Fee Based'!B62)","v":""},{"$f":"IF(ISBLANK('Input|Fee Based'!C62),\"\",'Input|Fee Based'!C62)","v":""},{"$f":"IF(ISBLANK('Input|Fee Based'!F62),\"\",'Input|Fee Based'!F62)","v":""},{"$f":"IF(ISBLANK('Input|Fee Based'!D62),\"\",'Input|Fee Based'!D62)","v":""},{"$f":"IF(ISBLANK('Input|Fee Based'!E62),\"\",'Input|Fee Based'!E62)","v":""},{"$f":"IF(ISBLANK('Input|Fee Based'!G62),\"\",'Input|Fee Based'!G62)","v":""},0,null,{"$f":"IF(ISBLANK('Input|Fee Based'!I62),\"\",'Input|Fee Based'!I62)","v":""},{"$f":"IFERROR(VLOOKUP(J62,'Calc|Labour Rates'!$B$10:$M$14,4,FALSE),0)","v":0},{"$f":"IFERROR(K62*'Input|Fee Based'!K62*'Input|Fee Based'!L62/'Input|Setup'!$E$19,0)","v":0},{"$f":"L62","v":0},{"$f":"IF(\nAND(K62<>0,L62=0),1,0)","v":0},{"$f":"IF(ISBLANK('Input|Fee Based'!$N62),\"\",'Input|Fee Based'!$N62)","v":""},{"$f":"IFERROR(IF(E62='Calc|Labour Rates'!$C$10,VLOOKUP(O62,'Calc|Labour Rates'!$B$10:$M$14,4,FALSE),VLOOKUP(O62,'Calc|Labour Rates'!$B$15:$M$19,4,FALSE)),0)","v":0},{"$f":"IFERROR((('Input|Fee Based'!Q62*'Input|Fee Based'!P62)/60)*P62,0)","v":0},{"$f":"IFERROR((('Input|Fee Based'!R62*'Input|Fee Based'!P62)/60)*Q62,0)","v":0},0,0,{"$f":"IF(\nAND(R62<>0,S62=0),1,0)","v":0},{"$f":"'Input|Fee Based'!T62*CPI_Escalator_to_Y1*RealMaterials_Escalator_to_Y1","v":0},{"$f":"'Input|Fee Based'!U62*CPI_Escalator_to_Y1*RealVehicles_Escalator_to_Y1","v":0},{"$f":"'Input|Fee Based'!V62*CPI_Escalator_to_Y1*RealOther_Escalator_to_Y1","v":0},null,0,null,{"$f":"$Z62*SUMIF('Input|Indirect Cost Rates'!$E$25:$E$26,$F62,'Input|Indirect Cost Rates'!$D$25:$D$26)","v":0},{"$f":"$Z62*SUMIF('Input|Indirect Cost Rates'!$E$27:$E$28,$F62,'Input|Indirect Cost Rates'!$D$27:$D$28)","v":0},{"$f":"$Z62*'Input|Fee Based'!Z62","v":0},{"$f":"SUM($Z62,$AB62:$AD62)*'Input|Fee Based'!$AA62","v":0}]
[52,{"$f":"IF(ISBLANK('Input|Fee Based'!B63),\"\",'Input|Fee Based'!B63)","v":""},{"$f":"IF(ISBLANK('Input|Fee Based'!C63),\"\",'Input|Fee Based'!C63)","v":""},{"$f":"IF(ISBLANK('Input|Fee Based'!F63),\"\",'Input|Fee Based'!F63)","v":""},{"$f":"IF(ISBLANK('Input|Fee Based'!D63),\"\",'Input|Fee Based'!D63)","v":""},{"$f":"IF(ISBLANK('Input|Fee Based'!E63),\"\",'Input|Fee Based'!E63)","v":""},{"$f":"IF(ISBLANK('Input|Fee Based'!G63),\"\",'Input|Fee Based'!G63)","v":""},0,null,{"$f":"IF(ISBLANK('Input|Fee Based'!I63),\"\",'Input|Fee Based'!I63)","v":""},{"$f":"IFERROR(VLOOKUP(J63,'Calc|Labour Rates'!$B$10:$M$14,4,FALSE),0)","v":0},{"$f":"IFERROR(K63*'Input|Fee Based'!K63*'Input|Fee Based'!L63/'Input|Setup'!$E$19,0)","v":0},0,0,{"$f":"IF(ISBLANK('Input|Fee Based'!$N63),\"\",'Input|Fee Based'!$N63)","v":""},{"$f":"IFERROR(IF(E63='Calc|Labour Rates'!$C$10,VLOOKUP(O63,'Calc|Labour Rates'!$B$10:$M$14,4,FALSE),VLOOKUP(O63,'Calc|Labour Rates'!$B$15:$M$19,4,FALSE)),0)","v":0},{"$f":"IFERROR((('Input|Fee Based'!Q63*'Input|Fee Based'!P63)/60)*P63,0)","v":0},{"$f":"IFERROR((('Input|Fee Based'!R63*'Input|Fee Based'!P63)/60)*Q63,0)","v":0},0,0,0,{"$f":"'Input|Fee Based'!T63*CPI_Escalator_to_Y1*RealMaterials_Escalator_to_Y1","v":0},{"$f":"'Input|Fee Based'!U63*CPI_Escalator_to_Y1*RealVehicles_Escalator_to_Y1","v":0},{"$f":"'Input|Fee Based'!V63*CPI_Escalator_to_Y1*RealOther_Escalator_to_Y1","v":0},null,0,null,{"$f":"$Z63*SUMIF('Input|Indirect Cost Rates'!$E$25:$E$26,$F63,'Input|Indirect Cost Rates'!$D$25:$D$26)","v":0},{"$f":"$Z63*SUMIF('Input|Indirect Cost Rates'!$E$27:$E$28,$F63,'Input|Indirect Cost Rates'!$D$27:$D$28)","v":0},{"$f":"$Z63*'Input|Fee Based'!Z63","v":0},{"$f":"SUM($Z63,$AB63:$AD63)*'Input|Fee Based'!$AA63","v":0}]
[53,{"$f":"IF(ISBLANK('Input|Fee Based'!B64),\"\",'Input|Fee Based'!B64)","v":""},{"$f":"IF(ISBLANK('Input|Fee Based'!C64),\"\",'Input|Fee Based'!C64)","v":""},{"$f":"IF(ISBLANK('Input|Fee Based'!F64),\"\",'Input|Fee Based'!F64)","v":""},{"$f":"IF(ISBLANK('Input|Fee Based'!D64),\"\",'Input|Fee Based'!D64)","v":""},{"$f":"IF(ISBLANK('Input|Fee Based'!E64),\"\",'Input|Fee Based'!E64)","v":""},{"$f":"IF(ISBLANK('Input|Fee Based'!G64),\"\",'Input|Fee Based'!G64)","v":""},0,null,{"$f":"IF(ISBLANK('Input|Fee Based'!I64),\"\",'Input|Fee Based'!I64)","v":""},{"$f":"IFERROR(VLOOKUP(J64,'Calc|Labour Rates'!$B$10:$M$14,4,FALSE),0)","v":0},{"$f":"IFERROR(K64*'Input|Fee Based'!K64*'Input|Fee Based'!L64/'Input|Setup'!$E$19,0)","v":0},0,0,{"$f":"IF(ISBLANK('Input|Fee Based'!$N64),\"\",'Input|Fee Based'!$N64)","v":""},{"$f":"IFERROR(IF(E64='Calc|Labour Rates'!$C$10,VLOOKUP(O64,'Calc|Labour Rates'!$B$10:$M$14,4,FALSE),VLOOKUP(O64,'Calc|Labour Rates'!$B$15:$M$19,4,FALSE)),0)","v":0},{"$f":"IFERROR((('Input|Fee Based'!Q64*'Input|Fee Based'!P64)/60)*P64,0)","v":0},{"$f":"IFERROR((('Input|Fee Based'!R64*'Input|Fee Based'!P64)/60)*Q64,0)","v":0},0,0,0,{"$f":"'Input|Fee Based'!T64*CPI_Escalator_to_Y1*RealMaterials_Escalator_to_Y1","v":0},{"$f":"'Input|Fee Based'!U64*CPI_Escalator_to_Y1*RealVehicles_Escalator_to_Y1","v":0},{"$f":"'Input|Fee Based'!V64*CPI_Escalator_to_Y1*RealOther_Escalator_to_Y1","v":0},null,0,null,{"$f":"$Z64*SUMIF('Input|Indirect Cost Rates'!$E$25:$E$26,$F64,'Input|Indirect Cost Rates'!$D$25:$D$26)","v":0},{"$f":"$Z64*SUMIF('Input|Indirect Cost Rates'!$E$27:$E$28,$F64,'Input|Indirect Cost Rates'!$D$27:$D$28)","v":0},{"$f":"$Z64*'Input|Fee Based'!Z64","v":0},{"$f":"SUM($Z64,$AB64:$AD64)*'Input|Fee Based'!$AA64","v":0}]
[54,{"$f":"IF(ISBLANK('Input|Fee Based'!B65),\"\",'Input|Fee Based'!B65)","v":""},{"$f":"IF(ISBLANK('Input|Fee Based'!C65),\"\",'Input|Fee Based'!C65)","v":""},{"$f":"IF(ISBLANK('Input|Fee Based'!F65),\"\",'Input|Fee Based'!F65)","v":""},{"$f":"IF(ISBLANK('Input|Fee Based'!D65),\"\",'Input|Fee Based'!D65)","v":""},{"$f":"IF(ISBLANK('Input|Fee Based'!E65),\"\",'Input|Fee Based'!E65)","v":""},{"$f":"IF(ISBLANK('Input|Fee Based'!G65),\"\",'Input|Fee Based'!G65)","v":""},0,null,{"$f":"IF(ISBLANK('Input|Fee Based'!I65),\"\",'Input|Fee Based'!I65)","v":""},{"$f":"IFERROR(VLOOKUP(J65,'Calc|Labour Rates'!$B$10:$M$14,4,FALSE),0)","v":0},{"$f":"IFERROR(K65*'Input|Fee Based'!K65*'Input|Fee Based'!L65/'Input|Setup'!$E$19,0)","v":0},0,0,{"$f":"IF(ISBLANK('Input|Fee Based'!$N65),\"\",'Input|Fee Based'!$N65)","v":""},{"$f":"IFERROR(IF(E65='Calc|Labour Rates'!$C$10,VLOOKUP(O65,'Calc|Labour Rates'!$B$10:$M$14,4,FALSE),VLOOKUP(O65,'Calc|Labour Rates'!$B$15:$M$19,4,FALSE)),0)","v":0},{"$f":"IFERROR((('Input|Fee Based'!Q65*'Input|Fee Based'!P65)/60)*P65,0)","v":0},{"$f":"IFERROR((('Input|Fee Based'!R65*'Input|Fee Based'!P65)/60)*Q65,0)","v":0},0,0,0,{"$f":"'Input|Fee Based'!T65*CPI_Escalator_to_Y1*RealMaterials_Escalator_to_Y1","v":0},{"$f":"'Input|Fee Based'!U65*CPI_Escalator_to_Y1*RealVehicles_Escalator_to_Y1","v":0},{"$f":"'Input|Fee Based'!V65*CPI_Escalator_to_Y1*RealOther_Escalator_to_Y1","v":0},null,0,null,{"$f":"$Z65*SUMIF('Input|Indirect Cost Rates'!$E$25:$E$26,$F65,'Input|Indirect Cost Rates'!$D$25:$D$26)","v":0},{"$f":"$Z65*SUMIF('Input|Indirect Cost Rates'!$E$27:$E$28,$F65,'Input|Indirect Cost Rates'!$D$27:$D$28)","v":0},{"$f":"$Z65*'Input|Fee Based'!Z65","v":0},{"$f":"SUM($Z65,$AB65:$AD65)*'Input|Fee Based'!$AA65","v":0}]
[55,{"$f":"IF(ISBLANK('Input|Fee Based'!B66),\"\",'Input|Fee Based'!B66)","v":""},{"$f":"IF(ISBLANK('Input|Fee Based'!C66),\"\",'Input|Fee Based'!C66)","v":""},{"$f":"IF(ISBLANK('Input|Fee Based'!F66),\"\",'Input|Fee Based'!F66)","v":""},{"$f":"IF(ISBLANK('Input|Fee Based'!D66),\"\",'Input|Fee Based'!D66)","v":""},{"$f":"IF(ISBLANK('Input|Fee Based'!E66),\"\",'Input|Fee Based'!E66)","v":""},{"$f":"IF(ISBLANK('Input|Fee Based'!G66),\"\",'Input|Fee Based'!G66)","v":""},0,null,{"$f":"IF(ISBLANK('Input|Fee Based'!I66),\"\",'Input|Fee Based'!I66)","v":""},{"$f":"IFERROR(VLOOKUP(J66,'Calc|Labour Rates'!$B$10:$M$14,4,FALSE),0)","v":0},{"$f":"IFERROR(K66*'Input|Fee Based'!K66*'Input|Fee Based'!L66/'Input|Setup'!$E$19,0)","v":0},0,0,{"$f":"IF(ISBLANK('Input|Fee Based'!$N66),\"\",'Input|Fee Based'!$N66)","v":""},{"$f":"IFERROR(IF(E66='Calc|Labour Rates'!$C$10,VLOOKUP(O66,'Calc|Labour Rates'!$B$10:$M$14,4,FALSE),VLOOKUP(O66,'Calc|Labour Rates'!$B$15:$M$19,4,FALSE)),0)","v":0},{"$f":"IFERROR((('Input|Fee Based'!Q66*'Input|Fee Based'!P66)/60)*P66,0)","v":0},{"$f":"IFERROR((('Input|Fee Based'!R66*'Input|Fee Based'!P66)/60)*Q66,0)","v":0},0,0,0,{"$f":"'Input|Fee Based'!T66*CPI_Escalator_to_Y1*RealMaterials_Escalator_to_Y1","v":0},{"$f":"'Input|Fee Based'!U66*CPI_Escalator_to_Y1*RealVehicles_Escalator_to_Y1","v":0},{"$f":"'Input|Fee Based'!V66*CPI_Escalator_to_Y1*RealOther_Escalator_to_Y1","v":0},null,0,null,{"$f":"$Z66*SUMIF('Input|Indirect Cost Rates'!$E$25:$E$26,$F66,'Input|Indirect Cost Rates'!$D$25:$D$26)","v":0},{"$f":"$Z66*SUMIF('Input|Indirect Cost Rates'!$E$27:$E$28,$F66,'Input|Indirect Cost Rates'!$D$27:$D$28)","v":0},{"$f":"$Z66*'Input|Fee Based'!Z66","v":0},{"$f":"SUM($Z66,$AB66:$AD66)*'Input|Fee Based'!$AA66","v":0}]
[56,{"$f":"IF(ISBLANK('Input|Fee Based'!B67),\"\",'Input|Fee Based'!B67)","v":""},{"$f":"IF(ISBLANK('Input|Fee Based'!C67),\"\",'Input|Fee Based'!C67)","v":""},{"$f":"IF(ISBLANK('Input|Fee Based'!F67),\"\",'Input|Fee Based'!F67)","v":""},{"$f":"IF(ISBLANK('Input|Fee Based'!D67),\"\",'Input|Fee Based'!D67)","v":""},{"$f":"IF(ISBLANK('Input|Fee Based'!E67),\"\",'Input|Fee Based'!E67)","v":""},{"$f":"IF(ISBLANK('Input|Fee Based'!G67),\"\",'Input|Fee Based'!G67)","v":""},0,null,{"$f":"IF(ISBLANK('Input|Fee Based'!I67),\"\",'Input|Fee Based'!I67)","v":""},{"$f":"IFERROR(VLOOKUP(J67,'Calc|Labour Rates'!$B$10:$M$14,4,FALSE),0)","v":0},{"$f":"IFERROR(K67*'Input|Fee Based'!K67*'Input|Fee Based'!L67/'Input|Setup'!$E$19,0)","v":0},0,0,{"$f":"IF(ISBLANK('Input|Fee Based'!$N67),\"\",'Input|Fee Based'!$N67)","v":""},{"$f":"IFERROR(IF(E67='Calc|Labour Rates'!$C$10,VLOOKUP(O67,'Calc|Labour Rates'!$B$10:$M$14,4,FALSE),VLOOKUP(O67,'Calc|Labour Rates'!$B$15:$M$19,4,FALSE)),0)","v":0},{"$f":"IFERROR((('Input|Fee Based'!Q67*'Input|Fee Based'!P67)/60)*P67,0)","v":0},{"$f":"IFERROR((('Input|Fee Based'!R67*'Input|Fee Based'!P67)/60)*Q67,0)","v":0},0,0,0,{"$f":"'Input|Fee Based'!T67*CPI_Escalator_to_Y1*RealMaterials_Escalator_to_Y1","v":0},{"$f":"'Input|Fee Based'!U67*CPI_Escalator_to_Y1*RealVehicles_Escalator_to_Y1","v":0},{"$f":"'Input|Fee Based'!V67*CPI_Escalator_to_Y1*RealOther_Escalator_to_Y1","v":0},null,0,null,{"$f":"$Z67*SUMIF('Input|Indirect Cost Rates'!$E$25:$E$26,$F67,'Input|Indirect Cost Rates'!$D$25:$D$26)","v":0},{"$f":"$Z67*SUMIF('Input|Indirect Cost Rates'!$E$27:$E$28,$F67,'Input|Indirect Cost Rates'!$D$27:$D$28)","v":0},{"$f":"$Z67*'Input|Fee Based'!Z67","v":0},{"$f":"SUM($Z67,$AB67:$AD67)*'Input|Fee Based'!$AA67","v":0}]
[57,{"$f":"IF(ISBLANK('Input|Fee Based'!B68),\"\",'Input|Fee Based'!B68)","v":""},{"$f":"IF(ISBLANK('Input|Fee Based'!C68),\"\",'Input|Fee Based'!C68)","v":""},{"$f":"IF(ISBLANK('Input|Fee Based'!F68),\"\",'Input|Fee Based'!F68)","v":""},{"$f":"IF(ISBLANK('Input|Fee Based'!D68),\"\",'Input|Fee Based'!D68)","v":""},{"$f":"IF(ISBLANK('Input|Fee Based'!E68),\"\",'Input|Fee Based'!E68)","v":""},{"$f":"IF(ISBLANK('Input|Fee Based'!G68),\"\",'Input|Fee Based'!G68)","v":""},0,null,{"$f":"IF(ISBLANK('Input|Fee Based'!I68),\"\",'Input|Fee Based'!I68)","v":""},{"$f":"IFERROR(VLOOKUP(J68,'Calc|Labour Rates'!$B$10:$M$14,4,FALSE),0)","v":0},{"$f":"IFERROR(K68*'Input|Fee Based'!K68*'Input|Fee Based'!L68/'Input|Setup'!$E$19,0)","v":0},0,0,{"$f":"IF(ISBLANK('Input|Fee Based'!$N68),\"\",'Input|Fee Based'!$N68)","v":""},{"$f":"IFERROR(IF(E68='Calc|Labour Rates'!$C$10,VLOOKUP(O68,'Calc|Labour Rates'!$B$10:$M$14,4,FALSE),VLOOKUP(O68,'Calc|Labour Rates'!$B$15:$M$19,4,FALSE)),0)","v":0},{"$f":"IFERROR((('Input|Fee Based'!Q68*'Input|Fee Based'!P68)/60)*P68,0)","v":0},{"$f":"IFERROR((('Input|Fee Based'!R68*'Input|Fee Based'!P68)/60)*Q68,0)","v":0},0,0,0,{"$f":"'Input|Fee Based'!T68*CPI_Escalator_to_Y1*RealMaterials_Escalator_to_Y1","v":0},{"$f":"'Input|Fee Based'!U68*CPI_Escalator_to_Y1*RealVehicles_Escalator_to_Y1","v":0},{"$f":"'Input|Fee Based'!V68*CPI_Escalator_to_Y1*RealOther_Escalator_to_Y1","v":0},null,0,null,{"$f":"$Z68*SUMIF('Input|Indirect Cost Rates'!$E$25:$E$26,$F68,'Input|Indirect Cost Rates'!$D$25:$D$26)","v":0},{"$f":"$Z68*SUMIF('Input|Indirect Cost Rates'!$E$27:$E$28,$F68,'Input|Indirect Cost Rates'!$D$27:$D$28)","v":0},{"$f":"$Z68*'Input|Fee Based'!Z68","v":0},{"$f":"SUM($Z68,$AB68:$AD68)*'Input|Fee Based'!$AA68","v":0}]
[58,{"$f":"IF(ISBLANK('Input|Fee Based'!B69),\"\",'Input|Fee Based'!B69)","v":""},{"$f":"IF(ISBLANK('Input|Fee Based'!C69),\"\",'Input|Fee Based'!C69)","v":""},{"$f":"IF(ISBLANK('Input|Fee Based'!F69),\"\",'Input|Fee Based'!F69)","v":""},{"$f":"IF(ISBLANK('Input|Fee Based'!D69),\"\",'Input|Fee Based'!D69)","v":""},{"$f":"IF(ISBLANK('Input|Fee Based'!E69),\"\",'Input|Fee Based'!E69)","v":""},{"$f":"IF(ISBLANK('Input|Fee Based'!G69),\"\",'Input|Fee Based'!G69)","v":""},0,null,{"$f":"IF(ISBLANK('Input|Fee Based'!I69),\"\",'Input|Fee Based'!I69)","v":""},{"$f":"IFERROR(VLOOKUP(J69,'Calc|Labour Rates'!$B$10:$M$14,4,FALSE),0)","v":0},{"$f":"IFERROR(K69*'Input|Fee Based'!K69*'Input|Fee Based'!L69/'Input|Setup'!$E$19,0)","v":0},0,0,{"$f":"IF(ISBLANK('Input|Fee Based'!$N69),\"\",'Input|Fee Based'!$N69)","v":""},{"$f":"IFERROR(IF(E69='Calc|Labour Rates'!$C$10,VLOOKUP(O69,'Calc|Labour Rates'!$B$10:$M$14,4,FALSE),VLOOKUP(O69,'Calc|Labour Rates'!$B$15:$M$19,4,FALSE)),0)","v":0},{"$f":"IFERROR((('Input|Fee Based'!Q69*'Input|Fee Based'!P69)/60)*P69,0)","v":0},{"$f":"IFERROR((('Input|Fee Based'!R69*'Input|Fee Based'!P69)/60)*Q69,0)","v":0},0,0,0,{"$f":"'Input|Fee Based'!T69*CPI_Escalator_to_Y1*RealMaterials_Escalator_to_Y1","v":0},{"$f":"'Input|Fee Based'!U69*CPI_Escalator_to_Y1*RealVehicles_Escalator_to_Y1","v":0},{"$f":"'Input|Fee Based'!V69*CPI_Escalator_to_Y1*RealOther_Escalator_to_Y1","v":0},null,0,null,{"$f":"$Z69*SUMIF('Input|Indirect Cost Rates'!$E$25:$E$26,$F69,'Input|Indirect Cost Rates'!$D$25:$D$26)","v":0},{"$f":"$Z69*SUMIF('Input|Indirect Cost Rates'!$E$27:$E$28,$F69,'Input|Indirect Cost Rates'!$D$27:$D$28)","v":0},{"$f":"$Z69*'Input|Fee Based'!Z69","v":0},{"$f":"SUM($Z69,$AB69:$AD69)*'Input|Fee Based'!$AA69","v":0}]
[59,{"$f":"IF(ISBLANK('Input|Fee Based'!B70),\"\",'Input|Fee Based'!B70)","v":""},{"$f":"IF(ISBLANK('Input|Fee Based'!C70),\"\",'Input|Fee Based'!C70)","v":""},{"$f":"IF(ISBLANK('Input|Fee Based'!F70),\"\",'Input|Fee Based'!F70)","v":""},{"$f":"IF(ISBLANK('Input|Fee Based'!D70),\"\",'Input|Fee Based'!D70)","v":""},{"$f":"IF(ISBLANK('Input|Fee Based'!E70),\"\",'Input|Fee Based'!E70)","v":""},{"$f":"IF(ISBLANK('Input|Fee Based'!G70),\"\",'Input|Fee Based'!G70)","v":""},0,null,{"$f":"IF(ISBLANK('Input|Fee Based'!I70),\"\",'Input|Fee Based'!I70)","v":""},{"$f":"IFERROR(VLOOKUP(J70,'Calc|Labour Rates'!$B$10:$M$14,4,FALSE),0)","v":0},{"$f":"IFERROR(K70*'Input|Fee Based'!K70*'Input|Fee Based'!L70/'Input|Setup'!$E$19,0)","v":0},0,0,{"$f":"IF(ISBLANK('Input|Fee Based'!$N70),\"\",'Input|Fee Based'!$N70)","v":""},{"$f":"IFERROR(IF(E70='Calc|Labour Rates'!$C$10,VLOOKUP(O70,'Calc|Labour Rates'!$B$10:$M$14,4,FALSE),VLOOKUP(O70,'Calc|Labour Rates'!$B$15:$M$19,4,FALSE)),0)","v":0},{"$f":"IFERROR((('Input|Fee Based'!Q70*'Input|Fee Based'!P70)/60)*P70,0)","v":0},{"$f":"IFERROR((('Input|Fee Based'!R70*'Input|Fee Based'!P70)/60)*Q70,0)","v":0},0,0,0,{"$f":"'Input|Fee Based'!T70*CPI_Escalator_to_Y1*RealMaterials_Escalator_to_Y1","v":0},{"$f":"'Input|Fee Based'!U70*CPI_Escalator_to_Y1*RealVehicles_Escalator_to_Y1","v":0},{"$f":"'Input|Fee Based'!V70*CPI_Escalator_to_Y1*RealOther_Escalator_to_Y1","v":0},null,0,null,{"$f":"$Z70*SUMIF('Input|Indirect Cost Rates'!$E$25:$E$26,$F70,'Input|Indirect Cost Rates'!$D$25:$D$26)","v":0},{"$f":"$Z70*SUMIF('Input|Indirect Cost Rates'!$E$27:$E$28,$F70,'Input|Indirect Cost Rates'!$D$27:$D$28)","v":0},{"$f":"$Z70*'Input|Fee Based'!Z70","v":0},{"$f":"SUM($Z70,$AB70:$AD70)*'Input|Fee Based'!$AA70","v":0}]
[60,{"$f":"IF(ISBLANK('Input|Fee Based'!B71),\"\",'Input|Fee Based'!B71)","v":""},{"$f":"IF(ISBLANK('Input|Fee Based'!C71),\"\",'Input|Fee Based'!C71)","v":""},{"$f":"IF(ISBLANK('Input|Fee Based'!F71),\"\",'Input|Fee Based'!F71)","v":""},{"$f":"IF(ISBLANK('Input|Fee Based'!D71),\"\",'Input|Fee Based'!D71)","v":""},{"$f":"IF(ISBLANK('Input|Fee Based'!E71),\"\",'Input|Fee Based'!E71)","v":""},{"$f":"IF(ISBLANK('Input|Fee Based'!G71),\"\",'Input|Fee Based'!G71)","v":""},0,null,{"$f":"IF(ISBLANK('Input|Fee Based'!I71),\"\",'Input|Fee Based'!I71)","v":""},{"$f":"IFERROR(VLOOKUP(J71,'Calc|Labour Rates'!$B$10:$M$14,4,FALSE),0)","v":0},{"$f":"IFERROR(K71*'Input|Fee Based'!K71*'Input|Fee Based'!L71/'Input|Setup'!$E$19,0)","v":0},0,0,{"$f":"IF(ISBLANK('Input|Fee Based'!$N71),\"\",'Input|Fee Based'!$N71)","v":""},{"$f":"IFERROR(IF(E71='Calc|Labour Rates'!$C$10,VLOOKUP(O71,'Calc|Labour Rates'!$B$10:$M$14,4,FALSE),VLOOKUP(O71,'Calc|Labour Rates'!$B$15:$M$19,4,FALSE)),0)","v":0},{"$f":"IFERROR((('Input|Fee Based'!Q71*'Input|Fee Based'!P71)/60)*P71,0)","v":0},{"$f":"IFERROR((('Input|Fee Based'!R71*'Input|Fee Based'!P71)/60)*Q71,0)","v":0},0,0,0,{"$f":"'Input|Fee Based'!T71*CPI_Escalator_to_Y1*RealMaterials_Escalator_to_Y1","v":0},{"$f":"'Input|Fee Based'!U71*CPI_Escalator_to_Y1*RealVehicles_Escalator_to_Y1","v":0},{"$f":"'Input|Fee Based'!V71*CPI_Escalator_to_Y1*RealOther_Escalator_to_Y1","v":0},null,0,null,{"$f":"$Z71*SUMIF('Input|Indirect Cost Rates'!$E$25:$E$26,$F71,'Input|Indirect Cost Rates'!$D$25:$D$26)","v":0},{"$f":"$Z71*SUMIF('Input|Indirect Cost Rates'!$E$27:$E$28,$F71,'Input|Indirect Cost Rates'!$D$27:$D$28)","v":0},{"$f":"$Z71*'Input|Fee Based'!Z71","v":0},{"$f":"SUM($Z71,$AB71:$AD71)*'Input|Fee Based'!$AA71","v":0}]

{"sheet":"Model Validation","index":16,"n_rows":79,"n_cols":3,"rows_kept":79,"cut":false,"hidden":false,"merged":[]}
[null,{"$f":"Index!B1","v":"Jemena Electricity Networks – Alternative Control Services Forecast model"}]
[null,{"$f":"MID(CELL(\"filename\",A1),FIND(\"]\",CELL(\"filename\",A1))+1,255)","v":"Model Validation"}]
[]
[null,"Overall Model Check",{"$f":"IF(SUM(C8:C17)=0,0,1)","v":0}]
[]
[]
[null,{"$f":"Index!B7","v":"Worksheet name"}]
[null,{"$f":"Index!B8","v":"Output|Fee Based"},{"$f":"IF(SUM(C44:C45)=0,0,1)","v":0}]
[null,{"$f":"Index!B9","v":"Output|Quoted"},{"$f":"IF(SUM(C48:C50)=0,0,1)","v":0}]
[null,{"$f":"Index!B10","v":"Input|Setup"},{"$f":"IF(SUM(C53:C58)=0,0,1)","v":0}]
[null,{"$f":"Index!B11","v":"Input|Escalations"},{"$f":"IF(SUM(C61:C62)=0,0,1)","v":0}]
[null,{"$f":"Index!B12","v":"Input|Indirect Cost Rates"},"NA"]
[null,{"$f":"Index!B13","v":"Input|Labour Rates"},{"$f":"IF(SUM(C65:C66)=0,0,1)","v":0}]
[null,{"$f":"Index!B14","v":"Input|Fee Based"},{"$f":"IF(SUM(C69:C72)=0,0,1)","v":0}]
[null,{"$f":"Index!B15","v":"Input|Fee Based Mapping"},{"$f":"IF(SUM(C75)=0,0,1)","v":0}]
[null,{"$f":"Index!B17","v":"Calc|Labour Rates"},"NA"]
[null,{"$f":"Index!B18","v":"Calc|Fee Based"},{"$f":"IF(SUM(C78)=0,0,1)","v":0}]
[null,{"$f":"Index!B19","v":"Model Validation"},"NA"]
[null,{"$f":"'Input|Labour Rates'!B87","v":"ND1P"},{"$f":"INDIRECT(\"'\"&$B19&\"'!J1\",TRUE)","v":0}]
[null,{"$f":"'Input|Labour Rates'!B88","v":"ND3P"},{"$f":"INDIRECT(\"'\"&$B20&\"'!J1\",TRUE)","v":0}]
[null,{"$f":"'Input|Labour Rates'!B89","v":"BTSO"},{"$f":"INDIRECT(\"'\"&$B21&\"'!J1\",TRUE)","v":0}]
[null,{"$f":"'Input|Labour Rates'!B90","v":"BTSP"},{"$f":"INDIRECT(\"'\"&$B22&\"'!J1\",TRUE)","v":0}]
[null,{"$f":"'Input|Labour Rates'!B91","v":"SUTK"},{"$f":"INDIRECT(\"'\"&$B23&\"'!J1\",TRUE)","v":0}]
[null,{"$f":"'Input|Labour Rates'!B92","v":"RTK1"},{"$f":"INDIRECT(\"'\"&$B24&\"'!J1\",TRUE)","v":0}]
[null,{"$f":"'Input|Labour Rates'!B93","v":"REEN"},{"$f":"INDIRECT(\"'\"&$B25&\"'!J1\",TRUE)","v":0}]
[null,{"$f":"'Input|Labour Rates'!B94","v":"DEEN"},{"$f":"INDIRECT(\"'\"&$B26&\"'!J1\",TRUE)","v":0}]
[null,{"$f":"'Input|Labour Rates'!B95","v":"DCTK"},{"$f":"INDIRECT(\"'\"&$B27&\"'!J1\",TRUE)","v":0}]
[null,{"$f":"'Input|Labour Rates'!B96","v":"RCTK"},{"$f":"INDIRECT(\"'\"&$B28&\"'!J1\",TRUE)","v":0}]
[null,{"$f":"'Input|Labour Rates'!B97","v":"SLOM"},{"$f":"INDIRECT(\"'\"&$B29&\"'!J1\",TRUE)","v":0}]
[null,{"$f":"'Input|Labour Rates'!B99","v":"RFOM"},{"$f":"INDIRECT(\"'\"&$B30&\"'!J1\",TRUE)","v":0}]
[null,{"$f":"'Input|Labour Rates'!B100","v":"REENRM"},{"$f":"INDIRECT(\"'\"&$B31&\"'!J1\",TRUE)","v":0}]
[null,{"$f":"'Input|Labour Rates'!B101","v":"DEENRM"},{"$f":"INDIRECT(\"'\"&$B32&\"'!J1\",TRUE)","v":0}]
[null,{"$f":"'Input|Labour Rates'!B102","v":"MCTK"},{"$f":"INDIRECT(\"'\"&$B33&\"'!J1\",TRUE)","v":0}]
[null,{"$f":"'Input|Labour Rates'!B103","v":"SPRDRM"},{"$f":"INDIRECT(\"'\"&$B34&\"'!J1\",TRUE)","v":0}]
[null,{"$f":"'Input|Labour Rates'!B104","v":"MECFRM"},{"$f":"INDIRECT(\"'\"&$B35&\"'!J1\",TRUE)","v":0}]
[null,{"$f":"'Input|Labour Rates'!B105","v":"SPRD"},{"$f":"INDIRECT(\"'\"&$B36&\"'!J1\",TRUE)","v":0}]
[null,{"$f":"'Input|Labour Rates'!B106","v":"MTAL"},{"$f":"INDIRECT(\"'\"&$B37&\"'!J1\",TRUE)","v":0}]
[null,{"$f":"'Input|Labour Rates'!B107","v":"MDCH"},{"$f":"INDIRECT(\"'\"&$B38&\"'!J1\",TRUE)","v":0}]
[null,{"$f":"'Input|Labour Rates'!B108","v":"NCUM"},{"$f":"INDIRECT(\"'\"&$B39&\"'!J1\",TRUE)","v":0}]
[null,{"$f":"'Input|Labour Rates'!B109","v":"WSVR"},{"$f":"INDIRECT(\"'\"&$B40&\"'!J1\",TRUE)","v":0}]
[null,{"$f":"'Input|Labour Rates'!B110","v":"RTK3"},{"$f":"INDIRECT(\"'\"&$B41&\"'!J1\",TRUE)","v":0}]
[]
[null,{"$f":"B8","v":"Output|Fee Based"}]
[null,{"$f":"Index!B48","v":"1.1 X-factors for each year of 2026-27 to 2030-31 regulatory period, (per cent)"},{"$f":"'Output|Fee Based'!H5","v":0}]
[null,{"$f":"Index!B49","v":"1.2 Fee based services for 2026-27"},{"$f":"'Output|Fee Based'!I10","v":0}]
[]
[null,{"$f":"B9","v":"Output|Quoted"}]
[null,{"$f":"Index!B50","v":"2.1 X-factors for each year of 2026-27 to 2030-31 regulatory period, (per cent)"},{"$f":"IF(SUM('Output|Quoted'!D4:G4)=0,0,1)","v":0}]
[null,{"$f":"Index!B51","v":"2.2 Labour rates for 2026-27, ($2026-27)"},{"$f":"IF(SUM('Output|Quoted'!G12:G31)=0,0,1)","v":0}]
[null,{"$f":"Index!B52","v":"2.3 List of quoted services for 2026-27 to 2030-31 regulatory period"},{"$f":"IF(SUM('Output|Quoted'!G36:G85)=0,0,1)","v":0}]
[]
[null,{"$f":"B10","v":"Input|Setup"}]
[null,{"$f":"Index!B53","v":"3.1 Years setup"},{"$f":"'Input|Setup'!F5","v":0}]
[null,{"$f":"Index!B58","v":"3.6 Hours"},{"$f":"'Input|Setup'!C24","v":0}]
[null,{"$f":"Index!B59","v":"3.7 Labour type"},{"$f":"'Input|Setup'!C30","v":0}]
[null,{"$f":"Index!B60","v":"3.8 Service category"},{"$f":"'Input|Setup'!F30","v":0}]
[null,{"$f":"Index!B61","v":"3.9 Expense Type"},{"$f":"'Input|Setup'!I30","v":0}]
[null,{"$f":"Index!B62","v":"3.10 Control Mechanism"},{"$f":"'Input|Setup'!I40","v":0}]
[]
[null,{"$f":"B11","v":"Input|Escalations"}]
[null,{"$f":"Index!B64","v":"4.2 Inflation"},{"$f":"IF(SUM('Input|Escalations'!N20:N21)=0,0,1)","v":0}]
[null,{"$f":"Index!B66","v":"4.3.1 Real wage price escalation"},{"$f":"IF('Input|Escalations'!N41+'Input|Escalations'!N47+'Input|Escalations'!N52=0,0,1)","v":0}]
[]
[null,{"$f":"B13","v":"Input|Labour Rates"}]
[null,{"$f":"Index!B72","v":"6.1 Labour rates"},{"$f":"IF(SUM('Input|Labour Rates'!J10:J29)=0,0,1)","v":0}]
[null,{"$f":"Index!B73","v":"6.2 Notes and sources for \"Other costs\""},{"$f":"IF(SUM('Input|Labour Rates'!L10:L29)=0,0,1)","v":0}]
[]
[null,{"$f":"B14","v":"Input|Fee Based"}]
[null,{"$f":"Index!B75","v":"7.1 Fee based services"},{"$f":"IF(SUM('Input|Fee Based'!H12:H61)=0,0,1)","v":0}]
[null,{"$f":"Index!B76","v":"7.2 Service cost build up - DIRECT COSTS, $'s ($2024-25)"},{"$f":"IF(SUM('Input|Fee Based'!M10,'Input|Fee Based'!S10)=0,0,1)","v":0}]
[null,{"$f":"Index!B77","v":"7.3 Service cost build - INDIRECT COSTS (per cent)"},{"$f":"IF(SUM('Input|Fee Based'!AB12:AE61)=0,0,1)","v":0}]
[null,{"$f":"Index!B78","v":"7.4 Notes and sources for \"Other costs\""},{"$f":"IF(SUM('Input|Fee Based'!AG12:AG61)=0,0,1)","v":0}]
[]
[null,{"$f":"B15","v":"Input|Fee Based Mapping"}]
[null,{"$f":"Index!B79","v":"8.1 Current regulatory period - Fee based services"},{"$f":"IF(SUM('Input|Fee Based Mapping'!N10:R10)=0,0,1)","v":0}]
[]
[null,{"$f":"B17","v":"Calc|Fee Based"}]
[null,{"$f":"Index!B84","v":"10.2 Year 1 service cost build up - DIRECT COSTS, $'s ($2026-27)"},{"$f":"IF('Calc|Fee Based'!N10+'Calc|Fee Based'!U10=0,0,1)","v":0}]
[null,{"$f":"Index!B85","v":"10.3 Year 1 Service cost build up - INDIRECT COSTS, $'s ($2026-27)"},{"$f":"IF('Calc|Fee Based'!N11+'Calc|Fee Based'!U11=0,0,1)","v":0}]

{"sheet":"ND1P","index":17,"n_rows":56,"n_cols":18,"rows_kept":56,"cut":false,"hidden":false,"merged":[]}
[null,{"$f":"IFERROR(Index!B1,\"\")","v":"Jemena Electricity Networks – Alternative Control Services Forecast model"},null,"Key:","Input",null,null,null,"Sheet Validation",{"$f":"IF(SUM(G8+M8+G34+N34+R34)=0,0,1)","v":0}]
[null,{"$f":"IFERROR(MID(CELL(\"filename\",A1),FIND(\"]\",CELL(\"filename\",A1))+1,255),\"\")","v":"ND1P"},null,null,"Formula"]
[]
[]
[]
[null,{"$f":"$B$2&\" - Labour Breakdown\"","v":"ND1P - Labour Breakdown"}]
[]
[null,"Non-field based labour",null,null,null,null,{"$f":"IF(SUM(G10:G29)=0,0,1)","v":0},"Field based labour",null,null,null,null,{"$f":"IF(SUM(M10:M29)=0,0,1)","v":0}]
[null,"Labour Category","Activity Name","FTE","Time on task (Minutes)","Labour Totals",null,"Labour Category",{"$f":"C9","v":"Activity Name"},{"$f":"D9","v":"FTE"},"Time on task (Minutes)","Time on task (Minutes)"]
[1,"Administrative Officer","Check and validate NMI allocation service order (MSW)",1,6,{"$f":"(D10*E10)","v":6},{"$f":"IF(OR(\nAND(ISTEXT(B10),ISBLANK(C10)),\nAND(ISTEXT(#REF!),ISBLANK(#REF!))),1,0)","v":0},"Field Worker","Travel to site",2,30,{"$f":"(J10*K10)","v":60},{"$f":"IF(OR(\nAND(ISTEXT(H10),ISBLANK(I10)),\nAND(ISTEXT(#REF!),ISBLANK(#REF!)),\nAND(ISTEXT(#REF!),ISBLANK(#REF!))),1,0)","v":0}]
[{"$f":"IFERROR(A10+1,\"\")","v":2},"Administrative Officer","Accept NMI allocation SO",1,3,{"$f":"(D11*E11)","v":3},{"$f":"IF(OR(\nAND(ISTEXT(B11),ISBLANK(C11)),\nAND(ISTEXT(#REF!),ISBLANK(#REF!))),1,0)","v":0},"Field Worker","Field crew completes job safety assessment (JSA)",2,5,{"$f":"(J11*K11)","v":10},{"$f":"IF(OR(\nAND(ISTEXT(H11),ISBLANK(I11)),\nAND(ISTEXT(#REF!),ISBLANK(#REF!)),\nAND(ISTEXT(#REF!),ISBLANK(#REF!))),1,0)","v":0}]
[{"$f":"IFERROR(A11+1,\"\")","v":3},"Administrative Officer","Reject NMI allocation SO (if required)",1,3,3,{"$f":"IF(OR(\nAND(ISTEXT(B12),ISBLANK(C12)),\nAND(ISTEXT(#REF!),ISBLANK(#REF!))),1,0)","v":0},"Field Worker","Setup traffic management",2,5,10,{"$f":"IF(OR(\nAND(ISTEXT(H12),ISBLANK(I12)),\nAND(ISTEXT(#REF!),ISBLANK(#REF!)),\nAND(ISTEXT(#REF!),ISBLANK(#REF!))),1,0)","v":0}]
[4,"Administrative Officer","Check and validate B2B service order (SO) - (MSW & SSW)",1,8,8,{"$f":"IF(OR(\nAND(ISTEXT(B13),ISBLANK(C13)),\nAND(ISTEXT(#REF!),ISBLANK(#REF!))),1,0)","v":0},"Field Worker","Install service cable, fit meter and prepare site for testing.",2,15,30,{"$f":"IF(OR(\nAND(ISTEXT(H13),ISBLANK(I13)),\nAND(ISTEXT(#REF!),ISBLANK(#REF!)),\nAND(ISTEXT(#REF!),ISBLANK(#REF!))),1,0)","v":0}]
[5,"Administrative Officer","Accept B2B SO",1,3,3,{"$f":"IF(OR(\nAND(ISTEXT(B14),ISBLANK(C14)),\nAND(ISTEXT(#REF!),ISBLANK(#REF!))),1,0)","v":0},"Field Worker","Field crew completes NST testing and seal meter.",2,5,10,{"$f":"IF(OR(\nAND(ISTEXT(H14),ISBLANK(I14)),\nAND(ISTEXT(#REF!),ISBLANK(#REF!)),\nAND(ISTEXT(#REF!),ISBLANK(#REF!))),1,0)","v":0}]
[6,"Administrative Officer","Reject B2B SO (if required)",1,3,3,{"$f":"IF(OR(\nAND(ISTEXT(B15),ISBLANK(C15)),\nAND(ISTEXT(#REF!),ISBLANK(#REF!))),1,0)","v":0},"Field Worker","Field crew completes paperwork, work activity record (WAR), record meter number, and remove traffic control devices.",2,5,10,{"$f":"IF(OR(\nAND(ISTEXT(H15),ISBLANK(I15)),\nAND(ISTEXT(#REF!),ISBLANK(#REF!)),\nAND(ISTEXT(#REF!),ISBLANK(#REF!))),1,0)","v":0}]
[7,"Administrative Officer","Schedule work as required",1,7.5,7.5,{"$f":"IF(OR(\nAND(ISTEXT(B16),ISBLANK(C16)),\nAND(ISTEXT(#REF!),ISBLANK(#REF!))),1,0)","v":0},null,null,null,null,0,{"$f":"IF(OR(\nAND(ISTEXT(H16),ISBLANK(I16)),\nAND(ISTEXT(#REF!),ISBLANK(#REF!)),\nAND(ISTEXT(#REF!),ISBLANK(#REF!))),1,0)","v":0}]
[8,"Administrative Officer","Create SO in SAP",1,6.5,6.5,{"$f":"IF(OR(\nAND(ISTEXT(B17),ISBLANK(C17)),\nAND(ISTEXT(#REF!),ISBLANK(#REF!))),1,0)","v":0},null,null,null,null,0,{"$f":"IF(OR(\nAND(ISTEXT(H17),ISBLANK(I17)),\nAND(ISTEXT(#REF!),ISBLANK(#REF!)),\nAND(ISTEXT(#REF!),ISBLANK(#REF!))),1,0)","v":0}]
[9,"Administrative Officer","Send SO to contractor",1,5.5,5.5,{"$f":"IF(OR(\nAND(ISTEXT(B18),ISBLANK(C18)),\nAND(ISTEXT(#REF!),ISBLANK(#REF!))),1,0)","v":0},null,null,null,null,0,{"$f":"IF(OR(\nAND(ISTEXT(H18),ISBLANK(I18)),\nAND(ISTEXT(#REF!),ISBLANK(#REF!)),\nAND(ISTEXT(#REF!),ISBLANK(#REF!))),1,0)","v":0}]
[10,"Administrative Officer","Close SO in SAP",1,7.5,7.5,{"$f":"IF(OR(\nAND(ISTEXT(B19),ISBLANK(C19)),\nAND(ISTEXT(#REF!),ISBLANK(#REF!))),1,0)","v":0},null,null,null,null,0,{"$f":"IF(OR(\nAND(ISTEXT(H19),ISBLANK(I19)),\nAND(ISTEXT(#REF!),ISBLANK(#REF!)),\nAND(ISTEXT(#REF!),ISBLANK(#REF!))),1,0)","v":0}]
[11,"Administrative Officer","Manage system exceptions, errors and reporting",1,3,3,{"$f":"IF(OR(\nAND(ISTEXT(B20),ISBLANK(C20)),\nAND(ISTEXT(#REF!),ISBLANK(#REF!))),1,0)","v":0},null,null,null,null,0,{"$f":"IF(OR(\nAND(ISTEXT(H20),ISBLANK(I20)),\nAND(ISTEXT(#REF!),ISBLANK(#REF!)),\nAND(ISTEXT(#REF!),ISBLANK(#REF!))),1,0)","v":0}]
[12,"Administrative Officer","Manage phone calls and inquiries",1,2,2,{"$f":"IF(OR(\nAND(ISTEXT(B21),ISBLANK(C21)),\nAND(ISTEXT(#REF!),ISBLANK(#REF!))),1,0)","v":0},null,null,null,null,0,{"$f":"IF(OR(\nAND(ISTEXT(H21),ISBLANK(I21)),\nAND(ISTEXT(#REF!),ISBLANK(#REF!)),\nAND(ISTEXT(#REF!),ISBLANK(#REF!))),1,0)","v":0}]
[13,"Administrative Officer","Administration of Inbox emails, correspondences",1,2,2,{"$f":"IF(OR(\nAND(ISTEXT(B22),ISBLANK(C22)),\nAND(ISTEXT(#REF!),ISBLANK(#REF!))),1,0)","v":0},null,null,null,null,0,{"$f":"IF(OR(\nAND(ISTEXT(H22),ISBLANK(I22)),\nAND(ISTEXT(#REF!),ISBLANK(#REF!)),\nAND(ISTEXT(#REF!),ISBLANK(#REF!))),1,0)","v":0}]
[14,null,null,null,null,0,{"$f":"IF(OR(\nAND(ISTEXT(B23),ISBLANK(C23)),\nAND(ISTEXT(#REF!),ISBLANK(#REF!))),1,0)","v":0},null,null,null,null,0,{"$f":"IF(OR(\nAND(ISTEXT(H23),ISBLANK(I23)),\nAND(ISTEXT(#REF!),ISBLANK(#REF!)),\nAND(ISTEXT(#REF!),ISBLANK(#REF!))),1,0)","v":0}]
[15,null,null,null,null,0,{"$f":"IF(OR(\nAND(ISTEXT(B24),ISBLANK(C24)),\nAND(ISTEXT(#REF!),ISBLANK(#REF!))),1,0)","v":0},null,null,null,null,0,{"$f":"IF(OR(\nAND(ISTEXT(H24),ISBLANK(I24)),\nAND(ISTEXT(#REF!),ISBLANK(#REF!)),\nAND(ISTEXT(#REF!),ISBLANK(#REF!))),1,0)","v":0}]
[16,null,null,null,null,0,{"$f":"IF(OR(\nAND(ISTEXT(B25),ISBLANK(C25)),\nAND(ISTEXT(#REF!),ISBLANK(#REF!))),1,0)","v":0},null,null,null,null,0,{"$f":"IF(OR(\nAND(ISTEXT(H25),ISBLANK(I25)),\nAND(ISTEXT(#REF!),ISBLANK(#REF!)),\nAND(ISTEXT(#REF!),ISBLANK(#REF!))),1,0)","v":0}]
[17,null,null,null,null,0,{"$f":"IF(OR(\nAND(ISTEXT(B26),ISBLANK(C26)),\nAND(ISTEXT(#REF!),ISBLANK(#REF!))),1,0)","v":0},null,null,null,null,0,{"$f":"IF(OR(\nAND(ISTEXT(H26),ISBLANK(I26)),\nAND(ISTEXT(#REF!),ISBLANK(#REF!)),\nAND(ISTEXT(#REF!),ISBLANK(#REF!))),1,0)","v":0}]
[18,null,null,null,null,0,{"$f":"IF(OR(\nAND(ISTEXT(B27),ISBLANK(C27)),\nAND(ISTEXT(#REF!),ISBLANK(#REF!))),1,0)","v":0},null,null,null,null,0,{"$f":"IF(OR(\nAND(ISTEXT(H27),ISBLANK(I27)),\nAND(ISTEXT(#REF!),ISBLANK(#REF!)),\nAND(ISTEXT(#REF!),ISBLANK(#REF!))),1,0)","v":0}]
[19,null,null,null,null,0,{"$f":"IF(OR(\nAND(ISTEXT(B28),ISBLANK(C28)),\nAND(ISTEXT(#REF!),ISBLANK(#REF!))),1,0)","v":0},null,null,null,null,0,{"$f":"IF(OR(\nAND(ISTEXT(H28),ISBLANK(I28)),\nAND(ISTEXT(#REF!),ISBLANK(#REF!)),\nAND(ISTEXT(#REF!),ISBLANK(#REF!))),1,0)","v":0}]
[20,null,null,null,null,0,{"$f":"IF(OR(\nAND(ISTEXT(B29),ISBLANK(C29)),\nAND(ISTEXT(#REF!),ISBLANK(#REF!))),1,0)","v":0},null,null,null,null,0,{"$f":"IF(OR(\nAND(ISTEXT(H29),ISBLANK(I29)),\nAND(ISTEXT(#REF!),ISBLANK(#REF!)),\nAND(ISTEXT(#REF!),ISBLANK(#REF!))),1,0)","v":0}]
[null,null,null,null,"Total Minutes",{"$f":"SUM(F10:F29)","v":60},null,null,null,null,"Total Minutes",{"$f":"SUM(L10:L29)","v":130}]
[]
[null,{"$f":"$B$2&\" - Non Labour Breakdown\"","v":"ND1P - Non Labour Breakdown"}]
[]
[null,"Materials",null,null,null,null,{"$f":"IF(SUM(G36:G55)=0,0,1)","v":0},"Vehicle",null,null,null,null,null,{"$f":"IF(SUM(N36:N55)=0,0,1)","v":0},"Other Costs",null,null,{"$f":"IF(SUM(R36:R55)=0,0,1)","v":0}]
[null,"Material Code","Material Name","Number of Units","Unit Cost \n($)","Cost of Unit\n($)",null,"Vehicle Code","Vehicle Name","Number of Units","Hire Time (Minutes)","Hourly Unit Rate\n($)","Cost of Unit\n($)",null,"Notes and sources for \"Other costs\"","Cost\n($)","Cost of Unit\n($)"]
[1,null,null,null,null,null,{"$f":"IF(OR(\nAND(ISTEXT(B36),ISBLANK(C36))),1,0)","v":0},null,"Vehicle – Elevated Work Platform (small) and Cable Test Van- Average cost",1,65,{"$f":"43.1351164210975*1.23574","v":53.303788766207028},{"$f":"L36*(K36/60)*J36","v":57.745771163390941},{"$f":"IF(OR(\nAND(ISTEXT(H36),ISBLANK(I36))),1,0)","v":0},null,null,{"$f":"P36","v":0},{"$f":"IF(OR(\nAND(ISTEXT(O36),ISBLANK(#REF!))),1,0)","v":0}]
[{"$f":"IFERROR(A36+1,\"\")","v":2},null,null,null,null,null,0,null,null,null,null,null,{"$f":"L37*(K37/60)*J37","v":0},0,null,null,{"$f":"P37","v":0},{"$f":"IF(OR(\nAND(ISTEXT(O37),ISBLANK(#REF!))),1,0)","v":0}]
[{"$f":"IFERROR(A37+1,\"\")","v":3},null,null,null,null,null,0,null,null,null,null,null,0,0,null,null,0,{"$f":"IF(OR(\nAND(ISTEXT(O38),ISBLANK(#REF!))),1,0)","v":0}]
[4,null,null,null,null,null,0,null,null,null,null,null,0,0,null,null,0,{"$f":"IF(OR(\nAND(ISTEXT(O39),ISBLANK(#REF!))),1,0)","v":0}]
[5,null,null,null,null,null,0,null,null,null,null,null,0,0,null,null,0,{"$f":"IF(OR(\nAND(ISTEXT(O40),ISBLANK(#REF!))),1,0)","v":0}]
[6,null,null,null,null,null,0,null,null,null,null,null,0,0,null,null,0,{"$f":"IF(OR(\nAND(ISTEXT(O41),ISBLANK(#REF!))),1,0)","v":0}]
[7,null,null,null,null,null,0,null,null,null,null,null,0,0,null,null,0,{"$f":"IF(OR(\nAND(ISTEXT(O42),ISBLANK(#REF!))),1,0)","v":0}]
[8,null,null,null,null,null,0,null,null,null,null,null,0,0,null,null,0,{"$f":"IF(OR(\nAND(ISTEXT(O43),ISBLANK(#REF!))),1,0)","v":0}]
[9,null,null,null,null,null,0,null,null,null,null,null,0,0,null,null,0,{"$f":"IF(OR(\nAND(ISTEXT(O44),ISBLANK(#REF!))),1,0)","v":0}]
[10,null,null,null,null,null,0,null,null,null,null,null,0,0,null,null,0,{"$f":"IF(OR(\nAND(ISTEXT(O45),ISBLANK(#REF!))),1,0)","v":0}]
[11,null,null,null,null,null,0,null,null,null,null,null,0,0,null,null,0,{"$f":"IF(OR(\nAND(ISTEXT(O46),ISBLANK(#REF!))),1,0)","v":0}]
[12,null,null,null,null,null,0,null,null,null,null,null,0,0,null,null,0,{"$f":"IF(OR(\nAND(ISTEXT(O47),ISBLANK(#REF!))),1,0)","v":0}]
[13,null,null,null,null,null,0,null,null,null,null,null,0,0,null,null,0,{"$f":"IF(OR(\nAND(ISTEXT(O48),ISBLANK(#REF!))),1,0)","v":0}]
[14,null,null,null,null,null,0,null,null,null,null,null,0,0,null,null,0,{"$f":"IF(OR(\nAND(ISTEXT(O49),ISBLANK(#REF!))),1,0)","v":0}]
[15,null,null,null,null,null,0,null,null,null,null,null,0,0,null,null,0,{"$f":"IF(OR(\nAND(ISTEXT(O50),ISBLANK(#REF!))),1,0)","v":0}]
[16,null,null,null,null,null,0,null,null,null,null,null,0,0,null,null,0,{"$f":"IF(OR(\nAND(ISTEXT(O51),ISBLANK(#REF!))),1,0)","v":0}]
[17,null,null,null,null,null,0,null,null,null,null,null,0,0,null,null,0,{"$f":"IF(OR(\nAND(ISTEXT(O52),ISBLANK(#REF!))),1,0)","v":0}]
[18,null,null,null,null,null,0,null,null,null,null,null,0,0,null,null,0,{"$f":"IF(OR(\nAND(ISTEXT(O53),ISBLANK(#REF!))),1,0)","v":0}]
[19,null,null,null,null,null,0,null,null,null,null,null,0,0,null,null,0,{"$f":"IF(OR(\nAND(ISTEXT(O54),ISBLANK(#REF!))),1,0)","v":0}]
[20,null,null,null,null,null,0,null,null,null,null,null,0,0,null,null,0,{"$f":"IF(OR(\nAND(ISTEXT(O55),ISBLANK(#REF!))),1,0)","v":0}]
[null,null,null,null,"Materials Total",125.36405911999999,null,null,null,null,null,"Vehicle Total",{"$f":"SUM(M36:M55)","v":57.745771163390941},null,null,"Other Cost Total",{"$f":"SUM(Q36:Q55)","v":0}]

{"sheet":"ND3P","index":18,"n_rows":56,"n_cols":18,"rows_kept":56,"cut":false,"hidden":false,"merged":[]}
[null,{"$f":"IFERROR(Index!B1,\"\")","v":"Jemena Electricity Networks – Alternative Control Services Forecast model"},null,"Key:","Input",null,null,null,"Sheet Validation",{"$f":"IF(SUM(G8+M8+G34+N34+R34)=0,0,1)","v":0}]
[null,{"$f":"IFERROR(MID(CELL(\"filename\",A1),FIND(\"]\",CELL(\"filename\",A1))+1,255),\"\")","v":"ND3P"},null,null,"Formula"]
[]
[]
[]
[null,{"$f":"$B$2&\" - Labour Breakdown\"","v":"ND3P - Labour Breakdown"}]
[]
[null,"Non-field based labour",null,null,null,null,{"$f":"IF(SUM(G10:G29)=0,0,1)","v":0},"Field based labour",null,null,null,null,{"$f":"IF(SUM(M10:M29)=0,0,1)","v":0}]
[null,"Labour Category","Activity Name","FTE","Time on task (Minutes)","Labour Totals",null,"Labour Category",{"$f":"C9","v":"Activity Name"},{"$f":"D9","v":"FTE"},"Time on task (Minutes)","Time on task (Minutes)"]
[1,"Administrative Officer","Check and validate NMI allocation service order (MSW)",1,6,{"$f":"(D10*E10)","v":6},{"$f":"IF(OR(\nAND(ISTEXT(B10),ISBLANK(C10)),\nAND(ISTEXT(#REF!),ISBLANK(#REF!))),1,0)","v":0},"Field Worker","Travel to site",2,30,{"$f":"(J10*K10)","v":60},{"$f":"IF(OR(\nAND(ISTEXT(H10),ISBLANK(I10)),\nAND(ISTEXT(#REF!),ISBLANK(#REF!)),\nAND(ISTEXT(#REF!),ISBLANK(#REF!))),1,0)","v":0}]
[{"$f":"IFERROR(A10+1,\"\")","v":2},"Administrative Officer","Accept NMI allocation SO",1,3,{"$f":"(D11*E11)","v":3},{"$f":"IF(OR(\nAND(ISTEXT(B11),ISBLANK(C11)),\nAND(ISTEXT(#REF!),ISBLANK(#REF!))),1,0)","v":0},"Field Worker","Field crew completes job safety assessment (JSA)",2,5,{"$f":"(J11*K11)","v":10},{"$f":"IF(OR(\nAND(ISTEXT(H11),ISBLANK(I11)),\nAND(ISTEXT(#REF!),ISBLANK(#REF!)),\nAND(ISTEXT(#REF!),ISBLANK(#REF!))),1,0)","v":0}]
[{"$f":"IFERROR(A11+1,\"\")","v":3},"Administrative Officer","Reject NMI allocation SO (if required)",1,3,3,{"$f":"IF(OR(\nAND(ISTEXT(B12),ISBLANK(C12)),\nAND(ISTEXT(#REF!),ISBLANK(#REF!))),1,0)","v":0},"Field Worker","Setup traffic management",2,5,10,{"$f":"IF(OR(\nAND(ISTEXT(H12),ISBLANK(I12)),\nAND(ISTEXT(#REF!),ISBLANK(#REF!)),\nAND(ISTEXT(#REF!),ISBLANK(#REF!))),1,0)","v":0}]
[4,"Administrative Officer","Check and validate B2B service order (SO) - (MSW & SSW)",1,8,8,{"$f":"IF(OR(\nAND(ISTEXT(B13),ISBLANK(C13)),\nAND(ISTEXT(#REF!),ISBLANK(#REF!))),1,0)","v":0},"Field Worker","Install service cable, fit meter and prepare site for testing.",2,15,30,{"$f":"IF(OR(\nAND(ISTEXT(H13),ISBLANK(I13)),\nAND(ISTEXT(#REF!),ISBLANK(#REF!)),\nAND(ISTEXT(#REF!),ISBLANK(#REF!))),1,0)","v":0}]
[5,"Administrative Officer","Accept B2B SO",1,3,3,{"$f":"IF(OR(\nAND(ISTEXT(B14),ISBLANK(C14)),\nAND(ISTEXT(#REF!),ISBLANK(#REF!))),1,0)","v":0},"Field Worker","Field crew completes NST testing and seal meter.",2,5,10,{"$f":"IF(OR(\nAND(ISTEXT(H14),ISBLANK(I14)),\nAND(ISTEXT(#REF!),ISBLANK(#REF!)),\nAND(ISTEXT(#REF!),ISBLANK(#REF!))),1,0)","v":0}]
[6,"Administrative Officer","Reject B2B SO (if required)",1,3,3,{"$f":"IF(OR(\nAND(ISTEXT(B15),ISBLANK(C15)),\nAND(ISTEXT(#REF!),ISBLANK(#REF!))),1,0)","v":0},"Field Worker","Field crew completes paperwork, work activity record (WAR), record meter number, and remove traffic control devices.",2,5,10,{"$f":"IF(OR(\nAND(ISTEXT(H15),ISBLANK(I15)),\nAND(ISTEXT(#REF!),ISBLANK(#REF!)),\nAND(ISTEXT(#REF!),ISBLANK(#REF!))),1,0)","v":0}]
[7,"Administrative Officer","Schedule work as required",1,7.5,7.5,{"$f":"IF(OR(\nAND(ISTEXT(B16),ISBLANK(C16)),\nAND(ISTEXT(#REF!),ISBLANK(#REF!))),1,0)","v":0},null,null,null,null,0,{"$f":"IF(OR(\nAND(ISTEXT(H16),ISBLANK(I16)),\nAND(ISTEXT(#REF!),ISBLANK(#REF!)),\nAND(ISTEXT(#REF!),ISBLANK(#REF!))),1,0)","v":0}]
[8,"Administrative Officer","Create SO in SAP",1,6.5,6.5,{"$f":"IF(OR(\nAND(ISTEXT(B17),ISBLANK(C17)),\nAND(ISTEXT(#REF!),ISBLANK(#REF!))),1,0)","v":0},null,null,null,null,0,{"$f":"IF(OR(\nAND(ISTEXT(H17),ISBLANK(I17)),\nAND(ISTEXT(#REF!),ISBLANK(#REF!)),\nAND(ISTEXT(#REF!),ISBLANK(#REF!))),1,0)","v":0}]
[9,"Administrative Officer","Send SO to contractor",1,5.5,5.5,{"$f":"IF(OR(\nAND(ISTEXT(B18),ISBLANK(C18)),\nAND(ISTEXT(#REF!),ISBLANK(#REF!))),1,0)","v":0},null,null,null,null,0,{"$f":"IF(OR(\nAND(ISTEXT(H18),ISBLANK(I18)),\nAND(ISTEXT(#REF!),ISBLANK(#REF!)),\nAND(ISTEXT(#REF!),ISBLANK(#REF!))),1,0)","v":0}]
[10,"Administrative Officer","Close SO in SAP",1,7.5,7.5,{"$f":"IF(OR(\nAND(ISTEXT(B19),ISBLANK(C19)),\nAND(ISTEXT(#REF!),ISBLANK(#REF!))),1,0)","v":0},null,null,null,null,0,{"$f":"IF(OR(\nAND(ISTEXT(H19),ISBLANK(I19)),\nAND(ISTEXT(#REF!),ISBLANK(#REF!)),\nAND(ISTEXT(#REF!),ISBLANK(#REF!))),1,0)","v":0}]
[11,"Administrative Officer","Manage system exceptions, errors and reporting",1,3,3,{"$f":"IF(OR(\nAND(ISTEXT(B20),ISBLANK(C20)),\nAND(ISTEXT(#REF!),ISBLANK(#REF!))),1,0)","v":0},null,null,null,null,0,{"$f":"IF(OR(\nAND(ISTEXT(H20),ISBLANK(I20)),\nAND(ISTEXT(#REF!),ISBLANK(#REF!)),\nAND(ISTEXT(#REF!),ISBLANK(#REF!))),1,0)","v":0}]
[12,"Administrative Officer","Manage phone calls and inquiries",1,2,2,{"$f":"IF(OR(\nAND(ISTEXT(B21),ISBLANK(C21)),\nAND(ISTEXT(#REF!),ISBLANK(#REF!))),1,0)","v":0},null,null,null,null,0,{"$f":"IF(OR(\nAND(ISTEXT(H21),ISBLANK(I21)),\nAND(ISTEXT(#REF!),ISBLANK(#REF!)),\nAND(ISTEXT(#REF!),ISBLANK(#REF!))),1,0)","v":0}]
[13,"Administrative Officer","Administration of Inbox emails, correspondences",1,2,2,{"$f":"IF(OR(\nAND(ISTEXT(B22),ISBLANK(C22)),\nAND(ISTEXT(#REF!),ISBLANK(#REF!))),1,0)","v":0},null,null,null,null,0,{"$f":"IF(OR(\nAND(ISTEXT(H22),ISBLANK(I22)),\nAND(ISTEXT(#REF!),ISBLANK(#REF!)),\nAND(ISTEXT(#REF!),ISBLANK(#REF!))),1,0)","v":0}]
[14,null,null,null,null,0,{"$f":"IF(OR(\nAND(ISTEXT(B23),ISBLANK(C23)),\nAND(ISTEXT(#REF!),ISBLANK(#REF!))),1,0)","v":0},null,null,null,null,0,{"$f":"IF(OR(\nAND(ISTEXT(H23),ISBLANK(I23)),\nAND(ISTEXT(#REF!),ISBLANK(#REF!)),\nAND(ISTEXT(#REF!),ISBLANK(#REF!))),1,0)","v":0}]
[15,null,null,null,null,0,{"$f":"IF(OR(\nAND(ISTEXT(B24),ISBLANK(C24)),\nAND(ISTEXT(#REF!),ISBLANK(#REF!))),1,0)","v":0},null,null,null,null,0,{"$f":"IF(OR(\nAND(ISTEXT(H24),ISBLANK(I24)),\nAND(ISTEXT(#REF!),ISBLANK(#REF!)),\nAND(ISTEXT(#REF!),ISBLANK(#REF!))),1,0)","v":0}]
[16,null,null,null,null,0,{"$f":"IF(OR(\nAND(ISTEXT(B25),ISBLANK(C25)),\nAND(ISTEXT(#REF!),ISBLANK(#REF!))),1,0)","v":0},null,null,null,null,0,{"$f":"IF(OR(\nAND(ISTEXT(H25),ISBLANK(I25)),\nAND(ISTEXT(#REF!),ISBLANK(#REF!)),\nAND(ISTEXT(#REF!),ISBLANK(#REF!))),1,0)","v":0}]
[17,null,null,null,null,0,{"$f":"IF(OR(\nAND(ISTEXT(B26),ISBLANK(C26)),\nAND(ISTEXT(#REF!),ISBLANK(#REF!))),1,0)","v":0},null,null,null,null,0,{"$f":"IF(OR(\nAND(ISTEXT(H26),ISBLANK(I26)),\nAND(ISTEXT(#REF!),ISBLANK(#REF!)),\nAND(ISTEXT(#REF!),ISBLANK(#REF!))),1,0)","v":0}]
[18,null,null,null,null,0,{"$f":"IF(OR(\nAND(ISTEXT(B27),ISBLANK(C27)),\nAND(ISTEXT(#REF!),ISBLANK(#REF!))),1,0)","v":0},null,null,null,null,0,{"$f":"IF(OR(\nAND(ISTEXT(H27),ISBLANK(I27)),\nAND(ISTEXT(#REF!),ISBLANK(#REF!)),\nAND(ISTEXT(#REF!),ISBLANK(#REF!))),1,0)","v":0}]
[19,null,null,null,null,0,{"$f":"IF(OR(\nAND(ISTEXT(B28),ISBLANK(C28)),\nAND(ISTEXT(#REF!),ISBLANK(#REF!))),1,0)","v":0},null,null,null,null,0,{"$f":"IF(OR(\nAND(ISTEXT(H28),ISBLANK(I28)),\nAND(ISTEXT(#REF!),ISBLANK(#REF!)),\nAND(ISTEXT(#REF!),ISBLANK(#REF!))),1,0)","v":0}]
[20,null,null,null,null,0,{"$f":"IF(OR(\nAND(ISTEXT(B29),ISBLANK(C29)),\nAND(ISTEXT(#REF!),ISBLANK(#REF!))),1,0)","v":0},null,null,null,null,0,{"$f":"IF(OR(\nAND(ISTEXT(H29),ISBLANK(I29)),\nAND(ISTEXT(#REF!),ISBLANK(#REF!)),\nAND(ISTEXT(#REF!),ISBLANK(#REF!))),1,0)","v":0}]
[null,null,null,null,"Total Minutes",{"$f":"SUM(F10:F29)","v":60},null,null,null,null,"Total Minutes",{"$f":"SUM(L10:L29)","v":130}]
[]
[null,{"$f":"$B$2&\" - Non Labour Breakdown\"","v":"ND3P - Non Labour Breakdown"}]
[]
[null,"Materials",null,null,null,null,{"$f":"IF(SUM(G36:G55)=0,0,1)","v":0},"Vehicle",null,null,null,null,null,{"$f":"IF(SUM(N36:N55)=0,0,1)","v":0},"Other Costs",null,null,{"$f":"IF(SUM(R36:R55)=0,0,1)","v":0}]
[null,"Material Code","Material Name","Number of Units","Unit Cost \n($)","Cost of Unit\n($)",null,"Vehicle Code","Vehicle Name","Number of Units","Hire Time (Minutes)","Hourly Unit Rate\n($)","Cost of Unit\n($)",null,"Notes and sources for \"Other costs\"","Cost\n($)","Cost of Unit\n($)"]
[1,null,null,null,null,null,{"$f":"IF(OR(\nAND(ISTEXT(B36),ISBLANK(C36))),1,0)","v":0},null,"Plant – Elevated Work Platform (small) and Cable Test Van- Average cost",1,65,{"$f":"43.1351164210975*1.23574","v":53.303788766207028},{"$f":"L36*(K36/60)*J36","v":57.745771163390941},{"$f":"IF(OR(\nAND(ISTEXT(H36),ISBLANK(I36))),1,0)","v":0},null,null,{"$f":"P36","v":0},{"$f":"IF(OR(\nAND(ISTEXT(O36),ISBLANK(#REF!))),1,0)","v":0}]
[{"$f":"IFERROR(A36+1,\"\")","v":2},null,null,null,null,null,0,null,null,null,null,null,{"$f":"L37*(K37/60)*J37","v":0},0,null,null,{"$f":"P37","v":0},{"$f":"IF(OR(\nAND(ISTEXT(O37),ISBLANK(#REF!))),1,0)","v":0}]
[{"$f":"IFERROR(A37+1,\"\")","v":3},null,null,null,null,null,0,null,null,null,null,null,0,0,null,null,0,{"$f":"IF(OR(\nAND(ISTEXT(O38),ISBLANK(#REF!))),1,0)","v":0}]
[4,null,null,null,null,null,0,null,null,null,null,null,0,0,null,null,0,{"$f":"IF(OR(\nAND(ISTEXT(O39),ISBLANK(#REF!))),1,0)","v":0}]
[5,null,null,null,null,null,0,null,null,null,null,null,0,0,null,null,0,{"$f":"IF(OR(\nAND(ISTEXT(O40),ISBLANK(#REF!))),1,0)","v":0}]
[6,null,null,null,null,null,0,null,null,null,null,null,0,0,null,null,0,{"$f":"IF(OR(\nAND(ISTEXT(O41),ISBLANK(#REF!))),1,0)","v":0}]
[7,null,null,null,null,null,0,null,null,null,null,null,0,0,null,null,0,{"$f":"IF(OR(\nAND(ISTEXT(O42),ISBLANK(#REF!))),1,0)","v":0}]
[8,null,null,null,null,null,0,null,null,null,null,null,0,0,null,null,0,{"$f":"IF(OR(\nAND(ISTEXT(O43),ISBLANK(#REF!))),1,0)","v":0}]
[9,null,null,null,null,null,0,null,null,null,null,null,0,0,null,null,0,{"$f":"IF(OR(\nAND(ISTEXT(O44),ISBLANK(#REF!))),1,0)","v":0}]
[10,null,null,null,null,null,0,null,null,null,null,null,0,0,null,null,0,{"$f":"IF(OR(\nAND(ISTEXT(O45),ISBLANK(#REF!))),1,0)","v":0}]
[11,null,null,null,null,null,0,null,null,null,null,null,0,0,null,null,0,{"$f":"IF(OR(\nAND(ISTEXT(O46),ISBLANK(#REF!))),1,0)","v":0}]
[12,null,null,null,null,null,0,null,null,null,null,null,0,0,null,null,0,{"$f":"IF(OR(\nAND(ISTEXT(O47),ISBLANK(#REF!))),1,0)","v":0}]
[13,null,null,null,null,null,0,null,null,null,null,null,0,0,null,null,0,{"$f":"IF(OR(\nAND(ISTEXT(O48),ISBLANK(#REF!))),1,0)","v":0}]
[14,null,null,null,null,null,0,null,null,null,null,null,0,0,null,null,0,{"$f":"IF(OR(\nAND(ISTEXT(O49),ISBLANK(#REF!))),1,0)","v":0}]
[15,null,null,null,null,null,0,null,null,null,null,null,0,0,null,null,0,{"$f":"IF(OR(\nAND(ISTEXT(O50),ISBLANK(#REF!))),1,0)","v":0}]
[16,null,null,null,null,null,0,null,null,null,null,null,0,0,null,null,0,{"$f":"IF(OR(\nAND(ISTEXT(O51),ISBLANK(#REF!))),1,0)","v":0}]
[17,null,null,null,null,null,0,null,null,null,null,null,0,0,null,null,0,{"$f":"IF(OR(\nAND(ISTEXT(O52),ISBLANK(#REF!))),1,0)","v":0}]
[18,null,null,null,null,null,0,null,null,null,null,null,0,0,null,null,0,{"$f":"IF(OR(\nAND(ISTEXT(O53),ISBLANK(#REF!))),1,0)","v":0}]
[19,null,null,null,null,null,0,null,null,null,null,null,0,0,null,null,0,{"$f":"IF(OR(\nAND(ISTEXT(O54),ISBLANK(#REF!))),1,0)","v":0}]
[20,null,null,null,null,null,0,null,null,null,null,null,0,0,null,null,0,{"$f":"IF(OR(\nAND(ISTEXT(O55),ISBLANK(#REF!))),1,0)","v":0}]
[null,null,null,null,"Materials Total",305.87271155999997,null,null,null,null,null,"Vehicle Total",{"$f":"SUM(M36:M55)","v":57.745771163390941},null,null,"Other Cost Total",{"$f":"SUM(Q36:Q55)","v":0}]

{"sheet":"BTSO","index":19,"n_rows":56,"n_cols":18,"rows_kept":56,"cut":false,"hidden":false,"merged":[]}
[null,{"$f":"IFERROR(Index!B1,\"\")","v":"Jemena Electricity Networks – Alternative Control Services Forecast model"},null,"Key:","Input",null,null,null,"Sheet Validation",{"$f":"IF(SUM(G8+M8+G34+N34+R34)=0,0,1)","v":0}]
[null,{"$f":"IFERROR(MID(CELL(\"filename\",A1),FIND(\"]\",CELL(\"filename\",A1))+1,255),\"\")","v":"BTSO"},null,null,"Formula"]
[]
[]
[]
[null,{"$f":"$B$2&\" - Labour Breakdown\"","v":"BTSO - Labour Breakdown"}]
[]
[null,"Non-field based labour",null,null,null,null,{"$f":"IF(SUM(G10:G29)=0,0,1)","v":0},"Field based labour",null,null,null,null,{"$f":"IF(SUM(M10:M29)=0,0,1)","v":0}]
[null,"Labour Category","Activity Name","FTE","Time on task (Minutes)","Labour Totals",null,"Labour Category",{"$f":"C9","v":"Activity Name"},{"$f":"D9","v":"FTE"},"Time on task (Minutes)","Time on task (Minutes)"]
[1,"Administrative Officer","Check and validate NMI allocation service order (MSW)",1,6,{"$f":"(D10*E10)","v":6},{"$f":"IF(OR(\nAND(ISTEXT(B10),ISBLANK(C10)),\nAND(ISTEXT(#REF!),ISBLANK(#REF!))),1,0)","v":0},"Field Worker","Travel to site",2,30,{"$f":"(J10*K10)","v":60},{"$f":"IF(OR(\nAND(ISTEXT(H10),ISBLANK(I10)),\nAND(ISTEXT(#REF!),ISBLANK(#REF!)),\nAND(ISTEXT(#REF!),ISBLANK(#REF!))),1,0)","v":0}]
[{"$f":"IFERROR(A10+1,\"\")","v":2},"Administrative Officer","Accept NMI allocation SO",1,3,{"$f":"(D11*E11)","v":3},{"$f":"IF(OR(\nAND(ISTEXT(B11),ISBLANK(C11)),\nAND(ISTEXT(#REF!),ISBLANK(#REF!))),1,0)","v":0},"Field Worker","Field crew completes job safety assessment (JSA)",2,5,{"$f":"(J11*K11)","v":10},{"$f":"IF(OR(\nAND(ISTEXT(H11),ISBLANK(I11)),\nAND(ISTEXT(#REF!),ISBLANK(#REF!)),\nAND(ISTEXT(#REF!),ISBLANK(#REF!))),1,0)","v":0}]
[{"$f":"IFERROR(A11+1,\"\")","v":3},"Administrative Officer","Reject NMI allocation SO (if required)",1,3,3,{"$f":"IF(OR(\nAND(ISTEXT(B12),ISBLANK(C12)),\nAND(ISTEXT(#REF!),ISBLANK(#REF!))),1,0)","v":0},"Field Worker","Setup traffic management",2,5,10,{"$f":"IF(OR(\nAND(ISTEXT(H12),ISBLANK(I12)),\nAND(ISTEXT(#REF!),ISBLANK(#REF!)),\nAND(ISTEXT(#REF!),ISBLANK(#REF!))),1,0)","v":0}]
[4,"Administrative Officer","Check and validate B2B service order (SO) - (MSW & SSW)",1,8,8,{"$f":"IF(OR(\nAND(ISTEXT(B13),ISBLANK(C13)),\nAND(ISTEXT(#REF!),ISBLANK(#REF!))),1,0)","v":0},"Field Worker","Install service cable, fit meter and prepare site for testing.",2,15,30,{"$f":"IF(OR(\nAND(ISTEXT(H13),ISBLANK(I13)),\nAND(ISTEXT(#REF!),ISBLANK(#REF!)),\nAND(ISTEXT(#REF!),ISBLANK(#REF!))),1,0)","v":0}]
[5,"Administrative Officer","Accept B2B SO",1,3,3,{"$f":"IF(OR(\nAND(ISTEXT(B14),ISBLANK(C14)),\nAND(ISTEXT(#REF!),ISBLANK(#REF!))),1,0)","v":0},"Field Worker","Field crew completes NST testing and seal meter.",2,5,10,{"$f":"IF(OR(\nAND(ISTEXT(H14),ISBLANK(I14)),\nAND(ISTEXT(#REF!),ISBLANK(#REF!)),\nAND(ISTEXT(#REF!),ISBLANK(#REF!))),1,0)","v":0}]
[6,"Administrative Officer","Reject B2B SO (if required)",1,3,3,{"$f":"IF(OR(\nAND(ISTEXT(B15),ISBLANK(C15)),\nAND(ISTEXT(#REF!),ISBLANK(#REF!))),1,0)","v":0},"Field Worker","Field crew completes paperwork, work activity record (WAR), record meter number, and remove traffic control devices.",2,5,10,{"$f":"IF(OR(\nAND(ISTEXT(H15),ISBLANK(I15)),\nAND(ISTEXT(#REF!),ISBLANK(#REF!)),\nAND(ISTEXT(#REF!),ISBLANK(#REF!))),1,0)","v":0}]
[7,"Administrative Officer","Schedule work as required",1,7.5,7.5,{"$f":"IF(OR(\nAND(ISTEXT(B16),ISBLANK(C16)),\nAND(ISTEXT(#REF!),ISBLANK(#REF!))),1,0)","v":0},null,null,null,null,0,{"$f":"IF(OR(\nAND(ISTEXT(H16),ISBLANK(I16)),\nAND(ISTEXT(#REF!),ISBLANK(#REF!)),\nAND(ISTEXT(#REF!),ISBLANK(#REF!))),1,0)","v":0}]
[8,"Administrative Officer","Create SO in SAP",1,6.5,6.5,{"$f":"IF(OR(\nAND(ISTEXT(B17),ISBLANK(C17)),\nAND(ISTEXT(#REF!),ISBLANK(#REF!))),1,0)","v":0},null,null,null,null,0,{"$f":"IF(OR(\nAND(ISTEXT(H17),ISBLANK(I17)),\nAND(ISTEXT(#REF!),ISBLANK(#REF!)),\nAND(ISTEXT(#REF!),ISBLANK(#REF!))),1,0)","v":0}]
[9,"Administrative Officer","Send SO to contractor",1,5.5,5.5,{"$f":"IF(OR(\nAND(ISTEXT(B18),ISBLANK(C18)),\nAND(ISTEXT(#REF!),ISBLANK(#REF!))),1,0)","v":0},null,null,null,null,0,{"$f":"IF(OR(\nAND(ISTEXT(H18),ISBLANK(I18)),\nAND(ISTEXT(#REF!),ISBLANK(#REF!)),\nAND(ISTEXT(#REF!),ISBLANK(#REF!))),1,0)","v":0}]
[10,"Administrative Officer","Close SO in SAP",1,7.5,7.5,{"$f":"IF(OR(\nAND(ISTEXT(B19),ISBLANK(C19)),\nAND(ISTEXT(#REF!),ISBLANK(#REF!))),1,0)","v":0},null,null,null,null,0,{"$f":"IF(OR(\nAND(ISTEXT(H19),ISBLANK(I19)),\nAND(ISTEXT(#REF!),ISBLANK(#REF!)),\nAND(ISTEXT(#REF!),ISBLANK(#REF!))),1,0)","v":0}]
[11,"Administrative Officer","Manage system exceptions, errors and reporting",1,3,3,{"$f":"IF(OR(\nAND(ISTEXT(B20),ISBLANK(C20)),\nAND(ISTEXT(#REF!),ISBLANK(#REF!))),1,0)","v":0},null,null,null,null,0,{"$f":"IF(OR(\nAND(ISTEXT(H20),ISBLANK(I20)),\nAND(ISTEXT(#REF!),ISBLANK(#REF!)),\nAND(ISTEXT(#REF!),ISBLANK(#REF!))),1,0)","v":0}]
[12,"Administrative Officer","Manage phone calls and inquiries",1,2,2,{"$f":"IF(OR(\nAND(ISTEXT(B21),ISBLANK(C21)),\nAND(ISTEXT(#REF!),ISBLANK(#REF!))),1,0)","v":0},null,null,null,null,0,{"$f":"IF(OR(\nAND(ISTEXT(H21),ISBLANK(I21)),\nAND(ISTEXT(#REF!),ISBLANK(#REF!)),\nAND(ISTEXT(#REF!),ISBLANK(#REF!))),1,0)","v":0}]
[13,"Administrative Officer","Administration of Inbox emails, correspondences",1,2,2,{"$f":"IF(OR(\nAND(ISTEXT(B22),ISBLANK(C22)),\nAND(ISTEXT(#REF!),ISBLANK(#REF!))),1,0)","v":0},null,null,null,null,0,{"$f":"IF(OR(\nAND(ISTEXT(H22),ISBLANK(I22)),\nAND(ISTEXT(#REF!),ISBLANK(#REF!)),\nAND(ISTEXT(#REF!),ISBLANK(#REF!))),1,0)","v":0}]
[14,null,null,null,null,0,{"$f":"IF(OR(\nAND(ISTEXT(B23),ISBLANK(C23)),\nAND(ISTEXT(#REF!),ISBLANK(#REF!))),1,0)","v":0},null,null,null,null,0,{"$f":"IF(OR(\nAND(ISTEXT(H23),ISBLANK(I23)),\nAND(ISTEXT(#REF!),ISBLANK(#REF!)),\nAND(ISTEXT(#REF!),ISBLANK(#REF!))),1,0)","v":0}]
[15,null,null,null,null,0,{"$f":"IF(OR(\nAND(ISTEXT(B24),ISBLANK(C24)),\nAND(ISTEXT(#REF!),ISBLANK(#REF!))),1,0)","v":0},null,null,null,null,0,{"$f":"IF(OR(\nAND(ISTEXT(H24),ISBLANK(I24)),\nAND(ISTEXT(#REF!),ISBLANK(#REF!)),\nAND(ISTEXT(#REF!),ISBLANK(#REF!))),1,0)","v":0}]
[16,null,null,null,null,0,{"$f":"IF(OR(\nAND(ISTEXT(B25),ISBLANK(C25)),\nAND(ISTEXT(#REF!),ISBLANK(#REF!))),1,0)","v":0},null,null,null,null,0,{"$f":"IF(OR(\nAND(ISTEXT(H25),ISBLANK(I25)),\nAND(ISTEXT(#REF!),ISBLANK(#REF!)),\nAND(ISTEXT(#REF!),ISBLANK(#REF!))),1,0)","v":0}]
[17,null,null,null,null,0,{"$f":"IF(OR(\nAND(ISTEXT(B26),ISBLANK(C26)),\nAND(ISTEXT(#REF!),ISBLANK(#REF!))),1,0)","v":0},null,null,null,null,0,{"$f":"IF(OR(\nAND(ISTEXT(H26),ISBLANK(I26)),\nAND(ISTEXT(#REF!),ISBLANK(#REF!)),\nAND(ISTEXT(#REF!),ISBLANK(#REF!))),1,0)","v":0}]
[18,null,null,null,null,0,{"$f":"IF(OR(\nAND(ISTEXT(B27),ISBLANK(C27)),\nAND(ISTEXT(#REF!),ISBLANK(#REF!))),1,0)","v":0},null,null,null,null,0,{"$f":"IF(OR(\nAND(ISTEXT(H27),ISBLANK(I27)),\nAND(ISTEXT(#REF!),ISBLANK(#REF!)),\nAND(ISTEXT(#REF!),ISBLANK(#REF!))),1,0)","v":0}]
[19,null,null,null,null,0,{"$f":"IF(OR(\nAND(ISTEXT(B28),ISBLANK(C28)),\nAND(ISTEXT(#REF!),ISBLANK(#REF!))),1,0)","v":0},null,null,null,null,0,{"$f":"IF(OR(\nAND(ISTEXT(H28),ISBLANK(I28)),\nAND(ISTEXT(#REF!),ISBLANK(#REF!)),\nAND(ISTEXT(#REF!),ISBLANK(#REF!))),1,0)","v":0}]
[20,null,null,null,null,0,{"$f":"IF(OR(\nAND(ISTEXT(B29),ISBLANK(C29)),\nAND(ISTEXT(#REF!),ISBLANK(#REF!))),1,0)","v":0},null,null,null,null,0,{"$f":"IF(OR(\nAND(ISTEXT(H29),ISBLANK(I29)),\nAND(ISTEXT(#REF!),ISBLANK(#REF!)),\nAND(ISTEXT(#REF!),ISBLANK(#REF!))),1,0)","v":0}]
[null,null,null,null,"Total Minutes",{"$f":"SUM(F10:F29)","v":60},null,null,null,null,"Total Minutes",{"$f":"SUM(L10:L29)","v":130}]
[]
[null,{"$f":"$B$2&\" - Non Labour Breakdown\"","v":"BTSO - Non Labour Breakdown"}]
[]
[null,"Materials",null,null,null,null,{"$f":"IF(SUM(G36:G55)=0,0,1)","v":0},"Vehicle",null,null,null,null,null,{"$f":"IF(SUM(N36:N55)=0,0,1)","v":0},"Other Costs",null,null,{"$f":"IF(SUM(R36:R55)=0,0,1)","v":0}]
[null,"Material Code","Material Name","Number of Units","Unit Cost \n($)","Cost of Unit\n($)",null,"Vehicle Code","Vehicle Name","Number of Units","Hire Time (Minutes)","Hourly Unit Rate\n($)","Cost of Unit\n($)",null,"Notes and sources for \"Other costs\"","Cost\n($)","Cost of Unit\n($)"]
[1,null,null,null,null,null,{"$f":"IF(OR(\nAND(ISTEXT(B36),ISBLANK(C36))),1,0)","v":0},null,"Plant – Elevated Work Platform (small) and Cable Test Van- Average cost",1,65,{"$f":"43.1351164210975*1.23574","v":53.303788766207028},{"$f":"L36*(K36/60)*J36","v":57.745771163390941},{"$f":"IF(OR(\nAND(ISTEXT(H36),ISBLANK(I36))),1,0)","v":0},null,null,{"$f":"P36","v":0},{"$f":"IF(OR(\nAND(ISTEXT(O36),ISBLANK(#REF!))),1,0)","v":0}]
[{"$f":"IFERROR(A36+1,\"\")","v":2},null,null,null,null,null,0,null,null,null,null,null,{"$f":"L37*(K37/60)*J37","v":0},0,null,null,{"$f":"P37","v":0},{"$f":"IF(OR(\nAND(ISTEXT(O37),ISBLANK(#REF!))),1,0)","v":0}]
[{"$f":"IFERROR(A37+1,\"\")","v":3},null,null,null,null,null,0,null,null,null,null,null,0,0,null,null,0,{"$f":"IF(OR(\nAND(ISTEXT(O38),ISBLANK(#REF!))),1,0)","v":0}]
[4,null,null,null,null,null,0,null,null,null,null,null,0,0,null,null,0,{"$f":"IF(OR(\nAND(ISTEXT(O39),ISBLANK(#REF!))),1,0)","v":0}]
[5,null,null,null,null,null,0,null,null,null,null,null,0,0,null,null,0,{"$f":"IF(OR(\nAND(ISTEXT(O40),ISBLANK(#REF!))),1,0)","v":0}]
[6,null,null,null,null,null,0,null,null,null,null,null,0,0,null,null,0,{"$f":"IF(OR(\nAND(ISTEXT(O41),ISBLANK(#REF!))),1,0)","v":0}]
[7,null,null,null,null,null,0,null,null,null,null,null,0,0,null,null,0,{"$f":"IF(OR(\nAND(ISTEXT(O42),ISBLANK(#REF!))),1,0)","v":0}]
[8,null,null,null,null,null,0,null,null,null,null,null,0,0,null,null,0,{"$f":"IF(OR(\nAND(ISTEXT(O43),ISBLANK(#REF!))),1,0)","v":0}]
[9,null,null,null,null,null,0,null,null,null,null,null,0,0,null,null,0,{"$f":"IF(OR(\nAND(ISTEXT(O44),ISBLANK(#REF!))),1,0)","v":0}]
[10,null,null,null,null,null,0,null,null,null,null,null,0,0,null,null,0,{"$f":"IF(OR(\nAND(ISTEXT(O45),ISBLANK(#REF!))),1,0)","v":0}]
[11,null,null,null,null,null,0,null,null,null,null,null,0,0,null,null,0,{"$f":"IF(OR(\nAND(ISTEXT(O46),ISBLANK(#REF!))),1,0)","v":0}]
[12,null,null,null,null,null,0,null,null,null,null,null,0,0,null,null,0,{"$f":"IF(OR(\nAND(ISTEXT(O47),ISBLANK(#REF!))),1,0)","v":0}]
[13,null,null,null,null,null,0,null,null,null,null,null,0,0,null,null,0,{"$f":"IF(OR(\nAND(ISTEXT(O48),ISBLANK(#REF!))),1,0)","v":0}]
[14,null,null,null,null,null,0,null,null,null,null,null,0,0,null,null,0,{"$f":"IF(OR(\nAND(ISTEXT(O49),ISBLANK(#REF!))),1,0)","v":0}]
[15,null,null,null,null,null,0,null,null,null,null,null,0,0,null,null,0,{"$f":"IF(OR(\nAND(ISTEXT(O50),ISBLANK(#REF!))),1,0)","v":0}]
[16,null,null,null,null,null,0,null,null,null,null,null,0,0,null,null,0,{"$f":"IF(OR(\nAND(ISTEXT(O51),ISBLANK(#REF!))),1,0)","v":0}]
[17,null,null,null,null,null,0,null,null,null,null,null,0,0,null,null,0,{"$f":"IF(OR(\nAND(ISTEXT(O52),ISBLANK(#REF!))),1,0)","v":0}]
[18,null,null,null,null,null,0,null,null,null,null,null,0,0,null,null,0,{"$f":"IF(OR(\nAND(ISTEXT(O53),ISBLANK(#REF!))),1,0)","v":0}]
[19,null,null,null,null,null,0,null,null,null,null,null,0,0,null,null,0,{"$f":"IF(OR(\nAND(ISTEXT(O54),ISBLANK(#REF!))),1,0)","v":0}]
[20,null,null,null,null,null,0,null,null,null,null,null,0,0,null,null,0,{"$f":"IF(OR(\nAND(ISTEXT(O55),ISBLANK(#REF!))),1,0)","v":0}]
[null,null,null,null,"Materials Total",125.36405911999999,null,null,null,null,null,"Vehicle Total",{"$f":"SUM(M36:M55)","v":57.745771163390941},null,null,"Other Cost Total",{"$f":"SUM(Q36:Q55)","v":0}]

{"sheet":"BTSP","index":20,"n_rows":56,"n_cols":18,"rows_kept":56,"cut":false,"hidden":false,"merged":[]}
[null,{"$f":"IFERROR(Index!B1,\"\")","v":"Jemena Electricity Networks – Alternative Control Services Forecast model"},null,"Key:","Input",null,null,null,"Sheet Validation",{"$f":"IF(SUM(G8+M8+G34+N34+R34)=0,0,1)","v":0}]
[null,{"$f":"IFERROR(MID(CELL(\"filename\",A1),FIND(\"]\",CELL(\"filename\",A1))+1,255),\"\")","v":"BTSP"},null,null,"Formula"]
[]
[]
[]
[null,{"$f":"$B$2&\" - Labour Breakdown\"","v":"BTSP - Labour Breakdown"}]
[]
[null,"Non-field based labour",null,null,null,null,{"$f":"IF(SUM(G10:G29)=0,0,1)","v":0},"Field based labour",null,null,null,null,{"$f":"IF(SUM(M10:M29)=0,0,1)","v":0}]
[null,"Labour Category","Activity Name","FTE","Time on task (Minutes)","Labour Totals",null,"Labour Category",{"$f":"C9","v":"Activity Name"},{"$f":"D9","v":"FTE"},"Time on task (Minutes)","Time on task (Minutes)"]
[1,"Administrative Officer","Check and validate NMI allocation service order (MSW)",1,6,{"$f":"(D10*E10)","v":6},{"$f":"IF(OR(\nAND(ISTEXT(B10),ISBLANK(C10)),\nAND(ISTEXT(#REF!),ISBLANK(#REF!))),1,0)","v":0},"Field Worker","Travel to site",2,30,{"$f":"(J10*K10)","v":60},{"$f":"IF(OR(\nAND(ISTEXT(H10),ISBLANK(I10)),\nAND(ISTEXT(#REF!),ISBLANK(#REF!)),\nAND(ISTEXT(#REF!),ISBLANK(#REF!))),1,0)","v":0}]
[{"$f":"IFERROR(A10+1,\"\")","v":2},"Administrative Officer","Accept NMI allocation SO",1,3,{"$f":"(D11*E11)","v":3},{"$f":"IF(OR(\nAND(ISTEXT(B11),ISBLANK(C11)),\nAND(ISTEXT(#REF!),ISBLANK(#REF!))),1,0)","v":0},"Field Worker","Field crew completes job safety assessment (JSA)",2,5,{"$f":"(J11*K11)","v":10},{"$f":"IF(OR(\nAND(ISTEXT(H11),ISBLANK(I11)),\nAND(ISTEXT(#REF!),ISBLANK(#REF!)),\nAND(ISTEXT(#REF!),ISBLANK(#REF!))),1,0)","v":0}]
[{"$f":"IFERROR(A11+1,\"\")","v":3},"Administrative Officer","Reject NMI allocation SO (if required)",1,3,3,{"$f":"IF(OR(\nAND(ISTEXT(B12),ISBLANK(C12)),\nAND(ISTEXT(#REF!),ISBLANK(#REF!))),1,0)","v":0},"Field Worker","Setup traffic management",2,5,10,{"$f":"IF(OR(\nAND(ISTEXT(H12),ISBLANK(I12)),\nAND(ISTEXT(#REF!),ISBLANK(#REF!)),\nAND(ISTEXT(#REF!),ISBLANK(#REF!))),1,0)","v":0}]
[4,"Administrative Officer","Check and validate B2B service order (SO) - (MSW & SSW)",1,8,8,{"$f":"IF(OR(\nAND(ISTEXT(B13),ISBLANK(C13)),\nAND(ISTEXT(#REF!),ISBLANK(#REF!))),1,0)","v":0},"Field Worker","Install service cable, fit meter and prepare site for testing.",2,15,30,{"$f":"IF(OR(\nAND(ISTEXT(H13),ISBLANK(I13)),\nAND(ISTEXT(#REF!),ISBLANK(#REF!)),\nAND(ISTEXT(#REF!),ISBLANK(#REF!))),1,0)","v":0}]
[5,"Administrative Officer","Accept B2B SO",1,3,3,{"$f":"IF(OR(\nAND(ISTEXT(B14),ISBLANK(C14)),\nAND(ISTEXT(#REF!),ISBLANK(#REF!))),1,0)","v":0},"Field Worker","Field crew completes NST testing and seal meter.",2,5,10,{"$f":"IF(OR(\nAND(ISTEXT(H14),ISBLANK(I14)),\nAND(ISTEXT(#REF!),ISBLANK(#REF!)),\nAND(ISTEXT(#REF!),ISBLANK(#REF!))),1,0)","v":0}]
[6,"Administrative Officer","Reject B2B SO (if required)",1,3,3,{"$f":"IF(OR(\nAND(ISTEXT(B15),ISBLANK(C15)),\nAND(ISTEXT(#REF!),ISBLANK(#REF!))),1,0)","v":0},"Field Worker","Field crew completes paperwork, work activity record (WAR), record meter number, and remove traffic control devices.",2,5,10,{"$f":"IF(OR(\nAND(ISTEXT(H15),ISBLANK(I15)),\nAND(ISTEXT(#REF!),ISBLANK(#REF!)),\nAND(ISTEXT(#REF!),ISBLANK(#REF!))),1,0)","v":0}]
[7,"Administrative Officer","Schedule work as required",1,7.5,7.5,{"$f":"IF(OR(\nAND(ISTEXT(B16),ISBLANK(C16)),\nAND(ISTEXT(#REF!),ISBLANK(#REF!))),1,0)","v":0},null,null,null,null,0,{"$f":"IF(OR(\nAND(ISTEXT(H16),ISBLANK(I16)),\nAND(ISTEXT(#REF!),ISBLANK(#REF!)),\nAND(ISTEXT(#REF!),ISBLANK(#REF!))),1,0)","v":0}]
[8,"Administrative Officer","Create SO in SAP",1,6.5,6.5,{"$f":"IF(OR(\nAND(ISTEXT(B17),ISBLANK(C17)),\nAND(ISTEXT(#REF!),ISBLANK(#REF!))),1,0)","v":0},null,null,null,null,0,{"$f":"IF(OR(\nAND(ISTEXT(H17),ISBLANK(I17)),\nAND(ISTEXT(#REF!),ISBLANK(#REF!)),\nAND(ISTEXT(#REF!),ISBLANK(#REF!))),1,0)","v":0}]
[9,"Administrative Officer","Send SO to contractor",1,5.5,5.5,{"$f":"IF(OR(\nAND(ISTEXT(B18),ISBLANK(C18)),\nAND(ISTEXT(#REF!),ISBLANK(#REF!))),1,0)","v":0},null,null,null,null,0,{"$f":"IF(OR(\nAND(ISTEXT(H18),ISBLANK(I18)),\nAND(ISTEXT(#REF!),ISBLANK(#REF!)),\nAND(ISTEXT(#REF!),ISBLANK(#REF!))),1,0)","v":0}]
[10,"Administrative Officer","Close SO in SAP",1,7.5,7.5,{"$f":"IF(OR(\nAND(ISTEXT(B19),ISBLANK(C19)),\nAND(ISTEXT(#REF!),ISBLANK(#REF!))),1,0)","v":0},null,null,null,null,0,{"$f":"IF(OR(\nAND(ISTEXT(H19),ISBLANK(I19)),\nAND(ISTEXT(#REF!),ISBLANK(#REF!)),\nAND(ISTEXT(#REF!),ISBLANK(#REF!))),1,0)","v":0}]
[11,"Administrative Officer","Manage system exceptions, errors and reporting",1,3,3,{"$f":"IF(OR(\nAND(ISTEXT(B20),ISBLANK(C20)),\nAND(ISTEXT(#REF!),ISBLANK(#REF!))),1,0)","v":0},null,null,null,null,0,{"$f":"IF(OR(\nAND(ISTEXT(H20),ISBLANK(I20)),\nAND(ISTEXT(#REF!),ISBLANK(#REF!)),\nAND(ISTEXT(#REF!),ISBLANK(#REF!))),1,0)","v":0}]
[12,"Administrative Officer","Manage phone calls and inquiries",1,2,2,{"$f":"IF(OR(\nAND(ISTEXT(B21),ISBLANK(C21)),\nAND(ISTEXT(#REF!),ISBLANK(#REF!))),1,0)","v":0},null,null,null,null,0,{"$f":"IF(OR(\nAND(ISTEXT(H21),ISBLANK(I21)),\nAND(ISTEXT(#REF!),ISBLANK(#REF!)),\nAND(ISTEXT(#REF!),ISBLANK(#REF!))),1,0)","v":0}]
[13,"Administrative Officer","Administration of Inbox emails, correspondences",1,2,2,{"$f":"IF(OR(\nAND(ISTEXT(B22),ISBLANK(C22)),\nAND(ISTEXT(#REF!),ISBLANK(#REF!))),1,0)","v":0},null,null,null,null,0,{"$f":"IF(OR(\nAND(ISTEXT(H22),ISBLANK(I22)),\nAND(ISTEXT(#REF!),ISBLANK(#REF!)),\nAND(ISTEXT(#REF!),ISBLANK(#REF!))),1,0)","v":0}]
[14,null,null,null,null,0,{"$f":"IF(OR(\nAND(ISTEXT(B23),ISBLANK(C23)),\nAND(ISTEXT(#REF!),ISBLANK(#REF!))),1,0)","v":0},null,null,null,null,0,{"$f":"IF(OR(\nAND(ISTEXT(H23),ISBLANK(I23)),\nAND(ISTEXT(#REF!),ISBLANK(#REF!)),\nAND(ISTEXT(#REF!),ISBLANK(#REF!))),1,0)","v":0}]
[15,null,null,null,null,0,{"$f":"IF(OR(\nAND(ISTEXT(B24),ISBLANK(C24)),\nAND(ISTEXT(#REF!),ISBLANK(#REF!))),1,0)","v":0},null,null,null,null,0,{"$f":"IF(OR(\nAND(ISTEXT(H24),ISBLANK(I24)),\nAND(ISTEXT(#REF!),ISBLANK(#REF!)),\nAND(ISTEXT(#REF!),ISBLANK(#REF!))),1,0)","v":0}]
[16,null,null,null,null,0,{"$f":"IF(OR(\nAND(ISTEXT(B25),ISBLANK(C25)),\nAND(ISTEXT(#REF!),ISBLANK(#REF!))),1,0)","v":0},null,null,null,null,0,{"$f":"IF(OR(\nAND(ISTEXT(H25),ISBLANK(I25)),\nAND(ISTEXT(#REF!),ISBLANK(#REF!)),\nAND(ISTEXT(#REF!),ISBLANK(#REF!))),1,0)","v":0}]
[17,null,null,null,null,0,{"$f":"IF(OR(\nAND(ISTEXT(B26),ISBLANK(C26)),\nAND(ISTEXT(#REF!),ISBLANK(#REF!))),1,0)","v":0},null,null,null,null,0,{"$f":"IF(OR(\nAND(ISTEXT(H26),ISBLANK(I26)),\nAND(ISTEXT(#REF!),ISBLANK(#REF!)),\nAND(ISTEXT(#REF!),ISBLANK(#REF!))),1,0)","v":0}]
[18,null,null,null,null,0,{"$f":"IF(OR(\nAND(ISTEXT(B27),ISBLANK(C27)),\nAND(ISTEXT(#REF!),ISBLANK(#REF!))),1,0)","v":0},null,null,null,null,0,{"$f":"IF(OR(\nAND(ISTEXT(H27),ISBLANK(I27)),\nAND(ISTEXT(#REF!),ISBLANK(#REF!)),\nAND(ISTEXT(#REF!),ISBLANK(#REF!))),1,0)","v":0}]
[19,null,null,null,null,0,{"$f":"IF(OR(\nAND(ISTEXT(B28),ISBLANK(C28)),\nAND(ISTEXT(#REF!),ISBLANK(#REF!))),1,0)","v":0},null,null,null,null,0,{"$f":"IF(OR(\nAND(ISTEXT(H28),ISBLANK(I28)),\nAND(ISTEXT(#REF!),ISBLANK(#REF!)),\nAND(ISTEXT(#REF!),ISBLANK(#REF!))),1,0)","v":0}]
[20,null,null,null,null,0,{"$f":"IF(OR(\nAND(ISTEXT(B29),ISBLANK(C29)),\nAND(ISTEXT(#REF!),ISBLANK(#REF!))),1,0)","v":0},null,null,null,null,0,{"$f":"IF(OR(\nAND(ISTEXT(H29),ISBLANK(I29)),\nAND(ISTEXT(#REF!),ISBLANK(#REF!)),\nAND(ISTEXT(#REF!),ISBLANK(#REF!))),1,0)","v":0}]
[null,null,null,null,"Total Minutes",{"$f":"SUM(F10:F29)","v":60},null,null,null,null,"Total Minutes",{"$f":"SUM(L10:L29)","v":130}]
[]
[null,{"$f":"$B$2&\" - Non Labour Breakdown\"","v":"BTSP - Non Labour Breakdown"}]
[]
[null,"Materials",null,null,null,null,{"$f":"IF(SUM(G36:G55)=0,0,1)","v":0},"Vehicle",null,null,null,null,null,{"$f":"IF(SUM(N36:N55)=0,0,1)","v":0},"Other Costs",null,null,{"$f":"IF(SUM(R36:R55)=0,0,1)","v":0}]
[null,"Material Code","Material Name","Number of Units","Unit Cost \n($)","Cost of Unit\n($)",null,"Vehicle Code","Vehicle Name","Number of Units","Hire Time (Minutes)","Hourly Unit Rate\n($)","Cost of Unit\n($)",null,"Notes and sources for \"Other costs\"","Cost\n($)","Cost of Unit\n($)"]
[1,null,null,null,null,null,{"$f":"IF(OR(\nAND(ISTEXT(B36),ISBLANK(C36))),1,0)","v":0},null,"Plant – Elevated Work Platform (small) and Cable Test Van- Average cost",1,65,{"$f":"43.1351164210975*1.23574","v":53.303788766207028},{"$f":"L36*(K36/60)*J36","v":57.745771163390941},{"$f":"IF(OR(\nAND(ISTEXT(H36),ISBLANK(I36))),1,0)","v":0},null,null,{"$f":"P36","v":0},{"$f":"IF(OR(\nAND(ISTEXT(O36),ISBLANK(#REF!))),1,0)","v":0}]
[{"$f":"IFERROR(A36+1,\"\")","v":2},null,null,null,null,null,0,null,null,null,null,null,{"$f":"L37*(K37/60)*J37","v":0},0,null,null,{"$f":"P37","v":0},{"$f":"IF(OR(\nAND(ISTEXT(O37),ISBLANK(#REF!))),1,0)","v":0}]
[{"$f":"IFERROR(A37+1,\"\")","v":3},null,null,null,null,null,0,null,null,null,null,null,0,0,null,null,0,{"$f":"IF(OR(\nAND(ISTEXT(O38),ISBLANK(#REF!))),1,0)","v":0}]
[4,null,null,null,null,null,0,null,null,null,null,null,0,0,null,null,0,{"$f":"IF(OR(\nAND(ISTEXT(O39),ISBLANK(#REF!))),1,0)","v":0}]
[5,null,null,null,null,null,0,null,null,null,null,null,0,0,null,null,0,{"$f":"IF(OR(\nAND(ISTEXT(O40),ISBLANK(#REF!))),1,0)","v":0}]
[6,null,null,null,null,null,0,null,null,null,null,null,0,0,null,null,0,{"$f":"IF(OR(\nAND(ISTEXT(O41),ISBLANK(#REF!))),1,0)","v":0}]
[7,null,null,null,null,null,0,null,null,null,null,null,0,0,null,null,0,{"$f":"IF(OR(\nAND(ISTEXT(O42),ISBLANK(#REF!))),1,0)","v":0}]
[8,null,null,null,null,null,0,null,null,null,null,null,0,0,null,null,0,{"$f":"IF(OR(\nAND(ISTEXT(O43),ISBLANK(#REF!))),1,0)","v":0}]
[9,null,null,null,null,null,0,null,null,null,null,null,0,0,null,null,0,{"$f":"IF(OR(\nAND(ISTEXT(O44),ISBLANK(#REF!))),1,0)","v":0}]
[10,null,null,null,null,null,0,null,null,null,null,null,0,0,null,null,0,{"$f":"IF(OR(\nAND(ISTEXT(O45),ISBLANK(#REF!))),1,0)","v":0}]
[11,null,null,null,null,null,0,null,null,null,null,null,0,0,null,null,0,{"$f":"IF(OR(\nAND(ISTEXT(O46),ISBLANK(#REF!))),1,0)","v":0}]
[12,null,null,null,null,null,0,null,null,null,null,null,0,0,null,null,0,{"$f":"IF(OR(\nAND(ISTEXT(O47),ISBLANK(#REF!))),1,0)","v":0}]
[13,null,null,null,null,null,0,null,null,null,null,null,0,0,null,null,0,{"$f":"IF(OR(\nAND(ISTEXT(O48),ISBLANK(#REF!))),1,0)","v":0}]
[14,null,null,null,null,null,0,null,null,null,null,null,0,0,null,null,0,{"$f":"IF(OR(\nAND(ISTEXT(O49),ISBLANK(#REF!))),1,0)","v":0}]
[15,null,null,null,null,null,0,null,null,null,null,null,0,0,null,null,0,{"$f":"IF(OR(\nAND(ISTEXT(O50),ISBLANK(#REF!))),1,0)","v":0}]
[16,null,null,null,null,null,0,null,null,null,null,null,0,0,null,null,0,{"$f":"IF(OR(\nAND(ISTEXT(O51),ISBLANK(#REF!))),1,0)","v":0}]
[17,null,null,null,null,null,0,null,null,null,null,null,0,0,null,null,0,{"$f":"IF(OR(\nAND(ISTEXT(O52),ISBLANK(#REF!))),1,0)","v":0}]
[18,null,null,null,null,null,0,null,null,null,null,null,0,0,null,null,0,{"$f":"IF(OR(\nAND(ISTEXT(O53),ISBLANK(#REF!))),1,0)","v":0}]
[19,null,null,null,null,null,0,null,null,null,null,null,0,0,null,null,0,{"$f":"IF(OR(\nAND(ISTEXT(O54),ISBLANK(#REF!))),1,0)","v":0}]
[20,null,null,null,null,0,0,null,null,null,null,null,0,0,null,null,0,{"$f":"IF(OR(\nAND(ISTEXT(O55),ISBLANK(#REF!))),1,0)","v":0}]
[null,null,null,null,"Materials Total",305.87271155999997,null,null,null,null,null,"Vehicle Total",{"$f":"SUM(M36:M55)","v":57.745771163390941},null,null,"Other Cost Total",{"$f":"SUM(Q36:Q55)","v":0}]

{"sheet":"SUTK","index":21,"n_rows":56,"n_cols":18,"rows_kept":56,"cut":false,"hidden":false,"merged":[]}
[null,{"$f":"IFERROR(Index!B1,\"\")","v":"Jemena Electricity Networks – Alternative Control Services Forecast model"},null,"Key:","Input",null,null,null,"Sheet Validation",{"$f":"IF(SUM(G8+M8+G34+N34+R34)=0,0,1)","v":0}]
[null,{"$f":"IFERROR(MID(CELL(\"filename\",A1),FIND(\"]\",CELL(\"filename\",A1))+1,255),\"\")","v":"SUTK"},null,null,"Formula"]
[]
[]
[]
[null,{"$f":"$B$2&\" - Labour Breakdown\"","v":"SUTK - Labour Breakdown"}]
[]
[null,"Non-field based labour",null,null,null,null,{"$f":"IF(SUM(G10:G29)=0,0,1)","v":0},"Field based labour",null,null,null,null,{"$f":"IF(SUM(M10:M29)=0,0,1)","v":0}]
[null,"Labour Category","Activity Name","FTE","Time on task (Minutes)","Labour Totals",null,"Labour Category",{"$f":"C9","v":"Activity Name"},{"$f":"D9","v":"FTE"},"Time on task (Minutes)","Time on task (Minutes)"]
[1,"Administrative Officer","Check and validate B2B service order (SO)",1,9,{"$f":"(D10*E10)","v":9},{"$f":"IF(OR(\nAND(ISTEXT(B10),ISBLANK(C10)),\nAND(ISTEXT(#REF!),ISBLANK(#REF!))),1,0)","v":0},"Field Worker","Travel to site",2,30,{"$f":"(J10*K10)","v":60},{"$f":"IF(OR(\nAND(ISTEXT(H10),ISBLANK(I10)),\nAND(ISTEXT(#REF!),ISBLANK(#REF!)),\nAND(ISTEXT(#REF!),ISBLANK(#REF!))),1,0)","v":0}]
[{"$f":"IFERROR(A10+1,\"\")","v":2},"Administrative Officer","Accept B2B SO",1,3,{"$f":"(D11*E11)","v":3},{"$f":"IF(OR(\nAND(ISTEXT(B11),ISBLANK(C11)),\nAND(ISTEXT(#REF!),ISBLANK(#REF!))),1,0)","v":0},"Field Worker","Field crew to complete job safety assessment (JSA)",2,5,{"$f":"(J11*K11)","v":10},{"$f":"IF(OR(\nAND(ISTEXT(H11),ISBLANK(I11)),\nAND(ISTEXT(#REF!),ISBLANK(#REF!)),\nAND(ISTEXT(#REF!),ISBLANK(#REF!))),1,0)","v":0}]
[{"$f":"IFERROR(A11+1,\"\")","v":3},"Administrative Officer","Reject B2B SO (if required)",1,3,3,{"$f":"IF(OR(\nAND(ISTEXT(B12),ISBLANK(C12)),\nAND(ISTEXT(#REF!),ISBLANK(#REF!))),1,0)","v":0},"Field Worker","Setup traffic management",2,5,10,{"$f":"IF(OR(\nAND(ISTEXT(H12),ISBLANK(I12)),\nAND(ISTEXT(#REF!),ISBLANK(#REF!)),\nAND(ISTEXT(#REF!),ISBLANK(#REF!))),1,0)","v":0}]
[4,"Administrative Officer","Schedule work as required",1,8,8,{"$f":"IF(OR(\nAND(ISTEXT(B13),ISBLANK(C13)),\nAND(ISTEXT(#REF!),ISBLANK(#REF!))),1,0)","v":0},"Field Worker","Remove existing service cable & meter and install new cable & meter and prepare for testing",2,15,30,{"$f":"IF(OR(\nAND(ISTEXT(H13),ISBLANK(I13)),\nAND(ISTEXT(#REF!),ISBLANK(#REF!)),\nAND(ISTEXT(#REF!),ISBLANK(#REF!))),1,0)","v":0}]
[5,"Administrative Officer","Create SO in SAP",1,7,7,{"$f":"IF(OR(\nAND(ISTEXT(B14),ISBLANK(C14)),\nAND(ISTEXT(#REF!),ISBLANK(#REF!))),1,0)","v":0},"Field Worker","Field crew completes NST testing and seal of meter.",2,5,10,{"$f":"IF(OR(\nAND(ISTEXT(H14),ISBLANK(I14)),\nAND(ISTEXT(#REF!),ISBLANK(#REF!)),\nAND(ISTEXT(#REF!),ISBLANK(#REF!))),1,0)","v":0}]
[6,"Administrative Officer","Send SO to contractor",1,3,3,{"$f":"IF(OR(\nAND(ISTEXT(B15),ISBLANK(C15)),\nAND(ISTEXT(#REF!),ISBLANK(#REF!))),1,0)","v":0},"Field Worker","Field crew completes paperwork, work activity record (WAR), record meter number, and remove traffic control devices.",2,5,10,{"$f":"IF(OR(\nAND(ISTEXT(H15),ISBLANK(I15)),\nAND(ISTEXT(#REF!),ISBLANK(#REF!)),\nAND(ISTEXT(#REF!),ISBLANK(#REF!))),1,0)","v":0}]
[7,"Administrative Officer","Close SO in SAP",1,8,8,{"$f":"IF(OR(\nAND(ISTEXT(B16),ISBLANK(C16)),\nAND(ISTEXT(#REF!),ISBLANK(#REF!))),1,0)","v":0},null,null,null,null,0,{"$f":"IF(OR(\nAND(ISTEXT(H16),ISBLANK(I16)),\nAND(ISTEXT(#REF!),ISBLANK(#REF!)),\nAND(ISTEXT(#REF!),ISBLANK(#REF!))),1,0)","v":0}]
[8,"Administrative Officer","Manage system exceptions, errors and reporting",1,6,6,{"$f":"IF(OR(\nAND(ISTEXT(B17),ISBLANK(C17)),\nAND(ISTEXT(#REF!),ISBLANK(#REF!))),1,0)","v":0},null,null,null,null,0,{"$f":"IF(OR(\nAND(ISTEXT(H17),ISBLANK(I17)),\nAND(ISTEXT(#REF!),ISBLANK(#REF!)),\nAND(ISTEXT(#REF!),ISBLANK(#REF!))),1,0)","v":0}]
[9,"Administrative Officer","Manage phone calls and inquiries",1,7,7,{"$f":"IF(OR(\nAND(ISTEXT(B18),ISBLANK(C18)),\nAND(ISTEXT(#REF!),ISBLANK(#REF!))),1,0)","v":0},null,null,null,null,0,{"$f":"IF(OR(\nAND(ISTEXT(H18),ISBLANK(I18)),\nAND(ISTEXT(#REF!),ISBLANK(#REF!)),\nAND(ISTEXT(#REF!),ISBLANK(#REF!))),1,0)","v":0}]
[10,"Administrative Officer","Administration of Inbox emails, correspondences",1,6,6,{"$f":"IF(OR(\nAND(ISTEXT(B19),ISBLANK(C19)),\nAND(ISTEXT(#REF!),ISBLANK(#REF!))),1,0)","v":0},null,null,null,null,0,{"$f":"IF(OR(\nAND(ISTEXT(H19),ISBLANK(I19)),\nAND(ISTEXT(#REF!),ISBLANK(#REF!)),\nAND(ISTEXT(#REF!),ISBLANK(#REF!))),1,0)","v":0}]
[11,null,null,null,null,0,{"$f":"IF(OR(\nAND(ISTEXT(B20),ISBLANK(C20)),\nAND(ISTEXT(#REF!),ISBLANK(#REF!))),1,0)","v":0},null,null,null,null,0,{"$f":"IF(OR(\nAND(ISTEXT(H20),ISBLANK(I20)),\nAND(ISTEXT(#REF!),ISBLANK(#REF!)),\nAND(ISTEXT(#REF!),ISBLANK(#REF!))),1,0)","v":0}]
[12,null,null,null,null,0,{"$f":"IF(OR(\nAND(ISTEXT(B21),ISBLANK(C21)),\nAND(ISTEXT(#REF!),ISBLANK(#REF!))),1,0)","v":0},null,null,null,null,0,{"$f":"IF(OR(\nAND(ISTEXT(H21),ISBLANK(I21)),\nAND(ISTEXT(#REF!),ISBLANK(#REF!)),\nAND(ISTEXT(#REF!),ISBLANK(#REF!))),1,0)","v":0}]
[13,null,null,null,null,0,{"$f":"IF(OR(\nAND(ISTEXT(B22),ISBLANK(C22)),\nAND(ISTEXT(#REF!),ISBLANK(#REF!))),1,0)","v":0},null,null,null,null,0,{"$f":"IF(OR(\nAND(ISTEXT(H22),ISBLANK(I22)),\nAND(ISTEXT(#REF!),ISBLANK(#REF!)),\nAND(ISTEXT(#REF!),ISBLANK(#REF!))),1,0)","v":0}]
[14,null,null,null,null,0,{"$f":"IF(OR(\nAND(ISTEXT(B23),ISBLANK(C23)),\nAND(ISTEXT(#REF!),ISBLANK(#REF!))),1,0)","v":0},null,null,null,null,0,{"$f":"IF(OR(\nAND(ISTEXT(H23),ISBLANK(I23)),\nAND(ISTEXT(#REF!),ISBLANK(#REF!)),\nAND(ISTEXT(#REF!),ISBLANK(#REF!))),1,0)","v":0}]
[15,null,null,null,null,0,{"$f":"IF(OR(\nAND(ISTEXT(B24),ISBLANK(C24)),\nAND(ISTEXT(#REF!),ISBLANK(#REF!))),1,0)","v":0},null,null,null,null,0,{"$f":"IF(OR(\nAND(ISTEXT(H24),ISBLANK(I24)),\nAND(ISTEXT(#REF!),ISBLANK(#REF!)),\nAND(ISTEXT(#REF!),ISBLANK(#REF!))),1,0)","v":0}]
[16,null,null,null,null,0,{"$f":"IF(OR(\nAND(ISTEXT(B25),ISBLANK(C25)),\nAND(ISTEXT(#REF!),ISBLANK(#REF!))),1,0)","v":0},null,null,null,null,0,{"$f":"IF(OR(\nAND(ISTEXT(H25),ISBLANK(I25)),\nAND(ISTEXT(#REF!),ISBLANK(#REF!)),\nAND(ISTEXT(#REF!),ISBLANK(#REF!))),1,0)","v":0}]
[17,null,null,null,null,0,{"$f":"IF(OR(\nAND(ISTEXT(B26),ISBLANK(C26)),\nAND(ISTEXT(#REF!),ISBLANK(#REF!))),1,0)","v":0},null,null,null,null,0,{"$f":"IF(OR(\nAND(ISTEXT(H26),ISBLANK(I26)),\nAND(ISTEXT(#REF!),ISBLANK(#REF!)),\nAND(ISTEXT(#REF!),ISBLANK(#REF!))),1,0)","v":0}]
[18,null,null,null,null,0,{"$f":"IF(OR(\nAND(ISTEXT(B27),ISBLANK(C27)),\nAND(ISTEXT(#REF!),ISBLANK(#REF!))),1,0)","v":0},null,null,null,null,0,{"$f":"IF(OR(\nAND(ISTEXT(H27),ISBLANK(I27)),\nAND(ISTEXT(#REF!),ISBLANK(#REF!)),\nAND(ISTEXT(#REF!),ISBLANK(#REF!))),1,0)","v":0}]
[19,null,null,null,null,0,{"$f":"IF(OR(\nAND(ISTEXT(B28),ISBLANK(C28)),\nAND(ISTEXT(#REF!),ISBLANK(#REF!))),1,0)","v":0},null,null,null,null,0,{"$f":"IF(OR(\nAND(ISTEXT(H28),ISBLANK(I28)),\nAND(ISTEXT(#REF!),ISBLANK(#REF!)),\nAND(ISTEXT(#REF!),ISBLANK(#REF!))),1,0)","v":0}]
[20,null,null,null,null,0,{"$f":"IF(OR(\nAND(ISTEXT(B29),ISBLANK(C29)),\nAND(ISTEXT(#REF!),ISBLANK(#REF!))),1,0)","v":0},null,null,null,null,0,{"$f":"IF(OR(\nAND(ISTEXT(H29),ISBLANK(I29)),\nAND(ISTEXT(#REF!),ISBLANK(#REF!)),\nAND(ISTEXT(#REF!),ISBLANK(#REF!))),1,0)","v":0}]
[null,null,null,null,"Total Minutes",{"$f":"SUM(F10:F29)","v":60},null,null,null,null,"Total Minutes",{"$f":"SUM(L10:L29)","v":130}]
[]
[null,{"$f":"$B$2&\" - Non Labour Breakdown\"","v":"SUTK - Non Labour Breakdown"}]
[]
[null,"Materials",null,null,null,null,{"$f":"IF(SUM(G36:G55)=0,0,1)","v":0},"Vehicle",null,null,null,null,null,{"$f":"IF(SUM(N36:N55)=0,0,1)","v":0},"Other Costs",null,null,{"$f":"IF(SUM(R36:R55)=0,0,1)","v":0}]
[null,"Material Code","Material Name","Number of Units","Unit Cost \n($)","Cost of Unit\n($)",null,"Vehicle Code","Vehicle Name","Number of Units","Hire Time (Minutes)","Hourly Unit Rate\n($)","Cost of Unit\n($)",null,"Notes and sources for \"Other costs\"","Cost\n($)","Cost of Unit\n($)"]
[1,null,null,null,null,null,{"$f":"IF(OR(\nAND(ISTEXT(B36),ISBLANK(C36))),1,0)","v":0},null,"Plant – Elevated Work Platform (small) and Cable Test Van- Average cost",1,65,{"$f":"43.1351164210975*1.23574","v":53.303788766207028},{"$f":"L36*(K36/60)*J36","v":57.745771163390941},{"$f":"IF(OR(\nAND(ISTEXT(H36),ISBLANK(I36))),1,0)","v":0},null,null,{"$f":"P36","v":0},{"$f":"IF(OR(\nAND(ISTEXT(O36),ISBLANK(#REF!))),1,0)","v":0}]
[{"$f":"IFERROR(A36+1,\"\")","v":2},null,null,null,null,null,0,null,null,null,null,null,{"$f":"L37*(K37/60)*J37","v":0},0,null,null,{"$f":"P37","v":0},{"$f":"IF(OR(\nAND(ISTEXT(O37),ISBLANK(#REF!))),1,0)","v":0}]
[{"$f":"IFERROR(A37+1,\"\")","v":3},null,null,null,null,null,0,null,null,null,null,null,0,0,null,null,0,{"$f":"IF(OR(\nAND(ISTEXT(O38),ISBLANK(#REF!))),1,0)","v":0}]
[4,null,null,null,null,null,0,null,null,null,null,null,0,0,null,null,0,{"$f":"IF(OR(\nAND(ISTEXT(O39),ISBLANK(#REF!))),1,0)","v":0}]
[5,null,null,null,null,null,0,null,null,null,null,null,0,0,null,null,0,{"$f":"IF(OR(\nAND(ISTEXT(O40),ISBLANK(#REF!))),1,0)","v":0}]
[6,null,null,null,null,null,0,null,null,null,null,null,0,0,null,null,0,{"$f":"IF(OR(\nAND(ISTEXT(O41),ISBLANK(#REF!))),1,0)","v":0}]
[7,null,null,null,null,null,0,null,null,null,null,null,0,0,null,null,0,{"$f":"IF(OR(\nAND(ISTEXT(O42),ISBLANK(#REF!))),1,0)","v":0}]
[8,null,null,null,null,null,0,null,null,null,null,null,0,0,null,null,0,{"$f":"IF(OR(\nAND(ISTEXT(O43),ISBLANK(#REF!))),1,0)","v":0}]
[9,null,null,null,null,null,0,null,null,null,null,null,0,0,null,null,0,{"$f":"IF(OR(\nAND(ISTEXT(O44),ISBLANK(#REF!))),1,0)","v":0}]
[10,null,null,null,null,null,0,null,null,null,null,null,0,0,null,null,0,{"$f":"IF(OR(\nAND(ISTEXT(O45),ISBLANK(#REF!))),1,0)","v":0}]
[11,null,null,null,null,null,0,null,null,null,null,null,0,0,null,null,0,{"$f":"IF(OR(\nAND(ISTEXT(O46),ISBLANK(#REF!))),1,0)","v":0}]
[12,null,null,null,null,null,0,null,null,null,null,null,0,0,null,null,0,{"$f":"IF(OR(\nAND(ISTEXT(O47),ISBLANK(#REF!))),1,0)","v":0}]
[13,null,null,null,null,null,0,null,null,null,null,null,0,0,null,null,0,{"$f":"IF(OR(\nAND(ISTEXT(O48),ISBLANK(#REF!))),1,0)","v":0}]
[14,null,null,null,null,null,0,null,null,null,null,null,0,0,null,null,0,{"$f":"IF(OR(\nAND(ISTEXT(O49),ISBLANK(#REF!))),1,0)","v":0}]
[15,null,null,null,null,null,0,null,null,null,null,null,0,0,null,null,0,{"$f":"IF(OR(\nAND(ISTEXT(O50),ISBLANK(#REF!))),1,0)","v":0}]
[16,null,null,null,null,null,0,null,null,null,null,null,0,0,null,null,0,{"$f":"IF(OR(\nAND(ISTEXT(O51),ISBLANK(#REF!))),1,0)","v":0}]
[17,null,null,null,null,null,0,null,null,null,null,null,0,0,null,null,0,{"$f":"IF(OR(\nAND(ISTEXT(O52),ISBLANK(#REF!))),1,0)","v":0}]
[18,null,null,null,null,null,0,null,null,null,null,null,0,0,null,null,0,{"$f":"IF(OR(\nAND(ISTEXT(O53),ISBLANK(#REF!))),1,0)","v":0}]
[19,null,null,null,null,null,0,null,null,null,null,null,0,0,null,null,0,{"$f":"IF(OR(\nAND(ISTEXT(O54),ISBLANK(#REF!))),1,0)","v":0}]
[20,null,null,null,null,null,0,null,null,null,null,null,0,0,null,null,0,{"$f":"IF(OR(\nAND(ISTEXT(O55),ISBLANK(#REF!))),1,0)","v":0}]
[null,null,null,null,"Materials Total",305.87271155999997,null,null,null,null,null,"Vehicle Total",{"$f":"SUM(M36:M55)","v":57.745771163390941},null,null,"Other Cost Total",{"$f":"SUM(Q36:Q55)","v":0}]

{"sheet":"RTK1","index":22,"n_rows":56,"n_cols":18,"rows_kept":56,"cut":false,"hidden":false,"merged":[]}
[null,{"$f":"IFERROR(Index!B1,\"\")","v":"Jemena Electricity Networks – Alternative Control Services Forecast model"},null,"Key:","Input",null,null,null,"Sheet Validation",{"$f":"IF(SUM(G8+M8+G34+N34+R34)=0,0,1)","v":0}]
[null,{"$f":"IFERROR(MID(CELL(\"filename\",A1),FIND(\"]\",CELL(\"filename\",A1))+1,255),\"\")","v":"RTK1"},null,null,"Formula"]
[]
[]
[]
[null,{"$f":"$B$2&\" - Labour Breakdown\"","v":"RTK1 - Labour Breakdown"}]
[]
[null,"Non-field based labour",null,null,null,null,{"$f":"IF(SUM(G10:G29)=0,0,1)","v":0},"Field based labour",null,null,null,null,{"$f":"IF(SUM(M10:M29)=0,0,1)","v":0}]
[null,"Labour Category","Activity Name","FTE","Time on task (Minutes)","Labour Totals",null,"Labour Category",{"$f":"C9","v":"Activity Name"},{"$f":"D9","v":"FTE"},"Time on task (Minutes)","Time on task (Minutes)"]
[1,"Administrative Officer","Check and validate B2B service order (SO)",1,9,{"$f":"(D10*E10)","v":9},{"$f":"IF(OR(\nAND(ISTEXT(B10),ISBLANK(C10)),\nAND(ISTEXT(#REF!),ISBLANK(#REF!))),1,0)","v":0},"Field Worker","Travel to site",2,30,{"$f":"(J10*K10)","v":60},{"$f":"IF(OR(\nAND(ISTEXT(H10),ISBLANK(I10)),\nAND(ISTEXT(#REF!),ISBLANK(#REF!)),\nAND(ISTEXT(#REF!),ISBLANK(#REF!))),1,0)","v":0}]
[{"$f":"IFERROR(A10+1,\"\")","v":2},"Administrative Officer","Accept B2B SO",1,3,{"$f":"(D11*E11)","v":3},{"$f":"IF(OR(\nAND(ISTEXT(B11),ISBLANK(C11)),\nAND(ISTEXT(#REF!),ISBLANK(#REF!))),1,0)","v":0},"Field Worker","Field crew to complete job safety assessment (JSA)",2,5,{"$f":"(J11*K11)","v":10},{"$f":"IF(OR(\nAND(ISTEXT(H11),ISBLANK(I11)),\nAND(ISTEXT(#REF!),ISBLANK(#REF!)),\nAND(ISTEXT(#REF!),ISBLANK(#REF!))),1,0)","v":0}]
[{"$f":"IFERROR(A11+1,\"\")","v":3},"Administrative Officer","Reject B2B SO (if required)",1,3,3,{"$f":"IF(OR(\nAND(ISTEXT(B12),ISBLANK(C12)),\nAND(ISTEXT(#REF!),ISBLANK(#REF!))),1,0)","v":0},"Field Worker","Setup traffic management",2,5,10,{"$f":"IF(OR(\nAND(ISTEXT(H12),ISBLANK(I12)),\nAND(ISTEXT(#REF!),ISBLANK(#REF!)),\nAND(ISTEXT(#REF!),ISBLANK(#REF!))),1,0)","v":0}]
[4,"Administrative Officer","Schedule work as required",1,8,8,{"$f":"IF(OR(\nAND(ISTEXT(B13),ISBLANK(C13)),\nAND(ISTEXT(#REF!),ISBLANK(#REF!))),1,0)","v":0},"Field Worker","Relocate service cable, connect service cable, and prepare installation for testing",2,15,30,{"$f":"IF(OR(\nAND(ISTEXT(H13),ISBLANK(I13)),\nAND(ISTEXT(#REF!),ISBLANK(#REF!)),\nAND(ISTEXT(#REF!),ISBLANK(#REF!))),1,0)","v":0}]
[5,"Administrative Officer","Create SO in SAP",1,7,7,{"$f":"IF(OR(\nAND(ISTEXT(B14),ISBLANK(C14)),\nAND(ISTEXT(#REF!),ISBLANK(#REF!))),1,0)","v":0},"Field Worker","Field crew to complete NST testing",2,5,10,{"$f":"IF(OR(\nAND(ISTEXT(H14),ISBLANK(I14)),\nAND(ISTEXT(#REF!),ISBLANK(#REF!)),\nAND(ISTEXT(#REF!),ISBLANK(#REF!))),1,0)","v":0}]
[6,"Administrative Officer","Send SO to contractor",1,3,3,{"$f":"IF(OR(\nAND(ISTEXT(B15),ISBLANK(C15)),\nAND(ISTEXT(#REF!),ISBLANK(#REF!))),1,0)","v":0},"Field Worker","Field crew completes paperwork, work activity record (WAR), record meter number, and remove traffic control devices.",2,5,10,{"$f":"IF(OR(\nAND(ISTEXT(H15),ISBLANK(I15)),\nAND(ISTEXT(#REF!),ISBLANK(#REF!)),\nAND(ISTEXT(#REF!),ISBLANK(#REF!))),1,0)","v":0}]
[7,"Administrative Officer","Close SO in SAP",1,8,8,{"$f":"IF(OR(\nAND(ISTEXT(B16),ISBLANK(C16)),\nAND(ISTEXT(#REF!),ISBLANK(#REF!))),1,0)","v":0},null,null,null,null,0,{"$f":"IF(OR(\nAND(ISTEXT(H16),ISBLANK(I16)),\nAND(ISTEXT(#REF!),ISBLANK(#REF!)),\nAND(ISTEXT(#REF!),ISBLANK(#REF!))),1,0)","v":0}]
[8,"Administrative Officer","Manage system exceptions, errors and reporting",1,6,6,{"$f":"IF(OR(\nAND(ISTEXT(B17),ISBLANK(C17)),\nAND(ISTEXT(#REF!),ISBLANK(#REF!))),1,0)","v":0},null,null,null,null,0,{"$f":"IF(OR(\nAND(ISTEXT(H17),ISBLANK(I17)),\nAND(ISTEXT(#REF!),ISBLANK(#REF!)),\nAND(ISTEXT(#REF!),ISBLANK(#REF!))),1,0)","v":0}]
[9,"Administrative Officer","Manage phone calls and inquiries",1,7,7,{"$f":"IF(OR(\nAND(ISTEXT(B18),ISBLANK(C18)),\nAND(ISTEXT(#REF!),ISBLANK(#REF!))),1,0)","v":0},null,null,null,null,0,{"$f":"IF(OR(\nAND(ISTEXT(H18),ISBLANK(I18)),\nAND(ISTEXT(#REF!),ISBLANK(#REF!)),\nAND(ISTEXT(#REF!),ISBLANK(#REF!))),1,0)","v":0}]
[10,"Administrative Officer","Administration of Inbox emails, correspondences",1,6,6,{"$f":"IF(OR(\nAND(ISTEXT(B19),ISBLANK(C19)),\nAND(ISTEXT(#REF!),ISBLANK(#REF!))),1,0)","v":0},null,null,null,null,0,{"$f":"IF(OR(\nAND(ISTEXT(H19),ISBLANK(I19)),\nAND(ISTEXT(#REF!),ISBLANK(#REF!)),\nAND(ISTEXT(#REF!),ISBLANK(#REF!))),1,0)","v":0}]
[11,null,null,null,null,0,{"$f":"IF(OR(\nAND(ISTEXT(B20),ISBLANK(C20)),\nAND(ISTEXT(#REF!),ISBLANK(#REF!))),1,0)","v":0},null,null,null,null,0,{"$f":"IF(OR(\nAND(ISTEXT(H20),ISBLANK(I20)),\nAND(ISTEXT(#REF!),ISBLANK(#REF!)),\nAND(ISTEXT(#REF!),ISBLANK(#REF!))),1,0)","v":0}]
[12,null,null,null,null,0,{"$f":"IF(OR(\nAND(ISTEXT(B21),ISBLANK(C21)),\nAND(ISTEXT(#REF!),ISBLANK(#REF!))),1,0)","v":0},null,null,null,null,0,{"$f":"IF(OR(\nAND(ISTEXT(H21),ISBLANK(I21)),\nAND(ISTEXT(#REF!),ISBLANK(#REF!)),\nAND(ISTEXT(#REF!),ISBLANK(#REF!))),1,0)","v":0}]
[13,null,null,null,null,0,{"$f":"IF(OR(\nAND(ISTEXT(B22),ISBLANK(C22)),\nAND(ISTEXT(#REF!),ISBLANK(#REF!))),1,0)","v":0},null,null,null,null,0,{"$f":"IF(OR(\nAND(ISTEXT(H22),ISBLANK(I22)),\nAND(ISTEXT(#REF!),ISBLANK(#REF!)),\nAND(ISTEXT(#REF!),ISBLANK(#REF!))),1,0)","v":0}]
[14,null,null,null,null,0,{"$f":"IF(OR(\nAND(ISTEXT(B23),ISBLANK(C23)),\nAND(ISTEXT(#REF!),ISBLANK(#REF!))),1,0)","v":0},null,null,null,null,0,{"$f":"IF(OR(\nAND(ISTEXT(H23),ISBLANK(I23)),\nAND(ISTEXT(#REF!),ISBLANK(#REF!)),\nAND(ISTEXT(#REF!),ISBLANK(#REF!))),1,0)","v":0}]
[15,null,null,null,null,0,{"$f":"IF(OR(\nAND(ISTEXT(B24),ISBLANK(C24)),\nAND(ISTEXT(#REF!),ISBLANK(#REF!))),1,0)","v":0},null,null,null,null,0,{"$f":"IF(OR(\nAND(ISTEXT(H24),ISBLANK(I24)),\nAND(ISTEXT(#REF!),ISBLANK(#REF!)),\nAND(ISTEXT(#REF!),ISBLANK(#REF!))),1,0)","v":0}]
[16,null,null,null,null,0,{"$f":"IF(OR(\nAND(ISTEXT(B25),ISBLANK(C25)),\nAND(ISTEXT(#REF!),ISBLANK(#REF!))),1,0)","v":0},null,null,null,null,0,{"$f":"IF(OR(\nAND(ISTEXT(H25),ISBLANK(I25)),\nAND(ISTEXT(#REF!),ISBLANK(#REF!)),\nAND(ISTEXT(#REF!),ISBLANK(#REF!))),1,0)","v":0}]
[17,null,null,null,null,0,{"$f":"IF(OR(\nAND(ISTEXT(B26),ISBLANK(C26)),\nAND(ISTEXT(#REF!),ISBLANK(#REF!))),1,0)","v":0},null,null,null,null,0,{"$f":"IF(OR(\nAND(ISTEXT(H26),ISBLANK(I26)),\nAND(ISTEXT(#REF!),ISBLANK(#REF!)),\nAND(ISTEXT(#REF!),ISBLANK(#REF!))),1,0)","v":0}]
[18,null,null,null,null,0,{"$f":"IF(OR(\nAND(ISTEXT(B27),ISBLANK(C27)),\nAND(ISTEXT(#REF!),ISBLANK(#REF!))),1,0)","v":0},null,null,null,null,0,{"$f":"IF(OR(\nAND(ISTEXT(H27),ISBLANK(I27)),\nAND(ISTEXT(#REF!),ISBLANK(#REF!)),\nAND(ISTEXT(#REF!),ISBLANK(#REF!))),1,0)","v":0}]
[19,null,null,null,null,0,{"$f":"IF(OR(\nAND(ISTEXT(B28),ISBLANK(C28)),\nAND(ISTEXT(#REF!),ISBLANK(#REF!))),1,0)","v":0},null,null,null,null,0,{"$f":"IF(OR(\nAND(ISTEXT(H28),ISBLANK(I28)),\nAND(ISTEXT(#REF!),ISBLANK(#REF!)),\nAND(ISTEXT(#REF!),ISBLANK(#REF!))),1,0)","v":0}]
[20,null,null,null,null,0,{"$f":"IF(OR(\nAND(ISTEXT(B29),ISBLANK(C29)),\nAND(ISTEXT(#REF!),ISBLANK(#REF!))),1,0)","v":0},null,null,null,null,0,{"$f":"IF(OR(\nAND(ISTEXT(H29),ISBLANK(I29)),\nAND(ISTEXT(#REF!),ISBLANK(#REF!)),\nAND(ISTEXT(#REF!),ISBLANK(#REF!))),1,0)","v":0}]
[null,null,null,null,"Total Minutes",{"$f":"SUM(F10:F29)","v":60},null,null,null,null,"Total Minutes",{"$f":"SUM(L10:L29)","v":130}]
[]
[null,{"$f":"$B$2&\" - Non Labour Breakdown\"","v":"RTK1 - Non Labour Breakdown"}]
[]
[null,"Materials",null,null,null,null,{"$f":"IF(SUM(G36:G55)=0,0,1)","v":0},"Vehicle",null,null,null,null,null,{"$f":"IF(SUM(N36:N55)=0,0,1)","v":0},"Other Costs",null,null,{"$f":"IF(SUM(R36:R55)=0,0,1)","v":0}]
[null,"Material Code","Material Name","Number of Units","Unit Cost \n($)","Cost of Unit\n($)",null,"Vehicle Code","Vehicle Name","Number of Units","Hire Time (Minutes)","Hourly Unit Rate\n($)","Cost of Unit\n($)",null,"Notes and sources for \"Other costs\"","Cost\n($)","Cost of Unit\n($)"]
[1,null,null,null,null,null,{"$f":"IF(OR(\nAND(ISTEXT(B36),ISBLANK(C36))),1,0)","v":0},null,"Plant – Elevated Work Platform (small)",1,65,{"$f":"60.623572540299*1.23574","v":74.914973530949098},{"$f":"L36*(K36/60)*J36","v":81.157887991861514},{"$f":"IF(OR(\nAND(ISTEXT(H36),ISBLANK(I36))),1,0)","v":0},null,null,{"$f":"P36","v":0},{"$f":"IF(OR(\nAND(ISTEXT(O36),ISBLANK(#REF!))),1,0)","v":0}]
[{"$f":"IFERROR(A36+1,\"\")","v":2},null,null,null,null,null,0,null,null,null,null,null,{"$f":"L37*(K37/60)*J37","v":0},0,null,null,{"$f":"P37","v":0},{"$f":"IF(OR(\nAND(ISTEXT(O37),ISBLANK(#REF!))),1,0)","v":0}]
[{"$f":"IFERROR(A37+1,\"\")","v":3},null,null,null,null,null,0,null,null,null,null,null,0,0,null,null,0,{"$f":"IF(OR(\nAND(ISTEXT(O38),ISBLANK(#REF!))),1,0)","v":0}]
[4,null,null,null,null,null,0,null,null,null,null,null,0,0,null,null,0,{"$f":"IF(OR(\nAND(ISTEXT(O39),ISBLANK(#REF!))),1,0)","v":0}]
[5,null,null,null,null,null,0,null,null,null,null,null,0,0,null,null,0,{"$f":"IF(OR(\nAND(ISTEXT(O40),ISBLANK(#REF!))),1,0)","v":0}]
[6,null,null,null,null,null,0,null,null,null,null,null,0,0,null,null,0,{"$f":"IF(OR(\nAND(ISTEXT(O41),ISBLANK(#REF!))),1,0)","v":0}]
[7,null,null,null,null,null,0,null,null,null,null,null,0,0,null,null,0,{"$f":"IF(OR(\nAND(ISTEXT(O42),ISBLANK(#REF!))),1,0)","v":0}]
[8,null,null,null,null,null,0,null,null,null,null,null,0,0,null,null,0,{"$f":"IF(OR(\nAND(ISTEXT(O43),ISBLANK(#REF!))),1,0)","v":0}]
[9,null,null,null,null,null,0,null,null,null,null,null,0,0,null,null,0,{"$f":"IF(OR(\nAND(ISTEXT(O44),ISBLANK(#REF!))),1,0)","v":0}]
[10,null,null,null,null,null,0,null,null,null,null,null,0,0,null,null,0,{"$f":"IF(OR(\nAND(ISTEXT(O45),ISBLANK(#REF!))),1,0)","v":0}]
[11,null,null,null,null,null,0,null,null,null,null,null,0,0,null,null,0,{"$f":"IF(OR(\nAND(ISTEXT(O46),ISBLANK(#REF!))),1,0)","v":0}]
[12,null,null,null,null,null,0,null,null,null,null,null,0,0,null,null,0,{"$f":"IF(OR(\nAND(ISTEXT(O47),ISBLANK(#REF!))),1,0)","v":0}]
[13,null,null,null,null,null,0,null,null,null,null,null,0,0,null,null,0,{"$f":"IF(OR(\nAND(ISTEXT(O48),ISBLANK(#REF!))),1,0)","v":0}]
[14,null,null,null,null,null,0,null,null,null,null,null,0,0,null,null,0,{"$f":"IF(OR(\nAND(ISTEXT(O49),ISBLANK(#REF!))),1,0)","v":0}]
[15,null,null,null,null,null,0,null,null,null,null,null,0,0,null,null,0,{"$f":"IF(OR(\nAND(ISTEXT(O50),ISBLANK(#REF!))),1,0)","v":0}]
[16,null,null,null,null,null,0,null,null,null,null,null,0,0,null,null,0,{"$f":"IF(OR(\nAND(ISTEXT(O51),ISBLANK(#REF!))),1,0)","v":0}]
[17,null,null,null,null,null,0,null,null,null,null,null,0,0,null,null,0,{"$f":"IF(OR(\nAND(ISTEXT(O52),ISBLANK(#REF!))),1,0)","v":0}]
[18,null,null,null,null,null,0,null,null,null,null,null,0,0,null,null,0,{"$f":"IF(OR(\nAND(ISTEXT(O53),ISBLANK(#REF!))),1,0)","v":0}]
[19,null,null,null,null,null,0,null,null,null,null,null,0,0,null,null,0,{"$f":"IF(OR(\nAND(ISTEXT(O54),ISBLANK(#REF!))),1,0)","v":0}]
[20,null,null,null,null,null,0,null,null,null,null,null,0,0,null,null,0,{"$f":"IF(OR(\nAND(ISTEXT(O55),ISBLANK(#REF!))),1,0)","v":0}]
[null,null,null,null,"Materials Total",122.02743955999999,null,null,null,null,null,"Vehicle Total",{"$f":"SUM(M36:M55)","v":81.157887991861514},null,null,"Other Cost Total",{"$f":"SUM(Q36:Q55)","v":0}]

{"sheet":"REEN","index":23,"n_rows":56,"n_cols":18,"rows_kept":56,"cut":false,"hidden":false,"merged":[]}
[null,{"$f":"IFERROR(Index!B1,\"\")","v":"Jemena Electricity Networks – Alternative Control Services Forecast model"},null,"Key:","Input",null,null,null,"Sheet Validation",{"$f":"IF(SUM(G8+M8+G34+N34+R34)=0,0,1)","v":0}]
[null,{"$f":"IFERROR(MID(CELL(\"filename\",A1),FIND(\"]\",CELL(\"filename\",A1))+1,255),\"\")","v":"REEN"},null,null,"Formula"]
[]
[]
[]
[null,{"$f":"$B$2&\" - Labour Breakdown\"","v":"REEN - Labour Breakdown"}]
[]
[null,"Non-field based labour",null,null,null,null,{"$f":"IF(SUM(G10:G29)=0,0,1)","v":0},"Field based labour",null,null,null,null,{"$f":"IF(SUM(M10:M29)=0,0,1)","v":0}]
[null,"Labour Category","Activity Name","FTE","Time on task (Minutes)","Labour Totals",null,"Labour Category",{"$f":"C9","v":"Activity Name"},{"$f":"D9","v":"FTE"},"Time on task (Minutes)","Time on task (Minutes)"]
[1,"Administrative Officer","Check, validate and accept B2B service order (SO)",1,3,{"$f":"(D10*E10)","v":3},{"$f":"IF(OR(\nAND(ISTEXT(B10),ISBLANK(C10)),\nAND(ISTEXT(#REF!),ISBLANK(#REF!))),1,0)","v":0},"Field Worker","Travel to site",1,20,{"$f":"(J10*K10)","v":20},{"$f":"IF(OR(\nAND(ISTEXT(H10),ISBLANK(I10)),\nAND(ISTEXT(#REF!),ISBLANK(#REF!)),\nAND(ISTEXT(#REF!),ISBLANK(#REF!))),1,0)","v":0}]
[{"$f":"IFERROR(A10+1,\"\")","v":2},"Administrative Officer","Create SO in SAP and send it to the contractor",1,2.2999999999999998,{"$f":"(D11*E11)","v":2.2999999999999998},{"$f":"IF(OR(\nAND(ISTEXT(B11),ISBLANK(C11)),\nAND(ISTEXT(#REF!),ISBLANK(#REF!))),1,0)","v":0},"Field Worker","Field work",1,15,{"$f":"(J11*K11)","v":15},{"$f":"IF(OR(\nAND(ISTEXT(H11),ISBLANK(I11)),\nAND(ISTEXT(#REF!),ISBLANK(#REF!)),\nAND(ISTEXT(#REF!),ISBLANK(#REF!))),1,0)","v":0}]
[{"$f":"IFERROR(A11+1,\"\")","v":3},"Administrative Officer","Close SO in SAP after the contractor has completed SO",1,3.9,3.9,{"$f":"IF(OR(\nAND(ISTEXT(B12),ISBLANK(C12)),\nAND(ISTEXT(#REF!),ISBLANK(#REF!))),1,0)","v":0},null,null,null,null,0,{"$f":"IF(OR(\nAND(ISTEXT(H12),ISBLANK(I12)),\nAND(ISTEXT(#REF!),ISBLANK(#REF!)),\nAND(ISTEXT(#REF!),ISBLANK(#REF!))),1,0)","v":0}]
[4,"Administrative Officer","Manage system exceptions, errors and reporting",1,3.5,3.5,{"$f":"IF(OR(\nAND(ISTEXT(B13),ISBLANK(C13)),\nAND(ISTEXT(#REF!),ISBLANK(#REF!))),1,0)","v":0},null,null,null,null,0,{"$f":"IF(OR(\nAND(ISTEXT(H13),ISBLANK(I13)),\nAND(ISTEXT(#REF!),ISBLANK(#REF!)),\nAND(ISTEXT(#REF!),ISBLANK(#REF!))),1,0)","v":0}]
[5,null,null,null,null,0,{"$f":"IF(OR(\nAND(ISTEXT(B14),ISBLANK(C14)),\nAND(ISTEXT(#REF!),ISBLANK(#REF!))),1,0)","v":0},null,null,null,null,0,{"$f":"IF(OR(\nAND(ISTEXT(H14),ISBLANK(I14)),\nAND(ISTEXT(#REF!),ISBLANK(#REF!)),\nAND(ISTEXT(#REF!),ISBLANK(#REF!))),1,0)","v":0}]
[6,null,null,null,null,0,{"$f":"IF(OR(\nAND(ISTEXT(B15),ISBLANK(C15)),\nAND(ISTEXT(#REF!),ISBLANK(#REF!))),1,0)","v":0},null,null,null,null,0,{"$f":"IF(OR(\nAND(ISTEXT(H15),ISBLANK(I15)),\nAND(ISTEXT(#REF!),ISBLANK(#REF!)),\nAND(ISTEXT(#REF!),ISBLANK(#REF!))),1,0)","v":0}]
[7,null,null,null,null,0,{"$f":"IF(OR(\nAND(ISTEXT(B16),ISBLANK(C16)),\nAND(ISTEXT(#REF!),ISBLANK(#REF!))),1,0)","v":0},null,null,null,null,0,{"$f":"IF(OR(\nAND(ISTEXT(H16),ISBLANK(I16)),\nAND(ISTEXT(#REF!),ISBLANK(#REF!)),\nAND(ISTEXT(#REF!),ISBLANK(#REF!))),1,0)","v":0}]
[8,null,null,null,null,0,{"$f":"IF(OR(\nAND(ISTEXT(B17),ISBLANK(C17)),\nAND(ISTEXT(#REF!),ISBLANK(#REF!))),1,0)","v":0},null,null,null,null,0,{"$f":"IF(OR(\nAND(ISTEXT(H17),ISBLANK(I17)),\nAND(ISTEXT(#REF!),ISBLANK(#REF!)),\nAND(ISTEXT(#REF!),ISBLANK(#REF!))),1,0)","v":0}]
[9,null,null,null,null,0,{"$f":"IF(OR(\nAND(ISTEXT(B18),ISBLANK(C18)),\nAND(ISTEXT(#REF!),ISBLANK(#REF!))),1,0)","v":0},null,null,null,null,0,{"$f":"IF(OR(\nAND(ISTEXT(H18),ISBLANK(I18)),\nAND(ISTEXT(#REF!),ISBLANK(#REF!)),\nAND(ISTEXT(#REF!),ISBLANK(#REF!))),1,0)","v":0}]
[10,null,null,null,null,0,{"$f":"IF(OR(\nAND(ISTEXT(B19),ISBLANK(C19)),\nAND(ISTEXT(#REF!),ISBLANK(#REF!))),1,0)","v":0},null,null,null,null,0,{"$f":"IF(OR(\nAND(ISTEXT(H19),ISBLANK(I19)),\nAND(ISTEXT(#REF!),ISBLANK(#REF!)),\nAND(ISTEXT(#REF!),ISBLANK(#REF!))),1,0)","v":0}]
[11,null,null,null,null,0,{"$f":"IF(OR(\nAND(ISTEXT(B20),ISBLANK(C20)),\nAND(ISTEXT(#REF!),ISBLANK(#REF!))),1,0)","v":0},null,null,null,null,0,{"$f":"IF(OR(\nAND(ISTEXT(H20),ISBLANK(I20)),\nAND(ISTEXT(#REF!),ISBLANK(#REF!)),\nAND(ISTEXT(#REF!),ISBLANK(#REF!))),1,0)","v":0}]
[12,null,null,null,null,0,{"$f":"IF(OR(\nAND(ISTEXT(B21),ISBLANK(C21)),\nAND(ISTEXT(#REF!),ISBLANK(#REF!))),1,0)","v":0},null,null,null,null,0,{"$f":"IF(OR(\nAND(ISTEXT(H21),ISBLANK(I21)),\nAND(ISTEXT(#REF!),ISBLANK(#REF!)),\nAND(ISTEXT(#REF!),ISBLANK(#REF!))),1,0)","v":0}]
[13,null,null,null,null,0,{"$f":"IF(OR(\nAND(ISTEXT(B22),ISBLANK(C22)),\nAND(ISTEXT(#REF!),ISBLANK(#REF!))),1,0)","v":0},null,null,null,null,0,{"$f":"IF(OR(\nAND(ISTEXT(H22),ISBLANK(I22)),\nAND(ISTEXT(#REF!),ISBLANK(#REF!)),\nAND(ISTEXT(#REF!),ISBLANK(#REF!))),1,0)","v":0}]
[14,null,null,null,null,0,{"$f":"IF(OR(\nAND(ISTEXT(B23),ISBLANK(C23)),\nAND(ISTEXT(#REF!),ISBLANK(#REF!))),1,0)","v":0},null,null,null,null,0,{"$f":"IF(OR(\nAND(ISTEXT(H23),ISBLANK(I23)),\nAND(ISTEXT(#REF!),ISBLANK(#REF!)),\nAND(ISTEXT(#REF!),ISBLANK(#REF!))),1,0)","v":0}]
[15,null,null,null,null,0,{"$f":"IF(OR(\nAND(ISTEXT(B24),ISBLANK(C24)),\nAND(ISTEXT(#REF!),ISBLANK(#REF!))),1,0)","v":0},null,null,null,null,0,{"$f":"IF(OR(\nAND(ISTEXT(H24),ISBLANK(I24)),\nAND(ISTEXT(#REF!),ISBLANK(#REF!)),\nAND(ISTEXT(#REF!),ISBLANK(#REF!))),1,0)","v":0}]
[16,null,null,null,null,0,{"$f":"IF(OR(\nAND(ISTEXT(B25),ISBLANK(C25)),\nAND(ISTEXT(#REF!),ISBLANK(#REF!))),1,0)","v":0},null,null,null,null,0,{"$f":"IF(OR(\nAND(ISTEXT(H25),ISBLANK(I25)),\nAND(ISTEXT(#REF!),ISBLANK(#REF!)),\nAND(ISTEXT(#REF!),ISBLANK(#REF!))),1,0)","v":0}]
[17,null,null,null,null,0,{"$f":"IF(OR(\nAND(ISTEXT(B26),ISBLANK(C26)),\nAND(ISTEXT(#REF!),ISBLANK(#REF!))),1,0)","v":0},null,null,null,null,0,{"$f":"IF(OR(\nAND(ISTEXT(H26),ISBLANK(I26)),\nAND(ISTEXT(#REF!),ISBLANK(#REF!)),\nAND(ISTEXT(#REF!),ISBLANK(#REF!))),1,0)","v":0}]
[18,null,null,null,null,0,{"$f":"IF(OR(\nAND(ISTEXT(B27),ISBLANK(C27)),\nAND(ISTEXT(#REF!),ISBLANK(#REF!))),1,0)","v":0},null,null,null,null,0,{"$f":"IF(OR(\nAND(ISTEXT(H27),ISBLANK(I27)),\nAND(ISTEXT(#REF!),ISBLANK(#REF!)),\nAND(ISTEXT(#REF!),ISBLANK(#REF!))),1,0)","v":0}]
[19,null,null,null,null,0,{"$f":"IF(OR(\nAND(ISTEXT(B28),ISBLANK(C28)),\nAND(ISTEXT(#REF!),ISBLANK(#REF!))),1,0)","v":0},null,null,null,null,0,{"$f":"IF(OR(\nAND(ISTEXT(H28),ISBLANK(I28)),\nAND(ISTEXT(#REF!),ISBLANK(#REF!)),\nAND(ISTEXT(#REF!),ISBLANK(#REF!))),1,0)","v":0}]
[20,null,null,null,null,0,{"$f":"IF(OR(\nAND(ISTEXT(B29),ISBLANK(C29)),\nAND(ISTEXT(#REF!),ISBLANK(#REF!))),1,0)","v":0},null,null,null,null,0,{"$f":"IF(OR(\nAND(ISTEXT(H29),ISBLANK(I29)),\nAND(ISTEXT(#REF!),ISBLANK(#REF!)),\nAND(ISTEXT(#REF!),ISBLANK(#REF!))),1,0)","v":0}]
[null,null,null,null,"Total Minutes",{"$f":"SUM(F10:F29)","v":12.7},null,null,null,null,"Total Minutes",{"$f":"SUM(L10:L29)","v":35}]
[]
[null,{"$f":"$B$2&\" - Non Labour Breakdown\"","v":"REEN - Non Labour Breakdown"}]
[]
[null,"Materials",null,null,null,null,{"$f":"IF(SUM(G36:G55)=0,0,1)","v":0},"Vehicle",null,null,null,null,null,{"$f":"IF(SUM(N36:N55)=0,0,1)","v":0},"Other Costs",null,null,{"$f":"IF(SUM(R36:R55)=0,0,1)","v":0}]
[null,"Material Code","Material Name","Number of Units","Unit Cost \n($)","Cost of Unit\n($)",null,"Vehicle Code","Vehicle Name","Number of Units","Hire Time (Minutes)","Hourly Unit Rate\n($)","Cost of Unit\n($)",null,"Notes and sources for \"Other costs\"","Cost\n($)","Cost of Unit\n($)"]
[1,null,null,null,null,null,{"$f":"IF(OR(\nAND(ISTEXT(B36),ISBLANK(C36))),1,0)","v":0},null,"Vehicle – Elevated Work Platform (small) and Cable Test Van- Average cost",1,35,{"$f":"43.1351164210975*1.23574","v":53.303788766207028},{"$f":"L36*(K36/60)*J36","v":31.093876780287435},{"$f":"IF(OR(\nAND(ISTEXT(H36),ISBLANK(I36))),1,0)","v":0},null,null,{"$f":"P36","v":0},{"$f":"IF(OR(\nAND(ISTEXT(O36),ISBLANK(#REF!))),1,0)","v":0}]
[{"$f":"IFERROR(A36+1,\"\")","v":2},null,null,null,null,null,0,null,null,null,null,null,{"$f":"L37*(K37/60)*J37","v":0},0,null,null,{"$f":"P37","v":0},{"$f":"IF(OR(\nAND(ISTEXT(O37),ISBLANK(#REF!))),1,0)","v":0}]
[{"$f":"IFERROR(A37+1,\"\")","v":3},null,null,null,null,null,0,null,null,null,null,null,0,0,null,null,0,{"$f":"IF(OR(\nAND(ISTEXT(O38),ISBLANK(#REF!))),1,0)","v":0}]
[4,null,null,null,null,null,0,null,null,null,null,null,0,0,null,null,0,{"$f":"IF(OR(\nAND(ISTEXT(O39),ISBLANK(#REF!))),1,0)","v":0}]
[5,null,null,null,null,null,0,null,null,null,null,null,0,0,null,null,0,{"$f":"IF(OR(\nAND(ISTEXT(O40),ISBLANK(#REF!))),1,0)","v":0}]
[6,null,null,null,null,null,0,null,null,null,null,null,0,0,null,null,0,{"$f":"IF(OR(\nAND(ISTEXT(O41),ISBLANK(#REF!))),1,0)","v":0}]
[7,null,null,null,null,null,0,null,null,null,null,null,0,0,null,null,0,{"$f":"IF(OR(\nAND(ISTEXT(O42),ISBLANK(#REF!))),1,0)","v":0}]
[8,null,null,null,null,null,0,null,null,null,null,null,0,0,null,null,0,{"$f":"IF(OR(\nAND(ISTEXT(O43),ISBLANK(#REF!))),1,0)","v":0}]
[9,null,null,null,null,null,0,null,null,null,null,null,0,0,null,null,0,{"$f":"IF(OR(\nAND(ISTEXT(O44),ISBLANK(#REF!))),1,0)","v":0}]
[10,null,null,null,null,null,0,null,null,null,null,null,0,0,null,null,0,{"$f":"IF(OR(\nAND(ISTEXT(O45),ISBLANK(#REF!))),1,0)","v":0}]
[11,null,null,null,null,null,0,null,null,null,null,null,0,0,null,null,0,{"$f":"IF(OR(\nAND(ISTEXT(O46),ISBLANK(#REF!))),1,0)","v":0}]
[12,null,null,null,null,null,0,null,null,null,null,null,0,0,null,null,0,{"$f":"IF(OR(\nAND(ISTEXT(O47),ISBLANK(#REF!))),1,0)","v":0}]
[13,null,null,null,null,null,0,null,null,null,null,null,0,0,null,null,0,{"$f":"IF(OR(\nAND(ISTEXT(O48),ISBLANK(#REF!))),1,0)","v":0}]
[14,null,null,null,null,null,0,null,null,null,null,null,0,0,null,null,0,{"$f":"IF(OR(\nAND(ISTEXT(O49),ISBLANK(#REF!))),1,0)","v":0}]
[15,null,null,null,null,null,0,null,null,null,null,null,0,0,null,null,0,{"$f":"IF(OR(\nAND(ISTEXT(O50),ISBLANK(#REF!))),1,0)","v":0}]
[16,null,null,null,null,null,0,null,null,null,null,null,0,0,null,null,0,{"$f":"IF(OR(\nAND(ISTEXT(O51),ISBLANK(#REF!))),1,0)","v":0}]
[17,null,null,null,null,null,0,null,null,null,null,null,0,0,null,null,0,{"$f":"IF(OR(\nAND(ISTEXT(O52),ISBLANK(#REF!))),1,0)","v":0}]
[18,null,null,null,null,null,0,null,null,null,null,null,0,0,null,null,0,{"$f":"IF(OR(\nAND(ISTEXT(O53),ISBLANK(#REF!))),1,0)","v":0}]
[19,null,null,null,null,null,0,null,null,null,null,null,0,0,null,null,0,{"$f":"IF(OR(\nAND(ISTEXT(O54),ISBLANK(#REF!))),1,0)","v":0}]
[20,null,null,null,null,null,0,null,null,null,null,null,0,0,null,null,0,{"$f":"IF(OR(\nAND(ISTEXT(O55),ISBLANK(#REF!))),1,0)","v":0}]
[null,null,null,null,"Materials Total",0,null,null,null,null,null,"Vehicle Total",{"$f":"SUM(M36:M55)","v":31.093876780287435},null,null,"Other Cost Total",{"$f":"SUM(Q36:Q55)","v":0}]

{"sheet":"DEEN","index":24,"n_rows":56,"n_cols":18,"rows_kept":56,"cut":false,"hidden":false,"merged":[]}
[null,{"$f":"IFERROR(Index!B1,\"\")","v":"Jemena Electricity Networks – Alternative Control Services Forecast model"},null,"Key:","Input",null,null,null,"Sheet Validation",{"$f":"IF(SUM(G8+M8+G34+N34+R34)=0,0,1)","v":0}]
[null,{"$f":"IFERROR(MID(CELL(\"filename\",A1),FIND(\"]\",CELL(\"filename\",A1))+1,255),\"\")","v":"DEEN"},null,null,"Formula"]
[]
[]
[]
[null,{"$f":"$B$2&\" - Labour Breakdown\"","v":"DEEN - Labour Breakdown"}]
[]
[null,"Non-field based labour",null,null,null,null,{"$f":"IF(SUM(G10:G29)=0,0,1)","v":0},"Field based labour",null,null,null,null,{"$f":"IF(SUM(M10:M29)=0,0,1)","v":0}]
[null,"Labour Category","Activity Name","FTE","Time on task (Minutes)","Labour Totals",null,"Labour Category",{"$f":"C9","v":"Activity Name"},{"$f":"D9","v":"FTE"},"Time on task (Minutes)","Time on task (Minutes)"]
[1,"Administrative Officer","Check, validate and accept B2B SO",1,3,{"$f":"(D10*E10)","v":3},{"$f":"IF(OR(\nAND(ISTEXT(B10),ISBLANK(C10)),\nAND(ISTEXT(#REF!),ISBLANK(#REF!))),1,0)","v":0},"Field Worker","Travel to site",1,20,{"$f":"(J10*K10)","v":20},{"$f":"IF(OR(\nAND(ISTEXT(H10),ISBLANK(I10)),\nAND(ISTEXT(#REF!),ISBLANK(#REF!)),\nAND(ISTEXT(#REF!),ISBLANK(#REF!))),1,0)","v":0}]
[{"$f":"IFERROR(A10+1,\"\")","v":2},"Administrative Officer","Create SO in SAP and send it to contractor",1,2.2999999999999998,{"$f":"(D11*E11)","v":2.2999999999999998},{"$f":"IF(OR(\nAND(ISTEXT(B11),ISBLANK(C11)),\nAND(ISTEXT(#REF!),ISBLANK(#REF!))),1,0)","v":0},"Field Worker","Field work",1,15,{"$f":"(J11*K11)","v":15},{"$f":"IF(OR(\nAND(ISTEXT(H11),ISBLANK(I11)),\nAND(ISTEXT(#REF!),ISBLANK(#REF!)),\nAND(ISTEXT(#REF!),ISBLANK(#REF!))),1,0)","v":0}]
[{"$f":"IFERROR(A11+1,\"\")","v":3},"Administrative Officer","MSI task De-En & Re-En coincidental",1,2,2,{"$f":"IF(OR(\nAND(ISTEXT(B12),ISBLANK(C12)),\nAND(ISTEXT(#REF!),ISBLANK(#REF!))),1,0)","v":0},null,null,null,null,0,{"$f":"IF(OR(\nAND(ISTEXT(H12),ISBLANK(I12)),\nAND(ISTEXT(#REF!),ISBLANK(#REF!)),\nAND(ISTEXT(#REF!),ISBLANK(#REF!))),1,0)","v":0}]
[4,"Administrative Officer","MSI task life support",1,4,4,{"$f":"IF(OR(\nAND(ISTEXT(B13),ISBLANK(C13)),\nAND(ISTEXT(#REF!),ISBLANK(#REF!))),1,0)","v":0},null,null,null,null,0,{"$f":"IF(OR(\nAND(ISTEXT(H13),ISBLANK(I13)),\nAND(ISTEXT(#REF!),ISBLANK(#REF!)),\nAND(ISTEXT(#REF!),ISBLANK(#REF!))),1,0)","v":0}]
[5,"Administrative Officer","Close SO in SAP after contractor has completed SO",1,3.9,3.9,{"$f":"IF(OR(\nAND(ISTEXT(B14),ISBLANK(C14)),\nAND(ISTEXT(#REF!),ISBLANK(#REF!))),1,0)","v":0},null,null,null,null,0,{"$f":"IF(OR(\nAND(ISTEXT(H14),ISBLANK(I14)),\nAND(ISTEXT(#REF!),ISBLANK(#REF!)),\nAND(ISTEXT(#REF!),ISBLANK(#REF!))),1,0)","v":0}]
[6,"Administrative Officer","Manage system exceptions, errors and reporting",1,5,5,{"$f":"IF(OR(\nAND(ISTEXT(B15),ISBLANK(C15)),\nAND(ISTEXT(#REF!),ISBLANK(#REF!))),1,0)","v":0},null,null,null,null,0,{"$f":"IF(OR(\nAND(ISTEXT(H15),ISBLANK(I15)),\nAND(ISTEXT(#REF!),ISBLANK(#REF!)),\nAND(ISTEXT(#REF!),ISBLANK(#REF!))),1,0)","v":0}]
[7,null,null,null,null,0,{"$f":"IF(OR(\nAND(ISTEXT(B16),ISBLANK(C16)),\nAND(ISTEXT(#REF!),ISBLANK(#REF!))),1,0)","v":0},null,null,null,null,0,{"$f":"IF(OR(\nAND(ISTEXT(H16),ISBLANK(I16)),\nAND(ISTEXT(#REF!),ISBLANK(#REF!)),\nAND(ISTEXT(#REF!),ISBLANK(#REF!))),1,0)","v":0}]
[8,null,null,null,null,0,{"$f":"IF(OR(\nAND(ISTEXT(B17),ISBLANK(C17)),\nAND(ISTEXT(#REF!),ISBLANK(#REF!))),1,0)","v":0},null,null,null,null,0,{"$f":"IF(OR(\nAND(ISTEXT(H17),ISBLANK(I17)),\nAND(ISTEXT(#REF!),ISBLANK(#REF!)),\nAND(ISTEXT(#REF!),ISBLANK(#REF!))),1,0)","v":0}]
[9,null,null,null,null,0,{"$f":"IF(OR(\nAND(ISTEXT(B18),ISBLANK(C18)),\nAND(ISTEXT(#REF!),ISBLANK(#REF!))),1,0)","v":0},null,null,null,null,0,{"$f":"IF(OR(\nAND(ISTEXT(H18),ISBLANK(I18)),\nAND(ISTEXT(#REF!),ISBLANK(#REF!)),\nAND(ISTEXT(#REF!),ISBLANK(#REF!))),1,0)","v":0}]
[10,null,null,null,null,0,{"$f":"IF(OR(\nAND(ISTEXT(B19),ISBLANK(C19)),\nAND(ISTEXT(#REF!),ISBLANK(#REF!))),1,0)","v":0},null,null,null,null,0,{"$f":"IF(OR(\nAND(ISTEXT(H19),ISBLANK(I19)),\nAND(ISTEXT(#REF!),ISBLANK(#REF!)),\nAND(ISTEXT(#REF!),ISBLANK(#REF!))),1,0)","v":0}]
[11,null,null,null,null,0,{"$f":"IF(OR(\nAND(ISTEXT(B20),ISBLANK(C20)),\nAND(ISTEXT(#REF!),ISBLANK(#REF!))),1,0)","v":0},null,null,null,null,0,{"$f":"IF(OR(\nAND(ISTEXT(H20),ISBLANK(I20)),\nAND(ISTEXT(#REF!),ISBLANK(#REF!)),\nAND(ISTEXT(#REF!),ISBLANK(#REF!))),1,0)","v":0}]
[12,null,null,null,null,0,{"$f":"IF(OR(\nAND(ISTEXT(B21),ISBLANK(C21)),\nAND(ISTEXT(#REF!),ISBLANK(#REF!))),1,0)","v":0},null,null,null,null,0,{"$f":"IF(OR(\nAND(ISTEXT(H21),ISBLANK(I21)),\nAND(ISTEXT(#REF!),ISBLANK(#REF!)),\nAND(ISTEXT(#REF!),ISBLANK(#REF!))),1,0)","v":0}]
[13,null,null,null,null,0,{"$f":"IF(OR(\nAND(ISTEXT(B22),ISBLANK(C22)),\nAND(ISTEXT(#REF!),ISBLANK(#REF!))),1,0)","v":0},null,null,null,null,0,{"$f":"IF(OR(\nAND(ISTEXT(H22),ISBLANK(I22)),\nAND(ISTEXT(#REF!),ISBLANK(#REF!)),\nAND(ISTEXT(#REF!),ISBLANK(#REF!))),1,0)","v":0}]
[14,null,null,null,null,0,{"$f":"IF(OR(\nAND(ISTEXT(B23),ISBLANK(C23)),\nAND(ISTEXT(#REF!),ISBLANK(#REF!))),1,0)","v":0},null,null,null,null,0,{"$f":"IF(OR(\nAND(ISTEXT(H23),ISBLANK(I23)),\nAND(ISTEXT(#REF!),ISBLANK(#REF!)),\nAND(ISTEXT(#REF!),ISBLANK(#REF!))),1,0)","v":0}]
[15,null,null,null,null,0,{"$f":"IF(OR(\nAND(ISTEXT(B24),ISBLANK(C24)),\nAND(ISTEXT(#REF!),ISBLANK(#REF!))),1,0)","v":0},null,null,null,null,0,{"$f":"IF(OR(\nAND(ISTEXT(H24),ISBLANK(I24)),\nAND(ISTEXT(#REF!),ISBLANK(#REF!)),\nAND(ISTEXT(#REF!),ISBLANK(#REF!))),1,0)","v":0}]
[16,null,null,null,null,0,{"$f":"IF(OR(\nAND(ISTEXT(B25),ISBLANK(C25)),\nAND(ISTEXT(#REF!),ISBLANK(#REF!))),1,0)","v":0},null,null,null,null,0,{"$f":"IF(OR(\nAND(ISTEXT(H25),ISBLANK(I25)),\nAND(ISTEXT(#REF!),ISBLANK(#REF!)),\nAND(ISTEXT(#REF!),ISBLANK(#REF!))),1,0)","v":0}]
[17,null,null,null,null,0,{"$f":"IF(OR(\nAND(ISTEXT(B26),ISBLANK(C26)),\nAND(ISTEXT(#REF!),ISBLANK(#REF!))),1,0)","v":0},null,null,null,null,0,{"$f":"IF(OR(\nAND(ISTEXT(H26),ISBLANK(I26)),\nAND(ISTEXT(#REF!),ISBLANK(#REF!)),\nAND(ISTEXT(#REF!),ISBLANK(#REF!))),1,0)","v":0}]
[18,null,null,null,null,0,{"$f":"IF(OR(\nAND(ISTEXT(B27),ISBLANK(C27)),\nAND(ISTEXT(#REF!),ISBLANK(#REF!))),1,0)","v":0},null,null,null,null,0,{"$f":"IF(OR(\nAND(ISTEXT(H27),ISBLANK(I27)),\nAND(ISTEXT(#REF!),ISBLANK(#REF!)),\nAND(ISTEXT(#REF!),ISBLANK(#REF!))),1,0)","v":0}]
[19,null,null,null,null,0,{"$f":"IF(OR(\nAND(ISTEXT(B28),ISBLANK(C28)),\nAND(ISTEXT(#REF!),ISBLANK(#REF!))),1,0)","v":0},null,null,null,null,0,{"$f":"IF(OR(\nAND(ISTEXT(H28),ISBLANK(I28)),\nAND(ISTEXT(#REF!),ISBLANK(#REF!)),\nAND(ISTEXT(#REF!),ISBLANK(#REF!))),1,0)","v":0}]
[20,null,null,null,null,0,{"$f":"IF(OR(\nAND(ISTEXT(B29),ISBLANK(C29)),\nAND(ISTEXT(#REF!),ISBLANK(#REF!))),1,0)","v":0},null,null,null,null,0,{"$f":"IF(OR(\nAND(ISTEXT(H29),ISBLANK(I29)),\nAND(ISTEXT(#REF!),ISBLANK(#REF!)),\nAND(ISTEXT(#REF!),ISBLANK(#REF!))),1,0)","v":0}]
[null,null,null,null,"Total Minutes",{"$f":"SUM(F10:F29)","v":20.200000000000003},null,null,null,null,"Total Minutes",{"$f":"SUM(L10:L29)","v":35}]
[]
[null,{"$f":"$B$2&\" - Non Labour Breakdown\"","v":"DEEN - Non Labour Breakdown"}]
[]
[null,"Materials",null,null,null,null,{"$f":"IF(SUM(G36:G55)=0,0,1)","v":0},"Vehicle",null,null,null,null,null,{"$f":"IF(SUM(N36:N55)=0,0,1)","v":0},"Other Costs",null,null,{"$f":"IF(SUM(R36:R55)=0,0,1)","v":0}]
[null,"Material Code","Material Name","Number of Units","Unit Cost \n($)","Cost of Unit\n($)",null,"Vehicle Code","Vehicle Name","Number of Units","Hire Time (Minutes)","Hourly Unit Rate\n($)","Cost of Unit\n($)",null,"Notes and sources for \"Other costs\"","Cost\n($)","Cost of Unit\n($)"]
[1,null,null,null,null,null,{"$f":"IF(OR(\nAND(ISTEXT(B36),ISBLANK(C36))),1,0)","v":0},null,"Vehicle – Elevated Work Platform (small) and Cable Test Van- Average cost",1,35,{"$f":"43.1351164210975*1.23574","v":53.303788766207028},{"$f":"L36*(K36/60)*J36","v":31.093876780287435},{"$f":"IF(OR(\nAND(ISTEXT(H36),ISBLANK(I36))),1,0)","v":0},null,null,{"$f":"P36","v":0},{"$f":"IF(OR(\nAND(ISTEXT(O36),ISBLANK(#REF!))),1,0)","v":0}]
[{"$f":"IFERROR(A36+1,\"\")","v":2},null,null,null,null,null,0,null,null,null,null,null,{"$f":"L37*(K37/60)*J37","v":0},0,null,null,{"$f":"P37","v":0},{"$f":"IF(OR(\nAND(ISTEXT(O37),ISBLANK(#REF!))),1,0)","v":0}]
[{"$f":"IFERROR(A37+1,\"\")","v":3},null,null,null,null,null,0,null,null,null,null,null,0,0,null,null,0,{"$f":"IF(OR(\nAND(ISTEXT(O38),ISBLANK(#REF!))),1,0)","v":0}]
[4,null,null,null,null,null,0,null,null,null,null,null,0,0,null,null,0,{"$f":"IF(OR(\nAND(ISTEXT(O39),ISBLANK(#REF!))),1,0)","v":0}]
[5,null,null,null,null,null,0,null,null,null,null,null,0,0,null,null,0,{"$f":"IF(OR(\nAND(ISTEXT(O40),ISBLANK(#REF!))),1,0)","v":0}]
[6,null,null,null,null,null,0,null,null,null,null,null,0,0,null,null,0,{"$f":"IF(OR(\nAND(ISTEXT(O41),ISBLANK(#REF!))),1,0)","v":0}]
[7,null,null,null,null,null,0,null,null,null,null,null,0,0,null,null,0,{"$f":"IF(OR(\nAND(ISTEXT(O42),ISBLANK(#REF!))),1,0)","v":0}]
[8,null,null,null,null,null,0,null,null,null,null,null,0,0,null,null,0,{"$f":"IF(OR(\nAND(ISTEXT(O43),ISBLANK(#REF!))),1,0)","v":0}]
[9,null,null,null,null,null,0,null,null,null,null,null,0,0,null,null,0,{"$f":"IF(OR(\nAND(ISTEXT(O44),ISBLANK(#REF!))),1,0)","v":0}]
[10,null,null,null,null,null,0,null,null,null,null,null,0,0,null,null,0,{"$f":"IF(OR(\nAND(ISTEXT(O45),ISBLANK(#REF!))),1,0)","v":0}]
[11,null,null,null,null,null,0,null,null,null,null,null,0,0,null,null,0,{"$f":"IF(OR(\nAND(ISTEXT(O46),ISBLANK(#REF!))),1,0)","v":0}]
[12,null,null,null,null,null,0,null,null,null,null,null,0,0,null,null,0,{"$f":"IF(OR(\nAND(ISTEXT(O47),ISBLANK(#REF!))),1,0)","v":0}]
[13,null,null,null,null,null,0,null,null,null,null,null,0,0,null,null,0,{"$f":"IF(OR(\nAND(ISTEXT(O48),ISBLANK(#REF!))),1,0)","v":0}]
[14,null,null,null,null,null,0,null,null,null,null,null,0,0,null,null,0,{"$f":"IF(OR(\nAND(ISTEXT(O49),ISBLANK(#REF!))),1,0)","v":0}]
[15,null,null,null,null,null,0,null,null,null,null,null,0,0,null,null,0,{"$f":"IF(OR(\nAND(ISTEXT(O50),ISBLANK(#REF!))),1,0)","v":0}]
[16,null,null,null,null,null,0,null,null,null,null,null,0,0,null,null,0,{"$f":"IF(OR(\nAND(ISTEXT(O51),ISBLANK(#REF!))),1,0)","v":0}]
[17,null,null,null,null,null,0,null,null,null,null,null,0,0,null,null,0,{"$f":"IF(OR(\nAND(ISTEXT(O52),ISBLANK(#REF!))),1,0)","v":0}]
[18,null,null,null,null,null,0,null,null,null,null,null,0,0,null,null,0,{"$f":"IF(OR(\nAND(ISTEXT(O53),ISBLANK(#REF!))),1,0)","v":0}]
[19,null,null,null,null,null,0,null,null,null,null,null,0,0,null,null,0,{"$f":"IF(OR(\nAND(ISTEXT(O54),ISBLANK(#REF!))),1,0)","v":0}]
[20,null,null,null,null,null,0,null,null,null,null,null,0,0,null,null,0,{"$f":"IF(OR(\nAND(ISTEXT(O55),ISBLANK(#REF!))),1,0)","v":0}]
[null,null,null,null,"Materials Total",0,null,null,null,null,null,"Vehicle Total",{"$f":"SUM(M36:M55)","v":31.093876780287435},null,null,"Other Cost Total",{"$f":"SUM(Q36:Q55)","v":0}]

{"sheet":"DCTK","index":25,"n_rows":56,"n_cols":18,"rows_kept":56,"cut":false,"hidden":false,"merged":[]}
[null,{"$f":"IFERROR(Index!B1,\"\")","v":"Jemena Electricity Networks – Alternative Control Services Forecast model"},null,"Key:","Input",null,null,null,"Sheet Validation",{"$f":"IF(SUM(G8+M8+G34+N34+R34)=0,0,1)","v":0}]
[null,{"$f":"IFERROR(MID(CELL(\"filename\",A1),FIND(\"]\",CELL(\"filename\",A1))+1,255),\"\")","v":"DCTK"},null,null,"Formula"]
[]
[]
[]
[null,{"$f":"$B$2&\" - Labour Breakdown\"","v":"DCTK - Labour Breakdown"}]
[]
[null,"Non-field based labour",null,null,null,null,{"$f":"IF(SUM(G10:G29)=0,0,1)","v":0},"Field based labour",null,null,null,null,{"$f":"IF(SUM(M10:M29)=0,0,1)","v":0}]
[null,"Labour Category","Activity Name","FTE","Time on task (Minutes)","Labour Totals",null,"Labour Category",{"$f":"C9","v":"Activity Name"},{"$f":"D9","v":"FTE"},"Time on task (Minutes)","Time on task (Minutes)"]
[1,"Administrative Officer","Check and validate B2B service order (SO)",1,4.5,{"$f":"(D10*E10)","v":4.5},{"$f":"IF(OR(\nAND(ISTEXT(B10),ISBLANK(C10)),\nAND(ISTEXT(#REF!),ISBLANK(#REF!))),1,0)","v":0},"Field Worker","Travel to site",2,30,{"$f":"(J10*K10)","v":60},{"$f":"IF(OR(\nAND(ISTEXT(H10),ISBLANK(I10)),\nAND(ISTEXT(#REF!),ISBLANK(#REF!)),\nAND(ISTEXT(#REF!),ISBLANK(#REF!))),1,0)","v":0}]
[{"$f":"IFERROR(A10+1,\"\")","v":2},"Administrative Officer","Accept B2B SO",1,1.5,{"$f":"(D11*E11)","v":1.5},{"$f":"IF(OR(\nAND(ISTEXT(B11),ISBLANK(C11)),\nAND(ISTEXT(#REF!),ISBLANK(#REF!))),1,0)","v":0},"Field Worker","Field crew to complete JSA/Service Asset Register sheet",2,5,{"$f":"(J11*K11)","v":10},{"$f":"IF(OR(\nAND(ISTEXT(H11),ISBLANK(I11)),\nAND(ISTEXT(#REF!),ISBLANK(#REF!)),\nAND(ISTEXT(#REF!),ISBLANK(#REF!))),1,0)","v":0}]
[{"$f":"IFERROR(A11+1,\"\")","v":3},"Administrative Officer","Reject B2B SO (if required)",1,1.5,1.5,{"$f":"IF(OR(\nAND(ISTEXT(B12),ISBLANK(C12)),\nAND(ISTEXT(#REF!),ISBLANK(#REF!))),1,0)","v":0},"Field Worker","Setup traffic management",2,5,10,{"$f":"IF(OR(\nAND(ISTEXT(H12),ISBLANK(I12)),\nAND(ISTEXT(#REF!),ISBLANK(#REF!)),\nAND(ISTEXT(#REF!),ISBLANK(#REF!))),1,0)","v":0}]
[4,"Administrative Officer","Schedule work as required",1,4,4,{"$f":"IF(OR(\nAND(ISTEXT(B13),ISBLANK(C13)),\nAND(ISTEXT(#REF!),ISBLANK(#REF!))),1,0)","v":0},"Field Worker","Discuss work with REC",2,5,10,{"$f":"IF(OR(\nAND(ISTEXT(H13),ISBLANK(I13)),\nAND(ISTEXT(#REF!),ISBLANK(#REF!)),\nAND(ISTEXT(#REF!),ISBLANK(#REF!))),1,0)","v":0}]
[5,"Administrative Officer","Create SO in SAP",1,3.5,3.5,{"$f":"IF(OR(\nAND(ISTEXT(B14),ISBLANK(C14)),\nAND(ISTEXT(#REF!),ISBLANK(#REF!))),1,0)","v":0},"Field Worker","Field crew completes disconnection work",2,5,10,{"$f":"IF(OR(\nAND(ISTEXT(H14),ISBLANK(I14)),\nAND(ISTEXT(#REF!),ISBLANK(#REF!)),\nAND(ISTEXT(#REF!),ISBLANK(#REF!))),1,0)","v":0}]
[6,"Administrative Officer","Send SO to contractor",1,1.5,1.5,{"$f":"IF(OR(\nAND(ISTEXT(B15),ISBLANK(C15)),\nAND(ISTEXT(#REF!),ISBLANK(#REF!))),1,0)","v":0},"Field Worker","Field crew completes paperwork, work activity record (WAR) and remove traffic control devices.",2,5,10,{"$f":"IF(OR(\nAND(ISTEXT(H15),ISBLANK(I15)),\nAND(ISTEXT(#REF!),ISBLANK(#REF!)),\nAND(ISTEXT(#REF!),ISBLANK(#REF!))),1,0)","v":0}]
[7,"Administrative Officer","Close SO in SAP",1,4,4,{"$f":"IF(OR(\nAND(ISTEXT(B16),ISBLANK(C16)),\nAND(ISTEXT(#REF!),ISBLANK(#REF!))),1,0)","v":0},null,null,null,null,0,{"$f":"IF(OR(\nAND(ISTEXT(H16),ISBLANK(I16)),\nAND(ISTEXT(#REF!),ISBLANK(#REF!)),\nAND(ISTEXT(#REF!),ISBLANK(#REF!))),1,0)","v":0}]
[8,"Administrative Officer","Manage system exceptions, errors and reporting",1,3,3,{"$f":"IF(OR(\nAND(ISTEXT(B17),ISBLANK(C17)),\nAND(ISTEXT(#REF!),ISBLANK(#REF!))),1,0)","v":0},null,null,null,null,0,{"$f":"IF(OR(\nAND(ISTEXT(H17),ISBLANK(I17)),\nAND(ISTEXT(#REF!),ISBLANK(#REF!)),\nAND(ISTEXT(#REF!),ISBLANK(#REF!))),1,0)","v":0}]
[9,"Administrative Officer","Manage phone calls and inquiries",1,3.5,3.5,{"$f":"IF(OR(\nAND(ISTEXT(B18),ISBLANK(C18)),\nAND(ISTEXT(#REF!),ISBLANK(#REF!))),1,0)","v":0},null,null,null,null,0,{"$f":"IF(OR(\nAND(ISTEXT(H18),ISBLANK(I18)),\nAND(ISTEXT(#REF!),ISBLANK(#REF!)),\nAND(ISTEXT(#REF!),ISBLANK(#REF!))),1,0)","v":0}]
[10,"Administrative Officer","Administration of Inbox emails, correspondences",1,3,3,{"$f":"IF(OR(\nAND(ISTEXT(B19),ISBLANK(C19)),\nAND(ISTEXT(#REF!),ISBLANK(#REF!))),1,0)","v":0},null,null,null,null,0,{"$f":"IF(OR(\nAND(ISTEXT(H19),ISBLANK(I19)),\nAND(ISTEXT(#REF!),ISBLANK(#REF!)),\nAND(ISTEXT(#REF!),ISBLANK(#REF!))),1,0)","v":0}]
[11,null,null,null,null,0,{"$f":"IF(OR(\nAND(ISTEXT(B20),ISBLANK(C20)),\nAND(ISTEXT(#REF!),ISBLANK(#REF!))),1,0)","v":0},null,null,null,null,0,{"$f":"IF(OR(\nAND(ISTEXT(H20),ISBLANK(I20)),\nAND(ISTEXT(#REF!),ISBLANK(#REF!)),\nAND(ISTEXT(#REF!),ISBLANK(#REF!))),1,0)","v":0}]
[12,null,null,null,null,0,{"$f":"IF(OR(\nAND(ISTEXT(B21),ISBLANK(C21)),\nAND(ISTEXT(#REF!),ISBLANK(#REF!))),1,0)","v":0},null,null,null,null,0,{"$f":"IF(OR(\nAND(ISTEXT(H21),ISBLANK(I21)),\nAND(ISTEXT(#REF!),ISBLANK(#REF!)),\nAND(ISTEXT(#REF!),ISBLANK(#REF!))),1,0)","v":0}]
[13,null,null,null,null,0,{"$f":"IF(OR(\nAND(ISTEXT(B22),ISBLANK(C22)),\nAND(ISTEXT(#REF!),ISBLANK(#REF!))),1,0)","v":0},null,null,null,null,0,{"$f":"IF(OR(\nAND(ISTEXT(H22),ISBLANK(I22)),\nAND(ISTEXT(#REF!),ISBLANK(#REF!)),\nAND(ISTEXT(#REF!),ISBLANK(#REF!))),1,0)","v":0}]
[14,null,null,null,null,0,{"$f":"IF(OR(\nAND(ISTEXT(B23),ISBLANK(C23)),\nAND(ISTEXT(#REF!),ISBLANK(#REF!))),1,0)","v":0},null,null,null,null,0,{"$f":"IF(OR(\nAND(ISTEXT(H23),ISBLANK(I23)),\nAND(ISTEXT(#REF!),ISBLANK(#REF!)),\nAND(ISTEXT(#REF!),ISBLANK(#REF!))),1,0)","v":0}]
[15,null,null,null,null,0,{"$f":"IF(OR(\nAND(ISTEXT(B24),ISBLANK(C24)),\nAND(ISTEXT(#REF!),ISBLANK(#REF!))),1,0)","v":0},null,null,null,null,0,{"$f":"IF(OR(\nAND(ISTEXT(H24),ISBLANK(I24)),\nAND(ISTEXT(#REF!),ISBLANK(#REF!)),\nAND(ISTEXT(#REF!),ISBLANK(#REF!))),1,0)","v":0}]
[16,null,null,null,null,0,{"$f":"IF(OR(\nAND(ISTEXT(B25),ISBLANK(C25)),\nAND(ISTEXT(#REF!),ISBLANK(#REF!))),1,0)","v":0},null,null,null,null,0,{"$f":"IF(OR(\nAND(ISTEXT(H25),ISBLANK(I25)),\nAND(ISTEXT(#REF!),ISBLANK(#REF!)),\nAND(ISTEXT(#REF!),ISBLANK(#REF!))),1,0)","v":0}]
[17,null,null,null,null,0,{"$f":"IF(OR(\nAND(ISTEXT(B26),ISBLANK(C26)),\nAND(ISTEXT(#REF!),ISBLANK(#REF!))),1,0)","v":0},null,null,null,null,0,{"$f":"IF(OR(\nAND(ISTEXT(H26),ISBLANK(I26)),\nAND(ISTEXT(#REF!),ISBLANK(#REF!)),\nAND(ISTEXT(#REF!),ISBLANK(#REF!))),1,0)","v":0}]
[18,null,null,null,null,0,{"$f":"IF(OR(\nAND(ISTEXT(B27),ISBLANK(C27)),\nAND(ISTEXT(#REF!),ISBLANK(#REF!))),1,0)","v":0},null,null,null,null,0,{"$f":"IF(OR(\nAND(ISTEXT(H27),ISBLANK(I27)),\nAND(ISTEXT(#REF!),ISBLANK(#REF!)),\nAND(ISTEXT(#REF!),ISBLANK(#REF!))),1,0)","v":0}]
[19,null,null,null,null,0,{"$f":"IF(OR(\nAND(ISTEXT(B28),ISBLANK(C28)),\nAND(ISTEXT(#REF!),ISBLANK(#REF!))),1,0)","v":0},null,null,null,null,0,{"$f":"IF(OR(\nAND(ISTEXT(H28),ISBLANK(I28)),\nAND(ISTEXT(#REF!),ISBLANK(#REF!)),\nAND(ISTEXT(#REF!),ISBLANK(#REF!))),1,0)","v":0}]
[20,null,null,null,null,0,{"$f":"IF(OR(\nAND(ISTEXT(B29),ISBLANK(C29)),\nAND(ISTEXT(#REF!),ISBLANK(#REF!))),1,0)","v":0},null,null,null,null,0,{"$f":"IF(OR(\nAND(ISTEXT(H29),ISBLANK(I29)),\nAND(ISTEXT(#REF!),ISBLANK(#REF!)),\nAND(ISTEXT(#REF!),ISBLANK(#REF!))),1,0)","v":0}]
[null,null,null,null,"Total Minutes",{"$f":"SUM(F10:F29)","v":30},null,null,null,null,"Total Minutes",{"$f":"SUM(L10:L29)","v":110}]
[]
[null,{"$f":"$B$2&\" - Non Labour Breakdown\"","v":"DCTK - Non Labour Breakdown"}]
[]
[null,"Materials",null,null,null,null,{"$f":"IF(SUM(G36:G55)=0,0,1)","v":0},"Vehicle",null,null,null,null,null,{"$f":"IF(SUM(N36:N55)=0,0,1)","v":0},"Other Costs",null,null,{"$f":"IF(SUM(R36:R55)=0,0,1)","v":0}]
[null,"Material Code","Material Name","Number of Units","Unit Cost \n($)","Cost of Unit\n($)",null,"Vehicle Code","Vehicle Name","Number of Units","Hire Time (Minutes)","Hourly Unit Rate\n($)","Cost of Unit\n($)",null,"Notes and sources for \"Other costs\"","Cost\n($)","Cost of Unit\n($)"]
[1,null,null,null,null,null,{"$f":"IF(OR(\nAND(ISTEXT(B36),ISBLANK(C36))),1,0)","v":0},null,"Plant – Elevated Work Platform (small) and Cable Test Van - Average cost",1,55,{"$f":"43.1351164210975*1.24689","v":53.784745314302263},{"$f":"L36*(K36/60)*J36","v":49.302683204777075},{"$f":"IF(OR(\nAND(ISTEXT(H36),ISBLANK(I36))),1,0)","v":0},null,null,{"$f":"P36","v":0},{"$f":"IF(OR(\nAND(ISTEXT(O36),ISBLANK(#REF!))),1,0)","v":0}]
[{"$f":"IFERROR(A36+1,\"\")","v":2},null,null,null,null,null,0,null,null,null,null,null,{"$f":"L37*(K37/60)*J37","v":0},0,null,null,{"$f":"P37","v":0},{"$f":"IF(OR(\nAND(ISTEXT(O37),ISBLANK(#REF!))),1,0)","v":0}]
[{"$f":"IFERROR(A37+1,\"\")","v":3},null,null,null,null,null,0,null,null,null,null,null,0,0,null,null,0,{"$f":"IF(OR(\nAND(ISTEXT(O38),ISBLANK(#REF!))),1,0)","v":0}]
[4,null,null,null,null,null,0,null,null,null,null,null,0,0,null,null,0,{"$f":"IF(OR(\nAND(ISTEXT(O39),ISBLANK(#REF!))),1,0)","v":0}]
[5,null,null,null,null,null,0,null,null,null,null,null,0,0,null,null,0,{"$f":"IF(OR(\nAND(ISTEXT(O40),ISBLANK(#REF!))),1,0)","v":0}]
[6,null,null,null,null,null,0,null,null,null,null,null,0,0,null,null,0,{"$f":"IF(OR(\nAND(ISTEXT(O41),ISBLANK(#REF!))),1,0)","v":0}]
[7,null,null,null,null,null,0,null,null,null,null,null,0,0,null,null,0,{"$f":"IF(OR(\nAND(ISTEXT(O42),ISBLANK(#REF!))),1,0)","v":0}]
[8,null,null,null,null,null,0,null,null,null,null,null,0,0,null,null,0,{"$f":"IF(OR(\nAND(ISTEXT(O43),ISBLANK(#REF!))),1,0)","v":0}]
[9,null,null,null,null,null,0,null,null,null,null,null,0,0,null,null,0,{"$f":"IF(OR(\nAND(ISTEXT(O44),ISBLANK(#REF!))),1,0)","v":0}]
[10,null,null,null,null,null,0,null,null,null,null,null,0,0,null,null,0,{"$f":"IF(OR(\nAND(ISTEXT(O45),ISBLANK(#REF!))),1,0)","v":0}]
[11,null,null,null,null,null,0,null,null,null,null,null,0,0,null,null,0,{"$f":"IF(OR(\nAND(ISTEXT(O46),ISBLANK(#REF!))),1,0)","v":0}]
[12,null,null,null,null,null,0,null,null,null,null,null,0,0,null,null,0,{"$f":"IF(OR(\nAND(ISTEXT(O47),ISBLANK(#REF!))),1,0)","v":0}]
[13,null,null,null,null,null,0,null,null,null,null,null,0,0,null,null,0,{"$f":"IF(OR(\nAND(ISTEXT(O48),ISBLANK(#REF!))),1,0)","v":0}]
[14,null,null,null,null,null,0,null,null,null,null,null,0,0,null,null,0,{"$f":"IF(OR(\nAND(ISTEXT(O49),ISBLANK(#REF!))),1,0)","v":0}]
[15,null,null,null,null,null,0,null,null,null,null,null,0,0,null,null,0,{"$f":"IF(OR(\nAND(ISTEXT(O50),ISBLANK(#REF!))),1,0)","v":0}]
[16,null,null,null,null,null,0,null,null,null,null,null,0,0,null,null,0,{"$f":"IF(OR(\nAND(ISTEXT(O51),ISBLANK(#REF!))),1,0)","v":0}]
[17,null,null,null,null,null,0,null,null,null,null,null,0,0,null,null,0,{"$f":"IF(OR(\nAND(ISTEXT(O52),ISBLANK(#REF!))),1,0)","v":0}]
[18,null,null,null,null,null,0,null,null,null,null,null,0,0,null,null,0,{"$f":"IF(OR(\nAND(ISTEXT(O53),ISBLANK(#REF!))),1,0)","v":0}]
[19,null,null,null,null,null,0,null,null,null,null,null,0,0,null,null,0,{"$f":"IF(OR(\nAND(ISTEXT(O54),ISBLANK(#REF!))),1,0)","v":0}]
[20,null,null,null,null,null,0,null,null,null,null,null,0,0,null,null,0,{"$f":"IF(OR(\nAND(ISTEXT(O55),ISBLANK(#REF!))),1,0)","v":0}]
[null,null,null,null,"Materials Total",0,null,null,null,null,null,"Vehicle Total",{"$f":"SUM(M36:M55)","v":49.302683204777075},null,null,"Other Cost Total",{"$f":"SUM(Q36:Q55)","v":0}]

{"sheet":"RCTK","index":26,"n_rows":56,"n_cols":18,"rows_kept":56,"cut":false,"hidden":false,"merged":[]}
[null,{"$f":"IFERROR(Index!B1,\"\")","v":"Jemena Electricity Networks – Alternative Control Services Forecast model"},null,"Key:","Input",null,null,null,"Sheet Validation",{"$f":"IF(SUM(G8+M8+G34+N34+R34)=0,0,1)","v":0}]
[null,{"$f":"IFERROR(MID(CELL(\"filename\",A1),FIND(\"]\",CELL(\"filename\",A1))+1,255),\"\")","v":"RCTK"},null,null,"Formula"]
[]
[]
[]
[null,{"$f":"$B$2&\" - Labour Breakdown\"","v":"RCTK - Labour Breakdown"}]
[]
[null,"Non-field based labour",null,null,null,null,{"$f":"IF(SUM(G10:G29)=0,0,1)","v":0},"Field based labour",null,null,null,null,{"$f":"IF(SUM(M10:M29)=0,0,1)","v":0}]
[null,"Labour Category","Activity Name","FTE","Time on task (Minutes)","Labour Totals",null,"Labour Category",{"$f":"C9","v":"Activity Name"},{"$f":"D9","v":"FTE"},"Time on task (Minutes)","Time on task (Minutes)"]
[1,"Administrative Officer","Check and validate B2B service order (SO)",1,4.5,{"$f":"(D10*E10)","v":4.5},{"$f":"IF(OR(\nAND(ISTEXT(B10),ISBLANK(C10)),\nAND(ISTEXT(#REF!),ISBLANK(#REF!))),1,0)","v":0},"Field Worker","Travel to site",2,30,{"$f":"(J10*K10)","v":60},{"$f":"IF(OR(\nAND(ISTEXT(H10),ISBLANK(I10)),\nAND(ISTEXT(#REF!),ISBLANK(#REF!)),\nAND(ISTEXT(#REF!),ISBLANK(#REF!))),1,0)","v":0}]
[{"$f":"IFERROR(A10+1,\"\")","v":2},"Administrative Officer","Accept B2B SO",1,1.5,{"$f":"(D11*E11)","v":1.5},{"$f":"IF(OR(\nAND(ISTEXT(B11),ISBLANK(C11)),\nAND(ISTEXT(#REF!),ISBLANK(#REF!))),1,0)","v":0},"Field Worker","Field crew to complete JSA/Service Asset Register sheet",2,5,{"$f":"(J11*K11)","v":10},{"$f":"IF(OR(\nAND(ISTEXT(H11),ISBLANK(I11)),\nAND(ISTEXT(#REF!),ISBLANK(#REF!)),\nAND(ISTEXT(#REF!),ISBLANK(#REF!))),1,0)","v":0}]
[{"$f":"IFERROR(A11+1,\"\")","v":3},"Administrative Officer","Reject B2B SO (if required)",1,1.5,1.5,{"$f":"IF(OR(\nAND(ISTEXT(B12),ISBLANK(C12)),\nAND(ISTEXT(#REF!),ISBLANK(#REF!))),1,0)","v":0},"Field Worker","Setup traffic management & drop cone",2,5,10,{"$f":"IF(OR(\nAND(ISTEXT(H12),ISBLANK(I12)),\nAND(ISTEXT(#REF!),ISBLANK(#REF!)),\nAND(ISTEXT(#REF!),ISBLANK(#REF!))),1,0)","v":0}]
[4,"Administrative Officer","Schedule appointment as required",1,4,4,{"$f":"IF(OR(\nAND(ISTEXT(B13),ISBLANK(C13)),\nAND(ISTEXT(#REF!),ISBLANK(#REF!))),1,0)","v":0},"Field Worker","Field crew completes reconnection work ",2,15,30,{"$f":"IF(OR(\nAND(ISTEXT(H13),ISBLANK(I13)),\nAND(ISTEXT(#REF!),ISBLANK(#REF!)),\nAND(ISTEXT(#REF!),ISBLANK(#REF!))),1,0)","v":0}]
[5,"Administrative Officer","Create SO in SAP",1,3.5,3.5,{"$f":"IF(OR(\nAND(ISTEXT(B14),ISBLANK(C14)),\nAND(ISTEXT(#REF!),ISBLANK(#REF!))),1,0)","v":0},"Field Worker","Field crew to complete NST testing.",2,5,10,{"$f":"IF(OR(\nAND(ISTEXT(H14),ISBLANK(I14)),\nAND(ISTEXT(#REF!),ISBLANK(#REF!)),\nAND(ISTEXT(#REF!),ISBLANK(#REF!))),1,0)","v":0}]
[6,"Administrative Officer","Send SO to contractor",1,1.5,1.5,{"$f":"IF(OR(\nAND(ISTEXT(B15),ISBLANK(C15)),\nAND(ISTEXT(#REF!),ISBLANK(#REF!))),1,0)","v":0},"Field Worker","Field crew completes paperwork, work activity record (WAR) and remove traffic control devices.",2,5,10,{"$f":"IF(OR(\nAND(ISTEXT(H15),ISBLANK(I15)),\nAND(ISTEXT(#REF!),ISBLANK(#REF!)),\nAND(ISTEXT(#REF!),ISBLANK(#REF!))),1,0)","v":0}]
[7,"Administrative Officer","Close SO in SAP",1,4,4,{"$f":"IF(OR(\nAND(ISTEXT(B16),ISBLANK(C16)),\nAND(ISTEXT(#REF!),ISBLANK(#REF!))),1,0)","v":0},null,null,null,null,0,{"$f":"IF(OR(\nAND(ISTEXT(H16),ISBLANK(I16)),\nAND(ISTEXT(#REF!),ISBLANK(#REF!)),\nAND(ISTEXT(#REF!),ISBLANK(#REF!))),1,0)","v":0}]
[8,"Administrative Officer","Manage system exceptions, errors and reporting",1,3,3,{"$f":"IF(OR(\nAND(ISTEXT(B17),ISBLANK(C17)),\nAND(ISTEXT(#REF!),ISBLANK(#REF!))),1,0)","v":0},null,null,null,null,0,{"$f":"IF(OR(\nAND(ISTEXT(H17),ISBLANK(I17)),\nAND(ISTEXT(#REF!),ISBLANK(#REF!)),\nAND(ISTEXT(#REF!),ISBLANK(#REF!))),1,0)","v":0}]
[9,"Administrative Officer","Manage phone calls and inquiries",1,3.5,3.5,{"$f":"IF(OR(\nAND(ISTEXT(B18),ISBLANK(C18)),\nAND(ISTEXT(#REF!),ISBLANK(#REF!))),1,0)","v":0},null,null,null,null,0,{"$f":"IF(OR(\nAND(ISTEXT(H18),ISBLANK(I18)),\nAND(ISTEXT(#REF!),ISBLANK(#REF!)),\nAND(ISTEXT(#REF!),ISBLANK(#REF!))),1,0)","v":0}]
[10,"Administrative Officer","Administration of Inbox emails, correspondences",1,3,3,{"$f":"IF(OR(\nAND(ISTEXT(B19),ISBLANK(C19)),\nAND(ISTEXT(#REF!),ISBLANK(#REF!))),1,0)","v":0},null,null,null,null,0,{"$f":"IF(OR(\nAND(ISTEXT(H19),ISBLANK(I19)),\nAND(ISTEXT(#REF!),ISBLANK(#REF!)),\nAND(ISTEXT(#REF!),ISBLANK(#REF!))),1,0)","v":0}]
[11,null,null,null,null,0,{"$f":"IF(OR(\nAND(ISTEXT(B20),ISBLANK(C20)),\nAND(ISTEXT(#REF!),ISBLANK(#REF!))),1,0)","v":0},null,null,null,null,0,{"$f":"IF(OR(\nAND(ISTEXT(H20),ISBLANK(I20)),\nAND(ISTEXT(#REF!),ISBLANK(#REF!)),\nAND(ISTEXT(#REF!),ISBLANK(#REF!))),1,0)","v":0}]
[12,null,null,null,null,0,{"$f":"IF(OR(\nAND(ISTEXT(B21),ISBLANK(C21)),\nAND(ISTEXT(#REF!),ISBLANK(#REF!))),1,0)","v":0},null,null,null,null,0,{"$f":"IF(OR(\nAND(ISTEXT(H21),ISBLANK(I21)),\nAND(ISTEXT(#REF!),ISBLANK(#REF!)),\nAND(ISTEXT(#REF!),ISBLANK(#REF!))),1,0)","v":0}]
[13,null,null,null,null,0,{"$f":"IF(OR(\nAND(ISTEXT(B22),ISBLANK(C22)),\nAND(ISTEXT(#REF!),ISBLANK(#REF!))),1,0)","v":0},null,null,null,null,0,{"$f":"IF(OR(\nAND(ISTEXT(H22),ISBLANK(I22)),\nAND(ISTEXT(#REF!),ISBLANK(#REF!)),\nAND(ISTEXT(#REF!),ISBLANK(#REF!))),1,0)","v":0}]
[14,null,null,null,null,0,{"$f":"IF(OR(\nAND(ISTEXT(B23),ISBLANK(C23)),\nAND(ISTEXT(#REF!),ISBLANK(#REF!))),1,0)","v":0},null,null,null,null,0,{"$f":"IF(OR(\nAND(ISTEXT(H23),ISBLANK(I23)),\nAND(ISTEXT(#REF!),ISBLANK(#REF!)),\nAND(ISTEXT(#REF!),ISBLANK(#REF!))),1,0)","v":0}]
[15,null,null,null,null,0,{"$f":"IF(OR(\nAND(ISTEXT(B24),ISBLANK(C24)),\nAND(ISTEXT(#REF!),ISBLANK(#REF!))),1,0)","v":0},null,null,null,null,0,{"$f":"IF(OR(\nAND(ISTEXT(H24),ISBLANK(I24)),\nAND(ISTEXT(#REF!),ISBLANK(#REF!)),\nAND(ISTEXT(#REF!),ISBLANK(#REF!))),1,0)","v":0}]
[16,null,null,null,null,0,{"$f":"IF(OR(\nAND(ISTEXT(B25),ISBLANK(C25)),\nAND(ISTEXT(#REF!),ISBLANK(#REF!))),1,0)","v":0},null,null,null,null,0,{"$f":"IF(OR(\nAND(ISTEXT(H25),ISBLANK(I25)),\nAND(ISTEXT(#REF!),ISBLANK(#REF!)),\nAND(ISTEXT(#REF!),ISBLANK(#REF!))),1,0)","v":0}]
[17,null,null,null,null,0,{"$f":"IF(OR(\nAND(ISTEXT(B26),ISBLANK(C26)),\nAND(ISTEXT(#REF!),ISBLANK(#REF!))),1,0)","v":0},null,null,null,null,0,{"$f":"IF(OR(\nAND(ISTEXT(H26),ISBLANK(I26)),\nAND(ISTEXT(#REF!),ISBLANK(#REF!)),\nAND(ISTEXT(#REF!),ISBLANK(#REF!))),1,0)","v":0}]
[18,null,null,null,null,0,{"$f":"IF(OR(\nAND(ISTEXT(B27),ISBLANK(C27)),\nAND(ISTEXT(#REF!),ISBLANK(#REF!))),1,0)","v":0},null,null,null,null,0,{"$f":"IF(OR(\nAND(ISTEXT(H27),ISBLANK(I27)),\nAND(ISTEXT(#REF!),ISBLANK(#REF!)),\nAND(ISTEXT(#REF!),ISBLANK(#REF!))),1,0)","v":0}]
[19,null,null,null,null,0,{"$f":"IF(OR(\nAND(ISTEXT(B28),ISBLANK(C28)),\nAND(ISTEXT(#REF!),ISBLANK(#REF!))),1,0)","v":0},null,null,null,null,0,{"$f":"IF(OR(\nAND(ISTEXT(H28),ISBLANK(I28)),\nAND(ISTEXT(#REF!),ISBLANK(#REF!)),\nAND(ISTEXT(#REF!),ISBLANK(#REF!))),1,0)","v":0}]
[20,null,null,null,null,0,{"$f":"IF(OR(\nAND(ISTEXT(B29),ISBLANK(C29)),\nAND(ISTEXT(#REF!),ISBLANK(#REF!))),1,0)","v":0},null,null,null,null,0,{"$f":"IF(OR(\nAND(ISTEXT(H29),ISBLANK(I29)),\nAND(ISTEXT(#REF!),ISBLANK(#REF!)),\nAND(ISTEXT(#REF!),ISBLANK(#REF!))),1,0)","v":0}]
[null,null,null,null,"Total Minutes",{"$f":"SUM(F10:F29)","v":30},null,null,null,null,"Total Minutes",{"$f":"SUM(L10:L29)","v":130}]
[]
[null,{"$f":"$B$2&\" - Non Labour Breakdown\"","v":"RCTK - Non Labour Breakdown"}]
[]
[null,"Materials",null,null,null,null,{"$f":"IF(SUM(G36:G55)=0,0,1)","v":0},"Vehicle",null,null,null,null,null,{"$f":"IF(SUM(N36:N55)=0,0,1)","v":0},"Other Costs",null,null,{"$f":"IF(SUM(R36:R55)=0,0,1)","v":0}]
[null,"Material Code","Material Name","Number of Units","Unit Cost \n($)","Cost of Unit\n($)",null,"Vehicle Code","Vehicle Name","Number of Units","Hire Time (Minutes)","Hourly Unit Rate\n($)","Cost of Unit\n($)",null,"Notes and sources for \"Other costs\"","Cost\n($)","Cost of Unit\n($)"]
[1,null,null,null,null,null,{"$f":"IF(OR(\nAND(ISTEXT(B36),ISBLANK(C36))),1,0)","v":0},null,"Plant – Elevated Work Platform (small) and Cable Test Va - Average cost",1,65,{"$f":"43.1351164210975*1.24689","v":53.784745314302263},{"$f":"L36*(K36/60)*J36","v":58.266807423827451},{"$f":"IF(OR(\nAND(ISTEXT(H36),ISBLANK(I36))),1,0)","v":0},null,null,{"$f":"P36","v":0},{"$f":"IF(OR(\nAND(ISTEXT(O36),ISBLANK(#REF!))),1,0)","v":0}]
[{"$f":"IFERROR(A36+1,\"\")","v":2},null,null,null,null,null,0,null,null,null,null,null,{"$f":"L37*(K37/60)*J37","v":0},0,null,null,{"$f":"P37","v":0},{"$f":"IF(OR(\nAND(ISTEXT(O37),ISBLANK(#REF!))),1,0)","v":0}]
[{"$f":"IFERROR(A37+1,\"\")","v":3},null,null,null,null,null,0,null,null,null,null,null,0,0,null,null,0,{"$f":"IF(OR(\nAND(ISTEXT(O38),ISBLANK(#REF!))),1,0)","v":0}]
[4,null,null,null,null,null,0,null,null,null,null,null,0,0,null,null,0,{"$f":"IF(OR(\nAND(ISTEXT(O39),ISBLANK(#REF!))),1,0)","v":0}]
[5,null,null,null,null,null,0,null,null,null,null,null,0,0,null,null,0,{"$f":"IF(OR(\nAND(ISTEXT(O40),ISBLANK(#REF!))),1,0)","v":0}]
[6,null,null,null,null,null,0,null,null,null,null,null,0,0,null,null,0,{"$f":"IF(OR(\nAND(ISTEXT(O41),ISBLANK(#REF!))),1,0)","v":0}]
[7,null,null,null,null,null,0,null,null,null,null,null,0,0,null,null,0,{"$f":"IF(OR(\nAND(ISTEXT(O42),ISBLANK(#REF!))),1,0)","v":0}]
[8,null,null,null,null,null,0,null,null,null,null,null,0,0,null,null,0,{"$f":"IF(OR(\nAND(ISTEXT(O43),ISBLANK(#REF!))),1,0)","v":0}]
[9,null,null,null,null,null,0,null,null,null,null,null,0,0,null,null,0,{"$f":"IF(OR(\nAND(ISTEXT(O44),ISBLANK(#REF!))),1,0)","v":0}]
[10,null,null,null,null,null,0,null,null,null,null,null,0,0,null,null,0,{"$f":"IF(OR(\nAND(ISTEXT(O45),ISBLANK(#REF!))),1,0)","v":0}]
[11,null,null,null,null,null,0,null,null,null,null,null,0,0,null,null,0,{"$f":"IF(OR(\nAND(ISTEXT(O46),ISBLANK(#REF!))),1,0)","v":0}]
[12,null,null,null,null,null,0,null,null,null,null,null,0,0,null,null,0,{"$f":"IF(OR(\nAND(ISTEXT(O47),ISBLANK(#REF!))),1,0)","v":0}]
[13,null,null,null,null,null,0,null,null,null,null,null,0,0,null,null,0,{"$f":"IF(OR(\nAND(ISTEXT(O48),ISBLANK(#REF!))),1,0)","v":0}]
[14,null,null,null,null,null,0,null,null,null,null,null,0,0,null,null,0,{"$f":"IF(OR(\nAND(ISTEXT(O49),ISBLANK(#REF!))),1,0)","v":0}]
[15,null,null,null,null,null,0,null,null,null,null,null,0,0,null,null,0,{"$f":"IF(OR(\nAND(ISTEXT(O50),ISBLANK(#REF!))),1,0)","v":0}]
[16,null,null,null,null,null,0,null,null,null,null,null,0,0,null,null,0,{"$f":"IF(OR(\nAND(ISTEXT(O51),ISBLANK(#REF!))),1,0)","v":0}]
[17,null,null,null,null,null,0,null,null,null,null,null,0,0,null,null,0,{"$f":"IF(OR(\nAND(ISTEXT(O52),ISBLANK(#REF!))),1,0)","v":0}]
[18,null,null,null,null,null,0,null,null,null,null,null,0,0,null,null,0,{"$f":"IF(OR(\nAND(ISTEXT(O53),ISBLANK(#REF!))),1,0)","v":0}]
[19,null,null,null,null,null,0,null,null,null,null,null,0,0,null,null,0,{"$f":"IF(OR(\nAND(ISTEXT(O54),ISBLANK(#REF!))),1,0)","v":0}]
[20,null,null,null,null,null,0,null,null,null,null,null,0,0,null,null,0,{"$f":"IF(OR(\nAND(ISTEXT(O55),ISBLANK(#REF!))),1,0)","v":0}]
[null,null,null,null,"Materials Total",0,null,null,null,null,null,"Vehicle Total",{"$f":"SUM(M36:M55)","v":58.266807423827451},null,null,"Other Cost Total",{"$f":"SUM(Q36:Q55)","v":0}]

{"sheet":"SLOM","index":27,"n_rows":56,"n_cols":18,"rows_kept":56,"cut":false,"hidden":false,"merged":[]}
[null,{"$f":"IFERROR(Index!B1,\"\")","v":"Jemena Electricity Networks – Alternative Control Services Forecast model"},null,"Key:","Input",null,null,null,"Sheet Validation",{"$f":"IF(SUM(G8+M8+G34+N34+R34)=0,0,1)","v":0}]
[null,{"$f":"IFERROR(MID(CELL(\"filename\",A1),FIND(\"]\",CELL(\"filename\",A1))+1,255),\"\")","v":"SLOM"},null,null,"Formula"]
[]
[]
[]
[null,{"$f":"$B$2&\" - Labour Breakdown\"","v":"SLOM - Labour Breakdown"}]
[]
[null,"Non-field based labour",null,null,null,null,{"$f":"IF(SUM(G10:G29)=0,0,1)","v":0},"Field based labour",null,null,null,null,{"$f":"IF(SUM(M10:M29)=0,0,1)","v":0}]
[null,"Labour Category","Activity Name","FTE","Time on task (Minutes)","Labour Totals",null,"Labour Category",{"$f":"C9","v":"Activity Name"},{"$f":"D9","v":"FTE"},"Time on task (Minutes)","Time on task (Minutes)"]
[1,null,"[Insert]",null,null,{"$f":"(D10*E10)","v":0},{"$f":"IF(OR(\nAND(ISTEXT(B10),ISBLANK(C10)),\nAND(ISTEXT(#REF!),ISBLANK(#REF!))),1,0)","v":0},null,null,null,null,{"$f":"(J10*K10)","v":0},{"$f":"IF(OR(\nAND(ISTEXT(H10),ISBLANK(I10)),\nAND(ISTEXT(#REF!),ISBLANK(#REF!)),\nAND(ISTEXT(#REF!),ISBLANK(#REF!))),1,0)","v":0}]
[{"$f":"IFERROR(A10+1,\"\")","v":2},null,null,null,null,{"$f":"(D11*E11)","v":0},{"$f":"IF(OR(\nAND(ISTEXT(B11),ISBLANK(C11)),\nAND(ISTEXT(#REF!),ISBLANK(#REF!))),1,0)","v":0},null,null,null,null,0,{"$f":"IF(OR(\nAND(ISTEXT(H11),ISBLANK(I11)),\nAND(ISTEXT(#REF!),ISBLANK(#REF!)),\nAND(ISTEXT(#REF!),ISBLANK(#REF!))),1,0)","v":0}]
[{"$f":"IFERROR(A11+1,\"\")","v":3},null,null,null,null,0,{"$f":"IF(OR(\nAND(ISTEXT(B12),ISBLANK(C12)),\nAND(ISTEXT(#REF!),ISBLANK(#REF!))),1,0)","v":0},null,null,null,null,0,{"$f":"IF(OR(\nAND(ISTEXT(H12),ISBLANK(I12)),\nAND(ISTEXT(#REF!),ISBLANK(#REF!)),\nAND(ISTEXT(#REF!),ISBLANK(#REF!))),1,0)","v":0}]
[4,null,null,null,null,0,{"$f":"IF(OR(\nAND(ISTEXT(B13),ISBLANK(C13)),\nAND(ISTEXT(#REF!),ISBLANK(#REF!))),1,0)","v":0},null,null,null,null,0,{"$f":"IF(OR(\nAND(ISTEXT(H13),ISBLANK(I13)),\nAND(ISTEXT(#REF!),ISBLANK(#REF!)),\nAND(ISTEXT(#REF!),ISBLANK(#REF!))),1,0)","v":0}]
[5,null,null,null,null,0,{"$f":"IF(OR(\nAND(ISTEXT(B14),ISBLANK(C14)),\nAND(ISTEXT(#REF!),ISBLANK(#REF!))),1,0)","v":0},null,null,null,null,0,{"$f":"IF(OR(\nAND(ISTEXT(H14),ISBLANK(I14)),\nAND(ISTEXT(#REF!),ISBLANK(#REF!)),\nAND(ISTEXT(#REF!),ISBLANK(#REF!))),1,0)","v":0}]
[6,null,null,null,null,0,{"$f":"IF(OR(\nAND(ISTEXT(B15),ISBLANK(C15)),\nAND(ISTEXT(#REF!),ISBLANK(#REF!))),1,0)","v":0},null,null,null,null,0,{"$f":"IF(OR(\nAND(ISTEXT(H15),ISBLANK(I15)),\nAND(ISTEXT(#REF!),ISBLANK(#REF!)),\nAND(ISTEXT(#REF!),ISBLANK(#REF!))),1,0)","v":0}]
[7,null,null,null,null,0,{"$f":"IF(OR(\nAND(ISTEXT(B16),ISBLANK(C16)),\nAND(ISTEXT(#REF!),ISBLANK(#REF!))),1,0)","v":0},null,null,null,null,0,{"$f":"IF(OR(\nAND(ISTEXT(H16),ISBLANK(I16)),\nAND(ISTEXT(#REF!),ISBLANK(#REF!)),\nAND(ISTEXT(#REF!),ISBLANK(#REF!))),1,0)","v":0}]
[8,null,null,null,null,0,{"$f":"IF(OR(\nAND(ISTEXT(B17),ISBLANK(C17)),\nAND(ISTEXT(#REF!),ISBLANK(#REF!))),1,0)","v":0},null,null,null,null,0,{"$f":"IF(OR(\nAND(ISTEXT(H17),ISBLANK(I17)),\nAND(ISTEXT(#REF!),ISBLANK(#REF!)),\nAND(ISTEXT(#REF!),ISBLANK(#REF!))),1,0)","v":0}]
[9,null,null,null,null,0,{"$f":"IF(OR(\nAND(ISTEXT(B18),ISBLANK(C18)),\nAND(ISTEXT(#REF!),ISBLANK(#REF!))),1,0)","v":0},null,null,null,null,0,{"$f":"IF(OR(\nAND(ISTEXT(H18),ISBLANK(I18)),\nAND(ISTEXT(#REF!),ISBLANK(#REF!)),\nAND(ISTEXT(#REF!),ISBLANK(#REF!))),1,0)","v":0}]
[10,null,null,null,null,0,{"$f":"IF(OR(\nAND(ISTEXT(B19),ISBLANK(C19)),\nAND(ISTEXT(#REF!),ISBLANK(#REF!))),1,0)","v":0},null,null,null,null,0,{"$f":"IF(OR(\nAND(ISTEXT(H19),ISBLANK(I19)),\nAND(ISTEXT(#REF!),ISBLANK(#REF!)),\nAND(ISTEXT(#REF!),ISBLANK(#REF!))),1,0)","v":0}]
[11,null,null,null,null,0,{"$f":"IF(OR(\nAND(ISTEXT(B20),ISBLANK(C20)),\nAND(ISTEXT(#REF!),ISBLANK(#REF!))),1,0)","v":0},null,null,null,null,0,{"$f":"IF(OR(\nAND(ISTEXT(H20),ISBLANK(I20)),\nAND(ISTEXT(#REF!),ISBLANK(#REF!)),\nAND(ISTEXT(#REF!),ISBLANK(#REF!))),1,0)","v":0}]
[12,null,null,null,null,0,{"$f":"IF(OR(\nAND(ISTEXT(B21),ISBLANK(C21)),\nAND(ISTEXT(#REF!),ISBLANK(#REF!))),1,0)","v":0},null,null,null,null,0,{"$f":"IF(OR(\nAND(ISTEXT(H21),ISBLANK(I21)),\nAND(ISTEXT(#REF!),ISBLANK(#REF!)),\nAND(ISTEXT(#REF!),ISBLANK(#REF!))),1,0)","v":0}]
[13,null,null,null,null,0,{"$f":"IF(OR(\nAND(ISTEXT(B22),ISBLANK(C22)),\nAND(ISTEXT(#REF!),ISBLANK(#REF!))),1,0)","v":0},null,null,null,null,0,{"$f":"IF(OR(\nAND(ISTEXT(H22),ISBLANK(I22)),\nAND(ISTEXT(#REF!),ISBLANK(#REF!)),\nAND(ISTEXT(#REF!),ISBLANK(#REF!))),1,0)","v":0}]
[14,null,null,null,null,0,{"$f":"IF(OR(\nAND(ISTEXT(B23),ISBLANK(C23)),\nAND(ISTEXT(#REF!),ISBLANK(#REF!))),1,0)","v":0},null,null,null,null,0,{"$f":"IF(OR(\nAND(ISTEXT(H23),ISBLANK(I23)),\nAND(ISTEXT(#REF!),ISBLANK(#REF!)),\nAND(ISTEXT(#REF!),ISBLANK(#REF!))),1,0)","v":0}]
[15,null,null,null,null,0,{"$f":"IF(OR(\nAND(ISTEXT(B24),ISBLANK(C24)),\nAND(ISTEXT(#REF!),ISBLANK(#REF!))),1,0)","v":0},null,null,null,null,0,{"$f":"IF(OR(\nAND(ISTEXT(H24),ISBLANK(I24)),\nAND(ISTEXT(#REF!),ISBLANK(#REF!)),\nAND(ISTEXT(#REF!),ISBLANK(#REF!))),1,0)","v":0}]
[16,null,null,null,null,0,{"$f":"IF(OR(\nAND(ISTEXT(B25),ISBLANK(C25)),\nAND(ISTEXT(#REF!),ISBLANK(#REF!))),1,0)","v":0},null,null,null,null,0,{"$f":"IF(OR(\nAND(ISTEXT(H25),ISBLANK(I25)),\nAND(ISTEXT(#REF!),ISBLANK(#REF!)),\nAND(ISTEXT(#REF!),ISBLANK(#REF!))),1,0)","v":0}]
[17,null,null,null,null,0,{"$f":"IF(OR(\nAND(ISTEXT(B26),ISBLANK(C26)),\nAND(ISTEXT(#REF!),ISBLANK(#REF!))),1,0)","v":0},null,null,null,null,0,{"$f":"IF(OR(\nAND(ISTEXT(H26),ISBLANK(I26)),\nAND(ISTEXT(#REF!),ISBLANK(#REF!)),\nAND(ISTEXT(#REF!),ISBLANK(#REF!))),1,0)","v":0}]
[18,null,null,null,null,0,{"$f":"IF(OR(\nAND(ISTEXT(B27),ISBLANK(C27)),\nAND(ISTEXT(#REF!),ISBLANK(#REF!))),1,0)","v":0},null,null,null,null,0,{"$f":"IF(OR(\nAND(ISTEXT(H27),ISBLANK(I27)),\nAND(ISTEXT(#REF!),ISBLANK(#REF!)),\nAND(ISTEXT(#REF!),ISBLANK(#REF!))),1,0)","v":0}]
[19,null,null,null,null,0,{"$f":"IF(OR(\nAND(ISTEXT(B28),ISBLANK(C28)),\nAND(ISTEXT(#REF!),ISBLANK(#REF!))),1,0)","v":0},null,null,null,null,0,{"$f":"IF(OR(\nAND(ISTEXT(H28),ISBLANK(I28)),\nAND(ISTEXT(#REF!),ISBLANK(#REF!)),\nAND(ISTEXT(#REF!),ISBLANK(#REF!))),1,0)","v":0}]
[20,null,null,null,null,0,{"$f":"IF(OR(\nAND(ISTEXT(B29),ISBLANK(C29)),\nAND(ISTEXT(#REF!),ISBLANK(#REF!))),1,0)","v":0},null,null,null,null,0,{"$f":"IF(OR(\nAND(ISTEXT(H29),ISBLANK(I29)),\nAND(ISTEXT(#REF!),ISBLANK(#REF!)),\nAND(ISTEXT(#REF!),ISBLANK(#REF!))),1,0)","v":0}]
[null,null,null,null,"Total Minutes",{"$f":"SUM(F10:F29)","v":0},null,null,null,null,"Total Minutes",{"$f":"SUM(L10:L29)","v":0}]
[]
[null,{"$f":"$B$2&\" - Non Labour Breakdown\"","v":"SLOM - Non Labour Breakdown"}]
[]
[null,"Materials",null,null,null,null,{"$f":"IF(SUM(G36:G55)=0,0,1)","v":0},"Vehicle",null,null,null,null,null,{"$f":"IF(SUM(N36:N55)=0,0,1)","v":0},"Other Costs",null,null,{"$f":"IF(SUM(R36:R55)=0,0,1)","v":0}]
[null,"Material Code","Material Name","Units","Unit Cost \n($)","Cost of Unit\n($)",null,"Vehicle Code","Vehicle Name","Number of Units","Hire Time (Minutes)","Hourly Unit Rate\n($)","Cost of Unit\n($)",null,"Notes and sources for \"Other costs\"","Cost\n($)","Cost of Unit\n($)"]
[1,null,null,null,null,null,{"$f":"IF(OR(\nAND(ISTEXT(B36),ISBLANK(O41))),1,0)","v":0},null,null,null,null,null,{"$f":"L36*(K36/60)*J36","v":0},{"$f":"IF(OR(\nAND(ISTEXT(H36),ISBLANK(I36))),1,0)","v":0},null,null,{"$f":"P36","v":0},{"$f":"IF(OR(\nAND(ISTEXT(O37),ISBLANK(#REF!))),1,0)","v":0}]
[{"$f":"IFERROR(A36+1,\"\")","v":2},null,null,null,null,null,{"$f":"IF(OR(\nAND(ISTEXT(B37),ISBLANK(O42))),1,0)","v":0},null,null,null,null,null,0,0,null,null,{"$f":"P37","v":0},{"$f":"IF(OR(\nAND(ISTEXT(O38),ISBLANK(#REF!))),1,0)","v":0}]
[{"$f":"IFERROR(A37+1,\"\")","v":3},null,null,null,null,null,{"$f":"IF(OR(\nAND(ISTEXT(B38),ISBLANK(O43))),1,0)","v":0},null,null,null,null,null,0,0,null,null,0,{"$f":"IF(OR(\nAND(ISTEXT(O39),ISBLANK(#REF!))),1,0)","v":0}]
[4,null,null,null,null,null,{"$f":"IF(OR(\nAND(ISTEXT(B39),ISBLANK(C39))),1,0)","v":0},null,null,null,null,null,0,0,"Current period rate in the penultimate year",{"$f":"'Input|Fee Based Mapping'!$J$31","v":161.47999999999999},161.47999999999999,{"$f":"IF(OR(\nAND(ISTEXT(O40),ISBLANK(#REF!))),1,0)","v":0}]
[5,null,null,null,null,null,0,null,null,null,null,null,0,0,"- Network & Corp O/H & Margin",{"$f":"-(P39-P39/(1+SUM('Input|Indirect Cost Rates'!$D$26,'Input|Indirect Cost Rates'!$D$28,'Input|Indirect Cost Rates'!$D$35)))","v":-64.802789847211557},-64.802789847211557,{"$f":"IF(OR(\nAND(ISTEXT(#REF!),ISBLANK(#REF!))),1,0)","v":0}]
[6,null,null,null,null,null,0,null,null,null,null,null,0,0,null,null,0,{"$f":"IF(OR(\nAND(ISTEXT(#REF!),ISBLANK(#REF!))),1,0)","v":0}]
[7,null,null,null,null,null,0,null,null,null,null,null,0,0,null,null,0,{"$f":"IF(OR(\nAND(ISTEXT(#REF!),ISBLANK(#REF!))),1,0)","v":0}]
[8,null,null,null,null,null,0,null,null,null,null,null,0,0,null,null,0,{"$f":"IF(OR(\nAND(ISTEXT(#REF!),ISBLANK(#REF!))),1,0)","v":0}]
[9,null,null,null,null,null,0,null,null,null,null,null,0,0,null,null,0,{"$f":"IF(OR(\nAND(ISTEXT(O44),ISBLANK(#REF!))),1,0)","v":0}]
[10,null,null,null,null,null,0,null,null,null,null,null,0,0,null,null,0,{"$f":"IF(OR(\nAND(ISTEXT(O45),ISBLANK(#REF!))),1,0)","v":0}]
[11,null,null,null,null,null,0,null,null,null,null,null,0,0,null,null,0,{"$f":"IF(OR(\nAND(ISTEXT(O46),ISBLANK(#REF!))),1,0)","v":0}]
[12,null,null,null,null,null,0,null,null,null,null,null,0,0,null,null,0,{"$f":"IF(OR(\nAND(ISTEXT(O47),ISBLANK(#REF!))),1,0)","v":0}]
[13,null,null,null,null,null,0,null,null,null,null,null,0,0,null,null,0,{"$f":"IF(OR(\nAND(ISTEXT(O48),ISBLANK(#REF!))),1,0)","v":0}]
[14,null,null,null,null,null,0,null,null,null,null,null,0,0,null,null,0,{"$f":"IF(OR(\nAND(ISTEXT(O49),ISBLANK(#REF!))),1,0)","v":0}]
[15,null,null,null,null,null,0,null,null,null,null,null,0,0,null,null,0,{"$f":"IF(OR(\nAND(ISTEXT(O50),ISBLANK(#REF!))),1,0)","v":0}]
[16,null,null,null,null,null,0,null,null,null,null,null,0,0,null,null,0,{"$f":"IF(OR(\nAND(ISTEXT(O51),ISBLANK(#REF!))),1,0)","v":0}]
[17,null,null,null,null,null,0,null,null,null,null,null,0,0,null,null,0,{"$f":"IF(OR(\nAND(ISTEXT(O52),ISBLANK(#REF!))),1,0)","v":0}]
[18,null,null,null,null,null,0,null,null,null,null,null,0,0,null,null,0,{"$f":"IF(OR(\nAND(ISTEXT(O53),ISBLANK(#REF!))),1,0)","v":0}]
[19,null,null,null,null,null,0,null,null,null,null,null,0,0,null,null,0,{"$f":"IF(OR(\nAND(ISTEXT(O54),ISBLANK(#REF!))),1,0)","v":0}]
[20,null,null,null,null,null,0,null,null,null,null,null,0,0,null,null,0,{"$f":"IF(OR(\nAND(ISTEXT(O55),ISBLANK(#REF!))),1,0)","v":0}]
[null,null,null,null,"Materials Total",0,null,null,null,null,null,"Vehicle Total",{"$f":"SUM(M36:M55)","v":0},null,null,"Other Cost Total",{"$f":"SUM(Q36:Q55)","v":96.677210152788433}]

{"sheet":"RFOM","index":28,"n_rows":56,"n_cols":18,"rows_kept":56,"cut":false,"hidden":false,"merged":[]}
[null,{"$f":"IFERROR(Index!B1,\"\")","v":"Jemena Electricity Networks – Alternative Control Services Forecast model"},null,"Key:","Input",null,null,null,"Sheet Validation",{"$f":"IF(SUM(G8+M8+G34+N34+R34)=0,0,1)","v":0}]
[null,{"$f":"IFERROR(MID(CELL(\"filename\",A1),FIND(\"]\",CELL(\"filename\",A1))+1,255),\"\")","v":"RFOM"},null,null,"Formula"]
[]
[]
[]
[null,{"$f":"$B$2&\" - Labour Breakdown\"","v":"RFOM - Labour Breakdown"}]
[]
[null,"Non-field based labour",null,null,null,null,{"$f":"IF(SUM(G10:G29)=0,0,1)","v":0},"Field based labour",null,null,null,null,{"$f":"IF(SUM(M10:M29)=0,0,1)","v":0}]
[null,"Labour Category","Activity Name","FTE","Time on task (Minutes)","Labour Totals",null,"Labour Category",{"$f":"C9","v":"Activity Name"},{"$f":"D9","v":"FTE"},"Time on task (Minutes)","Time on task (Minutes)"]
[1,null,"[Insert]",null,null,{"$f":"(D10*E10)","v":0},{"$f":"IF(OR(\nAND(ISTEXT(B10),ISBLANK(C10)),\nAND(ISTEXT(#REF!),ISBLANK(#REF!))),1,0)","v":0},null,"[Insert]",null,null,{"$f":"(J10*K10)","v":0},{"$f":"IF(OR(\nAND(ISTEXT(H10),ISBLANK(I10)),\nAND(ISTEXT(#REF!),ISBLANK(#REF!)),\nAND(ISTEXT(#REF!),ISBLANK(#REF!))),1,0)","v":0}]
[{"$f":"IFERROR(A10+1,\"\")","v":2},null,null,null,null,{"$f":"(D11*E11)","v":0},{"$f":"IF(OR(\nAND(ISTEXT(B11),ISBLANK(C11)),\nAND(ISTEXT(#REF!),ISBLANK(#REF!))),1,0)","v":0},null,null,null,null,{"$f":"(J11*K11)","v":0},{"$f":"IF(OR(\nAND(ISTEXT(H11),ISBLANK(I11)),\nAND(ISTEXT(#REF!),ISBLANK(#REF!)),\nAND(ISTEXT(#REF!),ISBLANK(#REF!))),1,0)","v":0}]
[{"$f":"IFERROR(A11+1,\"\")","v":3},null,null,null,null,0,{"$f":"IF(OR(\nAND(ISTEXT(B12),ISBLANK(C12)),\nAND(ISTEXT(#REF!),ISBLANK(#REF!))),1,0)","v":0},null,null,null,null,0,{"$f":"IF(OR(\nAND(ISTEXT(H12),ISBLANK(I12)),\nAND(ISTEXT(#REF!),ISBLANK(#REF!)),\nAND(ISTEXT(#REF!),ISBLANK(#REF!))),1,0)","v":0}]
[4,null,null,null,null,0,{"$f":"IF(OR(\nAND(ISTEXT(B13),ISBLANK(C13)),\nAND(ISTEXT(#REF!),ISBLANK(#REF!))),1,0)","v":0},null,null,null,null,0,{"$f":"IF(OR(\nAND(ISTEXT(H13),ISBLANK(I13)),\nAND(ISTEXT(#REF!),ISBLANK(#REF!)),\nAND(ISTEXT(#REF!),ISBLANK(#REF!))),1,0)","v":0}]
[5,null,null,null,null,0,{"$f":"IF(OR(\nAND(ISTEXT(B14),ISBLANK(C14)),\nAND(ISTEXT(#REF!),ISBLANK(#REF!))),1,0)","v":0},null,null,null,null,0,{"$f":"IF(OR(\nAND(ISTEXT(H14),ISBLANK(I14)),\nAND(ISTEXT(#REF!),ISBLANK(#REF!)),\nAND(ISTEXT(#REF!),ISBLANK(#REF!))),1,0)","v":0}]
[6,null,null,null,null,0,{"$f":"IF(OR(\nAND(ISTEXT(B15),ISBLANK(C15)),\nAND(ISTEXT(#REF!),ISBLANK(#REF!))),1,0)","v":0},null,null,null,null,0,{"$f":"IF(OR(\nAND(ISTEXT(H15),ISBLANK(I15)),\nAND(ISTEXT(#REF!),ISBLANK(#REF!)),\nAND(ISTEXT(#REF!),ISBLANK(#REF!))),1,0)","v":0}]
[7,null,null,null,null,0,{"$f":"IF(OR(\nAND(ISTEXT(B16),ISBLANK(C16)),\nAND(ISTEXT(#REF!),ISBLANK(#REF!))),1,0)","v":0},null,null,null,null,0,{"$f":"IF(OR(\nAND(ISTEXT(H16),ISBLANK(I16)),\nAND(ISTEXT(#REF!),ISBLANK(#REF!)),\nAND(ISTEXT(#REF!),ISBLANK(#REF!))),1,0)","v":0}]
[8,null,null,null,null,0,{"$f":"IF(OR(\nAND(ISTEXT(B17),ISBLANK(C17)),\nAND(ISTEXT(#REF!),ISBLANK(#REF!))),1,0)","v":0},null,null,null,null,0,{"$f":"IF(OR(\nAND(ISTEXT(H17),ISBLANK(I17)),\nAND(ISTEXT(#REF!),ISBLANK(#REF!)),\nAND(ISTEXT(#REF!),ISBLANK(#REF!))),1,0)","v":0}]
[9,null,null,null,null,0,{"$f":"IF(OR(\nAND(ISTEXT(B18),ISBLANK(C18)),\nAND(ISTEXT(#REF!),ISBLANK(#REF!))),1,0)","v":0},null,null,null,null,0,{"$f":"IF(OR(\nAND(ISTEXT(H18),ISBLANK(I18)),\nAND(ISTEXT(#REF!),ISBLANK(#REF!)),\nAND(ISTEXT(#REF!),ISBLANK(#REF!))),1,0)","v":0}]
[10,null,null,null,null,0,{"$f":"IF(OR(\nAND(ISTEXT(B19),ISBLANK(C19)),\nAND(ISTEXT(#REF!),ISBLANK(#REF!))),1,0)","v":0},null,null,null,null,0,{"$f":"IF(OR(\nAND(ISTEXT(H19),ISBLANK(I19)),\nAND(ISTEXT(#REF!),ISBLANK(#REF!)),\nAND(ISTEXT(#REF!),ISBLANK(#REF!))),1,0)","v":0}]
[11,null,null,null,null,0,{"$f":"IF(OR(\nAND(ISTEXT(B20),ISBLANK(C20)),\nAND(ISTEXT(#REF!),ISBLANK(#REF!))),1,0)","v":0},null,null,null,null,0,{"$f":"IF(OR(\nAND(ISTEXT(H20),ISBLANK(I20)),\nAND(ISTEXT(#REF!),ISBLANK(#REF!)),\nAND(ISTEXT(#REF!),ISBLANK(#REF!))),1,0)","v":0}]
[12,null,null,null,null,0,{"$f":"IF(OR(\nAND(ISTEXT(B21),ISBLANK(C21)),\nAND(ISTEXT(#REF!),ISBLANK(#REF!))),1,0)","v":0},null,null,null,null,0,{"$f":"IF(OR(\nAND(ISTEXT(H21),ISBLANK(I21)),\nAND(ISTEXT(#REF!),ISBLANK(#REF!)),\nAND(ISTEXT(#REF!),ISBLANK(#REF!))),1,0)","v":0}]
[13,null,null,null,null,0,{"$f":"IF(OR(\nAND(ISTEXT(B22),ISBLANK(C22)),\nAND(ISTEXT(#REF!),ISBLANK(#REF!))),1,0)","v":0},null,null,null,null,0,{"$f":"IF(OR(\nAND(ISTEXT(H22),ISBLANK(I22)),\nAND(ISTEXT(#REF!),ISBLANK(#REF!)),\nAND(ISTEXT(#REF!),ISBLANK(#REF!))),1,0)","v":0}]
[14,null,null,null,null,0,{"$f":"IF(OR(\nAND(ISTEXT(B23),ISBLANK(C23)),\nAND(ISTEXT(#REF!),ISBLANK(#REF!))),1,0)","v":0},null,null,null,null,0,{"$f":"IF(OR(\nAND(ISTEXT(H23),ISBLANK(I23)),\nAND(ISTEXT(#REF!),ISBLANK(#REF!)),\nAND(ISTEXT(#REF!),ISBLANK(#REF!))),1,0)","v":0}]
[15,null,null,null,null,0,{"$f":"IF(OR(\nAND(ISTEXT(B24),ISBLANK(C24)),\nAND(ISTEXT(#REF!),ISBLANK(#REF!))),1,0)","v":0},null,null,null,null,0,{"$f":"IF(OR(\nAND(ISTEXT(H24),ISBLANK(I24)),\nAND(ISTEXT(#REF!),ISBLANK(#REF!)),\nAND(ISTEXT(#REF!),ISBLANK(#REF!))),1,0)","v":0}]
[16,null,null,null,null,0,{"$f":"IF(OR(\nAND(ISTEXT(B25),ISBLANK(C25)),\nAND(ISTEXT(#REF!),ISBLANK(#REF!))),1,0)","v":0},null,null,null,null,0,{"$f":"IF(OR(\nAND(ISTEXT(H25),ISBLANK(I25)),\nAND(ISTEXT(#REF!),ISBLANK(#REF!)),\nAND(ISTEXT(#REF!),ISBLANK(#REF!))),1,0)","v":0}]
[17,null,null,null,null,0,{"$f":"IF(OR(\nAND(ISTEXT(B26),ISBLANK(C26)),\nAND(ISTEXT(#REF!),ISBLANK(#REF!))),1,0)","v":0},null,null,null,null,0,{"$f":"IF(OR(\nAND(ISTEXT(H26),ISBLANK(I26)),\nAND(ISTEXT(#REF!),ISBLANK(#REF!)),\nAND(ISTEXT(#REF!),ISBLANK(#REF!))),1,0)","v":0}]
[18,null,null,null,null,0,{"$f":"IF(OR(\nAND(ISTEXT(B27),ISBLANK(C27)),\nAND(ISTEXT(#REF!),ISBLANK(#REF!))),1,0)","v":0},null,null,null,null,0,{"$f":"IF(OR(\nAND(ISTEXT(H27),ISBLANK(I27)),\nAND(ISTEXT(#REF!),ISBLANK(#REF!)),\nAND(ISTEXT(#REF!),ISBLANK(#REF!))),1,0)","v":0}]
[19,null,null,null,null,0,{"$f":"IF(OR(\nAND(ISTEXT(B28),ISBLANK(C28)),\nAND(ISTEXT(#REF!),ISBLANK(#REF!))),1,0)","v":0},null,null,null,null,0,{"$f":"IF(OR(\nAND(ISTEXT(H28),ISBLANK(I28)),\nAND(ISTEXT(#REF!),ISBLANK(#REF!)),\nAND(ISTEXT(#REF!),ISBLANK(#REF!))),1,0)","v":0}]
[20,null,null,null,null,0,{"$f":"IF(OR(\nAND(ISTEXT(B29),ISBLANK(C29)),\nAND(ISTEXT(#REF!),ISBLANK(#REF!))),1,0)","v":0},null,null,null,null,0,{"$f":"IF(OR(\nAND(ISTEXT(H29),ISBLANK(I29)),\nAND(ISTEXT(#REF!),ISBLANK(#REF!)),\nAND(ISTEXT(#REF!),ISBLANK(#REF!))),1,0)","v":0}]
[null,null,null,null,"Total Minutes",{"$f":"SUM(F10:F29)","v":0},null,null,null,null,"Total Minutes",{"$f":"SUM(L10:L29)","v":0}]
[]
[null,{"$f":"$B$2&\" - Non Labour Breakdown\"","v":"RFOM - Non Labour Breakdown"}]
[]
[null,"Materials",null,null,null,null,{"$f":"IF(SUM(G36:G55)=0,0,1)","v":0},"Vehicle",null,null,null,null,null,{"$f":"IF(SUM(N36:N55)=0,0,1)","v":0},"Other Costs",null,null,{"$f":"IF(SUM(R36:R55)=0,0,1)","v":0}]
[null,"Material Code","Material Name","Number of Units","Unit Cost \n($)","Cost of Unit\n($)",null,"Vehicle Code","Vehicle Name","Number of Units","Hire Time (Minutes)","Hourly Unit Rate\n($)","Cost of Unit\n($)",null,"Notes and sources for \"Other costs\"","Cost\n($)","Cost of Unit\n($)"]
[1,null,null,null,null,null,{"$f":"IF(OR(\nAND(ISTEXT(B36),ISBLANK(C36))),1,0)","v":0},null,"[Insert]",null,null,null,{"$f":"L36*(K36/60)*J36","v":0},{"$f":"IF(OR(\nAND(ISTEXT(H36),ISBLANK(I36))),1,0)","v":0},null,null,{"$f":"P36","v":0},{"$f":"IF(OR(\nAND(ISTEXT(O36),ISBLANK(#REF!))),1,0)","v":0}]
[{"$f":"IFERROR(A36+1,\"\")","v":2},null,null,null,null,null,0,null,null,null,null,null,{"$f":"L37*(K37/60)*J37","v":0},0,null,null,0,{"$f":"IF(OR(\nAND(ISTEXT(O37),ISBLANK(#REF!))),1,0)","v":0}]
[{"$f":"IFERROR(A37+1,\"\")","v":3},null,null,null,null,null,0,null,null,null,null,null,0,0,null,null,0,{"$f":"IF(OR(\nAND(ISTEXT(O38),ISBLANK(#REF!))),1,0)","v":0}]
[4,null,null,null,null,null,0,null,null,null,null,null,0,0,"Current period rate in the penultimate year",{"$f":"'Input|Fee Based Mapping'!$J$32","v":15.38},15.38,{"$f":"IF(OR(\nAND(ISTEXT(O39),ISBLANK(#REF!))),1,0)","v":0}]
[5,null,null,null,null,null,0,null,null,null,null,null,0,0,"- Network & Corp O/H & Margin",{"$f":"-(P39-P39/(1+SUM('Input|Indirect Cost Rates'!$D$26,'Input|Indirect Cost Rates'!$D$28,'Input|Indirect Cost Rates'!$D$35)))","v":-6.1720764667458123},-6.1720764667458123,{"$f":"IF(OR(\nAND(ISTEXT(O40),ISBLANK(#REF!))),1,0)","v":0}]
[6,null,null,null,null,null,0,null,null,null,null,null,0,0,null,null,0,{"$f":"IF(OR(\nAND(ISTEXT(O41),ISBLANK(#REF!))),1,0)","v":0}]
[7,null,null,null,null,null,0,null,null,null,null,null,0,0,null,null,0,{"$f":"IF(OR(\nAND(ISTEXT(O42),ISBLANK(#REF!))),1,0)","v":0}]
[8,null,null,null,null,null,0,null,null,null,null,null,0,0,null,null,0,{"$f":"IF(OR(\nAND(ISTEXT(O43),ISBLANK(#REF!))),1,0)","v":0}]
[9,null,null,null,null,null,0,null,null,null,null,null,0,0,null,null,0,{"$f":"IF(OR(\nAND(ISTEXT(O44),ISBLANK(#REF!))),1,0)","v":0}]
[10,null,null,null,null,null,0,null,null,null,null,null,0,0,null,null,0,{"$f":"IF(OR(\nAND(ISTEXT(O45),ISBLANK(#REF!))),1,0)","v":0}]
[11,null,null,null,null,null,0,null,null,null,null,null,0,0,null,null,0,{"$f":"IF(OR(\nAND(ISTEXT(O46),ISBLANK(#REF!))),1,0)","v":0}]
[12,null,null,null,null,null,0,null,null,null,null,null,0,0,null,null,0,{"$f":"IF(OR(\nAND(ISTEXT(O47),ISBLANK(#REF!))),1,0)","v":0}]
[13,null,null,null,null,null,0,null,null,null,null,null,0,0,null,null,0,{"$f":"IF(OR(\nAND(ISTEXT(O48),ISBLANK(#REF!))),1,0)","v":0}]
[14,null,null,null,null,null,0,null,null,null,null,null,0,0,null,null,0,{"$f":"IF(OR(\nAND(ISTEXT(O49),ISBLANK(#REF!))),1,0)","v":0}]
[15,null,null,null,null,null,0,null,null,null,null,null,0,0,null,null,0,{"$f":"IF(OR(\nAND(ISTEXT(O50),ISBLANK(#REF!))),1,0)","v":0}]
[16,null,null,null,null,null,0,null,null,null,null,null,0,0,null,null,0,{"$f":"IF(OR(\nAND(ISTEXT(O51),ISBLANK(#REF!))),1,0)","v":0}]
[17,null,null,null,null,null,0,null,null,null,null,null,0,0,null,null,0,{"$f":"IF(OR(\nAND(ISTEXT(O52),ISBLANK(#REF!))),1,0)","v":0}]
[18,null,null,null,null,null,0,null,null,null,null,null,0,0,null,null,0,{"$f":"IF(OR(\nAND(ISTEXT(O53),ISBLANK(#REF!))),1,0)","v":0}]
[19,null,null,null,null,null,0,null,null,null,null,null,0,0,null,null,0,{"$f":"IF(OR(\nAND(ISTEXT(O54),ISBLANK(#REF!))),1,0)","v":0}]
[20,null,null,null,null,null,0,null,null,null,null,null,0,0,null,null,0,{"$f":"IF(OR(\nAND(ISTEXT(O55),ISBLANK(#REF!))),1,0)","v":0}]
[null,null,null,null,"Materials Total",0,null,null,null,null,null,"Vehicle Total",{"$f":"SUM(M36:M55)","v":0},null,null,"Other Cost Total",{"$f":"SUM(Q36:Q55)","v":9.2079235332541884}]

{"sheet":"REENRM","index":29,"n_rows":56,"n_cols":18,"rows_kept":56,"cut":false,"hidden":false,"merged":[]}
[null,{"$f":"IFERROR(Index!B1,\"\")","v":"Jemena Electricity Networks – Alternative Control Services Forecast model"},null,"Key:","Input",null,null,null,"Sheet Validation",{"$f":"IF(SUM(G8+M8+G34+N34+R34)=0,0,1)","v":0}]
[null,{"$f":"IFERROR(MID(CELL(\"filename\",A1),FIND(\"]\",CELL(\"filename\",A1))+1,255),\"\")","v":"REENRM"},null,null,"Formula"]
[]
[]
[]
[null,{"$f":"$B$2&\" - Labour Breakdown\"","v":"REENRM - Labour Breakdown"}]
[]
[null,"Non-field based labour",null,null,null,null,{"$f":"IF(SUM(G10:G29)=0,0,1)","v":0},"Field based labour",null,null,null,null,{"$f":"IF(SUM(M10:M29)=0,0,1)","v":0}]
[null,"Labour Category","Activity Name","FTE","Time on task (Minutes)","Labour Totals",null,"Labour Category",{"$f":"C9","v":"Activity Name"},{"$f":"D9","v":"FTE"},"Time on task (Minutes)","Time on task (Minutes)"]
[1,null,"MSI task De-En & Re-En coincidental",0,2,{"$f":"(D10*E10)","v":0},{"$f":"IF(OR(\nAND(ISTEXT(B10),ISBLANK(C10)),\nAND(ISTEXT(#REF!),ISBLANK(#REF!))),1,0)","v":0},null,"[Insert]",null,null,{"$f":"(J10*K10)","v":0},{"$f":"IF(OR(\nAND(ISTEXT(H10),ISBLANK(I10)),\nAND(ISTEXT(#REF!),ISBLANK(#REF!)),\nAND(ISTEXT(#REF!),ISBLANK(#REF!))),1,0)","v":0}]
[{"$f":"IFERROR(A10+1,\"\")","v":2},null,"MSI task life support",0,2,{"$f":"(D11*E11)","v":0},{"$f":"IF(OR(\nAND(ISTEXT(B11),ISBLANK(C11)),\nAND(ISTEXT(#REF!),ISBLANK(#REF!))),1,0)","v":0},null,null,null,null,{"$f":"(J11*K11)","v":0},{"$f":"IF(OR(\nAND(ISTEXT(H11),ISBLANK(I11)),\nAND(ISTEXT(#REF!),ISBLANK(#REF!)),\nAND(ISTEXT(#REF!),ISBLANK(#REF!))),1,0)","v":0}]
[{"$f":"IFERROR(A11+1,\"\")","v":3},null,"Manage system exceptions, errors and reporting",0,2,0,{"$f":"IF(OR(\nAND(ISTEXT(B12),ISBLANK(C12)),\nAND(ISTEXT(#REF!),ISBLANK(#REF!))),1,0)","v":0},null,null,null,null,0,{"$f":"IF(OR(\nAND(ISTEXT(H12),ISBLANK(I12)),\nAND(ISTEXT(#REF!),ISBLANK(#REF!)),\nAND(ISTEXT(#REF!),ISBLANK(#REF!))),1,0)","v":0}]
[4,null,null,null,null,0,{"$f":"IF(OR(\nAND(ISTEXT(B13),ISBLANK(C13)),\nAND(ISTEXT(#REF!),ISBLANK(#REF!))),1,0)","v":0},null,null,null,null,0,{"$f":"IF(OR(\nAND(ISTEXT(H13),ISBLANK(I13)),\nAND(ISTEXT(#REF!),ISBLANK(#REF!)),\nAND(ISTEXT(#REF!),ISBLANK(#REF!))),1,0)","v":0}]
[5,null,null,null,null,0,{"$f":"IF(OR(\nAND(ISTEXT(B14),ISBLANK(C14)),\nAND(ISTEXT(#REF!),ISBLANK(#REF!))),1,0)","v":0},null,null,null,null,0,{"$f":"IF(OR(\nAND(ISTEXT(H14),ISBLANK(I14)),\nAND(ISTEXT(#REF!),ISBLANK(#REF!)),\nAND(ISTEXT(#REF!),ISBLANK(#REF!))),1,0)","v":0}]
[6,null,null,null,null,0,{"$f":"IF(OR(\nAND(ISTEXT(B15),ISBLANK(C15)),\nAND(ISTEXT(#REF!),ISBLANK(#REF!))),1,0)","v":0},null,null,null,null,0,{"$f":"IF(OR(\nAND(ISTEXT(H15),ISBLANK(I15)),\nAND(ISTEXT(#REF!),ISBLANK(#REF!)),\nAND(ISTEXT(#REF!),ISBLANK(#REF!))),1,0)","v":0}]
[7,null,null,null,null,0,{"$f":"IF(OR(\nAND(ISTEXT(B16),ISBLANK(C16)),\nAND(ISTEXT(#REF!),ISBLANK(#REF!))),1,0)","v":0},null,null,null,null,0,{"$f":"IF(OR(\nAND(ISTEXT(H16),ISBLANK(I16)),\nAND(ISTEXT(#REF!),ISBLANK(#REF!)),\nAND(ISTEXT(#REF!),ISBLANK(#REF!))),1,0)","v":0}]
[8,null,null,null,null,0,{"$f":"IF(OR(\nAND(ISTEXT(B17),ISBLANK(C17)),\nAND(ISTEXT(#REF!),ISBLANK(#REF!))),1,0)","v":0},null,null,null,null,0,{"$f":"IF(OR(\nAND(ISTEXT(H17),ISBLANK(I17)),\nAND(ISTEXT(#REF!),ISBLANK(#REF!)),\nAND(ISTEXT(#REF!),ISBLANK(#REF!))),1,0)","v":0}]
[9,null,null,null,null,0,{"$f":"IF(OR(\nAND(ISTEXT(B18),ISBLANK(C18)),\nAND(ISTEXT(#REF!),ISBLANK(#REF!))),1,0)","v":0},null,null,null,null,0,{"$f":"IF(OR(\nAND(ISTEXT(H18),ISBLANK(I18)),\nAND(ISTEXT(#REF!),ISBLANK(#REF!)),\nAND(ISTEXT(#REF!),ISBLANK(#REF!))),1,0)","v":0}]
[10,null,null,null,null,0,{"$f":"IF(OR(\nAND(ISTEXT(B19),ISBLANK(C19)),\nAND(ISTEXT(#REF!),ISBLANK(#REF!))),1,0)","v":0},null,null,null,null,0,{"$f":"IF(OR(\nAND(ISTEXT(H19),ISBLANK(I19)),\nAND(ISTEXT(#REF!),ISBLANK(#REF!)),\nAND(ISTEXT(#REF!),ISBLANK(#REF!))),1,0)","v":0}]
[11,null,null,null,null,0,{"$f":"IF(OR(\nAND(ISTEXT(B20),ISBLANK(C20)),\nAND(ISTEXT(#REF!),ISBLANK(#REF!))),1,0)","v":0},null,null,null,null,0,{"$f":"IF(OR(\nAND(ISTEXT(H20),ISBLANK(I20)),\nAND(ISTEXT(#REF!),ISBLANK(#REF!)),\nAND(ISTEXT(#REF!),ISBLANK(#REF!))),1,0)","v":0}]
[12,null,null,null,null,0,{"$f":"IF(OR(\nAND(ISTEXT(B21),ISBLANK(C21)),\nAND(ISTEXT(#REF!),ISBLANK(#REF!))),1,0)","v":0},null,null,null,null,0,{"$f":"IF(OR(\nAND(ISTEXT(H21),ISBLANK(I21)),\nAND(ISTEXT(#REF!),ISBLANK(#REF!)),\nAND(ISTEXT(#REF!),ISBLANK(#REF!))),1,0)","v":0}]
[13,null,null,null,null,0,{"$f":"IF(OR(\nAND(ISTEXT(B22),ISBLANK(C22)),\nAND(ISTEXT(#REF!),ISBLANK(#REF!))),1,0)","v":0},null,null,null,null,0,{"$f":"IF(OR(\nAND(ISTEXT(H22),ISBLANK(I22)),\nAND(ISTEXT(#REF!),ISBLANK(#REF!)),\nAND(ISTEXT(#REF!),ISBLANK(#REF!))),1,0)","v":0}]
[14,null,null,null,null,0,{"$f":"IF(OR(\nAND(ISTEXT(B23),ISBLANK(C23)),\nAND(ISTEXT(#REF!),ISBLANK(#REF!))),1,0)","v":0},null,null,null,null,0,{"$f":"IF(OR(\nAND(ISTEXT(H23),ISBLANK(I23)),\nAND(ISTEXT(#REF!),ISBLANK(#REF!)),\nAND(ISTEXT(#REF!),ISBLANK(#REF!))),1,0)","v":0}]
[15,null,null,null,null,0,{"$f":"IF(OR(\nAND(ISTEXT(B24),ISBLANK(C24)),\nAND(ISTEXT(#REF!),ISBLANK(#REF!))),1,0)","v":0},null,null,null,null,0,{"$f":"IF(OR(\nAND(ISTEXT(H24),ISBLANK(I24)),\nAND(ISTEXT(#REF!),ISBLANK(#REF!)),\nAND(ISTEXT(#REF!),ISBLANK(#REF!))),1,0)","v":0}]
[16,null,null,null,null,0,{"$f":"IF(OR(\nAND(ISTEXT(B25),ISBLANK(C25)),\nAND(ISTEXT(#REF!),ISBLANK(#REF!))),1,0)","v":0},null,null,null,null,0,{"$f":"IF(OR(\nAND(ISTEXT(H25),ISBLANK(I25)),\nAND(ISTEXT(#REF!),ISBLANK(#REF!)),\nAND(ISTEXT(#REF!),ISBLANK(#REF!))),1,0)","v":0}]
[17,null,null,null,null,0,{"$f":"IF(OR(\nAND(ISTEXT(B26),ISBLANK(C26)),\nAND(ISTEXT(#REF!),ISBLANK(#REF!))),1,0)","v":0},null,null,null,null,0,{"$f":"IF(OR(\nAND(ISTEXT(H26),ISBLANK(I26)),\nAND(ISTEXT(#REF!),ISBLANK(#REF!)),\nAND(ISTEXT(#REF!),ISBLANK(#REF!))),1,0)","v":0}]
[18,null,null,null,null,0,{"$f":"IF(OR(\nAND(ISTEXT(B27),ISBLANK(C27)),\nAND(ISTEXT(#REF!),ISBLANK(#REF!))),1,0)","v":0},null,null,null,null,0,{"$f":"IF(OR(\nAND(ISTEXT(H27),ISBLANK(I27)),\nAND(ISTEXT(#REF!),ISBLANK(#REF!)),\nAND(ISTEXT(#REF!),ISBLANK(#REF!))),1,0)","v":0}]
[19,null,null,null,null,0,{"$f":"IF(OR(\nAND(ISTEXT(B28),ISBLANK(C28)),\nAND(ISTEXT(#REF!),ISBLANK(#REF!))),1,0)","v":0},null,null,null,null,0,{"$f":"IF(OR(\nAND(ISTEXT(H28),ISBLANK(I28)),\nAND(ISTEXT(#REF!),ISBLANK(#REF!)),\nAND(ISTEXT(#REF!),ISBLANK(#REF!))),1,0)","v":0}]
[20,null,null,null,null,0,{"$f":"IF(OR(\nAND(ISTEXT(B29),ISBLANK(C29)),\nAND(ISTEXT(#REF!),ISBLANK(#REF!))),1,0)","v":0},null,null,null,null,0,{"$f":"IF(OR(\nAND(ISTEXT(H29),ISBLANK(I29)),\nAND(ISTEXT(#REF!),ISBLANK(#REF!)),\nAND(ISTEXT(#REF!),ISBLANK(#REF!))),1,0)","v":0}]
[null,null,null,null,"Total Minutes",{"$f":"SUM(F10:F29)","v":0},null,null,null,null,"Total Minutes",{"$f":"SUM(L10:L29)","v":0}]
[]
[null,{"$f":"$B$2&\" - Non Labour Breakdown\"","v":"REENRM - Non Labour Breakdown"}]
[]
[null,"Materials",null,null,null,null,{"$f":"IF(SUM(G36:G55)=0,0,1)","v":0},"Vehicle",null,null,null,null,null,{"$f":"IF(SUM(N36:N55)=0,0,1)","v":0},"Other Costs",null,null,{"$f":"IF(SUM(R36:R55)=0,0,1)","v":0}]
[null,"Material Code","Material Name","Number of Units","Unit Cost \n($)","Cost of Unit\n($)",null,"Vehicle Code","Vehicle Name","Number of Units","Hire Time (Minutes)","Hourly Unit Rate\n($)","Cost of Unit\n($)",null,"Notes and sources for \"Other costs\"","Cost\n($)","Cost of Unit\n($)"]
[1,null,null,null,null,null,{"$f":"IF(OR(\nAND(ISTEXT(B36),ISBLANK(C36))),1,0)","v":0},null,"[Insert]",null,null,null,{"$f":"L36*(K36/60)*J36","v":0},{"$f":"IF(OR(\nAND(ISTEXT(H36),ISBLANK(I36))),1,0)","v":0},null,null,{"$f":"P36","v":0},{"$f":"IF(OR(\nAND(ISTEXT(O36),ISBLANK(#REF!))),1,0)","v":0}]
[{"$f":"IFERROR(A36+1,\"\")","v":2},null,null,null,null,null,0,null,null,null,null,null,{"$f":"L37*(K37/60)*J37","v":0},0,null,null,{"$f":"P37","v":0},{"$f":"IF(OR(\nAND(ISTEXT(O37),ISBLANK(#REF!))),1,0)","v":0}]
[{"$f":"IFERROR(A37+1,\"\")","v":3},null,null,null,null,null,0,null,null,null,null,null,0,0,null,null,0,{"$f":"IF(OR(\nAND(ISTEXT(O38),ISBLANK(#REF!))),1,0)","v":0}]
[4,null,null,null,null,null,0,null,null,null,null,null,0,0,null,null,0,{"$f":"IF(OR(\nAND(ISTEXT(O39),ISBLANK(#REF!))),1,0)","v":0}]
[5,null,null,null,null,null,0,null,null,null,null,null,0,0,null,null,0,{"$f":"IF(OR(\nAND(ISTEXT(O40),ISBLANK(#REF!))),1,0)","v":0}]
[6,null,null,null,null,null,0,null,null,null,null,null,0,0,null,null,0,{"$f":"IF(OR(\nAND(ISTEXT(O41),ISBLANK(#REF!))),1,0)","v":0}]
[7,null,null,null,null,null,0,null,null,null,null,null,0,0,null,null,0,{"$f":"IF(OR(\nAND(ISTEXT(O42),ISBLANK(#REF!))),1,0)","v":0}]
[8,null,null,null,null,null,0,null,null,null,null,null,0,0,null,null,0,{"$f":"IF(OR(\nAND(ISTEXT(O43),ISBLANK(#REF!))),1,0)","v":0}]
[9,null,null,null,null,null,0,null,null,null,null,null,0,0,null,null,0,{"$f":"IF(OR(\nAND(ISTEXT(O44),ISBLANK(#REF!))),1,0)","v":0}]
[10,null,null,null,null,null,0,null,null,null,null,null,0,0,null,null,0,{"$f":"IF(OR(\nAND(ISTEXT(O45),ISBLANK(#REF!))),1,0)","v":0}]
[11,null,null,null,null,null,0,null,null,null,null,null,0,0,null,null,0,{"$f":"IF(OR(\nAND(ISTEXT(O46),ISBLANK(#REF!))),1,0)","v":0}]
[12,null,null,null,null,null,0,null,null,null,null,null,0,0,null,null,0,{"$f":"IF(OR(\nAND(ISTEXT(O47),ISBLANK(#REF!))),1,0)","v":0}]
[13,null,null,null,null,null,0,null,null,null,null,null,0,0,null,null,0,{"$f":"IF(OR(\nAND(ISTEXT(O48),ISBLANK(#REF!))),1,0)","v":0}]
[14,null,null,null,null,null,0,null,null,null,null,null,0,0,null,null,0,{"$f":"IF(OR(\nAND(ISTEXT(O49),ISBLANK(#REF!))),1,0)","v":0}]
[15,null,null,null,null,null,0,null,null,null,null,null,0,0,null,null,0,{"$f":"IF(OR(\nAND(ISTEXT(O50),ISBLANK(#REF!))),1,0)","v":0}]
[16,null,null,null,null,null,0,null,null,null,null,null,0,0,null,null,0,{"$f":"IF(OR(\nAND(ISTEXT(O51),ISBLANK(#REF!))),1,0)","v":0}]
[17,null,null,null,null,null,0,null,null,null,null,null,0,0,null,null,0,{"$f":"IF(OR(\nAND(ISTEXT(O52),ISBLANK(#REF!))),1,0)","v":0}]
[18,null,null,null,null,null,0,null,null,null,null,null,0,0,null,null,0,{"$f":"IF(OR(\nAND(ISTEXT(O53),ISBLANK(#REF!))),1,0)","v":0}]
[19,null,null,null,null,null,0,null,null,null,null,null,0,0,null,null,0,{"$f":"IF(OR(\nAND(ISTEXT(O54),ISBLANK(#REF!))),1,0)","v":0}]
[20,null,null,null,null,null,0,null,null,null,null,null,0,0,null,null,0,{"$f":"IF(OR(\nAND(ISTEXT(O55),ISBLANK(#REF!))),1,0)","v":0}]
[null,null,null,null,"Materials Total",0,null,null,null,null,null,"Vehicle Total",{"$f":"SUM(M36:M55)","v":0},null,null,"Other Cost Total",{"$f":"SUM(Q36:Q55)","v":0}]

{"sheet":"DEENRM","index":30,"n_rows":56,"n_cols":18,"rows_kept":56,"cut":false,"hidden":false,"merged":[]}
[null,{"$f":"IFERROR(Index!B1,\"\")","v":"Jemena Electricity Networks – Alternative Control Services Forecast model"},null,"Key:","Input",null,null,null,"Sheet Validation",{"$f":"IF(SUM(G8+M8+G34+N34+R34)=0,0,1)","v":0}]
[null,{"$f":"IFERROR(MID(CELL(\"filename\",A1),FIND(\"]\",CELL(\"filename\",A1))+1,255),\"\")","v":"DEENRM"},null,null,"Formula"]
[]
[]
[]
[null,{"$f":"$B$2&\" - Labour Breakdown\"","v":"DEENRM - Labour Breakdown"}]
[]
[null,"Non-field based labour",null,null,null,null,{"$f":"IF(SUM(G10:G29)=0,0,1)","v":0},"Field based labour",null,null,null,null,{"$f":"IF(SUM(M10:M29)=0,0,1)","v":0}]
[null,"Labour Category","Activity Name","FTE","Time on task (Minutes)","Labour Totals",null,"Labour Category",{"$f":"C9","v":"Activity Name"},{"$f":"D9","v":"FTE"},"Time on task (Minutes)","Time on task (Minutes)"]
[1,null,"MSI task De-En & Re-En coincidental",0,2,{"$f":"(D10*E10)","v":0},{"$f":"IF(OR(\nAND(ISTEXT(B10),ISBLANK(C10)),\nAND(ISTEXT(#REF!),ISBLANK(#REF!))),1,0)","v":0},null,"[Insert]",null,null,{"$f":"(J10*K10)","v":0},{"$f":"IF(OR(\nAND(ISTEXT(H10),ISBLANK(I10)),\nAND(ISTEXT(#REF!),ISBLANK(#REF!)),\nAND(ISTEXT(#REF!),ISBLANK(#REF!))),1,0)","v":0}]
[{"$f":"IFERROR(A10+1,\"\")","v":2},null,"MSI task life support",0,2,{"$f":"(D11*E11)","v":0},{"$f":"IF(OR(\nAND(ISTEXT(B11),ISBLANK(C11)),\nAND(ISTEXT(#REF!),ISBLANK(#REF!))),1,0)","v":0},null,null,null,null,{"$f":"(J11*K11)","v":0},{"$f":"IF(OR(\nAND(ISTEXT(H11),ISBLANK(I11)),\nAND(ISTEXT(#REF!),ISBLANK(#REF!)),\nAND(ISTEXT(#REF!),ISBLANK(#REF!))),1,0)","v":0}]
[{"$f":"IFERROR(A11+1,\"\")","v":3},null,"Manage system exceptions, errors and reporting",0,2,0,{"$f":"IF(OR(\nAND(ISTEXT(B12),ISBLANK(C12)),\nAND(ISTEXT(#REF!),ISBLANK(#REF!))),1,0)","v":0},null,null,null,null,0,{"$f":"IF(OR(\nAND(ISTEXT(H12),ISBLANK(I12)),\nAND(ISTEXT(#REF!),ISBLANK(#REF!)),\nAND(ISTEXT(#REF!),ISBLANK(#REF!))),1,0)","v":0}]
[4,null,null,null,null,0,{"$f":"IF(OR(\nAND(ISTEXT(B13),ISBLANK(C13)),\nAND(ISTEXT(#REF!),ISBLANK(#REF!))),1,0)","v":0},null,null,null,null,0,{"$f":"IF(OR(\nAND(ISTEXT(H13),ISBLANK(I13)),\nAND(ISTEXT(#REF!),ISBLANK(#REF!)),\nAND(ISTEXT(#REF!),ISBLANK(#REF!))),1,0)","v":0}]
[5,null,null,null,null,0,{"$f":"IF(OR(\nAND(ISTEXT(B14),ISBLANK(C14)),\nAND(ISTEXT(#REF!),ISBLANK(#REF!))),1,0)","v":0},null,null,null,null,0,{"$f":"IF(OR(\nAND(ISTEXT(H14),ISBLANK(I14)),\nAND(ISTEXT(#REF!),ISBLANK(#REF!)),\nAND(ISTEXT(#REF!),ISBLANK(#REF!))),1,0)","v":0}]
[6,null,null,null,null,0,{"$f":"IF(OR(\nAND(ISTEXT(B15),ISBLANK(C15)),\nAND(ISTEXT(#REF!),ISBLANK(#REF!))),1,0)","v":0},null,null,null,null,0,{"$f":"IF(OR(\nAND(ISTEXT(H15),ISBLANK(I15)),\nAND(ISTEXT(#REF!),ISBLANK(#REF!)),\nAND(ISTEXT(#REF!),ISBLANK(#REF!))),1,0)","v":0}]
[7,null,null,null,null,0,{"$f":"IF(OR(\nAND(ISTEXT(B16),ISBLANK(C16)),\nAND(ISTEXT(#REF!),ISBLANK(#REF!))),1,0)","v":0},null,null,null,null,0,{"$f":"IF(OR(\nAND(ISTEXT(H16),ISBLANK(I16)),\nAND(ISTEXT(#REF!),ISBLANK(#REF!)),\nAND(ISTEXT(#REF!),ISBLANK(#REF!))),1,0)","v":0}]
[8,null,null,null,null,0,{"$f":"IF(OR(\nAND(ISTEXT(B17),ISBLANK(C17)),\nAND(ISTEXT(#REF!),ISBLANK(#REF!))),1,0)","v":0},null,null,null,null,0,{"$f":"IF(OR(\nAND(ISTEXT(H17),ISBLANK(I17)),\nAND(ISTEXT(#REF!),ISBLANK(#REF!)),\nAND(ISTEXT(#REF!),ISBLANK(#REF!))),1,0)","v":0}]
[9,null,null,null,null,0,{"$f":"IF(OR(\nAND(ISTEXT(B18),ISBLANK(C18)),\nAND(ISTEXT(#REF!),ISBLANK(#REF!))),1,0)","v":0},null,null,null,null,0,{"$f":"IF(OR(\nAND(ISTEXT(H18),ISBLANK(I18)),\nAND(ISTEXT(#REF!),ISBLANK(#REF!)),\nAND(ISTEXT(#REF!),ISBLANK(#REF!))),1,0)","v":0}]
[10,null,null,null,null,0,{"$f":"IF(OR(\nAND(ISTEXT(B19),ISBLANK(C19)),\nAND(ISTEXT(#REF!),ISBLANK(#REF!))),1,0)","v":0},null,null,null,null,0,{"$f":"IF(OR(\nAND(ISTEXT(H19),ISBLANK(I19)),\nAND(ISTEXT(#REF!),ISBLANK(#REF!)),\nAND(ISTEXT(#REF!),ISBLANK(#REF!))),1,0)","v":0}]
[11,null,null,null,null,0,{"$f":"IF(OR(\nAND(ISTEXT(B20),ISBLANK(C20)),\nAND(ISTEXT(#REF!),ISBLANK(#REF!))),1,0)","v":0},null,null,null,null,0,{"$f":"IF(OR(\nAND(ISTEXT(H20),ISBLANK(I20)),\nAND(ISTEXT(#REF!),ISBLANK(#REF!)),\nAND(ISTEXT(#REF!),ISBLANK(#REF!))),1,0)","v":0}]
[12,null,null,null,null,0,{"$f":"IF(OR(\nAND(ISTEXT(B21),ISBLANK(C21)),\nAND(ISTEXT(#REF!),ISBLANK(#REF!))),1,0)","v":0},null,null,null,null,0,{"$f":"IF(OR(\nAND(ISTEXT(H21),ISBLANK(I21)),\nAND(ISTEXT(#REF!),ISBLANK(#REF!)),\nAND(ISTEXT(#REF!),ISBLANK(#REF!))),1,0)","v":0}]
[13,null,null,null,null,0,{"$f":"IF(OR(\nAND(ISTEXT(B22),ISBLANK(C22)),\nAND(ISTEXT(#REF!),ISBLANK(#REF!))),1,0)","v":0},null,null,null,null,0,{"$f":"IF(OR(\nAND(ISTEXT(H22),ISBLANK(I22)),\nAND(ISTEXT(#REF!),ISBLANK(#REF!)),\nAND(ISTEXT(#REF!),ISBLANK(#REF!))),1,0)","v":0}]
[14,null,null,null,null,0,{"$f":"IF(OR(\nAND(ISTEXT(B23),ISBLANK(C23)),\nAND(ISTEXT(#REF!),ISBLANK(#REF!))),1,0)","v":0},null,null,null,null,0,{"$f":"IF(OR(\nAND(ISTEXT(H23),ISBLANK(I23)),\nAND(ISTEXT(#REF!),ISBLANK(#REF!)),\nAND(ISTEXT(#REF!),ISBLANK(#REF!))),1,0)","v":0}]
[15,null,null,null,null,0,{"$f":"IF(OR(\nAND(ISTEXT(B24),ISBLANK(C24)),\nAND(ISTEXT(#REF!),ISBLANK(#REF!))),1,0)","v":0},null,null,null,null,0,{"$f":"IF(OR(\nAND(ISTEXT(H24),ISBLANK(I24)),\nAND(ISTEXT(#REF!),ISBLANK(#REF!)),\nAND(ISTEXT(#REF!),ISBLANK(#REF!))),1,0)","v":0}]
[16,null,null,null,null,0,{"$f":"IF(OR(\nAND(ISTEXT(B25),ISBLANK(C25)),\nAND(ISTEXT(#REF!),ISBLANK(#REF!))),1,0)","v":0},null,null,null,null,0,{"$f":"IF(OR(\nAND(ISTEXT(H25),ISBLANK(I25)),\nAND(ISTEXT(#REF!),ISBLANK(#REF!)),\nAND(ISTEXT(#REF!),ISBLANK(#REF!))),1,0)","v":0}]
[17,null,null,null,null,0,{"$f":"IF(OR(\nAND(ISTEXT(B26),ISBLANK(C26)),\nAND(ISTEXT(#REF!),ISBLANK(#REF!))),1,0)","v":0},null,null,null,null,0,{"$f":"IF(OR(\nAND(ISTEXT(H26),ISBLANK(I26)),\nAND(ISTEXT(#REF!),ISBLANK(#REF!)),\nAND(ISTEXT(#REF!),ISBLANK(#REF!))),1,0)","v":0}]
[18,null,null,null,null,0,{"$f":"IF(OR(\nAND(ISTEXT(B27),ISBLANK(C27)),\nAND(ISTEXT(#REF!),ISBLANK(#REF!))),1,0)","v":0},null,null,null,null,0,{"$f":"IF(OR(\nAND(ISTEXT(H27),ISBLANK(I27)),\nAND(ISTEXT(#REF!),ISBLANK(#REF!)),\nAND(ISTEXT(#REF!),ISBLANK(#REF!))),1,0)","v":0}]
[19,null,null,null,null,0,{"$f":"IF(OR(\nAND(ISTEXT(B28),ISBLANK(C28)),\nAND(ISTEXT(#REF!),ISBLANK(#REF!))),1,0)","v":0},null,null,null,null,0,{"$f":"IF(OR(\nAND(ISTEXT(H28),ISBLANK(I28)),\nAND(ISTEXT(#REF!),ISBLANK(#REF!)),\nAND(ISTEXT(#REF!),ISBLANK(#REF!))),1,0)","v":0}]
[20,null,null,null,null,0,{"$f":"IF(OR(\nAND(ISTEXT(B29),ISBLANK(C29)),\nAND(ISTEXT(#REF!),ISBLANK(#REF!))),1,0)","v":0},null,null,null,null,0,{"$f":"IF(OR(\nAND(ISTEXT(H29),ISBLANK(I29)),\nAND(ISTEXT(#REF!),ISBLANK(#REF!)),\nAND(ISTEXT(#REF!),ISBLANK(#REF!))),1,0)","v":0}]
[null,null,null,null,"Total Minutes",{"$f":"SUM(F10:F29)","v":0},null,null,null,null,"Total Minutes",{"$f":"SUM(L10:L29)","v":0}]
[]
[null,{"$f":"$B$2&\" - Non Labour Breakdown\"","v":"DEENRM - Non Labour Breakdown"}]
[]
[null,"Materials",null,null,null,null,{"$f":"IF(SUM(G36:G55)=0,0,1)","v":0},"Vehicle",null,null,null,null,null,{"$f":"IF(SUM(N36:N55)=0,0,1)","v":0},"Other Costs",null,null,{"$f":"IF(SUM(R36:R55)=0,0,1)","v":0}]
[null,"Material Code","Material Name","Number of Units","Unit Cost \n($)","Cost of Unit\n($)",null,"Vehicle Code","Vehicle Name","Number of Units","Hire Time (Minutes)","Hourly Unit Rate\n($)","Cost of Unit\n($)",null,"Notes and sources for \"Other costs\"","Cost\n($)","Cost of Unit\n($)"]
[1,null,null,null,null,null,{"$f":"IF(OR(\nAND(ISTEXT(B36),ISBLANK(C36))),1,0)","v":0},null,"[Insert]",null,null,null,{"$f":"L36*(K36/60)*J36","v":0},{"$f":"IF(OR(\nAND(ISTEXT(H36),ISBLANK(I36))),1,0)","v":0},null,null,{"$f":"P36","v":0},{"$f":"IF(OR(\nAND(ISTEXT(O36),ISBLANK(#REF!))),1,0)","v":0}]
[{"$f":"IFERROR(A36+1,\"\")","v":2},null,null,null,null,null,0,null,null,null,null,null,{"$f":"L37*(K37/60)*J37","v":0},0,null,null,{"$f":"P37","v":0},{"$f":"IF(OR(\nAND(ISTEXT(O37),ISBLANK(#REF!))),1,0)","v":0}]
[{"$f":"IFERROR(A37+1,\"\")","v":3},null,null,null,null,null,0,null,null,null,null,null,0,0,null,null,0,{"$f":"IF(OR(\nAND(ISTEXT(O38),ISBLANK(#REF!))),1,0)","v":0}]
[4,null,null,null,null,null,0,null,null,null,null,null,0,0,null,null,0,{"$f":"IF(OR(\nAND(ISTEXT(O39),ISBLANK(#REF!))),1,0)","v":0}]
[5,null,null,null,null,null,0,null,null,null,null,null,0,0,null,null,0,{"$f":"IF(OR(\nAND(ISTEXT(O40),ISBLANK(#REF!))),1,0)","v":0}]
[6,null,null,null,null,null,0,null,null,null,null,null,0,0,null,null,0,{"$f":"IF(OR(\nAND(ISTEXT(O41),ISBLANK(#REF!))),1,0)","v":0}]
[7,null,null,null,null,null,0,null,null,null,null,null,0,0,null,null,0,{"$f":"IF(OR(\nAND(ISTEXT(O42),ISBLANK(#REF!))),1,0)","v":0}]
[8,null,null,null,null,null,0,null,null,null,null,null,0,0,null,null,0,{"$f":"IF(OR(\nAND(ISTEXT(O43),ISBLANK(#REF!))),1,0)","v":0}]
[9,null,null,null,null,null,0,null,null,null,null,null,0,0,null,null,0,{"$f":"IF(OR(\nAND(ISTEXT(O44),ISBLANK(#REF!))),1,0)","v":0}]
[10,null,null,null,null,null,0,null,null,null,null,null,0,0,null,null,0,{"$f":"IF(OR(\nAND(ISTEXT(O45),ISBLANK(#REF!))),1,0)","v":0}]
[11,null,null,null,null,null,0,null,null,null,null,null,0,0,null,null,0,{"$f":"IF(OR(\nAND(ISTEXT(O46),ISBLANK(#REF!))),1,0)","v":0}]
[12,null,null,null,null,null,0,null,null,null,null,null,0,0,null,null,0,{"$f":"IF(OR(\nAND(ISTEXT(O47),ISBLANK(#REF!))),1,0)","v":0}]
[13,null,null,null,null,null,0,null,null,null,null,null,0,0,null,null,0,{"$f":"IF(OR(\nAND(ISTEXT(O48),ISBLANK(#REF!))),1,0)","v":0}]
[14,null,null,null,null,null,0,null,null,null,null,null,0,0,null,null,0,{"$f":"IF(OR(\nAND(ISTEXT(O49),ISBLANK(#REF!))),1,0)","v":0}]
[15,null,null,null,null,null,0,null,null,null,null,null,0,0,null,null,0,{"$f":"IF(OR(\nAND(ISTEXT(O50),ISBLANK(#REF!))),1,0)","v":0}]
[16,null,null,null,null,null,0,null,null,null,null,null,0,0,null,null,0,{"$f":"IF(OR(\nAND(ISTEXT(O51),ISBLANK(#REF!))),1,0)","v":0}]
[17,null,null,null,null,null,0,null,null,null,null,null,0,0,null,null,0,{"$f":"IF(OR(\nAND(ISTEXT(O52),ISBLANK(#REF!))),1,0)","v":0}]
[18,null,null,null,null,null,0,null,null,null,null,null,0,0,null,null,0,{"$f":"IF(OR(\nAND(ISTEXT(O53),ISBLANK(#REF!))),1,0)","v":0}]
[19,null,null,null,null,null,0,null,null,null,null,null,0,0,null,null,0,{"$f":"IF(OR(\nAND(ISTEXT(O54),ISBLANK(#REF!))),1,0)","v":0}]
[20,null,null,null,null,null,0,null,null,null,null,null,0,0,null,null,0,{"$f":"IF(OR(\nAND(ISTEXT(O55),ISBLANK(#REF!))),1,0)","v":0}]
[null,null,null,null,"Materials Total",0,null,null,null,null,null,"Vehicle Total",{"$f":"SUM(M36:M55)","v":0},null,null,"Other Cost Total",{"$f":"SUM(Q36:Q55)","v":0}]

{"sheet":"MCTK","index":31,"n_rows":56,"n_cols":18,"rows_kept":56,"cut":false,"hidden":false,"merged":[]}
[null,{"$f":"IFERROR(Index!B1,\"\")","v":"Jemena Electricity Networks – Alternative Control Services Forecast model"},null,"Key:","Input",null,null,null,"Sheet Validation",{"$f":"IF(SUM(G8+M8+G34+N34+R34)=0,0,1)","v":0}]
[null,{"$f":"IFERROR(MID(CELL(\"filename\",A1),FIND(\"]\",CELL(\"filename\",A1))+1,255),\"\")","v":"MCTK"},null,null,"Formula"]
[]
[]
[]
[null,{"$f":"$B$2&\" - Labour Breakdown\"","v":"MCTK - Labour Breakdown"}]
[]
[null,"Non-field based labour",null,null,null,null,{"$f":"IF(SUM(G10:G29)=0,0,1)","v":0},"Field based labour",null,null,null,null,{"$f":"IF(SUM(M10:M29)=0,0,1)","v":0}]
[null,"Labour Category","Activity Name","FTE","Time on task (Minutes)","Labour Totals",null,"Labour Category",{"$f":"C9","v":"Activity Name"},{"$f":"D9","v":"FTE"},"Time on task (Minutes)","Time on task (Minutes)"]
[1,"Administrative Officer","Check and validate B2B service order (SO)",1,9,{"$f":"(D10*E10)","v":9},{"$f":"IF(OR(\nAND(ISTEXT(B10),ISBLANK(C10)),\nAND(ISTEXT(#REF!),ISBLANK(#REF!))),1,0)","v":0},"Field Worker","Travel to site",2,30,{"$f":"(J10*K10)","v":60},{"$f":"IF(OR(\nAND(ISTEXT(H10),ISBLANK(I10)),\nAND(ISTEXT(#REF!),ISBLANK(#REF!)),\nAND(ISTEXT(#REF!),ISBLANK(#REF!))),1,0)","v":0}]
[{"$f":"IFERROR(A10+1,\"\")","v":2},"Administrative Officer","Accept B2B SO",1,3,{"$f":"(D11*E11)","v":3},{"$f":"IF(OR(\nAND(ISTEXT(B11),ISBLANK(C11)),\nAND(ISTEXT(#REF!),ISBLANK(#REF!))),1,0)","v":0},"Field Worker","Field crew to complete JSA/Service Asset Register sheet",2,5,{"$f":"(J11*K11)","v":10},{"$f":"IF(OR(\nAND(ISTEXT(H11),ISBLANK(I11)),\nAND(ISTEXT(#REF!),ISBLANK(#REF!)),\nAND(ISTEXT(#REF!),ISBLANK(#REF!))),1,0)","v":0}]
[{"$f":"IFERROR(A11+1,\"\")","v":3},"Administrative Officer","Reject B2B SO (if required)",1,3,3,{"$f":"IF(OR(\nAND(ISTEXT(B12),ISBLANK(C12)),\nAND(ISTEXT(#REF!),ISBLANK(#REF!))),1,0)","v":0},"Field Worker","Setup traffic management",2,5,10,{"$f":"IF(OR(\nAND(ISTEXT(H12),ISBLANK(I12)),\nAND(ISTEXT(#REF!),ISBLANK(#REF!)),\nAND(ISTEXT(#REF!),ISBLANK(#REF!))),1,0)","v":0}]
[4,"Administrative Officer","Schedule appointment as required",1,8,8,{"$f":"IF(OR(\nAND(ISTEXT(B13),ISBLANK(C13)),\nAND(ISTEXT(#REF!),ISBLANK(#REF!))),1,0)","v":0},"Field Worker","Relocate and/or replace meter, prepare for testing ",2,15,30,{"$f":"IF(OR(\nAND(ISTEXT(H13),ISBLANK(I13)),\nAND(ISTEXT(#REF!),ISBLANK(#REF!)),\nAND(ISTEXT(#REF!),ISBLANK(#REF!))),1,0)","v":0}]
[5,"Administrative Officer","Create SO in SAP",1,7,7,{"$f":"IF(OR(\nAND(ISTEXT(B14),ISBLANK(C14)),\nAND(ISTEXT(#REF!),ISBLANK(#REF!))),1,0)","v":0},"Field Worker","Field crew to complete NST testing and seal meter",2,5,10,{"$f":"IF(OR(\nAND(ISTEXT(H14),ISBLANK(I14)),\nAND(ISTEXT(#REF!),ISBLANK(#REF!)),\nAND(ISTEXT(#REF!),ISBLANK(#REF!))),1,0)","v":0}]
[6,"Administrative Officer","Send SO to contractor",1,3,3,{"$f":"IF(OR(\nAND(ISTEXT(B15),ISBLANK(C15)),\nAND(ISTEXT(#REF!),ISBLANK(#REF!))),1,0)","v":0},"Field Worker","Field crew completes paperwork, work activity record (WAR), record meter number, and remove traffic control devices.",2,5,10,{"$f":"IF(OR(\nAND(ISTEXT(H15),ISBLANK(I15)),\nAND(ISTEXT(#REF!),ISBLANK(#REF!)),\nAND(ISTEXT(#REF!),ISBLANK(#REF!))),1,0)","v":0}]
[7,"Administrative Officer","Close SO in SAP",1,8,8,{"$f":"IF(OR(\nAND(ISTEXT(B16),ISBLANK(C16)),\nAND(ISTEXT(#REF!),ISBLANK(#REF!))),1,0)","v":0},null,null,null,null,0,{"$f":"IF(OR(\nAND(ISTEXT(H16),ISBLANK(I16)),\nAND(ISTEXT(#REF!),ISBLANK(#REF!)),\nAND(ISTEXT(#REF!),ISBLANK(#REF!))),1,0)","v":0}]
[8,"Administrative Officer","Manage system exceptions, errors and reporting",1,6,6,{"$f":"IF(OR(\nAND(ISTEXT(B17),ISBLANK(C17)),\nAND(ISTEXT(#REF!),ISBLANK(#REF!))),1,0)","v":0},null,null,null,null,0,{"$f":"IF(OR(\nAND(ISTEXT(H17),ISBLANK(I17)),\nAND(ISTEXT(#REF!),ISBLANK(#REF!)),\nAND(ISTEXT(#REF!),ISBLANK(#REF!))),1,0)","v":0}]
[9,"Administrative Officer","Manage phone calls and inquiries",1,7,7,{"$f":"IF(OR(\nAND(ISTEXT(B18),ISBLANK(C18)),\nAND(ISTEXT(#REF!),ISBLANK(#REF!))),1,0)","v":0},null,null,null,null,0,{"$f":"IF(OR(\nAND(ISTEXT(H18),ISBLANK(I18)),\nAND(ISTEXT(#REF!),ISBLANK(#REF!)),\nAND(ISTEXT(#REF!),ISBLANK(#REF!))),1,0)","v":0}]
[10,"Administrative Officer","Administration of Inbox emails, correspondences",1,6,6,{"$f":"IF(OR(\nAND(ISTEXT(B19),ISBLANK(C19)),\nAND(ISTEXT(#REF!),ISBLANK(#REF!))),1,0)","v":0},null,null,null,null,0,{"$f":"IF(OR(\nAND(ISTEXT(H19),ISBLANK(I19)),\nAND(ISTEXT(#REF!),ISBLANK(#REF!)),\nAND(ISTEXT(#REF!),ISBLANK(#REF!))),1,0)","v":0}]
[11,null,null,null,null,0,{"$f":"IF(OR(\nAND(ISTEXT(B20),ISBLANK(C20)),\nAND(ISTEXT(#REF!),ISBLANK(#REF!))),1,0)","v":0},null,null,null,null,0,{"$f":"IF(OR(\nAND(ISTEXT(H20),ISBLANK(I20)),\nAND(ISTEXT(#REF!),ISBLANK(#REF!)),\nAND(ISTEXT(#REF!),ISBLANK(#REF!))),1,0)","v":0}]
[12,null,null,null,null,0,{"$f":"IF(OR(\nAND(ISTEXT(B21),ISBLANK(C21)),\nAND(ISTEXT(#REF!),ISBLANK(#REF!))),1,0)","v":0},null,null,null,null,0,{"$f":"IF(OR(\nAND(ISTEXT(H21),ISBLANK(I21)),\nAND(ISTEXT(#REF!),ISBLANK(#REF!)),\nAND(ISTEXT(#REF!),ISBLANK(#REF!))),1,0)","v":0}]
[13,null,null,null,null,0,{"$f":"IF(OR(\nAND(ISTEXT(B22),ISBLANK(C22)),\nAND(ISTEXT(#REF!),ISBLANK(#REF!))),1,0)","v":0},null,null,null,null,0,{"$f":"IF(OR(\nAND(ISTEXT(H22),ISBLANK(I22)),\nAND(ISTEXT(#REF!),ISBLANK(#REF!)),\nAND(ISTEXT(#REF!),ISBLANK(#REF!))),1,0)","v":0}]
[14,null,null,null,null,0,{"$f":"IF(OR(\nAND(ISTEXT(B23),ISBLANK(C23)),\nAND(ISTEXT(#REF!),ISBLANK(#REF!))),1,0)","v":0},null,null,null,null,0,{"$f":"IF(OR(\nAND(ISTEXT(H23),ISBLANK(I23)),\nAND(ISTEXT(#REF!),ISBLANK(#REF!)),\nAND(ISTEXT(#REF!),ISBLANK(#REF!))),1,0)","v":0}]
[15,null,null,null,null,0,{"$f":"IF(OR(\nAND(ISTEXT(B24),ISBLANK(C24)),\nAND(ISTEXT(#REF!),ISBLANK(#REF!))),1,0)","v":0},null,null,null,null,0,{"$f":"IF(OR(\nAND(ISTEXT(H24),ISBLANK(I24)),\nAND(ISTEXT(#REF!),ISBLANK(#REF!)),\nAND(ISTEXT(#REF!),ISBLANK(#REF!))),1,0)","v":0}]
[16,null,null,null,null,0,{"$f":"IF(OR(\nAND(ISTEXT(B25),ISBLANK(C25)),\nAND(ISTEXT(#REF!),ISBLANK(#REF!))),1,0)","v":0},null,null,null,null,0,{"$f":"IF(OR(\nAND(ISTEXT(H25),ISBLANK(I25)),\nAND(ISTEXT(#REF!),ISBLANK(#REF!)),\nAND(ISTEXT(#REF!),ISBLANK(#REF!))),1,0)","v":0}]
[17,null,null,null,null,0,{"$f":"IF(OR(\nAND(ISTEXT(B26),ISBLANK(C26)),\nAND(ISTEXT(#REF!),ISBLANK(#REF!))),1,0)","v":0},null,null,null,null,0,{"$f":"IF(OR(\nAND(ISTEXT(H26),ISBLANK(I26)),\nAND(ISTEXT(#REF!),ISBLANK(#REF!)),\nAND(ISTEXT(#REF!),ISBLANK(#REF!))),1,0)","v":0}]
[18,null,null,null,null,0,{"$f":"IF(OR(\nAND(ISTEXT(B27),ISBLANK(C27)),\nAND(ISTEXT(#REF!),ISBLANK(#REF!))),1,0)","v":0},null,null,null,null,0,{"$f":"IF(OR(\nAND(ISTEXT(H27),ISBLANK(I27)),\nAND(ISTEXT(#REF!),ISBLANK(#REF!)),\nAND(ISTEXT(#REF!),ISBLANK(#REF!))),1,0)","v":0}]
[19,null,null,null,null,0,{"$f":"IF(OR(\nAND(ISTEXT(B28),ISBLANK(C28)),\nAND(ISTEXT(#REF!),ISBLANK(#REF!))),1,0)","v":0},null,null,null,null,0,{"$f":"IF(OR(\nAND(ISTEXT(H28),ISBLANK(I28)),\nAND(ISTEXT(#REF!),ISBLANK(#REF!)),\nAND(ISTEXT(#REF!),ISBLANK(#REF!))),1,0)","v":0}]
[20,null,null,null,null,0,{"$f":"IF(OR(\nAND(ISTEXT(B29),ISBLANK(C29)),\nAND(ISTEXT(#REF!),ISBLANK(#REF!))),1,0)","v":0},null,null,null,null,0,{"$f":"IF(OR(\nAND(ISTEXT(H29),ISBLANK(I29)),\nAND(ISTEXT(#REF!),ISBLANK(#REF!)),\nAND(ISTEXT(#REF!),ISBLANK(#REF!))),1,0)","v":0}]
[null,null,null,null,"Total Minutes",{"$f":"SUM(F10:F29)","v":60},null,null,null,null,"Total Minutes",{"$f":"SUM(L10:L29)","v":130}]
[]
[null,{"$f":"$B$2&\" - Non Labour Breakdown\"","v":"MCTK - Non Labour Breakdown"}]
[]
[null,"Materials",null,null,null,null,{"$f":"IF(SUM(G36:G55)=0,0,1)","v":0},"Vehicle",null,null,null,null,null,{"$f":"IF(SUM(N36:N55)=0,0,1)","v":0},"Other Costs",null,null,{"$f":"IF(SUM(R36:R55)=0,0,1)","v":0}]
[null,"Material Code","Material Name","Number of Units","Unit Cost \n($)","Cost of Unit\n($)",null,"Vehicle Code","Vehicle Name","Number of Units","Hire Time (Minutes)","Hourly Unit Rate\n($)","Cost of Unit\n($)",null,"Notes and sources for \"Other costs\"","Cost\n($)","Cost of Unit\n($)"]
[1,null,null,null,null,null,{"$f":"IF(OR(\nAND(ISTEXT(B36),ISBLANK(C36))),1,0)","v":0},null,"Plant – Elevated Work Platform (small) and Cable Test Van- Average cost",1,65,{"$f":"43.1351164210975*1.24689","v":53.784745314302263},{"$f":"L36*(K36/60)*J36","v":58.266807423827451},{"$f":"IF(OR(\nAND(ISTEXT(H36),ISBLANK(I36))),1,0)","v":0},null,null,{"$f":"P36","v":0},{"$f":"IF(OR(\nAND(ISTEXT(O36),ISBLANK(#REF!))),1,0)","v":0}]
[{"$f":"IFERROR(A36+1,\"\")","v":2},null,null,null,null,null,0,null,null,null,null,null,{"$f":"L37*(K37/60)*J37","v":0},0,null,null,{"$f":"P37","v":0},{"$f":"IF(OR(\nAND(ISTEXT(O37),ISBLANK(#REF!))),1,0)","v":0}]
[{"$f":"IFERROR(A37+1,\"\")","v":3},null,null,null,null,null,0,null,null,null,null,null,0,0,null,null,0,{"$f":"IF(OR(\nAND(ISTEXT(O38),ISBLANK(#REF!))),1,0)","v":0}]
[4,null,null,null,null,null,0,null,null,null,null,null,0,0,null,null,0,{"$f":"IF(OR(\nAND(ISTEXT(O39),ISBLANK(#REF!))),1,0)","v":0}]
[5,null,null,null,null,null,0,null,null,null,null,null,0,0,null,null,0,{"$f":"IF(OR(\nAND(ISTEXT(O40),ISBLANK(#REF!))),1,0)","v":0}]
[6,null,null,null,null,null,0,null,null,null,null,null,0,0,null,null,0,{"$f":"IF(OR(\nAND(ISTEXT(O41),ISBLANK(#REF!))),1,0)","v":0}]
[7,null,null,null,null,null,0,null,null,null,null,null,0,0,null,null,0,{"$f":"IF(OR(\nAND(ISTEXT(O42),ISBLANK(#REF!))),1,0)","v":0}]
[8,null,null,null,null,null,0,null,null,null,null,null,0,0,null,null,0,{"$f":"IF(OR(\nAND(ISTEXT(O43),ISBLANK(#REF!))),1,0)","v":0}]
[9,null,null,null,null,null,0,null,null,null,null,null,0,0,null,null,0,{"$f":"IF(OR(\nAND(ISTEXT(O44),ISBLANK(#REF!))),1,0)","v":0}]
[10,null,null,null,null,null,0,null,null,null,null,null,0,0,null,null,0,{"$f":"IF(OR(\nAND(ISTEXT(O45),ISBLANK(#REF!))),1,0)","v":0}]
[11,null,null,null,null,null,0,null,null,null,null,null,0,0,null,null,0,{"$f":"IF(OR(\nAND(ISTEXT(O46),ISBLANK(#REF!))),1,0)","v":0}]
[12,null,null,null,null,null,0,null,null,null,null,null,0,0,null,null,0,{"$f":"IF(OR(\nAND(ISTEXT(O47),ISBLANK(#REF!))),1,0)","v":0}]
[13,null,null,null,null,null,0,null,null,null,null,null,0,0,null,null,0,{"$f":"IF(OR(\nAND(ISTEXT(O48),ISBLANK(#REF!))),1,0)","v":0}]
[14,null,null,null,null,null,0,null,null,null,null,null,0,0,null,null,0,{"$f":"IF(OR(\nAND(ISTEXT(O49),ISBLANK(#REF!))),1,0)","v":0}]
[15,null,null,null,null,null,0,null,null,null,null,null,0,0,null,null,0,{"$f":"IF(OR(\nAND(ISTEXT(O50),ISBLANK(#REF!))),1,0)","v":0}]
[16,null,null,null,null,null,0,null,null,null,null,null,0,0,null,null,0,{"$f":"IF(OR(\nAND(ISTEXT(O51),ISBLANK(#REF!))),1,0)","v":0}]
[17,null,null,null,null,null,0,null,null,null,null,null,0,0,null,null,0,{"$f":"IF(OR(\nAND(ISTEXT(O52),ISBLANK(#REF!))),1,0)","v":0}]
[18,null,null,null,null,null,0,null,null,null,null,null,0,0,null,null,0,{"$f":"IF(OR(\nAND(ISTEXT(O53),ISBLANK(#REF!))),1,0)","v":0}]
[19,null,null,null,null,null,0,null,null,null,null,null,0,0,null,null,0,{"$f":"IF(OR(\nAND(ISTEXT(O54),ISBLANK(#REF!))),1,0)","v":0}]
[20,null,null,null,null,null,0,null,null,null,null,null,0,0,null,null,0,{"$f":"IF(OR(\nAND(ISTEXT(O55),ISBLANK(#REF!))),1,0)","v":0}]
[null,null,null,null,"Materials Total",0,null,null,null,null,null,"Vehicle Total",{"$f":"SUM(M36:M55)","v":58.266807423827451},null,null,"Other Cost Total",{"$f":"SUM(Q36:Q55)","v":0}]

{"sheet":"SPRDRM","index":32,"n_rows":56,"n_cols":18,"rows_kept":56,"cut":false,"hidden":false,"merged":[]}
[null,{"$f":"IFERROR(Index!B1,\"\")","v":"Jemena Electricity Networks – Alternative Control Services Forecast model"},null,"Key:","Input",null,null,null,"Sheet Validation",{"$f":"IF(SUM(G8+M8+G34+N34+R34)=0,0,1)","v":0}]
[null,{"$f":"IFERROR(MID(CELL(\"filename\",A1),FIND(\"]\",CELL(\"filename\",A1))+1,255),\"\")","v":"SPRDRM"},null,null,"Formula"]
[]
[]
[]
[null,{"$f":"$B$2&\" - Labour Breakdown\"","v":"SPRDRM - Labour Breakdown"}]
[]
[null,"Non-field based labour",null,null,null,null,{"$f":"IF(SUM(G10:G29)=0,0,1)","v":0},"Field based labour",null,null,null,null,{"$f":"IF(SUM(M10:M29)=0,0,1)","v":0}]
[null,"Labour Category","Activity Name","FTE","Time on task (Minutes)","Labour Totals",null,"Labour Category",{"$f":"C9","v":"Activity Name"},{"$f":"D9","v":"FTE"},"Time on task (Minutes)","Time on task (Minutes)"]
[1,null,"[Insert]",null,null,{"$f":"(D10*E10)","v":0},{"$f":"IF(OR(\nAND(ISTEXT(B10),ISBLANK(C10)),\nAND(ISTEXT(#REF!),ISBLANK(#REF!))),1,0)","v":0},null,"[Insert]",null,null,{"$f":"(J10*K10)","v":0},{"$f":"IF(OR(\nAND(ISTEXT(H10),ISBLANK(I10)),\nAND(ISTEXT(#REF!),ISBLANK(#REF!)),\nAND(ISTEXT(#REF!),ISBLANK(#REF!))),1,0)","v":0}]
[{"$f":"IFERROR(A10+1,\"\")","v":2},null,null,null,null,{"$f":"(D11*E11)","v":0},{"$f":"IF(OR(\nAND(ISTEXT(B11),ISBLANK(C11)),\nAND(ISTEXT(#REF!),ISBLANK(#REF!))),1,0)","v":0},null,null,null,null,{"$f":"(J11*K11)","v":0},{"$f":"IF(OR(\nAND(ISTEXT(H11),ISBLANK(I11)),\nAND(ISTEXT(#REF!),ISBLANK(#REF!)),\nAND(ISTEXT(#REF!),ISBLANK(#REF!))),1,0)","v":0}]
[{"$f":"IFERROR(A11+1,\"\")","v":3},null,null,null,null,0,{"$f":"IF(OR(\nAND(ISTEXT(B12),ISBLANK(C12)),\nAND(ISTEXT(#REF!),ISBLANK(#REF!))),1,0)","v":0},null,null,null,null,0,{"$f":"IF(OR(\nAND(ISTEXT(H12),ISBLANK(I12)),\nAND(ISTEXT(#REF!),ISBLANK(#REF!)),\nAND(ISTEXT(#REF!),ISBLANK(#REF!))),1,0)","v":0}]
[4,null,null,null,null,0,{"$f":"IF(OR(\nAND(ISTEXT(B13),ISBLANK(C13)),\nAND(ISTEXT(#REF!),ISBLANK(#REF!))),1,0)","v":0},null,null,null,null,0,{"$f":"IF(OR(\nAND(ISTEXT(H13),ISBLANK(I13)),\nAND(ISTEXT(#REF!),ISBLANK(#REF!)),\nAND(ISTEXT(#REF!),ISBLANK(#REF!))),1,0)","v":0}]
[5,null,null,null,null,0,{"$f":"IF(OR(\nAND(ISTEXT(B14),ISBLANK(C14)),\nAND(ISTEXT(#REF!),ISBLANK(#REF!))),1,0)","v":0},null,null,null,null,0,{"$f":"IF(OR(\nAND(ISTEXT(H14),ISBLANK(I14)),\nAND(ISTEXT(#REF!),ISBLANK(#REF!)),\nAND(ISTEXT(#REF!),ISBLANK(#REF!))),1,0)","v":0}]
[6,null,null,null,null,0,{"$f":"IF(OR(\nAND(ISTEXT(B15),ISBLANK(C15)),\nAND(ISTEXT(#REF!),ISBLANK(#REF!))),1,0)","v":0},null,null,null,null,0,{"$f":"IF(OR(\nAND(ISTEXT(H15),ISBLANK(I15)),\nAND(ISTEXT(#REF!),ISBLANK(#REF!)),\nAND(ISTEXT(#REF!),ISBLANK(#REF!))),1,0)","v":0}]
[7,null,null,null,null,0,{"$f":"IF(OR(\nAND(ISTEXT(B16),ISBLANK(C16)),\nAND(ISTEXT(#REF!),ISBLANK(#REF!))),1,0)","v":0},null,null,null,null,0,{"$f":"IF(OR(\nAND(ISTEXT(H16),ISBLANK(I16)),\nAND(ISTEXT(#REF!),ISBLANK(#REF!)),\nAND(ISTEXT(#REF!),ISBLANK(#REF!))),1,0)","v":0}]
[8,null,null,null,null,0,{"$f":"IF(OR(\nAND(ISTEXT(B17),ISBLANK(C17)),\nAND(ISTEXT(#REF!),ISBLANK(#REF!))),1,0)","v":0},null,null,null,null,0,{"$f":"IF(OR(\nAND(ISTEXT(H17),ISBLANK(I17)),\nAND(ISTEXT(#REF!),ISBLANK(#REF!)),\nAND(ISTEXT(#REF!),ISBLANK(#REF!))),1,0)","v":0}]
[9,null,null,null,null,0,{"$f":"IF(OR(\nAND(ISTEXT(B18),ISBLANK(C18)),\nAND(ISTEXT(#REF!),ISBLANK(#REF!))),1,0)","v":0},null,null,null,null,0,{"$f":"IF(OR(\nAND(ISTEXT(H18),ISBLANK(I18)),\nAND(ISTEXT(#REF!),ISBLANK(#REF!)),\nAND(ISTEXT(#REF!),ISBLANK(#REF!))),1,0)","v":0}]
[10,null,null,null,null,0,{"$f":"IF(OR(\nAND(ISTEXT(B19),ISBLANK(C19)),\nAND(ISTEXT(#REF!),ISBLANK(#REF!))),1,0)","v":0},null,null,null,null,0,{"$f":"IF(OR(\nAND(ISTEXT(H19),ISBLANK(I19)),\nAND(ISTEXT(#REF!),ISBLANK(#REF!)),\nAND(ISTEXT(#REF!),ISBLANK(#REF!))),1,0)","v":0}]
[11,null,null,null,null,0,{"$f":"IF(OR(\nAND(ISTEXT(B20),ISBLANK(C20)),\nAND(ISTEXT(#REF!),ISBLANK(#REF!))),1,0)","v":0},null,null,null,null,0,{"$f":"IF(OR(\nAND(ISTEXT(H20),ISBLANK(I20)),\nAND(ISTEXT(#REF!),ISBLANK(#REF!)),\nAND(ISTEXT(#REF!),ISBLANK(#REF!))),1,0)","v":0}]
[12,null,null,null,null,0,{"$f":"IF(OR(\nAND(ISTEXT(B21),ISBLANK(C21)),\nAND(ISTEXT(#REF!),ISBLANK(#REF!))),1,0)","v":0},null,null,null,null,0,{"$f":"IF(OR(\nAND(ISTEXT(H21),ISBLANK(I21)),\nAND(ISTEXT(#REF!),ISBLANK(#REF!)),\nAND(ISTEXT(#REF!),ISBLANK(#REF!))),1,0)","v":0}]
[13,null,null,null,null,0,{"$f":"IF(OR(\nAND(ISTEXT(B22),ISBLANK(C22)),\nAND(ISTEXT(#REF!),ISBLANK(#REF!))),1,0)","v":0},null,null,null,null,0,{"$f":"IF(OR(\nAND(ISTEXT(H22),ISBLANK(I22)),\nAND(ISTEXT(#REF!),ISBLANK(#REF!)),\nAND(ISTEXT(#REF!),ISBLANK(#REF!))),1,0)","v":0}]
[14,null,null,null,null,0,{"$f":"IF(OR(\nAND(ISTEXT(B23),ISBLANK(C23)),\nAND(ISTEXT(#REF!),ISBLANK(#REF!))),1,0)","v":0},null,null,null,null,0,{"$f":"IF(OR(\nAND(ISTEXT(H23),ISBLANK(I23)),\nAND(ISTEXT(#REF!),ISBLANK(#REF!)),\nAND(ISTEXT(#REF!),ISBLANK(#REF!))),1,0)","v":0}]
[15,null,null,null,null,0,{"$f":"IF(OR(\nAND(ISTEXT(B24),ISBLANK(C24)),\nAND(ISTEXT(#REF!),ISBLANK(#REF!))),1,0)","v":0},null,null,null,null,0,{"$f":"IF(OR(\nAND(ISTEXT(H24),ISBLANK(I24)),\nAND(ISTEXT(#REF!),ISBLANK(#REF!)),\nAND(ISTEXT(#REF!),ISBLANK(#REF!))),1,0)","v":0}]
[16,null,null,null,null,0,{"$f":"IF(OR(\nAND(ISTEXT(B25),ISBLANK(C25)),\nAND(ISTEXT(#REF!),ISBLANK(#REF!))),1,0)","v":0},null,null,null,null,0,{"$f":"IF(OR(\nAND(ISTEXT(H25),ISBLANK(I25)),\nAND(ISTEXT(#REF!),ISBLANK(#REF!)),\nAND(ISTEXT(#REF!),ISBLANK(#REF!))),1,0)","v":0}]
[17,null,null,null,null,0,{"$f":"IF(OR(\nAND(ISTEXT(B26),ISBLANK(C26)),\nAND(ISTEXT(#REF!),ISBLANK(#REF!))),1,0)","v":0},null,null,null,null,0,{"$f":"IF(OR(\nAND(ISTEXT(H26),ISBLANK(I26)),\nAND(ISTEXT(#REF!),ISBLANK(#REF!)),\nAND(ISTEXT(#REF!),ISBLANK(#REF!))),1,0)","v":0}]
[18,null,null,null,null,0,{"$f":"IF(OR(\nAND(ISTEXT(B27),ISBLANK(C27)),\nAND(ISTEXT(#REF!),ISBLANK(#REF!))),1,0)","v":0},null,null,null,null,0,{"$f":"IF(OR(\nAND(ISTEXT(H27),ISBLANK(I27)),\nAND(ISTEXT(#REF!),ISBLANK(#REF!)),\nAND(ISTEXT(#REF!),ISBLANK(#REF!))),1,0)","v":0}]
[19,null,null,null,null,0,{"$f":"IF(OR(\nAND(ISTEXT(B28),ISBLANK(C28)),\nAND(ISTEXT(#REF!),ISBLANK(#REF!))),1,0)","v":0},null,null,null,null,0,{"$f":"IF(OR(\nAND(ISTEXT(H28),ISBLANK(I28)),\nAND(ISTEXT(#REF!),ISBLANK(#REF!)),\nAND(ISTEXT(#REF!),ISBLANK(#REF!))),1,0)","v":0}]
[20,null,null,null,null,0,{"$f":"IF(OR(\nAND(ISTEXT(B29),ISBLANK(C29)),\nAND(ISTEXT(#REF!),ISBLANK(#REF!))),1,0)","v":0},null,null,null,null,0,{"$f":"IF(OR(\nAND(ISTEXT(H29),ISBLANK(I29)),\nAND(ISTEXT(#REF!),ISBLANK(#REF!)),\nAND(ISTEXT(#REF!),ISBLANK(#REF!))),1,0)","v":0}]
[null,null,null,null,"Total Minutes",{"$f":"SUM(F10:F29)","v":0},null,null,null,null,"Total Minutes",{"$f":"SUM(L10:L29)","v":0}]
[]
[null,{"$f":"$B$2&\" - Non Labour Breakdown\"","v":"SPRDRM - Non Labour Breakdown"}]
[]
[null,"Materials",null,null,null,null,{"$f":"IF(SUM(G36:G55)=0,0,1)","v":0},"Vehicle",null,null,null,null,null,{"$f":"IF(SUM(N36:N55)=0,0,1)","v":0},"Other Costs",null,null,{"$f":"IF(SUM(R36:R55)=0,0,1)","v":0}]
[null,"Material Code","Material Name","Number of Units","Unit Cost \n($)","Cost of Unit\n($)",null,"Vehicle Code","Vehicle Name","Number of Units","Hire Time (Minutes)","Hourly Unit Rate\n($)","Cost of Unit\n($)",null,"Notes and sources for \"Other costs\"","Cost\n($)","Cost of Unit\n($)"]
[1,null,null,null,null,null,{"$f":"IF(OR(\nAND(ISTEXT(B36),ISBLANK(C36))),1,0)","v":0},null,"[Insert]",null,null,null,{"$f":"L36*(K36/60)*J36","v":0},{"$f":"IF(OR(\nAND(ISTEXT(H36),ISBLANK(I36))),1,0)","v":0},null,null,{"$f":"P36","v":0},{"$f":"IF(OR(\nAND(ISTEXT(O36),ISBLANK(#REF!))),1,0)","v":0}]
[{"$f":"IFERROR(A36+1,\"\")","v":2},null,null,null,null,null,0,null,null,null,null,null,{"$f":"L37*(K37/60)*J37","v":0},0,null,null,{"$f":"P37","v":0},{"$f":"IF(OR(\nAND(ISTEXT(O37),ISBLANK(#REF!))),1,0)","v":0}]
[{"$f":"IFERROR(A37+1,\"\")","v":3},null,null,null,null,null,0,null,null,null,null,null,0,0,null,null,0,{"$f":"IF(OR(\nAND(ISTEXT(O38),ISBLANK(#REF!))),1,0)","v":0}]
[4,null,null,null,null,null,0,null,null,null,null,null,0,0,null,null,0,{"$f":"IF(OR(\nAND(ISTEXT(O39),ISBLANK(#REF!))),1,0)","v":0}]
[5,null,null,null,null,null,0,null,null,null,null,null,0,0,null,null,0,{"$f":"IF(OR(\nAND(ISTEXT(O40),ISBLANK(#REF!))),1,0)","v":0}]
[6,null,null,null,null,null,0,null,null,null,null,null,0,0,null,null,0,{"$f":"IF(OR(\nAND(ISTEXT(O41),ISBLANK(#REF!))),1,0)","v":0}]
[7,null,null,null,null,null,0,null,null,null,null,null,0,0,null,null,0,{"$f":"IF(OR(\nAND(ISTEXT(O42),ISBLANK(#REF!))),1,0)","v":0}]
[8,null,null,null,null,null,0,null,null,null,null,null,0,0,null,null,0,{"$f":"IF(OR(\nAND(ISTEXT(O43),ISBLANK(#REF!))),1,0)","v":0}]
[9,null,null,null,null,null,0,null,null,null,null,null,0,0,null,null,0,{"$f":"IF(OR(\nAND(ISTEXT(O44),ISBLANK(#REF!))),1,0)","v":0}]
[10,null,null,null,null,null,0,null,null,null,null,null,0,0,null,null,0,{"$f":"IF(OR(\nAND(ISTEXT(O45),ISBLANK(#REF!))),1,0)","v":0}]
[11,null,null,null,null,null,0,null,null,null,null,null,0,0,null,null,0,{"$f":"IF(OR(\nAND(ISTEXT(O46),ISBLANK(#REF!))),1,0)","v":0}]
[12,null,null,null,null,null,0,null,null,null,null,null,0,0,null,null,0,{"$f":"IF(OR(\nAND(ISTEXT(O47),ISBLANK(#REF!))),1,0)","v":0}]
[13,null,null,null,null,null,0,null,null,null,null,null,0,0,null,null,0,{"$f":"IF(OR(\nAND(ISTEXT(O48),ISBLANK(#REF!))),1,0)","v":0}]
[14,null,null,null,null,null,0,null,null,null,null,null,0,0,null,null,0,{"$f":"IF(OR(\nAND(ISTEXT(O49),ISBLANK(#REF!))),1,0)","v":0}]
[15,null,null,null,null,null,0,null,null,null,null,null,0,0,null,null,0,{"$f":"IF(OR(\nAND(ISTEXT(O50),ISBLANK(#REF!))),1,0)","v":0}]
[16,null,null,null,null,null,0,null,null,null,null,null,0,0,null,null,0,{"$f":"IF(OR(\nAND(ISTEXT(O51),ISBLANK(#REF!))),1,0)","v":0}]
[17,null,null,null,null,null,0,null,null,null,null,null,0,0,null,null,0,{"$f":"IF(OR(\nAND(ISTEXT(O52),ISBLANK(#REF!))),1,0)","v":0}]
[18,null,null,null,null,null,0,null,null,null,null,null,0,0,null,null,0,{"$f":"IF(OR(\nAND(ISTEXT(O53),ISBLANK(#REF!))),1,0)","v":0}]
[19,null,null,null,null,null,0,null,null,null,null,null,0,0,null,null,0,{"$f":"IF(OR(\nAND(ISTEXT(O54),ISBLANK(#REF!))),1,0)","v":0}]
[20,null,null,null,null,null,0,null,null,null,null,null,0,0,null,null,0,{"$f":"IF(OR(\nAND(ISTEXT(O55),ISBLANK(#REF!))),1,0)","v":0}]
[null,null,null,null,"Materials Total",0,null,null,null,null,null,"Vehicle Total",{"$f":"SUM(M36:M55)","v":0},null,null,"Other Cost Total",{"$f":"SUM(Q36:Q55)","v":0}]

{"sheet":"MECFRM","index":33,"n_rows":56,"n_cols":18,"rows_kept":56,"cut":false,"hidden":false,"merged":[]}
[null,{"$f":"IFERROR(Index!B1,\"\")","v":"Jemena Electricity Networks – Alternative Control Services Forecast model"},null,"Key:","Input",null,null,null,"Sheet Validation",{"$f":"IF(SUM(G8+M8+G34+N34+R34)=0,0,1)","v":0}]
[null,{"$f":"IFERROR(MID(CELL(\"filename\",A1),FIND(\"]\",CELL(\"filename\",A1))+1,255),\"\")","v":"MECFRM"},null,null,"Formula"]
[]
[]
[]
[null,{"$f":"$B$2&\" - Labour Breakdown\"","v":"MECFRM - Labour Breakdown"}]
[]
[null,"Non-field based labour",null,null,null,null,{"$f":"IF(SUM(G10:G29)=0,0,1)","v":0},"Field based labour",null,null,null,null,{"$f":"IF(SUM(M10:M29)=0,0,1)","v":0}]
[null,"Labour Category","Activity Name","FTE","Time on task (Minutes)","Labour Totals",null,"Labour Category",{"$f":"C9","v":"Activity Name"},{"$f":"D9","v":"FTE"},"Time on task (Minutes)","Time on task (Minutes)"]
[1,"Administrative Officer","Check and validate B2B SO",1,9,{"$f":"(D10*E10)","v":9},{"$f":"IF(OR(\nAND(ISTEXT(B10),ISBLANK(C10)),\nAND(ISTEXT(#REF!),ISBLANK(#REF!))),1,0)","v":0},null,"[Insert]",null,null,{"$f":"(J10*K10)","v":0},{"$f":"IF(OR(\nAND(ISTEXT(H10),ISBLANK(I10)),\nAND(ISTEXT(#REF!),ISBLANK(#REF!)),\nAND(ISTEXT(#REF!),ISBLANK(#REF!))),1,0)","v":0}]
[{"$f":"IFERROR(A10+1,\"\")","v":2},"Administrative Officer","Accept B2B SO",1,3,{"$f":"(D11*E11)","v":3},{"$f":"IF(OR(\nAND(ISTEXT(B11),ISBLANK(C11)),\nAND(ISTEXT(#REF!),ISBLANK(#REF!))),1,0)","v":0},null,null,null,null,{"$f":"(J11*K11)","v":0},{"$f":"IF(OR(\nAND(ISTEXT(H11),ISBLANK(I11)),\nAND(ISTEXT(#REF!),ISBLANK(#REF!)),\nAND(ISTEXT(#REF!),ISBLANK(#REF!))),1,0)","v":0}]
[{"$f":"IFERROR(A11+1,\"\")","v":3},"Administrative Officer","Reject B2B SO (if required)",1,3,3,{"$f":"IF(OR(\nAND(ISTEXT(B12),ISBLANK(C12)),\nAND(ISTEXT(#REF!),ISBLANK(#REF!))),1,0)","v":0},null,null,null,null,0,{"$f":"IF(OR(\nAND(ISTEXT(H12),ISBLANK(I12)),\nAND(ISTEXT(#REF!),ISBLANK(#REF!)),\nAND(ISTEXT(#REF!),ISBLANK(#REF!))),1,0)","v":0}]
[4,"Administrative Officer","Execute remote configuration in SAP",1,15,15,{"$f":"IF(OR(\nAND(ISTEXT(B13),ISBLANK(C13)),\nAND(ISTEXT(#REF!),ISBLANK(#REF!))),1,0)","v":0},null,null,null,null,0,{"$f":"IF(OR(\nAND(ISTEXT(H13),ISBLANK(I13)),\nAND(ISTEXT(#REF!),ISBLANK(#REF!)),\nAND(ISTEXT(#REF!),ISBLANK(#REF!))),1,0)","v":0}]
[5,"Administrative Officer","Manage exceptions, phone calls and inquiries",1,2,2,{"$f":"IF(OR(\nAND(ISTEXT(B14),ISBLANK(C14)),\nAND(ISTEXT(#REF!),ISBLANK(#REF!))),1,0)","v":0},null,null,null,null,0,{"$f":"IF(OR(\nAND(ISTEXT(H14),ISBLANK(I14)),\nAND(ISTEXT(#REF!),ISBLANK(#REF!)),\nAND(ISTEXT(#REF!),ISBLANK(#REF!))),1,0)","v":0}]
[6,null,null,null,null,0,{"$f":"IF(OR(\nAND(ISTEXT(B15),ISBLANK(C15)),\nAND(ISTEXT(#REF!),ISBLANK(#REF!))),1,0)","v":0},null,null,null,null,0,{"$f":"IF(OR(\nAND(ISTEXT(H15),ISBLANK(I15)),\nAND(ISTEXT(#REF!),ISBLANK(#REF!)),\nAND(ISTEXT(#REF!),ISBLANK(#REF!))),1,0)","v":0}]
[7,null,null,null,null,0,{"$f":"IF(OR(\nAND(ISTEXT(B16),ISBLANK(C16)),\nAND(ISTEXT(#REF!),ISBLANK(#REF!))),1,0)","v":0},null,null,null,null,0,{"$f":"IF(OR(\nAND(ISTEXT(H16),ISBLANK(I16)),\nAND(ISTEXT(#REF!),ISBLANK(#REF!)),\nAND(ISTEXT(#REF!),ISBLANK(#REF!))),1,0)","v":0}]
[8,null,null,null,null,0,{"$f":"IF(OR(\nAND(ISTEXT(B17),ISBLANK(C17)),\nAND(ISTEXT(#REF!),ISBLANK(#REF!))),1,0)","v":0},null,null,null,null,0,{"$f":"IF(OR(\nAND(ISTEXT(H17),ISBLANK(I17)),\nAND(ISTEXT(#REF!),ISBLANK(#REF!)),\nAND(ISTEXT(#REF!),ISBLANK(#REF!))),1,0)","v":0}]
[9,null,null,null,null,0,{"$f":"IF(OR(\nAND(ISTEXT(B18),ISBLANK(C18)),\nAND(ISTEXT(#REF!),ISBLANK(#REF!))),1,0)","v":0},null,null,null,null,0,{"$f":"IF(OR(\nAND(ISTEXT(H18),ISBLANK(I18)),\nAND(ISTEXT(#REF!),ISBLANK(#REF!)),\nAND(ISTEXT(#REF!),ISBLANK(#REF!))),1,0)","v":0}]
[10,null,null,null,null,0,{"$f":"IF(OR(\nAND(ISTEXT(B19),ISBLANK(C19)),\nAND(ISTEXT(#REF!),ISBLANK(#REF!))),1,0)","v":0},null,null,null,null,0,{"$f":"IF(OR(\nAND(ISTEXT(H19),ISBLANK(I19)),\nAND(ISTEXT(#REF!),ISBLANK(#REF!)),\nAND(ISTEXT(#REF!),ISBLANK(#REF!))),1,0)","v":0}]
[11,null,null,null,null,0,{"$f":"IF(OR(\nAND(ISTEXT(B20),ISBLANK(C20)),\nAND(ISTEXT(#REF!),ISBLANK(#REF!))),1,0)","v":0},null,null,null,null,0,{"$f":"IF(OR(\nAND(ISTEXT(H20),ISBLANK(I20)),\nAND(ISTEXT(#REF!),ISBLANK(#REF!)),\nAND(ISTEXT(#REF!),ISBLANK(#REF!))),1,0)","v":0}]
[12,null,null,null,null,0,{"$f":"IF(OR(\nAND(ISTEXT(B21),ISBLANK(C21)),\nAND(ISTEXT(#REF!),ISBLANK(#REF!))),1,0)","v":0},null,null,null,null,0,{"$f":"IF(OR(\nAND(ISTEXT(H21),ISBLANK(I21)),\nAND(ISTEXT(#REF!),ISBLANK(#REF!)),\nAND(ISTEXT(#REF!),ISBLANK(#REF!))),1,0)","v":0}]
[13,null,null,null,null,0,{"$f":"IF(OR(\nAND(ISTEXT(B22),ISBLANK(C22)),\nAND(ISTEXT(#REF!),ISBLANK(#REF!))),1,0)","v":0},null,null,null,null,0,{"$f":"IF(OR(\nAND(ISTEXT(H22),ISBLANK(I22)),\nAND(ISTEXT(#REF!),ISBLANK(#REF!)),\nAND(ISTEXT(#REF!),ISBLANK(#REF!))),1,0)","v":0}]
[14,null,null,null,null,0,{"$f":"IF(OR(\nAND(ISTEXT(B23),ISBLANK(C23)),\nAND(ISTEXT(#REF!),ISBLANK(#REF!))),1,0)","v":0},null,null,null,null,0,{"$f":"IF(OR(\nAND(ISTEXT(H23),ISBLANK(I23)),\nAND(ISTEXT(#REF!),ISBLANK(#REF!)),\nAND(ISTEXT(#REF!),ISBLANK(#REF!))),1,0)","v":0}]
[15,null,null,null,null,0,{"$f":"IF(OR(\nAND(ISTEXT(B24),ISBLANK(C24)),\nAND(ISTEXT(#REF!),ISBLANK(#REF!))),1,0)","v":0},null,null,null,null,0,{"$f":"IF(OR(\nAND(ISTEXT(H24),ISBLANK(I24)),\nAND(ISTEXT(#REF!),ISBLANK(#REF!)),\nAND(ISTEXT(#REF!),ISBLANK(#REF!))),1,0)","v":0}]
[16,null,null,null,null,0,{"$f":"IF(OR(\nAND(ISTEXT(B25),ISBLANK(C25)),\nAND(ISTEXT(#REF!),ISBLANK(#REF!))),1,0)","v":0},null,null,null,null,0,{"$f":"IF(OR(\nAND(ISTEXT(H25),ISBLANK(I25)),\nAND(ISTEXT(#REF!),ISBLANK(#REF!)),\nAND(ISTEXT(#REF!),ISBLANK(#REF!))),1,0)","v":0}]
[17,null,null,null,null,0,{"$f":"IF(OR(\nAND(ISTEXT(B26),ISBLANK(C26)),\nAND(ISTEXT(#REF!),ISBLANK(#REF!))),1,0)","v":0},null,null,null,null,0,{"$f":"IF(OR(\nAND(ISTEXT(H26),ISBLANK(I26)),\nAND(ISTEXT(#REF!),ISBLANK(#REF!)),\nAND(ISTEXT(#REF!),ISBLANK(#REF!))),1,0)","v":0}]
[18,null,null,null,null,0,{"$f":"IF(OR(\nAND(ISTEXT(B27),ISBLANK(C27)),\nAND(ISTEXT(#REF!),ISBLANK(#REF!))),1,0)","v":0},null,null,null,null,0,{"$f":"IF(OR(\nAND(ISTEXT(H27),ISBLANK(I27)),\nAND(ISTEXT(#REF!),ISBLANK(#REF!)),\nAND(ISTEXT(#REF!),ISBLANK(#REF!))),1,0)","v":0}]
[19,null,null,null,null,0,{"$f":"IF(OR(\nAND(ISTEXT(B28),ISBLANK(C28)),\nAND(ISTEXT(#REF!),ISBLANK(#REF!))),1,0)","v":0},null,null,null,null,0,{"$f":"IF(OR(\nAND(ISTEXT(H28),ISBLANK(I28)),\nAND(ISTEXT(#REF!),ISBLANK(#REF!)),\nAND(ISTEXT(#REF!),ISBLANK(#REF!))),1,0)","v":0}]
[20,null,null,null,null,0,{"$f":"IF(OR(\nAND(ISTEXT(B29),ISBLANK(C29)),\nAND(ISTEXT(#REF!),ISBLANK(#REF!))),1,0)","v":0},null,null,null,null,0,{"$f":"IF(OR(\nAND(ISTEXT(H29),ISBLANK(I29)),\nAND(ISTEXT(#REF!),ISBLANK(#REF!)),\nAND(ISTEXT(#REF!),ISBLANK(#REF!))),1,0)","v":0}]
[null,null,null,null,"Total Minutes",{"$f":"SUM(F10:F29)","v":32},null,null,null,null,"Total Minutes",{"$f":"SUM(L10:L29)","v":0}]
[]
[null,{"$f":"$B$2&\" - Non Labour Breakdown\"","v":"MECFRM - Non Labour Breakdown"}]
[]
[null,"Materials",null,null,null,null,{"$f":"IF(SUM(G36:G55)=0,0,1)","v":0},"Vehicle",null,null,null,null,null,{"$f":"IF(SUM(N36:N55)=0,0,1)","v":0},"Other Costs",null,null,{"$f":"IF(SUM(R36:R55)=0,0,1)","v":0}]
[null,"Material Code","Material Name","Number of Units","Unit Cost \n($)","Cost of Unit\n($)",null,"Vehicle Code","Vehicle Name","Number of Units","Hire Time (Minutes)","Hourly Unit Rate\n($)","Cost of Unit\n($)",null,"Notes and sources for \"Other costs\"","Cost\n($)","Cost of Unit\n($)"]
[1,null,null,null,null,null,{"$f":"IF(OR(\nAND(ISTEXT(B36),ISBLANK(C36))),1,0)","v":0},null,"[Insert]",null,null,null,{"$f":"L36*(K36/60)*J36","v":0},{"$f":"IF(OR(\nAND(ISTEXT(H36),ISBLANK(I36))),1,0)","v":0},null,null,{"$f":"P36","v":0},{"$f":"IF(OR(\nAND(ISTEXT(O36),ISBLANK(#REF!))),1,0)","v":0}]
[{"$f":"IFERROR(A36+1,\"\")","v":2},null,null,null,null,null,0,null,null,null,null,null,{"$f":"L37*(K37/60)*J37","v":0},0,null,null,{"$f":"P37","v":0},{"$f":"IF(OR(\nAND(ISTEXT(O37),ISBLANK(#REF!))),1,0)","v":0}]
[{"$f":"IFERROR(A37+1,\"\")","v":3},null,null,null,null,null,0,null,null,null,null,null,0,0,null,null,0,{"$f":"IF(OR(\nAND(ISTEXT(O38),ISBLANK(#REF!))),1,0)","v":0}]
[4,null,null,null,null,null,0,null,null,null,null,null,0,0,null,null,0,{"$f":"IF(OR(\nAND(ISTEXT(O39),ISBLANK(#REF!))),1,0)","v":0}]
[5,null,null,null,null,null,0,null,null,null,null,null,0,0,null,null,0,{"$f":"IF(OR(\nAND(ISTEXT(O40),ISBLANK(#REF!))),1,0)","v":0}]
[6,null,null,null,null,null,0,null,null,null,null,null,0,0,null,null,0,{"$f":"IF(OR(\nAND(ISTEXT(O41),ISBLANK(#REF!))),1,0)","v":0}]
[7,null,null,null,null,null,0,null,null,null,null,null,0,0,null,null,0,{"$f":"IF(OR(\nAND(ISTEXT(O42),ISBLANK(#REF!))),1,0)","v":0}]
[8,null,null,null,null,null,0,null,null,null,null,null,0,0,null,null,0,{"$f":"IF(OR(\nAND(ISTEXT(O43),ISBLANK(#REF!))),1,0)","v":0}]
[9,null,null,null,null,null,0,null,null,null,null,null,0,0,null,null,0,{"$f":"IF(OR(\nAND(ISTEXT(O44),ISBLANK(#REF!))),1,0)","v":0}]
[10,null,null,null,null,null,0,null,null,null,null,null,0,0,null,null,0,{"$f":"IF(OR(\nAND(ISTEXT(O45),ISBLANK(#REF!))),1,0)","v":0}]
[11,null,null,null,null,null,0,null,null,null,null,null,0,0,null,null,0,{"$f":"IF(OR(\nAND(ISTEXT(O46),ISBLANK(#REF!))),1,0)","v":0}]
[12,null,null,null,null,null,0,null,null,null,null,null,0,0,null,null,0,{"$f":"IF(OR(\nAND(ISTEXT(O47),ISBLANK(#REF!))),1,0)","v":0}]
[13,null,null,null,null,null,0,null,null,null,null,null,0,0,null,null,0,{"$f":"IF(OR(\nAND(ISTEXT(O48),ISBLANK(#REF!))),1,0)","v":0}]
[14,null,null,null,null,null,0,null,null,null,null,null,0,0,null,null,0,{"$f":"IF(OR(\nAND(ISTEXT(O49),ISBLANK(#REF!))),1,0)","v":0}]
[15,null,null,null,null,null,0,null,null,null,null,null,0,0,null,null,0,{"$f":"IF(OR(\nAND(ISTEXT(O50),ISBLANK(#REF!))),1,0)","v":0}]
[16,null,null,null,null,null,0,null,null,null,null,null,0,0,null,null,0,{"$f":"IF(OR(\nAND(ISTEXT(O51),ISBLANK(#REF!))),1,0)","v":0}]
[17,null,null,null,null,null,0,null,null,null,null,null,0,0,null,null,0,{"$f":"IF(OR(\nAND(ISTEXT(O52),ISBLANK(#REF!))),1,0)","v":0}]
[18,null,null,null,null,null,0,null,null,null,null,null,0,0,null,null,0,{"$f":"IF(OR(\nAND(ISTEXT(O53),ISBLANK(#REF!))),1,0)","v":0}]
[19,null,null,null,null,null,0,null,null,null,null,null,0,0,null,null,0,{"$f":"IF(OR(\nAND(ISTEXT(O54),ISBLANK(#REF!))),1,0)","v":0}]
[20,null,null,null,null,null,0,null,null,null,null,null,0,0,null,null,0,{"$f":"IF(OR(\nAND(ISTEXT(O55),ISBLANK(#REF!))),1,0)","v":0}]
[null,null,null,null,"Materials Total",0,null,null,null,null,null,"Vehicle Total",{"$f":"SUM(M36:M55)","v":0},null,null,"Other Cost Total",{"$f":"SUM(Q36:Q55)","v":0}]

{"sheet":"SPRD","index":34,"n_rows":56,"n_cols":18,"rows_kept":56,"cut":false,"hidden":false,"merged":[]}
[null,{"$f":"IFERROR(Index!B1,\"\")","v":"Jemena Electricity Networks – Alternative Control Services Forecast model"},null,"Key:","Input",null,null,null,"Sheet Validation",{"$f":"IF(SUM(G8+M8+G34+N34+R34)=0,0,1)","v":0}]
[null,{"$f":"IFERROR(MID(CELL(\"filename\",A1),FIND(\"]\",CELL(\"filename\",A1))+1,255),\"\")","v":"SPRD"},null,null,"Formula"]
[]
[]
[]
[null,{"$f":"$B$2&\" - Labour Breakdown\"","v":"SPRD - Labour Breakdown"}]
[]
[null,"Non-field based labour",null,null,null,null,{"$f":"IF(SUM(G10:G29)=0,0,1)","v":0},"Field based labour",null,null,null,null,{"$f":"IF(SUM(M10:M29)=0,0,1)","v":0}]
[null,"Labour Category","Activity Name","FTE","Time on task (Minutes)","Labour Totals",null,"Labour Category",{"$f":"C9","v":"Activity Name"},{"$f":"D9","v":"FTE"},"Time on task (Minutes)","Time on task (Minutes)"]
[1,"Administrative Officer","Check, validate and accept B2B service order (SO)",1,3,{"$f":"(D10*E10)","v":3},{"$f":"IF(OR(\nAND(ISTEXT(B10),ISBLANK(C10)),\nAND(ISTEXT(#REF!),ISBLANK(#REF!))),1,0)","v":0},"Field Worker","Travel to site",1,30,{"$f":"(J10*K10)","v":30},{"$f":"IF(OR(\nAND(ISTEXT(H10),ISBLANK(I10)),\nAND(ISTEXT(#REF!),ISBLANK(#REF!)),\nAND(ISTEXT(#REF!),ISBLANK(#REF!))),1,0)","v":0}]
[{"$f":"IFERROR(A10+1,\"\")","v":2},"Administrative Officer","Create SO in SAP and send it to the contractor",1,2.2999999999999998,{"$f":"(D11*E11)","v":2.2999999999999998},{"$f":"IF(OR(\nAND(ISTEXT(B11),ISBLANK(C11)),\nAND(ISTEXT(#REF!),ISBLANK(#REF!))),1,0)","v":0},"Field Worker","Meter safety check and read",1,10,{"$f":"(J11*K11)","v":10},{"$f":"IF(OR(\nAND(ISTEXT(H11),ISBLANK(I11)),\nAND(ISTEXT(#REF!),ISBLANK(#REF!)),\nAND(ISTEXT(#REF!),ISBLANK(#REF!))),1,0)","v":0}]
[{"$f":"IFERROR(A11+1,\"\")","v":3},"Administrative Officer","Close SO in SAP after the contractor has completed SO",1,3.9,3.9,{"$f":"IF(OR(\nAND(ISTEXT(B12),ISBLANK(C12)),\nAND(ISTEXT(#REF!),ISBLANK(#REF!))),1,0)","v":0},null,null,null,null,0,{"$f":"IF(OR(\nAND(ISTEXT(H12),ISBLANK(I12)),\nAND(ISTEXT(#REF!),ISBLANK(#REF!)),\nAND(ISTEXT(#REF!),ISBLANK(#REF!))),1,0)","v":0}]
[4,"Administrative Officer","Manage system exceptions, errors and reporting",1,3.5,3.5,{"$f":"IF(OR(\nAND(ISTEXT(B13),ISBLANK(C13)),\nAND(ISTEXT(#REF!),ISBLANK(#REF!))),1,0)","v":0},null,null,null,null,0,{"$f":"IF(OR(\nAND(ISTEXT(H13),ISBLANK(I13)),\nAND(ISTEXT(#REF!),ISBLANK(#REF!)),\nAND(ISTEXT(#REF!),ISBLANK(#REF!))),1,0)","v":0}]
[5,null,null,null,null,0,{"$f":"IF(OR(\nAND(ISTEXT(B14),ISBLANK(C14)),\nAND(ISTEXT(#REF!),ISBLANK(#REF!))),1,0)","v":0},null,null,null,null,0,{"$f":"IF(OR(\nAND(ISTEXT(H14),ISBLANK(I14)),\nAND(ISTEXT(#REF!),ISBLANK(#REF!)),\nAND(ISTEXT(#REF!),ISBLANK(#REF!))),1,0)","v":0}]
[6,null,null,null,null,0,{"$f":"IF(OR(\nAND(ISTEXT(B15),ISBLANK(C15)),\nAND(ISTEXT(#REF!),ISBLANK(#REF!))),1,0)","v":0},null,null,null,null,0,{"$f":"IF(OR(\nAND(ISTEXT(H15),ISBLANK(I15)),\nAND(ISTEXT(#REF!),ISBLANK(#REF!)),\nAND(ISTEXT(#REF!),ISBLANK(#REF!))),1,0)","v":0}]
[7,null,null,null,null,0,{"$f":"IF(OR(\nAND(ISTEXT(B16),ISBLANK(C16)),\nAND(ISTEXT(#REF!),ISBLANK(#REF!))),1,0)","v":0},null,null,null,null,0,{"$f":"IF(OR(\nAND(ISTEXT(H16),ISBLANK(I16)),\nAND(ISTEXT(#REF!),ISBLANK(#REF!)),\nAND(ISTEXT(#REF!),ISBLANK(#REF!))),1,0)","v":0}]
[8,null,null,null,null,0,{"$f":"IF(OR(\nAND(ISTEXT(B17),ISBLANK(C17)),\nAND(ISTEXT(#REF!),ISBLANK(#REF!))),1,0)","v":0},null,null,null,null,0,{"$f":"IF(OR(\nAND(ISTEXT(H17),ISBLANK(I17)),\nAND(ISTEXT(#REF!),ISBLANK(#REF!)),\nAND(ISTEXT(#REF!),ISBLANK(#REF!))),1,0)","v":0}]
[9,null,null,null,null,0,{"$f":"IF(OR(\nAND(ISTEXT(B18),ISBLANK(C18)),\nAND(ISTEXT(#REF!),ISBLANK(#REF!))),1,0)","v":0},null,null,null,null,0,{"$f":"IF(OR(\nAND(ISTEXT(H18),ISBLANK(I18)),\nAND(ISTEXT(#REF!),ISBLANK(#REF!)),\nAND(ISTEXT(#REF!),ISBLANK(#REF!))),1,0)","v":0}]
[10,null,null,null,null,0,{"$f":"IF(OR(\nAND(ISTEXT(B19),ISBLANK(C19)),\nAND(ISTEXT(#REF!),ISBLANK(#REF!))),1,0)","v":0},null,null,null,null,0,{"$f":"IF(OR(\nAND(ISTEXT(H19),ISBLANK(I19)),\nAND(ISTEXT(#REF!),ISBLANK(#REF!)),\nAND(ISTEXT(#REF!),ISBLANK(#REF!))),1,0)","v":0}]
[11,null,null,null,null,0,{"$f":"IF(OR(\nAND(ISTEXT(B20),ISBLANK(C20)),\nAND(ISTEXT(#REF!),ISBLANK(#REF!))),1,0)","v":0},null,null,null,null,0,{"$f":"IF(OR(\nAND(ISTEXT(H20),ISBLANK(I20)),\nAND(ISTEXT(#REF!),ISBLANK(#REF!)),\nAND(ISTEXT(#REF!),ISBLANK(#REF!))),1,0)","v":0}]
[12,null,null,null,null,0,{"$f":"IF(OR(\nAND(ISTEXT(B21),ISBLANK(C21)),\nAND(ISTEXT(#REF!),ISBLANK(#REF!))),1,0)","v":0},null,null,null,null,0,{"$f":"IF(OR(\nAND(ISTEXT(H21),ISBLANK(I21)),\nAND(ISTEXT(#REF!),ISBLANK(#REF!)),\nAND(ISTEXT(#REF!),ISBLANK(#REF!))),1,0)","v":0}]
[13,null,null,null,null,0,{"$f":"IF(OR(\nAND(ISTEXT(B22),ISBLANK(C22)),\nAND(ISTEXT(#REF!),ISBLANK(#REF!))),1,0)","v":0},null,null,null,null,0,{"$f":"IF(OR(\nAND(ISTEXT(H22),ISBLANK(I22)),\nAND(ISTEXT(#REF!),ISBLANK(#REF!)),\nAND(ISTEXT(#REF!),ISBLANK(#REF!))),1,0)","v":0}]
[14,null,null,null,null,0,{"$f":"IF(OR(\nAND(ISTEXT(B23),ISBLANK(C23)),\nAND(ISTEXT(#REF!),ISBLANK(#REF!))),1,0)","v":0},null,null,null,null,0,{"$f":"IF(OR(\nAND(ISTEXT(H23),ISBLANK(I23)),\nAND(ISTEXT(#REF!),ISBLANK(#REF!)),\nAND(ISTEXT(#REF!),ISBLANK(#REF!))),1,0)","v":0}]
[15,null,null,null,null,0,{"$f":"IF(OR(\nAND(ISTEXT(B24),ISBLANK(C24)),\nAND(ISTEXT(#REF!),ISBLANK(#REF!))),1,0)","v":0},null,null,null,null,0,{"$f":"IF(OR(\nAND(ISTEXT(H24),ISBLANK(I24)),\nAND(ISTEXT(#REF!),ISBLANK(#REF!)),\nAND(ISTEXT(#REF!),ISBLANK(#REF!))),1,0)","v":0}]
[16,null,null,null,null,0,{"$f":"IF(OR(\nAND(ISTEXT(B25),ISBLANK(C25)),\nAND(ISTEXT(#REF!),ISBLANK(#REF!))),1,0)","v":0},null,null,null,null,0,{"$f":"IF(OR(\nAND(ISTEXT(H25),ISBLANK(I25)),\nAND(ISTEXT(#REF!),ISBLANK(#REF!)),\nAND(ISTEXT(#REF!),ISBLANK(#REF!))),1,0)","v":0}]
[17,null,null,null,null,0,{"$f":"IF(OR(\nAND(ISTEXT(B26),ISBLANK(C26)),\nAND(ISTEXT(#REF!),ISBLANK(#REF!))),1,0)","v":0},null,null,null,null,0,{"$f":"IF(OR(\nAND(ISTEXT(H26),ISBLANK(I26)),\nAND(ISTEXT(#REF!),ISBLANK(#REF!)),\nAND(ISTEXT(#REF!),ISBLANK(#REF!))),1,0)","v":0}]
[18,null,null,null,null,0,{"$f":"IF(OR(\nAND(ISTEXT(B27),ISBLANK(C27)),\nAND(ISTEXT(#REF!),ISBLANK(#REF!))),1,0)","v":0},null,null,null,null,0,{"$f":"IF(OR(\nAND(ISTEXT(H27),ISBLANK(I27)),\nAND(ISTEXT(#REF!),ISBLANK(#REF!)),\nAND(ISTEXT(#REF!),ISBLANK(#REF!))),1,0)","v":0}]
[19,null,null,null,null,0,{"$f":"IF(OR(\nAND(ISTEXT(B28),ISBLANK(C28)),\nAND(ISTEXT(#REF!),ISBLANK(#REF!))),1,0)","v":0},null,null,null,null,0,{"$f":"IF(OR(\nAND(ISTEXT(H28),ISBLANK(I28)),\nAND(ISTEXT(#REF!),ISBLANK(#REF!)),\nAND(ISTEXT(#REF!),ISBLANK(#REF!))),1,0)","v":0}]
[20,null,null,null,null,0,{"$f":"IF(OR(\nAND(ISTEXT(B29),ISBLANK(C29)),\nAND(ISTEXT(#REF!),ISBLANK(#REF!))),1,0)","v":0},null,null,null,null,0,{"$f":"IF(OR(\nAND(ISTEXT(H29),ISBLANK(I29)),\nAND(ISTEXT(#REF!),ISBLANK(#REF!)),\nAND(ISTEXT(#REF!),ISBLANK(#REF!))),1,0)","v":0}]
[null,null,null,null,"Total Minutes",{"$f":"SUM(F10:F29)","v":12.7},null,null,null,null,"Total Minutes",{"$f":"SUM(L10:L29)","v":40}]
[]
[null,{"$f":"$B$2&\" - Non Labour Breakdown\"","v":"SPRD - Non Labour Breakdown"}]
[]
[null,"Materials",null,null,null,null,{"$f":"IF(SUM(G36:G55)=0,0,1)","v":0},"Vehicle",null,null,null,null,null,{"$f":"IF(SUM(N36:N55)=0,0,1)","v":0},"Other Costs",null,null,{"$f":"IF(SUM(R36:R55)=0,0,1)","v":0}]
[null,"Material Code","Material Name","Number of Units","Unit Cost \n($)","Cost of Unit\n($)",null,"Vehicle Code","Vehicle Name","Number of Units","Hire Time (Minutes)","Hourly Unit Rate\n($)","Cost of Unit\n($)",null,"Notes and sources for \"Other costs\"","Cost\n($)","Cost of Unit\n($)"]
[1,null,null,null,null,null,{"$f":"IF(OR(\nAND(ISTEXT(B36),ISBLANK(C36))),1,0)","v":0},null,"Plant – Elevated Work Platform (small) and Cable Test Van- Average cost",1,40,{"$f":"43.1351164210975*1.24689","v":53.784745314302263},{"$f":"L36*(K36/60)*J36","v":35.856496876201504},{"$f":"IF(OR(\nAND(ISTEXT(H36),ISBLANK(I36))),1,0)","v":0},null,null,{"$f":"P36","v":0},{"$f":"IF(OR(\nAND(ISTEXT(O36),ISBLANK(#REF!))),1,0)","v":0}]
[{"$f":"IFERROR(A36+1,\"\")","v":2},null,null,null,null,null,0,null,null,null,null,null,{"$f":"L37*(K37/60)*J37","v":0},0,null,null,{"$f":"P37","v":0},{"$f":"IF(OR(\nAND(ISTEXT(O37),ISBLANK(#REF!))),1,0)","v":0}]
[{"$f":"IFERROR(A37+1,\"\")","v":3},null,null,null,null,null,0,null,null,null,null,null,0,0,null,null,0,{"$f":"IF(OR(\nAND(ISTEXT(O38),ISBLANK(#REF!))),1,0)","v":0}]
[4,null,null,null,null,null,0,null,null,null,null,null,0,0,null,null,0,{"$f":"IF(OR(\nAND(ISTEXT(O39),ISBLANK(#REF!))),1,0)","v":0}]
[5,null,null,null,null,null,0,null,null,null,null,null,0,0,null,null,0,{"$f":"IF(OR(\nAND(ISTEXT(O40),ISBLANK(#REF!))),1,0)","v":0}]
[6,null,null,null,null,null,0,null,null,null,null,null,0,0,null,null,0,{"$f":"IF(OR(\nAND(ISTEXT(O41),ISBLANK(#REF!))),1,0)","v":0}]
[7,null,null,null,null,null,0,null,null,null,null,null,0,0,null,null,0,{"$f":"IF(OR(\nAND(ISTEXT(O42),ISBLANK(#REF!))),1,0)","v":0}]
[8,null,null,null,null,null,0,null,null,null,null,null,0,0,null,null,0,{"$f":"IF(OR(\nAND(ISTEXT(O43),ISBLANK(#REF!))),1,0)","v":0}]
[9,null,null,null,null,null,0,null,null,null,null,null,0,0,null,null,0,{"$f":"IF(OR(\nAND(ISTEXT(O44),ISBLANK(#REF!))),1,0)","v":0}]
[10,null,null,null,null,null,0,null,null,null,null,null,0,0,null,null,0,{"$f":"IF(OR(\nAND(ISTEXT(O45),ISBLANK(#REF!))),1,0)","v":0}]
[11,null,null,null,null,null,0,null,null,null,null,null,0,0,null,null,0,{"$f":"IF(OR(\nAND(ISTEXT(O46),ISBLANK(#REF!))),1,0)","v":0}]
[12,null,null,null,null,null,0,null,null,null,null,null,0,0,null,null,0,{"$f":"IF(OR(\nAND(ISTEXT(O47),ISBLANK(#REF!))),1,0)","v":0}]
[13,null,null,null,null,null,0,null,null,null,null,null,0,0,null,null,0,{"$f":"IF(OR(\nAND(ISTEXT(O48),ISBLANK(#REF!))),1,0)","v":0}]
[14,null,null,null,null,null,0,null,null,null,null,null,0,0,null,null,0,{"$f":"IF(OR(\nAND(ISTEXT(O49),ISBLANK(#REF!))),1,0)","v":0}]
[15,null,null,null,null,null,0,null,null,null,null,null,0,0,null,null,0,{"$f":"IF(OR(\nAND(ISTEXT(O50),ISBLANK(#REF!))),1,0)","v":0}]
[16,null,null,null,null,null,0,null,null,null,null,null,0,0,null,null,0,{"$f":"IF(OR(\nAND(ISTEXT(O51),ISBLANK(#REF!))),1,0)","v":0}]
[17,null,null,null,null,null,0,null,null,null,null,null,0,0,null,null,0,{"$f":"IF(OR(\nAND(ISTEXT(O52),ISBLANK(#REF!))),1,0)","v":0}]
[18,null,null,null,null,null,0,null,null,null,null,null,0,0,null,null,0,{"$f":"IF(OR(\nAND(ISTEXT(O53),ISBLANK(#REF!))),1,0)","v":0}]
[19,null,null,null,null,null,0,null,null,null,null,null,0,0,null,null,0,{"$f":"IF(OR(\nAND(ISTEXT(O54),ISBLANK(#REF!))),1,0)","v":0}]
[20,null,null,null,null,null,0,null,null,null,null,null,0,0,null,null,0,{"$f":"IF(OR(\nAND(ISTEXT(O55),ISBLANK(#REF!))),1,0)","v":0}]
[null,null,null,null,"Materials Total",0,null,null,null,null,null,"Vehicle Total",{"$f":"SUM(M36:M55)","v":35.856496876201504},null,null,"Other Cost Total",{"$f":"SUM(Q36:Q55)","v":0}]

{"sheet":"MTAL","index":35,"n_rows":56,"n_cols":18,"rows_kept":56,"cut":false,"hidden":false,"merged":[]}
[null,{"$f":"IFERROR(Index!B1,\"\")","v":"Jemena Electricity Networks – Alternative Control Services Forecast model"},null,"Key:","Input",null,null,null,"Sheet Validation",{"$f":"IF(SUM(G8+M8+G34+N34+R34)=0,0,1)","v":0}]
[null,{"$f":"IFERROR(MID(CELL(\"filename\",A1),FIND(\"]\",CELL(\"filename\",A1))+1,255),\"\")","v":"MTAL"},null,null,"Formula"]
[]
[]
[]
[null,{"$f":"$B$2&\" - Labour Breakdown\"","v":"MTAL - Labour Breakdown"}]
[]
[null,"Non-field based labour",null,null,null,null,{"$f":"IF(SUM(G10:G29)=0,0,1)","v":0},"Field based labour",null,null,null,null,{"$f":"IF(SUM(M10:M29)=0,0,1)","v":0}]
[null,"Labour Category","Activity Name","FTE","Time on task (Minutes)","Labour Totals",null,"Labour Category",{"$f":"C9","v":"Activity Name"},{"$f":"D9","v":"FTE"},"Time on task (Minutes)","Time on task (Minutes)"]
[1,"Administrative Officer","Check and validate B2B service order (SO)",1,9,{"$f":"(D10*E10)","v":9},{"$f":"IF(OR(\nAND(ISTEXT(B10),ISBLANK(C10)),\nAND(ISTEXT(#REF!),ISBLANK(#REF!))),1,0)","v":0},"Field Worker","Travel to site",2,30,{"$f":"(J10*K10)","v":60},{"$f":"IF(OR(\nAND(ISTEXT(H10),ISBLANK(I10)),\nAND(ISTEXT(#REF!),ISBLANK(#REF!)),\nAND(ISTEXT(#REF!),ISBLANK(#REF!))),1,0)","v":0}]
[{"$f":"IFERROR(A10+1,\"\")","v":2},"Administrative Officer","Accept B2B SO",1,3,{"$f":"(D11*E11)","v":3},{"$f":"IF(OR(\nAND(ISTEXT(B11),ISBLANK(C11)),\nAND(ISTEXT(#REF!),ISBLANK(#REF!))),1,0)","v":0},"Field Worker","Meter testing",2,120,{"$f":"(J11*K11)","v":240},{"$f":"IF(OR(\nAND(ISTEXT(H11),ISBLANK(I11)),\nAND(ISTEXT(#REF!),ISBLANK(#REF!)),\nAND(ISTEXT(#REF!),ISBLANK(#REF!))),1,0)","v":0}]
[{"$f":"IFERROR(A11+1,\"\")","v":3},"Administrative Officer","Reject B2B SO (if required)",1,3,3,{"$f":"IF(OR(\nAND(ISTEXT(B12),ISBLANK(C12)),\nAND(ISTEXT(#REF!),ISBLANK(#REF!))),1,0)","v":0},null,null,null,null,0,{"$f":"IF(OR(\nAND(ISTEXT(H12),ISBLANK(I12)),\nAND(ISTEXT(#REF!),ISBLANK(#REF!)),\nAND(ISTEXT(#REF!),ISBLANK(#REF!))),1,0)","v":0}]
[4,"Administrative Officer","Schedule appointment to test meter ",1,6,6,{"$f":"IF(OR(\nAND(ISTEXT(B13),ISBLANK(C13)),\nAND(ISTEXT(#REF!),ISBLANK(#REF!))),1,0)","v":0},null,null,null,null,0,{"$f":"IF(OR(\nAND(ISTEXT(H13),ISBLANK(I13)),\nAND(ISTEXT(#REF!),ISBLANK(#REF!)),\nAND(ISTEXT(#REF!),ISBLANK(#REF!))),1,0)","v":0}]
[5,"Administrative Officer","Create SO in SAP & send SO to Specialist Metering",1,6,6,{"$f":"IF(OR(\nAND(ISTEXT(B14),ISBLANK(C14)),\nAND(ISTEXT(#REF!),ISBLANK(#REF!))),1,0)","v":0},null,null,null,null,0,{"$f":"IF(OR(\nAND(ISTEXT(H14),ISBLANK(I14)),\nAND(ISTEXT(#REF!),ISBLANK(#REF!)),\nAND(ISTEXT(#REF!),ISBLANK(#REF!))),1,0)","v":0}]
[6,"Administrative Officer","Close SO in SAP",1,8,8,{"$f":"IF(OR(\nAND(ISTEXT(B15),ISBLANK(C15)),\nAND(ISTEXT(#REF!),ISBLANK(#REF!))),1,0)","v":0},null,null,null,null,0,{"$f":"IF(OR(\nAND(ISTEXT(H15),ISBLANK(I15)),\nAND(ISTEXT(#REF!),ISBLANK(#REF!)),\nAND(ISTEXT(#REF!),ISBLANK(#REF!))),1,0)","v":0}]
[7,null,null,null,null,0,{"$f":"IF(OR(\nAND(ISTEXT(B16),ISBLANK(C16)),\nAND(ISTEXT(#REF!),ISBLANK(#REF!))),1,0)","v":0},null,null,null,null,0,{"$f":"IF(OR(\nAND(ISTEXT(H16),ISBLANK(I16)),\nAND(ISTEXT(#REF!),ISBLANK(#REF!)),\nAND(ISTEXT(#REF!),ISBLANK(#REF!))),1,0)","v":0}]
[8,null,null,null,null,0,{"$f":"IF(OR(\nAND(ISTEXT(B17),ISBLANK(C17)),\nAND(ISTEXT(#REF!),ISBLANK(#REF!))),1,0)","v":0},null,null,null,null,0,{"$f":"IF(OR(\nAND(ISTEXT(H17),ISBLANK(I17)),\nAND(ISTEXT(#REF!),ISBLANK(#REF!)),\nAND(ISTEXT(#REF!),ISBLANK(#REF!))),1,0)","v":0}]
[9,null,null,null,null,0,{"$f":"IF(OR(\nAND(ISTEXT(B18),ISBLANK(C18)),\nAND(ISTEXT(#REF!),ISBLANK(#REF!))),1,0)","v":0},null,null,null,null,0,{"$f":"IF(OR(\nAND(ISTEXT(H18),ISBLANK(I18)),\nAND(ISTEXT(#REF!),ISBLANK(#REF!)),\nAND(ISTEXT(#REF!),ISBLANK(#REF!))),1,0)","v":0}]
[10,null,null,null,null,0,{"$f":"IF(OR(\nAND(ISTEXT(B19),ISBLANK(C19)),\nAND(ISTEXT(#REF!),ISBLANK(#REF!))),1,0)","v":0},null,null,null,null,0,{"$f":"IF(OR(\nAND(ISTEXT(H19),ISBLANK(I19)),\nAND(ISTEXT(#REF!),ISBLANK(#REF!)),\nAND(ISTEXT(#REF!),ISBLANK(#REF!))),1,0)","v":0}]
[11,null,null,null,null,0,{"$f":"IF(OR(\nAND(ISTEXT(B20),ISBLANK(C20)),\nAND(ISTEXT(#REF!),ISBLANK(#REF!))),1,0)","v":0},null,null,null,null,0,{"$f":"IF(OR(\nAND(ISTEXT(H20),ISBLANK(I20)),\nAND(ISTEXT(#REF!),ISBLANK(#REF!)),\nAND(ISTEXT(#REF!),ISBLANK(#REF!))),1,0)","v":0}]
[12,null,null,null,null,0,{"$f":"IF(OR(\nAND(ISTEXT(B21),ISBLANK(C21)),\nAND(ISTEXT(#REF!),ISBLANK(#REF!))),1,0)","v":0},null,null,null,null,0,{"$f":"IF(OR(\nAND(ISTEXT(H21),ISBLANK(I21)),\nAND(ISTEXT(#REF!),ISBLANK(#REF!)),\nAND(ISTEXT(#REF!),ISBLANK(#REF!))),1,0)","v":0}]
[13,null,null,null,null,0,{"$f":"IF(OR(\nAND(ISTEXT(B22),ISBLANK(C22)),\nAND(ISTEXT(#REF!),ISBLANK(#REF!))),1,0)","v":0},null,null,null,null,0,{"$f":"IF(OR(\nAND(ISTEXT(H22),ISBLANK(I22)),\nAND(ISTEXT(#REF!),ISBLANK(#REF!)),\nAND(ISTEXT(#REF!),ISBLANK(#REF!))),1,0)","v":0}]
[14,null,null,null,null,0,{"$f":"IF(OR(\nAND(ISTEXT(B23),ISBLANK(C23)),\nAND(ISTEXT(#REF!),ISBLANK(#REF!))),1,0)","v":0},null,null,null,null,0,{"$f":"IF(OR(\nAND(ISTEXT(H23),ISBLANK(I23)),\nAND(ISTEXT(#REF!),ISBLANK(#REF!)),\nAND(ISTEXT(#REF!),ISBLANK(#REF!))),1,0)","v":0}]
[15,null,null,null,null,0,{"$f":"IF(OR(\nAND(ISTEXT(B24),ISBLANK(C24)),\nAND(ISTEXT(#REF!),ISBLANK(#REF!))),1,0)","v":0},null,null,null,null,0,{"$f":"IF(OR(\nAND(ISTEXT(H24),ISBLANK(I24)),\nAND(ISTEXT(#REF!),ISBLANK(#REF!)),\nAND(ISTEXT(#REF!),ISBLANK(#REF!))),1,0)","v":0}]
[16,null,null,null,null,0,{"$f":"IF(OR(\nAND(ISTEXT(B25),ISBLANK(C25)),\nAND(ISTEXT(#REF!),ISBLANK(#REF!))),1,0)","v":0},null,null,null,null,0,{"$f":"IF(OR(\nAND(ISTEXT(H25),ISBLANK(I25)),\nAND(ISTEXT(#REF!),ISBLANK(#REF!)),\nAND(ISTEXT(#REF!),ISBLANK(#REF!))),1,0)","v":0}]
[17,null,null,null,null,0,{"$f":"IF(OR(\nAND(ISTEXT(B26),ISBLANK(C26)),\nAND(ISTEXT(#REF!),ISBLANK(#REF!))),1,0)","v":0},null,null,null,null,0,{"$f":"IF(OR(\nAND(ISTEXT(H26),ISBLANK(I26)),\nAND(ISTEXT(#REF!),ISBLANK(#REF!)),\nAND(ISTEXT(#REF!),ISBLANK(#REF!))),1,0)","v":0}]
[18,null,null,null,null,0,{"$f":"IF(OR(\nAND(ISTEXT(B27),ISBLANK(C27)),\nAND(ISTEXT(#REF!),ISBLANK(#REF!))),1,0)","v":0},null,null,null,null,0,{"$f":"IF(OR(\nAND(ISTEXT(H27),ISBLANK(I27)),\nAND(ISTEXT(#REF!),ISBLANK(#REF!)),\nAND(ISTEXT(#REF!),ISBLANK(#REF!))),1,0)","v":0}]
[19,null,null,null,null,0,{"$f":"IF(OR(\nAND(ISTEXT(B28),ISBLANK(C28)),\nAND(ISTEXT(#REF!),ISBLANK(#REF!))),1,0)","v":0},null,null,null,null,0,{"$f":"IF(OR(\nAND(ISTEXT(H28),ISBLANK(I28)),\nAND(ISTEXT(#REF!),ISBLANK(#REF!)),\nAND(ISTEXT(#REF!),ISBLANK(#REF!))),1,0)","v":0}]
[20,null,null,null,null,0,{"$f":"IF(OR(\nAND(ISTEXT(B29),ISBLANK(C29)),\nAND(ISTEXT(#REF!),ISBLANK(#REF!))),1,0)","v":0},null,null,null,null,0,{"$f":"IF(OR(\nAND(ISTEXT(H29),ISBLANK(I29)),\nAND(ISTEXT(#REF!),ISBLANK(#REF!)),\nAND(ISTEXT(#REF!),ISBLANK(#REF!))),1,0)","v":0}]
[null,null,null,null,"Total Minutes",{"$f":"SUM(F10:F29)","v":35},null,null,null,null,"Total Minutes",{"$f":"SUM(L10:L29)","v":300}]
[]
[null,{"$f":"$B$2&\" - Non Labour Breakdown\"","v":"MTAL - Non Labour Breakdown"}]
[]
[null,"Materials",null,null,null,null,{"$f":"IF(SUM(G36:G55)=0,0,1)","v":0},"Vehicle",null,null,null,null,null,{"$f":"IF(SUM(N36:N55)=0,0,1)","v":0},"Other Costs",null,null,{"$f":"IF(SUM(R36:R55)=0,0,1)","v":0}]
[null,"Material Code","Material Name","Number of Units","Unit Cost \n($)","Cost of Unit\n($)",null,"Vehicle Code","Vehicle Name","Number of Units","Hire Time (Minutes)","Hourly Unit Rate\n($)","Cost of Unit\n($)",null,"Notes and sources for \"Other costs\"","Cost\n($)","Cost of Unit\n($)"]
[1,null,null,null,null,null,{"$f":"IF(OR(\nAND(ISTEXT(B36),ISBLANK(C36))),1,0)","v":0},null,"Plant – Elevated Work Platform (small) and Cable Test Van- Average cost",1,200,{"$f":"43.1351164210975*1.24689","v":53.784745314302263},{"$f":"L36*(K36/60)*J36","v":179.28248438100755},{"$f":"IF(OR(\nAND(ISTEXT(H36),ISBLANK(I36))),1,0)","v":0},null,null,{"$f":"P36","v":0},{"$f":"IF(OR(\nAND(ISTEXT(O36),ISBLANK(#REF!))),1,0)","v":0}]
[{"$f":"IFERROR(A36+1,\"\")","v":2},null,null,null,null,null,0,null,null,null,null,null,{"$f":"L37*(K37/60)*J37","v":0},0,null,null,{"$f":"P37","v":0},{"$f":"IF(OR(\nAND(ISTEXT(O37),ISBLANK(#REF!))),1,0)","v":0}]
[{"$f":"IFERROR(A37+1,\"\")","v":3},null,null,null,null,null,0,null,null,null,null,null,0,0,null,null,0,{"$f":"IF(OR(\nAND(ISTEXT(O38),ISBLANK(#REF!))),1,0)","v":0}]
[4,null,null,null,null,null,0,null,null,null,null,null,0,0,null,null,0,{"$f":"IF(OR(\nAND(ISTEXT(O39),ISBLANK(#REF!))),1,0)","v":0}]
[5,null,null,null,null,null,0,null,null,null,null,null,0,0,null,null,0,{"$f":"IF(OR(\nAND(ISTEXT(O40),ISBLANK(#REF!))),1,0)","v":0}]
[6,null,null,null,null,null,0,null,null,null,null,null,0,0,null,null,0,{"$f":"IF(OR(\nAND(ISTEXT(O41),ISBLANK(#REF!))),1,0)","v":0}]
[7,null,null,null,null,null,0,null,null,null,null,null,0,0,null,null,0,{"$f":"IF(OR(\nAND(ISTEXT(O42),ISBLANK(#REF!))),1,0)","v":0}]
[8,null,null,null,null,null,0,null,null,null,null,null,0,0,null,null,0,{"$f":"IF(OR(\nAND(ISTEXT(O43),ISBLANK(#REF!))),1,0)","v":0}]
[9,null,null,null,null,null,0,null,null,null,null,null,0,0,null,null,0,{"$f":"IF(OR(\nAND(ISTEXT(O44),ISBLANK(#REF!))),1,0)","v":0}]
[10,null,null,null,null,null,0,null,null,null,null,null,0,0,null,null,0,{"$f":"IF(OR(\nAND(ISTEXT(O45),ISBLANK(#REF!))),1,0)","v":0}]
[11,null,null,null,null,null,0,null,null,null,null,null,0,0,null,null,0,{"$f":"IF(OR(\nAND(ISTEXT(O46),ISBLANK(#REF!))),1,0)","v":0}]
[12,null,null,null,null,null,0,null,null,null,null,null,0,0,null,null,0,{"$f":"IF(OR(\nAND(ISTEXT(O47),ISBLANK(#REF!))),1,0)","v":0}]
[13,null,null,null,null,null,0,null,null,null,null,null,0,0,null,null,0,{"$f":"IF(OR(\nAND(ISTEXT(O48),ISBLANK(#REF!))),1,0)","v":0}]
[14,null,null,null,null,null,0,null,null,null,null,null,0,0,null,null,0,{"$f":"IF(OR(\nAND(ISTEXT(O49),ISBLANK(#REF!))),1,0)","v":0}]
[15,null,null,null,null,null,0,null,null,null,null,null,0,0,null,null,0,{"$f":"IF(OR(\nAND(ISTEXT(O50),ISBLANK(#REF!))),1,0)","v":0}]
[16,null,null,null,null,null,0,null,null,null,null,null,0,0,null,null,0,{"$f":"IF(OR(\nAND(ISTEXT(O51),ISBLANK(#REF!))),1,0)","v":0}]
[17,null,null,null,null,null,0,null,null,null,null,null,0,0,null,null,0,{"$f":"IF(OR(\nAND(ISTEXT(O52),ISBLANK(#REF!))),1,0)","v":0}]
[18,null,null,null,null,null,0,null,null,null,null,null,0,0,null,null,0,{"$f":"IF(OR(\nAND(ISTEXT(O53),ISBLANK(#REF!))),1,0)","v":0}]
[19,null,null,null,null,null,0,null,null,null,null,null,0,0,null,null,0,{"$f":"IF(OR(\nAND(ISTEXT(O54),ISBLANK(#REF!))),1,0)","v":0}]
[20,null,null,null,null,null,0,null,null,null,null,null,0,0,null,null,0,{"$f":"IF(OR(\nAND(ISTEXT(O55),ISBLANK(#REF!))),1,0)","v":0}]
[null,null,null,null,"Materials Total",0,null,null,null,null,null,"Vehicle Total",{"$f":"SUM(M36:M55)","v":179.28248438100755},null,null,"Other Cost Total",{"$f":"SUM(Q36:Q55)","v":0}]

{"sheet":"MDCH","index":36,"n_rows":56,"n_cols":18,"rows_kept":56,"cut":false,"hidden":false,"merged":[]}
[null,{"$f":"IFERROR(Index!B1,\"\")","v":"Jemena Electricity Networks – Alternative Control Services Forecast model"},null,"Key:","Input",null,null,null,"Sheet Validation",{"$f":"IF(SUM(G8+M8+G34+N34+R34)=0,0,1)","v":0}]
[null,{"$f":"IFERROR(MID(CELL(\"filename\",A1),FIND(\"]\",CELL(\"filename\",A1))+1,255),\"\")","v":"MDCH"},null,null,"Formula"]
[]
[]
[]
[null,{"$f":"$B$2&\" - Labour Breakdown\"","v":"MDCH - Labour Breakdown"}]
[]
[null,"Non-field based labour",null,null,null,null,{"$f":"IF(SUM(G10:G29)=0,0,1)","v":0},"Field based labour",null,null,null,null,{"$f":"IF(SUM(M10:M29)=0,0,1)","v":0}]
[null,"Labour Category","Activity Name","FTE","Time on task (Minutes)","Labour Totals",null,"Labour Category",{"$f":"C9","v":"Activity Name"},{"$f":"D9","v":"FTE"},"Time on task (Minutes)","Time on task (Minutes)"]
[1,null,"Process type 7 loads through MSATS, maintain Inventory table & Load table, annual audits of inventory table.",0,0,{"$f":"(D10*E10)","v":0},{"$f":"IF(OR(\nAND(ISTEXT(B10),ISBLANK(C10)),\nAND(ISTEXT(#REF!),ISBLANK(#REF!))),1,0)","v":0},null,"[Insert]",null,null,{"$f":"(J10*K10)","v":0},{"$f":"IF(OR(\nAND(ISTEXT(H10),ISBLANK(I10)),\nAND(ISTEXT(#REF!),ISBLANK(#REF!)),\nAND(ISTEXT(#REF!),ISBLANK(#REF!))),1,0)","v":0}]
[{"$f":"IFERROR(A10+1,\"\")","v":2},null,null,null,null,{"$f":"(D11*E11)","v":0},{"$f":"IF(OR(\nAND(ISTEXT(B11),ISBLANK(C11)),\nAND(ISTEXT(#REF!),ISBLANK(#REF!))),1,0)","v":0},null,null,null,null,{"$f":"(J11*K11)","v":0},{"$f":"IF(OR(\nAND(ISTEXT(H11),ISBLANK(I11)),\nAND(ISTEXT(#REF!),ISBLANK(#REF!)),\nAND(ISTEXT(#REF!),ISBLANK(#REF!))),1,0)","v":0}]
[{"$f":"IFERROR(A11+1,\"\")","v":3},null,null,null,null,0,{"$f":"IF(OR(\nAND(ISTEXT(B12),ISBLANK(C12)),\nAND(ISTEXT(#REF!),ISBLANK(#REF!))),1,0)","v":0},null,null,null,null,0,{"$f":"IF(OR(\nAND(ISTEXT(H12),ISBLANK(I12)),\nAND(ISTEXT(#REF!),ISBLANK(#REF!)),\nAND(ISTEXT(#REF!),ISBLANK(#REF!))),1,0)","v":0}]
[4,null,null,null,null,0,{"$f":"IF(OR(\nAND(ISTEXT(B13),ISBLANK(C13)),\nAND(ISTEXT(#REF!),ISBLANK(#REF!))),1,0)","v":0},null,null,null,null,0,{"$f":"IF(OR(\nAND(ISTEXT(H13),ISBLANK(I13)),\nAND(ISTEXT(#REF!),ISBLANK(#REF!)),\nAND(ISTEXT(#REF!),ISBLANK(#REF!))),1,0)","v":0}]
[5,null,null,null,null,0,{"$f":"IF(OR(\nAND(ISTEXT(B14),ISBLANK(C14)),\nAND(ISTEXT(#REF!),ISBLANK(#REF!))),1,0)","v":0},null,null,null,null,0,{"$f":"IF(OR(\nAND(ISTEXT(H14),ISBLANK(I14)),\nAND(ISTEXT(#REF!),ISBLANK(#REF!)),\nAND(ISTEXT(#REF!),ISBLANK(#REF!))),1,0)","v":0}]
[6,null,null,null,null,0,{"$f":"IF(OR(\nAND(ISTEXT(B15),ISBLANK(C15)),\nAND(ISTEXT(#REF!),ISBLANK(#REF!))),1,0)","v":0},null,null,null,null,0,{"$f":"IF(OR(\nAND(ISTEXT(H15),ISBLANK(I15)),\nAND(ISTEXT(#REF!),ISBLANK(#REF!)),\nAND(ISTEXT(#REF!),ISBLANK(#REF!))),1,0)","v":0}]
[7,null,null,null,null,0,{"$f":"IF(OR(\nAND(ISTEXT(B16),ISBLANK(C16)),\nAND(ISTEXT(#REF!),ISBLANK(#REF!))),1,0)","v":0},null,null,null,null,0,{"$f":"IF(OR(\nAND(ISTEXT(H16),ISBLANK(I16)),\nAND(ISTEXT(#REF!),ISBLANK(#REF!)),\nAND(ISTEXT(#REF!),ISBLANK(#REF!))),1,0)","v":0}]
[8,null,null,null,null,0,{"$f":"IF(OR(\nAND(ISTEXT(B17),ISBLANK(C17)),\nAND(ISTEXT(#REF!),ISBLANK(#REF!))),1,0)","v":0},null,null,null,null,0,{"$f":"IF(OR(\nAND(ISTEXT(H17),ISBLANK(I17)),\nAND(ISTEXT(#REF!),ISBLANK(#REF!)),\nAND(ISTEXT(#REF!),ISBLANK(#REF!))),1,0)","v":0}]
[9,null,null,null,null,0,{"$f":"IF(OR(\nAND(ISTEXT(B18),ISBLANK(C18)),\nAND(ISTEXT(#REF!),ISBLANK(#REF!))),1,0)","v":0},null,null,null,null,0,{"$f":"IF(OR(\nAND(ISTEXT(H18),ISBLANK(I18)),\nAND(ISTEXT(#REF!),ISBLANK(#REF!)),\nAND(ISTEXT(#REF!),ISBLANK(#REF!))),1,0)","v":0}]
[10,null,null,null,null,0,{"$f":"IF(OR(\nAND(ISTEXT(B19),ISBLANK(C19)),\nAND(ISTEXT(#REF!),ISBLANK(#REF!))),1,0)","v":0},null,null,null,null,0,{"$f":"IF(OR(\nAND(ISTEXT(H19),ISBLANK(I19)),\nAND(ISTEXT(#REF!),ISBLANK(#REF!)),\nAND(ISTEXT(#REF!),ISBLANK(#REF!))),1,0)","v":0}]
[11,null,null,null,null,0,{"$f":"IF(OR(\nAND(ISTEXT(B20),ISBLANK(C20)),\nAND(ISTEXT(#REF!),ISBLANK(#REF!))),1,0)","v":0},null,null,null,null,0,{"$f":"IF(OR(\nAND(ISTEXT(H20),ISBLANK(I20)),\nAND(ISTEXT(#REF!),ISBLANK(#REF!)),\nAND(ISTEXT(#REF!),ISBLANK(#REF!))),1,0)","v":0}]
[12,null,null,null,null,0,{"$f":"IF(OR(\nAND(ISTEXT(B21),ISBLANK(C21)),\nAND(ISTEXT(#REF!),ISBLANK(#REF!))),1,0)","v":0},null,null,null,null,0,{"$f":"IF(OR(\nAND(ISTEXT(H21),ISBLANK(I21)),\nAND(ISTEXT(#REF!),ISBLANK(#REF!)),\nAND(ISTEXT(#REF!),ISBLANK(#REF!))),1,0)","v":0}]
[13,null,null,null,null,0,{"$f":"IF(OR(\nAND(ISTEXT(B22),ISBLANK(C22)),\nAND(ISTEXT(#REF!),ISBLANK(#REF!))),1,0)","v":0},null,null,null,null,0,{"$f":"IF(OR(\nAND(ISTEXT(H22),ISBLANK(I22)),\nAND(ISTEXT(#REF!),ISBLANK(#REF!)),\nAND(ISTEXT(#REF!),ISBLANK(#REF!))),1,0)","v":0}]
[14,null,null,null,null,0,{"$f":"IF(OR(\nAND(ISTEXT(B23),ISBLANK(C23)),\nAND(ISTEXT(#REF!),ISBLANK(#REF!))),1,0)","v":0},null,null,null,null,0,{"$f":"IF(OR(\nAND(ISTEXT(H23),ISBLANK(I23)),\nAND(ISTEXT(#REF!),ISBLANK(#REF!)),\nAND(ISTEXT(#REF!),ISBLANK(#REF!))),1,0)","v":0}]
[15,null,null,null,null,0,{"$f":"IF(OR(\nAND(ISTEXT(B24),ISBLANK(C24)),\nAND(ISTEXT(#REF!),ISBLANK(#REF!))),1,0)","v":0},null,null,null,null,0,{"$f":"IF(OR(\nAND(ISTEXT(H24),ISBLANK(I24)),\nAND(ISTEXT(#REF!),ISBLANK(#REF!)),\nAND(ISTEXT(#REF!),ISBLANK(#REF!))),1,0)","v":0}]
[16,null,null,null,null,0,{"$f":"IF(OR(\nAND(ISTEXT(B25),ISBLANK(C25)),\nAND(ISTEXT(#REF!),ISBLANK(#REF!))),1,0)","v":0},null,null,null,null,0,{"$f":"IF(OR(\nAND(ISTEXT(H25),ISBLANK(I25)),\nAND(ISTEXT(#REF!),ISBLANK(#REF!)),\nAND(ISTEXT(#REF!),ISBLANK(#REF!))),1,0)","v":0}]
[17,null,null,null,null,0,{"$f":"IF(OR(\nAND(ISTEXT(B26),ISBLANK(C26)),\nAND(ISTEXT(#REF!),ISBLANK(#REF!))),1,0)","v":0},null,null,null,null,0,{"$f":"IF(OR(\nAND(ISTEXT(H26),ISBLANK(I26)),\nAND(ISTEXT(#REF!),ISBLANK(#REF!)),\nAND(ISTEXT(#REF!),ISBLANK(#REF!))),1,0)","v":0}]
[18,null,null,null,null,0,{"$f":"IF(OR(\nAND(ISTEXT(B27),ISBLANK(C27)),\nAND(ISTEXT(#REF!),ISBLANK(#REF!))),1,0)","v":0},null,null,null,null,0,{"$f":"IF(OR(\nAND(ISTEXT(H27),ISBLANK(I27)),\nAND(ISTEXT(#REF!),ISBLANK(#REF!)),\nAND(ISTEXT(#REF!),ISBLANK(#REF!))),1,0)","v":0}]
[19,null,null,null,null,0,{"$f":"IF(OR(\nAND(ISTEXT(B28),ISBLANK(C28)),\nAND(ISTEXT(#REF!),ISBLANK(#REF!))),1,0)","v":0},null,null,null,null,0,{"$f":"IF(OR(\nAND(ISTEXT(H28),ISBLANK(I28)),\nAND(ISTEXT(#REF!),ISBLANK(#REF!)),\nAND(ISTEXT(#REF!),ISBLANK(#REF!))),1,0)","v":0}]
[20,null,null,null,null,0,{"$f":"IF(OR(\nAND(ISTEXT(B29),ISBLANK(C29)),\nAND(ISTEXT(#REF!),ISBLANK(#REF!))),1,0)","v":0},null,null,null,null,0,{"$f":"IF(OR(\nAND(ISTEXT(H29),ISBLANK(I29)),\nAND(ISTEXT(#REF!),ISBLANK(#REF!)),\nAND(ISTEXT(#REF!),ISBLANK(#REF!))),1,0)","v":0}]
[null,null,null,null,"Total Minutes",{"$f":"SUM(F10:F29)","v":0},null,null,null,null,"Total Minutes",{"$f":"SUM(L10:L29)","v":0}]
[]
[null,{"$f":"$B$2&\" - Non Labour Breakdown\"","v":"MDCH - Non Labour Breakdown"}]
[]
[null,"Materials",null,null,null,null,{"$f":"IF(SUM(G36:G55)=0,0,1)","v":0},"Vehicle",null,null,null,null,null,{"$f":"IF(SUM(N36:N55)=0,0,1)","v":0},"Other Costs",null,null,{"$f":"IF(SUM(R36:R55)=0,0,1)","v":0}]
[null,"Material Code","Material Name","Number of Units","Unit Cost \n($)","Cost of Unit\n($)",null,"Vehicle Code","Vehicle Name","Number of Units","Hire Time (Minutes)","Hourly Unit Rate\n($)","Cost of Unit\n($)",null,"Notes and sources for \"Other costs\"","Cost\n($)","Cost of Unit\n($)"]
[1,null,null,null,null,null,{"$f":"IF(OR(\nAND(ISTEXT(B36),ISBLANK(C36))),1,0)","v":0},null,"[Insert]",null,null,null,{"$f":"L36*(K36/60)*J36","v":0},{"$f":"IF(OR(\nAND(ISTEXT(H36),ISBLANK(I36))),1,0)","v":0},null,null,{"$f":"P36","v":0},{"$f":"IF(OR(\nAND(ISTEXT(O36),ISBLANK(#REF!))),1,0)","v":0}]
[{"$f":"IFERROR(A36+1,\"\")","v":2},null,null,null,null,null,0,null,null,null,null,null,{"$f":"L37*(K37/60)*J37","v":0},0,null,null,0,{"$f":"IF(OR(\nAND(ISTEXT(O37),ISBLANK(#REF!))),1,0)","v":0}]
[{"$f":"IFERROR(A37+1,\"\")","v":3},null,null,null,null,null,0,null,null,null,null,null,0,0,null,null,0,{"$f":"IF(OR(\nAND(ISTEXT(O38),ISBLANK(#REF!))),1,0)","v":0}]
[4,null,null,null,null,null,0,null,null,null,null,null,0,0,null,null,0,{"$f":"IF(OR(\nAND(ISTEXT(O39),ISBLANK(#REF!))),1,0)","v":0}]
[5,null,null,null,null,null,0,null,null,null,null,null,0,0,null,null,0,{"$f":"IF(OR(\nAND(ISTEXT(O40),ISBLANK(#REF!))),1,0)","v":0}]
[6,null,null,null,null,null,0,null,null,null,null,null,0,0,null,null,0,{"$f":"IF(OR(\nAND(ISTEXT(O41),ISBLANK(#REF!))),1,0)","v":0}]
[7,null,null,null,null,null,0,null,null,null,null,null,0,0,null,null,0,{"$f":"IF(OR(\nAND(ISTEXT(O42),ISBLANK(#REF!))),1,0)","v":0}]
[8,null,null,null,null,null,0,null,null,null,null,null,0,0,null,null,0,{"$f":"IF(OR(\nAND(ISTEXT(O43),ISBLANK(#REF!))),1,0)","v":0}]
[9,null,null,null,null,null,0,null,null,null,null,null,0,0,null,null,0,{"$f":"IF(OR(\nAND(ISTEXT(O44),ISBLANK(#REF!))),1,0)","v":0}]
[10,null,null,null,null,null,0,null,null,null,null,null,0,0,null,null,0,{"$f":"IF(OR(\nAND(ISTEXT(O45),ISBLANK(#REF!))),1,0)","v":0}]
[11,null,null,null,null,null,0,null,null,null,null,null,0,0,null,null,0,{"$f":"IF(OR(\nAND(ISTEXT(O46),ISBLANK(#REF!))),1,0)","v":0}]
[12,null,null,null,null,null,0,null,null,null,null,null,0,0,null,null,0,{"$f":"IF(OR(\nAND(ISTEXT(O47),ISBLANK(#REF!))),1,0)","v":0}]
[13,null,null,null,null,null,0,null,null,null,null,null,0,0,null,null,0,{"$f":"IF(OR(\nAND(ISTEXT(O48),ISBLANK(#REF!))),1,0)","v":0}]
[14,null,null,null,null,null,0,null,null,null,null,null,0,0,null,null,0,{"$f":"IF(OR(\nAND(ISTEXT(O49),ISBLANK(#REF!))),1,0)","v":0}]
[15,null,null,null,null,null,0,null,null,null,null,null,0,0,null,null,0,{"$f":"IF(OR(\nAND(ISTEXT(O50),ISBLANK(#REF!))),1,0)","v":0}]
[16,null,null,null,null,null,0,null,null,null,null,null,0,0,null,null,0,{"$f":"IF(OR(\nAND(ISTEXT(O51),ISBLANK(#REF!))),1,0)","v":0}]
[17,null,null,null,null,null,0,null,null,null,null,null,0,0,null,null,0,{"$f":"IF(OR(\nAND(ISTEXT(O52),ISBLANK(#REF!))),1,0)","v":0}]
[18,null,null,null,null,null,0,null,null,null,null,null,0,0,null,null,0,{"$f":"IF(OR(\nAND(ISTEXT(O53),ISBLANK(#REF!))),1,0)","v":0}]
[19,null,null,null,null,null,0,null,null,null,null,null,0,0,null,null,0,{"$f":"IF(OR(\nAND(ISTEXT(O54),ISBLANK(#REF!))),1,0)","v":0}]
[20,null,null,null,null,null,0,null,null,null,null,null,0,0,null,null,0,{"$f":"IF(OR(\nAND(ISTEXT(O55),ISBLANK(#REF!))),1,0)","v":0}]
[null,null,null,null,"Materials Total",0,null,null,null,null,null,"Vehicle Total",{"$f":"SUM(M36:M55)","v":0},null,null,"Other Cost Total",{"$f":"SUM(Q36:Q55)","v":0}]

{"sheet":"NCUM","index":37,"n_rows":56,"n_cols":18,"rows_kept":56,"cut":false,"hidden":false,"merged":[]}
[null,{"$f":"IFERROR(Index!B1,\"\")","v":"Jemena Electricity Networks – Alternative Control Services Forecast model"},null,"Key:","Input",null,null,null,"Sheet Validation",{"$f":"IF(SUM(G8+M8+G34+N34+R34)=0,0,1)","v":0}]
[null,{"$f":"IFERROR(MID(CELL(\"filename\",A1),FIND(\"]\",CELL(\"filename\",A1))+1,255),\"\")","v":"NCUM"},null,null,"Formula"]
[]
[]
[]
[null,{"$f":"$B$2&\" - Labour Breakdown\"","v":"NCUM - Labour Breakdown"}]
[]
[null,"Non-field based labour",null,null,null,null,{"$f":"IF(SUM(G10:G29)=0,0,1)","v":0},"Field based labour",null,null,null,null,{"$f":"IF(SUM(M10:M29)=0,0,1)","v":0}]
[null,"Labour Category","Activity Name","FTE","Time on task (Minutes)","Labour Totals",null,"Labour Category",{"$f":"C9","v":"Activity Name"},{"$f":"D9","v":"FTE"},"Time on task (Minutes)","Time on task (Minutes)"]
[1,null,null,null,null,{"$f":"(D10*E10)","v":0},{"$f":"IF(OR(\nAND(ISTEXT(B10),ISBLANK(C10)),\nAND(ISTEXT(#REF!),ISBLANK(#REF!))),1,0)","v":0},null,null,null,null,{"$f":"(J10*K10)","v":0},{"$f":"IF(OR(\nAND(ISTEXT(H10),ISBLANK(I10)),\nAND(ISTEXT(#REF!),ISBLANK(#REF!)),\nAND(ISTEXT(#REF!),ISBLANK(#REF!))),1,0)","v":0}]
[{"$f":"IFERROR(A10+1,\"\")","v":2},null,null,null,null,{"$f":"(D11*E11)","v":0},{"$f":"IF(OR(\nAND(ISTEXT(B11),ISBLANK(C11)),\nAND(ISTEXT(#REF!),ISBLANK(#REF!))),1,0)","v":0},null,null,null,null,{"$f":"(J11*K11)","v":0},{"$f":"IF(OR(\nAND(ISTEXT(H11),ISBLANK(I11)),\nAND(ISTEXT(#REF!),ISBLANK(#REF!)),\nAND(ISTEXT(#REF!),ISBLANK(#REF!))),1,0)","v":0}]
[{"$f":"IFERROR(A11+1,\"\")","v":3},null,null,null,null,0,{"$f":"IF(OR(\nAND(ISTEXT(B12),ISBLANK(C12)),\nAND(ISTEXT(#REF!),ISBLANK(#REF!))),1,0)","v":0},null,null,null,null,0,{"$f":"IF(OR(\nAND(ISTEXT(H12),ISBLANK(I12)),\nAND(ISTEXT(#REF!),ISBLANK(#REF!)),\nAND(ISTEXT(#REF!),ISBLANK(#REF!))),1,0)","v":0}]
[4,null,null,null,null,0,{"$f":"IF(OR(\nAND(ISTEXT(B13),ISBLANK(C13)),\nAND(ISTEXT(#REF!),ISBLANK(#REF!))),1,0)","v":0},null,null,null,null,0,{"$f":"IF(OR(\nAND(ISTEXT(H13),ISBLANK(I13)),\nAND(ISTEXT(#REF!),ISBLANK(#REF!)),\nAND(ISTEXT(#REF!),ISBLANK(#REF!))),1,0)","v":0}]
[5,null,null,null,null,0,{"$f":"IF(OR(\nAND(ISTEXT(B14),ISBLANK(C14)),\nAND(ISTEXT(#REF!),ISBLANK(#REF!))),1,0)","v":0},null,null,null,null,0,{"$f":"IF(OR(\nAND(ISTEXT(H14),ISBLANK(I14)),\nAND(ISTEXT(#REF!),ISBLANK(#REF!)),\nAND(ISTEXT(#REF!),ISBLANK(#REF!))),1,0)","v":0}]
[6,null,null,null,null,0,{"$f":"IF(OR(\nAND(ISTEXT(B15),ISBLANK(C15)),\nAND(ISTEXT(#REF!),ISBLANK(#REF!))),1,0)","v":0},null,null,null,null,0,{"$f":"IF(OR(\nAND(ISTEXT(H15),ISBLANK(I15)),\nAND(ISTEXT(#REF!),ISBLANK(#REF!)),\nAND(ISTEXT(#REF!),ISBLANK(#REF!))),1,0)","v":0}]
[7,null,null,null,null,0,{"$f":"IF(OR(\nAND(ISTEXT(B16),ISBLANK(C16)),\nAND(ISTEXT(#REF!),ISBLANK(#REF!))),1,0)","v":0},null,null,null,null,0,{"$f":"IF(OR(\nAND(ISTEXT(H16),ISBLANK(I16)),\nAND(ISTEXT(#REF!),ISBLANK(#REF!)),\nAND(ISTEXT(#REF!),ISBLANK(#REF!))),1,0)","v":0}]
[8,null,null,null,null,0,{"$f":"IF(OR(\nAND(ISTEXT(B17),ISBLANK(C17)),\nAND(ISTEXT(#REF!),ISBLANK(#REF!))),1,0)","v":0},null,null,null,null,0,{"$f":"IF(OR(\nAND(ISTEXT(H17),ISBLANK(I17)),\nAND(ISTEXT(#REF!),ISBLANK(#REF!)),\nAND(ISTEXT(#REF!),ISBLANK(#REF!))),1,0)","v":0}]
[9,null,null,null,null,0,{"$f":"IF(OR(\nAND(ISTEXT(B18),ISBLANK(C18)),\nAND(ISTEXT(#REF!),ISBLANK(#REF!))),1,0)","v":0},null,null,null,null,0,{"$f":"IF(OR(\nAND(ISTEXT(H18),ISBLANK(I18)),\nAND(ISTEXT(#REF!),ISBLANK(#REF!)),\nAND(ISTEXT(#REF!),ISBLANK(#REF!))),1,0)","v":0}]
[10,null,null,null,null,0,{"$f":"IF(OR(\nAND(ISTEXT(B19),ISBLANK(C19)),\nAND(ISTEXT(#REF!),ISBLANK(#REF!))),1,0)","v":0},null,null,null,null,0,{"$f":"IF(OR(\nAND(ISTEXT(H19),ISBLANK(I19)),\nAND(ISTEXT(#REF!),ISBLANK(#REF!)),\nAND(ISTEXT(#REF!),ISBLANK(#REF!))),1,0)","v":0}]
[11,null,null,null,null,0,{"$f":"IF(OR(\nAND(ISTEXT(B20),ISBLANK(C20)),\nAND(ISTEXT(#REF!),ISBLANK(#REF!))),1,0)","v":0},null,null,null,null,0,{"$f":"IF(OR(\nAND(ISTEXT(H20),ISBLANK(I20)),\nAND(ISTEXT(#REF!),ISBLANK(#REF!)),\nAND(ISTEXT(#REF!),ISBLANK(#REF!))),1,0)","v":0}]
[12,null,null,null,null,0,{"$f":"IF(OR(\nAND(ISTEXT(B21),ISBLANK(C21)),\nAND(ISTEXT(#REF!),ISBLANK(#REF!))),1,0)","v":0},null,null,null,null,0,{"$f":"IF(OR(\nAND(ISTEXT(H21),ISBLANK(I21)),\nAND(ISTEXT(#REF!),ISBLANK(#REF!)),\nAND(ISTEXT(#REF!),ISBLANK(#REF!))),1,0)","v":0}]
[13,null,null,null,null,0,{"$f":"IF(OR(\nAND(ISTEXT(B22),ISBLANK(C22)),\nAND(ISTEXT(#REF!),ISBLANK(#REF!))),1,0)","v":0},null,null,null,null,0,{"$f":"IF(OR(\nAND(ISTEXT(H22),ISBLANK(I22)),\nAND(ISTEXT(#REF!),ISBLANK(#REF!)),\nAND(ISTEXT(#REF!),ISBLANK(#REF!))),1,0)","v":0}]
[14,null,null,null,null,0,{"$f":"IF(OR(\nAND(ISTEXT(B23),ISBLANK(C23)),\nAND(ISTEXT(#REF!),ISBLANK(#REF!))),1,0)","v":0},null,null,null,null,0,{"$f":"IF(OR(\nAND(ISTEXT(H23),ISBLANK(I23)),\nAND(ISTEXT(#REF!),ISBLANK(#REF!)),\nAND(ISTEXT(#REF!),ISBLANK(#REF!))),1,0)","v":0}]
[15,null,null,null,null,0,{"$f":"IF(OR(\nAND(ISTEXT(B24),ISBLANK(C24)),\nAND(ISTEXT(#REF!),ISBLANK(#REF!))),1,0)","v":0},null,null,null,null,0,{"$f":"IF(OR(\nAND(ISTEXT(H24),ISBLANK(I24)),\nAND(ISTEXT(#REF!),ISBLANK(#REF!)),\nAND(ISTEXT(#REF!),ISBLANK(#REF!))),1,0)","v":0}]
[16,null,null,null,null,0,{"$f":"IF(OR(\nAND(ISTEXT(B25),ISBLANK(C25)),\nAND(ISTEXT(#REF!),ISBLANK(#REF!))),1,0)","v":0},null,null,null,null,0,{"$f":"IF(OR(\nAND(ISTEXT(H25),ISBLANK(I25)),\nAND(ISTEXT(#REF!),ISBLANK(#REF!)),\nAND(ISTEXT(#REF!),ISBLANK(#REF!))),1,0)","v":0}]
[17,null,null,null,null,0,{"$f":"IF(OR(\nAND(ISTEXT(B26),ISBLANK(C26)),\nAND(ISTEXT(#REF!),ISBLANK(#REF!))),1,0)","v":0},null,null,null,null,0,{"$f":"IF(OR(\nAND(ISTEXT(H26),ISBLANK(I26)),\nAND(ISTEXT(#REF!),ISBLANK(#REF!)),\nAND(ISTEXT(#REF!),ISBLANK(#REF!))),1,0)","v":0}]
[18,null,null,null,null,0,{"$f":"IF(OR(\nAND(ISTEXT(B27),ISBLANK(C27)),\nAND(ISTEXT(#REF!),ISBLANK(#REF!))),1,0)","v":0},null,null,null,null,0,{"$f":"IF(OR(\nAND(ISTEXT(H27),ISBLANK(I27)),\nAND(ISTEXT(#REF!),ISBLANK(#REF!)),\nAND(ISTEXT(#REF!),ISBLANK(#REF!))),1,0)","v":0}]
[19,null,null,null,null,0,{"$f":"IF(OR(\nAND(ISTEXT(B28),ISBLANK(C28)),\nAND(ISTEXT(#REF!),ISBLANK(#REF!))),1,0)","v":0},null,null,null,null,0,{"$f":"IF(OR(\nAND(ISTEXT(H28),ISBLANK(I28)),\nAND(ISTEXT(#REF!),ISBLANK(#REF!)),\nAND(ISTEXT(#REF!),ISBLANK(#REF!))),1,0)","v":0}]
[20,null,null,null,null,0,{"$f":"IF(OR(\nAND(ISTEXT(B29),ISBLANK(C29)),\nAND(ISTEXT(#REF!),ISBLANK(#REF!))),1,0)","v":0},null,null,null,null,0,{"$f":"IF(OR(\nAND(ISTEXT(H29),ISBLANK(I29)),\nAND(ISTEXT(#REF!),ISBLANK(#REF!)),\nAND(ISTEXT(#REF!),ISBLANK(#REF!))),1,0)","v":0}]
[null,null,null,null,"Total Minutes",{"$f":"SUM(F10:F29)","v":0},null,null,null,null,"Total Minutes",{"$f":"SUM(L10:L29)","v":0}]
[]
[null,{"$f":"$B$2&\" - Non Labour Breakdown\"","v":"NCUM - Non Labour Breakdown"}]
[]
[null,"Materials",null,null,null,null,{"$f":"IF(SUM(G36:G55)=0,0,1)","v":0},"Vehicle",null,null,null,null,null,{"$f":"IF(SUM(N36:N55)=0,0,1)","v":0},"Other Costs",null,null,{"$f":"IF(SUM(R36:R55)=0,0,1)","v":0}]
[null,"Material Code","Material Name","Number of Units","Unit Cost \n($)","Cost of Unit\n($)",null,"Vehicle Code","Vehicle Name","Number of Units","Hire Time (Minutes)","Hourly Unit Rate\n($)","Cost of Unit\n($)",null,"Notes and sources for \"Other costs\"","Cost\n($)","Cost of Unit\n($)"]
[1,null,null,null,null,null,{"$f":"IF(OR(\nAND(ISTEXT(B36),ISBLANK(C36))),1,0)","v":0},null,null,null,null,null,{"$f":"L36*(K36/60)*J36","v":0},{"$f":"IF(OR(\nAND(ISTEXT(H36),ISBLANK(I36))),1,0)","v":0},null,null,{"$f":"P36","v":0},{"$f":"IF(OR(\nAND(ISTEXT(O36),ISBLANK(#REF!))),1,0)","v":0}]
[{"$f":"IFERROR(A36+1,\"\")","v":2},null,null,null,null,null,0,null,null,null,null,null,{"$f":"L37*(K37/60)*J37","v":0},0,null,null,{"$f":"P37","v":0},{"$f":"IF(OR(\nAND(ISTEXT(O37),ISBLANK(#REF!))),1,0)","v":0}]
[{"$f":"IFERROR(A37+1,\"\")","v":3},null,null,null,null,null,0,null,null,null,null,null,0,0,null,null,0,{"$f":"IF(OR(\nAND(ISTEXT(O38),ISBLANK(#REF!))),1,0)","v":0}]
[4,null,null,null,null,null,0,null,null,null,null,null,0,0,null,null,0,{"$f":"IF(OR(\nAND(ISTEXT(O39),ISBLANK(#REF!))),1,0)","v":0}]
[5,null,null,null,null,null,0,null,null,null,null,null,0,0,null,null,0,{"$f":"IF(OR(\nAND(ISTEXT(O40),ISBLANK(#REF!))),1,0)","v":0}]
[6,null,null,null,null,null,0,null,null,null,null,null,0,0,null,null,0,{"$f":"IF(OR(\nAND(ISTEXT(O41),ISBLANK(#REF!))),1,0)","v":0}]
[7,null,null,null,null,null,0,null,null,null,null,null,0,0,null,null,0,{"$f":"IF(OR(\nAND(ISTEXT(O42),ISBLANK(#REF!))),1,0)","v":0}]
[8,null,null,null,null,null,0,null,null,null,null,null,0,0,null,null,0,{"$f":"IF(OR(\nAND(ISTEXT(O43),ISBLANK(#REF!))),1,0)","v":0}]
[9,null,null,null,null,null,0,null,null,null,null,null,0,0,null,null,0,{"$f":"IF(OR(\nAND(ISTEXT(O44),ISBLANK(#REF!))),1,0)","v":0}]
[10,null,null,null,null,null,0,null,null,null,null,null,0,0,null,null,0,{"$f":"IF(OR(\nAND(ISTEXT(O45),ISBLANK(#REF!))),1,0)","v":0}]
[11,null,null,null,null,null,0,null,null,null,null,null,0,0,null,null,0,{"$f":"IF(OR(\nAND(ISTEXT(O46),ISBLANK(#REF!))),1,0)","v":0}]
[12,null,null,null,null,null,0,null,null,null,null,null,0,0,null,null,0,{"$f":"IF(OR(\nAND(ISTEXT(O47),ISBLANK(#REF!))),1,0)","v":0}]
[13,null,null,null,null,null,0,null,null,null,null,null,0,0,null,null,0,{"$f":"IF(OR(\nAND(ISTEXT(O48),ISBLANK(#REF!))),1,0)","v":0}]
[14,null,null,null,null,null,0,null,null,null,null,null,0,0,null,null,0,{"$f":"IF(OR(\nAND(ISTEXT(O49),ISBLANK(#REF!))),1,0)","v":0}]
[15,null,null,null,null,null,0,null,null,null,null,null,0,0,null,null,0,{"$f":"IF(OR(\nAND(ISTEXT(O50),ISBLANK(#REF!))),1,0)","v":0}]
[16,null,null,null,null,null,0,null,null,null,null,null,0,0,null,null,0,{"$f":"IF(OR(\nAND(ISTEXT(O51),ISBLANK(#REF!))),1,0)","v":0}]
[17,null,null,null,null,null,0,null,null,null,null,null,0,0,null,null,0,{"$f":"IF(OR(\nAND(ISTEXT(O52),ISBLANK(#REF!))),1,0)","v":0}]
[18,null,null,null,null,null,0,null,null,null,null,null,0,0,null,null,0,{"$f":"IF(OR(\nAND(ISTEXT(O53),ISBLANK(#REF!))),1,0)","v":0}]
[19,null,null,null,null,null,0,null,null,null,null,null,0,0,null,null,0,{"$f":"IF(OR(\nAND(ISTEXT(O54),ISBLANK(#REF!))),1,0)","v":0}]
[20,null,null,null,null,null,0,null,null,null,null,null,0,0,null,null,0,{"$f":"IF(OR(\nAND(ISTEXT(O55),ISBLANK(#REF!))),1,0)","v":0}]
[null,null,null,null,"Materials Total",0,null,null,null,null,null,"Vehicle Total",{"$f":"SUM(M36:M55)","v":0},null,null,"Other Cost Total",{"$f":"SUM(Q36:Q55)","v":0}]

{"sheet":"WSVR","index":38,"n_rows":56,"n_cols":18,"rows_kept":56,"cut":false,"hidden":false,"merged":[]}
[null,{"$f":"IFERROR(Index!B1,\"\")","v":"Jemena Electricity Networks – Alternative Control Services Forecast model"},null,"Key:","Input",null,null,null,"Sheet Validation",{"$f":"IF(SUM(G8+M8+G34+N34+R34)=0,0,1)","v":0}]
[null,{"$f":"IFERROR(MID(CELL(\"filename\",A1),FIND(\"]\",CELL(\"filename\",A1))+1,255),\"\")","v":"WSVR"},null,null,"Formula"]
[]
[]
[]
[null,{"$f":"$B$2&\" - Labour Breakdown\"","v":"WSVR - Labour Breakdown"}]
[]
[null,"Non-field based labour",null,null,null,null,{"$f":"IF(SUM(G10:G29)=0,0,1)","v":0},"Field based labour",null,null,null,null,{"$f":"IF(SUM(M10:M29)=0,0,1)","v":0}]
[null,"Labour Category","Activity Name","FTE","Time on task (Minutes)","Labour Totals",null,"Labour Category",{"$f":"C9","v":"Activity Name"},{"$f":"D9","v":"FTE"},"Time on task (Minutes)","Time on task (Minutes)"]
[1,"Administrative Officer","Check and validate NMI allocation service order (MSW)",1,6,{"$f":"(D10*E10)","v":6},{"$f":"IF(OR(\nAND(ISTEXT(B10),ISBLANK(C10)),\nAND(ISTEXT(#REF!),ISBLANK(#REF!))),1,0)","v":0},"Field Worker","Travel to site",2,30,{"$f":"(J10*K10)","v":60},{"$f":"IF(OR(\nAND(ISTEXT(H10),ISBLANK(I10)),\nAND(ISTEXT(#REF!),ISBLANK(#REF!)),\nAND(ISTEXT(#REF!),ISBLANK(#REF!))),1,0)","v":0}]
[{"$f":"IFERROR(A10+1,\"\")","v":2},"Administrative Officer","Accept NMI allocation SO",1,3,{"$f":"(D11*E11)","v":3},{"$f":"IF(OR(\nAND(ISTEXT(B11),ISBLANK(C11)),\nAND(ISTEXT(#REF!),ISBLANK(#REF!))),1,0)","v":0},"Field Worker","Field crew completes job safety assessment (JSA)",2,5,{"$f":"(J11*K11)","v":10},{"$f":"IF(OR(\nAND(ISTEXT(H11),ISBLANK(I11)),\nAND(ISTEXT(#REF!),ISBLANK(#REF!)),\nAND(ISTEXT(#REF!),ISBLANK(#REF!))),1,0)","v":0}]
[{"$f":"IFERROR(A11+1,\"\")","v":3},"Administrative Officer","Reject NMI allocation SO (if required)",1,3,3,{"$f":"IF(OR(\nAND(ISTEXT(B12),ISBLANK(C12)),\nAND(ISTEXT(#REF!),ISBLANK(#REF!))),1,0)","v":0},"Field Worker","Setup traffic management",2,5,10,{"$f":"IF(OR(\nAND(ISTEXT(H12),ISBLANK(I12)),\nAND(ISTEXT(#REF!),ISBLANK(#REF!)),\nAND(ISTEXT(#REF!),ISBLANK(#REF!))),1,0)","v":0}]
[4,"Administrative Officer","Check and validate B2B service order (SO) - (MSW & SSW)",1,8,8,{"$f":"IF(OR(\nAND(ISTEXT(B13),ISBLANK(C13)),\nAND(ISTEXT(#REF!),ISBLANK(#REF!))),1,0)","v":0},"Field Worker","Install service cable, fit meter and prepare site for testing.",2,15,30,{"$f":"IF(OR(\nAND(ISTEXT(H13),ISBLANK(I13)),\nAND(ISTEXT(#REF!),ISBLANK(#REF!)),\nAND(ISTEXT(#REF!),ISBLANK(#REF!))),1,0)","v":0}]
[5,"Administrative Officer","Accept B2B SO",1,3,3,{"$f":"IF(OR(\nAND(ISTEXT(B14),ISBLANK(C14)),\nAND(ISTEXT(#REF!),ISBLANK(#REF!))),1,0)","v":0},"Field Worker","Field crew completes NST testing and seal meter.",2,5,10,{"$f":"IF(OR(\nAND(ISTEXT(H14),ISBLANK(I14)),\nAND(ISTEXT(#REF!),ISBLANK(#REF!)),\nAND(ISTEXT(#REF!),ISBLANK(#REF!))),1,0)","v":0}]
[6,"Administrative Officer","Reject B2B SO (if required)",1,3,3,{"$f":"IF(OR(\nAND(ISTEXT(B15),ISBLANK(C15)),\nAND(ISTEXT(#REF!),ISBLANK(#REF!))),1,0)","v":0},"Field Worker","Field crew completes paperwork, work activity record (WAR), record meter number, and remove traffic control devices.",2,5,10,{"$f":"IF(OR(\nAND(ISTEXT(H15),ISBLANK(I15)),\nAND(ISTEXT(#REF!),ISBLANK(#REF!)),\nAND(ISTEXT(#REF!),ISBLANK(#REF!))),1,0)","v":0}]
[7,"Administrative Officer","Schedule work as required",1,7.5,7.5,{"$f":"IF(OR(\nAND(ISTEXT(B16),ISBLANK(C16)),\nAND(ISTEXT(#REF!),ISBLANK(#REF!))),1,0)","v":0},null,null,null,null,0,{"$f":"IF(OR(\nAND(ISTEXT(H16),ISBLANK(I16)),\nAND(ISTEXT(#REF!),ISBLANK(#REF!)),\nAND(ISTEXT(#REF!),ISBLANK(#REF!))),1,0)","v":0}]
[8,"Administrative Officer","Create SO in SAP",1,6.5,6.5,{"$f":"IF(OR(\nAND(ISTEXT(B17),ISBLANK(C17)),\nAND(ISTEXT(#REF!),ISBLANK(#REF!))),1,0)","v":0},null,null,null,null,0,{"$f":"IF(OR(\nAND(ISTEXT(H17),ISBLANK(I17)),\nAND(ISTEXT(#REF!),ISBLANK(#REF!)),\nAND(ISTEXT(#REF!),ISBLANK(#REF!))),1,0)","v":0}]
[9,"Administrative Officer","Send SO to contractor",1,5.5,5.5,{"$f":"IF(OR(\nAND(ISTEXT(B18),ISBLANK(C18)),\nAND(ISTEXT(#REF!),ISBLANK(#REF!))),1,0)","v":0},null,null,null,null,0,{"$f":"IF(OR(\nAND(ISTEXT(H18),ISBLANK(I18)),\nAND(ISTEXT(#REF!),ISBLANK(#REF!)),\nAND(ISTEXT(#REF!),ISBLANK(#REF!))),1,0)","v":0}]
[10,"Administrative Officer","Close SO in SAP",1,7.5,7.5,{"$f":"IF(OR(\nAND(ISTEXT(B19),ISBLANK(C19)),\nAND(ISTEXT(#REF!),ISBLANK(#REF!))),1,0)","v":0},null,null,null,null,0,{"$f":"IF(OR(\nAND(ISTEXT(H19),ISBLANK(I19)),\nAND(ISTEXT(#REF!),ISBLANK(#REF!)),\nAND(ISTEXT(#REF!),ISBLANK(#REF!))),1,0)","v":0}]
[11,"Administrative Officer","Manage system exceptions, errors and reporting",1,3,3,{"$f":"IF(OR(\nAND(ISTEXT(B20),ISBLANK(C20)),\nAND(ISTEXT(#REF!),ISBLANK(#REF!))),1,0)","v":0},null,null,null,null,0,{"$f":"IF(OR(\nAND(ISTEXT(H20),ISBLANK(I20)),\nAND(ISTEXT(#REF!),ISBLANK(#REF!)),\nAND(ISTEXT(#REF!),ISBLANK(#REF!))),1,0)","v":0}]
[12,"Administrative Officer","Manage phone calls and inquiries",1,2,2,{"$f":"IF(OR(\nAND(ISTEXT(B21),ISBLANK(C21)),\nAND(ISTEXT(#REF!),ISBLANK(#REF!))),1,0)","v":0},null,null,null,null,0,{"$f":"IF(OR(\nAND(ISTEXT(H21),ISBLANK(I21)),\nAND(ISTEXT(#REF!),ISBLANK(#REF!)),\nAND(ISTEXT(#REF!),ISBLANK(#REF!))),1,0)","v":0}]
[13,"Administrative Officer","Administration of Inbox emails, correspondences",1,2,2,{"$f":"IF(OR(\nAND(ISTEXT(B22),ISBLANK(C22)),\nAND(ISTEXT(#REF!),ISBLANK(#REF!))),1,0)","v":0},null,null,null,null,0,{"$f":"IF(OR(\nAND(ISTEXT(H22),ISBLANK(I22)),\nAND(ISTEXT(#REF!),ISBLANK(#REF!)),\nAND(ISTEXT(#REF!),ISBLANK(#REF!))),1,0)","v":0}]
[14,null,null,null,null,0,{"$f":"IF(OR(\nAND(ISTEXT(B23),ISBLANK(C23)),\nAND(ISTEXT(#REF!),ISBLANK(#REF!))),1,0)","v":0},null,null,null,null,0,{"$f":"IF(OR(\nAND(ISTEXT(H23),ISBLANK(I23)),\nAND(ISTEXT(#REF!),ISBLANK(#REF!)),\nAND(ISTEXT(#REF!),ISBLANK(#REF!))),1,0)","v":0}]
[15,null,null,null,null,0,{"$f":"IF(OR(\nAND(ISTEXT(B24),ISBLANK(C24)),\nAND(ISTEXT(#REF!),ISBLANK(#REF!))),1,0)","v":0},null,null,null,null,0,{"$f":"IF(OR(\nAND(ISTEXT(H24),ISBLANK(I24)),\nAND(ISTEXT(#REF!),ISBLANK(#REF!)),\nAND(ISTEXT(#REF!),ISBLANK(#REF!))),1,0)","v":0}]
[16,null,null,null,null,0,{"$f":"IF(OR(\nAND(ISTEXT(B25),ISBLANK(C25)),\nAND(ISTEXT(#REF!),ISBLANK(#REF!))),1,0)","v":0},null,null,null,null,0,{"$f":"IF(OR(\nAND(ISTEXT(H25),ISBLANK(I25)),\nAND(ISTEXT(#REF!),ISBLANK(#REF!)),\nAND(ISTEXT(#REF!),ISBLANK(#REF!))),1,0)","v":0}]
[17,null,null,null,null,0,{"$f":"IF(OR(\nAND(ISTEXT(B26),ISBLANK(C26)),\nAND(ISTEXT(#REF!),ISBLANK(#REF!))),1,0)","v":0},null,null,null,null,0,{"$f":"IF(OR(\nAND(ISTEXT(H26),ISBLANK(I26)),\nAND(ISTEXT(#REF!),ISBLANK(#REF!)),\nAND(ISTEXT(#REF!),ISBLANK(#REF!))),1,0)","v":0}]
[18,null,null,null,null,0,{"$f":"IF(OR(\nAND(ISTEXT(B27),ISBLANK(C27)),\nAND(ISTEXT(#REF!),ISBLANK(#REF!))),1,0)","v":0},null,null,null,null,0,{"$f":"IF(OR(\nAND(ISTEXT(H27),ISBLANK(I27)),\nAND(ISTEXT(#REF!),ISBLANK(#REF!)),\nAND(ISTEXT(#REF!),ISBLANK(#REF!))),1,0)","v":0}]
[19,null,null,null,null,0,{"$f":"IF(OR(\nAND(ISTEXT(B28),ISBLANK(C28)),\nAND(ISTEXT(#REF!),ISBLANK(#REF!))),1,0)","v":0},null,null,null,null,0,{"$f":"IF(OR(\nAND(ISTEXT(H28),ISBLANK(I28)),\nAND(ISTEXT(#REF!),ISBLANK(#REF!)),\nAND(ISTEXT(#REF!),ISBLANK(#REF!))),1,0)","v":0}]
[20,null,null,null,null,0,{"$f":"IF(OR(\nAND(ISTEXT(B29),ISBLANK(C29)),\nAND(ISTEXT(#REF!),ISBLANK(#REF!))),1,0)","v":0},null,null,null,null,0,{"$f":"IF(OR(\nAND(ISTEXT(H29),ISBLANK(I29)),\nAND(ISTEXT(#REF!),ISBLANK(#REF!)),\nAND(ISTEXT(#REF!),ISBLANK(#REF!))),1,0)","v":0}]
[null,null,null,null,"Total Minutes",{"$f":"SUM(F10:F29)","v":60},null,null,null,null,"Total Minutes",{"$f":"SUM(L10:L29)","v":130}]
[]
[null,{"$f":"$B$2&\" - Non Labour Breakdown\"","v":"WSVR - Non Labour Breakdown"}]
[]
[null,"Materials",null,null,null,null,{"$f":"IF(SUM(G36:G55)=0,0,1)","v":0},"Vehicle",null,null,null,null,null,{"$f":"IF(SUM(N36:N55)=0,0,1)","v":0},"Other Costs",null,null,{"$f":"IF(SUM(R36:R55)=0,0,1)","v":0}]
[null,"Material Code","Material Name","Number of Units","Unit Cost \n($)","Cost of Unit\n($)",null,"Vehicle Code","Vehicle Name","Number of Units","Hire Time (Minutes)","Hourly Unit Rate\n($)","Cost of Unit\n($)",null,"Notes and sources for \"Other costs\"","Cost\n($)","Cost of Unit\n($)"]
[1,null,null,null,null,null,{"$f":"IF(OR(\nAND(ISTEXT(B36),ISBLANK(C36))),1,0)","v":0},null,"Plant – Elevated Work Platform (small) and Cable Test Van- Average cost",1,65,{"$f":"43.1351164210975*1.24689","v":53.784745314302263},{"$f":"L36*(K36/60)*J36","v":58.266807423827451},{"$f":"IF(OR(\nAND(ISTEXT(H36),ISBLANK(I36))),1,0)","v":0},null,null,{"$f":"P36","v":0},{"$f":"IF(OR(\nAND(ISTEXT(O36),ISBLANK(#REF!))),1,0)","v":0}]
[{"$f":"IFERROR(A36+1,\"\")","v":2},null,null,null,null,null,0,null,null,null,null,null,{"$f":"L37*(K37/60)*J37","v":0},0,null,null,{"$f":"P37","v":0},{"$f":"IF(OR(\nAND(ISTEXT(O37),ISBLANK(#REF!))),1,0)","v":0}]
[{"$f":"IFERROR(A37+1,\"\")","v":3},null,null,null,null,null,0,null,null,null,null,null,0,0,null,null,0,{"$f":"IF(OR(\nAND(ISTEXT(O38),ISBLANK(#REF!))),1,0)","v":0}]
[4,null,null,null,null,null,0,null,null,null,null,null,0,0,null,null,0,{"$f":"IF(OR(\nAND(ISTEXT(O39),ISBLANK(#REF!))),1,0)","v":0}]
[5,null,null,null,null,null,0,null,null,null,null,null,0,0,null,null,0,{"$f":"IF(OR(\nAND(ISTEXT(O40),ISBLANK(#REF!))),1,0)","v":0}]
[6,null,null,null,null,null,0,null,null,null,null,null,0,0,null,null,0,{"$f":"IF(OR(\nAND(ISTEXT(O41),ISBLANK(#REF!))),1,0)","v":0}]
[7,null,null,null,null,null,0,null,null,null,null,null,0,0,null,null,0,{"$f":"IF(OR(\nAND(ISTEXT(O42),ISBLANK(#REF!))),1,0)","v":0}]
[8,null,null,null,null,null,0,null,null,null,null,null,0,0,null,null,0,{"$f":"IF(OR(\nAND(ISTEXT(O43),ISBLANK(#REF!))),1,0)","v":0}]
[9,null,null,null,null,null,0,null,null,null,null,null,0,0,null,null,0,{"$f":"IF(OR(\nAND(ISTEXT(O44),ISBLANK(#REF!))),1,0)","v":0}]
[10,null,null,null,null,null,0,null,null,null,null,null,0,0,null,null,0,{"$f":"IF(OR(\nAND(ISTEXT(O45),ISBLANK(#REF!))),1,0)","v":0}]
[11,null,null,null,null,null,0,null,null,null,null,null,0,0,null,null,0,{"$f":"IF(OR(\nAND(ISTEXT(O46),ISBLANK(#REF!))),1,0)","v":0}]
[12,null,null,null,null,null,0,null,null,null,null,null,0,0,null,null,0,{"$f":"IF(OR(\nAND(ISTEXT(O47),ISBLANK(#REF!))),1,0)","v":0}]
[13,null,null,null,null,null,0,null,null,null,null,null,0,0,null,null,0,{"$f":"IF(OR(\nAND(ISTEXT(O48),ISBLANK(#REF!))),1,0)","v":0}]
[14,null,null,null,null,null,0,null,null,null,null,null,0,0,null,null,0,{"$f":"IF(OR(\nAND(ISTEXT(O49),ISBLANK(#REF!))),1,0)","v":0}]
[15,null,null,null,null,null,0,null,null,null,null,null,0,0,null,null,0,{"$f":"IF(OR(\nAND(ISTEXT(O50),ISBLANK(#REF!))),1,0)","v":0}]
[16,null,null,null,null,null,0,null,null,null,null,null,0,0,null,null,0,{"$f":"IF(OR(\nAND(ISTEXT(O51),ISBLANK(#REF!))),1,0)","v":0}]
[17,null,null,null,null,null,0,null,null,null,null,null,0,0,null,null,0,{"$f":"IF(OR(\nAND(ISTEXT(O52),ISBLANK(#REF!))),1,0)","v":0}]
[18,null,null,null,null,null,0,null,null,null,null,null,0,0,null,null,0,{"$f":"IF(OR(\nAND(ISTEXT(O53),ISBLANK(#REF!))),1,0)","v":0}]
[19,null,null,null,null,null,0,null,null,null,null,null,0,0,null,null,0,{"$f":"IF(OR(\nAND(ISTEXT(O54),ISBLANK(#REF!))),1,0)","v":0}]
[20,null,null,null,null,null,0,null,null,null,null,null,0,0,null,null,0,{"$f":"IF(OR(\nAND(ISTEXT(O55),ISBLANK(#REF!))),1,0)","v":0}]
[null,null,null,null,"Materials Total",0,null,null,null,null,null,"Vehicle Total",{"$f":"SUM(M36:M55)","v":58.266807423827451},null,null,"Other Cost Total",{"$f":"SUM(Q36:Q55)","v":0}]

{"sheet":"RTK3","index":39,"n_rows":56,"n_cols":18,"rows_kept":56,"cut":false,"hidden":false,"merged":[]}
[null,{"$f":"IFERROR(Index!B1,\"\")","v":"Jemena Electricity Networks – Alternative Control Services Forecast model"},null,"Key:","Input",null,null,null,"Sheet Validation",{"$f":"IF(SUM(G8+M8+G34+N34+R34)=0,0,1)","v":0}]
[null,{"$f":"IFERROR(MID(CELL(\"filename\",A1),FIND(\"]\",CELL(\"filename\",A1))+1,255),\"\")","v":"RTK3"},null,null,"Formula"]
[]
[]
[]
[null,{"$f":"$B$2&\" - Labour Breakdown\"","v":"RTK3 - Labour Breakdown"}]
[]
[null,"Non-field based labour",null,null,null,null,{"$f":"IF(SUM(G10:G29)=0,0,1)","v":0},"Field based labour",null,null,null,null,{"$f":"IF(SUM(M10:M29)=0,0,1)","v":0}]
[null,"Labour Category","Activity Name","FTE","Time on task (Minutes)","Labour Totals",null,"Labour Category",{"$f":"C9","v":"Activity Name"},{"$f":"D9","v":"FTE"},"Time on task (Minutes)","Time on task (Minutes)"]
[1,"Administrative Officer","Check and validate B2B service order (SO)",1,9,{"$f":"(D10*E10)","v":9},{"$f":"IF(OR(\nAND(ISTEXT(B10),ISBLANK(C10)),\nAND(ISTEXT(#REF!),ISBLANK(#REF!))),1,0)","v":0},"Field Worker","Travel to site",2,30,{"$f":"(J10*K10)","v":60},{"$f":"IF(OR(\nAND(ISTEXT(H10),ISBLANK(I10)),\nAND(ISTEXT(#REF!),ISBLANK(#REF!)),\nAND(ISTEXT(#REF!),ISBLANK(#REF!))),1,0)","v":0}]
[{"$f":"IFERROR(A10+1,\"\")","v":2},"Administrative Officer","Accept B2B SO",1,3,{"$f":"(D11*E11)","v":3},{"$f":"IF(OR(\nAND(ISTEXT(B11),ISBLANK(C11)),\nAND(ISTEXT(#REF!),ISBLANK(#REF!))),1,0)","v":0},"Field Worker","Field crew to complete job safety assessment (JSA)",2,5,{"$f":"(J11*K11)","v":10},{"$f":"IF(OR(\nAND(ISTEXT(H11),ISBLANK(I11)),\nAND(ISTEXT(#REF!),ISBLANK(#REF!)),\nAND(ISTEXT(#REF!),ISBLANK(#REF!))),1,0)","v":0}]
[{"$f":"IFERROR(A11+1,\"\")","v":3},"Administrative Officer","Reject B2B SO (if required)",1,3,3,{"$f":"IF(OR(\nAND(ISTEXT(B12),ISBLANK(C12)),\nAND(ISTEXT(#REF!),ISBLANK(#REF!))),1,0)","v":0},"Field Worker","Setup traffic management",2,5,10,{"$f":"IF(OR(\nAND(ISTEXT(H12),ISBLANK(I12)),\nAND(ISTEXT(#REF!),ISBLANK(#REF!)),\nAND(ISTEXT(#REF!),ISBLANK(#REF!))),1,0)","v":0}]
[4,"Administrative Officer","Schedule work as required",1,8,8,{"$f":"IF(OR(\nAND(ISTEXT(B13),ISBLANK(C13)),\nAND(ISTEXT(#REF!),ISBLANK(#REF!))),1,0)","v":0},"Field Worker","Relocate service cable, connect service cable, and prepare installation for testing",2,15,30,{"$f":"IF(OR(\nAND(ISTEXT(H13),ISBLANK(I13)),\nAND(ISTEXT(#REF!),ISBLANK(#REF!)),\nAND(ISTEXT(#REF!),ISBLANK(#REF!))),1,0)","v":0}]
[5,"Administrative Officer","Create SO in SAP",1,7,7,{"$f":"IF(OR(\nAND(ISTEXT(B14),ISBLANK(C14)),\nAND(ISTEXT(#REF!),ISBLANK(#REF!))),1,0)","v":0},"Field Worker","Field crew to complete NST testing",2,5,10,{"$f":"IF(OR(\nAND(ISTEXT(H14),ISBLANK(I14)),\nAND(ISTEXT(#REF!),ISBLANK(#REF!)),\nAND(ISTEXT(#REF!),ISBLANK(#REF!))),1,0)","v":0}]
[6,"Administrative Officer","Send SO to contractor",1,3,3,{"$f":"IF(OR(\nAND(ISTEXT(B15),ISBLANK(C15)),\nAND(ISTEXT(#REF!),ISBLANK(#REF!))),1,0)","v":0},"Field Worker","Field crew completes paperwork, work activity record (WAR), record meter number, and remove traffic control devices.",2,5,10,{"$f":"IF(OR(\nAND(ISTEXT(H15),ISBLANK(I15)),\nAND(ISTEXT(#REF!),ISBLANK(#REF!)),\nAND(ISTEXT(#REF!),ISBLANK(#REF!))),1,0)","v":0}]
[7,"Administrative Officer","Close SO in SAP",1,8,8,{"$f":"IF(OR(\nAND(ISTEXT(B16),ISBLANK(C16)),\nAND(ISTEXT(#REF!),ISBLANK(#REF!))),1,0)","v":0},null,null,null,null,0,{"$f":"IF(OR(\nAND(ISTEXT(H16),ISBLANK(I16)),\nAND(ISTEXT(#REF!),ISBLANK(#REF!)),\nAND(ISTEXT(#REF!),ISBLANK(#REF!))),1,0)","v":0}]
[8,"Administrative Officer","Manage system exceptions, errors and reporting",1,6,6,{"$f":"IF(OR(\nAND(ISTEXT(B17),ISBLANK(C17)),\nAND(ISTEXT(#REF!),ISBLANK(#REF!))),1,0)","v":0},null,null,null,null,0,{"$f":"IF(OR(\nAND(ISTEXT(H17),ISBLANK(I17)),\nAND(ISTEXT(#REF!),ISBLANK(#REF!)),\nAND(ISTEXT(#REF!),ISBLANK(#REF!))),1,0)","v":0}]
[9,"Administrative Officer","Manage phone calls and inquiries",1,7,7,{"$f":"IF(OR(\nAND(ISTEXT(B18),ISBLANK(C18)),\nAND(ISTEXT(#REF!),ISBLANK(#REF!))),1,0)","v":0},null,null,null,null,0,{"$f":"IF(OR(\nAND(ISTEXT(H18),ISBLANK(I18)),\nAND(ISTEXT(#REF!),ISBLANK(#REF!)),\nAND(ISTEXT(#REF!),ISBLANK(#REF!))),1,0)","v":0}]
[10,"Administrative Officer","Administration of Inbox emails, correspondences",1,6,6,{"$f":"IF(OR(\nAND(ISTEXT(B19),ISBLANK(C19)),\nAND(ISTEXT(#REF!),ISBLANK(#REF!))),1,0)","v":0},null,null,null,null,0,{"$f":"IF(OR(\nAND(ISTEXT(H19),ISBLANK(I19)),\nAND(ISTEXT(#REF!),ISBLANK(#REF!)),\nAND(ISTEXT(#REF!),ISBLANK(#REF!))),1,0)","v":0}]
[11,null,null,null,null,0,{"$f":"IF(OR(\nAND(ISTEXT(B20),ISBLANK(C20)),\nAND(ISTEXT(#REF!),ISBLANK(#REF!))),1,0)","v":0},null,null,null,null,0,{"$f":"IF(OR(\nAND(ISTEXT(H20),ISBLANK(I20)),\nAND(ISTEXT(#REF!),ISBLANK(#REF!)),\nAND(ISTEXT(#REF!),ISBLANK(#REF!))),1,0)","v":0}]
[12,null,null,null,null,0,{"$f":"IF(OR(\nAND(ISTEXT(B21),ISBLANK(C21)),\nAND(ISTEXT(#REF!),ISBLANK(#REF!))),1,0)","v":0},null,null,null,null,0,{"$f":"IF(OR(\nAND(ISTEXT(H21),ISBLANK(I21)),\nAND(ISTEXT(#REF!),ISBLANK(#REF!)),\nAND(ISTEXT(#REF!),ISBLANK(#REF!))),1,0)","v":0}]
[13,null,null,null,null,0,{"$f":"IF(OR(\nAND(ISTEXT(B22),ISBLANK(C22)),\nAND(ISTEXT(#REF!),ISBLANK(#REF!))),1,0)","v":0},null,null,null,null,0,{"$f":"IF(OR(\nAND(ISTEXT(H22),ISBLANK(I22)),\nAND(ISTEXT(#REF!),ISBLANK(#REF!)),\nAND(ISTEXT(#REF!),ISBLANK(#REF!))),1,0)","v":0}]
[14,null,null,null,null,0,{"$f":"IF(OR(\nAND(ISTEXT(B23),ISBLANK(C23)),\nAND(ISTEXT(#REF!),ISBLANK(#REF!))),1,0)","v":0},null,null,null,null,0,{"$f":"IF(OR(\nAND(ISTEXT(H23),ISBLANK(I23)),\nAND(ISTEXT(#REF!),ISBLANK(#REF!)),\nAND(ISTEXT(#REF!),ISBLANK(#REF!))),1,0)","v":0}]
[15,null,null,null,null,0,{"$f":"IF(OR(\nAND(ISTEXT(B24),ISBLANK(C24)),\nAND(ISTEXT(#REF!),ISBLANK(#REF!))),1,0)","v":0},null,null,null,null,0,{"$f":"IF(OR(\nAND(ISTEXT(H24),ISBLANK(I24)),\nAND(ISTEXT(#REF!),ISBLANK(#REF!)),\nAND(ISTEXT(#REF!),ISBLANK(#REF!))),1,0)","v":0}]
[16,null,null,null,null,0,{"$f":"IF(OR(\nAND(ISTEXT(B25),ISBLANK(C25)),\nAND(ISTEXT(#REF!),ISBLANK(#REF!))),1,0)","v":0},null,null,null,null,0,{"$f":"IF(OR(\nAND(ISTEXT(H25),ISBLANK(I25)),\nAND(ISTEXT(#REF!),ISBLANK(#REF!)),\nAND(ISTEXT(#REF!),ISBLANK(#REF!))),1,0)","v":0}]
[17,null,null,null,null,0,{"$f":"IF(OR(\nAND(ISTEXT(B26),ISBLANK(C26)),\nAND(ISTEXT(#REF!),ISBLANK(#REF!))),1,0)","v":0},null,null,null,null,0,{"$f":"IF(OR(\nAND(ISTEXT(H26),ISBLANK(I26)),\nAND(ISTEXT(#REF!),ISBLANK(#REF!)),\nAND(ISTEXT(#REF!),ISBLANK(#REF!))),1,0)","v":0}]
[18,null,null,null,null,0,{"$f":"IF(OR(\nAND(ISTEXT(B27),ISBLANK(C27)),\nAND(ISTEXT(#REF!),ISBLANK(#REF!))),1,0)","v":0},null,null,null,null,0,{"$f":"IF(OR(\nAND(ISTEXT(H27),ISBLANK(I27)),\nAND(ISTEXT(#REF!),ISBLANK(#REF!)),\nAND(ISTEXT(#REF!),ISBLANK(#REF!))),1,0)","v":0}]
[19,null,null,null,null,0,{"$f":"IF(OR(\nAND(ISTEXT(B28),ISBLANK(C28)),\nAND(ISTEXT(#REF!),ISBLANK(#REF!))),1,0)","v":0},null,null,null,null,0,{"$f":"IF(OR(\nAND(ISTEXT(H28),ISBLANK(I28)),\nAND(ISTEXT(#REF!),ISBLANK(#REF!)),\nAND(ISTEXT(#REF!),ISBLANK(#REF!))),1,0)","v":0}]
[20,null,null,null,null,0,{"$f":"IF(OR(\nAND(ISTEXT(B29),ISBLANK(C29)),\nAND(ISTEXT(#REF!),ISBLANK(#REF!))),1,0)","v":0},null,null,null,null,0,{"$f":"IF(OR(\nAND(ISTEXT(H29),ISBLANK(I29)),\nAND(ISTEXT(#REF!),ISBLANK(#REF!)),\nAND(ISTEXT(#REF!),ISBLANK(#REF!))),1,0)","v":0}]
[null,null,null,null,"Total Minutes",{"$f":"SUM(F10:F29)","v":60},null,null,null,null,"Total Minutes",{"$f":"SUM(L10:L29)","v":130}]
[]
[null,{"$f":"$B$2&\" - Non Labour Breakdown\"","v":"RTK3 - Non Labour Breakdown"}]
[]
[null,"Materials",null,null,null,null,{"$f":"IF(SUM(G36:G55)=0,0,1)","v":0},"Vehicle",null,null,null,null,null,{"$f":"IF(SUM(N36:N55)=0,0,1)","v":0},"Other Costs",null,null,{"$f":"IF(SUM(R36:R55)=0,0,1)","v":0}]
[null,"Material Code","Material Name","Number of Units","Unit Cost \n($)","Cost of Unit\n($)",null,"Vehicle Code","Vehicle Name","Number of Units","Hire Time (Minutes)","Hourly Unit Rate\n($)","Cost of Unit\n($)",null,"Notes and sources for \"Other costs\"","Cost\n($)","Cost of Unit\n($)"]
[1,null,null,null,null,null,{"$f":"IF(OR(\nAND(ISTEXT(B36),ISBLANK(C36))),1,0)","v":0},null,"Plant – Elevated Work Platform (small) and Cable Test Van- Average cost",1,65,{"$f":"43.1351164210975*1.24689","v":53.784745314302263},{"$f":"L36*(K36/60)*J36","v":58.266807423827451},{"$f":"IF(OR(\nAND(ISTEXT(H36),ISBLANK(I36))),1,0)","v":0},null,null,{"$f":"P36","v":0},{"$f":"IF(OR(\nAND(ISTEXT(O36),ISBLANK(#REF!))),1,0)","v":0}]
[{"$f":"IFERROR(A36+1,\"\")","v":2},null,null,null,null,null,0,null,null,null,null,null,{"$f":"L37*(K37/60)*J37","v":0},0,null,null,{"$f":"P37","v":0},{"$f":"IF(OR(\nAND(ISTEXT(O37),ISBLANK(#REF!))),1,0)","v":0}]
[{"$f":"IFERROR(A37+1,\"\")","v":3},null,null,null,null,null,0,null,null,null,null,null,0,0,null,null,0,{"$f":"IF(OR(\nAND(ISTEXT(O38),ISBLANK(#REF!))),1,0)","v":0}]
[4,null,null,null,null,null,0,null,null,null,null,null,0,0,null,null,0,{"$f":"IF(OR(\nAND(ISTEXT(O39),ISBLANK(#REF!))),1,0)","v":0}]
[5,null,null,null,null,null,0,null,null,null,null,null,0,0,null,null,0,{"$f":"IF(OR(\nAND(ISTEXT(O40),ISBLANK(#REF!))),1,0)","v":0}]
[6,null,null,null,null,null,0,null,null,null,null,null,0,0,null,null,0,{"$f":"IF(OR(\nAND(ISTEXT(O41),ISBLANK(#REF!))),1,0)","v":0}]
[7,null,null,null,null,null,0,null,null,null,null,null,0,0,null,null,0,{"$f":"IF(OR(\nAND(ISTEXT(O42),ISBLANK(#REF!))),1,0)","v":0}]
[8,null,null,null,null,null,0,null,null,null,null,null,0,0,null,null,0,{"$f":"IF(OR(\nAND(ISTEXT(O43),ISBLANK(#REF!))),1,0)","v":0}]
[9,null,null,null,null,null,0,null,null,null,null,null,0,0,null,null,0,{"$f":"IF(OR(\nAND(ISTEXT(O44),ISBLANK(#REF!))),1,0)","v":0}]
[10,null,null,null,null,null,0,null,null,null,null,null,0,0,null,null,0,{"$f":"IF(OR(\nAND(ISTEXT(O45),ISBLANK(#REF!))),1,0)","v":0}]
[11,null,null,null,null,null,0,null,null,null,null,null,0,0,null,null,0,{"$f":"IF(OR(\nAND(ISTEXT(O46),ISBLANK(#REF!))),1,0)","v":0}]
[12,null,null,null,null,null,0,null,null,null,null,null,0,0,null,null,0,{"$f":"IF(OR(\nAND(ISTEXT(O47),ISBLANK(#REF!))),1,0)","v":0}]
[13,null,null,null,null,null,0,null,null,null,null,null,0,0,null,null,0,{"$f":"IF(OR(\nAND(ISTEXT(O48),ISBLANK(#REF!))),1,0)","v":0}]
[14,null,null,null,null,null,0,null,null,null,null,null,0,0,null,null,0,{"$f":"IF(OR(\nAND(ISTEXT(O49),ISBLANK(#REF!))),1,0)","v":0}]
[15,null,null,null,null,null,0,null,null,null,null,null,0,0,null,null,0,{"$f":"IF(OR(\nAND(ISTEXT(O50),ISBLANK(#REF!))),1,0)","v":0}]
[16,null,null,null,null,null,0,null,null,null,null,null,0,0,null,null,0,{"$f":"IF(OR(\nAND(ISTEXT(O51),ISBLANK(#REF!))),1,0)","v":0}]
[17,null,null,null,null,null,0,null,null,null,null,null,0,0,null,null,0,{"$f":"IF(OR(\nAND(ISTEXT(O52),ISBLANK(#REF!))),1,0)","v":0}]
[18,null,null,null,null,null,0,null,null,null,null,null,0,0,null,null,0,{"$f":"IF(OR(\nAND(ISTEXT(O53),ISBLANK(#REF!))),1,0)","v":0}]
[19,null,null,null,null,null,0,null,null,null,null,null,0,0,null,null,0,{"$f":"IF(OR(\nAND(ISTEXT(O54),ISBLANK(#REF!))),1,0)","v":0}]
[20,null,null,null,null,null,0,null,null,null,null,null,0,0,null,null,0,{"$f":"IF(OR(\nAND(ISTEXT(O55),ISBLANK(#REF!))),1,0)","v":0}]
[null,null,null,null,"Materials Total",179.91271155999999,null,null,null,null,null,"Vehicle Total",{"$f":"SUM(M36:M55)","v":58.266807423827451},null,null,"Other Cost Total",{"$f":"SUM(Q36:Q55)","v":0}]

{"sheet":"Template","index":40,"n_rows":56,"n_cols":18,"rows_kept":56,"cut":false,"hidden":false,"merged":[]}
[null,{"$f":"IFERROR(Index!B1,\"\")","v":"Jemena Electricity Networks – Alternative Control Services Forecast model"},null,"Key:","Input",null,null,null,"Sheet Validation",{"$f":"IF(SUM(G8+M8+G34+N34+R34)=0,0,1)","v":0}]
[null,{"$f":"IFERROR(MID(CELL(\"filename\",A1),FIND(\"]\",CELL(\"filename\",A1))+1,255),\"\")","v":"Template"},null,null,"Formula"]
[]
[]
[]
[null,{"$f":"$B$2&\" - Labour Breakdown\"","v":"Template - Labour Breakdown"}]
[]
[null,"Non-field based labour",null,null,null,null,{"$f":"IF(SUM(G10:G29)=0,0,1)","v":0},"Field based labour",null,null,null,null,{"$f":"IF(SUM(M10:M29)=0,0,1)","v":0}]
[null,"Labour Category","Activity Name","FTE","Time on task (Minutes)","Labour Totals",null,"Labour Category",{"$f":"C9","v":"Activity Name"},{"$f":"D9","v":"FTE"},"Time on task (Minutes)","Time on task (Minutes)"]
[1,null,null,null,null,{"$f":"(D10*E10)","v":0},{"$f":"IF(OR(\nAND(ISTEXT(B10),ISBLANK(C10)),\nAND(ISTEXT(#REF!),ISBLANK(#REF!))),1,0)","v":0},null,null,null,null,{"$f":"(J10*K10)","v":0},{"$f":"IF(OR(\nAND(ISTEXT(H10),ISBLANK(I10)),\nAND(ISTEXT(#REF!),ISBLANK(#REF!)),\nAND(ISTEXT(#REF!),ISBLANK(#REF!))),1,0)","v":0}]
[{"$f":"IFERROR(A10+1,\"\")","v":2},null,null,null,null,{"$f":"(D11*E11)","v":0},{"$f":"IF(OR(\nAND(ISTEXT(B11),ISBLANK(C11)),\nAND(ISTEXT(#REF!),ISBLANK(#REF!))),1,0)","v":0},null,null,null,null,{"$f":"(J11*K11)","v":0},{"$f":"IF(OR(\nAND(ISTEXT(H11),ISBLANK(I11)),\nAND(ISTEXT(#REF!),ISBLANK(#REF!)),\nAND(ISTEXT(#REF!),ISBLANK(#REF!))),1,0)","v":0}]
[{"$f":"IFERROR(A11+1,\"\")","v":3},null,null,null,null,0,{"$f":"IF(OR(\nAND(ISTEXT(B12),ISBLANK(C12)),\nAND(ISTEXT(#REF!),ISBLANK(#REF!))),1,0)","v":0},null,null,null,null,0,{"$f":"IF(OR(\nAND(ISTEXT(H12),ISBLANK(I12)),\nAND(ISTEXT(#REF!),ISBLANK(#REF!)),\nAND(ISTEXT(#REF!),ISBLANK(#REF!))),1,0)","v":0}]
[4,null,null,null,null,0,{"$f":"IF(OR(\nAND(ISTEXT(B13),ISBLANK(C13)),\nAND(ISTEXT(#REF!),ISBLANK(#REF!))),1,0)","v":0},null,null,null,null,0,{"$f":"IF(OR(\nAND(ISTEXT(H13),ISBLANK(I13)),\nAND(ISTEXT(#REF!),ISBLANK(#REF!)),\nAND(ISTEXT(#REF!),ISBLANK(#REF!))),1,0)","v":0}]
[5,null,null,null,null,0,{"$f":"IF(OR(\nAND(ISTEXT(B14),ISBLANK(C14)),\nAND(ISTEXT(#REF!),ISBLANK(#REF!))),1,0)","v":0},null,null,null,null,0,{"$f":"IF(OR(\nAND(ISTEXT(H14),ISBLANK(I14)),\nAND(ISTEXT(#REF!),ISBLANK(#REF!)),\nAND(ISTEXT(#REF!),ISBLANK(#REF!))),1,0)","v":0}]
[6,null,null,null,null,0,{"$f":"IF(OR(\nAND(ISTEXT(B15),ISBLANK(C15)),\nAND(ISTEXT(#REF!),ISBLANK(#REF!))),1,0)","v":0},null,null,null,null,0,{"$f":"IF(OR(\nAND(ISTEXT(H15),ISBLANK(I15)),\nAND(ISTEXT(#REF!),ISBLANK(#REF!)),\nAND(ISTEXT(#REF!),ISBLANK(#REF!))),1,0)","v":0}]
[7,null,null,null,null,0,{"$f":"IF(OR(\nAND(ISTEXT(B16),ISBLANK(C16)),\nAND(ISTEXT(#REF!),ISBLANK(#REF!))),1,0)","v":0},null,null,null,null,0,{"$f":"IF(OR(\nAND(ISTEXT(H16),ISBLANK(I16)),\nAND(ISTEXT(#REF!),ISBLANK(#REF!)),\nAND(ISTEXT(#REF!),ISBLANK(#REF!))),1,0)","v":0}]
[8,null,null,null,null,0,{"$f":"IF(OR(\nAND(ISTEXT(B17),ISBLANK(C17)),\nAND(ISTEXT(#REF!),ISBLANK(#REF!))),1,0)","v":0},null,null,null,null,0,{"$f":"IF(OR(\nAND(ISTEXT(H17),ISBLANK(I17)),\nAND(ISTEXT(#REF!),ISBLANK(#REF!)),\nAND(ISTEXT(#REF!),ISBLANK(#REF!))),1,0)","v":0}]
[9,null,null,null,null,0,{"$f":"IF(OR(\nAND(ISTEXT(B18),ISBLANK(C18)),\nAND(ISTEXT(#REF!),ISBLANK(#REF!))),1,0)","v":0},null,null,null,null,0,{"$f":"IF(OR(\nAND(ISTEXT(H18),ISBLANK(I18)),\nAND(ISTEXT(#REF!),ISBLANK(#REF!)),\nAND(ISTEXT(#REF!),ISBLANK(#REF!))),1,0)","v":0}]
[10,null,null,null,null,0,{"$f":"IF(OR(\nAND(ISTEXT(B19),ISBLANK(C19)),\nAND(ISTEXT(#REF!),ISBLANK(#REF!))),1,0)","v":0},null,null,null,null,0,{"$f":"IF(OR(\nAND(ISTEXT(H19),ISBLANK(I19)),\nAND(ISTEXT(#REF!),ISBLANK(#REF!)),\nAND(ISTEXT(#REF!),ISBLANK(#REF!))),1,0)","v":0}]
[11,null,null,null,null,0,{"$f":"IF(OR(\nAND(ISTEXT(B20),ISBLANK(C20)),\nAND(ISTEXT(#REF!),ISBLANK(#REF!))),1,0)","v":0},null,null,null,null,0,{"$f":"IF(OR(\nAND(ISTEXT(H20),ISBLANK(I20)),\nAND(ISTEXT(#REF!),ISBLANK(#REF!)),\nAND(ISTEXT(#REF!),ISBLANK(#REF!))),1,0)","v":0}]
[12,null,null,null,null,0,{"$f":"IF(OR(\nAND(ISTEXT(B21),ISBLANK(C21)),\nAND(ISTEXT(#REF!),ISBLANK(#REF!))),1,0)","v":0},null,null,null,null,0,{"$f":"IF(OR(\nAND(ISTEXT(H21),ISBLANK(I21)),\nAND(ISTEXT(#REF!),ISBLANK(#REF!)),\nAND(ISTEXT(#REF!),ISBLANK(#REF!))),1,0)","v":0}]
[13,null,null,null,null,0,{"$f":"IF(OR(\nAND(ISTEXT(B22),ISBLANK(C22)),\nAND(ISTEXT(#REF!),ISBLANK(#REF!))),1,0)","v":0},null,null,null,null,0,{"$f":"IF(OR(\nAND(ISTEXT(H22),ISBLANK(I22)),\nAND(ISTEXT(#REF!),ISBLANK(#REF!)),\nAND(ISTEXT(#REF!),ISBLANK(#REF!))),1,0)","v":0}]
[14,null,null,null,null,0,{"$f":"IF(OR(\nAND(ISTEXT(B23),ISBLANK(C23)),\nAND(ISTEXT(#REF!),ISBLANK(#REF!))),1,0)","v":0},null,null,null,null,0,{"$f":"IF(OR(\nAND(ISTEXT(H23),ISBLANK(I23)),\nAND(ISTEXT(#REF!),ISBLANK(#REF!)),\nAND(ISTEXT(#REF!),ISBLANK(#REF!))),1,0)","v":0}]
[15,null,null,null,null,0,{"$f":"IF(OR(\nAND(ISTEXT(B24),ISBLANK(C24)),\nAND(ISTEXT(#REF!),ISBLANK(#REF!))),1,0)","v":0},null,null,null,null,0,{"$f":"IF(OR(\nAND(ISTEXT(H24),ISBLANK(I24)),\nAND(ISTEXT(#REF!),ISBLANK(#REF!)),\nAND(ISTEXT(#REF!),ISBLANK(#REF!))),1,0)","v":0}]
[16,null,null,null,null,0,{"$f":"IF(OR(\nAND(ISTEXT(B25),ISBLANK(C25)),\nAND(ISTEXT(#REF!),ISBLANK(#REF!))),1,0)","v":0},null,null,null,null,0,{"$f":"IF(OR(\nAND(ISTEXT(H25),ISBLANK(I25)),\nAND(ISTEXT(#REF!),ISBLANK(#REF!)),\nAND(ISTEXT(#REF!),ISBLANK(#REF!))),1,0)","v":0}]
[17,null,null,null,null,0,{"$f":"IF(OR(\nAND(ISTEXT(B26),ISBLANK(C26)),\nAND(ISTEXT(#REF!),ISBLANK(#REF!))),1,0)","v":0},null,null,null,null,0,{"$f":"IF(OR(\nAND(ISTEXT(H26),ISBLANK(I26)),\nAND(ISTEXT(#REF!),ISBLANK(#REF!)),\nAND(ISTEXT(#REF!),ISBLANK(#REF!))),1,0)","v":0}]
[18,null,null,null,null,0,{"$f":"IF(OR(\nAND(ISTEXT(B27),ISBLANK(C27)),\nAND(ISTEXT(#REF!),ISBLANK(#REF!))),1,0)","v":0},null,null,null,null,0,{"$f":"IF(OR(\nAND(ISTEXT(H27),ISBLANK(I27)),\nAND(ISTEXT(#REF!),ISBLANK(#REF!)),\nAND(ISTEXT(#REF!),ISBLANK(#REF!))),1,0)","v":0}]
[19,null,null,null,null,0,{"$f":"IF(OR(\nAND(ISTEXT(B28),ISBLANK(C28)),\nAND(ISTEXT(#REF!),ISBLANK(#REF!))),1,0)","v":0},null,null,null,null,0,{"$f":"IF(OR(\nAND(ISTEXT(H28),ISBLANK(I28)),\nAND(ISTEXT(#REF!),ISBLANK(#REF!)),\nAND(ISTEXT(#REF!),ISBLANK(#REF!))),1,0)","v":0}]
[20,null,null,null,null,0,{"$f":"IF(OR(\nAND(ISTEXT(B29),ISBLANK(C29)),\nAND(ISTEXT(#REF!),ISBLANK(#REF!))),1,0)","v":0},null,null,null,null,0,{"$f":"IF(OR(\nAND(ISTEXT(H29),ISBLANK(I29)),\nAND(ISTEXT(#REF!),ISBLANK(#REF!)),\nAND(ISTEXT(#REF!),ISBLANK(#REF!))),1,0)","v":0}]
[null,null,null,null,"Total Minutes",{"$f":"SUM(F10:F29)","v":0},null,null,null,null,"Total Minutes",{"$f":"SUM(L10:L29)","v":0}]
[]
[null,{"$f":"$B$2&\" - Non Labour Breakdown\"","v":"Template - Non Labour Breakdown"}]
[]
[null,"Materials",null,null,null,null,{"$f":"IF(SUM(G36:G55)=0,0,1)","v":0},"Vehicle",null,null,null,null,null,{"$f":"IF(SUM(N36:N55)=0,0,1)","v":0},"Other Costs",null,null,{"$f":"IF(SUM(R36:R55)=0,0,1)","v":0}]
[null,"Material Code","Material Name","Number of Units","Unit Cost \n($)","Cost of Unit\n($)",null,"Vehicle Code","Vehicle Name","Number of Units","Hire Time (Minutes)","Hourly Unit Rate\n($)","Cost of Unit\n($)",null,"Notes and sources for \"Other costs\"","Cost\n($)","Cost of Unit\n($)"]
[1,null,"Manual Entry",null,0,{"$f":"D36*E36","v":0},{"$f":"IF(OR(\nAND(ISTEXT(B36),ISBLANK(C36))),1,0)","v":0},null,null,null,null,null,{"$f":"L36*(K36/60)*J36","v":0},{"$f":"IF(OR(\nAND(ISTEXT(H36),ISBLANK(I36))),1,0)","v":0},null,null,{"$f":"P36","v":0},{"$f":"IF(OR(\nAND(ISTEXT(O36),ISBLANK(#REF!))),1,0)","v":0}]
[{"$f":"IFERROR(A36+1,\"\")","v":2},null,null,null,null,{"$f":"D37*E37","v":0},0,null,null,null,null,null,{"$f":"L37*(K37/60)*J37","v":0},0,null,null,{"$f":"P37","v":0},{"$f":"IF(OR(\nAND(ISTEXT(O37),ISBLANK(#REF!))),1,0)","v":0}]
[{"$f":"IFERROR(A37+1,\"\")","v":3},null,null,null,null,0,0,null,null,null,null,null,0,0,null,null,0,{"$f":"IF(OR(\nAND(ISTEXT(O38),ISBLANK(#REF!))),1,0)","v":0}]
[4,null,null,null,null,0,0,null,null,null,null,null,0,0,null,null,0,{"$f":"IF(OR(\nAND(ISTEXT(O39),ISBLANK(#REF!))),1,0)","v":0}]
[5,null,null,null,null,0,0,null,null,null,null,null,0,0,null,null,0,{"$f":"IF(OR(\nAND(ISTEXT(O40),ISBLANK(#REF!))),1,0)","v":0}]
[6,null,null,null,null,0,0,null,null,null,null,null,0,0,null,null,0,{"$f":"IF(OR(\nAND(ISTEXT(O41),ISBLANK(#REF!))),1,0)","v":0}]
[7,null,null,null,null,0,0,null,null,null,null,null,0,0,null,null,0,{"$f":"IF(OR(\nAND(ISTEXT(O42),ISBLANK(#REF!))),1,0)","v":0}]
[8,null,null,null,null,0,0,null,null,null,null,null,0,0,null,null,0,{"$f":"IF(OR(\nAND(ISTEXT(O43),ISBLANK(#REF!))),1,0)","v":0}]
[9,null,null,null,null,0,0,null,null,null,null,null,0,0,null,null,0,{"$f":"IF(OR(\nAND(ISTEXT(O44),ISBLANK(#REF!))),1,0)","v":0}]
[10,null,null,null,null,0,0,null,null,null,null,null,0,0,null,null,0,{"$f":"IF(OR(\nAND(ISTEXT(O45),ISBLANK(#REF!))),1,0)","v":0}]
[11,null,null,null,null,0,0,null,null,null,null,null,0,0,null,null,0,{"$f":"IF(OR(\nAND(ISTEXT(O46),ISBLANK(#REF!))),1,0)","v":0}]
[12,null,null,null,null,0,0,null,null,null,null,null,0,0,null,null,0,{"$f":"IF(OR(\nAND(ISTEXT(O47),ISBLANK(#REF!))),1,0)","v":0}]
[13,null,null,null,null,0,0,null,null,null,null,null,0,0,null,null,0,{"$f":"IF(OR(\nAND(ISTEXT(O48),ISBLANK(#REF!))),1,0)","v":0}]
[14,null,null,null,null,0,0,null,null,null,null,null,0,0,null,null,0,{"$f":"IF(OR(\nAND(ISTEXT(O49),ISBLANK(#REF!))),1,0)","v":0}]
[15,null,null,null,null,0,0,null,null,null,null,null,0,0,null,null,0,{"$f":"IF(OR(\nAND(ISTEXT(O50),ISBLANK(#REF!))),1,0)","v":0}]
[16,null,null,null,null,0,0,null,null,null,null,null,0,0,null,null,0,{"$f":"IF(OR(\nAND(ISTEXT(O51),ISBLANK(#REF!))),1,0)","v":0}]
[17,null,null,null,null,0,0,null,null,null,null,null,0,0,null,null,0,{"$f":"IF(OR(\nAND(ISTEXT(O52),ISBLANK(#REF!))),1,0)","v":0}]
[18,null,null,null,null,0,0,null,null,null,null,null,0,0,null,null,0,{"$f":"IF(OR(\nAND(ISTEXT(O53),ISBLANK(#REF!))),1,0)","v":0}]
[19,null,null,null,null,0,0,null,null,null,null,null,0,0,null,null,0,{"$f":"IF(OR(\nAND(ISTEXT(O54),ISBLANK(#REF!))),1,0)","v":0}]
[20,null,null,null,null,0,0,null,null,null,null,null,0,0,null,null,0,{"$f":"IF(OR(\nAND(ISTEXT(O55),ISBLANK(#REF!))),1,0)","v":0}]
[null,null,null,null,"Materials Total",{"$f":"SUM(F36:F55)","v":0},null,null,null,null,null,"Vehicle Total",{"$f":"SUM(M36:M55)","v":0},null,null,"Other Cost Total",{"$f":"SUM(Q36:Q55)","v":0}]