{"text_format":"1","workbook":"xlsx","n_sheets":24,"sheets":["AER Changes","Instructions","New Forecast","Historical light volumes","Newer version of inputs","RIN RY24","DNSP Inputs O&M","DNSP Inputs Capex","PL Tariffs","PL Tariff Components","Cashflow Summary","Charges Summary","O & M 2027-2031","Capex 2027-2031","CPI","WACC","Depn & WACC Post 2004 Central","Depn & WACC Post 2004 N & E","Total RAB","RAB Rem Lives","RAB Std Lives","RAB 2001 to 2004 Central","RAB 2001 to 2004 N & E","Inputs PL Final Decision 2004"],"not_rendered":{"charts":0,"images":0,"macros":0,"external_links":0,"defined_names":0,"comments":6,"pivot_tables":0},"unopened":[],"bounds":{"document_bytes":16777216,"sheet_cells":100000,"rows_first":2000,"rows_last":500,"rows_between":2000,"halvings":0,"cell_chars":16384,"cell_head_chars":4096},"cells_cut":0,"cells_raw":0,"read":"whole","date_system":"1900"}

{"sheet":"AER Changes","index":0,"n_rows":28,"n_cols":3,"rows_kept":28,"cut":false,"hidden":true,"merged":[]}
[]
["Issues","Location","Comment"]
[]
[]
[null,"Final Decision"]
[1,"DNSP Inputs General'!N9","Actual 2019 capex data inputs amended to reconile to Table \"8.2.3 - CAPEX OTHER\" in file \"[Ausnet (D) 2019 - Annual - RIN Response - 28 May 2020 - PUBLIC (#11009434.2)_0.xlsx]8.2 Capex\""]
[]
[{"$f":"A6+1","v":2},"DNSP Inputs General'!B26:F26","Update for AER Draft Decision Real Pre Tax WACC"]
[]
[{"$f":"A8+1","v":3},"DNSP Inputs General'!D31:D35","Update for AER Final Decision CPI Forecast"]
[]
[{"$f":"A10+1","v":4},"DNSP Inputs General'!C31","CPI to escalate prices in 2021-22 is Forecast CPI"]
[null,"WACC!C14"]
[]
[]
[{"$f":"A12+1","v":5},"DNSP Inputs General'!M42:U130","Updated Quantities"]
[]
[{"$f":"A16+1","v":6},"DNSP Inputs General'!Q134:U134","AER Final Decision Real Labour Escalator"]
[]
[]
[{"$f":"A18+1","v":7},"DNSP Inputs O & M'!D384:H386","Update for AER Final Decision - Number of Repairs in 1 day"]
[null,"DNSP Inputs O & M'!D430:H432"]
[null,"DNSP Inputs O & M'!D476:H478"]
[]
[]
[null,"Revised Proposal Model"]
[null,"[ASD - EDPR 2022-26 Revised proposal - Public Lighting Model - 20210303 - PUBLIC.xlsm]Report|Charges Summary'!$B$25:$K$25"]
[null,"Formula should refer to Opening RAB of current year not average RAB of previous year. Note average RAB of previous year includes half year depreciation which already has been recovered by the business"]

{"sheet":"Instructions","index":1,"n_rows":68,"n_cols":12,"rows_kept":68,"cut":false,"hidden":true,"merged":[]}
[{"$f":"'DNSP Inputs O&M'!$A$3","v":"AusNet"}]
[]
["Instructions"]
[]
["This model is to be used for the setting of Public Lighting Tariffs for the Regulatory Period 2021-22 to 2025-26 based on forecast inflation rates, Real Pre Tax WACC and Nominal vanilla WACC."]
[]
["Distributor data input fields are shaded",null,"      and located in tabs \"DNSP Inputs General\" , \"DNSP Inputs O&M\" and  \"DNSP Inputs Capex\""]
[]
[]
["This model will also to be used for the annual Public Lighting Tariff Approvals in the Regulatory Period 2021-22 to 2025-26 based on actual inflation rates and Real Pre Tax WACC."]
[]
[]
[]
[]
[]
[null,"2027-06-30"]
[]
[null,"$Real Jun 2026"]
[]
[null,"2027-31"]
[]
[]
[]
[]
[]
[]
[]
[]
[]
[]
[]
[]
[]
[]
[]
[]
[]
[]
[]
[]
[]
[]
[]
[]
[]
[]
[]
[]
[]
[]
[]
[]
[]
[]
[]
[]
[]
[]
[]
[]
[]
[]
[]
[]
[]
[]
[]
[null,null,null,null,null,null,null,{"$f":"G68","v":0},{"$f":"H68","v":0},{"$f":"I68","v":0},{"$f":"J68","v":0},{"$f":"K68","v":0}]

{"sheet":"New Forecast","index":2,"n_rows":81,"n_cols":77,"rows_kept":81,"cut":false,"hidden":false,"merged":[]}
[null,"AST 2026-31 Proposal - ACS Public Lighting PTRM input model",null,null,null,null,null,null,null,null,null,"Key:","Input","Internal Link"]
[null,null,"Forecast Volumes"]
[]
[null,null,"Input | Forecast Light Population"]
[]
[null,null,null,null,null,null,null,null,"Opening Balance",null,null,null,null,null,null,"New Lights | Growth | ASD Funded",null,null,null,null,null,null,null,"New Lights | Replacements | Faults",null,null,null,null,null,null,null,"New Lights | Replacement | ASD Roll-Out",null,null,null,null,null,null,null,"New Lights | Replacement | Partially Funded",null,null,null,null,null,null,null,"Disposed Lights | Replacements | Faults",null,null,null,null,null,null,null,"Disposed Lights | Replacements | ASD Roll-Out",null,null,null,null,null,null,null,"Disposed Lights | Replacements | Partially Funded",null,null,null,null,null,null,null,"Closing Balance"]
[null,null,"Light Type","Source","Unit","Grouping","Funding",null,"2025–26","2026-27","2027–28","2028–29","2029–30","2030–31",null,{"$f":"I7","v":"2025–26"},"2026-27","2027–28","2028–29","2029–30","2030–31","Total",null,{"$f":"P7","v":"2025–26"},"2026-27","2027–28","2028–29","2029–30","2030–31","Total",null,{"$f":"X7","v":"2025–26"},"2026-27","2027–28","2028–29","2029–30","2030–31","Total",null,{"$f":"AF7","v":"2025–26"},"2026-27","2027–28","2028–29","2029–30","2030–31","Total",null,{"$f":"AN7","v":"2025–26"},"2026-27","2027–28","2028–29","2029–30","2030–31","Total",null,{"$f":"AV7","v":"2025–26"},"2026-27","2027–28","2028–29","2029–30","2030–31","Total",null,{"$f":"BD7","v":"2025–26"},"2026-27","2027–28","2028–29","2029–30","2030–31","Total",null,{"$f":"BL7","v":"2025–26"},"2026-27","2027–28","2028–29","2029–30","2030–31"]
[null,null,null,null,null,null,null,null,null,5,4,3,2,1,null,null,5,4,3,2,1,null,null,null,5,4,3,2,1,null,null,null,5,4,3,2,1,null,null,null,5,4,3,2,1,null,null,null,5,4,3,2,1,null,null,null,10,4,3,2,1,null,null,null,5,4,3,2,1]
[null,null,null,null,null,null,null,null,null,null,null,null,null,null,null,null,null,null,null,null,null,null,null,null,null,null,null,null,null,null,null,null,null,null,null,null,null,null,null,"Consider removing completely - 2025-26 is only relevant and covered in column AS"]
[null,null,"Mercury Vapour 80W","AST","Number","Legacy","AST-funded",null,11942,{"$f":"BT10","v":4287},{"$f":"BU10","v":3787},{"$f":"BV10","v":3287},{"$f":"BW10","v":3287},{"$f":"BX10","v":3287},null,null,null,null,null,null,null,{"$f":"SUM(P10:U10)","v":0},null,null,null,null,null,null,null,{"$f":"SUM(X10:AC10)","v":0},null,null,null,null,null,null,null,{"$f":"SUM(AF10:AK10)","v":0},null,null,null,null,null,null,null,{"$f":"SUM(AN10:AS10)","v":0},null,{"$f":"-ROUND(I10/'Newer version of inputs'!$L$6,0)","v":-995},0,0,0,0,0,{"$f":"SUM(AV10:BA10)","v":-995},null,{"$f":"-3330*2","v":-6660},-500,-500,0,0,0,{"$f":"SUM(BD10:BI10)","v":-7660},null,null,null,null,null,null,null,{"$f":"SUM(BL10:BQ10)","v":0},null,{"$f":"I10+P10+X10+AF10+AN10+AV10+BD10+BL10","v":4287},{"$f":"J10+Q10+Y10+AG10+AO10+AW10+BE10+BM10","v":3787},{"$f":"K10+R10+Z10+AH10+AP10+AX10+BF10+BN10","v":3287},{"$f":"L10+S10+AA10+AI10+AQ10+AY10+BG10+BO10","v":3287},{"$f":"M10+T10+AB10+AJ10+AR10+AZ10+BH10+BP10","v":3287},{"$f":"N10+U10+AC10+AK10+AS10+BA10+BI10+BQ10","v":3287}]
[null,null,"HP Sodium 150W","AST","Number","Legacy","AST-funded",null,12530,{"$f":"BT11","v":11486},9380,6253,3648,1520,null,null,null,null,null,null,null,0,null,null,null,null,null,null,null,0,null,null,null,null,null,null,null,0,null,null,null,null,null,null,null,0,null,{"$f":"-ROUND(I11/'Newer version of inputs'!$L$6,0)","v":-1044},{"$f":"-ROUND(J11/'Newer version of inputs'!$L$6,0)","v":-957},{"$f":"-ROUND(K11/'Newer version of inputs'!$L$6,0)","v":-782},{"$f":"-ROUND(L11/'Newer version of inputs'!$L$6,0)","v":-521},{"$f":"-ROUND(M11/'Newer version of inputs'!$L$6,0)","v":-304},0,-3608,null,0,{"$f":"-ROUND(BT11/BE$8,0)","v":-1149},{"$f":"-ROUND(BU11/BF$8,0)","v":-2345},-2084,-1824,{"$f":"-BX11","v":-1520},{"$f":"SUM(BD11:BI11)","v":-8922},null,null,null,null,null,null,null,0,null,{"$f":"I11+P11+X11+AF11+AN11+AV11+BD11+BL11","v":11486},9380,6253,3648,1520,0]
[null,null,"HP Sodium 250W","AST","Number","Legacy","AST-funded",null,6737,6176,5043,3362,1961,817,null,null,null,null,null,null,null,0,null,null,null,null,null,null,null,0,null,null,null,null,null,null,null,0,null,null,null,null,null,null,null,0,null,{"$f":"-ROUND(I12/'Newer version of inputs'!$L$6,0)","v":-561},{"$f":"-ROUND(J12/'Newer version of inputs'!$L$6,0)","v":-515},{"$f":"-ROUND(K12/'Newer version of inputs'!$L$6,0)","v":-420},{"$f":"-ROUND(L12/'Newer version of inputs'!$L$6,0)","v":-280},{"$f":"-ROUND(M12/'Newer version of inputs'!$L$6,0)","v":-163},0,-1939,null,0,{"$f":"-ROUND(BT12/BE$8,0)","v":-618},-1261,-1121,-981,{"$f":"-BX12","v":-817},-4798,null,null,null,null,null,null,null,0,null,6176,5043,3362,1961,817,0]
[null,null,"Mercury Vapour 50W","AST","Number","Legacy","AST-funded",null,74,48,24,0,0,0,null,null,null,null,null,null,null,0,null,null,null,null,null,null,null,0,null,null,null,null,null,null,null,0,null,null,null,null,null,null,null,0,null,{"$f":"-ROUND(I13/'Newer version of inputs'!$L$6,0)","v":-6},0,0,0,0,0,-6,null,-20,{"$f":"-BT13/2","v":-24},{"$f":"-BU13","v":-24},0,0,0,-68,null,null,null,null,null,null,null,0,null,48,24,0,0,0,0]
[null,null,"Mercury Vapour 125W","AST","Number","Legacy","AST-funded",null,78,8.0000000000000071,0,0,0,0,null,null,null,null,null,null,null,0,null,null,null,null,null,null,null,0,null,null,null,null,null,null,null,0,null,null,null,null,null,null,null,0,null,{"$f":"-ROUND(I14/'Newer version of inputs'!$L$6,0)","v":-7},0,0,0,0,0,-7,null,-62.999999999999993,{"$f":"-BT14","v":-8.0000000000000071},0,0,0,0,-71,null,null,null,null,null,null,null,0,null,8.0000000000000071,0,0,0,0,0]
[null,null,"Mercury Vapour 250W","AST","Number","Legacy","AST-funded",null,148,0,0,0,0,0,null,null,null,null,null,null,null,0,null,null,null,null,null,null,null,0,null,null,null,null,null,null,null,0,null,null,null,null,null,null,null,0,null,-4,0,0,0,0,0,-4,null,-144,{"$f":"-BT15","v":0},0,0,0,0,-144,null,null,null,null,null,null,null,0,null,0,0,0,0,0,0]
[null,null,"Mercury Vapour 400W","AST","Number","Legacy","AST-funded",null,86,31,0,0,0,0,null,null,null,null,null,null,null,0,null,null,null,null,null,null,null,0,null,null,null,null,null,null,null,0,null,null,null,null,null,null,null,0,null,{"$f":"-ROUND(I16/'Newer version of inputs'!$L$6,0)","v":-7},0,0,0,0,0,-7,null,-48,{"$f":"-BT16","v":-31},0,0,0,0,-79,null,null,null,null,null,null,null,0,null,31,0,0,0,0,0]
[null,null,"HP Sodium 100W","AST","Number","Legacy","AST-funded",null,2413,2212,1807,1204,703,292,null,null,null,null,null,null,null,0,null,null,null,null,null,null,null,0,null,null,null,null,null,null,null,0,null,null,null,null,null,null,null,0,null,{"$f":"-ROUND(I17/'Newer version of inputs'!$L$6,0)","v":-201},{"$f":"-ROUND(J17/'Newer version of inputs'!$L$6,0)","v":-184},{"$f":"-ROUND(K17/'Newer version of inputs'!$L$6,0)","v":-151},{"$f":"-ROUND(L17/'Newer version of inputs'!$L$6,0)","v":-100},{"$f":"-ROUND(M17/'Newer version of inputs'!$L$6,0)","v":-59},0,-695,null,0,{"$f":"-ROUND(BT17/BE8,0)","v":-221},{"$f":"-ROUND(BU17/BF8,0)","v":-452},{"$f":"-ROUND(BV17/BG8,0)","v":-401},{"$f":"-ROUND(BW17/BH8,0)","v":-352},{"$f":"-ROUND(BX17/BI8,0)","v":-292},-1718,null,null,null,null,null,null,null,0,null,2212,1807,1204,703,292,0]
[null,null,"HP Sodium 400W","AST","Number","Legacy","AST-funded",null,158,145,130,97,65,32,null,null,null,null,null,null,null,0,null,null,null,null,null,null,null,0,null,null,null,null,null,null,null,0,null,null,null,null,null,null,null,0,null,{"$f":"-ROUND(I18/'Newer version of inputs'!$L$6,0)","v":-13},0,0,0,0,0,-13,null,0,{"$f":"-ROUND(BT18/BE8,0)","v":-15},{"$f":"-ROUND(BU18/BF8,0)","v":-33},{"$f":"-ROUND(BV18/BG8,0)","v":-32},{"$f":"-ROUND(BW18/BH8,0)","v":-33},{"$f":"-ROUND(BX18/BI8,0)","v":-32},-145,null,null,null,null,null,null,null,0,null,145,130,97,65,32,0]
[null,null,"Metal Halide 70W","AST","Number","Legacy","AST-funded",null,43,21,21,21,21,21,null,null,null,null,null,null,null,0,null,null,null,null,null,null,null,0,null,null,null,null,null,null,null,0,null,null,null,null,null,null,null,0,null,0,0,0,0,0,0,0,null,-22,0,0,0,0,0,-22,null,null,null,null,null,null,null,0,null,21,21,21,21,21,21]
[null,null,"Metal Halide 150W","AST","Number","Legacy","AST-funded",null,22,12,12,12,12,12,null,null,null,null,null,null,null,0,null,null,null,null,null,null,null,0,null,null,null,null,null,null,null,0,null,null,null,null,null,null,null,0,null,0,0,0,0,0,0,0,null,-10,0,0,0,0,0,-10,null,null,null,null,null,null,null,0,null,12,12,12,12,12,12]
[null,null,"T5 2X14W","AST","Number","Energy efficient","Partially-funded",null,28136,23833,19066,14299,9533,4766,null,0,0,0,0,0,0,0,null,0,0,0,0,0,0,0,null,0,0,0,0,0,0,0,null,null,null,null,null,null,null,0,null,-4303,{"$f":"-ROUND(J21/AW$8,0)","v":-4767},{"$f":"-ROUND(K21/AX8,0)","v":-4767},{"$f":"-ROUND(L21/AY8,0)","v":-4766},{"$f":"-ROUND(M21/AZ8,0)","v":-4767},{"$f":"-ROUND(N21/BA8,0)","v":-4766},-28136,null,0,0,0,0,0,0,0,null,null,null,null,null,null,null,0,null,23833,19066,14299,9533,4766,0]
[null,null,"T5 2X24W","AST","Number","Energy efficient","Partially-funded",null,2587,2008,1606,1204,803,401,null,0,0,0,0,0,0,0,null,0,0,0,0,0,0,0,null,0,0,0,0,0,0,0,null,null,null,null,null,null,null,0,null,-579,{"$f":"-ROUND(J22/AW$8,0)","v":-402},{"$f":"-ROUND(K22/AX$8,0)","v":-402},{"$f":"-ROUND(L22/AY$8,0)","v":-401},{"$f":"-ROUND(M22/AZ$8,0)","v":-402},{"$f":"-ROUND(N22/BA$8,0)","v":-401},-2587,null,0,0,0,0,0,0,0,null,null,null,null,null,null,null,0,null,2008,1606,1204,803,401,0]
[null,null,"LED 18W","AST","Number","Energy efficient","Partially-funded",null,57764,65800,67034,68206,69417,70669,null,{"$f":"ROUND('Newer version of inputs'!J16*'Newer version of inputs'!$H27+'Newer version of inputs'!J18*'Newer version of inputs'!$H49,0)","v":1743},{"$f":"ROUND('Newer version of inputs'!K16*'Newer version of inputs'!$H27+'Newer version of inputs'!K18*'Newer version of inputs'!$H49,0)","v":1792},{"$f":"ROUND('Newer version of inputs'!L16*'Newer version of inputs'!$H27+'Newer version of inputs'!L18*'Newer version of inputs'!$H49,0)","v":1842},{"$f":"ROUND('Newer version of inputs'!M16*'Newer version of inputs'!$H27+'Newer version of inputs'!M18*'Newer version of inputs'!$H49,0)","v":1893},{"$f":"ROUND('Newer version of inputs'!N16*'Newer version of inputs'!$H27+'Newer version of inputs'!N18*'Newer version of inputs'!$H49,0)","v":1946},{"$f":"ROUND('Newer version of inputs'!O16*'Newer version of inputs'!$H27+'Newer version of inputs'!O18*'Newer version of inputs'!$H49,0)","v":2001},11217,null,{"$f":"-ROUND(SUM(AV10,AV13,AV21,AV22,AV30,AV31,AV32)/2,0)","v":2942},0,0,0,0,0,2942,null,{"$f":"-BD10/2-(BD13+BD19)/2","v":3351},0,0,0,0,0,3351,null,null,null,null,null,null,null,0,null,null,{"$f":"-ROUND(J23*'Newer version of inputs'!$L$10-100,0)","v":-558},{"$f":"-ROUND(K23*'Newer version of inputs'!$L$10,0)","v":-670},{"$f":"-ROUND(L23*'Newer version of inputs'!$L$10,0)","v":-682},{"$f":"-ROUND(M23*'Newer version of inputs'!$L$10,0)","v":-694},{"$f":"-ROUND(N23*'Newer version of inputs'!$L$10,0)","v":-707},-3311,null,0,0,0,0,0,0,0,null,null,null,null,null,null,null,0,null,65800,67034,68206,69417,70669,71963]
[null,null,"LED 14W","AST","Number","Energy efficient","Partially-funded",null,23424,31460,33067,34578,36125,37710,null,{"$f":"ROUND('Newer version of inputs'!J$16*'Newer version of inputs'!$H28+'Newer version of inputs'!J$18*'Newer version of inputs'!$H50,0)","v":1743},{"$f":"ROUND('Newer version of inputs'!K$16*'Newer version of inputs'!$H28+'Newer version of inputs'!K$18*'Newer version of inputs'!$H50,0)","v":1792},{"$f":"ROUND('Newer version of inputs'!L$16*'Newer version of inputs'!$H28+'Newer version of inputs'!L$18*'Newer version of inputs'!$H50,0)","v":1842},{"$f":"ROUND('Newer version of inputs'!M$16*'Newer version of inputs'!$H28+'Newer version of inputs'!M$18*'Newer version of inputs'!$H50,0)","v":1893},{"$f":"ROUND('Newer version of inputs'!N$16*'Newer version of inputs'!$H28+'Newer version of inputs'!N$18*'Newer version of inputs'!$H50,0)","v":1946},{"$f":"ROUND('Newer version of inputs'!O$16*'Newer version of inputs'!$H28+'Newer version of inputs'!O$18*'Newer version of inputs'!$H50,0)","v":2001},11217,null,{"$f":"-ROUND(SUM(AV10,AV13,AV21,AV22,AV30,AV31,AV32)/2,0)","v":2942},0,0,0,0,0,2942,null,{"$f":"-BD10/2-(BD13+BD19)/2","v":3351},0,0,0,0,0,3351,null,null,null,null,null,null,null,0,null,null,{"$f":"-ROUND(J24*'Newer version of inputs'!$L$10-130,0)","v":-185},{"$f":"-ROUND(K24*'Newer version of inputs'!$L$10,0)","v":-331},{"$f":"-ROUND(L24*'Newer version of inputs'!$L$10,0)","v":-346},{"$f":"-ROUND(M24*'Newer version of inputs'!$L$10,0)","v":-361},{"$f":"-ROUND(N24*'Newer version of inputs'!$L$10,0)","v":-377},-1600,null,0,0,0,0,0,0,0,null,null,null,null,null,null,null,0,null,31460,33067,34578,36125,37710,39334]
[null,null,"LED 18W Opt-in Smart Lighting","AST","Number","Energy efficient","Partially-funded",null,0,0,100,100,100,100,null,null,null,null,null,null,null,null,null,null,100,null,null,null,null,null,null,null,null,null,null,null,null,null,null,null,null,null,null,null,null,null,null,null,null,null,null,null,null,null,null,null,null,null,null,null,null,null,null,null,null,null,null,null,null,null,"New",0,100,100,100,100,100]
[null,null,"LED 14W Opt-in Smart Lighting","AST","Number","Energy efficient","Partially-funded",null,0,0,130,130,130,130,null,null,null,null,null,null,null,null,null,null,130,null,null,null,null,null,null,null,null,null,null,null,null,null,null,null,null,null,null,null,null,null,null,null,null,null,null,null,null,null,null,null,null,null,null,null,null,null,null,null,null,null,null,null,null,null,"New",0,130,130,130,130,130]
[null,null,"LED 70W-125W (L1)","AST","Number","Energy efficient","Partially-funded",null,16970,18522,19149,19770,20384,20992,null,{"$f":"ROUND('Newer version of inputs'!$J$16*'Newer version of inputs'!$H29+'Newer version of inputs'!$J$18*'Newer version of inputs'!$H51,0)","v":812},{"$f":"ROUND('Newer version of inputs'!$J$16*'Newer version of inputs'!$H29+'Newer version of inputs'!$J$18*'Newer version of inputs'!$H51,0)","v":812},{"$f":"ROUND('Newer version of inputs'!$J$16*'Newer version of inputs'!$H29+'Newer version of inputs'!$J$18*'Newer version of inputs'!$H51,0)","v":812},{"$f":"ROUND('Newer version of inputs'!$J$16*'Newer version of inputs'!$H29+'Newer version of inputs'!$J$18*'Newer version of inputs'!$H51,0)","v":812},{"$f":"ROUND('Newer version of inputs'!$J$16*'Newer version of inputs'!$H29+'Newer version of inputs'!$J$18*'Newer version of inputs'!$H51,0)","v":812},{"$f":"ROUND('Newer version of inputs'!$J$16*'Newer version of inputs'!$H29+'Newer version of inputs'!$J$18*'Newer version of inputs'!$H51,0)","v":812},{"$f":"SUM(P27:U27)","v":4872},null,{"$f":"-SUM(AV11*0.5,AV17,AV14,AV36)","v":730},0,0,0,0,0,{"$f":"SUM(X27:AC27)","v":730},null,10,0,0,0,0,0,{"$f":"SUM(AF27:AK27)","v":10},null,null,null,null,null,null,null,{"$f":"SUM(AN27:AS27)","v":0},null,null,{"$f":"-ROUND(J27*'Newer version of inputs'!$L$10,0)","v":-185},{"$f":"-ROUND(K27*'Newer version of inputs'!$L$10,0)","v":-191},{"$f":"-ROUND(L27*'Newer version of inputs'!$L$10,0)","v":-198},{"$f":"-ROUND(M27*'Newer version of inputs'!$L$10,0)","v":-204},{"$f":"-ROUND(N27*'Newer version of inputs'!$L$10,0)","v":-210},{"$f":"SUM(AV27:BA27)","v":-988},null,0,0,0,0,0,0,0,null,null,null,null,null,null,null,{"$f":"SUM(BL27:BQ27)","v":0},null,18522,19149,19770,20384,20992,21594]
[null,null,"LED 155W-250W (L2)","AST","Number","Energy efficient","Partially-funded",null,9887,11525,11818,12108,12395,12679,null,{"$f":"ROUND('Newer version of inputs'!$J$16*'Newer version of inputs'!$H30+'Newer version of inputs'!$J$18*'Newer version of inputs'!$H52,0)","v":408},{"$f":"ROUND('Newer version of inputs'!$J$16*'Newer version of inputs'!$H30+'Newer version of inputs'!$J$18*'Newer version of inputs'!$H52,0)","v":408},{"$f":"ROUND('Newer version of inputs'!$J$16*'Newer version of inputs'!$H30+'Newer version of inputs'!$J$18*'Newer version of inputs'!$H52,0)","v":408},{"$f":"ROUND('Newer version of inputs'!$J$16*'Newer version of inputs'!$H30+'Newer version of inputs'!$J$18*'Newer version of inputs'!$H52,0)","v":408},{"$f":"ROUND('Newer version of inputs'!$J$16*'Newer version of inputs'!$H30+'Newer version of inputs'!$J$18*'Newer version of inputs'!$H52,0)","v":408},{"$f":"ROUND('Newer version of inputs'!$J$16*'Newer version of inputs'!$H30+'Newer version of inputs'!$J$18*'Newer version of inputs'!$H52,0)","v":408},2448,null,{"$f":"-SUM(AV11*0.5,AV12,AV37)","v":1083},0,0,0,0,0,1083,null,147,0,0,0,0,0,147,null,null,null,null,null,null,null,0,null,null,{"$f":"-ROUND(J28*'Newer version of inputs'!$L$10,0)","v":-115},{"$f":"-ROUND(K28*'Newer version of inputs'!$L$10,0)","v":-118},{"$f":"-ROUND(L28*'Newer version of inputs'!$L$10,0)","v":-121},{"$f":"-ROUND(M28*'Newer version of inputs'!$L$10,0)","v":-124},{"$f":"-ROUND(N28*'Newer version of inputs'!$L$10,0)","v":-127},-605,null,0,0,0,0,0,0,0,null,null,null,null,null,null,null,0,null,11525,11818,12108,12395,12679,12960]
[null,null,"LED 275W-400W (L4)","AST","Number","Energy efficient","Partially-funded",null,368,434,448,462,475,488,null,{"$f":"ROUND('Newer version of inputs'!$J$16*'Newer version of inputs'!$H31+'Newer version of inputs'!$J$18*'Newer version of inputs'!$H53,0)","v":18},{"$f":"ROUND('Newer version of inputs'!$J$16*'Newer version of inputs'!$H31+'Newer version of inputs'!$J$18*'Newer version of inputs'!$H53,0)","v":18},{"$f":"ROUND('Newer version of inputs'!$J$16*'Newer version of inputs'!$H31+'Newer version of inputs'!$J$18*'Newer version of inputs'!$H53,0)","v":18},{"$f":"ROUND('Newer version of inputs'!$J$16*'Newer version of inputs'!$H31+'Newer version of inputs'!$J$18*'Newer version of inputs'!$H53,0)","v":18},{"$f":"ROUND('Newer version of inputs'!$J$16*'Newer version of inputs'!$H31+'Newer version of inputs'!$J$18*'Newer version of inputs'!$H53,0)","v":18},{"$f":"ROUND('Newer version of inputs'!$J$16*'Newer version of inputs'!$H31+'Newer version of inputs'!$J$18*'Newer version of inputs'!$H53,0)","v":18},108,null,{"$f":"-SUM(AV38)","v":0},0,0,0,0,0,0,null,48,0,0,0,0,0,48,null,null,null,null,null,null,null,0,null,null,{"$f":"-ROUND(J29*'Newer version of inputs'!$L$10,0)","v":-4},{"$f":"-ROUND(K29*'Newer version of inputs'!$L$10,0)","v":-4},{"$f":"-ROUND(L29*'Newer version of inputs'!$L$10,0)","v":-5},{"$f":"-ROUND(M29*'Newer version of inputs'!$L$10,0)","v":-5},{"$f":"-ROUND(N29*'Newer version of inputs'!$L$10,0)","v":-5},-23,null,0,0,0,0,0,0,0,null,null,null,null,null,null,null,0,null,434,448,462,475,488,501]
[null,null,"Compact Fluorescent 32W","AST","Number","Energy efficient","Partially-funded",null,3277,3277,2951,2625,2299,1973,null,0,0,0,0,0,0,0,null,0,0,0,0,0,0,0,null,0,0,0,0,0,0,0,null,null,null,null,null,null,null,0,null,0,{"$f":"-ROUND((J30-'Newer version of inputs'!$J22)/AW$8,0)","v":-326},{"$f":"-ROUND((K30-'Newer version of inputs'!$J22)/AX$8,0)","v":-326},{"$f":"-ROUND((L30-'Newer version of inputs'!$J22)/AY$8,0)","v":-326},{"$f":"-ROUND((M30-'Newer version of inputs'!$J22)/AZ$8,0)","v":-326},{"$f":"-ROUND((N30-'Newer version of inputs'!$J22)/BA$8,0)","v":-325},-1629,null,0,0,0,0,0,0,0,null,null,null,null,null,null,null,0,null,3277,2951,2625,2299,1973,1648]
[null,null,"Compact Fluorescent 42W","AST","Number","Energy efficient","Partially-funded",null,3503,3503,3214,2925,2636,2346,null,0,0,0,0,0,0,0,null,0,0,0,0,0,0,0,null,0,0,0,0,0,0,0,null,null,null,null,null,null,null,0,null,0,{"$f":"-ROUND((J31-'Newer version of inputs'!$J23)/AW$8,0)","v":-289},{"$f":"-ROUND((K31-'Newer version of inputs'!$J23)/AX$8,0)","v":-289},{"$f":"-ROUND((L31-'Newer version of inputs'!$J23)/AY$8,0)","v":-289},{"$f":"-ROUND((M31-'Newer version of inputs'!$J23)/AZ$8,0)","v":-290},{"$f":"-ROUND((N31-'Newer version of inputs'!$J23)/BA$8,0)","v":-289},-1446,null,0,0,0,0,0,0,0,null,null,null,null,null,null,null,0,null,3503,3214,2925,2636,2346,2057]
[null,null,"LED 18W","AST","Number","Energy efficient","AST-funded",null,null,0,3204,6142,9003,11851,null,null,null,null,null,null,null,0,null,0,{"$f":"-ROUND(SUM(AW10,AW13,AW21,AW22,AW30,AW31,AW32)/2-Y34,0)","v":2942},{"$f":"-ROUND(SUM(AX10,AX13,AX21,AX22,AX30,AX31,AX32)/2,0)-Z34","v":2708},{"$f":"-ROUND(SUM(AY10,AY13,AY21,AY22,AY30,AY31,AY32)/2,0)","v":2922},{"$f":"-ROUND(SUM(AZ10,AZ13,AZ21,AZ22,AZ30,AZ31,AZ32)/2,0)","v":2938},{"$f":"AB32","v":2938},14448,null,null,{"$f":"-SUM(BE10,BE13,BE19)/2","v":262},{"$f":"-SUM(BF10,BF13,BF19)/2","v":262},{"$f":"-SUM(BG10,BG13,BG19)/2","v":0},{"$f":"-SUM(BH10,BH13,BH19)/2","v":0},{"$f":"-SUM(BI10,BI13,BI19)/2","v":0},524,null,0,0,0,0,0,0,0,null,0,{"$f":"-ROUND(J32*'Newer version of inputs'!$L$10,0)","v":0},{"$f":"-ROUND(K32*'Newer version of inputs'!$L$10,0)","v":-32},{"$f":"-ROUND(L32*'Newer version of inputs'!$L$10,0)","v":-61},{"$f":"-ROUND(M32*'Newer version of inputs'!$L$10,0)","v":-90},{"$f":"-ROUND(N32*'Newer version of inputs'!$L$10,0)","v":-119},-302,null,null,null,null,null,null,null,0,null,0,0,0,0,0,0,0,null,0,3204,6142,9003,11851,14670]
[null,null,"LED 14W","AST","Number","Energy efficient","AST-funded",null,null,0,3204,6142,8803,11453,null,null,null,null,null,null,null,0,null,0,{"$f":"-ROUND(SUM(AW10,AW13,AW21,AW22,AW30,AW31,AW32)/2-Y35,0)","v":2942},{"$f":"-ROUND(SUM(AX10,AX13,AX21,AX22,AX30,AX31,AX32)/2,0)-Z35","v":2708},{"$f":"-ROUND(SUM(AY10,AY13,AY21,AY22,AY30,AY31,AY32)/2,0)-AA35","v":2722},{"$f":"-ROUND(SUM(AZ10,AZ13,AZ21,AZ22,AZ30,AZ31,AZ32)/2,0)-AB35","v":2738},{"$f":"-ROUND(SUM(BA10,BA13,BA21,BA22,BA30,BA31,BA32)/2,0)-AC35","v":2750},13860,null,null,{"$f":"-SUM(BE10,BE13,BE19)/2","v":262},{"$f":"-SUM(BF10,BF13,BF19)/2","v":262},{"$f":"-SUM(BG10,BG13,BG19)/2","v":0},{"$f":"-SUM(BH10,BH13,BH19)/2","v":0},{"$f":"-SUM(BI10,BI13,BI19)/2","v":0},524,null,0,0,0,0,0,0,0,null,0,{"$f":"-ROUND(J33*'Newer version of inputs'!$L$10,0)","v":0},{"$f":"-ROUND(K33*'Newer version of inputs'!$L$10,0)","v":-32},{"$f":"-ROUND(L33*'Newer version of inputs'!$L$10,0)","v":-61},{"$f":"-ROUND(M33*'Newer version of inputs'!$L$10,0)","v":-88},{"$f":"-ROUND(N33*'Newer version of inputs'!$L$10,0)","v":-115},-296,null,null,null,null,null,null,null,0,null,0,0,0,0,0,0,0,null,0,3204,6142,8803,11453,14088]
[null,null,"LED 18W Opt-in Smart Lighting","AST","Number","Energy efficient","AST-funded",null,null,0,50,250,450,650,null,null,null,null,null,null,null,null,null,null,50,200,200,200,200,null,null,null,null,null,null,null,null,null,null,null,null,null,null,null,null,null,null,null,null,null,null,null,null,null,null,null,null,null,null,null,null,null,null,null,null,null,null,null,null,null,"New",0,50,250,450,650,850]
[null,null,"LED 14W Opt-in Smart Lighting","AST","Number","Energy efficient","AST-funded",null,null,0,50,250,450,650,null,null,null,null,null,null,null,null,null,null,50,200,200,200,200,null,null,null,null,null,null,null,null,null,null,null,null,null,null,null,null,null,null,null,null,null,null,null,null,null,null,null,null,null,null,null,null,null,null,null,null,null,null,null,null,null,"New",0,50,250,450,650,850]
[null,null,"LED 70W-125W (L1)","AST","Number","Energy efficient","AST-funded",null,null,0,{"$f":"BU36","v":1491},3682,5486,6961,null,null,null,null,null,null,null,{"$f":"SUM(P36:U36)","v":0},null,0,{"$f":"-ROUND(SUM(AW11*0.5,AW17,AW14,AW36),0)","v":663},{"$f":"-ROUND(SUM(AX11*0.5,AX17,AX14,AX36),0)","v":557},{"$f":"-ROUND(SUM(AY11*0.5,AY17,AY14,AY36),0)","v":398},{"$f":"-ROUND(SUM(AZ11*0.5,AZ17,AZ14,AZ36),0)","v":266},{"$f":"AB36","v":266},{"$f":"SUM(X36:AC36)","v":2150},null,null,{"$f":"-ROUND(SUM(BE11*0.5,BE14,BE13,BE17),0)","v":828},{"$f":"-ROUND(SUM(BF11*0.5,BF14,BF13,BF17),0)","v":1649},{"$f":"-ROUND(SUM(BG11*0.5,BG14,BG13,BG17),0)","v":1443},{"$f":"-ROUND(SUM(BH11*0.5,BH14,BH13,BH17),0)","v":1264},{"$f":"-ROUND(SUM(BI11*0.5,BI14,BI13,BI17),0)","v":1052},{"$f":"SUM(AF36:AK36)","v":6236},null,0,0,0,0,0,0,{"$f":"SUM(AN36:AS36)","v":0},null,0,{"$f":"-J36*'Newer version of inputs'!$L$10","v":0},{"$f":"-ROUND(K36*'Newer version of inputs'!$L$10,0)","v":-15},{"$f":"-ROUND(L36*'Newer version of inputs'!$L$10,0)","v":-37},{"$f":"-ROUND(M36*'Newer version of inputs'!$L$10,0)","v":-55},{"$f":"-ROUND(N36*'Newer version of inputs'!$L$10,0)","v":-70},{"$f":"SUM(AV36:BA36)","v":-177},null,null,null,null,null,null,null,0,null,0,0,0,0,0,0,{"$f":"SUM(BL36:BQ36)","v":0},null,0,1491,3682,5486,6961,8209]
[null,null,"LED 155W-250W (L2)","AST","Number","Energy efficient","AST-funded",null,null,0,{"$f":"BU37","v":2187},5432,8136,10344,null,null,null,null,null,null,null,0,null,0,{"$f":"-ROUND(SUM(AW11*0.5,AW12,AW37),0)","v":994},{"$f":"-ROUND(SUM(AX11*0.5,AX12,AX37),0)","v":833},{"$f":"-ROUND(SUM(AY11*0.5,AY12,AY37),0)","v":595},{"$f":"-ROUND(SUM(AZ11*0.5,AZ12,AZ37),0)","v":396},{"$f":"AB37","v":396},3214,null,null,{"$f":"-ROUND(SUM(BE11*0.5,BE12,BE15),0)","v":1193},{"$f":"-ROUND(SUM(BF11*0.5,BF12,BF15),0)","v":2434},{"$f":"-ROUND(SUM(BG11*0.5,BG12,BG15),0)","v":2163},{"$f":"-ROUND(SUM(BH11*0.5,BH12,BH15),0)","v":1893},{"$f":"-ROUND(SUM(BI11*0.5,BI12,BI15),0)","v":1577},9260,null,0,0,0,0,0,0,0,null,0,{"$f":"-J37*'Newer version of inputs'!$L$10","v":0},{"$f":"-ROUND(K37*'Newer version of inputs'!$L$10,0)","v":-22},{"$f":"-ROUND(L37*'Newer version of inputs'!$L$10,0)","v":-54},{"$f":"-ROUND(M37*'Newer version of inputs'!$L$10,0)","v":-81},{"$f":"-ROUND(N37*'Newer version of inputs'!$L$10,0)","v":-103},-260,null,null,null,null,null,null,null,0,null,0,0,0,0,0,0,0,null,0,2187,5432,8136,10344,12214]
[null,null,"LED 275W-400W (L4)","AST","Number","Energy efficient","AST-funded",null,null,0,66,99,131,164,null,null,null,null,null,null,null,0,null,0,{"$f":"-SUM(AV18,AV16,AW38)","v":20},{"$f":"-SUM(AW18,AW16,AX38)","v":1},{"$f":"-SUM(AX18,AX16,AY38)","v":1},{"$f":"-SUM(AY18,AY16,AZ38)","v":1},{"$f":"AB38","v":1},24,null,null,{"$f":"-SUM(BE18,BE16)","v":46},{"$f":"-SUM(BF18,BF16)","v":33},{"$f":"-SUM(BG18,BG16)","v":32},{"$f":"-SUM(BH18,BH16)","v":33},{"$f":"-SUM(BI18,BI16)","v":32},176,null,0,0,0,0,0,0,0,null,0,{"$f":"-J38*'Newer version of inputs'!$L$10","v":0},{"$f":"-ROUND(K38*'Newer version of inputs'!$L$10,0)","v":-1},{"$f":"-ROUND(L38*'Newer version of inputs'!$L$10,0)","v":-1},{"$f":"-ROUND(M38*'Newer version of inputs'!$L$10,0)","v":-1},{"$f":"-ROUND(N38*'Newer version of inputs'!$L$10,0)","v":-2},-5,null,null,null,null,null,null,null,0,null,0,0,0,0,0,0,0,null,0,66,99,131,164,195]
[null,null,null,"AST","Number",null,null,null,null,0,0,0,0,0,null,null,null,null,null,null,null,0,null,null,null,null,null,null,null,0,null,null,null,null,null,null,null,0,null,null,null,null,null,null,null,0,null,null,null,null,null,null,null,0,null,null,null,null,null,null,null,0,null,null,null,null,null,null,null,0,null,0,0,0,0,0,0]
[null,null,null,"AST","Number",null,null,null,null,0,0,0,0,0,null,null,null,null,null,null,null,0,null,null,null,null,null,null,null,0,null,null,null,null,null,null,null,0,null,null,null,null,null,null,null,0,null,null,null,null,null,null,null,0,null,null,null,null,null,null,null,0,null,null,null,null,null,null,null,0,null,0,0,0,0,0,0]
[null,null,null,"AST","Number",null,null,null,null,0,0,0,0,0,null,null,null,null,null,null,null,0,null,null,null,null,null,null,null,0,null,null,null,null,null,null,null,0,null,null,null,null,null,null,null,0,null,null,null,null,null,null,null,0,null,null,null,null,null,null,null,0,null,null,null,null,null,null,null,0,null,0,0,0,0,0,0]
[]
[null,null,"Total","Calculated","Number",null,null,null,{"$f":"SUM(I10:I41)","v":180147},184788,189039,192640,196453,200308,null,{"$f":"SUM(P10:P41)","v":4724},4822,4922,5024,5130,5240,29862,null,{"$f":"SUM(X10:X41)","v":7697},7891,7207,7038,6739,6751,41393,null,{"$f":"SUM(AF10:AF41)","v":6907},2591,4640,3638,3190,2661,23627,null,{"$f":"SUM(AN10:AN41)","v":0},0,0,0,0,0,0,null,{"$f":"SUM(AV10:AV41)","v":-7720},-8487,-8553,-8249,-8014,-7616,-48639,null,{"$f":"SUM(BD10:BD41)","v":-6967},-2566,-4615,-3638,-3190,-2661,-23637,null,{"$f":"SUM(BL10:BL41)","v":0},0,0,0,0,0,0,null,{"$f":"SUM(BT10:BT41)","v":184788},189039,192640,196453,200308,204683]
[]
[null,null,"Legacy lights","Calculated","Number","Legacy","AST-funded",null,{"$f":"SUMIFS(I$10:I$41,$F$10:$F$41,$F45,$G$10:$G$41,$G45)","v":34231},24426,20204,14236,9697,5981,null,{"$f":"SUMIFS(P$10:P$41,$F$10:$F$41,$F45,$G$10:$G$41,$G45)","v":0},0,0,0,0,0,0,null,{"$f":"SUMIFS(X$10:X$41,$F$10:$F$41,$F45,$G$10:$G$41,$G45)","v":0},0,0,0,0,0,0,null,{"$f":"SUMIFS(AF$10:AF$41,$F$10:$F$41,$F45,$G$10:$G$41,$G45)","v":0},0,0,0,0,0,0,null,{"$f":"SUMIFS(AN$10:AN$41,$F$10:$F$41,$F45,$G$10:$G$41,$G45)","v":0},0,0,0,0,0,0,null,{"$f":"SUMIFS(AV$10:AV$41,$F$10:$F$41,$F45,$G$10:$G$41,$G45)","v":-2838},-1656,-1353,-901,-526,0,-7274,null,{"$f":"SUMIFS(BD$10:BD$41,$F$10:$F$41,$F45,$G$10:$G$41,$G45)","v":-6967},-2566,-4615,-3638,-3190,-2661,-23637,null,{"$f":"SUMIFS(BL$10:BL$41,$F$10:$F$41,$F45,$G$10:$G$41,$G45)","v":0},0,0,0,0,0,0,null,{"$f":"SUMIFS(BT$10:BT$41,$F$10:$F$41,$F45,$G$10:$G$41,$G45)","v":24426},20204,14236,9697,5981,3320]
[null,null,"Energy efficient lights","Calculated","Number","Energy efficient","AST-funded",null,0,0,10252,21997,32459,42073,null,0,0,0,0,0,0,0,null,0,7661,7207,7038,6739,6751,33696,null,0,2591,4640,3638,3190,2661,16720,null,0,0,0,0,0,0,0,null,0,0,-102,-214,-315,-409,-1040,null,0,0,0,0,0,0,0,null,0,0,0,0,0,0,0,null,0,10252,21997,32459,42073,51076]
[null,null,"Partially-funded energy efficient lights","Calculated","Number","Energy efficient","Partially-funded",null,145916,160362,158583,156407,154297,152254,null,4724,4822,4922,5024,5130,5240,29862,null,7697,230,0,0,0,0,7697,null,6907,0,0,0,0,0,6907,null,0,0,0,0,0,0,0,null,-4882,-6831,-7098,-7134,-7173,-7207,-40325,null,0,0,0,0,0,0,0,null,0,0,0,0,0,0,0,null,160362,158583,156407,154297,152254,150287]
[]
[null,null,"Total","Calculated","Number",null,null,null,{"$f":"SUM(I45:I47)","v":180147},184788,189039,192640,196453,200308,null,{"$f":"SUM(P45:P47)","v":4724},4822,4922,5024,5130,5240,{"$f":"SUM(V45:V47)","v":29862},null,{"$f":"SUM(X45:X47)","v":7697},7891,7207,7038,6739,6751,41393,null,{"$f":"SUM(AF45:AF47)","v":6907},2591,4640,3638,3190,2661,23627,null,{"$f":"SUM(AN45:AN47)","v":0},0,0,0,0,0,0,null,{"$f":"SUM(AV45:AV47)","v":-7720},-8487,-8553,-8249,-8014,-7616,-48639,null,{"$f":"SUM(BD45:BD47)","v":-6967},-2566,-4615,-3638,-3190,-2661,-23637,null,{"$f":"SUM(BL45:BL47)","v":0},0,0,0,0,0,0,null,{"$f":"SUM(BT45:BT47)","v":184788},189039,192640,196453,200308,204683]
[]
[]
[null,"End"]
[]
[null,null,null,null,null,null,null,null,"NEED TO CHECK THESE HARD CODED"]
[null,null,"PUBLIC LIGHT INSTALLATION "]
[null,null,"Major road light installed",null,null,null,null,null,0.22903285252011363,0.22986065239927714,0.23013456833750659,0.22936824493268074,0.22929031182298448,0.23006693889989208]
[null,null,"Minor road light installed",null,null,null,null,null,0.77096714747988648,0.77013934760072278,0.76986543166249344,0.77063175506731918,0.77070968817701557,0.76993306110010784]
[null,null,"Number of poles installed ",null,null,null,null,null,0.20462046204620463,0.20462046204620463,0.20462046204620463,0.20462046204620463,0.20462046204620463,0.20462046204620463]
[]
[null,null,"PUBLIC LIGHT REPLACEMENT"]
[null,null,"Major road light installed",null,null,null,null,null,0.33453418745270852,0.22461679208560184,0.33651034559803378,0.35365005392136961,0.27269761886348209,0.30080193981070247]
[null,null,"Minor road light installed",null,null,null,null,null,0.66546581254729142,0.7753832079143983,0.66348965440196617,0.64634994607863039,0.72730238113651791,0.69919806018929742]
[null,null,"Number of poles replaced",null,null,null,null,null,0.12910467720170105,8.6104060344595626E-2,1.5320901060493618E-2,1.5403813374457235E-2,3.2997344744915058E-2,1.4809599458955961E-2]
[]
[null,null,"PUBLIC LIGHT MAINTENANCE"]
[null,null,"Major road light installed",null,null,null,null,null,0.19431649068102899,0.19431649068102899,0.19431649068102899,0.19431649068102899,0.19431649068102899,0.19431649068102899]
[null,null,"Minor road light installed",null,null,null,null,null,0.80568350931897104,0.80568350931897104,0.80568350931897104,0.80568350931897104,0.80568350931897104,0.80568350931897104]
[null,null,"Number of poles maintained",null,null,null,null,null,5.6386270758037461E-2,5.6386270758037461E-2,5.6386270758037461E-2,5.6386270758037461E-2,5.6386270758037461E-2,5.6386270758037461E-2]
[]
[]
[null,"End"]
[]
[]
[]
[]
[]
[]
[]
[]
[]
[null,null,"LED 275W"]

{"sheet":"Historical light volumes","index":3,"n_rows":85,"n_cols":19,"rows_kept":85,"cut":false,"hidden":false,"merged":[[50,4,50,7],[50,14,50,18]]}
[]
[null,"AusNet"]
[]
[null,null,null,2009,2011,2012,2013,2014,2015,2016,2017,2018,2019,2020,"HY2021","2022-06-30","2023-06-30","2024-06-30","2025-06-30"]
[null,"Capital Expenditure",null,"Actual","Actual","Actual","Actual","Actual","Actual","Actual","Actual","Actual","Actual","Actual","Actual","Actual","Actual","Decision","Decision"]
[]
[]
[null,"Number Of Lights"]
[]
[null,"Central",null,null,{"$f":"E$4","v":2011},2012,2013,2014,2015,2016,2017,2018,2019,2020,"HY2021","2022-06-30","2023-06-30","2024-06-30","2025-06-30"]
[null,null,null,null,"Actual Volumes",null,null,null,{"$f":"I5","v":"Actual"},"Actual","Actual","Actual","Actual","Actual","Actual","Actual","Actual","Decision","Decision"]
[null,"Existing Lights","Reference Light","Price Factor",null,null,null,null,null,null,null,null,null,null,null,null,null,"Refer to Sheet RIN RY24 and later data"]
[null,"Mercury Vapour 80W",{"$f":"B$13","v":"Mercury Vapour 80W"},1,59322.500000000007,58866.850000000006,58715.366666666669,56826.283333333333,48843.369902977167,33071,19501,20899,20183,19640,19640,14785.813197209627,16742,11161.333333333334,5580.6666666666679]
[null,"HP Sodium 150W",{"$f":"B$14","v":"HP Sodium 150W"},1,12679.833333333334,13325.133333333331,13781.75,14149.800000000001,14308.290313255447,15306,14457,16891,15334,14783,14783,14443.463291763097,14552,13339.333333333334,12126.666666666668]
[null,"HP Sodium 250W",{"$f":"B$15","v":"HP Sodium 250W"},1,6080.2666666666664,6156.5333333333338,6248.6333333333341,6374.1833333333343,6445.579841640706,6810,7048,7381,6784,6880,6880,6758.2156292482441,6391,5858.416666666667,5325.8333333333339]
[null,"Mercury Vapour 50W",{"$f":"B$13","v":"Mercury Vapour 80W"},1.53,324,322.33333333333331,319.58333333333331,270.16666666666669,273.19277301666312,75,71,71,25,71,70.371650000000002,54.814855996531598,8,5.3333333333333339,2.6666666666666674]
[null,"Mercury Vapour 125W",{"$f":"B$13","v":"Mercury Vapour 80W"},1.47,855.25,848.08333333333337,839.5,803.65,812.65159297288574,425,332,289,297,284,281.48660000000001,211.11495000000002,178,118.66666666666667,59.333333333333343]
[null,"Mercury Vapour 250W",{"$f":"B$15","v":"HP Sodium 250W"},1.05,875.86666666666633,850.08333333333337,817.78333333333319,791.59999999999991,800.46662228250648,702,668,655,1036,611,605.59264999999994,460.85809332755269,324,216,108]
[null,"Mercury Vapour 400W",{"$f":"B$15","v":"HP Sodium 250W"},1.0900000000000001,151.16666666666666,146.86666666666667,148,147.91666666666666,149.57346456032604,143,141,146,206,116,114.9734,87,55,36.666666666666671,18.333333333333339]
[null,"HP Sodium 100W",{"$f":"B$14","v":"HP Sodium 150W"},1.07,2304.1666666666665,2478.2000000000003,2612.4166666666665,2729.4833333333331,2760.0559681780319,2851,2465,3109,2948,2497,2481.4589410036815,2465.6776371993524,2583,2367.75,2152.5]
[null,"HP Sodium 400W",{"$f":"B$15","v":"HP Sodium 250W"},1.42,289.5,283.55,275.25,267.91666666666669,270.91757102053424,282,281,297,443,212,212,215.70351535696486,176,161.33333333333334,146.66666666666669]
[null,"Metal Halide 70W",{"$f":"B$13","v":"Mercury Vapour 80W"},4.3651056775797761,31,31,31,31,31.347227502220445,31,31,31,31,31,27.125,19.375,65,43.333333333333336,21.666666666666671]
[null,"Metal Halide 100W","HP Sodium 150W",2.3876890876224905,34,34,34,34,34.380830163725648,34,34,34,34,34,29.75,21.25,0,0,0]
[null,"Metal Halide 150W","HP Sodium 150W",2.7125868138140996,32,32,32,32.166666666666664,32.526961870583577,33,33,33,33,33,28.875,20.625,31,20.666666666666668,10.333333333333336]
[null,"HP Sodium 50W",{"$f":"B$14","v":"HP Sodium 150W"},0.44334506707259064,94,95,95,95,96.064084280998131,0,0,0,0,0,0,0,0,0,0]
[]
[null,"Total Existing Lights",null,null,{"$f":"SUM(E13:E26)","v":83073.550000000017},83469.633333333331,83950.28333333334,82553.166666666686,74858.417153721792,59763,45062,49836,47354,45192,45154.633241003678,39543.911170101383,41105,33328.833333333336,25552.666666666672]
[]
[null,"Energy Efficient Lights","Reference Light","Price Factor",null,null,null,null,null,null,null,null,null,null,null,null,null,"Refer to Sheet RIN RY24 and later data"]
[null,"T5 2X14W",{"$f":"B$30","v":"T5 2X14W"},1,3208.75,5202.25,6045.833333333333,8439.5833333333339,11516.802884651741,21929,21271,22991,22499,22518,22518,22528.43237331021,23515,20144,16773]
[null,"T5 2X24W",{"$f":"B$31","v":"T5 2X24W"},1,105.16666666666667,277,352.41666666666669,542.91666666666663,932.74932484535293,1690,1584,2040,1780,1649,1781,1781,1772,1223,674]
[null,"LED 18W",{"$f":"B$32","v":"LED 18W"},1,0,0,0,0,2982.68873065342,12368,23946,30035,30436,30959,32106.503848553304,38758.369932298003,28810,39582.333333333336,46468.666666666672]
[null,"LED 14W",{"$f":"B33","v":"LED 14W"},1,0,0,0,0,0,0,0,307,1726,2673,2673,2732.1167820911937,6228,7416.4600000000028,8638.196880000005]
[null,"LED 70W-125W (L1)",{"$f":"B34","v":"LED 70W-125W (L1)"},1,0,0,0,0,0,0,0,417,1259,1833.4217792699637,2118.1985565842951,2465.3300999201228,7031,7636.1920000000009,8483.9127093333354]
[null,"LED 155W-250W (L2)",{"$f":"B35","v":"LED 155W-250W (L2)"},1,0,0,0,0,0,0,0,273,901,1227,1434.1751433875991,2465.2057164955359,2615,2876.2400000000007,4650.4961088888904]
[null,"LED 275W-400W (L4)",{"$f":"B36","v":"LED 275W-400W (L4)"},1,0,0,0,0,0,0,0,0,50,68,77.836613362978397,119.39023633288262,46,52.468000000000018,92.11710400000004]
[null,"Compact Fluorescent 32W",{"$f":"B$30","v":"T5 2X14W"},0.87960989252886512,1978.9333333333332,2125.0833333333335,2279.5,2420.8333333333335,4159.0741192260184,2908,2707,2827,3108,3107,3107,3111.1729493240841,3011,3011,2580.8571428571427]
[null,"Compact Fluorescent 42W",{"$f":"B$30","v":"T5 2X14W"},0.87960989252886512,245.5,366.33333333333331,572.16666666666663,791.08333333333337,1359.1081106303818,1570,1336,2089,1921,1924,1924,1992.1581722933765,1978,1978,1582]
[null,"Smart lighting L1",{"$f":"B39","v":"Smart lighting L1"},1,0,0,0,0,0,0,0,0,0,0,1,1,0,0,0]
[null,"Smart lighting L2",{"$f":"B40","v":"Smart lighting L2"},1,0,0,0,0,0,0,0,0,0,0,3,3,0,0,0]
[null,"Smart lighting L4",{"$f":"B41","v":"Smart lighting L4"},1,0,0,0,0,0,0,0,0,0,0,1,1,0,0,0]
[]
[null,"Total Energy Efficient Lights",null,null,{"$f":"SUM(E30:E38)","v":5538.3499999999995},7970.666666666667,9249.9166666666661,12194.416666666668,20950.423170006914,40465,50844,60979,63680,65958.421779269964,{"$f":"SUM(O30:O41)","v":67744.714161888172},75958.176262065404,75006,{"$f":"SUM(R30:R41)","v":83919.693333333329},{"$f":"SUM(S30:S41)","v":89943.246611746057}]
[]
[null,"Total Number of Lights",null,null,{"$f":"SUM(E27,E43)","v":88611.900000000023},91440.3,93200.200000000012,94747.583333333358,95808.840323728713,100228,95906,110815,111034,111150.42177926996,112899.34740289184,115502.08743216679,116111,117248.52666666667,115495.91327841273]
[]
[]
[]
[]
[null,"North & East",null,null,{"$f":"E$4","v":2011},2012,2013,2014,2015,2016,2017,2018,2019,2020,"HY2021","2022-06-30","2023-06-30","2024-06-30","2025-06-30"]
[null,null,null,null,"Actual Volumes",null,null,null,null,null,null,null,null,null,"Forecast Volumes"]
[null,"Existing Lights","Reference Light","Price Factor"]
[null,"Mercury Vapour 80W",{"$f":"B$53","v":"Mercury Vapour 80W"},1,28734.833333333339,28906.483333333334,28889.050000000003,26233.916666666668,22548.595836149958,6984,8177,4522,4620,4664,4664,3522.4368027903729,3227,2151.3333333333335,1075.666666666667]
[null,"HP Sodium 150W",{"$f":"B$54","v":"HP Sodium 150W"},1,4571.583333333333,4712.166666666667,4750.25,4824.416666666667,4878.4544134033549,5333,7159,5274,5404,5446,5446,5238.8777144357464,3661,3355.9166666666665,3050.833333333333]
[null,"HP Sodium 250W",{"$f":"B$55","v":"HP Sodium 250W"},1,4504.6999999999989,4586.8666666666677,4654.6166666666659,4713.4833333333327,4766.2785283201401,5034,5363,5257,5214,5137,5137,5005.0448814785095,3528,3234,2940]
[null,"Mercury Vapour 50W",{"$f":"B$53","v":"Mercury Vapour 80W"},1.48,376.74999999999994,367.75,363.16666666666669,289.41666666666669,292.65839009465481,146,128,128,128,125,125,94.435144003468395,52,34.666666666666671,17.333333333333339]
[null,"Mercury Vapour 125W",{"$f":"B$53","v":"Mercury Vapour 80W"},1.48,62,62.083333333333336,60.333333333333336,54.583333333333336,55.194715091275249,26,21,13,17,17,17,12.75,11,7.3333333333333339,3.6666666666666674]
[null,"Mercury Vapour 250W",{"$f":"B$55","v":"HP Sodium 250W"},1.04,433.84999999999997,433.2833333333333,427.8,417.68333333333339,422.36175722212187,277,275,274,272,260,260,196.14190667244733,107,71.333333333333343,35.666666666666679]
[null,"Mercury Vapour 400W",{"$f":"B$55","v":"HP Sodium 250W"},1.07,132,131.33333333333334,127.66666666666667,123.16666666666669,124.54624260290812,92,91,85,91,91,91,68.25,89,59.333333333333336,29.666666666666671]
[null,"HP Sodium 100W",{"$f":"B$54","v":"HP Sodium 150W"},1.07,143.91666666666666,196.83333333333334,222.91666666666666,248.50000000000003,251.28342046134776,244,729,152,329,315,315,316.86809591687819,256,229.59432534026016,203.18865068052031]
[null,"HP Sodium 400W",{"$f":"B$55","v":"HP Sodium 250W"},1.42,299.08333333333331,310.41666666666669,321.49999999999994,330.08333333333331,333.78055950616977,349,361,354,367,354,354,351.61585962568898,300,270.6986783645259,241.39735672905181]
[null,"Metal Halide 70W",{"$f":"B$53","v":"Mercury Vapour 80W"},3.8044420368364027,0,0,0,0,0,0,0,0,0,0,0,0,0,0,0]
[null,"Metal Halide 100W",{"$f":"B$54","v":"HP Sodium 150W"},2.1180491097797653,0,0,0,0,0,0,0,0,0,0,0,0,0,0,0]
[null,"Metal Halide 150W",{"$f":"B$54","v":"HP Sodium 150W"},2.4062948274407225,0,0,0,0,0,0,0,0,0,0,0,0,0,0,0]
[null,{"$f":"B25","v":"HP Sodium 50W"},{"$f":"B$54","v":"HP Sodium 150W"},0.45472955868703063,0,0,0,0,0,0,0,0,0,0,0,0,0,0,0]
[]
[null,"Total Existing Lights",null,null,{"$f":"SUM(E53:E66)","v":39258.716666666667},39707.216666666674,39817.300000000003,37235.25,33673.153862851934,18485,22304,16059,16442,16409,16409,14806.42040492311,11231,9414.2096703714542,7597.4193407429066]
[]
[null,"Energy Efficient Lights","Reference Light","Price Factor"]
[null,"T5 2X14W",{"$f":"B$70","v":"T5 2X14W"},1,64.75,140,249.58333333333334,3014.5833333333335,5220.5984078107704,7036,8015,6506,7097,7099,7099,7103.567626689789,5515,4583,3651]
[null,"T5 2X24W",{"$f":"B$71","v":"T5 2X24W"},1,36.5,44.333333333333336,64.416666666666671,93.5,128.23440738477976,1002,1159,761,1015,1020,1020,1020,979,949,919]
[null,"LED 18W",{"$f":"B$72","v":"LED 18W"},1,0,0,0,0,33.687124434534233,14920,19876,18786,19360,18962,19356.529623844079,21167.16157499676,18575,21136.982,23354.603940444445]
[null,"LED 14W",{"$f":"B73","v":"LED 14W"},1,0,0,0,0,0,0,0,47,324,937,937,962.88321790880616,5297,5803.9820000000018,6325.1594960000029]
[null,"LED 70W-125W (L1)",{"$f":"B74","v":"LED 70W-125W (L1)"},1,0,0,0,0,0,0,0,33,181,497.20953611094137,583.39254116102018,681.59883423279166,2657,2841.3800000000006,3030.9226400000011]
[null,"LED 155W-250W (L2)",{"$f":"B75","v":"LED 155W-250W (L2)"},1,0,0,0,0,0,0,0,117,180,278,359.10763471638836,1013.705102375826,1206,1377.2146666666672,1555.8913440000008]
[null,"LED 275W-400W (L4)",{"$f":"B76","v":"LED 275W-400W (L4)"},1,0,0,0,0,0,0,0,9,9,68,73.942114915324254,107.80351475372228,64,104.55866666666668,145.42230933333337]
[null,"Compact Fluorescent 32W",{"$f":"B$70","v":"T5 2X14W"},0.87960989252886512,180.58333333333334,291.75,405.75,536.58333333333337,929.24486932670493,640,718,689,651,680,680,681.82705067591576,575,575,575]
[null,"Compact Fluorescent 42W",{"$f":"B$70","v":"T5 2X14W"},0.87960989252886512,709.16666666666663,1220.0833333333333,1602.3333333333333,1877.5,3251.4189945536045,2614,3222,2634,2761,2715,2715,2744.8418277066235,1982,1982,1982]
[null,"Smart lighting L1",{"$f":"B79","v":"Smart lighting L1"},1,0,0,0,0,0,0,0,0,0,0,1,1,0,0,0]
[null,"Smart lighting L2",{"$f":"B80","v":"Smart lighting L2"},1,0,0,0,0,0,0,0,0,0,0,3,3,0,0,0]
[null,"Smart lighting L4",{"$f":"B81","v":"Smart lighting L4"},1,null,null,null,null,null,null,null,0,0,0,1,1,0,0,0]
[]
[null,"Total Energy Efficient Lights",null,null,{"$f":"SUM(E70:E78)","v":991},1696.1666666666665,2322.083333333333,5522.166666666667,9563.1838035103938,26212,32990,29582,31578,32256.209536110942,{"$f":"SUM(O70:O81)","v":32828.971914636815},35488.388749340236,36850,39353.117333333328,41538.999729777788]
[]
[null,"Total Number of Lights",null,null,{"$f":"SUM(E67,E83)","v":40249.716666666667},41403.383333333339,42139.383333333339,42757.416666666664,43236.337666362328,44697,55294,45641,48020,48665.209536110939,49237.971914636815,50294.809154263348,48081,48767.327003704784,49136.419070520693]

{"sheet":"Newer version of inputs","index":4,"n_rows":53,"n_cols":15,"rows_kept":53,"cut":false,"hidden":false,"merged":[]}
[]
[]
[null,null,2023,"Central lights",null,116111,null,2023,"N&E lights",48081]
[]
[null,null,null,"Average Yearly Growth (Central)",null,null,null,"Average Yearly Growth (N&E)",null,null,null,"Average years to HPS luminare or globes fail - for legacy lights"]
[null,null,null,2024,2.8000000000000001E-2,{"$f":"F3*(1+$E$6)-F3","v":3251.1080000000075},null,2024,2.8000000000000001E-2,{"$f":"J3*(1+$I6)-J3","v":1346.2680000000037},null,12]
[null,null,null,2025,2.8000000000000001E-2,{"$f":"F6*(1+$E6)","v":3342.1390240000078},null,2025,2.8000000000000001E-2,{"$f":"J6*(1+$I$6)","v":1383.9635040000037}]
[null,null,null,2026,2.8000000000000001E-2,{"$f":"F7*(1+$E7)","v":3435.7189166720082},null,2026,2.8000000000000001E-2,{"$f":"J7*(1+$I$6)","v":1422.7144821120039}]
[null,null,null,2027,2.8000000000000001E-2,{"$f":"F8*(1+$E8)","v":3531.9190463388245},null,2027,2.8000000000000001E-2,1462.5504876111399,null,"Failure rate of LED lights"]
[null,null,null,2028,2.8000000000000001E-2,3630.8127796363115,null,2028,2.8000000000000001E-2,1503.501901264252,null,0.01]
[null,null,null,2029,2.8000000000000001E-2,3732.4755374661281,null,2029,2.8000000000000001E-2,1545.5999544996509]
[null,null,null,2030,2.8000000000000001E-2,3836.9848525151797,null,2030,2.8000000000000001E-2,1588.8767532256413]
[null,null,null,2031,2.8000000000000001E-2,3944.4204283856047,null,2031,2.8000000000000001E-2,1633.3653023159593]
[]
[null,null,null,null,null,null,null,null,null,"2025–26","2026-27","2027–28","2028–29","2029–30","2030–31"]
[null,null,null,null,null,null,null,null,null,{"$f":"F7","v":3342.1390240000078},{"$f":"F8","v":3435.7189166720082},{"$f":"F9","v":3531.9190463388245},{"$f":"F10","v":3630.8127796363115},{"$f":"F11","v":3732.4755374661281},{"$f":"F12","v":3836.9848525151797}]
[null,null,null,null,null,null,null,null,null,"2025–26","2026-27","2027–28","2028–29","2029–30","2030–31"]
[null,null,null,null,null,null,null,null,null,{"$f":"J7","v":1383.9635040000037},{"$f":"J8","v":1422.7144821120039},{"$f":"J9","v":1462.5504876111399},{"$f":"J10","v":1503.501901264252},{"$f":"J11","v":1545.5999544996509},{"$f":"J12","v":1588.8767532256413}]
[]
[]
[null,null,null,null,null,null,null,null,null,"Non-standard CFLs",null,"Based on July 2025"]
[null,null,null,null,null,null,null,null,null,1648]
[null,null,null,null,null,null,null,null,null,2057]
[]
[]
[]
[null,null,null,null,null,null,"LED -street 18W",0.36555537373719971]
[null,null,null,null,null,null,"LED -street 14W",0.36555537373719971]
[null,null,null,null,null,null,"L1 equiv",0.18614946043010566]
[null,null,null,null,null,null,"L2 equiv",8.0354143879563522E-2]
[null,null,null,null,null,null,"L4 equiv",1.9894755880149168E-3]
[]
[]
[]
[]
[]
[]
[]
[]
[]
[]
[]
[]
[]
[]
[]
[]
[]
[null,null,null,null,null,null,"LED -street 18W",0.37658326573906531]
[null,null,null,null,null,null,"LED -street 14W",0.37658326573906531]
[null,null,null,null,null,null,"L1 equiv",0.13695638609845884]
[null,null,null,null,null,null,"L2 equiv",0.10068426197458455]
[null,null,null,null,null,null,"L4 equiv",8.0905139244192084E-3]

{"sheet":"RIN RY24","index":5,"n_rows":78,"n_cols":12,"rows_kept":78,"cut":false,"hidden":false,"merged":[]}
["4.1.1 - DESCRIPTOR METRICS OVER YEAR"]
[null,null,null,"VOLUME \n0's"]
[null,"LIGHT TYPE",null,"2023-24"]
["POPULATION OF LIGHTS","CC Mercury Vapour 125.000 W",null,88,"Mercury Vapour 125W",null,null,null,"Mercury Vapour 80W",null,null,{"$f":"SUM(D11:D13)","v":14878}]
[null,"CC Mercury Vapour 142.000 W",null,5,"Mercury Vapour 250W",null,null,null,"HP Sodium 150W",null,null,{"$f":"SUM(D19:D21)","v":12898}]
[null,"CC Mercury Vapour 250.000 W",null,190,"Mercury Vapour 250W",null,null,null,"HP Sodium 250W",null,null,{"$f":"SUM(D21:D23)","v":7941}]
[null,"CC Mercury Vapour 270.000 W",null,18,"Mercury Vapour 250W",null,null,null,"Mercury Vapour 50W",null,null,{"$f":"SUM(D10:D11)","v":74}]
[null,"CC Mercury Vapour 400.000 W",null,76,"Mercury Vapour 400W",null,null,null,"Mercury Vapour 125W",null,null,{"$f":"SUM(D4,)","v":88}]
[null,"CC Mercury Vapour 430.000 W",null,14,"Mercury Vapour 400W",null,null,null,"Mercury Vapour 250W",null,null,{"$f":"SUM(D5:D7,)","v":213}]
[null,"CC Mercury Vapour 50.000 W",null,46,"Mercury Vapour 50W",null,null,null,"Mercury Vapour 400W",null,null,{"$f":"SUM(D8:D9)","v":90}]
[null,"CC Mercury Vapour 65.000 W",null,28,"Mercury Vapour 80W",null,null,null,"HP Sodium 100W",null,null,{"$f":"SUM(D18)","v":2468}]
[null,"CC Mercury Vapour 80.000 W",null,14751,"Mercury Vapour 80W",null,null,null,"HP Sodium 400W",null,null,{"$f":"SUM(D24:D25)","v":178}]
[null,"CC Mercury Vapour 95.800 W",null,99,"Mercury Vapour 80W",null,null,null,"Metal Halide 70W",null,null,{"$f":"D75","v":54}]
[null,"Compact Flourescent 36.600 W",null,9,"Compact Fluorescent 42W - Partially-funded",null,null,null,"Metal Halide 150W",null,null,{"$f":"SUM(D73:D74)","v":32}]
[null,"Compact Flourescent 46.400 W",null,1,"Compact Fluorescent 42W - Partially-funded",null,null,null,"T5 2X14W - Partially-funded",null,null,{"$f":"D76","v":28556}]
[null,"Compact Fluorescent 32.000 W",null,3455,"Compact Fluorescent 32W - Partially-funded",null,null,null,"T5 2X24W - Partially-funded",null,null,{"$f":"SUM(D77:D78)","v":2674}]
[null,"Compact Fluorescent 42.000 W",null,3584,"Compact Fluorescent 42W - Partially-funded",null,null,null,"LED 18W - Partially-funded",null,null,{"$f":"SUM(D37:D39,D43:D44,D47:D53,D57:D58)","v":56591}]
[null,"HP Sodium 100.000 W",null,2468,"HP Sodium 100W",null,null,null,"LED 14W - Partially-funded",null,null,{"$f":"SUM(D29:D31,D36)","v":18508}]
[null,"HP Sodium 120.000 W",null,8,"HP Sodium 150W",null,null,null,"LED 18W Opt-in Smart Lighting - Partially-funded",null,null,0]
[null,"HP Sodium 150.000 W",null,12206,"HP Sodium 150W",null,null,null,"LED 14W Opt-in Smart Lighting - Partially-funded",null,null,0]
[null,"HP Sodium 173.000 W",null,684,"HP Sodium 150W",null,null,null,"LED 70W-125W (L1) - Partially-funded",null,null,{"$f":"SUM(D26:D28,D60:D64,D66:D72)","v":16965}]
[null,"HP Sodium 250.000 W",null,5724,"HP Sodium 250W",null,null,null,"LED 155W-250W (L2) - Partially-funded",null,null,{"$f":"SUM(D32:D35,D40:D42,D45:D46,D54)","v":8967}]
[null,"HP Sodium 273.000 W",null,1533,"HP Sodium 250W",null,null,null,"LED 275W-400W (L4) - Partially-funded",null,null,{"$f":"SUM(D55:D56,D59,D65)","v":444}]
[null,"HP Sodium 400.000 W",null,123,"HP Sodium 400W",null,null,null,"Compact Fluorescent 32W - Partially-funded",null,null,{"$f":"SUM(D16)","v":3455}]
[null,"HP Sodium 440.000 W",null,55,"HP Sodium 400W",null,null,null,"Compact Fluorescent 42W - Partially-funded",null,null,{"$f":"SUM(D14:D15,D17)","v":3594}]
[null,"LED 100.000 W",null,16,"LED 70W-125W (L1) - Partially-funded"]
[null,"LED 105.000 W",null,1769,"LED 70W-125W (L1) - Partially-funded"]
[null,"LED 117.000 W",null,13,"LED 70W-125W (L1) - Partially-funded"]
[null,"LED 12.000 W",null,240,"LED 14W - Partially-funded"]
[null,"LED 13.000 W",null,312,"LED 14W - Partially-funded"]
[null,"LED 14.000 W",null,17570,"LED 14W - Partially-funded"]
[null,"LED 150.000 W",null,4222,"LED 155W-250W (L2) - Partially-funded"]
[null,"LED 151.200 W",null,4,"LED 155W-250W (L2) - Partially-funded"]
[null,"LED 155.000 W",null,2781,"LED 155W-250W (L2) - Partially-funded"]
[null,"LED 156.600 W",null,19,"LED 155W-250W (L2) - Partially-funded"]
[null,"LED 16.000 W",null,386,"LED 14W - Partially-funded"]
[null,"LED 17.000 W",null,10170,"LED 18W - Partially-funded"]
[null,"LED 17.100 W",null,2,"LED 18W - Partially-funded"]
[null,"LED 17.700 W",null,3,"LED 18W - Partially-funded"]
[null,"LED 170.000 W",null,4,"LED 155W-250W (L2) - Partially-funded"]
[null,"LED 174.900 W",null,8,"LED 155W-250W (L2) - Partially-funded"]
[null,"LED 175.000 W",null,1235,"LED 155W-250W (L2) - Partially-funded"]
[null,"LED 18.000 W",null,37331,"LED 18W - Partially-funded"]
[null,"LED 19.000 W",null,99,"LED 18W - Partially-funded"]
[null,"LED 198.000 W",null,663,"LED 155W-250W (L2) - Partially-funded"]
[null,"LED 198.900 W",null,3,"LED 155W-250W (L2) - Partially-funded"]
[null,"LED 20.000 W",null,4,"LED 18W - Partially-funded"]
[null,"LED 21.000 W",null,293,"LED 18W - Partially-funded"]
[null,"LED 21.900 W",null,1,"LED 18W - Partially-funded"]
[null,"LED 22.000 W",null,7983,"LED 18W - Partially-funded"]
[null,"LED 23.000 W",null,633,"LED 18W - Partially-funded"]
[null,"LED 24.000 W",null,12,"LED 18W - Partially-funded"]
[null,"LED 25.000 W",null,18,"LED 18W - Partially-funded"]
[null,"LED 250.000 W",null,28,"LED 155W-250W (L2) - Partially-funded"]
[null,"LED 265.000 W",null,77,"LED 275W-400W (L4) - Partially-funded"]
[null,"LED 275.000 W",null,353,"LED 275W-400W (L4) - Partially-funded"]
[null,"LED 28.000 W",null,41,"LED 18W - Partially-funded"]
[null,"LED 29.000 W",null,1,"LED 18W - Partially-funded"]
[null,"LED 298.000 W",null,11,"LED 275W-400W (L4) - Partially-funded"]
[null,"LED 30.000 W",null,8,"LED 70W-125W (L1) - Partially-funded"]
[null,"LED 32.000 W",null,19,"LED 70W-125W (L1) - Partially-funded"]
[null,"LED 33.000 W",null,621,"LED 70W-125W (L1) - Partially-funded"]
[null,"LED 34.000 W",null,68,"LED 70W-125W (L1) - Partially-funded"]
[null,"LED 37.000 W",null,200,"LED 70W-125W (L1) - Partially-funded"]
[null,"LED 400.000 W",null,3,"LED 275W-400W (L4) - Partially-funded"]
[null,"LED 50.000 W",null,1,"LED 70W-125W (L1) - Partially-funded"]
[null,"LED 58.000 W",null,227,"LED 70W-125W (L1) - Partially-funded"]
[null,"LED 69.600 W",null,9,"LED 70W-125W (L1) - Partially-funded"]
[null,"LED 70.000 W",null,10220,"LED 70W-125W (L1) - Partially-funded"]
[null,"LED 74.000 W",null,6,"LED 70W-125W (L1) - Partially-funded"]
[null,"LED 75.000 W",null,3697,"LED 70W-125W (L1) - Partially-funded"]
[null,"LED 80.000 W",null,91,"LED 70W-125W (L1) - Partially-funded"]
[null,"Metal Halide 150.000 W",null,31]
[null,"Metal Halide 400.000 W",null,1]
[null,"Metal Halide 70.000 W",null,54]
[null,"T5 Fluor 14.000 W",null,28556,"T5 2X14W - Partially-funded"]
[null,"T5 Fluor 24.000 W",null,2668,"T5 2X24W - Partially-funded"]
[null,"T5 Fluor 30.500 W",null,6,"T5 2X24W - Partially-funded"]

{"sheet":"DNSP Inputs O&M","index":6,"n_rows":641,"n_cols":10,"rows_kept":641,"cut":false,"hidden":true,"merged":[[4,2,4,7],[2,2,2,7]]}
["Public Lighting Cost Build-up Model"]
[]
["AusNet",null,"O & M Data Inputs"]
[]
[null,null,{"$f":"Instructions!$B$18","v":"$Real Jun 2026"}]
[]
["Input parameters",null,{"$f":"EOMONTH(D7,-12)","v":"2026-06-30"},{"$f":"Instructions!$B$16","v":"2027-06-30"},{"$f":"EOMONTH(D7,12)","v":"2028-06-30"},{"$f":"EOMONTH(E7,12)","v":"2029-06-30"},{"$f":"EOMONTH(F7,12)","v":"2030-06-30"},{"$f":"EOMONTH(G7,12)","v":"2031-06-30"}]
[]
["Inputs - all lamps"]
[]
["Material premium for rural areas",null,0.05,0.05,0.05,0.05,0.05,0.05]
["Labour rate (per hour)",null,105.14613928035978,111.36223236834823,{"$f":"D12*(1+#REF!)","v":{"$error":"#REF!"}},{"$f":"E12*(1+#REF!)","v":{"$error":"#REF!"}},{"$f":"F12*(1+#REF!)","v":{"$error":"#REF!"}},{"$f":"G12*(1+#REF!)","v":{"$error":"#REF!"}},"approved ACS units - reg team "]
["Labour rate for night patrols (per hour)",null,131.42923029921559,143.47813587064053,{"$f":"D13*(1+#REF!)","v":{"$error":"#REF!"}},{"$f":"E13*(1+#REF!)","v":{"$error":"#REF!"}},{"$f":"F13*(1+#REF!)","v":{"$error":"#REF!"}},{"$f":"G13*(1+#REF!)","v":{"$error":"#REF!"}}]
["Elevated platform vehicle (per hour) - urban MV,urban T5",null,49.790457219554725,50.18,50.18,50.18,50.18,50.18]
["Elevated platform vehicle (per hour) - rural MV, rural T5, S-HP",null,89.971356195735396,63.64,63.64,63.64,63.64,63.64]
["Patrol vehicle (per hour)",null,34.106463195394987,34.369999999999997,34.369999999999997,34.369999999999997,34.369999999999997,34.369999999999997]
["Number of hours in a day",null,8,7.5,7.5,7.5,7.5,7.5]
["Indirect overheads",null,0.25,0.25,0.25,0.25,0.25,0.25]
[]
[]
[]
[{"$f":"#REF!","v":{"$error":"#REF!"}}]
[]
["Depreciation period","years",20,{"$f":"C24","v":20},{"$f":"D24","v":20},{"$f":"E24","v":20},{"$f":"F24","v":20},{"$f":"G24","v":20},"Unchanged fom previous EDPR period"]
["Lamps - bulk change","years",4,4,4,4,4,4,"Unchanged fom previous EDPR period"]
["PE cells - bulk change","years",8,8,8,8,8,8,"Unchanged fom previous EDPR period"]
["Proportion of lamps that fail between bulk change",null,0.107,0.19416850184289608,0.19416850184289608,0.19416850184289608,0.19416850184289608,0.19416850184289608,"TO UPDATE yearly globe failure x no. of years - janahdis"]
["Unit cost - lamp",null,6.111746931067044,4.71,4.71,4.71,4.71,4.71,"TO UPDATE "]
["Unit cost - PE cell",null,24.673806764877483,25.041364999999999,25.041364999999999,25.041364999999999,25.041364999999999,25.041364999999999,"Updated "]
["Unit cost - luminaire",null,212.03482530689328,237.46848582499996,237.46848582499996,237.46848582499996,237.46848582499996,237.46848582499996,"Updated "]
["Unit cost - miscellaneous materials (bulk lamp)",null,1.3373336999933596,1.3476456706921032,1.3476456706921032,1.3476456706921032,1.3476456706921032,1.3476456706921032,"TO UPDATE "]
["Unit cost - miscellaneous materials (repair)",null,13.373336999933597,13.476456706921033,13.476456706921033,13.476456706921033,13.476456706921033,13.476456706921033,"TO UPDATE "]
["Number of men in crew",null,2,2,2,2,2,2,"Unchanged fom previous EDPR period"]
["Number of bulk lamp changes in 1 day - urban",null,85,86,86,86,86,86,"Unchanged fom previous EDPR period"]
["Number of bulk lamp changes in 1 day - rural",null,70,72,72,72,72,72,"Unchanged fom previous EDPR period"]
["Number of bulk lamp changes in 1 day - remote",null,50,60,60,60,60,60,"Unchanged fom previous EDPR period"]
["Number of repairs in 1 day - urban",null,20,28.8,28.8,28.8,28.8,28.8,"Unchanged fom previous EDPR period"]
["Number of repairs in 1 day - rural",null,15,24,24,24,24,24,"Unchanged fom previous EDPR period"]
["Number of repairs in 1 day - remote",null,10,19.2,19.2,19.2,19.2,19.2,"Unchanged fom previous EDPR period"]
["   % of repairs - lamps",null,0.6,0.6,0.6,0.6,0.6,0.6,"Unchanged fom previous EDPR period"]
["   % of repairs - PE cells",null,0.5,0.5,0.5,0.5,0.5,0.5,"Unchanged fom previous EDPR period"]
["   % of repairs - luminaires",null,0.15,0.15,0.15,0.15,0.15,0.15,"Unchanged fom previous EDPR period"]
["   % of repairs - other",null,0.1,0.1,0.1,0.1,0.1,0.1,"Unchanged fom previous EDPR period"]
[]
["Other Maintenance and Repair costs"]
["Traffic control costs",null,6771.1475260162197,{"$f":"D49*D50-D47","v":{"$error":"#REF!"}},{"$f":"E49*E50-E47","v":{"$error":"#REF!"}},{"$f":"F49*F50-F47","v":{"$error":"#REF!"}},{"$f":"G49*G50-G47","v":{"$error":"#REF!"}},{"$f":"H49*H50-H47","v":{"$error":"#REF!"}},"TO UPDATE "]
["Other costs : Describe…………………………………….",null,0,0,0,0,0,0]
[null,null,{"$f":"SUM(C46:C47)","v":6771.1475260162197},{"$error":"#REF!"},{"$error":"#REF!"},{"$error":"#REF!"},{"$error":"#REF!"},{"$error":"#REF!"}]
["Number of Lights",null,{"$f":"C48/C50","v":34321.640010886862},{"$f":"SUMPRODUCT((#REF!=$A22)*(#REF!=D$7)*(#REF!))\n+SUMPRODUCT((#REF!=$A22)*(#REF!=D$7)*(#REF!))","v":{"$error":"#REF!"}},{"$f":"SUMPRODUCT((#REF!=$A22)*(#REF!=E$7)*(#REF!))\n+SUMPRODUCT((#REF!=$A22)*(#REF!=E$7)*(#REF!))","v":{"$error":"#REF!"}},{"$f":"SUMPRODUCT((#REF!=$A22)*(#REF!=F$7)*(#REF!))\n+SUMPRODUCT((#REF!=$A22)*(#REF!=F$7)*(#REF!))","v":{"$error":"#REF!"}},{"$f":"SUMPRODUCT((#REF!=$A22)*(#REF!=G$7)*(#REF!))\n+SUMPRODUCT((#REF!=$A22)*(#REF!=G$7)*(#REF!))","v":{"$error":"#REF!"}},{"$f":"SUMPRODUCT((#REF!=$A22)*(#REF!=H$7)*(#REF!))\n+SUMPRODUCT((#REF!=$A22)*(#REF!=H$7)*(#REF!))","v":{"$error":"#REF!"}}]
["Unit Cost",null,0.1972850808955634,2.1,2.1,2.1,2.1,2.1]
[]
["Other O & M costs specific to North/East zone"]
["Other N\\E O & M costs : Describe…………………………………….",null,2873.4725549580835,{"$f":"D54*D55","v":{"$error":"#REF!"}},{"$f":"E54*E55","v":{"$error":"#REF!"}},{"$f":"F54*F55","v":{"$error":"#REF!"}},{"$f":"G54*G55","v":{"$error":"#REF!"}},{"$f":"H54*H55","v":{"$error":"#REF!"}},"TO UPDATE "]
["Number of Lights",null,{"$f":"C53/C55","v":10840.222439976529},{"$f":"SUMPRODUCT((#REF!=$A22)*(#REF!=D$7)*(#REF!))","v":{"$error":"#REF!"}},{"$f":"SUMPRODUCT((#REF!=$A22)*(#REF!=E$7)*(#REF!))","v":{"$error":"#REF!"}},{"$f":"SUMPRODUCT((#REF!=$A22)*(#REF!=F$7)*(#REF!))","v":{"$error":"#REF!"}},{"$f":"SUMPRODUCT((#REF!=$A22)*(#REF!=G$7)*(#REF!))","v":{"$error":"#REF!"}},{"$f":"SUMPRODUCT((#REF!=$A22)*(#REF!=H$7)*(#REF!))","v":{"$error":"#REF!"}}]
["Unit Cost",null,0.26507505458202618,0.98,0.98,0.98000000000000009,0.98,0.98]
[]
["Location of selected public lighting assets within distributors' areas (%)"]
["SP AusNet - Central"]
["Urban",null,0.96,0.96,0.96,0.96,0.96,0.96,"Unchanged fom previous EDPR period"]
["Rural",null,0.04,0.04,0.04,0.04,0.04,0.04,"Unchanged fom previous EDPR period"]
["Remote",null,0,0,0,0,0,0,"Unchanged fom previous EDPR period"]
[]
["SP AusNet - North/East"]
["Urban",null,0.35,0.35,0.35,0.35,0.35,0.35,"Unchanged fom previous EDPR period"]
["Rural",null,0.53,0.53,0.53,0.53,0.53,0.53,"Unchanged fom previous EDPR period"]
["Remote",null,0.12,0.12,0.12,0.12,0.12,0.12,"Unchanged fom previous EDPR period"]
[]
[]
[]
[{"$f":"#REF!","v":{"$error":"#REF!"}}]
[]
["Depreciation period ","years",20,{"$f":"C72","v":20},{"$f":"D72","v":20},{"$f":"E72","v":20},{"$f":"F72","v":20},{"$f":"G72","v":20}]
["Number of patrols per year",null,3,{"$f":"C73","v":3},3,3,3,3]
["Lamps - frequency of replacement","years",5,5,5,5,5,5]
["PE cells - frequency of replacement","years",10,10,10,10,10,10]
["Unit cost - lamp",null,44.197695939565627,19.329999999999998,19.329999999999998,19.329999999999998,19.329999999999998,19.329999999999998]
["Unit cost - PE cell",null,24.005139914880804,25.041364999999999,25.041364999999999,25.041364999999999,25.041364999999999,25.041364999999999,"Updated "]
["Unit cost - miscellaneous materials",null,2.6746673999867192,2.6952913413842063,2.6952913413842063,2.6952913413842063,2.6952913413842063,2.6952913413842063]
["Number of men in crew - road patrols",null,2,2,2,2,2,2]
["Number of men in crew - repairs",null,2,2,2,2,2,2]
["Number of lamps patrolled in 1 day - urban",null,3000,3000,3000,3000,3000,3000]
["Number of lamps patrolled in 1 day - rural",null,2000,2000,2000,2000,2000,2000]
["Number of lamps patrolled in 1 day - remote",null,1000,1000,1000,1000,1000,1000]
["Number of repairs in 1 day - urban",null,15,15,15,15,15,15]
["Number of repairs in 1 day - rural",null,12,11,11,11,11,11]
["Number of repairs in 1 day - remote",null,9,9,9,9,9,9]
[]
["Other Maintenance and Repair costs"]
["Traffic control costs",null,4101.2817430757059,54736.60844435032,52834.474946450238,50974.889413689089,49156.956467786811,47359.628507272704]
["Other costs : Describe…………………………………….",null,995.80914439109449,0,0,0,0,0]
[null,null,{"$f":"SUM(C89:C90)","v":5097.0908874668003},54736.60844435032,52834.474946450238,50974.889413689089,49156.956467786811,47359.628507272704]
["Number of Lights",null,{"$f":"C91/C93","v":20788.605628252233},{"$f":"SUMPRODUCT((#REF!=$A70)*(#REF!=D$7)*(#REF!))\n+SUMPRODUCT((#REF!=$A70)*(#REF!=D$7)*(#REF!))","v":{"$error":"#REF!"}},{"$f":"SUMPRODUCT((#REF!=$A70)*(#REF!=E$7)*(#REF!))\n+SUMPRODUCT((#REF!=$A70)*(#REF!=E$7)*(#REF!))","v":{"$error":"#REF!"}},{"$f":"SUMPRODUCT((#REF!=$A70)*(#REF!=F$7)*(#REF!))\n+SUMPRODUCT((#REF!=$A70)*(#REF!=F$7)*(#REF!))","v":{"$error":"#REF!"}},{"$f":"SUMPRODUCT((#REF!=$A70)*(#REF!=G$7)*(#REF!))\n+SUMPRODUCT((#REF!=$A70)*(#REF!=G$7)*(#REF!))","v":{"$error":"#REF!"}},{"$f":"SUMPRODUCT((#REF!=$A70)*(#REF!=H$7)*(#REF!))\n+SUMPRODUCT((#REF!=$A70)*(#REF!=H$7)*(#REF!))","v":{"$error":"#REF!"}}]
["Unit Cost",null,0.24518676137372708,{"$f":"D91/D92","v":{"$error":"#REF!"}},{"$f":"E91/E92","v":{"$error":"#REF!"}},{"$f":"F91/F92","v":{"$error":"#REF!"}},{"$f":"G91/G92","v":{"$error":"#REF!"}},{"$f":"H91/H92","v":{"$error":"#REF!"}}]
[]
["Other O & M costs specific to North/East zone"]
["Other N\\E O & M costs : Describe…………………………………….",null,1401.1194879799334,8769.0488596421874,8434.927770089962,8108.8102320282587,7790.55049767944,7476.183726156798]
["Number of Lights",null,{"$f":"C96/C98","v":5285.746296230087},{"$f":"SUMPRODUCT((#REF!=$A70)*(#REF!=D$7)*(#REF!))","v":{"$error":"#REF!"}},{"$f":"SUMPRODUCT((#REF!=$A70)*(#REF!=E$7)*(#REF!))","v":{"$error":"#REF!"}},{"$f":"SUMPRODUCT((#REF!=$A70)*(#REF!=F$7)*(#REF!))","v":{"$error":"#REF!"}},{"$f":"SUMPRODUCT((#REF!=$A70)*(#REF!=G$7)*(#REF!))","v":{"$error":"#REF!"}},{"$f":"SUMPRODUCT((#REF!=$A70)*(#REF!=H$7)*(#REF!))","v":{"$error":"#REF!"}}]
["Unit Cost",null,0.26507505458202624,{"$f":"D96/D97","v":{"$error":"#REF!"}},{"$f":"E96/E97","v":{"$error":"#REF!"}},{"$f":"F96/F97","v":{"$error":"#REF!"}},{"$f":"G96/G97","v":{"$error":"#REF!"}},{"$f":"H96/H97","v":{"$error":"#REF!"}}]
[]
["Location of selected public lighting assets within distributors' areas (%)"]
["SP AusNet - Central"]
["Urban",null,0.94,0.94,0.94,0.94,0.94,0.94]
["Rural",null,0.06,0.06,0.06,0.06,0.06,0.06]
["Remote",null,0,0,0,0,0,0]
[]
["SP AusNet - North/East"]
["Urban",null,0.3,0.3,0.3,0.3,0.3,0.3]
["Rural",null,0.63,0.63,0.63,0.63,0.63,0.63]
["Remote",null,7.0000000000000007E-2,7.0000000000000007E-2,7.0000000000000007E-2,7.0000000000000007E-2,7.0000000000000007E-2,7.0000000000000007E-2]
[]
[]
[]
[{"$f":"#REF!","v":{"$error":"#REF!"}}]
[]
["Depreciation period ","years",{"$f":"C72","v":20},20,20,20,20,20]
["Number of patrols per year",null,{"$f":"C73","v":3},3,3,3,3,3]
["Lamps - frequency of replacement","years",{"$f":"C74","v":5},5,5,5,5,5]
["PE cells - frequency of replacement","years",{"$f":"C75","v":10},10,10,10,10,10]
["Unit cost - lamp",null,44.417148253068923,21.28,21.28,21.28,21.28,21.28]
["Unit cost - PE cell",null,24.005139914880804,25.041364999999999,25.041364999999999,25.041364999999999,25.041364999999999,25.041364999999999,"Updated "]
["Unit cost - miscellaneous materials",null,2.6746673999867192,2.548069545426245,2.548069545426245,2.548069545426245,2.548069545426245,2.548069545426245]
["Number of men in crew - road patrols",null,{"$f":"C79","v":2},2,2,2,2,2]
["Number of men in crew - repairs",null,{"$f":"C80","v":2},2,2,2,2,2]
["Number of lamps patrolled in 1 day - urban",null,{"$f":"C81","v":3000},3000,3000,3000,3000,3000]
["Number of lamps patrolled in 1 day - rural",null,{"$f":"C82","v":2000},2000,2000,2000,2000,2000]
["Number of lamps patrolled in 1 day - remote",null,{"$f":"C83","v":1000},1000,1000,1000,1000,1000]
["Number of repairs in 1 day - urban",null,{"$f":"C84","v":15},15,15,15,15,15]
["Number of repairs in 1 day - rural",null,{"$f":"C85","v":12},11,11,11,11,11]
["Number of repairs in 1 day - remote",null,{"$f":"C86","v":9},9,9,9,9,9]
[]
["Other Maintenance and Repair costs"]
["Traffic control costs",null,2396.6019610809972,41324.634121010626,39886.865469064607,38481.499489999609,37107.853640535555,35749.89366171111]
["Other costs : Describe…………………………………….",null,995.80914439109449,0,0,0,0,0]
[null,null,{"$f":"SUM(C132:C133)","v":3392.4111054720915},41324.634121010626,39886.865469064607,38481.499489999609,37107.853640535555,35749.89366171111]
["Number of Lights",null,{"$f":"C134/C136","v":12147.912808215253},{"$f":"SUMPRODUCT((#REF!=$A113)*(#REF!=D$7)*(#REF!))\n+SUMPRODUCT((#REF!=$A113)*(#REF!=D$7)*(#REF!))","v":{"$error":"#REF!"}},{"$f":"SUMPRODUCT((#REF!=$A113)*(#REF!=E$7)*(#REF!))\n+SUMPRODUCT((#REF!=$A113)*(#REF!=E$7)*(#REF!))","v":{"$error":"#REF!"}},{"$f":"SUMPRODUCT((#REF!=$A113)*(#REF!=F$7)*(#REF!))\n+SUMPRODUCT((#REF!=$A113)*(#REF!=F$7)*(#REF!))","v":{"$error":"#REF!"}},{"$f":"SUMPRODUCT((#REF!=$A113)*(#REF!=G$7)*(#REF!))\n+SUMPRODUCT((#REF!=$A113)*(#REF!=G$7)*(#REF!))","v":{"$error":"#REF!"}},{"$f":"SUMPRODUCT((#REF!=$A113)*(#REF!=H$7)*(#REF!))\n+SUMPRODUCT((#REF!=$A113)*(#REF!=H$7)*(#REF!))","v":{"$error":"#REF!"}}]
["Unit Cost",null,0.2792587631331952,{"$f":"D134/D135","v":{"$error":"#REF!"}},{"$f":"E134/E135","v":{"$error":"#REF!"}},{"$f":"F134/F135","v":{"$error":"#REF!"}},{"$f":"G134/G135","v":{"$error":"#REF!"}},{"$f":"H134/H135","v":{"$error":"#REF!"}}]
[]
["Other O & M costs specific to North/East zone"]
["Other N\\E O & M costs : Describe…………………………………….",null,1368.9019441940025,7817.865259196542,7554.2292916463148,7296.2906901606721,7043.9264977740977,6794.3181261733116]
["Number of Lights",null,{"$f":"C139/C141","v":5164.2050827925132},{"$f":"SUMPRODUCT((#REF!=$A113)*(#REF!=D$7)*(#REF!))","v":{"$error":"#REF!"}},{"$f":"SUMPRODUCT((#REF!=$A113)*(#REF!=E$7)*(#REF!))","v":{"$error":"#REF!"}},{"$f":"SUMPRODUCT((#REF!=$A113)*(#REF!=F$7)*(#REF!))","v":{"$error":"#REF!"}},{"$f":"SUMPRODUCT((#REF!=$A113)*(#REF!=G$7)*(#REF!))","v":{"$error":"#REF!"}},{"$f":"SUMPRODUCT((#REF!=$A113)*(#REF!=H$7)*(#REF!))","v":{"$error":"#REF!"}}]
["Unit Cost",null,0.26507505458202618,{"$f":"D139/D140","v":{"$error":"#REF!"}},{"$f":"E139/E140","v":{"$error":"#REF!"}},{"$f":"F139/F140","v":{"$error":"#REF!"}},{"$f":"G139/G140","v":{"$error":"#REF!"}},{"$f":"H139/H140","v":{"$error":"#REF!"}}]
[]
["Location of selected public lighting assets within distributors' areas (%)"]
["SP AusNet - Central"]
["Urban",null,0.9,0.9,0.9,0.9,0.9,0.9]
["Rural",null,0.1,0.1,0.1,0.1,0.1,0.1]
["Remote",null,0,0,0,0,0,0]
[]
["SP AusNet - North/East"]
["Urban",null,0.37,0.37,0.37,0.37,0.37,0.37]
["Rural",null,0.56999999999999995,0.56999999999999995,0.56999999999999995,0.56999999999999995,0.56999999999999995,0.56999999999999995]
["Remote",null,0.06,0.06,0.06,0.06,0.06,0.06]
[]
[]
[]
["Dedicated street lighting poles"]
[]
["Period of inspection","years",5,5,5,5,5,5]
["Pole inspection rate","per day",75,75,75,75,75,75]
["Depreciation of dedicated street lighting pole & bracket","years",35,{"$f":"C160","v":35},{"$f":"D160","v":35},{"$f":"E160","v":35},{"$f":"F160","v":35},{"$f":"G160","v":35}]
["Proportion of lights on dedicated poles"]
["SP AusNet - Central",null,0.38119062500000001,0.38119062500000001,0.38119062500000001,0.38119062500000001,0.38119062500000001,0.38119062500000001]
["SP AusNet - North/East",null,0.38296744016378254,0.38296744016378254,0.38296744016378254,0.38296744016378254,0.38296744016378254,0.38296744016378254]
[]
[]
[]
["Other direct costs"]
["Call centre"]
["Number of calls",null,4000,4000,4000,4000,4000,4000]
["Average cost per call $",null,16.030991501416427,15.61,16.61,17.61,18.61,19.61]
[null,null,{"$f":"C169*C170","v":64123.966005665709},62440,66440,70440,74440,78440]
[]
["GIS and other",null,124476.14304888682,118584.41510767433,118584.41510767433,118584.41510767433,118584.41510767433,118584.41510767433]
["Complaints handling",null,37342.842914666042,35575.3245323023,35575.3245323023,35575.3245323023,35575.3245323023,35575.3245323023]
[]
[]
[]
["ENERGY EFFICIENT LIGHTS"]
[]
[{"$f":"#REF!","v":{"$error":"#REF!"}}]
[]
["Depreciation period","years",20,{"$f":"C182","v":20},{"$f":"D182","v":20},{"$f":"E182","v":20},{"$f":"F182","v":20},{"$f":"G182","v":20}]
["Lamps - bulk change","years",4,4,4,4,4,4]
["PE cells - bulk change","years",8,8,8,8,8,8]
["Ballast unit life","years",20,{"$f":"C185","v":20},{"$f":"D185","v":20},{"$f":"E185","v":20},{"$f":"F185","v":20},{"$f":"G185","v":20}]
["Proportion of luminaires that fail between bulk change",null,0.114,0.41565636121546606,0.41565636121546606,0.41565636121546606,0.41565636121546606,0.41565636121546606]
["Unit cost - lamp",null,10.698300283286118,8.1,8.1,8.1,8.1,8.1]
["Unit cost - PE cell",null,18.05400494991035,15.120000000000001,15.120000000000001,15.120000000000001,15.120000000000001,15.120000000000001]
["Unit cost - luminaire",null,258.10883852691217,260.27999999999997,260.27999999999997,260.27999999999997,260.27999999999997,260.27999999999997]
["Unit cost - miscellaneous materials (bulk lamp)",null,1.3373336999933596,1.3476456706921032,1.3476456706921032,1.3476456706921032,1.3476456706921032,1.3476456706921032]
["Unit cost - miscellaneous materials (repair)",null,13.373336999933597,13.476456706921033,13.476456706921033,13.476456706921033,13.476456706921033,13.476456706921033]
["Number of men in crew",null,2,2,2,2,2,2]
["Number of bulk lamp changes in 1 day - urban",null,85,73.92,73.92,73.92,73.92,73.92]
["Number of bulk lamp changes in 1 day - rural",null,70,61.44,61.44,61.44,61.44,61.44]
["Number of bulk lamp changes in 1 day - remote",null,50,48.96,48.96,48.96,48.96,48.96]
["Number of repairs in 1 day - urban",null,20,24.96,24.96,24.96,24.96,24.96]
["Number of repairs in 1 day - rural",null,15,20.16,20.16,20.16,20.16,20.16]
["Number of repairs in 1 day - remote",null,10,16.32,16.32,16.32,16.32,16.32]
["   % of repairs - lamps",null,0.6,0.6,0.6,0.6,0.6,0.6]
["   % of repairs - PE cells",null,0.5,0.5,0.5,0.5,0.5,0.5]
["   % of repairs - luminaires",null,0.15,0,0,0,0,0]
["   % of repairs - other",null,0.1,0.1,0.1,0.1,0.1,0.1]
[]
["Other Maintenance and Repair costs"]
["Traffic control costs",null,7051.2759824612167,30287.25,30287.25,30287.25,30287.25,30287.25]
["Other costs : Describe…………………………………….",null,0,0,0,0,0,0]
[null,null,{"$f":"SUM(C205:C206)","v":7051.2759824612167},30287.25,30287.25,30287.25,30287.25,30287.25]
["Number of Lights",null,{"$f":"C207/C209","v":35741.557093178999},{"$f":"SUMPRODUCT((#REF!=$A180)*(#REF!=D$7)*(#REF!))\n+SUMPRODUCT((#REF!=$A180)*(#REF!=D$7)*(#REF!))","v":{"$error":"#REF!"}},{"$f":"SUMPRODUCT((#REF!=$A180)*(#REF!=E$7)*(#REF!))\n+SUMPRODUCT((#REF!=$A180)*(#REF!=E$7)*(#REF!))","v":{"$error":"#REF!"}},{"$f":"SUMPRODUCT((#REF!=$A180)*(#REF!=F$7)*(#REF!))\n+SUMPRODUCT((#REF!=$A180)*(#REF!=F$7)*(#REF!))","v":{"$error":"#REF!"}},{"$f":"SUMPRODUCT((#REF!=$A180)*(#REF!=G$7)*(#REF!))\n+SUMPRODUCT((#REF!=$A180)*(#REF!=G$7)*(#REF!))","v":{"$error":"#REF!"}},{"$f":"SUMPRODUCT((#REF!=$A180)*(#REF!=H$7)*(#REF!))\n+SUMPRODUCT((#REF!=$A180)*(#REF!=H$7)*(#REF!))","v":{"$error":"#REF!"}}]
["Unit Cost",null,0.1972850808955634,{"$f":"D207/D208","v":{"$error":"#REF!"}},{"$f":"E207/E208","v":{"$error":"#REF!"}},{"$f":"F207/F208","v":{"$error":"#REF!"}},{"$f":"G207/G208","v":{"$error":"#REF!"}},{"$f":"H207/H208","v":{"$error":"#REF!"}}]
[]
["Other O & M costs specific to North/East zone"]
["Other N\\E O & M costs : Describe…………………………………….",null,3466.0715928848704,7762.58,7762.58,7762.58,7762.58,7762.58]
["Number of Lights",null,{"$f":"C212/C214","v":13075.812050101122},{"$f":"SUMPRODUCT((#REF!=$A180)*(#REF!=D$7)*(#REF!))","v":{"$error":"#REF!"}},{"$f":"SUMPRODUCT((#REF!=$A180)*(#REF!=E$7)*(#REF!))","v":{"$error":"#REF!"}},{"$f":"SUMPRODUCT((#REF!=$A180)*(#REF!=F$7)*(#REF!))","v":{"$error":"#REF!"}},{"$f":"SUMPRODUCT((#REF!=$A180)*(#REF!=G$7)*(#REF!))","v":{"$error":"#REF!"}},{"$f":"SUMPRODUCT((#REF!=$A180)*(#REF!=H$7)*(#REF!))","v":{"$error":"#REF!"}}]
["Unit Cost",null,0.26507505458202618,{"$f":"D212/D213","v":{"$error":"#REF!"}},{"$f":"E212/E213","v":{"$error":"#REF!"}},{"$f":"F212/F213","v":{"$error":"#REF!"}},{"$f":"G212/G213","v":{"$error":"#REF!"}},{"$f":"H212/H213","v":{"$error":"#REF!"}}]
[]
["Location of selected public lighting assets within distributors' areas (%)"]
["SP AusNet - Central"]
["Urban",null,0.96,0.96,0.96,0.96,0.96,0.96]
["Rural",null,0.04,0.04,0.04,0.04,0.04,0.04]
["Remote",null,0,0,0,0,0,0]
[]
["SP AusNet - North/East"]
["Urban",null,0.35,0.35,0.35,0.35,0.35,0.35]
["Rural",null,0.53,0.53,0.53,0.53,0.53,0.53]
["Remote",null,0.12,0.12,0.12,0.12,0.12,0.12]
[]
[]
[]
[{"$f":"#REF!","v":{"$error":"#REF!"}}]
[]
["Depreciation period","years",20,{"$f":"C231","v":20},{"$f":"D231","v":20},{"$f":"E231","v":20},{"$f":"F231","v":20},{"$f":"G231","v":20}]
["Lamps - bulk change","years",4,4,4,4,4,4]
["PE cells - bulk change","years",8,8,8,8,8,8]
["Ballast unit life",null,20,{"$f":"C234","v":20},{"$f":"D234","v":20},{"$f":"E234","v":20},{"$f":"F234","v":20},{"$f":"G234","v":20}]
["Proportion of luminaires that fail between bulk change",null,0.114,0.41565636121546606,0.41565636121546606,0.41565636121546606,0.41565636121546606,0.41565636121546606]
["Unit cost - lamp",null,18.455939565627951,8.1,8.1,8.1,8.1,8.1]
["Unit cost - PE cell",null,23.403339749883791,15.120000000000001,15.120000000000001,15.120000000000001,15.120000000000001,15.120000000000001]
["Unit cost - luminaire",null,286.18776203966002,267.33,267.33,267.33,267.33,267.33]
["Unit cost - miscellaneous materials (bulk lamp)",null,1.3373336999933596,1.3476456706921032,1.3476456706921032,1.3476456706921032,1.3476456706921032,1.3476456706921032]
["Unit cost - miscellaneous materials (repair)",null,13.373336999933597,13.476456706921033,13.476456706921033,13.476456706921033,13.476456706921033,13.476456706921033]
["Number of men in crew",null,2,2,2,2,2,2]
["Number of bulk lamp changes in 1 day - urban",null,85,{"$f":"D193","v":73.92},73.92,73.92,73.92,73.92]
["Number of bulk lamp changes in 1 day - rural",null,70,61.44,61.44,61.44,61.44,61.44]
["Number of bulk lamp changes in 1 day - remote",null,50,48.96,48.96,48.96,48.96,48.96]
["Number of repairs in 1 day - urban",null,20,24.96,24.96,24.96,24.96,24.96]
["Number of repairs in 1 day - rural",null,15,20.16,20.16,20.16,20.16,20.16]
["Number of repairs in 1 day - remote",null,10,16.32,16.32,16.32,16.32,16.32]
["   % of repairs - lamps",null,0.6,0.6,0.6,0.6,0.6,0.6]
["   % of repairs - PE cells",null,0.5,0.5,0.5,0.5,0.5,0.5]
["   % of repairs - luminaires",null,0.15,0,0,0,0,0]
["   % of repairs - other",null,0.1,0.1,0.1,0.1,0.1,0.1]
[]
["Other Maintenance and Repair costs"]
["Traffic control costs",null,508.07466243803941,2938.9500000000003,2938.9500000000003,2938.9500000000003,2938.9500000000003,2938.9500000000003]
["Other costs : Describe…………………………………….",null,0,0,0,0,0,0]
[null,null,{"$f":"SUM(C254:C255)","v":508.07466243803941},2938.9500000000003,2938.9500000000003,2938.9500000000003,2938.9500000000003,2938.9500000000003]
["Number of Lights",null,{"$f":"C256/C258","v":2575.3324079634708},{"$f":"SUMPRODUCT((#REF!=$A229)*(#REF!=D$7)*(#REF!))\n+SUMPRODUCT((#REF!=$A229)*(#REF!=D$7)*(#REF!))","v":{"$error":"#REF!"}},{"$f":"SUMPRODUCT((#REF!=$A229)*(#REF!=E$7)*(#REF!))\n+SUMPRODUCT((#REF!=$A229)*(#REF!=E$7)*(#REF!))","v":{"$error":"#REF!"}},{"$f":"SUMPRODUCT((#REF!=$A229)*(#REF!=F$7)*(#REF!))\n+SUMPRODUCT((#REF!=$A229)*(#REF!=F$7)*(#REF!))","v":{"$error":"#REF!"}},{"$f":"SUMPRODUCT((#REF!=$A229)*(#REF!=G$7)*(#REF!))\n+SUMPRODUCT((#REF!=$A229)*(#REF!=G$7)*(#REF!))","v":{"$error":"#REF!"}},{"$f":"SUMPRODUCT((#REF!=$A229)*(#REF!=H$7)*(#REF!))\n+SUMPRODUCT((#REF!=$A229)*(#REF!=H$7)*(#REF!))","v":{"$error":"#REF!"}}]
["Unit Cost",null,0.1972850808955634,{"$f":"D256/D257","v":{"$error":"#REF!"}},{"$f":"E256/E257","v":{"$error":"#REF!"}},{"$f":"F256/F257","v":{"$error":"#REF!"}},{"$f":"G256/G257","v":{"$error":"#REF!"}},{"$f":"H256/H257","v":{"$error":"#REF!"}}]
[]
["Other O & M costs specific to North/East zone"]
["Other N\\E O & M costs : Describe…………………………………….",null,67.3289113720313,1127,1127,1127,1127,1127]
["Number of Lights",null,{"$f":"C261/C263","v":253.9994247221656},{"$f":"SUMPRODUCT((#REF!=$A229)*(#REF!=D$7)*(#REF!))","v":{"$error":"#REF!"}},{"$f":"SUMPRODUCT((#REF!=$A229)*(#REF!=E$7)*(#REF!))","v":{"$error":"#REF!"}},{"$f":"SUMPRODUCT((#REF!=$A229)*(#REF!=F$7)*(#REF!))","v":{"$error":"#REF!"}},{"$f":"SUMPRODUCT((#REF!=$A229)*(#REF!=G$7)*(#REF!))","v":{"$error":"#REF!"}},{"$f":"SUMPRODUCT((#REF!=$A229)*(#REF!=H$7)*(#REF!))","v":{"$error":"#REF!"}}]
["Unit Cost",null,0.26507505458202618,{"$f":"D261/D262","v":{"$error":"#REF!"}},{"$f":"E261/E262","v":{"$error":"#REF!"}},{"$f":"F261/F262","v":{"$error":"#REF!"}},{"$f":"G261/G262","v":{"$error":"#REF!"}},{"$f":"H261/H262","v":{"$error":"#REF!"}}]
[]
["Location of selected public lighting assets within distributors' areas (%)"]
["SP AusNet - Central"]
["Urban",null,0.96,0.96,0.96,0.96,0.96,0.96]
["Rural",null,0.04,0.04,0.04,0.04,0.04,0.04]
["Remote",null,0,0,0,0,0,0]
[]
["SP AusNet - North/East"]
["Urban",null,0.35,0.35,0.35,0.35,0.35,0.35]
["Rural",null,0.53,0.53,0.53,0.53,0.53,0.53]
["Remote",null,0.12,0.12,0.12,0.12,0.12,0.12]
[]
[]
[]
[]
[]
[{"$f":"#REF!","v":{"$error":"#REF!"}}]
[]
["Depreciation period","years",20,{"$f":"C282","v":20},{"$f":"D282","v":20},{"$f":"E282","v":20},{"$f":"F282","v":20},{"$f":"G282","v":20}]
["PE cells - bulk change","years",20,8,8,8,8,8]
["Proportion of PE cells that fail between PE cell bulk change",null,0.05,4.2746393209543501E-2,4.2746393209543501E-2,4.2746393209543501E-2,4.2746393209543501E-2,4.2746393209543501E-2]
["Unit cost - PE cell",null,39.290404590687878,25.041364999999999,25.041364999999999,25.041364999999999,25.041364999999999,25.041364999999999,"check - ony one rate PE cell? Why was this higher?"]
["Unit cost - luminaire",null,391.14159061523941,602.8983467999999,602.8983467999999,602.8983467999999,602.8983467999999,602.8983467999999,"check update- big jump?"]
["Unit cost - miscellaneous materials (repair)",null,23.011004175291369,23.188438424353883,23.188438424353883,23.188438424353883,23.188438424353883,23.188438424353883]
["Number of men in crew",null,2,2,2,2,2,2]
["Number of bulk PE cells changes in 1 day - urban",null,0,73.92,73.92,73.92,73.92,73.92]
["Number of bulk PE cells changes in 1 day - rural",null,0,61.44,61.44,61.44,61.44,61.44]
["Number of bulk PE cells changes in 1 day - remote",null,0,48.96,48.96,48.96,48.96,48.96]
["Number of repairs in 1 day - urban",null,20,24.96,24.96,24.96,24.96,24.96]
["Number of repairs in 1 day - rural",null,15,20.16,20.16,20.16,20.16,20.16]
["Number of repairs in 1 day - remote",null,10,16.32,16.32,16.32,16.32,16.32]
["   % of repairs - PE cells",null,0.5,0.9,0.9,0.9,0.9,0.9]
["   % of repairs - luminaires",null,0.15,0,0,0,0,0]
["   % of repairs - other",null,0.1,0.1,0.1,0.1,0.1,0.1]
[]
["Other Maintenance and Repair costs"]
["Traffic control costs",null,3120.1721052807725,{"$f":"D303*D304-D301","v":{"$error":"#REF!"}},{"$f":"E303*E304-E301","v":{"$error":"#REF!"}},{"$f":"F303*F304-F301","v":{"$error":"#REF!"}},{"$f":"G303*G304-G301","v":{"$error":"#REF!"}},{"$f":"H303*H304-H301","v":{"$error":"#REF!"}}]
["Other costs : Describe…………………………………….",null,0,0,0,0,0,0]
[null,null,{"$f":"SUM(C300:C301)","v":3120.1721052807725},{"$error":"#REF!"},{"$error":"#REF!"},{"$error":"#REF!"},{"$error":"#REF!"},{"$error":"#REF!"}]
["Number of Lights",null,{"$f":"C302/C304","v":13570.694263197212},{"$f":"SUMPRODUCT((#REF!=$A280)*(#REF!=D$7)*(#REF!))\n+SUMPRODUCT((#REF!=$A280)*(#REF!=D$7)*(#REF!))","v":{"$error":"#REF!"}},{"$f":"SUMPRODUCT((#REF!=$A280)*(#REF!=E$7)*(#REF!))\n+SUMPRODUCT((#REF!=$A280)*(#REF!=E$7)*(#REF!))","v":{"$error":"#REF!"}},{"$f":"SUMPRODUCT((#REF!=$A280)*(#REF!=F$7)*(#REF!))\n+SUMPRODUCT((#REF!=$A280)*(#REF!=F$7)*(#REF!))","v":{"$error":"#REF!"}},{"$f":"SUMPRODUCT((#REF!=$A280)*(#REF!=G$7)*(#REF!))\n+SUMPRODUCT((#REF!=$A280)*(#REF!=G$7)*(#REF!))","v":{"$error":"#REF!"}},{"$f":"SUMPRODUCT((#REF!=$A280)*(#REF!=H$7)*(#REF!))\n+SUMPRODUCT((#REF!=$A280)*(#REF!=H$7)*(#REF!))","v":{"$error":"#REF!"}}]
["Unit Cost",null,0.22991985853977009,1.05,1.05,1.05,1.05,1.05]
[]
["Other O & M costs specific to North/East zone"]
["Other N\\E O & M costs : Describe…………………………………….",null,40.174401059670821,{"$f":"D308*D309","v":{"$error":"#REF!"}},{"$f":"E308*E309","v":{"$error":"#REF!"}},{"$f":"F308*F309","v":{"$error":"#REF!"}},{"$f":"G308*G309","v":{"$error":"#REF!"}},{"$f":"H308*H309","v":{"$error":"#REF!"}}]
["Number of Lights",null,{"$f":"C307/C309","v":151.55858827613312},{"$f":"SUMPRODUCT((#REF!=$A280)*(#REF!=D$7)*(#REF!))","v":{"$error":"#REF!"}},{"$f":"SUMPRODUCT((#REF!=$A280)*(#REF!=E$7)*(#REF!))","v":{"$error":"#REF!"}},{"$f":"SUMPRODUCT((#REF!=$A280)*(#REF!=F$7)*(#REF!))","v":{"$error":"#REF!"}},{"$f":"SUMPRODUCT((#REF!=$A280)*(#REF!=G$7)*(#REF!))","v":{"$error":"#REF!"}},{"$f":"SUMPRODUCT((#REF!=$A280)*(#REF!=H$7)*(#REF!))","v":{"$error":"#REF!"}}]
["Unit Cost",null,0.26507505458202618,0.98,0.98,0.98000000000000009,0.98000000000000009,0.97999999999999987]
[]
[]
[]
["Location of selected public lighting assets within distributors' areas (%)"]
["SP AusNet - Central"]
["Urban",null,0.96,0.96,0.96,0.96,0.96,0.96]
["Rural",null,0.04,0.04,0.04,0.04,0.04,0.04]
["Remote",null,0,0,0,0,0,0]
[]
["SP AusNet - North/East"]
["Urban",null,0.35,0.35,0.35,0.35,0.35,0.35]
["Rural",null,0.53,0.53,0.53,0.53,0.53,0.53]
["Remote",null,0.12,0.12,0.12,0.12,0.12,0.12]
[]
[]
[]
[{"$f":"#REF!","v":{"$error":"#REF!"}}]
[null,null,null,null,null,null,null,null,null,"delete 14W? Same cat as above"]
["Depreciation period",null,null,20,20,20,20,20]
["PE cells - bulk change",null,null,8,8,8,8,8]
["Proportion of PE cells that fail between PE cell bulk change",null,null,4.2746393209543501E-2,4.2746393209543501E-2,4.2746393209543501E-2,4.2746393209543501E-2,4.2746393209543501E-2]
["Unit cost - PE cell",null,null,15.120000000000001,15.120000000000001,15.120000000000001,15.120000000000001,15.120000000000001]
["Unit cost - luminaire",null,null,205,205,205,205,205]
["Unit cost - miscellaneous materials (repair)",null,null,23.188438424353883,23.188438424353883,23.188438424353883,23.188438424353883,23.188438424353883]
["Number of men in crew",null,null,2,2,2,2,2]
["Number of bulk PE cells changes in 1 day - urban",null,null,{"$f":"D289","v":73.92},73.92,73.92,73.92,73.92]
["Number of bulk PE cells changes in 1 day - rural",null,null,61.44,61.44,61.44,61.44,61.44]
["Number of bulk PE cells changes in 1 day - remote",null,null,48.96,48.96,48.96,48.96,48.96]
["Number of repairs in 1 day - urban",null,null,24.96,24.96,24.96,24.96,24.96]
["Number of repairs in 1 day - rural",null,null,20.16,20.16,20.16,20.16,20.16]
["Number of repairs in 1 day - remote",null,null,16.32,16.32,16.32,16.32,16.32]
["   % of repairs - PE cells",null,null,0.9,0.9,0.9,0.9,0.9]
["   % of repairs - luminaires",null,null,0,0,0,0,0]
["   % of repairs - other",null,null,0.1,0.1,0.1,0.1,0.1]
[]
["Other Maintenance and Repair costs"]
["Traffic control costs",null,null,{"$f":"D350*D349-D347","v":{"$error":"#REF!"}},{"$f":"E350*E349-E347","v":{"$error":"#REF!"}},{"$f":"F350*F349-F347","v":{"$error":"#REF!"}},{"$f":"G350*G349-G347","v":{"$error":"#REF!"}},{"$f":"H350*H349-H347","v":{"$error":"#REF!"}}]
["Other costs : Describe…………………………………….",null,null,0.5,0.5,0.5,0.5,0.5]
[null,null,null,{"$f":"SUM(D346:D347)","v":{"$error":"#REF!"}},{"$f":"SUM(E346:E347)","v":{"$error":"#REF!"}},{"$f":"SUM(F346:F347)","v":{"$error":"#REF!"}},{"$f":"SUM(G346:G347)","v":{"$error":"#REF!"}},{"$f":"SUM(H346:H347)","v":{"$error":"#REF!"}}]
["Number of Lights",null,null,{"$f":"SUMPRODUCT((#REF!=$A326)*(#REF!=D$7)*(#REF!))\n+SUMPRODUCT((#REF!=$A326)*(#REF!=D$7)*(#REF!))","v":{"$error":"#REF!"}},{"$f":"SUMPRODUCT((#REF!=$A326)*(#REF!=E$7)*(#REF!))\n+SUMPRODUCT((#REF!=$A326)*(#REF!=E$7)*(#REF!))","v":{"$error":"#REF!"}},{"$f":"SUMPRODUCT((#REF!=$A326)*(#REF!=F$7)*(#REF!))\n+SUMPRODUCT((#REF!=$A326)*(#REF!=F$7)*(#REF!))","v":{"$error":"#REF!"}},{"$f":"SUMPRODUCT((#REF!=$A326)*(#REF!=G$7)*(#REF!))\n+SUMPRODUCT((#REF!=$A326)*(#REF!=G$7)*(#REF!))","v":{"$error":"#REF!"}},{"$f":"SUMPRODUCT((#REF!=$A326)*(#REF!=H$7)*(#REF!))\n+SUMPRODUCT((#REF!=$A326)*(#REF!=H$7)*(#REF!))","v":{"$error":"#REF!"}}]
["Unit Cost",null,null,1.5501385041551246,1.5501385041551246,1.5501385041551246,1.5501385041551246,1.5501385041551246]
[]
["Other O & M costs specific to North/East zone"]
["Other N\\E O & M costs: additional travel related expenses.",null,null,{"$f":"D354*D355","v":{"$error":"#REF!"}},{"$f":"E354*E355","v":{"$error":"#REF!"}},{"$f":"F354*F355","v":{"$error":"#REF!"}},{"$f":"G354*G355","v":{"$error":"#REF!"}},{"$f":"H354*H355","v":{"$error":"#REF!"}}]
["Number of Lights",null,null,{"$f":"SUMPRODUCT((#REF!=$A326)*(#REF!=D$7)*(#REF!))","v":{"$error":"#REF!"}},{"$f":"SUMPRODUCT((#REF!=$A326)*(#REF!=E$7)*(#REF!))","v":{"$error":"#REF!"}},{"$f":"SUMPRODUCT((#REF!=$A326)*(#REF!=F$7)*(#REF!))","v":{"$error":"#REF!"}},{"$f":"SUMPRODUCT((#REF!=$A326)*(#REF!=G$7)*(#REF!))","v":{"$error":"#REF!"}},{"$f":"SUMPRODUCT((#REF!=$A326)*(#REF!=H$7)*(#REF!))","v":{"$error":"#REF!"}}]
["Unit Cost",null,null,0.98,0.98,0.98000000000000009,0.98000000000000009,0.97999999999999987]
[]
[]
[]
["Location of selected public lighting assets within distributors' areas (%)"]
["SP AusNet - Central"]
["Urban",null,null,0.96,0.96,0.96,0.96,0.96]
["Rural",null,null,0.04,0.04,0.04,0.04,0.04]
["Remote",null,null,0,0,0,0,0]
[]
["SP AusNet - North/East"]
["Urban",null,null,0.35,0.35,0.35,0.35,0.35]
["Rural",null,null,0.53,0.53,0.53,0.53,0.53]
["Remote",null,null,0.12,0.12,0.12,0.12,0.12]
[]
[]
[]
[{"$f":"#REF!","v":{"$error":"#REF!"}}]
[]
["Depreciation period",null,null,20,20,20,20,20]
["Number of patrols per year",null,null,3,3,3,3,3]
["PE cells - frequency of replacement",null,null,10,10,10,10,10]
["Unit cost - PE cell",null,null,25.041364999999999,25.041364999999999,25.041364999999999,25.041364999999999,25.041364999999999,"updated"]
["Unit cost - luminaire",null,null,1221.3620396249999,1221.3620396249999,1221.3620396249999,1221.3620396249999,1221.3620396249999,"check update - very large"]
["Unit cost - miscellaneous materials (repair)",null,null,23.188438424353883,23.188438424353883,23.188438424353883,23.188438424353883,23.188438424353883]
["Number of men in crew",null,null,2,2,2,2,2]
["Number of lamps patrolled in 1 day - urban",null,null,3000,3000,3000,3000,3000]
["Number of lamps patrolled in 1 day - rural",null,null,2000,2000,2000,2000,2000]
["Number of lamps patrolled in 1 day - remote",null,null,1000,1000,1000,1000,1000]
["Number of repairs in 1 day - urban",null,null,19,19,19,19,19]
["Number of repairs in 1 day - rural",null,null,15,15,15,15,15]
["Number of repairs in 1 day - remote",null,null,11,11,11,11,11]
["   % of repairs - PE cells",null,null,0.9,0.9,0.9,0.9,0.9]
["   % of repairs - luminaires",null,null,0,0,0,0,0]
["   % of repairs - other",null,null,0.1,0.1,0.1,0.1,0.1]
[]
["Other Maintenance and Repair costs"]
["Traffic control costs",null,null,{"$f":"D395*D396-D393","v":{"$error":"#REF!"}},{"$f":"E395*E396-E393","v":{"$error":"#REF!"}},{"$f":"F395*F396-F393","v":{"$error":"#REF!"}},{"$f":"G395*G396-G393","v":{"$error":"#REF!"}},{"$f":"H395*H396-H393","v":{"$error":"#REF!"}}]
["Other costs : Describe…………………………………….",null,null,0,0,0,0,0]
[null,null,null,{"$f":"SUM(D392:D393)","v":{"$error":"#REF!"}},{"$f":"SUM(E392:E393)","v":{"$error":"#REF!"}},{"$f":"SUM(F392:F393)","v":{"$error":"#REF!"}},{"$f":"SUM(G392:G393)","v":{"$error":"#REF!"}},{"$f":"SUM(H392:H393)","v":{"$error":"#REF!"}}]
["Number of Lights",null,null,{"$f":"SUMPRODUCT((#REF!=$A372)*(#REF!=D$7)*(#REF!))\n+SUMPRODUCT((#REF!=$A372)*(#REF!=D$7)*(#REF!))","v":{"$error":"#REF!"}},{"$f":"SUMPRODUCT((#REF!=$A372)*(#REF!=E$7)*(#REF!))\n+SUMPRODUCT((#REF!=$A372)*(#REF!=E$7)*(#REF!))","v":{"$error":"#REF!"}},{"$f":"SUMPRODUCT((#REF!=$A372)*(#REF!=F$7)*(#REF!))\n+SUMPRODUCT((#REF!=$A372)*(#REF!=F$7)*(#REF!))","v":{"$error":"#REF!"}},{"$f":"SUMPRODUCT((#REF!=$A372)*(#REF!=G$7)*(#REF!))\n+SUMPRODUCT((#REF!=$A372)*(#REF!=G$7)*(#REF!))","v":{"$error":"#REF!"}},{"$f":"SUMPRODUCT((#REF!=$A372)*(#REF!=H$7)*(#REF!))\n+SUMPRODUCT((#REF!=$A372)*(#REF!=H$7)*(#REF!))","v":{"$error":"#REF!"}}]
["Unit Cost",null,null,2.1,2.1,2.1,2.1,2.1]
[]
["Other O & M costs specific to North/East zone"]
["Other N\\E O & M costs: additional travel related expenses.",null,null,{"$f":"D400*D401","v":{"$error":"#REF!"}},{"$f":"E400*E401","v":{"$error":"#REF!"}},{"$f":"F400*F401","v":{"$error":"#REF!"}},{"$f":"G400*G401","v":{"$error":"#REF!"}},{"$f":"H400*H401","v":{"$error":"#REF!"}}]
["Number of Lights",null,null,{"$f":"SUMPRODUCT((#REF!=$A372)*(#REF!=D$7)*(#REF!))","v":{"$error":"#REF!"}},{"$f":"SUMPRODUCT((#REF!=$A372)*(#REF!=E$7)*(#REF!))","v":{"$error":"#REF!"}},{"$f":"SUMPRODUCT((#REF!=$A372)*(#REF!=F$7)*(#REF!))","v":{"$error":"#REF!"}},{"$f":"SUMPRODUCT((#REF!=$A372)*(#REF!=G$7)*(#REF!))","v":{"$error":"#REF!"}},{"$f":"SUMPRODUCT((#REF!=$A372)*(#REF!=H$7)*(#REF!))","v":{"$error":"#REF!"}}]
["Unit Cost",null,null,0.98,0.98,0.97999999999999987,0.98000000000000009,0.98000000000000009]
[]
[]
[]
["Location of selected public lighting assets within distributors' areas (%)"]
["SP AusNet - Central"]
["Urban",null,null,0.96,0.96,0.96,0.96,0.96]
["Rural",null,null,0.04,0.04,0.04,0.04,0.04]
["Remote",null,null,0,0,0,0,0]
[]
["SP AusNet - North/East"]
["Urban",null,null,0.35,0.35,0.35,0.35,0.35]
["Rural",null,null,0.53,0.53,0.53,0.53,0.53]
["Remote",null,null,0.12,0.12,0.12,0.12,0.12]
[]
[]
[]
[{"$f":"#REF!","v":{"$error":"#REF!"}}]
[]
["Depreciation period",null,null,20,20,20,20,20]
["Number of patrols per year",null,null,3,3,3,3,3]
["PE cells - frequency of replacement",null,null,10,10,10,10,10]
["Unit cost - PE cell",null,null,25.041364999999999,25.041364999999999,25.041364999999999,25.041364999999999,25.041364999999999,"check"]
["Unit cost - luminaire",null,null,1270.4308997249998,1270.4308997249998,1270.4308997249998,1270.4308997249998,1270.4308997249998,"check"]
["Unit cost - miscellaneous materials (repair)",null,null,23.188438424353883,23.188438424353883,23.188438424353883,23.188438424353883,23.188438424353883]
["Number of men in crew",null,null,2,2,2,2,2]
["Number of lamps patrolled in 1 day - urban",null,null,3000,3000,3000,3000,3000]
["Number of lamps patrolled in 1 day - rural",null,null,2000,2000,2000,2000,2000]
["Number of lamps patrolled in 1 day - remote",null,null,1000,1000,1000,1000,1000]
["Number of repairs in 1 day - urban",null,null,19,19,19,19,19]
["Number of repairs in 1 day - rural",null,null,15,15,15,15,15]
["Number of repairs in 1 day - remote",null,null,11,11,11,11,11]
["   % of repairs - PE cells",null,null,0.9,0.9,0.9,0.9,0.9]
["   % of repairs - luminaires",null,null,0,0,0,0,0]
["   % of repairs - other",null,null,0.1,0.1,0.1,0.1,0.1]
[]
["Other Maintenance and Repair costs"]
["Traffic control costs",null,null,{"$f":"D441*D442-D439","v":{"$error":"#REF!"}},{"$f":"E441*E442-E439","v":{"$error":"#REF!"}},{"$f":"F441*F442-F439","v":{"$error":"#REF!"}},{"$f":"G441*G442-G439","v":{"$error":"#REF!"}},{"$f":"H441*H442-H439","v":{"$error":"#REF!"}}]
["Other costs : Describe…………………………………….",null,null,0,0,0,0,0]
[null,null,null,{"$f":"SUM(D438:D439)","v":{"$error":"#REF!"}},{"$f":"SUM(E438:E439)","v":{"$error":"#REF!"}},{"$f":"SUM(F438:F439)","v":{"$error":"#REF!"}},{"$f":"SUM(G438:G439)","v":{"$error":"#REF!"}},{"$f":"SUM(H438:H439)","v":{"$error":"#REF!"}}]
["Number of Lights",null,null,{"$f":"SUMPRODUCT((#REF!=$A418)*(#REF!=D$7)*(#REF!))\n+SUMPRODUCT((#REF!=$A418)*(#REF!=D$7)*(#REF!))","v":{"$error":"#REF!"}},{"$f":"SUMPRODUCT((#REF!=$A418)*(#REF!=E$7)*(#REF!))\n+SUMPRODUCT((#REF!=$A418)*(#REF!=E$7)*(#REF!))","v":{"$error":"#REF!"}},{"$f":"SUMPRODUCT((#REF!=$A418)*(#REF!=F$7)*(#REF!))\n+SUMPRODUCT((#REF!=$A418)*(#REF!=F$7)*(#REF!))","v":{"$error":"#REF!"}},{"$f":"SUMPRODUCT((#REF!=$A418)*(#REF!=G$7)*(#REF!))\n+SUMPRODUCT((#REF!=$A418)*(#REF!=G$7)*(#REF!))","v":{"$error":"#REF!"}},{"$f":"SUMPRODUCT((#REF!=$A418)*(#REF!=H$7)*(#REF!))\n+SUMPRODUCT((#REF!=$A418)*(#REF!=H$7)*(#REF!))","v":{"$error":"#REF!"}}]
["Unit Cost",null,null,2.1,2.1,2.1,2.1,2.1]
[]
["Other O & M costs specific to North/East zone"]
["Other N\\E O & M costs: additional travel related expenses.",null,null,{"$f":"D446*D447","v":{"$error":"#REF!"}},{"$f":"E446*E447","v":{"$error":"#REF!"}},{"$f":"F446*F447","v":{"$error":"#REF!"}},{"$f":"G446*G447","v":{"$error":"#REF!"}},{"$f":"H446*H447","v":{"$error":"#REF!"}}]
["Number of Lights",null,null,{"$f":"SUMPRODUCT((#REF!=$A418)*(#REF!=D$7)*(#REF!))","v":{"$error":"#REF!"}},{"$f":"SUMPRODUCT((#REF!=$A418)*(#REF!=E$7)*(#REF!))","v":{"$error":"#REF!"}},{"$f":"SUMPRODUCT((#REF!=$A418)*(#REF!=F$7)*(#REF!))","v":{"$error":"#REF!"}},{"$f":"SUMPRODUCT((#REF!=$A418)*(#REF!=G$7)*(#REF!))","v":{"$error":"#REF!"}},{"$f":"SUMPRODUCT((#REF!=$A418)*(#REF!=H$7)*(#REF!))","v":{"$error":"#REF!"}}]
["Unit Cost",null,null,0.98,0.97999999999999987,0.98,0.98,0.98]
[]
[]
[]
["Location of selected public lighting assets within distributors' areas (%)"]
["SP AusNet - Central"]
["Urban",null,null,0.96,0.96,0.96,0.96,0.96]
["Rural",null,null,0.04,0.04,0.04,0.04,0.04]
["Remote",null,null,0,0,0,0,0]
[]
["SP AusNet - North/East"]
["Urban",null,null,0.35,0.35,0.35,0.35,0.35]
["Rural",null,null,0.53,0.53,0.53,0.53,0.53]
["Remote",null,null,0.12,0.12,0.12,0.12,0.12]
[]
[]
[]
[{"$f":"#REF!","v":{"$error":"#REF!"}}]
[]
["Depreciation period",null,null,20,20,20,20,20]
["Number of patrols per year",null,null,3,3,3,3,3]
["PE cells - frequency of replacement",null,null,10,10,10,10,10]
["Unit cost - PE cell",null,null,25.041364999999999,25.041364999999999,25.041364999999999,25.041364999999999,25.041364999999999,"check"]
["Unit cost - luminaire",null,null,1775.2617643000001,1775.2617643000001,1775.2617643000001,1775.2617643000001,1775.2617643000001,"check"]
["Unit cost - miscellaneous materials (repair)",null,null,23.188438424353883,23.188438424353883,23.188438424353883,23.188438424353883,23.188438424353883]
["Number of men in crew",null,null,2,2,2,2,2]
["Number of lamps patrolled in 1 day - urban",null,null,3000,3000,3000,3000,3000]
["Number of lamps patrolled in 1 day - rural",null,null,2000,2000,2000,2000,2000]
["Number of lamps patrolled in 1 day - remote",null,null,1000,1000,1000,1000,1000]
["Number of repairs in 1 day - urban",null,null,19,19,19,19,19]
["Number of repairs in 1 day - rural",null,null,15,15,15,15,15]
["Number of repairs in 1 day - remote",null,null,11,11,11,11,11]
["   % of repairs - PE cells",null,null,0.9,0.9,0.9,0.9,0.9]
["   % of repairs - luminaires",null,null,0,0,0,0,0]
["   % of repairs - other",null,null,0.1,0.1,0.1,0.1,0.1]
[]
["Other Maintenance and Repair costs"]
["Traffic control costs",null,null,{"$f":"D487*D488-D485","v":{"$error":"#REF!"}},{"$f":"E487*E488-E485","v":{"$error":"#REF!"}},{"$f":"F487*F488-F485","v":{"$error":"#REF!"}},{"$f":"G487*G488-G485","v":{"$error":"#REF!"}},{"$f":"H487*H488-H485","v":{"$error":"#REF!"}}]
["Other costs : Describe…………………………………….",null,null,0,0,0,0,0]
[null,null,null,{"$f":"SUM(D484:D485)","v":{"$error":"#REF!"}},{"$f":"SUM(E484:E485)","v":{"$error":"#REF!"}},{"$f":"SUM(F484:F485)","v":{"$error":"#REF!"}},{"$f":"SUM(G484:G485)","v":{"$error":"#REF!"}},{"$f":"SUM(H484:H485)","v":{"$error":"#REF!"}}]
["Number of Lights",null,null,{"$f":"SUM(#REF!,#REF!)","v":{"$error":"#REF!"}},{"$f":"SUM(#REF!,#REF!)","v":{"$error":"#REF!"}},{"$f":"SUM(#REF!,#REF!)","v":{"$error":"#REF!"}},{"$f":"SUM(#REF!,#REF!)","v":{"$error":"#REF!"}},{"$f":"SUM(#REF!,#REF!)","v":{"$error":"#REF!"}}]
["Unit Cost",null,null,2.1,2.1,2.1,2.1,2.1]
[]
["Other O & M costs specific to North/East zone"]
["Other N\\E O & M costs: additional travel related expenses.",null,null,{"$f":"D492*D493","v":{"$error":"#REF!"}},{"$f":"E492*E493","v":{"$error":"#REF!"}},{"$f":"F492*F493","v":{"$error":"#REF!"}},{"$f":"G492*G493","v":{"$error":"#REF!"}},{"$f":"H492*H493","v":{"$error":"#REF!"}}]
["Number of Lights",null,null,{"$f":"#REF!","v":{"$error":"#REF!"}},{"$f":"#REF!","v":{"$error":"#REF!"}},{"$f":"#REF!","v":{"$error":"#REF!"}},{"$f":"#REF!","v":{"$error":"#REF!"}},{"$f":"#REF!","v":{"$error":"#REF!"}}]
["Unit Cost",null,null,0.98,0.97999999999999987,0.98,0.98,0.98]
[]
[]
[]
["Location of selected public lighting assets within distributors' areas (%)"]
["SP AusNet - Central"]
["Urban",null,null,0.96,0.96,0.96,0.96,0.96]
["Rural",null,null,0.04,0.04,0.04,0.04,0.04]
["Remote",null,null,0,0,0,0,0]
[]
["SP AusNet - North/East"]
["Urban",null,null,0.35,0.35,0.35,0.35,0.35]
["Rural",null,null,0.53,0.53,0.53,0.53,0.53]
["Remote",null,null,0.12,0.12,0.12,0.12,0.12]
[]
[]
[]
["NEW"]
[{"$f":"#REF!","v":{"$error":"#REF!"}}]
[]
["Depreciation period",null,null,20,20,20,20,20]
["Number of patrols per year",null,null,3,3,3,3,3]
["PE cells - frequency of replacement",null,null,10,10,10,10,10]
["Unit cost - PE cell",null,null,114.023,114.023,114.023,114.023,114.023]
["Unit cost - luminaire",null,null,402,402,402,402,402]
["Unit cost - miscellaneous materials (repair)",null,null,23.188438424353883,23.188438424353883,23.188438424353883,23.188438424353883,23.188438424353883]
["Number of men in crew",null,null,2,2,2,2,2]
["Number of lamps patrolled in 1 day - urban",null,null,3000,3000,3000,3000,3000]
["Number of lamps patrolled in 1 day - rural",null,null,2000,2000,2000,2000,2000]
["Number of lamps patrolled in 1 day - remote",null,null,1000,1000,1000,1000,1000]
["Number of repairs in 1 day - urban",null,null,15,15,15,15,15]
["Number of repairs in 1 day - rural",null,null,11,11,11,11,11]
["Number of repairs in 1 day - remote",null,null,9,9,9,9,9]
["   % of repairs - PE cells",null,null,0.9,0.9,0.9,0.9,0.9]
["   % of repairs - luminaires",null,null,0,0,0,0,0]
["   % of repairs - other",null,null,0.1,0.1,0.1,0.1,0.1]
[]
["Other Maintenance and Repair costs"]
["Traffic control costs",null,null,{"$f":"D534*D535-D532","v":{"$error":"#REF!"}},{"$f":"E534*E535-E532","v":{"$error":"#REF!"}},{"$f":"F534*F535-F532","v":{"$error":"#REF!"}},{"$f":"G534*G535-G532","v":{"$error":"#REF!"}},{"$f":"H534*H535-H532","v":{"$error":"#REF!"}}]
["UIQ Software as a cost plus AusNet's IT software costs",null,null,7.2202762240000009,2824.1819060710177,5486.0453957345308,8531.4769736940962,12122.884366219938]
[null,null,null,{"$f":"SUM(D531:D532)","v":{"$error":"#REF!"}},{"$f":"SUM(E531:E532)","v":{"$error":"#REF!"}},{"$f":"SUM(F531:F532)","v":{"$error":"#REF!"}},{"$f":"SUM(G531:G532)","v":{"$error":"#REF!"}},{"$f":"SUM(H531:H532)","v":{"$error":"#REF!"}}]
["Number of Lights",null,null,{"$f":"SUM(#REF!,#REF!)","v":{"$error":"#REF!"}},{"$f":"SUM(#REF!,#REF!,)","v":{"$error":"#REF!"}},{"$f":"SUM(#REF!,#REF!,)","v":{"$error":"#REF!"}},{"$f":"SUM(#REF!,#REF!,)","v":{"$error":"#REF!"}},{"$f":"SUM(#REF!,#REF!,)","v":{"$error":"#REF!"}}]
["Unit Cost",null,null,9.3202762240000006,9.3202762240000006,9.3202762240000006,9.3202762240000006,9.3202762240000006]
[]
["Other O & M costs specific to North/East zone"]
["Other N\\E O & M costs: additional travel related expenses.",null,null,{"$f":"D539*D540","v":{"$error":"#REF!"}},{"$f":"E539*E540","v":{"$error":"#REF!"}},{"$f":"F539*F540","v":{"$error":"#REF!"}},{"$f":"G539*G540","v":{"$error":"#REF!"}},{"$f":"H539*H540","v":{"$error":"#REF!"}}]
["Number of Lights",null,null,{"$f":"#REF!","v":{"$error":"#REF!"}},{"$f":"#REF!","v":{"$error":"#REF!"}},{"$f":"#REF!","v":{"$error":"#REF!"}},{"$f":"#REF!","v":{"$error":"#REF!"}},{"$f":"#REF!","v":{"$error":"#REF!"}}]
["Unit Cost",null,null,0.98,0.97999999999999987,0.98,0.98,0.98]
[]
[]
[]
["Location of selected public lighting assets within distributors' areas (%)"]
["SP AusNet - Central"]
["Urban",null,null,0.96,0.96,0.96,0.96,0.96]
["Rural",null,null,0.04,0.04,0.04,0.04,0.04]
["Remote",null,null,0,0,0,0,0]
[]
["SP AusNet - North/East"]
["Urban",null,null,0.35,0.35,0.35,0.35,0.35]
["Rural",null,null,0.53,0.53,0.53,0.53,0.53]
["Remote",null,null,0.12,0.12,0.12,0.12,0.12]
[]
[{"$f":"#REF!","v":{"$error":"#REF!"}}]
[]
["Depreciation period",null,null,20,20,20,20,20]
["Number of patrols per year",null,null,3,3,3,3,3]
["PE cells - frequency of replacement",null,null,10,10,10,10,10]
["Unit cost - PE cell",null,null,114.023,114.023,114.023,114.023,114.023]
["Unit cost - luminaire",null,null,427,427,427,427,427]
["Unit cost - miscellaneous materials (repair)",null,null,23.188438424353883,23.188438424353883,23.188438424353883,23.188438424353883,23.188438424353883]
["Number of men in crew",null,null,2,2,2,2,2]
["Number of lamps patrolled in 1 day - urban",null,null,3000,3000,3000,3000,3000]
["Number of lamps patrolled in 1 day - rural",null,null,2000,2000,2000,2000,2000]
["Number of lamps patrolled in 1 day - remote",null,null,1000,1000,1000,1000,1000]
["Number of repairs in 1 day - urban",null,null,15,15,15,15,15]
["Number of repairs in 1 day - rural",null,null,11,11,11,11,11]
["Number of repairs in 1 day - remote",null,null,9,9,9,9,9]
["   % of repairs - PE cells",null,null,0.9,0.9,0.9,0.9,0.9]
["   % of repairs - luminaires",null,null,0,0,0,0,0]
["   % of repairs - other",null,null,0.1,0.1,0.1,0.1,0.1]
[]
["Other Maintenance and Repair costs"]
["Traffic control costs",null,null,{"$f":"D578*D579-D576","v":{"$error":"#REF!"}},{"$f":"E578*E579-E576","v":{"$error":"#REF!"}},{"$f":"F578*F579-F576","v":{"$error":"#REF!"}},{"$f":"G578*G579-G576","v":{"$error":"#REF!"}},{"$f":"H578*H579-H576","v":{"$error":"#REF!"}}]
["UIQ Software as a cost plus AusNet's IT software costs",null,null,21.660828672000001,3894.4694765810846,7845.3011557415084,13038.289015667104,19404.980411520395]
[null,null,null,{"$f":"SUM(D575:D576)","v":{"$error":"#REF!"}},{"$f":"SUM(E575:E576)","v":{"$error":"#REF!"}},{"$f":"SUM(F575:F576)","v":{"$error":"#REF!"}},{"$f":"SUM(G575:G576)","v":{"$error":"#REF!"}},{"$f":"SUM(H575:H576)","v":{"$error":"#REF!"}}]
["Number of Lights",null,null,{"$f":"SUM(#REF!,#REF!)","v":{"$error":"#REF!"}},{"$f":"SUM(#REF!,#REF!)","v":{"$error":"#REF!"}},{"$f":"SUM(#REF!,#REF!)","v":{"$error":"#REF!"}},{"$f":"SUM(#REF!,#REF!)","v":{"$error":"#REF!"}},{"$f":"SUM(#REF!,#REF!)","v":{"$error":"#REF!"}}]
["Unit Cost",null,null,9.3202762240000006,9.3202762240000023,9.3202762240000023,9.3202762240000006,9.3202762240000006]
[]
["Other O & M costs specific to North/East zone"]
["Other N\\E O & M costs: additional travel related expenses.",null,null,{"$f":"D583*D584","v":{"$error":"#REF!"}},{"$f":"E583*E584","v":{"$error":"#REF!"}},{"$f":"F583*F584","v":{"$error":"#REF!"}},{"$f":"G583*G584","v":{"$error":"#REF!"}},{"$f":"H583*H584","v":{"$error":"#REF!"}}]
["Number of Lights",null,null,{"$f":"#REF!","v":{"$error":"#REF!"}},{"$f":"#REF!","v":{"$error":"#REF!"}},{"$f":"#REF!","v":{"$error":"#REF!"}},{"$f":"#REF!","v":{"$error":"#REF!"}},{"$f":"#REF!","v":{"$error":"#REF!"}}]
["Unit Cost",null,null,0.98,0.97999999999999987,0.98,0.98,0.98]
[]
[]
[]
["Location of selected public lighting assets within distributors' areas (%)"]
["SP AusNet - Central"]
["Urban",null,null,0.96,0.96,0.96,0.96,0.96]
["Rural",null,null,0.04,0.04,0.04,0.04,0.04]
["Remote",null,null,0,0,0,0,0]
[]
["SP AusNet - North/East"]
["Urban",null,null,0.35,0.35,0.35,0.35,0.35]
["Rural",null,null,0.53,0.53,0.53,0.53,0.53]
["Remote",null,null,0.12,0.12,0.12,0.12,0.12]
[]
[{"$f":"#REF!","v":{"$error":"#REF!"}}]
[]
["Depreciation period",null,null,20,20,20,20,20]
["Number of patrols per year",null,null,3,3,3,3,3]
["PE cells - frequency of replacement",null,null,10,10,10,10,10]
["Unit cost - PE cell",null,null,114.023,114.023,114.023,114.023,114.023]
["Unit cost - luminaire",null,null,650.88,650.88,650.88,650.88,650.88]
["Unit cost - miscellaneous materials (repair)",null,null,23.188438424353883,23.188438424353883,23.188438424353883,23.188438424353883,23.188438424353883]
["Number of men in crew",null,null,2,2,2,2,2]
["Number of lamps patrolled in 1 day - urban",null,null,3000,3000,3000,3000,3000]
["Number of lamps patrolled in 1 day - rural",null,null,2000,2000,2000,2000,2000]
["Number of lamps patrolled in 1 day - remote",null,null,1000,1000,1000,1000,1000]
["Number of repairs in 1 day - urban",null,null,15,15,15,15,15]
["Number of repairs in 1 day - rural",null,null,11,11,11,11,11]
["Number of repairs in 1 day - remote",null,null,9,9,9,9,9]
["   % of repairs - PE cells",null,null,0.9,0.9,0.9,0.9,0.9]
["   % of repairs - luminaires",null,null,0,0,0,0,0]
["   % of repairs - other",null,null,0.1,0.1,0.1,0.1,0.1]
[]
["Other Maintenance and Repair costs"]
["Traffic control costs",null,null,{"$f":"D622*D623-D620","v":{"$error":"#REF!"}},{"$f":"E622*E623-E620","v":{"$error":"#REF!"}},{"$f":"F622*F623-F620","v":{"$error":"#REF!"}},{"$f":"G622*G623-G620","v":{"$error":"#REF!"}},{"$f":"H622*H623-H620","v":{"$error":"#REF!"}}]
["UIQ Software as a cost plus AusNet's IT software costs",null,null,7.2202762240000009,230.5840397545841,446.76497070770347,731.67113731655445,993.03480520771154]
[null,null,null,{"$f":"SUM(D619:D620)","v":{"$error":"#REF!"}},{"$f":"SUM(E619:E620)","v":{"$error":"#REF!"}},{"$f":"SUM(F619:F620)","v":{"$error":"#REF!"}},{"$f":"SUM(G619:G620)","v":{"$error":"#REF!"}},{"$f":"SUM(H619:H620)","v":{"$error":"#REF!"}}]
["Number of Lights",null,null,{"$f":"SUM(#REF!,#REF!)","v":{"$error":"#REF!"}},{"$f":"SUM(#REF!,#REF!)","v":{"$error":"#REF!"}},{"$f":"SUM(#REF!,#REF!)","v":{"$error":"#REF!"}},{"$f":"SUM(#REF!,#REF!)","v":{"$error":"#REF!"}},{"$f":"SUM(#REF!,#REF!)","v":{"$error":"#REF!"}}]
["Unit Cost",null,null,9.3202762240000006,9.3202762240000006,9.3202762240000023,9.3202762240000006,9.3202762240000006]
[]
["Other O & M costs specific to North/East zone"]
["Other N\\E O & M costs: additional travel related expenses.",null,null,{"$f":"D627*D628","v":{"$error":"#REF!"}},{"$f":"E627*E628","v":{"$error":"#REF!"}},{"$f":"F627*F628","v":{"$error":"#REF!"}},{"$f":"G627*G628","v":{"$error":"#REF!"}},{"$f":"H627*H628","v":{"$error":"#REF!"}}]
["Number of Lights",null,null,{"$f":"#REF!","v":{"$error":"#REF!"}},{"$f":"#REF!","v":{"$error":"#REF!"}},{"$f":"#REF!","v":{"$error":"#REF!"}},{"$f":"#REF!","v":{"$error":"#REF!"}},{"$f":"#REF!","v":{"$error":"#REF!"}}]
["Unit Cost",null,null,0.98,0.97999999999999987,0.98,0.98,0.98]
[]
[]
[]
["Location of selected public lighting assets within distributors' areas (%)"]
["SP AusNet - Central"]
["Urban",null,null,0.96,0.96,0.96,0.96,0.96]
["Rural",null,null,0.04,0.04,0.04,0.04,0.04]
["Remote",null,null,0,0,0,0,0]
[]
["SP AusNet - North/East"]
["Urban",null,null,0.35,0.35,0.35,0.35,0.35]
["Rural",null,null,0.53,0.53,0.53,0.53,0.53]
["Remote",null,null,0.12,0.12,0.12,0.12,0.12]

{"sheet":"DNSP Inputs Capex","index":7,"n_rows":270,"n_cols":14,"rows_kept":270,"cut":false,"hidden":true,"merged":[[4,2,4,7],[2,2,2,7]]}
["Public Lighting Cost Build-up Model"]
[]
[{"$f":"'DNSP Inputs O&M'!$A$3","v":"AusNet"},null,"Capex Data Inputs"]
[]
[null,null,{"$f":"Instructions!$B$18","v":"$Real Jun 2026"}]
[]
["Input parameters",null,{"$f":"EOMONTH(D7,-12)","v":"2026-06-30"},{"$f":"Instructions!$B$16","v":"2027-06-30"},{"$f":"EOMONTH(D7,12)","v":"2028-06-30"},{"$f":"EOMONTH(E7,12)","v":"2029-06-30"},{"$f":"EOMONTH(F7,12)","v":"2030-06-30"},{"$f":"EOMONTH(G7,12)","v":"2031-06-30"}]
[]
["Inputs - all lamps"]
[]
["Material premium for rural areas",null,{"$f":"'DNSP Inputs O&M'!C11","v":0.05},{"$f":"'DNSP Inputs O&M'!D11","v":0.05},{"$f":"'DNSP Inputs O&M'!E11","v":0.05},{"$f":"'DNSP Inputs O&M'!F11","v":0.05},{"$f":"'DNSP Inputs O&M'!G11","v":0.05},{"$f":"'DNSP Inputs O&M'!H11","v":0.05}]
["Labour rate (per hour)",null,{"$f":"'DNSP Inputs O&M'!C12","v":105.14613928035978},{"$f":"'DNSP Inputs O&M'!D12","v":111.36223236834823},{"$f":"'DNSP Inputs O&M'!E12","v":{"$error":"#REF!"}},{"$f":"'DNSP Inputs O&M'!F12","v":{"$error":"#REF!"}},{"$f":"'DNSP Inputs O&M'!G12","v":{"$error":"#REF!"}},{"$f":"'DNSP Inputs O&M'!H12","v":{"$error":"#REF!"}}]
["Elevated platform vehicle (per hour) - urban MV,urban T5",null,{"$f":"'DNSP Inputs O&M'!C14","v":49.790457219554725},{"$f":"'DNSP Inputs O&M'!D14","v":50.18},{"$f":"'DNSP Inputs O&M'!E14","v":50.18},{"$f":"'DNSP Inputs O&M'!F14","v":50.18},{"$f":"'DNSP Inputs O&M'!G14","v":50.18},{"$f":"'DNSP Inputs O&M'!H14","v":50.18}]
["Elevated platform vehicle (per hour) - rural MV, rural T5, S-HP",null,{"$f":"'DNSP Inputs O&M'!C15","v":89.971356195735396},{"$f":"'DNSP Inputs O&M'!D15","v":63.64},{"$f":"'DNSP Inputs O&M'!E15","v":63.64},{"$f":"'DNSP Inputs O&M'!F15","v":63.64},{"$f":"'DNSP Inputs O&M'!G15","v":63.64},{"$f":"'DNSP Inputs O&M'!H15","v":63.64}]
["Number of hours in a day",null,{"$f":"'DNSP Inputs O&M'!C17","v":8},{"$f":"'DNSP Inputs O&M'!D17","v":7.5},{"$f":"'DNSP Inputs O&M'!E17","v":7.5},{"$f":"'DNSP Inputs O&M'!F17","v":7.5},{"$f":"'DNSP Inputs O&M'!G17","v":7.5},{"$f":"'DNSP Inputs O&M'!H17","v":7.5}]
[]
[]
[]
["Inputs - MV80"]
[]
["Unit cost - luminaire",null,{"$f":"'DNSP Inputs O&M'!C30","v":212.03482530689328},{"$f":"'DNSP Inputs O&M'!D30","v":237.46848582499996},{"$f":"'DNSP Inputs O&M'!E30","v":237.46848582499996},{"$f":"'DNSP Inputs O&M'!F30","v":237.46848582499996},{"$f":"'DNSP Inputs O&M'!G30","v":237.46848582499996},{"$f":"'DNSP Inputs O&M'!H30","v":237.46848582499996}]
["Unit cost - miscellaneous materials (bulk lamp)",null,{"$f":"'DNSP Inputs O&M'!C31","v":1.3373336999933596},{"$f":"'DNSP Inputs O&M'!D31","v":1.3476456706921032},{"$f":"'DNSP Inputs O&M'!E31","v":1.3476456706921032},{"$f":"'DNSP Inputs O&M'!F31","v":1.3476456706921032},{"$f":"'DNSP Inputs O&M'!G31","v":1.3476456706921032},{"$f":"'DNSP Inputs O&M'!H31","v":1.3476456706921032}]
["Number of men in crew",null,{"$f":"'DNSP Inputs O&M'!C33","v":2},{"$f":"'DNSP Inputs O&M'!D33","v":2},{"$f":"'DNSP Inputs O&M'!E33","v":2},{"$f":"'DNSP Inputs O&M'!F33","v":2},{"$f":"'DNSP Inputs O&M'!G33","v":2},{"$f":"'DNSP Inputs O&M'!H33","v":2}]
["Number of luminaires replaced per day - urban",null,16,16,16,16,16,16]
["Number of luminaires replaced per day - rural",null,13,13,13,13,13,13]
["Number of luminaires replaced per day - remote",null,10,10,10,10,10,10]
[]
["Other Capex unit costs Describe :………………………",null,0,0,0,0,0,0]
[]
["Forecast Quantities to be replaced"]
["Number of luminaires replaced per year - urban",null,749.91144070326982,0,0,0,0,0]
["Number of luminaires replaced per year - rural",null,189.40010790269483,0,0,0,0,0]
["Number of luminaires replaced per year - remote",null,36.821579456375801,0,0,0,0,0]
[]
["MV80 Lights replaced with T5 Energy Efficient Lights"]
["Number of Lights MV80 replaced with T5 per year"]
["SP AusNet - Central",null,1500,0,0,0,0,0]
["SP AusNet - North/East",null,500,0,0,0,0,0]
[]
[]
[]
["Inputs - S-HP150"]
[]
["Unit cost - luminaire",null,264.8350519357885,234.07,234.07,234.07,234.07,234.07]
["Unit cost - miscellaneous materials",null,{"$f":"'DNSP Inputs O&M'!C78","v":2.6746673999867192},{"$f":"'DNSP Inputs O&M'!D78","v":2.6952913413842063},{"$f":"'DNSP Inputs O&M'!E78","v":2.6952913413842063},{"$f":"'DNSP Inputs O&M'!F78","v":2.6952913413842063},{"$f":"'DNSP Inputs O&M'!G78","v":2.6952913413842063},{"$f":"'DNSP Inputs O&M'!H78","v":2.6952913413842063}]
["Number of men in crew",null,{"$f":"'DNSP Inputs O&M'!C80","v":2},{"$f":"'DNSP Inputs O&M'!D80","v":2},{"$f":"'DNSP Inputs O&M'!E80","v":2},{"$f":"'DNSP Inputs O&M'!F80","v":2},{"$f":"'DNSP Inputs O&M'!G80","v":2},{"$f":"'DNSP Inputs O&M'!H80","v":2}]
["Number of luminaires replaced per day - urban",null,16,16,16,16,16,16,"previous edpr"]
["Number of luminaires replaced per day - rural",null,13,13,13,13,13,13]
["Number of luminaires replaced per day - remote",null,10,10,10,10,10,10]
[]
["Other Capex unit costs Describe :………………………",null,0,0,0,0,0,0]
[]
["Forecast Quantities to be replaced"]
["Number of luminaires replaced per year - urban",null,335.20457322655596,0,0,0,0,0]
["Number of luminaires replaced per year - rural",null,94.522512308131667,0,0,0,0,0]
["Number of luminaires replaced per day - remote",null,8.3798713032454337,0,0,0,0,0]
[]
[]
[]
["Inputs - S-HP250"]
[]
["Unit cost - luminaire",null,271.7697450424929,240.18,240.18,240.18,240.18,240.18]
["Unit cost - miscellaneous materials",null,{"$f":"'DNSP Inputs O&M'!C121","v":2.6746673999867192},{"$f":"'DNSP Inputs O&M'!D121","v":2.548069545426245},{"$f":"'DNSP Inputs O&M'!E121","v":2.548069545426245},{"$f":"'DNSP Inputs O&M'!F121","v":2.548069545426245},{"$f":"'DNSP Inputs O&M'!G121","v":2.548069545426245},{"$f":"'DNSP Inputs O&M'!H121","v":2.548069545426245}]
["Number of men in crew",null,{"$f":"'DNSP Inputs O&M'!C123","v":2},{"$f":"'DNSP Inputs O&M'!D123","v":2},{"$f":"'DNSP Inputs O&M'!E123","v":2},{"$f":"'DNSP Inputs O&M'!F123","v":2},{"$f":"'DNSP Inputs O&M'!G123","v":2},{"$f":"'DNSP Inputs O&M'!H123","v":2}]
["Number of luminaires replaced per day - urban",null,16,16,16,16,16,16]
["Number of luminaires replaced per day - rural",null,13,13,13,13,13,13]
["Number of luminaires replaced per day - remote",null,10,10,10,10,10,10]
[]
["Other Capex unit costs Describe :………………………",null,0,0,0,0,0,0]
[]
["Forecast Quantities to be replaced"]
["Number of luminaires replaced per year - urban",null,212.04613872600592,0,0,0,0,0]
["Number of luminaires replaced per year - rural",null,61.664737064759379,0,0,0,0,0]
["Number of luminaires replaced per day - remote",null,5.2325760941721828,0,0,0,0,0]
[]
[]
[]
["Dedicated street lighting poles"]
[]
["Cost of pole & bracket",null,945.46640226628881,1223.6275383044774,1223.6275383044774,1223.6275383044774,1223.6275383044774,1223.6275383044774]
["Number of men in crew",null,null,4,4,4,4,4]
["Number of poles & brackets replaced per day",null,4,4,4,4,4,4]
["Cost of bracket on non-dedicated poles",null,47.994220963172801,48.364296883852695,48.364296883852695,48.364296883852695,48.364296883852695,48.364296883852695]
["Number of brackets replaced per day",null,20,20,20,20,20,20]
["Plant costs (including truck mounted crane & auger, and tipper truck)",null,null,387.05857996198068,387.05857996198068,387.05857996198068,387.05857996198068,387.05857996198068]
["Other poles & brackets Capex unit costs Describe :…………………",null,22.049013744793783,20.530171694670301,20.9657602949029,21.401348895135499,21.836937495368101,22.2725260956007]
[]
[]
["Forecast Quantities to be replaced"]
["Number of poles & brackets replaced per year - urban",null,598.73311242994885,598.73311242994885,598.73311242994885,598.73311242994885,598.73311242994885,598.73311242994885]
["Number of poles & brackets replaced per year - rural",null,203.06238738354998,203.06238738354998,203.06238738354998,203.06238738354998,203.06238738354998,203.06238738354998]
["Number of poles & brackets replaced per year - remote",null,15.489433285991614,15.489433285991614,15.489433285991614,15.489433285991614,15.489433285991614,15.489433285991614]
[]
["Brackets on non-dedicated poles :"]
["Number of brackets replaced per year - urban",null,970.79642797264523,970.79642797264523,970.79642797264523,970.79642797264523,970.79642797264523,970.79642797264523]
["Number of brackets replaced per year - rural",null,327.85222323621383,327.85222323621383,327.85222323621383,327.85222323621383,327.85222323621383,327.85222323621383]
["Number of brackets replaced per year - remote",null,24.956389678402683,24.956389678402683,24.956389678402683,24.956389678402683,24.956389678402683,24.956389678402683]
[]
[]
[]
["Luminaire Replacements - Other Light types (excluding T5s)"]
["Number of luminaires replaced per year",null,129.54063428776064,0,0,0,0,0]
["Forecast Capex",null,41924.26816304175,0,0,0,0,0]
[]
[]
[]
["Inputs - T5 (2 X 14W)"]
[]
["Unit cost - luminaire",null,{"$f":"'DNSP Inputs O&M'!C189","v":258.10883852691217},{"$f":"'DNSP Inputs O&M'!D189","v":260.27999999999997},{"$f":"'DNSP Inputs O&M'!E189","v":260.27999999999997},{"$f":"'DNSP Inputs O&M'!F189","v":260.27999999999997},{"$f":"'DNSP Inputs O&M'!G189","v":260.27999999999997},{"$f":"'DNSP Inputs O&M'!H189","v":260.27999999999997}]
["Unit cost - miscellaneous materials (bulk lamp)",null,{"$f":"'DNSP Inputs O&M'!C190","v":1.3373336999933596},{"$f":"'DNSP Inputs O&M'!D190","v":1.3476456706921032},{"$f":"'DNSP Inputs O&M'!E190","v":1.3476456706921032},{"$f":"'DNSP Inputs O&M'!F190","v":1.3476456706921032},{"$f":"'DNSP Inputs O&M'!G190","v":1.3476456706921032},{"$f":"'DNSP Inputs O&M'!H190","v":1.3476456706921032}]
["Number of men in crew",null,{"$f":"'DNSP Inputs O&M'!C192","v":2},{"$f":"'DNSP Inputs O&M'!D192","v":2},{"$f":"'DNSP Inputs O&M'!E192","v":2},{"$f":"'DNSP Inputs O&M'!F192","v":2},{"$f":"'DNSP Inputs O&M'!G192","v":2},{"$f":"'DNSP Inputs O&M'!H192","v":2}]
["Number of luminaires replaced per day - urban",null,0,16,16,16,16,16]
["Number of luminaires replaced per day - rural",null,0,13,13,13,13,13]
["Number of luminaires replaced per day - remote",null,0,10,10,10,10,10]
[]
["Other Capex unit costs Describe :………………………",null,0,0,0,0,0,0]
[]
["Forecast Quantities to be replaced"]
["Number of luminaires replaced per year - urban",null,0,332.31684954821867,332.31684954821867,332.31684954821867,332.31684954821867,332.31684954821867]
["Number of luminaires replaced per year - rural",null,0,83.93658299992417,83.93658299992417,83.93658299992417,83.93658299992417,83.93658299992417]
["Number of luminaires replaced per year - remote",null,0,16.290041644520521,16.290041644520521,16.290041644520521,16.290041644520521,16.290041644520521]
[]
[]
[]
["Inputs - T5 (2x24W)"]
[]
["Unit cost - luminaire",null,{"$f":"'DNSP Inputs O&M'!C238","v":286.18776203966002},{"$f":"'DNSP Inputs O&M'!D238","v":267.33},{"$f":"'DNSP Inputs O&M'!E238","v":267.33},{"$f":"'DNSP Inputs O&M'!F238","v":267.33},{"$f":"'DNSP Inputs O&M'!G238","v":267.33},{"$f":"'DNSP Inputs O&M'!H238","v":267.33}]
["Unit cost - miscellaneous materials (bulk lamp)",null,{"$f":"'DNSP Inputs O&M'!C239","v":1.3373336999933596},{"$f":"'DNSP Inputs O&M'!D239","v":1.3476456706921032},{"$f":"'DNSP Inputs O&M'!E239","v":1.3476456706921032},{"$f":"'DNSP Inputs O&M'!F239","v":1.3476456706921032},{"$f":"'DNSP Inputs O&M'!G239","v":1.3476456706921032},{"$f":"'DNSP Inputs O&M'!H239","v":1.3476456706921032}]
["Number of men in crew",null,{"$f":"'DNSP Inputs O&M'!C241","v":2},{"$f":"'DNSP Inputs O&M'!D241","v":2},{"$f":"'DNSP Inputs O&M'!E241","v":2},{"$f":"'DNSP Inputs O&M'!F241","v":2},{"$f":"'DNSP Inputs O&M'!G241","v":2},{"$f":"'DNSP Inputs O&M'!H241","v":2}]
["Number of luminaires replaced per day - urban",null,0,16,16,16,16,16]
["Number of luminaires replaced per day - rural",null,0,13,13,13,13,13]
["Number of luminaires replaced per day - remote",null,0,10,10,10,10,10]
[]
["Other Capex unit costs Describe :………………………",null,0,0,0,0,0,0]
[]
["Forecast Quantities to be replaced"]
["Number of luminaires replaced per year - urban",null,0,35.829620457443582,35.829620457443582,35.829620457443582,35.829620457443582,35.829620457443582]
["Number of luminaires replaced per year - rural",null,0,9.049844795623649,9.049844795623649,9.049844795623649,9.049844795623649,9.049844795623649]
["Number of luminaires replaced per year - remote",null,0,1.7563539439923321,1.7563539439923321,1.7563539439923321,1.7563539439923321,1.7563539439923321]
[]
[]
[]
["Inputs - LED 18W"]
[null,null,null,null,null,null,null,null,null,"O & M"]
["Unit cost - luminaire",null,{"$f":"'DNSP Inputs O&M'!C286","v":391.14159061523941},473.57303370786519,473.57303370786519,473.57303370786519,473.57303370786519,473.57303370786519,null,{"$f":"'DNSP Inputs O&M'!D286","v":602.8983467999999},{"$f":"'DNSP Inputs O&M'!E286","v":602.8983467999999},{"$f":"'DNSP Inputs O&M'!F286","v":602.8983467999999},{"$f":"'DNSP Inputs O&M'!G286","v":602.8983467999999},{"$f":"'DNSP Inputs O&M'!H286","v":602.8983467999999}]
["Number of men in crew",null,{"$f":"'DNSP Inputs O&M'!C288","v":2},{"$f":"'DNSP Inputs O&M'!D288","v":2},{"$f":"'DNSP Inputs O&M'!E288","v":2},{"$f":"'DNSP Inputs O&M'!F288","v":2},{"$f":"'DNSP Inputs O&M'!G288","v":2},{"$f":"'DNSP Inputs O&M'!H288","v":2}]
["Number of luminaires replaced per day - urban",null,0,16,16,16,16,16]
["Number of luminaires replaced per day - rural",null,0,13,13,13,13,13]
["Number of luminaires replaced per day - remote",null,0,10,10,10,10,10]
[]
["Other Capex unit costs Describe :………………………",null,0,0,0,0,0,0]
[]
["Forecast Quantities to be replaced"]
["Number of luminaires replaced per year - urban",null,0,1962.1952268075418,2205.3737689377645,2157.1469454123749,2109.2298686536346,333.10175064029573]
["Number of luminaires replaced per year - rural",null,0,495.73313925151581,557.03326103975007,544.8521309491008,532.74923669037878,84.134833301560775]
["Number of luminaires replaced per year - remote",null,0,96.209700161172606,108.10655730087079,105.74249732413601,103.39362101243307,16.328517188249791]
[]
[]
["NEW"]
["Inputs - LED 14W"]
[]
["Unit cost - luminaire",null,null,{"$f":"'DNSP Inputs O&M'!D332","v":205},{"$f":"'DNSP Inputs O&M'!E332","v":205},{"$f":"'DNSP Inputs O&M'!F332","v":205},{"$f":"'DNSP Inputs O&M'!G332","v":205},{"$f":"'DNSP Inputs O&M'!H332","v":205}]
["Number of men in crew",null,null,{"$f":"'DNSP Inputs O&M'!D334","v":2},{"$f":"'DNSP Inputs O&M'!E334","v":2},{"$f":"'DNSP Inputs O&M'!F334","v":2},{"$f":"'DNSP Inputs O&M'!G334","v":2},{"$f":"'DNSP Inputs O&M'!H334","v":2}]
["Number of luminaires replaced per day - urban",null,null,16,16,16,16,16]
["Number of luminaires replaced per day - rural",null,null,13,13,13,13,13]
["Number of luminaires replaced per day - remote",null,null,10,10,10,10,10]
[]
["Other Capex unit costs Describe :………………………",null,null,0,0,0,0,0]
[]
["Forecast Quantities to be replaced"]
["Number of luminaires replaced per year - urban",null,null,13.503727553799457,13.503727553799457,13.503727553799457,13.503727553799457,13.503727553799457]
["Number of luminaires replaced per year - rural",null,null,3.4116102008532661,3.4116102008532661,3.4116102008532661,3.4116102008532661,3.4116102008532661]
["Number of luminaires replaced per year - remote",null,null,0.66211025348531205,0.66211025348531205,0.66211025348531205,0.66211025348531205,0.66211025348531205]
[]
[]
["NEW"]
["Inputs - LED 70W (L1)"]
[]
["Unit cost - luminaire",null,null,{"$f":"'DNSP Inputs O&M'!D378","v":1221.3620396249999},{"$f":"'DNSP Inputs O&M'!E378","v":1221.3620396249999},{"$f":"'DNSP Inputs O&M'!F378","v":1221.3620396249999},{"$f":"'DNSP Inputs O&M'!G378","v":1221.3620396249999},{"$f":"'DNSP Inputs O&M'!H378","v":1221.3620396249999}]
["Number of men in crew",null,null,{"$f":"'DNSP Inputs O&M'!D380","v":2},{"$f":"'DNSP Inputs O&M'!E380","v":2},{"$f":"'DNSP Inputs O&M'!F380","v":2},{"$f":"'DNSP Inputs O&M'!G380","v":2},{"$f":"'DNSP Inputs O&M'!H380","v":2}]
["Number of luminaires replaced per day - urban",null,null,16,16,16,16,16]
["Number of luminaires replaced per day - rural",null,null,13,13,13,13,13]
["Number of luminaires replaced per day - remote",null,null,10,10,10,10,10]
[]
["Other Capex unit costs Describe :………………………",null,null,0,0,0,0,0]
[]
["Forecast Quantities to be replaced"]
["Number of luminaires replaced per year - urban",null,null,77.414359792858718,78.477812067723363,82.793708829765563,85.94510215083524,25.118707212408932]
["Number of luminaires replaced per year - rural",null,null,19.553317398660649,19.821924152296482,20.912033267373705,21.708012127365244,6.3444825492642787]
["Number of luminaires replaced per year - remote",null,null,3.7948215584734664,3.8469515719472236,4.0585151387139984,4.2129952034723148,1.2313091770788691]
[]
[]
["NEW"]
["Inputs - LED 155W (L2)"]
[]
["Unit cost - luminaire",null,null,{"$f":"'DNSP Inputs O&M'!D424","v":1270.4308997249998},{"$f":"'DNSP Inputs O&M'!E424","v":1270.4308997249998},{"$f":"'DNSP Inputs O&M'!F424","v":1270.4308997249998},{"$f":"'DNSP Inputs O&M'!G424","v":1270.4308997249998},{"$f":"'DNSP Inputs O&M'!H424","v":1270.4308997249998}]
["Number of men in crew",null,null,{"$f":"'DNSP Inputs O&M'!D426","v":2},{"$f":"'DNSP Inputs O&M'!E426","v":2},{"$f":"'DNSP Inputs O&M'!F426","v":2},{"$f":"'DNSP Inputs O&M'!G426","v":2},{"$f":"'DNSP Inputs O&M'!H426","v":2}]
["Number of luminaires replaced per day - urban",null,null,16,16,16,16,16]
["Number of luminaires replaced per day - rural",null,null,13,13,13,13,13]
["Number of luminaires replaced per day - remote",null,null,10,10,10,10,10]
[]
["Other Capex unit costs Describe :………………………",null,null,0,0,0,0,0]
[]
["Forecast Quantities to be replaced"]
["Number of luminaires replaced per year - urban",null,null,936.03385629140996,929.84037057437911,916.2721212599148,903.00528667060985,883.57943960118268]
["Number of luminaires replaced per year - rural",null,null,236.42341210250009,234.85906160792493,231.43199347612395,228.08105666938263,223.17447661753295]
["Number of luminaires replaced per year - remote",null,null,45.88401256330441,45.58041032227348,44.915300061760526,44.264965032873036,43.312717627508952]
[]
[]
["NEW"]
["Inputs - LED 275W (L4)"]
[]
["Unit cost - luminaire",null,null,{"$f":"'DNSP Inputs O&M'!D470","v":1775.2617643000001},{"$f":"'DNSP Inputs O&M'!E470","v":1775.2617643000001},{"$f":"'DNSP Inputs O&M'!F470","v":1775.2617643000001},{"$f":"'DNSP Inputs O&M'!G470","v":1775.2617643000001},{"$f":"'DNSP Inputs O&M'!H470","v":1775.2617643000001}]
["Number of men in crew",null,null,{"$f":"'DNSP Inputs O&M'!D472","v":2},{"$f":"'DNSP Inputs O&M'!E472","v":2},{"$f":"'DNSP Inputs O&M'!F472","v":2},{"$f":"'DNSP Inputs O&M'!G472","v":2},{"$f":"'DNSP Inputs O&M'!H472","v":2}]
["Number of luminaires replaced per day - urban",null,null,16,16,16,16,16]
["Number of luminaires replaced per day - rural",null,null,13,13,13,13,13]
["Number of luminaires replaced per day - remote",null,null,10,10,10,10,10]
[]
["Other Capex unit costs Describe :………………………",null,null,0,0,0,0,0]
[]
["Forecast Quantities to be replaced"]
["Number of luminaires replaced per year - urban",null,null,47.268498970173503,47.74717948102267,48.230586257450312,48.720148985545258,9.2715815975009477]
["Number of luminaires replaced per year - rural",null,null,11.93907649427241,12.059981607822804,12.182080481435463,12.30573422519319,2.3418158885328757]
["Number of luminaires replaced per year - remote",null,null,2.3170832828516423,2.3405480137756207,2.3642444243848191,2.3882425973306498,0.45448929399514443]
[]
["NEW"]
["Inputs - Smart lighting L1"]
[]
["Unit cost - luminaire",null,null,{"$f":"'DNSP Inputs O&M'!D517","v":402},{"$f":"'DNSP Inputs O&M'!E517","v":402},{"$f":"'DNSP Inputs O&M'!F517","v":402},{"$f":"'DNSP Inputs O&M'!G517","v":402},{"$f":"'DNSP Inputs O&M'!H517","v":402}]
["Number of men in crew",null,null,{"$f":"'DNSP Inputs O&M'!D519","v":2},{"$f":"'DNSP Inputs O&M'!E519","v":2},{"$f":"'DNSP Inputs O&M'!F519","v":2},{"$f":"'DNSP Inputs O&M'!G519","v":2},{"$f":"'DNSP Inputs O&M'!H519","v":2}]
["Number of luminaires replaced per day - urban",null,null,16,16,16,16,16]
["Number of luminaires replaced per day - rural",null,null,13,13,13,13,13]
["Number of luminaires replaced per day - remote",null,null,10,10,10,10,10]
[]
["Other Capex unit costs Describe :………………………",null,null,0,0,0,0,0]
[]
["Forecast Quantities to be replaced"]
["Number of luminaires replaced per year - urban",null,null,77,77,76.903152091006234,76.903152091006234,11.696015514894436]
["Number of luminaires replaced per year - rural",null,null,19,19,19.826157352191721,19.826157352191721,2]
["Number of luminaires replaced per year - remote",null,null,4,4,3.9070172593630508,3.9070172593630508,0]
[]
["Inputs - Smart lighting L2"]
[]
["Unit cost - luminaire",null,null,{"$f":"'DNSP Inputs O&M'!D561","v":427},{"$f":"'DNSP Inputs O&M'!E561","v":427},{"$f":"'DNSP Inputs O&M'!F561","v":427},{"$f":"'DNSP Inputs O&M'!G561","v":427},{"$f":"'DNSP Inputs O&M'!H561","v":427}]
["Number of men in crew",null,null,{"$f":"'DNSP Inputs O&M'!D563","v":2},{"$f":"'DNSP Inputs O&M'!E563","v":2},{"$f":"'DNSP Inputs O&M'!F563","v":2},{"$f":"'DNSP Inputs O&M'!G563","v":2},{"$f":"'DNSP Inputs O&M'!H563","v":2}]
["Number of luminaires replaced per day - urban",null,null,16,16,16,16,16]
["Number of luminaires replaced per day - rural",null,null,13,13,13,13,13]
["Number of luminaires replaced per day - remote",null,null,10,10,10,10,10]
[]
["Other Capex unit costs Describe :………………………",null,null,0,0,0,0,0]
[]
["Forecast Quantities to be replaced"]
["Number of luminaires replaced per year - urban",null,null,77,77,76.903152091006234,76.903152091006234,11.696015514894436]
["Number of luminaires replaced per year - rural",null,null,19,19,19.826157352191721,19.826157352191721,2]
["Number of luminaires replaced per year - remote",null,null,4,4,3.9070172593630508,3.9070172593630508,0]
[]
["Inputs - Smart lighting L4"]
[]
["Unit cost - luminaire",null,null,{"$f":"'DNSP Inputs O&M'!D605","v":650.88},{"$f":"'DNSP Inputs O&M'!E605","v":650.88},{"$f":"'DNSP Inputs O&M'!F605","v":650.88},{"$f":"'DNSP Inputs O&M'!G605","v":650.88},{"$f":"'DNSP Inputs O&M'!H605","v":650.88}]
["Number of men in crew",null,null,{"$f":"'DNSP Inputs O&M'!D607","v":2},{"$f":"'DNSP Inputs O&M'!E607","v":2},{"$f":"'DNSP Inputs O&M'!F607","v":2},{"$f":"'DNSP Inputs O&M'!G607","v":2},{"$f":"'DNSP Inputs O&M'!H607","v":2}]
["Number of luminaires replaced per day - urban",null,null,16,16,16,16,16]
["Number of luminaires replaced per day - rural",null,null,13,13,13,13,13]
["Number of luminaires replaced per day - remote",null,null,10,10,10,10,10]
[]
["Other Capex unit costs Describe :………………………",null,null,0,0,0,0,0]
[]
["Forecast Quantities to be replaced"]
["Number of luminaires replaced per year - urban",null,null,77,77,76.903152091006234,76.903152091006234,11.696015514894436]
["Number of luminaires replaced per year - rural",null,null,19,19,19.826157352191721,19.826157352191721,2]
["Number of luminaires replaced per year - remote",null,null,4,4,3.9070172593630508,3.9070172593630508,0]

{"sheet":"PL Tariffs","index":8,"n_rows":72,"n_cols":35,"rows_kept":72,"cut":false,"hidden":true,"merged":[[3,30,3,34],[40,24,40,28],[40,30,40,34],[39,3,39,4],[40,2,40,7],[40,9,40,13],[40,15,40,19],[2,3,2,4],[3,2,3,7],[3,9,3,13],[3,15,3,19],[3,24,3,28]]}
[{"$f":"'DNSP Inputs O&M'!$A$3","v":"AusNet"},null,null,null,"Global Check",{"$f":"IF(SUM('Total RAB'!F1,'Depn & WACC Post 2004 N & E'!F1,'Depn & WACC Post 2004 Central'!F1,'Cashflow Summary'!F1,'PL Tariff Components'!W1)<1,\"Ok\",\"Error\")","v":{"$error":"#REF!"}}]
[]
[null,null,null,{"$f":"#REF!","v":{"$error":"#REF!"}},null,null,null,null,null,null,null,null,null,null,null,null,null,null,null,null,null,"Average"]
["Public Lighting Tariffs",null,"Nominal Prices",null,null,null,null,null,null,"Nominal Price Movement",null,null,null,null,null,"Real Price Movement (Implied X Factor)",null,null,null,null,null,"Nubmer","% of ",null,"Revised Submission Model",null,null,null,null,null,"Difference"]
[null,null,"Actual",null,null,null,null,null,null,null,null,null,null,null,null,null,null,null,null,null,null,"of Lights","Total Lights"]
[{"$f":"#REF!","v":{"$error":"#REF!"}},null,{"$f":"EOMONTH(D6,-12)","v":"2026-06-30"},{"$f":"Instructions!$B$16","v":"2027-06-30"},{"$f":"EOMONTH(D6,12)","v":"2028-06-30"},{"$f":"EOMONTH(E6,12)","v":"2029-06-30"},{"$f":"EOMONTH(F6,12)","v":"2030-06-30"},{"$f":"EOMONTH(G6,12)","v":"2031-06-30"},null,{"$f":"D6","v":"2027-06-30"},{"$f":"E6","v":"2028-06-30"},{"$f":"F6","v":"2029-06-30"},{"$f":"G6","v":"2030-06-30"},{"$f":"H6","v":"2031-06-30"},null,{"$f":"J6","v":"2027-06-30"},{"$f":"K6","v":"2028-06-30"},{"$f":"L6","v":"2029-06-30"},{"$f":"M6","v":"2030-06-30"},{"$f":"N6","v":"2031-06-30"},null,{"$f":"Instructions!$B$20","v":"2027-31"},{"$f":"Instructions!$B$20","v":"2027-31"},null,{"$f":"P6","v":"2027-06-30"},{"$f":"Q6","v":"2028-06-30"},{"$f":"R6","v":"2029-06-30"},{"$f":"S6","v":"2030-06-30"},{"$f":"T6","v":"2031-06-30"},null,{"$f":"Y6","v":"2027-06-30"},{"$f":"Z6","v":"2028-06-30"},{"$f":"AA6","v":"2029-06-30"},{"$f":"AB6","v":"2030-06-30"},{"$f":"AC6","v":"2031-06-30"}]
[{"$f":"#REF!","v":{"$error":"#REF!"}},null,{"$f":"#REF!","v":{"$error":"#REF!"}},{"$f":"'Charges Summary'!D$31","v":{"$error":"#REF!"}},{"$f":"'Charges Summary'!E$31","v":{"$error":"#REF!"}},{"$f":"'Charges Summary'!F$31","v":{"$error":"#REF!"}},{"$f":"'Charges Summary'!G$31","v":{"$error":"#REF!"}},{"$f":"'Charges Summary'!H$31","v":{"$error":"#REF!"}},null,{"$f":"IF(C7=0,\"\",D7/C7-1)","v":{"$error":"#REF!"}},{"$f":"IF(D7=0,\"\",E7/D7-1)","v":{"$error":"#REF!"}},{"$f":"IF(E7=0,\"\",F7/E7-1)","v":{"$error":"#REF!"}},{"$f":"IF(F7=0,\"\",G7/F7-1)","v":{"$error":"#REF!"}},{"$f":"IF(G7=0,\"\",H7/G7-1)","v":{"$error":"#REF!"}},null,{"$f":"IF(C7=0,\"\",(D7/'Charges Summary'!D$4)/C7-1)","v":{"$error":"#REF!"}},{"$f":"IF(D7=0,\"\",(E7/'Charges Summary'!E$4)/(D7/'Charges Summary'!D$4)-1)","v":{"$error":"#REF!"}},{"$f":"IF(E7=0,\"\",(F7/'Charges Summary'!F$4)/(E7/'Charges Summary'!E$4)-1)","v":{"$error":"#REF!"}},{"$f":"IF(F7=0,\"\",(G7/'Charges Summary'!G$4)/(F7/'Charges Summary'!F$4)-1)","v":{"$error":"#REF!"}},{"$f":"IF(G7=0,\"\",(H7/'Charges Summary'!H$4)/(G7/'Charges Summary'!G$4)-1)","v":{"$error":"#REF!"}},null,{"$f":"SUM(#REF!)/5","v":{"$error":"#REF!"}},{"$f":"V7/V$35","v":{"$error":"#REF!"}},null,62.321907585980881,63.786352164269147,67.135308615964547,73.400062830147263,74.900590548823914,null,{"$f":"D7-Y7","v":{"$error":"#REF!"}},{"$f":"E7-Z7","v":{"$error":"#REF!"}},{"$f":"F7-AA7","v":{"$error":"#REF!"}},{"$f":"G7-AB7","v":{"$error":"#REF!"}},{"$f":"H7-AC7","v":{"$error":"#REF!"}}]
[{"$f":"#REF!","v":{"$error":"#REF!"}},null,{"$f":"#REF!","v":{"$error":"#REF!"}},{"$f":"'Charges Summary'!D$55","v":{"$error":"#REF!"}},{"$f":"'Charges Summary'!E$55","v":{"$error":"#REF!"}},{"$f":"'Charges Summary'!F$55","v":{"$error":"#REF!"}},{"$f":"'Charges Summary'!G$55","v":{"$error":"#REF!"}},{"$f":"'Charges Summary'!H$55","v":{"$error":"#REF!"}},null,{"$error":"#REF!"},{"$error":"#REF!"},{"$error":"#REF!"},{"$error":"#REF!"},{"$error":"#REF!"},null,{"$f":"IF(C8=0,\"\",(D8/'Charges Summary'!D$4)/C8-1)","v":{"$error":"#REF!"}},{"$f":"IF(D8=0,\"\",(E8/'Charges Summary'!E$4)/(D8/'Charges Summary'!D$4)-1)","v":{"$error":"#REF!"}},{"$f":"IF(E8=0,\"\",(F8/'Charges Summary'!F$4)/(E8/'Charges Summary'!E$4)-1)","v":{"$error":"#REF!"}},{"$f":"IF(F8=0,\"\",(G8/'Charges Summary'!G$4)/(F8/'Charges Summary'!F$4)-1)","v":{"$error":"#REF!"}},{"$f":"IF(G8=0,\"\",(H8/'Charges Summary'!H$4)/(G8/'Charges Summary'!G$4)-1)","v":{"$error":"#REF!"}},null,{"$f":"SUM(#REF!)/5","v":{"$error":"#REF!"}},{"$f":"V8/V$35","v":{"$error":"#REF!"}},null,114.83059635444388,117.66892757885847,121.2194088237039,129.78299669228835,133.07833975556099,null,{"$f":"D8-Y8","v":{"$error":"#REF!"}},{"$f":"E8-Z8","v":{"$error":"#REF!"}},{"$f":"F8-AA8","v":{"$error":"#REF!"}},{"$f":"G8-AB8","v":{"$error":"#REF!"}},{"$f":"H8-AC8","v":{"$error":"#REF!"}}]
[{"$f":"#REF!","v":{"$error":"#REF!"}},null,{"$f":"#REF!","v":{"$error":"#REF!"}},{"$f":"'Charges Summary'!D$71","v":{"$error":"#REF!"}},{"$f":"'Charges Summary'!E$71","v":{"$error":"#REF!"}},{"$f":"'Charges Summary'!F$71","v":{"$error":"#REF!"}},{"$f":"'Charges Summary'!G$71","v":{"$error":"#REF!"}},{"$f":"'Charges Summary'!H$71","v":{"$error":"#REF!"}},null,{"$error":"#REF!"},{"$error":"#REF!"},{"$error":"#REF!"},{"$error":"#REF!"},{"$error":"#REF!"},null,{"$f":"IF(C9=0,\"\",(D9/'Charges Summary'!D$4)/C9-1)","v":{"$error":"#REF!"}},{"$f":"IF(D9=0,\"\",(E9/'Charges Summary'!E$4)/(D9/'Charges Summary'!D$4)-1)","v":{"$error":"#REF!"}},{"$f":"IF(E9=0,\"\",(F9/'Charges Summary'!F$4)/(E9/'Charges Summary'!E$4)-1)","v":{"$error":"#REF!"}},{"$f":"IF(F9=0,\"\",(G9/'Charges Summary'!G$4)/(F9/'Charges Summary'!F$4)-1)","v":{"$error":"#REF!"}},{"$f":"IF(G9=0,\"\",(H9/'Charges Summary'!H$4)/(G9/'Charges Summary'!G$4)-1)","v":{"$error":"#REF!"}},null,{"$f":"SUM(#REF!)/5","v":{"$error":"#REF!"}},{"$error":"#REF!"},null,117.73553186638632,120.63857677996776,124.4543534271849,133.23244892232503,136.60347723422603,null,{"$error":"#REF!"},{"$error":"#REF!"},{"$error":"#REF!"},{"$error":"#REF!"},{"$error":"#REF!"}]
[{"$f":"#REF!","v":{"$error":"#REF!"}},null,{"$f":"#REF!","v":{"$error":"#REF!"}},{"$f":"IF(#REF!=#REF!,D$7,IF(#REF!=#REF!,D$8,D$9))*#REF!","v":{"$error":"#REF!"}},{"$f":"IF(#REF!=#REF!,E$7,IF(#REF!=#REF!,E$8,E$9))*#REF!","v":{"$error":"#REF!"}},{"$f":"IF(#REF!=#REF!,F$7,IF(#REF!=#REF!,F$8,F$9))*#REF!","v":{"$error":"#REF!"}},{"$f":"IF(#REF!=#REF!,G$7,IF(#REF!=#REF!,G$8,G$9))*#REF!","v":{"$error":"#REF!"}},{"$f":"IF(#REF!=#REF!,H$7,IF(#REF!=#REF!,H$8,H$9))*#REF!","v":{"$error":"#REF!"}},null,{"$error":"#REF!"},{"$error":"#REF!"},{"$error":"#REF!"},{"$error":"#REF!"},{"$error":"#REF!"},null,{"$f":"IF(C10=0,\"\",(D10/'Charges Summary'!D$4)/C10-1)","v":{"$error":"#REF!"}},{"$f":"IF(D10=0,\"\",(E10/'Charges Summary'!E$4)/(D10/'Charges Summary'!D$4)-1)","v":{"$error":"#REF!"}},{"$f":"IF(E10=0,\"\",(F10/'Charges Summary'!F$4)/(E10/'Charges Summary'!E$4)-1)","v":{"$error":"#REF!"}},{"$f":"IF(F10=0,\"\",(G10/'Charges Summary'!G$4)/(F10/'Charges Summary'!F$4)-1)","v":{"$error":"#REF!"}},{"$f":"IF(G10=0,\"\",(H10/'Charges Summary'!H$4)/(G10/'Charges Summary'!G$4)-1)","v":{"$error":"#REF!"}},null,{"$f":"SUM(#REF!)/5","v":{"$error":"#REF!"}},{"$error":"#REF!"},null,95.352518606550746,97.593118811331792,102.71702218242577,112.30209613012532,114.5979035397006,null,{"$error":"#REF!"},{"$error":"#REF!"},{"$error":"#REF!"},{"$error":"#REF!"},{"$error":"#REF!"}]
[{"$f":"#REF!","v":{"$error":"#REF!"}},null,{"$f":"#REF!","v":{"$error":"#REF!"}},{"$f":"IF(#REF!=#REF!,D$7,IF(#REF!=#REF!,D$8,D$9))*#REF!","v":{"$error":"#REF!"}},{"$f":"IF(#REF!=#REF!,E$7,IF(#REF!=#REF!,E$8,E$9))*#REF!","v":{"$error":"#REF!"}},{"$f":"IF(#REF!=#REF!,F$7,IF(#REF!=#REF!,F$8,F$9))*#REF!","v":{"$error":"#REF!"}},{"$f":"IF(#REF!=#REF!,G$7,IF(#REF!=#REF!,G$8,G$9))*#REF!","v":{"$error":"#REF!"}},{"$f":"IF(#REF!=#REF!,H$7,IF(#REF!=#REF!,H$8,H$9))*#REF!","v":{"$error":"#REF!"}},null,{"$error":"#REF!"},{"$error":"#REF!"},{"$error":"#REF!"},{"$error":"#REF!"},{"$error":"#REF!"},null,{"$f":"IF(C11=0,\"\",(D11/'Charges Summary'!D$4)/C11-1)","v":{"$error":"#REF!"}},{"$f":"IF(D11=0,\"\",(E11/'Charges Summary'!E$4)/(D11/'Charges Summary'!D$4)-1)","v":{"$error":"#REF!"}},{"$f":"IF(E11=0,\"\",(F11/'Charges Summary'!F$4)/(E11/'Charges Summary'!E$4)-1)","v":{"$error":"#REF!"}},{"$f":"IF(F11=0,\"\",(G11/'Charges Summary'!G$4)/(F11/'Charges Summary'!F$4)-1)","v":{"$error":"#REF!"}},{"$f":"IF(G11=0,\"\",(H11/'Charges Summary'!H$4)/(G11/'Charges Summary'!G$4)-1)","v":{"$error":"#REF!"}},null,{"$f":"SUM(#REF!)/5","v":{"$error":"#REF!"}},{"$error":"#REF!"},null,91.613204151391898,93.765937681475648,98.688903665467876,107.89809236031647,110.10386810677115,null,{"$error":"#REF!"},{"$error":"#REF!"},{"$error":"#REF!"},{"$error":"#REF!"},{"$error":"#REF!"}]
[{"$f":"#REF!","v":{"$error":"#REF!"}},null,{"$f":"#REF!","v":{"$error":"#REF!"}},{"$f":"IF(#REF!=#REF!,D$7,IF(#REF!=#REF!,D$8,D$9))*#REF!","v":{"$error":"#REF!"}},{"$f":"IF(#REF!=#REF!,E$7,IF(#REF!=#REF!,E$8,E$9))*#REF!","v":{"$error":"#REF!"}},{"$f":"IF(#REF!=#REF!,F$7,IF(#REF!=#REF!,F$8,F$9))*#REF!","v":{"$error":"#REF!"}},{"$f":"IF(#REF!=#REF!,G$7,IF(#REF!=#REF!,G$8,G$9))*#REF!","v":{"$error":"#REF!"}},{"$f":"IF(#REF!=#REF!,H$7,IF(#REF!=#REF!,H$8,H$9))*#REF!","v":{"$error":"#REF!"}},null,{"$error":"#REF!"},{"$error":"#REF!"},{"$error":"#REF!"},{"$error":"#REF!"},{"$error":"#REF!"},null,{"$f":"IF(C12=0,\"\",(D12/'Charges Summary'!D$4)/C12-1)","v":{"$error":"#REF!"}},{"$f":"IF(D12=0,\"\",(E12/'Charges Summary'!E$4)/(D12/'Charges Summary'!D$4)-1)","v":{"$error":"#REF!"}},{"$f":"IF(E12=0,\"\",(F12/'Charges Summary'!F$4)/(E12/'Charges Summary'!E$4)-1)","v":{"$error":"#REF!"}},{"$f":"IF(F12=0,\"\",(G12/'Charges Summary'!G$4)/(F12/'Charges Summary'!F$4)-1)","v":{"$error":"#REF!"}},{"$f":"IF(G12=0,\"\",(H12/'Charges Summary'!H$4)/(G12/'Charges Summary'!G$4)-1)","v":{"$error":"#REF!"}},null,{"$f":"SUM(#REF!)/5","v":{"$error":"#REF!"}},{"$error":"#REF!"},null,123.62230845970565,126.67050561896616,130.67707109854416,139.8940713684413,143.43365109593734,null,{"$error":"#REF!"},{"$error":"#REF!"},{"$error":"#REF!"},{"$error":"#REF!"},{"$error":"#REF!"}]
[{"$f":"#REF!","v":{"$error":"#REF!"}},null,{"$f":"#REF!","v":{"$error":"#REF!"}},{"$f":"IF(#REF!=#REF!,D$7,IF(#REF!=#REF!,D$8,D$9))*#REF!","v":{"$error":"#REF!"}},{"$f":"IF(#REF!=#REF!,E$7,IF(#REF!=#REF!,E$8,E$9))*#REF!","v":{"$error":"#REF!"}},{"$f":"IF(#REF!=#REF!,F$7,IF(#REF!=#REF!,F$8,F$9))*#REF!","v":{"$error":"#REF!"}},{"$f":"IF(#REF!=#REF!,G$7,IF(#REF!=#REF!,G$8,G$9))*#REF!","v":{"$error":"#REF!"}},{"$f":"IF(#REF!=#REF!,H$7,IF(#REF!=#REF!,H$8,H$9))*#REF!","v":{"$error":"#REF!"}},null,{"$error":"#REF!"},{"$error":"#REF!"},{"$error":"#REF!"},{"$error":"#REF!"},{"$error":"#REF!"},null,{"$f":"IF(C13=0,\"\",(D13/'Charges Summary'!D$4)/C13-1)","v":{"$error":"#REF!"}},{"$f":"IF(D13=0,\"\",(E13/'Charges Summary'!E$4)/(D13/'Charges Summary'!D$4)-1)","v":{"$error":"#REF!"}},{"$f":"IF(E13=0,\"\",(F13/'Charges Summary'!F$4)/(E13/'Charges Summary'!E$4)-1)","v":{"$error":"#REF!"}},{"$f":"IF(F13=0,\"\",(G13/'Charges Summary'!G$4)/(F13/'Charges Summary'!F$4)-1)","v":{"$error":"#REF!"}},{"$f":"IF(G13=0,\"\",(H13/'Charges Summary'!H$4)/(G13/'Charges Summary'!G$4)-1)","v":{"$error":"#REF!"}},null,{"$f":"SUM(#REF!)/5","v":{"$error":"#REF!"}},{"$error":"#REF!"},null,128.33172973436109,131.49604869016488,135.65524523563155,145.22336932533429,148.89779018530638,null,{"$error":"#REF!"},{"$error":"#REF!"},{"$error":"#REF!"},{"$error":"#REF!"},{"$error":"#REF!"}]
[{"$f":"#REF!","v":{"$error":"#REF!"}},null,{"$f":"#REF!","v":{"$error":"#REF!"}},{"$f":"IF(#REF!=#REF!,D$7,IF(#REF!=#REF!,D$8,D$9))*#REF!","v":{"$error":"#REF!"}},{"$f":"IF(#REF!=#REF!,E$7,IF(#REF!=#REF!,E$8,E$9))*#REF!","v":{"$error":"#REF!"}},{"$f":"IF(#REF!=#REF!,F$7,IF(#REF!=#REF!,F$8,F$9))*#REF!","v":{"$error":"#REF!"}},{"$f":"IF(#REF!=#REF!,G$7,IF(#REF!=#REF!,G$8,G$9))*#REF!","v":{"$error":"#REF!"}},{"$f":"IF(#REF!=#REF!,H$7,IF(#REF!=#REF!,H$8,H$9))*#REF!","v":{"$error":"#REF!"}},null,{"$error":"#REF!"},{"$error":"#REF!"},{"$error":"#REF!"},{"$error":"#REF!"},{"$error":"#REF!"},null,{"$f":"IF(C14=0,\"\",(D14/'Charges Summary'!D$4)/C14-1)","v":{"$error":"#REF!"}},{"$f":"IF(D14=0,\"\",(E14/'Charges Summary'!E$4)/(D14/'Charges Summary'!D$4)-1)","v":{"$error":"#REF!"}},{"$f":"IF(E14=0,\"\",(F14/'Charges Summary'!F$4)/(E14/'Charges Summary'!E$4)-1)","v":{"$error":"#REF!"}},{"$f":"IF(F14=0,\"\",(G14/'Charges Summary'!G$4)/(F14/'Charges Summary'!F$4)-1)","v":{"$error":"#REF!"}},{"$f":"IF(G14=0,\"\",(H14/'Charges Summary'!H$4)/(G14/'Charges Summary'!G$4)-1)","v":{"$error":"#REF!"}},null,{"$f":"SUM(#REF!)/5","v":{"$error":"#REF!"}},{"$error":"#REF!"},null,122.86873809925497,125.90575250937857,129.70476744136317,138.86780646074854,142.39382353845028,null,{"$error":"#REF!"},{"$error":"#REF!"},{"$error":"#REF!"},{"$error":"#REF!"},{"$error":"#REF!"}]
[{"$f":"#REF!","v":{"$error":"#REF!"}},null,{"$f":"#REF!","v":{"$error":"#REF!"}},{"$f":"IF(#REF!=#REF!,D$7,IF(#REF!=#REF!,D$8,D$9))*#REF!","v":{"$error":"#REF!"}},{"$f":"IF(#REF!=#REF!,E$7,IF(#REF!=#REF!,E$8,E$9))*#REF!","v":{"$error":"#REF!"}},{"$f":"IF(#REF!=#REF!,F$7,IF(#REF!=#REF!,F$8,F$9))*#REF!","v":{"$error":"#REF!"}},{"$f":"IF(#REF!=#REF!,G$7,IF(#REF!=#REF!,G$8,G$9))*#REF!","v":{"$error":"#REF!"}},{"$f":"IF(#REF!=#REF!,H$7,IF(#REF!=#REF!,H$8,H$9))*#REF!","v":{"$error":"#REF!"}},null,{"$error":"#REF!"},{"$error":"#REF!"},{"$error":"#REF!"},{"$error":"#REF!"},{"$error":"#REF!"},null,{"$f":"IF(C15=0,\"\",(D15/'Charges Summary'!D$4)/C15-1)","v":{"$error":"#REF!"}},{"$f":"IF(D15=0,\"\",(E15/'Charges Summary'!E$4)/(D15/'Charges Summary'!D$4)-1)","v":{"$error":"#REF!"}},{"$f":"IF(E15=0,\"\",(F15/'Charges Summary'!F$4)/(E15/'Charges Summary'!E$4)-1)","v":{"$error":"#REF!"}},{"$f":"IF(F15=0,\"\",(G15/'Charges Summary'!G$4)/(F15/'Charges Summary'!F$4)-1)","v":{"$error":"#REF!"}},{"$f":"IF(G15=0,\"\",(H15/'Charges Summary'!H$4)/(G15/'Charges Summary'!G$4)-1)","v":{"$error":"#REF!"}},null,{"$f":"SUM(#REF!)/5","v":{"$error":"#REF!"}},{"$error":"#REF!"},null,167.18445525026857,171.30677902755423,176.72518186660255,189.19007746970155,193.97693767260097,null,{"$error":"#REF!"},{"$error":"#REF!"},{"$error":"#REF!"},{"$error":"#REF!"},{"$error":"#REF!"}]
[{"$f":"#REF!","v":{"$error":"#REF!"}},null,{"$f":"#REF!","v":{"$error":"#REF!"}},{"$f":"IF(#REF!=#REF!,D$7,IF(#REF!=#REF!,D$8,D$9))*#REF!","v":{"$error":"#REF!"}},{"$f":"IF(#REF!=#REF!,E$7,IF(#REF!=#REF!,E$8,E$9))*#REF!","v":{"$error":"#REF!"}},{"$f":"IF(#REF!=#REF!,F$7,IF(#REF!=#REF!,F$8,F$9))*#REF!","v":{"$error":"#REF!"}},{"$f":"IF(#REF!=#REF!,G$7,IF(#REF!=#REF!,G$8,G$9))*#REF!","v":{"$error":"#REF!"}},{"$f":"IF(#REF!=#REF!,H$7,IF(#REF!=#REF!,H$8,H$9))*#REF!","v":{"$error":"#REF!"}},null,{"$f":"IF(C16=0,\"\",D16/C16-1)","v":{"$error":"#REF!"}},{"$error":"#REF!"},{"$error":"#REF!"},{"$error":"#REF!"},{"$error":"#REF!"},null,{"$f":"IF(C16=0,\"\",(D16/'Charges Summary'!D$4)/C16-1)","v":{"$error":"#REF!"}},{"$f":"IF(D16=0,\"\",(E16/'Charges Summary'!E$4)/(D16/'Charges Summary'!D$4)-1)","v":{"$error":"#REF!"}},{"$f":"IF(E16=0,\"\",(F16/'Charges Summary'!F$4)/(E16/'Charges Summary'!E$4)-1)","v":{"$error":"#REF!"}},{"$f":"IF(F16=0,\"\",(G16/'Charges Summary'!G$4)/(F16/'Charges Summary'!F$4)-1)","v":{"$error":"#REF!"}},{"$f":"IF(G16=0,\"\",(H16/'Charges Summary'!H$4)/(G16/'Charges Summary'!G$4)-1)","v":{"$error":"#REF!"}},null,{"$f":"SUM(#REF!)/5","v":{"$error":"#REF!"}},{"$error":"#REF!"},null,272.04171264116724,278.4341679843543,293.05271680561731,320.39903099458809,326.94899305874941,null,{"$error":"#REF!"},{"$error":"#REF!"},{"$error":"#REF!"},{"$error":"#REF!"},{"$error":"#REF!"}]
[{"$f":"#REF!","v":{"$error":"#REF!"}},null,{"$f":"#REF!","v":{"$error":"#REF!"}},{"$f":"IF(#REF!=#REF!,D$7,IF(#REF!=#REF!,D$8,D$9))*#REF!","v":{"$error":"#REF!"}},{"$f":"IF(#REF!=#REF!,E$7,IF(#REF!=#REF!,E$8,E$9))*#REF!","v":{"$error":"#REF!"}},{"$f":"IF(#REF!=#REF!,F$7,IF(#REF!=#REF!,F$8,F$9))*#REF!","v":{"$error":"#REF!"}},{"$f":"IF(#REF!=#REF!,G$7,IF(#REF!=#REF!,G$8,G$9))*#REF!","v":{"$error":"#REF!"}},{"$f":"IF(#REF!=#REF!,H$7,IF(#REF!=#REF!,H$8,H$9))*#REF!","v":{"$error":"#REF!"}},null,{"$error":"#REF!"},{"$error":"#REF!"},{"$error":"#REF!"},{"$error":"#REF!"},{"$error":"#REF!"},null,{"$f":"IF(C17=0,\"\",(D17/'Charges Summary'!D$4)/C17-1)","v":{"$error":"#REF!"}},{"$f":"IF(D17=0,\"\",(E17/'Charges Summary'!E$4)/(D17/'Charges Summary'!D$4)-1)","v":{"$error":"#REF!"}},{"$f":"IF(E17=0,\"\",(F17/'Charges Summary'!F$4)/(E17/'Charges Summary'!E$4)-1)","v":{"$error":"#REF!"}},{"$f":"IF(F17=0,\"\",(G17/'Charges Summary'!G$4)/(F17/'Charges Summary'!F$4)-1)","v":{"$error":"#REF!"}},{"$f":"IF(G17=0,\"\",(H17/'Charges Summary'!H$4)/(G17/'Charges Summary'!G$4)-1)","v":{"$error":"#REF!"}},null,{"$f":"SUM(#REF!)/5","v":{"$error":"#REF!"}},{"$error":"#REF!"},null,274.17976184068863,280.95681433228151,289.43425965640722,309.88144496112267,317.74969963327123,null,{"$error":"#REF!"},{"$error":"#REF!"},{"$error":"#REF!"},{"$error":"#REF!"},{"$error":"#REF!"}]
[{"$f":"#REF!","v":{"$error":"#REF!"}},null,{"$f":"#REF!","v":{"$error":"#REF!"}},{"$f":"IF(#REF!=#REF!,D$7,IF(#REF!=#REF!,D$8,D$9))*#REF!","v":{"$error":"#REF!"}},{"$f":"IF(#REF!=#REF!,E$7,IF(#REF!=#REF!,E$8,E$9))*#REF!","v":{"$error":"#REF!"}},{"$f":"IF(#REF!=#REF!,F$7,IF(#REF!=#REF!,F$8,F$9))*#REF!","v":{"$error":"#REF!"}},{"$f":"IF(#REF!=#REF!,G$7,IF(#REF!=#REF!,G$8,G$9))*#REF!","v":{"$error":"#REF!"}},{"$f":"IF(#REF!=#REF!,H$7,IF(#REF!=#REF!,H$8,H$9))*#REF!","v":{"$error":"#REF!"}},null,{"$error":"#REF!"},{"$error":"#REF!"},{"$error":"#REF!"},{"$error":"#REF!"},{"$error":"#REF!"},null,{"$f":"IF(C18=0,\"\",(D18/'Charges Summary'!D$4)/C18-1)","v":{"$error":"#REF!"}},{"$f":"IF(D18=0,\"\",(E18/'Charges Summary'!E$4)/(D18/'Charges Summary'!D$4)-1)","v":{"$error":"#REF!"}},{"$f":"IF(E18=0,\"\",(F18/'Charges Summary'!F$4)/(E18/'Charges Summary'!E$4)-1)","v":{"$error":"#REF!"}},{"$f":"IF(F18=0,\"\",(G18/'Charges Summary'!G$4)/(F18/'Charges Summary'!F$4)-1)","v":{"$error":"#REF!"}},{"$f":"IF(G18=0,\"\",(H18/'Charges Summary'!H$4)/(G18/'Charges Summary'!G$4)-1)","v":{"$error":"#REF!"}},null,{"$f":"SUM(#REF!)/5","v":{"$error":"#REF!"}},{"$error":"#REF!"},null,311.4879614934739,319.18718134605774,328.81816995351971,352.04764548478028,360.98654962520743,null,{"$error":"#REF!"},{"$error":"#REF!"},{"$error":"#REF!"},{"$error":"#REF!"},{"$error":"#REF!"}]
[{"$f":"#REF!","v":{"$error":"#REF!"}},null,{"$f":"#REF!","v":{"$error":"#REF!"}},{"$f":"IF(#REF!=#REF!,D$7,IF(#REF!=#REF!,D$8,D$9))*#REF!","v":{"$error":"#REF!"}},{"$f":"IF(#REF!=#REF!,E$7,IF(#REF!=#REF!,E$8,E$9))*#REF!","v":{"$error":"#REF!"}},{"$f":"IF(#REF!=#REF!,F$7,IF(#REF!=#REF!,F$8,F$9))*#REF!","v":{"$error":"#REF!"}},{"$f":"IF(#REF!=#REF!,G$7,IF(#REF!=#REF!,G$8,G$9))*#REF!","v":{"$error":"#REF!"}},{"$f":"IF(#REF!=#REF!,H$7,IF(#REF!=#REF!,H$8,H$9))*#REF!","v":{"$error":"#REF!"}},null,{"$error":"#REF!"},{"$error":"#REF!"},{"$error":"#REF!"},{"$error":"#REF!"},{"$error":"#REF!"},null,{"$f":"IF(C19=0,\"\",(D19/'Charges Summary'!D$4)/C19-1)","v":{"$error":"#REF!"}},{"$f":"IF(D19=0,\"\",(E19/'Charges Summary'!E$4)/(D19/'Charges Summary'!D$4)-1)","v":{"$error":"#REF!"}},{"$f":"IF(E19=0,\"\",(F19/'Charges Summary'!F$4)/(E19/'Charges Summary'!E$4)-1)","v":{"$error":"#REF!"}},{"$f":"IF(F19=0,\"\",(G19/'Charges Summary'!G$4)/(F19/'Charges Summary'!F$4)-1)","v":{"$error":"#REF!"}},{"$f":"IF(G19=0,\"\",(H19/'Charges Summary'!H$4)/(G19/'Charges Summary'!G$4)-1)","v":{"$error":"#REF!"}},null,{"$f":"SUM(#REF!)/5","v":{"$error":"#REF!"}},{"$error":"#REF!"},null,50.909578442746508,52.16793858980882,53.742026935444791,57.538651373424386,58.999625464838189,null,{"$error":"#REF!"},{"$error":"#REF!"},{"$error":"#REF!"},{"$error":"#REF!"},{"$error":"#REF!"}]
[]
[]
[{"$f":"#REF!","v":{"$error":"#REF!"}}]
[{"$f":"#REF!","v":{"$error":"#REF!"}},null,{"$f":"#REF!","v":{"$error":"#REF!"}},{"$f":"'Charges Summary'!D$89","v":{"$error":"#REF!"}},{"$f":"'Charges Summary'!E$89","v":{"$error":"#REF!"}},{"$f":"'Charges Summary'!F$89","v":{"$error":"#REF!"}},{"$f":"'Charges Summary'!G$89","v":{"$error":"#REF!"}},{"$f":"'Charges Summary'!H$89","v":{"$error":"#REF!"}},null,{"$f":"IF(C23=0,\"\",D23/C23-1)","v":{"$error":"#REF!"}},{"$error":"#REF!"},{"$error":"#REF!"},{"$error":"#REF!"},{"$error":"#REF!"},null,{"$f":"IF(C23=0,\"\",(D23/'Charges Summary'!D$4)/C23-1)","v":{"$error":"#REF!"}},{"$f":"IF(D23=0,\"\",(E23/'Charges Summary'!E$4)/(D23/'Charges Summary'!D$4)-1)","v":{"$error":"#REF!"}},{"$f":"IF(E23=0,\"\",(F23/'Charges Summary'!F$4)/(E23/'Charges Summary'!E$4)-1)","v":{"$error":"#REF!"}},{"$f":"IF(F23=0,\"\",(G23/'Charges Summary'!G$4)/(F23/'Charges Summary'!F$4)-1)","v":{"$error":"#REF!"}},{"$f":"IF(G23=0,\"\",(H23/'Charges Summary'!H$4)/(G23/'Charges Summary'!G$4)-1)","v":{"$error":"#REF!"}},null,{"$f":"SUM(#REF!)/5","v":{"$error":"#REF!"}},{"$f":"V23/V$35","v":{"$error":"#REF!"}},null,51.544817250187165,54.59179000929111,57.341445034692761,59.951362827100176,62.196837632966982,null,{"$f":"D23-Y23","v":{"$error":"#REF!"}},{"$f":"E23-Z23","v":{"$error":"#REF!"}},{"$f":"F23-AA23","v":{"$error":"#REF!"}},{"$f":"G23-AB23","v":{"$error":"#REF!"}},{"$f":"H23-AC23","v":{"$error":"#REF!"}}]
[{"$f":"#REF!","v":{"$error":"#REF!"}},null,{"$f":"#REF!","v":{"$error":"#REF!"}},{"$f":"'Charges Summary'!D$105","v":{"$error":"#REF!"}},{"$f":"'Charges Summary'!E$105","v":{"$error":"#REF!"}},{"$f":"'Charges Summary'!F$105","v":{"$error":"#REF!"}},{"$f":"'Charges Summary'!G$105","v":{"$error":"#REF!"}},{"$f":"'Charges Summary'!H$105","v":{"$error":"#REF!"}},null,{"$error":"#REF!"},{"$error":"#REF!"},{"$error":"#REF!"},{"$error":"#REF!"},{"$error":"#REF!"},null,{"$f":"IF(C24=0,\"\",(D24/'Charges Summary'!D$4)/C24-1)","v":{"$error":"#REF!"}},{"$f":"IF(D24=0,\"\",(E24/'Charges Summary'!E$4)/(D24/'Charges Summary'!D$4)-1)","v":{"$error":"#REF!"}},{"$f":"IF(E24=0,\"\",(F24/'Charges Summary'!F$4)/(E24/'Charges Summary'!E$4)-1)","v":{"$error":"#REF!"}},{"$f":"IF(F24=0,\"\",(G24/'Charges Summary'!G$4)/(F24/'Charges Summary'!F$4)-1)","v":{"$error":"#REF!"}},{"$f":"IF(G24=0,\"\",(H24/'Charges Summary'!H$4)/(G24/'Charges Summary'!G$4)-1)","v":{"$error":"#REF!"}},null,{"$f":"SUM(#REF!)/5","v":{"$error":"#REF!"}},{"$error":"#REF!"},null,55.057421927610918,58.239361874689443,61.121904111559722,63.869126082183016,66.251658213373446,null,{"$error":"#REF!"},{"$error":"#REF!"},{"$error":"#REF!"},{"$error":"#REF!"},{"$error":"#REF!"}]
[{"$f":"#REF!","v":{"$error":"#REF!"}},null,{"$f":"#REF!","v":{"$error":"#REF!"}},{"$f":"'Charges Summary'!D$121","v":{"$error":"#REF!"}},{"$f":"'Charges Summary'!E$121","v":{"$error":"#REF!"}},{"$f":"'Charges Summary'!F$121","v":{"$error":"#REF!"}},{"$f":"'Charges Summary'!G$121","v":{"$error":"#REF!"}},{"$f":"'Charges Summary'!H$121","v":{"$error":"#REF!"}},null,{"$f":"IF(C25=0,\"\",D25/C25-1)","v":{"$error":"#REF!"}},{"$f":"IF(D25=0,\"\",E25/D25-1)","v":{"$error":"#REF!"}},{"$f":"IF(E25=0,\"\",F25/E25-1)","v":{"$error":"#REF!"}},{"$f":"IF(F25=0,\"\",G25/F25-1)","v":{"$error":"#REF!"}},{"$f":"IF(G25=0,\"\",H25/G25-1)","v":{"$error":"#REF!"}},null,{"$f":"IF(C25=0,\"\",(D25/'Charges Summary'!D$4)/C25-1)","v":{"$error":"#REF!"}},{"$f":"IF(D25=0,\"\",(E25/'Charges Summary'!E$4)/(D25/'Charges Summary'!D$4)-1)","v":{"$error":"#REF!"}},{"$f":"IF(E25=0,\"\",(F25/'Charges Summary'!F$4)/(E25/'Charges Summary'!E$4)-1)","v":{"$error":"#REF!"}},{"$f":"IF(F25=0,\"\",(G25/'Charges Summary'!G$4)/(F25/'Charges Summary'!F$4)-1)","v":{"$error":"#REF!"}},{"$f":"IF(G25=0,\"\",(H25/'Charges Summary'!H$4)/(G25/'Charges Summary'!G$4)-1)","v":{"$error":"#REF!"}},null,{"$f":"SUM(#REF!)/5","v":{"$error":"#REF!"}},{"$error":"#REF!"},null,29.228545922987898,31.359196237341994,33.21847795069408,34.920797196441129,36.278316389212193,null,{"$error":"#REF!"},{"$error":"#REF!"},{"$error":"#REF!"},{"$error":"#REF!"},{"$error":"#REF!"}]
[{"$f":"#REF!","v":{"$error":"#REF!"}},null,{"$f":"#REF!","v":{"$error":"#REF!"}},{"$f":"'Charges Summary'!D$137","v":{"$error":"#REF!"}},{"$f":"'Charges Summary'!E$137","v":{"$error":"#REF!"}},{"$f":"'Charges Summary'!F$137","v":{"$error":"#REF!"}},{"$f":"'Charges Summary'!G$137","v":{"$error":"#REF!"}},{"$f":"'Charges Summary'!H$137","v":{"$error":"#REF!"}},null,{"$f":"IF(C26=0,\"\",D26/C26-1)","v":{"$error":"#REF!"}},{"$error":"#REF!"},{"$error":"#REF!"},{"$error":"#REF!"},{"$error":"#REF!"},null,{"$f":"IF(C26=0,\"\",(D26/'Charges Summary'!D$4)/C26-1)","v":{"$error":"#REF!"}},{"$f":"IF(D26=0,\"\",(E26/'Charges Summary'!E$4)/(D26/'Charges Summary'!D$4)-1)","v":{"$error":"#REF!"}},{"$f":"IF(E26=0,\"\",(F26/'Charges Summary'!F$4)/(E26/'Charges Summary'!E$4)-1)","v":{"$error":"#REF!"}},{"$f":"IF(F26=0,\"\",(G26/'Charges Summary'!G$4)/(F26/'Charges Summary'!F$4)-1)","v":{"$error":"#REF!"}},{"$f":"IF(G26=0,\"\",(H26/'Charges Summary'!H$4)/(G26/'Charges Summary'!G$4)-1)","v":{"$error":"#REF!"}},null,{"$f":"SUM(#REF!)/5","v":{"$error":"#REF!"}},{"$error":"#REF!"},null,31.054008107993265,33.232905387317004,35.143299338588498,36.901732621344387,38.32045491286226,null,{"$error":"#REF!"},{"$error":"#REF!"},{"$error":"#REF!"},{"$error":"#REF!"},{"$error":"#REF!"}]
[{"$f":"#REF!","v":{"$error":"#REF!"}},null,{"$f":"#REF!","v":{"$error":"#REF!"}},{"$f":"'Charges Summary'!D$153","v":{"$error":"#REF!"}},{"$f":"'Charges Summary'!E$153","v":{"$error":"#REF!"}},{"$f":"'Charges Summary'!F$153","v":{"$error":"#REF!"}},{"$f":"'Charges Summary'!G$153","v":{"$error":"#REF!"}},{"$f":"'Charges Summary'!H$153","v":{"$error":"#REF!"}},null,{"$error":"#REF!"},{"$error":"#REF!"},{"$error":"#REF!"},{"$error":"#REF!"},{"$error":"#REF!"},null,{"$f":"IF(C27=0,\"\",(D27/'Charges Summary'!D$4)/C27-1)","v":{"$error":"#REF!"}},{"$f":"IF(D27=0,\"\",(E27/'Charges Summary'!E$4)/(D27/'Charges Summary'!D$4)-1)","v":{"$error":"#REF!"}},{"$f":"IF(E27=0,\"\",(F27/'Charges Summary'!F$4)/(E27/'Charges Summary'!E$4)-1)","v":{"$error":"#REF!"}},{"$f":"IF(F27=0,\"\",(G27/'Charges Summary'!G$4)/(F27/'Charges Summary'!F$4)-1)","v":{"$error":"#REF!"}},{"$f":"IF(G27=0,\"\",(H27/'Charges Summary'!H$4)/(G27/'Charges Summary'!G$4)-1)","v":{"$error":"#REF!"}},null,{"$f":"SUM(#REF!)/5","v":{"$error":"#REF!"}},{"$error":"#REF!"},null,48.821185374307021,52.611333640475671,55.935369655162596,58.981985384847007,61.428814168942637,null,{"$error":"#REF!"},{"$error":"#REF!"},{"$error":"#REF!"},{"$error":"#REF!"},{"$error":"#REF!"}]
[{"$f":"#REF!","v":{"$error":"#REF!"}},null,{"$f":"#REF!","v":{"$error":"#REF!"}},{"$f":"'Charges Summary'!D$169","v":{"$error":"#REF!"}},{"$f":"'Charges Summary'!E$169","v":{"$error":"#REF!"}},{"$f":"'Charges Summary'!F$169","v":{"$error":"#REF!"}},{"$f":"'Charges Summary'!G$169","v":{"$error":"#REF!"}},{"$f":"'Charges Summary'!H$169","v":{"$error":"#REF!"}},null,{"$error":"#REF!"},{"$error":"#REF!"},{"$error":"#REF!"},{"$error":"#REF!"},{"$error":"#REF!"},null,{"$f":"IF(C28=0,\"\",(D28/'Charges Summary'!D$4)/C28-1)","v":{"$error":"#REF!"}},{"$f":"IF(D28=0,\"\",(E28/'Charges Summary'!E$4)/(D28/'Charges Summary'!D$4)-1)","v":{"$error":"#REF!"}},{"$f":"IF(E28=0,\"\",(F28/'Charges Summary'!F$4)/(E28/'Charges Summary'!E$4)-1)","v":{"$error":"#REF!"}},{"$f":"IF(F28=0,\"\",(G28/'Charges Summary'!G$4)/(F28/'Charges Summary'!F$4)-1)","v":{"$error":"#REF!"}},{"$f":"IF(G28=0,\"\",(H28/'Charges Summary'!H$4)/(G28/'Charges Summary'!G$4)-1)","v":{"$error":"#REF!"}},null,{"$f":"SUM(#REF!)/5","v":{"$error":"#REF!"}},{"$error":"#REF!"},null,49.485866322784091,53.435280985823042,56.889819003210391,60.044096979312535,62.558548564465355,null,{"$error":"#REF!"},{"$error":"#REF!"},{"$error":"#REF!"},{"$error":"#REF!"},{"$error":"#REF!"}]
[{"$f":"#REF!","v":{"$error":"#REF!"}},null,{"$f":"#REF!","v":{"$error":"#REF!"}},{"$f":"'Charges Summary'!D$185","v":{"$error":"#REF!"}},{"$f":"'Charges Summary'!E$185","v":{"$error":"#REF!"}},{"$f":"'Charges Summary'!F$185","v":{"$error":"#REF!"}},{"$f":"'Charges Summary'!G$185","v":{"$error":"#REF!"}},{"$f":"'Charges Summary'!H$185","v":{"$error":"#REF!"}},null,{"$error":"#REF!"},{"$error":"#REF!"},{"$error":"#REF!"},{"$error":"#REF!"},{"$error":"#REF!"},null,{"$f":"IF(C29=0,\"\",(D29/'Charges Summary'!D$4)/C29-1)","v":{"$error":"#REF!"}},{"$f":"IF(D29=0,\"\",(E29/'Charges Summary'!E$4)/(D29/'Charges Summary'!D$4)-1)","v":{"$error":"#REF!"}},{"$f":"IF(E29=0,\"\",(F29/'Charges Summary'!F$4)/(E29/'Charges Summary'!E$4)-1)","v":{"$error":"#REF!"}},{"$f":"IF(F29=0,\"\",(G29/'Charges Summary'!G$4)/(F29/'Charges Summary'!F$4)-1)","v":{"$error":"#REF!"}},{"$f":"IF(G29=0,\"\",(H29/'Charges Summary'!H$4)/(G29/'Charges Summary'!G$4)-1)","v":{"$error":"#REF!"}},null,{"$f":"SUM(#REF!)/5","v":{"$error":"#REF!"}},{"$error":"#REF!"},null,55.438217152585906,60.813894252877894,65.437103804847979,69.555518730070247,72.675546023250334,null,{"$error":"#REF!"},{"$error":"#REF!"},{"$error":"#REF!"},{"$error":"#REF!"},{"$error":"#REF!"}]
[{"$f":"#REF!","v":{"$error":"#REF!"}},null,{"$f":"#REF!","v":{"$error":"#REF!"}},{"$f":"IF(#REF!=#REF!,D$23,D$24)*#REF!","v":{"$error":"#REF!"}},{"$f":"IF(#REF!=#REF!,E$23,E$24)*#REF!","v":{"$error":"#REF!"}},{"$f":"IF(#REF!=#REF!,F$23,F$24)*#REF!","v":{"$error":"#REF!"}},{"$f":"IF(#REF!=#REF!,G$23,G$24)*#REF!","v":{"$error":"#REF!"}},{"$f":"IF(#REF!=#REF!,H$23,H$24)*#REF!","v":{"$error":"#REF!"}},null,{"$error":"#REF!"},{"$error":"#REF!"},{"$error":"#REF!"},{"$error":"#REF!"},{"$error":"#REF!"},null,{"$f":"IF(C30=0,\"\",(D30/'Charges Summary'!D$4)/C30-1)","v":{"$error":"#REF!"}},{"$f":"IF(D30=0,\"\",(E30/'Charges Summary'!E$4)/(D30/'Charges Summary'!D$4)-1)","v":{"$error":"#REF!"}},{"$f":"IF(E30=0,\"\",(F30/'Charges Summary'!F$4)/(E30/'Charges Summary'!E$4)-1)","v":{"$error":"#REF!"}},{"$f":"IF(F30=0,\"\",(G30/'Charges Summary'!G$4)/(F30/'Charges Summary'!F$4)-1)","v":{"$error":"#REF!"}},{"$f":"IF(G30=0,\"\",(H30/'Charges Summary'!H$4)/(G30/'Charges Summary'!G$4)-1)","v":{"$error":"#REF!"}},null,{"$f":"SUM(#REF!)/5","v":{"$error":"#REF!"}},{"$error":"#REF!"},null,45.339331161857125,48.019478543030928,50.438102304415928,52.733811813304584,54.708953665969361,null,{"$error":"#REF!"},{"$error":"#REF!"},{"$error":"#REF!"},{"$error":"#REF!"},{"$error":"#REF!"}]
[{"$f":"#REF!","v":{"$error":"#REF!"}},null,{"$f":"#REF!","v":{"$error":"#REF!"}},{"$f":"IF(#REF!=#REF!,D$23,D$24)*#REF!","v":{"$error":"#REF!"}},{"$f":"IF(#REF!=#REF!,E$23,E$24)*#REF!","v":{"$error":"#REF!"}},{"$f":"IF(#REF!=#REF!,F$23,F$24)*#REF!","v":{"$error":"#REF!"}},{"$f":"IF(#REF!=#REF!,G$23,G$24)*#REF!","v":{"$error":"#REF!"}},{"$f":"IF(#REF!=#REF!,H$23,H$24)*#REF!","v":{"$error":"#REF!"}},null,{"$error":"#REF!"},{"$error":"#REF!"},{"$error":"#REF!"},{"$error":"#REF!"},{"$error":"#REF!"},null,{"$f":"IF(C31=0,\"\",(D31/'Charges Summary'!D$4)/C31-1)","v":{"$error":"#REF!"}},{"$f":"IF(D31=0,\"\",(E31/'Charges Summary'!E$4)/(D31/'Charges Summary'!D$4)-1)","v":{"$error":"#REF!"}},{"$f":"IF(E31=0,\"\",(F31/'Charges Summary'!F$4)/(E31/'Charges Summary'!E$4)-1)","v":{"$error":"#REF!"}},{"$f":"IF(F31=0,\"\",(G31/'Charges Summary'!G$4)/(F31/'Charges Summary'!F$4)-1)","v":{"$error":"#REF!"}},{"$f":"IF(G31=0,\"\",(H31/'Charges Summary'!H$4)/(G31/'Charges Summary'!G$4)-1)","v":{"$error":"#REF!"}},null,{"$f":"SUM(#REF!)/5","v":{"$error":"#REF!"}},{"$error":"#REF!"},null,45.339331161857125,48.019478543030928,50.438102304415928,52.733811813304584,54.708953665969361,null,{"$error":"#REF!"},{"$error":"#REF!"},{"$error":"#REF!"},{"$error":"#REF!"},{"$error":"#REF!"}]
[{"$f":"#REF!","v":{"$error":"#REF!"}},null,{"$f":"#REF!","v":{"$error":"#REF!"}},{"$f":"'Charges Summary'!D$201","v":{"$error":"#REF!"}},{"$f":"'Charges Summary'!E$201","v":{"$error":"#REF!"}},{"$f":"'Charges Summary'!F$201","v":{"$error":"#REF!"}},{"$f":"'Charges Summary'!G$201","v":{"$error":"#REF!"}},{"$f":"'Charges Summary'!H$201","v":{"$error":"#REF!"}},null,null,null,null,null,null,null,{"$f":"IF(C32=0,\"\",(D32/'Charges Summary'!D$4)/C32-1)","v":{"$error":"#REF!"}},{"$f":"IF(D32=0,\"\",(E32/'Charges Summary'!E$4)/(D32/'Charges Summary'!D$4)-1)","v":{"$error":"#REF!"}},{"$f":"IF(E32=0,\"\",(F32/'Charges Summary'!F$4)/(E32/'Charges Summary'!E$4)-1)","v":{"$error":"#REF!"}},{"$f":"IF(F32=0,\"\",(G32/'Charges Summary'!G$4)/(F32/'Charges Summary'!F$4)-1)","v":{"$error":"#REF!"}},{"$f":"IF(G32=0,\"\",(H32/'Charges Summary'!H$4)/(G32/'Charges Summary'!G$4)-1)","v":{"$error":"#REF!"}},null,{"$f":"SUM(#REF!)/5","v":{"$error":"#REF!"}},{"$f":"V32/V$35","v":{"$error":"#REF!"}},null,59.780028678833972,63.830373712690246,67.420784369502258,70.740099297558132,73.466102000759506,null,{"$f":"D32-Y32","v":{"$error":"#REF!"}},{"$error":"#REF!"},{"$error":"#REF!"},{"$error":"#REF!"},{"$error":"#REF!"}]
[{"$f":"#REF!","v":{"$error":"#REF!"}},null,{"$f":"#REF!","v":{"$error":"#REF!"}},{"$f":"'Charges Summary'!D$217","v":{"$error":"#REF!"}},{"$f":"'Charges Summary'!E$217","v":{"$error":"#REF!"}},{"$f":"'Charges Summary'!F$217","v":{"$error":"#REF!"}},{"$f":"'Charges Summary'!G$217","v":{"$error":"#REF!"}},{"$f":"'Charges Summary'!H$217","v":{"$error":"#REF!"}},null,null,null,null,null,null,null,{"$f":"IF(C33=0,\"\",(D33/'Charges Summary'!D$4)/C33-1)","v":{"$error":"#REF!"}},{"$f":"IF(D33=0,\"\",(E33/'Charges Summary'!E$4)/(D33/'Charges Summary'!D$4)-1)","v":{"$error":"#REF!"}},{"$f":"IF(E33=0,\"\",(F33/'Charges Summary'!F$4)/(E33/'Charges Summary'!E$4)-1)","v":{"$error":"#REF!"}},{"$f":"IF(F33=0,\"\",(G33/'Charges Summary'!G$4)/(F33/'Charges Summary'!F$4)-1)","v":{"$error":"#REF!"}},{"$f":"IF(G33=0,\"\",(H33/'Charges Summary'!H$4)/(G33/'Charges Summary'!G$4)-1)","v":{"$error":"#REF!"}},null,{"$f":"SUM(#REF!)/5","v":{"$error":"#REF!"}},{"$f":"V33/V$35","v":{"$error":"#REF!"}},null,60.444709627311042,64.654321058037624,68.37523371755006,71.802210892023666,74.595836396282223,null,{"$error":"#REF!"},{"$error":"#REF!"},{"$error":"#REF!"},{"$error":"#REF!"},{"$error":"#REF!"}]
[{"$f":"#REF!","v":{"$error":"#REF!"}},null,{"$f":"#REF!","v":{"$error":"#REF!"}},{"$f":"'Charges Summary'!D$233","v":{"$error":"#REF!"}},{"$f":"'Charges Summary'!E$233","v":{"$error":"#REF!"}},{"$f":"'Charges Summary'!F$233","v":{"$error":"#REF!"}},{"$f":"'Charges Summary'!G$233","v":{"$error":"#REF!"}},{"$f":"'Charges Summary'!H$233","v":{"$error":"#REF!"}},null,null,null,null,null,null,null,{"$f":"IF(C34=0,\"\",(D34/'Charges Summary'!D$4)/C34-1)","v":{"$error":"#REF!"}},{"$f":"IF(D34=0,\"\",(E34/'Charges Summary'!E$4)/(D34/'Charges Summary'!D$4)-1)","v":{"$error":"#REF!"}},{"$f":"IF(E34=0,\"\",(F34/'Charges Summary'!F$4)/(E34/'Charges Summary'!E$4)-1)","v":{"$error":"#REF!"}},{"$f":"IF(F34=0,\"\",(G34/'Charges Summary'!G$4)/(F34/'Charges Summary'!F$4)-1)","v":{"$error":"#REF!"}},{"$f":"IF(G34=0,\"\",(H34/'Charges Summary'!H$4)/(G34/'Charges Summary'!G$4)-1)","v":{"$error":"#REF!"}},null,{"$f":"SUM(#REF!)/5","v":{"$error":"#REF!"}},{"$f":"V34/V$35","v":{"$error":"#REF!"}},null,66.397060457112872,72.032934325092469,76.922518519187648,81.313632642781371,84.712833855067203,null,{"$error":"#REF!"},{"$error":"#REF!"},{"$error":"#REF!"},{"$error":"#REF!"},{"$error":"#REF!"}]
[null,null,null,null,null,null,null,null,null,null,null,null,null,null,null,null,null,null,null,null,null,{"$f":"SUM(V7:V34)","v":{"$error":"#REF!"}},{"$error":"#REF!"}]
[]
["Total Revenue - Nominal ($,000)",null,null,{"$f":"'Cashflow Summary'!D7/10^3","v":{"$error":"#REF!"}},{"$f":"'Cashflow Summary'!E7/10^3","v":{"$error":"#REF!"}},{"$f":"'Cashflow Summary'!F7/10^3","v":{"$error":"#REF!"}},{"$f":"'Cashflow Summary'!G7/10^3","v":{"$error":"#REF!"}},{"$f":"'Cashflow Summary'!H7/10^3","v":{"$error":"#REF!"}},null,null,null,null,null,null,null,null,null,"as such ",null,null,null,null,null,null,9912.928164438139,10207.067218912447,10531.951330405678,11014.928352532912,11550.293827178668,null,{"$f":"D37-Y37","v":{"$error":"#REF!"}},{"$f":"E37-Z37","v":{"$error":"#REF!"}},{"$f":"F37-AA37","v":{"$error":"#REF!"}},{"$f":"G37-AB37","v":{"$error":"#REF!"}},{"$f":"H37-AC37","v":{"$error":"#REF!"}}]
[]
[null,null,null,null,null,null,null,null,null,null,null,null,null,null,null,null,null,null,null,null,null,null,null,null,null,null,null,null,null,null,null,null,null,null,{"$f":"SUM(AE37:AI37)/SUM(Y37:AC37)","v":{"$error":"#REF!"}}]
[null,null,null,{"$f":"#REF!","v":{"$error":"#REF!"}},null,null,null,null,null,null,null,null,null,null,null,null,null,null,null,null,null,"Average"]
["Public Lighting Tariffs",null,"Nominal Prices",null,null,null,null,null,null,"Nominal Price Movement",null,null,null,null,null,"Real Price Movement (Implied X Factor)",null,null,null,null,null,"Nubmer","% of ",null,{"$f":"Y4","v":"Revised Submission Model"},null,null,null,null,null,"Difference"]
[null,null,"Actual",null,null,null,null,null,null,null,null,null,null,null,null,null,null,null,null,null,null,"of Lights","Total Lights"]
[{"$f":"#REF!","v":{"$error":"#REF!"}},null,{"$f":"EOMONTH(D43,-12)","v":"2026-06-30"},{"$f":"Instructions!$B$16","v":"2027-06-30"},{"$f":"EOMONTH(D43,12)","v":"2028-06-30"},{"$f":"EOMONTH(E43,12)","v":"2029-06-30"},{"$f":"EOMONTH(F43,12)","v":"2030-06-30"},{"$f":"EOMONTH(G43,12)","v":"2031-06-30"},null,{"$f":"D43","v":"2027-06-30"},{"$f":"E43","v":"2028-06-30"},{"$f":"F43","v":"2029-06-30"},{"$f":"G43","v":"2030-06-30"},{"$f":"H43","v":"2031-06-30"},null,{"$f":"J43","v":"2027-06-30"},{"$f":"K43","v":"2028-06-30"},{"$f":"L43","v":"2029-06-30"},{"$f":"M43","v":"2030-06-30"},{"$f":"N43","v":"2031-06-30"},null,{"$f":"Instructions!$B$20","v":"2027-31"},{"$f":"Instructions!$B$20","v":"2027-31"},null,{"$f":"P43","v":"2027-06-30"},{"$f":"Q43","v":"2028-06-30"},{"$f":"R43","v":"2029-06-30"},{"$f":"S43","v":"2030-06-30"},{"$f":"T43","v":"2031-06-30"},null,{"$f":"Y43","v":"2027-06-30"},{"$f":"Z43","v":"2028-06-30"},{"$f":"AA43","v":"2029-06-30"},{"$f":"AB43","v":"2030-06-30"},{"$f":"AC43","v":"2031-06-30"}]
[{"$f":"#REF!","v":{"$error":"#REF!"}},null,{"$f":"#REF!","v":{"$error":"#REF!"}},{"$f":"'Charges Summary'!K$31","v":{"$error":"#REF!"}},{"$f":"'Charges Summary'!L$31","v":{"$error":"#REF!"}},{"$f":"'Charges Summary'!M$31","v":{"$error":"#REF!"}},{"$f":"'Charges Summary'!N$31","v":{"$error":"#REF!"}},{"$f":"'Charges Summary'!O$31","v":{"$error":"#REF!"}},null,{"$f":"IF(C44=0,\"\",D44/C44-1)","v":{"$error":"#REF!"}},{"$f":"IF(D44=0,\"\",E44/D44-1)","v":{"$error":"#REF!"}},{"$f":"IF(E44=0,\"\",F44/E44-1)","v":{"$error":"#REF!"}},{"$f":"IF(F44=0,\"\",G44/F44-1)","v":{"$error":"#REF!"}},{"$f":"IF(G44=0,\"\",H44/G44-1)","v":{"$error":"#REF!"}},null,{"$f":"IF(C44=0,\"\",(D44/'Charges Summary'!K$4)/C44-1)","v":{"$error":"#REF!"}},{"$f":"IF(D44=0,\"\",(E44/'Charges Summary'!L$4)/(D44/'Charges Summary'!K$4)-1)","v":{"$error":"#REF!"}},{"$f":"IF(E44=0,\"\",(F44/'Charges Summary'!M$4)/(E44/'Charges Summary'!L$4)-1)","v":{"$error":"#REF!"}},{"$f":"IF(F44=0,\"\",(G44/'Charges Summary'!N$4)/(F44/'Charges Summary'!M$4)-1)","v":{"$error":"#REF!"}},{"$f":"IF(G44=0,\"\",(H44/'Charges Summary'!O$4)/(G44/'Charges Summary'!N$4)-1)","v":{"$error":"#REF!"}},null,{"$f":"SUM(#REF!)/5","v":{"$error":"#REF!"}},{"$f":"V44/V$35","v":{"$error":"#REF!"}},null,68.542871999689481,70.126901375789771,71.126203988246701,77.500739405339857,79.123301400876912,null,{"$f":"D44-Y44","v":{"$error":"#REF!"}},{"$f":"E44-Z44","v":{"$error":"#REF!"}},{"$f":"F44-AA44","v":{"$error":"#REF!"}},{"$f":"G44-AB44","v":{"$error":"#REF!"}},{"$f":"H44-AC44","v":{"$error":"#REF!"}}]
[{"$f":"#REF!","v":{"$error":"#REF!"}},null,{"$f":"#REF!","v":{"$error":"#REF!"}},{"$f":"'Charges Summary'!K$55","v":{"$error":"#REF!"}},{"$f":"'Charges Summary'!L$55","v":{"$error":"#REF!"}},{"$f":"'Charges Summary'!M$55","v":{"$error":"#REF!"}},{"$f":"'Charges Summary'!N$55","v":{"$error":"#REF!"}},{"$f":"'Charges Summary'!O$55","v":{"$error":"#REF!"}},null,{"$error":"#REF!"},{"$error":"#REF!"},{"$error":"#REF!"},{"$error":"#REF!"},{"$error":"#REF!"},null,{"$f":"IF(C45=0,\"\",(D45/'Charges Summary'!K$4)/C45-1)","v":{"$error":"#REF!"}},{"$f":"IF(D45=0,\"\",(E45/'Charges Summary'!L$4)/(D45/'Charges Summary'!K$4)-1)","v":{"$error":"#REF!"}},{"$f":"IF(E45=0,\"\",(F45/'Charges Summary'!M$4)/(E45/'Charges Summary'!L$4)-1)","v":{"$error":"#REF!"}},{"$f":"IF(F45=0,\"\",(G45/'Charges Summary'!N$4)/(F45/'Charges Summary'!M$4)-1)","v":{"$error":"#REF!"}},{"$f":"IF(G45=0,\"\",(H45/'Charges Summary'!O$4)/(G45/'Charges Summary'!N$4)-1)","v":{"$error":"#REF!"}},null,{"$f":"SUM(#REF!)/5","v":{"$error":"#REF!"}},{"$f":"V45/V$35","v":{"$error":"#REF!"}},null,134.34635284154172,137.69802327530863,139.52099893793186,148.67308640103997,152.62228372268919,null,{"$error":"#REF!"},{"$error":"#REF!"},{"$error":"#REF!"},{"$error":"#REF!"},{"$error":"#REF!"}]
[{"$f":"#REF!","v":{"$error":"#REF!"}},null,{"$f":"#REF!","v":{"$error":"#REF!"}},{"$f":"'Charges Summary'!K$71","v":{"$error":"#REF!"}},{"$f":"'Charges Summary'!L$71","v":{"$error":"#REF!"}},{"$f":"'Charges Summary'!M$71","v":{"$error":"#REF!"}},{"$f":"'Charges Summary'!N$71","v":{"$error":"#REF!"}},{"$f":"'Charges Summary'!O$71","v":{"$error":"#REF!"}},null,{"$error":"#REF!"},{"$error":"#REF!"},{"$error":"#REF!"},{"$error":"#REF!"},{"$error":"#REF!"},null,{"$f":"IF(C46=0,\"\",(D46/'Charges Summary'!K$4)/C46-1)","v":{"$error":"#REF!"}},{"$f":"IF(D46=0,\"\",(E46/'Charges Summary'!L$4)/(D46/'Charges Summary'!K$4)-1)","v":{"$error":"#REF!"}},{"$f":"IF(E46=0,\"\",(F46/'Charges Summary'!M$4)/(E46/'Charges Summary'!L$4)-1)","v":{"$error":"#REF!"}},{"$f":"IF(F46=0,\"\",(G46/'Charges Summary'!N$4)/(F46/'Charges Summary'!M$4)-1)","v":{"$error":"#REF!"}},{"$f":"IF(G46=0,\"\",(H46/'Charges Summary'!O$4)/(G46/'Charges Summary'!N$4)-1)","v":{"$error":"#REF!"}},null,{"$f":"SUM(#REF!)/5","v":{"$error":"#REF!"}},{"$error":"#REF!"},null,134.16706868741318,137.59886384541301,139.94792531127158,149.20149119144901,153.10091869947243,null,{"$error":"#REF!"},{"$error":"#REF!"},{"$error":"#REF!"},{"$error":"#REF!"},{"$error":"#REF!"}]
[{"$f":"#REF!","v":{"$error":"#REF!"}},null,{"$f":"#REF!","v":{"$error":"#REF!"}},{"$f":"IF(#REF!=#REF!,D$44,IF(#REF!=#REF!,D$45,D$46))*#REF!","v":{"$error":"#REF!"}},{"$f":"IF(#REF!=#REF!,E$44,IF(#REF!=#REF!,E$45,E$46))*#REF!","v":{"$error":"#REF!"}},{"$f":"IF(#REF!=#REF!,F$44,IF(#REF!=#REF!,F$45,F$46))*#REF!","v":{"$error":"#REF!"}},{"$f":"IF(#REF!=#REF!,G$44,IF(#REF!=#REF!,G$45,G$46))*#REF!","v":{"$error":"#REF!"}},{"$f":"IF(#REF!=#REF!,H$44,IF(#REF!=#REF!,H$45,H$46))*#REF!","v":{"$error":"#REF!"}},null,{"$error":"#REF!"},{"$error":"#REF!"},{"$error":"#REF!"},{"$error":"#REF!"},{"$error":"#REF!"},null,{"$f":"IF(C47=0,\"\",(D47/'Charges Summary'!K$4)/C47-1)","v":{"$error":"#REF!"}},{"$f":"IF(D47=0,\"\",(E47/'Charges Summary'!L$4)/(D47/'Charges Summary'!K$4)-1)","v":{"$error":"#REF!"}},{"$f":"IF(E47=0,\"\",(F47/'Charges Summary'!M$4)/(E47/'Charges Summary'!L$4)-1)","v":{"$error":"#REF!"}},{"$f":"IF(F47=0,\"\",(G47/'Charges Summary'!N$4)/(F47/'Charges Summary'!M$4)-1)","v":{"$error":"#REF!"}},{"$f":"IF(G47=0,\"\",(H47/'Charges Summary'!O$4)/(G47/'Charges Summary'!N$4)-1)","v":{"$error":"#REF!"}},null,{"$f":"SUM(#REF!)/5","v":{"$error":"#REF!"}},{"$error":"#REF!"},null,101.44345055954044,103.78781403616885,105.26678190260512,114.70109431990299,117.10248607329783,null,{"$error":"#REF!"},{"$error":"#REF!"},{"$error":"#REF!"},{"$error":"#REF!"},{"$error":"#REF!"}]
[{"$f":"#REF!","v":{"$error":"#REF!"}},null,{"$f":"#REF!","v":{"$error":"#REF!"}},{"$f":"IF(#REF!=#REF!,D$44,IF(#REF!=#REF!,D$45,D$46))*#REF!","v":{"$error":"#REF!"}},{"$f":"IF(#REF!=#REF!,E$44,IF(#REF!=#REF!,E$45,E$46))*#REF!","v":{"$error":"#REF!"}},{"$f":"IF(#REF!=#REF!,F$44,IF(#REF!=#REF!,F$45,F$46))*#REF!","v":{"$error":"#REF!"}},{"$f":"IF(#REF!=#REF!,G$44,IF(#REF!=#REF!,G$45,G$46))*#REF!","v":{"$error":"#REF!"}},{"$f":"IF(#REF!=#REF!,H$44,IF(#REF!=#REF!,H$45,H$46))*#REF!","v":{"$error":"#REF!"}},null,{"$error":"#REF!"},{"$error":"#REF!"},{"$error":"#REF!"},{"$error":"#REF!"},{"$error":"#REF!"},null,{"$f":"IF(C48=0,\"\",(D48/'Charges Summary'!K$4)/C48-1)","v":{"$error":"#REF!"}},{"$f":"IF(D48=0,\"\",(E48/'Charges Summary'!L$4)/(D48/'Charges Summary'!K$4)-1)","v":{"$error":"#REF!"}},{"$f":"IF(E48=0,\"\",(F48/'Charges Summary'!M$4)/(E48/'Charges Summary'!L$4)-1)","v":{"$error":"#REF!"}},{"$f":"IF(F48=0,\"\",(G48/'Charges Summary'!N$4)/(F48/'Charges Summary'!M$4)-1)","v":{"$error":"#REF!"}},{"$f":"IF(G48=0,\"\",(H48/'Charges Summary'!O$4)/(G48/'Charges Summary'!N$4)-1)","v":{"$error":"#REF!"}},null,{"$f":"SUM(#REF!)/5","v":{"$error":"#REF!"}},{"$error":"#REF!"},null,101.44345055954044,103.78781403616885,105.26678190260512,114.70109431990299,117.10248607329783,null,{"$error":"#REF!"},{"$error":"#REF!"},{"$error":"#REF!"},{"$error":"#REF!"},{"$error":"#REF!"}]
[{"$f":"#REF!","v":{"$error":"#REF!"}},null,{"$f":"#REF!","v":{"$error":"#REF!"}},{"$f":"IF(#REF!=#REF!,D$44,IF(#REF!=#REF!,D$45,D$46))*#REF!","v":{"$error":"#REF!"}},{"$f":"IF(#REF!=#REF!,E$44,IF(#REF!=#REF!,E$45,E$46))*#REF!","v":{"$error":"#REF!"}},{"$f":"IF(#REF!=#REF!,F$44,IF(#REF!=#REF!,F$45,F$46))*#REF!","v":{"$error":"#REF!"}},{"$f":"IF(#REF!=#REF!,G$44,IF(#REF!=#REF!,G$45,G$46))*#REF!","v":{"$error":"#REF!"}},{"$f":"IF(#REF!=#REF!,H$44,IF(#REF!=#REF!,H$45,H$46))*#REF!","v":{"$error":"#REF!"}},null,{"$error":"#REF!"},{"$error":"#REF!"},{"$error":"#REF!"},{"$error":"#REF!"},{"$error":"#REF!"},null,{"$f":"IF(C49=0,\"\",(D49/'Charges Summary'!K$4)/C49-1)","v":{"$error":"#REF!"}},{"$f":"IF(D49=0,\"\",(E49/'Charges Summary'!L$4)/(D49/'Charges Summary'!K$4)-1)","v":{"$error":"#REF!"}},{"$f":"IF(E49=0,\"\",(F49/'Charges Summary'!M$4)/(E49/'Charges Summary'!L$4)-1)","v":{"$error":"#REF!"}},{"$f":"IF(F49=0,\"\",(G49/'Charges Summary'!N$4)/(F49/'Charges Summary'!M$4)-1)","v":{"$error":"#REF!"}},{"$f":"IF(G49=0,\"\",(H49/'Charges Summary'!O$4)/(G49/'Charges Summary'!N$4)-1)","v":{"$error":"#REF!"}},null,{"$f":"SUM(#REF!)/5","v":{"$error":"#REF!"}},{"$error":"#REF!"},null,139.5337514349097,143.10281839922953,145.54584232372244,155.16955083910696,159.22495544745132,null,{"$error":"#REF!"},{"$error":"#REF!"},{"$error":"#REF!"},{"$error":"#REF!"},{"$error":"#REF!"}]
[{"$f":"#REF!","v":{"$error":"#REF!"}},null,{"$f":"#REF!","v":{"$error":"#REF!"}},{"$f":"IF(#REF!=#REF!,D$44,IF(#REF!=#REF!,D$45,D$46))*#REF!","v":{"$error":"#REF!"}},{"$f":"IF(#REF!=#REF!,E$44,IF(#REF!=#REF!,E$45,E$46))*#REF!","v":{"$error":"#REF!"}},{"$f":"IF(#REF!=#REF!,F$44,IF(#REF!=#REF!,F$45,F$46))*#REF!","v":{"$error":"#REF!"}},{"$f":"IF(#REF!=#REF!,G$44,IF(#REF!=#REF!,G$45,G$46))*#REF!","v":{"$error":"#REF!"}},{"$f":"IF(#REF!=#REF!,H$44,IF(#REF!=#REF!,H$45,H$46))*#REF!","v":{"$error":"#REF!"}},null,{"$error":"#REF!"},{"$error":"#REF!"},{"$error":"#REF!"},{"$error":"#REF!"},{"$error":"#REF!"},null,{"$f":"IF(C50=0,\"\",(D50/'Charges Summary'!K$4)/C50-1)","v":{"$error":"#REF!"}},{"$f":"IF(D50=0,\"\",(E50/'Charges Summary'!L$4)/(D50/'Charges Summary'!K$4)-1)","v":{"$error":"#REF!"}},{"$f":"IF(E50=0,\"\",(F50/'Charges Summary'!M$4)/(E50/'Charges Summary'!L$4)-1)","v":{"$error":"#REF!"}},{"$f":"IF(F50=0,\"\",(G50/'Charges Summary'!N$4)/(F50/'Charges Summary'!M$4)-1)","v":{"$error":"#REF!"}},{"$f":"IF(G50=0,\"\",(H50/'Charges Summary'!O$4)/(G50/'Charges Summary'!N$4)-1)","v":{"$error":"#REF!"}},null,{"$f":"SUM(#REF!)/5","v":{"$error":"#REF!"}},{"$error":"#REF!"},null,143.55876349553211,147.23078431459192,149.7442800830606,159.64559557485046,163.8179830084355,null,{"$error":"#REF!"},{"$error":"#REF!"},{"$error":"#REF!"},{"$error":"#REF!"},{"$error":"#REF!"}]
[{"$f":"#REF!","v":{"$error":"#REF!"}},null,{"$f":"#REF!","v":{"$error":"#REF!"}},{"$f":"IF(#REF!=#REF!,D$44,IF(#REF!=#REF!,D$45,D$46))*#REF!","v":{"$error":"#REF!"}},{"$f":"IF(#REF!=#REF!,E$44,IF(#REF!=#REF!,E$45,E$46))*#REF!","v":{"$error":"#REF!"}},{"$f":"IF(#REF!=#REF!,F$44,IF(#REF!=#REF!,F$45,F$46))*#REF!","v":{"$error":"#REF!"}},{"$f":"IF(#REF!=#REF!,G$44,IF(#REF!=#REF!,G$45,G$46))*#REF!","v":{"$error":"#REF!"}},{"$f":"IF(#REF!=#REF!,H$44,IF(#REF!=#REF!,H$45,H$46))*#REF!","v":{"$error":"#REF!"}},null,{"$error":"#REF!"},{"$error":"#REF!"},{"$error":"#REF!"},{"$error":"#REF!"},{"$error":"#REF!"},null,{"$f":"IF(C51=0,\"\",(D51/'Charges Summary'!K$4)/C51-1)","v":{"$error":"#REF!"}},{"$f":"IF(D51=0,\"\",(E51/'Charges Summary'!L$4)/(D51/'Charges Summary'!K$4)-1)","v":{"$error":"#REF!"}},{"$f":"IF(E51=0,\"\",(F51/'Charges Summary'!M$4)/(E51/'Charges Summary'!L$4)-1)","v":{"$error":"#REF!"}},{"$f":"IF(F51=0,\"\",(G51/'Charges Summary'!N$4)/(F51/'Charges Summary'!M$4)-1)","v":{"$error":"#REF!"}},{"$f":"IF(G51=0,\"\",(H51/'Charges Summary'!O$4)/(G51/'Charges Summary'!N$4)-1)","v":{"$error":"#REF!"}},null,{"$f":"SUM(#REF!)/5","v":{"$error":"#REF!"}},{"$error":"#REF!"},null,143.75059754044963,147.33688490458024,149.28746886358709,159.08020244911276,163.30584358327744,null,{"$error":"#REF!"},{"$error":"#REF!"},{"$error":"#REF!"},{"$error":"#REF!"},{"$error":"#REF!"}]
[{"$f":"#REF!","v":{"$error":"#REF!"}},null,{"$f":"#REF!","v":{"$error":"#REF!"}},{"$f":"IF(#REF!=#REF!,D$44,IF(#REF!=#REF!,D$45,D$46))*#REF!","v":{"$error":"#REF!"}},{"$f":"IF(#REF!=#REF!,E$44,IF(#REF!=#REF!,E$45,E$46))*#REF!","v":{"$error":"#REF!"}},{"$f":"IF(#REF!=#REF!,F$44,IF(#REF!=#REF!,F$45,F$46))*#REF!","v":{"$error":"#REF!"}},{"$f":"IF(#REF!=#REF!,G$44,IF(#REF!=#REF!,G$45,G$46))*#REF!","v":{"$error":"#REF!"}},{"$f":"IF(#REF!=#REF!,H$44,IF(#REF!=#REF!,H$45,H$46))*#REF!","v":{"$error":"#REF!"}},null,{"$error":"#REF!"},{"$error":"#REF!"},{"$error":"#REF!"},{"$error":"#REF!"},{"$error":"#REF!"},null,{"$f":"IF(C52=0,\"\",(D52/'Charges Summary'!K$4)/C52-1)","v":{"$error":"#REF!"}},{"$f":"IF(D52=0,\"\",(E52/'Charges Summary'!L$4)/(D52/'Charges Summary'!K$4)-1)","v":{"$error":"#REF!"}},{"$f":"IF(E52=0,\"\",(F52/'Charges Summary'!M$4)/(E52/'Charges Summary'!L$4)-1)","v":{"$error":"#REF!"}},{"$f":"IF(F52=0,\"\",(G52/'Charges Summary'!N$4)/(F52/'Charges Summary'!M$4)-1)","v":{"$error":"#REF!"}},{"$f":"IF(G52=0,\"\",(H52/'Charges Summary'!O$4)/(G52/'Charges Summary'!N$4)-1)","v":{"$error":"#REF!"}},null,{"$f":"SUM(#REF!)/5","v":{"$error":"#REF!"}},{"$error":"#REF!"},null,190.51723753612671,195.39038666048646,198.72605394200562,211.86611749185758,217.40330455325085,null,{"$error":"#REF!"},{"$error":"#REF!"},{"$error":"#REF!"},{"$error":"#REF!"},{"$error":"#REF!"}]
[{"$f":"#REF!","v":{"$error":"#REF!"}},null,{"$f":"#REF!","v":{"$error":"#REF!"}},{"$f":"IF(#REF!=#REF!,D$44,IF(#REF!=#REF!,D$45,D$46))*#REF!","v":{"$error":"#REF!"}},{"$f":"IF(#REF!=#REF!,E$44,IF(#REF!=#REF!,E$45,E$46))*#REF!","v":{"$error":"#REF!"}},{"$f":"IF(#REF!=#REF!,F$44,IF(#REF!=#REF!,F$45,F$46))*#REF!","v":{"$error":"#REF!"}},{"$f":"IF(#REF!=#REF!,G$44,IF(#REF!=#REF!,G$45,G$46))*#REF!","v":{"$error":"#REF!"}},{"$f":"IF(#REF!=#REF!,H$44,IF(#REF!=#REF!,H$45,H$46))*#REF!","v":{"$error":"#REF!"}},null,{"$f":"IF(C53=0,\"\",D53/C53-1)","v":{"$error":"#REF!"}},{"$error":"#REF!"},{"$error":"#REF!"},{"$error":"#REF!"},{"$error":"#REF!"},null,{"$f":"IF(C53=0,\"\",(D53/'Charges Summary'!K$4)/C53-1)","v":{"$error":"#REF!"}},{"$f":"IF(D53=0,\"\",(E53/'Charges Summary'!L$4)/(D53/'Charges Summary'!K$4)-1)","v":{"$error":"#REF!"}},{"$f":"IF(E53=0,\"\",(F53/'Charges Summary'!M$4)/(E53/'Charges Summary'!L$4)-1)","v":{"$error":"#REF!"}},{"$f":"IF(F53=0,\"\",(G53/'Charges Summary'!N$4)/(F53/'Charges Summary'!M$4)-1)","v":{"$error":"#REF!"}},{"$f":"IF(G53=0,\"\",(H53/'Charges Summary'!O$4)/(G53/'Charges Summary'!N$4)-1)","v":{"$error":"#REF!"}},null,{"$f":"SUM(#REF!)/5","v":{"$error":"#REF!"}},{"$error":"#REF!"},null,260.76738356111548,266.79373150713519,270.59552037348675,294.84707087957844,301.02001394277278,null,{"$error":"#REF!"},{"$error":"#REF!"},{"$error":"#REF!"},{"$error":"#REF!"},{"$error":"#REF!"}]
[{"$f":"#REF!","v":{"$error":"#REF!"}},null,{"$f":"#REF!","v":{"$error":"#REF!"}},{"$f":"IF(#REF!=#REF!,D$44,IF(#REF!=#REF!,D$45,D$46))*#REF!","v":{"$error":"#REF!"}},{"$f":"IF(#REF!=#REF!,E$44,IF(#REF!=#REF!,E$45,E$46))*#REF!","v":{"$error":"#REF!"}},{"$f":"IF(#REF!=#REF!,F$44,IF(#REF!=#REF!,F$45,F$46))*#REF!","v":{"$error":"#REF!"}},{"$f":"IF(#REF!=#REF!,G$44,IF(#REF!=#REF!,G$45,G$46))*#REF!","v":{"$error":"#REF!"}},{"$f":"IF(#REF!=#REF!,H$44,IF(#REF!=#REF!,H$45,H$46))*#REF!","v":{"$error":"#REF!"}},null,{"$error":"#REF!"},{"$error":"#REF!"},{"$error":"#REF!"},{"$error":"#REF!"},{"$error":"#REF!"},null,{"$f":"IF(C54=0,\"\",(D54/'Charges Summary'!K$4)/C54-1)","v":{"$error":"#REF!"}},{"$f":"IF(D54=0,\"\",(E54/'Charges Summary'!L$4)/(D54/'Charges Summary'!K$4)-1)","v":{"$error":"#REF!"}},{"$f":"IF(E54=0,\"\",(F54/'Charges Summary'!M$4)/(E54/'Charges Summary'!L$4)-1)","v":{"$error":"#REF!"}},{"$f":"IF(F54=0,\"\",(G54/'Charges Summary'!N$4)/(F54/'Charges Summary'!M$4)-1)","v":{"$error":"#REF!"}},{"$f":"IF(G54=0,\"\",(H54/'Charges Summary'!O$4)/(G54/'Charges Summary'!N$4)-1)","v":{"$error":"#REF!"}},null,{"$f":"SUM(#REF!)/5","v":{"$error":"#REF!"}},{"$error":"#REF!"},null,284.55217303818569,291.65117561670087,295.51232759607018,314.89689829993284,323.26149217139658,null,{"$error":"#REF!"},{"$error":"#REF!"},{"$error":"#REF!"},{"$error":"#REF!"},{"$error":"#REF!"}]
[{"$f":"#REF!","v":{"$error":"#REF!"}},null,{"$f":"#REF!","v":{"$error":"#REF!"}},{"$f":"IF(#REF!=#REF!,D$44,IF(#REF!=#REF!,D$45,D$46))*#REF!","v":{"$error":"#REF!"}},{"$f":"IF(#REF!=#REF!,E$44,IF(#REF!=#REF!,E$45,E$46))*#REF!","v":{"$error":"#REF!"}},{"$f":"IF(#REF!=#REF!,F$44,IF(#REF!=#REF!,F$45,F$46))*#REF!","v":{"$error":"#REF!"}},{"$f":"IF(#REF!=#REF!,G$44,IF(#REF!=#REF!,G$45,G$46))*#REF!","v":{"$error":"#REF!"}},{"$f":"IF(#REF!=#REF!,H$44,IF(#REF!=#REF!,H$45,H$46))*#REF!","v":{"$error":"#REF!"}},null,{"$error":"#REF!"},{"$error":"#REF!"},{"$error":"#REF!"},{"$error":"#REF!"},{"$error":"#REF!"},null,{"$f":"IF(C55=0,\"\",(D55/'Charges Summary'!K$4)/C55-1)","v":{"$error":"#REF!"}},{"$f":"IF(D55=0,\"\",(E55/'Charges Summary'!L$4)/(D55/'Charges Summary'!K$4)-1)","v":{"$error":"#REF!"}},{"$f":"IF(E55=0,\"\",(F55/'Charges Summary'!M$4)/(E55/'Charges Summary'!L$4)-1)","v":{"$error":"#REF!"}},{"$f":"IF(F55=0,\"\",(G55/'Charges Summary'!N$4)/(F55/'Charges Summary'!M$4)-1)","v":{"$error":"#REF!"}},{"$f":"IF(G55=0,\"\",(H55/'Charges Summary'!O$4)/(G55/'Charges Summary'!N$4)-1)","v":{"$error":"#REF!"}},null,{"$f":"SUM(#REF!)/5","v":{"$error":"#REF!"}},{"$error":"#REF!"},null,323.27693392812807,331.34204115618735,335.728658063708,357.7512787864701,367.25421187409739,null,{"$error":"#REF!"},{"$error":"#REF!"},{"$error":"#REF!"},{"$error":"#REF!"},{"$error":"#REF!"}]
[{"$f":"#REF!","v":{"$error":"#REF!"}},null,{"$f":"#REF!","v":{"$error":"#REF!"}},{"$f":"IF(#REF!=#REF!,D$44,IF(#REF!=#REF!,D$45,D$46))*#REF!","v":{"$error":"#REF!"}},{"$f":"IF(#REF!=#REF!,E$44,IF(#REF!=#REF!,E$45,E$46))*#REF!","v":{"$error":"#REF!"}},{"$f":"IF(#REF!=#REF!,F$44,IF(#REF!=#REF!,F$45,F$46))*#REF!","v":{"$error":"#REF!"}},{"$f":"IF(#REF!=#REF!,G$44,IF(#REF!=#REF!,G$45,G$46))*#REF!","v":{"$error":"#REF!"}},{"$f":"IF(#REF!=#REF!,H$44,IF(#REF!=#REF!,H$45,H$46))*#REF!","v":{"$error":"#REF!"}},null,{"$error":"#REF!"},{"$error":"#REF!"},{"$error":"#REF!"},{"$error":"#REF!"},{"$error":"#REF!"},null,{"$f":"IF(C56=0,\"\",(D56/'Charges Summary'!K$4)/C56-1)","v":{"$error":"#REF!"}},{"$f":"IF(D56=0,\"\",(E56/'Charges Summary'!L$4)/(D56/'Charges Summary'!K$4)-1)","v":{"$error":"#REF!"}},{"$f":"IF(E56=0,\"\",(F56/'Charges Summary'!M$4)/(E56/'Charges Summary'!L$4)-1)","v":{"$error":"#REF!"}},{"$f":"IF(F56=0,\"\",(G56/'Charges Summary'!N$4)/(F56/'Charges Summary'!M$4)-1)","v":{"$error":"#REF!"}},{"$f":"IF(G56=0,\"\",(H56/'Charges Summary'!O$4)/(G56/'Charges Summary'!N$4)-1)","v":{"$error":"#REF!"}},null,{"$f":"SUM(#REF!)/5","v":{"$error":"#REF!"}},{"$error":"#REF!"},null,61.091257738846366,62.615361356057562,63.444322274619424,67.606046967783683,69.40186372302523,null,{"$error":"#REF!"},{"$error":"#REF!"},{"$error":"#REF!"},{"$error":"#REF!"},{"$error":"#REF!"}]
[]
[]
[{"$f":"#REF!","v":{"$error":"#REF!"}}]
[{"$f":"#REF!","v":{"$error":"#REF!"}},null,{"$f":"#REF!","v":{"$error":"#REF!"}},{"$f":"'Charges Summary'!K$89","v":{"$error":"#REF!"}},{"$f":"'Charges Summary'!L$89","v":{"$error":"#REF!"}},{"$f":"'Charges Summary'!M$89","v":{"$error":"#REF!"}},{"$f":"'Charges Summary'!N$89","v":{"$error":"#REF!"}},{"$f":"'Charges Summary'!O$89","v":{"$error":"#REF!"}},null,{"$f":"IF(C60=0,\"\",D60/C60-1)","v":{"$error":"#REF!"}},{"$error":"#REF!"},{"$error":"#REF!"},{"$error":"#REF!"},{"$error":"#REF!"},null,{"$f":"IF(C60=0,\"\",(D60/'Charges Summary'!K$4)/C60-1)","v":{"$error":"#REF!"}},{"$f":"IF(D60=0,\"\",(E60/'Charges Summary'!L$4)/(D60/'Charges Summary'!K$4)-1)","v":{"$error":"#REF!"}},{"$f":"IF(E60=0,\"\",(F60/'Charges Summary'!M$4)/(E60/'Charges Summary'!L$4)-1)","v":{"$error":"#REF!"}},{"$f":"IF(F60=0,\"\",(G60/'Charges Summary'!N$4)/(F60/'Charges Summary'!M$4)-1)","v":{"$error":"#REF!"}},{"$f":"IF(G60=0,\"\",(H60/'Charges Summary'!O$4)/(G60/'Charges Summary'!N$4)-1)","v":{"$error":"#REF!"}},null,{"$f":"SUM(#REF!)/5","v":{"$error":"#REF!"}},{"$f":"V60/V$35","v":{"$error":"#REF!"}},null,57.413418522600445,60.609154948294979,63.516413112207104,66.302312398574941,68.742768476244535,null,{"$f":"D60-Y60","v":{"$error":"#REF!"}},{"$f":"E60-Z60","v":{"$error":"#REF!"}},{"$f":"F60-AA60","v":{"$error":"#REF!"}},{"$f":"G60-AB60","v":{"$error":"#REF!"}},{"$f":"H60-AC60","v":{"$error":"#REF!"}}]
[{"$f":"#REF!","v":{"$error":"#REF!"}},null,{"$f":"#REF!","v":{"$error":"#REF!"}},{"$f":"'Charges Summary'!K$105","v":{"$error":"#REF!"}},{"$f":"'Charges Summary'!L$105","v":{"$error":"#REF!"}},{"$f":"'Charges Summary'!M$105","v":{"$error":"#REF!"}},{"$f":"'Charges Summary'!N$105","v":{"$error":"#REF!"}},{"$f":"'Charges Summary'!O$105","v":{"$error":"#REF!"}},null,{"$error":"#REF!"},{"$error":"#REF!"},{"$error":"#REF!"},{"$error":"#REF!"},{"$error":"#REF!"},null,{"$f":"IF(C61=0,\"\",(D61/'Charges Summary'!K$4)/C61-1)","v":{"$error":"#REF!"}},{"$f":"IF(D61=0,\"\",(E61/'Charges Summary'!L$4)/(D61/'Charges Summary'!K$4)-1)","v":{"$error":"#REF!"}},{"$f":"IF(E61=0,\"\",(F61/'Charges Summary'!M$4)/(E61/'Charges Summary'!L$4)-1)","v":{"$error":"#REF!"}},{"$f":"IF(F61=0,\"\",(G61/'Charges Summary'!N$4)/(F61/'Charges Summary'!M$4)-1)","v":{"$error":"#REF!"}},{"$f":"IF(G61=0,\"\",(H61/'Charges Summary'!O$4)/(G61/'Charges Summary'!N$4)-1)","v":{"$error":"#REF!"}},null,{"$f":"SUM(#REF!)/5","v":{"$error":"#REF!"}},{"$error":"#REF!"},null,61.484255659556155,64.82998361365442,67.886130713665693,70.827083019833225,73.424122496487044,null,{"$error":"#REF!"},{"$error":"#REF!"},{"$error":"#REF!"},{"$error":"#REF!"},{"$error":"#REF!"}]
[{"$f":"#REF!","v":{"$error":"#REF!"}},null,{"$f":"#REF!","v":{"$error":"#REF!"}},{"$f":"'Charges Summary'!K$121","v":{"$error":"#REF!"}},{"$f":"'Charges Summary'!L$121","v":{"$error":"#REF!"}},{"$f":"'Charges Summary'!M$121","v":{"$error":"#REF!"}},{"$f":"'Charges Summary'!N$121","v":{"$error":"#REF!"}},{"$f":"'Charges Summary'!O$121","v":{"$error":"#REF!"}},null,{"$f":"IF(C62=0,\"\",D62/C62-1)","v":{"$error":"#REF!"}},{"$f":"IF(D62=0,\"\",E62/D62-1)","v":{"$error":"#REF!"}},{"$f":"IF(E62=0,\"\",F62/E62-1)","v":{"$error":"#REF!"}},{"$f":"IF(F62=0,\"\",G62/F62-1)","v":{"$error":"#REF!"}},{"$f":"IF(G62=0,\"\",H62/G62-1)","v":{"$error":"#REF!"}},null,{"$f":"IF(C62=0,\"\",(D62/'Charges Summary'!K$4)/C62-1)","v":{"$error":"#REF!"}},{"$f":"IF(D62=0,\"\",(E62/'Charges Summary'!L$4)/(D62/'Charges Summary'!K$4)-1)","v":{"$error":"#REF!"}},{"$f":"IF(E62=0,\"\",(F62/'Charges Summary'!M$4)/(E62/'Charges Summary'!L$4)-1)","v":{"$error":"#REF!"}},{"$f":"IF(F62=0,\"\",(G62/'Charges Summary'!N$4)/(F62/'Charges Summary'!M$4)-1)","v":{"$error":"#REF!"}},{"$f":"IF(G62=0,\"\",(H62/'Charges Summary'!O$4)/(G62/'Charges Summary'!N$4)-1)","v":{"$error":"#REF!"}},null,{"$f":"SUM(#REF!)/5","v":{"$error":"#REF!"}},{"$error":"#REF!"},null,31.355457681173533,33.534176424697662,35.4438182806566,37.203172852659812,38.62482223894871,null,{"$error":"#REF!"},{"$error":"#REF!"},{"$error":"#REF!"},{"$error":"#REF!"},{"$error":"#REF!"}]
[{"$f":"#REF!","v":{"$error":"#REF!"}},null,{"$f":"#REF!","v":{"$error":"#REF!"}},{"$f":"'Charges Summary'!K$137","v":{"$error":"#REF!"}},{"$f":"'Charges Summary'!L$137","v":{"$error":"#REF!"}},{"$f":"'Charges Summary'!M$137","v":{"$error":"#REF!"}},{"$f":"'Charges Summary'!N$137","v":{"$error":"#REF!"}},{"$f":"'Charges Summary'!O$137","v":{"$error":"#REF!"}},null,{"$f":"IF(C63=0,\"\",D63/C63-1)","v":{"$error":"#REF!"}},{"$error":"#REF!"},{"$error":"#REF!"},{"$error":"#REF!"},{"$error":"#REF!"},null,{"$f":"IF(C63=0,\"\",(D63/'Charges Summary'!K$4)/C63-1)","v":{"$error":"#REF!"}},{"$f":"IF(D63=0,\"\",(E63/'Charges Summary'!L$4)/(D63/'Charges Summary'!K$4)-1)","v":{"$error":"#REF!"}},{"$f":"IF(E63=0,\"\",(F63/'Charges Summary'!M$4)/(E63/'Charges Summary'!L$4)-1)","v":{"$error":"#REF!"}},{"$f":"IF(F63=0,\"\",(G63/'Charges Summary'!N$4)/(F63/'Charges Summary'!M$4)-1)","v":{"$error":"#REF!"}},{"$f":"IF(G63=0,\"\",(H63/'Charges Summary'!O$4)/(G63/'Charges Summary'!N$4)-1)","v":{"$error":"#REF!"}},null,{"$f":"SUM(#REF!)/5","v":{"$error":"#REF!"}},{"$error":"#REF!"},null,33.110662259634097,35.335541050496154,37.294011842432667,39.106819490709597,40.586627078571368,null,{"$error":"#REF!"},{"$error":"#REF!"},{"$error":"#REF!"},{"$error":"#REF!"},{"$error":"#REF!"}]
[{"$f":"#REF!","v":{"$error":"#REF!"}},null,{"$f":"#REF!","v":{"$error":"#REF!"}},{"$f":"'Charges Summary'!K$153","v":{"$error":"#REF!"}},{"$f":"'Charges Summary'!L$153","v":{"$error":"#REF!"}},{"$f":"'Charges Summary'!M$153","v":{"$error":"#REF!"}},{"$f":"'Charges Summary'!N$153","v":{"$error":"#REF!"}},{"$f":"'Charges Summary'!O$153","v":{"$error":"#REF!"}},null,{"$error":"#REF!"},{"$error":"#REF!"},{"$error":"#REF!"},{"$error":"#REF!"},{"$error":"#REF!"},null,{"$f":"IF(C64=0,\"\",(D64/'Charges Summary'!K$4)/C64-1)","v":{"$error":"#REF!"}},{"$f":"IF(D64=0,\"\",(E64/'Charges Summary'!L$4)/(D64/'Charges Summary'!K$4)-1)","v":{"$error":"#REF!"}},{"$f":"IF(E64=0,\"\",(F64/'Charges Summary'!M$4)/(E64/'Charges Summary'!L$4)-1)","v":{"$error":"#REF!"}},{"$f":"IF(F64=0,\"\",(G64/'Charges Summary'!N$4)/(F64/'Charges Summary'!M$4)-1)","v":{"$error":"#REF!"}},{"$f":"IF(G64=0,\"\",(H64/'Charges Summary'!O$4)/(G64/'Charges Summary'!N$4)-1)","v":{"$error":"#REF!"}},null,{"$f":"SUM(#REF!)/5","v":{"$error":"#REF!"}},{"$error":"#REF!"},null,56.376499424575051,60.364185321664742,63.898816062312193,67.182402681379983,69.893333799909101,null,{"$error":"#REF!"},{"$error":"#REF!"},{"$error":"#REF!"},{"$error":"#REF!"},{"$error":"#REF!"}]
[{"$f":"#REF!","v":{"$error":"#REF!"}},null,{"$f":"#REF!","v":{"$error":"#REF!"}},{"$f":"'Charges Summary'!K$169","v":{"$error":"#REF!"}},{"$f":"'Charges Summary'!L$169","v":{"$error":"#REF!"}},{"$f":"'Charges Summary'!M$169","v":{"$error":"#REF!"}},{"$f":"'Charges Summary'!N$169","v":{"$error":"#REF!"}},{"$f":"'Charges Summary'!O$169","v":{"$error":"#REF!"}},null,{"$error":"#REF!"},{"$error":"#REF!"},{"$error":"#REF!"},{"$error":"#REF!"},{"$error":"#REF!"},null,{"$f":"IF(C65=0,\"\",(D65/'Charges Summary'!K$4)/C65-1)","v":{"$error":"#REF!"}},{"$f":"IF(D65=0,\"\",(E65/'Charges Summary'!L$4)/(D65/'Charges Summary'!K$4)-1)","v":{"$error":"#REF!"}},{"$f":"IF(E65=0,\"\",(F65/'Charges Summary'!M$4)/(E65/'Charges Summary'!L$4)-1)","v":{"$error":"#REF!"}},{"$f":"IF(F65=0,\"\",(G65/'Charges Summary'!N$4)/(F65/'Charges Summary'!M$4)-1)","v":{"$error":"#REF!"}},{"$f":"IF(G65=0,\"\",(H65/'Charges Summary'!O$4)/(G65/'Charges Summary'!N$4)-1)","v":{"$error":"#REF!"}},null,{"$f":"SUM(#REF!)/5","v":{"$error":"#REF!"}},{"$error":"#REF!"},null,57.041180373052114,61.18813266701212,64.853265410359981,68.244514275845518,71.023068195431819,null,{"$error":"#REF!"},{"$error":"#REF!"},{"$error":"#REF!"},{"$error":"#REF!"},{"$error":"#REF!"}]
[{"$f":"#REF!","v":{"$error":"#REF!"}},null,{"$f":"#REF!","v":{"$error":"#REF!"}},{"$f":"'Charges Summary'!K$185","v":{"$error":"#REF!"}},{"$f":"'Charges Summary'!L$185","v":{"$error":"#REF!"}},{"$f":"'Charges Summary'!M$185","v":{"$error":"#REF!"}},{"$f":"'Charges Summary'!N$185","v":{"$error":"#REF!"}},{"$f":"'Charges Summary'!O$185","v":{"$error":"#REF!"}},null,{"$error":"#REF!"},{"$error":"#REF!"},{"$error":"#REF!"},{"$error":"#REF!"},{"$error":"#REF!"},null,{"$f":"IF(C66=0,\"\",(D66/'Charges Summary'!K$4)/C66-1)","v":{"$error":"#REF!"}},{"$f":"IF(D66=0,\"\",(E66/'Charges Summary'!L$4)/(D66/'Charges Summary'!K$4)-1)","v":{"$error":"#REF!"}},{"$f":"IF(E66=0,\"\",(F66/'Charges Summary'!M$4)/(E66/'Charges Summary'!L$4)-1)","v":{"$error":"#REF!"}},{"$f":"IF(F66=0,\"\",(G66/'Charges Summary'!N$4)/(F66/'Charges Summary'!M$4)-1)","v":{"$error":"#REF!"}},{"$f":"IF(G66=0,\"\",(H66/'Charges Summary'!O$4)/(G66/'Charges Summary'!N$4)-1)","v":{"$error":"#REF!"}},null,{"$f":"SUM(#REF!)/5","v":{"$error":"#REF!"}},{"$error":"#REF!"},null,62.993531202853944,68.566745934066972,73.400550211997583,77.755936026603237,81.140065654216812,null,{"$error":"#REF!"},{"$error":"#REF!"},{"$error":"#REF!"},{"$error":"#REF!"},{"$error":"#REF!"}]
[{"$f":"#REF!","v":{"$error":"#REF!"}},null,{"$f":"#REF!","v":{"$error":"#REF!"}},{"$f":"IF(#REF!=#REF!,D$60,D$61)*#REF!","v":{"$error":"#REF!"}},{"$f":"IF(#REF!=#REF!,E$60,E$61)*#REF!","v":{"$error":"#REF!"}},{"$f":"IF(#REF!=#REF!,F$60,F$61)*#REF!","v":{"$error":"#REF!"}},{"$f":"IF(#REF!=#REF!,G$60,G$61)*#REF!","v":{"$error":"#REF!"}},{"$f":"IF(#REF!=#REF!,H$60,H$61)*#REF!","v":{"$error":"#REF!"}},null,{"$error":"#REF!"},{"$error":"#REF!"},{"$error":"#REF!"},{"$error":"#REF!"},{"$error":"#REF!"},null,{"$f":"IF(C67=0,\"\",(D67/'Charges Summary'!K$4)/C67-1)","v":{"$error":"#REF!"}},{"$f":"IF(D67=0,\"\",(E67/'Charges Summary'!L$4)/(D67/'Charges Summary'!K$4)-1)","v":{"$error":"#REF!"}},{"$f":"IF(E67=0,\"\",(F67/'Charges Summary'!M$4)/(E67/'Charges Summary'!L$4)-1)","v":{"$error":"#REF!"}},{"$f":"IF(F67=0,\"\",(G67/'Charges Summary'!N$4)/(F67/'Charges Summary'!M$4)-1)","v":{"$error":"#REF!"}},{"$f":"IF(G67=0,\"\",(H67/'Charges Summary'!O$4)/(G67/'Charges Summary'!N$4)-1)","v":{"$error":"#REF!"}},null,{"$f":"SUM(#REF!)/5","v":{"$error":"#REF!"}},{"$error":"#REF!"},null,50.501410896379333,53.312412270335081,55.869665311447491,58.320169883325747,60.466819191526113,null,{"$error":"#REF!"},{"$error":"#REF!"},{"$error":"#REF!"},{"$error":"#REF!"},{"$error":"#REF!"}]
[{"$f":"#REF!","v":{"$error":"#REF!"}},null,{"$f":"#REF!","v":{"$error":"#REF!"}},{"$f":"IF(#REF!=#REF!,D$60,D$61)*#REF!","v":{"$error":"#REF!"}},{"$f":"IF(#REF!=#REF!,E$60,E$61)*#REF!","v":{"$error":"#REF!"}},{"$f":"IF(#REF!=#REF!,F$60,F$61)*#REF!","v":{"$error":"#REF!"}},{"$f":"IF(#REF!=#REF!,G$60,G$61)*#REF!","v":{"$error":"#REF!"}},{"$f":"IF(#REF!=#REF!,H$60,H$61)*#REF!","v":{"$error":"#REF!"}},null,{"$error":"#REF!"},{"$error":"#REF!"},{"$error":"#REF!"},{"$error":"#REF!"},{"$error":"#REF!"},null,{"$f":"IF(C68=0,\"\",(D68/'Charges Summary'!K$4)/C68-1)","v":{"$error":"#REF!"}},{"$f":"IF(D68=0,\"\",(E68/'Charges Summary'!L$4)/(D68/'Charges Summary'!K$4)-1)","v":{"$error":"#REF!"}},{"$f":"IF(E68=0,\"\",(F68/'Charges Summary'!M$4)/(E68/'Charges Summary'!L$4)-1)","v":{"$error":"#REF!"}},{"$f":"IF(F68=0,\"\",(G68/'Charges Summary'!N$4)/(F68/'Charges Summary'!M$4)-1)","v":{"$error":"#REF!"}},{"$f":"IF(G68=0,\"\",(H68/'Charges Summary'!O$4)/(G68/'Charges Summary'!N$4)-1)","v":{"$error":"#REF!"}},null,{"$f":"SUM(#REF!)/5","v":{"$error":"#REF!"}},{"$f":"V68/V$35","v":{"$error":"#REF!"}},null,50.501410896379333,53.312412270335081,55.869665311447491,58.320169883325747,60.466819191526113,null,{"$error":"#REF!"},{"$error":"#REF!"},{"$error":"#REF!"},{"$error":"#REF!"},{"$error":"#REF!"}]
[{"$f":"#REF!","v":{"$error":"#REF!"}},null,{"$f":"#REF!","v":{"$error":"#REF!"}},{"$f":"'Charges Summary'!K$201","v":{"$error":"#REF!"}},{"$f":"'Charges Summary'!L$201","v":{"$error":"#REF!"}},{"$f":"'Charges Summary'!M$201","v":{"$error":"#REF!"}},{"$f":"'Charges Summary'!N$201","v":{"$error":"#REF!"}},{"$f":"'Charges Summary'!O$201","v":{"$error":"#REF!"}},null,null,null,null,null,null,null,{"$f":"IF(C69=0,\"\",(D69/'Charges Summary'!K$4)/C69-1)","v":{"$error":"#REF!"}},{"$f":"IF(D69=0,\"\",(E69/'Charges Summary'!L$4)/(D69/'Charges Summary'!K$4)-1)","v":{"$error":"#REF!"}},{"$f":"IF(E69=0,\"\",(F69/'Charges Summary'!M$4)/(E69/'Charges Summary'!L$4)-1)","v":{"$error":"#REF!"}},{"$f":"IF(F69=0,\"\",(G69/'Charges Summary'!N$4)/(F69/'Charges Summary'!M$4)-1)","v":{"$error":"#REF!"}},{"$f":"IF(G69=0,\"\",(H69/'Charges Summary'!O$4)/(G69/'Charges Summary'!N$4)-1)","v":{"$error":"#REF!"}},null,{"$f":"SUM(#REF!)/5","v":{"$error":"#REF!"}},{"$f":"V69/V$35","v":{"$error":"#REF!"}},null,67.647592130385334,71.902888559797162,75.711483732861353,79.275539545641891,82.273599062291765,null,{"$f":"D69-Y69","v":{"$error":"#REF!"}},{"$error":"#REF!"},{"$error":"#REF!"},{"$error":"#REF!"},{"$error":"#REF!"}]
[{"$f":"#REF!","v":{"$error":"#REF!"}},null,{"$f":"#REF!","v":{"$error":"#REF!"}},{"$f":"'Charges Summary'!K$217","v":{"$error":"#REF!"}},{"$f":"'Charges Summary'!L$217","v":{"$error":"#REF!"}},{"$f":"'Charges Summary'!M$217","v":{"$error":"#REF!"}},{"$f":"'Charges Summary'!N$217","v":{"$error":"#REF!"}},{"$f":"'Charges Summary'!O$217","v":{"$error":"#REF!"}},null,null,null,null,null,null,null,{"$f":"IF(C70=0,\"\",(D70/'Charges Summary'!K$4)/C70-1)","v":{"$error":"#REF!"}},{"$f":"IF(D70=0,\"\",(E70/'Charges Summary'!L$4)/(D70/'Charges Summary'!K$4)-1)","v":{"$error":"#REF!"}},{"$f":"IF(E70=0,\"\",(F70/'Charges Summary'!M$4)/(E70/'Charges Summary'!L$4)-1)","v":{"$error":"#REF!"}},{"$f":"IF(F70=0,\"\",(G70/'Charges Summary'!N$4)/(F70/'Charges Summary'!M$4)-1)","v":{"$error":"#REF!"}},{"$f":"IF(G70=0,\"\",(H70/'Charges Summary'!O$4)/(G70/'Charges Summary'!N$4)-1)","v":{"$error":"#REF!"}},null,{"$f":"SUM(#REF!)/5","v":{"$error":"#REF!"}},{"$f":"V70/V$35","v":{"$error":"#REF!"}},null,68.312273078862404,72.726835905144526,76.665933080909141,80.337651140107425,83.403333457814469,null,{"$error":"#REF!"},{"$error":"#REF!"},{"$error":"#REF!"},{"$error":"#REF!"},{"$error":"#REF!"}]
[{"$f":"#REF!","v":{"$error":"#REF!"}},null,{"$f":"#REF!","v":{"$error":"#REF!"}},{"$f":"'Charges Summary'!K$233","v":{"$error":"#REF!"}},{"$f":"'Charges Summary'!L$233","v":{"$error":"#REF!"}},{"$f":"'Charges Summary'!M$233","v":{"$error":"#REF!"}},{"$f":"'Charges Summary'!N$233","v":{"$error":"#REF!"}},{"$f":"'Charges Summary'!O$233","v":{"$error":"#REF!"}},null,null,null,null,null,null,null,{"$f":"IF(C71=0,\"\",(D71/'Charges Summary'!K$4)/C71-1)","v":{"$error":"#REF!"}},{"$f":"IF(D71=0,\"\",(E71/'Charges Summary'!L$4)/(D71/'Charges Summary'!K$4)-1)","v":{"$error":"#REF!"}},{"$f":"IF(E71=0,\"\",(F71/'Charges Summary'!M$4)/(E71/'Charges Summary'!L$4)-1)","v":{"$error":"#REF!"}},{"$f":"IF(F71=0,\"\",(G71/'Charges Summary'!N$4)/(F71/'Charges Summary'!M$4)-1)","v":{"$error":"#REF!"}},{"$f":"IF(G71=0,\"\",(H71/'Charges Summary'!O$4)/(G71/'Charges Summary'!N$4)-1)","v":{"$error":"#REF!"}},null,{"$f":"SUM(#REF!)/5","v":{"$error":"#REF!"}},{"$f":"V71/V$35","v":{"$error":"#REF!"}},null,74.26462390866422,80.105449172199371,85.213217882546743,89.849072890865131,93.520330916599448,null,{"$error":"#REF!"},{"$error":"#REF!"},{"$error":"#REF!"},{"$error":"#REF!"},{"$error":"#REF!"}]
[null,null,null,null,null,null,null,null,null,null,null,null,null,null,null,null,null,null,null,null,null,{"$f":"SUM(V44:V71)","v":{"$error":"#REF!"}},{"$error":"#REF!"}]

{"sheet":"PL Tariff Components","index":9,"n_rows":68,"n_cols":26,"rows_kept":68,"cut":false,"hidden":true,"merged":[[3,21,3,25],[37,21,37,25],[2,3,2,4],[3,2,3,7],[3,9,3,13],[3,15,3,19],[36,3,36,4],[37,2,37,7],[37,9,37,13],[37,15,37,19]]}
[{"$f":"'DNSP Inputs O&M'!$A$3","v":"AusNet"},null,null,null,"Global Check",{"$f":"IF(SUM('Total RAB'!F1,'Depn & WACC Post 2004 N & E'!F1,'Depn & WACC Post 2004 Central'!F1,'Cashflow Summary'!F1,W1)<1,\"Ok\",\"Error\")","v":{"$error":"#REF!"}},null,null,null,null,null,null,null,null,null,null,null,null,null,null,null,"Check",{"$f":"SUM(V7:Z34,V41:Z68)","v":{"$error":"#REF!"}}]
[]
[null,null,null,{"$f":"#REF!","v":{"$error":"#REF!"}}]
["Public Lighting Tariffs",null,"Total Tariff",null,null,null,null,null,null,"Operations, maintenance and repair Tariff",null,null,null,null,null,"Replacement Tariff",null,null,null,null,null,"Check"]
[null,null,"Actual"]
[{"$f":"#REF!","v":{"$error":"#REF!"}},null,{"$f":"EOMONTH(D6,-12)","v":"2026-06-30"},{"$f":"Instructions!$B$16","v":"2027-06-30"},{"$f":"EOMONTH(D6,12)","v":"2028-06-30"},{"$f":"EOMONTH(E6,12)","v":"2029-06-30"},{"$f":"EOMONTH(F6,12)","v":"2030-06-30"},{"$f":"EOMONTH(G6,12)","v":"2031-06-30"},null,{"$f":"D6","v":"2027-06-30"},{"$f":"E6","v":"2028-06-30"},{"$f":"F6","v":"2029-06-30"},{"$f":"G6","v":"2030-06-30"},{"$f":"H6","v":"2031-06-30"},null,{"$f":"J6","v":"2027-06-30"},{"$f":"K6","v":"2028-06-30"},{"$f":"L6","v":"2029-06-30"},{"$f":"M6","v":"2030-06-30"},{"$f":"N6","v":"2031-06-30"},null,{"$f":"P6","v":"2027-06-30"},{"$f":"Q6","v":"2028-06-30"},{"$f":"R6","v":"2029-06-30"},{"$f":"S6","v":"2030-06-30"},{"$f":"T6","v":"2031-06-30"}]
[{"$f":"#REF!","v":{"$error":"#REF!"}},null,{"$f":"#REF!","v":{"$error":"#REF!"}},{"$f":"'Charges Summary'!D$31","v":{"$error":"#REF!"}},{"$f":"'Charges Summary'!E$31","v":{"$error":"#REF!"}},{"$f":"'Charges Summary'!F$31","v":{"$error":"#REF!"}},{"$f":"'Charges Summary'!G$31","v":{"$error":"#REF!"}},{"$f":"'Charges Summary'!H$31","v":{"$error":"#REF!"}},null,{"$f":"SUM('Charges Summary'!D25,'Charges Summary'!D8)","v":{"$error":"#REF!"}},{"$f":"SUM('Charges Summary'!E25,'Charges Summary'!E8)","v":{"$error":"#REF!"}},{"$f":"SUM('Charges Summary'!F25,'Charges Summary'!F8)","v":{"$error":"#REF!"}},{"$f":"SUM('Charges Summary'!G25,'Charges Summary'!G8)","v":{"$error":"#REF!"}},{"$f":"SUM('Charges Summary'!H25,'Charges Summary'!H8)","v":{"$error":"#REF!"}},null,{"$f":"SUM('Charges Summary'!D27,'Charges Summary'!D11)","v":{"$error":"#REF!"}},{"$f":"SUM('Charges Summary'!E27,'Charges Summary'!E11)","v":{"$error":"#REF!"}},{"$f":"SUM('Charges Summary'!F27,'Charges Summary'!F11)","v":{"$error":"#REF!"}},{"$f":"SUM('Charges Summary'!G27,'Charges Summary'!G11)","v":{"$error":"#REF!"}},{"$f":"SUM('Charges Summary'!H27,'Charges Summary'!H11)","v":{"$error":"#REF!"}},null,{"$f":"ABS(D7-J7-P7)","v":{"$error":"#REF!"}},{"$f":"ABS(E7-K7-Q7)","v":{"$error":"#REF!"}},{"$error":"#REF!"},{"$error":"#REF!"},{"$error":"#REF!"}]
[{"$f":"#REF!","v":{"$error":"#REF!"}},null,{"$f":"#REF!","v":{"$error":"#REF!"}},{"$f":"'Charges Summary'!D$55","v":{"$error":"#REF!"}},{"$f":"'Charges Summary'!E$55","v":{"$error":"#REF!"}},{"$f":"'Charges Summary'!F$55","v":{"$error":"#REF!"}},{"$f":"'Charges Summary'!G$55","v":{"$error":"#REF!"}},{"$f":"'Charges Summary'!H$55","v":{"$error":"#REF!"}},null,{"$f":"SUM('Charges Summary'!D49,'Charges Summary'!D8)","v":{"$error":"#REF!"}},{"$f":"SUM('Charges Summary'!E49,'Charges Summary'!E8)","v":{"$error":"#REF!"}},{"$f":"SUM('Charges Summary'!F49,'Charges Summary'!F8)","v":{"$error":"#REF!"}},{"$f":"SUM('Charges Summary'!G49,'Charges Summary'!G8)","v":{"$error":"#REF!"}},{"$f":"SUM('Charges Summary'!H49,'Charges Summary'!H8)","v":{"$error":"#REF!"}},null,{"$f":"SUM('Charges Summary'!D51,'Charges Summary'!D11)","v":{"$error":"#REF!"}},{"$f":"SUM('Charges Summary'!E51,'Charges Summary'!E11)","v":{"$error":"#REF!"}},{"$f":"SUM('Charges Summary'!F51,'Charges Summary'!F11)","v":{"$error":"#REF!"}},{"$f":"SUM('Charges Summary'!G51,'Charges Summary'!G11)","v":{"$error":"#REF!"}},{"$f":"SUM('Charges Summary'!H51,'Charges Summary'!H11)","v":{"$error":"#REF!"}},null,{"$f":"ABS(D8-J8-P8)","v":{"$error":"#REF!"}},{"$error":"#REF!"},{"$error":"#REF!"},{"$error":"#REF!"},{"$error":"#REF!"}]
[{"$f":"#REF!","v":{"$error":"#REF!"}},null,{"$f":"#REF!","v":{"$error":"#REF!"}},{"$f":"'Charges Summary'!D$71","v":{"$error":"#REF!"}},{"$f":"'Charges Summary'!E$71","v":{"$error":"#REF!"}},{"$f":"'Charges Summary'!F$71","v":{"$error":"#REF!"}},{"$f":"'Charges Summary'!G$71","v":{"$error":"#REF!"}},{"$f":"'Charges Summary'!H$71","v":{"$error":"#REF!"}},null,{"$f":"SUM('Charges Summary'!D65,'Charges Summary'!D8)","v":{"$error":"#REF!"}},{"$f":"SUM('Charges Summary'!E65,'Charges Summary'!E8)","v":{"$error":"#REF!"}},{"$f":"SUM('Charges Summary'!F65,'Charges Summary'!F8)","v":{"$error":"#REF!"}},{"$f":"SUM('Charges Summary'!G65,'Charges Summary'!G8)","v":{"$error":"#REF!"}},{"$f":"SUM('Charges Summary'!H65,'Charges Summary'!H8)","v":{"$error":"#REF!"}},null,{"$f":"SUM('Charges Summary'!D67,'Charges Summary'!D11)","v":{"$error":"#REF!"}},{"$f":"SUM('Charges Summary'!E67,'Charges Summary'!E11)","v":{"$error":"#REF!"}},{"$f":"SUM('Charges Summary'!F67,'Charges Summary'!F11)","v":{"$error":"#REF!"}},{"$f":"SUM('Charges Summary'!G67,'Charges Summary'!G11)","v":{"$error":"#REF!"}},{"$f":"SUM('Charges Summary'!H67,'Charges Summary'!H11)","v":{"$error":"#REF!"}},null,{"$f":"ABS(D9-J9-P9)","v":{"$error":"#REF!"}},{"$f":"ABS(E9-K9-Q9)","v":{"$error":"#REF!"}},{"$f":"ABS(F9-L9-R9)","v":{"$error":"#REF!"}},{"$f":"ABS(G9-M9-S9)","v":{"$error":"#REF!"}},{"$f":"ABS(H9-N9-T9)","v":{"$error":"#REF!"}}]
[{"$f":"#REF!","v":{"$error":"#REF!"}},null,{"$f":"#REF!","v":{"$error":"#REF!"}},{"$f":"IF(#REF!=#REF!,D$7,IF(#REF!=#REF!,D$8,D$9))*#REF!","v":{"$error":"#REF!"}},{"$f":"IF(#REF!=#REF!,E$7,IF(#REF!=#REF!,E$8,E$9))*#REF!","v":{"$error":"#REF!"}},{"$f":"IF(#REF!=#REF!,F$7,IF(#REF!=#REF!,F$8,F$9))*#REF!","v":{"$error":"#REF!"}},{"$f":"IF(#REF!=#REF!,G$7,IF(#REF!=#REF!,G$8,G$9))*#REF!","v":{"$error":"#REF!"}},{"$f":"IF(#REF!=#REF!,H$7,IF(#REF!=#REF!,H$8,H$9))*#REF!","v":{"$error":"#REF!"}},null,{"$f":"IF(#REF!=#REF!,J$7,IF(#REF!=#REF!,J$8,J$9))*#REF!","v":{"$error":"#REF!"}},{"$f":"IF(#REF!=#REF!,K$7,IF(#REF!=#REF!,K$8,K$9))*#REF!","v":{"$error":"#REF!"}},{"$f":"IF(#REF!=#REF!,L$7,IF(#REF!=#REF!,L$8,L$9))*#REF!","v":{"$error":"#REF!"}},{"$f":"IF(#REF!=#REF!,M$7,IF(#REF!=#REF!,M$8,M$9))*#REF!","v":{"$error":"#REF!"}},{"$f":"IF(#REF!=#REF!,N$7,IF(#REF!=#REF!,N$8,N$9))*#REF!","v":{"$error":"#REF!"}},null,{"$f":"IF(#REF!=#REF!,P$7,IF(#REF!=#REF!,P$8,P$9))*#REF!","v":{"$error":"#REF!"}},{"$f":"IF(#REF!=#REF!,Q$7,IF(#REF!=#REF!,Q$8,Q$9))*#REF!","v":{"$error":"#REF!"}},{"$f":"IF(#REF!=#REF!,R$7,IF(#REF!=#REF!,R$8,R$9))*#REF!","v":{"$error":"#REF!"}},{"$f":"IF(#REF!=#REF!,S$7,IF(#REF!=#REF!,S$8,S$9))*#REF!","v":{"$error":"#REF!"}},{"$f":"IF(#REF!=#REF!,T$7,IF(#REF!=#REF!,T$8,T$9))*#REF!","v":{"$error":"#REF!"}},null,{"$error":"#REF!"},{"$error":"#REF!"},{"$error":"#REF!"},{"$error":"#REF!"},{"$error":"#REF!"}]
[{"$f":"#REF!","v":{"$error":"#REF!"}},null,{"$f":"#REF!","v":{"$error":"#REF!"}},{"$f":"IF(#REF!=#REF!,D$7,IF(#REF!=#REF!,D$8,D$9))*#REF!","v":{"$error":"#REF!"}},{"$f":"IF(#REF!=#REF!,E$7,IF(#REF!=#REF!,E$8,E$9))*#REF!","v":{"$error":"#REF!"}},{"$f":"IF(#REF!=#REF!,F$7,IF(#REF!=#REF!,F$8,F$9))*#REF!","v":{"$error":"#REF!"}},{"$f":"IF(#REF!=#REF!,G$7,IF(#REF!=#REF!,G$8,G$9))*#REF!","v":{"$error":"#REF!"}},{"$f":"IF(#REF!=#REF!,H$7,IF(#REF!=#REF!,H$8,H$9))*#REF!","v":{"$error":"#REF!"}},null,{"$f":"IF(#REF!=#REF!,J$7,IF(#REF!=#REF!,J$8,J$9))*#REF!","v":{"$error":"#REF!"}},{"$f":"IF(#REF!=#REF!,K$7,IF(#REF!=#REF!,K$8,K$9))*#REF!","v":{"$error":"#REF!"}},{"$f":"IF(#REF!=#REF!,L$7,IF(#REF!=#REF!,L$8,L$9))*#REF!","v":{"$error":"#REF!"}},{"$f":"IF(#REF!=#REF!,M$7,IF(#REF!=#REF!,M$8,M$9))*#REF!","v":{"$error":"#REF!"}},{"$f":"IF(#REF!=#REF!,N$7,IF(#REF!=#REF!,N$8,N$9))*#REF!","v":{"$error":"#REF!"}},null,{"$f":"IF(#REF!=#REF!,P$7,IF(#REF!=#REF!,P$8,P$9))*#REF!","v":{"$error":"#REF!"}},{"$f":"IF(#REF!=#REF!,Q$7,IF(#REF!=#REF!,Q$8,Q$9))*#REF!","v":{"$error":"#REF!"}},{"$f":"IF(#REF!=#REF!,R$7,IF(#REF!=#REF!,R$8,R$9))*#REF!","v":{"$error":"#REF!"}},{"$f":"IF(#REF!=#REF!,S$7,IF(#REF!=#REF!,S$8,S$9))*#REF!","v":{"$error":"#REF!"}},{"$f":"IF(#REF!=#REF!,T$7,IF(#REF!=#REF!,T$8,T$9))*#REF!","v":{"$error":"#REF!"}},null,{"$error":"#REF!"},{"$error":"#REF!"},{"$error":"#REF!"},{"$error":"#REF!"},{"$error":"#REF!"}]
[{"$f":"#REF!","v":{"$error":"#REF!"}},null,{"$f":"#REF!","v":{"$error":"#REF!"}},{"$f":"IF(#REF!=#REF!,D$7,IF(#REF!=#REF!,D$8,D$9))*#REF!","v":{"$error":"#REF!"}},{"$f":"IF(#REF!=#REF!,E$7,IF(#REF!=#REF!,E$8,E$9))*#REF!","v":{"$error":"#REF!"}},{"$f":"IF(#REF!=#REF!,F$7,IF(#REF!=#REF!,F$8,F$9))*#REF!","v":{"$error":"#REF!"}},{"$f":"IF(#REF!=#REF!,G$7,IF(#REF!=#REF!,G$8,G$9))*#REF!","v":{"$error":"#REF!"}},{"$f":"IF(#REF!=#REF!,H$7,IF(#REF!=#REF!,H$8,H$9))*#REF!","v":{"$error":"#REF!"}},null,{"$f":"IF(#REF!=#REF!,J$7,IF(#REF!=#REF!,J$8,J$9))*#REF!","v":{"$error":"#REF!"}},{"$f":"IF(#REF!=#REF!,K$7,IF(#REF!=#REF!,K$8,K$9))*#REF!","v":{"$error":"#REF!"}},{"$f":"IF(#REF!=#REF!,L$7,IF(#REF!=#REF!,L$8,L$9))*#REF!","v":{"$error":"#REF!"}},{"$f":"IF(#REF!=#REF!,M$7,IF(#REF!=#REF!,M$8,M$9))*#REF!","v":{"$error":"#REF!"}},{"$f":"IF(#REF!=#REF!,N$7,IF(#REF!=#REF!,N$8,N$9))*#REF!","v":{"$error":"#REF!"}},null,{"$f":"IF(#REF!=#REF!,P$7,IF(#REF!=#REF!,P$8,P$9))*#REF!","v":{"$error":"#REF!"}},{"$f":"IF(#REF!=#REF!,Q$7,IF(#REF!=#REF!,Q$8,Q$9))*#REF!","v":{"$error":"#REF!"}},{"$f":"IF(#REF!=#REF!,R$7,IF(#REF!=#REF!,R$8,R$9))*#REF!","v":{"$error":"#REF!"}},{"$f":"IF(#REF!=#REF!,S$7,IF(#REF!=#REF!,S$8,S$9))*#REF!","v":{"$error":"#REF!"}},{"$f":"IF(#REF!=#REF!,T$7,IF(#REF!=#REF!,T$8,T$9))*#REF!","v":{"$error":"#REF!"}},null,{"$error":"#REF!"},{"$error":"#REF!"},{"$error":"#REF!"},{"$error":"#REF!"},{"$error":"#REF!"}]
[{"$f":"#REF!","v":{"$error":"#REF!"}},null,{"$f":"#REF!","v":{"$error":"#REF!"}},{"$f":"IF(#REF!=#REF!,D$7,IF(#REF!=#REF!,D$8,D$9))*#REF!","v":{"$error":"#REF!"}},{"$f":"IF(#REF!=#REF!,E$7,IF(#REF!=#REF!,E$8,E$9))*#REF!","v":{"$error":"#REF!"}},{"$f":"IF(#REF!=#REF!,F$7,IF(#REF!=#REF!,F$8,F$9))*#REF!","v":{"$error":"#REF!"}},{"$f":"IF(#REF!=#REF!,G$7,IF(#REF!=#REF!,G$8,G$9))*#REF!","v":{"$error":"#REF!"}},{"$f":"IF(#REF!=#REF!,H$7,IF(#REF!=#REF!,H$8,H$9))*#REF!","v":{"$error":"#REF!"}},null,{"$f":"IF(#REF!=#REF!,J$7,IF(#REF!=#REF!,J$8,J$9))*#REF!","v":{"$error":"#REF!"}},{"$f":"IF(#REF!=#REF!,K$7,IF(#REF!=#REF!,K$8,K$9))*#REF!","v":{"$error":"#REF!"}},{"$f":"IF(#REF!=#REF!,L$7,IF(#REF!=#REF!,L$8,L$9))*#REF!","v":{"$error":"#REF!"}},{"$f":"IF(#REF!=#REF!,M$7,IF(#REF!=#REF!,M$8,M$9))*#REF!","v":{"$error":"#REF!"}},{"$f":"IF(#REF!=#REF!,N$7,IF(#REF!=#REF!,N$8,N$9))*#REF!","v":{"$error":"#REF!"}},null,{"$f":"IF(#REF!=#REF!,P$7,IF(#REF!=#REF!,P$8,P$9))*#REF!","v":{"$error":"#REF!"}},{"$f":"IF(#REF!=#REF!,Q$7,IF(#REF!=#REF!,Q$8,Q$9))*#REF!","v":{"$error":"#REF!"}},{"$f":"IF(#REF!=#REF!,R$7,IF(#REF!=#REF!,R$8,R$9))*#REF!","v":{"$error":"#REF!"}},{"$f":"IF(#REF!=#REF!,S$7,IF(#REF!=#REF!,S$8,S$9))*#REF!","v":{"$error":"#REF!"}},{"$f":"IF(#REF!=#REF!,T$7,IF(#REF!=#REF!,T$8,T$9))*#REF!","v":{"$error":"#REF!"}},null,{"$error":"#REF!"},{"$error":"#REF!"},{"$error":"#REF!"},{"$error":"#REF!"},{"$error":"#REF!"}]
[{"$f":"#REF!","v":{"$error":"#REF!"}},null,{"$f":"#REF!","v":{"$error":"#REF!"}},{"$f":"IF(#REF!=#REF!,D$7,IF(#REF!=#REF!,D$8,D$9))*#REF!","v":{"$error":"#REF!"}},{"$f":"IF(#REF!=#REF!,E$7,IF(#REF!=#REF!,E$8,E$9))*#REF!","v":{"$error":"#REF!"}},{"$f":"IF(#REF!=#REF!,F$7,IF(#REF!=#REF!,F$8,F$9))*#REF!","v":{"$error":"#REF!"}},{"$f":"IF(#REF!=#REF!,G$7,IF(#REF!=#REF!,G$8,G$9))*#REF!","v":{"$error":"#REF!"}},{"$f":"IF(#REF!=#REF!,H$7,IF(#REF!=#REF!,H$8,H$9))*#REF!","v":{"$error":"#REF!"}},null,{"$f":"IF(#REF!=#REF!,J$7,IF(#REF!=#REF!,J$8,J$9))*#REF!","v":{"$error":"#REF!"}},{"$f":"IF(#REF!=#REF!,K$7,IF(#REF!=#REF!,K$8,K$9))*#REF!","v":{"$error":"#REF!"}},{"$f":"IF(#REF!=#REF!,L$7,IF(#REF!=#REF!,L$8,L$9))*#REF!","v":{"$error":"#REF!"}},{"$f":"IF(#REF!=#REF!,M$7,IF(#REF!=#REF!,M$8,M$9))*#REF!","v":{"$error":"#REF!"}},{"$f":"IF(#REF!=#REF!,N$7,IF(#REF!=#REF!,N$8,N$9))*#REF!","v":{"$error":"#REF!"}},null,{"$f":"IF(#REF!=#REF!,P$7,IF(#REF!=#REF!,P$8,P$9))*#REF!","v":{"$error":"#REF!"}},{"$f":"IF(#REF!=#REF!,Q$7,IF(#REF!=#REF!,Q$8,Q$9))*#REF!","v":{"$error":"#REF!"}},{"$f":"IF(#REF!=#REF!,R$7,IF(#REF!=#REF!,R$8,R$9))*#REF!","v":{"$error":"#REF!"}},{"$f":"IF(#REF!=#REF!,S$7,IF(#REF!=#REF!,S$8,S$9))*#REF!","v":{"$error":"#REF!"}},{"$f":"IF(#REF!=#REF!,T$7,IF(#REF!=#REF!,T$8,T$9))*#REF!","v":{"$error":"#REF!"}},null,{"$error":"#REF!"},{"$error":"#REF!"},{"$error":"#REF!"},{"$error":"#REF!"},{"$error":"#REF!"}]
[{"$f":"#REF!","v":{"$error":"#REF!"}},null,{"$f":"#REF!","v":{"$error":"#REF!"}},{"$f":"IF(#REF!=#REF!,D$7,IF(#REF!=#REF!,D$8,D$9))*#REF!","v":{"$error":"#REF!"}},{"$f":"IF(#REF!=#REF!,E$7,IF(#REF!=#REF!,E$8,E$9))*#REF!","v":{"$error":"#REF!"}},{"$f":"IF(#REF!=#REF!,F$7,IF(#REF!=#REF!,F$8,F$9))*#REF!","v":{"$error":"#REF!"}},{"$f":"IF(#REF!=#REF!,G$7,IF(#REF!=#REF!,G$8,G$9))*#REF!","v":{"$error":"#REF!"}},{"$f":"IF(#REF!=#REF!,H$7,IF(#REF!=#REF!,H$8,H$9))*#REF!","v":{"$error":"#REF!"}},null,{"$f":"IF(#REF!=#REF!,J$7,IF(#REF!=#REF!,J$8,J$9))*#REF!","v":{"$error":"#REF!"}},{"$f":"IF(#REF!=#REF!,K$7,IF(#REF!=#REF!,K$8,K$9))*#REF!","v":{"$error":"#REF!"}},{"$f":"IF(#REF!=#REF!,L$7,IF(#REF!=#REF!,L$8,L$9))*#REF!","v":{"$error":"#REF!"}},{"$f":"IF(#REF!=#REF!,M$7,IF(#REF!=#REF!,M$8,M$9))*#REF!","v":{"$error":"#REF!"}},{"$f":"IF(#REF!=#REF!,N$7,IF(#REF!=#REF!,N$8,N$9))*#REF!","v":{"$error":"#REF!"}},null,{"$f":"IF(#REF!=#REF!,P$7,IF(#REF!=#REF!,P$8,P$9))*#REF!","v":{"$error":"#REF!"}},{"$f":"IF(#REF!=#REF!,Q$7,IF(#REF!=#REF!,Q$8,Q$9))*#REF!","v":{"$error":"#REF!"}},{"$f":"IF(#REF!=#REF!,R$7,IF(#REF!=#REF!,R$8,R$9))*#REF!","v":{"$error":"#REF!"}},{"$f":"IF(#REF!=#REF!,S$7,IF(#REF!=#REF!,S$8,S$9))*#REF!","v":{"$error":"#REF!"}},{"$f":"IF(#REF!=#REF!,T$7,IF(#REF!=#REF!,T$8,T$9))*#REF!","v":{"$error":"#REF!"}},null,{"$error":"#REF!"},{"$error":"#REF!"},{"$error":"#REF!"},{"$error":"#REF!"},{"$error":"#REF!"}]
[{"$f":"#REF!","v":{"$error":"#REF!"}},null,{"$f":"#REF!","v":{"$error":"#REF!"}},{"$f":"IF(#REF!=#REF!,D$7,IF(#REF!=#REF!,D$8,D$9))*#REF!","v":{"$error":"#REF!"}},{"$f":"IF(#REF!=#REF!,E$7,IF(#REF!=#REF!,E$8,E$9))*#REF!","v":{"$error":"#REF!"}},{"$f":"IF(#REF!=#REF!,F$7,IF(#REF!=#REF!,F$8,F$9))*#REF!","v":{"$error":"#REF!"}},{"$f":"IF(#REF!=#REF!,G$7,IF(#REF!=#REF!,G$8,G$9))*#REF!","v":{"$error":"#REF!"}},{"$f":"IF(#REF!=#REF!,H$7,IF(#REF!=#REF!,H$8,H$9))*#REF!","v":{"$error":"#REF!"}},null,{"$f":"IF(#REF!=#REF!,J$7,IF(#REF!=#REF!,J$8,J$9))*#REF!","v":{"$error":"#REF!"}},{"$f":"IF(#REF!=#REF!,K$7,IF(#REF!=#REF!,K$8,K$9))*#REF!","v":{"$error":"#REF!"}},{"$f":"IF(#REF!=#REF!,L$7,IF(#REF!=#REF!,L$8,L$9))*#REF!","v":{"$error":"#REF!"}},{"$f":"IF(#REF!=#REF!,M$7,IF(#REF!=#REF!,M$8,M$9))*#REF!","v":{"$error":"#REF!"}},{"$f":"IF(#REF!=#REF!,N$7,IF(#REF!=#REF!,N$8,N$9))*#REF!","v":{"$error":"#REF!"}},null,{"$f":"IF(#REF!=#REF!,P$7,IF(#REF!=#REF!,P$8,P$9))*#REF!","v":{"$error":"#REF!"}},{"$f":"IF(#REF!=#REF!,Q$7,IF(#REF!=#REF!,Q$8,Q$9))*#REF!","v":{"$error":"#REF!"}},{"$f":"IF(#REF!=#REF!,R$7,IF(#REF!=#REF!,R$8,R$9))*#REF!","v":{"$error":"#REF!"}},{"$f":"IF(#REF!=#REF!,S$7,IF(#REF!=#REF!,S$8,S$9))*#REF!","v":{"$error":"#REF!"}},{"$f":"IF(#REF!=#REF!,T$7,IF(#REF!=#REF!,T$8,T$9))*#REF!","v":{"$error":"#REF!"}},null,{"$error":"#REF!"},{"$error":"#REF!"},{"$error":"#REF!"},{"$error":"#REF!"},{"$error":"#REF!"}]
[{"$f":"#REF!","v":{"$error":"#REF!"}},null,{"$f":"#REF!","v":{"$error":"#REF!"}},{"$f":"IF(#REF!=#REF!,D$7,IF(#REF!=#REF!,D$8,D$9))*#REF!","v":{"$error":"#REF!"}},{"$f":"IF(#REF!=#REF!,E$7,IF(#REF!=#REF!,E$8,E$9))*#REF!","v":{"$error":"#REF!"}},{"$f":"IF(#REF!=#REF!,F$7,IF(#REF!=#REF!,F$8,F$9))*#REF!","v":{"$error":"#REF!"}},{"$f":"IF(#REF!=#REF!,G$7,IF(#REF!=#REF!,G$8,G$9))*#REF!","v":{"$error":"#REF!"}},{"$f":"IF(#REF!=#REF!,H$7,IF(#REF!=#REF!,H$8,H$9))*#REF!","v":{"$error":"#REF!"}},null,{"$f":"IF(#REF!=#REF!,J$7,IF(#REF!=#REF!,J$8,J$9))*#REF!","v":{"$error":"#REF!"}},{"$f":"IF(#REF!=#REF!,K$7,IF(#REF!=#REF!,K$8,K$9))*#REF!","v":{"$error":"#REF!"}},{"$f":"IF(#REF!=#REF!,L$7,IF(#REF!=#REF!,L$8,L$9))*#REF!","v":{"$error":"#REF!"}},{"$f":"IF(#REF!=#REF!,M$7,IF(#REF!=#REF!,M$8,M$9))*#REF!","v":{"$error":"#REF!"}},{"$f":"IF(#REF!=#REF!,N$7,IF(#REF!=#REF!,N$8,N$9))*#REF!","v":{"$error":"#REF!"}},null,{"$f":"IF(#REF!=#REF!,P$7,IF(#REF!=#REF!,P$8,P$9))*#REF!","v":{"$error":"#REF!"}},{"$f":"IF(#REF!=#REF!,Q$7,IF(#REF!=#REF!,Q$8,Q$9))*#REF!","v":{"$error":"#REF!"}},{"$f":"IF(#REF!=#REF!,R$7,IF(#REF!=#REF!,R$8,R$9))*#REF!","v":{"$error":"#REF!"}},{"$f":"IF(#REF!=#REF!,S$7,IF(#REF!=#REF!,S$8,S$9))*#REF!","v":{"$error":"#REF!"}},{"$f":"IF(#REF!=#REF!,T$7,IF(#REF!=#REF!,T$8,T$9))*#REF!","v":{"$error":"#REF!"}},null,{"$error":"#REF!"},{"$error":"#REF!"},{"$error":"#REF!"},{"$error":"#REF!"},{"$error":"#REF!"}]
[{"$f":"#REF!","v":{"$error":"#REF!"}},null,{"$f":"#REF!","v":{"$error":"#REF!"}},{"$f":"IF(#REF!=#REF!,D$7,IF(#REF!=#REF!,D$8,D$9))*#REF!","v":{"$error":"#REF!"}},{"$f":"IF(#REF!=#REF!,E$7,IF(#REF!=#REF!,E$8,E$9))*#REF!","v":{"$error":"#REF!"}},{"$f":"IF(#REF!=#REF!,F$7,IF(#REF!=#REF!,F$8,F$9))*#REF!","v":{"$error":"#REF!"}},{"$f":"IF(#REF!=#REF!,G$7,IF(#REF!=#REF!,G$8,G$9))*#REF!","v":{"$error":"#REF!"}},{"$f":"IF(#REF!=#REF!,H$7,IF(#REF!=#REF!,H$8,H$9))*#REF!","v":{"$error":"#REF!"}},null,{"$f":"IF(#REF!=#REF!,J$7,IF(#REF!=#REF!,J$8,J$9))*#REF!","v":{"$error":"#REF!"}},{"$f":"IF(#REF!=#REF!,K$7,IF(#REF!=#REF!,K$8,K$9))*#REF!","v":{"$error":"#REF!"}},{"$f":"IF(#REF!=#REF!,L$7,IF(#REF!=#REF!,L$8,L$9))*#REF!","v":{"$error":"#REF!"}},{"$f":"IF(#REF!=#REF!,M$7,IF(#REF!=#REF!,M$8,M$9))*#REF!","v":{"$error":"#REF!"}},{"$f":"IF(#REF!=#REF!,N$7,IF(#REF!=#REF!,N$8,N$9))*#REF!","v":{"$error":"#REF!"}},null,{"$f":"IF(#REF!=#REF!,P$7,IF(#REF!=#REF!,P$8,P$9))*#REF!","v":{"$error":"#REF!"}},{"$f":"IF(#REF!=#REF!,Q$7,IF(#REF!=#REF!,Q$8,Q$9))*#REF!","v":{"$error":"#REF!"}},{"$f":"IF(#REF!=#REF!,R$7,IF(#REF!=#REF!,R$8,R$9))*#REF!","v":{"$error":"#REF!"}},{"$f":"IF(#REF!=#REF!,S$7,IF(#REF!=#REF!,S$8,S$9))*#REF!","v":{"$error":"#REF!"}},{"$f":"IF(#REF!=#REF!,T$7,IF(#REF!=#REF!,T$8,T$9))*#REF!","v":{"$error":"#REF!"}},null,{"$error":"#REF!"},{"$error":"#REF!"},{"$error":"#REF!"},{"$error":"#REF!"},{"$error":"#REF!"}]
[{"$f":"#REF!","v":{"$error":"#REF!"}},null,{"$f":"#REF!","v":{"$error":"#REF!"}},{"$f":"IF(#REF!=#REF!,D$7,IF(#REF!=#REF!,D$8,D$9))*#REF!","v":{"$error":"#REF!"}},{"$f":"IF(#REF!=#REF!,E$7,IF(#REF!=#REF!,E$8,E$9))*#REF!","v":{"$error":"#REF!"}},{"$f":"IF(#REF!=#REF!,F$7,IF(#REF!=#REF!,F$8,F$9))*#REF!","v":{"$error":"#REF!"}},{"$f":"IF(#REF!=#REF!,G$7,IF(#REF!=#REF!,G$8,G$9))*#REF!","v":{"$error":"#REF!"}},{"$f":"IF(#REF!=#REF!,H$7,IF(#REF!=#REF!,H$8,H$9))*#REF!","v":{"$error":"#REF!"}},null,{"$f":"IF(#REF!=#REF!,J$7,IF(#REF!=#REF!,J$8,J$9))*#REF!","v":{"$error":"#REF!"}},{"$f":"IF(#REF!=#REF!,K$7,IF(#REF!=#REF!,K$8,K$9))*#REF!","v":{"$error":"#REF!"}},{"$f":"IF(#REF!=#REF!,L$7,IF(#REF!=#REF!,L$8,L$9))*#REF!","v":{"$error":"#REF!"}},{"$f":"IF(#REF!=#REF!,M$7,IF(#REF!=#REF!,M$8,M$9))*#REF!","v":{"$error":"#REF!"}},{"$f":"IF(#REF!=#REF!,N$7,IF(#REF!=#REF!,N$8,N$9))*#REF!","v":{"$error":"#REF!"}},null,{"$f":"IF(#REF!=#REF!,P$7,IF(#REF!=#REF!,P$8,P$9))*#REF!","v":{"$error":"#REF!"}},{"$f":"IF(#REF!=#REF!,Q$7,IF(#REF!=#REF!,Q$8,Q$9))*#REF!","v":{"$error":"#REF!"}},{"$f":"IF(#REF!=#REF!,R$7,IF(#REF!=#REF!,R$8,R$9))*#REF!","v":{"$error":"#REF!"}},{"$f":"IF(#REF!=#REF!,S$7,IF(#REF!=#REF!,S$8,S$9))*#REF!","v":{"$error":"#REF!"}},{"$f":"IF(#REF!=#REF!,T$7,IF(#REF!=#REF!,T$8,T$9))*#REF!","v":{"$error":"#REF!"}},null,{"$error":"#REF!"},{"$error":"#REF!"},{"$error":"#REF!"},{"$error":"#REF!"},{"$error":"#REF!"}]
[]
[]
[{"$f":"#REF!","v":{"$error":"#REF!"}}]
[{"$f":"#REF!","v":{"$error":"#REF!"}},null,{"$f":"#REF!","v":{"$error":"#REF!"}},{"$f":"'Charges Summary'!D$89","v":{"$error":"#REF!"}},{"$f":"'Charges Summary'!E$89","v":{"$error":"#REF!"}},{"$f":"'Charges Summary'!F$89","v":{"$error":"#REF!"}},{"$f":"'Charges Summary'!G$89","v":{"$error":"#REF!"}},{"$f":"'Charges Summary'!H$89","v":{"$error":"#REF!"}},null,{"$f":"SUM('Charges Summary'!D83,'Charges Summary'!D8)","v":{"$error":"#REF!"}},{"$f":"SUM('Charges Summary'!E83,'Charges Summary'!E8)","v":{"$error":"#REF!"}},{"$f":"SUM('Charges Summary'!F83,'Charges Summary'!F8)","v":{"$error":"#REF!"}},{"$f":"SUM('Charges Summary'!G83,'Charges Summary'!G8)","v":{"$error":"#REF!"}},{"$f":"SUM('Charges Summary'!H83,'Charges Summary'!H8)","v":{"$error":"#REF!"}},null,{"$f":"SUM('Charges Summary'!D85,'Charges Summary'!D11)","v":{"$error":"#REF!"}},{"$f":"SUM('Charges Summary'!E85,'Charges Summary'!E11)","v":{"$error":"#REF!"}},{"$f":"SUM('Charges Summary'!F85,'Charges Summary'!F11)","v":{"$error":"#REF!"}},{"$f":"SUM('Charges Summary'!G85,'Charges Summary'!G11)","v":{"$error":"#REF!"}},{"$f":"SUM('Charges Summary'!H85,'Charges Summary'!H11)","v":{"$error":"#REF!"}},null,{"$f":"ABS(D23-J23-P23)","v":{"$error":"#REF!"}},{"$f":"ABS(E23-K23-Q23)","v":{"$error":"#REF!"}},{"$f":"ABS(F23-L23-R23)","v":{"$error":"#REF!"}},{"$f":"ABS(G23-M23-S23)","v":{"$error":"#REF!"}},{"$f":"ABS(H23-N23-T23)","v":{"$error":"#REF!"}}]
[{"$f":"#REF!","v":{"$error":"#REF!"}},null,{"$f":"#REF!","v":{"$error":"#REF!"}},{"$f":"'Charges Summary'!D$105","v":{"$error":"#REF!"}},{"$f":"'Charges Summary'!E$105","v":{"$error":"#REF!"}},{"$f":"'Charges Summary'!F$105","v":{"$error":"#REF!"}},{"$f":"'Charges Summary'!G$105","v":{"$error":"#REF!"}},{"$f":"'Charges Summary'!H$105","v":{"$error":"#REF!"}},null,{"$f":"SUM('Charges Summary'!D99,'Charges Summary'!D8)","v":{"$error":"#REF!"}},{"$f":"SUM('Charges Summary'!E99,'Charges Summary'!E8)","v":{"$error":"#REF!"}},{"$f":"SUM('Charges Summary'!F99,'Charges Summary'!F8)","v":{"$error":"#REF!"}},{"$f":"SUM('Charges Summary'!G99,'Charges Summary'!G8)","v":{"$error":"#REF!"}},{"$f":"SUM('Charges Summary'!H99,'Charges Summary'!H8)","v":{"$error":"#REF!"}},null,{"$f":"SUM('Charges Summary'!D101,'Charges Summary'!D11)","v":{"$error":"#REF!"}},{"$f":"SUM('Charges Summary'!E101,'Charges Summary'!E11)","v":{"$error":"#REF!"}},{"$f":"SUM('Charges Summary'!F101,'Charges Summary'!F11)","v":{"$error":"#REF!"}},{"$f":"SUM('Charges Summary'!G101,'Charges Summary'!G11)","v":{"$error":"#REF!"}},{"$f":"SUM('Charges Summary'!H101,'Charges Summary'!H11)","v":{"$error":"#REF!"}},null,{"$error":"#REF!"},{"$error":"#REF!"},{"$error":"#REF!"},{"$error":"#REF!"},{"$error":"#REF!"}]
[{"$f":"#REF!","v":{"$error":"#REF!"}},null,{"$f":"#REF!","v":{"$error":"#REF!"}},{"$f":"'Charges Summary'!D$121","v":{"$error":"#REF!"}},{"$f":"'Charges Summary'!E$121","v":{"$error":"#REF!"}},{"$f":"'Charges Summary'!F$121","v":{"$error":"#REF!"}},{"$f":"'Charges Summary'!G$121","v":{"$error":"#REF!"}},{"$f":"'Charges Summary'!H$121","v":{"$error":"#REF!"}},null,{"$f":"SUM('Charges Summary'!D115,'Charges Summary'!D8)","v":{"$error":"#REF!"}},{"$f":"SUM('Charges Summary'!E115,'Charges Summary'!E8)","v":{"$error":"#REF!"}},{"$f":"SUM('Charges Summary'!F115,'Charges Summary'!F8)","v":{"$error":"#REF!"}},{"$f":"SUM('Charges Summary'!G115,'Charges Summary'!G8)","v":{"$error":"#REF!"}},{"$f":"SUM('Charges Summary'!H115,'Charges Summary'!H8)","v":{"$error":"#REF!"}},null,{"$f":"SUM('Charges Summary'!D117,'Charges Summary'!D11)","v":{"$error":"#REF!"}},{"$f":"SUM('Charges Summary'!E117,'Charges Summary'!E11)","v":{"$error":"#REF!"}},{"$f":"SUM('Charges Summary'!F117,'Charges Summary'!F11)","v":{"$error":"#REF!"}},{"$f":"SUM('Charges Summary'!G117,'Charges Summary'!G11)","v":{"$error":"#REF!"}},{"$f":"SUM('Charges Summary'!H117,'Charges Summary'!H11)","v":{"$error":"#REF!"}},null,{"$error":"#REF!"},{"$error":"#REF!"},{"$error":"#REF!"},{"$error":"#REF!"},{"$error":"#REF!"}]
[{"$f":"#REF!","v":{"$error":"#REF!"}},null,{"$f":"#REF!","v":{"$error":"#REF!"}},{"$f":"'Charges Summary'!D$137","v":{"$error":"#REF!"}},{"$f":"'Charges Summary'!E$137","v":{"$error":"#REF!"}},{"$f":"'Charges Summary'!F$137","v":{"$error":"#REF!"}},{"$f":"'Charges Summary'!G$137","v":{"$error":"#REF!"}},{"$f":"'Charges Summary'!H$137","v":{"$error":"#REF!"}},null,{"$f":"SUM('Charges Summary'!D131,'Charges Summary'!D$8)","v":{"$error":"#REF!"}},{"$f":"SUM('Charges Summary'!E131,'Charges Summary'!E$8)","v":{"$error":"#REF!"}},{"$f":"SUM('Charges Summary'!F131,'Charges Summary'!F$8)","v":{"$error":"#REF!"}},{"$f":"SUM('Charges Summary'!G131,'Charges Summary'!G$8)","v":{"$error":"#REF!"}},{"$f":"SUM('Charges Summary'!H131,'Charges Summary'!H$8)","v":{"$error":"#REF!"}},null,{"$f":"SUM('Charges Summary'!D133,'Charges Summary'!D$11)","v":{"$error":"#REF!"}},{"$f":"SUM('Charges Summary'!E133,'Charges Summary'!E$11)","v":{"$error":"#REF!"}},{"$f":"SUM('Charges Summary'!F133,'Charges Summary'!F$11)","v":{"$error":"#REF!"}},{"$f":"SUM('Charges Summary'!G133,'Charges Summary'!G$11)","v":{"$error":"#REF!"}},{"$f":"SUM('Charges Summary'!H133,'Charges Summary'!H$11)","v":{"$error":"#REF!"}},null,{"$f":"ABS(D26-J26-P26)","v":{"$error":"#REF!"}},{"$error":"#REF!"},{"$error":"#REF!"},{"$error":"#REF!"},{"$error":"#REF!"}]
[{"$f":"#REF!","v":{"$error":"#REF!"}},null,{"$f":"#REF!","v":{"$error":"#REF!"}},{"$f":"'Charges Summary'!D$153","v":{"$error":"#REF!"}},{"$f":"'Charges Summary'!E$153","v":{"$error":"#REF!"}},{"$f":"'Charges Summary'!F$153","v":{"$error":"#REF!"}},{"$f":"'Charges Summary'!G$153","v":{"$error":"#REF!"}},{"$f":"'Charges Summary'!H$153","v":{"$error":"#REF!"}},null,{"$f":"SUM('Charges Summary'!D147,'Charges Summary'!D$8)","v":{"$error":"#REF!"}},{"$f":"SUM('Charges Summary'!E147,'Charges Summary'!E$8)","v":{"$error":"#REF!"}},{"$f":"SUM('Charges Summary'!F147,'Charges Summary'!F$8)","v":{"$error":"#REF!"}},{"$f":"SUM('Charges Summary'!G147,'Charges Summary'!G$8)","v":{"$error":"#REF!"}},{"$f":"SUM('Charges Summary'!H147,'Charges Summary'!H$8)","v":{"$error":"#REF!"}},null,{"$f":"SUM('Charges Summary'!D149,'Charges Summary'!D$11)","v":{"$error":"#REF!"}},{"$f":"SUM('Charges Summary'!E149,'Charges Summary'!E$11)","v":{"$error":"#REF!"}},{"$f":"SUM('Charges Summary'!F149,'Charges Summary'!F$11)","v":{"$error":"#REF!"}},{"$f":"SUM('Charges Summary'!G149,'Charges Summary'!G$11)","v":{"$error":"#REF!"}},{"$f":"SUM('Charges Summary'!H149,'Charges Summary'!H$11)","v":{"$error":"#REF!"}},null,{"$error":"#REF!"},{"$error":"#REF!"},{"$error":"#REF!"},{"$error":"#REF!"},{"$error":"#REF!"}]
[{"$f":"#REF!","v":{"$error":"#REF!"}},null,{"$f":"#REF!","v":{"$error":"#REF!"}},{"$f":"'Charges Summary'!D$169","v":{"$error":"#REF!"}},{"$f":"'Charges Summary'!E$169","v":{"$error":"#REF!"}},{"$f":"'Charges Summary'!F$169","v":{"$error":"#REF!"}},{"$f":"'Charges Summary'!G$169","v":{"$error":"#REF!"}},{"$f":"'Charges Summary'!H$169","v":{"$error":"#REF!"}},null,{"$f":"SUM('Charges Summary'!D163,'Charges Summary'!D$8)","v":{"$error":"#REF!"}},{"$f":"SUM('Charges Summary'!E163,'Charges Summary'!E$8)","v":{"$error":"#REF!"}},{"$f":"SUM('Charges Summary'!F163,'Charges Summary'!F$8)","v":{"$error":"#REF!"}},{"$f":"SUM('Charges Summary'!G163,'Charges Summary'!G$8)","v":{"$error":"#REF!"}},{"$f":"SUM('Charges Summary'!H163,'Charges Summary'!H$8)","v":{"$error":"#REF!"}},null,{"$f":"SUM('Charges Summary'!D165,'Charges Summary'!D$11)","v":{"$error":"#REF!"}},{"$f":"SUM('Charges Summary'!E165,'Charges Summary'!E$11)","v":{"$error":"#REF!"}},{"$f":"SUM('Charges Summary'!F165,'Charges Summary'!F$11)","v":{"$error":"#REF!"}},{"$f":"SUM('Charges Summary'!G165,'Charges Summary'!G$11)","v":{"$error":"#REF!"}},{"$f":"SUM('Charges Summary'!H165,'Charges Summary'!H$11)","v":{"$error":"#REF!"}},null,{"$error":"#REF!"},{"$error":"#REF!"},{"$error":"#REF!"},{"$error":"#REF!"},{"$error":"#REF!"}]
[{"$f":"#REF!","v":{"$error":"#REF!"}},null,{"$f":"#REF!","v":{"$error":"#REF!"}},{"$f":"'Charges Summary'!D$185","v":{"$error":"#REF!"}},{"$f":"'Charges Summary'!E$185","v":{"$error":"#REF!"}},{"$f":"'Charges Summary'!F$185","v":{"$error":"#REF!"}},{"$f":"'Charges Summary'!G$185","v":{"$error":"#REF!"}},{"$f":"'Charges Summary'!H$185","v":{"$error":"#REF!"}},null,{"$f":"SUM('Charges Summary'!D179,'Charges Summary'!D$8)","v":{"$error":"#REF!"}},{"$f":"SUM('Charges Summary'!E179,'Charges Summary'!E$8)","v":{"$error":"#REF!"}},{"$f":"SUM('Charges Summary'!F179,'Charges Summary'!F$8)","v":{"$error":"#REF!"}},{"$f":"SUM('Charges Summary'!G179,'Charges Summary'!G$8)","v":{"$error":"#REF!"}},{"$f":"SUM('Charges Summary'!H179,'Charges Summary'!H$8)","v":{"$error":"#REF!"}},null,{"$f":"SUM('Charges Summary'!D181,'Charges Summary'!D$11)","v":{"$error":"#REF!"}},{"$f":"SUM('Charges Summary'!E181,'Charges Summary'!E$11)","v":{"$error":"#REF!"}},{"$f":"SUM('Charges Summary'!F181,'Charges Summary'!F$11)","v":{"$error":"#REF!"}},{"$f":"SUM('Charges Summary'!G181,'Charges Summary'!G$11)","v":{"$error":"#REF!"}},{"$f":"SUM('Charges Summary'!H181,'Charges Summary'!H$11)","v":{"$error":"#REF!"}},null,{"$error":"#REF!"},{"$error":"#REF!"},{"$error":"#REF!"},{"$error":"#REF!"},{"$error":"#REF!"}]
[{"$f":"#REF!","v":{"$error":"#REF!"}},null,{"$f":"#REF!","v":{"$error":"#REF!"}},{"$f":"IF(#REF!=#REF!,D$23,D$24)*#REF!","v":{"$error":"#REF!"}},{"$f":"IF(#REF!=#REF!,E$23,E$24)*#REF!","v":{"$error":"#REF!"}},{"$f":"IF(#REF!=#REF!,F$23,F$24)*#REF!","v":{"$error":"#REF!"}},{"$f":"IF(#REF!=#REF!,G$23,G$24)*#REF!","v":{"$error":"#REF!"}},{"$f":"IF(#REF!=#REF!,H$23,H$24)*#REF!","v":{"$error":"#REF!"}},null,{"$f":"IF(#REF!=#REF!,J$23,J$24)*#REF!","v":{"$error":"#REF!"}},{"$f":"IF(#REF!=#REF!,K$23,K$24)*#REF!","v":{"$error":"#REF!"}},{"$f":"IF(#REF!=#REF!,L$23,L$24)*#REF!","v":{"$error":"#REF!"}},{"$f":"IF(#REF!=#REF!,M$23,M$24)*#REF!","v":{"$error":"#REF!"}},{"$f":"IF(#REF!=#REF!,N$23,N$24)*#REF!","v":{"$error":"#REF!"}},null,{"$f":"IF(#REF!=#REF!,P$23,P$24)*#REF!","v":{"$error":"#REF!"}},{"$f":"IF(#REF!=#REF!,Q$23,Q$24)*#REF!","v":{"$error":"#REF!"}},{"$f":"IF(#REF!=#REF!,R$23,R$24)*#REF!","v":{"$error":"#REF!"}},{"$f":"IF(#REF!=#REF!,S$23,S$24)*#REF!","v":{"$error":"#REF!"}},{"$f":"IF(#REF!=#REF!,T$23,T$24)*#REF!","v":{"$error":"#REF!"}},null,{"$error":"#REF!"},{"$error":"#REF!"},{"$error":"#REF!"},{"$error":"#REF!"},{"$error":"#REF!"}]
[{"$f":"#REF!","v":{"$error":"#REF!"}},null,{"$f":"#REF!","v":{"$error":"#REF!"}},{"$f":"IF(#REF!=#REF!,D$23,D$24)*#REF!","v":{"$error":"#REF!"}},{"$f":"IF(#REF!=#REF!,E$23,E$24)*#REF!","v":{"$error":"#REF!"}},{"$f":"IF(#REF!=#REF!,F$23,F$24)*#REF!","v":{"$error":"#REF!"}},{"$f":"IF(#REF!=#REF!,G$23,G$24)*#REF!","v":{"$error":"#REF!"}},{"$f":"IF(#REF!=#REF!,H$23,H$24)*#REF!","v":{"$error":"#REF!"}},null,{"$f":"IF(#REF!=#REF!,J$23,J$24)*#REF!","v":{"$error":"#REF!"}},{"$f":"IF(#REF!=#REF!,K$23,K$24)*#REF!","v":{"$error":"#REF!"}},{"$f":"IF(#REF!=#REF!,L$23,L$24)*#REF!","v":{"$error":"#REF!"}},{"$f":"IF(#REF!=#REF!,M$23,M$24)*#REF!","v":{"$error":"#REF!"}},{"$f":"IF(#REF!=#REF!,N$23,N$24)*#REF!","v":{"$error":"#REF!"}},null,{"$f":"IF(#REF!=#REF!,P$23,P$24)*#REF!","v":{"$error":"#REF!"}},{"$f":"IF(#REF!=#REF!,Q$23,Q$24)*#REF!","v":{"$error":"#REF!"}},{"$f":"IF(#REF!=#REF!,R$23,R$24)*#REF!","v":{"$error":"#REF!"}},{"$f":"IF(#REF!=#REF!,S$23,S$24)*#REF!","v":{"$error":"#REF!"}},{"$f":"IF(#REF!=#REF!,T$23,T$24)*#REF!","v":{"$error":"#REF!"}},null,{"$error":"#REF!"},{"$error":"#REF!"},{"$error":"#REF!"},{"$error":"#REF!"},{"$error":"#REF!"}]
[{"$f":"#REF!","v":{"$error":"#REF!"}},null,{"$f":"#REF!","v":{"$error":"#REF!"}},{"$f":"'Charges Summary'!D$201","v":{"$error":"#REF!"}},{"$f":"'Charges Summary'!E$201","v":{"$error":"#REF!"}},{"$f":"'Charges Summary'!F$201","v":{"$error":"#REF!"}},{"$f":"'Charges Summary'!G$201","v":{"$error":"#REF!"}},{"$f":"'Charges Summary'!H$201","v":{"$error":"#REF!"}},null,{"$f":"SUM('Charges Summary'!D$195,'Charges Summary'!D$8)","v":{"$error":"#REF!"}},{"$f":"SUM('Charges Summary'!E$195,'Charges Summary'!E$8)","v":{"$error":"#REF!"}},{"$f":"SUM('Charges Summary'!F$195,'Charges Summary'!F$8)","v":{"$error":"#REF!"}},{"$f":"SUM('Charges Summary'!G$195,'Charges Summary'!G$8)","v":{"$error":"#REF!"}},{"$f":"SUM('Charges Summary'!H$195,'Charges Summary'!H$8)","v":{"$error":"#REF!"}},null,{"$f":"SUM('Charges Summary'!D$197,'Charges Summary'!D$11)","v":{"$error":"#REF!"}},{"$f":"SUM('Charges Summary'!E$197,'Charges Summary'!E$11)","v":{"$error":"#REF!"}},{"$f":"SUM('Charges Summary'!F$197,'Charges Summary'!F$11)","v":{"$error":"#REF!"}},{"$f":"SUM('Charges Summary'!G$197,'Charges Summary'!G$11)","v":{"$error":"#REF!"}},{"$f":"SUM('Charges Summary'!H$197,'Charges Summary'!H$11)","v":{"$error":"#REF!"}},null,{"$f":"ABS(D32-J32-P32)","v":{"$error":"#REF!"}},{"$error":"#REF!"},{"$error":"#REF!"},{"$error":"#REF!"},{"$error":"#REF!"}]
[{"$f":"#REF!","v":{"$error":"#REF!"}},null,{"$f":"#REF!","v":{"$error":"#REF!"}},{"$f":"'Charges Summary'!D$217","v":{"$error":"#REF!"}},{"$f":"'Charges Summary'!E$217","v":{"$error":"#REF!"}},{"$f":"'Charges Summary'!F$217","v":{"$error":"#REF!"}},{"$f":"'Charges Summary'!G$217","v":{"$error":"#REF!"}},{"$f":"'Charges Summary'!H$217","v":{"$error":"#REF!"}},null,{"$f":"SUM('Charges Summary'!D$211,'Charges Summary'!D$8)","v":{"$error":"#REF!"}},{"$f":"SUM('Charges Summary'!E$211,'Charges Summary'!E$8)","v":{"$error":"#REF!"}},{"$f":"SUM('Charges Summary'!F$211,'Charges Summary'!F$8)","v":{"$error":"#REF!"}},{"$f":"SUM('Charges Summary'!G$211,'Charges Summary'!G$8)","v":{"$error":"#REF!"}},{"$f":"SUM('Charges Summary'!H$211,'Charges Summary'!H$8)","v":{"$error":"#REF!"}},null,{"$f":"SUM('Charges Summary'!D$213,'Charges Summary'!D$11)","v":{"$error":"#REF!"}},{"$f":"SUM('Charges Summary'!E$213,'Charges Summary'!E$11)","v":{"$error":"#REF!"}},{"$f":"SUM('Charges Summary'!F$213,'Charges Summary'!F$11)","v":{"$error":"#REF!"}},{"$f":"SUM('Charges Summary'!G$213,'Charges Summary'!G$11)","v":{"$error":"#REF!"}},{"$f":"SUM('Charges Summary'!H$213,'Charges Summary'!H$11)","v":{"$error":"#REF!"}},null,{"$error":"#REF!"},{"$error":"#REF!"},{"$error":"#REF!"},{"$error":"#REF!"},{"$error":"#REF!"}]
[{"$f":"#REF!","v":{"$error":"#REF!"}},null,{"$f":"#REF!","v":{"$error":"#REF!"}},{"$f":"'Charges Summary'!D$233","v":{"$error":"#REF!"}},{"$f":"'Charges Summary'!E$233","v":{"$error":"#REF!"}},{"$f":"'Charges Summary'!F$233","v":{"$error":"#REF!"}},{"$f":"'Charges Summary'!G$233","v":{"$error":"#REF!"}},{"$f":"'Charges Summary'!H$233","v":{"$error":"#REF!"}},null,{"$f":"SUM('Charges Summary'!D$227,'Charges Summary'!D$8)","v":{"$error":"#REF!"}},{"$f":"SUM('Charges Summary'!E$227,'Charges Summary'!E$8)","v":{"$error":"#REF!"}},{"$f":"SUM('Charges Summary'!F$227,'Charges Summary'!F$8)","v":{"$error":"#REF!"}},{"$f":"SUM('Charges Summary'!G$227,'Charges Summary'!G$8)","v":{"$error":"#REF!"}},{"$f":"SUM('Charges Summary'!H$227,'Charges Summary'!H$8)","v":{"$error":"#REF!"}},null,{"$f":"SUM('Charges Summary'!D$229,'Charges Summary'!D$11)","v":{"$error":"#REF!"}},{"$f":"SUM('Charges Summary'!E$229,'Charges Summary'!E$11)","v":{"$error":"#REF!"}},{"$f":"SUM('Charges Summary'!F$229,'Charges Summary'!F$11)","v":{"$error":"#REF!"}},{"$f":"SUM('Charges Summary'!G$229,'Charges Summary'!G$11)","v":{"$error":"#REF!"}},{"$f":"SUM('Charges Summary'!H$229,'Charges Summary'!H$11)","v":{"$error":"#REF!"}},null,{"$error":"#REF!"},{"$error":"#REF!"},{"$error":"#REF!"},{"$error":"#REF!"},{"$error":"#REF!"}]
[]
[]
[null,null,null,{"$f":"#REF!","v":{"$error":"#REF!"}}]
["Public Lighting Tariffs",null,"Total Tariff",null,null,null,null,null,null,"Operations, maintenance and repair Tariff",null,null,null,null,null,"Replacement Tariff",null,null,null,null,null,"Check"]
[null,null,"Actual"]
[{"$f":"#REF!","v":{"$error":"#REF!"}},null,{"$f":"EOMONTH(D40,-12)","v":"2026-06-30"},{"$f":"Instructions!$B$16","v":"2027-06-30"},{"$f":"EOMONTH(D40,12)","v":"2028-06-30"},{"$f":"EOMONTH(E40,12)","v":"2029-06-30"},{"$f":"EOMONTH(F40,12)","v":"2030-06-30"},{"$f":"EOMONTH(G40,12)","v":"2031-06-30"},null,{"$f":"D40","v":"2027-06-30"},{"$f":"E40","v":"2028-06-30"},{"$f":"F40","v":"2029-06-30"},{"$f":"G40","v":"2030-06-30"},{"$f":"H40","v":"2031-06-30"},null,{"$f":"J40","v":"2027-06-30"},{"$f":"K40","v":"2028-06-30"},{"$f":"L40","v":"2029-06-30"},{"$f":"M40","v":"2030-06-30"},{"$f":"N40","v":"2031-06-30"},null,{"$f":"P40","v":"2027-06-30"},{"$f":"Q40","v":"2028-06-30"},{"$f":"R40","v":"2029-06-30"},{"$f":"S40","v":"2030-06-30"},{"$f":"T40","v":"2031-06-30"}]
[{"$f":"#REF!","v":{"$error":"#REF!"}},null,{"$f":"#REF!","v":{"$error":"#REF!"}},{"$f":"'Charges Summary'!K$31","v":{"$error":"#REF!"}},{"$f":"'Charges Summary'!L$31","v":{"$error":"#REF!"}},{"$f":"'Charges Summary'!M$31","v":{"$error":"#REF!"}},{"$f":"'Charges Summary'!N$31","v":{"$error":"#REF!"}},{"$f":"'Charges Summary'!O$31","v":{"$error":"#REF!"}},null,{"$f":"SUM('Charges Summary'!K25,'Charges Summary'!K8)","v":{"$error":"#REF!"}},{"$f":"SUM('Charges Summary'!L25,'Charges Summary'!L8)","v":{"$error":"#REF!"}},{"$f":"SUM('Charges Summary'!M25,'Charges Summary'!M8)","v":{"$error":"#REF!"}},{"$f":"SUM('Charges Summary'!N25,'Charges Summary'!N8)","v":{"$error":"#REF!"}},{"$f":"SUM('Charges Summary'!O25,'Charges Summary'!O8)","v":{"$error":"#REF!"}},null,{"$f":"SUM('Charges Summary'!K27,'Charges Summary'!K11)","v":{"$error":"#REF!"}},{"$f":"SUM('Charges Summary'!L27,'Charges Summary'!L11)","v":{"$error":"#REF!"}},{"$f":"SUM('Charges Summary'!M27,'Charges Summary'!M11)","v":{"$error":"#REF!"}},{"$f":"SUM('Charges Summary'!N27,'Charges Summary'!N11)","v":{"$error":"#REF!"}},{"$f":"SUM('Charges Summary'!O27,'Charges Summary'!O11)","v":{"$error":"#REF!"}},null,{"$f":"ABS(D41-J41-P41)","v":{"$error":"#REF!"}},{"$f":"ABS(E41-K41-Q41)","v":{"$error":"#REF!"}},{"$f":"ABS(F41-L41-R41)","v":{"$error":"#REF!"}},{"$f":"ABS(G41-M41-S41)","v":{"$error":"#REF!"}},{"$f":"ABS(H41-N41-T41)","v":{"$error":"#REF!"}}]
[{"$f":"#REF!","v":{"$error":"#REF!"}},null,{"$f":"#REF!","v":{"$error":"#REF!"}},{"$f":"'Charges Summary'!K$55","v":{"$error":"#REF!"}},{"$f":"'Charges Summary'!L$55","v":{"$error":"#REF!"}},{"$f":"'Charges Summary'!M$55","v":{"$error":"#REF!"}},{"$f":"'Charges Summary'!N$55","v":{"$error":"#REF!"}},{"$f":"'Charges Summary'!O$55","v":{"$error":"#REF!"}},null,{"$f":"SUM('Charges Summary'!K49,'Charges Summary'!K8)","v":{"$error":"#REF!"}},{"$f":"SUM('Charges Summary'!L49,'Charges Summary'!L8)","v":{"$error":"#REF!"}},{"$f":"SUM('Charges Summary'!M49,'Charges Summary'!M8)","v":{"$error":"#REF!"}},{"$f":"SUM('Charges Summary'!N49,'Charges Summary'!N8)","v":{"$error":"#REF!"}},{"$f":"SUM('Charges Summary'!O49,'Charges Summary'!O8)","v":{"$error":"#REF!"}},null,{"$f":"SUM('Charges Summary'!K51,'Charges Summary'!K11)","v":{"$error":"#REF!"}},{"$f":"SUM('Charges Summary'!L51,'Charges Summary'!L11)","v":{"$error":"#REF!"}},{"$f":"SUM('Charges Summary'!M51,'Charges Summary'!M11)","v":{"$error":"#REF!"}},{"$f":"SUM('Charges Summary'!N51,'Charges Summary'!N11)","v":{"$error":"#REF!"}},{"$f":"SUM('Charges Summary'!O51,'Charges Summary'!O11)","v":{"$error":"#REF!"}},null,{"$f":"ABS(D42-J42-P42)","v":{"$error":"#REF!"}},{"$error":"#REF!"},{"$error":"#REF!"},{"$error":"#REF!"},{"$error":"#REF!"}]
[{"$f":"#REF!","v":{"$error":"#REF!"}},null,{"$f":"#REF!","v":{"$error":"#REF!"}},{"$f":"'Charges Summary'!K$71","v":{"$error":"#REF!"}},{"$f":"'Charges Summary'!L$71","v":{"$error":"#REF!"}},{"$f":"'Charges Summary'!M$71","v":{"$error":"#REF!"}},{"$f":"'Charges Summary'!N$71","v":{"$error":"#REF!"}},{"$f":"'Charges Summary'!O$71","v":{"$error":"#REF!"}},null,{"$f":"SUM('Charges Summary'!K65,'Charges Summary'!K8)","v":{"$error":"#REF!"}},{"$f":"SUM('Charges Summary'!L65,'Charges Summary'!L8)","v":{"$error":"#REF!"}},{"$f":"SUM('Charges Summary'!M65,'Charges Summary'!M8)","v":{"$error":"#REF!"}},{"$f":"SUM('Charges Summary'!N65,'Charges Summary'!N8)","v":{"$error":"#REF!"}},{"$f":"SUM('Charges Summary'!O65,'Charges Summary'!O8)","v":{"$error":"#REF!"}},null,{"$f":"SUM('Charges Summary'!K67,'Charges Summary'!K11)","v":{"$error":"#REF!"}},{"$f":"SUM('Charges Summary'!L67,'Charges Summary'!L11)","v":{"$error":"#REF!"}},{"$f":"SUM('Charges Summary'!M67,'Charges Summary'!M11)","v":{"$error":"#REF!"}},{"$f":"SUM('Charges Summary'!N67,'Charges Summary'!N11)","v":{"$error":"#REF!"}},{"$f":"SUM('Charges Summary'!O67,'Charges Summary'!O11)","v":{"$error":"#REF!"}},null,{"$error":"#REF!"},{"$error":"#REF!"},{"$error":"#REF!"},{"$error":"#REF!"},{"$error":"#REF!"}]
[{"$f":"#REF!","v":{"$error":"#REF!"}},null,{"$f":"#REF!","v":{"$error":"#REF!"}},{"$f":"IF(#REF!=#REF!,D$41,IF(#REF!=#REF!,D$42,D$43))*#REF!","v":{"$error":"#REF!"}},{"$f":"IF(#REF!=#REF!,E$41,IF(#REF!=#REF!,E$42,E$43))*#REF!","v":{"$error":"#REF!"}},{"$f":"IF(#REF!=#REF!,F$41,IF(#REF!=#REF!,F$42,F$43))*#REF!","v":{"$error":"#REF!"}},{"$f":"IF(#REF!=#REF!,G$41,IF(#REF!=#REF!,G$42,G$43))*#REF!","v":{"$error":"#REF!"}},{"$f":"IF(#REF!=#REF!,H$41,IF(#REF!=#REF!,H$42,H$43))*#REF!","v":{"$error":"#REF!"}},null,{"$f":"IF(#REF!=#REF!,J$41,IF(#REF!=#REF!,J$42,J$43))*#REF!","v":{"$error":"#REF!"}},{"$f":"IF(#REF!=#REF!,K$41,IF(#REF!=#REF!,K$42,K$43))*#REF!","v":{"$error":"#REF!"}},{"$f":"IF(#REF!=#REF!,L$41,IF(#REF!=#REF!,L$42,L$43))*#REF!","v":{"$error":"#REF!"}},{"$f":"IF(#REF!=#REF!,M$41,IF(#REF!=#REF!,M$42,M$43))*#REF!","v":{"$error":"#REF!"}},{"$f":"IF(#REF!=#REF!,N$41,IF(#REF!=#REF!,N$42,N$43))*#REF!","v":{"$error":"#REF!"}},null,{"$f":"IF(#REF!=#REF!,P$41,IF(#REF!=#REF!,P$42,P$43))*#REF!","v":{"$error":"#REF!"}},{"$f":"IF(#REF!=#REF!,Q$41,IF(#REF!=#REF!,Q$42,Q$43))*#REF!","v":{"$error":"#REF!"}},{"$f":"IF(#REF!=#REF!,R$41,IF(#REF!=#REF!,R$42,R$43))*#REF!","v":{"$error":"#REF!"}},{"$f":"IF(#REF!=#REF!,S$41,IF(#REF!=#REF!,S$42,S$43))*#REF!","v":{"$error":"#REF!"}},{"$f":"IF(#REF!=#REF!,T$41,IF(#REF!=#REF!,T$42,T$43))*#REF!","v":{"$error":"#REF!"}},null,{"$error":"#REF!"},{"$error":"#REF!"},{"$error":"#REF!"},{"$error":"#REF!"},{"$error":"#REF!"}]
[{"$f":"#REF!","v":{"$error":"#REF!"}},null,{"$f":"#REF!","v":{"$error":"#REF!"}},{"$f":"IF(#REF!=#REF!,D$41,IF(#REF!=#REF!,D$42,D$43))*#REF!","v":{"$error":"#REF!"}},{"$f":"IF(#REF!=#REF!,E$41,IF(#REF!=#REF!,E$42,E$43))*#REF!","v":{"$error":"#REF!"}},{"$f":"IF(#REF!=#REF!,F$41,IF(#REF!=#REF!,F$42,F$43))*#REF!","v":{"$error":"#REF!"}},{"$f":"IF(#REF!=#REF!,G$41,IF(#REF!=#REF!,G$42,G$43))*#REF!","v":{"$error":"#REF!"}},{"$f":"IF(#REF!=#REF!,H$41,IF(#REF!=#REF!,H$42,H$43))*#REF!","v":{"$error":"#REF!"}},null,{"$f":"IF(#REF!=#REF!,J$41,IF(#REF!=#REF!,J$42,J$43))*#REF!","v":{"$error":"#REF!"}},{"$f":"IF(#REF!=#REF!,K$41,IF(#REF!=#REF!,K$42,K$43))*#REF!","v":{"$error":"#REF!"}},{"$f":"IF(#REF!=#REF!,L$41,IF(#REF!=#REF!,L$42,L$43))*#REF!","v":{"$error":"#REF!"}},{"$f":"IF(#REF!=#REF!,M$41,IF(#REF!=#REF!,M$42,M$43))*#REF!","v":{"$error":"#REF!"}},{"$f":"IF(#REF!=#REF!,N$41,IF(#REF!=#REF!,N$42,N$43))*#REF!","v":{"$error":"#REF!"}},null,{"$f":"IF(#REF!=#REF!,P$41,IF(#REF!=#REF!,P$42,P$43))*#REF!","v":{"$error":"#REF!"}},{"$f":"IF(#REF!=#REF!,Q$41,IF(#REF!=#REF!,Q$42,Q$43))*#REF!","v":{"$error":"#REF!"}},{"$f":"IF(#REF!=#REF!,R$41,IF(#REF!=#REF!,R$42,R$43))*#REF!","v":{"$error":"#REF!"}},{"$f":"IF(#REF!=#REF!,S$41,IF(#REF!=#REF!,S$42,S$43))*#REF!","v":{"$error":"#REF!"}},{"$f":"IF(#REF!=#REF!,T$41,IF(#REF!=#REF!,T$42,T$43))*#REF!","v":{"$error":"#REF!"}},null,{"$error":"#REF!"},{"$error":"#REF!"},{"$error":"#REF!"},{"$error":"#REF!"},{"$error":"#REF!"}]
[{"$f":"#REF!","v":{"$error":"#REF!"}},null,{"$f":"#REF!","v":{"$error":"#REF!"}},{"$f":"IF(#REF!=#REF!,D$41,IF(#REF!=#REF!,D$42,D$43))*#REF!","v":{"$error":"#REF!"}},{"$f":"IF(#REF!=#REF!,E$41,IF(#REF!=#REF!,E$42,E$43))*#REF!","v":{"$error":"#REF!"}},{"$f":"IF(#REF!=#REF!,F$41,IF(#REF!=#REF!,F$42,F$43))*#REF!","v":{"$error":"#REF!"}},{"$f":"IF(#REF!=#REF!,G$41,IF(#REF!=#REF!,G$42,G$43))*#REF!","v":{"$error":"#REF!"}},{"$f":"IF(#REF!=#REF!,H$41,IF(#REF!=#REF!,H$42,H$43))*#REF!","v":{"$error":"#REF!"}},null,{"$f":"IF(#REF!=#REF!,J$41,IF(#REF!=#REF!,J$42,J$43))*#REF!","v":{"$error":"#REF!"}},{"$f":"IF(#REF!=#REF!,K$41,IF(#REF!=#REF!,K$42,K$43))*#REF!","v":{"$error":"#REF!"}},{"$f":"IF(#REF!=#REF!,L$41,IF(#REF!=#REF!,L$42,L$43))*#REF!","v":{"$error":"#REF!"}},{"$f":"IF(#REF!=#REF!,M$41,IF(#REF!=#REF!,M$42,M$43))*#REF!","v":{"$error":"#REF!"}},{"$f":"IF(#REF!=#REF!,N$41,IF(#REF!=#REF!,N$42,N$43))*#REF!","v":{"$error":"#REF!"}},null,{"$f":"IF(#REF!=#REF!,P$41,IF(#REF!=#REF!,P$42,P$43))*#REF!","v":{"$error":"#REF!"}},{"$f":"IF(#REF!=#REF!,Q$41,IF(#REF!=#REF!,Q$42,Q$43))*#REF!","v":{"$error":"#REF!"}},{"$f":"IF(#REF!=#REF!,R$41,IF(#REF!=#REF!,R$42,R$43))*#REF!","v":{"$error":"#REF!"}},{"$f":"IF(#REF!=#REF!,S$41,IF(#REF!=#REF!,S$42,S$43))*#REF!","v":{"$error":"#REF!"}},{"$f":"IF(#REF!=#REF!,T$41,IF(#REF!=#REF!,T$42,T$43))*#REF!","v":{"$error":"#REF!"}},null,{"$error":"#REF!"},{"$error":"#REF!"},{"$error":"#REF!"},{"$error":"#REF!"},{"$error":"#REF!"}]
[{"$f":"#REF!","v":{"$error":"#REF!"}},null,{"$f":"#REF!","v":{"$error":"#REF!"}},{"$f":"IF(#REF!=#REF!,D$41,IF(#REF!=#REF!,D$42,D$43))*#REF!","v":{"$error":"#REF!"}},{"$f":"IF(#REF!=#REF!,E$41,IF(#REF!=#REF!,E$42,E$43))*#REF!","v":{"$error":"#REF!"}},{"$f":"IF(#REF!=#REF!,F$41,IF(#REF!=#REF!,F$42,F$43))*#REF!","v":{"$error":"#REF!"}},{"$f":"IF(#REF!=#REF!,G$41,IF(#REF!=#REF!,G$42,G$43))*#REF!","v":{"$error":"#REF!"}},{"$f":"IF(#REF!=#REF!,H$41,IF(#REF!=#REF!,H$42,H$43))*#REF!","v":{"$error":"#REF!"}},null,{"$f":"IF(#REF!=#REF!,J$41,IF(#REF!=#REF!,J$42,J$43))*#REF!","v":{"$error":"#REF!"}},{"$f":"IF(#REF!=#REF!,K$41,IF(#REF!=#REF!,K$42,K$43))*#REF!","v":{"$error":"#REF!"}},{"$f":"IF(#REF!=#REF!,L$41,IF(#REF!=#REF!,L$42,L$43))*#REF!","v":{"$error":"#REF!"}},{"$f":"IF(#REF!=#REF!,M$41,IF(#REF!=#REF!,M$42,M$43))*#REF!","v":{"$error":"#REF!"}},{"$f":"IF(#REF!=#REF!,N$41,IF(#REF!=#REF!,N$42,N$43))*#REF!","v":{"$error":"#REF!"}},null,{"$f":"IF(#REF!=#REF!,P$41,IF(#REF!=#REF!,P$42,P$43))*#REF!","v":{"$error":"#REF!"}},{"$f":"IF(#REF!=#REF!,Q$41,IF(#REF!=#REF!,Q$42,Q$43))*#REF!","v":{"$error":"#REF!"}},{"$f":"IF(#REF!=#REF!,R$41,IF(#REF!=#REF!,R$42,R$43))*#REF!","v":{"$error":"#REF!"}},{"$f":"IF(#REF!=#REF!,S$41,IF(#REF!=#REF!,S$42,S$43))*#REF!","v":{"$error":"#REF!"}},{"$f":"IF(#REF!=#REF!,T$41,IF(#REF!=#REF!,T$42,T$43))*#REF!","v":{"$error":"#REF!"}},null,{"$error":"#REF!"},{"$error":"#REF!"},{"$error":"#REF!"},{"$error":"#REF!"},{"$error":"#REF!"}]
[{"$f":"#REF!","v":{"$error":"#REF!"}},null,{"$f":"#REF!","v":{"$error":"#REF!"}},{"$f":"IF(#REF!=#REF!,D$41,IF(#REF!=#REF!,D$42,D$43))*#REF!","v":{"$error":"#REF!"}},{"$f":"IF(#REF!=#REF!,E$41,IF(#REF!=#REF!,E$42,E$43))*#REF!","v":{"$error":"#REF!"}},{"$f":"IF(#REF!=#REF!,F$41,IF(#REF!=#REF!,F$42,F$43))*#REF!","v":{"$error":"#REF!"}},{"$f":"IF(#REF!=#REF!,G$41,IF(#REF!=#REF!,G$42,G$43))*#REF!","v":{"$error":"#REF!"}},{"$f":"IF(#REF!=#REF!,H$41,IF(#REF!=#REF!,H$42,H$43))*#REF!","v":{"$error":"#REF!"}},null,{"$f":"IF(#REF!=#REF!,J$41,IF(#REF!=#REF!,J$42,J$43))*#REF!","v":{"$error":"#REF!"}},{"$f":"IF(#REF!=#REF!,K$41,IF(#REF!=#REF!,K$42,K$43))*#REF!","v":{"$error":"#REF!"}},{"$f":"IF(#REF!=#REF!,L$41,IF(#REF!=#REF!,L$42,L$43))*#REF!","v":{"$error":"#REF!"}},{"$f":"IF(#REF!=#REF!,M$41,IF(#REF!=#REF!,M$42,M$43))*#REF!","v":{"$error":"#REF!"}},{"$f":"IF(#REF!=#REF!,N$41,IF(#REF!=#REF!,N$42,N$43))*#REF!","v":{"$error":"#REF!"}},null,{"$f":"IF(#REF!=#REF!,P$41,IF(#REF!=#REF!,P$42,P$43))*#REF!","v":{"$error":"#REF!"}},{"$f":"IF(#REF!=#REF!,Q$41,IF(#REF!=#REF!,Q$42,Q$43))*#REF!","v":{"$error":"#REF!"}},{"$f":"IF(#REF!=#REF!,R$41,IF(#REF!=#REF!,R$42,R$43))*#REF!","v":{"$error":"#REF!"}},{"$f":"IF(#REF!=#REF!,S$41,IF(#REF!=#REF!,S$42,S$43))*#REF!","v":{"$error":"#REF!"}},{"$f":"IF(#REF!=#REF!,T$41,IF(#REF!=#REF!,T$42,T$43))*#REF!","v":{"$error":"#REF!"}},null,{"$error":"#REF!"},{"$error":"#REF!"},{"$error":"#REF!"},{"$error":"#REF!"},{"$error":"#REF!"}]
[{"$f":"#REF!","v":{"$error":"#REF!"}},null,{"$f":"#REF!","v":{"$error":"#REF!"}},{"$f":"IF(#REF!=#REF!,D$41,IF(#REF!=#REF!,D$42,D$43))*#REF!","v":{"$error":"#REF!"}},{"$f":"IF(#REF!=#REF!,E$41,IF(#REF!=#REF!,E$42,E$43))*#REF!","v":{"$error":"#REF!"}},{"$f":"IF(#REF!=#REF!,F$41,IF(#REF!=#REF!,F$42,F$43))*#REF!","v":{"$error":"#REF!"}},{"$f":"IF(#REF!=#REF!,G$41,IF(#REF!=#REF!,G$42,G$43))*#REF!","v":{"$error":"#REF!"}},{"$f":"IF(#REF!=#REF!,H$41,IF(#REF!=#REF!,H$42,H$43))*#REF!","v":{"$error":"#REF!"}},null,{"$f":"IF(#REF!=#REF!,J$41,IF(#REF!=#REF!,J$42,J$43))*#REF!","v":{"$error":"#REF!"}},{"$f":"IF(#REF!=#REF!,K$41,IF(#REF!=#REF!,K$42,K$43))*#REF!","v":{"$error":"#REF!"}},{"$f":"IF(#REF!=#REF!,L$41,IF(#REF!=#REF!,L$42,L$43))*#REF!","v":{"$error":"#REF!"}},{"$f":"IF(#REF!=#REF!,M$41,IF(#REF!=#REF!,M$42,M$43))*#REF!","v":{"$error":"#REF!"}},{"$f":"IF(#REF!=#REF!,N$41,IF(#REF!=#REF!,N$42,N$43))*#REF!","v":{"$error":"#REF!"}},null,{"$f":"IF(#REF!=#REF!,P$41,IF(#REF!=#REF!,P$42,P$43))*#REF!","v":{"$error":"#REF!"}},{"$f":"IF(#REF!=#REF!,Q$41,IF(#REF!=#REF!,Q$42,Q$43))*#REF!","v":{"$error":"#REF!"}},{"$f":"IF(#REF!=#REF!,R$41,IF(#REF!=#REF!,R$42,R$43))*#REF!","v":{"$error":"#REF!"}},{"$f":"IF(#REF!=#REF!,S$41,IF(#REF!=#REF!,S$42,S$43))*#REF!","v":{"$error":"#REF!"}},{"$f":"IF(#REF!=#REF!,T$41,IF(#REF!=#REF!,T$42,T$43))*#REF!","v":{"$error":"#REF!"}},null,{"$error":"#REF!"},{"$error":"#REF!"},{"$error":"#REF!"},{"$error":"#REF!"},{"$error":"#REF!"}]
[{"$f":"#REF!","v":{"$error":"#REF!"}},null,{"$f":"#REF!","v":{"$error":"#REF!"}},{"$f":"IF(#REF!=#REF!,D$41,IF(#REF!=#REF!,D$42,D$43))*#REF!","v":{"$error":"#REF!"}},{"$f":"IF(#REF!=#REF!,E$41,IF(#REF!=#REF!,E$42,E$43))*#REF!","v":{"$error":"#REF!"}},{"$f":"IF(#REF!=#REF!,F$41,IF(#REF!=#REF!,F$42,F$43))*#REF!","v":{"$error":"#REF!"}},{"$f":"IF(#REF!=#REF!,G$41,IF(#REF!=#REF!,G$42,G$43))*#REF!","v":{"$error":"#REF!"}},{"$f":"IF(#REF!=#REF!,H$41,IF(#REF!=#REF!,H$42,H$43))*#REF!","v":{"$error":"#REF!"}},null,{"$f":"IF(#REF!=#REF!,J$41,IF(#REF!=#REF!,J$42,J$43))*#REF!","v":{"$error":"#REF!"}},{"$f":"IF(#REF!=#REF!,K$41,IF(#REF!=#REF!,K$42,K$43))*#REF!","v":{"$error":"#REF!"}},{"$f":"IF(#REF!=#REF!,L$41,IF(#REF!=#REF!,L$42,L$43))*#REF!","v":{"$error":"#REF!"}},{"$f":"IF(#REF!=#REF!,M$41,IF(#REF!=#REF!,M$42,M$43))*#REF!","v":{"$error":"#REF!"}},{"$f":"IF(#REF!=#REF!,N$41,IF(#REF!=#REF!,N$42,N$43))*#REF!","v":{"$error":"#REF!"}},null,{"$f":"IF(#REF!=#REF!,P$41,IF(#REF!=#REF!,P$42,P$43))*#REF!","v":{"$error":"#REF!"}},{"$f":"IF(#REF!=#REF!,Q$41,IF(#REF!=#REF!,Q$42,Q$43))*#REF!","v":{"$error":"#REF!"}},{"$f":"IF(#REF!=#REF!,R$41,IF(#REF!=#REF!,R$42,R$43))*#REF!","v":{"$error":"#REF!"}},{"$f":"IF(#REF!=#REF!,S$41,IF(#REF!=#REF!,S$42,S$43))*#REF!","v":{"$error":"#REF!"}},{"$f":"IF(#REF!=#REF!,T$41,IF(#REF!=#REF!,T$42,T$43))*#REF!","v":{"$error":"#REF!"}},null,{"$error":"#REF!"},{"$error":"#REF!"},{"$error":"#REF!"},{"$error":"#REF!"},{"$error":"#REF!"}]
[{"$f":"#REF!","v":{"$error":"#REF!"}},null,{"$f":"#REF!","v":{"$error":"#REF!"}},{"$f":"IF(#REF!=#REF!,D$41,IF(#REF!=#REF!,D$42,D$43))*#REF!","v":{"$error":"#REF!"}},{"$f":"IF(#REF!=#REF!,E$41,IF(#REF!=#REF!,E$42,E$43))*#REF!","v":{"$error":"#REF!"}},{"$f":"IF(#REF!=#REF!,F$41,IF(#REF!=#REF!,F$42,F$43))*#REF!","v":{"$error":"#REF!"}},{"$f":"IF(#REF!=#REF!,G$41,IF(#REF!=#REF!,G$42,G$43))*#REF!","v":{"$error":"#REF!"}},{"$f":"IF(#REF!=#REF!,H$41,IF(#REF!=#REF!,H$42,H$43))*#REF!","v":{"$error":"#REF!"}},null,{"$f":"IF(#REF!=#REF!,J$41,IF(#REF!=#REF!,J$42,J$43))*#REF!","v":{"$error":"#REF!"}},{"$f":"IF(#REF!=#REF!,K$41,IF(#REF!=#REF!,K$42,K$43))*#REF!","v":{"$error":"#REF!"}},{"$f":"IF(#REF!=#REF!,L$41,IF(#REF!=#REF!,L$42,L$43))*#REF!","v":{"$error":"#REF!"}},{"$f":"IF(#REF!=#REF!,M$41,IF(#REF!=#REF!,M$42,M$43))*#REF!","v":{"$error":"#REF!"}},{"$f":"IF(#REF!=#REF!,N$41,IF(#REF!=#REF!,N$42,N$43))*#REF!","v":{"$error":"#REF!"}},null,{"$f":"IF(#REF!=#REF!,P$41,IF(#REF!=#REF!,P$42,P$43))*#REF!","v":{"$error":"#REF!"}},{"$f":"IF(#REF!=#REF!,Q$41,IF(#REF!=#REF!,Q$42,Q$43))*#REF!","v":{"$error":"#REF!"}},{"$f":"IF(#REF!=#REF!,R$41,IF(#REF!=#REF!,R$42,R$43))*#REF!","v":{"$error":"#REF!"}},{"$f":"IF(#REF!=#REF!,S$41,IF(#REF!=#REF!,S$42,S$43))*#REF!","v":{"$error":"#REF!"}},{"$f":"IF(#REF!=#REF!,T$41,IF(#REF!=#REF!,T$42,T$43))*#REF!","v":{"$error":"#REF!"}},null,{"$error":"#REF!"},{"$error":"#REF!"},{"$error":"#REF!"},{"$error":"#REF!"},{"$error":"#REF!"}]
[{"$f":"#REF!","v":{"$error":"#REF!"}},null,{"$f":"#REF!","v":{"$error":"#REF!"}},{"$f":"IF(#REF!=#REF!,D$41,IF(#REF!=#REF!,D$42,D$43))*#REF!","v":{"$error":"#REF!"}},{"$f":"IF(#REF!=#REF!,E$41,IF(#REF!=#REF!,E$42,E$43))*#REF!","v":{"$error":"#REF!"}},{"$f":"IF(#REF!=#REF!,F$41,IF(#REF!=#REF!,F$42,F$43))*#REF!","v":{"$error":"#REF!"}},{"$f":"IF(#REF!=#REF!,G$41,IF(#REF!=#REF!,G$42,G$43))*#REF!","v":{"$error":"#REF!"}},{"$f":"IF(#REF!=#REF!,H$41,IF(#REF!=#REF!,H$42,H$43))*#REF!","v":{"$error":"#REF!"}},null,{"$f":"IF(#REF!=#REF!,J$41,IF(#REF!=#REF!,J$42,J$43))*#REF!","v":{"$error":"#REF!"}},{"$f":"IF(#REF!=#REF!,K$41,IF(#REF!=#REF!,K$42,K$43))*#REF!","v":{"$error":"#REF!"}},{"$f":"IF(#REF!=#REF!,L$41,IF(#REF!=#REF!,L$42,L$43))*#REF!","v":{"$error":"#REF!"}},{"$f":"IF(#REF!=#REF!,M$41,IF(#REF!=#REF!,M$42,M$43))*#REF!","v":{"$error":"#REF!"}},{"$f":"IF(#REF!=#REF!,N$41,IF(#REF!=#REF!,N$42,N$43))*#REF!","v":{"$error":"#REF!"}},null,{"$f":"IF(#REF!=#REF!,P$41,IF(#REF!=#REF!,P$42,P$43))*#REF!","v":{"$error":"#REF!"}},{"$f":"IF(#REF!=#REF!,Q$41,IF(#REF!=#REF!,Q$42,Q$43))*#REF!","v":{"$error":"#REF!"}},{"$f":"IF(#REF!=#REF!,R$41,IF(#REF!=#REF!,R$42,R$43))*#REF!","v":{"$error":"#REF!"}},{"$f":"IF(#REF!=#REF!,S$41,IF(#REF!=#REF!,S$42,S$43))*#REF!","v":{"$error":"#REF!"}},{"$f":"IF(#REF!=#REF!,T$41,IF(#REF!=#REF!,T$42,T$43))*#REF!","v":{"$error":"#REF!"}},null,{"$error":"#REF!"},{"$error":"#REF!"},{"$error":"#REF!"},{"$error":"#REF!"},{"$error":"#REF!"}]
[{"$f":"#REF!","v":{"$error":"#REF!"}},null,{"$f":"#REF!","v":{"$error":"#REF!"}},{"$f":"IF(#REF!=#REF!,D$41,IF(#REF!=#REF!,D$42,D$43))*#REF!","v":{"$error":"#REF!"}},{"$f":"IF(#REF!=#REF!,E$41,IF(#REF!=#REF!,E$42,E$43))*#REF!","v":{"$error":"#REF!"}},{"$f":"IF(#REF!=#REF!,F$41,IF(#REF!=#REF!,F$42,F$43))*#REF!","v":{"$error":"#REF!"}},{"$f":"IF(#REF!=#REF!,G$41,IF(#REF!=#REF!,G$42,G$43))*#REF!","v":{"$error":"#REF!"}},{"$f":"IF(#REF!=#REF!,H$41,IF(#REF!=#REF!,H$42,H$43))*#REF!","v":{"$error":"#REF!"}},null,{"$f":"IF(#REF!=#REF!,J$41,IF(#REF!=#REF!,J$42,J$43))*#REF!","v":{"$error":"#REF!"}},{"$f":"IF(#REF!=#REF!,K$41,IF(#REF!=#REF!,K$42,K$43))*#REF!","v":{"$error":"#REF!"}},{"$f":"IF(#REF!=#REF!,L$41,IF(#REF!=#REF!,L$42,L$43))*#REF!","v":{"$error":"#REF!"}},{"$f":"IF(#REF!=#REF!,M$41,IF(#REF!=#REF!,M$42,M$43))*#REF!","v":{"$error":"#REF!"}},{"$f":"IF(#REF!=#REF!,N$41,IF(#REF!=#REF!,N$42,N$43))*#REF!","v":{"$error":"#REF!"}},null,{"$f":"IF(#REF!=#REF!,P$41,IF(#REF!=#REF!,P$42,P$43))*#REF!","v":{"$error":"#REF!"}},{"$f":"IF(#REF!=#REF!,Q$41,IF(#REF!=#REF!,Q$42,Q$43))*#REF!","v":{"$error":"#REF!"}},{"$f":"IF(#REF!=#REF!,R$41,IF(#REF!=#REF!,R$42,R$43))*#REF!","v":{"$error":"#REF!"}},{"$f":"IF(#REF!=#REF!,S$41,IF(#REF!=#REF!,S$42,S$43))*#REF!","v":{"$error":"#REF!"}},{"$f":"IF(#REF!=#REF!,T$41,IF(#REF!=#REF!,T$42,T$43))*#REF!","v":{"$error":"#REF!"}},null,{"$error":"#REF!"},{"$error":"#REF!"},{"$error":"#REF!"},{"$error":"#REF!"},{"$error":"#REF!"}]
[]
[]
[{"$f":"#REF!","v":{"$error":"#REF!"}}]
[{"$f":"#REF!","v":{"$error":"#REF!"}},null,{"$f":"#REF!","v":{"$error":"#REF!"}},{"$f":"'Charges Summary'!K$89","v":{"$error":"#REF!"}},{"$f":"'Charges Summary'!L$89","v":{"$error":"#REF!"}},{"$f":"'Charges Summary'!M$89","v":{"$error":"#REF!"}},{"$f":"'Charges Summary'!N$89","v":{"$error":"#REF!"}},{"$f":"'Charges Summary'!O$89","v":{"$error":"#REF!"}},null,{"$f":"SUM('Charges Summary'!K83,'Charges Summary'!K8)","v":{"$error":"#REF!"}},{"$f":"SUM('Charges Summary'!L83,'Charges Summary'!L8)","v":{"$error":"#REF!"}},{"$f":"SUM('Charges Summary'!M83,'Charges Summary'!M8)","v":{"$error":"#REF!"}},{"$f":"SUM('Charges Summary'!N83,'Charges Summary'!N8)","v":{"$error":"#REF!"}},{"$f":"SUM('Charges Summary'!O83,'Charges Summary'!O8)","v":{"$error":"#REF!"}},null,{"$f":"SUM('Charges Summary'!K85,'Charges Summary'!K11)","v":{"$error":"#REF!"}},{"$f":"SUM('Charges Summary'!L85,'Charges Summary'!L11)","v":{"$error":"#REF!"}},{"$f":"SUM('Charges Summary'!M85,'Charges Summary'!M11)","v":{"$error":"#REF!"}},{"$f":"SUM('Charges Summary'!N85,'Charges Summary'!N11)","v":{"$error":"#REF!"}},{"$f":"SUM('Charges Summary'!O85,'Charges Summary'!O11)","v":{"$error":"#REF!"}},null,{"$f":"ABS(D57-J57-P57)","v":{"$error":"#REF!"}},{"$f":"ABS(E57-K57-Q57)","v":{"$error":"#REF!"}},{"$f":"ABS(F57-L57-R57)","v":{"$error":"#REF!"}},{"$f":"ABS(G57-M57-S57)","v":{"$error":"#REF!"}},{"$f":"ABS(H57-N57-T57)","v":{"$error":"#REF!"}}]
[{"$f":"#REF!","v":{"$error":"#REF!"}},null,{"$f":"#REF!","v":{"$error":"#REF!"}},{"$f":"'Charges Summary'!K$105","v":{"$error":"#REF!"}},{"$f":"'Charges Summary'!L$105","v":{"$error":"#REF!"}},{"$f":"'Charges Summary'!M$105","v":{"$error":"#REF!"}},{"$f":"'Charges Summary'!N$105","v":{"$error":"#REF!"}},{"$f":"'Charges Summary'!O$105","v":{"$error":"#REF!"}},null,{"$f":"SUM('Charges Summary'!K99,'Charges Summary'!K8)","v":{"$error":"#REF!"}},{"$f":"SUM('Charges Summary'!L99,'Charges Summary'!L8)","v":{"$error":"#REF!"}},{"$f":"SUM('Charges Summary'!M99,'Charges Summary'!M8)","v":{"$error":"#REF!"}},{"$f":"SUM('Charges Summary'!N99,'Charges Summary'!N8)","v":{"$error":"#REF!"}},{"$f":"SUM('Charges Summary'!O99,'Charges Summary'!O8)","v":{"$error":"#REF!"}},null,{"$f":"SUM('Charges Summary'!K101,'Charges Summary'!K11)","v":{"$error":"#REF!"}},{"$f":"SUM('Charges Summary'!L101,'Charges Summary'!L11)","v":{"$error":"#REF!"}},{"$f":"SUM('Charges Summary'!M101,'Charges Summary'!M11)","v":{"$error":"#REF!"}},{"$f":"SUM('Charges Summary'!N101,'Charges Summary'!N11)","v":{"$error":"#REF!"}},{"$f":"SUM('Charges Summary'!O101,'Charges Summary'!O11)","v":{"$error":"#REF!"}},null,{"$error":"#REF!"},{"$error":"#REF!"},{"$error":"#REF!"},{"$error":"#REF!"},{"$error":"#REF!"}]
[{"$f":"#REF!","v":{"$error":"#REF!"}},null,{"$f":"#REF!","v":{"$error":"#REF!"}},{"$f":"'Charges Summary'!K$121","v":{"$error":"#REF!"}},{"$f":"'Charges Summary'!L$121","v":{"$error":"#REF!"}},{"$f":"'Charges Summary'!M$121","v":{"$error":"#REF!"}},{"$f":"'Charges Summary'!N$121","v":{"$error":"#REF!"}},{"$f":"'Charges Summary'!O$121","v":{"$error":"#REF!"}},null,{"$f":"SUM('Charges Summary'!K115,'Charges Summary'!K8)","v":{"$error":"#REF!"}},{"$f":"SUM('Charges Summary'!L115,'Charges Summary'!L8)","v":{"$error":"#REF!"}},{"$f":"SUM('Charges Summary'!M115,'Charges Summary'!M8)","v":{"$error":"#REF!"}},{"$f":"SUM('Charges Summary'!N115,'Charges Summary'!N8)","v":{"$error":"#REF!"}},{"$f":"SUM('Charges Summary'!O115,'Charges Summary'!O8)","v":{"$error":"#REF!"}},null,{"$f":"SUM('Charges Summary'!K117,'Charges Summary'!K11)","v":{"$error":"#REF!"}},{"$f":"SUM('Charges Summary'!L117,'Charges Summary'!L11)","v":{"$error":"#REF!"}},{"$f":"SUM('Charges Summary'!M117,'Charges Summary'!M11)","v":{"$error":"#REF!"}},{"$f":"SUM('Charges Summary'!N117,'Charges Summary'!N11)","v":{"$error":"#REF!"}},{"$f":"SUM('Charges Summary'!O117,'Charges Summary'!O11)","v":{"$error":"#REF!"}},null,{"$error":"#REF!"},{"$error":"#REF!"},{"$error":"#REF!"},{"$error":"#REF!"},{"$error":"#REF!"}]
[{"$f":"#REF!","v":{"$error":"#REF!"}},null,{"$f":"#REF!","v":{"$error":"#REF!"}},{"$f":"'Charges Summary'!K$137","v":{"$error":"#REF!"}},{"$f":"'Charges Summary'!L$137","v":{"$error":"#REF!"}},{"$f":"'Charges Summary'!M$137","v":{"$error":"#REF!"}},{"$f":"'Charges Summary'!N$137","v":{"$error":"#REF!"}},{"$f":"'Charges Summary'!O$137","v":{"$error":"#REF!"}},null,{"$f":"SUM('Charges Summary'!K131,'Charges Summary'!K$8)","v":{"$error":"#REF!"}},{"$f":"SUM('Charges Summary'!L131,'Charges Summary'!L$8)","v":{"$error":"#REF!"}},{"$f":"SUM('Charges Summary'!M131,'Charges Summary'!M$8)","v":{"$error":"#REF!"}},{"$f":"SUM('Charges Summary'!N131,'Charges Summary'!N$8)","v":{"$error":"#REF!"}},{"$f":"SUM('Charges Summary'!O131,'Charges Summary'!O$8)","v":{"$error":"#REF!"}},null,{"$f":"SUM('Charges Summary'!K133,'Charges Summary'!K$11)","v":{"$error":"#REF!"}},{"$f":"SUM('Charges Summary'!L133,'Charges Summary'!L$11)","v":{"$error":"#REF!"}},{"$f":"SUM('Charges Summary'!M133,'Charges Summary'!M$11)","v":{"$error":"#REF!"}},{"$f":"SUM('Charges Summary'!N133,'Charges Summary'!N$11)","v":{"$error":"#REF!"}},{"$f":"SUM('Charges Summary'!O133,'Charges Summary'!O$11)","v":{"$error":"#REF!"}},null,{"$f":"ABS(D60-J60-P60)","v":{"$error":"#REF!"}},{"$error":"#REF!"},{"$error":"#REF!"},{"$error":"#REF!"},{"$error":"#REF!"}]
[{"$f":"#REF!","v":{"$error":"#REF!"}},null,{"$f":"#REF!","v":{"$error":"#REF!"}},{"$f":"'Charges Summary'!K$153","v":{"$error":"#REF!"}},{"$f":"'Charges Summary'!L$153","v":{"$error":"#REF!"}},{"$f":"'Charges Summary'!M$153","v":{"$error":"#REF!"}},{"$f":"'Charges Summary'!N$153","v":{"$error":"#REF!"}},{"$f":"'Charges Summary'!O$153","v":{"$error":"#REF!"}},null,{"$f":"SUM('Charges Summary'!K147,'Charges Summary'!K$8)","v":{"$error":"#REF!"}},{"$f":"SUM('Charges Summary'!L147,'Charges Summary'!L$8)","v":{"$error":"#REF!"}},{"$f":"SUM('Charges Summary'!M147,'Charges Summary'!M$8)","v":{"$error":"#REF!"}},{"$f":"SUM('Charges Summary'!N147,'Charges Summary'!N$8)","v":{"$error":"#REF!"}},{"$f":"SUM('Charges Summary'!O147,'Charges Summary'!O$8)","v":{"$error":"#REF!"}},null,{"$f":"SUM('Charges Summary'!K149,'Charges Summary'!K$11)","v":{"$error":"#REF!"}},{"$f":"SUM('Charges Summary'!L149,'Charges Summary'!L$11)","v":{"$error":"#REF!"}},{"$f":"SUM('Charges Summary'!M149,'Charges Summary'!M$11)","v":{"$error":"#REF!"}},{"$f":"SUM('Charges Summary'!N149,'Charges Summary'!N$11)","v":{"$error":"#REF!"}},{"$f":"SUM('Charges Summary'!O149,'Charges Summary'!O$11)","v":{"$error":"#REF!"}},null,{"$error":"#REF!"},{"$error":"#REF!"},{"$error":"#REF!"},{"$error":"#REF!"},{"$error":"#REF!"}]
[{"$f":"#REF!","v":{"$error":"#REF!"}},null,{"$f":"#REF!","v":{"$error":"#REF!"}},{"$f":"'Charges Summary'!K$169","v":{"$error":"#REF!"}},{"$f":"'Charges Summary'!L$169","v":{"$error":"#REF!"}},{"$f":"'Charges Summary'!M$169","v":{"$error":"#REF!"}},{"$f":"'Charges Summary'!N$169","v":{"$error":"#REF!"}},{"$f":"'Charges Summary'!O$169","v":{"$error":"#REF!"}},null,{"$f":"SUM('Charges Summary'!K163,'Charges Summary'!K$8)","v":{"$error":"#REF!"}},{"$f":"SUM('Charges Summary'!L163,'Charges Summary'!L$8)","v":{"$error":"#REF!"}},{"$f":"SUM('Charges Summary'!M163,'Charges Summary'!M$8)","v":{"$error":"#REF!"}},{"$f":"SUM('Charges Summary'!N163,'Charges Summary'!N$8)","v":{"$error":"#REF!"}},{"$f":"SUM('Charges Summary'!O163,'Charges Summary'!O$8)","v":{"$error":"#REF!"}},null,{"$f":"SUM('Charges Summary'!K165,'Charges Summary'!K$11)","v":{"$error":"#REF!"}},{"$f":"SUM('Charges Summary'!L165,'Charges Summary'!L$11)","v":{"$error":"#REF!"}},{"$f":"SUM('Charges Summary'!M165,'Charges Summary'!M$11)","v":{"$error":"#REF!"}},{"$f":"SUM('Charges Summary'!N165,'Charges Summary'!N$11)","v":{"$error":"#REF!"}},{"$f":"SUM('Charges Summary'!O165,'Charges Summary'!O$11)","v":{"$error":"#REF!"}},null,{"$error":"#REF!"},{"$error":"#REF!"},{"$error":"#REF!"},{"$error":"#REF!"},{"$error":"#REF!"}]
[{"$f":"#REF!","v":{"$error":"#REF!"}},null,{"$f":"#REF!","v":{"$error":"#REF!"}},{"$f":"'Charges Summary'!K$185","v":{"$error":"#REF!"}},{"$f":"'Charges Summary'!L$185","v":{"$error":"#REF!"}},{"$f":"'Charges Summary'!M$185","v":{"$error":"#REF!"}},{"$f":"'Charges Summary'!N$185","v":{"$error":"#REF!"}},{"$f":"'Charges Summary'!O$185","v":{"$error":"#REF!"}},null,{"$f":"SUM('Charges Summary'!K179,'Charges Summary'!K$8)","v":{"$error":"#REF!"}},{"$f":"SUM('Charges Summary'!L179,'Charges Summary'!L$8)","v":{"$error":"#REF!"}},{"$f":"SUM('Charges Summary'!M179,'Charges Summary'!M$8)","v":{"$error":"#REF!"}},{"$f":"SUM('Charges Summary'!N179,'Charges Summary'!N$8)","v":{"$error":"#REF!"}},{"$f":"SUM('Charges Summary'!O179,'Charges Summary'!O$8)","v":{"$error":"#REF!"}},null,{"$f":"SUM('Charges Summary'!K181,'Charges Summary'!K$11)","v":{"$error":"#REF!"}},{"$f":"SUM('Charges Summary'!L181,'Charges Summary'!L$11)","v":{"$error":"#REF!"}},{"$f":"SUM('Charges Summary'!M181,'Charges Summary'!M$11)","v":{"$error":"#REF!"}},{"$f":"SUM('Charges Summary'!N181,'Charges Summary'!N$11)","v":{"$error":"#REF!"}},{"$f":"SUM('Charges Summary'!O181,'Charges Summary'!O$11)","v":{"$error":"#REF!"}},null,{"$error":"#REF!"},{"$error":"#REF!"},{"$error":"#REF!"},{"$error":"#REF!"},{"$error":"#REF!"}]
[{"$f":"#REF!","v":{"$error":"#REF!"}},null,{"$f":"#REF!","v":{"$error":"#REF!"}},{"$f":"IF(#REF!=#REF!,D$57,D$58)*#REF!","v":{"$error":"#REF!"}},{"$f":"IF(#REF!=#REF!,E$57,E$58)*#REF!","v":{"$error":"#REF!"}},{"$f":"IF(#REF!=#REF!,F$57,F$58)*#REF!","v":{"$error":"#REF!"}},{"$f":"IF(#REF!=#REF!,G$57,G$58)*#REF!","v":{"$error":"#REF!"}},{"$f":"IF(#REF!=#REF!,H$57,H$58)*#REF!","v":{"$error":"#REF!"}},null,{"$f":"IF(#REF!=#REF!,J$57,J$58)*#REF!","v":{"$error":"#REF!"}},{"$f":"IF(#REF!=#REF!,K$57,K$58)*#REF!","v":{"$error":"#REF!"}},{"$f":"IF(#REF!=#REF!,L$57,L$58)*#REF!","v":{"$error":"#REF!"}},{"$f":"IF(#REF!=#REF!,M$57,M$58)*#REF!","v":{"$error":"#REF!"}},{"$f":"IF(#REF!=#REF!,N$57,N$58)*#REF!","v":{"$error":"#REF!"}},null,{"$f":"IF(#REF!=#REF!,P$57,P$58)*#REF!","v":{"$error":"#REF!"}},{"$f":"IF(#REF!=#REF!,Q$57,Q$58)*#REF!","v":{"$error":"#REF!"}},{"$f":"IF(#REF!=#REF!,R$57,R$58)*#REF!","v":{"$error":"#REF!"}},{"$f":"IF(#REF!=#REF!,S$57,S$58)*#REF!","v":{"$error":"#REF!"}},{"$f":"IF(#REF!=#REF!,T$57,T$58)*#REF!","v":{"$error":"#REF!"}},null,{"$error":"#REF!"},{"$error":"#REF!"},{"$error":"#REF!"},{"$error":"#REF!"},{"$error":"#REF!"}]
[{"$f":"#REF!","v":{"$error":"#REF!"}},null,{"$f":"#REF!","v":{"$error":"#REF!"}},{"$f":"IF(#REF!=#REF!,D$57,D$58)*#REF!","v":{"$error":"#REF!"}},{"$f":"IF(#REF!=#REF!,E$57,E$58)*#REF!","v":{"$error":"#REF!"}},{"$f":"IF(#REF!=#REF!,F$57,F$58)*#REF!","v":{"$error":"#REF!"}},{"$f":"IF(#REF!=#REF!,G$57,G$58)*#REF!","v":{"$error":"#REF!"}},{"$f":"IF(#REF!=#REF!,H$57,H$58)*#REF!","v":{"$error":"#REF!"}},null,{"$f":"IF(#REF!=#REF!,J$57,J$58)*#REF!","v":{"$error":"#REF!"}},{"$f":"IF(#REF!=#REF!,K$57,K$58)*#REF!","v":{"$error":"#REF!"}},{"$f":"IF(#REF!=#REF!,L$57,L$58)*#REF!","v":{"$error":"#REF!"}},{"$f":"IF(#REF!=#REF!,M$57,M$58)*#REF!","v":{"$error":"#REF!"}},{"$f":"IF(#REF!=#REF!,N$57,N$58)*#REF!","v":{"$error":"#REF!"}},null,{"$f":"IF(#REF!=#REF!,P$57,P$58)*#REF!","v":{"$error":"#REF!"}},{"$f":"IF(#REF!=#REF!,Q$57,Q$58)*#REF!","v":{"$error":"#REF!"}},{"$f":"IF(#REF!=#REF!,R$57,R$58)*#REF!","v":{"$error":"#REF!"}},{"$f":"IF(#REF!=#REF!,S$57,S$58)*#REF!","v":{"$error":"#REF!"}},{"$f":"IF(#REF!=#REF!,T$57,T$58)*#REF!","v":{"$error":"#REF!"}},null,{"$error":"#REF!"},{"$error":"#REF!"},{"$error":"#REF!"},{"$error":"#REF!"},{"$error":"#REF!"}]
[{"$f":"#REF!","v":{"$error":"#REF!"}},null,{"$f":"#REF!","v":{"$error":"#REF!"}},{"$f":"'Charges Summary'!K$201","v":{"$error":"#REF!"}},{"$f":"'Charges Summary'!L$201","v":{"$error":"#REF!"}},{"$f":"'Charges Summary'!M$201","v":{"$error":"#REF!"}},{"$f":"'Charges Summary'!N$201","v":{"$error":"#REF!"}},{"$f":"'Charges Summary'!O$201","v":{"$error":"#REF!"}},null,{"$f":"SUM('Charges Summary'!K$195,'Charges Summary'!K$8)","v":{"$error":"#REF!"}},{"$f":"SUM('Charges Summary'!L$195,'Charges Summary'!L$8)","v":{"$error":"#REF!"}},{"$f":"SUM('Charges Summary'!M$195,'Charges Summary'!M$8)","v":{"$error":"#REF!"}},{"$f":"SUM('Charges Summary'!N$195,'Charges Summary'!N$8)","v":{"$error":"#REF!"}},{"$f":"SUM('Charges Summary'!O$195,'Charges Summary'!O$8)","v":{"$error":"#REF!"}},null,{"$f":"SUM('Charges Summary'!K$197,'Charges Summary'!K$11)","v":{"$error":"#REF!"}},{"$f":"SUM('Charges Summary'!L$197,'Charges Summary'!L$11)","v":{"$error":"#REF!"}},{"$f":"SUM('Charges Summary'!M$197,'Charges Summary'!M$11)","v":{"$error":"#REF!"}},{"$f":"SUM('Charges Summary'!N$197,'Charges Summary'!N$11)","v":{"$error":"#REF!"}},{"$f":"SUM('Charges Summary'!O$197,'Charges Summary'!O$11)","v":{"$error":"#REF!"}},null,{"$f":"ABS(D66-J66-P66)","v":{"$error":"#REF!"}},{"$error":"#REF!"},{"$error":"#REF!"},{"$error":"#REF!"},{"$error":"#REF!"}]
[{"$f":"#REF!","v":{"$error":"#REF!"}},null,{"$f":"#REF!","v":{"$error":"#REF!"}},{"$f":"'Charges Summary'!K$217","v":{"$error":"#REF!"}},{"$f":"'Charges Summary'!L$217","v":{"$error":"#REF!"}},{"$f":"'Charges Summary'!M$217","v":{"$error":"#REF!"}},{"$f":"'Charges Summary'!N$217","v":{"$error":"#REF!"}},{"$f":"'Charges Summary'!O$217","v":{"$error":"#REF!"}},null,{"$f":"SUM('Charges Summary'!K$211,'Charges Summary'!K$8)","v":{"$error":"#REF!"}},{"$f":"SUM('Charges Summary'!L$211,'Charges Summary'!L$8)","v":{"$error":"#REF!"}},{"$f":"SUM('Charges Summary'!M$211,'Charges Summary'!M$8)","v":{"$error":"#REF!"}},{"$f":"SUM('Charges Summary'!N$211,'Charges Summary'!N$8)","v":{"$error":"#REF!"}},{"$f":"SUM('Charges Summary'!O$211,'Charges Summary'!O$8)","v":{"$error":"#REF!"}},null,{"$f":"SUM('Charges Summary'!K$213,'Charges Summary'!K$11)","v":{"$error":"#REF!"}},{"$f":"SUM('Charges Summary'!L$213,'Charges Summary'!L$11)","v":{"$error":"#REF!"}},{"$f":"SUM('Charges Summary'!M$213,'Charges Summary'!M$11)","v":{"$error":"#REF!"}},{"$f":"SUM('Charges Summary'!N$213,'Charges Summary'!N$11)","v":{"$error":"#REF!"}},{"$f":"SUM('Charges Summary'!O$213,'Charges Summary'!O$11)","v":{"$error":"#REF!"}},null,{"$error":"#REF!"},{"$error":"#REF!"},{"$error":"#REF!"},{"$error":"#REF!"},{"$error":"#REF!"}]
[{"$f":"#REF!","v":{"$error":"#REF!"}},null,{"$f":"#REF!","v":{"$error":"#REF!"}},{"$f":"'Charges Summary'!K$233","v":{"$error":"#REF!"}},{"$f":"'Charges Summary'!L$233","v":{"$error":"#REF!"}},{"$f":"'Charges Summary'!M$233","v":{"$error":"#REF!"}},{"$f":"'Charges Summary'!N$233","v":{"$error":"#REF!"}},{"$f":"'Charges Summary'!O$233","v":{"$error":"#REF!"}},null,{"$f":"SUM('Charges Summary'!K$227,'Charges Summary'!K$8)","v":{"$error":"#REF!"}},{"$f":"SUM('Charges Summary'!L$227,'Charges Summary'!L$8)","v":{"$error":"#REF!"}},{"$f":"SUM('Charges Summary'!M$227,'Charges Summary'!M$8)","v":{"$error":"#REF!"}},{"$f":"SUM('Charges Summary'!N$227,'Charges Summary'!N$8)","v":{"$error":"#REF!"}},{"$f":"SUM('Charges Summary'!O$227,'Charges Summary'!O$8)","v":{"$error":"#REF!"}},null,{"$f":"SUM('Charges Summary'!K$229,'Charges Summary'!K$11)","v":{"$error":"#REF!"}},{"$f":"SUM('Charges Summary'!L$229,'Charges Summary'!L$11)","v":{"$error":"#REF!"}},{"$f":"SUM('Charges Summary'!M$229,'Charges Summary'!M$11)","v":{"$error":"#REF!"}},{"$f":"SUM('Charges Summary'!N$229,'Charges Summary'!N$11)","v":{"$error":"#REF!"}},{"$f":"SUM('Charges Summary'!O$229,'Charges Summary'!O$11)","v":{"$error":"#REF!"}},null,{"$error":"#REF!"},{"$error":"#REF!"},{"$error":"#REF!"},{"$error":"#REF!"},{"$error":"#REF!"}]

{"sheet":"Cashflow Summary","index":10,"n_rows":378,"n_cols":15,"rows_kept":378,"cut":false,"hidden":true,"merged":[[320,3,320,7],[320,10,320,14],[218,2,218,7],[218,9,218,14],[262,3,262,7],[262,10,262,14],[155,3,155,7],[155,10,155,14],[53,2,53,7],[53,9,53,14],[97,3,97,7],[97,10,97,14],[3,2,3,7],[3,9,3,14],[9,3,9,7],[9,10,9,14],[29,3,29,7],[41,3,41,7],[15,3,15,7],[15,10,15,14],[22,3,22,7],[22,10,22,14]]}
[{"$f":"'DNSP Inputs O&M'!$A$3","v":"AusNet"},null,null,null,"Check",{"$f":"SUM(C21,C27,C50,C213,C378)","v":{"$error":"#REF!"}}]
[null,null,{"$f":"EOMONTH(D2,-12)","v":"2026-06-30"},{"$f":"Instructions!$B$16","v":"2027-06-30"},{"$f":"EOMONTH(D2,12)","v":"2028-06-30"},{"$f":"EOMONTH(E2,12)","v":"2029-06-30"},{"$f":"EOMONTH(F2,12)","v":"2030-06-30"},{"$f":"EOMONTH(G2,12)","v":"2031-06-30"},null,{"$f":"C2","v":"2026-06-30"},"2027-06-30","2028-06-30","2029-06-30","2030-06-30","2031-06-30"]
[]
["Public Lighting - Revenue",null,"Revenue - $Nominal ",null,null,null,null,null,null,"Revenue - $Real Jun 2026 "]
[null,null,{"$f":"C$2","v":"2026-06-30"},"2027-06-30","2028-06-30","2029-06-30","2030-06-30","2031-06-30",null,{"$f":"J$2","v":"2026-06-30"},"2027-06-30","2028-06-30","2029-06-30","2030-06-30","2031-06-30"]
[]
["Total Revenue",null,{"$f":"C95+C260","v":{"$error":"#REF!"}},{"$error":"#REF!"},{"$error":"#REF!"},{"$error":"#REF!"},{"$error":"#REF!"},{"$error":"#REF!"},null,{"$f":"J95+J260","v":{"$error":"#REF!"}},{"$error":"#REF!"},{"$error":"#REF!"},{"$error":"#REF!"},{"$error":"#REF!"},{"$error":"#REF!"}]
[null,null,null,{"$f":"D7/C7-1","v":{"$error":"#REF!"}},{"$f":"E7/D7-1","v":{"$error":"#REF!"}},{"$f":"F7/E7-1","v":{"$error":"#REF!"}},{"$f":"G7/F7-1","v":{"$error":"#REF!"}},{"$f":"H7/G7-1","v":{"$error":"#REF!"}},null,null,{"$f":"K7/J7-1","v":{"$error":"#REF!"}},{"$f":"L7/K7-1","v":{"$error":"#REF!"}},{"$f":"M7/L7-1","v":{"$error":"#REF!"}},{"$f":"N7/M7-1","v":{"$error":"#REF!"}},{"$f":"O7/N7-1","v":{"$error":"#REF!"}}]
[]
["Public Lighting - O & M",null,null,"Forecast O & M - $Nominal ",null,null,null,null,null,null,"Forecast O & M - $Real Jun 2026 "]
[null,null,null,{"$f":"D$2","v":"2027-06-30"},{"$f":"E$2","v":"2028-06-30"},{"$f":"F$2","v":"2029-06-30"},{"$f":"G$2","v":"2030-06-30"},{"$f":"H$2","v":"2031-06-30"},null,null,{"$f":"K$2","v":"2027-06-30"},{"$f":"L$2","v":"2028-06-30"},{"$f":"M$2","v":"2029-06-30"},{"$f":"N$2","v":"2030-06-30"},{"$f":"O$2","v":"2031-06-30"}]
[]
["Total O & M",null,null,{"$f":"D153+D318","v":{"$error":"#REF!"}},{"$f":"E153+E318","v":{"$error":"#REF!"}},{"$f":"F153+F318","v":{"$error":"#REF!"}},{"$f":"G153+G318","v":{"$error":"#REF!"}},{"$f":"H153+H318","v":{"$error":"#REF!"}},null,null,{"$f":"K153+K318","v":{"$error":"#REF!"}},{"$f":"L153+L318","v":{"$error":"#REF!"}},{"$f":"M153+M318","v":{"$error":"#REF!"}},{"$f":"N153+N318","v":{"$error":"#REF!"}},{"$f":"O153+O318","v":{"$error":"#REF!"}}]
[]
[]
["Public Lighting - Capital Charge",null,null,"Capital Charge - $Nominal ",null,null,null,null,null,null,"Capital Charge - $Real Jun 2026 "]
[null,null,null,{"$f":"D$2","v":"2027-06-30"},{"$f":"E$2","v":"2028-06-30"},{"$f":"F$2","v":"2029-06-30"},{"$f":"G$2","v":"2030-06-30"},{"$f":"H$2","v":"2031-06-30"},null,null,{"$f":"K$2","v":"2027-06-30"},{"$f":"L$2","v":"2028-06-30"},{"$f":"M$2","v":"2029-06-30"},{"$f":"N$2","v":"2030-06-30"},{"$f":"O$2","v":"2031-06-30"}]
[]
["Total Capital Charge",null,null,{"$f":"D211+D376","v":{"$error":"#REF!"}},{"$f":"E211+E376","v":{"$error":"#REF!"}},{"$f":"F211+F376","v":{"$error":"#REF!"}},{"$f":"G211+G376","v":{"$error":"#REF!"}},{"$f":"H211+H376","v":{"$error":"#REF!"}},null,null,{"$f":"K211+K376","v":{"$error":"#REF!"}},{"$f":"L211+L376","v":{"$error":"#REF!"}},{"$f":"M211+M376","v":{"$error":"#REF!"}},{"$f":"N211+N376","v":{"$error":"#REF!"}},{"$f":"O211+O376","v":{"$error":"#REF!"}}]
[]
["Check",null,{"$f":"SUM(D21:O21)","v":{"$error":"#REF!"}},{"$f":"ABS(D7-SUM(D13,D19))","v":{"$error":"#REF!"}},{"$f":"ABS(E7-SUM(E13,E19))","v":{"$error":"#REF!"}},{"$f":"ABS(F7-SUM(F13,F19))","v":{"$error":"#REF!"}},{"$f":"ABS(G7-SUM(G13,G19))","v":{"$error":"#REF!"}},{"$f":"ABS(H7-SUM(H13,H19))","v":{"$error":"#REF!"}},null,null,{"$f":"ABS(K7-SUM(K13,K19))","v":{"$error":"#REF!"}},{"$f":"ABS(L7-SUM(L13,L19))","v":{"$error":"#REF!"}},{"$f":"ABS(M7-SUM(M13,M19))","v":{"$error":"#REF!"}},{"$f":"ABS(N7-SUM(N13,N19))","v":{"$error":"#REF!"}},{"$f":"ABS(O7-SUM(O13,O19))","v":{"$error":"#REF!"}}]
[]
["Public Lighting - Capital Expenditure",null,null,"Forecast Capital Expenditure - $Nominal ",null,null,null,null,null,null,"Forecast Capital Expenditure - $Real Jun 2026 "]
[null,null,null,{"$f":"D$2","v":"2027-06-30"},{"$f":"E$2","v":"2028-06-30"},{"$f":"F$2","v":"2029-06-30"},{"$f":"G$2","v":"2030-06-30"},{"$f":"H$2","v":"2031-06-30"},null,null,{"$f":"K$2","v":"2027-06-30"},{"$f":"L$2","v":"2028-06-30"},{"$f":"M$2","v":"2029-06-30"},{"$f":"N$2","v":"2030-06-30"},{"$f":"O$2","v":"2031-06-30"}]
[]
["Total Capital Expenditure",null,null,{"$f":"K26*'Charges Summary'!K$4","v":{"$error":"#REF!"}},{"$f":"L26*'Charges Summary'!L$4","v":{"$error":"#REF!"}},{"$f":"M26*'Charges Summary'!M$4","v":{"$error":"#REF!"}},{"$f":"N26*'Charges Summary'!N$4","v":{"$error":"#REF!"}},{"$f":"O26*'Charges Summary'!O$4","v":{"$error":"#REF!"}},null,null,{"$f":"#REF!","v":{"$error":"#REF!"}},{"$f":"#REF!","v":{"$error":"#REF!"}},{"$f":"#REF!","v":{"$error":"#REF!"}},{"$f":"#REF!","v":{"$error":"#REF!"}},{"$f":"#REF!","v":{"$error":"#REF!"}}]
["Check",null,{"$f":"SUM(D27:H27)","v":{"$error":"#REF!"}},{"$f":"ABS(D26-D34)","v":{"$error":"#REF!"}},{"$f":"ABS(E26-E34)","v":{"$error":"#REF!"}},{"$f":"ABS(F26-F34)","v":{"$error":"#REF!"}},{"$f":"ABS(G26-G34)","v":{"$error":"#REF!"}},{"$f":"ABS(H26-H34)","v":{"$error":"#REF!"}}]
[]
[]
["Public Lighting - RAB",null,null,"RAB - Historical Cost ($)"]
[null,null,null,{"$f":"D$2","v":"2027-06-30"},{"$f":"E$2","v":"2028-06-30"},{"$f":"F$2","v":"2029-06-30"},{"$f":"G$2","v":"2030-06-30"},{"$f":"H$2","v":"2031-06-30"}]
[]
["Opening RAB",null,null,{"$f":"'Total RAB'!T172","v":{"$error":"#REF!"}},{"$f":"D36","v":{"$error":"#REF!"}},{"$f":"E36","v":{"$error":"#REF!"}},{"$f":"F36","v":{"$error":"#REF!"}},{"$f":"G36","v":{"$error":"#REF!"}}]
["Capex",null,null,{"$f":"'Total RAB'!T173","v":{"$error":"#REF!"}},{"$f":"'Total RAB'!U173","v":{"$error":"#REF!"}},{"$f":"'Total RAB'!V173","v":{"$error":"#REF!"}},{"$f":"'Total RAB'!W173","v":{"$error":"#REF!"}},{"$f":"'Total RAB'!X173","v":{"$error":"#REF!"}}]
["Depreciation",null,null,{"$f":"'Total RAB'!T174","v":{"$error":"#REF!"}},{"$f":"'Total RAB'!U174","v":{"$error":"#REF!"}},{"$f":"'Total RAB'!V174","v":{"$error":"#REF!"}},{"$f":"'Total RAB'!W174","v":{"$error":"#REF!"}},{"$f":"'Total RAB'!X174","v":{"$error":"#REF!"}}]
["Closing RAB",null,null,{"$f":"D33+D34-D35","v":{"$error":"#REF!"}},{"$f":"E33+E34-E35","v":{"$error":"#REF!"}},{"$f":"F33+F34-F35","v":{"$error":"#REF!"}},{"$f":"G33+G34-G35","v":{"$error":"#REF!"}},{"$f":"H33+H34-H35","v":{"$error":"#REF!"}}]
[]
["Average RAB",null,null,{"$f":"SUM(D33,D36)/2","v":{"$error":"#REF!"}},{"$f":"SUM(E33,E36)/2","v":{"$error":"#REF!"}},{"$f":"SUM(F33,F36)/2","v":{"$error":"#REF!"}},{"$f":"SUM(G33,G36)/2","v":{"$error":"#REF!"}},{"$f":"SUM(H33,H36)/2","v":{"$error":"#REF!"}}]
[]
[{"$f":"WACC!B$8","v":"Nominal Pre Tax WACC"},null,null,{"$f":"WACC!E$8","v":{"$error":"#REF!"}},{"$f":"WACC!F$8","v":{"$error":"#REF!"}},{"$f":"WACC!G$8","v":{"$error":"#REF!"}},{"$f":"WACC!H$8","v":{"$error":"#REF!"}},{"$f":"WACC!I$8","v":{"$error":"#REF!"}}]
[]
["Capital Charge",null,null,"Capital Charge - $Nominal "]
[null,null,null,{"$f":"D$2","v":"2027-06-30"},{"$f":"E$2","v":"2028-06-30"},{"$f":"F$2","v":"2029-06-30"},{"$f":"G$2","v":"2030-06-30"},{"$f":"H$2","v":"2031-06-30"}]
[]
["Depreciation",null,null,{"$f":"D35","v":{"$error":"#REF!"}},{"$f":"E35","v":{"$error":"#REF!"}},{"$f":"F35","v":{"$error":"#REF!"}},{"$f":"G35","v":{"$error":"#REF!"}},{"$f":"H35","v":{"$error":"#REF!"}}]
["Return",null,null,{"$f":"D40*D38","v":{"$error":"#REF!"}},{"$f":"E40*E38","v":{"$error":"#REF!"}},{"$f":"F40*F38","v":{"$error":"#REF!"}},{"$f":"G40*G38","v":{"$error":"#REF!"}},{"$f":"H40*H38","v":{"$error":"#REF!"}}]
[]
[null,null,null,{"$f":"SUM(D45:D47)","v":{"$error":"#REF!"}},{"$f":"SUM(E45:E47)","v":{"$error":"#REF!"}},{"$f":"SUM(F45:F47)","v":{"$error":"#REF!"}},{"$f":"SUM(G45:G47)","v":{"$error":"#REF!"}},{"$f":"SUM(H45:H47)","v":{"$error":"#REF!"}}]
[]
["Check",null,{"$f":"SUM(D50:H50)","v":{"$error":"#REF!"}},{"$f":"ABS(D19-D48)*IF(#REF!=0,0,1)*IF(#REF!=0,0,1)","v":{"$error":"#REF!"}},{"$f":"ABS(E19-E48)*IF(#REF!=0,0,1)*IF(#REF!=0,0,1)","v":{"$error":"#REF!"}},{"$f":"ABS(F19-F48)*IF(#REF!=0,0,1)*IF(#REF!=0,0,1)","v":{"$error":"#REF!"}},{"$f":"ABS(G19-G48)*IF(#REF!=0,0,1)*IF(#REF!=0,0,1)","v":{"$error":"#REF!"}},{"$f":"ABS(H19-H48)*IF(#REF!=0,0,1)*IF(#REF!=0,0,1)","v":{"$error":"#REF!"}}]
[]
[]
[{"$f":"#REF!","v":{"$error":"#REF!"}}]
["Public Lighting - Revenue",null,"Revenue - $Nominal ",null,null,null,null,null,null,"Revenue - $Real Jun 2026 "]
[null,null,{"$f":"C$2","v":"2026-06-30"},"2027-06-30","2028-06-30","2029-06-30","2030-06-30","2031-06-30",null,{"$f":"J$2","v":"2026-06-30"},"2027-06-30","2028-06-30","2029-06-30","2030-06-30","2031-06-30"]
[{"$f":"#REF!","v":{"$error":"#REF!"}}]
[{"$f":"#REF!","v":{"$error":"#REF!"}},null,{"$f":"IF('PL Tariffs'!C7=0,\"\",#REF!*'PL Tariffs'!C7)","v":{"$error":"#REF!"}},{"$f":"#REF!*'PL Tariffs'!D7","v":{"$error":"#REF!"}},{"$f":"#REF!*'PL Tariffs'!E7","v":{"$error":"#REF!"}},{"$f":"#REF!*'PL Tariffs'!F7","v":{"$error":"#REF!"}},{"$f":"#REF!*'PL Tariffs'!G7","v":{"$error":"#REF!"}},{"$f":"#REF!*'PL Tariffs'!H7","v":{"$error":"#REF!"}},null,{"$f":"C57","v":{"$error":"#REF!"}},{"$f":"D57/'Charges Summary'!D$4","v":{"$error":"#REF!"}},{"$f":"E57/'Charges Summary'!E$4","v":{"$error":"#REF!"}},{"$f":"F57/'Charges Summary'!F$4","v":{"$error":"#REF!"}},{"$f":"G57/'Charges Summary'!G$4","v":{"$error":"#REF!"}},{"$f":"H57/'Charges Summary'!H$4","v":{"$error":"#REF!"}}]
[{"$f":"#REF!","v":{"$error":"#REF!"}},null,{"$f":"IF('PL Tariffs'!C8=0,\"\",#REF!*'PL Tariffs'!C8)","v":{"$error":"#REF!"}},{"$f":"#REF!*'PL Tariffs'!D8","v":{"$error":"#REF!"}},{"$f":"#REF!*'PL Tariffs'!E8","v":{"$error":"#REF!"}},{"$f":"#REF!*'PL Tariffs'!F8","v":{"$error":"#REF!"}},{"$f":"#REF!*'PL Tariffs'!G8","v":{"$error":"#REF!"}},{"$f":"#REF!*'PL Tariffs'!H8","v":{"$error":"#REF!"}},null,{"$error":"#REF!"},{"$f":"D58/'Charges Summary'!D$4","v":{"$error":"#REF!"}},{"$f":"E58/'Charges Summary'!E$4","v":{"$error":"#REF!"}},{"$f":"F58/'Charges Summary'!F$4","v":{"$error":"#REF!"}},{"$f":"G58/'Charges Summary'!G$4","v":{"$error":"#REF!"}},{"$f":"H58/'Charges Summary'!H$4","v":{"$error":"#REF!"}}]
[{"$f":"#REF!","v":{"$error":"#REF!"}},null,{"$f":"IF('PL Tariffs'!C9=0,\"\",#REF!*'PL Tariffs'!C9)","v":{"$error":"#REF!"}},{"$f":"#REF!*'PL Tariffs'!D9","v":{"$error":"#REF!"}},{"$f":"#REF!*'PL Tariffs'!E9","v":{"$error":"#REF!"}},{"$f":"#REF!*'PL Tariffs'!F9","v":{"$error":"#REF!"}},{"$f":"#REF!*'PL Tariffs'!G9","v":{"$error":"#REF!"}},{"$f":"#REF!*'PL Tariffs'!H9","v":{"$error":"#REF!"}},null,{"$error":"#REF!"},{"$f":"D59/'Charges Summary'!D$4","v":{"$error":"#REF!"}},{"$f":"E59/'Charges Summary'!E$4","v":{"$error":"#REF!"}},{"$f":"F59/'Charges Summary'!F$4","v":{"$error":"#REF!"}},{"$f":"G59/'Charges Summary'!G$4","v":{"$error":"#REF!"}},{"$f":"H59/'Charges Summary'!H$4","v":{"$error":"#REF!"}}]
[{"$f":"#REF!","v":{"$error":"#REF!"}},null,{"$f":"IF('PL Tariffs'!C10=0,\"\",#REF!*'PL Tariffs'!C10)","v":{"$error":"#REF!"}},{"$f":"#REF!*'PL Tariffs'!D10","v":{"$error":"#REF!"}},{"$f":"#REF!*'PL Tariffs'!E10","v":{"$error":"#REF!"}},{"$f":"#REF!*'PL Tariffs'!F10","v":{"$error":"#REF!"}},{"$f":"#REF!*'PL Tariffs'!G10","v":{"$error":"#REF!"}},{"$f":"#REF!*'PL Tariffs'!H10","v":{"$error":"#REF!"}},null,{"$error":"#REF!"},{"$f":"D60/'Charges Summary'!D$4","v":{"$error":"#REF!"}},{"$f":"E60/'Charges Summary'!E$4","v":{"$error":"#REF!"}},{"$f":"F60/'Charges Summary'!F$4","v":{"$error":"#REF!"}},{"$f":"G60/'Charges Summary'!G$4","v":{"$error":"#REF!"}},{"$f":"H60/'Charges Summary'!H$4","v":{"$error":"#REF!"}}]
[{"$f":"#REF!","v":{"$error":"#REF!"}},null,{"$f":"IF('PL Tariffs'!C11=0,\"\",#REF!*'PL Tariffs'!C11)","v":{"$error":"#REF!"}},{"$f":"#REF!*'PL Tariffs'!D11","v":{"$error":"#REF!"}},{"$f":"#REF!*'PL Tariffs'!E11","v":{"$error":"#REF!"}},{"$f":"#REF!*'PL Tariffs'!F11","v":{"$error":"#REF!"}},{"$f":"#REF!*'PL Tariffs'!G11","v":{"$error":"#REF!"}},{"$f":"#REF!*'PL Tariffs'!H11","v":{"$error":"#REF!"}},null,{"$error":"#REF!"},{"$f":"D61/'Charges Summary'!D$4","v":{"$error":"#REF!"}},{"$f":"E61/'Charges Summary'!E$4","v":{"$error":"#REF!"}},{"$f":"F61/'Charges Summary'!F$4","v":{"$error":"#REF!"}},{"$f":"G61/'Charges Summary'!G$4","v":{"$error":"#REF!"}},{"$f":"H61/'Charges Summary'!H$4","v":{"$error":"#REF!"}}]
[{"$f":"#REF!","v":{"$error":"#REF!"}},null,{"$f":"IF('PL Tariffs'!C12=0,\"\",#REF!*'PL Tariffs'!C12)","v":{"$error":"#REF!"}},{"$f":"#REF!*'PL Tariffs'!D12","v":{"$error":"#REF!"}},{"$f":"#REF!*'PL Tariffs'!E12","v":{"$error":"#REF!"}},{"$f":"#REF!*'PL Tariffs'!F12","v":{"$error":"#REF!"}},{"$f":"#REF!*'PL Tariffs'!G12","v":{"$error":"#REF!"}},{"$f":"#REF!*'PL Tariffs'!H12","v":{"$error":"#REF!"}},null,{"$error":"#REF!"},{"$f":"D62/'Charges Summary'!D$4","v":{"$error":"#REF!"}},{"$f":"E62/'Charges Summary'!E$4","v":{"$error":"#REF!"}},{"$f":"F62/'Charges Summary'!F$4","v":{"$error":"#REF!"}},{"$f":"G62/'Charges Summary'!G$4","v":{"$error":"#REF!"}},{"$f":"H62/'Charges Summary'!H$4","v":{"$error":"#REF!"}}]
[{"$f":"#REF!","v":{"$error":"#REF!"}},null,{"$f":"IF('PL Tariffs'!C13=0,\"\",#REF!*'PL Tariffs'!C13)","v":{"$error":"#REF!"}},{"$f":"#REF!*'PL Tariffs'!D13","v":{"$error":"#REF!"}},{"$f":"#REF!*'PL Tariffs'!E13","v":{"$error":"#REF!"}},{"$f":"#REF!*'PL Tariffs'!F13","v":{"$error":"#REF!"}},{"$f":"#REF!*'PL Tariffs'!G13","v":{"$error":"#REF!"}},{"$f":"#REF!*'PL Tariffs'!H13","v":{"$error":"#REF!"}},null,{"$error":"#REF!"},{"$f":"D63/'Charges Summary'!D$4","v":{"$error":"#REF!"}},{"$f":"E63/'Charges Summary'!E$4","v":{"$error":"#REF!"}},{"$f":"F63/'Charges Summary'!F$4","v":{"$error":"#REF!"}},{"$f":"G63/'Charges Summary'!G$4","v":{"$error":"#REF!"}},{"$f":"H63/'Charges Summary'!H$4","v":{"$error":"#REF!"}}]
[{"$f":"#REF!","v":{"$error":"#REF!"}},null,{"$f":"IF('PL Tariffs'!C14=0,\"\",#REF!*'PL Tariffs'!C14)","v":{"$error":"#REF!"}},{"$f":"#REF!*'PL Tariffs'!D14","v":{"$error":"#REF!"}},{"$f":"#REF!*'PL Tariffs'!E14","v":{"$error":"#REF!"}},{"$f":"#REF!*'PL Tariffs'!F14","v":{"$error":"#REF!"}},{"$f":"#REF!*'PL Tariffs'!G14","v":{"$error":"#REF!"}},{"$f":"#REF!*'PL Tariffs'!H14","v":{"$error":"#REF!"}},null,{"$error":"#REF!"},{"$f":"D64/'Charges Summary'!D$4","v":{"$error":"#REF!"}},{"$f":"E64/'Charges Summary'!E$4","v":{"$error":"#REF!"}},{"$f":"F64/'Charges Summary'!F$4","v":{"$error":"#REF!"}},{"$f":"G64/'Charges Summary'!G$4","v":{"$error":"#REF!"}},{"$f":"H64/'Charges Summary'!H$4","v":{"$error":"#REF!"}}]
[{"$f":"#REF!","v":{"$error":"#REF!"}},null,{"$f":"IF('PL Tariffs'!C15=0,\"\",#REF!*'PL Tariffs'!C15)","v":{"$error":"#REF!"}},{"$f":"#REF!*'PL Tariffs'!D15","v":{"$error":"#REF!"}},{"$f":"#REF!*'PL Tariffs'!E15","v":{"$error":"#REF!"}},{"$f":"#REF!*'PL Tariffs'!F15","v":{"$error":"#REF!"}},{"$f":"#REF!*'PL Tariffs'!G15","v":{"$error":"#REF!"}},{"$f":"#REF!*'PL Tariffs'!H15","v":{"$error":"#REF!"}},null,{"$error":"#REF!"},{"$f":"D65/'Charges Summary'!D$4","v":{"$error":"#REF!"}},{"$f":"E65/'Charges Summary'!E$4","v":{"$error":"#REF!"}},{"$f":"F65/'Charges Summary'!F$4","v":{"$error":"#REF!"}},{"$f":"G65/'Charges Summary'!G$4","v":{"$error":"#REF!"}},{"$f":"H65/'Charges Summary'!H$4","v":{"$error":"#REF!"}}]
[{"$f":"#REF!","v":{"$error":"#REF!"}},null,{"$f":"IF('PL Tariffs'!C16=0,\"\",#REF!*'PL Tariffs'!C16)","v":{"$error":"#REF!"}},{"$f":"#REF!*'PL Tariffs'!D16","v":{"$error":"#REF!"}},{"$f":"#REF!*'PL Tariffs'!E16","v":{"$error":"#REF!"}},{"$f":"#REF!*'PL Tariffs'!F16","v":{"$error":"#REF!"}},{"$f":"#REF!*'PL Tariffs'!G16","v":{"$error":"#REF!"}},{"$f":"#REF!*'PL Tariffs'!H16","v":{"$error":"#REF!"}},null,{"$f":"C66","v":{"$error":"#REF!"}},{"$f":"D66/'Charges Summary'!D$4","v":{"$error":"#REF!"}},{"$f":"E66/'Charges Summary'!E$4","v":{"$error":"#REF!"}},{"$f":"F66/'Charges Summary'!F$4","v":{"$error":"#REF!"}},{"$f":"G66/'Charges Summary'!G$4","v":{"$error":"#REF!"}},{"$f":"H66/'Charges Summary'!H$4","v":{"$error":"#REF!"}}]
[{"$f":"#REF!","v":{"$error":"#REF!"}},null,{"$f":"IF('PL Tariffs'!C17=0,\"\",#REF!*'PL Tariffs'!C17)","v":{"$error":"#REF!"}},{"$f":"#REF!*'PL Tariffs'!D17","v":{"$error":"#REF!"}},{"$f":"#REF!*'PL Tariffs'!E17","v":{"$error":"#REF!"}},{"$f":"#REF!*'PL Tariffs'!F17","v":{"$error":"#REF!"}},{"$f":"#REF!*'PL Tariffs'!G17","v":{"$error":"#REF!"}},{"$f":"#REF!*'PL Tariffs'!H17","v":{"$error":"#REF!"}},null,{"$f":"C67","v":{"$error":"#REF!"}},{"$f":"D67/'Charges Summary'!D$4","v":{"$error":"#REF!"}},{"$f":"E67/'Charges Summary'!E$4","v":{"$error":"#REF!"}},{"$f":"F67/'Charges Summary'!F$4","v":{"$error":"#REF!"}},{"$f":"G67/'Charges Summary'!G$4","v":{"$error":"#REF!"}},{"$f":"H67/'Charges Summary'!H$4","v":{"$error":"#REF!"}}]
[{"$f":"#REF!","v":{"$error":"#REF!"}},null,{"$f":"IF('PL Tariffs'!C18=0,\"\",#REF!*'PL Tariffs'!C18)","v":{"$error":"#REF!"}},{"$f":"#REF!*'PL Tariffs'!D18","v":{"$error":"#REF!"}},{"$f":"#REF!*'PL Tariffs'!E18","v":{"$error":"#REF!"}},{"$f":"#REF!*'PL Tariffs'!F18","v":{"$error":"#REF!"}},{"$f":"#REF!*'PL Tariffs'!G18","v":{"$error":"#REF!"}},{"$f":"#REF!*'PL Tariffs'!H18","v":{"$error":"#REF!"}},null,{"$f":"C68","v":{"$error":"#REF!"}},{"$f":"D68/'Charges Summary'!D$4","v":{"$error":"#REF!"}},{"$f":"E68/'Charges Summary'!E$4","v":{"$error":"#REF!"}},{"$f":"F68/'Charges Summary'!F$4","v":{"$error":"#REF!"}},{"$f":"G68/'Charges Summary'!G$4","v":{"$error":"#REF!"}},{"$f":"H68/'Charges Summary'!H$4","v":{"$error":"#REF!"}}]
[{"$f":"#REF!","v":{"$error":"#REF!"}},null,{"$f":"IF('PL Tariffs'!C19=0,\"\",#REF!*'PL Tariffs'!C19)","v":{"$error":"#REF!"}},{"$f":"#REF!*'PL Tariffs'!D19","v":{"$error":"#REF!"}},{"$f":"#REF!*'PL Tariffs'!E19","v":{"$error":"#REF!"}},{"$f":"#REF!*'PL Tariffs'!F19","v":{"$error":"#REF!"}},{"$f":"#REF!*'PL Tariffs'!G19","v":{"$error":"#REF!"}},{"$f":"#REF!*'PL Tariffs'!H19","v":{"$error":"#REF!"}},null,{"$f":"C69","v":{"$error":"#REF!"}},{"$f":"D69/'Charges Summary'!D$4","v":{"$error":"#REF!"}},{"$f":"E69/'Charges Summary'!E$4","v":{"$error":"#REF!"}},{"$f":"F69/'Charges Summary'!F$4","v":{"$error":"#REF!"}},{"$f":"G69/'Charges Summary'!G$4","v":{"$error":"#REF!"}},{"$f":"H69/'Charges Summary'!H$4","v":{"$error":"#REF!"}}]
[]
[]
[]
[]
[]
[]
[]
[]
[]
[]
[]
[{"$f":"#REF!","v":{"$error":"#REF!"}}]
[{"$f":"#REF!","v":{"$error":"#REF!"}},null,{"$f":"IF('PL Tariffs'!C23=0,\"\",#REF!*'PL Tariffs'!C23)","v":{"$error":"#REF!"}},{"$f":"#REF!*'PL Tariffs'!D23","v":{"$error":"#REF!"}},{"$f":"#REF!*'PL Tariffs'!E23","v":{"$error":"#REF!"}},{"$f":"#REF!*'PL Tariffs'!F23","v":{"$error":"#REF!"}},{"$f":"#REF!*'PL Tariffs'!G23","v":{"$error":"#REF!"}},{"$f":"#REF!*'PL Tariffs'!H23","v":{"$error":"#REF!"}},null,{"$f":"C82","v":{"$error":"#REF!"}},{"$f":"D82/'Charges Summary'!D$4","v":{"$error":"#REF!"}},{"$f":"E82/'Charges Summary'!E$4","v":{"$error":"#REF!"}},{"$f":"F82/'Charges Summary'!F$4","v":{"$error":"#REF!"}},{"$f":"G82/'Charges Summary'!G$4","v":{"$error":"#REF!"}},{"$f":"H82/'Charges Summary'!H$4","v":{"$error":"#REF!"}}]
[{"$f":"#REF!","v":{"$error":"#REF!"}},null,{"$f":"IF('PL Tariffs'!C24=0,\"\",#REF!*'PL Tariffs'!C24)","v":{"$error":"#REF!"}},{"$f":"#REF!*'PL Tariffs'!D24","v":{"$error":"#REF!"}},{"$f":"#REF!*'PL Tariffs'!E24","v":{"$error":"#REF!"}},{"$f":"#REF!*'PL Tariffs'!F24","v":{"$error":"#REF!"}},{"$f":"#REF!*'PL Tariffs'!G24","v":{"$error":"#REF!"}},{"$f":"#REF!*'PL Tariffs'!H24","v":{"$error":"#REF!"}},null,{"$f":"C83","v":{"$error":"#REF!"}},{"$f":"D83/'Charges Summary'!D$4","v":{"$error":"#REF!"}},{"$f":"E83/'Charges Summary'!E$4","v":{"$error":"#REF!"}},{"$f":"F83/'Charges Summary'!F$4","v":{"$error":"#REF!"}},{"$f":"G83/'Charges Summary'!G$4","v":{"$error":"#REF!"}},{"$f":"H83/'Charges Summary'!H$4","v":{"$error":"#REF!"}}]
[{"$f":"#REF!","v":{"$error":"#REF!"}},null,{"$f":"IF('PL Tariffs'!C25=0,\"\",#REF!*'PL Tariffs'!C25)","v":{"$error":"#REF!"}},{"$f":"#REF!*'PL Tariffs'!D25","v":{"$error":"#REF!"}},{"$f":"#REF!*'PL Tariffs'!E25","v":{"$error":"#REF!"}},{"$f":"#REF!*'PL Tariffs'!F25","v":{"$error":"#REF!"}},{"$f":"#REF!*'PL Tariffs'!G25","v":{"$error":"#REF!"}},{"$f":"#REF!*'PL Tariffs'!H25","v":{"$error":"#REF!"}},null,{"$f":"C84","v":{"$error":"#REF!"}},{"$f":"D84/'Charges Summary'!D$4","v":{"$error":"#REF!"}},{"$f":"E84/'Charges Summary'!E$4","v":{"$error":"#REF!"}},{"$f":"F84/'Charges Summary'!F$4","v":{"$error":"#REF!"}},{"$f":"G84/'Charges Summary'!G$4","v":{"$error":"#REF!"}},{"$f":"H84/'Charges Summary'!H$4","v":{"$error":"#REF!"}}]
[{"$f":"#REF!","v":{"$error":"#REF!"}},null,{"$f":"IF('PL Tariffs'!C26=0,\"\",#REF!*'PL Tariffs'!C26)","v":{"$error":"#REF!"}},{"$f":"#REF!*'PL Tariffs'!D26","v":{"$error":"#REF!"}},{"$f":"#REF!*'PL Tariffs'!E26","v":{"$error":"#REF!"}},{"$f":"#REF!*'PL Tariffs'!F26","v":{"$error":"#REF!"}},{"$f":"#REF!*'PL Tariffs'!G26","v":{"$error":"#REF!"}},{"$f":"#REF!*'PL Tariffs'!H26","v":{"$error":"#REF!"}},null,{"$f":"C85","v":{"$error":"#REF!"}},{"$f":"D85/'Charges Summary'!D$4","v":{"$error":"#REF!"}},{"$f":"E85/'Charges Summary'!E$4","v":{"$error":"#REF!"}},{"$f":"F85/'Charges Summary'!F$4","v":{"$error":"#REF!"}},{"$f":"G85/'Charges Summary'!G$4","v":{"$error":"#REF!"}},{"$f":"H85/'Charges Summary'!H$4","v":{"$error":"#REF!"}}]
[{"$f":"#REF!","v":{"$error":"#REF!"}},null,{"$f":"IF('PL Tariffs'!C27=0,\"\",#REF!*'PL Tariffs'!C27)","v":{"$error":"#REF!"}},{"$f":"#REF!*'PL Tariffs'!D27","v":{"$error":"#REF!"}},{"$f":"#REF!*'PL Tariffs'!E27","v":{"$error":"#REF!"}},{"$f":"#REF!*'PL Tariffs'!F27","v":{"$error":"#REF!"}},{"$f":"#REF!*'PL Tariffs'!G27","v":{"$error":"#REF!"}},{"$f":"#REF!*'PL Tariffs'!H27","v":{"$error":"#REF!"}},null,{"$f":"C86","v":{"$error":"#REF!"}},{"$f":"D86/'Charges Summary'!D$4","v":{"$error":"#REF!"}},{"$f":"E86/'Charges Summary'!E$4","v":{"$error":"#REF!"}},{"$f":"F86/'Charges Summary'!F$4","v":{"$error":"#REF!"}},{"$f":"G86/'Charges Summary'!G$4","v":{"$error":"#REF!"}},{"$f":"H86/'Charges Summary'!H$4","v":{"$error":"#REF!"}}]
[{"$f":"#REF!","v":{"$error":"#REF!"}},null,{"$f":"IF('PL Tariffs'!C28=0,\"\",#REF!*'PL Tariffs'!C28)","v":{"$error":"#REF!"}},{"$f":"#REF!*'PL Tariffs'!D28","v":{"$error":"#REF!"}},{"$f":"#REF!*'PL Tariffs'!E28","v":{"$error":"#REF!"}},{"$f":"#REF!*'PL Tariffs'!F28","v":{"$error":"#REF!"}},{"$f":"#REF!*'PL Tariffs'!G28","v":{"$error":"#REF!"}},{"$f":"#REF!*'PL Tariffs'!H28","v":{"$error":"#REF!"}},null,{"$f":"C87","v":{"$error":"#REF!"}},{"$f":"D87/'Charges Summary'!D$4","v":{"$error":"#REF!"}},{"$f":"E87/'Charges Summary'!E$4","v":{"$error":"#REF!"}},{"$f":"F87/'Charges Summary'!F$4","v":{"$error":"#REF!"}},{"$f":"G87/'Charges Summary'!G$4","v":{"$error":"#REF!"}},{"$f":"H87/'Charges Summary'!H$4","v":{"$error":"#REF!"}}]
[{"$f":"#REF!","v":{"$error":"#REF!"}},null,{"$f":"IF('PL Tariffs'!C29=0,\"\",#REF!*'PL Tariffs'!C29)","v":{"$error":"#REF!"}},{"$f":"#REF!*'PL Tariffs'!D29","v":{"$error":"#REF!"}},{"$f":"#REF!*'PL Tariffs'!E29","v":{"$error":"#REF!"}},{"$f":"#REF!*'PL Tariffs'!F29","v":{"$error":"#REF!"}},{"$f":"#REF!*'PL Tariffs'!G29","v":{"$error":"#REF!"}},{"$f":"#REF!*'PL Tariffs'!H29","v":{"$error":"#REF!"}},null,{"$f":"C88","v":{"$error":"#REF!"}},{"$f":"D88/'Charges Summary'!D$4","v":{"$error":"#REF!"}},{"$f":"E88/'Charges Summary'!E$4","v":{"$error":"#REF!"}},{"$f":"F88/'Charges Summary'!F$4","v":{"$error":"#REF!"}},{"$f":"G88/'Charges Summary'!G$4","v":{"$error":"#REF!"}},{"$f":"H88/'Charges Summary'!H$4","v":{"$error":"#REF!"}}]
[{"$f":"#REF!","v":{"$error":"#REF!"}},null,{"$f":"IF('PL Tariffs'!C30=0,\"\",#REF!*'PL Tariffs'!C30)","v":{"$error":"#REF!"}},{"$f":"#REF!*'PL Tariffs'!D30","v":{"$error":"#REF!"}},{"$f":"#REF!*'PL Tariffs'!E30","v":{"$error":"#REF!"}},{"$f":"#REF!*'PL Tariffs'!F30","v":{"$error":"#REF!"}},{"$f":"#REF!*'PL Tariffs'!G30","v":{"$error":"#REF!"}},{"$f":"#REF!*'PL Tariffs'!H30","v":{"$error":"#REF!"}},null,{"$error":"#REF!"},{"$f":"D89/'Charges Summary'!D$4","v":{"$error":"#REF!"}},{"$f":"E89/'Charges Summary'!E$4","v":{"$error":"#REF!"}},{"$f":"F89/'Charges Summary'!F$4","v":{"$error":"#REF!"}},{"$f":"G89/'Charges Summary'!G$4","v":{"$error":"#REF!"}},{"$f":"H89/'Charges Summary'!H$4","v":{"$error":"#REF!"}}]
[{"$f":"#REF!","v":{"$error":"#REF!"}},null,{"$f":"IF('PL Tariffs'!C31=0,\"\",#REF!*'PL Tariffs'!C31)","v":{"$error":"#REF!"}},{"$f":"#REF!*'PL Tariffs'!D31","v":{"$error":"#REF!"}},{"$f":"#REF!*'PL Tariffs'!E31","v":{"$error":"#REF!"}},{"$f":"#REF!*'PL Tariffs'!F31","v":{"$error":"#REF!"}},{"$f":"#REF!*'PL Tariffs'!G31","v":{"$error":"#REF!"}},{"$f":"#REF!*'PL Tariffs'!H31","v":{"$error":"#REF!"}},null,{"$error":"#REF!"},{"$f":"D90/'Charges Summary'!D$4","v":{"$error":"#REF!"}},{"$f":"E90/'Charges Summary'!E$4","v":{"$error":"#REF!"}},{"$f":"F90/'Charges Summary'!F$4","v":{"$error":"#REF!"}},{"$f":"G90/'Charges Summary'!G$4","v":{"$error":"#REF!"}},{"$f":"H90/'Charges Summary'!H$4","v":{"$error":"#REF!"}}]
[{"$f":"#REF!","v":{"$error":"#REF!"}},null,{"$f":"IF('PL Tariffs'!C32=0,\"\",#REF!*'PL Tariffs'!C32)","v":{"$error":"#REF!"}},{"$f":"#REF!*'PL Tariffs'!D32","v":{"$error":"#REF!"}},{"$f":"#REF!*'PL Tariffs'!E32","v":{"$error":"#REF!"}},{"$f":"#REF!*'PL Tariffs'!F32","v":{"$error":"#REF!"}},{"$f":"#REF!*'PL Tariffs'!G32","v":{"$error":"#REF!"}},{"$f":"#REF!*'PL Tariffs'!H32","v":{"$error":"#REF!"}},null,{"$error":"#REF!"},{"$f":"D91/'Charges Summary'!D$4","v":{"$error":"#REF!"}},{"$f":"E91/'Charges Summary'!E$4","v":{"$error":"#REF!"}},{"$f":"F91/'Charges Summary'!F$4","v":{"$error":"#REF!"}},{"$f":"G91/'Charges Summary'!G$4","v":{"$error":"#REF!"}},{"$f":"H91/'Charges Summary'!H$4","v":{"$error":"#REF!"}}]
[{"$f":"#REF!","v":{"$error":"#REF!"}},null,{"$f":"IF('PL Tariffs'!C33=0,\"\",#REF!*'PL Tariffs'!C33)","v":{"$error":"#REF!"}},{"$f":"#REF!*'PL Tariffs'!D33","v":{"$error":"#REF!"}},{"$f":"#REF!*'PL Tariffs'!E33","v":{"$error":"#REF!"}},{"$f":"#REF!*'PL Tariffs'!F33","v":{"$error":"#REF!"}},{"$f":"#REF!*'PL Tariffs'!G33","v":{"$error":"#REF!"}},{"$f":"#REF!*'PL Tariffs'!H33","v":{"$error":"#REF!"}},null,{"$error":"#REF!"},{"$f":"D92/'Charges Summary'!D$4","v":{"$error":"#REF!"}},{"$f":"E92/'Charges Summary'!E$4","v":{"$error":"#REF!"}},{"$f":"F92/'Charges Summary'!F$4","v":{"$error":"#REF!"}},{"$f":"G92/'Charges Summary'!G$4","v":{"$error":"#REF!"}},{"$f":"H92/'Charges Summary'!H$4","v":{"$error":"#REF!"}}]
[{"$f":"#REF!","v":{"$error":"#REF!"}},null,{"$f":"IF('PL Tariffs'!C34=0,\"\",#REF!*'PL Tariffs'!C34)","v":{"$error":"#REF!"}},{"$f":"#REF!*'PL Tariffs'!D34","v":{"$error":"#REF!"}},{"$f":"#REF!*'PL Tariffs'!E34","v":{"$error":"#REF!"}},{"$f":"#REF!*'PL Tariffs'!F34","v":{"$error":"#REF!"}},{"$f":"#REF!*'PL Tariffs'!G34","v":{"$error":"#REF!"}},{"$f":"#REF!*'PL Tariffs'!H34","v":{"$error":"#REF!"}},null,{"$error":"#REF!"},{"$f":"D93/'Charges Summary'!D$4","v":{"$error":"#REF!"}},{"$f":"E93/'Charges Summary'!E$4","v":{"$error":"#REF!"}},{"$f":"F93/'Charges Summary'!F$4","v":{"$error":"#REF!"}},{"$f":"G93/'Charges Summary'!G$4","v":{"$error":"#REF!"}},{"$f":"H93/'Charges Summary'!H$4","v":{"$error":"#REF!"}}]
[]
["Total Revenue",null,{"$f":"IF(SUM(C57:C93)=0,0,SUM(C57:C93))","v":{"$error":"#REF!"}},{"$error":"#REF!"},{"$error":"#REF!"},{"$error":"#REF!"},{"$error":"#REF!"},{"$error":"#REF!"},null,{"$f":"IF(SUM(J57:J93)=0,0,SUM(J57:J93))","v":{"$error":"#REF!"}},{"$error":"#REF!"},{"$error":"#REF!"},{"$error":"#REF!"},{"$error":"#REF!"},{"$error":"#REF!"}]
[]
[]
["Public Lighting - O & M",null,null,"Forecast O & M - $Nominal ",null,null,null,null,null,null,"Forecast O & M - $Real Jun 2026 "]
[null,null,null,{"$f":"D$2","v":"2027-06-30"},{"$f":"E$2","v":"2028-06-30"},{"$f":"F$2","v":"2029-06-30"},{"$f":"G$2","v":"2030-06-30"},{"$f":"H$2","v":"2031-06-30"},null,null,{"$f":"K$2","v":"2027-06-30"},{"$f":"L$2","v":"2028-06-30"},{"$f":"M$2","v":"2029-06-30"},{"$f":"N$2","v":"2030-06-30"},{"$f":"O$2","v":"2031-06-30"}]
[]
["Unit cost"]
[{"$f":"#REF!","v":{"$error":"#REF!"}},null,null,{"$f":"SUM('Charges Summary'!D25,'Charges Summary'!D8)","v":{"$error":"#REF!"}},{"$f":"SUM('Charges Summary'!E25,'Charges Summary'!E8)","v":{"$error":"#REF!"}},{"$f":"SUM('Charges Summary'!F25,'Charges Summary'!F8)","v":{"$error":"#REF!"}},{"$f":"SUM('Charges Summary'!G25,'Charges Summary'!G8)","v":{"$error":"#REF!"}},{"$f":"SUM('Charges Summary'!H25,'Charges Summary'!H8)","v":{"$error":"#REF!"}},null,null,{"$f":"D102/'Charges Summary'!D$4","v":{"$error":"#REF!"}},{"$f":"E102/'Charges Summary'!E$4","v":{"$error":"#REF!"}},{"$f":"F102/'Charges Summary'!F$4","v":{"$error":"#REF!"}},{"$f":"G102/'Charges Summary'!G$4","v":{"$error":"#REF!"}},{"$f":"H102/'Charges Summary'!H$4","v":{"$error":"#REF!"}}]
[{"$f":"#REF!","v":{"$error":"#REF!"}},null,null,{"$f":"SUM('Charges Summary'!D49,'Charges Summary'!D8)","v":{"$error":"#REF!"}},{"$f":"SUM('Charges Summary'!E49,'Charges Summary'!E8)","v":{"$error":"#REF!"}},{"$f":"SUM('Charges Summary'!F49,'Charges Summary'!F8)","v":{"$error":"#REF!"}},{"$f":"SUM('Charges Summary'!G49,'Charges Summary'!G8)","v":{"$error":"#REF!"}},{"$f":"SUM('Charges Summary'!H49,'Charges Summary'!H8)","v":{"$error":"#REF!"}},null,null,{"$f":"D103/'Charges Summary'!D$4","v":{"$error":"#REF!"}},{"$f":"E103/'Charges Summary'!E$4","v":{"$error":"#REF!"}},{"$f":"F103/'Charges Summary'!F$4","v":{"$error":"#REF!"}},{"$f":"G103/'Charges Summary'!G$4","v":{"$error":"#REF!"}},{"$f":"H103/'Charges Summary'!H$4","v":{"$error":"#REF!"}}]
[{"$f":"#REF!","v":{"$error":"#REF!"}},null,null,{"$f":"SUM('Charges Summary'!D65,'Charges Summary'!D8)","v":{"$error":"#REF!"}},{"$f":"SUM('Charges Summary'!E65,'Charges Summary'!E8)","v":{"$error":"#REF!"}},{"$f":"SUM('Charges Summary'!F65,'Charges Summary'!F8)","v":{"$error":"#REF!"}},{"$f":"SUM('Charges Summary'!G65,'Charges Summary'!G8)","v":{"$error":"#REF!"}},{"$f":"SUM('Charges Summary'!H65,'Charges Summary'!H8)","v":{"$error":"#REF!"}},null,null,{"$f":"D104/'Charges Summary'!D$4","v":{"$error":"#REF!"}},{"$f":"E104/'Charges Summary'!E$4","v":{"$error":"#REF!"}},{"$f":"F104/'Charges Summary'!F$4","v":{"$error":"#REF!"}},{"$f":"G104/'Charges Summary'!G$4","v":{"$error":"#REF!"}},{"$f":"H104/'Charges Summary'!H$4","v":{"$error":"#REF!"}}]
[]
[{"$f":"#REF!","v":{"$error":"#REF!"}},null,null,{"$f":"SUM('Charges Summary'!D83,'Charges Summary'!D8)","v":{"$error":"#REF!"}},{"$f":"SUM('Charges Summary'!E83,'Charges Summary'!E8)","v":{"$error":"#REF!"}},{"$f":"SUM('Charges Summary'!F83,'Charges Summary'!F8)","v":{"$error":"#REF!"}},{"$f":"SUM('Charges Summary'!G83,'Charges Summary'!G8)","v":{"$error":"#REF!"}},{"$f":"SUM('Charges Summary'!H83,'Charges Summary'!H8)","v":{"$error":"#REF!"}},null,null,{"$f":"D106/'Charges Summary'!D$4","v":{"$error":"#REF!"}},{"$f":"E106/'Charges Summary'!E$4","v":{"$error":"#REF!"}},{"$f":"F106/'Charges Summary'!F$4","v":{"$error":"#REF!"}},{"$f":"G106/'Charges Summary'!G$4","v":{"$error":"#REF!"}},{"$f":"H106/'Charges Summary'!H$4","v":{"$error":"#REF!"}}]
[{"$f":"#REF!","v":{"$error":"#REF!"}},null,null,{"$f":"SUM('Charges Summary'!D99,'Charges Summary'!D8)","v":{"$error":"#REF!"}},{"$f":"SUM('Charges Summary'!E99,'Charges Summary'!E8)","v":{"$error":"#REF!"}},{"$f":"SUM('Charges Summary'!F99,'Charges Summary'!F8)","v":{"$error":"#REF!"}},{"$f":"SUM('Charges Summary'!G99,'Charges Summary'!G8)","v":{"$error":"#REF!"}},{"$f":"SUM('Charges Summary'!H99,'Charges Summary'!H8)","v":{"$error":"#REF!"}},null,null,{"$f":"D107/'Charges Summary'!D$4","v":{"$error":"#REF!"}},{"$f":"E107/'Charges Summary'!E$4","v":{"$error":"#REF!"}},{"$f":"F107/'Charges Summary'!F$4","v":{"$error":"#REF!"}},{"$f":"G107/'Charges Summary'!G$4","v":{"$error":"#REF!"}},{"$f":"H107/'Charges Summary'!H$4","v":{"$error":"#REF!"}}]
[{"$f":"#REF!","v":{"$error":"#REF!"}},null,null,{"$f":"SUM('Charges Summary'!D115,'Charges Summary'!D8)","v":{"$error":"#REF!"}},{"$f":"SUM('Charges Summary'!E115,'Charges Summary'!E8)","v":{"$error":"#REF!"}},{"$f":"SUM('Charges Summary'!F115,'Charges Summary'!F8)","v":{"$error":"#REF!"}},{"$f":"SUM('Charges Summary'!G115,'Charges Summary'!G8)","v":{"$error":"#REF!"}},{"$f":"SUM('Charges Summary'!H115,'Charges Summary'!H8)","v":{"$error":"#REF!"}},null,null,{"$f":"D108/'Charges Summary'!D$4","v":{"$error":"#REF!"}},{"$f":"E108/'Charges Summary'!E$4","v":{"$error":"#REF!"}},{"$f":"F108/'Charges Summary'!F$4","v":{"$error":"#REF!"}},{"$f":"G108/'Charges Summary'!G$4","v":{"$error":"#REF!"}},{"$f":"H108/'Charges Summary'!H$4","v":{"$error":"#REF!"}}]
[{"$f":"#REF!","v":{"$error":"#REF!"}},null,null,{"$f":"SUM('Charges Summary'!D131,'Charges Summary'!D$8)","v":{"$error":"#REF!"}},{"$f":"SUM('Charges Summary'!E131,'Charges Summary'!E$8)","v":{"$error":"#REF!"}},{"$f":"SUM('Charges Summary'!F131,'Charges Summary'!F$8)","v":{"$error":"#REF!"}},{"$f":"SUM('Charges Summary'!G131,'Charges Summary'!G$8)","v":{"$error":"#REF!"}},{"$f":"SUM('Charges Summary'!H131,'Charges Summary'!H$8)","v":{"$error":"#REF!"}},null,null,{"$f":"D109/'Charges Summary'!D$4","v":{"$error":"#REF!"}},{"$f":"E109/'Charges Summary'!E$4","v":{"$error":"#REF!"}},{"$f":"F109/'Charges Summary'!F$4","v":{"$error":"#REF!"}},{"$f":"G109/'Charges Summary'!G$4","v":{"$error":"#REF!"}},{"$f":"H109/'Charges Summary'!H$4","v":{"$error":"#REF!"}}]
[{"$f":"#REF!","v":{"$error":"#REF!"}},null,null,{"$f":"SUM('Charges Summary'!D147,'Charges Summary'!D$8)","v":{"$error":"#REF!"}},{"$f":"SUM('Charges Summary'!E147,'Charges Summary'!E$8)","v":{"$error":"#REF!"}},{"$f":"SUM('Charges Summary'!F147,'Charges Summary'!F$8)","v":{"$error":"#REF!"}},{"$f":"SUM('Charges Summary'!G147,'Charges Summary'!G$8)","v":{"$error":"#REF!"}},{"$f":"SUM('Charges Summary'!H147,'Charges Summary'!H$8)","v":{"$error":"#REF!"}},null,null,{"$f":"D110/'Charges Summary'!D$4","v":{"$error":"#REF!"}},{"$f":"E110/'Charges Summary'!E$4","v":{"$error":"#REF!"}},{"$f":"F110/'Charges Summary'!F$4","v":{"$error":"#REF!"}},{"$f":"G110/'Charges Summary'!G$4","v":{"$error":"#REF!"}},{"$f":"H110/'Charges Summary'!H$4","v":{"$error":"#REF!"}}]
[{"$f":"#REF!","v":{"$error":"#REF!"}},null,null,{"$f":"SUM('Charges Summary'!D163,'Charges Summary'!D$8)","v":{"$error":"#REF!"}},{"$f":"SUM('Charges Summary'!E163,'Charges Summary'!E$8)","v":{"$error":"#REF!"}},{"$f":"SUM('Charges Summary'!F163,'Charges Summary'!F$8)","v":{"$error":"#REF!"}},{"$f":"SUM('Charges Summary'!G163,'Charges Summary'!G$8)","v":{"$error":"#REF!"}},{"$f":"SUM('Charges Summary'!H163,'Charges Summary'!H$8)","v":{"$error":"#REF!"}},null,null,{"$f":"D111/'Charges Summary'!D$4","v":{"$error":"#REF!"}},{"$f":"E111/'Charges Summary'!E$4","v":{"$error":"#REF!"}},{"$f":"F111/'Charges Summary'!F$4","v":{"$error":"#REF!"}},{"$f":"G111/'Charges Summary'!G$4","v":{"$error":"#REF!"}},{"$f":"H111/'Charges Summary'!H$4","v":{"$error":"#REF!"}}]
[{"$f":"#REF!","v":{"$error":"#REF!"}},null,null,{"$f":"SUM('Charges Summary'!D179,'Charges Summary'!D$8)","v":{"$error":"#REF!"}},{"$f":"SUM('Charges Summary'!E179,'Charges Summary'!E$8)","v":{"$error":"#REF!"}},{"$f":"SUM('Charges Summary'!F179,'Charges Summary'!F$8)","v":{"$error":"#REF!"}},{"$f":"SUM('Charges Summary'!G179,'Charges Summary'!G$8)","v":{"$error":"#REF!"}},{"$f":"SUM('Charges Summary'!H179,'Charges Summary'!H$8)","v":{"$error":"#REF!"}},null,null,{"$f":"D112/'Charges Summary'!D$4","v":{"$error":"#REF!"}},{"$f":"E112/'Charges Summary'!E$4","v":{"$error":"#REF!"}},{"$f":"F112/'Charges Summary'!F$4","v":{"$error":"#REF!"}},{"$f":"G112/'Charges Summary'!G$4","v":{"$error":"#REF!"}},{"$f":"H112/'Charges Summary'!H$4","v":{"$error":"#REF!"}}]
[]
[{"$f":"#REF!","v":{"$error":"#REF!"}}]
[{"$f":"#REF!","v":{"$error":"#REF!"}},null,null,{"$f":"D102*#REF!","v":{"$error":"#REF!"}},{"$f":"E102*#REF!","v":{"$error":"#REF!"}},{"$f":"F102*#REF!","v":{"$error":"#REF!"}},{"$f":"G102*#REF!","v":{"$error":"#REF!"}},{"$f":"H102*#REF!","v":{"$error":"#REF!"}},null,null,{"$f":"D115/'Charges Summary'!D$4","v":{"$error":"#REF!"}},{"$f":"E115/'Charges Summary'!E$4","v":{"$error":"#REF!"}},{"$f":"F115/'Charges Summary'!F$4","v":{"$error":"#REF!"}},{"$f":"G115/'Charges Summary'!G$4","v":{"$error":"#REF!"}},{"$f":"H115/'Charges Summary'!H$4","v":{"$error":"#REF!"}}]
[{"$f":"#REF!","v":{"$error":"#REF!"}},null,null,{"$f":"D103*#REF!","v":{"$error":"#REF!"}},{"$f":"E103*#REF!","v":{"$error":"#REF!"}},{"$f":"F103*#REF!","v":{"$error":"#REF!"}},{"$f":"G103*#REF!","v":{"$error":"#REF!"}},{"$f":"H103*#REF!","v":{"$error":"#REF!"}},null,null,{"$f":"D116/'Charges Summary'!D$4","v":{"$error":"#REF!"}},{"$f":"E116/'Charges Summary'!E$4","v":{"$error":"#REF!"}},{"$f":"F116/'Charges Summary'!F$4","v":{"$error":"#REF!"}},{"$f":"G116/'Charges Summary'!G$4","v":{"$error":"#REF!"}},{"$f":"H116/'Charges Summary'!H$4","v":{"$error":"#REF!"}}]
[{"$f":"#REF!","v":{"$error":"#REF!"}},null,null,{"$f":"D104*#REF!","v":{"$error":"#REF!"}},{"$f":"E104*#REF!","v":{"$error":"#REF!"}},{"$f":"F104*#REF!","v":{"$error":"#REF!"}},{"$f":"G104*#REF!","v":{"$error":"#REF!"}},{"$f":"H104*#REF!","v":{"$error":"#REF!"}},null,null,{"$f":"D117/'Charges Summary'!D$4","v":{"$error":"#REF!"}},{"$f":"E117/'Charges Summary'!E$4","v":{"$error":"#REF!"}},{"$f":"F117/'Charges Summary'!F$4","v":{"$error":"#REF!"}},{"$f":"G117/'Charges Summary'!G$4","v":{"$error":"#REF!"}},{"$f":"H117/'Charges Summary'!H$4","v":{"$error":"#REF!"}}]
[{"$f":"#REF!","v":{"$error":"#REF!"}},null,null,{"$f":"IF(#REF!=#REF!,D$102,IF(#REF!=#REF!,D$103,D$104))*#REF!*#REF!","v":{"$error":"#REF!"}},{"$f":"IF(#REF!=#REF!,E$102,IF(#REF!=#REF!,E$103,E$104))*#REF!*#REF!","v":{"$error":"#REF!"}},{"$f":"IF(#REF!=#REF!,F$102,IF(#REF!=#REF!,F$103,F$104))*#REF!*#REF!","v":{"$error":"#REF!"}},{"$f":"IF(#REF!=#REF!,G$102,IF(#REF!=#REF!,G$103,G$104))*#REF!*#REF!","v":{"$error":"#REF!"}},{"$f":"IF(#REF!=#REF!,H$102,IF(#REF!=#REF!,H$103,H$104))*#REF!*#REF!","v":{"$error":"#REF!"}},null,null,{"$f":"D118/'Charges Summary'!D$4","v":{"$error":"#REF!"}},{"$f":"E118/'Charges Summary'!E$4","v":{"$error":"#REF!"}},{"$f":"F118/'Charges Summary'!F$4","v":{"$error":"#REF!"}},{"$f":"G118/'Charges Summary'!G$4","v":{"$error":"#REF!"}},{"$f":"H118/'Charges Summary'!H$4","v":{"$error":"#REF!"}}]
[{"$f":"#REF!","v":{"$error":"#REF!"}},null,null,{"$f":"IF(#REF!=#REF!,D$102,IF(#REF!=#REF!,D$103,D$104))*#REF!*#REF!","v":{"$error":"#REF!"}},{"$f":"IF(#REF!=#REF!,E$102,IF(#REF!=#REF!,E$103,E$104))*#REF!*#REF!","v":{"$error":"#REF!"}},{"$f":"IF(#REF!=#REF!,F$102,IF(#REF!=#REF!,F$103,F$104))*#REF!*#REF!","v":{"$error":"#REF!"}},{"$f":"IF(#REF!=#REF!,G$102,IF(#REF!=#REF!,G$103,G$104))*#REF!*#REF!","v":{"$error":"#REF!"}},{"$f":"IF(#REF!=#REF!,H$102,IF(#REF!=#REF!,H$103,H$104))*#REF!*#REF!","v":{"$error":"#REF!"}},null,null,{"$f":"D119/'Charges Summary'!D$4","v":{"$error":"#REF!"}},{"$f":"E119/'Charges Summary'!E$4","v":{"$error":"#REF!"}},{"$f":"F119/'Charges Summary'!F$4","v":{"$error":"#REF!"}},{"$f":"G119/'Charges Summary'!G$4","v":{"$error":"#REF!"}},{"$f":"H119/'Charges Summary'!H$4","v":{"$error":"#REF!"}}]
[{"$f":"#REF!","v":{"$error":"#REF!"}},null,null,{"$f":"IF(#REF!=#REF!,D$102,IF(#REF!=#REF!,D$103,D$104))*#REF!*#REF!","v":{"$error":"#REF!"}},{"$f":"IF(#REF!=#REF!,E$102,IF(#REF!=#REF!,E$103,E$104))*#REF!*#REF!","v":{"$error":"#REF!"}},{"$f":"IF(#REF!=#REF!,F$102,IF(#REF!=#REF!,F$103,F$104))*#REF!*#REF!","v":{"$error":"#REF!"}},{"$f":"IF(#REF!=#REF!,G$102,IF(#REF!=#REF!,G$103,G$104))*#REF!*#REF!","v":{"$error":"#REF!"}},{"$f":"IF(#REF!=#REF!,H$102,IF(#REF!=#REF!,H$103,H$104))*#REF!*#REF!","v":{"$error":"#REF!"}},null,null,{"$f":"D120/'Charges Summary'!D$4","v":{"$error":"#REF!"}},{"$f":"E120/'Charges Summary'!E$4","v":{"$error":"#REF!"}},{"$f":"F120/'Charges Summary'!F$4","v":{"$error":"#REF!"}},{"$f":"G120/'Charges Summary'!G$4","v":{"$error":"#REF!"}},{"$f":"H120/'Charges Summary'!H$4","v":{"$error":"#REF!"}}]
[{"$f":"#REF!","v":{"$error":"#REF!"}},null,null,{"$f":"IF(#REF!=#REF!,D$102,IF(#REF!=#REF!,D$103,D$104))*#REF!*#REF!","v":{"$error":"#REF!"}},{"$f":"IF(#REF!=#REF!,E$102,IF(#REF!=#REF!,E$103,E$104))*#REF!*#REF!","v":{"$error":"#REF!"}},{"$f":"IF(#REF!=#REF!,F$102,IF(#REF!=#REF!,F$103,F$104))*#REF!*#REF!","v":{"$error":"#REF!"}},{"$f":"IF(#REF!=#REF!,G$102,IF(#REF!=#REF!,G$103,G$104))*#REF!*#REF!","v":{"$error":"#REF!"}},{"$f":"IF(#REF!=#REF!,H$102,IF(#REF!=#REF!,H$103,H$104))*#REF!*#REF!","v":{"$error":"#REF!"}},null,null,{"$f":"D121/'Charges Summary'!D$4","v":{"$error":"#REF!"}},{"$f":"E121/'Charges Summary'!E$4","v":{"$error":"#REF!"}},{"$f":"F121/'Charges Summary'!F$4","v":{"$error":"#REF!"}},{"$f":"G121/'Charges Summary'!G$4","v":{"$error":"#REF!"}},{"$f":"H121/'Charges Summary'!H$4","v":{"$error":"#REF!"}}]
[{"$f":"#REF!","v":{"$error":"#REF!"}},null,null,{"$f":"IF(#REF!=#REF!,D$102,IF(#REF!=#REF!,D$103,D$104))*#REF!*#REF!","v":{"$error":"#REF!"}},{"$f":"IF(#REF!=#REF!,E$102,IF(#REF!=#REF!,E$103,E$104))*#REF!*#REF!","v":{"$error":"#REF!"}},{"$f":"IF(#REF!=#REF!,F$102,IF(#REF!=#REF!,F$103,F$104))*#REF!*#REF!","v":{"$error":"#REF!"}},{"$f":"IF(#REF!=#REF!,G$102,IF(#REF!=#REF!,G$103,G$104))*#REF!*#REF!","v":{"$error":"#REF!"}},{"$f":"IF(#REF!=#REF!,H$102,IF(#REF!=#REF!,H$103,H$104))*#REF!*#REF!","v":{"$error":"#REF!"}},null,null,{"$f":"D122/'Charges Summary'!D$4","v":{"$error":"#REF!"}},{"$f":"E122/'Charges Summary'!E$4","v":{"$error":"#REF!"}},{"$f":"F122/'Charges Summary'!F$4","v":{"$error":"#REF!"}},{"$f":"G122/'Charges Summary'!G$4","v":{"$error":"#REF!"}},{"$f":"H122/'Charges Summary'!H$4","v":{"$error":"#REF!"}}]
[{"$f":"#REF!","v":{"$error":"#REF!"}},null,null,{"$f":"IF(#REF!=#REF!,D$102,IF(#REF!=#REF!,D$103,D$104))*#REF!*#REF!","v":{"$error":"#REF!"}},{"$f":"IF(#REF!=#REF!,E$102,IF(#REF!=#REF!,E$103,E$104))*#REF!*#REF!","v":{"$error":"#REF!"}},{"$f":"IF(#REF!=#REF!,F$102,IF(#REF!=#REF!,F$103,F$104))*#REF!*#REF!","v":{"$error":"#REF!"}},{"$f":"IF(#REF!=#REF!,G$102,IF(#REF!=#REF!,G$103,G$104))*#REF!*#REF!","v":{"$error":"#REF!"}},{"$f":"IF(#REF!=#REF!,H$102,IF(#REF!=#REF!,H$103,H$104))*#REF!*#REF!","v":{"$error":"#REF!"}},null,null,{"$f":"D123/'Charges Summary'!D$4","v":{"$error":"#REF!"}},{"$f":"E123/'Charges Summary'!E$4","v":{"$error":"#REF!"}},{"$f":"F123/'Charges Summary'!F$4","v":{"$error":"#REF!"}},{"$f":"G123/'Charges Summary'!G$4","v":{"$error":"#REF!"}},{"$f":"H123/'Charges Summary'!H$4","v":{"$error":"#REF!"}}]
[{"$f":"#REF!","v":{"$error":"#REF!"}},null,null,{"$f":"IF(#REF!=#REF!,D$102,IF(#REF!=#REF!,D$103,D$104))*#REF!*#REF!","v":{"$error":"#REF!"}},{"$f":"IF(#REF!=#REF!,E$102,IF(#REF!=#REF!,E$103,E$104))*#REF!*#REF!","v":{"$error":"#REF!"}},{"$f":"IF(#REF!=#REF!,F$102,IF(#REF!=#REF!,F$103,F$104))*#REF!*#REF!","v":{"$error":"#REF!"}},{"$f":"IF(#REF!=#REF!,G$102,IF(#REF!=#REF!,G$103,G$104))*#REF!*#REF!","v":{"$error":"#REF!"}},{"$f":"IF(#REF!=#REF!,H$102,IF(#REF!=#REF!,H$103,H$104))*#REF!*#REF!","v":{"$error":"#REF!"}},null,null,{"$f":"D124/'Charges Summary'!D$4","v":{"$error":"#REF!"}},{"$f":"E124/'Charges Summary'!E$4","v":{"$error":"#REF!"}},{"$f":"F124/'Charges Summary'!F$4","v":{"$error":"#REF!"}},{"$f":"G124/'Charges Summary'!G$4","v":{"$error":"#REF!"}},{"$f":"H124/'Charges Summary'!H$4","v":{"$error":"#REF!"}}]
[{"$f":"#REF!","v":{"$error":"#REF!"}},null,null,{"$f":"IF(#REF!=#REF!,D$102,IF(#REF!=#REF!,D$103,D$104))*#REF!*#REF!","v":{"$error":"#REF!"}},{"$f":"IF(#REF!=#REF!,E$102,IF(#REF!=#REF!,E$103,E$104))*#REF!*#REF!","v":{"$error":"#REF!"}},{"$f":"IF(#REF!=#REF!,F$102,IF(#REF!=#REF!,F$103,F$104))*#REF!*#REF!","v":{"$error":"#REF!"}},{"$f":"IF(#REF!=#REF!,G$102,IF(#REF!=#REF!,G$103,G$104))*#REF!*#REF!","v":{"$error":"#REF!"}},{"$f":"IF(#REF!=#REF!,H$102,IF(#REF!=#REF!,H$103,H$104))*#REF!*#REF!","v":{"$error":"#REF!"}},null,null,{"$f":"D125/'Charges Summary'!D$4","v":{"$error":"#REF!"}},{"$f":"E125/'Charges Summary'!E$4","v":{"$error":"#REF!"}},{"$f":"F125/'Charges Summary'!F$4","v":{"$error":"#REF!"}},{"$f":"G125/'Charges Summary'!G$4","v":{"$error":"#REF!"}},{"$f":"H125/'Charges Summary'!H$4","v":{"$error":"#REF!"}}]
[{"$f":"#REF!","v":{"$error":"#REF!"}},null,null,{"$f":"IF(#REF!=#REF!,D$102,IF(#REF!=#REF!,D$103,D$104))*#REF!*#REF!","v":{"$error":"#REF!"}},{"$f":"IF(#REF!=#REF!,E$102,IF(#REF!=#REF!,E$103,E$104))*#REF!*#REF!","v":{"$error":"#REF!"}},{"$f":"IF(#REF!=#REF!,F$102,IF(#REF!=#REF!,F$103,F$104))*#REF!*#REF!","v":{"$error":"#REF!"}},{"$f":"IF(#REF!=#REF!,G$102,IF(#REF!=#REF!,G$103,G$104))*#REF!*#REF!","v":{"$error":"#REF!"}},{"$f":"IF(#REF!=#REF!,H$102,IF(#REF!=#REF!,H$103,H$104))*#REF!*#REF!","v":{"$error":"#REF!"}},null,null,{"$f":"D126/'Charges Summary'!D$4","v":{"$error":"#REF!"}},{"$f":"E126/'Charges Summary'!E$4","v":{"$error":"#REF!"}},{"$f":"F126/'Charges Summary'!F$4","v":{"$error":"#REF!"}},{"$f":"G126/'Charges Summary'!G$4","v":{"$error":"#REF!"}},{"$f":"H126/'Charges Summary'!H$4","v":{"$error":"#REF!"}}]
[{"$f":"#REF!","v":{"$error":"#REF!"}},null,null,{"$f":"IF(#REF!=#REF!,D$102,IF(#REF!=#REF!,D$103,D$104))*#REF!*#REF!","v":{"$error":"#REF!"}},{"$f":"IF(#REF!=#REF!,E$102,IF(#REF!=#REF!,E$103,E$104))*#REF!*#REF!","v":{"$error":"#REF!"}},{"$f":"IF(#REF!=#REF!,F$102,IF(#REF!=#REF!,F$103,F$104))*#REF!*#REF!","v":{"$error":"#REF!"}},{"$f":"IF(#REF!=#REF!,G$102,IF(#REF!=#REF!,G$103,G$104))*#REF!*#REF!","v":{"$error":"#REF!"}},{"$f":"IF(#REF!=#REF!,H$102,IF(#REF!=#REF!,H$103,H$104))*#REF!*#REF!","v":{"$error":"#REF!"}},null,null,{"$f":"D127/'Charges Summary'!D$4","v":{"$error":"#REF!"}},{"$f":"E127/'Charges Summary'!E$4","v":{"$error":"#REF!"}},{"$f":"F127/'Charges Summary'!F$4","v":{"$error":"#REF!"}},{"$f":"G127/'Charges Summary'!G$4","v":{"$error":"#REF!"}},{"$f":"H127/'Charges Summary'!H$4","v":{"$error":"#REF!"}}]
[]
[]
[]
[]
[]
[]
[]
[]
[]
[]
[]
[{"$f":"#REF!","v":{"$error":"#REF!"}}]
[{"$f":"#REF!","v":{"$error":"#REF!"}},null,null,{"$f":"SUM('Charges Summary'!D83,'Charges Summary'!D8)*#REF!*#REF!","v":{"$error":"#REF!"}},{"$f":"SUM('Charges Summary'!E83,'Charges Summary'!E8)*#REF!*#REF!","v":{"$error":"#REF!"}},{"$f":"SUM('Charges Summary'!F83,'Charges Summary'!F8)*#REF!*#REF!","v":{"$error":"#REF!"}},{"$f":"SUM('Charges Summary'!G83,'Charges Summary'!G8)*#REF!*#REF!","v":{"$error":"#REF!"}},{"$f":"SUM('Charges Summary'!H83,'Charges Summary'!H8)*#REF!*#REF!","v":{"$error":"#REF!"}},null,null,{"$f":"D140/'Charges Summary'!D$4","v":{"$error":"#REF!"}},{"$f":"E140/'Charges Summary'!E$4","v":{"$error":"#REF!"}},{"$f":"F140/'Charges Summary'!F$4","v":{"$error":"#REF!"}},{"$f":"G140/'Charges Summary'!G$4","v":{"$error":"#REF!"}},{"$f":"H140/'Charges Summary'!H$4","v":{"$error":"#REF!"}}]
[{"$f":"#REF!","v":{"$error":"#REF!"}},null,null,{"$f":"SUM('Charges Summary'!D99,'Charges Summary'!D8)*#REF!*#REF!","v":{"$error":"#REF!"}},{"$f":"SUM('Charges Summary'!E99,'Charges Summary'!E8)*#REF!*#REF!","v":{"$error":"#REF!"}},{"$f":"SUM('Charges Summary'!F99,'Charges Summary'!F8)*#REF!*#REF!","v":{"$error":"#REF!"}},{"$f":"SUM('Charges Summary'!G99,'Charges Summary'!G8)*#REF!*#REF!","v":{"$error":"#REF!"}},{"$f":"SUM('Charges Summary'!H99,'Charges Summary'!H8)*#REF!*#REF!","v":{"$error":"#REF!"}},null,null,{"$f":"D141/'Charges Summary'!D$4","v":{"$error":"#REF!"}},{"$f":"E141/'Charges Summary'!E$4","v":{"$error":"#REF!"}},{"$f":"F141/'Charges Summary'!F$4","v":{"$error":"#REF!"}},{"$f":"G141/'Charges Summary'!G$4","v":{"$error":"#REF!"}},{"$f":"H141/'Charges Summary'!H$4","v":{"$error":"#REF!"}}]
[{"$f":"#REF!","v":{"$error":"#REF!"}},null,null,{"$f":"SUM('Charges Summary'!D115,'Charges Summary'!D8)*#REF!*#REF!","v":{"$error":"#REF!"}},{"$f":"SUM('Charges Summary'!E115,'Charges Summary'!E8)*#REF!*#REF!","v":{"$error":"#REF!"}},{"$f":"SUM('Charges Summary'!F115,'Charges Summary'!F8)*#REF!*#REF!","v":{"$error":"#REF!"}},{"$f":"SUM('Charges Summary'!G115,'Charges Summary'!G8)*#REF!*#REF!","v":{"$error":"#REF!"}},{"$f":"SUM('Charges Summary'!H115,'Charges Summary'!H8)*#REF!*#REF!","v":{"$error":"#REF!"}},null,null,{"$f":"D142/'Charges Summary'!D$4","v":{"$error":"#REF!"}},{"$f":"E142/'Charges Summary'!E$4","v":{"$error":"#REF!"}},{"$f":"F142/'Charges Summary'!F$4","v":{"$error":"#REF!"}},{"$f":"G142/'Charges Summary'!G$4","v":{"$error":"#REF!"}},{"$f":"H142/'Charges Summary'!H$4","v":{"$error":"#REF!"}}]
[{"$f":"#REF!","v":{"$error":"#REF!"}},null,null,{"$f":"SUM('Charges Summary'!D131,'Charges Summary'!D$8)*#REF!*#REF!","v":{"$error":"#REF!"}},{"$f":"SUM('Charges Summary'!E131,'Charges Summary'!E$8)*#REF!*#REF!","v":{"$error":"#REF!"}},{"$f":"SUM('Charges Summary'!F131,'Charges Summary'!F$8)*#REF!*#REF!","v":{"$error":"#REF!"}},{"$f":"SUM('Charges Summary'!G131,'Charges Summary'!G$8)*#REF!*#REF!","v":{"$error":"#REF!"}},{"$f":"SUM('Charges Summary'!H131,'Charges Summary'!H$8)*#REF!*#REF!","v":{"$error":"#REF!"}},null,null,{"$f":"D143/'Charges Summary'!D$4","v":{"$error":"#REF!"}},{"$f":"E143/'Charges Summary'!E$4","v":{"$error":"#REF!"}},{"$f":"F143/'Charges Summary'!F$4","v":{"$error":"#REF!"}},{"$f":"G143/'Charges Summary'!G$4","v":{"$error":"#REF!"}},{"$f":"H143/'Charges Summary'!H$4","v":{"$error":"#REF!"}}]
[{"$f":"#REF!","v":{"$error":"#REF!"}},null,null,{"$f":"SUM('Charges Summary'!D147,'Charges Summary'!D$8)*#REF!*#REF!","v":{"$error":"#REF!"}},{"$f":"SUM('Charges Summary'!E147,'Charges Summary'!E$8)*#REF!*#REF!","v":{"$error":"#REF!"}},{"$f":"SUM('Charges Summary'!F147,'Charges Summary'!F$8)*#REF!*#REF!","v":{"$error":"#REF!"}},{"$f":"SUM('Charges Summary'!G147,'Charges Summary'!G$8)*#REF!*#REF!","v":{"$error":"#REF!"}},{"$f":"SUM('Charges Summary'!H147,'Charges Summary'!H$8)*#REF!*#REF!","v":{"$error":"#REF!"}},null,null,{"$f":"D144/'Charges Summary'!D$4","v":{"$error":"#REF!"}},{"$f":"E144/'Charges Summary'!E$4","v":{"$error":"#REF!"}},{"$f":"F144/'Charges Summary'!F$4","v":{"$error":"#REF!"}},{"$f":"G144/'Charges Summary'!G$4","v":{"$error":"#REF!"}},{"$f":"H144/'Charges Summary'!H$4","v":{"$error":"#REF!"}}]
[{"$f":"#REF!","v":{"$error":"#REF!"}},null,null,{"$f":"SUM('Charges Summary'!D163,'Charges Summary'!D$8)*#REF!*#REF!","v":{"$error":"#REF!"}},{"$f":"SUM('Charges Summary'!E163,'Charges Summary'!E$8)*#REF!*#REF!","v":{"$error":"#REF!"}},{"$f":"SUM('Charges Summary'!F163,'Charges Summary'!F$8)*#REF!*#REF!","v":{"$error":"#REF!"}},{"$f":"SUM('Charges Summary'!G163,'Charges Summary'!G$8)*#REF!*#REF!","v":{"$error":"#REF!"}},{"$f":"SUM('Charges Summary'!H163,'Charges Summary'!H$8)*#REF!*#REF!","v":{"$error":"#REF!"}},null,null,{"$f":"D145/'Charges Summary'!D$4","v":{"$error":"#REF!"}},{"$f":"E145/'Charges Summary'!E$4","v":{"$error":"#REF!"}},{"$f":"F145/'Charges Summary'!F$4","v":{"$error":"#REF!"}},{"$f":"G145/'Charges Summary'!G$4","v":{"$error":"#REF!"}},{"$f":"H145/'Charges Summary'!H$4","v":{"$error":"#REF!"}}]
[{"$f":"#REF!","v":{"$error":"#REF!"}},null,null,{"$f":"SUM('Charges Summary'!D179,'Charges Summary'!D$8)*#REF!*#REF!","v":{"$error":"#REF!"}},{"$f":"SUM('Charges Summary'!E179,'Charges Summary'!E$8)*#REF!*#REF!","v":{"$error":"#REF!"}},{"$f":"SUM('Charges Summary'!F179,'Charges Summary'!F$8)*#REF!*#REF!","v":{"$error":"#REF!"}},{"$f":"SUM('Charges Summary'!G179,'Charges Summary'!G$8)*#REF!*#REF!","v":{"$error":"#REF!"}},{"$f":"SUM('Charges Summary'!H179,'Charges Summary'!H$8)*#REF!*#REF!","v":{"$error":"#REF!"}},null,null,{"$f":"D146/'Charges Summary'!D$4","v":{"$error":"#REF!"}},{"$f":"E146/'Charges Summary'!E$4","v":{"$error":"#REF!"}},{"$f":"F146/'Charges Summary'!F$4","v":{"$error":"#REF!"}},{"$f":"G146/'Charges Summary'!G$4","v":{"$error":"#REF!"}},{"$f":"H146/'Charges Summary'!H$4","v":{"$error":"#REF!"}}]
[{"$f":"#REF!","v":{"$error":"#REF!"}},null,null,{"$f":"IF(#REF!=#REF!,D$106,D$107)*#REF!*#REF!","v":{"$error":"#REF!"}},{"$f":"IF(#REF!=#REF!,E$106,E$107)*#REF!*#REF!","v":{"$error":"#REF!"}},{"$f":"IF(#REF!=#REF!,F$106,F$107)*#REF!*#REF!","v":{"$error":"#REF!"}},{"$f":"IF(#REF!=#REF!,G$106,G$107)*#REF!*#REF!","v":{"$error":"#REF!"}},{"$f":"IF(#REF!=#REF!,H$106,H$107)*#REF!*#REF!","v":{"$error":"#REF!"}},null,null,{"$f":"D147/'Charges Summary'!D$4","v":{"$error":"#REF!"}},{"$f":"E147/'Charges Summary'!E$4","v":{"$error":"#REF!"}},{"$f":"F147/'Charges Summary'!F$4","v":{"$error":"#REF!"}},{"$f":"G147/'Charges Summary'!G$4","v":{"$error":"#REF!"}},{"$f":"H147/'Charges Summary'!H$4","v":{"$error":"#REF!"}}]
[{"$f":"#REF!","v":{"$error":"#REF!"}},null,null,{"$f":"IF(#REF!=#REF!,D$106,D$107)*#REF!*#REF!","v":{"$error":"#REF!"}},{"$f":"IF(#REF!=#REF!,E$106,E$107)*#REF!*#REF!","v":{"$error":"#REF!"}},{"$f":"IF(#REF!=#REF!,F$106,F$107)*#REF!*#REF!","v":{"$error":"#REF!"}},{"$f":"IF(#REF!=#REF!,G$106,G$107)*#REF!*#REF!","v":{"$error":"#REF!"}},{"$f":"IF(#REF!=#REF!,H$106,H$107)*#REF!*#REF!","v":{"$error":"#REF!"}},null,null,{"$f":"D148/'Charges Summary'!D$4","v":{"$error":"#REF!"}},{"$f":"E148/'Charges Summary'!E$4","v":{"$error":"#REF!"}},{"$f":"F148/'Charges Summary'!F$4","v":{"$error":"#REF!"}},{"$f":"G148/'Charges Summary'!G$4","v":{"$error":"#REF!"}},{"$f":"H148/'Charges Summary'!H$4","v":{"$error":"#REF!"}}]
[{"$f":"#REF!","v":{"$error":"#REF!"}},null,null,{"$f":"SUM('Charges Summary'!D195,'Charges Summary'!D$8)*#REF!*#REF!","v":{"$error":"#REF!"}},{"$f":"SUM('Charges Summary'!E195,'Charges Summary'!E$8)*#REF!*#REF!","v":{"$error":"#REF!"}},{"$f":"SUM('Charges Summary'!F195,'Charges Summary'!F$8)*#REF!*#REF!","v":{"$error":"#REF!"}},{"$f":"SUM('Charges Summary'!G195,'Charges Summary'!G$8)*#REF!*#REF!","v":{"$error":"#REF!"}},{"$f":"SUM('Charges Summary'!H195,'Charges Summary'!H$8)*#REF!*#REF!","v":{"$error":"#REF!"}},null,null,{"$f":"D149/'Charges Summary'!D$4","v":{"$error":"#REF!"}},{"$f":"E149/'Charges Summary'!E$4","v":{"$error":"#REF!"}},{"$f":"F149/'Charges Summary'!F$4","v":{"$error":"#REF!"}},{"$f":"G149/'Charges Summary'!G$4","v":{"$error":"#REF!"}},{"$f":"H149/'Charges Summary'!H$4","v":{"$error":"#REF!"}}]
[{"$f":"#REF!","v":{"$error":"#REF!"}},null,null,{"$f":"SUM('Charges Summary'!D211,'Charges Summary'!D$8)*#REF!*#REF!","v":{"$error":"#REF!"}},{"$f":"SUM('Charges Summary'!E211,'Charges Summary'!E$8)*#REF!*#REF!","v":{"$error":"#REF!"}},{"$f":"SUM('Charges Summary'!F211,'Charges Summary'!F$8)*#REF!*#REF!","v":{"$error":"#REF!"}},{"$f":"SUM('Charges Summary'!G211,'Charges Summary'!G$8)*#REF!*#REF!","v":{"$error":"#REF!"}},{"$f":"SUM('Charges Summary'!H211,'Charges Summary'!H$8)*#REF!*#REF!","v":{"$error":"#REF!"}},null,null,{"$f":"D150/'Charges Summary'!D$4","v":{"$error":"#REF!"}},{"$f":"E150/'Charges Summary'!E$4","v":{"$error":"#REF!"}},{"$f":"F150/'Charges Summary'!F$4","v":{"$error":"#REF!"}},{"$f":"G150/'Charges Summary'!G$4","v":{"$error":"#REF!"}},{"$f":"H150/'Charges Summary'!H$4","v":{"$error":"#REF!"}}]
[{"$f":"#REF!","v":{"$error":"#REF!"}},null,null,{"$f":"SUM('Charges Summary'!D227,'Charges Summary'!D$8)*#REF!*#REF!","v":{"$error":"#REF!"}},{"$f":"SUM('Charges Summary'!E227,'Charges Summary'!E$8)*#REF!*#REF!","v":{"$error":"#REF!"}},{"$f":"SUM('Charges Summary'!F227,'Charges Summary'!F$8)*#REF!*#REF!","v":{"$error":"#REF!"}},{"$f":"SUM('Charges Summary'!G227,'Charges Summary'!G$8)*#REF!*#REF!","v":{"$error":"#REF!"}},{"$f":"SUM('Charges Summary'!H227,'Charges Summary'!H$8)*#REF!*#REF!","v":{"$error":"#REF!"}},null,null,{"$f":"D151/'Charges Summary'!D$4","v":{"$error":"#REF!"}},{"$f":"E151/'Charges Summary'!E$4","v":{"$error":"#REF!"}},{"$f":"F151/'Charges Summary'!F$4","v":{"$error":"#REF!"}},{"$f":"G151/'Charges Summary'!G$4","v":{"$error":"#REF!"}},{"$f":"H151/'Charges Summary'!H$4","v":{"$error":"#REF!"}}]
[]
["Total O & M",null,null,{"$f":"SUM(D115:D151)","v":{"$error":"#REF!"}},{"$f":"SUM(E115:E151)","v":{"$error":"#REF!"}},{"$f":"SUM(F115:F151)","v":{"$error":"#REF!"}},{"$f":"SUM(G115:G151)","v":{"$error":"#REF!"}},{"$f":"SUM(H115:H151)","v":{"$error":"#REF!"}},null,null,{"$f":"SUM(K115:K151)","v":{"$error":"#REF!"}},{"$f":"SUM(L115:L151)","v":{"$error":"#REF!"}},{"$f":"SUM(M115:M151)","v":{"$error":"#REF!"}},{"$f":"SUM(N115:N151)","v":{"$error":"#REF!"}},{"$f":"SUM(O115:O151)","v":{"$error":"#REF!"}}]
[]
[]
["Public Lighting - Capital Charge",null,null,"Capital Charge - $Nominal ",null,null,null,null,null,null,"Capital Charge - $Real Jun 2026 "]
[null,null,null,{"$f":"D$2","v":"2027-06-30"},{"$f":"E$2","v":"2028-06-30"},{"$f":"F$2","v":"2029-06-30"},{"$f":"G$2","v":"2030-06-30"},{"$f":"H$2","v":"2031-06-30"},null,null,{"$f":"K$2","v":"2027-06-30"},{"$f":"L$2","v":"2028-06-30"},{"$f":"M$2","v":"2029-06-30"},{"$f":"N$2","v":"2030-06-30"},{"$f":"O$2","v":"2031-06-30"}]
[]
["Unit cost"]
[{"$f":"#REF!","v":{"$error":"#REF!"}},null,null,{"$f":"SUM('Charges Summary'!D27,'Charges Summary'!D11)","v":{"$error":"#REF!"}},{"$f":"SUM('Charges Summary'!E27,'Charges Summary'!E11)","v":{"$error":"#REF!"}},{"$f":"SUM('Charges Summary'!F27,'Charges Summary'!F11)","v":{"$error":"#REF!"}},{"$f":"SUM('Charges Summary'!G27,'Charges Summary'!G11)","v":{"$error":"#REF!"}},{"$f":"SUM('Charges Summary'!H27,'Charges Summary'!H11)","v":{"$error":"#REF!"}},null,null,{"$f":"D160/'Charges Summary'!D$4","v":{"$error":"#REF!"}},{"$f":"E160/'Charges Summary'!E$4","v":{"$error":"#REF!"}},{"$f":"F160/'Charges Summary'!F$4","v":{"$error":"#REF!"}},{"$f":"G160/'Charges Summary'!G$4","v":{"$error":"#REF!"}},{"$f":"H160/'Charges Summary'!H$4","v":{"$error":"#REF!"}}]
[{"$f":"#REF!","v":{"$error":"#REF!"}},null,null,{"$f":"SUM('Charges Summary'!D51,'Charges Summary'!D11)","v":{"$error":"#REF!"}},{"$f":"SUM('Charges Summary'!E51,'Charges Summary'!E11)","v":{"$error":"#REF!"}},{"$f":"SUM('Charges Summary'!F51,'Charges Summary'!F11)","v":{"$error":"#REF!"}},{"$f":"SUM('Charges Summary'!G51,'Charges Summary'!G11)","v":{"$error":"#REF!"}},{"$f":"SUM('Charges Summary'!H51,'Charges Summary'!H11)","v":{"$error":"#REF!"}},null,null,{"$f":"D161/'Charges Summary'!D$4","v":{"$error":"#REF!"}},{"$f":"E161/'Charges Summary'!E$4","v":{"$error":"#REF!"}},{"$f":"F161/'Charges Summary'!F$4","v":{"$error":"#REF!"}},{"$f":"G161/'Charges Summary'!G$4","v":{"$error":"#REF!"}},{"$f":"H161/'Charges Summary'!H$4","v":{"$error":"#REF!"}}]
[{"$f":"#REF!","v":{"$error":"#REF!"}},null,null,{"$f":"SUM('Charges Summary'!D67,'Charges Summary'!D11)","v":{"$error":"#REF!"}},{"$f":"SUM('Charges Summary'!E67,'Charges Summary'!E11)","v":{"$error":"#REF!"}},{"$f":"SUM('Charges Summary'!F67,'Charges Summary'!F11)","v":{"$error":"#REF!"}},{"$f":"SUM('Charges Summary'!G67,'Charges Summary'!G11)","v":{"$error":"#REF!"}},{"$f":"SUM('Charges Summary'!H67,'Charges Summary'!H11)","v":{"$error":"#REF!"}},null,null,{"$f":"D162/'Charges Summary'!D$4","v":{"$error":"#REF!"}},{"$f":"E162/'Charges Summary'!E$4","v":{"$error":"#REF!"}},{"$f":"F162/'Charges Summary'!F$4","v":{"$error":"#REF!"}},{"$f":"G162/'Charges Summary'!G$4","v":{"$error":"#REF!"}},{"$f":"H162/'Charges Summary'!H$4","v":{"$error":"#REF!"}}]
[]
[{"$f":"#REF!","v":{"$error":"#REF!"}},null,null,{"$f":"SUM('Charges Summary'!D85,'Charges Summary'!D11)","v":{"$error":"#REF!"}},{"$f":"SUM('Charges Summary'!E85,'Charges Summary'!E11)","v":{"$error":"#REF!"}},{"$f":"SUM('Charges Summary'!F85,'Charges Summary'!F11)","v":{"$error":"#REF!"}},{"$f":"SUM('Charges Summary'!G85,'Charges Summary'!G11)","v":{"$error":"#REF!"}},{"$f":"SUM('Charges Summary'!H85,'Charges Summary'!H11)","v":{"$error":"#REF!"}},null,null,{"$f":"D164/'Charges Summary'!D$4","v":{"$error":"#REF!"}},{"$f":"E164/'Charges Summary'!E$4","v":{"$error":"#REF!"}},{"$f":"F164/'Charges Summary'!F$4","v":{"$error":"#REF!"}},{"$f":"G164/'Charges Summary'!G$4","v":{"$error":"#REF!"}},{"$f":"H164/'Charges Summary'!H$4","v":{"$error":"#REF!"}}]
[{"$f":"#REF!","v":{"$error":"#REF!"}},null,null,{"$f":"SUM('Charges Summary'!D101,'Charges Summary'!D11)","v":{"$error":"#REF!"}},{"$f":"SUM('Charges Summary'!E101,'Charges Summary'!E11)","v":{"$error":"#REF!"}},{"$f":"SUM('Charges Summary'!F101,'Charges Summary'!F11)","v":{"$error":"#REF!"}},{"$f":"SUM('Charges Summary'!G101,'Charges Summary'!G11)","v":{"$error":"#REF!"}},{"$f":"SUM('Charges Summary'!H101,'Charges Summary'!H11)","v":{"$error":"#REF!"}},null,null,{"$f":"D165/'Charges Summary'!D$4","v":{"$error":"#REF!"}},{"$f":"E165/'Charges Summary'!E$4","v":{"$error":"#REF!"}},{"$f":"F165/'Charges Summary'!F$4","v":{"$error":"#REF!"}},{"$f":"G165/'Charges Summary'!G$4","v":{"$error":"#REF!"}},{"$f":"H165/'Charges Summary'!H$4","v":{"$error":"#REF!"}}]
[{"$f":"#REF!","v":{"$error":"#REF!"}},null,null,{"$f":"SUM('Charges Summary'!D117,'Charges Summary'!D11)","v":{"$error":"#REF!"}},{"$f":"SUM('Charges Summary'!E117,'Charges Summary'!E11)","v":{"$error":"#REF!"}},{"$f":"SUM('Charges Summary'!F117,'Charges Summary'!F11)","v":{"$error":"#REF!"}},{"$f":"SUM('Charges Summary'!G117,'Charges Summary'!G11)","v":{"$error":"#REF!"}},{"$f":"SUM('Charges Summary'!H117,'Charges Summary'!H11)","v":{"$error":"#REF!"}},null,null,{"$f":"D166/'Charges Summary'!D$4","v":{"$error":"#REF!"}},{"$f":"E166/'Charges Summary'!E$4","v":{"$error":"#REF!"}},{"$f":"F166/'Charges Summary'!F$4","v":{"$error":"#REF!"}},{"$f":"G166/'Charges Summary'!G$4","v":{"$error":"#REF!"}},{"$f":"H166/'Charges Summary'!H$4","v":{"$error":"#REF!"}}]
[{"$f":"#REF!","v":{"$error":"#REF!"}},null,null,{"$f":"SUM('Charges Summary'!D133,'Charges Summary'!D$11)","v":{"$error":"#REF!"}},{"$f":"SUM('Charges Summary'!E133,'Charges Summary'!E$11)","v":{"$error":"#REF!"}},{"$f":"SUM('Charges Summary'!F133,'Charges Summary'!F$11)","v":{"$error":"#REF!"}},{"$f":"SUM('Charges Summary'!G133,'Charges Summary'!G$11)","v":{"$error":"#REF!"}},{"$f":"SUM('Charges Summary'!H133,'Charges Summary'!H$11)","v":{"$error":"#REF!"}},null,null,{"$f":"D167/'Charges Summary'!D$4","v":{"$error":"#REF!"}},{"$f":"E167/'Charges Summary'!E$4","v":{"$error":"#REF!"}},{"$f":"F167/'Charges Summary'!F$4","v":{"$error":"#REF!"}},{"$f":"G167/'Charges Summary'!G$4","v":{"$error":"#REF!"}},{"$f":"H167/'Charges Summary'!H$4","v":{"$error":"#REF!"}}]
[{"$f":"#REF!","v":{"$error":"#REF!"}},null,null,{"$f":"SUM('Charges Summary'!D149,'Charges Summary'!D$11)","v":{"$error":"#REF!"}},{"$f":"SUM('Charges Summary'!E149,'Charges Summary'!E$11)","v":{"$error":"#REF!"}},{"$f":"SUM('Charges Summary'!F149,'Charges Summary'!F$11)","v":{"$error":"#REF!"}},{"$f":"SUM('Charges Summary'!G149,'Charges Summary'!G$11)","v":{"$error":"#REF!"}},{"$f":"SUM('Charges Summary'!H149,'Charges Summary'!H$11)","v":{"$error":"#REF!"}},null,null,{"$f":"D168/'Charges Summary'!D$4","v":{"$error":"#REF!"}},{"$f":"E168/'Charges Summary'!E$4","v":{"$error":"#REF!"}},{"$f":"F168/'Charges Summary'!F$4","v":{"$error":"#REF!"}},{"$f":"G168/'Charges Summary'!G$4","v":{"$error":"#REF!"}},{"$f":"H168/'Charges Summary'!H$4","v":{"$error":"#REF!"}}]
[{"$f":"#REF!","v":{"$error":"#REF!"}},null,null,{"$f":"SUM('Charges Summary'!D165,'Charges Summary'!D$11)","v":{"$error":"#REF!"}},{"$f":"SUM('Charges Summary'!E165,'Charges Summary'!E$11)","v":{"$error":"#REF!"}},{"$f":"SUM('Charges Summary'!F165,'Charges Summary'!F$11)","v":{"$error":"#REF!"}},{"$f":"SUM('Charges Summary'!G165,'Charges Summary'!G$11)","v":{"$error":"#REF!"}},{"$f":"SUM('Charges Summary'!H165,'Charges Summary'!H$11)","v":{"$error":"#REF!"}},null,null,{"$f":"D169/'Charges Summary'!D$4","v":{"$error":"#REF!"}},{"$f":"E169/'Charges Summary'!E$4","v":{"$error":"#REF!"}},{"$f":"F169/'Charges Summary'!F$4","v":{"$error":"#REF!"}},{"$f":"G169/'Charges Summary'!G$4","v":{"$error":"#REF!"}},{"$f":"H169/'Charges Summary'!H$4","v":{"$error":"#REF!"}}]
[{"$f":"#REF!","v":{"$error":"#REF!"}},null,null,{"$f":"SUM('Charges Summary'!D181,'Charges Summary'!D$11)","v":{"$error":"#REF!"}},{"$f":"SUM('Charges Summary'!E181,'Charges Summary'!E$11)","v":{"$error":"#REF!"}},{"$f":"SUM('Charges Summary'!F181,'Charges Summary'!F$11)","v":{"$error":"#REF!"}},{"$f":"SUM('Charges Summary'!G181,'Charges Summary'!G$11)","v":{"$error":"#REF!"}},{"$f":"SUM('Charges Summary'!H181,'Charges Summary'!H$11)","v":{"$error":"#REF!"}},null,null,{"$f":"D170/'Charges Summary'!D$4","v":{"$error":"#REF!"}},{"$f":"E170/'Charges Summary'!E$4","v":{"$error":"#REF!"}},{"$f":"F170/'Charges Summary'!F$4","v":{"$error":"#REF!"}},{"$f":"G170/'Charges Summary'!G$4","v":{"$error":"#REF!"}},{"$f":"H170/'Charges Summary'!H$4","v":{"$error":"#REF!"}}]
[]
[{"$f":"#REF!","v":{"$error":"#REF!"}}]
[{"$f":"#REF!","v":{"$error":"#REF!"}},null,null,{"$f":"D160*#REF!","v":{"$error":"#REF!"}},{"$f":"E160*#REF!","v":{"$error":"#REF!"}},{"$f":"F160*#REF!","v":{"$error":"#REF!"}},{"$f":"G160*#REF!","v":{"$error":"#REF!"}},{"$f":"H160*#REF!","v":{"$error":"#REF!"}},null,null,{"$f":"D173/'Charges Summary'!D$4","v":{"$error":"#REF!"}},{"$f":"E173/'Charges Summary'!E$4","v":{"$error":"#REF!"}},{"$f":"F173/'Charges Summary'!F$4","v":{"$error":"#REF!"}},{"$f":"G173/'Charges Summary'!G$4","v":{"$error":"#REF!"}},{"$f":"H173/'Charges Summary'!H$4","v":{"$error":"#REF!"}}]
[{"$f":"#REF!","v":{"$error":"#REF!"}},null,null,{"$f":"D161*#REF!","v":{"$error":"#REF!"}},{"$f":"E161*#REF!","v":{"$error":"#REF!"}},{"$f":"F161*#REF!","v":{"$error":"#REF!"}},{"$f":"G161*#REF!","v":{"$error":"#REF!"}},{"$f":"H161*#REF!","v":{"$error":"#REF!"}},null,null,{"$f":"D174/'Charges Summary'!D$4","v":{"$error":"#REF!"}},{"$f":"E174/'Charges Summary'!E$4","v":{"$error":"#REF!"}},{"$f":"F174/'Charges Summary'!F$4","v":{"$error":"#REF!"}},{"$f":"G174/'Charges Summary'!G$4","v":{"$error":"#REF!"}},{"$f":"H174/'Charges Summary'!H$4","v":{"$error":"#REF!"}}]
[{"$f":"#REF!","v":{"$error":"#REF!"}},null,null,{"$f":"D162*#REF!","v":{"$error":"#REF!"}},{"$f":"E162*#REF!","v":{"$error":"#REF!"}},{"$f":"F162*#REF!","v":{"$error":"#REF!"}},{"$f":"G162*#REF!","v":{"$error":"#REF!"}},{"$f":"H162*#REF!","v":{"$error":"#REF!"}},null,null,{"$f":"D175/'Charges Summary'!D$4","v":{"$error":"#REF!"}},{"$f":"E175/'Charges Summary'!E$4","v":{"$error":"#REF!"}},{"$f":"F175/'Charges Summary'!F$4","v":{"$error":"#REF!"}},{"$f":"G175/'Charges Summary'!G$4","v":{"$error":"#REF!"}},{"$f":"H175/'Charges Summary'!H$4","v":{"$error":"#REF!"}}]
[{"$f":"#REF!","v":{"$error":"#REF!"}},null,null,{"$f":"IF(#REF!=#REF!,D$160,IF(#REF!=#REF!,D$161,D$162))*#REF!*#REF!","v":{"$error":"#REF!"}},{"$f":"IF(#REF!=#REF!,E$160,IF(#REF!=#REF!,E$161,E$162))*#REF!*#REF!","v":{"$error":"#REF!"}},{"$f":"IF(#REF!=#REF!,F$160,IF(#REF!=#REF!,F$161,F$162))*#REF!*#REF!","v":{"$error":"#REF!"}},{"$f":"IF(#REF!=#REF!,G$160,IF(#REF!=#REF!,G$161,G$162))*#REF!*#REF!","v":{"$error":"#REF!"}},{"$f":"IF(#REF!=#REF!,H$160,IF(#REF!=#REF!,H$161,H$162))*#REF!*#REF!","v":{"$error":"#REF!"}},null,null,{"$f":"D176/'Charges Summary'!D$4","v":{"$error":"#REF!"}},{"$f":"E176/'Charges Summary'!E$4","v":{"$error":"#REF!"}},{"$f":"F176/'Charges Summary'!F$4","v":{"$error":"#REF!"}},{"$f":"G176/'Charges Summary'!G$4","v":{"$error":"#REF!"}},{"$f":"H176/'Charges Summary'!H$4","v":{"$error":"#REF!"}}]
[{"$f":"#REF!","v":{"$error":"#REF!"}},null,null,{"$f":"IF(#REF!=#REF!,D$160,IF(#REF!=#REF!,D$161,D$162))*#REF!*#REF!","v":{"$error":"#REF!"}},{"$f":"IF(#REF!=#REF!,E$160,IF(#REF!=#REF!,E$161,E$162))*#REF!*#REF!","v":{"$error":"#REF!"}},{"$f":"IF(#REF!=#REF!,F$160,IF(#REF!=#REF!,F$161,F$162))*#REF!*#REF!","v":{"$error":"#REF!"}},{"$f":"IF(#REF!=#REF!,G$160,IF(#REF!=#REF!,G$161,G$162))*#REF!*#REF!","v":{"$error":"#REF!"}},{"$f":"IF(#REF!=#REF!,H$160,IF(#REF!=#REF!,H$161,H$162))*#REF!*#REF!","v":{"$error":"#REF!"}},null,null,{"$f":"D177/'Charges Summary'!D$4","v":{"$error":"#REF!"}},{"$f":"E177/'Charges Summary'!E$4","v":{"$error":"#REF!"}},{"$f":"F177/'Charges Summary'!F$4","v":{"$error":"#REF!"}},{"$f":"G177/'Charges Summary'!G$4","v":{"$error":"#REF!"}},{"$f":"H177/'Charges Summary'!H$4","v":{"$error":"#REF!"}}]
[{"$f":"#REF!","v":{"$error":"#REF!"}},null,null,{"$f":"IF(#REF!=#REF!,D$160,IF(#REF!=#REF!,D$161,D$162))*#REF!*#REF!","v":{"$error":"#REF!"}},{"$f":"IF(#REF!=#REF!,E$160,IF(#REF!=#REF!,E$161,E$162))*#REF!*#REF!","v":{"$error":"#REF!"}},{"$f":"IF(#REF!=#REF!,F$160,IF(#REF!=#REF!,F$161,F$162))*#REF!*#REF!","v":{"$error":"#REF!"}},{"$f":"IF(#REF!=#REF!,G$160,IF(#REF!=#REF!,G$161,G$162))*#REF!*#REF!","v":{"$error":"#REF!"}},{"$f":"IF(#REF!=#REF!,H$160,IF(#REF!=#REF!,H$161,H$162))*#REF!*#REF!","v":{"$error":"#REF!"}},null,null,{"$f":"D178/'Charges Summary'!D$4","v":{"$error":"#REF!"}},{"$f":"E178/'Charges Summary'!E$4","v":{"$error":"#REF!"}},{"$f":"F178/'Charges Summary'!F$4","v":{"$error":"#REF!"}},{"$f":"G178/'Charges Summary'!G$4","v":{"$error":"#REF!"}},{"$f":"H178/'Charges Summary'!H$4","v":{"$error":"#REF!"}}]
[{"$f":"#REF!","v":{"$error":"#REF!"}},null,null,{"$f":"IF(#REF!=#REF!,D$160,IF(#REF!=#REF!,D$161,D$162))*#REF!*#REF!","v":{"$error":"#REF!"}},{"$f":"IF(#REF!=#REF!,E$160,IF(#REF!=#REF!,E$161,E$162))*#REF!*#REF!","v":{"$error":"#REF!"}},{"$f":"IF(#REF!=#REF!,F$160,IF(#REF!=#REF!,F$161,F$162))*#REF!*#REF!","v":{"$error":"#REF!"}},{"$f":"IF(#REF!=#REF!,G$160,IF(#REF!=#REF!,G$161,G$162))*#REF!*#REF!","v":{"$error":"#REF!"}},{"$f":"IF(#REF!=#REF!,H$160,IF(#REF!=#REF!,H$161,H$162))*#REF!*#REF!","v":{"$error":"#REF!"}},null,null,{"$f":"D179/'Charges Summary'!D$4","v":{"$error":"#REF!"}},{"$f":"E179/'Charges Summary'!E$4","v":{"$error":"#REF!"}},{"$f":"F179/'Charges Summary'!F$4","v":{"$error":"#REF!"}},{"$f":"G179/'Charges Summary'!G$4","v":{"$error":"#REF!"}},{"$f":"H179/'Charges Summary'!H$4","v":{"$error":"#REF!"}}]
[{"$f":"#REF!","v":{"$error":"#REF!"}},null,null,{"$f":"IF(#REF!=#REF!,D$160,IF(#REF!=#REF!,D$161,D$162))*#REF!*#REF!","v":{"$error":"#REF!"}},{"$f":"IF(#REF!=#REF!,E$160,IF(#REF!=#REF!,E$161,E$162))*#REF!*#REF!","v":{"$error":"#REF!"}},{"$f":"IF(#REF!=#REF!,F$160,IF(#REF!=#REF!,F$161,F$162))*#REF!*#REF!","v":{"$error":"#REF!"}},{"$f":"IF(#REF!=#REF!,G$160,IF(#REF!=#REF!,G$161,G$162))*#REF!*#REF!","v":{"$error":"#REF!"}},{"$f":"IF(#REF!=#REF!,H$160,IF(#REF!=#REF!,H$161,H$162))*#REF!*#REF!","v":{"$error":"#REF!"}},null,null,{"$f":"D180/'Charges Summary'!D$4","v":{"$error":"#REF!"}},{"$f":"E180/'Charges Summary'!E$4","v":{"$error":"#REF!"}},{"$f":"F180/'Charges Summary'!F$4","v":{"$error":"#REF!"}},{"$f":"G180/'Charges Summary'!G$4","v":{"$error":"#REF!"}},{"$f":"H180/'Charges Summary'!H$4","v":{"$error":"#REF!"}}]
[{"$f":"#REF!","v":{"$error":"#REF!"}},null,null,{"$f":"IF(#REF!=#REF!,D$160,IF(#REF!=#REF!,D$161,D$162))*#REF!*#REF!","v":{"$error":"#REF!"}},{"$f":"IF(#REF!=#REF!,E$160,IF(#REF!=#REF!,E$161,E$162))*#REF!*#REF!","v":{"$error":"#REF!"}},{"$f":"IF(#REF!=#REF!,F$160,IF(#REF!=#REF!,F$161,F$162))*#REF!*#REF!","v":{"$error":"#REF!"}},{"$f":"IF(#REF!=#REF!,G$160,IF(#REF!=#REF!,G$161,G$162))*#REF!*#REF!","v":{"$error":"#REF!"}},{"$f":"IF(#REF!=#REF!,H$160,IF(#REF!=#REF!,H$161,H$162))*#REF!*#REF!","v":{"$error":"#REF!"}},null,null,{"$f":"D181/'Charges Summary'!D$4","v":{"$error":"#REF!"}},{"$f":"E181/'Charges Summary'!E$4","v":{"$error":"#REF!"}},{"$f":"F181/'Charges Summary'!F$4","v":{"$error":"#REF!"}},{"$f":"G181/'Charges Summary'!G$4","v":{"$error":"#REF!"}},{"$f":"H181/'Charges Summary'!H$4","v":{"$error":"#REF!"}}]
[{"$f":"#REF!","v":{"$error":"#REF!"}},null,null,{"$f":"IF(#REF!=#REF!,D$160,IF(#REF!=#REF!,D$161,D$162))*#REF!*#REF!","v":{"$error":"#REF!"}},{"$f":"IF(#REF!=#REF!,E$160,IF(#REF!=#REF!,E$161,E$162))*#REF!*#REF!","v":{"$error":"#REF!"}},{"$f":"IF(#REF!=#REF!,F$160,IF(#REF!=#REF!,F$161,F$162))*#REF!*#REF!","v":{"$error":"#REF!"}},{"$f":"IF(#REF!=#REF!,G$160,IF(#REF!=#REF!,G$161,G$162))*#REF!*#REF!","v":{"$error":"#REF!"}},{"$f":"IF(#REF!=#REF!,H$160,IF(#REF!=#REF!,H$161,H$162))*#REF!*#REF!","v":{"$error":"#REF!"}},null,null,{"$f":"D182/'Charges Summary'!D$4","v":{"$error":"#REF!"}},{"$f":"E182/'Charges Summary'!E$4","v":{"$error":"#REF!"}},{"$f":"F182/'Charges Summary'!F$4","v":{"$error":"#REF!"}},{"$f":"G182/'Charges Summary'!G$4","v":{"$error":"#REF!"}},{"$f":"H182/'Charges Summary'!H$4","v":{"$error":"#REF!"}}]
[{"$f":"#REF!","v":{"$error":"#REF!"}},null,null,{"$f":"IF(#REF!=#REF!,D$160,IF(#REF!=#REF!,D$161,D$162))*#REF!*#REF!","v":{"$error":"#REF!"}},{"$f":"IF(#REF!=#REF!,E$160,IF(#REF!=#REF!,E$161,E$162))*#REF!*#REF!","v":{"$error":"#REF!"}},{"$f":"IF(#REF!=#REF!,F$160,IF(#REF!=#REF!,F$161,F$162))*#REF!*#REF!","v":{"$error":"#REF!"}},{"$f":"IF(#REF!=#REF!,G$160,IF(#REF!=#REF!,G$161,G$162))*#REF!*#REF!","v":{"$error":"#REF!"}},{"$f":"IF(#REF!=#REF!,H$160,IF(#REF!=#REF!,H$161,H$162))*#REF!*#REF!","v":{"$error":"#REF!"}},null,null,{"$f":"D183/'Charges Summary'!D$4","v":{"$error":"#REF!"}},{"$f":"E183/'Charges Summary'!E$4","v":{"$error":"#REF!"}},{"$f":"F183/'Charges Summary'!F$4","v":{"$error":"#REF!"}},{"$f":"G183/'Charges Summary'!G$4","v":{"$error":"#REF!"}},{"$f":"H183/'Charges Summary'!H$4","v":{"$error":"#REF!"}}]
[{"$f":"#REF!","v":{"$error":"#REF!"}},null,null,{"$f":"IF(#REF!=#REF!,D$160,IF(#REF!=#REF!,D$161,D$162))*#REF!*#REF!","v":{"$error":"#REF!"}},{"$f":"IF(#REF!=#REF!,E$160,IF(#REF!=#REF!,E$161,E$162))*#REF!*#REF!","v":{"$error":"#REF!"}},{"$f":"IF(#REF!=#REF!,F$160,IF(#REF!=#REF!,F$161,F$162))*#REF!*#REF!","v":{"$error":"#REF!"}},{"$f":"IF(#REF!=#REF!,G$160,IF(#REF!=#REF!,G$161,G$162))*#REF!*#REF!","v":{"$error":"#REF!"}},{"$f":"IF(#REF!=#REF!,H$160,IF(#REF!=#REF!,H$161,H$162))*#REF!*#REF!","v":{"$error":"#REF!"}},null,null,{"$f":"D184/'Charges Summary'!D$4","v":{"$error":"#REF!"}},{"$f":"E184/'Charges Summary'!E$4","v":{"$error":"#REF!"}},{"$f":"F184/'Charges Summary'!F$4","v":{"$error":"#REF!"}},{"$f":"G184/'Charges Summary'!G$4","v":{"$error":"#REF!"}},{"$f":"H184/'Charges Summary'!H$4","v":{"$error":"#REF!"}}]
[{"$f":"#REF!","v":{"$error":"#REF!"}},null,null,{"$f":"IF(#REF!=#REF!,D$160,IF(#REF!=#REF!,D$161,D$162))*#REF!*#REF!","v":{"$error":"#REF!"}},{"$f":"IF(#REF!=#REF!,E$160,IF(#REF!=#REF!,E$161,E$162))*#REF!*#REF!","v":{"$error":"#REF!"}},{"$f":"IF(#REF!=#REF!,F$160,IF(#REF!=#REF!,F$161,F$162))*#REF!*#REF!","v":{"$error":"#REF!"}},{"$f":"IF(#REF!=#REF!,G$160,IF(#REF!=#REF!,G$161,G$162))*#REF!*#REF!","v":{"$error":"#REF!"}},{"$f":"IF(#REF!=#REF!,H$160,IF(#REF!=#REF!,H$161,H$162))*#REF!*#REF!","v":{"$error":"#REF!"}},null,null,{"$f":"D185/'Charges Summary'!D$4","v":{"$error":"#REF!"}},{"$f":"E185/'Charges Summary'!E$4","v":{"$error":"#REF!"}},{"$f":"F185/'Charges Summary'!F$4","v":{"$error":"#REF!"}},{"$f":"G185/'Charges Summary'!G$4","v":{"$error":"#REF!"}},{"$f":"H185/'Charges Summary'!H$4","v":{"$error":"#REF!"}}]
[]
[]
[]
[]
[]
[]
[]
[]
[]
[]
[]
[{"$f":"#REF!","v":{"$error":"#REF!"}}]
[{"$f":"#REF!","v":{"$error":"#REF!"}},null,null,{"$f":"SUM('Charges Summary'!D85,'Charges Summary'!D11)*#REF!*#REF!","v":{"$error":"#REF!"}},{"$f":"SUM('Charges Summary'!E85,'Charges Summary'!E11)*#REF!*#REF!","v":{"$error":"#REF!"}},{"$f":"SUM('Charges Summary'!F85,'Charges Summary'!F11)*#REF!*#REF!","v":{"$error":"#REF!"}},{"$f":"SUM('Charges Summary'!G85,'Charges Summary'!G11)*#REF!*#REF!","v":{"$error":"#REF!"}},{"$f":"SUM('Charges Summary'!H85,'Charges Summary'!H11)*#REF!*#REF!","v":{"$error":"#REF!"}},null,null,{"$f":"D198/'Charges Summary'!D$4","v":{"$error":"#REF!"}},{"$f":"E198/'Charges Summary'!E$4","v":{"$error":"#REF!"}},{"$f":"F198/'Charges Summary'!F$4","v":{"$error":"#REF!"}},{"$f":"G198/'Charges Summary'!G$4","v":{"$error":"#REF!"}},{"$f":"H198/'Charges Summary'!H$4","v":{"$error":"#REF!"}}]
[{"$f":"#REF!","v":{"$error":"#REF!"}},null,null,{"$f":"SUM('Charges Summary'!D101,'Charges Summary'!D11)*#REF!*#REF!","v":{"$error":"#REF!"}},{"$f":"SUM('Charges Summary'!E101,'Charges Summary'!E11)*#REF!*#REF!","v":{"$error":"#REF!"}},{"$f":"SUM('Charges Summary'!F101,'Charges Summary'!F11)*#REF!*#REF!","v":{"$error":"#REF!"}},{"$f":"SUM('Charges Summary'!G101,'Charges Summary'!G11)*#REF!*#REF!","v":{"$error":"#REF!"}},{"$f":"SUM('Charges Summary'!H101,'Charges Summary'!H11)*#REF!*#REF!","v":{"$error":"#REF!"}},null,null,{"$f":"D199/'Charges Summary'!D$4","v":{"$error":"#REF!"}},{"$f":"E199/'Charges Summary'!E$4","v":{"$error":"#REF!"}},{"$f":"F199/'Charges Summary'!F$4","v":{"$error":"#REF!"}},{"$f":"G199/'Charges Summary'!G$4","v":{"$error":"#REF!"}},{"$f":"H199/'Charges Summary'!H$4","v":{"$error":"#REF!"}}]
[{"$f":"#REF!","v":{"$error":"#REF!"}},null,null,{"$f":"SUM('Charges Summary'!D117,'Charges Summary'!D11)*#REF!*#REF!","v":{"$error":"#REF!"}},{"$f":"SUM('Charges Summary'!E117,'Charges Summary'!E11)*#REF!*#REF!","v":{"$error":"#REF!"}},{"$f":"SUM('Charges Summary'!F117,'Charges Summary'!F11)*#REF!*#REF!","v":{"$error":"#REF!"}},{"$f":"SUM('Charges Summary'!G117,'Charges Summary'!G11)*#REF!*#REF!","v":{"$error":"#REF!"}},{"$f":"SUM('Charges Summary'!H117,'Charges Summary'!H11)*#REF!*#REF!","v":{"$error":"#REF!"}},null,null,{"$f":"D200/'Charges Summary'!D$4","v":{"$error":"#REF!"}},{"$f":"E200/'Charges Summary'!E$4","v":{"$error":"#REF!"}},{"$f":"F200/'Charges Summary'!F$4","v":{"$error":"#REF!"}},{"$f":"G200/'Charges Summary'!G$4","v":{"$error":"#REF!"}},{"$f":"H200/'Charges Summary'!H$4","v":{"$error":"#REF!"}}]
[{"$f":"#REF!","v":{"$error":"#REF!"}},null,null,{"$f":"SUM('Charges Summary'!D133,'Charges Summary'!D$11)*#REF!*#REF!","v":{"$error":"#REF!"}},{"$f":"SUM('Charges Summary'!E133,'Charges Summary'!E$11)*#REF!*#REF!","v":{"$error":"#REF!"}},{"$f":"SUM('Charges Summary'!F133,'Charges Summary'!F$11)*#REF!*#REF!","v":{"$error":"#REF!"}},{"$f":"SUM('Charges Summary'!G133,'Charges Summary'!G$11)*#REF!*#REF!","v":{"$error":"#REF!"}},{"$f":"SUM('Charges Summary'!H133,'Charges Summary'!H$11)*#REF!*#REF!","v":{"$error":"#REF!"}},null,null,{"$f":"D201/'Charges Summary'!D$4","v":{"$error":"#REF!"}},{"$f":"E201/'Charges Summary'!E$4","v":{"$error":"#REF!"}},{"$f":"F201/'Charges Summary'!F$4","v":{"$error":"#REF!"}},{"$f":"G201/'Charges Summary'!G$4","v":{"$error":"#REF!"}},{"$f":"H201/'Charges Summary'!H$4","v":{"$error":"#REF!"}}]
[{"$f":"#REF!","v":{"$error":"#REF!"}},null,null,{"$f":"SUM('Charges Summary'!D149,'Charges Summary'!D$11)*#REF!*#REF!","v":{"$error":"#REF!"}},{"$f":"SUM('Charges Summary'!E149,'Charges Summary'!E$11)*#REF!*#REF!","v":{"$error":"#REF!"}},{"$f":"SUM('Charges Summary'!F149,'Charges Summary'!F$11)*#REF!*#REF!","v":{"$error":"#REF!"}},{"$f":"SUM('Charges Summary'!G149,'Charges Summary'!G$11)*#REF!*#REF!","v":{"$error":"#REF!"}},{"$f":"SUM('Charges Summary'!H149,'Charges Summary'!H$11)*#REF!*#REF!","v":{"$error":"#REF!"}},null,null,{"$f":"D202/'Charges Summary'!D$4","v":{"$error":"#REF!"}},{"$f":"E202/'Charges Summary'!E$4","v":{"$error":"#REF!"}},{"$f":"F202/'Charges Summary'!F$4","v":{"$error":"#REF!"}},{"$f":"G202/'Charges Summary'!G$4","v":{"$error":"#REF!"}},{"$f":"H202/'Charges Summary'!H$4","v":{"$error":"#REF!"}}]
[{"$f":"#REF!","v":{"$error":"#REF!"}},null,null,{"$f":"SUM('Charges Summary'!D165,'Charges Summary'!D$11)*#REF!*#REF!","v":{"$error":"#REF!"}},{"$f":"SUM('Charges Summary'!E165,'Charges Summary'!E$11)*#REF!*#REF!","v":{"$error":"#REF!"}},{"$f":"SUM('Charges Summary'!F165,'Charges Summary'!F$11)*#REF!*#REF!","v":{"$error":"#REF!"}},{"$f":"SUM('Charges Summary'!G165,'Charges Summary'!G$11)*#REF!*#REF!","v":{"$error":"#REF!"}},{"$f":"SUM('Charges Summary'!H165,'Charges Summary'!H$11)*#REF!*#REF!","v":{"$error":"#REF!"}},null,null,{"$f":"D203/'Charges Summary'!D$4","v":{"$error":"#REF!"}},{"$f":"E203/'Charges Summary'!E$4","v":{"$error":"#REF!"}},{"$f":"F203/'Charges Summary'!F$4","v":{"$error":"#REF!"}},{"$f":"G203/'Charges Summary'!G$4","v":{"$error":"#REF!"}},{"$f":"H203/'Charges Summary'!H$4","v":{"$error":"#REF!"}}]
[{"$f":"#REF!","v":{"$error":"#REF!"}},null,null,{"$f":"SUM('Charges Summary'!D181,'Charges Summary'!D$11)*#REF!*#REF!","v":{"$error":"#REF!"}},{"$f":"SUM('Charges Summary'!E181,'Charges Summary'!E$11)*#REF!*#REF!","v":{"$error":"#REF!"}},{"$f":"SUM('Charges Summary'!F181,'Charges Summary'!F$11)*#REF!*#REF!","v":{"$error":"#REF!"}},{"$f":"SUM('Charges Summary'!G181,'Charges Summary'!G$11)*#REF!*#REF!","v":{"$error":"#REF!"}},{"$f":"SUM('Charges Summary'!H181,'Charges Summary'!H$11)*#REF!*#REF!","v":{"$error":"#REF!"}},null,null,{"$f":"D204/'Charges Summary'!D$4","v":{"$error":"#REF!"}},{"$f":"E204/'Charges Summary'!E$4","v":{"$error":"#REF!"}},{"$f":"F204/'Charges Summary'!F$4","v":{"$error":"#REF!"}},{"$f":"G204/'Charges Summary'!G$4","v":{"$error":"#REF!"}},{"$f":"H204/'Charges Summary'!H$4","v":{"$error":"#REF!"}}]
[{"$f":"#REF!","v":{"$error":"#REF!"}},null,null,{"$f":"IF(#REF!=#REF!,D$164,D$165)*#REF!*#REF!","v":{"$error":"#REF!"}},{"$f":"IF(#REF!=#REF!,E$164,E$165)*#REF!*#REF!","v":{"$error":"#REF!"}},{"$f":"IF(#REF!=#REF!,F$164,F$165)*#REF!*#REF!","v":{"$error":"#REF!"}},{"$f":"IF(#REF!=#REF!,G$164,G$165)*#REF!*#REF!","v":{"$error":"#REF!"}},{"$f":"IF(#REF!=#REF!,H$164,H$165)*#REF!*#REF!","v":{"$error":"#REF!"}},null,null,{"$f":"D205/'Charges Summary'!D$4","v":{"$error":"#REF!"}},{"$f":"E205/'Charges Summary'!E$4","v":{"$error":"#REF!"}},{"$f":"F205/'Charges Summary'!F$4","v":{"$error":"#REF!"}},{"$f":"G205/'Charges Summary'!G$4","v":{"$error":"#REF!"}},{"$f":"H205/'Charges Summary'!H$4","v":{"$error":"#REF!"}}]
[{"$f":"#REF!","v":{"$error":"#REF!"}},null,null,{"$f":"IF(#REF!=#REF!,D$164,D$165)*#REF!*#REF!","v":{"$error":"#REF!"}},{"$f":"IF(#REF!=#REF!,E$164,E$165)*#REF!*#REF!","v":{"$error":"#REF!"}},{"$f":"IF(#REF!=#REF!,F$164,F$165)*#REF!*#REF!","v":{"$error":"#REF!"}},{"$f":"IF(#REF!=#REF!,G$164,G$165)*#REF!*#REF!","v":{"$error":"#REF!"}},{"$f":"IF(#REF!=#REF!,H$164,H$165)*#REF!*#REF!","v":{"$error":"#REF!"}},null,null,{"$f":"D206/'Charges Summary'!D$4","v":{"$error":"#REF!"}},{"$f":"E206/'Charges Summary'!E$4","v":{"$error":"#REF!"}},{"$f":"F206/'Charges Summary'!F$4","v":{"$error":"#REF!"}},{"$f":"G206/'Charges Summary'!G$4","v":{"$error":"#REF!"}},{"$f":"H206/'Charges Summary'!H$4","v":{"$error":"#REF!"}}]
[{"$f":"#REF!","v":{"$error":"#REF!"}},null,null,{"$f":"SUM('Charges Summary'!D197,'Charges Summary'!D$11)*#REF!*#REF!","v":{"$error":"#REF!"}},{"$f":"SUM('Charges Summary'!E197,'Charges Summary'!E$11)*#REF!*#REF!","v":{"$error":"#REF!"}},{"$f":"SUM('Charges Summary'!F197,'Charges Summary'!F$11)*#REF!*#REF!","v":{"$error":"#REF!"}},{"$f":"SUM('Charges Summary'!G197,'Charges Summary'!G$11)*#REF!*#REF!","v":{"$error":"#REF!"}},{"$f":"SUM('Charges Summary'!H197,'Charges Summary'!H$11)*#REF!*#REF!","v":{"$error":"#REF!"}},null,null,{"$f":"D207/'Charges Summary'!D$4","v":{"$error":"#REF!"}},{"$f":"E207/'Charges Summary'!E$4","v":{"$error":"#REF!"}},{"$f":"F207/'Charges Summary'!F$4","v":{"$error":"#REF!"}},{"$f":"G207/'Charges Summary'!G$4","v":{"$error":"#REF!"}},{"$f":"H207/'Charges Summary'!H$4","v":{"$error":"#REF!"}}]
[{"$f":"#REF!","v":{"$error":"#REF!"}},null,null,{"$f":"SUM('Charges Summary'!D213,'Charges Summary'!D$11)*#REF!*#REF!","v":{"$error":"#REF!"}},{"$f":"SUM('Charges Summary'!E213,'Charges Summary'!E$11)*#REF!*#REF!","v":{"$error":"#REF!"}},{"$f":"SUM('Charges Summary'!F213,'Charges Summary'!F$11)*#REF!*#REF!","v":{"$error":"#REF!"}},{"$f":"SUM('Charges Summary'!G213,'Charges Summary'!G$11)*#REF!*#REF!","v":{"$error":"#REF!"}},{"$f":"SUM('Charges Summary'!H213,'Charges Summary'!H$11)*#REF!*#REF!","v":{"$error":"#REF!"}},null,null,{"$f":"D208/'Charges Summary'!D$4","v":{"$error":"#REF!"}},{"$f":"E208/'Charges Summary'!E$4","v":{"$error":"#REF!"}},{"$f":"F208/'Charges Summary'!F$4","v":{"$error":"#REF!"}},{"$f":"G208/'Charges Summary'!G$4","v":{"$error":"#REF!"}},{"$f":"H208/'Charges Summary'!H$4","v":{"$error":"#REF!"}}]
[{"$f":"#REF!","v":{"$error":"#REF!"}},null,null,{"$f":"SUM('Charges Summary'!D229,'Charges Summary'!D$11)*#REF!*#REF!","v":{"$error":"#REF!"}},{"$f":"SUM('Charges Summary'!E229,'Charges Summary'!E$11)*#REF!*#REF!","v":{"$error":"#REF!"}},{"$f":"SUM('Charges Summary'!F229,'Charges Summary'!F$11)*#REF!*#REF!","v":{"$error":"#REF!"}},{"$f":"SUM('Charges Summary'!G229,'Charges Summary'!G$11)*#REF!*#REF!","v":{"$error":"#REF!"}},{"$f":"SUM('Charges Summary'!H229,'Charges Summary'!H$11)*#REF!*#REF!","v":{"$error":"#REF!"}},null,null,{"$f":"D209/'Charges Summary'!D$4","v":{"$error":"#REF!"}},{"$f":"E209/'Charges Summary'!E$4","v":{"$error":"#REF!"}},{"$f":"F209/'Charges Summary'!F$4","v":{"$error":"#REF!"}},{"$f":"G209/'Charges Summary'!G$4","v":{"$error":"#REF!"}},{"$f":"H209/'Charges Summary'!H$4","v":{"$error":"#REF!"}}]
[]
["Total Capital Charge",null,null,{"$f":"SUM(D173:D209)","v":{"$error":"#REF!"}},{"$f":"SUM(E173:E209)","v":{"$error":"#REF!"}},{"$f":"SUM(F173:F209)","v":{"$error":"#REF!"}},{"$f":"SUM(G173:G209)","v":{"$error":"#REF!"}},{"$f":"SUM(H173:H209)","v":{"$error":"#REF!"}},null,null,{"$f":"SUM(K173:K209)","v":{"$error":"#REF!"}},{"$f":"SUM(L173:L209)","v":{"$error":"#REF!"}},{"$f":"SUM(M173:M209)","v":{"$error":"#REF!"}},{"$f":"SUM(N173:N209)","v":{"$error":"#REF!"}},{"$f":"SUM(O173:O209)","v":{"$error":"#REF!"}}]
[]
["Check",null,{"$f":"SUM(D213:O213)","v":{"$error":"#REF!"}},{"$f":"ABS(D95-SUM(D153,D211))","v":{"$error":"#REF!"}},{"$f":"ABS(E95-SUM(E153,E211))","v":{"$error":"#REF!"}},{"$f":"ABS(F95-SUM(F153,F211))","v":{"$error":"#REF!"}},{"$f":"ABS(G95-SUM(G153,G211))","v":{"$error":"#REF!"}},{"$f":"ABS(H95-SUM(H153,H211))","v":{"$error":"#REF!"}},null,null,{"$f":"ABS(K95-SUM(K153,K211))","v":{"$error":"#REF!"}},{"$f":"ABS(L95-SUM(L153,L211))","v":{"$error":"#REF!"}},{"$f":"ABS(M95-SUM(M153,M211))","v":{"$error":"#REF!"}},{"$f":"ABS(N95-SUM(N153,N211))","v":{"$error":"#REF!"}},{"$f":"ABS(O95-SUM(O153,O211))","v":{"$error":"#REF!"}}]
[]
[]
[]
[]
[{"$f":"#REF!","v":{"$error":"#REF!"}}]
["Public Lighting - Revenue",null,"Revenue - $Nominal ",null,null,null,null,null,null,"Revenue - $Real Jun 2026 "]
[null,null,{"$f":"C$2","v":"2026-06-30"},"2027-06-30","2028-06-30","2029-06-30","2030-06-30","2031-06-30",null,{"$f":"J$2","v":"2026-06-30"},"2027-06-30","2028-06-30","2029-06-30","2030-06-30","2031-06-30"]
[{"$f":"#REF!","v":{"$error":"#REF!"}}]
[{"$f":"#REF!","v":{"$error":"#REF!"}},null,{"$f":"IF('PL Tariffs'!C44=0,\"\",#REF!*'PL Tariffs'!C44)","v":{"$error":"#REF!"}},{"$f":"#REF!*'PL Tariffs'!D44","v":{"$error":"#REF!"}},{"$f":"#REF!*'PL Tariffs'!E44","v":{"$error":"#REF!"}},{"$f":"#REF!*'PL Tariffs'!F44","v":{"$error":"#REF!"}},{"$f":"#REF!*'PL Tariffs'!G44","v":{"$error":"#REF!"}},{"$f":"#REF!*'PL Tariffs'!H44","v":{"$error":"#REF!"}},null,{"$f":"C222","v":{"$error":"#REF!"}},{"$f":"D222/'Charges Summary'!K$4","v":{"$error":"#REF!"}},{"$f":"E222/'Charges Summary'!L$4","v":{"$error":"#REF!"}},{"$f":"F222/'Charges Summary'!M$4","v":{"$error":"#REF!"}},{"$f":"G222/'Charges Summary'!N$4","v":{"$error":"#REF!"}},{"$f":"H222/'Charges Summary'!O$4","v":{"$error":"#REF!"}}]
[{"$f":"#REF!","v":{"$error":"#REF!"}},null,{"$f":"IF('PL Tariffs'!C45=0,\"\",#REF!*'PL Tariffs'!C45)","v":{"$error":"#REF!"}},{"$f":"#REF!*'PL Tariffs'!D45","v":{"$error":"#REF!"}},{"$f":"#REF!*'PL Tariffs'!E45","v":{"$error":"#REF!"}},{"$f":"#REF!*'PL Tariffs'!F45","v":{"$error":"#REF!"}},{"$f":"#REF!*'PL Tariffs'!G45","v":{"$error":"#REF!"}},{"$f":"#REF!*'PL Tariffs'!H45","v":{"$error":"#REF!"}},null,{"$error":"#REF!"},{"$f":"D223/'Charges Summary'!K$4","v":{"$error":"#REF!"}},{"$f":"E223/'Charges Summary'!L$4","v":{"$error":"#REF!"}},{"$f":"F223/'Charges Summary'!M$4","v":{"$error":"#REF!"}},{"$f":"G223/'Charges Summary'!N$4","v":{"$error":"#REF!"}},{"$f":"H223/'Charges Summary'!O$4","v":{"$error":"#REF!"}}]
[{"$f":"#REF!","v":{"$error":"#REF!"}},null,{"$f":"IF('PL Tariffs'!C46=0,\"\",#REF!*'PL Tariffs'!C46)","v":{"$error":"#REF!"}},{"$f":"#REF!*'PL Tariffs'!D46","v":{"$error":"#REF!"}},{"$f":"#REF!*'PL Tariffs'!E46","v":{"$error":"#REF!"}},{"$f":"#REF!*'PL Tariffs'!F46","v":{"$error":"#REF!"}},{"$f":"#REF!*'PL Tariffs'!G46","v":{"$error":"#REF!"}},{"$f":"#REF!*'PL Tariffs'!H46","v":{"$error":"#REF!"}},null,{"$error":"#REF!"},{"$f":"D224/'Charges Summary'!K$4","v":{"$error":"#REF!"}},{"$f":"E224/'Charges Summary'!L$4","v":{"$error":"#REF!"}},{"$f":"F224/'Charges Summary'!M$4","v":{"$error":"#REF!"}},{"$f":"G224/'Charges Summary'!N$4","v":{"$error":"#REF!"}},{"$f":"H224/'Charges Summary'!O$4","v":{"$error":"#REF!"}}]
[{"$f":"#REF!","v":{"$error":"#REF!"}},null,{"$f":"IF('PL Tariffs'!C47=0,\"\",#REF!*'PL Tariffs'!C47)","v":{"$error":"#REF!"}},{"$f":"#REF!*'PL Tariffs'!D47","v":{"$error":"#REF!"}},{"$f":"#REF!*'PL Tariffs'!E47","v":{"$error":"#REF!"}},{"$f":"#REF!*'PL Tariffs'!F47","v":{"$error":"#REF!"}},{"$f":"#REF!*'PL Tariffs'!G47","v":{"$error":"#REF!"}},{"$f":"#REF!*'PL Tariffs'!H47","v":{"$error":"#REF!"}},null,{"$error":"#REF!"},{"$f":"D225/'Charges Summary'!K$4","v":{"$error":"#REF!"}},{"$f":"E225/'Charges Summary'!L$4","v":{"$error":"#REF!"}},{"$f":"F225/'Charges Summary'!M$4","v":{"$error":"#REF!"}},{"$f":"G225/'Charges Summary'!N$4","v":{"$error":"#REF!"}},{"$f":"H225/'Charges Summary'!O$4","v":{"$error":"#REF!"}}]
[{"$f":"#REF!","v":{"$error":"#REF!"}},null,{"$f":"IF('PL Tariffs'!C48=0,\"\",#REF!*'PL Tariffs'!C48)","v":{"$error":"#REF!"}},{"$f":"#REF!*'PL Tariffs'!D48","v":{"$error":"#REF!"}},{"$f":"#REF!*'PL Tariffs'!E48","v":{"$error":"#REF!"}},{"$f":"#REF!*'PL Tariffs'!F48","v":{"$error":"#REF!"}},{"$f":"#REF!*'PL Tariffs'!G48","v":{"$error":"#REF!"}},{"$f":"#REF!*'PL Tariffs'!H48","v":{"$error":"#REF!"}},null,{"$error":"#REF!"},{"$f":"D226/'Charges Summary'!K$4","v":{"$error":"#REF!"}},{"$f":"E226/'Charges Summary'!L$4","v":{"$error":"#REF!"}},{"$f":"F226/'Charges Summary'!M$4","v":{"$error":"#REF!"}},{"$f":"G226/'Charges Summary'!N$4","v":{"$error":"#REF!"}},{"$f":"H226/'Charges Summary'!O$4","v":{"$error":"#REF!"}}]
[{"$f":"#REF!","v":{"$error":"#REF!"}},null,{"$f":"IF('PL Tariffs'!C49=0,\"\",#REF!*'PL Tariffs'!C49)","v":{"$error":"#REF!"}},{"$f":"#REF!*'PL Tariffs'!D49","v":{"$error":"#REF!"}},{"$f":"#REF!*'PL Tariffs'!E49","v":{"$error":"#REF!"}},{"$f":"#REF!*'PL Tariffs'!F49","v":{"$error":"#REF!"}},{"$f":"#REF!*'PL Tariffs'!G49","v":{"$error":"#REF!"}},{"$f":"#REF!*'PL Tariffs'!H49","v":{"$error":"#REF!"}},null,{"$error":"#REF!"},{"$f":"D227/'Charges Summary'!K$4","v":{"$error":"#REF!"}},{"$f":"E227/'Charges Summary'!L$4","v":{"$error":"#REF!"}},{"$f":"F227/'Charges Summary'!M$4","v":{"$error":"#REF!"}},{"$f":"G227/'Charges Summary'!N$4","v":{"$error":"#REF!"}},{"$f":"H227/'Charges Summary'!O$4","v":{"$error":"#REF!"}}]
[{"$f":"#REF!","v":{"$error":"#REF!"}},null,{"$f":"IF('PL Tariffs'!C50=0,\"\",#REF!*'PL Tariffs'!C50)","v":{"$error":"#REF!"}},{"$f":"#REF!*'PL Tariffs'!D50","v":{"$error":"#REF!"}},{"$f":"#REF!*'PL Tariffs'!E50","v":{"$error":"#REF!"}},{"$f":"#REF!*'PL Tariffs'!F50","v":{"$error":"#REF!"}},{"$f":"#REF!*'PL Tariffs'!G50","v":{"$error":"#REF!"}},{"$f":"#REF!*'PL Tariffs'!H50","v":{"$error":"#REF!"}},null,{"$error":"#REF!"},{"$f":"D228/'Charges Summary'!K$4","v":{"$error":"#REF!"}},{"$f":"E228/'Charges Summary'!L$4","v":{"$error":"#REF!"}},{"$f":"F228/'Charges Summary'!M$4","v":{"$error":"#REF!"}},{"$f":"G228/'Charges Summary'!N$4","v":{"$error":"#REF!"}},{"$f":"H228/'Charges Summary'!O$4","v":{"$error":"#REF!"}}]
[{"$f":"#REF!","v":{"$error":"#REF!"}},null,{"$f":"IF('PL Tariffs'!C51=0,\"\",#REF!*'PL Tariffs'!C51)","v":{"$error":"#REF!"}},{"$f":"#REF!*'PL Tariffs'!D51","v":{"$error":"#REF!"}},{"$f":"#REF!*'PL Tariffs'!E51","v":{"$error":"#REF!"}},{"$f":"#REF!*'PL Tariffs'!F51","v":{"$error":"#REF!"}},{"$f":"#REF!*'PL Tariffs'!G51","v":{"$error":"#REF!"}},{"$f":"#REF!*'PL Tariffs'!H51","v":{"$error":"#REF!"}},null,{"$error":"#REF!"},{"$f":"D229/'Charges Summary'!K$4","v":{"$error":"#REF!"}},{"$f":"E229/'Charges Summary'!L$4","v":{"$error":"#REF!"}},{"$f":"F229/'Charges Summary'!M$4","v":{"$error":"#REF!"}},{"$f":"G229/'Charges Summary'!N$4","v":{"$error":"#REF!"}},{"$f":"H229/'Charges Summary'!O$4","v":{"$error":"#REF!"}}]
[{"$f":"#REF!","v":{"$error":"#REF!"}},null,{"$f":"IF('PL Tariffs'!C52=0,\"\",#REF!*'PL Tariffs'!C52)","v":{"$error":"#REF!"}},{"$f":"#REF!*'PL Tariffs'!D52","v":{"$error":"#REF!"}},{"$f":"#REF!*'PL Tariffs'!E52","v":{"$error":"#REF!"}},{"$f":"#REF!*'PL Tariffs'!F52","v":{"$error":"#REF!"}},{"$f":"#REF!*'PL Tariffs'!G52","v":{"$error":"#REF!"}},{"$f":"#REF!*'PL Tariffs'!H52","v":{"$error":"#REF!"}},null,{"$error":"#REF!"},{"$f":"D230/'Charges Summary'!K$4","v":{"$error":"#REF!"}},{"$f":"E230/'Charges Summary'!L$4","v":{"$error":"#REF!"}},{"$f":"F230/'Charges Summary'!M$4","v":{"$error":"#REF!"}},{"$f":"G230/'Charges Summary'!N$4","v":{"$error":"#REF!"}},{"$f":"H230/'Charges Summary'!O$4","v":{"$error":"#REF!"}}]
[{"$f":"#REF!","v":{"$error":"#REF!"}},null,{"$f":"IF('PL Tariffs'!C53=0,\"\",#REF!*'PL Tariffs'!C53)","v":{"$error":"#REF!"}},{"$f":"#REF!*'PL Tariffs'!D53","v":{"$error":"#REF!"}},{"$f":"#REF!*'PL Tariffs'!E53","v":{"$error":"#REF!"}},{"$f":"#REF!*'PL Tariffs'!F53","v":{"$error":"#REF!"}},{"$f":"#REF!*'PL Tariffs'!G53","v":{"$error":"#REF!"}},{"$f":"#REF!*'PL Tariffs'!H53","v":{"$error":"#REF!"}},null,{"$f":"C231","v":{"$error":"#REF!"}},{"$f":"D231/'Charges Summary'!K$4","v":{"$error":"#REF!"}},{"$f":"E231/'Charges Summary'!L$4","v":{"$error":"#REF!"}},{"$f":"F231/'Charges Summary'!M$4","v":{"$error":"#REF!"}},{"$f":"G231/'Charges Summary'!N$4","v":{"$error":"#REF!"}},{"$f":"H231/'Charges Summary'!O$4","v":{"$error":"#REF!"}}]
[{"$f":"#REF!","v":{"$error":"#REF!"}},null,{"$f":"IF('PL Tariffs'!C54=0,\"\",#REF!*'PL Tariffs'!C54)","v":{"$error":"#REF!"}},{"$f":"#REF!*'PL Tariffs'!D54","v":{"$error":"#REF!"}},{"$f":"#REF!*'PL Tariffs'!E54","v":{"$error":"#REF!"}},{"$f":"#REF!*'PL Tariffs'!F54","v":{"$error":"#REF!"}},{"$f":"#REF!*'PL Tariffs'!G54","v":{"$error":"#REF!"}},{"$f":"#REF!*'PL Tariffs'!H54","v":{"$error":"#REF!"}},null,{"$f":"C232","v":{"$error":"#REF!"}},{"$f":"D232/'Charges Summary'!K$4","v":{"$error":"#REF!"}},{"$f":"E232/'Charges Summary'!L$4","v":{"$error":"#REF!"}},{"$f":"F232/'Charges Summary'!M$4","v":{"$error":"#REF!"}},{"$f":"G232/'Charges Summary'!N$4","v":{"$error":"#REF!"}},{"$f":"H232/'Charges Summary'!O$4","v":{"$error":"#REF!"}}]
[{"$f":"#REF!","v":{"$error":"#REF!"}},null,{"$f":"IF('PL Tariffs'!C55=0,\"\",#REF!*'PL Tariffs'!C55)","v":{"$error":"#REF!"}},{"$f":"#REF!*'PL Tariffs'!D55","v":{"$error":"#REF!"}},{"$f":"#REF!*'PL Tariffs'!E55","v":{"$error":"#REF!"}},{"$f":"#REF!*'PL Tariffs'!F55","v":{"$error":"#REF!"}},{"$f":"#REF!*'PL Tariffs'!G55","v":{"$error":"#REF!"}},{"$f":"#REF!*'PL Tariffs'!H55","v":{"$error":"#REF!"}},null,{"$f":"C233","v":{"$error":"#REF!"}},{"$f":"D233/'Charges Summary'!K$4","v":{"$error":"#REF!"}},{"$f":"E233/'Charges Summary'!L$4","v":{"$error":"#REF!"}},{"$f":"F233/'Charges Summary'!M$4","v":{"$error":"#REF!"}},{"$f":"G233/'Charges Summary'!N$4","v":{"$error":"#REF!"}},{"$f":"H233/'Charges Summary'!O$4","v":{"$error":"#REF!"}}]
[{"$f":"#REF!","v":{"$error":"#REF!"}},null,{"$f":"IF('PL Tariffs'!C56=0,\"\",#REF!*'PL Tariffs'!C56)","v":{"$error":"#REF!"}},{"$f":"#REF!*'PL Tariffs'!D56","v":{"$error":"#REF!"}},{"$f":"#REF!*'PL Tariffs'!E56","v":{"$error":"#REF!"}},{"$f":"#REF!*'PL Tariffs'!F56","v":{"$error":"#REF!"}},{"$f":"#REF!*'PL Tariffs'!G56","v":{"$error":"#REF!"}},{"$f":"#REF!*'PL Tariffs'!H56","v":{"$error":"#REF!"}},null,{"$f":"C234","v":{"$error":"#REF!"}},{"$f":"D234/'Charges Summary'!K$4","v":{"$error":"#REF!"}},{"$f":"E234/'Charges Summary'!L$4","v":{"$error":"#REF!"}},{"$f":"F234/'Charges Summary'!M$4","v":{"$error":"#REF!"}},{"$f":"G234/'Charges Summary'!N$4","v":{"$error":"#REF!"}},{"$f":"H234/'Charges Summary'!O$4","v":{"$error":"#REF!"}}]
[]
[]
[]
[]
[]
[]
[]
[]
[]
[]
[]
[{"$f":"#REF!","v":{"$error":"#REF!"}}]
[{"$f":"#REF!","v":{"$error":"#REF!"}},null,{"$f":"IF('PL Tariffs'!C60=0,\"\",#REF!*'PL Tariffs'!C60)","v":{"$error":"#REF!"}},{"$f":"#REF!*'PL Tariffs'!D60","v":{"$error":"#REF!"}},{"$f":"#REF!*'PL Tariffs'!E60","v":{"$error":"#REF!"}},{"$f":"#REF!*'PL Tariffs'!F60","v":{"$error":"#REF!"}},{"$f":"#REF!*'PL Tariffs'!G60","v":{"$error":"#REF!"}},{"$f":"#REF!*'PL Tariffs'!H60","v":{"$error":"#REF!"}},null,{"$f":"C247","v":{"$error":"#REF!"}},{"$f":"D247/'Charges Summary'!K$4","v":{"$error":"#REF!"}},{"$f":"E247/'Charges Summary'!L$4","v":{"$error":"#REF!"}},{"$f":"F247/'Charges Summary'!M$4","v":{"$error":"#REF!"}},{"$f":"G247/'Charges Summary'!N$4","v":{"$error":"#REF!"}},{"$f":"H247/'Charges Summary'!O$4","v":{"$error":"#REF!"}}]
[{"$f":"#REF!","v":{"$error":"#REF!"}},null,{"$f":"IF('PL Tariffs'!C61=0,\"\",#REF!*'PL Tariffs'!C61)","v":{"$error":"#REF!"}},{"$f":"#REF!*'PL Tariffs'!D61","v":{"$error":"#REF!"}},{"$f":"#REF!*'PL Tariffs'!E61","v":{"$error":"#REF!"}},{"$f":"#REF!*'PL Tariffs'!F61","v":{"$error":"#REF!"}},{"$f":"#REF!*'PL Tariffs'!G61","v":{"$error":"#REF!"}},{"$f":"#REF!*'PL Tariffs'!H61","v":{"$error":"#REF!"}},null,{"$f":"C248","v":{"$error":"#REF!"}},{"$f":"D248/'Charges Summary'!K$4","v":{"$error":"#REF!"}},{"$f":"E248/'Charges Summary'!L$4","v":{"$error":"#REF!"}},{"$f":"F248/'Charges Summary'!M$4","v":{"$error":"#REF!"}},{"$f":"G248/'Charges Summary'!N$4","v":{"$error":"#REF!"}},{"$f":"H248/'Charges Summary'!O$4","v":{"$error":"#REF!"}}]
[{"$f":"#REF!","v":{"$error":"#REF!"}},null,{"$f":"IF('PL Tariffs'!C62=0,\"\",#REF!*'PL Tariffs'!C62)","v":{"$error":"#REF!"}},{"$f":"#REF!*'PL Tariffs'!D62","v":{"$error":"#REF!"}},{"$f":"#REF!*'PL Tariffs'!E62","v":{"$error":"#REF!"}},{"$f":"#REF!*'PL Tariffs'!F62","v":{"$error":"#REF!"}},{"$f":"#REF!*'PL Tariffs'!G62","v":{"$error":"#REF!"}},{"$f":"#REF!*'PL Tariffs'!H62","v":{"$error":"#REF!"}},null,{"$f":"C249","v":{"$error":"#REF!"}},{"$f":"D249/'Charges Summary'!K$4","v":{"$error":"#REF!"}},{"$f":"E249/'Charges Summary'!L$4","v":{"$error":"#REF!"}},{"$f":"F249/'Charges Summary'!M$4","v":{"$error":"#REF!"}},{"$f":"G249/'Charges Summary'!N$4","v":{"$error":"#REF!"}},{"$f":"H249/'Charges Summary'!O$4","v":{"$error":"#REF!"}}]
[{"$f":"#REF!","v":{"$error":"#REF!"}},null,{"$f":"IF('PL Tariffs'!C63=0,\"\",#REF!*'PL Tariffs'!C63)","v":{"$error":"#REF!"}},{"$f":"#REF!*'PL Tariffs'!D63","v":{"$error":"#REF!"}},{"$f":"#REF!*'PL Tariffs'!E63","v":{"$error":"#REF!"}},{"$f":"#REF!*'PL Tariffs'!F63","v":{"$error":"#REF!"}},{"$f":"#REF!*'PL Tariffs'!G63","v":{"$error":"#REF!"}},{"$f":"#REF!*'PL Tariffs'!H63","v":{"$error":"#REF!"}},null,{"$f":"C250","v":{"$error":"#REF!"}},{"$f":"D250/'Charges Summary'!K$4","v":{"$error":"#REF!"}},{"$f":"E250/'Charges Summary'!L$4","v":{"$error":"#REF!"}},{"$f":"F250/'Charges Summary'!M$4","v":{"$error":"#REF!"}},{"$f":"G250/'Charges Summary'!N$4","v":{"$error":"#REF!"}},{"$f":"H250/'Charges Summary'!O$4","v":{"$error":"#REF!"}}]
[{"$f":"#REF!","v":{"$error":"#REF!"}},null,{"$f":"IF('PL Tariffs'!C64=0,\"\",#REF!*'PL Tariffs'!C64)","v":{"$error":"#REF!"}},{"$f":"#REF!*'PL Tariffs'!D64","v":{"$error":"#REF!"}},{"$f":"#REF!*'PL Tariffs'!E64","v":{"$error":"#REF!"}},{"$f":"#REF!*'PL Tariffs'!F64","v":{"$error":"#REF!"}},{"$f":"#REF!*'PL Tariffs'!G64","v":{"$error":"#REF!"}},{"$f":"#REF!*'PL Tariffs'!H64","v":{"$error":"#REF!"}},null,{"$f":"C251","v":{"$error":"#REF!"}},{"$f":"D251/'Charges Summary'!K$4","v":{"$error":"#REF!"}},{"$f":"E251/'Charges Summary'!L$4","v":{"$error":"#REF!"}},{"$f":"F251/'Charges Summary'!M$4","v":{"$error":"#REF!"}},{"$f":"G251/'Charges Summary'!N$4","v":{"$error":"#REF!"}},{"$f":"H251/'Charges Summary'!O$4","v":{"$error":"#REF!"}}]
[{"$f":"#REF!","v":{"$error":"#REF!"}},null,{"$f":"IF('PL Tariffs'!C65=0,\"\",#REF!*'PL Tariffs'!C65)","v":{"$error":"#REF!"}},{"$f":"#REF!*'PL Tariffs'!D65","v":{"$error":"#REF!"}},{"$f":"#REF!*'PL Tariffs'!E65","v":{"$error":"#REF!"}},{"$f":"#REF!*'PL Tariffs'!F65","v":{"$error":"#REF!"}},{"$f":"#REF!*'PL Tariffs'!G65","v":{"$error":"#REF!"}},{"$f":"#REF!*'PL Tariffs'!H65","v":{"$error":"#REF!"}},null,{"$f":"C252","v":{"$error":"#REF!"}},{"$f":"D252/'Charges Summary'!K$4","v":{"$error":"#REF!"}},{"$f":"E252/'Charges Summary'!L$4","v":{"$error":"#REF!"}},{"$f":"F252/'Charges Summary'!M$4","v":{"$error":"#REF!"}},{"$f":"G252/'Charges Summary'!N$4","v":{"$error":"#REF!"}},{"$f":"H252/'Charges Summary'!O$4","v":{"$error":"#REF!"}}]
[{"$f":"#REF!","v":{"$error":"#REF!"}},null,{"$f":"IF('PL Tariffs'!C66=0,\"\",#REF!*'PL Tariffs'!C66)","v":{"$error":"#REF!"}},{"$f":"#REF!*'PL Tariffs'!D66","v":{"$error":"#REF!"}},{"$f":"#REF!*'PL Tariffs'!E66","v":{"$error":"#REF!"}},{"$f":"#REF!*'PL Tariffs'!F66","v":{"$error":"#REF!"}},{"$f":"#REF!*'PL Tariffs'!G66","v":{"$error":"#REF!"}},{"$f":"#REF!*'PL Tariffs'!H66","v":{"$error":"#REF!"}},null,{"$f":"C253","v":{"$error":"#REF!"}},{"$f":"D253/'Charges Summary'!K$4","v":{"$error":"#REF!"}},{"$f":"E253/'Charges Summary'!L$4","v":{"$error":"#REF!"}},{"$f":"F253/'Charges Summary'!M$4","v":{"$error":"#REF!"}},{"$f":"G253/'Charges Summary'!N$4","v":{"$error":"#REF!"}},{"$f":"H253/'Charges Summary'!O$4","v":{"$error":"#REF!"}}]
[{"$f":"#REF!","v":{"$error":"#REF!"}},null,{"$f":"IF('PL Tariffs'!C67=0,\"\",#REF!*'PL Tariffs'!C67)","v":{"$error":"#REF!"}},{"$f":"#REF!*'PL Tariffs'!D67","v":{"$error":"#REF!"}},{"$f":"#REF!*'PL Tariffs'!E67","v":{"$error":"#REF!"}},{"$f":"#REF!*'PL Tariffs'!F67","v":{"$error":"#REF!"}},{"$f":"#REF!*'PL Tariffs'!G67","v":{"$error":"#REF!"}},{"$f":"#REF!*'PL Tariffs'!H67","v":{"$error":"#REF!"}},null,{"$error":"#REF!"},{"$f":"D254/'Charges Summary'!K$4","v":{"$error":"#REF!"}},{"$f":"E254/'Charges Summary'!L$4","v":{"$error":"#REF!"}},{"$f":"F254/'Charges Summary'!M$4","v":{"$error":"#REF!"}},{"$f":"G254/'Charges Summary'!N$4","v":{"$error":"#REF!"}},{"$f":"H254/'Charges Summary'!O$4","v":{"$error":"#REF!"}}]
[{"$f":"#REF!","v":{"$error":"#REF!"}},null,{"$f":"IF('PL Tariffs'!C68=0,\"\",#REF!*'PL Tariffs'!C68)","v":{"$error":"#REF!"}},{"$f":"#REF!*'PL Tariffs'!D68","v":{"$error":"#REF!"}},{"$f":"#REF!*'PL Tariffs'!E68","v":{"$error":"#REF!"}},{"$f":"#REF!*'PL Tariffs'!F68","v":{"$error":"#REF!"}},{"$f":"#REF!*'PL Tariffs'!G68","v":{"$error":"#REF!"}},{"$f":"#REF!*'PL Tariffs'!H68","v":{"$error":"#REF!"}},null,{"$error":"#REF!"},{"$f":"D255/'Charges Summary'!K$4","v":{"$error":"#REF!"}},{"$f":"E255/'Charges Summary'!L$4","v":{"$error":"#REF!"}},{"$f":"F255/'Charges Summary'!M$4","v":{"$error":"#REF!"}},{"$f":"G255/'Charges Summary'!N$4","v":{"$error":"#REF!"}},{"$f":"H255/'Charges Summary'!O$4","v":{"$error":"#REF!"}}]
[{"$f":"#REF!","v":{"$error":"#REF!"}},null,{"$f":"IF('PL Tariffs'!C69=0,\"\",#REF!*'PL Tariffs'!C69)","v":{"$error":"#REF!"}},{"$f":"#REF!*'PL Tariffs'!D69","v":{"$error":"#REF!"}},{"$f":"#REF!*'PL Tariffs'!E69","v":{"$error":"#REF!"}},{"$f":"#REF!*'PL Tariffs'!F69","v":{"$error":"#REF!"}},{"$f":"#REF!*'PL Tariffs'!G69","v":{"$error":"#REF!"}},{"$f":"#REF!*'PL Tariffs'!H69","v":{"$error":"#REF!"}},null,{"$f":"C256","v":{"$error":"#REF!"}},{"$f":"D256/'Charges Summary'!K$4","v":{"$error":"#REF!"}},{"$f":"E256/'Charges Summary'!L$4","v":{"$error":"#REF!"}},{"$f":"F256/'Charges Summary'!M$4","v":{"$error":"#REF!"}},{"$f":"G256/'Charges Summary'!N$4","v":{"$error":"#REF!"}},{"$f":"H256/'Charges Summary'!O$4","v":{"$error":"#REF!"}}]
[{"$f":"#REF!","v":{"$error":"#REF!"}},null,{"$f":"IF('PL Tariffs'!C70=0,\"\",#REF!*'PL Tariffs'!C70)","v":{"$error":"#REF!"}},{"$f":"#REF!*'PL Tariffs'!D70","v":{"$error":"#REF!"}},{"$f":"#REF!*'PL Tariffs'!E70","v":{"$error":"#REF!"}},{"$f":"#REF!*'PL Tariffs'!F70","v":{"$error":"#REF!"}},{"$f":"#REF!*'PL Tariffs'!G70","v":{"$error":"#REF!"}},{"$f":"#REF!*'PL Tariffs'!H70","v":{"$error":"#REF!"}},null,{"$f":"C257","v":{"$error":"#REF!"}},{"$f":"D257/'Charges Summary'!K$4","v":{"$error":"#REF!"}},{"$f":"E257/'Charges Summary'!L$4","v":{"$error":"#REF!"}},{"$f":"F257/'Charges Summary'!M$4","v":{"$error":"#REF!"}},{"$f":"G257/'Charges Summary'!N$4","v":{"$error":"#REF!"}},{"$f":"H257/'Charges Summary'!O$4","v":{"$error":"#REF!"}}]
[{"$f":"#REF!","v":{"$error":"#REF!"}},null,{"$f":"IF('PL Tariffs'!C71=0,\"\",#REF!*'PL Tariffs'!C71)","v":{"$error":"#REF!"}},{"$f":"#REF!*'PL Tariffs'!D71","v":{"$error":"#REF!"}},{"$f":"#REF!*'PL Tariffs'!E71","v":{"$error":"#REF!"}},{"$f":"#REF!*'PL Tariffs'!F71","v":{"$error":"#REF!"}},{"$f":"#REF!*'PL Tariffs'!G71","v":{"$error":"#REF!"}},{"$f":"#REF!*'PL Tariffs'!H71","v":{"$error":"#REF!"}},null,{"$f":"C258","v":{"$error":"#REF!"}},{"$f":"D258/'Charges Summary'!K$4","v":{"$error":"#REF!"}},{"$f":"E258/'Charges Summary'!L$4","v":{"$error":"#REF!"}},{"$f":"F258/'Charges Summary'!M$4","v":{"$error":"#REF!"}},{"$f":"G258/'Charges Summary'!N$4","v":{"$error":"#REF!"}},{"$f":"H258/'Charges Summary'!O$4","v":{"$error":"#REF!"}}]
[]
["Total Revenue",null,{"$f":"IF(SUM(C222:C258)=0,0,SUM(C222:C258))","v":{"$error":"#REF!"}},{"$error":"#REF!"},{"$error":"#REF!"},{"$error":"#REF!"},{"$error":"#REF!"},{"$error":"#REF!"},null,{"$f":"IF(SUM(J222:J258)=0,0,SUM(J222:J258))","v":{"$error":"#REF!"}},{"$error":"#REF!"},{"$error":"#REF!"},{"$error":"#REF!"},{"$error":"#REF!"},{"$error":"#REF!"}]
[]
[]
["Public Lighting - O & M",null,null,"Forecast O & M - $Nominal ",null,null,null,null,null,null,"Forecast O & M - $Real Jun 2026 "]
[null,null,null,{"$f":"D$2","v":"2027-06-30"},{"$f":"E$2","v":"2028-06-30"},{"$f":"F$2","v":"2029-06-30"},{"$f":"G$2","v":"2030-06-30"},{"$f":"H$2","v":"2031-06-30"},null,null,{"$f":"K$2","v":"2027-06-30"},{"$f":"L$2","v":"2028-06-30"},{"$f":"M$2","v":"2029-06-30"},{"$f":"N$2","v":"2030-06-30"},{"$f":"O$2","v":"2031-06-30"}]
[]
["Unit cost"]
[{"$f":"#REF!","v":{"$error":"#REF!"}},null,null,{"$f":"SUM('Charges Summary'!K25,'Charges Summary'!K8)","v":{"$error":"#REF!"}},{"$f":"SUM('Charges Summary'!L25,'Charges Summary'!L8)","v":{"$error":"#REF!"}},{"$f":"SUM('Charges Summary'!M25,'Charges Summary'!M8)","v":{"$error":"#REF!"}},{"$f":"SUM('Charges Summary'!N25,'Charges Summary'!N8)","v":{"$error":"#REF!"}},{"$f":"SUM('Charges Summary'!O25,'Charges Summary'!O8)","v":{"$error":"#REF!"}},null,null,{"$f":"D267/'Charges Summary'!K$4","v":{"$error":"#REF!"}},{"$f":"E267/'Charges Summary'!L$4","v":{"$error":"#REF!"}},{"$f":"F267/'Charges Summary'!M$4","v":{"$error":"#REF!"}},{"$f":"G267/'Charges Summary'!N$4","v":{"$error":"#REF!"}},{"$f":"H267/'Charges Summary'!O$4","v":{"$error":"#REF!"}}]
[{"$f":"#REF!","v":{"$error":"#REF!"}},null,null,{"$f":"SUM('Charges Summary'!K49,'Charges Summary'!K8)","v":{"$error":"#REF!"}},{"$f":"SUM('Charges Summary'!L49,'Charges Summary'!L8)","v":{"$error":"#REF!"}},{"$f":"SUM('Charges Summary'!M49,'Charges Summary'!M8)","v":{"$error":"#REF!"}},{"$f":"SUM('Charges Summary'!N49,'Charges Summary'!N8)","v":{"$error":"#REF!"}},{"$f":"SUM('Charges Summary'!O49,'Charges Summary'!O8)","v":{"$error":"#REF!"}},null,null,{"$f":"D268/'Charges Summary'!K$4","v":{"$error":"#REF!"}},{"$f":"E268/'Charges Summary'!L$4","v":{"$error":"#REF!"}},{"$f":"F268/'Charges Summary'!M$4","v":{"$error":"#REF!"}},{"$f":"G268/'Charges Summary'!N$4","v":{"$error":"#REF!"}},{"$f":"H268/'Charges Summary'!O$4","v":{"$error":"#REF!"}}]
[{"$f":"#REF!","v":{"$error":"#REF!"}},null,null,{"$f":"SUM('Charges Summary'!K65,'Charges Summary'!K8)","v":{"$error":"#REF!"}},{"$f":"SUM('Charges Summary'!L65,'Charges Summary'!L8)","v":{"$error":"#REF!"}},{"$f":"SUM('Charges Summary'!M65,'Charges Summary'!M8)","v":{"$error":"#REF!"}},{"$f":"SUM('Charges Summary'!N65,'Charges Summary'!N8)","v":{"$error":"#REF!"}},{"$f":"SUM('Charges Summary'!O65,'Charges Summary'!O8)","v":{"$error":"#REF!"}},null,null,{"$f":"D269/'Charges Summary'!K$4","v":{"$error":"#REF!"}},{"$f":"E269/'Charges Summary'!L$4","v":{"$error":"#REF!"}},{"$f":"F269/'Charges Summary'!M$4","v":{"$error":"#REF!"}},{"$f":"G269/'Charges Summary'!N$4","v":{"$error":"#REF!"}},{"$f":"H269/'Charges Summary'!O$4","v":{"$error":"#REF!"}}]
[]
[{"$f":"#REF!","v":{"$error":"#REF!"}},null,null,{"$f":"SUM('Charges Summary'!K83,'Charges Summary'!K8)","v":{"$error":"#REF!"}},{"$f":"SUM('Charges Summary'!L83,'Charges Summary'!L8)","v":{"$error":"#REF!"}},{"$f":"SUM('Charges Summary'!M83,'Charges Summary'!M8)","v":{"$error":"#REF!"}},{"$f":"SUM('Charges Summary'!N83,'Charges Summary'!N8)","v":{"$error":"#REF!"}},{"$f":"SUM('Charges Summary'!O83,'Charges Summary'!O8)","v":{"$error":"#REF!"}},null,null,{"$f":"D271/'Charges Summary'!K$4","v":{"$error":"#REF!"}},{"$f":"E271/'Charges Summary'!L$4","v":{"$error":"#REF!"}},{"$f":"F271/'Charges Summary'!M$4","v":{"$error":"#REF!"}},{"$f":"G271/'Charges Summary'!N$4","v":{"$error":"#REF!"}},{"$f":"H271/'Charges Summary'!O$4","v":{"$error":"#REF!"}}]
[{"$f":"#REF!","v":{"$error":"#REF!"}},null,null,{"$f":"SUM('Charges Summary'!K99,'Charges Summary'!K8)","v":{"$error":"#REF!"}},{"$f":"SUM('Charges Summary'!L99,'Charges Summary'!L8)","v":{"$error":"#REF!"}},{"$f":"SUM('Charges Summary'!M99,'Charges Summary'!M8)","v":{"$error":"#REF!"}},{"$f":"SUM('Charges Summary'!N99,'Charges Summary'!N8)","v":{"$error":"#REF!"}},{"$f":"SUM('Charges Summary'!O99,'Charges Summary'!O8)","v":{"$error":"#REF!"}},null,null,{"$f":"D272/'Charges Summary'!K$4","v":{"$error":"#REF!"}},{"$f":"E272/'Charges Summary'!L$4","v":{"$error":"#REF!"}},{"$f":"F272/'Charges Summary'!M$4","v":{"$error":"#REF!"}},{"$f":"G272/'Charges Summary'!N$4","v":{"$error":"#REF!"}},{"$f":"H272/'Charges Summary'!O$4","v":{"$error":"#REF!"}}]
[{"$f":"#REF!","v":{"$error":"#REF!"}},null,null,{"$f":"SUM('Charges Summary'!K115,'Charges Summary'!K8)","v":{"$error":"#REF!"}},{"$f":"SUM('Charges Summary'!L115,'Charges Summary'!L8)","v":{"$error":"#REF!"}},{"$f":"SUM('Charges Summary'!M115,'Charges Summary'!M8)","v":{"$error":"#REF!"}},{"$f":"SUM('Charges Summary'!N115,'Charges Summary'!N8)","v":{"$error":"#REF!"}},{"$f":"SUM('Charges Summary'!O115,'Charges Summary'!O8)","v":{"$error":"#REF!"}},null,null,{"$f":"D273/'Charges Summary'!K$4","v":{"$error":"#REF!"}},{"$f":"E273/'Charges Summary'!L$4","v":{"$error":"#REF!"}},{"$f":"F273/'Charges Summary'!M$4","v":{"$error":"#REF!"}},{"$f":"G273/'Charges Summary'!N$4","v":{"$error":"#REF!"}},{"$f":"H273/'Charges Summary'!O$4","v":{"$error":"#REF!"}}]
[{"$f":"#REF!","v":{"$error":"#REF!"}},null,null,{"$f":"SUM('Charges Summary'!K131,'Charges Summary'!K$8)","v":{"$error":"#REF!"}},{"$f":"SUM('Charges Summary'!L131,'Charges Summary'!L$8)","v":{"$error":"#REF!"}},{"$f":"SUM('Charges Summary'!M131,'Charges Summary'!M$8)","v":{"$error":"#REF!"}},{"$f":"SUM('Charges Summary'!N131,'Charges Summary'!N$8)","v":{"$error":"#REF!"}},{"$f":"SUM('Charges Summary'!O131,'Charges Summary'!O$8)","v":{"$error":"#REF!"}},null,null,{"$f":"D274/'Charges Summary'!K$4","v":{"$error":"#REF!"}},{"$f":"E274/'Charges Summary'!L$4","v":{"$error":"#REF!"}},{"$f":"F274/'Charges Summary'!M$4","v":{"$error":"#REF!"}},{"$f":"G274/'Charges Summary'!N$4","v":{"$error":"#REF!"}},{"$f":"H274/'Charges Summary'!O$4","v":{"$error":"#REF!"}}]
[{"$f":"#REF!","v":{"$error":"#REF!"}},null,null,{"$f":"SUM('Charges Summary'!K147,'Charges Summary'!K$8)","v":{"$error":"#REF!"}},{"$f":"SUM('Charges Summary'!L147,'Charges Summary'!L$8)","v":{"$error":"#REF!"}},{"$f":"SUM('Charges Summary'!M147,'Charges Summary'!M$8)","v":{"$error":"#REF!"}},{"$f":"SUM('Charges Summary'!N147,'Charges Summary'!N$8)","v":{"$error":"#REF!"}},{"$f":"SUM('Charges Summary'!O147,'Charges Summary'!O$8)","v":{"$error":"#REF!"}},null,null,{"$f":"D275/'Charges Summary'!K$4","v":{"$error":"#REF!"}},{"$f":"E275/'Charges Summary'!L$4","v":{"$error":"#REF!"}},{"$f":"F275/'Charges Summary'!M$4","v":{"$error":"#REF!"}},{"$f":"G275/'Charges Summary'!N$4","v":{"$error":"#REF!"}},{"$f":"H275/'Charges Summary'!O$4","v":{"$error":"#REF!"}}]
[{"$f":"#REF!","v":{"$error":"#REF!"}},null,null,{"$f":"SUM('Charges Summary'!K163,'Charges Summary'!K$8)","v":{"$error":"#REF!"}},{"$f":"SUM('Charges Summary'!L163,'Charges Summary'!L$8)","v":{"$error":"#REF!"}},{"$f":"SUM('Charges Summary'!M163,'Charges Summary'!M$8)","v":{"$error":"#REF!"}},{"$f":"SUM('Charges Summary'!N163,'Charges Summary'!N$8)","v":{"$error":"#REF!"}},{"$f":"SUM('Charges Summary'!O163,'Charges Summary'!O$8)","v":{"$error":"#REF!"}},null,null,{"$f":"D276/'Charges Summary'!K$4","v":{"$error":"#REF!"}},{"$f":"E276/'Charges Summary'!L$4","v":{"$error":"#REF!"}},{"$f":"F276/'Charges Summary'!M$4","v":{"$error":"#REF!"}},{"$f":"G276/'Charges Summary'!N$4","v":{"$error":"#REF!"}},{"$f":"H276/'Charges Summary'!O$4","v":{"$error":"#REF!"}}]
[{"$f":"#REF!","v":{"$error":"#REF!"}},null,null,{"$f":"SUM('Charges Summary'!K179,'Charges Summary'!K$8)","v":{"$error":"#REF!"}},{"$f":"SUM('Charges Summary'!L179,'Charges Summary'!L$8)","v":{"$error":"#REF!"}},{"$f":"SUM('Charges Summary'!M179,'Charges Summary'!M$8)","v":{"$error":"#REF!"}},{"$f":"SUM('Charges Summary'!N179,'Charges Summary'!N$8)","v":{"$error":"#REF!"}},{"$f":"SUM('Charges Summary'!O179,'Charges Summary'!O$8)","v":{"$error":"#REF!"}},null,null,{"$f":"D277/'Charges Summary'!K$4","v":{"$error":"#REF!"}},{"$f":"E277/'Charges Summary'!L$4","v":{"$error":"#REF!"}},{"$f":"F277/'Charges Summary'!M$4","v":{"$error":"#REF!"}},{"$f":"G277/'Charges Summary'!N$4","v":{"$error":"#REF!"}},{"$f":"H277/'Charges Summary'!O$4","v":{"$error":"#REF!"}}]
[]
[{"$f":"#REF!","v":{"$error":"#REF!"}}]
[{"$f":"#REF!","v":{"$error":"#REF!"}},null,null,{"$f":"D267*#REF!","v":{"$error":"#REF!"}},{"$f":"E267*#REF!","v":{"$error":"#REF!"}},{"$f":"F267*#REF!","v":{"$error":"#REF!"}},{"$f":"G267*#REF!","v":{"$error":"#REF!"}},{"$f":"H267*#REF!","v":{"$error":"#REF!"}},null,null,{"$f":"D280/'Charges Summary'!K$4","v":{"$error":"#REF!"}},{"$f":"E280/'Charges Summary'!L$4","v":{"$error":"#REF!"}},{"$f":"F280/'Charges Summary'!M$4","v":{"$error":"#REF!"}},{"$f":"G280/'Charges Summary'!N$4","v":{"$error":"#REF!"}},{"$f":"H280/'Charges Summary'!O$4","v":{"$error":"#REF!"}}]
[{"$f":"#REF!","v":{"$error":"#REF!"}},null,null,{"$f":"D268*#REF!","v":{"$error":"#REF!"}},{"$f":"E268*#REF!","v":{"$error":"#REF!"}},{"$f":"F268*#REF!","v":{"$error":"#REF!"}},{"$f":"G268*#REF!","v":{"$error":"#REF!"}},{"$f":"H268*#REF!","v":{"$error":"#REF!"}},null,null,{"$f":"D281/'Charges Summary'!K$4","v":{"$error":"#REF!"}},{"$f":"E281/'Charges Summary'!L$4","v":{"$error":"#REF!"}},{"$f":"F281/'Charges Summary'!M$4","v":{"$error":"#REF!"}},{"$f":"G281/'Charges Summary'!N$4","v":{"$error":"#REF!"}},{"$f":"H281/'Charges Summary'!O$4","v":{"$error":"#REF!"}}]
[{"$f":"#REF!","v":{"$error":"#REF!"}},null,null,{"$f":"D269*#REF!","v":{"$error":"#REF!"}},{"$f":"E269*#REF!","v":{"$error":"#REF!"}},{"$f":"F269*#REF!","v":{"$error":"#REF!"}},{"$f":"G269*#REF!","v":{"$error":"#REF!"}},{"$f":"H269*#REF!","v":{"$error":"#REF!"}},null,null,{"$f":"D282/'Charges Summary'!K$4","v":{"$error":"#REF!"}},{"$f":"E282/'Charges Summary'!L$4","v":{"$error":"#REF!"}},{"$f":"F282/'Charges Summary'!M$4","v":{"$error":"#REF!"}},{"$f":"G282/'Charges Summary'!N$4","v":{"$error":"#REF!"}},{"$f":"H282/'Charges Summary'!O$4","v":{"$error":"#REF!"}}]
[{"$f":"#REF!","v":{"$error":"#REF!"}},null,null,{"$f":"IF(#REF!=#REF!,D$267,IF(#REF!=#REF!,D$268,D$269))*#REF!*#REF!","v":{"$error":"#REF!"}},{"$f":"IF(#REF!=#REF!,E$267,IF(#REF!=#REF!,E$268,E$269))*#REF!*#REF!","v":{"$error":"#REF!"}},{"$f":"IF(#REF!=#REF!,F$267,IF(#REF!=#REF!,F$268,F$269))*#REF!*#REF!","v":{"$error":"#REF!"}},{"$f":"IF(#REF!=#REF!,G$267,IF(#REF!=#REF!,G$268,G$269))*#REF!*#REF!","v":{"$error":"#REF!"}},{"$f":"IF(#REF!=#REF!,H$267,IF(#REF!=#REF!,H$268,H$269))*#REF!*#REF!","v":{"$error":"#REF!"}},null,null,{"$f":"D283/'Charges Summary'!K$4","v":{"$error":"#REF!"}},{"$f":"E283/'Charges Summary'!L$4","v":{"$error":"#REF!"}},{"$f":"F283/'Charges Summary'!M$4","v":{"$error":"#REF!"}},{"$f":"G283/'Charges Summary'!N$4","v":{"$error":"#REF!"}},{"$f":"H283/'Charges Summary'!O$4","v":{"$error":"#REF!"}}]
[{"$f":"#REF!","v":{"$error":"#REF!"}},null,null,{"$f":"IF(#REF!=#REF!,D$267,IF(#REF!=#REF!,D$268,D$269))*#REF!*#REF!","v":{"$error":"#REF!"}},{"$f":"IF(#REF!=#REF!,E$267,IF(#REF!=#REF!,E$268,E$269))*#REF!*#REF!","v":{"$error":"#REF!"}},{"$f":"IF(#REF!=#REF!,F$267,IF(#REF!=#REF!,F$268,F$269))*#REF!*#REF!","v":{"$error":"#REF!"}},{"$f":"IF(#REF!=#REF!,G$267,IF(#REF!=#REF!,G$268,G$269))*#REF!*#REF!","v":{"$error":"#REF!"}},{"$f":"IF(#REF!=#REF!,H$267,IF(#REF!=#REF!,H$268,H$269))*#REF!*#REF!","v":{"$error":"#REF!"}},null,null,{"$f":"D284/'Charges Summary'!K$4","v":{"$error":"#REF!"}},{"$f":"E284/'Charges Summary'!L$4","v":{"$error":"#REF!"}},{"$f":"F284/'Charges Summary'!M$4","v":{"$error":"#REF!"}},{"$f":"G284/'Charges Summary'!N$4","v":{"$error":"#REF!"}},{"$f":"H284/'Charges Summary'!O$4","v":{"$error":"#REF!"}}]
[{"$f":"#REF!","v":{"$error":"#REF!"}},null,null,{"$f":"IF(#REF!=#REF!,D$267,IF(#REF!=#REF!,D$268,D$269))*#REF!*#REF!","v":{"$error":"#REF!"}},{"$f":"IF(#REF!=#REF!,E$267,IF(#REF!=#REF!,E$268,E$269))*#REF!*#REF!","v":{"$error":"#REF!"}},{"$f":"IF(#REF!=#REF!,F$267,IF(#REF!=#REF!,F$268,F$269))*#REF!*#REF!","v":{"$error":"#REF!"}},{"$f":"IF(#REF!=#REF!,G$267,IF(#REF!=#REF!,G$268,G$269))*#REF!*#REF!","v":{"$error":"#REF!"}},{"$f":"IF(#REF!=#REF!,H$267,IF(#REF!=#REF!,H$268,H$269))*#REF!*#REF!","v":{"$error":"#REF!"}},null,null,{"$f":"D285/'Charges Summary'!K$4","v":{"$error":"#REF!"}},{"$f":"E285/'Charges Summary'!L$4","v":{"$error":"#REF!"}},{"$f":"F285/'Charges Summary'!M$4","v":{"$error":"#REF!"}},{"$f":"G285/'Charges Summary'!N$4","v":{"$error":"#REF!"}},{"$f":"H285/'Charges Summary'!O$4","v":{"$error":"#REF!"}}]
[{"$f":"#REF!","v":{"$error":"#REF!"}},null,null,{"$f":"IF(#REF!=#REF!,D$267,IF(#REF!=#REF!,D$268,D$269))*#REF!*#REF!","v":{"$error":"#REF!"}},{"$f":"IF(#REF!=#REF!,E$267,IF(#REF!=#REF!,E$268,E$269))*#REF!*#REF!","v":{"$error":"#REF!"}},{"$f":"IF(#REF!=#REF!,F$267,IF(#REF!=#REF!,F$268,F$269))*#REF!*#REF!","v":{"$error":"#REF!"}},{"$f":"IF(#REF!=#REF!,G$267,IF(#REF!=#REF!,G$268,G$269))*#REF!*#REF!","v":{"$error":"#REF!"}},{"$f":"IF(#REF!=#REF!,H$267,IF(#REF!=#REF!,H$268,H$269))*#REF!*#REF!","v":{"$error":"#REF!"}},null,null,{"$f":"D286/'Charges Summary'!K$4","v":{"$error":"#REF!"}},{"$f":"E286/'Charges Summary'!L$4","v":{"$error":"#REF!"}},{"$f":"F286/'Charges Summary'!M$4","v":{"$error":"#REF!"}},{"$f":"G286/'Charges Summary'!N$4","v":{"$error":"#REF!"}},{"$f":"H286/'Charges Summary'!O$4","v":{"$error":"#REF!"}}]
[{"$f":"#REF!","v":{"$error":"#REF!"}},null,null,{"$f":"IF(#REF!=#REF!,D$267,IF(#REF!=#REF!,D$268,D$269))*#REF!*#REF!","v":{"$error":"#REF!"}},{"$f":"IF(#REF!=#REF!,E$267,IF(#REF!=#REF!,E$268,E$269))*#REF!*#REF!","v":{"$error":"#REF!"}},{"$f":"IF(#REF!=#REF!,F$267,IF(#REF!=#REF!,F$268,F$269))*#REF!*#REF!","v":{"$error":"#REF!"}},{"$f":"IF(#REF!=#REF!,G$267,IF(#REF!=#REF!,G$268,G$269))*#REF!*#REF!","v":{"$error":"#REF!"}},{"$f":"IF(#REF!=#REF!,H$267,IF(#REF!=#REF!,H$268,H$269))*#REF!*#REF!","v":{"$error":"#REF!"}},null,null,{"$f":"D287/'Charges Summary'!K$4","v":{"$error":"#REF!"}},{"$f":"E287/'Charges Summary'!L$4","v":{"$error":"#REF!"}},{"$f":"F287/'Charges Summary'!M$4","v":{"$error":"#REF!"}},{"$f":"G287/'Charges Summary'!N$4","v":{"$error":"#REF!"}},{"$f":"H287/'Charges Summary'!O$4","v":{"$error":"#REF!"}}]
[{"$f":"#REF!","v":{"$error":"#REF!"}},null,null,{"$f":"IF(#REF!=#REF!,D$267,IF(#REF!=#REF!,D$268,D$269))*#REF!*#REF!","v":{"$error":"#REF!"}},{"$f":"IF(#REF!=#REF!,E$267,IF(#REF!=#REF!,E$268,E$269))*#REF!*#REF!","v":{"$error":"#REF!"}},{"$f":"IF(#REF!=#REF!,F$267,IF(#REF!=#REF!,F$268,F$269))*#REF!*#REF!","v":{"$error":"#REF!"}},{"$f":"IF(#REF!=#REF!,G$267,IF(#REF!=#REF!,G$268,G$269))*#REF!*#REF!","v":{"$error":"#REF!"}},{"$f":"IF(#REF!=#REF!,H$267,IF(#REF!=#REF!,H$268,H$269))*#REF!*#REF!","v":{"$error":"#REF!"}},null,null,{"$f":"D288/'Charges Summary'!K$4","v":{"$error":"#REF!"}},{"$f":"E288/'Charges Summary'!L$4","v":{"$error":"#REF!"}},{"$f":"F288/'Charges Summary'!M$4","v":{"$error":"#REF!"}},{"$f":"G288/'Charges Summary'!N$4","v":{"$error":"#REF!"}},{"$f":"H288/'Charges Summary'!O$4","v":{"$error":"#REF!"}}]
[{"$f":"#REF!","v":{"$error":"#REF!"}},null,null,{"$f":"IF(#REF!=#REF!,D$267,IF(#REF!=#REF!,D$268,D$269))*#REF!*#REF!","v":{"$error":"#REF!"}},{"$f":"IF(#REF!=#REF!,E$267,IF(#REF!=#REF!,E$268,E$269))*#REF!*#REF!","v":{"$error":"#REF!"}},{"$f":"IF(#REF!=#REF!,F$267,IF(#REF!=#REF!,F$268,F$269))*#REF!*#REF!","v":{"$error":"#REF!"}},{"$f":"IF(#REF!=#REF!,G$267,IF(#REF!=#REF!,G$268,G$269))*#REF!*#REF!","v":{"$error":"#REF!"}},{"$f":"IF(#REF!=#REF!,H$267,IF(#REF!=#REF!,H$268,H$269))*#REF!*#REF!","v":{"$error":"#REF!"}},null,null,{"$f":"D289/'Charges Summary'!K$4","v":{"$error":"#REF!"}},{"$f":"E289/'Charges Summary'!L$4","v":{"$error":"#REF!"}},{"$f":"F289/'Charges Summary'!M$4","v":{"$error":"#REF!"}},{"$f":"G289/'Charges Summary'!N$4","v":{"$error":"#REF!"}},{"$f":"H289/'Charges Summary'!O$4","v":{"$error":"#REF!"}}]
[{"$f":"#REF!","v":{"$error":"#REF!"}},null,null,{"$f":"IF(#REF!=#REF!,D$267,IF(#REF!=#REF!,D$268,D$269))*#REF!*#REF!","v":{"$error":"#REF!"}},{"$f":"IF(#REF!=#REF!,E$267,IF(#REF!=#REF!,E$268,E$269))*#REF!*#REF!","v":{"$error":"#REF!"}},{"$f":"IF(#REF!=#REF!,F$267,IF(#REF!=#REF!,F$268,F$269))*#REF!*#REF!","v":{"$error":"#REF!"}},{"$f":"IF(#REF!=#REF!,G$267,IF(#REF!=#REF!,G$268,G$269))*#REF!*#REF!","v":{"$error":"#REF!"}},{"$f":"IF(#REF!=#REF!,H$267,IF(#REF!=#REF!,H$268,H$269))*#REF!*#REF!","v":{"$error":"#REF!"}},null,null,{"$f":"D290/'Charges Summary'!K$4","v":{"$error":"#REF!"}},{"$f":"E290/'Charges Summary'!L$4","v":{"$error":"#REF!"}},{"$f":"F290/'Charges Summary'!M$4","v":{"$error":"#REF!"}},{"$f":"G290/'Charges Summary'!N$4","v":{"$error":"#REF!"}},{"$f":"H290/'Charges Summary'!O$4","v":{"$error":"#REF!"}}]
[{"$f":"#REF!","v":{"$error":"#REF!"}},null,null,{"$f":"IF(#REF!=#REF!,D$267,IF(#REF!=#REF!,D$268,D$269))*#REF!*#REF!","v":{"$error":"#REF!"}},{"$f":"IF(#REF!=#REF!,E$267,IF(#REF!=#REF!,E$268,E$269))*#REF!*#REF!","v":{"$error":"#REF!"}},{"$f":"IF(#REF!=#REF!,F$267,IF(#REF!=#REF!,F$268,F$269))*#REF!*#REF!","v":{"$error":"#REF!"}},{"$f":"IF(#REF!=#REF!,G$267,IF(#REF!=#REF!,G$268,G$269))*#REF!*#REF!","v":{"$error":"#REF!"}},{"$f":"IF(#REF!=#REF!,H$267,IF(#REF!=#REF!,H$268,H$269))*#REF!*#REF!","v":{"$error":"#REF!"}},null,null,{"$f":"D291/'Charges Summary'!K$4","v":{"$error":"#REF!"}},{"$f":"E291/'Charges Summary'!L$4","v":{"$error":"#REF!"}},{"$f":"F291/'Charges Summary'!M$4","v":{"$error":"#REF!"}},{"$f":"G291/'Charges Summary'!N$4","v":{"$error":"#REF!"}},{"$f":"H291/'Charges Summary'!O$4","v":{"$error":"#REF!"}}]
[{"$f":"#REF!","v":{"$error":"#REF!"}},null,null,{"$f":"IF(#REF!=#REF!,D$267,IF(#REF!=#REF!,D$268,D$269))*#REF!*#REF!","v":{"$error":"#REF!"}},{"$f":"IF(#REF!=#REF!,E$267,IF(#REF!=#REF!,E$268,E$269))*#REF!*#REF!","v":{"$error":"#REF!"}},{"$f":"IF(#REF!=#REF!,F$267,IF(#REF!=#REF!,F$268,F$269))*#REF!*#REF!","v":{"$error":"#REF!"}},{"$f":"IF(#REF!=#REF!,G$267,IF(#REF!=#REF!,G$268,G$269))*#REF!*#REF!","v":{"$error":"#REF!"}},{"$f":"IF(#REF!=#REF!,H$267,IF(#REF!=#REF!,H$268,H$269))*#REF!*#REF!","v":{"$error":"#REF!"}},null,null,{"$f":"D292/'Charges Summary'!K$4","v":{"$error":"#REF!"}},{"$f":"E292/'Charges Summary'!L$4","v":{"$error":"#REF!"}},{"$f":"F292/'Charges Summary'!M$4","v":{"$error":"#REF!"}},{"$f":"G292/'Charges Summary'!N$4","v":{"$error":"#REF!"}},{"$f":"H292/'Charges Summary'!O$4","v":{"$error":"#REF!"}}]
[]
[]
[]
[]
[]
[]
[]
[]
[]
[]
[]
[{"$f":"#REF!","v":{"$error":"#REF!"}}]
[{"$f":"#REF!","v":{"$error":"#REF!"}},null,null,{"$f":"SUM('Charges Summary'!K83,'Charges Summary'!K8)*#REF!*#REF!","v":{"$error":"#REF!"}},{"$f":"SUM('Charges Summary'!L83,'Charges Summary'!L8)*#REF!*#REF!","v":{"$error":"#REF!"}},{"$f":"SUM('Charges Summary'!M83,'Charges Summary'!M8)*#REF!*#REF!","v":{"$error":"#REF!"}},{"$f":"SUM('Charges Summary'!N83,'Charges Summary'!N8)*#REF!*#REF!","v":{"$error":"#REF!"}},{"$f":"SUM('Charges Summary'!O83,'Charges Summary'!O8)*#REF!*#REF!","v":{"$error":"#REF!"}},null,null,{"$f":"D305/'Charges Summary'!K$4","v":{"$error":"#REF!"}},{"$f":"E305/'Charges Summary'!L$4","v":{"$error":"#REF!"}},{"$f":"F305/'Charges Summary'!M$4","v":{"$error":"#REF!"}},{"$f":"G305/'Charges Summary'!N$4","v":{"$error":"#REF!"}},{"$f":"H305/'Charges Summary'!O$4","v":{"$error":"#REF!"}}]
[{"$f":"#REF!","v":{"$error":"#REF!"}},null,null,{"$f":"SUM('Charges Summary'!K99,'Charges Summary'!K8)*#REF!*#REF!","v":{"$error":"#REF!"}},{"$f":"SUM('Charges Summary'!L99,'Charges Summary'!L8)*#REF!*#REF!","v":{"$error":"#REF!"}},{"$f":"SUM('Charges Summary'!M99,'Charges Summary'!M8)*#REF!*#REF!","v":{"$error":"#REF!"}},{"$f":"SUM('Charges Summary'!N99,'Charges Summary'!N8)*#REF!*#REF!","v":{"$error":"#REF!"}},{"$f":"SUM('Charges Summary'!O99,'Charges Summary'!O8)*#REF!*#REF!","v":{"$error":"#REF!"}},null,null,{"$f":"D306/'Charges Summary'!K$4","v":{"$error":"#REF!"}},{"$f":"E306/'Charges Summary'!L$4","v":{"$error":"#REF!"}},{"$f":"F306/'Charges Summary'!M$4","v":{"$error":"#REF!"}},{"$f":"G306/'Charges Summary'!N$4","v":{"$error":"#REF!"}},{"$f":"H306/'Charges Summary'!O$4","v":{"$error":"#REF!"}}]
[{"$f":"#REF!","v":{"$error":"#REF!"}},null,null,{"$f":"SUM('Charges Summary'!K115,'Charges Summary'!K8)*#REF!*#REF!","v":{"$error":"#REF!"}},{"$f":"SUM('Charges Summary'!L115,'Charges Summary'!L8)*#REF!*#REF!","v":{"$error":"#REF!"}},{"$f":"SUM('Charges Summary'!M115,'Charges Summary'!M8)*#REF!*#REF!","v":{"$error":"#REF!"}},{"$f":"SUM('Charges Summary'!N115,'Charges Summary'!N8)*#REF!*#REF!","v":{"$error":"#REF!"}},{"$f":"SUM('Charges Summary'!O115,'Charges Summary'!O8)*#REF!*#REF!","v":{"$error":"#REF!"}},null,null,{"$f":"D307/'Charges Summary'!K$4","v":{"$error":"#REF!"}},{"$f":"E307/'Charges Summary'!L$4","v":{"$error":"#REF!"}},{"$f":"F307/'Charges Summary'!M$4","v":{"$error":"#REF!"}},{"$f":"G307/'Charges Summary'!N$4","v":{"$error":"#REF!"}},{"$f":"H307/'Charges Summary'!O$4","v":{"$error":"#REF!"}}]
[{"$f":"#REF!","v":{"$error":"#REF!"}},null,null,{"$f":"SUM('Charges Summary'!K131,'Charges Summary'!K$8)*#REF!*#REF!","v":{"$error":"#REF!"}},{"$f":"SUM('Charges Summary'!L131,'Charges Summary'!L$8)*#REF!*#REF!","v":{"$error":"#REF!"}},{"$f":"SUM('Charges Summary'!M131,'Charges Summary'!M$8)*#REF!*#REF!","v":{"$error":"#REF!"}},{"$f":"SUM('Charges Summary'!N131,'Charges Summary'!N$8)*#REF!*#REF!","v":{"$error":"#REF!"}},{"$f":"SUM('Charges Summary'!O131,'Charges Summary'!O$8)*#REF!*#REF!","v":{"$error":"#REF!"}},null,null,{"$f":"D308/'Charges Summary'!K$4","v":{"$error":"#REF!"}},{"$f":"E308/'Charges Summary'!L$4","v":{"$error":"#REF!"}},{"$f":"F308/'Charges Summary'!M$4","v":{"$error":"#REF!"}},{"$f":"G308/'Charges Summary'!N$4","v":{"$error":"#REF!"}},{"$f":"H308/'Charges Summary'!O$4","v":{"$error":"#REF!"}}]
[{"$f":"#REF!","v":{"$error":"#REF!"}},null,null,{"$f":"SUM('Charges Summary'!K147,'Charges Summary'!K$8)*#REF!*#REF!","v":{"$error":"#REF!"}},{"$f":"SUM('Charges Summary'!L147,'Charges Summary'!L$8)*#REF!*#REF!","v":{"$error":"#REF!"}},{"$f":"SUM('Charges Summary'!M147,'Charges Summary'!M$8)*#REF!*#REF!","v":{"$error":"#REF!"}},{"$f":"SUM('Charges Summary'!N147,'Charges Summary'!N$8)*#REF!*#REF!","v":{"$error":"#REF!"}},{"$f":"SUM('Charges Summary'!O147,'Charges Summary'!O$8)*#REF!*#REF!","v":{"$error":"#REF!"}},null,null,{"$f":"D309/'Charges Summary'!K$4","v":{"$error":"#REF!"}},{"$f":"E309/'Charges Summary'!L$4","v":{"$error":"#REF!"}},{"$f":"F309/'Charges Summary'!M$4","v":{"$error":"#REF!"}},{"$f":"G309/'Charges Summary'!N$4","v":{"$error":"#REF!"}},{"$f":"H309/'Charges Summary'!O$4","v":{"$error":"#REF!"}}]
[{"$f":"#REF!","v":{"$error":"#REF!"}},null,null,{"$f":"SUM('Charges Summary'!K163,'Charges Summary'!K$8)*#REF!*#REF!","v":{"$error":"#REF!"}},{"$f":"SUM('Charges Summary'!L163,'Charges Summary'!L$8)*#REF!*#REF!","v":{"$error":"#REF!"}},{"$f":"SUM('Charges Summary'!M163,'Charges Summary'!M$8)*#REF!*#REF!","v":{"$error":"#REF!"}},{"$f":"SUM('Charges Summary'!N163,'Charges Summary'!N$8)*#REF!*#REF!","v":{"$error":"#REF!"}},{"$f":"SUM('Charges Summary'!O163,'Charges Summary'!O$8)*#REF!*#REF!","v":{"$error":"#REF!"}},null,null,{"$f":"D310/'Charges Summary'!K$4","v":{"$error":"#REF!"}},{"$f":"E310/'Charges Summary'!L$4","v":{"$error":"#REF!"}},{"$f":"F310/'Charges Summary'!M$4","v":{"$error":"#REF!"}},{"$f":"G310/'Charges Summary'!N$4","v":{"$error":"#REF!"}},{"$f":"H310/'Charges Summary'!O$4","v":{"$error":"#REF!"}}]
[{"$f":"#REF!","v":{"$error":"#REF!"}},null,null,{"$f":"SUM('Charges Summary'!K179,'Charges Summary'!K$8)*#REF!*#REF!","v":{"$error":"#REF!"}},{"$f":"SUM('Charges Summary'!L179,'Charges Summary'!L$8)*#REF!*#REF!","v":{"$error":"#REF!"}},{"$f":"SUM('Charges Summary'!M179,'Charges Summary'!M$8)*#REF!*#REF!","v":{"$error":"#REF!"}},{"$f":"SUM('Charges Summary'!N179,'Charges Summary'!N$8)*#REF!*#REF!","v":{"$error":"#REF!"}},{"$f":"SUM('Charges Summary'!O179,'Charges Summary'!O$8)*#REF!*#REF!","v":{"$error":"#REF!"}},null,null,{"$f":"D311/'Charges Summary'!K$4","v":{"$error":"#REF!"}},{"$f":"E311/'Charges Summary'!L$4","v":{"$error":"#REF!"}},{"$f":"F311/'Charges Summary'!M$4","v":{"$error":"#REF!"}},{"$f":"G311/'Charges Summary'!N$4","v":{"$error":"#REF!"}},{"$f":"H311/'Charges Summary'!O$4","v":{"$error":"#REF!"}}]
[{"$f":"#REF!","v":{"$error":"#REF!"}},null,null,{"$f":"IF(#REF!=#REF!,D$271,D$272)*#REF!*#REF!","v":{"$error":"#REF!"}},{"$f":"IF(#REF!=#REF!,E$271,E$272)*#REF!*#REF!","v":{"$error":"#REF!"}},{"$f":"IF(#REF!=#REF!,F$271,F$272)*#REF!*#REF!","v":{"$error":"#REF!"}},{"$f":"IF(#REF!=#REF!,G$271,G$272)*#REF!*#REF!","v":{"$error":"#REF!"}},{"$f":"IF(#REF!=#REF!,H$271,H$272)*#REF!*#REF!","v":{"$error":"#REF!"}},null,null,{"$f":"D312/'Charges Summary'!K$4","v":{"$error":"#REF!"}},{"$f":"E312/'Charges Summary'!L$4","v":{"$error":"#REF!"}},{"$f":"F312/'Charges Summary'!M$4","v":{"$error":"#REF!"}},{"$f":"G312/'Charges Summary'!N$4","v":{"$error":"#REF!"}},{"$f":"H312/'Charges Summary'!O$4","v":{"$error":"#REF!"}}]
[{"$f":"#REF!","v":{"$error":"#REF!"}},null,null,{"$f":"IF(#REF!=#REF!,D$271,D$272)*#REF!*#REF!","v":{"$error":"#REF!"}},{"$f":"IF(#REF!=#REF!,E$271,E$272)*#REF!*#REF!","v":{"$error":"#REF!"}},{"$f":"IF(#REF!=#REF!,F$271,F$272)*#REF!*#REF!","v":{"$error":"#REF!"}},{"$f":"IF(#REF!=#REF!,G$271,G$272)*#REF!*#REF!","v":{"$error":"#REF!"}},{"$f":"IF(#REF!=#REF!,H$271,H$272)*#REF!*#REF!","v":{"$error":"#REF!"}},null,null,{"$f":"D313/'Charges Summary'!K$4","v":{"$error":"#REF!"}},{"$f":"E313/'Charges Summary'!L$4","v":{"$error":"#REF!"}},{"$f":"F313/'Charges Summary'!M$4","v":{"$error":"#REF!"}},{"$f":"G313/'Charges Summary'!N$4","v":{"$error":"#REF!"}},{"$f":"H313/'Charges Summary'!O$4","v":{"$error":"#REF!"}}]
[{"$f":"#REF!","v":{"$error":"#REF!"}},null,null,{"$f":"SUM('Charges Summary'!K195,'Charges Summary'!K$8)*#REF!*#REF!","v":{"$error":"#REF!"}},{"$f":"SUM('Charges Summary'!L195,'Charges Summary'!L$8)*#REF!*#REF!","v":{"$error":"#REF!"}},{"$f":"SUM('Charges Summary'!M195,'Charges Summary'!M$8)*#REF!*#REF!","v":{"$error":"#REF!"}},{"$f":"SUM('Charges Summary'!N195,'Charges Summary'!N$8)*#REF!*#REF!","v":{"$error":"#REF!"}},{"$f":"SUM('Charges Summary'!O195,'Charges Summary'!O$8)*#REF!*#REF!","v":{"$error":"#REF!"}},null,null,{"$f":"D314/'Charges Summary'!K$4","v":{"$error":"#REF!"}},{"$f":"E314/'Charges Summary'!L$4","v":{"$error":"#REF!"}},{"$f":"F314/'Charges Summary'!M$4","v":{"$error":"#REF!"}},{"$f":"G314/'Charges Summary'!N$4","v":{"$error":"#REF!"}},{"$f":"H314/'Charges Summary'!O$4","v":{"$error":"#REF!"}}]
[{"$f":"#REF!","v":{"$error":"#REF!"}},null,null,{"$f":"SUM('Charges Summary'!K211,'Charges Summary'!K$8)*#REF!*#REF!","v":{"$error":"#REF!"}},{"$f":"SUM('Charges Summary'!L211,'Charges Summary'!L$8)*#REF!*#REF!","v":{"$error":"#REF!"}},{"$f":"SUM('Charges Summary'!M211,'Charges Summary'!M$8)*#REF!*#REF!","v":{"$error":"#REF!"}},{"$f":"SUM('Charges Summary'!N211,'Charges Summary'!N$8)*#REF!*#REF!","v":{"$error":"#REF!"}},{"$f":"SUM('Charges Summary'!O211,'Charges Summary'!O$8)*#REF!*#REF!","v":{"$error":"#REF!"}},null,null,{"$f":"D315/'Charges Summary'!K$4","v":{"$error":"#REF!"}},{"$f":"E315/'Charges Summary'!L$4","v":{"$error":"#REF!"}},{"$f":"F315/'Charges Summary'!M$4","v":{"$error":"#REF!"}},{"$f":"G315/'Charges Summary'!N$4","v":{"$error":"#REF!"}},{"$f":"H315/'Charges Summary'!O$4","v":{"$error":"#REF!"}}]
[{"$f":"#REF!","v":{"$error":"#REF!"}},null,null,{"$f":"SUM('Charges Summary'!K227,'Charges Summary'!K$8)*#REF!*#REF!","v":{"$error":"#REF!"}},{"$f":"SUM('Charges Summary'!L227,'Charges Summary'!L$8)*#REF!*#REF!","v":{"$error":"#REF!"}},{"$f":"SUM('Charges Summary'!M227,'Charges Summary'!M$8)*#REF!*#REF!","v":{"$error":"#REF!"}},{"$f":"SUM('Charges Summary'!N227,'Charges Summary'!N$8)*#REF!*#REF!","v":{"$error":"#REF!"}},{"$f":"SUM('Charges Summary'!O227,'Charges Summary'!O$8)*#REF!*#REF!","v":{"$error":"#REF!"}},null,null,{"$f":"D316/'Charges Summary'!K$4","v":{"$error":"#REF!"}},{"$f":"E316/'Charges Summary'!L$4","v":{"$error":"#REF!"}},{"$f":"F316/'Charges Summary'!M$4","v":{"$error":"#REF!"}},{"$f":"G316/'Charges Summary'!N$4","v":{"$error":"#REF!"}},{"$f":"H316/'Charges Summary'!O$4","v":{"$error":"#REF!"}}]
[]
["Total O & M",null,null,{"$f":"SUM(D280:D316)","v":{"$error":"#REF!"}},{"$f":"SUM(E280:E316)","v":{"$error":"#REF!"}},{"$f":"SUM(F280:F316)","v":{"$error":"#REF!"}},{"$f":"SUM(G280:G316)","v":{"$error":"#REF!"}},{"$f":"SUM(H280:H316)","v":{"$error":"#REF!"}},null,null,{"$f":"SUM(K280:K316)","v":{"$error":"#REF!"}},{"$f":"SUM(L280:L316)","v":{"$error":"#REF!"}},{"$f":"SUM(M280:M316)","v":{"$error":"#REF!"}},{"$f":"SUM(N280:N316)","v":{"$error":"#REF!"}},{"$f":"SUM(O280:O316)","v":{"$error":"#REF!"}}]
[]
[]
["Public Lighting - Capital Charge",null,null,"Capital Charge - $Nominal ",null,null,null,null,null,null,"Capital Charge - $Real Jun 2026 "]
[null,null,null,{"$f":"D$2","v":"2027-06-30"},{"$f":"E$2","v":"2028-06-30"},{"$f":"F$2","v":"2029-06-30"},{"$f":"G$2","v":"2030-06-30"},{"$f":"H$2","v":"2031-06-30"},null,null,{"$f":"K$2","v":"2027-06-30"},{"$f":"L$2","v":"2028-06-30"},{"$f":"M$2","v":"2029-06-30"},{"$f":"N$2","v":"2030-06-30"},{"$f":"O$2","v":"2031-06-30"}]
[]
["Unit cost"]
[{"$f":"#REF!","v":{"$error":"#REF!"}},null,null,{"$f":"SUM('Charges Summary'!K27,'Charges Summary'!K11)","v":{"$error":"#REF!"}},{"$f":"SUM('Charges Summary'!L27,'Charges Summary'!L11)","v":{"$error":"#REF!"}},{"$f":"SUM('Charges Summary'!M27,'Charges Summary'!M11)","v":{"$error":"#REF!"}},{"$f":"SUM('Charges Summary'!N27,'Charges Summary'!N11)","v":{"$error":"#REF!"}},{"$f":"SUM('Charges Summary'!O27,'Charges Summary'!O11)","v":{"$error":"#REF!"}},null,null,{"$f":"D325/'Charges Summary'!K$4","v":{"$error":"#REF!"}},{"$f":"E325/'Charges Summary'!L$4","v":{"$error":"#REF!"}},{"$f":"F325/'Charges Summary'!M$4","v":{"$error":"#REF!"}},{"$f":"G325/'Charges Summary'!N$4","v":{"$error":"#REF!"}},{"$f":"H325/'Charges Summary'!O$4","v":{"$error":"#REF!"}}]
[{"$f":"#REF!","v":{"$error":"#REF!"}},null,null,{"$f":"SUM('Charges Summary'!K51,'Charges Summary'!K11)","v":{"$error":"#REF!"}},{"$f":"SUM('Charges Summary'!L51,'Charges Summary'!L11)","v":{"$error":"#REF!"}},{"$f":"SUM('Charges Summary'!M51,'Charges Summary'!M11)","v":{"$error":"#REF!"}},{"$f":"SUM('Charges Summary'!N51,'Charges Summary'!N11)","v":{"$error":"#REF!"}},{"$f":"SUM('Charges Summary'!O51,'Charges Summary'!O11)","v":{"$error":"#REF!"}},null,null,{"$f":"D326/'Charges Summary'!K$4","v":{"$error":"#REF!"}},{"$f":"E326/'Charges Summary'!L$4","v":{"$error":"#REF!"}},{"$f":"F326/'Charges Summary'!M$4","v":{"$error":"#REF!"}},{"$f":"G326/'Charges Summary'!N$4","v":{"$error":"#REF!"}},{"$f":"H326/'Charges Summary'!O$4","v":{"$error":"#REF!"}}]
[{"$f":"#REF!","v":{"$error":"#REF!"}},null,null,{"$f":"SUM('Charges Summary'!K67,'Charges Summary'!K11)","v":{"$error":"#REF!"}},{"$f":"SUM('Charges Summary'!L67,'Charges Summary'!L11)","v":{"$error":"#REF!"}},{"$f":"SUM('Charges Summary'!M67,'Charges Summary'!M11)","v":{"$error":"#REF!"}},{"$f":"SUM('Charges Summary'!N67,'Charges Summary'!N11)","v":{"$error":"#REF!"}},{"$f":"SUM('Charges Summary'!O67,'Charges Summary'!O11)","v":{"$error":"#REF!"}},null,null,{"$f":"D327/'Charges Summary'!K$4","v":{"$error":"#REF!"}},{"$f":"E327/'Charges Summary'!L$4","v":{"$error":"#REF!"}},{"$f":"F327/'Charges Summary'!M$4","v":{"$error":"#REF!"}},{"$f":"G327/'Charges Summary'!N$4","v":{"$error":"#REF!"}},{"$f":"H327/'Charges Summary'!O$4","v":{"$error":"#REF!"}}]
[]
[{"$f":"#REF!","v":{"$error":"#REF!"}},null,null,{"$f":"SUM('Charges Summary'!K85,'Charges Summary'!K11)","v":{"$error":"#REF!"}},{"$f":"SUM('Charges Summary'!L85,'Charges Summary'!L11)","v":{"$error":"#REF!"}},{"$f":"SUM('Charges Summary'!M85,'Charges Summary'!M11)","v":{"$error":"#REF!"}},{"$f":"SUM('Charges Summary'!N85,'Charges Summary'!N11)","v":{"$error":"#REF!"}},{"$f":"SUM('Charges Summary'!O85,'Charges Summary'!O11)","v":{"$error":"#REF!"}},null,null,{"$f":"D329/'Charges Summary'!K$4","v":{"$error":"#REF!"}},{"$f":"E329/'Charges Summary'!L$4","v":{"$error":"#REF!"}},{"$f":"F329/'Charges Summary'!M$4","v":{"$error":"#REF!"}},{"$f":"G329/'Charges Summary'!N$4","v":{"$error":"#REF!"}},{"$f":"H329/'Charges Summary'!O$4","v":{"$error":"#REF!"}}]
[{"$f":"#REF!","v":{"$error":"#REF!"}},null,null,{"$f":"SUM('Charges Summary'!K101,'Charges Summary'!K11)","v":{"$error":"#REF!"}},{"$f":"SUM('Charges Summary'!L101,'Charges Summary'!L11)","v":{"$error":"#REF!"}},{"$f":"SUM('Charges Summary'!M101,'Charges Summary'!M11)","v":{"$error":"#REF!"}},{"$f":"SUM('Charges Summary'!N101,'Charges Summary'!N11)","v":{"$error":"#REF!"}},{"$f":"SUM('Charges Summary'!O101,'Charges Summary'!O11)","v":{"$error":"#REF!"}},null,null,{"$f":"D330/'Charges Summary'!K$4","v":{"$error":"#REF!"}},{"$f":"E330/'Charges Summary'!L$4","v":{"$error":"#REF!"}},{"$f":"F330/'Charges Summary'!M$4","v":{"$error":"#REF!"}},{"$f":"G330/'Charges Summary'!N$4","v":{"$error":"#REF!"}},{"$f":"H330/'Charges Summary'!O$4","v":{"$error":"#REF!"}}]
[{"$f":"#REF!","v":{"$error":"#REF!"}},null,null,{"$f":"SUM('Charges Summary'!K117,'Charges Summary'!K11)","v":{"$error":"#REF!"}},{"$f":"SUM('Charges Summary'!L117,'Charges Summary'!L11)","v":{"$error":"#REF!"}},{"$f":"SUM('Charges Summary'!M117,'Charges Summary'!M11)","v":{"$error":"#REF!"}},{"$f":"SUM('Charges Summary'!N117,'Charges Summary'!N11)","v":{"$error":"#REF!"}},{"$f":"SUM('Charges Summary'!O117,'Charges Summary'!O11)","v":{"$error":"#REF!"}},null,null,{"$f":"D331/'Charges Summary'!K$4","v":{"$error":"#REF!"}},{"$f":"E331/'Charges Summary'!L$4","v":{"$error":"#REF!"}},{"$f":"F331/'Charges Summary'!M$4","v":{"$error":"#REF!"}},{"$f":"G331/'Charges Summary'!N$4","v":{"$error":"#REF!"}},{"$f":"H331/'Charges Summary'!O$4","v":{"$error":"#REF!"}}]
[{"$f":"#REF!","v":{"$error":"#REF!"}},null,null,{"$f":"SUM('Charges Summary'!K133,'Charges Summary'!K$11)","v":{"$error":"#REF!"}},{"$f":"SUM('Charges Summary'!L133,'Charges Summary'!L$11)","v":{"$error":"#REF!"}},{"$f":"SUM('Charges Summary'!M133,'Charges Summary'!M$11)","v":{"$error":"#REF!"}},{"$f":"SUM('Charges Summary'!N133,'Charges Summary'!N$11)","v":{"$error":"#REF!"}},{"$f":"SUM('Charges Summary'!O133,'Charges Summary'!O$11)","v":{"$error":"#REF!"}},null,null,{"$f":"D332/'Charges Summary'!K$4","v":{"$error":"#REF!"}},{"$f":"E332/'Charges Summary'!L$4","v":{"$error":"#REF!"}},{"$f":"F332/'Charges Summary'!M$4","v":{"$error":"#REF!"}},{"$f":"G332/'Charges Summary'!N$4","v":{"$error":"#REF!"}},{"$f":"H332/'Charges Summary'!O$4","v":{"$error":"#REF!"}}]
[{"$f":"#REF!","v":{"$error":"#REF!"}},null,null,{"$f":"SUM('Charges Summary'!K149,'Charges Summary'!K$11)","v":{"$error":"#REF!"}},{"$f":"SUM('Charges Summary'!L149,'Charges Summary'!L$11)","v":{"$error":"#REF!"}},{"$f":"SUM('Charges Summary'!M149,'Charges Summary'!M$11)","v":{"$error":"#REF!"}},{"$f":"SUM('Charges Summary'!N149,'Charges Summary'!N$11)","v":{"$error":"#REF!"}},{"$f":"SUM('Charges Summary'!O149,'Charges Summary'!O$11)","v":{"$error":"#REF!"}},null,null,{"$f":"D333/'Charges Summary'!K$4","v":{"$error":"#REF!"}},{"$f":"E333/'Charges Summary'!L$4","v":{"$error":"#REF!"}},{"$f":"F333/'Charges Summary'!M$4","v":{"$error":"#REF!"}},{"$f":"G333/'Charges Summary'!N$4","v":{"$error":"#REF!"}},{"$f":"H333/'Charges Summary'!O$4","v":{"$error":"#REF!"}}]
[{"$f":"#REF!","v":{"$error":"#REF!"}},null,null,{"$f":"SUM('Charges Summary'!K165,'Charges Summary'!K$11)","v":{"$error":"#REF!"}},{"$f":"SUM('Charges Summary'!L165,'Charges Summary'!L$11)","v":{"$error":"#REF!"}},{"$f":"SUM('Charges Summary'!M165,'Charges Summary'!M$11)","v":{"$error":"#REF!"}},{"$f":"SUM('Charges Summary'!N165,'Charges Summary'!N$11)","v":{"$error":"#REF!"}},{"$f":"SUM('Charges Summary'!O165,'Charges Summary'!O$11)","v":{"$error":"#REF!"}},null,null,{"$f":"D334/'Charges Summary'!K$4","v":{"$error":"#REF!"}},{"$f":"E334/'Charges Summary'!L$4","v":{"$error":"#REF!"}},{"$f":"F334/'Charges Summary'!M$4","v":{"$error":"#REF!"}},{"$f":"G334/'Charges Summary'!N$4","v":{"$error":"#REF!"}},{"$f":"H334/'Charges Summary'!O$4","v":{"$error":"#REF!"}}]
[{"$f":"#REF!","v":{"$error":"#REF!"}},null,null,{"$f":"SUM('Charges Summary'!K181,'Charges Summary'!K$11)","v":{"$error":"#REF!"}},{"$f":"SUM('Charges Summary'!L181,'Charges Summary'!L$11)","v":{"$error":"#REF!"}},{"$f":"SUM('Charges Summary'!M181,'Charges Summary'!M$11)","v":{"$error":"#REF!"}},{"$f":"SUM('Charges Summary'!N181,'Charges Summary'!N$11)","v":{"$error":"#REF!"}},{"$f":"SUM('Charges Summary'!O181,'Charges Summary'!O$11)","v":{"$error":"#REF!"}},null,null,{"$f":"D335/'Charges Summary'!K$4","v":{"$error":"#REF!"}},{"$f":"E335/'Charges Summary'!L$4","v":{"$error":"#REF!"}},{"$f":"F335/'Charges Summary'!M$4","v":{"$error":"#REF!"}},{"$f":"G335/'Charges Summary'!N$4","v":{"$error":"#REF!"}},{"$f":"H335/'Charges Summary'!O$4","v":{"$error":"#REF!"}}]
[]
[{"$f":"#REF!","v":{"$error":"#REF!"}}]
[{"$f":"#REF!","v":{"$error":"#REF!"}},null,null,{"$f":"D325*#REF!","v":{"$error":"#REF!"}},{"$f":"E325*#REF!","v":{"$error":"#REF!"}},{"$f":"F325*#REF!","v":{"$error":"#REF!"}},{"$f":"G325*#REF!","v":{"$error":"#REF!"}},{"$f":"H325*#REF!","v":{"$error":"#REF!"}},null,null,{"$f":"D338/'Charges Summary'!K$4","v":{"$error":"#REF!"}},{"$f":"E338/'Charges Summary'!L$4","v":{"$error":"#REF!"}},{"$f":"F338/'Charges Summary'!M$4","v":{"$error":"#REF!"}},{"$f":"G338/'Charges Summary'!N$4","v":{"$error":"#REF!"}},{"$f":"H338/'Charges Summary'!O$4","v":{"$error":"#REF!"}}]
[{"$f":"#REF!","v":{"$error":"#REF!"}},null,null,{"$f":"D326*#REF!","v":{"$error":"#REF!"}},{"$f":"E326*#REF!","v":{"$error":"#REF!"}},{"$f":"F326*#REF!","v":{"$error":"#REF!"}},{"$f":"G326*#REF!","v":{"$error":"#REF!"}},{"$f":"H326*#REF!","v":{"$error":"#REF!"}},null,null,{"$f":"D339/'Charges Summary'!K$4","v":{"$error":"#REF!"}},{"$f":"E339/'Charges Summary'!L$4","v":{"$error":"#REF!"}},{"$f":"F339/'Charges Summary'!M$4","v":{"$error":"#REF!"}},{"$f":"G339/'Charges Summary'!N$4","v":{"$error":"#REF!"}},{"$f":"H339/'Charges Summary'!O$4","v":{"$error":"#REF!"}}]
[{"$f":"#REF!","v":{"$error":"#REF!"}},null,null,{"$f":"D327*#REF!","v":{"$error":"#REF!"}},{"$f":"E327*#REF!","v":{"$error":"#REF!"}},{"$f":"F327*#REF!","v":{"$error":"#REF!"}},{"$f":"G327*#REF!","v":{"$error":"#REF!"}},{"$f":"H327*#REF!","v":{"$error":"#REF!"}},null,null,{"$f":"D340/'Charges Summary'!K$4","v":{"$error":"#REF!"}},{"$f":"E340/'Charges Summary'!L$4","v":{"$error":"#REF!"}},{"$f":"F340/'Charges Summary'!M$4","v":{"$error":"#REF!"}},{"$f":"G340/'Charges Summary'!N$4","v":{"$error":"#REF!"}},{"$f":"H340/'Charges Summary'!O$4","v":{"$error":"#REF!"}}]
[{"$f":"#REF!","v":{"$error":"#REF!"}},null,null,{"$f":"IF(#REF!=#REF!,D$325,IF(#REF!=#REF!,D$326,D$327))*#REF!*#REF!","v":{"$error":"#REF!"}},{"$f":"IF(#REF!=#REF!,E$325,IF(#REF!=#REF!,E$326,E$327))*#REF!*#REF!","v":{"$error":"#REF!"}},{"$f":"IF(#REF!=#REF!,F$325,IF(#REF!=#REF!,F$326,F$327))*#REF!*#REF!","v":{"$error":"#REF!"}},{"$f":"IF(#REF!=#REF!,G$325,IF(#REF!=#REF!,G$326,G$327))*#REF!*#REF!","v":{"$error":"#REF!"}},{"$f":"IF(#REF!=#REF!,H$325,IF(#REF!=#REF!,H$326,H$327))*#REF!*#REF!","v":{"$error":"#REF!"}},null,null,{"$f":"D341/'Charges Summary'!K$4","v":{"$error":"#REF!"}},{"$f":"E341/'Charges Summary'!L$4","v":{"$error":"#REF!"}},{"$f":"F341/'Charges Summary'!M$4","v":{"$error":"#REF!"}},{"$f":"G341/'Charges Summary'!N$4","v":{"$error":"#REF!"}},{"$f":"H341/'Charges Summary'!O$4","v":{"$error":"#REF!"}}]
[{"$f":"#REF!","v":{"$error":"#REF!"}},null,null,{"$f":"IF(#REF!=#REF!,D$325,IF(#REF!=#REF!,D$326,D$327))*#REF!*#REF!","v":{"$error":"#REF!"}},{"$f":"IF(#REF!=#REF!,E$325,IF(#REF!=#REF!,E$326,E$327))*#REF!*#REF!","v":{"$error":"#REF!"}},{"$f":"IF(#REF!=#REF!,F$325,IF(#REF!=#REF!,F$326,F$327))*#REF!*#REF!","v":{"$error":"#REF!"}},{"$f":"IF(#REF!=#REF!,G$325,IF(#REF!=#REF!,G$326,G$327))*#REF!*#REF!","v":{"$error":"#REF!"}},{"$f":"IF(#REF!=#REF!,H$325,IF(#REF!=#REF!,H$326,H$327))*#REF!*#REF!","v":{"$error":"#REF!"}},null,null,{"$f":"D342/'Charges Summary'!K$4","v":{"$error":"#REF!"}},{"$f":"E342/'Charges Summary'!L$4","v":{"$error":"#REF!"}},{"$f":"F342/'Charges Summary'!M$4","v":{"$error":"#REF!"}},{"$f":"G342/'Charges Summary'!N$4","v":{"$error":"#REF!"}},{"$f":"H342/'Charges Summary'!O$4","v":{"$error":"#REF!"}}]
[{"$f":"#REF!","v":{"$error":"#REF!"}},null,null,{"$f":"IF(#REF!=#REF!,D$325,IF(#REF!=#REF!,D$326,D$327))*#REF!*#REF!","v":{"$error":"#REF!"}},{"$f":"IF(#REF!=#REF!,E$325,IF(#REF!=#REF!,E$326,E$327))*#REF!*#REF!","v":{"$error":"#REF!"}},{"$f":"IF(#REF!=#REF!,F$325,IF(#REF!=#REF!,F$326,F$327))*#REF!*#REF!","v":{"$error":"#REF!"}},{"$f":"IF(#REF!=#REF!,G$325,IF(#REF!=#REF!,G$326,G$327))*#REF!*#REF!","v":{"$error":"#REF!"}},{"$f":"IF(#REF!=#REF!,H$325,IF(#REF!=#REF!,H$326,H$327))*#REF!*#REF!","v":{"$error":"#REF!"}},null,null,{"$f":"D343/'Charges Summary'!K$4","v":{"$error":"#REF!"}},{"$f":"E343/'Charges Summary'!L$4","v":{"$error":"#REF!"}},{"$f":"F343/'Charges Summary'!M$4","v":{"$error":"#REF!"}},{"$f":"G343/'Charges Summary'!N$4","v":{"$error":"#REF!"}},{"$f":"H343/'Charges Summary'!O$4","v":{"$error":"#REF!"}}]
[{"$f":"#REF!","v":{"$error":"#REF!"}},null,null,{"$f":"IF(#REF!=#REF!,D$325,IF(#REF!=#REF!,D$326,D$327))*#REF!*#REF!","v":{"$error":"#REF!"}},{"$f":"IF(#REF!=#REF!,E$325,IF(#REF!=#REF!,E$326,E$327))*#REF!*#REF!","v":{"$error":"#REF!"}},{"$f":"IF(#REF!=#REF!,F$325,IF(#REF!=#REF!,F$326,F$327))*#REF!*#REF!","v":{"$error":"#REF!"}},{"$f":"IF(#REF!=#REF!,G$325,IF(#REF!=#REF!,G$326,G$327))*#REF!*#REF!","v":{"$error":"#REF!"}},{"$f":"IF(#REF!=#REF!,H$325,IF(#REF!=#REF!,H$326,H$327))*#REF!*#REF!","v":{"$error":"#REF!"}},null,null,{"$f":"D344/'Charges Summary'!K$4","v":{"$error":"#REF!"}},{"$f":"E344/'Charges Summary'!L$4","v":{"$error":"#REF!"}},{"$f":"F344/'Charges Summary'!M$4","v":{"$error":"#REF!"}},{"$f":"G344/'Charges Summary'!N$4","v":{"$error":"#REF!"}},{"$f":"H344/'Charges Summary'!O$4","v":{"$error":"#REF!"}}]
[{"$f":"#REF!","v":{"$error":"#REF!"}},null,null,{"$f":"IF(#REF!=#REF!,D$325,IF(#REF!=#REF!,D$326,D$327))*#REF!*#REF!","v":{"$error":"#REF!"}},{"$f":"IF(#REF!=#REF!,E$325,IF(#REF!=#REF!,E$326,E$327))*#REF!*#REF!","v":{"$error":"#REF!"}},{"$f":"IF(#REF!=#REF!,F$325,IF(#REF!=#REF!,F$326,F$327))*#REF!*#REF!","v":{"$error":"#REF!"}},{"$f":"IF(#REF!=#REF!,G$325,IF(#REF!=#REF!,G$326,G$327))*#REF!*#REF!","v":{"$error":"#REF!"}},{"$f":"IF(#REF!=#REF!,H$325,IF(#REF!=#REF!,H$326,H$327))*#REF!*#REF!","v":{"$error":"#REF!"}},null,null,{"$f":"D345/'Charges Summary'!K$4","v":{"$error":"#REF!"}},{"$f":"E345/'Charges Summary'!L$4","v":{"$error":"#REF!"}},{"$f":"F345/'Charges Summary'!M$4","v":{"$error":"#REF!"}},{"$f":"G345/'Charges Summary'!N$4","v":{"$error":"#REF!"}},{"$f":"H345/'Charges Summary'!O$4","v":{"$error":"#REF!"}}]
[{"$f":"#REF!","v":{"$error":"#REF!"}},null,null,{"$f":"IF(#REF!=#REF!,D$325,IF(#REF!=#REF!,D$326,D$327))*#REF!*#REF!","v":{"$error":"#REF!"}},{"$f":"IF(#REF!=#REF!,E$325,IF(#REF!=#REF!,E$326,E$327))*#REF!*#REF!","v":{"$error":"#REF!"}},{"$f":"IF(#REF!=#REF!,F$325,IF(#REF!=#REF!,F$326,F$327))*#REF!*#REF!","v":{"$error":"#REF!"}},{"$f":"IF(#REF!=#REF!,G$325,IF(#REF!=#REF!,G$326,G$327))*#REF!*#REF!","v":{"$error":"#REF!"}},{"$f":"IF(#REF!=#REF!,H$325,IF(#REF!=#REF!,H$326,H$327))*#REF!*#REF!","v":{"$error":"#REF!"}},null,null,{"$f":"D346/'Charges Summary'!K$4","v":{"$error":"#REF!"}},{"$f":"E346/'Charges Summary'!L$4","v":{"$error":"#REF!"}},{"$f":"F346/'Charges Summary'!M$4","v":{"$error":"#REF!"}},{"$f":"G346/'Charges Summary'!N$4","v":{"$error":"#REF!"}},{"$f":"H346/'Charges Summary'!O$4","v":{"$error":"#REF!"}}]
[{"$f":"#REF!","v":{"$error":"#REF!"}},null,null,{"$f":"IF(#REF!=#REF!,D$325,IF(#REF!=#REF!,D$326,D$327))*#REF!*#REF!","v":{"$error":"#REF!"}},{"$f":"IF(#REF!=#REF!,E$325,IF(#REF!=#REF!,E$326,E$327))*#REF!*#REF!","v":{"$error":"#REF!"}},{"$f":"IF(#REF!=#REF!,F$325,IF(#REF!=#REF!,F$326,F$327))*#REF!*#REF!","v":{"$error":"#REF!"}},{"$f":"IF(#REF!=#REF!,G$325,IF(#REF!=#REF!,G$326,G$327))*#REF!*#REF!","v":{"$error":"#REF!"}},{"$f":"IF(#REF!=#REF!,H$325,IF(#REF!=#REF!,H$326,H$327))*#REF!*#REF!","v":{"$error":"#REF!"}},null,null,{"$f":"D347/'Charges Summary'!K$4","v":{"$error":"#REF!"}},{"$f":"E347/'Charges Summary'!L$4","v":{"$error":"#REF!"}},{"$f":"F347/'Charges Summary'!M$4","v":{"$error":"#REF!"}},{"$f":"G347/'Charges Summary'!N$4","v":{"$error":"#REF!"}},{"$f":"H347/'Charges Summary'!O$4","v":{"$error":"#REF!"}}]
[{"$f":"#REF!","v":{"$error":"#REF!"}},null,null,{"$f":"IF(#REF!=#REF!,D$325,IF(#REF!=#REF!,D$326,D$327))*#REF!*#REF!","v":{"$error":"#REF!"}},{"$f":"IF(#REF!=#REF!,E$325,IF(#REF!=#REF!,E$326,E$327))*#REF!*#REF!","v":{"$error":"#REF!"}},{"$f":"IF(#REF!=#REF!,F$325,IF(#REF!=#REF!,F$326,F$327))*#REF!*#REF!","v":{"$error":"#REF!"}},{"$f":"IF(#REF!=#REF!,G$325,IF(#REF!=#REF!,G$326,G$327))*#REF!*#REF!","v":{"$error":"#REF!"}},{"$f":"IF(#REF!=#REF!,H$325,IF(#REF!=#REF!,H$326,H$327))*#REF!*#REF!","v":{"$error":"#REF!"}},null,null,{"$f":"D348/'Charges Summary'!K$4","v":{"$error":"#REF!"}},{"$f":"E348/'Charges Summary'!L$4","v":{"$error":"#REF!"}},{"$f":"F348/'Charges Summary'!M$4","v":{"$error":"#REF!"}},{"$f":"G348/'Charges Summary'!N$4","v":{"$error":"#REF!"}},{"$f":"H348/'Charges Summary'!O$4","v":{"$error":"#REF!"}}]
[{"$f":"#REF!","v":{"$error":"#REF!"}},null,null,{"$f":"IF(#REF!=#REF!,D$325,IF(#REF!=#REF!,D$326,D$327))*#REF!*#REF!","v":{"$error":"#REF!"}},{"$f":"IF(#REF!=#REF!,E$325,IF(#REF!=#REF!,E$326,E$327))*#REF!*#REF!","v":{"$error":"#REF!"}},{"$f":"IF(#REF!=#REF!,F$325,IF(#REF!=#REF!,F$326,F$327))*#REF!*#REF!","v":{"$error":"#REF!"}},{"$f":"IF(#REF!=#REF!,G$325,IF(#REF!=#REF!,G$326,G$327))*#REF!*#REF!","v":{"$error":"#REF!"}},{"$f":"IF(#REF!=#REF!,H$325,IF(#REF!=#REF!,H$326,H$327))*#REF!*#REF!","v":{"$error":"#REF!"}},null,null,{"$f":"D349/'Charges Summary'!K$4","v":{"$error":"#REF!"}},{"$f":"E349/'Charges Summary'!L$4","v":{"$error":"#REF!"}},{"$f":"F349/'Charges Summary'!M$4","v":{"$error":"#REF!"}},{"$f":"G349/'Charges Summary'!N$4","v":{"$error":"#REF!"}},{"$f":"H349/'Charges Summary'!O$4","v":{"$error":"#REF!"}}]
[{"$f":"#REF!","v":{"$error":"#REF!"}},null,null,{"$f":"IF(#REF!=#REF!,D$325,IF(#REF!=#REF!,D$326,D$327))*#REF!*#REF!","v":{"$error":"#REF!"}},{"$f":"IF(#REF!=#REF!,E$325,IF(#REF!=#REF!,E$326,E$327))*#REF!*#REF!","v":{"$error":"#REF!"}},{"$f":"IF(#REF!=#REF!,F$325,IF(#REF!=#REF!,F$326,F$327))*#REF!*#REF!","v":{"$error":"#REF!"}},{"$f":"IF(#REF!=#REF!,G$325,IF(#REF!=#REF!,G$326,G$327))*#REF!*#REF!","v":{"$error":"#REF!"}},{"$f":"IF(#REF!=#REF!,H$325,IF(#REF!=#REF!,H$326,H$327))*#REF!*#REF!","v":{"$error":"#REF!"}},null,null,{"$f":"D350/'Charges Summary'!K$4","v":{"$error":"#REF!"}},{"$f":"E350/'Charges Summary'!L$4","v":{"$error":"#REF!"}},{"$f":"F350/'Charges Summary'!M$4","v":{"$error":"#REF!"}},{"$f":"G350/'Charges Summary'!N$4","v":{"$error":"#REF!"}},{"$f":"H350/'Charges Summary'!O$4","v":{"$error":"#REF!"}}]
[]
[]
[]
[]
[]
[]
[]
[]
[]
[]
[]
[{"$f":"#REF!","v":{"$error":"#REF!"}}]
[{"$f":"#REF!","v":{"$error":"#REF!"}},null,null,{"$f":"SUM('Charges Summary'!K85,'Charges Summary'!K11)*#REF!*#REF!","v":{"$error":"#REF!"}},{"$f":"SUM('Charges Summary'!L85,'Charges Summary'!L11)*#REF!*#REF!","v":{"$error":"#REF!"}},{"$f":"SUM('Charges Summary'!M85,'Charges Summary'!M11)*#REF!*#REF!","v":{"$error":"#REF!"}},{"$f":"SUM('Charges Summary'!N85,'Charges Summary'!N11)*#REF!*#REF!","v":{"$error":"#REF!"}},{"$f":"SUM('Charges Summary'!O85,'Charges Summary'!O11)*#REF!*#REF!","v":{"$error":"#REF!"}},null,null,{"$f":"D363/'Charges Summary'!K$4","v":{"$error":"#REF!"}},{"$f":"E363/'Charges Summary'!L$4","v":{"$error":"#REF!"}},{"$f":"F363/'Charges Summary'!M$4","v":{"$error":"#REF!"}},{"$f":"G363/'Charges Summary'!N$4","v":{"$error":"#REF!"}},{"$f":"H363/'Charges Summary'!O$4","v":{"$error":"#REF!"}}]
[{"$f":"#REF!","v":{"$error":"#REF!"}},null,null,{"$f":"SUM('Charges Summary'!K101,'Charges Summary'!K11)*#REF!*#REF!","v":{"$error":"#REF!"}},{"$f":"SUM('Charges Summary'!L101,'Charges Summary'!L11)*#REF!*#REF!","v":{"$error":"#REF!"}},{"$f":"SUM('Charges Summary'!M101,'Charges Summary'!M11)*#REF!*#REF!","v":{"$error":"#REF!"}},{"$f":"SUM('Charges Summary'!N101,'Charges Summary'!N11)*#REF!*#REF!","v":{"$error":"#REF!"}},{"$f":"SUM('Charges Summary'!O101,'Charges Summary'!O11)*#REF!*#REF!","v":{"$error":"#REF!"}},null,null,{"$f":"D364/'Charges Summary'!K$4","v":{"$error":"#REF!"}},{"$f":"E364/'Charges Summary'!L$4","v":{"$error":"#REF!"}},{"$f":"F364/'Charges Summary'!M$4","v":{"$error":"#REF!"}},{"$f":"G364/'Charges Summary'!N$4","v":{"$error":"#REF!"}},{"$f":"H364/'Charges Summary'!O$4","v":{"$error":"#REF!"}}]
[{"$f":"#REF!","v":{"$error":"#REF!"}},null,null,{"$f":"SUM('Charges Summary'!K117,'Charges Summary'!K11)*#REF!*#REF!","v":{"$error":"#REF!"}},{"$f":"SUM('Charges Summary'!L117,'Charges Summary'!L11)*#REF!*#REF!","v":{"$error":"#REF!"}},{"$f":"SUM('Charges Summary'!M117,'Charges Summary'!M11)*#REF!*#REF!","v":{"$error":"#REF!"}},{"$f":"SUM('Charges Summary'!N117,'Charges Summary'!N11)*#REF!*#REF!","v":{"$error":"#REF!"}},{"$f":"SUM('Charges Summary'!O117,'Charges Summary'!O11)*#REF!*#REF!","v":{"$error":"#REF!"}},null,null,{"$f":"D365/'Charges Summary'!K$4","v":{"$error":"#REF!"}},{"$f":"E365/'Charges Summary'!L$4","v":{"$error":"#REF!"}},{"$f":"F365/'Charges Summary'!M$4","v":{"$error":"#REF!"}},{"$f":"G365/'Charges Summary'!N$4","v":{"$error":"#REF!"}},{"$f":"H365/'Charges Summary'!O$4","v":{"$error":"#REF!"}}]
[{"$f":"#REF!","v":{"$error":"#REF!"}},null,null,{"$f":"SUM('Charges Summary'!K133,'Charges Summary'!K$11)*#REF!*#REF!","v":{"$error":"#REF!"}},{"$f":"SUM('Charges Summary'!L133,'Charges Summary'!L$11)*#REF!*#REF!","v":{"$error":"#REF!"}},{"$f":"SUM('Charges Summary'!M133,'Charges Summary'!M$11)*#REF!*#REF!","v":{"$error":"#REF!"}},{"$f":"SUM('Charges Summary'!N133,'Charges Summary'!N$11)*#REF!*#REF!","v":{"$error":"#REF!"}},{"$f":"SUM('Charges Summary'!O133,'Charges Summary'!O$11)*#REF!*#REF!","v":{"$error":"#REF!"}},null,null,{"$f":"D366/'Charges Summary'!K$4","v":{"$error":"#REF!"}},{"$f":"E366/'Charges Summary'!L$4","v":{"$error":"#REF!"}},{"$f":"F366/'Charges Summary'!M$4","v":{"$error":"#REF!"}},{"$f":"G366/'Charges Summary'!N$4","v":{"$error":"#REF!"}},{"$f":"H366/'Charges Summary'!O$4","v":{"$error":"#REF!"}}]
[{"$f":"#REF!","v":{"$error":"#REF!"}},null,null,{"$f":"SUM('Charges Summary'!K149,'Charges Summary'!K$11)*#REF!*#REF!","v":{"$error":"#REF!"}},{"$f":"SUM('Charges Summary'!L149,'Charges Summary'!L$11)*#REF!*#REF!","v":{"$error":"#REF!"}},{"$f":"SUM('Charges Summary'!M149,'Charges Summary'!M$11)*#REF!*#REF!","v":{"$error":"#REF!"}},{"$f":"SUM('Charges Summary'!N149,'Charges Summary'!N$11)*#REF!*#REF!","v":{"$error":"#REF!"}},{"$f":"SUM('Charges Summary'!O149,'Charges Summary'!O$11)*#REF!*#REF!","v":{"$error":"#REF!"}},null,null,{"$f":"D367/'Charges Summary'!K$4","v":{"$error":"#REF!"}},{"$f":"E367/'Charges Summary'!L$4","v":{"$error":"#REF!"}},{"$f":"F367/'Charges Summary'!M$4","v":{"$error":"#REF!"}},{"$f":"G367/'Charges Summary'!N$4","v":{"$error":"#REF!"}},{"$f":"H367/'Charges Summary'!O$4","v":{"$error":"#REF!"}}]
[{"$f":"#REF!","v":{"$error":"#REF!"}},null,null,{"$f":"SUM('Charges Summary'!K165,'Charges Summary'!K$11)*#REF!*#REF!","v":{"$error":"#REF!"}},{"$f":"SUM('Charges Summary'!L165,'Charges Summary'!L$11)*#REF!*#REF!","v":{"$error":"#REF!"}},{"$f":"SUM('Charges Summary'!M165,'Charges Summary'!M$11)*#REF!*#REF!","v":{"$error":"#REF!"}},{"$f":"SUM('Charges Summary'!N165,'Charges Summary'!N$11)*#REF!*#REF!","v":{"$error":"#REF!"}},{"$f":"SUM('Charges Summary'!O165,'Charges Summary'!O$11)*#REF!*#REF!","v":{"$error":"#REF!"}},null,null,{"$f":"D368/'Charges Summary'!K$4","v":{"$error":"#REF!"}},{"$f":"E368/'Charges Summary'!L$4","v":{"$error":"#REF!"}},{"$f":"F368/'Charges Summary'!M$4","v":{"$error":"#REF!"}},{"$f":"G368/'Charges Summary'!N$4","v":{"$error":"#REF!"}},{"$f":"H368/'Charges Summary'!O$4","v":{"$error":"#REF!"}}]
[{"$f":"#REF!","v":{"$error":"#REF!"}},null,null,{"$f":"SUM('Charges Summary'!K181,'Charges Summary'!K$11)*#REF!*#REF!","v":{"$error":"#REF!"}},{"$f":"SUM('Charges Summary'!L181,'Charges Summary'!L$11)*#REF!*#REF!","v":{"$error":"#REF!"}},{"$f":"SUM('Charges Summary'!M181,'Charges Summary'!M$11)*#REF!*#REF!","v":{"$error":"#REF!"}},{"$f":"SUM('Charges Summary'!N181,'Charges Summary'!N$11)*#REF!*#REF!","v":{"$error":"#REF!"}},{"$f":"SUM('Charges Summary'!O181,'Charges Summary'!O$11)*#REF!*#REF!","v":{"$error":"#REF!"}},null,null,{"$f":"D369/'Charges Summary'!K$4","v":{"$error":"#REF!"}},{"$f":"E369/'Charges Summary'!L$4","v":{"$error":"#REF!"}},{"$f":"F369/'Charges Summary'!M$4","v":{"$error":"#REF!"}},{"$f":"G369/'Charges Summary'!N$4","v":{"$error":"#REF!"}},{"$f":"H369/'Charges Summary'!O$4","v":{"$error":"#REF!"}}]
[{"$f":"#REF!","v":{"$error":"#REF!"}},null,null,{"$f":"IF(#REF!=#REF!,D$329,D$330)*#REF!*#REF!","v":{"$error":"#REF!"}},{"$f":"IF(#REF!=#REF!,E$329,E$330)*#REF!*#REF!","v":{"$error":"#REF!"}},{"$f":"IF(#REF!=#REF!,F$329,F$330)*#REF!*#REF!","v":{"$error":"#REF!"}},{"$f":"IF(#REF!=#REF!,G$329,G$330)*#REF!*#REF!","v":{"$error":"#REF!"}},{"$f":"IF(#REF!=#REF!,H$329,H$330)*#REF!*#REF!","v":{"$error":"#REF!"}},null,null,{"$f":"D370/'Charges Summary'!K$4","v":{"$error":"#REF!"}},{"$f":"E370/'Charges Summary'!L$4","v":{"$error":"#REF!"}},{"$f":"F370/'Charges Summary'!M$4","v":{"$error":"#REF!"}},{"$f":"G370/'Charges Summary'!N$4","v":{"$error":"#REF!"}},{"$f":"H370/'Charges Summary'!O$4","v":{"$error":"#REF!"}}]
[{"$f":"#REF!","v":{"$error":"#REF!"}},null,null,{"$f":"IF(#REF!=#REF!,D$329,D$330)*#REF!*#REF!","v":{"$error":"#REF!"}},{"$f":"IF(#REF!=#REF!,E$329,E$330)*#REF!*#REF!","v":{"$error":"#REF!"}},{"$f":"IF(#REF!=#REF!,F$329,F$330)*#REF!*#REF!","v":{"$error":"#REF!"}},{"$f":"IF(#REF!=#REF!,G$329,G$330)*#REF!*#REF!","v":{"$error":"#REF!"}},{"$f":"IF(#REF!=#REF!,H$329,H$330)*#REF!*#REF!","v":{"$error":"#REF!"}},null,null,{"$f":"D371/'Charges Summary'!K$4","v":{"$error":"#REF!"}},{"$f":"E371/'Charges Summary'!L$4","v":{"$error":"#REF!"}},{"$f":"F371/'Charges Summary'!M$4","v":{"$error":"#REF!"}},{"$f":"G371/'Charges Summary'!N$4","v":{"$error":"#REF!"}},{"$f":"H371/'Charges Summary'!O$4","v":{"$error":"#REF!"}}]
[{"$f":"#REF!","v":{"$error":"#REF!"}},null,null,{"$f":"SUM('Charges Summary'!K197,'Charges Summary'!K$11)*#REF!*#REF!","v":{"$error":"#REF!"}},{"$f":"SUM('Charges Summary'!L197,'Charges Summary'!L$11)*#REF!*#REF!","v":{"$error":"#REF!"}},{"$f":"SUM('Charges Summary'!M197,'Charges Summary'!M$11)*#REF!*#REF!","v":{"$error":"#REF!"}},{"$f":"SUM('Charges Summary'!N197,'Charges Summary'!N$11)*#REF!*#REF!","v":{"$error":"#REF!"}},{"$f":"SUM('Charges Summary'!O197,'Charges Summary'!O$11)*#REF!*#REF!","v":{"$error":"#REF!"}},null,null,{"$f":"D372/'Charges Summary'!K$4","v":{"$error":"#REF!"}},{"$f":"E372/'Charges Summary'!L$4","v":{"$error":"#REF!"}},{"$f":"F372/'Charges Summary'!M$4","v":{"$error":"#REF!"}},{"$f":"G372/'Charges Summary'!N$4","v":{"$error":"#REF!"}},{"$f":"H372/'Charges Summary'!O$4","v":{"$error":"#REF!"}}]
[{"$f":"#REF!","v":{"$error":"#REF!"}},null,null,{"$f":"SUM('Charges Summary'!K213,'Charges Summary'!K$11)*#REF!*#REF!","v":{"$error":"#REF!"}},{"$f":"SUM('Charges Summary'!L213,'Charges Summary'!L$11)*#REF!*#REF!","v":{"$error":"#REF!"}},{"$f":"SUM('Charges Summary'!M213,'Charges Summary'!M$11)*#REF!*#REF!","v":{"$error":"#REF!"}},{"$f":"SUM('Charges Summary'!N213,'Charges Summary'!N$11)*#REF!*#REF!","v":{"$error":"#REF!"}},{"$f":"SUM('Charges Summary'!O213,'Charges Summary'!O$11)*#REF!*#REF!","v":{"$error":"#REF!"}},null,null,{"$f":"D373/'Charges Summary'!K$4","v":{"$error":"#REF!"}},{"$f":"E373/'Charges Summary'!L$4","v":{"$error":"#REF!"}},{"$f":"F373/'Charges Summary'!M$4","v":{"$error":"#REF!"}},{"$f":"G373/'Charges Summary'!N$4","v":{"$error":"#REF!"}},{"$f":"H373/'Charges Summary'!O$4","v":{"$error":"#REF!"}}]
[{"$f":"#REF!","v":{"$error":"#REF!"}},null,null,{"$f":"SUM('Charges Summary'!K229,'Charges Summary'!K$11)*#REF!*#REF!","v":{"$error":"#REF!"}},{"$f":"SUM('Charges Summary'!L229,'Charges Summary'!L$11)*#REF!*#REF!","v":{"$error":"#REF!"}},{"$f":"SUM('Charges Summary'!M229,'Charges Summary'!M$11)*#REF!*#REF!","v":{"$error":"#REF!"}},{"$f":"SUM('Charges Summary'!N229,'Charges Summary'!N$11)*#REF!*#REF!","v":{"$error":"#REF!"}},{"$f":"SUM('Charges Summary'!O229,'Charges Summary'!O$11)*#REF!*#REF!","v":{"$error":"#REF!"}},null,null,{"$f":"D374/'Charges Summary'!K$4","v":{"$error":"#REF!"}},{"$f":"E374/'Charges Summary'!L$4","v":{"$error":"#REF!"}},{"$f":"F374/'Charges Summary'!M$4","v":{"$error":"#REF!"}},{"$f":"G374/'Charges Summary'!N$4","v":{"$error":"#REF!"}},{"$f":"H374/'Charges Summary'!O$4","v":{"$error":"#REF!"}}]
[]
["Total Capital Charge",null,null,{"$f":"SUM(D338:D374)","v":{"$error":"#REF!"}},{"$f":"SUM(E338:E374)","v":{"$error":"#REF!"}},{"$f":"SUM(F338:F374)","v":{"$error":"#REF!"}},{"$f":"SUM(G338:G374)","v":{"$error":"#REF!"}},{"$f":"SUM(H338:H374)","v":{"$error":"#REF!"}},null,null,{"$f":"SUM(K338:K374)","v":{"$error":"#REF!"}},{"$f":"SUM(L338:L374)","v":{"$error":"#REF!"}},{"$f":"SUM(M338:M374)","v":{"$error":"#REF!"}},{"$f":"SUM(N338:N374)","v":{"$error":"#REF!"}},{"$f":"SUM(O338:O374)","v":{"$error":"#REF!"}}]
[]
["Check",null,{"$f":"SUM(D378:O378)","v":{"$error":"#REF!"}},{"$f":"ABS(D260-SUM(D318,D376))","v":{"$error":"#REF!"}},{"$f":"ABS(E260-SUM(E318,E376))","v":{"$error":"#REF!"}},{"$f":"ABS(F260-SUM(F318,F376))","v":{"$error":"#REF!"}},{"$f":"ABS(G260-SUM(G318,G376))","v":{"$error":"#REF!"}},{"$f":"ABS(H260-SUM(H318,H376))","v":{"$error":"#REF!"}},null,null,{"$f":"ABS(K260-SUM(K318,K376))","v":{"$error":"#REF!"}},{"$f":"ABS(L260-SUM(L318,L376))","v":{"$error":"#REF!"}},{"$f":"ABS(M260-SUM(M318,M376))","v":{"$error":"#REF!"}},{"$f":"ABS(N260-SUM(N318,N376))","v":{"$error":"#REF!"}},{"$f":"ABS(O260-SUM(O318,O376))","v":{"$error":"#REF!"}}]

{"sheet":"Charges Summary","index":11,"n_rows":233,"n_cols":15,"rows_kept":233,"cut":false,"hidden":true,"merged":[[1,3,1,7],[1,10,1,14]]}
[{"$f":"'DNSP Inputs O&M'!$A$3","v":"AusNet"},null,null,{"$f":"Instructions!$B$16","v":"2027-06-30"},{"$f":"EOMONTH(D1,12)","v":"2028-06-30"},{"$f":"EOMONTH(E1,12)","v":"2029-06-30"},{"$f":"EOMONTH(F1,12)","v":"2030-06-30"},{"$f":"EOMONTH(G1,12)","v":"2031-06-30"},null,null,{"$f":"D1","v":"2027-06-30"},{"$f":"E1","v":"2028-06-30"},{"$f":"F1","v":"2029-06-30"},{"$f":"G1","v":"2030-06-30"},{"$f":"H1","v":"2031-06-30"}]
["Nominal $",null,null,{"$f":"#REF!","v":{"$error":"#REF!"}},null,null,null,null,null,null,{"$f":"#REF!","v":{"$error":"#REF!"}}]
[]
[{"$f":"'Total RAB'!A20","v":"CPI Index"},null,null,{"$f":"(1+WACC!E6)","v":{"$error":"#REF!"}},{"$f":"D4*(1+WACC!F6)","v":{"$error":"#REF!"}},{"$f":"E4*(1+WACC!G6)","v":{"$error":"#REF!"}},{"$f":"F4*(1+WACC!H6)","v":{"$error":"#REF!"}},{"$f":"G4*(1+WACC!I6)","v":{"$error":"#REF!"}},null,null,{"$f":"D4","v":{"$error":"#REF!"}},{"$f":"E4","v":{"$error":"#REF!"}},{"$f":"F4","v":{"$error":"#REF!"}},{"$f":"G4","v":{"$error":"#REF!"}},{"$f":"H4","v":{"$error":"#REF!"}}]
[]
[{"$f":"#REF!","v":{"$error":"#REF!"}},null,null,{"$f":"D$1","v":"2027-06-30"},{"$f":"E$1","v":"2028-06-30"},{"$f":"F$1","v":"2029-06-30"},{"$f":"G$1","v":"2030-06-30"},{"$f":"H$1","v":"2031-06-30"},null,null,{"$f":"K$1","v":"2027-06-30"},{"$f":"L$1","v":"2028-06-30"},{"$f":"M$1","v":"2029-06-30"},{"$f":"N$1","v":"2030-06-30"},{"$f":"O$1","v":"2031-06-30"}]
["O & M"]
[{"$f":"'O & M 2027-2031'!A$10","v":"Dedicated poles - inspection"},null,null,{"$f":"'O & M 2027-2031'!$B$10*D$4","v":{"$error":"#REF!"}},{"$f":"'O & M 2027-2031'!$Y$10*E$4","v":{"$error":"#REF!"}},{"$f":"'O & M 2027-2031'!$AV$10*F$4","v":{"$error":"#REF!"}},{"$f":"'O & M 2027-2031'!$BS$10*G$4","v":{"$error":"#REF!"}},{"$f":"'O & M 2027-2031'!$CP$10*H$4","v":{"$error":"#REF!"}},null,null,{"$f":"'O & M 2027-2031'!$M$10*K$4","v":{"$error":"#REF!"}},{"$f":"'O & M 2027-2031'!$AJ$10*L$4","v":{"$error":"#REF!"}},{"$f":"'O & M 2027-2031'!$BG$10*M$4","v":{"$error":"#REF!"}},{"$f":"'O & M 2027-2031'!$CD$10*N$4","v":{"$error":"#REF!"}},{"$f":"'O & M 2027-2031'!$DA$10*O$4","v":{"$error":"#REF!"}}]
[]
["Capital Charge"]
["Depreciation and Return",null,null,{"$f":"'Depn & WACC Post 2004 Central'!H$87","v":{"$error":"#REF!"}},{"$f":"'Depn & WACC Post 2004 Central'!H$143","v":{"$error":"#REF!"}},{"$f":"'Depn & WACC Post 2004 Central'!H$199","v":{"$error":"#REF!"}},{"$f":"'Depn & WACC Post 2004 Central'!H$255","v":{"$error":"#REF!"}},{"$f":"'Depn & WACC Post 2004 Central'!H$311","v":{"$error":"#REF!"}},null,null,{"$f":"'Depn & WACC Post 2004 N & E'!H$87","v":{"$error":"#REF!"}},{"$f":"'Depn & WACC Post 2004 N & E'!H$143","v":{"$error":"#REF!"}},{"$f":"'Depn & WACC Post 2004 N & E'!H$199","v":{"$error":"#REF!"}},{"$f":"'Depn & WACC Post 2004 N & E'!H$255","v":{"$error":"#REF!"}},{"$f":"'Depn & WACC Post 2004 N & E'!H$311","v":{"$error":"#REF!"}}]
[]
["Total Charge",null,null,{"$f":"SUM(D8,D11)","v":{"$error":"#REF!"}},{"$f":"SUM(E8,E11)","v":{"$error":"#REF!"}},{"$f":"SUM(F8,F11)","v":{"$error":"#REF!"}},{"$f":"SUM(G8,G11)","v":{"$error":"#REF!"}},{"$f":"SUM(H8,H11)","v":{"$error":"#REF!"}},null,null,{"$f":"SUM(K8,K11)","v":{"$error":"#REF!"}},{"$f":"SUM(L8,L11)","v":{"$error":"#REF!"}},{"$f":"SUM(M8,M11)","v":{"$error":"#REF!"}},{"$f":"SUM(N8,N11)","v":{"$error":"#REF!"}},{"$f":"SUM(O8,O11)","v":{"$error":"#REF!"}}]
[]
[]
[]
[]
[{"$f":"#REF!","v":{"$error":"#REF!"}}]
[]
[{"$f":"'O & M 2027-2031'!$A$8","v":"MV80"},null,null,{"$f":"D$1","v":"2027-06-30"},{"$f":"E$1","v":"2028-06-30"},{"$f":"F$1","v":"2029-06-30"},{"$f":"G$1","v":"2030-06-30"},{"$f":"H$1","v":"2031-06-30"},null,null,{"$f":"K$1","v":"2027-06-30"},{"$f":"L$1","v":"2028-06-30"},{"$f":"M$1","v":"2029-06-30"},{"$f":"N$1","v":"2030-06-30"},{"$f":"O$1","v":"2031-06-30"}]
[]
["O & M Charge"]
[{"$f":"'O & M 2027-2031'!A$9","v":"Bulk change & repairs"},null,null,{"$f":"'O & M 2027-2031'!$B$9*D$4","v":{"$error":"#REF!"}},{"$f":"'O & M 2027-2031'!$Y$9*E$4","v":{"$error":"#REF!"}},{"$f":"'O & M 2027-2031'!$AV$9*F$4","v":{"$error":"#REF!"}},{"$f":"'O & M 2027-2031'!$BS$9*G$4","v":{"$error":"#REF!"}},{"$f":"'O & M 2027-2031'!$CP$9*H$4","v":{"$error":"#REF!"}},null,null,{"$f":"'O & M 2027-2031'!$M$9*K$4","v":{"$error":"#REF!"}},{"$f":"'O & M 2027-2031'!$AJ$9*L$4","v":{"$error":"#REF!"}},{"$f":"'O & M 2027-2031'!$BG$9*M$4","v":{"$error":"#REF!"}},{"$f":"'O & M 2027-2031'!$CD$9*N$4","v":{"$error":"#REF!"}},{"$f":"'O & M 2027-2031'!$DA$9*O$4","v":{"$error":"#REF!"}}]
[{"$f":"'O & M 2027-2031'!A$11","v":"Other costs"},null,null,{"$f":"'O & M 2027-2031'!$B$11*D$4","v":{"$error":"#REF!"}},{"$f":"'O & M 2027-2031'!$Y$11*E$4","v":{"$error":"#REF!"}},{"$f":"'O & M 2027-2031'!$AV$11*F$4","v":{"$error":"#REF!"}},{"$f":"'O & M 2027-2031'!$BS$11*G$4","v":{"$error":"#REF!"}},{"$f":"'O & M 2027-2031'!$CP$11*H$4","v":{"$error":"#REF!"}},null,null,{"$f":"'O & M 2027-2031'!$M$11*K$4","v":{"$error":"#REF!"}},{"$f":"'O & M 2027-2031'!$AJ$11*L$4","v":{"$error":"#REF!"}},{"$f":"'O & M 2027-2031'!$BG$11*M$4","v":{"$error":"#REF!"}},{"$f":"'O & M 2027-2031'!$CD$11*N$4","v":{"$error":"#REF!"}},{"$f":"'O & M 2027-2031'!$DA$11*O$4","v":{"$error":"#REF!"}}]
[null,null,null,{"$f":"SUM(D23:D24)","v":{"$error":"#REF!"}},{"$f":"SUM(E23:E24)","v":{"$error":"#REF!"}},{"$f":"SUM(F23:F24)","v":{"$error":"#REF!"}},{"$f":"SUM(G23:G24)","v":{"$error":"#REF!"}},{"$f":"SUM(H23:H24)","v":{"$error":"#REF!"}},null,null,{"$f":"SUM(K23:K24)","v":{"$error":"#REF!"}},{"$f":"SUM(L23:L24)","v":{"$error":"#REF!"}},{"$f":"SUM(M23:M24)","v":{"$error":"#REF!"}},{"$f":"SUM(N23:N24)","v":{"$error":"#REF!"}},{"$f":"SUM(O23:O24)","v":{"$error":"#REF!"}}]
["Capital Charge"]
["Depreciation and Return",null,null,{"$f":"'Depn & WACC Post 2004 Central'!H$40","v":{"$error":"#REF!"}},{"$f":"'Depn & WACC Post 2004 Central'!H$96","v":{"$error":"#REF!"}},{"$f":"'Depn & WACC Post 2004 Central'!H$152","v":{"$error":"#REF!"}},{"$f":"'Depn & WACC Post 2004 Central'!H$208","v":{"$error":"#REF!"}},{"$f":"'Depn & WACC Post 2004 Central'!H$264","v":{"$error":"#REF!"}},null,null,{"$f":"'Depn & WACC Post 2004 N & E'!H$40","v":{"$error":"#REF!"}},{"$f":"'Depn & WACC Post 2004 N & E'!H$96","v":{"$error":"#REF!"}},{"$f":"'Depn & WACC Post 2004 N & E'!H$152","v":{"$error":"#REF!"}},{"$f":"'Depn & WACC Post 2004 N & E'!H$208","v":{"$error":"#REF!"}},{"$f":"'Depn & WACC Post 2004 N & E'!H$264","v":{"$error":"#REF!"}}]
[]
["Poles & Brackets Charge",null,null,{"$f":"D$13","v":{"$error":"#REF!"}},{"$f":"E$13","v":{"$error":"#REF!"}},{"$f":"F$13","v":{"$error":"#REF!"}},{"$f":"G$13","v":{"$error":"#REF!"}},{"$f":"H$13","v":{"$error":"#REF!"}},null,null,{"$f":"K$13","v":{"$error":"#REF!"}},{"$f":"L$13","v":{"$error":"#REF!"}},{"$f":"M$13","v":{"$error":"#REF!"}},{"$f":"N$13","v":{"$error":"#REF!"}},{"$f":"O$13","v":{"$error":"#REF!"}}]
[]
["Total Charge",null,null,{"$f":"SUM(D25,D27,D29)","v":{"$error":"#REF!"}},{"$f":"SUM(E25,E27,E29)","v":{"$error":"#REF!"}},{"$f":"SUM(F25,F27,F29)","v":{"$error":"#REF!"}},{"$f":"SUM(G25,G27,G29)","v":{"$error":"#REF!"}},{"$f":"SUM(H25,H27,H29)","v":{"$error":"#REF!"}},null,null,{"$f":"SUM(K25,K27,K29)","v":{"$error":"#REF!"}},{"$f":"SUM(L25,L27,L29)","v":{"$error":"#REF!"}},{"$f":"SUM(M25,M27,M29)","v":{"$error":"#REF!"}},{"$f":"SUM(N25,N27,N29)","v":{"$error":"#REF!"}},{"$f":"SUM(O25,O27,O29)","v":{"$error":"#REF!"}}]
[]
["WDV RAB - MV 80 Luminaire"]
["RAB WDV",null,null,{"$f":"'Depn & WACC Post 2004 Central'!I$8","v":{"$error":"#REF!"}},{"$f":"'Depn & WACC Post 2004 Central'!I$40","v":{"$error":"#REF!"}},{"$f":"'Depn & WACC Post 2004 Central'!I$96","v":{"$error":"#REF!"}},{"$f":"'Depn & WACC Post 2004 Central'!I$152","v":{"$error":"#REF!"}},{"$f":"'Depn & WACC Post 2004 Central'!I$208","v":{"$error":"#REF!"}},null,null,{"$f":"'Depn & WACC Post 2004 N & E'!I$8","v":{"$error":"#REF!"}},{"$f":"'Depn & WACC Post 2004 N & E'!I$40","v":{"$error":"#REF!"}},{"$f":"'Depn & WACC Post 2004 N & E'!I$96","v":{"$error":"#REF!"}},{"$f":"'Depn & WACC Post 2004 N & E'!I$152","v":{"$error":"#REF!"}},{"$f":"'Depn & WACC Post 2004 N & E'!I$208","v":{"$error":"#REF!"}}]
[]
["Avoided Costs - MV 80 O & M"]
["Materials & labour - bulk lamp change",null,null,{"$f":"'O & M 2027-2031'!$G$9*D$4","v":{"$error":"#REF!"}},{"$f":"'O & M 2027-2031'!$AD$9*E$4","v":{"$error":"#REF!"}},{"$f":"'O & M 2027-2031'!$BA$9*F$4","v":{"$error":"#REF!"}},{"$f":"'O & M 2027-2031'!$BX$9*G$4","v":{"$error":"#REF!"}},{"$f":"'O & M 2027-2031'!$CU$9*H$4","v":{"$error":"#REF!"}},null,null,{"$f":"'O & M 2027-2031'!$R$9*K$4","v":{"$error":"#REF!"}},{"$f":"'O & M 2027-2031'!$AO$9*L$4","v":{"$error":"#REF!"}},{"$f":"'O & M 2027-2031'!$BL$9*M$4","v":{"$error":"#REF!"}},{"$f":"'O & M 2027-2031'!$CI$9*N$4","v":{"$error":"#REF!"}},{"$f":"'O & M 2027-2031'!$DF$9*O$4","v":{"$error":"#REF!"}}]
["Materials & Labour - repair of faults",null,null,{"$f":"'O & M 2027-2031'!$G$10*D$4","v":{"$error":"#REF!"}},{"$f":"'O & M 2027-2031'!$AD$10*E$4","v":{"$error":"#REF!"}},{"$f":"'O & M 2027-2031'!$BA$10*F$4","v":{"$error":"#REF!"}},{"$f":"'O & M 2027-2031'!$BX$10*G$4","v":{"$error":"#REF!"}},{"$f":"'O & M 2027-2031'!$CU$10*H$4","v":{"$error":"#REF!"}},null,null,{"$f":"'O & M 2027-2031'!$R$10*K$4","v":{"$error":"#REF!"}},{"$f":"'O & M 2027-2031'!$AO$10*L$4","v":{"$error":"#REF!"}},{"$f":"'O & M 2027-2031'!$BL$10*M$4","v":{"$error":"#REF!"}},{"$f":"'O & M 2027-2031'!$CI$10*N$4","v":{"$error":"#REF!"}},{"$f":"'O & M 2027-2031'!$DF$10*O$4","v":{"$error":"#REF!"}}]
[null,null,null,{"$f":"SUM(D37:D38)","v":{"$error":"#REF!"}},{"$f":"SUM(E37:E38)","v":{"$error":"#REF!"}},{"$f":"SUM(F37:F38)","v":{"$error":"#REF!"}},{"$f":"SUM(G37:G38)","v":{"$error":"#REF!"}},{"$f":"SUM(H37:H38)","v":{"$error":"#REF!"}},null,null,{"$f":"SUM(K37:K38)","v":{"$error":"#REF!"}},{"$f":"SUM(L37:L38)","v":{"$error":"#REF!"}},{"$f":"SUM(M37:M38)","v":{"$error":"#REF!"}},{"$f":"SUM(N37:N38)","v":{"$error":"#REF!"}},{"$f":"SUM(O37:O38)","v":{"$error":"#REF!"}}]
[]
[]
[]
[]
[{"$f":"'O & M 2027-2031'!$A$14","v":"S-HP 150"},null,null,{"$f":"D$1","v":"2027-06-30"},{"$f":"E$1","v":"2028-06-30"},{"$f":"F$1","v":"2029-06-30"},{"$f":"G$1","v":"2030-06-30"},{"$f":"H$1","v":"2031-06-30"},null,null,{"$f":"K$1","v":"2027-06-30"},{"$f":"L$1","v":"2028-06-30"},{"$f":"M$1","v":"2029-06-30"},{"$f":"N$1","v":"2030-06-30"},{"$f":"O$1","v":"2031-06-30"}]
[]
["O & M Charge"]
[{"$f":"'O & M 2027-2031'!A$15","v":"Patrols and repairs"},null,null,{"$f":"'O & M 2027-2031'!$B$15*D$4","v":{"$error":"#REF!"}},{"$f":"'O & M 2027-2031'!$Y$15*E$4","v":{"$error":"#REF!"}},{"$f":"'O & M 2027-2031'!$AV$15*F$4","v":{"$error":"#REF!"}},{"$f":"'O & M 2027-2031'!$BS$15*G$4","v":{"$error":"#REF!"}},{"$f":"'O & M 2027-2031'!$CP$15*H$4","v":{"$error":"#REF!"}},null,null,{"$f":"'O & M 2027-2031'!$M$15*K$4","v":{"$error":"#REF!"}},{"$f":"'O & M 2027-2031'!$AJ$15*L$4","v":{"$error":"#REF!"}},{"$f":"'O & M 2027-2031'!$BG$15*M$4","v":{"$error":"#REF!"}},{"$f":"'O & M 2027-2031'!$CD$15*N$4","v":{"$error":"#REF!"}},{"$f":"'O & M 2027-2031'!$DA$15*O$4","v":{"$error":"#REF!"}}]
[{"$f":"'O & M 2027-2031'!A$17","v":"Other costs"},null,null,{"$f":"'O & M 2027-2031'!$B$17*D$4","v":{"$error":"#REF!"}},{"$f":"'O & M 2027-2031'!$Y$17*E$4","v":{"$error":"#REF!"}},{"$f":"'O & M 2027-2031'!$AV$17*F$4","v":{"$error":"#REF!"}},{"$f":"'O & M 2027-2031'!$BS$17*G$4","v":{"$error":"#REF!"}},{"$f":"'O & M 2027-2031'!$CP$17*H$4","v":{"$error":"#REF!"}},null,null,{"$f":"'O & M 2027-2031'!$M$17*K$4","v":{"$error":"#REF!"}},{"$f":"'O & M 2027-2031'!$AJ$17*L$4","v":{"$error":"#REF!"}},{"$f":"'O & M 2027-2031'!$BG$17*M$4","v":{"$error":"#REF!"}},{"$f":"'O & M 2027-2031'!$CD$17*N$4","v":{"$error":"#REF!"}},{"$f":"'O & M 2027-2031'!$DA$17*O$4","v":{"$error":"#REF!"}}]
[null,null,null,{"$f":"SUM(D47:D48)","v":{"$error":"#REF!"}},{"$f":"SUM(E47:E48)","v":{"$error":"#REF!"}},{"$f":"SUM(F47:F48)","v":{"$error":"#REF!"}},{"$f":"SUM(G47:G48)","v":{"$error":"#REF!"}},{"$f":"SUM(H47:H48)","v":{"$error":"#REF!"}},null,null,{"$f":"SUM(K47:K48)","v":{"$error":"#REF!"}},{"$f":"SUM(L47:L48)","v":{"$error":"#REF!"}},{"$f":"SUM(M47:M48)","v":{"$error":"#REF!"}},{"$f":"SUM(N47:N48)","v":{"$error":"#REF!"}},{"$f":"SUM(O47:O48)","v":{"$error":"#REF!"}}]
["Capital Charge"]
["Depreciation and Return",null,null,{"$f":"'Depn & WACC Post 2004 Central'!H$41","v":{"$error":"#REF!"}},{"$f":"'Depn & WACC Post 2004 Central'!H$97","v":{"$error":"#REF!"}},{"$f":"'Depn & WACC Post 2004 Central'!H$153","v":{"$error":"#REF!"}},{"$f":"'Depn & WACC Post 2004 Central'!H$209","v":{"$error":"#REF!"}},{"$f":"'Depn & WACC Post 2004 Central'!H$265","v":{"$error":"#REF!"}},null,null,{"$f":"'Depn & WACC Post 2004 N & E'!H$41","v":{"$error":"#REF!"}},{"$f":"'Depn & WACC Post 2004 N & E'!H$97","v":{"$error":"#REF!"}},{"$f":"'Depn & WACC Post 2004 N & E'!H$153","v":{"$error":"#REF!"}},{"$f":"'Depn & WACC Post 2004 N & E'!H$209","v":{"$error":"#REF!"}},{"$f":"'Depn & WACC Post 2004 N & E'!H$265","v":{"$error":"#REF!"}}]
[]
["Poles & Brackets Charge",null,null,{"$f":"D$13","v":{"$error":"#REF!"}},{"$f":"E$13","v":{"$error":"#REF!"}},{"$f":"F$13","v":{"$error":"#REF!"}},{"$f":"G$13","v":{"$error":"#REF!"}},{"$f":"H$13","v":{"$error":"#REF!"}},null,null,{"$f":"K$13","v":{"$error":"#REF!"}},{"$f":"L$13","v":{"$error":"#REF!"}},{"$f":"M$13","v":{"$error":"#REF!"}},{"$f":"N$13","v":{"$error":"#REF!"}},{"$f":"O$13","v":{"$error":"#REF!"}}]
[]
["Total Charge",null,null,{"$f":"SUM(D49,D51,D53)","v":{"$error":"#REF!"}},{"$f":"SUM(E49,E51,E53)","v":{"$error":"#REF!"}},{"$f":"SUM(F49,F51,F53)","v":{"$error":"#REF!"}},{"$f":"SUM(G49,G51,G53)","v":{"$error":"#REF!"}},{"$f":"SUM(H49,H51,H53)","v":{"$error":"#REF!"}},null,null,{"$f":"SUM(K49,K51,K53)","v":{"$error":"#REF!"}},{"$f":"SUM(L49,L51,L53)","v":{"$error":"#REF!"}},{"$f":"SUM(M49,M51,M53)","v":{"$error":"#REF!"}},{"$f":"SUM(N49,N51,N53)","v":{"$error":"#REF!"}},{"$f":"SUM(O49,O51,O53)","v":{"$error":"#REF!"}}]
[]
[]
[]
[]
[{"$f":"'O & M 2027-2031'!$A$20","v":"S-HP 250"},null,null,{"$f":"D$1","v":"2027-06-30"},{"$f":"E$1","v":"2028-06-30"},{"$f":"F$1","v":"2029-06-30"},{"$f":"G$1","v":"2030-06-30"},{"$f":"H$1","v":"2031-06-30"},null,null,{"$f":"K$1","v":"2027-06-30"},{"$f":"L$1","v":"2028-06-30"},{"$f":"M$1","v":"2029-06-30"},{"$f":"N$1","v":"2030-06-30"},{"$f":"O$1","v":"2031-06-30"}]
[]
["O & M Charge"]
[{"$f":"'O & M 2027-2031'!A$21","v":"Patrols and repairs"},null,null,{"$f":"'O & M 2027-2031'!$B$21*D$4","v":{"$error":"#REF!"}},{"$f":"'O & M 2027-2031'!$Y$21*E$4","v":{"$error":"#REF!"}},{"$f":"'O & M 2027-2031'!$AV$21*F$4","v":{"$error":"#REF!"}},{"$f":"'O & M 2027-2031'!$BS$21*G$4","v":{"$error":"#REF!"}},{"$f":"'O & M 2027-2031'!$CP$21*H$4","v":{"$error":"#REF!"}},null,null,{"$f":"'O & M 2027-2031'!$M$21*K$4","v":{"$error":"#REF!"}},{"$f":"'O & M 2027-2031'!$AJ$21*L$4","v":{"$error":"#REF!"}},{"$f":"'O & M 2027-2031'!$BG$21*M$4","v":{"$error":"#REF!"}},{"$f":"'O & M 2027-2031'!$CD$21*N$4","v":{"$error":"#REF!"}},{"$f":"'O & M 2027-2031'!$DA$21*O$4","v":{"$error":"#REF!"}}]
[{"$f":"'O & M 2027-2031'!A$23","v":"Other costs"},null,null,{"$f":"'O & M 2027-2031'!$B$23*D$4","v":{"$error":"#REF!"}},{"$f":"'O & M 2027-2031'!$Y$23*E$4","v":{"$error":"#REF!"}},{"$f":"'O & M 2027-2031'!$AV$23*F$4","v":{"$error":"#REF!"}},{"$f":"'O & M 2027-2031'!$BS$23*G$4","v":{"$error":"#REF!"}},{"$f":"'O & M 2027-2031'!$CP$23*H$4","v":{"$error":"#REF!"}},null,null,{"$f":"'O & M 2027-2031'!$M$23*K$4","v":{"$error":"#REF!"}},{"$f":"'O & M 2027-2031'!$AJ$23*L$4","v":{"$error":"#REF!"}},{"$f":"'O & M 2027-2031'!$BG$23*M$4","v":{"$error":"#REF!"}},{"$f":"'O & M 2027-2031'!$CD$23*N$4","v":{"$error":"#REF!"}},{"$f":"'O & M 2027-2031'!$DA$23*O$4","v":{"$error":"#REF!"}}]
[null,null,null,{"$f":"SUM(D63:D64)","v":{"$error":"#REF!"}},{"$f":"SUM(E63:E64)","v":{"$error":"#REF!"}},{"$f":"SUM(F63:F64)","v":{"$error":"#REF!"}},{"$f":"SUM(G63:G64)","v":{"$error":"#REF!"}},{"$f":"SUM(H63:H64)","v":{"$error":"#REF!"}},null,null,{"$f":"SUM(K63:K64)","v":{"$error":"#REF!"}},{"$f":"SUM(L63:L64)","v":{"$error":"#REF!"}},{"$f":"SUM(M63:M64)","v":{"$error":"#REF!"}},{"$f":"SUM(N63:N64)","v":{"$error":"#REF!"}},{"$f":"SUM(O63:O64)","v":{"$error":"#REF!"}}]
["Capital Charge"]
["Depreciation and Return",null,null,{"$f":"'Depn & WACC Post 2004 Central'!H$42","v":{"$error":"#REF!"}},{"$f":"'Depn & WACC Post 2004 Central'!H$98","v":{"$error":"#REF!"}},{"$f":"'Depn & WACC Post 2004 Central'!H$154","v":{"$error":"#REF!"}},{"$f":"'Depn & WACC Post 2004 Central'!H$210","v":{"$error":"#REF!"}},{"$f":"'Depn & WACC Post 2004 Central'!H$266","v":{"$error":"#REF!"}},null,null,{"$f":"'Depn & WACC Post 2004 N & E'!H$42","v":{"$error":"#REF!"}},{"$f":"'Depn & WACC Post 2004 N & E'!H$98","v":{"$error":"#REF!"}},{"$f":"'Depn & WACC Post 2004 N & E'!H$154","v":{"$error":"#REF!"}},{"$f":"'Depn & WACC Post 2004 N & E'!H$210","v":{"$error":"#REF!"}},{"$f":"'Depn & WACC Post 2004 N & E'!H$266","v":{"$error":"#REF!"}}]
[]
["Poles & Brackets Charge",null,null,{"$f":"D$13","v":{"$error":"#REF!"}},{"$f":"E$13","v":{"$error":"#REF!"}},{"$f":"F$13","v":{"$error":"#REF!"}},{"$f":"G$13","v":{"$error":"#REF!"}},{"$f":"H$13","v":{"$error":"#REF!"}},null,null,{"$f":"K$13","v":{"$error":"#REF!"}},{"$f":"L$13","v":{"$error":"#REF!"}},{"$f":"M$13","v":{"$error":"#REF!"}},{"$f":"N$13","v":{"$error":"#REF!"}},{"$f":"O$13","v":{"$error":"#REF!"}}]
[]
["Total Charge",null,null,{"$f":"SUM(D65,D67,D69)","v":{"$error":"#REF!"}},{"$f":"SUM(E65,E67,E69)","v":{"$error":"#REF!"}},{"$f":"SUM(F65,F67,F69)","v":{"$error":"#REF!"}},{"$f":"SUM(G65,G67,G69)","v":{"$error":"#REF!"}},{"$f":"SUM(H65,H67,H69)","v":{"$error":"#REF!"}},null,null,{"$f":"SUM(K65,K67,K69)","v":{"$error":"#REF!"}},{"$f":"SUM(L65,L67,L69)","v":{"$error":"#REF!"}},{"$f":"SUM(M65,M67,M69)","v":{"$error":"#REF!"}},{"$f":"SUM(N65,N67,N69)","v":{"$error":"#REF!"}},{"$f":"SUM(O65,O67,O69)","v":{"$error":"#REF!"}}]
[]
[]
[]
[]
[{"$f":"#REF!","v":{"$error":"#REF!"}}]
[]
[{"$f":"'O & M 2027-2031'!$A$26","v":"T5 (2 X 14W)"},null,null,{"$f":"D$1","v":"2027-06-30"},{"$f":"E$1","v":"2028-06-30"},{"$f":"F$1","v":"2029-06-30"},{"$f":"G$1","v":"2030-06-30"},{"$f":"H$1","v":"2031-06-30"},null,null,{"$f":"K$1","v":"2027-06-30"},{"$f":"L$1","v":"2028-06-30"},{"$f":"M$1","v":"2029-06-30"},{"$f":"N$1","v":"2030-06-30"},{"$f":"O$1","v":"2031-06-30"}]
[]
["O & M Charge"]
[{"$f":"'O & M 2027-2031'!A$27","v":"Bulk change & repairs"},null,null,{"$f":"'O & M 2027-2031'!$B$27*D$4","v":{"$error":"#REF!"}},{"$f":"'O & M 2027-2031'!$Y$27*E$4","v":{"$error":"#REF!"}},{"$f":"'O & M 2027-2031'!$AV$27*F$4","v":{"$error":"#REF!"}},{"$f":"'O & M 2027-2031'!$BS$27*G$4","v":{"$error":"#REF!"}},{"$f":"'O & M 2027-2031'!$CP$27*H$4","v":{"$error":"#REF!"}},null,null,{"$f":"'O & M 2027-2031'!$M$27*K$4","v":{"$error":"#REF!"}},{"$f":"'O & M 2027-2031'!$AJ$27*L$4","v":{"$error":"#REF!"}},{"$f":"'O & M 2027-2031'!$BG$27*M$4","v":{"$error":"#REF!"}},{"$f":"'O & M 2027-2031'!$CD$27*N$4","v":{"$error":"#REF!"}},{"$f":"'O & M 2027-2031'!$DA$27*O$4","v":{"$error":"#REF!"}}]
[{"$f":"'O & M 2027-2031'!A$29","v":"Other costs"},null,null,{"$f":"'O & M 2027-2031'!$B$29*D$4","v":{"$error":"#REF!"}},{"$f":"'O & M 2027-2031'!$Y$29*E$4","v":{"$error":"#REF!"}},{"$f":"'O & M 2027-2031'!$AV$29*F$4","v":{"$error":"#REF!"}},{"$f":"'O & M 2027-2031'!$BS$29*G$4","v":{"$error":"#REF!"}},{"$f":"'O & M 2027-2031'!$CP$29*H$4","v":{"$error":"#REF!"}},null,null,{"$f":"'O & M 2027-2031'!$M$29*K$4","v":{"$error":"#REF!"}},{"$f":"'O & M 2027-2031'!$AJ$29*L$4","v":{"$error":"#REF!"}},{"$f":"'O & M 2027-2031'!$BG$29*M$4","v":{"$error":"#REF!"}},{"$f":"'O & M 2027-2031'!$CD$29*N$4","v":{"$error":"#REF!"}},{"$f":"'O & M 2027-2031'!$DA$29*O$4","v":{"$error":"#REF!"}}]
[null,null,null,{"$f":"SUM(D81:D82)","v":{"$error":"#REF!"}},{"$f":"SUM(E81:E82)","v":{"$error":"#REF!"}},{"$f":"SUM(F81:F82)","v":{"$error":"#REF!"}},{"$f":"SUM(G81:G82)","v":{"$error":"#REF!"}},{"$f":"SUM(H81:H82)","v":{"$error":"#REF!"}},null,null,{"$f":"SUM(K81:K82)","v":{"$error":"#REF!"}},{"$f":"SUM(L81:L82)","v":{"$error":"#REF!"}},{"$f":"SUM(M81:M82)","v":{"$error":"#REF!"}},{"$f":"SUM(N81:N82)","v":{"$error":"#REF!"}},{"$f":"SUM(O81:O82)","v":{"$error":"#REF!"}}]
["Capital Charge"]
["Depreciation and Return",null,null,{"$f":"'Depn & WACC Post 2004 Central'!$H$69","v":{"$error":"#REF!"}},{"$f":"'Depn & WACC Post 2004 Central'!$H$125","v":{"$error":"#REF!"}},{"$f":"'Depn & WACC Post 2004 Central'!$H$181","v":{"$error":"#REF!"}},{"$f":"'Depn & WACC Post 2004 Central'!$H$237","v":{"$error":"#REF!"}},{"$f":"'Depn & WACC Post 2004 Central'!$H$293","v":{"$error":"#REF!"}},null,null,{"$f":"'Depn & WACC Post 2004 N & E'!$H$69","v":{"$error":"#REF!"}},{"$f":"'Depn & WACC Post 2004 N & E'!$H$125","v":{"$error":"#REF!"}},{"$f":"'Depn & WACC Post 2004 N & E'!$H$181","v":{"$error":"#REF!"}},{"$f":"'Depn & WACC Post 2004 N & E'!$H$237","v":{"$error":"#REF!"}},{"$f":"'Depn & WACC Post 2004 N & E'!$H$293","v":{"$error":"#REF!"}}]
[]
["Poles & Brackets Charge",null,null,{"$f":"D$13","v":{"$error":"#REF!"}},{"$f":"E$13","v":{"$error":"#REF!"}},{"$f":"F$13","v":{"$error":"#REF!"}},{"$f":"G$13","v":{"$error":"#REF!"}},{"$f":"H$13","v":{"$error":"#REF!"}},null,null,{"$f":"K$13","v":{"$error":"#REF!"}},{"$f":"L$13","v":{"$error":"#REF!"}},{"$f":"M$13","v":{"$error":"#REF!"}},{"$f":"N$13","v":{"$error":"#REF!"}},{"$f":"O$13","v":{"$error":"#REF!"}}]
[]
["Total Charge",null,null,{"$f":"SUM(D83,D85,D87)","v":{"$error":"#REF!"}},{"$f":"SUM(E83,E85,E87)","v":{"$error":"#REF!"}},{"$f":"SUM(F83,F85,F87)","v":{"$error":"#REF!"}},{"$f":"SUM(G83,G85,G87)","v":{"$error":"#REF!"}},{"$f":"SUM(H83,H85,H87)","v":{"$error":"#REF!"}},null,null,{"$f":"SUM(K83,K85,K87)","v":{"$error":"#REF!"}},{"$f":"SUM(L83,L85,L87)","v":{"$error":"#REF!"}},{"$f":"SUM(M83,M85,M87)","v":{"$error":"#REF!"}},{"$f":"SUM(N83,N85,N87)","v":{"$error":"#REF!"}},{"$f":"SUM(O83,O85,O87)","v":{"$error":"#REF!"}}]
[]
[]
[]
[]
[{"$f":"'O & M 2027-2031'!$A$32","v":"T5 (2 X 24W)"},null,null,{"$f":"D$1","v":"2027-06-30"},{"$f":"E$1","v":"2028-06-30"},{"$f":"F$1","v":"2029-06-30"},{"$f":"G$1","v":"2030-06-30"},{"$f":"H$1","v":"2031-06-30"},null,null,{"$f":"K$1","v":"2027-06-30"},{"$f":"L$1","v":"2028-06-30"},{"$f":"M$1","v":"2029-06-30"},{"$f":"N$1","v":"2030-06-30"},{"$f":"O$1","v":"2031-06-30"}]
[]
["O & M Charge"]
[{"$f":"'O & M 2027-2031'!A$33","v":"Bulk change & repairs"},null,null,{"$f":"'O & M 2027-2031'!$B$33*D$4","v":{"$error":"#REF!"}},{"$f":"'O & M 2027-2031'!$Y$33*E$4","v":{"$error":"#REF!"}},{"$f":"'O & M 2027-2031'!$AV$33*F$4","v":{"$error":"#REF!"}},{"$f":"'O & M 2027-2031'!$BS$33*G$4","v":{"$error":"#REF!"}},{"$f":"'O & M 2027-2031'!$CP$33*H$4","v":{"$error":"#REF!"}},null,null,{"$f":"'O & M 2027-2031'!$M$33*K$4","v":{"$error":"#REF!"}},{"$f":"'O & M 2027-2031'!$AJ$33*L$4","v":{"$error":"#REF!"}},{"$f":"'O & M 2027-2031'!$BG$33*M$4","v":{"$error":"#REF!"}},{"$f":"'O & M 2027-2031'!$CD$33*N$4","v":{"$error":"#REF!"}},{"$f":"'O & M 2027-2031'!$DA$33*O$4","v":{"$error":"#REF!"}}]
[{"$f":"'O & M 2027-2031'!A$35","v":"Other costs"},null,null,{"$f":"'O & M 2027-2031'!$B$35*D$4","v":{"$error":"#REF!"}},{"$f":"'O & M 2027-2031'!$Y$35*E$4","v":{"$error":"#REF!"}},{"$f":"'O & M 2027-2031'!$AV$35*F$4","v":{"$error":"#REF!"}},{"$f":"'O & M 2027-2031'!$BS$35*G$4","v":{"$error":"#REF!"}},{"$f":"'O & M 2027-2031'!$CP$35*H$4","v":{"$error":"#REF!"}},null,null,{"$f":"'O & M 2027-2031'!$M$35*K$4","v":{"$error":"#REF!"}},{"$f":"'O & M 2027-2031'!$AJ$35*L$4","v":{"$error":"#REF!"}},{"$f":"'O & M 2027-2031'!$BG$35*M$4","v":{"$error":"#REF!"}},{"$f":"'O & M 2027-2031'!$CD$35*N$4","v":{"$error":"#REF!"}},{"$f":"'O & M 2027-2031'!$DA$35*O$4","v":{"$error":"#REF!"}}]
[null,null,null,{"$f":"SUM(D97:D98)","v":{"$error":"#REF!"}},{"$f":"SUM(E97:E98)","v":{"$error":"#REF!"}},{"$f":"SUM(F97:F98)","v":{"$error":"#REF!"}},{"$f":"SUM(G97:G98)","v":{"$error":"#REF!"}},{"$f":"SUM(H97:H98)","v":{"$error":"#REF!"}},null,null,{"$f":"SUM(K97:K98)","v":{"$error":"#REF!"}},{"$f":"SUM(L97:L98)","v":{"$error":"#REF!"}},{"$f":"SUM(M97:M98)","v":{"$error":"#REF!"}},{"$f":"SUM(N97:N98)","v":{"$error":"#REF!"}},{"$f":"SUM(O97:O98)","v":{"$error":"#REF!"}}]
["Capital Charge"]
["Depreciation and Return",null,null,{"$f":"'Depn & WACC Post 2004 Central'!$H$70","v":{"$error":"#REF!"}},{"$f":"'Depn & WACC Post 2004 Central'!$H$126","v":{"$error":"#REF!"}},{"$f":"'Depn & WACC Post 2004 Central'!$H$182","v":{"$error":"#REF!"}},{"$f":"'Depn & WACC Post 2004 Central'!$H$238","v":{"$error":"#REF!"}},{"$f":"'Depn & WACC Post 2004 Central'!$H$294","v":{"$error":"#REF!"}},null,null,{"$f":"'Depn & WACC Post 2004 N & E'!$H$70","v":{"$error":"#REF!"}},{"$f":"'Depn & WACC Post 2004 N & E'!$H$126","v":{"$error":"#REF!"}},{"$f":"'Depn & WACC Post 2004 N & E'!$H$182","v":{"$error":"#REF!"}},{"$f":"'Depn & WACC Post 2004 N & E'!$H$238","v":{"$error":"#REF!"}},{"$f":"'Depn & WACC Post 2004 N & E'!$H$294","v":{"$error":"#REF!"}}]
[]
["Poles & Brackets Charge",null,null,{"$f":"D$13","v":{"$error":"#REF!"}},{"$f":"E$13","v":{"$error":"#REF!"}},{"$f":"F$13","v":{"$error":"#REF!"}},{"$f":"G$13","v":{"$error":"#REF!"}},{"$f":"H$13","v":{"$error":"#REF!"}},null,null,{"$f":"K$13","v":{"$error":"#REF!"}},{"$f":"L$13","v":{"$error":"#REF!"}},{"$f":"M$13","v":{"$error":"#REF!"}},{"$f":"N$13","v":{"$error":"#REF!"}},{"$f":"O$13","v":{"$error":"#REF!"}}]
[]
["Total Charge",null,null,{"$f":"SUM(D99,D101,D103)","v":{"$error":"#REF!"}},{"$f":"SUM(E99,E101,E103)","v":{"$error":"#REF!"}},{"$f":"SUM(F99,F101,F103)","v":{"$error":"#REF!"}},{"$f":"SUM(G99,G101,G103)","v":{"$error":"#REF!"}},{"$f":"SUM(H99,H101,H103)","v":{"$error":"#REF!"}},null,null,{"$f":"SUM(K99,K101,K103)","v":{"$error":"#REF!"}},{"$f":"SUM(L99,L101,L103)","v":{"$error":"#REF!"}},{"$f":"SUM(M99,M101,M103)","v":{"$error":"#REF!"}},{"$f":"SUM(N99,N101,N103)","v":{"$error":"#REF!"}},{"$f":"SUM(O99,O101,O103)","v":{"$error":"#REF!"}}]
[]
[]
[]
[]
[{"$f":"'O & M 2027-2031'!$A$38","v":"LED 18W"},null,null,{"$f":"D$1","v":"2027-06-30"},{"$f":"E$1","v":"2028-06-30"},{"$f":"F$1","v":"2029-06-30"},{"$f":"G$1","v":"2030-06-30"},{"$f":"H$1","v":"2031-06-30"},null,null,{"$f":"K$1","v":"2027-06-30"},{"$f":"L$1","v":"2028-06-30"},{"$f":"M$1","v":"2029-06-30"},{"$f":"N$1","v":"2030-06-30"},{"$f":"O$1","v":"2031-06-30"}]
[]
["O & M Charge"]
[{"$f":"'O & M 2027-2031'!A$33","v":"Bulk change & repairs"},null,null,{"$f":"'O & M 2027-2031'!$B$39*D$4","v":{"$error":"#REF!"}},{"$f":"'O & M 2027-2031'!$Y$39*E$4","v":{"$error":"#REF!"}},{"$f":"'O & M 2027-2031'!$AV$39*F$4","v":{"$error":"#REF!"}},{"$f":"'O & M 2027-2031'!$BS$39*G$4","v":{"$error":"#REF!"}},{"$f":"'O & M 2027-2031'!$CP$39*H$4","v":{"$error":"#REF!"}},null,null,{"$f":"'O & M 2027-2031'!$M$39*K$4","v":{"$error":"#REF!"}},{"$f":"'O & M 2027-2031'!$AJ$39*L$4","v":{"$error":"#REF!"}},{"$f":"'O & M 2027-2031'!$BG$39*M$4","v":{"$error":"#REF!"}},{"$f":"'O & M 2027-2031'!$CD$39*N$4","v":{"$error":"#REF!"}},{"$f":"'O & M 2027-2031'!$DA$39*O$4","v":{"$error":"#REF!"}}]
[{"$f":"'O & M 2027-2031'!A$35","v":"Other costs"},null,null,{"$f":"'O & M 2027-2031'!$B$41*D$4","v":{"$error":"#REF!"}},{"$f":"'O & M 2027-2031'!$Y$41*E$4","v":{"$error":"#REF!"}},{"$f":"'O & M 2027-2031'!$AV$41*F$4","v":{"$error":"#REF!"}},{"$f":"'O & M 2027-2031'!$BS$41*G$4","v":{"$error":"#REF!"}},{"$f":"'O & M 2027-2031'!$CP$41*H$4","v":{"$error":"#REF!"}},null,null,{"$f":"'O & M 2027-2031'!$M$41*K$4","v":{"$error":"#REF!"}},{"$f":"'O & M 2027-2031'!$AJ$41*L$4","v":{"$error":"#REF!"}},{"$f":"'O & M 2027-2031'!$BG$41*M$4","v":{"$error":"#REF!"}},{"$f":"'O & M 2027-2031'!$CD$41*N$4","v":{"$error":"#REF!"}},{"$f":"'O & M 2027-2031'!$DA$41*O$4","v":{"$error":"#REF!"}}]
[null,null,null,{"$f":"SUM(D113:D114)","v":{"$error":"#REF!"}},{"$f":"SUM(E113:E114)","v":{"$error":"#REF!"}},{"$f":"SUM(F113:F114)","v":{"$error":"#REF!"}},{"$f":"SUM(G113:G114)","v":{"$error":"#REF!"}},{"$f":"SUM(H113:H114)","v":{"$error":"#REF!"}},null,null,{"$f":"SUM(K113:K114)","v":{"$error":"#REF!"}},{"$f":"SUM(L113:L114)","v":{"$error":"#REF!"}},{"$f":"SUM(M113:M114)","v":{"$error":"#REF!"}},{"$f":"SUM(N113:N114)","v":{"$error":"#REF!"}},{"$f":"SUM(O113:O114)","v":{"$error":"#REF!"}}]
["Capital Charge"]
["Depreciation and Return",null,null,{"$f":"'Depn & WACC Post 2004 Central'!$H$71","v":{"$error":"#REF!"}},{"$f":"'Depn & WACC Post 2004 Central'!$H$127","v":{"$error":"#REF!"}},{"$f":"'Depn & WACC Post 2004 Central'!$H$183","v":{"$error":"#REF!"}},{"$f":"'Depn & WACC Post 2004 Central'!$H$239","v":{"$error":"#REF!"}},{"$f":"'Depn & WACC Post 2004 Central'!$H$295","v":{"$error":"#REF!"}},null,null,{"$f":"'Depn & WACC Post 2004 N & E'!$H$71","v":{"$error":"#REF!"}},{"$f":"'Depn & WACC Post 2004 N & E'!$H$127","v":{"$error":"#REF!"}},{"$f":"'Depn & WACC Post 2004 N & E'!$H$183","v":{"$error":"#REF!"}},{"$f":"'Depn & WACC Post 2004 N & E'!$H$239","v":{"$error":"#REF!"}},{"$f":"'Depn & WACC Post 2004 N & E'!$H$295","v":{"$error":"#REF!"}}]
[]
["Poles & Brackets Charge",null,null,{"$f":"D$13","v":{"$error":"#REF!"}},{"$f":"E$13","v":{"$error":"#REF!"}},{"$f":"F$13","v":{"$error":"#REF!"}},{"$f":"G$13","v":{"$error":"#REF!"}},{"$f":"H$13","v":{"$error":"#REF!"}},null,null,{"$f":"K$13","v":{"$error":"#REF!"}},{"$f":"L$13","v":{"$error":"#REF!"}},{"$f":"M$13","v":{"$error":"#REF!"}},{"$f":"N$13","v":{"$error":"#REF!"}},{"$f":"O$13","v":{"$error":"#REF!"}}]
[]
["Total Charge",null,null,{"$f":"SUM(D115,D117,D119)","v":{"$error":"#REF!"}},{"$f":"SUM(E115,E117,E119)","v":{"$error":"#REF!"}},{"$f":"SUM(F115,F117,F119)","v":{"$error":"#REF!"}},{"$f":"SUM(G115,G117,G119)","v":{"$error":"#REF!"}},{"$f":"SUM(H115,H117,H119)","v":{"$error":"#REF!"}},null,null,{"$f":"SUM(K115,K117,K119)","v":{"$error":"#REF!"}},{"$f":"SUM(L115,L117,L119)","v":{"$error":"#REF!"}},{"$f":"SUM(M115,M117,M119)","v":{"$error":"#REF!"}},{"$f":"SUM(N115,N117,N119)","v":{"$error":"#REF!"}},{"$f":"SUM(O115,O117,O119)","v":{"$error":"#REF!"}}]
[]
[]
[]
[]
[{"$f":"'O & M 2027-2031'!A44","v":"LED 14W"},null,null,{"$f":"D$1","v":"2027-06-30"},{"$f":"E$1","v":"2028-06-30"},{"$f":"F$1","v":"2029-06-30"},{"$f":"G$1","v":"2030-06-30"},{"$f":"H$1","v":"2031-06-30"},null,null,{"$f":"K$1","v":"2027-06-30"},{"$f":"L$1","v":"2028-06-30"},{"$f":"M$1","v":"2029-06-30"},{"$f":"N$1","v":"2030-06-30"},{"$f":"O$1","v":"2031-06-30"}]
[]
["O & M Charge"]
[{"$f":"'O & M 2027-2031'!A$33","v":"Bulk change & repairs"},null,null,{"$f":"'O & M 2027-2031'!$B$45*D$4","v":{"$error":"#REF!"}},{"$f":"'O & M 2027-2031'!$Y$45*E$4","v":{"$error":"#REF!"}},{"$f":"'O & M 2027-2031'!$AV$45*F$4","v":{"$error":"#REF!"}},{"$f":"'O & M 2027-2031'!$BS$45*G$4","v":{"$error":"#REF!"}},{"$f":"'O & M 2027-2031'!$CP$45*H$4","v":{"$error":"#REF!"}},null,null,{"$f":"'O & M 2027-2031'!$M$45*K$4","v":{"$error":"#REF!"}},{"$f":"'O & M 2027-2031'!$AJ$45*L$4","v":{"$error":"#REF!"}},{"$f":"'O & M 2027-2031'!$BG$45*M$4","v":{"$error":"#REF!"}},{"$f":"'O & M 2027-2031'!$CD$45*N$4","v":{"$error":"#REF!"}},{"$f":"'O & M 2027-2031'!$DA$45*O$4","v":{"$error":"#REF!"}}]
[{"$f":"'O & M 2027-2031'!A$35","v":"Other costs"},null,null,{"$f":"'O & M 2027-2031'!$B$47*D$4","v":{"$error":"#REF!"}},{"$f":"'O & M 2027-2031'!$Y$47*E$4","v":{"$error":"#REF!"}},{"$f":"'O & M 2027-2031'!$AV$47*F$4","v":{"$error":"#REF!"}},{"$f":"'O & M 2027-2031'!$BS$47*G$4","v":{"$error":"#REF!"}},{"$f":"'O & M 2027-2031'!$CP$47*H$4","v":{"$error":"#REF!"}},null,null,{"$f":"'O & M 2027-2031'!$M$47*K$4","v":{"$error":"#REF!"}},{"$f":"'O & M 2027-2031'!$AJ$47*L$4","v":{"$error":"#REF!"}},{"$f":"'O & M 2027-2031'!$BG$47*M$4","v":{"$error":"#REF!"}},{"$f":"'O & M 2027-2031'!$CD$47*N$4","v":{"$error":"#REF!"}},{"$f":"'O & M 2027-2031'!$DA$47*O$4","v":{"$error":"#REF!"}}]
[null,null,null,{"$f":"SUM(D129:D130)","v":{"$error":"#REF!"}},{"$f":"SUM(E129:E130)","v":{"$error":"#REF!"}},{"$f":"SUM(F129:F130)","v":{"$error":"#REF!"}},{"$f":"SUM(G129:G130)","v":{"$error":"#REF!"}},{"$f":"SUM(H129:H130)","v":{"$error":"#REF!"}},null,null,{"$f":"SUM(K129:K130)","v":{"$error":"#REF!"}},{"$f":"SUM(L129:L130)","v":{"$error":"#REF!"}},{"$f":"SUM(M129:M130)","v":{"$error":"#REF!"}},{"$f":"SUM(N129:N130)","v":{"$error":"#REF!"}},{"$f":"SUM(O129:O130)","v":{"$error":"#REF!"}}]
["Capital Charge"]
["Depreciation and Return",null,null,{"$f":"'Depn & WACC Post 2004 Central'!$H$72","v":{"$error":"#REF!"}},{"$f":"'Depn & WACC Post 2004 Central'!$H$128","v":{"$error":"#REF!"}},{"$f":"'Depn & WACC Post 2004 Central'!$H$184","v":{"$error":"#REF!"}},{"$f":"'Depn & WACC Post 2004 Central'!$H$240","v":{"$error":"#REF!"}},{"$f":"'Depn & WACC Post 2004 Central'!$H$296","v":{"$error":"#REF!"}},null,null,{"$f":"'Depn & WACC Post 2004 N & E'!$H$72","v":{"$error":"#REF!"}},{"$f":"'Depn & WACC Post 2004 N & E'!$H$128","v":{"$error":"#REF!"}},{"$f":"'Depn & WACC Post 2004 N & E'!$H$184","v":{"$error":"#REF!"}},{"$f":"'Depn & WACC Post 2004 N & E'!$H$240","v":{"$error":"#REF!"}},{"$f":"'Depn & WACC Post 2004 N & E'!$H$296","v":{"$error":"#REF!"}}]
[]
["Poles & Brackets Charge",null,null,{"$f":"D$13","v":{"$error":"#REF!"}},{"$f":"E$13","v":{"$error":"#REF!"}},{"$f":"F$13","v":{"$error":"#REF!"}},{"$f":"G$13","v":{"$error":"#REF!"}},{"$f":"H$13","v":{"$error":"#REF!"}},null,null,{"$f":"K$13","v":{"$error":"#REF!"}},{"$f":"L$13","v":{"$error":"#REF!"}},{"$f":"M$13","v":{"$error":"#REF!"}},{"$f":"N$13","v":{"$error":"#REF!"}},{"$f":"O$13","v":{"$error":"#REF!"}}]
[]
["Total Charge",null,null,{"$f":"SUM(D131,D133,D135)","v":{"$error":"#REF!"}},{"$f":"SUM(E131,E133,E135)","v":{"$error":"#REF!"}},{"$f":"SUM(F131,F133,F135)","v":{"$error":"#REF!"}},{"$f":"SUM(G131,G133,G135)","v":{"$error":"#REF!"}},{"$f":"SUM(H131,H133,H135)","v":{"$error":"#REF!"}},null,null,{"$f":"SUM(K131,K133,K135)","v":{"$error":"#REF!"}},{"$f":"SUM(L131,L133,L135)","v":{"$error":"#REF!"}},{"$f":"SUM(M131,M133,M135)","v":{"$error":"#REF!"}},{"$f":"SUM(N131,N133,N135)","v":{"$error":"#REF!"}},{"$f":"SUM(O131,O133,O135)","v":{"$error":"#REF!"}}]
[]
[]
[]
[]
[{"$f":"'O & M 2027-2031'!A50","v":"LED 70W (L1)"},null,null,{"$f":"D$1","v":"2027-06-30"},{"$f":"E$1","v":"2028-06-30"},{"$f":"F$1","v":"2029-06-30"},{"$f":"G$1","v":"2030-06-30"},{"$f":"H$1","v":"2031-06-30"},null,null,{"$f":"K$1","v":"2027-06-30"},{"$f":"L$1","v":"2028-06-30"},{"$f":"M$1","v":"2029-06-30"},{"$f":"N$1","v":"2030-06-30"},{"$f":"O$1","v":"2031-06-30"}]
[]
["O & M Charge"]
[{"$f":"'O & M 2027-2031'!A$33","v":"Bulk change & repairs"},null,null,{"$f":"'O & M 2027-2031'!$B$51*D$4","v":{"$error":"#REF!"}},{"$f":"'O & M 2027-2031'!$Y$51*E$4","v":{"$error":"#REF!"}},{"$f":"'O & M 2027-2031'!$AV$51*F$4","v":{"$error":"#REF!"}},{"$f":"'O & M 2027-2031'!$BS$51*G$4","v":{"$error":"#REF!"}},{"$f":"'O & M 2027-2031'!$CP$51*H$4","v":{"$error":"#REF!"}},null,null,{"$f":"'O & M 2027-2031'!$M$51*K$4","v":{"$error":"#REF!"}},{"$f":"'O & M 2027-2031'!$AJ$51*L$4","v":{"$error":"#REF!"}},{"$f":"'O & M 2027-2031'!$BG$51*M$4","v":{"$error":"#REF!"}},{"$f":"'O & M 2027-2031'!$CD$51*N$4","v":{"$error":"#REF!"}},{"$f":"'O & M 2027-2031'!$DA$51*O$4","v":{"$error":"#REF!"}}]
[{"$f":"'O & M 2027-2031'!A$35","v":"Other costs"},null,null,{"$f":"'O & M 2027-2031'!$B$53*D$4","v":{"$error":"#REF!"}},{"$f":"'O & M 2027-2031'!$Y$53*E$4","v":{"$error":"#REF!"}},{"$f":"'O & M 2027-2031'!$AV$53*F$4","v":{"$error":"#REF!"}},{"$f":"'O & M 2027-2031'!$BS$53*G$4","v":{"$error":"#REF!"}},{"$f":"'O & M 2027-2031'!$CP$53*H$4","v":{"$error":"#REF!"}},null,null,{"$f":"'O & M 2027-2031'!$M$53*K$4","v":{"$error":"#REF!"}},{"$f":"'O & M 2027-2031'!$AJ$53*L$4","v":{"$error":"#REF!"}},{"$f":"'O & M 2027-2031'!$BG$53*M$4","v":{"$error":"#REF!"}},{"$f":"'O & M 2027-2031'!$CD$53*N$4","v":{"$error":"#REF!"}},{"$f":"'O & M 2027-2031'!$DA$53*O$4","v":{"$error":"#REF!"}}]
[null,null,null,{"$f":"SUM(D145:D146)","v":{"$error":"#REF!"}},{"$f":"SUM(E145:E146)","v":{"$error":"#REF!"}},{"$f":"SUM(F145:F146)","v":{"$error":"#REF!"}},{"$f":"SUM(G145:G146)","v":{"$error":"#REF!"}},{"$f":"SUM(H145:H146)","v":{"$error":"#REF!"}},null,null,{"$f":"SUM(K145:K146)","v":{"$error":"#REF!"}},{"$f":"SUM(L145:L146)","v":{"$error":"#REF!"}},{"$f":"SUM(M145:M146)","v":{"$error":"#REF!"}},{"$f":"SUM(N145:N146)","v":{"$error":"#REF!"}},{"$f":"SUM(O145:O146)","v":{"$error":"#REF!"}}]
["Capital Charge"]
["Depreciation and Return",null,null,{"$f":"'Depn & WACC Post 2004 Central'!$H$73","v":{"$error":"#REF!"}},{"$f":"'Depn & WACC Post 2004 Central'!$H$129","v":{"$error":"#REF!"}},{"$f":"'Depn & WACC Post 2004 Central'!$H$185","v":{"$error":"#REF!"}},{"$f":"'Depn & WACC Post 2004 Central'!$H$241","v":{"$error":"#REF!"}},{"$f":"'Depn & WACC Post 2004 Central'!$H$297","v":{"$error":"#REF!"}},null,null,{"$f":"'Depn & WACC Post 2004 N & E'!$H$73","v":{"$error":"#REF!"}},{"$f":"'Depn & WACC Post 2004 N & E'!$H$129","v":{"$error":"#REF!"}},{"$f":"'Depn & WACC Post 2004 N & E'!$H$185","v":{"$error":"#REF!"}},{"$f":"'Depn & WACC Post 2004 N & E'!$H$241","v":{"$error":"#REF!"}},{"$f":"'Depn & WACC Post 2004 N & E'!$H$297","v":{"$error":"#REF!"}}]
[]
["Poles & Brackets Charge",null,null,{"$f":"D$13","v":{"$error":"#REF!"}},{"$f":"E$13","v":{"$error":"#REF!"}},{"$f":"F$13","v":{"$error":"#REF!"}},{"$f":"G$13","v":{"$error":"#REF!"}},{"$f":"H$13","v":{"$error":"#REF!"}},null,null,{"$f":"K$13","v":{"$error":"#REF!"}},{"$f":"L$13","v":{"$error":"#REF!"}},{"$f":"M$13","v":{"$error":"#REF!"}},{"$f":"N$13","v":{"$error":"#REF!"}},{"$f":"O$13","v":{"$error":"#REF!"}}]
[]
["Total Charge",null,null,{"$f":"SUM(D147,D149,D151)","v":{"$error":"#REF!"}},{"$f":"SUM(E147,E149,E151)","v":{"$error":"#REF!"}},{"$f":"SUM(F147,F149,F151)","v":{"$error":"#REF!"}},{"$f":"SUM(G147,G149,G151)","v":{"$error":"#REF!"}},{"$f":"SUM(H147,H149,H151)","v":{"$error":"#REF!"}},null,null,{"$f":"SUM(K147,K149,K151)","v":{"$error":"#REF!"}},{"$f":"SUM(L147,L149,L151)","v":{"$error":"#REF!"}},{"$f":"SUM(M147,M149,M151)","v":{"$error":"#REF!"}},{"$f":"SUM(N147,N149,N151)","v":{"$error":"#REF!"}},{"$f":"SUM(O147,O149,O151)","v":{"$error":"#REF!"}}]
[]
[]
[]
[]
[{"$f":"'O & M 2027-2031'!A56","v":"LED 155W (L2)"},null,null,{"$f":"D$1","v":"2027-06-30"},{"$f":"E$1","v":"2028-06-30"},{"$f":"F$1","v":"2029-06-30"},{"$f":"G$1","v":"2030-06-30"},{"$f":"H$1","v":"2031-06-30"},null,null,{"$f":"K$1","v":"2027-06-30"},{"$f":"L$1","v":"2028-06-30"},{"$f":"M$1","v":"2029-06-30"},{"$f":"N$1","v":"2030-06-30"},{"$f":"O$1","v":"2031-06-30"}]
[]
["O & M Charge"]
[{"$f":"'O & M 2027-2031'!A$33","v":"Bulk change & repairs"},null,null,{"$f":"'O & M 2027-2031'!$B$57*D$4","v":{"$error":"#REF!"}},{"$f":"'O & M 2027-2031'!$Y$57*E$4","v":{"$error":"#REF!"}},{"$f":"'O & M 2027-2031'!$AV$57*F$4","v":{"$error":"#REF!"}},{"$f":"'O & M 2027-2031'!$BS$57*G$4","v":{"$error":"#REF!"}},{"$f":"'O & M 2027-2031'!$CP$57*H$4","v":{"$error":"#REF!"}},null,null,{"$f":"'O & M 2027-2031'!$M$57*K$4","v":{"$error":"#REF!"}},{"$f":"'O & M 2027-2031'!$AJ$57*L$4","v":{"$error":"#REF!"}},{"$f":"'O & M 2027-2031'!$BG$57*M$4","v":{"$error":"#REF!"}},{"$f":"'O & M 2027-2031'!$CD$57*N$4","v":{"$error":"#REF!"}},{"$f":"'O & M 2027-2031'!$DA$57*O$4","v":{"$error":"#REF!"}}]
[{"$f":"'O & M 2027-2031'!A$35","v":"Other costs"},null,null,{"$f":"'O & M 2027-2031'!$B$59*D$4","v":{"$error":"#REF!"}},{"$f":"'O & M 2027-2031'!$Y$59*E$4","v":{"$error":"#REF!"}},{"$f":"'O & M 2027-2031'!$AV$59*F$4","v":{"$error":"#REF!"}},{"$f":"'O & M 2027-2031'!$BS$59*G$4","v":{"$error":"#REF!"}},{"$f":"'O & M 2027-2031'!$CP$59*H$4","v":{"$error":"#REF!"}},null,null,{"$f":"'O & M 2027-2031'!$M$59*K$4","v":{"$error":"#REF!"}},{"$f":"'O & M 2027-2031'!$AJ$59*L$4","v":{"$error":"#REF!"}},{"$f":"'O & M 2027-2031'!$BG$59*M$4","v":{"$error":"#REF!"}},{"$f":"'O & M 2027-2031'!$CD$59*N$4","v":{"$error":"#REF!"}},{"$f":"'O & M 2027-2031'!$DA$59*O$4","v":{"$error":"#REF!"}}]
[null,null,null,{"$f":"SUM(D161:D162)","v":{"$error":"#REF!"}},{"$f":"SUM(E161:E162)","v":{"$error":"#REF!"}},{"$f":"SUM(F161:F162)","v":{"$error":"#REF!"}},{"$f":"SUM(G161:G162)","v":{"$error":"#REF!"}},{"$f":"SUM(H161:H162)","v":{"$error":"#REF!"}},null,null,{"$f":"SUM(K161:K162)","v":{"$error":"#REF!"}},{"$f":"SUM(L161:L162)","v":{"$error":"#REF!"}},{"$f":"SUM(M161:M162)","v":{"$error":"#REF!"}},{"$f":"SUM(N161:N162)","v":{"$error":"#REF!"}},{"$f":"SUM(O161:O162)","v":{"$error":"#REF!"}}]
["Capital Charge"]
["Depreciation and Return",null,null,{"$f":"'Depn & WACC Post 2004 Central'!$H$74","v":{"$error":"#REF!"}},{"$f":"'Depn & WACC Post 2004 Central'!$H$130","v":{"$error":"#REF!"}},{"$f":"'Depn & WACC Post 2004 Central'!$H$186","v":{"$error":"#REF!"}},{"$f":"'Depn & WACC Post 2004 Central'!$H$242","v":{"$error":"#REF!"}},{"$f":"'Depn & WACC Post 2004 Central'!$H$298","v":{"$error":"#REF!"}},null,null,{"$f":"'Depn & WACC Post 2004 N & E'!$H$74","v":{"$error":"#REF!"}},{"$f":"'Depn & WACC Post 2004 N & E'!$H$130","v":{"$error":"#REF!"}},{"$f":"'Depn & WACC Post 2004 N & E'!$H$186","v":{"$error":"#REF!"}},{"$f":"'Depn & WACC Post 2004 N & E'!$H$242","v":{"$error":"#REF!"}},{"$f":"'Depn & WACC Post 2004 N & E'!$H$298","v":{"$error":"#REF!"}}]
[]
["Poles & Brackets Charge",null,null,{"$f":"D$13","v":{"$error":"#REF!"}},{"$f":"E$13","v":{"$error":"#REF!"}},{"$f":"F$13","v":{"$error":"#REF!"}},{"$f":"G$13","v":{"$error":"#REF!"}},{"$f":"H$13","v":{"$error":"#REF!"}},null,null,{"$f":"K$13","v":{"$error":"#REF!"}},{"$f":"L$13","v":{"$error":"#REF!"}},{"$f":"M$13","v":{"$error":"#REF!"}},{"$f":"N$13","v":{"$error":"#REF!"}},{"$f":"O$13","v":{"$error":"#REF!"}}]
[]
["Total Charge",null,null,{"$f":"SUM(D163,D165,D167)","v":{"$error":"#REF!"}},{"$f":"SUM(E163,E165,E167)","v":{"$error":"#REF!"}},{"$f":"SUM(F163,F165,F167)","v":{"$error":"#REF!"}},{"$f":"SUM(G163,G165,G167)","v":{"$error":"#REF!"}},{"$f":"SUM(H163,H165,H167)","v":{"$error":"#REF!"}},null,null,{"$f":"SUM(K163,K165,K167)","v":{"$error":"#REF!"}},{"$f":"SUM(L163,L165,L167)","v":{"$error":"#REF!"}},{"$f":"SUM(M163,M165,M167)","v":{"$error":"#REF!"}},{"$f":"SUM(N163,N165,N167)","v":{"$error":"#REF!"}},{"$f":"SUM(O163,O165,O167)","v":{"$error":"#REF!"}}]
[]
[]
[]
[]
[{"$f":"'O & M 2027-2031'!A62","v":"LED 275W (L4)"},null,null,{"$f":"D$1","v":"2027-06-30"},{"$f":"E$1","v":"2028-06-30"},{"$f":"F$1","v":"2029-06-30"},{"$f":"G$1","v":"2030-06-30"},{"$f":"H$1","v":"2031-06-30"},null,null,{"$f":"K$1","v":"2027-06-30"},{"$f":"L$1","v":"2028-06-30"},{"$f":"M$1","v":"2029-06-30"},{"$f":"N$1","v":"2030-06-30"},{"$f":"O$1","v":"2031-06-30"}]
[]
["O & M Charge"]
[{"$f":"'O & M 2027-2031'!A$33","v":"Bulk change & repairs"},null,null,{"$f":"'O & M 2027-2031'!$B$63*D$4","v":{"$error":"#REF!"}},{"$f":"'O & M 2027-2031'!$Y$63*E$4","v":{"$error":"#REF!"}},{"$f":"'O & M 2027-2031'!$AV$63*F$4","v":{"$error":"#REF!"}},{"$f":"'O & M 2027-2031'!$BS$63*G$4","v":{"$error":"#REF!"}},{"$f":"'O & M 2027-2031'!$CP$63*H$4","v":{"$error":"#REF!"}},null,null,{"$f":"'O & M 2027-2031'!$M$63*K$4","v":{"$error":"#REF!"}},{"$f":"'O & M 2027-2031'!$AJ$63*L$4","v":{"$error":"#REF!"}},{"$f":"'O & M 2027-2031'!$BG$63*M$4","v":{"$error":"#REF!"}},{"$f":"'O & M 2027-2031'!$CD$63*N$4","v":{"$error":"#REF!"}},{"$f":"'O & M 2027-2031'!$DA$63*O$4","v":{"$error":"#REF!"}}]
[{"$f":"'O & M 2027-2031'!A$35","v":"Other costs"},null,null,{"$f":"'O & M 2027-2031'!$B$65*D$4","v":{"$error":"#REF!"}},{"$f":"'O & M 2027-2031'!$Y$65*E$4","v":{"$error":"#REF!"}},{"$f":"'O & M 2027-2031'!$AV$65*F$4","v":{"$error":"#REF!"}},{"$f":"'O & M 2027-2031'!$BS$65*G$4","v":{"$error":"#REF!"}},{"$f":"'O & M 2027-2031'!$CP$65*H$4","v":{"$error":"#REF!"}},null,null,{"$f":"'O & M 2027-2031'!$M$65*K$4","v":{"$error":"#REF!"}},{"$f":"'O & M 2027-2031'!$AJ$65*L$4","v":{"$error":"#REF!"}},{"$f":"'O & M 2027-2031'!$BG$65*M$4","v":{"$error":"#REF!"}},{"$f":"'O & M 2027-2031'!$CD$65*N$4","v":{"$error":"#REF!"}},{"$f":"'O & M 2027-2031'!$DA$65*O$4","v":{"$error":"#REF!"}}]
[null,null,null,{"$f":"SUM(D177:D178)","v":{"$error":"#REF!"}},{"$f":"SUM(E177:E178)","v":{"$error":"#REF!"}},{"$f":"SUM(F177:F178)","v":{"$error":"#REF!"}},{"$f":"SUM(G177:G178)","v":{"$error":"#REF!"}},{"$f":"SUM(H177:H178)","v":{"$error":"#REF!"}},null,null,{"$f":"SUM(K177:K178)","v":{"$error":"#REF!"}},{"$f":"SUM(L177:L178)","v":{"$error":"#REF!"}},{"$f":"SUM(M177:M178)","v":{"$error":"#REF!"}},{"$f":"SUM(N177:N178)","v":{"$error":"#REF!"}},{"$f":"SUM(O177:O178)","v":{"$error":"#REF!"}}]
["Capital Charge"]
["Depreciation and Return",null,null,{"$f":"'Depn & WACC Post 2004 Central'!$H$75","v":{"$error":"#REF!"}},{"$f":"'Depn & WACC Post 2004 Central'!$H$131","v":{"$error":"#REF!"}},{"$f":"'Depn & WACC Post 2004 Central'!$H$187","v":{"$error":"#REF!"}},{"$f":"'Depn & WACC Post 2004 Central'!$H$243","v":{"$error":"#REF!"}},{"$f":"'Depn & WACC Post 2004 Central'!$H$299","v":{"$error":"#REF!"}},null,null,{"$f":"'Depn & WACC Post 2004 N & E'!$H$75","v":{"$error":"#REF!"}},{"$f":"'Depn & WACC Post 2004 N & E'!$H$131","v":{"$error":"#REF!"}},{"$f":"'Depn & WACC Post 2004 N & E'!$H$187","v":{"$error":"#REF!"}},{"$f":"'Depn & WACC Post 2004 N & E'!$H$243","v":{"$error":"#REF!"}},{"$f":"'Depn & WACC Post 2004 N & E'!$H$299","v":{"$error":"#REF!"}}]
[]
["Poles & Brackets Charge",null,null,{"$f":"D$13","v":{"$error":"#REF!"}},{"$f":"E$13","v":{"$error":"#REF!"}},{"$f":"F$13","v":{"$error":"#REF!"}},{"$f":"G$13","v":{"$error":"#REF!"}},{"$f":"H$13","v":{"$error":"#REF!"}},null,null,{"$f":"K$13","v":{"$error":"#REF!"}},{"$f":"L$13","v":{"$error":"#REF!"}},{"$f":"M$13","v":{"$error":"#REF!"}},{"$f":"N$13","v":{"$error":"#REF!"}},{"$f":"O$13","v":{"$error":"#REF!"}}]
[]
["Total Charge",null,null,{"$f":"SUM(D179,D181,D183)","v":{"$error":"#REF!"}},{"$f":"SUM(E179,E181,E183)","v":{"$error":"#REF!"}},{"$f":"SUM(F179,F181,F183)","v":{"$error":"#REF!"}},{"$f":"SUM(G179,G181,G183)","v":{"$error":"#REF!"}},{"$f":"SUM(H179,H181,H183)","v":{"$error":"#REF!"}},null,null,{"$f":"SUM(K179,K181,K183)","v":{"$error":"#REF!"}},{"$f":"SUM(L179,L181,L183)","v":{"$error":"#REF!"}},{"$f":"SUM(M179,M181,M183)","v":{"$error":"#REF!"}},{"$f":"SUM(N179,N181,N183)","v":{"$error":"#REF!"}},{"$f":"SUM(O179,O181,O183)","v":{"$error":"#REF!"}}]
[]
[]
[]
[]
[{"$f":"'O & M 2027-2031'!A68","v":"Smart lighting L1"},null,null,{"$f":"D$1","v":"2027-06-30"},{"$f":"E$1","v":"2028-06-30"},{"$f":"F$1","v":"2029-06-30"},{"$f":"G$1","v":"2030-06-30"},{"$f":"H$1","v":"2031-06-30"},null,null,{"$f":"K$1","v":"2027-06-30"},{"$f":"L$1","v":"2028-06-30"},{"$f":"M$1","v":"2029-06-30"},{"$f":"N$1","v":"2030-06-30"},{"$f":"O$1","v":"2031-06-30"}]
[]
["O & M Charge"]
[{"$f":"'O & M 2027-2031'!A$33","v":"Bulk change & repairs"},null,null,{"$f":"'O & M 2027-2031'!$B$69*D$4","v":{"$error":"#REF!"}},{"$f":"'O & M 2027-2031'!$Y$69*E$4","v":{"$error":"#REF!"}},{"$f":"'O & M 2027-2031'!$AV$69*F$4","v":{"$error":"#REF!"}},{"$f":"'O & M 2027-2031'!$BS$69*G$4","v":{"$error":"#REF!"}},{"$f":"'O & M 2027-2031'!$CP$69*H$4","v":{"$error":"#REF!"}},null,null,{"$f":"'O & M 2027-2031'!$M$69*K$4","v":{"$error":"#REF!"}},{"$f":"'O & M 2027-2031'!$AJ$69*L$4","v":{"$error":"#REF!"}},{"$f":"'O & M 2027-2031'!$BG$69*M$4","v":{"$error":"#REF!"}},{"$f":"'O & M 2027-2031'!$CD$69*N$4","v":{"$error":"#REF!"}},{"$f":"'O & M 2027-2031'!$DA$69*O$4","v":{"$error":"#REF!"}}]
[{"$f":"'O & M 2027-2031'!A$35","v":"Other costs"},null,null,{"$f":"'O & M 2027-2031'!$B$65*D$4","v":{"$error":"#REF!"}},{"$f":"'O & M 2027-2031'!$Y$65*E$4","v":{"$error":"#REF!"}},{"$f":"'O & M 2027-2031'!$AV$65*F$4","v":{"$error":"#REF!"}},{"$f":"'O & M 2027-2031'!$BS$65*G$4","v":{"$error":"#REF!"}},{"$f":"'O & M 2027-2031'!$CP$65*H$4","v":{"$error":"#REF!"}},null,null,{"$f":"'O & M 2027-2031'!$M$65*K$4","v":{"$error":"#REF!"}},{"$f":"'O & M 2027-2031'!$AJ$65*L$4","v":{"$error":"#REF!"}},{"$f":"'O & M 2027-2031'!$BG$65*M$4","v":{"$error":"#REF!"}},{"$f":"'O & M 2027-2031'!$CD$65*N$4","v":{"$error":"#REF!"}},{"$f":"'O & M 2027-2031'!$DA$65*O$4","v":{"$error":"#REF!"}}]
[null,null,null,{"$f":"SUM(D193:D194)","v":{"$error":"#REF!"}},{"$f":"SUM(E193:E194)","v":{"$error":"#REF!"}},{"$f":"SUM(F193:F194)","v":{"$error":"#REF!"}},{"$f":"SUM(G193:G194)","v":{"$error":"#REF!"}},{"$f":"SUM(H193:H194)","v":{"$error":"#REF!"}},null,null,{"$f":"SUM(K193:K194)","v":{"$error":"#REF!"}},{"$f":"SUM(L193:L194)","v":{"$error":"#REF!"}},{"$f":"SUM(M193:M194)","v":{"$error":"#REF!"}},{"$f":"SUM(N193:N194)","v":{"$error":"#REF!"}},{"$f":"SUM(O193:O194)","v":{"$error":"#REF!"}}]
["Capital Charge"]
["Depreciation and Return",null,null,{"$f":"'Depn & WACC Post 2004 Central'!$H$78","v":{"$error":"#REF!"}},{"$f":"'Depn & WACC Post 2004 Central'!$H$134","v":{"$error":"#REF!"}},{"$f":"'Depn & WACC Post 2004 Central'!$H$190","v":{"$error":"#REF!"}},{"$f":"'Depn & WACC Post 2004 Central'!$H$246","v":{"$error":"#REF!"}},{"$f":"'Depn & WACC Post 2004 Central'!$H$302","v":{"$error":"#REF!"}},null,null,{"$f":"'Depn & WACC Post 2004 N & E'!$H$78","v":{"$error":"#REF!"}},{"$f":"'Depn & WACC Post 2004 N & E'!$H$134","v":{"$error":"#REF!"}},{"$f":"'Depn & WACC Post 2004 N & E'!$H$190","v":{"$error":"#REF!"}},{"$f":"'Depn & WACC Post 2004 N & E'!$H$246","v":{"$error":"#REF!"}},{"$f":"'Depn & WACC Post 2004 N & E'!$H$302","v":{"$error":"#REF!"}}]
[]
["Poles & Brackets Charge",null,null,{"$f":"D$13","v":{"$error":"#REF!"}},{"$f":"E$13","v":{"$error":"#REF!"}},{"$f":"F$13","v":{"$error":"#REF!"}},{"$f":"G$13","v":{"$error":"#REF!"}},{"$f":"H$13","v":{"$error":"#REF!"}},null,null,{"$f":"K$13","v":{"$error":"#REF!"}},{"$f":"L$13","v":{"$error":"#REF!"}},{"$f":"M$13","v":{"$error":"#REF!"}},{"$f":"N$13","v":{"$error":"#REF!"}},{"$f":"O$13","v":{"$error":"#REF!"}}]
[]
["Total Charge",null,null,{"$f":"SUM(D195,D197,D199)","v":{"$error":"#REF!"}},{"$f":"SUM(E195,E197,E199)","v":{"$error":"#REF!"}},{"$f":"SUM(F195,F197,F199)","v":{"$error":"#REF!"}},{"$f":"SUM(G195,G197,G199)","v":{"$error":"#REF!"}},{"$f":"SUM(H195,H197,H199)","v":{"$error":"#REF!"}},null,null,{"$f":"SUM(K195,K197,K199)","v":{"$error":"#REF!"}},{"$f":"SUM(L195,L197,L199)","v":{"$error":"#REF!"}},{"$f":"SUM(M195,M197,M199)","v":{"$error":"#REF!"}},{"$f":"SUM(N195,N197,N199)","v":{"$error":"#REF!"}},{"$f":"SUM(O195,O197,O199)","v":{"$error":"#REF!"}}]
[]
[]
[]
[]
[{"$f":"'O & M 2027-2031'!A74","v":"Smart lighting L2"},null,null,{"$f":"D$1","v":"2027-06-30"},{"$f":"E$1","v":"2028-06-30"},{"$f":"F$1","v":"2029-06-30"},{"$f":"G$1","v":"2030-06-30"},{"$f":"H$1","v":"2031-06-30"},null,null,{"$f":"K$1","v":"2027-06-30"},{"$f":"L$1","v":"2028-06-30"},{"$f":"M$1","v":"2029-06-30"},{"$f":"N$1","v":"2030-06-30"},{"$f":"O$1","v":"2031-06-30"}]
[]
["O & M Charge"]
[{"$f":"'O & M 2027-2031'!A$33","v":"Bulk change & repairs"},null,null,{"$f":"'O & M 2027-2031'!$B$75*D$4","v":{"$error":"#REF!"}},{"$f":"'O & M 2027-2031'!$Y$75*E$4","v":{"$error":"#REF!"}},{"$f":"'O & M 2027-2031'!$AV$75*F$4","v":{"$error":"#REF!"}},{"$f":"'O & M 2027-2031'!$BS$75*G$4","v":{"$error":"#REF!"}},{"$f":"'O & M 2027-2031'!$CP$75*H$4","v":{"$error":"#REF!"}},null,null,{"$f":"'O & M 2027-2031'!$M$75*K$4","v":{"$error":"#REF!"}},{"$f":"'O & M 2027-2031'!$AJ$75*L$4","v":{"$error":"#REF!"}},{"$f":"'O & M 2027-2031'!$BG$75*M$4","v":{"$error":"#REF!"}},{"$f":"'O & M 2027-2031'!$CD$75*N$4","v":{"$error":"#REF!"}},{"$f":"'O & M 2027-2031'!$DA$75*O$4","v":{"$error":"#REF!"}}]
[{"$f":"'O & M 2027-2031'!A$35","v":"Other costs"},null,null,{"$f":"'O & M 2027-2031'!$B$65*D$4","v":{"$error":"#REF!"}},{"$f":"'O & M 2027-2031'!$Y$65*E$4","v":{"$error":"#REF!"}},{"$f":"'O & M 2027-2031'!$AV$65*F$4","v":{"$error":"#REF!"}},{"$f":"'O & M 2027-2031'!$BS$65*G$4","v":{"$error":"#REF!"}},{"$f":"'O & M 2027-2031'!$CP$65*H$4","v":{"$error":"#REF!"}},null,null,{"$f":"'O & M 2027-2031'!$M$65*K$4","v":{"$error":"#REF!"}},{"$f":"'O & M 2027-2031'!$AJ$65*L$4","v":{"$error":"#REF!"}},{"$f":"'O & M 2027-2031'!$BG$65*M$4","v":{"$error":"#REF!"}},{"$f":"'O & M 2027-2031'!$CD$65*N$4","v":{"$error":"#REF!"}},{"$f":"'O & M 2027-2031'!$DA$65*O$4","v":{"$error":"#REF!"}}]
[null,null,null,{"$f":"SUM(D209:D210)","v":{"$error":"#REF!"}},{"$f":"SUM(E209:E210)","v":{"$error":"#REF!"}},{"$f":"SUM(F209:F210)","v":{"$error":"#REF!"}},{"$f":"SUM(G209:G210)","v":{"$error":"#REF!"}},{"$f":"SUM(H209:H210)","v":{"$error":"#REF!"}},null,null,{"$f":"SUM(K209:K210)","v":{"$error":"#REF!"}},{"$f":"SUM(L209:L210)","v":{"$error":"#REF!"}},{"$f":"SUM(M209:M210)","v":{"$error":"#REF!"}},{"$f":"SUM(N209:N210)","v":{"$error":"#REF!"}},{"$f":"SUM(O209:O210)","v":{"$error":"#REF!"}}]
["Capital Charge"]
["Depreciation and Return",null,null,{"$f":"'Depn & WACC Post 2004 Central'!$H$79","v":{"$error":"#REF!"}},{"$f":"'Depn & WACC Post 2004 Central'!$H$135","v":{"$error":"#REF!"}},{"$f":"'Depn & WACC Post 2004 Central'!$H$191","v":{"$error":"#REF!"}},{"$f":"'Depn & WACC Post 2004 Central'!$H$247","v":{"$error":"#REF!"}},{"$f":"'Depn & WACC Post 2004 Central'!$H$303","v":{"$error":"#REF!"}},null,null,{"$f":"'Depn & WACC Post 2004 N & E'!$H$79","v":{"$error":"#REF!"}},{"$f":"'Depn & WACC Post 2004 N & E'!$H$135","v":{"$error":"#REF!"}},{"$f":"'Depn & WACC Post 2004 N & E'!$H$191","v":{"$error":"#REF!"}},{"$f":"'Depn & WACC Post 2004 N & E'!$H$247","v":{"$error":"#REF!"}},{"$f":"'Depn & WACC Post 2004 N & E'!$H$303","v":{"$error":"#REF!"}}]
[]
["Poles & Brackets Charge",null,null,{"$f":"D$13","v":{"$error":"#REF!"}},{"$f":"E$13","v":{"$error":"#REF!"}},{"$f":"F$13","v":{"$error":"#REF!"}},{"$f":"G$13","v":{"$error":"#REF!"}},{"$f":"H$13","v":{"$error":"#REF!"}},null,null,{"$f":"K$13","v":{"$error":"#REF!"}},{"$f":"L$13","v":{"$error":"#REF!"}},{"$f":"M$13","v":{"$error":"#REF!"}},{"$f":"N$13","v":{"$error":"#REF!"}},{"$f":"O$13","v":{"$error":"#REF!"}}]
[]
["Total Charge",null,null,{"$f":"SUM(D211,D213,D215)","v":{"$error":"#REF!"}},{"$f":"SUM(E211,E213,E215)","v":{"$error":"#REF!"}},{"$f":"SUM(F211,F213,F215)","v":{"$error":"#REF!"}},{"$f":"SUM(G211,G213,G215)","v":{"$error":"#REF!"}},{"$f":"SUM(H211,H213,H215)","v":{"$error":"#REF!"}},null,null,{"$f":"SUM(K211,K213,K215)","v":{"$error":"#REF!"}},{"$f":"SUM(L211,L213,L215)","v":{"$error":"#REF!"}},{"$f":"SUM(M211,M213,M215)","v":{"$error":"#REF!"}},{"$f":"SUM(N211,N213,N215)","v":{"$error":"#REF!"}},{"$f":"SUM(O211,O213,O215)","v":{"$error":"#REF!"}}]
[]
[]
[]
[]
[{"$f":"'O & M 2027-2031'!A80","v":"Smart lighting L4"},null,null,{"$f":"D$1","v":"2027-06-30"},{"$f":"E$1","v":"2028-06-30"},{"$f":"F$1","v":"2029-06-30"},{"$f":"G$1","v":"2030-06-30"},{"$f":"H$1","v":"2031-06-30"},null,null,{"$f":"K$1","v":"2027-06-30"},{"$f":"L$1","v":"2028-06-30"},{"$f":"M$1","v":"2029-06-30"},{"$f":"N$1","v":"2030-06-30"},{"$f":"O$1","v":"2031-06-30"}]
[]
["O & M Charge"]
[{"$f":"'O & M 2027-2031'!A$33","v":"Bulk change & repairs"},null,null,{"$f":"'O & M 2027-2031'!$B$81*D$4","v":{"$error":"#REF!"}},{"$f":"'O & M 2027-2031'!$Y$81*E$4","v":{"$error":"#REF!"}},{"$f":"'O & M 2027-2031'!$AV$81*F$4","v":{"$error":"#REF!"}},{"$f":"'O & M 2027-2031'!$BS$81*G$4","v":{"$error":"#REF!"}},{"$f":"'O & M 2027-2031'!$CP$81*H$4","v":{"$error":"#REF!"}},null,null,{"$f":"'O & M 2027-2031'!$M$81*K$4","v":{"$error":"#REF!"}},{"$f":"'O & M 2027-2031'!$AJ$81*L$4","v":{"$error":"#REF!"}},{"$f":"'O & M 2027-2031'!$BG$81*M$4","v":{"$error":"#REF!"}},{"$f":"'O & M 2027-2031'!$CD$81*N$4","v":{"$error":"#REF!"}},{"$f":"'O & M 2027-2031'!$DA$81*O$4","v":{"$error":"#REF!"}}]
[{"$f":"'O & M 2027-2031'!A$35","v":"Other costs"},null,null,{"$f":"'O & M 2027-2031'!$B$65*D$4","v":{"$error":"#REF!"}},{"$f":"'O & M 2027-2031'!$Y$65*E$4","v":{"$error":"#REF!"}},{"$f":"'O & M 2027-2031'!$AV$65*F$4","v":{"$error":"#REF!"}},{"$f":"'O & M 2027-2031'!$BS$65*G$4","v":{"$error":"#REF!"}},{"$f":"'O & M 2027-2031'!$CP$65*H$4","v":{"$error":"#REF!"}},null,null,{"$f":"'O & M 2027-2031'!$M$65*K$4","v":{"$error":"#REF!"}},{"$f":"'O & M 2027-2031'!$AJ$65*L$4","v":{"$error":"#REF!"}},{"$f":"'O & M 2027-2031'!$BG$65*M$4","v":{"$error":"#REF!"}},{"$f":"'O & M 2027-2031'!$CD$65*N$4","v":{"$error":"#REF!"}},{"$f":"'O & M 2027-2031'!$DA$65*O$4","v":{"$error":"#REF!"}}]
[null,null,null,{"$f":"SUM(D225:D226)","v":{"$error":"#REF!"}},{"$f":"SUM(E225:E226)","v":{"$error":"#REF!"}},{"$f":"SUM(F225:F226)","v":{"$error":"#REF!"}},{"$f":"SUM(G225:G226)","v":{"$error":"#REF!"}},{"$f":"SUM(H225:H226)","v":{"$error":"#REF!"}},null,null,{"$f":"SUM(K225:K226)","v":{"$error":"#REF!"}},{"$f":"SUM(L225:L226)","v":{"$error":"#REF!"}},{"$f":"SUM(M225:M226)","v":{"$error":"#REF!"}},{"$f":"SUM(N225:N226)","v":{"$error":"#REF!"}},{"$f":"SUM(O225:O226)","v":{"$error":"#REF!"}}]
["Capital Charge"]
["Depreciation and Return",null,null,{"$f":"'Depn & WACC Post 2004 Central'!$H$80","v":{"$error":"#REF!"}},{"$f":"'Depn & WACC Post 2004 Central'!$H$136","v":{"$error":"#REF!"}},{"$f":"'Depn & WACC Post 2004 Central'!$H$192","v":{"$error":"#REF!"}},{"$f":"'Depn & WACC Post 2004 Central'!$H$248","v":{"$error":"#REF!"}},{"$f":"'Depn & WACC Post 2004 Central'!$H$304","v":{"$error":"#REF!"}},null,null,{"$f":"'Depn & WACC Post 2004 N & E'!$H$80","v":{"$error":"#REF!"}},{"$f":"'Depn & WACC Post 2004 N & E'!$H$136","v":{"$error":"#REF!"}},{"$f":"'Depn & WACC Post 2004 N & E'!$H$192","v":{"$error":"#REF!"}},{"$f":"'Depn & WACC Post 2004 N & E'!$H$248","v":{"$error":"#REF!"}},{"$f":"'Depn & WACC Post 2004 N & E'!$H$304","v":{"$error":"#REF!"}}]
[]
["Poles & Brackets Charge",null,null,{"$f":"D$13","v":{"$error":"#REF!"}},{"$f":"E$13","v":{"$error":"#REF!"}},{"$f":"F$13","v":{"$error":"#REF!"}},{"$f":"G$13","v":{"$error":"#REF!"}},{"$f":"H$13","v":{"$error":"#REF!"}},null,null,{"$f":"K$13","v":{"$error":"#REF!"}},{"$f":"L$13","v":{"$error":"#REF!"}},{"$f":"M$13","v":{"$error":"#REF!"}},{"$f":"N$13","v":{"$error":"#REF!"}},{"$f":"O$13","v":{"$error":"#REF!"}}]
[]
["Total Charge",null,null,{"$f":"SUM(D227,D229,D231)","v":{"$error":"#REF!"}},{"$f":"SUM(E227,E229,E231)","v":{"$error":"#REF!"}},{"$f":"SUM(F227,F229,F231)","v":{"$error":"#REF!"}},{"$f":"SUM(G227,G229,G231)","v":{"$error":"#REF!"}},{"$f":"SUM(H227,H229,H231)","v":{"$error":"#REF!"}},null,null,{"$f":"SUM(K227,K229,K231)","v":{"$error":"#REF!"}},{"$f":"SUM(L227,L229,L231)","v":{"$error":"#REF!"}},{"$f":"SUM(M227,M229,M231)","v":{"$error":"#REF!"}},{"$f":"SUM(N227,N229,N231)","v":{"$error":"#REF!"}},{"$f":"SUM(O227,O229,O231)","v":{"$error":"#REF!"}}]

{"sheet":"O & M 2027-2031","index":12,"n_rows":582,"n_cols":114,"rows_kept":582,"cut":false,"hidden":true,"merged":[[524,38,524,43],[524,31,524,36],[524,24,524,29],[524,15,524,20],[524,8,524,13],[524,1,524,6],[559,107,559,112],[559,100,559,105],[559,93,559,98],[559,84,559,89],[559,77,559,82],[559,70,559,75],[559,61,559,66],[559,54,559,59],[559,47,559,52],[559,38,559,43],[559,31,559,36],[559,24,559,29],[559,15,559,20],[559,8,559,13],[559,1,559,6],[524,107,524,112],[524,100,524,105],[524,93,524,98],[524,84,524,89],[524,77,524,82],[524,70,524,75],[524,61,524,66],[524,54,524,59],[524,47,524,52],[314,93,314,98],[314,107,314,112],[276,1,276,6],[276,8,276,13],[276,61,276,66],[314,1,314,6],[314,15,314,20],[454,1,454,6],[454,15,454,20],[419,8,419,13],[419,24,419,29],[419,70,419,75],[419,77,419,82],[419,84,419,89],[419,93,419,98],[419,100,419,105],[419,1,419,6],[419,15,419,20],[276,84,276,89],[276,70,276,75],[276,77,276,82],[238,70,238,75],[238,77,238,82],[238,84,238,89],[238,8,238,13],[238,15,238,20],[238,47,238,52],[238,54,238,59],[276,47,276,52],[119,77,119,82],[160,70,160,75],[160,84,160,89],[85,71,85,79],[119,61,119,66],[314,24,314,29],[314,38,314,43],[314,47,314,52],[160,8,160,13],[198,15,198,20],[276,54,276,59],[85,48,85,56],[85,58,85,66],[198,61,198,66],[160,61,160,66],[314,61,314,66],[314,70,314,75],[314,84,314,89],[198,84,198,89],[119,47,119,52],[119,54,119,59],[119,84,119,89],[160,47,160,52],[160,54,160,59],[85,104,85,112],[276,93,276,98],[276,100,276,105],[238,93,238,98],[238,100,238,105],[238,107,238,112],[119,93,119,98],[119,100,119,105],[119,107,119,112],[276,107,276,112],[198,107,198,112],[160,93,160,98],[160,100,160,105],[160,107,160,112],[85,94,85,102],[160,77,160,82],[85,81,85,89],[119,70,119,75],[349,1,349,6],[349,15,349,20],[85,25,85,33],[85,35,85,43],[119,24,119,29],[119,31,119,36],[119,38,119,43],[276,38,276,43],[198,38,198,43],[160,24,160,29],[160,31,160,36],[160,38,160,43],[276,24,276,29],[276,31,276,36],[238,24,238,29],[238,31,238,36],[238,38,238,43],[85,2,85,10],[85,12,85,20],[160,15,160,20],[119,1,119,6],[119,8,119,13],[119,15,119,20],[384,1,384,6],[384,15,384,20],[349,24,349,29],[349,54,349,59],[349,61,349,66],[349,70,349,75],[349,8,349,13],[384,54,384,59],[384,61,384,66],[384,70,384,75],[384,24,384,29],[384,38,384,43],[384,31,384,36],[384,8,384,13],[384,47,384,52],[349,31,349,36],[349,38,349,43],[349,47,349,52],[160,1,160,6],[238,1,238,6],[276,15,276,20],[238,61,238,66],[419,31,419,36],[419,38,419,43],[419,47,419,52],[419,54,419,59],[419,61,419,66],[454,8,454,13],[454,24,454,29],[454,31,454,36],[454,38,454,43],[454,47,454,52],[419,107,419,112],[349,100,349,105],[454,93,454,98],[454,100,454,105],[454,107,454,112],[454,54,454,59],[454,61,454,66],[454,70,454,75],[454,77,454,82],[454,84,454,89],[384,100,384,105],[384,107,384,112],[349,107,349,112],[349,77,349,82],[349,84,349,89],[349,93,349,98],[384,93,384,98],[384,77,384,82],[384,84,384,89],[489,38,489,43],[489,31,489,36],[489,24,489,29],[489,15,489,20],[489,8,489,13],[489,1,489,6],[489,107,489,112],[489,100,489,105],[489,93,489,98],[489,84,489,89],[489,77,489,82],[489,70,489,75],[489,61,489,66],[489,54,489,59],[489,47,489,52]]}
[{"$f":"'DNSP Inputs O&M'!$A$3","v":"AusNet"}]
[]
["Public Lighting O & M Costs","Year",{"$f":"Instructions!$B$16","v":"2027-06-30"},null,null,null,null,null,null,null,null,null,"Year",{"$f":"C3","v":"2027-06-30"},null,null,null,null,null,null,null,null,null,null,"Year",{"$f":"EOMONTH(C3,12)","v":"2028-06-30"},null,null,null,null,null,null,null,null,null,"Year",{"$f":"Z3","v":"2028-06-30"},null,null,null,null,null,null,null,null,null,null,"Year",{"$f":"EOMONTH(Z3,12)","v":"2029-06-30"},null,null,null,null,null,null,null,null,null,"Year",{"$f":"AW3","v":"2029-06-30"},null,null,null,null,null,null,null,null,null,null,"Year",{"$f":"EOMONTH(AW3,12)","v":"2030-06-30"},null,null,null,null,null,null,null,null,null,"Year",{"$f":"BT3","v":"2030-06-30"},null,null,null,null,null,null,null,null,null,null,"Year",{"$f":"EOMONTH(BT3,12)","v":"2031-06-30"},null,null,null,null,null,null,null,null,null,"Year",{"$f":"CQ3","v":"2031-06-30"}]
[{"$f":"'DNSP Inputs O&M'!C5","v":"$Real Jun 2026"}]
[]
["Summary"]
[null,{"$f":"'DNSP Inputs O&M'!$A$58","v":"SP AusNet - Central"},null,null,null,null,null,null,null,null,null,null,{"$f":"'DNSP Inputs O&M'!$A$63","v":"SP AusNet - North/East"},null,null,null,null,null,null,null,null,null,null,null,{"$f":"'DNSP Inputs O&M'!$A$58","v":"SP AusNet - Central"},null,null,null,null,null,null,null,null,null,null,{"$f":"'DNSP Inputs O&M'!$A$63","v":"SP AusNet - North/East"},null,null,null,null,null,null,null,null,null,null,null,{"$f":"'DNSP Inputs O&M'!$A$58","v":"SP AusNet - Central"},null,null,null,null,null,null,null,null,null,null,{"$f":"'DNSP Inputs O&M'!$A$63","v":"SP AusNet - North/East"},null,null,null,null,null,null,null,null,null,null,null,{"$f":"'DNSP Inputs O&M'!$A$58","v":"SP AusNet - Central"},null,null,null,null,null,null,null,null,null,null,{"$f":"'DNSP Inputs O&M'!$A$63","v":"SP AusNet - North/East"},null,null,null,null,null,null,null,null,null,null,null,{"$f":"'DNSP Inputs O&M'!$A$58","v":"SP AusNet - Central"},null,null,null,null,null,null,null,null,null,null,{"$f":"'DNSP Inputs O&M'!$A$63","v":"SP AusNet - North/East"}]
[{"$f":"$A$124","v":"MV80"},null,null,"Avoided Costs - MV 80 O & M",null,null,null,null,null,null,null,null,null,null,"Avoided Costs - MV 80 O & M",null,null,null,null,null,null,null,null,null,null,null,"Avoided Costs - MV 80 O & M",null,null,null,null,null,null,null,null,null,null,"Avoided Costs - MV 80 O & M",null,null,null,null,null,null,null,null,null,null,null,"Avoided Costs - MV 80 O & M",null,null,null,null,null,null,null,null,null,null,"Avoided Costs - MV 80 O & M",null,null,null,null,null,null,null,null,null,null,null,"Avoided Costs - MV 80 O & M",null,null,null,null,null,null,null,null,null,null,"Avoided Costs - MV 80 O & M",null,null,null,null,null,null,null,null,null,null,null,"Avoided Costs - MV 80 O & M",null,null,null,null,null,null,null,null,null,null,"Avoided Costs - MV 80 O & M"]
[{"$f":"$A$125","v":"Bulk change & repairs"},{"$f":"G145*C88+N145*C89+U145*C90","v":24.616030281457519},null,"Materials & labour - bulk lamp change",null,null,{"$f":"-((G127+G136)*C88+(N127+N136)*C89+(U127+U136)*C90)*2","v":-23.125366870579885},null,null,null,null,null,{"$f":"G145*M88+N145*M89+U145*M90+'DNSP Inputs O&M'!$D$55","v":28.350849922103855},null,"Materials & labour - bulk lamp change",null,null,{"$f":"-((G127+G136)*M88+(N127+N136)*M89+(U127+U136)*M90)*2","v":-26.02667275361112},null,null,null,null,null,null,{"$f":"AD145*Z88+AK145*Z89+AR145*Z90","v":{"$error":"#REF!"}},null,"Materials & labour - bulk lamp change",null,null,{"$f":"-((AD127+AD136)*Z88+(AK127+AK136)*Z89+(AR127+AR136)*Z90)*2","v":{"$error":"#REF!"}},null,null,null,null,null,{"$f":"AD145*AJ88+AK145*AJ89+AR145*AJ90+'DNSP Inputs O&M'!$E$55","v":{"$error":"#REF!"}},null,"Materials & labour - bulk lamp change",null,null,{"$f":"-((AD127+AD136)*AJ88+(AK127+AK136)*AJ89+(AR127+AR136)*AJ90)*2","v":{"$error":"#REF!"}},null,null,null,null,null,null,{"$f":"BA145*AW88+BH145*AW89+BO145*AW90","v":{"$error":"#REF!"}},null,"Materials & labour - bulk lamp change",null,null,{"$f":"-((BA127+BA136)*AW88+(BH127+BH136)*AW89+(BO127+BO136)*AW90)*2","v":{"$error":"#REF!"}},null,null,null,null,null,{"$f":"BA145*BG88+BH145*BG89+BO145*BG90+'DNSP Inputs O&M'!$F$55","v":{"$error":"#REF!"}},null,"Materials & labour - bulk lamp change",null,null,{"$f":"-((BA127+BA136)*BG88+(BH127+BH136)*BG89+(BO127+BO136)*BG90)*2","v":{"$error":"#REF!"}},null,null,null,null,null,null,{"$f":"BX145*BT88+CE145*BT89+CL145*BT90","v":{"$error":"#REF!"}},null,"Materials & labour - bulk lamp change",null,null,{"$f":"-((BX127+BX136)*BT88+(CE127+CE136)*BT89+(CL127+CL136)*BT90)*2","v":{"$error":"#REF!"}},null,null,null,null,null,{"$f":"BX145*CD88+CE145*CD89+CL145*CD90+'DNSP Inputs O&M'!$G$55","v":{"$error":"#REF!"}},null,"Materials & labour - bulk lamp change",null,null,{"$f":"-((BX127+BX136)*CD88+(CE127+CE136)*CD89+(CL127+CL136)*CD90)*2","v":{"$error":"#REF!"}},null,null,null,null,null,null,{"$f":"CU145*CQ88+DB145*CQ89+DI145*CQ90","v":{"$error":"#REF!"}},null,"Materials & labour - bulk lamp change",null,null,{"$f":"-((CU127+CU136)*CQ88+(DB127+DB136)*CQ89+(DI127+DI136)*CQ90)*2","v":{"$error":"#REF!"}},null,null,null,null,null,{"$f":"CU145*DA88+DB145*DA89+DI145*DA90+'DNSP Inputs O&M'!$H$55","v":{"$error":"#REF!"}},null,"Materials & labour - bulk lamp change",null,null,{"$f":"-((CU127+CU136)*DA88+(DB127+DB136)*DA89+(DI127+DI136)*DA90)*2","v":{"$error":"#REF!"}}]
[{"$f":"$A$147","v":"Dedicated poles - inspection"},{"$f":"(G148*C88+N148*C89+U148*C90)*C98","v":1.3887940184783973},null,"Materials & Labour - repair of faults",null,null,{"$f":"-((G131+G139+G141)*C88+(N131+N139+N141)*C89+(U131+U139+U141)*C90)/2","v":-4.0650703949380356},null,null,null,null,null,{"$f":"(G148*C88+N148*C89+U148*C90)*M98","v":1.3952674994864962},null,"Materials & Labour - repair of faults",null,null,{"$f":"-((G131+G139+G141)*M88+(N131+N139+N141)*M89+(U131+U139+U141)*M90)/2","v":-4.4416717804387611},null,null,null,null,null,null,{"$f":"(AD148*Z88+AK148*Z89+AR148*Z90)*Z98","v":{"$error":"#REF!"}},null,"Materials & Labour - repair of faults",null,null,{"$f":"-((AD131+AD139+AD141)*Z88+(AK131+AK139+AK141)*Z89+(AR131+AR139+AR141)*Z90)/2","v":{"$error":"#REF!"}},null,null,null,null,null,{"$f":"(AD148*Z88+AK148*Z89+AR148*Z90)*AJ98","v":{"$error":"#REF!"}},null,"Materials & Labour - repair of faults",null,null,{"$f":"-((AD131+AD139+AD141)*AJ88+(AK131+AK139+AK141)*AJ89+(AR131+AR139+AR141)*AJ90)/2","v":{"$error":"#REF!"}},null,null,null,null,null,null,{"$f":"(BA148*AW88+BH148*AW89+BO148*AW90)*AW98","v":{"$error":"#REF!"}},null,"Materials & Labour - repair of faults",null,null,{"$f":"-((BA131+BA139+BA141)*AW88+(BH131+BH139+BH141)*AW89+(BO131+BO139+BO141)*AW90)/2","v":{"$error":"#REF!"}},null,null,null,null,null,{"$f":"(BA148*AW88+BH148*AW89+BO148*AW90)*BG98","v":{"$error":"#REF!"}},null,"Materials & Labour - repair of faults",null,null,{"$f":"-((BA131+BA139+BA141)*BG88+(BH131+BH139+BH141)*BG89+(BO131+BO139+BO141)*BG90)/2","v":{"$error":"#REF!"}},null,null,null,null,null,null,{"$f":"(BX148*BT88+CE148*BT89+CL148*BT90)*BT98","v":{"$error":"#REF!"}},null,"Materials & Labour - repair of faults",null,null,{"$f":"-((BX131+BX139+BX141)*BT88+(CE131+CE139+CE141)*BT89+(CL131+CL139+CL141)*BT90)/2","v":{"$error":"#REF!"}},null,null,null,null,null,{"$f":"(BX148*BT88+CE148*BT89+CL148*BT90)*CD98","v":{"$error":"#REF!"}},null,"Materials & Labour - repair of faults",null,null,{"$f":"-((BX131+BX139+BX141)*CD88+(CE131+CE139+CE141)*CD89+(CL131+CL139+CL141)*CD90)/2","v":{"$error":"#REF!"}},null,null,null,null,null,null,{"$f":"(CU148*CQ88+DB148*CQ89+DI148*CQ90)*CQ98","v":{"$error":"#REF!"}},null,"Materials & Labour - repair of faults",null,null,{"$f":"-((CU131+CU139+CU141)*CQ88+(DB131+DB139+DB141)*CQ89+(DI131+DI139+DI141)*CQ90)/2","v":{"$error":"#REF!"}},null,null,null,null,null,{"$f":"(CU148*CQ88+DB148*CQ89+DI148*CQ90)*DA98","v":{"$error":"#REF!"}},null,"Materials & Labour - repair of faults",null,null,{"$f":"-((CU131+CU139+CU141)*DA88+(DB131+DB139+DB141)*DA89+(DI131+DI139+DI141)*DA90)/2","v":{"$error":"#REF!"}}]
["Other costs",{"$f":"IF(C106=0,0,C104/C106)","v":{"$error":"#REF!"}},null,null,null,null,{"$f":"SUM(G9:G10)","v":-27.190437265517922},null,null,null,null,null,{"$f":"IF(C106=0,0,C104/C106)","v":{"$error":"#REF!"}},null,null,null,null,{"$f":"SUM(R9:R10)","v":-30.46834453404988},null,null,null,null,null,null,{"$f":"IF(Z106=0,0,Z104/Z106)","v":{"$error":"#REF!"}},null,null,null,null,{"$f":"SUM(AD9:AD10)","v":{"$error":"#REF!"}},null,null,null,null,null,{"$f":"IF(Z106=0,0,Z104/Z106)","v":{"$error":"#REF!"}},null,null,null,null,{"$f":"SUM(AO9:AO10)","v":{"$error":"#REF!"}},null,null,null,null,null,null,{"$f":"IF(AW106=0,0,AW104/AW106)","v":{"$error":"#REF!"}},null,null,null,null,{"$f":"SUM(BA9:BA10)","v":{"$error":"#REF!"}},null,null,null,null,null,{"$f":"IF(AW106=0,0,AW104/AW106)","v":{"$error":"#REF!"}},null,null,null,null,{"$f":"SUM(BL9:BL10)","v":{"$error":"#REF!"}},null,null,null,null,null,null,{"$f":"IF(BT106=0,0,BT104/BT106)","v":{"$error":"#REF!"}},null,null,null,null,{"$f":"SUM(BX9:BX10)","v":{"$error":"#REF!"}},null,null,null,null,null,{"$f":"IF(BT106=0,0,BT104/BT106)","v":{"$error":"#REF!"}},null,null,null,null,{"$f":"SUM(CI9:CI10)","v":{"$error":"#REF!"}},null,null,null,null,null,null,{"$f":"IF(CQ106=0,0,CQ104/CQ106)","v":{"$error":"#REF!"}},null,null,null,null,{"$f":"SUM(CU9:CU10)","v":{"$error":"#REF!"}},null,null,null,null,null,{"$f":"IF(CQ106=0,0,CQ104/CQ106)","v":{"$error":"#REF!"}},null,null,null,null,{"$f":"SUM(DF9:DF10)","v":{"$error":"#REF!"}}]
[]
[]
[{"$f":"$A$165","v":"S-HP 150"}]
[{"$f":"$A$172","v":"Patrols and repairs"},{"$f":"G188*E88+N188*E89+U188*E90","v":{"$error":"#REF!"}},null,null,null,null,null,null,null,null,null,null,{"$f":"G188*O88+N188*O89+U188*O90+'DNSP Inputs O&M'!$D$98","v":{"$error":"#REF!"}},null,null,null,null,null,null,null,null,null,null,null,{"$f":"AD188*AB88+AK188*AB89+AR188*AB90","v":{"$error":"#REF!"}},null,null,null,null,null,null,null,null,null,null,{"$f":"AD188*AL88+AK188*AL89+AR188*AL90+'DNSP Inputs O&M'!$E$98","v":{"$error":"#REF!"}},null,null,null,null,null,null,null,null,null,null,null,{"$f":"BA188*AY88+BH188*AY89+BO188*AY90","v":{"$error":"#REF!"}},null,null,null,null,null,null,null,null,null,null,{"$f":"BA188*BI88+BH188*BI89+BO188*BI90+'DNSP Inputs O&M'!$F$98","v":{"$error":"#REF!"}},null,null,null,null,null,null,null,null,null,null,null,{"$f":"BX188*BV88+CE188*BV89+CL188*BV90","v":{"$error":"#REF!"}},null,null,null,null,null,null,null,null,null,null,{"$f":"BX188*CF88+CE188*CF89+CL188*CF90+'DNSP Inputs O&M'!$G$98","v":{"$error":"#REF!"}},null,null,null,null,null,null,null,null,null,null,null,{"$f":"CU188*CS88+DB188*CS89+DI188*CS90","v":{"$error":"#REF!"}},null,null,null,null,null,null,null,null,null,null,{"$f":"CU188*DC88+DB188*DC89+DI188*DC90+'DNSP Inputs O&M'!$H$98","v":{"$error":"#REF!"}}]
[{"$f":"$A$10","v":"Dedicated poles - inspection"},{"$f":"B$10","v":1.3887940184783973},null,null,null,null,null,null,null,null,null,null,{"$f":"M$10","v":1.3952674994864962},null,null,null,null,null,null,null,null,null,null,null,{"$f":"Y$10","v":{"$error":"#REF!"}},null,null,null,null,null,null,null,null,null,null,{"$f":"AJ$10","v":{"$error":"#REF!"}},null,null,null,null,null,null,null,null,null,null,null,{"$f":"AV10","v":{"$error":"#REF!"}},null,null,null,null,null,null,null,null,null,null,{"$f":"BG10","v":{"$error":"#REF!"}},null,null,null,null,null,null,null,null,null,null,null,{"$f":"BS10","v":{"$error":"#REF!"}},null,null,null,null,null,null,null,null,null,null,{"$f":"CD10","v":{"$error":"#REF!"}},null,null,null,null,null,null,null,null,null,null,null,{"$f":"CP10","v":{"$error":"#REF!"}},null,null,null,null,null,null,null,null,null,null,{"$f":"DA10","v":{"$error":"#REF!"}}]
[{"$f":"$A$11","v":"Other costs"},{"$f":"B$11","v":{"$error":"#REF!"}},null,null,null,null,null,null,null,null,null,null,{"$f":"M$11","v":{"$error":"#REF!"}},null,null,null,null,null,null,null,null,null,null,null,{"$f":"Y$11","v":{"$error":"#REF!"}},null,null,null,null,null,null,null,null,null,null,{"$f":"AJ$11","v":{"$error":"#REF!"}},null,null,null,null,null,null,null,null,null,null,null,{"$f":"AV11","v":{"$error":"#REF!"}},null,null,null,null,null,null,null,null,null,null,{"$f":"BG11","v":{"$error":"#REF!"}},null,null,null,null,null,null,null,null,null,null,null,{"$f":"BS11","v":{"$error":"#REF!"}},null,null,null,null,null,null,null,null,null,null,{"$f":"CD11","v":{"$error":"#REF!"}},null,null,null,null,null,null,null,null,null,null,null,{"$f":"CP11","v":{"$error":"#REF!"}},null,null,null,null,null,null,null,null,null,null,{"$f":"DA11","v":{"$error":"#REF!"}}]
[]
[]
[{"$f":"$A$203","v":"S-HP 250"}]
[{"$f":"$A$210","v":"Patrols and repairs"},{"$f":"G226*G88+N226*G89+U226*G90","v":{"$error":"#REF!"}},null,null,null,null,null,null,null,null,null,null,{"$f":"G226*Q88+N226*Q89+U226*Q90+'DNSP Inputs O&M'!$D$141","v":{"$error":"#REF!"}},null,null,null,null,null,null,null,null,null,null,null,{"$f":"AD226*AD88+AK226*AD89+AR226*AD90","v":{"$error":"#REF!"}},null,null,null,null,null,null,null,null,null,null,{"$f":"AD226*AN88+AK226*AN89+AR226*AN90+'DNSP Inputs O&M'!$E$141","v":{"$error":"#REF!"}},null,null,null,null,null,null,null,null,null,null,null,{"$f":"BA226*BA88+BH226*BA89+BO226*BA90","v":{"$error":"#REF!"}},null,null,null,null,null,null,null,null,null,null,{"$f":"BA226*BK88+BH226*BK89+BO226*BK90+'DNSP Inputs O&M'!$F$141","v":{"$error":"#REF!"}},null,null,null,null,null,null,null,null,null,null,null,{"$f":"BX226*BX88+CE226*BX89+CL226*BX90","v":{"$error":"#REF!"}},null,null,null,null,null,null,null,null,null,null,{"$f":"BX226*CH88+CE226*CH89+CL226*CH90+'DNSP Inputs O&M'!$G$141","v":{"$error":"#REF!"}},null,null,null,null,null,null,null,null,null,null,null,{"$f":"CU226*CU88+DB226*CU89+DI226*CU90","v":{"$error":"#REF!"}},null,null,null,null,null,null,null,null,null,null,{"$f":"CU226*DE88+DB226*DE89+DI226*DE90+'DNSP Inputs O&M'!$H$141","v":{"$error":"#REF!"}}]
[{"$f":"$A$10","v":"Dedicated poles - inspection"},{"$f":"B$10","v":1.3887940184783973},null,null,null,null,null,null,null,null,null,null,{"$f":"M10","v":1.3952674994864962},null,null,null,null,null,null,null,null,null,null,null,{"$f":"Y$10","v":{"$error":"#REF!"}},null,null,null,null,null,null,null,null,null,null,{"$f":"AJ$10","v":{"$error":"#REF!"}},null,null,null,null,null,null,null,null,null,null,null,{"$f":"AV10","v":{"$error":"#REF!"}},null,null,null,null,null,null,null,null,null,null,{"$f":"BG10","v":{"$error":"#REF!"}},null,null,null,null,null,null,null,null,null,null,null,{"$f":"BS10","v":{"$error":"#REF!"}},null,null,null,null,null,null,null,null,null,null,{"$f":"CD10","v":{"$error":"#REF!"}},null,null,null,null,null,null,null,null,null,null,null,{"$f":"CP10","v":{"$error":"#REF!"}},null,null,null,null,null,null,null,null,null,null,{"$f":"DA10","v":{"$error":"#REF!"}}]
[{"$f":"$A$11","v":"Other costs"},{"$f":"B$11","v":{"$error":"#REF!"}},null,null,null,null,null,null,null,null,null,null,{"$f":"M11","v":{"$error":"#REF!"}},null,null,null,null,null,null,null,null,null,null,null,{"$f":"Y$11","v":{"$error":"#REF!"}},null,null,null,null,null,null,null,null,null,null,{"$f":"AJ$11","v":{"$error":"#REF!"}},null,null,null,null,null,null,null,null,null,null,null,{"$f":"AV11","v":{"$error":"#REF!"}},null,null,null,null,null,null,null,null,null,null,{"$f":"BG11","v":{"$error":"#REF!"}},null,null,null,null,null,null,null,null,null,null,null,{"$f":"BS11","v":{"$error":"#REF!"}},null,null,null,null,null,null,null,null,null,null,{"$f":"CD11","v":{"$error":"#REF!"}},null,null,null,null,null,null,null,null,null,null,null,{"$f":"CP11","v":{"$error":"#REF!"}},null,null,null,null,null,null,null,null,null,null,{"$f":"DA11","v":{"$error":"#REF!"}}]
[]
[]
[{"$f":"$A$243","v":"T5 (2 X 14W)"}]
[{"$f":"$A$244","v":"Bulk change & repairs"},{"$f":"G264*I88+N264*I89+U264*I90","v":{"$error":"#REF!"}},null,null,null,null,null,null,null,null,null,null,{"$f":"G264*S88+N264*S89+U264*S90+'DNSP Inputs O&M'!$D$214","v":{"$error":"#REF!"}},null,null,null,null,null,null,null,null,null,null,null,{"$f":"AD264*AF88+AK264*AF89+AR264*AF90","v":{"$error":"#REF!"}},null,null,null,null,null,null,null,null,null,null,{"$f":"AD264*AP88+AK264*AP89+AR264*AP90+'DNSP Inputs O&M'!$E$214","v":{"$error":"#REF!"}},null,null,null,null,null,null,null,null,null,null,null,{"$f":"BA264*BC88+BH264*BC89+BO264*BC90","v":{"$error":"#REF!"}},null,null,null,null,null,null,null,null,null,null,{"$f":"BA264*BM88+BH264*BM89+BO264*BM90+'DNSP Inputs O&M'!$F$214","v":{"$error":"#REF!"}},null,null,null,null,null,null,null,null,null,null,null,{"$f":"BX264*BZ88+CE264*BZ89+CL264*BZ90","v":{"$error":"#REF!"}},null,null,null,null,null,null,null,null,null,null,{"$f":"BX264*CJ88+CE264*CJ89+CL264*CJ90+'DNSP Inputs O&M'!$G$214","v":{"$error":"#REF!"}},null,null,null,null,null,null,null,null,null,null,null,{"$f":"CU264*CW88+DB264*CW89+DI264*CW90","v":{"$error":"#REF!"}},null,null,null,null,null,null,null,null,null,null,{"$f":"CU264*DG88+DB264*DG89+DI264*DG90+'DNSP Inputs O&M'!$H$214","v":{"$error":"#REF!"}}]
[{"$f":"$A$10","v":"Dedicated poles - inspection"},{"$f":"B$10","v":1.3887940184783973},null,null,null,null,null,null,null,null,null,null,{"$f":"M$10","v":1.3952674994864962},null,null,null,null,null,null,null,null,null,null,null,{"$f":"Y$10","v":{"$error":"#REF!"}},null,null,null,null,null,null,null,null,null,null,{"$f":"AJ$10","v":{"$error":"#REF!"}},null,null,null,null,null,null,null,null,null,null,null,{"$f":"AV10","v":{"$error":"#REF!"}},null,null,null,null,null,null,null,null,null,null,{"$f":"BG10","v":{"$error":"#REF!"}},null,null,null,null,null,null,null,null,null,null,null,{"$f":"BS10","v":{"$error":"#REF!"}},null,null,null,null,null,null,null,null,null,null,{"$f":"CD10","v":{"$error":"#REF!"}},null,null,null,null,null,null,null,null,null,null,null,{"$f":"CP10","v":{"$error":"#REF!"}},null,null,null,null,null,null,null,null,null,null,{"$f":"DA10","v":{"$error":"#REF!"}}]
[{"$f":"$A$11","v":"Other costs"},{"$f":"B$11","v":{"$error":"#REF!"}},null,null,null,null,null,null,null,null,null,null,{"$f":"M$11","v":{"$error":"#REF!"}},null,null,null,null,null,null,null,null,null,null,null,{"$f":"Y$11","v":{"$error":"#REF!"}},null,null,null,null,null,null,null,null,null,null,{"$f":"AJ$11","v":{"$error":"#REF!"}},null,null,null,null,null,null,null,null,null,null,null,{"$f":"AV11","v":{"$error":"#REF!"}},null,null,null,null,null,null,null,null,null,null,{"$f":"BG11","v":{"$error":"#REF!"}},null,null,null,null,null,null,null,null,null,null,null,{"$f":"BS11","v":{"$error":"#REF!"}},null,null,null,null,null,null,null,null,null,null,{"$f":"CD11","v":{"$error":"#REF!"}},null,null,null,null,null,null,null,null,null,null,null,{"$f":"CP11","v":{"$error":"#REF!"}},null,null,null,null,null,null,null,null,null,null,{"$f":"DA11","v":{"$error":"#REF!"}}]
[]
[]
[{"$f":"A281","v":"T5 (2 X 24W)"}]
[{"$f":"A282","v":"Bulk change & repairs"},{"$f":"G302*J88+N302*J89+U302*J90","v":{"$error":"#REF!"}},null,null,null,null,null,null,null,null,null,null,{"$f":"G302*T88+N302*T89+U302*T90+'DNSP Inputs O&M'!$D$263","v":{"$error":"#REF!"}},null,null,null,null,null,null,null,null,null,null,null,{"$f":"AD302*AG88+AK302*AG89+AR302*AG90","v":{"$error":"#REF!"}},null,null,null,null,null,null,null,null,null,null,{"$f":"AD302*AQ88+AK302*AQ89+AR302*AQ90+'DNSP Inputs O&M'!$E$263","v":{"$error":"#REF!"}},null,null,null,null,null,null,null,null,null,null,null,{"$f":"BA302*BD88+BH302*BD89+BO302*BD90","v":{"$error":"#REF!"}},null,null,null,null,null,null,null,null,null,null,{"$f":"BA302*BN88+BH302*BN89+BO302*BN90+'DNSP Inputs O&M'!$F$263","v":{"$error":"#REF!"}},null,null,null,null,null,null,null,null,null,null,null,{"$f":"BX302*CA88+CE302*CA89+CL302*CA90","v":{"$error":"#REF!"}},null,null,null,null,null,null,null,null,null,null,{"$f":"BX302*CK88+CE302*CK89+CL302*CK90+'DNSP Inputs O&M'!$G$263","v":{"$error":"#REF!"}},null,null,null,null,null,null,null,null,null,null,null,{"$f":"CU302*CX88+DB302*CX89+DI302*CX90","v":{"$error":"#REF!"}},null,null,null,null,null,null,null,null,null,null,{"$f":"CU302*DH88+DB302*DH89+DI302*DH90+'DNSP Inputs O&M'!$H$263","v":{"$error":"#REF!"}}]
[{"$f":"$A$10","v":"Dedicated poles - inspection"},{"$f":"B$10","v":1.3887940184783973},null,null,null,null,null,null,null,null,null,null,{"$f":"M$10","v":1.3952674994864962},null,null,null,null,null,null,null,null,null,null,null,{"$f":"Y$10","v":{"$error":"#REF!"}},null,null,null,null,null,null,null,null,null,null,{"$f":"AJ$10","v":{"$error":"#REF!"}},null,null,null,null,null,null,null,null,null,null,null,{"$f":"AV10","v":{"$error":"#REF!"}},null,null,null,null,null,null,null,null,null,null,{"$f":"BG10","v":{"$error":"#REF!"}},null,null,null,null,null,null,null,null,null,null,null,{"$f":"BS10","v":{"$error":"#REF!"}},null,null,null,null,null,null,null,null,null,null,{"$f":"CD10","v":{"$error":"#REF!"}},null,null,null,null,null,null,null,null,null,null,null,{"$f":"CP10","v":{"$error":"#REF!"}},null,null,null,null,null,null,null,null,null,null,{"$f":"DA10","v":{"$error":"#REF!"}}]
[{"$f":"$A$11","v":"Other costs"},{"$f":"B$11","v":{"$error":"#REF!"}},null,null,null,null,null,null,null,null,null,null,{"$f":"M$11","v":{"$error":"#REF!"}},null,null,null,null,null,null,null,null,null,null,null,{"$f":"Y$11","v":{"$error":"#REF!"}},null,null,null,null,null,null,null,null,null,null,{"$f":"AJ$11","v":{"$error":"#REF!"}},null,null,null,null,null,null,null,null,null,null,null,{"$f":"AV11","v":{"$error":"#REF!"}},null,null,null,null,null,null,null,null,null,null,{"$f":"BG11","v":{"$error":"#REF!"}},null,null,null,null,null,null,null,null,null,null,null,{"$f":"BS11","v":{"$error":"#REF!"}},null,null,null,null,null,null,null,null,null,null,{"$f":"CD11","v":{"$error":"#REF!"}},null,null,null,null,null,null,null,null,null,null,null,{"$f":"CP11","v":{"$error":"#REF!"}},null,null,null,null,null,null,null,null,null,null,{"$f":"DA11","v":{"$error":"#REF!"}}]
[]
[]
[{"$f":"A319","v":"LED 18W"}]
[{"$f":"A320","v":"Bulk change & repairs"},{"$f":"G337*K88+N337*K89+U337*K90","v":10.325501060158699},null,null,null,null,null,null,null,null,null,null,{"$f":"G337*U88+N337*U89+U337*U90+'DNSP Inputs O&M'!$D$309","v":12.40969145509904},null,null,null,null,null,null,null,null,null,null,null,{"$f":"AD337*AH88+AK337*AH89+AR337*AH90","v":{"$error":"#REF!"}},null,null,null,null,null,null,null,null,null,null,{"$f":"AD337*AR88+AK337*AR89+AR337*AR90+'DNSP Inputs O&M'!$E$309","v":{"$error":"#REF!"}},null,null,null,null,null,null,null,null,null,null,null,{"$f":"BA337*BE88+BH337*BE89+BO337*BE90","v":{"$error":"#REF!"}},null,null,null,null,null,null,null,null,null,null,{"$f":"BA337*BO88+BH337*BO89+BO337*BO90+'DNSP Inputs O&M'!$F$309","v":{"$error":"#REF!"}},null,null,null,null,null,null,null,null,null,null,null,{"$f":"BX337*CB88+CE337*CB89+CL337*CB90","v":{"$error":"#REF!"}},null,null,null,null,null,null,null,null,null,null,{"$f":"BX337*CL88+CE337*CL89+CL337*CL90+'DNSP Inputs O&M'!$G$309","v":{"$error":"#REF!"}},null,null,null,null,null,null,null,null,null,null,null,{"$f":"CU337*CY88+DB337*CY89+DI337*CY90","v":{"$error":"#REF!"}},null,null,null,null,null,null,null,null,null,null,{"$f":"CU337*DI88+DB337*DI89+DI337*DI90+'DNSP Inputs O&M'!$H$309","v":{"$error":"#REF!"}}]
[{"$f":"$A$10","v":"Dedicated poles - inspection"},{"$f":"B$10","v":1.3887940184783973},null,null,null,null,null,null,null,null,null,null,{"$f":"M$10","v":1.3952674994864962},null,null,null,null,null,null,null,null,null,null,null,{"$f":"Y$10","v":{"$error":"#REF!"}},null,null,null,null,null,null,null,null,null,null,{"$f":"AJ$10","v":{"$error":"#REF!"}},null,null,null,null,null,null,null,null,null,null,null,{"$f":"AV10","v":{"$error":"#REF!"}},null,null,null,null,null,null,null,null,null,null,{"$f":"BG10","v":{"$error":"#REF!"}},null,null,null,null,null,null,null,null,null,null,null,{"$f":"BS10","v":{"$error":"#REF!"}},null,null,null,null,null,null,null,null,null,null,{"$f":"CD10","v":{"$error":"#REF!"}},null,null,null,null,null,null,null,null,null,null,null,{"$f":"CP10","v":{"$error":"#REF!"}},null,null,null,null,null,null,null,null,null,null,{"$f":"DA10","v":{"$error":"#REF!"}}]
[{"$f":"$A$11","v":"Other costs"},{"$f":"B$11","v":{"$error":"#REF!"}},null,null,null,null,null,null,null,null,null,null,{"$f":"M$11","v":{"$error":"#REF!"}},null,null,null,null,null,null,null,null,null,null,null,{"$f":"Y$11","v":{"$error":"#REF!"}},null,null,null,null,null,null,null,null,null,null,{"$f":"AJ$11","v":{"$error":"#REF!"}},null,null,null,null,null,null,null,null,null,null,null,{"$f":"AV11","v":{"$error":"#REF!"}},null,null,null,null,null,null,null,null,null,null,{"$f":"BG11","v":{"$error":"#REF!"}},null,null,null,null,null,null,null,null,null,null,null,{"$f":"BS11","v":{"$error":"#REF!"}},null,null,null,null,null,null,null,null,null,null,{"$f":"CD11","v":{"$error":"#REF!"}},null,null,null,null,null,null,null,null,null,null,null,{"$f":"CP11","v":{"$error":"#REF!"}},null,null,null,null,null,null,null,null,null,null,{"$f":"DA11","v":{"$error":"#REF!"}}]
[]
[]
[{"$f":"A354","v":"LED 14W"}]
[{"$f":"A355","v":"Bulk change & repairs"},{"$f":"G372*C93+N372*C94+U372*C95","v":10.495553936237936},null,null,null,null,null,null,null,null,null,null,{"$f":"G372*M93+N372*M94+U372*M95+'DNSP Inputs O&M'!$D$355","v":12.462015661538251},null,null,null,null,null,null,null,null,null,null,null,{"$f":"AD372*Z93+AK372*Z94+AR372*Z95","v":{"$error":"#REF!"}},null,null,null,null,null,null,null,null,null,null,{"$f":"AD372*AJ93+AK372*AJ94+AR372*AJ95+'DNSP Inputs O&M'!$E$355","v":{"$error":"#REF!"}},null,null,null,null,null,null,null,null,null,null,null,{"$f":"BA372*AW93+BH372*AW94+BO372*AW95","v":{"$error":"#REF!"}},null,null,null,null,null,null,null,null,null,null,{"$f":"BA372*BG93+BH372*BG94+BO372*BG95+'DNSP Inputs O&M'!$F$355","v":{"$error":"#REF!"}},null,null,null,null,null,null,null,null,null,null,null,{"$f":"BX372*BT93+CE372*BT94+CL372*BT95","v":{"$error":"#REF!"}},null,null,null,null,null,null,null,null,null,null,{"$f":"BX372*CD93+CE372*CD94+CL372*CD95+'DNSP Inputs O&M'!$G$355","v":{"$error":"#REF!"}},null,null,null,null,null,null,null,null,null,null,null,{"$f":"CU372*CQ93+DB372*CQ94+DI372*CQ95","v":{"$error":"#REF!"}},null,null,null,null,null,null,null,null,null,null,{"$f":"CU372*DA93+DB372*DA94+DI372*DA95+'DNSP Inputs O&M'!$H$355","v":{"$error":"#REF!"}}]
[{"$f":"$A$10","v":"Dedicated poles - inspection"},{"$f":"B$10","v":1.3887940184783973},null,null,null,null,null,null,null,null,null,null,{"$f":"M$10","v":1.3952674994864962},null,null,null,null,null,null,null,null,null,null,null,{"$f":"Y$10","v":{"$error":"#REF!"}},null,null,null,null,null,null,null,null,null,null,{"$f":"AJ$10","v":{"$error":"#REF!"}},null,null,null,null,null,null,null,null,null,null,null,{"$f":"AV16","v":{"$error":"#REF!"}},null,null,null,null,null,null,null,null,null,null,{"$f":"BG16","v":{"$error":"#REF!"}},null,null,null,null,null,null,null,null,null,null,null,{"$f":"BS16","v":{"$error":"#REF!"}},null,null,null,null,null,null,null,null,null,null,{"$f":"CD16","v":{"$error":"#REF!"}},null,null,null,null,null,null,null,null,null,null,null,{"$f":"CP16","v":{"$error":"#REF!"}},null,null,null,null,null,null,null,null,null,null,{"$f":"DA16","v":{"$error":"#REF!"}}]
[{"$f":"$A$11","v":"Other costs"},{"$f":"B$11","v":{"$error":"#REF!"}},null,null,null,null,null,null,null,null,null,null,{"$f":"M$11","v":{"$error":"#REF!"}},null,null,null,null,null,null,null,null,null,null,null,{"$f":"Y$11","v":{"$error":"#REF!"}},null,null,null,null,null,null,null,null,null,null,{"$f":"AJ$11","v":{"$error":"#REF!"}},null,null,null,null,null,null,null,null,null,null,null,{"$f":"AV17","v":{"$error":"#REF!"}},null,null,null,null,null,null,null,null,null,null,{"$f":"BG17","v":{"$error":"#REF!"}},null,null,null,null,null,null,null,null,null,null,null,{"$f":"BS17","v":{"$error":"#REF!"}},null,null,null,null,null,null,null,null,null,null,{"$f":"CD17","v":{"$error":"#REF!"}},null,null,null,null,null,null,null,null,null,null,null,{"$f":"CP17","v":{"$error":"#REF!"}},null,null,null,null,null,null,null,null,null,null,{"$f":"DA17","v":{"$error":"#REF!"}}]
[]
[]
[{"$f":"A389","v":"LED 70W (L1)"}]
[{"$f":"A390","v":"Patrols & repairs"},{"$f":"G407*D93+N407*D94+U407*D95","v":19.322510258539314},null,null,null,null,null,null,null,null,null,null,{"$f":"G407*N93+N407*N94+U407*N95+'DNSP Inputs O&M'!$D$401","v":25.084822784215859},null,null,null,null,null,null,null,null,null,null,null,{"$f":"AD407*AA93+AK407*AA94+AR407*AA95","v":{"$error":"#REF!"}},null,null,null,null,null,null,null,null,null,null,{"$f":"AD407*AK93+AK407*AK94+AR407*AK95+'DNSP Inputs O&M'!$E$401","v":{"$error":"#REF!"}},null,null,null,null,null,null,null,null,null,null,null,{"$f":"BA407*AX93+BH407*AX94+BO407*AX95","v":{"$error":"#REF!"}},null,null,null,null,null,null,null,null,null,null,{"$f":"BA407*BH93+BH407*BH94+BO407*BH95+'DNSP Inputs O&M'!$F$401","v":{"$error":"#REF!"}},null,null,null,null,null,null,null,null,null,null,null,{"$f":"BX407*BU93+CE407*BU94+CL407*BU95","v":{"$error":"#REF!"}},null,null,null,null,null,null,null,null,null,null,{"$f":"BX407*CE93+CE407*CE94+CL407*CE95+'DNSP Inputs O&M'!$G$401","v":{"$error":"#REF!"}},null,null,null,null,null,null,null,null,null,null,null,{"$f":"CU407*CR93+DB407*CR94+DI407*CR95","v":{"$error":"#REF!"}},null,null,null,null,null,null,null,null,null,null,{"$f":"CU407*DB93+DB407*DB94+DI407*DB95+'DNSP Inputs O&M'!$H$401","v":{"$error":"#REF!"}}]
[{"$f":"$A$10","v":"Dedicated poles - inspection"},{"$f":"B$10","v":1.3887940184783973},null,null,null,null,null,null,null,null,null,null,{"$f":"M$10","v":1.3952674994864962},null,null,null,null,null,null,null,null,null,null,null,{"$f":"Y$10","v":{"$error":"#REF!"}},null,null,null,null,null,null,null,null,null,null,{"$f":"AJ$10","v":{"$error":"#REF!"}},null,null,null,null,null,null,null,null,null,null,null,{"$f":"AV22","v":{"$error":"#REF!"}},null,null,null,null,null,null,null,null,null,null,{"$f":"BG22","v":{"$error":"#REF!"}},null,null,null,null,null,null,null,null,null,null,null,{"$f":"BS22","v":{"$error":"#REF!"}},null,null,null,null,null,null,null,null,null,null,{"$f":"CD22","v":{"$error":"#REF!"}},null,null,null,null,null,null,null,null,null,null,null,{"$f":"CP22","v":{"$error":"#REF!"}},null,null,null,null,null,null,null,null,null,null,{"$f":"DA22","v":{"$error":"#REF!"}}]
[{"$f":"$A$11","v":"Other costs"},{"$f":"B$11","v":{"$error":"#REF!"}},null,null,null,null,null,null,null,null,null,null,{"$f":"M$11","v":{"$error":"#REF!"}},null,null,null,null,null,null,null,null,null,null,null,{"$f":"Y$11","v":{"$error":"#REF!"}},null,null,null,null,null,null,null,null,null,null,{"$f":"AJ$11","v":{"$error":"#REF!"}},null,null,null,null,null,null,null,null,null,null,null,{"$f":"AV23","v":{"$error":"#REF!"}},null,null,null,null,null,null,null,null,null,null,{"$f":"BG23","v":{"$error":"#REF!"}},null,null,null,null,null,null,null,null,null,null,null,{"$f":"BS23","v":{"$error":"#REF!"}},null,null,null,null,null,null,null,null,null,null,{"$f":"CD23","v":{"$error":"#REF!"}},null,null,null,null,null,null,null,null,null,null,null,{"$f":"CP23","v":{"$error":"#REF!"}},null,null,null,null,null,null,null,null,null,null,{"$f":"DA23","v":{"$error":"#REF!"}}]
[]
[]
[{"$f":"A424","v":"LED 155W (L2)"}]
[{"$f":"A425","v":"Patrols & repairs"},{"$f":"G442*E93+N442*E94+U442*E95","v":19.322510258539314},null,null,null,null,null,null,null,null,null,null,{"$f":"G442*O93+N442*O94+U442*O95+'DNSP Inputs O&M'!$D$447","v":25.084822784215859},null,null,null,null,null,null,null,null,null,null,null,{"$f":"AD442*AB93+AK442*AB94+AR442*AB95","v":{"$error":"#REF!"}},null,null,null,null,null,null,null,null,null,null,{"$f":"AD442*AL93+AK442*AL94+AR442*AL95+'DNSP Inputs O&M'!$E$447","v":{"$error":"#REF!"}},null,null,null,null,null,null,null,null,null,null,null,{"$f":"BA442*AY93+BH442*AY94+BO442*AY95","v":{"$error":"#REF!"}},null,null,null,null,null,null,null,null,null,null,{"$f":"BA442*BI93+BH442*BI94+BO442*BI95+'DNSP Inputs O&M'!$F$447","v":{"$error":"#REF!"}},null,null,null,null,null,null,null,null,null,null,null,{"$f":"BX442*BV93+CE442*BV94+CL442*BV95","v":{"$error":"#REF!"}},null,null,null,null,null,null,null,null,null,null,{"$f":"BX442*CF93+CE442*CF94+CL442*CF95+'DNSP Inputs O&M'!$G$447","v":{"$error":"#REF!"}},null,null,null,null,null,null,null,null,null,null,null,{"$f":"CU442*CS93+DB442*CS94+DI442*CS95","v":{"$error":"#REF!"}},null,null,null,null,null,null,null,null,null,null,{"$f":"CU442*DC93+DB442*DC94+DI442*DC95+'DNSP Inputs O&M'!$H$447","v":{"$error":"#REF!"}}]
[{"$f":"$A$10","v":"Dedicated poles - inspection"},{"$f":"B$10","v":1.3887940184783973},null,null,null,null,null,null,null,null,null,null,{"$f":"M$10","v":1.3952674994864962},null,null,null,null,null,null,null,null,null,null,null,{"$f":"Y$10","v":{"$error":"#REF!"}},null,null,null,null,null,null,null,null,null,null,{"$f":"AJ$10","v":{"$error":"#REF!"}},null,null,null,null,null,null,null,null,null,null,null,{"$f":"AV28","v":{"$error":"#REF!"}},null,null,null,null,null,null,null,null,null,null,{"$f":"BG28","v":{"$error":"#REF!"}},null,null,null,null,null,null,null,null,null,null,null,{"$f":"BS28","v":{"$error":"#REF!"}},null,null,null,null,null,null,null,null,null,null,{"$f":"CD28","v":{"$error":"#REF!"}},null,null,null,null,null,null,null,null,null,null,null,{"$f":"CP28","v":{"$error":"#REF!"}},null,null,null,null,null,null,null,null,null,null,{"$f":"DA28","v":{"$error":"#REF!"}}]
[{"$f":"$A$11","v":"Other costs"},{"$f":"B$11","v":{"$error":"#REF!"}},null,null,null,null,null,null,null,null,null,null,{"$f":"M$11","v":{"$error":"#REF!"}},null,null,null,null,null,null,null,null,null,null,null,{"$f":"Y$11","v":{"$error":"#REF!"}},null,null,null,null,null,null,null,null,null,null,{"$f":"AJ$11","v":{"$error":"#REF!"}},null,null,null,null,null,null,null,null,null,null,null,{"$f":"AV29","v":{"$error":"#REF!"}},null,null,null,null,null,null,null,null,null,null,{"$f":"BG29","v":{"$error":"#REF!"}},null,null,null,null,null,null,null,null,null,null,null,{"$f":"BS29","v":{"$error":"#REF!"}},null,null,null,null,null,null,null,null,null,null,{"$f":"CD29","v":{"$error":"#REF!"}},null,null,null,null,null,null,null,null,null,null,null,{"$f":"CP29","v":{"$error":"#REF!"}},null,null,null,null,null,null,null,null,null,null,{"$f":"DA29","v":{"$error":"#REF!"}}]
[]
[]
[{"$f":"A459","v":"LED 275W (L4)"}]
[{"$f":"A460","v":"Patrols & repairs"},{"$f":"G477*F93+N477*F94+U477*F95","v":19.322510258539314},null,null,null,null,null,null,null,null,null,null,{"$f":"G477*P93+N477*P94+U477*P95+'DNSP Inputs O&M'!$D$493","v":25.084822784215859},null,null,null,null,null,null,null,null,null,null,null,{"$f":"AD477*AC93+AK477*AC94+AR477*AC95","v":{"$error":"#REF!"}},null,null,null,null,null,null,null,null,null,null,{"$f":"AD477*AM93+AK477*AM94+AR477*AM95+'DNSP Inputs O&M'!$E$493","v":{"$error":"#REF!"}},null,null,null,null,null,null,null,null,null,null,null,{"$f":"BA477*AZ93+BH477*AZ94+BO477*AZ95","v":{"$error":"#REF!"}},null,null,null,null,null,null,null,null,null,null,{"$f":"BA477*BJ93+BH477*BJ94+BO477*BJ95+'DNSP Inputs O&M'!$F$493","v":{"$error":"#REF!"}},null,null,null,null,null,null,null,null,null,null,null,{"$f":"BX477*BW93+CE477*BW94+CL477*BW95","v":{"$error":"#REF!"}},null,null,null,null,null,null,null,null,null,null,{"$f":"BX477*CG93+CE477*CG94+CL477*CG95+'DNSP Inputs O&M'!$G$493","v":{"$error":"#REF!"}},null,null,null,null,null,null,null,null,null,null,null,{"$f":"CU477*CT93+DB477*CT94+DI477*CT95","v":{"$error":"#REF!"}},null,null,null,null,null,null,null,null,null,null,{"$f":"CU477*DD93+DB477*DD94+DI477*DD95+'DNSP Inputs O&M'!$H$493","v":{"$error":"#REF!"}}]
[{"$f":"$A$10","v":"Dedicated poles - inspection"},{"$f":"B$10","v":1.3887940184783973},null,null,null,null,null,null,null,null,null,null,{"$f":"M$10","v":1.3952674994864962},null,null,null,null,null,null,null,null,null,null,null,{"$f":"Y$10","v":{"$error":"#REF!"}},null,null,null,null,null,null,null,null,null,null,{"$f":"AJ$10","v":{"$error":"#REF!"}},null,null,null,null,null,null,null,null,null,null,null,{"$f":"AV34","v":{"$error":"#REF!"}},null,null,null,null,null,null,null,null,null,null,{"$f":"BG34","v":{"$error":"#REF!"}},null,null,null,null,null,null,null,null,null,null,null,{"$f":"BS34","v":{"$error":"#REF!"}},null,null,null,null,null,null,null,null,null,null,{"$f":"CD34","v":{"$error":"#REF!"}},null,null,null,null,null,null,null,null,null,null,null,{"$f":"CP34","v":{"$error":"#REF!"}},null,null,null,null,null,null,null,null,null,null,{"$f":"DA34","v":{"$error":"#REF!"}}]
[{"$f":"$A$11","v":"Other costs"},{"$f":"B$11","v":{"$error":"#REF!"}},null,null,null,null,null,null,null,null,null,null,{"$f":"M$11","v":{"$error":"#REF!"}},null,null,null,null,null,null,null,null,null,null,null,{"$f":"Y$11","v":{"$error":"#REF!"}},null,null,null,null,null,null,null,null,null,null,{"$f":"AJ$11","v":{"$error":"#REF!"}},null,null,null,null,null,null,null,null,null,null,null,{"$f":"AV35","v":{"$error":"#REF!"}},null,null,null,null,null,null,null,null,null,null,{"$f":"BG35","v":{"$error":"#REF!"}},null,null,null,null,null,null,null,null,null,null,null,{"$f":"BS35","v":{"$error":"#REF!"}},null,null,null,null,null,null,null,null,null,null,{"$f":"CD35","v":{"$error":"#REF!"}},null,null,null,null,null,null,null,null,null,null,null,{"$f":"CP35","v":{"$error":"#REF!"}},null,null,null,null,null,null,null,null,null,null,{"$f":"DA35","v":{"$error":"#REF!"}}]
[]
[]
[{"$f":"A494","v":"Smart lighting L1"}]
[{"$f":"A495","v":"Patrols & repairs"},{"$f":"G512*G93+N512*G94+U512*G95","v":33.439137145684349},null,null,null,null,null,null,null,null,null,null,{"$f":"G512*Q93+N512*Q94+U512*Q95+'DNSP Inputs O&M'!$D$540","v":41.081739081255577},null,null,null,null,null,null,null,null,null,null,null,{"$f":"AD512*AD93+AK512*AD94+AR512*AD95","v":{"$error":"#REF!"}},null,null,null,null,null,null,null,null,null,null,{"$f":"AD512*AN93+AK512*AN94+AR512*AN95+'DNSP Inputs O&M'!$E$540","v":{"$error":"#REF!"}},null,null,null,null,null,null,null,null,null,null,null,{"$f":"BA512*BA93+BH512*BA94+BO512*BA95","v":{"$error":"#REF!"}},null,null,null,null,null,null,null,null,null,null,{"$f":"BA512*BK93+BH512*BK94+BO512*BK95+'DNSP Inputs O&M'!$F$540","v":{"$error":"#REF!"}},null,null,null,null,null,null,null,null,null,null,null,{"$f":"BX512*BX93+CE512*BX94+CL512*BX95","v":{"$error":"#REF!"}},null,null,null,null,null,null,null,null,null,null,{"$f":"BX512*CH93+CE512*CH94+CL512*CH95+'DNSP Inputs O&M'!$G$540","v":{"$error":"#REF!"}},null,null,null,null,null,null,null,null,null,null,null,{"$f":"CU512*CU93+DB512*CU94+DI512*CU95","v":{"$error":"#REF!"}},null,null,null,null,null,null,null,null,null,null,{"$f":"CU512*DE93+DB512*DE94+DI512*DE95+'DNSP Inputs O&M'!$H$540","v":{"$error":"#REF!"}}]
[{"$f":"$A$10","v":"Dedicated poles - inspection"},{"$f":"B$10","v":1.3887940184783973},null,null,null,null,null,null,null,null,null,null,{"$f":"M$10","v":1.3952674994864962},null,null,null,null,null,null,null,null,null,null,null,{"$f":"Y$10","v":{"$error":"#REF!"}},null,null,null,null,null,null,null,null,null,null,{"$f":"AJ$10","v":{"$error":"#REF!"}},null,null,null,null,null,null,null,null,null,null,null,{"$f":"AV$10","v":{"$error":"#REF!"}},null,null,null,null,null,null,null,null,null,null,{"$f":"BG$10","v":{"$error":"#REF!"}},null,null,null,null,null,null,null,null,null,null,null,{"$f":"BS$10","v":{"$error":"#REF!"}},null,null,null,null,null,null,null,null,null,null,{"$f":"CD$10","v":{"$error":"#REF!"}},null,null,null,null,null,null,null,null,null,null,null,{"$f":"CP$10","v":{"$error":"#REF!"}},null,null,null,null,null,null,null,null,null,null,{"$f":"DA$10","v":{"$error":"#REF!"}}]
[{"$f":"$A$11","v":"Other costs"},{"$f":"B$11","v":{"$error":"#REF!"}},null,null,null,null,null,null,null,null,null,null,{"$f":"M$11","v":{"$error":"#REF!"}},null,null,null,null,null,null,null,null,null,null,null,{"$f":"Y$11","v":{"$error":"#REF!"}},null,null,null,null,null,null,null,null,null,null,{"$f":"AJ$11","v":{"$error":"#REF!"}},null,null,null,null,null,null,null,null,null,null,null,{"$f":"AV$11","v":{"$error":"#REF!"}},null,null,null,null,null,null,null,null,null,null,{"$f":"BG$11","v":{"$error":"#REF!"}},null,null,null,null,null,null,null,null,null,null,null,{"$f":"BS$11","v":{"$error":"#REF!"}},null,null,null,null,null,null,null,null,null,null,{"$f":"CD$11","v":{"$error":"#REF!"}},null,null,null,null,null,null,null,null,null,null,null,{"$f":"CP$11","v":{"$error":"#REF!"}},null,null,null,null,null,null,null,null,null,null,{"$f":"DA$11","v":{"$error":"#REF!"}}]
[]
[]
[{"$f":"$A$529","v":"Smart lighting L2"}]
[{"$f":"A530","v":"Patrols & repairs"},{"$f":"G547*I93+N547*I94+U547*I95","v":33.439137145684349},null,null,null,null,null,null,null,null,null,null,{"$f":"G547*S93+N547*S94+U547*S95+'DNSP Inputs O&M'!$D$584","v":41.081739081255577},null,null,null,null,null,null,null,null,null,null,null,{"$f":"AD547*AF93+AK547*AF94+AR547*AF95","v":{"$error":"#REF!"}},null,null,null,null,null,null,null,null,null,null,{"$f":"AD547*AP93+AK547*AP94+AR547*AP95+'DNSP Inputs O&M'!$E$584","v":{"$error":"#REF!"}},null,null,null,null,null,null,null,null,null,null,null,{"$f":"BA547*BC93+BH547*BC94+BO547*BC95","v":{"$error":"#REF!"}},null,null,null,null,null,null,null,null,null,null,{"$f":"BA547*BM93+BH547*BM94+BO547*BM95+'DNSP Inputs O&M'!$F$584","v":{"$error":"#REF!"}},null,null,null,null,null,null,null,null,null,null,null,{"$f":"BX547*BZ93+CE547*BZ94+CL547*BZ95","v":{"$error":"#REF!"}},null,null,null,null,null,null,null,null,null,null,{"$f":"BX547*CJ93+CE547*CJ94+CL547*CJ95+'DNSP Inputs O&M'!$G$584","v":{"$error":"#REF!"}},null,null,null,null,null,null,null,null,null,null,null,{"$f":"CU547*CW93+DB547*CW94+DI547*CW95","v":{"$error":"#REF!"}},null,null,null,null,null,null,null,null,null,null,{"$f":"CU547*DG93+DB547*DG94+DI547*DG95+'DNSP Inputs O&M'!$H$584","v":{"$error":"#REF!"}}]
[{"$f":"$A$10","v":"Dedicated poles - inspection"},{"$f":"B$10","v":1.3887940184783973},null,null,null,null,null,null,null,null,null,null,{"$f":"M$10","v":1.3952674994864962},null,null,null,null,null,null,null,null,null,null,null,{"$f":"Y$10","v":{"$error":"#REF!"}},null,null,null,null,null,null,null,null,null,null,{"$f":"AJ$10","v":{"$error":"#REF!"}},null,null,null,null,null,null,null,null,null,null,null,{"$f":"AV$10","v":{"$error":"#REF!"}},null,null,null,null,null,null,null,null,null,null,{"$f":"BG$10","v":{"$error":"#REF!"}},null,null,null,null,null,null,null,null,null,null,null,{"$f":"BS$10","v":{"$error":"#REF!"}},null,null,null,null,null,null,null,null,null,null,{"$f":"CD$10","v":{"$error":"#REF!"}},null,null,null,null,null,null,null,null,null,null,null,{"$f":"CP$10","v":{"$error":"#REF!"}},null,null,null,null,null,null,null,null,null,null,{"$f":"DA$10","v":{"$error":"#REF!"}}]
[{"$f":"$A$11","v":"Other costs"},{"$f":"B$11","v":{"$error":"#REF!"}},null,null,null,null,null,null,null,null,null,null,{"$f":"M$11","v":{"$error":"#REF!"}},null,null,null,null,null,null,null,null,null,null,null,{"$f":"Y$11","v":{"$error":"#REF!"}},null,null,null,null,null,null,null,null,null,null,{"$f":"AJ$11","v":{"$error":"#REF!"}},null,null,null,null,null,null,null,null,null,null,null,{"$f":"AV$11","v":{"$error":"#REF!"}},null,null,null,null,null,null,null,null,null,null,{"$f":"BG$11","v":{"$error":"#REF!"}},null,null,null,null,null,null,null,null,null,null,null,{"$f":"BS$11","v":{"$error":"#REF!"}},null,null,null,null,null,null,null,null,null,null,{"$f":"CD$11","v":{"$error":"#REF!"}},null,null,null,null,null,null,null,null,null,null,null,{"$f":"CP$11","v":{"$error":"#REF!"}},null,null,null,null,null,null,null,null,null,null,{"$f":"DA$11","v":{"$error":"#REF!"}}]
[]
[]
[{"$f":"$A$564","v":"Smart lighting L4"}]
[{"$f":"A565","v":"Patrols & repairs"},{"$f":"G582*K93+N582*K94+U582*K95","v":33.439137145684349},null,null,null,null,null,null,null,null,null,null,{"$f":"G582*U93+N582*U94+U582*U95+'DNSP Inputs O&M'!$D$628","v":41.081739081255577},null,null,null,null,null,null,null,null,null,null,null,{"$f":"AD582*AH93+AK582*AH94+AR582*AH95","v":{"$error":"#REF!"}},null,null,null,null,null,null,null,null,null,null,{"$f":"AD582*AR93+AK582*AR94+AR582*AR95+'DNSP Inputs O&M'!$E$628","v":{"$error":"#REF!"}},null,null,null,null,null,null,null,null,null,null,null,{"$f":"BA582*BE93+BH582*BE94+BO582*BE95","v":{"$error":"#REF!"}},null,null,null,null,null,null,null,null,null,null,{"$f":"BA582*BO93+BH582*BO94+BO582*BO95+'DNSP Inputs O&M'!$F$628","v":{"$error":"#REF!"}},null,null,null,null,null,null,null,null,null,null,null,{"$f":"BX582*CB93+CE582*CB94+CL582*CB95","v":{"$error":"#REF!"}},null,null,null,null,null,null,null,null,null,null,{"$f":"BX582*CL93+CE582*CL94+CL582*CL95+'DNSP Inputs O&M'!$G$628","v":{"$error":"#REF!"}},null,null,null,null,null,null,null,null,null,null,null,{"$f":"CU582*CY93+DB582*CY94+DI582*CY95","v":{"$error":"#REF!"}},null,null,null,null,null,null,null,null,null,null,{"$f":"CU582*DI93+DB582*DI94+DI582*DI95+'DNSP Inputs O&M'!$H$628","v":{"$error":"#REF!"}}]
[{"$f":"$A$10","v":"Dedicated poles - inspection"},{"$f":"B$10","v":1.3887940184783973},null,null,null,null,null,null,null,null,null,null,{"$f":"M$10","v":1.3952674994864962},null,null,null,null,null,null,null,null,null,null,null,{"$f":"Y$10","v":{"$error":"#REF!"}},null,null,null,null,null,null,null,null,null,null,{"$f":"AJ$10","v":{"$error":"#REF!"}},null,null,null,null,null,null,null,null,null,null,null,{"$f":"AV$10","v":{"$error":"#REF!"}},null,null,null,null,null,null,null,null,null,null,{"$f":"BG$10","v":{"$error":"#REF!"}},null,null,null,null,null,null,null,null,null,null,null,{"$f":"BS$10","v":{"$error":"#REF!"}},null,null,null,null,null,null,null,null,null,null,{"$f":"CD$10","v":{"$error":"#REF!"}},null,null,null,null,null,null,null,null,null,null,null,{"$f":"CP$10","v":{"$error":"#REF!"}},null,null,null,null,null,null,null,null,null,null,{"$f":"DA$10","v":{"$error":"#REF!"}}]
[{"$f":"$A$11","v":"Other costs"},{"$f":"B$11","v":{"$error":"#REF!"}},null,null,null,null,null,null,null,null,null,null,{"$f":"M$11","v":{"$error":"#REF!"}},null,null,null,null,null,null,null,null,null,null,null,{"$f":"Y$11","v":{"$error":"#REF!"}},null,null,null,null,null,null,null,null,null,null,{"$f":"AJ$11","v":{"$error":"#REF!"}},null,null,null,null,null,null,null,null,null,null,null,{"$f":"AV$11","v":{"$error":"#REF!"}},null,null,null,null,null,null,null,null,null,null,{"$f":"BG$11","v":{"$error":"#REF!"}},null,null,null,null,null,null,null,null,null,null,null,{"$f":"BS$11","v":{"$error":"#REF!"}},null,null,null,null,null,null,null,null,null,null,{"$f":"CD$11","v":{"$error":"#REF!"}},null,null,null,null,null,null,null,null,null,null,null,{"$f":"CP$11","v":{"$error":"#REF!"}},null,null,null,null,null,null,null,null,null,null,{"$f":"DA$11","v":{"$error":"#REF!"}}]
[]
[]
[null,null,{"$f":"B7","v":"SP AusNet - Central"},null,null,null,null,null,null,null,null,null,{"$f":"M7","v":"SP AusNet - North/East"},null,null,null,null,null,null,null,null,null,null,null,null,{"$f":"Y7","v":"SP AusNet - Central"},null,null,null,null,null,null,null,null,null,{"$f":"AJ7","v":"SP AusNet - North/East"},null,null,null,null,null,null,null,null,null,null,null,null,{"$f":"AV7","v":"SP AusNet - Central"},null,null,null,null,null,null,null,null,null,{"$f":"BG7","v":"SP AusNet - North/East"},null,null,null,null,null,null,null,null,null,null,null,null,{"$f":"BS7","v":"SP AusNet - Central"},null,null,null,null,null,null,null,null,null,{"$f":"CD7","v":"SP AusNet - North/East"},null,null,null,null,null,null,null,null,null,null,null,null,{"$f":"CP7","v":"SP AusNet - Central"},null,null,null,null,null,null,null,null,null,{"$f":"DA7","v":"SP AusNet - North/East"}]
[{"$f":"'DNSP Inputs O&M'!A57","v":"Location of selected public lighting assets within distributors' areas (%)"},null,{"$f":"$A$124","v":"MV80"},null,{"$f":"$A$165","v":"S-HP 150"},null,{"$f":"$A$203","v":"S-HP 250"},null,{"$f":"$A$243","v":"T5 (2 X 14W)"},{"$f":"$A$281","v":"T5 (2 X 24W)"},{"$f":"$A$319","v":"LED 18W"},null,{"$f":"$A$124","v":"MV80"},null,{"$f":"$A$165","v":"S-HP 150"},null,{"$f":"$A$203","v":"S-HP 250"},null,{"$f":"$A$243","v":"T5 (2 X 14W)"},{"$f":"$A$281","v":"T5 (2 X 24W)"},{"$f":"$A$319","v":"LED 18W"},null,null,null,null,{"$f":"$A$124","v":"MV80"},null,{"$f":"$A$165","v":"S-HP 150"},null,{"$f":"$A$203","v":"S-HP 250"},null,{"$f":"$A$243","v":"T5 (2 X 14W)"},{"$f":"$A$281","v":"T5 (2 X 24W)"},{"$f":"$A$319","v":"LED 18W"},null,{"$f":"$A$124","v":"MV80"},null,{"$f":"$A$165","v":"S-HP 150"},null,{"$f":"$A$203","v":"S-HP 250"},null,{"$f":"$A$243","v":"T5 (2 X 14W)"},{"$f":"$A$281","v":"T5 (2 X 24W)"},{"$f":"$A$319","v":"LED 18W"},null,null,null,null,{"$f":"$A$124","v":"MV80"},null,{"$f":"$A$165","v":"S-HP 150"},null,{"$f":"$A$203","v":"S-HP 250"},null,{"$f":"$A$243","v":"T5 (2 X 14W)"},{"$f":"$A$281","v":"T5 (2 X 24W)"},{"$f":"$A$319","v":"LED 18W"},null,{"$f":"$A$124","v":"MV80"},null,{"$f":"$A$165","v":"S-HP 150"},null,{"$f":"$A$203","v":"S-HP 250"},null,{"$f":"$A$243","v":"T5 (2 X 14W)"},{"$f":"$A$281","v":"T5 (2 X 24W)"},{"$f":"$A$319","v":"LED 18W"},null,null,null,null,{"$f":"$A$124","v":"MV80"},null,{"$f":"$A$165","v":"S-HP 150"},null,{"$f":"$A$203","v":"S-HP 250"},null,{"$f":"$A$243","v":"T5 (2 X 14W)"},{"$f":"$A$281","v":"T5 (2 X 24W)"},{"$f":"$A$319","v":"LED 18W"},null,{"$f":"$A$124","v":"MV80"},null,{"$f":"$A$165","v":"S-HP 150"},null,{"$f":"$A$203","v":"S-HP 250"},null,{"$f":"$A$243","v":"T5 (2 X 14W)"},{"$f":"$A$281","v":"T5 (2 X 24W)"},{"$f":"$A$319","v":"LED 18W"},null,null,null,null,{"$f":"$A$124","v":"MV80"},null,{"$f":"$A$165","v":"S-HP 150"},null,{"$f":"$A$203","v":"S-HP 250"},null,{"$f":"$A$243","v":"T5 (2 X 14W)"},{"$f":"$A$281","v":"T5 (2 X 24W)"},{"$f":"$A$319","v":"LED 18W"},null,{"$f":"$A$124","v":"MV80"},null,{"$f":"$A$165","v":"S-HP 150"},null,{"$f":"$A$203","v":"S-HP 250"},null,{"$f":"$A$243","v":"T5 (2 X 14W)"},{"$f":"$A$281","v":"T5 (2 X 24W)"},{"$f":"$A$319","v":"LED 18W"}]
[{"$f":"'DNSP Inputs O&M'!A59","v":"Urban"},null,{"$f":"'DNSP Inputs O&M'!$D$59","v":0.96},null,{"$f":"'DNSP Inputs O&M'!$D$102","v":0.94},null,{"$f":"'DNSP Inputs O&M'!$D$145","v":0.9},null,{"$f":"'DNSP Inputs O&M'!$D$218","v":0.96},{"$f":"'DNSP Inputs O&M'!$D$267","v":0.96},{"$f":"'DNSP Inputs O&M'!$D$315","v":0.96},null,{"$f":"'DNSP Inputs O&M'!$D$64","v":0.35},null,{"$f":"'DNSP Inputs O&M'!$D$107","v":0.3},null,{"$f":"'DNSP Inputs O&M'!$D$150","v":0.37},null,{"$f":"'DNSP Inputs O&M'!$D$223","v":0.35},{"$f":"'DNSP Inputs O&M'!$D$272","v":0.35},{"$f":"'DNSP Inputs O&M'!$D$320","v":0.35},null,null,null,null,{"$f":"'DNSP Inputs O&M'!$E$59","v":0.96},null,{"$f":"'DNSP Inputs O&M'!$E$102","v":0.94},null,{"$f":"'DNSP Inputs O&M'!$E$145","v":0.9},null,{"$f":"'DNSP Inputs O&M'!$E$218","v":0.96},{"$f":"'DNSP Inputs O&M'!$E$267","v":0.96},{"$f":"'DNSP Inputs O&M'!$E$315","v":0.96},null,{"$f":"'DNSP Inputs O&M'!$E$64","v":0.35},null,{"$f":"'DNSP Inputs O&M'!$E$107","v":0.3},null,{"$f":"'DNSP Inputs O&M'!$E$150","v":0.37},null,{"$f":"'DNSP Inputs O&M'!$E$223","v":0.35},{"$f":"'DNSP Inputs O&M'!$E$272","v":0.35},{"$f":"'DNSP Inputs O&M'!$E$320","v":0.35},null,null,null,null,{"$f":"'DNSP Inputs O&M'!$F$59","v":0.96},null,{"$f":"'DNSP Inputs O&M'!$F$102","v":0.94},null,{"$f":"'DNSP Inputs O&M'!$F$145","v":0.9},null,{"$f":"'DNSP Inputs O&M'!$F$218","v":0.96},{"$f":"'DNSP Inputs O&M'!$F$267","v":0.96},{"$f":"'DNSP Inputs O&M'!$F$315","v":0.96},null,{"$f":"'DNSP Inputs O&M'!$F$64","v":0.35},null,{"$f":"'DNSP Inputs O&M'!$F$107","v":0.3},null,{"$f":"'DNSP Inputs O&M'!$F$150","v":0.37},null,{"$f":"'DNSP Inputs O&M'!$F$223","v":0.35},{"$f":"'DNSP Inputs O&M'!$F$272","v":0.35},{"$f":"'DNSP Inputs O&M'!$F$320","v":0.35},null,null,null,null,{"$f":"'DNSP Inputs O&M'!$G$59","v":0.96},null,{"$f":"'DNSP Inputs O&M'!$G$102","v":0.94},null,{"$f":"'DNSP Inputs O&M'!$G$145","v":0.9},null,{"$f":"'DNSP Inputs O&M'!$G$218","v":0.96},{"$f":"'DNSP Inputs O&M'!$G$267","v":0.96},{"$f":"'DNSP Inputs O&M'!$G$315","v":0.96},null,{"$f":"'DNSP Inputs O&M'!$G$64","v":0.35},null,{"$f":"'DNSP Inputs O&M'!$G$107","v":0.3},null,{"$f":"'DNSP Inputs O&M'!$G$150","v":0.37},null,{"$f":"'DNSP Inputs O&M'!$G$223","v":0.35},{"$f":"'DNSP Inputs O&M'!$G$272","v":0.35},{"$f":"'DNSP Inputs O&M'!$G$320","v":0.35},null,null,null,null,{"$f":"'DNSP Inputs O&M'!$H$59","v":0.96},null,{"$f":"'DNSP Inputs O&M'!$H$102","v":0.94},null,{"$f":"'DNSP Inputs O&M'!$H$145","v":0.9},null,{"$f":"'DNSP Inputs O&M'!$H$218","v":0.96},{"$f":"'DNSP Inputs O&M'!$H$267","v":0.96},{"$f":"'DNSP Inputs O&M'!$H$315","v":0.96},null,{"$f":"'DNSP Inputs O&M'!$H$64","v":0.35},null,{"$f":"'DNSP Inputs O&M'!$H$107","v":0.3},null,{"$f":"'DNSP Inputs O&M'!$H$150","v":0.37},null,{"$f":"'DNSP Inputs O&M'!$H$223","v":0.35},{"$f":"'DNSP Inputs O&M'!$H$272","v":0.35},{"$f":"'DNSP Inputs O&M'!$H$320","v":0.35}]
[{"$f":"'DNSP Inputs O&M'!A60","v":"Rural"},null,{"$f":"'DNSP Inputs O&M'!$D$60","v":0.04},null,{"$f":"'DNSP Inputs O&M'!$D$103","v":0.06},null,{"$f":"'DNSP Inputs O&M'!$D$146","v":0.1},null,{"$f":"'DNSP Inputs O&M'!$D$219","v":0.04},{"$f":"'DNSP Inputs O&M'!$D$268","v":0.04},{"$f":"'DNSP Inputs O&M'!$D$316","v":0.04},null,{"$f":"'DNSP Inputs O&M'!$D$65","v":0.53},null,{"$f":"'DNSP Inputs O&M'!$D$108","v":0.63},null,{"$f":"'DNSP Inputs O&M'!$D$151","v":0.56999999999999995},null,{"$f":"'DNSP Inputs O&M'!$D$224","v":0.53},{"$f":"'DNSP Inputs O&M'!$D$273","v":0.53},{"$f":"'DNSP Inputs O&M'!$D$321","v":0.53},null,null,null,null,{"$f":"'DNSP Inputs O&M'!$E$60","v":0.04},null,{"$f":"'DNSP Inputs O&M'!$E$103","v":0.06},null,{"$f":"'DNSP Inputs O&M'!$E$146","v":0.1},null,{"$f":"'DNSP Inputs O&M'!$E$219","v":0.04},{"$f":"'DNSP Inputs O&M'!$E$268","v":0.04},{"$f":"'DNSP Inputs O&M'!$E$316","v":0.04},null,{"$f":"'DNSP Inputs O&M'!$E$65","v":0.53},null,{"$f":"'DNSP Inputs O&M'!$E$108","v":0.63},null,{"$f":"'DNSP Inputs O&M'!$E$151","v":0.56999999999999995},null,{"$f":"'DNSP Inputs O&M'!$E$224","v":0.53},{"$f":"'DNSP Inputs O&M'!$E$273","v":0.53},{"$f":"'DNSP Inputs O&M'!$E$321","v":0.53},null,null,null,null,{"$f":"'DNSP Inputs O&M'!$F$60","v":0.04},null,{"$f":"'DNSP Inputs O&M'!$F$103","v":0.06},null,{"$f":"'DNSP Inputs O&M'!$F$146","v":0.1},null,{"$f":"'DNSP Inputs O&M'!$F$219","v":0.04},{"$f":"'DNSP Inputs O&M'!$F$268","v":0.04},{"$f":"'DNSP Inputs O&M'!$F$316","v":0.04},null,{"$f":"'DNSP Inputs O&M'!$F$65","v":0.53},null,{"$f":"'DNSP Inputs O&M'!$F$108","v":0.63},null,{"$f":"'DNSP Inputs O&M'!$F$151","v":0.56999999999999995},null,{"$f":"'DNSP Inputs O&M'!$F$224","v":0.53},{"$f":"'DNSP Inputs O&M'!$F$273","v":0.53},{"$f":"'DNSP Inputs O&M'!$F$321","v":0.53},null,null,null,null,{"$f":"'DNSP Inputs O&M'!$G$60","v":0.04},null,{"$f":"'DNSP Inputs O&M'!$G$103","v":0.06},null,{"$f":"'DNSP Inputs O&M'!$G$146","v":0.1},null,{"$f":"'DNSP Inputs O&M'!$G$219","v":0.04},{"$f":"'DNSP Inputs O&M'!$G$268","v":0.04},{"$f":"'DNSP Inputs O&M'!$G$316","v":0.04},null,{"$f":"'DNSP Inputs O&M'!$G$65","v":0.53},null,{"$f":"'DNSP Inputs O&M'!$G$108","v":0.63},null,{"$f":"'DNSP Inputs O&M'!$G$151","v":0.56999999999999995},null,{"$f":"'DNSP Inputs O&M'!$G$224","v":0.53},{"$f":"'DNSP Inputs O&M'!$G$273","v":0.53},{"$f":"'DNSP Inputs O&M'!$G$321","v":0.53},null,null,null,null,{"$f":"'DNSP Inputs O&M'!$H$60","v":0.04},null,{"$f":"'DNSP Inputs O&M'!$H$103","v":0.06},null,{"$f":"'DNSP Inputs O&M'!$H$146","v":0.1},null,{"$f":"'DNSP Inputs O&M'!$H$219","v":0.04},{"$f":"'DNSP Inputs O&M'!$H$268","v":0.04},{"$f":"'DNSP Inputs O&M'!$H$316","v":0.04},null,{"$f":"'DNSP Inputs O&M'!$H$65","v":0.53},null,{"$f":"'DNSP Inputs O&M'!$H$108","v":0.63},null,{"$f":"'DNSP Inputs O&M'!$H$151","v":0.56999999999999995},null,{"$f":"'DNSP Inputs O&M'!$H$224","v":0.53},{"$f":"'DNSP Inputs O&M'!$H$273","v":0.53},{"$f":"'DNSP Inputs O&M'!$H$321","v":0.53}]
[{"$f":"'DNSP Inputs O&M'!A61","v":"Remote"},null,{"$f":"'DNSP Inputs O&M'!$D$61","v":0},null,{"$f":"'DNSP Inputs O&M'!$D$104","v":0},null,{"$f":"'DNSP Inputs O&M'!$D$147","v":0},null,{"$f":"'DNSP Inputs O&M'!$D$220","v":0},{"$f":"'DNSP Inputs O&M'!$D$269","v":0},{"$f":"'DNSP Inputs O&M'!$D$317","v":0},null,{"$f":"'DNSP Inputs O&M'!$D$66","v":0.12},null,{"$f":"'DNSP Inputs O&M'!$D$109","v":7.0000000000000007E-2},null,{"$f":"'DNSP Inputs O&M'!$D$152","v":0.06},null,{"$f":"'DNSP Inputs O&M'!$D$225","v":0.12},{"$f":"'DNSP Inputs O&M'!$D$274","v":0.12},{"$f":"'DNSP Inputs O&M'!$D$322","v":0.12},null,null,null,null,{"$f":"'DNSP Inputs O&M'!$E$61","v":0},null,{"$f":"'DNSP Inputs O&M'!$E$104","v":0},null,{"$f":"'DNSP Inputs O&M'!$E$147","v":0},null,{"$f":"'DNSP Inputs O&M'!$E$220","v":0},{"$f":"'DNSP Inputs O&M'!$E$269","v":0},{"$f":"'DNSP Inputs O&M'!$E$317","v":0},null,{"$f":"'DNSP Inputs O&M'!$E$66","v":0.12},null,{"$f":"'DNSP Inputs O&M'!$E$109","v":7.0000000000000007E-2},null,{"$f":"'DNSP Inputs O&M'!$E$152","v":0.06},null,{"$f":"'DNSP Inputs O&M'!$E$225","v":0.12},{"$f":"'DNSP Inputs O&M'!$E$274","v":0.12},{"$f":"'DNSP Inputs O&M'!$E$322","v":0.12},null,null,null,null,{"$f":"'DNSP Inputs O&M'!$F$61","v":0},null,{"$f":"'DNSP Inputs O&M'!$F$104","v":0},null,{"$f":"'DNSP Inputs O&M'!$F$147","v":0},null,{"$f":"'DNSP Inputs O&M'!$F$220","v":0},{"$f":"'DNSP Inputs O&M'!$F$269","v":0},{"$f":"'DNSP Inputs O&M'!$F$317","v":0},null,{"$f":"'DNSP Inputs O&M'!$F$66","v":0.12},null,{"$f":"'DNSP Inputs O&M'!$F$109","v":7.0000000000000007E-2},null,{"$f":"'DNSP Inputs O&M'!$F$152","v":0.06},null,{"$f":"'DNSP Inputs O&M'!$F$225","v":0.12},{"$f":"'DNSP Inputs O&M'!$F$274","v":0.12},{"$f":"'DNSP Inputs O&M'!$F$322","v":0.12},null,null,null,null,{"$f":"'DNSP Inputs O&M'!$G$61","v":0},null,{"$f":"'DNSP Inputs O&M'!$G$104","v":0},null,{"$f":"'DNSP Inputs O&M'!$G$147","v":0},null,{"$f":"'DNSP Inputs O&M'!$G$220","v":0},{"$f":"'DNSP Inputs O&M'!$G$269","v":0},{"$f":"'DNSP Inputs O&M'!$G$317","v":0},null,{"$f":"'DNSP Inputs O&M'!$G$66","v":0.12},null,{"$f":"'DNSP Inputs O&M'!$G$109","v":7.0000000000000007E-2},null,{"$f":"'DNSP Inputs O&M'!$G$152","v":0.06},null,{"$f":"'DNSP Inputs O&M'!$G$225","v":0.12},{"$f":"'DNSP Inputs O&M'!$G$274","v":0.12},{"$f":"'DNSP Inputs O&M'!$G$322","v":0.12},null,null,null,null,{"$f":"'DNSP Inputs O&M'!$H$61","v":0},null,{"$f":"'DNSP Inputs O&M'!$H$104","v":0},null,{"$f":"'DNSP Inputs O&M'!$H$147","v":0},null,{"$f":"'DNSP Inputs O&M'!$H$220","v":0},{"$f":"'DNSP Inputs O&M'!$H$269","v":0},{"$f":"'DNSP Inputs O&M'!$H$317","v":0},null,{"$f":"'DNSP Inputs O&M'!$H$66","v":0.12},null,{"$f":"'DNSP Inputs O&M'!$H$109","v":7.0000000000000007E-2},null,{"$f":"'DNSP Inputs O&M'!$H$152","v":0.06},null,{"$f":"'DNSP Inputs O&M'!$H$225","v":0.12},{"$f":"'DNSP Inputs O&M'!$H$274","v":0.12},{"$f":"'DNSP Inputs O&M'!$H$322","v":0.12}]
[]
[null,null,{"$f":"$A$354","v":"LED 14W"},{"$f":"$A$389","v":"LED 70W (L1)"},{"$f":"$A$424","v":"LED 155W (L2)"},{"$f":"$A$459","v":"LED 275W (L4)"},{"$f":"$A$494","v":"Smart lighting L1"},null,{"$f":"$A$529","v":"Smart lighting L2"},null,{"$f":"$A$564","v":"Smart lighting L4"},null,{"$f":"$A$354","v":"LED 14W"},{"$f":"$A$389","v":"LED 70W (L1)"},{"$f":"$A$424","v":"LED 155W (L2)"},{"$f":"$A$459","v":"LED 275W (L4)"},{"$f":"$A$494","v":"Smart lighting L1"},null,{"$f":"$A$529","v":"Smart lighting L2"},null,{"$f":"$A$564","v":"Smart lighting L4"},null,null,null,null,{"$f":"$A$354","v":"LED 14W"},{"$f":"$A$389","v":"LED 70W (L1)"},{"$f":"$A$424","v":"LED 155W (L2)"},{"$f":"$A$459","v":"LED 275W (L4)"},{"$f":"$A$494","v":"Smart lighting L1"},null,{"$f":"$A$529","v":"Smart lighting L2"},null,{"$f":"$A$564","v":"Smart lighting L4"},null,{"$f":"$A$354","v":"LED 14W"},{"$f":"$A$389","v":"LED 70W (L1)"},{"$f":"$A$424","v":"LED 155W (L2)"},{"$f":"$A$459","v":"LED 275W (L4)"},{"$f":"$A$494","v":"Smart lighting L1"},null,{"$f":"$A$529","v":"Smart lighting L2"},null,{"$f":"$A$564","v":"Smart lighting L4"},null,null,null,null,{"$f":"$A$354","v":"LED 14W"},{"$f":"$A$389","v":"LED 70W (L1)"},{"$f":"$A$424","v":"LED 155W (L2)"},{"$f":"$A$459","v":"LED 275W (L4)"},{"$f":"$A$494","v":"Smart lighting L1"},null,{"$f":"$A$529","v":"Smart lighting L2"},null,{"$f":"$A$564","v":"Smart lighting L4"},null,{"$f":"$A$354","v":"LED 14W"},{"$f":"$A$389","v":"LED 70W (L1)"},{"$f":"$A$424","v":"LED 155W (L2)"},{"$f":"$A$459","v":"LED 275W (L4)"},{"$f":"$A$494","v":"Smart lighting L1"},null,{"$f":"$A$529","v":"Smart lighting L2"},null,{"$f":"$A$564","v":"Smart lighting L4"},null,null,null,null,{"$f":"$A$354","v":"LED 14W"},{"$f":"$A$389","v":"LED 70W (L1)"},{"$f":"$A$424","v":"LED 155W (L2)"},{"$f":"$A$459","v":"LED 275W (L4)"},{"$f":"$A$494","v":"Smart lighting L1"},null,{"$f":"$A$529","v":"Smart lighting L2"},null,{"$f":"$A$564","v":"Smart lighting L4"},null,{"$f":"$A$354","v":"LED 14W"},{"$f":"$A$389","v":"LED 70W (L1)"},{"$f":"$A$424","v":"LED 155W (L2)"},{"$f":"$A$459","v":"LED 275W (L4)"},{"$f":"$A$494","v":"Smart lighting L1"},null,{"$f":"$A$529","v":"Smart lighting L2"},null,{"$f":"$A$564","v":"Smart lighting L4"},null,null,null,null,{"$f":"$A$354","v":"LED 14W"},{"$f":"$A$389","v":"LED 70W (L1)"},{"$f":"$A$424","v":"LED 155W (L2)"},{"$f":"$A$459","v":"LED 275W (L4)"},{"$f":"$A$494","v":"Smart lighting L1"},null,{"$f":"$A$529","v":"Smart lighting L2"},null,{"$f":"$A$564","v":"Smart lighting L4"},null,{"$f":"$A$354","v":"LED 14W"},{"$f":"$A$389","v":"LED 70W (L1)"},{"$f":"$A$424","v":"LED 155W (L2)"},{"$f":"$A$459","v":"LED 275W (L4)"},{"$f":"$A$494","v":"Smart lighting L1"},null,{"$f":"$A$529","v":"Smart lighting L2"},null,{"$f":"$A$564","v":"Smart lighting L4"}]
[{"$f":"A88","v":"Urban"},null,{"$f":"'DNSP Inputs O&M'!$D$361","v":0.96},{"$f":"'DNSP Inputs O&M'!$D$407","v":0.96},{"$f":"'DNSP Inputs O&M'!$D$453","v":0.96},{"$f":"'DNSP Inputs O&M'!$D$499","v":0.96},{"$f":"'DNSP Inputs O&M'!$D$546","v":0.96},null,{"$f":"'DNSP Inputs O&M'!$D$590","v":0.96},null,{"$f":"'DNSP Inputs O&M'!$D$634","v":0.96},null,{"$f":"'DNSP Inputs O&M'!$D$366","v":0.35},{"$f":"'DNSP Inputs O&M'!$D$412","v":0.35},{"$f":"'DNSP Inputs O&M'!$D$458","v":0.35},{"$f":"'DNSP Inputs O&M'!$D$504","v":0.35},{"$f":"'DNSP Inputs O&M'!$D$551","v":0.35},null,{"$f":"'DNSP Inputs O&M'!$D$595","v":0.35},null,{"$f":"'DNSP Inputs O&M'!$D$639","v":0.35},null,null,null,null,{"$f":"'DNSP Inputs O&M'!$E$361","v":0.96},{"$f":"'DNSP Inputs O&M'!$E$407","v":0.96},{"$f":"'DNSP Inputs O&M'!$E$453","v":0.96},{"$f":"'DNSP Inputs O&M'!$E$499","v":0.96},{"$f":"'DNSP Inputs O&M'!$E$546","v":0.96},null,{"$f":"'DNSP Inputs O&M'!$E$590","v":0.96},null,{"$f":"'DNSP Inputs O&M'!$E$634","v":0.96},null,{"$f":"'DNSP Inputs O&M'!$E$366","v":0.35},{"$f":"'DNSP Inputs O&M'!$E$412","v":0.35},{"$f":"'DNSP Inputs O&M'!$E$458","v":0.35},{"$f":"'DNSP Inputs O&M'!$E$504","v":0.35},{"$f":"'DNSP Inputs O&M'!$E$551","v":0.35},null,{"$f":"'DNSP Inputs O&M'!$E$595","v":0.35},null,{"$f":"'DNSP Inputs O&M'!$E$639","v":0.35},null,null,null,null,{"$f":"'DNSP Inputs O&M'!$F$361","v":0.96},{"$f":"'DNSP Inputs O&M'!$F$407","v":0.96},{"$f":"'DNSP Inputs O&M'!$F$453","v":0.96},{"$f":"'DNSP Inputs O&M'!$F$499","v":0.96},{"$f":"'DNSP Inputs O&M'!$F$546","v":0.96},null,{"$f":"'DNSP Inputs O&M'!$F$590","v":0.96},null,{"$f":"'DNSP Inputs O&M'!$F$634","v":0.96},null,{"$f":"'DNSP Inputs O&M'!$F$366","v":0.35},{"$f":"'DNSP Inputs O&M'!$F$412","v":0.35},{"$f":"'DNSP Inputs O&M'!$F$458","v":0.35},{"$f":"'DNSP Inputs O&M'!$F$504","v":0.35},{"$f":"'DNSP Inputs O&M'!$F$551","v":0.35},null,{"$f":"'DNSP Inputs O&M'!$F$595","v":0.35},null,{"$f":"'DNSP Inputs O&M'!$F$639","v":0.35},null,null,null,null,{"$f":"'DNSP Inputs O&M'!$G$361","v":0.96},{"$f":"'DNSP Inputs O&M'!$G$407","v":0.96},{"$f":"'DNSP Inputs O&M'!$G$453","v":0.96},{"$f":"'DNSP Inputs O&M'!$G$499","v":0.96},{"$f":"'DNSP Inputs O&M'!$G$546","v":0.96},null,{"$f":"'DNSP Inputs O&M'!$G$590","v":0.96},null,{"$f":"'DNSP Inputs O&M'!$G$634","v":0.96},null,{"$f":"'DNSP Inputs O&M'!$G$366","v":0.35},{"$f":"'DNSP Inputs O&M'!$G$412","v":0.35},{"$f":"'DNSP Inputs O&M'!$G$458","v":0.35},{"$f":"'DNSP Inputs O&M'!$G$504","v":0.35},{"$f":"'DNSP Inputs O&M'!$G$551","v":0.35},null,{"$f":"'DNSP Inputs O&M'!$G$595","v":0.35},null,{"$f":"'DNSP Inputs O&M'!$G$639","v":0.35},null,null,null,null,{"$f":"'DNSP Inputs O&M'!$H$361","v":0.96},{"$f":"'DNSP Inputs O&M'!$H$407","v":0.96},{"$f":"'DNSP Inputs O&M'!$H$453","v":0.96},{"$f":"'DNSP Inputs O&M'!$H$499","v":0.96},{"$f":"'DNSP Inputs O&M'!$H$546","v":0.96},null,{"$f":"'DNSP Inputs O&M'!$H$590","v":0.96},null,{"$f":"'DNSP Inputs O&M'!$H$634","v":0.96},null,{"$f":"'DNSP Inputs O&M'!$H$366","v":0.35},{"$f":"'DNSP Inputs O&M'!$H$412","v":0.35},{"$f":"'DNSP Inputs O&M'!$H$458","v":0.35},{"$f":"'DNSP Inputs O&M'!$H$504","v":0.35},{"$f":"'DNSP Inputs O&M'!$H$551","v":0.35},null,{"$f":"'DNSP Inputs O&M'!$H$595","v":0.35},null,{"$f":"'DNSP Inputs O&M'!$H$639","v":0.35}]
[{"$f":"A89","v":"Rural"},null,{"$f":"'DNSP Inputs O&M'!$D$362","v":0.04},{"$f":"'DNSP Inputs O&M'!$D$408","v":0.04},{"$f":"'DNSP Inputs O&M'!$D$454","v":0.04},{"$f":"'DNSP Inputs O&M'!$D$500","v":0.04},{"$f":"'DNSP Inputs O&M'!$D$547","v":0.04},null,{"$f":"'DNSP Inputs O&M'!$D$591","v":0.04},null,{"$f":"'DNSP Inputs O&M'!$D$635","v":0.04},null,{"$f":"'DNSP Inputs O&M'!$D$367","v":0.53},{"$f":"'DNSP Inputs O&M'!$D$413","v":0.53},{"$f":"'DNSP Inputs O&M'!$D$459","v":0.53},{"$f":"'DNSP Inputs O&M'!$D$505","v":0.53},{"$f":"'DNSP Inputs O&M'!$D$552","v":0.53},null,{"$f":"'DNSP Inputs O&M'!$D$596","v":0.53},null,{"$f":"'DNSP Inputs O&M'!$D$640","v":0.53},null,null,null,null,{"$f":"'DNSP Inputs O&M'!$E$362","v":0.04},{"$f":"'DNSP Inputs O&M'!$E$408","v":0.04},{"$f":"'DNSP Inputs O&M'!$E$454","v":0.04},{"$f":"'DNSP Inputs O&M'!$E$500","v":0.04},{"$f":"'DNSP Inputs O&M'!$E$547","v":0.04},null,{"$f":"'DNSP Inputs O&M'!$E$591","v":0.04},null,{"$f":"'DNSP Inputs O&M'!$E$635","v":0.04},null,{"$f":"'DNSP Inputs O&M'!$E$367","v":0.53},{"$f":"'DNSP Inputs O&M'!$E$413","v":0.53},{"$f":"'DNSP Inputs O&M'!$E$459","v":0.53},{"$f":"'DNSP Inputs O&M'!$E$505","v":0.53},{"$f":"'DNSP Inputs O&M'!$E$552","v":0.53},null,{"$f":"'DNSP Inputs O&M'!$E$596","v":0.53},null,{"$f":"'DNSP Inputs O&M'!$E$640","v":0.53},null,null,null,null,{"$f":"'DNSP Inputs O&M'!$F$362","v":0.04},{"$f":"'DNSP Inputs O&M'!$F$408","v":0.04},{"$f":"'DNSP Inputs O&M'!$F$454","v":0.04},{"$f":"'DNSP Inputs O&M'!$F$500","v":0.04},{"$f":"'DNSP Inputs O&M'!$F$547","v":0.04},null,{"$f":"'DNSP Inputs O&M'!$F$591","v":0.04},null,{"$f":"'DNSP Inputs O&M'!$F$635","v":0.04},null,{"$f":"'DNSP Inputs O&M'!$F$367","v":0.53},{"$f":"'DNSP Inputs O&M'!$F$413","v":0.53},{"$f":"'DNSP Inputs O&M'!$F$459","v":0.53},{"$f":"'DNSP Inputs O&M'!$F$505","v":0.53},{"$f":"'DNSP Inputs O&M'!$F$552","v":0.53},null,{"$f":"'DNSP Inputs O&M'!$F$596","v":0.53},null,{"$f":"'DNSP Inputs O&M'!$F$640","v":0.53},null,null,null,null,{"$f":"'DNSP Inputs O&M'!$G$362","v":0.04},{"$f":"'DNSP Inputs O&M'!$G$408","v":0.04},{"$f":"'DNSP Inputs O&M'!$G$454","v":0.04},{"$f":"'DNSP Inputs O&M'!$G$500","v":0.04},{"$f":"'DNSP Inputs O&M'!$G$547","v":0.04},null,{"$f":"'DNSP Inputs O&M'!$G$591","v":0.04},null,{"$f":"'DNSP Inputs O&M'!$G$635","v":0.04},null,{"$f":"'DNSP Inputs O&M'!$G$367","v":0.53},{"$f":"'DNSP Inputs O&M'!$G$413","v":0.53},{"$f":"'DNSP Inputs O&M'!$G$459","v":0.53},{"$f":"'DNSP Inputs O&M'!$G$505","v":0.53},{"$f":"'DNSP Inputs O&M'!$G$552","v":0.53},null,{"$f":"'DNSP Inputs O&M'!$G$596","v":0.53},null,{"$f":"'DNSP Inputs O&M'!$G$640","v":0.53},null,null,null,null,{"$f":"'DNSP Inputs O&M'!$H$362","v":0.04},{"$f":"'DNSP Inputs O&M'!$H$408","v":0.04},{"$f":"'DNSP Inputs O&M'!$H$454","v":0.04},{"$f":"'DNSP Inputs O&M'!$H$500","v":0.04},{"$f":"'DNSP Inputs O&M'!$H$547","v":0.04},null,{"$f":"'DNSP Inputs O&M'!$H$591","v":0.04},null,{"$f":"'DNSP Inputs O&M'!$H$635","v":0.04},null,{"$f":"'DNSP Inputs O&M'!$H$367","v":0.53},{"$f":"'DNSP Inputs O&M'!$H$413","v":0.53},{"$f":"'DNSP Inputs O&M'!$H$459","v":0.53},{"$f":"'DNSP Inputs O&M'!$H$505","v":0.53},{"$f":"'DNSP Inputs O&M'!$H$552","v":0.53},null,{"$f":"'DNSP Inputs O&M'!$H$596","v":0.53},null,{"$f":"'DNSP Inputs O&M'!$H$640","v":0.53}]
[{"$f":"A90","v":"Remote"},null,{"$f":"'DNSP Inputs O&M'!$D$363","v":0},{"$f":"'DNSP Inputs O&M'!$D$409","v":0},{"$f":"'DNSP Inputs O&M'!$D$455","v":0},{"$f":"'DNSP Inputs O&M'!$D$501","v":0},{"$f":"'DNSP Inputs O&M'!$D$548","v":0},null,{"$f":"'DNSP Inputs O&M'!$D$592","v":0},null,{"$f":"'DNSP Inputs O&M'!$D$636","v":0},null,{"$f":"'DNSP Inputs O&M'!$D$368","v":0.12},{"$f":"'DNSP Inputs O&M'!$D$414","v":0.12},{"$f":"'DNSP Inputs O&M'!$D$460","v":0.12},{"$f":"'DNSP Inputs O&M'!$D$506","v":0.12},{"$f":"'DNSP Inputs O&M'!$D$553","v":0.12},null,{"$f":"'DNSP Inputs O&M'!$D$597","v":0.12},null,{"$f":"'DNSP Inputs O&M'!$D$641","v":0.12},null,null,null,null,{"$f":"'DNSP Inputs O&M'!$E$363","v":0},{"$f":"'DNSP Inputs O&M'!$E$409","v":0},{"$f":"'DNSP Inputs O&M'!$E$455","v":0},{"$f":"'DNSP Inputs O&M'!$E$501","v":0},{"$f":"'DNSP Inputs O&M'!$E$548","v":0},null,{"$f":"'DNSP Inputs O&M'!$E$592","v":0},null,{"$f":"'DNSP Inputs O&M'!$E$636","v":0},null,{"$f":"'DNSP Inputs O&M'!$E$368","v":0.12},{"$f":"'DNSP Inputs O&M'!$E$414","v":0.12},{"$f":"'DNSP Inputs O&M'!$E$460","v":0.12},{"$f":"'DNSP Inputs O&M'!$E$506","v":0.12},{"$f":"'DNSP Inputs O&M'!$E$553","v":0.12},null,{"$f":"'DNSP Inputs O&M'!$E$597","v":0.12},null,{"$f":"'DNSP Inputs O&M'!$E$641","v":0.12},null,null,null,null,{"$f":"'DNSP Inputs O&M'!$F$363","v":0},{"$f":"'DNSP Inputs O&M'!$F$409","v":0},{"$f":"'DNSP Inputs O&M'!$F$455","v":0},{"$f":"'DNSP Inputs O&M'!$F$501","v":0},{"$f":"'DNSP Inputs O&M'!$F$548","v":0},null,{"$f":"'DNSP Inputs O&M'!$F$592","v":0},null,{"$f":"'DNSP Inputs O&M'!$F$636","v":0},null,{"$f":"'DNSP Inputs O&M'!$F$368","v":0.12},{"$f":"'DNSP Inputs O&M'!$F$414","v":0.12},{"$f":"'DNSP Inputs O&M'!$F$460","v":0.12},{"$f":"'DNSP Inputs O&M'!$F$506","v":0.12},{"$f":"'DNSP Inputs O&M'!$F$553","v":0.12},null,{"$f":"'DNSP Inputs O&M'!$F$597","v":0.12},null,{"$f":"'DNSP Inputs O&M'!$F$641","v":0.12},null,null,null,null,{"$f":"'DNSP Inputs O&M'!$G$363","v":0},{"$f":"'DNSP Inputs O&M'!$G$409","v":0},{"$f":"'DNSP Inputs O&M'!$G$455","v":0},{"$f":"'DNSP Inputs O&M'!$G$501","v":0},{"$f":"'DNSP Inputs O&M'!$G$548","v":0},null,{"$f":"'DNSP Inputs O&M'!$G$592","v":0},null,{"$f":"'DNSP Inputs O&M'!$G$636","v":0},null,{"$f":"'DNSP Inputs O&M'!$G$368","v":0.12},{"$f":"'DNSP Inputs O&M'!$G$414","v":0.12},{"$f":"'DNSP Inputs O&M'!$G$460","v":0.12},{"$f":"'DNSP Inputs O&M'!$G$506","v":0.12},{"$f":"'DNSP Inputs O&M'!$G$553","v":0.12},null,{"$f":"'DNSP Inputs O&M'!$G$597","v":0.12},null,{"$f":"'DNSP Inputs O&M'!$G$641","v":0.12},null,null,null,null,{"$f":"'DNSP Inputs O&M'!$H$363","v":0},{"$f":"'DNSP Inputs O&M'!$H$409","v":0},{"$f":"'DNSP Inputs O&M'!$H$455","v":0},{"$f":"'DNSP Inputs O&M'!$H$501","v":0},{"$f":"'DNSP Inputs O&M'!$H$548","v":0},null,{"$f":"'DNSP Inputs O&M'!$H$592","v":0},null,{"$f":"'DNSP Inputs O&M'!$H$636","v":0},null,{"$f":"'DNSP Inputs O&M'!$H$368","v":0.12},{"$f":"'DNSP Inputs O&M'!$H$414","v":0.12},{"$f":"'DNSP Inputs O&M'!$H$460","v":0.12},{"$f":"'DNSP Inputs O&M'!$H$506","v":0.12},{"$f":"'DNSP Inputs O&M'!$H$553","v":0.12},null,{"$f":"'DNSP Inputs O&M'!$H$597","v":0.12},null,{"$f":"'DNSP Inputs O&M'!$H$641","v":0.12}]
[]
[]
[{"$f":"'DNSP Inputs O&M'!A161","v":"Proportion of lights on dedicated poles"},null,{"$f":"'DNSP Inputs O&M'!$D$162","v":0.38119062500000001},null,null,null,null,null,null,null,null,null,{"$f":"'DNSP Inputs O&M'!$D$163","v":0.38296744016378254},null,null,null,null,null,null,null,null,null,null,null,null,{"$f":"'DNSP Inputs O&M'!$E$162","v":0.38119062500000001},null,null,null,null,null,null,null,null,null,{"$f":"'DNSP Inputs O&M'!$E$163","v":0.38296744016378254},null,null,null,null,null,null,null,null,null,null,null,null,{"$f":"'DNSP Inputs O&M'!$F$162","v":0.38119062500000001},null,null,null,null,null,null,null,null,null,{"$f":"'DNSP Inputs O&M'!$F$163","v":0.38296744016378254},null,null,null,null,null,null,null,null,null,null,null,null,{"$f":"'DNSP Inputs O&M'!$G$162","v":0.38119062500000001},null,null,null,null,null,null,null,null,null,{"$f":"'DNSP Inputs O&M'!$G$163","v":0.38296744016378254},null,null,null,null,null,null,null,null,null,null,null,null,{"$f":"'DNSP Inputs O&M'!$H$162","v":0.38119062500000001},null,null,null,null,null,null,null,null,null,{"$f":"'DNSP Inputs O&M'!$H$163","v":0.38296744016378254}]
[]
[{"$f":"'DNSP Inputs O&M'!A167","v":"Other direct costs"}]
[{"$f":"'DNSP Inputs O&M'!$A$168","v":"Call centre"},null,{"$f":"'DNSP Inputs O&M'!$D$171","v":62440},null,null,null,null,null,null,null,null,null,null,null,null,null,null,null,null,null,null,null,null,null,null,{"$f":"'DNSP Inputs O&M'!$E$171","v":66440},null,null,null,null,null,null,null,null,null,null,null,null,null,null,null,null,null,null,null,null,null,null,{"$f":"'DNSP Inputs O&M'!$F$171","v":70440},null,null,null,null,null,null,null,null,null,null,null,null,null,null,null,null,null,null,null,null,null,null,{"$f":"'DNSP Inputs O&M'!$G$171","v":74440},null,null,null,null,null,null,null,null,null,null,null,null,null,null,null,null,null,null,null,null,null,null,{"$f":"'DNSP Inputs O&M'!$H$171","v":78440}]
[{"$f":"'DNSP Inputs O&M'!$A$173","v":"GIS and other"},null,{"$f":"'DNSP Inputs O&M'!$D$173","v":118584.41510767433},null,null,null,null,null,null,null,null,null,null,null,null,null,null,null,null,null,null,null,null,null,null,{"$f":"'DNSP Inputs O&M'!$E$173","v":118584.41510767433},null,null,null,null,null,null,null,null,null,null,null,null,null,null,null,null,null,null,null,null,null,null,{"$f":"'DNSP Inputs O&M'!$F$173","v":118584.41510767433},null,null,null,null,null,null,null,null,null,null,null,null,null,null,null,null,null,null,null,null,null,null,{"$f":"'DNSP Inputs O&M'!$G$173","v":118584.41510767433},null,null,null,null,null,null,null,null,null,null,null,null,null,null,null,null,null,null,null,null,null,null,{"$f":"'DNSP Inputs O&M'!$H$173","v":118584.41510767433}]
[{"$f":"'DNSP Inputs O&M'!A174","v":"Complaints handling"},null,{"$f":"'DNSP Inputs O&M'!$D$174","v":35575.3245323023},null,null,null,null,null,null,null,null,null,null,null,null,null,null,null,null,null,null,null,null,null,null,{"$f":"'DNSP Inputs O&M'!$E$174","v":35575.3245323023},null,null,null,null,null,null,null,null,null,null,null,null,null,null,null,null,null,null,null,null,null,null,{"$f":"'DNSP Inputs O&M'!$F$174","v":35575.3245323023},null,null,null,null,null,null,null,null,null,null,null,null,null,null,null,null,null,null,null,null,null,null,{"$f":"'DNSP Inputs O&M'!$G$174","v":35575.3245323023},null,null,null,null,null,null,null,null,null,null,null,null,null,null,null,null,null,null,null,null,null,null,{"$f":"'DNSP Inputs O&M'!$H$174","v":35575.3245323023}]
[null,null,{"$f":"SUM(C101:C103)","v":216599.73963997661},null,null,null,null,null,null,null,null,null,null,null,null,null,null,null,null,null,null,null,null,null,null,{"$f":"SUM(Z101:Z103)","v":220599.73963997661},null,null,null,null,null,null,null,null,null,null,null,null,null,null,null,null,null,null,null,null,null,null,{"$f":"SUM(AW101:AW103)","v":224599.73963997661},null,null,null,null,null,null,null,null,null,null,null,null,null,null,null,null,null,null,null,null,null,null,{"$f":"SUM(BT101:BT103)","v":228599.73963997661},null,null,null,null,null,null,null,null,null,null,null,null,null,null,null,null,null,null,null,null,null,null,{"$f":"SUM(CQ101:CQ103)","v":232599.73963997661}]
[]
[{"$f":"#REF!","v":{"$error":"#REF!"}},null,{"$f":"SUM(#REF!,#REF!)","v":{"$error":"#REF!"}},null,null,null,null,null,null,null,null,null,null,null,null,null,null,null,null,null,null,null,null,null,null,{"$f":"SUM(#REF!,#REF!)","v":{"$error":"#REF!"}},null,null,null,null,null,null,null,null,null,null,null,null,null,null,null,null,null,null,null,null,null,null,{"$f":"SUM(#REF!,#REF!)","v":{"$error":"#REF!"}},null,null,null,null,null,null,null,null,null,null,null,null,null,null,null,null,null,null,null,null,null,null,{"$f":"SUM(#REF!,#REF!)","v":{"$error":"#REF!"}},null,null,null,null,null,null,null,null,null,null,null,null,null,null,null,null,null,null,null,null,null,null,{"$f":"SUM(#REF!,#REF!)","v":{"$error":"#REF!"}}]
[]
[]
[]
[]
[]
["Mercury Vapour 80 Watt Standard Light Type - Cost build-up"]
[]
["Additional assumptions"]
["Proportion of lamps that will fail before bulk change",null,null,{"$f":"'DNSP Inputs O&M'!$D$27","v":0.19416850184289608},null,null,null,null,null,null,null,null,null,null,null,null,null,null,null,null,null,null,null,null,null,null,{"$f":"'DNSP Inputs O&M'!$E$27","v":0.19416850184289608},null,null,null,null,null,null,null,null,null,null,null,null,null,null,null,null,null,null,null,null,null,null,{"$f":"'DNSP Inputs O&M'!$F$27","v":0.19416850184289608},null,null,null,null,null,null,null,null,null,null,null,null,null,null,null,null,null,null,null,null,null,null,{"$f":"'DNSP Inputs O&M'!$G$27","v":0.19416850184289608},null,null,null,null,null,null,null,null,null,null,null,null,null,null,null,null,null,null,null,null,null,null,{"$f":"'DNSP Inputs O&M'!$H$27","v":0.19416850184289608}]
["Proportion of lamps that will fail before bulk change (per year)",null,null,{"$f":"D115/'DNSP Inputs O&M'!$D$25","v":4.854212546072402E-2},null,null,null,null,null,null,null,null,null,null,null,null,null,null,null,null,null,null,null,null,null,null,{"$f":"AA115/'DNSP Inputs O&M'!$E$25","v":4.854212546072402E-2},null,null,null,null,null,null,null,null,null,null,null,null,null,null,null,null,null,null,null,null,null,null,{"$f":"AX115/'DNSP Inputs O&M'!$F$25","v":4.854212546072402E-2},null,null,null,null,null,null,null,null,null,null,null,null,null,null,null,null,null,null,null,null,null,null,{"$f":"BU115/'DNSP Inputs O&M'!$G$25","v":4.854212546072402E-2},null,null,null,null,null,null,null,null,null,null,null,null,null,null,null,null,null,null,null,null,null,null,{"$f":"CR115/'DNSP Inputs O&M'!$H$25","v":4.854212546072402E-2}]
["Overheads are applied to material and labour components"]
["All costs and charges are exclusive of GST"]
[]
[null,"Urban",null,null,null,null,null,null,"Rural",null,null,null,null,null,null,"Remote",null,null,null,null,null,null,null,null,"Urban",null,null,null,null,null,null,"Rural",null,null,null,null,null,null,"Remote",null,null,null,null,null,null,null,null,"Urban",null,null,null,null,null,null,"Rural",null,null,null,null,null,null,"Remote",null,null,null,null,null,null,null,null,"Urban",null,null,null,null,null,null,"Rural",null,null,null,null,null,null,"Remote",null,null,null,null,null,null,null,null,"Urban",null,null,null,null,null,null,"Rural",null,null,null,null,null,null,"Remote"]
[]
[null,"Unit rate","Number","Hours","Cost","Annualised","Annualised",null,"Unit rate","Number","Hours","Cost","Annualised","Annualised",null,"Unit rate","Number","Hours","Cost","Annualised","Annualised",null,null,null,"Unit rate","Number","Hours","Cost","Annualised","Annualised",null,"Unit rate","Number","Hours","Cost","Annualised","Annualised",null,"Unit rate","Number","Hours","Cost","Annualised","Annualised",null,null,null,"Unit rate","Number","Hours","Cost","Annualised","Annualised",null,"Unit rate","Number","Hours","Cost","Annualised","Annualised",null,"Unit rate","Number","Hours","Cost","Annualised","Annualised",null,null,null,"Unit rate","Number","Hours","Cost","Annualised","Annualised",null,"Unit rate","Number","Hours","Cost","Annualised","Annualised",null,"Unit rate","Number","Hours","Cost","Annualised","Annualised",null,null,null,"Unit rate","Number","Hours","Cost","Annualised","Annualised",null,"Unit rate","Number","Hours","Cost","Annualised","Annualised",null,"Unit rate","Number","Hours","Cost","Annualised","Annualised"]
[null,null,null,null,null," cost","unit cost",null,null,null,null,null," cost","unit cost",null,null,null,null,null," cost","unit cost",null,null,null,null,null,null,null," cost","unit cost",null,null,null,null,null," cost","unit cost",null,null,null,null,null," cost","unit cost",null,null,null,null,null,null,null," cost","unit cost",null,null,null,null,null," cost","unit cost",null,null,null,null,null," cost","unit cost",null,null,null,null,null,null,null," cost","unit cost",null,null,null,null,null," cost","unit cost",null,null,null,null,null," cost","unit cost",null,null,null,null,null,null,null," cost","unit cost",null,null,null,null,null," cost","unit cost",null,null,null,null,null," cost","unit cost"]
["MV80"]
["Bulk change & repairs"]
["Materials - bulk lamp change"]
["Lamp",{"$f":"'DNSP Inputs O&M'!$D$28","v":4.71},{"$f":"'DNSP Inputs O&M'!$D$34","v":86},null,{"$f":"B127*C127","v":405.06},{"$f":"E127/'DNSP Inputs O&M'!$D$25*0.8","v":81.012},{"$f":"(F127+F128+F129)/C127","v":4.3416997591384208},null,{"$f":"'DNSP Inputs O&M'!$D$28*(1+'DNSP Inputs O&M'!$D$11)","v":4.9455},{"$f":"'DNSP Inputs O&M'!$D$35","v":72},null,{"$f":"I127*J127","v":356.07600000000002},{"$f":"L127/'DNSP Inputs O&M'!$D$25*0.8","v":71.21520000000001},{"$f":"(M127+M128+M129)/J127","v":4.5587847470953413},null,{"$f":"'DNSP Inputs O&M'!$D$28*(1+'DNSP Inputs O&M'!$D$11)","v":4.9455},{"$f":"'DNSP Inputs O&M'!$D$36","v":60},null,{"$f":"P127*Q127","v":296.73},{"$f":"S127/'DNSP Inputs O&M'!$D$25*0.8","v":59.346000000000004},{"$f":"(T127+T128+T129)/Q127","v":4.5587847470953413},null,null,null,{"$f":"'DNSP Inputs O&M'!$E$28","v":4.71},{"$f":"'DNSP Inputs O&M'!$E$34","v":86},null,{"$f":"Y127*Z127","v":405.06},{"$f":"AB127/'DNSP Inputs O&M'!$E$25*0.8","v":81.012},{"$f":"(AC127+AC128+AC129)/Z127","v":4.3416997591384208},null,{"$f":"'DNSP Inputs O&M'!$E$28*(1+'DNSP Inputs O&M'!$E$11)","v":4.9455},{"$f":"'DNSP Inputs O&M'!$E$35","v":72},null,{"$f":"AF127*AG127","v":356.07600000000002},{"$f":"AI127/'DNSP Inputs O&M'!$E$25*0.8","v":71.21520000000001},{"$f":"(AJ127+AJ128+AJ129)/AG127","v":4.5587847470953413},null,{"$f":"'DNSP Inputs O&M'!$E$28*(1+'DNSP Inputs O&M'!$E$11)","v":4.9455},{"$f":"'DNSP Inputs O&M'!$E$36","v":60},null,{"$f":"AM127*AN127","v":296.73},{"$f":"AP127/'DNSP Inputs O&M'!$E$25*0.8","v":59.346000000000004},{"$f":"(AQ127+AQ128+AQ129)/AN127","v":4.5587847470953413},null,null,null,{"$f":"'DNSP Inputs O&M'!$F$28","v":4.71},{"$f":"'DNSP Inputs O&M'!$F$34","v":86},null,{"$f":"AV127*AW127","v":405.06},{"$f":"AY127/'DNSP Inputs O&M'!$F$25*0.8","v":81.012},{"$f":"(AZ127+AZ128+AZ129)/AW127","v":4.3416997591384208},null,{"$f":"'DNSP Inputs O&M'!$F$28*(1+'DNSP Inputs O&M'!$F$11)","v":4.9455},{"$f":"'DNSP Inputs O&M'!$F$35","v":72},null,{"$f":"BC127*BD127","v":356.07600000000002},{"$f":"BF127/'DNSP Inputs O&M'!$F$25*0.8","v":71.21520000000001},{"$f":"(BG127+BG128+BG129)/BD127","v":4.5587847470953413},null,{"$f":"'DNSP Inputs O&M'!$F$28*(1+'DNSP Inputs O&M'!$F$11)","v":4.9455},{"$f":"'DNSP Inputs O&M'!$F$36","v":60},null,{"$f":"BJ127*BK127","v":296.73},{"$f":"BM127/'DNSP Inputs O&M'!$F$25*0.8","v":59.346000000000004},{"$f":"(BN127+BN128+BN129)/BK127","v":4.5587847470953413},null,null,null,{"$f":"'DNSP Inputs O&M'!$G$28","v":4.71},{"$f":"'DNSP Inputs O&M'!$G$34","v":86},null,{"$f":"BS127*BT127","v":405.06},{"$f":"BV127/'DNSP Inputs O&M'!$G$25*0.8","v":81.012},{"$f":"(BW127+BW128+BW129)/BT127","v":4.3416997591384208},null,{"$f":"'DNSP Inputs O&M'!$G$28*(1+'DNSP Inputs O&M'!$G$11)","v":4.9455},{"$f":"'DNSP Inputs O&M'!$G$35","v":72},null,{"$f":"BZ127*CA127","v":356.07600000000002},{"$f":"CC127/'DNSP Inputs O&M'!$G$25*0.8","v":71.21520000000001},{"$f":"(CD127+CD128+CD129)/CA127","v":4.5587847470953413},null,{"$f":"'DNSP Inputs O&M'!$G$28*(1+'DNSP Inputs O&M'!$G$11)","v":4.9455},{"$f":"'DNSP Inputs O&M'!$G$36","v":60},null,{"$f":"CG127*CH127","v":296.73},{"$f":"CJ127/'DNSP Inputs O&M'!$G$25*0.8","v":59.346000000000004},{"$f":"(CK127+CK128+CK129)/CH127","v":4.5587847470953413},null,null,null,{"$f":"'DNSP Inputs O&M'!$H$28","v":4.71},{"$f":"'DNSP Inputs O&M'!$H$34","v":86},null,{"$f":"CP127*CQ127","v":405.06},{"$f":"CS127/'DNSP Inputs O&M'!$H$25*0.8","v":81.012},{"$f":"(CT127+CT128+CT129)/CQ127","v":4.3416997591384208},null,{"$f":"'DNSP Inputs O&M'!$H$28*(1+'DNSP Inputs O&M'!$H$11)","v":4.9455},{"$f":"'DNSP Inputs O&M'!$H$35","v":72},null,{"$f":"CW127*CX127","v":356.07600000000002},{"$f":"CZ127/'DNSP Inputs O&M'!$H$25*0.8","v":71.21520000000001},{"$f":"(DA127+DA128+DA129)/CX127","v":4.5587847470953413},null,{"$f":"'DNSP Inputs O&M'!$H$28*(1+'DNSP Inputs O&M'!$H$11)","v":4.9455},{"$f":"'DNSP Inputs O&M'!$H$36","v":60},null,{"$f":"DD127*DE127","v":296.73},{"$f":"DG127/'DNSP Inputs O&M'!$H$25*0.8","v":59.346000000000004},{"$f":"(DH127+DH128+DH129)/DE127","v":4.5587847470953413}]
["PE cell",{"$f":"'DNSP Inputs O&M'!$D$29","v":25.041364999999999},{"$f":"C127*'DNSP Inputs O&M'!$D$25/'DNSP Inputs O&M'!$D$26","v":43},null,{"$f":"B128*C128","v":1076.778695},{"$f":"E128/'DNSP Inputs O&M'!$D$25","v":269.19467374999999},null,null,{"$f":"'DNSP Inputs O&M'!$D$29*(1+'DNSP Inputs O&M'!$D$11)","v":26.29343325},{"$f":"J127*'DNSP Inputs O&M'!$D$25/'DNSP Inputs O&M'!$D$26","v":36},null,{"$f":"I128*J128","v":946.56359699999996},{"$f":"L128/'DNSP Inputs O&M'!$D$25","v":236.64089924999999},null,null,{"$f":"'DNSP Inputs O&M'!$D$29*(1+'DNSP Inputs O&M'!$D$11)","v":26.29343325},{"$f":"Q127*'DNSP Inputs O&M'!$D$25/'DNSP Inputs O&M'!$D$26","v":30},null,{"$f":"P128*Q128","v":788.80299749999995},{"$f":"S128/'DNSP Inputs O&M'!$D$25","v":197.20074937499999},null,null,null,null,{"$f":"'DNSP Inputs O&M'!$E$29","v":25.041364999999999},{"$f":"Z127*'DNSP Inputs O&M'!$E$25/'DNSP Inputs O&M'!$E$26","v":43},null,{"$f":"Y128*Z128","v":1076.778695},{"$f":"AB128/'DNSP Inputs O&M'!$E$25","v":269.19467374999999},null,null,{"$f":"'DNSP Inputs O&M'!$E$29*(1+'DNSP Inputs O&M'!$E$11)","v":26.29343325},{"$f":"AG127*'DNSP Inputs O&M'!$E$25/'DNSP Inputs O&M'!$E$26","v":36},null,{"$f":"AF128*AG128","v":946.56359699999996},{"$f":"AI128/'DNSP Inputs O&M'!$E$25","v":236.64089924999999},null,null,{"$f":"'DNSP Inputs O&M'!$E$29*(1+'DNSP Inputs O&M'!$E$11)","v":26.29343325},{"$f":"AN127*'DNSP Inputs O&M'!$E$25/'DNSP Inputs O&M'!$E$26","v":30},null,{"$f":"AM128*AN128","v":788.80299749999995},{"$f":"AP128/'DNSP Inputs O&M'!$E$25","v":197.20074937499999},null,null,null,null,{"$f":"'DNSP Inputs O&M'!$F$29","v":25.041364999999999},{"$f":"AW127*'DNSP Inputs O&M'!$F$25/'DNSP Inputs O&M'!$F$26","v":43},null,{"$f":"AV128*AW128","v":1076.778695},{"$f":"AY128/'DNSP Inputs O&M'!$F$25","v":269.19467374999999},null,null,{"$f":"'DNSP Inputs O&M'!$F$29*(1+'DNSP Inputs O&M'!$F$11)","v":26.29343325},{"$f":"BD127*'DNSP Inputs O&M'!$F$25/'DNSP Inputs O&M'!$F$26","v":36},null,{"$f":"BC128*BD128","v":946.56359699999996},{"$f":"BF128/'DNSP Inputs O&M'!$F$25","v":236.64089924999999},null,null,{"$f":"'DNSP Inputs O&M'!$F$29*(1+'DNSP Inputs O&M'!$F$11)","v":26.29343325},{"$f":"BK127*'DNSP Inputs O&M'!$F$25/'DNSP Inputs O&M'!$F$26","v":30},null,{"$f":"BJ128*BK128","v":788.80299749999995},{"$f":"BM128/'DNSP Inputs O&M'!$F$25","v":197.20074937499999},null,null,null,null,{"$f":"'DNSP Inputs O&M'!$G$29","v":25.041364999999999},{"$f":"BT127*'DNSP Inputs O&M'!$G$25/'DNSP Inputs O&M'!$G$26","v":43},null,{"$f":"BS128*BT128","v":1076.778695},{"$f":"BV128/'DNSP Inputs O&M'!$G$25","v":269.19467374999999},null,null,{"$f":"'DNSP Inputs O&M'!$G$29*(1+'DNSP Inputs O&M'!$G$11)","v":26.29343325},{"$f":"CA127*'DNSP Inputs O&M'!$G$25/'DNSP Inputs O&M'!$G$26","v":36},null,{"$f":"BZ128*CA128","v":946.56359699999996},{"$f":"CC128/'DNSP Inputs O&M'!$G$25","v":236.64089924999999},null,null,{"$f":"'DNSP Inputs O&M'!$G$29*(1+'DNSP Inputs O&M'!$G$11)","v":26.29343325},{"$f":"CH127*'DNSP Inputs O&M'!$G$25/'DNSP Inputs O&M'!$G$26","v":30},null,{"$f":"CG128*CH128","v":788.80299749999995},{"$f":"CJ128/'DNSP Inputs O&M'!$G$25","v":197.20074937499999},null,null,null,null,{"$f":"'DNSP Inputs O&M'!$H$29","v":25.041364999999999},{"$f":"CQ127*'DNSP Inputs O&M'!$H$25/'DNSP Inputs O&M'!$H$26","v":43},null,{"$f":"CP128*CQ128","v":1076.778695},{"$f":"CS128/'DNSP Inputs O&M'!$H$25","v":269.19467374999999},null,null,{"$f":"'DNSP Inputs O&M'!$H$29*(1+'DNSP Inputs O&M'!$H$11)","v":26.29343325},{"$f":"CX127*'DNSP Inputs O&M'!$H$25/'DNSP Inputs O&M'!$H$26","v":36},null,{"$f":"CW128*CX128","v":946.56359699999996},{"$f":"CZ128/'DNSP Inputs O&M'!$H$25","v":236.64089924999999},null,null,{"$f":"'DNSP Inputs O&M'!$H$29*(1+'DNSP Inputs O&M'!$H$11)","v":26.29343325},{"$f":"DE127*'DNSP Inputs O&M'!$H$25/'DNSP Inputs O&M'!$H$26","v":30},null,{"$f":"DD128*DE128","v":788.80299749999995},{"$f":"DG128/'DNSP Inputs O&M'!$H$25","v":197.20074937499999}]
["Miscellaneous",{"$f":"'DNSP Inputs O&M'!$D$31","v":1.3476456706921032},{"$f":"'DNSP Inputs O&M'!$D$34","v":86},null,{"$f":"B129*C129","v":115.89752767952088},{"$f":"E129/'DNSP Inputs O&M'!$D$25*0.8","v":23.179505535904177},null,null,{"$f":"'DNSP Inputs O&M'!$D$31*(1+'DNSP Inputs O&M'!$D$11)","v":1.4150279542267084},{"$f":"'DNSP Inputs O&M'!$D$35","v":72},null,{"$f":"I129*J129","v":101.882012704323},{"$f":"L129/'DNSP Inputs O&M'!$D$25*0.8","v":20.376402540864603},null,null,{"$f":"'DNSP Inputs O&M'!$D$31*(1+'DNSP Inputs O&M'!$D$11)","v":1.4150279542267084},{"$f":"'DNSP Inputs O&M'!$D$36","v":60},null,{"$f":"P129*Q129","v":84.9016772536025},{"$f":"S129/'DNSP Inputs O&M'!$D$25*0.8","v":16.980335450720499},null,null,null,null,{"$f":"'DNSP Inputs O&M'!$E$31","v":1.3476456706921032},{"$f":"'DNSP Inputs O&M'!$E$34","v":86},null,{"$f":"Y129*Z129","v":115.89752767952088},{"$f":"AB129/'DNSP Inputs O&M'!$E$25*0.8","v":23.179505535904177},null,null,{"$f":"'DNSP Inputs O&M'!$E$31*(1+'DNSP Inputs O&M'!$E$11)","v":1.4150279542267084},{"$f":"'DNSP Inputs O&M'!$E$35","v":72},null,{"$f":"AF129*AG129","v":101.882012704323},{"$f":"AI129/'DNSP Inputs O&M'!$E$25*0.8","v":20.376402540864603},null,null,{"$f":"'DNSP Inputs O&M'!$E$31*(1+'DNSP Inputs O&M'!$E$11)","v":1.4150279542267084},{"$f":"'DNSP Inputs O&M'!$E$36","v":60},null,{"$f":"AM129*AN129","v":84.9016772536025},{"$f":"AP129/'DNSP Inputs O&M'!$E$25*0.8","v":16.980335450720499},null,null,null,null,{"$f":"'DNSP Inputs O&M'!$F$31","v":1.3476456706921032},{"$f":"'DNSP Inputs O&M'!$F$34","v":86},null,{"$f":"AV129*AW129","v":115.89752767952088},{"$f":"AY129/'DNSP Inputs O&M'!$F$25*0.8","v":23.179505535904177},null,null,{"$f":"'DNSP Inputs O&M'!$F$31*(1+'DNSP Inputs O&M'!$F$11)","v":1.4150279542267084},{"$f":"'DNSP Inputs O&M'!$F$35","v":72},null,{"$f":"BC129*BD129","v":101.882012704323},{"$f":"BF129/'DNSP Inputs O&M'!$F$25*0.8","v":20.376402540864603},null,null,{"$f":"'DNSP Inputs O&M'!$F$31*(1+'DNSP Inputs O&M'!$F$11)","v":1.4150279542267084},{"$f":"'DNSP Inputs O&M'!$F$36","v":60},null,{"$f":"BJ129*BK129","v":84.9016772536025},{"$f":"BM129/'DNSP Inputs O&M'!$F$25*0.8","v":16.980335450720499},null,null,null,null,{"$f":"'DNSP Inputs O&M'!$G$31","v":1.3476456706921032},{"$f":"'DNSP Inputs O&M'!$G$34","v":86},null,{"$f":"BS129*BT129","v":115.89752767952088},{"$f":"BV129/'DNSP Inputs O&M'!$G$25*0.8","v":23.179505535904177},null,null,{"$f":"'DNSP Inputs O&M'!$G$31*(1+'DNSP Inputs O&M'!$G$11)","v":1.4150279542267084},{"$f":"'DNSP Inputs O&M'!$G$35","v":72},null,{"$f":"BZ129*CA129","v":101.882012704323},{"$f":"CC129/'DNSP Inputs O&M'!$G$25*0.8","v":20.376402540864603},null,null,{"$f":"'DNSP Inputs O&M'!$G$31*(1+'DNSP Inputs O&M'!$G$11)","v":1.4150279542267084},{"$f":"'DNSP Inputs O&M'!$G$36","v":60},null,{"$f":"CG129*CH129","v":84.9016772536025},{"$f":"CJ129/'DNSP Inputs O&M'!$G$25*0.8","v":16.980335450720499},null,null,null,null,{"$f":"'DNSP Inputs O&M'!$H$31","v":1.3476456706921032},{"$f":"'DNSP Inputs O&M'!$H$34","v":86},null,{"$f":"CP129*CQ129","v":115.89752767952088},{"$f":"CS129/'DNSP Inputs O&M'!$H$25*0.8","v":23.179505535904177},null,null,{"$f":"'DNSP Inputs O&M'!$H$31*(1+'DNSP Inputs O&M'!$H$11)","v":1.4150279542267084},{"$f":"'DNSP Inputs O&M'!$H$35","v":72},null,{"$f":"CW129*CX129","v":101.882012704323},{"$f":"CZ129/'DNSP Inputs O&M'!$H$25*0.8","v":20.376402540864603},null,null,{"$f":"'DNSP Inputs O&M'!$H$31*(1+'DNSP Inputs O&M'!$H$11)","v":1.4150279542267084},{"$f":"'DNSP Inputs O&M'!$H$36","v":60},null,{"$f":"DD129*DE129","v":84.9016772536025},{"$f":"DG129/'DNSP Inputs O&M'!$H$25*0.8","v":16.980335450720499}]
["Materials - repair of faults"]
["Lamp",{"$f":"'DNSP Inputs O&M'!$D$28","v":4.71},{"$f":"'DNSP Inputs O&M'!$D$37*'DNSP Inputs O&M'!$D$40","v":17.28},null,{"$f":"B131*C131","v":81.388800000000003},{"$f":"(E131+E132+E133+E134)/'DNSP Inputs O&M'!$D$37","v":52.314601044442099},{"$f":"F131*D116","v":2.5394619273270322},null,{"$f":"'DNSP Inputs O&M'!$D$28*(1+'DNSP Inputs O&M'!$D$11)","v":4.9455},{"$f":"'DNSP Inputs O&M'!$D$38*'DNSP Inputs O&M'!$D$40","v":14.399999999999999},null,{"$f":"I131*J131","v":71.215199999999996},{"$f":"(L131+L132+L133+L134)/'DNSP Inputs O&M'!$D$38","v":54.930331096664212},{"$f":"M131*D116","v":2.666435023693384},null,{"$f":"'DNSP Inputs O&M'!$D$28*(1+'DNSP Inputs O&M'!$D$11)","v":4.9455},{"$f":"'DNSP Inputs O&M'!$D$39*'DNSP Inputs O&M'!$D$40","v":11.52},null,{"$f":"P131*Q131","v":56.972159999999995},{"$f":"(S131+S132+S133+S134)/'DNSP Inputs O&M'!$D$39","v":54.930331096664204},{"$f":"T131*D116","v":2.666435023693384},null,null,null,{"$f":"'DNSP Inputs O&M'!$E$28","v":4.71},{"$f":"'DNSP Inputs O&M'!$E$37*'DNSP Inputs O&M'!$E$40","v":17.28},null,{"$f":"Y131*Z131","v":81.388800000000003},{"$f":"(AB131+AB132+AB133+AB134)/'DNSP Inputs O&M'!$E$37","v":52.314601044442099},{"$f":"AC131*AA116","v":2.5394619273270322},null,{"$f":"'DNSP Inputs O&M'!$E$28*(1+'DNSP Inputs O&M'!$E$11)","v":4.9455},{"$f":"'DNSP Inputs O&M'!$E$38*'DNSP Inputs O&M'!$E$40","v":14.399999999999999},null,{"$f":"AF131*AG131","v":71.215199999999996},{"$f":"(AI131+AI132+AI133+AI134)/'DNSP Inputs O&M'!$E$38","v":54.930331096664212},{"$f":"AJ131*AA116","v":2.666435023693384},null,{"$f":"'DNSP Inputs O&M'!$E$28*(1+'DNSP Inputs O&M'!$E$11)","v":4.9455},{"$f":"'DNSP Inputs O&M'!$E$39*'DNSP Inputs O&M'!$E$40","v":11.52},null,{"$f":"AM131*AN131","v":56.972159999999995},{"$f":"(AP131+AP132+AP133+AP134)/'DNSP Inputs O&M'!$E$39","v":54.930331096664204},{"$f":"AQ131*AA116","v":2.666435023693384},null,null,null,{"$f":"'DNSP Inputs O&M'!$F$28","v":4.71},{"$f":"'DNSP Inputs O&M'!$F$37*'DNSP Inputs O&M'!$F$40","v":17.28},null,{"$f":"AV131*AW131","v":81.388800000000003},{"$f":"(AY131+AY132+AY133+AY134)/'DNSP Inputs O&M'!$F$37","v":52.314601044442099},{"$f":"AZ131*AX116","v":2.5394619273270322},null,{"$f":"'DNSP Inputs O&M'!$F$28*(1+'DNSP Inputs O&M'!$F$11)","v":4.9455},{"$f":"'DNSP Inputs O&M'!$F$38*'DNSP Inputs O&M'!$F$40","v":14.399999999999999},null,{"$f":"BC131*BD131","v":71.215199999999996},{"$f":"(BF131+BF132+BF133+BF134)/'DNSP Inputs O&M'!$F$38","v":54.930331096664212},{"$f":"BG131*AX116","v":2.666435023693384},null,{"$f":"'DNSP Inputs O&M'!$F$28*(1+'DNSP Inputs O&M'!$F$11)","v":4.9455},{"$f":"'DNSP Inputs O&M'!$F$39*'DNSP Inputs O&M'!$F$40","v":11.52},null,{"$f":"BJ131*BK131","v":56.972159999999995},{"$f":"(BM131+BM132+BM133+BM134)/'DNSP Inputs O&M'!$F$39","v":54.930331096664204},{"$f":"BN131*AX116","v":2.666435023693384},null,null,null,{"$f":"'DNSP Inputs O&M'!$G$28","v":4.71},{"$f":"'DNSP Inputs O&M'!$G$37*'DNSP Inputs O&M'!$G$40","v":17.28},null,{"$f":"BS131*BT131","v":81.388800000000003},{"$f":"(BV131+BV132+BV133+BV134)/'DNSP Inputs O&M'!$G$37","v":52.314601044442099},{"$f":"BW131*BU116","v":2.5394619273270322},null,{"$f":"'DNSP Inputs O&M'!$G$28*(1+'DNSP Inputs O&M'!$G$11)","v":4.9455},{"$f":"'DNSP Inputs O&M'!$G$38*'DNSP Inputs O&M'!$G$40","v":14.399999999999999},null,{"$f":"BZ131*CA131","v":71.215199999999996},{"$f":"(CC131+CC132+CC133+CC134)/'DNSP Inputs O&M'!$G$38","v":54.930331096664212},{"$f":"CD131*BU116","v":2.666435023693384},null,{"$f":"'DNSP Inputs O&M'!$G$28*(1+'DNSP Inputs O&M'!$G$11)","v":4.9455},{"$f":"'DNSP Inputs O&M'!$G$39*'DNSP Inputs O&M'!$G$40","v":11.52},null,{"$f":"CG131*CH131","v":56.972159999999995},{"$f":"(CJ131+CJ132+CJ133+CJ134)/'DNSP Inputs O&M'!$G$39","v":54.930331096664204},{"$f":"CK131*BU116","v":2.666435023693384},null,null,null,{"$f":"'DNSP Inputs O&M'!$H$28","v":4.71},{"$f":"'DNSP Inputs O&M'!$H$37*'DNSP Inputs O&M'!$H$40","v":17.28},null,{"$f":"CP131*CQ131","v":81.388800000000003},{"$f":"(CS131+CS132+CS133+CS134)/'DNSP Inputs O&M'!$H$37","v":52.314601044442099},{"$f":"CT131*CR116","v":2.5394619273270322},null,{"$f":"'DNSP Inputs O&M'!$H$28*(1+'DNSP Inputs O&M'!$H$11)","v":4.9455},{"$f":"'DNSP Inputs O&M'!$H$38*'DNSP Inputs O&M'!$H$40","v":14.399999999999999},null,{"$f":"CW131*CX131","v":71.215199999999996},{"$f":"(CZ131+CZ132+CZ133+CZ134)/'DNSP Inputs O&M'!$H$38","v":54.930331096664212},{"$f":"DA131*CR116","v":2.666435023693384},null,{"$f":"'DNSP Inputs O&M'!$H$28*(1+'DNSP Inputs O&M'!$H$11)","v":4.9455},{"$f":"'DNSP Inputs O&M'!$H$39*'DNSP Inputs O&M'!$H$40","v":11.52},null,{"$f":"DD131*DE131","v":56.972159999999995},{"$f":"(DG131+DG132+DG133+DG134)/'DNSP Inputs O&M'!$H$39","v":54.930331096664204},{"$f":"DH131*CR116","v":2.666435023693384}]
["PE cell",{"$f":"'DNSP Inputs O&M'!$D$29","v":25.041364999999999},{"$f":"'DNSP Inputs O&M'!$D$37*'DNSP Inputs O&M'!$D$41","v":14.4},null,{"$f":"B132*C132","v":360.59565600000002},null,null,null,{"$f":"'DNSP Inputs O&M'!$D$29*(1+'DNSP Inputs O&M'!$D$11)","v":26.29343325},{"$f":"'DNSP Inputs O&M'!$D$38*'DNSP Inputs O&M'!$D$41","v":12},null,{"$f":"I132*J132","v":315.52119900000002},null,null,null,{"$f":"'DNSP Inputs O&M'!$D$29*(1+'DNSP Inputs O&M'!$D$11)","v":26.29343325},{"$f":"'DNSP Inputs O&M'!$D$39*'DNSP Inputs O&M'!$D$41","v":9.6},null,{"$f":"P132*Q132","v":252.41695919999998},null,null,null,null,null,{"$f":"'DNSP Inputs O&M'!$E$29","v":25.041364999999999},{"$f":"'DNSP Inputs O&M'!$E$37*'DNSP Inputs O&M'!$E$41","v":14.4},null,{"$f":"Y132*Z132","v":360.59565600000002},null,null,null,{"$f":"'DNSP Inputs O&M'!$E$29*(1+'DNSP Inputs O&M'!$E$11)","v":26.29343325},{"$f":"'DNSP Inputs O&M'!$E$38*'DNSP Inputs O&M'!$E$41","v":12},null,{"$f":"AF132*AG132","v":315.52119900000002},null,null,null,{"$f":"'DNSP Inputs O&M'!$E$29*(1+'DNSP Inputs O&M'!$E$11)","v":26.29343325},{"$f":"'DNSP Inputs O&M'!$E$39*'DNSP Inputs O&M'!$E$41","v":9.6},null,{"$f":"AM132*AN132","v":252.41695919999998},null,null,null,null,null,{"$f":"'DNSP Inputs O&M'!$F$29","v":25.041364999999999},{"$f":"'DNSP Inputs O&M'!$F$37*'DNSP Inputs O&M'!$F$41","v":14.4},null,{"$f":"AV132*AW132","v":360.59565600000002},null,null,null,{"$f":"'DNSP Inputs O&M'!$F$29*(1+'DNSP Inputs O&M'!$F$11)","v":26.29343325},{"$f":"'DNSP Inputs O&M'!$F$38*'DNSP Inputs O&M'!$F$41","v":12},null,{"$f":"BC132*BD132","v":315.52119900000002},null,null,null,{"$f":"'DNSP Inputs O&M'!$F$29*(1+'DNSP Inputs O&M'!$F$11)","v":26.29343325},{"$f":"'DNSP Inputs O&M'!$F$39*'DNSP Inputs O&M'!$F$41","v":9.6},null,{"$f":"BJ132*BK132","v":252.41695919999998},null,null,null,null,null,{"$f":"'DNSP Inputs O&M'!$G$29","v":25.041364999999999},{"$f":"'DNSP Inputs O&M'!$G$37*'DNSP Inputs O&M'!$G$41","v":14.4},null,{"$f":"BS132*BT132","v":360.59565600000002},null,null,null,{"$f":"'DNSP Inputs O&M'!$G$29*(1+'DNSP Inputs O&M'!$G$11)","v":26.29343325},{"$f":"'DNSP Inputs O&M'!$G$38*'DNSP Inputs O&M'!$G$41","v":12},null,{"$f":"BZ132*CA132","v":315.52119900000002},null,null,null,{"$f":"'DNSP Inputs O&M'!$G$29*(1+'DNSP Inputs O&M'!$G$11)","v":26.29343325},{"$f":"'DNSP Inputs O&M'!$G$39*'DNSP Inputs O&M'!$G$41","v":9.6},null,{"$f":"CG132*CH132","v":252.41695919999998},null,null,null,null,null,{"$f":"'DNSP Inputs O&M'!$H$29","v":25.041364999999999},{"$f":"'DNSP Inputs O&M'!$H$37*'DNSP Inputs O&M'!$H$41","v":14.4},null,{"$f":"CP132*CQ132","v":360.59565600000002},null,null,null,{"$f":"'DNSP Inputs O&M'!$H$29*(1+'DNSP Inputs O&M'!$H$11)","v":26.29343325},{"$f":"'DNSP Inputs O&M'!$H$38*'DNSP Inputs O&M'!$H$41","v":12},null,{"$f":"CW132*CX132","v":315.52119900000002},null,null,null,{"$f":"'DNSP Inputs O&M'!$H$29*(1+'DNSP Inputs O&M'!$H$11)","v":26.29343325},{"$f":"'DNSP Inputs O&M'!$H$39*'DNSP Inputs O&M'!$H$41","v":9.6},null,{"$f":"DD132*DE132","v":252.41695919999998}]
["Luminaire",{"$f":"'DNSP Inputs O&M'!$D$30","v":237.46848582499996},{"$f":"'DNSP Inputs O&M'!$D$37*'DNSP Inputs O&M'!$D$42","v":4.32},null,{"$f":"B133*C133","v":1025.8638587639998},null,null,null,{"$f":"'DNSP Inputs O&M'!$D$30*(1+'DNSP Inputs O&M'!$D$11)","v":249.34191011624998},{"$f":"'DNSP Inputs O&M'!$D$38*'DNSP Inputs O&M'!$D$42","v":3.5999999999999996},null,{"$f":"I133*J133","v":897.63087641849984},null,null,null,{"$f":"'DNSP Inputs O&M'!$D$30*(1+'DNSP Inputs O&M'!$D$11)","v":249.34191011624998},{"$f":"'DNSP Inputs O&M'!$D$39*'DNSP Inputs O&M'!$D$42","v":2.88},null,{"$f":"P133*Q133","v":718.10470113479994},null,null,null,null,null,{"$f":"'DNSP Inputs O&M'!$E$30","v":237.46848582499996},{"$f":"'DNSP Inputs O&M'!$E$37*'DNSP Inputs O&M'!$E$42","v":4.32},null,{"$f":"Y133*Z133","v":1025.8638587639998},null,null,null,{"$f":"'DNSP Inputs O&M'!$E$30*(1+'DNSP Inputs O&M'!$E$11)","v":249.34191011624998},{"$f":"'DNSP Inputs O&M'!$E$38*'DNSP Inputs O&M'!$E$42","v":3.5999999999999996},null,{"$f":"AF133*AG133","v":897.63087641849984},null,null,null,{"$f":"'DNSP Inputs O&M'!$E$30*(1+'DNSP Inputs O&M'!$E$11)","v":249.34191011624998},{"$f":"'DNSP Inputs O&M'!$E$39*'DNSP Inputs O&M'!$E$42","v":2.88},null,{"$f":"AM133*AN133","v":718.10470113479994},null,null,null,null,null,{"$f":"'DNSP Inputs O&M'!$F$30","v":237.46848582499996},{"$f":"'DNSP Inputs O&M'!$F$37*'DNSP Inputs O&M'!$F$42","v":4.32},null,{"$f":"AV133*AW133","v":1025.8638587639998},null,null,null,{"$f":"'DNSP Inputs O&M'!$F$30*(1+'DNSP Inputs O&M'!$F$11)","v":249.34191011624998},{"$f":"'DNSP Inputs O&M'!$F$38*'DNSP Inputs O&M'!$F$42","v":3.5999999999999996},null,{"$f":"BC133*BD133","v":897.63087641849984},null,null,null,{"$f":"'DNSP Inputs O&M'!$F$30*(1+'DNSP Inputs O&M'!$F$11)","v":249.34191011624998},{"$f":"'DNSP Inputs O&M'!$F$39*'DNSP Inputs O&M'!$F$42","v":2.88},null,{"$f":"BJ133*BK133","v":718.10470113479994},null,null,null,null,null,{"$f":"'DNSP Inputs O&M'!$G$30","v":237.46848582499996},{"$f":"'DNSP Inputs O&M'!$G$37*'DNSP Inputs O&M'!$G$42","v":4.32},null,{"$f":"BS133*BT133","v":1025.8638587639998},null,null,null,{"$f":"'DNSP Inputs O&M'!$G$30*(1+'DNSP Inputs O&M'!$G$11)","v":249.34191011624998},{"$f":"'DNSP Inputs O&M'!$G$38*'DNSP Inputs O&M'!$G$42","v":3.5999999999999996},null,{"$f":"BZ133*CA133","v":897.63087641849984},null,null,null,{"$f":"'DNSP Inputs O&M'!$G$30*(1+'DNSP Inputs O&M'!$G$11)","v":249.34191011624998},{"$f":"'DNSP Inputs O&M'!$G$39*'DNSP Inputs O&M'!$G$42","v":2.88},null,{"$f":"CG133*CH133","v":718.10470113479994},null,null,null,null,null,{"$f":"'DNSP Inputs O&M'!$H$30","v":237.46848582499996},{"$f":"'DNSP Inputs O&M'!$H$37*'DNSP Inputs O&M'!$H$42","v":4.32},null,{"$f":"CP133*CQ133","v":1025.8638587639998},null,null,null,{"$f":"'DNSP Inputs O&M'!$H$30*(1+'DNSP Inputs O&M'!$H$11)","v":249.34191011624998},{"$f":"'DNSP Inputs O&M'!$H$38*'DNSP Inputs O&M'!$H$42","v":3.5999999999999996},null,{"$f":"CW133*CX133","v":897.63087641849984},null,null,null,{"$f":"'DNSP Inputs O&M'!$H$30*(1+'DNSP Inputs O&M'!$H$11)","v":249.34191011624998},{"$f":"'DNSP Inputs O&M'!$H$39*'DNSP Inputs O&M'!$H$42","v":2.88},null,{"$f":"DD133*DE133","v":718.10470113479994}]
["Miscellaneous",{"$f":"'DNSP Inputs O&M'!$D$32","v":13.476456706921033},{"$f":"'DNSP Inputs O&M'!$D$37*'DNSP Inputs O&M'!$D$43","v":2.8800000000000003},null,{"$f":"B134*C134","v":38.812195315932577},null,null,null,{"$f":"'DNSP Inputs O&M'!$D$32*(1+'DNSP Inputs O&M'!$D$11)","v":14.150279542267084},{"$f":"'DNSP Inputs O&M'!$D$38*'DNSP Inputs O&M'!$D$43","v":2.4000000000000004},null,{"$f":"I134*J134","v":33.960670901441006},null,null,null,{"$f":"'DNSP Inputs O&M'!$D$32*(1+'DNSP Inputs O&M'!$D$11)","v":14.150279542267084},{"$f":"'DNSP Inputs O&M'!$D$39*'DNSP Inputs O&M'!$D$43","v":1.92},null,{"$f":"P134*Q134","v":27.168536721152801},null,null,null,null,null,{"$f":"'DNSP Inputs O&M'!$E$32","v":13.476456706921033},{"$f":"'DNSP Inputs O&M'!$E$37*'DNSP Inputs O&M'!$E$43","v":2.8800000000000003},null,{"$f":"Y134*Z134","v":38.812195315932577},null,null,null,{"$f":"'DNSP Inputs O&M'!$E$32*(1+'DNSP Inputs O&M'!$E$11)","v":14.150279542267084},{"$f":"'DNSP Inputs O&M'!$E$38*'DNSP Inputs O&M'!$E$43","v":2.4000000000000004},null,{"$f":"AF134*AG134","v":33.960670901441006},null,null,null,{"$f":"'DNSP Inputs O&M'!$E$32*(1+'DNSP Inputs O&M'!$E$11)","v":14.150279542267084},{"$f":"'DNSP Inputs O&M'!$E$39*'DNSP Inputs O&M'!$E$43","v":1.92},null,{"$f":"AM134*AN134","v":27.168536721152801},null,null,null,null,null,{"$f":"'DNSP Inputs O&M'!$F$32","v":13.476456706921033},{"$f":"'DNSP Inputs O&M'!$F$37*'DNSP Inputs O&M'!$F$43","v":2.8800000000000003},null,{"$f":"AV134*AW134","v":38.812195315932577},null,null,null,{"$f":"'DNSP Inputs O&M'!$F$32*(1+'DNSP Inputs O&M'!$F$11)","v":14.150279542267084},{"$f":"'DNSP Inputs O&M'!$F$38*'DNSP Inputs O&M'!$F$43","v":2.4000000000000004},null,{"$f":"BC134*BD134","v":33.960670901441006},null,null,null,{"$f":"'DNSP Inputs O&M'!$F$32*(1+'DNSP Inputs O&M'!$F$11)","v":14.150279542267084},{"$f":"'DNSP Inputs O&M'!$F$39*'DNSP Inputs O&M'!$F$43","v":1.92},null,{"$f":"BJ134*BK134","v":27.168536721152801},null,null,null,null,null,{"$f":"'DNSP Inputs O&M'!$G$32","v":13.476456706921033},{"$f":"'DNSP Inputs O&M'!$G$37*'DNSP Inputs O&M'!$G$43","v":2.8800000000000003},null,{"$f":"BS134*BT134","v":38.812195315932577},null,null,null,{"$f":"'DNSP Inputs O&M'!$G$32*(1+'DNSP Inputs O&M'!$G$11)","v":14.150279542267084},{"$f":"'DNSP Inputs O&M'!$G$38*'DNSP Inputs O&M'!$G$43","v":2.4000000000000004},null,{"$f":"BZ134*CA134","v":33.960670901441006},null,null,null,{"$f":"'DNSP Inputs O&M'!$G$32*(1+'DNSP Inputs O&M'!$G$11)","v":14.150279542267084},{"$f":"'DNSP Inputs O&M'!$G$39*'DNSP Inputs O&M'!$G$43","v":1.92},null,{"$f":"CG134*CH134","v":27.168536721152801},null,null,null,null,null,{"$f":"'DNSP Inputs O&M'!$H$32","v":13.476456706921033},{"$f":"'DNSP Inputs O&M'!$H$37*'DNSP Inputs O&M'!$H$43","v":2.8800000000000003},null,{"$f":"CP134*CQ134","v":38.812195315932577},null,null,null,{"$f":"'DNSP Inputs O&M'!$H$32*(1+'DNSP Inputs O&M'!$H$11)","v":14.150279542267084},{"$f":"'DNSP Inputs O&M'!$H$38*'DNSP Inputs O&M'!$H$43","v":2.4000000000000004},null,{"$f":"CW134*CX134","v":33.960670901441006},null,null,null,{"$f":"'DNSP Inputs O&M'!$H$32*(1+'DNSP Inputs O&M'!$H$11)","v":14.150279542267084},{"$f":"'DNSP Inputs O&M'!$H$39*'DNSP Inputs O&M'!$H$43","v":1.92},null,{"$f":"DD134*DE134","v":27.168536721152801}]
["Labour - bulk lamp change"]
["Crew costs",{"$f":"'DNSP Inputs O&M'!$D$12","v":111.36223236834823},{"$f":"'DNSP Inputs O&M'!$D$33","v":2},{"$f":"'DNSP Inputs O&M'!$D$17","v":7.5},{"$f":"B136*C136*D136","v":1670.4334855252234},{"$f":"E136/'DNSP Inputs O&M'!$D$25*(C127+C128)/C127*0.8","v":501.13004565756705},{"$f":"(F136+F137)/C127","v":7.1399423913670583},null,{"$f":"'DNSP Inputs O&M'!$D$12","v":111.36223236834823},{"$f":"'DNSP Inputs O&M'!$D$33","v":2},{"$f":"'DNSP Inputs O&M'!$D$17","v":7.5},{"$f":"I136*J136*K136","v":1670.4334855252234},{"$f":"L136/'DNSP Inputs O&M'!$D$25*(J127+J128)/J127*0.8","v":501.13004565756705},{"$f":"(M136+M137)/J127","v":8.9488895230217658},null,{"$f":"'DNSP Inputs O&M'!$D$12","v":111.36223236834823},{"$f":"'DNSP Inputs O&M'!$D$33","v":2},{"$f":"'DNSP Inputs O&M'!$D$17","v":7.5},{"$f":"P136*Q136*R136","v":1670.4334855252234},{"$f":"S136/'DNSP Inputs O&M'!$D$25*(Q127+Q128)/Q127*0.8","v":501.13004565756705},{"$f":"(T136+T137)/Q127","v":10.738667427626119},null,null,null,{"$f":"'DNSP Inputs O&M'!$E$12","v":{"$error":"#REF!"}},{"$f":"'DNSP Inputs O&M'!$E$33","v":2},{"$f":"'DNSP Inputs O&M'!$E$17","v":7.5},{"$f":"Y136*Z136*AA136","v":{"$error":"#REF!"}},{"$f":"AB136/'DNSP Inputs O&M'!$E$25*(Z127+Z128)/Z127*0.8","v":{"$error":"#REF!"}},{"$f":"(AC136+AC137)/Z127","v":{"$error":"#REF!"}},null,{"$f":"'DNSP Inputs O&M'!$E$12","v":{"$error":"#REF!"}},{"$f":"'DNSP Inputs O&M'!$E$33","v":2},{"$f":"'DNSP Inputs O&M'!$E$17","v":7.5},{"$f":"AF136*AG136*AH136","v":{"$error":"#REF!"}},{"$f":"AI136/'DNSP Inputs O&M'!$E$25*(AG127+AG128)/AG127*0.8","v":{"$error":"#REF!"}},{"$f":"(AJ136+AJ137)/AG127","v":{"$error":"#REF!"}},null,{"$f":"'DNSP Inputs O&M'!$E$12","v":{"$error":"#REF!"}},{"$f":"'DNSP Inputs O&M'!$E$33","v":2},{"$f":"'DNSP Inputs O&M'!$E$17","v":7.5},{"$f":"AM136*AN136*AO136","v":{"$error":"#REF!"}},{"$f":"AP136/'DNSP Inputs O&M'!$E$25*(AN127+AN128)/AN127*0.8","v":{"$error":"#REF!"}},{"$f":"(AQ136+AQ137)/AN127","v":{"$error":"#REF!"}},null,null,null,{"$f":"'DNSP Inputs O&M'!$F$12","v":{"$error":"#REF!"}},{"$f":"'DNSP Inputs O&M'!$F$33","v":2},{"$f":"'DNSP Inputs O&M'!$F$17","v":7.5},{"$f":"AV136*AW136*AX136","v":{"$error":"#REF!"}},{"$f":"AY136/'DNSP Inputs O&M'!$F$25*(AW127+AW128)/AW127*0.8","v":{"$error":"#REF!"}},{"$f":"(AZ136+AZ137)/AW127","v":{"$error":"#REF!"}},null,{"$f":"'DNSP Inputs O&M'!$F$12","v":{"$error":"#REF!"}},{"$f":"'DNSP Inputs O&M'!$F$33","v":2},{"$f":"'DNSP Inputs O&M'!$F$17","v":7.5},{"$f":"BC136*BD136*BE136","v":{"$error":"#REF!"}},{"$f":"BF136/'DNSP Inputs O&M'!$F$25*(BD127+BD128)/BD127*0.8","v":{"$error":"#REF!"}},{"$f":"(BG136+BG137)/BD127","v":{"$error":"#REF!"}},null,{"$f":"'DNSP Inputs O&M'!$F$12","v":{"$error":"#REF!"}},{"$f":"'DNSP Inputs O&M'!$F$33","v":2},{"$f":"'DNSP Inputs O&M'!$F$17","v":7.5},{"$f":"BJ136*BK136*BL136","v":{"$error":"#REF!"}},{"$f":"BM136/'DNSP Inputs O&M'!$F$25*(BK127+BK128)/BK127*0.8","v":{"$error":"#REF!"}},{"$f":"(BN136+BN137)/BK127","v":{"$error":"#REF!"}},null,null,null,{"$f":"'DNSP Inputs O&M'!$G$12","v":{"$error":"#REF!"}},{"$f":"'DNSP Inputs O&M'!$G$33","v":2},{"$f":"'DNSP Inputs O&M'!$G$17","v":7.5},{"$f":"BS136*BT136*BU136","v":{"$error":"#REF!"}},{"$f":"BV136/'DNSP Inputs O&M'!$G$25*(BT127+BT128)/BT127*0.8","v":{"$error":"#REF!"}},{"$f":"(BW136+BW137)/BT127","v":{"$error":"#REF!"}},null,{"$f":"'DNSP Inputs O&M'!$G$12","v":{"$error":"#REF!"}},{"$f":"'DNSP Inputs O&M'!$G$33","v":2},{"$f":"'DNSP Inputs O&M'!$G$17","v":7.5},{"$f":"BZ136*CA136*CB136","v":{"$error":"#REF!"}},{"$f":"CC136/'DNSP Inputs O&M'!$G$25*(CA127+CA128)/CA127*0.8","v":{"$error":"#REF!"}},{"$f":"(CD136+CD137)/CA127","v":{"$error":"#REF!"}},null,{"$f":"'DNSP Inputs O&M'!$G$12","v":{"$error":"#REF!"}},{"$f":"'DNSP Inputs O&M'!$G$33","v":2},{"$f":"'DNSP Inputs O&M'!$G$17","v":7.5},{"$f":"CG136*CH136*CI136","v":{"$error":"#REF!"}},{"$f":"CJ136/'DNSP Inputs O&M'!$G$25*(CH127+CH128)/CH127*0.8","v":{"$error":"#REF!"}},{"$f":"(CK136+CK137)/CH127","v":{"$error":"#REF!"}},null,null,null,{"$f":"'DNSP Inputs O&M'!$H$12","v":{"$error":"#REF!"}},{"$f":"'DNSP Inputs O&M'!$H$33","v":2},{"$f":"'DNSP Inputs O&M'!$H$17","v":7.5},{"$f":"CP136*CQ136*CR136","v":{"$error":"#REF!"}},{"$f":"CS136/'DNSP Inputs O&M'!$H$25*(CQ127+CQ128)/CQ127*0.8","v":{"$error":"#REF!"}},{"$f":"(CT136+CT137)/CQ127","v":{"$error":"#REF!"}},null,{"$f":"'DNSP Inputs O&M'!$H$12","v":{"$error":"#REF!"}},{"$f":"'DNSP Inputs O&M'!$H$33","v":2},{"$f":"'DNSP Inputs O&M'!$H$17","v":7.5},{"$f":"CW136*CX136*CY136","v":{"$error":"#REF!"}},{"$f":"CZ136/'DNSP Inputs O&M'!$H$25*(CX127+CX128)/CX127*0.8","v":{"$error":"#REF!"}},{"$f":"(DA136+DA137)/CX127","v":{"$error":"#REF!"}},null,{"$f":"'DNSP Inputs O&M'!$H$12","v":{"$error":"#REF!"}},{"$f":"'DNSP Inputs O&M'!$H$33","v":2},{"$f":"'DNSP Inputs O&M'!$H$17","v":7.5},{"$f":"DD136*DE136*DF136","v":{"$error":"#REF!"}},{"$f":"DG136/'DNSP Inputs O&M'!$H$25*(DE127+DE128)/DE127*0.8","v":{"$error":"#REF!"}},{"$f":"(DH136+DH137)/DE127","v":{"$error":"#REF!"}}]
["Elevated platform costs",{"$f":"'DNSP Inputs O&M'!$D$14","v":50.18},1,{"$f":"'DNSP Inputs O&M'!$D$17","v":7.5},{"$f":"B137*C137*D137","v":376.35},{"$f":"E137/'DNSP Inputs O&M'!$D$25*(C127+C128)/C127*0.8","v":112.905},null,null,{"$f":"'DNSP Inputs O&M'!$D$15","v":63.64},1,{"$f":"'DNSP Inputs O&M'!$D$17","v":7.5},{"$f":"I137*J137*K137","v":477.3},{"$f":"L137/'DNSP Inputs O&M'!$D$25*(J127+J128)/J127*0.8","v":143.19000000000003},null,null,{"$f":"'DNSP Inputs O&M'!$D$15","v":63.64},1,{"$f":"'DNSP Inputs O&M'!$D$17","v":7.5},{"$f":"P137*Q137*R137","v":477.3},{"$f":"S137/'DNSP Inputs O&M'!$D$25*(Q127+Q128)/Q127*0.8","v":143.19000000000003},null,null,null,null,{"$f":"'DNSP Inputs O&M'!$E$14","v":50.18},1,{"$f":"'DNSP Inputs O&M'!$E$17","v":7.5},{"$f":"Y137*Z137*AA137","v":376.35},{"$f":"AB137/'DNSP Inputs O&M'!$E$25*(Z127+Z128)/Z127*0.8","v":112.905},null,null,{"$f":"'DNSP Inputs O&M'!$E$15","v":63.64},1,{"$f":"'DNSP Inputs O&M'!$E$17","v":7.5},{"$f":"AF137*AG137*AH137","v":477.3},{"$f":"AI137/'DNSP Inputs O&M'!$E$25*(AG127+AG128)/AG127*0.8","v":143.19000000000003},null,null,{"$f":"'DNSP Inputs O&M'!$E$15","v":63.64},1,{"$f":"'DNSP Inputs O&M'!$E$17","v":7.5},{"$f":"AM137*AN137*AO137","v":477.3},{"$f":"AP137/'DNSP Inputs O&M'!$E$25*(AN127+AN128)/AN127*0.8","v":143.19000000000003},null,null,null,null,{"$f":"'DNSP Inputs O&M'!$F$14","v":50.18},1,{"$f":"'DNSP Inputs O&M'!$F$17","v":7.5},{"$f":"AV137*AW137*AX137","v":376.35},{"$f":"AY137/'DNSP Inputs O&M'!$F$25*(AW127+AW128)/AW127*0.8","v":112.905},null,null,{"$f":"'DNSP Inputs O&M'!$F$15","v":63.64},1,{"$f":"'DNSP Inputs O&M'!$F$17","v":7.5},{"$f":"BC137*BD137*BE137","v":477.3},{"$f":"BF137/'DNSP Inputs O&M'!$F$25*(BD127+BD128)/BD127*0.8","v":143.19000000000003},null,null,{"$f":"'DNSP Inputs O&M'!$F$15","v":63.64},1,{"$f":"'DNSP Inputs O&M'!$F$17","v":7.5},{"$f":"BJ137*BK137*BL137","v":477.3},{"$f":"BM137/'DNSP Inputs O&M'!$F$25*(BK127+BK128)/BK127*0.8","v":143.19000000000003},null,null,null,null,{"$f":"'DNSP Inputs O&M'!$G$14","v":50.18},1,{"$f":"'DNSP Inputs O&M'!$G$17","v":7.5},{"$f":"BS137*BT137*BU137","v":376.35},{"$f":"BV137/'DNSP Inputs O&M'!$G$25*(BT127+BT128)/BT127*0.8","v":112.905},null,null,{"$f":"'DNSP Inputs O&M'!$G$15","v":63.64},1,{"$f":"'DNSP Inputs O&M'!$G$17","v":7.5},{"$f":"BZ137*CA137*CB137","v":477.3},{"$f":"CC137/'DNSP Inputs O&M'!$G$25*(CA127+CA128)/CA127*0.8","v":143.19000000000003},null,null,{"$f":"'DNSP Inputs O&M'!$G$15","v":63.64},1,{"$f":"'DNSP Inputs O&M'!$G$17","v":7.5},{"$f":"CG137*CH137*CI137","v":477.3},{"$f":"CJ137/'DNSP Inputs O&M'!$G$25*(CH127+CH128)/CH127*0.8","v":143.19000000000003},null,null,null,null,{"$f":"'DNSP Inputs O&M'!$H$14","v":50.18},1,{"$f":"'DNSP Inputs O&M'!$H$17","v":7.5},{"$f":"CP137*CQ137*CR137","v":376.35},{"$f":"CS137/'DNSP Inputs O&M'!$H$25*(CQ127+CQ128)/CQ127*0.8","v":112.905},null,null,{"$f":"'DNSP Inputs O&M'!$H$15","v":63.64},1,{"$f":"'DNSP Inputs O&M'!$H$17","v":7.5},{"$f":"CW137*CX137*CY137","v":477.3},{"$f":"CZ137/'DNSP Inputs O&M'!$H$25*(CX127+CX128)/CX127*0.8","v":143.19000000000003},null,null,{"$f":"'DNSP Inputs O&M'!$H$15","v":63.64},1,{"$f":"'DNSP Inputs O&M'!$H$17","v":7.5},{"$f":"DD137*DE137*DF137","v":477.3},{"$f":"DG137/'DNSP Inputs O&M'!$H$25*(DE127+DE128)/DE127*0.8","v":143.19000000000003}]
["Labour - repair of faults"]
["Crew costs",{"$f":"'DNSP Inputs O&M'!$D$12","v":111.36223236834823},{"$f":"'DNSP Inputs O&M'!$D$33","v":2},{"$f":"'DNSP Inputs O&M'!$D$17","v":7.5},{"$f":"B139*C139*D139","v":1670.4334855252234},{"$f":"(E139+E140)/'DNSP Inputs O&M'!$D$37","v":71.068871025181366},{"$f":"F139*D116","v":3.4498340536563679},null,{"$f":"'DNSP Inputs O&M'!$D$12","v":111.36223236834823},{"$f":"'DNSP Inputs O&M'!$D$33","v":2},{"$f":"'DNSP Inputs O&M'!$D$17","v":7.5},{"$f":"I139*J139*K139","v":1670.4334855252234},{"$f":"(L139+L140)/'DNSP Inputs O&M'!$D$38","v":89.488895230217636},{"$f":"M139*D116","v":4.3439811796068115},null,{"$f":"'DNSP Inputs O&M'!$D$12","v":111.36223236834823},{"$f":"'DNSP Inputs O&M'!$D$33","v":2},{"$f":"'DNSP Inputs O&M'!$D$17","v":7.5},{"$f":"P139*Q139*R139","v":1670.4334855252234},{"$f":"(S139+S140)/'DNSP Inputs O&M'!$D$39","v":111.86111903777206},{"$f":"T139*D116","v":5.4299764745085151},null,null,null,{"$f":"'DNSP Inputs O&M'!$E$12","v":{"$error":"#REF!"}},{"$f":"'DNSP Inputs O&M'!$E$33","v":2},{"$f":"'DNSP Inputs O&M'!$E$17","v":7.5},{"$f":"Y139*Z139*AA139","v":{"$error":"#REF!"}},{"$f":"(AB139+AB140)/'DNSP Inputs O&M'!$E$37","v":{"$error":"#REF!"}},{"$f":"AC139*AA116","v":{"$error":"#REF!"}},null,{"$f":"'DNSP Inputs O&M'!$E$12","v":{"$error":"#REF!"}},{"$f":"'DNSP Inputs O&M'!$E$33","v":2},{"$f":"'DNSP Inputs O&M'!$E$17","v":7.5},{"$f":"AF139*AG139*AH139","v":{"$error":"#REF!"}},{"$f":"(AI139+AI140)/'DNSP Inputs O&M'!$E$38","v":{"$error":"#REF!"}},{"$f":"AJ139*AA116","v":{"$error":"#REF!"}},null,{"$f":"'DNSP Inputs O&M'!$E$12","v":{"$error":"#REF!"}},{"$f":"'DNSP Inputs O&M'!$E$33","v":2},{"$f":"'DNSP Inputs O&M'!$E$17","v":7.5},{"$f":"AM139*AN139*AO139","v":{"$error":"#REF!"}},{"$f":"(AP139+AP140)/'DNSP Inputs O&M'!$E$39","v":{"$error":"#REF!"}},{"$f":"AQ139*AA116","v":{"$error":"#REF!"}},null,null,null,{"$f":"'DNSP Inputs O&M'!$F$12","v":{"$error":"#REF!"}},{"$f":"'DNSP Inputs O&M'!$F$33","v":2},{"$f":"'DNSP Inputs O&M'!$F$17","v":7.5},{"$f":"AV139*AW139*AX139","v":{"$error":"#REF!"}},{"$f":"(AY139+AY140)/'DNSP Inputs O&M'!$F$37","v":{"$error":"#REF!"}},{"$f":"AZ139*AX116","v":{"$error":"#REF!"}},null,{"$f":"'DNSP Inputs O&M'!$F$12","v":{"$error":"#REF!"}},{"$f":"'DNSP Inputs O&M'!$F$33","v":2},{"$f":"'DNSP Inputs O&M'!$F$17","v":7.5},{"$f":"BC139*BD139*BE139","v":{"$error":"#REF!"}},{"$f":"(BF139+BF140)/'DNSP Inputs O&M'!$F$38","v":{"$error":"#REF!"}},{"$f":"BG139*AX116","v":{"$error":"#REF!"}},null,{"$f":"'DNSP Inputs O&M'!$F$12","v":{"$error":"#REF!"}},{"$f":"'DNSP Inputs O&M'!$F$33","v":2},{"$f":"'DNSP Inputs O&M'!$F$17","v":7.5},{"$f":"BJ139*BK139*BL139","v":{"$error":"#REF!"}},{"$f":"(BM139+BM140)/'DNSP Inputs O&M'!$F$39","v":{"$error":"#REF!"}},{"$f":"BN139*AX116","v":{"$error":"#REF!"}},null,null,null,{"$f":"'DNSP Inputs O&M'!$G$12","v":{"$error":"#REF!"}},{"$f":"'DNSP Inputs O&M'!$G$33","v":2},{"$f":"'DNSP Inputs O&M'!$G$17","v":7.5},{"$f":"BS139*BT139*BU139","v":{"$error":"#REF!"}},{"$f":"(BV139+BV140)/'DNSP Inputs O&M'!$G$37","v":{"$error":"#REF!"}},{"$f":"BW139*BU116","v":{"$error":"#REF!"}},null,{"$f":"'DNSP Inputs O&M'!$G$12","v":{"$error":"#REF!"}},{"$f":"'DNSP Inputs O&M'!$G$33","v":2},{"$f":"'DNSP Inputs O&M'!$G$17","v":7.5},{"$f":"BZ139*CA139*CB139","v":{"$error":"#REF!"}},{"$f":"(CC139+CC140)/'DNSP Inputs O&M'!$G$38","v":{"$error":"#REF!"}},{"$f":"CD139*BU116","v":{"$error":"#REF!"}},null,{"$f":"'DNSP Inputs O&M'!$G$12","v":{"$error":"#REF!"}},{"$f":"'DNSP Inputs O&M'!$G$33","v":2},{"$f":"'DNSP Inputs O&M'!$G$17","v":7.5},{"$f":"CG139*CH139*CI139","v":{"$error":"#REF!"}},{"$f":"(CJ139+CJ140)/'DNSP Inputs O&M'!$G$39","v":{"$error":"#REF!"}},{"$f":"CK139*BU116","v":{"$error":"#REF!"}},null,null,null,{"$f":"'DNSP Inputs O&M'!$H$12","v":{"$error":"#REF!"}},{"$f":"'DNSP Inputs O&M'!$H$33","v":2},{"$f":"'DNSP Inputs O&M'!$H$17","v":7.5},{"$f":"CP139*CQ139*CR139","v":{"$error":"#REF!"}},{"$f":"(CS139+CS140)/'DNSP Inputs O&M'!$H$37","v":{"$error":"#REF!"}},{"$f":"CT139*CR116","v":{"$error":"#REF!"}},null,{"$f":"'DNSP Inputs O&M'!$H$12","v":{"$error":"#REF!"}},{"$f":"'DNSP Inputs O&M'!$H$33","v":2},{"$f":"'DNSP Inputs O&M'!$H$17","v":7.5},{"$f":"CW139*CX139*CY139","v":{"$error":"#REF!"}},{"$f":"(CZ139+CZ140)/'DNSP Inputs O&M'!$H$38","v":{"$error":"#REF!"}},{"$f":"DA139*CR116","v":{"$error":"#REF!"}},null,{"$f":"'DNSP Inputs O&M'!$H$12","v":{"$error":"#REF!"}},{"$f":"'DNSP Inputs O&M'!$H$33","v":2},{"$f":"'DNSP Inputs O&M'!$H$17","v":7.5},{"$f":"DD139*DE139*DF139","v":{"$error":"#REF!"}},{"$f":"(DG139+DG140)/'DNSP Inputs O&M'!$H$39","v":{"$error":"#REF!"}},{"$f":"DH139*CR116","v":{"$error":"#REF!"}}]
["Elevated platform costs",{"$f":"'DNSP Inputs O&M'!$D$14","v":50.18},1,{"$f":"'DNSP Inputs O&M'!$D$17","v":7.5},{"$f":"B140*C140*D140","v":376.35},null,null,null,{"$f":"'DNSP Inputs O&M'!$D$15","v":63.64},1,{"$f":"'DNSP Inputs O&M'!$D$17","v":7.5},{"$f":"I140*J140*K140","v":477.3},null,null,null,{"$f":"'DNSP Inputs O&M'!$D$15","v":63.64},1,{"$f":"'DNSP Inputs O&M'!$D$17","v":7.5},{"$f":"P140*Q140*R140","v":477.3},null,null,null,null,null,{"$f":"'DNSP Inputs O&M'!$E$14","v":50.18},1,{"$f":"'DNSP Inputs O&M'!$E$17","v":7.5},{"$f":"Y140*Z140*AA140","v":376.35},null,null,null,{"$f":"'DNSP Inputs O&M'!$E$15","v":63.64},1,{"$f":"'DNSP Inputs O&M'!$E$17","v":7.5},{"$f":"AF140*AG140*AH140","v":477.3},null,null,null,{"$f":"'DNSP Inputs O&M'!$E$15","v":63.64},1,{"$f":"'DNSP Inputs O&M'!$E$17","v":7.5},{"$f":"AM140*AN140*AO140","v":477.3},null,null,null,null,null,{"$f":"'DNSP Inputs O&M'!$F$14","v":50.18},1,{"$f":"'DNSP Inputs O&M'!$F$17","v":7.5},{"$f":"AV140*AW140*AX140","v":376.35},null,null,null,{"$f":"'DNSP Inputs O&M'!$F$15","v":63.64},1,{"$f":"'DNSP Inputs O&M'!$F$17","v":7.5},{"$f":"BC140*BD140*BE140","v":477.3},null,null,null,{"$f":"'DNSP Inputs O&M'!$F$15","v":63.64},1,{"$f":"'DNSP Inputs O&M'!$F$17","v":7.5},{"$f":"BJ140*BK140*BL140","v":477.3},null,null,null,null,null,{"$f":"'DNSP Inputs O&M'!$G$14","v":50.18},1,{"$f":"'DNSP Inputs O&M'!$G$17","v":7.5},{"$f":"BS140*BT140*BU140","v":376.35},null,null,null,{"$f":"'DNSP Inputs O&M'!$G$15","v":63.64},1,{"$f":"'DNSP Inputs O&M'!$G$17","v":7.5},{"$f":"BZ140*CA140*CB140","v":477.3},null,null,null,{"$f":"'DNSP Inputs O&M'!$G$15","v":63.64},1,{"$f":"'DNSP Inputs O&M'!$G$17","v":7.5},{"$f":"CG140*CH140*CI140","v":477.3},null,null,null,null,null,{"$f":"'DNSP Inputs O&M'!$H$14","v":50.18},1,{"$f":"'DNSP Inputs O&M'!$H$17","v":7.5},{"$f":"CP140*CQ140*CR140","v":376.35},null,null,null,{"$f":"'DNSP Inputs O&M'!$H$15","v":63.64},1,{"$f":"'DNSP Inputs O&M'!$H$17","v":7.5},{"$f":"CW140*CX140*CY140","v":477.3},null,null,null,{"$f":"'DNSP Inputs O&M'!$H$15","v":63.64},1,{"$f":"'DNSP Inputs O&M'!$H$17","v":7.5},{"$f":"DD140*DE140*DF140","v":477.3}]
["Other Maintenance and Repair costs",null,null,null,null,null,{"$f":"'DNSP Inputs O&M'!$D$50","v":2.1},null,null,null,null,null,null,{"$f":"'DNSP Inputs O&M'!$D$50","v":2.1},null,null,null,null,null,null,{"$f":"'DNSP Inputs O&M'!$D$50","v":2.1},null,null,null,null,null,null,null,null,{"$f":"'DNSP Inputs O&M'!$E$50","v":2.1},null,null,null,null,null,null,{"$f":"'DNSP Inputs O&M'!$E$50","v":2.1},null,null,null,null,null,null,{"$f":"'DNSP Inputs O&M'!$E$50","v":2.1},null,null,null,null,null,null,null,null,{"$f":"'DNSP Inputs O&M'!$F$50","v":2.1},null,null,null,null,null,null,{"$f":"'DNSP Inputs O&M'!$F$50","v":2.1},null,null,null,null,null,null,{"$f":"'DNSP Inputs O&M'!$F$50","v":2.1},null,null,null,null,null,null,null,null,{"$f":"'DNSP Inputs O&M'!$G$50","v":2.1},null,null,null,null,null,null,{"$f":"'DNSP Inputs O&M'!$G$50","v":2.1},null,null,null,null,null,null,{"$f":"'DNSP Inputs O&M'!$G$50","v":2.1},null,null,null,null,null,null,null,null,{"$f":"'DNSP Inputs O&M'!$H$50","v":2.1},null,null,null,null,null,null,{"$f":"'DNSP Inputs O&M'!$H$50","v":2.1},null,null,null,null,null,null,{"$f":"'DNSP Inputs O&M'!$H$50","v":2.1}]
[]
["Overheads",{"$f":"'DNSP Inputs O&M'!$D$18","v":0.25},null,null,null,null,{"$f":"B143*SUM(G127:G141)","v":4.89273453287222},null,{"$f":"'DNSP Inputs O&M'!$D$18","v":0.25},null,null,null,null,{"$f":"I143*SUM(N127:N141)","v":5.654522618354326},null,{"$f":"'DNSP Inputs O&M'!$D$18","v":0.25},null,null,null,null,{"$f":"P143*SUM(U127:U141)","v":6.3734659182308402},null,null,null,{"$f":"'DNSP Inputs O&M'!$E$18","v":0.25},null,null,null,null,{"$f":"Y143*SUM(AD127:AD141)","v":{"$error":"#REF!"}},null,{"$f":"'DNSP Inputs O&M'!$E$18","v":0.25},null,null,null,null,{"$f":"AF143*SUM(AK127:AK141)","v":{"$error":"#REF!"}},null,{"$f":"'DNSP Inputs O&M'!$E$18","v":0.25},null,null,null,null,{"$f":"AM143*SUM(AR127:AR141)","v":{"$error":"#REF!"}},null,null,null,{"$f":"'DNSP Inputs O&M'!$F$18","v":0.25},null,null,null,null,{"$f":"AV143*SUM(BA127:BA141)","v":{"$error":"#REF!"}},null,{"$f":"'DNSP Inputs O&M'!$F$18","v":0.25},null,null,null,null,{"$f":"BC143*SUM(BH127:BH141)","v":{"$error":"#REF!"}},null,{"$f":"'DNSP Inputs O&M'!$F$18","v":0.25},null,null,null,null,{"$f":"BJ143*SUM(BO127:BO141)","v":{"$error":"#REF!"}},null,null,null,{"$f":"'DNSP Inputs O&M'!$G$18","v":0.25},null,null,null,null,{"$f":"BS143*SUM(BX127:BX141)","v":{"$error":"#REF!"}},null,{"$f":"'DNSP Inputs O&M'!$G$18","v":0.25},null,null,null,null,{"$f":"BZ143*SUM(CE127:CE141)","v":{"$error":"#REF!"}},null,{"$f":"'DNSP Inputs O&M'!$G$18","v":0.25},null,null,null,null,{"$f":"CG143*SUM(CL127:CL141)","v":{"$error":"#REF!"}},null,null,null,{"$f":"'DNSP Inputs O&M'!$H$18","v":0.25},null,null,null,null,{"$f":"CP143*SUM(CU127:CU141)","v":{"$error":"#REF!"}},null,{"$f":"'DNSP Inputs O&M'!$H$18","v":0.25},null,null,null,null,{"$f":"CW143*SUM(DB127:DB141)","v":{"$error":"#REF!"}},null,{"$f":"'DNSP Inputs O&M'!$H$18","v":0.25},null,null,null,null,{"$f":"DD143*SUM(DI127:DI141)","v":{"$error":"#REF!"}}]
[]
[null,null,null,null,null,null,{"$f":"SUM(G127,G131,G136,G139,G141,G143)","v":24.463672664361098},null,null,null,null,null,null,{"$f":"SUM(N127,N131,N136,N139,N141,N143)","v":28.272613091771632},null,null,null,null,null,null,{"$f":"SUM(U127,U131,U136,U139,U141,U143)","v":31.867329591154203},null,null,null,null,null,null,null,null,{"$f":"SUM(AD127,AD131,AD136,AD139,AD141,AD143)","v":{"$error":"#REF!"}},null,null,null,null,null,null,{"$f":"SUM(AK127,AK131,AK136,AK139,AK141,AK143)","v":{"$error":"#REF!"}},null,null,null,null,null,null,{"$f":"SUM(AR127,AR131,AR136,AR139,AR141,AR143)","v":{"$error":"#REF!"}},null,null,null,null,null,null,null,null,{"$f":"SUM(BA127,BA131,BA136,BA139,BA141,BA143)","v":{"$error":"#REF!"}},null,null,null,null,null,null,{"$f":"SUM(BH127,BH131,BH136,BH139,BH141,BH143)","v":{"$error":"#REF!"}},null,null,null,null,null,null,{"$f":"SUM(BO127,BO131,BO136,BO139,BO141,BO143)","v":{"$error":"#REF!"}},null,null,null,null,null,null,null,null,{"$f":"SUM(BX127,BX131,BX136,BX139,BX141,BX143)","v":{"$error":"#REF!"}},null,null,null,null,null,null,{"$f":"SUM(CE127,CE131,CE136,CE139,CE141,CE143)","v":{"$error":"#REF!"}},null,null,null,null,null,null,{"$f":"SUM(CL127,CL131,CL136,CL139,CL141,CL143)","v":{"$error":"#REF!"}},null,null,null,null,null,null,null,null,{"$f":"SUM(CU127,CU131,CU136,CU139,CU141,CU143)","v":{"$error":"#REF!"}},null,null,null,null,null,null,{"$f":"SUM(DB127,DB131,DB136,DB139,DB141,DB143)","v":{"$error":"#REF!"}},null,null,null,null,null,null,{"$f":"SUM(DI127,DI131,DI136,DI139,DI141,DI143)","v":{"$error":"#REF!"}}]
[]
["Dedicated poles - inspection"]
["Crew costs",{"$f":"'DNSP Inputs O&M'!$D$12","v":111.36223236834823},1,{"$f":"'DNSP Inputs O&M'!$D$17","v":7.5},{"$f":"B148*C148*D148","v":835.21674276261172},{"$f":"(E148+E149+E150)/'DNSP Inputs O&M'!$D$158","v":273.24793569065292},{"$f":"F148/'DNSP Inputs O&M'!$D$159","v":3.6433058092087056},null,{"$f":"'DNSP Inputs O&M'!$D$12","v":111.36223236834823},1,{"$f":"'DNSP Inputs O&M'!$D$17","v":7.5},{"$f":"I148*J148*K148","v":835.21674276261172},{"$f":"(L148+L149+L150)/'DNSP Inputs O&M'!$D$158","v":273.24793569065292},{"$f":"M148/'DNSP Inputs O&M'!$D$159","v":3.6433058092087056},null,{"$f":"'DNSP Inputs O&M'!$D$12","v":111.36223236834823},1,{"$f":"'DNSP Inputs O&M'!$D$17","v":7.5},{"$f":"P148*Q148*R148","v":835.21674276261172},{"$f":"(S148+S149+S150)/'DNSP Inputs O&M'!$D$158","v":273.24793569065292},{"$f":"T148/'DNSP Inputs O&M'!$D$159","v":3.6433058092087056},null,null,null,{"$f":"'DNSP Inputs O&M'!$E$12","v":{"$error":"#REF!"}},1,{"$f":"'DNSP Inputs O&M'!$E$17","v":7.5},{"$f":"Y148*Z148*AA148","v":{"$error":"#REF!"}},{"$f":"(AB148+AB149+AB150)/'DNSP Inputs O&M'!$E$158","v":{"$error":"#REF!"}},{"$f":"AC148/'DNSP Inputs O&M'!$E$159","v":{"$error":"#REF!"}},null,{"$f":"'DNSP Inputs O&M'!$E$12","v":{"$error":"#REF!"}},1,{"$f":"'DNSP Inputs O&M'!$E$17","v":7.5},{"$f":"AF148*AG148*AH148","v":{"$error":"#REF!"}},{"$f":"(AI148+AI149+AI150)/'DNSP Inputs O&M'!$E$158","v":{"$error":"#REF!"}},{"$f":"AJ148/'DNSP Inputs O&M'!$E$159","v":{"$error":"#REF!"}},null,{"$f":"'DNSP Inputs O&M'!$E$12","v":{"$error":"#REF!"}},1,{"$f":"'DNSP Inputs O&M'!$E$17","v":7.5},{"$f":"AM148*AN148*AO148","v":{"$error":"#REF!"}},{"$f":"(AP148+AP149+AP150)/'DNSP Inputs O&M'!$E$158","v":{"$error":"#REF!"}},{"$f":"AQ148/'DNSP Inputs O&M'!$E$159","v":{"$error":"#REF!"}},null,null,null,{"$f":"'DNSP Inputs O&M'!$F$12","v":{"$error":"#REF!"}},1,{"$f":"'DNSP Inputs O&M'!$F$17","v":7.5},{"$f":"AV148*AW148*AX148","v":{"$error":"#REF!"}},{"$f":"(AY148+AY149+AY150)/'DNSP Inputs O&M'!$F$158","v":{"$error":"#REF!"}},{"$f":"AZ148/'DNSP Inputs O&M'!$F$159","v":{"$error":"#REF!"}},null,{"$f":"'DNSP Inputs O&M'!$F$12","v":{"$error":"#REF!"}},1,{"$f":"'DNSP Inputs O&M'!$F$17","v":7.5},{"$f":"BC148*BD148*BE148","v":{"$error":"#REF!"}},{"$f":"(BF148+BF149+BF150)/'DNSP Inputs O&M'!$F$158","v":{"$error":"#REF!"}},{"$f":"BG148/'DNSP Inputs O&M'!$F$159","v":{"$error":"#REF!"}},null,{"$f":"'DNSP Inputs O&M'!$F$12","v":{"$error":"#REF!"}},1,{"$f":"'DNSP Inputs O&M'!$F$17","v":7.5},{"$f":"BJ148*BK148*BL148","v":{"$error":"#REF!"}},{"$f":"(BM148+BM149+BM150)/'DNSP Inputs O&M'!$F$158","v":{"$error":"#REF!"}},{"$f":"BN148/'DNSP Inputs O&M'!$F$159","v":{"$error":"#REF!"}},null,null,null,{"$f":"'DNSP Inputs O&M'!$G$12","v":{"$error":"#REF!"}},1,{"$f":"'DNSP Inputs O&M'!$G$17","v":7.5},{"$f":"BS148*BT148*BU148","v":{"$error":"#REF!"}},{"$f":"(BV148+BV149+BV150)/'DNSP Inputs O&M'!$G$158","v":{"$error":"#REF!"}},{"$f":"BW148/'DNSP Inputs O&M'!$G$159","v":{"$error":"#REF!"}},null,{"$f":"'DNSP Inputs O&M'!$G$12","v":{"$error":"#REF!"}},1,{"$f":"'DNSP Inputs O&M'!$G$17","v":7.5},{"$f":"BZ148*CA148*CB148","v":{"$error":"#REF!"}},{"$f":"(CC148+CC149+CC150)/'DNSP Inputs O&M'!$G$158","v":{"$error":"#REF!"}},{"$f":"CD148/'DNSP Inputs O&M'!$G$159","v":{"$error":"#REF!"}},null,{"$f":"'DNSP Inputs O&M'!$G$12","v":{"$error":"#REF!"}},1,{"$f":"'DNSP Inputs O&M'!$G$17","v":7.5},{"$f":"CG148*CH148*CI148","v":{"$error":"#REF!"}},{"$f":"(CJ148+CJ149+CJ150)/'DNSP Inputs O&M'!$G$158","v":{"$error":"#REF!"}},{"$f":"CK148/'DNSP Inputs O&M'!$G$159","v":{"$error":"#REF!"}},null,null,null,{"$f":"'DNSP Inputs O&M'!$H$12","v":{"$error":"#REF!"}},1,{"$f":"'DNSP Inputs O&M'!$H$17","v":7.5},{"$f":"CP148*CQ148*CR148","v":{"$error":"#REF!"}},{"$f":"(CS148+CS149+CS150)/'DNSP Inputs O&M'!$H$158","v":{"$error":"#REF!"}},{"$f":"CT148/'DNSP Inputs O&M'!$H$159","v":{"$error":"#REF!"}},null,{"$f":"'DNSP Inputs O&M'!$H$12","v":{"$error":"#REF!"}},1,{"$f":"'DNSP Inputs O&M'!$H$17","v":7.5},{"$f":"CW148*CX148*CY148","v":{"$error":"#REF!"}},{"$f":"(CZ148+CZ149+CZ150)/'DNSP Inputs O&M'!$H$158","v":{"$error":"#REF!"}},{"$f":"DA148/'DNSP Inputs O&M'!$H$159","v":{"$error":"#REF!"}},null,{"$f":"'DNSP Inputs O&M'!$H$12","v":{"$error":"#REF!"}},1,{"$f":"'DNSP Inputs O&M'!$H$17","v":7.5},{"$f":"DD148*DE148*DF148","v":{"$error":"#REF!"}},{"$f":"(DG148+DG149+DG150)/'DNSP Inputs O&M'!$H$158","v":{"$error":"#REF!"}},{"$f":"DH148/'DNSP Inputs O&M'!$H$159","v":{"$error":"#REF!"}}]
["Vehicle costs",{"$f":"'DNSP Inputs O&M'!$D$16","v":34.369999999999997},1,{"$f":"'DNSP Inputs O&M'!$D$17","v":7.5},{"$f":"B149*C149*D149","v":257.77499999999998},null,null,null,{"$f":"'DNSP Inputs O&M'!$D$16","v":34.369999999999997},1,{"$f":"'DNSP Inputs O&M'!$D$17","v":7.5},{"$f":"I149*J149*K149","v":257.77499999999998},null,null,null,{"$f":"'DNSP Inputs O&M'!$D$16","v":34.369999999999997},1,{"$f":"'DNSP Inputs O&M'!$D$17","v":7.5},{"$f":"P149*Q149*R149","v":257.77499999999998},null,null,null,null,null,{"$f":"'DNSP Inputs O&M'!$E$16","v":34.369999999999997},1,{"$f":"'DNSP Inputs O&M'!$E$17","v":7.5},{"$f":"Y149*Z149*AA149","v":257.77499999999998},null,null,null,{"$f":"'DNSP Inputs O&M'!$E$16","v":34.369999999999997},1,{"$f":"'DNSP Inputs O&M'!$E$17","v":7.5},{"$f":"AF149*AG149*AH149","v":257.77499999999998},null,null,null,{"$f":"'DNSP Inputs O&M'!$E$16","v":34.369999999999997},1,{"$f":"'DNSP Inputs O&M'!$E$17","v":7.5},{"$f":"AM149*AN149*AO149","v":257.77499999999998},null,null,null,null,null,{"$f":"'DNSP Inputs O&M'!$F$16","v":34.369999999999997},1,{"$f":"'DNSP Inputs O&M'!$F$17","v":7.5},{"$f":"AV149*AW149*AX149","v":257.77499999999998},null,null,null,{"$f":"'DNSP Inputs O&M'!$F$16","v":34.369999999999997},1,{"$f":"'DNSP Inputs O&M'!$F$17","v":7.5},{"$f":"BC149*BD149*BE149","v":257.77499999999998},null,null,null,{"$f":"'DNSP Inputs O&M'!$F$16","v":34.369999999999997},1,{"$f":"'DNSP Inputs O&M'!$F$17","v":7.5},{"$f":"BJ149*BK149*BL149","v":257.77499999999998},null,null,null,null,null,{"$f":"'DNSP Inputs O&M'!$G$16","v":34.369999999999997},1,{"$f":"'DNSP Inputs O&M'!$G$17","v":7.5},{"$f":"BS149*BT149*BU149","v":257.77499999999998},null,null,null,{"$f":"'DNSP Inputs O&M'!$G$16","v":34.369999999999997},1,{"$f":"'DNSP Inputs O&M'!$G$17","v":7.5},{"$f":"BZ149*CA149*CB149","v":257.77499999999998},null,null,null,{"$f":"'DNSP Inputs O&M'!$G$16","v":34.369999999999997},1,{"$f":"'DNSP Inputs O&M'!$G$17","v":7.5},{"$f":"CG149*CH149*CI149","v":257.77499999999998},null,null,null,null,null,{"$f":"'DNSP Inputs O&M'!$H$16","v":34.369999999999997},1,{"$f":"'DNSP Inputs O&M'!$H$17","v":7.5},{"$f":"CP149*CQ149*CR149","v":257.77499999999998},null,null,null,{"$f":"'DNSP Inputs O&M'!$H$16","v":34.369999999999997},1,{"$f":"'DNSP Inputs O&M'!$H$17","v":7.5},{"$f":"CW149*CX149*CY149","v":257.77499999999998},null,null,null,{"$f":"'DNSP Inputs O&M'!$H$16","v":34.369999999999997},1,{"$f":"'DNSP Inputs O&M'!$H$17","v":7.5},{"$f":"DD149*DE149*DF149","v":257.77499999999998}]
["Overheads",{"$f":"'DNSP Inputs O&M'!$D$18","v":0.25},null,null,{"$f":"B150*(E148+E149)","v":273.24793569065292},null,null,null,{"$f":"'DNSP Inputs O&M'!$D$18","v":0.25},null,null,{"$f":"I150*(L148+L149)","v":273.24793569065292},null,null,null,{"$f":"'DNSP Inputs O&M'!$D$18","v":0.25},null,null,{"$f":"P150*(S148+S149)","v":273.24793569065292},null,null,null,null,null,{"$f":"'DNSP Inputs O&M'!$E$18","v":0.25},null,null,{"$f":"Y150*(AB148+AB149)","v":{"$error":"#REF!"}},null,null,null,{"$f":"'DNSP Inputs O&M'!$E$18","v":0.25},null,null,{"$f":"AF150*(AI148+AI149)","v":{"$error":"#REF!"}},null,null,null,{"$f":"'DNSP Inputs O&M'!$E$18","v":0.25},null,null,{"$f":"AM150*(AP148+AP149)","v":{"$error":"#REF!"}},null,null,null,null,null,{"$f":"'DNSP Inputs O&M'!$F$18","v":0.25},null,null,{"$f":"AV150*(AY148+AY149)","v":{"$error":"#REF!"}},null,null,null,{"$f":"'DNSP Inputs O&M'!$F$18","v":0.25},null,null,{"$f":"BC150*(BF148+BF149)","v":{"$error":"#REF!"}},null,null,null,{"$f":"'DNSP Inputs O&M'!$F$18","v":0.25},null,null,{"$f":"BJ150*(BM148+BM149)","v":{"$error":"#REF!"}},null,null,null,null,null,{"$f":"'DNSP Inputs O&M'!$G$18","v":0.25},null,null,{"$f":"BS150*(BV148+BV149)","v":{"$error":"#REF!"}},null,null,null,{"$f":"'DNSP Inputs O&M'!$G$18","v":0.25},null,null,{"$f":"BZ150*(CC148+CC149)","v":{"$error":"#REF!"}},null,null,null,{"$f":"'DNSP Inputs O&M'!$G$18","v":0.25},null,null,{"$f":"CG150*(CJ148+CJ149)","v":{"$error":"#REF!"}},null,null,null,null,null,{"$f":"'DNSP Inputs O&M'!$H$18","v":0.25},null,null,{"$f":"CP150*(CS148+CS149)","v":{"$error":"#REF!"}},null,null,null,{"$f":"'DNSP Inputs O&M'!$H$18","v":0.25},null,null,{"$f":"CW150*(CZ148+CZ149)","v":{"$error":"#REF!"}},null,null,null,{"$f":"'DNSP Inputs O&M'!$H$18","v":0.25},null,null,{"$f":"DD150*(DG148+DG149)","v":{"$error":"#REF!"}}]
[]
[]
[]
[]
["Sodium High Pressure 150 Watt Standard Light Type - Cost build-up"]
[]
["Additional assumptions"]
["Overheads are applied to material and labour components"]
["All costs and charges are exclusive of GST"]
[]
[null,"Urban",null,null,null,null,null,null,"Rural",null,null,null,null,null,null,"Remote",null,null,null,null,null,null,null,null,"Urban",null,null,null,null,null,null,"Rural",null,null,null,null,null,null,"Remote",null,null,null,null,null,null,null,null,"Urban",null,null,null,null,null,null,"Rural",null,null,null,null,null,null,"Remote",null,null,null,null,null,null,null,null,"Urban",null,null,null,null,null,null,"Rural",null,null,null,null,null,null,"Remote",null,null,null,null,null,null,null,null,"Urban",null,null,null,null,null,null,"Rural",null,null,null,null,null,null,"Remote"]
[]
[null,"Unit rate","Number","Hours","Cost","Annualised","Annualised",null,"Unit rate","Number","Hours","Cost","Annualised","Annualised",null,"Unit rate","Number","Hours","Cost","Annualised","Annualised",null,null,null,"Unit rate","Number","Hours","Cost","Annualised","Annualised",null,"Unit rate","Number","Hours","Cost","Annualised","Annualised",null,"Unit rate","Number","Hours","Cost","Annualised","Annualised",null,null,null,"Unit rate","Number","Hours","Cost","Annualised","Annualised",null,"Unit rate","Number","Hours","Cost","Annualised","Annualised",null,"Unit rate","Number","Hours","Cost","Annualised","Annualised",null,null,null,"Unit rate","Number","Hours","Cost","Annualised","Annualised",null,"Unit rate","Number","Hours","Cost","Annualised","Annualised",null,"Unit rate","Number","Hours","Cost","Annualised","Annualised",null,null,null,"Unit rate","Number","Hours","Cost","Annualised","Annualised",null,"Unit rate","Number","Hours","Cost","Annualised","Annualised",null,"Unit rate","Number","Hours","Cost","Annualised","Annualised"]
[null,null,null,null,null," cost","unit cost",null,null,null,null,null," cost","unit cost",null,null,null,null,null," cost","unit cost",null,null,null,null,null,null,null," cost","unit cost",null,null,null,null,null," cost","unit cost",null,null,null,null,null," cost","unit cost",null,null,null,null,null,null,null," cost","unit cost",null,null,null,null,null," cost","unit cost",null,null,null,null,null," cost","unit cost",null,null,null,null,null,null,null," cost","unit cost",null,null,null,null,null," cost","unit cost",null,null,null,null,null," cost","unit cost",null,null,null,null,null,null,null," cost","unit cost",null,null,null,null,null," cost","unit cost",null,null,null,null,null," cost","unit cost"]
["S-HP 150"]
["Materials - bulk lamp change"]
["Lamp",{"$f":"'DNSP Inputs O&M'!$D$28","v":4.71},{"$f":"'DNSP Inputs O&M'!$D$34","v":86},null,{"$f":"B167*C167","v":405.06},{"$f":"E167/'DNSP Inputs O&M'!$D$25*0.8","v":81.012},{"$f":"(F167+F168+F169)/C167","v":4.3416997591384208},null,{"$f":"'DNSP Inputs O&M'!$D$28*(1+'DNSP Inputs O&M'!$D$11)","v":4.9455},{"$f":"'DNSP Inputs O&M'!$D$35","v":72},null,{"$f":"I167*J167","v":356.07600000000002},{"$f":"L167/'DNSP Inputs O&M'!$D$25*0.8","v":71.21520000000001},{"$f":"(M167+M168+M169)/J167","v":4.5587847470953413},null,{"$f":"'DNSP Inputs O&M'!$D$28*(1+'DNSP Inputs O&M'!$D$11)","v":4.9455},{"$f":"'DNSP Inputs O&M'!$D$36","v":60},null,{"$f":"P167*Q167","v":296.73},{"$f":"S167/'DNSP Inputs O&M'!$D$25*0.8","v":59.346000000000004},{"$f":"(T167+T168+T169)/Q167","v":4.5587847470953413},null,null,null,{"$f":"'DNSP Inputs O&M'!$E$76","v":19.329999999999998},{"$f":"'DNSP Inputs O&M'!$E$34","v":86},null,{"$f":"Y167*Z167","v":1662.3799999999999},{"$f":"AB167/'DNSP Inputs O&M'!$E$74*0.8","v":265.98079999999999},{"$f":"(AC167+AC168+AC169)/Z167","v":6.0281831146214726},null,{"$f":"'DNSP Inputs O&M'!$E$76*(1+'DNSP Inputs O&M'!$E$11)","v":20.296499999999998},{"$f":"'DNSP Inputs O&M'!$E$35","v":72},null,{"$f":"AF167*AG167","v":1461.348},{"$f":"AI167/'DNSP Inputs O&M'!$E$25*0.8","v":292.26960000000003},{"$f":"(AJ167+AJ168+AJ169)/AG167","v":7.9119903379406837},null,{"$f":"'DNSP Inputs O&M'!$E$76*(1+'DNSP Inputs O&M'!$E$11)","v":20.296499999999998},{"$f":"'DNSP Inputs O&M'!$E$36","v":60},null,{"$f":"AM167*AN167","v":1217.79},{"$f":"AP167/'DNSP Inputs O&M'!$E$25*0.8","v":243.55799999999999},{"$f":"(AQ167+AQ168+AQ169)/AN167","v":7.9119903379406828},null,null,null,{"$f":"'DNSP Inputs O&M'!$F$76","v":19.329999999999998},{"$f":"'DNSP Inputs O&M'!$F$34","v":86},null,{"$f":"AV167*AW167","v":1662.3799999999999},{"$f":"AY167/'DNSP Inputs O&M'!$F$74*0.8","v":265.98079999999999},{"$f":"(AZ167+AZ168+AZ169)/AW167","v":6.0281831146214726},null,{"$f":"'DNSP Inputs O&M'!$F$76*(1+'DNSP Inputs O&M'!$F$11)","v":20.296499999999998},{"$f":"'DNSP Inputs O&M'!$F$35","v":72},null,{"$f":"BC167*BD167","v":1461.348},{"$f":"BF167/'DNSP Inputs O&M'!$F$25*0.8","v":292.26960000000003},{"$f":"(BG167+BG168+BG169)/BD167","v":7.9119903379406837},null,{"$f":"'DNSP Inputs O&M'!$F$76*(1+'DNSP Inputs O&M'!$F$11)","v":20.296499999999998},{"$f":"'DNSP Inputs O&M'!$F$36","v":60},null,{"$f":"BJ167*BK167","v":1217.79},{"$f":"BM167/'DNSP Inputs O&M'!$E$25*0.8","v":243.55799999999999},{"$f":"(BN167+BN168+BN169)/BK167","v":7.9119903379406828},null,null,null,{"$f":"'DNSP Inputs O&M'!$G$76","v":19.329999999999998},{"$f":"'DNSP Inputs O&M'!$G$34","v":86},null,{"$f":"BS167*BT167","v":1662.3799999999999},{"$f":"BV167/'DNSP Inputs O&M'!$G$74*0.8","v":265.98079999999999},{"$f":"(BW167+BW168+BW169)/BT167","v":6.0281831146214726},null,{"$f":"'DNSP Inputs O&M'!$G$76*(1+'DNSP Inputs O&M'!$G$11)","v":20.296499999999998},{"$f":"'DNSP Inputs O&M'!$G$35","v":72},null,{"$f":"BZ167*CA167","v":1461.348},{"$f":"CC167/'DNSP Inputs O&M'!$G$25*0.8","v":292.26960000000003},{"$f":"(CD167+CD168+CD169)/CA167","v":7.9119903379406837},null,{"$f":"'DNSP Inputs O&M'!$G$76*(1+'DNSP Inputs O&M'!$G$11)","v":20.296499999999998},{"$f":"'DNSP Inputs O&M'!$G$36","v":60},null,{"$f":"CG167*CH167","v":1217.79},{"$f":"CJ167/'DNSP Inputs O&M'!$G$25*0.8","v":243.55799999999999},{"$f":"(CK167+CK168+CK169)/CH167","v":7.9119903379406828},null,null,null,{"$f":"'DNSP Inputs O&M'!$H$76","v":19.329999999999998},{"$f":"'DNSP Inputs O&M'!$H$34","v":86},null,{"$f":"CP167*CQ167","v":1662.3799999999999},{"$f":"CS167/'DNSP Inputs O&M'!$H$74*0.8","v":265.98079999999999},{"$f":"(CT167+CT168+CT169)/CQ167","v":6.0281831146214726},null,{"$f":"'DNSP Inputs O&M'!$H$76*(1+'DNSP Inputs O&M'!$H$11)","v":20.296499999999998},{"$f":"'DNSP Inputs O&M'!$H$35","v":72},null,{"$f":"CW167*CX167","v":1461.348},{"$f":"CZ167/'DNSP Inputs O&M'!$H$25*0.8","v":292.26960000000003},{"$f":"(DA167+DA168+DA169)/CX167","v":7.9119903379406837},null,{"$f":"'DNSP Inputs O&M'!$H$76*(1+'DNSP Inputs O&M'!$H$11)","v":20.296499999999998},{"$f":"'DNSP Inputs O&M'!$H$36","v":60},null,{"$f":"DD167*DE167","v":1217.79},{"$f":"DG167/'DNSP Inputs O&M'!$H$25*0.8","v":243.55799999999999},{"$f":"(DH167+DH168+DH169)/DE167","v":7.9119903379406828}]
["PE cell",{"$f":"'DNSP Inputs O&M'!$D$29","v":25.041364999999999},{"$f":"C167*'DNSP Inputs O&M'!$D$25/'DNSP Inputs O&M'!$D$26","v":43},null,{"$f":"B168*C168","v":1076.778695},{"$f":"E168/'DNSP Inputs O&M'!$D$25","v":269.19467374999999},null,null,{"$f":"'DNSP Inputs O&M'!$D$29*(1+'DNSP Inputs O&M'!$D$11)","v":26.29343325},{"$f":"J167*'DNSP Inputs O&M'!$D$25/'DNSP Inputs O&M'!$D$26","v":36},null,{"$f":"I168*J168","v":946.56359699999996},{"$f":"L168/'DNSP Inputs O&M'!$D$25","v":236.64089924999999},null,null,{"$f":"'DNSP Inputs O&M'!$D$29*(1+'DNSP Inputs O&M'!$D$11)","v":26.29343325},{"$f":"Q167*'DNSP Inputs O&M'!$D$25/'DNSP Inputs O&M'!$D$26","v":30},null,{"$f":"P168*Q168","v":788.80299749999995},{"$f":"S168/'DNSP Inputs O&M'!$D$25","v":197.20074937499999},null,null,null,null,{"$f":"'DNSP Inputs O&M'!$E$77","v":25.041364999999999},{"$f":"Z167*'DNSP Inputs O&M'!$E$74/'DNSP Inputs O&M'!$E$75","v":43},null,{"$f":"Y168*Z168","v":1076.778695},{"$f":"AB168/'DNSP Inputs O&M'!$E$74","v":215.355739},null,null,{"$f":"'DNSP Inputs O&M'!$E$77*(1+'DNSP Inputs O&M'!$E$11)","v":26.29343325},{"$f":"AG167*'DNSP Inputs O&M'!$E$74/'DNSP Inputs O&M'!$E$75","v":36},null,{"$f":"AF168*AG168","v":946.56359699999996},{"$f":"AI168/'DNSP Inputs O&M'!$E$25","v":236.64089924999999},null,null,{"$f":"'DNSP Inputs O&M'!$E$77*(1+'DNSP Inputs O&M'!$E$11)","v":26.29343325},{"$f":"AN167*'DNSP Inputs O&M'!$E$74/'DNSP Inputs O&M'!$E$75","v":30},null,{"$f":"AM168*AN168","v":788.80299749999995},{"$f":"AP168/'DNSP Inputs O&M'!$E$25","v":197.20074937499999},null,null,null,null,{"$f":"'DNSP Inputs O&M'!$F$77","v":25.041364999999999},{"$f":"AW167*'DNSP Inputs O&M'!$F$74/'DNSP Inputs O&M'!$F$75","v":43},null,{"$f":"AV168*AW168","v":1076.778695},{"$f":"AY168/'DNSP Inputs O&M'!$F$74","v":215.355739},null,null,{"$f":"'DNSP Inputs O&M'!$F$77*(1+'DNSP Inputs O&M'!$F$11)","v":26.29343325},{"$f":"BD167*'DNSP Inputs O&M'!$F$74/'DNSP Inputs O&M'!$F$75","v":36},null,{"$f":"BC168*BD168","v":946.56359699999996},{"$f":"BF168/'DNSP Inputs O&M'!$F$25","v":236.64089924999999},null,null,{"$f":"'DNSP Inputs O&M'!$F$77*(1+'DNSP Inputs O&M'!$F$11)","v":26.29343325},{"$f":"BK167*'DNSP Inputs O&M'!$F$74/'DNSP Inputs O&M'!$F$75","v":30},null,{"$f":"BJ168*BK168","v":788.80299749999995},{"$f":"BM168/'DNSP Inputs O&M'!$E$25","v":197.20074937499999},null,null,null,null,{"$f":"'DNSP Inputs O&M'!$G$77","v":25.041364999999999},{"$f":"BT167*'DNSP Inputs O&M'!$G$74/'DNSP Inputs O&M'!$G$75","v":43},null,{"$f":"BS168*BT168","v":1076.778695},{"$f":"BV168/'DNSP Inputs O&M'!$G$74","v":215.355739},null,null,{"$f":"'DNSP Inputs O&M'!$G$77*(1+'DNSP Inputs O&M'!$G$11)","v":26.29343325},{"$f":"CA167*'DNSP Inputs O&M'!$G$74/'DNSP Inputs O&M'!$G$75","v":36},null,{"$f":"BZ168*CA168","v":946.56359699999996},{"$f":"CC168/'DNSP Inputs O&M'!$G$25","v":236.64089924999999},null,null,{"$f":"'DNSP Inputs O&M'!$G$77*(1+'DNSP Inputs O&M'!$G$11)","v":26.29343325},{"$f":"CH167*'DNSP Inputs O&M'!$G$74/'DNSP Inputs O&M'!$G$75","v":30},null,{"$f":"CG168*CH168","v":788.80299749999995},{"$f":"CJ168/'DNSP Inputs O&M'!$G$25","v":197.20074937499999},null,null,null,null,{"$f":"'DNSP Inputs O&M'!$H$77","v":25.041364999999999},{"$f":"CQ167*'DNSP Inputs O&M'!$H$74/'DNSP Inputs O&M'!$H$75","v":43},null,{"$f":"CP168*CQ168","v":1076.778695},{"$f":"CS168/'DNSP Inputs O&M'!$H$74","v":215.355739},null,null,{"$f":"'DNSP Inputs O&M'!$H$77*(1+'DNSP Inputs O&M'!$H$11)","v":26.29343325},{"$f":"CX167*'DNSP Inputs O&M'!$H$74/'DNSP Inputs O&M'!$H$75","v":36},null,{"$f":"CW168*CX168","v":946.56359699999996},{"$f":"CZ168/'DNSP Inputs O&M'!$H$25","v":236.64089924999999},null,null,{"$f":"'DNSP Inputs O&M'!$H$77*(1+'DNSP Inputs O&M'!$H$11)","v":26.29343325},{"$f":"DE167*'DNSP Inputs O&M'!$H$74/'DNSP Inputs O&M'!$H$75","v":30},null,{"$f":"DD168*DE168","v":788.80299749999995},{"$f":"DG168/'DNSP Inputs O&M'!$H$25","v":197.20074937499999}]
["Miscellaneous",{"$f":"'DNSP Inputs O&M'!$D$31","v":1.3476456706921032},{"$f":"'DNSP Inputs O&M'!$D$34","v":86},null,{"$f":"B169*C169","v":115.89752767952088},{"$f":"E169/'DNSP Inputs O&M'!$D$25*0.8","v":23.179505535904177},null,null,{"$f":"'DNSP Inputs O&M'!$D$31*(1+'DNSP Inputs O&M'!$D$11)","v":1.4150279542267084},{"$f":"'DNSP Inputs O&M'!$D$35","v":72},null,{"$f":"I169*J169","v":101.882012704323},{"$f":"L169/'DNSP Inputs O&M'!$D$25*0.8","v":20.376402540864603},null,null,{"$f":"'DNSP Inputs O&M'!$D$31*(1+'DNSP Inputs O&M'!$D$11)","v":1.4150279542267084},{"$f":"'DNSP Inputs O&M'!$D$36","v":60},null,{"$f":"P169*Q169","v":84.9016772536025},{"$f":"S169/'DNSP Inputs O&M'!$D$25*0.8","v":16.980335450720499},null,null,null,null,{"$f":"'DNSP Inputs O&M'!E78","v":2.6952913413842063},{"$f":"'DNSP Inputs O&M'!$E$34","v":86},null,{"$f":"Y169*Z169","v":231.79505535904175},{"$f":"AB169/'DNSP Inputs O&M'!$E$74*0.8","v":37.087208857446683},null,null,{"$f":"'DNSP Inputs O&M'!E78*(1+'DNSP Inputs O&M'!$E$11)","v":2.8300559084534167},{"$f":"'DNSP Inputs O&M'!$E$35","v":72},null,{"$f":"AF169*AG169","v":203.76402540864601},{"$f":"AI169/'DNSP Inputs O&M'!$E$25*0.8","v":40.752805081729207},null,null,{"$f":"'DNSP Inputs O&M'!E78*(1+'DNSP Inputs O&M'!$E$11)","v":2.8300559084534167},{"$f":"'DNSP Inputs O&M'!$E$36","v":60},null,{"$f":"AM169*AN169","v":169.803354507205},{"$f":"AP169/'DNSP Inputs O&M'!$E$25*0.8","v":33.960670901440999},null,null,null,null,{"$f":"'DNSP Inputs O&M'!$F$78","v":2.6952913413842063},{"$f":"'DNSP Inputs O&M'!$F$34","v":86},null,{"$f":"AV169*AW169","v":231.79505535904175},{"$f":"AY169/'DNSP Inputs O&M'!$F$74*0.8","v":37.087208857446683},null,null,{"$f":"'DNSP Inputs O&M'!$F$78*(1+'DNSP Inputs O&M'!$E$11)","v":2.8300559084534167},{"$f":"'DNSP Inputs O&M'!$F$35","v":72},null,{"$f":"BC169*BD169","v":203.76402540864601},{"$f":"BF169/'DNSP Inputs O&M'!$F$25*0.8","v":40.752805081729207},null,null,{"$f":"'DNSP Inputs O&M'!$F$78*(1+'DNSP Inputs O&M'!$F$11)","v":2.8300559084534167},{"$f":"'DNSP Inputs O&M'!$F$36","v":60},null,{"$f":"BJ169*BK169","v":169.803354507205},{"$f":"BM169/'DNSP Inputs O&M'!$E$25*0.8","v":33.960670901440999},null,null,null,null,{"$f":"'DNSP Inputs O&M'!$G$78","v":2.6952913413842063},{"$f":"'DNSP Inputs O&M'!$G$34","v":86},null,{"$f":"BS169*BT169","v":231.79505535904175},{"$f":"BV169/'DNSP Inputs O&M'!$G$74*0.8","v":37.087208857446683},null,null,{"$f":"'DNSP Inputs O&M'!$G$78*(1+'DNSP Inputs O&M'!$G$11)","v":2.8300559084534167},{"$f":"'DNSP Inputs O&M'!$G$35","v":72},null,{"$f":"BZ169*CA169","v":203.76402540864601},{"$f":"CC169/'DNSP Inputs O&M'!$G$25*0.8","v":40.752805081729207},null,null,{"$f":"'DNSP Inputs O&M'!$G$78*(1+'DNSP Inputs O&M'!$G$11)","v":2.8300559084534167},{"$f":"'DNSP Inputs O&M'!$G$36","v":60},null,{"$f":"CG169*CH169","v":169.803354507205},{"$f":"CJ169/'DNSP Inputs O&M'!$G$25*0.8","v":33.960670901440999},null,null,null,null,{"$f":"'DNSP Inputs O&M'!$H$78","v":2.6952913413842063},{"$f":"'DNSP Inputs O&M'!$H$34","v":86},null,{"$f":"CP169*CQ169","v":231.79505535904175},{"$f":"CS169/'DNSP Inputs O&M'!$H$74*0.8","v":37.087208857446683},null,null,{"$f":"'DNSP Inputs O&M'!$H$78*(1+'DNSP Inputs O&M'!$H$11)","v":2.8300559084534167},{"$f":"'DNSP Inputs O&M'!$H$35","v":72},null,{"$f":"CW169*CX169","v":203.76402540864601},{"$f":"CZ169/'DNSP Inputs O&M'!$H$25*0.8","v":40.752805081729207},null,null,{"$f":"'DNSP Inputs O&M'!$H$78*(1+'DNSP Inputs O&M'!$H$11)","v":2.8300559084534167},{"$f":"'DNSP Inputs O&M'!$H$36","v":60},null,{"$f":"DD169*DE169","v":169.803354507205},{"$f":"DG169/'DNSP Inputs O&M'!$H$25*0.8","v":33.960670901440999}]
[]
[]
["Patrols and repairs"]
["Materials"]
["Lamp",{"$f":"'DNSP Inputs O&M'!$D$76","v":19.329999999999998},{"$f":"'DNSP Inputs O&M'!$D$84","v":15},null,{"$f":"B174*C174","v":289.95},{"$f":"(E174+E175+E176)/'DNSP Inputs O&M'!$D$84","v":34.54597384138421},{"$f":"F174/'DNSP Inputs O&M'!$D$74","v":6.9091947682768424},null,{"$f":"'DNSP Inputs O&M'!$D$76*(1+'DNSP Inputs O&M'!$D$11)","v":20.296499999999998},{"$f":"'DNSP Inputs O&M'!$D$85","v":11},null,{"$f":"I174*J174","v":223.26149999999998},{"$f":"(L174+L175+L176)/'DNSP Inputs O&M'!$D$85","v":36.273272533453422},{"$f":"M174/'DNSP Inputs O&M'!$D$74","v":7.2546545066906845},null,{"$f":"'DNSP Inputs O&M'!$D$76*(1+'DNSP Inputs O&M'!$D$11)","v":20.296499999999998},{"$f":"'DNSP Inputs O&M'!$D$86","v":9},null,{"$f":"P174*Q174","v":182.66849999999999},{"$f":"(S174+S175+S176)/'DNSP Inputs O&M'!$D$86","v":36.273272533453415},{"$f":"T174/'DNSP Inputs O&M'!$D$74","v":7.2546545066906827},null,null,null,{"$f":"'DNSP Inputs O&M'!$E$76","v":19.329999999999998},{"$f":"'DNSP Inputs O&M'!$E$84","v":15},null,{"$f":"Y174*Z174","v":289.95},{"$f":"(AB174+AB175+AB176)/'DNSP Inputs O&M'!$E$84","v":34.54597384138421},{"$f":"AC174/'DNSP Inputs O&M'!$E$74","v":6.9091947682768424},{"$f":"AC174*AA116","v":1.6769349963713625},{"$f":"'DNSP Inputs O&M'!$E$76*(1+'DNSP Inputs O&M'!$E$11)","v":20.296499999999998},{"$f":"'DNSP Inputs O&M'!$E$85","v":11},null,{"$f":"AF174*AG174","v":223.26149999999998},{"$f":"(AI174+AI175+AI176)/'DNSP Inputs O&M'!$E$85","v":36.273272533453422},{"$f":"AJ174/'DNSP Inputs O&M'!$E$74","v":7.2546545066906845},{"$f":"AJ174*AA116","v":1.7607817461899307},{"$f":"'DNSP Inputs O&M'!$E$76*(1+'DNSP Inputs O&M'!$E$11)","v":20.296499999999998},{"$f":"'DNSP Inputs O&M'!$E$86","v":9},null,{"$f":"AM174*AN174","v":182.66849999999999},{"$f":"(AP174+AP175+AP176)/'DNSP Inputs O&M'!$E$86","v":36.273272533453415},{"$f":"AQ174/'DNSP Inputs O&M'!$E$74","v":7.2546545066906827},{"$f":"AQ174*AA116","v":1.7607817461899302},null,null,{"$f":"'DNSP Inputs O&M'!$F$76","v":19.329999999999998},{"$f":"'DNSP Inputs O&M'!$F$84","v":15},null,{"$f":"AV174*AW174","v":289.95},{"$f":"(AY174+AY175+AY176)/'DNSP Inputs O&M'!$F$84","v":34.54597384138421},{"$f":"AZ174/'DNSP Inputs O&M'!$F$74","v":6.9091947682768424},{"$f":"AZ174*AX116","v":1.6769349963713625},{"$f":"'DNSP Inputs O&M'!$F$76*(1+'DNSP Inputs O&M'!$F$11)","v":20.296499999999998},{"$f":"'DNSP Inputs O&M'!$F$85","v":11},null,{"$f":"BC174*BD174","v":223.26149999999998},{"$f":"(BF174+BF175+BF176)/'DNSP Inputs O&M'!$F$85","v":36.273272533453422},{"$f":"BG174/'DNSP Inputs O&M'!$F$74","v":7.2546545066906845},{"$f":"BG174*AX116","v":1.7607817461899307},{"$f":"'DNSP Inputs O&M'!$F$76*(1+'DNSP Inputs O&M'!$F$11)","v":20.296499999999998},{"$f":"'DNSP Inputs O&M'!$F$86","v":9},null,{"$f":"BJ174*BK174","v":182.66849999999999},{"$f":"(BM174+BM175+BM176)/'DNSP Inputs O&M'!$F$86","v":36.273272533453415},{"$f":"BN174/'DNSP Inputs O&M'!$F$74","v":7.2546545066906827},{"$f":"BN174*AX116","v":1.7607817461899302},null,null,{"$f":"'DNSP Inputs O&M'!$G$76","v":19.329999999999998},{"$f":"'DNSP Inputs O&M'!$G$84","v":15},null,{"$f":"BS174*BT174","v":289.95},{"$f":"(BV174+BV175+BV176)/'DNSP Inputs O&M'!$G$84","v":34.54597384138421},{"$f":"BW174/'DNSP Inputs O&M'!$G$74","v":6.9091947682768424},{"$f":"BW174*AX116","v":1.6769349963713625},{"$f":"'DNSP Inputs O&M'!$G$76*(1+'DNSP Inputs O&M'!$G$11)","v":20.296499999999998},{"$f":"'DNSP Inputs O&M'!$G$85","v":11},null,{"$f":"BZ174*CA174","v":223.26149999999998},{"$f":"(CC174+CC175+CC176)/'DNSP Inputs O&M'!$G$85","v":36.273272533453422},{"$f":"CD174/'DNSP Inputs O&M'!$G$74","v":7.2546545066906845},{"$f":"CD174*AX116","v":1.7607817461899307},{"$f":"'DNSP Inputs O&M'!$G$76*(1+'DNSP Inputs O&M'!$G$11)","v":20.296499999999998},{"$f":"'DNSP Inputs O&M'!$G$86","v":9},null,{"$f":"CG174*CH174","v":182.66849999999999},{"$f":"(CJ174+CJ175+CJ176)/'DNSP Inputs O&M'!$G$86","v":36.273272533453415},{"$f":"CK174/'DNSP Inputs O&M'!$G$74","v":7.2546545066906827},{"$f":"CK174*AX116","v":1.7607817461899302},null,null,{"$f":"'DNSP Inputs O&M'!$H$76","v":19.329999999999998},{"$f":"'DNSP Inputs O&M'!$H$84","v":15},null,{"$f":"CP174*CQ174","v":289.95},{"$f":"(CS174+CS175+CS176)/'DNSP Inputs O&M'!$H$84","v":34.54597384138421},{"$f":"CT174/'DNSP Inputs O&M'!$H$74","v":6.9091947682768424},{"$f":"CT174*BU116","v":1.6769349963713625},{"$f":"'DNSP Inputs O&M'!$H$76*(1+'DNSP Inputs O&M'!$H$11)","v":20.296499999999998},{"$f":"'DNSP Inputs O&M'!$H$85","v":11},null,{"$f":"CW174*CX174","v":223.26149999999998},{"$f":"(CZ174+CZ175+CZ176)/'DNSP Inputs O&M'!$H$85","v":36.273272533453422},{"$f":"DA174/'DNSP Inputs O&M'!$H$74","v":7.2546545066906845},{"$f":"DA174*BU116","v":1.7607817461899307},{"$f":"'DNSP Inputs O&M'!$H$76*(1+'DNSP Inputs O&M'!$H$11)","v":20.296499999999998},{"$f":"'DNSP Inputs O&M'!$H$86","v":9},null,{"$f":"DD174*DE174","v":182.66849999999999},{"$f":"(DG174+DG175+DG176)/'DNSP Inputs O&M'!$H$86","v":36.273272533453415},{"$f":"DH174/'DNSP Inputs O&M'!$H$74","v":7.2546545066906827},{"$f":"DH174*BU116","v":1.7607817461899302}]
["PE cell",{"$f":"'DNSP Inputs O&M'!$D$77","v":25.041364999999999},{"$f":"C174*'DNSP Inputs O&M'!$D$74/'DNSP Inputs O&M'!$D$75","v":7.5},null,{"$f":"B175*C175","v":187.8102375},null,null,null,{"$f":"'DNSP Inputs O&M'!$D$77*(1+'DNSP Inputs O&M'!$D$11)","v":26.29343325},{"$f":"J174*'DNSP Inputs O&M'!$D$74/'DNSP Inputs O&M'!$D$75","v":5.5},null,{"$f":"I175*J175","v":144.613882875},null,null,null,{"$f":"'DNSP Inputs O&M'!$D$77*(1+'DNSP Inputs O&M'!$D$11)","v":26.29343325},{"$f":"Q174*'DNSP Inputs O&M'!$D$74/'DNSP Inputs O&M'!$D$75","v":4.5},null,{"$f":"P175*Q175","v":118.32044962499999},null,null,null,null,null,{"$f":"'DNSP Inputs O&M'!$E$77","v":25.041364999999999},{"$f":"Z174*'DNSP Inputs O&M'!$E$74/'DNSP Inputs O&M'!$E$75","v":7.5},null,{"$f":"Y175*Z175","v":187.8102375},null,null,null,{"$f":"'DNSP Inputs O&M'!$E$77*(1+'DNSP Inputs O&M'!$E$11)","v":26.29343325},{"$f":"AG174*'DNSP Inputs O&M'!$E$74/'DNSP Inputs O&M'!$E$75","v":5.5},null,{"$f":"AF175*AG175","v":144.613882875},null,null,null,{"$f":"'DNSP Inputs O&M'!$E$77*(1+'DNSP Inputs O&M'!$E$11)","v":26.29343325},{"$f":"AN174*'DNSP Inputs O&M'!$E$74/'DNSP Inputs O&M'!$E$75","v":4.5},null,{"$f":"AM175*AN175","v":118.32044962499999},null,null,null,null,null,{"$f":"'DNSP Inputs O&M'!$F$77","v":25.041364999999999},{"$f":"AW174*'DNSP Inputs O&M'!$F$74/'DNSP Inputs O&M'!$F$75","v":7.5},null,{"$f":"AV175*AW175","v":187.8102375},null,null,null,{"$f":"'DNSP Inputs O&M'!$F$77*(1+'DNSP Inputs O&M'!$F$11)","v":26.29343325},{"$f":"BD174*'DNSP Inputs O&M'!$F$74/'DNSP Inputs O&M'!$F$75","v":5.5},null,{"$f":"BC175*BD175","v":144.613882875},null,null,null,{"$f":"'DNSP Inputs O&M'!$F$77*(1+'DNSP Inputs O&M'!$F$11)","v":26.29343325},{"$f":"BK174*'DNSP Inputs O&M'!$F$74/'DNSP Inputs O&M'!$F$75","v":4.5},null,{"$f":"BJ175*BK175","v":118.32044962499999},null,null,null,null,null,{"$f":"'DNSP Inputs O&M'!$G$77","v":25.041364999999999},{"$f":"BT174*'DNSP Inputs O&M'!$G$74/'DNSP Inputs O&M'!$G$75","v":7.5},null,{"$f":"BS175*BT175","v":187.8102375},null,null,null,{"$f":"'DNSP Inputs O&M'!$G$77*(1+'DNSP Inputs O&M'!$G$11)","v":26.29343325},{"$f":"CA174*'DNSP Inputs O&M'!$G$74/'DNSP Inputs O&M'!$G$75","v":5.5},null,{"$f":"BZ175*CA175","v":144.613882875},null,null,null,{"$f":"'DNSP Inputs O&M'!$G$77*(1+'DNSP Inputs O&M'!$G$11)","v":26.29343325},{"$f":"CH174*'DNSP Inputs O&M'!$G$74/'DNSP Inputs O&M'!$G$75","v":4.5},null,{"$f":"CG175*CH175","v":118.32044962499999},null,null,null,null,null,{"$f":"'DNSP Inputs O&M'!$H$77","v":25.041364999999999},{"$f":"CQ174*'DNSP Inputs O&M'!$H$74/'DNSP Inputs O&M'!$H$75","v":7.5},null,{"$f":"CP175*CQ175","v":187.8102375},null,null,null,{"$f":"'DNSP Inputs O&M'!$H$77*(1+'DNSP Inputs O&M'!$H$11)","v":26.29343325},{"$f":"CX174*'DNSP Inputs O&M'!$H$74/'DNSP Inputs O&M'!$H$75","v":5.5},null,{"$f":"CW175*CX175","v":144.613882875},null,null,null,{"$f":"'DNSP Inputs O&M'!$H$77*(1+'DNSP Inputs O&M'!$H$11)","v":26.29343325},{"$f":"DE174*'DNSP Inputs O&M'!$H$74/'DNSP Inputs O&M'!$H$75","v":4.5},null,{"$f":"DD175*DE175","v":118.32044962499999}]
["Miscellaneous",{"$f":"'DNSP Inputs O&M'!$D$78","v":2.6952913413842063},{"$f":"'DNSP Inputs O&M'!$D$84","v":15},null,{"$f":"B176*C176","v":40.429370120763096},null,null,null,{"$f":"'DNSP Inputs O&M'!$D$78*(1+'DNSP Inputs O&M'!$D$11)","v":2.8300559084534167},{"$f":"'DNSP Inputs O&M'!$D$85","v":11},null,{"$f":"I176*J176","v":31.130614992987585},null,null,null,{"$f":"'DNSP Inputs O&M'!$D$78*(1+'DNSP Inputs O&M'!$D$11)","v":2.8300559084534167},{"$f":"'DNSP Inputs O&M'!$D$86","v":9},null,{"$f":"P176*Q176","v":25.470503176080751},null,null,null,null,null,{"$f":"'DNSP Inputs O&M'!$E$78","v":2.6952913413842063},{"$f":"'DNSP Inputs O&M'!$E$84","v":15},null,{"$f":"Y176*Z176","v":40.429370120763096},null,null,null,{"$f":"'DNSP Inputs O&M'!$E$78*(1+'DNSP Inputs O&M'!$E$11)","v":2.8300559084534167},{"$f":"'DNSP Inputs O&M'!$E$85","v":11},null,{"$f":"AF176*AG176","v":31.130614992987585},null,null,null,{"$f":"'DNSP Inputs O&M'!$E$78*(1+'DNSP Inputs O&M'!$E$11)","v":2.8300559084534167},{"$f":"'DNSP Inputs O&M'!$E$86","v":9},null,{"$f":"AM176*AN176","v":25.470503176080751},null,null,null,null,null,{"$f":"'DNSP Inputs O&M'!$F$78","v":2.6952913413842063},{"$f":"'DNSP Inputs O&M'!$F$84","v":15},null,{"$f":"AV176*AW176","v":40.429370120763096},null,null,null,{"$f":"'DNSP Inputs O&M'!$F$78*(1+'DNSP Inputs O&M'!$F$11)","v":2.8300559084534167},{"$f":"'DNSP Inputs O&M'!$F$85","v":11},null,{"$f":"BC176*BD176","v":31.130614992987585},null,null,null,{"$f":"'DNSP Inputs O&M'!$F$78*(1+'DNSP Inputs O&M'!$F$11)","v":2.8300559084534167},{"$f":"'DNSP Inputs O&M'!$F$86","v":9},null,{"$f":"BJ176*BK176","v":25.470503176080751},null,null,null,null,null,{"$f":"'DNSP Inputs O&M'!$G$78","v":2.6952913413842063},{"$f":"'DNSP Inputs O&M'!$G$84","v":15},null,{"$f":"BS176*BT176","v":40.429370120763096},null,null,null,{"$f":"'DNSP Inputs O&M'!$G$78*(1+'DNSP Inputs O&M'!$G$11)","v":2.8300559084534167},{"$f":"'DNSP Inputs O&M'!$G$85","v":11},null,{"$f":"BZ176*CA176","v":31.130614992987585},null,null,null,{"$f":"'DNSP Inputs O&M'!$G$78*(1+'DNSP Inputs O&M'!$G$11)","v":2.8300559084534167},{"$f":"'DNSP Inputs O&M'!$G$86","v":9},null,{"$f":"CG176*CH176","v":25.470503176080751},null,null,null,null,null,{"$f":"'DNSP Inputs O&M'!$H$78","v":2.6952913413842063},{"$f":"'DNSP Inputs O&M'!$H$84","v":15},null,{"$f":"CP176*CQ176","v":40.429370120763096},null,null,null,{"$f":"'DNSP Inputs O&M'!$H$78*(1+'DNSP Inputs O&M'!$H$11)","v":2.8300559084534167},{"$f":"'DNSP Inputs O&M'!$H$85","v":11},null,{"$f":"CW176*CX176","v":31.130614992987585},null,null,null,{"$f":"'DNSP Inputs O&M'!$H$78*(1+'DNSP Inputs O&M'!$H$11)","v":2.8300559084534167},{"$f":"'DNSP Inputs O&M'!$H$86","v":9},null,{"$f":"DD176*DE176","v":25.470503176080751}]
["Labour - Patrol"]
["Crew costs",{"$f":"'DNSP Inputs O&M'!$D$13","v":143.47813587064053},{"$f":"'DNSP Inputs O&M'!$D$79","v":2},{"$f":"'DNSP Inputs O&M'!$D$17","v":7.5},{"$f":"B178*C178*D178","v":2152.172038059608},{"$f":"(E178+E179)/'DNSP Inputs O&M'!$D$81","v":0.80331567935320269},{"$f":"F178*'DNSP Inputs O&M'!$D$73","v":2.4099470380596082},null,{"$f":"'DNSP Inputs O&M'!$D$13","v":143.47813587064053},{"$f":"'DNSP Inputs O&M'!$D$79","v":2},{"$f":"'DNSP Inputs O&M'!$D$17","v":7.5},{"$f":"I178*J178*K178","v":2152.172038059608},{"$f":"(L178+L179)/'DNSP Inputs O&M'!$D$82","v":1.2049735190298041},{"$f":"M178*'DNSP Inputs O&M'!$D$73","v":3.6149205570894125},null,{"$f":"'DNSP Inputs O&M'!$D$13","v":143.47813587064053},{"$f":"'DNSP Inputs O&M'!$D$79","v":2},{"$f":"'DNSP Inputs O&M'!$D$17","v":7.5},{"$f":"P178*Q178*R178","v":2152.172038059608},{"$f":"(S178+S179)/'DNSP Inputs O&M'!$D$83","v":2.4099470380596082},{"$f":"T178*'DNSP Inputs O&M'!$D$73","v":7.229841114178825},null,null,null,{"$f":"'DNSP Inputs O&M'!$E$13","v":{"$error":"#REF!"}},{"$f":"'DNSP Inputs O&M'!$E$79","v":2},{"$f":"'DNSP Inputs O&M'!$E$17","v":7.5},{"$f":"Y178*Z178*AA178","v":{"$error":"#REF!"}},{"$f":"(AB178+AB179)/'DNSP Inputs O&M'!$E$81","v":{"$error":"#REF!"}},{"$f":"AC178*'DNSP Inputs O&M'!$E$73","v":{"$error":"#REF!"}},null,{"$f":"'DNSP Inputs O&M'!$E$13","v":{"$error":"#REF!"}},{"$f":"'DNSP Inputs O&M'!$E$79","v":2},{"$f":"'DNSP Inputs O&M'!$E$17","v":7.5},{"$f":"AF178*AG178*AH178","v":{"$error":"#REF!"}},{"$f":"(AI178+AI179)/'DNSP Inputs O&M'!$E$82","v":{"$error":"#REF!"}},{"$f":"AJ178*'DNSP Inputs O&M'!$E$73","v":{"$error":"#REF!"}},null,{"$f":"'DNSP Inputs O&M'!$E$13","v":{"$error":"#REF!"}},{"$f":"'DNSP Inputs O&M'!$E$79","v":2},{"$f":"'DNSP Inputs O&M'!$E$17","v":7.5},{"$f":"AM178*AN178*AO178","v":{"$error":"#REF!"}},{"$f":"(AP178+AP179)/'DNSP Inputs O&M'!$E$83","v":{"$error":"#REF!"}},{"$f":"AQ178*'DNSP Inputs O&M'!$E$73","v":{"$error":"#REF!"}},null,null,null,{"$f":"'DNSP Inputs O&M'!$F$13","v":{"$error":"#REF!"}},{"$f":"'DNSP Inputs O&M'!$F$79","v":2},{"$f":"'DNSP Inputs O&M'!$F$17","v":7.5},{"$f":"AV178*AW178*AX178","v":{"$error":"#REF!"}},{"$f":"(AY178+AY179)/'DNSP Inputs O&M'!$F$81","v":{"$error":"#REF!"}},{"$f":"AZ178*'DNSP Inputs O&M'!$F$73","v":{"$error":"#REF!"}},null,{"$f":"'DNSP Inputs O&M'!$F$13","v":{"$error":"#REF!"}},{"$f":"'DNSP Inputs O&M'!$F$79","v":2},{"$f":"'DNSP Inputs O&M'!$F$17","v":7.5},{"$f":"BC178*BD178*BE178","v":{"$error":"#REF!"}},{"$f":"(BF178+BF179)/'DNSP Inputs O&M'!$F$82","v":{"$error":"#REF!"}},{"$f":"BG178*'DNSP Inputs O&M'!$F$73","v":{"$error":"#REF!"}},null,{"$f":"'DNSP Inputs O&M'!$F$13","v":{"$error":"#REF!"}},{"$f":"'DNSP Inputs O&M'!$F$79","v":2},{"$f":"'DNSP Inputs O&M'!$F$17","v":7.5},{"$f":"BJ178*BK178*BL178","v":{"$error":"#REF!"}},{"$f":"(BM178+BM179)/'DNSP Inputs O&M'!$F$83","v":{"$error":"#REF!"}},{"$f":"BN178*'DNSP Inputs O&M'!$F$73","v":{"$error":"#REF!"}},null,null,null,{"$f":"'DNSP Inputs O&M'!$G$13","v":{"$error":"#REF!"}},{"$f":"'DNSP Inputs O&M'!$G$79","v":2},{"$f":"'DNSP Inputs O&M'!$G$17","v":7.5},{"$f":"BS178*BT178*BU178","v":{"$error":"#REF!"}},{"$f":"(BV178+BV179)/'DNSP Inputs O&M'!$G$81","v":{"$error":"#REF!"}},{"$f":"BW178*'DNSP Inputs O&M'!$G$73","v":{"$error":"#REF!"}},null,{"$f":"'DNSP Inputs O&M'!$G$13","v":{"$error":"#REF!"}},{"$f":"'DNSP Inputs O&M'!$G$79","v":2},{"$f":"'DNSP Inputs O&M'!$G$17","v":7.5},{"$f":"BZ178*CA178*CB178","v":{"$error":"#REF!"}},{"$f":"(CC178+CC179)/'DNSP Inputs O&M'!$G$82","v":{"$error":"#REF!"}},{"$f":"CD178*'DNSP Inputs O&M'!$G$73","v":{"$error":"#REF!"}},null,{"$f":"'DNSP Inputs O&M'!$G$13","v":{"$error":"#REF!"}},{"$f":"'DNSP Inputs O&M'!$G$79","v":2},{"$f":"'DNSP Inputs O&M'!$G$17","v":7.5},{"$f":"CG178*CH178*CI178","v":{"$error":"#REF!"}},{"$f":"(CJ178+CJ179)/'DNSP Inputs O&M'!$G$83","v":{"$error":"#REF!"}},{"$f":"CK178*'DNSP Inputs O&M'!$G$73","v":{"$error":"#REF!"}},null,null,null,{"$f":"'DNSP Inputs O&M'!$H$13","v":{"$error":"#REF!"}},{"$f":"'DNSP Inputs O&M'!$H$79","v":2},{"$f":"'DNSP Inputs O&M'!$H$17","v":7.5},{"$f":"CP178*CQ178*CR178","v":{"$error":"#REF!"}},{"$f":"(CS178+CS179)/'DNSP Inputs O&M'!$H$81","v":{"$error":"#REF!"}},{"$f":"CT178*'DNSP Inputs O&M'!$H$73","v":{"$error":"#REF!"}},null,{"$f":"'DNSP Inputs O&M'!$H$13","v":{"$error":"#REF!"}},{"$f":"'DNSP Inputs O&M'!$H$79","v":2},{"$f":"'DNSP Inputs O&M'!$H$17","v":7.5},{"$f":"CW178*CX178*CY178","v":{"$error":"#REF!"}},{"$f":"(CZ178+CZ179)/'DNSP Inputs O&M'!$H$82","v":{"$error":"#REF!"}},{"$f":"DA178*'DNSP Inputs O&M'!$H$73","v":{"$error":"#REF!"}},null,{"$f":"'DNSP Inputs O&M'!$H$13","v":{"$error":"#REF!"}},{"$f":"'DNSP Inputs O&M'!$H$79","v":2},{"$f":"'DNSP Inputs O&M'!$H$17","v":7.5},{"$f":"DD178*DE178*DF178","v":{"$error":"#REF!"}},{"$f":"(DG178+DG179)/'DNSP Inputs O&M'!$H$83","v":{"$error":"#REF!"}},{"$f":"DH178*'DNSP Inputs O&M'!$H$73","v":{"$error":"#REF!"}}]
["Vehicle costs",{"$f":"'DNSP Inputs O&M'!$D$16","v":34.369999999999997},1,{"$f":"'DNSP Inputs O&M'!$D$17","v":7.5},{"$f":"B179*C179*D179","v":257.77499999999998},null,null,null,{"$f":"'DNSP Inputs O&M'!$D$16","v":34.369999999999997},1,{"$f":"'DNSP Inputs O&M'!$D$17","v":7.5},{"$f":"I179*J179*K179","v":257.77499999999998},null,null,null,{"$f":"'DNSP Inputs O&M'!$D$16","v":34.369999999999997},1,{"$f":"'DNSP Inputs O&M'!$D$17","v":7.5},{"$f":"P179*Q179*R179","v":257.77499999999998},null,null,null,null,null,{"$f":"'DNSP Inputs O&M'!$E$16","v":34.369999999999997},1,{"$f":"'DNSP Inputs O&M'!$E$17","v":7.5},{"$f":"Y179*Z179*AA179","v":257.77499999999998},null,null,null,{"$f":"'DNSP Inputs O&M'!$E$16","v":34.369999999999997},1,{"$f":"'DNSP Inputs O&M'!$E$17","v":7.5},{"$f":"AF179*AG179*AH179","v":257.77499999999998},null,null,null,{"$f":"'DNSP Inputs O&M'!$E$16","v":34.369999999999997},1,{"$f":"'DNSP Inputs O&M'!$E$17","v":7.5},{"$f":"AM179*AN179*AO179","v":257.77499999999998},null,null,null,null,null,{"$f":"'DNSP Inputs O&M'!$F$16","v":34.369999999999997},1,{"$f":"'DNSP Inputs O&M'!$F$17","v":7.5},{"$f":"AV179*AW179*AX179","v":257.77499999999998},null,null,null,{"$f":"'DNSP Inputs O&M'!$F$16","v":34.369999999999997},1,{"$f":"'DNSP Inputs O&M'!$F$17","v":7.5},{"$f":"BC179*BD179*BE179","v":257.77499999999998},null,null,null,{"$f":"'DNSP Inputs O&M'!$F$16","v":34.369999999999997},1,{"$f":"'DNSP Inputs O&M'!$F$17","v":7.5},{"$f":"BJ179*BK179*BL179","v":257.77499999999998},null,null,null,null,null,{"$f":"'DNSP Inputs O&M'!$G$16","v":34.369999999999997},1,{"$f":"'DNSP Inputs O&M'!$G$17","v":7.5},{"$f":"BS179*BT179*BU179","v":257.77499999999998},null,null,null,{"$f":"'DNSP Inputs O&M'!$G$16","v":34.369999999999997},1,{"$f":"'DNSP Inputs O&M'!$G$17","v":7.5},{"$f":"BZ179*CA179*CB179","v":257.77499999999998},null,null,null,{"$f":"'DNSP Inputs O&M'!$G$16","v":34.369999999999997},1,{"$f":"'DNSP Inputs O&M'!$G$17","v":7.5},{"$f":"CG179*CH179*CI179","v":257.77499999999998},null,null,null,null,null,{"$f":"'DNSP Inputs O&M'!$H$16","v":34.369999999999997},1,{"$f":"'DNSP Inputs O&M'!$H$17","v":7.5},{"$f":"CP179*CQ179*CR179","v":257.77499999999998},null,null,null,{"$f":"'DNSP Inputs O&M'!$H$16","v":34.369999999999997},1,{"$f":"'DNSP Inputs O&M'!$H$17","v":7.5},{"$f":"CW179*CX179*CY179","v":257.77499999999998},null,null,null,{"$f":"'DNSP Inputs O&M'!$H$16","v":34.369999999999997},1,{"$f":"'DNSP Inputs O&M'!$H$17","v":7.5},{"$f":"DD179*DE179*DF179","v":257.77499999999998}]
["Labour - Repair of faults"]
["Crew costs",{"$f":"'DNSP Inputs O&M'!$D$12","v":111.36223236834823},{"$f":"'DNSP Inputs O&M'!$D$80","v":2},{"$f":"'DNSP Inputs O&M'!$D$17","v":7.5},{"$f":"B181*C181*D181","v":1670.4334855252234},{"$f":"(E181+E182)/'DNSP Inputs O&M'!$D$84*(C174+C175)/C174","v":214.77334855252232},{"$f":"F181/'DNSP Inputs O&M'!$D$74","v":42.954669710504461},null,{"$f":"'DNSP Inputs O&M'!$D$12","v":111.36223236834823},{"$f":"'DNSP Inputs O&M'!$D$80","v":2},{"$f":"'DNSP Inputs O&M'!$D$17","v":7.5},{"$f":"I181*J181*K181","v":1670.4334855252234},{"$f":"(L181+L182)/'DNSP Inputs O&M'!$D$85*(J174+J175)/J174","v":292.87274802616679},{"$f":"M181/'DNSP Inputs O&M'!$D$74","v":58.574549605233358},null,{"$f":"'DNSP Inputs O&M'!$D$12","v":111.36223236834823},{"$f":"'DNSP Inputs O&M'!$D$80","v":2},{"$f":"'DNSP Inputs O&M'!$D$17","v":7.5},{"$f":"P181*Q181*R181","v":1670.4334855252234},{"$f":"(S181+S182)/'DNSP Inputs O&M'!$D$86*(Q174+Q175)/Q174","v":357.95558092087055},{"$f":"T181/'DNSP Inputs O&M'!$D$74","v":71.591116184174112},null,null,null,{"$f":"'DNSP Inputs O&M'!$E$12","v":{"$error":"#REF!"}},{"$f":"'DNSP Inputs O&M'!$E$80","v":2},{"$f":"'DNSP Inputs O&M'!$E$17","v":7.5},{"$f":"Y181*Z181*AA181","v":{"$error":"#REF!"}},{"$f":"(AB181+AB182)/'DNSP Inputs O&M'!$E$84*(Z174+Z175)/Z174","v":{"$error":"#REF!"}},{"$f":"AC181/'DNSP Inputs O&M'!$E$74","v":{"$error":"#REF!"}},{"$f":"AC181*AA116","v":{"$error":"#REF!"}},{"$f":"'DNSP Inputs O&M'!$E$12","v":{"$error":"#REF!"}},{"$f":"'DNSP Inputs O&M'!$E$80","v":2},{"$f":"'DNSP Inputs O&M'!$E$17","v":7.5},{"$f":"AF181*AG181*AH181","v":{"$error":"#REF!"}},{"$f":"(AI181+AI182)/'DNSP Inputs O&M'!$E$85*(AG174+AG175)/AG174","v":{"$error":"#REF!"}},{"$f":"AJ181/'DNSP Inputs O&M'!$E$74","v":{"$error":"#REF!"}},{"$f":"AJ181*AA116","v":{"$error":"#REF!"}},{"$f":"'DNSP Inputs O&M'!$E$12","v":{"$error":"#REF!"}},{"$f":"'DNSP Inputs O&M'!$E$80","v":2},{"$f":"'DNSP Inputs O&M'!$E$17","v":7.5},{"$f":"AM181*AN181*AO181","v":{"$error":"#REF!"}},{"$f":"(AP181+AP182)/'DNSP Inputs O&M'!$E$86*(AN174+AN175)/AN174","v":{"$error":"#REF!"}},{"$f":"AQ181/'DNSP Inputs O&M'!$E$74","v":{"$error":"#REF!"}},{"$f":"AQ181*AA116","v":{"$error":"#REF!"}},null,null,{"$f":"'DNSP Inputs O&M'!$F$12","v":{"$error":"#REF!"}},{"$f":"'DNSP Inputs O&M'!$F$80","v":2},{"$f":"'DNSP Inputs O&M'!$F$17","v":7.5},{"$f":"AV181*AW181*AX181","v":{"$error":"#REF!"}},{"$f":"(AY181+AY182)/'DNSP Inputs O&M'!$F$84*(AW174+AW175)/AW174","v":{"$error":"#REF!"}},{"$f":"AZ181/'DNSP Inputs O&M'!$F$74","v":{"$error":"#REF!"}},{"$f":"AZ181*AX116","v":{"$error":"#REF!"}},{"$f":"'DNSP Inputs O&M'!$F$12","v":{"$error":"#REF!"}},{"$f":"'DNSP Inputs O&M'!$F$80","v":2},{"$f":"'DNSP Inputs O&M'!$F$17","v":7.5},{"$f":"BC181*BD181*BE181","v":{"$error":"#REF!"}},{"$f":"(BF181+BF182)/'DNSP Inputs O&M'!$F$85*(BD174+BD175)/BD174","v":{"$error":"#REF!"}},{"$f":"BG181/'DNSP Inputs O&M'!$F$74","v":{"$error":"#REF!"}},{"$f":"BG181*AX116","v":{"$error":"#REF!"}},{"$f":"'DNSP Inputs O&M'!$F$12","v":{"$error":"#REF!"}},{"$f":"'DNSP Inputs O&M'!$F$80","v":2},{"$f":"'DNSP Inputs O&M'!$F$17","v":7.5},{"$f":"BJ181*BK181*BL181","v":{"$error":"#REF!"}},{"$f":"(BM181+BM182)/'DNSP Inputs O&M'!$F$86*(BK174+BK175)/BK174","v":{"$error":"#REF!"}},{"$f":"BN181/'DNSP Inputs O&M'!$F$74","v":{"$error":"#REF!"}},{"$f":"BN181*AX116","v":{"$error":"#REF!"}},null,null,{"$f":"'DNSP Inputs O&M'!$G$12","v":{"$error":"#REF!"}},{"$f":"'DNSP Inputs O&M'!$G$80","v":2},{"$f":"'DNSP Inputs O&M'!$G$17","v":7.5},{"$f":"BS181*BT181*BU181","v":{"$error":"#REF!"}},{"$f":"(BV181+BV182)/'DNSP Inputs O&M'!$G$84*(BT174+BT175)/BT174","v":{"$error":"#REF!"}},{"$f":"BW181/'DNSP Inputs O&M'!$G$74","v":{"$error":"#REF!"}},{"$f":"BW181*AX116","v":{"$error":"#REF!"}},{"$f":"'DNSP Inputs O&M'!$G$12","v":{"$error":"#REF!"}},{"$f":"'DNSP Inputs O&M'!$G$80","v":2},{"$f":"'DNSP Inputs O&M'!$G$17","v":7.5},{"$f":"BZ181*CA181*CB181","v":{"$error":"#REF!"}},{"$f":"(CC181+CC182)/'DNSP Inputs O&M'!$G$85*(CA174+CA175)/CA174","v":{"$error":"#REF!"}},{"$f":"CD181/'DNSP Inputs O&M'!$G$74","v":{"$error":"#REF!"}},{"$f":"CD181*AX116","v":{"$error":"#REF!"}},{"$f":"'DNSP Inputs O&M'!$G$12","v":{"$error":"#REF!"}},{"$f":"'DNSP Inputs O&M'!$G$80","v":2},{"$f":"'DNSP Inputs O&M'!$G$17","v":7.5},{"$f":"CG181*CH181*CI181","v":{"$error":"#REF!"}},{"$f":"(CJ181+CJ182)/'DNSP Inputs O&M'!$G$86*(CH174+CH175)/CH174","v":{"$error":"#REF!"}},{"$f":"CK181/'DNSP Inputs O&M'!$G$74","v":{"$error":"#REF!"}},{"$f":"CK181*AX116","v":{"$error":"#REF!"}},null,null,{"$f":"'DNSP Inputs O&M'!$H$12","v":{"$error":"#REF!"}},{"$f":"'DNSP Inputs O&M'!$H$80","v":2},{"$f":"'DNSP Inputs O&M'!$H$17","v":7.5},{"$f":"CP181*CQ181*CR181","v":{"$error":"#REF!"}},{"$f":"(CS181+CS182)/'DNSP Inputs O&M'!$H$84*(CQ174+CQ175)/CQ174","v":{"$error":"#REF!"}},{"$f":"CT181/'DNSP Inputs O&M'!$H$74","v":{"$error":"#REF!"}},{"$f":"CT181*BU116","v":{"$error":"#REF!"}},{"$f":"'DNSP Inputs O&M'!$H$12","v":{"$error":"#REF!"}},{"$f":"'DNSP Inputs O&M'!$H$80","v":2},{"$f":"'DNSP Inputs O&M'!$H$17","v":7.5},{"$f":"CW181*CX181*CY181","v":{"$error":"#REF!"}},{"$f":"(CZ181+CZ182)/'DNSP Inputs O&M'!$H$85*(CX174+CX175)/CX174","v":{"$error":"#REF!"}},{"$f":"DA181/'DNSP Inputs O&M'!$H$74","v":{"$error":"#REF!"}},{"$f":"DA181*BU116","v":{"$error":"#REF!"}},{"$f":"'DNSP Inputs O&M'!$H$12","v":{"$error":"#REF!"}},{"$f":"'DNSP Inputs O&M'!$H$80","v":2},{"$f":"'DNSP Inputs O&M'!$H$17","v":7.5},{"$f":"DD181*DE181*DF181","v":{"$error":"#REF!"}},{"$f":"(DG181+DG182)/'DNSP Inputs O&M'!$H$86*(DE174+DE175)/DE174","v":{"$error":"#REF!"}},{"$f":"DH181/'DNSP Inputs O&M'!$H$74","v":{"$error":"#REF!"}},{"$f":"DH181*BU116","v":{"$error":"#REF!"}}]
["Elevated platform vehicle costs",{"$f":"'DNSP Inputs O&M'!$D$15","v":63.64},1,{"$f":"'DNSP Inputs O&M'!$D$17","v":7.5},{"$f":"B182*C182*D182","v":477.3},null,null,null,{"$f":"'DNSP Inputs O&M'!$D$15","v":63.64},1,{"$f":"'DNSP Inputs O&M'!$D$17","v":7.5},{"$f":"I182*J182*K182","v":477.3},null,null,null,{"$f":"'DNSP Inputs O&M'!$D$15","v":63.64},1,{"$f":"'DNSP Inputs O&M'!$D$17","v":7.5},{"$f":"P182*Q182*R182","v":477.3},null,null,null,null,null,{"$f":"'DNSP Inputs O&M'!$E$15","v":63.64},1,{"$f":"'DNSP Inputs O&M'!$E$17","v":7.5},{"$f":"Y182*Z182*AA182","v":477.3},null,null,null,{"$f":"'DNSP Inputs O&M'!$E$15","v":63.64},1,{"$f":"'DNSP Inputs O&M'!$E$17","v":7.5},{"$f":"AF182*AG182*AH182","v":477.3},null,null,null,{"$f":"'DNSP Inputs O&M'!$E$15","v":63.64},1,{"$f":"'DNSP Inputs O&M'!$E$17","v":7.5},{"$f":"AM182*AN182*AO182","v":477.3},null,null,null,null,null,{"$f":"'DNSP Inputs O&M'!$F$15","v":63.64},1,{"$f":"'DNSP Inputs O&M'!$F$17","v":7.5},{"$f":"AV182*AW182*AX182","v":477.3},null,null,null,{"$f":"'DNSP Inputs O&M'!$F$15","v":63.64},1,{"$f":"'DNSP Inputs O&M'!$F$17","v":7.5},{"$f":"BC182*BD182*BE182","v":477.3},null,null,null,{"$f":"'DNSP Inputs O&M'!$F$15","v":63.64},1,{"$f":"'DNSP Inputs O&M'!$F$17","v":7.5},{"$f":"BJ182*BK182*BL182","v":477.3},null,null,null,null,null,{"$f":"'DNSP Inputs O&M'!$G$15","v":63.64},1,{"$f":"'DNSP Inputs O&M'!$G$17","v":7.5},{"$f":"BS182*BT182*BU182","v":477.3},null,null,null,{"$f":"'DNSP Inputs O&M'!$G$15","v":63.64},1,{"$f":"'DNSP Inputs O&M'!$G$17","v":7.5},{"$f":"BZ182*CA182*CB182","v":477.3},null,null,null,{"$f":"'DNSP Inputs O&M'!$G$15","v":63.64},1,{"$f":"'DNSP Inputs O&M'!$G$17","v":7.5},{"$f":"CG182*CH182*CI182","v":477.3},null,null,null,null,null,{"$f":"'DNSP Inputs O&M'!$H$15","v":63.64},1,{"$f":"'DNSP Inputs O&M'!$H$17","v":7.5},{"$f":"CP182*CQ182*CR182","v":477.3},null,null,null,{"$f":"'DNSP Inputs O&M'!$H$15","v":63.64},1,{"$f":"'DNSP Inputs O&M'!$H$17","v":7.5},{"$f":"CW182*CX182*CY182","v":477.3},null,null,null,{"$f":"'DNSP Inputs O&M'!$H$15","v":63.64},1,{"$f":"'DNSP Inputs O&M'!$H$17","v":7.5},{"$f":"DD182*DE182*DF182","v":477.3}]
[]
["Other Maintenance and Repair costs",null,null,null,null,null,{"$f":"'DNSP Inputs O&M'!$D$93","v":{"$error":"#REF!"}},null,null,null,null,null,null,{"$f":"'DNSP Inputs O&M'!$D$93","v":{"$error":"#REF!"}},null,null,null,null,null,null,{"$f":"'DNSP Inputs O&M'!$D$93","v":{"$error":"#REF!"}},null,null,null,null,null,null,null,null,{"$f":"'DNSP Inputs O&M'!$E$93","v":{"$error":"#REF!"}},null,null,null,null,null,null,{"$f":"'DNSP Inputs O&M'!$E$93","v":{"$error":"#REF!"}},null,null,null,null,null,null,{"$f":"'DNSP Inputs O&M'!$E$93","v":{"$error":"#REF!"}},null,null,null,null,null,null,null,null,{"$f":"'DNSP Inputs O&M'!$F$93","v":{"$error":"#REF!"}},null,null,null,null,null,null,{"$f":"'DNSP Inputs O&M'!$F$93","v":{"$error":"#REF!"}},null,null,null,null,null,null,{"$f":"'DNSP Inputs O&M'!$F$93","v":{"$error":"#REF!"}},null,null,null,null,null,null,null,null,{"$f":"'DNSP Inputs O&M'!$G$93","v":{"$error":"#REF!"}},null,null,null,null,null,null,{"$f":"'DNSP Inputs O&M'!$G$93","v":{"$error":"#REF!"}},null,null,null,null,null,null,{"$f":"'DNSP Inputs O&M'!$G$93","v":{"$error":"#REF!"}},null,null,null,null,null,null,null,null,{"$f":"'DNSP Inputs O&M'!$H$93","v":{"$error":"#REF!"}},null,null,null,null,null,null,{"$f":"'DNSP Inputs O&M'!$H$93","v":{"$error":"#REF!"}},null,null,null,null,null,null,{"$f":"'DNSP Inputs O&M'!$H$93","v":{"$error":"#REF!"}}]
[]
["Overheads",{"$f":"'DNSP Inputs O&M'!$D$18","v":0.25},null,null,null,null,{"$f":"B186*(G174+G178+G181+G184)","v":{"$error":"#REF!"}},null,{"$f":"'DNSP Inputs O&M'!$D$18","v":0.25},null,null,null,null,{"$f":"I186*(N174+N178+N181+N184)","v":{"$error":"#REF!"}},null,{"$f":"'DNSP Inputs O&M'!$D$18","v":0.25},null,null,null,null,{"$f":"P186*(U174+U178+U181+U184)","v":{"$error":"#REF!"}},null,null,null,{"$f":"'DNSP Inputs O&M'!$E$18","v":0.25},null,null,null,null,{"$f":"Y186*(AD174+AD178+AD181+AD184)","v":{"$error":"#REF!"}},null,{"$f":"'DNSP Inputs O&M'!$E$18","v":0.25},null,null,null,null,{"$f":"AF186*(AK174+AK178+AK181+AK184)","v":{"$error":"#REF!"}},null,{"$f":"'DNSP Inputs O&M'!$E$18","v":0.25},null,null,null,null,{"$f":"AM186*(AR174+AR178+AR181+AR184)","v":{"$error":"#REF!"}},null,null,null,{"$f":"'DNSP Inputs O&M'!$F$18","v":0.25},null,null,null,null,{"$f":"AV186*(BA174+BA178+BA181+BA184)","v":{"$error":"#REF!"}},null,{"$f":"'DNSP Inputs O&M'!$F$18","v":0.25},null,null,null,null,{"$f":"BC186*(BH174+BH178+BH181+BH184)","v":{"$error":"#REF!"}},null,{"$f":"'DNSP Inputs O&M'!$F$18","v":0.25},null,null,null,null,{"$f":"BJ186*(BO174+BO178+BO181+BO184)","v":{"$error":"#REF!"}},null,null,null,{"$f":"'DNSP Inputs O&M'!$G$18","v":0.25},null,null,null,null,{"$f":"BS186*(BX174+BX178+BX181+BX184)","v":{"$error":"#REF!"}},null,{"$f":"'DNSP Inputs O&M'!$G$18","v":0.25},null,null,null,null,{"$f":"BZ186*(CE174+CE178+CE181+CE184)","v":{"$error":"#REF!"}},null,{"$f":"'DNSP Inputs O&M'!$G$18","v":0.25},null,null,null,null,{"$f":"CG186*(CL174+CL178+CL181+CL184)","v":{"$error":"#REF!"}},null,null,null,{"$f":"'DNSP Inputs O&M'!$H$18","v":0.25},null,null,null,null,{"$f":"CP186*(CU174+CU178+CU181+CU184)","v":{"$error":"#REF!"}},null,{"$f":"'DNSP Inputs O&M'!$H$18","v":0.25},null,null,null,null,{"$f":"CW186*(DB174+DB178+DB181+DB184)","v":{"$error":"#REF!"}},null,{"$f":"'DNSP Inputs O&M'!$H$18","v":0.25},null,null,null,null,{"$f":"DD186*(DI174+DI178+DI181+DI184)","v":{"$error":"#REF!"}}]
[]
[null,null,null,null,null,null,{"$f":"SUM(G174,G178,G181,G184,G186)","v":{"$error":"#REF!"}},null,null,null,null,null,null,{"$f":"SUM(N174,N178,N181,N184,N186)","v":{"$error":"#REF!"}},null,null,null,null,null,null,{"$f":"SUM(U174,U178,U181,U184,U186)","v":{"$error":"#REF!"}},null,null,null,null,null,null,null,null,{"$f":"SUM(AD174,AD178,AD181,AD184,AD186)","v":{"$error":"#REF!"}},null,null,null,null,null,null,{"$f":"SUM(AK174,AK178,AK181,AK184,AK186)","v":{"$error":"#REF!"}},null,null,null,null,null,null,{"$f":"SUM(AR174,AR178,AR181,AR184,AR186)","v":{"$error":"#REF!"}},null,null,null,null,null,null,null,null,{"$f":"SUM(BA174,BA178,BA181,BA184,BA186)","v":{"$error":"#REF!"}},null,null,null,null,null,null,{"$f":"SUM(BH174,BH178,BH181,BH184,BH186)","v":{"$error":"#REF!"}},null,null,null,null,null,null,{"$f":"SUM(BO174,BO178,BO181,BO184,BO186)","v":{"$error":"#REF!"}},null,null,null,null,null,null,null,null,{"$f":"SUM(BX174,BX178,BX181,BX184,BX186)","v":{"$error":"#REF!"}},null,null,null,null,null,null,{"$f":"SUM(CE174,CE178,CE181,CE184,CE186)","v":{"$error":"#REF!"}},null,null,null,null,null,null,{"$f":"SUM(CL174,CL178,CL181,CL184,CL186)","v":{"$error":"#REF!"}},null,null,null,null,null,null,null,null,{"$f":"SUM(CU174,CU178,CU181,CU184,CU186)","v":{"$error":"#REF!"}},null,null,null,null,null,null,{"$f":"SUM(DB174,DB178,DB181,DB184,DB186)","v":{"$error":"#REF!"}},null,null,null,null,null,null,{"$f":"SUM(DI174,DI178,DI181,DI184,DI186)","v":{"$error":"#REF!"}}]
[]
[]
[]
[]
["Sodium High Pressure 250 Watt Standard Light Type - Cost build-up"]
[]
["Additional assumptions"]
["Overheads are applied to material and labour components"]
["All costs and charges are exclusive of GST"]
[]
[null,"Urban",null,null,null,null,null,null,"Rural",null,null,null,null,null,null,"Remote",null,null,null,null,null,null,null,null,"Urban",null,null,null,null,null,null,"Rural",null,null,null,null,null,null,"Remote",null,null,null,null,null,null,null,null,"Urban",null,null,null,null,null,null,"Rural",null,null,null,null,null,null,"Remote",null,null,null,null,null,null,null,null,"Urban",null,null,null,null,null,null,"Rural",null,null,null,null,null,null,"Remote",null,null,null,null,null,null,null,null,"Urban",null,null,null,null,null,null,"Rural",null,null,null,null,null,null,"Remote"]
[]
[null,"Unit rate","Number","Hours","Cost","Annualised","Annualised",null,"Unit rate","Number","Hours","Cost","Annualised","Annualised",null,"Unit rate","Number","Hours","Cost","Annualised","Annualised",null,null,null,"Unit rate","Number","Hours","Cost","Annualised","Annualised",null,"Unit rate","Number","Hours","Cost","Annualised","Annualised",null,"Unit rate","Number","Hours","Cost","Annualised","Annualised",null,null,null,"Unit rate","Number","Hours","Cost","Annualised","Annualised",null,"Unit rate","Number","Hours","Cost","Annualised","Annualised",null,"Unit rate","Number","Hours","Cost","Annualised","Annualised",null,null,null,"Unit rate","Number","Hours","Cost","Annualised","Annualised",null,"Unit rate","Number","Hours","Cost","Annualised","Annualised",null,"Unit rate","Number","Hours","Cost","Annualised","Annualised",null,null,null,"Unit rate","Number","Hours","Cost","Annualised","Annualised",null,"Unit rate","Number","Hours","Cost","Annualised","Annualised",null,"Unit rate","Number","Hours","Cost","Annualised","Annualised"]
[null,null,null,null,null," cost","unit cost",null,null,null,null,null," cost","unit cost",null,null,null,null,null," cost","unit cost",null,null,null,null,null,null,null," cost","unit cost",null,null,null,null,null," cost","unit cost",null,null,null,null,null," cost","unit cost",null,null,null,null,null,null,null," cost","unit cost",null,null,null,null,null," cost","unit cost",null,null,null,null,null," cost","unit cost",null,null,null,null,null,null,null," cost","unit cost",null,null,null,null,null," cost","unit cost",null,null,null,null,null," cost","unit cost",null,null,null,null,null,null,null," cost","unit cost",null,null,null,null,null," cost","unit cost",null,null,null,null,null," cost","unit cost"]
["S-HP 250"]
["Materials - bulk lamp change"]
["Lamp",null,null,null,null,null,null,null,null,null,null,null,null,null,null,null,null,null,null,null,null,null,null,null,{"$f":"'DNSP Inputs O&M'!$E$119","v":21.28},{"$f":"'DNSP Inputs O&M'!$E$34","v":86},null,{"$f":"Y205*Z205","v":1830.0800000000002},{"$f":"AB205/'DNSP Inputs O&M'!$E$74*0.8","v":292.81280000000004},{"$f":"(AC205+AC206+AC207)/Z205","v":6.3166276272681987},null,{"$f":"'DNSP Inputs O&M'!$E$119*(1+'DNSP Inputs O&M'!$E$11)","v":22.344000000000001},{"$f":"'DNSP Inputs O&M'!$E$35","v":72},null,{"$f":"AF205*AG205","v":1608.768},{"$f":"AI205/'DNSP Inputs O&M'!$E$25*0.8","v":321.75360000000001},{"$f":"(AJ205+AJ206+AJ207)/AG205","v":8.2905737607895116},null,{"$f":"'DNSP Inputs O&M'!$E$119*(1+'DNSP Inputs O&M'!$E$11)","v":22.344000000000001},{"$f":"'DNSP Inputs O&M'!$E$36","v":60},null,{"$f":"AM205*AN205","v":1340.64},{"$f":"AP205/'DNSP Inputs O&M'!$E$25*0.8","v":268.12800000000004},{"$f":"(AQ205+AQ206+AQ207)/AN205","v":8.2905737607895116},null,null,null,{"$f":"'DNSP Inputs O&M'!$F$119","v":21.28},{"$f":"'DNSP Inputs O&M'!$F$34","v":86},null,{"$f":"AV205*AW205","v":1830.0800000000002},{"$f":"AY205/'DNSP Inputs O&M'!$F$74*0.8","v":292.81280000000004},{"$f":"(AZ205+AZ206+AZ207)/AW205","v":6.3166276272681987},null,{"$f":"'DNSP Inputs O&M'!$F$119*(1+'DNSP Inputs O&M'!$F$11)","v":22.344000000000001},{"$f":"'DNSP Inputs O&M'!$F$35","v":72},null,{"$f":"BC205*BD205","v":1608.768},{"$f":"BF205/'DNSP Inputs O&M'!$F$25*0.8","v":321.75360000000001},{"$f":"(BG205+BG206+BG207)/BD205","v":8.2905737607895116},null,{"$f":"'DNSP Inputs O&M'!$F$119*(1+'DNSP Inputs O&M'!$F$11)","v":22.344000000000001},{"$f":"'DNSP Inputs O&M'!$F$36","v":60},null,{"$f":"BJ205*BK205","v":1340.64},{"$f":"BM205/'DNSP Inputs O&M'!$F$25*0.8","v":268.12800000000004},{"$f":"(BN205+BN206+BN207)/BK205","v":8.2905737607895116},null,null,null,{"$f":"'DNSP Inputs O&M'!$G$119","v":21.28},{"$f":"'DNSP Inputs O&M'!$G$34","v":86},null,{"$f":"BS205*BT205","v":1830.0800000000002},{"$f":"BV205/'DNSP Inputs O&M'!$G$74*0.8","v":292.81280000000004},{"$f":"(BW205+BW206+BW207)/BT205","v":6.3166276272681987},null,{"$f":"'DNSP Inputs O&M'!$G$119*(1+'DNSP Inputs O&M'!$G$11)","v":22.344000000000001},{"$f":"'DNSP Inputs O&M'!$G$35","v":72},null,{"$f":"BZ205*CA205","v":1608.768},{"$f":"CC205/'DNSP Inputs O&M'!$G$25*0.8","v":321.75360000000001},{"$f":"(CD205+CD206+CD207)/CA205","v":8.2905737607895116},null,{"$f":"'DNSP Inputs O&M'!$G$119*(1+'DNSP Inputs O&M'!$G$11)","v":22.344000000000001},{"$f":"'DNSP Inputs O&M'!$G$36","v":60},null,{"$f":"CG205*CH205","v":1340.64},{"$f":"CJ205/'DNSP Inputs O&M'!$G$25*0.8","v":268.12800000000004},{"$f":"(CK205+CK206+CK207)/CH205","v":8.2905737607895116},null,null,null,{"$f":"'DNSP Inputs O&M'!$H$119","v":21.28},{"$f":"'DNSP Inputs O&M'!$H$34","v":86},null,{"$f":"CP205*CQ205","v":1830.0800000000002},{"$f":"CS205/'DNSP Inputs O&M'!$H$74*0.8","v":292.81280000000004},{"$f":"(CT205+CT206+CT207)/CQ205","v":6.3166276272681987},null,{"$f":"'DNSP Inputs O&M'!$H$119*(1+'DNSP Inputs O&M'!$H$11)","v":22.344000000000001},{"$f":"'DNSP Inputs O&M'!$H$35","v":72},null,{"$f":"CW205*CX205","v":1608.768},{"$f":"CZ205/'DNSP Inputs O&M'!$H$25*0.8","v":321.75360000000001},{"$f":"(DA205+DA206+DA207)/CX205","v":8.2905737607895116},null,{"$f":"'DNSP Inputs O&M'!$H$119*(1+'DNSP Inputs O&M'!$H$11)","v":22.344000000000001},{"$f":"'DNSP Inputs O&M'!$H$36","v":60},null,{"$f":"DD205*DE205","v":1340.64},{"$f":"DG205/'DNSP Inputs O&M'!$H$25*0.8","v":268.12800000000004},{"$f":"(DH205+DH206+DH207)/DE205","v":8.2905737607895116}]
["PE cell",null,null,null,null,null,null,null,null,null,null,null,null,null,null,null,null,null,null,null,null,null,null,null,{"$f":"'DNSP Inputs O&M'!$E$120","v":25.041364999999999},{"$f":"Z205*'DNSP Inputs O&M'!$E$117/'DNSP Inputs O&M'!$E$118","v":43},null,{"$f":"Y206*Z206","v":1076.778695},{"$f":"AB206/'DNSP Inputs O&M'!$E$74","v":215.355739},null,null,{"$f":"'DNSP Inputs O&M'!$E$120*(1+'DNSP Inputs O&M'!$E$11)","v":26.29343325},{"$f":"AG205*'DNSP Inputs O&M'!$E$117/'DNSP Inputs O&M'!$E$118","v":36},null,{"$f":"AF206*AG206","v":946.56359699999996},{"$f":"AI206/'DNSP Inputs O&M'!$E$25","v":236.64089924999999},null,null,{"$f":"'DNSP Inputs O&M'!$E$120*(1+'DNSP Inputs O&M'!$E$11)","v":26.29343325},{"$f":"AN205*'DNSP Inputs O&M'!$E$117/'DNSP Inputs O&M'!$E$118","v":30},null,{"$f":"AM206*AN206","v":788.80299749999995},{"$f":"AP206/'DNSP Inputs O&M'!$E$25","v":197.20074937499999},null,null,null,null,{"$f":"'DNSP Inputs O&M'!$F$120","v":25.041364999999999},{"$f":"AW205*'DNSP Inputs O&M'!$F$117/'DNSP Inputs O&M'!$F$118","v":43},null,{"$f":"AV206*AW206","v":1076.778695},{"$f":"AY206/'DNSP Inputs O&M'!$F$74","v":215.355739},null,null,{"$f":"'DNSP Inputs O&M'!$F$120*(1+'DNSP Inputs O&M'!$F$11)","v":26.29343325},{"$f":"BD205*'DNSP Inputs O&M'!$F$117/'DNSP Inputs O&M'!$F$118","v":36},null,{"$f":"BC206*BD206","v":946.56359699999996},{"$f":"BF206/'DNSP Inputs O&M'!$F$25","v":236.64089924999999},null,null,{"$f":"'DNSP Inputs O&M'!$F$120*(1+'DNSP Inputs O&M'!$F$11)","v":26.29343325},{"$f":"BK205*'DNSP Inputs O&M'!$F$117/'DNSP Inputs O&M'!$F$118","v":30},null,{"$f":"BJ206*BK206","v":788.80299749999995},{"$f":"BM206/'DNSP Inputs O&M'!$F$25","v":197.20074937499999},null,null,null,null,{"$f":"'DNSP Inputs O&M'!$G$120","v":25.041364999999999},{"$f":"BT205*'DNSP Inputs O&M'!$G$117/'DNSP Inputs O&M'!$G$118","v":43},null,{"$f":"BS206*BT206","v":1076.778695},{"$f":"BV206/'DNSP Inputs O&M'!$G$74","v":215.355739},null,null,{"$f":"'DNSP Inputs O&M'!$G$120*(1+'DNSP Inputs O&M'!$G$11)","v":26.29343325},{"$f":"CA205*'DNSP Inputs O&M'!$G$117/'DNSP Inputs O&M'!$G$118","v":36},null,{"$f":"BZ206*CA206","v":946.56359699999996},{"$f":"CC206/'DNSP Inputs O&M'!$G$25","v":236.64089924999999},null,null,{"$f":"'DNSP Inputs O&M'!$G$120*(1+'DNSP Inputs O&M'!$G$11)","v":26.29343325},{"$f":"CH205*'DNSP Inputs O&M'!$G$117/'DNSP Inputs O&M'!$G$118","v":30},null,{"$f":"CG206*CH206","v":788.80299749999995},{"$f":"CJ206/'DNSP Inputs O&M'!$G$25","v":197.20074937499999},null,null,null,null,{"$f":"'DNSP Inputs O&M'!$H$120","v":25.041364999999999},{"$f":"CQ205*'DNSP Inputs O&M'!$H$117/'DNSP Inputs O&M'!$H$118","v":43},null,{"$f":"CP206*CQ206","v":1076.778695},{"$f":"CS206/'DNSP Inputs O&M'!$H$74","v":215.355739},null,null,{"$f":"'DNSP Inputs O&M'!$H$120*(1+'DNSP Inputs O&M'!$H$11)","v":26.29343325},{"$f":"CX205*'DNSP Inputs O&M'!$H$117/'DNSP Inputs O&M'!$H$118","v":36},null,{"$f":"CW206*CX206","v":946.56359699999996},{"$f":"CZ206/'DNSP Inputs O&M'!$H$25","v":236.64089924999999},null,null,{"$f":"'DNSP Inputs O&M'!$H$120*(1+'DNSP Inputs O&M'!$H$11)","v":26.29343325},{"$f":"DE205*'DNSP Inputs O&M'!$H$117/'DNSP Inputs O&M'!$H$118","v":30},null,{"$f":"DD206*DE206","v":788.80299749999995},{"$f":"DG206/'DNSP Inputs O&M'!$H$25","v":197.20074937499999}]
["Miscellaneous",null,null,null,null,null,null,null,null,null,null,null,null,null,null,null,null,null,null,null,null,null,null,null,{"$f":"'DNSP Inputs O&M'!$E$121","v":2.548069545426245},{"$f":"'DNSP Inputs O&M'!$E$34","v":86},null,{"$f":"Y207*Z207","v":219.13398090665706},{"$f":"AB207/'DNSP Inputs O&M'!$E$74*0.8","v":35.061436945065132},null,null,{"$f":"'DNSP Inputs O&M'!$E$121*(1+'DNSP Inputs O&M'!$E$11)","v":2.6754730226975574},{"$f":"'DNSP Inputs O&M'!$E$35","v":72},null,{"$f":"AF207*AG207","v":192.63405763422412},{"$f":"AI207/'DNSP Inputs O&M'!$E$25*0.8","v":38.526811526844824},null,null,{"$f":"'DNSP Inputs O&M'!$E$121*(1+'DNSP Inputs O&M'!$E$11)","v":2.6754730226975574},{"$f":"'DNSP Inputs O&M'!$E$36","v":60},null,{"$f":"AM207*AN207","v":160.52838136185343},{"$f":"AP207/'DNSP Inputs O&M'!$E$25*0.8","v":32.105676272370687},null,null,null,null,{"$f":"'DNSP Inputs O&M'!$F$121","v":2.548069545426245},{"$f":"'DNSP Inputs O&M'!$F$34","v":86},null,{"$f":"AV207*AW207","v":219.13398090665706},{"$f":"AY207/'DNSP Inputs O&M'!$F$74*0.8","v":35.061436945065132},null,null,{"$f":"'DNSP Inputs O&M'!$F$121*(1+'DNSP Inputs O&M'!$F$11)","v":2.6754730226975574},{"$f":"'DNSP Inputs O&M'!$F$35","v":72},null,{"$f":"BC207*BD207","v":192.63405763422412},{"$f":"BF207/'DNSP Inputs O&M'!$F$25*0.8","v":38.526811526844824},null,null,{"$f":"'DNSP Inputs O&M'!$F$121*(1+'DNSP Inputs O&M'!$F$11)","v":2.6754730226975574},{"$f":"'DNSP Inputs O&M'!$F$36","v":60},null,{"$f":"BJ207*BK207","v":160.52838136185343},{"$f":"BM207/'DNSP Inputs O&M'!$F$25*0.8","v":32.105676272370687},null,null,null,null,{"$f":"'DNSP Inputs O&M'!$G$121","v":2.548069545426245},{"$f":"'DNSP Inputs O&M'!$G$34","v":86},null,{"$f":"BS207*BT207","v":219.13398090665706},{"$f":"BV207/'DNSP Inputs O&M'!$G$74*0.8","v":35.061436945065132},null,null,{"$f":"'DNSP Inputs O&M'!$G$121*(1+'DNSP Inputs O&M'!$G$11)","v":2.6754730226975574},{"$f":"'DNSP Inputs O&M'!$G$35","v":72},null,{"$f":"BZ207*CA207","v":192.63405763422412},{"$f":"CC207/'DNSP Inputs O&M'!$G$25*0.8","v":38.526811526844824},null,null,{"$f":"'DNSP Inputs O&M'!$G$121*(1+'DNSP Inputs O&M'!$G$11)","v":2.6754730226975574},{"$f":"'DNSP Inputs O&M'!$G$36","v":60},null,{"$f":"CG207*CH207","v":160.52838136185343},{"$f":"CJ207/'DNSP Inputs O&M'!$G$25*0.8","v":32.105676272370687},null,null,null,null,{"$f":"'DNSP Inputs O&M'!$H$121","v":2.548069545426245},{"$f":"'DNSP Inputs O&M'!$H$34","v":86},null,{"$f":"CP207*CQ207","v":219.13398090665706},{"$f":"CS207/'DNSP Inputs O&M'!$H$74*0.8","v":35.061436945065132},null,null,{"$f":"'DNSP Inputs O&M'!$H$121*(1+'DNSP Inputs O&M'!$H$11)","v":2.6754730226975574},{"$f":"'DNSP Inputs O&M'!$H$35","v":72},null,{"$f":"CW207*CX207","v":192.63405763422412},{"$f":"CZ207/'DNSP Inputs O&M'!$H$25*0.8","v":38.526811526844824},null,null,{"$f":"'DNSP Inputs O&M'!$H$121*(1+'DNSP Inputs O&M'!$H$11)","v":2.6754730226975574},{"$f":"'DNSP Inputs O&M'!$H$36","v":60},null,{"$f":"DD207*DE207","v":160.52838136185343},{"$f":"DG207/'DNSP Inputs O&M'!$H$25*0.8","v":32.105676272370687}]
[]
[]
["Patrols and repairs"]
["Materials"]
["Lamp",{"$f":"'DNSP Inputs O&M'!$D$119","v":21.28},{"$f":"'DNSP Inputs O&M'!$D$84","v":15},null,{"$f":"B212*C212","v":319.20000000000005},{"$f":"(E212+E213+E214)/'DNSP Inputs O&M'!$D$84","v":36.348752045426252},{"$f":"F212/'DNSP Inputs O&M'!$D$74","v":7.2697504090852503},null,{"$f":"'DNSP Inputs O&M'!$D$119*(1+'DNSP Inputs O&M'!$D$11)","v":22.344000000000001},{"$f":"'DNSP Inputs O&M'!$D$85","v":11},null,{"$f":"I212*J212","v":245.78400000000002},{"$f":"(L212+L213+L214)/'DNSP Inputs O&M'!$D$85","v":38.166189647697564},{"$f":"M212/'DNSP Inputs O&M'!$D$74","v":7.6332379295395132},null,{"$f":"'DNSP Inputs O&M'!$D$119*(1+'DNSP Inputs O&M'!$D$11)","v":22.344000000000001},{"$f":"'DNSP Inputs O&M'!$D$85","v":11},null,{"$f":"P212*Q212","v":245.78400000000002},{"$f":"(S212+S213+S214)/'DNSP Inputs O&M'!$D$85","v":38.166189647697564},{"$f":"T212/'DNSP Inputs O&M'!$D$74","v":7.6332379295395132},null,null,null,{"$f":"'DNSP Inputs O&M'!$E$119","v":21.28},{"$f":"'DNSP Inputs O&M'!$E$84","v":15},null,{"$f":"Y212*Z212","v":319.20000000000005},{"$f":"(AB212+AB213+AB214)/'DNSP Inputs O&M'!$E$84","v":36.348752045426252},{"$f":"AC212/'DNSP Inputs O&M'!$E$74","v":7.2697504090852503},{"$f":"AC212*AA116","v":1.76444568212983},{"$f":"'DNSP Inputs O&M'!$E$119*(1+'DNSP Inputs O&M'!$E$11)","v":22.344000000000001},{"$f":"'DNSP Inputs O&M'!$E$85","v":11},null,{"$f":"AF212*AG212","v":245.78400000000002},{"$f":"(AI212+AI213+AI214)/'DNSP Inputs O&M'!$E$85","v":38.166189647697564},{"$f":"AJ212/'DNSP Inputs O&M'!$E$74","v":7.6332379295395132},{"$f":"AJ212*AA116","v":1.8526679662363215},{"$f":"'DNSP Inputs O&M'!$E$119*(1+'DNSP Inputs O&M'!$E$11)","v":22.344000000000001},{"$f":"'DNSP Inputs O&M'!$E$85","v":11},null,{"$f":"AM212*AN212","v":245.78400000000002},{"$f":"(AP212+AP213+AP214)/'DNSP Inputs O&M'!$E$86","v":46.647565124963684},{"$f":"AQ212/'DNSP Inputs O&M'!$E$74","v":9.3295130249927372},{"$f":"AQ212*AA116","v":2.2643719587332813},null,null,{"$f":"'DNSP Inputs O&M'!$F$119","v":21.28},{"$f":"'DNSP Inputs O&M'!$F$84","v":15},null,{"$f":"AV212*AW212","v":319.20000000000005},{"$f":"(AY212+AY213+AY214)/'DNSP Inputs O&M'!$F$84","v":36.348752045426252},{"$f":"AZ212/'DNSP Inputs O&M'!$F$74","v":7.2697504090852503},{"$f":"AZ212*AX116","v":1.76444568212983},{"$f":"'DNSP Inputs O&M'!$F$119*(1+'DNSP Inputs O&M'!$F$11)","v":22.344000000000001},{"$f":"'DNSP Inputs O&M'!$F$85","v":11},null,{"$f":"BC212*BD212","v":245.78400000000002},{"$f":"(BF212+BF213+BF214)/'DNSP Inputs O&M'!$F$85","v":38.166189647697564},{"$f":"BG212/'DNSP Inputs O&M'!$F$74","v":7.6332379295395132},{"$f":"BG212*AX116","v":1.8526679662363215},{"$f":"'DNSP Inputs O&M'!$F$119*(1+'DNSP Inputs O&M'!$F$11)","v":22.344000000000001},{"$f":"'DNSP Inputs O&M'!$F$85","v":11},null,{"$f":"BJ212*BK212","v":245.78400000000002},{"$f":"(BM212+BM213+BM214)/'DNSP Inputs O&M'!$F$86","v":46.647565124963684},{"$f":"BN212/'DNSP Inputs O&M'!$F$74","v":9.3295130249927372},{"$f":"BN212*AX116","v":2.2643719587332813},null,null,{"$f":"'DNSP Inputs O&M'!$G$119","v":21.28},{"$f":"'DNSP Inputs O&M'!$G$84","v":15},null,{"$f":"BS212*BT212","v":319.20000000000005},{"$f":"(BV212+BV213+BV214)/'DNSP Inputs O&M'!$G$84","v":36.348752045426252},{"$f":"BW212/'DNSP Inputs O&M'!$G$74","v":7.2697504090852503},{"$f":"BW212*AX116","v":1.76444568212983},{"$f":"'DNSP Inputs O&M'!$G$119*(1+'DNSP Inputs O&M'!$G$11)","v":22.344000000000001},{"$f":"'DNSP Inputs O&M'!$G$85","v":11},null,{"$f":"BZ212*CA212","v":245.78400000000002},{"$f":"(CC212+CC213+CC214)/'DNSP Inputs O&M'!$G$85","v":38.166189647697564},{"$f":"CD212/'DNSP Inputs O&M'!$G$74","v":7.6332379295395132},{"$f":"CD212*AX116","v":1.8526679662363215},{"$f":"'DNSP Inputs O&M'!$G$119*(1+'DNSP Inputs O&M'!$G$11)","v":22.344000000000001},{"$f":"'DNSP Inputs O&M'!$G$85","v":11},null,{"$f":"CG212*CH212","v":245.78400000000002},{"$f":"(CJ212+CJ213+CJ214)/'DNSP Inputs O&M'!$G$86","v":46.647565124963684},{"$f":"CK212/'DNSP Inputs O&M'!$G$74","v":9.3295130249927372},{"$f":"CK212*AX116","v":2.2643719587332813},null,null,{"$f":"'DNSP Inputs O&M'!$H$119","v":21.28},{"$f":"'DNSP Inputs O&M'!$H$84","v":15},null,{"$f":"CP212*CQ212","v":319.20000000000005},{"$f":"(CS212+CS213+CS214)/'DNSP Inputs O&M'!$H$84","v":36.348752045426252},{"$f":"CT212/'DNSP Inputs O&M'!$H$74","v":7.2697504090852503},{"$f":"CT212*BU116","v":1.76444568212983},{"$f":"'DNSP Inputs O&M'!$H$119*(1+'DNSP Inputs O&M'!$H$11)","v":22.344000000000001},{"$f":"'DNSP Inputs O&M'!$H$85","v":11},null,{"$f":"CW212*CX212","v":245.78400000000002},{"$f":"(CZ212+CZ213+CZ214)/'DNSP Inputs O&M'!$H$85","v":38.166189647697564},{"$f":"DA212/'DNSP Inputs O&M'!$H$74","v":7.6332379295395132},{"$f":"DA212*BU116","v":1.8526679662363215},{"$f":"'DNSP Inputs O&M'!$H$119*(1+'DNSP Inputs O&M'!$H$11)","v":22.344000000000001},{"$f":"'DNSP Inputs O&M'!$H$85","v":11},null,{"$f":"DD212*DE212","v":245.78400000000002},{"$f":"(DG212+DG213+DG214)/'DNSP Inputs O&M'!$H$86","v":46.647565124963684},{"$f":"DH212/'DNSP Inputs O&M'!$H$74","v":9.3295130249927372},{"$f":"DH212*BU116","v":2.2643719587332813}]
["PE cell",{"$f":"'DNSP Inputs O&M'!$D$120","v":25.041364999999999},{"$f":"C212*'DNSP Inputs O&M'!$D$74/'DNSP Inputs O&M'!$D$75","v":7.5},null,{"$f":"B213*C213","v":187.8102375},null,null,null,{"$f":"'DNSP Inputs O&M'!$D$120*(1+'DNSP Inputs O&M'!$D$11)","v":26.29343325},{"$f":"J212*'DNSP Inputs O&M'!$D$74/'DNSP Inputs O&M'!$D$75","v":5.5},null,{"$f":"I213*J213","v":144.613882875},null,null,null,{"$f":"'DNSP Inputs O&M'!$D$120*(1+'DNSP Inputs O&M'!$D$11)","v":26.29343325},{"$f":"Q212*'DNSP Inputs O&M'!$D$74/'DNSP Inputs O&M'!$D$75","v":5.5},null,{"$f":"P213*Q213","v":144.613882875},null,null,null,null,null,{"$f":"'DNSP Inputs O&M'!$E$120","v":25.041364999999999},{"$f":"Z212*'DNSP Inputs O&M'!$E$74/'DNSP Inputs O&M'!$E$75","v":7.5},null,{"$f":"Y213*Z213","v":187.8102375},null,null,null,{"$f":"'DNSP Inputs O&M'!$E$120*(1+'DNSP Inputs O&M'!$E$11)","v":26.29343325},{"$f":"AG212*'DNSP Inputs O&M'!$E$74/'DNSP Inputs O&M'!$E$75","v":5.5},null,{"$f":"AF213*AG213","v":144.613882875},null,null,null,{"$f":"'DNSP Inputs O&M'!$E$120*(1+'DNSP Inputs O&M'!$E$11)","v":26.29343325},{"$f":"AN212*'DNSP Inputs O&M'!$E$74/'DNSP Inputs O&M'!$E$75","v":5.5},null,{"$f":"AM213*AN213","v":144.613882875},null,null,null,null,null,{"$f":"'DNSP Inputs O&M'!$F$120","v":25.041364999999999},{"$f":"AW212*'DNSP Inputs O&M'!$F$74/'DNSP Inputs O&M'!$F$75","v":7.5},null,{"$f":"AV213*AW213","v":187.8102375},null,null,null,{"$f":"'DNSP Inputs O&M'!$F$120*(1+'DNSP Inputs O&M'!$F$11)","v":26.29343325},{"$f":"BD212*'DNSP Inputs O&M'!$F$74/'DNSP Inputs O&M'!$F$75","v":5.5},null,{"$f":"BC213*BD213","v":144.613882875},null,null,null,{"$f":"'DNSP Inputs O&M'!$F$120*(1+'DNSP Inputs O&M'!$F$11)","v":26.29343325},{"$f":"BK212*'DNSP Inputs O&M'!$F$74/'DNSP Inputs O&M'!$F$75","v":5.5},null,{"$f":"BJ213*BK213","v":144.613882875},null,null,null,null,null,{"$f":"'DNSP Inputs O&M'!$G$120","v":25.041364999999999},{"$f":"BT212*'DNSP Inputs O&M'!$G$74/'DNSP Inputs O&M'!$G$75","v":7.5},null,{"$f":"BS213*BT213","v":187.8102375},null,null,null,{"$f":"'DNSP Inputs O&M'!$G$120*(1+'DNSP Inputs O&M'!$G$11)","v":26.29343325},{"$f":"CA212*'DNSP Inputs O&M'!$G$74/'DNSP Inputs O&M'!$G$75","v":5.5},null,{"$f":"BZ213*CA213","v":144.613882875},null,null,null,{"$f":"'DNSP Inputs O&M'!$G$120*(1+'DNSP Inputs O&M'!$G$11)","v":26.29343325},{"$f":"CH212*'DNSP Inputs O&M'!$G$74/'DNSP Inputs O&M'!$G$75","v":5.5},null,{"$f":"CG213*CH213","v":144.613882875},null,null,null,null,null,{"$f":"'DNSP Inputs O&M'!$H$120","v":25.041364999999999},{"$f":"CQ212*'DNSP Inputs O&M'!$H$74/'DNSP Inputs O&M'!$H$75","v":7.5},null,{"$f":"CP213*CQ213","v":187.8102375},null,null,null,{"$f":"'DNSP Inputs O&M'!$H$120*(1+'DNSP Inputs O&M'!$H$11)","v":26.29343325},{"$f":"CX212*'DNSP Inputs O&M'!$H$74/'DNSP Inputs O&M'!$H$75","v":5.5},null,{"$f":"CW213*CX213","v":144.613882875},null,null,null,{"$f":"'DNSP Inputs O&M'!$H$120*(1+'DNSP Inputs O&M'!$H$11)","v":26.29343325},{"$f":"DE212*'DNSP Inputs O&M'!$H$74/'DNSP Inputs O&M'!$H$75","v":5.5},null,{"$f":"DD213*DE213","v":144.613882875}]
["Miscellaneous",{"$f":"'DNSP Inputs O&M'!$D$121","v":2.548069545426245},{"$f":"'DNSP Inputs O&M'!$D$84","v":15},null,{"$f":"B214*C214","v":38.221043181393675},null,null,null,{"$f":"'DNSP Inputs O&M'!$D$121*(1+'DNSP Inputs O&M'!$D$11)","v":2.6754730226975574},{"$f":"'DNSP Inputs O&M'!$D$85","v":11},null,{"$f":"I214*J214","v":29.430203249673131},null,null,null,{"$f":"'DNSP Inputs O&M'!$D$121*(1+'DNSP Inputs O&M'!$D$11)","v":2.6754730226975574},{"$f":"'DNSP Inputs O&M'!$D$85","v":11},null,{"$f":"P214*Q214","v":29.430203249673131},null,null,null,null,null,{"$f":"'DNSP Inputs O&M'!$E$121","v":2.548069545426245},{"$f":"'DNSP Inputs O&M'!$E$84","v":15},null,{"$f":"Y214*Z214","v":38.221043181393675},null,null,null,{"$f":"'DNSP Inputs O&M'!$E$121*(1+'DNSP Inputs O&M'!$E$11)","v":2.6754730226975574},{"$f":"'DNSP Inputs O&M'!$E$85","v":11},null,{"$f":"AF214*AG214","v":29.430203249673131},null,null,null,{"$f":"'DNSP Inputs O&M'!$E$121*(1+'DNSP Inputs O&M'!$E$11)","v":2.6754730226975574},{"$f":"'DNSP Inputs O&M'!$E$85","v":11},null,{"$f":"AM214*AN214","v":29.430203249673131},null,null,null,null,null,{"$f":"'DNSP Inputs O&M'!$F$121","v":2.548069545426245},{"$f":"'DNSP Inputs O&M'!$F$84","v":15},null,{"$f":"AV214*AW214","v":38.221043181393675},null,null,null,{"$f":"'DNSP Inputs O&M'!$F$121*(1+'DNSP Inputs O&M'!$F$11)","v":2.6754730226975574},{"$f":"'DNSP Inputs O&M'!$F$85","v":11},null,{"$f":"BC214*BD214","v":29.430203249673131},null,null,null,{"$f":"'DNSP Inputs O&M'!$F$121*(1+'DNSP Inputs O&M'!$F$11)","v":2.6754730226975574},{"$f":"'DNSP Inputs O&M'!$F$85","v":11},null,{"$f":"BJ214*BK214","v":29.430203249673131},null,null,null,null,null,{"$f":"'DNSP Inputs O&M'!$G$121","v":2.548069545426245},{"$f":"'DNSP Inputs O&M'!$G$84","v":15},null,{"$f":"BS214*BT214","v":38.221043181393675},null,null,null,{"$f":"'DNSP Inputs O&M'!$G$121*(1+'DNSP Inputs O&M'!$G$11)","v":2.6754730226975574},{"$f":"'DNSP Inputs O&M'!$G$85","v":11},null,{"$f":"BZ214*CA214","v":29.430203249673131},null,null,null,{"$f":"'DNSP Inputs O&M'!$G$121*(1+'DNSP Inputs O&M'!$G$11)","v":2.6754730226975574},{"$f":"'DNSP Inputs O&M'!$G$85","v":11},null,{"$f":"CG214*CH214","v":29.430203249673131},null,null,null,null,null,{"$f":"'DNSP Inputs O&M'!$H$121","v":2.548069545426245},{"$f":"'DNSP Inputs O&M'!$H$84","v":15},null,{"$f":"CP214*CQ214","v":38.221043181393675},null,null,null,{"$f":"'DNSP Inputs O&M'!$H$121*(1+'DNSP Inputs O&M'!$H$11)","v":2.6754730226975574},{"$f":"'DNSP Inputs O&M'!$H$85","v":11},null,{"$f":"CW214*CX214","v":29.430203249673131},null,null,null,{"$f":"'DNSP Inputs O&M'!$H$121*(1+'DNSP Inputs O&M'!$H$11)","v":2.6754730226975574},{"$f":"'DNSP Inputs O&M'!$H$85","v":11},null,{"$f":"DD214*DE214","v":29.430203249673131}]
["Labour - Patrol"]
["Crew costs",{"$f":"'DNSP Inputs O&M'!$D$13","v":143.47813587064053},{"$f":"'DNSP Inputs O&M'!$D$79","v":2},{"$f":"'DNSP Inputs O&M'!$D$17","v":7.5},{"$f":"B216*C216*D216","v":2152.172038059608},{"$f":"(E216+E217)/'DNSP Inputs O&M'!$D$81","v":0.80331567935320269},{"$f":"F216*'DNSP Inputs O&M'!$D$73","v":2.4099470380596082},null,{"$f":"'DNSP Inputs O&M'!$D$13","v":143.47813587064053},{"$f":"'DNSP Inputs O&M'!$D$79","v":2},{"$f":"'DNSP Inputs O&M'!$D$17","v":7.5},{"$f":"I216*J216*K216","v":2152.172038059608},{"$f":"(L216+L217)/'DNSP Inputs O&M'!$D$82","v":1.2049735190298041},{"$f":"M216*'DNSP Inputs O&M'!$D$73","v":3.6149205570894125},null,{"$f":"'DNSP Inputs O&M'!$D$13","v":143.47813587064053},{"$f":"'DNSP Inputs O&M'!$D$79","v":2},{"$f":"'DNSP Inputs O&M'!$D$17","v":7.5},{"$f":"P216*Q216*R216","v":2152.172038059608},{"$f":"(S216+S217)/'DNSP Inputs O&M'!$D$83","v":2.4099470380596082},{"$f":"T216*'DNSP Inputs O&M'!$D$73","v":7.229841114178825},null,null,null,{"$f":"'DNSP Inputs O&M'!$E$13","v":{"$error":"#REF!"}},{"$f":"'DNSP Inputs O&M'!$E$79","v":2},{"$f":"'DNSP Inputs O&M'!$E$17","v":7.5},{"$f":"Y216*Z216*AA216","v":{"$error":"#REF!"}},{"$f":"(AB216+AB217)/'DNSP Inputs O&M'!$E$81","v":{"$error":"#REF!"}},{"$f":"AC216*'DNSP Inputs O&M'!$E$73","v":{"$error":"#REF!"}},null,{"$f":"'DNSP Inputs O&M'!$E$13","v":{"$error":"#REF!"}},{"$f":"'DNSP Inputs O&M'!$E$79","v":2},{"$f":"'DNSP Inputs O&M'!$E$17","v":7.5},{"$f":"AF216*AG216*AH216","v":{"$error":"#REF!"}},{"$f":"(AI216+AI217)/'DNSP Inputs O&M'!$E$82","v":{"$error":"#REF!"}},{"$f":"AJ216*'DNSP Inputs O&M'!$E$73","v":{"$error":"#REF!"}},null,{"$f":"'DNSP Inputs O&M'!$E$13","v":{"$error":"#REF!"}},{"$f":"'DNSP Inputs O&M'!$E$79","v":2},{"$f":"'DNSP Inputs O&M'!$E$17","v":7.5},{"$f":"AM216*AN216*AO216","v":{"$error":"#REF!"}},{"$f":"(AP216+AP217)/'DNSP Inputs O&M'!$E$83","v":{"$error":"#REF!"}},{"$f":"AQ216*'DNSP Inputs O&M'!$E$73","v":{"$error":"#REF!"}},null,null,null,{"$f":"'DNSP Inputs O&M'!$F$13","v":{"$error":"#REF!"}},{"$f":"'DNSP Inputs O&M'!$F$79","v":2},{"$f":"'DNSP Inputs O&M'!$F$17","v":7.5},{"$f":"AV216*AW216*AX216","v":{"$error":"#REF!"}},{"$f":"(AY216+AY217)/'DNSP Inputs O&M'!$F$81","v":{"$error":"#REF!"}},{"$f":"AZ216*'DNSP Inputs O&M'!$F$73","v":{"$error":"#REF!"}},null,{"$f":"'DNSP Inputs O&M'!$F$13","v":{"$error":"#REF!"}},{"$f":"'DNSP Inputs O&M'!$F$79","v":2},{"$f":"'DNSP Inputs O&M'!$F$17","v":7.5},{"$f":"BC216*BD216*BE216","v":{"$error":"#REF!"}},{"$f":"(BF216+BF217)/'DNSP Inputs O&M'!$F$82","v":{"$error":"#REF!"}},{"$f":"BG216*'DNSP Inputs O&M'!$F$73","v":{"$error":"#REF!"}},null,{"$f":"'DNSP Inputs O&M'!$F$13","v":{"$error":"#REF!"}},{"$f":"'DNSP Inputs O&M'!$F$79","v":2},{"$f":"'DNSP Inputs O&M'!$F$17","v":7.5},{"$f":"BJ216*BK216*BL216","v":{"$error":"#REF!"}},{"$f":"(BM216+BM217)/'DNSP Inputs O&M'!$F$83","v":{"$error":"#REF!"}},{"$f":"BN216*'DNSP Inputs O&M'!$F$73","v":{"$error":"#REF!"}},null,null,null,{"$f":"'DNSP Inputs O&M'!$G$13","v":{"$error":"#REF!"}},{"$f":"'DNSP Inputs O&M'!$G$79","v":2},{"$f":"'DNSP Inputs O&M'!$G$17","v":7.5},{"$f":"BS216*BT216*BU216","v":{"$error":"#REF!"}},{"$f":"(BV216+BV217)/'DNSP Inputs O&M'!$G$81","v":{"$error":"#REF!"}},{"$f":"BW216*'DNSP Inputs O&M'!$G$73","v":{"$error":"#REF!"}},null,{"$f":"'DNSP Inputs O&M'!$G$13","v":{"$error":"#REF!"}},{"$f":"'DNSP Inputs O&M'!$G$79","v":2},{"$f":"'DNSP Inputs O&M'!$G$17","v":7.5},{"$f":"BZ216*CA216*CB216","v":{"$error":"#REF!"}},{"$f":"(CC216+CC217)/'DNSP Inputs O&M'!$G$82","v":{"$error":"#REF!"}},{"$f":"CD216*'DNSP Inputs O&M'!$G$73","v":{"$error":"#REF!"}},null,{"$f":"'DNSP Inputs O&M'!$G$13","v":{"$error":"#REF!"}},{"$f":"'DNSP Inputs O&M'!$G$79","v":2},{"$f":"'DNSP Inputs O&M'!$G$17","v":7.5},{"$f":"CG216*CH216*CI216","v":{"$error":"#REF!"}},{"$f":"(CJ216+CJ217)/'DNSP Inputs O&M'!$G$83","v":{"$error":"#REF!"}},{"$f":"CK216*'DNSP Inputs O&M'!$G$73","v":{"$error":"#REF!"}},null,null,null,{"$f":"'DNSP Inputs O&M'!$H$13","v":{"$error":"#REF!"}},{"$f":"'DNSP Inputs O&M'!$H$79","v":2},{"$f":"'DNSP Inputs O&M'!$H$17","v":7.5},{"$f":"CP216*CQ216*CR216","v":{"$error":"#REF!"}},{"$f":"(CS216+CS217)/'DNSP Inputs O&M'!$H$81","v":{"$error":"#REF!"}},{"$f":"CT216*'DNSP Inputs O&M'!$H$73","v":{"$error":"#REF!"}},null,{"$f":"'DNSP Inputs O&M'!$H$13","v":{"$error":"#REF!"}},{"$f":"'DNSP Inputs O&M'!$H$79","v":2},{"$f":"'DNSP Inputs O&M'!$H$17","v":7.5},{"$f":"CW216*CX216*CY216","v":{"$error":"#REF!"}},{"$f":"(CZ216+CZ217)/'DNSP Inputs O&M'!$H$82","v":{"$error":"#REF!"}},{"$f":"DA216*'DNSP Inputs O&M'!$H$73","v":{"$error":"#REF!"}},null,{"$f":"'DNSP Inputs O&M'!$H$13","v":{"$error":"#REF!"}},{"$f":"'DNSP Inputs O&M'!$H$79","v":2},{"$f":"'DNSP Inputs O&M'!$H$17","v":7.5},{"$f":"DD216*DE216*DF216","v":{"$error":"#REF!"}},{"$f":"(DG216+DG217)/'DNSP Inputs O&M'!$H$83","v":{"$error":"#REF!"}},{"$f":"DH216*'DNSP Inputs O&M'!$H$73","v":{"$error":"#REF!"}}]
["Vehicle costs",{"$f":"'DNSP Inputs O&M'!$D$16","v":34.369999999999997},1,{"$f":"'DNSP Inputs O&M'!$D$17","v":7.5},{"$f":"B217*C217*D217","v":257.77499999999998},null,null,null,{"$f":"'DNSP Inputs O&M'!$D$16","v":34.369999999999997},1,{"$f":"'DNSP Inputs O&M'!$D$17","v":7.5},{"$f":"I217*J217*K217","v":257.77499999999998},null,null,null,{"$f":"'DNSP Inputs O&M'!$D$16","v":34.369999999999997},1,{"$f":"'DNSP Inputs O&M'!$D$17","v":7.5},{"$f":"P217*Q217*R217","v":257.77499999999998},null,null,null,null,null,{"$f":"'DNSP Inputs O&M'!$E$16","v":34.369999999999997},1,{"$f":"'DNSP Inputs O&M'!$E$17","v":7.5},{"$f":"Y217*Z217*AA217","v":257.77499999999998},null,null,null,{"$f":"'DNSP Inputs O&M'!$E$16","v":34.369999999999997},1,{"$f":"'DNSP Inputs O&M'!$E$17","v":7.5},{"$f":"AF217*AG217*AH217","v":257.77499999999998},null,null,null,{"$f":"'DNSP Inputs O&M'!$E$16","v":34.369999999999997},1,{"$f":"'DNSP Inputs O&M'!$E$17","v":7.5},{"$f":"AM217*AN217*AO217","v":257.77499999999998},null,null,null,null,null,{"$f":"'DNSP Inputs O&M'!$F$16","v":34.369999999999997},1,{"$f":"'DNSP Inputs O&M'!$F$17","v":7.5},{"$f":"AV217*AW217*AX217","v":257.77499999999998},null,null,null,{"$f":"'DNSP Inputs O&M'!$F$16","v":34.369999999999997},1,{"$f":"'DNSP Inputs O&M'!$F$17","v":7.5},{"$f":"BC217*BD217*BE217","v":257.77499999999998},null,null,null,{"$f":"'DNSP Inputs O&M'!$F$16","v":34.369999999999997},1,{"$f":"'DNSP Inputs O&M'!$F$17","v":7.5},{"$f":"BJ217*BK217*BL217","v":257.77499999999998},null,null,null,null,null,{"$f":"'DNSP Inputs O&M'!$G$16","v":34.369999999999997},1,{"$f":"'DNSP Inputs O&M'!$G$17","v":7.5},{"$f":"BS217*BT217*BU217","v":257.77499999999998},null,null,null,{"$f":"'DNSP Inputs O&M'!$G$16","v":34.369999999999997},1,{"$f":"'DNSP Inputs O&M'!$G$17","v":7.5},{"$f":"BZ217*CA217*CB217","v":257.77499999999998},null,null,null,{"$f":"'DNSP Inputs O&M'!$G$16","v":34.369999999999997},1,{"$f":"'DNSP Inputs O&M'!$G$17","v":7.5},{"$f":"CG217*CH217*CI217","v":257.77499999999998},null,null,null,null,null,{"$f":"'DNSP Inputs O&M'!$H$16","v":34.369999999999997},1,{"$f":"'DNSP Inputs O&M'!$H$17","v":7.5},{"$f":"CP217*CQ217*CR217","v":257.77499999999998},null,null,null,{"$f":"'DNSP Inputs O&M'!$H$16","v":34.369999999999997},1,{"$f":"'DNSP Inputs O&M'!$H$17","v":7.5},{"$f":"CW217*CX217*CY217","v":257.77499999999998},null,null,null,{"$f":"'DNSP Inputs O&M'!$H$16","v":34.369999999999997},1,{"$f":"'DNSP Inputs O&M'!$H$17","v":7.5},{"$f":"DD217*DE217*DF217","v":257.77499999999998}]
["Labour - Repair of faults"]
["Crew costs",{"$f":"'DNSP Inputs O&M'!$D$12","v":111.36223236834823},{"$f":"'DNSP Inputs O&M'!$D$80","v":2},{"$f":"'DNSP Inputs O&M'!$D$17","v":7.5},{"$f":"B219*C219*D219","v":1670.4334855252234},{"$f":"(E219+E220)/'DNSP Inputs O&M'!$D$84*(C212+C213)/C212","v":214.77334855252232},{"$f":"F219/'DNSP Inputs O&M'!$D$74","v":42.954669710504461},null,{"$f":"'DNSP Inputs O&M'!$D$12","v":111.36223236834823},{"$f":"'DNSP Inputs O&M'!$D$80","v":2},{"$f":"'DNSP Inputs O&M'!$D$17","v":7.5},{"$f":"I219*J219*K219","v":1670.4334855252234},{"$f":"(L219+L220)/'DNSP Inputs O&M'!$D$85*(J212+J213)/J212","v":292.87274802616679},{"$f":"M219/'DNSP Inputs O&M'!$D$74","v":58.574549605233358},null,{"$f":"'DNSP Inputs O&M'!$D$12","v":111.36223236834823},{"$f":"'DNSP Inputs O&M'!$D$80","v":2},{"$f":"'DNSP Inputs O&M'!$D$17","v":7.5},{"$f":"P219*Q219*R219","v":1670.4334855252234},{"$f":"(S219+S220)/'DNSP Inputs O&M'!$D$86*(Q212+Q213)/Q212","v":357.95558092087055},{"$f":"T219/'DNSP Inputs O&M'!$D$74","v":71.591116184174112},null,null,null,{"$f":"'DNSP Inputs O&M'!$E$12","v":{"$error":"#REF!"}},{"$f":"'DNSP Inputs O&M'!$E$80","v":2},{"$f":"'DNSP Inputs O&M'!$E$17","v":7.5},{"$f":"Y219*Z219*AA219","v":{"$error":"#REF!"}},{"$f":"(AB219+AB220)/'DNSP Inputs O&M'!$E$84*(Z212+Z213)/Z212","v":{"$error":"#REF!"}},{"$f":"AC219/'DNSP Inputs O&M'!$E$74","v":{"$error":"#REF!"}},{"$f":"AC219*AA116","v":{"$error":"#REF!"}},{"$f":"'DNSP Inputs O&M'!$E$12","v":{"$error":"#REF!"}},{"$f":"'DNSP Inputs O&M'!$E$80","v":2},{"$f":"'DNSP Inputs O&M'!$E$17","v":7.5},{"$f":"AF219*AG219*AH219","v":{"$error":"#REF!"}},{"$f":"(AI219+AI220)/'DNSP Inputs O&M'!$E$85*(AG212+AG213)/AG212","v":{"$error":"#REF!"}},{"$f":"AJ219/'DNSP Inputs O&M'!$E$74","v":{"$error":"#REF!"}},{"$f":"AJ219*AA116","v":{"$error":"#REF!"}},{"$f":"'DNSP Inputs O&M'!$E$12","v":{"$error":"#REF!"}},{"$f":"'DNSP Inputs O&M'!$E$80","v":2},{"$f":"'DNSP Inputs O&M'!$E$17","v":7.5},{"$f":"AM219*AN219*AO219","v":{"$error":"#REF!"}},{"$f":"(AP219+AP220)/'DNSP Inputs O&M'!$E$86*(AN212+AN213)/AN212","v":{"$error":"#REF!"}},{"$f":"AQ219/'DNSP Inputs O&M'!$E$74","v":{"$error":"#REF!"}},{"$f":"AQ219*AA116","v":{"$error":"#REF!"}},null,null,{"$f":"'DNSP Inputs O&M'!$F$12","v":{"$error":"#REF!"}},{"$f":"'DNSP Inputs O&M'!$F$80","v":2},{"$f":"'DNSP Inputs O&M'!$F$17","v":7.5},{"$f":"AV219*AW219*AX219","v":{"$error":"#REF!"}},{"$f":"(AY219+AY220)/'DNSP Inputs O&M'!$F$84*(AW212+AW213)/AW212","v":{"$error":"#REF!"}},{"$f":"AZ219/'DNSP Inputs O&M'!$F$74","v":{"$error":"#REF!"}},{"$f":"AZ219*AX116","v":{"$error":"#REF!"}},{"$f":"'DNSP Inputs O&M'!$F$12","v":{"$error":"#REF!"}},{"$f":"'DNSP Inputs O&M'!$F$80","v":2},{"$f":"'DNSP Inputs O&M'!$F$17","v":7.5},{"$f":"BC219*BD219*BE219","v":{"$error":"#REF!"}},{"$f":"(BF219+BF220)/'DNSP Inputs O&M'!$F$85*(BD212+BD213)/BD212","v":{"$error":"#REF!"}},{"$f":"BG219/'DNSP Inputs O&M'!$F$74","v":{"$error":"#REF!"}},{"$f":"BG219*AX116","v":{"$error":"#REF!"}},{"$f":"'DNSP Inputs O&M'!$F$12","v":{"$error":"#REF!"}},{"$f":"'DNSP Inputs O&M'!$F$80","v":2},{"$f":"'DNSP Inputs O&M'!$F$17","v":7.5},{"$f":"BJ219*BK219*BL219","v":{"$error":"#REF!"}},{"$f":"(BM219+BM220)/'DNSP Inputs O&M'!$F$86*(BK212+BK213)/BK212","v":{"$error":"#REF!"}},{"$f":"BN219/'DNSP Inputs O&M'!$F$74","v":{"$error":"#REF!"}},{"$f":"BN219*AX116","v":{"$error":"#REF!"}},null,null,{"$f":"'DNSP Inputs O&M'!$G$12","v":{"$error":"#REF!"}},{"$f":"'DNSP Inputs O&M'!$G$80","v":2},{"$f":"'DNSP Inputs O&M'!$G$17","v":7.5},{"$f":"BS219*BT219*BU219","v":{"$error":"#REF!"}},{"$f":"(BV219+BV220)/'DNSP Inputs O&M'!$G$84*(BT212+BT213)/BT212","v":{"$error":"#REF!"}},{"$f":"BW219/'DNSP Inputs O&M'!$G$74","v":{"$error":"#REF!"}},{"$f":"BW219*AX116","v":{"$error":"#REF!"}},{"$f":"'DNSP Inputs O&M'!$G$12","v":{"$error":"#REF!"}},{"$f":"'DNSP Inputs O&M'!$G$80","v":2},{"$f":"'DNSP Inputs O&M'!$G$17","v":7.5},{"$f":"BZ219*CA219*CB219","v":{"$error":"#REF!"}},{"$f":"(CC219+CC220)/'DNSP Inputs O&M'!$G$85*(CA212+CA213)/CA212","v":{"$error":"#REF!"}},{"$f":"CD219/'DNSP Inputs O&M'!$G$74","v":{"$error":"#REF!"}},{"$f":"CD219*AX116","v":{"$error":"#REF!"}},{"$f":"'DNSP Inputs O&M'!$G$12","v":{"$error":"#REF!"}},{"$f":"'DNSP Inputs O&M'!$G$80","v":2},{"$f":"'DNSP Inputs O&M'!$G$17","v":7.5},{"$f":"CG219*CH219*CI219","v":{"$error":"#REF!"}},{"$f":"(CJ219+CJ220)/'DNSP Inputs O&M'!$G$86*(CH212+CH213)/CH212","v":{"$error":"#REF!"}},{"$f":"CK219/'DNSP Inputs O&M'!$G$74","v":{"$error":"#REF!"}},{"$f":"CK219*AX116","v":{"$error":"#REF!"}},null,null,{"$f":"'DNSP Inputs O&M'!$H$12","v":{"$error":"#REF!"}},{"$f":"'DNSP Inputs O&M'!$H$80","v":2},{"$f":"'DNSP Inputs O&M'!$H$17","v":7.5},{"$f":"CP219*CQ219*CR219","v":{"$error":"#REF!"}},{"$f":"(CS219+CS220)/'DNSP Inputs O&M'!$H$84*(CQ212+CQ213)/CQ212","v":{"$error":"#REF!"}},{"$f":"CT219/'DNSP Inputs O&M'!$H$74","v":{"$error":"#REF!"}},{"$f":"CT219*BU116","v":{"$error":"#REF!"}},{"$f":"'DNSP Inputs O&M'!$H$12","v":{"$error":"#REF!"}},{"$f":"'DNSP Inputs O&M'!$H$80","v":2},{"$f":"'DNSP Inputs O&M'!$H$17","v":7.5},{"$f":"CW219*CX219*CY219","v":{"$error":"#REF!"}},{"$f":"(CZ219+CZ220)/'DNSP Inputs O&M'!$H$85*(CX212+CX213)/CX212","v":{"$error":"#REF!"}},{"$f":"DA219/'DNSP Inputs O&M'!$H$74","v":{"$error":"#REF!"}},{"$f":"DA219*BU116","v":{"$error":"#REF!"}},{"$f":"'DNSP Inputs O&M'!$H$12","v":{"$error":"#REF!"}},{"$f":"'DNSP Inputs O&M'!$H$80","v":2},{"$f":"'DNSP Inputs O&M'!$H$17","v":7.5},{"$f":"DD219*DE219*DF219","v":{"$error":"#REF!"}},{"$f":"(DG219+DG220)/'DNSP Inputs O&M'!$H$86*(DE212+DE213)/DE212","v":{"$error":"#REF!"}},{"$f":"DH219/'DNSP Inputs O&M'!$H$74","v":{"$error":"#REF!"}},{"$f":"DH219*BU116","v":{"$error":"#REF!"}}]
["Elevated platform vehicle costs",{"$f":"'DNSP Inputs O&M'!$D$15","v":63.64},1,{"$f":"'DNSP Inputs O&M'!$D$17","v":7.5},{"$f":"B220*C220*D220","v":477.3},null,null,null,{"$f":"'DNSP Inputs O&M'!$D$15","v":63.64},1,{"$f":"'DNSP Inputs O&M'!$D$17","v":7.5},{"$f":"I220*J220*K220","v":477.3},null,null,null,{"$f":"'DNSP Inputs O&M'!$D$15","v":63.64},1,{"$f":"'DNSP Inputs O&M'!$D$17","v":7.5},{"$f":"P220*Q220*R220","v":477.3},null,null,null,null,null,{"$f":"'DNSP Inputs O&M'!$E$15","v":63.64},1,{"$f":"'DNSP Inputs O&M'!$E$17","v":7.5},{"$f":"Y220*Z220*AA220","v":477.3},null,null,null,{"$f":"'DNSP Inputs O&M'!$E$15","v":63.64},1,{"$f":"'DNSP Inputs O&M'!$E$17","v":7.5},{"$f":"AF220*AG220*AH220","v":477.3},null,null,null,{"$f":"'DNSP Inputs O&M'!$E$15","v":63.64},1,{"$f":"'DNSP Inputs O&M'!$E$17","v":7.5},{"$f":"AM220*AN220*AO220","v":477.3},null,null,null,null,null,{"$f":"'DNSP Inputs O&M'!$F$15","v":63.64},1,{"$f":"'DNSP Inputs O&M'!$F$17","v":7.5},{"$f":"AV220*AW220*AX220","v":477.3},null,null,null,{"$f":"'DNSP Inputs O&M'!$F$15","v":63.64},1,{"$f":"'DNSP Inputs O&M'!$F$17","v":7.5},{"$f":"BC220*BD220*BE220","v":477.3},null,null,null,{"$f":"'DNSP Inputs O&M'!$F$15","v":63.64},1,{"$f":"'DNSP Inputs O&M'!$F$17","v":7.5},{"$f":"BJ220*BK220*BL220","v":477.3},null,null,null,null,null,{"$f":"'DNSP Inputs O&M'!$G$15","v":63.64},1,{"$f":"'DNSP Inputs O&M'!$G$17","v":7.5},{"$f":"BS220*BT220*BU220","v":477.3},null,null,null,{"$f":"'DNSP Inputs O&M'!$G$15","v":63.64},1,{"$f":"'DNSP Inputs O&M'!$G$17","v":7.5},{"$f":"BZ220*CA220*CB220","v":477.3},null,null,null,{"$f":"'DNSP Inputs O&M'!$G$15","v":63.64},1,{"$f":"'DNSP Inputs O&M'!$G$17","v":7.5},{"$f":"CG220*CH220*CI220","v":477.3},null,null,null,null,null,{"$f":"'DNSP Inputs O&M'!$H$15","v":63.64},1,{"$f":"'DNSP Inputs O&M'!$H$17","v":7.5},{"$f":"CP220*CQ220*CR220","v":477.3},null,null,null,{"$f":"'DNSP Inputs O&M'!$H$15","v":63.64},1,{"$f":"'DNSP Inputs O&M'!$H$17","v":7.5},{"$f":"CW220*CX220*CY220","v":477.3},null,null,null,{"$f":"'DNSP Inputs O&M'!$H$15","v":63.64},1,{"$f":"'DNSP Inputs O&M'!$H$17","v":7.5},{"$f":"DD220*DE220*DF220","v":477.3}]
[]
["Other Maintenance and Repair costs",null,null,null,null,null,{"$f":"'DNSP Inputs O&M'!$D$136","v":{"$error":"#REF!"}},null,null,null,null,null,null,{"$f":"'DNSP Inputs O&M'!$D$136","v":{"$error":"#REF!"}},null,null,null,null,null,null,{"$f":"'DNSP Inputs O&M'!$D$136","v":{"$error":"#REF!"}},null,null,null,null,null,null,null,null,{"$f":"'DNSP Inputs O&M'!$E$136","v":{"$error":"#REF!"}},null,null,null,null,null,null,{"$f":"'DNSP Inputs O&M'!$E$136","v":{"$error":"#REF!"}},null,null,null,null,null,null,{"$f":"'DNSP Inputs O&M'!$E$136","v":{"$error":"#REF!"}},null,null,null,null,null,null,null,null,{"$f":"'DNSP Inputs O&M'!$F$136","v":{"$error":"#REF!"}},null,null,null,null,null,null,{"$f":"'DNSP Inputs O&M'!$F$136","v":{"$error":"#REF!"}},null,null,null,null,null,null,{"$f":"'DNSP Inputs O&M'!$F$136","v":{"$error":"#REF!"}},null,null,null,null,null,null,null,null,{"$f":"'DNSP Inputs O&M'!$G$136","v":{"$error":"#REF!"}},null,null,null,null,null,null,{"$f":"'DNSP Inputs O&M'!$G$136","v":{"$error":"#REF!"}},null,null,null,null,null,null,{"$f":"'DNSP Inputs O&M'!$G$136","v":{"$error":"#REF!"}},null,null,null,null,null,null,null,null,{"$f":"'DNSP Inputs O&M'!$H$136","v":{"$error":"#REF!"}},null,null,null,null,null,null,{"$f":"'DNSP Inputs O&M'!$H$136","v":{"$error":"#REF!"}},null,null,null,null,null,null,{"$f":"'DNSP Inputs O&M'!$H$136","v":{"$error":"#REF!"}}]
[]
["Overheads",{"$f":"'DNSP Inputs O&M'!$D$18","v":0.25},null,null,null,null,{"$f":"B224*(G212+G216+G219+G222)","v":{"$error":"#REF!"}},null,{"$f":"'DNSP Inputs O&M'!$D$18","v":0.25},null,null,null,null,{"$f":"I224*(N212+N216+N219+N222)","v":{"$error":"#REF!"}},null,{"$f":"'DNSP Inputs O&M'!$D$18","v":0.25},null,null,null,null,{"$f":"P224*(U212+U216+U219+U222)","v":{"$error":"#REF!"}},null,null,null,{"$f":"'DNSP Inputs O&M'!$E$18","v":0.25},null,null,null,null,{"$f":"Y224*(AD212+AD216+AD219+AD222)","v":{"$error":"#REF!"}},null,{"$f":"'DNSP Inputs O&M'!$E$18","v":0.25},null,null,null,null,{"$f":"AF224*(AK212+AK216+AK219+AK222)","v":{"$error":"#REF!"}},null,{"$f":"'DNSP Inputs O&M'!$E$18","v":0.25},null,null,null,null,{"$f":"AM224*(AR212+AR216+AR219+AR222)","v":{"$error":"#REF!"}},null,null,null,{"$f":"'DNSP Inputs O&M'!$F$18","v":0.25},null,null,null,null,{"$f":"AV224*(BA212+BA216+BA219+BA222)","v":{"$error":"#REF!"}},null,{"$f":"'DNSP Inputs O&M'!$F$18","v":0.25},null,null,null,null,{"$f":"BC224*(BH212+BH216+BH219+BH222)","v":{"$error":"#REF!"}},null,{"$f":"'DNSP Inputs O&M'!$F$18","v":0.25},null,null,null,null,{"$f":"BJ224*(BO212+BO216+BO219+BO222)","v":{"$error":"#REF!"}},null,null,null,{"$f":"'DNSP Inputs O&M'!$G$18","v":0.25},null,null,null,null,{"$f":"BS224*(BX212+BX216+BX219+BX222)","v":{"$error":"#REF!"}},null,{"$f":"'DNSP Inputs O&M'!$G$18","v":0.25},null,null,null,null,{"$f":"BZ224*(CE212+CE216+CE219+CE222)","v":{"$error":"#REF!"}},null,{"$f":"'DNSP Inputs O&M'!$G$18","v":0.25},null,null,null,null,{"$f":"CG224*(CL212+CL216+CL219+CL222)","v":{"$error":"#REF!"}},null,null,null,{"$f":"'DNSP Inputs O&M'!$H$18","v":0.25},null,null,null,null,{"$f":"CP224*(CU212+CU216+CU219+CU222)","v":{"$error":"#REF!"}},null,{"$f":"'DNSP Inputs O&M'!$H$18","v":0.25},null,null,null,null,{"$f":"CW224*(DB212+DB216+DB219+DB222)","v":{"$error":"#REF!"}},null,{"$f":"'DNSP Inputs O&M'!$H$18","v":0.25},null,null,null,null,{"$f":"DD224*(DI212+DI216+DI219+DI222)","v":{"$error":"#REF!"}}]
[]
[null,null,null,null,null,null,{"$f":"SUM(G212,G216,G219,G222,G224)","v":{"$error":"#REF!"}},null,null,null,null,null,null,{"$f":"SUM(N212,N216,N219,N222,N224)","v":{"$error":"#REF!"}},null,null,null,null,null,null,{"$f":"SUM(U212,U216,U219,U222,U224)","v":{"$error":"#REF!"}},null,null,null,null,null,null,null,null,{"$f":"SUM(AD212,AD216,AD219,AD222,AD224)","v":{"$error":"#REF!"}},null,null,null,null,null,null,{"$f":"SUM(AK212,AK216,AK219,AK222,AK224)","v":{"$error":"#REF!"}},null,null,null,null,null,null,{"$f":"SUM(AR212,AR216,AR219,AR222,AR224)","v":{"$error":"#REF!"}},null,null,null,null,null,null,null,null,{"$f":"SUM(BA212,BA216,BA219,BA222,BA224)","v":{"$error":"#REF!"}},null,null,null,null,null,null,{"$f":"SUM(BH212,BH216,BH219,BH222,BH224)","v":{"$error":"#REF!"}},null,null,null,null,null,null,{"$f":"SUM(BO212,BO216,BO219,BO222,BO224)","v":{"$error":"#REF!"}},null,null,null,null,null,null,null,null,{"$f":"SUM(BX212,BX216,BX219,BX222,BX224)","v":{"$error":"#REF!"}},null,null,null,null,null,null,{"$f":"SUM(CE212,CE216,CE219,CE222,CE224)","v":{"$error":"#REF!"}},null,null,null,null,null,null,{"$f":"SUM(CL212,CL216,CL219,CL222,CL224)","v":{"$error":"#REF!"}},null,null,null,null,null,null,null,null,{"$f":"SUM(CU212,CU216,CU219,CU222,CU224)","v":{"$error":"#REF!"}},null,null,null,null,null,null,{"$f":"SUM(DB212,DB216,DB219,DB222,DB224)","v":{"$error":"#REF!"}},null,null,null,null,null,null,{"$f":"SUM(DI212,DI216,DI219,DI222,DI224)","v":{"$error":"#REF!"}}]
[]
[]
[]
[]
["T5 (2 X 14W) - Cost build-up"]
[]
["Additional assumptions"]
["Proportion of luminaire that will fail before bulk change",null,null,{"$f":"'DNSP Inputs O&M'!$D$186","v":0.41565636121546606},null,null,null,null,null,null,null,null,null,null,null,null,null,null,null,null,null,null,null,null,null,null,{"$f":"'DNSP Inputs O&M'!$E$186","v":0.41565636121546606},null,null,null,null,null,null,null,null,null,null,null,null,null,null,null,null,null,null,null,null,null,null,{"$f":"'DNSP Inputs O&M'!$F$186","v":0.41565636121546606},null,null,null,null,null,null,null,null,null,null,null,null,null,null,null,null,null,null,null,null,null,null,{"$f":"'DNSP Inputs O&M'!$G$186","v":0.41565636121546606},null,null,null,null,null,null,null,null,null,null,null,null,null,null,null,null,null,null,null,null,null,null,{"$f":"'DNSP Inputs O&M'!$H$186","v":0.41565636121546606}]
["Proportion of lamps that will fail before bulk change (per year)",null,null,{"$f":"D234/'DNSP Inputs O&M'!$D$183","v":0.10391409030386652},null,null,null,null,null,null,null,null,null,null,null,null,null,null,null,null,null,null,null,null,null,null,{"$f":"AA234/'DNSP Inputs O&M'!$E$183","v":0.10391409030386652},null,null,null,null,null,null,null,null,null,null,null,null,null,null,null,null,null,null,null,null,null,null,{"$f":"AX234/'DNSP Inputs O&M'!$F$183","v":0.10391409030386652},null,null,null,null,null,null,null,null,null,null,null,null,null,null,null,null,null,null,null,null,null,null,{"$f":"BU234/'DNSP Inputs O&M'!$G$183","v":0.10391409030386652},null,null,null,null,null,null,null,null,null,null,null,null,null,null,null,null,null,null,null,null,null,null,{"$f":"CR234/'DNSP Inputs O&M'!$H$183","v":0.10391409030386652}]
["Overheads are applied to material and labour components"]
["All costs and charges are exclusive of GST"]
[]
[null,"Urban",null,null,null,null,null,null,"Rural",null,null,null,null,null,null,"Remote",null,null,null,null,null,null,null,null,"Urban",null,null,null,null,null,null,"Rural",null,null,null,null,null,null,"Remote",null,null,null,null,null,null,null,null,"Urban",null,null,null,null,null,null,"Rural",null,null,null,null,null,null,"Remote",null,null,null,null,null,null,null,null,"Urban",null,null,null,null,null,null,"Rural",null,null,null,null,null,null,"Remote",null,null,null,null,null,null,null,null,"Urban",null,null,null,null,null,null,"Rural",null,null,null,null,null,null,"Remote"]
[]
[null,"Unit rate","Number","Hours","Cost","Annualised","Annualised",null,"Unit rate","Number","Hours","Cost","Annualised","Annualised",null,"Unit rate","Number","Hours","Cost","Annualised","Annualised",null,null,null,"Unit rate","Number","Hours","Cost","Annualised","Annualised",null,"Unit rate","Number","Hours","Cost","Annualised","Annualised",null,"Unit rate","Number","Hours","Cost","Annualised","Annualised",null,null,null,"Unit rate","Number","Hours","Cost","Annualised","Annualised",null,"Unit rate","Number","Hours","Cost","Annualised","Annualised",null,"Unit rate","Number","Hours","Cost","Annualised","Annualised",null,null,null,"Unit rate","Number","Hours","Cost","Annualised","Annualised",null,"Unit rate","Number","Hours","Cost","Annualised","Annualised",null,"Unit rate","Number","Hours","Cost","Annualised","Annualised",null,null,null,"Unit rate","Number","Hours","Cost","Annualised","Annualised",null,"Unit rate","Number","Hours","Cost","Annualised","Annualised",null,"Unit rate","Number","Hours","Cost","Annualised","Annualised"]
[null,null,null,null,null," cost","unit cost",null,null,null,null,null," cost","unit cost",null,null,null,null,null," cost","unit cost",null,null,null,null,null,null,null," cost","unit cost",null,null,null,null,null," cost","unit cost",null,null,null,null,null," cost","unit cost",null,null,null,null,null,null,null," cost","unit cost",null,null,null,null,null," cost","unit cost",null,null,null,null,null," cost","unit cost",null,null,null,null,null,null,null," cost","unit cost",null,null,null,null,null," cost","unit cost",null,null,null,null,null," cost","unit cost",null,null,null,null,null,null,null," cost","unit cost",null,null,null,null,null," cost","unit cost",null,null,null,null,null," cost","unit cost"]
["T5 (2 X 14W)"]
["Bulk change & repairs"]
["Materials - bulk lamp change"]
["Lamp",{"$f":"'DNSP Inputs O&M'!$D$187","v":8.1},{"$f":"'DNSP Inputs O&M'!$D$193","v":73.92},null,{"$f":"B246*C246","v":598.75199999999995},{"$f":"E246/'DNSP Inputs O&M'!$D$183*0.8","v":119.7504},{"$f":"(F246+F247+F248)/C246","v":3.7795291341384205},null,{"$f":"'DNSP Inputs O&M'!$D$187*(1+'DNSP Inputs O&M'!$D$11)","v":8.5050000000000008},{"$f":"'DNSP Inputs O&M'!$D$194","v":61.44},null,{"$f":"I246*J246","v":522.54719999999998},{"$f":"L246/'DNSP Inputs O&M'!$D$183*0.8","v":104.50944},{"$f":"(M246+M247+M248)/J246","v":3.9685055908453419},null,{"$f":"'DNSP Inputs O&M'!$D$187*(1+'DNSP Inputs O&M'!$D$11)","v":8.5050000000000008},{"$f":"'DNSP Inputs O&M'!$D$195","v":48.96},null,{"$f":"P246*Q246","v":416.40480000000002},{"$f":"S246/'DNSP Inputs O&M'!$D$183*0.8","v":83.280960000000007},{"$f":"(T246+T247+T248)/Q246","v":3.9685055908453419},null,null,null,{"$f":"'DNSP Inputs O&M'!$E$187","v":8.1},{"$f":"'DNSP Inputs O&M'!$E$193","v":73.92},null,{"$f":"Y246*Z246","v":598.75199999999995},{"$f":"AB246/'DNSP Inputs O&M'!$E$183*0.8","v":119.7504},{"$f":"(AC246+AC247+AC248)/Z246","v":3.7795291341384205},null,{"$f":"'DNSP Inputs O&M'!$E$187*(1+'DNSP Inputs O&M'!$E$11)","v":8.5050000000000008},{"$f":"'DNSP Inputs O&M'!$E$194","v":61.44},null,{"$f":"AF246*AG246","v":522.54719999999998},{"$f":"AI246/'DNSP Inputs O&M'!$E$183*0.8","v":104.50944},{"$f":"(AJ246+AJ247+AJ248)/AG246","v":3.9685055908453419},null,{"$f":"'DNSP Inputs O&M'!$E$187*(1+'DNSP Inputs O&M'!$E$11)","v":8.5050000000000008},{"$f":"'DNSP Inputs O&M'!$E$195","v":48.96},null,{"$f":"AM246*AN246","v":416.40480000000002},{"$f":"AP246/'DNSP Inputs O&M'!$E$183*0.8","v":83.280960000000007},{"$f":"(AQ246+AQ247+AQ248)/AN246","v":3.9685055908453419},null,null,null,{"$f":"'DNSP Inputs O&M'!$F$187","v":8.1},{"$f":"'DNSP Inputs O&M'!$F$193","v":73.92},null,{"$f":"AV246*AW246","v":598.75199999999995},{"$f":"AY246/'DNSP Inputs O&M'!$F$183*0.8","v":119.7504},{"$f":"(AZ246+AZ247+AZ248)/AW246","v":3.7795291341384205},null,{"$f":"'DNSP Inputs O&M'!$F$187*(1+'DNSP Inputs O&M'!$F$11)","v":8.5050000000000008},{"$f":"'DNSP Inputs O&M'!$F$194","v":61.44},null,{"$f":"BC246*BD246","v":522.54719999999998},{"$f":"BF246/'DNSP Inputs O&M'!$F$183*0.8","v":104.50944},{"$f":"(BG246+BG247+BG248)/BD246","v":3.9685055908453419},null,{"$f":"'DNSP Inputs O&M'!$F$187*(1+'DNSP Inputs O&M'!$F$11)","v":8.5050000000000008},{"$f":"'DNSP Inputs O&M'!$F$195","v":48.96},null,{"$f":"BJ246*BK246","v":416.40480000000002},{"$f":"BM246/'DNSP Inputs O&M'!$F$183*0.8","v":83.280960000000007},{"$f":"(BN246+BN247+BN248)/BK246","v":3.9685055908453419},null,null,null,{"$f":"'DNSP Inputs O&M'!$G$187","v":8.1},{"$f":"'DNSP Inputs O&M'!$G$193","v":73.92},null,{"$f":"BS246*BT246","v":598.75199999999995},{"$f":"BV246/'DNSP Inputs O&M'!$G$183*0.8","v":119.7504},{"$f":"(BW246+BW247+BW248)/BT246","v":3.7795291341384205},null,{"$f":"'DNSP Inputs O&M'!$G$187*(1+'DNSP Inputs O&M'!$G$11)","v":8.5050000000000008},{"$f":"'DNSP Inputs O&M'!$G$194","v":61.44},null,{"$f":"BZ246*CA246","v":522.54719999999998},{"$f":"CC246/'DNSP Inputs O&M'!$G$183*0.8","v":104.50944},{"$f":"(CD246+CD247+CD248)/CA246","v":3.9685055908453419},null,{"$f":"'DNSP Inputs O&M'!$G$187*(1+'DNSP Inputs O&M'!$G$11)","v":8.5050000000000008},{"$f":"'DNSP Inputs O&M'!$G$195","v":48.96},null,{"$f":"CG246*CH246","v":416.40480000000002},{"$f":"CJ246/'DNSP Inputs O&M'!$G$183*0.8","v":83.280960000000007},{"$f":"(CK246+CK247+CK248)/CH246","v":3.9685055908453419},null,null,null,{"$f":"'DNSP Inputs O&M'!$H$187","v":8.1},{"$f":"'DNSP Inputs O&M'!$H$193","v":73.92},null,{"$f":"CP246*CQ246","v":598.75199999999995},{"$f":"CS246/'DNSP Inputs O&M'!$H$183*0.8","v":119.7504},{"$f":"(CT246+CT247+CT248)/CQ246","v":3.7795291341384205},null,{"$f":"'DNSP Inputs O&M'!$H$187*(1+'DNSP Inputs O&M'!$H$11)","v":8.5050000000000008},{"$f":"'DNSP Inputs O&M'!$H$194","v":61.44},null,{"$f":"CW246*CX246","v":522.54719999999998},{"$f":"CZ246/'DNSP Inputs O&M'!$H$183*0.8","v":104.50944},{"$f":"(DA246+DA247+DA248)/CX246","v":3.9685055908453419},null,{"$f":"'DNSP Inputs O&M'!$H$187*(1+'DNSP Inputs O&M'!$H$11)","v":8.5050000000000008},{"$f":"'DNSP Inputs O&M'!$H$195","v":48.96},null,{"$f":"DD246*DE246","v":416.40480000000002},{"$f":"DG246/'DNSP Inputs O&M'!$H$183*0.8","v":83.280960000000007},{"$f":"(DH246+DH247+DH248)/DE246","v":3.9685055908453419}]
["PE cell",{"$f":"'DNSP Inputs O&M'!$D$188","v":15.120000000000001},{"$f":"C246*'DNSP Inputs O&M'!$D$183/'DNSP Inputs O&M'!$D$184","v":36.96},null,{"$f":"B247*C247","v":558.8352000000001},{"$f":"E247/'DNSP Inputs O&M'!$D$183","v":139.70880000000002},null,null,{"$f":"'DNSP Inputs O&M'!$D$188*(1+'DNSP Inputs O&M'!$D$11)","v":15.876000000000001},{"$f":"J246*'DNSP Inputs O&M'!$D$183/'DNSP Inputs O&M'!$D$184","v":30.72},null,{"$f":"I247*J247","v":487.71072000000004},{"$f":"L247/'DNSP Inputs O&M'!$D$183","v":121.92768000000001},null,null,{"$f":"'DNSP Inputs O&M'!$D$188*(1+'DNSP Inputs O&M'!$D$11)","v":15.876000000000001},{"$f":"Q246*'DNSP Inputs O&M'!$D$183/'DNSP Inputs O&M'!$D$184","v":24.48},null,{"$f":"P247*Q247","v":388.64448000000004},{"$f":"S247/'DNSP Inputs O&M'!$D$183","v":97.161120000000011},null,null,null,null,{"$f":"'DNSP Inputs O&M'!$E$188","v":15.120000000000001},{"$f":"Z246*'DNSP Inputs O&M'!$E$183/'DNSP Inputs O&M'!$E$184","v":36.96},null,{"$f":"Y247*Z247","v":558.8352000000001},{"$f":"AB247/'DNSP Inputs O&M'!$E$183","v":139.70880000000002},null,null,{"$f":"'DNSP Inputs O&M'!$E$188*(1+'DNSP Inputs O&M'!$E$11)","v":15.876000000000001},{"$f":"AG246*'DNSP Inputs O&M'!$E$183/'DNSP Inputs O&M'!$E$184","v":30.72},null,{"$f":"AF247*AG247","v":487.71072000000004},{"$f":"AI247/'DNSP Inputs O&M'!$E$183","v":121.92768000000001},null,null,{"$f":"'DNSP Inputs O&M'!$E$188*(1+'DNSP Inputs O&M'!$E$11)","v":15.876000000000001},{"$f":"AN246*'DNSP Inputs O&M'!$E$183/'DNSP Inputs O&M'!$E$184","v":24.48},null,{"$f":"AM247*AN247","v":388.64448000000004},{"$f":"AP247/'DNSP Inputs O&M'!$E$183","v":97.161120000000011},null,null,null,null,{"$f":"'DNSP Inputs O&M'!$F$188","v":15.120000000000001},{"$f":"AW246*'DNSP Inputs O&M'!$F$183/'DNSP Inputs O&M'!$F$184","v":36.96},null,{"$f":"AV247*AW247","v":558.8352000000001},{"$f":"AY247/'DNSP Inputs O&M'!$F$183","v":139.70880000000002},null,null,{"$f":"'DNSP Inputs O&M'!$F$188*(1+'DNSP Inputs O&M'!$F$11)","v":15.876000000000001},{"$f":"BD246*'DNSP Inputs O&M'!$F$183/'DNSP Inputs O&M'!$F$184","v":30.72},null,{"$f":"BC247*BD247","v":487.71072000000004},{"$f":"BF247/'DNSP Inputs O&M'!$F$183","v":121.92768000000001},null,null,{"$f":"'DNSP Inputs O&M'!$F$188*(1+'DNSP Inputs O&M'!$F$11)","v":15.876000000000001},{"$f":"BK246*'DNSP Inputs O&M'!$F$183/'DNSP Inputs O&M'!$F$184","v":24.48},null,{"$f":"BJ247*BK247","v":388.64448000000004},{"$f":"BM247/'DNSP Inputs O&M'!$F$183","v":97.161120000000011},null,null,null,null,{"$f":"'DNSP Inputs O&M'!$G$188","v":15.120000000000001},{"$f":"BT246*'DNSP Inputs O&M'!$G$183/'DNSP Inputs O&M'!$G$184","v":36.96},null,{"$f":"BS247*BT247","v":558.8352000000001},{"$f":"BV247/'DNSP Inputs O&M'!$G$183","v":139.70880000000002},null,null,{"$f":"'DNSP Inputs O&M'!$G$188*(1+'DNSP Inputs O&M'!$G$11)","v":15.876000000000001},{"$f":"CA246*'DNSP Inputs O&M'!$G$183/'DNSP Inputs O&M'!$G$184","v":30.72},null,{"$f":"BZ247*CA247","v":487.71072000000004},{"$f":"CC247/'DNSP Inputs O&M'!$G$183","v":121.92768000000001},null,null,{"$f":"'DNSP Inputs O&M'!$G$188*(1+'DNSP Inputs O&M'!$G$11)","v":15.876000000000001},{"$f":"CH246*'DNSP Inputs O&M'!$G$183/'DNSP Inputs O&M'!$G$184","v":24.48},null,{"$f":"CG247*CH247","v":388.64448000000004},{"$f":"CJ247/'DNSP Inputs O&M'!$G$183","v":97.161120000000011},null,null,null,null,{"$f":"'DNSP Inputs O&M'!$H$188","v":15.120000000000001},{"$f":"CQ246*'DNSP Inputs O&M'!$H$183/'DNSP Inputs O&M'!$H$184","v":36.96},null,{"$f":"CP247*CQ247","v":558.8352000000001},{"$f":"CS247/'DNSP Inputs O&M'!$H$183","v":139.70880000000002},null,null,{"$f":"'DNSP Inputs O&M'!$H$188*(1+'DNSP Inputs O&M'!$H$11)","v":15.876000000000001},{"$f":"CX246*'DNSP Inputs O&M'!$H$183/'DNSP Inputs O&M'!$H$184","v":30.72},null,{"$f":"CW247*CX247","v":487.71072000000004},{"$f":"CZ247/'DNSP Inputs O&M'!$H$183","v":121.92768000000001},null,null,{"$f":"'DNSP Inputs O&M'!$H$188*(1+'DNSP Inputs O&M'!$H$11)","v":15.876000000000001},{"$f":"DE246*'DNSP Inputs O&M'!$H$183/'DNSP Inputs O&M'!$H$184","v":24.48},null,{"$f":"DD247*DE247","v":388.64448000000004},{"$f":"DG247/'DNSP Inputs O&M'!$H$183","v":97.161120000000011}]
["Miscellaneous",{"$f":"'DNSP Inputs O&M'!$D$190","v":1.3476456706921032},{"$f":"'DNSP Inputs O&M'!$D$193","v":73.92},null,{"$f":"B248*C248","v":99.617967977560269},{"$f":"E248/'DNSP Inputs O&M'!$D$183*0.8","v":19.923593595512056},null,null,{"$f":"'DNSP Inputs O&M'!$D$190*(1+'DNSP Inputs O&M'!$D$11)","v":1.4150279542267084},{"$f":"'DNSP Inputs O&M'!$D$194","v":61.44},null,{"$f":"I248*J248","v":86.939317507688955},{"$f":"L248/'DNSP Inputs O&M'!$D$183*0.8","v":17.38786350153779},null,null,{"$f":"'DNSP Inputs O&M'!$D$190*(1+'DNSP Inputs O&M'!$D$11)","v":1.4150279542267084},{"$f":"'DNSP Inputs O&M'!$D$195","v":48.96},null,{"$f":"P248*Q248","v":69.279768638939643},{"$f":"S248/'DNSP Inputs O&M'!$D$183*0.8","v":13.855953727787929},null,null,null,null,{"$f":"'DNSP Inputs O&M'!$E$190","v":1.3476456706921032},{"$f":"'DNSP Inputs O&M'!$E$193","v":73.92},null,{"$f":"Y248*Z248","v":99.617967977560269},{"$f":"AB248/'DNSP Inputs O&M'!$E$183*0.8","v":19.923593595512056},null,null,{"$f":"'DNSP Inputs O&M'!$E$190*(1+'DNSP Inputs O&M'!$E$11)","v":1.4150279542267084},{"$f":"'DNSP Inputs O&M'!$E$194","v":61.44},null,{"$f":"AF248*AG248","v":86.939317507688955},{"$f":"AI248/'DNSP Inputs O&M'!$E$183*0.8","v":17.38786350153779},null,null,{"$f":"'DNSP Inputs O&M'!$E$190*(1+'DNSP Inputs O&M'!$E$11)","v":1.4150279542267084},{"$f":"'DNSP Inputs O&M'!$E$195","v":48.96},null,{"$f":"AM248*AN248","v":69.279768638939643},{"$f":"AP248/'DNSP Inputs O&M'!$E$183*0.8","v":13.855953727787929},null,null,null,null,{"$f":"'DNSP Inputs O&M'!$F$190","v":1.3476456706921032},{"$f":"'DNSP Inputs O&M'!$F$193","v":73.92},null,{"$f":"AV248*AW248","v":99.617967977560269},{"$f":"AY248/'DNSP Inputs O&M'!$F$183*0.8","v":19.923593595512056},null,null,{"$f":"'DNSP Inputs O&M'!$F$190*(1+'DNSP Inputs O&M'!$F$11)","v":1.4150279542267084},{"$f":"'DNSP Inputs O&M'!$F$194","v":61.44},null,{"$f":"BC248*BD248","v":86.939317507688955},{"$f":"BF248/'DNSP Inputs O&M'!$F$183*0.8","v":17.38786350153779},null,null,{"$f":"'DNSP Inputs O&M'!$F$190*(1+'DNSP Inputs O&M'!$F$11)","v":1.4150279542267084},{"$f":"'DNSP Inputs O&M'!$F$195","v":48.96},null,{"$f":"BJ248*BK248","v":69.279768638939643},{"$f":"BM248/'DNSP Inputs O&M'!$F$183*0.8","v":13.855953727787929},null,null,null,null,{"$f":"'DNSP Inputs O&M'!$G$190","v":1.3476456706921032},{"$f":"'DNSP Inputs O&M'!$G$193","v":73.92},null,{"$f":"BS248*BT248","v":99.617967977560269},{"$f":"BV248/'DNSP Inputs O&M'!$G$183*0.8","v":19.923593595512056},null,null,{"$f":"'DNSP Inputs O&M'!$G$190*(1+'DNSP Inputs O&M'!$G$11)","v":1.4150279542267084},{"$f":"'DNSP Inputs O&M'!$G$194","v":61.44},null,{"$f":"BZ248*CA248","v":86.939317507688955},{"$f":"CC248/'DNSP Inputs O&M'!$G$183*0.8","v":17.38786350153779},null,null,{"$f":"'DNSP Inputs O&M'!$G$190*(1+'DNSP Inputs O&M'!$G$11)","v":1.4150279542267084},{"$f":"'DNSP Inputs O&M'!$G$195","v":48.96},null,{"$f":"CG248*CH248","v":69.279768638939643},{"$f":"CJ248/'DNSP Inputs O&M'!$G$183*0.8","v":13.855953727787929},null,null,null,null,{"$f":"'DNSP Inputs O&M'!$H$190","v":1.3476456706921032},{"$f":"'DNSP Inputs O&M'!$H$193","v":73.92},null,{"$f":"CP248*CQ248","v":99.617967977560269},{"$f":"CS248/'DNSP Inputs O&M'!$H$183*0.8","v":19.923593595512056},null,null,{"$f":"'DNSP Inputs O&M'!$H$190*(1+'DNSP Inputs O&M'!$H$11)","v":1.4150279542267084},{"$f":"'DNSP Inputs O&M'!$H$194","v":61.44},null,{"$f":"CW248*CX248","v":86.939317507688955},{"$f":"CZ248/'DNSP Inputs O&M'!$H$183*0.8","v":17.38786350153779},null,null,{"$f":"'DNSP Inputs O&M'!$H$190*(1+'DNSP Inputs O&M'!$H$11)","v":1.4150279542267084},{"$f":"'DNSP Inputs O&M'!$H$195","v":48.96},null,{"$f":"DD248*DE248","v":69.279768638939643},{"$f":"DG248/'DNSP Inputs O&M'!$H$183*0.8","v":13.855953727787929}]
["Materials - repair of faults"]
["Lamp",{"$f":"'DNSP Inputs O&M'!$D$187","v":8.1},{"$f":"'DNSP Inputs O&M'!$D$196*'DNSP Inputs O&M'!$D$199","v":14.975999999999999},null,{"$f":"B250*C250","v":121.30559999999998},{"$f":"(E250+E251+E252+E253)/'DNSP Inputs O&M'!$D$196","v":13.767645670692103},{"$f":"F250*D235","v":1.4306523754959359},null,{"$f":"'DNSP Inputs O&M'!$D$187*(1+'DNSP Inputs O&M'!$D$11)","v":8.5050000000000008},{"$f":"'DNSP Inputs O&M'!$D$197*'DNSP Inputs O&M'!$D$199","v":12.096},null,{"$f":"I250*J250","v":102.87648000000002},{"$f":"(L250+L251+L252+L253)/'DNSP Inputs O&M'!$D$197","v":14.456027954226707},{"$f":"M250*D235","v":1.5021849942707328},null,{"$f":"'DNSP Inputs O&M'!$D$187*(1+'DNSP Inputs O&M'!$D$11)","v":8.5050000000000008},{"$f":"'DNSP Inputs O&M'!$D$198*'DNSP Inputs O&M'!$D$199","v":9.7919999999999998},null,{"$f":"P250*Q250","v":83.280960000000007},{"$f":"(S250+S251+S252+S253)/'DNSP Inputs O&M'!$D$198","v":14.456027954226712},{"$f":"T250*D235","v":1.5021849942707333},null,null,null,{"$f":"'DNSP Inputs O&M'!$E$187","v":8.1},{"$f":"'DNSP Inputs O&M'!$E$196*'DNSP Inputs O&M'!$E$199","v":14.975999999999999},null,{"$f":"Y250*Z250","v":121.30559999999998},{"$f":"(AB250+AB251+AB252+AB253)/'DNSP Inputs O&M'!$E$196","v":13.767645670692103},{"$f":"AC250*AA235","v":1.4306523754959359},null,{"$f":"'DNSP Inputs O&M'!$E$187*(1+'DNSP Inputs O&M'!$E$11)","v":8.5050000000000008},{"$f":"'DNSP Inputs O&M'!$E$197*'DNSP Inputs O&M'!$E$199","v":12.096},null,{"$f":"AF250*AG250","v":102.87648000000002},{"$f":"(AI250+AI251+AI252+AI253)/'DNSP Inputs O&M'!$E$197","v":14.456027954226707},{"$f":"AJ250*AA235","v":1.5021849942707328},null,{"$f":"'DNSP Inputs O&M'!$E$187*(1+'DNSP Inputs O&M'!$E$11)","v":8.5050000000000008},{"$f":"'DNSP Inputs O&M'!$E$198*'DNSP Inputs O&M'!$E$199","v":9.7919999999999998},null,{"$f":"AM250*AN250","v":83.280960000000007},{"$f":"(AP250+AP251+AP252+AP253)/'DNSP Inputs O&M'!$E$198","v":14.456027954226712},{"$f":"AQ250*AA235","v":1.5021849942707333},null,null,null,{"$f":"'DNSP Inputs O&M'!$F$187","v":8.1},{"$f":"'DNSP Inputs O&M'!$F$196*'DNSP Inputs O&M'!$F$199","v":14.975999999999999},null,{"$f":"AV250*AW250","v":121.30559999999998},{"$f":"(AY250+AY251+AY252+AY253)/'DNSP Inputs O&M'!$F$196","v":13.767645670692103},{"$f":"AZ250*AX235","v":1.4306523754959359},null,{"$f":"'DNSP Inputs O&M'!$F$187*(1+'DNSP Inputs O&M'!$F$11)","v":8.5050000000000008},{"$f":"'DNSP Inputs O&M'!$F$197*'DNSP Inputs O&M'!$F$199","v":12.096},null,{"$f":"BC250*BD250","v":102.87648000000002},{"$f":"(BF250+BF251+BF252+BF253)/'DNSP Inputs O&M'!$F$197","v":14.456027954226707},{"$f":"BG250*AX235","v":1.5021849942707328},null,{"$f":"'DNSP Inputs O&M'!$F$187*(1+'DNSP Inputs O&M'!$F$11)","v":8.5050000000000008},{"$f":"'DNSP Inputs O&M'!$F$198*'DNSP Inputs O&M'!$F$199","v":9.7919999999999998},null,{"$f":"BJ250*BK250","v":83.280960000000007},{"$f":"(BM250+BM251+BM252+BM253)/'DNSP Inputs O&M'!$F$198","v":14.456027954226712},{"$f":"BN250*AX235","v":1.5021849942707333},null,null,null,{"$f":"'DNSP Inputs O&M'!$G$187","v":8.1},{"$f":"'DNSP Inputs O&M'!$G$196*'DNSP Inputs O&M'!$G$199","v":14.975999999999999},null,{"$f":"BS250*BT250","v":121.30559999999998},{"$f":"(BV250+BV251+BV252+BV253)/'DNSP Inputs O&M'!$G$196","v":13.767645670692103},{"$f":"BW250*BU235","v":1.4306523754959359},null,{"$f":"'DNSP Inputs O&M'!$G$187*(1+'DNSP Inputs O&M'!$G$11)","v":8.5050000000000008},{"$f":"'DNSP Inputs O&M'!$G$197*'DNSP Inputs O&M'!$G$199","v":12.096},null,{"$f":"BZ250*CA250","v":102.87648000000002},{"$f":"(CC250+CC251+CC252+CC253)/'DNSP Inputs O&M'!$G$197","v":14.456027954226707},{"$f":"CD250*BU235","v":1.5021849942707328},null,{"$f":"'DNSP Inputs O&M'!$G$187*(1+'DNSP Inputs O&M'!$G$11)","v":8.5050000000000008},{"$f":"'DNSP Inputs O&M'!$G$198*'DNSP Inputs O&M'!$G$199","v":9.7919999999999998},null,{"$f":"CG250*CH250","v":83.280960000000007},{"$f":"(CJ250+CJ251+CJ252+CJ253)/'DNSP Inputs O&M'!$G$198","v":14.456027954226712},{"$f":"CK250*BU235","v":1.5021849942707333},null,null,null,{"$f":"'DNSP Inputs O&M'!$H$187","v":8.1},{"$f":"'DNSP Inputs O&M'!$H$196*'DNSP Inputs O&M'!$H$199","v":14.975999999999999},null,{"$f":"CP250*CQ250","v":121.30559999999998},{"$f":"(CS250+CS251+CS252+CS253)/'DNSP Inputs O&M'!$H$196","v":13.767645670692103},{"$f":"CT250*CR235","v":1.4306523754959359},null,{"$f":"'DNSP Inputs O&M'!$H$187*(1+'DNSP Inputs O&M'!$H$11)","v":8.5050000000000008},{"$f":"'DNSP Inputs O&M'!$H$197*'DNSP Inputs O&M'!$H$199","v":12.096},null,{"$f":"CW250*CX250","v":102.87648000000002},{"$f":"(CZ250+CZ251+CZ252+CZ253)/'DNSP Inputs O&M'!$H$197","v":14.456027954226707},{"$f":"DA250*CR235","v":1.5021849942707328},null,{"$f":"'DNSP Inputs O&M'!$H$187*(1+'DNSP Inputs O&M'!$H$11)","v":8.5050000000000008},{"$f":"'DNSP Inputs O&M'!$H$198*'DNSP Inputs O&M'!$H$199","v":9.7919999999999998},null,{"$f":"DD250*DE250","v":83.280960000000007},{"$f":"(DG250+DG251+DG252+DG253)/'DNSP Inputs O&M'!$H$198","v":14.456027954226712},{"$f":"DH250*CR235","v":1.5021849942707333}]
["PE cell",{"$f":"'DNSP Inputs O&M'!$D$188","v":15.120000000000001},{"$f":"'DNSP Inputs O&M'!$D$196*'DNSP Inputs O&M'!$D$200","v":12.48},null,{"$f":"B251*C251","v":188.69760000000002},null,null,null,{"$f":"'DNSP Inputs O&M'!$D$188*(1+'DNSP Inputs O&M'!$D$11)","v":15.876000000000001},{"$f":"'DNSP Inputs O&M'!$D$197*'DNSP Inputs O&M'!$D$200","v":10.08},null,{"$f":"I251*J251","v":160.03008000000003},null,null,null,{"$f":"'DNSP Inputs O&M'!$D$188*(1+'DNSP Inputs O&M'!$D$11)","v":15.876000000000001},{"$f":"'DNSP Inputs O&M'!$D$198*'DNSP Inputs O&M'!$D$200","v":8.16},null,{"$f":"P251*Q251","v":129.54816000000002},null,null,null,null,null,{"$f":"'DNSP Inputs O&M'!$E$188","v":15.120000000000001},{"$f":"'DNSP Inputs O&M'!$E$196*'DNSP Inputs O&M'!$E$200","v":12.48},null,{"$f":"Y251*Z251","v":188.69760000000002},null,null,null,{"$f":"'DNSP Inputs O&M'!$E$188*(1+'DNSP Inputs O&M'!$E$11)","v":15.876000000000001},{"$f":"'DNSP Inputs O&M'!$E$197*'DNSP Inputs O&M'!$E$200","v":10.08},null,{"$f":"AF251*AG251","v":160.03008000000003},null,null,null,{"$f":"'DNSP Inputs O&M'!$E$188*(1+'DNSP Inputs O&M'!$E$11)","v":15.876000000000001},{"$f":"'DNSP Inputs O&M'!$E$198*'DNSP Inputs O&M'!$E$200","v":8.16},null,{"$f":"AM251*AN251","v":129.54816000000002},null,null,null,null,null,{"$f":"'DNSP Inputs O&M'!$F$188","v":15.120000000000001},{"$f":"'DNSP Inputs O&M'!$F$196*'DNSP Inputs O&M'!$F$200","v":12.48},null,{"$f":"AV251*AW251","v":188.69760000000002},null,null,null,{"$f":"'DNSP Inputs O&M'!$F$188*(1+'DNSP Inputs O&M'!$F$11)","v":15.876000000000001},{"$f":"'DNSP Inputs O&M'!$F$197*'DNSP Inputs O&M'!$F$200","v":10.08},null,{"$f":"BC251*BD251","v":160.03008000000003},null,null,null,{"$f":"'DNSP Inputs O&M'!$F$188*(1+'DNSP Inputs O&M'!$F$11)","v":15.876000000000001},{"$f":"'DNSP Inputs O&M'!$F$198*'DNSP Inputs O&M'!$F$200","v":8.16},null,{"$f":"BJ251*BK251","v":129.54816000000002},null,null,null,null,null,{"$f":"'DNSP Inputs O&M'!$G$188","v":15.120000000000001},{"$f":"'DNSP Inputs O&M'!$G$196*'DNSP Inputs O&M'!$G$200","v":12.48},null,{"$f":"BS251*BT251","v":188.69760000000002},null,null,null,{"$f":"'DNSP Inputs O&M'!$G$188*(1+'DNSP Inputs O&M'!$G$11)","v":15.876000000000001},{"$f":"'DNSP Inputs O&M'!$G$197*'DNSP Inputs O&M'!$G$200","v":10.08},null,{"$f":"BZ251*CA251","v":160.03008000000003},null,null,null,{"$f":"'DNSP Inputs O&M'!$G$188*(1+'DNSP Inputs O&M'!$G$11)","v":15.876000000000001},{"$f":"'DNSP Inputs O&M'!$G$198*'DNSP Inputs O&M'!$G$200","v":8.16},null,{"$f":"CG251*CH251","v":129.54816000000002},null,null,null,null,null,{"$f":"'DNSP Inputs O&M'!$H$188","v":15.120000000000001},{"$f":"'DNSP Inputs O&M'!$H$196*'DNSP Inputs O&M'!$H$200","v":12.48},null,{"$f":"CP251*CQ251","v":188.69760000000002},null,null,null,{"$f":"'DNSP Inputs O&M'!$H$188*(1+'DNSP Inputs O&M'!$H$11)","v":15.876000000000001},{"$f":"'DNSP Inputs O&M'!$H$197*'DNSP Inputs O&M'!$H$200","v":10.08},null,{"$f":"CW251*CX251","v":160.03008000000003},null,null,null,{"$f":"'DNSP Inputs O&M'!$H$188*(1+'DNSP Inputs O&M'!$H$11)","v":15.876000000000001},{"$f":"'DNSP Inputs O&M'!$H$198*'DNSP Inputs O&M'!$H$200","v":8.16},null,{"$f":"DD251*DE251","v":129.54816000000002}]
["Luminaire",{"$f":"'DNSP Inputs O&M'!$D$189","v":260.27999999999997},{"$f":"'DNSP Inputs O&M'!$D$196*'DNSP Inputs O&M'!$D$201","v":0},null,{"$f":"B252*C252","v":0},null,null,null,{"$f":"'DNSP Inputs O&M'!$D$189*(1+'DNSP Inputs O&M'!$D$11)","v":273.29399999999998},{"$f":"'DNSP Inputs O&M'!$D$197*'DNSP Inputs O&M'!$D$201","v":0},null,{"$f":"I252*J252","v":0},null,null,null,{"$f":"'DNSP Inputs O&M'!$D$189*(1+'DNSP Inputs O&M'!$D$11)","v":273.29399999999998},{"$f":"'DNSP Inputs O&M'!$D$198*'DNSP Inputs O&M'!$D$201","v":0},null,{"$f":"P252*Q252","v":0},null,null,null,null,null,{"$f":"'DNSP Inputs O&M'!$E$189","v":260.27999999999997},{"$f":"'DNSP Inputs O&M'!$E$196*'DNSP Inputs O&M'!$E$201","v":0},null,{"$f":"Y252*Z252","v":0},null,null,null,{"$f":"'DNSP Inputs O&M'!$E$189*(1+'DNSP Inputs O&M'!$E$11)","v":273.29399999999998},{"$f":"'DNSP Inputs O&M'!$E$197*'DNSP Inputs O&M'!$E$201","v":0},null,{"$f":"AF252*AG252","v":0},null,null,null,{"$f":"'DNSP Inputs O&M'!$E$189*(1+'DNSP Inputs O&M'!$E$11)","v":273.29399999999998},{"$f":"'DNSP Inputs O&M'!$E$198*'DNSP Inputs O&M'!$E$201","v":0},null,{"$f":"AM252*AN252","v":0},null,null,null,null,null,{"$f":"'DNSP Inputs O&M'!$F$189","v":260.27999999999997},{"$f":"'DNSP Inputs O&M'!$F$196*'DNSP Inputs O&M'!$F$201","v":0},null,{"$f":"AV252*AW252","v":0},null,null,null,{"$f":"'DNSP Inputs O&M'!$F$189*(1+'DNSP Inputs O&M'!$F$11)","v":273.29399999999998},{"$f":"'DNSP Inputs O&M'!$F$197*'DNSP Inputs O&M'!$F$201","v":0},null,{"$f":"BC252*BD252","v":0},null,null,null,{"$f":"'DNSP Inputs O&M'!$F$189*(1+'DNSP Inputs O&M'!$F$11)","v":273.29399999999998},{"$f":"'DNSP Inputs O&M'!$F$198*'DNSP Inputs O&M'!$F$201","v":0},null,{"$f":"BJ252*BK252","v":0},null,null,null,null,null,{"$f":"'DNSP Inputs O&M'!$G$189","v":260.27999999999997},{"$f":"'DNSP Inputs O&M'!$G$196*'DNSP Inputs O&M'!$G$201","v":0},null,{"$f":"BS252*BT252","v":0},null,null,null,{"$f":"'DNSP Inputs O&M'!$G$189*(1+'DNSP Inputs O&M'!$G$11)","v":273.29399999999998},{"$f":"'DNSP Inputs O&M'!$G$197*'DNSP Inputs O&M'!$G$201","v":0},null,{"$f":"BZ252*CA252","v":0},null,null,null,{"$f":"'DNSP Inputs O&M'!$G$189*(1+'DNSP Inputs O&M'!$G$11)","v":273.29399999999998},{"$f":"'DNSP Inputs O&M'!$G$198*'DNSP Inputs O&M'!$G$201","v":0},null,{"$f":"CG252*CH252","v":0},null,null,null,null,null,{"$f":"'DNSP Inputs O&M'!$H$189","v":260.27999999999997},{"$f":"'DNSP Inputs O&M'!$H$196*'DNSP Inputs O&M'!$H$201","v":0},null,{"$f":"CP252*CQ252","v":0},null,null,null,{"$f":"'DNSP Inputs O&M'!$H$189*(1+'DNSP Inputs O&M'!$H$11)","v":273.29399999999998},{"$f":"'DNSP Inputs O&M'!$H$197*'DNSP Inputs O&M'!$H$201","v":0},null,{"$f":"CW252*CX252","v":0},null,null,null,{"$f":"'DNSP Inputs O&M'!$H$189*(1+'DNSP Inputs O&M'!$H$11)","v":273.29399999999998},{"$f":"'DNSP Inputs O&M'!$H$198*'DNSP Inputs O&M'!$H$201","v":0},null,{"$f":"DD252*DE252","v":0}]
["Miscellaneous",{"$f":"'DNSP Inputs O&M'!$D$191","v":13.476456706921033},{"$f":"'DNSP Inputs O&M'!$D$196*'DNSP Inputs O&M'!$D$202","v":2.4960000000000004},null,{"$f":"B253*C253","v":33.637235940474902},null,null,null,{"$f":"'DNSP Inputs O&M'!$D$191*(1+'DNSP Inputs O&M'!$D$11)","v":14.150279542267084},{"$f":"'DNSP Inputs O&M'!$D$197*'DNSP Inputs O&M'!$D$202","v":2.016},null,{"$f":"I253*J253","v":28.52696355721044},null,null,null,{"$f":"'DNSP Inputs O&M'!$D$191*(1+'DNSP Inputs O&M'!$D$11)","v":14.150279542267084},{"$f":"'DNSP Inputs O&M'!$D$198*'DNSP Inputs O&M'!$D$202","v":1.6320000000000001},null,{"$f":"P253*Q253","v":23.093256212979881},null,null,null,null,null,{"$f":"'DNSP Inputs O&M'!$E$191","v":13.476456706921033},{"$f":"'DNSP Inputs O&M'!$E$196*'DNSP Inputs O&M'!$E$202","v":2.4960000000000004},null,{"$f":"Y253*Z253","v":33.637235940474902},null,null,null,{"$f":"'DNSP Inputs O&M'!$E$191*(1+'DNSP Inputs O&M'!$E$11)","v":14.150279542267084},{"$f":"'DNSP Inputs O&M'!$E$197*'DNSP Inputs O&M'!$E$202","v":2.016},null,{"$f":"AF253*AG253","v":28.52696355721044},null,null,null,{"$f":"'DNSP Inputs O&M'!$E$191*(1+'DNSP Inputs O&M'!$E$11)","v":14.150279542267084},{"$f":"'DNSP Inputs O&M'!$E$198*'DNSP Inputs O&M'!$E$202","v":1.6320000000000001},null,{"$f":"AM253*AN253","v":23.093256212979881},null,null,null,null,null,{"$f":"'DNSP Inputs O&M'!$F$191","v":13.476456706921033},{"$f":"'DNSP Inputs O&M'!$F$196*'DNSP Inputs O&M'!$F$202","v":2.4960000000000004},null,{"$f":"AV253*AW253","v":33.637235940474902},null,null,null,{"$f":"'DNSP Inputs O&M'!$F$191*(1+'DNSP Inputs O&M'!$F$11)","v":14.150279542267084},{"$f":"'DNSP Inputs O&M'!$F$197*'DNSP Inputs O&M'!$F$202","v":2.016},null,{"$f":"BC253*BD253","v":28.52696355721044},null,null,null,{"$f":"'DNSP Inputs O&M'!$F$191*(1+'DNSP Inputs O&M'!$F$11)","v":14.150279542267084},{"$f":"'DNSP Inputs O&M'!$F$198*'DNSP Inputs O&M'!$F$202","v":1.6320000000000001},null,{"$f":"BJ253*BK253","v":23.093256212979881},null,null,null,null,null,{"$f":"'DNSP Inputs O&M'!$G$191","v":13.476456706921033},{"$f":"'DNSP Inputs O&M'!$G$196*'DNSP Inputs O&M'!$G$202","v":2.4960000000000004},null,{"$f":"BS253*BT253","v":33.637235940474902},null,null,null,{"$f":"'DNSP Inputs O&M'!$G$191*(1+'DNSP Inputs O&M'!$G$11)","v":14.150279542267084},{"$f":"'DNSP Inputs O&M'!$G$197*'DNSP Inputs O&M'!$G$202","v":2.016},null,{"$f":"BZ253*CA253","v":28.52696355721044},null,null,null,{"$f":"'DNSP Inputs O&M'!$G$191*(1+'DNSP Inputs O&M'!$G$11)","v":14.150279542267084},{"$f":"'DNSP Inputs O&M'!$G$198*'DNSP Inputs O&M'!$G$202","v":1.6320000000000001},null,{"$f":"CG253*CH253","v":23.093256212979881},null,null,null,null,null,{"$f":"'DNSP Inputs O&M'!$H$191","v":13.476456706921033},{"$f":"'DNSP Inputs O&M'!$H$196*'DNSP Inputs O&M'!$H$202","v":2.4960000000000004},null,{"$f":"CP253*CQ253","v":33.637235940474902},null,null,null,{"$f":"'DNSP Inputs O&M'!$H$191*(1+'DNSP Inputs O&M'!$H$11)","v":14.150279542267084},{"$f":"'DNSP Inputs O&M'!$H$197*'DNSP Inputs O&M'!$H$202","v":2.016},null,{"$f":"CW253*CX253","v":28.52696355721044},null,null,null,{"$f":"'DNSP Inputs O&M'!$H$191*(1+'DNSP Inputs O&M'!$H$11)","v":14.150279542267084},{"$f":"'DNSP Inputs O&M'!$H$198*'DNSP Inputs O&M'!$H$202","v":1.6320000000000001},null,{"$f":"DD253*DE253","v":23.093256212979881}]
["Labour - bulk lamp change"]
["Crew costs",{"$f":"'DNSP Inputs O&M'!$D$12","v":111.36223236834823},{"$f":"'DNSP Inputs O&M'!$D$192","v":2},{"$f":"'DNSP Inputs O&M'!$D$17","v":7.5},{"$f":"B255*C255*D255","v":1670.4334855252234},{"$f":"E255/'DNSP Inputs O&M'!$D$183*(C246+C247)/C246*0.8","v":501.13004565756705},{"$f":"(F255+F256)/C246","v":8.3067511587874332},null,{"$f":"'DNSP Inputs O&M'!$D$12","v":111.36223236834823},{"$f":"'DNSP Inputs O&M'!$D$192","v":2},{"$f":"'DNSP Inputs O&M'!$D$17","v":7.5},{"$f":"I255*J255*K255","v":1670.4334855252234},{"$f":"L255/'DNSP Inputs O&M'!$D$183*(J246+J247)/J246*0.8","v":501.13004565756705},{"$f":"(M255+M256)/J246","v":10.486979909791131},null,{"$f":"'DNSP Inputs O&M'!$D$12","v":111.36223236834823},{"$f":"'DNSP Inputs O&M'!$D$192","v":2},{"$f":"'DNSP Inputs O&M'!$D$17","v":7.5},{"$f":"P255*Q255*R255","v":1670.4334855252234},{"$f":"S255/'DNSP Inputs O&M'!$D$183*(Q246+Q247)/Q246*0.8","v":501.13004565756705},{"$f":"(T255+T256)/Q246","v":13.160131651502596},null,null,null,{"$f":"'DNSP Inputs O&M'!$E$12","v":{"$error":"#REF!"}},{"$f":"'DNSP Inputs O&M'!$E$192","v":2},{"$f":"'DNSP Inputs O&M'!$E$17","v":7.5},{"$f":"Y255*Z255*AA255","v":{"$error":"#REF!"}},{"$f":"AB255/'DNSP Inputs O&M'!$E$183*(Z246+Z247)/Z246*0.8","v":{"$error":"#REF!"}},{"$f":"(AC255+AC256)/Z246","v":{"$error":"#REF!"}},null,{"$f":"'DNSP Inputs O&M'!$E$12","v":{"$error":"#REF!"}},{"$f":"'DNSP Inputs O&M'!$E$192","v":2},{"$f":"'DNSP Inputs O&M'!$E$17","v":7.5},{"$f":"AF255*AG255*AH255","v":{"$error":"#REF!"}},{"$f":"AI255/'DNSP Inputs O&M'!$E$183*(AG246+AG247)/AG246*0.8","v":{"$error":"#REF!"}},{"$f":"(AJ255+AJ256)/AG246","v":{"$error":"#REF!"}},null,{"$f":"'DNSP Inputs O&M'!$E$12","v":{"$error":"#REF!"}},{"$f":"'DNSP Inputs O&M'!$E$192","v":2},{"$f":"'DNSP Inputs O&M'!$E$17","v":7.5},{"$f":"AM255*AN255*AO255","v":{"$error":"#REF!"}},{"$f":"AP255/'DNSP Inputs O&M'!$E$183*(AN246+AN247)/AN246*0.8","v":{"$error":"#REF!"}},{"$f":"(AQ255+AQ256)/AN246","v":{"$error":"#REF!"}},null,null,null,{"$f":"'DNSP Inputs O&M'!$F$12","v":{"$error":"#REF!"}},{"$f":"'DNSP Inputs O&M'!$F$192","v":2},{"$f":"'DNSP Inputs O&M'!$F$17","v":7.5},{"$f":"AV255*AW255*AX255","v":{"$error":"#REF!"}},{"$f":"AY255/'DNSP Inputs O&M'!$F$183*(AW246+AW247)/AW246*0.8","v":{"$error":"#REF!"}},{"$f":"(AZ255+AZ256)/AW246","v":{"$error":"#REF!"}},null,{"$f":"'DNSP Inputs O&M'!$F$12","v":{"$error":"#REF!"}},{"$f":"'DNSP Inputs O&M'!$F$192","v":2},{"$f":"'DNSP Inputs O&M'!$F$17","v":7.5},{"$f":"BC255*BD255*BE255","v":{"$error":"#REF!"}},{"$f":"BF255/'DNSP Inputs O&M'!$F$183*(BD246+BD247)/BD246*0.8","v":{"$error":"#REF!"}},{"$f":"(BG255+BG256)/BD246","v":{"$error":"#REF!"}},null,{"$f":"'DNSP Inputs O&M'!$F$12","v":{"$error":"#REF!"}},{"$f":"'DNSP Inputs O&M'!$F$192","v":2},{"$f":"'DNSP Inputs O&M'!$F$17","v":7.5},{"$f":"BJ255*BK255*BL255","v":{"$error":"#REF!"}},{"$f":"BM255/'DNSP Inputs O&M'!$F$183*(BK246+BK247)/BK246*0.8","v":{"$error":"#REF!"}},{"$f":"(BN255+BN256)/BK246","v":{"$error":"#REF!"}},null,null,null,{"$f":"'DNSP Inputs O&M'!$G$12","v":{"$error":"#REF!"}},{"$f":"'DNSP Inputs O&M'!$G$192","v":2},{"$f":"'DNSP Inputs O&M'!$G$17","v":7.5},{"$f":"BS255*BT255*BU255","v":{"$error":"#REF!"}},{"$f":"BV255/'DNSP Inputs O&M'!$G$183*(BT246+BT247)/BT246*0.8","v":{"$error":"#REF!"}},{"$f":"(BW255+BW256)/BT246","v":{"$error":"#REF!"}},null,{"$f":"'DNSP Inputs O&M'!$G$12","v":{"$error":"#REF!"}},{"$f":"'DNSP Inputs O&M'!$G$192","v":2},{"$f":"'DNSP Inputs O&M'!$G$17","v":7.5},{"$f":"BZ255*CA255*CB255","v":{"$error":"#REF!"}},{"$f":"CC255/'DNSP Inputs O&M'!$G$183*(CA246+CA247)/CA246*0.8","v":{"$error":"#REF!"}},{"$f":"(CD255+CD256)/CA246","v":{"$error":"#REF!"}},null,{"$f":"'DNSP Inputs O&M'!$G$12","v":{"$error":"#REF!"}},{"$f":"'DNSP Inputs O&M'!$G$192","v":2},{"$f":"'DNSP Inputs O&M'!$G$17","v":7.5},{"$f":"CG255*CH255*CI255","v":{"$error":"#REF!"}},{"$f":"CJ255/'DNSP Inputs O&M'!$G$183*(CH246+CH247)/CH246*0.8","v":{"$error":"#REF!"}},{"$f":"(CK255+CK256)/CH246","v":{"$error":"#REF!"}},null,null,null,{"$f":"'DNSP Inputs O&M'!$H$12","v":{"$error":"#REF!"}},{"$f":"'DNSP Inputs O&M'!$H$192","v":2},{"$f":"'DNSP Inputs O&M'!$H$17","v":7.5},{"$f":"CP255*CQ255*CR255","v":{"$error":"#REF!"}},{"$f":"CS255/'DNSP Inputs O&M'!$H$183*(CQ246+CQ247)/CQ246*0.8","v":{"$error":"#REF!"}},{"$f":"(CT255+CT256)/CQ246","v":{"$error":"#REF!"}},null,{"$f":"'DNSP Inputs O&M'!$H$12","v":{"$error":"#REF!"}},{"$f":"'DNSP Inputs O&M'!$H$192","v":2},{"$f":"'DNSP Inputs O&M'!$H$17","v":7.5},{"$f":"CW255*CX255*CY255","v":{"$error":"#REF!"}},{"$f":"CZ255/'DNSP Inputs O&M'!$H$183*(CX246+CX247)/CX246*0.8","v":{"$error":"#REF!"}},{"$f":"(DA255+DA256)/CX246","v":{"$error":"#REF!"}},null,{"$f":"'DNSP Inputs O&M'!$H$12","v":{"$error":"#REF!"}},{"$f":"'DNSP Inputs O&M'!$H$192","v":2},{"$f":"'DNSP Inputs O&M'!$H$17","v":7.5},{"$f":"DD255*DE255*DF255","v":{"$error":"#REF!"}},{"$f":"DG255/'DNSP Inputs O&M'!$H$183*(DE246+DE247)/DE246*0.8","v":{"$error":"#REF!"}},{"$f":"(DH255+DH256)/DE246","v":{"$error":"#REF!"}}]
["Elevated platform vehicle costs",{"$f":"'DNSP Inputs O&M'!$D$14","v":50.18},1,{"$f":"'DNSP Inputs O&M'!$D$17","v":7.5},{"$f":"B256*C256*D256","v":376.35},{"$f":"E256/'DNSP Inputs O&M'!$D$183*(C246+C247)/C246*0.8","v":112.905},null,null,{"$f":"'DNSP Inputs O&M'!$D$15","v":63.64},1,{"$f":"'DNSP Inputs O&M'!$D$17","v":7.5},{"$f":"I256*J256*K256","v":477.3},{"$f":"L256/'DNSP Inputs O&M'!$D$183*(J246+J247)/J246*0.8","v":143.19000000000003},null,null,{"$f":"'DNSP Inputs O&M'!$D$15","v":63.64},1,{"$f":"'DNSP Inputs O&M'!$D$17","v":7.5},{"$f":"P256*Q256*R256","v":477.3},{"$f":"S256/'DNSP Inputs O&M'!$D$183*(Q246+Q247)/Q246*0.8","v":143.19},null,null,null,null,{"$f":"'DNSP Inputs O&M'!$E$14","v":50.18},1,{"$f":"'DNSP Inputs O&M'!$E$17","v":7.5},{"$f":"Y256*Z256*AA256","v":376.35},{"$f":"AB256/'DNSP Inputs O&M'!$E$183*(Z246+Z247)/Z246*0.8","v":112.905},null,null,{"$f":"'DNSP Inputs O&M'!$E$15","v":63.64},1,{"$f":"'DNSP Inputs O&M'!$E$17","v":7.5},{"$f":"AF256*AG256*AH256","v":477.3},{"$f":"AI256/'DNSP Inputs O&M'!$E$183*(AG246+AG247)/AG246*0.8","v":143.19000000000003},null,null,{"$f":"'DNSP Inputs O&M'!$E$15","v":63.64},1,{"$f":"'DNSP Inputs O&M'!$E$17","v":7.5},{"$f":"AM256*AN256*AO256","v":477.3},{"$f":"AP256/'DNSP Inputs O&M'!$E$183*(AN246+AN247)/AN246*0.8","v":143.19},null,null,null,null,{"$f":"'DNSP Inputs O&M'!$F$14","v":50.18},1,{"$f":"'DNSP Inputs O&M'!$F$17","v":7.5},{"$f":"AV256*AW256*AX256","v":376.35},{"$f":"AY256/'DNSP Inputs O&M'!$F$183*(AW246+AW247)/AW246*0.8","v":112.905},null,null,{"$f":"'DNSP Inputs O&M'!$F$15","v":63.64},1,{"$f":"'DNSP Inputs O&M'!$F$17","v":7.5},{"$f":"BC256*BD256*BE256","v":477.3},{"$f":"BF256/'DNSP Inputs O&M'!$F$183*(BD246+BD247)/BD246*0.8","v":143.19000000000003},null,null,{"$f":"'DNSP Inputs O&M'!$F$15","v":63.64},1,{"$f":"'DNSP Inputs O&M'!$F$17","v":7.5},{"$f":"BJ256*BK256*BL256","v":477.3},{"$f":"BM256/'DNSP Inputs O&M'!$F$183*(BK246+BK247)/BK246*0.8","v":143.19},null,null,null,null,{"$f":"'DNSP Inputs O&M'!$G$14","v":50.18},1,{"$f":"'DNSP Inputs O&M'!$G$17","v":7.5},{"$f":"BS256*BT256*BU256","v":376.35},{"$f":"BV256/'DNSP Inputs O&M'!$G$183*(BT246+BT247)/BT246*0.8","v":112.905},null,null,{"$f":"'DNSP Inputs O&M'!$G$15","v":63.64},1,{"$f":"'DNSP Inputs O&M'!$G$17","v":7.5},{"$f":"BZ256*CA256*CB256","v":477.3},{"$f":"CC256/'DNSP Inputs O&M'!$G$183*(CA246+CA247)/CA246*0.8","v":143.19000000000003},null,null,{"$f":"'DNSP Inputs O&M'!$G$15","v":63.64},1,{"$f":"'DNSP Inputs O&M'!$G$17","v":7.5},{"$f":"CG256*CH256*CI256","v":477.3},{"$f":"CJ256/'DNSP Inputs O&M'!$G$183*(CH246+CH247)/CH246*0.8","v":143.19},null,null,null,null,{"$f":"'DNSP Inputs O&M'!$H$14","v":50.18},1,{"$f":"'DNSP Inputs O&M'!$H$17","v":7.5},{"$f":"CP256*CQ256*CR256","v":376.35},{"$f":"CS256/'DNSP Inputs O&M'!$H$183*(CQ246+CQ247)/CQ246*0.8","v":112.905},null,null,{"$f":"'DNSP Inputs O&M'!$H$15","v":63.64},1,{"$f":"'DNSP Inputs O&M'!$H$17","v":7.5},{"$f":"CW256*CX256*CY256","v":477.3},{"$f":"CZ256/'DNSP Inputs O&M'!$H$183*(CX246+CX247)/CX246*0.8","v":143.19000000000003},null,null,{"$f":"'DNSP Inputs O&M'!$H$15","v":63.64},1,{"$f":"'DNSP Inputs O&M'!$H$17","v":7.5},{"$f":"DD256*DE256*DF256","v":477.3},{"$f":"DG256/'DNSP Inputs O&M'!$H$183*(DE246+DE247)/DE246*0.8","v":143.19}]
["Labour - repair of faults"]
["Crew costs",{"$f":"'DNSP Inputs O&M'!$D$12","v":111.36223236834823},{"$f":"'DNSP Inputs O&M'!$D$192","v":2},{"$f":"'DNSP Inputs O&M'!$D$17","v":7.5},{"$f":"B258*C258*D258","v":1670.4334855252234},{"$f":"(E258+E259)/'DNSP Inputs O&M'!$D$196","v":82.002543490593894},{"$f":"F258*D235","v":8.5212197094283155},null,{"$f":"'DNSP Inputs O&M'!$D$12","v":111.36223236834823},{"$f":"'DNSP Inputs O&M'!$D$192","v":2},{"$f":"'DNSP Inputs O&M'!$D$17","v":7.5},{"$f":"I258*J258*K258","v":1670.4334855252234},{"$f":"(L258+L259)/'DNSP Inputs O&M'!$D$197","v":106.53439908359243},{"$f":"M258*D235","v":11.070425166840579},null,{"$f":"'DNSP Inputs O&M'!$D$12","v":111.36223236834823},{"$f":"'DNSP Inputs O&M'!$D$192","v":2},{"$f":"'DNSP Inputs O&M'!$D$17","v":7.5},{"$f":"P258*Q258*R258","v":1670.4334855252234},{"$f":"(S258+S259)/'DNSP Inputs O&M'!$D$198","v":131.60131651502593},{"$f":"T258*D235","v":13.675231088450124},null,null,null,{"$f":"'DNSP Inputs O&M'!$E$12","v":{"$error":"#REF!"}},{"$f":"'DNSP Inputs O&M'!$E$192","v":2},{"$f":"'DNSP Inputs O&M'!$E$17","v":7.5},{"$f":"Y258*Z258*AA258","v":{"$error":"#REF!"}},{"$f":"(AB258+AB259)/'DNSP Inputs O&M'!$E$196","v":{"$error":"#REF!"}},{"$f":"AC258*AA235","v":{"$error":"#REF!"}},null,{"$f":"'DNSP Inputs O&M'!$E$12","v":{"$error":"#REF!"}},{"$f":"'DNSP Inputs O&M'!$E$192","v":2},{"$f":"'DNSP Inputs O&M'!$E$17","v":7.5},{"$f":"AF258*AG258*AH258","v":{"$error":"#REF!"}},{"$f":"(AI258+AI259)/'DNSP Inputs O&M'!$E$197","v":{"$error":"#REF!"}},{"$f":"AJ258*AA235","v":{"$error":"#REF!"}},null,{"$f":"'DNSP Inputs O&M'!$E$12","v":{"$error":"#REF!"}},{"$f":"'DNSP Inputs O&M'!$E$192","v":2},{"$f":"'DNSP Inputs O&M'!$E$17","v":7.5},{"$f":"AM258*AN258*AO258","v":{"$error":"#REF!"}},{"$f":"(AP258+AP259)/'DNSP Inputs O&M'!$E$198","v":{"$error":"#REF!"}},{"$f":"AQ258*AA235","v":{"$error":"#REF!"}},null,null,null,{"$f":"'DNSP Inputs O&M'!$F$12","v":{"$error":"#REF!"}},{"$f":"'DNSP Inputs O&M'!$F$192","v":2},{"$f":"'DNSP Inputs O&M'!$F$17","v":7.5},{"$f":"AV258*AW258*AX258","v":{"$error":"#REF!"}},{"$f":"(AY258+AY259)/'DNSP Inputs O&M'!$F$196","v":{"$error":"#REF!"}},{"$f":"AZ258*AX235","v":{"$error":"#REF!"}},null,{"$f":"'DNSP Inputs O&M'!$F$12","v":{"$error":"#REF!"}},{"$f":"'DNSP Inputs O&M'!$F$192","v":2},{"$f":"'DNSP Inputs O&M'!$F$17","v":7.5},{"$f":"BC258*BD258*BE258","v":{"$error":"#REF!"}},{"$f":"(BF258+BF259)/'DNSP Inputs O&M'!$F$197","v":{"$error":"#REF!"}},{"$f":"BG258*AX235","v":{"$error":"#REF!"}},null,{"$f":"'DNSP Inputs O&M'!$F$12","v":{"$error":"#REF!"}},{"$f":"'DNSP Inputs O&M'!$F$192","v":2},{"$f":"'DNSP Inputs O&M'!$F$17","v":7.5},{"$f":"BJ258*BK258*BL258","v":{"$error":"#REF!"}},{"$f":"(BM258+BM259)/'DNSP Inputs O&M'!$F$198","v":{"$error":"#REF!"}},{"$f":"BN258*AX235","v":{"$error":"#REF!"}},null,null,null,{"$f":"'DNSP Inputs O&M'!$G$12","v":{"$error":"#REF!"}},{"$f":"'DNSP Inputs O&M'!$G$192","v":2},{"$f":"'DNSP Inputs O&M'!$G$17","v":7.5},{"$f":"BS258*BT258*BU258","v":{"$error":"#REF!"}},{"$f":"(BV258+BV259)/'DNSP Inputs O&M'!$G$196","v":{"$error":"#REF!"}},{"$f":"BW258*BU235","v":{"$error":"#REF!"}},null,{"$f":"'DNSP Inputs O&M'!$G$12","v":{"$error":"#REF!"}},{"$f":"'DNSP Inputs O&M'!$G$192","v":2},{"$f":"'DNSP Inputs O&M'!$G$17","v":7.5},{"$f":"BZ258*CA258*CB258","v":{"$error":"#REF!"}},{"$f":"(CC258+CC259)/'DNSP Inputs O&M'!$G$197","v":{"$error":"#REF!"}},{"$f":"CD258*BU235","v":{"$error":"#REF!"}},null,{"$f":"'DNSP Inputs O&M'!$G$12","v":{"$error":"#REF!"}},{"$f":"'DNSP Inputs O&M'!$G$192","v":2},{"$f":"'DNSP Inputs O&M'!$G$17","v":7.5},{"$f":"CG258*CH258*CI258","v":{"$error":"#REF!"}},{"$f":"(CJ258+CJ259)/'DNSP Inputs O&M'!$G$198","v":{"$error":"#REF!"}},{"$f":"CK258*BU235","v":{"$error":"#REF!"}},null,null,null,{"$f":"'DNSP Inputs O&M'!$H$12","v":{"$error":"#REF!"}},{"$f":"'DNSP Inputs O&M'!$H$192","v":2},{"$f":"'DNSP Inputs O&M'!$H$17","v":7.5},{"$f":"CP258*CQ258*CR258","v":{"$error":"#REF!"}},{"$f":"(CS258+CS259)/'DNSP Inputs O&M'!$H$196","v":{"$error":"#REF!"}},{"$f":"CT258*CR235","v":{"$error":"#REF!"}},null,{"$f":"'DNSP Inputs O&M'!$H$12","v":{"$error":"#REF!"}},{"$f":"'DNSP Inputs O&M'!$H$192","v":2},{"$f":"'DNSP Inputs O&M'!$H$17","v":7.5},{"$f":"CW258*CX258*CY258","v":{"$error":"#REF!"}},{"$f":"(CZ258+CZ259)/'DNSP Inputs O&M'!$H$197","v":{"$error":"#REF!"}},{"$f":"DA258*CR235","v":{"$error":"#REF!"}},null,{"$f":"'DNSP Inputs O&M'!$H$12","v":{"$error":"#REF!"}},{"$f":"'DNSP Inputs O&M'!$H$192","v":2},{"$f":"'DNSP Inputs O&M'!$H$17","v":7.5},{"$f":"DD258*DE258*DF258","v":{"$error":"#REF!"}},{"$f":"(DG258+DG259)/'DNSP Inputs O&M'!$H$198","v":{"$error":"#REF!"}},{"$f":"DH258*CR235","v":{"$error":"#REF!"}}]
["Elevated platform vehicle costs",{"$f":"'DNSP Inputs O&M'!$D$14","v":50.18},1,{"$f":"'DNSP Inputs O&M'!$D$17","v":7.5},{"$f":"B259*C259*D259","v":376.35},null,null,null,{"$f":"'DNSP Inputs O&M'!$D$15","v":63.64},1,{"$f":"'DNSP Inputs O&M'!$D$17","v":7.5},{"$f":"I259*J259*K259","v":477.3},null,null,null,{"$f":"'DNSP Inputs O&M'!$D$15","v":63.64},1,{"$f":"'DNSP Inputs O&M'!$D$17","v":7.5},{"$f":"P259*Q259*R259","v":477.3},null,null,null,null,null,{"$f":"'DNSP Inputs O&M'!$E$14","v":50.18},1,{"$f":"'DNSP Inputs O&M'!$E$17","v":7.5},{"$f":"Y259*Z259*AA259","v":376.35},null,null,null,{"$f":"'DNSP Inputs O&M'!$E$15","v":63.64},1,{"$f":"'DNSP Inputs O&M'!$E$17","v":7.5},{"$f":"AF259*AG259*AH259","v":477.3},null,null,null,{"$f":"'DNSP Inputs O&M'!$E$15","v":63.64},1,{"$f":"'DNSP Inputs O&M'!$E$17","v":7.5},{"$f":"AM259*AN259*AO259","v":477.3},null,null,null,null,null,{"$f":"'DNSP Inputs O&M'!$F$14","v":50.18},1,{"$f":"'DNSP Inputs O&M'!$F$17","v":7.5},{"$f":"AV259*AW259*AX259","v":376.35},null,null,null,{"$f":"'DNSP Inputs O&M'!$F$15","v":63.64},1,{"$f":"'DNSP Inputs O&M'!$F$17","v":7.5},{"$f":"BC259*BD259*BE259","v":477.3},null,null,null,{"$f":"'DNSP Inputs O&M'!$F$15","v":63.64},1,{"$f":"'DNSP Inputs O&M'!$F$17","v":7.5},{"$f":"BJ259*BK259*BL259","v":477.3},null,null,null,null,null,{"$f":"'DNSP Inputs O&M'!$G$14","v":50.18},1,{"$f":"'DNSP Inputs O&M'!$G$17","v":7.5},{"$f":"BS259*BT259*BU259","v":376.35},null,null,null,{"$f":"'DNSP Inputs O&M'!$G$15","v":63.64},1,{"$f":"'DNSP Inputs O&M'!$G$17","v":7.5},{"$f":"BZ259*CA259*CB259","v":477.3},null,null,null,{"$f":"'DNSP Inputs O&M'!$G$15","v":63.64},1,{"$f":"'DNSP Inputs O&M'!$G$17","v":7.5},{"$f":"CG259*CH259*CI259","v":477.3},null,null,null,null,null,{"$f":"'DNSP Inputs O&M'!$H$14","v":50.18},1,{"$f":"'DNSP Inputs O&M'!$H$17","v":7.5},{"$f":"CP259*CQ259*CR259","v":376.35},null,null,null,{"$f":"'DNSP Inputs O&M'!$H$15","v":63.64},1,{"$f":"'DNSP Inputs O&M'!$H$17","v":7.5},{"$f":"CW259*CX259*CY259","v":477.3},null,null,null,{"$f":"'DNSP Inputs O&M'!$H$15","v":63.64},1,{"$f":"'DNSP Inputs O&M'!$H$17","v":7.5},{"$f":"DD259*DE259*DF259","v":477.3}]
["Other Maintenance and Repair costs",null,null,null,null,null,{"$f":"'DNSP Inputs O&M'!$D$209","v":{"$error":"#REF!"}},null,null,null,null,null,null,{"$f":"'DNSP Inputs O&M'!$D$209","v":{"$error":"#REF!"}},null,null,null,null,null,null,{"$f":"'DNSP Inputs O&M'!$D$209","v":{"$error":"#REF!"}},null,null,null,null,null,null,null,null,{"$f":"'DNSP Inputs O&M'!$E$209","v":{"$error":"#REF!"}},null,null,null,null,null,null,{"$f":"'DNSP Inputs O&M'!$E$209","v":{"$error":"#REF!"}},null,null,null,null,null,null,{"$f":"'DNSP Inputs O&M'!$E$209","v":{"$error":"#REF!"}},null,null,null,null,null,null,null,null,{"$f":"'DNSP Inputs O&M'!$F$209","v":{"$error":"#REF!"}},null,null,null,null,null,null,{"$f":"'DNSP Inputs O&M'!$F$209","v":{"$error":"#REF!"}},null,null,null,null,null,null,{"$f":"'DNSP Inputs O&M'!$F$209","v":{"$error":"#REF!"}},null,null,null,null,null,null,null,null,{"$f":"'DNSP Inputs O&M'!$G$209","v":{"$error":"#REF!"}},null,null,null,null,null,null,{"$f":"'DNSP Inputs O&M'!$G$209","v":{"$error":"#REF!"}},null,null,null,null,null,null,{"$f":"'DNSP Inputs O&M'!$G$209","v":{"$error":"#REF!"}},null,null,null,null,null,null,null,null,{"$f":"'DNSP Inputs O&M'!$H$209","v":{"$error":"#REF!"}},null,null,null,null,null,null,{"$f":"'DNSP Inputs O&M'!$H$209","v":{"$error":"#REF!"}},null,null,null,null,null,null,{"$f":"'DNSP Inputs O&M'!$H$209","v":{"$error":"#REF!"}}]
[]
["Overheads",{"$f":"'DNSP Inputs O&M'!$D$18","v":0.25},null,null,null,null,{"$f":"B262*SUM(G246:G260)","v":{"$error":"#REF!"}},null,{"$f":"'DNSP Inputs O&M'!$D$18","v":0.25},null,null,null,null,{"$f":"I262*SUM(N246:N260)","v":{"$error":"#REF!"}},null,{"$f":"'DNSP Inputs O&M'!$D$18","v":0.25},null,null,null,null,{"$f":"P262*SUM(U246:U260)","v":{"$error":"#REF!"}},null,null,null,{"$f":"'DNSP Inputs O&M'!$E$18","v":0.25},null,null,null,null,{"$f":"Y262*SUM(AD246:AD260)","v":{"$error":"#REF!"}},null,{"$f":"'DNSP Inputs O&M'!$E$18","v":0.25},null,null,null,null,{"$f":"AF262*SUM(AK246:AK260)","v":{"$error":"#REF!"}},null,{"$f":"'DNSP Inputs O&M'!$E$18","v":0.25},null,null,null,null,{"$f":"AM262*SUM(AR246:AR260)","v":{"$error":"#REF!"}},null,null,null,{"$f":"'DNSP Inputs O&M'!$F$18","v":0.25},null,null,null,null,{"$f":"AV262*SUM(BA246:BA260)","v":{"$error":"#REF!"}},null,{"$f":"'DNSP Inputs O&M'!$F$18","v":0.25},null,null,null,null,{"$f":"BC262*SUM(BH246:BH260)","v":{"$error":"#REF!"}},null,{"$f":"'DNSP Inputs O&M'!$F$18","v":0.25},null,null,null,null,{"$f":"BJ262*SUM(BO246:BO260)","v":{"$error":"#REF!"}},null,null,null,{"$f":"'DNSP Inputs O&M'!$G$18","v":0.25},null,null,null,null,{"$f":"BS262*SUM(BX246:BX260)","v":{"$error":"#REF!"}},null,{"$f":"'DNSP Inputs O&M'!$G$18","v":0.25},null,null,null,null,{"$f":"BZ262*SUM(CE246:CE260)","v":{"$error":"#REF!"}},null,{"$f":"'DNSP Inputs O&M'!$G$18","v":0.25},null,null,null,null,{"$f":"CG262*SUM(CL246:CL260)","v":{"$error":"#REF!"}},null,null,null,{"$f":"'DNSP Inputs O&M'!$H$18","v":0.25},null,null,null,null,{"$f":"CP262*SUM(CU246:CU260)","v":{"$error":"#REF!"}},null,{"$f":"'DNSP Inputs O&M'!$H$18","v":0.25},null,null,null,null,{"$f":"CW262*SUM(DB246:DB260)","v":{"$error":"#REF!"}},null,{"$f":"'DNSP Inputs O&M'!$H$18","v":0.25},null,null,null,null,{"$f":"DD262*SUM(DI246:DI260)","v":{"$error":"#REF!"}}]
[]
[null,null,null,null,null,null,{"$f":"SUM(G246,G250,G255,G258,G260,G262)","v":{"$error":"#REF!"}},null,null,null,null,null,null,{"$f":"SUM(N246,N250,N255,N258,N260,N262)","v":{"$error":"#REF!"}},null,null,null,null,null,null,{"$f":"SUM(U246,U250,U255,U258,U260,U262)","v":{"$error":"#REF!"}},null,null,null,null,null,null,null,null,{"$f":"SUM(AD246,AD250,AD255,AD258,AD260,AD262)","v":{"$error":"#REF!"}},null,null,null,null,null,null,{"$f":"SUM(AK246,AK250,AK255,AK258,AK260,AK262)","v":{"$error":"#REF!"}},null,null,null,null,null,null,{"$f":"SUM(AR246,AR250,AR255,AR258,AR260,AR262)","v":{"$error":"#REF!"}},null,null,null,null,null,null,null,null,{"$f":"SUM(BA246,BA250,BA255,BA258,BA260,BA262)","v":{"$error":"#REF!"}},null,null,null,null,null,null,{"$f":"SUM(BH246,BH250,BH255,BH258,BH260,BH262)","v":{"$error":"#REF!"}},null,null,null,null,null,null,{"$f":"SUM(BO246,BO250,BO255,BO258,BO260,BO262)","v":{"$error":"#REF!"}},null,null,null,null,null,null,null,null,{"$f":"SUM(BX246,BX250,BX255,BX258,BX260,BX262)","v":{"$error":"#REF!"}},null,null,null,null,null,null,{"$f":"SUM(CE246,CE250,CE255,CE258,CE260,CE262)","v":{"$error":"#REF!"}},null,null,null,null,null,null,{"$f":"SUM(CL246,CL250,CL255,CL258,CL260,CL262)","v":{"$error":"#REF!"}},null,null,null,null,null,null,null,null,{"$f":"SUM(CU246,CU250,CU255,CU258,CU260,CU262)","v":{"$error":"#REF!"}},null,null,null,null,null,null,{"$f":"SUM(DB246,DB250,DB255,DB258,DB260,DB262)","v":{"$error":"#REF!"}},null,null,null,null,null,null,{"$f":"SUM(DI246,DI250,DI255,DI258,DI260,DI262)","v":{"$error":"#REF!"}}]
[]
[]
[]
[]
["T5 (2 X 24W) - Cost build-up"]
[]
["Additional assumptions"]
["Proportion of luminaire that will fail before bulk change",null,null,{"$f":"'DNSP Inputs O&M'!$D$235","v":0.41565636121546606},null,null,null,null,null,null,null,null,null,null,null,null,null,null,null,null,null,null,null,null,null,null,{"$f":"'DNSP Inputs O&M'!$E$235","v":0.41565636121546606},null,null,null,null,null,null,null,null,null,null,null,null,null,null,null,null,null,null,null,null,null,null,{"$f":"'DNSP Inputs O&M'!$F$235","v":0.41565636121546606},null,null,null,null,null,null,null,null,null,null,null,null,null,null,null,null,null,null,null,null,null,null,{"$f":"'DNSP Inputs O&M'!$G$235","v":0.41565636121546606},null,null,null,null,null,null,null,null,null,null,null,null,null,null,null,null,null,null,null,null,null,null,{"$f":"'DNSP Inputs O&M'!$H$235","v":0.41565636121546606}]
["Proportion of lamps that will fail before bulk change (per year)",null,null,{"$f":"D272/'DNSP Inputs O&M'!$D$232","v":0.10391409030386652},null,null,null,null,null,null,null,null,null,null,null,null,null,null,null,null,null,null,null,null,null,null,{"$f":"AA272/'DNSP Inputs O&M'!$E$232","v":0.10391409030386652},null,null,null,null,null,null,null,null,null,null,null,null,null,null,null,null,null,null,null,null,null,null,{"$f":"AX272/'DNSP Inputs O&M'!$F$232","v":0.10391409030386652},null,null,null,null,null,null,null,null,null,null,null,null,null,null,null,null,null,null,null,null,null,null,{"$f":"BU272/'DNSP Inputs O&M'!$G$232","v":0.10391409030386652},null,null,null,null,null,null,null,null,null,null,null,null,null,null,null,null,null,null,null,null,null,null,{"$f":"CR272/'DNSP Inputs O&M'!$H$232","v":0.10391409030386652}]
["Overheads are applied to material and labour components"]
["All costs and charges are exclusive of GST"]
[]
[null,"Urban",null,null,null,null,null,null,"Rural",null,null,null,null,null,null,"Remote",null,null,null,null,null,null,null,null,"Urban",null,null,null,null,null,null,"Rural",null,null,null,null,null,null,"Remote",null,null,null,null,null,null,null,null,"Urban",null,null,null,null,null,null,"Rural",null,null,null,null,null,null,"Remote",null,null,null,null,null,null,null,null,"Urban",null,null,null,null,null,null,"Rural",null,null,null,null,null,null,"Remote",null,null,null,null,null,null,null,null,"Urban",null,null,null,null,null,null,"Rural",null,null,null,null,null,null,"Remote"]
[]
[null,"Unit rate","Number","Hours","Cost","Annualised","Annualised",null,"Unit rate","Number","Hours","Cost","Annualised","Annualised",null,"Unit rate","Number","Hours","Cost","Annualised","Annualised",null,null,null,"Unit rate","Number","Hours","Cost","Annualised","Annualised",null,"Unit rate","Number","Hours","Cost","Annualised","Annualised",null,"Unit rate","Number","Hours","Cost","Annualised","Annualised",null,null,null,"Unit rate","Number","Hours","Cost","Annualised","Annualised",null,"Unit rate","Number","Hours","Cost","Annualised","Annualised",null,"Unit rate","Number","Hours","Cost","Annualised","Annualised",null,null,null,"Unit rate","Number","Hours","Cost","Annualised","Annualised",null,"Unit rate","Number","Hours","Cost","Annualised","Annualised",null,"Unit rate","Number","Hours","Cost","Annualised","Annualised",null,null,null,"Unit rate","Number","Hours","Cost","Annualised","Annualised",null,"Unit rate","Number","Hours","Cost","Annualised","Annualised",null,"Unit rate","Number","Hours","Cost","Annualised","Annualised"]
[null,null,null,null,null," cost","unit cost",null,null,null,null,null," cost","unit cost",null,null,null,null,null," cost","unit cost",null,null,null,null,null,null,null," cost","unit cost",null,null,null,null,null," cost","unit cost",null,null,null,null,null," cost","unit cost",null,null,null,null,null,null,null," cost","unit cost",null,null,null,null,null," cost","unit cost",null,null,null,null,null," cost","unit cost",null,null,null,null,null,null,null," cost","unit cost",null,null,null,null,null," cost","unit cost",null,null,null,null,null," cost","unit cost",null,null,null,null,null,null,null," cost","unit cost",null,null,null,null,null," cost","unit cost",null,null,null,null,null," cost","unit cost"]
["T5 (2 X 24W)"]
["Bulk change & repairs"]
["Materials - bulk lamp change"]
["Lamp",{"$f":"'DNSP Inputs O&M'!$D$236","v":8.1},{"$f":"'DNSP Inputs O&M'!$D$242","v":73.92},null,{"$f":"B284*C284","v":598.75199999999995},{"$f":"E284/'DNSP Inputs O&M'!$D$232","v":149.68799999999999},{"$f":"(F284+F285+F286)/C284","v":4.2519114176730257},null,{"$f":"'DNSP Inputs O&M'!$D$236*(1+'DNSP Inputs O&M'!$D$11)","v":8.5050000000000008},{"$f":"'DNSP Inputs O&M'!$D$243","v":61.44},null,{"$f":"I284*J284","v":522.54719999999998},{"$f":"L284/'DNSP Inputs O&M'!$D$232","v":130.63679999999999},{"$f":"(M284+M285+M286)/J284","v":4.4645069885566766},null,{"$f":"'DNSP Inputs O&M'!$D$236*(1+'DNSP Inputs O&M'!$D$11)","v":8.5050000000000008},{"$f":"'DNSP Inputs O&M'!$D$244","v":48.96},null,{"$f":"P284*Q284","v":416.40480000000002},{"$f":"S284/'DNSP Inputs O&M'!$D$232","v":104.10120000000001},{"$f":"(T284+T285+T286)/Q284","v":4.4645069885566775},null,null,null,{"$f":"'DNSP Inputs O&M'!$E$236","v":8.1},{"$f":"'DNSP Inputs O&M'!$E$242","v":73.92},null,{"$f":"Y284*Z284","v":598.75199999999995},{"$f":"AB284/'DNSP Inputs O&M'!$E$232","v":149.68799999999999},{"$f":"(AC284+AC285+AC286)/Z284","v":4.2519114176730257},null,{"$f":"'DNSP Inputs O&M'!$E$236*(1+'DNSP Inputs O&M'!$E$11)","v":8.5050000000000008},{"$f":"'DNSP Inputs O&M'!$E$243","v":61.44},null,{"$f":"AF284*AG284","v":522.54719999999998},{"$f":"AI284/'DNSP Inputs O&M'!$E$232","v":130.63679999999999},{"$f":"(AJ284+AJ285+AJ286)/AG284","v":4.4645069885566766},null,{"$f":"'DNSP Inputs O&M'!$E$236*(1+'DNSP Inputs O&M'!$E$11)","v":8.5050000000000008},{"$f":"'DNSP Inputs O&M'!$E$244","v":48.96},null,{"$f":"AM284*AN284","v":416.40480000000002},{"$f":"AP284/'DNSP Inputs O&M'!$E$232","v":104.10120000000001},{"$f":"(AQ284+AQ285+AQ286)/AN284","v":4.4645069885566775},null,null,null,{"$f":"'DNSP Inputs O&M'!$F$236","v":8.1},{"$f":"'DNSP Inputs O&M'!$F$242","v":73.92},null,{"$f":"AV284*AW284","v":598.75199999999995},{"$f":"AY284/'DNSP Inputs O&M'!$F$232","v":149.68799999999999},{"$f":"(AZ284+AZ285+AZ286)/AW284","v":4.2519114176730257},null,{"$f":"'DNSP Inputs O&M'!$F$236*(1+'DNSP Inputs O&M'!$F$11)","v":8.5050000000000008},{"$f":"'DNSP Inputs O&M'!$F$243","v":61.44},null,{"$f":"BC284*BD284","v":522.54719999999998},{"$f":"BF284/'DNSP Inputs O&M'!$F$232","v":130.63679999999999},{"$f":"(BG284+BG285+BG286)/BD284","v":4.4645069885566766},null,{"$f":"'DNSP Inputs O&M'!$F$236*(1+'DNSP Inputs O&M'!$F$11)","v":8.5050000000000008},{"$f":"'DNSP Inputs O&M'!$F$244","v":48.96},null,{"$f":"BJ284*BK284","v":416.40480000000002},{"$f":"BM284/'DNSP Inputs O&M'!$F$232","v":104.10120000000001},{"$f":"(BN284+BN285+BN286)/BK284","v":4.4645069885566775},null,null,null,{"$f":"'DNSP Inputs O&M'!$G$236","v":8.1},{"$f":"'DNSP Inputs O&M'!$G$242","v":73.92},null,{"$f":"BS284*BT284","v":598.75199999999995},{"$f":"BV284/'DNSP Inputs O&M'!$G$232","v":149.68799999999999},{"$f":"(BW284+BW285+BW286)/BT284","v":4.2519114176730257},null,{"$f":"'DNSP Inputs O&M'!$G$236*(1+'DNSP Inputs O&M'!$G$11)","v":8.5050000000000008},{"$f":"'DNSP Inputs O&M'!$G$243","v":61.44},null,{"$f":"BZ284*CA284","v":522.54719999999998},{"$f":"CC284/'DNSP Inputs O&M'!$G$232","v":130.63679999999999},{"$f":"(CD284+CD285+CD286)/CA284","v":4.4645069885566766},null,{"$f":"'DNSP Inputs O&M'!$G$236*(1+'DNSP Inputs O&M'!$G$11)","v":8.5050000000000008},{"$f":"'DNSP Inputs O&M'!$G$244","v":48.96},null,{"$f":"CG284*CH284","v":416.40480000000002},{"$f":"CJ284/'DNSP Inputs O&M'!$G$232","v":104.10120000000001},{"$f":"(CK284+CK285+CK286)/CH284","v":4.4645069885566775},null,null,null,{"$f":"'DNSP Inputs O&M'!$H$236","v":8.1},{"$f":"'DNSP Inputs O&M'!$H$242","v":73.92},null,{"$f":"CP284*CQ284","v":598.75199999999995},{"$f":"CS284/'DNSP Inputs O&M'!$H$232","v":149.68799999999999},{"$f":"(CT284+CT285+CT286)/CQ284","v":4.2519114176730257},null,{"$f":"'DNSP Inputs O&M'!$H$236*(1+'DNSP Inputs O&M'!$H$11)","v":8.5050000000000008},{"$f":"'DNSP Inputs O&M'!$H$243","v":61.44},null,{"$f":"CW284*CX284","v":522.54719999999998},{"$f":"CZ284/'DNSP Inputs O&M'!$H$232","v":130.63679999999999},{"$f":"(DA284+DA285+DA286)/CX284","v":4.4645069885566766},null,{"$f":"'DNSP Inputs O&M'!$H$236*(1+'DNSP Inputs O&M'!$H$11)","v":8.5050000000000008},{"$f":"'DNSP Inputs O&M'!$H$244","v":48.96},null,{"$f":"DD284*DE284","v":416.40480000000002},{"$f":"DG284/'DNSP Inputs O&M'!$H$232","v":104.10120000000001},{"$f":"(DH284+DH285+DH286)/DE284","v":4.4645069885566775}]
["PE cell",{"$f":"'DNSP Inputs O&M'!$D$237","v":15.120000000000001},{"$f":"C284*'DNSP Inputs O&M'!$D$232/'DNSP Inputs O&M'!$D$233","v":36.96},null,{"$f":"B285*C285","v":558.8352000000001},{"$f":"E285/'DNSP Inputs O&M'!$D$232","v":139.70880000000002},null,null,{"$f":"'DNSP Inputs O&M'!$D$237*(1+'DNSP Inputs O&M'!$D$11)","v":15.876000000000001},{"$f":"J284*'DNSP Inputs O&M'!$D$232/'DNSP Inputs O&M'!$D$233","v":30.72},null,{"$f":"I285*J285","v":487.71072000000004},{"$f":"L285/'DNSP Inputs O&M'!$D$232","v":121.92768000000001},null,null,{"$f":"'DNSP Inputs O&M'!$D$237*(1+'DNSP Inputs O&M'!$D$11)","v":15.876000000000001},{"$f":"Q284*'DNSP Inputs O&M'!$D$232/'DNSP Inputs O&M'!$D$233","v":24.48},null,{"$f":"P285*Q285","v":388.64448000000004},{"$f":"S285/'DNSP Inputs O&M'!$D$232","v":97.161120000000011},null,null,null,null,{"$f":"'DNSP Inputs O&M'!$E$237","v":15.120000000000001},{"$f":"Z284*'DNSP Inputs O&M'!$E$232/'DNSP Inputs O&M'!$E$233","v":36.96},null,{"$f":"Y285*Z285","v":558.8352000000001},{"$f":"AB285/'DNSP Inputs O&M'!$E$232","v":139.70880000000002},null,null,{"$f":"'DNSP Inputs O&M'!$E$237*(1+'DNSP Inputs O&M'!$E$11)","v":15.876000000000001},{"$f":"AG284*'DNSP Inputs O&M'!$E$232/'DNSP Inputs O&M'!$E$233","v":30.72},null,{"$f":"AF285*AG285","v":487.71072000000004},{"$f":"AI285/'DNSP Inputs O&M'!$E$232","v":121.92768000000001},null,null,{"$f":"'DNSP Inputs O&M'!$E$237*(1+'DNSP Inputs O&M'!$E$11)","v":15.876000000000001},{"$f":"AN284*'DNSP Inputs O&M'!$E$232/'DNSP Inputs O&M'!$E$233","v":24.48},null,{"$f":"AM285*AN285","v":388.64448000000004},{"$f":"AP285/'DNSP Inputs O&M'!$E$232","v":97.161120000000011},null,null,null,null,{"$f":"'DNSP Inputs O&M'!$F$237","v":15.120000000000001},{"$f":"AW284*'DNSP Inputs O&M'!$F$232/'DNSP Inputs O&M'!$F$233","v":36.96},null,{"$f":"AV285*AW285","v":558.8352000000001},{"$f":"AY285/'DNSP Inputs O&M'!$F$232","v":139.70880000000002},null,null,{"$f":"'DNSP Inputs O&M'!$F$237*(1+'DNSP Inputs O&M'!$F$11)","v":15.876000000000001},{"$f":"BD284*'DNSP Inputs O&M'!$F$232/'DNSP Inputs O&M'!$F$233","v":30.72},null,{"$f":"BC285*BD285","v":487.71072000000004},{"$f":"BF285/'DNSP Inputs O&M'!$F$232","v":121.92768000000001},null,null,{"$f":"'DNSP Inputs O&M'!$F$237*(1+'DNSP Inputs O&M'!$F$11)","v":15.876000000000001},{"$f":"BK284*'DNSP Inputs O&M'!$F$232/'DNSP Inputs O&M'!$F$233","v":24.48},null,{"$f":"BJ285*BK285","v":388.64448000000004},{"$f":"BM285/'DNSP Inputs O&M'!$F$232","v":97.161120000000011},null,null,null,null,{"$f":"'DNSP Inputs O&M'!$G$237","v":15.120000000000001},{"$f":"BT284*'DNSP Inputs O&M'!$G$232/'DNSP Inputs O&M'!$G$233","v":36.96},null,{"$f":"BS285*BT285","v":558.8352000000001},{"$f":"BV285/'DNSP Inputs O&M'!$G$232","v":139.70880000000002},null,null,{"$f":"'DNSP Inputs O&M'!$G$237*(1+'DNSP Inputs O&M'!$G$11)","v":15.876000000000001},{"$f":"CA284*'DNSP Inputs O&M'!$G$232/'DNSP Inputs O&M'!$G$233","v":30.72},null,{"$f":"BZ285*CA285","v":487.71072000000004},{"$f":"CC285/'DNSP Inputs O&M'!$G$232","v":121.92768000000001},null,null,{"$f":"'DNSP Inputs O&M'!$G$237*(1+'DNSP Inputs O&M'!$G$11)","v":15.876000000000001},{"$f":"CH284*'DNSP Inputs O&M'!$G$232/'DNSP Inputs O&M'!$G$233","v":24.48},null,{"$f":"CG285*CH285","v":388.64448000000004},{"$f":"CJ285/'DNSP Inputs O&M'!$G$232","v":97.161120000000011},null,null,null,null,{"$f":"'DNSP Inputs O&M'!$H$237","v":15.120000000000001},{"$f":"CQ284*'DNSP Inputs O&M'!$H$232/'DNSP Inputs O&M'!$H$233","v":36.96},null,{"$f":"CP285*CQ285","v":558.8352000000001},{"$f":"CS285/'DNSP Inputs O&M'!$H$232","v":139.70880000000002},null,null,{"$f":"'DNSP Inputs O&M'!$H$237*(1+'DNSP Inputs O&M'!$H$11)","v":15.876000000000001},{"$f":"CX284*'DNSP Inputs O&M'!$H$232/'DNSP Inputs O&M'!$H$233","v":30.72},null,{"$f":"CW285*CX285","v":487.71072000000004},{"$f":"CZ285/'DNSP Inputs O&M'!$H$232","v":121.92768000000001},null,null,{"$f":"'DNSP Inputs O&M'!$H$237*(1+'DNSP Inputs O&M'!$H$11)","v":15.876000000000001},{"$f":"DE284*'DNSP Inputs O&M'!$H$232/'DNSP Inputs O&M'!$H$233","v":24.48},null,{"$f":"DD285*DE285","v":388.64448000000004},{"$f":"DG285/'DNSP Inputs O&M'!$H$232","v":97.161120000000011}]
["Miscellaneous",{"$f":"'DNSP Inputs O&M'!$D$239","v":1.3476456706921032},{"$f":"'DNSP Inputs O&M'!$D$242","v":73.92},null,{"$f":"B286*C286","v":99.617967977560269},{"$f":"E286/'DNSP Inputs O&M'!$D$232","v":24.904491994390067},null,null,{"$f":"'DNSP Inputs O&M'!$D$239*(1+'DNSP Inputs O&M'!$D$11)","v":1.4150279542267084},{"$f":"'DNSP Inputs O&M'!$D$243","v":61.44},null,{"$f":"I286*J286","v":86.939317507688955},{"$f":"L286/'DNSP Inputs O&M'!$D$232","v":21.734829376922239},null,null,{"$f":"'DNSP Inputs O&M'!$D$239*(1+'DNSP Inputs O&M'!$D$11)","v":1.4150279542267084},{"$f":"'DNSP Inputs O&M'!$D$244","v":48.96},null,{"$f":"P286*Q286","v":69.279768638939643},{"$f":"S286/'DNSP Inputs O&M'!$D$232","v":17.319942159734911},null,null,null,null,{"$f":"'DNSP Inputs O&M'!$E$239","v":1.3476456706921032},{"$f":"'DNSP Inputs O&M'!$E$242","v":73.92},null,{"$f":"Y286*Z286","v":99.617967977560269},{"$f":"AB286/'DNSP Inputs O&M'!$E$232","v":24.904491994390067},null,null,{"$f":"'DNSP Inputs O&M'!$E$239*(1+'DNSP Inputs O&M'!$E$11)","v":1.4150279542267084},{"$f":"'DNSP Inputs O&M'!$E$243","v":61.44},null,{"$f":"AF286*AG286","v":86.939317507688955},{"$f":"AI286/'DNSP Inputs O&M'!$E$232","v":21.734829376922239},null,null,{"$f":"'DNSP Inputs O&M'!$E$239*(1+'DNSP Inputs O&M'!$E$11)","v":1.4150279542267084},{"$f":"'DNSP Inputs O&M'!$E$244","v":48.96},null,{"$f":"AM286*AN286","v":69.279768638939643},{"$f":"AP286/'DNSP Inputs O&M'!$E$232","v":17.319942159734911},null,null,null,null,{"$f":"'DNSP Inputs O&M'!$F$239","v":1.3476456706921032},{"$f":"'DNSP Inputs O&M'!$F$242","v":73.92},null,{"$f":"AV286*AW286","v":99.617967977560269},{"$f":"AY286/'DNSP Inputs O&M'!$F$232","v":24.904491994390067},null,null,{"$f":"'DNSP Inputs O&M'!$F$239*(1+'DNSP Inputs O&M'!$F$11)","v":1.4150279542267084},{"$f":"'DNSP Inputs O&M'!$F$243","v":61.44},null,{"$f":"BC286*BD286","v":86.939317507688955},{"$f":"BF286/'DNSP Inputs O&M'!$F$232","v":21.734829376922239},null,null,{"$f":"'DNSP Inputs O&M'!$F$239*(1+'DNSP Inputs O&M'!$F$11)","v":1.4150279542267084},{"$f":"'DNSP Inputs O&M'!$F$244","v":48.96},null,{"$f":"BJ286*BK286","v":69.279768638939643},{"$f":"BM286/'DNSP Inputs O&M'!$F$232","v":17.319942159734911},null,null,null,null,{"$f":"'DNSP Inputs O&M'!$G$239","v":1.3476456706921032},{"$f":"'DNSP Inputs O&M'!$G$242","v":73.92},null,{"$f":"BS286*BT286","v":99.617967977560269},{"$f":"BV286/'DNSP Inputs O&M'!$G$232","v":24.904491994390067},null,null,{"$f":"'DNSP Inputs O&M'!$G$239*(1+'DNSP Inputs O&M'!$G$11)","v":1.4150279542267084},{"$f":"'DNSP Inputs O&M'!$G$243","v":61.44},null,{"$f":"BZ286*CA286","v":86.939317507688955},{"$f":"CC286/'DNSP Inputs O&M'!$G$232","v":21.734829376922239},null,null,{"$f":"'DNSP Inputs O&M'!$G$239*(1+'DNSP Inputs O&M'!$G$11)","v":1.4150279542267084},{"$f":"'DNSP Inputs O&M'!$G$244","v":48.96},null,{"$f":"CG286*CH286","v":69.279768638939643},{"$f":"CJ286/'DNSP Inputs O&M'!$G$232","v":17.319942159734911},null,null,null,null,{"$f":"'DNSP Inputs O&M'!$H$239","v":1.3476456706921032},{"$f":"'DNSP Inputs O&M'!$H$242","v":73.92},null,{"$f":"CP286*CQ286","v":99.617967977560269},{"$f":"CS286/'DNSP Inputs O&M'!$H$232","v":24.904491994390067},null,null,{"$f":"'DNSP Inputs O&M'!$H$239*(1+'DNSP Inputs O&M'!$H$11)","v":1.4150279542267084},{"$f":"'DNSP Inputs O&M'!$H$243","v":61.44},null,{"$f":"CW286*CX286","v":86.939317507688955},{"$f":"CZ286/'DNSP Inputs O&M'!$H$232","v":21.734829376922239},null,null,{"$f":"'DNSP Inputs O&M'!$H$239*(1+'DNSP Inputs O&M'!$H$11)","v":1.4150279542267084},{"$f":"'DNSP Inputs O&M'!$H$244","v":48.96},null,{"$f":"DD286*DE286","v":69.279768638939643},{"$f":"DG286/'DNSP Inputs O&M'!$H$232","v":17.319942159734911}]
["Materials - repair of faults"]
["Lamp",{"$f":"'DNSP Inputs O&M'!$D$236","v":8.1},{"$f":"'DNSP Inputs O&M'!$D$245*'DNSP Inputs O&M'!$D$248","v":14.975999999999999},null,{"$f":"B288*C288","v":121.30559999999998},{"$f":"(E288+E289+E290+E291)/'DNSP Inputs O&M'!$D$245","v":13.767645670692103},{"$f":"F288*D273","v":1.4306523754959359},null,{"$f":"'DNSP Inputs O&M'!$D$236*(1+'DNSP Inputs O&M'!$D$11)","v":8.5050000000000008},{"$f":"'DNSP Inputs O&M'!$D$246*'DNSP Inputs O&M'!$D$248","v":12.096},null,{"$f":"I288*J288","v":102.87648000000002},{"$f":"(L288+L289+L290+L291)/'DNSP Inputs O&M'!$D$246","v":14.456027954226707},{"$f":"M288*D273","v":1.5021849942707328},null,{"$f":"'DNSP Inputs O&M'!$D$236*(1+'DNSP Inputs O&M'!$D$11)","v":8.5050000000000008},{"$f":"'DNSP Inputs O&M'!$D$247*'DNSP Inputs O&M'!$D$248","v":9.7919999999999998},null,{"$f":"P288*Q288","v":83.280960000000007},{"$f":"(S288+S289+S290+S291)/'DNSP Inputs O&M'!$D$247","v":14.456027954226712},{"$f":"T288*D273","v":1.5021849942707333},null,null,null,{"$f":"'DNSP Inputs O&M'!$E$236","v":8.1},{"$f":"'DNSP Inputs O&M'!$E$245*'DNSP Inputs O&M'!$E$248","v":14.975999999999999},null,{"$f":"Y288*Z288","v":121.30559999999998},{"$f":"(AB288+AB289+AB290+AB291)/'DNSP Inputs O&M'!$E$245","v":13.767645670692103},{"$f":"AC288*AA273","v":1.4306523754959359},null,{"$f":"'DNSP Inputs O&M'!$E$236*(1+'DNSP Inputs O&M'!$E$11)","v":8.5050000000000008},{"$f":"'DNSP Inputs O&M'!$E$246*'DNSP Inputs O&M'!$E$248","v":12.096},null,{"$f":"AF288*AG288","v":102.87648000000002},{"$f":"(AI288+AI289+AI290+AI291)/'DNSP Inputs O&M'!$E$246","v":14.456027954226707},{"$f":"AJ288*AA273","v":1.5021849942707328},null,{"$f":"'DNSP Inputs O&M'!$E$236*(1+'DNSP Inputs O&M'!$E$11)","v":8.5050000000000008},{"$f":"'DNSP Inputs O&M'!$E$247*'DNSP Inputs O&M'!$E$248","v":9.7919999999999998},null,{"$f":"AM288*AN288","v":83.280960000000007},{"$f":"(AP288+AP289+AP290+AP291)/'DNSP Inputs O&M'!$E$247","v":14.456027954226712},{"$f":"AQ288*AA273","v":1.5021849942707333},null,null,null,{"$f":"'DNSP Inputs O&M'!$F$236","v":8.1},{"$f":"'DNSP Inputs O&M'!$F$245*'DNSP Inputs O&M'!$F$248","v":14.975999999999999},null,{"$f":"AV288*AW288","v":121.30559999999998},{"$f":"(AY288+AY289+AY290+AY291)/'DNSP Inputs O&M'!$F$245","v":13.767645670692103},{"$f":"AZ288*AX273","v":1.4306523754959359},null,{"$f":"'DNSP Inputs O&M'!$F$236*(1+'DNSP Inputs O&M'!$F$11)","v":8.5050000000000008},{"$f":"'DNSP Inputs O&M'!$F$246*'DNSP Inputs O&M'!$F$248","v":12.096},null,{"$f":"BC288*BD288","v":102.87648000000002},{"$f":"(BF288+BF289+BF290+BF291)/'DNSP Inputs O&M'!$F$246","v":14.456027954226707},{"$f":"BG288*AX273","v":1.5021849942707328},null,{"$f":"'DNSP Inputs O&M'!$F$236*(1+'DNSP Inputs O&M'!$F$11)","v":8.5050000000000008},{"$f":"'DNSP Inputs O&M'!$F$247*'DNSP Inputs O&M'!$F$248","v":9.7919999999999998},null,{"$f":"BJ288*BK288","v":83.280960000000007},{"$f":"(BM288+BM289+BM290+BM291)/'DNSP Inputs O&M'!$F$247","v":14.456027954226712},{"$f":"BN288*AX273","v":1.5021849942707333},null,null,null,{"$f":"'DNSP Inputs O&M'!$G$236","v":8.1},{"$f":"'DNSP Inputs O&M'!$G$245*'DNSP Inputs O&M'!$G$248","v":14.975999999999999},null,{"$f":"BS288*BT288","v":121.30559999999998},{"$f":"(BV288+BV289+BV290+BV291)/'DNSP Inputs O&M'!$G$245","v":13.767645670692103},{"$f":"BW288*BU273","v":1.4306523754959359},null,{"$f":"'DNSP Inputs O&M'!$G$236*(1+'DNSP Inputs O&M'!$G$11)","v":8.5050000000000008},{"$f":"'DNSP Inputs O&M'!$G$246*'DNSP Inputs O&M'!$G$248","v":12.096},null,{"$f":"BZ288*CA288","v":102.87648000000002},{"$f":"(CC288+CC289+CC290+CC291)/'DNSP Inputs O&M'!$G$246","v":14.456027954226707},{"$f":"CD288*BU273","v":1.5021849942707328},null,{"$f":"'DNSP Inputs O&M'!$G$236*(1+'DNSP Inputs O&M'!$G$11)","v":8.5050000000000008},{"$f":"'DNSP Inputs O&M'!$G$247*'DNSP Inputs O&M'!$G$248","v":9.7919999999999998},null,{"$f":"CG288*CH288","v":83.280960000000007},{"$f":"(CJ288+CJ289+CJ290+CJ291)/'DNSP Inputs O&M'!$G$247","v":14.456027954226712},{"$f":"CK288*BU273","v":1.5021849942707333},null,null,null,{"$f":"'DNSP Inputs O&M'!$H$236","v":8.1},{"$f":"'DNSP Inputs O&M'!$H$245*'DNSP Inputs O&M'!$H$248","v":14.975999999999999},null,{"$f":"CP288*CQ288","v":121.30559999999998},{"$f":"(CS288+CS289+CS290+CS291)/'DNSP Inputs O&M'!$H$245","v":13.767645670692103},{"$f":"CT288*CR273","v":1.4306523754959359},null,{"$f":"'DNSP Inputs O&M'!$H$236*(1+'DNSP Inputs O&M'!$H$11)","v":8.5050000000000008},{"$f":"'DNSP Inputs O&M'!$H$246*'DNSP Inputs O&M'!$H$248","v":12.096},null,{"$f":"CW288*CX288","v":102.87648000000002},{"$f":"(CZ288+CZ289+CZ290+CZ291)/'DNSP Inputs O&M'!$H$246","v":14.456027954226707},{"$f":"DA288*CR273","v":1.5021849942707328},null,{"$f":"'DNSP Inputs O&M'!$H$236*(1+'DNSP Inputs O&M'!$H$11)","v":8.5050000000000008},{"$f":"'DNSP Inputs O&M'!$H$247*'DNSP Inputs O&M'!$H$248","v":9.7919999999999998},null,{"$f":"DD288*DE288","v":83.280960000000007},{"$f":"(DG288+DG289+DG290+DG291)/'DNSP Inputs O&M'!$H$247","v":14.456027954226712},{"$f":"DH288*CR273","v":1.5021849942707333}]
["PE cell",{"$f":"'DNSP Inputs O&M'!$D$237","v":15.120000000000001},{"$f":"'DNSP Inputs O&M'!$D$245*'DNSP Inputs O&M'!$D$249","v":12.48},null,{"$f":"B289*C289","v":188.69760000000002},null,null,null,{"$f":"'DNSP Inputs O&M'!$D$237*(1+'DNSP Inputs O&M'!$D$11)","v":15.876000000000001},{"$f":"'DNSP Inputs O&M'!$D$246*'DNSP Inputs O&M'!$D$249","v":10.08},null,{"$f":"I289*J289","v":160.03008000000003},null,null,null,{"$f":"'DNSP Inputs O&M'!$D$237*(1+'DNSP Inputs O&M'!$D$11)","v":15.876000000000001},{"$f":"'DNSP Inputs O&M'!$D$247*'DNSP Inputs O&M'!$D$249","v":8.16},null,{"$f":"P289*Q289","v":129.54816000000002},null,null,null,null,null,{"$f":"'DNSP Inputs O&M'!$E$237","v":15.120000000000001},{"$f":"'DNSP Inputs O&M'!$E$245*'DNSP Inputs O&M'!$E$249","v":12.48},null,{"$f":"Y289*Z289","v":188.69760000000002},null,null,null,{"$f":"'DNSP Inputs O&M'!$E$237*(1+'DNSP Inputs O&M'!$E$11)","v":15.876000000000001},{"$f":"'DNSP Inputs O&M'!$E$246*'DNSP Inputs O&M'!$E$249","v":10.08},null,{"$f":"AF289*AG289","v":160.03008000000003},null,null,null,{"$f":"'DNSP Inputs O&M'!$E$237*(1+'DNSP Inputs O&M'!$E$11)","v":15.876000000000001},{"$f":"'DNSP Inputs O&M'!$E$247*'DNSP Inputs O&M'!$E$249","v":8.16},null,{"$f":"AM289*AN289","v":129.54816000000002},null,null,null,null,null,{"$f":"'DNSP Inputs O&M'!$F$237","v":15.120000000000001},{"$f":"'DNSP Inputs O&M'!$F$245*'DNSP Inputs O&M'!$F$249","v":12.48},null,{"$f":"AV289*AW289","v":188.69760000000002},null,null,null,{"$f":"'DNSP Inputs O&M'!$F$237*(1+'DNSP Inputs O&M'!$F$11)","v":15.876000000000001},{"$f":"'DNSP Inputs O&M'!$F$246*'DNSP Inputs O&M'!$F$249","v":10.08},null,{"$f":"BC289*BD289","v":160.03008000000003},null,null,null,{"$f":"'DNSP Inputs O&M'!$F$237*(1+'DNSP Inputs O&M'!$F$11)","v":15.876000000000001},{"$f":"'DNSP Inputs O&M'!$F$247*'DNSP Inputs O&M'!$F$249","v":8.16},null,{"$f":"BJ289*BK289","v":129.54816000000002},null,null,null,null,null,{"$f":"'DNSP Inputs O&M'!$G$237","v":15.120000000000001},{"$f":"'DNSP Inputs O&M'!$G$245*'DNSP Inputs O&M'!$G$249","v":12.48},null,{"$f":"BS289*BT289","v":188.69760000000002},null,null,null,{"$f":"'DNSP Inputs O&M'!$G$237*(1+'DNSP Inputs O&M'!$G$11)","v":15.876000000000001},{"$f":"'DNSP Inputs O&M'!$G$246*'DNSP Inputs O&M'!$G$249","v":10.08},null,{"$f":"BZ289*CA289","v":160.03008000000003},null,null,null,{"$f":"'DNSP Inputs O&M'!$G$237*(1+'DNSP Inputs O&M'!$G$11)","v":15.876000000000001},{"$f":"'DNSP Inputs O&M'!$G$247*'DNSP Inputs O&M'!$G$249","v":8.16},null,{"$f":"CG289*CH289","v":129.54816000000002},null,null,null,null,null,{"$f":"'DNSP Inputs O&M'!$H$237","v":15.120000000000001},{"$f":"'DNSP Inputs O&M'!$H$245*'DNSP Inputs O&M'!$H$249","v":12.48},null,{"$f":"CP289*CQ289","v":188.69760000000002},null,null,null,{"$f":"'DNSP Inputs O&M'!$H$237*(1+'DNSP Inputs O&M'!$H$11)","v":15.876000000000001},{"$f":"'DNSP Inputs O&M'!$H$246*'DNSP Inputs O&M'!$H$249","v":10.08},null,{"$f":"CW289*CX289","v":160.03008000000003},null,null,null,{"$f":"'DNSP Inputs O&M'!$H$237*(1+'DNSP Inputs O&M'!$H$11)","v":15.876000000000001},{"$f":"'DNSP Inputs O&M'!$H$247*'DNSP Inputs O&M'!$H$249","v":8.16},null,{"$f":"DD289*DE289","v":129.54816000000002}]
["Luminaire",{"$f":"'DNSP Inputs O&M'!$D$238","v":267.33},{"$f":"'DNSP Inputs O&M'!$D$245*'DNSP Inputs O&M'!$D$250","v":0},null,{"$f":"B290*C290","v":0},null,null,null,{"$f":"'DNSP Inputs O&M'!$D$238*(1+'DNSP Inputs O&M'!$D$11)","v":280.69650000000001},{"$f":"'DNSP Inputs O&M'!$D$246*'DNSP Inputs O&M'!$D$250","v":0},null,{"$f":"I290*J290","v":0},null,null,null,{"$f":"'DNSP Inputs O&M'!$D$238*(1+'DNSP Inputs O&M'!$D$11)","v":280.69650000000001},{"$f":"'DNSP Inputs O&M'!$D$247*'DNSP Inputs O&M'!$D$250","v":0},null,{"$f":"P290*Q290","v":0},null,null,null,null,null,{"$f":"'DNSP Inputs O&M'!$E$238","v":267.33},{"$f":"'DNSP Inputs O&M'!$E$245*'DNSP Inputs O&M'!$E$250","v":0},null,{"$f":"Y290*Z290","v":0},null,null,null,{"$f":"'DNSP Inputs O&M'!$E$238*(1+'DNSP Inputs O&M'!$E$11)","v":280.69650000000001},{"$f":"'DNSP Inputs O&M'!$E$246*'DNSP Inputs O&M'!$E$250","v":0},null,{"$f":"AF290*AG290","v":0},null,null,null,{"$f":"'DNSP Inputs O&M'!$E$238*(1+'DNSP Inputs O&M'!$E$11)","v":280.69650000000001},{"$f":"'DNSP Inputs O&M'!$E$247*'DNSP Inputs O&M'!$E$250","v":0},null,{"$f":"AM290*AN290","v":0},null,null,null,null,null,{"$f":"'DNSP Inputs O&M'!$F$238","v":267.33},{"$f":"'DNSP Inputs O&M'!$F$245*'DNSP Inputs O&M'!$F$250","v":0},null,{"$f":"AV290*AW290","v":0},null,null,null,{"$f":"'DNSP Inputs O&M'!$F$238*(1+'DNSP Inputs O&M'!$F$11)","v":280.69650000000001},{"$f":"'DNSP Inputs O&M'!$F$246*'DNSP Inputs O&M'!$F$250","v":0},null,{"$f":"BC290*BD290","v":0},null,null,null,{"$f":"'DNSP Inputs O&M'!$F$238*(1+'DNSP Inputs O&M'!$F$11)","v":280.69650000000001},{"$f":"'DNSP Inputs O&M'!$F$247*'DNSP Inputs O&M'!$F$250","v":0},null,{"$f":"BJ290*BK290","v":0},null,null,null,null,null,{"$f":"'DNSP Inputs O&M'!$G$238","v":267.33},{"$f":"'DNSP Inputs O&M'!$G$245*'DNSP Inputs O&M'!$G$250","v":0},null,{"$f":"BS290*BT290","v":0},null,null,null,{"$f":"'DNSP Inputs O&M'!$G$238*(1+'DNSP Inputs O&M'!$G$11)","v":280.69650000000001},{"$f":"'DNSP Inputs O&M'!$G$246*'DNSP Inputs O&M'!$G$250","v":0},null,{"$f":"BZ290*CA290","v":0},null,null,null,{"$f":"'DNSP Inputs O&M'!$G$238*(1+'DNSP Inputs O&M'!$G$11)","v":280.69650000000001},{"$f":"'DNSP Inputs O&M'!$G$247*'DNSP Inputs O&M'!$G$250","v":0},null,{"$f":"CG290*CH290","v":0},null,null,null,null,null,{"$f":"'DNSP Inputs O&M'!$H$238","v":267.33},{"$f":"'DNSP Inputs O&M'!$H$245*'DNSP Inputs O&M'!$H$250","v":0},null,{"$f":"CP290*CQ290","v":0},null,null,null,{"$f":"'DNSP Inputs O&M'!$H$238*(1+'DNSP Inputs O&M'!$H$11)","v":280.69650000000001},{"$f":"'DNSP Inputs O&M'!$H$246*'DNSP Inputs O&M'!$H$250","v":0},null,{"$f":"CW290*CX290","v":0},null,null,null,{"$f":"'DNSP Inputs O&M'!$H$238*(1+'DNSP Inputs O&M'!$H$11)","v":280.69650000000001},{"$f":"'DNSP Inputs O&M'!$H$247*'DNSP Inputs O&M'!$H$250","v":0},null,{"$f":"DD290*DE290","v":0}]
["Miscellaneous",{"$f":"'DNSP Inputs O&M'!$D$240","v":13.476456706921033},{"$f":"'DNSP Inputs O&M'!$D$245*'DNSP Inputs O&M'!$D$251","v":2.4960000000000004},null,{"$f":"B291*C291","v":33.637235940474902},null,null,null,{"$f":"'DNSP Inputs O&M'!$D$240*(1+'DNSP Inputs O&M'!$D$11)","v":14.150279542267084},{"$f":"'DNSP Inputs O&M'!$D$246*'DNSP Inputs O&M'!$D$251","v":2.016},null,{"$f":"I291*J291","v":28.52696355721044},null,null,null,{"$f":"'DNSP Inputs O&M'!$D$240*(1+'DNSP Inputs O&M'!$D$11)","v":14.150279542267084},{"$f":"'DNSP Inputs O&M'!$D$247*'DNSP Inputs O&M'!$D$251","v":1.6320000000000001},null,{"$f":"P291*Q291","v":23.093256212979881},null,null,null,null,null,{"$f":"'DNSP Inputs O&M'!$E$240","v":13.476456706921033},{"$f":"'DNSP Inputs O&M'!$E$245*'DNSP Inputs O&M'!$E$251","v":2.4960000000000004},null,{"$f":"Y291*Z291","v":33.637235940474902},null,null,null,{"$f":"'DNSP Inputs O&M'!$E$240*(1+'DNSP Inputs O&M'!$E$11)","v":14.150279542267084},{"$f":"'DNSP Inputs O&M'!$E$246*'DNSP Inputs O&M'!$E$251","v":2.016},null,{"$f":"AF291*AG291","v":28.52696355721044},null,null,null,{"$f":"'DNSP Inputs O&M'!$E$240*(1+'DNSP Inputs O&M'!$E$11)","v":14.150279542267084},{"$f":"'DNSP Inputs O&M'!$E$247*'DNSP Inputs O&M'!$E$251","v":1.6320000000000001},null,{"$f":"AM291*AN291","v":23.093256212979881},null,null,null,null,null,{"$f":"'DNSP Inputs O&M'!$F$240","v":13.476456706921033},{"$f":"'DNSP Inputs O&M'!$F$245*'DNSP Inputs O&M'!$F$251","v":2.4960000000000004},null,{"$f":"AV291*AW291","v":33.637235940474902},null,null,null,{"$f":"'DNSP Inputs O&M'!$F$240*(1+'DNSP Inputs O&M'!$F$11)","v":14.150279542267084},{"$f":"'DNSP Inputs O&M'!$F$246*'DNSP Inputs O&M'!$F$251","v":2.016},null,{"$f":"BC291*BD291","v":28.52696355721044},null,null,null,{"$f":"'DNSP Inputs O&M'!$F$240*(1+'DNSP Inputs O&M'!$F$11)","v":14.150279542267084},{"$f":"'DNSP Inputs O&M'!$F$247*'DNSP Inputs O&M'!$F$251","v":1.6320000000000001},null,{"$f":"BJ291*BK291","v":23.093256212979881},null,null,null,null,null,{"$f":"'DNSP Inputs O&M'!$G$240","v":13.476456706921033},{"$f":"'DNSP Inputs O&M'!$G$245*'DNSP Inputs O&M'!$G$251","v":2.4960000000000004},null,{"$f":"BS291*BT291","v":33.637235940474902},null,null,null,{"$f":"'DNSP Inputs O&M'!$G$240*(1+'DNSP Inputs O&M'!$G$11)","v":14.150279542267084},{"$f":"'DNSP Inputs O&M'!$G$246*'DNSP Inputs O&M'!$G$251","v":2.016},null,{"$f":"BZ291*CA291","v":28.52696355721044},null,null,null,{"$f":"'DNSP Inputs O&M'!$G$240*(1+'DNSP Inputs O&M'!$G$11)","v":14.150279542267084},{"$f":"'DNSP Inputs O&M'!$G$247*'DNSP Inputs O&M'!$G$251","v":1.6320000000000001},null,{"$f":"CG291*CH291","v":23.093256212979881},null,null,null,null,null,{"$f":"'DNSP Inputs O&M'!$H$240","v":13.476456706921033},{"$f":"'DNSP Inputs O&M'!$H$245*'DNSP Inputs O&M'!$H$251","v":2.4960000000000004},null,{"$f":"CP291*CQ291","v":33.637235940474902},null,null,null,{"$f":"'DNSP Inputs O&M'!$H$240*(1+'DNSP Inputs O&M'!$H$11)","v":14.150279542267084},{"$f":"'DNSP Inputs O&M'!$H$246*'DNSP Inputs O&M'!$H$251","v":2.016},null,{"$f":"CW291*CX291","v":28.52696355721044},null,null,null,{"$f":"'DNSP Inputs O&M'!$H$240*(1+'DNSP Inputs O&M'!$H$11)","v":14.150279542267084},{"$f":"'DNSP Inputs O&M'!$H$247*'DNSP Inputs O&M'!$H$251","v":1.6320000000000001},null,{"$f":"DD291*DE291","v":23.093256212979881}]
["Labour - bulk lamp change"]
["Crew costs",{"$f":"'DNSP Inputs O&M'!$D$12","v":111.36223236834823},{"$f":"'DNSP Inputs O&M'!$D$241","v":2},{"$f":"'DNSP Inputs O&M'!$D$17","v":7.5},{"$f":"B293*C293*D293","v":1670.4334855252234},{"$f":"E293/'DNSP Inputs O&M'!$D$232*(C284+C285)/C284","v":626.41255707195876},{"$f":"(F293+F294)/C284","v":10.38343894848429},null,{"$f":"'DNSP Inputs O&M'!$D$12","v":111.36223236834823},{"$f":"'DNSP Inputs O&M'!$D$241","v":2},{"$f":"'DNSP Inputs O&M'!$D$17","v":7.5},{"$f":"I293*J293*K293","v":1670.4334855252234},{"$f":"L293/'DNSP Inputs O&M'!$D$232*(C284+C285)/C284","v":626.41255707195876},{"$f":"(M293+M294)/J284","v":13.108724887238912},null,{"$f":"'DNSP Inputs O&M'!$D$12","v":111.36223236834823},{"$f":"'DNSP Inputs O&M'!$D$241","v":2},{"$f":"'DNSP Inputs O&M'!$D$17","v":7.5},{"$f":"P293*Q293*R293","v":1670.4334855252234},{"$f":"S293/'DNSP Inputs O&M'!$D$232*(C284+C285)/C284","v":626.41255707195876},{"$f":"(T293+T294)/Q284","v":16.450164564378241},null,null,null,{"$f":"'DNSP Inputs O&M'!$E$12","v":{"$error":"#REF!"}},{"$f":"'DNSP Inputs O&M'!$E$241","v":2},{"$f":"'DNSP Inputs O&M'!$E$17","v":7.5},{"$f":"Y293*Z293*AA293","v":{"$error":"#REF!"}},{"$f":"AB293/'DNSP Inputs O&M'!$E$232*(Z284+Z285)/Z284","v":{"$error":"#REF!"}},{"$f":"(AC293+AC294)/Z284","v":{"$error":"#REF!"}},null,{"$f":"'DNSP Inputs O&M'!$E$12","v":{"$error":"#REF!"}},{"$f":"'DNSP Inputs O&M'!$E$241","v":2},{"$f":"'DNSP Inputs O&M'!$E$17","v":7.5},{"$f":"AF293*AG293*AH293","v":{"$error":"#REF!"}},{"$f":"AI293/'DNSP Inputs O&M'!$E$232*(Z284+Z285)/Z284","v":{"$error":"#REF!"}},{"$f":"(AJ293+AJ294)/AG284","v":{"$error":"#REF!"}},null,{"$f":"'DNSP Inputs O&M'!$E$12","v":{"$error":"#REF!"}},{"$f":"'DNSP Inputs O&M'!$E$241","v":2},{"$f":"'DNSP Inputs O&M'!$E$17","v":7.5},{"$f":"AM293*AN293*AO293","v":{"$error":"#REF!"}},{"$f":"AP293/'DNSP Inputs O&M'!$E$232*(Z284+Z285)/Z284","v":{"$error":"#REF!"}},{"$f":"(AQ293+AQ294)/AN284","v":{"$error":"#REF!"}},null,null,null,{"$f":"'DNSP Inputs O&M'!$F$12","v":{"$error":"#REF!"}},{"$f":"'DNSP Inputs O&M'!$F$241","v":2},{"$f":"'DNSP Inputs O&M'!$F$17","v":7.5},{"$f":"AV293*AW293*AX293","v":{"$error":"#REF!"}},{"$f":"AY293/'DNSP Inputs O&M'!$F$232*(AW284+AW285)/AW284","v":{"$error":"#REF!"}},{"$f":"(AZ293+AZ294)/AW284","v":{"$error":"#REF!"}},null,{"$f":"'DNSP Inputs O&M'!$F$12","v":{"$error":"#REF!"}},{"$f":"'DNSP Inputs O&M'!$F$241","v":2},{"$f":"'DNSP Inputs O&M'!$F$17","v":7.5},{"$f":"BC293*BD293*BE293","v":{"$error":"#REF!"}},{"$f":"BF293/'DNSP Inputs O&M'!$F$232*(AW284+AW285)/AW284","v":{"$error":"#REF!"}},{"$f":"(BG293+BG294)/BD284","v":{"$error":"#REF!"}},null,{"$f":"'DNSP Inputs O&M'!$F$12","v":{"$error":"#REF!"}},{"$f":"'DNSP Inputs O&M'!$F$241","v":2},{"$f":"'DNSP Inputs O&M'!$F$17","v":7.5},{"$f":"BJ293*BK293*BL293","v":{"$error":"#REF!"}},{"$f":"BM293/'DNSP Inputs O&M'!$F$232*(AW284+AW285)/AW284","v":{"$error":"#REF!"}},{"$f":"(BN293+BN294)/BK284","v":{"$error":"#REF!"}},null,null,null,{"$f":"'DNSP Inputs O&M'!$G$12","v":{"$error":"#REF!"}},{"$f":"'DNSP Inputs O&M'!$G$241","v":2},{"$f":"'DNSP Inputs O&M'!$G$17","v":7.5},{"$f":"BS293*BT293*BU293","v":{"$error":"#REF!"}},{"$f":"BV293/'DNSP Inputs O&M'!$G$232*(BT284+BT285)/BT284","v":{"$error":"#REF!"}},{"$f":"(BW293+BW294)/BT284","v":{"$error":"#REF!"}},null,{"$f":"'DNSP Inputs O&M'!$G$12","v":{"$error":"#REF!"}},{"$f":"'DNSP Inputs O&M'!$G$241","v":2},{"$f":"'DNSP Inputs O&M'!$G$17","v":7.5},{"$f":"BZ293*CA293*CB293","v":{"$error":"#REF!"}},{"$f":"CC293/'DNSP Inputs O&M'!$G$232*(BT284+BT285)/BT284","v":{"$error":"#REF!"}},{"$f":"(CD293+CD294)/CA284","v":{"$error":"#REF!"}},null,{"$f":"'DNSP Inputs O&M'!$G$12","v":{"$error":"#REF!"}},{"$f":"'DNSP Inputs O&M'!$G$241","v":2},{"$f":"'DNSP Inputs O&M'!$G$17","v":7.5},{"$f":"CG293*CH293*CI293","v":{"$error":"#REF!"}},{"$f":"CJ293/'DNSP Inputs O&M'!$G$232*(BT284+BT285)/BT284","v":{"$error":"#REF!"}},{"$f":"(CK293+CK294)/CH284","v":{"$error":"#REF!"}},null,null,null,{"$f":"'DNSP Inputs O&M'!$H$12","v":{"$error":"#REF!"}},{"$f":"'DNSP Inputs O&M'!$H$241","v":2},{"$f":"'DNSP Inputs O&M'!$H$17","v":7.5},{"$f":"CP293*CQ293*CR293","v":{"$error":"#REF!"}},{"$f":"CS293/'DNSP Inputs O&M'!$H$232*(CQ284+CQ285)/CQ284","v":{"$error":"#REF!"}},{"$f":"(CT293+CT294)/CQ284","v":{"$error":"#REF!"}},null,{"$f":"'DNSP Inputs O&M'!$H$12","v":{"$error":"#REF!"}},{"$f":"'DNSP Inputs O&M'!$H$241","v":2},{"$f":"'DNSP Inputs O&M'!$H$17","v":7.5},{"$f":"CW293*CX293*CY293","v":{"$error":"#REF!"}},{"$f":"CZ293/'DNSP Inputs O&M'!$H$232*(CQ284+CQ285)/CQ284","v":{"$error":"#REF!"}},{"$f":"(DA293+DA294)/CX284","v":{"$error":"#REF!"}},null,{"$f":"'DNSP Inputs O&M'!$H$12","v":{"$error":"#REF!"}},{"$f":"'DNSP Inputs O&M'!$H$241","v":2},{"$f":"'DNSP Inputs O&M'!$H$17","v":7.5},{"$f":"DD293*DE293*DF293","v":{"$error":"#REF!"}},{"$f":"DG293/'DNSP Inputs O&M'!$H$232*(CQ284+CQ285)/CQ284","v":{"$error":"#REF!"}},{"$f":"(DH293+DH294)/DE284","v":{"$error":"#REF!"}}]
["Elevated platform vehicle costs",{"$f":"'DNSP Inputs O&M'!$D$14","v":50.18},1,{"$f":"'DNSP Inputs O&M'!$D$17","v":7.5},{"$f":"B294*C294*D294","v":376.35},{"$f":"E294/'DNSP Inputs O&M'!$D$232*(C284+C285)/C284","v":141.13124999999999},null,null,{"$f":"'DNSP Inputs O&M'!$D$15","v":63.64},1,{"$f":"'DNSP Inputs O&M'!$D$17","v":7.5},{"$f":"I294*J294*K294","v":477.3},{"$f":"L294/'DNSP Inputs O&M'!$D$232*(C284+C285)/C284","v":178.98749999999998},null,null,{"$f":"'DNSP Inputs O&M'!$D$15","v":63.64},1,{"$f":"'DNSP Inputs O&M'!$D$17","v":7.5},{"$f":"P294*Q294*R294","v":477.3},{"$f":"S294/'DNSP Inputs O&M'!$D$232*(C284+C285)/C284","v":178.98749999999998},null,null,null,null,{"$f":"'DNSP Inputs O&M'!$E$14","v":50.18},1,{"$f":"'DNSP Inputs O&M'!$E$17","v":7.5},{"$f":"Y294*Z294*AA294","v":376.35},{"$f":"AB294/'DNSP Inputs O&M'!$E$232*(Z284+Z285)/Z284","v":141.13124999999999},null,null,{"$f":"'DNSP Inputs O&M'!$E$15","v":63.64},1,{"$f":"'DNSP Inputs O&M'!$E$17","v":7.5},{"$f":"AF294*AG294*AH294","v":477.3},{"$f":"AI294/'DNSP Inputs O&M'!$E$232*(Z284+Z285)/Z284","v":178.98749999999998},null,null,{"$f":"'DNSP Inputs O&M'!$E$15","v":63.64},1,{"$f":"'DNSP Inputs O&M'!$E$17","v":7.5},{"$f":"AM294*AN294*AO294","v":477.3},{"$f":"AP294/'DNSP Inputs O&M'!$E$232*(Z284+Z285)/Z284","v":178.98749999999998},null,null,null,null,{"$f":"'DNSP Inputs O&M'!$F$14","v":50.18},1,{"$f":"'DNSP Inputs O&M'!$F$17","v":7.5},{"$f":"AV294*AW294*AX294","v":376.35},{"$f":"AY294/'DNSP Inputs O&M'!$F$232*(AW284+AW285)/AW284","v":141.13124999999999},null,null,{"$f":"'DNSP Inputs O&M'!$F$15","v":63.64},1,{"$f":"'DNSP Inputs O&M'!$F$17","v":7.5},{"$f":"BC294*BD294*BE294","v":477.3},{"$f":"BF294/'DNSP Inputs O&M'!$F$232*(AW284+AW285)/AW284","v":178.98749999999998},null,null,{"$f":"'DNSP Inputs O&M'!$F$15","v":63.64},1,{"$f":"'DNSP Inputs O&M'!$F$17","v":7.5},{"$f":"BJ294*BK294*BL294","v":477.3},{"$f":"BM294/'DNSP Inputs O&M'!$F$232*(AW284+AW285)/AW284","v":178.98749999999998},null,null,null,null,{"$f":"'DNSP Inputs O&M'!$G$14","v":50.18},1,{"$f":"'DNSP Inputs O&M'!$G$17","v":7.5},{"$f":"BS294*BT294*BU294","v":376.35},{"$f":"BV294/'DNSP Inputs O&M'!$G$232*(BT284+BT285)/BT284","v":141.13124999999999},null,null,{"$f":"'DNSP Inputs O&M'!$G$15","v":63.64},1,{"$f":"'DNSP Inputs O&M'!$G$17","v":7.5},{"$f":"BZ294*CA294*CB294","v":477.3},{"$f":"CC294/'DNSP Inputs O&M'!$G$232*(BT284+BT285)/BT284","v":178.98749999999998},null,null,{"$f":"'DNSP Inputs O&M'!$G$15","v":63.64},1,{"$f":"'DNSP Inputs O&M'!$G$17","v":7.5},{"$f":"CG294*CH294*CI294","v":477.3},{"$f":"CJ294/'DNSP Inputs O&M'!$G$232*(BT284+BT285)/BT284","v":178.98749999999998},null,null,null,null,{"$f":"'DNSP Inputs O&M'!$H$14","v":50.18},1,{"$f":"'DNSP Inputs O&M'!$H$17","v":7.5},{"$f":"CP294*CQ294*CR294","v":376.35},{"$f":"CS294/'DNSP Inputs O&M'!$H$232*(CQ284+CQ285)/CQ284","v":141.13124999999999},null,null,{"$f":"'DNSP Inputs O&M'!$H$15","v":63.64},1,{"$f":"'DNSP Inputs O&M'!$H$17","v":7.5},{"$f":"CW294*CX294*CY294","v":477.3},{"$f":"CZ294/'DNSP Inputs O&M'!$H$232*(CQ284+CQ285)/CQ284","v":178.98749999999998},null,null,{"$f":"'DNSP Inputs O&M'!$H$15","v":63.64},1,{"$f":"'DNSP Inputs O&M'!$H$17","v":7.5},{"$f":"DD294*DE294*DF294","v":477.3},{"$f":"DG294/'DNSP Inputs O&M'!$H$232*(CQ284+CQ285)/CQ284","v":178.98749999999998}]
["Labour - repair of faults"]
["Crew costs",{"$f":"'DNSP Inputs O&M'!$D$12","v":111.36223236834823},{"$f":"'DNSP Inputs O&M'!$D$241","v":2},{"$f":"'DNSP Inputs O&M'!$D$17","v":7.5},{"$f":"B296*C296*D296","v":1670.4334855252234},{"$f":"(E296+E297)/'DNSP Inputs O&M'!$D$245","v":82.002543490593894},{"$f":"F296*D273","v":8.5212197094283155},null,{"$f":"'DNSP Inputs O&M'!$D$12","v":111.36223236834823},{"$f":"'DNSP Inputs O&M'!$D$241","v":2},{"$f":"'DNSP Inputs O&M'!$D$17","v":7.5},{"$f":"I296*J296*K296","v":1670.4334855252234},{"$f":"(L296+L297)/'DNSP Inputs O&M'!$D$246","v":106.53439908359243},{"$f":"M296*D273","v":11.070425166840579},null,{"$f":"'DNSP Inputs O&M'!$D$12","v":111.36223236834823},{"$f":"'DNSP Inputs O&M'!$D$241","v":2},{"$f":"'DNSP Inputs O&M'!$D$17","v":7.5},{"$f":"P296*Q296*R296","v":1670.4334855252234},{"$f":"(S296+S297)/'DNSP Inputs O&M'!$D$247","v":131.60131651502593},{"$f":"T296*D273","v":13.675231088450124},null,null,null,{"$f":"'DNSP Inputs O&M'!$E$12","v":{"$error":"#REF!"}},{"$f":"'DNSP Inputs O&M'!$E$241","v":2},{"$f":"'DNSP Inputs O&M'!$E$17","v":7.5},{"$f":"Y296*Z296*AA296","v":{"$error":"#REF!"}},{"$f":"(AB296+AB297)/'DNSP Inputs O&M'!$E$245","v":{"$error":"#REF!"}},{"$f":"AC296*AA273","v":{"$error":"#REF!"}},null,{"$f":"'DNSP Inputs O&M'!$E$12","v":{"$error":"#REF!"}},{"$f":"'DNSP Inputs O&M'!$E$241","v":2},{"$f":"'DNSP Inputs O&M'!$E$17","v":7.5},{"$f":"AF296*AG296*AH296","v":{"$error":"#REF!"}},{"$f":"(AI296+AI297)/'DNSP Inputs O&M'!$E$246","v":{"$error":"#REF!"}},{"$f":"AJ296*AA273","v":{"$error":"#REF!"}},null,{"$f":"'DNSP Inputs O&M'!$E$12","v":{"$error":"#REF!"}},{"$f":"'DNSP Inputs O&M'!$E$241","v":2},{"$f":"'DNSP Inputs O&M'!$E$17","v":7.5},{"$f":"AM296*AN296*AO296","v":{"$error":"#REF!"}},{"$f":"(AP296+AP297)/'DNSP Inputs O&M'!$E$247","v":{"$error":"#REF!"}},{"$f":"AQ296*AA273","v":{"$error":"#REF!"}},null,null,null,{"$f":"'DNSP Inputs O&M'!$F$12","v":{"$error":"#REF!"}},{"$f":"'DNSP Inputs O&M'!$F$241","v":2},{"$f":"'DNSP Inputs O&M'!$F$17","v":7.5},{"$f":"AV296*AW296*AX296","v":{"$error":"#REF!"}},{"$f":"(AY296+AY297)/'DNSP Inputs O&M'!$F$245","v":{"$error":"#REF!"}},{"$f":"AZ296*AX273","v":{"$error":"#REF!"}},null,{"$f":"'DNSP Inputs O&M'!$F$12","v":{"$error":"#REF!"}},{"$f":"'DNSP Inputs O&M'!$F$241","v":2},{"$f":"'DNSP Inputs O&M'!$F$17","v":7.5},{"$f":"BC296*BD296*BE296","v":{"$error":"#REF!"}},{"$f":"(BF296+BF297)/'DNSP Inputs O&M'!$F$246","v":{"$error":"#REF!"}},{"$f":"BG296*AX273","v":{"$error":"#REF!"}},null,{"$f":"'DNSP Inputs O&M'!$F$12","v":{"$error":"#REF!"}},{"$f":"'DNSP Inputs O&M'!$F$241","v":2},{"$f":"'DNSP Inputs O&M'!$F$17","v":7.5},{"$f":"BJ296*BK296*BL296","v":{"$error":"#REF!"}},{"$f":"(BM296+BM297)/'DNSP Inputs O&M'!$F$247","v":{"$error":"#REF!"}},{"$f":"BN296*AX273","v":{"$error":"#REF!"}},null,null,null,{"$f":"'DNSP Inputs O&M'!$G$12","v":{"$error":"#REF!"}},{"$f":"'DNSP Inputs O&M'!$G$241","v":2},{"$f":"'DNSP Inputs O&M'!$G$17","v":7.5},{"$f":"BS296*BT296*BU296","v":{"$error":"#REF!"}},{"$f":"(BV296+BV297)/'DNSP Inputs O&M'!$G$245","v":{"$error":"#REF!"}},{"$f":"BW296*BU273","v":{"$error":"#REF!"}},null,{"$f":"'DNSP Inputs O&M'!$G$12","v":{"$error":"#REF!"}},{"$f":"'DNSP Inputs O&M'!$G$241","v":2},{"$f":"'DNSP Inputs O&M'!$G$17","v":7.5},{"$f":"BZ296*CA296*CB296","v":{"$error":"#REF!"}},{"$f":"(CC296+CC297)/'DNSP Inputs O&M'!$G$246","v":{"$error":"#REF!"}},{"$f":"CD296*BU273","v":{"$error":"#REF!"}},null,{"$f":"'DNSP Inputs O&M'!$G$12","v":{"$error":"#REF!"}},{"$f":"'DNSP Inputs O&M'!$G$241","v":2},{"$f":"'DNSP Inputs O&M'!$G$17","v":7.5},{"$f":"CG296*CH296*CI296","v":{"$error":"#REF!"}},{"$f":"(CJ296+CJ297)/'DNSP Inputs O&M'!$G$247","v":{"$error":"#REF!"}},{"$f":"CK296*BU273","v":{"$error":"#REF!"}},null,null,null,{"$f":"'DNSP Inputs O&M'!$H$12","v":{"$error":"#REF!"}},{"$f":"'DNSP Inputs O&M'!$H$241","v":2},{"$f":"'DNSP Inputs O&M'!$H$17","v":7.5},{"$f":"CP296*CQ296*CR296","v":{"$error":"#REF!"}},{"$f":"(CS296+CS297)/'DNSP Inputs O&M'!$H$245","v":{"$error":"#REF!"}},{"$f":"CT296*CR273","v":{"$error":"#REF!"}},null,{"$f":"'DNSP Inputs O&M'!$H$12","v":{"$error":"#REF!"}},{"$f":"'DNSP Inputs O&M'!$H$241","v":2},{"$f":"'DNSP Inputs O&M'!$H$17","v":7.5},{"$f":"CW296*CX296*CY296","v":{"$error":"#REF!"}},{"$f":"(CZ296+CZ297)/'DNSP Inputs O&M'!$H$246","v":{"$error":"#REF!"}},{"$f":"DA296*CR273","v":{"$error":"#REF!"}},null,{"$f":"'DNSP Inputs O&M'!$H$12","v":{"$error":"#REF!"}},{"$f":"'DNSP Inputs O&M'!$H$241","v":2},{"$f":"'DNSP Inputs O&M'!$H$17","v":7.5},{"$f":"DD296*DE296*DF296","v":{"$error":"#REF!"}},{"$f":"(DG296+DG297)/'DNSP Inputs O&M'!$H$247","v":{"$error":"#REF!"}},{"$f":"DH296*CR273","v":{"$error":"#REF!"}}]
["Elevated platform vehicle costs",{"$f":"'DNSP Inputs O&M'!$D$14","v":50.18},1,{"$f":"'DNSP Inputs O&M'!$D$17","v":7.5},{"$f":"B297*C297*D297","v":376.35},null,null,null,{"$f":"'DNSP Inputs O&M'!$D$15","v":63.64},1,{"$f":"'DNSP Inputs O&M'!$D$17","v":7.5},{"$f":"I297*J297*K297","v":477.3},null,null,null,{"$f":"'DNSP Inputs O&M'!$D$15","v":63.64},1,{"$f":"'DNSP Inputs O&M'!$D$17","v":7.5},{"$f":"P297*Q297*R297","v":477.3},null,null,null,null,null,{"$f":"'DNSP Inputs O&M'!$E$14","v":50.18},1,{"$f":"'DNSP Inputs O&M'!$E$17","v":7.5},{"$f":"Y297*Z297*AA297","v":376.35},null,null,null,{"$f":"'DNSP Inputs O&M'!$E$15","v":63.64},1,{"$f":"'DNSP Inputs O&M'!$E$17","v":7.5},{"$f":"AF297*AG297*AH297","v":477.3},null,null,null,{"$f":"'DNSP Inputs O&M'!$E$15","v":63.64},1,{"$f":"'DNSP Inputs O&M'!$E$17","v":7.5},{"$f":"AM297*AN297*AO297","v":477.3},null,null,null,null,null,{"$f":"'DNSP Inputs O&M'!$F$14","v":50.18},1,{"$f":"'DNSP Inputs O&M'!$F$17","v":7.5},{"$f":"AV297*AW297*AX297","v":376.35},null,null,null,{"$f":"'DNSP Inputs O&M'!$F$15","v":63.64},1,{"$f":"'DNSP Inputs O&M'!$F$17","v":7.5},{"$f":"BC297*BD297*BE297","v":477.3},null,null,null,{"$f":"'DNSP Inputs O&M'!$F$15","v":63.64},1,{"$f":"'DNSP Inputs O&M'!$F$17","v":7.5},{"$f":"BJ297*BK297*BL297","v":477.3},null,null,null,null,null,{"$f":"'DNSP Inputs O&M'!$G$14","v":50.18},1,{"$f":"'DNSP Inputs O&M'!$G$17","v":7.5},{"$f":"BS297*BT297*BU297","v":376.35},null,null,null,{"$f":"'DNSP Inputs O&M'!$G$15","v":63.64},1,{"$f":"'DNSP Inputs O&M'!$G$17","v":7.5},{"$f":"BZ297*CA297*CB297","v":477.3},null,null,null,{"$f":"'DNSP Inputs O&M'!$G$15","v":63.64},1,{"$f":"'DNSP Inputs O&M'!$G$17","v":7.5},{"$f":"CG297*CH297*CI297","v":477.3},null,null,null,null,null,{"$f":"'DNSP Inputs O&M'!$H$14","v":50.18},1,{"$f":"'DNSP Inputs O&M'!$H$17","v":7.5},{"$f":"CP297*CQ297*CR297","v":376.35},null,null,null,{"$f":"'DNSP Inputs O&M'!$H$15","v":63.64},1,{"$f":"'DNSP Inputs O&M'!$H$17","v":7.5},{"$f":"CW297*CX297*CY297","v":477.3},null,null,null,{"$f":"'DNSP Inputs O&M'!$H$15","v":63.64},1,{"$f":"'DNSP Inputs O&M'!$H$17","v":7.5},{"$f":"DD297*DE297*DF297","v":477.3}]
["Other Maintenance and Repair costs",null,null,null,null,null,{"$f":"'DNSP Inputs O&M'!$D$258","v":{"$error":"#REF!"}},null,null,null,null,null,null,{"$f":"'DNSP Inputs O&M'!$D$258","v":{"$error":"#REF!"}},null,null,null,null,null,null,{"$f":"'DNSP Inputs O&M'!$D$258","v":{"$error":"#REF!"}},null,null,null,null,null,null,null,null,{"$f":"'DNSP Inputs O&M'!$E$258","v":{"$error":"#REF!"}},null,null,null,null,null,null,{"$f":"'DNSP Inputs O&M'!$E$258","v":{"$error":"#REF!"}},null,null,null,null,null,null,{"$f":"'DNSP Inputs O&M'!$E$258","v":{"$error":"#REF!"}},null,null,null,null,null,null,null,null,{"$f":"'DNSP Inputs O&M'!$F$258","v":{"$error":"#REF!"}},null,null,null,null,null,null,{"$f":"'DNSP Inputs O&M'!$F$258","v":{"$error":"#REF!"}},null,null,null,null,null,null,{"$f":"'DNSP Inputs O&M'!$F$258","v":{"$error":"#REF!"}},null,null,null,null,null,null,null,null,{"$f":"'DNSP Inputs O&M'!$G$258","v":{"$error":"#REF!"}},null,null,null,null,null,null,{"$f":"'DNSP Inputs O&M'!$G$258","v":{"$error":"#REF!"}},null,null,null,null,null,null,{"$f":"'DNSP Inputs O&M'!$G$258","v":{"$error":"#REF!"}},null,null,null,null,null,null,null,null,{"$f":"'DNSP Inputs O&M'!$H$258","v":{"$error":"#REF!"}},null,null,null,null,null,null,{"$f":"'DNSP Inputs O&M'!$H$258","v":{"$error":"#REF!"}},null,null,null,null,null,null,{"$f":"'DNSP Inputs O&M'!$H$258","v":{"$error":"#REF!"}}]
[]
["Overheads",{"$f":"'DNSP Inputs O&M'!$D$18","v":0.25},null,null,null,null,{"$f":"B300*SUM(G284:G298)","v":{"$error":"#REF!"}},null,{"$f":"'DNSP Inputs O&M'!$D$18","v":0.25},null,null,null,null,{"$f":"I300*SUM(N284:N298)","v":{"$error":"#REF!"}},null,{"$f":"'DNSP Inputs O&M'!$D$18","v":0.25},null,null,null,null,{"$f":"P300*SUM(U284:U298)","v":{"$error":"#REF!"}},null,null,null,{"$f":"'DNSP Inputs O&M'!$E$18","v":0.25},null,null,null,null,{"$f":"Y300*SUM(AD284:AD298)","v":{"$error":"#REF!"}},null,{"$f":"'DNSP Inputs O&M'!$E$18","v":0.25},null,null,null,null,{"$f":"AF300*SUM(AK284:AK298)","v":{"$error":"#REF!"}},null,{"$f":"'DNSP Inputs O&M'!$E$18","v":0.25},null,null,null,null,{"$f":"AM300*SUM(AR284:AR298)","v":{"$error":"#REF!"}},null,null,null,{"$f":"'DNSP Inputs O&M'!$F$18","v":0.25},null,null,null,null,{"$f":"AV300*SUM(BA284:BA298)","v":{"$error":"#REF!"}},null,{"$f":"'DNSP Inputs O&M'!$F$18","v":0.25},null,null,null,null,{"$f":"BC300*SUM(BH284:BH298)","v":{"$error":"#REF!"}},null,{"$f":"'DNSP Inputs O&M'!$F$18","v":0.25},null,null,null,null,{"$f":"BJ300*SUM(BO284:BO298)","v":{"$error":"#REF!"}},null,null,null,{"$f":"'DNSP Inputs O&M'!$G$18","v":0.25},null,null,null,null,{"$f":"BS300*SUM(BX284:BX298)","v":{"$error":"#REF!"}},null,{"$f":"'DNSP Inputs O&M'!$G$18","v":0.25},null,null,null,null,{"$f":"BZ300*SUM(CE284:CE298)","v":{"$error":"#REF!"}},null,{"$f":"'DNSP Inputs O&M'!$G$18","v":0.25},null,null,null,null,{"$f":"CG300*SUM(CL284:CL298)","v":{"$error":"#REF!"}},null,null,null,{"$f":"'DNSP Inputs O&M'!$H$18","v":0.25},null,null,null,null,{"$f":"CP300*SUM(CU284:CU298)","v":{"$error":"#REF!"}},null,{"$f":"'DNSP Inputs O&M'!$H$18","v":0.25},null,null,null,null,{"$f":"CW300*SUM(DB284:DB298)","v":{"$error":"#REF!"}},null,{"$f":"'DNSP Inputs O&M'!$H$18","v":0.25},null,null,null,null,{"$f":"DD300*SUM(DI284:DI298)","v":{"$error":"#REF!"}}]
[]
[null,null,null,null,null,null,{"$f":"SUM(G284,G288,G293,G296,G298,G300)","v":{"$error":"#REF!"}},null,null,null,null,null,null,{"$f":"SUM(N284,N288,N293,N296,N298,N300)","v":{"$error":"#REF!"}},null,null,null,null,null,null,{"$f":"SUM(U284,U288,U293,U296,U298,U300)","v":{"$error":"#REF!"}},null,null,null,null,null,null,null,null,{"$f":"SUM(AD284,AD288,AD293,AD296,AD298,AD300)","v":{"$error":"#REF!"}},null,null,null,null,null,null,{"$f":"SUM(AK284,AK288,AK293,AK296,AK298,AK300)","v":{"$error":"#REF!"}},null,null,null,null,null,null,{"$f":"SUM(AR284,AR288,AR293,AR296,AR298,AR300)","v":{"$error":"#REF!"}},null,null,null,null,null,null,null,null,{"$f":"SUM(BA284,BA288,BA293,BA296,BA298,BA300)","v":{"$error":"#REF!"}},null,null,null,null,null,null,{"$f":"SUM(BH284,BH288,BH293,BH296,BH298,BH300)","v":{"$error":"#REF!"}},null,null,null,null,null,null,{"$f":"SUM(BO284,BO288,BO293,BO296,BO298,BO300)","v":{"$error":"#REF!"}},null,null,null,null,null,null,null,null,{"$f":"SUM(BX284,BX288,BX293,BX296,BX298,BX300)","v":{"$error":"#REF!"}},null,null,null,null,null,null,{"$f":"SUM(CE284,CE288,CE293,CE296,CE298,CE300)","v":{"$error":"#REF!"}},null,null,null,null,null,null,{"$f":"SUM(CL284,CL288,CL293,CL296,CL298,CL300)","v":{"$error":"#REF!"}},null,null,null,null,null,null,null,null,{"$f":"SUM(CU284,CU288,CU293,CU296,CU298,CU300)","v":{"$error":"#REF!"}},null,null,null,null,null,null,{"$f":"SUM(DB284,DB288,DB293,DB296,DB298,DB300)","v":{"$error":"#REF!"}},null,null,null,null,null,null,{"$f":"SUM(DI284,DI288,DI293,DI296,DI298,DI300)","v":{"$error":"#REF!"}}]
[]
[]
[]
[]
["Category P LED 18 Watt - Cost build-up"]
[]
["Additional assumptions"]
["Proportion of luminaire that will fail before bulk change",null,null,{"$f":"'DNSP Inputs O&M'!$D$284","v":4.2746393209543501E-2},null,null,null,null,null,null,null,null,null,null,null,null,null,null,null,null,null,null,null,null,null,null,{"$f":"'DNSP Inputs O&M'!$E$284","v":4.2746393209543501E-2},null,null,null,null,null,null,null,null,null,null,null,null,null,null,null,null,null,null,null,null,null,null,{"$f":"'DNSP Inputs O&M'!$F$284","v":4.2746393209543501E-2},null,null,null,null,null,null,null,null,null,null,null,null,null,null,null,null,null,null,null,null,null,null,{"$f":"'DNSP Inputs O&M'!$G$284","v":4.2746393209543501E-2},null,null,null,null,null,null,null,null,null,null,null,null,null,null,null,null,null,null,null,null,null,null,{"$f":"'DNSP Inputs O&M'!$H$284","v":4.2746393209543501E-2}]
["Proportion of lamps that will fail before bulk change (per year)",null,null,{"$f":"D310/'DNSP Inputs O&M'!$D$283","v":5.3432991511929376E-3},null,null,null,null,null,null,null,null,null,null,null,null,null,null,null,null,null,null,null,null,null,null,{"$f":"AA310/'DNSP Inputs O&M'!$E$283","v":5.3432991511929376E-3},null,null,null,null,null,null,null,null,null,null,null,null,null,null,null,null,null,null,null,null,null,null,{"$f":"AX310/'DNSP Inputs O&M'!$F$283","v":5.3432991511929376E-3},null,null,null,null,null,null,null,null,null,null,null,null,null,null,null,null,null,null,null,null,null,null,{"$f":"BU310/'DNSP Inputs O&M'!$G$283","v":5.3432991511929376E-3},null,null,null,null,null,null,null,null,null,null,null,null,null,null,null,null,null,null,null,null,null,null,{"$f":"CR310/'DNSP Inputs O&M'!$H$283","v":5.3432991511929376E-3}]
["Overheads are applied to material and labour components"]
["All costs and charges are exclusive of GST"]
[]
[null,"Urban",null,null,null,null,null,null,"Rural",null,null,null,null,null,null,"Remote",null,null,null,null,null,null,null,null,"Urban",null,null,null,null,null,null,"Rural",null,null,null,null,null,null,"Remote",null,null,null,null,null,null,null,null,"Urban",null,null,null,null,null,null,"Rural",null,null,null,null,null,null,"Remote",null,null,null,null,null,null,null,null,"Urban",null,null,null,null,null,null,"Rural",null,null,null,null,null,null,"Remote",null,null,null,null,null,null,null,null,"Urban",null,null,null,null,null,null,"Rural",null,null,null,null,null,null,"Remote"]
[]
[null,"Unit rate","Number","Hours","Cost","Annualised","Annualised",null,"Unit rate","Number","Hours","Cost","Annualised","Annualised",null,"Unit rate","Number","Hours","Cost","Annualised","Annualised",null,null,null,"Unit rate","Number","Hours","Cost","Annualised","Annualised",null,"Unit rate","Number","Hours","Cost","Annualised","Annualised",null,"Unit rate","Number","Hours","Cost","Annualised","Annualised",null,null,null,"Unit rate","Number","Hours","Cost","Annualised","Annualised",null,"Unit rate","Number","Hours","Cost","Annualised","Annualised",null,"Unit rate","Number","Hours","Cost","Annualised","Annualised",null,null,null,"Unit rate","Number","Hours","Cost","Annualised","Annualised",null,"Unit rate","Number","Hours","Cost","Annualised","Annualised",null,"Unit rate","Number","Hours","Cost","Annualised","Annualised",null,null,null,"Unit rate","Number","Hours","Cost","Annualised","Annualised",null,"Unit rate","Number","Hours","Cost","Annualised","Annualised",null,"Unit rate","Number","Hours","Cost","Annualised","Annualised"]
[null,null,null,null,null," cost","unit cost",null,null,null,null,null," cost","unit cost",null,null,null,null,null," cost","unit cost",null,null,null,null,null,null,null," cost","unit cost",null,null,null,null,null," cost","unit cost",null,null,null,null,null," cost","unit cost",null,null,null,null,null,null,null," cost","unit cost",null,null,null,null,null," cost","unit cost",null,null,null,null,null," cost","unit cost",null,null,null,null,null,null,null," cost","unit cost",null,null,null,null,null," cost","unit cost",null,null,null,null,null," cost","unit cost",null,null,null,null,null,null,null," cost","unit cost",null,null,null,null,null," cost","unit cost",null,null,null,null,null," cost","unit cost"]
["LED 18W"]
["Bulk change & repairs"]
["Materials - bulk PE cell change"]
["PE cell",{"$f":"'DNSP Inputs O&M'!$D$285","v":25.041364999999999},{"$f":"'DNSP Inputs O&M'!$D$289","v":73.92},null,{"$f":"B322*C322","v":1851.0577008},{"$f":"E322/'DNSP Inputs O&M'!$D$283","v":231.3822126},{"$f":"IFERROR(F322/C322,0)","v":3.1301706249999999},null,{"$f":"'DNSP Inputs O&M'!$D$285*(1+'DNSP Inputs O&M'!$D$11)","v":26.29343325},{"$f":"'DNSP Inputs O&M'!$D$290","v":61.44},null,{"$f":"I322*J322","v":1615.4685388799999},{"$f":"L322/'DNSP Inputs O&M'!$D$283","v":201.93356735999998},{"$f":"IFERROR(M322/J322,0)","v":3.28667915625},null,{"$f":"'DNSP Inputs O&M'!$D$285*(1+'DNSP Inputs O&M'!$D$11)","v":26.29343325},{"$f":"'DNSP Inputs O&M'!$D$291","v":48.96},null,{"$f":"P322*Q322","v":1287.3264919200001},{"$f":"S322/'DNSP Inputs O&M'!$D$283","v":160.91581149000001},{"$f":"IFERROR(T322/Q322,0)","v":3.28667915625},null,null,null,{"$f":"'DNSP Inputs O&M'!$E$285","v":25.041364999999999},{"$f":"'DNSP Inputs O&M'!$E$289","v":73.92},null,{"$f":"Y322*Z322","v":1851.0577008},{"$f":"AB322/'DNSP Inputs O&M'!$E$283","v":231.3822126},{"$f":"IFERROR(AC322/Z322,0)","v":3.1301706249999999},null,{"$f":"'DNSP Inputs O&M'!$E$285*(1+'DNSP Inputs O&M'!$E$11)","v":26.29343325},{"$f":"'DNSP Inputs O&M'!$E$290","v":61.44},null,{"$f":"AF322*AG322","v":1615.4685388799999},{"$f":"AI322/'DNSP Inputs O&M'!$E$283","v":201.93356735999998},{"$f":"IFERROR(AJ322/AG322,0)","v":3.28667915625},null,{"$f":"'DNSP Inputs O&M'!$E$285*(1+'DNSP Inputs O&M'!$E$11)","v":26.29343325},{"$f":"'DNSP Inputs O&M'!$E$291","v":48.96},null,{"$f":"AM322*AN322","v":1287.3264919200001},{"$f":"AP322/'DNSP Inputs O&M'!$E$283","v":160.91581149000001},{"$f":"IFERROR(AQ322/AN322,0)","v":3.28667915625},null,null,null,{"$f":"'DNSP Inputs O&M'!$F$285","v":25.041364999999999},{"$f":"'DNSP Inputs O&M'!$F$289","v":73.92},null,{"$f":"AV322*AW322","v":1851.0577008},{"$f":"AY322/'DNSP Inputs O&M'!$F$283","v":231.3822126},{"$f":"IFERROR(AZ322/AW322,0)","v":3.1301706249999999},null,{"$f":"'DNSP Inputs O&M'!$F$285*(1+'DNSP Inputs O&M'!$F$11)","v":26.29343325},{"$f":"'DNSP Inputs O&M'!$F$290","v":61.44},null,{"$f":"BC322*BD322","v":1615.4685388799999},{"$f":"BF322/'DNSP Inputs O&M'!$F$283","v":201.93356735999998},{"$f":"IFERROR(BG322/BD322,0)","v":3.28667915625},null,{"$f":"'DNSP Inputs O&M'!$F$285*(1+'DNSP Inputs O&M'!$F$11)","v":26.29343325},{"$f":"'DNSP Inputs O&M'!$F$291","v":48.96},null,{"$f":"BJ322*BK322","v":1287.3264919200001},{"$f":"BM322/'DNSP Inputs O&M'!$F$283","v":160.91581149000001},{"$f":"IFERROR(BN322/BK322,0)","v":3.28667915625},null,null,null,{"$f":"'DNSP Inputs O&M'!$G$285","v":25.041364999999999},{"$f":"'DNSP Inputs O&M'!$G$289","v":73.92},null,{"$f":"BS322*BT322","v":1851.0577008},{"$f":"BV322/'DNSP Inputs O&M'!$G$283","v":231.3822126},{"$f":"IFERROR(BW322/BT322,0)","v":3.1301706249999999},null,{"$f":"'DNSP Inputs O&M'!$G$285*(1+'DNSP Inputs O&M'!$G$11)","v":26.29343325},{"$f":"'DNSP Inputs O&M'!$G$290","v":61.44},null,{"$f":"BZ322*CA322","v":1615.4685388799999},{"$f":"CC322/'DNSP Inputs O&M'!$G$283","v":201.93356735999998},{"$f":"IFERROR(CD322/CA322,0)","v":3.28667915625},null,{"$f":"'DNSP Inputs O&M'!$G$285*(1+'DNSP Inputs O&M'!$G$11)","v":26.29343325},{"$f":"'DNSP Inputs O&M'!$G$291","v":48.96},null,{"$f":"CG322*CH322","v":1287.3264919200001},{"$f":"CJ322/'DNSP Inputs O&M'!$G$283","v":160.91581149000001},{"$f":"IFERROR(CK322/CH322,0)","v":3.28667915625},null,null,null,{"$f":"'DNSP Inputs O&M'!$H$285","v":25.041364999999999},{"$f":"'DNSP Inputs O&M'!$H$289","v":73.92},null,{"$f":"CP322*CQ322","v":1851.0577008},{"$f":"CS322/'DNSP Inputs O&M'!$H$283","v":231.3822126},{"$f":"IFERROR(CT322/CQ322,0)","v":3.1301706249999999},null,{"$f":"'DNSP Inputs O&M'!$H$285*(1+'DNSP Inputs O&M'!$H$11)","v":26.29343325},{"$f":"'DNSP Inputs O&M'!$H$290","v":61.44},null,{"$f":"CW322*CX322","v":1615.4685388799999},{"$f":"CZ322/'DNSP Inputs O&M'!$H$283","v":201.93356735999998},{"$f":"IFERROR(DA322/CX322,0)","v":3.28667915625},null,{"$f":"'DNSP Inputs O&M'!$H$285*(1+'DNSP Inputs O&M'!$H$11)","v":26.29343325},{"$f":"'DNSP Inputs O&M'!$H$291","v":48.96},null,{"$f":"DD322*DE322","v":1287.3264919200001},{"$f":"DG322/'DNSP Inputs O&M'!$H$283","v":160.91581149000001},{"$f":"IFERROR(DH322/DE322,0)","v":3.28667915625}]
["Materials - repair of faults"]
["PE cell",{"$f":"'DNSP Inputs O&M'!$D$285","v":25.041364999999999},{"$f":"'DNSP Inputs O&M'!$D$292*'DNSP Inputs O&M'!$D$295","v":22.464000000000002},null,{"$f":"B324*C324","v":562.52922336000006},{"$f":"(E324+E325+E326)/'DNSP Inputs O&M'!$D$292","v":24.85607234243539},{"$f":"F324*D311","v":0.13281343024932526},null,{"$f":"'DNSP Inputs O&M'!$D$285*(1+'DNSP Inputs O&M'!$D$11)","v":26.29343325},{"$f":"'DNSP Inputs O&M'!$D$293*'DNSP Inputs O&M'!$D$295","v":18.144000000000002},null,{"$f":"I324*J324","v":477.06805288800007},{"$f":"(L324+L325+L326)/'DNSP Inputs O&M'!$D$293","v":26.098875959557162},{"$f":"M324*D311","v":0.13945410176179154},null,{"$f":"'DNSP Inputs O&M'!$D$285*(1+'DNSP Inputs O&M'!$D$11)","v":26.29343325},{"$f":"'DNSP Inputs O&M'!$D$294*'DNSP Inputs O&M'!$D$295","v":14.688000000000001},null,{"$f":"P324*Q324","v":386.19794757599999},{"$f":"(S324+S325+S326)/'DNSP Inputs O&M'!$D$294","v":26.098875959557159},{"$f":"T324*D311","v":0.13945410176179154},null,null,null,{"$f":"'DNSP Inputs O&M'!$E$285","v":25.041364999999999},{"$f":"'DNSP Inputs O&M'!$E$292*'DNSP Inputs O&M'!$E$295","v":22.464000000000002},null,{"$f":"Y324*Z324","v":562.52922336000006},{"$f":"(AB324+AB325+AB326)/'DNSP Inputs O&M'!$E$292","v":24.85607234243539},{"$f":"AC324*AA311","v":0.13281343024932526},null,{"$f":"'DNSP Inputs O&M'!$E$285*(1+'DNSP Inputs O&M'!$E$11)","v":26.29343325},{"$f":"'DNSP Inputs O&M'!$E$293*'DNSP Inputs O&M'!$E$295","v":18.144000000000002},null,{"$f":"AF324*AG324","v":477.06805288800007},{"$f":"(AI324+AI325+AI326)/'DNSP Inputs O&M'!$E$293","v":26.098875959557162},{"$f":"AJ324*AA311","v":0.13945410176179154},null,{"$f":"'DNSP Inputs O&M'!$E$285*(1+'DNSP Inputs O&M'!$E$11)","v":26.29343325},{"$f":"'DNSP Inputs O&M'!$E$294*'DNSP Inputs O&M'!$E$295","v":14.688000000000001},null,{"$f":"AM324*AN324","v":386.19794757599999},{"$f":"(AP324+AP325+AP326)/'DNSP Inputs O&M'!$E$294","v":26.098875959557159},{"$f":"AQ324*AA311","v":0.13945410176179154},null,null,null,{"$f":"'DNSP Inputs O&M'!$F$285","v":25.041364999999999},{"$f":"'DNSP Inputs O&M'!$F$292*'DNSP Inputs O&M'!$F$295","v":22.464000000000002},null,{"$f":"AV324*AW324","v":562.52922336000006},{"$f":"(AY324+AY325+AY326)/'DNSP Inputs O&M'!$F$292","v":24.85607234243539},{"$f":"AZ324*AX311","v":0.13281343024932526},null,{"$f":"'DNSP Inputs O&M'!$F$285*(1+'DNSP Inputs O&M'!$F$11)","v":26.29343325},{"$f":"'DNSP Inputs O&M'!$F$293*'DNSP Inputs O&M'!$F$295","v":18.144000000000002},null,{"$f":"BC324*BD324","v":477.06805288800007},{"$f":"(BF324+BF325+BF326)/'DNSP Inputs O&M'!$F$293","v":26.098875959557162},{"$f":"BG324*AX311","v":0.13945410176179154},null,{"$f":"'DNSP Inputs O&M'!$F$285*(1+'DNSP Inputs O&M'!$F$11)","v":26.29343325},{"$f":"'DNSP Inputs O&M'!$F$294*'DNSP Inputs O&M'!$F$295","v":14.688000000000001},null,{"$f":"BJ324*BK324","v":386.19794757599999},{"$f":"(BM324+BM325+BM326)/'DNSP Inputs O&M'!$F$294","v":26.098875959557159},{"$f":"BN324*AX311","v":0.13945410176179154},null,null,null,{"$f":"'DNSP Inputs O&M'!$G$285","v":25.041364999999999},{"$f":"'DNSP Inputs O&M'!$G$292*'DNSP Inputs O&M'!$G$295","v":22.464000000000002},null,{"$f":"BS324*BT324","v":562.52922336000006},{"$f":"(BV324+BV325+BV326)/'DNSP Inputs O&M'!$G$292","v":24.85607234243539},{"$f":"BW324*BU311","v":0.13281343024932526},null,{"$f":"'DNSP Inputs O&M'!$G$285*(1+'DNSP Inputs O&M'!$G$11)","v":26.29343325},{"$f":"'DNSP Inputs O&M'!$G$293*'DNSP Inputs O&M'!$G$295","v":18.144000000000002},null,{"$f":"BZ324*CA324","v":477.06805288800007},{"$f":"(CC324+CC325+CC326)/'DNSP Inputs O&M'!$G$293","v":26.098875959557162},{"$f":"CD324*BU311","v":0.13945410176179154},null,{"$f":"'DNSP Inputs O&M'!$G$285*(1+'DNSP Inputs O&M'!$G$11)","v":26.29343325},{"$f":"'DNSP Inputs O&M'!$G$294*'DNSP Inputs O&M'!$G$295","v":14.688000000000001},null,{"$f":"CG324*CH324","v":386.19794757599999},{"$f":"(CJ324+CJ325+CJ326)/'DNSP Inputs O&M'!$G$294","v":26.098875959557159},{"$f":"CK324*BU311","v":0.13945410176179154},null,null,null,{"$f":"'DNSP Inputs O&M'!$H$285","v":25.041364999999999},{"$f":"'DNSP Inputs O&M'!$H$292*'DNSP Inputs O&M'!$H$295","v":22.464000000000002},null,{"$f":"CP324*CQ324","v":562.52922336000006},{"$f":"(CS324+CS325+CS326)/'DNSP Inputs O&M'!$H$292","v":24.85607234243539},{"$f":"CT324*CR311","v":0.13281343024932526},null,{"$f":"'DNSP Inputs O&M'!$H$285*(1+'DNSP Inputs O&M'!$H$11)","v":26.29343325},{"$f":"'DNSP Inputs O&M'!$H$293*'DNSP Inputs O&M'!$H$295","v":18.144000000000002},null,{"$f":"CW324*CX324","v":477.06805288800007},{"$f":"(CZ324+CZ325+CZ326)/'DNSP Inputs O&M'!$H$293","v":26.098875959557162},{"$f":"DA324*CR311","v":0.13945410176179154},null,{"$f":"'DNSP Inputs O&M'!$H$285*(1+'DNSP Inputs O&M'!$H$11)","v":26.29343325},{"$f":"'DNSP Inputs O&M'!$H$294*'DNSP Inputs O&M'!$H$295","v":14.688000000000001},null,{"$f":"DD324*DE324","v":386.19794757599999},{"$f":"(DG324+DG325+DG326)/'DNSP Inputs O&M'!$H$294","v":26.098875959557159},{"$f":"DH324*CR311","v":0.13945410176179154}]
["Luminaire",{"$f":"'DNSP Inputs O&M'!$D$286","v":602.8983467999999},{"$f":"'DNSP Inputs O&M'!$D$292*'DNSP Inputs O&M'!$D$296","v":0},null,{"$f":"B325*C325","v":0},null,null,null,{"$f":"'DNSP Inputs O&M'!$D$286*(1+'DNSP Inputs O&M'!$D$11)","v":633.04326413999991},{"$f":"'DNSP Inputs O&M'!$D$293*'DNSP Inputs O&M'!$D$296","v":0},null,{"$f":"I325*J325","v":0},null,null,null,{"$f":"'DNSP Inputs O&M'!$D$286*(1+'DNSP Inputs O&M'!$D$11)","v":633.04326413999991},{"$f":"'DNSP Inputs O&M'!$D$294*'DNSP Inputs O&M'!$D$296","v":0},null,{"$f":"P325*Q325","v":0},null,null,null,null,null,{"$f":"'DNSP Inputs O&M'!$E$286","v":602.8983467999999},{"$f":"'DNSP Inputs O&M'!$E$292*'DNSP Inputs O&M'!$E$296","v":0},null,{"$f":"Y325*Z325","v":0},null,null,null,{"$f":"'DNSP Inputs O&M'!$E$286*(1+'DNSP Inputs O&M'!$E$11)","v":633.04326413999991},{"$f":"'DNSP Inputs O&M'!$E$293*'DNSP Inputs O&M'!$E$296","v":0},null,{"$f":"AF325*AG325","v":0},null,null,null,{"$f":"'DNSP Inputs O&M'!$E$286*(1+'DNSP Inputs O&M'!$E$11)","v":633.04326413999991},{"$f":"'DNSP Inputs O&M'!$E$294*'DNSP Inputs O&M'!$E$296","v":0},null,{"$f":"AM325*AN325","v":0},null,null,null,null,null,{"$f":"'DNSP Inputs O&M'!$F$286","v":602.8983467999999},{"$f":"'DNSP Inputs O&M'!$F$292*'DNSP Inputs O&M'!$F$296","v":0},null,{"$f":"AV325*AW325","v":0},null,null,null,{"$f":"'DNSP Inputs O&M'!$F$286*(1+'DNSP Inputs O&M'!$F$11)","v":633.04326413999991},{"$f":"'DNSP Inputs O&M'!$F$293*'DNSP Inputs O&M'!$F$296","v":0},null,{"$f":"BC325*BD325","v":0},null,null,null,{"$f":"'DNSP Inputs O&M'!$F$286*(1+'DNSP Inputs O&M'!$F$11)","v":633.04326413999991},{"$f":"'DNSP Inputs O&M'!$F$294*'DNSP Inputs O&M'!$F$296","v":0},null,{"$f":"BJ325*BK325","v":0},null,null,null,null,null,{"$f":"'DNSP Inputs O&M'!$G$286","v":602.8983467999999},{"$f":"'DNSP Inputs O&M'!$G$292*'DNSP Inputs O&M'!$G$296","v":0},null,{"$f":"BS325*BT325","v":0},null,null,null,{"$f":"'DNSP Inputs O&M'!$G$286*(1+'DNSP Inputs O&M'!$G$11)","v":633.04326413999991},{"$f":"'DNSP Inputs O&M'!$G$293*'DNSP Inputs O&M'!$G$296","v":0},null,{"$f":"BZ325*CA325","v":0},null,null,null,{"$f":"'DNSP Inputs O&M'!$G$286*(1+'DNSP Inputs O&M'!$G$11)","v":633.04326413999991},{"$f":"'DNSP Inputs O&M'!$G$294*'DNSP Inputs O&M'!$G$296","v":0},null,{"$f":"CG325*CH325","v":0},null,null,null,null,null,{"$f":"'DNSP Inputs O&M'!$H$286","v":602.8983467999999},{"$f":"'DNSP Inputs O&M'!$H$292*'DNSP Inputs O&M'!$H$296","v":0},null,{"$f":"CP325*CQ325","v":0},null,null,null,{"$f":"'DNSP Inputs O&M'!$H$286*(1+'DNSP Inputs O&M'!$H$11)","v":633.04326413999991},{"$f":"'DNSP Inputs O&M'!$H$293*'DNSP Inputs O&M'!$H$296","v":0},null,{"$f":"CW325*CX325","v":0},null,null,null,{"$f":"'DNSP Inputs O&M'!$H$286*(1+'DNSP Inputs O&M'!$H$11)","v":633.04326413999991},{"$f":"'DNSP Inputs O&M'!$H$294*'DNSP Inputs O&M'!$H$296","v":0},null,{"$f":"DD325*DE325","v":0}]
["Miscellaneous",{"$f":"'DNSP Inputs O&M'!$D$287","v":23.188438424353883},{"$f":"'DNSP Inputs O&M'!$D$292*'DNSP Inputs O&M'!$D$297","v":2.4960000000000004},null,{"$f":"B326*C326","v":57.878342307187303},null,null,null,{"$f":"'DNSP Inputs O&M'!$D$287*(1+'DNSP Inputs O&M'!$D$11)","v":24.347860345571579},{"$f":"'DNSP Inputs O&M'!$D$293*'DNSP Inputs O&M'!$D$297","v":2.016},null,{"$f":"I326*J326","v":49.085286456672307},null,null,null,{"$f":"'DNSP Inputs O&M'!$D$287*(1+'DNSP Inputs O&M'!$D$11)","v":24.347860345571579},{"$f":"'DNSP Inputs O&M'!$D$294*'DNSP Inputs O&M'!$D$297","v":1.6320000000000001},null,{"$f":"P326*Q326","v":39.735708083972817},null,null,null,null,null,{"$f":"'DNSP Inputs O&M'!$E$287","v":23.188438424353883},{"$f":"'DNSP Inputs O&M'!$E$292*'DNSP Inputs O&M'!$E$297","v":2.4960000000000004},null,{"$f":"Y326*Z326","v":57.878342307187303},null,null,null,{"$f":"'DNSP Inputs O&M'!$E$287*(1+'DNSP Inputs O&M'!$E$11)","v":24.347860345571579},{"$f":"'DNSP Inputs O&M'!$E$293*'DNSP Inputs O&M'!$E$297","v":2.016},null,{"$f":"AF326*AG326","v":49.085286456672307},null,null,null,{"$f":"'DNSP Inputs O&M'!$E$287*(1+'DNSP Inputs O&M'!$E$11)","v":24.347860345571579},{"$f":"'DNSP Inputs O&M'!$E$294*'DNSP Inputs O&M'!$E$297","v":1.6320000000000001},null,{"$f":"AM326*AN326","v":39.735708083972817},null,null,null,null,null,{"$f":"'DNSP Inputs O&M'!$F$287","v":23.188438424353883},{"$f":"'DNSP Inputs O&M'!$F$292*'DNSP Inputs O&M'!$F$297","v":2.4960000000000004},null,{"$f":"AV326*AW326","v":57.878342307187303},null,null,null,{"$f":"'DNSP Inputs O&M'!$F$287*(1+'DNSP Inputs O&M'!$F$11)","v":24.347860345571579},{"$f":"'DNSP Inputs O&M'!$F$293*'DNSP Inputs O&M'!$F$297","v":2.016},null,{"$f":"BC326*BD326","v":49.085286456672307},null,null,null,{"$f":"'DNSP Inputs O&M'!$F$287*(1+'DNSP Inputs O&M'!$F$11)","v":24.347860345571579},{"$f":"'DNSP Inputs O&M'!$F$294*'DNSP Inputs O&M'!$F$297","v":1.6320000000000001},null,{"$f":"BJ326*BK326","v":39.735708083972817},null,null,null,null,null,{"$f":"'DNSP Inputs O&M'!$G$287","v":23.188438424353883},{"$f":"'DNSP Inputs O&M'!$G$292*'DNSP Inputs O&M'!$G$297","v":2.4960000000000004},null,{"$f":"BS326*BT326","v":57.878342307187303},null,null,null,{"$f":"'DNSP Inputs O&M'!$G$287*(1+'DNSP Inputs O&M'!$G$11)","v":24.347860345571579},{"$f":"'DNSP Inputs O&M'!$G$293*'DNSP Inputs O&M'!$G$297","v":2.016},null,{"$f":"BZ326*CA326","v":49.085286456672307},null,null,null,{"$f":"'DNSP Inputs O&M'!$G$287*(1+'DNSP Inputs O&M'!$G$11)","v":24.347860345571579},{"$f":"'DNSP Inputs O&M'!$G$294*'DNSP Inputs O&M'!$G$297","v":1.6320000000000001},null,{"$f":"CG326*CH326","v":39.735708083972817},null,null,null,null,null,{"$f":"'DNSP Inputs O&M'!$H$287","v":23.188438424353883},{"$f":"'DNSP Inputs O&M'!$H$292*'DNSP Inputs O&M'!$H$297","v":2.4960000000000004},null,{"$f":"CP326*CQ326","v":57.878342307187303},null,null,null,{"$f":"'DNSP Inputs O&M'!$H$287*(1+'DNSP Inputs O&M'!$H$11)","v":24.347860345571579},{"$f":"'DNSP Inputs O&M'!$H$293*'DNSP Inputs O&M'!$H$297","v":2.016},null,{"$f":"CW326*CX326","v":49.085286456672307},null,null,null,{"$f":"'DNSP Inputs O&M'!$H$287*(1+'DNSP Inputs O&M'!$H$11)","v":24.347860345571579},{"$f":"'DNSP Inputs O&M'!$H$294*'DNSP Inputs O&M'!$H$297","v":1.6320000000000001},null,{"$f":"DD326*DE326","v":39.735708083972817}]
["Labour - bulk PE cell change"]
["Crew costs",{"$f":"'DNSP Inputs O&M'!$D$12","v":111.36223236834823},{"$f":"'DNSP Inputs O&M'!$D$288","v":2},{"$f":"'DNSP Inputs O&M'!$D$17","v":7.5},{"$f":"B328*C328*D328","v":1670.4334855252234},{"$f":"E328/'DNSP Inputs O&M'!$D$283","v":208.80418569065293},{"$f":"IFERROR((F328+F329)/C322,0)","v":3.4611463161614306},null,{"$f":"'DNSP Inputs O&M'!$D$12","v":111.36223236834823},{"$f":"'DNSP Inputs O&M'!$D$288","v":2},{"$f":"'DNSP Inputs O&M'!$D$17","v":7.5},{"$f":"I328*J328*K328","v":1670.4334855252234},{"$f":"L328/'DNSP Inputs O&M'!$D$283","v":208.80418569065293},{"$f":"IFERROR((M328+M329)/J322,0)","v":4.3695749624129707},null,{"$f":"'DNSP Inputs O&M'!$D$12","v":111.36223236834823},{"$f":"'DNSP Inputs O&M'!$D$288","v":2},{"$f":"'DNSP Inputs O&M'!$D$17","v":7.5},{"$f":"P328*Q328*R328","v":1670.4334855252234},{"$f":"S328/'DNSP Inputs O&M'!$D$283","v":208.80418569065293},{"$f":"IFERROR((T328+T329)/Q322,0)","v":5.4833881881260806},null,null,null,{"$f":"'DNSP Inputs O&M'!$E$12","v":{"$error":"#REF!"}},{"$f":"'DNSP Inputs O&M'!$E$288","v":2},{"$f":"'DNSP Inputs O&M'!$E$17","v":7.5},{"$f":"Y328*Z328*AA328","v":{"$error":"#REF!"}},{"$f":"AB328/'DNSP Inputs O&M'!$E$283","v":{"$error":"#REF!"}},{"$f":"IFERROR((AC328+AC329)/Z322,0)","v":0},null,{"$f":"'DNSP Inputs O&M'!$E$12","v":{"$error":"#REF!"}},{"$f":"'DNSP Inputs O&M'!$E$288","v":2},{"$f":"'DNSP Inputs O&M'!$E$17","v":7.5},{"$f":"AF328*AG328*AH328","v":{"$error":"#REF!"}},{"$f":"AI328/'DNSP Inputs O&M'!$E$283","v":{"$error":"#REF!"}},{"$f":"IFERROR((AJ328+AJ329)/AG322,0)","v":0},null,{"$f":"'DNSP Inputs O&M'!$E$12","v":{"$error":"#REF!"}},{"$f":"'DNSP Inputs O&M'!$E$288","v":2},{"$f":"'DNSP Inputs O&M'!$E$17","v":7.5},{"$f":"AM328*AN328*AO328","v":{"$error":"#REF!"}},{"$f":"AP328/'DNSP Inputs O&M'!$E$283","v":{"$error":"#REF!"}},{"$f":"IFERROR((AQ328+AQ329)/AN322,0)","v":0},null,null,null,{"$f":"'DNSP Inputs O&M'!$F$12","v":{"$error":"#REF!"}},{"$f":"'DNSP Inputs O&M'!$F$288","v":2},{"$f":"'DNSP Inputs O&M'!$F$17","v":7.5},{"$f":"AV328*AW328*AX328","v":{"$error":"#REF!"}},{"$f":"AY328/'DNSP Inputs O&M'!$F$283","v":{"$error":"#REF!"}},{"$f":"IFERROR((AZ328+AZ329)/AW322,0)","v":0},null,{"$f":"'DNSP Inputs O&M'!$F$12","v":{"$error":"#REF!"}},{"$f":"'DNSP Inputs O&M'!$F$288","v":2},{"$f":"'DNSP Inputs O&M'!$F$17","v":7.5},{"$f":"BC328*BD328*BE328","v":{"$error":"#REF!"}},{"$f":"BF328/'DNSP Inputs O&M'!$F$283","v":{"$error":"#REF!"}},{"$f":"IFERROR((BG328+BG329)/BD322,0)","v":0},null,{"$f":"'DNSP Inputs O&M'!$F$12","v":{"$error":"#REF!"}},{"$f":"'DNSP Inputs O&M'!$F$288","v":2},{"$f":"'DNSP Inputs O&M'!$F$17","v":7.5},{"$f":"BJ328*BK328*BL328","v":{"$error":"#REF!"}},{"$f":"BM328/'DNSP Inputs O&M'!$F$283","v":{"$error":"#REF!"}},{"$f":"IFERROR((BN328+BN329)/BK322,0)","v":0},null,null,null,{"$f":"'DNSP Inputs O&M'!$G$12","v":{"$error":"#REF!"}},{"$f":"'DNSP Inputs O&M'!$G$288","v":2},{"$f":"'DNSP Inputs O&M'!$G$17","v":7.5},{"$f":"BS328*BT328*BU328","v":{"$error":"#REF!"}},{"$f":"BV328/'DNSP Inputs O&M'!$G$283","v":{"$error":"#REF!"}},{"$f":"IFERROR((BW328+BW329)/BT322,0)","v":0},null,{"$f":"'DNSP Inputs O&M'!$G$12","v":{"$error":"#REF!"}},{"$f":"'DNSP Inputs O&M'!$G$288","v":2},{"$f":"'DNSP Inputs O&M'!$G$17","v":7.5},{"$f":"BZ328*CA328*CB328","v":{"$error":"#REF!"}},{"$f":"CC328/'DNSP Inputs O&M'!$G$283","v":{"$error":"#REF!"}},{"$f":"IFERROR((CD328+CD329)/CA322,0)","v":0},null,{"$f":"'DNSP Inputs O&M'!$G$12","v":{"$error":"#REF!"}},{"$f":"'DNSP Inputs O&M'!$G$288","v":2},{"$f":"'DNSP Inputs O&M'!$G$17","v":7.5},{"$f":"CG328*CH328*CI328","v":{"$error":"#REF!"}},{"$f":"CJ328/'DNSP Inputs O&M'!$G$283","v":{"$error":"#REF!"}},{"$f":"IFERROR((CK328+CK329)/CH322,0)","v":0},null,null,null,{"$f":"'DNSP Inputs O&M'!$H$12","v":{"$error":"#REF!"}},{"$f":"'DNSP Inputs O&M'!$H$288","v":2},{"$f":"'DNSP Inputs O&M'!$H$17","v":7.5},{"$f":"CP328*CQ328*CR328","v":{"$error":"#REF!"}},{"$f":"CS328/'DNSP Inputs O&M'!$H$283","v":{"$error":"#REF!"}},{"$f":"IFERROR((CT328+CT329)/CQ322,0)","v":0},null,{"$f":"'DNSP Inputs O&M'!$H$12","v":{"$error":"#REF!"}},{"$f":"'DNSP Inputs O&M'!$H$288","v":2},{"$f":"'DNSP Inputs O&M'!$H$17","v":7.5},{"$f":"CW328*CX328*CY328","v":{"$error":"#REF!"}},{"$f":"CZ328/'DNSP Inputs O&M'!$H$283","v":{"$error":"#REF!"}},{"$f":"IFERROR((DA328+DA329)/CX322,0)","v":0},null,{"$f":"'DNSP Inputs O&M'!$H$12","v":{"$error":"#REF!"}},{"$f":"'DNSP Inputs O&M'!$H$288","v":2},{"$f":"'DNSP Inputs O&M'!$H$17","v":7.5},{"$f":"DD328*DE328*DF328","v":{"$error":"#REF!"}},{"$f":"DG328/'DNSP Inputs O&M'!$H$283","v":{"$error":"#REF!"}},{"$f":"IFERROR((DH328+DH329)/DE322,0)","v":0}]
["Elevated platform vehicle costs",{"$f":"'DNSP Inputs O&M'!$D$14","v":50.18},1,{"$f":"'DNSP Inputs O&M'!$D$17","v":7.5},{"$f":"B329*C329*D329","v":376.35},{"$f":"E329/'DNSP Inputs O&M'!$D$283","v":47.043750000000003},null,null,{"$f":"'DNSP Inputs O&M'!$D$15","v":63.64},1,{"$f":"'DNSP Inputs O&M'!$D$17","v":7.5},{"$f":"I329*J329*K329","v":477.3},{"$f":"L329/'DNSP Inputs O&M'!$D$283","v":59.662500000000001},null,null,{"$f":"'DNSP Inputs O&M'!$D$15","v":63.64},1,{"$f":"'DNSP Inputs O&M'!$D$17","v":7.5},{"$f":"P329*Q329*R329","v":477.3},{"$f":"S329/'DNSP Inputs O&M'!$D$283","v":59.662500000000001},null,null,null,null,{"$f":"'DNSP Inputs O&M'!$E$14","v":50.18},1,{"$f":"'DNSP Inputs O&M'!$E$17","v":7.5},{"$f":"Y329*Z329*AA329","v":376.35},{"$f":"AB329/'DNSP Inputs O&M'!$E$283","v":47.043750000000003},null,null,{"$f":"'DNSP Inputs O&M'!$E$15","v":63.64},1,{"$f":"'DNSP Inputs O&M'!$E$17","v":7.5},{"$f":"AF329*AG329*AH329","v":477.3},{"$f":"AI329/'DNSP Inputs O&M'!$E$283","v":59.662500000000001},null,null,{"$f":"'DNSP Inputs O&M'!$E$15","v":63.64},1,{"$f":"'DNSP Inputs O&M'!$E$17","v":7.5},{"$f":"AM329*AN329*AO329","v":477.3},{"$f":"AP329/'DNSP Inputs O&M'!$E$283","v":59.662500000000001},null,null,null,null,{"$f":"'DNSP Inputs O&M'!$F$14","v":50.18},1,{"$f":"'DNSP Inputs O&M'!$F$17","v":7.5},{"$f":"AV329*AW329*AX329","v":376.35},{"$f":"AY329/'DNSP Inputs O&M'!$F$283","v":47.043750000000003},null,null,{"$f":"'DNSP Inputs O&M'!$F$15","v":63.64},1,{"$f":"'DNSP Inputs O&M'!$F$17","v":7.5},{"$f":"BC329*BD329*BE329","v":477.3},{"$f":"BF329/'DNSP Inputs O&M'!$F$283","v":59.662500000000001},null,null,{"$f":"'DNSP Inputs O&M'!$F$15","v":63.64},1,{"$f":"'DNSP Inputs O&M'!$F$17","v":7.5},{"$f":"BJ329*BK329*BL329","v":477.3},{"$f":"BM329/'DNSP Inputs O&M'!$F$283","v":59.662500000000001},null,null,null,null,{"$f":"'DNSP Inputs O&M'!$G$14","v":50.18},1,{"$f":"'DNSP Inputs O&M'!$G$17","v":7.5},{"$f":"BS329*BT329*BU329","v":376.35},{"$f":"BV329/'DNSP Inputs O&M'!$G$283","v":47.043750000000003},null,null,{"$f":"'DNSP Inputs O&M'!$G$15","v":63.64},1,{"$f":"'DNSP Inputs O&M'!$G$17","v":7.5},{"$f":"BZ329*CA329*CB329","v":477.3},{"$f":"CC329/'DNSP Inputs O&M'!$G$283","v":59.662500000000001},null,null,{"$f":"'DNSP Inputs O&M'!$G$15","v":63.64},1,{"$f":"'DNSP Inputs O&M'!$G$17","v":7.5},{"$f":"CG329*CH329*CI329","v":477.3},{"$f":"CJ329/'DNSP Inputs O&M'!$G$283","v":59.662500000000001},null,null,null,null,{"$f":"'DNSP Inputs O&M'!$H$14","v":50.18},1,{"$f":"'DNSP Inputs O&M'!$H$17","v":7.5},{"$f":"CP329*CQ329*CR329","v":376.35},{"$f":"CS329/'DNSP Inputs O&M'!$H$283","v":47.043750000000003},null,null,{"$f":"'DNSP Inputs O&M'!$H$15","v":63.64},1,{"$f":"'DNSP Inputs O&M'!$H$17","v":7.5},{"$f":"CW329*CX329*CY329","v":477.3},{"$f":"CZ329/'DNSP Inputs O&M'!$H$283","v":59.662500000000001},null,null,{"$f":"'DNSP Inputs O&M'!$H$15","v":63.64},1,{"$f":"'DNSP Inputs O&M'!$H$17","v":7.5},{"$f":"DD329*DE329*DF329","v":477.3},{"$f":"DG329/'DNSP Inputs O&M'!$H$283","v":59.662500000000001}]
["Labour - repair of faults"]
["Crew costs",{"$f":"'DNSP Inputs O&M'!$D$12","v":111.36223236834823},{"$f":"'DNSP Inputs O&M'!$D$288","v":2},{"$f":"'DNSP Inputs O&M'!$D$17","v":7.5},{"$f":"B331*C331*D331","v":1670.4334855252234},{"$f":"(E331+E332)/'DNSP Inputs O&M'!$D$292","v":82.002543490593894},{"$f":"F331*D311","v":0.4381641210289523},null,{"$f":"'DNSP Inputs O&M'!$D$12","v":111.36223236834823},{"$f":"'DNSP Inputs O&M'!$D$288","v":2},{"$f":"'DNSP Inputs O&M'!$D$17","v":7.5},{"$f":"I331*J331*K331","v":1670.4334855252234},{"$f":"(L331+L332)/'DNSP Inputs O&M'!$D$293","v":106.53439908359243},{"$f":"M331*D311","v":0.56924516419620907},null,{"$f":"'DNSP Inputs O&M'!$D$12","v":111.36223236834823},{"$f":"'DNSP Inputs O&M'!$D$288","v":2},{"$f":"'DNSP Inputs O&M'!$D$17","v":7.5},{"$f":"P331*Q331*R331","v":1670.4334855252234},{"$f":"(S331+S332)/'DNSP Inputs O&M'!$D$294","v":131.60131651502593},{"$f":"T331*D311","v":0.70318520283061114},null,null,null,{"$f":"'DNSP Inputs O&M'!$E$12","v":{"$error":"#REF!"}},{"$f":"'DNSP Inputs O&M'!$E$288","v":2},{"$f":"'DNSP Inputs O&M'!$E$17","v":7.5},{"$f":"Y331*Z331*AA331","v":{"$error":"#REF!"}},{"$f":"(AB331+AB332)/'DNSP Inputs O&M'!$E$292","v":{"$error":"#REF!"}},{"$f":"AC331*AA311","v":{"$error":"#REF!"}},null,{"$f":"'DNSP Inputs O&M'!$E$12","v":{"$error":"#REF!"}},{"$f":"'DNSP Inputs O&M'!$E$288","v":2},{"$f":"'DNSP Inputs O&M'!$E$17","v":7.5},{"$f":"AF331*AG331*AH331","v":{"$error":"#REF!"}},{"$f":"(AI331+AI332)/'DNSP Inputs O&M'!$E$293","v":{"$error":"#REF!"}},{"$f":"AJ331*AA311","v":{"$error":"#REF!"}},null,{"$f":"'DNSP Inputs O&M'!$E$12","v":{"$error":"#REF!"}},{"$f":"'DNSP Inputs O&M'!$E$288","v":2},{"$f":"'DNSP Inputs O&M'!$E$17","v":7.5},{"$f":"AM331*AN331*AO331","v":{"$error":"#REF!"}},{"$f":"(AP331+AP332)/'DNSP Inputs O&M'!$E$294","v":{"$error":"#REF!"}},{"$f":"AQ331*AA311","v":{"$error":"#REF!"}},null,null,null,{"$f":"'DNSP Inputs O&M'!$F$12","v":{"$error":"#REF!"}},{"$f":"'DNSP Inputs O&M'!$F$288","v":2},{"$f":"'DNSP Inputs O&M'!$F$17","v":7.5},{"$f":"AV331*AW331*AX331","v":{"$error":"#REF!"}},{"$f":"(AY331+AY332)/'DNSP Inputs O&M'!$F$292","v":{"$error":"#REF!"}},{"$f":"AZ331*AX311","v":{"$error":"#REF!"}},null,{"$f":"'DNSP Inputs O&M'!$F$12","v":{"$error":"#REF!"}},{"$f":"'DNSP Inputs O&M'!$F$288","v":2},{"$f":"'DNSP Inputs O&M'!$F$17","v":7.5},{"$f":"BC331*BD331*BE331","v":{"$error":"#REF!"}},{"$f":"(BF331+BF332)/'DNSP Inputs O&M'!$F$293","v":{"$error":"#REF!"}},{"$f":"BG331*AX311","v":{"$error":"#REF!"}},null,{"$f":"'DNSP Inputs O&M'!$F$12","v":{"$error":"#REF!"}},{"$f":"'DNSP Inputs O&M'!$F$288","v":2},{"$f":"'DNSP Inputs O&M'!$F$17","v":7.5},{"$f":"BJ331*BK331*BL331","v":{"$error":"#REF!"}},{"$f":"(BM331+BM332)/'DNSP Inputs O&M'!$F$294","v":{"$error":"#REF!"}},{"$f":"BN331*AX311","v":{"$error":"#REF!"}},null,null,null,{"$f":"'DNSP Inputs O&M'!$G$12","v":{"$error":"#REF!"}},{"$f":"'DNSP Inputs O&M'!$G$288","v":2},{"$f":"'DNSP Inputs O&M'!$G$17","v":7.5},{"$f":"BS331*BT331*BU331","v":{"$error":"#REF!"}},{"$f":"(BV331+BV332)/'DNSP Inputs O&M'!$G$292","v":{"$error":"#REF!"}},{"$f":"BW331*BU311","v":{"$error":"#REF!"}},null,{"$f":"'DNSP Inputs O&M'!$G$12","v":{"$error":"#REF!"}},{"$f":"'DNSP Inputs O&M'!$G$288","v":2},{"$f":"'DNSP Inputs O&M'!$G$17","v":7.5},{"$f":"BZ331*CA331*CB331","v":{"$error":"#REF!"}},{"$f":"(CC331+CC332)/'DNSP Inputs O&M'!$G$293","v":{"$error":"#REF!"}},{"$f":"CD331*BU311","v":{"$error":"#REF!"}},null,{"$f":"'DNSP Inputs O&M'!$G$12","v":{"$error":"#REF!"}},{"$f":"'DNSP Inputs O&M'!$G$288","v":2},{"$f":"'DNSP Inputs O&M'!$G$17","v":7.5},{"$f":"CG331*CH331*CI331","v":{"$error":"#REF!"}},{"$f":"(CJ331+CJ332)/'DNSP Inputs O&M'!$G$294","v":{"$error":"#REF!"}},{"$f":"CK331*BU311","v":{"$error":"#REF!"}},null,null,null,{"$f":"'DNSP Inputs O&M'!$H$12","v":{"$error":"#REF!"}},{"$f":"'DNSP Inputs O&M'!$H$288","v":2},{"$f":"'DNSP Inputs O&M'!$H$17","v":7.5},{"$f":"CP331*CQ331*CR331","v":{"$error":"#REF!"}},{"$f":"(CS331+CS332)/'DNSP Inputs O&M'!$H$292","v":{"$error":"#REF!"}},{"$f":"CT331*CR311","v":{"$error":"#REF!"}},null,{"$f":"'DNSP Inputs O&M'!$H$12","v":{"$error":"#REF!"}},{"$f":"'DNSP Inputs O&M'!$H$288","v":2},{"$f":"'DNSP Inputs O&M'!$H$17","v":7.5},{"$f":"CW331*CX331*CY331","v":{"$error":"#REF!"}},{"$f":"(CZ331+CZ332)/'DNSP Inputs O&M'!$H$293","v":{"$error":"#REF!"}},{"$f":"DA331*CR311","v":{"$error":"#REF!"}},null,{"$f":"'DNSP Inputs O&M'!$H$12","v":{"$error":"#REF!"}},{"$f":"'DNSP Inputs O&M'!$H$288","v":2},{"$f":"'DNSP Inputs O&M'!$H$17","v":7.5},{"$f":"DD331*DE331*DF331","v":{"$error":"#REF!"}},{"$f":"(DG331+DG332)/'DNSP Inputs O&M'!$H$294","v":{"$error":"#REF!"}},{"$f":"DH331*CR311","v":{"$error":"#REF!"}}]
["Elevated platform vehicle costs",{"$f":"'DNSP Inputs O&M'!$D$14","v":50.18},1,{"$f":"'DNSP Inputs O&M'!$D$17","v":7.5},{"$f":"B332*C332*D332","v":376.35},null,null,null,{"$f":"'DNSP Inputs O&M'!$D$15","v":63.64},1,{"$f":"'DNSP Inputs O&M'!$D$17","v":7.5},{"$f":"I332*J332*K332","v":477.3},null,null,null,{"$f":"'DNSP Inputs O&M'!$D$15","v":63.64},1,{"$f":"'DNSP Inputs O&M'!$D$17","v":7.5},{"$f":"P332*Q332*R332","v":477.3},null,null,null,null,null,{"$f":"'DNSP Inputs O&M'!$E$14","v":50.18},1,{"$f":"'DNSP Inputs O&M'!$E$17","v":7.5},{"$f":"Y332*Z332*AA332","v":376.35},null,null,null,{"$f":"'DNSP Inputs O&M'!$E$15","v":63.64},1,{"$f":"'DNSP Inputs O&M'!$E$17","v":7.5},{"$f":"AF332*AG332*AH332","v":477.3},null,null,null,{"$f":"'DNSP Inputs O&M'!$E$15","v":63.64},1,{"$f":"'DNSP Inputs O&M'!$E$17","v":7.5},{"$f":"AM332*AN332*AO332","v":477.3},null,null,null,null,null,{"$f":"'DNSP Inputs O&M'!$F$14","v":50.18},1,{"$f":"'DNSP Inputs O&M'!$F$17","v":7.5},{"$f":"AV332*AW332*AX332","v":376.35},null,null,null,{"$f":"'DNSP Inputs O&M'!$F$15","v":63.64},1,{"$f":"'DNSP Inputs O&M'!$F$17","v":7.5},{"$f":"BC332*BD332*BE332","v":477.3},null,null,null,{"$f":"'DNSP Inputs O&M'!$F$15","v":63.64},1,{"$f":"'DNSP Inputs O&M'!$F$17","v":7.5},{"$f":"BJ332*BK332*BL332","v":477.3},null,null,null,null,null,{"$f":"'DNSP Inputs O&M'!$G$14","v":50.18},1,{"$f":"'DNSP Inputs O&M'!$G$17","v":7.5},{"$f":"BS332*BT332*BU332","v":376.35},null,null,null,{"$f":"'DNSP Inputs O&M'!$G$15","v":63.64},1,{"$f":"'DNSP Inputs O&M'!$G$17","v":7.5},{"$f":"BZ332*CA332*CB332","v":477.3},null,null,null,{"$f":"'DNSP Inputs O&M'!$G$15","v":63.64},1,{"$f":"'DNSP Inputs O&M'!$G$17","v":7.5},{"$f":"CG332*CH332*CI332","v":477.3},null,null,null,null,null,{"$f":"'DNSP Inputs O&M'!$H$14","v":50.18},1,{"$f":"'DNSP Inputs O&M'!$H$17","v":7.5},{"$f":"CP332*CQ332*CR332","v":376.35},null,null,null,{"$f":"'DNSP Inputs O&M'!$H$15","v":63.64},1,{"$f":"'DNSP Inputs O&M'!$H$17","v":7.5},{"$f":"CW332*CX332*CY332","v":477.3},null,null,null,{"$f":"'DNSP Inputs O&M'!$H$15","v":63.64},1,{"$f":"'DNSP Inputs O&M'!$H$17","v":7.5},{"$f":"DD332*DE332*DF332","v":477.3}]
["Other Maintenance and Repair costs",null,null,null,null,null,{"$f":"'DNSP Inputs O&M'!$D$304","v":1.05},null,null,null,null,null,null,{"$f":"'DNSP Inputs O&M'!$D$304","v":1.05},null,null,null,null,null,null,{"$f":"'DNSP Inputs O&M'!$D$304","v":1.05},null,null,null,null,null,null,null,null,{"$f":"'DNSP Inputs O&M'!$E$304","v":1.05},null,null,null,null,null,null,{"$f":"'DNSP Inputs O&M'!$E$304","v":1.05},null,null,null,null,null,null,{"$f":"'DNSP Inputs O&M'!$E$304","v":1.05},null,null,null,null,null,null,null,null,{"$f":"'DNSP Inputs O&M'!$F$304","v":1.05},null,null,null,null,null,null,{"$f":"'DNSP Inputs O&M'!$F$304","v":1.05},null,null,null,null,null,null,{"$f":"'DNSP Inputs O&M'!$F$304","v":1.05},null,null,null,null,null,null,null,null,{"$f":"'DNSP Inputs O&M'!$G$304","v":1.05},null,null,null,null,null,null,{"$f":"'DNSP Inputs O&M'!$G$304","v":1.05},null,null,null,null,null,null,{"$f":"'DNSP Inputs O&M'!$G$304","v":1.05},null,null,null,null,null,null,null,null,{"$f":"'DNSP Inputs O&M'!$H$304","v":1.05},null,null,null,null,null,null,{"$f":"'DNSP Inputs O&M'!$H$304","v":1.05},null,null,null,null,null,null,{"$f":"'DNSP Inputs O&M'!$H$304","v":1.05}]
[]
["Overheads",{"$f":"'DNSP Inputs O&M'!$D$18","v":0.25},null,null,null,null,{"$f":"B335*SUM(G322:G333)","v":2.0530736231099271},null,{"$f":"'DNSP Inputs O&M'!$D$18","v":0.25},null,null,null,null,{"$f":"I335*SUM(N322:N333)","v":2.353738346155243},null,{"$f":"'DNSP Inputs O&M'!$D$18","v":0.25},null,null,null,null,{"$f":"P335*SUM(U322:U333)","v":2.6656766622421211},null,null,null,{"$f":"'DNSP Inputs O&M'!$E$18","v":0.25},null,null,null,null,{"$f":"Y335*SUM(AD322:AD333)","v":{"$error":"#REF!"}},null,{"$f":"'DNSP Inputs O&M'!$E$18","v":0.25},null,null,null,null,{"$f":"AF335*SUM(AK322:AK333)","v":{"$error":"#REF!"}},null,{"$f":"'DNSP Inputs O&M'!$E$18","v":0.25},null,null,null,null,{"$f":"AM335*SUM(AR322:AR333)","v":{"$error":"#REF!"}},null,null,null,{"$f":"'DNSP Inputs O&M'!$F$18","v":0.25},null,null,null,null,{"$f":"AV335*SUM(BA322:BA333)","v":{"$error":"#REF!"}},null,{"$f":"'DNSP Inputs O&M'!$F$18","v":0.25},null,null,null,null,{"$f":"BC335*SUM(BH322:BH333)","v":{"$error":"#REF!"}},null,{"$f":"'DNSP Inputs O&M'!$F$18","v":0.25},null,null,null,null,{"$f":"BJ335*SUM(BO322:BO333)","v":{"$error":"#REF!"}},null,null,null,{"$f":"'DNSP Inputs O&M'!$G$18","v":0.25},null,null,null,null,{"$f":"BS335*SUM(BX322:BX333)","v":{"$error":"#REF!"}},null,{"$f":"'DNSP Inputs O&M'!$G$18","v":0.25},null,null,null,null,{"$f":"BZ335*SUM(CE322:CE333)","v":{"$error":"#REF!"}},null,{"$f":"'DNSP Inputs O&M'!$G$18","v":0.25},null,null,null,null,{"$f":"CG335*SUM(CL322:CL333)","v":{"$error":"#REF!"}},null,null,null,{"$f":"'DNSP Inputs O&M'!$H$18","v":0.25},null,null,null,null,{"$f":"CP335*SUM(CU322:CU333)","v":{"$error":"#REF!"}},null,{"$f":"'DNSP Inputs O&M'!$H$18","v":0.25},null,null,null,null,{"$f":"CW335*SUM(DB322:DB333)","v":{"$error":"#REF!"}},null,{"$f":"'DNSP Inputs O&M'!$H$18","v":0.25},null,null,null,null,{"$f":"DD335*SUM(DI322:DI333)","v":{"$error":"#REF!"}}]
[]
[null,null,null,null,null,null,{"$f":"SUM(G322,G324,G328,G331,G333,G335)","v":10.265368115549636},null,null,null,null,null,null,{"$f":"SUM(N322,N324,N328,N331,N333,N335)","v":11.768691730776215},null,null,null,null,null,null,{"$f":"SUM(U322,U324,U328,U331,U333,U335)","v":13.328383311210604},null,null,null,null,null,null,null,null,{"$f":"SUM(AD322,AD324,AD328,AD331,AD333,AD335)","v":{"$error":"#REF!"}},null,null,null,null,null,null,{"$f":"SUM(AK322,AK324,AK328,AK331,AK333,AK335)","v":{"$error":"#REF!"}},null,null,null,null,null,null,{"$f":"SUM(AR322,AR324,AR328,AR331,AR333,AR335)","v":{"$error":"#REF!"}},null,null,null,null,null,null,null,null,{"$f":"SUM(BA322,BA324,BA328,BA331,BA333,BA335)","v":{"$error":"#REF!"}},null,null,null,null,null,null,{"$f":"SUM(BH322,BH324,BH328,BH331,BH333,BH335)","v":{"$error":"#REF!"}},null,null,null,null,null,null,{"$f":"SUM(BO322,BO324,BO328,BO331,BO333,BO335)","v":{"$error":"#REF!"}},null,null,null,null,null,null,null,null,{"$f":"SUM(BX322,BX324,BX328,BX331,BX333,BX335)","v":{"$error":"#REF!"}},null,null,null,null,null,null,{"$f":"SUM(CE322,CE324,CE328,CE331,CE333,CE335)","v":{"$error":"#REF!"}},null,null,null,null,null,null,{"$f":"SUM(CL322,CL324,CL328,CL331,CL333,CL335)","v":{"$error":"#REF!"}},null,null,null,null,null,null,null,null,{"$f":"SUM(CU322,CU324,CU328,CU331,CU333,CU335)","v":{"$error":"#REF!"}},null,null,null,null,null,null,{"$f":"SUM(DB322,DB324,DB328,DB331,DB333,DB335)","v":{"$error":"#REF!"}},null,null,null,null,null,null,{"$f":"SUM(DI322,DI324,DI328,DI331,DI333,DI335)","v":{"$error":"#REF!"}}]
[]
[]
[]
["NEW"]
["Category P LED 14 Watt - Cost build-up"]
[]
["Additional assumptions"]
["Proportion of luminaire that will fail before bulk change",null,null,{"$f":"'DNSP Inputs O&M'!$D$330","v":4.2746393209543501E-2},null,null,null,null,null,null,null,null,null,null,null,null,null,null,null,null,null,null,null,null,null,null,{"$f":"'DNSP Inputs O&M'!$E$330","v":4.2746393209543501E-2},null,null,null,null,null,null,null,null,null,null,null,null,null,null,null,null,null,null,null,null,null,null,{"$f":"'DNSP Inputs O&M'!$F$330","v":4.2746393209543501E-2},null,null,null,null,null,null,null,null,null,null,null,null,null,null,null,null,null,null,null,null,null,null,{"$f":"'DNSP Inputs O&M'!$G$330","v":4.2746393209543501E-2},null,null,null,null,null,null,null,null,null,null,null,null,null,null,null,null,null,null,null,null,null,null,{"$f":"'DNSP Inputs O&M'!$H$330","v":4.2746393209543501E-2}]
["Proportion of lamps that will fail before bulk change (per year)",null,null,{"$f":"D345/'DNSP Inputs O&M'!$D$329","v":5.3432991511929376E-3},null,null,null,null,null,null,null,null,null,null,null,null,null,null,null,null,null,null,null,null,null,null,{"$f":"AA345/'DNSP Inputs O&M'!$E$329","v":5.3432991511929376E-3},null,null,null,null,null,null,null,null,null,null,null,null,null,null,null,null,null,null,null,null,null,null,{"$f":"AX345/'DNSP Inputs O&M'!$F$329","v":5.3432991511929376E-3},null,null,null,null,null,null,null,null,null,null,null,null,null,null,null,null,null,null,null,null,null,null,{"$f":"BU345/'DNSP Inputs O&M'!$G$329","v":5.3432991511929376E-3},null,null,null,null,null,null,null,null,null,null,null,null,null,null,null,null,null,null,null,null,null,null,{"$f":"CR345/'DNSP Inputs O&M'!$H$329","v":5.3432991511929376E-3}]
["Overheads are applied to material and labour components"]
["All costs and charges are exclusive of GST"]
[]
[null,"Urban",null,null,null,null,null,null,"Rural",null,null,null,null,null,null,"Remote",null,null,null,null,null,null,null,null,"Urban",null,null,null,null,null,null,"Rural",null,null,null,null,null,null,"Remote",null,null,null,null,null,null,null,null,"Urban",null,null,null,null,null,null,"Rural",null,null,null,null,null,null,"Remote",null,null,null,null,null,null,null,null,"Urban",null,null,null,null,null,null,"Rural",null,null,null,null,null,null,"Remote",null,null,null,null,null,null,null,null,"Urban",null,null,null,null,null,null,"Rural",null,null,null,null,null,null,"Remote"]
[]
[null,"Unit rate","Number","Hours","Cost","Annualised","Annualised",null,"Unit rate","Number","Hours","Cost","Annualised","Annualised",null,"Unit rate","Number","Hours","Cost","Annualised","Annualised",null,null,null,"Unit rate","Number","Hours","Cost","Annualised","Annualised",null,"Unit rate","Number","Hours","Cost","Annualised","Annualised",null,"Unit rate","Number","Hours","Cost","Annualised","Annualised",null,null,null,"Unit rate","Number","Hours","Cost","Annualised","Annualised",null,"Unit rate","Number","Hours","Cost","Annualised","Annualised",null,"Unit rate","Number","Hours","Cost","Annualised","Annualised",null,null,null,"Unit rate","Number","Hours","Cost","Annualised","Annualised",null,"Unit rate","Number","Hours","Cost","Annualised","Annualised",null,"Unit rate","Number","Hours","Cost","Annualised","Annualised",null,null,null,"Unit rate","Number","Hours","Cost","Annualised","Annualised",null,"Unit rate","Number","Hours","Cost","Annualised","Annualised",null,"Unit rate","Number","Hours","Cost","Annualised","Annualised"]
[null,null,null,null,null," cost","unit cost",null,null,null,null,null," cost","unit cost",null,null,null,null,null," cost","unit cost",null,null,null,null,null,null,null," cost","unit cost",null,null,null,null,null," cost","unit cost",null,null,null,null,null," cost","unit cost",null,null,null,null,null,null,null," cost","unit cost",null,null,null,null,null," cost","unit cost",null,null,null,null,null," cost","unit cost",null,null,null,null,null,null,null," cost","unit cost",null,null,null,null,null," cost","unit cost",null,null,null,null,null," cost","unit cost",null,null,null,null,null,null,null," cost","unit cost",null,null,null,null,null," cost","unit cost",null,null,null,null,null," cost","unit cost"]
["LED 14W"]
["Bulk change & repairs"]
["Materials - bulk PE cell change"]
["PE cell",{"$f":"'DNSP Inputs O&M'!$D$331","v":15.120000000000001},{"$f":"'DNSP Inputs O&M'!$D$335","v":73.92},null,{"$f":"B357*C357","v":1117.6704000000002},{"$f":"E357/'DNSP Inputs O&M'!$D$329","v":139.70880000000002},{"$f":"IFERROR(F357/C357,0)","v":1.8900000000000003},null,{"$f":"'DNSP Inputs O&M'!$D$331*(1+'DNSP Inputs O&M'!$D$11)","v":15.876000000000001},{"$f":"'DNSP Inputs O&M'!$D$336","v":61.44},null,{"$f":"I357*J357","v":975.42144000000008},{"$f":"L357/'DNSP Inputs O&M'!$D$329","v":121.92768000000001},{"$f":"IFERROR(M357/J357,0)","v":1.9845000000000002},null,{"$f":"'DNSP Inputs O&M'!$D$331*(1+'DNSP Inputs O&M'!$D$11)","v":15.876000000000001},{"$f":"'DNSP Inputs O&M'!$D$337","v":48.96},null,{"$f":"P357*Q357","v":777.28896000000009},{"$f":"S357/'DNSP Inputs O&M'!$D$329","v":97.161120000000011},{"$f":"IFERROR(T357/Q357,0)","v":1.9845000000000002},null,null,null,{"$f":"'DNSP Inputs O&M'!$E$331","v":15.120000000000001},{"$f":"'DNSP Inputs O&M'!$E$335","v":73.92},null,{"$f":"Y357*Z357","v":1117.6704000000002},{"$f":"AB357/'DNSP Inputs O&M'!$E$329","v":139.70880000000002},{"$f":"IFERROR(AC357/Z357,0)","v":1.8900000000000003},null,{"$f":"'DNSP Inputs O&M'!$E$331*(1+'DNSP Inputs O&M'!$E$11)","v":15.876000000000001},{"$f":"'DNSP Inputs O&M'!$E$336","v":61.44},null,{"$f":"AF357*AG357","v":975.42144000000008},{"$f":"AI357/'DNSP Inputs O&M'!$E$329","v":121.92768000000001},{"$f":"IFERROR(AJ357/AG357,0)","v":1.9845000000000002},null,{"$f":"'DNSP Inputs O&M'!$E$331*(1+'DNSP Inputs O&M'!$E$11)","v":15.876000000000001},{"$f":"'DNSP Inputs O&M'!$E$337","v":48.96},null,{"$f":"AM357*AN357","v":777.28896000000009},{"$f":"AP357/'DNSP Inputs O&M'!$E$329","v":97.161120000000011},{"$f":"IFERROR(AQ357/AN357,0)","v":1.9845000000000002},null,null,null,{"$f":"'DNSP Inputs O&M'!$F$331","v":15.120000000000001},{"$f":"'DNSP Inputs O&M'!$F$335","v":73.92},null,{"$f":"AV357*AW357","v":1117.6704000000002},{"$f":"AY357/'DNSP Inputs O&M'!$F$329","v":139.70880000000002},{"$f":"IFERROR(AZ357/AW357,0)","v":1.8900000000000003},null,{"$f":"'DNSP Inputs O&M'!$F$331*(1+'DNSP Inputs O&M'!$F$11)","v":15.876000000000001},{"$f":"'DNSP Inputs O&M'!$F$336","v":61.44},null,{"$f":"BC357*BD357","v":975.42144000000008},{"$f":"BF357/'DNSP Inputs O&M'!$F$329","v":121.92768000000001},{"$f":"IFERROR(BG357/BD357,0)","v":1.9845000000000002},null,{"$f":"'DNSP Inputs O&M'!$F$331*(1+'DNSP Inputs O&M'!$F$11)","v":15.876000000000001},{"$f":"'DNSP Inputs O&M'!$F$337","v":48.96},null,{"$f":"BJ357*BK357","v":777.28896000000009},{"$f":"BM357/'DNSP Inputs O&M'!$F$329","v":97.161120000000011},{"$f":"IFERROR(BN357/BK357,0)","v":1.9845000000000002},null,null,null,{"$f":"'DNSP Inputs O&M'!$G$331","v":15.120000000000001},{"$f":"'DNSP Inputs O&M'!$G$335","v":73.92},null,{"$f":"BS357*BT357","v":1117.6704000000002},{"$f":"BV357/'DNSP Inputs O&M'!$G$329","v":139.70880000000002},{"$f":"IFERROR(BW357/BT357,0)","v":1.8900000000000003},null,{"$f":"'DNSP Inputs O&M'!$G$331*(1+'DNSP Inputs O&M'!$G$11)","v":15.876000000000001},{"$f":"'DNSP Inputs O&M'!$G$336","v":61.44},null,{"$f":"BZ357*CA357","v":975.42144000000008},{"$f":"CC357/'DNSP Inputs O&M'!$G$329","v":121.92768000000001},{"$f":"IFERROR(CD357/CA357,0)","v":1.9845000000000002},null,{"$f":"'DNSP Inputs O&M'!$G$331*(1+'DNSP Inputs O&M'!$G$11)","v":15.876000000000001},{"$f":"'DNSP Inputs O&M'!$G$337","v":48.96},null,{"$f":"CG357*CH357","v":777.28896000000009},{"$f":"CJ357/'DNSP Inputs O&M'!$G$329","v":97.161120000000011},{"$f":"IFERROR(CK357/CH357,0)","v":1.9845000000000002},null,null,null,{"$f":"'DNSP Inputs O&M'!$H$331","v":15.120000000000001},{"$f":"'DNSP Inputs O&M'!$H$335","v":73.92},null,{"$f":"CP357*CQ357","v":1117.6704000000002},{"$f":"CS357/'DNSP Inputs O&M'!$H$329","v":139.70880000000002},{"$f":"IFERROR(CT357/CQ357,0)","v":1.8900000000000003},null,{"$f":"'DNSP Inputs O&M'!$H$331*(1+'DNSP Inputs O&M'!$H$11)","v":15.876000000000001},{"$f":"'DNSP Inputs O&M'!$H$336","v":61.44},null,{"$f":"CW357*CX357","v":975.42144000000008},{"$f":"CZ357/'DNSP Inputs O&M'!$H$329","v":121.92768000000001},{"$f":"IFERROR(DA357/CX357,0)","v":1.9845000000000002},null,{"$f":"'DNSP Inputs O&M'!$H$331*(1+'DNSP Inputs O&M'!$H$11)","v":15.876000000000001},{"$f":"'DNSP Inputs O&M'!$H$337","v":48.96},null,{"$f":"DD357*DE357","v":777.28896000000009},{"$f":"DG357/'DNSP Inputs O&M'!$H$329","v":97.161120000000011},{"$f":"IFERROR(DH357/DE357,0)","v":1.9845000000000002}]
["Materials - repair of faults"]
["PE cell",{"$f":"'DNSP Inputs O&M'!$D$331","v":15.120000000000001},{"$f":"'DNSP Inputs O&M'!$D$338*'DNSP Inputs O&M'!$D$341","v":22.464000000000002},null,{"$f":"B359*C359","v":339.65568000000007},{"$f":"(E359+E360+E361)/'DNSP Inputs O&M'!$D$338","v":15.926843842435392},{"$f":"F359*D346","v":8.5101891184467496E-2},null,{"$f":"'DNSP Inputs O&M'!$D$331*(1+'DNSP Inputs O&M'!$D$11)","v":15.876000000000001},{"$f":"'DNSP Inputs O&M'!$D$339*'DNSP Inputs O&M'!$D$341","v":18.144000000000002},null,{"$f":"I359*J359","v":288.05414400000006},{"$f":"(L359+L360+L361)/'DNSP Inputs O&M'!$D$339","v":16.723186034557159},{"$f":"M359*D346","v":8.9356985743690859E-2},null,{"$f":"'DNSP Inputs O&M'!$D$331*(1+'DNSP Inputs O&M'!$D$11)","v":15.876000000000001},{"$f":"'DNSP Inputs O&M'!$D$340*'DNSP Inputs O&M'!$D$341","v":14.688000000000001},null,{"$f":"P359*Q359","v":233.18668800000003},{"$f":"(S359+S360+S361)/'DNSP Inputs O&M'!$D$340","v":16.723186034557159},{"$f":"T359*D346","v":8.9356985743690859E-2},null,null,null,{"$f":"'DNSP Inputs O&M'!$E$331","v":15.120000000000001},{"$f":"'DNSP Inputs O&M'!$E$338*'DNSP Inputs O&M'!$E$341","v":22.464000000000002},null,{"$f":"Y359*Z359","v":339.65568000000007},{"$f":"(AB359+AB360+AB361)/'DNSP Inputs O&M'!$E$338","v":15.926843842435392},{"$f":"AC359*AA346","v":8.5101891184467496E-2},null,{"$f":"'DNSP Inputs O&M'!$E$331*(1+'DNSP Inputs O&M'!$E$11)","v":15.876000000000001},{"$f":"'DNSP Inputs O&M'!$E$339*'DNSP Inputs O&M'!$E$341","v":18.144000000000002},null,{"$f":"AF359*AG359","v":288.05414400000006},{"$f":"(AI359+AI360+AI361)/'DNSP Inputs O&M'!$E$339","v":16.723186034557159},{"$f":"AJ359*AA346","v":8.9356985743690859E-2},null,{"$f":"'DNSP Inputs O&M'!$E$331*(1+'DNSP Inputs O&M'!$E$11)","v":15.876000000000001},{"$f":"'DNSP Inputs O&M'!$E$340*'DNSP Inputs O&M'!$E$341","v":14.688000000000001},null,{"$f":"AM359*AN359","v":233.18668800000003},{"$f":"(AP359+AP360+AP361)/'DNSP Inputs O&M'!$E$340","v":16.723186034557159},{"$f":"AQ359*AA346","v":8.9356985743690859E-2},null,null,null,{"$f":"'DNSP Inputs O&M'!$F$331","v":15.120000000000001},{"$f":"'DNSP Inputs O&M'!$F$338*'DNSP Inputs O&M'!$F$341","v":22.464000000000002},null,{"$f":"AV359*AW359","v":339.65568000000007},{"$f":"(AY359+AY360+AY361)/'DNSP Inputs O&M'!$F$338","v":15.926843842435392},{"$f":"AZ359*AX346","v":8.5101891184467496E-2},null,{"$f":"'DNSP Inputs O&M'!$F$331*(1+'DNSP Inputs O&M'!$F$11)","v":15.876000000000001},{"$f":"'DNSP Inputs O&M'!$F$339*'DNSP Inputs O&M'!$F$341","v":18.144000000000002},null,{"$f":"BC359*BD359","v":288.05414400000006},{"$f":"(BF359+BF360+BF361)/'DNSP Inputs O&M'!$F$339","v":16.723186034557159},{"$f":"BG359*AX346","v":8.9356985743690859E-2},null,{"$f":"'DNSP Inputs O&M'!$F$331*(1+'DNSP Inputs O&M'!$F$11)","v":15.876000000000001},{"$f":"'DNSP Inputs O&M'!$F$340*'DNSP Inputs O&M'!$F$341","v":14.688000000000001},null,{"$f":"BJ359*BK359","v":233.18668800000003},{"$f":"(BM359+BM360+BM361)/'DNSP Inputs O&M'!$F$340","v":16.723186034557159},{"$f":"BN359*AX346","v":8.9356985743690859E-2},null,null,null,{"$f":"'DNSP Inputs O&M'!$G$331","v":15.120000000000001},{"$f":"'DNSP Inputs O&M'!$G$338*'DNSP Inputs O&M'!$G$341","v":22.464000000000002},null,{"$f":"BS359*BT359","v":339.65568000000007},{"$f":"(BV359+BV360+BV361)/'DNSP Inputs O&M'!$G$338","v":15.926843842435392},{"$f":"BW359*BU346","v":8.5101891184467496E-2},null,{"$f":"'DNSP Inputs O&M'!$G$331*(1+'DNSP Inputs O&M'!$G$11)","v":15.876000000000001},{"$f":"'DNSP Inputs O&M'!$G$339*'DNSP Inputs O&M'!$G$341","v":18.144000000000002},null,{"$f":"BZ359*CA359","v":288.05414400000006},{"$f":"(CC359+CC360+CC361)/'DNSP Inputs O&M'!$G$339","v":16.723186034557159},{"$f":"CD359*BU346","v":8.9356985743690859E-2},null,{"$f":"'DNSP Inputs O&M'!$G$331*(1+'DNSP Inputs O&M'!$G$11)","v":15.876000000000001},{"$f":"'DNSP Inputs O&M'!$G$340*'DNSP Inputs O&M'!$G$341","v":14.688000000000001},null,{"$f":"CG359*CH359","v":233.18668800000003},{"$f":"(CJ359+CJ360+CJ361)/'DNSP Inputs O&M'!$G$340","v":16.723186034557159},{"$f":"CK359*BU346","v":8.9356985743690859E-2},null,null,null,{"$f":"'DNSP Inputs O&M'!$H$331","v":15.120000000000001},{"$f":"'DNSP Inputs O&M'!$H$338*'DNSP Inputs O&M'!$H$341","v":22.464000000000002},null,{"$f":"CP359*CQ359","v":339.65568000000007},{"$f":"(CS359+CS360+CS361)/'DNSP Inputs O&M'!$H$338","v":15.926843842435392},{"$f":"CT359*CR346","v":8.5101891184467496E-2},null,{"$f":"'DNSP Inputs O&M'!$H$331*(1+'DNSP Inputs O&M'!$H$11)","v":15.876000000000001},{"$f":"'DNSP Inputs O&M'!$H$339*'DNSP Inputs O&M'!$H$341","v":18.144000000000002},null,{"$f":"CW359*CX359","v":288.05414400000006},{"$f":"(CZ359+CZ360+CZ361)/'DNSP Inputs O&M'!$H$339","v":16.723186034557159},{"$f":"DA359*CR346","v":8.9356985743690859E-2},null,{"$f":"'DNSP Inputs O&M'!$H$331*(1+'DNSP Inputs O&M'!$H$11)","v":15.876000000000001},{"$f":"'DNSP Inputs O&M'!$H$340*'DNSP Inputs O&M'!$H$341","v":14.688000000000001},null,{"$f":"DD359*DE359","v":233.18668800000003},{"$f":"(DG359+DG360+DG361)/'DNSP Inputs O&M'!$H$340","v":16.723186034557159},{"$f":"DH359*CR346","v":8.9356985743690859E-2}]
["Luminaire",{"$f":"'DNSP Inputs O&M'!$D$332","v":205},{"$f":"'DNSP Inputs O&M'!$D$338*'DNSP Inputs O&M'!$D$342","v":0},null,{"$f":"B360*C360","v":0},null,null,null,{"$f":"'DNSP Inputs O&M'!$D$332*(1+'DNSP Inputs O&M'!$D$11)","v":215.25},{"$f":"'DNSP Inputs O&M'!$D$339*'DNSP Inputs O&M'!$D$342","v":0},null,{"$f":"I360*J360","v":0},null,null,null,{"$f":"'DNSP Inputs O&M'!$D$332*(1+'DNSP Inputs O&M'!$D$11)","v":215.25},{"$f":"'DNSP Inputs O&M'!$D$340*'DNSP Inputs O&M'!$D$342","v":0},null,{"$f":"P360*Q360","v":0},null,null,null,null,null,{"$f":"'DNSP Inputs O&M'!$E$332","v":205},{"$f":"'DNSP Inputs O&M'!$E$338*'DNSP Inputs O&M'!$E$342","v":0},null,{"$f":"Y360*Z360","v":0},null,null,null,{"$f":"'DNSP Inputs O&M'!$E$332*(1+'DNSP Inputs O&M'!$E$11)","v":215.25},{"$f":"'DNSP Inputs O&M'!$E$339*'DNSP Inputs O&M'!$E$342","v":0},null,{"$f":"AF360*AG360","v":0},null,null,null,{"$f":"'DNSP Inputs O&M'!$E$332*(1+'DNSP Inputs O&M'!$E$11)","v":215.25},{"$f":"'DNSP Inputs O&M'!$E$340*'DNSP Inputs O&M'!$E$342","v":0},null,{"$f":"AM360*AN360","v":0},null,null,null,null,null,{"$f":"'DNSP Inputs O&M'!$F$332","v":205},{"$f":"'DNSP Inputs O&M'!$F$338*'DNSP Inputs O&M'!$F$342","v":0},null,{"$f":"AV360*AW360","v":0},null,null,null,{"$f":"'DNSP Inputs O&M'!$F$332*(1+'DNSP Inputs O&M'!$F$11)","v":215.25},{"$f":"'DNSP Inputs O&M'!$F$339*'DNSP Inputs O&M'!$F$342","v":0},null,{"$f":"BC360*BD360","v":0},null,null,null,{"$f":"'DNSP Inputs O&M'!$F$332*(1+'DNSP Inputs O&M'!$F$11)","v":215.25},{"$f":"'DNSP Inputs O&M'!$F$340*'DNSP Inputs O&M'!$F$342","v":0},null,{"$f":"BJ360*BK360","v":0},null,null,null,null,null,{"$f":"'DNSP Inputs O&M'!$G$332","v":205},{"$f":"'DNSP Inputs O&M'!$G$338*'DNSP Inputs O&M'!$G$342","v":0},null,{"$f":"BS360*BT360","v":0},null,null,null,{"$f":"'DNSP Inputs O&M'!$G$332*(1+'DNSP Inputs O&M'!$G$11)","v":215.25},{"$f":"'DNSP Inputs O&M'!$G$339*'DNSP Inputs O&M'!$G$342","v":0},null,{"$f":"BZ360*CA360","v":0},null,null,null,{"$f":"'DNSP Inputs O&M'!$G$332*(1+'DNSP Inputs O&M'!$G$11)","v":215.25},{"$f":"'DNSP Inputs O&M'!$G$340*'DNSP Inputs O&M'!$G$342","v":0},null,{"$f":"CG360*CH360","v":0},null,null,null,null,null,{"$f":"'DNSP Inputs O&M'!$H$332","v":205},{"$f":"'DNSP Inputs O&M'!$H$338*'DNSP Inputs O&M'!$H$342","v":0},null,{"$f":"CP360*CQ360","v":0},null,null,null,{"$f":"'DNSP Inputs O&M'!$H$332*(1+'DNSP Inputs O&M'!$H$11)","v":215.25},{"$f":"'DNSP Inputs O&M'!$H$339*'DNSP Inputs O&M'!$H$342","v":0},null,{"$f":"CW360*CX360","v":0},null,null,null,{"$f":"'DNSP Inputs O&M'!$H$332*(1+'DNSP Inputs O&M'!$H$11)","v":215.25},{"$f":"'DNSP Inputs O&M'!$H$340*'DNSP Inputs O&M'!$H$342","v":0},null,{"$f":"DD360*DE360","v":0}]
["Miscellaneous",{"$f":"'DNSP Inputs O&M'!$D$333","v":23.188438424353883},{"$f":"'DNSP Inputs O&M'!$D$338*'DNSP Inputs O&M'!$D$343","v":2.4960000000000004},null,{"$f":"B361*C361","v":57.878342307187303},null,null,null,{"$f":"'DNSP Inputs O&M'!$D$333*(1+'DNSP Inputs O&M'!$D$11)","v":24.347860345571579},{"$f":"'DNSP Inputs O&M'!$D$339*'DNSP Inputs O&M'!$D$343","v":2.016},null,{"$f":"I361*J361","v":49.085286456672307},null,null,null,{"$f":"'DNSP Inputs O&M'!$D$333*(1+'DNSP Inputs O&M'!$D$11)","v":24.347860345571579},{"$f":"'DNSP Inputs O&M'!$D$340*'DNSP Inputs O&M'!$D$343","v":1.6320000000000001},null,{"$f":"P361*Q361","v":39.735708083972817},null,null,null,null,null,{"$f":"'DNSP Inputs O&M'!$E$333","v":23.188438424353883},{"$f":"'DNSP Inputs O&M'!$E$338*'DNSP Inputs O&M'!$E$343","v":2.4960000000000004},null,{"$f":"Y361*Z361","v":57.878342307187303},null,null,null,{"$f":"'DNSP Inputs O&M'!$E$333*(1+'DNSP Inputs O&M'!$E$11)","v":24.347860345571579},{"$f":"'DNSP Inputs O&M'!$E$339*'DNSP Inputs O&M'!$E$343","v":2.016},null,{"$f":"AF361*AG361","v":49.085286456672307},null,null,null,{"$f":"'DNSP Inputs O&M'!$E$333*(1+'DNSP Inputs O&M'!$E$11)","v":24.347860345571579},{"$f":"'DNSP Inputs O&M'!$E$340*'DNSP Inputs O&M'!$E$343","v":1.6320000000000001},null,{"$f":"AM361*AN361","v":39.735708083972817},null,null,null,null,null,{"$f":"'DNSP Inputs O&M'!$F$333","v":23.188438424353883},{"$f":"'DNSP Inputs O&M'!$F$338*'DNSP Inputs O&M'!$F$343","v":2.4960000000000004},null,{"$f":"AV361*AW361","v":57.878342307187303},null,null,null,{"$f":"'DNSP Inputs O&M'!$F$333*(1+'DNSP Inputs O&M'!$F$11)","v":24.347860345571579},{"$f":"'DNSP Inputs O&M'!$F$339*'DNSP Inputs O&M'!$F$343","v":2.016},null,{"$f":"BC361*BD361","v":49.085286456672307},null,null,null,{"$f":"'DNSP Inputs O&M'!$F$333*(1+'DNSP Inputs O&M'!$F$11)","v":24.347860345571579},{"$f":"'DNSP Inputs O&M'!$F$340*'DNSP Inputs O&M'!$F$343","v":1.6320000000000001},null,{"$f":"BJ361*BK361","v":39.735708083972817},null,null,null,null,null,{"$f":"'DNSP Inputs O&M'!$G$333","v":23.188438424353883},{"$f":"'DNSP Inputs O&M'!$G$338*'DNSP Inputs O&M'!$G$343","v":2.4960000000000004},null,{"$f":"BS361*BT361","v":57.878342307187303},null,null,null,{"$f":"'DNSP Inputs O&M'!$G$333*(1+'DNSP Inputs O&M'!$G$11)","v":24.347860345571579},{"$f":"'DNSP Inputs O&M'!$G$339*'DNSP Inputs O&M'!$G$343","v":2.016},null,{"$f":"BZ361*CA361","v":49.085286456672307},null,null,null,{"$f":"'DNSP Inputs O&M'!$G$333*(1+'DNSP Inputs O&M'!$G$11)","v":24.347860345571579},{"$f":"'DNSP Inputs O&M'!$G$340*'DNSP Inputs O&M'!$G$343","v":1.6320000000000001},null,{"$f":"CG361*CH361","v":39.735708083972817},null,null,null,null,null,{"$f":"'DNSP Inputs O&M'!$H$333","v":23.188438424353883},{"$f":"'DNSP Inputs O&M'!$H$338*'DNSP Inputs O&M'!$H$343","v":2.4960000000000004},null,{"$f":"CP361*CQ361","v":57.878342307187303},null,null,null,{"$f":"'DNSP Inputs O&M'!$H$333*(1+'DNSP Inputs O&M'!$H$11)","v":24.347860345571579},{"$f":"'DNSP Inputs O&M'!$H$339*'DNSP Inputs O&M'!$H$343","v":2.016},null,{"$f":"CW361*CX361","v":49.085286456672307},null,null,null,{"$f":"'DNSP Inputs O&M'!$H$333*(1+'DNSP Inputs O&M'!$H$11)","v":24.347860345571579},{"$f":"'DNSP Inputs O&M'!$H$340*'DNSP Inputs O&M'!$H$343","v":1.6320000000000001},null,{"$f":"DD361*DE361","v":39.735708083972817}]
["Labour - bulk PE cell change"]
["Crew costs",{"$f":"'DNSP Inputs O&M'!$D$12","v":111.36223236834823},{"$f":"'DNSP Inputs O&M'!$D$334","v":2},{"$f":"'DNSP Inputs O&M'!$D$17","v":7.5},{"$f":"B363*C363*D363","v":1670.4334855252234},{"$f":"E363/'DNSP Inputs O&M'!$D$329","v":208.80418569065293},{"$f":"IFERROR((F363+F364)/C357,0)","v":3.4611463161614306},null,{"$f":"'DNSP Inputs O&M'!$D$12","v":111.36223236834823},{"$f":"'DNSP Inputs O&M'!$D$334","v":2},{"$f":"'DNSP Inputs O&M'!$D$17","v":7.5},{"$f":"I363*J363*K363","v":1670.4334855252234},{"$f":"L363/'DNSP Inputs O&M'!$D$329","v":208.80418569065293},{"$f":"IFERROR((M363+M364)/J357,0)","v":4.3695749624129707},null,{"$f":"'DNSP Inputs O&M'!$D$12","v":111.36223236834823},{"$f":"'DNSP Inputs O&M'!$D$334","v":2},{"$f":"'DNSP Inputs O&M'!$D$17","v":7.5},{"$f":"P363*Q363*R363","v":1670.4334855252234},{"$f":"S363/'DNSP Inputs O&M'!$D$329","v":208.80418569065293},{"$f":"IFERROR((T363+T364)/Q357,0)","v":5.4833881881260806},null,null,null,{"$f":"'DNSP Inputs O&M'!$E$12","v":{"$error":"#REF!"}},{"$f":"'DNSP Inputs O&M'!$E$334","v":2},{"$f":"'DNSP Inputs O&M'!$E$17","v":7.5},{"$f":"Y363*Z363*AA363","v":{"$error":"#REF!"}},{"$f":"AB363/'DNSP Inputs O&M'!$E$329","v":{"$error":"#REF!"}},{"$f":"IFERROR((AC363+AC364)/Z357,0)","v":0},null,{"$f":"'DNSP Inputs O&M'!$E$12","v":{"$error":"#REF!"}},{"$f":"'DNSP Inputs O&M'!$E$334","v":2},{"$f":"'DNSP Inputs O&M'!$E$17","v":7.5},{"$f":"AF363*AG363*AH363","v":{"$error":"#REF!"}},{"$f":"AI363/'DNSP Inputs O&M'!$E$329","v":{"$error":"#REF!"}},{"$f":"IFERROR((AJ363+AJ364)/AG357,0)","v":0},null,{"$f":"'DNSP Inputs O&M'!$E$12","v":{"$error":"#REF!"}},{"$f":"'DNSP Inputs O&M'!$E$334","v":2},{"$f":"'DNSP Inputs O&M'!$E$17","v":7.5},{"$f":"AM363*AN363*AO363","v":{"$error":"#REF!"}},{"$f":"AP363/'DNSP Inputs O&M'!$E$329","v":{"$error":"#REF!"}},{"$f":"IFERROR((AQ363+AQ364)/AN357,0)","v":0},null,null,null,{"$f":"'DNSP Inputs O&M'!$F$12","v":{"$error":"#REF!"}},{"$f":"'DNSP Inputs O&M'!$F$334","v":2},{"$f":"'DNSP Inputs O&M'!$F$17","v":7.5},{"$f":"AV363*AW363*AX363","v":{"$error":"#REF!"}},{"$f":"AY363/'DNSP Inputs O&M'!$F$329","v":{"$error":"#REF!"}},{"$f":"IFERROR((AZ363+AZ364)/AW357,0)","v":0},null,{"$f":"'DNSP Inputs O&M'!$F$12","v":{"$error":"#REF!"}},{"$f":"'DNSP Inputs O&M'!$F$334","v":2},{"$f":"'DNSP Inputs O&M'!$F$17","v":7.5},{"$f":"BC363*BD363*BE363","v":{"$error":"#REF!"}},{"$f":"BF363/'DNSP Inputs O&M'!$F$329","v":{"$error":"#REF!"}},{"$f":"IFERROR((BG363+BG364)/BD357,0)","v":0},null,{"$f":"'DNSP Inputs O&M'!$F$12","v":{"$error":"#REF!"}},{"$f":"'DNSP Inputs O&M'!$F$334","v":2},{"$f":"'DNSP Inputs O&M'!$F$17","v":7.5},{"$f":"BJ363*BK363*BL363","v":{"$error":"#REF!"}},{"$f":"BM363/'DNSP Inputs O&M'!$F$329","v":{"$error":"#REF!"}},{"$f":"IFERROR((BN363+BN364)/BK357,0)","v":0},null,null,null,{"$f":"'DNSP Inputs O&M'!$G$12","v":{"$error":"#REF!"}},{"$f":"'DNSP Inputs O&M'!$G$334","v":2},{"$f":"'DNSP Inputs O&M'!$G$17","v":7.5},{"$f":"BS363*BT363*BU363","v":{"$error":"#REF!"}},{"$f":"BV363/'DNSP Inputs O&M'!$G$329","v":{"$error":"#REF!"}},{"$f":"IFERROR((BW363+BW364)/BT357,0)","v":0},null,{"$f":"'DNSP Inputs O&M'!$G$12","v":{"$error":"#REF!"}},{"$f":"'DNSP Inputs O&M'!$G$334","v":2},{"$f":"'DNSP Inputs O&M'!$G$17","v":7.5},{"$f":"BZ363*CA363*CB363","v":{"$error":"#REF!"}},{"$f":"CC363/'DNSP Inputs O&M'!$G$329","v":{"$error":"#REF!"}},{"$f":"IFERROR((CD363+CD364)/CA357,0)","v":0},null,{"$f":"'DNSP Inputs O&M'!$G$12","v":{"$error":"#REF!"}},{"$f":"'DNSP Inputs O&M'!$G$334","v":2},{"$f":"'DNSP Inputs O&M'!$G$17","v":7.5},{"$f":"CG363*CH363*CI363","v":{"$error":"#REF!"}},{"$f":"CJ363/'DNSP Inputs O&M'!$G$329","v":{"$error":"#REF!"}},{"$f":"IFERROR((CK363+CK364)/CH357,0)","v":0},null,null,null,{"$f":"'DNSP Inputs O&M'!$H$12","v":{"$error":"#REF!"}},{"$f":"'DNSP Inputs O&M'!$H$334","v":2},{"$f":"'DNSP Inputs O&M'!$H$17","v":7.5},{"$f":"CP363*CQ363*CR363","v":{"$error":"#REF!"}},{"$f":"CS363/'DNSP Inputs O&M'!$H$329","v":{"$error":"#REF!"}},{"$f":"IFERROR((CT363+CT364)/CQ357,0)","v":0},null,{"$f":"'DNSP Inputs O&M'!$H$12","v":{"$error":"#REF!"}},{"$f":"'DNSP Inputs O&M'!$H$334","v":2},{"$f":"'DNSP Inputs O&M'!$H$17","v":7.5},{"$f":"CW363*CX363*CY363","v":{"$error":"#REF!"}},{"$f":"CZ363/'DNSP Inputs O&M'!$H$329","v":{"$error":"#REF!"}},{"$f":"IFERROR((DA363+DA364)/CX357,0)","v":0},null,{"$f":"'DNSP Inputs O&M'!$H$12","v":{"$error":"#REF!"}},{"$f":"'DNSP Inputs O&M'!$H$334","v":2},{"$f":"'DNSP Inputs O&M'!$H$17","v":7.5},{"$f":"DD363*DE363*DF363","v":{"$error":"#REF!"}},{"$f":"DG363/'DNSP Inputs O&M'!$H$329","v":{"$error":"#REF!"}},{"$f":"IFERROR((DH363+DH364)/DE357,0)","v":0}]
["Elevated platform vehicle costs",{"$f":"'DNSP Inputs O&M'!$D$14","v":50.18},1,{"$f":"'DNSP Inputs O&M'!$D$17","v":7.5},{"$f":"B364*C364*D364","v":376.35},{"$f":"E364/'DNSP Inputs O&M'!$D$329","v":47.043750000000003},null,null,{"$f":"'DNSP Inputs O&M'!$D$15","v":63.64},1,{"$f":"'DNSP Inputs O&M'!$D$17","v":7.5},{"$f":"I364*J364*K364","v":477.3},{"$f":"L364/'DNSP Inputs O&M'!$D$329","v":59.662500000000001},null,null,{"$f":"'DNSP Inputs O&M'!$D$15","v":63.64},1,{"$f":"'DNSP Inputs O&M'!$D$17","v":7.5},{"$f":"P364*Q364*R364","v":477.3},{"$f":"S364/'DNSP Inputs O&M'!$D$329","v":59.662500000000001},null,null,null,null,{"$f":"'DNSP Inputs O&M'!$E$14","v":50.18},1,{"$f":"'DNSP Inputs O&M'!$E$17","v":7.5},{"$f":"Y364*Z364*AA364","v":376.35},{"$f":"AB364/'DNSP Inputs O&M'!$E$329","v":47.043750000000003},null,null,{"$f":"'DNSP Inputs O&M'!$E$15","v":63.64},1,{"$f":"'DNSP Inputs O&M'!$E$17","v":7.5},{"$f":"AF364*AG364*AH364","v":477.3},{"$f":"AI364/'DNSP Inputs O&M'!$E$329","v":59.662500000000001},null,null,{"$f":"'DNSP Inputs O&M'!$E$15","v":63.64},1,{"$f":"'DNSP Inputs O&M'!$E$17","v":7.5},{"$f":"AM364*AN364*AO364","v":477.3},{"$f":"AP364/'DNSP Inputs O&M'!$E$329","v":59.662500000000001},null,null,null,null,{"$f":"'DNSP Inputs O&M'!$F$14","v":50.18},1,{"$f":"'DNSP Inputs O&M'!$F$17","v":7.5},{"$f":"AV364*AW364*AX364","v":376.35},{"$f":"AY364/'DNSP Inputs O&M'!$F$329","v":47.043750000000003},null,null,{"$f":"'DNSP Inputs O&M'!$F$15","v":63.64},1,{"$f":"'DNSP Inputs O&M'!$F$17","v":7.5},{"$f":"BC364*BD364*BE364","v":477.3},{"$f":"BF364/'DNSP Inputs O&M'!$F$329","v":59.662500000000001},null,null,{"$f":"'DNSP Inputs O&M'!$F$15","v":63.64},1,{"$f":"'DNSP Inputs O&M'!$F$17","v":7.5},{"$f":"BJ364*BK364*BL364","v":477.3},{"$f":"BM364/'DNSP Inputs O&M'!$F$329","v":59.662500000000001},null,null,null,null,{"$f":"'DNSP Inputs O&M'!$G$14","v":50.18},1,{"$f":"'DNSP Inputs O&M'!$G$17","v":7.5},{"$f":"BS364*BT364*BU364","v":376.35},{"$f":"BV364/'DNSP Inputs O&M'!$G$329","v":47.043750000000003},null,null,{"$f":"'DNSP Inputs O&M'!$G$15","v":63.64},1,{"$f":"'DNSP Inputs O&M'!$G$17","v":7.5},{"$f":"BZ364*CA364*CB364","v":477.3},{"$f":"CC364/'DNSP Inputs O&M'!$G$329","v":59.662500000000001},null,null,{"$f":"'DNSP Inputs O&M'!$G$15","v":63.64},1,{"$f":"'DNSP Inputs O&M'!$G$17","v":7.5},{"$f":"CG364*CH364*CI364","v":477.3},{"$f":"CJ364/'DNSP Inputs O&M'!$G$329","v":59.662500000000001},null,null,null,null,{"$f":"'DNSP Inputs O&M'!$H$14","v":50.18},1,{"$f":"'DNSP Inputs O&M'!$H$17","v":7.5},{"$f":"CP364*CQ364*CR364","v":376.35},{"$f":"CS364/'DNSP Inputs O&M'!$H$329","v":47.043750000000003},null,null,{"$f":"'DNSP Inputs O&M'!$H$15","v":63.64},1,{"$f":"'DNSP Inputs O&M'!$H$17","v":7.5},{"$f":"CW364*CX364*CY364","v":477.3},{"$f":"CZ364/'DNSP Inputs O&M'!$H$329","v":59.662500000000001},null,null,{"$f":"'DNSP Inputs O&M'!$H$15","v":63.64},1,{"$f":"'DNSP Inputs O&M'!$H$17","v":7.5},{"$f":"DD364*DE364*DF364","v":477.3},{"$f":"DG364/'DNSP Inputs O&M'!$H$329","v":59.662500000000001}]
["Labour - repair of faults"]
["Crew costs",{"$f":"'DNSP Inputs O&M'!$D$12","v":111.36223236834823},{"$f":"'DNSP Inputs O&M'!$D$334","v":2},{"$f":"'DNSP Inputs O&M'!$D$17","v":7.5},{"$f":"B366*C366*D366","v":1670.4334855252234},{"$f":"(E366+E367)/'DNSP Inputs O&M'!$D$329","v":255.84793569065295},{"$f":"F366*D346","v":1.3670720576103312},null,{"$f":"'DNSP Inputs O&M'!$D$12","v":111.36223236834823},{"$f":"'DNSP Inputs O&M'!$D$334","v":2},{"$f":"'DNSP Inputs O&M'!$D$17","v":7.5},{"$f":"I366*J366*K366","v":1670.4334855252234},{"$f":"(L366+L367)/'DNSP Inputs O&M'!$D$329","v":268.46668569065292},{"$f":"M366*D346","v":1.4344978137744469},null,{"$f":"'DNSP Inputs O&M'!$D$12","v":111.36223236834823},{"$f":"'DNSP Inputs O&M'!$D$334","v":2},{"$f":"'DNSP Inputs O&M'!$D$17","v":7.5},{"$f":"P366*Q366*R366","v":1670.4334855252234},{"$f":"(S366+S367)/'DNSP Inputs O&M'!$D$329","v":268.46668569065292},{"$f":"T366*D346","v":1.4344978137744469},null,null,null,{"$f":"'DNSP Inputs O&M'!$E$12","v":{"$error":"#REF!"}},{"$f":"'DNSP Inputs O&M'!$E$334","v":2},{"$f":"'DNSP Inputs O&M'!$E$17","v":7.5},{"$f":"Y366*Z366*AA366","v":{"$error":"#REF!"}},{"$f":"(AB366+AB367)/'DNSP Inputs O&M'!$E$329","v":{"$error":"#REF!"}},{"$f":"AC366*AA346","v":{"$error":"#REF!"}},null,{"$f":"'DNSP Inputs O&M'!$E$12","v":{"$error":"#REF!"}},{"$f":"'DNSP Inputs O&M'!$E$334","v":2},{"$f":"'DNSP Inputs O&M'!$E$17","v":7.5},{"$f":"AF366*AG366*AH366","v":{"$error":"#REF!"}},{"$f":"(AI366+AI367)/'DNSP Inputs O&M'!$E$329","v":{"$error":"#REF!"}},{"$f":"AJ366*AA346","v":{"$error":"#REF!"}},null,{"$f":"'DNSP Inputs O&M'!$E$12","v":{"$error":"#REF!"}},{"$f":"'DNSP Inputs O&M'!$E$334","v":2},{"$f":"'DNSP Inputs O&M'!$E$17","v":7.5},{"$f":"AM366*AN366*AO366","v":{"$error":"#REF!"}},{"$f":"(AP366+AP367)/'DNSP Inputs O&M'!$E$329","v":{"$error":"#REF!"}},{"$f":"AQ366*AA346","v":{"$error":"#REF!"}},null,null,null,{"$f":"'DNSP Inputs O&M'!$F$12","v":{"$error":"#REF!"}},{"$f":"'DNSP Inputs O&M'!$F$334","v":2},{"$f":"'DNSP Inputs O&M'!$F$17","v":7.5},{"$f":"AV366*AW366*AX366","v":{"$error":"#REF!"}},{"$f":"(AY366+AY367)/'DNSP Inputs O&M'!$F$329","v":{"$error":"#REF!"}},{"$f":"AZ366*AX346","v":{"$error":"#REF!"}},null,{"$f":"'DNSP Inputs O&M'!$F$12","v":{"$error":"#REF!"}},{"$f":"'DNSP Inputs O&M'!$F$334","v":2},{"$f":"'DNSP Inputs O&M'!$F$17","v":7.5},{"$f":"BC366*BD366*BE366","v":{"$error":"#REF!"}},{"$f":"(BF366+BF367)/'DNSP Inputs O&M'!$F$329","v":{"$error":"#REF!"}},{"$f":"BG366*AX346","v":{"$error":"#REF!"}},null,{"$f":"'DNSP Inputs O&M'!$F$12","v":{"$error":"#REF!"}},{"$f":"'DNSP Inputs O&M'!$F$334","v":2},{"$f":"'DNSP Inputs O&M'!$F$17","v":7.5},{"$f":"BJ366*BK366*BL366","v":{"$error":"#REF!"}},{"$f":"(BM366+BM367)/'DNSP Inputs O&M'!$F$329","v":{"$error":"#REF!"}},{"$f":"BN366*AX346","v":{"$error":"#REF!"}},null,null,null,{"$f":"'DNSP Inputs O&M'!$G$12","v":{"$error":"#REF!"}},{"$f":"'DNSP Inputs O&M'!$G$334","v":2},{"$f":"'DNSP Inputs O&M'!$G$17","v":7.5},{"$f":"BS366*BT366*BU366","v":{"$error":"#REF!"}},{"$f":"(BV366+BV367)/'DNSP Inputs O&M'!$G$329","v":{"$error":"#REF!"}},{"$f":"BW366*BU346","v":{"$error":"#REF!"}},null,{"$f":"'DNSP Inputs O&M'!$G$12","v":{"$error":"#REF!"}},{"$f":"'DNSP Inputs O&M'!$G$334","v":2},{"$f":"'DNSP Inputs O&M'!$G$17","v":7.5},{"$f":"BZ366*CA366*CB366","v":{"$error":"#REF!"}},{"$f":"(CC366+CC367)/'DNSP Inputs O&M'!$G$329","v":{"$error":"#REF!"}},{"$f":"CD366*BU346","v":{"$error":"#REF!"}},null,{"$f":"'DNSP Inputs O&M'!$G$12","v":{"$error":"#REF!"}},{"$f":"'DNSP Inputs O&M'!$G$334","v":2},{"$f":"'DNSP Inputs O&M'!$G$17","v":7.5},{"$f":"CG366*CH366*CI366","v":{"$error":"#REF!"}},{"$f":"(CJ366+CJ367)/'DNSP Inputs O&M'!$G$329","v":{"$error":"#REF!"}},{"$f":"CK366*BU346","v":{"$error":"#REF!"}},null,null,null,{"$f":"'DNSP Inputs O&M'!$H$12","v":{"$error":"#REF!"}},{"$f":"'DNSP Inputs O&M'!$H$334","v":2},{"$f":"'DNSP Inputs O&M'!$H$17","v":7.5},{"$f":"CP366*CQ366*CR366","v":{"$error":"#REF!"}},{"$f":"(CS366+CS367)/'DNSP Inputs O&M'!$H$329","v":{"$error":"#REF!"}},{"$f":"CT366*CR346","v":{"$error":"#REF!"}},null,{"$f":"'DNSP Inputs O&M'!$H$12","v":{"$error":"#REF!"}},{"$f":"'DNSP Inputs O&M'!$H$334","v":2},{"$f":"'DNSP Inputs O&M'!$H$17","v":7.5},{"$f":"CW366*CX366*CY366","v":{"$error":"#REF!"}},{"$f":"(CZ366+CZ367)/'DNSP Inputs O&M'!$H$329","v":{"$error":"#REF!"}},{"$f":"DA366*CR346","v":{"$error":"#REF!"}},null,{"$f":"'DNSP Inputs O&M'!$H$12","v":{"$error":"#REF!"}},{"$f":"'DNSP Inputs O&M'!$H$334","v":2},{"$f":"'DNSP Inputs O&M'!$H$17","v":7.5},{"$f":"DD366*DE366*DF366","v":{"$error":"#REF!"}},{"$f":"(DG366+DG367)/'DNSP Inputs O&M'!$H$329","v":{"$error":"#REF!"}},{"$f":"DH366*CR346","v":{"$error":"#REF!"}}]
["Elevated platform vehicle costs",{"$f":"'DNSP Inputs O&M'!$D$14","v":50.18},1,{"$f":"'DNSP Inputs O&M'!$D$17","v":7.5},{"$f":"B367*C367*D367","v":376.35},null,null,null,{"$f":"'DNSP Inputs O&M'!$D$15","v":63.64},1,{"$f":"'DNSP Inputs O&M'!$D$17","v":7.5},{"$f":"I367*J367*K367","v":477.3},null,null,null,{"$f":"'DNSP Inputs O&M'!$D$15","v":63.64},1,{"$f":"'DNSP Inputs O&M'!$D$17","v":7.5},{"$f":"P367*Q367*R367","v":477.3},null,null,null,null,null,{"$f":"'DNSP Inputs O&M'!$E$14","v":50.18},1,{"$f":"'DNSP Inputs O&M'!$E$17","v":7.5},{"$f":"Y367*Z367*AA367","v":376.35},null,null,null,{"$f":"'DNSP Inputs O&M'!$E$15","v":63.64},1,{"$f":"'DNSP Inputs O&M'!$E$17","v":7.5},{"$f":"AF367*AG367*AH367","v":477.3},null,null,null,{"$f":"'DNSP Inputs O&M'!$E$15","v":63.64},1,{"$f":"'DNSP Inputs O&M'!$E$17","v":7.5},{"$f":"AM367*AN367*AO367","v":477.3},null,null,null,null,null,{"$f":"'DNSP Inputs O&M'!$F$14","v":50.18},1,{"$f":"'DNSP Inputs O&M'!$F$17","v":7.5},{"$f":"AV367*AW367*AX367","v":376.35},null,null,null,{"$f":"'DNSP Inputs O&M'!$F$15","v":63.64},1,{"$f":"'DNSP Inputs O&M'!$F$17","v":7.5},{"$f":"BC367*BD367*BE367","v":477.3},null,null,null,{"$f":"'DNSP Inputs O&M'!$F$15","v":63.64},1,{"$f":"'DNSP Inputs O&M'!$F$17","v":7.5},{"$f":"BJ367*BK367*BL367","v":477.3},null,null,null,null,null,{"$f":"'DNSP Inputs O&M'!$G$14","v":50.18},1,{"$f":"'DNSP Inputs O&M'!$G$17","v":7.5},{"$f":"BS367*BT367*BU367","v":376.35},null,null,null,{"$f":"'DNSP Inputs O&M'!$G$15","v":63.64},1,{"$f":"'DNSP Inputs O&M'!$G$17","v":7.5},{"$f":"BZ367*CA367*CB367","v":477.3},null,null,null,{"$f":"'DNSP Inputs O&M'!$G$15","v":63.64},1,{"$f":"'DNSP Inputs O&M'!$G$17","v":7.5},{"$f":"CG367*CH367*CI367","v":477.3},null,null,null,null,null,{"$f":"'DNSP Inputs O&M'!$H$14","v":50.18},1,{"$f":"'DNSP Inputs O&M'!$H$17","v":7.5},{"$f":"CP367*CQ367*CR367","v":376.35},null,null,null,{"$f":"'DNSP Inputs O&M'!$H$15","v":63.64},1,{"$f":"'DNSP Inputs O&M'!$H$17","v":7.5},{"$f":"CW367*CX367*CY367","v":477.3},null,null,null,{"$f":"'DNSP Inputs O&M'!$H$15","v":63.64},1,{"$f":"'DNSP Inputs O&M'!$H$17","v":7.5},{"$f":"DD367*DE367*DF367","v":477.3}]
["Other Maintenance and Repair costs",null,null,null,null,null,{"$f":"'DNSP Inputs O&M'!$D$350","v":1.5501385041551246},null,null,null,null,null,null,{"$f":"'DNSP Inputs O&M'!$D$350","v":1.5501385041551246},null,null,null,null,null,null,{"$f":"'DNSP Inputs O&M'!$D$350","v":1.5501385041551246},null,null,null,null,null,null,null,null,{"$f":"'DNSP Inputs O&M'!$E$350","v":1.5501385041551246},null,null,null,null,null,null,{"$f":"'DNSP Inputs O&M'!$E$350","v":1.5501385041551246},null,null,null,null,null,null,{"$f":"'DNSP Inputs O&M'!$E$350","v":1.5501385041551246},null,null,null,null,null,null,null,null,{"$f":"'DNSP Inputs O&M'!$F$350","v":1.5501385041551246},null,null,null,null,null,null,{"$f":"'DNSP Inputs O&M'!$F$350","v":1.5501385041551246},null,null,null,null,null,null,{"$f":"'DNSP Inputs O&M'!$F$350","v":1.5501385041551246},null,null,null,null,null,null,null,null,{"$f":"'DNSP Inputs O&M'!$G$350","v":1.5501385041551246},null,null,null,null,null,null,{"$f":"'DNSP Inputs O&M'!$G$350","v":1.5501385041551246},null,null,null,null,null,null,{"$f":"'DNSP Inputs O&M'!$G$350","v":1.5501385041551246},null,null,null,null,null,null,null,null,{"$f":"'DNSP Inputs O&M'!$H$350","v":1.5501385041551246},null,null,null,null,null,null,{"$f":"'DNSP Inputs O&M'!$H$350","v":1.5501385041551246},null,null,null,null,null,null,{"$f":"'DNSP Inputs O&M'!$H$350","v":1.5501385041551246}]
[]
["Overheads",{"$f":"'DNSP Inputs O&M'!$D$18","v":0.25},null,null,null,null,{"$f":"B370*SUM(G357:G368)","v":2.0883646922778385},null,{"$f":"'DNSP Inputs O&M'!$D$18","v":0.25},null,null,null,null,{"$f":"I370*SUM(N357:N368)","v":2.3570170665215584},null,{"$f":"'DNSP Inputs O&M'!$D$18","v":0.25},null,null,null,null,{"$f":"P370*SUM(U357:U368)","v":2.6354703729498361},null,null,null,{"$f":"'DNSP Inputs O&M'!$E$18","v":0.25},null,null,null,null,{"$f":"Y370*SUM(AD357:AD368)","v":{"$error":"#REF!"}},null,{"$f":"'DNSP Inputs O&M'!$E$18","v":0.25},null,null,null,null,{"$f":"AF370*SUM(AK357:AK368)","v":{"$error":"#REF!"}},null,{"$f":"'DNSP Inputs O&M'!$E$18","v":0.25},null,null,null,null,{"$f":"AM370*SUM(AR357:AR368)","v":{"$error":"#REF!"}},null,null,null,{"$f":"'DNSP Inputs O&M'!$F$18","v":0.25},null,null,null,null,{"$f":"AV370*SUM(BA357:BA368)","v":{"$error":"#REF!"}},null,{"$f":"'DNSP Inputs O&M'!$F$18","v":0.25},null,null,null,null,{"$f":"BC370*SUM(BH357:BH368)","v":{"$error":"#REF!"}},null,{"$f":"'DNSP Inputs O&M'!$F$18","v":0.25},null,null,null,null,{"$f":"BJ370*SUM(BO357:BO368)","v":{"$error":"#REF!"}},null,null,null,{"$f":"'DNSP Inputs O&M'!$G$18","v":0.25},null,null,null,null,{"$f":"BS370*SUM(BX357:BX368)","v":{"$error":"#REF!"}},null,{"$f":"'DNSP Inputs O&M'!$G$18","v":0.25},null,null,null,null,{"$f":"BZ370*SUM(CE357:CE368)","v":{"$error":"#REF!"}},null,{"$f":"'DNSP Inputs O&M'!$G$18","v":0.25},null,null,null,null,{"$f":"CG370*SUM(CL357:CL368)","v":{"$error":"#REF!"}},null,null,null,{"$f":"'DNSP Inputs O&M'!$H$18","v":0.25},null,null,null,null,{"$f":"CP370*SUM(CU357:CU368)","v":{"$error":"#REF!"}},null,{"$f":"'DNSP Inputs O&M'!$H$18","v":0.25},null,null,null,null,{"$f":"CW370*SUM(DB357:DB368)","v":{"$error":"#REF!"}},null,{"$f":"'DNSP Inputs O&M'!$H$18","v":0.25},null,null,null,null,{"$f":"DD370*SUM(DI357:DI368)","v":{"$error":"#REF!"}}]
[]
[null,null,null,null,null,null,{"$f":"SUM(G357,G359,G363,G366,G368,G370)","v":10.441823461389193},null,null,null,null,null,null,{"$f":"SUM(N357,N359,N363,N366,N368,N370)","v":11.785085332607792},null,null,null,null,null,null,{"$f":"SUM(U357,U359,U363,U366,U368,U370)","v":13.177351864749181},null,null,null,null,null,null,null,null,{"$f":"SUM(AD357,AD359,AD363,AD366,AD368,AD370)","v":{"$error":"#REF!"}},null,null,null,null,null,null,{"$f":"SUM(AK357,AK359,AK363,AK366,AK368,AK370)","v":{"$error":"#REF!"}},null,null,null,null,null,null,{"$f":"SUM(AR357,AR359,AR363,AR366,AR368,AR370)","v":{"$error":"#REF!"}},null,null,null,null,null,null,null,null,{"$f":"SUM(BA357,BA359,BA363,BA366,BA368,BA370)","v":{"$error":"#REF!"}},null,null,null,null,null,null,{"$f":"SUM(BH357,BH359,BH363,BH366,BH368,BH370)","v":{"$error":"#REF!"}},null,null,null,null,null,null,{"$f":"SUM(BO357,BO359,BO363,BO366,BO368,BO370)","v":{"$error":"#REF!"}},null,null,null,null,null,null,null,null,{"$f":"SUM(BX357,BX359,BX363,BX366,BX368,BX370)","v":{"$error":"#REF!"}},null,null,null,null,null,null,{"$f":"SUM(CE357,CE359,CE363,CE366,CE368,CE370)","v":{"$error":"#REF!"}},null,null,null,null,null,null,{"$f":"SUM(CL357,CL359,CL363,CL366,CL368,CL370)","v":{"$error":"#REF!"}},null,null,null,null,null,null,null,null,{"$f":"SUM(CU357,CU359,CU363,CU366,CU368,CU370)","v":{"$error":"#REF!"}},null,null,null,null,null,null,{"$f":"SUM(DB357,DB359,DB363,DB366,DB368,DB370)","v":{"$error":"#REF!"}},null,null,null,null,null,null,{"$f":"SUM(DI357,DI359,DI363,DI366,DI368,DI370)","v":{"$error":"#REF!"}}]
[]
[]
[]
["NEW"]
["Category P LED 70 Watt (L1) - Cost build-up"]
[]
["Additional assumptions"]
[]
[]
["Overheads are applied to material and labour components"]
["All costs and charges are exclusive of GST"]
[]
[null,"Urban",null,null,null,null,null,null,"Rural",null,null,null,null,null,null,"Remote",null,null,null,null,null,null,null,null,"Urban",null,null,null,null,null,null,"Rural",null,null,null,null,null,null,"Remote",null,null,null,null,null,null,null,null,"Urban",null,null,null,null,null,null,"Rural",null,null,null,null,null,null,"Remote",null,null,null,null,null,null,null,null,"Urban",null,null,null,null,null,null,"Rural",null,null,null,null,null,null,"Remote",null,null,null,null,null,null,null,null,"Urban",null,null,null,null,null,null,"Rural",null,null,null,null,null,null,"Remote"]
[]
[null,"Unit rate","Number","Hours","Cost","Annualised","Annualised",null,"Unit rate","Number","Hours","Cost","Annualised","Annualised",null,"Unit rate","Number","Hours","Cost","Annualised","Annualised",null,null,null,"Unit rate","Number","Hours","Cost","Annualised","Annualised",null,"Unit rate","Number","Hours","Cost","Annualised","Annualised",null,"Unit rate","Number","Hours","Cost","Annualised","Annualised",null,null,null,"Unit rate","Number","Hours","Cost","Annualised","Annualised",null,"Unit rate","Number","Hours","Cost","Annualised","Annualised",null,"Unit rate","Number","Hours","Cost","Annualised","Annualised",null,null,null,"Unit rate","Number","Hours","Cost","Annualised","Annualised",null,"Unit rate","Number","Hours","Cost","Annualised","Annualised",null,"Unit rate","Number","Hours","Cost","Annualised","Annualised",null,null,null,"Unit rate","Number","Hours","Cost","Annualised","Annualised",null,"Unit rate","Number","Hours","Cost","Annualised","Annualised",null,"Unit rate","Number","Hours","Cost","Annualised","Annualised"]
[null,null,null,null,null," cost","unit cost",null,null,null,null,null," cost","unit cost",null,null,null,null,null," cost","unit cost",null,null,null,null,null,null,null," cost","unit cost",null,null,null,null,null," cost","unit cost",null,null,null,null,null," cost","unit cost",null,null,null,null,null,null,null," cost","unit cost",null,null,null,null,null," cost","unit cost",null,null,null,null,null," cost","unit cost",null,null,null,null,null,null,null," cost","unit cost",null,null,null,null,null," cost","unit cost",null,null,null,null,null," cost","unit cost",null,null,null,null,null,null,null," cost","unit cost",null,null,null,null,null," cost","unit cost",null,null,null,null,null," cost","unit cost"]
["LED 70W (L1)"]
["Patrols & repairs"]
[]
[]
["Materials - repair of faults"]
["PE cell",{"$f":"'DNSP Inputs O&M'!$D$377","v":25.041364999999999},{"$f":"'DNSP Inputs O&M'!$D$384*'DNSP Inputs O&M'!$D$387","v":17.100000000000001},null,{"$f":"B394*C394","v":428.20734150000004},{"$f":"(E394+E395+E396)/'DNSP Inputs O&M'!$D$381","v":0.15742179150209082},{"$f":"F394*'DNSP Inputs O&M'!$D$375","v":0.47226537450627248},null,{"$f":"'DNSP Inputs O&M'!$D$377*(1+'DNSP Inputs O&M'!$D$11)","v":26.29343325},{"$f":"'DNSP Inputs O&M'!$D$385*'DNSP Inputs O&M'!$D$387","v":13.5},null,{"$f":"I394*J394","v":354.961348875},{"$f":"(L394+L395+L396)/'DNSP Inputs O&M'!$D$382","v":0.19574156969667869},{"$f":"M394*'DNSP Inputs O&M'!$D$375","v":0.5872247090900361},null,{"$f":"'DNSP Inputs O&M'!$D$377*(1+'DNSP Inputs O&M'!$D$11)","v":26.29343325},{"$f":"'DNSP Inputs O&M'!$D$386*'DNSP Inputs O&M'!$D$387","v":9.9},null,{"$f":"P394*Q394","v":260.304989175},{"$f":"(S394+S395+S396)/'DNSP Inputs O&M'!$D$383","v":0.28708763555512873},{"$f":"T394*'DNSP Inputs O&M'!$D$375","v":0.86126290666538619},null,null,null,{"$f":"'DNSP Inputs O&M'!$E$377","v":25.041364999999999},{"$f":"'DNSP Inputs O&M'!$E$384*'DNSP Inputs O&M'!$E$387","v":17.100000000000001},null,{"$f":"Y394*Z394","v":428.20734150000004},{"$f":"(AB394+AB395+AB396)/'DNSP Inputs O&M'!$E$381","v":0.15742179150209082},{"$f":"AC394*'DNSP Inputs O&M'!$E$375","v":0.47226537450627248},null,{"$f":"'DNSP Inputs O&M'!$E$377*(1+'DNSP Inputs O&M'!$E$11)","v":26.29343325},{"$f":"'DNSP Inputs O&M'!$E$385*'DNSP Inputs O&M'!$E$387","v":13.5},null,{"$f":"AF394*AG394","v":354.961348875},{"$f":"(AI394+AI395+AI396)/'DNSP Inputs O&M'!$E$382","v":0.19574156969667869},{"$f":"AJ394*'DNSP Inputs O&M'!$E$375","v":0.5872247090900361},null,{"$f":"'DNSP Inputs O&M'!$E$377*(1+'DNSP Inputs O&M'!$E$11)","v":26.29343325},{"$f":"'DNSP Inputs O&M'!$E$386*'DNSP Inputs O&M'!$E$387","v":9.9},null,{"$f":"AM394*AN394","v":260.304989175},{"$f":"(AP394+AP395+AP396)/'DNSP Inputs O&M'!$E$383","v":0.28708763555512873},{"$f":"AQ394*'DNSP Inputs O&M'!$E$375","v":0.86126290666538619},null,null,null,{"$f":"'DNSP Inputs O&M'!$F$377","v":25.041364999999999},{"$f":"'DNSP Inputs O&M'!$F$384*'DNSP Inputs O&M'!$F$387","v":17.100000000000001},null,{"$f":"AV394*AW394","v":428.20734150000004},{"$f":"(AY394+AY395+AY396)/'DNSP Inputs O&M'!$F$381","v":0.15742179150209082},{"$f":"AZ394*'DNSP Inputs O&M'!$F$375","v":0.47226537450627248},null,{"$f":"'DNSP Inputs O&M'!$F$377*(1+'DNSP Inputs O&M'!$F$11)","v":26.29343325},{"$f":"'DNSP Inputs O&M'!$F$385*'DNSP Inputs O&M'!$F$387","v":13.5},null,{"$f":"BC394*BD394","v":354.961348875},{"$f":"(BF394+BF395+BF396)/'DNSP Inputs O&M'!$F$382","v":0.19574156969667869},{"$f":"BG394*'DNSP Inputs O&M'!$F$375","v":0.5872247090900361},null,{"$f":"'DNSP Inputs O&M'!$F$377*(1+'DNSP Inputs O&M'!$F$11)","v":26.29343325},{"$f":"'DNSP Inputs O&M'!$F$386*'DNSP Inputs O&M'!$F$387","v":9.9},null,{"$f":"BJ394*BK394","v":260.304989175},{"$f":"(BM394+BM395+BM396)/'DNSP Inputs O&M'!$F$383","v":0.28708763555512873},{"$f":"BN394*'DNSP Inputs O&M'!$F$375","v":0.86126290666538619},null,null,null,{"$f":"'DNSP Inputs O&M'!$G$377","v":25.041364999999999},{"$f":"'DNSP Inputs O&M'!$G$384*'DNSP Inputs O&M'!$G$387","v":17.100000000000001},null,{"$f":"BS394*BT394","v":428.20734150000004},{"$f":"(BV394+BV395+BV396)/'DNSP Inputs O&M'!$G$381","v":0.15742179150209082},{"$f":"BW394*'DNSP Inputs O&M'!$G$375","v":0.47226537450627248},null,{"$f":"'DNSP Inputs O&M'!$G$377*(1+'DNSP Inputs O&M'!$G$11)","v":26.29343325},{"$f":"'DNSP Inputs O&M'!$G$385*'DNSP Inputs O&M'!$G$387","v":13.5},null,{"$f":"BZ394*CA394","v":354.961348875},{"$f":"(CC394+CC395+CC396)/'DNSP Inputs O&M'!$G$382","v":0.19574156969667869},{"$f":"CD394*'DNSP Inputs O&M'!$G$375","v":0.5872247090900361},null,{"$f":"'DNSP Inputs O&M'!$G$377*(1+'DNSP Inputs O&M'!$G$11)","v":26.29343325},{"$f":"'DNSP Inputs O&M'!$G$386*'DNSP Inputs O&M'!$G$387","v":9.9},null,{"$f":"CG394*CH394","v":260.304989175},{"$f":"(CJ394+CJ395+CJ396)/'DNSP Inputs O&M'!$G$383","v":0.28708763555512873},{"$f":"CK394*'DNSP Inputs O&M'!$G$375","v":0.86126290666538619},null,null,null,{"$f":"'DNSP Inputs O&M'!$H$377","v":25.041364999999999},{"$f":"'DNSP Inputs O&M'!$H$384*'DNSP Inputs O&M'!$H$387","v":17.100000000000001},null,{"$f":"CP394*CQ394","v":428.20734150000004},{"$f":"(CS394+CS395+CS396)/'DNSP Inputs O&M'!$H$381","v":0.15742179150209082},{"$f":"CT394*'DNSP Inputs O&M'!$H$375","v":0.47226537450627248},null,{"$f":"'DNSP Inputs O&M'!$H$377*(1+'DNSP Inputs O&M'!$H$11)","v":26.29343325},{"$f":"'DNSP Inputs O&M'!$H$385*'DNSP Inputs O&M'!$H$387","v":13.5},null,{"$f":"CW394*CX394","v":354.961348875},{"$f":"(CZ394+CZ395+CZ396)/'DNSP Inputs O&M'!$H$382","v":0.19574156969667869},{"$f":"DA394*'DNSP Inputs O&M'!$H$375","v":0.5872247090900361},null,{"$f":"'DNSP Inputs O&M'!$H$377*(1+'DNSP Inputs O&M'!$H$11)","v":26.29343325},{"$f":"'DNSP Inputs O&M'!$H$386*'DNSP Inputs O&M'!$H$387","v":9.9},null,{"$f":"DD394*DE394","v":260.304989175},{"$f":"(DG394+DG395+DG396)/'DNSP Inputs O&M'!$H$383","v":0.28708763555512873},{"$f":"DH394*'DNSP Inputs O&M'!$H$375","v":0.86126290666538619}]
["Luminaire",{"$f":"'DNSP Inputs O&M'!$D$378","v":1221.3620396249999},{"$f":"'DNSP Inputs O&M'!$D$384*'DNSP Inputs O&M'!$D$388","v":0},null,{"$f":"B395*C395","v":0},null,null,null,{"$f":"'DNSP Inputs O&M'!$D$378*(1+'DNSP Inputs O&M'!$D$11)","v":1282.4301416062499},{"$f":"'DNSP Inputs O&M'!$D$385*'DNSP Inputs O&M'!$D$388","v":0},null,{"$f":"I395*J395","v":0},null,null,null,{"$f":"'DNSP Inputs O&M'!$D$378*(1+'DNSP Inputs O&M'!$D$11)","v":1282.4301416062499},{"$f":"'DNSP Inputs O&M'!$D$386*'DNSP Inputs O&M'!$D$388","v":0},null,{"$f":"P395*Q395","v":0},null,null,null,null,null,{"$f":"'DNSP Inputs O&M'!$E$378","v":1221.3620396249999},{"$f":"'DNSP Inputs O&M'!$E$384*'DNSP Inputs O&M'!$E$388","v":0},null,{"$f":"Y395*Z395","v":0},null,null,null,{"$f":"'DNSP Inputs O&M'!$E$378*(1+'DNSP Inputs O&M'!$E$11)","v":1282.4301416062499},{"$f":"'DNSP Inputs O&M'!$E$385*'DNSP Inputs O&M'!$E$388","v":0},null,{"$f":"AF395*AG395","v":0},null,null,null,{"$f":"'DNSP Inputs O&M'!$E$378*(1+'DNSP Inputs O&M'!$E$11)","v":1282.4301416062499},{"$f":"'DNSP Inputs O&M'!$E$386*'DNSP Inputs O&M'!$E$388","v":0},null,{"$f":"AM395*AN395","v":0},null,null,null,null,null,{"$f":"'DNSP Inputs O&M'!$F$378","v":1221.3620396249999},{"$f":"'DNSP Inputs O&M'!$F$384*'DNSP Inputs O&M'!$F$388","v":0},null,{"$f":"AV395*AW395","v":0},null,null,null,{"$f":"'DNSP Inputs O&M'!$F$378*(1+'DNSP Inputs O&M'!$F$11)","v":1282.4301416062499},{"$f":"'DNSP Inputs O&M'!$F$385*'DNSP Inputs O&M'!$F$388","v":0},null,{"$f":"BC395*BD395","v":0},null,null,null,{"$f":"'DNSP Inputs O&M'!$F$378*(1+'DNSP Inputs O&M'!$F$11)","v":1282.4301416062499},{"$f":"'DNSP Inputs O&M'!$F$386*'DNSP Inputs O&M'!$F$388","v":0},null,{"$f":"BJ395*BK395","v":0},null,null,null,null,null,{"$f":"'DNSP Inputs O&M'!$G$378","v":1221.3620396249999},{"$f":"'DNSP Inputs O&M'!$G$384*'DNSP Inputs O&M'!$G$388","v":0},null,{"$f":"BS395*BT395","v":0},null,null,null,{"$f":"'DNSP Inputs O&M'!$G$378*(1+'DNSP Inputs O&M'!$G$11)","v":1282.4301416062499},{"$f":"'DNSP Inputs O&M'!$G$385*'DNSP Inputs O&M'!$G$388","v":0},null,{"$f":"BZ395*CA395","v":0},null,null,null,{"$f":"'DNSP Inputs O&M'!$G$378*(1+'DNSP Inputs O&M'!$G$11)","v":1282.4301416062499},{"$f":"'DNSP Inputs O&M'!$G$386*'DNSP Inputs O&M'!$G$388","v":0},null,{"$f":"CG395*CH395","v":0},null,null,null,null,null,{"$f":"'DNSP Inputs O&M'!$H$378","v":1221.3620396249999},{"$f":"'DNSP Inputs O&M'!$H$384*'DNSP Inputs O&M'!$H$388","v":0},null,{"$f":"CP395*CQ395","v":0},null,null,null,{"$f":"'DNSP Inputs O&M'!$H$378*(1+'DNSP Inputs O&M'!$H$11)","v":1282.4301416062499},{"$f":"'DNSP Inputs O&M'!$H$385*'DNSP Inputs O&M'!$H$388","v":0},null,{"$f":"CW395*CX395","v":0},null,null,null,{"$f":"'DNSP Inputs O&M'!$H$378*(1+'DNSP Inputs O&M'!$H$11)","v":1282.4301416062499},{"$f":"'DNSP Inputs O&M'!$H$386*'DNSP Inputs O&M'!$H$388","v":0},null,{"$f":"DD395*DE395","v":0}]
["Miscellaneous",{"$f":"'DNSP Inputs O&M'!$D$379","v":23.188438424353883},{"$f":"'DNSP Inputs O&M'!$D$384*'DNSP Inputs O&M'!$D$389","v":1.9000000000000001},null,{"$f":"B396*C396","v":44.058033006272382},null,null,null,{"$f":"'DNSP Inputs O&M'!$D$379*(1+'DNSP Inputs O&M'!$D$11)","v":24.347860345571579},{"$f":"'DNSP Inputs O&M'!$D$385*'DNSP Inputs O&M'!$D$389","v":1.5},null,{"$f":"I396*J396","v":36.521790518357371},null,null,null,{"$f":"'DNSP Inputs O&M'!$D$379*(1+'DNSP Inputs O&M'!$D$11)","v":24.347860345571579},{"$f":"'DNSP Inputs O&M'!$D$386*'DNSP Inputs O&M'!$D$389","v":1.1000000000000001},null,{"$f":"P396*Q396","v":26.782646380128739},null,null,null,null,null,{"$f":"'DNSP Inputs O&M'!$E$379","v":23.188438424353883},{"$f":"'DNSP Inputs O&M'!$E$384*'DNSP Inputs O&M'!$E$389","v":1.9000000000000001},null,{"$f":"Y396*Z396","v":44.058033006272382},null,null,null,{"$f":"'DNSP Inputs O&M'!$E$379*(1+'DNSP Inputs O&M'!$E$11)","v":24.347860345571579},{"$f":"'DNSP Inputs O&M'!$E$385*'DNSP Inputs O&M'!$E$389","v":1.5},null,{"$f":"AF396*AG396","v":36.521790518357371},null,null,null,{"$f":"'DNSP Inputs O&M'!$E$379*(1+'DNSP Inputs O&M'!$E$11)","v":24.347860345571579},{"$f":"'DNSP Inputs O&M'!$E$386*'DNSP Inputs O&M'!$E$389","v":1.1000000000000001},null,{"$f":"AM396*AN396","v":26.782646380128739},null,null,null,null,null,{"$f":"'DNSP Inputs O&M'!$F$379","v":23.188438424353883},{"$f":"'DNSP Inputs O&M'!$F$384*'DNSP Inputs O&M'!$F$389","v":1.9000000000000001},null,{"$f":"AV396*AW396","v":44.058033006272382},null,null,null,{"$f":"'DNSP Inputs O&M'!$F$379*(1+'DNSP Inputs O&M'!$F$11)","v":24.347860345571579},{"$f":"'DNSP Inputs O&M'!$F$385*'DNSP Inputs O&M'!$F$389","v":1.5},null,{"$f":"BC396*BD396","v":36.521790518357371},null,null,null,{"$f":"'DNSP Inputs O&M'!$F$379*(1+'DNSP Inputs O&M'!$F$11)","v":24.347860345571579},{"$f":"'DNSP Inputs O&M'!$F$386*'DNSP Inputs O&M'!$F$389","v":1.1000000000000001},null,{"$f":"BJ396*BK396","v":26.782646380128739},null,null,null,null,null,{"$f":"'DNSP Inputs O&M'!$G$379","v":23.188438424353883},{"$f":"'DNSP Inputs O&M'!$G$384*'DNSP Inputs O&M'!$G$389","v":1.9000000000000001},null,{"$f":"BS396*BT396","v":44.058033006272382},null,null,null,{"$f":"'DNSP Inputs O&M'!$G$379*(1+'DNSP Inputs O&M'!$G$11)","v":24.347860345571579},{"$f":"'DNSP Inputs O&M'!$G$385*'DNSP Inputs O&M'!$G$389","v":1.5},null,{"$f":"BZ396*CA396","v":36.521790518357371},null,null,null,{"$f":"'DNSP Inputs O&M'!$G$379*(1+'DNSP Inputs O&M'!$G$11)","v":24.347860345571579},{"$f":"'DNSP Inputs O&M'!$G$386*'DNSP Inputs O&M'!$G$389","v":1.1000000000000001},null,{"$f":"CG396*CH396","v":26.782646380128739},null,null,null,null,null,{"$f":"'DNSP Inputs O&M'!$H$379","v":23.188438424353883},{"$f":"'DNSP Inputs O&M'!$H$384*'DNSP Inputs O&M'!$H$389","v":1.9000000000000001},null,{"$f":"CP396*CQ396","v":44.058033006272382},null,null,null,{"$f":"'DNSP Inputs O&M'!$H$379*(1+'DNSP Inputs O&M'!$H$11)","v":24.347860345571579},{"$f":"'DNSP Inputs O&M'!$H$385*'DNSP Inputs O&M'!$H$389","v":1.5},null,{"$f":"CW396*CX396","v":36.521790518357371},null,null,null,{"$f":"'DNSP Inputs O&M'!$H$379*(1+'DNSP Inputs O&M'!$H$11)","v":24.347860345571579},{"$f":"'DNSP Inputs O&M'!$H$386*'DNSP Inputs O&M'!$H$389","v":1.1000000000000001},null,{"$f":"DD396*DE396","v":26.782646380128739}]
["Labour - Patrol"]
["Crew costs",{"$f":"'DNSP Inputs O&M'!$D$12","v":111.36223236834823},{"$f":"'DNSP Inputs O&M'!$D$380","v":2},{"$f":"'DNSP Inputs O&M'!$D$17","v":7.5},{"$f":"B398*C398*D398","v":1670.4334855252234},{"$f":"E398/'DNSP Inputs O&M'!$D$381","v":0.55681116184174118},{"$f":"(F398+F399)*'DNSP Inputs O&M'!$D$375","v":1.9282084855252237},null,{"$f":"'DNSP Inputs O&M'!$D$12","v":111.36223236834823},{"$f":"'DNSP Inputs O&M'!$D$380","v":2},{"$f":"'DNSP Inputs O&M'!$D$17","v":7.5},{"$f":"I398*J398*K398","v":1670.4334855252234},{"$f":"L398/'DNSP Inputs O&M'!$D$382","v":0.83521674276261171},{"$f":"(M398+M399)*'DNSP Inputs O&M'!$D$375","v":2.8923127282878349},null,{"$f":"'DNSP Inputs O&M'!$D$12","v":111.36223236834823},{"$f":"'DNSP Inputs O&M'!$D$380","v":2},{"$f":"'DNSP Inputs O&M'!$D$17","v":7.5},{"$f":"P398*Q398*R398","v":1670.4334855252234},{"$f":"S398/'DNSP Inputs O&M'!$D$383","v":1.6704334855252234},{"$f":"(T398+T399)*'DNSP Inputs O&M'!$D$375","v":5.7846254565756698},null,null,null,{"$f":"'DNSP Inputs O&M'!$E$12","v":{"$error":"#REF!"}},{"$f":"'DNSP Inputs O&M'!$E$380","v":2},{"$f":"'DNSP Inputs O&M'!$E$17","v":7.5},{"$f":"Y398*Z398*AA398","v":{"$error":"#REF!"}},{"$f":"AB398/'DNSP Inputs O&M'!$E$381","v":{"$error":"#REF!"}},{"$f":"(AC398+AC399)*'DNSP Inputs O&M'!$E$375","v":{"$error":"#REF!"}},null,{"$f":"'DNSP Inputs O&M'!$E$12","v":{"$error":"#REF!"}},{"$f":"'DNSP Inputs O&M'!$E$380","v":2},{"$f":"'DNSP Inputs O&M'!$E$17","v":7.5},{"$f":"AF398*AG398*AH398","v":{"$error":"#REF!"}},{"$f":"AI398/'DNSP Inputs O&M'!$E$382","v":{"$error":"#REF!"}},{"$f":"(AJ398+AJ399)*'DNSP Inputs O&M'!$E$375","v":{"$error":"#REF!"}},null,{"$f":"'DNSP Inputs O&M'!$E$12","v":{"$error":"#REF!"}},{"$f":"'DNSP Inputs O&M'!$E$380","v":2},{"$f":"'DNSP Inputs O&M'!$E$17","v":7.5},{"$f":"AM398*AN398*AO398","v":{"$error":"#REF!"}},{"$f":"AP398/'DNSP Inputs O&M'!$E$383","v":{"$error":"#REF!"}},{"$f":"(AQ398+AQ399)*'DNSP Inputs O&M'!$E$375","v":{"$error":"#REF!"}},null,null,null,{"$f":"'DNSP Inputs O&M'!$F$12","v":{"$error":"#REF!"}},{"$f":"'DNSP Inputs O&M'!$F$380","v":2},{"$f":"'DNSP Inputs O&M'!$F$17","v":7.5},{"$f":"AV398*AW398*AX398","v":{"$error":"#REF!"}},{"$f":"AY398/'DNSP Inputs O&M'!$F$381","v":{"$error":"#REF!"}},{"$f":"(AZ398+AZ399)*'DNSP Inputs O&M'!$F$375","v":{"$error":"#REF!"}},null,{"$f":"'DNSP Inputs O&M'!$F$12","v":{"$error":"#REF!"}},{"$f":"'DNSP Inputs O&M'!$F$380","v":2},{"$f":"'DNSP Inputs O&M'!$F$17","v":7.5},{"$f":"BC398*BD398*BE398","v":{"$error":"#REF!"}},{"$f":"BF398/'DNSP Inputs O&M'!$F$382","v":{"$error":"#REF!"}},{"$f":"(BG398+BG399)*'DNSP Inputs O&M'!$F$375","v":{"$error":"#REF!"}},null,{"$f":"'DNSP Inputs O&M'!$F$12","v":{"$error":"#REF!"}},{"$f":"'DNSP Inputs O&M'!$F$380","v":2},{"$f":"'DNSP Inputs O&M'!$F$17","v":7.5},{"$f":"BJ398*BK398*BL398","v":{"$error":"#REF!"}},{"$f":"BM398/'DNSP Inputs O&M'!$F$383","v":{"$error":"#REF!"}},{"$f":"(BN398+BN399)*'DNSP Inputs O&M'!$F$375","v":{"$error":"#REF!"}},null,null,null,{"$f":"'DNSP Inputs O&M'!$G$12","v":{"$error":"#REF!"}},{"$f":"'DNSP Inputs O&M'!$G$380","v":2},{"$f":"'DNSP Inputs O&M'!$G$17","v":7.5},{"$f":"BS398*BT398*BU398","v":{"$error":"#REF!"}},{"$f":"BV398/'DNSP Inputs O&M'!$G$381","v":{"$error":"#REF!"}},{"$f":"(BW398+BW399)*'DNSP Inputs O&M'!$G$375","v":{"$error":"#REF!"}},null,{"$f":"'DNSP Inputs O&M'!$G$12","v":{"$error":"#REF!"}},{"$f":"'DNSP Inputs O&M'!$G$380","v":2},{"$f":"'DNSP Inputs O&M'!$G$17","v":7.5},{"$f":"BZ398*CA398*CB398","v":{"$error":"#REF!"}},{"$f":"CC398/'DNSP Inputs O&M'!$G$382","v":{"$error":"#REF!"}},{"$f":"(CD398+CD399)*'DNSP Inputs O&M'!$G$375","v":{"$error":"#REF!"}},null,{"$f":"'DNSP Inputs O&M'!$G$12","v":{"$error":"#REF!"}},{"$f":"'DNSP Inputs O&M'!$G$380","v":2},{"$f":"'DNSP Inputs O&M'!$G$17","v":7.5},{"$f":"CG398*CH398*CI398","v":{"$error":"#REF!"}},{"$f":"CJ398/'DNSP Inputs O&M'!$G$383","v":{"$error":"#REF!"}},{"$f":"(CK398+CK399)*'DNSP Inputs O&M'!$G$375","v":{"$error":"#REF!"}},null,null,null,{"$f":"'DNSP Inputs O&M'!$H$12","v":{"$error":"#REF!"}},{"$f":"'DNSP Inputs O&M'!$H$380","v":2},{"$f":"'DNSP Inputs O&M'!$H$17","v":7.5},{"$f":"CP398*CQ398*CR398","v":{"$error":"#REF!"}},{"$f":"CS398/'DNSP Inputs O&M'!$H$381","v":{"$error":"#REF!"}},{"$f":"(CT398+CT399)*'DNSP Inputs O&M'!$H$375","v":{"$error":"#REF!"}},null,{"$f":"'DNSP Inputs O&M'!$H$12","v":{"$error":"#REF!"}},{"$f":"'DNSP Inputs O&M'!$H$380","v":2},{"$f":"'DNSP Inputs O&M'!$H$17","v":7.5},{"$f":"CW398*CX398*CY398","v":{"$error":"#REF!"}},{"$f":"CZ398/'DNSP Inputs O&M'!$H$382","v":{"$error":"#REF!"}},{"$f":"(DA398+DA399)*'DNSP Inputs O&M'!$H$375","v":{"$error":"#REF!"}},null,{"$f":"'DNSP Inputs O&M'!$H$12","v":{"$error":"#REF!"}},{"$f":"'DNSP Inputs O&M'!$H$380","v":2},{"$f":"'DNSP Inputs O&M'!$H$17","v":7.5},{"$f":"DD398*DE398*DF398","v":{"$error":"#REF!"}},{"$f":"DG398/'DNSP Inputs O&M'!$H$383","v":{"$error":"#REF!"}},{"$f":"(DH398+DH399)*'DNSP Inputs O&M'!$H$375","v":{"$error":"#REF!"}}]
["Vehicle costs",{"$f":"'DNSP Inputs O&M'!$D$16","v":34.369999999999997},1,{"$f":"'DNSP Inputs O&M'!$D$17","v":7.5},{"$f":"B399*C399*D399","v":257.77499999999998},{"$f":"E399/'DNSP Inputs O&M'!$D$381","v":8.5924999999999987E-2},null,null,{"$f":"'DNSP Inputs O&M'!$D$16","v":34.369999999999997},1,{"$f":"'DNSP Inputs O&M'!$D$17","v":7.5},{"$f":"I399*J399*K399","v":257.77499999999998},{"$f":"L399/'DNSP Inputs O&M'!$D$382","v":0.12888749999999999},null,null,{"$f":"'DNSP Inputs O&M'!$D$16","v":34.369999999999997},1,{"$f":"'DNSP Inputs O&M'!$D$17","v":7.5},{"$f":"P399*Q399*R399","v":257.77499999999998},{"$f":"S399/'DNSP Inputs O&M'!$D$383","v":0.25777499999999998},null,null,null,null,{"$f":"'DNSP Inputs O&M'!$E$16","v":34.369999999999997},1,{"$f":"'DNSP Inputs O&M'!$E$17","v":7.5},{"$f":"Y399*Z399*AA399","v":257.77499999999998},{"$f":"AB399/'DNSP Inputs O&M'!$E$381","v":8.5924999999999987E-2},null,null,{"$f":"'DNSP Inputs O&M'!$E$16","v":34.369999999999997},1,{"$f":"'DNSP Inputs O&M'!$E$17","v":7.5},{"$f":"AF399*AG399*AH399","v":257.77499999999998},{"$f":"AI399/'DNSP Inputs O&M'!$E$382","v":0.12888749999999999},null,null,{"$f":"'DNSP Inputs O&M'!$E$16","v":34.369999999999997},1,{"$f":"'DNSP Inputs O&M'!$E$17","v":7.5},{"$f":"AM399*AN399*AO399","v":257.77499999999998},{"$f":"AP399/'DNSP Inputs O&M'!$E$383","v":0.25777499999999998},null,null,null,null,{"$f":"'DNSP Inputs O&M'!$F$16","v":34.369999999999997},1,{"$f":"'DNSP Inputs O&M'!$F$17","v":7.5},{"$f":"AV399*AW399*AX399","v":257.77499999999998},{"$f":"AY399/'DNSP Inputs O&M'!$F$381","v":8.5924999999999987E-2},null,null,{"$f":"'DNSP Inputs O&M'!$F$16","v":34.369999999999997},1,{"$f":"'DNSP Inputs O&M'!$F$17","v":7.5},{"$f":"BC399*BD399*BE399","v":257.77499999999998},{"$f":"BF399/'DNSP Inputs O&M'!$F$382","v":0.12888749999999999},null,null,{"$f":"'DNSP Inputs O&M'!$F$16","v":34.369999999999997},1,{"$f":"'DNSP Inputs O&M'!$F$17","v":7.5},{"$f":"BJ399*BK399*BL399","v":257.77499999999998},{"$f":"BM399/'DNSP Inputs O&M'!$F$383","v":0.25777499999999998},null,null,null,null,{"$f":"'DNSP Inputs O&M'!$G$16","v":34.369999999999997},1,{"$f":"'DNSP Inputs O&M'!$G$17","v":7.5},{"$f":"BS399*BT399*BU399","v":257.77499999999998},{"$f":"BV399/'DNSP Inputs O&M'!$G$381","v":8.5924999999999987E-2},null,null,{"$f":"'DNSP Inputs O&M'!$G$16","v":34.369999999999997},1,{"$f":"'DNSP Inputs O&M'!$G$17","v":7.5},{"$f":"BZ399*CA399*CB399","v":257.77499999999998},{"$f":"CC399/'DNSP Inputs O&M'!$G$382","v":0.12888749999999999},null,null,{"$f":"'DNSP Inputs O&M'!$G$16","v":34.369999999999997},1,{"$f":"'DNSP Inputs O&M'!$G$17","v":7.5},{"$f":"CG399*CH399*CI399","v":257.77499999999998},{"$f":"CJ399/'DNSP Inputs O&M'!$G$383","v":0.25777499999999998},null,null,null,null,{"$f":"'DNSP Inputs O&M'!$H$16","v":34.369999999999997},1,{"$f":"'DNSP Inputs O&M'!$H$17","v":7.5},{"$f":"CP399*CQ399*CR399","v":257.77499999999998},{"$f":"CS399/'DNSP Inputs O&M'!$H$381","v":8.5924999999999987E-2},null,null,{"$f":"'DNSP Inputs O&M'!$H$16","v":34.369999999999997},1,{"$f":"'DNSP Inputs O&M'!$H$17","v":7.5},{"$f":"CW399*CX399*CY399","v":257.77499999999998},{"$f":"CZ399/'DNSP Inputs O&M'!$H$382","v":0.12888749999999999},null,null,{"$f":"'DNSP Inputs O&M'!$H$16","v":34.369999999999997},1,{"$f":"'DNSP Inputs O&M'!$H$17","v":7.5},{"$f":"DD399*DE399*DF399","v":257.77499999999998},{"$f":"DG399/'DNSP Inputs O&M'!$H$383","v":0.25777499999999998}]
["Labour - repair of faults"]
["Crew costs",{"$f":"'DNSP Inputs O&M'!$D$12","v":111.36223236834823},{"$f":"'DNSP Inputs O&M'!$D$380","v":2},{"$f":"'DNSP Inputs O&M'!$D$17","v":7.5},{"$f":"B401*C401*D401","v":1670.4334855252234},{"$f":"(E401+E402)/'DNSP Inputs O&M'!$D$384","v":107.72544660659071},{"$f":"F401/'DNSP Inputs O&M'!$D$376","v":10.77254466065907},null,{"$f":"'DNSP Inputs O&M'!$D$12","v":111.36223236834823},{"$f":"'DNSP Inputs O&M'!$D$380","v":2},{"$f":"'DNSP Inputs O&M'!$D$17","v":7.5},{"$f":"I401*J401*K401","v":1670.4334855252234},{"$f":"(L401+L402)/'DNSP Inputs O&M'!$D$385","v":143.18223236834822},{"$f":"M401/'DNSP Inputs O&M'!$D$376","v":14.318223236834822},null,{"$f":"'DNSP Inputs O&M'!$D$12","v":111.36223236834823},{"$f":"'DNSP Inputs O&M'!$D$380","v":2},{"$f":"'DNSP Inputs O&M'!$D$17","v":7.5},{"$f":"P401*Q401*R401","v":1670.4334855252234},{"$f":"(S401+S402)/'DNSP Inputs O&M'!$D$386","v":195.24849868411121},{"$f":"T401/'DNSP Inputs O&M'!$D$376","v":19.52484986841112},null,null,null,{"$f":"'DNSP Inputs O&M'!$E$12","v":{"$error":"#REF!"}},{"$f":"'DNSP Inputs O&M'!$E$380","v":2},{"$f":"'DNSP Inputs O&M'!$E$17","v":7.5},{"$f":"Y401*Z401*AA401","v":{"$error":"#REF!"}},{"$f":"(AB401+AB402)/'DNSP Inputs O&M'!$E$384","v":{"$error":"#REF!"}},{"$f":"AC401/'DNSP Inputs O&M'!$E$376","v":{"$error":"#REF!"}},null,{"$f":"'DNSP Inputs O&M'!$E$12","v":{"$error":"#REF!"}},{"$f":"'DNSP Inputs O&M'!$E$380","v":2},{"$f":"'DNSP Inputs O&M'!$E$17","v":7.5},{"$f":"AF401*AG401*AH401","v":{"$error":"#REF!"}},{"$f":"(AI401+AI402)/'DNSP Inputs O&M'!$E$385","v":{"$error":"#REF!"}},{"$f":"AJ401/'DNSP Inputs O&M'!$E$376","v":{"$error":"#REF!"}},null,{"$f":"'DNSP Inputs O&M'!$E$12","v":{"$error":"#REF!"}},{"$f":"'DNSP Inputs O&M'!$E$380","v":2},{"$f":"'DNSP Inputs O&M'!$E$17","v":7.5},{"$f":"AM401*AN401*AO401","v":{"$error":"#REF!"}},{"$f":"(AP401+AP402)/'DNSP Inputs O&M'!$E$386","v":{"$error":"#REF!"}},{"$f":"AQ401/'DNSP Inputs O&M'!$E$376","v":{"$error":"#REF!"}},null,null,null,{"$f":"'DNSP Inputs O&M'!$F$12","v":{"$error":"#REF!"}},{"$f":"'DNSP Inputs O&M'!$F$380","v":2},{"$f":"'DNSP Inputs O&M'!$F$17","v":7.5},{"$f":"AV401*AW401*AX401","v":{"$error":"#REF!"}},{"$f":"(AY401+AY402)/'DNSP Inputs O&M'!$F$384","v":{"$error":"#REF!"}},{"$f":"AZ401/'DNSP Inputs O&M'!$F$376","v":{"$error":"#REF!"}},null,{"$f":"'DNSP Inputs O&M'!$F$12","v":{"$error":"#REF!"}},{"$f":"'DNSP Inputs O&M'!$F$380","v":2},{"$f":"'DNSP Inputs O&M'!$F$17","v":7.5},{"$f":"BC401*BD401*BE401","v":{"$error":"#REF!"}},{"$f":"(BF401+BF402)/'DNSP Inputs O&M'!$F$385","v":{"$error":"#REF!"}},{"$f":"BG401/'DNSP Inputs O&M'!$F$376","v":{"$error":"#REF!"}},null,{"$f":"'DNSP Inputs O&M'!$F$12","v":{"$error":"#REF!"}},{"$f":"'DNSP Inputs O&M'!$F$380","v":2},{"$f":"'DNSP Inputs O&M'!$F$17","v":7.5},{"$f":"BJ401*BK401*BL401","v":{"$error":"#REF!"}},{"$f":"(BM401+BM402)/'DNSP Inputs O&M'!$F$386","v":{"$error":"#REF!"}},{"$f":"BN401/'DNSP Inputs O&M'!$F$376","v":{"$error":"#REF!"}},null,null,null,{"$f":"'DNSP Inputs O&M'!$G$12","v":{"$error":"#REF!"}},{"$f":"'DNSP Inputs O&M'!$G$380","v":2},{"$f":"'DNSP Inputs O&M'!$G$17","v":7.5},{"$f":"BS401*BT401*BU401","v":{"$error":"#REF!"}},{"$f":"(BV401+BV402)/'DNSP Inputs O&M'!$G$384","v":{"$error":"#REF!"}},{"$f":"BW401/'DNSP Inputs O&M'!$G$376","v":{"$error":"#REF!"}},null,{"$f":"'DNSP Inputs O&M'!$G$12","v":{"$error":"#REF!"}},{"$f":"'DNSP Inputs O&M'!$G$380","v":2},{"$f":"'DNSP Inputs O&M'!$G$17","v":7.5},{"$f":"BZ401*CA401*CB401","v":{"$error":"#REF!"}},{"$f":"(CC401+CC402)/'DNSP Inputs O&M'!$G$385","v":{"$error":"#REF!"}},{"$f":"CD401/'DNSP Inputs O&M'!$G$376","v":{"$error":"#REF!"}},null,{"$f":"'DNSP Inputs O&M'!$G$12","v":{"$error":"#REF!"}},{"$f":"'DNSP Inputs O&M'!$G$380","v":2},{"$f":"'DNSP Inputs O&M'!$G$17","v":7.5},{"$f":"CG401*CH401*CI401","v":{"$error":"#REF!"}},{"$f":"(CJ401+CJ402)/'DNSP Inputs O&M'!$G$386","v":{"$error":"#REF!"}},{"$f":"CK401/'DNSP Inputs O&M'!$G$376","v":{"$error":"#REF!"}},null,null,null,{"$f":"'DNSP Inputs O&M'!$H$12","v":{"$error":"#REF!"}},{"$f":"'DNSP Inputs O&M'!$H$380","v":2},{"$f":"'DNSP Inputs O&M'!$H$17","v":7.5},{"$f":"CP401*CQ401*CR401","v":{"$error":"#REF!"}},{"$f":"(CS401+CS402)/'DNSP Inputs O&M'!$H$384","v":{"$error":"#REF!"}},{"$f":"CT401/'DNSP Inputs O&M'!$H$376","v":{"$error":"#REF!"}},null,{"$f":"'DNSP Inputs O&M'!$H$12","v":{"$error":"#REF!"}},{"$f":"'DNSP Inputs O&M'!$H$380","v":2},{"$f":"'DNSP Inputs O&M'!$H$17","v":7.5},{"$f":"CW401*CX401*CY401","v":{"$error":"#REF!"}},{"$f":"(CZ401+CZ402)/'DNSP Inputs O&M'!$H$385","v":{"$error":"#REF!"}},{"$f":"DA401/'DNSP Inputs O&M'!$H$376","v":{"$error":"#REF!"}},null,{"$f":"'DNSP Inputs O&M'!$H$12","v":{"$error":"#REF!"}},{"$f":"'DNSP Inputs O&M'!$H$380","v":2},{"$f":"'DNSP Inputs O&M'!$H$17","v":7.5},{"$f":"DD401*DE401*DF401","v":{"$error":"#REF!"}},{"$f":"(DG401+DG402)/'DNSP Inputs O&M'!$H$386","v":{"$error":"#REF!"}},{"$f":"DH401/'DNSP Inputs O&M'!$H$376","v":{"$error":"#REF!"}}]
["Elevated platform vehicle costs",{"$f":"'DNSP Inputs O&M'!$D$14","v":50.18},1,{"$f":"'DNSP Inputs O&M'!$D$17","v":7.5},{"$f":"B402*C402*D402","v":376.35},null,null,null,{"$f":"'DNSP Inputs O&M'!$D$15","v":63.64},1,{"$f":"'DNSP Inputs O&M'!$D$17","v":7.5},{"$f":"I402*J402*K402","v":477.3},null,null,null,{"$f":"'DNSP Inputs O&M'!$D$15","v":63.64},1,{"$f":"'DNSP Inputs O&M'!$D$17","v":7.5},{"$f":"P402*Q402*R402","v":477.3},null,null,null,null,null,{"$f":"'DNSP Inputs O&M'!$E$14","v":50.18},1,{"$f":"'DNSP Inputs O&M'!$E$17","v":7.5},{"$f":"Y402*Z402*AA402","v":376.35},null,null,null,{"$f":"'DNSP Inputs O&M'!$E$15","v":63.64},1,{"$f":"'DNSP Inputs O&M'!$E$17","v":7.5},{"$f":"AF402*AG402*AH402","v":477.3},null,null,null,{"$f":"'DNSP Inputs O&M'!$E$15","v":63.64},1,{"$f":"'DNSP Inputs O&M'!$E$17","v":7.5},{"$f":"AM402*AN402*AO402","v":477.3},null,null,null,null,null,{"$f":"'DNSP Inputs O&M'!$F$14","v":50.18},1,{"$f":"'DNSP Inputs O&M'!$F$17","v":7.5},{"$f":"AV402*AW402*AX402","v":376.35},null,null,null,{"$f":"'DNSP Inputs O&M'!$F$15","v":63.64},1,{"$f":"'DNSP Inputs O&M'!$F$17","v":7.5},{"$f":"BC402*BD402*BE402","v":477.3},null,null,null,{"$f":"'DNSP Inputs O&M'!$F$15","v":63.64},1,{"$f":"'DNSP Inputs O&M'!$F$17","v":7.5},{"$f":"BJ402*BK402*BL402","v":477.3},null,null,null,null,null,{"$f":"'DNSP Inputs O&M'!$G$14","v":50.18},1,{"$f":"'DNSP Inputs O&M'!$G$17","v":7.5},{"$f":"BS402*BT402*BU402","v":376.35},null,null,null,{"$f":"'DNSP Inputs O&M'!$G$15","v":63.64},1,{"$f":"'DNSP Inputs O&M'!$G$17","v":7.5},{"$f":"BZ402*CA402*CB402","v":477.3},null,null,null,{"$f":"'DNSP Inputs O&M'!$G$15","v":63.64},1,{"$f":"'DNSP Inputs O&M'!$G$17","v":7.5},{"$f":"CG402*CH402*CI402","v":477.3},null,null,null,null,null,{"$f":"'DNSP Inputs O&M'!$H$14","v":50.18},1,{"$f":"'DNSP Inputs O&M'!$H$17","v":7.5},{"$f":"CP402*CQ402*CR402","v":376.35},null,null,null,{"$f":"'DNSP Inputs O&M'!$H$15","v":63.64},1,{"$f":"'DNSP Inputs O&M'!$H$17","v":7.5},{"$f":"CW402*CX402*CY402","v":477.3},null,null,null,{"$f":"'DNSP Inputs O&M'!$H$15","v":63.64},1,{"$f":"'DNSP Inputs O&M'!$H$17","v":7.5},{"$f":"DD402*DE402*DF402","v":477.3}]
["Other Maintenance and Repair costs",null,null,null,null,null,{"$f":"'DNSP Inputs O&M'!$D$396","v":2.1},null,null,null,null,null,null,{"$f":"'DNSP Inputs O&M'!$D$396","v":2.1},null,null,null,null,null,null,{"$f":"'DNSP Inputs O&M'!$D$396","v":2.1},null,null,null,null,null,null,null,null,{"$f":"'DNSP Inputs O&M'!$E$396","v":2.1},null,null,null,null,null,null,{"$f":"'DNSP Inputs O&M'!$E$396","v":2.1},null,null,null,null,null,null,{"$f":"'DNSP Inputs O&M'!$E$396","v":2.1},null,null,null,null,null,null,null,null,{"$f":"'DNSP Inputs O&M'!$F$396","v":2.1},null,null,null,null,null,null,{"$f":"'DNSP Inputs O&M'!$F$396","v":2.1},null,null,null,null,null,null,{"$f":"'DNSP Inputs O&M'!$F$396","v":2.1},null,null,null,null,null,null,null,null,{"$f":"'DNSP Inputs O&M'!$G$396","v":2.1},null,null,null,null,null,null,{"$f":"'DNSP Inputs O&M'!$G$396","v":2.1},null,null,null,null,null,null,{"$f":"'DNSP Inputs O&M'!$G$396","v":2.1},null,null,null,null,null,null,null,null,{"$f":"'DNSP Inputs O&M'!$H$396","v":2.1},null,null,null,null,null,null,{"$f":"'DNSP Inputs O&M'!$H$396","v":2.1},null,null,null,null,null,null,{"$f":"'DNSP Inputs O&M'!$H$396","v":2.1}]
[]
["Overheads",{"$f":"'DNSP Inputs O&M'!$D$18","v":0.25},null,null,null,null,{"$f":"B405*SUM(G392:G403)","v":3.8182546301726417},null,{"$f":"'DNSP Inputs O&M'!$D$18","v":0.25},null,null,null,null,{"$f":"I405*SUM(N392:N403)","v":4.9744401685531736},null,{"$f":"'DNSP Inputs O&M'!$D$18","v":0.25},null,null,null,null,{"$f":"P405*SUM(U392:U403)","v":7.0676845579130445},null,null,null,{"$f":"'DNSP Inputs O&M'!$E$18","v":0.25},null,null,null,null,{"$f":"Y405*SUM(AD392:AD403)","v":{"$error":"#REF!"}},null,{"$f":"'DNSP Inputs O&M'!$E$18","v":0.25},null,null,null,null,{"$f":"AF405*SUM(AK392:AK403)","v":{"$error":"#REF!"}},null,{"$f":"'DNSP Inputs O&M'!$E$18","v":0.25},null,null,null,null,{"$f":"AM405*SUM(AR392:AR403)","v":{"$error":"#REF!"}},null,null,null,{"$f":"'DNSP Inputs O&M'!$F$18","v":0.25},null,null,null,null,{"$f":"AV405*SUM(BA392:BA403)","v":{"$error":"#REF!"}},null,{"$f":"'DNSP Inputs O&M'!$F$18","v":0.25},null,null,null,null,{"$f":"BC405*SUM(BH392:BH403)","v":{"$error":"#REF!"}},null,{"$f":"'DNSP Inputs O&M'!$F$18","v":0.25},null,null,null,null,{"$f":"BJ405*SUM(BO392:BO403)","v":{"$error":"#REF!"}},null,null,null,{"$f":"'DNSP Inputs O&M'!$G$18","v":0.25},null,null,null,null,{"$f":"BS405*SUM(BX392:BX403)","v":{"$error":"#REF!"}},null,{"$f":"'DNSP Inputs O&M'!$G$18","v":0.25},null,null,null,null,{"$f":"BZ405*SUM(CE392:CE403)","v":{"$error":"#REF!"}},null,{"$f":"'DNSP Inputs O&M'!$G$18","v":0.25},null,null,null,null,{"$f":"CG405*SUM(CL392:CL403)","v":{"$error":"#REF!"}},null,null,null,{"$f":"'DNSP Inputs O&M'!$H$18","v":0.25},null,null,null,null,{"$f":"CP405*SUM(CU392:CU403)","v":{"$error":"#REF!"}},null,{"$f":"'DNSP Inputs O&M'!$H$18","v":0.25},null,null,null,null,{"$f":"CW405*SUM(DB392:DB403)","v":{"$error":"#REF!"}},null,{"$f":"'DNSP Inputs O&M'!$H$18","v":0.25},null,null,null,null,{"$f":"DD405*SUM(DI392:DI403)","v":{"$error":"#REF!"}}]
[]
[null,null,null,null,null,null,{"$f":"SUM(G392,G394,G398,G401,G403,G405)","v":19.091273150863209},null,null,null,null,null,null,{"$f":"SUM(N392,N394,N398,N401,N403,N405)","v":24.872200842765867},null,null,null,null,null,null,{"$f":"SUM(U392,U394,U398,U401,U403,U405)","v":35.338422789565222},null,null,null,null,null,null,null,null,{"$f":"SUM(AD392,AD394,AD398,AD401,AD403,AD405)","v":{"$error":"#REF!"}},null,null,null,null,null,null,{"$f":"SUM(AK392,AK394,AK398,AK401,AK403,AK405)","v":{"$error":"#REF!"}},null,null,null,null,null,null,{"$f":"SUM(AR392,AR394,AR398,AR401,AR403,AR405)","v":{"$error":"#REF!"}},null,null,null,null,null,null,null,null,{"$f":"SUM(BA392,BA394,BA398,BA401,BA403,BA405)","v":{"$error":"#REF!"}},null,null,null,null,null,null,{"$f":"SUM(BH392,BH394,BH398,BH401,BH403,BH405)","v":{"$error":"#REF!"}},null,null,null,null,null,null,{"$f":"SUM(BO392,BO394,BO398,BO401,BO403,BO405)","v":{"$error":"#REF!"}},null,null,null,null,null,null,null,null,{"$f":"SUM(BX392,BX394,BX398,BX401,BX403,BX405)","v":{"$error":"#REF!"}},null,null,null,null,null,null,{"$f":"SUM(CE392,CE394,CE398,CE401,CE403,CE405)","v":{"$error":"#REF!"}},null,null,null,null,null,null,{"$f":"SUM(CL392,CL394,CL398,CL401,CL403,CL405)","v":{"$error":"#REF!"}},null,null,null,null,null,null,null,null,{"$f":"SUM(CU392,CU394,CU398,CU401,CU403,CU405)","v":{"$error":"#REF!"}},null,null,null,null,null,null,{"$f":"SUM(DB392,DB394,DB398,DB401,DB403,DB405)","v":{"$error":"#REF!"}},null,null,null,null,null,null,{"$f":"SUM(DI392,DI394,DI398,DI401,DI403,DI405)","v":{"$error":"#REF!"}}]
[]
[]
[]
["NEW"]
["Category P LED 155 Watt (L2) - Cost build-up"]
[]
["Additional assumptions"]
[]
[]
["Overheads are applied to material and labour components"]
["All costs and charges are exclusive of GST"]
[]
[null,"Urban",null,null,null,null,null,null,"Rural",null,null,null,null,null,null,"Remote",null,null,null,null,null,null,null,null,"Urban",null,null,null,null,null,null,"Rural",null,null,null,null,null,null,"Remote",null,null,null,null,null,null,null,null,"Urban",null,null,null,null,null,null,"Rural",null,null,null,null,null,null,"Remote",null,null,null,null,null,null,null,null,"Urban",null,null,null,null,null,null,"Rural",null,null,null,null,null,null,"Remote",null,null,null,null,null,null,null,null,"Urban",null,null,null,null,null,null,"Rural",null,null,null,null,null,null,"Remote"]
[]
[null,"Unit rate","Number","Hours","Cost","Annualised","Annualised",null,"Unit rate","Number","Hours","Cost","Annualised","Annualised",null,"Unit rate","Number","Hours","Cost","Annualised","Annualised",null,null,null,"Unit rate","Number","Hours","Cost","Annualised","Annualised",null,"Unit rate","Number","Hours","Cost","Annualised","Annualised",null,"Unit rate","Number","Hours","Cost","Annualised","Annualised",null,null,null,"Unit rate","Number","Hours","Cost","Annualised","Annualised",null,"Unit rate","Number","Hours","Cost","Annualised","Annualised",null,"Unit rate","Number","Hours","Cost","Annualised","Annualised",null,null,null,"Unit rate","Number","Hours","Cost","Annualised","Annualised",null,"Unit rate","Number","Hours","Cost","Annualised","Annualised",null,"Unit rate","Number","Hours","Cost","Annualised","Annualised",null,null,null,"Unit rate","Number","Hours","Cost","Annualised","Annualised",null,"Unit rate","Number","Hours","Cost","Annualised","Annualised",null,"Unit rate","Number","Hours","Cost","Annualised","Annualised"]
[null,null,null,null,null," cost","unit cost",null,null,null,null,null," cost","unit cost",null,null,null,null,null," cost","unit cost",null,null,null,null,null,null,null," cost","unit cost",null,null,null,null,null," cost","unit cost",null,null,null,null,null," cost","unit cost",null,null,null,null,null,null,null," cost","unit cost",null,null,null,null,null," cost","unit cost",null,null,null,null,null," cost","unit cost",null,null,null,null,null,null,null," cost","unit cost",null,null,null,null,null," cost","unit cost",null,null,null,null,null," cost","unit cost",null,null,null,null,null,null,null," cost","unit cost",null,null,null,null,null," cost","unit cost",null,null,null,null,null," cost","unit cost"]
["LED 155W (L2)"]
["Patrols & repairs"]
[]
[]
["Materials - repair of faults"]
["PE cell",{"$f":"'DNSP Inputs O&M'!$D$423","v":25.041364999999999},{"$f":"'DNSP Inputs O&M'!$D$430*'DNSP Inputs O&M'!$D$433","v":17.100000000000001},null,{"$f":"B429*C429","v":428.20734150000004},{"$f":"(E429+E430+E431)/'DNSP Inputs O&M'!$D$427","v":0.15742179150209082},{"$f":"F429*'DNSP Inputs O&M'!$D$421","v":0.47226537450627248},null,{"$f":"'DNSP Inputs O&M'!$D$377*(1+'DNSP Inputs O&M'!$D$11)","v":26.29343325},{"$f":"'DNSP Inputs O&M'!$D$431*'DNSP Inputs O&M'!$D$433","v":13.5},null,{"$f":"I429*J429","v":354.961348875},{"$f":"(L429+L430+L431)/'DNSP Inputs O&M'!$D$428","v":0.19574156969667869},{"$f":"M429*'DNSP Inputs O&M'!$D$421","v":0.5872247090900361},null,{"$f":"'DNSP Inputs O&M'!$D$377*(1+'DNSP Inputs O&M'!$D$11)","v":26.29343325},{"$f":"'DNSP Inputs O&M'!$D$432*'DNSP Inputs O&M'!$D$433","v":9.9},null,{"$f":"P429*Q429","v":260.304989175},{"$f":"(S429+S430+S431)/'DNSP Inputs O&M'!$D$429","v":0.28708763555512873},{"$f":"T429*'DNSP Inputs O&M'!$D$421","v":0.86126290666538619},null,null,null,{"$f":"'DNSP Inputs O&M'!$E$423","v":25.041364999999999},{"$f":"'DNSP Inputs O&M'!$E$430*'DNSP Inputs O&M'!$E$433","v":17.100000000000001},null,{"$f":"Y429*Z429","v":428.20734150000004},{"$f":"(AB429+AB430+AB431)/'DNSP Inputs O&M'!$E$427","v":0.15742179150209082},{"$f":"AC429*'DNSP Inputs O&M'!$E$421","v":0.47226537450627248},null,{"$f":"'DNSP Inputs O&M'!$E$377*(1+'DNSP Inputs O&M'!$E$11)","v":26.29343325},{"$f":"'DNSP Inputs O&M'!$E$431*'DNSP Inputs O&M'!$E$433","v":13.5},null,{"$f":"AF429*AG429","v":354.961348875},{"$f":"(AI429+AI430+AI431)/'DNSP Inputs O&M'!$E$428","v":0.19574156969667869},{"$f":"AJ429*'DNSP Inputs O&M'!$E$421","v":0.5872247090900361},null,{"$f":"'DNSP Inputs O&M'!$E$377*(1+'DNSP Inputs O&M'!$E$11)","v":26.29343325},{"$f":"'DNSP Inputs O&M'!$E$432*'DNSP Inputs O&M'!$E$433","v":9.9},null,{"$f":"AM429*AN429","v":260.304989175},{"$f":"(AP429+AP430+AP431)/'DNSP Inputs O&M'!$E$429","v":0.28708763555512873},{"$f":"AQ429*'DNSP Inputs O&M'!$E$421","v":0.86126290666538619},null,null,null,{"$f":"'DNSP Inputs O&M'!$F$423","v":25.041364999999999},{"$f":"'DNSP Inputs O&M'!$F$430*'DNSP Inputs O&M'!$F$433","v":17.100000000000001},null,{"$f":"AV429*AW429","v":428.20734150000004},{"$f":"(AY429+AY430+AY431)/'DNSP Inputs O&M'!$F$427","v":0.15742179150209082},{"$f":"AZ429*'DNSP Inputs O&M'!$F$421","v":0.47226537450627248},null,{"$f":"'DNSP Inputs O&M'!$F$377*(1+'DNSP Inputs O&M'!$F$11)","v":26.29343325},{"$f":"'DNSP Inputs O&M'!$F$431*'DNSP Inputs O&M'!$F$433","v":13.5},null,{"$f":"BC429*BD429","v":354.961348875},{"$f":"(BF429+BF430+BF431)/'DNSP Inputs O&M'!$F$428","v":0.19574156969667869},{"$f":"BG429*'DNSP Inputs O&M'!$F$421","v":0.5872247090900361},null,{"$f":"'DNSP Inputs O&M'!$F$377*(1+'DNSP Inputs O&M'!$F$11)","v":26.29343325},{"$f":"'DNSP Inputs O&M'!$F$432*'DNSP Inputs O&M'!$F$433","v":9.9},null,{"$f":"BJ429*BK429","v":260.304989175},{"$f":"(BM429+BM430+BM431)/'DNSP Inputs O&M'!$F$429","v":0.28708763555512873},{"$f":"BN429*'DNSP Inputs O&M'!$F$421","v":0.86126290666538619},null,null,null,{"$f":"'DNSP Inputs O&M'!$G$423","v":25.041364999999999},{"$f":"'DNSP Inputs O&M'!$G$430*'DNSP Inputs O&M'!$G$433","v":17.100000000000001},null,{"$f":"BS429*BT429","v":428.20734150000004},{"$f":"(BV429+BV430+BV431)/'DNSP Inputs O&M'!$G$427","v":0.15742179150209082},{"$f":"BW429*'DNSP Inputs O&M'!$G$421","v":0.47226537450627248},null,{"$f":"'DNSP Inputs O&M'!$G$377*(1+'DNSP Inputs O&M'!$G$11)","v":26.29343325},{"$f":"'DNSP Inputs O&M'!$G$431*'DNSP Inputs O&M'!$G$433","v":13.5},null,{"$f":"BZ429*CA429","v":354.961348875},{"$f":"(CC429+CC430+CC431)/'DNSP Inputs O&M'!$G$428","v":0.19574156969667869},{"$f":"CD429*'DNSP Inputs O&M'!$G$421","v":0.5872247090900361},null,{"$f":"'DNSP Inputs O&M'!$G$377*(1+'DNSP Inputs O&M'!$G$11)","v":26.29343325},{"$f":"'DNSP Inputs O&M'!$G$432*'DNSP Inputs O&M'!$G$433","v":9.9},null,{"$f":"CG429*CH429","v":260.304989175},{"$f":"(CJ429+CJ430+CJ431)/'DNSP Inputs O&M'!$G$429","v":0.28708763555512873},{"$f":"CK429*'DNSP Inputs O&M'!$G$421","v":0.86126290666538619},null,null,null,{"$f":"'DNSP Inputs O&M'!$H$423","v":25.041364999999999},{"$f":"'DNSP Inputs O&M'!$H$430*'DNSP Inputs O&M'!$H$433","v":17.100000000000001},null,{"$f":"CP429*CQ429","v":428.20734150000004},{"$f":"(CS429+CS430+CS431)/'DNSP Inputs O&M'!$H$427","v":0.15742179150209082},{"$f":"CT429*'DNSP Inputs O&M'!$H$421","v":0.47226537450627248},null,{"$f":"'DNSP Inputs O&M'!$H$377*(1+'DNSP Inputs O&M'!$H$11)","v":26.29343325},{"$f":"'DNSP Inputs O&M'!$H$431*'DNSP Inputs O&M'!$H$433","v":13.5},null,{"$f":"CW429*CX429","v":354.961348875},{"$f":"(CZ429+CZ430+CZ431)/'DNSP Inputs O&M'!$H$428","v":0.19574156969667869},{"$f":"DA429*'DNSP Inputs O&M'!$H$421","v":0.5872247090900361},null,{"$f":"'DNSP Inputs O&M'!$H$377*(1+'DNSP Inputs O&M'!$H$11)","v":26.29343325},{"$f":"'DNSP Inputs O&M'!$H$432*'DNSP Inputs O&M'!$H$433","v":9.9},null,{"$f":"DD429*DE429","v":260.304989175},{"$f":"(DG429+DG430+DG431)/'DNSP Inputs O&M'!$H$429","v":0.28708763555512873},{"$f":"DH429*'DNSP Inputs O&M'!$H$421","v":0.86126290666538619}]
["Luminaire",{"$f":"'DNSP Inputs O&M'!$D$424","v":1270.4308997249998},{"$f":"'DNSP Inputs O&M'!$D$430*'DNSP Inputs O&M'!$D$434","v":0},null,{"$f":"B430*C430","v":0},null,null,null,{"$f":"'DNSP Inputs O&M'!$D$378*(1+'DNSP Inputs O&M'!$D$11)","v":1282.4301416062499},{"$f":"'DNSP Inputs O&M'!$D$431*'DNSP Inputs O&M'!$D$434","v":0},null,{"$f":"I430*J430","v":0},null,null,null,{"$f":"'DNSP Inputs O&M'!$D$378*(1+'DNSP Inputs O&M'!$D$11)","v":1282.4301416062499},{"$f":"'DNSP Inputs O&M'!$D$432*'DNSP Inputs O&M'!$D$434","v":0},null,{"$f":"P430*Q430","v":0},null,null,null,null,null,{"$f":"'DNSP Inputs O&M'!$E$424","v":1270.4308997249998},{"$f":"'DNSP Inputs O&M'!$E$430*'DNSP Inputs O&M'!$E$434","v":0},null,{"$f":"Y430*Z430","v":0},null,null,null,{"$f":"'DNSP Inputs O&M'!$E$378*(1+'DNSP Inputs O&M'!$E$11)","v":1282.4301416062499},{"$f":"'DNSP Inputs O&M'!$E$431*'DNSP Inputs O&M'!$E$434","v":0},null,{"$f":"AF430*AG430","v":0},null,null,null,{"$f":"'DNSP Inputs O&M'!$E$378*(1+'DNSP Inputs O&M'!$E$11)","v":1282.4301416062499},{"$f":"'DNSP Inputs O&M'!$E$432*'DNSP Inputs O&M'!$E$434","v":0},null,{"$f":"AM430*AN430","v":0},null,null,null,null,null,{"$f":"'DNSP Inputs O&M'!$F$424","v":1270.4308997249998},{"$f":"'DNSP Inputs O&M'!$F$430*'DNSP Inputs O&M'!$F$434","v":0},null,{"$f":"AV430*AW430","v":0},null,null,null,{"$f":"'DNSP Inputs O&M'!$F$378*(1+'DNSP Inputs O&M'!$F$11)","v":1282.4301416062499},{"$f":"'DNSP Inputs O&M'!$F$431*'DNSP Inputs O&M'!$F$434","v":0},null,{"$f":"BC430*BD430","v":0},null,null,null,{"$f":"'DNSP Inputs O&M'!$F$378*(1+'DNSP Inputs O&M'!$F$11)","v":1282.4301416062499},{"$f":"'DNSP Inputs O&M'!$F$432*'DNSP Inputs O&M'!$F$434","v":0},null,{"$f":"BJ430*BK430","v":0},null,null,null,null,null,{"$f":"'DNSP Inputs O&M'!$G$424","v":1270.4308997249998},{"$f":"'DNSP Inputs O&M'!$G$430*'DNSP Inputs O&M'!$G$434","v":0},null,{"$f":"BS430*BT430","v":0},null,null,null,{"$f":"'DNSP Inputs O&M'!$G$378*(1+'DNSP Inputs O&M'!$G$11)","v":1282.4301416062499},{"$f":"'DNSP Inputs O&M'!$G$431*'DNSP Inputs O&M'!$G$434","v":0},null,{"$f":"BZ430*CA430","v":0},null,null,null,{"$f":"'DNSP Inputs O&M'!$G$378*(1+'DNSP Inputs O&M'!$G$11)","v":1282.4301416062499},{"$f":"'DNSP Inputs O&M'!$G$432*'DNSP Inputs O&M'!$G$434","v":0},null,{"$f":"CG430*CH430","v":0},null,null,null,null,null,{"$f":"'DNSP Inputs O&M'!$H$424","v":1270.4308997249998},{"$f":"'DNSP Inputs O&M'!$H$430*'DNSP Inputs O&M'!$H$434","v":0},null,{"$f":"CP430*CQ430","v":0},null,null,null,{"$f":"'DNSP Inputs O&M'!$H$378*(1+'DNSP Inputs O&M'!$H$11)","v":1282.4301416062499},{"$f":"'DNSP Inputs O&M'!$H$431*'DNSP Inputs O&M'!$H$434","v":0},null,{"$f":"CW430*CX430","v":0},null,null,null,{"$f":"'DNSP Inputs O&M'!$H$378*(1+'DNSP Inputs O&M'!$H$11)","v":1282.4301416062499},{"$f":"'DNSP Inputs O&M'!$H$432*'DNSP Inputs O&M'!$H$434","v":0},null,{"$f":"DD430*DE430","v":0}]
["Miscellaneous",{"$f":"'DNSP Inputs O&M'!$D$425","v":23.188438424353883},{"$f":"'DNSP Inputs O&M'!$D$430*'DNSP Inputs O&M'!$D$435","v":1.9000000000000001},null,{"$f":"B431*C431","v":44.058033006272382},null,null,null,{"$f":"'DNSP Inputs O&M'!$D$379*(1+'DNSP Inputs O&M'!$D$11)","v":24.347860345571579},{"$f":"'DNSP Inputs O&M'!$D$431*'DNSP Inputs O&M'!$D$435","v":1.5},null,{"$f":"I431*J431","v":36.521790518357371},null,null,null,{"$f":"'DNSP Inputs O&M'!$D$379*(1+'DNSP Inputs O&M'!$D$11)","v":24.347860345571579},{"$f":"'DNSP Inputs O&M'!$D$432*'DNSP Inputs O&M'!$D$435","v":1.1000000000000001},null,{"$f":"P431*Q431","v":26.782646380128739},null,null,null,null,null,{"$f":"'DNSP Inputs O&M'!$E$425","v":23.188438424353883},{"$f":"'DNSP Inputs O&M'!$E$430*'DNSP Inputs O&M'!$E$435","v":1.9000000000000001},null,{"$f":"Y431*Z431","v":44.058033006272382},null,null,null,{"$f":"'DNSP Inputs O&M'!$E$379*(1+'DNSP Inputs O&M'!$E$11)","v":24.347860345571579},{"$f":"'DNSP Inputs O&M'!$E$431*'DNSP Inputs O&M'!$E$435","v":1.5},null,{"$f":"AF431*AG431","v":36.521790518357371},null,null,null,{"$f":"'DNSP Inputs O&M'!$E$379*(1+'DNSP Inputs O&M'!$E$11)","v":24.347860345571579},{"$f":"'DNSP Inputs O&M'!$E$432*'DNSP Inputs O&M'!$E$435","v":1.1000000000000001},null,{"$f":"AM431*AN431","v":26.782646380128739},null,null,null,null,null,{"$f":"'DNSP Inputs O&M'!$F$425","v":23.188438424353883},{"$f":"'DNSP Inputs O&M'!$F$430*'DNSP Inputs O&M'!$F$435","v":1.9000000000000001},null,{"$f":"AV431*AW431","v":44.058033006272382},null,null,null,{"$f":"'DNSP Inputs O&M'!$F$379*(1+'DNSP Inputs O&M'!$F$11)","v":24.347860345571579},{"$f":"'DNSP Inputs O&M'!$F$431*'DNSP Inputs O&M'!$F$435","v":1.5},null,{"$f":"BC431*BD431","v":36.521790518357371},null,null,null,{"$f":"'DNSP Inputs O&M'!$F$379*(1+'DNSP Inputs O&M'!$F$11)","v":24.347860345571579},{"$f":"'DNSP Inputs O&M'!$F$432*'DNSP Inputs O&M'!$F$435","v":1.1000000000000001},null,{"$f":"BJ431*BK431","v":26.782646380128739},null,null,null,null,null,{"$f":"'DNSP Inputs O&M'!$G$425","v":23.188438424353883},{"$f":"'DNSP Inputs O&M'!$G$430*'DNSP Inputs O&M'!$G$435","v":1.9000000000000001},null,{"$f":"BS431*BT431","v":44.058033006272382},null,null,null,{"$f":"'DNSP Inputs O&M'!$G$379*(1+'DNSP Inputs O&M'!$G$11)","v":24.347860345571579},{"$f":"'DNSP Inputs O&M'!$G$431*'DNSP Inputs O&M'!$G$435","v":1.5},null,{"$f":"BZ431*CA431","v":36.521790518357371},null,null,null,{"$f":"'DNSP Inputs O&M'!$G$379*(1+'DNSP Inputs O&M'!$G$11)","v":24.347860345571579},{"$f":"'DNSP Inputs O&M'!$G$432*'DNSP Inputs O&M'!$G$435","v":1.1000000000000001},null,{"$f":"CG431*CH431","v":26.782646380128739},null,null,null,null,null,{"$f":"'DNSP Inputs O&M'!$H$425","v":23.188438424353883},{"$f":"'DNSP Inputs O&M'!$H$430*'DNSP Inputs O&M'!$H$435","v":1.9000000000000001},null,{"$f":"CP431*CQ431","v":44.058033006272382},null,null,null,{"$f":"'DNSP Inputs O&M'!$H$379*(1+'DNSP Inputs O&M'!$H$11)","v":24.347860345571579},{"$f":"'DNSP Inputs O&M'!$H$431*'DNSP Inputs O&M'!$H$435","v":1.5},null,{"$f":"CW431*CX431","v":36.521790518357371},null,null,null,{"$f":"'DNSP Inputs O&M'!$H$379*(1+'DNSP Inputs O&M'!$H$11)","v":24.347860345571579},{"$f":"'DNSP Inputs O&M'!$H$432*'DNSP Inputs O&M'!$H$435","v":1.1000000000000001},null,{"$f":"DD431*DE431","v":26.782646380128739}]
["Labour - Patrol"]
["Crew costs",{"$f":"'DNSP Inputs O&M'!$D$12","v":111.36223236834823},{"$f":"'DNSP Inputs O&M'!$D$426","v":2},{"$f":"'DNSP Inputs O&M'!$D$17","v":7.5},{"$f":"B433*C433*D433","v":1670.4334855252234},{"$f":"E433/'DNSP Inputs O&M'!$D$427","v":0.55681116184174118},{"$f":"(F433+F434)*'DNSP Inputs O&M'!$D$421","v":1.9282084855252237},null,{"$f":"'DNSP Inputs O&M'!$D$12","v":111.36223236834823},{"$f":"'DNSP Inputs O&M'!$D$426","v":2},{"$f":"'DNSP Inputs O&M'!$D$17","v":7.5},{"$f":"I433*J433*K433","v":1670.4334855252234},{"$f":"L433/'DNSP Inputs O&M'!$D$428","v":0.83521674276261171},{"$f":"(M433+M434)*'DNSP Inputs O&M'!$D$421","v":2.8923127282878349},null,{"$f":"'DNSP Inputs O&M'!$D$12","v":111.36223236834823},{"$f":"'DNSP Inputs O&M'!$D$426","v":2},{"$f":"'DNSP Inputs O&M'!$D$17","v":7.5},{"$f":"P433*Q433*R433","v":1670.4334855252234},{"$f":"S433/'DNSP Inputs O&M'!$D$429","v":1.6704334855252234},{"$f":"(T433+T434)*'DNSP Inputs O&M'!$D$421","v":5.7846254565756698},null,null,null,{"$f":"'DNSP Inputs O&M'!$E$12","v":{"$error":"#REF!"}},{"$f":"'DNSP Inputs O&M'!$E$426","v":2},{"$f":"'DNSP Inputs O&M'!$E$17","v":7.5},{"$f":"Y433*Z433*AA433","v":{"$error":"#REF!"}},{"$f":"AB433/'DNSP Inputs O&M'!$E$427","v":{"$error":"#REF!"}},{"$f":"(AC433+AC434)*'DNSP Inputs O&M'!$E$421","v":{"$error":"#REF!"}},null,{"$f":"'DNSP Inputs O&M'!$E$12","v":{"$error":"#REF!"}},{"$f":"'DNSP Inputs O&M'!$E$426","v":2},{"$f":"'DNSP Inputs O&M'!$E$17","v":7.5},{"$f":"AF433*AG433*AH433","v":{"$error":"#REF!"}},{"$f":"AI433/'DNSP Inputs O&M'!$E$428","v":{"$error":"#REF!"}},{"$f":"(AJ433+AJ434)*'DNSP Inputs O&M'!$E$421","v":{"$error":"#REF!"}},null,{"$f":"'DNSP Inputs O&M'!$E$12","v":{"$error":"#REF!"}},{"$f":"'DNSP Inputs O&M'!$E$426","v":2},{"$f":"'DNSP Inputs O&M'!$E$17","v":7.5},{"$f":"AM433*AN433*AO433","v":{"$error":"#REF!"}},{"$f":"AP433/'DNSP Inputs O&M'!$E$429","v":{"$error":"#REF!"}},{"$f":"(AQ433+AQ434)*'DNSP Inputs O&M'!$E$421","v":{"$error":"#REF!"}},null,null,null,{"$f":"'DNSP Inputs O&M'!$F$12","v":{"$error":"#REF!"}},{"$f":"'DNSP Inputs O&M'!$F$426","v":2},{"$f":"'DNSP Inputs O&M'!$F$17","v":7.5},{"$f":"AV433*AW433*AX433","v":{"$error":"#REF!"}},{"$f":"AY433/'DNSP Inputs O&M'!$F$427","v":{"$error":"#REF!"}},{"$f":"(AZ433+AZ434)*'DNSP Inputs O&M'!$F$421","v":{"$error":"#REF!"}},null,{"$f":"'DNSP Inputs O&M'!$F$12","v":{"$error":"#REF!"}},{"$f":"'DNSP Inputs O&M'!$F$426","v":2},{"$f":"'DNSP Inputs O&M'!$F$17","v":7.5},{"$f":"BC433*BD433*BE433","v":{"$error":"#REF!"}},{"$f":"BF433/'DNSP Inputs O&M'!$F$428","v":{"$error":"#REF!"}},{"$f":"(BG433+BG434)*'DNSP Inputs O&M'!$F$421","v":{"$error":"#REF!"}},null,{"$f":"'DNSP Inputs O&M'!$F$12","v":{"$error":"#REF!"}},{"$f":"'DNSP Inputs O&M'!$F$426","v":2},{"$f":"'DNSP Inputs O&M'!$F$17","v":7.5},{"$f":"BJ433*BK433*BL433","v":{"$error":"#REF!"}},{"$f":"BM433/'DNSP Inputs O&M'!$F$429","v":{"$error":"#REF!"}},{"$f":"(BN433+BN434)*'DNSP Inputs O&M'!$F$421","v":{"$error":"#REF!"}},null,null,null,{"$f":"'DNSP Inputs O&M'!$G$12","v":{"$error":"#REF!"}},{"$f":"'DNSP Inputs O&M'!$G$426","v":2},{"$f":"'DNSP Inputs O&M'!$G$17","v":7.5},{"$f":"BS433*BT433*BU433","v":{"$error":"#REF!"}},{"$f":"BV433/'DNSP Inputs O&M'!$G$427","v":{"$error":"#REF!"}},{"$f":"(BW433+BW434)*'DNSP Inputs O&M'!$G$421","v":{"$error":"#REF!"}},null,{"$f":"'DNSP Inputs O&M'!$G$12","v":{"$error":"#REF!"}},{"$f":"'DNSP Inputs O&M'!$G$426","v":2},{"$f":"'DNSP Inputs O&M'!$G$17","v":7.5},{"$f":"BZ433*CA433*CB433","v":{"$error":"#REF!"}},{"$f":"CC433/'DNSP Inputs O&M'!$G$428","v":{"$error":"#REF!"}},{"$f":"(CD433+CD434)*'DNSP Inputs O&M'!$G$421","v":{"$error":"#REF!"}},null,{"$f":"'DNSP Inputs O&M'!$G$12","v":{"$error":"#REF!"}},{"$f":"'DNSP Inputs O&M'!$G$426","v":2},{"$f":"'DNSP Inputs O&M'!$G$17","v":7.5},{"$f":"CG433*CH433*CI433","v":{"$error":"#REF!"}},{"$f":"CJ433/'DNSP Inputs O&M'!$G$429","v":{"$error":"#REF!"}},{"$f":"(CK433+CK434)*'DNSP Inputs O&M'!$G$421","v":{"$error":"#REF!"}},null,null,null,{"$f":"'DNSP Inputs O&M'!$H$12","v":{"$error":"#REF!"}},{"$f":"'DNSP Inputs O&M'!$H$426","v":2},{"$f":"'DNSP Inputs O&M'!$H$17","v":7.5},{"$f":"CP433*CQ433*CR433","v":{"$error":"#REF!"}},{"$f":"CS433/'DNSP Inputs O&M'!$H$427","v":{"$error":"#REF!"}},{"$f":"(CT433+CT434)*'DNSP Inputs O&M'!$H$421","v":{"$error":"#REF!"}},null,{"$f":"'DNSP Inputs O&M'!$H$12","v":{"$error":"#REF!"}},{"$f":"'DNSP Inputs O&M'!$H$426","v":2},{"$f":"'DNSP Inputs O&M'!$H$17","v":7.5},{"$f":"CW433*CX433*CY433","v":{"$error":"#REF!"}},{"$f":"CZ433/'DNSP Inputs O&M'!$H$428","v":{"$error":"#REF!"}},{"$f":"(DA433+DA434)*'DNSP Inputs O&M'!$H$421","v":{"$error":"#REF!"}},null,{"$f":"'DNSP Inputs O&M'!$H$12","v":{"$error":"#REF!"}},{"$f":"'DNSP Inputs O&M'!$H$426","v":2},{"$f":"'DNSP Inputs O&M'!$H$17","v":7.5},{"$f":"DD433*DE433*DF433","v":{"$error":"#REF!"}},{"$f":"DG433/'DNSP Inputs O&M'!$H$429","v":{"$error":"#REF!"}},{"$f":"(DH433+DH434)*'DNSP Inputs O&M'!$H$421","v":{"$error":"#REF!"}}]
["Vehicle costs",{"$f":"'DNSP Inputs O&M'!$D$16","v":34.369999999999997},1,{"$f":"'DNSP Inputs O&M'!$D$17","v":7.5},{"$f":"B434*C434*D434","v":257.77499999999998},{"$f":"E434/'DNSP Inputs O&M'!$D$427","v":8.5924999999999987E-2},null,null,{"$f":"'DNSP Inputs O&M'!$D$16","v":34.369999999999997},1,{"$f":"'DNSP Inputs O&M'!$D$17","v":7.5},{"$f":"I434*J434*K434","v":257.77499999999998},{"$f":"L434/'DNSP Inputs O&M'!$D$428","v":0.12888749999999999},null,null,{"$f":"'DNSP Inputs O&M'!$D$16","v":34.369999999999997},1,{"$f":"'DNSP Inputs O&M'!$D$17","v":7.5},{"$f":"P434*Q434*R434","v":257.77499999999998},{"$f":"S434/'DNSP Inputs O&M'!$D$429","v":0.25777499999999998},null,null,null,null,{"$f":"'DNSP Inputs O&M'!$E$16","v":34.369999999999997},1,{"$f":"'DNSP Inputs O&M'!$E$17","v":7.5},{"$f":"Y434*Z434*AA434","v":257.77499999999998},{"$f":"AB434/'DNSP Inputs O&M'!$E$427","v":8.5924999999999987E-2},null,null,{"$f":"'DNSP Inputs O&M'!$E$16","v":34.369999999999997},1,{"$f":"'DNSP Inputs O&M'!$E$17","v":7.5},{"$f":"AF434*AG434*AH434","v":257.77499999999998},{"$f":"AI434/'DNSP Inputs O&M'!$E$428","v":0.12888749999999999},null,null,{"$f":"'DNSP Inputs O&M'!$E$16","v":34.369999999999997},1,{"$f":"'DNSP Inputs O&M'!$E$17","v":7.5},{"$f":"AM434*AN434*AO434","v":257.77499999999998},{"$f":"AP434/'DNSP Inputs O&M'!$E$429","v":0.25777499999999998},null,null,null,null,{"$f":"'DNSP Inputs O&M'!$F$16","v":34.369999999999997},1,{"$f":"'DNSP Inputs O&M'!$F$17","v":7.5},{"$f":"AV434*AW434*AX434","v":257.77499999999998},{"$f":"AY434/'DNSP Inputs O&M'!$F$427","v":8.5924999999999987E-2},null,null,{"$f":"'DNSP Inputs O&M'!$F$16","v":34.369999999999997},1,{"$f":"'DNSP Inputs O&M'!$F$17","v":7.5},{"$f":"BC434*BD434*BE434","v":257.77499999999998},{"$f":"BF434/'DNSP Inputs O&M'!$F$428","v":0.12888749999999999},null,null,{"$f":"'DNSP Inputs O&M'!$F$16","v":34.369999999999997},1,{"$f":"'DNSP Inputs O&M'!$F$17","v":7.5},{"$f":"BJ434*BK434*BL434","v":257.77499999999998},{"$f":"BM434/'DNSP Inputs O&M'!$F$429","v":0.25777499999999998},null,null,null,null,{"$f":"'DNSP Inputs O&M'!$G$16","v":34.369999999999997},1,{"$f":"'DNSP Inputs O&M'!$G$17","v":7.5},{"$f":"BS434*BT434*BU434","v":257.77499999999998},{"$f":"BV434/'DNSP Inputs O&M'!$G$427","v":8.5924999999999987E-2},null,null,{"$f":"'DNSP Inputs O&M'!$G$16","v":34.369999999999997},1,{"$f":"'DNSP Inputs O&M'!$G$17","v":7.5},{"$f":"BZ434*CA434*CB434","v":257.77499999999998},{"$f":"CC434/'DNSP Inputs O&M'!$G$428","v":0.12888749999999999},null,null,{"$f":"'DNSP Inputs O&M'!$G$16","v":34.369999999999997},1,{"$f":"'DNSP Inputs O&M'!$G$17","v":7.5},{"$f":"CG434*CH434*CI434","v":257.77499999999998},{"$f":"CJ434/'DNSP Inputs O&M'!$G$429","v":0.25777499999999998},null,null,null,null,{"$f":"'DNSP Inputs O&M'!$H$16","v":34.369999999999997},1,{"$f":"'DNSP Inputs O&M'!$H$17","v":7.5},{"$f":"CP434*CQ434*CR434","v":257.77499999999998},{"$f":"CS434/'DNSP Inputs O&M'!$H$427","v":8.5924999999999987E-2},null,null,{"$f":"'DNSP Inputs O&M'!$H$16","v":34.369999999999997},1,{"$f":"'DNSP Inputs O&M'!$H$17","v":7.5},{"$f":"CW434*CX434*CY434","v":257.77499999999998},{"$f":"CZ434/'DNSP Inputs O&M'!$H$428","v":0.12888749999999999},null,null,{"$f":"'DNSP Inputs O&M'!$H$16","v":34.369999999999997},1,{"$f":"'DNSP Inputs O&M'!$H$17","v":7.5},{"$f":"DD434*DE434*DF434","v":257.77499999999998},{"$f":"DG434/'DNSP Inputs O&M'!$H$429","v":0.25777499999999998}]
["Labour - repair of faults"]
["Crew costs",{"$f":"'DNSP Inputs O&M'!$D$12","v":111.36223236834823},{"$f":"'DNSP Inputs O&M'!$D$426","v":2},{"$f":"'DNSP Inputs O&M'!$D$17","v":7.5},{"$f":"B436*C436*D436","v":1670.4334855252234},{"$f":"(E436+E437)/'DNSP Inputs O&M'!$D$430","v":107.72544660659071},{"$f":"F436/'DNSP Inputs O&M'!$D$422","v":10.77254466065907},null,{"$f":"'DNSP Inputs O&M'!$D$12","v":111.36223236834823},{"$f":"'DNSP Inputs O&M'!$D$426","v":2},{"$f":"'DNSP Inputs O&M'!$D$17","v":7.5},{"$f":"I436*J436*K436","v":1670.4334855252234},{"$f":"(L436+L437)/'DNSP Inputs O&M'!$D$431","v":143.18223236834822},{"$f":"M436/'DNSP Inputs O&M'!$D$422","v":14.318223236834822},null,{"$f":"'DNSP Inputs O&M'!$D$12","v":111.36223236834823},{"$f":"'DNSP Inputs O&M'!$D$426","v":2},{"$f":"'DNSP Inputs O&M'!$D$17","v":7.5},{"$f":"P436*Q436*R436","v":1670.4334855252234},{"$f":"(S436+S437)/'DNSP Inputs O&M'!$D$432","v":195.24849868411121},{"$f":"T436/'DNSP Inputs O&M'!$D$422","v":19.52484986841112},null,null,null,{"$f":"'DNSP Inputs O&M'!$E$12","v":{"$error":"#REF!"}},{"$f":"'DNSP Inputs O&M'!$E$426","v":2},{"$f":"'DNSP Inputs O&M'!$E$17","v":7.5},{"$f":"Y436*Z436*AA436","v":{"$error":"#REF!"}},{"$f":"(AB436+AB437)/'DNSP Inputs O&M'!$E$430","v":{"$error":"#REF!"}},{"$f":"AC436/'DNSP Inputs O&M'!$E$422","v":{"$error":"#REF!"}},null,{"$f":"'DNSP Inputs O&M'!$E$12","v":{"$error":"#REF!"}},{"$f":"'DNSP Inputs O&M'!$E$426","v":2},{"$f":"'DNSP Inputs O&M'!$E$17","v":7.5},{"$f":"AF436*AG436*AH436","v":{"$error":"#REF!"}},{"$f":"(AI436+AI437)/'DNSP Inputs O&M'!$E$431","v":{"$error":"#REF!"}},{"$f":"AJ436/'DNSP Inputs O&M'!$E$422","v":{"$error":"#REF!"}},null,{"$f":"'DNSP Inputs O&M'!$E$12","v":{"$error":"#REF!"}},{"$f":"'DNSP Inputs O&M'!$E$426","v":2},{"$f":"'DNSP Inputs O&M'!$E$17","v":7.5},{"$f":"AM436*AN436*AO436","v":{"$error":"#REF!"}},{"$f":"(AP436+AP437)/'DNSP Inputs O&M'!$E$432","v":{"$error":"#REF!"}},{"$f":"AQ436/'DNSP Inputs O&M'!$E$422","v":{"$error":"#REF!"}},null,null,null,{"$f":"'DNSP Inputs O&M'!$F$12","v":{"$error":"#REF!"}},{"$f":"'DNSP Inputs O&M'!$F$426","v":2},{"$f":"'DNSP Inputs O&M'!$F$17","v":7.5},{"$f":"AV436*AW436*AX436","v":{"$error":"#REF!"}},{"$f":"(AY436+AY437)/'DNSP Inputs O&M'!$F$430","v":{"$error":"#REF!"}},{"$f":"AZ436/'DNSP Inputs O&M'!$F$422","v":{"$error":"#REF!"}},null,{"$f":"'DNSP Inputs O&M'!$F$12","v":{"$error":"#REF!"}},{"$f":"'DNSP Inputs O&M'!$F$426","v":2},{"$f":"'DNSP Inputs O&M'!$F$17","v":7.5},{"$f":"BC436*BD436*BE436","v":{"$error":"#REF!"}},{"$f":"(BF436+BF437)/'DNSP Inputs O&M'!$F$431","v":{"$error":"#REF!"}},{"$f":"BG436/'DNSP Inputs O&M'!$F$422","v":{"$error":"#REF!"}},null,{"$f":"'DNSP Inputs O&M'!$F$12","v":{"$error":"#REF!"}},{"$f":"'DNSP Inputs O&M'!$F$426","v":2},{"$f":"'DNSP Inputs O&M'!$F$17","v":7.5},{"$f":"BJ436*BK436*BL436","v":{"$error":"#REF!"}},{"$f":"(BM436+BM437)/'DNSP Inputs O&M'!$F$432","v":{"$error":"#REF!"}},{"$f":"BN436/'DNSP Inputs O&M'!$F$422","v":{"$error":"#REF!"}},null,null,null,{"$f":"'DNSP Inputs O&M'!$G$12","v":{"$error":"#REF!"}},{"$f":"'DNSP Inputs O&M'!$G$426","v":2},{"$f":"'DNSP Inputs O&M'!$G$17","v":7.5},{"$f":"BS436*BT436*BU436","v":{"$error":"#REF!"}},{"$f":"(BV436+BV437)/'DNSP Inputs O&M'!$G$430","v":{"$error":"#REF!"}},{"$f":"BW436/'DNSP Inputs O&M'!$G$422","v":{"$error":"#REF!"}},null,{"$f":"'DNSP Inputs O&M'!$G$12","v":{"$error":"#REF!"}},{"$f":"'DNSP Inputs O&M'!$G$426","v":2},{"$f":"'DNSP Inputs O&M'!$G$17","v":7.5},{"$f":"BZ436*CA436*CB436","v":{"$error":"#REF!"}},{"$f":"(CC436+CC437)/'DNSP Inputs O&M'!$G$431","v":{"$error":"#REF!"}},{"$f":"CD436/'DNSP Inputs O&M'!$G$422","v":{"$error":"#REF!"}},null,{"$f":"'DNSP Inputs O&M'!$G$12","v":{"$error":"#REF!"}},{"$f":"'DNSP Inputs O&M'!$G$426","v":2},{"$f":"'DNSP Inputs O&M'!$G$17","v":7.5},{"$f":"CG436*CH436*CI436","v":{"$error":"#REF!"}},{"$f":"(CJ436+CJ437)/'DNSP Inputs O&M'!$G$432","v":{"$error":"#REF!"}},{"$f":"CK436/'DNSP Inputs O&M'!$G$422","v":{"$error":"#REF!"}},null,null,null,{"$f":"'DNSP Inputs O&M'!$H$12","v":{"$error":"#REF!"}},{"$f":"'DNSP Inputs O&M'!$H$426","v":2},{"$f":"'DNSP Inputs O&M'!$H$17","v":7.5},{"$f":"CP436*CQ436*CR436","v":{"$error":"#REF!"}},{"$f":"(CS436+CS437)/'DNSP Inputs O&M'!$H$430","v":{"$error":"#REF!"}},{"$f":"CT436/'DNSP Inputs O&M'!$H$422","v":{"$error":"#REF!"}},null,{"$f":"'DNSP Inputs O&M'!$H$12","v":{"$error":"#REF!"}},{"$f":"'DNSP Inputs O&M'!$H$426","v":2},{"$f":"'DNSP Inputs O&M'!$H$17","v":7.5},{"$f":"CW436*CX436*CY436","v":{"$error":"#REF!"}},{"$f":"(CZ436+CZ437)/'DNSP Inputs O&M'!$H$431","v":{"$error":"#REF!"}},{"$f":"DA436/'DNSP Inputs O&M'!$H$422","v":{"$error":"#REF!"}},null,{"$f":"'DNSP Inputs O&M'!$H$12","v":{"$error":"#REF!"}},{"$f":"'DNSP Inputs O&M'!$H$426","v":2},{"$f":"'DNSP Inputs O&M'!$H$17","v":7.5},{"$f":"DD436*DE436*DF436","v":{"$error":"#REF!"}},{"$f":"(DG436+DG437)/'DNSP Inputs O&M'!$H$432","v":{"$error":"#REF!"}},{"$f":"DH436/'DNSP Inputs O&M'!$H$422","v":{"$error":"#REF!"}}]
["Elevated platform vehicle costs",{"$f":"'DNSP Inputs O&M'!$D$14","v":50.18},1,{"$f":"'DNSP Inputs O&M'!$D$17","v":7.5},{"$f":"B437*C437*D437","v":376.35},null,null,null,{"$f":"'DNSP Inputs O&M'!$D$15","v":63.64},1,{"$f":"'DNSP Inputs O&M'!$D$17","v":7.5},{"$f":"I437*J437*K437","v":477.3},null,null,null,{"$f":"'DNSP Inputs O&M'!$D$15","v":63.64},1,{"$f":"'DNSP Inputs O&M'!$D$17","v":7.5},{"$f":"P437*Q437*R437","v":477.3},null,null,null,null,null,{"$f":"'DNSP Inputs O&M'!$E$14","v":50.18},1,{"$f":"'DNSP Inputs O&M'!$E$17","v":7.5},{"$f":"Y437*Z437*AA437","v":376.35},null,null,null,{"$f":"'DNSP Inputs O&M'!$E$15","v":63.64},1,{"$f":"'DNSP Inputs O&M'!$E$17","v":7.5},{"$f":"AF437*AG437*AH437","v":477.3},null,null,null,{"$f":"'DNSP Inputs O&M'!$E$15","v":63.64},1,{"$f":"'DNSP Inputs O&M'!$E$17","v":7.5},{"$f":"AM437*AN437*AO437","v":477.3},null,null,null,null,null,{"$f":"'DNSP Inputs O&M'!$F$14","v":50.18},1,{"$f":"'DNSP Inputs O&M'!$F$17","v":7.5},{"$f":"AV437*AW437*AX437","v":376.35},null,null,null,{"$f":"'DNSP Inputs O&M'!$F$15","v":63.64},1,{"$f":"'DNSP Inputs O&M'!$F$17","v":7.5},{"$f":"BC437*BD437*BE437","v":477.3},null,null,null,{"$f":"'DNSP Inputs O&M'!$F$15","v":63.64},1,{"$f":"'DNSP Inputs O&M'!$F$17","v":7.5},{"$f":"BJ437*BK437*BL437","v":477.3},null,null,null,null,null,{"$f":"'DNSP Inputs O&M'!$G$14","v":50.18},1,{"$f":"'DNSP Inputs O&M'!$G$17","v":7.5},{"$f":"BS437*BT437*BU437","v":376.35},null,null,null,{"$f":"'DNSP Inputs O&M'!$G$15","v":63.64},1,{"$f":"'DNSP Inputs O&M'!$G$17","v":7.5},{"$f":"BZ437*CA437*CB437","v":477.3},null,null,null,{"$f":"'DNSP Inputs O&M'!$G$15","v":63.64},1,{"$f":"'DNSP Inputs O&M'!$G$17","v":7.5},{"$f":"CG437*CH437*CI437","v":477.3},null,null,null,null,null,{"$f":"'DNSP Inputs O&M'!$H$14","v":50.18},1,{"$f":"'DNSP Inputs O&M'!$H$17","v":7.5},{"$f":"CP437*CQ437*CR437","v":376.35},null,null,null,{"$f":"'DNSP Inputs O&M'!$H$15","v":63.64},1,{"$f":"'DNSP Inputs O&M'!$H$17","v":7.5},{"$f":"CW437*CX437*CY437","v":477.3},null,null,null,{"$f":"'DNSP Inputs O&M'!$H$15","v":63.64},1,{"$f":"'DNSP Inputs O&M'!$H$17","v":7.5},{"$f":"DD437*DE437*DF437","v":477.3}]
["Other Maintenance and Repair costs",null,null,null,null,null,{"$f":"'DNSP Inputs O&M'!$D$442","v":2.1},null,null,null,null,null,null,{"$f":"'DNSP Inputs O&M'!$D$442","v":2.1},null,null,null,null,null,null,{"$f":"'DNSP Inputs O&M'!$D$442","v":2.1},null,null,null,null,null,null,null,null,{"$f":"'DNSP Inputs O&M'!$E$442","v":2.1},null,null,null,null,null,null,{"$f":"'DNSP Inputs O&M'!$E$442","v":2.1},null,null,null,null,null,null,{"$f":"'DNSP Inputs O&M'!$E$442","v":2.1},null,null,null,null,null,null,null,null,{"$f":"'DNSP Inputs O&M'!$F$442","v":2.1},null,null,null,null,null,null,{"$f":"'DNSP Inputs O&M'!$F$442","v":2.1},null,null,null,null,null,null,{"$f":"'DNSP Inputs O&M'!$F$442","v":2.1},null,null,null,null,null,null,null,null,{"$f":"'DNSP Inputs O&M'!$G$442","v":2.1},null,null,null,null,null,null,{"$f":"'DNSP Inputs O&M'!$G$442","v":2.1},null,null,null,null,null,null,{"$f":"'DNSP Inputs O&M'!$G$442","v":2.1},null,null,null,null,null,null,null,null,{"$f":"'DNSP Inputs O&M'!$H$442","v":2.1},null,null,null,null,null,null,{"$f":"'DNSP Inputs O&M'!$H$442","v":2.1},null,null,null,null,null,null,{"$f":"'DNSP Inputs O&M'!$H$442","v":2.1}]
[]
["Overheads",{"$f":"'DNSP Inputs O&M'!$D$18","v":0.25},null,null,null,null,{"$f":"B440*SUM(G427:G438)","v":3.8182546301726417},null,{"$f":"'DNSP Inputs O&M'!$D$18","v":0.25},null,null,null,null,{"$f":"I440*SUM(N427:N438)","v":4.9744401685531736},null,{"$f":"'DNSP Inputs O&M'!$D$18","v":0.25},null,null,null,null,{"$f":"P440*SUM(U427:U438)","v":7.0676845579130445},null,null,null,{"$f":"'DNSP Inputs O&M'!$E$18","v":0.25},null,null,null,null,{"$f":"Y440*SUM(AD427:AD438)","v":{"$error":"#REF!"}},null,{"$f":"'DNSP Inputs O&M'!$E$18","v":0.25},null,null,null,null,{"$f":"AF440*SUM(AK427:AK438)","v":{"$error":"#REF!"}},null,{"$f":"'DNSP Inputs O&M'!$E$18","v":0.25},null,null,null,null,{"$f":"AM440*SUM(AR427:AR438)","v":{"$error":"#REF!"}},null,null,null,{"$f":"'DNSP Inputs O&M'!$F$18","v":0.25},null,null,null,null,{"$f":"AV440*SUM(BA427:BA438)","v":{"$error":"#REF!"}},null,{"$f":"'DNSP Inputs O&M'!$F$18","v":0.25},null,null,null,null,{"$f":"BC440*SUM(BH427:BH438)","v":{"$error":"#REF!"}},null,{"$f":"'DNSP Inputs O&M'!$F$18","v":0.25},null,null,null,null,{"$f":"BJ440*SUM(BO427:BO438)","v":{"$error":"#REF!"}},null,null,null,{"$f":"'DNSP Inputs O&M'!$G$18","v":0.25},null,null,null,null,{"$f":"BS440*SUM(BX427:BX438)","v":{"$error":"#REF!"}},null,{"$f":"'DNSP Inputs O&M'!$G$18","v":0.25},null,null,null,null,{"$f":"BZ440*SUM(CE427:CE438)","v":{"$error":"#REF!"}},null,{"$f":"'DNSP Inputs O&M'!$G$18","v":0.25},null,null,null,null,{"$f":"CG440*SUM(CL427:CL438)","v":{"$error":"#REF!"}},null,null,null,{"$f":"'DNSP Inputs O&M'!$H$18","v":0.25},null,null,null,null,{"$f":"CP440*SUM(CU427:CU438)","v":{"$error":"#REF!"}},null,{"$f":"'DNSP Inputs O&M'!$H$18","v":0.25},null,null,null,null,{"$f":"CW440*SUM(DB427:DB438)","v":{"$error":"#REF!"}},null,{"$f":"'DNSP Inputs O&M'!$H$18","v":0.25},null,null,null,null,{"$f":"DD440*SUM(DI427:DI438)","v":{"$error":"#REF!"}}]
[]
[null,null,null,null,null,null,{"$f":"SUM(G427,G429,G433,G436,G438,G440)","v":19.091273150863209},null,null,null,null,null,null,{"$f":"SUM(N427,N429,N433,N436,N438,N440)","v":24.872200842765867},null,null,null,null,null,null,{"$f":"SUM(U427,U429,U433,U436,U438,U440)","v":35.338422789565222},null,null,null,null,null,null,null,null,{"$f":"SUM(AD427,AD429,AD433,AD436,AD438,AD440)","v":{"$error":"#REF!"}},null,null,null,null,null,null,{"$f":"SUM(AK427,AK429,AK433,AK436,AK438,AK440)","v":{"$error":"#REF!"}},null,null,null,null,null,null,{"$f":"SUM(AR427,AR429,AR433,AR436,AR438,AR440)","v":{"$error":"#REF!"}},null,null,null,null,null,null,null,null,{"$f":"SUM(BA427,BA429,BA433,BA436,BA438,BA440)","v":{"$error":"#REF!"}},null,null,null,null,null,null,{"$f":"SUM(BH427,BH429,BH433,BH436,BH438,BH440)","v":{"$error":"#REF!"}},null,null,null,null,null,null,{"$f":"SUM(BO427,BO429,BO433,BO436,BO438,BO440)","v":{"$error":"#REF!"}},null,null,null,null,null,null,null,null,{"$f":"SUM(BX427,BX429,BX433,BX436,BX438,BX440)","v":{"$error":"#REF!"}},null,null,null,null,null,null,{"$f":"SUM(CE427,CE429,CE433,CE436,CE438,CE440)","v":{"$error":"#REF!"}},null,null,null,null,null,null,{"$f":"SUM(CL427,CL429,CL433,CL436,CL438,CL440)","v":{"$error":"#REF!"}},null,null,null,null,null,null,null,null,{"$f":"SUM(CU427,CU429,CU433,CU436,CU438,CU440)","v":{"$error":"#REF!"}},null,null,null,null,null,null,{"$f":"SUM(DB427,DB429,DB433,DB436,DB438,DB440)","v":{"$error":"#REF!"}},null,null,null,null,null,null,{"$f":"SUM(DI427,DI429,DI433,DI436,DI438,DI440)","v":{"$error":"#REF!"}}]
[]
[]
[]
["NEW"]
["Category P LED 275 Watt (L4) - Cost build-up"]
[]
["Additional assumptions"]
[]
[]
["Overheads are applied to material and labour components"]
["All costs and charges are exclusive of GST"]
[]
[null,"Urban",null,null,null,null,null,null,"Rural",null,null,null,null,null,null,"Remote",null,null,null,null,null,null,null,null,"Urban",null,null,null,null,null,null,"Rural",null,null,null,null,null,null,"Remote",null,null,null,null,null,null,null,null,"Urban",null,null,null,null,null,null,"Rural",null,null,null,null,null,null,"Remote",null,null,null,null,null,null,null,null,"Urban",null,null,null,null,null,null,"Rural",null,null,null,null,null,null,"Remote",null,null,null,null,null,null,null,null,"Urban",null,null,null,null,null,null,"Rural",null,null,null,null,null,null,"Remote"]
[]
[null,"Unit rate","Number","Hours","Cost","Annualised","Annualised",null,"Unit rate","Number","Hours","Cost","Annualised","Annualised",null,"Unit rate","Number","Hours","Cost","Annualised","Annualised",null,null,null,"Unit rate","Number","Hours","Cost","Annualised","Annualised",null,"Unit rate","Number","Hours","Cost","Annualised","Annualised",null,"Unit rate","Number","Hours","Cost","Annualised","Annualised",null,null,null,"Unit rate","Number","Hours","Cost","Annualised","Annualised",null,"Unit rate","Number","Hours","Cost","Annualised","Annualised",null,"Unit rate","Number","Hours","Cost","Annualised","Annualised",null,null,null,"Unit rate","Number","Hours","Cost","Annualised","Annualised",null,"Unit rate","Number","Hours","Cost","Annualised","Annualised",null,"Unit rate","Number","Hours","Cost","Annualised","Annualised",null,null,null,"Unit rate","Number","Hours","Cost","Annualised","Annualised",null,"Unit rate","Number","Hours","Cost","Annualised","Annualised",null,"Unit rate","Number","Hours","Cost","Annualised","Annualised"]
[null,null,null,null,null," cost","unit cost",null,null,null,null,null," cost","unit cost",null,null,null,null,null," cost","unit cost",null,null,null,null,null,null,null," cost","unit cost",null,null,null,null,null," cost","unit cost",null,null,null,null,null," cost","unit cost",null,null,null,null,null,null,null," cost","unit cost",null,null,null,null,null," cost","unit cost",null,null,null,null,null," cost","unit cost",null,null,null,null,null,null,null," cost","unit cost",null,null,null,null,null," cost","unit cost",null,null,null,null,null," cost","unit cost",null,null,null,null,null,null,null," cost","unit cost",null,null,null,null,null," cost","unit cost",null,null,null,null,null," cost","unit cost"]
["LED 275W (L4)"]
["Patrols & repairs"]
[]
[]
["Materials - repair of faults"]
["PE cell",{"$f":"'DNSP Inputs O&M'!$D$469","v":25.041364999999999},{"$f":"'DNSP Inputs O&M'!$D$476*'DNSP Inputs O&M'!$D$479","v":17.100000000000001},null,{"$f":"B464*C464","v":428.20734150000004},{"$f":"(E464+E465+E466)/'DNSP Inputs O&M'!$D$473","v":0.15742179150209082},{"$f":"F464*'DNSP Inputs O&M'!$D$467","v":0.47226537450627248},null,{"$f":"'DNSP Inputs O&M'!$D$469*(1+'DNSP Inputs O&M'!$D$11)","v":26.29343325},{"$f":"'DNSP Inputs O&M'!$D$477*'DNSP Inputs O&M'!$D$479","v":13.5},null,{"$f":"I464*J464","v":354.961348875},{"$f":"(L464+L465+L466)/'DNSP Inputs O&M'!$D$474","v":0.19574156969667869},{"$f":"M464*'DNSP Inputs O&M'!$D$467","v":0.5872247090900361},null,{"$f":"'DNSP Inputs O&M'!$D$469*(1+'DNSP Inputs O&M'!$D$11)","v":26.29343325},{"$f":"'DNSP Inputs O&M'!$D$478*'DNSP Inputs O&M'!$D$479","v":9.9},null,{"$f":"P464*Q464","v":260.304989175},{"$f":"(S464+S465+S466)/'DNSP Inputs O&M'!$D$475","v":0.28708763555512873},{"$f":"T464*'DNSP Inputs O&M'!$D$467","v":0.86126290666538619},null,null,null,{"$f":"'DNSP Inputs O&M'!$E$469","v":25.041364999999999},{"$f":"'DNSP Inputs O&M'!$E$476*'DNSP Inputs O&M'!$E$479","v":17.100000000000001},null,{"$f":"Y464*Z464","v":428.20734150000004},{"$f":"(AB464+AB465+AB466)/'DNSP Inputs O&M'!$E$473","v":0.15742179150209082},{"$f":"AC464*'DNSP Inputs O&M'!$E$467","v":0.47226537450627248},null,{"$f":"'DNSP Inputs O&M'!$E$469*(1+'DNSP Inputs O&M'!$E$11)","v":26.29343325},{"$f":"'DNSP Inputs O&M'!$E$477*'DNSP Inputs O&M'!$E$479","v":13.5},null,{"$f":"AF464*AG464","v":354.961348875},{"$f":"(AI464+AI465+AI466)/'DNSP Inputs O&M'!$E$474","v":0.19574156969667869},{"$f":"AJ464*'DNSP Inputs O&M'!$E$467","v":0.5872247090900361},null,{"$f":"'DNSP Inputs O&M'!$E$469*(1+'DNSP Inputs O&M'!$E$11)","v":26.29343325},{"$f":"'DNSP Inputs O&M'!$E$478*'DNSP Inputs O&M'!$E$479","v":9.9},null,{"$f":"AM464*AN464","v":260.304989175},{"$f":"(AP464+AP465+AP466)/'DNSP Inputs O&M'!$E$475","v":0.28708763555512873},{"$f":"AQ464*'DNSP Inputs O&M'!$E$467","v":0.86126290666538619},null,null,null,{"$f":"'DNSP Inputs O&M'!$F$469","v":25.041364999999999},{"$f":"'DNSP Inputs O&M'!$F$476*'DNSP Inputs O&M'!$F$479","v":17.100000000000001},null,{"$f":"AV464*AW464","v":428.20734150000004},{"$f":"(AY464+AY465+AY466)/'DNSP Inputs O&M'!$F$473","v":0.15742179150209082},{"$f":"AZ464*'DNSP Inputs O&M'!$F$467","v":0.47226537450627248},null,{"$f":"'DNSP Inputs O&M'!$F$469*(1+'DNSP Inputs O&M'!$F$11)","v":26.29343325},{"$f":"'DNSP Inputs O&M'!$F$477*'DNSP Inputs O&M'!$F$479","v":13.5},null,{"$f":"BC464*BD464","v":354.961348875},{"$f":"(BF464+BF465+BF466)/'DNSP Inputs O&M'!$F$474","v":0.19574156969667869},{"$f":"BG464*'DNSP Inputs O&M'!$F$467","v":0.5872247090900361},null,{"$f":"'DNSP Inputs O&M'!$F$469*(1+'DNSP Inputs O&M'!$F$11)","v":26.29343325},{"$f":"'DNSP Inputs O&M'!$F$478*'DNSP Inputs O&M'!$F$479","v":9.9},null,{"$f":"BJ464*BK464","v":260.304989175},{"$f":"(BM464+BM465+BM466)/'DNSP Inputs O&M'!$F$475","v":0.28708763555512873},{"$f":"BN464*'DNSP Inputs O&M'!$F$467","v":0.86126290666538619},null,null,null,{"$f":"'DNSP Inputs O&M'!$G$469","v":25.041364999999999},{"$f":"'DNSP Inputs O&M'!$G$476*'DNSP Inputs O&M'!$G$479","v":17.100000000000001},null,{"$f":"BS464*BT464","v":428.20734150000004},{"$f":"(BV464+BV465+BV466)/'DNSP Inputs O&M'!$G$473","v":0.15742179150209082},{"$f":"BW464*'DNSP Inputs O&M'!$G$467","v":0.47226537450627248},null,{"$f":"'DNSP Inputs O&M'!$G$469*(1+'DNSP Inputs O&M'!$G$11)","v":26.29343325},{"$f":"'DNSP Inputs O&M'!$G$477*'DNSP Inputs O&M'!$G$479","v":13.5},null,{"$f":"BZ464*CA464","v":354.961348875},{"$f":"(CC464+CC465+CC466)/'DNSP Inputs O&M'!$G$474","v":0.19574156969667869},{"$f":"CD464*'DNSP Inputs O&M'!$G$467","v":0.5872247090900361},null,{"$f":"'DNSP Inputs O&M'!$G$469*(1+'DNSP Inputs O&M'!$G$11)","v":26.29343325},{"$f":"'DNSP Inputs O&M'!$G$478*'DNSP Inputs O&M'!$G$479","v":9.9},null,{"$f":"CG464*CH464","v":260.304989175},{"$f":"(CJ464+CJ465+CJ466)/'DNSP Inputs O&M'!$G$475","v":0.28708763555512873},{"$f":"CK464*'DNSP Inputs O&M'!$G$467","v":0.86126290666538619},null,null,null,{"$f":"'DNSP Inputs O&M'!$H$469","v":25.041364999999999},{"$f":"'DNSP Inputs O&M'!$H$476*'DNSP Inputs O&M'!$H$479","v":17.100000000000001},null,{"$f":"CP464*CQ464","v":428.20734150000004},{"$f":"(CS464+CS465+CS466)/'DNSP Inputs O&M'!$H$473","v":0.15742179150209082},{"$f":"CT464*'DNSP Inputs O&M'!$H$467","v":0.47226537450627248},null,{"$f":"'DNSP Inputs O&M'!$H$469*(1+'DNSP Inputs O&M'!$H$11)","v":26.29343325},{"$f":"'DNSP Inputs O&M'!$H$477*'DNSP Inputs O&M'!$H$479","v":13.5},null,{"$f":"CW464*CX464","v":354.961348875},{"$f":"(CZ464+CZ465+CZ466)/'DNSP Inputs O&M'!$H$474","v":0.19574156969667869},{"$f":"DA464*'DNSP Inputs O&M'!$H$467","v":0.5872247090900361},null,{"$f":"'DNSP Inputs O&M'!$H$469*(1+'DNSP Inputs O&M'!$H$11)","v":26.29343325},{"$f":"'DNSP Inputs O&M'!$H$478*'DNSP Inputs O&M'!$H$479","v":9.9},null,{"$f":"DD464*DE464","v":260.304989175},{"$f":"(DG464+DG465+DG466)/'DNSP Inputs O&M'!$H$475","v":0.28708763555512873},{"$f":"DH464*'DNSP Inputs O&M'!$H$467","v":0.86126290666538619}]
["Luminaire",{"$f":"'DNSP Inputs O&M'!$D$470","v":1775.2617643000001},{"$f":"'DNSP Inputs O&M'!$D$476*'DNSP Inputs O&M'!$D$480","v":0},null,{"$f":"B465*C465","v":0},null,null,null,{"$f":"'DNSP Inputs O&M'!$D$470*(1+'DNSP Inputs O&M'!$D$11)","v":1864.0248525150002},{"$f":"'DNSP Inputs O&M'!$D$477*'DNSP Inputs O&M'!$D$480","v":0},null,{"$f":"I465*J465","v":0},null,null,null,{"$f":"'DNSP Inputs O&M'!$D$470*(1+'DNSP Inputs O&M'!$D$11)","v":1864.0248525150002},{"$f":"'DNSP Inputs O&M'!$D$478*'DNSP Inputs O&M'!$D$480","v":0},null,{"$f":"P465*Q465","v":0},null,null,null,null,null,{"$f":"'DNSP Inputs O&M'!$E$470","v":1775.2617643000001},{"$f":"'DNSP Inputs O&M'!$E$476*'DNSP Inputs O&M'!$E$480","v":0},null,{"$f":"Y465*Z465","v":0},null,null,null,{"$f":"'DNSP Inputs O&M'!$E$470*(1+'DNSP Inputs O&M'!$E$11)","v":1864.0248525150002},{"$f":"'DNSP Inputs O&M'!$E$477*'DNSP Inputs O&M'!$E$480","v":0},null,{"$f":"AF465*AG465","v":0},null,null,null,{"$f":"'DNSP Inputs O&M'!$E$470*(1+'DNSP Inputs O&M'!$E$11)","v":1864.0248525150002},{"$f":"'DNSP Inputs O&M'!$E$478*'DNSP Inputs O&M'!$E$480","v":0},null,{"$f":"AM465*AN465","v":0},null,null,null,null,null,{"$f":"'DNSP Inputs O&M'!$F$470","v":1775.2617643000001},{"$f":"'DNSP Inputs O&M'!$F$476*'DNSP Inputs O&M'!$F$480","v":0},null,{"$f":"AV465*AW465","v":0},null,null,null,{"$f":"'DNSP Inputs O&M'!$F$470*(1+'DNSP Inputs O&M'!$F$11)","v":1864.0248525150002},{"$f":"'DNSP Inputs O&M'!$F$477*'DNSP Inputs O&M'!$F$480","v":0},null,{"$f":"BC465*BD465","v":0},null,null,null,{"$f":"'DNSP Inputs O&M'!$F$470*(1+'DNSP Inputs O&M'!$F$11)","v":1864.0248525150002},{"$f":"'DNSP Inputs O&M'!$F$478*'DNSP Inputs O&M'!$F$480","v":0},null,{"$f":"BJ465*BK465","v":0},null,null,null,null,null,{"$f":"'DNSP Inputs O&M'!$G$470","v":1775.2617643000001},{"$f":"'DNSP Inputs O&M'!$G$476*'DNSP Inputs O&M'!$G$480","v":0},null,{"$f":"BS465*BT465","v":0},null,null,null,{"$f":"'DNSP Inputs O&M'!$G$470*(1+'DNSP Inputs O&M'!$G$11)","v":1864.0248525150002},{"$f":"'DNSP Inputs O&M'!$G$477*'DNSP Inputs O&M'!$G$480","v":0},null,{"$f":"BZ465*CA465","v":0},null,null,null,{"$f":"'DNSP Inputs O&M'!$G$470*(1+'DNSP Inputs O&M'!$G$11)","v":1864.0248525150002},{"$f":"'DNSP Inputs O&M'!$G$478*'DNSP Inputs O&M'!$G$480","v":0},null,{"$f":"CG465*CH465","v":0},null,null,null,null,null,{"$f":"'DNSP Inputs O&M'!$H$470","v":1775.2617643000001},{"$f":"'DNSP Inputs O&M'!$H$476*'DNSP Inputs O&M'!$H$480","v":0},null,{"$f":"CP465*CQ465","v":0},null,null,null,{"$f":"'DNSP Inputs O&M'!$H$470*(1+'DNSP Inputs O&M'!$H$11)","v":1864.0248525150002},{"$f":"'DNSP Inputs O&M'!$H$477*'DNSP Inputs O&M'!$H$480","v":0},null,{"$f":"CW465*CX465","v":0},null,null,null,{"$f":"'DNSP Inputs O&M'!$H$470*(1+'DNSP Inputs O&M'!$H$11)","v":1864.0248525150002},{"$f":"'DNSP Inputs O&M'!$H$478*'DNSP Inputs O&M'!$H$480","v":0},null,{"$f":"DD465*DE465","v":0}]
["Miscellaneous",{"$f":"'DNSP Inputs O&M'!$D$471","v":23.188438424353883},{"$f":"'DNSP Inputs O&M'!$D$476*'DNSP Inputs O&M'!$D$481","v":1.9000000000000001},null,{"$f":"B466*C466","v":44.058033006272382},null,null,null,{"$f":"'DNSP Inputs O&M'!$D$471*(1+'DNSP Inputs O&M'!$D$11)","v":24.347860345571579},{"$f":"'DNSP Inputs O&M'!$D$477*'DNSP Inputs O&M'!$D$481","v":1.5},null,{"$f":"I466*J466","v":36.521790518357371},null,null,null,{"$f":"'DNSP Inputs O&M'!$D$471*(1+'DNSP Inputs O&M'!$D$11)","v":24.347860345571579},{"$f":"'DNSP Inputs O&M'!$D$478*'DNSP Inputs O&M'!$D$481","v":1.1000000000000001},null,{"$f":"P466*Q466","v":26.782646380128739},null,null,null,null,null,{"$f":"'DNSP Inputs O&M'!$E$471","v":23.188438424353883},{"$f":"'DNSP Inputs O&M'!$E$476*'DNSP Inputs O&M'!$E$481","v":1.9000000000000001},null,{"$f":"Y466*Z466","v":44.058033006272382},null,null,null,{"$f":"'DNSP Inputs O&M'!$E$471*(1+'DNSP Inputs O&M'!$E$11)","v":24.347860345571579},{"$f":"'DNSP Inputs O&M'!$E$477*'DNSP Inputs O&M'!$E$481","v":1.5},null,{"$f":"AF466*AG466","v":36.521790518357371},null,null,null,{"$f":"'DNSP Inputs O&M'!$E$471*(1+'DNSP Inputs O&M'!$E$11)","v":24.347860345571579},{"$f":"'DNSP Inputs O&M'!$E$478*'DNSP Inputs O&M'!$E$481","v":1.1000000000000001},null,{"$f":"AM466*AN466","v":26.782646380128739},null,null,null,null,null,{"$f":"'DNSP Inputs O&M'!$F$471","v":23.188438424353883},{"$f":"'DNSP Inputs O&M'!$F$476*'DNSP Inputs O&M'!$F$481","v":1.9000000000000001},null,{"$f":"AV466*AW466","v":44.058033006272382},null,null,null,{"$f":"'DNSP Inputs O&M'!$F$471*(1+'DNSP Inputs O&M'!$F$11)","v":24.347860345571579},{"$f":"'DNSP Inputs O&M'!$F$477*'DNSP Inputs O&M'!$F$481","v":1.5},null,{"$f":"BC466*BD466","v":36.521790518357371},null,null,null,{"$f":"'DNSP Inputs O&M'!$F$471*(1+'DNSP Inputs O&M'!$F$11)","v":24.347860345571579},{"$f":"'DNSP Inputs O&M'!$F$478*'DNSP Inputs O&M'!$F$481","v":1.1000000000000001},null,{"$f":"BJ466*BK466","v":26.782646380128739},null,null,null,null,null,{"$f":"'DNSP Inputs O&M'!$G$471","v":23.188438424353883},{"$f":"'DNSP Inputs O&M'!$G$476*'DNSP Inputs O&M'!$G$481","v":1.9000000000000001},null,{"$f":"BS466*BT466","v":44.058033006272382},null,null,null,{"$f":"'DNSP Inputs O&M'!$G$471*(1+'DNSP Inputs O&M'!$G$11)","v":24.347860345571579},{"$f":"'DNSP Inputs O&M'!$G$477*'DNSP Inputs O&M'!$G$481","v":1.5},null,{"$f":"BZ466*CA466","v":36.521790518357371},null,null,null,{"$f":"'DNSP Inputs O&M'!$G$471*(1+'DNSP Inputs O&M'!$G$11)","v":24.347860345571579},{"$f":"'DNSP Inputs O&M'!$G$478*'DNSP Inputs O&M'!$G$481","v":1.1000000000000001},null,{"$f":"CG466*CH466","v":26.782646380128739},null,null,null,null,null,{"$f":"'DNSP Inputs O&M'!$H$471","v":23.188438424353883},{"$f":"'DNSP Inputs O&M'!$H$476*'DNSP Inputs O&M'!$H$481","v":1.9000000000000001},null,{"$f":"CP466*CQ466","v":44.058033006272382},null,null,null,{"$f":"'DNSP Inputs O&M'!$H$471*(1+'DNSP Inputs O&M'!$H$11)","v":24.347860345571579},{"$f":"'DNSP Inputs O&M'!$H$477*'DNSP Inputs O&M'!$H$481","v":1.5},null,{"$f":"CW466*CX466","v":36.521790518357371},null,null,null,{"$f":"'DNSP Inputs O&M'!$H$471*(1+'DNSP Inputs O&M'!$H$11)","v":24.347860345571579},{"$f":"'DNSP Inputs O&M'!$H$478*'DNSP Inputs O&M'!$H$481","v":1.1000000000000001},null,{"$f":"DD466*DE466","v":26.782646380128739}]
["Labour - Patrol"]
["Crew costs",{"$f":"'DNSP Inputs O&M'!$D$12","v":111.36223236834823},{"$f":"'DNSP Inputs O&M'!$D$472","v":2},{"$f":"'DNSP Inputs O&M'!$D$17","v":7.5},{"$f":"B468*C468*D468","v":1670.4334855252234},{"$f":"E468/'DNSP Inputs O&M'!$D$473","v":0.55681116184174118},{"$f":"(F468+F469)*'DNSP Inputs O&M'!$D$467","v":1.9282084855252237},null,{"$f":"'DNSP Inputs O&M'!$D$12","v":111.36223236834823},{"$f":"'DNSP Inputs O&M'!$D$472","v":2},{"$f":"'DNSP Inputs O&M'!$D$17","v":7.5},{"$f":"I468*J468*K468","v":1670.4334855252234},{"$f":"L468/'DNSP Inputs O&M'!$D$474","v":0.83521674276261171},{"$f":"(M468+M469)*'DNSP Inputs O&M'!$D$467","v":2.8923127282878349},null,{"$f":"'DNSP Inputs O&M'!$D$12","v":111.36223236834823},{"$f":"'DNSP Inputs O&M'!$D$472","v":2},{"$f":"'DNSP Inputs O&M'!$D$17","v":7.5},{"$f":"P468*Q468*R468","v":1670.4334855252234},{"$f":"S468/'DNSP Inputs O&M'!$D$475","v":1.6704334855252234},{"$f":"(T468+T469)*'DNSP Inputs O&M'!$D$467","v":5.7846254565756698},null,null,null,{"$f":"'DNSP Inputs O&M'!$E$12","v":{"$error":"#REF!"}},{"$f":"'DNSP Inputs O&M'!$E$472","v":2},{"$f":"'DNSP Inputs O&M'!$E$17","v":7.5},{"$f":"Y468*Z468*AA468","v":{"$error":"#REF!"}},{"$f":"AB468/'DNSP Inputs O&M'!$E$473","v":{"$error":"#REF!"}},{"$f":"(AC468+AC469)*'DNSP Inputs O&M'!$E$467","v":{"$error":"#REF!"}},null,{"$f":"'DNSP Inputs O&M'!$E$12","v":{"$error":"#REF!"}},{"$f":"'DNSP Inputs O&M'!$E$472","v":2},{"$f":"'DNSP Inputs O&M'!$E$17","v":7.5},{"$f":"AF468*AG468*AH468","v":{"$error":"#REF!"}},{"$f":"AI468/'DNSP Inputs O&M'!$E$474","v":{"$error":"#REF!"}},{"$f":"(AJ468+AJ469)*'DNSP Inputs O&M'!$E$467","v":{"$error":"#REF!"}},null,{"$f":"'DNSP Inputs O&M'!$E$12","v":{"$error":"#REF!"}},{"$f":"'DNSP Inputs O&M'!$E$472","v":2},{"$f":"'DNSP Inputs O&M'!$E$17","v":7.5},{"$f":"AM468*AN468*AO468","v":{"$error":"#REF!"}},{"$f":"AP468/'DNSP Inputs O&M'!$E$475","v":{"$error":"#REF!"}},{"$f":"(AQ468+AQ469)*'DNSP Inputs O&M'!$E$467","v":{"$error":"#REF!"}},null,null,null,{"$f":"'DNSP Inputs O&M'!$F$12","v":{"$error":"#REF!"}},{"$f":"'DNSP Inputs O&M'!$F$472","v":2},{"$f":"'DNSP Inputs O&M'!$F$17","v":7.5},{"$f":"AV468*AW468*AX468","v":{"$error":"#REF!"}},{"$f":"AY468/'DNSP Inputs O&M'!$F$473","v":{"$error":"#REF!"}},{"$f":"(AZ468+AZ469)*'DNSP Inputs O&M'!$F$467","v":{"$error":"#REF!"}},null,{"$f":"'DNSP Inputs O&M'!$F$12","v":{"$error":"#REF!"}},{"$f":"'DNSP Inputs O&M'!$F$472","v":2},{"$f":"'DNSP Inputs O&M'!$F$17","v":7.5},{"$f":"BC468*BD468*BE468","v":{"$error":"#REF!"}},{"$f":"BF468/'DNSP Inputs O&M'!$F$474","v":{"$error":"#REF!"}},{"$f":"(BG468+BG469)*'DNSP Inputs O&M'!$F$467","v":{"$error":"#REF!"}},null,{"$f":"'DNSP Inputs O&M'!$F$12","v":{"$error":"#REF!"}},{"$f":"'DNSP Inputs O&M'!$F$472","v":2},{"$f":"'DNSP Inputs O&M'!$F$17","v":7.5},{"$f":"BJ468*BK468*BL468","v":{"$error":"#REF!"}},{"$f":"BM468/'DNSP Inputs O&M'!$F$475","v":{"$error":"#REF!"}},{"$f":"(BN468+BN469)*'DNSP Inputs O&M'!$F$467","v":{"$error":"#REF!"}},null,null,null,{"$f":"'DNSP Inputs O&M'!$G$12","v":{"$error":"#REF!"}},{"$f":"'DNSP Inputs O&M'!$G$472","v":2},{"$f":"'DNSP Inputs O&M'!$G$17","v":7.5},{"$f":"BS468*BT468*BU468","v":{"$error":"#REF!"}},{"$f":"BV468/'DNSP Inputs O&M'!$G$473","v":{"$error":"#REF!"}},{"$f":"(BW468+BW469)*'DNSP Inputs O&M'!$G$467","v":{"$error":"#REF!"}},null,{"$f":"'DNSP Inputs O&M'!$G$12","v":{"$error":"#REF!"}},{"$f":"'DNSP Inputs O&M'!$G$472","v":2},{"$f":"'DNSP Inputs O&M'!$G$17","v":7.5},{"$f":"BZ468*CA468*CB468","v":{"$error":"#REF!"}},{"$f":"CC468/'DNSP Inputs O&M'!$G$474","v":{"$error":"#REF!"}},{"$f":"(CD468+CD469)*'DNSP Inputs O&M'!$G$467","v":{"$error":"#REF!"}},null,{"$f":"'DNSP Inputs O&M'!$G$12","v":{"$error":"#REF!"}},{"$f":"'DNSP Inputs O&M'!$G$472","v":2},{"$f":"'DNSP Inputs O&M'!$G$17","v":7.5},{"$f":"CG468*CH468*CI468","v":{"$error":"#REF!"}},{"$f":"CJ468/'DNSP Inputs O&M'!$G$475","v":{"$error":"#REF!"}},{"$f":"(CK468+CK469)*'DNSP Inputs O&M'!$G$467","v":{"$error":"#REF!"}},null,null,null,{"$f":"'DNSP Inputs O&M'!$H$12","v":{"$error":"#REF!"}},{"$f":"'DNSP Inputs O&M'!$H$472","v":2},{"$f":"'DNSP Inputs O&M'!$H$17","v":7.5},{"$f":"CP468*CQ468*CR468","v":{"$error":"#REF!"}},{"$f":"CS468/'DNSP Inputs O&M'!$H$473","v":{"$error":"#REF!"}},{"$f":"(CT468+CT469)*'DNSP Inputs O&M'!$H$467","v":{"$error":"#REF!"}},null,{"$f":"'DNSP Inputs O&M'!$H$12","v":{"$error":"#REF!"}},{"$f":"'DNSP Inputs O&M'!$H$472","v":2},{"$f":"'DNSP Inputs O&M'!$H$17","v":7.5},{"$f":"CW468*CX468*CY468","v":{"$error":"#REF!"}},{"$f":"CZ468/'DNSP Inputs O&M'!$H$474","v":{"$error":"#REF!"}},{"$f":"(DA468+DA469)*'DNSP Inputs O&M'!$H$467","v":{"$error":"#REF!"}},null,{"$f":"'DNSP Inputs O&M'!$H$12","v":{"$error":"#REF!"}},{"$f":"'DNSP Inputs O&M'!$H$472","v":2},{"$f":"'DNSP Inputs O&M'!$H$17","v":7.5},{"$f":"DD468*DE468*DF468","v":{"$error":"#REF!"}},{"$f":"DG468/'DNSP Inputs O&M'!$H$475","v":{"$error":"#REF!"}},{"$f":"(DH468+DH469)*'DNSP Inputs O&M'!$H$467","v":{"$error":"#REF!"}}]
["Vehicle costs",{"$f":"'DNSP Inputs O&M'!$D$16","v":34.369999999999997},1,{"$f":"'DNSP Inputs O&M'!$D$17","v":7.5},{"$f":"B469*C469*D469","v":257.77499999999998},{"$f":"E469/'DNSP Inputs O&M'!$D$473","v":8.5924999999999987E-2},null,null,{"$f":"'DNSP Inputs O&M'!$D$16","v":34.369999999999997},1,{"$f":"'DNSP Inputs O&M'!$D$17","v":7.5},{"$f":"I469*J469*K469","v":257.77499999999998},{"$f":"L469/'DNSP Inputs O&M'!$D$474","v":0.12888749999999999},null,null,{"$f":"'DNSP Inputs O&M'!$D$16","v":34.369999999999997},1,{"$f":"'DNSP Inputs O&M'!$D$17","v":7.5},{"$f":"P469*Q469*R469","v":257.77499999999998},{"$f":"S469/'DNSP Inputs O&M'!$D$475","v":0.25777499999999998},null,null,null,null,{"$f":"'DNSP Inputs O&M'!$E$16","v":34.369999999999997},1,{"$f":"'DNSP Inputs O&M'!$E$17","v":7.5},{"$f":"Y469*Z469*AA469","v":257.77499999999998},{"$f":"AB469/'DNSP Inputs O&M'!$E$473","v":8.5924999999999987E-2},null,null,{"$f":"'DNSP Inputs O&M'!$E$16","v":34.369999999999997},1,{"$f":"'DNSP Inputs O&M'!$E$17","v":7.5},{"$f":"AF469*AG469*AH469","v":257.77499999999998},{"$f":"AI469/'DNSP Inputs O&M'!$E$474","v":0.12888749999999999},null,null,{"$f":"'DNSP Inputs O&M'!$E$16","v":34.369999999999997},1,{"$f":"'DNSP Inputs O&M'!$E$17","v":7.5},{"$f":"AM469*AN469*AO469","v":257.77499999999998},{"$f":"AP469/'DNSP Inputs O&M'!$E$475","v":0.25777499999999998},null,null,null,null,{"$f":"'DNSP Inputs O&M'!$F$16","v":34.369999999999997},1,{"$f":"'DNSP Inputs O&M'!$F$17","v":7.5},{"$f":"AV469*AW469*AX469","v":257.77499999999998},{"$f":"AY469/'DNSP Inputs O&M'!$F$473","v":8.5924999999999987E-2},null,null,{"$f":"'DNSP Inputs O&M'!$F$16","v":34.369999999999997},1,{"$f":"'DNSP Inputs O&M'!$F$17","v":7.5},{"$f":"BC469*BD469*BE469","v":257.77499999999998},{"$f":"BF469/'DNSP Inputs O&M'!$F$474","v":0.12888749999999999},null,null,{"$f":"'DNSP Inputs O&M'!$F$16","v":34.369999999999997},1,{"$f":"'DNSP Inputs O&M'!$F$17","v":7.5},{"$f":"BJ469*BK469*BL469","v":257.77499999999998},{"$f":"BM469/'DNSP Inputs O&M'!$F$475","v":0.25777499999999998},null,null,null,null,{"$f":"'DNSP Inputs O&M'!$G$16","v":34.369999999999997},1,{"$f":"'DNSP Inputs O&M'!$G$17","v":7.5},{"$f":"BS469*BT469*BU469","v":257.77499999999998},{"$f":"BV469/'DNSP Inputs O&M'!$G$473","v":8.5924999999999987E-2},null,null,{"$f":"'DNSP Inputs O&M'!$G$16","v":34.369999999999997},1,{"$f":"'DNSP Inputs O&M'!$G$17","v":7.5},{"$f":"BZ469*CA469*CB469","v":257.77499999999998},{"$f":"CC469/'DNSP Inputs O&M'!$G$474","v":0.12888749999999999},null,null,{"$f":"'DNSP Inputs O&M'!$G$16","v":34.369999999999997},1,{"$f":"'DNSP Inputs O&M'!$G$17","v":7.5},{"$f":"CG469*CH469*CI469","v":257.77499999999998},{"$f":"CJ469/'DNSP Inputs O&M'!$G$475","v":0.25777499999999998},null,null,null,null,{"$f":"'DNSP Inputs O&M'!$H$16","v":34.369999999999997},1,{"$f":"'DNSP Inputs O&M'!$H$17","v":7.5},{"$f":"CP469*CQ469*CR469","v":257.77499999999998},{"$f":"CS469/'DNSP Inputs O&M'!$H$473","v":8.5924999999999987E-2},null,null,{"$f":"'DNSP Inputs O&M'!$H$16","v":34.369999999999997},1,{"$f":"'DNSP Inputs O&M'!$H$17","v":7.5},{"$f":"CW469*CX469*CY469","v":257.77499999999998},{"$f":"CZ469/'DNSP Inputs O&M'!$H$474","v":0.12888749999999999},null,null,{"$f":"'DNSP Inputs O&M'!$H$16","v":34.369999999999997},1,{"$f":"'DNSP Inputs O&M'!$H$17","v":7.5},{"$f":"DD469*DE469*DF469","v":257.77499999999998},{"$f":"DG469/'DNSP Inputs O&M'!$H$475","v":0.25777499999999998}]
["Labour - repair of faults"]
["Crew costs",{"$f":"'DNSP Inputs O&M'!$D$12","v":111.36223236834823},{"$f":"'DNSP Inputs O&M'!$D$472","v":2},{"$f":"'DNSP Inputs O&M'!$D$17","v":7.5},{"$f":"B471*C471*D471","v":1670.4334855252234},{"$f":"(E471+E472)/'DNSP Inputs O&M'!$D$476","v":107.72544660659071},{"$f":"F471/'DNSP Inputs O&M'!$D$468","v":10.77254466065907},null,{"$f":"'DNSP Inputs O&M'!$D$12","v":111.36223236834823},{"$f":"'DNSP Inputs O&M'!$D$472","v":2},{"$f":"'DNSP Inputs O&M'!$D$17","v":7.5},{"$f":"I471*J471*K471","v":1670.4334855252234},{"$f":"(L471+L472)/'DNSP Inputs O&M'!$D$477","v":143.18223236834822},{"$f":"M471/'DNSP Inputs O&M'!$D$468","v":14.318223236834822},null,{"$f":"'DNSP Inputs O&M'!$D$12","v":111.36223236834823},{"$f":"'DNSP Inputs O&M'!$D$472","v":2},{"$f":"'DNSP Inputs O&M'!$D$17","v":7.5},{"$f":"P471*Q471*R471","v":1670.4334855252234},{"$f":"(S471+S472)/'DNSP Inputs O&M'!$D$478","v":195.24849868411121},{"$f":"T471/'DNSP Inputs O&M'!$D$468","v":19.52484986841112},null,null,null,{"$f":"'DNSP Inputs O&M'!$E$12","v":{"$error":"#REF!"}},{"$f":"'DNSP Inputs O&M'!$E$472","v":2},{"$f":"'DNSP Inputs O&M'!$E$17","v":7.5},{"$f":"Y471*Z471*AA471","v":{"$error":"#REF!"}},{"$f":"(AB471+AB472)/'DNSP Inputs O&M'!$E$476","v":{"$error":"#REF!"}},{"$f":"AC471/'DNSP Inputs O&M'!$E$468","v":{"$error":"#REF!"}},null,{"$f":"'DNSP Inputs O&M'!$E$12","v":{"$error":"#REF!"}},{"$f":"'DNSP Inputs O&M'!$E$472","v":2},{"$f":"'DNSP Inputs O&M'!$E$17","v":7.5},{"$f":"AF471*AG471*AH471","v":{"$error":"#REF!"}},{"$f":"(AI471+AI472)/'DNSP Inputs O&M'!$E$477","v":{"$error":"#REF!"}},{"$f":"AJ471/'DNSP Inputs O&M'!$E$468","v":{"$error":"#REF!"}},null,{"$f":"'DNSP Inputs O&M'!$E$12","v":{"$error":"#REF!"}},{"$f":"'DNSP Inputs O&M'!$E$472","v":2},{"$f":"'DNSP Inputs O&M'!$E$17","v":7.5},{"$f":"AM471*AN471*AO471","v":{"$error":"#REF!"}},{"$f":"(AP471+AP472)/'DNSP Inputs O&M'!$E$478","v":{"$error":"#REF!"}},{"$f":"AQ471/'DNSP Inputs O&M'!$E$468","v":{"$error":"#REF!"}},null,null,null,{"$f":"'DNSP Inputs O&M'!$F$12","v":{"$error":"#REF!"}},{"$f":"'DNSP Inputs O&M'!$F$472","v":2},{"$f":"'DNSP Inputs O&M'!$F$17","v":7.5},{"$f":"AV471*AW471*AX471","v":{"$error":"#REF!"}},{"$f":"(AY471+AY472)/'DNSP Inputs O&M'!$F$476","v":{"$error":"#REF!"}},{"$f":"AZ471/'DNSP Inputs O&M'!$F$468","v":{"$error":"#REF!"}},null,{"$f":"'DNSP Inputs O&M'!$F$12","v":{"$error":"#REF!"}},{"$f":"'DNSP Inputs O&M'!$F$472","v":2},{"$f":"'DNSP Inputs O&M'!$F$17","v":7.5},{"$f":"BC471*BD471*BE471","v":{"$error":"#REF!"}},{"$f":"(BF471+BF472)/'DNSP Inputs O&M'!$F$477","v":{"$error":"#REF!"}},{"$f":"BG471/'DNSP Inputs O&M'!$F$468","v":{"$error":"#REF!"}},null,{"$f":"'DNSP Inputs O&M'!$F$12","v":{"$error":"#REF!"}},{"$f":"'DNSP Inputs O&M'!$F$472","v":2},{"$f":"'DNSP Inputs O&M'!$F$17","v":7.5},{"$f":"BJ471*BK471*BL471","v":{"$error":"#REF!"}},{"$f":"(BM471+BM472)/'DNSP Inputs O&M'!$F$478","v":{"$error":"#REF!"}},{"$f":"BN471/'DNSP Inputs O&M'!$F$468","v":{"$error":"#REF!"}},null,null,null,{"$f":"'DNSP Inputs O&M'!$G$12","v":{"$error":"#REF!"}},{"$f":"'DNSP Inputs O&M'!$G$472","v":2},{"$f":"'DNSP Inputs O&M'!$G$17","v":7.5},{"$f":"BS471*BT471*BU471","v":{"$error":"#REF!"}},{"$f":"(BV471+BV472)/'DNSP Inputs O&M'!$G$476","v":{"$error":"#REF!"}},{"$f":"BW471/'DNSP Inputs O&M'!$G$468","v":{"$error":"#REF!"}},null,{"$f":"'DNSP Inputs O&M'!$G$12","v":{"$error":"#REF!"}},{"$f":"'DNSP Inputs O&M'!$G$472","v":2},{"$f":"'DNSP Inputs O&M'!$G$17","v":7.5},{"$f":"BZ471*CA471*CB471","v":{"$error":"#REF!"}},{"$f":"(CC471+CC472)/'DNSP Inputs O&M'!$G$477","v":{"$error":"#REF!"}},{"$f":"CD471/'DNSP Inputs O&M'!$G$468","v":{"$error":"#REF!"}},null,{"$f":"'DNSP Inputs O&M'!$G$12","v":{"$error":"#REF!"}},{"$f":"'DNSP Inputs O&M'!$G$472","v":2},{"$f":"'DNSP Inputs O&M'!$G$17","v":7.5},{"$f":"CG471*CH471*CI471","v":{"$error":"#REF!"}},{"$f":"(CJ471+CJ472)/'DNSP Inputs O&M'!$G$478","v":{"$error":"#REF!"}},{"$f":"CK471/'DNSP Inputs O&M'!$G$468","v":{"$error":"#REF!"}},null,null,null,{"$f":"'DNSP Inputs O&M'!$H$12","v":{"$error":"#REF!"}},{"$f":"'DNSP Inputs O&M'!$H$472","v":2},{"$f":"'DNSP Inputs O&M'!$H$17","v":7.5},{"$f":"CP471*CQ471*CR471","v":{"$error":"#REF!"}},{"$f":"(CS471+CS472)/'DNSP Inputs O&M'!$H$476","v":{"$error":"#REF!"}},{"$f":"CT471/'DNSP Inputs O&M'!$H$468","v":{"$error":"#REF!"}},null,{"$f":"'DNSP Inputs O&M'!$H$12","v":{"$error":"#REF!"}},{"$f":"'DNSP Inputs O&M'!$H$472","v":2},{"$f":"'DNSP Inputs O&M'!$H$17","v":7.5},{"$f":"CW471*CX471*CY471","v":{"$error":"#REF!"}},{"$f":"(CZ471+CZ472)/'DNSP Inputs O&M'!$H$477","v":{"$error":"#REF!"}},{"$f":"DA471/'DNSP Inputs O&M'!$H$468","v":{"$error":"#REF!"}},null,{"$f":"'DNSP Inputs O&M'!$H$12","v":{"$error":"#REF!"}},{"$f":"'DNSP Inputs O&M'!$H$472","v":2},{"$f":"'DNSP Inputs O&M'!$H$17","v":7.5},{"$f":"DD471*DE471*DF471","v":{"$error":"#REF!"}},{"$f":"(DG471+DG472)/'DNSP Inputs O&M'!$H$478","v":{"$error":"#REF!"}},{"$f":"DH471/'DNSP Inputs O&M'!$H$468","v":{"$error":"#REF!"}}]
["Elevated platform vehicle costs",{"$f":"'DNSP Inputs O&M'!$D$14","v":50.18},1,{"$f":"'DNSP Inputs O&M'!$D$17","v":7.5},{"$f":"B472*C472*D472","v":376.35},null,null,null,{"$f":"'DNSP Inputs O&M'!$D$15","v":63.64},1,{"$f":"'DNSP Inputs O&M'!$D$17","v":7.5},{"$f":"I472*J472*K472","v":477.3},null,null,null,{"$f":"'DNSP Inputs O&M'!$D$15","v":63.64},1,{"$f":"'DNSP Inputs O&M'!$D$17","v":7.5},{"$f":"P472*Q472*R472","v":477.3},null,null,null,null,null,{"$f":"'DNSP Inputs O&M'!$E$14","v":50.18},1,{"$f":"'DNSP Inputs O&M'!$E$17","v":7.5},{"$f":"Y472*Z472*AA472","v":376.35},null,null,null,{"$f":"'DNSP Inputs O&M'!$E$15","v":63.64},1,{"$f":"'DNSP Inputs O&M'!$E$17","v":7.5},{"$f":"AF472*AG472*AH472","v":477.3},null,null,null,{"$f":"'DNSP Inputs O&M'!$E$15","v":63.64},1,{"$f":"'DNSP Inputs O&M'!$E$17","v":7.5},{"$f":"AM472*AN472*AO472","v":477.3},null,null,null,null,null,{"$f":"'DNSP Inputs O&M'!$F$14","v":50.18},1,{"$f":"'DNSP Inputs O&M'!$F$17","v":7.5},{"$f":"AV472*AW472*AX472","v":376.35},null,null,null,{"$f":"'DNSP Inputs O&M'!$F$15","v":63.64},1,{"$f":"'DNSP Inputs O&M'!$F$17","v":7.5},{"$f":"BC472*BD472*BE472","v":477.3},null,null,null,{"$f":"'DNSP Inputs O&M'!$F$15","v":63.64},1,{"$f":"'DNSP Inputs O&M'!$F$17","v":7.5},{"$f":"BJ472*BK472*BL472","v":477.3},null,null,null,null,null,{"$f":"'DNSP Inputs O&M'!$G$14","v":50.18},1,{"$f":"'DNSP Inputs O&M'!$G$17","v":7.5},{"$f":"BS472*BT472*BU472","v":376.35},null,null,null,{"$f":"'DNSP Inputs O&M'!$G$15","v":63.64},1,{"$f":"'DNSP Inputs O&M'!$G$17","v":7.5},{"$f":"BZ472*CA472*CB472","v":477.3},null,null,null,{"$f":"'DNSP Inputs O&M'!$G$15","v":63.64},1,{"$f":"'DNSP Inputs O&M'!$G$17","v":7.5},{"$f":"CG472*CH472*CI472","v":477.3},null,null,null,null,null,{"$f":"'DNSP Inputs O&M'!$H$14","v":50.18},1,{"$f":"'DNSP Inputs O&M'!$H$17","v":7.5},{"$f":"CP472*CQ472*CR472","v":376.35},null,null,null,{"$f":"'DNSP Inputs O&M'!$H$15","v":63.64},1,{"$f":"'DNSP Inputs O&M'!$H$17","v":7.5},{"$f":"CW472*CX472*CY472","v":477.3},null,null,null,{"$f":"'DNSP Inputs O&M'!$H$15","v":63.64},1,{"$f":"'DNSP Inputs O&M'!$H$17","v":7.5},{"$f":"DD472*DE472*DF472","v":477.3}]
["Other Maintenance and Repair costs",null,null,null,null,null,{"$f":"'DNSP Inputs O&M'!$D$488","v":2.1},null,null,null,null,null,null,{"$f":"'DNSP Inputs O&M'!$D$488","v":2.1},null,null,null,null,null,null,{"$f":"'DNSP Inputs O&M'!$D$488","v":2.1},null,null,null,null,null,null,null,null,{"$f":"'DNSP Inputs O&M'!$E$488","v":2.1},null,null,null,null,null,null,{"$f":"'DNSP Inputs O&M'!$E$488","v":2.1},null,null,null,null,null,null,{"$f":"'DNSP Inputs O&M'!$E$488","v":2.1},null,null,null,null,null,null,null,null,{"$f":"'DNSP Inputs O&M'!$F$488","v":2.1},null,null,null,null,null,null,{"$f":"'DNSP Inputs O&M'!$F$488","v":2.1},null,null,null,null,null,null,{"$f":"'DNSP Inputs O&M'!$F$488","v":2.1},null,null,null,null,null,null,null,null,{"$f":"'DNSP Inputs O&M'!$G$488","v":2.1},null,null,null,null,null,null,{"$f":"'DNSP Inputs O&M'!$G$488","v":2.1},null,null,null,null,null,null,{"$f":"'DNSP Inputs O&M'!$G$488","v":2.1},null,null,null,null,null,null,null,null,{"$f":"'DNSP Inputs O&M'!$H$488","v":2.1},null,null,null,null,null,null,{"$f":"'DNSP Inputs O&M'!$H$488","v":2.1},null,null,null,null,null,null,{"$f":"'DNSP Inputs O&M'!$H$488","v":2.1}]
[]
["Overheads",{"$f":"'DNSP Inputs O&M'!$D$18","v":0.25},null,null,null,null,{"$f":"B475*SUM(G462:G473)","v":3.8182546301726417},null,{"$f":"'DNSP Inputs O&M'!$D$18","v":0.25},null,null,null,null,{"$f":"I475*SUM(N462:N473)","v":4.9744401685531736},null,{"$f":"'DNSP Inputs O&M'!$D$18","v":0.25},null,null,null,null,{"$f":"P475*SUM(U462:U473)","v":7.0676845579130445},null,null,null,{"$f":"'DNSP Inputs O&M'!$E$18","v":0.25},null,null,null,null,{"$f":"Y475*SUM(AD462:AD473)","v":{"$error":"#REF!"}},null,{"$f":"'DNSP Inputs O&M'!$E$18","v":0.25},null,null,null,null,{"$f":"AF475*SUM(AK462:AK473)","v":{"$error":"#REF!"}},null,{"$f":"'DNSP Inputs O&M'!$E$18","v":0.25},null,null,null,null,{"$f":"AM475*SUM(AR462:AR473)","v":{"$error":"#REF!"}},null,null,null,{"$f":"'DNSP Inputs O&M'!$F$18","v":0.25},null,null,null,null,{"$f":"AV475*SUM(BA462:BA473)","v":{"$error":"#REF!"}},null,{"$f":"'DNSP Inputs O&M'!$F$18","v":0.25},null,null,null,null,{"$f":"BC475*SUM(BH462:BH473)","v":{"$error":"#REF!"}},null,{"$f":"'DNSP Inputs O&M'!$F$18","v":0.25},null,null,null,null,{"$f":"BJ475*SUM(BO462:BO473)","v":{"$error":"#REF!"}},null,null,null,{"$f":"'DNSP Inputs O&M'!$G$18","v":0.25},null,null,null,null,{"$f":"BS475*SUM(BX462:BX473)","v":{"$error":"#REF!"}},null,{"$f":"'DNSP Inputs O&M'!$G$18","v":0.25},null,null,null,null,{"$f":"BZ475*SUM(CE462:CE473)","v":{"$error":"#REF!"}},null,{"$f":"'DNSP Inputs O&M'!$G$18","v":0.25},null,null,null,null,{"$f":"CG475*SUM(CL462:CL473)","v":{"$error":"#REF!"}},null,null,null,{"$f":"'DNSP Inputs O&M'!$H$18","v":0.25},null,null,null,null,{"$f":"CP475*SUM(CU462:CU473)","v":{"$error":"#REF!"}},null,{"$f":"'DNSP Inputs O&M'!$H$18","v":0.25},null,null,null,null,{"$f":"CW475*SUM(DB462:DB473)","v":{"$error":"#REF!"}},null,{"$f":"'DNSP Inputs O&M'!$H$18","v":0.25},null,null,null,null,{"$f":"DD475*SUM(DI462:DI473)","v":{"$error":"#REF!"}}]
[]
[null,null,null,null,null,null,{"$f":"SUM(G462,G464,G468,G471,G473,G475)","v":19.091273150863209},null,null,null,null,null,null,{"$f":"SUM(N462,N464,N468,N471,N473,N475)","v":24.872200842765867},null,null,null,null,null,null,{"$f":"SUM(U462,U464,U468,U471,U473,U475)","v":35.338422789565222},null,null,null,null,null,null,null,null,{"$f":"SUM(AD462,AD464,AD468,AD471,AD473,AD475)","v":{"$error":"#REF!"}},null,null,null,null,null,null,{"$f":"SUM(AK462,AK464,AK468,AK471,AK473,AK475)","v":{"$error":"#REF!"}},null,null,null,null,null,null,{"$f":"SUM(AR462,AR464,AR468,AR471,AR473,AR475)","v":{"$error":"#REF!"}},null,null,null,null,null,null,null,null,{"$f":"SUM(BA462,BA464,BA468,BA471,BA473,BA475)","v":{"$error":"#REF!"}},null,null,null,null,null,null,{"$f":"SUM(BH462,BH464,BH468,BH471,BH473,BH475)","v":{"$error":"#REF!"}},null,null,null,null,null,null,{"$f":"SUM(BO462,BO464,BO468,BO471,BO473,BO475)","v":{"$error":"#REF!"}},null,null,null,null,null,null,null,null,{"$f":"SUM(BX462,BX464,BX468,BX471,BX473,BX475)","v":{"$error":"#REF!"}},null,null,null,null,null,null,{"$f":"SUM(CE462,CE464,CE468,CE471,CE473,CE475)","v":{"$error":"#REF!"}},null,null,null,null,null,null,{"$f":"SUM(CL462,CL464,CL468,CL471,CL473,CL475)","v":{"$error":"#REF!"}},null,null,null,null,null,null,null,null,{"$f":"SUM(CU462,CU464,CU468,CU471,CU473,CU475)","v":{"$error":"#REF!"}},null,null,null,null,null,null,{"$f":"SUM(DB462,DB464,DB468,DB471,DB473,DB475)","v":{"$error":"#REF!"}},null,null,null,null,null,null,{"$f":"SUM(DI462,DI464,DI468,DI471,DI473,DI475)","v":{"$error":"#REF!"}}]
[]
[]
[]
["NEW"]
["Category Smart lighting L1 - Cost build-up"]
[]
["Additional assumptions"]
[]
[]
["Overheads are applied to material and labour components"]
["All costs and charges are exclusive of GST"]
[]
[null,"Urban",null,null,null,null,null,null,"Rural",null,null,null,null,null,null,"Remote",null,null,null,null,null,null,null,null,"Urban",null,null,null,null,null,null,"Rural",null,null,null,null,null,null,"Remote",null,null,null,null,null,null,null,null,"Urban",null,null,null,null,null,null,"Rural",null,null,null,null,null,null,"Remote",null,null,null,null,null,null,null,null,"Urban",null,null,null,null,null,null,"Rural",null,null,null,null,null,null,"Remote",null,null,null,null,null,null,null,null,"Urban",null,null,null,null,null,null,"Rural",null,null,null,null,null,null,"Remote"]
[]
[null,"Unit rate","Number","Hours","Cost","Annualised","Annualised",null,"Unit rate","Number","Hours","Cost","Annualised","Annualised",null,"Unit rate","Number","Hours","Cost","Annualised","Annualised",null,null,null,"Unit rate","Number","Hours","Cost","Annualised","Annualised",null,"Unit rate","Number","Hours","Cost","Annualised","Annualised",null,"Unit rate","Number","Hours","Cost","Annualised","Annualised",null,null,null,"Unit rate","Number","Hours","Cost","Annualised","Annualised",null,"Unit rate","Number","Hours","Cost","Annualised","Annualised",null,"Unit rate","Number","Hours","Cost","Annualised","Annualised",null,null,null,"Unit rate","Number","Hours","Cost","Annualised","Annualised",null,"Unit rate","Number","Hours","Cost","Annualised","Annualised",null,"Unit rate","Number","Hours","Cost","Annualised","Annualised",null,null,null,"Unit rate","Number","Hours","Cost","Annualised","Annualised",null,"Unit rate","Number","Hours","Cost","Annualised","Annualised",null,"Unit rate","Number","Hours","Cost","Annualised","Annualised"]
[null,null,null,null,null," cost","unit cost",null,null,null,null,null," cost","unit cost",null,null,null,null,null," cost","unit cost",null,null,null,null,null,null,null," cost","unit cost",null,null,null,null,null," cost","unit cost",null,null,null,null,null," cost","unit cost",null,null,null,null,null,null,null," cost","unit cost",null,null,null,null,null," cost","unit cost",null,null,null,null,null," cost","unit cost",null,null,null,null,null,null,null," cost","unit cost",null,null,null,null,null," cost","unit cost",null,null,null,null,null," cost","unit cost",null,null,null,null,null,null,null," cost","unit cost",null,null,null,null,null," cost","unit cost",null,null,null,null,null," cost","unit cost"]
["Smart lighting L1"]
["Patrols & repairs"]
[]
[]
["Materials - repair of faults"]
["PE cell",{"$f":"'DNSP Inputs O&M'!$D$516","v":114.023},{"$f":"'DNSP Inputs O&M'!$D$523*'DNSP Inputs O&M'!$D$526","v":13.5},null,{"$f":"B499*C499","v":1539.3105},{"$f":"(E499+E500+E501)/'DNSP Inputs O&M'!$D$520","v":0.52469771921217689},{"$f":"F499*'DNSP Inputs O&M'!$D$467","v":1.5740931576365307},null,{"$f":"'DNSP Inputs O&M'!$D$516*(1+'DNSP Inputs O&M'!$D$11)","v":119.72414999999999},{"$f":"'DNSP Inputs O&M'!$D$524*'DNSP Inputs O&M'!$D$526","v":9.9},null,{"$f":"I499*J499","v":1185.2690849999999},{"$f":"(L499+L500+L501)/'DNSP Inputs O&M'!$D$521","v":0.60602586569006422},{"$f":"M499*'DNSP Inputs O&M'!$D$467","v":1.8180775970701926},null,{"$f":"'DNSP Inputs O&M'!$D$516*(1+'DNSP Inputs O&M'!$D$11)","v":119.72414999999999},{"$f":"'DNSP Inputs O&M'!$D$525*'DNSP Inputs O&M'!$D$526","v":8.1},null,{"$f":"P499*Q499","v":969.76561499999991},{"$f":"(S499+S500+S501)/'DNSP Inputs O&M'!$D$522","v":0.99167868931101433},{"$f":"T499*'DNSP Inputs O&M'!$D$467","v":2.975036067933043},null,null,null,{"$f":"'DNSP Inputs O&M'!$E$516","v":114.023},{"$f":"'DNSP Inputs O&M'!$E$523*'DNSP Inputs O&M'!$E$526","v":13.5},null,{"$f":"Y499*Z499","v":1539.3105},{"$f":"(AB499+AB500+AB501)/'DNSP Inputs O&M'!$E$520","v":0.52469771921217689},{"$f":"AC499*'DNSP Inputs O&M'!$E$467","v":1.5740931576365307},null,{"$f":"'DNSP Inputs O&M'!$E$516*(1+'DNSP Inputs O&M'!$E$11)","v":119.72414999999999},{"$f":"'DNSP Inputs O&M'!$E$524*'DNSP Inputs O&M'!$E$526","v":9.9},null,{"$f":"AF499*AG499","v":1185.2690849999999},{"$f":"(AI499+AI500+AI501)/'DNSP Inputs O&M'!$E$521","v":0.60602586569006422},{"$f":"AJ499*'DNSP Inputs O&M'!$E$467","v":1.8180775970701926},null,{"$f":"'DNSP Inputs O&M'!$E$516*(1+'DNSP Inputs O&M'!$E$11)","v":119.72414999999999},{"$f":"'DNSP Inputs O&M'!$E$525*'DNSP Inputs O&M'!$E$526","v":8.1},null,{"$f":"AM499*AN499","v":969.76561499999991},{"$f":"(AP499+AP500+AP501)/'DNSP Inputs O&M'!$E$522","v":0.99167868931101433},{"$f":"AQ499*'DNSP Inputs O&M'!$E$467","v":2.975036067933043},null,null,null,{"$f":"'DNSP Inputs O&M'!$F$516","v":114.023},{"$f":"'DNSP Inputs O&M'!$F$523*'DNSP Inputs O&M'!$F$526","v":13.5},null,{"$f":"AV499*AW499","v":1539.3105},{"$f":"(AY499+AY500+AY501)/'DNSP Inputs O&M'!$F$520","v":0.52469771921217689},{"$f":"AZ499*'DNSP Inputs O&M'!$F$467","v":1.5740931576365307},null,{"$f":"'DNSP Inputs O&M'!$F$516*(1+'DNSP Inputs O&M'!$F$11)","v":119.72414999999999},{"$f":"'DNSP Inputs O&M'!$F$524*'DNSP Inputs O&M'!$F$526","v":9.9},null,{"$f":"BC499*BD499","v":1185.2690849999999},{"$f":"(BF499+BF500+BF501)/'DNSP Inputs O&M'!$F$521","v":0.60602586569006422},{"$f":"BG499*'DNSP Inputs O&M'!$F$467","v":1.8180775970701926},null,{"$f":"'DNSP Inputs O&M'!$F$516*(1+'DNSP Inputs O&M'!$F$11)","v":119.72414999999999},{"$f":"'DNSP Inputs O&M'!$F$525*'DNSP Inputs O&M'!$F$526","v":8.1},null,{"$f":"BJ499*BK499","v":969.76561499999991},{"$f":"(BM499+BM500+BM501)/'DNSP Inputs O&M'!$F$522","v":0.99167868931101433},{"$f":"BN499*'DNSP Inputs O&M'!$F$467","v":2.975036067933043},null,null,null,{"$f":"'DNSP Inputs O&M'!$G$516","v":114.023},{"$f":"'DNSP Inputs O&M'!$G$523*'DNSP Inputs O&M'!$G$526","v":13.5},null,{"$f":"BS499*BT499","v":1539.3105},{"$f":"(BV499+BV500+BV501)/'DNSP Inputs O&M'!$G$520","v":0.52469771921217689},{"$f":"BW499*'DNSP Inputs O&M'!$G$467","v":1.5740931576365307},null,{"$f":"'DNSP Inputs O&M'!$G$516*(1+'DNSP Inputs O&M'!$G$11)","v":119.72414999999999},{"$f":"'DNSP Inputs O&M'!$G$524*'DNSP Inputs O&M'!$G$526","v":9.9},null,{"$f":"BZ499*CA499","v":1185.2690849999999},{"$f":"(CC499+CC500+CC501)/'DNSP Inputs O&M'!$G$521","v":0.60602586569006422},{"$f":"CD499*'DNSP Inputs O&M'!$G$467","v":1.8180775970701926},null,{"$f":"'DNSP Inputs O&M'!$G$516*(1+'DNSP Inputs O&M'!$G$11)","v":119.72414999999999},{"$f":"'DNSP Inputs O&M'!$G$525*'DNSP Inputs O&M'!$G$526","v":8.1},null,{"$f":"CG499*CH499","v":969.76561499999991},{"$f":"(CJ499+CJ500+CJ501)/'DNSP Inputs O&M'!$G$522","v":0.99167868931101433},{"$f":"CK499*'DNSP Inputs O&M'!$G$467","v":2.975036067933043},null,null,null,{"$f":"'DNSP Inputs O&M'!$H$516","v":114.023},{"$f":"'DNSP Inputs O&M'!$H$523*'DNSP Inputs O&M'!$H$526","v":13.5},null,{"$f":"CP499*CQ499","v":1539.3105},{"$f":"(CS499+CS500+CS501)/'DNSP Inputs O&M'!$H$520","v":0.52469771921217689},{"$f":"CT499*'DNSP Inputs O&M'!$H$467","v":1.5740931576365307},null,{"$f":"'DNSP Inputs O&M'!$H$516*(1+'DNSP Inputs O&M'!$H$11)","v":119.72414999999999},{"$f":"'DNSP Inputs O&M'!$H$524*'DNSP Inputs O&M'!$H$526","v":9.9},null,{"$f":"CW499*CX499","v":1185.2690849999999},{"$f":"(CZ499+CZ500+CZ501)/'DNSP Inputs O&M'!$H$521","v":0.60602586569006422},{"$f":"DA499*'DNSP Inputs O&M'!$H$467","v":1.8180775970701926},null,{"$f":"'DNSP Inputs O&M'!$H$516*(1+'DNSP Inputs O&M'!$H$11)","v":119.72414999999999},{"$f":"'DNSP Inputs O&M'!$H$525*'DNSP Inputs O&M'!$H$526","v":8.1},null,{"$f":"DD499*DE499","v":969.76561499999991},{"$f":"(DG499+DG500+DG501)/'DNSP Inputs O&M'!$H$522","v":0.99167868931101433},{"$f":"DH499*'DNSP Inputs O&M'!$H$467","v":2.975036067933043}]
["Luminaire",{"$f":"'DNSP Inputs O&M'!$D$517","v":402},{"$f":"'DNSP Inputs O&M'!$D$523*'DNSP Inputs O&M'!$D$527","v":0},null,{"$f":"B500*C500","v":0},null,null,null,{"$f":"'DNSP Inputs O&M'!$D$517*(1+'DNSP Inputs O&M'!$D$11)","v":422.1},{"$f":"'DNSP Inputs O&M'!$D$524*'DNSP Inputs O&M'!$D$527","v":0},null,{"$f":"I500*J500","v":0},null,null,null,{"$f":"'DNSP Inputs O&M'!$D$517*(1+'DNSP Inputs O&M'!$D$11)","v":422.1},{"$f":"'DNSP Inputs O&M'!$D$525*'DNSP Inputs O&M'!$D$527","v":0},null,{"$f":"P500*Q500","v":0},null,null,null,null,null,{"$f":"'DNSP Inputs O&M'!$E$517","v":402},{"$f":"'DNSP Inputs O&M'!$E$523*'DNSP Inputs O&M'!$E$527","v":0},null,{"$f":"Y500*Z500","v":0},null,null,null,{"$f":"'DNSP Inputs O&M'!$E$517*(1+'DNSP Inputs O&M'!$E$11)","v":422.1},{"$f":"'DNSP Inputs O&M'!$E$524*'DNSP Inputs O&M'!$E$527","v":0},null,{"$f":"AF500*AG500","v":0},null,null,null,{"$f":"'DNSP Inputs O&M'!$E$517*(1+'DNSP Inputs O&M'!$E$11)","v":422.1},{"$f":"'DNSP Inputs O&M'!$E$525*'DNSP Inputs O&M'!$E$527","v":0},null,{"$f":"AM500*AN500","v":0},null,null,null,null,null,{"$f":"'DNSP Inputs O&M'!$F$517","v":402},{"$f":"'DNSP Inputs O&M'!$F$523*'DNSP Inputs O&M'!$F$527","v":0},null,{"$f":"AV500*AW500","v":0},null,null,null,{"$f":"'DNSP Inputs O&M'!$F$517*(1+'DNSP Inputs O&M'!$F$11)","v":422.1},{"$f":"'DNSP Inputs O&M'!$F$524*'DNSP Inputs O&M'!$F$527","v":0},null,{"$f":"BC500*BD500","v":0},null,null,null,{"$f":"'DNSP Inputs O&M'!$F$517*(1+'DNSP Inputs O&M'!$F$11)","v":422.1},{"$f":"'DNSP Inputs O&M'!$F$525*'DNSP Inputs O&M'!$F$527","v":0},null,{"$f":"BJ500*BK500","v":0},null,null,null,null,null,{"$f":"'DNSP Inputs O&M'!$G$517","v":402},{"$f":"'DNSP Inputs O&M'!$G$523*'DNSP Inputs O&M'!$G$527","v":0},null,{"$f":"BS500*BT500","v":0},null,null,null,{"$f":"'DNSP Inputs O&M'!$G$517*(1+'DNSP Inputs O&M'!$G$11)","v":422.1},{"$f":"'DNSP Inputs O&M'!$G$524*'DNSP Inputs O&M'!$G$527","v":0},null,{"$f":"BZ500*CA500","v":0},null,null,null,{"$f":"'DNSP Inputs O&M'!$G$517*(1+'DNSP Inputs O&M'!$G$11)","v":422.1},{"$f":"'DNSP Inputs O&M'!$G$525*'DNSP Inputs O&M'!$G$527","v":0},null,{"$f":"CG500*CH500","v":0},null,null,null,null,null,{"$f":"'DNSP Inputs O&M'!$H$517","v":402},{"$f":"'DNSP Inputs O&M'!$H$523*'DNSP Inputs O&M'!$H$527","v":0},null,{"$f":"CP500*CQ500","v":0},null,null,null,{"$f":"'DNSP Inputs O&M'!$H$517*(1+'DNSP Inputs O&M'!$H$11)","v":422.1},{"$f":"'DNSP Inputs O&M'!$H$524*'DNSP Inputs O&M'!$H$527","v":0},null,{"$f":"CW500*CX500","v":0},null,null,null,{"$f":"'DNSP Inputs O&M'!$H$517*(1+'DNSP Inputs O&M'!$H$11)","v":422.1},{"$f":"'DNSP Inputs O&M'!$H$525*'DNSP Inputs O&M'!$H$527","v":0},null,{"$f":"DD500*DE500","v":0}]
["Miscellaneous",{"$f":"'DNSP Inputs O&M'!$D$518","v":23.188438424353883},{"$f":"'DNSP Inputs O&M'!$D$523*'DNSP Inputs O&M'!$D$528","v":1.5},null,{"$f":"B501*C501","v":34.782657636530828},null,null,null,{"$f":"'DNSP Inputs O&M'!$D$518*(1+'DNSP Inputs O&M'!$D$11)","v":24.347860345571579},{"$f":"'DNSP Inputs O&M'!$D$524*'DNSP Inputs O&M'!$D$528","v":1.1000000000000001},null,{"$f":"I501*J501","v":26.782646380128739},null,null,null,{"$f":"'DNSP Inputs O&M'!$D$518*(1+'DNSP Inputs O&M'!$D$11)","v":24.347860345571579},{"$f":"'DNSP Inputs O&M'!$D$525*'DNSP Inputs O&M'!$D$528","v":0.9},null,{"$f":"P501*Q501","v":21.913074311014423},null,null,null,null,null,{"$f":"'DNSP Inputs O&M'!$E$518","v":23.188438424353883},{"$f":"'DNSP Inputs O&M'!$E$523*'DNSP Inputs O&M'!$E$528","v":1.5},null,{"$f":"Y501*Z501","v":34.782657636530828},null,null,null,{"$f":"'DNSP Inputs O&M'!$E$518*(1+'DNSP Inputs O&M'!$E$11)","v":24.347860345571579},{"$f":"'DNSP Inputs O&M'!$E$524*'DNSP Inputs O&M'!$E$528","v":1.1000000000000001},null,{"$f":"AF501*AG501","v":26.782646380128739},null,null,null,{"$f":"'DNSP Inputs O&M'!$E$518*(1+'DNSP Inputs O&M'!$E$11)","v":24.347860345571579},{"$f":"'DNSP Inputs O&M'!$E$525*'DNSP Inputs O&M'!$E$528","v":0.9},null,{"$f":"AM501*AN501","v":21.913074311014423},null,null,null,null,null,{"$f":"'DNSP Inputs O&M'!$F$518","v":23.188438424353883},{"$f":"'DNSP Inputs O&M'!$F$523*'DNSP Inputs O&M'!$F$528","v":1.5},null,{"$f":"AV501*AW501","v":34.782657636530828},null,null,null,{"$f":"'DNSP Inputs O&M'!$F$518*(1+'DNSP Inputs O&M'!$F$11)","v":24.347860345571579},{"$f":"'DNSP Inputs O&M'!$F$524*'DNSP Inputs O&M'!$F$528","v":1.1000000000000001},null,{"$f":"BC501*BD501","v":26.782646380128739},null,null,null,{"$f":"'DNSP Inputs O&M'!$F$518*(1+'DNSP Inputs O&M'!$F$11)","v":24.347860345571579},{"$f":"'DNSP Inputs O&M'!$F$525*'DNSP Inputs O&M'!$F$528","v":0.9},null,{"$f":"BJ501*BK501","v":21.913074311014423},null,null,null,null,null,{"$f":"'DNSP Inputs O&M'!$G$518","v":23.188438424353883},{"$f":"'DNSP Inputs O&M'!$G$523*'DNSP Inputs O&M'!$G$528","v":1.5},null,{"$f":"BS501*BT501","v":34.782657636530828},null,null,null,{"$f":"'DNSP Inputs O&M'!$G$518*(1+'DNSP Inputs O&M'!$G$11)","v":24.347860345571579},{"$f":"'DNSP Inputs O&M'!$G$524*'DNSP Inputs O&M'!$G$528","v":1.1000000000000001},null,{"$f":"BZ501*CA501","v":26.782646380128739},null,null,null,{"$f":"'DNSP Inputs O&M'!$G$518*(1+'DNSP Inputs O&M'!$G$11)","v":24.347860345571579},{"$f":"'DNSP Inputs O&M'!$G$525*'DNSP Inputs O&M'!$G$528","v":0.9},null,{"$f":"CG501*CH501","v":21.913074311014423},null,null,null,null,null,{"$f":"'DNSP Inputs O&M'!$H$518","v":23.188438424353883},{"$f":"'DNSP Inputs O&M'!$H$523*'DNSP Inputs O&M'!$H$528","v":1.5},null,{"$f":"CP501*CQ501","v":34.782657636530828},null,null,null,{"$f":"'DNSP Inputs O&M'!$H$518*(1+'DNSP Inputs O&M'!$H$11)","v":24.347860345571579},{"$f":"'DNSP Inputs O&M'!$H$524*'DNSP Inputs O&M'!$H$528","v":1.1000000000000001},null,{"$f":"CW501*CX501","v":26.782646380128739},null,null,null,{"$f":"'DNSP Inputs O&M'!$H$518*(1+'DNSP Inputs O&M'!$H$11)","v":24.347860345571579},{"$f":"'DNSP Inputs O&M'!$H$525*'DNSP Inputs O&M'!$H$528","v":0.9},null,{"$f":"DD501*DE501","v":21.913074311014423}]
["Labour - Patrol"]
["Crew costs",{"$f":"'DNSP Inputs O&M'!$D$12","v":111.36223236834823},{"$f":"'DNSP Inputs O&M'!$D$519","v":2},{"$f":"'DNSP Inputs O&M'!$D$17","v":7.5},{"$f":"B503*C503*D503","v":1670.4334855252234},{"$f":"E503/'DNSP Inputs O&M'!$D$520","v":0.55681116184174118},{"$f":"(F503+F504)*'DNSP Inputs O&M'!$D$467","v":1.9282084855252237},null,{"$f":"'DNSP Inputs O&M'!$D$12","v":111.36223236834823},{"$f":"'DNSP Inputs O&M'!$D$519","v":2},{"$f":"'DNSP Inputs O&M'!$D$17","v":7.5},{"$f":"I503*J503*K503","v":1670.4334855252234},{"$f":"L503/'DNSP Inputs O&M'!$D$521","v":0.83521674276261171},{"$f":"(M503+M504)*'DNSP Inputs O&M'!$D$467","v":2.8923127282878349},null,{"$f":"'DNSP Inputs O&M'!$D$12","v":111.36223236834823},{"$f":"'DNSP Inputs O&M'!$D$519","v":2},{"$f":"'DNSP Inputs O&M'!$D$17","v":7.5},{"$f":"P503*Q503*R503","v":1670.4334855252234},{"$f":"S503/'DNSP Inputs O&M'!$D$522","v":1.6704334855252234},{"$f":"(T503+T504)*'DNSP Inputs O&M'!$D$467","v":5.7846254565756698},null,null,null,{"$f":"'DNSP Inputs O&M'!$E$12","v":{"$error":"#REF!"}},{"$f":"'DNSP Inputs O&M'!$E$519","v":2},{"$f":"'DNSP Inputs O&M'!$E$17","v":7.5},{"$f":"Y503*Z503*AA503","v":{"$error":"#REF!"}},{"$f":"AB503/'DNSP Inputs O&M'!$E$520","v":{"$error":"#REF!"}},{"$f":"(AC503+AC504)*'DNSP Inputs O&M'!$E$467","v":{"$error":"#REF!"}},null,{"$f":"'DNSP Inputs O&M'!$E$12","v":{"$error":"#REF!"}},{"$f":"'DNSP Inputs O&M'!$E$519","v":2},{"$f":"'DNSP Inputs O&M'!$E$17","v":7.5},{"$f":"AF503*AG503*AH503","v":{"$error":"#REF!"}},{"$f":"AI503/'DNSP Inputs O&M'!$E$521","v":{"$error":"#REF!"}},{"$f":"(AJ503+AJ504)*'DNSP Inputs O&M'!$E$467","v":{"$error":"#REF!"}},null,{"$f":"'DNSP Inputs O&M'!$E$12","v":{"$error":"#REF!"}},{"$f":"'DNSP Inputs O&M'!$E$519","v":2},{"$f":"'DNSP Inputs O&M'!$E$17","v":7.5},{"$f":"AM503*AN503*AO503","v":{"$error":"#REF!"}},{"$f":"AP503/'DNSP Inputs O&M'!$E$522","v":{"$error":"#REF!"}},{"$f":"(AQ503+AQ504)*'DNSP Inputs O&M'!$E$467","v":{"$error":"#REF!"}},null,null,null,{"$f":"'DNSP Inputs O&M'!$F$12","v":{"$error":"#REF!"}},{"$f":"'DNSP Inputs O&M'!$F$519","v":2},{"$f":"'DNSP Inputs O&M'!$F$17","v":7.5},{"$f":"AV503*AW503*AX503","v":{"$error":"#REF!"}},{"$f":"AY503/'DNSP Inputs O&M'!$F$520","v":{"$error":"#REF!"}},{"$f":"(AZ503+AZ504)*'DNSP Inputs O&M'!$F$467","v":{"$error":"#REF!"}},null,{"$f":"'DNSP Inputs O&M'!$F$12","v":{"$error":"#REF!"}},{"$f":"'DNSP Inputs O&M'!$F$519","v":2},{"$f":"'DNSP Inputs O&M'!$F$17","v":7.5},{"$f":"BC503*BD503*BE503","v":{"$error":"#REF!"}},{"$f":"BF503/'DNSP Inputs O&M'!$F$521","v":{"$error":"#REF!"}},{"$f":"(BG503+BG504)*'DNSP Inputs O&M'!$F$467","v":{"$error":"#REF!"}},null,{"$f":"'DNSP Inputs O&M'!$F$12","v":{"$error":"#REF!"}},{"$f":"'DNSP Inputs O&M'!$F$519","v":2},{"$f":"'DNSP Inputs O&M'!$F$17","v":7.5},{"$f":"BJ503*BK503*BL503","v":{"$error":"#REF!"}},{"$f":"BM503/'DNSP Inputs O&M'!$F$522","v":{"$error":"#REF!"}},{"$f":"(BN503+BN504)*'DNSP Inputs O&M'!$F$467","v":{"$error":"#REF!"}},null,null,null,{"$f":"'DNSP Inputs O&M'!$G$12","v":{"$error":"#REF!"}},{"$f":"'DNSP Inputs O&M'!$G$519","v":2},{"$f":"'DNSP Inputs O&M'!$G$17","v":7.5},{"$f":"BS503*BT503*BU503","v":{"$error":"#REF!"}},{"$f":"BV503/'DNSP Inputs O&M'!$G$520","v":{"$error":"#REF!"}},{"$f":"(BW503+BW504)*'DNSP Inputs O&M'!$G$467","v":{"$error":"#REF!"}},null,{"$f":"'DNSP Inputs O&M'!$G$12","v":{"$error":"#REF!"}},{"$f":"'DNSP Inputs O&M'!$G$519","v":2},{"$f":"'DNSP Inputs O&M'!$G$17","v":7.5},{"$f":"BZ503*CA503*CB503","v":{"$error":"#REF!"}},{"$f":"CC503/'DNSP Inputs O&M'!$G$521","v":{"$error":"#REF!"}},{"$f":"(CD503+CD504)*'DNSP Inputs O&M'!$G$467","v":{"$error":"#REF!"}},null,{"$f":"'DNSP Inputs O&M'!$G$12","v":{"$error":"#REF!"}},{"$f":"'DNSP Inputs O&M'!$G$519","v":2},{"$f":"'DNSP Inputs O&M'!$G$17","v":7.5},{"$f":"CG503*CH503*CI503","v":{"$error":"#REF!"}},{"$f":"CJ503/'DNSP Inputs O&M'!$G$522","v":{"$error":"#REF!"}},{"$f":"(CK503+CK504)*'DNSP Inputs O&M'!$G$467","v":{"$error":"#REF!"}},null,null,null,{"$f":"'DNSP Inputs O&M'!$H$12","v":{"$error":"#REF!"}},{"$f":"'DNSP Inputs O&M'!$H$519","v":2},{"$f":"'DNSP Inputs O&M'!$H$17","v":7.5},{"$f":"CP503*CQ503*CR503","v":{"$error":"#REF!"}},{"$f":"CS503/'DNSP Inputs O&M'!$H$520","v":{"$error":"#REF!"}},{"$f":"(CT503+CT504)*'DNSP Inputs O&M'!$H$467","v":{"$error":"#REF!"}},null,{"$f":"'DNSP Inputs O&M'!$H$12","v":{"$error":"#REF!"}},{"$f":"'DNSP Inputs O&M'!$H$519","v":2},{"$f":"'DNSP Inputs O&M'!$H$17","v":7.5},{"$f":"CW503*CX503*CY503","v":{"$error":"#REF!"}},{"$f":"CZ503/'DNSP Inputs O&M'!$H$521","v":{"$error":"#REF!"}},{"$f":"(DA503+DA504)*'DNSP Inputs O&M'!$H$467","v":{"$error":"#REF!"}},null,{"$f":"'DNSP Inputs O&M'!$H$12","v":{"$error":"#REF!"}},{"$f":"'DNSP Inputs O&M'!$H$519","v":2},{"$f":"'DNSP Inputs O&M'!$H$17","v":7.5},{"$f":"DD503*DE503*DF503","v":{"$error":"#REF!"}},{"$f":"DG503/'DNSP Inputs O&M'!$H$522","v":{"$error":"#REF!"}},{"$f":"(DH503+DH504)*'DNSP Inputs O&M'!$H$467","v":{"$error":"#REF!"}}]
["Vehicle costs",{"$f":"'DNSP Inputs O&M'!$D$16","v":34.369999999999997},1,{"$f":"'DNSP Inputs O&M'!$D$17","v":7.5},{"$f":"B504*C504*D504","v":257.77499999999998},{"$f":"E504/'DNSP Inputs O&M'!$D$520","v":8.5924999999999987E-2},null,null,{"$f":"'DNSP Inputs O&M'!$D$16","v":34.369999999999997},1,{"$f":"'DNSP Inputs O&M'!$D$17","v":7.5},{"$f":"I504*J504*K504","v":257.77499999999998},{"$f":"L504/'DNSP Inputs O&M'!$D$521","v":0.12888749999999999},null,null,{"$f":"'DNSP Inputs O&M'!$D$16","v":34.369999999999997},1,{"$f":"'DNSP Inputs O&M'!$D$17","v":7.5},{"$f":"P504*Q504*R504","v":257.77499999999998},{"$f":"S504/'DNSP Inputs O&M'!$D$522","v":0.25777499999999998},null,null,null,null,{"$f":"'DNSP Inputs O&M'!$E$16","v":34.369999999999997},1,{"$f":"'DNSP Inputs O&M'!$E$17","v":7.5},{"$f":"Y504*Z504*AA504","v":257.77499999999998},{"$f":"AB504/'DNSP Inputs O&M'!$E$520","v":8.5924999999999987E-2},null,null,{"$f":"'DNSP Inputs O&M'!$E$16","v":34.369999999999997},1,{"$f":"'DNSP Inputs O&M'!$E$17","v":7.5},{"$f":"AF504*AG504*AH504","v":257.77499999999998},{"$f":"AI504/'DNSP Inputs O&M'!$E$521","v":0.12888749999999999},null,null,{"$f":"'DNSP Inputs O&M'!$E$16","v":34.369999999999997},1,{"$f":"'DNSP Inputs O&M'!$E$17","v":7.5},{"$f":"AM504*AN504*AO504","v":257.77499999999998},{"$f":"AP504/'DNSP Inputs O&M'!$E$522","v":0.25777499999999998},null,null,null,null,{"$f":"'DNSP Inputs O&M'!$F$16","v":34.369999999999997},1,{"$f":"'DNSP Inputs O&M'!$F$17","v":7.5},{"$f":"AV504*AW504*AX504","v":257.77499999999998},{"$f":"AY504/'DNSP Inputs O&M'!$F$520","v":8.5924999999999987E-2},null,null,{"$f":"'DNSP Inputs O&M'!$F$16","v":34.369999999999997},1,{"$f":"'DNSP Inputs O&M'!$F$17","v":7.5},{"$f":"BC504*BD504*BE504","v":257.77499999999998},{"$f":"BF504/'DNSP Inputs O&M'!$F$521","v":0.12888749999999999},null,null,{"$f":"'DNSP Inputs O&M'!$F$16","v":34.369999999999997},1,{"$f":"'DNSP Inputs O&M'!$F$17","v":7.5},{"$f":"BJ504*BK504*BL504","v":257.77499999999998},{"$f":"BM504/'DNSP Inputs O&M'!$F$522","v":0.25777499999999998},null,null,null,null,{"$f":"'DNSP Inputs O&M'!$G$16","v":34.369999999999997},1,{"$f":"'DNSP Inputs O&M'!$G$17","v":7.5},{"$f":"BS504*BT504*BU504","v":257.77499999999998},{"$f":"BV504/'DNSP Inputs O&M'!$G$520","v":8.5924999999999987E-2},null,null,{"$f":"'DNSP Inputs O&M'!$G$16","v":34.369999999999997},1,{"$f":"'DNSP Inputs O&M'!$G$17","v":7.5},{"$f":"BZ504*CA504*CB504","v":257.77499999999998},{"$f":"CC504/'DNSP Inputs O&M'!$G$521","v":0.12888749999999999},null,null,{"$f":"'DNSP Inputs O&M'!$G$16","v":34.369999999999997},1,{"$f":"'DNSP Inputs O&M'!$G$17","v":7.5},{"$f":"CG504*CH504*CI504","v":257.77499999999998},{"$f":"CJ504/'DNSP Inputs O&M'!$G$522","v":0.25777499999999998},null,null,null,null,{"$f":"'DNSP Inputs O&M'!$H$16","v":34.369999999999997},1,{"$f":"'DNSP Inputs O&M'!$H$17","v":7.5},{"$f":"CP504*CQ504*CR504","v":257.77499999999998},{"$f":"CS504/'DNSP Inputs O&M'!$H$520","v":8.5924999999999987E-2},null,null,{"$f":"'DNSP Inputs O&M'!$H$16","v":34.369999999999997},1,{"$f":"'DNSP Inputs O&M'!$H$17","v":7.5},{"$f":"CW504*CX504*CY504","v":257.77499999999998},{"$f":"CZ504/'DNSP Inputs O&M'!$H$521","v":0.12888749999999999},null,null,{"$f":"'DNSP Inputs O&M'!$H$16","v":34.369999999999997},1,{"$f":"'DNSP Inputs O&M'!$H$17","v":7.5},{"$f":"DD504*DE504*DF504","v":257.77499999999998},{"$f":"DG504/'DNSP Inputs O&M'!$H$522","v":0.25777499999999998}]
["Labour - repair of faults"]
["Crew costs",{"$f":"'DNSP Inputs O&M'!$D$12","v":111.36223236834823},{"$f":"'DNSP Inputs O&M'!$D$519","v":2},{"$f":"'DNSP Inputs O&M'!$D$17","v":7.5},{"$f":"B506*C506*D506","v":1670.4334855252234},{"$f":"(E506+E507)/'DNSP Inputs O&M'!$D$523","v":136.45223236834823},{"$f":"F506/'DNSP Inputs O&M'!$D$468","v":13.645223236834823},null,{"$f":"'DNSP Inputs O&M'!$D$12","v":111.36223236834823},{"$f":"'DNSP Inputs O&M'!$D$519","v":2},{"$f":"'DNSP Inputs O&M'!$D$17","v":7.5},{"$f":"I506*J506*K506","v":1670.4334855252234},{"$f":"(L506+L507)/'DNSP Inputs O&M'!$D$524","v":195.24849868411121},{"$f":"M506/'DNSP Inputs O&M'!$D$468","v":19.52484986841112},null,{"$f":"'DNSP Inputs O&M'!$D$12","v":111.36223236834823},{"$f":"'DNSP Inputs O&M'!$D$519","v":2},{"$f":"'DNSP Inputs O&M'!$D$17","v":7.5},{"$f":"P506*Q506*R506","v":1670.4334855252234},{"$f":"(S506+S507)/'DNSP Inputs O&M'!$D$525","v":238.63705394724704},{"$f":"T506/'DNSP Inputs O&M'!$D$468","v":23.863705394724704},null,null,null,{"$f":"'DNSP Inputs O&M'!$E$12","v":{"$error":"#REF!"}},{"$f":"'DNSP Inputs O&M'!$E$519","v":2},{"$f":"'DNSP Inputs O&M'!$E$17","v":7.5},{"$f":"Y506*Z506*AA506","v":{"$error":"#REF!"}},{"$f":"(AB506+AB507)/'DNSP Inputs O&M'!$E$523","v":{"$error":"#REF!"}},{"$f":"AC506/'DNSP Inputs O&M'!$E$468","v":{"$error":"#REF!"}},null,{"$f":"'DNSP Inputs O&M'!$E$12","v":{"$error":"#REF!"}},{"$f":"'DNSP Inputs O&M'!$E$519","v":2},{"$f":"'DNSP Inputs O&M'!$E$17","v":7.5},{"$f":"AF506*AG506*AH506","v":{"$error":"#REF!"}},{"$f":"(AI506+AI507)/'DNSP Inputs O&M'!$E$524","v":{"$error":"#REF!"}},{"$f":"AJ506/'DNSP Inputs O&M'!$E$468","v":{"$error":"#REF!"}},null,{"$f":"'DNSP Inputs O&M'!$E$12","v":{"$error":"#REF!"}},{"$f":"'DNSP Inputs O&M'!$E$519","v":2},{"$f":"'DNSP Inputs O&M'!$E$17","v":7.5},{"$f":"AM506*AN506*AO506","v":{"$error":"#REF!"}},{"$f":"(AP506+AP507)/'DNSP Inputs O&M'!$E$525","v":{"$error":"#REF!"}},{"$f":"AQ506/'DNSP Inputs O&M'!$E$468","v":{"$error":"#REF!"}},null,null,null,{"$f":"'DNSP Inputs O&M'!$F$12","v":{"$error":"#REF!"}},{"$f":"'DNSP Inputs O&M'!$F$519","v":2},{"$f":"'DNSP Inputs O&M'!$F$17","v":7.5},{"$f":"AV506*AW506*AX506","v":{"$error":"#REF!"}},{"$f":"(AY506+AY507)/'DNSP Inputs O&M'!$F$523","v":{"$error":"#REF!"}},{"$f":"AZ506/'DNSP Inputs O&M'!$F$468","v":{"$error":"#REF!"}},null,{"$f":"'DNSP Inputs O&M'!$F$12","v":{"$error":"#REF!"}},{"$f":"'DNSP Inputs O&M'!$F$519","v":2},{"$f":"'DNSP Inputs O&M'!$F$17","v":7.5},{"$f":"BC506*BD506*BE506","v":{"$error":"#REF!"}},{"$f":"(BF506+BF507)/'DNSP Inputs O&M'!$F$524","v":{"$error":"#REF!"}},{"$f":"BG506/'DNSP Inputs O&M'!$F$468","v":{"$error":"#REF!"}},null,{"$f":"'DNSP Inputs O&M'!$F$12","v":{"$error":"#REF!"}},{"$f":"'DNSP Inputs O&M'!$F$519","v":2},{"$f":"'DNSP Inputs O&M'!$F$17","v":7.5},{"$f":"BJ506*BK506*BL506","v":{"$error":"#REF!"}},{"$f":"(BM506+BM507)/'DNSP Inputs O&M'!$F$525","v":{"$error":"#REF!"}},{"$f":"BN506/'DNSP Inputs O&M'!$F$468","v":{"$error":"#REF!"}},null,null,null,{"$f":"'DNSP Inputs O&M'!$G$12","v":{"$error":"#REF!"}},{"$f":"'DNSP Inputs O&M'!$G$519","v":2},{"$f":"'DNSP Inputs O&M'!$G$17","v":7.5},{"$f":"BS506*BT506*BU506","v":{"$error":"#REF!"}},{"$f":"(BV506+BV507)/'DNSP Inputs O&M'!$G$523","v":{"$error":"#REF!"}},{"$f":"BW506/'DNSP Inputs O&M'!$G$468","v":{"$error":"#REF!"}},null,{"$f":"'DNSP Inputs O&M'!$G$12","v":{"$error":"#REF!"}},{"$f":"'DNSP Inputs O&M'!$G$519","v":2},{"$f":"'DNSP Inputs O&M'!$G$17","v":7.5},{"$f":"BZ506*CA506*CB506","v":{"$error":"#REF!"}},{"$f":"(CC506+CC507)/'DNSP Inputs O&M'!$G$524","v":{"$error":"#REF!"}},{"$f":"CD506/'DNSP Inputs O&M'!$G$468","v":{"$error":"#REF!"}},null,{"$f":"'DNSP Inputs O&M'!$G$12","v":{"$error":"#REF!"}},{"$f":"'DNSP Inputs O&M'!$G$519","v":2},{"$f":"'DNSP Inputs O&M'!$G$17","v":7.5},{"$f":"CG506*CH506*CI506","v":{"$error":"#REF!"}},{"$f":"(CJ506+CJ507)/'DNSP Inputs O&M'!$G$525","v":{"$error":"#REF!"}},{"$f":"CK506/'DNSP Inputs O&M'!$G$468","v":{"$error":"#REF!"}},null,null,null,{"$f":"'DNSP Inputs O&M'!$H$12","v":{"$error":"#REF!"}},{"$f":"'DNSP Inputs O&M'!$H$519","v":2},{"$f":"'DNSP Inputs O&M'!$H$17","v":7.5},{"$f":"CP506*CQ506*CR506","v":{"$error":"#REF!"}},{"$f":"(CS506+CS507)/'DNSP Inputs O&M'!$H$523","v":{"$error":"#REF!"}},{"$f":"CT506/'DNSP Inputs O&M'!$H$468","v":{"$error":"#REF!"}},null,{"$f":"'DNSP Inputs O&M'!$H$12","v":{"$error":"#REF!"}},{"$f":"'DNSP Inputs O&M'!$H$519","v":2},{"$f":"'DNSP Inputs O&M'!$H$17","v":7.5},{"$f":"CW506*CX506*CY506","v":{"$error":"#REF!"}},{"$f":"(CZ506+CZ507)/'DNSP Inputs O&M'!$H$524","v":{"$error":"#REF!"}},{"$f":"DA506/'DNSP Inputs O&M'!$H$468","v":{"$error":"#REF!"}},null,{"$f":"'DNSP Inputs O&M'!$H$12","v":{"$error":"#REF!"}},{"$f":"'DNSP Inputs O&M'!$H$519","v":2},{"$f":"'DNSP Inputs O&M'!$H$17","v":7.5},{"$f":"DD506*DE506*DF506","v":{"$error":"#REF!"}},{"$f":"(DG506+DG507)/'DNSP Inputs O&M'!$H$525","v":{"$error":"#REF!"}},{"$f":"DH506/'DNSP Inputs O&M'!$H$468","v":{"$error":"#REF!"}}]
["Elevated platform vehicle costs",{"$f":"'DNSP Inputs O&M'!$D$14","v":50.18},1,{"$f":"'DNSP Inputs O&M'!$D$17","v":7.5},{"$f":"B507*C507*D507","v":376.35},null,null,null,{"$f":"'DNSP Inputs O&M'!$D$15","v":63.64},1,{"$f":"'DNSP Inputs O&M'!$D$17","v":7.5},{"$f":"I507*J507*K507","v":477.3},null,null,null,{"$f":"'DNSP Inputs O&M'!$D$15","v":63.64},1,{"$f":"'DNSP Inputs O&M'!$D$17","v":7.5},{"$f":"P507*Q507*R507","v":477.3},null,null,null,null,null,{"$f":"'DNSP Inputs O&M'!$E$14","v":50.18},1,{"$f":"'DNSP Inputs O&M'!$E$17","v":7.5},{"$f":"Y507*Z507*AA507","v":376.35},null,null,null,{"$f":"'DNSP Inputs O&M'!$E$15","v":63.64},1,{"$f":"'DNSP Inputs O&M'!$E$17","v":7.5},{"$f":"AF507*AG507*AH507","v":477.3},null,null,null,{"$f":"'DNSP Inputs O&M'!$E$15","v":63.64},1,{"$f":"'DNSP Inputs O&M'!$E$17","v":7.5},{"$f":"AM507*AN507*AO507","v":477.3},null,null,null,null,null,{"$f":"'DNSP Inputs O&M'!$F$14","v":50.18},1,{"$f":"'DNSP Inputs O&M'!$F$17","v":7.5},{"$f":"AV507*AW507*AX507","v":376.35},null,null,null,{"$f":"'DNSP Inputs O&M'!$F$15","v":63.64},1,{"$f":"'DNSP Inputs O&M'!$F$17","v":7.5},{"$f":"BC507*BD507*BE507","v":477.3},null,null,null,{"$f":"'DNSP Inputs O&M'!$F$15","v":63.64},1,{"$f":"'DNSP Inputs O&M'!$F$17","v":7.5},{"$f":"BJ507*BK507*BL507","v":477.3},null,null,null,null,null,{"$f":"'DNSP Inputs O&M'!$G$14","v":50.18},1,{"$f":"'DNSP Inputs O&M'!$G$17","v":7.5},{"$f":"BS507*BT507*BU507","v":376.35},null,null,null,{"$f":"'DNSP Inputs O&M'!$G$15","v":63.64},1,{"$f":"'DNSP Inputs O&M'!$G$17","v":7.5},{"$f":"BZ507*CA507*CB507","v":477.3},null,null,null,{"$f":"'DNSP Inputs O&M'!$G$15","v":63.64},1,{"$f":"'DNSP Inputs O&M'!$G$17","v":7.5},{"$f":"CG507*CH507*CI507","v":477.3},null,null,null,null,null,{"$f":"'DNSP Inputs O&M'!$H$14","v":50.18},1,{"$f":"'DNSP Inputs O&M'!$H$17","v":7.5},{"$f":"CP507*CQ507*CR507","v":376.35},null,null,null,{"$f":"'DNSP Inputs O&M'!$H$15","v":63.64},1,{"$f":"'DNSP Inputs O&M'!$H$17","v":7.5},{"$f":"CW507*CX507*CY507","v":477.3},null,null,null,{"$f":"'DNSP Inputs O&M'!$H$15","v":63.64},1,{"$f":"'DNSP Inputs O&M'!$H$17","v":7.5},{"$f":"DD507*DE507*DF507","v":477.3}]
["Other Maintenance and Repair costs",null,null,null,null,null,{"$f":"'DNSP Inputs O&M'!$D$535","v":9.3202762240000006},null,null,null,null,null,null,{"$f":"'DNSP Inputs O&M'!$D$535","v":9.3202762240000006},null,null,null,null,null,null,{"$f":"'DNSP Inputs O&M'!$D$535","v":9.3202762240000006},null,null,null,null,null,null,null,null,{"$f":"'DNSP Inputs O&M'!$E$535","v":9.3202762240000006},null,null,null,null,null,null,{"$f":"'DNSP Inputs O&M'!$E$535","v":9.3202762240000006},null,null,null,null,null,null,{"$f":"'DNSP Inputs O&M'!$E$535","v":9.3202762240000006},null,null,null,null,null,null,null,null,{"$f":"'DNSP Inputs O&M'!$F$535","v":9.3202762240000006},null,null,null,null,null,null,{"$f":"'DNSP Inputs O&M'!$F$535","v":9.3202762240000006},null,null,null,null,null,null,{"$f":"'DNSP Inputs O&M'!$F$535","v":9.3202762240000006},null,null,null,null,null,null,null,null,{"$f":"'DNSP Inputs O&M'!$G$535","v":9.3202762240000006},null,null,null,null,null,null,{"$f":"'DNSP Inputs O&M'!$G$535","v":9.3202762240000006},null,null,null,null,null,null,{"$f":"'DNSP Inputs O&M'!$G$535","v":9.3202762240000006},null,null,null,null,null,null,null,null,{"$f":"'DNSP Inputs O&M'!$H$535","v":9.3202762240000006},null,null,null,null,null,null,{"$f":"'DNSP Inputs O&M'!$H$535","v":9.3202762240000006},null,null,null,null,null,null,{"$f":"'DNSP Inputs O&M'!$H$535","v":9.3202762240000006}]
[]
["Overheads",{"$f":"'DNSP Inputs O&M'!$D$18","v":0.25},null,null,null,null,{"$f":"B510*SUM(G497:G508)","v":6.6169502759991445},null,{"$f":"'DNSP Inputs O&M'!$D$18","v":0.25},null,null,null,null,{"$f":"I510*SUM(N497:N508)","v":8.388879104442287},null,{"$f":"'DNSP Inputs O&M'!$D$18","v":0.25},null,null,null,null,{"$f":"P510*SUM(U497:U508)","v":10.485910785808354},null,null,null,{"$f":"'DNSP Inputs O&M'!$E$18","v":0.25},null,null,null,null,{"$f":"Y510*SUM(AD497:AD508)","v":{"$error":"#REF!"}},null,{"$f":"'DNSP Inputs O&M'!$E$18","v":0.25},null,null,null,null,{"$f":"AF510*SUM(AK497:AK508)","v":{"$error":"#REF!"}},null,{"$f":"'DNSP Inputs O&M'!$E$18","v":0.25},null,null,null,null,{"$f":"AM510*SUM(AR497:AR508)","v":{"$error":"#REF!"}},null,null,null,{"$f":"'DNSP Inputs O&M'!$F$18","v":0.25},null,null,null,null,{"$f":"AV510*SUM(BA497:BA508)","v":{"$error":"#REF!"}},null,{"$f":"'DNSP Inputs O&M'!$F$18","v":0.25},null,null,null,null,{"$f":"BC510*SUM(BH497:BH508)","v":{"$error":"#REF!"}},null,{"$f":"'DNSP Inputs O&M'!$F$18","v":0.25},null,null,null,null,{"$f":"BJ510*SUM(BO497:BO508)","v":{"$error":"#REF!"}},null,null,null,{"$f":"'DNSP Inputs O&M'!$G$18","v":0.25},null,null,null,null,{"$f":"BS510*SUM(BX497:BX508)","v":{"$error":"#REF!"}},null,{"$f":"'DNSP Inputs O&M'!$G$18","v":0.25},null,null,null,null,{"$f":"BZ510*SUM(CE497:CE508)","v":{"$error":"#REF!"}},null,{"$f":"'DNSP Inputs O&M'!$G$18","v":0.25},null,null,null,null,{"$f":"CG510*SUM(CL497:CL508)","v":{"$error":"#REF!"}},null,null,null,{"$f":"'DNSP Inputs O&M'!$H$18","v":0.25},null,null,null,null,{"$f":"CP510*SUM(CU497:CU508)","v":{"$error":"#REF!"}},null,{"$f":"'DNSP Inputs O&M'!$H$18","v":0.25},null,null,null,null,{"$f":"CW510*SUM(DB497:DB508)","v":{"$error":"#REF!"}},null,{"$f":"'DNSP Inputs O&M'!$H$18","v":0.25},null,null,null,null,{"$f":"DD510*SUM(DI497:DI508)","v":{"$error":"#REF!"}}]
[]
[null,null,null,null,null,null,{"$f":"SUM(G497,G499,G503,G506,G508,G510)","v":33.084751379995723},null,null,null,null,null,null,{"$f":"SUM(N497,N499,N503,N506,N508,N510)","v":41.944395522211437},null,null,null,null,null,null,{"$f":"SUM(U497,U499,U503,U506,U508,U510)","v":52.429553929041774},null,null,null,null,null,null,null,null,{"$f":"SUM(AD497,AD499,AD503,AD506,AD508,AD510)","v":{"$error":"#REF!"}},null,null,null,null,null,null,{"$f":"SUM(AK497,AK499,AK503,AK506,AK508,AK510)","v":{"$error":"#REF!"}},null,null,null,null,null,null,{"$f":"SUM(AR497,AR499,AR503,AR506,AR508,AR510)","v":{"$error":"#REF!"}},null,null,null,null,null,null,null,null,{"$f":"SUM(BA497,BA499,BA503,BA506,BA508,BA510)","v":{"$error":"#REF!"}},null,null,null,null,null,null,{"$f":"SUM(BH497,BH499,BH503,BH506,BH508,BH510)","v":{"$error":"#REF!"}},null,null,null,null,null,null,{"$f":"SUM(BO497,BO499,BO503,BO506,BO508,BO510)","v":{"$error":"#REF!"}},null,null,null,null,null,null,null,null,{"$f":"SUM(BX497,BX499,BX503,BX506,BX508,BX510)","v":{"$error":"#REF!"}},null,null,null,null,null,null,{"$f":"SUM(CE497,CE499,CE503,CE506,CE508,CE510)","v":{"$error":"#REF!"}},null,null,null,null,null,null,{"$f":"SUM(CL497,CL499,CL503,CL506,CL508,CL510)","v":{"$error":"#REF!"}},null,null,null,null,null,null,null,null,{"$f":"SUM(CU497,CU499,CU503,CU506,CU508,CU510)","v":{"$error":"#REF!"}},null,null,null,null,null,null,{"$f":"SUM(DB497,DB499,DB503,DB506,DB508,DB510)","v":{"$error":"#REF!"}},null,null,null,null,null,null,{"$f":"SUM(DI497,DI499,DI503,DI506,DI508,DI510)","v":{"$error":"#REF!"}}]
[]
[]
[]
["NEW"]
["Category Smart lighting L2 - Cost build-up"]
[]
["Additional assumptions"]
[]
[]
["Overheads are applied to material and labour components"]
["All costs and charges are exclusive of GST"]
[]
[null,"Urban",null,null,null,null,null,null,"Rural",null,null,null,null,null,null,"Remote",null,null,null,null,null,null,null,null,"Urban",null,null,null,null,null,null,"Rural",null,null,null,null,null,null,"Remote",null,null,null,null,null,null,null,null,"Urban",null,null,null,null,null,null,"Rural",null,null,null,null,null,null,"Remote",null,null,null,null,null,null,null,null,"Urban",null,null,null,null,null,null,"Rural",null,null,null,null,null,null,"Remote",null,null,null,null,null,null,null,null,"Urban",null,null,null,null,null,null,"Rural",null,null,null,null,null,null,"Remote"]
[]
[null,"Unit rate","Number","Hours","Cost","Annualised","Annualised",null,"Unit rate","Number","Hours","Cost","Annualised","Annualised",null,"Unit rate","Number","Hours","Cost","Annualised","Annualised",null,null,null,"Unit rate","Number","Hours","Cost","Annualised","Annualised",null,"Unit rate","Number","Hours","Cost","Annualised","Annualised",null,"Unit rate","Number","Hours","Cost","Annualised","Annualised",null,null,null,"Unit rate","Number","Hours","Cost","Annualised","Annualised",null,"Unit rate","Number","Hours","Cost","Annualised","Annualised",null,"Unit rate","Number","Hours","Cost","Annualised","Annualised",null,null,null,"Unit rate","Number","Hours","Cost","Annualised","Annualised",null,"Unit rate","Number","Hours","Cost","Annualised","Annualised",null,"Unit rate","Number","Hours","Cost","Annualised","Annualised",null,null,null,"Unit rate","Number","Hours","Cost","Annualised","Annualised",null,"Unit rate","Number","Hours","Cost","Annualised","Annualised",null,"Unit rate","Number","Hours","Cost","Annualised","Annualised"]
[null,null,null,null,null," cost","unit cost",null,null,null,null,null," cost","unit cost",null,null,null,null,null," cost","unit cost",null,null,null,null,null,null,null," cost","unit cost",null,null,null,null,null," cost","unit cost",null,null,null,null,null," cost","unit cost",null,null,null,null,null,null,null," cost","unit cost",null,null,null,null,null," cost","unit cost",null,null,null,null,null," cost","unit cost",null,null,null,null,null,null,null," cost","unit cost",null,null,null,null,null," cost","unit cost",null,null,null,null,null," cost","unit cost",null,null,null,null,null,null,null," cost","unit cost",null,null,null,null,null," cost","unit cost",null,null,null,null,null," cost","unit cost"]
["Smart lighting L2"]
["Patrols & repairs"]
[]
[]
["Materials - repair of faults"]
["PE cell",{"$f":"'DNSP Inputs O&M'!$D$560","v":114.023},{"$f":"'DNSP Inputs O&M'!$D$567*'DNSP Inputs O&M'!$D$570","v":13.5},null,{"$f":"B534*C534","v":1539.3105},{"$f":"(E534+E535+E536)/'DNSP Inputs O&M'!$D$564","v":0.52469771921217689},{"$f":"F534*'DNSP Inputs O&M'!$D$467","v":1.5740931576365307},null,{"$f":"'DNSP Inputs O&M'!$D$560*(1+'DNSP Inputs O&M'!$D$11)","v":119.72414999999999},{"$f":"'DNSP Inputs O&M'!$D$524*'DNSP Inputs O&M'!$D$570","v":9.9},null,{"$f":"I534*J534","v":1185.2690849999999},{"$f":"(L534+L535+L536)/'DNSP Inputs O&M'!$D$565","v":0.60602586569006422},{"$f":"M534*'DNSP Inputs O&M'!$D$467","v":1.8180775970701926},null,{"$f":"'DNSP Inputs O&M'!$D$560*(1+'DNSP Inputs O&M'!$D$11)","v":119.72414999999999},{"$f":"'DNSP Inputs O&M'!$D$525*'DNSP Inputs O&M'!$D$570","v":8.1},null,{"$f":"P534*Q534","v":969.76561499999991},{"$f":"(S534+S535+S536)/'DNSP Inputs O&M'!$D$566","v":0.99167868931101433},{"$f":"T534*'DNSP Inputs O&M'!$D$467","v":2.975036067933043},null,null,null,{"$f":"'DNSP Inputs O&M'!$E$560","v":114.023},{"$f":"'DNSP Inputs O&M'!$E$567*'DNSP Inputs O&M'!$E$570","v":13.5},null,{"$f":"Y534*Z534","v":1539.3105},{"$f":"(AB534+AB535+AB536)/'DNSP Inputs O&M'!$E$564","v":0.52469771921217689},{"$f":"AC534*'DNSP Inputs O&M'!$E$467","v":1.5740931576365307},null,{"$f":"'DNSP Inputs O&M'!$E$560*(1+'DNSP Inputs O&M'!$E$11)","v":119.72414999999999},{"$f":"'DNSP Inputs O&M'!$E$524*'DNSP Inputs O&M'!$E$570","v":9.9},null,{"$f":"AF534*AG534","v":1185.2690849999999},{"$f":"(AI534+AI535+AI536)/'DNSP Inputs O&M'!$E$565","v":0.60602586569006422},{"$f":"AJ534*'DNSP Inputs O&M'!$E$467","v":1.8180775970701926},null,{"$f":"'DNSP Inputs O&M'!$E$560*(1+'DNSP Inputs O&M'!$E$11)","v":119.72414999999999},{"$f":"'DNSP Inputs O&M'!$E$525*'DNSP Inputs O&M'!$E$570","v":8.1},null,{"$f":"AM534*AN534","v":969.76561499999991},{"$f":"(AP534+AP535+AP536)/'DNSP Inputs O&M'!$E$566","v":0.99167868931101433},{"$f":"AQ534*'DNSP Inputs O&M'!$E$467","v":2.975036067933043},null,null,null,{"$f":"'DNSP Inputs O&M'!$F$560","v":114.023},{"$f":"'DNSP Inputs O&M'!$F$567*'DNSP Inputs O&M'!$F$570","v":13.5},null,{"$f":"AV534*AW534","v":1539.3105},{"$f":"(AY534+AY535+AY536)/'DNSP Inputs O&M'!$F$564","v":0.52469771921217689},{"$f":"AZ534*'DNSP Inputs O&M'!$F$467","v":1.5740931576365307},null,{"$f":"'DNSP Inputs O&M'!$F$560*(1+'DNSP Inputs O&M'!$F$11)","v":119.72414999999999},{"$f":"'DNSP Inputs O&M'!$F$524*'DNSP Inputs O&M'!$F$570","v":9.9},null,{"$f":"BC534*BD534","v":1185.2690849999999},{"$f":"(BF534+BF535+BF536)/'DNSP Inputs O&M'!$F$565","v":0.60602586569006422},{"$f":"BG534*'DNSP Inputs O&M'!$F$467","v":1.8180775970701926},null,{"$f":"'DNSP Inputs O&M'!$F$560*(1+'DNSP Inputs O&M'!$F$11)","v":119.72414999999999},{"$f":"'DNSP Inputs O&M'!$F$525*'DNSP Inputs O&M'!$F$570","v":8.1},null,{"$f":"BJ534*BK534","v":969.76561499999991},{"$f":"(BM534+BM535+BM536)/'DNSP Inputs O&M'!$F$566","v":0.99167868931101433},{"$f":"BN534*'DNSP Inputs O&M'!$F$467","v":2.975036067933043},null,null,null,{"$f":"'DNSP Inputs O&M'!$G$560","v":114.023},{"$f":"'DNSP Inputs O&M'!$G$567*'DNSP Inputs O&M'!$G$570","v":13.5},null,{"$f":"BS534*BT534","v":1539.3105},{"$f":"(BV534+BV535+BV536)/'DNSP Inputs O&M'!$G$564","v":0.52469771921217689},{"$f":"BW534*'DNSP Inputs O&M'!$G$467","v":1.5740931576365307},null,{"$f":"'DNSP Inputs O&M'!$G$560*(1+'DNSP Inputs O&M'!$G$11)","v":119.72414999999999},{"$f":"'DNSP Inputs O&M'!$G$524*'DNSP Inputs O&M'!$G$570","v":9.9},null,{"$f":"BZ534*CA534","v":1185.2690849999999},{"$f":"(CC534+CC535+CC536)/'DNSP Inputs O&M'!$G$565","v":0.60602586569006422},{"$f":"CD534*'DNSP Inputs O&M'!$G$467","v":1.8180775970701926},null,{"$f":"'DNSP Inputs O&M'!$G$560*(1+'DNSP Inputs O&M'!$G$11)","v":119.72414999999999},{"$f":"'DNSP Inputs O&M'!$G$525*'DNSP Inputs O&M'!$G$570","v":8.1},null,{"$f":"CG534*CH534","v":969.76561499999991},{"$f":"(CJ534+CJ535+CJ536)/'DNSP Inputs O&M'!$G$566","v":0.99167868931101433},{"$f":"CK534*'DNSP Inputs O&M'!$G$467","v":2.975036067933043},null,null,null,{"$f":"'DNSP Inputs O&M'!$H$560","v":114.023},{"$f":"'DNSP Inputs O&M'!$H$567*'DNSP Inputs O&M'!$H$570","v":13.5},null,{"$f":"CP534*CQ534","v":1539.3105},{"$f":"(CS534+CS535+CS536)/'DNSP Inputs O&M'!$H$564","v":0.52469771921217689},{"$f":"CT534*'DNSP Inputs O&M'!$H$467","v":1.5740931576365307},null,{"$f":"'DNSP Inputs O&M'!$H$560*(1+'DNSP Inputs O&M'!$H$11)","v":119.72414999999999},{"$f":"'DNSP Inputs O&M'!$H$524*'DNSP Inputs O&M'!$H$570","v":9.9},null,{"$f":"CW534*CX534","v":1185.2690849999999},{"$f":"(CZ534+CZ535+CZ536)/'DNSP Inputs O&M'!$H$565","v":0.60602586569006422},{"$f":"DA534*'DNSP Inputs O&M'!$H$467","v":1.8180775970701926},null,{"$f":"'DNSP Inputs O&M'!$H$560*(1+'DNSP Inputs O&M'!$H$11)","v":119.72414999999999},{"$f":"'DNSP Inputs O&M'!$H$525*'DNSP Inputs O&M'!$H$570","v":8.1},null,{"$f":"DD534*DE534","v":969.76561499999991},{"$f":"(DG534+DG535+DG536)/'DNSP Inputs O&M'!$H$566","v":0.99167868931101433},{"$f":"DH534*'DNSP Inputs O&M'!$H$467","v":2.975036067933043}]
["Luminaire",{"$f":"'DNSP Inputs O&M'!$D$561","v":427},{"$f":"'DNSP Inputs O&M'!$D$567*'DNSP Inputs O&M'!$D$571","v":0},null,{"$f":"B535*C535","v":0},null,null,null,{"$f":"'DNSP Inputs O&M'!$D$561*(1+'DNSP Inputs O&M'!$D$11)","v":448.35},{"$f":"'DNSP Inputs O&M'!$D$524*'DNSP Inputs O&M'!$D$571","v":0},null,{"$f":"I535*J535","v":0},null,null,null,{"$f":"'DNSP Inputs O&M'!$D$561*(1+'DNSP Inputs O&M'!$D$11)","v":448.35},{"$f":"'DNSP Inputs O&M'!$D$525*'DNSP Inputs O&M'!$D$571","v":0},null,{"$f":"P535*Q535","v":0},null,null,null,null,null,{"$f":"'DNSP Inputs O&M'!$E$561","v":427},{"$f":"'DNSP Inputs O&M'!$E$567*'DNSP Inputs O&M'!$E$571","v":0},null,{"$f":"Y535*Z535","v":0},null,null,null,{"$f":"'DNSP Inputs O&M'!$E$561*(1+'DNSP Inputs O&M'!$E$11)","v":448.35},{"$f":"'DNSP Inputs O&M'!$E$524*'DNSP Inputs O&M'!$E$571","v":0},null,{"$f":"AF535*AG535","v":0},null,null,null,{"$f":"'DNSP Inputs O&M'!$E$561*(1+'DNSP Inputs O&M'!$E$11)","v":448.35},{"$f":"'DNSP Inputs O&M'!$E$525*'DNSP Inputs O&M'!$E$571","v":0},null,{"$f":"AM535*AN535","v":0},null,null,null,null,null,{"$f":"'DNSP Inputs O&M'!$F$561","v":427},{"$f":"'DNSP Inputs O&M'!$F$567*'DNSP Inputs O&M'!$F$571","v":0},null,{"$f":"AV535*AW535","v":0},null,null,null,{"$f":"'DNSP Inputs O&M'!$F$561*(1+'DNSP Inputs O&M'!$F$11)","v":448.35},{"$f":"'DNSP Inputs O&M'!$F$524*'DNSP Inputs O&M'!$F$571","v":0},null,{"$f":"BC535*BD535","v":0},null,null,null,{"$f":"'DNSP Inputs O&M'!$F$561*(1+'DNSP Inputs O&M'!$F$11)","v":448.35},{"$f":"'DNSP Inputs O&M'!$F$525*'DNSP Inputs O&M'!$F$571","v":0},null,{"$f":"BJ535*BK535","v":0},null,null,null,null,null,{"$f":"'DNSP Inputs O&M'!$G$561","v":427},{"$f":"'DNSP Inputs O&M'!$G$567*'DNSP Inputs O&M'!$G$571","v":0},null,{"$f":"BS535*BT535","v":0},null,null,null,{"$f":"'DNSP Inputs O&M'!$G$561*(1+'DNSP Inputs O&M'!$G$11)","v":448.35},{"$f":"'DNSP Inputs O&M'!$G$524*'DNSP Inputs O&M'!$G$571","v":0},null,{"$f":"BZ535*CA535","v":0},null,null,null,{"$f":"'DNSP Inputs O&M'!$G$561*(1+'DNSP Inputs O&M'!$G$11)","v":448.35},{"$f":"'DNSP Inputs O&M'!$G$525*'DNSP Inputs O&M'!$G$571","v":0},null,{"$f":"CG535*CH535","v":0},null,null,null,null,null,{"$f":"'DNSP Inputs O&M'!$H$561","v":427},{"$f":"'DNSP Inputs O&M'!$H$567*'DNSP Inputs O&M'!$H$571","v":0},null,{"$f":"CP535*CQ535","v":0},null,null,null,{"$f":"'DNSP Inputs O&M'!$H$561*(1+'DNSP Inputs O&M'!$H$11)","v":448.35},{"$f":"'DNSP Inputs O&M'!$H$524*'DNSP Inputs O&M'!$H$571","v":0},null,{"$f":"CW535*CX535","v":0},null,null,null,{"$f":"'DNSP Inputs O&M'!$H$561*(1+'DNSP Inputs O&M'!$H$11)","v":448.35},{"$f":"'DNSP Inputs O&M'!$H$525*'DNSP Inputs O&M'!$H$571","v":0},null,{"$f":"DD535*DE535","v":0}]
["Miscellaneous",{"$f":"'DNSP Inputs O&M'!$D$562","v":23.188438424353883},{"$f":"'DNSP Inputs O&M'!$D$567*'DNSP Inputs O&M'!$D$572","v":1.5},null,{"$f":"B536*C536","v":34.782657636530828},null,null,null,{"$f":"'DNSP Inputs O&M'!$D$562*(1+'DNSP Inputs O&M'!$D$11)","v":24.347860345571579},{"$f":"'DNSP Inputs O&M'!$D$524*'DNSP Inputs O&M'!$D$572","v":1.1000000000000001},null,{"$f":"I536*J536","v":26.782646380128739},null,null,null,{"$f":"'DNSP Inputs O&M'!$D$562*(1+'DNSP Inputs O&M'!$D$11)","v":24.347860345571579},{"$f":"'DNSP Inputs O&M'!$D$525*'DNSP Inputs O&M'!$D$572","v":0.9},null,{"$f":"P536*Q536","v":21.913074311014423},null,null,null,null,null,{"$f":"'DNSP Inputs O&M'!$E$562","v":23.188438424353883},{"$f":"'DNSP Inputs O&M'!$E$567*'DNSP Inputs O&M'!$E$572","v":1.5},null,{"$f":"Y536*Z536","v":34.782657636530828},null,null,null,{"$f":"'DNSP Inputs O&M'!$E$562*(1+'DNSP Inputs O&M'!$E$11)","v":24.347860345571579},{"$f":"'DNSP Inputs O&M'!$E$524*'DNSP Inputs O&M'!$E$572","v":1.1000000000000001},null,{"$f":"AF536*AG536","v":26.782646380128739},null,null,null,{"$f":"'DNSP Inputs O&M'!$E$562*(1+'DNSP Inputs O&M'!$E$11)","v":24.347860345571579},{"$f":"'DNSP Inputs O&M'!$E$525*'DNSP Inputs O&M'!$E$572","v":0.9},null,{"$f":"AM536*AN536","v":21.913074311014423},null,null,null,null,null,{"$f":"'DNSP Inputs O&M'!$F$562","v":23.188438424353883},{"$f":"'DNSP Inputs O&M'!$F$567*'DNSP Inputs O&M'!$F$572","v":1.5},null,{"$f":"AV536*AW536","v":34.782657636530828},null,null,null,{"$f":"'DNSP Inputs O&M'!$F$562*(1+'DNSP Inputs O&M'!$F$11)","v":24.347860345571579},{"$f":"'DNSP Inputs O&M'!$F$524*'DNSP Inputs O&M'!$F$572","v":1.1000000000000001},null,{"$f":"BC536*BD536","v":26.782646380128739},null,null,null,{"$f":"'DNSP Inputs O&M'!$F$562*(1+'DNSP Inputs O&M'!$F$11)","v":24.347860345571579},{"$f":"'DNSP Inputs O&M'!$F$525*'DNSP Inputs O&M'!$F$572","v":0.9},null,{"$f":"BJ536*BK536","v":21.913074311014423},null,null,null,null,null,{"$f":"'DNSP Inputs O&M'!$G$562","v":23.188438424353883},{"$f":"'DNSP Inputs O&M'!$G$567*'DNSP Inputs O&M'!$G$572","v":1.5},null,{"$f":"BS536*BT536","v":34.782657636530828},null,null,null,{"$f":"'DNSP Inputs O&M'!$G$562*(1+'DNSP Inputs O&M'!$G$11)","v":24.347860345571579},{"$f":"'DNSP Inputs O&M'!$G$524*'DNSP Inputs O&M'!$G$572","v":1.1000000000000001},null,{"$f":"BZ536*CA536","v":26.782646380128739},null,null,null,{"$f":"'DNSP Inputs O&M'!$G$562*(1+'DNSP Inputs O&M'!$G$11)","v":24.347860345571579},{"$f":"'DNSP Inputs O&M'!$G$525*'DNSP Inputs O&M'!$G$572","v":0.9},null,{"$f":"CG536*CH536","v":21.913074311014423},null,null,null,null,null,{"$f":"'DNSP Inputs O&M'!$H$562","v":23.188438424353883},{"$f":"'DNSP Inputs O&M'!$H$567*'DNSP Inputs O&M'!$H$572","v":1.5},null,{"$f":"CP536*CQ536","v":34.782657636530828},null,null,null,{"$f":"'DNSP Inputs O&M'!$H$562*(1+'DNSP Inputs O&M'!$H$11)","v":24.347860345571579},{"$f":"'DNSP Inputs O&M'!$H$524*'DNSP Inputs O&M'!$H$572","v":1.1000000000000001},null,{"$f":"CW536*CX536","v":26.782646380128739},null,null,null,{"$f":"'DNSP Inputs O&M'!$H$562*(1+'DNSP Inputs O&M'!$H$11)","v":24.347860345571579},{"$f":"'DNSP Inputs O&M'!$H$525*'DNSP Inputs O&M'!$H$572","v":0.9},null,{"$f":"DD536*DE536","v":21.913074311014423}]
["Labour - Patrol"]
["Crew costs",{"$f":"'DNSP Inputs O&M'!$D$12","v":111.36223236834823},{"$f":"'DNSP Inputs O&M'!$D$563","v":2},{"$f":"'DNSP Inputs O&M'!$D$17","v":7.5},{"$f":"B538*C538*D538","v":1670.4334855252234},{"$f":"E538/'DNSP Inputs O&M'!$D$564","v":0.55681116184174118},{"$f":"(F538+F539)*'DNSP Inputs O&M'!$D$467","v":1.9282084855252237},null,{"$f":"'DNSP Inputs O&M'!$D$12","v":111.36223236834823},{"$f":"'DNSP Inputs O&M'!$D$563","v":2},{"$f":"'DNSP Inputs O&M'!$D$17","v":7.5},{"$f":"I538*J538*K538","v":1670.4334855252234},{"$f":"L538/'DNSP Inputs O&M'!$D$565","v":0.83521674276261171},{"$f":"(M538+M539)*'DNSP Inputs O&M'!$D$467","v":2.8923127282878349},null,{"$f":"'DNSP Inputs O&M'!$D$12","v":111.36223236834823},{"$f":"'DNSP Inputs O&M'!$D$563","v":2},{"$f":"'DNSP Inputs O&M'!$D$17","v":7.5},{"$f":"P538*Q538*R538","v":1670.4334855252234},{"$f":"S538/'DNSP Inputs O&M'!$D$566","v":1.6704334855252234},{"$f":"(T538+T539)*'DNSP Inputs O&M'!$D$467","v":5.7846254565756698},null,null,null,{"$f":"'DNSP Inputs O&M'!$E$12","v":{"$error":"#REF!"}},{"$f":"'DNSP Inputs O&M'!$E$563","v":2},{"$f":"'DNSP Inputs O&M'!$E$17","v":7.5},{"$f":"Y538*Z538*AA538","v":{"$error":"#REF!"}},{"$f":"AB538/'DNSP Inputs O&M'!$E$564","v":{"$error":"#REF!"}},{"$f":"(AC538+AC539)*'DNSP Inputs O&M'!$E$467","v":{"$error":"#REF!"}},null,{"$f":"'DNSP Inputs O&M'!$E$12","v":{"$error":"#REF!"}},{"$f":"'DNSP Inputs O&M'!$E$563","v":2},{"$f":"'DNSP Inputs O&M'!$E$17","v":7.5},{"$f":"AF538*AG538*AH538","v":{"$error":"#REF!"}},{"$f":"AI538/'DNSP Inputs O&M'!$E$565","v":{"$error":"#REF!"}},{"$f":"(AJ538+AJ539)*'DNSP Inputs O&M'!$E$467","v":{"$error":"#REF!"}},null,{"$f":"'DNSP Inputs O&M'!$E$12","v":{"$error":"#REF!"}},{"$f":"'DNSP Inputs O&M'!$E$563","v":2},{"$f":"'DNSP Inputs O&M'!$E$17","v":7.5},{"$f":"AM538*AN538*AO538","v":{"$error":"#REF!"}},{"$f":"AP538/'DNSP Inputs O&M'!$E$566","v":{"$error":"#REF!"}},{"$f":"(AQ538+AQ539)*'DNSP Inputs O&M'!$E$467","v":{"$error":"#REF!"}},null,null,null,{"$f":"'DNSP Inputs O&M'!$F$12","v":{"$error":"#REF!"}},{"$f":"'DNSP Inputs O&M'!$F$563","v":2},{"$f":"'DNSP Inputs O&M'!$F$17","v":7.5},{"$f":"AV538*AW538*AX538","v":{"$error":"#REF!"}},{"$f":"AY538/'DNSP Inputs O&M'!$F$564","v":{"$error":"#REF!"}},{"$f":"(AZ538+AZ539)*'DNSP Inputs O&M'!$F$467","v":{"$error":"#REF!"}},null,{"$f":"'DNSP Inputs O&M'!$F$12","v":{"$error":"#REF!"}},{"$f":"'DNSP Inputs O&M'!$F$563","v":2},{"$f":"'DNSP Inputs O&M'!$F$17","v":7.5},{"$f":"BC538*BD538*BE538","v":{"$error":"#REF!"}},{"$f":"BF538/'DNSP Inputs O&M'!$F$565","v":{"$error":"#REF!"}},{"$f":"(BG538+BG539)*'DNSP Inputs O&M'!$F$467","v":{"$error":"#REF!"}},null,{"$f":"'DNSP Inputs O&M'!$F$12","v":{"$error":"#REF!"}},{"$f":"'DNSP Inputs O&M'!$F$563","v":2},{"$f":"'DNSP Inputs O&M'!$F$17","v":7.5},{"$f":"BJ538*BK538*BL538","v":{"$error":"#REF!"}},{"$f":"BM538/'DNSP Inputs O&M'!$F$566","v":{"$error":"#REF!"}},{"$f":"(BN538+BN539)*'DNSP Inputs O&M'!$F$467","v":{"$error":"#REF!"}},null,null,null,{"$f":"'DNSP Inputs O&M'!$G$12","v":{"$error":"#REF!"}},{"$f":"'DNSP Inputs O&M'!$G$563","v":2},{"$f":"'DNSP Inputs O&M'!$G$17","v":7.5},{"$f":"BS538*BT538*BU538","v":{"$error":"#REF!"}},{"$f":"BV538/'DNSP Inputs O&M'!$G$564","v":{"$error":"#REF!"}},{"$f":"(BW538+BW539)*'DNSP Inputs O&M'!$G$467","v":{"$error":"#REF!"}},null,{"$f":"'DNSP Inputs O&M'!$G$12","v":{"$error":"#REF!"}},{"$f":"'DNSP Inputs O&M'!$G$563","v":2},{"$f":"'DNSP Inputs O&M'!$G$17","v":7.5},{"$f":"BZ538*CA538*CB538","v":{"$error":"#REF!"}},{"$f":"CC538/'DNSP Inputs O&M'!$G$565","v":{"$error":"#REF!"}},{"$f":"(CD538+CD539)*'DNSP Inputs O&M'!$G$467","v":{"$error":"#REF!"}},null,{"$f":"'DNSP Inputs O&M'!$G$12","v":{"$error":"#REF!"}},{"$f":"'DNSP Inputs O&M'!$G$563","v":2},{"$f":"'DNSP Inputs O&M'!$G$17","v":7.5},{"$f":"CG538*CH538*CI538","v":{"$error":"#REF!"}},{"$f":"CJ538/'DNSP Inputs O&M'!$G$566","v":{"$error":"#REF!"}},{"$f":"(CK538+CK539)*'DNSP Inputs O&M'!$G$467","v":{"$error":"#REF!"}},null,null,null,{"$f":"'DNSP Inputs O&M'!$H$12","v":{"$error":"#REF!"}},{"$f":"'DNSP Inputs O&M'!$H$563","v":2},{"$f":"'DNSP Inputs O&M'!$H$17","v":7.5},{"$f":"CP538*CQ538*CR538","v":{"$error":"#REF!"}},{"$f":"CS538/'DNSP Inputs O&M'!$H$564","v":{"$error":"#REF!"}},{"$f":"(CT538+CT539)*'DNSP Inputs O&M'!$H$467","v":{"$error":"#REF!"}},null,{"$f":"'DNSP Inputs O&M'!$H$12","v":{"$error":"#REF!"}},{"$f":"'DNSP Inputs O&M'!$H$563","v":2},{"$f":"'DNSP Inputs O&M'!$H$17","v":7.5},{"$f":"CW538*CX538*CY538","v":{"$error":"#REF!"}},{"$f":"CZ538/'DNSP Inputs O&M'!$H$565","v":{"$error":"#REF!"}},{"$f":"(DA538+DA539)*'DNSP Inputs O&M'!$H$467","v":{"$error":"#REF!"}},null,{"$f":"'DNSP Inputs O&M'!$H$12","v":{"$error":"#REF!"}},{"$f":"'DNSP Inputs O&M'!$H$563","v":2},{"$f":"'DNSP Inputs O&M'!$H$17","v":7.5},{"$f":"DD538*DE538*DF538","v":{"$error":"#REF!"}},{"$f":"DG538/'DNSP Inputs O&M'!$H$566","v":{"$error":"#REF!"}},{"$f":"(DH538+DH539)*'DNSP Inputs O&M'!$H$467","v":{"$error":"#REF!"}}]
["Vehicle costs",{"$f":"'DNSP Inputs O&M'!$D$16","v":34.369999999999997},1,{"$f":"'DNSP Inputs O&M'!$D$17","v":7.5},{"$f":"B539*C539*D539","v":257.77499999999998},{"$f":"E539/'DNSP Inputs O&M'!$D$564","v":8.5924999999999987E-2},null,null,{"$f":"'DNSP Inputs O&M'!$D$16","v":34.369999999999997},1,{"$f":"'DNSP Inputs O&M'!$D$17","v":7.5},{"$f":"I539*J539*K539","v":257.77499999999998},{"$f":"L539/'DNSP Inputs O&M'!$D$565","v":0.12888749999999999},null,null,{"$f":"'DNSP Inputs O&M'!$D$16","v":34.369999999999997},1,{"$f":"'DNSP Inputs O&M'!$D$17","v":7.5},{"$f":"P539*Q539*R539","v":257.77499999999998},{"$f":"S539/'DNSP Inputs O&M'!$D$566","v":0.25777499999999998},null,null,null,null,{"$f":"'DNSP Inputs O&M'!$E$16","v":34.369999999999997},1,{"$f":"'DNSP Inputs O&M'!$E$17","v":7.5},{"$f":"Y539*Z539*AA539","v":257.77499999999998},{"$f":"AB539/'DNSP Inputs O&M'!$E$564","v":8.5924999999999987E-2},null,null,{"$f":"'DNSP Inputs O&M'!$E$16","v":34.369999999999997},1,{"$f":"'DNSP Inputs O&M'!$E$17","v":7.5},{"$f":"AF539*AG539*AH539","v":257.77499999999998},{"$f":"AI539/'DNSP Inputs O&M'!$E$565","v":0.12888749999999999},null,null,{"$f":"'DNSP Inputs O&M'!$E$16","v":34.369999999999997},1,{"$f":"'DNSP Inputs O&M'!$E$17","v":7.5},{"$f":"AM539*AN539*AO539","v":257.77499999999998},{"$f":"AP539/'DNSP Inputs O&M'!$E$566","v":0.25777499999999998},null,null,null,null,{"$f":"'DNSP Inputs O&M'!$F$16","v":34.369999999999997},1,{"$f":"'DNSP Inputs O&M'!$F$17","v":7.5},{"$f":"AV539*AW539*AX539","v":257.77499999999998},{"$f":"AY539/'DNSP Inputs O&M'!$F$564","v":8.5924999999999987E-2},null,null,{"$f":"'DNSP Inputs O&M'!$F$16","v":34.369999999999997},1,{"$f":"'DNSP Inputs O&M'!$F$17","v":7.5},{"$f":"BC539*BD539*BE539","v":257.77499999999998},{"$f":"BF539/'DNSP Inputs O&M'!$F$565","v":0.12888749999999999},null,null,{"$f":"'DNSP Inputs O&M'!$F$16","v":34.369999999999997},1,{"$f":"'DNSP Inputs O&M'!$F$17","v":7.5},{"$f":"BJ539*BK539*BL539","v":257.77499999999998},{"$f":"BM539/'DNSP Inputs O&M'!$F$566","v":0.25777499999999998},null,null,null,null,{"$f":"'DNSP Inputs O&M'!$G$16","v":34.369999999999997},1,{"$f":"'DNSP Inputs O&M'!$G$17","v":7.5},{"$f":"BS539*BT539*BU539","v":257.77499999999998},{"$f":"BV539/'DNSP Inputs O&M'!$G$564","v":8.5924999999999987E-2},null,null,{"$f":"'DNSP Inputs O&M'!$G$16","v":34.369999999999997},1,{"$f":"'DNSP Inputs O&M'!$G$17","v":7.5},{"$f":"BZ539*CA539*CB539","v":257.77499999999998},{"$f":"CC539/'DNSP Inputs O&M'!$G$565","v":0.12888749999999999},null,null,{"$f":"'DNSP Inputs O&M'!$G$16","v":34.369999999999997},1,{"$f":"'DNSP Inputs O&M'!$G$17","v":7.5},{"$f":"CG539*CH539*CI539","v":257.77499999999998},{"$f":"CJ539/'DNSP Inputs O&M'!$G$566","v":0.25777499999999998},null,null,null,null,{"$f":"'DNSP Inputs O&M'!$H$16","v":34.369999999999997},1,{"$f":"'DNSP Inputs O&M'!$H$17","v":7.5},{"$f":"CP539*CQ539*CR539","v":257.77499999999998},{"$f":"CS539/'DNSP Inputs O&M'!$H$564","v":8.5924999999999987E-2},null,null,{"$f":"'DNSP Inputs O&M'!$H$16","v":34.369999999999997},1,{"$f":"'DNSP Inputs O&M'!$H$17","v":7.5},{"$f":"CW539*CX539*CY539","v":257.77499999999998},{"$f":"CZ539/'DNSP Inputs O&M'!$H$565","v":0.12888749999999999},null,null,{"$f":"'DNSP Inputs O&M'!$H$16","v":34.369999999999997},1,{"$f":"'DNSP Inputs O&M'!$H$17","v":7.5},{"$f":"DD539*DE539*DF539","v":257.77499999999998},{"$f":"DG539/'DNSP Inputs O&M'!$H$566","v":0.25777499999999998}]
["Labour - repair of faults"]
["Crew costs",{"$f":"'DNSP Inputs O&M'!$D$12","v":111.36223236834823},{"$f":"'DNSP Inputs O&M'!$D$563","v":2},{"$f":"'DNSP Inputs O&M'!$D$17","v":7.5},{"$f":"B541*C541*D541","v":1670.4334855252234},{"$f":"(E541+E542)/'DNSP Inputs O&M'!$D$567","v":136.45223236834823},{"$f":"F541/'DNSP Inputs O&M'!$D$468","v":13.645223236834823},null,{"$f":"'DNSP Inputs O&M'!$D$12","v":111.36223236834823},{"$f":"'DNSP Inputs O&M'!$D$563","v":2},{"$f":"'DNSP Inputs O&M'!$D$17","v":7.5},{"$f":"I541*J541*K541","v":1670.4334855252234},{"$f":"(L541+L542)/'DNSP Inputs O&M'!$D$568","v":195.24849868411121},{"$f":"M541/'DNSP Inputs O&M'!$D$468","v":19.52484986841112},null,{"$f":"'DNSP Inputs O&M'!$D$12","v":111.36223236834823},{"$f":"'DNSP Inputs O&M'!$D$563","v":2},{"$f":"'DNSP Inputs O&M'!$D$17","v":7.5},{"$f":"P541*Q541*R541","v":1670.4334855252234},{"$f":"(S541+S542)/'DNSP Inputs O&M'!$D$569","v":238.63705394724704},{"$f":"T541/'DNSP Inputs O&M'!$D$468","v":23.863705394724704},null,null,null,{"$f":"'DNSP Inputs O&M'!$E$12","v":{"$error":"#REF!"}},{"$f":"'DNSP Inputs O&M'!$E$563","v":2},{"$f":"'DNSP Inputs O&M'!$E$17","v":7.5},{"$f":"Y541*Z541*AA541","v":{"$error":"#REF!"}},{"$f":"(AB541+AB542)/'DNSP Inputs O&M'!$E$567","v":{"$error":"#REF!"}},{"$f":"AC541/'DNSP Inputs O&M'!$E$468","v":{"$error":"#REF!"}},null,{"$f":"'DNSP Inputs O&M'!$E$12","v":{"$error":"#REF!"}},{"$f":"'DNSP Inputs O&M'!$E$563","v":2},{"$f":"'DNSP Inputs O&M'!$E$17","v":7.5},{"$f":"AF541*AG541*AH541","v":{"$error":"#REF!"}},{"$f":"(AI541+AI542)/'DNSP Inputs O&M'!$E$568","v":{"$error":"#REF!"}},{"$f":"AJ541/'DNSP Inputs O&M'!$E$468","v":{"$error":"#REF!"}},null,{"$f":"'DNSP Inputs O&M'!$E$12","v":{"$error":"#REF!"}},{"$f":"'DNSP Inputs O&M'!$E$563","v":2},{"$f":"'DNSP Inputs O&M'!$E$17","v":7.5},{"$f":"AM541*AN541*AO541","v":{"$error":"#REF!"}},{"$f":"(AP541+AP542)/'DNSP Inputs O&M'!$E$569","v":{"$error":"#REF!"}},{"$f":"AQ541/'DNSP Inputs O&M'!$E$468","v":{"$error":"#REF!"}},null,null,null,{"$f":"'DNSP Inputs O&M'!$F$12","v":{"$error":"#REF!"}},{"$f":"'DNSP Inputs O&M'!$F$563","v":2},{"$f":"'DNSP Inputs O&M'!$F$17","v":7.5},{"$f":"AV541*AW541*AX541","v":{"$error":"#REF!"}},{"$f":"(AY541+AY542)/'DNSP Inputs O&M'!$F$567","v":{"$error":"#REF!"}},{"$f":"AZ541/'DNSP Inputs O&M'!$F$468","v":{"$error":"#REF!"}},null,{"$f":"'DNSP Inputs O&M'!$F$12","v":{"$error":"#REF!"}},{"$f":"'DNSP Inputs O&M'!$F$563","v":2},{"$f":"'DNSP Inputs O&M'!$F$17","v":7.5},{"$f":"BC541*BD541*BE541","v":{"$error":"#REF!"}},{"$f":"(BF541+BF542)/'DNSP Inputs O&M'!$F$568","v":{"$error":"#REF!"}},{"$f":"BG541/'DNSP Inputs O&M'!$F$468","v":{"$error":"#REF!"}},null,{"$f":"'DNSP Inputs O&M'!$F$12","v":{"$error":"#REF!"}},{"$f":"'DNSP Inputs O&M'!$F$563","v":2},{"$f":"'DNSP Inputs O&M'!$F$17","v":7.5},{"$f":"BJ541*BK541*BL541","v":{"$error":"#REF!"}},{"$f":"(BM541+BM542)/'DNSP Inputs O&M'!$F$569","v":{"$error":"#REF!"}},{"$f":"BN541/'DNSP Inputs O&M'!$F$468","v":{"$error":"#REF!"}},null,null,null,{"$f":"'DNSP Inputs O&M'!$G$12","v":{"$error":"#REF!"}},{"$f":"'DNSP Inputs O&M'!$G$563","v":2},{"$f":"'DNSP Inputs O&M'!$G$17","v":7.5},{"$f":"BS541*BT541*BU541","v":{"$error":"#REF!"}},{"$f":"(BV541+BV542)/'DNSP Inputs O&M'!$G$567","v":{"$error":"#REF!"}},{"$f":"BW541/'DNSP Inputs O&M'!$G$468","v":{"$error":"#REF!"}},null,{"$f":"'DNSP Inputs O&M'!$G$12","v":{"$error":"#REF!"}},{"$f":"'DNSP Inputs O&M'!$G$563","v":2},{"$f":"'DNSP Inputs O&M'!$G$17","v":7.5},{"$f":"BZ541*CA541*CB541","v":{"$error":"#REF!"}},{"$f":"(CC541+CC542)/'DNSP Inputs O&M'!$G$568","v":{"$error":"#REF!"}},{"$f":"CD541/'DNSP Inputs O&M'!$G$468","v":{"$error":"#REF!"}},null,{"$f":"'DNSP Inputs O&M'!$G$12","v":{"$error":"#REF!"}},{"$f":"'DNSP Inputs O&M'!$G$563","v":2},{"$f":"'DNSP Inputs O&M'!$G$17","v":7.5},{"$f":"CG541*CH541*CI541","v":{"$error":"#REF!"}},{"$f":"(CJ541+CJ542)/'DNSP Inputs O&M'!$G$569","v":{"$error":"#REF!"}},{"$f":"CK541/'DNSP Inputs O&M'!$G$468","v":{"$error":"#REF!"}},null,null,null,{"$f":"'DNSP Inputs O&M'!$H$12","v":{"$error":"#REF!"}},{"$f":"'DNSP Inputs O&M'!$H$563","v":2},{"$f":"'DNSP Inputs O&M'!$H$17","v":7.5},{"$f":"CP541*CQ541*CR541","v":{"$error":"#REF!"}},{"$f":"(CS541+CS542)/'DNSP Inputs O&M'!$H$567","v":{"$error":"#REF!"}},{"$f":"CT541/'DNSP Inputs O&M'!$H$468","v":{"$error":"#REF!"}},null,{"$f":"'DNSP Inputs O&M'!$H$12","v":{"$error":"#REF!"}},{"$f":"'DNSP Inputs O&M'!$H$563","v":2},{"$f":"'DNSP Inputs O&M'!$H$17","v":7.5},{"$f":"CW541*CX541*CY541","v":{"$error":"#REF!"}},{"$f":"(CZ541+CZ542)/'DNSP Inputs O&M'!$H$568","v":{"$error":"#REF!"}},{"$f":"DA541/'DNSP Inputs O&M'!$H$468","v":{"$error":"#REF!"}},null,{"$f":"'DNSP Inputs O&M'!$H$12","v":{"$error":"#REF!"}},{"$f":"'DNSP Inputs O&M'!$H$563","v":2},{"$f":"'DNSP Inputs O&M'!$H$17","v":7.5},{"$f":"DD541*DE541*DF541","v":{"$error":"#REF!"}},{"$f":"(DG541+DG542)/'DNSP Inputs O&M'!$H$569","v":{"$error":"#REF!"}},{"$f":"DH541/'DNSP Inputs O&M'!$H$468","v":{"$error":"#REF!"}}]
["Elevated platform vehicle costs",{"$f":"'DNSP Inputs O&M'!$D$14","v":50.18},1,{"$f":"'DNSP Inputs O&M'!$D$17","v":7.5},{"$f":"B542*C542*D542","v":376.35},null,null,null,{"$f":"'DNSP Inputs O&M'!$D$15","v":63.64},1,{"$f":"'DNSP Inputs O&M'!$D$17","v":7.5},{"$f":"I542*J542*K542","v":477.3},null,null,null,{"$f":"'DNSP Inputs O&M'!$D$15","v":63.64},1,{"$f":"'DNSP Inputs O&M'!$D$17","v":7.5},{"$f":"P542*Q542*R542","v":477.3},null,null,null,null,null,{"$f":"'DNSP Inputs O&M'!$E$14","v":50.18},1,{"$f":"'DNSP Inputs O&M'!$E$17","v":7.5},{"$f":"Y542*Z542*AA542","v":376.35},null,null,null,{"$f":"'DNSP Inputs O&M'!$E$15","v":63.64},1,{"$f":"'DNSP Inputs O&M'!$E$17","v":7.5},{"$f":"AF542*AG542*AH542","v":477.3},null,null,null,{"$f":"'DNSP Inputs O&M'!$E$15","v":63.64},1,{"$f":"'DNSP Inputs O&M'!$E$17","v":7.5},{"$f":"AM542*AN542*AO542","v":477.3},null,null,null,null,null,{"$f":"'DNSP Inputs O&M'!$F$14","v":50.18},1,{"$f":"'DNSP Inputs O&M'!$F$17","v":7.5},{"$f":"AV542*AW542*AX542","v":376.35},null,null,null,{"$f":"'DNSP Inputs O&M'!$F$15","v":63.64},1,{"$f":"'DNSP Inputs O&M'!$F$17","v":7.5},{"$f":"BC542*BD542*BE542","v":477.3},null,null,null,{"$f":"'DNSP Inputs O&M'!$F$15","v":63.64},1,{"$f":"'DNSP Inputs O&M'!$F$17","v":7.5},{"$f":"BJ542*BK542*BL542","v":477.3},null,null,null,null,null,{"$f":"'DNSP Inputs O&M'!$G$14","v":50.18},1,{"$f":"'DNSP Inputs O&M'!$G$17","v":7.5},{"$f":"BS542*BT542*BU542","v":376.35},null,null,null,{"$f":"'DNSP Inputs O&M'!$G$15","v":63.64},1,{"$f":"'DNSP Inputs O&M'!$G$17","v":7.5},{"$f":"BZ542*CA542*CB542","v":477.3},null,null,null,{"$f":"'DNSP Inputs O&M'!$G$15","v":63.64},1,{"$f":"'DNSP Inputs O&M'!$G$17","v":7.5},{"$f":"CG542*CH542*CI542","v":477.3},null,null,null,null,null,{"$f":"'DNSP Inputs O&M'!$H$14","v":50.18},1,{"$f":"'DNSP Inputs O&M'!$H$17","v":7.5},{"$f":"CP542*CQ542*CR542","v":376.35},null,null,null,{"$f":"'DNSP Inputs O&M'!$H$15","v":63.64},1,{"$f":"'DNSP Inputs O&M'!$H$17","v":7.5},{"$f":"CW542*CX542*CY542","v":477.3},null,null,null,{"$f":"'DNSP Inputs O&M'!$H$15","v":63.64},1,{"$f":"'DNSP Inputs O&M'!$H$17","v":7.5},{"$f":"DD542*DE542*DF542","v":477.3}]
["Other Maintenance and Repair costs",null,null,null,null,null,{"$f":"'DNSP Inputs O&M'!$D$579","v":9.3202762240000006},null,null,null,null,null,null,{"$f":"'DNSP Inputs O&M'!$D$579","v":9.3202762240000006},null,null,null,null,null,null,{"$f":"'DNSP Inputs O&M'!$D$579","v":9.3202762240000006},null,null,null,null,null,null,null,null,{"$f":"'DNSP Inputs O&M'!$E$579","v":9.3202762240000023},null,null,null,null,null,null,{"$f":"'DNSP Inputs O&M'!$E$579","v":9.3202762240000023},null,null,null,null,null,null,{"$f":"'DNSP Inputs O&M'!$E$579","v":9.3202762240000023},null,null,null,null,null,null,null,null,{"$f":"'DNSP Inputs O&M'!$F$579","v":9.3202762240000023},null,null,null,null,null,null,{"$f":"'DNSP Inputs O&M'!$F$579","v":9.3202762240000023},null,null,null,null,null,null,{"$f":"'DNSP Inputs O&M'!$F$579","v":9.3202762240000023},null,null,null,null,null,null,null,null,{"$f":"'DNSP Inputs O&M'!$G$579","v":9.3202762240000006},null,null,null,null,null,null,{"$f":"'DNSP Inputs O&M'!$G$579","v":9.3202762240000006},null,null,null,null,null,null,{"$f":"'DNSP Inputs O&M'!$G$579","v":9.3202762240000006},null,null,null,null,null,null,null,null,{"$f":"'DNSP Inputs O&M'!$H$579","v":9.3202762240000006},null,null,null,null,null,null,{"$f":"'DNSP Inputs O&M'!$H$579","v":9.3202762240000006},null,null,null,null,null,null,{"$f":"'DNSP Inputs O&M'!$H$579","v":9.3202762240000006}]
[]
["Overheads",{"$f":"'DNSP Inputs O&M'!$D$18","v":0.25},null,null,null,null,{"$f":"B545*SUM(G532:G543)","v":6.6169502759991445},null,{"$f":"'DNSP Inputs O&M'!$D$18","v":0.25},null,null,null,null,{"$f":"I545*SUM(N532:N543)","v":8.388879104442287},null,{"$f":"'DNSP Inputs O&M'!$D$18","v":0.25},null,null,null,null,{"$f":"P545*SUM(U532:U543)","v":10.485910785808354},null,null,null,{"$f":"'DNSP Inputs O&M'!$E$18","v":0.25},null,null,null,null,{"$f":"Y545*SUM(AD532:AD543)","v":{"$error":"#REF!"}},null,{"$f":"'DNSP Inputs O&M'!$E$18","v":0.25},null,null,null,null,{"$f":"AF545*SUM(AK532:AK543)","v":{"$error":"#REF!"}},null,{"$f":"'DNSP Inputs O&M'!$E$18","v":0.25},null,null,null,null,{"$f":"AM545*SUM(AR532:AR543)","v":{"$error":"#REF!"}},null,null,null,{"$f":"'DNSP Inputs O&M'!$F$18","v":0.25},null,null,null,null,{"$f":"AV545*SUM(BA532:BA543)","v":{"$error":"#REF!"}},null,{"$f":"'DNSP Inputs O&M'!$F$18","v":0.25},null,null,null,null,{"$f":"BC545*SUM(BH532:BH543)","v":{"$error":"#REF!"}},null,{"$f":"'DNSP Inputs O&M'!$F$18","v":0.25},null,null,null,null,{"$f":"BJ545*SUM(BO532:BO543)","v":{"$error":"#REF!"}},null,null,null,{"$f":"'DNSP Inputs O&M'!$G$18","v":0.25},null,null,null,null,{"$f":"BS545*SUM(BX532:BX543)","v":{"$error":"#REF!"}},null,{"$f":"'DNSP Inputs O&M'!$G$18","v":0.25},null,null,null,null,{"$f":"BZ545*SUM(CE532:CE543)","v":{"$error":"#REF!"}},null,{"$f":"'DNSP Inputs O&M'!$G$18","v":0.25},null,null,null,null,{"$f":"CG545*SUM(CL532:CL543)","v":{"$error":"#REF!"}},null,null,null,{"$f":"'DNSP Inputs O&M'!$H$18","v":0.25},null,null,null,null,{"$f":"CP545*SUM(CU532:CU543)","v":{"$error":"#REF!"}},null,{"$f":"'DNSP Inputs O&M'!$H$18","v":0.25},null,null,null,null,{"$f":"CW545*SUM(DB532:DB543)","v":{"$error":"#REF!"}},null,{"$f":"'DNSP Inputs O&M'!$H$18","v":0.25},null,null,null,null,{"$f":"DD545*SUM(DI532:DI543)","v":{"$error":"#REF!"}}]
[]
[null,null,null,null,null,null,{"$f":"SUM(G532,G534,G538,G541,G543,G545)","v":33.084751379995723},null,null,null,null,null,null,{"$f":"SUM(N532,N534,N538,N541,N543,N545)","v":41.944395522211437},null,null,null,null,null,null,{"$f":"SUM(U532,U534,U538,U541,U543,U545)","v":52.429553929041774},null,null,null,null,null,null,null,null,{"$f":"SUM(AD532,AD534,AD538,AD541,AD543,AD545)","v":{"$error":"#REF!"}},null,null,null,null,null,null,{"$f":"SUM(AK532,AK534,AK538,AK541,AK543,AK545)","v":{"$error":"#REF!"}},null,null,null,null,null,null,{"$f":"SUM(AR532,AR534,AR538,AR541,AR543,AR545)","v":{"$error":"#REF!"}},null,null,null,null,null,null,null,null,{"$f":"SUM(BA532,BA534,BA538,BA541,BA543,BA545)","v":{"$error":"#REF!"}},null,null,null,null,null,null,{"$f":"SUM(BH532,BH534,BH538,BH541,BH543,BH545)","v":{"$error":"#REF!"}},null,null,null,null,null,null,{"$f":"SUM(BO532,BO534,BO538,BO541,BO543,BO545)","v":{"$error":"#REF!"}},null,null,null,null,null,null,null,null,{"$f":"SUM(BX532,BX534,BX538,BX541,BX543,BX545)","v":{"$error":"#REF!"}},null,null,null,null,null,null,{"$f":"SUM(CE532,CE534,CE538,CE541,CE543,CE545)","v":{"$error":"#REF!"}},null,null,null,null,null,null,{"$f":"SUM(CL532,CL534,CL538,CL541,CL543,CL545)","v":{"$error":"#REF!"}},null,null,null,null,null,null,null,null,{"$f":"SUM(CU532,CU534,CU538,CU541,CU543,CU545)","v":{"$error":"#REF!"}},null,null,null,null,null,null,{"$f":"SUM(DB532,DB534,DB538,DB541,DB543,DB545)","v":{"$error":"#REF!"}},null,null,null,null,null,null,{"$f":"SUM(DI532,DI534,DI538,DI541,DI543,DI545)","v":{"$error":"#REF!"}}]
[]
[]
[]
["NEW"]
["Category Smart lighting L4 - Cost build-up"]
[]
["Additional assumptions"]
[]
[]
["Overheads are applied to material and labour components"]
["All costs and charges are exclusive of GST"]
[]
[null,"Urban",null,null,null,null,null,null,"Rural",null,null,null,null,null,null,"Remote",null,null,null,null,null,null,null,null,"Urban",null,null,null,null,null,null,"Rural",null,null,null,null,null,null,"Remote",null,null,null,null,null,null,null,null,"Urban",null,null,null,null,null,null,"Rural",null,null,null,null,null,null,"Remote",null,null,null,null,null,null,null,null,"Urban",null,null,null,null,null,null,"Rural",null,null,null,null,null,null,"Remote",null,null,null,null,null,null,null,null,"Urban",null,null,null,null,null,null,"Rural",null,null,null,null,null,null,"Remote"]
[]
[null,"Unit rate","Number","Hours","Cost","Annualised","Annualised",null,"Unit rate","Number","Hours","Cost","Annualised","Annualised",null,"Unit rate","Number","Hours","Cost","Annualised","Annualised",null,null,null,"Unit rate","Number","Hours","Cost","Annualised","Annualised",null,"Unit rate","Number","Hours","Cost","Annualised","Annualised",null,"Unit rate","Number","Hours","Cost","Annualised","Annualised",null,null,null,"Unit rate","Number","Hours","Cost","Annualised","Annualised",null,"Unit rate","Number","Hours","Cost","Annualised","Annualised",null,"Unit rate","Number","Hours","Cost","Annualised","Annualised",null,null,null,"Unit rate","Number","Hours","Cost","Annualised","Annualised",null,"Unit rate","Number","Hours","Cost","Annualised","Annualised",null,"Unit rate","Number","Hours","Cost","Annualised","Annualised",null,null,null,"Unit rate","Number","Hours","Cost","Annualised","Annualised",null,"Unit rate","Number","Hours","Cost","Annualised","Annualised",null,"Unit rate","Number","Hours","Cost","Annualised","Annualised"]
[null,null,null,null,null," cost","unit cost",null,null,null,null,null," cost","unit cost",null,null,null,null,null," cost","unit cost",null,null,null,null,null,null,null," cost","unit cost",null,null,null,null,null," cost","unit cost",null,null,null,null,null," cost","unit cost",null,null,null,null,null,null,null," cost","unit cost",null,null,null,null,null," cost","unit cost",null,null,null,null,null," cost","unit cost",null,null,null,null,null,null,null," cost","unit cost",null,null,null,null,null," cost","unit cost",null,null,null,null,null," cost","unit cost",null,null,null,null,null,null,null," cost","unit cost",null,null,null,null,null," cost","unit cost",null,null,null,null,null," cost","unit cost"]
["Smart lighting L4"]
["Patrols & repairs"]
[]
[]
["Materials - repair of faults"]
["PE cell",{"$f":"'DNSP Inputs O&M'!$D$604","v":114.023},{"$f":"'DNSP Inputs O&M'!$D$611*'DNSP Inputs O&M'!$D$614","v":13.5},null,{"$f":"B569*C569","v":1539.3105},{"$f":"(E569+E570+E571)/'DNSP Inputs O&M'!$D$608","v":0.52469771921217689},{"$f":"F569*'DNSP Inputs O&M'!$D$467","v":1.5740931576365307},null,{"$f":"'DNSP Inputs O&M'!$D$604*(1+'DNSP Inputs O&M'!$D$11)","v":119.72414999999999},{"$f":"'DNSP Inputs O&M'!$D$524*'DNSP Inputs O&M'!$D$614","v":9.9},null,{"$f":"I569*J569","v":1185.2690849999999},{"$f":"(L569+L570+L571)/'DNSP Inputs O&M'!$D$609","v":0.60602586569006422},{"$f":"M569*'DNSP Inputs O&M'!$D$467","v":1.8180775970701926},null,{"$f":"'DNSP Inputs O&M'!$D$604*(1+'DNSP Inputs O&M'!$D$11)","v":119.72414999999999},{"$f":"'DNSP Inputs O&M'!$D$525*'DNSP Inputs O&M'!$D$614","v":8.1},null,{"$f":"P569*Q569","v":969.76561499999991},{"$f":"(S569+S570+S571)/'DNSP Inputs O&M'!$D$610","v":0.99167868931101433},{"$f":"T569*'DNSP Inputs O&M'!$D$467","v":2.975036067933043},null,null,null,{"$f":"'DNSP Inputs O&M'!$E$604","v":114.023},{"$f":"'DNSP Inputs O&M'!$E$611*'DNSP Inputs O&M'!$E$614","v":13.5},null,{"$f":"Y569*Z569","v":1539.3105},{"$f":"(AB569+AB570+AB571)/'DNSP Inputs O&M'!$E$608","v":0.52469771921217689},{"$f":"AC569*'DNSP Inputs O&M'!$E$467","v":1.5740931576365307},null,{"$f":"'DNSP Inputs O&M'!$E$604*(1+'DNSP Inputs O&M'!$E$11)","v":119.72414999999999},{"$f":"'DNSP Inputs O&M'!$E$524*'DNSP Inputs O&M'!$E$614","v":9.9},null,{"$f":"AF569*AG569","v":1185.2690849999999},{"$f":"(AI569+AI570+AI571)/'DNSP Inputs O&M'!$E$609","v":0.60602586569006422},{"$f":"AJ569*'DNSP Inputs O&M'!$E$467","v":1.8180775970701926},null,{"$f":"'DNSP Inputs O&M'!$E$604*(1+'DNSP Inputs O&M'!$E$11)","v":119.72414999999999},{"$f":"'DNSP Inputs O&M'!$E$525*'DNSP Inputs O&M'!$E$614","v":8.1},null,{"$f":"AM569*AN569","v":969.76561499999991},{"$f":"(AP569+AP570+AP571)/'DNSP Inputs O&M'!$E$610","v":0.99167868931101433},{"$f":"AQ569*'DNSP Inputs O&M'!$E$467","v":2.975036067933043},null,null,null,{"$f":"'DNSP Inputs O&M'!$F$604","v":114.023},{"$f":"'DNSP Inputs O&M'!$F$611*'DNSP Inputs O&M'!$F$614","v":13.5},null,{"$f":"AV569*AW569","v":1539.3105},{"$f":"(AY569+AY570+AY571)/'DNSP Inputs O&M'!$F$608","v":0.52469771921217689},{"$f":"AZ569*'DNSP Inputs O&M'!$F$467","v":1.5740931576365307},null,{"$f":"'DNSP Inputs O&M'!$F$604*(1+'DNSP Inputs O&M'!$F$11)","v":119.72414999999999},{"$f":"'DNSP Inputs O&M'!$F$524*'DNSP Inputs O&M'!$F$614","v":9.9},null,{"$f":"BC569*BD569","v":1185.2690849999999},{"$f":"(BF569+BF570+BF571)/'DNSP Inputs O&M'!$F$609","v":0.60602586569006422},{"$f":"BG569*'DNSP Inputs O&M'!$F$467","v":1.8180775970701926},null,{"$f":"'DNSP Inputs O&M'!$F$604*(1+'DNSP Inputs O&M'!$F$11)","v":119.72414999999999},{"$f":"'DNSP Inputs O&M'!$F$525*'DNSP Inputs O&M'!$F$614","v":8.1},null,{"$f":"BJ569*BK569","v":969.76561499999991},{"$f":"(BM569+BM570+BM571)/'DNSP Inputs O&M'!$F$610","v":0.99167868931101433},{"$f":"BN569*'DNSP Inputs O&M'!$F$467","v":2.975036067933043},null,null,null,{"$f":"'DNSP Inputs O&M'!$G$604","v":114.023},{"$f":"'DNSP Inputs O&M'!$G$611*'DNSP Inputs O&M'!$G$614","v":13.5},null,{"$f":"BS569*BT569","v":1539.3105},{"$f":"(BV569+BV570+BV571)/'DNSP Inputs O&M'!$G$608","v":0.52469771921217689},{"$f":"BW569*'DNSP Inputs O&M'!$G$467","v":1.5740931576365307},null,{"$f":"'DNSP Inputs O&M'!$G$604*(1+'DNSP Inputs O&M'!$G$11)","v":119.72414999999999},{"$f":"'DNSP Inputs O&M'!$G$524*'DNSP Inputs O&M'!$G$614","v":9.9},null,{"$f":"BZ569*CA569","v":1185.2690849999999},{"$f":"(CC569+CC570+CC571)/'DNSP Inputs O&M'!$G$609","v":0.60602586569006422},{"$f":"CD569*'DNSP Inputs O&M'!$G$467","v":1.8180775970701926},null,{"$f":"'DNSP Inputs O&M'!$G$604*(1+'DNSP Inputs O&M'!$G$11)","v":119.72414999999999},{"$f":"'DNSP Inputs O&M'!$G$525*'DNSP Inputs O&M'!$G$614","v":8.1},null,{"$f":"CG569*CH569","v":969.76561499999991},{"$f":"(CJ569+CJ570+CJ571)/'DNSP Inputs O&M'!$G$610","v":0.99167868931101433},{"$f":"CK569*'DNSP Inputs O&M'!$G$467","v":2.975036067933043},null,null,null,{"$f":"'DNSP Inputs O&M'!$H$604","v":114.023},{"$f":"'DNSP Inputs O&M'!$H$611*'DNSP Inputs O&M'!$H$614","v":13.5},null,{"$f":"CP569*CQ569","v":1539.3105},{"$f":"(CS569+CS570+CS571)/'DNSP Inputs O&M'!$H$608","v":0.52469771921217689},{"$f":"CT569*'DNSP Inputs O&M'!$H$467","v":1.5740931576365307},null,{"$f":"'DNSP Inputs O&M'!$H$604*(1+'DNSP Inputs O&M'!$H$11)","v":119.72414999999999},{"$f":"'DNSP Inputs O&M'!$H$524*'DNSP Inputs O&M'!$H$614","v":9.9},null,{"$f":"CW569*CX569","v":1185.2690849999999},{"$f":"(CZ569+CZ570+CZ571)/'DNSP Inputs O&M'!$H$609","v":0.60602586569006422},{"$f":"DA569*'DNSP Inputs O&M'!$H$467","v":1.8180775970701926},null,{"$f":"'DNSP Inputs O&M'!$H$604*(1+'DNSP Inputs O&M'!$H$11)","v":119.72414999999999},{"$f":"'DNSP Inputs O&M'!$H$525*'DNSP Inputs O&M'!$H$614","v":8.1},null,{"$f":"DD569*DE569","v":969.76561499999991},{"$f":"(DG569+DG570+DG571)/'DNSP Inputs O&M'!$H$610","v":0.99167868931101433},{"$f":"DH569*'DNSP Inputs O&M'!$H$467","v":2.975036067933043}]
["Luminaire",{"$f":"'DNSP Inputs O&M'!$D$605","v":650.88},{"$f":"'DNSP Inputs O&M'!$D$611*'DNSP Inputs O&M'!$D$615","v":0},null,{"$f":"B570*C570","v":0},null,null,null,{"$f":"'DNSP Inputs O&M'!$D$605*(1+'DNSP Inputs O&M'!$D$11)","v":683.42399999999998},{"$f":"'DNSP Inputs O&M'!$D$524*'DNSP Inputs O&M'!$D$615","v":0},null,{"$f":"I570*J570","v":0},null,null,null,{"$f":"'DNSP Inputs O&M'!$D$605*(1+'DNSP Inputs O&M'!$D$11)","v":683.42399999999998},{"$f":"'DNSP Inputs O&M'!$D$525*'DNSP Inputs O&M'!$D$615","v":0},null,{"$f":"P570*Q570","v":0},null,null,null,null,null,{"$f":"'DNSP Inputs O&M'!$E$605","v":650.88},{"$f":"'DNSP Inputs O&M'!$E$611*'DNSP Inputs O&M'!$E$615","v":0},null,{"$f":"Y570*Z570","v":0},null,null,null,{"$f":"'DNSP Inputs O&M'!$E$605*(1+'DNSP Inputs O&M'!$E$11)","v":683.42399999999998},{"$f":"'DNSP Inputs O&M'!$E$524*'DNSP Inputs O&M'!$E$615","v":0},null,{"$f":"AF570*AG570","v":0},null,null,null,{"$f":"'DNSP Inputs O&M'!$E$605*(1+'DNSP Inputs O&M'!$E$11)","v":683.42399999999998},{"$f":"'DNSP Inputs O&M'!$E$525*'DNSP Inputs O&M'!$E$615","v":0},null,{"$f":"AM570*AN570","v":0},null,null,null,null,null,{"$f":"'DNSP Inputs O&M'!$F$605","v":650.88},{"$f":"'DNSP Inputs O&M'!$F$611*'DNSP Inputs O&M'!$F$615","v":0},null,{"$f":"AV570*AW570","v":0},null,null,null,{"$f":"'DNSP Inputs O&M'!$F$605*(1+'DNSP Inputs O&M'!$F$11)","v":683.42399999999998},{"$f":"'DNSP Inputs O&M'!$F$524*'DNSP Inputs O&M'!$F$615","v":0},null,{"$f":"BC570*BD570","v":0},null,null,null,{"$f":"'DNSP Inputs O&M'!$F$605*(1+'DNSP Inputs O&M'!$F$11)","v":683.42399999999998},{"$f":"'DNSP Inputs O&M'!$F$525*'DNSP Inputs O&M'!$F$615","v":0},null,{"$f":"BJ570*BK570","v":0},null,null,null,null,null,{"$f":"'DNSP Inputs O&M'!$G$605","v":650.88},{"$f":"'DNSP Inputs O&M'!$G$611*'DNSP Inputs O&M'!$G$615","v":0},null,{"$f":"BS570*BT570","v":0},null,null,null,{"$f":"'DNSP Inputs O&M'!$G$605*(1+'DNSP Inputs O&M'!$G$11)","v":683.42399999999998},{"$f":"'DNSP Inputs O&M'!$G$524*'DNSP Inputs O&M'!$G$615","v":0},null,{"$f":"BZ570*CA570","v":0},null,null,null,{"$f":"'DNSP Inputs O&M'!$G$605*(1+'DNSP Inputs O&M'!$G$11)","v":683.42399999999998},{"$f":"'DNSP Inputs O&M'!$G$525*'DNSP Inputs O&M'!$G$615","v":0},null,{"$f":"CG570*CH570","v":0},null,null,null,null,null,{"$f":"'DNSP Inputs O&M'!$H$605","v":650.88},{"$f":"'DNSP Inputs O&M'!$H$611*'DNSP Inputs O&M'!$H$615","v":0},null,{"$f":"CP570*CQ570","v":0},null,null,null,{"$f":"'DNSP Inputs O&M'!$H$605*(1+'DNSP Inputs O&M'!$H$11)","v":683.42399999999998},{"$f":"'DNSP Inputs O&M'!$H$524*'DNSP Inputs O&M'!$H$615","v":0},null,{"$f":"CW570*CX570","v":0},null,null,null,{"$f":"'DNSP Inputs O&M'!$H$605*(1+'DNSP Inputs O&M'!$H$11)","v":683.42399999999998},{"$f":"'DNSP Inputs O&M'!$H$525*'DNSP Inputs O&M'!$H$615","v":0},null,{"$f":"DD570*DE570","v":0}]
["Miscellaneous",{"$f":"'DNSP Inputs O&M'!$D$606","v":23.188438424353883},{"$f":"'DNSP Inputs O&M'!$D$611*'DNSP Inputs O&M'!$D$616","v":1.5},null,{"$f":"B571*C571","v":34.782657636530828},null,null,null,{"$f":"'DNSP Inputs O&M'!$D$606*(1+'DNSP Inputs O&M'!$D$11)","v":24.347860345571579},{"$f":"'DNSP Inputs O&M'!$D$524*'DNSP Inputs O&M'!$D$616","v":1.1000000000000001},null,{"$f":"I571*J571","v":26.782646380128739},null,null,null,{"$f":"'DNSP Inputs O&M'!$D$606*(1+'DNSP Inputs O&M'!$D$11)","v":24.347860345571579},{"$f":"'DNSP Inputs O&M'!$D$525*'DNSP Inputs O&M'!$D$616","v":0.9},null,{"$f":"P571*Q571","v":21.913074311014423},null,null,null,null,null,{"$f":"'DNSP Inputs O&M'!$E$606","v":23.188438424353883},{"$f":"'DNSP Inputs O&M'!$E$611*'DNSP Inputs O&M'!$E$616","v":1.5},null,{"$f":"Y571*Z571","v":34.782657636530828},null,null,null,{"$f":"'DNSP Inputs O&M'!$E$606*(1+'DNSP Inputs O&M'!$E$11)","v":24.347860345571579},{"$f":"'DNSP Inputs O&M'!$E$524*'DNSP Inputs O&M'!$E$616","v":1.1000000000000001},null,{"$f":"AF571*AG571","v":26.782646380128739},null,null,null,{"$f":"'DNSP Inputs O&M'!$E$606*(1+'DNSP Inputs O&M'!$E$11)","v":24.347860345571579},{"$f":"'DNSP Inputs O&M'!$E$525*'DNSP Inputs O&M'!$E$616","v":0.9},null,{"$f":"AM571*AN571","v":21.913074311014423},null,null,null,null,null,{"$f":"'DNSP Inputs O&M'!$F$606","v":23.188438424353883},{"$f":"'DNSP Inputs O&M'!$F$611*'DNSP Inputs O&M'!$F$616","v":1.5},null,{"$f":"AV571*AW571","v":34.782657636530828},null,null,null,{"$f":"'DNSP Inputs O&M'!$F$606*(1+'DNSP Inputs O&M'!$F$11)","v":24.347860345571579},{"$f":"'DNSP Inputs O&M'!$F$524*'DNSP Inputs O&M'!$F$616","v":1.1000000000000001},null,{"$f":"BC571*BD571","v":26.782646380128739},null,null,null,{"$f":"'DNSP Inputs O&M'!$F$606*(1+'DNSP Inputs O&M'!$F$11)","v":24.347860345571579},{"$f":"'DNSP Inputs O&M'!$F$525*'DNSP Inputs O&M'!$F$616","v":0.9},null,{"$f":"BJ571*BK571","v":21.913074311014423},null,null,null,null,null,{"$f":"'DNSP Inputs O&M'!$G$606","v":23.188438424353883},{"$f":"'DNSP Inputs O&M'!$G$611*'DNSP Inputs O&M'!$G$616","v":1.5},null,{"$f":"BS571*BT571","v":34.782657636530828},null,null,null,{"$f":"'DNSP Inputs O&M'!$G$606*(1+'DNSP Inputs O&M'!$G$11)","v":24.347860345571579},{"$f":"'DNSP Inputs O&M'!$G$524*'DNSP Inputs O&M'!$G$616","v":1.1000000000000001},null,{"$f":"BZ571*CA571","v":26.782646380128739},null,null,null,{"$f":"'DNSP Inputs O&M'!$G$606*(1+'DNSP Inputs O&M'!$G$11)","v":24.347860345571579},{"$f":"'DNSP Inputs O&M'!$G$525*'DNSP Inputs O&M'!$G$616","v":0.9},null,{"$f":"CG571*CH571","v":21.913074311014423},null,null,null,null,null,{"$f":"'DNSP Inputs O&M'!$H$606","v":23.188438424353883},{"$f":"'DNSP Inputs O&M'!$H$611*'DNSP Inputs O&M'!$H$616","v":1.5},null,{"$f":"CP571*CQ571","v":34.782657636530828},null,null,null,{"$f":"'DNSP Inputs O&M'!$H$606*(1+'DNSP Inputs O&M'!$H$11)","v":24.347860345571579},{"$f":"'DNSP Inputs O&M'!$H$524*'DNSP Inputs O&M'!$H$616","v":1.1000000000000001},null,{"$f":"CW571*CX571","v":26.782646380128739},null,null,null,{"$f":"'DNSP Inputs O&M'!$H$606*(1+'DNSP Inputs O&M'!$H$11)","v":24.347860345571579},{"$f":"'DNSP Inputs O&M'!$H$525*'DNSP Inputs O&M'!$H$616","v":0.9},null,{"$f":"DD571*DE571","v":21.913074311014423}]
["Labour - Patrol"]
["Crew costs",{"$f":"'DNSP Inputs O&M'!$D$12","v":111.36223236834823},{"$f":"'DNSP Inputs O&M'!$D$607","v":2},{"$f":"'DNSP Inputs O&M'!$D$17","v":7.5},{"$f":"B573*C573*D573","v":1670.4334855252234},{"$f":"E573/'DNSP Inputs O&M'!$D$608","v":0.55681116184174118},{"$f":"(F573+F574)*'DNSP Inputs O&M'!$D$467","v":1.9282084855252237},null,{"$f":"'DNSP Inputs O&M'!$D$12","v":111.36223236834823},{"$f":"'DNSP Inputs O&M'!$D$607","v":2},{"$f":"'DNSP Inputs O&M'!$D$17","v":7.5},{"$f":"I573*J573*K573","v":1670.4334855252234},{"$f":"L573/'DNSP Inputs O&M'!$D$609","v":0.83521674276261171},{"$f":"(M573+M574)*'DNSP Inputs O&M'!$D$467","v":2.8923127282878349},null,{"$f":"'DNSP Inputs O&M'!$D$12","v":111.36223236834823},{"$f":"'DNSP Inputs O&M'!$D$607","v":2},{"$f":"'DNSP Inputs O&M'!$D$17","v":7.5},{"$f":"P573*Q573*R573","v":1670.4334855252234},{"$f":"S573/'DNSP Inputs O&M'!$D$610","v":1.6704334855252234},{"$f":"(T573+T574)*'DNSP Inputs O&M'!$D$467","v":5.7846254565756698},null,null,null,{"$f":"'DNSP Inputs O&M'!$E$12","v":{"$error":"#REF!"}},{"$f":"'DNSP Inputs O&M'!$E$607","v":2},{"$f":"'DNSP Inputs O&M'!$E$17","v":7.5},{"$f":"Y573*Z573*AA573","v":{"$error":"#REF!"}},{"$f":"AB573/'DNSP Inputs O&M'!$E$608","v":{"$error":"#REF!"}},{"$f":"(AC573+AC574)*'DNSP Inputs O&M'!$E$467","v":{"$error":"#REF!"}},null,{"$f":"'DNSP Inputs O&M'!$E$12","v":{"$error":"#REF!"}},{"$f":"'DNSP Inputs O&M'!$E$607","v":2},{"$f":"'DNSP Inputs O&M'!$E$17","v":7.5},{"$f":"AF573*AG573*AH573","v":{"$error":"#REF!"}},{"$f":"AI573/'DNSP Inputs O&M'!$E$609","v":{"$error":"#REF!"}},{"$f":"(AJ573+AJ574)*'DNSP Inputs O&M'!$E$467","v":{"$error":"#REF!"}},null,{"$f":"'DNSP Inputs O&M'!$E$12","v":{"$error":"#REF!"}},{"$f":"'DNSP Inputs O&M'!$E$607","v":2},{"$f":"'DNSP Inputs O&M'!$E$17","v":7.5},{"$f":"AM573*AN573*AO573","v":{"$error":"#REF!"}},{"$f":"AP573/'DNSP Inputs O&M'!$E$610","v":{"$error":"#REF!"}},{"$f":"(AQ573+AQ574)*'DNSP Inputs O&M'!$E$467","v":{"$error":"#REF!"}},null,null,null,{"$f":"'DNSP Inputs O&M'!$F$12","v":{"$error":"#REF!"}},{"$f":"'DNSP Inputs O&M'!$F$607","v":2},{"$f":"'DNSP Inputs O&M'!$F$17","v":7.5},{"$f":"AV573*AW573*AX573","v":{"$error":"#REF!"}},{"$f":"AY573/'DNSP Inputs O&M'!$F$608","v":{"$error":"#REF!"}},{"$f":"(AZ573+AZ574)*'DNSP Inputs O&M'!$F$467","v":{"$error":"#REF!"}},null,{"$f":"'DNSP Inputs O&M'!$F$12","v":{"$error":"#REF!"}},{"$f":"'DNSP Inputs O&M'!$F$607","v":2},{"$f":"'DNSP Inputs O&M'!$F$17","v":7.5},{"$f":"BC573*BD573*BE573","v":{"$error":"#REF!"}},{"$f":"BF573/'DNSP Inputs O&M'!$F$609","v":{"$error":"#REF!"}},{"$f":"(BG573+BG574)*'DNSP Inputs O&M'!$F$467","v":{"$error":"#REF!"}},null,{"$f":"'DNSP Inputs O&M'!$F$12","v":{"$error":"#REF!"}},{"$f":"'DNSP Inputs O&M'!$F$607","v":2},{"$f":"'DNSP Inputs O&M'!$F$17","v":7.5},{"$f":"BJ573*BK573*BL573","v":{"$error":"#REF!"}},{"$f":"BM573/'DNSP Inputs O&M'!$F$610","v":{"$error":"#REF!"}},{"$f":"(BN573+BN574)*'DNSP Inputs O&M'!$F$467","v":{"$error":"#REF!"}},null,null,null,{"$f":"'DNSP Inputs O&M'!$G$12","v":{"$error":"#REF!"}},{"$f":"'DNSP Inputs O&M'!$G$607","v":2},{"$f":"'DNSP Inputs O&M'!$G$17","v":7.5},{"$f":"BS573*BT573*BU573","v":{"$error":"#REF!"}},{"$f":"BV573/'DNSP Inputs O&M'!$G$608","v":{"$error":"#REF!"}},{"$f":"(BW573+BW574)*'DNSP Inputs O&M'!$G$467","v":{"$error":"#REF!"}},null,{"$f":"'DNSP Inputs O&M'!$G$12","v":{"$error":"#REF!"}},{"$f":"'DNSP Inputs O&M'!$G$607","v":2},{"$f":"'DNSP Inputs O&M'!$G$17","v":7.5},{"$f":"BZ573*CA573*CB573","v":{"$error":"#REF!"}},{"$f":"CC573/'DNSP Inputs O&M'!$G$609","v":{"$error":"#REF!"}},{"$f":"(CD573+CD574)*'DNSP Inputs O&M'!$G$467","v":{"$error":"#REF!"}},null,{"$f":"'DNSP Inputs O&M'!$G$12","v":{"$error":"#REF!"}},{"$f":"'DNSP Inputs O&M'!$G$607","v":2},{"$f":"'DNSP Inputs O&M'!$G$17","v":7.5},{"$f":"CG573*CH573*CI573","v":{"$error":"#REF!"}},{"$f":"CJ573/'DNSP Inputs O&M'!$G$610","v":{"$error":"#REF!"}},{"$f":"(CK573+CK574)*'DNSP Inputs O&M'!$G$467","v":{"$error":"#REF!"}},null,null,null,{"$f":"'DNSP Inputs O&M'!$H$12","v":{"$error":"#REF!"}},{"$f":"'DNSP Inputs O&M'!$H$607","v":2},{"$f":"'DNSP Inputs O&M'!$H$17","v":7.5},{"$f":"CP573*CQ573*CR573","v":{"$error":"#REF!"}},{"$f":"CS573/'DNSP Inputs O&M'!$H$608","v":{"$error":"#REF!"}},{"$f":"(CT573+CT574)*'DNSP Inputs O&M'!$H$467","v":{"$error":"#REF!"}},null,{"$f":"'DNSP Inputs O&M'!$H$12","v":{"$error":"#REF!"}},{"$f":"'DNSP Inputs O&M'!$H$607","v":2},{"$f":"'DNSP Inputs O&M'!$H$17","v":7.5},{"$f":"CW573*CX573*CY573","v":{"$error":"#REF!"}},{"$f":"CZ573/'DNSP Inputs O&M'!$H$609","v":{"$error":"#REF!"}},{"$f":"(DA573+DA574)*'DNSP Inputs O&M'!$H$467","v":{"$error":"#REF!"}},null,{"$f":"'DNSP Inputs O&M'!$H$12","v":{"$error":"#REF!"}},{"$f":"'DNSP Inputs O&M'!$H$607","v":2},{"$f":"'DNSP Inputs O&M'!$H$17","v":7.5},{"$f":"DD573*DE573*DF573","v":{"$error":"#REF!"}},{"$f":"DG573/'DNSP Inputs O&M'!$H$610","v":{"$error":"#REF!"}},{"$f":"(DH573+DH574)*'DNSP Inputs O&M'!$H$467","v":{"$error":"#REF!"}}]
["Vehicle costs",{"$f":"'DNSP Inputs O&M'!$D$16","v":34.369999999999997},1,{"$f":"'DNSP Inputs O&M'!$D$17","v":7.5},{"$f":"B574*C574*D574","v":257.77499999999998},{"$f":"E574/'DNSP Inputs O&M'!$D$608","v":8.5924999999999987E-2},null,null,{"$f":"'DNSP Inputs O&M'!$D$16","v":34.369999999999997},1,{"$f":"'DNSP Inputs O&M'!$D$17","v":7.5},{"$f":"I574*J574*K574","v":257.77499999999998},{"$f":"L574/'DNSP Inputs O&M'!$D$609","v":0.12888749999999999},null,null,{"$f":"'DNSP Inputs O&M'!$D$16","v":34.369999999999997},1,{"$f":"'DNSP Inputs O&M'!$D$17","v":7.5},{"$f":"P574*Q574*R574","v":257.77499999999998},{"$f":"S574/'DNSP Inputs O&M'!$D$610","v":0.25777499999999998},null,null,null,null,{"$f":"'DNSP Inputs O&M'!$E$16","v":34.369999999999997},1,{"$f":"'DNSP Inputs O&M'!$E$17","v":7.5},{"$f":"Y574*Z574*AA574","v":257.77499999999998},{"$f":"AB574/'DNSP Inputs O&M'!$E$608","v":8.5924999999999987E-2},null,null,{"$f":"'DNSP Inputs O&M'!$E$16","v":34.369999999999997},1,{"$f":"'DNSP Inputs O&M'!$E$17","v":7.5},{"$f":"AF574*AG574*AH574","v":257.77499999999998},{"$f":"AI574/'DNSP Inputs O&M'!$E$609","v":0.12888749999999999},null,null,{"$f":"'DNSP Inputs O&M'!$E$16","v":34.369999999999997},1,{"$f":"'DNSP Inputs O&M'!$E$17","v":7.5},{"$f":"AM574*AN574*AO574","v":257.77499999999998},{"$f":"AP574/'DNSP Inputs O&M'!$E$610","v":0.25777499999999998},null,null,null,null,{"$f":"'DNSP Inputs O&M'!$F$16","v":34.369999999999997},1,{"$f":"'DNSP Inputs O&M'!$F$17","v":7.5},{"$f":"AV574*AW574*AX574","v":257.77499999999998},{"$f":"AY574/'DNSP Inputs O&M'!$F$608","v":8.5924999999999987E-2},null,null,{"$f":"'DNSP Inputs O&M'!$F$16","v":34.369999999999997},1,{"$f":"'DNSP Inputs O&M'!$F$17","v":7.5},{"$f":"BC574*BD574*BE574","v":257.77499999999998},{"$f":"BF574/'DNSP Inputs O&M'!$F$609","v":0.12888749999999999},null,null,{"$f":"'DNSP Inputs O&M'!$F$16","v":34.369999999999997},1,{"$f":"'DNSP Inputs O&M'!$F$17","v":7.5},{"$f":"BJ574*BK574*BL574","v":257.77499999999998},{"$f":"BM574/'DNSP Inputs O&M'!$F$610","v":0.25777499999999998},null,null,null,null,{"$f":"'DNSP Inputs O&M'!$G$16","v":34.369999999999997},1,{"$f":"'DNSP Inputs O&M'!$G$17","v":7.5},{"$f":"BS574*BT574*BU574","v":257.77499999999998},{"$f":"BV574/'DNSP Inputs O&M'!$G$608","v":8.5924999999999987E-2},null,null,{"$f":"'DNSP Inputs O&M'!$G$16","v":34.369999999999997},1,{"$f":"'DNSP Inputs O&M'!$G$17","v":7.5},{"$f":"BZ574*CA574*CB574","v":257.77499999999998},{"$f":"CC574/'DNSP Inputs O&M'!$G$609","v":0.12888749999999999},null,null,{"$f":"'DNSP Inputs O&M'!$G$16","v":34.369999999999997},1,{"$f":"'DNSP Inputs O&M'!$G$17","v":7.5},{"$f":"CG574*CH574*CI574","v":257.77499999999998},{"$f":"CJ574/'DNSP Inputs O&M'!$G$610","v":0.25777499999999998},null,null,null,null,{"$f":"'DNSP Inputs O&M'!$H$16","v":34.369999999999997},1,{"$f":"'DNSP Inputs O&M'!$H$17","v":7.5},{"$f":"CP574*CQ574*CR574","v":257.77499999999998},{"$f":"CS574/'DNSP Inputs O&M'!$H$608","v":8.5924999999999987E-2},null,null,{"$f":"'DNSP Inputs O&M'!$H$16","v":34.369999999999997},1,{"$f":"'DNSP Inputs O&M'!$H$17","v":7.5},{"$f":"CW574*CX574*CY574","v":257.77499999999998},{"$f":"CZ574/'DNSP Inputs O&M'!$H$609","v":0.12888749999999999},null,null,{"$f":"'DNSP Inputs O&M'!$H$16","v":34.369999999999997},1,{"$f":"'DNSP Inputs O&M'!$H$17","v":7.5},{"$f":"DD574*DE574*DF574","v":257.77499999999998},{"$f":"DG574/'DNSP Inputs O&M'!$H$610","v":0.25777499999999998}]
["Labour - repair of faults"]
["Crew costs",{"$f":"'DNSP Inputs O&M'!$D$12","v":111.36223236834823},{"$f":"'DNSP Inputs O&M'!$D$607","v":2},{"$f":"'DNSP Inputs O&M'!$D$17","v":7.5},{"$f":"B576*C576*D576","v":1670.4334855252234},{"$f":"(E576+E577)/'DNSP Inputs O&M'!$D$611","v":136.45223236834823},{"$f":"F576/'DNSP Inputs O&M'!$D$468","v":13.645223236834823},null,{"$f":"'DNSP Inputs O&M'!$D$12","v":111.36223236834823},{"$f":"'DNSP Inputs O&M'!$D$607","v":2},{"$f":"'DNSP Inputs O&M'!$D$17","v":7.5},{"$f":"I576*J576*K576","v":1670.4334855252234},{"$f":"(L576+L577)/'DNSP Inputs O&M'!$D$612","v":195.24849868411121},{"$f":"M576/'DNSP Inputs O&M'!$D$468","v":19.52484986841112},null,{"$f":"'DNSP Inputs O&M'!$D$12","v":111.36223236834823},{"$f":"'DNSP Inputs O&M'!$D$607","v":2},{"$f":"'DNSP Inputs O&M'!$D$17","v":7.5},{"$f":"P576*Q576*R576","v":1670.4334855252234},{"$f":"(S576+S577)/'DNSP Inputs O&M'!$D$613","v":238.63705394724704},{"$f":"T576/'DNSP Inputs O&M'!$D$468","v":23.863705394724704},null,null,null,{"$f":"'DNSP Inputs O&M'!$E$12","v":{"$error":"#REF!"}},{"$f":"'DNSP Inputs O&M'!$E$607","v":2},{"$f":"'DNSP Inputs O&M'!$E$17","v":7.5},{"$f":"Y576*Z576*AA576","v":{"$error":"#REF!"}},{"$f":"(AB576+AB577)/'DNSP Inputs O&M'!$E$611","v":{"$error":"#REF!"}},{"$f":"AC576/'DNSP Inputs O&M'!$E$468","v":{"$error":"#REF!"}},null,{"$f":"'DNSP Inputs O&M'!$E$12","v":{"$error":"#REF!"}},{"$f":"'DNSP Inputs O&M'!$E$607","v":2},{"$f":"'DNSP Inputs O&M'!$E$17","v":7.5},{"$f":"AF576*AG576*AH576","v":{"$error":"#REF!"}},{"$f":"(AI576+AI577)/'DNSP Inputs O&M'!$E$612","v":{"$error":"#REF!"}},{"$f":"AJ576/'DNSP Inputs O&M'!$E$468","v":{"$error":"#REF!"}},null,{"$f":"'DNSP Inputs O&M'!$E$12","v":{"$error":"#REF!"}},{"$f":"'DNSP Inputs O&M'!$E$607","v":2},{"$f":"'DNSP Inputs O&M'!$E$17","v":7.5},{"$f":"AM576*AN576*AO576","v":{"$error":"#REF!"}},{"$f":"(AP576+AP577)/'DNSP Inputs O&M'!$E$613","v":{"$error":"#REF!"}},{"$f":"AQ576/'DNSP Inputs O&M'!$E$468","v":{"$error":"#REF!"}},null,null,null,{"$f":"'DNSP Inputs O&M'!$F$12","v":{"$error":"#REF!"}},{"$f":"'DNSP Inputs O&M'!$F$607","v":2},{"$f":"'DNSP Inputs O&M'!$F$17","v":7.5},{"$f":"AV576*AW576*AX576","v":{"$error":"#REF!"}},{"$f":"(AY576+AY577)/'DNSP Inputs O&M'!$F$611","v":{"$error":"#REF!"}},{"$f":"AZ576/'DNSP Inputs O&M'!$F$468","v":{"$error":"#REF!"}},null,{"$f":"'DNSP Inputs O&M'!$F$12","v":{"$error":"#REF!"}},{"$f":"'DNSP Inputs O&M'!$F$607","v":2},{"$f":"'DNSP Inputs O&M'!$F$17","v":7.5},{"$f":"BC576*BD576*BE576","v":{"$error":"#REF!"}},{"$f":"(BF576+BF577)/'DNSP Inputs O&M'!$F$612","v":{"$error":"#REF!"}},{"$f":"BG576/'DNSP Inputs O&M'!$F$468","v":{"$error":"#REF!"}},null,{"$f":"'DNSP Inputs O&M'!$F$12","v":{"$error":"#REF!"}},{"$f":"'DNSP Inputs O&M'!$F$607","v":2},{"$f":"'DNSP Inputs O&M'!$F$17","v":7.5},{"$f":"BJ576*BK576*BL576","v":{"$error":"#REF!"}},{"$f":"(BM576+BM577)/'DNSP Inputs O&M'!$F$613","v":{"$error":"#REF!"}},{"$f":"BN576/'DNSP Inputs O&M'!$F$468","v":{"$error":"#REF!"}},null,null,null,{"$f":"'DNSP Inputs O&M'!$G$12","v":{"$error":"#REF!"}},{"$f":"'DNSP Inputs O&M'!$G$607","v":2},{"$f":"'DNSP Inputs O&M'!$G$17","v":7.5},{"$f":"BS576*BT576*BU576","v":{"$error":"#REF!"}},{"$f":"(BV576+BV577)/'DNSP Inputs O&M'!$G$611","v":{"$error":"#REF!"}},{"$f":"BW576/'DNSP Inputs O&M'!$G$468","v":{"$error":"#REF!"}},null,{"$f":"'DNSP Inputs O&M'!$G$12","v":{"$error":"#REF!"}},{"$f":"'DNSP Inputs O&M'!$G$607","v":2},{"$f":"'DNSP Inputs O&M'!$G$17","v":7.5},{"$f":"BZ576*CA576*CB576","v":{"$error":"#REF!"}},{"$f":"(CC576+CC577)/'DNSP Inputs O&M'!$G$612","v":{"$error":"#REF!"}},{"$f":"CD576/'DNSP Inputs O&M'!$G$468","v":{"$error":"#REF!"}},null,{"$f":"'DNSP Inputs O&M'!$G$12","v":{"$error":"#REF!"}},{"$f":"'DNSP Inputs O&M'!$G$607","v":2},{"$f":"'DNSP Inputs O&M'!$G$17","v":7.5},{"$f":"CG576*CH576*CI576","v":{"$error":"#REF!"}},{"$f":"(CJ576+CJ577)/'DNSP Inputs O&M'!$G$613","v":{"$error":"#REF!"}},{"$f":"CK576/'DNSP Inputs O&M'!$G$468","v":{"$error":"#REF!"}},null,null,null,{"$f":"'DNSP Inputs O&M'!$H$12","v":{"$error":"#REF!"}},{"$f":"'DNSP Inputs O&M'!$H$607","v":2},{"$f":"'DNSP Inputs O&M'!$H$17","v":7.5},{"$f":"CP576*CQ576*CR576","v":{"$error":"#REF!"}},{"$f":"(CS576+CS577)/'DNSP Inputs O&M'!$H$611","v":{"$error":"#REF!"}},{"$f":"CT576/'DNSP Inputs O&M'!$H$468","v":{"$error":"#REF!"}},null,{"$f":"'DNSP Inputs O&M'!$H$12","v":{"$error":"#REF!"}},{"$f":"'DNSP Inputs O&M'!$H$607","v":2},{"$f":"'DNSP Inputs O&M'!$H$17","v":7.5},{"$f":"CW576*CX576*CY576","v":{"$error":"#REF!"}},{"$f":"(CZ576+CZ577)/'DNSP Inputs O&M'!$H$612","v":{"$error":"#REF!"}},{"$f":"DA576/'DNSP Inputs O&M'!$H$468","v":{"$error":"#REF!"}},null,{"$f":"'DNSP Inputs O&M'!$H$12","v":{"$error":"#REF!"}},{"$f":"'DNSP Inputs O&M'!$H$607","v":2},{"$f":"'DNSP Inputs O&M'!$H$17","v":7.5},{"$f":"DD576*DE576*DF576","v":{"$error":"#REF!"}},{"$f":"(DG576+DG577)/'DNSP Inputs O&M'!$H$613","v":{"$error":"#REF!"}},{"$f":"DH576/'DNSP Inputs O&M'!$H$468","v":{"$error":"#REF!"}}]
["Elevated platform vehicle costs",{"$f":"'DNSP Inputs O&M'!$D$14","v":50.18},1,{"$f":"'DNSP Inputs O&M'!$D$17","v":7.5},{"$f":"B577*C577*D577","v":376.35},null,null,null,{"$f":"'DNSP Inputs O&M'!$D$15","v":63.64},1,{"$f":"'DNSP Inputs O&M'!$D$17","v":7.5},{"$f":"I577*J577*K577","v":477.3},null,null,null,{"$f":"'DNSP Inputs O&M'!$D$15","v":63.64},1,{"$f":"'DNSP Inputs O&M'!$D$17","v":7.5},{"$f":"P577*Q577*R577","v":477.3},null,null,null,null,null,{"$f":"'DNSP Inputs O&M'!$E$14","v":50.18},1,{"$f":"'DNSP Inputs O&M'!$E$17","v":7.5},{"$f":"Y577*Z577*AA577","v":376.35},null,null,null,{"$f":"'DNSP Inputs O&M'!$E$15","v":63.64},1,{"$f":"'DNSP Inputs O&M'!$E$17","v":7.5},{"$f":"AF577*AG577*AH577","v":477.3},null,null,null,{"$f":"'DNSP Inputs O&M'!$E$15","v":63.64},1,{"$f":"'DNSP Inputs O&M'!$E$17","v":7.5},{"$f":"AM577*AN577*AO577","v":477.3},null,null,null,null,null,{"$f":"'DNSP Inputs O&M'!$F$14","v":50.18},1,{"$f":"'DNSP Inputs O&M'!$F$17","v":7.5},{"$f":"AV577*AW577*AX577","v":376.35},null,null,null,{"$f":"'DNSP Inputs O&M'!$F$15","v":63.64},1,{"$f":"'DNSP Inputs O&M'!$F$17","v":7.5},{"$f":"BC577*BD577*BE577","v":477.3},null,null,null,{"$f":"'DNSP Inputs O&M'!$F$15","v":63.64},1,{"$f":"'DNSP Inputs O&M'!$F$17","v":7.5},{"$f":"BJ577*BK577*BL577","v":477.3},null,null,null,null,null,{"$f":"'DNSP Inputs O&M'!$G$14","v":50.18},1,{"$f":"'DNSP Inputs O&M'!$G$17","v":7.5},{"$f":"BS577*BT577*BU577","v":376.35},null,null,null,{"$f":"'DNSP Inputs O&M'!$G$15","v":63.64},1,{"$f":"'DNSP Inputs O&M'!$G$17","v":7.5},{"$f":"BZ577*CA577*CB577","v":477.3},null,null,null,{"$f":"'DNSP Inputs O&M'!$G$15","v":63.64},1,{"$f":"'DNSP Inputs O&M'!$G$17","v":7.5},{"$f":"CG577*CH577*CI577","v":477.3},null,null,null,null,null,{"$f":"'DNSP Inputs O&M'!$H$14","v":50.18},1,{"$f":"'DNSP Inputs O&M'!$H$17","v":7.5},{"$f":"CP577*CQ577*CR577","v":376.35},null,null,null,{"$f":"'DNSP Inputs O&M'!$H$15","v":63.64},1,{"$f":"'DNSP Inputs O&M'!$H$17","v":7.5},{"$f":"CW577*CX577*CY577","v":477.3},null,null,null,{"$f":"'DNSP Inputs O&M'!$H$15","v":63.64},1,{"$f":"'DNSP Inputs O&M'!$H$17","v":7.5},{"$f":"DD577*DE577*DF577","v":477.3}]
["Other Maintenance and Repair costs",null,null,null,null,null,{"$f":"'DNSP Inputs O&M'!$D$623","v":9.3202762240000006},null,null,null,null,null,null,{"$f":"'DNSP Inputs O&M'!$D$623","v":9.3202762240000006},null,null,null,null,null,null,{"$f":"'DNSP Inputs O&M'!$D$623","v":9.3202762240000006},null,null,null,null,null,null,null,null,{"$f":"'DNSP Inputs O&M'!$E$623","v":9.3202762240000006},null,null,null,null,null,null,{"$f":"'DNSP Inputs O&M'!$E$623","v":9.3202762240000006},null,null,null,null,null,null,{"$f":"'DNSP Inputs O&M'!$E$623","v":9.3202762240000006},null,null,null,null,null,null,null,null,{"$f":"'DNSP Inputs O&M'!$F$623","v":9.3202762240000023},null,null,null,null,null,null,{"$f":"'DNSP Inputs O&M'!$F$623","v":9.3202762240000023},null,null,null,null,null,null,{"$f":"'DNSP Inputs O&M'!$F$623","v":9.3202762240000023},null,null,null,null,null,null,null,null,{"$f":"'DNSP Inputs O&M'!$G$623","v":9.3202762240000006},null,null,null,null,null,null,{"$f":"'DNSP Inputs O&M'!$G$623","v":9.3202762240000006},null,null,null,null,null,null,{"$f":"'DNSP Inputs O&M'!$G$623","v":9.3202762240000006},null,null,null,null,null,null,null,null,{"$f":"'DNSP Inputs O&M'!$H$623","v":9.3202762240000006},null,null,null,null,null,null,{"$f":"'DNSP Inputs O&M'!$H$623","v":9.3202762240000006},null,null,null,null,null,null,{"$f":"'DNSP Inputs O&M'!$H$623","v":9.3202762240000006}]
[]
["Overheads",{"$f":"'DNSP Inputs O&M'!$D$18","v":0.25},null,null,null,null,{"$f":"B580*SUM(G567:G578)","v":6.6169502759991445},null,{"$f":"'DNSP Inputs O&M'!$D$18","v":0.25},null,null,null,null,{"$f":"I580*SUM(N567:N578)","v":8.388879104442287},null,{"$f":"'DNSP Inputs O&M'!$D$18","v":0.25},null,null,null,null,{"$f":"P580*SUM(U567:U578)","v":10.485910785808354},null,null,null,{"$f":"'DNSP Inputs O&M'!$E$18","v":0.25},null,null,null,null,{"$f":"Y580*SUM(AD567:AD578)","v":{"$error":"#REF!"}},null,{"$f":"'DNSP Inputs O&M'!$E$18","v":0.25},null,null,null,null,{"$f":"AF580*SUM(AK567:AK578)","v":{"$error":"#REF!"}},null,{"$f":"'DNSP Inputs O&M'!$E$18","v":0.25},null,null,null,null,{"$f":"AM580*SUM(AR567:AR578)","v":{"$error":"#REF!"}},null,null,null,{"$f":"'DNSP Inputs O&M'!$F$18","v":0.25},null,null,null,null,{"$f":"AV580*SUM(BA567:BA578)","v":{"$error":"#REF!"}},null,{"$f":"'DNSP Inputs O&M'!$F$18","v":0.25},null,null,null,null,{"$f":"BC580*SUM(BH567:BH578)","v":{"$error":"#REF!"}},null,{"$f":"'DNSP Inputs O&M'!$F$18","v":0.25},null,null,null,null,{"$f":"BJ580*SUM(BO567:BO578)","v":{"$error":"#REF!"}},null,null,null,{"$f":"'DNSP Inputs O&M'!$G$18","v":0.25},null,null,null,null,{"$f":"BS580*SUM(BX567:BX578)","v":{"$error":"#REF!"}},null,{"$f":"'DNSP Inputs O&M'!$G$18","v":0.25},null,null,null,null,{"$f":"BZ580*SUM(CE567:CE578)","v":{"$error":"#REF!"}},null,{"$f":"'DNSP Inputs O&M'!$G$18","v":0.25},null,null,null,null,{"$f":"CG580*SUM(CL567:CL578)","v":{"$error":"#REF!"}},null,null,null,{"$f":"'DNSP Inputs O&M'!$H$18","v":0.25},null,null,null,null,{"$f":"CP580*SUM(CU567:CU578)","v":{"$error":"#REF!"}},null,{"$f":"'DNSP Inputs O&M'!$H$18","v":0.25},null,null,null,null,{"$f":"CW580*SUM(DB567:DB578)","v":{"$error":"#REF!"}},null,{"$f":"'DNSP Inputs O&M'!$H$18","v":0.25},null,null,null,null,{"$f":"DD580*SUM(DI567:DI578)","v":{"$error":"#REF!"}}]
[]
[null,null,null,null,null,null,{"$f":"SUM(G567,G569,G573,G576,G578,G580)","v":33.084751379995723},null,null,null,null,null,null,{"$f":"SUM(N567,N569,N573,N576,N578,N580)","v":41.944395522211437},null,null,null,null,null,null,{"$f":"SUM(U567,U569,U573,U576,U578,U580)","v":52.429553929041774},null,null,null,null,null,null,null,null,{"$f":"SUM(AD567,AD569,AD573,AD576,AD578,AD580)","v":{"$error":"#REF!"}},null,null,null,null,null,null,{"$f":"SUM(AK567,AK569,AK573,AK576,AK578,AK580)","v":{"$error":"#REF!"}},null,null,null,null,null,null,{"$f":"SUM(AR567,AR569,AR573,AR576,AR578,AR580)","v":{"$error":"#REF!"}},null,null,null,null,null,null,null,null,{"$f":"SUM(BA567,BA569,BA573,BA576,BA578,BA580)","v":{"$error":"#REF!"}},null,null,null,null,null,null,{"$f":"SUM(BH567,BH569,BH573,BH576,BH578,BH580)","v":{"$error":"#REF!"}},null,null,null,null,null,null,{"$f":"SUM(BO567,BO569,BO573,BO576,BO578,BO580)","v":{"$error":"#REF!"}},null,null,null,null,null,null,null,null,{"$f":"SUM(BX567,BX569,BX573,BX576,BX578,BX580)","v":{"$error":"#REF!"}},null,null,null,null,null,null,{"$f":"SUM(CE567,CE569,CE573,CE576,CE578,CE580)","v":{"$error":"#REF!"}},null,null,null,null,null,null,{"$f":"SUM(CL567,CL569,CL573,CL576,CL578,CL580)","v":{"$error":"#REF!"}},null,null,null,null,null,null,null,null,{"$f":"SUM(CU567,CU569,CU573,CU576,CU578,CU580)","v":{"$error":"#REF!"}},null,null,null,null,null,null,{"$f":"SUM(DB567,DB569,DB573,DB576,DB578,DB580)","v":{"$error":"#REF!"}},null,null,null,null,null,null,{"$f":"SUM(DI567,DI569,DI573,DI576,DI578,DI580)","v":{"$error":"#REF!"}}]

{"sheet":"Capex 2027-2031","index":13,"n_rows":249,"n_cols":94,"rows_kept":249,"cut":false,"hidden":true,"merged":[[54,1,54,5],[54,7,54,11],[54,20,54,24],[54,26,54,30],[54,89,54,93],[54,13,54,17],[54,32,54,36],[54,51,54,55],[54,70,54,74],[54,77,54,81],[54,83,54,87],[54,39,54,43],[54,45,54,49],[54,58,54,62],[54,64,54,68]]}
[{"$f":"'DNSP Inputs O&M'!$A$3","v":"AusNet"}]
[]
["Public Lighting Capex Costs"]
[{"$f":"'DNSP Inputs Capex'!$C$5","v":"$Real Jun 2026"}]
[]
["Summary",{"$f":"Instructions!$B$16","v":"2027-06-30"},{"$f":"EOMONTH(B6,12)","v":"2028-06-30"},{"$f":"EOMONTH(C6,12)","v":"2029-06-30"},{"$f":"EOMONTH(D6,12)","v":"2030-06-30"},{"$f":"EOMONTH(E6,12)","v":"2031-06-30"}]
[]
[{"$f":"\"Existing Lights Luminaires -\"&A4","v":"Existing Lights Luminaires -$Real Jun 2026"}]
["MV 80",{"$f":"SUM(F69,L69,R69)","v":0},{"$f":"SUM(Y69,AE69,AK69)","v":{"$error":"#REF!"}},{"$f":"SUM(AR69,AX69,BD69)","v":{"$error":"#REF!"}},{"$f":"SUM(BK69,BQ69,BW69)","v":{"$error":"#REF!"}},{"$f":"SUM(CD69,CJ69,CP69)","v":{"$error":"#REF!"}}]
["S-HP 150 ",{"$f":"SUM(F82,L82,R82)","v":0},{"$f":"SUM(Y82,AE82,AK82)","v":{"$error":"#REF!"}},{"$f":"SUM(AR82,AX82,BD82)","v":{"$error":"#REF!"}},{"$f":"SUM(BK82,BQ82,BW82)","v":{"$error":"#REF!"}},{"$f":"SUM(CD82,CJ82,CP82)","v":{"$error":"#REF!"}}]
["S-HP 250 ",{"$f":"SUM(F95,L95,R95)","v":0},{"$f":"SUM(Y95,AE95,AK95)","v":{"$error":"#REF!"}},{"$f":"SUM(AR95,AX95,BD95)","v":{"$error":"#REF!"}},{"$f":"SUM(BK95,BQ95,BW95)","v":{"$error":"#REF!"}},{"$f":"SUM(CD95,CJ95,CP95)","v":{"$error":"#REF!"}}]
["Other Light types (excluding T5s)",{"$f":"'DNSP Inputs Capex'!D103","v":0},{"$f":"'DNSP Inputs Capex'!E103","v":0},{"$f":"'DNSP Inputs Capex'!F103","v":0},{"$f":"'DNSP Inputs Capex'!G103","v":0},{"$f":"'DNSP Inputs Capex'!H103","v":0}]
[null,{"$f":"SUM(B9:B12)","v":0},{"$f":"SUM(C9:C12)","v":{"$error":"#REF!"}},{"$f":"SUM(D9:D12)","v":{"$error":"#REF!"}},{"$f":"SUM(E9:E12)","v":{"$error":"#REF!"}},{"$f":"SUM(F9:F12)","v":{"$error":"#REF!"}}]
[]
[{"$f":"\"Energy Efficient Luminaires - \"&A4","v":"Energy Efficient Luminaires - $Real Jun 2026"}]
[{"$f":"A122","v":"T5 (2 X 14W)"},{"$f":"SUM(F132,L132,R132)","v":174353.57574560036},{"$f":"SUM(Y132,AE132,AK132)","v":0},{"$f":"SUM(AR132,AX132,BD132)","v":0},{"$f":"SUM(BK132,BQ132,BW132)","v":0},{"$f":"SUM(CD132,CJ132,CP132)","v":0}]
[{"$f":"A135","v":"T5 (2x24W)"},{"$f":"SUM(F145,L145,R145)","v":17129.657930253958},{"$f":"SUM(Y145,AE145,AK145)","v":0},{"$f":"SUM(AR145,AX145,BD145)","v":0},{"$f":"SUM(BK145,BQ145,BW145)","v":0},{"$f":"SUM(CD145,CJ145,CP145)","v":0}]
[{"$f":"A148","v":"LED 18W"},{"$f":"SUM(F158,L158,R158)","v":1577162.6042583869},{"$f":"SUM(Y158,AE158,AK158)","v":0},{"$f":"SUM(AR158,AX158,BD158)","v":0},{"$f":"SUM(BK158,BQ158,BW158)","v":0},{"$f":"SUM(CD158,CJ158,CP158)","v":0}]
[{"$f":"A161","v":{"$error":"#REF!"}},{"$f":"SUM(F171,L171,R171)","v":6078.4195579563275},{"$f":"SUM(Y171,AE171,AK171)","v":0},{"$f":"SUM(AR171,AX171,BD171)","v":0},{"$f":"SUM(BK171,BQ171,BW171)","v":0},{"$f":"SUM(CD171,CJ171,CP171)","v":0}]
[{"$f":"A174","v":{"$error":"#REF!"}},{"$f":"SUM(F184,L184,R184)","v":138441.90493810613},{"$f":"SUM(Y184,AE184,AK184)","v":0},{"$f":"SUM(AR184,AX184,BD184)","v":0},{"$f":"SUM(BK184,BQ184,BW184)","v":0},{"$f":"SUM(CD184,CJ184,CP184)","v":0}]
[{"$f":"A187","v":{"$error":"#REF!"}},{"$f":"SUM(F197,L197,R197)","v":1734406.4167747169},{"$f":"SUM(Y197,AE197,AK197)","v":0},{"$f":"SUM(AR197,AX197,BD197)","v":0},{"$f":"SUM(BK197,BQ197,BW197)","v":0},{"$f":"SUM(CD197,CJ197,CP197)","v":0}]
[{"$f":"A200","v":{"$error":"#REF!"}},{"$f":"SUM(F210,L210,R210)","v":119004.67471016932},{"$f":"SUM(Y210,AE210,AK210)","v":0},{"$f":"SUM(AR210,AX210,BD210)","v":0},{"$f":"SUM(BK210,BQ210,BW210)","v":0},{"$f":"SUM(CD210,CJ210,CP210)","v":0}]
[{"$f":"A213","v":{"$error":"#REF!"}},{"$f":"SUM(F223,L223,R223)","v":54510.534012529402},{"$f":"SUM(Y223,AE223,AK223)","v":0},{"$f":"SUM(AR223,AX223,BD223)","v":0},{"$f":"SUM(BK223,BQ223,BW223)","v":0},{"$f":"SUM(CD223,CJ223,CP223)","v":0}]
[{"$f":"A226","v":{"$error":"#REF!"}},{"$f":"SUM(F236,L236,R236)","v":57039.284012529402},{"$f":"SUM(Y236,AE236,AK236)","v":0},{"$f":"SUM(AR236,AX236,BD236)","v":0},{"$f":"SUM(BK236,BQ236,BW236)","v":0},{"$f":"SUM(CD236,CJ236,CP236)","v":0}]
[{"$f":"A239","v":{"$error":"#REF!"}},{"$f":"SUM(F249,L249,R249)","v":79684.746012529402},{"$f":"SUM(Y249,AE249,AK249)","v":0},{"$f":"SUM(AR249,AX249,BD249)","v":0},{"$f":"SUM(BK249,BQ249,BW249)","v":0},{"$f":"SUM(CD249,CJ249,CP249)","v":0}]
[null,{"$f":"SUM(B16:B25)","v":3957811.8179527782},{"$f":"SUM(C16:C25)","v":0},{"$f":"SUM(D16:D25)","v":0},{"$f":"SUM(E16:E25)","v":0},{"$f":"SUM(F16:F25)","v":0}]
[]
[{"$f":"\"Poles & Brackets - \"&A4","v":"Poles & Brackets - $Real Jun 2026"}]
["Dedicated poles",{"$f":"SUM(F108,L108,R108)","v":2111561.8551770328},{"$f":"SUM(Y108,AE108,AK108)","v":{"$error":"#REF!"}},{"$f":"SUM(AR108,AX108,BD108)","v":{"$error":"#REF!"}},{"$f":"SUM(BK108,BQ108,BW108)","v":{"$error":"#REF!"}},{"$f":"SUM(CD108,CJ108,CP108)","v":{"$error":"#REF!"}}]
["Brackets",{"$f":"SUM(F118,L118,R118)","v":202105.84260533049},{"$f":"SUM(Y118,AE118,AK118)","v":{"$error":"#REF!"}},{"$f":"SUM(AR118,AX118,BD118)","v":{"$error":"#REF!"}},{"$f":"SUM(BK118,BQ118,BW118)","v":{"$error":"#REF!"}},{"$f":"SUM(CD118,CJ118,CP118)","v":{"$error":"#REF!"}}]
[null,{"$f":"SUM(B29:B30)","v":2313667.6977823633},{"$f":"SUM(C29:C30)","v":{"$error":"#REF!"}},{"$f":"SUM(D29:D30)","v":{"$error":"#REF!"}},{"$f":"SUM(E29:E30)","v":{"$error":"#REF!"}},{"$f":"SUM(F29:F30)","v":{"$error":"#REF!"}}]
[]
[]
["Customer Contributions - Real 2015 $ "]
["MV80 Lights replaced with T5 Energy Efficient Lights"]
["SP AusNet - Central"]
["WDV RAB - MV 80 Luminaire",{"$f":"'Charges Summary'!D34/'Charges Summary'!D$4","v":{"$error":"#REF!"}},{"$f":"'Charges Summary'!E34/'Charges Summary'!E$4","v":{"$error":"#REF!"}},{"$f":"'Charges Summary'!F34/'Charges Summary'!F$4","v":{"$error":"#REF!"}},{"$f":"'Charges Summary'!G34/'Charges Summary'!G$4","v":{"$error":"#REF!"}},{"$f":"'Charges Summary'!H34/'Charges Summary'!H$4","v":{"$error":"#REF!"}}]
["Number of Lights MV80 replaced with T5",{"$f":"'DNSP Inputs Capex'!D37","v":0},{"$f":"'DNSP Inputs Capex'!E37","v":0},{"$f":"'DNSP Inputs Capex'!F37","v":0},{"$f":"'DNSP Inputs Capex'!G37","v":0},{"$f":"'DNSP Inputs Capex'!H37","v":0}]
[null,{"$f":"B37*B38","v":{"$error":"#REF!"}},{"$f":"C37*C38","v":{"$error":"#REF!"}},{"$f":"D37*D38","v":{"$error":"#REF!"}},{"$f":"E37*E38","v":{"$error":"#REF!"}},{"$f":"F37*F38","v":{"$error":"#REF!"}}]
["SP AusNet - North/East"]
["WDV RAB - MV 80 Luminaire",{"$f":"'Charges Summary'!K34/'Charges Summary'!K$4","v":{"$error":"#REF!"}},{"$f":"'Charges Summary'!L34/'Charges Summary'!L$4","v":{"$error":"#REF!"}},{"$f":"'Charges Summary'!M34/'Charges Summary'!M$4","v":{"$error":"#REF!"}},{"$f":"'Charges Summary'!N34/'Charges Summary'!N$4","v":{"$error":"#REF!"}},{"$f":"'Charges Summary'!O34/'Charges Summary'!O$4","v":{"$error":"#REF!"}}]
["Number of Lights MV80 replaced with T5",{"$f":"'DNSP Inputs Capex'!D38","v":0},{"$f":"'DNSP Inputs Capex'!E38","v":0},{"$f":"'DNSP Inputs Capex'!F38","v":0},{"$f":"'DNSP Inputs Capex'!G38","v":0},{"$f":"'DNSP Inputs Capex'!H38","v":0}]
[null,{"$f":"B41*B42","v":{"$error":"#REF!"}},{"$f":"C41*C42","v":{"$error":"#REF!"}},{"$f":"D41*D42","v":{"$error":"#REF!"}},{"$f":"E41*E42","v":{"$error":"#REF!"}},{"$f":"F41*F42","v":{"$error":"#REF!"}}]
[]
["Total",{"$f":"SUM(B39,B43)","v":{"$error":"#REF!"}},{"$f":"SUM(C39,C43)","v":{"$error":"#REF!"}},{"$f":"SUM(D39,D43)","v":{"$error":"#REF!"}},{"$f":"SUM(E39,E43)","v":{"$error":"#REF!"}},{"$f":"SUM(F39,F43)","v":{"$error":"#REF!"}}]
[]
[]
[]
[]
["Detailed calculations"]
[]
["Public Lighting Capex Costs","Year",{"$f":"Instructions!$B$16","v":"2027-06-30"},null,null,null,null,null,null,null,null,null,null,null,null,null,null,null,null,null,"Year",{"$f":"EOMONTH(C52,12)","v":"2028-06-30"},null,null,null,null,null,null,null,null,null,null,null,null,null,null,null,null,null,"Year",{"$f":"EOMONTH(V52,12)","v":"2029-06-30"},null,null,null,null,null,null,null,null,null,null,null,null,null,null,null,null,null,"Year",{"$f":"EOMONTH(AO52,12)","v":"2030-06-30"},null,null,null,null,null,null,null,null,null,null,null,null,null,null,null,null,null,"Year",{"$f":"EOMONTH(BH52,12)","v":"2031-06-30"}]
[{"$f":"'DNSP Inputs Capex'!$C$5","v":"$Real Jun 2026"}]
[]
[null,"Urban",null,null,null,null,null,"Rural",null,null,null,null,null,"Remote",null,null,null,null,null,null,"Urban",null,null,null,null,null,"Rural",null,null,null,null,null,"Remote",null,null,null,null,null,null,"Urban",null,null,null,null,null,"Rural",null,null,null,null,null,"Remote",null,null,null,null,null,null,"Urban",null,null,null,null,null,"Rural",null,null,null,null,null,"Remote",null,null,null,null,null,null,"Urban",null,null,null,null,null,"Rural",null,null,null,null,null,"Remote"]
[]
[null,"Unit rate","Number","Hours","Cost","Annualised",null,"Unit rate","Number","Hours","Cost","Annualised",null,"Unit rate","Number","Hours","Cost","Annualised",null,null,"Unit rate","Number","Hours","Cost","Annualised",null,"Unit rate","Number","Hours","Cost","Annualised",null,"Unit rate","Number","Hours","Cost","Annualised",null,null,"Unit rate","Number","Hours","Cost","Annualised",null,"Unit rate","Number","Hours","Cost","Annualised",null,"Unit rate","Number","Hours","Cost","Annualised",null,null,"Unit rate","Number","Hours","Cost","Annualised",null,"Unit rate","Number","Hours","Cost","Annualised",null,"Unit rate","Number","Hours","Cost","Annualised",null,null,"Unit rate","Number","Hours","Cost","Annualised",null,"Unit rate","Number","Hours","Cost","Annualised",null,"Unit rate","Number","Hours","Cost","Annualised"]
[null,null,null,null,null," cost",null,null,null,null,null," cost",null,null,null,null,null," cost",null,null,null,null,null,null," cost",null,null,null,null,null," cost",null,null,null,null,null," cost",null,null,null,null,null,null," cost",null,null,null,null,null," cost",null,null,null,null,null," cost",null,null,null,null,null,null," cost",null,null,null,null,null," cost",null,null,null,null,null," cost",null,null,null,null,null,null," cost",null,null,null,null,null," cost",null,null,null,null,null," cost"]
["MV80"]
["Luminaires "]
["Material & misc",{"$f":"'DNSP Inputs Capex'!$D$21+'DNSP Inputs Capex'!$D$22","v":238.81613149569208},{"$f":"'DNSP Inputs Capex'!$D$24","v":16},null,{"$f":"B61*C61","v":3821.0581039310732},{"$f":"(E61+E62+E63)/C61","v":366.74009934101855},null,{"$f":"('DNSP Inputs Capex'!$D$21+'DNSP Inputs Capex'!$D$22)*(1+'DNSP Inputs Capex'!$D$11)","v":250.75693807047668},{"$f":"'DNSP Inputs Capex'!$D$25","v":13},null,{"$f":"H61*I61","v":3259.8401949161967},{"$f":"(K61+K62+K63)/I61","v":415.96720618780154},null,{"$f":"('DNSP Inputs Capex'!$D$21+'DNSP Inputs Capex'!$D$22)*(1+'DNSP Inputs Capex'!$D$11)","v":250.75693807047668},{"$f":"'DNSP Inputs Capex'!$D$26","v":10},null,{"$f":"N61*O61","v":2507.5693807047669},{"$f":"(Q61+Q62+Q63)/O61","v":465.53028662299903},null,null,{"$f":"'DNSP Inputs Capex'!$E$21+'DNSP Inputs Capex'!$E$22","v":238.81613149569208},{"$f":"'DNSP Inputs Capex'!$E$24","v":16},null,{"$f":"U61*V61","v":3821.0581039310732},{"$f":"(X61+X62+X63)/V61","v":{"$error":"#REF!"}},null,{"$f":"('DNSP Inputs Capex'!$E$21+'DNSP Inputs Capex'!$E$22)*(1+'DNSP Inputs Capex'!$E$11)","v":250.75693807047668},{"$f":"'DNSP Inputs Capex'!$E$25","v":13},null,{"$f":"AA61*AB61","v":3259.8401949161967},{"$f":"(AD61+AD62+AD63)/AB61","v":{"$error":"#REF!"}},null,{"$f":"('DNSP Inputs Capex'!$E$21+'DNSP Inputs Capex'!$E$22)*(1+'DNSP Inputs Capex'!$E$11)","v":250.75693807047668},{"$f":"'DNSP Inputs Capex'!$E$26","v":10},null,{"$f":"AG61*AH61","v":2507.5693807047669},{"$f":"(AJ61+AJ62+AJ63)/AH61","v":{"$error":"#REF!"}},null,null,{"$f":"'DNSP Inputs Capex'!$F$21+'DNSP Inputs Capex'!$F$22","v":238.81613149569208},{"$f":"'DNSP Inputs Capex'!$F$24","v":16},null,{"$f":"AN61*AO61","v":3821.0581039310732},{"$f":"(AQ61+AQ62+AQ63)/AO61","v":{"$error":"#REF!"}},null,{"$f":"('DNSP Inputs Capex'!$F$21+'DNSP Inputs Capex'!$F$22)*(1+'DNSP Inputs Capex'!$F$11)","v":250.75693807047668},{"$f":"'DNSP Inputs Capex'!$F$25","v":13},null,{"$f":"AT61*AU61","v":3259.8401949161967},{"$f":"(AW61+AW62+AW63)/AU61","v":{"$error":"#REF!"}},null,{"$f":"('DNSP Inputs Capex'!$F$21+'DNSP Inputs Capex'!$F$22)*(1+'DNSP Inputs Capex'!$F$11)","v":250.75693807047668},{"$f":"'DNSP Inputs Capex'!$F$26","v":10},null,{"$f":"AZ61*BA61","v":2507.5693807047669},{"$f":"(BC61+BC62+BC63)/BA61","v":{"$error":"#REF!"}},null,null,{"$f":"'DNSP Inputs Capex'!$G$21+'DNSP Inputs Capex'!$G$22","v":238.81613149569208},{"$f":"'DNSP Inputs Capex'!$G$24","v":16},null,{"$f":"BG61*BH61","v":3821.0581039310732},{"$f":"(BJ61+BJ62+BJ63)/BH61","v":{"$error":"#REF!"}},null,{"$f":"('DNSP Inputs Capex'!$G$21+'DNSP Inputs Capex'!$G$22)*(1+'DNSP Inputs Capex'!$G$11)","v":250.75693807047668},{"$f":"'DNSP Inputs Capex'!$G$25","v":13},null,{"$f":"BM61*BN61","v":3259.8401949161967},{"$f":"(BP61+BP62+BP63)/BN61","v":{"$error":"#REF!"}},null,{"$f":"('DNSP Inputs Capex'!$G$21+'DNSP Inputs Capex'!$G$22)*(1+'DNSP Inputs Capex'!$G$11)","v":250.75693807047668},{"$f":"'DNSP Inputs Capex'!$G$26","v":10},null,{"$f":"BS61*BT61","v":2507.5693807047669},{"$f":"(BV61+BV62+BV63)/BT61","v":{"$error":"#REF!"}},null,null,{"$f":"'DNSP Inputs Capex'!$H$21+'DNSP Inputs Capex'!$H$22","v":238.81613149569208},{"$f":"'DNSP Inputs Capex'!$H$24","v":16},null,{"$f":"BZ61*CA61","v":3821.0581039310732},{"$f":"(CC61+CC62+CC63)/CA61","v":{"$error":"#REF!"}},null,{"$f":"('DNSP Inputs Capex'!$H$21+'DNSP Inputs Capex'!$H$22)*(1+'DNSP Inputs Capex'!$H$11)","v":250.75693807047668},{"$f":"'DNSP Inputs Capex'!$H$25","v":13},null,{"$f":"CF61*CG61","v":3259.8401949161967},{"$f":"(CI61+CI62+CI63)/CG61","v":{"$error":"#REF!"}},null,{"$f":"('DNSP Inputs Capex'!$H$21+'DNSP Inputs Capex'!$H$22)*(1+'DNSP Inputs Capex'!$H$11)","v":250.75693807047668},{"$f":"'DNSP Inputs Capex'!$H$26","v":10},null,{"$f":"CL61*CM61","v":2507.5693807047669},{"$f":"(CO61+CO62+CO63)/CM61","v":{"$error":"#REF!"}}]
["Crew costs",{"$f":"'DNSP Inputs Capex'!$D$12","v":111.36223236834823},{"$f":"'DNSP Inputs Capex'!$D$23","v":2},{"$f":"'DNSP Inputs Capex'!$D$15","v":7.5},{"$f":"B62*C62*D62","v":1670.4334855252234},null,null,{"$f":"'DNSP Inputs Capex'!$D$12","v":111.36223236834823},{"$f":"'DNSP Inputs Capex'!$D$23","v":2},{"$f":"'DNSP Inputs Capex'!$D$15","v":7.5},{"$f":"H62*I62*J62","v":1670.4334855252234},null,null,{"$f":"'DNSP Inputs Capex'!$D$12","v":111.36223236834823},{"$f":"'DNSP Inputs Capex'!$D$23","v":2},{"$f":"'DNSP Inputs Capex'!$D$15","v":7.5},{"$f":"N62*O62*P62","v":1670.4334855252234},null,null,null,{"$f":"'DNSP Inputs Capex'!$E$12","v":{"$error":"#REF!"}},{"$f":"'DNSP Inputs Capex'!$E$23","v":2},{"$f":"'DNSP Inputs Capex'!$E$15","v":7.5},{"$f":"U62*V62*W62","v":{"$error":"#REF!"}},null,null,{"$f":"'DNSP Inputs Capex'!$E$12","v":{"$error":"#REF!"}},{"$f":"'DNSP Inputs Capex'!$E$23","v":2},{"$f":"'DNSP Inputs Capex'!$E$15","v":7.5},{"$f":"AA62*AB62*AC62","v":{"$error":"#REF!"}},null,null,{"$f":"'DNSP Inputs Capex'!$E$12","v":{"$error":"#REF!"}},{"$f":"'DNSP Inputs Capex'!$E$23","v":2},{"$f":"'DNSP Inputs Capex'!$E$15","v":7.5},{"$f":"AG62*AH62*AI62","v":{"$error":"#REF!"}},null,null,null,{"$f":"'DNSP Inputs Capex'!$F$12","v":{"$error":"#REF!"}},{"$f":"'DNSP Inputs Capex'!$F$23","v":2},{"$f":"'DNSP Inputs Capex'!$F$15","v":7.5},{"$f":"AN62*AO62*AP62","v":{"$error":"#REF!"}},null,null,{"$f":"'DNSP Inputs Capex'!$F$12","v":{"$error":"#REF!"}},{"$f":"'DNSP Inputs Capex'!$F$23","v":2},{"$f":"'DNSP Inputs Capex'!$F$15","v":7.5},{"$f":"AT62*AU62*AV62","v":{"$error":"#REF!"}},null,null,{"$f":"'DNSP Inputs Capex'!$F$12","v":{"$error":"#REF!"}},{"$f":"'DNSP Inputs Capex'!$F$23","v":2},{"$f":"'DNSP Inputs Capex'!$F$15","v":7.5},{"$f":"AZ62*BA62*BB62","v":{"$error":"#REF!"}},null,null,null,{"$f":"'DNSP Inputs Capex'!$G$12","v":{"$error":"#REF!"}},{"$f":"'DNSP Inputs Capex'!$G$23","v":2},{"$f":"'DNSP Inputs Capex'!$G$15","v":7.5},{"$f":"BG62*BH62*BI62","v":{"$error":"#REF!"}},null,null,{"$f":"'DNSP Inputs Capex'!$G$12","v":{"$error":"#REF!"}},{"$f":"'DNSP Inputs Capex'!$G$23","v":2},{"$f":"'DNSP Inputs Capex'!$G$15","v":7.5},{"$f":"BM62*BN62*BO62","v":{"$error":"#REF!"}},null,null,{"$f":"'DNSP Inputs Capex'!$G$12","v":{"$error":"#REF!"}},{"$f":"'DNSP Inputs Capex'!$G$23","v":2},{"$f":"'DNSP Inputs Capex'!$G$15","v":7.5},{"$f":"BS62*BT62*BU62","v":{"$error":"#REF!"}},null,null,null,{"$f":"'DNSP Inputs Capex'!$H$12","v":{"$error":"#REF!"}},{"$f":"'DNSP Inputs Capex'!$H$23","v":2},{"$f":"'DNSP Inputs Capex'!$H$15","v":7.5},{"$f":"BZ62*CA62*CB62","v":{"$error":"#REF!"}},null,null,{"$f":"'DNSP Inputs Capex'!$H$12","v":{"$error":"#REF!"}},{"$f":"'DNSP Inputs Capex'!$H$23","v":2},{"$f":"'DNSP Inputs Capex'!$H$15","v":7.5},{"$f":"CF62*CG62*CH62","v":{"$error":"#REF!"}},null,null,{"$f":"'DNSP Inputs Capex'!$H$12","v":{"$error":"#REF!"}},{"$f":"'DNSP Inputs Capex'!$H$23","v":2},{"$f":"'DNSP Inputs Capex'!$H$15","v":7.5},{"$f":"CL62*CM62*CN62","v":{"$error":"#REF!"}}]
["Elevated platform vehicle costs",{"$f":"'DNSP Inputs Capex'!$D$13","v":50.18},1,{"$f":"'DNSP Inputs Capex'!$D$15","v":7.5},{"$f":"B63*C63*D63","v":376.35},null,null,{"$f":"'DNSP Inputs Capex'!$D$14","v":63.64},1,{"$f":"'DNSP Inputs Capex'!$D$15","v":7.5},{"$f":"H63*I63*J63","v":477.3},null,null,{"$f":"'DNSP Inputs Capex'!$D$14","v":63.64},1,{"$f":"'DNSP Inputs Capex'!$D$15","v":7.5},{"$f":"N63*O63*P63","v":477.3},null,null,null,{"$f":"'DNSP Inputs Capex'!$E$13","v":50.18},1,{"$f":"'DNSP Inputs Capex'!$E$15","v":7.5},{"$f":"U63*V63*W63","v":376.35},null,null,{"$f":"'DNSP Inputs Capex'!$E$14","v":63.64},1,{"$f":"'DNSP Inputs Capex'!$E$15","v":7.5},{"$f":"AA63*AB63*AC63","v":477.3},null,null,{"$f":"'DNSP Inputs Capex'!$E$14","v":63.64},1,{"$f":"'DNSP Inputs Capex'!$E$15","v":7.5},{"$f":"AG63*AH63*AI63","v":477.3},null,null,null,{"$f":"'DNSP Inputs Capex'!$F$13","v":50.18},1,{"$f":"'DNSP Inputs Capex'!$F$15","v":7.5},{"$f":"AN63*AO63*AP63","v":376.35},null,null,{"$f":"'DNSP Inputs Capex'!$F$14","v":63.64},1,{"$f":"'DNSP Inputs Capex'!$F$15","v":7.5},{"$f":"AT63*AU63*AV63","v":477.3},null,null,{"$f":"'DNSP Inputs Capex'!$F$14","v":63.64},1,{"$f":"'DNSP Inputs Capex'!$F$15","v":7.5},{"$f":"AZ63*BA63*BB63","v":477.3},null,null,null,{"$f":"'DNSP Inputs Capex'!$G$13","v":50.18},1,{"$f":"'DNSP Inputs Capex'!$G$15","v":7.5},{"$f":"BG63*BH63*BI63","v":376.35},null,null,{"$f":"'DNSP Inputs Capex'!$G$14","v":63.64},1,{"$f":"'DNSP Inputs Capex'!$G$15","v":7.5},{"$f":"BM63*BN63*BO63","v":477.3},null,null,{"$f":"'DNSP Inputs Capex'!$G$14","v":63.64},1,{"$f":"'DNSP Inputs Capex'!$G$15","v":7.5},{"$f":"BS63*BT63*BU63","v":477.3},null,null,null,{"$f":"'DNSP Inputs Capex'!$H$13","v":50.18},1,{"$f":"'DNSP Inputs Capex'!$H$15","v":7.5},{"$f":"BZ63*CA63*CB63","v":376.35},null,null,{"$f":"'DNSP Inputs Capex'!$H$14","v":63.64},1,{"$f":"'DNSP Inputs Capex'!$H$15","v":7.5},{"$f":"CF63*CG63*CH63","v":477.3},null,null,{"$f":"'DNSP Inputs Capex'!$H$14","v":63.64},1,{"$f":"'DNSP Inputs Capex'!$H$15","v":7.5},{"$f":"CL63*CM63*CN63","v":477.3}]
[{"$f":"'DNSP Inputs Capex'!$A$28","v":"Other Capex unit costs Describe :………………………"},null,null,null,null,{"$f":"'DNSP Inputs Capex'!$D$28","v":0},null,null,null,null,null,{"$f":"'DNSP Inputs Capex'!$D$28","v":0},null,null,null,null,null,{"$f":"'DNSP Inputs Capex'!$D$28","v":0},null,null,null,null,null,null,{"$f":"'DNSP Inputs Capex'!$E$28","v":0},null,null,null,null,null,{"$f":"'DNSP Inputs Capex'!$E$28","v":0},null,null,null,null,null,{"$f":"'DNSP Inputs Capex'!$E$28","v":0},null,null,null,null,null,null,{"$f":"'DNSP Inputs Capex'!$F$28","v":0},null,null,null,null,null,{"$f":"'DNSP Inputs Capex'!$F$28","v":0},null,null,null,null,null,{"$f":"'DNSP Inputs Capex'!$F$28","v":0},null,null,null,null,null,null,{"$f":"'DNSP Inputs Capex'!$G$28","v":0},null,null,null,null,null,{"$f":"'DNSP Inputs Capex'!$G$28","v":0},null,null,null,null,null,{"$f":"'DNSP Inputs Capex'!$G$28","v":0},null,null,null,null,null,null,{"$f":"'DNSP Inputs Capex'!$H$28","v":0},null,null,null,null,null,{"$f":"'DNSP Inputs Capex'!$H$28","v":0},null,null,null,null,null,{"$f":"'DNSP Inputs Capex'!$H$28","v":0}]
[null,null,null,null,null,{"$f":"SUM(F61,F64)","v":366.74009934101855},null,null,null,null,null,{"$f":"SUM(L61,L64)","v":415.96720618780154},null,null,null,null,null,{"$f":"SUM(R61,R64)","v":465.53028662299903},null,null,null,null,null,null,{"$f":"SUM(Y61,Y64)","v":{"$error":"#REF!"}},null,null,null,null,null,{"$f":"SUM(AE61,AE64)","v":{"$error":"#REF!"}},null,null,null,null,null,{"$f":"SUM(AK61,AK64)","v":{"$error":"#REF!"}},null,null,null,null,null,null,{"$f":"SUM(AR61,AR64)","v":{"$error":"#REF!"}},null,null,null,null,null,{"$f":"SUM(AX61,AX64)","v":{"$error":"#REF!"}},null,null,null,null,null,{"$f":"SUM(BD61,BD64)","v":{"$error":"#REF!"}},null,null,null,null,null,null,{"$f":"SUM(BK61,BK64)","v":{"$error":"#REF!"}},null,null,null,null,null,{"$f":"SUM(BQ61,BQ64)","v":{"$error":"#REF!"}},null,null,null,null,null,{"$f":"SUM(BW61,BW64)","v":{"$error":"#REF!"}},null,null,null,null,null,null,{"$f":"SUM(CD61,CD64)","v":{"$error":"#REF!"}},null,null,null,null,null,{"$f":"SUM(CJ61,CJ64)","v":{"$error":"#REF!"}},null,null,null,null,null,{"$f":"SUM(CP61,CP64)","v":{"$error":"#REF!"}}]
[]
["Number of luminaires replaced",null,null,null,null,{"$f":"'DNSP Inputs Capex'!$D$31","v":0},null,null,null,null,null,{"$f":"'DNSP Inputs Capex'!$D$32","v":0},null,null,null,null,null,{"$f":"'DNSP Inputs Capex'!$D$33","v":0},null,null,null,null,null,null,{"$f":"'DNSP Inputs Capex'!$E$31","v":0},null,null,null,null,null,{"$f":"'DNSP Inputs Capex'!$E$32","v":0},null,null,null,null,null,{"$f":"'DNSP Inputs Capex'!$E$33","v":0},null,null,null,null,null,null,{"$f":"'DNSP Inputs Capex'!$F$31","v":0},null,null,null,null,null,{"$f":"'DNSP Inputs Capex'!$F$32","v":0},null,null,null,null,null,{"$f":"'DNSP Inputs Capex'!$F$33","v":0},null,null,null,null,null,null,{"$f":"'DNSP Inputs Capex'!$G$31","v":0},null,null,null,null,null,{"$f":"'DNSP Inputs Capex'!$G$32","v":0},null,null,null,null,null,{"$f":"'DNSP Inputs Capex'!$G$33","v":0},null,null,null,null,null,null,{"$f":"'DNSP Inputs Capex'!$H$31","v":0},null,null,null,null,null,{"$f":"'DNSP Inputs Capex'!$H$32","v":0},null,null,null,null,null,{"$f":"'DNSP Inputs Capex'!$H$33","v":0}]
[]
["Capex",null,null,null,null,{"$f":"F65*F67","v":0},null,null,null,null,null,{"$f":"L65*L67","v":0},null,null,null,null,null,{"$f":"R65*R67","v":0},null,null,null,null,null,null,{"$f":"Y65*Y67","v":{"$error":"#REF!"}},null,null,null,null,null,{"$f":"AE65*AE67","v":{"$error":"#REF!"}},null,null,null,null,null,{"$f":"AK65*AK67","v":{"$error":"#REF!"}},null,null,null,null,null,null,{"$f":"AR65*AR67","v":{"$error":"#REF!"}},null,null,null,null,null,{"$f":"AX65*AX67","v":{"$error":"#REF!"}},null,null,null,null,null,{"$f":"BD65*BD67","v":{"$error":"#REF!"}},null,null,null,null,null,null,{"$f":"BK65*BK67","v":{"$error":"#REF!"}},null,null,null,null,null,{"$f":"BQ65*BQ67","v":{"$error":"#REF!"}},null,null,null,null,null,{"$f":"BW65*BW67","v":{"$error":"#REF!"}},null,null,null,null,null,null,{"$f":"CD65*CD67","v":{"$error":"#REF!"}},null,null,null,null,null,{"$f":"CJ65*CJ67","v":{"$error":"#REF!"}},null,null,null,null,null,{"$f":"CP65*CP67","v":{"$error":"#REF!"}}]
[]
[]
["S-HP 150"]
["Luminaires "]
["Material & misc",{"$f":"'DNSP Inputs Capex'!$D$44+'DNSP Inputs Capex'!$D$45","v":236.7652913413842},{"$f":"'DNSP Inputs Capex'!$D$47","v":16},null,{"$f":"B74*C74","v":3788.2446614621472},{"$f":"(E74+E75+E76)/C74","v":370.99863418671066},null,{"$f":"('DNSP Inputs Capex'!$D$44+'DNSP Inputs Capex'!$D$45)*(1+'DNSP Inputs Capex'!$D$11)","v":248.60355590845342},{"$f":"'DNSP Inputs Capex'!$D$48","v":13},null,{"$f":"H74*I74","v":3231.8462268098942},{"$f":"(K74+K75+K76)/I74","v":413.81382402577827},null,{"$f":"('DNSP Inputs Capex'!$D$44+'DNSP Inputs Capex'!$D$45)*(1+'DNSP Inputs Capex'!$D$11)","v":248.60355590845342},{"$f":"'DNSP Inputs Capex'!$D$49","v":10},null,{"$f":"N74*O74","v":2486.0355590845343},{"$f":"(Q74+Q75+Q76)/O74","v":463.37690446097577},null,null,{"$f":"'DNSP Inputs Capex'!$E$44+'DNSP Inputs Capex'!$E$45","v":236.7652913413842},{"$f":"'DNSP Inputs Capex'!$E$47","v":16},null,{"$f":"U74*V74","v":3788.2446614621472},{"$f":"(X74+X75+X76)/V74","v":{"$error":"#REF!"}},null,{"$f":"('DNSP Inputs Capex'!$E$44+'DNSP Inputs Capex'!$E$45)*(1+'DNSP Inputs Capex'!$E$11)","v":248.60355590845342},{"$f":"'DNSP Inputs Capex'!$E$48","v":13},null,{"$f":"AA74*AB74","v":3231.8462268098942},{"$f":"(AD74+AD75+AD76)/AB74","v":{"$error":"#REF!"}},null,{"$f":"('DNSP Inputs Capex'!$E$44+'DNSP Inputs Capex'!$E$45)*(1+'DNSP Inputs Capex'!$E$11)","v":248.60355590845342},{"$f":"'DNSP Inputs Capex'!$E$49","v":10},null,{"$f":"AG74*AH74","v":2486.0355590845343},{"$f":"(AJ74+AJ75+AJ76)/AH74","v":{"$error":"#REF!"}},null,null,{"$f":"'DNSP Inputs Capex'!$F$44+'DNSP Inputs Capex'!$F$45","v":236.7652913413842},{"$f":"'DNSP Inputs Capex'!$F$47","v":16},null,{"$f":"AN74*AO74","v":3788.2446614621472},{"$f":"(AQ74+AQ75+AQ76)/AO74","v":{"$error":"#REF!"}},null,{"$f":"('DNSP Inputs Capex'!$F$44+'DNSP Inputs Capex'!$F$45)*(1+'DNSP Inputs Capex'!$F$11)","v":248.60355590845342},{"$f":"'DNSP Inputs Capex'!$F$48","v":13},null,{"$f":"AT74*AU74","v":3231.8462268098942},{"$f":"(AW74+AW75+AW76)/AU74","v":{"$error":"#REF!"}},null,{"$f":"('DNSP Inputs Capex'!$F$44+'DNSP Inputs Capex'!$F$45)*(1+'DNSP Inputs Capex'!$F$11)","v":248.60355590845342},{"$f":"'DNSP Inputs Capex'!$F$49","v":10},null,{"$f":"AZ74*BA74","v":2486.0355590845343},{"$f":"(BC74+BC75+BC76)/BA74","v":{"$error":"#REF!"}},null,null,{"$f":"'DNSP Inputs Capex'!$G$44+'DNSP Inputs Capex'!$G$45","v":236.7652913413842},{"$f":"'DNSP Inputs Capex'!$G$47","v":16},null,{"$f":"BG74*BH74","v":3788.2446614621472},{"$f":"(BJ74+BJ75+BJ76)/BH74","v":{"$error":"#REF!"}},null,{"$f":"('DNSP Inputs Capex'!$G$44+'DNSP Inputs Capex'!$G$45)*(1+'DNSP Inputs Capex'!$G$11)","v":248.60355590845342},{"$f":"'DNSP Inputs Capex'!$G$48","v":13},null,{"$f":"BM74*BN74","v":3231.8462268098942},{"$f":"(BP74+BP75+BP76)/BN74","v":{"$error":"#REF!"}},null,{"$f":"('DNSP Inputs Capex'!$G$44+'DNSP Inputs Capex'!$G$45)*(1+'DNSP Inputs Capex'!$G$11)","v":248.60355590845342},{"$f":"'DNSP Inputs Capex'!$G$49","v":10},null,{"$f":"BS74*BT74","v":2486.0355590845343},{"$f":"(BV74+BV75+BV76)/BT74","v":{"$error":"#REF!"}},null,null,{"$f":"'DNSP Inputs Capex'!$H$44+'DNSP Inputs Capex'!$H$45","v":236.7652913413842},{"$f":"'DNSP Inputs Capex'!$H$47","v":16},null,{"$f":"BZ74*CA74","v":3788.2446614621472},{"$f":"(CC74+CC75+CC76)/CA74","v":{"$error":"#REF!"}},null,{"$f":"('DNSP Inputs Capex'!$H$44+'DNSP Inputs Capex'!$H$45)*(1+'DNSP Inputs Capex'!$H$11)","v":248.60355590845342},{"$f":"'DNSP Inputs Capex'!$H$48","v":13},null,{"$f":"CF74*CG74","v":3231.8462268098942},{"$f":"(CI74+CI75+CI76)/CG74","v":{"$error":"#REF!"}},null,{"$f":"('DNSP Inputs Capex'!$H$44+'DNSP Inputs Capex'!$H$45)*(1+'DNSP Inputs Capex'!$H$11)","v":248.60355590845342},{"$f":"'DNSP Inputs Capex'!$H$49","v":10},null,{"$f":"CL74*CM74","v":2486.0355590845343},{"$f":"(CO74+CO75+CO76)/CM74","v":{"$error":"#REF!"}}]
["Crew costs",{"$f":"'DNSP Inputs Capex'!$D$12","v":111.36223236834823},{"$f":"'DNSP Inputs Capex'!$D$46","v":2},{"$f":"'DNSP Inputs Capex'!$D$15","v":7.5},{"$f":"D75*C75*B75","v":1670.4334855252234},null,null,{"$f":"'DNSP Inputs Capex'!$D$12","v":111.36223236834823},{"$f":"'DNSP Inputs Capex'!$D$46","v":2},{"$f":"'DNSP Inputs Capex'!$D$15","v":7.5},{"$f":"J75*I75*H75","v":1670.4334855252234},null,null,{"$f":"'DNSP Inputs Capex'!$D$12","v":111.36223236834823},{"$f":"'DNSP Inputs Capex'!$D$46","v":2},{"$f":"'DNSP Inputs Capex'!$D$15","v":7.5},{"$f":"P75*O75*N75","v":1670.4334855252234},null,null,null,{"$f":"'DNSP Inputs Capex'!$E$12","v":{"$error":"#REF!"}},{"$f":"'DNSP Inputs Capex'!$E$46","v":2},{"$f":"'DNSP Inputs Capex'!$E$15","v":7.5},{"$f":"W75*V75*U75","v":{"$error":"#REF!"}},null,null,{"$f":"'DNSP Inputs Capex'!$E$12","v":{"$error":"#REF!"}},{"$f":"'DNSP Inputs Capex'!$E$46","v":2},{"$f":"'DNSP Inputs Capex'!$E$15","v":7.5},{"$f":"AC75*AB75*AA75","v":{"$error":"#REF!"}},null,null,{"$f":"'DNSP Inputs Capex'!$E$12","v":{"$error":"#REF!"}},{"$f":"'DNSP Inputs Capex'!$E$46","v":2},{"$f":"'DNSP Inputs Capex'!$E$15","v":7.5},{"$f":"AI75*AH75*AG75","v":{"$error":"#REF!"}},null,null,null,{"$f":"'DNSP Inputs Capex'!$F$12","v":{"$error":"#REF!"}},{"$f":"'DNSP Inputs Capex'!$F$46","v":2},{"$f":"'DNSP Inputs Capex'!$F$15","v":7.5},{"$f":"AP75*AO75*AN75","v":{"$error":"#REF!"}},null,null,{"$f":"'DNSP Inputs Capex'!$F$12","v":{"$error":"#REF!"}},{"$f":"'DNSP Inputs Capex'!$F$46","v":2},{"$f":"'DNSP Inputs Capex'!$F$15","v":7.5},{"$f":"AV75*AU75*AT75","v":{"$error":"#REF!"}},null,null,{"$f":"'DNSP Inputs Capex'!$F$12","v":{"$error":"#REF!"}},{"$f":"'DNSP Inputs Capex'!$F$46","v":2},{"$f":"'DNSP Inputs Capex'!$F$15","v":7.5},{"$f":"BB75*BA75*AZ75","v":{"$error":"#REF!"}},null,null,null,{"$f":"'DNSP Inputs Capex'!$G$12","v":{"$error":"#REF!"}},{"$f":"'DNSP Inputs Capex'!$G$46","v":2},{"$f":"'DNSP Inputs Capex'!$G$15","v":7.5},{"$f":"BI75*BH75*BG75","v":{"$error":"#REF!"}},null,null,{"$f":"'DNSP Inputs Capex'!$G$12","v":{"$error":"#REF!"}},{"$f":"'DNSP Inputs Capex'!$G$46","v":2},{"$f":"'DNSP Inputs Capex'!$G$15","v":7.5},{"$f":"BO75*BN75*BM75","v":{"$error":"#REF!"}},null,null,{"$f":"'DNSP Inputs Capex'!$G$12","v":{"$error":"#REF!"}},{"$f":"'DNSP Inputs Capex'!$G$46","v":2},{"$f":"'DNSP Inputs Capex'!$G$15","v":7.5},{"$f":"BU75*BT75*BS75","v":{"$error":"#REF!"}},null,null,null,{"$f":"'DNSP Inputs Capex'!$H$12","v":{"$error":"#REF!"}},{"$f":"'DNSP Inputs Capex'!$H$46","v":2},{"$f":"'DNSP Inputs Capex'!$H$15","v":7.5},{"$f":"CB75*CA75*BZ75","v":{"$error":"#REF!"}},null,null,{"$f":"'DNSP Inputs Capex'!$H$12","v":{"$error":"#REF!"}},{"$f":"'DNSP Inputs Capex'!$H$46","v":2},{"$f":"'DNSP Inputs Capex'!$H$15","v":7.5},{"$f":"CH75*CG75*CF75","v":{"$error":"#REF!"}},null,null,{"$f":"'DNSP Inputs Capex'!$H$12","v":{"$error":"#REF!"}},{"$f":"'DNSP Inputs Capex'!$H$46","v":2},{"$f":"'DNSP Inputs Capex'!$H$15","v":7.5},{"$f":"CN75*CM75*CL75","v":{"$error":"#REF!"}}]
["Elevated platform vehicle costs",{"$f":"'DNSP Inputs Capex'!$D$14","v":63.64},1,{"$f":"'DNSP Inputs Capex'!$D$15","v":7.5},{"$f":"B76*C76*D76","v":477.3},null,null,{"$f":"'DNSP Inputs Capex'!$D$14","v":63.64},1,{"$f":"'DNSP Inputs Capex'!$D$15","v":7.5},{"$f":"H76*I76*J76","v":477.3},null,null,{"$f":"'DNSP Inputs Capex'!$D$14","v":63.64},1,{"$f":"'DNSP Inputs Capex'!$D$15","v":7.5},{"$f":"N76*O76*P76","v":477.3},null,null,null,{"$f":"'DNSP Inputs Capex'!$E$14","v":63.64},1,{"$f":"'DNSP Inputs Capex'!$E$15","v":7.5},{"$f":"U76*V76*W76","v":477.3},null,null,{"$f":"'DNSP Inputs Capex'!$E$14","v":63.64},1,{"$f":"'DNSP Inputs Capex'!$E$15","v":7.5},{"$f":"AA76*AB76*AC76","v":477.3},null,null,{"$f":"'DNSP Inputs Capex'!$E$14","v":63.64},1,{"$f":"'DNSP Inputs Capex'!$E$15","v":7.5},{"$f":"AG76*AH76*AI76","v":477.3},null,null,null,{"$f":"'DNSP Inputs Capex'!$F$14","v":63.64},1,{"$f":"'DNSP Inputs Capex'!$F$15","v":7.5},{"$f":"AN76*AO76*AP76","v":477.3},null,null,{"$f":"'DNSP Inputs Capex'!$F$14","v":63.64},1,{"$f":"'DNSP Inputs Capex'!$F$15","v":7.5},{"$f":"AT76*AU76*AV76","v":477.3},null,null,{"$f":"'DNSP Inputs Capex'!$F$14","v":63.64},1,{"$f":"'DNSP Inputs Capex'!$F$15","v":7.5},{"$f":"AZ76*BA76*BB76","v":477.3},null,null,null,{"$f":"'DNSP Inputs Capex'!$G$14","v":63.64},1,{"$f":"'DNSP Inputs Capex'!$G$15","v":7.5},{"$f":"BG76*BH76*BI76","v":477.3},null,null,{"$f":"'DNSP Inputs Capex'!$G$14","v":63.64},1,{"$f":"'DNSP Inputs Capex'!$G$15","v":7.5},{"$f":"BM76*BN76*BO76","v":477.3},null,null,{"$f":"'DNSP Inputs Capex'!$G$14","v":63.64},1,{"$f":"'DNSP Inputs Capex'!$G$15","v":7.5},{"$f":"BS76*BT76*BU76","v":477.3},null,null,null,{"$f":"'DNSP Inputs Capex'!$H$14","v":63.64},1,{"$f":"'DNSP Inputs Capex'!$H$15","v":7.5},{"$f":"BZ76*CA76*CB76","v":477.3},null,null,{"$f":"'DNSP Inputs Capex'!$H$14","v":63.64},1,{"$f":"'DNSP Inputs Capex'!$H$15","v":7.5},{"$f":"CF76*CG76*CH76","v":477.3},null,null,{"$f":"'DNSP Inputs Capex'!$H$14","v":63.64},1,{"$f":"'DNSP Inputs Capex'!$H$15","v":7.5},{"$f":"CL76*CM76*CN76","v":477.3}]
[{"$f":"'DNSP Inputs Capex'!$A$51","v":"Other Capex unit costs Describe :………………………"},null,null,null,null,{"$f":"'DNSP Inputs Capex'!$D$51","v":0},null,null,null,null,null,{"$f":"'DNSP Inputs Capex'!$D$51","v":0},null,null,null,null,null,{"$f":"'DNSP Inputs Capex'!$D$51","v":0},null,null,null,null,null,null,{"$f":"'DNSP Inputs Capex'!$E$51","v":0},null,null,null,null,null,{"$f":"'DNSP Inputs Capex'!$E$51","v":0},null,null,null,null,null,{"$f":"'DNSP Inputs Capex'!$E$51","v":0},null,null,null,null,null,null,{"$f":"'DNSP Inputs Capex'!$F$51","v":0},null,null,null,null,null,{"$f":"'DNSP Inputs Capex'!$F$51","v":0},null,null,null,null,null,{"$f":"'DNSP Inputs Capex'!$F$51","v":0},null,null,null,null,null,null,{"$f":"'DNSP Inputs Capex'!$G$51","v":0},null,null,null,null,null,{"$f":"'DNSP Inputs Capex'!$G$51","v":0},null,null,null,null,null,{"$f":"'DNSP Inputs Capex'!$G$51","v":0},null,null,null,null,null,null,{"$f":"'DNSP Inputs Capex'!$H$51","v":0},null,null,null,null,null,{"$f":"'DNSP Inputs Capex'!$H$51","v":0},null,null,null,null,null,{"$f":"'DNSP Inputs Capex'!$H$51","v":0}]
[null,null,null,null,null,{"$f":"SUM(F74,F77)","v":370.99863418671066},null,null,null,null,null,{"$f":"SUM(L74,L77)","v":413.81382402577827},null,null,null,null,null,{"$f":"SUM(R74,R77)","v":463.37690446097577},null,null,null,null,null,null,{"$f":"SUM(Y74,Y77)","v":{"$error":"#REF!"}},null,null,null,null,null,{"$f":"SUM(AE74,AE77)","v":{"$error":"#REF!"}},null,null,null,null,null,{"$f":"SUM(AK74,AK77)","v":{"$error":"#REF!"}},null,null,null,null,null,null,{"$f":"SUM(AR74,AR77)","v":{"$error":"#REF!"}},null,null,null,null,null,{"$f":"SUM(AX74,AX77)","v":{"$error":"#REF!"}},null,null,null,null,null,{"$f":"SUM(BD74,BD77)","v":{"$error":"#REF!"}},null,null,null,null,null,null,{"$f":"SUM(BK74,BK77)","v":{"$error":"#REF!"}},null,null,null,null,null,{"$f":"SUM(BQ74,BQ77)","v":{"$error":"#REF!"}},null,null,null,null,null,{"$f":"SUM(BW74,BW77)","v":{"$error":"#REF!"}},null,null,null,null,null,null,{"$f":"SUM(CD74,CD77)","v":{"$error":"#REF!"}},null,null,null,null,null,{"$f":"SUM(CJ74,CJ77)","v":{"$error":"#REF!"}},null,null,null,null,null,{"$f":"SUM(CP74,CP77)","v":{"$error":"#REF!"}}]
[]
["Number of luminaires replaced",null,null,null,null,{"$f":"'DNSP Inputs Capex'!$D$54","v":0},null,null,null,null,null,{"$f":"'DNSP Inputs Capex'!$D$55","v":0},null,null,null,null,null,{"$f":"'DNSP Inputs Capex'!$D$56","v":0},null,null,null,null,null,null,{"$f":"'DNSP Inputs Capex'!$E$54","v":0},null,null,null,null,null,{"$f":"'DNSP Inputs Capex'!$E$55","v":0},null,null,null,null,null,{"$f":"'DNSP Inputs Capex'!$E$56","v":0},null,null,null,null,null,null,{"$f":"'DNSP Inputs Capex'!$F$54","v":0},null,null,null,null,null,{"$f":"'DNSP Inputs Capex'!$F$55","v":0},null,null,null,null,null,{"$f":"'DNSP Inputs Capex'!$F$56","v":0},null,null,null,null,null,null,{"$f":"'DNSP Inputs Capex'!$G$54","v":0},null,null,null,null,null,{"$f":"'DNSP Inputs Capex'!$G$55","v":0},null,null,null,null,null,{"$f":"'DNSP Inputs Capex'!$G$56","v":0},null,null,null,null,null,null,{"$f":"'DNSP Inputs Capex'!$H$54","v":0},null,null,null,null,null,{"$f":"'DNSP Inputs Capex'!$H$55","v":0},null,null,null,null,null,{"$f":"'DNSP Inputs Capex'!$H$56","v":0}]
[]
["Capex",null,null,null,null,{"$f":"F78*F80","v":0},null,null,null,null,null,{"$f":"L78*L80","v":0},null,null,null,null,null,{"$f":"R78*R80","v":0},null,null,null,null,null,null,{"$f":"Y78*Y80","v":{"$error":"#REF!"}},null,null,null,null,null,{"$f":"AE78*AE80","v":{"$error":"#REF!"}},null,null,null,null,null,{"$f":"AK78*AK80","v":{"$error":"#REF!"}},null,null,null,null,null,null,{"$f":"AR78*AR80","v":{"$error":"#REF!"}},null,null,null,null,null,{"$f":"AX78*AX80","v":{"$error":"#REF!"}},null,null,null,null,null,{"$f":"BD78*BD80","v":{"$error":"#REF!"}},null,null,null,null,null,null,{"$f":"BK78*BK80","v":{"$error":"#REF!"}},null,null,null,null,null,{"$f":"BQ78*BQ80","v":{"$error":"#REF!"}},null,null,null,null,null,{"$f":"BW78*BW80","v":{"$error":"#REF!"}},null,null,null,null,null,null,{"$f":"CD78*CD80","v":{"$error":"#REF!"}},null,null,null,null,null,{"$f":"CJ78*CJ80","v":{"$error":"#REF!"}},null,null,null,null,null,{"$f":"CP78*CP80","v":{"$error":"#REF!"}}]
[]
[]
["S-HP 250"]
["Luminaires "]
["Material & misc",{"$f":"'DNSP Inputs Capex'!$D$62+'DNSP Inputs Capex'!$D$63","v":242.72806954542625},{"$f":"'DNSP Inputs Capex'!$D$65","v":16},null,{"$f":"B87*C87","v":3883.64911272682},{"$f":"(E87+E88+E89)/C87","v":376.96141239075274},null,{"$f":"('DNSP Inputs Capex'!$D$62+'DNSP Inputs Capex'!$D$63)*(1+'DNSP Inputs Capex'!$D$11)","v":254.86447302269758},{"$f":"'DNSP Inputs Capex'!$D$66","v":13},null,{"$f":"H87*I87","v":3313.2381492950685},{"$f":"(K87+K88+K89)/I87","v":420.07474114002247},null,{"$f":"('DNSP Inputs Capex'!$D$62+'DNSP Inputs Capex'!$D$63)*(1+'DNSP Inputs Capex'!$D$11)","v":254.86447302269758},{"$f":"'DNSP Inputs Capex'!$D$67","v":10},null,{"$f":"N87*O87","v":2548.6447302269758},{"$f":"(Q87+Q88+Q89)/O87","v":469.6378215752199},null,null,{"$f":"'DNSP Inputs Capex'!$E$62+'DNSP Inputs Capex'!$E$63","v":242.72806954542625},{"$f":"'DNSP Inputs Capex'!$E$65","v":16},null,{"$f":"U87*V87","v":3883.64911272682},{"$f":"(X87+X88+X89)/V87","v":{"$error":"#REF!"}},null,{"$f":"('DNSP Inputs Capex'!$E$62+'DNSP Inputs Capex'!$E$63)*(1+'DNSP Inputs Capex'!$E$11)","v":254.86447302269758},{"$f":"'DNSP Inputs Capex'!$E$66","v":13},null,{"$f":"AA87*AB87","v":3313.2381492950685},{"$f":"(AD87+AD88+AD89)/AB87","v":{"$error":"#REF!"}},null,{"$f":"('DNSP Inputs Capex'!$E$62+'DNSP Inputs Capex'!$E$63)*(1+'DNSP Inputs Capex'!$E$11)","v":254.86447302269758},{"$f":"'DNSP Inputs Capex'!$E$67","v":10},null,{"$f":"AG87*AH87","v":2548.6447302269758},{"$f":"(AJ87+AJ88+AJ89)/AH87","v":{"$error":"#REF!"}},null,null,{"$f":"'DNSP Inputs Capex'!$F$62+'DNSP Inputs Capex'!$F$63","v":242.72806954542625},{"$f":"'DNSP Inputs Capex'!$F$65","v":16},null,{"$f":"AN87*AO87","v":3883.64911272682},{"$f":"(AQ87+AQ88+AQ89)/AO87","v":{"$error":"#REF!"}},null,{"$f":"('DNSP Inputs Capex'!$F$62+'DNSP Inputs Capex'!$F$63)*(1+'DNSP Inputs Capex'!$F$11)","v":254.86447302269758},{"$f":"'DNSP Inputs Capex'!$F$66","v":13},null,{"$f":"AT87*AU87","v":3313.2381492950685},{"$f":"(AW87+AW88+AW89)/AU87","v":{"$error":"#REF!"}},null,{"$f":"('DNSP Inputs Capex'!$F$62+'DNSP Inputs Capex'!$F$63)*(1+'DNSP Inputs Capex'!$F$11)","v":254.86447302269758},{"$f":"'DNSP Inputs Capex'!$F$67","v":10},null,{"$f":"AZ87*BA87","v":2548.6447302269758},{"$f":"(BC87+BC88+BC89)/BA87","v":{"$error":"#REF!"}},null,null,{"$f":"'DNSP Inputs Capex'!$G$62+'DNSP Inputs Capex'!$G$63","v":242.72806954542625},{"$f":"'DNSP Inputs Capex'!$G$65","v":16},null,{"$f":"BG87*BH87","v":3883.64911272682},{"$f":"(BJ87+BJ88+BJ89)/BH87","v":{"$error":"#REF!"}},null,{"$f":"('DNSP Inputs Capex'!$G$62+'DNSP Inputs Capex'!$G$63)*(1+'DNSP Inputs Capex'!$G$11)","v":254.86447302269758},{"$f":"'DNSP Inputs Capex'!$G$66","v":13},null,{"$f":"BM87*BN87","v":3313.2381492950685},{"$f":"(BP87+BP88+BP89)/BN87","v":{"$error":"#REF!"}},null,{"$f":"('DNSP Inputs Capex'!$G$62+'DNSP Inputs Capex'!$G$63)*(1+'DNSP Inputs Capex'!$G$11)","v":254.86447302269758},{"$f":"'DNSP Inputs Capex'!$G$67","v":10},null,{"$f":"BS87*BT87","v":2548.6447302269758},{"$f":"(BV87+BV88+BV89)/BT87","v":{"$error":"#REF!"}},null,null,{"$f":"'DNSP Inputs Capex'!$H$62+'DNSP Inputs Capex'!$H$63","v":242.72806954542625},{"$f":"'DNSP Inputs Capex'!$H$65","v":16},null,{"$f":"BZ87*CA87","v":3883.64911272682},{"$f":"(CC87+CC88+CC89)/CA87","v":{"$error":"#REF!"}},null,{"$f":"('DNSP Inputs Capex'!$H$62+'DNSP Inputs Capex'!$H$63)*(1+'DNSP Inputs Capex'!$H$11)","v":254.86447302269758},{"$f":"'DNSP Inputs Capex'!$H$66","v":13},null,{"$f":"CF87*CG87","v":3313.2381492950685},{"$f":"(CI87+CI88+CI89)/CG87","v":{"$error":"#REF!"}},null,{"$f":"('DNSP Inputs Capex'!$H$62+'DNSP Inputs Capex'!$H$63)*(1+'DNSP Inputs Capex'!$H$11)","v":254.86447302269758},{"$f":"'DNSP Inputs Capex'!$H$67","v":10},null,{"$f":"CL87*CM87","v":2548.6447302269758},{"$f":"(CO87+CO88+CO89)/CM87","v":{"$error":"#REF!"}}]
["Crew costs",{"$f":"'DNSP Inputs Capex'!$D$12","v":111.36223236834823},{"$f":"'DNSP Inputs Capex'!$D$64","v":2},{"$f":"'DNSP Inputs Capex'!$D$15","v":7.5},{"$f":"D88*C88*B88","v":1670.4334855252234},null,null,{"$f":"'DNSP Inputs Capex'!$D$12","v":111.36223236834823},{"$f":"'DNSP Inputs Capex'!$D$64","v":2},{"$f":"'DNSP Inputs Capex'!$D$15","v":7.5},{"$f":"J88*I88*H88","v":1670.4334855252234},null,null,{"$f":"'DNSP Inputs Capex'!$D$12","v":111.36223236834823},{"$f":"'DNSP Inputs Capex'!$D$64","v":2},{"$f":"'DNSP Inputs Capex'!$D$15","v":7.5},{"$f":"P88*O88*N88","v":1670.4334855252234},null,null,null,{"$f":"'DNSP Inputs Capex'!$E$12","v":{"$error":"#REF!"}},{"$f":"'DNSP Inputs Capex'!$E$64","v":2},{"$f":"'DNSP Inputs Capex'!$E$15","v":7.5},{"$f":"W88*V88*U88","v":{"$error":"#REF!"}},null,null,{"$f":"'DNSP Inputs Capex'!$E$12","v":{"$error":"#REF!"}},{"$f":"'DNSP Inputs Capex'!$E$64","v":2},{"$f":"'DNSP Inputs Capex'!$E$15","v":7.5},{"$f":"AC88*AB88*AA88","v":{"$error":"#REF!"}},null,null,{"$f":"'DNSP Inputs Capex'!$E$12","v":{"$error":"#REF!"}},{"$f":"'DNSP Inputs Capex'!$E$64","v":2},{"$f":"'DNSP Inputs Capex'!$E$15","v":7.5},{"$f":"AI88*AH88*AG88","v":{"$error":"#REF!"}},null,null,null,{"$f":"'DNSP Inputs Capex'!$F$12","v":{"$error":"#REF!"}},{"$f":"'DNSP Inputs Capex'!$F$64","v":2},{"$f":"'DNSP Inputs Capex'!$F$15","v":7.5},{"$f":"AP88*AO88*AN88","v":{"$error":"#REF!"}},null,null,{"$f":"'DNSP Inputs Capex'!$F$12","v":{"$error":"#REF!"}},{"$f":"'DNSP Inputs Capex'!$F$64","v":2},{"$f":"'DNSP Inputs Capex'!$F$15","v":7.5},{"$f":"AV88*AU88*AT88","v":{"$error":"#REF!"}},null,null,{"$f":"'DNSP Inputs Capex'!$F$12","v":{"$error":"#REF!"}},{"$f":"'DNSP Inputs Capex'!$F$64","v":2},{"$f":"'DNSP Inputs Capex'!$F$15","v":7.5},{"$f":"BB88*BA88*AZ88","v":{"$error":"#REF!"}},null,null,null,{"$f":"'DNSP Inputs Capex'!$G$12","v":{"$error":"#REF!"}},{"$f":"'DNSP Inputs Capex'!$G$64","v":2},{"$f":"'DNSP Inputs Capex'!$G$15","v":7.5},{"$f":"BI88*BH88*BG88","v":{"$error":"#REF!"}},null,null,{"$f":"'DNSP Inputs Capex'!$G$12","v":{"$error":"#REF!"}},{"$f":"'DNSP Inputs Capex'!$G$64","v":2},{"$f":"'DNSP Inputs Capex'!$G$15","v":7.5},{"$f":"BO88*BN88*BM88","v":{"$error":"#REF!"}},null,null,{"$f":"'DNSP Inputs Capex'!$G$12","v":{"$error":"#REF!"}},{"$f":"'DNSP Inputs Capex'!$G$64","v":2},{"$f":"'DNSP Inputs Capex'!$G$15","v":7.5},{"$f":"BU88*BT88*BS88","v":{"$error":"#REF!"}},null,null,null,{"$f":"'DNSP Inputs Capex'!$H$12","v":{"$error":"#REF!"}},{"$f":"'DNSP Inputs Capex'!$H$64","v":2},{"$f":"'DNSP Inputs Capex'!$H$15","v":7.5},{"$f":"CB88*CA88*BZ88","v":{"$error":"#REF!"}},null,null,{"$f":"'DNSP Inputs Capex'!$H$12","v":{"$error":"#REF!"}},{"$f":"'DNSP Inputs Capex'!$H$64","v":2},{"$f":"'DNSP Inputs Capex'!$H$15","v":7.5},{"$f":"CH88*CG88*CF88","v":{"$error":"#REF!"}},null,null,{"$f":"'DNSP Inputs Capex'!$H$12","v":{"$error":"#REF!"}},{"$f":"'DNSP Inputs Capex'!$H$64","v":2},{"$f":"'DNSP Inputs Capex'!$H$15","v":7.5},{"$f":"CN88*CM88*CL88","v":{"$error":"#REF!"}}]
["Elevated platform vehicle costs",{"$f":"'DNSP Inputs Capex'!$D$14","v":63.64},1,{"$f":"'DNSP Inputs Capex'!$D$15","v":7.5},{"$f":"B89*C89*D89","v":477.3},null,null,{"$f":"'DNSP Inputs Capex'!$D$14","v":63.64},1,{"$f":"'DNSP Inputs Capex'!$D$15","v":7.5},{"$f":"H89*I89*J89","v":477.3},null,null,{"$f":"'DNSP Inputs Capex'!$D$14","v":63.64},1,{"$f":"'DNSP Inputs Capex'!$D$15","v":7.5},{"$f":"N89*O89*P89","v":477.3},null,null,null,{"$f":"'DNSP Inputs Capex'!$E$14","v":63.64},1,{"$f":"'DNSP Inputs Capex'!$E$15","v":7.5},{"$f":"U89*V89*W89","v":477.3},null,null,{"$f":"'DNSP Inputs Capex'!$E$14","v":63.64},1,{"$f":"'DNSP Inputs Capex'!$E$15","v":7.5},{"$f":"AA89*AB89*AC89","v":477.3},null,null,{"$f":"'DNSP Inputs Capex'!$E$14","v":63.64},1,{"$f":"'DNSP Inputs Capex'!$E$15","v":7.5},{"$f":"AG89*AH89*AI89","v":477.3},null,null,null,{"$f":"'DNSP Inputs Capex'!$F$14","v":63.64},1,{"$f":"'DNSP Inputs Capex'!$F$15","v":7.5},{"$f":"AN89*AO89*AP89","v":477.3},null,null,{"$f":"'DNSP Inputs Capex'!$F$14","v":63.64},1,{"$f":"'DNSP Inputs Capex'!$F$15","v":7.5},{"$f":"AT89*AU89*AV89","v":477.3},null,null,{"$f":"'DNSP Inputs Capex'!$F$14","v":63.64},1,{"$f":"'DNSP Inputs Capex'!$F$15","v":7.5},{"$f":"AZ89*BA89*BB89","v":477.3},null,null,null,{"$f":"'DNSP Inputs Capex'!$G$14","v":63.64},1,{"$f":"'DNSP Inputs Capex'!$G$15","v":7.5},{"$f":"BG89*BH89*BI89","v":477.3},null,null,{"$f":"'DNSP Inputs Capex'!$G$14","v":63.64},1,{"$f":"'DNSP Inputs Capex'!$G$15","v":7.5},{"$f":"BM89*BN89*BO89","v":477.3},null,null,{"$f":"'DNSP Inputs Capex'!$G$14","v":63.64},1,{"$f":"'DNSP Inputs Capex'!$G$15","v":7.5},{"$f":"BS89*BT89*BU89","v":477.3},null,null,null,{"$f":"'DNSP Inputs Capex'!$H$14","v":63.64},1,{"$f":"'DNSP Inputs Capex'!$H$15","v":7.5},{"$f":"BZ89*CA89*CB89","v":477.3},null,null,{"$f":"'DNSP Inputs Capex'!$H$14","v":63.64},1,{"$f":"'DNSP Inputs Capex'!$H$15","v":7.5},{"$f":"CF89*CG89*CH89","v":477.3},null,null,{"$f":"'DNSP Inputs Capex'!$H$14","v":63.64},1,{"$f":"'DNSP Inputs Capex'!$H$15","v":7.5},{"$f":"CL89*CM89*CN89","v":477.3}]
[{"$f":"'DNSP Inputs Capex'!$A$69","v":"Other Capex unit costs Describe :………………………"},null,null,null,null,{"$f":"'DNSP Inputs Capex'!$D$69","v":0},null,null,null,null,null,{"$f":"'DNSP Inputs Capex'!$D$69","v":0},null,null,null,null,null,{"$f":"'DNSP Inputs Capex'!$D$69","v":0},null,null,null,null,null,null,{"$f":"'DNSP Inputs Capex'!$E$69","v":0},null,null,null,null,null,{"$f":"'DNSP Inputs Capex'!$E$69","v":0},null,null,null,null,null,{"$f":"'DNSP Inputs Capex'!$E$69","v":0},null,null,null,null,null,null,{"$f":"'DNSP Inputs Capex'!$F$69","v":0},null,null,null,null,null,{"$f":"'DNSP Inputs Capex'!$F$69","v":0},null,null,null,null,null,{"$f":"'DNSP Inputs Capex'!$F$69","v":0},null,null,null,null,null,null,{"$f":"'DNSP Inputs Capex'!$G$69","v":0},null,null,null,null,null,{"$f":"'DNSP Inputs Capex'!$G$69","v":0},null,null,null,null,null,{"$f":"'DNSP Inputs Capex'!$G$69","v":0},null,null,null,null,null,null,{"$f":"'DNSP Inputs Capex'!$H$69","v":0},null,null,null,null,null,{"$f":"'DNSP Inputs Capex'!$H$69","v":0},null,null,null,null,null,{"$f":"'DNSP Inputs Capex'!$H$69","v":0}]
[null,null,null,null,null,{"$f":"SUM(F87,F90)","v":376.96141239075274},null,null,null,null,null,{"$f":"SUM(L87,L90)","v":420.07474114002247},null,null,null,null,null,{"$f":"SUM(R87,R90)","v":469.6378215752199},null,null,null,null,null,null,{"$f":"SUM(Y87,Y90)","v":{"$error":"#REF!"}},null,null,null,null,null,{"$f":"SUM(AE87,AE90)","v":{"$error":"#REF!"}},null,null,null,null,null,{"$f":"SUM(AK87,AK90)","v":{"$error":"#REF!"}},null,null,null,null,null,null,{"$f":"SUM(AR87,AR90)","v":{"$error":"#REF!"}},null,null,null,null,null,{"$f":"SUM(AX87,AX90)","v":{"$error":"#REF!"}},null,null,null,null,null,{"$f":"SUM(BD87,BD90)","v":{"$error":"#REF!"}},null,null,null,null,null,null,{"$f":"SUM(BK87,BK90)","v":{"$error":"#REF!"}},null,null,null,null,null,{"$f":"SUM(BQ87,BQ90)","v":{"$error":"#REF!"}},null,null,null,null,null,{"$f":"SUM(BW87,BW90)","v":{"$error":"#REF!"}},null,null,null,null,null,null,{"$f":"SUM(CD87,CD90)","v":{"$error":"#REF!"}},null,null,null,null,null,{"$f":"SUM(CJ87,CJ90)","v":{"$error":"#REF!"}},null,null,null,null,null,{"$f":"SUM(CP87,CP90)","v":{"$error":"#REF!"}}]
[]
["Number of luminaires replaced",null,null,null,null,{"$f":"'DNSP Inputs Capex'!$D$72","v":0},null,null,null,null,null,{"$f":"'DNSP Inputs Capex'!$D$73","v":0},null,null,null,null,null,{"$f":"'DNSP Inputs Capex'!$D$74","v":0},null,null,null,null,null,null,{"$f":"'DNSP Inputs Capex'!$E$72","v":0},null,null,null,null,null,{"$f":"'DNSP Inputs Capex'!$E$73","v":0},null,null,null,null,null,{"$f":"'DNSP Inputs Capex'!$E$74","v":0},null,null,null,null,null,null,{"$f":"'DNSP Inputs Capex'!$F$72","v":0},null,null,null,null,null,{"$f":"'DNSP Inputs Capex'!$F$73","v":0},null,null,null,null,null,{"$f":"'DNSP Inputs Capex'!$F$74","v":0},null,null,null,null,null,null,{"$f":"'DNSP Inputs Capex'!$G$72","v":0},null,null,null,null,null,{"$f":"'DNSP Inputs Capex'!$G$73","v":0},null,null,null,null,null,{"$f":"'DNSP Inputs Capex'!$G$74","v":0},null,null,null,null,null,null,{"$f":"'DNSP Inputs Capex'!$H$72","v":0},null,null,null,null,null,{"$f":"'DNSP Inputs Capex'!$H$73","v":0},null,null,null,null,null,{"$f":"'DNSP Inputs Capex'!$H$74","v":0}]
[]
["Capex",null,null,null,null,{"$f":"F91*F93","v":0},null,null,null,null,null,{"$f":"L91*L93","v":0},null,null,null,null,null,{"$f":"R91*R93","v":0},null,null,null,null,null,null,{"$f":"Y91*Y93","v":{"$error":"#REF!"}},null,null,null,null,null,{"$f":"AE91*AE93","v":{"$error":"#REF!"}},null,null,null,null,null,{"$f":"AK91*AK93","v":{"$error":"#REF!"}},null,null,null,null,null,null,{"$f":"AR91*AR93","v":{"$error":"#REF!"}},null,null,null,null,null,{"$f":"AX91*AX93","v":{"$error":"#REF!"}},null,null,null,null,null,{"$f":"BD91*BD93","v":{"$error":"#REF!"}},null,null,null,null,null,null,{"$f":"BK91*BK93","v":{"$error":"#REF!"}},null,null,null,null,null,{"$f":"BQ91*BQ93","v":{"$error":"#REF!"}},null,null,null,null,null,{"$f":"BW91*BW93","v":{"$error":"#REF!"}},null,null,null,null,null,null,{"$f":"CD91*CD93","v":{"$error":"#REF!"}},null,null,null,null,null,{"$f":"CJ91*CJ93","v":{"$error":"#REF!"}},null,null,null,null,null,{"$f":"CP91*CP93","v":{"$error":"#REF!"}}]
[]
[]
["Dedicated poles"]
["Material",{"$f":"'DNSP Inputs Capex'!$D$80","v":1223.6275383044774},{"$f":"'DNSP Inputs Capex'!$D$82","v":4},null,{"$f":"C99*B99","v":4894.5101532179096},{"$f":"(E99+E100+E101)/C99","v":2152.9317810670891},null,{"$f":"'DNSP Inputs Capex'!$D$80*(1+'DNSP Inputs Capex'!$D$11)","v":1284.8089152197012},{"$f":"'DNSP Inputs Capex'!$D$82","v":4},null,{"$f":"I99*H99","v":5139.235660878805},{"$f":"(K99+K100+K101)/I99","v":2239.3506579823129},null,{"$f":"'DNSP Inputs Capex'!$D$80*(1+'DNSP Inputs Capex'!$D$11)","v":1284.8089152197012},{"$f":"'DNSP Inputs Capex'!$D$82","v":4},null,{"$f":"O99*N99","v":5139.235660878805},{"$f":"(Q99+Q100+Q101)/O99","v":2239.3506579823129},null,null,{"$f":"'DNSP Inputs Capex'!$E$80","v":1223.6275383044774},{"$f":"'DNSP Inputs Capex'!$E$82","v":4},null,{"$f":"V99*U99","v":4894.5101532179096},{"$f":"(X99+X100+X101)/V99","v":{"$error":"#REF!"}},null,{"$f":"'DNSP Inputs Capex'!$E$80*(1+'DNSP Inputs Capex'!$E$11)","v":1284.8089152197012},{"$f":"'DNSP Inputs Capex'!$E$82","v":4},null,{"$f":"AB99*AA99","v":5139.235660878805},{"$f":"(AD99+AD100+AD101)/AB99","v":{"$error":"#REF!"}},null,{"$f":"'DNSP Inputs Capex'!$E$80*(1+'DNSP Inputs Capex'!$E$11)","v":1284.8089152197012},{"$f":"'DNSP Inputs Capex'!$E$82","v":4},null,{"$f":"AH99*AG99","v":5139.235660878805},{"$f":"(AJ99+AJ100+AJ101)/AH99","v":{"$error":"#REF!"}},null,null,{"$f":"'DNSP Inputs Capex'!$F$80","v":1223.6275383044774},{"$f":"'DNSP Inputs Capex'!$F$82","v":4},null,{"$f":"AO99*AN99","v":4894.5101532179096},{"$f":"(AQ99+AQ100+AQ101)/AO99","v":{"$error":"#REF!"}},null,{"$f":"'DNSP Inputs Capex'!$F$80*(1+'DNSP Inputs Capex'!$F$11)","v":1284.8089152197012},{"$f":"'DNSP Inputs Capex'!$F$82","v":4},null,{"$f":"AU99*AT99","v":5139.235660878805},{"$f":"(AW99+AW100+AW101)/AU99","v":{"$error":"#REF!"}},null,{"$f":"'DNSP Inputs Capex'!$F$80*(1+'DNSP Inputs Capex'!$F$11)","v":1284.8089152197012},{"$f":"'DNSP Inputs Capex'!$F$82","v":4},null,{"$f":"BA99*AZ99","v":5139.235660878805},{"$f":"(BC99+BC100+BC101)/BA99","v":{"$error":"#REF!"}},null,null,{"$f":"'DNSP Inputs Capex'!$G$80","v":1223.6275383044774},{"$f":"'DNSP Inputs Capex'!$G$82","v":4},null,{"$f":"BH99*BG99","v":4894.5101532179096},{"$f":"(BJ99+BJ100+BJ101)/BH99","v":{"$error":"#REF!"}},null,{"$f":"'DNSP Inputs Capex'!$G$80*(1+'DNSP Inputs Capex'!$G$11)","v":1284.8089152197012},{"$f":"'DNSP Inputs Capex'!$G$82","v":4},null,{"$f":"BN99*BM99","v":5139.235660878805},{"$f":"(BP99+BP100+BP101)/BN99","v":{"$error":"#REF!"}},null,{"$f":"'DNSP Inputs Capex'!$G$80*(1+'DNSP Inputs Capex'!$G$11)","v":1284.8089152197012},{"$f":"'DNSP Inputs Capex'!$G$82","v":4},null,{"$f":"BT99*BS99","v":5139.235660878805},{"$f":"(BV99+BV100+BV101)/BT99","v":{"$error":"#REF!"}},null,null,{"$f":"'DNSP Inputs Capex'!$H$80","v":1223.6275383044774},{"$f":"'DNSP Inputs Capex'!$H$82","v":4},null,{"$f":"CA99*BZ99","v":4894.5101532179096},{"$f":"(CC99+CC100+CC101)/CA99","v":{"$error":"#REF!"}},null,{"$f":"'DNSP Inputs Capex'!$H$80*(1+'DNSP Inputs Capex'!$H$11)","v":1284.8089152197012},{"$f":"'DNSP Inputs Capex'!$H$82","v":4},null,{"$f":"CG99*CF99","v":5139.235660878805},{"$f":"(CI99+CI100+CI101)/CG99","v":{"$error":"#REF!"}},null,{"$f":"'DNSP Inputs Capex'!$H$80*(1+'DNSP Inputs Capex'!$H$11)","v":1284.8089152197012},{"$f":"'DNSP Inputs Capex'!$H$82","v":4},null,{"$f":"CM99*CL99","v":5139.235660878805},{"$f":"(CO99+CO100+CO101)/CM99","v":{"$error":"#REF!"}}]
["Crew costs",{"$f":"'DNSP Inputs Capex'!$D$12","v":111.36223236834823},{"$f":"'DNSP Inputs Capex'!$D$81","v":4},{"$f":"'DNSP Inputs Capex'!$D$15","v":7.5},{"$f":"B100*C100*D100","v":3340.8669710504469},null,null,{"$f":"'DNSP Inputs Capex'!$D$12","v":111.36223236834823},{"$f":"'DNSP Inputs Capex'!$D$81","v":4},{"$f":"'DNSP Inputs Capex'!$D$15","v":7.5},{"$f":"H100*I100*J100","v":3340.8669710504469},null,null,{"$f":"'DNSP Inputs Capex'!$D$12","v":111.36223236834823},{"$f":"'DNSP Inputs Capex'!$D$81","v":4},{"$f":"'DNSP Inputs Capex'!$D$15","v":7.5},{"$f":"N100*O100*P100","v":3340.8669710504469},null,null,null,{"$f":"'DNSP Inputs Capex'!$E$12","v":{"$error":"#REF!"}},{"$f":"'DNSP Inputs Capex'!$E$81","v":4},{"$f":"'DNSP Inputs Capex'!$E$15","v":7.5},{"$f":"U100*V100*W100","v":{"$error":"#REF!"}},null,null,{"$f":"'DNSP Inputs Capex'!$E$12","v":{"$error":"#REF!"}},{"$f":"'DNSP Inputs Capex'!$E$81","v":4},{"$f":"'DNSP Inputs Capex'!$E$15","v":7.5},{"$f":"AA100*AB100*AC100","v":{"$error":"#REF!"}},null,null,{"$f":"'DNSP Inputs Capex'!$E$12","v":{"$error":"#REF!"}},{"$f":"'DNSP Inputs Capex'!$E$81","v":4},{"$f":"'DNSP Inputs Capex'!$E$15","v":7.5},{"$f":"AG100*AH100*AI100","v":{"$error":"#REF!"}},null,null,null,{"$f":"'DNSP Inputs Capex'!$F$12","v":{"$error":"#REF!"}},{"$f":"'DNSP Inputs Capex'!$F$81","v":4},{"$f":"'DNSP Inputs Capex'!$F$15","v":7.5},{"$f":"AN100*AO100*AP100","v":{"$error":"#REF!"}},null,null,{"$f":"'DNSP Inputs Capex'!$F$12","v":{"$error":"#REF!"}},{"$f":"'DNSP Inputs Capex'!$F$81","v":4},{"$f":"'DNSP Inputs Capex'!$F$15","v":7.5},{"$f":"AT100*AU100*AV100","v":{"$error":"#REF!"}},null,null,{"$f":"'DNSP Inputs Capex'!$F$12","v":{"$error":"#REF!"}},{"$f":"'DNSP Inputs Capex'!$F$81","v":4},{"$f":"'DNSP Inputs Capex'!$F$15","v":7.5},{"$f":"AZ100*BA100*BB100","v":{"$error":"#REF!"}},null,null,null,{"$f":"'DNSP Inputs Capex'!$G$12","v":{"$error":"#REF!"}},{"$f":"'DNSP Inputs Capex'!$G$81","v":4},{"$f":"'DNSP Inputs Capex'!$G$15","v":7.5},{"$f":"BG100*BH100*BI100","v":{"$error":"#REF!"}},null,null,{"$f":"'DNSP Inputs Capex'!$G$12","v":{"$error":"#REF!"}},{"$f":"'DNSP Inputs Capex'!$G$81","v":4},{"$f":"'DNSP Inputs Capex'!$G$15","v":7.5},{"$f":"BM100*BN100*BO100","v":{"$error":"#REF!"}},null,null,{"$f":"'DNSP Inputs Capex'!$G$12","v":{"$error":"#REF!"}},{"$f":"'DNSP Inputs Capex'!$G$81","v":4},{"$f":"'DNSP Inputs Capex'!$G$15","v":7.5},{"$f":"BS100*BT100*BU100","v":{"$error":"#REF!"}},null,null,null,{"$f":"'DNSP Inputs Capex'!$H$12","v":{"$error":"#REF!"}},{"$f":"'DNSP Inputs Capex'!$H$81","v":4},{"$f":"'DNSP Inputs Capex'!$H$15","v":7.5},{"$f":"BZ100*CA100*CB100","v":{"$error":"#REF!"}},null,null,{"$f":"'DNSP Inputs Capex'!$H$12","v":{"$error":"#REF!"}},{"$f":"'DNSP Inputs Capex'!$H$81","v":4},{"$f":"'DNSP Inputs Capex'!$H$15","v":7.5},{"$f":"CF100*CG100*CH100","v":{"$error":"#REF!"}},null,null,{"$f":"'DNSP Inputs Capex'!$H$12","v":{"$error":"#REF!"}},{"$f":"'DNSP Inputs Capex'!$H$81","v":4},{"$f":"'DNSP Inputs Capex'!$H$15","v":7.5},{"$f":"CL100*CM100*CN100","v":{"$error":"#REF!"}}]
["Elevated platform vehicle costs",{"$f":"'DNSP Inputs Capex'!$D$13","v":50.18},1,{"$f":"'DNSP Inputs Capex'!$D$15","v":7.5},{"$f":"B101*C101*D101","v":376.35},null,null,{"$f":"'DNSP Inputs Capex'!$D$14","v":63.64},1,{"$f":"'DNSP Inputs Capex'!$D$15","v":7.5},{"$f":"H101*I101*J101","v":477.3},null,null,{"$f":"'DNSP Inputs Capex'!$D$14","v":63.64},1,{"$f":"'DNSP Inputs Capex'!$D$15","v":7.5},{"$f":"N101*O101*P101","v":477.3},null,null,null,{"$f":"'DNSP Inputs Capex'!$E$13","v":50.18},1,{"$f":"'DNSP Inputs Capex'!$E$15","v":7.5},{"$f":"U101*V101*W101","v":376.35},null,null,{"$f":"'DNSP Inputs Capex'!$E$14","v":63.64},1,{"$f":"'DNSP Inputs Capex'!$E$15","v":7.5},{"$f":"AA101*AB101*AC101","v":477.3},null,null,{"$f":"'DNSP Inputs Capex'!$E$14","v":63.64},1,{"$f":"'DNSP Inputs Capex'!$E$15","v":7.5},{"$f":"AG101*AH101*AI101","v":477.3},null,null,null,{"$f":"'DNSP Inputs Capex'!$F$13","v":50.18},1,{"$f":"'DNSP Inputs Capex'!$F$15","v":7.5},{"$f":"AN101*AO101*AP101","v":376.35},null,null,{"$f":"'DNSP Inputs Capex'!$F$14","v":63.64},1,{"$f":"'DNSP Inputs Capex'!$F$15","v":7.5},{"$f":"AT101*AU101*AV101","v":477.3},null,null,{"$f":"'DNSP Inputs Capex'!$F$14","v":63.64},1,{"$f":"'DNSP Inputs Capex'!$F$15","v":7.5},{"$f":"AZ101*BA101*BB101","v":477.3},null,null,null,{"$f":"'DNSP Inputs Capex'!$G$13","v":50.18},1,{"$f":"'DNSP Inputs Capex'!$G$15","v":7.5},{"$f":"BG101*BH101*BI101","v":376.35},null,null,{"$f":"'DNSP Inputs Capex'!$G$14","v":63.64},1,{"$f":"'DNSP Inputs Capex'!$G$15","v":7.5},{"$f":"BM101*BN101*BO101","v":477.3},null,null,{"$f":"'DNSP Inputs Capex'!$G$14","v":63.64},1,{"$f":"'DNSP Inputs Capex'!$G$15","v":7.5},{"$f":"BS101*BT101*BU101","v":477.3},null,null,null,{"$f":"'DNSP Inputs Capex'!$H$13","v":50.18},1,{"$f":"'DNSP Inputs Capex'!$H$15","v":7.5},{"$f":"BZ101*CA101*CB101","v":376.35},null,null,{"$f":"'DNSP Inputs Capex'!$H$14","v":63.64},1,{"$f":"'DNSP Inputs Capex'!$H$15","v":7.5},{"$f":"CF101*CG101*CH101","v":477.3},null,null,{"$f":"'DNSP Inputs Capex'!$H$14","v":63.64},1,{"$f":"'DNSP Inputs Capex'!$H$15","v":7.5},{"$f":"CL101*CM101*CN101","v":477.3}]
[{"$f":"'DNSP Inputs Capex'!A85","v":"Plant costs (including truck mounted crane & auger, and tipper truck)"},null,null,null,null,{"$f":"'DNSP Inputs Capex'!$D$85","v":387.05857996198068},null,null,null,null,null,{"$f":"'DNSP Inputs Capex'!$D$85","v":387.05857996198068},null,null,null,null,null,{"$f":"'DNSP Inputs Capex'!$D$85","v":387.05857996198068},null,null,null,null,null,null,{"$f":"'DNSP Inputs Capex'!$E$85","v":387.05857996198068},null,null,null,null,null,{"$f":"'DNSP Inputs Capex'!$E$85","v":387.05857996198068},null,null,null,null,null,{"$f":"'DNSP Inputs Capex'!$E$85","v":387.05857996198068},null,null,null,null,null,null,{"$f":"'DNSP Inputs Capex'!$F$85","v":387.05857996198068},null,null,null,null,null,{"$f":"'DNSP Inputs Capex'!$F$85","v":387.05857996198068},null,null,null,null,null,{"$f":"'DNSP Inputs Capex'!$F$85","v":387.05857996198068},null,null,null,null,null,null,{"$f":"'DNSP Inputs Capex'!$G$85","v":387.05857996198068},null,null,null,null,null,{"$f":"'DNSP Inputs Capex'!$G$85","v":387.05857996198068},null,null,null,null,null,{"$f":"'DNSP Inputs Capex'!$G$85","v":387.05857996198068},null,null,null,null,null,null,{"$f":"'DNSP Inputs Capex'!$H$85","v":387.05857996198068},null,null,null,null,null,{"$f":"'DNSP Inputs Capex'!$H$85","v":387.05857996198068},null,null,null,null,null,{"$f":"'DNSP Inputs Capex'!$H$85","v":387.05857996198068}]
[{"$f":"'DNSP Inputs Capex'!$A$69","v":"Other Capex unit costs Describe :………………………"},null,null,null,null,{"$f":"'DNSP Inputs Capex'!$D$86","v":20.530171694670301},null,null,null,null,null,{"$f":"'DNSP Inputs Capex'!$D$86","v":20.530171694670301},null,null,null,null,null,{"$f":"'DNSP Inputs Capex'!$D$86","v":20.530171694670301},null,null,null,null,null,null,{"$f":"'DNSP Inputs Capex'!$E$86","v":20.9657602949029},null,null,null,null,null,{"$f":"'DNSP Inputs Capex'!$E$86","v":20.9657602949029},null,null,null,null,null,{"$f":"'DNSP Inputs Capex'!$E$86","v":20.9657602949029},null,null,null,null,null,null,{"$f":"'DNSP Inputs Capex'!$F$86","v":21.401348895135499},null,null,null,null,null,{"$f":"'DNSP Inputs Capex'!$F$86","v":21.401348895135499},null,null,null,null,null,{"$f":"'DNSP Inputs Capex'!$F$86","v":21.401348895135499},null,null,null,null,null,null,{"$f":"'DNSP Inputs Capex'!$G$86","v":21.836937495368101},null,null,null,null,null,{"$f":"'DNSP Inputs Capex'!$G$86","v":21.836937495368101},null,null,null,null,null,{"$f":"'DNSP Inputs Capex'!$G$86","v":21.836937495368101},null,null,null,null,null,null,{"$f":"'DNSP Inputs Capex'!$H$86","v":22.2725260956007},null,null,null,null,null,{"$f":"'DNSP Inputs Capex'!$H$86","v":22.2725260956007},null,null,null,null,null,{"$f":"'DNSP Inputs Capex'!$H$86","v":22.2725260956007}]
[null,null,null,null,null,{"$f":"SUM(F99,F102,F103)","v":2560.52053272374},null,null,null,null,null,{"$f":"SUM(L99,L102,L103)","v":2646.9394096389638},null,null,null,null,null,{"$f":"SUM(R99,R102,R103)","v":2646.9394096389638},null,null,null,null,null,null,{"$f":"SUM(Y99,Y102,Y103)","v":{"$error":"#REF!"}},null,null,null,null,null,{"$f":"SUM(AE99,AE102,AE103)","v":{"$error":"#REF!"}},null,null,null,null,null,{"$f":"SUM(AK99,AK102,AK103)","v":{"$error":"#REF!"}},null,null,null,null,null,null,{"$f":"SUM(AR99,AR102,AR103)","v":{"$error":"#REF!"}},null,null,null,null,null,{"$f":"SUM(AX99,AX102,AX103)","v":{"$error":"#REF!"}},null,null,null,null,null,{"$f":"SUM(BD99,BD102,BD103)","v":{"$error":"#REF!"}},null,null,null,null,null,null,{"$f":"SUM(BK99,BK102,BK103)","v":{"$error":"#REF!"}},null,null,null,null,null,{"$f":"SUM(BQ99,BQ102,BQ103)","v":{"$error":"#REF!"}},null,null,null,null,null,{"$f":"SUM(BW99,BW102,BW103)","v":{"$error":"#REF!"}},null,null,null,null,null,null,{"$f":"SUM(CD99,CD102,CD103)","v":{"$error":"#REF!"}},null,null,null,null,null,{"$f":"SUM(CJ99,CJ102,CJ103)","v":{"$error":"#REF!"}},null,null,null,null,null,{"$f":"SUM(CP99,CP102,CP103)","v":{"$error":"#REF!"}}]
[]
["Number of poles & brackets replaced",null,null,null,null,{"$f":"'DNSP Inputs Capex'!$D$90","v":598.73311242994885},null,null,null,null,null,{"$f":"'DNSP Inputs Capex'!$D$91","v":203.06238738354998},null,null,null,null,null,{"$f":"'DNSP Inputs Capex'!$D$92","v":15.489433285991614},null,null,null,null,null,null,{"$f":"'DNSP Inputs Capex'!$E$90","v":598.73311242994885},null,null,null,null,null,{"$f":"'DNSP Inputs Capex'!$E$91","v":203.06238738354998},null,null,null,null,null,{"$f":"'DNSP Inputs Capex'!$E$92","v":15.489433285991614},null,null,null,null,null,null,{"$f":"'DNSP Inputs Capex'!$F$90","v":598.73311242994885},null,null,null,null,null,{"$f":"'DNSP Inputs Capex'!$F$91","v":203.06238738354998},null,null,null,null,null,{"$f":"'DNSP Inputs Capex'!$F$92","v":15.489433285991614},null,null,null,null,null,null,{"$f":"'DNSP Inputs Capex'!$G$90","v":598.73311242994885},null,null,null,null,null,{"$f":"'DNSP Inputs Capex'!$G$91","v":203.06238738354998},null,null,null,null,null,{"$f":"'DNSP Inputs Capex'!$G$92","v":15.489433285991614},null,null,null,null,null,null,{"$f":"'DNSP Inputs Capex'!$H$90","v":598.73311242994885},null,null,null,null,null,{"$f":"'DNSP Inputs Capex'!$H$91","v":203.06238738354998},null,null,null,null,null,{"$f":"'DNSP Inputs Capex'!$H$92","v":15.489433285991614}]
[]
["Capex",null,null,null,null,{"$f":"F104*F106","v":1533068.4279984755},null,null,null,null,null,{"$f":"L104*L106","v":537493.83578089229},null,null,null,null,null,{"$f":"R104*R106","v":40999.591397664757},null,null,null,null,null,null,{"$f":"Y104*Y106","v":{"$error":"#REF!"}},null,null,null,null,null,{"$f":"AE104*AE106","v":{"$error":"#REF!"}},null,null,null,null,null,{"$f":"AK104*AK106","v":{"$error":"#REF!"}},null,null,null,null,null,null,{"$f":"AR104*AR106","v":{"$error":"#REF!"}},null,null,null,null,null,{"$f":"AX104*AX106","v":{"$error":"#REF!"}},null,null,null,null,null,{"$f":"BD104*BD106","v":{"$error":"#REF!"}},null,null,null,null,null,null,{"$f":"BK104*BK106","v":{"$error":"#REF!"}},null,null,null,null,null,{"$f":"BQ104*BQ106","v":{"$error":"#REF!"}},null,null,null,null,null,{"$f":"BW104*BW106","v":{"$error":"#REF!"}},null,null,null,null,null,null,{"$f":"CD104*CD106","v":{"$error":"#REF!"}},null,null,null,null,null,{"$f":"CJ104*CJ106","v":{"$error":"#REF!"}},null,null,null,null,null,{"$f":"CP104*CP106","v":{"$error":"#REF!"}}]
[]
[]
["Brackets"]
["Material",{"$f":"'DNSP Inputs Capex'!$D$83","v":48.364296883852695},{"$f":"'DNSP Inputs Capex'!$D$84","v":20},null,{"$f":"C112*B112","v":967.28593767705388},{"$f":"(E112+E113+E114)/C112","v":150.70347116011388},null,{"$f":"'DNSP Inputs Capex'!$D$83*(1+'DNSP Inputs Capex'!$D$11)","v":50.782511728045336},{"$f":"'DNSP Inputs Capex'!$D$84","v":20},null,{"$f":"I112*H112","v":1015.6502345609067},{"$f":"(K112+K113+K114)/I112","v":158.16918600430651},null,{"$f":"'DNSP Inputs Capex'!$D$83*(1+'DNSP Inputs Capex'!$D$11)","v":50.782511728045336},{"$f":"'DNSP Inputs Capex'!$D$84","v":20},null,{"$f":"O112*N112","v":1015.6502345609067},{"$f":"(Q112+Q113+Q114)/O112","v":158.16918600430651},null,null,{"$f":"'DNSP Inputs Capex'!$E$83","v":48.364296883852695},{"$f":"'DNSP Inputs Capex'!$E$84","v":20},null,{"$f":"V112*U112","v":967.28593767705388},{"$f":"(X112+X113+X114)/V112","v":{"$error":"#REF!"}},null,{"$f":"'DNSP Inputs Capex'!$E$83*(1+'DNSP Inputs Capex'!$E$11)","v":50.782511728045336},{"$f":"'DNSP Inputs Capex'!$E$84","v":20},null,{"$f":"AB112*AA112","v":1015.6502345609067},{"$f":"(AD112+AD113+AD114)/AB112","v":{"$error":"#REF!"}},null,{"$f":"'DNSP Inputs Capex'!$E$83*(1+'DNSP Inputs Capex'!$E$11)","v":50.782511728045336},{"$f":"'DNSP Inputs Capex'!$E$84","v":20},null,{"$f":"AH112*AG112","v":1015.6502345609067},{"$f":"(AJ112+AJ113+AJ114)/AH112","v":{"$error":"#REF!"}},null,null,{"$f":"'DNSP Inputs Capex'!$F$83","v":48.364296883852695},{"$f":"'DNSP Inputs Capex'!$F$84","v":20},null,{"$f":"AO112*AN112","v":967.28593767705388},{"$f":"(AQ112+AQ113+AQ114)/AO112","v":{"$error":"#REF!"}},null,{"$f":"'DNSP Inputs Capex'!$F$83*(1+'DNSP Inputs Capex'!$F$11)","v":50.782511728045336},{"$f":"'DNSP Inputs Capex'!$F$84","v":20},null,{"$f":"AU112*AT112","v":1015.6502345609067},{"$f":"(AW112+AW113+AW114)/AU112","v":{"$error":"#REF!"}},null,{"$f":"'DNSP Inputs Capex'!$F$83*(1+'DNSP Inputs Capex'!$F$11)","v":50.782511728045336},{"$f":"'DNSP Inputs Capex'!$F$84","v":20},null,{"$f":"BA112*AZ112","v":1015.6502345609067},{"$f":"(BC112+BC113+BC114)/BA112","v":{"$error":"#REF!"}},null,null,{"$f":"'DNSP Inputs Capex'!$G$83","v":48.364296883852695},{"$f":"'DNSP Inputs Capex'!$G$84","v":20},null,{"$f":"BH112*BG112","v":967.28593767705388},{"$f":"(BJ112+BJ113+BJ114)/BH112","v":{"$error":"#REF!"}},null,{"$f":"'DNSP Inputs Capex'!$G$83*(1+'DNSP Inputs Capex'!$G$11)","v":50.782511728045336},{"$f":"'DNSP Inputs Capex'!$G$84","v":20},null,{"$f":"BN112*BM112","v":1015.6502345609067},{"$f":"(BP112+BP113+BP114)/BN112","v":{"$error":"#REF!"}},null,{"$f":"'DNSP Inputs Capex'!$G$83*(1+'DNSP Inputs Capex'!$G$11)","v":50.782511728045336},{"$f":"'DNSP Inputs Capex'!$G$84","v":20},null,{"$f":"BT112*BS112","v":1015.6502345609067},{"$f":"(BV112+BV113+BV114)/BT112","v":{"$error":"#REF!"}},null,null,{"$f":"'DNSP Inputs Capex'!$H$83","v":48.364296883852695},{"$f":"'DNSP Inputs Capex'!$H$84","v":20},null,{"$f":"CA112*BZ112","v":967.28593767705388},{"$f":"(CC112+CC113+CC114)/CA112","v":{"$error":"#REF!"}},null,{"$f":"'DNSP Inputs Capex'!$H$83*(1+'DNSP Inputs Capex'!$H$11)","v":50.782511728045336},{"$f":"'DNSP Inputs Capex'!$H$84","v":20},null,{"$f":"CG112*CF112","v":1015.6502345609067},{"$f":"(CI112+CI113+CI114)/CG112","v":{"$error":"#REF!"}},null,{"$f":"'DNSP Inputs Capex'!$H$83*(1+'DNSP Inputs Capex'!$H$11)","v":50.782511728045336},{"$f":"'DNSP Inputs Capex'!$H$84","v":20},null,{"$f":"CM112*CL112","v":1015.6502345609067},{"$f":"(CO112+CO113+CO114)/CM112","v":{"$error":"#REF!"}}]
["Crew costs",{"$f":"'DNSP Inputs Capex'!$D$12","v":111.36223236834823},{"$f":"'DNSP Inputs Capex'!$D$23","v":2},{"$f":"'DNSP Inputs Capex'!$D$15","v":7.5},{"$f":"B113*C113*D113","v":1670.4334855252234},null,null,{"$f":"'DNSP Inputs Capex'!$D$12","v":111.36223236834823},{"$f":"'DNSP Inputs Capex'!$D$23","v":2},{"$f":"'DNSP Inputs Capex'!$D$15","v":7.5},{"$f":"H113*I113*J113","v":1670.4334855252234},null,null,{"$f":"'DNSP Inputs Capex'!$D$12","v":111.36223236834823},{"$f":"'DNSP Inputs Capex'!$D$23","v":2},{"$f":"'DNSP Inputs Capex'!$D$15","v":7.5},{"$f":"N113*O113*P113","v":1670.4334855252234},null,null,null,{"$f":"'DNSP Inputs Capex'!$E$12","v":{"$error":"#REF!"}},{"$f":"'DNSP Inputs Capex'!$E$23","v":2},{"$f":"'DNSP Inputs Capex'!$E$15","v":7.5},{"$f":"U113*V113*W113","v":{"$error":"#REF!"}},null,null,{"$f":"'DNSP Inputs Capex'!$E$12","v":{"$error":"#REF!"}},{"$f":"'DNSP Inputs Capex'!$E$23","v":2},{"$f":"'DNSP Inputs Capex'!$E$15","v":7.5},{"$f":"AA113*AB113*AC113","v":{"$error":"#REF!"}},null,null,{"$f":"'DNSP Inputs Capex'!$E$12","v":{"$error":"#REF!"}},{"$f":"'DNSP Inputs Capex'!$E$23","v":2},{"$f":"'DNSP Inputs Capex'!$E$15","v":7.5},{"$f":"AG113*AH113*AI113","v":{"$error":"#REF!"}},null,null,null,{"$f":"'DNSP Inputs Capex'!$F$12","v":{"$error":"#REF!"}},{"$f":"'DNSP Inputs Capex'!$F$23","v":2},{"$f":"'DNSP Inputs Capex'!$F$15","v":7.5},{"$f":"AN113*AO113*AP113","v":{"$error":"#REF!"}},null,null,{"$f":"'DNSP Inputs Capex'!$F$12","v":{"$error":"#REF!"}},{"$f":"'DNSP Inputs Capex'!$F$23","v":2},{"$f":"'DNSP Inputs Capex'!$F$15","v":7.5},{"$f":"AT113*AU113*AV113","v":{"$error":"#REF!"}},null,null,{"$f":"'DNSP Inputs Capex'!$F$12","v":{"$error":"#REF!"}},{"$f":"'DNSP Inputs Capex'!$F$23","v":2},{"$f":"'DNSP Inputs Capex'!$F$15","v":7.5},{"$f":"AZ113*BA113*BB113","v":{"$error":"#REF!"}},null,null,null,{"$f":"'DNSP Inputs Capex'!$G$12","v":{"$error":"#REF!"}},{"$f":"'DNSP Inputs Capex'!$G$23","v":2},{"$f":"'DNSP Inputs Capex'!$G$15","v":7.5},{"$f":"BG113*BH113*BI113","v":{"$error":"#REF!"}},null,null,{"$f":"'DNSP Inputs Capex'!$G$12","v":{"$error":"#REF!"}},{"$f":"'DNSP Inputs Capex'!$G$23","v":2},{"$f":"'DNSP Inputs Capex'!$G$15","v":7.5},{"$f":"BM113*BN113*BO113","v":{"$error":"#REF!"}},null,null,{"$f":"'DNSP Inputs Capex'!$G$12","v":{"$error":"#REF!"}},{"$f":"'DNSP Inputs Capex'!$G$23","v":2},{"$f":"'DNSP Inputs Capex'!$G$15","v":7.5},{"$f":"BS113*BT113*BU113","v":{"$error":"#REF!"}},null,null,null,{"$f":"'DNSP Inputs Capex'!$H$12","v":{"$error":"#REF!"}},{"$f":"'DNSP Inputs Capex'!$H$23","v":2},{"$f":"'DNSP Inputs Capex'!$H$15","v":7.5},{"$f":"BZ113*CA113*CB113","v":{"$error":"#REF!"}},null,null,{"$f":"'DNSP Inputs Capex'!$H$12","v":{"$error":"#REF!"}},{"$f":"'DNSP Inputs Capex'!$H$23","v":2},{"$f":"'DNSP Inputs Capex'!$H$15","v":7.5},{"$f":"CF113*CG113*CH113","v":{"$error":"#REF!"}},null,null,{"$f":"'DNSP Inputs Capex'!$H$12","v":{"$error":"#REF!"}},{"$f":"'DNSP Inputs Capex'!$H$23","v":2},{"$f":"'DNSP Inputs Capex'!$H$15","v":7.5},{"$f":"CL113*CM113*CN113","v":{"$error":"#REF!"}}]
["Elevated platform costs",{"$f":"'DNSP Inputs Capex'!$D$13","v":50.18},1,{"$f":"'DNSP Inputs Capex'!$D$15","v":7.5},{"$f":"B114*C114*D114","v":376.35},null,null,{"$f":"'DNSP Inputs Capex'!$D$14","v":63.64},1,{"$f":"'DNSP Inputs Capex'!$D$15","v":7.5},{"$f":"H114*I114*J114","v":477.3},null,null,{"$f":"'DNSP Inputs Capex'!$D$14","v":63.64},1,{"$f":"'DNSP Inputs Capex'!$D$15","v":7.5},{"$f":"N114*O114*P114","v":477.3},null,null,null,{"$f":"'DNSP Inputs Capex'!$E$13","v":50.18},1,{"$f":"'DNSP Inputs Capex'!$E$15","v":7.5},{"$f":"U114*V114*W114","v":376.35},null,null,{"$f":"'DNSP Inputs Capex'!$E$14","v":63.64},1,{"$f":"'DNSP Inputs Capex'!$E$15","v":7.5},{"$f":"AA114*AB114*AC114","v":477.3},null,null,{"$f":"'DNSP Inputs Capex'!$E$14","v":63.64},1,{"$f":"'DNSP Inputs Capex'!$E$15","v":7.5},{"$f":"AG114*AH114*AI114","v":477.3},null,null,null,{"$f":"'DNSP Inputs Capex'!$F$13","v":50.18},1,{"$f":"'DNSP Inputs Capex'!$F$15","v":7.5},{"$f":"AN114*AO114*AP114","v":376.35},null,null,{"$f":"'DNSP Inputs Capex'!$F$14","v":63.64},1,{"$f":"'DNSP Inputs Capex'!$F$15","v":7.5},{"$f":"AT114*AU114*AV114","v":477.3},null,null,{"$f":"'DNSP Inputs Capex'!$F$14","v":63.64},1,{"$f":"'DNSP Inputs Capex'!$F$15","v":7.5},{"$f":"AZ114*BA114*BB114","v":477.3},null,null,null,{"$f":"'DNSP Inputs Capex'!$G$13","v":50.18},1,{"$f":"'DNSP Inputs Capex'!$G$15","v":7.5},{"$f":"BG114*BH114*BI114","v":376.35},null,null,{"$f":"'DNSP Inputs Capex'!$G$14","v":63.64},1,{"$f":"'DNSP Inputs Capex'!$G$15","v":7.5},{"$f":"BM114*BN114*BO114","v":477.3},null,null,{"$f":"'DNSP Inputs Capex'!$G$14","v":63.64},1,{"$f":"'DNSP Inputs Capex'!$G$15","v":7.5},{"$f":"BS114*BT114*BU114","v":477.3},null,null,null,{"$f":"'DNSP Inputs Capex'!$H$13","v":50.18},1,{"$f":"'DNSP Inputs Capex'!$H$15","v":7.5},{"$f":"BZ114*CA114*CB114","v":376.35},null,null,{"$f":"'DNSP Inputs Capex'!$H$14","v":63.64},1,{"$f":"'DNSP Inputs Capex'!$H$15","v":7.5},{"$f":"CF114*CG114*CH114","v":477.3},null,null,{"$f":"'DNSP Inputs Capex'!$H$14","v":63.64},1,{"$f":"'DNSP Inputs Capex'!$H$15","v":7.5},{"$f":"CL114*CM114*CN114","v":477.3}]
[]
["Number of brackets replaced",null,null,null,null,{"$f":"'DNSP Inputs Capex'!$D$95","v":970.79642797264523},null,null,null,null,null,{"$f":"'DNSP Inputs Capex'!$D$96","v":327.85222323621383},null,null,null,null,null,{"$f":"'DNSP Inputs Capex'!$D$97","v":24.956389678402683},null,null,null,null,null,null,{"$f":"'DNSP Inputs Capex'!$E$95","v":970.79642797264523},null,null,null,null,null,{"$f":"'DNSP Inputs Capex'!$E$96","v":327.85222323621383},null,null,null,null,null,{"$f":"'DNSP Inputs Capex'!$E$97","v":24.956389678402683},null,null,null,null,null,null,{"$f":"'DNSP Inputs Capex'!$F$95","v":970.79642797264523},null,null,null,null,null,{"$f":"'DNSP Inputs Capex'!$F$96","v":327.85222323621383},null,null,null,null,null,{"$f":"'DNSP Inputs Capex'!$F$97","v":24.956389678402683},null,null,null,null,null,null,{"$f":"'DNSP Inputs Capex'!$G$95","v":970.79642797264523},null,null,null,null,null,{"$f":"'DNSP Inputs Capex'!$G$96","v":327.85222323621383},null,null,null,null,null,{"$f":"'DNSP Inputs Capex'!$G$97","v":24.956389678402683},null,null,null,null,null,null,{"$f":"'DNSP Inputs Capex'!$H$95","v":970.79642797264523},null,null,null,null,null,{"$f":"'DNSP Inputs Capex'!$H$96","v":327.85222323621383},null,null,null,null,null,{"$f":"'DNSP Inputs Capex'!$H$97","v":24.956389678402683}]
[]
["Capex",null,null,null,null,{"$f":"F112*F116","v":146302.39148531712},null,null,null,null,null,{"$f":"L112*L116","v":51856.119278974125},null,null,null,null,null,{"$f":"R112*R116","v":3947.3318410392289},null,null,null,null,null,null,{"$f":"Y112*Y116","v":{"$error":"#REF!"}},null,null,null,null,null,{"$f":"AE112*AE116","v":{"$error":"#REF!"}},null,null,null,null,null,{"$f":"AK112*AK116","v":{"$error":"#REF!"}},null,null,null,null,null,null,{"$f":"AR112*AR116","v":{"$error":"#REF!"}},null,null,null,null,null,{"$f":"AX112*AX116","v":{"$error":"#REF!"}},null,null,null,null,null,{"$f":"BD112*BD116","v":{"$error":"#REF!"}},null,null,null,null,null,null,{"$f":"BK112*BK116","v":{"$error":"#REF!"}},null,null,null,null,null,{"$f":"BQ112*BQ116","v":{"$error":"#REF!"}},null,null,null,null,null,{"$f":"BW112*BW116","v":{"$error":"#REF!"}},null,null,null,null,null,null,{"$f":"CD112*CD116","v":{"$error":"#REF!"}},null,null,null,null,null,{"$f":"CJ112*CJ116","v":{"$error":"#REF!"}},null,null,null,null,null,{"$f":"CP112*CP116","v":{"$error":"#REF!"}}]
[]
[" "]
[]
["T5 (2 X 14W)"]
["Luminaires "]
["Material & misc",{"$f":"'DNSP Inputs Capex'!$D$109+'DNSP Inputs Capex'!$D$110","v":261.62764567069206},{"$f":"'DNSP Inputs Capex'!$D$112","v":16},null,{"$f":"B124*C124","v":4186.042330731073},{"$f":"IFERROR((E124+E125+E126)/C124,0)","v":389.55161351601856},null,{"$f":"('DNSP Inputs Capex'!$D$109+'DNSP Inputs Capex'!$D$110)*(1+'DNSP Inputs Capex'!$D$11)","v":274.70902795422666},{"$f":"'DNSP Inputs Capex'!$D$113","v":13},null,{"$f":"H124*I124","v":3571.2173634049464},{"$f":"IFERROR((K124+K125+K126)/I124,0)","v":439.91929607155151},null,{"$f":"('DNSP Inputs Capex'!$D$109+'DNSP Inputs Capex'!$D$110)*(1+'DNSP Inputs Capex'!$D$11)","v":274.70902795422666},{"$f":"'DNSP Inputs Capex'!$D$114","v":10},null,{"$f":"N124*O124","v":2747.0902795422667},{"$f":"IFERROR((Q124+Q125+Q126)/O124,0)","v":489.48237650674901},null,null,{"$f":"'DNSP Inputs Capex'!$E$109+'DNSP Inputs Capex'!$E$110","v":261.62764567069206},{"$f":"'DNSP Inputs Capex'!$E$112","v":16},null,{"$f":"U124*V124","v":4186.042330731073},{"$f":"IFERROR((X124+X125+X126)/V124,0)","v":0},null,{"$f":"('DNSP Inputs Capex'!$E$109+'DNSP Inputs Capex'!$E$110)*(1+'DNSP Inputs Capex'!$E$11)","v":274.70902795422666},{"$f":"'DNSP Inputs Capex'!$E$113","v":13},null,{"$f":"AA124*AB124","v":3571.2173634049464},{"$f":"IFERROR((AD124+AD125+AD126)/AB124,0)","v":0},null,{"$f":"('DNSP Inputs Capex'!$E$109+'DNSP Inputs Capex'!$E$110)*(1+'DNSP Inputs Capex'!$E$11)","v":274.70902795422666},{"$f":"'DNSP Inputs Capex'!$E$114","v":10},null,{"$f":"AG124*AH124","v":2747.0902795422667},{"$f":"IFERROR((AJ124+AJ125+AJ126)/AH124,0)","v":0},null,null,{"$f":"'DNSP Inputs Capex'!$F$109+'DNSP Inputs Capex'!$F$110","v":261.62764567069206},{"$f":"'DNSP Inputs Capex'!$F$112","v":16},null,{"$f":"AN124*AO124","v":4186.042330731073},{"$f":"IFERROR((AQ124+AQ125+AQ126)/AO124,0)","v":0},null,{"$f":"('DNSP Inputs Capex'!$F$109+'DNSP Inputs Capex'!$F$110)*(1+'DNSP Inputs Capex'!$F$11)","v":274.70902795422666},{"$f":"'DNSP Inputs Capex'!$F$113","v":13},null,{"$f":"AT124*AU124","v":3571.2173634049464},{"$f":"IFERROR((AW124+AW125+AW126)/AU124,0)","v":0},null,{"$f":"('DNSP Inputs Capex'!$F$109+'DNSP Inputs Capex'!$F$110)*(1+'DNSP Inputs Capex'!$F$11)","v":274.70902795422666},{"$f":"'DNSP Inputs Capex'!$F$114","v":10},null,{"$f":"AZ124*BA124","v":2747.0902795422667},{"$f":"IFERROR((BC124+BC125+BC126)/BA124,0)","v":0},null,null,{"$f":"'DNSP Inputs Capex'!$G$109+'DNSP Inputs Capex'!$G$110","v":261.62764567069206},{"$f":"'DNSP Inputs Capex'!$G$112","v":16},null,{"$f":"BG124*BH124","v":4186.042330731073},{"$f":"IFERROR((BJ124+BJ125+BJ126)/BH124,0)","v":0},null,{"$f":"('DNSP Inputs Capex'!$G$109+'DNSP Inputs Capex'!$G$110)*(1+'DNSP Inputs Capex'!$G$11)","v":274.70902795422666},{"$f":"'DNSP Inputs Capex'!$G$113","v":13},null,{"$f":"BM124*BN124","v":3571.2173634049464},{"$f":"IFERROR((BP124+BP125+BP126)/BN124,0)","v":0},null,{"$f":"('DNSP Inputs Capex'!$G$109+'DNSP Inputs Capex'!$G$110)*(1+'DNSP Inputs Capex'!$G$11)","v":274.70902795422666},{"$f":"'DNSP Inputs Capex'!$G$114","v":10},null,{"$f":"BS124*BT124","v":2747.0902795422667},{"$f":"IFERROR((BV124+BV125+BV126)/BT124,0)","v":0},null,null,{"$f":"'DNSP Inputs Capex'!$H$109+'DNSP Inputs Capex'!$H$110","v":261.62764567069206},{"$f":"'DNSP Inputs Capex'!$H$112","v":16},null,{"$f":"BZ124*CA124","v":4186.042330731073},{"$f":"IFERROR((CC124+CC125+CC126)/CA124,0)","v":0},null,{"$f":"('DNSP Inputs Capex'!$H$109+'DNSP Inputs Capex'!$H$110)*(1+'DNSP Inputs Capex'!$H$11)","v":274.70902795422666},{"$f":"'DNSP Inputs Capex'!$H$113","v":13},null,{"$f":"CF124*CG124","v":3571.2173634049464},{"$f":"IFERROR((CI124+CI125+CI126)/CG124,0)","v":0},null,{"$f":"('DNSP Inputs Capex'!$H$109+'DNSP Inputs Capex'!$H$110)*(1+'DNSP Inputs Capex'!$H$11)","v":274.70902795422666},{"$f":"'DNSP Inputs Capex'!$H$114","v":10},null,{"$f":"CL124*CM124","v":2747.0902795422667},{"$f":"IFERROR((CO124+CO125+CO126)/CM124,0)","v":0}]
["Crew costs",{"$f":"'DNSP Inputs Capex'!$D$12","v":111.36223236834823},{"$f":"'DNSP Inputs Capex'!$D$111","v":2},{"$f":"'DNSP Inputs Capex'!$D$15","v":7.5},{"$f":"B125*C125*D125","v":1670.4334855252234},null,null,{"$f":"'DNSP Inputs Capex'!$D$12","v":111.36223236834823},{"$f":"'DNSP Inputs Capex'!$D$111","v":2},{"$f":"'DNSP Inputs Capex'!$D$15","v":7.5},{"$f":"H125*I125*J125","v":1670.4334855252234},null,null,{"$f":"'DNSP Inputs Capex'!$D$12","v":111.36223236834823},{"$f":"'DNSP Inputs Capex'!$D$111","v":2},{"$f":"'DNSP Inputs Capex'!$D$15","v":7.5},{"$f":"N125*O125*P125","v":1670.4334855252234},null,null,null,{"$f":"'DNSP Inputs Capex'!$E$12","v":{"$error":"#REF!"}},{"$f":"'DNSP Inputs Capex'!$E$111","v":2},{"$f":"'DNSP Inputs Capex'!$E$15","v":7.5},{"$f":"U125*V125*W125","v":{"$error":"#REF!"}},null,null,{"$f":"'DNSP Inputs Capex'!$E$12","v":{"$error":"#REF!"}},{"$f":"'DNSP Inputs Capex'!$E$111","v":2},{"$f":"'DNSP Inputs Capex'!$E$15","v":7.5},{"$f":"AA125*AB125*AC125","v":{"$error":"#REF!"}},null,null,{"$f":"'DNSP Inputs Capex'!$E$12","v":{"$error":"#REF!"}},{"$f":"'DNSP Inputs Capex'!$E$111","v":2},{"$f":"'DNSP Inputs Capex'!$E$15","v":7.5},{"$f":"AG125*AH125*AI125","v":{"$error":"#REF!"}},null,null,null,{"$f":"'DNSP Inputs Capex'!$F$12","v":{"$error":"#REF!"}},{"$f":"'DNSP Inputs Capex'!$F$111","v":2},{"$f":"'DNSP Inputs Capex'!$F$15","v":7.5},{"$f":"AN125*AO125*AP125","v":{"$error":"#REF!"}},null,null,{"$f":"'DNSP Inputs Capex'!$F$12","v":{"$error":"#REF!"}},{"$f":"'DNSP Inputs Capex'!$F$111","v":2},{"$f":"'DNSP Inputs Capex'!$F$15","v":7.5},{"$f":"AT125*AU125*AV125","v":{"$error":"#REF!"}},null,null,{"$f":"'DNSP Inputs Capex'!$F$12","v":{"$error":"#REF!"}},{"$f":"'DNSP Inputs Capex'!$F$111","v":2},{"$f":"'DNSP Inputs Capex'!$F$15","v":7.5},{"$f":"AZ125*BA125*BB125","v":{"$error":"#REF!"}},null,null,null,{"$f":"'DNSP Inputs Capex'!$G$12","v":{"$error":"#REF!"}},{"$f":"'DNSP Inputs Capex'!$G$111","v":2},{"$f":"'DNSP Inputs Capex'!$G$15","v":7.5},{"$f":"BG125*BH125*BI125","v":{"$error":"#REF!"}},null,null,{"$f":"'DNSP Inputs Capex'!$G$12","v":{"$error":"#REF!"}},{"$f":"'DNSP Inputs Capex'!$G$111","v":2},{"$f":"'DNSP Inputs Capex'!$G$15","v":7.5},{"$f":"BM125*BN125*BO125","v":{"$error":"#REF!"}},null,null,{"$f":"'DNSP Inputs Capex'!$G$12","v":{"$error":"#REF!"}},{"$f":"'DNSP Inputs Capex'!$G$111","v":2},{"$f":"'DNSP Inputs Capex'!$G$15","v":7.5},{"$f":"BS125*BT125*BU125","v":{"$error":"#REF!"}},null,null,null,{"$f":"'DNSP Inputs Capex'!$H$12","v":{"$error":"#REF!"}},{"$f":"'DNSP Inputs Capex'!$H$111","v":2},{"$f":"'DNSP Inputs Capex'!$H$15","v":7.5},{"$f":"BZ125*CA125*CB125","v":{"$error":"#REF!"}},null,null,{"$f":"'DNSP Inputs Capex'!$H$12","v":{"$error":"#REF!"}},{"$f":"'DNSP Inputs Capex'!$H$111","v":2},{"$f":"'DNSP Inputs Capex'!$H$15","v":7.5},{"$f":"CF125*CG125*CH125","v":{"$error":"#REF!"}},null,null,{"$f":"'DNSP Inputs Capex'!$H$12","v":{"$error":"#REF!"}},{"$f":"'DNSP Inputs Capex'!$H$111","v":2},{"$f":"'DNSP Inputs Capex'!$H$15","v":7.5},{"$f":"CL125*CM125*CN125","v":{"$error":"#REF!"}}]
["Elevated platform vehicle costs",{"$f":"'DNSP Inputs Capex'!$D$13","v":50.18},1,{"$f":"'DNSP Inputs Capex'!$D$15","v":7.5},{"$f":"B126*C126*D126","v":376.35},null,null,{"$f":"'DNSP Inputs Capex'!$D$14","v":63.64},1,{"$f":"'DNSP Inputs Capex'!$D$15","v":7.5},{"$f":"H126*I126*J126","v":477.3},null,null,{"$f":"'DNSP Inputs Capex'!$D$14","v":63.64},1,{"$f":"'DNSP Inputs Capex'!$D$15","v":7.5},{"$f":"N126*O126*P126","v":477.3},null,null,null,{"$f":"'DNSP Inputs Capex'!$E$13","v":50.18},1,{"$f":"'DNSP Inputs Capex'!$E$15","v":7.5},{"$f":"U126*V126*W126","v":376.35},null,null,{"$f":"'DNSP Inputs Capex'!$E$14","v":63.64},1,{"$f":"'DNSP Inputs Capex'!$E$15","v":7.5},{"$f":"AA126*AB126*AC126","v":477.3},null,null,{"$f":"'DNSP Inputs Capex'!$E$14","v":63.64},1,{"$f":"'DNSP Inputs Capex'!$E$15","v":7.5},{"$f":"AG126*AH126*AI126","v":477.3},null,null,null,{"$f":"'DNSP Inputs Capex'!$F$13","v":50.18},1,{"$f":"'DNSP Inputs Capex'!$F$15","v":7.5},{"$f":"AN126*AO126*AP126","v":376.35},null,null,{"$f":"'DNSP Inputs Capex'!$F$14","v":63.64},1,{"$f":"'DNSP Inputs Capex'!$F$15","v":7.5},{"$f":"AT126*AU126*AV126","v":477.3},null,null,{"$f":"'DNSP Inputs Capex'!$F$14","v":63.64},1,{"$f":"'DNSP Inputs Capex'!$F$15","v":7.5},{"$f":"AZ126*BA126*BB126","v":477.3},null,null,null,{"$f":"'DNSP Inputs Capex'!$G$13","v":50.18},1,{"$f":"'DNSP Inputs Capex'!$G$15","v":7.5},{"$f":"BG126*BH126*BI126","v":376.35},null,null,{"$f":"'DNSP Inputs Capex'!$G$14","v":63.64},1,{"$f":"'DNSP Inputs Capex'!$G$15","v":7.5},{"$f":"BM126*BN126*BO126","v":477.3},null,null,{"$f":"'DNSP Inputs Capex'!$G$14","v":63.64},1,{"$f":"'DNSP Inputs Capex'!$G$15","v":7.5},{"$f":"BS126*BT126*BU126","v":477.3},null,null,null,{"$f":"'DNSP Inputs Capex'!$H$13","v":50.18},1,{"$f":"'DNSP Inputs Capex'!$H$15","v":7.5},{"$f":"BZ126*CA126*CB126","v":376.35},null,null,{"$f":"'DNSP Inputs Capex'!$H$14","v":63.64},1,{"$f":"'DNSP Inputs Capex'!$H$15","v":7.5},{"$f":"CF126*CG126*CH126","v":477.3},null,null,{"$f":"'DNSP Inputs Capex'!$H$14","v":63.64},1,{"$f":"'DNSP Inputs Capex'!$H$15","v":7.5},{"$f":"CL126*CM126*CN126","v":477.3}]
[{"$f":"'DNSP Inputs Capex'!$A$28","v":"Other Capex unit costs Describe :………………………"},null,null,null,null,{"$f":"'DNSP Inputs Capex'!$D$116","v":0},null,null,null,null,null,{"$f":"'DNSP Inputs Capex'!$D$116","v":0},null,null,null,null,null,{"$f":"'DNSP Inputs Capex'!$D$116","v":0},null,null,null,null,null,null,{"$f":"'DNSP Inputs Capex'!$E$116","v":0},null,null,null,null,null,{"$f":"'DNSP Inputs Capex'!$E$116","v":0},null,null,null,null,null,{"$f":"'DNSP Inputs Capex'!$E$116","v":0},null,null,null,null,null,null,{"$f":"'DNSP Inputs Capex'!$F$116","v":0},null,null,null,null,null,{"$f":"'DNSP Inputs Capex'!$F$116","v":0},null,null,null,null,null,{"$f":"'DNSP Inputs Capex'!$F$116","v":0},null,null,null,null,null,null,{"$f":"'DNSP Inputs Capex'!$G$116","v":0},null,null,null,null,null,{"$f":"'DNSP Inputs Capex'!$G$116","v":0},null,null,null,null,null,{"$f":"'DNSP Inputs Capex'!$G$116","v":0},null,null,null,null,null,null,{"$f":"'DNSP Inputs Capex'!$H$116","v":0},null,null,null,null,null,{"$f":"'DNSP Inputs Capex'!$H$116","v":0},null,null,null,null,null,{"$f":"'DNSP Inputs Capex'!$H$116","v":0}]
[null,null,null,null,null,{"$f":"SUM(F124,F127)","v":389.55161351601856},null,null,null,null,null,{"$f":"SUM(L124,L127)","v":439.91929607155151},null,null,null,null,null,{"$f":"SUM(R124,R127)","v":489.48237650674901},null,null,null,null,null,null,{"$f":"SUM(Y124,Y127)","v":0},null,null,null,null,null,{"$f":"SUM(AE124,AE127)","v":0},null,null,null,null,null,{"$f":"SUM(AK124,AK127)","v":0},null,null,null,null,null,null,{"$f":"SUM(AR124,AR127)","v":0},null,null,null,null,null,{"$f":"SUM(AX124,AX127)","v":0},null,null,null,null,null,{"$f":"SUM(BD124,BD127)","v":0},null,null,null,null,null,null,{"$f":"SUM(BK124,BK127)","v":0},null,null,null,null,null,{"$f":"SUM(BQ124,BQ127)","v":0},null,null,null,null,null,{"$f":"SUM(BW124,BW127)","v":0},null,null,null,null,null,null,{"$f":"SUM(CD124,CD127)","v":0},null,null,null,null,null,{"$f":"SUM(CJ124,CJ127)","v":0},null,null,null,null,null,{"$f":"SUM(CP124,CP127)","v":0}]
[]
["Number of luminaires replaced",null,null,null,null,{"$f":"'DNSP Inputs Capex'!$D$119","v":332.31684954821867},null,null,null,null,null,{"$f":"'DNSP Inputs Capex'!$D$120","v":83.93658299992417},null,null,null,null,null,{"$f":"'DNSP Inputs Capex'!$D$121","v":16.290041644520521},null,null,null,null,null,null,{"$f":"'DNSP Inputs Capex'!$E$119","v":332.31684954821867},null,null,null,null,null,{"$f":"'DNSP Inputs Capex'!$E$120","v":83.93658299992417},null,null,null,null,null,{"$f":"'DNSP Inputs Capex'!$E$121","v":16.290041644520521},null,null,null,null,null,null,{"$f":"'DNSP Inputs Capex'!$F$119","v":332.31684954821867},null,null,null,null,null,{"$f":"'DNSP Inputs Capex'!$F$120","v":83.93658299992417},null,null,null,null,null,{"$f":"'DNSP Inputs Capex'!$F$121","v":16.290041644520521},null,null,null,null,null,null,{"$f":"'DNSP Inputs Capex'!$G$119","v":332.31684954821867},null,null,null,null,null,{"$f":"'DNSP Inputs Capex'!$G$120","v":83.93658299992417},null,null,null,null,null,{"$f":"'DNSP Inputs Capex'!$G$121","v":16.290041644520521},null,null,null,null,null,null,{"$f":"'DNSP Inputs Capex'!$H$119","v":332.31684954821867},null,null,null,null,null,{"$f":"'DNSP Inputs Capex'!$H$120","v":83.93658299992417},null,null,null,null,null,{"$f":"'DNSP Inputs Capex'!$H$121","v":16.290041644520521}]
[]
["Capex",null,null,null,null,{"$f":"F128*F130","v":129454.56494006857},null,null,null,null,null,{"$f":"L128*L130","v":36925.322507977995},null,null,null,null,null,{"$f":"R128*R130","v":7973.6882975538147},null,null,null,null,null,null,{"$f":"Y128*Y130","v":0},null,null,null,null,null,{"$f":"AE128*AE130","v":0},null,null,null,null,null,{"$f":"AK128*AK130","v":0},null,null,null,null,null,null,{"$f":"AR128*AR130","v":0},null,null,null,null,null,{"$f":"AX128*AX130","v":0},null,null,null,null,null,{"$f":"BD128*BD130","v":0},null,null,null,null,null,null,{"$f":"BK128*BK130","v":0},null,null,null,null,null,{"$f":"BQ128*BQ130","v":0},null,null,null,null,null,{"$f":"BW128*BW130","v":0},null,null,null,null,null,null,{"$f":"CD128*CD130","v":0},null,null,null,null,null,{"$f":"CJ128*CJ130","v":0},null,null,null,null,null,{"$f":"CP128*CP130","v":0}]
[]
[]
["T5 (2x24W)"]
["Luminaires "]
["Material & misc",{"$f":"'DNSP Inputs Capex'!$D$127+'DNSP Inputs Capex'!$D$128","v":268.67764567069207},{"$f":"'DNSP Inputs Capex'!$D$130","v":16},null,{"$f":"B137*C137","v":4298.8423307310732},{"$f":"IFERROR((E137+E138+E139)/C137,0)","v":396.60161351601857},null,{"$f":"('DNSP Inputs Capex'!$D$127+'DNSP Inputs Capex'!$D$128)*(1+'DNSP Inputs Capex'!$D$11)","v":282.11152795422669},{"$f":"'DNSP Inputs Capex'!$D$131","v":13},null,{"$f":"H137*I137","v":3667.4498634049469},{"$f":"IFERROR((K137+K138+K139)/I137,0)","v":447.3217960715516},null,{"$f":"('DNSP Inputs Capex'!$D$127+'DNSP Inputs Capex'!$D$128)*(1+'DNSP Inputs Capex'!$D$11)","v":282.11152795422669},{"$f":"'DNSP Inputs Capex'!$D$132","v":10},null,{"$f":"N137*O137","v":2821.1152795422668},{"$f":"IFERROR((Q137+Q138+Q139)/O137,0)","v":496.88487650674904},null,null,{"$f":"'DNSP Inputs Capex'!$E$127+'DNSP Inputs Capex'!$E$128","v":268.67764567069207},{"$f":"'DNSP Inputs Capex'!$E$130","v":16},null,{"$f":"U137*V137","v":4298.8423307310732},{"$f":"IFERROR((X137+X138+X139)/V137,0)","v":0},null,{"$f":"('DNSP Inputs Capex'!$E$127+'DNSP Inputs Capex'!$E$128)*(1+'DNSP Inputs Capex'!$E$11)","v":282.11152795422669},{"$f":"'DNSP Inputs Capex'!$E$131","v":13},null,{"$f":"AA137*AB137","v":3667.4498634049469},{"$f":"IFERROR((AD137+AD138+AD139)/AB137,0)","v":0},null,{"$f":"('DNSP Inputs Capex'!$E$127+'DNSP Inputs Capex'!$E$128)*(1+'DNSP Inputs Capex'!$E$11)","v":282.11152795422669},{"$f":"'DNSP Inputs Capex'!$E$132","v":10},null,{"$f":"AG137*AH137","v":2821.1152795422668},{"$f":"IFERROR((AJ137+AJ138+AJ139)/AH137,0)","v":0},null,null,{"$f":"'DNSP Inputs Capex'!$F$127+'DNSP Inputs Capex'!$F$128","v":268.67764567069207},{"$f":"'DNSP Inputs Capex'!$F$130","v":16},null,{"$f":"AN137*AO137","v":4298.8423307310732},{"$f":"IFERROR((AQ137+AQ138+AQ139)/AO137,0)","v":0},null,{"$f":"('DNSP Inputs Capex'!$F$127+'DNSP Inputs Capex'!$F$128)*(1+'DNSP Inputs Capex'!$F$11)","v":282.11152795422669},{"$f":"'DNSP Inputs Capex'!$F$131","v":13},null,{"$f":"AT137*AU137","v":3667.4498634049469},{"$f":"IFERROR((AW137+AW138+AW139)/AU137,0)","v":0},null,{"$f":"('DNSP Inputs Capex'!$F$127+'DNSP Inputs Capex'!$F$128)*(1+'DNSP Inputs Capex'!$F$11)","v":282.11152795422669},{"$f":"'DNSP Inputs Capex'!$F$132","v":10},null,{"$f":"AZ137*BA137","v":2821.1152795422668},{"$f":"IFERROR((BC137+BC138+BC139)/BA137,0)","v":0},null,null,{"$f":"'DNSP Inputs Capex'!$G$127+'DNSP Inputs Capex'!$G$128","v":268.67764567069207},{"$f":"'DNSP Inputs Capex'!$G$130","v":16},null,{"$f":"BG137*BH137","v":4298.8423307310732},{"$f":"IFERROR((BJ137+BJ138+BJ139)/BH137,0)","v":0},null,{"$f":"('DNSP Inputs Capex'!$G$127+'DNSP Inputs Capex'!$G$128)*(1+'DNSP Inputs Capex'!$G$11)","v":282.11152795422669},{"$f":"'DNSP Inputs Capex'!$G$131","v":13},null,{"$f":"BM137*BN137","v":3667.4498634049469},{"$f":"IFERROR((BP137+BP138+BP139)/BN137,0)","v":0},null,{"$f":"('DNSP Inputs Capex'!$G$127+'DNSP Inputs Capex'!$G$128)*(1+'DNSP Inputs Capex'!$G$11)","v":282.11152795422669},{"$f":"'DNSP Inputs Capex'!$G$132","v":10},null,{"$f":"BS137*BT137","v":2821.1152795422668},{"$f":"IFERROR((BV137+BV138+BV139)/BT137,0)","v":0},null,null,{"$f":"'DNSP Inputs Capex'!$H$127+'DNSP Inputs Capex'!$H$128","v":268.67764567069207},{"$f":"'DNSP Inputs Capex'!$H$130","v":16},null,{"$f":"BZ137*CA137","v":4298.8423307310732},{"$f":"IFERROR((CC137+CC138+CC139)/CA137,0)","v":0},null,{"$f":"('DNSP Inputs Capex'!$H$127+'DNSP Inputs Capex'!$H$128)*(1+'DNSP Inputs Capex'!$H$11)","v":282.11152795422669},{"$f":"'DNSP Inputs Capex'!$H$131","v":13},null,{"$f":"CF137*CG137","v":3667.4498634049469},{"$f":"IFERROR((CI137+CI138+CI139)/CG137,0)","v":0},null,{"$f":"('DNSP Inputs Capex'!$H$127+'DNSP Inputs Capex'!$H$128)*(1+'DNSP Inputs Capex'!$H$11)","v":282.11152795422669},{"$f":"'DNSP Inputs Capex'!$H$132","v":10},null,{"$f":"CL137*CM137","v":2821.1152795422668},{"$f":"IFERROR((CO137+CO138+CO139)/CM137,0)","v":0}]
["Crew costs",{"$f":"'DNSP Inputs Capex'!$D$12","v":111.36223236834823},{"$f":"'DNSP Inputs Capex'!$D$129","v":2},{"$f":"'DNSP Inputs Capex'!$D$15","v":7.5},{"$f":"B138*C138*D138","v":1670.4334855252234},null,null,{"$f":"'DNSP Inputs Capex'!$D$12","v":111.36223236834823},{"$f":"'DNSP Inputs Capex'!$D$129","v":2},{"$f":"'DNSP Inputs Capex'!$D$15","v":7.5},{"$f":"H138*I138*J138","v":1670.4334855252234},null,null,{"$f":"'DNSP Inputs Capex'!$D$12","v":111.36223236834823},{"$f":"'DNSP Inputs Capex'!$D$129","v":2},{"$f":"'DNSP Inputs Capex'!$D$15","v":7.5},{"$f":"N138*O138*P138","v":1670.4334855252234},null,null,null,{"$f":"'DNSP Inputs Capex'!$E$12","v":{"$error":"#REF!"}},{"$f":"'DNSP Inputs Capex'!$E$129","v":2},{"$f":"'DNSP Inputs Capex'!$E$15","v":7.5},{"$f":"U138*V138*W138","v":{"$error":"#REF!"}},null,null,{"$f":"'DNSP Inputs Capex'!$E$12","v":{"$error":"#REF!"}},{"$f":"'DNSP Inputs Capex'!$E$129","v":2},{"$f":"'DNSP Inputs Capex'!$E$15","v":7.5},{"$f":"AA138*AB138*AC138","v":{"$error":"#REF!"}},null,null,{"$f":"'DNSP Inputs Capex'!$E$12","v":{"$error":"#REF!"}},{"$f":"'DNSP Inputs Capex'!$E$129","v":2},{"$f":"'DNSP Inputs Capex'!$E$15","v":7.5},{"$f":"AG138*AH138*AI138","v":{"$error":"#REF!"}},null,null,null,{"$f":"'DNSP Inputs Capex'!$F$12","v":{"$error":"#REF!"}},{"$f":"'DNSP Inputs Capex'!$F$129","v":2},{"$f":"'DNSP Inputs Capex'!$F$15","v":7.5},{"$f":"AN138*AO138*AP138","v":{"$error":"#REF!"}},null,null,{"$f":"'DNSP Inputs Capex'!$F$12","v":{"$error":"#REF!"}},{"$f":"'DNSP Inputs Capex'!$F$129","v":2},{"$f":"'DNSP Inputs Capex'!$F$15","v":7.5},{"$f":"AT138*AU138*AV138","v":{"$error":"#REF!"}},null,null,{"$f":"'DNSP Inputs Capex'!$F$12","v":{"$error":"#REF!"}},{"$f":"'DNSP Inputs Capex'!$F$129","v":2},{"$f":"'DNSP Inputs Capex'!$F$15","v":7.5},{"$f":"AZ138*BA138*BB138","v":{"$error":"#REF!"}},null,null,null,{"$f":"'DNSP Inputs Capex'!$G$12","v":{"$error":"#REF!"}},{"$f":"'DNSP Inputs Capex'!$G$129","v":2},{"$f":"'DNSP Inputs Capex'!$G$15","v":7.5},{"$f":"BG138*BH138*BI138","v":{"$error":"#REF!"}},null,null,{"$f":"'DNSP Inputs Capex'!$G$12","v":{"$error":"#REF!"}},{"$f":"'DNSP Inputs Capex'!$G$129","v":2},{"$f":"'DNSP Inputs Capex'!$G$15","v":7.5},{"$f":"BM138*BN138*BO138","v":{"$error":"#REF!"}},null,null,{"$f":"'DNSP Inputs Capex'!$G$12","v":{"$error":"#REF!"}},{"$f":"'DNSP Inputs Capex'!$G$129","v":2},{"$f":"'DNSP Inputs Capex'!$G$15","v":7.5},{"$f":"BS138*BT138*BU138","v":{"$error":"#REF!"}},null,null,null,{"$f":"'DNSP Inputs Capex'!$H$12","v":{"$error":"#REF!"}},{"$f":"'DNSP Inputs Capex'!$H$129","v":2},{"$f":"'DNSP Inputs Capex'!$H$15","v":7.5},{"$f":"BZ138*CA138*CB138","v":{"$error":"#REF!"}},null,null,{"$f":"'DNSP Inputs Capex'!$H$12","v":{"$error":"#REF!"}},{"$f":"'DNSP Inputs Capex'!$H$129","v":2},{"$f":"'DNSP Inputs Capex'!$H$15","v":7.5},{"$f":"CF138*CG138*CH138","v":{"$error":"#REF!"}},null,null,{"$f":"'DNSP Inputs Capex'!$H$12","v":{"$error":"#REF!"}},{"$f":"'DNSP Inputs Capex'!$H$129","v":2},{"$f":"'DNSP Inputs Capex'!$H$15","v":7.5},{"$f":"CL138*CM138*CN138","v":{"$error":"#REF!"}}]
["Elevated platform vehicle costs",{"$f":"'DNSP Inputs Capex'!$D$13","v":50.18},1,{"$f":"'DNSP Inputs Capex'!$D$15","v":7.5},{"$f":"B139*C139*D139","v":376.35},null,null,{"$f":"'DNSP Inputs Capex'!$D$14","v":63.64},1,{"$f":"'DNSP Inputs Capex'!$D$15","v":7.5},{"$f":"H139*I139*J139","v":477.3},null,null,{"$f":"'DNSP Inputs Capex'!$D$14","v":63.64},1,{"$f":"'DNSP Inputs Capex'!$D$15","v":7.5},{"$f":"N139*O139*P139","v":477.3},null,null,null,{"$f":"'DNSP Inputs Capex'!$E$13","v":50.18},1,{"$f":"'DNSP Inputs Capex'!$E$15","v":7.5},{"$f":"U139*V139*W139","v":376.35},null,null,{"$f":"'DNSP Inputs Capex'!$E$14","v":63.64},1,{"$f":"'DNSP Inputs Capex'!$E$15","v":7.5},{"$f":"AA139*AB139*AC139","v":477.3},null,null,{"$f":"'DNSP Inputs Capex'!$E$14","v":63.64},1,{"$f":"'DNSP Inputs Capex'!$E$15","v":7.5},{"$f":"AG139*AH139*AI139","v":477.3},null,null,null,{"$f":"'DNSP Inputs Capex'!$F$13","v":50.18},1,{"$f":"'DNSP Inputs Capex'!$F$15","v":7.5},{"$f":"AN139*AO139*AP139","v":376.35},null,null,{"$f":"'DNSP Inputs Capex'!$F$14","v":63.64},1,{"$f":"'DNSP Inputs Capex'!$F$15","v":7.5},{"$f":"AT139*AU139*AV139","v":477.3},null,null,{"$f":"'DNSP Inputs Capex'!$F$14","v":63.64},1,{"$f":"'DNSP Inputs Capex'!$F$15","v":7.5},{"$f":"AZ139*BA139*BB139","v":477.3},null,null,null,{"$f":"'DNSP Inputs Capex'!$G$13","v":50.18},1,{"$f":"'DNSP Inputs Capex'!$G$15","v":7.5},{"$f":"BG139*BH139*BI139","v":376.35},null,null,{"$f":"'DNSP Inputs Capex'!$G$14","v":63.64},1,{"$f":"'DNSP Inputs Capex'!$G$15","v":7.5},{"$f":"BM139*BN139*BO139","v":477.3},null,null,{"$f":"'DNSP Inputs Capex'!$G$14","v":63.64},1,{"$f":"'DNSP Inputs Capex'!$G$15","v":7.5},{"$f":"BS139*BT139*BU139","v":477.3},null,null,null,{"$f":"'DNSP Inputs Capex'!$H$13","v":50.18},1,{"$f":"'DNSP Inputs Capex'!$H$15","v":7.5},{"$f":"BZ139*CA139*CB139","v":376.35},null,null,{"$f":"'DNSP Inputs Capex'!$H$14","v":63.64},1,{"$f":"'DNSP Inputs Capex'!$H$15","v":7.5},{"$f":"CF139*CG139*CH139","v":477.3},null,null,{"$f":"'DNSP Inputs Capex'!$H$14","v":63.64},1,{"$f":"'DNSP Inputs Capex'!$H$15","v":7.5},{"$f":"CL139*CM139*CN139","v":477.3}]
[{"$f":"'DNSP Inputs Capex'!$A$28","v":"Other Capex unit costs Describe :………………………"},null,null,null,null,{"$f":"'DNSP Inputs Capex'!$D$134","v":0},null,null,null,null,null,{"$f":"'DNSP Inputs Capex'!$D$134","v":0},null,null,null,null,null,{"$f":"'DNSP Inputs Capex'!$D$134","v":0},null,null,null,null,null,null,{"$f":"'DNSP Inputs Capex'!$E$134","v":0},null,null,null,null,null,{"$f":"'DNSP Inputs Capex'!$E$134","v":0},null,null,null,null,null,{"$f":"'DNSP Inputs Capex'!$E$134","v":0},null,null,null,null,null,null,{"$f":"'DNSP Inputs Capex'!$F$134","v":0},null,null,null,null,null,{"$f":"'DNSP Inputs Capex'!$F$134","v":0},null,null,null,null,null,{"$f":"'DNSP Inputs Capex'!$F$134","v":0},null,null,null,null,null,null,{"$f":"'DNSP Inputs Capex'!$G$134","v":0},null,null,null,null,null,{"$f":"'DNSP Inputs Capex'!$G$134","v":0},null,null,null,null,null,{"$f":"'DNSP Inputs Capex'!$G$134","v":0},null,null,null,null,null,null,{"$f":"'DNSP Inputs Capex'!$H$134","v":0},null,null,null,null,null,{"$f":"'DNSP Inputs Capex'!$H$134","v":0},null,null,null,null,null,{"$f":"'DNSP Inputs Capex'!$H$134","v":0}]
[null,null,null,null,null,{"$f":"SUM(F137,F140)","v":396.60161351601857},null,null,null,null,null,{"$f":"SUM(L137,L140)","v":447.3217960715516},null,null,null,null,null,{"$f":"SUM(R137,R140)","v":496.88487650674904},null,null,null,null,null,null,{"$f":"SUM(Y137,Y140)","v":0},null,null,null,null,null,{"$f":"SUM(AE137,AE140)","v":0},null,null,null,null,null,{"$f":"SUM(AK137,AK140)","v":0},null,null,null,null,null,null,{"$f":"SUM(AR137,AR140)","v":0},null,null,null,null,null,{"$f":"SUM(AX137,AX140)","v":0},null,null,null,null,null,{"$f":"SUM(BD137,BD140)","v":0},null,null,null,null,null,null,{"$f":"SUM(BK137,BK140)","v":0},null,null,null,null,null,{"$f":"SUM(BQ137,BQ140)","v":0},null,null,null,null,null,{"$f":"SUM(BW137,BW140)","v":0},null,null,null,null,null,null,{"$f":"SUM(CD137,CD140)","v":0},null,null,null,null,null,{"$f":"SUM(CJ137,CJ140)","v":0},null,null,null,null,null,{"$f":"SUM(CP137,CP140)","v":0}]
[]
["Number of luminaires replaced",null,null,null,null,{"$f":"'DNSP Inputs Capex'!$D$130","v":16},null,null,null,null,null,{"$f":"'DNSP Inputs Capex'!$D$131","v":13},null,null,null,null,null,{"$f":"'DNSP Inputs Capex'!$D$132","v":10},null,null,null,null,null,null,{"$f":"'DNSP Inputs Capex'!$E$130","v":16},null,null,null,null,null,{"$f":"'DNSP Inputs Capex'!$E$131","v":13},null,null,null,null,null,{"$f":"'DNSP Inputs Capex'!$E$132","v":10},null,null,null,null,null,null,{"$f":"'DNSP Inputs Capex'!$F$130","v":16},null,null,null,null,null,{"$f":"'DNSP Inputs Capex'!$F$131","v":13},null,null,null,null,null,{"$f":"'DNSP Inputs Capex'!$F$132","v":10},null,null,null,null,null,null,{"$f":"'DNSP Inputs Capex'!$G$130","v":16},null,null,null,null,null,{"$f":"'DNSP Inputs Capex'!$G$131","v":13},null,null,null,null,null,{"$f":"'DNSP Inputs Capex'!$G$132","v":10},null,null,null,null,null,null,{"$f":"'DNSP Inputs Capex'!$H$130","v":16},null,null,null,null,null,{"$f":"'DNSP Inputs Capex'!$H$131","v":13},null,null,null,null,null,{"$f":"'DNSP Inputs Capex'!$H$132","v":10}]
[]
["Capex",null,null,null,null,{"$f":"F141*F143","v":6345.6258162562972},null,null,null,null,null,{"$f":"L141*L143","v":5815.1833489301707},null,null,null,null,null,{"$f":"R141*R143","v":4968.8487650674906},null,null,null,null,null,null,{"$f":"Y141*Y143","v":0},null,null,null,null,null,{"$f":"AE141*AE143","v":0},null,null,null,null,null,{"$f":"AK141*AK143","v":0},null,null,null,null,null,null,{"$f":"AR141*AR143","v":0},null,null,null,null,null,{"$f":"AX141*AX143","v":0},null,null,null,null,null,{"$f":"BD141*BD143","v":0},null,null,null,null,null,null,{"$f":"BK141*BK143","v":0},null,null,null,null,null,{"$f":"BQ141*BQ143","v":0},null,null,null,null,null,{"$f":"BW141*BW143","v":0},null,null,null,null,null,null,{"$f":"CD141*CD143","v":0},null,null,null,null,null,{"$f":"CJ141*CJ143","v":0},null,null,null,null,null,{"$f":"CP141*CP143","v":0}]
[]
[]
["LED 18W"]
["Luminaires "]
["Material",{"$f":"'DNSP Inputs Capex'!$D$145","v":473.57303370786519},{"$f":"'DNSP Inputs Capex'!$D$147","v":16},null,{"$f":"B150*C150","v":7577.1685393258431},{"$f":"IFERROR((E150+E151+E152)/C150,0)","v":601.49700155319169},null,{"$f":"'DNSP Inputs Capex'!$D$145*(1+'DNSP Inputs Capex'!$D$11)","v":497.25168539325847},{"$f":"'DNSP Inputs Capex'!$D$148","v":13},null,{"$f":"H150*I150","v":6464.2719101123603},{"$f":"IFERROR((K150+K151+K152)/I150,0)","v":662.46195351058327},null,{"$f":"'DNSP Inputs Capex'!$D$145*(1+'DNSP Inputs Capex'!$D$11)","v":497.25168539325847},{"$f":"'DNSP Inputs Capex'!$D$149","v":10},null,{"$f":"N150*O150","v":4972.516853932585},{"$f":"IFERROR((Q150+Q151+Q152)/O150,0)","v":712.02503394578093},null,null,{"$f":"'DNSP Inputs Capex'!$E$145","v":473.57303370786519},{"$f":"'DNSP Inputs Capex'!$E$147","v":16},null,{"$f":"U150*V150","v":7577.1685393258431},{"$f":"IFERROR((X150+X151+X152)/V150,0)","v":0},null,{"$f":"'DNSP Inputs Capex'!$E$145*(1+'DNSP Inputs Capex'!$E$11)","v":497.25168539325847},{"$f":"'DNSP Inputs Capex'!$E$148","v":13},null,{"$f":"AA150*AB150","v":6464.2719101123603},{"$f":"IFERROR((AD150+AD151+AD152)/AB150,0)","v":0},null,{"$f":"'DNSP Inputs Capex'!$E$145*(1+'DNSP Inputs Capex'!$E$11)","v":497.25168539325847},{"$f":"'DNSP Inputs Capex'!$E$149","v":10},null,{"$f":"AG150*AH150","v":4972.516853932585},{"$f":"IFERROR((AJ150+AJ151+AJ152)/AH150,0)","v":0},null,null,{"$f":"'DNSP Inputs Capex'!$F$145","v":473.57303370786519},{"$f":"'DNSP Inputs Capex'!$F$147","v":16},null,{"$f":"AN150*AO150","v":7577.1685393258431},{"$f":"IFERROR((AQ150+AQ151+AQ152)/AO150,0)","v":0},null,{"$f":"'DNSP Inputs Capex'!$F$145*(1+'DNSP Inputs Capex'!$F$11)","v":497.25168539325847},{"$f":"'DNSP Inputs Capex'!$F$148","v":13},null,{"$f":"AT150*AU150","v":6464.2719101123603},{"$f":"IFERROR((AW150+AW151+AW152)/AU150,0)","v":0},null,{"$f":"'DNSP Inputs Capex'!$F$145*(1+'DNSP Inputs Capex'!$F$11)","v":497.25168539325847},{"$f":"'DNSP Inputs Capex'!$F$149","v":10},null,{"$f":"AZ150*BA150","v":4972.516853932585},{"$f":"IFERROR((BC150+BC151+BC152)/BA150,0)","v":0},null,null,{"$f":"'DNSP Inputs Capex'!$G$145","v":473.57303370786519},{"$f":"'DNSP Inputs Capex'!$G$147","v":16},null,{"$f":"BG150*BH150","v":7577.1685393258431},{"$f":"IFERROR((BJ150+BJ151+BJ152)/BH150,0)","v":0},null,{"$f":"'DNSP Inputs Capex'!$G$145*(1+'DNSP Inputs Capex'!$G$11)","v":497.25168539325847},{"$f":"'DNSP Inputs Capex'!$G$148","v":13},null,{"$f":"BM150*BN150","v":6464.2719101123603},{"$f":"IFERROR((BP150+BP151+BP152)/BN150,0)","v":0},null,{"$f":"'DNSP Inputs Capex'!$G$145*(1+'DNSP Inputs Capex'!$G$11)","v":497.25168539325847},{"$f":"'DNSP Inputs Capex'!$G$149","v":10},null,{"$f":"BS150*BT150","v":4972.516853932585},{"$f":"IFERROR((BV150+BV151+BV152)/BT150,0)","v":0},null,null,{"$f":"'DNSP Inputs Capex'!$H$145","v":473.57303370786519},{"$f":"'DNSP Inputs Capex'!$H$147","v":16},null,{"$f":"BZ150*CA150","v":7577.1685393258431},{"$f":"IFERROR((CC150+CC151+CC152)/CA150,0)","v":0},null,{"$f":"'DNSP Inputs Capex'!$H$145*(1+'DNSP Inputs Capex'!$H$11)","v":497.25168539325847},{"$f":"'DNSP Inputs Capex'!$H$148","v":13},null,{"$f":"CF150*CG150","v":6464.2719101123603},{"$f":"IFERROR((CI150+CI151+CI152)/CG150,0)","v":0},null,{"$f":"'DNSP Inputs Capex'!$H$145*(1+'DNSP Inputs Capex'!$H$11)","v":497.25168539325847},{"$f":"'DNSP Inputs Capex'!$H$149","v":10},null,{"$f":"CL150*CM150","v":4972.516853932585},{"$f":"IFERROR((CO150+CO151+CO152)/CM150,0)","v":0}]
["Crew costs",{"$f":"'DNSP Inputs Capex'!$D$12","v":111.36223236834823},{"$f":"'DNSP Inputs Capex'!$D$146","v":2},{"$f":"'DNSP Inputs Capex'!$D$15","v":7.5},{"$f":"D151*C151*B151","v":1670.4334855252234},null,null,{"$f":"'DNSP Inputs Capex'!$D$12","v":111.36223236834823},{"$f":"'DNSP Inputs Capex'!$D$146","v":2},{"$f":"'DNSP Inputs Capex'!$D$15","v":7.5},{"$f":"J151*I151*H151","v":1670.4334855252234},null,null,{"$f":"'DNSP Inputs Capex'!$D$12","v":111.36223236834823},{"$f":"'DNSP Inputs Capex'!$D$146","v":2},{"$f":"'DNSP Inputs Capex'!$D$15","v":7.5},{"$f":"P151*O151*N151","v":1670.4334855252234},null,null,null,{"$f":"'DNSP Inputs Capex'!$E$12","v":{"$error":"#REF!"}},{"$f":"'DNSP Inputs Capex'!$E$146","v":2},{"$f":"'DNSP Inputs Capex'!$E$15","v":7.5},{"$f":"W151*V151*U151","v":{"$error":"#REF!"}},null,null,{"$f":"'DNSP Inputs Capex'!$E$12","v":{"$error":"#REF!"}},{"$f":"'DNSP Inputs Capex'!$E$146","v":2},{"$f":"'DNSP Inputs Capex'!$E$15","v":7.5},{"$f":"AC151*AB151*AA151","v":{"$error":"#REF!"}},null,null,{"$f":"'DNSP Inputs Capex'!$E$12","v":{"$error":"#REF!"}},{"$f":"'DNSP Inputs Capex'!$E$146","v":2},{"$f":"'DNSP Inputs Capex'!$E$15","v":7.5},{"$f":"AI151*AH151*AG151","v":{"$error":"#REF!"}},null,null,null,{"$f":"'DNSP Inputs Capex'!$F$12","v":{"$error":"#REF!"}},{"$f":"'DNSP Inputs Capex'!$F$146","v":2},{"$f":"'DNSP Inputs Capex'!$F$15","v":7.5},{"$f":"AP151*AO151*AN151","v":{"$error":"#REF!"}},null,null,{"$f":"'DNSP Inputs Capex'!$F$12","v":{"$error":"#REF!"}},{"$f":"'DNSP Inputs Capex'!$F$146","v":2},{"$f":"'DNSP Inputs Capex'!$F$15","v":7.5},{"$f":"AV151*AU151*AT151","v":{"$error":"#REF!"}},null,null,{"$f":"'DNSP Inputs Capex'!$F$12","v":{"$error":"#REF!"}},{"$f":"'DNSP Inputs Capex'!$F$146","v":2},{"$f":"'DNSP Inputs Capex'!$F$15","v":7.5},{"$f":"BB151*BA151*AZ151","v":{"$error":"#REF!"}},null,null,null,{"$f":"'DNSP Inputs Capex'!$G$12","v":{"$error":"#REF!"}},{"$f":"'DNSP Inputs Capex'!$G$146","v":2},{"$f":"'DNSP Inputs Capex'!$G$15","v":7.5},{"$f":"BI151*BH151*BG151","v":{"$error":"#REF!"}},null,null,{"$f":"'DNSP Inputs Capex'!$G$12","v":{"$error":"#REF!"}},{"$f":"'DNSP Inputs Capex'!$G$146","v":2},{"$f":"'DNSP Inputs Capex'!$G$15","v":7.5},{"$f":"BO151*BN151*BM151","v":{"$error":"#REF!"}},null,null,{"$f":"'DNSP Inputs Capex'!$G$12","v":{"$error":"#REF!"}},{"$f":"'DNSP Inputs Capex'!$G$146","v":2},{"$f":"'DNSP Inputs Capex'!$G$15","v":7.5},{"$f":"BU151*BT151*BS151","v":{"$error":"#REF!"}},null,null,null,{"$f":"'DNSP Inputs Capex'!$H$12","v":{"$error":"#REF!"}},{"$f":"'DNSP Inputs Capex'!$H$146","v":2},{"$f":"'DNSP Inputs Capex'!$H$15","v":7.5},{"$f":"CB151*CA151*BZ151","v":{"$error":"#REF!"}},null,null,{"$f":"'DNSP Inputs Capex'!$H$12","v":{"$error":"#REF!"}},{"$f":"'DNSP Inputs Capex'!$H$146","v":2},{"$f":"'DNSP Inputs Capex'!$H$15","v":7.5},{"$f":"CH151*CG151*CF151","v":{"$error":"#REF!"}},null,null,{"$f":"'DNSP Inputs Capex'!$H$12","v":{"$error":"#REF!"}},{"$f":"'DNSP Inputs Capex'!$H$146","v":2},{"$f":"'DNSP Inputs Capex'!$H$15","v":7.5},{"$f":"CN151*CM151*CL151","v":{"$error":"#REF!"}}]
["Elevated platform vehicle costs",{"$f":"'DNSP Inputs Capex'!$D$13","v":50.18},1,{"$f":"'DNSP Inputs Capex'!$D$15","v":7.5},{"$f":"B152*C152*D152","v":376.35},null,null,{"$f":"'DNSP Inputs Capex'!$D$14","v":63.64},1,{"$f":"'DNSP Inputs Capex'!$D$15","v":7.5},{"$f":"H152*I152*J152","v":477.3},null,null,{"$f":"'DNSP Inputs Capex'!$D$14","v":63.64},1,{"$f":"'DNSP Inputs Capex'!$D$15","v":7.5},{"$f":"N152*O152*P152","v":477.3},null,null,null,{"$f":"'DNSP Inputs Capex'!$E$13","v":50.18},1,{"$f":"'DNSP Inputs Capex'!$E$15","v":7.5},{"$f":"U152*V152*W152","v":376.35},null,null,{"$f":"'DNSP Inputs Capex'!$E$14","v":63.64},1,{"$f":"'DNSP Inputs Capex'!$E$15","v":7.5},{"$f":"AA152*AB152*AC152","v":477.3},null,null,{"$f":"'DNSP Inputs Capex'!$E$14","v":63.64},1,{"$f":"'DNSP Inputs Capex'!$E$15","v":7.5},{"$f":"AG152*AH152*AI152","v":477.3},null,null,null,{"$f":"'DNSP Inputs Capex'!$F$13","v":50.18},1,{"$f":"'DNSP Inputs Capex'!$F$15","v":7.5},{"$f":"AN152*AO152*AP152","v":376.35},null,null,{"$f":"'DNSP Inputs Capex'!$F$14","v":63.64},1,{"$f":"'DNSP Inputs Capex'!$F$15","v":7.5},{"$f":"AT152*AU152*AV152","v":477.3},null,null,{"$f":"'DNSP Inputs Capex'!$F$14","v":63.64},1,{"$f":"'DNSP Inputs Capex'!$F$15","v":7.5},{"$f":"AZ152*BA152*BB152","v":477.3},null,null,null,{"$f":"'DNSP Inputs Capex'!$G$13","v":50.18},1,{"$f":"'DNSP Inputs Capex'!$G$15","v":7.5},{"$f":"BG152*BH152*BI152","v":376.35},null,null,{"$f":"'DNSP Inputs Capex'!$G$14","v":63.64},1,{"$f":"'DNSP Inputs Capex'!$G$15","v":7.5},{"$f":"BM152*BN152*BO152","v":477.3},null,null,{"$f":"'DNSP Inputs Capex'!$G$14","v":63.64},1,{"$f":"'DNSP Inputs Capex'!$G$15","v":7.5},{"$f":"BS152*BT152*BU152","v":477.3},null,null,null,{"$f":"'DNSP Inputs Capex'!$H$13","v":50.18},1,{"$f":"'DNSP Inputs Capex'!$H$15","v":7.5},{"$f":"BZ152*CA152*CB152","v":376.35},null,null,{"$f":"'DNSP Inputs Capex'!$H$14","v":63.64},1,{"$f":"'DNSP Inputs Capex'!$H$15","v":7.5},{"$f":"CF152*CG152*CH152","v":477.3},null,null,{"$f":"'DNSP Inputs Capex'!$H$14","v":63.64},1,{"$f":"'DNSP Inputs Capex'!$H$15","v":7.5},{"$f":"CL152*CM152*CN152","v":477.3}]
[{"$f":"'DNSP Inputs Capex'!$A$151","v":"Other Capex unit costs Describe :………………………"},null,null,null,null,{"$f":"'DNSP Inputs Capex'!$D$151","v":0},null,null,null,null,null,{"$f":"'DNSP Inputs Capex'!$D$151","v":0},null,null,null,null,null,{"$f":"'DNSP Inputs Capex'!$D$151","v":0},null,null,null,null,null,null,{"$f":"'DNSP Inputs Capex'!$E$151","v":0},null,null,null,null,null,{"$f":"'DNSP Inputs Capex'!$E$151","v":0},null,null,null,null,null,{"$f":"'DNSP Inputs Capex'!$E$151","v":0},null,null,null,null,null,null,{"$f":"'DNSP Inputs Capex'!$F$151","v":0},null,null,null,null,null,{"$f":"'DNSP Inputs Capex'!$F$151","v":0},null,null,null,null,null,{"$f":"'DNSP Inputs Capex'!$F$151","v":0},null,null,null,null,null,null,{"$f":"'DNSP Inputs Capex'!$G$151","v":0},null,null,null,null,null,{"$f":"'DNSP Inputs Capex'!$G$151","v":0},null,null,null,null,null,{"$f":"'DNSP Inputs Capex'!$G$151","v":0},null,null,null,null,null,null,{"$f":"'DNSP Inputs Capex'!$H$151","v":0},null,null,null,null,null,{"$f":"'DNSP Inputs Capex'!$H$151","v":0},null,null,null,null,null,{"$f":"'DNSP Inputs Capex'!$H$151","v":0}]
[null,null,null,null,null,{"$f":"SUM(F150,F153)","v":601.49700155319169},null,null,null,null,null,{"$f":"SUM(L150,L153)","v":662.46195351058327},null,null,null,null,null,{"$f":"SUM(R150,R153)","v":712.02503394578093},null,null,null,null,null,null,{"$f":"SUM(Y150,Y153)","v":0},null,null,null,null,null,{"$f":"SUM(AE150,AE153)","v":0},null,null,null,null,null,{"$f":"SUM(AK150,AK153)","v":0},null,null,null,null,null,null,{"$f":"SUM(AR150,AR153)","v":0},null,null,null,null,null,{"$f":"SUM(AX150,AX153)","v":0},null,null,null,null,null,{"$f":"SUM(BD150,BD153)","v":0},null,null,null,null,null,null,{"$f":"SUM(BK150,BK153)","v":0},null,null,null,null,null,{"$f":"SUM(BQ150,BQ153)","v":0},null,null,null,null,null,{"$f":"SUM(BW150,BW153)","v":0},null,null,null,null,null,null,{"$f":"SUM(CD150,CD153)","v":0},null,null,null,null,null,{"$f":"SUM(CJ150,CJ153)","v":0},null,null,null,null,null,{"$f":"SUM(CP150,CP153)","v":0}]
[]
["Number of luminaires replaced",null,null,null,null,{"$f":"'DNSP Inputs Capex'!$D$154","v":1962.1952268075418},null,null,null,null,null,{"$f":"'DNSP Inputs Capex'!$D$155","v":495.73313925151581},null,null,null,null,null,{"$f":"'DNSP Inputs Capex'!$D$156","v":96.209700161172606},null,null,null,null,null,null,{"$f":"'DNSP Inputs Capex'!$E$154","v":2205.3737689377645},null,null,null,null,null,{"$f":"'DNSP Inputs Capex'!$E$155","v":557.03326103975007},null,null,null,null,null,{"$f":"'DNSP Inputs Capex'!$E$156","v":108.10655730087079},null,null,null,null,null,null,{"$f":"'DNSP Inputs Capex'!$F$154","v":2157.1469454123749},null,null,null,null,null,{"$f":"'DNSP Inputs Capex'!$F$155","v":544.8521309491008},null,null,null,null,null,{"$f":"'DNSP Inputs Capex'!$F$156","v":105.74249732413601},null,null,null,null,null,null,{"$f":"'DNSP Inputs Capex'!$G$154","v":2109.2298686536346},null,null,null,null,null,{"$f":"'DNSP Inputs Capex'!$G$155","v":532.74923669037878},null,null,null,null,null,{"$f":"'DNSP Inputs Capex'!$G$156","v":103.39362101243307},null,null,null,null,null,null,{"$f":"'DNSP Inputs Capex'!$H$154","v":333.10175064029573},null,null,null,null,null,{"$f":"'DNSP Inputs Capex'!$H$155","v":84.134833301560775},null,null,null,null,null,{"$f":"'DNSP Inputs Capex'!$H$156","v":16.328517188249791}]
[]
["Capex",null,null,null,null,{"$f":"F154*F156","v":1180254.5453867214},null,null,null,null,null,{"$f":"L154*L156","v":328404.34384849318},null,null,null,null,null,{"$f":"R154*R156","v":68503.715023172335},null,null,null,null,null,null,{"$f":"Y154*Y156","v":0},null,null,null,null,null,{"$f":"AE154*AE156","v":0},null,null,null,null,null,{"$f":"AK154*AK156","v":0},null,null,null,null,null,null,{"$f":"AR154*AR156","v":0},null,null,null,null,null,{"$f":"AX154*AX156","v":0},null,null,null,null,null,{"$f":"BD154*BD156","v":0},null,null,null,null,null,null,{"$f":"BK154*BK156","v":0},null,null,null,null,null,{"$f":"BQ154*BQ156","v":0},null,null,null,null,null,{"$f":"BW154*BW156","v":0},null,null,null,null,null,null,{"$f":"CD154*CD156","v":0},null,null,null,null,null,{"$f":"CJ154*CJ156","v":0},null,null,null,null,null,{"$f":"CP154*CP156","v":0}]
[]
[]
[{"$f":"#REF!","v":{"$error":"#REF!"}}]
["Luminaires "]
["Material",{"$f":"'DNSP Inputs Capex'!$D$162","v":205},{"$f":"'DNSP Inputs Capex'!$D$164","v":16},null,{"$f":"B163*C163","v":3280},{"$f":"IFERROR((E163+E164+E165)/C163,0)","v":332.9239678453265},null,{"$f":"'DNSP Inputs Capex'!$D$162*(1+'DNSP Inputs Capex'!$D$11)","v":215.25},{"$f":"'DNSP Inputs Capex'!$D$165","v":13},null,{"$f":"H163*I163","v":2798.25},{"$f":"IFERROR((K163+K164+K165)/I163,0)","v":380.46026811732492},null,{"$f":"'DNSP Inputs Capex'!$D$162*(1+'DNSP Inputs Capex'!$D$11)","v":215.25},{"$f":"'DNSP Inputs Capex'!$D$166","v":10},null,{"$f":"N163*O163","v":2152.5},{"$f":"IFERROR((Q163+Q164+Q165)/O163,0)","v":430.02334855252241},null,null,{"$f":"'DNSP Inputs Capex'!$E$162","v":205},{"$f":"'DNSP Inputs Capex'!$E$164","v":16},null,{"$f":"U163*V163","v":3280},{"$f":"IFERROR((X163+X164+X165)/V163,0)","v":0},null,{"$f":"'DNSP Inputs Capex'!$E$162*(1+'DNSP Inputs Capex'!$E$11)","v":215.25},{"$f":"'DNSP Inputs Capex'!$E$165","v":13},null,{"$f":"AA163*AB163","v":2798.25},{"$f":"IFERROR((AD163+AD164+AD165)/AB163,0)","v":0},null,{"$f":"'DNSP Inputs Capex'!$E$162*(1+'DNSP Inputs Capex'!$E$11)","v":215.25},{"$f":"'DNSP Inputs Capex'!$E$166","v":10},null,{"$f":"AG163*AH163","v":2152.5},{"$f":"IFERROR((AJ163+AJ164+AJ165)/AH163,0)","v":0},null,null,{"$f":"'DNSP Inputs Capex'!$F$162","v":205},{"$f":"'DNSP Inputs Capex'!$F$164","v":16},null,{"$f":"AN163*AO163","v":3280},{"$f":"IFERROR((AQ163+AQ164+AQ165)/AO163,0)","v":0},null,{"$f":"'DNSP Inputs Capex'!$F$162*(1+'DNSP Inputs Capex'!$F$11)","v":215.25},{"$f":"'DNSP Inputs Capex'!$F$165","v":13},null,{"$f":"AT163*AU163","v":2798.25},{"$f":"IFERROR((AW163+AW164+AW165)/AU163,0)","v":0},null,{"$f":"'DNSP Inputs Capex'!$F$162*(1+'DNSP Inputs Capex'!$F$11)","v":215.25},{"$f":"'DNSP Inputs Capex'!$F$166","v":10},null,{"$f":"AZ163*BA163","v":2152.5},{"$f":"IFERROR((BC163+BC164+BC165)/BA163,0)","v":0},null,null,{"$f":"'DNSP Inputs Capex'!$G$162","v":205},{"$f":"'DNSP Inputs Capex'!$G$164","v":16},null,{"$f":"BG163*BH163","v":3280},{"$f":"IFERROR((BJ163+BJ164+BJ165)/BH163,0)","v":0},null,{"$f":"'DNSP Inputs Capex'!$G$162*(1+'DNSP Inputs Capex'!$G$11)","v":215.25},{"$f":"'DNSP Inputs Capex'!$G$165","v":13},null,{"$f":"BM163*BN163","v":2798.25},{"$f":"IFERROR((BP163+BP164+BP165)/BN163,0)","v":0},null,{"$f":"'DNSP Inputs Capex'!$G$162*(1+'DNSP Inputs Capex'!$G$11)","v":215.25},{"$f":"'DNSP Inputs Capex'!$G$166","v":10},null,{"$f":"BS163*BT163","v":2152.5},{"$f":"IFERROR((BV163+BV164+BV165)/BT163,0)","v":0},null,null,{"$f":"'DNSP Inputs Capex'!$H$162","v":205},{"$f":"'DNSP Inputs Capex'!$H$164","v":16},null,{"$f":"BZ163*CA163","v":3280},{"$f":"IFERROR((CC163+CC164+CC165)/CA163,0)","v":0},null,{"$f":"'DNSP Inputs Capex'!$H$162*(1+'DNSP Inputs Capex'!$H$11)","v":215.25},{"$f":"'DNSP Inputs Capex'!$H$165","v":13},null,{"$f":"CF163*CG163","v":2798.25},{"$f":"IFERROR((CI163+CI164+CI165)/CG163,0)","v":0},null,{"$f":"'DNSP Inputs Capex'!$H$162*(1+'DNSP Inputs Capex'!$H$11)","v":215.25},{"$f":"'DNSP Inputs Capex'!$H$166","v":10},null,{"$f":"CL163*CM163","v":2152.5},{"$f":"IFERROR((CO163+CO164+CO165)/CM163,0)","v":0}]
["Crew costs",{"$f":"'DNSP Inputs Capex'!$D$12","v":111.36223236834823},{"$f":"'DNSP Inputs Capex'!$D$163","v":2},{"$f":"'DNSP Inputs Capex'!$D$15","v":7.5},{"$f":"D164*C164*B164","v":1670.4334855252234},null,null,{"$f":"'DNSP Inputs Capex'!$D$12","v":111.36223236834823},{"$f":"'DNSP Inputs Capex'!$D$163","v":2},{"$f":"'DNSP Inputs Capex'!$D$15","v":7.5},{"$f":"J164*I164*H164","v":1670.4334855252234},null,null,{"$f":"'DNSP Inputs Capex'!$D$12","v":111.36223236834823},{"$f":"'DNSP Inputs Capex'!$D$163","v":2},{"$f":"'DNSP Inputs Capex'!$D$15","v":7.5},{"$f":"P164*O164*N164","v":1670.4334855252234},null,null,null,{"$f":"'DNSP Inputs Capex'!$E$12","v":{"$error":"#REF!"}},{"$f":"'DNSP Inputs Capex'!$E$163","v":2},{"$f":"'DNSP Inputs Capex'!$E$15","v":7.5},{"$f":"W164*V164*U164","v":{"$error":"#REF!"}},null,null,{"$f":"'DNSP Inputs Capex'!$E$12","v":{"$error":"#REF!"}},{"$f":"'DNSP Inputs Capex'!$E$163","v":2},{"$f":"'DNSP Inputs Capex'!$E$15","v":7.5},{"$f":"AC164*AB164*AA164","v":{"$error":"#REF!"}},null,null,{"$f":"'DNSP Inputs Capex'!$E$12","v":{"$error":"#REF!"}},{"$f":"'DNSP Inputs Capex'!$E$163","v":2},{"$f":"'DNSP Inputs Capex'!$E$15","v":7.5},{"$f":"AI164*AH164*AG164","v":{"$error":"#REF!"}},null,null,null,{"$f":"'DNSP Inputs Capex'!$F$12","v":{"$error":"#REF!"}},{"$f":"'DNSP Inputs Capex'!$F$163","v":2},{"$f":"'DNSP Inputs Capex'!$F$15","v":7.5},{"$f":"AP164*AO164*AN164","v":{"$error":"#REF!"}},null,null,{"$f":"'DNSP Inputs Capex'!$F$12","v":{"$error":"#REF!"}},{"$f":"'DNSP Inputs Capex'!$F$163","v":2},{"$f":"'DNSP Inputs Capex'!$F$15","v":7.5},{"$f":"AV164*AU164*AT164","v":{"$error":"#REF!"}},null,null,{"$f":"'DNSP Inputs Capex'!$F$12","v":{"$error":"#REF!"}},{"$f":"'DNSP Inputs Capex'!$F$163","v":2},{"$f":"'DNSP Inputs Capex'!$F$15","v":7.5},{"$f":"BB164*BA164*AZ164","v":{"$error":"#REF!"}},null,null,null,{"$f":"'DNSP Inputs Capex'!$G$12","v":{"$error":"#REF!"}},{"$f":"'DNSP Inputs Capex'!$G$163","v":2},{"$f":"'DNSP Inputs Capex'!$G$15","v":7.5},{"$f":"BI164*BH164*BG164","v":{"$error":"#REF!"}},null,null,{"$f":"'DNSP Inputs Capex'!$G$12","v":{"$error":"#REF!"}},{"$f":"'DNSP Inputs Capex'!$G$163","v":2},{"$f":"'DNSP Inputs Capex'!$G$15","v":7.5},{"$f":"BO164*BN164*BM164","v":{"$error":"#REF!"}},null,null,{"$f":"'DNSP Inputs Capex'!$G$12","v":{"$error":"#REF!"}},{"$f":"'DNSP Inputs Capex'!$G$163","v":2},{"$f":"'DNSP Inputs Capex'!$G$15","v":7.5},{"$f":"BU164*BT164*BS164","v":{"$error":"#REF!"}},null,null,null,{"$f":"'DNSP Inputs Capex'!$H$12","v":{"$error":"#REF!"}},{"$f":"'DNSP Inputs Capex'!$H$163","v":2},{"$f":"'DNSP Inputs Capex'!$H$15","v":7.5},{"$f":"CB164*CA164*BZ164","v":{"$error":"#REF!"}},null,null,{"$f":"'DNSP Inputs Capex'!$H$12","v":{"$error":"#REF!"}},{"$f":"'DNSP Inputs Capex'!$H$163","v":2},{"$f":"'DNSP Inputs Capex'!$H$15","v":7.5},{"$f":"CH164*CG164*CF164","v":{"$error":"#REF!"}},null,null,{"$f":"'DNSP Inputs Capex'!$H$12","v":{"$error":"#REF!"}},{"$f":"'DNSP Inputs Capex'!$H$163","v":2},{"$f":"'DNSP Inputs Capex'!$H$15","v":7.5},{"$f":"CN164*CM164*CL164","v":{"$error":"#REF!"}}]
["Elevated platform vehicle costs",{"$f":"'DNSP Inputs Capex'!$D$13","v":50.18},1,{"$f":"'DNSP Inputs Capex'!$D$15","v":7.5},{"$f":"B165*C165*D165","v":376.35},null,null,{"$f":"'DNSP Inputs Capex'!$D$14","v":63.64},1,{"$f":"'DNSP Inputs Capex'!$D$15","v":7.5},{"$f":"H165*I165*J165","v":477.3},null,null,{"$f":"'DNSP Inputs Capex'!$D$14","v":63.64},1,{"$f":"'DNSP Inputs Capex'!$D$15","v":7.5},{"$f":"N165*O165*P165","v":477.3},null,null,null,{"$f":"'DNSP Inputs Capex'!$E$13","v":50.18},1,{"$f":"'DNSP Inputs Capex'!$E$15","v":7.5},{"$f":"U165*V165*W165","v":376.35},null,null,{"$f":"'DNSP Inputs Capex'!$E$14","v":63.64},1,{"$f":"'DNSP Inputs Capex'!$E$15","v":7.5},{"$f":"AA165*AB165*AC165","v":477.3},null,null,{"$f":"'DNSP Inputs Capex'!$E$14","v":63.64},1,{"$f":"'DNSP Inputs Capex'!$E$15","v":7.5},{"$f":"AG165*AH165*AI165","v":477.3},null,null,null,{"$f":"'DNSP Inputs Capex'!$F$13","v":50.18},1,{"$f":"'DNSP Inputs Capex'!$F$15","v":7.5},{"$f":"AN165*AO165*AP165","v":376.35},null,null,{"$f":"'DNSP Inputs Capex'!$F$14","v":63.64},1,{"$f":"'DNSP Inputs Capex'!$F$15","v":7.5},{"$f":"AT165*AU165*AV165","v":477.3},null,null,{"$f":"'DNSP Inputs Capex'!$F$14","v":63.64},1,{"$f":"'DNSP Inputs Capex'!$F$15","v":7.5},{"$f":"AZ165*BA165*BB165","v":477.3},null,null,null,{"$f":"'DNSP Inputs Capex'!$G$13","v":50.18},1,{"$f":"'DNSP Inputs Capex'!$G$15","v":7.5},{"$f":"BG165*BH165*BI165","v":376.35},null,null,{"$f":"'DNSP Inputs Capex'!$G$14","v":63.64},1,{"$f":"'DNSP Inputs Capex'!$G$15","v":7.5},{"$f":"BM165*BN165*BO165","v":477.3},null,null,{"$f":"'DNSP Inputs Capex'!$G$14","v":63.64},1,{"$f":"'DNSP Inputs Capex'!$G$15","v":7.5},{"$f":"BS165*BT165*BU165","v":477.3},null,null,null,{"$f":"'DNSP Inputs Capex'!$H$13","v":50.18},1,{"$f":"'DNSP Inputs Capex'!$H$15","v":7.5},{"$f":"BZ165*CA165*CB165","v":376.35},null,null,{"$f":"'DNSP Inputs Capex'!$H$14","v":63.64},1,{"$f":"'DNSP Inputs Capex'!$H$15","v":7.5},{"$f":"CF165*CG165*CH165","v":477.3},null,null,{"$f":"'DNSP Inputs Capex'!$H$14","v":63.64},1,{"$f":"'DNSP Inputs Capex'!$H$15","v":7.5},{"$f":"CL165*CM165*CN165","v":477.3}]
[{"$f":"'DNSP Inputs Capex'!$A$151","v":"Other Capex unit costs Describe :………………………"},null,null,null,null,{"$f":"'DNSP Inputs Capex'!$D$168","v":0},null,null,null,null,null,{"$f":"'DNSP Inputs Capex'!$D$168","v":0},null,null,null,null,null,{"$f":"'DNSP Inputs Capex'!$D$168","v":0},null,null,null,null,null,null,{"$f":"'DNSP Inputs Capex'!$E$168","v":0},null,null,null,null,null,{"$f":"'DNSP Inputs Capex'!$E$168","v":0},null,null,null,null,null,{"$f":"'DNSP Inputs Capex'!$E$168","v":0},null,null,null,null,null,null,{"$f":"'DNSP Inputs Capex'!$F$168","v":0},null,null,null,null,null,{"$f":"'DNSP Inputs Capex'!$F$168","v":0},null,null,null,null,null,{"$f":"'DNSP Inputs Capex'!$F$168","v":0},null,null,null,null,null,null,{"$f":"'DNSP Inputs Capex'!$G$168","v":0},null,null,null,null,null,{"$f":"'DNSP Inputs Capex'!$G$168","v":0},null,null,null,null,null,{"$f":"'DNSP Inputs Capex'!$G$168","v":0},null,null,null,null,null,null,{"$f":"'DNSP Inputs Capex'!$H$168","v":0},null,null,null,null,null,{"$f":"'DNSP Inputs Capex'!$H$168","v":0},null,null,null,null,null,{"$f":"'DNSP Inputs Capex'!$H$168","v":0}]
[null,null,null,null,null,{"$f":"SUM(F163,F166)","v":332.9239678453265},null,null,null,null,null,{"$f":"SUM(L163,L166)","v":380.46026811732492},null,null,null,null,null,{"$f":"SUM(R163,R166)","v":430.02334855252241},null,null,null,null,null,null,{"$f":"SUM(Y163,Y166)","v":0},null,null,null,null,null,{"$f":"SUM(AE163,AE166)","v":0},null,null,null,null,null,{"$f":"SUM(AK163,AK166)","v":0},null,null,null,null,null,null,{"$f":"SUM(AR163,AR166)","v":0},null,null,null,null,null,{"$f":"SUM(AX163,AX166)","v":0},null,null,null,null,null,{"$f":"SUM(BD163,BD166)","v":0},null,null,null,null,null,null,{"$f":"SUM(BK163,BK166)","v":0},null,null,null,null,null,{"$f":"SUM(BQ163,BQ166)","v":0},null,null,null,null,null,{"$f":"SUM(BW163,BW166)","v":0},null,null,null,null,null,null,{"$f":"SUM(CD163,CD166)","v":0},null,null,null,null,null,{"$f":"SUM(CJ163,CJ166)","v":0},null,null,null,null,null,{"$f":"SUM(CP163,CP166)","v":0}]
[]
["Number of luminaires replaced",null,null,null,null,{"$f":"'DNSP Inputs Capex'!$D$171","v":13.503727553799457},null,null,null,null,null,{"$f":"'DNSP Inputs Capex'!$D$172","v":3.4116102008532661},null,null,null,null,null,{"$f":"'DNSP Inputs Capex'!$D$173","v":0.66211025348531205},null,null,null,null,null,null,{"$f":"'DNSP Inputs Capex'!$E$171","v":13.503727553799457},null,null,null,null,null,{"$f":"'DNSP Inputs Capex'!$E$172","v":3.4116102008532661},null,null,null,null,null,{"$f":"'DNSP Inputs Capex'!$E$173","v":0.66211025348531205},null,null,null,null,null,null,{"$f":"'DNSP Inputs Capex'!$F$171","v":13.503727553799457},null,null,null,null,null,{"$f":"'DNSP Inputs Capex'!$F$172","v":3.4116102008532661},null,null,null,null,null,{"$f":"'DNSP Inputs Capex'!$F$173","v":0.66211025348531205},null,null,null,null,null,null,{"$f":"'DNSP Inputs Capex'!$G$171","v":13.503727553799457},null,null,null,null,null,{"$f":"'DNSP Inputs Capex'!$G$172","v":3.4116102008532661},null,null,null,null,null,{"$f":"'DNSP Inputs Capex'!$G$173","v":0.66211025348531205},null,null,null,null,null,null,{"$f":"'DNSP Inputs Capex'!$H$171","v":13.503727553799457},null,null,null,null,null,{"$f":"'DNSP Inputs Capex'!$H$172","v":3.4116102008532661},null,null,null,null,null,{"$f":"'DNSP Inputs Capex'!$H$173","v":0.66211025348531205}]
[]
["Capex",null,null,null,null,{"$f":"F167*F169","v":4495.7145579131802},null,null,null,null,null,{"$f":"L167*L169","v":1297.9821317284343},null,null,null,null,null,{"$f":"R167*R169","v":284.72286831471331},null,null,null,null,null,null,{"$f":"Y167*Y169","v":0},null,null,null,null,null,{"$f":"AE167*AE169","v":0},null,null,null,null,null,{"$f":"AK167*AK169","v":0},null,null,null,null,null,null,{"$f":"AR167*AR169","v":0},null,null,null,null,null,{"$f":"AX167*AX169","v":0},null,null,null,null,null,{"$f":"BD167*BD169","v":0},null,null,null,null,null,null,{"$f":"BK167*BK169","v":0},null,null,null,null,null,{"$f":"BQ167*BQ169","v":0},null,null,null,null,null,{"$f":"BW167*BW169","v":0},null,null,null,null,null,null,{"$f":"CD167*CD169","v":0},null,null,null,null,null,{"$f":"CJ167*CJ169","v":0},null,null,null,null,null,{"$f":"CP167*CP169","v":0}]
[]
[]
[{"$f":"#REF!","v":{"$error":"#REF!"}}]
["Luminaires "]
["Material",{"$f":"'DNSP Inputs Capex'!$D$179","v":1221.3620396249999},{"$f":"'DNSP Inputs Capex'!$D$181","v":16},null,{"$f":"B176*C176","v":19541.792633999998},{"$f":"IFERROR((E176+E177+E178)/C176,0)","v":1349.2860074703262},null,{"$f":"'DNSP Inputs Capex'!$D$179*(1+'DNSP Inputs Capex'!$D$11)","v":1282.4301416062499},{"$f":"'DNSP Inputs Capex'!$D$182","v":13},null,{"$f":"H176*I176","v":16671.59184088125},{"$f":"IFERROR((K176+K177+K178)/I176,0)","v":1447.640409723575},null,{"$f":"'DNSP Inputs Capex'!$D$179*(1+'DNSP Inputs Capex'!$D$11)","v":1282.4301416062499},{"$f":"'DNSP Inputs Capex'!$D$183","v":10},null,{"$f":"N176*O176","v":12824.301416062499},{"$f":"IFERROR((Q176+Q177+Q178)/O176,0)","v":1497.2034901587722},null,null,{"$f":"'DNSP Inputs Capex'!$E$179","v":1221.3620396249999},{"$f":"'DNSP Inputs Capex'!$E$181","v":16},null,{"$f":"U176*V176","v":19541.792633999998},{"$f":"IFERROR((X176+X177+X178)/V176,0)","v":0},null,{"$f":"'DNSP Inputs Capex'!$E$179*(1+'DNSP Inputs Capex'!$E$11)","v":1282.4301416062499},{"$f":"'DNSP Inputs Capex'!$E$182","v":13},null,{"$f":"AA176*AB176","v":16671.59184088125},{"$f":"IFERROR((AD176+AD177+AD178)/AB176,0)","v":0},null,{"$f":"'DNSP Inputs Capex'!$E$179*(1+'DNSP Inputs Capex'!$E$11)","v":1282.4301416062499},{"$f":"'DNSP Inputs Capex'!$E$183","v":10},null,{"$f":"AG176*AH176","v":12824.301416062499},{"$f":"IFERROR((AJ176+AJ177+AJ178)/AH176,0)","v":0},null,null,{"$f":"'DNSP Inputs Capex'!$F$179","v":1221.3620396249999},{"$f":"'DNSP Inputs Capex'!$F$181","v":16},null,{"$f":"AN176*AO176","v":19541.792633999998},{"$f":"IFERROR((AQ176+AQ177+AQ178)/AO176,0)","v":0},null,{"$f":"'DNSP Inputs Capex'!$F$179*(1+'DNSP Inputs Capex'!$F$11)","v":1282.4301416062499},{"$f":"'DNSP Inputs Capex'!$F$182","v":13},null,{"$f":"AT176*AU176","v":16671.59184088125},{"$f":"IFERROR((AW176+AW177+AW178)/AU176,0)","v":0},null,{"$f":"'DNSP Inputs Capex'!$F$179*(1+'DNSP Inputs Capex'!$F$11)","v":1282.4301416062499},{"$f":"'DNSP Inputs Capex'!$F$183","v":10},null,{"$f":"AZ176*BA176","v":12824.301416062499},{"$f":"IFERROR((BC176+BC177+BC178)/BA176,0)","v":0},null,null,{"$f":"'DNSP Inputs Capex'!$G$179","v":1221.3620396249999},{"$f":"'DNSP Inputs Capex'!$G$181","v":16},null,{"$f":"BG176*BH176","v":19541.792633999998},{"$f":"IFERROR((BJ176+BJ177+BJ178)/BH176,0)","v":0},null,{"$f":"'DNSP Inputs Capex'!$G$179*(1+'DNSP Inputs Capex'!$G$11)","v":1282.4301416062499},{"$f":"'DNSP Inputs Capex'!$G$182","v":13},null,{"$f":"BM176*BN176","v":16671.59184088125},{"$f":"IFERROR((BP176+BP177+BP178)/BN176,0)","v":0},null,{"$f":"'DNSP Inputs Capex'!$G$179*(1+'DNSP Inputs Capex'!$G$11)","v":1282.4301416062499},{"$f":"'DNSP Inputs Capex'!$G$183","v":10},null,{"$f":"BS176*BT176","v":12824.301416062499},{"$f":"IFERROR((BV176+BV177+BV178)/BT176,0)","v":0},null,null,{"$f":"'DNSP Inputs Capex'!$H$179","v":1221.3620396249999},{"$f":"'DNSP Inputs Capex'!$H$181","v":16},null,{"$f":"BZ176*CA176","v":19541.792633999998},{"$f":"IFERROR((CC176+CC177+CC178)/CA176,0)","v":0},null,{"$f":"'DNSP Inputs Capex'!$H$179*(1+'DNSP Inputs Capex'!$H$11)","v":1282.4301416062499},{"$f":"'DNSP Inputs Capex'!$H$182","v":13},null,{"$f":"CF176*CG176","v":16671.59184088125},{"$f":"IFERROR((CI176+CI177+CI178)/CG176,0)","v":0},null,{"$f":"'DNSP Inputs Capex'!$H$179*(1+'DNSP Inputs Capex'!$H$11)","v":1282.4301416062499},{"$f":"'DNSP Inputs Capex'!$H$183","v":10},null,{"$f":"CL176*CM176","v":12824.301416062499},{"$f":"IFERROR((CO176+CO177+CO178)/CM176,0)","v":0}]
["Crew costs",{"$f":"'DNSP Inputs Capex'!$D$12","v":111.36223236834823},{"$f":"'DNSP Inputs Capex'!$D$180","v":2},{"$f":"'DNSP Inputs Capex'!$D$15","v":7.5},{"$f":"D177*C177*B177","v":1670.4334855252234},null,null,{"$f":"'DNSP Inputs Capex'!$D$12","v":111.36223236834823},{"$f":"'DNSP Inputs Capex'!$D$180","v":2},{"$f":"'DNSP Inputs Capex'!$D$15","v":7.5},{"$f":"J177*I177*H177","v":1670.4334855252234},null,null,{"$f":"'DNSP Inputs Capex'!$D$12","v":111.36223236834823},{"$f":"'DNSP Inputs Capex'!$D$180","v":2},{"$f":"'DNSP Inputs Capex'!$D$15","v":7.5},{"$f":"P177*O177*N177","v":1670.4334855252234},null,null,null,{"$f":"'DNSP Inputs Capex'!$E$12","v":{"$error":"#REF!"}},{"$f":"'DNSP Inputs Capex'!$E$180","v":2},{"$f":"'DNSP Inputs Capex'!$E$15","v":7.5},{"$f":"W177*V177*U177","v":{"$error":"#REF!"}},null,null,{"$f":"'DNSP Inputs Capex'!$E$12","v":{"$error":"#REF!"}},{"$f":"'DNSP Inputs Capex'!$E$180","v":2},{"$f":"'DNSP Inputs Capex'!$E$15","v":7.5},{"$f":"AC177*AB177*AA177","v":{"$error":"#REF!"}},null,null,{"$f":"'DNSP Inputs Capex'!$E$12","v":{"$error":"#REF!"}},{"$f":"'DNSP Inputs Capex'!$E$180","v":2},{"$f":"'DNSP Inputs Capex'!$E$15","v":7.5},{"$f":"AI177*AH177*AG177","v":{"$error":"#REF!"}},null,null,null,{"$f":"'DNSP Inputs Capex'!$F$12","v":{"$error":"#REF!"}},{"$f":"'DNSP Inputs Capex'!$F$180","v":2},{"$f":"'DNSP Inputs Capex'!$F$15","v":7.5},{"$f":"AP177*AO177*AN177","v":{"$error":"#REF!"}},null,null,{"$f":"'DNSP Inputs Capex'!$F$12","v":{"$error":"#REF!"}},{"$f":"'DNSP Inputs Capex'!$F$180","v":2},{"$f":"'DNSP Inputs Capex'!$F$15","v":7.5},{"$f":"AV177*AU177*AT177","v":{"$error":"#REF!"}},null,null,{"$f":"'DNSP Inputs Capex'!$F$12","v":{"$error":"#REF!"}},{"$f":"'DNSP Inputs Capex'!$F$180","v":2},{"$f":"'DNSP Inputs Capex'!$F$15","v":7.5},{"$f":"BB177*BA177*AZ177","v":{"$error":"#REF!"}},null,null,null,{"$f":"'DNSP Inputs Capex'!$G$12","v":{"$error":"#REF!"}},{"$f":"'DNSP Inputs Capex'!$G$180","v":2},{"$f":"'DNSP Inputs Capex'!$G$15","v":7.5},{"$f":"BI177*BH177*BG177","v":{"$error":"#REF!"}},null,null,{"$f":"'DNSP Inputs Capex'!$G$12","v":{"$error":"#REF!"}},{"$f":"'DNSP Inputs Capex'!$G$180","v":2},{"$f":"'DNSP Inputs Capex'!$G$15","v":7.5},{"$f":"BO177*BN177*BM177","v":{"$error":"#REF!"}},null,null,{"$f":"'DNSP Inputs Capex'!$G$12","v":{"$error":"#REF!"}},{"$f":"'DNSP Inputs Capex'!$G$180","v":2},{"$f":"'DNSP Inputs Capex'!$G$15","v":7.5},{"$f":"BU177*BT177*BS177","v":{"$error":"#REF!"}},null,null,null,{"$f":"'DNSP Inputs Capex'!$H$12","v":{"$error":"#REF!"}},{"$f":"'DNSP Inputs Capex'!$H$180","v":2},{"$f":"'DNSP Inputs Capex'!$H$15","v":7.5},{"$f":"CB177*CA177*BZ177","v":{"$error":"#REF!"}},null,null,{"$f":"'DNSP Inputs Capex'!$H$12","v":{"$error":"#REF!"}},{"$f":"'DNSP Inputs Capex'!$H$180","v":2},{"$f":"'DNSP Inputs Capex'!$H$15","v":7.5},{"$f":"CH177*CG177*CF177","v":{"$error":"#REF!"}},null,null,{"$f":"'DNSP Inputs Capex'!$H$12","v":{"$error":"#REF!"}},{"$f":"'DNSP Inputs Capex'!$H$180","v":2},{"$f":"'DNSP Inputs Capex'!$H$15","v":7.5},{"$f":"CN177*CM177*CL177","v":{"$error":"#REF!"}}]
["Elevated platform vehicle costs",{"$f":"'DNSP Inputs Capex'!$D$13","v":50.18},1,{"$f":"'DNSP Inputs Capex'!$D$15","v":7.5},{"$f":"B178*C178*D178","v":376.35},null,null,{"$f":"'DNSP Inputs Capex'!$D$14","v":63.64},1,{"$f":"'DNSP Inputs Capex'!$D$15","v":7.5},{"$f":"H178*I178*J178","v":477.3},null,null,{"$f":"'DNSP Inputs Capex'!$D$14","v":63.64},1,{"$f":"'DNSP Inputs Capex'!$D$15","v":7.5},{"$f":"N178*O178*P178","v":477.3},null,null,null,{"$f":"'DNSP Inputs Capex'!$E$13","v":50.18},1,{"$f":"'DNSP Inputs Capex'!$E$15","v":7.5},{"$f":"U178*V178*W178","v":376.35},null,null,{"$f":"'DNSP Inputs Capex'!$E$14","v":63.64},1,{"$f":"'DNSP Inputs Capex'!$E$15","v":7.5},{"$f":"AA178*AB178*AC178","v":477.3},null,null,{"$f":"'DNSP Inputs Capex'!$E$14","v":63.64},1,{"$f":"'DNSP Inputs Capex'!$E$15","v":7.5},{"$f":"AG178*AH178*AI178","v":477.3},null,null,null,{"$f":"'DNSP Inputs Capex'!$F$13","v":50.18},1,{"$f":"'DNSP Inputs Capex'!$F$15","v":7.5},{"$f":"AN178*AO178*AP178","v":376.35},null,null,{"$f":"'DNSP Inputs Capex'!$F$14","v":63.64},1,{"$f":"'DNSP Inputs Capex'!$F$15","v":7.5},{"$f":"AT178*AU178*AV178","v":477.3},null,null,{"$f":"'DNSP Inputs Capex'!$F$14","v":63.64},1,{"$f":"'DNSP Inputs Capex'!$F$15","v":7.5},{"$f":"AZ178*BA178*BB178","v":477.3},null,null,null,{"$f":"'DNSP Inputs Capex'!$G$13","v":50.18},1,{"$f":"'DNSP Inputs Capex'!$G$15","v":7.5},{"$f":"BG178*BH178*BI178","v":376.35},null,null,{"$f":"'DNSP Inputs Capex'!$G$14","v":63.64},1,{"$f":"'DNSP Inputs Capex'!$G$15","v":7.5},{"$f":"BM178*BN178*BO178","v":477.3},null,null,{"$f":"'DNSP Inputs Capex'!$G$14","v":63.64},1,{"$f":"'DNSP Inputs Capex'!$G$15","v":7.5},{"$f":"BS178*BT178*BU178","v":477.3},null,null,null,{"$f":"'DNSP Inputs Capex'!$H$13","v":50.18},1,{"$f":"'DNSP Inputs Capex'!$H$15","v":7.5},{"$f":"BZ178*CA178*CB178","v":376.35},null,null,{"$f":"'DNSP Inputs Capex'!$H$14","v":63.64},1,{"$f":"'DNSP Inputs Capex'!$H$15","v":7.5},{"$f":"CF178*CG178*CH178","v":477.3},null,null,{"$f":"'DNSP Inputs Capex'!$H$14","v":63.64},1,{"$f":"'DNSP Inputs Capex'!$H$15","v":7.5},{"$f":"CL178*CM178*CN178","v":477.3}]
[{"$f":"'DNSP Inputs Capex'!$A$185","v":"Other Capex unit costs Describe :………………………"},null,null,null,null,{"$f":"'DNSP Inputs Capex'!$D$185","v":0},null,null,null,null,null,{"$f":"'DNSP Inputs Capex'!$D$185","v":0},null,null,null,null,null,{"$f":"'DNSP Inputs Capex'!$D$185","v":0},null,null,null,null,null,null,{"$f":"'DNSP Inputs Capex'!$E$185","v":0},null,null,null,null,null,{"$f":"'DNSP Inputs Capex'!$E$185","v":0},null,null,null,null,null,{"$f":"'DNSP Inputs Capex'!$E$185","v":0},null,null,null,null,null,null,{"$f":"'DNSP Inputs Capex'!$F$185","v":0},null,null,null,null,null,{"$f":"'DNSP Inputs Capex'!$F$185","v":0},null,null,null,null,null,{"$f":"'DNSP Inputs Capex'!$F$185","v":0},null,null,null,null,null,null,{"$f":"'DNSP Inputs Capex'!$G$185","v":0},null,null,null,null,null,{"$f":"'DNSP Inputs Capex'!$G$185","v":0},null,null,null,null,null,{"$f":"'DNSP Inputs Capex'!$G$185","v":0},null,null,null,null,null,null,{"$f":"'DNSP Inputs Capex'!$H$185","v":0},null,null,null,null,null,{"$f":"'DNSP Inputs Capex'!$H$185","v":0},null,null,null,null,null,{"$f":"'DNSP Inputs Capex'!$H$185","v":0}]
[null,null,null,null,null,{"$f":"SUM(F176,F179)","v":1349.2860074703262},null,null,null,null,null,{"$f":"SUM(L176,L179)","v":1447.640409723575},null,null,null,null,null,{"$f":"SUM(R176,R179)","v":1497.2034901587722},null,null,null,null,null,null,{"$f":"SUM(Y176,Y179)","v":0},null,null,null,null,null,{"$f":"SUM(AE176,AE179)","v":0},null,null,null,null,null,{"$f":"SUM(AK176,AK179)","v":0},null,null,null,null,null,null,{"$f":"SUM(AR176,AR179)","v":0},null,null,null,null,null,{"$f":"SUM(AX176,AX179)","v":0},null,null,null,null,null,{"$f":"SUM(BD176,BD179)","v":0},null,null,null,null,null,null,{"$f":"SUM(BK176,BK179)","v":0},null,null,null,null,null,{"$f":"SUM(BQ176,BQ179)","v":0},null,null,null,null,null,{"$f":"SUM(BW176,BW179)","v":0},null,null,null,null,null,null,{"$f":"SUM(CD176,CD179)","v":0},null,null,null,null,null,{"$f":"SUM(CJ176,CJ179)","v":0},null,null,null,null,null,{"$f":"SUM(CP176,CP179)","v":0}]
[]
["Number of luminaires replaced",null,null,null,null,{"$f":"'DNSP Inputs Capex'!$D$188","v":77.414359792858718},null,null,null,null,null,{"$f":"'DNSP Inputs Capex'!$D$189","v":19.553317398660649},null,null,null,null,null,{"$f":"'DNSP Inputs Capex'!$D$190","v":3.7948215584734664},null,null,null,null,null,null,{"$f":"'DNSP Inputs Capex'!$E$188","v":78.477812067723363},null,null,null,null,null,{"$f":"'DNSP Inputs Capex'!$E$189","v":19.821924152296482},null,null,null,null,null,{"$f":"'DNSP Inputs Capex'!$E$190","v":3.8469515719472236},null,null,null,null,null,null,{"$f":"'DNSP Inputs Capex'!$F$188","v":82.793708829765563},null,null,null,null,null,{"$f":"'DNSP Inputs Capex'!$F$189","v":20.912033267373705},null,null,null,null,null,{"$f":"'DNSP Inputs Capex'!$F$190","v":4.0585151387139984},null,null,null,null,null,null,{"$f":"'DNSP Inputs Capex'!$G$188","v":85.94510215083524},null,null,null,null,null,{"$f":"'DNSP Inputs Capex'!$G$189","v":21.708012127365244},null,null,null,null,null,{"$f":"'DNSP Inputs Capex'!$G$190","v":4.2129952034723148},null,null,null,null,null,null,{"$f":"'DNSP Inputs Capex'!$H$188","v":25.118707212408932},null,null,null,null,null,{"$f":"'DNSP Inputs Capex'!$H$189","v":6.3444825492642787},null,null,null,null,null,{"$f":"'DNSP Inputs Capex'!$H$190","v":1.2313091770788691}]
[]
["Capex",null,null,null,null,{"$f":"F180*F182","v":104454.11244577769},null,null,null,null,null,{"$f":"L180*L182","v":28306.172410452211},null,null,null,null,null,{"$f":"R180*R182","v":5681.6200818762254},null,null,null,null,null,null,{"$f":"Y180*Y182","v":0},null,null,null,null,null,{"$f":"AE180*AE182","v":0},null,null,null,null,null,{"$f":"AK180*AK182","v":0},null,null,null,null,null,null,{"$f":"AR180*AR182","v":0},null,null,null,null,null,{"$f":"AX180*AX182","v":0},null,null,null,null,null,{"$f":"BD180*BD182","v":0},null,null,null,null,null,null,{"$f":"BK180*BK182","v":0},null,null,null,null,null,{"$f":"BQ180*BQ182","v":0},null,null,null,null,null,{"$f":"BW180*BW182","v":0},null,null,null,null,null,null,{"$f":"CD180*CD182","v":0},null,null,null,null,null,{"$f":"CJ180*CJ182","v":0},null,null,null,null,null,{"$f":"CP180*CP182","v":0}]
[]
[]
[{"$f":"#REF!","v":{"$error":"#REF!"}}]
["Luminaires "]
["Material",{"$f":"'DNSP Inputs Capex'!$D$196","v":1270.4308997249998},{"$f":"'DNSP Inputs Capex'!$D$198","v":16},null,{"$f":"B189*C189","v":20326.894395599997},{"$f":"IFERROR((E189+E190+E191)/C189,0)","v":1398.3548675703262},null,{"$f":"'DNSP Inputs Capex'!$D$196*(1+'DNSP Inputs Capex'!$D$11)","v":1333.9524447112499},{"$f":"'DNSP Inputs Capex'!$D$199","v":13},null,{"$f":"H189*I189","v":17341.381781246248},{"$f":"IFERROR((K189+K190+K191)/I189,0)","v":1499.1627128285747},null,{"$f":"'DNSP Inputs Capex'!$D$196*(1+'DNSP Inputs Capex'!$D$11)","v":1333.9524447112499},{"$f":"'DNSP Inputs Capex'!$D$200","v":10},null,{"$f":"N189*O189","v":13339.524447112499},{"$f":"IFERROR((Q189+Q190+Q191)/O189,0)","v":1548.7257932637722},null,null,{"$f":"'DNSP Inputs Capex'!$E$196","v":1270.4308997249998},{"$f":"'DNSP Inputs Capex'!$E$198","v":16},null,{"$f":"U189*V189","v":20326.894395599997},{"$f":"IFERROR((X189+X190+X191)/V189,0)","v":0},null,{"$f":"'DNSP Inputs Capex'!$E$196*(1+'DNSP Inputs Capex'!$E$11)","v":1333.9524447112499},{"$f":"'DNSP Inputs Capex'!$E$199","v":13},null,{"$f":"AA189*AB189","v":17341.381781246248},{"$f":"IFERROR((AD189+AD190+AD191)/AB189,0)","v":0},null,{"$f":"'DNSP Inputs Capex'!$E$196*(1+'DNSP Inputs Capex'!$E$11)","v":1333.9524447112499},{"$f":"'DNSP Inputs Capex'!$E$200","v":10},null,{"$f":"AG189*AH189","v":13339.524447112499},{"$f":"IFERROR((AJ189+AJ190+AJ191)/AH189,0)","v":0},null,null,{"$f":"'DNSP Inputs Capex'!$F$196","v":1270.4308997249998},{"$f":"'DNSP Inputs Capex'!$F$198","v":16},null,{"$f":"AN189*AO189","v":20326.894395599997},{"$f":"IFERROR((AQ189+AQ190+AQ191)/AO189,0)","v":0},null,{"$f":"'DNSP Inputs Capex'!$F$196*(1+'DNSP Inputs Capex'!$F$11)","v":1333.9524447112499},{"$f":"'DNSP Inputs Capex'!$F$199","v":13},null,{"$f":"AT189*AU189","v":17341.381781246248},{"$f":"IFERROR((AW189+AW190+AW191)/AU189,0)","v":0},null,{"$f":"'DNSP Inputs Capex'!$F$196*(1+'DNSP Inputs Capex'!$F$11)","v":1333.9524447112499},{"$f":"'DNSP Inputs Capex'!$F$200","v":10},null,{"$f":"AZ189*BA189","v":13339.524447112499},{"$f":"IFERROR((BC189+BC190+BC191)/BA189,0)","v":0},null,null,{"$f":"'DNSP Inputs Capex'!$G$196","v":1270.4308997249998},{"$f":"'DNSP Inputs Capex'!$G$198","v":16},null,{"$f":"BG189*BH189","v":20326.894395599997},{"$f":"IFERROR((BJ189+BJ190+BJ191)/BH189,0)","v":0},null,{"$f":"'DNSP Inputs Capex'!$G$196*(1+'DNSP Inputs Capex'!$G$11)","v":1333.9524447112499},{"$f":"'DNSP Inputs Capex'!$G$199","v":13},null,{"$f":"BM189*BN189","v":17341.381781246248},{"$f":"IFERROR((BP189+BP190+BP191)/BN189,0)","v":0},null,{"$f":"'DNSP Inputs Capex'!$G$196*(1+'DNSP Inputs Capex'!$G$11)","v":1333.9524447112499},{"$f":"'DNSP Inputs Capex'!$G$200","v":10},null,{"$f":"BS189*BT189","v":13339.524447112499},{"$f":"IFERROR((BV189+BV190+BV191)/BT189,0)","v":0},null,null,{"$f":"'DNSP Inputs Capex'!$H$196","v":1270.4308997249998},{"$f":"'DNSP Inputs Capex'!$H$198","v":16},null,{"$f":"BZ189*CA189","v":20326.894395599997},{"$f":"IFERROR((CC189+CC190+CC191)/CA189,0)","v":0},null,{"$f":"'DNSP Inputs Capex'!$H$196*(1+'DNSP Inputs Capex'!$H$11)","v":1333.9524447112499},{"$f":"'DNSP Inputs Capex'!$H$199","v":13},null,{"$f":"CF189*CG189","v":17341.381781246248},{"$f":"IFERROR((CI189+CI190+CI191)/CG189,0)","v":0},null,{"$f":"'DNSP Inputs Capex'!$H$196*(1+'DNSP Inputs Capex'!$H$11)","v":1333.9524447112499},{"$f":"'DNSP Inputs Capex'!$H$200","v":10},null,{"$f":"CL189*CM189","v":13339.524447112499},{"$f":"IFERROR((CO189+CO190+CO191)/CM189,0)","v":0}]
["Crew costs",{"$f":"'DNSP Inputs Capex'!$D$12","v":111.36223236834823},{"$f":"'DNSP Inputs Capex'!$D$197","v":2},{"$f":"'DNSP Inputs Capex'!$D$15","v":7.5},{"$f":"D190*C190*B190","v":1670.4334855252234},null,null,{"$f":"'DNSP Inputs Capex'!$D$12","v":111.36223236834823},{"$f":"'DNSP Inputs Capex'!$D$197","v":2},{"$f":"'DNSP Inputs Capex'!$D$15","v":7.5},{"$f":"J190*I190*H190","v":1670.4334855252234},null,null,{"$f":"'DNSP Inputs Capex'!$D$12","v":111.36223236834823},{"$f":"'DNSP Inputs Capex'!$D$197","v":2},{"$f":"'DNSP Inputs Capex'!$D$15","v":7.5},{"$f":"P190*O190*N190","v":1670.4334855252234},null,null,null,{"$f":"'DNSP Inputs Capex'!$E$12","v":{"$error":"#REF!"}},{"$f":"'DNSP Inputs Capex'!$E$197","v":2},{"$f":"'DNSP Inputs Capex'!$E$15","v":7.5},{"$f":"W190*V190*U190","v":{"$error":"#REF!"}},null,null,{"$f":"'DNSP Inputs Capex'!$E$12","v":{"$error":"#REF!"}},{"$f":"'DNSP Inputs Capex'!$E$197","v":2},{"$f":"'DNSP Inputs Capex'!$E$15","v":7.5},{"$f":"AC190*AB190*AA190","v":{"$error":"#REF!"}},null,null,{"$f":"'DNSP Inputs Capex'!$E$12","v":{"$error":"#REF!"}},{"$f":"'DNSP Inputs Capex'!$E$197","v":2},{"$f":"'DNSP Inputs Capex'!$E$15","v":7.5},{"$f":"AI190*AH190*AG190","v":{"$error":"#REF!"}},null,null,null,{"$f":"'DNSP Inputs Capex'!$F$12","v":{"$error":"#REF!"}},{"$f":"'DNSP Inputs Capex'!$F$197","v":2},{"$f":"'DNSP Inputs Capex'!$F$15","v":7.5},{"$f":"AP190*AO190*AN190","v":{"$error":"#REF!"}},null,null,{"$f":"'DNSP Inputs Capex'!$F$12","v":{"$error":"#REF!"}},{"$f":"'DNSP Inputs Capex'!$F$197","v":2},{"$f":"'DNSP Inputs Capex'!$F$15","v":7.5},{"$f":"AV190*AU190*AT190","v":{"$error":"#REF!"}},null,null,{"$f":"'DNSP Inputs Capex'!$F$12","v":{"$error":"#REF!"}},{"$f":"'DNSP Inputs Capex'!$F$197","v":2},{"$f":"'DNSP Inputs Capex'!$F$15","v":7.5},{"$f":"BB190*BA190*AZ190","v":{"$error":"#REF!"}},null,null,null,{"$f":"'DNSP Inputs Capex'!$G$12","v":{"$error":"#REF!"}},{"$f":"'DNSP Inputs Capex'!$G$197","v":2},{"$f":"'DNSP Inputs Capex'!$G$15","v":7.5},{"$f":"BI190*BH190*BG190","v":{"$error":"#REF!"}},null,null,{"$f":"'DNSP Inputs Capex'!$G$12","v":{"$error":"#REF!"}},{"$f":"'DNSP Inputs Capex'!$G$197","v":2},{"$f":"'DNSP Inputs Capex'!$G$15","v":7.5},{"$f":"BO190*BN190*BM190","v":{"$error":"#REF!"}},null,null,{"$f":"'DNSP Inputs Capex'!$G$12","v":{"$error":"#REF!"}},{"$f":"'DNSP Inputs Capex'!$G$197","v":2},{"$f":"'DNSP Inputs Capex'!$G$15","v":7.5},{"$f":"BU190*BT190*BS190","v":{"$error":"#REF!"}},null,null,null,{"$f":"'DNSP Inputs Capex'!$H$12","v":{"$error":"#REF!"}},{"$f":"'DNSP Inputs Capex'!$H$197","v":2},{"$f":"'DNSP Inputs Capex'!$H$15","v":7.5},{"$f":"CB190*CA190*BZ190","v":{"$error":"#REF!"}},null,null,{"$f":"'DNSP Inputs Capex'!$H$12","v":{"$error":"#REF!"}},{"$f":"'DNSP Inputs Capex'!$H$197","v":2},{"$f":"'DNSP Inputs Capex'!$H$15","v":7.5},{"$f":"CH190*CG190*CF190","v":{"$error":"#REF!"}},null,null,{"$f":"'DNSP Inputs Capex'!$H$12","v":{"$error":"#REF!"}},{"$f":"'DNSP Inputs Capex'!$H$197","v":2},{"$f":"'DNSP Inputs Capex'!$H$15","v":7.5},{"$f":"CN190*CM190*CL190","v":{"$error":"#REF!"}}]
["Elevated platform vehicle costs",{"$f":"'DNSP Inputs Capex'!$D$13","v":50.18},1,{"$f":"'DNSP Inputs Capex'!$D$15","v":7.5},{"$f":"B191*C191*D191","v":376.35},null,null,{"$f":"'DNSP Inputs Capex'!$D$14","v":63.64},1,{"$f":"'DNSP Inputs Capex'!$D$15","v":7.5},{"$f":"H191*I191*J191","v":477.3},null,null,{"$f":"'DNSP Inputs Capex'!$D$14","v":63.64},1,{"$f":"'DNSP Inputs Capex'!$D$15","v":7.5},{"$f":"N191*O191*P191","v":477.3},null,null,null,{"$f":"'DNSP Inputs Capex'!$E$13","v":50.18},1,{"$f":"'DNSP Inputs Capex'!$E$15","v":7.5},{"$f":"U191*V191*W191","v":376.35},null,null,{"$f":"'DNSP Inputs Capex'!$E$14","v":63.64},1,{"$f":"'DNSP Inputs Capex'!$E$15","v":7.5},{"$f":"AA191*AB191*AC191","v":477.3},null,null,{"$f":"'DNSP Inputs Capex'!$E$14","v":63.64},1,{"$f":"'DNSP Inputs Capex'!$E$15","v":7.5},{"$f":"AG191*AH191*AI191","v":477.3},null,null,null,{"$f":"'DNSP Inputs Capex'!$F$13","v":50.18},1,{"$f":"'DNSP Inputs Capex'!$F$15","v":7.5},{"$f":"AN191*AO191*AP191","v":376.35},null,null,{"$f":"'DNSP Inputs Capex'!$F$14","v":63.64},1,{"$f":"'DNSP Inputs Capex'!$F$15","v":7.5},{"$f":"AT191*AU191*AV191","v":477.3},null,null,{"$f":"'DNSP Inputs Capex'!$F$14","v":63.64},1,{"$f":"'DNSP Inputs Capex'!$F$15","v":7.5},{"$f":"AZ191*BA191*BB191","v":477.3},null,null,null,{"$f":"'DNSP Inputs Capex'!$G$13","v":50.18},1,{"$f":"'DNSP Inputs Capex'!$G$15","v":7.5},{"$f":"BG191*BH191*BI191","v":376.35},null,null,{"$f":"'DNSP Inputs Capex'!$G$14","v":63.64},1,{"$f":"'DNSP Inputs Capex'!$G$15","v":7.5},{"$f":"BM191*BN191*BO191","v":477.3},null,null,{"$f":"'DNSP Inputs Capex'!$G$14","v":63.64},1,{"$f":"'DNSP Inputs Capex'!$G$15","v":7.5},{"$f":"BS191*BT191*BU191","v":477.3},null,null,null,{"$f":"'DNSP Inputs Capex'!$H$13","v":50.18},1,{"$f":"'DNSP Inputs Capex'!$H$15","v":7.5},{"$f":"BZ191*CA191*CB191","v":376.35},null,null,{"$f":"'DNSP Inputs Capex'!$H$14","v":63.64},1,{"$f":"'DNSP Inputs Capex'!$H$15","v":7.5},{"$f":"CF191*CG191*CH191","v":477.3},null,null,{"$f":"'DNSP Inputs Capex'!$H$14","v":63.64},1,{"$f":"'DNSP Inputs Capex'!$H$15","v":7.5},{"$f":"CL191*CM191*CN191","v":477.3}]
[{"$f":"'DNSP Inputs Capex'!$A$185","v":"Other Capex unit costs Describe :………………………"},null,null,null,null,{"$f":"'DNSP Inputs Capex'!$D$202","v":0},null,null,null,null,null,{"$f":"'DNSP Inputs Capex'!$D$202","v":0},null,null,null,null,null,{"$f":"'DNSP Inputs Capex'!$D$202","v":0},null,null,null,null,null,null,{"$f":"'DNSP Inputs Capex'!$E$202","v":0},null,null,null,null,null,{"$f":"'DNSP Inputs Capex'!$E$202","v":0},null,null,null,null,null,{"$f":"'DNSP Inputs Capex'!$E$202","v":0},null,null,null,null,null,null,{"$f":"'DNSP Inputs Capex'!$F$202","v":0},null,null,null,null,null,{"$f":"'DNSP Inputs Capex'!$F$202","v":0},null,null,null,null,null,{"$f":"'DNSP Inputs Capex'!$F$202","v":0},null,null,null,null,null,null,{"$f":"'DNSP Inputs Capex'!$G$202","v":0},null,null,null,null,null,{"$f":"'DNSP Inputs Capex'!$G$202","v":0},null,null,null,null,null,{"$f":"'DNSP Inputs Capex'!$G$202","v":0},null,null,null,null,null,null,{"$f":"'DNSP Inputs Capex'!$H$202","v":0},null,null,null,null,null,{"$f":"'DNSP Inputs Capex'!$H$202","v":0},null,null,null,null,null,{"$f":"'DNSP Inputs Capex'!$H$202","v":0}]
[null,null,null,null,null,{"$f":"SUM(F189,F192)","v":1398.3548675703262},null,null,null,null,null,{"$f":"SUM(L189,L192)","v":1499.1627128285747},null,null,null,null,null,{"$f":"SUM(R189,R192)","v":1548.7257932637722},null,null,null,null,null,null,{"$f":"SUM(Y189,Y192)","v":0},null,null,null,null,null,{"$f":"SUM(AE189,AE192)","v":0},null,null,null,null,null,{"$f":"SUM(AK189,AK192)","v":0},null,null,null,null,null,null,{"$f":"SUM(AR189,AR192)","v":0},null,null,null,null,null,{"$f":"SUM(AX189,AX192)","v":0},null,null,null,null,null,{"$f":"SUM(BD189,BD192)","v":0},null,null,null,null,null,null,{"$f":"SUM(BK189,BK192)","v":0},null,null,null,null,null,{"$f":"SUM(BQ189,BQ192)","v":0},null,null,null,null,null,{"$f":"SUM(BW189,BW192)","v":0},null,null,null,null,null,null,{"$f":"SUM(CD189,CD192)","v":0},null,null,null,null,null,{"$f":"SUM(CJ189,CJ192)","v":0},null,null,null,null,null,{"$f":"SUM(CP189,CP192)","v":0}]
[]
["Number of luminaires replaced",null,null,null,null,{"$f":"'DNSP Inputs Capex'!$D$205","v":936.03385629140996},null,null,null,null,null,{"$f":"'DNSP Inputs Capex'!$D$206","v":236.42341210250009},null,null,null,null,null,{"$f":"'DNSP Inputs Capex'!$D$207","v":45.88401256330441},null,null,null,null,null,null,{"$f":"'DNSP Inputs Capex'!$E$205","v":929.84037057437911},null,null,null,null,null,{"$f":"'DNSP Inputs Capex'!$E$206","v":234.85906160792493},null,null,null,null,null,{"$f":"'DNSP Inputs Capex'!$E$207","v":45.58041032227348},null,null,null,null,null,null,{"$f":"'DNSP Inputs Capex'!$F$205","v":916.2721212599148},null,null,null,null,null,{"$f":"'DNSP Inputs Capex'!$F$206","v":231.43199347612395},null,null,null,null,null,{"$f":"'DNSP Inputs Capex'!$F$207","v":44.915300061760526},null,null,null,null,null,null,{"$f":"'DNSP Inputs Capex'!$G$205","v":903.00528667060985},null,null,null,null,null,{"$f":"'DNSP Inputs Capex'!$G$206","v":228.08105666938263},null,null,null,null,null,{"$f":"'DNSP Inputs Capex'!$G$207","v":44.264965032873036},null,null,null,null,null,null,{"$f":"'DNSP Inputs Capex'!$H$205","v":883.57943960118268},null,null,null,null,null,{"$f":"'DNSP Inputs Capex'!$H$206","v":223.17447661753295},null,null,null,null,null,{"$f":"'DNSP Inputs Capex'!$H$207","v":43.312717627508952}]
[]
["Capex",null,null,null,null,{"$f":"F193*F195","v":1308907.4991557163},null,null,null,null,null,{"$f":"L193*L195","v":354437.16386377212},null,null,null,null,null,{"$f":"R193*R195","v":71061.753755228507},null,null,null,null,null,null,{"$f":"Y193*Y195","v":0},null,null,null,null,null,{"$f":"AE193*AE195","v":0},null,null,null,null,null,{"$f":"AK193*AK195","v":0},null,null,null,null,null,null,{"$f":"AR193*AR195","v":0},null,null,null,null,null,{"$f":"AX193*AX195","v":0},null,null,null,null,null,{"$f":"BD193*BD195","v":0},null,null,null,null,null,null,{"$f":"BK193*BK195","v":0},null,null,null,null,null,{"$f":"BQ193*BQ195","v":0},null,null,null,null,null,{"$f":"BW193*BW195","v":0},null,null,null,null,null,null,{"$f":"CD193*CD195","v":0},null,null,null,null,null,{"$f":"CJ193*CJ195","v":0},null,null,null,null,null,{"$f":"CP193*CP195","v":0}]
[]
[]
[{"$f":"#REF!","v":{"$error":"#REF!"}}]
["Luminaires "]
["Material",{"$f":"'DNSP Inputs Capex'!$D$213","v":1775.2617643000001},{"$f":"'DNSP Inputs Capex'!$D$215","v":16},null,{"$f":"B202*C202","v":28404.188228800002},{"$f":"IFERROR((E202+E203+E204)/C202,0)","v":1903.1857321453265},null,{"$f":"'DNSP Inputs Capex'!$D$213*(1+'DNSP Inputs Capex'!$D$11)","v":1864.0248525150002},{"$f":"'DNSP Inputs Capex'!$D$216","v":13},null,{"$f":"H202*I202","v":24232.323082695002},{"$f":"IFERROR((K202+K203+K204)/I202,0)","v":2029.2351206323251},null,{"$f":"'DNSP Inputs Capex'!$D$213*(1+'DNSP Inputs Capex'!$D$11)","v":1864.0248525150002},{"$f":"'DNSP Inputs Capex'!$D$217","v":10},null,{"$f":"N202*O202","v":18640.248525150004},{"$f":"IFERROR((Q202+Q203+Q204)/O202,0)","v":2078.7982010675228},null,null,{"$f":"'DNSP Inputs Capex'!$E$213","v":1775.2617643000001},{"$f":"'DNSP Inputs Capex'!$E$215","v":16},null,{"$f":"U202*V202","v":28404.188228800002},{"$f":"IFERROR((X202+X203+X204)/V202,0)","v":0},null,{"$f":"'DNSP Inputs Capex'!$E$213*(1+'DNSP Inputs Capex'!$E$11)","v":1864.0248525150002},{"$f":"'DNSP Inputs Capex'!$E$216","v":13},null,{"$f":"AA202*AB202","v":24232.323082695002},{"$f":"IFERROR((AD202+AD203+AD204)/AB202,0)","v":0},null,{"$f":"'DNSP Inputs Capex'!$E$213*(1+'DNSP Inputs Capex'!$E$11)","v":1864.0248525150002},{"$f":"'DNSP Inputs Capex'!$E$217","v":10},null,{"$f":"AG202*AH202","v":18640.248525150004},{"$f":"IFERROR((AJ202+AJ203+AJ204)/AH202,0)","v":0},null,null,{"$f":"'DNSP Inputs Capex'!$F$213","v":1775.2617643000001},{"$f":"'DNSP Inputs Capex'!$F$215","v":16},null,{"$f":"AN202*AO202","v":28404.188228800002},{"$f":"IFERROR((AQ202+AQ203+AQ204)/AO202,0)","v":0},null,{"$f":"'DNSP Inputs Capex'!$F$213*(1+'DNSP Inputs Capex'!$F$11)","v":1864.0248525150002},{"$f":"'DNSP Inputs Capex'!$F$216","v":13},null,{"$f":"AT202*AU202","v":24232.323082695002},{"$f":"IFERROR((AW202+AW203+AW204)/AU202,0)","v":0},null,{"$f":"'DNSP Inputs Capex'!$F$213*(1+'DNSP Inputs Capex'!$F$11)","v":1864.0248525150002},{"$f":"'DNSP Inputs Capex'!$F$217","v":10},null,{"$f":"AZ202*BA202","v":18640.248525150004},{"$f":"IFERROR((BC202+BC203+BC204)/BA202,0)","v":0},null,null,{"$f":"'DNSP Inputs Capex'!$G$213","v":1775.2617643000001},{"$f":"'DNSP Inputs Capex'!$G$215","v":16},null,{"$f":"BG202*BH202","v":28404.188228800002},{"$f":"IFERROR((BJ202+BJ203+BJ204)/BH202,0)","v":0},null,{"$f":"'DNSP Inputs Capex'!$G$213*(1+'DNSP Inputs Capex'!$G$11)","v":1864.0248525150002},{"$f":"'DNSP Inputs Capex'!$G$216","v":13},null,{"$f":"BM202*BN202","v":24232.323082695002},{"$f":"IFERROR((BP202+BP203+BP204)/BN202,0)","v":0},null,{"$f":"'DNSP Inputs Capex'!$G$213*(1+'DNSP Inputs Capex'!$G$11)","v":1864.0248525150002},{"$f":"'DNSP Inputs Capex'!$G$217","v":10},null,{"$f":"BS202*BT202","v":18640.248525150004},{"$f":"IFERROR((BV202+BV203+BV204)/BT202,0)","v":0},null,null,{"$f":"'DNSP Inputs Capex'!$H$213","v":1775.2617643000001},{"$f":"'DNSP Inputs Capex'!$H$215","v":16},null,{"$f":"BZ202*CA202","v":28404.188228800002},{"$f":"IFERROR((CC202+CC203+CC204)/CA202,0)","v":0},null,{"$f":"'DNSP Inputs Capex'!$H$213*(1+'DNSP Inputs Capex'!$H$11)","v":1864.0248525150002},{"$f":"'DNSP Inputs Capex'!$H$216","v":13},null,{"$f":"CF202*CG202","v":24232.323082695002},{"$f":"IFERROR((CI202+CI203+CI204)/CG202,0)","v":0},null,{"$f":"'DNSP Inputs Capex'!$H$213*(1+'DNSP Inputs Capex'!$H$11)","v":1864.0248525150002},{"$f":"'DNSP Inputs Capex'!$H$217","v":10},null,{"$f":"CL202*CM202","v":18640.248525150004},{"$f":"IFERROR((CO202+CO203+CO204)/CM202,0)","v":0}]
["Crew costs",{"$f":"'DNSP Inputs Capex'!$D$12","v":111.36223236834823},{"$f":"'DNSP Inputs Capex'!$D$214","v":2},{"$f":"'DNSP Inputs Capex'!$D$15","v":7.5},{"$f":"D203*C203*B203","v":1670.4334855252234},null,null,{"$f":"'DNSP Inputs Capex'!$D$12","v":111.36223236834823},{"$f":"'DNSP Inputs Capex'!$D$214","v":2},{"$f":"'DNSP Inputs Capex'!$D$15","v":7.5},{"$f":"J203*I203*H203","v":1670.4334855252234},null,null,{"$f":"'DNSP Inputs Capex'!$D$12","v":111.36223236834823},{"$f":"'DNSP Inputs Capex'!$D$214","v":2},{"$f":"'DNSP Inputs Capex'!$D$15","v":7.5},{"$f":"P203*O203*N203","v":1670.4334855252234},null,null,null,{"$f":"'DNSP Inputs Capex'!$E$12","v":{"$error":"#REF!"}},{"$f":"'DNSP Inputs Capex'!$E$214","v":2},{"$f":"'DNSP Inputs Capex'!$E$15","v":7.5},{"$f":"W203*V203*U203","v":{"$error":"#REF!"}},null,null,{"$f":"'DNSP Inputs Capex'!$E$12","v":{"$error":"#REF!"}},{"$f":"'DNSP Inputs Capex'!$E$214","v":2},{"$f":"'DNSP Inputs Capex'!$E$15","v":7.5},{"$f":"AC203*AB203*AA203","v":{"$error":"#REF!"}},null,null,{"$f":"'DNSP Inputs Capex'!$E$12","v":{"$error":"#REF!"}},{"$f":"'DNSP Inputs Capex'!$E$214","v":2},{"$f":"'DNSP Inputs Capex'!$E$15","v":7.5},{"$f":"AI203*AH203*AG203","v":{"$error":"#REF!"}},null,null,null,{"$f":"'DNSP Inputs Capex'!$F$12","v":{"$error":"#REF!"}},{"$f":"'DNSP Inputs Capex'!$F$214","v":2},{"$f":"'DNSP Inputs Capex'!$F$15","v":7.5},{"$f":"AP203*AO203*AN203","v":{"$error":"#REF!"}},null,null,{"$f":"'DNSP Inputs Capex'!$F$12","v":{"$error":"#REF!"}},{"$f":"'DNSP Inputs Capex'!$F$214","v":2},{"$f":"'DNSP Inputs Capex'!$F$15","v":7.5},{"$f":"AV203*AU203*AT203","v":{"$error":"#REF!"}},null,null,{"$f":"'DNSP Inputs Capex'!$F$12","v":{"$error":"#REF!"}},{"$f":"'DNSP Inputs Capex'!$F$214","v":2},{"$f":"'DNSP Inputs Capex'!$F$15","v":7.5},{"$f":"BB203*BA203*AZ203","v":{"$error":"#REF!"}},null,null,null,{"$f":"'DNSP Inputs Capex'!$G$12","v":{"$error":"#REF!"}},{"$f":"'DNSP Inputs Capex'!$G$214","v":2},{"$f":"'DNSP Inputs Capex'!$G$15","v":7.5},{"$f":"BI203*BH203*BG203","v":{"$error":"#REF!"}},null,null,{"$f":"'DNSP Inputs Capex'!$G$12","v":{"$error":"#REF!"}},{"$f":"'DNSP Inputs Capex'!$G$214","v":2},{"$f":"'DNSP Inputs Capex'!$G$15","v":7.5},{"$f":"BO203*BN203*BM203","v":{"$error":"#REF!"}},null,null,{"$f":"'DNSP Inputs Capex'!$G$12","v":{"$error":"#REF!"}},{"$f":"'DNSP Inputs Capex'!$G$214","v":2},{"$f":"'DNSP Inputs Capex'!$G$15","v":7.5},{"$f":"BU203*BT203*BS203","v":{"$error":"#REF!"}},null,null,null,{"$f":"'DNSP Inputs Capex'!$H$12","v":{"$error":"#REF!"}},{"$f":"'DNSP Inputs Capex'!$H$214","v":2},{"$f":"'DNSP Inputs Capex'!$H$15","v":7.5},{"$f":"CB203*CA203*BZ203","v":{"$error":"#REF!"}},null,null,{"$f":"'DNSP Inputs Capex'!$H$12","v":{"$error":"#REF!"}},{"$f":"'DNSP Inputs Capex'!$H$214","v":2},{"$f":"'DNSP Inputs Capex'!$H$15","v":7.5},{"$f":"CH203*CG203*CF203","v":{"$error":"#REF!"}},null,null,{"$f":"'DNSP Inputs Capex'!$H$12","v":{"$error":"#REF!"}},{"$f":"'DNSP Inputs Capex'!$H$214","v":2},{"$f":"'DNSP Inputs Capex'!$H$15","v":7.5},{"$f":"CN203*CM203*CL203","v":{"$error":"#REF!"}}]
["Elevated platform vehicle costs",{"$f":"'DNSP Inputs Capex'!$D$13","v":50.18},1,{"$f":"'DNSP Inputs Capex'!$D$15","v":7.5},{"$f":"B204*C204*D204","v":376.35},null,null,{"$f":"'DNSP Inputs Capex'!$D$14","v":63.64},1,{"$f":"'DNSP Inputs Capex'!$D$15","v":7.5},{"$f":"H204*I204*J204","v":477.3},null,null,{"$f":"'DNSP Inputs Capex'!$D$14","v":63.64},1,{"$f":"'DNSP Inputs Capex'!$D$15","v":7.5},{"$f":"N204*O204*P204","v":477.3},null,null,null,{"$f":"'DNSP Inputs Capex'!$E$13","v":50.18},1,{"$f":"'DNSP Inputs Capex'!$E$15","v":7.5},{"$f":"U204*V204*W204","v":376.35},null,null,{"$f":"'DNSP Inputs Capex'!$E$14","v":63.64},1,{"$f":"'DNSP Inputs Capex'!$E$15","v":7.5},{"$f":"AA204*AB204*AC204","v":477.3},null,null,{"$f":"'DNSP Inputs Capex'!$E$14","v":63.64},1,{"$f":"'DNSP Inputs Capex'!$E$15","v":7.5},{"$f":"AG204*AH204*AI204","v":477.3},null,null,null,{"$f":"'DNSP Inputs Capex'!$F$13","v":50.18},1,{"$f":"'DNSP Inputs Capex'!$F$15","v":7.5},{"$f":"AN204*AO204*AP204","v":376.35},null,null,{"$f":"'DNSP Inputs Capex'!$F$14","v":63.64},1,{"$f":"'DNSP Inputs Capex'!$F$15","v":7.5},{"$f":"AT204*AU204*AV204","v":477.3},null,null,{"$f":"'DNSP Inputs Capex'!$F$14","v":63.64},1,{"$f":"'DNSP Inputs Capex'!$F$15","v":7.5},{"$f":"AZ204*BA204*BB204","v":477.3},null,null,null,{"$f":"'DNSP Inputs Capex'!$G$13","v":50.18},1,{"$f":"'DNSP Inputs Capex'!$G$15","v":7.5},{"$f":"BG204*BH204*BI204","v":376.35},null,null,{"$f":"'DNSP Inputs Capex'!$G$14","v":63.64},1,{"$f":"'DNSP Inputs Capex'!$G$15","v":7.5},{"$f":"BM204*BN204*BO204","v":477.3},null,null,{"$f":"'DNSP Inputs Capex'!$G$14","v":63.64},1,{"$f":"'DNSP Inputs Capex'!$G$15","v":7.5},{"$f":"BS204*BT204*BU204","v":477.3},null,null,null,{"$f":"'DNSP Inputs Capex'!$H$13","v":50.18},1,{"$f":"'DNSP Inputs Capex'!$H$15","v":7.5},{"$f":"BZ204*CA204*CB204","v":376.35},null,null,{"$f":"'DNSP Inputs Capex'!$H$14","v":63.64},1,{"$f":"'DNSP Inputs Capex'!$H$15","v":7.5},{"$f":"CF204*CG204*CH204","v":477.3},null,null,{"$f":"'DNSP Inputs Capex'!$H$14","v":63.64},1,{"$f":"'DNSP Inputs Capex'!$H$15","v":7.5},{"$f":"CL204*CM204*CN204","v":477.3}]
[{"$f":"'DNSP Inputs Capex'!$A$185","v":"Other Capex unit costs Describe :………………………"},null,null,null,null,{"$f":"'DNSP Inputs Capex'!$D$219","v":0},null,null,null,null,null,{"$f":"'DNSP Inputs Capex'!$D$219","v":0},null,null,null,null,null,{"$f":"'DNSP Inputs Capex'!$D$219","v":0},null,null,null,null,null,null,{"$f":"'DNSP Inputs Capex'!$E$219","v":0},null,null,null,null,null,{"$f":"'DNSP Inputs Capex'!$E$219","v":0},null,null,null,null,null,{"$f":"'DNSP Inputs Capex'!$E$219","v":0},null,null,null,null,null,null,{"$f":"'DNSP Inputs Capex'!$F$219","v":0},null,null,null,null,null,{"$f":"'DNSP Inputs Capex'!$F$219","v":0},null,null,null,null,null,{"$f":"'DNSP Inputs Capex'!$F$219","v":0},null,null,null,null,null,null,{"$f":"'DNSP Inputs Capex'!$G$219","v":0},null,null,null,null,null,{"$f":"'DNSP Inputs Capex'!$G$219","v":0},null,null,null,null,null,{"$f":"'DNSP Inputs Capex'!$G$219","v":0},null,null,null,null,null,null,{"$f":"'DNSP Inputs Capex'!$H$219","v":0},null,null,null,null,null,{"$f":"'DNSP Inputs Capex'!$H$219","v":0},null,null,null,null,null,{"$f":"'DNSP Inputs Capex'!$H$219","v":0}]
[null,null,null,null,null,{"$f":"SUM(F202,F205)","v":1903.1857321453265},null,null,null,null,null,{"$f":"SUM(L202,L205)","v":2029.2351206323251},null,null,null,null,null,{"$f":"SUM(R202,R205)","v":2078.7982010675228},null,null,null,null,null,null,{"$f":"SUM(Y202,Y205)","v":0},null,null,null,null,null,{"$f":"SUM(AE202,AE205)","v":0},null,null,null,null,null,{"$f":"SUM(AK202,AK205)","v":0},null,null,null,null,null,null,{"$f":"SUM(AR202,AR205)","v":0},null,null,null,null,null,{"$f":"SUM(AX202,AX205)","v":0},null,null,null,null,null,{"$f":"SUM(BD202,BD205)","v":0},null,null,null,null,null,null,{"$f":"SUM(BK202,BK205)","v":0},null,null,null,null,null,{"$f":"SUM(BQ202,BQ205)","v":0},null,null,null,null,null,{"$f":"SUM(BW202,BW205)","v":0},null,null,null,null,null,null,{"$f":"SUM(CD202,CD205)","v":0},null,null,null,null,null,{"$f":"SUM(CJ202,CJ205)","v":0},null,null,null,null,null,{"$f":"SUM(CP202,CP205)","v":0}]
[]
["Number of luminaires replaced",null,null,null,null,{"$f":"'DNSP Inputs Capex'!$D$222","v":47.268498970173503},null,null,null,null,null,{"$f":"'DNSP Inputs Capex'!$D$223","v":11.93907649427241},null,null,null,null,null,{"$f":"'DNSP Inputs Capex'!$D$224","v":2.3170832828516423},null,null,null,null,null,null,{"$f":"'DNSP Inputs Capex'!$E$222","v":47.74717948102267},null,null,null,null,null,{"$f":"'DNSP Inputs Capex'!$E$223","v":12.059981607822804},null,null,null,null,null,{"$f":"'DNSP Inputs Capex'!$E$224","v":2.3405480137756207},null,null,null,null,null,null,{"$f":"'DNSP Inputs Capex'!$F$222","v":48.230586257450312},null,null,null,null,null,{"$f":"'DNSP Inputs Capex'!$F$223","v":12.182080481435463},null,null,null,null,null,{"$f":"'DNSP Inputs Capex'!$F$224","v":2.3642444243848191},null,null,null,null,null,null,{"$f":"'DNSP Inputs Capex'!$G$222","v":48.720148985545258},null,null,null,null,null,{"$f":"'DNSP Inputs Capex'!$G$223","v":12.30573422519319},null,null,null,null,null,{"$f":"'DNSP Inputs Capex'!$G$224","v":2.3882425973306498},null,null,null,null,null,null,{"$f":"'DNSP Inputs Capex'!$H$222","v":9.2715815975009477},null,null,null,null,null,{"$f":"'DNSP Inputs Capex'!$H$223","v":2.3418158885328757},null,null,null,null,null,{"$f":"'DNSP Inputs Capex'!$H$224","v":0.45448929399514443}]
[]
["Capex",null,null,null,null,{"$f":"F206*F208","v":89960.732819960263},null,null,null,null,null,{"$f":"L206*L208","v":24227.193330093429},null,null,null,null,null,{"$f":"R206*R208","v":4816.7485601156241},null,null,null,null,null,null,{"$f":"Y206*Y208","v":0},null,null,null,null,null,{"$f":"AE206*AE208","v":0},null,null,null,null,null,{"$f":"AK206*AK208","v":0},null,null,null,null,null,null,{"$f":"AR206*AR208","v":0},null,null,null,null,null,{"$f":"AX206*AX208","v":0},null,null,null,null,null,{"$f":"BD206*BD208","v":0},null,null,null,null,null,null,{"$f":"BK206*BK208","v":0},null,null,null,null,null,{"$f":"BQ206*BQ208","v":0},null,null,null,null,null,{"$f":"BW206*BW208","v":0},null,null,null,null,null,null,{"$f":"CD206*CD208","v":0},null,null,null,null,null,{"$f":"CJ206*CJ208","v":0},null,null,null,null,null,{"$f":"CP206*CP208","v":0}]
[]
[]
[{"$f":"#REF!","v":{"$error":"#REF!"}}]
["Luminaires "]
["Material",{"$f":"'DNSP Inputs Capex'!$D$229","v":402},{"$f":"'DNSP Inputs Capex'!$D$231","v":16},null,{"$f":"B215*C215","v":6432},{"$f":"IFERROR((E215+E216+E217)/C215,0)","v":529.9239678453265},null,{"$f":"'DNSP Inputs Capex'!$D$229*(1+'DNSP Inputs Capex'!$D$11)","v":422.1},{"$f":"'DNSP Inputs Capex'!$D$232","v":13},null,{"$f":"H215*I215","v":5487.3},{"$f":"IFERROR((K215+K216+K217)/I215,0)","v":587.31026811732488},null,{"$f":"'DNSP Inputs Capex'!$D$229*(1+'DNSP Inputs Capex'!$D$11)","v":422.1},{"$f":"'DNSP Inputs Capex'!$D$233","v":10},null,{"$f":"N215*O215","v":4221},{"$f":"IFERROR((Q215+Q216+Q217)/O215,0)","v":636.87334855252243},null,null,{"$f":"'DNSP Inputs Capex'!$E$229","v":402},{"$f":"'DNSP Inputs Capex'!$E$231","v":16},null,{"$f":"U215*V215","v":6432},{"$f":"IFERROR((X215+X216+X217)/V215,0)","v":0},null,{"$f":"'DNSP Inputs Capex'!$E$229*(1+'DNSP Inputs Capex'!$E$11)","v":422.1},{"$f":"'DNSP Inputs Capex'!$E$232","v":13},null,{"$f":"AA215*AB215","v":5487.3},{"$f":"IFERROR((AD215+AD216+AD217)/AB215,0)","v":0},null,{"$f":"'DNSP Inputs Capex'!$E$229*(1+'DNSP Inputs Capex'!$E$11)","v":422.1},{"$f":"'DNSP Inputs Capex'!$E$233","v":10},null,{"$f":"AG215*AH215","v":4221},{"$f":"IFERROR((AJ215+AJ216+AJ217)/AH215,0)","v":0},null,null,{"$f":"'DNSP Inputs Capex'!$F$229","v":402},{"$f":"'DNSP Inputs Capex'!$F$231","v":16},null,{"$f":"AN215*AO215","v":6432},{"$f":"IFERROR((AQ215+AQ216+AQ217)/AO215,0)","v":0},null,{"$f":"'DNSP Inputs Capex'!$F$229*(1+'DNSP Inputs Capex'!$F$11)","v":422.1},{"$f":"'DNSP Inputs Capex'!$F$232","v":13},null,{"$f":"AT215*AU215","v":5487.3},{"$f":"IFERROR((AW215+AW216+AW217)/AU215,0)","v":0},null,{"$f":"'DNSP Inputs Capex'!$F$229*(1+'DNSP Inputs Capex'!$F$11)","v":422.1},{"$f":"'DNSP Inputs Capex'!$F$233","v":10},null,{"$f":"AZ215*BA215","v":4221},{"$f":"IFERROR((BC215+BC216+BC217)/BA215,0)","v":0},null,null,{"$f":"'DNSP Inputs Capex'!$G$229","v":402},{"$f":"'DNSP Inputs Capex'!$G$231","v":16},null,{"$f":"BG215*BH215","v":6432},{"$f":"IFERROR((BJ215+BJ216+BJ217)/BH215,0)","v":0},null,{"$f":"'DNSP Inputs Capex'!$G$229*(1+'DNSP Inputs Capex'!$G$11)","v":422.1},{"$f":"'DNSP Inputs Capex'!$G$232","v":13},null,{"$f":"BM215*BN215","v":5487.3},{"$f":"IFERROR((BP215+BP216+BP217)/BN215,0)","v":0},null,{"$f":"'DNSP Inputs Capex'!$G$229*(1+'DNSP Inputs Capex'!$G$11)","v":422.1},{"$f":"'DNSP Inputs Capex'!$G$233","v":10},null,{"$f":"BS215*BT215","v":4221},{"$f":"IFERROR((BV215+BV216+BV217)/BT215,0)","v":0},null,null,{"$f":"'DNSP Inputs Capex'!$H$229","v":402},{"$f":"'DNSP Inputs Capex'!$H$231","v":16},null,{"$f":"BZ215*CA215","v":6432},{"$f":"IFERROR((CC215+CC216+CC217)/CA215,0)","v":0},null,{"$f":"'DNSP Inputs Capex'!$H$229*(1+'DNSP Inputs Capex'!$H$11)","v":422.1},{"$f":"'DNSP Inputs Capex'!$H$232","v":13},null,{"$f":"CF215*CG215","v":5487.3},{"$f":"IFERROR((CI215+CI216+CI217)/CG215,0)","v":0},null,{"$f":"'DNSP Inputs Capex'!$H$229*(1+'DNSP Inputs Capex'!$H$11)","v":422.1},{"$f":"'DNSP Inputs Capex'!$H$233","v":10},null,{"$f":"CL215*CM215","v":4221},{"$f":"IFERROR((CO215+CO216+CO217)/CM215,0)","v":0}]
["Crew costs",{"$f":"'DNSP Inputs Capex'!$D$12","v":111.36223236834823},{"$f":"'DNSP Inputs Capex'!$D$230","v":2},{"$f":"'DNSP Inputs Capex'!$D$15","v":7.5},{"$f":"D216*C216*B216","v":1670.4334855252234},null,null,{"$f":"'DNSP Inputs Capex'!$D$12","v":111.36223236834823},{"$f":"'DNSP Inputs Capex'!$D$230","v":2},{"$f":"'DNSP Inputs Capex'!$D$15","v":7.5},{"$f":"J216*I216*H216","v":1670.4334855252234},null,null,{"$f":"'DNSP Inputs Capex'!$D$12","v":111.36223236834823},{"$f":"'DNSP Inputs Capex'!$D$230","v":2},{"$f":"'DNSP Inputs Capex'!$D$15","v":7.5},{"$f":"P216*O216*N216","v":1670.4334855252234},null,null,null,{"$f":"'DNSP Inputs Capex'!$E$12","v":{"$error":"#REF!"}},{"$f":"'DNSP Inputs Capex'!$E$230","v":2},{"$f":"'DNSP Inputs Capex'!$E$15","v":7.5},{"$f":"W216*V216*U216","v":{"$error":"#REF!"}},null,null,{"$f":"'DNSP Inputs Capex'!$E$12","v":{"$error":"#REF!"}},{"$f":"'DNSP Inputs Capex'!$E$230","v":2},{"$f":"'DNSP Inputs Capex'!$E$15","v":7.5},{"$f":"AC216*AB216*AA216","v":{"$error":"#REF!"}},null,null,{"$f":"'DNSP Inputs Capex'!$E$12","v":{"$error":"#REF!"}},{"$f":"'DNSP Inputs Capex'!$E$230","v":2},{"$f":"'DNSP Inputs Capex'!$E$15","v":7.5},{"$f":"AI216*AH216*AG216","v":{"$error":"#REF!"}},null,null,null,{"$f":"'DNSP Inputs Capex'!$F$12","v":{"$error":"#REF!"}},{"$f":"'DNSP Inputs Capex'!$F$230","v":2},{"$f":"'DNSP Inputs Capex'!$F$15","v":7.5},{"$f":"AP216*AO216*AN216","v":{"$error":"#REF!"}},null,null,{"$f":"'DNSP Inputs Capex'!$F$12","v":{"$error":"#REF!"}},{"$f":"'DNSP Inputs Capex'!$F$230","v":2},{"$f":"'DNSP Inputs Capex'!$F$15","v":7.5},{"$f":"AV216*AU216*AT216","v":{"$error":"#REF!"}},null,null,{"$f":"'DNSP Inputs Capex'!$F$12","v":{"$error":"#REF!"}},{"$f":"'DNSP Inputs Capex'!$F$230","v":2},{"$f":"'DNSP Inputs Capex'!$F$15","v":7.5},{"$f":"BB216*BA216*AZ216","v":{"$error":"#REF!"}},null,null,null,{"$f":"'DNSP Inputs Capex'!$G$12","v":{"$error":"#REF!"}},{"$f":"'DNSP Inputs Capex'!$G$230","v":2},{"$f":"'DNSP Inputs Capex'!$G$15","v":7.5},{"$f":"BI216*BH216*BG216","v":{"$error":"#REF!"}},null,null,{"$f":"'DNSP Inputs Capex'!$G$12","v":{"$error":"#REF!"}},{"$f":"'DNSP Inputs Capex'!$G$230","v":2},{"$f":"'DNSP Inputs Capex'!$G$15","v":7.5},{"$f":"BO216*BN216*BM216","v":{"$error":"#REF!"}},null,null,{"$f":"'DNSP Inputs Capex'!$G$12","v":{"$error":"#REF!"}},{"$f":"'DNSP Inputs Capex'!$G$230","v":2},{"$f":"'DNSP Inputs Capex'!$G$15","v":7.5},{"$f":"BU216*BT216*BS216","v":{"$error":"#REF!"}},null,null,null,{"$f":"'DNSP Inputs Capex'!$H$12","v":{"$error":"#REF!"}},{"$f":"'DNSP Inputs Capex'!$H$230","v":2},{"$f":"'DNSP Inputs Capex'!$H$15","v":7.5},{"$f":"CB216*CA216*BZ216","v":{"$error":"#REF!"}},null,null,{"$f":"'DNSP Inputs Capex'!$H$12","v":{"$error":"#REF!"}},{"$f":"'DNSP Inputs Capex'!$H$230","v":2},{"$f":"'DNSP Inputs Capex'!$H$15","v":7.5},{"$f":"CH216*CG216*CF216","v":{"$error":"#REF!"}},null,null,{"$f":"'DNSP Inputs Capex'!$H$12","v":{"$error":"#REF!"}},{"$f":"'DNSP Inputs Capex'!$H$230","v":2},{"$f":"'DNSP Inputs Capex'!$H$15","v":7.5},{"$f":"CN216*CM216*CL216","v":{"$error":"#REF!"}}]
["Elevated platform vehicle costs",{"$f":"'DNSP Inputs Capex'!$D$13","v":50.18},1,{"$f":"'DNSP Inputs Capex'!$D$15","v":7.5},{"$f":"B217*C217*D217","v":376.35},null,null,{"$f":"'DNSP Inputs Capex'!$D$14","v":63.64},1,{"$f":"'DNSP Inputs Capex'!$D$15","v":7.5},{"$f":"H217*I217*J217","v":477.3},null,null,{"$f":"'DNSP Inputs Capex'!$D$14","v":63.64},1,{"$f":"'DNSP Inputs Capex'!$D$15","v":7.5},{"$f":"N217*O217*P217","v":477.3},null,null,null,{"$f":"'DNSP Inputs Capex'!$E$13","v":50.18},1,{"$f":"'DNSP Inputs Capex'!$E$15","v":7.5},{"$f":"U217*V217*W217","v":376.35},null,null,{"$f":"'DNSP Inputs Capex'!$E$14","v":63.64},1,{"$f":"'DNSP Inputs Capex'!$E$15","v":7.5},{"$f":"AA217*AB217*AC217","v":477.3},null,null,{"$f":"'DNSP Inputs Capex'!$E$14","v":63.64},1,{"$f":"'DNSP Inputs Capex'!$E$15","v":7.5},{"$f":"AG217*AH217*AI217","v":477.3},null,null,null,{"$f":"'DNSP Inputs Capex'!$F$13","v":50.18},1,{"$f":"'DNSP Inputs Capex'!$F$15","v":7.5},{"$f":"AN217*AO217*AP217","v":376.35},null,null,{"$f":"'DNSP Inputs Capex'!$F$14","v":63.64},1,{"$f":"'DNSP Inputs Capex'!$F$15","v":7.5},{"$f":"AT217*AU217*AV217","v":477.3},null,null,{"$f":"'DNSP Inputs Capex'!$F$14","v":63.64},1,{"$f":"'DNSP Inputs Capex'!$F$15","v":7.5},{"$f":"AZ217*BA217*BB217","v":477.3},null,null,null,{"$f":"'DNSP Inputs Capex'!$G$13","v":50.18},1,{"$f":"'DNSP Inputs Capex'!$G$15","v":7.5},{"$f":"BG217*BH217*BI217","v":376.35},null,null,{"$f":"'DNSP Inputs Capex'!$G$14","v":63.64},1,{"$f":"'DNSP Inputs Capex'!$G$15","v":7.5},{"$f":"BM217*BN217*BO217","v":477.3},null,null,{"$f":"'DNSP Inputs Capex'!$G$14","v":63.64},1,{"$f":"'DNSP Inputs Capex'!$G$15","v":7.5},{"$f":"BS217*BT217*BU217","v":477.3},null,null,null,{"$f":"'DNSP Inputs Capex'!$H$13","v":50.18},1,{"$f":"'DNSP Inputs Capex'!$H$15","v":7.5},{"$f":"BZ217*CA217*CB217","v":376.35},null,null,{"$f":"'DNSP Inputs Capex'!$H$14","v":63.64},1,{"$f":"'DNSP Inputs Capex'!$H$15","v":7.5},{"$f":"CF217*CG217*CH217","v":477.3},null,null,{"$f":"'DNSP Inputs Capex'!$H$14","v":63.64},1,{"$f":"'DNSP Inputs Capex'!$H$15","v":7.5},{"$f":"CL217*CM217*CN217","v":477.3}]
[{"$f":"'DNSP Inputs Capex'!$A$185","v":"Other Capex unit costs Describe :………………………"},null,null,null,null,{"$f":"'DNSP Inputs Capex'!$D$235","v":0},null,null,null,null,null,{"$f":"'DNSP Inputs Capex'!$D$235","v":0},null,null,null,null,null,{"$f":"'DNSP Inputs Capex'!$D$235","v":0},null,null,null,null,null,null,{"$f":"'DNSP Inputs Capex'!$E$235","v":0},null,null,null,null,null,{"$f":"'DNSP Inputs Capex'!$E$235","v":0},null,null,null,null,null,{"$f":"'DNSP Inputs Capex'!$E$235","v":0},null,null,null,null,null,null,{"$f":"'DNSP Inputs Capex'!$F$235","v":0},null,null,null,null,null,{"$f":"'DNSP Inputs Capex'!$F$235","v":0},null,null,null,null,null,{"$f":"'DNSP Inputs Capex'!$F$235","v":0},null,null,null,null,null,null,{"$f":"'DNSP Inputs Capex'!$G$235","v":0},null,null,null,null,null,{"$f":"'DNSP Inputs Capex'!$G$235","v":0},null,null,null,null,null,{"$f":"'DNSP Inputs Capex'!$G$235","v":0},null,null,null,null,null,null,{"$f":"'DNSP Inputs Capex'!$H$235","v":0},null,null,null,null,null,{"$f":"'DNSP Inputs Capex'!$H$235","v":0},null,null,null,null,null,{"$f":"'DNSP Inputs Capex'!$H$235","v":0}]
[null,null,null,null,null,{"$f":"SUM(F215,F218)","v":529.9239678453265},null,null,null,null,null,{"$f":"SUM(L215,L218)","v":587.31026811732488},null,null,null,null,null,{"$f":"SUM(R215,R218)","v":636.87334855252243},null,null,null,null,null,null,{"$f":"SUM(Y215,Y218)","v":0},null,null,null,null,null,{"$f":"SUM(AE215,AE218)","v":0},null,null,null,null,null,{"$f":"SUM(AK215,AK218)","v":0},null,null,null,null,null,null,{"$f":"SUM(AR215,AR218)","v":0},null,null,null,null,null,{"$f":"SUM(AX215,AX218)","v":0},null,null,null,null,null,{"$f":"SUM(BD215,BD218)","v":0},null,null,null,null,null,null,{"$f":"SUM(BK215,BK218)","v":0},null,null,null,null,null,{"$f":"SUM(BQ215,BQ218)","v":0},null,null,null,null,null,{"$f":"SUM(BW215,BW218)","v":0},null,null,null,null,null,null,{"$f":"SUM(CD215,CD218)","v":0},null,null,null,null,null,{"$f":"SUM(CJ215,CJ218)","v":0},null,null,null,null,null,{"$f":"SUM(CP215,CP218)","v":0}]
[]
["Number of luminaires replaced",null,null,null,null,{"$f":"'DNSP Inputs Capex'!$D$238","v":77},null,null,null,null,null,{"$f":"'DNSP Inputs Capex'!$D$239","v":19},null,null,null,null,null,{"$f":"'DNSP Inputs Capex'!$D$240","v":4},null,null,null,null,null,null,{"$f":"'DNSP Inputs Capex'!$E$238","v":77},null,null,null,null,null,{"$f":"'DNSP Inputs Capex'!$E$239","v":19},null,null,null,null,null,{"$f":"'DNSP Inputs Capex'!$E$240","v":4},null,null,null,null,null,null,{"$f":"'DNSP Inputs Capex'!$F$238","v":76.903152091006234},null,null,null,null,null,{"$f":"'DNSP Inputs Capex'!$F$239","v":19.826157352191721},null,null,null,null,null,{"$f":"'DNSP Inputs Capex'!$F$240","v":3.9070172593630508},null,null,null,null,null,null,{"$f":"'DNSP Inputs Capex'!$G$238","v":76.903152091006234},null,null,null,null,null,{"$f":"'DNSP Inputs Capex'!$G$239","v":19.826157352191721},null,null,null,null,null,{"$f":"'DNSP Inputs Capex'!$G$240","v":3.9070172593630508},null,null,null,null,null,null,{"$f":"'DNSP Inputs Capex'!$H$238","v":11.696015514894436},null,null,null,null,null,{"$f":"'DNSP Inputs Capex'!$H$239","v":2},null,null,null,null,null,{"$f":"'DNSP Inputs Capex'!$H$240","v":0}]
[]
["Capex",null,null,null,null,{"$f":"F219*F221","v":40804.145524090141},null,null,null,null,null,{"$f":"L219*L221","v":11158.895094229172},null,null,null,null,null,{"$f":"R219*R221","v":2547.4933942100897},null,null,null,null,null,null,{"$f":"Y219*Y221","v":0},null,null,null,null,null,{"$f":"AE219*AE221","v":0},null,null,null,null,null,{"$f":"AK219*AK221","v":0},null,null,null,null,null,null,{"$f":"AR219*AR221","v":0},null,null,null,null,null,{"$f":"AX219*AX221","v":0},null,null,null,null,null,{"$f":"BD219*BD221","v":0},null,null,null,null,null,null,{"$f":"BK219*BK221","v":0},null,null,null,null,null,{"$f":"BQ219*BQ221","v":0},null,null,null,null,null,{"$f":"BW219*BW221","v":0},null,null,null,null,null,null,{"$f":"CD219*CD221","v":0},null,null,null,null,null,{"$f":"CJ219*CJ221","v":0},null,null,null,null,null,{"$f":"CP219*CP221","v":0}]
[]
[]
[{"$f":"#REF!","v":{"$error":"#REF!"}}]
["Luminaires "]
["Material",{"$f":"'DNSP Inputs Capex'!$D$244","v":427},{"$f":"'DNSP Inputs Capex'!$D$246","v":16},null,{"$f":"B228*C228","v":6832},{"$f":"IFERROR((E228+E229+E230)/C228,0)","v":554.9239678453265},null,{"$f":"'DNSP Inputs Capex'!$D$244*(1+'DNSP Inputs Capex'!$D$11)","v":448.35},{"$f":"'DNSP Inputs Capex'!$D$247","v":13},null,{"$f":"H228*I228","v":5828.55},{"$f":"IFERROR((K228+K229+K230)/I228,0)","v":613.56026811732488},null,{"$f":"'DNSP Inputs Capex'!$D$244*(1+'DNSP Inputs Capex'!$D$11)","v":448.35},{"$f":"'DNSP Inputs Capex'!$D$248","v":10},null,{"$f":"N228*O228","v":4483.5},{"$f":"IFERROR((Q228+Q229+Q230)/O228,0)","v":663.12334855252243},null,null,{"$f":"'DNSP Inputs Capex'!$E$244","v":427},{"$f":"'DNSP Inputs Capex'!$E$246","v":16},null,{"$f":"U228*V228","v":6832},{"$f":"IFERROR((X228+X229+X230)/V228,0)","v":0},null,{"$f":"'DNSP Inputs Capex'!$E$244*(1+'DNSP Inputs Capex'!$E$11)","v":448.35},{"$f":"'DNSP Inputs Capex'!$E$247","v":13},null,{"$f":"AA228*AB228","v":5828.55},{"$f":"IFERROR((AD228+AD229+AD230)/AB228,0)","v":0},null,{"$f":"'DNSP Inputs Capex'!$E$244*(1+'DNSP Inputs Capex'!$E$11)","v":448.35},{"$f":"'DNSP Inputs Capex'!$E$248","v":10},null,{"$f":"AG228*AH228","v":4483.5},{"$f":"IFERROR((AJ228+AJ229+AJ230)/AH228,0)","v":0},null,null,{"$f":"'DNSP Inputs Capex'!$F$244","v":427},{"$f":"'DNSP Inputs Capex'!$F$246","v":16},null,{"$f":"AN228*AO228","v":6832},{"$f":"IFERROR((AQ228+AQ229+AQ230)/AO228,0)","v":0},null,{"$f":"'DNSP Inputs Capex'!$F$244*(1+'DNSP Inputs Capex'!$F$11)","v":448.35},{"$f":"'DNSP Inputs Capex'!$F$247","v":13},null,{"$f":"AT228*AU228","v":5828.55},{"$f":"IFERROR((AW228+AW229+AW230)/AU228,0)","v":0},null,{"$f":"'DNSP Inputs Capex'!$F$244*(1+'DNSP Inputs Capex'!$F$11)","v":448.35},{"$f":"'DNSP Inputs Capex'!$F$248","v":10},null,{"$f":"AZ228*BA228","v":4483.5},{"$f":"IFERROR((BC228+BC229+BC230)/BA228,0)","v":0},null,null,{"$f":"'DNSP Inputs Capex'!$G$244","v":427},{"$f":"'DNSP Inputs Capex'!$G$246","v":16},null,{"$f":"BG228*BH228","v":6832},{"$f":"IFERROR((BJ228+BJ229+BJ230)/BH228,0)","v":0},null,{"$f":"'DNSP Inputs Capex'!$G$244*(1+'DNSP Inputs Capex'!$G$11)","v":448.35},{"$f":"'DNSP Inputs Capex'!$G$247","v":13},null,{"$f":"BM228*BN228","v":5828.55},{"$f":"IFERROR((BP228+BP229+BP230)/BN228,0)","v":0},null,{"$f":"'DNSP Inputs Capex'!$G$244*(1+'DNSP Inputs Capex'!$G$11)","v":448.35},{"$f":"'DNSP Inputs Capex'!$G$248","v":10},null,{"$f":"BS228*BT228","v":4483.5},{"$f":"IFERROR((BV228+BV229+BV230)/BT228,0)","v":0},null,null,{"$f":"'DNSP Inputs Capex'!$H$244","v":427},{"$f":"'DNSP Inputs Capex'!$H$246","v":16},null,{"$f":"BZ228*CA228","v":6832},{"$f":"IFERROR((CC228+CC229+CC230)/CA228,0)","v":0},null,{"$f":"'DNSP Inputs Capex'!$H$244*(1+'DNSP Inputs Capex'!$H$11)","v":448.35},{"$f":"'DNSP Inputs Capex'!$H$247","v":13},null,{"$f":"CF228*CG228","v":5828.55},{"$f":"IFERROR((CI228+CI229+CI230)/CG228,0)","v":0},null,{"$f":"'DNSP Inputs Capex'!$H$244*(1+'DNSP Inputs Capex'!$H$11)","v":448.35},{"$f":"'DNSP Inputs Capex'!$H$248","v":10},null,{"$f":"CL228*CM228","v":4483.5},{"$f":"IFERROR((CO228+CO229+CO230)/CM228,0)","v":0}]
["Crew costs",{"$f":"'DNSP Inputs Capex'!$D$12","v":111.36223236834823},{"$f":"'DNSP Inputs Capex'!$D$245","v":2},{"$f":"'DNSP Inputs Capex'!$D$15","v":7.5},{"$f":"D229*C229*B229","v":1670.4334855252234},null,null,{"$f":"'DNSP Inputs Capex'!$D$12","v":111.36223236834823},{"$f":"'DNSP Inputs Capex'!$D$245","v":2},{"$f":"'DNSP Inputs Capex'!$D$15","v":7.5},{"$f":"J229*I229*H229","v":1670.4334855252234},null,null,{"$f":"'DNSP Inputs Capex'!$D$12","v":111.36223236834823},{"$f":"'DNSP Inputs Capex'!$D$245","v":2},{"$f":"'DNSP Inputs Capex'!$D$15","v":7.5},{"$f":"P229*O229*N229","v":1670.4334855252234},null,null,null,{"$f":"'DNSP Inputs Capex'!$E$12","v":{"$error":"#REF!"}},{"$f":"'DNSP Inputs Capex'!$E$245","v":2},{"$f":"'DNSP Inputs Capex'!$E$15","v":7.5},{"$f":"W229*V229*U229","v":{"$error":"#REF!"}},null,null,{"$f":"'DNSP Inputs Capex'!$E$12","v":{"$error":"#REF!"}},{"$f":"'DNSP Inputs Capex'!$E$245","v":2},{"$f":"'DNSP Inputs Capex'!$E$15","v":7.5},{"$f":"AC229*AB229*AA229","v":{"$error":"#REF!"}},null,null,{"$f":"'DNSP Inputs Capex'!$E$12","v":{"$error":"#REF!"}},{"$f":"'DNSP Inputs Capex'!$E$245","v":2},{"$f":"'DNSP Inputs Capex'!$E$15","v":7.5},{"$f":"AI229*AH229*AG229","v":{"$error":"#REF!"}},null,null,null,{"$f":"'DNSP Inputs Capex'!$F$12","v":{"$error":"#REF!"}},{"$f":"'DNSP Inputs Capex'!$F$245","v":2},{"$f":"'DNSP Inputs Capex'!$F$15","v":7.5},{"$f":"AP229*AO229*AN229","v":{"$error":"#REF!"}},null,null,{"$f":"'DNSP Inputs Capex'!$F$12","v":{"$error":"#REF!"}},{"$f":"'DNSP Inputs Capex'!$F$245","v":2},{"$f":"'DNSP Inputs Capex'!$F$15","v":7.5},{"$f":"AV229*AU229*AT229","v":{"$error":"#REF!"}},null,null,{"$f":"'DNSP Inputs Capex'!$F$12","v":{"$error":"#REF!"}},{"$f":"'DNSP Inputs Capex'!$F$245","v":2},{"$f":"'DNSP Inputs Capex'!$F$15","v":7.5},{"$f":"BB229*BA229*AZ229","v":{"$error":"#REF!"}},null,null,null,{"$f":"'DNSP Inputs Capex'!$G$12","v":{"$error":"#REF!"}},{"$f":"'DNSP Inputs Capex'!$G$245","v":2},{"$f":"'DNSP Inputs Capex'!$G$15","v":7.5},{"$f":"BI229*BH229*BG229","v":{"$error":"#REF!"}},null,null,{"$f":"'DNSP Inputs Capex'!$G$12","v":{"$error":"#REF!"}},{"$f":"'DNSP Inputs Capex'!$G$245","v":2},{"$f":"'DNSP Inputs Capex'!$G$15","v":7.5},{"$f":"BO229*BN229*BM229","v":{"$error":"#REF!"}},null,null,{"$f":"'DNSP Inputs Capex'!$G$12","v":{"$error":"#REF!"}},{"$f":"'DNSP Inputs Capex'!$G$245","v":2},{"$f":"'DNSP Inputs Capex'!$G$15","v":7.5},{"$f":"BU229*BT229*BS229","v":{"$error":"#REF!"}},null,null,null,{"$f":"'DNSP Inputs Capex'!$H$12","v":{"$error":"#REF!"}},{"$f":"'DNSP Inputs Capex'!$H$245","v":2},{"$f":"'DNSP Inputs Capex'!$H$15","v":7.5},{"$f":"CB229*CA229*BZ229","v":{"$error":"#REF!"}},null,null,{"$f":"'DNSP Inputs Capex'!$H$12","v":{"$error":"#REF!"}},{"$f":"'DNSP Inputs Capex'!$H$245","v":2},{"$f":"'DNSP Inputs Capex'!$H$15","v":7.5},{"$f":"CH229*CG229*CF229","v":{"$error":"#REF!"}},null,null,{"$f":"'DNSP Inputs Capex'!$H$12","v":{"$error":"#REF!"}},{"$f":"'DNSP Inputs Capex'!$H$245","v":2},{"$f":"'DNSP Inputs Capex'!$H$15","v":7.5},{"$f":"CN229*CM229*CL229","v":{"$error":"#REF!"}}]
["Elevated platform vehicle costs",{"$f":"'DNSP Inputs Capex'!$D$13","v":50.18},1,{"$f":"'DNSP Inputs Capex'!$D$15","v":7.5},{"$f":"B230*C230*D230","v":376.35},null,null,{"$f":"'DNSP Inputs Capex'!$D$14","v":63.64},1,{"$f":"'DNSP Inputs Capex'!$D$15","v":7.5},{"$f":"H230*I230*J230","v":477.3},null,null,{"$f":"'DNSP Inputs Capex'!$D$14","v":63.64},1,{"$f":"'DNSP Inputs Capex'!$D$15","v":7.5},{"$f":"N230*O230*P230","v":477.3},null,null,null,{"$f":"'DNSP Inputs Capex'!$E$13","v":50.18},1,{"$f":"'DNSP Inputs Capex'!$E$15","v":7.5},{"$f":"U230*V230*W230","v":376.35},null,null,{"$f":"'DNSP Inputs Capex'!$E$14","v":63.64},1,{"$f":"'DNSP Inputs Capex'!$E$15","v":7.5},{"$f":"AA230*AB230*AC230","v":477.3},null,null,{"$f":"'DNSP Inputs Capex'!$E$14","v":63.64},1,{"$f":"'DNSP Inputs Capex'!$E$15","v":7.5},{"$f":"AG230*AH230*AI230","v":477.3},null,null,null,{"$f":"'DNSP Inputs Capex'!$F$13","v":50.18},1,{"$f":"'DNSP Inputs Capex'!$F$15","v":7.5},{"$f":"AN230*AO230*AP230","v":376.35},null,null,{"$f":"'DNSP Inputs Capex'!$F$14","v":63.64},1,{"$f":"'DNSP Inputs Capex'!$F$15","v":7.5},{"$f":"AT230*AU230*AV230","v":477.3},null,null,{"$f":"'DNSP Inputs Capex'!$F$14","v":63.64},1,{"$f":"'DNSP Inputs Capex'!$F$15","v":7.5},{"$f":"AZ230*BA230*BB230","v":477.3},null,null,null,{"$f":"'DNSP Inputs Capex'!$G$13","v":50.18},1,{"$f":"'DNSP Inputs Capex'!$G$15","v":7.5},{"$f":"BG230*BH230*BI230","v":376.35},null,null,{"$f":"'DNSP Inputs Capex'!$G$14","v":63.64},1,{"$f":"'DNSP Inputs Capex'!$G$15","v":7.5},{"$f":"BM230*BN230*BO230","v":477.3},null,null,{"$f":"'DNSP Inputs Capex'!$G$14","v":63.64},1,{"$f":"'DNSP Inputs Capex'!$G$15","v":7.5},{"$f":"BS230*BT230*BU230","v":477.3},null,null,null,{"$f":"'DNSP Inputs Capex'!$H$13","v":50.18},1,{"$f":"'DNSP Inputs Capex'!$H$15","v":7.5},{"$f":"BZ230*CA230*CB230","v":376.35},null,null,{"$f":"'DNSP Inputs Capex'!$H$14","v":63.64},1,{"$f":"'DNSP Inputs Capex'!$H$15","v":7.5},{"$f":"CF230*CG230*CH230","v":477.3},null,null,{"$f":"'DNSP Inputs Capex'!$H$14","v":63.64},1,{"$f":"'DNSP Inputs Capex'!$H$15","v":7.5},{"$f":"CL230*CM230*CN230","v":477.3}]
[{"$f":"'DNSP Inputs Capex'!$A$185","v":"Other Capex unit costs Describe :………………………"},null,null,null,null,{"$f":"'DNSP Inputs Capex'!$D$235","v":0},null,null,null,null,null,{"$f":"'DNSP Inputs Capex'!$D$235","v":0},null,null,null,null,null,{"$f":"'DNSP Inputs Capex'!$D$235","v":0},null,null,null,null,null,null,{"$f":"'DNSP Inputs Capex'!$E$235","v":0},null,null,null,null,null,{"$f":"'DNSP Inputs Capex'!$E$235","v":0},null,null,null,null,null,{"$f":"'DNSP Inputs Capex'!$E$235","v":0},null,null,null,null,null,null,{"$f":"'DNSP Inputs Capex'!$F$235","v":0},null,null,null,null,null,{"$f":"'DNSP Inputs Capex'!$F$235","v":0},null,null,null,null,null,{"$f":"'DNSP Inputs Capex'!$F$235","v":0},null,null,null,null,null,null,{"$f":"'DNSP Inputs Capex'!$G$235","v":0},null,null,null,null,null,{"$f":"'DNSP Inputs Capex'!$G$235","v":0},null,null,null,null,null,{"$f":"'DNSP Inputs Capex'!$G$235","v":0},null,null,null,null,null,null,{"$f":"'DNSP Inputs Capex'!$H$235","v":0},null,null,null,null,null,{"$f":"'DNSP Inputs Capex'!$H$235","v":0},null,null,null,null,null,{"$f":"'DNSP Inputs Capex'!$H$235","v":0}]
[null,null,null,null,null,{"$f":"SUM(F228,F231)","v":554.9239678453265},null,null,null,null,null,{"$f":"SUM(L228,L231)","v":613.56026811732488},null,null,null,null,null,{"$f":"SUM(R228,R231)","v":663.12334855252243},null,null,null,null,null,null,{"$f":"SUM(Y228,Y231)","v":0},null,null,null,null,null,{"$f":"SUM(AE228,AE231)","v":0},null,null,null,null,null,{"$f":"SUM(AK228,AK231)","v":0},null,null,null,null,null,null,{"$f":"SUM(AR228,AR231)","v":0},null,null,null,null,null,{"$f":"SUM(AX228,AX231)","v":0},null,null,null,null,null,{"$f":"SUM(BD228,BD231)","v":0},null,null,null,null,null,null,{"$f":"SUM(BK228,BK231)","v":0},null,null,null,null,null,{"$f":"SUM(BQ228,BQ231)","v":0},null,null,null,null,null,{"$f":"SUM(BW228,BW231)","v":0},null,null,null,null,null,null,{"$f":"SUM(CD228,CD231)","v":0},null,null,null,null,null,{"$f":"SUM(CJ228,CJ231)","v":0},null,null,null,null,null,{"$f":"SUM(CP228,CP231)","v":0}]
[]
["Number of luminaires replaced",null,null,null,null,{"$f":"'DNSP Inputs Capex'!$D$253","v":77},null,null,null,null,null,{"$f":"'DNSP Inputs Capex'!$D$254","v":19},null,null,null,null,null,{"$f":"'DNSP Inputs Capex'!$D$255","v":4},null,null,null,null,null,null,{"$f":"'DNSP Inputs Capex'!$E$253","v":77},null,null,null,null,null,{"$f":"'DNSP Inputs Capex'!$E$254","v":19},null,null,null,null,null,{"$f":"'DNSP Inputs Capex'!$E$255","v":4},null,null,null,null,null,null,{"$f":"'DNSP Inputs Capex'!$F$253","v":76.903152091006234},null,null,null,null,null,{"$f":"'DNSP Inputs Capex'!$F$254","v":19.826157352191721},null,null,null,null,null,{"$f":"'DNSP Inputs Capex'!$F$255","v":3.9070172593630508},null,null,null,null,null,null,{"$f":"'DNSP Inputs Capex'!$G$253","v":76.903152091006234},null,null,null,null,null,{"$f":"'DNSP Inputs Capex'!$G$254","v":19.826157352191721},null,null,null,null,null,{"$f":"'DNSP Inputs Capex'!$G$255","v":3.9070172593630508},null,null,null,null,null,null,{"$f":"'DNSP Inputs Capex'!$H$253","v":11.696015514894436},null,null,null,null,null,{"$f":"'DNSP Inputs Capex'!$H$254","v":2},null,null,null,null,null,{"$f":"'DNSP Inputs Capex'!$H$255","v":0}]
[]
["Capex",null,null,null,null,{"$f":"F232*F234","v":42729.145524090141},null,null,null,null,null,{"$f":"L232*L234","v":11657.645094229172},null,null,null,null,null,{"$f":"R232*R234","v":2652.4933942100897},null,null,null,null,null,null,{"$f":"Y232*Y234","v":0},null,null,null,null,null,{"$f":"AE232*AE234","v":0},null,null,null,null,null,{"$f":"AK232*AK234","v":0},null,null,null,null,null,null,{"$f":"AR232*AR234","v":0},null,null,null,null,null,{"$f":"AX232*AX234","v":0},null,null,null,null,null,{"$f":"BD232*BD234","v":0},null,null,null,null,null,null,{"$f":"BK232*BK234","v":0},null,null,null,null,null,{"$f":"BQ232*BQ234","v":0},null,null,null,null,null,{"$f":"BW232*BW234","v":0},null,null,null,null,null,null,{"$f":"CD232*CD234","v":0},null,null,null,null,null,{"$f":"CJ232*CJ234","v":0},null,null,null,null,null,{"$f":"CP232*CP234","v":0}]
[]
[]
[{"$f":"#REF!","v":{"$error":"#REF!"}}]
["Luminaires "]
["Material",{"$f":"'DNSP Inputs Capex'!$D$259","v":650.88},{"$f":"'DNSP Inputs Capex'!$D$261","v":16},null,{"$f":"B241*C241","v":10414.08},{"$f":"IFERROR((E241+E242+E243)/C241,0)","v":778.8039678453265},null,{"$f":"'DNSP Inputs Capex'!$D$259*(1+'DNSP Inputs Capex'!$D$11)","v":683.42399999999998},{"$f":"'DNSP Inputs Capex'!$D$262","v":13},null,{"$f":"H241*I241","v":8884.5119999999988},{"$f":"IFERROR((K241+K242+K243)/I241,0)","v":848.63426811732472},null,{"$f":"'DNSP Inputs Capex'!$D$259*(1+'DNSP Inputs Capex'!$D$11)","v":683.42399999999998},{"$f":"'DNSP Inputs Capex'!$D$263","v":10},null,{"$f":"N241*O241","v":6834.24},{"$f":"IFERROR((Q241+Q242+Q243)/O241,0)","v":898.19734855252227},null,null,{"$f":"'DNSP Inputs Capex'!$E$259","v":650.88},{"$f":"'DNSP Inputs Capex'!$E$261","v":16},null,{"$f":"U241*V241","v":10414.08},{"$f":"IFERROR((X241+X242+X243)/V241,0)","v":0},null,{"$f":"'DNSP Inputs Capex'!$E$259*(1+'DNSP Inputs Capex'!$E$11)","v":683.42399999999998},{"$f":"'DNSP Inputs Capex'!$E$262","v":13},null,{"$f":"AA241*AB241","v":8884.5119999999988},{"$f":"IFERROR((AD241+AD242+AD243)/AB241,0)","v":0},null,{"$f":"'DNSP Inputs Capex'!$E$259*(1+'DNSP Inputs Capex'!$E$11)","v":683.42399999999998},{"$f":"'DNSP Inputs Capex'!$E$263","v":10},null,{"$f":"AG241*AH241","v":6834.24},{"$f":"IFERROR((AJ241+AJ242+AJ243)/AH241,0)","v":0},null,null,{"$f":"'DNSP Inputs Capex'!$F$259","v":650.88},{"$f":"'DNSP Inputs Capex'!$F$261","v":16},null,{"$f":"AN241*AO241","v":10414.08},{"$f":"IFERROR((AQ241+AQ242+AQ243)/AO241,0)","v":0},null,{"$f":"'DNSP Inputs Capex'!$F$259*(1+'DNSP Inputs Capex'!$F$11)","v":683.42399999999998},{"$f":"'DNSP Inputs Capex'!$F$262","v":13},null,{"$f":"AT241*AU241","v":8884.5119999999988},{"$f":"IFERROR((AW241+AW242+AW243)/AU241,0)","v":0},null,{"$f":"'DNSP Inputs Capex'!$F$259*(1+'DNSP Inputs Capex'!$F$11)","v":683.42399999999998},{"$f":"'DNSP Inputs Capex'!$F$263","v":10},null,{"$f":"AZ241*BA241","v":6834.24},{"$f":"IFERROR((BC241+BC242+BC243)/BA241,0)","v":0},null,null,{"$f":"'DNSP Inputs Capex'!$G$259","v":650.88},{"$f":"'DNSP Inputs Capex'!$G$261","v":16},null,{"$f":"BG241*BH241","v":10414.08},{"$f":"IFERROR((BJ241+BJ242+BJ243)/BH241,0)","v":0},null,{"$f":"'DNSP Inputs Capex'!$G$259*(1+'DNSP Inputs Capex'!$G$11)","v":683.42399999999998},{"$f":"'DNSP Inputs Capex'!$G$262","v":13},null,{"$f":"BM241*BN241","v":8884.5119999999988},{"$f":"IFERROR((BP241+BP242+BP243)/BN241,0)","v":0},null,{"$f":"'DNSP Inputs Capex'!$G$259*(1+'DNSP Inputs Capex'!$G$11)","v":683.42399999999998},{"$f":"'DNSP Inputs Capex'!$G$263","v":10},null,{"$f":"BS241*BT241","v":6834.24},{"$f":"IFERROR((BV241+BV242+BV243)/BT241,0)","v":0},null,null,{"$f":"'DNSP Inputs Capex'!$H$259","v":650.88},{"$f":"'DNSP Inputs Capex'!$H$261","v":16},null,{"$f":"BZ241*CA241","v":10414.08},{"$f":"IFERROR((CC241+CC242+CC243)/CA241,0)","v":0},null,{"$f":"'DNSP Inputs Capex'!$H$259*(1+'DNSP Inputs Capex'!$H$11)","v":683.42399999999998},{"$f":"'DNSP Inputs Capex'!$H$262","v":13},null,{"$f":"CF241*CG241","v":8884.5119999999988},{"$f":"IFERROR((CI241+CI242+CI243)/CG241,0)","v":0},null,{"$f":"'DNSP Inputs Capex'!$H$259*(1+'DNSP Inputs Capex'!$H$11)","v":683.42399999999998},{"$f":"'DNSP Inputs Capex'!$H$263","v":10},null,{"$f":"CL241*CM241","v":6834.24},{"$f":"IFERROR((CO241+CO242+CO243)/CM241,0)","v":0}]
["Crew costs",{"$f":"'DNSP Inputs Capex'!$D$12","v":111.36223236834823},{"$f":"'DNSP Inputs Capex'!$D$260","v":2},{"$f":"'DNSP Inputs Capex'!$D$15","v":7.5},{"$f":"D242*C242*B242","v":1670.4334855252234},null,null,{"$f":"'DNSP Inputs Capex'!$D$12","v":111.36223236834823},{"$f":"'DNSP Inputs Capex'!$D$260","v":2},{"$f":"'DNSP Inputs Capex'!$D$15","v":7.5},{"$f":"J242*I242*H242","v":1670.4334855252234},null,null,{"$f":"'DNSP Inputs Capex'!$D$12","v":111.36223236834823},{"$f":"'DNSP Inputs Capex'!$D$260","v":2},{"$f":"'DNSP Inputs Capex'!$D$15","v":7.5},{"$f":"P242*O242*N242","v":1670.4334855252234},null,null,null,{"$f":"'DNSP Inputs Capex'!$E$12","v":{"$error":"#REF!"}},{"$f":"'DNSP Inputs Capex'!$E$260","v":2},{"$f":"'DNSP Inputs Capex'!$E$15","v":7.5},{"$f":"W242*V242*U242","v":{"$error":"#REF!"}},null,null,{"$f":"'DNSP Inputs Capex'!$E$12","v":{"$error":"#REF!"}},{"$f":"'DNSP Inputs Capex'!$E$260","v":2},{"$f":"'DNSP Inputs Capex'!$E$15","v":7.5},{"$f":"AC242*AB242*AA242","v":{"$error":"#REF!"}},null,null,{"$f":"'DNSP Inputs Capex'!$E$12","v":{"$error":"#REF!"}},{"$f":"'DNSP Inputs Capex'!$E$260","v":2},{"$f":"'DNSP Inputs Capex'!$E$15","v":7.5},{"$f":"AI242*AH242*AG242","v":{"$error":"#REF!"}},null,null,null,{"$f":"'DNSP Inputs Capex'!$F$12","v":{"$error":"#REF!"}},{"$f":"'DNSP Inputs Capex'!$F$260","v":2},{"$f":"'DNSP Inputs Capex'!$F$15","v":7.5},{"$f":"AP242*AO242*AN242","v":{"$error":"#REF!"}},null,null,{"$f":"'DNSP Inputs Capex'!$F$12","v":{"$error":"#REF!"}},{"$f":"'DNSP Inputs Capex'!$F$260","v":2},{"$f":"'DNSP Inputs Capex'!$F$15","v":7.5},{"$f":"AV242*AU242*AT242","v":{"$error":"#REF!"}},null,null,{"$f":"'DNSP Inputs Capex'!$F$12","v":{"$error":"#REF!"}},{"$f":"'DNSP Inputs Capex'!$F$260","v":2},{"$f":"'DNSP Inputs Capex'!$F$15","v":7.5},{"$f":"BB242*BA242*AZ242","v":{"$error":"#REF!"}},null,null,null,{"$f":"'DNSP Inputs Capex'!$G$12","v":{"$error":"#REF!"}},{"$f":"'DNSP Inputs Capex'!$G$260","v":2},{"$f":"'DNSP Inputs Capex'!$G$15","v":7.5},{"$f":"BI242*BH242*BG242","v":{"$error":"#REF!"}},null,null,{"$f":"'DNSP Inputs Capex'!$G$12","v":{"$error":"#REF!"}},{"$f":"'DNSP Inputs Capex'!$G$260","v":2},{"$f":"'DNSP Inputs Capex'!$G$15","v":7.5},{"$f":"BO242*BN242*BM242","v":{"$error":"#REF!"}},null,null,{"$f":"'DNSP Inputs Capex'!$G$12","v":{"$error":"#REF!"}},{"$f":"'DNSP Inputs Capex'!$G$260","v":2},{"$f":"'DNSP Inputs Capex'!$G$15","v":7.5},{"$f":"BU242*BT242*BS242","v":{"$error":"#REF!"}},null,null,null,{"$f":"'DNSP Inputs Capex'!$H$12","v":{"$error":"#REF!"}},{"$f":"'DNSP Inputs Capex'!$H$260","v":2},{"$f":"'DNSP Inputs Capex'!$H$15","v":7.5},{"$f":"CB242*CA242*BZ242","v":{"$error":"#REF!"}},null,null,{"$f":"'DNSP Inputs Capex'!$H$12","v":{"$error":"#REF!"}},{"$f":"'DNSP Inputs Capex'!$H$260","v":2},{"$f":"'DNSP Inputs Capex'!$H$15","v":7.5},{"$f":"CH242*CG242*CF242","v":{"$error":"#REF!"}},null,null,{"$f":"'DNSP Inputs Capex'!$H$12","v":{"$error":"#REF!"}},{"$f":"'DNSP Inputs Capex'!$H$260","v":2},{"$f":"'DNSP Inputs Capex'!$H$15","v":7.5},{"$f":"CN242*CM242*CL242","v":{"$error":"#REF!"}}]
["Elevated platform vehicle costs",{"$f":"'DNSP Inputs Capex'!$D$13","v":50.18},1,{"$f":"'DNSP Inputs Capex'!$D$15","v":7.5},{"$f":"B243*C243*D243","v":376.35},null,null,{"$f":"'DNSP Inputs Capex'!$D$14","v":63.64},1,{"$f":"'DNSP Inputs Capex'!$D$15","v":7.5},{"$f":"H243*I243*J243","v":477.3},null,null,{"$f":"'DNSP Inputs Capex'!$D$14","v":63.64},1,{"$f":"'DNSP Inputs Capex'!$D$15","v":7.5},{"$f":"N243*O243*P243","v":477.3},null,null,null,{"$f":"'DNSP Inputs Capex'!$E$13","v":50.18},1,{"$f":"'DNSP Inputs Capex'!$E$15","v":7.5},{"$f":"U243*V243*W243","v":376.35},null,null,{"$f":"'DNSP Inputs Capex'!$E$14","v":63.64},1,{"$f":"'DNSP Inputs Capex'!$E$15","v":7.5},{"$f":"AA243*AB243*AC243","v":477.3},null,null,{"$f":"'DNSP Inputs Capex'!$E$14","v":63.64},1,{"$f":"'DNSP Inputs Capex'!$E$15","v":7.5},{"$f":"AG243*AH243*AI243","v":477.3},null,null,null,{"$f":"'DNSP Inputs Capex'!$F$13","v":50.18},1,{"$f":"'DNSP Inputs Capex'!$F$15","v":7.5},{"$f":"AN243*AO243*AP243","v":376.35},null,null,{"$f":"'DNSP Inputs Capex'!$F$14","v":63.64},1,{"$f":"'DNSP Inputs Capex'!$F$15","v":7.5},{"$f":"AT243*AU243*AV243","v":477.3},null,null,{"$f":"'DNSP Inputs Capex'!$F$14","v":63.64},1,{"$f":"'DNSP Inputs Capex'!$F$15","v":7.5},{"$f":"AZ243*BA243*BB243","v":477.3},null,null,null,{"$f":"'DNSP Inputs Capex'!$G$13","v":50.18},1,{"$f":"'DNSP Inputs Capex'!$G$15","v":7.5},{"$f":"BG243*BH243*BI243","v":376.35},null,null,{"$f":"'DNSP Inputs Capex'!$G$14","v":63.64},1,{"$f":"'DNSP Inputs Capex'!$G$15","v":7.5},{"$f":"BM243*BN243*BO243","v":477.3},null,null,{"$f":"'DNSP Inputs Capex'!$G$14","v":63.64},1,{"$f":"'DNSP Inputs Capex'!$G$15","v":7.5},{"$f":"BS243*BT243*BU243","v":477.3},null,null,null,{"$f":"'DNSP Inputs Capex'!$H$13","v":50.18},1,{"$f":"'DNSP Inputs Capex'!$H$15","v":7.5},{"$f":"BZ243*CA243*CB243","v":376.35},null,null,{"$f":"'DNSP Inputs Capex'!$H$14","v":63.64},1,{"$f":"'DNSP Inputs Capex'!$H$15","v":7.5},{"$f":"CF243*CG243*CH243","v":477.3},null,null,{"$f":"'DNSP Inputs Capex'!$H$14","v":63.64},1,{"$f":"'DNSP Inputs Capex'!$H$15","v":7.5},{"$f":"CL243*CM243*CN243","v":477.3}]
[{"$f":"'DNSP Inputs Capex'!$A$185","v":"Other Capex unit costs Describe :………………………"},null,null,null,null,{"$f":"'DNSP Inputs Capex'!$D$235","v":0},null,null,null,null,null,{"$f":"'DNSP Inputs Capex'!$D$235","v":0},null,null,null,null,null,{"$f":"'DNSP Inputs Capex'!$D$235","v":0},null,null,null,null,null,null,{"$f":"'DNSP Inputs Capex'!$E$235","v":0},null,null,null,null,null,{"$f":"'DNSP Inputs Capex'!$E$235","v":0},null,null,null,null,null,{"$f":"'DNSP Inputs Capex'!$E$235","v":0},null,null,null,null,null,null,{"$f":"'DNSP Inputs Capex'!$F$235","v":0},null,null,null,null,null,{"$f":"'DNSP Inputs Capex'!$F$235","v":0},null,null,null,null,null,{"$f":"'DNSP Inputs Capex'!$F$235","v":0},null,null,null,null,null,null,{"$f":"'DNSP Inputs Capex'!$G$235","v":0},null,null,null,null,null,{"$f":"'DNSP Inputs Capex'!$G$235","v":0},null,null,null,null,null,{"$f":"'DNSP Inputs Capex'!$G$235","v":0},null,null,null,null,null,null,{"$f":"'DNSP Inputs Capex'!$H$235","v":0},null,null,null,null,null,{"$f":"'DNSP Inputs Capex'!$H$235","v":0},null,null,null,null,null,{"$f":"'DNSP Inputs Capex'!$H$235","v":0}]
[null,null,null,null,null,{"$f":"SUM(F241,F244)","v":778.8039678453265},null,null,null,null,null,{"$f":"SUM(L241,L244)","v":848.63426811732472},null,null,null,null,null,{"$f":"SUM(R241,R244)","v":898.19734855252227},null,null,null,null,null,null,{"$f":"SUM(Y241,Y244)","v":0},null,null,null,null,null,{"$f":"SUM(AE241,AE244)","v":0},null,null,null,null,null,{"$f":"SUM(AK241,AK244)","v":0},null,null,null,null,null,null,{"$f":"SUM(AR241,AR244)","v":0},null,null,null,null,null,{"$f":"SUM(AX241,AX244)","v":0},null,null,null,null,null,{"$f":"SUM(BD241,BD244)","v":0},null,null,null,null,null,null,{"$f":"SUM(BK241,BK244)","v":0},null,null,null,null,null,{"$f":"SUM(BQ241,BQ244)","v":0},null,null,null,null,null,{"$f":"SUM(BW241,BW244)","v":0},null,null,null,null,null,null,{"$f":"SUM(CD241,CD244)","v":0},null,null,null,null,null,{"$f":"SUM(CJ241,CJ244)","v":0},null,null,null,null,null,{"$f":"SUM(CP241,CP244)","v":0}]
[]
["Number of luminaires replaced",null,null,null,null,{"$f":"'DNSP Inputs Capex'!$D$268","v":77},null,null,null,null,null,{"$f":"'DNSP Inputs Capex'!$D$269","v":19},null,null,null,null,null,{"$f":"'DNSP Inputs Capex'!$D$270","v":4},null,null,null,null,null,null,{"$f":"'DNSP Inputs Capex'!$E$268","v":77},null,null,null,null,null,{"$f":"'DNSP Inputs Capex'!$E$269","v":19},null,null,null,null,null,{"$f":"'DNSP Inputs Capex'!$E$270","v":4},null,null,null,null,null,null,{"$f":"'DNSP Inputs Capex'!$F$268","v":76.903152091006234},null,null,null,null,null,{"$f":"'DNSP Inputs Capex'!$F$269","v":19.826157352191721},null,null,null,null,null,{"$f":"'DNSP Inputs Capex'!$F$270","v":3.9070172593630508},null,null,null,null,null,null,{"$f":"'DNSP Inputs Capex'!$G$268","v":76.903152091006234},null,null,null,null,null,{"$f":"'DNSP Inputs Capex'!$G$269","v":19.826157352191721},null,null,null,null,null,{"$f":"'DNSP Inputs Capex'!$G$270","v":3.9070172593630508},null,null,null,null,null,null,{"$f":"'DNSP Inputs Capex'!$H$268","v":11.696015514894436},null,null,null,null,null,{"$f":"'DNSP Inputs Capex'!$H$269","v":2},null,null,null,null,null,{"$f":"'DNSP Inputs Capex'!$H$270","v":0}]
[]
["Capex",null,null,null,null,{"$f":"F245*F247","v":59967.905524090143},null,null,null,null,null,{"$f":"L245*L247","v":16124.051094229169},null,null,null,null,null,{"$f":"R245*R247","v":3592.7893942100891},null,null,null,null,null,null,{"$f":"Y245*Y247","v":0},null,null,null,null,null,{"$f":"AE245*AE247","v":0},null,null,null,null,null,{"$f":"AK245*AK247","v":0},null,null,null,null,null,null,{"$f":"AR245*AR247","v":0},null,null,null,null,null,{"$f":"AX245*AX247","v":0},null,null,null,null,null,{"$f":"BD245*BD247","v":0},null,null,null,null,null,null,{"$f":"BK245*BK247","v":0},null,null,null,null,null,{"$f":"BQ245*BQ247","v":0},null,null,null,null,null,{"$f":"BW245*BW247","v":0},null,null,null,null,null,null,{"$f":"CD245*CD247","v":0},null,null,null,null,null,{"$f":"CJ245*CJ247","v":0},null,null,null,null,null,{"$f":"CP245*CP247","v":0}]

{"sheet":"CPI","index":14,"n_rows":16,"n_cols":19,"rows_kept":16,"cut":false,"hidden":true,"merged":[]}
[]
[null,"ELEC DISTRIBUTION"]
[null,"Regulatory Year",2015,2016,2017,2018,2019,2020,"HY2021","2021-22","2022-23","2023-24","2024-25","2025-26","2026-27","2027-28","2028-29","2029-30","2030-31"]
[null,"Actual / Forecast Inflation","Actual","Actual","Actual","Actual","Actual","Actual","Actual","Actual","Actual","Actual","Forecast","Forecast","Forecast","Forecast","Forecast","Forecast","Forecast"]
[null,"CPI Period","2014-06-30","2015-06-30","2016-06-30","2017-06-30","2018-06-30","2019-06-30","2019-12-31",{"$f":"EDATE(I5,12)","v":"2020-12-31"},"2021-12-31","2022-12-31","2023-12-31","2024-12-31","2025-12-31","2026-12-31","2027-12-31","2028-12-31","2029-12-31"]
[null,"CPI - 8 cities - Dec Qtr, 1yr lagged",105.9,107.5,108.6,110.7,113,114.8,116.2,117.2,121.3,130.80000000000001]
[null,"CPI movement - 8 Capital Cities",null,{"$f":"D6/C6-1","v":1.5108593012275628E-2},1.0232558139534831E-2,1.9337016574585641E-2,2.0776874435411097E-2,1.5929203539823078E-2,1.2195121951219523E-2,8.6058519793459354E-3,3.4982935153583528E-2,7.8318219291014124E-2,4.4999999999999998E-2,3.2500000000000001E-2,2.5000000000000001E-2,2.5000000000000001E-2,2.5000000000000001E-2,2.5000000000000001E-2,2.5000000000000001E-2]
[null,"Index - $2017 to End Year Nominal (Actual/Forecast)",null,{"$f":"1+D$7","v":1.0151085930122756},{"$f":"D8*(1+E$7)","v":1.0254957507082152},{"$f":"E8*(1+F$7)","v":1.0453257790368271},{"$f":"F8*(1+G$7)","v":1.0670443814919734},{"$f":"G8*(1+H$7)","v":1.0840415486307837}]
[null,"Index - $2017 to Mid Year Nominal (Actual/Forecast)",null,{"$f":"(1+D$7)^0.5","v":1.0075259763461564},{"$f":"D9*(1+D$7)^0.5*(1+E$7)^0.5","v":1.0202889535036062},{"$f":"E9*(1+E$7)^0.5*(1+F$7)^0.5","v":1.0353632910761426},{"$f":"F9*(1+F$7)^0.5*(1+G$7)^0.5","v":1.0561292531456397},{"$f":"G9*(1+G$7)^0.5*(1+H$7)^0.5","v":1.0755093880437936}]
[null,"Index - $Jun 2021 to End Year Nominal (Actual/Forecast)",null,null,null,null,null,null,null,{"$f":"1+J$7","v":1.0086058519793459},{"$f":"J10*(1+K$7)","v":1.0438898450946643},{"$f":"K10*(1+L$7)","v":1.1256454388984509},{"$f":"L10*(1+M$7)","v":1.1762994836488812},{"$f":"M10*(1+N$7)","v":1.2145292168674697}]
[null,"Index - $Jun 2021 to Mid Year Nominal (Actual/Forecast)",null,null,null,null,null,null,null,{"$f":"(1+J$7)^0.5","v":1.0042937080253693},{"$f":"J11*(1+J$7)^0.5*(1+K$7)^0.5","v":1.0260961975293987},{"$f":"K11*(1+K$7)^0.5*(1+L$7)^0.5","v":1.0839971599793141},{"$f":"L11*(1+L$7)^0.5*(1+M$7)^0.5","v":1.1506937683623584},{"$f":"M11*(1+M$7)^0.5*(1+N$7)^0.5","v":1.1952615156013697}]
[null,"Index - $Jun 2026 to End Year Nominal (Actual/Forecast)",null,null,null,null,null,null,null,null,null,null,null,null,{"$f":"1+O$7","v":1.0249999999999999},{"$f":"O12*(1+P$7)","v":1.0506249999999999},{"$f":"P12*(1+Q$7)","v":1.0768906249999999},{"$f":"Q12*(1+R$7)","v":1.1038128906249998},{"$f":"R12*(1+S$7)","v":1.1314082128906247}]
[null,"Index - $Jun 2026 to Mid Year Nominal (Actual/Forecast)",null,null,null,null,null,null,null,null,null,null,null,null,{"$f":"(1+O$7)^0.5","v":1.0124228365658292},{"$f":"O13*(1+O$7)^0.5*(1+P$7)^0.5","v":1.0377334074799747},{"$f":"P13*(1+P$7)^0.5*(1+Q$7)^0.5","v":1.0636767426669738},{"$f":"Q13*(1+Q$7)^0.5*(1+R$7)^0.5","v":1.0902686612336479},{"$f":"R13*(1+R$7)^0.5*(1+S$7)^0.5","v":1.1175253777644887}]
[]
[]
[null,"CPI to Use",null,{"$f":"D8","v":1.0151085930122756},{"$f":"E8","v":1.0254957507082152},{"$f":"F8","v":1.0453257790368271},{"$f":"G8","v":1.0670443814919734},{"$f":"H8","v":1.0840415486307837},null,{"$f":"J10","v":1.0086058519793459},{"$f":"K10","v":1.0438898450946643},{"$f":"L10","v":1.1256454388984509},{"$f":"M10","v":1.1762994836488812},{"$f":"N10","v":1.2145292168674697},{"$f":"O12","v":1.0249999999999999},{"$f":"P12","v":1.0506249999999999},{"$f":"Q12","v":1.0768906249999999},{"$f":"R12","v":1.1038128906249998},{"$f":"S12","v":1.1314082128906247}]

{"sheet":"WACC","index":15,"n_rows":21,"n_cols":14,"rows_kept":21,"cut":false,"hidden":true,"merged":[]}
[null,{"$f":"'DNSP Inputs O&M'!$A$3","v":"AusNet"}]
[]
[null,"WACC"]
[null,null,null,null,{"$f":"#REF!","v":{"$error":"#REF!"}},{"$f":"#REF!","v":{"$error":"#REF!"}},{"$f":"#REF!","v":{"$error":"#REF!"}},{"$f":"#REF!","v":{"$error":"#REF!"}},{"$f":"#REF!","v":{"$error":"#REF!"}},{"$f":"#REF!","v":{"$error":"#REF!"}},{"$f":"#REF!","v":{"$error":"#REF!"}},{"$f":"#REF!","v":{"$error":"#REF!"}},{"$f":"#REF!","v":{"$error":"#REF!"}},{"$f":"#REF!","v":{"$error":"#REF!"}}]
[]
[null,"CPI for Nominal pre tax WACC calculation",null,null,{"$f":"$D$17","v":{"$error":"#REF!"}},{"$f":"$D$18","v":{"$error":"#REF!"}},{"$f":"$D$19","v":{"$error":"#REF!"}},{"$f":"$D$20","v":{"$error":"#REF!"}},{"$f":"$D$21","v":{"$error":"#REF!"}}]
[null,"Real Pre Tax WACC",null,null,{"$f":"#REF!","v":{"$error":"#REF!"}},{"$f":"#REF!","v":{"$error":"#REF!"}},{"$f":"#REF!","v":{"$error":"#REF!"}},{"$f":"#REF!","v":{"$error":"#REF!"}},{"$f":"#REF!","v":{"$error":"#REF!"}}]
[null,"Nominal Pre Tax WACC",null,null,{"$f":"(1+E6)*(1+E7)-1","v":{"$error":"#REF!"}},{"$f":"(1+F6)*(1+F7)-1","v":{"$error":"#REF!"}},{"$f":"(1+G6)*(1+G7)-1","v":{"$error":"#REF!"}},{"$f":"(1+H6)*(1+H7)-1","v":{"$error":"#REF!"}},{"$f":"(1+I6)*(1+I7)-1","v":{"$error":"#REF!"}}]
[]
[]
[]
[]
[]
[]
[null,null,"CPI Index","CPI"]
[]
[null,{"$f":"#REF!","v":{"$error":"#REF!"}},{"$f":"IF(#REF!=\"\",\"\",#REF!)","v":{"$error":"#REF!"}},{"$f":"#REF!","v":{"$error":"#REF!"}},"Actual"]
[null,{"$f":"#REF!","v":{"$error":"#REF!"}},{"$f":"IF(#REF!=\"\",\"\",#REF!)","v":{"$error":"#REF!"}},{"$f":"IF(C18=\"\",#REF!,C18/C17-1)","v":{"$error":"#REF!"}},{"$f":"IF(C18=\"\",\"Forecast\",\"Actual\")","v":{"$error":"#REF!"}}]
[null,{"$f":"#REF!","v":{"$error":"#REF!"}},130.80000000000001,{"$f":"IF(C19=\"\",#REF!,C19/C18-1)","v":{"$error":"#REF!"}},{"$f":"IF(C19=\"\",\"Forecast\",\"Actual\")","v":"Actual"}]
[null,{"$f":"#REF!","v":{"$error":"#REF!"}},{"$f":"IF(#REF!=\"\",\"\",#REF!)","v":{"$error":"#REF!"}},{"$f":"IF(C20=\"\",#REF!,C20/C19-1)","v":{"$error":"#REF!"}},{"$f":"IF(C20=\"\",\"Forecast\",\"Actual\")","v":{"$error":"#REF!"}}]
[null,{"$f":"#REF!","v":{"$error":"#REF!"}},{"$f":"IF(#REF!=\"\",\"\",#REF!)","v":{"$error":"#REF!"}},{"$f":"IF(C21=\"\",#REF!,C21/C20-1)","v":{"$error":"#REF!"}},{"$f":"IF(C21=\"\",\"Forecast\",\"Actual\")","v":{"$error":"#REF!"}}]

{"sheet":"Depn & WACC Post 2004 Central","index":16,"n_rows":311,"n_cols":9,"rows_kept":311,"cut":false,"hidden":true,"merged":[[38,3,38,4],[38,6,38,7],[235,6,235,7],[206,3,206,4],[2,3,2,4],[6,3,6,4],[6,6,6,7],[34,3,34,4],[90,3,90,4],[67,3,67,4],[67,6,67,7],[85,6,85,7],[85,3,85,5],[150,3,150,4],[150,6,150,7],[146,3,146,4],[258,3,258,4],[206,6,206,7],[235,3,235,4],[253,6,253,7],[179,3,179,4],[179,6,179,7],[197,6,197,7],[202,3,202,4],[197,3,197,5],[253,3,253,5],[309,6,309,7],[262,3,262,4],[262,6,262,7],[291,3,291,4],[291,6,291,7],[309,3,309,5],[141,3,141,5],[94,3,94,4],[94,6,94,7],[123,3,123,4],[123,6,123,7],[141,6,141,7]]}
[{"$f":"'DNSP Inputs O&M'!$A$3","v":"AusNet"},null,null,null,"Check",{"$f":"SUM(E33,E65,E83,E121,E139,E177,E195,E233,E251,E289,E307)","v":{"$error":"#REF!"}}]
[]
[null,null,null,{"$f":"#REF!","v":{"$error":"#REF!"}}]
["RAB WDV",null,null,"Year",{"$f":"#REF!","v":{"$error":"#REF!"}}]
[]
[]
[{"$f":"#REF!","v":{"$error":"#REF!"}},{"$f":"#REF!","v":{"$error":"#REF!"}},{"$f":"#REF!","v":{"$error":"#REF!"}},"RAB for Return",null,"Volumes","Unitisation - Luminaires",null,"RAB WDV"]
[{"$f":"#REF!","v":{"$error":"#REF!"}},{"$f":"#REF!","v":{"$error":"#REF!"}},{"$f":"#REF!","v":{"$error":"#REF!"}},{"$f":"'RAB 2001 to 2004 Central'!$V$143","v":4.2735065734902831},{"$f":"F8*D8","v":{"$error":"#REF!"}},{"$f":"#REF!","v":{"$error":"#REF!"}},null,null,{"$f":"IF(F8=0,0,E8/(E$32+'Depn & WACC Post 2004 N & E'!E$32)*I$32/F8)","v":{"$error":"#REF!"}}]
[{"$f":"#REF!","v":{"$error":"#REF!"}},{"$f":"#REF!","v":{"$error":"#REF!"}},{"$f":"#REF!","v":{"$error":"#REF!"}},{"$f":"'RAB 2001 to 2004 Central'!$V$157","v":5.142155614406323},{"$error":"#REF!"},{"$f":"#REF!","v":{"$error":"#REF!"}},null,null,{"$f":"IF(F9=0,0,E9/(E$32+'Depn & WACC Post 2004 N & E'!E$32)*I$32/F9)","v":{"$error":"#REF!"}}]
[{"$f":"#REF!","v":{"$error":"#REF!"}},{"$f":"#REF!","v":{"$error":"#REF!"}},{"$f":"#REF!","v":{"$error":"#REF!"}},{"$f":"'RAB 2001 to 2004 Central'!$V$171","v":5.2453606411043205},{"$error":"#REF!"},{"$f":"#REF!","v":{"$error":"#REF!"}},null,null,{"$f":"IF(F10=0,0,E10/(E$32+'Depn & WACC Post 2004 N & E'!E$32)*I$32/F10)","v":{"$error":"#REF!"}}]
[{"$f":"#REF!","v":{"$error":"#REF!"}},{"$f":"#REF!","v":{"$error":"#REF!"}},{"$f":"#REF!","v":{"$error":"#REF!"}},{"$f":"B11*IF(A11=C8,D8,IF(A11=C9,D9,D10))","v":{"$error":"#REF!"}},{"$error":"#REF!"},{"$f":"#REF!","v":{"$error":"#REF!"}},null,null,{"$f":"IF(F11=0,0,E11/(E$32+'Depn & WACC Post 2004 N & E'!E$32)*I$32/F11)","v":{"$error":"#REF!"}}]
[{"$f":"#REF!","v":{"$error":"#REF!"}},{"$f":"#REF!","v":{"$error":"#REF!"}},{"$f":"#REF!","v":{"$error":"#REF!"}},{"$f":"B12*IF(A12=C8,D8,IF(A12=C9,D9,D10))","v":{"$error":"#REF!"}},{"$error":"#REF!"},{"$f":"#REF!","v":{"$error":"#REF!"}},null,null,{"$f":"IF(F12=0,0,E12/(E$32+'Depn & WACC Post 2004 N & E'!E$32)*I$32/F12)","v":{"$error":"#REF!"}}]
[{"$f":"#REF!","v":{"$error":"#REF!"}},{"$f":"#REF!","v":{"$error":"#REF!"}},{"$f":"#REF!","v":{"$error":"#REF!"}},{"$f":"B13*IF(A13=C8,D8,IF(A13=C9,D9,D10))","v":{"$error":"#REF!"}},{"$error":"#REF!"},{"$f":"#REF!","v":{"$error":"#REF!"}},null,null,{"$f":"IF(F13=0,0,E13/(E$32+'Depn & WACC Post 2004 N & E'!E$32)*I$32/F13)","v":{"$error":"#REF!"}}]
[{"$f":"#REF!","v":{"$error":"#REF!"}},{"$f":"#REF!","v":{"$error":"#REF!"}},{"$f":"#REF!","v":{"$error":"#REF!"}},{"$f":"B14*IF(A14=C8,D8,IF(A14=C9,D9,D10))","v":{"$error":"#REF!"}},{"$error":"#REF!"},{"$f":"#REF!","v":{"$error":"#REF!"}},null,null,{"$f":"IF(F14=0,0,E14/(E$32+'Depn & WACC Post 2004 N & E'!E$32)*I$32/F14)","v":{"$error":"#REF!"}}]
[{"$f":"#REF!","v":{"$error":"#REF!"}},{"$f":"#REF!","v":{"$error":"#REF!"}},{"$f":"#REF!","v":{"$error":"#REF!"}},{"$f":"B15*IF(A15=C8,D8,IF(A15=C9,D9,D10))","v":{"$error":"#REF!"}},{"$error":"#REF!"},{"$f":"#REF!","v":{"$error":"#REF!"}},null,null,{"$f":"IF(F15=0,0,E15/(E$32+'Depn & WACC Post 2004 N & E'!E$32)*I$32/F15)","v":{"$error":"#REF!"}}]
[{"$f":"#REF!","v":{"$error":"#REF!"}},{"$f":"#REF!","v":{"$error":"#REF!"}},{"$f":"#REF!","v":{"$error":"#REF!"}},{"$f":"B16*IF(A16=C8,D8,IF(A16=C9,D9,D10))","v":{"$error":"#REF!"}},{"$error":"#REF!"},{"$f":"#REF!","v":{"$error":"#REF!"}},null,null,{"$f":"IF(F16=0,0,E16/(E$32+'Depn & WACC Post 2004 N & E'!E$32)*I$32/F16)","v":{"$error":"#REF!"}}]
[{"$f":"#REF!","v":{"$error":"#REF!"}},{"$f":"#REF!","v":{"$error":"#REF!"}},{"$f":"#REF!","v":{"$error":"#REF!"}},{"$f":"B17*IF(A17=C8,D8,IF(A17=C9,D9,D10))","v":{"$error":"#REF!"}},{"$error":"#REF!"},{"$f":"#REF!","v":{"$error":"#REF!"}},null,null,{"$f":"IF(F17=0,0,E17/(E$32+'Depn & WACC Post 2004 N & E'!E$32)*I$32/F17)","v":{"$error":"#REF!"}}]
[{"$f":"#REF!","v":{"$error":"#REF!"}},{"$f":"#REF!","v":{"$error":"#REF!"}},{"$f":"#REF!","v":{"$error":"#REF!"}},{"$f":"B18*IF(A18=C8,D8,IF(A18=C9,D9,D10))","v":{"$error":"#REF!"}},{"$error":"#REF!"},{"$f":"#REF!","v":{"$error":"#REF!"}},null,null,{"$f":"IF(F18=0,0,E18/(E$32+'Depn & WACC Post 2004 N & E'!E$32)*I$32/F18)","v":{"$error":"#REF!"}}]
[{"$f":"#REF!","v":{"$error":"#REF!"}},{"$f":"#REF!","v":{"$error":"#REF!"}},{"$f":"#REF!","v":{"$error":"#REF!"}},{"$f":"B19*IF(A19=C8,D8,IF(A19=C9,D9,D10))","v":{"$error":"#REF!"}},{"$error":"#REF!"},{"$f":"#REF!","v":{"$error":"#REF!"}},null,null,{"$f":"IF(F19=0,0,E19/(E$32+'Depn & WACC Post 2004 N & E'!E$32)*I$32/F19)","v":{"$error":"#REF!"}}]
[{"$f":"#REF!","v":{"$error":"#REF!"}},{"$f":"#REF!","v":{"$error":"#REF!"}},{"$f":"#REF!","v":{"$error":"#REF!"}},{"$f":"B20*IF(A20=C8,D8,IF(A20=C9,D9,D10))","v":{"$error":"#REF!"}},{"$error":"#REF!"},{"$f":"#REF!","v":{"$error":"#REF!"}},null,null,{"$f":"IF(F20=0,0,E20/(E$32+'Depn & WACC Post 2004 N & E'!E$32)*I$32/F20)","v":{"$error":"#REF!"}}]
[]
[]
[]
[]
[]
[]
[]
[]
[]
[]
[]
[null,null,null,null,{"$f":"SUM(E8:E31)","v":{"$error":"#REF!"}},{"$f":"SUM(F8:F31)","v":{"$error":"#REF!"}},null,null,{"$f":"'Total RAB'!S$143","v":{"$error":"#REF!"}}]
[null,null,null,"Check",{"$f":"SUM(F33:I33)","v":{"$error":"#REF!"}},{"$f":"ABS(#REF!-F32)","v":{"$error":"#REF!"}},null,null,{"$f":"ABS(I32-SUMPRODUCT(F8:F31,I8:I31)-SUMPRODUCT('Depn & WACC Post 2004 N & E'!F8:F31,'Depn & WACC Post 2004 N & E'!I8:I31))*IF(F32=0,0,1)","v":{"$error":"#REF!"}}]
[]
[null,null,null,{"$f":"#REF!","v":{"$error":"#REF!"}}]
["DEPRECIATION AND RETURN",null,null,"Year",{"$f":"#REF!","v":{"$error":"#REF!"}}]
[]
[]
[{"$f":"#REF!","v":{"$error":"#REF!"}},{"$f":"#REF!","v":{"$error":"#REF!"}},{"$f":"#REF!","v":{"$error":"#REF!"}},"WACC and Dep",null,"Volumes","Unitisation - Luminaires",null,"RAB WDV"]
[{"$f":"#REF!","v":{"$error":"#REF!"}},{"$f":"#REF!","v":{"$error":"#REF!"}},{"$f":"#REF!","v":{"$error":"#REF!"}},{"$f":"'RAB 2001 to 2004 Central'!C$15","v":{"$error":"#REF!"}},{"$f":"F40*D40","v":{"$error":"#REF!"}},{"$f":"IF(#REF!=0,1/10^6,#REF!)","v":{"$error":"#REF!"}},{"$f":"IF((E$64+'Depn & WACC Post 2004 N & E'!E$64)=0,0,E40/(E$64+'Depn & WACC Post 2004 N & E'!E$64)*G$64)","v":{"$error":"#REF!"}},{"$f":"IF(F40=0,0,G40/F40)","v":{"$error":"#REF!"}},{"$f":"IF(F40=0,0,E40/(E$64+'Depn & WACC Post 2004 N & E'!E$64)*I$64/F40)","v":{"$error":"#REF!"}}]
[{"$f":"#REF!","v":{"$error":"#REF!"}},{"$f":"#REF!","v":{"$error":"#REF!"}},{"$f":"#REF!","v":{"$error":"#REF!"}},{"$f":"'RAB 2001 to 2004 Central'!C$20","v":{"$error":"#REF!"}},{"$error":"#REF!"},{"$f":"IF(#REF!=0,1/10^6,#REF!)","v":{"$error":"#REF!"}},{"$f":"IF((E$64+'Depn & WACC Post 2004 N & E'!E$64)=0,0,E41/(E$64+'Depn & WACC Post 2004 N & E'!E$64)*G$64)","v":{"$error":"#REF!"}},{"$error":"#REF!"},{"$f":"IF(F41=0,0,E41/(E$64+'Depn & WACC Post 2004 N & E'!E$64)*I$64/F41)","v":{"$error":"#REF!"}}]
[{"$f":"#REF!","v":{"$error":"#REF!"}},{"$f":"#REF!","v":{"$error":"#REF!"}},{"$f":"#REF!","v":{"$error":"#REF!"}},{"$f":"'RAB 2001 to 2004 Central'!C$25","v":{"$error":"#REF!"}},{"$error":"#REF!"},{"$f":"IF(#REF!=0,1/10^6,#REF!)","v":{"$error":"#REF!"}},{"$f":"IF((E$64+'Depn & WACC Post 2004 N & E'!E$64)=0,0,E42/(E$64+'Depn & WACC Post 2004 N & E'!E$64)*G$64)","v":{"$error":"#REF!"}},{"$error":"#REF!"},{"$f":"IF(F42=0,0,E42/(E$64+'Depn & WACC Post 2004 N & E'!E$64)*I$64/F42)","v":{"$error":"#REF!"}}]
[{"$f":"#REF!","v":{"$error":"#REF!"}},{"$f":"#REF!","v":{"$error":"#REF!"}},{"$f":"#REF!","v":{"$error":"#REF!"}},{"$f":"B43*IF(A43=C40,D40,IF(A43=C41,D41,D42))","v":{"$error":"#REF!"}},{"$error":"#REF!"},{"$f":"#REF!","v":{"$error":"#REF!"}},{"$f":"IF((E$64+'Depn & WACC Post 2004 N & E'!E$64)=0,0,E43/(E$64+'Depn & WACC Post 2004 N & E'!E$64)*G$64)","v":{"$error":"#REF!"}},{"$error":"#REF!"},{"$f":"IF(F43=0,0,E43/(E$64+'Depn & WACC Post 2004 N & E'!E$64)*I$64/F43)","v":{"$error":"#REF!"}}]
[{"$f":"#REF!","v":{"$error":"#REF!"}},{"$f":"#REF!","v":{"$error":"#REF!"}},{"$f":"#REF!","v":{"$error":"#REF!"}},{"$f":"B44*IF(A44=C40,D40,IF(A44=C41,D41,D42))","v":{"$error":"#REF!"}},{"$error":"#REF!"},{"$f":"#REF!","v":{"$error":"#REF!"}},{"$f":"IF((E$64+'Depn & WACC Post 2004 N & E'!E$64)=0,0,E44/(E$64+'Depn & WACC Post 2004 N & E'!E$64)*G$64)","v":{"$error":"#REF!"}},{"$error":"#REF!"},{"$f":"IF(F44=0,0,E44/(E$64+'Depn & WACC Post 2004 N & E'!E$64)*I$64/F44)","v":{"$error":"#REF!"}}]
[{"$f":"#REF!","v":{"$error":"#REF!"}},{"$f":"#REF!","v":{"$error":"#REF!"}},{"$f":"#REF!","v":{"$error":"#REF!"}},{"$f":"B45*IF(A45=C40,D40,IF(A45=C41,D41,D42))","v":{"$error":"#REF!"}},{"$error":"#REF!"},{"$f":"#REF!","v":{"$error":"#REF!"}},{"$f":"IF((E$64+'Depn & WACC Post 2004 N & E'!E$64)=0,0,E45/(E$64+'Depn & WACC Post 2004 N & E'!E$64)*G$64)","v":{"$error":"#REF!"}},{"$error":"#REF!"},{"$f":"IF(F45=0,0,E45/(E$64+'Depn & WACC Post 2004 N & E'!E$64)*I$64/F45)","v":{"$error":"#REF!"}}]
[{"$f":"#REF!","v":{"$error":"#REF!"}},{"$f":"#REF!","v":{"$error":"#REF!"}},{"$f":"#REF!","v":{"$error":"#REF!"}},{"$f":"B46*IF(A46=C40,D40,IF(A46=C41,D41,D42))","v":{"$error":"#REF!"}},{"$error":"#REF!"},{"$f":"#REF!","v":{"$error":"#REF!"}},{"$f":"IF((E$64+'Depn & WACC Post 2004 N & E'!E$64)=0,0,E46/(E$64+'Depn & WACC Post 2004 N & E'!E$64)*G$64)","v":{"$error":"#REF!"}},{"$error":"#REF!"},{"$f":"IF(F46=0,0,E46/(E$64+'Depn & WACC Post 2004 N & E'!E$64)*I$64/F46)","v":{"$error":"#REF!"}}]
[{"$f":"#REF!","v":{"$error":"#REF!"}},{"$f":"#REF!","v":{"$error":"#REF!"}},{"$f":"#REF!","v":{"$error":"#REF!"}},{"$f":"B47*IF(A47=C40,D40,IF(A47=C41,D41,D42))","v":{"$error":"#REF!"}},{"$error":"#REF!"},{"$f":"#REF!","v":{"$error":"#REF!"}},{"$f":"IF((E$64+'Depn & WACC Post 2004 N & E'!E$64)=0,0,E47/(E$64+'Depn & WACC Post 2004 N & E'!E$64)*G$64)","v":{"$error":"#REF!"}},{"$error":"#REF!"},{"$f":"IF(F47=0,0,E47/(E$64+'Depn & WACC Post 2004 N & E'!E$64)*I$64/F47)","v":{"$error":"#REF!"}}]
[{"$f":"#REF!","v":{"$error":"#REF!"}},{"$f":"#REF!","v":{"$error":"#REF!"}},{"$f":"#REF!","v":{"$error":"#REF!"}},{"$f":"B48*IF(A48=C40,D40,IF(A48=C41,D41,D42))","v":{"$error":"#REF!"}},{"$error":"#REF!"},{"$f":"#REF!","v":{"$error":"#REF!"}},{"$f":"IF((E$64+'Depn & WACC Post 2004 N & E'!E$64)=0,0,E48/(E$64+'Depn & WACC Post 2004 N & E'!E$64)*G$64)","v":{"$error":"#REF!"}},{"$error":"#REF!"},{"$f":"IF(F48=0,0,E48/(E$64+'Depn & WACC Post 2004 N & E'!E$64)*I$64/F48)","v":{"$error":"#REF!"}}]
[{"$f":"#REF!","v":{"$error":"#REF!"}},{"$f":"#REF!","v":{"$error":"#REF!"}},{"$f":"#REF!","v":{"$error":"#REF!"}},{"$f":"B49*IF(A49=C40,D40,IF(A49=C41,D41,D42))","v":{"$error":"#REF!"}},{"$error":"#REF!"},{"$f":"#REF!","v":{"$error":"#REF!"}},{"$f":"IF((E$64+'Depn & WACC Post 2004 N & E'!E$64)=0,0,E49/(E$64+'Depn & WACC Post 2004 N & E'!E$64)*G$64)","v":{"$error":"#REF!"}},{"$error":"#REF!"},{"$f":"IF(F49=0,0,E49/(E$64+'Depn & WACC Post 2004 N & E'!E$64)*I$64/F49)","v":{"$error":"#REF!"}}]
[{"$f":"#REF!","v":{"$error":"#REF!"}},{"$f":"#REF!","v":{"$error":"#REF!"}},{"$f":"#REF!","v":{"$error":"#REF!"}},{"$f":"B50*IF(A50=C40,D40,IF(A50=C41,D41,D42))","v":{"$error":"#REF!"}},{"$error":"#REF!"},{"$f":"#REF!","v":{"$error":"#REF!"}},{"$f":"IF((E$64+'Depn & WACC Post 2004 N & E'!E$64)=0,0,E50/(E$64+'Depn & WACC Post 2004 N & E'!E$64)*G$64)","v":{"$error":"#REF!"}},{"$error":"#REF!"},{"$f":"IF(F50=0,0,E50/(E$64+'Depn & WACC Post 2004 N & E'!E$64)*I$64/F50)","v":{"$error":"#REF!"}}]
[{"$f":"#REF!","v":{"$error":"#REF!"}},{"$f":"#REF!","v":{"$error":"#REF!"}},{"$f":"#REF!","v":{"$error":"#REF!"}},{"$f":"B51*IF(A51=C40,D40,IF(A51=C41,D41,D42))","v":{"$error":"#REF!"}},{"$error":"#REF!"},{"$f":"#REF!","v":{"$error":"#REF!"}},{"$f":"IF((E$64+'Depn & WACC Post 2004 N & E'!E$64)=0,0,E51/(E$64+'Depn & WACC Post 2004 N & E'!E$64)*G$64)","v":{"$error":"#REF!"}},{"$error":"#REF!"},{"$f":"IF(F51=0,0,E51/(E$64+'Depn & WACC Post 2004 N & E'!E$64)*I$64/F51)","v":{"$error":"#REF!"}}]
[{"$f":"#REF!","v":{"$error":"#REF!"}},{"$f":"#REF!","v":{"$error":"#REF!"}},{"$f":"#REF!","v":{"$error":"#REF!"}},{"$f":"B52*IF(A52=C40,D40,IF(A52=C41,D41,D42))","v":{"$error":"#REF!"}},{"$error":"#REF!"},{"$f":"#REF!","v":{"$error":"#REF!"}},{"$f":"IF((E$64+'Depn & WACC Post 2004 N & E'!E$64)=0,0,E52/(E$64+'Depn & WACC Post 2004 N & E'!E$64)*G$64)","v":{"$error":"#REF!"}},{"$error":"#REF!"},{"$f":"IF(F52=0,0,E52/(E$64+'Depn & WACC Post 2004 N & E'!E$64)*I$64/F52)","v":{"$error":"#REF!"}}]
[]
[]
[]
[]
[]
[]
[]
[]
[]
[]
[]
[null,null,null,null,{"$f":"SUM(E40:E63)","v":{"$error":"#REF!"}},{"$f":"SUM(F40:F63)","v":{"$error":"#REF!"}},{"$f":"'Total RAB'!T$149","v":{"$error":"#REF!"}},{"$f":"SUMPRODUCT(F40:F63,H40:H63)","v":{"$error":"#REF!"}},{"$f":"'Total RAB'!T$143","v":{"$error":"#REF!"}}]
[null,null,null,"Check",{"$f":"SUM(F65:I65)","v":{"$error":"#REF!"}},{"$f":"ABS(#REF!-F64)","v":{"$error":"#REF!"}},{"$f":"ABS(G64-SUM(G40:G63)-SUM('Depn & WACC Post 2004 N & E'!G40:G63))*IF(F64=0,0,1)","v":{"$error":"#REF!"}},{"$f":"ABS(H64+'Depn & WACC Post 2004 N & E'!H64-G64)*IF(F64=0,0,1)","v":{"$error":"#REF!"}},{"$f":"ABS(I64-SUMPRODUCT(F40:F63,I40:I63)-SUMPRODUCT('Depn & WACC Post 2004 N & E'!F40:F63,'Depn & WACC Post 2004 N & E'!I40:I63))*IF(F64=0,0,1)","v":{"$error":"#REF!"}}]
[]
[]
[{"$f":"#REF!","v":{"$error":"#REF!"}},{"$f":"#REF!","v":{"$error":"#REF!"}},{"$f":"#REF!","v":{"$error":"#REF!"}},"Unit cost",null,"Volumes","Unitisation - Luminaires & Ballasts"]
[{"$f":"#REF!","v":{"$error":"#REF!"}},{"$f":"#REF!","v":{"$error":"#REF!"}},{"$f":"#REF!","v":{"$error":"#REF!"}},{"$f":"'DNSP Inputs O&M'!$D$189","v":260.27999999999997},{"$f":"F69*D69","v":{"$error":"#REF!"}},{"$f":"#REF!","v":{"$error":"#REF!"}},{"$f":"IF((E$82+'Depn & WACC Post 2004 N & E'!E$82)=0,0,E69/(E$82+'Depn & WACC Post 2004 N & E'!E$82)*G$82)","v":{"$error":"#REF!"}},{"$f":"IF(F69=0,0,G69/F69)","v":{"$error":"#REF!"}}]
[{"$f":"#REF!","v":{"$error":"#REF!"}},{"$f":"#REF!","v":{"$error":"#REF!"}},{"$f":"#REF!","v":{"$error":"#REF!"}},{"$f":"'DNSP Inputs O&M'!$D$238","v":267.33},{"$f":"F70*D70","v":{"$error":"#REF!"}},{"$f":"#REF!","v":{"$error":"#REF!"}},{"$f":"IF((E$82+'Depn & WACC Post 2004 N & E'!E$82)=0,0,E70/(E$82+'Depn & WACC Post 2004 N & E'!E$82)*G$82)","v":{"$error":"#REF!"}},{"$f":"IF(F70=0,0,G70/F70)","v":{"$error":"#REF!"}}]
[{"$f":"#REF!","v":{"$error":"#REF!"}},{"$f":"#REF!","v":{"$error":"#REF!"}},{"$f":"#REF!","v":{"$error":"#REF!"}},{"$f":"'DNSP Inputs O&M'!$D$286","v":602.8983467999999},{"$f":"F71*D71","v":{"$error":"#REF!"}},{"$f":"#REF!","v":{"$error":"#REF!"}},{"$f":"IF((E$82+'Depn & WACC Post 2004 N & E'!E$82)=0,0,E71/(E$82+'Depn & WACC Post 2004 N & E'!E$82)*G$82)","v":{"$error":"#REF!"}},{"$f":"IF(F71=0,0,G71/F71)","v":{"$error":"#REF!"}}]
[{"$f":"#REF!","v":{"$error":"#REF!"}},{"$f":"#REF!","v":{"$error":"#REF!"}},{"$f":"#REF!","v":{"$error":"#REF!"}},{"$f":"'DNSP Inputs O&M'!$D$332","v":205},{"$error":"#REF!"},{"$f":"#REF!","v":{"$error":"#REF!"}},{"$f":"IF((E$82+'Depn & WACC Post 2004 N & E'!E$82)=0,0,E72/(E$82+'Depn & WACC Post 2004 N & E'!E$82)*G$82)","v":{"$error":"#REF!"}},{"$f":"IF(F72=0,0,G72/F72)","v":{"$error":"#REF!"}}]
[{"$f":"#REF!","v":{"$error":"#REF!"}},{"$f":"#REF!","v":{"$error":"#REF!"}},{"$f":"#REF!","v":{"$error":"#REF!"}},{"$f":"'DNSP Inputs O&M'!$D$378","v":1221.3620396249999},{"$error":"#REF!"},{"$f":"#REF!","v":{"$error":"#REF!"}},{"$f":"IF((E$82+'Depn & WACC Post 2004 N & E'!E$82)=0,0,E73/(E$82+'Depn & WACC Post 2004 N & E'!E$82)*G$82)","v":{"$error":"#REF!"}},{"$f":"IF(F73=0,0,G73/F73)","v":{"$error":"#REF!"}}]
[{"$f":"#REF!","v":{"$error":"#REF!"}},{"$f":"#REF!","v":{"$error":"#REF!"}},{"$f":"#REF!","v":{"$error":"#REF!"}},{"$f":"'DNSP Inputs O&M'!$D$424","v":1270.4308997249998},{"$error":"#REF!"},{"$f":"#REF!","v":{"$error":"#REF!"}},{"$f":"IF((E$82+'Depn & WACC Post 2004 N & E'!E$82)=0,0,E74/(E$82+'Depn & WACC Post 2004 N & E'!E$82)*G$82)","v":{"$error":"#REF!"}},{"$f":"IF(F74=0,0,G74/F74)","v":{"$error":"#REF!"}}]
[{"$f":"#REF!","v":{"$error":"#REF!"}},{"$f":"#REF!","v":{"$error":"#REF!"}},{"$f":"#REF!","v":{"$error":"#REF!"}},{"$f":"'DNSP Inputs O&M'!$D$470","v":1775.2617643000001},{"$error":"#REF!"},{"$f":"#REF!","v":{"$error":"#REF!"}},{"$f":"IF((E$82+'Depn & WACC Post 2004 N & E'!E$82)=0,0,E75/(E$82+'Depn & WACC Post 2004 N & E'!E$82)*G$82)","v":{"$error":"#REF!"}},{"$f":"IF(F75=0,0,G75/F75)","v":{"$error":"#REF!"}}]
[{"$f":"#REF!","v":{"$error":"#REF!"}},{"$f":"#REF!","v":{"$error":"#REF!"}},{"$f":"#REF!","v":{"$error":"#REF!"}},{"$f":"D69*B76","v":{"$error":"#REF!"}},{"$error":"#REF!"},{"$f":"#REF!","v":{"$error":"#REF!"}},{"$f":"IF((E$82+'Depn & WACC Post 2004 N & E'!E$82)=0,0,E76/(E$82+'Depn & WACC Post 2004 N & E'!E$82)*G$82)","v":{"$error":"#REF!"}},{"$error":"#REF!"}]
[{"$f":"#REF!","v":{"$error":"#REF!"}},{"$f":"#REF!","v":{"$error":"#REF!"}},{"$f":"#REF!","v":{"$error":"#REF!"}},{"$f":"D69*B77","v":{"$error":"#REF!"}},{"$error":"#REF!"},{"$f":"#REF!","v":{"$error":"#REF!"}},{"$f":"IF((E$82+'Depn & WACC Post 2004 N & E'!E$82)=0,0,E77/(E$82+'Depn & WACC Post 2004 N & E'!E$82)*G$82)","v":{"$error":"#REF!"}},{"$error":"#REF!"}]
[{"$f":"#REF!","v":{"$error":"#REF!"}},{"$f":"#REF!","v":{"$error":"#REF!"}},{"$f":"#REF!","v":{"$error":"#REF!"}},{"$f":"'DNSP Inputs O&M'!$D$517","v":402},{"$error":"#REF!"},{"$f":"#REF!","v":{"$error":"#REF!"}},{"$f":"IF((E$82+'Depn & WACC Post 2004 N & E'!E$82)=0,0,E78/(E$82+'Depn & WACC Post 2004 N & E'!E$82)*G$82)","v":{"$error":"#REF!"}},{"$error":"#REF!"}]
[{"$f":"#REF!","v":{"$error":"#REF!"}},{"$f":"#REF!","v":{"$error":"#REF!"}},{"$f":"#REF!","v":{"$error":"#REF!"}},{"$f":"'DNSP Inputs O&M'!$D$561","v":427},{"$error":"#REF!"},{"$f":"#REF!","v":{"$error":"#REF!"}},{"$f":"IF((E$82+'Depn & WACC Post 2004 N & E'!E$82)=0,0,E79/(E$82+'Depn & WACC Post 2004 N & E'!E$82)*G$82)","v":{"$error":"#REF!"}},{"$error":"#REF!"}]
[{"$f":"#REF!","v":{"$error":"#REF!"}},{"$f":"#REF!","v":{"$error":"#REF!"}},{"$f":"#REF!","v":{"$error":"#REF!"}},{"$f":"'DNSP Inputs O&M'!$D$605","v":650.88},{"$error":"#REF!"},{"$f":"#REF!","v":{"$error":"#REF!"}},{"$f":"IF((E$82+'Depn & WACC Post 2004 N & E'!E$82)=0,0,E80/(E$82+'Depn & WACC Post 2004 N & E'!E$82)*G$82)","v":{"$error":"#REF!"}},{"$error":"#REF!"}]
[]
[null,null,null,null,{"$f":"SUM(E69:E81)","v":{"$error":"#REF!"}},{"$f":"SUM(F69:F81)","v":{"$error":"#REF!"}},{"$f":"'Total RAB'!T$164","v":{"$error":"#REF!"}},{"$f":"SUMPRODUCT(F69:F81,H69:H81)","v":{"$error":"#REF!"}}]
[null,null,null,"Check",{"$f":"SUM(F83:I83)","v":{"$error":"#REF!"}},{"$f":"ABS(#REF!-F82)","v":{"$error":"#REF!"}},{"$f":"ABS(G82-SUM(G69:G81)-SUM('Depn & WACC Post 2004 N & E'!G69:G81))","v":{"$error":"#REF!"}},{"$f":"ABS(H82+'Depn & WACC Post 2004 N & E'!H82-G82)","v":{"$error":"#REF!"}}]
[]
[]
[null,null,{"$f":"'RAB 2001 to 2004 Central'!A$27","v":"Poles & Brackets"},"Weighted Average Volumes",null,null,"Unitisation Poles & Brackets"]
[null,null,"Total Poles & Brackets",{"$f":"#REF!*F40","v":{"$error":"#REF!"}},{"$f":"SUMPRODUCT(#REF!,#REF!)+SUMPRODUCT(#REF!,#REF!)","v":{"$error":"#REF!"}},{"$f":"IF(E87=0,0,D87/E87*G87)","v":{"$error":"#REF!"}},{"$f":"'Total RAB'!T$134*(#REF!/(#REF!+#REF!))","v":{"$error":"#REF!"}},{"$f":"F87/F40","v":{"$error":"#REF!"}}]
[]
[]
[]
[null,null,null,{"$f":"#REF!","v":{"$error":"#REF!"}}]
["DEPRECIATION AND RETURN",null,null,"Year",{"$f":"#REF!","v":{"$error":"#REF!"}}]
[]
[]
[{"$f":"#REF!","v":{"$error":"#REF!"}},{"$f":"#REF!","v":{"$error":"#REF!"}},{"$f":"#REF!","v":{"$error":"#REF!"}},{"$f":"D$39","v":"WACC and Dep"},null,{"$f":"F$39","v":"Volumes"},{"$f":"G$39","v":"Unitisation - Luminaires"},null,{"$f":"I$39","v":"RAB WDV"}]
[{"$f":"#REF!","v":{"$error":"#REF!"}},{"$f":"#REF!","v":{"$error":"#REF!"}},{"$f":"#REF!","v":{"$error":"#REF!"}},{"$f":"'RAB 2001 to 2004 Central'!D$15","v":{"$error":"#REF!"}},{"$f":"F96*D96","v":{"$error":"#REF!"}},{"$f":"IF(#REF!=0,1/10^6,#REF!)","v":{"$error":"#REF!"}},{"$f":"IF((E$120+'Depn & WACC Post 2004 N & E'!E$120)=0,0,E96/(E$120+'Depn & WACC Post 2004 N & E'!E$120)*G$120)","v":{"$error":"#REF!"}},{"$f":"IF(F96=0,0,G96/F96)","v":{"$error":"#REF!"}},{"$f":"IF(F96=0,0,E96/(E$120+'Depn & WACC Post 2004 N & E'!E$120)*I$120/F96)","v":{"$error":"#REF!"}}]
[{"$f":"#REF!","v":{"$error":"#REF!"}},{"$f":"#REF!","v":{"$error":"#REF!"}},{"$f":"#REF!","v":{"$error":"#REF!"}},{"$f":"'RAB 2001 to 2004 Central'!D$20","v":{"$error":"#REF!"}},{"$error":"#REF!"},{"$f":"IF(#REF!=0,1/10^6,#REF!)","v":{"$error":"#REF!"}},{"$f":"IF((E$120+'Depn & WACC Post 2004 N & E'!E$120)=0,0,E97/(E$120+'Depn & WACC Post 2004 N & E'!E$120)*G$120)","v":{"$error":"#REF!"}},{"$error":"#REF!"},{"$f":"IF(F97=0,0,E97/(E$120+'Depn & WACC Post 2004 N & E'!E$120)*I$120/F97)","v":{"$error":"#REF!"}}]
[{"$f":"#REF!","v":{"$error":"#REF!"}},{"$f":"#REF!","v":{"$error":"#REF!"}},{"$f":"#REF!","v":{"$error":"#REF!"}},{"$f":"'RAB 2001 to 2004 Central'!D$25","v":{"$error":"#REF!"}},{"$error":"#REF!"},{"$f":"IF(#REF!=0,1/10^6,#REF!)","v":{"$error":"#REF!"}},{"$f":"IF((E$120+'Depn & WACC Post 2004 N & E'!E$120)=0,0,E98/(E$120+'Depn & WACC Post 2004 N & E'!E$120)*G$120)","v":{"$error":"#REF!"}},{"$error":"#REF!"},{"$f":"IF(F98=0,0,E98/(E$120+'Depn & WACC Post 2004 N & E'!E$120)*I$120/F98)","v":{"$error":"#REF!"}}]
[{"$f":"#REF!","v":{"$error":"#REF!"}},{"$f":"#REF!","v":{"$error":"#REF!"}},{"$f":"#REF!","v":{"$error":"#REF!"}},{"$f":"B99*IF(A99=C96,D96,IF(A99=C97,D97,D98))","v":{"$error":"#REF!"}},{"$error":"#REF!"},{"$f":"#REF!","v":{"$error":"#REF!"}},{"$f":"IF((E$120+'Depn & WACC Post 2004 N & E'!E$120)=0,0,E99/(E$120+'Depn & WACC Post 2004 N & E'!E$120)*G$120)","v":{"$error":"#REF!"}},{"$error":"#REF!"},{"$f":"IF(F99=0,0,E99/(E$120+'Depn & WACC Post 2004 N & E'!E$120)*I$120/F99)","v":{"$error":"#REF!"}}]
[{"$f":"#REF!","v":{"$error":"#REF!"}},{"$f":"#REF!","v":{"$error":"#REF!"}},{"$f":"#REF!","v":{"$error":"#REF!"}},{"$f":"B100*IF(A100=C96,D96,IF(A100=C97,D97,D98))","v":{"$error":"#REF!"}},{"$error":"#REF!"},{"$f":"#REF!","v":{"$error":"#REF!"}},{"$f":"IF((E$120+'Depn & WACC Post 2004 N & E'!E$120)=0,0,E100/(E$120+'Depn & WACC Post 2004 N & E'!E$120)*G$120)","v":{"$error":"#REF!"}},{"$error":"#REF!"},{"$f":"IF(F100=0,0,E100/(E$120+'Depn & WACC Post 2004 N & E'!E$120)*I$120/F100)","v":{"$error":"#REF!"}}]
[{"$f":"#REF!","v":{"$error":"#REF!"}},{"$f":"#REF!","v":{"$error":"#REF!"}},{"$f":"#REF!","v":{"$error":"#REF!"}},{"$f":"B101*IF(A101=C96,D96,IF(A101=C97,D97,D98))","v":{"$error":"#REF!"}},{"$error":"#REF!"},{"$f":"#REF!","v":{"$error":"#REF!"}},{"$f":"IF((E$120+'Depn & WACC Post 2004 N & E'!E$120)=0,0,E101/(E$120+'Depn & WACC Post 2004 N & E'!E$120)*G$120)","v":{"$error":"#REF!"}},{"$error":"#REF!"},{"$f":"IF(F101=0,0,E101/(E$120+'Depn & WACC Post 2004 N & E'!E$120)*I$120/F101)","v":{"$error":"#REF!"}}]
[{"$f":"#REF!","v":{"$error":"#REF!"}},{"$f":"#REF!","v":{"$error":"#REF!"}},{"$f":"#REF!","v":{"$error":"#REF!"}},{"$f":"B102*IF(A102=C96,D96,IF(A102=C97,D97,D98))","v":{"$error":"#REF!"}},{"$error":"#REF!"},{"$f":"#REF!","v":{"$error":"#REF!"}},{"$f":"IF((E$120+'Depn & WACC Post 2004 N & E'!E$120)=0,0,E102/(E$120+'Depn & WACC Post 2004 N & E'!E$120)*G$120)","v":{"$error":"#REF!"}},{"$error":"#REF!"},{"$f":"IF(F102=0,0,E102/(E$120+'Depn & WACC Post 2004 N & E'!E$120)*I$120/F102)","v":{"$error":"#REF!"}}]
[{"$f":"#REF!","v":{"$error":"#REF!"}},{"$f":"#REF!","v":{"$error":"#REF!"}},{"$f":"#REF!","v":{"$error":"#REF!"}},{"$f":"B103*IF(A103=C96,D96,IF(A103=C97,D97,D98))","v":{"$error":"#REF!"}},{"$error":"#REF!"},{"$f":"#REF!","v":{"$error":"#REF!"}},{"$f":"IF((E$120+'Depn & WACC Post 2004 N & E'!E$120)=0,0,E103/(E$120+'Depn & WACC Post 2004 N & E'!E$120)*G$120)","v":{"$error":"#REF!"}},{"$error":"#REF!"},{"$f":"IF(F103=0,0,E103/(E$120+'Depn & WACC Post 2004 N & E'!E$120)*I$120/F103)","v":{"$error":"#REF!"}}]
[{"$f":"#REF!","v":{"$error":"#REF!"}},{"$f":"#REF!","v":{"$error":"#REF!"}},{"$f":"#REF!","v":{"$error":"#REF!"}},{"$f":"B104*IF(A104=C96,D96,IF(A104=C97,D97,D98))","v":{"$error":"#REF!"}},{"$error":"#REF!"},{"$f":"#REF!","v":{"$error":"#REF!"}},{"$f":"IF((E$120+'Depn & WACC Post 2004 N & E'!E$120)=0,0,E104/(E$120+'Depn & WACC Post 2004 N & E'!E$120)*G$120)","v":{"$error":"#REF!"}},{"$error":"#REF!"},{"$f":"IF(F104=0,0,E104/(E$120+'Depn & WACC Post 2004 N & E'!E$120)*I$120/F104)","v":{"$error":"#REF!"}}]
[{"$f":"#REF!","v":{"$error":"#REF!"}},{"$f":"#REF!","v":{"$error":"#REF!"}},{"$f":"#REF!","v":{"$error":"#REF!"}},{"$f":"B105*IF(A105=C96,D96,IF(A105=C97,D97,D98))","v":{"$error":"#REF!"}},{"$error":"#REF!"},{"$f":"#REF!","v":{"$error":"#REF!"}},{"$f":"IF((E$120+'Depn & WACC Post 2004 N & E'!E$120)=0,0,E105/(E$120+'Depn & WACC Post 2004 N & E'!E$120)*G$120)","v":{"$error":"#REF!"}},{"$error":"#REF!"},{"$f":"IF(F105=0,0,E105/(E$120+'Depn & WACC Post 2004 N & E'!E$120)*I$120/F105)","v":{"$error":"#REF!"}}]
[{"$f":"#REF!","v":{"$error":"#REF!"}},{"$f":"#REF!","v":{"$error":"#REF!"}},{"$f":"#REF!","v":{"$error":"#REF!"}},{"$f":"B106*IF(A106=C96,D96,IF(A106=C97,D97,D98))","v":{"$error":"#REF!"}},{"$error":"#REF!"},{"$f":"#REF!","v":{"$error":"#REF!"}},{"$f":"IF((E$120+'Depn & WACC Post 2004 N & E'!E$120)=0,0,E106/(E$120+'Depn & WACC Post 2004 N & E'!E$120)*G$120)","v":{"$error":"#REF!"}},{"$error":"#REF!"},{"$f":"IF(F106=0,0,E106/(E$120+'Depn & WACC Post 2004 N & E'!E$120)*I$120/F106)","v":{"$error":"#REF!"}}]
[{"$f":"#REF!","v":{"$error":"#REF!"}},{"$f":"#REF!","v":{"$error":"#REF!"}},{"$f":"#REF!","v":{"$error":"#REF!"}},{"$f":"B107*IF(A107=C96,D96,IF(A107=C97,D97,D98))","v":{"$error":"#REF!"}},{"$error":"#REF!"},{"$f":"#REF!","v":{"$error":"#REF!"}},{"$f":"IF((E$120+'Depn & WACC Post 2004 N & E'!E$120)=0,0,E107/(E$120+'Depn & WACC Post 2004 N & E'!E$120)*G$120)","v":{"$error":"#REF!"}},{"$error":"#REF!"},{"$f":"IF(F107=0,0,E107/(E$120+'Depn & WACC Post 2004 N & E'!E$120)*I$120/F107)","v":{"$error":"#REF!"}}]
[{"$f":"#REF!","v":{"$error":"#REF!"}},{"$f":"#REF!","v":{"$error":"#REF!"}},{"$f":"#REF!","v":{"$error":"#REF!"}},{"$f":"B108*IF(A108=C96,D96,IF(A108=C97,D97,D98))","v":{"$error":"#REF!"}},{"$error":"#REF!"},{"$f":"#REF!","v":{"$error":"#REF!"}},{"$f":"IF((E$120+'Depn & WACC Post 2004 N & E'!E$120)=0,0,E108/(E$120+'Depn & WACC Post 2004 N & E'!E$120)*G$120)","v":{"$error":"#REF!"}},{"$error":"#REF!"},{"$f":"IF(F108=0,0,E108/(E$120+'Depn & WACC Post 2004 N & E'!E$120)*I$120/F108)","v":{"$error":"#REF!"}}]
[]
[]
[]
[]
[]
[]
[]
[]
[]
[]
[]
[null,null,null,null,{"$f":"SUM(E96:E119)","v":{"$error":"#REF!"}},{"$f":"SUM(F96:F119)","v":{"$error":"#REF!"}},{"$f":"'Total RAB'!U$149","v":{"$error":"#REF!"}},{"$f":"SUMPRODUCT(F96:F119,H96:H119)","v":{"$error":"#REF!"}},{"$f":"'Total RAB'!U$143","v":{"$error":"#REF!"}}]
[null,null,null,"Check",{"$f":"SUM(F121:I121)","v":{"$error":"#REF!"}},{"$f":"ABS(#REF!-F120)","v":{"$error":"#REF!"}},{"$f":"ABS(G120-SUM(G96:G119)-SUM('Depn & WACC Post 2004 N & E'!G96:G119))*IF(F120=0,0,1)","v":{"$error":"#REF!"}},{"$f":"ABS(H120+'Depn & WACC Post 2004 N & E'!H120-G120)*IF(F120=0,0,1)","v":{"$error":"#REF!"}},{"$f":"ABS(I120-SUMPRODUCT(F96:F119,I96:I119)-SUMPRODUCT('Depn & WACC Post 2004 N & E'!F96:F119,'Depn & WACC Post 2004 N & E'!I96:I119))*IF(F120=0,0,1)","v":{"$error":"#REF!"}}]
[]
[]
[{"$f":"#REF!","v":{"$error":"#REF!"}},{"$f":"#REF!","v":{"$error":"#REF!"}},{"$f":"#REF!","v":{"$error":"#REF!"}},{"$f":"D$68","v":"Unit cost"},null,{"$f":"F$68","v":"Volumes"},{"$f":"G$68","v":"Unitisation - Luminaires & Ballasts"}]
[{"$f":"#REF!","v":{"$error":"#REF!"}},{"$f":"#REF!","v":{"$error":"#REF!"}},{"$f":"#REF!","v":{"$error":"#REF!"}},{"$f":"'DNSP Inputs O&M'!$E$189","v":260.27999999999997},{"$f":"F125*D125","v":{"$error":"#REF!"}},{"$f":"#REF!","v":{"$error":"#REF!"}},{"$f":"IF((E$138+'Depn & WACC Post 2004 N & E'!E$138)=0,0,E125/(E$138+'Depn & WACC Post 2004 N & E'!E$138)*G$138)","v":{"$error":"#REF!"}},{"$f":"IF(F125=0,0,G125/F125)","v":{"$error":"#REF!"}}]
[{"$f":"#REF!","v":{"$error":"#REF!"}},{"$f":"#REF!","v":{"$error":"#REF!"}},{"$f":"#REF!","v":{"$error":"#REF!"}},{"$f":"'DNSP Inputs O&M'!$E$238","v":267.33},{"$f":"F126*D126","v":{"$error":"#REF!"}},{"$f":"#REF!","v":{"$error":"#REF!"}},{"$f":"IF((E$138+'Depn & WACC Post 2004 N & E'!E$138)=0,0,E126/(E$138+'Depn & WACC Post 2004 N & E'!E$138)*G$138)","v":{"$error":"#REF!"}},{"$f":"IF(F126=0,0,G126/F126)","v":{"$error":"#REF!"}}]
[{"$f":"#REF!","v":{"$error":"#REF!"}},{"$f":"#REF!","v":{"$error":"#REF!"}},{"$f":"#REF!","v":{"$error":"#REF!"}},{"$f":"'DNSP Inputs O&M'!$E$286","v":602.8983467999999},{"$f":"F127*D127","v":{"$error":"#REF!"}},{"$f":"#REF!","v":{"$error":"#REF!"}},{"$f":"IF((E$138+'Depn & WACC Post 2004 N & E'!E$138)=0,0,E127/(E$138+'Depn & WACC Post 2004 N & E'!E$138)*G$138)","v":{"$error":"#REF!"}},{"$f":"IF(F127=0,0,G127/F127)","v":{"$error":"#REF!"}}]
[{"$f":"#REF!","v":{"$error":"#REF!"}},{"$f":"#REF!","v":{"$error":"#REF!"}},{"$f":"#REF!","v":{"$error":"#REF!"}},{"$f":"'DNSP Inputs O&M'!$E$332","v":205},{"$error":"#REF!"},{"$f":"#REF!","v":{"$error":"#REF!"}},{"$f":"IF((E$138+'Depn & WACC Post 2004 N & E'!E$138)=0,0,E128/(E$138+'Depn & WACC Post 2004 N & E'!E$138)*G$138)","v":{"$error":"#REF!"}},{"$f":"IF(F128=0,0,G128/F128)","v":{"$error":"#REF!"}}]
[{"$f":"#REF!","v":{"$error":"#REF!"}},{"$f":"#REF!","v":{"$error":"#REF!"}},{"$f":"#REF!","v":{"$error":"#REF!"}},{"$f":"'DNSP Inputs O&M'!$E$378","v":1221.3620396249999},{"$error":"#REF!"},{"$f":"#REF!","v":{"$error":"#REF!"}},{"$f":"IF((E$138+'Depn & WACC Post 2004 N & E'!E$138)=0,0,E129/(E$138+'Depn & WACC Post 2004 N & E'!E$138)*G$138)","v":{"$error":"#REF!"}},{"$f":"IF(F129=0,0,G129/F129)","v":{"$error":"#REF!"}}]
[{"$f":"#REF!","v":{"$error":"#REF!"}},{"$f":"#REF!","v":{"$error":"#REF!"}},{"$f":"#REF!","v":{"$error":"#REF!"}},{"$f":"'DNSP Inputs O&M'!$E$424","v":1270.4308997249998},{"$error":"#REF!"},{"$f":"#REF!","v":{"$error":"#REF!"}},{"$f":"IF((E$138+'Depn & WACC Post 2004 N & E'!E$138)=0,0,E130/(E$138+'Depn & WACC Post 2004 N & E'!E$138)*G$138)","v":{"$error":"#REF!"}},{"$f":"IF(F130=0,0,G130/F130)","v":{"$error":"#REF!"}}]
[{"$f":"#REF!","v":{"$error":"#REF!"}},{"$f":"#REF!","v":{"$error":"#REF!"}},{"$f":"#REF!","v":{"$error":"#REF!"}},{"$f":"'DNSP Inputs O&M'!$E$470","v":1775.2617643000001},{"$error":"#REF!"},{"$f":"#REF!","v":{"$error":"#REF!"}},{"$f":"IF((E$138+'Depn & WACC Post 2004 N & E'!E$138)=0,0,E131/(E$138+'Depn & WACC Post 2004 N & E'!E$138)*G$138)","v":{"$error":"#REF!"}},{"$f":"IF(F131=0,0,G131/F131)","v":{"$error":"#REF!"}}]
[{"$f":"#REF!","v":{"$error":"#REF!"}},{"$f":"#REF!","v":{"$error":"#REF!"}},{"$f":"#REF!","v":{"$error":"#REF!"}},{"$f":"D125*B132","v":{"$error":"#REF!"}},{"$error":"#REF!"},{"$f":"#REF!","v":{"$error":"#REF!"}},{"$f":"IF((E$138+'Depn & WACC Post 2004 N & E'!E$138)=0,0,E132/(E$138+'Depn & WACC Post 2004 N & E'!E$138)*G$138)","v":{"$error":"#REF!"}},{"$error":"#REF!"}]
[{"$f":"#REF!","v":{"$error":"#REF!"}},{"$f":"#REF!","v":{"$error":"#REF!"}},{"$f":"#REF!","v":{"$error":"#REF!"}},{"$f":"D125*B133","v":{"$error":"#REF!"}},{"$error":"#REF!"},{"$f":"#REF!","v":{"$error":"#REF!"}},{"$f":"IF((E$138+'Depn & WACC Post 2004 N & E'!E$138)=0,0,E133/(E$138+'Depn & WACC Post 2004 N & E'!E$138)*G$138)","v":{"$error":"#REF!"}},{"$error":"#REF!"}]
[{"$f":"#REF!","v":{"$error":"#REF!"}},{"$f":"#REF!","v":{"$error":"#REF!"}},{"$f":"#REF!","v":{"$error":"#REF!"}},{"$f":"'DNSP Inputs O&M'!$E$517","v":402},{"$f":"F134*D134","v":{"$error":"#REF!"}},{"$f":"#REF!","v":{"$error":"#REF!"}},{"$f":"IF((E$138+'Depn & WACC Post 2004 N & E'!E$138)=0,0,E134/(E$138+'Depn & WACC Post 2004 N & E'!E$138)*G$138)","v":{"$error":"#REF!"}},{"$f":"IF(F134=0,0,G134/F134)","v":{"$error":"#REF!"}}]
[{"$f":"#REF!","v":{"$error":"#REF!"}},{"$f":"#REF!","v":{"$error":"#REF!"}},{"$f":"#REF!","v":{"$error":"#REF!"}},{"$f":"'DNSP Inputs O&M'!$E$561","v":427},{"$f":"F135*D135","v":{"$error":"#REF!"}},{"$f":"#REF!","v":{"$error":"#REF!"}},{"$f":"IF((E$138+'Depn & WACC Post 2004 N & E'!E$138)=0,0,E135/(E$138+'Depn & WACC Post 2004 N & E'!E$138)*G$138)","v":{"$error":"#REF!"}},{"$f":"IF(F135=0,0,G135/F135)","v":{"$error":"#REF!"}}]
[{"$f":"#REF!","v":{"$error":"#REF!"}},{"$f":"#REF!","v":{"$error":"#REF!"}},{"$f":"#REF!","v":{"$error":"#REF!"}},{"$f":"'DNSP Inputs O&M'!$E$605","v":650.88},{"$f":"F136*D136","v":{"$error":"#REF!"}},{"$f":"#REF!","v":{"$error":"#REF!"}},{"$f":"IF((E$138+'Depn & WACC Post 2004 N & E'!E$138)=0,0,E136/(E$138+'Depn & WACC Post 2004 N & E'!E$138)*G$138)","v":{"$error":"#REF!"}},{"$f":"IF(F136=0,0,G136/F136)","v":{"$error":"#REF!"}}]
[]
[null,null,null,null,{"$f":"SUM(E125:E137)","v":{"$error":"#REF!"}},{"$f":"SUM(F125:F137)","v":{"$error":"#REF!"}},{"$f":"'Total RAB'!U$164","v":{"$error":"#REF!"}},{"$f":"SUMPRODUCT(F125:F137,H125:H137)","v":{"$error":"#REF!"}}]
[null,null,null,"Check",{"$f":"SUM(F139:I139)","v":{"$error":"#REF!"}},{"$f":"ABS(#REF!-F138)","v":{"$error":"#REF!"}},{"$f":"ABS(G138-SUM(G125:G137)-SUM('Depn & WACC Post 2004 N & E'!G125:G137))","v":{"$error":"#REF!"}},{"$f":"ABS(H138+'Depn & WACC Post 2004 N & E'!H138-G138)","v":{"$error":"#REF!"}}]
[]
[]
[null,null,{"$f":"'RAB 2001 to 2004 Central'!A$27","v":"Poles & Brackets"},{"$f":"D$86","v":"Weighted Average Volumes"},null,null,{"$f":"G$86","v":"Unitisation Poles & Brackets"}]
[null,null,"Total Poles & Brackets",{"$f":"#REF!*F96","v":{"$error":"#REF!"}},{"$f":"SUMPRODUCT(#REF!,#REF!)+SUMPRODUCT(#REF!,#REF!)","v":{"$error":"#REF!"}},{"$f":"IF(E143=0,0,D143/E143*G143)","v":{"$error":"#REF!"}},{"$f":"'Total RAB'!U$134*(#REF!/(#REF!+#REF!))","v":{"$error":"#REF!"}},{"$f":"F143/F96","v":{"$error":"#REF!"}}]
[]
[]
[]
[null,null,null,{"$f":"#REF!","v":{"$error":"#REF!"}}]
["DEPRECIATION AND RETURN",null,null,"Year",{"$f":"#REF!","v":{"$error":"#REF!"}}]
[]
[]
[{"$f":"#REF!","v":{"$error":"#REF!"}},{"$f":"#REF!","v":{"$error":"#REF!"}},{"$f":"#REF!","v":{"$error":"#REF!"}},{"$f":"D$39","v":"WACC and Dep"},null,{"$f":"F$39","v":"Volumes"},{"$f":"G$39","v":"Unitisation - Luminaires"},null,{"$f":"I$39","v":"RAB WDV"}]
[{"$f":"#REF!","v":{"$error":"#REF!"}},{"$f":"#REF!","v":{"$error":"#REF!"}},{"$f":"#REF!","v":{"$error":"#REF!"}},{"$f":"'DNSP Inputs Capex'!$F$21","v":237.46848582499996},{"$f":"F152*D152","v":{"$error":"#REF!"}},{"$f":"IF(#REF!=0,1/10^6,#REF!)","v":{"$error":"#REF!"}},{"$f":"IF((E$176+'Depn & WACC Post 2004 N & E'!E$176)=0,0,E152/(E$176+'Depn & WACC Post 2004 N & E'!E$176)*G$176)","v":{"$error":"#REF!"}},{"$f":"IF(F152=0,0,G152/F152)","v":{"$error":"#REF!"}},{"$f":"IF(F152=0,0,E152/(E$176+'Depn & WACC Post 2004 N & E'!E$176)*I$176/F152)","v":{"$error":"#REF!"}}]
[{"$f":"#REF!","v":{"$error":"#REF!"}},{"$f":"#REF!","v":{"$error":"#REF!"}},{"$f":"#REF!","v":{"$error":"#REF!"}},{"$f":"'DNSP Inputs Capex'!$F$44","v":234.07},{"$error":"#REF!"},{"$f":"IF(#REF!=0,1/10^6,#REF!)","v":{"$error":"#REF!"}},{"$f":"IF((E$176+'Depn & WACC Post 2004 N & E'!E$176)=0,0,E153/(E$176+'Depn & WACC Post 2004 N & E'!E$176)*G$176)","v":{"$error":"#REF!"}},{"$f":"IF(F153=0,0,G153/F153)","v":{"$error":"#REF!"}},{"$f":"IF(F153=0,0,E153/(E$176+'Depn & WACC Post 2004 N & E'!E$176)*I$176/F153)","v":{"$error":"#REF!"}}]
[{"$f":"#REF!","v":{"$error":"#REF!"}},{"$f":"#REF!","v":{"$error":"#REF!"}},{"$f":"#REF!","v":{"$error":"#REF!"}},{"$f":"'DNSP Inputs Capex'!$F$62","v":240.18},{"$error":"#REF!"},{"$f":"IF(#REF!=0,1/10^6,#REF!)","v":{"$error":"#REF!"}},{"$f":"IF((E$176+'Depn & WACC Post 2004 N & E'!E$176)=0,0,E154/(E$176+'Depn & WACC Post 2004 N & E'!E$176)*G$176)","v":{"$error":"#REF!"}},{"$f":"IF(F154=0,0,G154/F154)","v":{"$error":"#REF!"}},{"$f":"IF(F154=0,0,E154/(E$176+'Depn & WACC Post 2004 N & E'!E$176)*I$176/F154)","v":{"$error":"#REF!"}}]
[{"$f":"#REF!","v":{"$error":"#REF!"}},{"$f":"#REF!","v":{"$error":"#REF!"}},{"$f":"#REF!","v":{"$error":"#REF!"}},{"$f":"B155*IF(A155=C152,D152,IF(A155=C153,D153,D154))","v":{"$error":"#REF!"}},{"$error":"#REF!"},{"$f":"#REF!","v":{"$error":"#REF!"}},{"$f":"IF((E$176+'Depn & WACC Post 2004 N & E'!E$176)=0,0,E155/(E$176+'Depn & WACC Post 2004 N & E'!E$176)*G$176)","v":{"$error":"#REF!"}},{"$f":"IF(F155=0,0,G155/F155)","v":{"$error":"#REF!"}},{"$f":"IF(F155=0,0,E155/(E$176+'Depn & WACC Post 2004 N & E'!E$176)*I$176/F155)","v":{"$error":"#REF!"}}]
[{"$f":"#REF!","v":{"$error":"#REF!"}},{"$f":"#REF!","v":{"$error":"#REF!"}},{"$f":"#REF!","v":{"$error":"#REF!"}},{"$f":"B156*IF(A156=C152,D152,IF(A156=C153,D153,D154))","v":{"$error":"#REF!"}},{"$error":"#REF!"},{"$f":"#REF!","v":{"$error":"#REF!"}},{"$f":"IF((E$176+'Depn & WACC Post 2004 N & E'!E$176)=0,0,E156/(E$176+'Depn & WACC Post 2004 N & E'!E$176)*G$176)","v":{"$error":"#REF!"}},{"$f":"IF(F156=0,0,G156/F156)","v":{"$error":"#REF!"}},{"$f":"IF(F156=0,0,E156/(E$176+'Depn & WACC Post 2004 N & E'!E$176)*I$176/F156)","v":{"$error":"#REF!"}}]
[{"$f":"#REF!","v":{"$error":"#REF!"}},{"$f":"#REF!","v":{"$error":"#REF!"}},{"$f":"#REF!","v":{"$error":"#REF!"}},{"$f":"B157*IF(A157=C152,D152,IF(A157=C153,D153,D154))","v":{"$error":"#REF!"}},{"$error":"#REF!"},{"$f":"#REF!","v":{"$error":"#REF!"}},{"$f":"IF((E$176+'Depn & WACC Post 2004 N & E'!E$176)=0,0,E157/(E$176+'Depn & WACC Post 2004 N & E'!E$176)*G$176)","v":{"$error":"#REF!"}},{"$error":"#REF!"},{"$f":"IF(F157=0,0,E157/(E$176+'Depn & WACC Post 2004 N & E'!E$176)*I$176/F157)","v":{"$error":"#REF!"}}]
[{"$f":"#REF!","v":{"$error":"#REF!"}},{"$f":"#REF!","v":{"$error":"#REF!"}},{"$f":"#REF!","v":{"$error":"#REF!"}},{"$f":"B158*IF(A158=C152,D152,IF(A158=C153,D153,D154))","v":{"$error":"#REF!"}},{"$error":"#REF!"},{"$f":"#REF!","v":{"$error":"#REF!"}},{"$f":"IF((E$176+'Depn & WACC Post 2004 N & E'!E$176)=0,0,E158/(E$176+'Depn & WACC Post 2004 N & E'!E$176)*G$176)","v":{"$error":"#REF!"}},{"$error":"#REF!"},{"$f":"IF(F158=0,0,E158/(E$176+'Depn & WACC Post 2004 N & E'!E$176)*I$176/F158)","v":{"$error":"#REF!"}}]
[{"$f":"#REF!","v":{"$error":"#REF!"}},{"$f":"#REF!","v":{"$error":"#REF!"}},{"$f":"#REF!","v":{"$error":"#REF!"}},{"$f":"B159*IF(A159=C152,D152,IF(A159=C153,D153,D154))","v":{"$error":"#REF!"}},{"$error":"#REF!"},{"$f":"#REF!","v":{"$error":"#REF!"}},{"$f":"IF((E$176+'Depn & WACC Post 2004 N & E'!E$176)=0,0,E159/(E$176+'Depn & WACC Post 2004 N & E'!E$176)*G$176)","v":{"$error":"#REF!"}},{"$error":"#REF!"},{"$f":"IF(F159=0,0,E159/(E$176+'Depn & WACC Post 2004 N & E'!E$176)*I$176/F159)","v":{"$error":"#REF!"}}]
[{"$f":"#REF!","v":{"$error":"#REF!"}},{"$f":"#REF!","v":{"$error":"#REF!"}},{"$f":"#REF!","v":{"$error":"#REF!"}},{"$f":"B160*IF(A160=C152,D152,IF(A160=C153,D153,D154))","v":{"$error":"#REF!"}},{"$error":"#REF!"},{"$f":"#REF!","v":{"$error":"#REF!"}},{"$f":"IF((E$176+'Depn & WACC Post 2004 N & E'!E$176)=0,0,E160/(E$176+'Depn & WACC Post 2004 N & E'!E$176)*G$176)","v":{"$error":"#REF!"}},{"$error":"#REF!"},{"$f":"IF(F160=0,0,E160/(E$176+'Depn & WACC Post 2004 N & E'!E$176)*I$176/F160)","v":{"$error":"#REF!"}}]
[{"$f":"#REF!","v":{"$error":"#REF!"}},{"$f":"#REF!","v":{"$error":"#REF!"}},{"$f":"#REF!","v":{"$error":"#REF!"}},{"$f":"B161*IF(A161=C152,D152,IF(A161=C153,D153,D154))","v":{"$error":"#REF!"}},{"$error":"#REF!"},{"$f":"#REF!","v":{"$error":"#REF!"}},{"$f":"IF((E$176+'Depn & WACC Post 2004 N & E'!E$176)=0,0,E161/(E$176+'Depn & WACC Post 2004 N & E'!E$176)*G$176)","v":{"$error":"#REF!"}},{"$error":"#REF!"},{"$f":"IF(F161=0,0,E161/(E$176+'Depn & WACC Post 2004 N & E'!E$176)*I$176/F161)","v":{"$error":"#REF!"}}]
[{"$f":"#REF!","v":{"$error":"#REF!"}},{"$f":"#REF!","v":{"$error":"#REF!"}},{"$f":"#REF!","v":{"$error":"#REF!"}},{"$f":"B162*IF(A162=C152,D152,IF(A162=C153,D153,D154))","v":{"$error":"#REF!"}},{"$error":"#REF!"},{"$f":"#REF!","v":{"$error":"#REF!"}},{"$f":"IF((E$176+'Depn & WACC Post 2004 N & E'!E$176)=0,0,E162/(E$176+'Depn & WACC Post 2004 N & E'!E$176)*G$176)","v":{"$error":"#REF!"}},{"$error":"#REF!"},{"$f":"IF(F162=0,0,E162/(E$176+'Depn & WACC Post 2004 N & E'!E$176)*I$176/F162)","v":{"$error":"#REF!"}}]
[{"$f":"#REF!","v":{"$error":"#REF!"}},{"$f":"#REF!","v":{"$error":"#REF!"}},{"$f":"#REF!","v":{"$error":"#REF!"}},{"$f":"B163*IF(A163=C152,D152,IF(A163=C153,D153,D154))","v":{"$error":"#REF!"}},{"$error":"#REF!"},{"$f":"#REF!","v":{"$error":"#REF!"}},{"$f":"IF((E$176+'Depn & WACC Post 2004 N & E'!E$176)=0,0,E163/(E$176+'Depn & WACC Post 2004 N & E'!E$176)*G$176)","v":{"$error":"#REF!"}},{"$error":"#REF!"},{"$f":"IF(F163=0,0,E163/(E$176+'Depn & WACC Post 2004 N & E'!E$176)*I$176/F163)","v":{"$error":"#REF!"}}]
[{"$f":"#REF!","v":{"$error":"#REF!"}},{"$f":"#REF!","v":{"$error":"#REF!"}},{"$f":"#REF!","v":{"$error":"#REF!"}},{"$f":"B164*IF(A164=C152,D152,IF(A164=C153,D153,D154))","v":{"$error":"#REF!"}},{"$error":"#REF!"},{"$f":"#REF!","v":{"$error":"#REF!"}},{"$f":"IF((E$176+'Depn & WACC Post 2004 N & E'!E$176)=0,0,E164/(E$176+'Depn & WACC Post 2004 N & E'!E$176)*G$176)","v":{"$error":"#REF!"}},{"$error":"#REF!"},{"$f":"IF(F164=0,0,E164/(E$176+'Depn & WACC Post 2004 N & E'!E$176)*I$176/F164)","v":{"$error":"#REF!"}}]
[]
[]
[]
[]
[]
[]
[]
[]
[]
[]
[]
[null,null,null,null,{"$f":"SUM(E152:E175)","v":{"$error":"#REF!"}},{"$f":"SUM(F152:F175)","v":{"$error":"#REF!"}},{"$f":"'Total RAB'!V$149","v":{"$error":"#REF!"}},{"$f":"SUMPRODUCT(F152:F175,H152:H175)","v":{"$error":"#REF!"}},{"$f":"'Total RAB'!V$143","v":{"$error":"#REF!"}}]
[null,null,null,"Check",{"$f":"SUM(F177:I177)","v":{"$error":"#REF!"}},{"$f":"ABS(#REF!-F176)","v":{"$error":"#REF!"}},{"$f":"ABS(G176-SUM(G152:G175)-SUM('Depn & WACC Post 2004 N & E'!G152:G175))*IF(F176=0,0,1)","v":{"$error":"#REF!"}},{"$f":"ABS(H176+'Depn & WACC Post 2004 N & E'!H176-G176)*IF(F176=0,0,1)","v":{"$error":"#REF!"}},{"$f":"ABS(I176-SUMPRODUCT(F152:F175,I152:I175)-SUMPRODUCT('Depn & WACC Post 2004 N & E'!F152:F175,'Depn & WACC Post 2004 N & E'!I152:I175))*IF(F176=0,0,1)","v":{"$error":"#REF!"}}]
[]
[]
[{"$f":"#REF!","v":{"$error":"#REF!"}},{"$f":"#REF!","v":{"$error":"#REF!"}},{"$f":"#REF!","v":{"$error":"#REF!"}},{"$f":"D$68","v":"Unit cost"},null,{"$f":"F$68","v":"Volumes"},{"$f":"G$68","v":"Unitisation - Luminaires & Ballasts"}]
[{"$f":"#REF!","v":{"$error":"#REF!"}},{"$f":"#REF!","v":{"$error":"#REF!"}},{"$f":"#REF!","v":{"$error":"#REF!"}},{"$f":"'DNSP Inputs O&M'!$F$189","v":260.27999999999997},{"$f":"F181*D181","v":{"$error":"#REF!"}},{"$f":"#REF!","v":{"$error":"#REF!"}},{"$f":"IF((E$194+'Depn & WACC Post 2004 N & E'!E$194)=0,0,E181/(E$194+'Depn & WACC Post 2004 N & E'!E$194)*G$194)","v":{"$error":"#REF!"}},{"$f":"IF(F181=0,0,G181/F181)","v":{"$error":"#REF!"}}]
[{"$f":"#REF!","v":{"$error":"#REF!"}},{"$f":"#REF!","v":{"$error":"#REF!"}},{"$f":"#REF!","v":{"$error":"#REF!"}},{"$f":"'DNSP Inputs O&M'!$F$238","v":267.33},{"$f":"F182*D182","v":{"$error":"#REF!"}},{"$f":"#REF!","v":{"$error":"#REF!"}},{"$f":"IF((E$194+'Depn & WACC Post 2004 N & E'!E$194)=0,0,E182/(E$194+'Depn & WACC Post 2004 N & E'!E$194)*G$194)","v":{"$error":"#REF!"}},{"$f":"IF(F182=0,0,G182/F182)","v":{"$error":"#REF!"}}]
[{"$f":"#REF!","v":{"$error":"#REF!"}},{"$f":"#REF!","v":{"$error":"#REF!"}},{"$f":"#REF!","v":{"$error":"#REF!"}},{"$f":"'DNSP Inputs O&M'!$F$286","v":602.8983467999999},{"$f":"F183*D183","v":{"$error":"#REF!"}},{"$f":"#REF!","v":{"$error":"#REF!"}},{"$f":"IF((E$194+'Depn & WACC Post 2004 N & E'!E$194)=0,0,E183/(E$194+'Depn & WACC Post 2004 N & E'!E$194)*G$194)","v":{"$error":"#REF!"}},{"$f":"IF(F183=0,0,G183/F183)","v":{"$error":"#REF!"}}]
[{"$f":"#REF!","v":{"$error":"#REF!"}},{"$f":"#REF!","v":{"$error":"#REF!"}},{"$f":"#REF!","v":{"$error":"#REF!"}},{"$f":"'DNSP Inputs O&M'!$F$332","v":205},{"$error":"#REF!"},{"$f":"#REF!","v":{"$error":"#REF!"}},{"$f":"IF((E$194+'Depn & WACC Post 2004 N & E'!E$194)=0,0,E184/(E$194+'Depn & WACC Post 2004 N & E'!E$194)*G$194)","v":{"$error":"#REF!"}},{"$f":"IF(F184=0,0,G184/F184)","v":{"$error":"#REF!"}}]
[{"$f":"#REF!","v":{"$error":"#REF!"}},{"$f":"#REF!","v":{"$error":"#REF!"}},{"$f":"#REF!","v":{"$error":"#REF!"}},{"$f":"'DNSP Inputs O&M'!$F$378","v":1221.3620396249999},{"$error":"#REF!"},{"$f":"#REF!","v":{"$error":"#REF!"}},{"$f":"IF((E$194+'Depn & WACC Post 2004 N & E'!E$194)=0,0,E185/(E$194+'Depn & WACC Post 2004 N & E'!E$194)*G$194)","v":{"$error":"#REF!"}},{"$f":"IF(F185=0,0,G185/F185)","v":{"$error":"#REF!"}}]
[{"$f":"#REF!","v":{"$error":"#REF!"}},{"$f":"#REF!","v":{"$error":"#REF!"}},{"$f":"#REF!","v":{"$error":"#REF!"}},{"$f":"'DNSP Inputs O&M'!$F$424","v":1270.4308997249998},{"$error":"#REF!"},{"$f":"#REF!","v":{"$error":"#REF!"}},{"$f":"IF((E$194+'Depn & WACC Post 2004 N & E'!E$194)=0,0,E186/(E$194+'Depn & WACC Post 2004 N & E'!E$194)*G$194)","v":{"$error":"#REF!"}},{"$f":"IF(F186=0,0,G186/F186)","v":{"$error":"#REF!"}}]
[{"$f":"#REF!","v":{"$error":"#REF!"}},{"$f":"#REF!","v":{"$error":"#REF!"}},{"$f":"#REF!","v":{"$error":"#REF!"}},{"$f":"'DNSP Inputs O&M'!$F$470","v":1775.2617643000001},{"$error":"#REF!"},{"$f":"#REF!","v":{"$error":"#REF!"}},{"$f":"IF((E$194+'Depn & WACC Post 2004 N & E'!E$194)=0,0,E187/(E$194+'Depn & WACC Post 2004 N & E'!E$194)*G$194)","v":{"$error":"#REF!"}},{"$f":"IF(F187=0,0,G187/F187)","v":{"$error":"#REF!"}}]
[{"$f":"#REF!","v":{"$error":"#REF!"}},{"$f":"#REF!","v":{"$error":"#REF!"}},{"$f":"#REF!","v":{"$error":"#REF!"}},{"$f":"D181*B188","v":{"$error":"#REF!"}},{"$error":"#REF!"},{"$f":"#REF!","v":{"$error":"#REF!"}},{"$f":"IF((E$194+'Depn & WACC Post 2004 N & E'!E$194)=0,0,E188/(E$194+'Depn & WACC Post 2004 N & E'!E$194)*G$194)","v":{"$error":"#REF!"}},{"$error":"#REF!"}]
[{"$f":"#REF!","v":{"$error":"#REF!"}},{"$f":"#REF!","v":{"$error":"#REF!"}},{"$f":"#REF!","v":{"$error":"#REF!"}},{"$f":"D181*B189","v":{"$error":"#REF!"}},{"$error":"#REF!"},{"$f":"#REF!","v":{"$error":"#REF!"}},{"$f":"IF((E$194+'Depn & WACC Post 2004 N & E'!E$194)=0,0,E189/(E$194+'Depn & WACC Post 2004 N & E'!E$194)*G$194)","v":{"$error":"#REF!"}},{"$error":"#REF!"}]
[{"$f":"#REF!","v":{"$error":"#REF!"}},{"$f":"#REF!","v":{"$error":"#REF!"}},{"$f":"#REF!","v":{"$error":"#REF!"}},{"$f":"'DNSP Inputs O&M'!$F$517","v":402},{"$error":"#REF!"},{"$f":"#REF!","v":{"$error":"#REF!"}},{"$f":"IF((E$194+'Depn & WACC Post 2004 N & E'!E$194)=0,0,E190/(E$194+'Depn & WACC Post 2004 N & E'!E$194)*G$194)","v":{"$error":"#REF!"}},{"$f":"IF(F190=0,0,G190/F190)","v":{"$error":"#REF!"}}]
[{"$f":"#REF!","v":{"$error":"#REF!"}},{"$f":"#REF!","v":{"$error":"#REF!"}},{"$f":"#REF!","v":{"$error":"#REF!"}},{"$f":"'DNSP Inputs O&M'!$F$561","v":427},{"$error":"#REF!"},{"$f":"#REF!","v":{"$error":"#REF!"}},{"$f":"IF((E$194+'Depn & WACC Post 2004 N & E'!E$194)=0,0,E191/(E$194+'Depn & WACC Post 2004 N & E'!E$194)*G$194)","v":{"$error":"#REF!"}},{"$f":"IF(F191=0,0,G191/F191)","v":{"$error":"#REF!"}}]
[{"$f":"#REF!","v":{"$error":"#REF!"}},{"$f":"#REF!","v":{"$error":"#REF!"}},{"$f":"#REF!","v":{"$error":"#REF!"}},{"$f":"'DNSP Inputs O&M'!$F$605","v":650.88},{"$error":"#REF!"},{"$f":"#REF!","v":{"$error":"#REF!"}},{"$f":"IF((E$194+'Depn & WACC Post 2004 N & E'!E$194)=0,0,E192/(E$194+'Depn & WACC Post 2004 N & E'!E$194)*G$194)","v":{"$error":"#REF!"}},{"$f":"IF(F192=0,0,G192/F192)","v":{"$error":"#REF!"}}]
[]
[null,null,null,null,{"$f":"SUM(E181:E193)","v":{"$error":"#REF!"}},{"$f":"SUM(F181:F193)","v":{"$error":"#REF!"}},{"$f":"'Total RAB'!V$164","v":{"$error":"#REF!"}},{"$f":"SUMPRODUCT(F181:F193,H181:H193)","v":{"$error":"#REF!"}}]
[null,null,null,"Check",{"$f":"SUM(F195:I195)","v":{"$error":"#REF!"}},{"$f":"ABS(#REF!-F194)","v":{"$error":"#REF!"}},{"$f":"ABS(G194-SUM(G181:G193)-SUM('Depn & WACC Post 2004 N & E'!G181:G193))","v":{"$error":"#REF!"}},{"$f":"ABS(H194+'Depn & WACC Post 2004 N & E'!H194-G194)","v":{"$error":"#REF!"}}]
[]
[]
[null,null,{"$f":"'RAB 2001 to 2004 Central'!A$27","v":"Poles & Brackets"},{"$f":"D$86","v":"Weighted Average Volumes"},null,null,{"$f":"G$86","v":"Unitisation Poles & Brackets"}]
[null,null,"Total Poles & Brackets",{"$f":"#REF!*F152","v":{"$error":"#REF!"}},{"$f":"SUMPRODUCT(#REF!,#REF!)+SUMPRODUCT(#REF!,#REF!)","v":{"$error":"#REF!"}},{"$f":"IF(E199=0,0,D199/E199*G199)","v":{"$error":"#REF!"}},{"$f":"'Total RAB'!V$134*(#REF!/(#REF!+#REF!))","v":{"$error":"#REF!"}},{"$f":"F199/F152","v":{"$error":"#REF!"}}]
[]
[]
[]
[null,null,null,{"$f":"#REF!","v":{"$error":"#REF!"}}]
["DEPRECIATION AND RETURN",null,null,"Year",{"$f":"#REF!","v":{"$error":"#REF!"}}]
[]
[]
[{"$f":"#REF!","v":{"$error":"#REF!"}},{"$f":"#REF!","v":{"$error":"#REF!"}},{"$f":"#REF!","v":{"$error":"#REF!"}},{"$f":"D$39","v":"WACC and Dep"},null,{"$f":"F$39","v":"Volumes"},{"$f":"G$39","v":"Unitisation - Luminaires"},null,{"$f":"I$39","v":"RAB WDV"}]
[{"$f":"#REF!","v":{"$error":"#REF!"}},{"$f":"#REF!","v":{"$error":"#REF!"}},{"$f":"#REF!","v":{"$error":"#REF!"}},{"$f":"'DNSP Inputs Capex'!$G$21","v":237.46848582499996},{"$f":"F208*D208","v":{"$error":"#REF!"}},{"$f":"IF(#REF!=0,1/10^6,#REF!)","v":{"$error":"#REF!"}},{"$f":"IF((E$232+'Depn & WACC Post 2004 N & E'!E$232)=0,0,E208/(E$232+'Depn & WACC Post 2004 N & E'!E$232)*G$232)","v":{"$error":"#REF!"}},{"$f":"IF(F208=0,0,G208/F208)","v":{"$error":"#REF!"}},{"$f":"IF(F208=0,0,E208/(E$232+'Depn & WACC Post 2004 N & E'!E$232)*I$232/F208)","v":{"$error":"#REF!"}}]
[{"$f":"#REF!","v":{"$error":"#REF!"}},{"$f":"#REF!","v":{"$error":"#REF!"}},{"$f":"#REF!","v":{"$error":"#REF!"}},{"$f":"'DNSP Inputs Capex'!$G$44","v":234.07},{"$error":"#REF!"},{"$f":"IF(#REF!=0,1/10^6,#REF!)","v":{"$error":"#REF!"}},{"$f":"IF((E$232+'Depn & WACC Post 2004 N & E'!E$232)=0,0,E209/(E$232+'Depn & WACC Post 2004 N & E'!E$232)*G$232)","v":{"$error":"#REF!"}},{"$f":"IF(F209=0,0,G209/F209)","v":{"$error":"#REF!"}},{"$f":"IF(F209=0,0,E209/(E$232+'Depn & WACC Post 2004 N & E'!E$232)*I$232/F209)","v":{"$error":"#REF!"}}]
[{"$f":"#REF!","v":{"$error":"#REF!"}},{"$f":"#REF!","v":{"$error":"#REF!"}},{"$f":"#REF!","v":{"$error":"#REF!"}},{"$f":"'DNSP Inputs Capex'!$G$62","v":240.18},{"$error":"#REF!"},{"$f":"IF(#REF!=0,1/10^6,#REF!)","v":{"$error":"#REF!"}},{"$f":"IF((E$232+'Depn & WACC Post 2004 N & E'!E$232)=0,0,E210/(E$232+'Depn & WACC Post 2004 N & E'!E$232)*G$232)","v":{"$error":"#REF!"}},{"$f":"IF(F210=0,0,G210/F210)","v":{"$error":"#REF!"}},{"$f":"IF(F210=0,0,E210/(E$232+'Depn & WACC Post 2004 N & E'!E$232)*I$232/F210)","v":{"$error":"#REF!"}}]
[{"$f":"#REF!","v":{"$error":"#REF!"}},{"$f":"#REF!","v":{"$error":"#REF!"}},{"$f":"#REF!","v":{"$error":"#REF!"}},{"$f":"B211*IF(A211=C208,D208,IF(A211=C209,D209,D210))","v":{"$error":"#REF!"}},{"$error":"#REF!"},{"$f":"#REF!","v":{"$error":"#REF!"}},{"$f":"IF((E$232+'Depn & WACC Post 2004 N & E'!E$232)=0,0,E211/(E$232+'Depn & WACC Post 2004 N & E'!E$232)*G$232)","v":{"$error":"#REF!"}},{"$f":"IF(F211=0,0,G211/F211)","v":{"$error":"#REF!"}},{"$f":"IF(F211=0,0,E211/(E$232+'Depn & WACC Post 2004 N & E'!E$232)*I$232/F211)","v":{"$error":"#REF!"}}]
[{"$f":"#REF!","v":{"$error":"#REF!"}},{"$f":"#REF!","v":{"$error":"#REF!"}},{"$f":"#REF!","v":{"$error":"#REF!"}},{"$f":"B212*IF(A212=C208,D208,IF(A212=C209,D209,D210))","v":{"$error":"#REF!"}},{"$error":"#REF!"},{"$f":"#REF!","v":{"$error":"#REF!"}},{"$f":"IF((E$232+'Depn & WACC Post 2004 N & E'!E$232)=0,0,E212/(E$232+'Depn & WACC Post 2004 N & E'!E$232)*G$232)","v":{"$error":"#REF!"}},{"$f":"IF(F212=0,0,G212/F212)","v":{"$error":"#REF!"}},{"$f":"IF(F212=0,0,E212/(E$232+'Depn & WACC Post 2004 N & E'!E$232)*I$232/F212)","v":{"$error":"#REF!"}}]
[{"$f":"#REF!","v":{"$error":"#REF!"}},{"$f":"#REF!","v":{"$error":"#REF!"}},{"$f":"#REF!","v":{"$error":"#REF!"}},{"$f":"B213*IF(A213=C208,D208,IF(A213=C209,D209,D210))","v":{"$error":"#REF!"}},{"$error":"#REF!"},{"$f":"#REF!","v":{"$error":"#REF!"}},{"$f":"IF((E$232+'Depn & WACC Post 2004 N & E'!E$232)=0,0,E213/(E$232+'Depn & WACC Post 2004 N & E'!E$232)*G$232)","v":{"$error":"#REF!"}},{"$error":"#REF!"},{"$f":"IF(F213=0,0,E213/(E$232+'Depn & WACC Post 2004 N & E'!E$232)*I$232/F213)","v":{"$error":"#REF!"}}]
[{"$f":"#REF!","v":{"$error":"#REF!"}},{"$f":"#REF!","v":{"$error":"#REF!"}},{"$f":"#REF!","v":{"$error":"#REF!"}},{"$f":"B214*IF(A214=C208,D208,IF(A214=C209,D209,D210))","v":{"$error":"#REF!"}},{"$error":"#REF!"},{"$f":"#REF!","v":{"$error":"#REF!"}},{"$f":"IF((E$232+'Depn & WACC Post 2004 N & E'!E$232)=0,0,E214/(E$232+'Depn & WACC Post 2004 N & E'!E$232)*G$232)","v":{"$error":"#REF!"}},{"$error":"#REF!"},{"$f":"IF(F214=0,0,E214/(E$232+'Depn & WACC Post 2004 N & E'!E$232)*I$232/F214)","v":{"$error":"#REF!"}}]
[{"$f":"#REF!","v":{"$error":"#REF!"}},{"$f":"#REF!","v":{"$error":"#REF!"}},{"$f":"#REF!","v":{"$error":"#REF!"}},{"$f":"B215*IF(A215=C208,D208,IF(A215=C209,D209,D210))","v":{"$error":"#REF!"}},{"$error":"#REF!"},{"$f":"#REF!","v":{"$error":"#REF!"}},{"$f":"IF((E$232+'Depn & WACC Post 2004 N & E'!E$232)=0,0,E215/(E$232+'Depn & WACC Post 2004 N & E'!E$232)*G$232)","v":{"$error":"#REF!"}},{"$error":"#REF!"},{"$f":"IF(F215=0,0,E215/(E$232+'Depn & WACC Post 2004 N & E'!E$232)*I$232/F215)","v":{"$error":"#REF!"}}]
[{"$f":"#REF!","v":{"$error":"#REF!"}},{"$f":"#REF!","v":{"$error":"#REF!"}},{"$f":"#REF!","v":{"$error":"#REF!"}},{"$f":"B216*IF(A216=C208,D208,IF(A216=C209,D209,D210))","v":{"$error":"#REF!"}},{"$error":"#REF!"},{"$f":"#REF!","v":{"$error":"#REF!"}},{"$f":"IF((E$232+'Depn & WACC Post 2004 N & E'!E$232)=0,0,E216/(E$232+'Depn & WACC Post 2004 N & E'!E$232)*G$232)","v":{"$error":"#REF!"}},{"$error":"#REF!"},{"$f":"IF(F216=0,0,E216/(E$232+'Depn & WACC Post 2004 N & E'!E$232)*I$232/F216)","v":{"$error":"#REF!"}}]
[{"$f":"#REF!","v":{"$error":"#REF!"}},{"$f":"#REF!","v":{"$error":"#REF!"}},{"$f":"#REF!","v":{"$error":"#REF!"}},{"$f":"B217*IF(A217=C208,D208,IF(A217=C209,D209,D210))","v":{"$error":"#REF!"}},{"$error":"#REF!"},{"$f":"#REF!","v":{"$error":"#REF!"}},{"$f":"IF((E$232+'Depn & WACC Post 2004 N & E'!E$232)=0,0,E217/(E$232+'Depn & WACC Post 2004 N & E'!E$232)*G$232)","v":{"$error":"#REF!"}},{"$error":"#REF!"},{"$f":"IF(F217=0,0,E217/(E$232+'Depn & WACC Post 2004 N & E'!E$232)*I$232/F217)","v":{"$error":"#REF!"}}]
[{"$f":"#REF!","v":{"$error":"#REF!"}},{"$f":"#REF!","v":{"$error":"#REF!"}},{"$f":"#REF!","v":{"$error":"#REF!"}},{"$f":"B218*IF(A218=C208,D208,IF(A218=C209,D209,D210))","v":{"$error":"#REF!"}},{"$error":"#REF!"},{"$f":"#REF!","v":{"$error":"#REF!"}},{"$f":"IF((E$232+'Depn & WACC Post 2004 N & E'!E$232)=0,0,E218/(E$232+'Depn & WACC Post 2004 N & E'!E$232)*G$232)","v":{"$error":"#REF!"}},{"$error":"#REF!"},{"$f":"IF(F218=0,0,E218/(E$232+'Depn & WACC Post 2004 N & E'!E$232)*I$232/F218)","v":{"$error":"#REF!"}}]
[{"$f":"#REF!","v":{"$error":"#REF!"}},{"$f":"#REF!","v":{"$error":"#REF!"}},{"$f":"#REF!","v":{"$error":"#REF!"}},{"$f":"B219*IF(A219=C208,D208,IF(A219=C209,D209,D210))","v":{"$error":"#REF!"}},{"$error":"#REF!"},{"$f":"#REF!","v":{"$error":"#REF!"}},{"$f":"IF((E$232+'Depn & WACC Post 2004 N & E'!E$232)=0,0,E219/(E$232+'Depn & WACC Post 2004 N & E'!E$232)*G$232)","v":{"$error":"#REF!"}},{"$error":"#REF!"},{"$f":"IF(F219=0,0,E219/(E$232+'Depn & WACC Post 2004 N & E'!E$232)*I$232/F219)","v":{"$error":"#REF!"}}]
[{"$f":"#REF!","v":{"$error":"#REF!"}},{"$f":"#REF!","v":{"$error":"#REF!"}},{"$f":"#REF!","v":{"$error":"#REF!"}},{"$f":"B220*IF(A220=C208,D208,IF(A220=C209,D209,D210))","v":{"$error":"#REF!"}},{"$error":"#REF!"},{"$f":"#REF!","v":{"$error":"#REF!"}},{"$f":"IF((E$232+'Depn & WACC Post 2004 N & E'!E$232)=0,0,E220/(E$232+'Depn & WACC Post 2004 N & E'!E$232)*G$232)","v":{"$error":"#REF!"}},{"$error":"#REF!"},{"$f":"IF(F220=0,0,E220/(E$232+'Depn & WACC Post 2004 N & E'!E$232)*I$232/F220)","v":{"$error":"#REF!"}}]
[]
[]
[]
[]
[]
[]
[]
[]
[]
[]
[]
[null,null,null,null,{"$f":"SUM(E208:E231)","v":{"$error":"#REF!"}},{"$f":"SUM(F208:F231)","v":{"$error":"#REF!"}},{"$f":"'Total RAB'!W$149","v":{"$error":"#REF!"}},{"$f":"SUMPRODUCT(F208:F231,H208:H231)","v":{"$error":"#REF!"}},{"$f":"'Total RAB'!W$143","v":{"$error":"#REF!"}}]
[null,null,null,"Check",{"$f":"SUM(F233:I233)","v":{"$error":"#REF!"}},{"$f":"ABS(#REF!-F232)","v":{"$error":"#REF!"}},{"$f":"ABS(G232-SUM(G208:G231)-SUM('Depn & WACC Post 2004 N & E'!G208:G231))*IF(F232=0,0,1)","v":{"$error":"#REF!"}},{"$f":"ABS(H232+'Depn & WACC Post 2004 N & E'!H232-G232)*IF(F232=0,0,1)","v":{"$error":"#REF!"}},{"$f":"ABS(I232-SUMPRODUCT(F208:F231,I208:I231)-SUMPRODUCT('Depn & WACC Post 2004 N & E'!F208:F231,'Depn & WACC Post 2004 N & E'!I208:I231))*IF(F232=0,0,1)","v":{"$error":"#REF!"}}]
[]
[]
[{"$f":"#REF!","v":{"$error":"#REF!"}},{"$f":"#REF!","v":{"$error":"#REF!"}},{"$f":"#REF!","v":{"$error":"#REF!"}},{"$f":"D$68","v":"Unit cost"},null,{"$f":"F$68","v":"Volumes"},{"$f":"G$68","v":"Unitisation - Luminaires & Ballasts"}]
[{"$f":"#REF!","v":{"$error":"#REF!"}},{"$f":"#REF!","v":{"$error":"#REF!"}},{"$f":"#REF!","v":{"$error":"#REF!"}},{"$f":"'DNSP Inputs O&M'!$G$189","v":260.27999999999997},{"$f":"F237*D237","v":{"$error":"#REF!"}},{"$f":"#REF!","v":{"$error":"#REF!"}},{"$f":"IF((E$250+'Depn & WACC Post 2004 N & E'!E$250)=0,0,E237/(E$250+'Depn & WACC Post 2004 N & E'!E$250)*G$250)","v":{"$error":"#REF!"}},{"$f":"IF(F237=0,0,G237/F237)","v":{"$error":"#REF!"}}]
[{"$f":"#REF!","v":{"$error":"#REF!"}},{"$f":"#REF!","v":{"$error":"#REF!"}},{"$f":"#REF!","v":{"$error":"#REF!"}},{"$f":"'DNSP Inputs O&M'!$G$238","v":267.33},{"$f":"F238*D238","v":{"$error":"#REF!"}},{"$f":"#REF!","v":{"$error":"#REF!"}},{"$f":"IF((E$250+'Depn & WACC Post 2004 N & E'!E$250)=0,0,E238/(E$250+'Depn & WACC Post 2004 N & E'!E$250)*G$250)","v":{"$error":"#REF!"}},{"$f":"IF(F238=0,0,G238/F238)","v":{"$error":"#REF!"}}]
[{"$f":"#REF!","v":{"$error":"#REF!"}},{"$f":"#REF!","v":{"$error":"#REF!"}},{"$f":"#REF!","v":{"$error":"#REF!"}},{"$f":"'DNSP Inputs O&M'!$G$286","v":602.8983467999999},{"$f":"F239*D239","v":{"$error":"#REF!"}},{"$f":"#REF!","v":{"$error":"#REF!"}},{"$f":"IF((E$250+'Depn & WACC Post 2004 N & E'!E$250)=0,0,E239/(E$250+'Depn & WACC Post 2004 N & E'!E$250)*G$250)","v":{"$error":"#REF!"}},{"$f":"IF(F239=0,0,G239/F239)","v":{"$error":"#REF!"}}]
[{"$f":"#REF!","v":{"$error":"#REF!"}},{"$f":"#REF!","v":{"$error":"#REF!"}},{"$f":"#REF!","v":{"$error":"#REF!"}},{"$f":"'DNSP Inputs O&M'!$G$332","v":205},{"$error":"#REF!"},{"$f":"#REF!","v":{"$error":"#REF!"}},{"$f":"IF((E$250+'Depn & WACC Post 2004 N & E'!E$250)=0,0,E240/(E$250+'Depn & WACC Post 2004 N & E'!E$250)*G$250)","v":{"$error":"#REF!"}},{"$f":"IF(F240=0,0,G240/F240)","v":{"$error":"#REF!"}}]
[{"$f":"#REF!","v":{"$error":"#REF!"}},{"$f":"#REF!","v":{"$error":"#REF!"}},{"$f":"#REF!","v":{"$error":"#REF!"}},{"$f":"'DNSP Inputs O&M'!$G$378","v":1221.3620396249999},{"$error":"#REF!"},{"$f":"#REF!","v":{"$error":"#REF!"}},{"$f":"IF((E$250+'Depn & WACC Post 2004 N & E'!E$250)=0,0,E241/(E$250+'Depn & WACC Post 2004 N & E'!E$250)*G$250)","v":{"$error":"#REF!"}},{"$f":"IF(F241=0,0,G241/F241)","v":{"$error":"#REF!"}}]
[{"$f":"#REF!","v":{"$error":"#REF!"}},{"$f":"#REF!","v":{"$error":"#REF!"}},{"$f":"#REF!","v":{"$error":"#REF!"}},{"$f":"'DNSP Inputs O&M'!$G$424","v":1270.4308997249998},{"$error":"#REF!"},{"$f":"#REF!","v":{"$error":"#REF!"}},{"$f":"IF((E$250+'Depn & WACC Post 2004 N & E'!E$250)=0,0,E242/(E$250+'Depn & WACC Post 2004 N & E'!E$250)*G$250)","v":{"$error":"#REF!"}},{"$f":"IF(F242=0,0,G242/F242)","v":{"$error":"#REF!"}}]
[{"$f":"#REF!","v":{"$error":"#REF!"}},{"$f":"#REF!","v":{"$error":"#REF!"}},{"$f":"#REF!","v":{"$error":"#REF!"}},{"$f":"'DNSP Inputs O&M'!$G$470","v":1775.2617643000001},{"$error":"#REF!"},{"$f":"#REF!","v":{"$error":"#REF!"}},{"$f":"IF((E$250+'Depn & WACC Post 2004 N & E'!E$250)=0,0,E243/(E$250+'Depn & WACC Post 2004 N & E'!E$250)*G$250)","v":{"$error":"#REF!"}},{"$f":"IF(F243=0,0,G243/F243)","v":{"$error":"#REF!"}}]
[{"$f":"#REF!","v":{"$error":"#REF!"}},{"$f":"#REF!","v":{"$error":"#REF!"}},{"$f":"#REF!","v":{"$error":"#REF!"}},{"$f":"D237*B244","v":{"$error":"#REF!"}},{"$error":"#REF!"},{"$f":"#REF!","v":{"$error":"#REF!"}},{"$f":"IF((E$250+'Depn & WACC Post 2004 N & E'!E$250)=0,0,E244/(E$250+'Depn & WACC Post 2004 N & E'!E$250)*G$250)","v":{"$error":"#REF!"}},{"$error":"#REF!"}]
[{"$f":"#REF!","v":{"$error":"#REF!"}},{"$f":"#REF!","v":{"$error":"#REF!"}},{"$f":"#REF!","v":{"$error":"#REF!"}},{"$f":"D237*B245","v":{"$error":"#REF!"}},{"$error":"#REF!"},{"$f":"#REF!","v":{"$error":"#REF!"}},{"$f":"IF((E$250+'Depn & WACC Post 2004 N & E'!E$250)=0,0,E245/(E$250+'Depn & WACC Post 2004 N & E'!E$250)*G$250)","v":{"$error":"#REF!"}},{"$error":"#REF!"}]
[{"$f":"#REF!","v":{"$error":"#REF!"}},{"$f":"#REF!","v":{"$error":"#REF!"}},{"$f":"#REF!","v":{"$error":"#REF!"}},{"$f":"'DNSP Inputs O&M'!$G$517","v":402},{"$error":"#REF!"},{"$f":"#REF!","v":{"$error":"#REF!"}},{"$f":"IF((E$250+'Depn & WACC Post 2004 N & E'!E$250)=0,0,E246/(E$250+'Depn & WACC Post 2004 N & E'!E$250)*G$250)","v":{"$error":"#REF!"}},{"$f":"IF(F246=0,0,G246/F246)","v":{"$error":"#REF!"}}]
[{"$f":"#REF!","v":{"$error":"#REF!"}},{"$f":"#REF!","v":{"$error":"#REF!"}},{"$f":"#REF!","v":{"$error":"#REF!"}},{"$f":"'DNSP Inputs O&M'!$G$561","v":427},{"$error":"#REF!"},{"$f":"#REF!","v":{"$error":"#REF!"}},{"$f":"IF((E$250+'Depn & WACC Post 2004 N & E'!E$250)=0,0,E247/(E$250+'Depn & WACC Post 2004 N & E'!E$250)*G$250)","v":{"$error":"#REF!"}},{"$f":"IF(F247=0,0,G247/F247)","v":{"$error":"#REF!"}}]
[{"$f":"#REF!","v":{"$error":"#REF!"}},{"$f":"#REF!","v":{"$error":"#REF!"}},{"$f":"#REF!","v":{"$error":"#REF!"}},{"$f":"'DNSP Inputs O&M'!$G$605","v":650.88},{"$error":"#REF!"},{"$f":"#REF!","v":{"$error":"#REF!"}},{"$f":"IF((E$250+'Depn & WACC Post 2004 N & E'!E$250)=0,0,E248/(E$250+'Depn & WACC Post 2004 N & E'!E$250)*G$250)","v":{"$error":"#REF!"}},{"$f":"IF(F248=0,0,G248/F248)","v":{"$error":"#REF!"}}]
[]
[null,null,null,null,{"$f":"SUM(E237:E249)","v":{"$error":"#REF!"}},{"$f":"SUM(F237:F249)","v":{"$error":"#REF!"}},{"$f":"'Total RAB'!W$164","v":{"$error":"#REF!"}},{"$f":"SUMPRODUCT(F237:F249,H237:H249)","v":{"$error":"#REF!"}}]
[null,null,null,"Check",{"$f":"SUM(F251:I251)","v":{"$error":"#REF!"}},{"$f":"ABS(#REF!-F250)","v":{"$error":"#REF!"}},{"$f":"ABS(G250-SUM(G237:G249)-SUM('Depn & WACC Post 2004 N & E'!G237:G249))","v":{"$error":"#REF!"}},{"$f":"ABS(H250+'Depn & WACC Post 2004 N & E'!H250-G250)","v":{"$error":"#REF!"}}]
[]
[]
[null,null,{"$f":"'RAB 2001 to 2004 Central'!A$27","v":"Poles & Brackets"},{"$f":"D$86","v":"Weighted Average Volumes"},null,null,{"$f":"G$86","v":"Unitisation Poles & Brackets"}]
[null,null,"Total Poles & Brackets",{"$f":"#REF!*F208","v":{"$error":"#REF!"}},{"$f":"SUMPRODUCT(#REF!,#REF!)+SUMPRODUCT(#REF!,#REF!)","v":{"$error":"#REF!"}},{"$f":"IF(E255=0,0,D255/E255*G255)","v":{"$error":"#REF!"}},{"$f":"'Total RAB'!W$134*(#REF!/(#REF!+#REF!))","v":{"$error":"#REF!"}},{"$f":"F255/F208","v":{"$error":"#REF!"}}]
[]
[]
[]
[null,null,null,{"$f":"#REF!","v":{"$error":"#REF!"}}]
["DEPRECIATION AND RETURN",null,null,"Year",{"$f":"#REF!","v":{"$error":"#REF!"}}]
[]
[]
[{"$f":"#REF!","v":{"$error":"#REF!"}},{"$f":"#REF!","v":{"$error":"#REF!"}},{"$f":"#REF!","v":{"$error":"#REF!"}},{"$f":"D$39","v":"WACC and Dep"},null,{"$f":"F$39","v":"Volumes"},{"$f":"G$39","v":"Unitisation - Luminaires"},null,{"$f":"I$39","v":"RAB WDV"}]
[{"$f":"#REF!","v":{"$error":"#REF!"}},{"$f":"#REF!","v":{"$error":"#REF!"}},{"$f":"#REF!","v":{"$error":"#REF!"}},{"$f":"'DNSP Inputs Capex'!$H$21","v":237.46848582499996},{"$f":"F264*D264","v":{"$error":"#REF!"}},{"$f":"IF(#REF!=0,1/10^6,#REF!)","v":{"$error":"#REF!"}},{"$f":"IF((E$288+'Depn & WACC Post 2004 N & E'!E$288)=0,0,E264/(E$288+'Depn & WACC Post 2004 N & E'!E$288)*G$288)","v":{"$error":"#REF!"}},{"$f":"IF(F264=0,0,G264/F264)","v":{"$error":"#REF!"}},{"$f":"IF(F264=0,0,E264/(E$288+'Depn & WACC Post 2004 N & E'!E$288)*I$288/F264)","v":{"$error":"#REF!"}}]
[{"$f":"#REF!","v":{"$error":"#REF!"}},{"$f":"#REF!","v":{"$error":"#REF!"}},{"$f":"#REF!","v":{"$error":"#REF!"}},{"$f":"'DNSP Inputs Capex'!$H$44","v":234.07},{"$error":"#REF!"},{"$f":"IF(#REF!=0,1/10^6,#REF!)","v":{"$error":"#REF!"}},{"$f":"IF((E$288+'Depn & WACC Post 2004 N & E'!E$288)=0,0,E265/(E$288+'Depn & WACC Post 2004 N & E'!E$288)*G$288)","v":{"$error":"#REF!"}},{"$f":"IF(F265=0,0,G265/F265)","v":{"$error":"#REF!"}},{"$f":"IF(F265=0,0,E265/(E$288+'Depn & WACC Post 2004 N & E'!E$288)*I$288/F265)","v":{"$error":"#REF!"}}]
[{"$f":"#REF!","v":{"$error":"#REF!"}},{"$f":"#REF!","v":{"$error":"#REF!"}},{"$f":"#REF!","v":{"$error":"#REF!"}},{"$f":"'DNSP Inputs Capex'!$H$62","v":240.18},{"$error":"#REF!"},{"$f":"IF(#REF!=0,1/10^6,#REF!)","v":{"$error":"#REF!"}},{"$f":"IF((E$288+'Depn & WACC Post 2004 N & E'!E$288)=0,0,E266/(E$288+'Depn & WACC Post 2004 N & E'!E$288)*G$288)","v":{"$error":"#REF!"}},{"$f":"IF(F266=0,0,G266/F266)","v":{"$error":"#REF!"}},{"$f":"IF(F266=0,0,E266/(E$288+'Depn & WACC Post 2004 N & E'!E$288)*I$288/F266)","v":{"$error":"#REF!"}}]
[{"$f":"#REF!","v":{"$error":"#REF!"}},{"$f":"#REF!","v":{"$error":"#REF!"}},{"$f":"#REF!","v":{"$error":"#REF!"}},{"$f":"B267*IF(A267=C264,D264,IF(A267=C265,D265,D266))","v":{"$error":"#REF!"}},{"$error":"#REF!"},{"$f":"#REF!","v":{"$error":"#REF!"}},{"$f":"IF((E$288+'Depn & WACC Post 2004 N & E'!E$288)=0,0,E267/(E$288+'Depn & WACC Post 2004 N & E'!E$288)*G$288)","v":{"$error":"#REF!"}},{"$f":"IF(F267=0,0,G267/F267)","v":{"$error":"#REF!"}},{"$f":"IF(F267=0,0,E267/(E$288+'Depn & WACC Post 2004 N & E'!E$288)*I$288/F267)","v":{"$error":"#REF!"}}]
[{"$f":"#REF!","v":{"$error":"#REF!"}},{"$f":"#REF!","v":{"$error":"#REF!"}},{"$f":"#REF!","v":{"$error":"#REF!"}},{"$f":"B268*IF(A268=C264,D264,IF(A268=C265,D265,D266))","v":{"$error":"#REF!"}},{"$error":"#REF!"},{"$f":"#REF!","v":{"$error":"#REF!"}},{"$f":"IF((E$288+'Depn & WACC Post 2004 N & E'!E$288)=0,0,E268/(E$288+'Depn & WACC Post 2004 N & E'!E$288)*G$288)","v":{"$error":"#REF!"}},{"$f":"IF(F268=0,0,G268/F268)","v":{"$error":"#REF!"}},{"$f":"IF(F268=0,0,E268/(E$288+'Depn & WACC Post 2004 N & E'!E$288)*I$288/F268)","v":{"$error":"#REF!"}}]
[{"$f":"#REF!","v":{"$error":"#REF!"}},{"$f":"#REF!","v":{"$error":"#REF!"}},{"$f":"#REF!","v":{"$error":"#REF!"}},{"$f":"B269*IF(A269=C264,D264,IF(A269=C265,D265,D266))","v":{"$error":"#REF!"}},{"$error":"#REF!"},{"$f":"#REF!","v":{"$error":"#REF!"}},{"$f":"IF((E$288+'Depn & WACC Post 2004 N & E'!E$288)=0,0,E269/(E$288+'Depn & WACC Post 2004 N & E'!E$288)*G$288)","v":{"$error":"#REF!"}},{"$error":"#REF!"},{"$f":"IF(F269=0,0,E269/(E$288+'Depn & WACC Post 2004 N & E'!E$288)*I$288/F269)","v":{"$error":"#REF!"}}]
[{"$f":"#REF!","v":{"$error":"#REF!"}},{"$f":"#REF!","v":{"$error":"#REF!"}},{"$f":"#REF!","v":{"$error":"#REF!"}},{"$f":"B270*IF(A270=C264,D264,IF(A270=C265,D265,D266))","v":{"$error":"#REF!"}},{"$error":"#REF!"},{"$f":"#REF!","v":{"$error":"#REF!"}},{"$f":"IF((E$288+'Depn & WACC Post 2004 N & E'!E$288)=0,0,E270/(E$288+'Depn & WACC Post 2004 N & E'!E$288)*G$288)","v":{"$error":"#REF!"}},{"$error":"#REF!"},{"$f":"IF(F270=0,0,E270/(E$288+'Depn & WACC Post 2004 N & E'!E$288)*I$288/F270)","v":{"$error":"#REF!"}}]
[{"$f":"#REF!","v":{"$error":"#REF!"}},{"$f":"#REF!","v":{"$error":"#REF!"}},{"$f":"#REF!","v":{"$error":"#REF!"}},{"$f":"B271*IF(A271=C264,D264,IF(A271=C265,D265,D266))","v":{"$error":"#REF!"}},{"$error":"#REF!"},{"$f":"#REF!","v":{"$error":"#REF!"}},{"$f":"IF((E$288+'Depn & WACC Post 2004 N & E'!E$288)=0,0,E271/(E$288+'Depn & WACC Post 2004 N & E'!E$288)*G$288)","v":{"$error":"#REF!"}},{"$error":"#REF!"},{"$f":"IF(F271=0,0,E271/(E$288+'Depn & WACC Post 2004 N & E'!E$288)*I$288/F271)","v":{"$error":"#REF!"}}]
[{"$f":"#REF!","v":{"$error":"#REF!"}},{"$f":"#REF!","v":{"$error":"#REF!"}},{"$f":"#REF!","v":{"$error":"#REF!"}},{"$f":"B272*IF(A272=C264,D264,IF(A272=C265,D265,D266))","v":{"$error":"#REF!"}},{"$error":"#REF!"},{"$f":"#REF!","v":{"$error":"#REF!"}},{"$f":"IF((E$288+'Depn & WACC Post 2004 N & E'!E$288)=0,0,E272/(E$288+'Depn & WACC Post 2004 N & E'!E$288)*G$288)","v":{"$error":"#REF!"}},{"$error":"#REF!"},{"$f":"IF(F272=0,0,E272/(E$288+'Depn & WACC Post 2004 N & E'!E$288)*I$288/F272)","v":{"$error":"#REF!"}}]
[{"$f":"#REF!","v":{"$error":"#REF!"}},{"$f":"#REF!","v":{"$error":"#REF!"}},{"$f":"#REF!","v":{"$error":"#REF!"}},{"$f":"B273*IF(A273=C264,D264,IF(A273=C265,D265,D266))","v":{"$error":"#REF!"}},{"$error":"#REF!"},{"$f":"#REF!","v":{"$error":"#REF!"}},{"$f":"IF((E$288+'Depn & WACC Post 2004 N & E'!E$288)=0,0,E273/(E$288+'Depn & WACC Post 2004 N & E'!E$288)*G$288)","v":{"$error":"#REF!"}},{"$error":"#REF!"},{"$f":"IF(F273=0,0,E273/(E$288+'Depn & WACC Post 2004 N & E'!E$288)*I$288/F273)","v":{"$error":"#REF!"}}]
[{"$f":"#REF!","v":{"$error":"#REF!"}},{"$f":"#REF!","v":{"$error":"#REF!"}},{"$f":"#REF!","v":{"$error":"#REF!"}},{"$f":"B274*IF(A274=C264,D264,IF(A274=C265,D265,D266))","v":{"$error":"#REF!"}},{"$error":"#REF!"},{"$f":"#REF!","v":{"$error":"#REF!"}},{"$f":"IF((E$288+'Depn & WACC Post 2004 N & E'!E$288)=0,0,E274/(E$288+'Depn & WACC Post 2004 N & E'!E$288)*G$288)","v":{"$error":"#REF!"}},{"$error":"#REF!"},{"$f":"IF(F274=0,0,E274/(E$288+'Depn & WACC Post 2004 N & E'!E$288)*I$288/F274)","v":{"$error":"#REF!"}}]
[{"$f":"#REF!","v":{"$error":"#REF!"}},{"$f":"#REF!","v":{"$error":"#REF!"}},{"$f":"#REF!","v":{"$error":"#REF!"}},{"$f":"B275*IF(A275=C264,D264,IF(A275=C265,D265,D266))","v":{"$error":"#REF!"}},{"$error":"#REF!"},{"$f":"#REF!","v":{"$error":"#REF!"}},{"$f":"IF((E$288+'Depn & WACC Post 2004 N & E'!E$288)=0,0,E275/(E$288+'Depn & WACC Post 2004 N & E'!E$288)*G$288)","v":{"$error":"#REF!"}},{"$error":"#REF!"},{"$f":"IF(F275=0,0,E275/(E$288+'Depn & WACC Post 2004 N & E'!E$288)*I$288/F275)","v":{"$error":"#REF!"}}]
[{"$f":"#REF!","v":{"$error":"#REF!"}},{"$f":"#REF!","v":{"$error":"#REF!"}},{"$f":"#REF!","v":{"$error":"#REF!"}},{"$f":"B276*IF(A276=C264,D264,IF(A276=C265,D265,D266))","v":{"$error":"#REF!"}},{"$error":"#REF!"},{"$f":"#REF!","v":{"$error":"#REF!"}},{"$f":"IF((E$288+'Depn & WACC Post 2004 N & E'!E$288)=0,0,E276/(E$288+'Depn & WACC Post 2004 N & E'!E$288)*G$288)","v":{"$error":"#REF!"}},{"$error":"#REF!"},{"$f":"IF(F276=0,0,E276/(E$288+'Depn & WACC Post 2004 N & E'!E$288)*I$288/F276)","v":{"$error":"#REF!"}}]
[]
[]
[]
[]
[]
[]
[]
[]
[]
[]
[]
[null,null,null,null,{"$f":"SUM(E264:E287)","v":{"$error":"#REF!"}},{"$f":"SUM(F264:F287)","v":{"$error":"#REF!"}},{"$f":"'Total RAB'!X$149","v":{"$error":"#REF!"}},{"$f":"SUMPRODUCT(F264:F287,H264:H287)","v":{"$error":"#REF!"}},{"$f":"'Total RAB'!X$143","v":{"$error":"#REF!"}}]
[null,null,null,"Check",{"$f":"SUM(F289:I289)","v":{"$error":"#REF!"}},{"$f":"ABS(#REF!-F288)","v":{"$error":"#REF!"}},{"$f":"ABS(G288-SUM(G264:G287)-SUM('Depn & WACC Post 2004 N & E'!G264:G287))*IF(F288=0,0,1)","v":{"$error":"#REF!"}},{"$f":"ABS(H288+'Depn & WACC Post 2004 N & E'!H288-G288)*IF(F288=0,0,1)","v":{"$error":"#REF!"}},{"$f":"ABS(I288-SUMPRODUCT(F264:F287,I264:I287)-SUMPRODUCT('Depn & WACC Post 2004 N & E'!F264:F287,'Depn & WACC Post 2004 N & E'!I264:I287))*IF(F288=0,0,1)","v":{"$error":"#REF!"}}]
[]
[]
[{"$f":"#REF!","v":{"$error":"#REF!"}},{"$f":"#REF!","v":{"$error":"#REF!"}},{"$f":"#REF!","v":{"$error":"#REF!"}},{"$f":"D$68","v":"Unit cost"},null,{"$f":"F$68","v":"Volumes"},{"$f":"G$68","v":"Unitisation - Luminaires & Ballasts"}]
[{"$f":"#REF!","v":{"$error":"#REF!"}},{"$f":"#REF!","v":{"$error":"#REF!"}},{"$f":"#REF!","v":{"$error":"#REF!"}},{"$f":"'DNSP Inputs O&M'!$H$189","v":260.27999999999997},{"$f":"F293*D293","v":{"$error":"#REF!"}},{"$f":"#REF!","v":{"$error":"#REF!"}},{"$f":"IF((E$306+'Depn & WACC Post 2004 N & E'!E$306)=0,0,E293/(E$306+'Depn & WACC Post 2004 N & E'!E$306)*G$306)","v":{"$error":"#REF!"}},{"$f":"IF(F293=0,0,G293/F293)","v":{"$error":"#REF!"}}]
[{"$f":"#REF!","v":{"$error":"#REF!"}},{"$f":"#REF!","v":{"$error":"#REF!"}},{"$f":"#REF!","v":{"$error":"#REF!"}},{"$f":"'DNSP Inputs O&M'!$H$238","v":267.33},{"$f":"F294*D294","v":{"$error":"#REF!"}},{"$f":"#REF!","v":{"$error":"#REF!"}},{"$f":"IF((E$306+'Depn & WACC Post 2004 N & E'!E$306)=0,0,E294/(E$306+'Depn & WACC Post 2004 N & E'!E$306)*G$306)","v":{"$error":"#REF!"}},{"$f":"IF(F294=0,0,G294/F294)","v":{"$error":"#REF!"}}]
[{"$f":"#REF!","v":{"$error":"#REF!"}},{"$f":"#REF!","v":{"$error":"#REF!"}},{"$f":"#REF!","v":{"$error":"#REF!"}},{"$f":"'DNSP Inputs O&M'!$H$286","v":602.8983467999999},{"$f":"F295*D295","v":{"$error":"#REF!"}},{"$f":"#REF!","v":{"$error":"#REF!"}},{"$f":"IF((E$306+'Depn & WACC Post 2004 N & E'!E$306)=0,0,E295/(E$306+'Depn & WACC Post 2004 N & E'!E$306)*G$306)","v":{"$error":"#REF!"}},{"$f":"IF(F295=0,0,G295/F295)","v":{"$error":"#REF!"}}]
[{"$f":"#REF!","v":{"$error":"#REF!"}},{"$f":"#REF!","v":{"$error":"#REF!"}},{"$f":"#REF!","v":{"$error":"#REF!"}},{"$f":"'DNSP Inputs O&M'!$H$332","v":205},{"$error":"#REF!"},{"$f":"#REF!","v":{"$error":"#REF!"}},{"$f":"IF((E$306+'Depn & WACC Post 2004 N & E'!E$306)=0,0,E296/(E$306+'Depn & WACC Post 2004 N & E'!E$306)*G$306)","v":{"$error":"#REF!"}},{"$f":"IF(F296=0,0,G296/F296)","v":{"$error":"#REF!"}}]
[{"$f":"#REF!","v":{"$error":"#REF!"}},{"$f":"#REF!","v":{"$error":"#REF!"}},{"$f":"#REF!","v":{"$error":"#REF!"}},{"$f":"'DNSP Inputs O&M'!$H$378","v":1221.3620396249999},{"$error":"#REF!"},{"$f":"#REF!","v":{"$error":"#REF!"}},{"$f":"IF((E$306+'Depn & WACC Post 2004 N & E'!E$306)=0,0,E297/(E$306+'Depn & WACC Post 2004 N & E'!E$306)*G$306)","v":{"$error":"#REF!"}},{"$f":"IF(F297=0,0,G297/F297)","v":{"$error":"#REF!"}}]
[{"$f":"#REF!","v":{"$error":"#REF!"}},{"$f":"#REF!","v":{"$error":"#REF!"}},{"$f":"#REF!","v":{"$error":"#REF!"}},{"$f":"'DNSP Inputs O&M'!$H$424","v":1270.4308997249998},{"$error":"#REF!"},{"$f":"#REF!","v":{"$error":"#REF!"}},{"$f":"IF((E$306+'Depn & WACC Post 2004 N & E'!E$306)=0,0,E298/(E$306+'Depn & WACC Post 2004 N & E'!E$306)*G$306)","v":{"$error":"#REF!"}},{"$f":"IF(F298=0,0,G298/F298)","v":{"$error":"#REF!"}}]
[{"$f":"#REF!","v":{"$error":"#REF!"}},{"$f":"#REF!","v":{"$error":"#REF!"}},{"$f":"#REF!","v":{"$error":"#REF!"}},{"$f":"'DNSP Inputs O&M'!$H$470","v":1775.2617643000001},{"$error":"#REF!"},{"$f":"#REF!","v":{"$error":"#REF!"}},{"$f":"IF((E$306+'Depn & WACC Post 2004 N & E'!E$306)=0,0,E299/(E$306+'Depn & WACC Post 2004 N & E'!E$306)*G$306)","v":{"$error":"#REF!"}},{"$f":"IF(F299=0,0,G299/F299)","v":{"$error":"#REF!"}}]
[{"$f":"#REF!","v":{"$error":"#REF!"}},{"$f":"#REF!","v":{"$error":"#REF!"}},{"$f":"#REF!","v":{"$error":"#REF!"}},{"$f":"D293*B300","v":{"$error":"#REF!"}},{"$error":"#REF!"},{"$f":"#REF!","v":{"$error":"#REF!"}},{"$f":"IF((E$306+'Depn & WACC Post 2004 N & E'!E$306)=0,0,E300/(E$306+'Depn & WACC Post 2004 N & E'!E$306)*G$306)","v":{"$error":"#REF!"}},{"$error":"#REF!"}]
[{"$f":"#REF!","v":{"$error":"#REF!"}},{"$f":"#REF!","v":{"$error":"#REF!"}},{"$f":"#REF!","v":{"$error":"#REF!"}},{"$f":"D293*B301","v":{"$error":"#REF!"}},{"$error":"#REF!"},{"$f":"#REF!","v":{"$error":"#REF!"}},{"$f":"IF((E$306+'Depn & WACC Post 2004 N & E'!E$306)=0,0,E301/(E$306+'Depn & WACC Post 2004 N & E'!E$306)*G$306)","v":{"$error":"#REF!"}},{"$error":"#REF!"}]
[{"$f":"#REF!","v":{"$error":"#REF!"}},{"$f":"#REF!","v":{"$error":"#REF!"}},{"$f":"#REF!","v":{"$error":"#REF!"}},{"$f":"'DNSP Inputs O&M'!$H$517","v":402},{"$error":"#REF!"},{"$f":"#REF!","v":{"$error":"#REF!"}},{"$f":"IF((E$306+'Depn & WACC Post 2004 N & E'!E$306)=0,0,E302/(E$306+'Depn & WACC Post 2004 N & E'!E$306)*G$306)","v":{"$error":"#REF!"}},{"$f":"IF(F302=0,0,G302/F302)","v":{"$error":"#REF!"}}]
[{"$f":"#REF!","v":{"$error":"#REF!"}},{"$f":"#REF!","v":{"$error":"#REF!"}},{"$f":"#REF!","v":{"$error":"#REF!"}},{"$f":"'DNSP Inputs O&M'!$H$561","v":427},{"$error":"#REF!"},{"$f":"#REF!","v":{"$error":"#REF!"}},{"$f":"IF((E$306+'Depn & WACC Post 2004 N & E'!E$306)=0,0,E303/(E$306+'Depn & WACC Post 2004 N & E'!E$306)*G$306)","v":{"$error":"#REF!"}},{"$f":"IF(F303=0,0,G303/F303)","v":{"$error":"#REF!"}}]
[{"$f":"#REF!","v":{"$error":"#REF!"}},{"$f":"#REF!","v":{"$error":"#REF!"}},{"$f":"#REF!","v":{"$error":"#REF!"}},{"$f":"'DNSP Inputs O&M'!$H$605","v":650.88},{"$error":"#REF!"},{"$f":"#REF!","v":{"$error":"#REF!"}},{"$f":"IF((E$306+'Depn & WACC Post 2004 N & E'!E$306)=0,0,E304/(E$306+'Depn & WACC Post 2004 N & E'!E$306)*G$306)","v":{"$error":"#REF!"}},{"$f":"IF(F304=0,0,G304/F304)","v":{"$error":"#REF!"}}]
[]
[null,null,null,null,{"$f":"SUM(E293:E305)","v":{"$error":"#REF!"}},{"$f":"SUM(F293:F305)","v":{"$error":"#REF!"}},{"$f":"'Total RAB'!X$164","v":{"$error":"#REF!"}},{"$f":"SUMPRODUCT(F293:F305,H293:H305)","v":{"$error":"#REF!"}}]
[null,null,null,"Check",{"$f":"SUM(F307:I307)","v":{"$error":"#REF!"}},{"$f":"ABS(#REF!-F306)","v":{"$error":"#REF!"}},{"$f":"ABS(G306-SUM(G293:G305)-SUM('Depn & WACC Post 2004 N & E'!G293:G305))","v":{"$error":"#REF!"}},{"$f":"ABS(H306+'Depn & WACC Post 2004 N & E'!H306-G306)","v":{"$error":"#REF!"}}]
[]
[]
[null,null,{"$f":"'RAB 2001 to 2004 Central'!A$27","v":"Poles & Brackets"},{"$f":"D$86","v":"Weighted Average Volumes"},null,null,{"$f":"G$86","v":"Unitisation Poles & Brackets"}]
[null,null,"Total Poles & Brackets",{"$f":"#REF!*F264","v":{"$error":"#REF!"}},{"$f":"SUMPRODUCT(#REF!,#REF!)+SUMPRODUCT(#REF!,#REF!)","v":{"$error":"#REF!"}},{"$f":"IF(E311=0,0,D311/E311*G311)","v":{"$error":"#REF!"}},{"$f":"'Total RAB'!X$134*(#REF!/(#REF!+#REF!))","v":{"$error":"#REF!"}},{"$f":"F311/F264","v":{"$error":"#REF!"}}]

{"sheet":"Depn & WACC Post 2004 N & E","index":17,"n_rows":311,"n_cols":9,"rows_kept":311,"cut":false,"hidden":true,"merged":[[2,3,2,4],[6,3,6,4],[6,6,6,7],[38,3,38,4],[38,6,38,7],[34,3,34,4],[67,3,67,4],[85,3,85,5],[141,6,141,7],[94,6,94,7],[123,3,123,4],[123,6,123,7],[67,6,67,7],[85,6,85,7],[94,3,94,4],[141,3,141,5],[90,3,90,4],[235,6,235,7],[206,3,206,4],[197,6,197,7],[202,3,202,4],[197,3,197,5],[309,3,309,5],[258,3,258,4],[150,6,150,7],[146,3,146,4],[179,3,179,4],[179,6,179,7],[206,6,206,7],[235,3,235,4],[253,3,253,5],[253,6,253,7],[150,3,150,4],[309,6,309,7],[262,3,262,4],[262,6,262,7],[291,3,291,4],[291,6,291,7]]}
[{"$f":"'DNSP Inputs O&M'!$A$3","v":"AusNet"},null,null,null,"Check",{"$f":"SUM(E33,E65,E83,E121,E139,E177,E195,E233,E251,E289,E307)","v":{"$error":"#REF!"}}]
[]
[null,null,null,{"$f":"#REF!","v":{"$error":"#REF!"}}]
["RAB WDV",null,null,"Year",{"$f":"EOMONTH(E36,-12)","v":"2026-06-30"}]
[]
[]
[{"$f":"#REF!","v":{"$error":"#REF!"}},{"$f":"#REF!","v":{"$error":"#REF!"}},{"$f":"#REF!","v":{"$error":"#REF!"}},"RAB for Return",null,"Volumes","Unitisation - Luminaires",null,"RAB WDV"]
[{"$f":"#REF!","v":{"$error":"#REF!"}},{"$f":"#REF!","v":{"$error":"#REF!"}},{"$f":"#REF!","v":{"$error":"#REF!"}},{"$f":"'RAB 2001 to 2004 N & E'!$V$143","v":4.6964084344764121},{"$f":"F8*D8","v":{"$error":"#REF!"}},{"$f":"#REF!","v":{"$error":"#REF!"}},null,null,{"$f":"IF(F8=0,0,E8/(E$32+'Depn & WACC Post 2004 Central'!E$32)*I$32/F8)","v":{"$error":"#REF!"}}]
[{"$f":"#REF!","v":{"$error":"#REF!"}},{"$f":"#REF!","v":{"$error":"#REF!"}},{"$f":"#REF!","v":{"$error":"#REF!"}},{"$f":"'RAB 2001 to 2004 N & E'!$V$157","v":5.531124819744929},{"$error":"#REF!"},{"$f":"#REF!","v":{"$error":"#REF!"}},null,null,{"$f":"IF(F9=0,0,E9/(E$32+'Depn & WACC Post 2004 Central'!E$32)*I$32/F9)","v":{"$error":"#REF!"}}]
[{"$f":"#REF!","v":{"$error":"#REF!"}},{"$f":"#REF!","v":{"$error":"#REF!"}},{"$f":"#REF!","v":{"$error":"#REF!"}},{"$f":"'RAB 2001 to 2004 N & E'!$V$171","v":5.5718693850562708},{"$error":"#REF!"},{"$f":"#REF!","v":{"$error":"#REF!"}},null,null,{"$f":"IF(F10=0,0,E10/(E$32+'Depn & WACC Post 2004 Central'!E$32)*I$32/F10)","v":{"$error":"#REF!"}}]
[{"$f":"#REF!","v":{"$error":"#REF!"}},{"$f":"#REF!","v":{"$error":"#REF!"}},{"$f":"#REF!","v":{"$error":"#REF!"}},{"$f":"B11*IF(A11=C8,D8,IF(A11=C9,D9,D10))","v":{"$error":"#REF!"}},{"$error":"#REF!"},{"$f":"#REF!","v":{"$error":"#REF!"}},null,null,{"$f":"IF(F11=0,0,E11/(E$32+'Depn & WACC Post 2004 Central'!E$32)*I$32/F11)","v":{"$error":"#REF!"}}]
[{"$f":"#REF!","v":{"$error":"#REF!"}},{"$f":"#REF!","v":{"$error":"#REF!"}},{"$f":"#REF!","v":{"$error":"#REF!"}},{"$f":"B12*IF(A12=C8,D8,IF(A12=C9,D9,D10))","v":{"$error":"#REF!"}},{"$error":"#REF!"},{"$f":"#REF!","v":{"$error":"#REF!"}},null,null,{"$f":"IF(F12=0,0,E12/(E$32+'Depn & WACC Post 2004 Central'!E$32)*I$32/F12)","v":{"$error":"#REF!"}}]
[{"$f":"#REF!","v":{"$error":"#REF!"}},{"$f":"#REF!","v":{"$error":"#REF!"}},{"$f":"#REF!","v":{"$error":"#REF!"}},{"$f":"B13*IF(A13=C8,D8,IF(A13=C9,D9,D10))","v":{"$error":"#REF!"}},{"$error":"#REF!"},{"$f":"#REF!","v":{"$error":"#REF!"}},null,null,{"$f":"IF(F13=0,0,E13/(E$32+'Depn & WACC Post 2004 Central'!E$32)*I$32/F13)","v":{"$error":"#REF!"}}]
[{"$f":"#REF!","v":{"$error":"#REF!"}},{"$f":"#REF!","v":{"$error":"#REF!"}},{"$f":"#REF!","v":{"$error":"#REF!"}},{"$f":"B14*IF(A14=C8,D8,IF(A14=C9,D9,D10))","v":{"$error":"#REF!"}},{"$error":"#REF!"},{"$f":"#REF!","v":{"$error":"#REF!"}},null,null,{"$f":"IF(F14=0,0,E14/(E$32+'Depn & WACC Post 2004 Central'!E$32)*I$32/F14)","v":{"$error":"#REF!"}}]
[{"$f":"#REF!","v":{"$error":"#REF!"}},{"$f":"#REF!","v":{"$error":"#REF!"}},{"$f":"#REF!","v":{"$error":"#REF!"}},{"$f":"B15*IF(A15=C8,D8,IF(A15=C9,D9,D10))","v":{"$error":"#REF!"}},{"$error":"#REF!"},{"$f":"#REF!","v":{"$error":"#REF!"}},null,null,{"$f":"IF(F15=0,0,E15/(E$32+'Depn & WACC Post 2004 Central'!E$32)*I$32/F15)","v":{"$error":"#REF!"}}]
[{"$f":"#REF!","v":{"$error":"#REF!"}},{"$f":"#REF!","v":{"$error":"#REF!"}},{"$f":"#REF!","v":{"$error":"#REF!"}},{"$f":"B16*IF(A16=C$8,D$8,IF(A16=C$9,D$9,D$10))","v":{"$error":"#REF!"}},{"$error":"#REF!"},{"$f":"#REF!","v":{"$error":"#REF!"}},null,null,{"$f":"IF(F16=0,0,E16/(E$32+'Depn & WACC Post 2004 Central'!E$32)*I$32/F16)","v":{"$error":"#REF!"}}]
[{"$f":"#REF!","v":{"$error":"#REF!"}},{"$f":"#REF!","v":{"$error":"#REF!"}},{"$f":"#REF!","v":{"$error":"#REF!"}},{"$f":"B17*IF(A17=C8,D8,IF(A17=C9,D9,D10))","v":{"$error":"#REF!"}},{"$error":"#REF!"},{"$f":"#REF!","v":{"$error":"#REF!"}},null,null,{"$f":"IF(F17=0,0,E17/(E$32+'Depn & WACC Post 2004 Central'!E$32)*I$32/F17)","v":{"$error":"#REF!"}}]
[{"$f":"#REF!","v":{"$error":"#REF!"}},{"$f":"#REF!","v":{"$error":"#REF!"}},{"$f":"#REF!","v":{"$error":"#REF!"}},{"$f":"B18*IF(A18=C8,D8,IF(A18=C9,D9,D10))","v":{"$error":"#REF!"}},{"$error":"#REF!"},{"$f":"#REF!","v":{"$error":"#REF!"}},null,null,{"$f":"IF(F18=0,0,E18/(E$32+'Depn & WACC Post 2004 Central'!E$32)*I$32/F18)","v":{"$error":"#REF!"}}]
[{"$f":"#REF!","v":{"$error":"#REF!"}},{"$f":"#REF!","v":{"$error":"#REF!"}},{"$f":"#REF!","v":{"$error":"#REF!"}},{"$f":"B19*IF(A19=C8,D8,IF(A19=C9,D9,D10))","v":{"$error":"#REF!"}},{"$error":"#REF!"},{"$f":"#REF!","v":{"$error":"#REF!"}},null,null,{"$f":"IF(F19=0,0,E19/(E$32+'Depn & WACC Post 2004 Central'!E$32)*I$32/F19)","v":{"$error":"#REF!"}}]
[{"$f":"#REF!","v":{"$error":"#REF!"}},{"$f":"#REF!","v":{"$error":"#REF!"}},{"$f":"#REF!","v":{"$error":"#REF!"}},{"$f":"B20*IF(A20=C8,D8,IF(A20=C9,D9,D10))","v":{"$error":"#REF!"}},{"$error":"#REF!"},{"$f":"#REF!","v":{"$error":"#REF!"}},null,null,{"$f":"IF(F20=0,0,E20/(E$32+'Depn & WACC Post 2004 Central'!E$32)*I$32/F20)","v":{"$error":"#REF!"}}]
[]
[]
[]
[]
[]
[]
[]
[]
[]
[]
[]
[null,null,null,null,{"$f":"SUM(E8:E31)","v":{"$error":"#REF!"}},{"$f":"SUM(F8:F31)","v":{"$error":"#REF!"}},null,null,{"$f":"'Total RAB'!S$143","v":{"$error":"#REF!"}}]
[null,null,null,"Check",{"$f":"SUM(F33:I33)","v":{"$error":"#REF!"}},{"$f":"ABS(#REF!-F32)","v":{"$error":"#REF!"}},null,null,{"$f":"ABS(I32-SUMPRODUCT(F8:F31,I8:I31)-SUMPRODUCT('Depn & WACC Post 2004 Central'!F8:F31,'Depn & WACC Post 2004 Central'!I8:I31))*IF(F32=0,0,1)","v":{"$error":"#REF!"}}]
[]
[null,null,null,{"$f":"#REF!","v":{"$error":"#REF!"}}]
["DEPRECIATION AND RETURN",null,null,"Year",{"$f":"Instructions!B16","v":"2027-06-30"}]
[]
[]
[{"$f":"#REF!","v":{"$error":"#REF!"}},{"$f":"#REF!","v":{"$error":"#REF!"}},{"$f":"#REF!","v":{"$error":"#REF!"}},"WACC and Dep",null,"Volumes","Unitisation - Luminaires",null,"RAB WDV"]
[{"$f":"#REF!","v":{"$error":"#REF!"}},{"$f":"#REF!","v":{"$error":"#REF!"}},{"$f":"#REF!","v":{"$error":"#REF!"}},{"$f":"'RAB 2001 to 2004 N & E'!C$15","v":{"$error":"#REF!"}},{"$f":"F40*D40","v":{"$error":"#REF!"}},{"$f":"IF(#REF!=0,1/10^6,#REF!)","v":{"$error":"#REF!"}},{"$f":"IF((E$64+'Depn & WACC Post 2004 Central'!E$64)=0,0,E40/(E$64+'Depn & WACC Post 2004 Central'!E$64)*G$64)","v":{"$error":"#REF!"}},{"$f":"IF(F40=0,0,G40/F40)","v":{"$error":"#REF!"}},{"$f":"IF(F40=0,0,E40/(E$64+'Depn & WACC Post 2004 Central'!E$64)*I$64/F40)","v":{"$error":"#REF!"}}]
[{"$f":"#REF!","v":{"$error":"#REF!"}},{"$f":"#REF!","v":{"$error":"#REF!"}},{"$f":"#REF!","v":{"$error":"#REF!"}},{"$f":"'RAB 2001 to 2004 N & E'!C$20","v":{"$error":"#REF!"}},{"$error":"#REF!"},{"$f":"IF(#REF!=0,1/10^6,#REF!)","v":{"$error":"#REF!"}},{"$f":"IF((E$64+'Depn & WACC Post 2004 Central'!E$64)=0,0,E41/(E$64+'Depn & WACC Post 2004 Central'!E$64)*G$64)","v":{"$error":"#REF!"}},{"$f":"IF(F41=0,0,G41/F41)","v":{"$error":"#REF!"}},{"$f":"IF(F41=0,0,E41/(E$64+'Depn & WACC Post 2004 Central'!E$64)*I$64/F41)","v":{"$error":"#REF!"}}]
[{"$f":"#REF!","v":{"$error":"#REF!"}},{"$f":"#REF!","v":{"$error":"#REF!"}},{"$f":"#REF!","v":{"$error":"#REF!"}},{"$f":"'RAB 2001 to 2004 N & E'!C$25","v":{"$error":"#REF!"}},{"$error":"#REF!"},{"$f":"IF(#REF!=0,1/10^6,#REF!)","v":{"$error":"#REF!"}},{"$f":"IF((E$64+'Depn & WACC Post 2004 Central'!E$64)=0,0,E42/(E$64+'Depn & WACC Post 2004 Central'!E$64)*G$64)","v":{"$error":"#REF!"}},{"$f":"IF(F42=0,0,G42/F42)","v":{"$error":"#REF!"}},{"$f":"IF(F42=0,0,E42/(E$64+'Depn & WACC Post 2004 Central'!E$64)*I$64/F42)","v":{"$error":"#REF!"}}]
[{"$f":"#REF!","v":{"$error":"#REF!"}},{"$f":"#REF!","v":{"$error":"#REF!"}},{"$f":"#REF!","v":{"$error":"#REF!"}},{"$f":"B43*IF(A43=C40,D40,IF(A43=C41,D41,D42))","v":{"$error":"#REF!"}},{"$error":"#REF!"},{"$f":"#REF!","v":{"$error":"#REF!"}},{"$f":"IF((E$64+'Depn & WACC Post 2004 Central'!E$64)=0,0,E43/(E$64+'Depn & WACC Post 2004 Central'!E$64)*G$64)","v":{"$error":"#REF!"}},{"$f":"IF(F43=0,0,G43/F43)","v":{"$error":"#REF!"}},{"$f":"IF(F43=0,0,E43/(E$64+'Depn & WACC Post 2004 Central'!E$64)*I$64/F43)","v":{"$error":"#REF!"}}]
[{"$f":"#REF!","v":{"$error":"#REF!"}},{"$f":"#REF!","v":{"$error":"#REF!"}},{"$f":"#REF!","v":{"$error":"#REF!"}},{"$f":"B44*IF(A44=C40,D40,IF(A44=C41,D41,D42))","v":{"$error":"#REF!"}},{"$error":"#REF!"},{"$f":"#REF!","v":{"$error":"#REF!"}},{"$f":"IF((E$64+'Depn & WACC Post 2004 Central'!E$64)=0,0,E44/(E$64+'Depn & WACC Post 2004 Central'!E$64)*G$64)","v":{"$error":"#REF!"}},{"$f":"IF(F44=0,0,G44/F44)","v":{"$error":"#REF!"}},{"$f":"IF(F44=0,0,E44/(E$64+'Depn & WACC Post 2004 Central'!E$64)*I$64/F44)","v":{"$error":"#REF!"}}]
[{"$f":"#REF!","v":{"$error":"#REF!"}},{"$f":"#REF!","v":{"$error":"#REF!"}},{"$f":"#REF!","v":{"$error":"#REF!"}},{"$f":"B45*IF(A45=C40,D40,IF(A45=C41,D41,D42))","v":{"$error":"#REF!"}},{"$error":"#REF!"},{"$f":"#REF!","v":{"$error":"#REF!"}},{"$f":"IF((E$64+'Depn & WACC Post 2004 Central'!E$64)=0,0,E45/(E$64+'Depn & WACC Post 2004 Central'!E$64)*G$64)","v":{"$error":"#REF!"}},{"$error":"#REF!"},{"$f":"IF(F45=0,0,E45/(E$64+'Depn & WACC Post 2004 Central'!E$64)*I$64/F45)","v":{"$error":"#REF!"}}]
[{"$f":"#REF!","v":{"$error":"#REF!"}},{"$f":"#REF!","v":{"$error":"#REF!"}},{"$f":"#REF!","v":{"$error":"#REF!"}},{"$f":"B46*IF(A46=C40,D40,IF(A46=C41,D41,D42))","v":{"$error":"#REF!"}},{"$error":"#REF!"},{"$f":"#REF!","v":{"$error":"#REF!"}},{"$f":"IF((E$64+'Depn & WACC Post 2004 Central'!E$64)=0,0,E46/(E$64+'Depn & WACC Post 2004 Central'!E$64)*G$64)","v":{"$error":"#REF!"}},{"$error":"#REF!"},{"$f":"IF(F46=0,0,E46/(E$64+'Depn & WACC Post 2004 Central'!E$64)*I$64/F46)","v":{"$error":"#REF!"}}]
[{"$f":"#REF!","v":{"$error":"#REF!"}},{"$f":"#REF!","v":{"$error":"#REF!"}},{"$f":"#REF!","v":{"$error":"#REF!"}},{"$f":"B47*IF(A47=C40,D40,IF(A47=C41,D41,D42))","v":{"$error":"#REF!"}},{"$error":"#REF!"},{"$f":"#REF!","v":{"$error":"#REF!"}},{"$f":"IF((E$64+'Depn & WACC Post 2004 Central'!E$64)=0,0,E47/(E$64+'Depn & WACC Post 2004 Central'!E$64)*G$64)","v":{"$error":"#REF!"}},{"$error":"#REF!"},{"$f":"IF(F47=0,0,E47/(E$64+'Depn & WACC Post 2004 Central'!E$64)*I$64/F47)","v":{"$error":"#REF!"}}]
[{"$f":"#REF!","v":{"$error":"#REF!"}},{"$f":"#REF!","v":{"$error":"#REF!"}},{"$f":"#REF!","v":{"$error":"#REF!"}},{"$f":"B48*IF(A48=C40,D40,IF(A48=C41,D41,D42))","v":{"$error":"#REF!"}},{"$error":"#REF!"},{"$f":"#REF!","v":{"$error":"#REF!"}},{"$f":"IF((E$64+'Depn & WACC Post 2004 Central'!E$64)=0,0,E48/(E$64+'Depn & WACC Post 2004 Central'!E$64)*G$64)","v":{"$error":"#REF!"}},{"$error":"#REF!"},{"$f":"IF(F48=0,0,E48/(E$64+'Depn & WACC Post 2004 Central'!E$64)*I$64/F48)","v":{"$error":"#REF!"}}]
[{"$f":"#REF!","v":{"$error":"#REF!"}},{"$f":"#REF!","v":{"$error":"#REF!"}},{"$f":"#REF!","v":{"$error":"#REF!"}},{"$f":"B49*IF(A49=C40,D40,IF(A49=C41,D41,D42))","v":{"$error":"#REF!"}},{"$error":"#REF!"},{"$f":"#REF!","v":{"$error":"#REF!"}},{"$f":"IF((E$64+'Depn & WACC Post 2004 Central'!E$64)=0,0,E49/(E$64+'Depn & WACC Post 2004 Central'!E$64)*G$64)","v":{"$error":"#REF!"}},{"$error":"#REF!"},{"$f":"IF(F49=0,0,E49/(E$64+'Depn & WACC Post 2004 Central'!E$64)*I$64/F49)","v":{"$error":"#REF!"}}]
[{"$f":"#REF!","v":{"$error":"#REF!"}},{"$f":"#REF!","v":{"$error":"#REF!"}},{"$f":"#REF!","v":{"$error":"#REF!"}},{"$f":"B50*IF(A50=C40,D40,IF(A50=C41,D41,D42))","v":{"$error":"#REF!"}},{"$error":"#REF!"},{"$f":"#REF!","v":{"$error":"#REF!"}},{"$f":"IF((E$64+'Depn & WACC Post 2004 Central'!E$64)=0,0,E50/(E$64+'Depn & WACC Post 2004 Central'!E$64)*G$64)","v":{"$error":"#REF!"}},{"$error":"#REF!"},{"$f":"IF(F50=0,0,E50/(E$64+'Depn & WACC Post 2004 Central'!E$64)*I$64/F50)","v":{"$error":"#REF!"}}]
[{"$f":"#REF!","v":{"$error":"#REF!"}},{"$f":"#REF!","v":{"$error":"#REF!"}},{"$f":"#REF!","v":{"$error":"#REF!"}},{"$f":"B51*IF(A51=C40,D40,IF(A51=C41,D41,D42))","v":{"$error":"#REF!"}},{"$error":"#REF!"},{"$f":"#REF!","v":{"$error":"#REF!"}},{"$f":"IF((E$64+'Depn & WACC Post 2004 Central'!E$64)=0,0,E51/(E$64+'Depn & WACC Post 2004 Central'!E$64)*G$64)","v":{"$error":"#REF!"}},{"$error":"#REF!"},{"$f":"IF(F51=0,0,E51/(E$64+'Depn & WACC Post 2004 Central'!E$64)*I$64/F51)","v":{"$error":"#REF!"}}]
[{"$f":"#REF!","v":{"$error":"#REF!"}},{"$f":"#REF!","v":{"$error":"#REF!"}},{"$f":"#REF!","v":{"$error":"#REF!"}},{"$f":"B52*IF(A52=C40,D40,IF(A52=C41,D41,D42))","v":{"$error":"#REF!"}},{"$error":"#REF!"},{"$f":"#REF!","v":{"$error":"#REF!"}},{"$f":"IF((E$64+'Depn & WACC Post 2004 Central'!E$64)=0,0,E52/(E$64+'Depn & WACC Post 2004 Central'!E$64)*G$64)","v":{"$error":"#REF!"}},{"$error":"#REF!"},{"$f":"IF(F52=0,0,E52/(E$64+'Depn & WACC Post 2004 Central'!E$64)*I$64/F52)","v":{"$error":"#REF!"}}]
[]
[]
[]
[]
[]
[]
[]
[]
[]
[]
[]
[null,null,null,null,{"$f":"SUM(E40:E63)","v":{"$error":"#REF!"}},{"$f":"SUM(F40:F63)","v":{"$error":"#REF!"}},{"$f":"'Total RAB'!T$149","v":{"$error":"#REF!"}},{"$f":"SUMPRODUCT(F40:F63,H40:H63)","v":{"$error":"#REF!"}},{"$f":"'Total RAB'!T$143","v":{"$error":"#REF!"}}]
[null,null,null,"Check",{"$f":"SUM(F65:I65)","v":{"$error":"#REF!"}},{"$f":"ABS(#REF!-F64)","v":{"$error":"#REF!"}},{"$f":"ABS(G64-SUM(G40:G63)-SUM('Depn & WACC Post 2004 Central'!G40:G63))*IF(F64=0,0,1)","v":{"$error":"#REF!"}},{"$f":"ABS(H64+'Depn & WACC Post 2004 Central'!H64-G64)*IF(F64=0,0,1)","v":{"$error":"#REF!"}},{"$f":"ABS(I64-SUMPRODUCT(F40:F63,I40:I63)-SUMPRODUCT('Depn & WACC Post 2004 Central'!F40:F63,'Depn & WACC Post 2004 Central'!I40:I63))*IF(F64=0,0,1)","v":{"$error":"#REF!"}}]
[]
[]
[{"$f":"#REF!","v":{"$error":"#REF!"}},{"$f":"#REF!","v":{"$error":"#REF!"}},{"$f":"#REF!","v":{"$error":"#REF!"}},"Unit cost",null,"Volumes","Unitisation - Luminaires & Ballasts"]
[{"$f":"#REF!","v":{"$error":"#REF!"}},{"$f":"#REF!","v":{"$error":"#REF!"}},{"$f":"#REF!","v":{"$error":"#REF!"}},{"$f":"'DNSP Inputs O&M'!$D$189","v":260.27999999999997},{"$f":"F69*D69","v":{"$error":"#REF!"}},{"$f":"#REF!","v":{"$error":"#REF!"}},{"$f":"IF((E$82+'Depn & WACC Post 2004 Central'!E$82)=0,0,E69/(E$82+'Depn & WACC Post 2004 Central'!E$82)*G$82)","v":{"$error":"#REF!"}},{"$f":"IF(F69=0,0,G69/F69)","v":{"$error":"#REF!"}}]
[{"$f":"#REF!","v":{"$error":"#REF!"}},{"$f":"#REF!","v":{"$error":"#REF!"}},{"$f":"#REF!","v":{"$error":"#REF!"}},{"$f":"'DNSP Inputs O&M'!$D$238","v":267.33},{"$f":"F70*D70","v":{"$error":"#REF!"}},{"$f":"#REF!","v":{"$error":"#REF!"}},{"$f":"IF((E$82+'Depn & WACC Post 2004 Central'!E$82)=0,0,E70/(E$82+'Depn & WACC Post 2004 Central'!E$82)*G$82)","v":{"$error":"#REF!"}},{"$f":"IF(F70=0,0,G70/F70)","v":{"$error":"#REF!"}}]
[{"$f":"#REF!","v":{"$error":"#REF!"}},{"$f":"#REF!","v":{"$error":"#REF!"}},{"$f":"#REF!","v":{"$error":"#REF!"}},{"$f":"'DNSP Inputs O&M'!$D$286","v":602.8983467999999},{"$f":"F71*D71","v":{"$error":"#REF!"}},{"$f":"#REF!","v":{"$error":"#REF!"}},{"$f":"IF((E$82+'Depn & WACC Post 2004 Central'!E$82)=0,0,E71/(E$82+'Depn & WACC Post 2004 Central'!E$82)*G$82)","v":{"$error":"#REF!"}},{"$f":"IF(F71=0,0,G71/F71)","v":{"$error":"#REF!"}}]
[{"$f":"#REF!","v":{"$error":"#REF!"}},{"$f":"#REF!","v":{"$error":"#REF!"}},{"$f":"#REF!","v":{"$error":"#REF!"}},{"$f":"'DNSP Inputs O&M'!$D$332","v":205},{"$error":"#REF!"},{"$f":"#REF!","v":{"$error":"#REF!"}},{"$f":"IF((E$82+'Depn & WACC Post 2004 Central'!E$82)=0,0,E72/(E$82+'Depn & WACC Post 2004 Central'!E$82)*G$82)","v":{"$error":"#REF!"}},{"$error":"#REF!"}]
[{"$f":"#REF!","v":{"$error":"#REF!"}},{"$f":"#REF!","v":{"$error":"#REF!"}},{"$f":"#REF!","v":{"$error":"#REF!"}},{"$f":"'DNSP Inputs O&M'!$D$378","v":1221.3620396249999},{"$error":"#REF!"},{"$f":"#REF!","v":{"$error":"#REF!"}},{"$f":"IF((E$82+'Depn & WACC Post 2004 Central'!E$82)=0,0,E73/(E$82+'Depn & WACC Post 2004 Central'!E$82)*G$82)","v":{"$error":"#REF!"}},{"$error":"#REF!"}]
[{"$f":"#REF!","v":{"$error":"#REF!"}},{"$f":"#REF!","v":{"$error":"#REF!"}},{"$f":"#REF!","v":{"$error":"#REF!"}},{"$f":"'DNSP Inputs O&M'!$D$424","v":1270.4308997249998},{"$error":"#REF!"},{"$f":"#REF!","v":{"$error":"#REF!"}},{"$f":"IF((E$82+'Depn & WACC Post 2004 Central'!E$82)=0,0,E74/(E$82+'Depn & WACC Post 2004 Central'!E$82)*G$82)","v":{"$error":"#REF!"}},{"$error":"#REF!"}]
[{"$f":"#REF!","v":{"$error":"#REF!"}},{"$f":"#REF!","v":{"$error":"#REF!"}},{"$f":"#REF!","v":{"$error":"#REF!"}},{"$f":"'DNSP Inputs O&M'!$D$470","v":1775.2617643000001},{"$error":"#REF!"},{"$f":"#REF!","v":{"$error":"#REF!"}},{"$f":"IF((E$82+'Depn & WACC Post 2004 Central'!E$82)=0,0,E75/(E$82+'Depn & WACC Post 2004 Central'!E$82)*G$82)","v":{"$error":"#REF!"}},{"$error":"#REF!"}]
[{"$f":"#REF!","v":{"$error":"#REF!"}},{"$f":"#REF!","v":{"$error":"#REF!"}},{"$f":"#REF!","v":{"$error":"#REF!"}},{"$f":"D69*B76","v":{"$error":"#REF!"}},{"$error":"#REF!"},{"$f":"#REF!","v":{"$error":"#REF!"}},{"$f":"IF((E$82+'Depn & WACC Post 2004 Central'!E$82)=0,0,E76/(E$82+'Depn & WACC Post 2004 Central'!E$82)*G$82)","v":{"$error":"#REF!"}},{"$error":"#REF!"}]
[{"$f":"#REF!","v":{"$error":"#REF!"}},{"$f":"#REF!","v":{"$error":"#REF!"}},{"$f":"#REF!","v":{"$error":"#REF!"}},{"$f":"D69*B77","v":{"$error":"#REF!"}},{"$error":"#REF!"},{"$f":"#REF!","v":{"$error":"#REF!"}},{"$f":"IF((E$82+'Depn & WACC Post 2004 Central'!E$82)=0,0,E77/(E$82+'Depn & WACC Post 2004 Central'!E$82)*G$82)","v":{"$error":"#REF!"}},{"$error":"#REF!"}]
[{"$f":"#REF!","v":{"$error":"#REF!"}},{"$f":"#REF!","v":{"$error":"#REF!"}},{"$f":"#REF!","v":{"$error":"#REF!"}},{"$f":"'DNSP Inputs O&M'!$D$517","v":402},{"$error":"#REF!"},{"$f":"#REF!","v":{"$error":"#REF!"}},{"$f":"IF((E$82+'Depn & WACC Post 2004 Central'!E$82)=0,0,E78/(E$82+'Depn & WACC Post 2004 Central'!E$82)*G$82)","v":{"$error":"#REF!"}},{"$error":"#REF!"}]
[{"$f":"#REF!","v":{"$error":"#REF!"}},{"$f":"#REF!","v":{"$error":"#REF!"}},{"$f":"#REF!","v":{"$error":"#REF!"}},{"$f":"'DNSP Inputs O&M'!$D$561","v":427},{"$error":"#REF!"},{"$f":"#REF!","v":{"$error":"#REF!"}},{"$f":"IF((E$82+'Depn & WACC Post 2004 Central'!E$82)=0,0,E79/(E$82+'Depn & WACC Post 2004 Central'!E$82)*G$82)","v":{"$error":"#REF!"}},{"$error":"#REF!"}]
[{"$f":"#REF!","v":{"$error":"#REF!"}},{"$f":"#REF!","v":{"$error":"#REF!"}},{"$f":"#REF!","v":{"$error":"#REF!"}},{"$f":"'DNSP Inputs O&M'!$D$605","v":650.88},{"$error":"#REF!"},{"$f":"#REF!","v":{"$error":"#REF!"}},{"$f":"IF((E$82+'Depn & WACC Post 2004 Central'!E$82)=0,0,E80/(E$82+'Depn & WACC Post 2004 Central'!E$82)*G$82)","v":{"$error":"#REF!"}},{"$error":"#REF!"}]
[]
[null,null,null,null,{"$f":"SUM(E69:E81)","v":{"$error":"#REF!"}},{"$f":"SUM(F69:F81)","v":{"$error":"#REF!"}},{"$f":"'Total RAB'!T$164","v":{"$error":"#REF!"}},{"$f":"SUMPRODUCT(F69:F81,H69:H81)","v":{"$error":"#REF!"}}]
[null,null,null,"Check",{"$f":"SUM(F83:I83)","v":{"$error":"#REF!"}},{"$f":"ABS(#REF!-F82)","v":{"$error":"#REF!"}},{"$f":"ABS(G82-SUM(G69:G81)-SUM('Depn & WACC Post 2004 Central'!G69:G81))","v":{"$error":"#REF!"}},{"$f":"ABS(H82+'Depn & WACC Post 2004 Central'!H82-G82)","v":{"$error":"#REF!"}}]
[]
[]
[null,null,{"$f":"'RAB 2001 to 2004 Central'!A$27","v":"Poles & Brackets"},"Weighted Average Volumes",null,null,"Unitisation Poles & Brackets"]
[null,null,"Total Poles & Brackets",{"$f":"#REF!*F40","v":{"$error":"#REF!"}},{"$f":"SUMPRODUCT(#REF!,#REF!)+SUMPRODUCT(#REF!,#REF!)","v":{"$error":"#REF!"}},{"$f":"IF(E87=0,0,D87/E87*G87)","v":{"$error":"#REF!"}},{"$f":"'Total RAB'!T$134-'Depn & WACC Post 2004 Central'!G$87","v":{"$error":"#REF!"}},{"$f":"F87/F40","v":{"$error":"#REF!"}}]
[]
[]
[]
[null,null,null,{"$f":"#REF!","v":{"$error":"#REF!"}}]
["DEPRECIATION AND RETURN",null,null,"Year",{"$f":"EOMONTH(E36,12)","v":"2028-06-30"}]
[]
[]
[{"$f":"#REF!","v":{"$error":"#REF!"}},{"$f":"#REF!","v":{"$error":"#REF!"}},{"$f":"#REF!","v":{"$error":"#REF!"}},{"$f":"D$39","v":"WACC and Dep"},null,{"$f":"F$39","v":"Volumes"},{"$f":"G$39","v":"Unitisation - Luminaires"},null,{"$f":"I$39","v":"RAB WDV"}]
[{"$f":"#REF!","v":{"$error":"#REF!"}},{"$f":"#REF!","v":{"$error":"#REF!"}},{"$f":"#REF!","v":{"$error":"#REF!"}},{"$f":"'RAB 2001 to 2004 N & E'!D$15","v":{"$error":"#REF!"}},{"$f":"F96*D96","v":{"$error":"#REF!"}},{"$f":"IF(#REF!=0,1/10^6,#REF!)","v":{"$error":"#REF!"}},{"$f":"IF((E$120+'Depn & WACC Post 2004 Central'!E$120)=0,0,E96/(E$120+'Depn & WACC Post 2004 Central'!E$120)*G$120)","v":{"$error":"#REF!"}},{"$f":"IF(F96=0,0,G96/F96)","v":{"$error":"#REF!"}},{"$f":"IF(F96=0,0,E96/(E$120+'Depn & WACC Post 2004 Central'!E$120)*I$120/F96)","v":{"$error":"#REF!"}}]
[{"$f":"#REF!","v":{"$error":"#REF!"}},{"$f":"#REF!","v":{"$error":"#REF!"}},{"$f":"#REF!","v":{"$error":"#REF!"}},{"$f":"'RAB 2001 to 2004 N & E'!D$20","v":{"$error":"#REF!"}},{"$error":"#REF!"},{"$f":"IF(#REF!=0,1/10^6,#REF!)","v":{"$error":"#REF!"}},{"$f":"IF((E$120+'Depn & WACC Post 2004 Central'!E$120)=0,0,E97/(E$120+'Depn & WACC Post 2004 Central'!E$120)*G$120)","v":{"$error":"#REF!"}},{"$f":"IF(F97=0,0,G97/F97)","v":{"$error":"#REF!"}},{"$f":"IF(F97=0,0,E97/(E$120+'Depn & WACC Post 2004 Central'!E$120)*I$120/F97)","v":{"$error":"#REF!"}}]
[{"$f":"#REF!","v":{"$error":"#REF!"}},{"$f":"#REF!","v":{"$error":"#REF!"}},{"$f":"#REF!","v":{"$error":"#REF!"}},{"$f":"'RAB 2001 to 2004 N & E'!D$25","v":{"$error":"#REF!"}},{"$error":"#REF!"},{"$f":"IF(#REF!=0,1/10^6,#REF!)","v":{"$error":"#REF!"}},{"$f":"IF((E$120+'Depn & WACC Post 2004 Central'!E$120)=0,0,E98/(E$120+'Depn & WACC Post 2004 Central'!E$120)*G$120)","v":{"$error":"#REF!"}},{"$f":"IF(F98=0,0,G98/F98)","v":{"$error":"#REF!"}},{"$f":"IF(F98=0,0,E98/(E$120+'Depn & WACC Post 2004 Central'!E$120)*I$120/F98)","v":{"$error":"#REF!"}}]
[{"$f":"#REF!","v":{"$error":"#REF!"}},{"$f":"#REF!","v":{"$error":"#REF!"}},{"$f":"#REF!","v":{"$error":"#REF!"}},{"$f":"B99*IF(A99=C96,D96,IF(A99=C97,D97,D98))","v":{"$error":"#REF!"}},{"$error":"#REF!"},{"$f":"#REF!","v":{"$error":"#REF!"}},{"$f":"IF((E$120+'Depn & WACC Post 2004 Central'!E$120)=0,0,E99/(E$120+'Depn & WACC Post 2004 Central'!E$120)*G$120)","v":{"$error":"#REF!"}},{"$f":"IF(F99=0,0,G99/F99)","v":{"$error":"#REF!"}},{"$f":"IF(F99=0,0,E99/(E$120+'Depn & WACC Post 2004 Central'!E$120)*I$120/F99)","v":{"$error":"#REF!"}}]
[{"$f":"#REF!","v":{"$error":"#REF!"}},{"$f":"#REF!","v":{"$error":"#REF!"}},{"$f":"#REF!","v":{"$error":"#REF!"}},{"$f":"B100*IF(A100=C96,D96,IF(A100=C97,D97,D98))","v":{"$error":"#REF!"}},{"$error":"#REF!"},{"$f":"#REF!","v":{"$error":"#REF!"}},{"$f":"IF((E$120+'Depn & WACC Post 2004 Central'!E$120)=0,0,E100/(E$120+'Depn & WACC Post 2004 Central'!E$120)*G$120)","v":{"$error":"#REF!"}},{"$f":"IF(F100=0,0,G100/F100)","v":{"$error":"#REF!"}},{"$f":"IF(F100=0,0,E100/(E$120+'Depn & WACC Post 2004 Central'!E$120)*I$120/F100)","v":{"$error":"#REF!"}}]
[{"$f":"#REF!","v":{"$error":"#REF!"}},{"$f":"#REF!","v":{"$error":"#REF!"}},{"$f":"#REF!","v":{"$error":"#REF!"}},{"$f":"B101*IF(A101=C96,D96,IF(A101=C97,D97,D98))","v":{"$error":"#REF!"}},{"$error":"#REF!"},{"$f":"#REF!","v":{"$error":"#REF!"}},{"$f":"IF((E$120+'Depn & WACC Post 2004 Central'!E$120)=0,0,E101/(E$120+'Depn & WACC Post 2004 Central'!E$120)*G$120)","v":{"$error":"#REF!"}},{"$error":"#REF!"},{"$f":"IF(F101=0,0,E101/(E$120+'Depn & WACC Post 2004 Central'!E$120)*I$120/F101)","v":{"$error":"#REF!"}}]
[{"$f":"#REF!","v":{"$error":"#REF!"}},{"$f":"#REF!","v":{"$error":"#REF!"}},{"$f":"#REF!","v":{"$error":"#REF!"}},{"$f":"B102*IF(A102=C96,D96,IF(A102=C97,D97,D98))","v":{"$error":"#REF!"}},{"$error":"#REF!"},{"$f":"#REF!","v":{"$error":"#REF!"}},{"$f":"IF((E$120+'Depn & WACC Post 2004 Central'!E$120)=0,0,E102/(E$120+'Depn & WACC Post 2004 Central'!E$120)*G$120)","v":{"$error":"#REF!"}},{"$error":"#REF!"},{"$f":"IF(F102=0,0,E102/(E$120+'Depn & WACC Post 2004 Central'!E$120)*I$120/F102)","v":{"$error":"#REF!"}}]
[{"$f":"#REF!","v":{"$error":"#REF!"}},{"$f":"#REF!","v":{"$error":"#REF!"}},{"$f":"#REF!","v":{"$error":"#REF!"}},{"$f":"B103*IF(A103=C96,D96,IF(A103=C97,D97,D98))","v":{"$error":"#REF!"}},{"$error":"#REF!"},{"$f":"#REF!","v":{"$error":"#REF!"}},{"$f":"IF((E$120+'Depn & WACC Post 2004 Central'!E$120)=0,0,E103/(E$120+'Depn & WACC Post 2004 Central'!E$120)*G$120)","v":{"$error":"#REF!"}},{"$error":"#REF!"},{"$f":"IF(F103=0,0,E103/(E$120+'Depn & WACC Post 2004 Central'!E$120)*I$120/F103)","v":{"$error":"#REF!"}}]
[{"$f":"#REF!","v":{"$error":"#REF!"}},{"$f":"#REF!","v":{"$error":"#REF!"}},{"$f":"#REF!","v":{"$error":"#REF!"}},{"$f":"B104*IF(A104=C96,D96,IF(A104=C97,D97,D98))","v":{"$error":"#REF!"}},{"$error":"#REF!"},{"$f":"#REF!","v":{"$error":"#REF!"}},{"$f":"IF((E$120+'Depn & WACC Post 2004 Central'!E$120)=0,0,E104/(E$120+'Depn & WACC Post 2004 Central'!E$120)*G$120)","v":{"$error":"#REF!"}},{"$error":"#REF!"},{"$f":"IF(F104=0,0,E104/(E$120+'Depn & WACC Post 2004 Central'!E$120)*I$120/F104)","v":{"$error":"#REF!"}}]
[{"$f":"#REF!","v":{"$error":"#REF!"}},{"$f":"#REF!","v":{"$error":"#REF!"}},{"$f":"#REF!","v":{"$error":"#REF!"}},{"$f":"B105*IF(A105=C96,D96,IF(A105=C97,D97,D98))","v":{"$error":"#REF!"}},{"$error":"#REF!"},{"$f":"#REF!","v":{"$error":"#REF!"}},{"$f":"IF((E$120+'Depn & WACC Post 2004 Central'!E$120)=0,0,E105/(E$120+'Depn & WACC Post 2004 Central'!E$120)*G$120)","v":{"$error":"#REF!"}},{"$error":"#REF!"},{"$f":"IF(F105=0,0,E105/(E$120+'Depn & WACC Post 2004 Central'!E$120)*I$120/F105)","v":{"$error":"#REF!"}}]
[{"$f":"#REF!","v":{"$error":"#REF!"}},{"$f":"#REF!","v":{"$error":"#REF!"}},{"$f":"#REF!","v":{"$error":"#REF!"}},{"$f":"B106*IF(A106=C96,D96,IF(A106=C97,D97,D98))","v":{"$error":"#REF!"}},{"$error":"#REF!"},{"$f":"#REF!","v":{"$error":"#REF!"}},{"$f":"IF((E$120+'Depn & WACC Post 2004 Central'!E$120)=0,0,E106/(E$120+'Depn & WACC Post 2004 Central'!E$120)*G$120)","v":{"$error":"#REF!"}},{"$error":"#REF!"},{"$f":"IF(F106=0,0,E106/(E$120+'Depn & WACC Post 2004 Central'!E$120)*I$120/F106)","v":{"$error":"#REF!"}}]
[{"$f":"#REF!","v":{"$error":"#REF!"}},{"$f":"#REF!","v":{"$error":"#REF!"}},{"$f":"#REF!","v":{"$error":"#REF!"}},{"$f":"B107*IF(A107=C96,D96,IF(A107=C97,D97,D98))","v":{"$error":"#REF!"}},{"$error":"#REF!"},{"$f":"#REF!","v":{"$error":"#REF!"}},{"$f":"IF((E$120+'Depn & WACC Post 2004 Central'!E$120)=0,0,E107/(E$120+'Depn & WACC Post 2004 Central'!E$120)*G$120)","v":{"$error":"#REF!"}},{"$error":"#REF!"},{"$f":"IF(F107=0,0,E107/(E$120+'Depn & WACC Post 2004 Central'!E$120)*I$120/F107)","v":{"$error":"#REF!"}}]
[{"$f":"#REF!","v":{"$error":"#REF!"}},{"$f":"#REF!","v":{"$error":"#REF!"}},{"$f":"#REF!","v":{"$error":"#REF!"}},{"$f":"B108*IF(A108=C96,D96,IF(A108=C97,D97,D98))","v":{"$error":"#REF!"}},{"$error":"#REF!"},{"$f":"#REF!","v":{"$error":"#REF!"}},{"$f":"IF((E$120+'Depn & WACC Post 2004 Central'!E$120)=0,0,E108/(E$120+'Depn & WACC Post 2004 Central'!E$120)*G$120)","v":{"$error":"#REF!"}},{"$error":"#REF!"},{"$f":"IF(F108=0,0,E108/(E$120+'Depn & WACC Post 2004 Central'!E$120)*I$120/F108)","v":{"$error":"#REF!"}}]
[]
[]
[]
[]
[]
[]
[]
[]
[]
[]
[]
[null,null,null,null,{"$f":"SUM(E96:E119)","v":{"$error":"#REF!"}},{"$f":"SUM(F96:F119)","v":{"$error":"#REF!"}},{"$f":"'Total RAB'!U$149","v":{"$error":"#REF!"}},{"$f":"SUMPRODUCT(F96:F119,H96:H119)","v":{"$error":"#REF!"}},{"$f":"'Total RAB'!U$143","v":{"$error":"#REF!"}}]
[null,null,null,"Check",{"$f":"SUM(F121:I121)","v":{"$error":"#REF!"}},{"$f":"ABS(#REF!-F120)","v":{"$error":"#REF!"}},{"$f":"ABS(G120-SUM(G96:G119)-SUM('Depn & WACC Post 2004 Central'!G96:G119))*IF(F120=0,0,1)","v":{"$error":"#REF!"}},{"$f":"ABS(H120+'Depn & WACC Post 2004 Central'!H120-G120)*IF(F120=0,0,1)","v":{"$error":"#REF!"}},{"$f":"ABS(I120-SUMPRODUCT(F96:F119,I96:I119)-SUMPRODUCT('Depn & WACC Post 2004 Central'!F96:F119,'Depn & WACC Post 2004 Central'!I96:I119))*IF(F120=0,0,1)","v":{"$error":"#REF!"}}]
[]
[]
[{"$f":"#REF!","v":{"$error":"#REF!"}},{"$f":"#REF!","v":{"$error":"#REF!"}},{"$f":"#REF!","v":{"$error":"#REF!"}},{"$f":"D$68","v":"Unit cost"},null,{"$f":"F$68","v":"Volumes"},{"$f":"G$68","v":"Unitisation - Luminaires & Ballasts"}]
[{"$f":"#REF!","v":{"$error":"#REF!"}},{"$f":"#REF!","v":{"$error":"#REF!"}},{"$f":"#REF!","v":{"$error":"#REF!"}},{"$f":"'DNSP Inputs O&M'!$E$189","v":260.27999999999997},{"$f":"F125*D125","v":{"$error":"#REF!"}},{"$f":"#REF!","v":{"$error":"#REF!"}},{"$f":"IF((E$138+'Depn & WACC Post 2004 Central'!E$138)=0,0,E125/(E$138+'Depn & WACC Post 2004 Central'!E$138)*G$138)","v":{"$error":"#REF!"}},{"$f":"IF(F125=0,0,G125/F125)","v":{"$error":"#REF!"}}]
[{"$f":"#REF!","v":{"$error":"#REF!"}},{"$f":"#REF!","v":{"$error":"#REF!"}},{"$f":"#REF!","v":{"$error":"#REF!"}},{"$f":"'DNSP Inputs O&M'!$E$238","v":267.33},{"$f":"F126*D126","v":{"$error":"#REF!"}},{"$f":"#REF!","v":{"$error":"#REF!"}},{"$f":"IF((E$138+'Depn & WACC Post 2004 Central'!E$138)=0,0,E126/(E$138+'Depn & WACC Post 2004 Central'!E$138)*G$138)","v":{"$error":"#REF!"}},{"$f":"IF(F126=0,0,G126/F126)","v":{"$error":"#REF!"}}]
[{"$f":"#REF!","v":{"$error":"#REF!"}},{"$f":"#REF!","v":{"$error":"#REF!"}},{"$f":"#REF!","v":{"$error":"#REF!"}},{"$f":"'DNSP Inputs O&M'!$E$286","v":602.8983467999999},{"$f":"F127*D127","v":{"$error":"#REF!"}},{"$f":"#REF!","v":{"$error":"#REF!"}},{"$f":"IF((E$138+'Depn & WACC Post 2004 Central'!E$138)=0,0,E127/(E$138+'Depn & WACC Post 2004 Central'!E$138)*G$138)","v":{"$error":"#REF!"}},{"$f":"IF(F127=0,0,G127/F127)","v":{"$error":"#REF!"}}]
[{"$f":"#REF!","v":{"$error":"#REF!"}},{"$f":"#REF!","v":{"$error":"#REF!"}},{"$f":"#REF!","v":{"$error":"#REF!"}},{"$f":"'DNSP Inputs O&M'!$E$332","v":205},{"$error":"#REF!"},{"$f":"#REF!","v":{"$error":"#REF!"}},{"$f":"IF((E$138+'Depn & WACC Post 2004 Central'!E$138)=0,0,E128/(E$138+'Depn & WACC Post 2004 Central'!E$138)*G$138)","v":{"$error":"#REF!"}},{"$f":"IF(F128=0,0,G128/F128)","v":{"$error":"#REF!"}}]
[{"$f":"#REF!","v":{"$error":"#REF!"}},{"$f":"#REF!","v":{"$error":"#REF!"}},{"$f":"#REF!","v":{"$error":"#REF!"}},{"$f":"'DNSP Inputs O&M'!$E$378","v":1221.3620396249999},{"$error":"#REF!"},{"$f":"#REF!","v":{"$error":"#REF!"}},{"$f":"IF((E$138+'Depn & WACC Post 2004 Central'!E$138)=0,0,E129/(E$138+'Depn & WACC Post 2004 Central'!E$138)*G$138)","v":{"$error":"#REF!"}},{"$f":"IF(F129=0,0,G129/F129)","v":{"$error":"#REF!"}}]
[{"$f":"#REF!","v":{"$error":"#REF!"}},{"$f":"#REF!","v":{"$error":"#REF!"}},{"$f":"#REF!","v":{"$error":"#REF!"}},{"$f":"'DNSP Inputs O&M'!$E$424","v":1270.4308997249998},{"$error":"#REF!"},{"$f":"#REF!","v":{"$error":"#REF!"}},{"$f":"IF((E$138+'Depn & WACC Post 2004 Central'!E$138)=0,0,E130/(E$138+'Depn & WACC Post 2004 Central'!E$138)*G$138)","v":{"$error":"#REF!"}},{"$f":"IF(F130=0,0,G130/F130)","v":{"$error":"#REF!"}}]
[{"$f":"#REF!","v":{"$error":"#REF!"}},{"$f":"#REF!","v":{"$error":"#REF!"}},{"$f":"#REF!","v":{"$error":"#REF!"}},{"$f":"'DNSP Inputs O&M'!$E$470","v":1775.2617643000001},{"$error":"#REF!"},{"$f":"#REF!","v":{"$error":"#REF!"}},{"$f":"IF((E$138+'Depn & WACC Post 2004 Central'!E$138)=0,0,E131/(E$138+'Depn & WACC Post 2004 Central'!E$138)*G$138)","v":{"$error":"#REF!"}},{"$f":"IF(F131=0,0,G131/F131)","v":{"$error":"#REF!"}}]
[{"$f":"#REF!","v":{"$error":"#REF!"}},{"$f":"#REF!","v":{"$error":"#REF!"}},{"$f":"#REF!","v":{"$error":"#REF!"}},{"$f":"D125*B132","v":{"$error":"#REF!"}},{"$error":"#REF!"},{"$f":"#REF!","v":{"$error":"#REF!"}},{"$f":"IF((E$138+'Depn & WACC Post 2004 Central'!E$138)=0,0,E132/(E$138+'Depn & WACC Post 2004 Central'!E$138)*G$138)","v":{"$error":"#REF!"}},{"$error":"#REF!"}]
[{"$f":"#REF!","v":{"$error":"#REF!"}},{"$f":"#REF!","v":{"$error":"#REF!"}},{"$f":"#REF!","v":{"$error":"#REF!"}},{"$f":"D125*B133","v":{"$error":"#REF!"}},{"$error":"#REF!"},{"$f":"#REF!","v":{"$error":"#REF!"}},{"$f":"IF((E$138+'Depn & WACC Post 2004 Central'!E$138)=0,0,E133/(E$138+'Depn & WACC Post 2004 Central'!E$138)*G$138)","v":{"$error":"#REF!"}},{"$error":"#REF!"}]
[{"$f":"#REF!","v":{"$error":"#REF!"}},{"$f":"#REF!","v":{"$error":"#REF!"}},{"$f":"#REF!","v":{"$error":"#REF!"}},{"$f":"'DNSP Inputs O&M'!$E$517","v":402},{"$f":"F134*D134","v":{"$error":"#REF!"}},{"$f":"#REF!","v":{"$error":"#REF!"}},{"$f":"IF((E$138+'Depn & WACC Post 2004 Central'!E$138)=0,0,E134/(E$138+'Depn & WACC Post 2004 Central'!E$138)*G$138)","v":{"$error":"#REF!"}},{"$f":"IF(F134=0,0,G134/F134)","v":{"$error":"#REF!"}}]
[{"$f":"#REF!","v":{"$error":"#REF!"}},{"$f":"#REF!","v":{"$error":"#REF!"}},{"$f":"#REF!","v":{"$error":"#REF!"}},{"$f":"'DNSP Inputs O&M'!$E$561","v":427},{"$f":"F135*D135","v":{"$error":"#REF!"}},{"$f":"#REF!","v":{"$error":"#REF!"}},{"$f":"IF((E$138+'Depn & WACC Post 2004 Central'!E$138)=0,0,E135/(E$138+'Depn & WACC Post 2004 Central'!E$138)*G$138)","v":{"$error":"#REF!"}},{"$f":"IF(F135=0,0,G135/F135)","v":{"$error":"#REF!"}}]
[{"$f":"#REF!","v":{"$error":"#REF!"}},{"$f":"#REF!","v":{"$error":"#REF!"}},{"$f":"#REF!","v":{"$error":"#REF!"}},{"$f":"'DNSP Inputs O&M'!$E$605","v":650.88},{"$f":"F136*D136","v":{"$error":"#REF!"}},{"$f":"#REF!","v":{"$error":"#REF!"}},{"$f":"IF((E$138+'Depn & WACC Post 2004 Central'!E$138)=0,0,E136/(E$138+'Depn & WACC Post 2004 Central'!E$138)*G$138)","v":{"$error":"#REF!"}},{"$f":"IF(F136=0,0,G136/F136)","v":{"$error":"#REF!"}}]
[]
[null,null,null,null,{"$f":"SUM(E125:E137)","v":{"$error":"#REF!"}},{"$f":"SUM(F125:F137)","v":{"$error":"#REF!"}},{"$f":"'Total RAB'!U$164","v":{"$error":"#REF!"}},{"$f":"SUMPRODUCT(F125:F137,H125:H137)","v":{"$error":"#REF!"}}]
[null,null,null,"Check",{"$f":"SUM(F139:I139)","v":{"$error":"#REF!"}},{"$f":"ABS(#REF!-F138)","v":{"$error":"#REF!"}},{"$f":"ABS(G138-SUM(G125:G137)-SUM('Depn & WACC Post 2004 Central'!G125:G137))","v":{"$error":"#REF!"}},{"$f":"ABS(H138+'Depn & WACC Post 2004 Central'!H138-G138)","v":{"$error":"#REF!"}}]
[]
[]
[null,null,{"$f":"'RAB 2001 to 2004 Central'!A$27","v":"Poles & Brackets"},{"$f":"D$86","v":"Weighted Average Volumes"},null,null,{"$f":"G$86","v":"Unitisation Poles & Brackets"}]
[null,null,"Total Poles & Brackets",{"$f":"#REF!*F96","v":{"$error":"#REF!"}},{"$f":"SUMPRODUCT(#REF!,#REF!)+SUMPRODUCT(#REF!,#REF!)","v":{"$error":"#REF!"}},{"$f":"IF(E143=0,0,D143/E143*G143)","v":{"$error":"#REF!"}},{"$f":"'Total RAB'!U$134-'Depn & WACC Post 2004 Central'!G$143","v":{"$error":"#REF!"}},{"$f":"F143/F96","v":{"$error":"#REF!"}}]
[]
[]
[]
[null,null,null,{"$f":"#REF!","v":{"$error":"#REF!"}}]
["DEPRECIATION AND RETURN",null,null,"Year",{"$f":"EOMONTH(E92,12)","v":"2029-06-30"}]
[]
[]
[{"$f":"#REF!","v":{"$error":"#REF!"}},{"$f":"#REF!","v":{"$error":"#REF!"}},{"$f":"#REF!","v":{"$error":"#REF!"}},{"$f":"D$39","v":"WACC and Dep"},null,{"$f":"F$39","v":"Volumes"},{"$f":"G$39","v":"Unitisation - Luminaires"},null,{"$f":"I$39","v":"RAB WDV"}]
[{"$f":"#REF!","v":{"$error":"#REF!"}},{"$f":"#REF!","v":{"$error":"#REF!"}},{"$f":"#REF!","v":{"$error":"#REF!"}},{"$f":"'DNSP Inputs Capex'!$F$21","v":237.46848582499996},{"$f":"F152*D152","v":{"$error":"#REF!"}},{"$f":"IF(#REF!=0,1/10^6,#REF!)","v":{"$error":"#REF!"}},{"$f":"IF((E$176+'Depn & WACC Post 2004 Central'!E$176)=0,0,E152/(E$176+'Depn & WACC Post 2004 Central'!E$176)*G$176)","v":{"$error":"#REF!"}},{"$f":"IF(F152=0,0,G152/F152)","v":{"$error":"#REF!"}},{"$f":"IF(F152=0,0,E152/(E$176+'Depn & WACC Post 2004 Central'!E$176)*I$176/F152)","v":{"$error":"#REF!"}}]
[{"$f":"#REF!","v":{"$error":"#REF!"}},{"$f":"#REF!","v":{"$error":"#REF!"}},{"$f":"#REF!","v":{"$error":"#REF!"}},{"$f":"'DNSP Inputs Capex'!$F$44","v":234.07},{"$error":"#REF!"},{"$f":"IF(#REF!=0,1/10^6,#REF!)","v":{"$error":"#REF!"}},{"$f":"IF((E$176+'Depn & WACC Post 2004 Central'!E$176)=0,0,E153/(E$176+'Depn & WACC Post 2004 Central'!E$176)*G$176)","v":{"$error":"#REF!"}},{"$f":"IF(F153=0,0,G153/F153)","v":{"$error":"#REF!"}},{"$f":"IF(F153=0,0,E153/(E$176+'Depn & WACC Post 2004 Central'!E$176)*I$176/F153)","v":{"$error":"#REF!"}}]
[{"$f":"#REF!","v":{"$error":"#REF!"}},{"$f":"#REF!","v":{"$error":"#REF!"}},{"$f":"#REF!","v":{"$error":"#REF!"}},{"$f":"'DNSP Inputs Capex'!$F$62","v":240.18},{"$error":"#REF!"},{"$f":"IF(#REF!=0,1/10^6,#REF!)","v":{"$error":"#REF!"}},{"$f":"IF((E$176+'Depn & WACC Post 2004 Central'!E$176)=0,0,E154/(E$176+'Depn & WACC Post 2004 Central'!E$176)*G$176)","v":{"$error":"#REF!"}},{"$f":"IF(F154=0,0,G154/F154)","v":{"$error":"#REF!"}},{"$f":"IF(F154=0,0,E154/(E$176+'Depn & WACC Post 2004 Central'!E$176)*I$176/F154)","v":{"$error":"#REF!"}}]
[{"$f":"#REF!","v":{"$error":"#REF!"}},{"$f":"#REF!","v":{"$error":"#REF!"}},{"$f":"#REF!","v":{"$error":"#REF!"}},{"$f":"B155*IF(A155=C152,D152,IF(A155=C153,D153,D154))","v":{"$error":"#REF!"}},{"$error":"#REF!"},{"$f":"#REF!","v":{"$error":"#REF!"}},{"$f":"IF((E$176+'Depn & WACC Post 2004 Central'!E$176)=0,0,E155/(E$176+'Depn & WACC Post 2004 Central'!E$176)*G$176)","v":{"$error":"#REF!"}},{"$f":"IF(F155=0,0,G155/F155)","v":{"$error":"#REF!"}},{"$f":"IF(F155=0,0,E155/(E$176+'Depn & WACC Post 2004 Central'!E$176)*I$176/F155)","v":{"$error":"#REF!"}}]
[{"$f":"#REF!","v":{"$error":"#REF!"}},{"$f":"#REF!","v":{"$error":"#REF!"}},{"$f":"#REF!","v":{"$error":"#REF!"}},{"$f":"B156*IF(A156=C152,D152,IF(A156=C153,D153,D154))","v":{"$error":"#REF!"}},{"$error":"#REF!"},{"$f":"#REF!","v":{"$error":"#REF!"}},{"$f":"IF((E$176+'Depn & WACC Post 2004 Central'!E$176)=0,0,E156/(E$176+'Depn & WACC Post 2004 Central'!E$176)*G$176)","v":{"$error":"#REF!"}},{"$f":"IF(F156=0,0,G156/F156)","v":{"$error":"#REF!"}},{"$f":"IF(F156=0,0,E156/(E$176+'Depn & WACC Post 2004 Central'!E$176)*I$176/F156)","v":{"$error":"#REF!"}}]
[{"$f":"#REF!","v":{"$error":"#REF!"}},{"$f":"#REF!","v":{"$error":"#REF!"}},{"$f":"#REF!","v":{"$error":"#REF!"}},{"$f":"B157*IF(A157=C152,D152,IF(A157=C153,D153,D154))","v":{"$error":"#REF!"}},{"$error":"#REF!"},{"$f":"#REF!","v":{"$error":"#REF!"}},{"$f":"IF((E$176+'Depn & WACC Post 2004 Central'!E$176)=0,0,E157/(E$176+'Depn & WACC Post 2004 Central'!E$176)*G$176)","v":{"$error":"#REF!"}},{"$error":"#REF!"},{"$f":"IF(F157=0,0,E157/(E$176+'Depn & WACC Post 2004 Central'!E$176)*I$176/F157)","v":{"$error":"#REF!"}}]
[{"$f":"#REF!","v":{"$error":"#REF!"}},{"$f":"#REF!","v":{"$error":"#REF!"}},{"$f":"#REF!","v":{"$error":"#REF!"}},{"$f":"B158*IF(A158=C152,D152,IF(A158=C153,D153,D154))","v":{"$error":"#REF!"}},{"$error":"#REF!"},{"$f":"#REF!","v":{"$error":"#REF!"}},{"$f":"IF((E$176+'Depn & WACC Post 2004 Central'!E$176)=0,0,E158/(E$176+'Depn & WACC Post 2004 Central'!E$176)*G$176)","v":{"$error":"#REF!"}},{"$error":"#REF!"},{"$f":"IF(F158=0,0,E158/(E$176+'Depn & WACC Post 2004 Central'!E$176)*I$176/F158)","v":{"$error":"#REF!"}}]
[{"$f":"#REF!","v":{"$error":"#REF!"}},{"$f":"#REF!","v":{"$error":"#REF!"}},{"$f":"#REF!","v":{"$error":"#REF!"}},{"$f":"B159*IF(A159=C152,D152,IF(A159=C153,D153,D154))","v":{"$error":"#REF!"}},{"$error":"#REF!"},{"$f":"#REF!","v":{"$error":"#REF!"}},{"$f":"IF((E$176+'Depn & WACC Post 2004 Central'!E$176)=0,0,E159/(E$176+'Depn & WACC Post 2004 Central'!E$176)*G$176)","v":{"$error":"#REF!"}},{"$error":"#REF!"},{"$f":"IF(F159=0,0,E159/(E$176+'Depn & WACC Post 2004 Central'!E$176)*I$176/F159)","v":{"$error":"#REF!"}}]
[{"$f":"#REF!","v":{"$error":"#REF!"}},{"$f":"#REF!","v":{"$error":"#REF!"}},{"$f":"#REF!","v":{"$error":"#REF!"}},{"$f":"B160*IF(A160=C152,D152,IF(A160=C153,D153,D154))","v":{"$error":"#REF!"}},{"$error":"#REF!"},{"$f":"#REF!","v":{"$error":"#REF!"}},{"$f":"IF((E$176+'Depn & WACC Post 2004 Central'!E$176)=0,0,E160/(E$176+'Depn & WACC Post 2004 Central'!E$176)*G$176)","v":{"$error":"#REF!"}},{"$error":"#REF!"},{"$f":"IF(F160=0,0,E160/(E$176+'Depn & WACC Post 2004 Central'!E$176)*I$176/F160)","v":{"$error":"#REF!"}}]
[{"$f":"#REF!","v":{"$error":"#REF!"}},{"$f":"#REF!","v":{"$error":"#REF!"}},{"$f":"#REF!","v":{"$error":"#REF!"}},{"$f":"B161*IF(A161=C152,D152,IF(A161=C153,D153,D154))","v":{"$error":"#REF!"}},{"$error":"#REF!"},{"$f":"#REF!","v":{"$error":"#REF!"}},{"$f":"IF((E$176+'Depn & WACC Post 2004 Central'!E$176)=0,0,E161/(E$176+'Depn & WACC Post 2004 Central'!E$176)*G$176)","v":{"$error":"#REF!"}},{"$error":"#REF!"},{"$f":"IF(F161=0,0,E161/(E$176+'Depn & WACC Post 2004 Central'!E$176)*I$176/F161)","v":{"$error":"#REF!"}}]
[{"$f":"#REF!","v":{"$error":"#REF!"}},{"$f":"#REF!","v":{"$error":"#REF!"}},{"$f":"#REF!","v":{"$error":"#REF!"}},{"$f":"B162*IF(A162=C152,D152,IF(A162=C153,D153,D154))","v":{"$error":"#REF!"}},{"$error":"#REF!"},{"$f":"#REF!","v":{"$error":"#REF!"}},{"$f":"IF((E$176+'Depn & WACC Post 2004 Central'!E$176)=0,0,E162/(E$176+'Depn & WACC Post 2004 Central'!E$176)*G$176)","v":{"$error":"#REF!"}},{"$error":"#REF!"},{"$f":"IF(F162=0,0,E162/(E$176+'Depn & WACC Post 2004 Central'!E$176)*I$176/F162)","v":{"$error":"#REF!"}}]
[{"$f":"#REF!","v":{"$error":"#REF!"}},{"$f":"#REF!","v":{"$error":"#REF!"}},{"$f":"#REF!","v":{"$error":"#REF!"}},{"$f":"B163*IF(A163=C152,D152,IF(A163=C153,D153,D154))","v":{"$error":"#REF!"}},{"$error":"#REF!"},{"$f":"#REF!","v":{"$error":"#REF!"}},{"$f":"IF((E$176+'Depn & WACC Post 2004 Central'!E$176)=0,0,E163/(E$176+'Depn & WACC Post 2004 Central'!E$176)*G$176)","v":{"$error":"#REF!"}},{"$error":"#REF!"},{"$f":"IF(F163=0,0,E163/(E$176+'Depn & WACC Post 2004 Central'!E$176)*I$176/F163)","v":{"$error":"#REF!"}}]
[{"$f":"#REF!","v":{"$error":"#REF!"}},{"$f":"#REF!","v":{"$error":"#REF!"}},{"$f":"#REF!","v":{"$error":"#REF!"}},{"$f":"B164*IF(A164=C152,D152,IF(A164=C153,D153,D154))","v":{"$error":"#REF!"}},{"$error":"#REF!"},{"$f":"#REF!","v":{"$error":"#REF!"}},{"$f":"IF((E$176+'Depn & WACC Post 2004 Central'!E$176)=0,0,E164/(E$176+'Depn & WACC Post 2004 Central'!E$176)*G$176)","v":{"$error":"#REF!"}},{"$error":"#REF!"},{"$f":"IF(F164=0,0,E164/(E$176+'Depn & WACC Post 2004 Central'!E$176)*I$176/F164)","v":{"$error":"#REF!"}}]
[]
[]
[]
[]
[]
[]
[]
[]
[]
[]
[]
[null,null,null,null,{"$f":"SUM(E152:E175)","v":{"$error":"#REF!"}},{"$f":"SUM(F152:F175)","v":{"$error":"#REF!"}},{"$f":"'Total RAB'!V$149","v":{"$error":"#REF!"}},{"$f":"SUMPRODUCT(F152:F175,H152:H175)","v":{"$error":"#REF!"}},{"$f":"'Total RAB'!V$143","v":{"$error":"#REF!"}}]
[null,null,null,"Check",{"$f":"SUM(F177:I177)","v":{"$error":"#REF!"}},{"$f":"ABS(#REF!-F176)","v":{"$error":"#REF!"}},{"$f":"ABS(G176-SUM(G152:G175)-SUM('Depn & WACC Post 2004 Central'!G152:G175))*IF(F176=0,0,1)","v":{"$error":"#REF!"}},{"$f":"ABS(H176+'Depn & WACC Post 2004 Central'!H176-G176)*IF(F176=0,0,1)","v":{"$error":"#REF!"}},{"$f":"ABS(I176-SUMPRODUCT(F152:F175,I152:I175)-SUMPRODUCT('Depn & WACC Post 2004 Central'!F152:F175,'Depn & WACC Post 2004 Central'!I152:I175))*IF(F176=0,0,1)","v":{"$error":"#REF!"}}]
[]
[]
[{"$f":"#REF!","v":{"$error":"#REF!"}},{"$f":"#REF!","v":{"$error":"#REF!"}},{"$f":"#REF!","v":{"$error":"#REF!"}},{"$f":"D$68","v":"Unit cost"},null,{"$f":"F$68","v":"Volumes"},{"$f":"G$68","v":"Unitisation - Luminaires & Ballasts"}]
[{"$f":"#REF!","v":{"$error":"#REF!"}},{"$f":"#REF!","v":{"$error":"#REF!"}},{"$f":"#REF!","v":{"$error":"#REF!"}},{"$f":"'DNSP Inputs O&M'!$F$189","v":260.27999999999997},{"$f":"F181*D181","v":{"$error":"#REF!"}},{"$f":"#REF!","v":{"$error":"#REF!"}},{"$f":"IF((E$194+'Depn & WACC Post 2004 Central'!E$194)=0,0,E181/(E$194+'Depn & WACC Post 2004 Central'!E$194)*G$194)","v":{"$error":"#REF!"}},{"$f":"IF(F181=0,0,G181/F181)","v":{"$error":"#REF!"}}]
[{"$f":"#REF!","v":{"$error":"#REF!"}},{"$f":"#REF!","v":{"$error":"#REF!"}},{"$f":"#REF!","v":{"$error":"#REF!"}},{"$f":"'DNSP Inputs O&M'!$F$238","v":267.33},{"$f":"F182*D182","v":{"$error":"#REF!"}},{"$f":"#REF!","v":{"$error":"#REF!"}},{"$f":"IF((E$194+'Depn & WACC Post 2004 Central'!E$194)=0,0,E182/(E$194+'Depn & WACC Post 2004 Central'!E$194)*G$194)","v":{"$error":"#REF!"}},{"$f":"IF(F182=0,0,G182/F182)","v":{"$error":"#REF!"}}]
[{"$f":"#REF!","v":{"$error":"#REF!"}},{"$f":"#REF!","v":{"$error":"#REF!"}},{"$f":"#REF!","v":{"$error":"#REF!"}},{"$f":"'DNSP Inputs O&M'!$F$286","v":602.8983467999999},{"$f":"F183*D183","v":{"$error":"#REF!"}},{"$f":"#REF!","v":{"$error":"#REF!"}},{"$f":"IF((E$194+'Depn & WACC Post 2004 Central'!E$194)=0,0,E183/(E$194+'Depn & WACC Post 2004 Central'!E$194)*G$194)","v":{"$error":"#REF!"}},{"$f":"IF(F183=0,0,G183/F183)","v":{"$error":"#REF!"}}]
[{"$f":"#REF!","v":{"$error":"#REF!"}},{"$f":"#REF!","v":{"$error":"#REF!"}},{"$f":"#REF!","v":{"$error":"#REF!"}},{"$f":"'DNSP Inputs O&M'!$F$332","v":205},{"$error":"#REF!"},{"$f":"#REF!","v":{"$error":"#REF!"}},{"$f":"IF((E$194+'Depn & WACC Post 2004 Central'!E$194)=0,0,E184/(E$194+'Depn & WACC Post 2004 Central'!E$194)*G$194)","v":{"$error":"#REF!"}},{"$f":"IF(F184=0,0,G184/F184)","v":{"$error":"#REF!"}}]
[{"$f":"#REF!","v":{"$error":"#REF!"}},{"$f":"#REF!","v":{"$error":"#REF!"}},{"$f":"#REF!","v":{"$error":"#REF!"}},{"$f":"'DNSP Inputs O&M'!$F$378","v":1221.3620396249999},{"$error":"#REF!"},{"$f":"#REF!","v":{"$error":"#REF!"}},{"$f":"IF((E$194+'Depn & WACC Post 2004 Central'!E$194)=0,0,E185/(E$194+'Depn & WACC Post 2004 Central'!E$194)*G$194)","v":{"$error":"#REF!"}},{"$f":"IF(F185=0,0,G185/F185)","v":{"$error":"#REF!"}}]
[{"$f":"#REF!","v":{"$error":"#REF!"}},{"$f":"#REF!","v":{"$error":"#REF!"}},{"$f":"#REF!","v":{"$error":"#REF!"}},{"$f":"'DNSP Inputs O&M'!$F$424","v":1270.4308997249998},{"$error":"#REF!"},{"$f":"#REF!","v":{"$error":"#REF!"}},{"$f":"IF((E$194+'Depn & WACC Post 2004 Central'!E$194)=0,0,E186/(E$194+'Depn & WACC Post 2004 Central'!E$194)*G$194)","v":{"$error":"#REF!"}},{"$f":"IF(F186=0,0,G186/F186)","v":{"$error":"#REF!"}}]
[{"$f":"#REF!","v":{"$error":"#REF!"}},{"$f":"#REF!","v":{"$error":"#REF!"}},{"$f":"#REF!","v":{"$error":"#REF!"}},{"$f":"'DNSP Inputs O&M'!$F$470","v":1775.2617643000001},{"$error":"#REF!"},{"$f":"#REF!","v":{"$error":"#REF!"}},{"$f":"IF((E$194+'Depn & WACC Post 2004 Central'!E$194)=0,0,E187/(E$194+'Depn & WACC Post 2004 Central'!E$194)*G$194)","v":{"$error":"#REF!"}},{"$f":"IF(F187=0,0,G187/F187)","v":{"$error":"#REF!"}}]
[{"$f":"#REF!","v":{"$error":"#REF!"}},{"$f":"#REF!","v":{"$error":"#REF!"}},{"$f":"#REF!","v":{"$error":"#REF!"}},{"$f":"D181*B188","v":{"$error":"#REF!"}},{"$error":"#REF!"},{"$f":"#REF!","v":{"$error":"#REF!"}},{"$f":"IF((E$194+'Depn & WACC Post 2004 Central'!E$194)=0,0,E188/(E$194+'Depn & WACC Post 2004 Central'!E$194)*G$194)","v":{"$error":"#REF!"}},{"$error":"#REF!"}]
[{"$f":"#REF!","v":{"$error":"#REF!"}},{"$f":"#REF!","v":{"$error":"#REF!"}},{"$f":"#REF!","v":{"$error":"#REF!"}},{"$f":"D181*B189","v":{"$error":"#REF!"}},{"$error":"#REF!"},{"$f":"#REF!","v":{"$error":"#REF!"}},{"$f":"IF((E$194+'Depn & WACC Post 2004 Central'!E$194)=0,0,E189/(E$194+'Depn & WACC Post 2004 Central'!E$194)*G$194)","v":{"$error":"#REF!"}},{"$error":"#REF!"}]
[{"$f":"#REF!","v":{"$error":"#REF!"}},{"$f":"#REF!","v":{"$error":"#REF!"}},{"$f":"#REF!","v":{"$error":"#REF!"}},{"$f":"'DNSP Inputs O&M'!$F$517","v":402},{"$error":"#REF!"},{"$f":"#REF!","v":{"$error":"#REF!"}},{"$f":"IF((E$194+'Depn & WACC Post 2004 Central'!E$194)=0,0,E190/(E$194+'Depn & WACC Post 2004 Central'!E$194)*G$194)","v":{"$error":"#REF!"}},{"$f":"IF(F190=0,0,G190/F190)","v":{"$error":"#REF!"}}]
[{"$f":"#REF!","v":{"$error":"#REF!"}},{"$f":"#REF!","v":{"$error":"#REF!"}},{"$f":"#REF!","v":{"$error":"#REF!"}},{"$f":"'DNSP Inputs O&M'!$F$561","v":427},{"$error":"#REF!"},{"$f":"#REF!","v":{"$error":"#REF!"}},{"$f":"IF((E$194+'Depn & WACC Post 2004 Central'!E$194)=0,0,E191/(E$194+'Depn & WACC Post 2004 Central'!E$194)*G$194)","v":{"$error":"#REF!"}},{"$f":"IF(F191=0,0,G191/F191)","v":{"$error":"#REF!"}}]
[{"$f":"#REF!","v":{"$error":"#REF!"}},{"$f":"#REF!","v":{"$error":"#REF!"}},{"$f":"#REF!","v":{"$error":"#REF!"}},{"$f":"'DNSP Inputs O&M'!$F$605","v":650.88},{"$error":"#REF!"},{"$f":"#REF!","v":{"$error":"#REF!"}},{"$f":"IF((E$194+'Depn & WACC Post 2004 Central'!E$194)=0,0,E192/(E$194+'Depn & WACC Post 2004 Central'!E$194)*G$194)","v":{"$error":"#REF!"}},{"$f":"IF(F192=0,0,G192/F192)","v":{"$error":"#REF!"}}]
[]
[null,null,null,null,{"$f":"SUM(E181:E193)","v":{"$error":"#REF!"}},{"$f":"SUM(F181:F193)","v":{"$error":"#REF!"}},{"$f":"'Total RAB'!V$164","v":{"$error":"#REF!"}},{"$f":"SUMPRODUCT(F181:F193,H181:H193)","v":{"$error":"#REF!"}}]
[null,null,null,"Check",{"$f":"SUM(F195:I195)","v":{"$error":"#REF!"}},{"$f":"ABS(#REF!-F194)","v":{"$error":"#REF!"}},{"$f":"ABS(G194-SUM(G181:G193)-SUM('Depn & WACC Post 2004 Central'!G181:G193))","v":{"$error":"#REF!"}},{"$f":"ABS(H194+'Depn & WACC Post 2004 Central'!H194-G194)","v":{"$error":"#REF!"}}]
[]
[]
[null,null,{"$f":"'RAB 2001 to 2004 Central'!A$27","v":"Poles & Brackets"},{"$f":"D$86","v":"Weighted Average Volumes"},null,null,{"$f":"G$86","v":"Unitisation Poles & Brackets"}]
[null,null,"Total Poles & Brackets",{"$f":"#REF!*F152","v":{"$error":"#REF!"}},{"$f":"SUMPRODUCT(#REF!,#REF!)+SUMPRODUCT(#REF!,#REF!)","v":{"$error":"#REF!"}},{"$f":"IF(E199=0,0,D199/E199*G199)","v":{"$error":"#REF!"}},{"$f":"'Total RAB'!V$134-'Depn & WACC Post 2004 Central'!G$199","v":{"$error":"#REF!"}},{"$f":"F199/F152","v":{"$error":"#REF!"}}]
[]
[]
[]
[null,null,null,{"$f":"#REF!","v":{"$error":"#REF!"}}]
["DEPRECIATION AND RETURN",null,null,"Year",{"$f":"EOMONTH(E148,12)","v":"2030-06-30"}]
[]
[]
[{"$f":"#REF!","v":{"$error":"#REF!"}},{"$f":"#REF!","v":{"$error":"#REF!"}},{"$f":"#REF!","v":{"$error":"#REF!"}},{"$f":"D$39","v":"WACC and Dep"},null,{"$f":"F$39","v":"Volumes"},{"$f":"G$39","v":"Unitisation - Luminaires"},null,{"$f":"I$39","v":"RAB WDV"}]
[{"$f":"#REF!","v":{"$error":"#REF!"}},{"$f":"#REF!","v":{"$error":"#REF!"}},{"$f":"#REF!","v":{"$error":"#REF!"}},{"$f":"'DNSP Inputs Capex'!$G$21","v":237.46848582499996},{"$f":"F208*D208","v":{"$error":"#REF!"}},{"$f":"IF(#REF!=0,1/10^6,#REF!)","v":{"$error":"#REF!"}},{"$f":"IF((E$232+'Depn & WACC Post 2004 Central'!E$232)=0,0,E208/(E$232+'Depn & WACC Post 2004 Central'!E$232)*G$232)","v":{"$error":"#REF!"}},{"$f":"IF(F208=0,0,G208/F208)","v":{"$error":"#REF!"}},{"$f":"IF(F208=0,0,E208/(E$232+'Depn & WACC Post 2004 Central'!E$232)*I$232/F208)","v":{"$error":"#REF!"}}]
[{"$f":"#REF!","v":{"$error":"#REF!"}},{"$f":"#REF!","v":{"$error":"#REF!"}},{"$f":"#REF!","v":{"$error":"#REF!"}},{"$f":"'DNSP Inputs Capex'!$G$44","v":234.07},{"$error":"#REF!"},{"$f":"IF(#REF!=0,1/10^6,#REF!)","v":{"$error":"#REF!"}},{"$f":"IF((E$232+'Depn & WACC Post 2004 Central'!E$232)=0,0,E209/(E$232+'Depn & WACC Post 2004 Central'!E$232)*G$232)","v":{"$error":"#REF!"}},{"$f":"IF(F209=0,0,G209/F209)","v":{"$error":"#REF!"}},{"$f":"IF(F209=0,0,E209/(E$232+'Depn & WACC Post 2004 Central'!E$232)*I$232/F209)","v":{"$error":"#REF!"}}]
[{"$f":"#REF!","v":{"$error":"#REF!"}},{"$f":"#REF!","v":{"$error":"#REF!"}},{"$f":"#REF!","v":{"$error":"#REF!"}},{"$f":"'DNSP Inputs Capex'!$G$62","v":240.18},{"$error":"#REF!"},{"$f":"IF(#REF!=0,1/10^6,#REF!)","v":{"$error":"#REF!"}},{"$f":"IF((E$232+'Depn & WACC Post 2004 Central'!E$232)=0,0,E210/(E$232+'Depn & WACC Post 2004 Central'!E$232)*G$232)","v":{"$error":"#REF!"}},{"$f":"IF(F210=0,0,G210/F210)","v":{"$error":"#REF!"}},{"$f":"IF(F210=0,0,E210/(E$232+'Depn & WACC Post 2004 Central'!E$232)*I$232/F210)","v":{"$error":"#REF!"}}]
[{"$f":"#REF!","v":{"$error":"#REF!"}},{"$f":"#REF!","v":{"$error":"#REF!"}},{"$f":"#REF!","v":{"$error":"#REF!"}},{"$f":"B211*IF(A211=C208,D208,IF(A211=C209,D209,D210))","v":{"$error":"#REF!"}},{"$error":"#REF!"},{"$f":"#REF!","v":{"$error":"#REF!"}},{"$f":"IF((E$232+'Depn & WACC Post 2004 Central'!E$232)=0,0,E211/(E$232+'Depn & WACC Post 2004 Central'!E$232)*G$232)","v":{"$error":"#REF!"}},{"$f":"IF(F211=0,0,G211/F211)","v":{"$error":"#REF!"}},{"$f":"IF(F211=0,0,E211/(E$232+'Depn & WACC Post 2004 Central'!E$232)*I$232/F211)","v":{"$error":"#REF!"}}]
[{"$f":"#REF!","v":{"$error":"#REF!"}},{"$f":"#REF!","v":{"$error":"#REF!"}},{"$f":"#REF!","v":{"$error":"#REF!"}},{"$f":"B212*IF(A212=C208,D208,IF(A212=C209,D209,D210))","v":{"$error":"#REF!"}},{"$error":"#REF!"},{"$f":"#REF!","v":{"$error":"#REF!"}},{"$f":"IF((E$232+'Depn & WACC Post 2004 Central'!E$232)=0,0,E212/(E$232+'Depn & WACC Post 2004 Central'!E$232)*G$232)","v":{"$error":"#REF!"}},{"$f":"IF(F212=0,0,G212/F212)","v":{"$error":"#REF!"}},{"$f":"IF(F212=0,0,E212/(E$232+'Depn & WACC Post 2004 Central'!E$232)*I$232/F212)","v":{"$error":"#REF!"}}]
[{"$f":"#REF!","v":{"$error":"#REF!"}},{"$f":"#REF!","v":{"$error":"#REF!"}},{"$f":"#REF!","v":{"$error":"#REF!"}},{"$f":"B213*IF(A213=C208,D208,IF(A213=C209,D209,D210))","v":{"$error":"#REF!"}},{"$error":"#REF!"},{"$f":"#REF!","v":{"$error":"#REF!"}},{"$f":"IF((E$232+'Depn & WACC Post 2004 Central'!E$232)=0,0,E213/(E$232+'Depn & WACC Post 2004 Central'!E$232)*G$232)","v":{"$error":"#REF!"}},{"$error":"#REF!"},{"$f":"IF(F213=0,0,E213/(E$232+'Depn & WACC Post 2004 Central'!E$232)*I$232/F213)","v":{"$error":"#REF!"}}]
[{"$f":"#REF!","v":{"$error":"#REF!"}},{"$f":"#REF!","v":{"$error":"#REF!"}},{"$f":"#REF!","v":{"$error":"#REF!"}},{"$f":"B214*IF(A214=C208,D208,IF(A214=C209,D209,D210))","v":{"$error":"#REF!"}},{"$error":"#REF!"},{"$f":"#REF!","v":{"$error":"#REF!"}},{"$f":"IF((E$232+'Depn & WACC Post 2004 Central'!E$232)=0,0,E214/(E$232+'Depn & WACC Post 2004 Central'!E$232)*G$232)","v":{"$error":"#REF!"}},{"$error":"#REF!"},{"$f":"IF(F214=0,0,E214/(E$232+'Depn & WACC Post 2004 Central'!E$232)*I$232/F214)","v":{"$error":"#REF!"}}]
[{"$f":"#REF!","v":{"$error":"#REF!"}},{"$f":"#REF!","v":{"$error":"#REF!"}},{"$f":"#REF!","v":{"$error":"#REF!"}},{"$f":"B215*IF(A215=C208,D208,IF(A215=C209,D209,D210))","v":{"$error":"#REF!"}},{"$error":"#REF!"},{"$f":"#REF!","v":{"$error":"#REF!"}},{"$f":"IF((E$232+'Depn & WACC Post 2004 Central'!E$232)=0,0,E215/(E$232+'Depn & WACC Post 2004 Central'!E$232)*G$232)","v":{"$error":"#REF!"}},{"$error":"#REF!"},{"$f":"IF(F215=0,0,E215/(E$232+'Depn & WACC Post 2004 Central'!E$232)*I$232/F215)","v":{"$error":"#REF!"}}]
[{"$f":"#REF!","v":{"$error":"#REF!"}},{"$f":"#REF!","v":{"$error":"#REF!"}},{"$f":"#REF!","v":{"$error":"#REF!"}},{"$f":"B216*IF(A216=C208,D208,IF(A216=C209,D209,D210))","v":{"$error":"#REF!"}},{"$error":"#REF!"},{"$f":"#REF!","v":{"$error":"#REF!"}},{"$f":"IF((E$232+'Depn & WACC Post 2004 Central'!E$232)=0,0,E216/(E$232+'Depn & WACC Post 2004 Central'!E$232)*G$232)","v":{"$error":"#REF!"}},{"$error":"#REF!"},{"$f":"IF(F216=0,0,E216/(E$232+'Depn & WACC Post 2004 Central'!E$232)*I$232/F216)","v":{"$error":"#REF!"}}]
[{"$f":"#REF!","v":{"$error":"#REF!"}},{"$f":"#REF!","v":{"$error":"#REF!"}},{"$f":"#REF!","v":{"$error":"#REF!"}},{"$f":"B217*IF(A217=C208,D208,IF(A217=C209,D209,D210))","v":{"$error":"#REF!"}},{"$error":"#REF!"},{"$f":"#REF!","v":{"$error":"#REF!"}},{"$f":"IF((E$232+'Depn & WACC Post 2004 Central'!E$232)=0,0,E217/(E$232+'Depn & WACC Post 2004 Central'!E$232)*G$232)","v":{"$error":"#REF!"}},{"$error":"#REF!"},{"$f":"IF(F217=0,0,E217/(E$232+'Depn & WACC Post 2004 Central'!E$232)*I$232/F217)","v":{"$error":"#REF!"}}]
[{"$f":"#REF!","v":{"$error":"#REF!"}},{"$f":"#REF!","v":{"$error":"#REF!"}},{"$f":"#REF!","v":{"$error":"#REF!"}},{"$f":"B218*IF(A218=C208,D208,IF(A218=C209,D209,D210))","v":{"$error":"#REF!"}},{"$error":"#REF!"},{"$f":"#REF!","v":{"$error":"#REF!"}},{"$f":"IF((E$232+'Depn & WACC Post 2004 Central'!E$232)=0,0,E218/(E$232+'Depn & WACC Post 2004 Central'!E$232)*G$232)","v":{"$error":"#REF!"}},{"$error":"#REF!"},{"$f":"IF(F218=0,0,E218/(E$232+'Depn & WACC Post 2004 Central'!E$232)*I$232/F218)","v":{"$error":"#REF!"}}]
[{"$f":"#REF!","v":{"$error":"#REF!"}},{"$f":"#REF!","v":{"$error":"#REF!"}},{"$f":"#REF!","v":{"$error":"#REF!"}},{"$f":"B219*IF(A219=C208,D208,IF(A219=C209,D209,D210))","v":{"$error":"#REF!"}},{"$error":"#REF!"},{"$f":"#REF!","v":{"$error":"#REF!"}},{"$f":"IF((E$232+'Depn & WACC Post 2004 Central'!E$232)=0,0,E219/(E$232+'Depn & WACC Post 2004 Central'!E$232)*G$232)","v":{"$error":"#REF!"}},{"$error":"#REF!"},{"$f":"IF(F219=0,0,E219/(E$232+'Depn & WACC Post 2004 Central'!E$232)*I$232/F219)","v":{"$error":"#REF!"}}]
[{"$f":"#REF!","v":{"$error":"#REF!"}},{"$f":"#REF!","v":{"$error":"#REF!"}},{"$f":"#REF!","v":{"$error":"#REF!"}},{"$f":"B220*IF(A220=C208,D208,IF(A220=C209,D209,D210))","v":{"$error":"#REF!"}},{"$error":"#REF!"},{"$f":"#REF!","v":{"$error":"#REF!"}},{"$f":"IF((E$232+'Depn & WACC Post 2004 Central'!E$232)=0,0,E220/(E$232+'Depn & WACC Post 2004 Central'!E$232)*G$232)","v":{"$error":"#REF!"}},{"$error":"#REF!"},{"$f":"IF(F220=0,0,E220/(E$232+'Depn & WACC Post 2004 Central'!E$232)*I$232/F220)","v":{"$error":"#REF!"}}]
[]
[]
[]
[]
[]
[]
[]
[]
[]
[]
[]
[null,null,null,null,{"$f":"SUM(E208:E231)","v":{"$error":"#REF!"}},{"$f":"SUM(F208:F231)","v":{"$error":"#REF!"}},{"$f":"'Total RAB'!W$149","v":{"$error":"#REF!"}},{"$f":"SUMPRODUCT(F208:F231,H208:H231)","v":{"$error":"#REF!"}},{"$f":"'Total RAB'!W$143","v":{"$error":"#REF!"}}]
[null,null,null,"Check",{"$f":"SUM(F233:I233)","v":{"$error":"#REF!"}},{"$f":"ABS(#REF!-F232)","v":{"$error":"#REF!"}},{"$f":"ABS(G232-SUM(G208:G231)-SUM('Depn & WACC Post 2004 Central'!G208:G231))*IF(F232=0,0,1)","v":{"$error":"#REF!"}},{"$f":"ABS(H232+'Depn & WACC Post 2004 Central'!H232-G232)*IF(F232=0,0,1)","v":{"$error":"#REF!"}},{"$f":"ABS(I232-SUMPRODUCT(F208:F231,I208:I231)-SUMPRODUCT('Depn & WACC Post 2004 Central'!F208:F231,'Depn & WACC Post 2004 Central'!I208:I231))*IF(F232=0,0,1)","v":{"$error":"#REF!"}}]
[]
[]
[{"$f":"#REF!","v":{"$error":"#REF!"}},{"$f":"#REF!","v":{"$error":"#REF!"}},{"$f":"#REF!","v":{"$error":"#REF!"}},{"$f":"D$68","v":"Unit cost"},null,{"$f":"F$68","v":"Volumes"},{"$f":"G$68","v":"Unitisation - Luminaires & Ballasts"}]
[{"$f":"#REF!","v":{"$error":"#REF!"}},{"$f":"#REF!","v":{"$error":"#REF!"}},{"$f":"#REF!","v":{"$error":"#REF!"}},{"$f":"'DNSP Inputs O&M'!$G$189","v":260.27999999999997},{"$f":"F237*D237","v":{"$error":"#REF!"}},{"$f":"#REF!","v":{"$error":"#REF!"}},{"$f":"IF((E$250+'Depn & WACC Post 2004 Central'!E$250)=0,0,E237/(E$250+'Depn & WACC Post 2004 Central'!E$250)*G$250)","v":{"$error":"#REF!"}},{"$f":"IF(F237=0,0,G237/F237)","v":{"$error":"#REF!"}}]
[{"$f":"#REF!","v":{"$error":"#REF!"}},{"$f":"#REF!","v":{"$error":"#REF!"}},{"$f":"#REF!","v":{"$error":"#REF!"}},{"$f":"'DNSP Inputs O&M'!$G$238","v":267.33},{"$f":"F238*D238","v":{"$error":"#REF!"}},{"$f":"#REF!","v":{"$error":"#REF!"}},{"$f":"IF((E$250+'Depn & WACC Post 2004 Central'!E$250)=0,0,E238/(E$250+'Depn & WACC Post 2004 Central'!E$250)*G$250)","v":{"$error":"#REF!"}},{"$f":"IF(F238=0,0,G238/F238)","v":{"$error":"#REF!"}}]
[{"$f":"#REF!","v":{"$error":"#REF!"}},{"$f":"#REF!","v":{"$error":"#REF!"}},{"$f":"#REF!","v":{"$error":"#REF!"}},{"$f":"'DNSP Inputs O&M'!$G$286","v":602.8983467999999},{"$f":"F239*D239","v":{"$error":"#REF!"}},{"$f":"#REF!","v":{"$error":"#REF!"}},{"$f":"IF((E$250+'Depn & WACC Post 2004 Central'!E$250)=0,0,E239/(E$250+'Depn & WACC Post 2004 Central'!E$250)*G$250)","v":{"$error":"#REF!"}},{"$f":"IF(F239=0,0,G239/F239)","v":{"$error":"#REF!"}}]
[{"$f":"#REF!","v":{"$error":"#REF!"}},{"$f":"#REF!","v":{"$error":"#REF!"}},{"$f":"#REF!","v":{"$error":"#REF!"}},{"$f":"'DNSP Inputs O&M'!$G$332","v":205},{"$error":"#REF!"},{"$f":"#REF!","v":{"$error":"#REF!"}},{"$f":"IF((E$250+'Depn & WACC Post 2004 Central'!E$250)=0,0,E240/(E$250+'Depn & WACC Post 2004 Central'!E$250)*G$250)","v":{"$error":"#REF!"}},{"$f":"IF(F240=0,0,G240/F240)","v":{"$error":"#REF!"}}]
[{"$f":"#REF!","v":{"$error":"#REF!"}},{"$f":"#REF!","v":{"$error":"#REF!"}},{"$f":"#REF!","v":{"$error":"#REF!"}},{"$f":"'DNSP Inputs O&M'!$G$378","v":1221.3620396249999},{"$error":"#REF!"},{"$f":"#REF!","v":{"$error":"#REF!"}},{"$f":"IF((E$250+'Depn & WACC Post 2004 Central'!E$250)=0,0,E241/(E$250+'Depn & WACC Post 2004 Central'!E$250)*G$250)","v":{"$error":"#REF!"}},{"$f":"IF(F241=0,0,G241/F241)","v":{"$error":"#REF!"}}]
[{"$f":"#REF!","v":{"$error":"#REF!"}},{"$f":"#REF!","v":{"$error":"#REF!"}},{"$f":"#REF!","v":{"$error":"#REF!"}},{"$f":"'DNSP Inputs O&M'!$G$424","v":1270.4308997249998},{"$error":"#REF!"},{"$f":"#REF!","v":{"$error":"#REF!"}},{"$f":"IF((E$250+'Depn & WACC Post 2004 Central'!E$250)=0,0,E242/(E$250+'Depn & WACC Post 2004 Central'!E$250)*G$250)","v":{"$error":"#REF!"}},{"$f":"IF(F242=0,0,G242/F242)","v":{"$error":"#REF!"}}]
[{"$f":"#REF!","v":{"$error":"#REF!"}},{"$f":"#REF!","v":{"$error":"#REF!"}},{"$f":"#REF!","v":{"$error":"#REF!"}},{"$f":"'DNSP Inputs O&M'!$G$470","v":1775.2617643000001},{"$error":"#REF!"},{"$f":"#REF!","v":{"$error":"#REF!"}},{"$f":"IF((E$250+'Depn & WACC Post 2004 Central'!E$250)=0,0,E243/(E$250+'Depn & WACC Post 2004 Central'!E$250)*G$250)","v":{"$error":"#REF!"}},{"$f":"IF(F243=0,0,G243/F243)","v":{"$error":"#REF!"}}]
[{"$f":"#REF!","v":{"$error":"#REF!"}},{"$f":"#REF!","v":{"$error":"#REF!"}},{"$f":"#REF!","v":{"$error":"#REF!"}},{"$f":"D237*B244","v":{"$error":"#REF!"}},{"$error":"#REF!"},{"$f":"#REF!","v":{"$error":"#REF!"}},{"$f":"IF((E$250+'Depn & WACC Post 2004 Central'!E$250)=0,0,E244/(E$250+'Depn & WACC Post 2004 Central'!E$250)*G$250)","v":{"$error":"#REF!"}},{"$error":"#REF!"}]
[{"$f":"#REF!","v":{"$error":"#REF!"}},{"$f":"#REF!","v":{"$error":"#REF!"}},{"$f":"#REF!","v":{"$error":"#REF!"}},{"$f":"D237*B245","v":{"$error":"#REF!"}},{"$error":"#REF!"},{"$f":"#REF!","v":{"$error":"#REF!"}},{"$f":"IF((E$250+'Depn & WACC Post 2004 Central'!E$250)=0,0,E245/(E$250+'Depn & WACC Post 2004 Central'!E$250)*G$250)","v":{"$error":"#REF!"}},{"$error":"#REF!"}]
[{"$f":"#REF!","v":{"$error":"#REF!"}},{"$f":"#REF!","v":{"$error":"#REF!"}},{"$f":"#REF!","v":{"$error":"#REF!"}},{"$f":"'DNSP Inputs O&M'!$G$517","v":402},{"$error":"#REF!"},{"$f":"#REF!","v":{"$error":"#REF!"}},{"$f":"IF((E$250+'Depn & WACC Post 2004 Central'!E$250)=0,0,E246/(E$250+'Depn & WACC Post 2004 Central'!E$250)*G$250)","v":{"$error":"#REF!"}},{"$f":"IF(F246=0,0,G246/F246)","v":{"$error":"#REF!"}}]
[{"$f":"#REF!","v":{"$error":"#REF!"}},{"$f":"#REF!","v":{"$error":"#REF!"}},{"$f":"#REF!","v":{"$error":"#REF!"}},{"$f":"'DNSP Inputs O&M'!$G$561","v":427},{"$error":"#REF!"},{"$f":"#REF!","v":{"$error":"#REF!"}},{"$f":"IF((E$250+'Depn & WACC Post 2004 Central'!E$250)=0,0,E247/(E$250+'Depn & WACC Post 2004 Central'!E$250)*G$250)","v":{"$error":"#REF!"}},{"$f":"IF(F247=0,0,G247/F247)","v":{"$error":"#REF!"}}]
[{"$f":"#REF!","v":{"$error":"#REF!"}},{"$f":"#REF!","v":{"$error":"#REF!"}},{"$f":"#REF!","v":{"$error":"#REF!"}},{"$f":"'DNSP Inputs O&M'!$G$605","v":650.88},{"$error":"#REF!"},{"$f":"#REF!","v":{"$error":"#REF!"}},{"$f":"IF((E$250+'Depn & WACC Post 2004 Central'!E$250)=0,0,E248/(E$250+'Depn & WACC Post 2004 Central'!E$250)*G$250)","v":{"$error":"#REF!"}},{"$f":"IF(F248=0,0,G248/F248)","v":{"$error":"#REF!"}}]
[]
[null,null,null,null,{"$f":"SUM(E237:E249)","v":{"$error":"#REF!"}},{"$f":"SUM(F237:F249)","v":{"$error":"#REF!"}},{"$f":"'Total RAB'!W$164","v":{"$error":"#REF!"}},{"$f":"SUMPRODUCT(F237:F249,H237:H249)","v":{"$error":"#REF!"}}]
[null,null,null,"Check",{"$f":"SUM(F251:I251)","v":{"$error":"#REF!"}},{"$f":"ABS(#REF!-F250)","v":{"$error":"#REF!"}},{"$f":"ABS(G250-SUM(G237:G249)-SUM('Depn & WACC Post 2004 Central'!G237:G249))","v":{"$error":"#REF!"}},{"$f":"ABS(H250+'Depn & WACC Post 2004 Central'!H250-G250)","v":{"$error":"#REF!"}}]
[]
[]
[null,null,{"$f":"'RAB 2001 to 2004 Central'!A$27","v":"Poles & Brackets"},{"$f":"D$86","v":"Weighted Average Volumes"},null,null,{"$f":"G$86","v":"Unitisation Poles & Brackets"}]
[null,null,"Total Poles & Brackets",{"$f":"#REF!*F208","v":{"$error":"#REF!"}},{"$f":"SUMPRODUCT(#REF!,#REF!)+SUMPRODUCT(#REF!,#REF!)","v":{"$error":"#REF!"}},{"$f":"IF(E255=0,0,D255/E255*G255)","v":{"$error":"#REF!"}},{"$f":"'Total RAB'!W$134-'Depn & WACC Post 2004 Central'!G$255","v":{"$error":"#REF!"}},{"$f":"F255/F208","v":{"$error":"#REF!"}}]
[]
[]
[]
[null,null,null,{"$f":"#REF!","v":{"$error":"#REF!"}}]
["DEPRECIATION AND RETURN",null,null,"Year",{"$f":"EOMONTH(E204,12)","v":"2031-06-30"}]
[]
[]
[{"$f":"#REF!","v":{"$error":"#REF!"}},{"$f":"#REF!","v":{"$error":"#REF!"}},{"$f":"#REF!","v":{"$error":"#REF!"}},{"$f":"D$39","v":"WACC and Dep"},null,{"$f":"F$39","v":"Volumes"},{"$f":"G$39","v":"Unitisation - Luminaires"},null,{"$f":"I$39","v":"RAB WDV"}]
[{"$f":"#REF!","v":{"$error":"#REF!"}},{"$f":"#REF!","v":{"$error":"#REF!"}},{"$f":"#REF!","v":{"$error":"#REF!"}},{"$f":"'DNSP Inputs Capex'!$H$21","v":237.46848582499996},{"$f":"F264*D264","v":{"$error":"#REF!"}},{"$f":"IF(#REF!=0,1/10^6,#REF!)","v":{"$error":"#REF!"}},{"$f":"IF((E$288+'Depn & WACC Post 2004 Central'!E$288)=0,0,E264/(E$288+'Depn & WACC Post 2004 Central'!E$288)*G$288)","v":{"$error":"#REF!"}},{"$f":"IF(F264=0,0,G264/F264)","v":{"$error":"#REF!"}},{"$f":"IF(F264=0,0,E264/(E$288+'Depn & WACC Post 2004 Central'!E$288)*I$288/F264)","v":{"$error":"#REF!"}}]
[{"$f":"#REF!","v":{"$error":"#REF!"}},{"$f":"#REF!","v":{"$error":"#REF!"}},{"$f":"#REF!","v":{"$error":"#REF!"}},{"$f":"'DNSP Inputs Capex'!$H$44","v":234.07},{"$error":"#REF!"},{"$f":"IF(#REF!=0,1/10^6,#REF!)","v":{"$error":"#REF!"}},{"$f":"IF((E$288+'Depn & WACC Post 2004 Central'!E$288)=0,0,E265/(E$288+'Depn & WACC Post 2004 Central'!E$288)*G$288)","v":{"$error":"#REF!"}},{"$f":"IF(F265=0,0,G265/F265)","v":{"$error":"#REF!"}},{"$f":"IF(F265=0,0,E265/(E$288+'Depn & WACC Post 2004 Central'!E$288)*I$288/F265)","v":{"$error":"#REF!"}}]
[{"$f":"#REF!","v":{"$error":"#REF!"}},{"$f":"#REF!","v":{"$error":"#REF!"}},{"$f":"#REF!","v":{"$error":"#REF!"}},{"$f":"'DNSP Inputs Capex'!$H$62","v":240.18},{"$error":"#REF!"},{"$f":"IF(#REF!=0,1/10^6,#REF!)","v":{"$error":"#REF!"}},{"$f":"IF((E$288+'Depn & WACC Post 2004 Central'!E$288)=0,0,E266/(E$288+'Depn & WACC Post 2004 Central'!E$288)*G$288)","v":{"$error":"#REF!"}},{"$f":"IF(F266=0,0,G266/F266)","v":{"$error":"#REF!"}},{"$f":"IF(F266=0,0,E266/(E$288+'Depn & WACC Post 2004 Central'!E$288)*I$288/F266)","v":{"$error":"#REF!"}}]
[{"$f":"#REF!","v":{"$error":"#REF!"}},{"$f":"#REF!","v":{"$error":"#REF!"}},{"$f":"#REF!","v":{"$error":"#REF!"}},{"$f":"B267*IF(A267=C264,D264,IF(A267=C265,D265,D266))","v":{"$error":"#REF!"}},{"$error":"#REF!"},{"$f":"#REF!","v":{"$error":"#REF!"}},{"$f":"IF((E$288+'Depn & WACC Post 2004 Central'!E$288)=0,0,E267/(E$288+'Depn & WACC Post 2004 Central'!E$288)*G$288)","v":{"$error":"#REF!"}},{"$f":"IF(F267=0,0,G267/F267)","v":{"$error":"#REF!"}},{"$f":"IF(F267=0,0,E267/(E$288+'Depn & WACC Post 2004 Central'!E$288)*I$288/F267)","v":{"$error":"#REF!"}}]
[{"$f":"#REF!","v":{"$error":"#REF!"}},{"$f":"#REF!","v":{"$error":"#REF!"}},{"$f":"#REF!","v":{"$error":"#REF!"}},{"$f":"B268*IF(A268=C264,D264,IF(A268=C265,D265,D266))","v":{"$error":"#REF!"}},{"$error":"#REF!"},{"$f":"#REF!","v":{"$error":"#REF!"}},{"$f":"IF((E$288+'Depn & WACC Post 2004 Central'!E$288)=0,0,E268/(E$288+'Depn & WACC Post 2004 Central'!E$288)*G$288)","v":{"$error":"#REF!"}},{"$f":"IF(F268=0,0,G268/F268)","v":{"$error":"#REF!"}},{"$f":"IF(F268=0,0,E268/(E$288+'Depn & WACC Post 2004 Central'!E$288)*I$288/F268)","v":{"$error":"#REF!"}}]
[{"$f":"#REF!","v":{"$error":"#REF!"}},{"$f":"#REF!","v":{"$error":"#REF!"}},{"$f":"#REF!","v":{"$error":"#REF!"}},{"$f":"B269*IF(A269=C264,D264,IF(A269=C265,D265,D266))","v":{"$error":"#REF!"}},{"$error":"#REF!"},{"$f":"#REF!","v":{"$error":"#REF!"}},{"$f":"IF((E$288+'Depn & WACC Post 2004 Central'!E$288)=0,0,E269/(E$288+'Depn & WACC Post 2004 Central'!E$288)*G$288)","v":{"$error":"#REF!"}},{"$error":"#REF!"},{"$f":"IF(F269=0,0,E269/(E$288+'Depn & WACC Post 2004 Central'!E$288)*I$288/F269)","v":{"$error":"#REF!"}}]
[{"$f":"#REF!","v":{"$error":"#REF!"}},{"$f":"#REF!","v":{"$error":"#REF!"}},{"$f":"#REF!","v":{"$error":"#REF!"}},{"$f":"B270*IF(A270=C264,D264,IF(A270=C265,D265,D266))","v":{"$error":"#REF!"}},{"$error":"#REF!"},{"$f":"#REF!","v":{"$error":"#REF!"}},{"$f":"IF((E$288+'Depn & WACC Post 2004 Central'!E$288)=0,0,E270/(E$288+'Depn & WACC Post 2004 Central'!E$288)*G$288)","v":{"$error":"#REF!"}},{"$error":"#REF!"},{"$f":"IF(F270=0,0,E270/(E$288+'Depn & WACC Post 2004 Central'!E$288)*I$288/F270)","v":{"$error":"#REF!"}}]
[{"$f":"#REF!","v":{"$error":"#REF!"}},{"$f":"#REF!","v":{"$error":"#REF!"}},{"$f":"#REF!","v":{"$error":"#REF!"}},{"$f":"B271*IF(A271=C264,D264,IF(A271=C265,D265,D266))","v":{"$error":"#REF!"}},{"$error":"#REF!"},{"$f":"#REF!","v":{"$error":"#REF!"}},{"$f":"IF((E$288+'Depn & WACC Post 2004 Central'!E$288)=0,0,E271/(E$288+'Depn & WACC Post 2004 Central'!E$288)*G$288)","v":{"$error":"#REF!"}},{"$error":"#REF!"},{"$f":"IF(F271=0,0,E271/(E$288+'Depn & WACC Post 2004 Central'!E$288)*I$288/F271)","v":{"$error":"#REF!"}}]
[{"$f":"#REF!","v":{"$error":"#REF!"}},{"$f":"#REF!","v":{"$error":"#REF!"}},{"$f":"#REF!","v":{"$error":"#REF!"}},{"$f":"B272*IF(A272=C264,D264,IF(A272=C265,D265,D266))","v":{"$error":"#REF!"}},{"$error":"#REF!"},{"$f":"#REF!","v":{"$error":"#REF!"}},{"$f":"IF((E$288+'Depn & WACC Post 2004 Central'!E$288)=0,0,E272/(E$288+'Depn & WACC Post 2004 Central'!E$288)*G$288)","v":{"$error":"#REF!"}},{"$error":"#REF!"},{"$f":"IF(F272=0,0,E272/(E$288+'Depn & WACC Post 2004 Central'!E$288)*I$288/F272)","v":{"$error":"#REF!"}}]
[{"$f":"#REF!","v":{"$error":"#REF!"}},{"$f":"#REF!","v":{"$error":"#REF!"}},{"$f":"#REF!","v":{"$error":"#REF!"}},{"$f":"B273*IF(A273=C264,D264,IF(A273=C265,D265,D266))","v":{"$error":"#REF!"}},{"$error":"#REF!"},{"$f":"#REF!","v":{"$error":"#REF!"}},{"$f":"IF((E$288+'Depn & WACC Post 2004 Central'!E$288)=0,0,E273/(E$288+'Depn & WACC Post 2004 Central'!E$288)*G$288)","v":{"$error":"#REF!"}},{"$error":"#REF!"},{"$f":"IF(F273=0,0,E273/(E$288+'Depn & WACC Post 2004 Central'!E$288)*I$288/F273)","v":{"$error":"#REF!"}}]
[{"$f":"#REF!","v":{"$error":"#REF!"}},{"$f":"#REF!","v":{"$error":"#REF!"}},{"$f":"#REF!","v":{"$error":"#REF!"}},{"$f":"B274*IF(A274=C264,D264,IF(A274=C265,D265,D266))","v":{"$error":"#REF!"}},{"$error":"#REF!"},{"$f":"#REF!","v":{"$error":"#REF!"}},{"$f":"IF((E$288+'Depn & WACC Post 2004 Central'!E$288)=0,0,E274/(E$288+'Depn & WACC Post 2004 Central'!E$288)*G$288)","v":{"$error":"#REF!"}},{"$error":"#REF!"},{"$f":"IF(F274=0,0,E274/(E$288+'Depn & WACC Post 2004 Central'!E$288)*I$288/F274)","v":{"$error":"#REF!"}}]
[{"$f":"#REF!","v":{"$error":"#REF!"}},{"$f":"#REF!","v":{"$error":"#REF!"}},{"$f":"#REF!","v":{"$error":"#REF!"}},{"$f":"B275*IF(A275=C264,D264,IF(A275=C265,D265,D266))","v":{"$error":"#REF!"}},{"$error":"#REF!"},{"$f":"#REF!","v":{"$error":"#REF!"}},{"$f":"IF((E$288+'Depn & WACC Post 2004 Central'!E$288)=0,0,E275/(E$288+'Depn & WACC Post 2004 Central'!E$288)*G$288)","v":{"$error":"#REF!"}},{"$error":"#REF!"},{"$f":"IF(F275=0,0,E275/(E$288+'Depn & WACC Post 2004 Central'!E$288)*I$288/F275)","v":{"$error":"#REF!"}}]
[{"$f":"#REF!","v":{"$error":"#REF!"}},{"$f":"#REF!","v":{"$error":"#REF!"}},{"$f":"#REF!","v":{"$error":"#REF!"}},{"$f":"B276*IF(A276=C264,D264,IF(A276=C265,D265,D266))","v":{"$error":"#REF!"}},{"$error":"#REF!"},{"$f":"#REF!","v":{"$error":"#REF!"}},{"$f":"IF((E$288+'Depn & WACC Post 2004 Central'!E$288)=0,0,E276/(E$288+'Depn & WACC Post 2004 Central'!E$288)*G$288)","v":{"$error":"#REF!"}},{"$error":"#REF!"},{"$f":"IF(F276=0,0,E276/(E$288+'Depn & WACC Post 2004 Central'!E$288)*I$288/F276)","v":{"$error":"#REF!"}}]
[]
[]
[]
[]
[]
[]
[]
[]
[]
[]
[]
[null,null,null,null,{"$f":"SUM(E264:E287)","v":{"$error":"#REF!"}},{"$f":"SUM(F264:F287)","v":{"$error":"#REF!"}},{"$f":"'Total RAB'!X$149","v":{"$error":"#REF!"}},{"$f":"SUMPRODUCT(F264:F287,H264:H287)","v":{"$error":"#REF!"}},{"$f":"'Total RAB'!X$143","v":{"$error":"#REF!"}}]
[null,null,null,"Check",{"$f":"SUM(F289:I289)","v":{"$error":"#REF!"}},{"$f":"ABS(#REF!-F288)","v":{"$error":"#REF!"}},{"$f":"ABS(G288-SUM(G264:G287)-SUM('Depn & WACC Post 2004 Central'!G264:G287))*IF(F288=0,0,1)","v":{"$error":"#REF!"}},{"$f":"ABS(H288+'Depn & WACC Post 2004 Central'!H288-G288)*IF(F288=0,0,1)","v":{"$error":"#REF!"}},{"$f":"ABS(I288-SUMPRODUCT(F264:F287,I264:I287)-SUMPRODUCT('Depn & WACC Post 2004 Central'!F264:F287,'Depn & WACC Post 2004 Central'!I264:I287))*IF(F288=0,0,1)","v":{"$error":"#REF!"}}]
[]
[]
[{"$f":"#REF!","v":{"$error":"#REF!"}},{"$f":"#REF!","v":{"$error":"#REF!"}},{"$f":"#REF!","v":{"$error":"#REF!"}},{"$f":"D$68","v":"Unit cost"},null,{"$f":"F$68","v":"Volumes"},{"$f":"G$68","v":"Unitisation - Luminaires & Ballasts"}]
[{"$f":"#REF!","v":{"$error":"#REF!"}},{"$f":"#REF!","v":{"$error":"#REF!"}},{"$f":"#REF!","v":{"$error":"#REF!"}},{"$f":"'DNSP Inputs O&M'!$H$189","v":260.27999999999997},{"$f":"F293*D293","v":{"$error":"#REF!"}},{"$f":"#REF!","v":{"$error":"#REF!"}},{"$f":"IF((E$306+'Depn & WACC Post 2004 Central'!E$306)=0,0,E293/(E$306+'Depn & WACC Post 2004 Central'!E$306)*G$306)","v":{"$error":"#REF!"}},{"$f":"IF(F293=0,0,G293/F293)","v":{"$error":"#REF!"}}]
[{"$f":"#REF!","v":{"$error":"#REF!"}},{"$f":"#REF!","v":{"$error":"#REF!"}},{"$f":"#REF!","v":{"$error":"#REF!"}},{"$f":"'DNSP Inputs O&M'!$H$238","v":267.33},{"$f":"F294*D294","v":{"$error":"#REF!"}},{"$f":"#REF!","v":{"$error":"#REF!"}},{"$f":"IF((E$306+'Depn & WACC Post 2004 Central'!E$306)=0,0,E294/(E$306+'Depn & WACC Post 2004 Central'!E$306)*G$306)","v":{"$error":"#REF!"}},{"$f":"IF(F294=0,0,G294/F294)","v":{"$error":"#REF!"}}]
[{"$f":"#REF!","v":{"$error":"#REF!"}},{"$f":"#REF!","v":{"$error":"#REF!"}},{"$f":"#REF!","v":{"$error":"#REF!"}},{"$f":"'DNSP Inputs O&M'!$H$286","v":602.8983467999999},{"$f":"F295*D295","v":{"$error":"#REF!"}},{"$f":"#REF!","v":{"$error":"#REF!"}},{"$f":"IF((E$306+'Depn & WACC Post 2004 Central'!E$306)=0,0,E295/(E$306+'Depn & WACC Post 2004 Central'!E$306)*G$306)","v":{"$error":"#REF!"}},{"$f":"IF(F295=0,0,G295/F295)","v":{"$error":"#REF!"}}]
[{"$f":"#REF!","v":{"$error":"#REF!"}},{"$f":"#REF!","v":{"$error":"#REF!"}},{"$f":"#REF!","v":{"$error":"#REF!"}},{"$f":"'DNSP Inputs O&M'!$H$332","v":205},{"$error":"#REF!"},{"$f":"#REF!","v":{"$error":"#REF!"}},{"$f":"IF((E$306+'Depn & WACC Post 2004 Central'!E$306)=0,0,E296/(E$306+'Depn & WACC Post 2004 Central'!E$306)*G$306)","v":{"$error":"#REF!"}},{"$f":"IF(F296=0,0,G296/F296)","v":{"$error":"#REF!"}}]
[{"$f":"#REF!","v":{"$error":"#REF!"}},{"$f":"#REF!","v":{"$error":"#REF!"}},{"$f":"#REF!","v":{"$error":"#REF!"}},{"$f":"'DNSP Inputs O&M'!$H$378","v":1221.3620396249999},{"$error":"#REF!"},{"$f":"#REF!","v":{"$error":"#REF!"}},{"$f":"IF((E$306+'Depn & WACC Post 2004 Central'!E$306)=0,0,E297/(E$306+'Depn & WACC Post 2004 Central'!E$306)*G$306)","v":{"$error":"#REF!"}},{"$f":"IF(F297=0,0,G297/F297)","v":{"$error":"#REF!"}}]
[{"$f":"#REF!","v":{"$error":"#REF!"}},{"$f":"#REF!","v":{"$error":"#REF!"}},{"$f":"#REF!","v":{"$error":"#REF!"}},{"$f":"'DNSP Inputs O&M'!$H$424","v":1270.4308997249998},{"$error":"#REF!"},{"$f":"#REF!","v":{"$error":"#REF!"}},{"$f":"IF((E$306+'Depn & WACC Post 2004 Central'!E$306)=0,0,E298/(E$306+'Depn & WACC Post 2004 Central'!E$306)*G$306)","v":{"$error":"#REF!"}},{"$f":"IF(F298=0,0,G298/F298)","v":{"$error":"#REF!"}}]
[{"$f":"#REF!","v":{"$error":"#REF!"}},{"$f":"#REF!","v":{"$error":"#REF!"}},{"$f":"#REF!","v":{"$error":"#REF!"}},{"$f":"'DNSP Inputs O&M'!$H$470","v":1775.2617643000001},{"$error":"#REF!"},{"$f":"#REF!","v":{"$error":"#REF!"}},{"$f":"IF((E$306+'Depn & WACC Post 2004 Central'!E$306)=0,0,E299/(E$306+'Depn & WACC Post 2004 Central'!E$306)*G$306)","v":{"$error":"#REF!"}},{"$f":"IF(F299=0,0,G299/F299)","v":{"$error":"#REF!"}}]
[{"$f":"#REF!","v":{"$error":"#REF!"}},{"$f":"#REF!","v":{"$error":"#REF!"}},{"$f":"#REF!","v":{"$error":"#REF!"}},{"$f":"D293*B300","v":{"$error":"#REF!"}},{"$error":"#REF!"},{"$f":"#REF!","v":{"$error":"#REF!"}},{"$f":"IF((E$306+'Depn & WACC Post 2004 Central'!E$306)=0,0,E300/(E$306+'Depn & WACC Post 2004 Central'!E$306)*G$306)","v":{"$error":"#REF!"}},{"$error":"#REF!"}]
[{"$f":"#REF!","v":{"$error":"#REF!"}},{"$f":"#REF!","v":{"$error":"#REF!"}},{"$f":"#REF!","v":{"$error":"#REF!"}},{"$f":"D293*B301","v":{"$error":"#REF!"}},{"$error":"#REF!"},{"$f":"#REF!","v":{"$error":"#REF!"}},{"$f":"IF((E$306+'Depn & WACC Post 2004 Central'!E$306)=0,0,E301/(E$306+'Depn & WACC Post 2004 Central'!E$306)*G$306)","v":{"$error":"#REF!"}},{"$error":"#REF!"}]
[{"$f":"#REF!","v":{"$error":"#REF!"}},{"$f":"#REF!","v":{"$error":"#REF!"}},{"$f":"#REF!","v":{"$error":"#REF!"}},{"$f":"'DNSP Inputs O&M'!$H$517","v":402},{"$error":"#REF!"},{"$f":"#REF!","v":{"$error":"#REF!"}},{"$f":"IF((E$306+'Depn & WACC Post 2004 Central'!E$306)=0,0,E302/(E$306+'Depn & WACC Post 2004 Central'!E$306)*G$306)","v":{"$error":"#REF!"}},{"$f":"IF(F302=0,0,G302/F302)","v":{"$error":"#REF!"}}]
[{"$f":"#REF!","v":{"$error":"#REF!"}},{"$f":"#REF!","v":{"$error":"#REF!"}},{"$f":"#REF!","v":{"$error":"#REF!"}},{"$f":"'DNSP Inputs O&M'!$H$561","v":427},{"$error":"#REF!"},{"$f":"#REF!","v":{"$error":"#REF!"}},{"$f":"IF((E$306+'Depn & WACC Post 2004 Central'!E$306)=0,0,E303/(E$306+'Depn & WACC Post 2004 Central'!E$306)*G$306)","v":{"$error":"#REF!"}},{"$f":"IF(F303=0,0,G303/F303)","v":{"$error":"#REF!"}}]
[{"$f":"#REF!","v":{"$error":"#REF!"}},{"$f":"#REF!","v":{"$error":"#REF!"}},{"$f":"#REF!","v":{"$error":"#REF!"}},{"$f":"'DNSP Inputs O&M'!$H$605","v":650.88},{"$error":"#REF!"},{"$f":"#REF!","v":{"$error":"#REF!"}},{"$f":"IF((E$306+'Depn & WACC Post 2004 Central'!E$306)=0,0,E304/(E$306+'Depn & WACC Post 2004 Central'!E$306)*G$306)","v":{"$error":"#REF!"}},{"$f":"IF(F304=0,0,G304/F304)","v":{"$error":"#REF!"}}]
[]
[null,null,null,null,{"$f":"SUM(E293:E305)","v":{"$error":"#REF!"}},{"$f":"SUM(F293:F305)","v":{"$error":"#REF!"}},{"$f":"'Total RAB'!X$164","v":{"$error":"#REF!"}},{"$f":"SUMPRODUCT(F293:F305,H293:H305)","v":{"$error":"#REF!"}}]
[null,null,null,"Check",{"$f":"SUM(F307:I307)","v":{"$error":"#REF!"}},{"$f":"ABS(#REF!-F306)","v":{"$error":"#REF!"}},{"$f":"ABS(G306-SUM(G293:G305)-SUM('Depn & WACC Post 2004 Central'!G293:G305))","v":{"$error":"#REF!"}},{"$f":"ABS(H306+'Depn & WACC Post 2004 Central'!H306-G306)","v":{"$error":"#REF!"}}]
[]
[]
[null,null,{"$f":"'RAB 2001 to 2004 Central'!A$27","v":"Poles & Brackets"},{"$f":"D$86","v":"Weighted Average Volumes"},null,null,{"$f":"G$86","v":"Unitisation Poles & Brackets"}]
[null,null,"Total Poles & Brackets",{"$f":"#REF!*F264","v":{"$error":"#REF!"}},{"$f":"SUMPRODUCT(#REF!,#REF!)+SUMPRODUCT(#REF!,#REF!)","v":{"$error":"#REF!"}},{"$f":"IF(E311=0,0,D311/E311*G311)","v":{"$error":"#REF!"}},{"$f":"'Total RAB'!X$134-'Depn & WACC Post 2004 Central'!G$311","v":{"$error":"#REF!"}},{"$f":"F311/F264","v":{"$error":"#REF!"}}]

{"sheet":"Total RAB","index":18,"n_rows":183,"n_cols":29,"rows_kept":183,"cut":false,"hidden":true,"merged":[]}
[{"$f":"'DNSP Inputs O&M'!$A$3","v":"AusNet"},null,null,null,"Check",{"$f":"SUM(B177)","v":{"$error":"#REF!"}}]
[]
["Total Public Lighting RAB"]
["Historical cost ($)"]
[null,null,null,null,null,null,null,null,null,null,null,null,null,null,null,null,null,null,null,null,null,"Forecast","Forecast","Forecast"]
[null,"Life (years)",2005,2006,2007,2008,2009,2010,2011,2012,2013,2014,2015,2016,2017,2018,2019,2020,{"$f":"#REF!","v":{"$error":"#REF!"}},{"$f":"#REF!","v":{"$error":"#REF!"}},{"$f":"#REF!","v":{"$error":"#REF!"}},{"$f":"#REF!","v":{"$error":"#REF!"}},{"$f":"#REF!","v":{"$error":"#REF!"}},{"$f":"#REF!","v":{"$error":"#REF!"}},{"$f":"#REF!","v":{"$error":"#REF!"}},{"$f":"#REF!","v":{"$error":"#REF!"}},{"$f":"#REF!","v":{"$error":"#REF!"}},{"$f":"#REF!","v":{"$error":"#REF!"}},{"$f":"#REF!","v":{"$error":"#REF!"}}]
[]
["Capital Expenditure (Nominal $)"]
["(Net of customer contributions)"]
[]
["Poles and Brackets",{"$f":"'DNSP Inputs O&M'!$C$160","v":35},382620.48073362443,679083.51279141498,342454.50012480229,822296.52427371382,{"$f":"#REF!","v":{"$error":"#REF!"}},{"$f":"#REF!","v":{"$error":"#REF!"}},{"$f":"#REF!","v":{"$error":"#REF!"}},{"$f":"#REF!","v":{"$error":"#REF!"}},{"$f":"#REF!","v":{"$error":"#REF!"}},{"$f":"#REF!","v":{"$error":"#REF!"}},{"$f":"#REF!","v":{"$error":"#REF!"}},{"$f":"#REF!","v":{"$error":"#REF!"}},{"$f":"#REF!","v":{"$error":"#REF!"}},{"$f":"#REF!","v":{"$error":"#REF!"}},{"$f":"#REF!","v":{"$error":"#REF!"}},{"$f":"#REF!","v":{"$error":"#REF!"}},{"$f":"#REF!","v":{"$error":"#REF!"}},{"$f":"#REF!*T$20","v":{"$error":"#REF!"}},{"$f":"#REF!*U$20","v":{"$error":"#REF!"}},{"$f":"#REF!*V$20","v":{"$error":"#REF!"}},{"$f":"#REF!*W$20","v":{"$error":"#REF!"}},{"$f":"#REF!*X$20","v":{"$error":"#REF!"}},{"$f":"#REF!*Y$20","v":{"$error":"#REF!"}},{"$f":"#REF!*Z$20","v":{"$error":"#REF!"}},{"$f":"#REF!*AA$20","v":{"$error":"#REF!"}},{"$f":"#REF!*AB$20","v":{"$error":"#REF!"}},{"$f":"#REF!*AC$20","v":{"$error":"#REF!"}}]
[]
["Existing Lights"]
["Luminaires",{"$f":"'DNSP Inputs O&M'!$C$24","v":20},181379.51926637554,321916.48720858502,162405.4206197157,389965.41978608596,{"$f":"#REF!","v":{"$error":"#REF!"}},{"$f":"#REF!","v":{"$error":"#REF!"}},{"$f":"#REF!","v":{"$error":"#REF!"}},{"$f":"#REF!","v":{"$error":"#REF!"}},{"$f":"#REF!","v":{"$error":"#REF!"}},{"$f":"#REF!","v":{"$error":"#REF!"}},{"$f":"#REF!","v":{"$error":"#REF!"}},{"$f":"#REF!","v":{"$error":"#REF!"}},{"$f":"#REF!","v":{"$error":"#REF!"}},{"$f":"#REF!","v":{"$error":"#REF!"}},{"$f":"#REF!","v":{"$error":"#REF!"}},{"$f":"#REF!","v":{"$error":"#REF!"}},{"$f":"#REF!","v":{"$error":"#REF!"}},{"$f":"#REF!*T$20","v":{"$error":"#REF!"}},{"$f":"#REF!*U$20","v":{"$error":"#REF!"}},{"$f":"#REF!*V$20","v":{"$error":"#REF!"}},{"$f":"#REF!*W$20","v":{"$error":"#REF!"}},{"$f":"#REF!*X$20","v":{"$error":"#REF!"}},{"$f":"#REF!*Y$20","v":{"$error":"#REF!"}},{"$f":"#REF!*Z$20","v":{"$error":"#REF!"}},{"$f":"#REF!*AA$20","v":{"$error":"#REF!"}},{"$f":"#REF!*AB$20","v":{"$error":"#REF!"}},{"$f":"#REF!*AC$20","v":{"$error":"#REF!"}}]
[]
["Energy Efficient Lights"]
["Luminaires and Ballasts",{"$f":"'DNSP Inputs O&M'!$C$182","v":20},null,null,null,null,{"$f":"#REF!","v":{"$error":"#REF!"}},{"$f":"#REF!","v":{"$error":"#REF!"}},{"$f":"#REF!","v":{"$error":"#REF!"}},{"$f":"#REF!","v":{"$error":"#REF!"}},{"$f":"#REF!","v":{"$error":"#REF!"}},{"$f":"#REF!","v":{"$error":"#REF!"}},{"$f":"#REF!","v":{"$error":"#REF!"}},{"$f":"#REF!","v":{"$error":"#REF!"}},{"$f":"#REF!","v":{"$error":"#REF!"}},{"$f":"#REF!","v":{"$error":"#REF!"}},{"$f":"#REF!","v":{"$error":"#REF!"}},{"$f":"#REF!","v":{"$error":"#REF!"}},{"$f":"#REF!","v":{"$error":"#REF!"}},{"$f":"#REF!*T$20","v":{"$error":"#REF!"}},{"$f":"#REF!*U$20","v":{"$error":"#REF!"}},{"$f":"#REF!*V$20","v":{"$error":"#REF!"}},{"$f":"#REF!*W$20","v":{"$error":"#REF!"}},{"$f":"#REF!*X$20","v":{"$error":"#REF!"}},{"$f":"#REF!*Y$20","v":{"$error":"#REF!"}},{"$f":"#REF!*Z$20","v":{"$error":"#REF!"}},{"$f":"#REF!*AA$20","v":{"$error":"#REF!"}},{"$f":"#REF!*AB$20","v":{"$error":"#REF!"}},{"$f":"#REF!*AC$20","v":{"$error":"#REF!"}}]
[]
[]
["CPI Index",null,null,null,null,null,null,null,null,null,null,null,null,null,null,null,null,null,1,{"$f":"S20*(1+WACC!E$6)","v":{"$error":"#REF!"}},{"$f":"T20*(1+WACC!F$6)","v":{"$error":"#REF!"}},{"$f":"U20*(1+WACC!G$6)","v":{"$error":"#REF!"}},{"$f":"V20*(1+WACC!H$6)","v":{"$error":"#REF!"}},{"$f":"W20*(1+WACC!I$6)","v":{"$error":"#REF!"}},{"$f":"X20*(1+WACC!J$6)","v":{"$error":"#REF!"}},{"$f":"Y20*(1+WACC!K$6)","v":{"$error":"#REF!"}},{"$f":"Z20*(1+WACC!L$6)","v":{"$error":"#REF!"}},{"$f":"AA20*(1+WACC!M$6)","v":{"$error":"#REF!"}},{"$f":"AB20*(1+WACC!N$6)","v":{"$error":"#REF!"}}]
[]
["Year counter",null,0.5,{"$f":"C22+1","v":1.5},{"$f":"D22+1","v":2.5},3.5,4.5,5.5,6.5,7.5,8.5,9.5,10.5,11.5,12.5,13.5,14.5,15.5,{"$f":"R22+0.5","v":16},17,18,19,20,21,{"$f":"X22+1","v":22},{"$f":"Y22+1","v":23},{"$f":"Z22+1","v":24},{"$f":"AA22+1","v":25},{"$f":"AB22+1","v":26}]
["Depreciation",null,{"$f":"$C$6","v":2005},{"$f":"$D$6","v":2006},{"$f":"$E$6","v":2007},{"$f":"$F$6","v":2008},{"$f":"G$6","v":2009},{"$f":"H$6","v":2010},2011,2012,2013,2014,2015,2016,2017,2018,2019,2020,{"$error":"#REF!"},{"$error":"#REF!"},{"$error":"#REF!"},{"$error":"#REF!"},{"$error":"#REF!"},{"$error":"#REF!"},{"$error":"#REF!"},{"$error":"#REF!"},{"$error":"#REF!"},{"$error":"#REF!"},{"$error":"#REF!"}]
[{"$f":"$A$11","v":"Poles and Brackets"}]
["RAB 2001-04",null,{"$f":"SUM('RAB 2001 to 2004 Central'!F114,'RAB 2001 to 2004 N & E'!F114)","v":{"$error":"#REF!"}},{"$f":"SUM('RAB 2001 to 2004 Central'!G114,'RAB 2001 to 2004 N & E'!G114)","v":{"$error":"#REF!"}},{"$f":"SUM('RAB 2001 to 2004 Central'!H114,'RAB 2001 to 2004 N & E'!H114)","v":{"$error":"#REF!"}},{"$f":"SUM('RAB 2001 to 2004 Central'!I114,'RAB 2001 to 2004 N & E'!I114)","v":{"$error":"#REF!"}},{"$f":"SUM('RAB 2001 to 2004 Central'!J114,'RAB 2001 to 2004 N & E'!J114)","v":{"$error":"#REF!"}},{"$f":"SUM('RAB 2001 to 2004 Central'!K114,'RAB 2001 to 2004 N & E'!K114)","v":{"$error":"#REF!"}},{"$f":"SUM('RAB 2001 to 2004 Central'!L114,'RAB 2001 to 2004 N & E'!L114)","v":{"$error":"#REF!"}},{"$f":"SUM('RAB 2001 to 2004 Central'!M114,'RAB 2001 to 2004 N & E'!M114)","v":{"$error":"#REF!"}},{"$f":"SUM('RAB 2001 to 2004 Central'!N114,'RAB 2001 to 2004 N & E'!N114)","v":{"$error":"#REF!"}},{"$f":"SUM('RAB 2001 to 2004 Central'!O114,'RAB 2001 to 2004 N & E'!O114)","v":{"$error":"#REF!"}},{"$f":"SUM('RAB 2001 to 2004 Central'!P114,'RAB 2001 to 2004 N & E'!P114)","v":{"$error":"#REF!"}},{"$f":"SUM('RAB 2001 to 2004 Central'!Q114,'RAB 2001 to 2004 N & E'!Q114)","v":{"$error":"#REF!"}},{"$f":"SUM('RAB 2001 to 2004 Central'!R114,'RAB 2001 to 2004 N & E'!R114)","v":{"$error":"#REF!"}},{"$f":"SUM('RAB 2001 to 2004 Central'!S114,'RAB 2001 to 2004 N & E'!S114)","v":{"$error":"#REF!"}},{"$f":"SUM('RAB 2001 to 2004 Central'!T114,'RAB 2001 to 2004 N & E'!T114)","v":{"$error":"#REF!"}},{"$f":"SUM('RAB 2001 to 2004 Central'!U114,'RAB 2001 to 2004 N & E'!U114)","v":{"$error":"#REF!"}},{"$f":"SUM('RAB 2001 to 2004 Central'!V114,'RAB 2001 to 2004 N & E'!V114)","v":{"$error":"#REF!"}},{"$f":"SUM('RAB 2001 to 2004 Central'!W114,'RAB 2001 to 2004 N & E'!W114)","v":{"$error":"#REF!"}},{"$f":"SUM('RAB 2001 to 2004 Central'!X114,'RAB 2001 to 2004 N & E'!X114)","v":{"$error":"#REF!"}},{"$f":"SUM('RAB 2001 to 2004 Central'!Y114,'RAB 2001 to 2004 N & E'!Y114)","v":{"$error":"#REF!"}},{"$f":"SUM('RAB 2001 to 2004 Central'!Z114,'RAB 2001 to 2004 N & E'!Z114)","v":{"$error":"#REF!"}},{"$f":"SUM('RAB 2001 to 2004 Central'!AA114,'RAB 2001 to 2004 N & E'!AA114)","v":{"$error":"#REF!"}},{"$f":"SUM('RAB 2001 to 2004 Central'!AB114,'RAB 2001 to 2004 N & E'!AB114)","v":{"$error":"#REF!"}},{"$f":"SUM('RAB 2001 to 2004 Central'!AC114,'RAB 2001 to 2004 N & E'!AC114)","v":{"$error":"#REF!"}},{"$f":"SUM('RAB 2001 to 2004 Central'!AD114,'RAB 2001 to 2004 N & E'!AD114)","v":{"$error":"#REF!"}},{"$f":"SUM('RAB 2001 to 2004 Central'!AE114,'RAB 2001 to 2004 N & E'!AE114)","v":{"$error":"#REF!"}},{"$f":"SUM('RAB 2001 to 2004 Central'!AF114,'RAB 2001 to 2004 N & E'!AF114)","v":{"$error":"#REF!"}}]
["Depn Capex 2005",null,{"$f":"C$11/$B$11/2","v":5466.0068676232058},{"$f":"C26*2","v":10932.013735246412},{"$f":"D26","v":10932.013735246412},10932.013735246412,10932.013735246412,10932.013735246412,10932.013735246412,10932.013735246412,10932.013735246412,10932.013735246412,{"$f":"L26","v":10932.013735246412},{"$f":"M26","v":10932.013735246412},{"$f":"N26","v":10932.013735246412},{"$f":"O26","v":10932.013735246412},{"$f":"P26","v":10932.013735246412},{"$f":"Q26","v":10932.013735246412},{"$f":"R26*0.5","v":5466.0068676232058},{"$f":"S26*2","v":10932.013735246412},{"$f":"T26","v":10932.013735246412},{"$f":"U26","v":10932.013735246412},{"$f":"V26","v":10932.013735246412},{"$f":"W26","v":10932.013735246412},{"$f":"X26","v":10932.013735246412},{"$f":"Y26","v":10932.013735246412},{"$f":"Z26","v":10932.013735246412},{"$f":"AA26","v":10932.013735246412},{"$f":"AB26","v":10932.013735246412}]
["Depn Capex 2006",null,null,{"$f":"D$11/$B$11/2","v":9701.1930398773566},{"$f":"D27*2","v":19402.386079754713},{"$f":"E27","v":19402.386079754713},19402.386079754713,19402.386079754713,19402.386079754713,19402.386079754713,19402.386079754713,19402.386079754713,19402.386079754713,19402.386079754713,19402.386079754713,19402.386079754713,19402.386079754713,19402.386079754713,{"$f":"R27*0.5","v":9701.1930398773566},{"$f":"S27*2","v":19402.386079754713},19402.386079754713,19402.386079754713,19402.386079754713,19402.386079754713,19402.386079754713,19402.386079754713,19402.386079754713,19402.386079754713,19402.386079754713]
["Depn Capex 2007",null,null,null,{"$f":"E$11/$B$11/2","v":4892.2071446400323},{"$f":"E28*2","v":9784.4142892800646},{"$f":"F28","v":9784.4142892800646},9784.4142892800646,9784.4142892800646,9784.4142892800646,9784.4142892800646,9784.4142892800646,9784.4142892800646,9784.4142892800646,9784.4142892800646,9784.4142892800646,9784.4142892800646,9784.4142892800646,4892.2071446400323,9784.4142892800646,9784.4142892800646,9784.4142892800646,9784.4142892800646,9784.4142892800646,9784.4142892800646,9784.4142892800646,9784.4142892800646,9784.4142892800646,9784.4142892800646]
["Depn Capex 2008",null,null,null,null,{"$f":"F$11/$B$11/2","v":11747.093203910197},{"$f":"F29*2","v":23494.186407820394},{"$f":"G29","v":23494.186407820394},{"$f":"H29","v":23494.186407820394},{"$f":"I29","v":23494.186407820394},{"$f":"J29","v":23494.186407820394},{"$f":"K29","v":23494.186407820394},23494.186407820394,23494.186407820394,23494.186407820394,23494.186407820394,23494.186407820394,23494.186407820394,11747.093203910197,23494.186407820394,23494.186407820394,23494.186407820394,23494.186407820394,23494.186407820394,23494.186407820394,23494.186407820394,23494.186407820394,23494.186407820394,23494.186407820394]
["Depn Capex 2009",null,null,null,null,null,{"$f":"G$11/$B$11/2","v":{"$error":"#REF!"}},{"$f":"G30*2","v":{"$error":"#REF!"}},{"$f":"H30","v":{"$error":"#REF!"}},{"$f":"I30","v":{"$error":"#REF!"}},{"$f":"J30","v":{"$error":"#REF!"}},{"$f":"K30","v":{"$error":"#REF!"}},{"$error":"#REF!"},{"$error":"#REF!"},{"$error":"#REF!"},{"$error":"#REF!"},{"$error":"#REF!"},{"$error":"#REF!"},{"$error":"#REF!"},{"$error":"#REF!"},{"$error":"#REF!"},{"$error":"#REF!"},{"$error":"#REF!"},{"$error":"#REF!"},{"$error":"#REF!"},{"$error":"#REF!"},{"$error":"#REF!"},{"$error":"#REF!"},{"$error":"#REF!"}]
["Depn Capex 2010",null,null,null,null,null,null,{"$f":"H$11/$B$11/2","v":{"$error":"#REF!"}},{"$f":"H31*2","v":{"$error":"#REF!"}},{"$f":"I31","v":{"$error":"#REF!"}},{"$f":"J31","v":{"$error":"#REF!"}},{"$f":"K31","v":{"$error":"#REF!"}},{"$error":"#REF!"},{"$error":"#REF!"},{"$error":"#REF!"},{"$error":"#REF!"},{"$error":"#REF!"},{"$error":"#REF!"},{"$error":"#REF!"},{"$error":"#REF!"},{"$error":"#REF!"},{"$error":"#REF!"},{"$error":"#REF!"},{"$error":"#REF!"},{"$error":"#REF!"},{"$error":"#REF!"},{"$error":"#REF!"},{"$error":"#REF!"},{"$error":"#REF!"}]
["Depn Capex 2011",null,null,null,null,null,null,null,{"$f":"I$11/$B$11/2","v":{"$error":"#REF!"}},{"$f":"I32*2","v":{"$error":"#REF!"}},{"$f":"J32","v":{"$error":"#REF!"}},{"$f":"K32","v":{"$error":"#REF!"}},{"$error":"#REF!"},{"$error":"#REF!"},{"$error":"#REF!"},{"$error":"#REF!"},{"$error":"#REF!"},{"$error":"#REF!"},{"$error":"#REF!"},{"$error":"#REF!"},{"$error":"#REF!"},{"$error":"#REF!"},{"$error":"#REF!"},{"$error":"#REF!"},{"$error":"#REF!"},{"$error":"#REF!"},{"$error":"#REF!"},{"$error":"#REF!"},{"$error":"#REF!"}]
["Depn Capex 2012",null,null,null,null,null,null,null,null,{"$f":"J$11/$B$11/2","v":{"$error":"#REF!"}},{"$f":"J33*2","v":{"$error":"#REF!"}},{"$f":"K33","v":{"$error":"#REF!"}},{"$f":"L33","v":{"$error":"#REF!"}},{"$error":"#REF!"},{"$error":"#REF!"},{"$error":"#REF!"},{"$error":"#REF!"},{"$error":"#REF!"},{"$error":"#REF!"},{"$error":"#REF!"},{"$f":"T33","v":{"$error":"#REF!"}},{"$error":"#REF!"},{"$error":"#REF!"},{"$error":"#REF!"},{"$error":"#REF!"},{"$error":"#REF!"},{"$error":"#REF!"},{"$error":"#REF!"},{"$error":"#REF!"}]
["Depn Capex 2013",null,null,null,null,null,null,null,null,null,{"$f":"K$11/$B$11/2","v":{"$error":"#REF!"}},{"$f":"K34*2","v":{"$error":"#REF!"}},{"$error":"#REF!"},{"$error":"#REF!"},{"$error":"#REF!"},{"$error":"#REF!"},{"$error":"#REF!"},{"$error":"#REF!"},{"$error":"#REF!"},{"$error":"#REF!"},{"$error":"#REF!"},{"$error":"#REF!"},{"$error":"#REF!"},{"$error":"#REF!"},{"$error":"#REF!"},{"$error":"#REF!"},{"$error":"#REF!"},{"$error":"#REF!"},{"$error":"#REF!"}]
["Depn Capex 2014",null,null,null,null,null,null,null,null,null,null,{"$f":"L$11/$B$11/2","v":{"$error":"#REF!"}},{"$f":"L35*2","v":{"$error":"#REF!"}},{"$error":"#REF!"},{"$error":"#REF!"},{"$error":"#REF!"},{"$error":"#REF!"},{"$error":"#REF!"},{"$error":"#REF!"},{"$error":"#REF!"},{"$error":"#REF!"},{"$error":"#REF!"},{"$error":"#REF!"},{"$error":"#REF!"},{"$error":"#REF!"},{"$error":"#REF!"},{"$error":"#REF!"},{"$error":"#REF!"},{"$error":"#REF!"}]
["Depn Capex 2015",null,null,null,null,null,null,null,null,null,null,null,{"$f":"M$11/$B$11/2","v":{"$error":"#REF!"}},{"$f":"M36*2","v":{"$error":"#REF!"}},{"$error":"#REF!"},{"$error":"#REF!"},{"$error":"#REF!"},{"$error":"#REF!"},{"$error":"#REF!"},{"$error":"#REF!"},{"$error":"#REF!"},{"$error":"#REF!"},{"$error":"#REF!"},{"$error":"#REF!"},{"$error":"#REF!"},{"$error":"#REF!"},{"$error":"#REF!"},{"$error":"#REF!"},{"$error":"#REF!"}]
["Depn Capex 2016",null,null,null,null,null,null,null,null,null,null,null,null,{"$f":"N$11/$B$11/2","v":{"$error":"#REF!"}},{"$f":"N37*2","v":{"$error":"#REF!"}},{"$error":"#REF!"},{"$error":"#REF!"},{"$error":"#REF!"},{"$error":"#REF!"},{"$error":"#REF!"},{"$error":"#REF!"},{"$error":"#REF!"},{"$error":"#REF!"},{"$error":"#REF!"},{"$error":"#REF!"},{"$error":"#REF!"},{"$error":"#REF!"},{"$error":"#REF!"},{"$error":"#REF!"}]
["Depn Capex 2017",null,null,null,null,null,null,null,null,null,null,null,null,null,{"$f":"O$11/$B$11/2","v":{"$error":"#REF!"}},{"$f":"O38*2","v":{"$error":"#REF!"}},{"$error":"#REF!"},{"$error":"#REF!"},{"$error":"#REF!"},{"$error":"#REF!"},{"$error":"#REF!"},{"$error":"#REF!"},{"$error":"#REF!"},{"$error":"#REF!"},{"$error":"#REF!"},{"$error":"#REF!"},{"$error":"#REF!"},{"$error":"#REF!"},{"$error":"#REF!"}]
["Depn Capex 2018",null,null,null,null,null,null,null,null,null,null,null,null,null,null,{"$f":"P$11/$B$11/2","v":{"$error":"#REF!"}},{"$f":"P39*2","v":{"$error":"#REF!"}},{"$error":"#REF!"},{"$error":"#REF!"},{"$error":"#REF!"},{"$error":"#REF!"},{"$error":"#REF!"},{"$error":"#REF!"},{"$error":"#REF!"},{"$error":"#REF!"},{"$error":"#REF!"},{"$error":"#REF!"},{"$error":"#REF!"},{"$error":"#REF!"}]
["Depn Capex 2019",null,null,null,null,null,null,null,null,null,null,null,null,null,null,null,{"$f":"Q$11/$B$11/2","v":{"$error":"#REF!"}},{"$f":"Q40*2","v":{"$error":"#REF!"}},{"$error":"#REF!"},{"$error":"#REF!"},{"$error":"#REF!"},{"$error":"#REF!"},{"$error":"#REF!"},{"$error":"#REF!"},{"$error":"#REF!"},{"$error":"#REF!"},{"$error":"#REF!"},{"$error":"#REF!"},{"$error":"#REF!"}]
["Depn Capex 2020",null,null,null,null,null,null,null,null,null,null,null,null,null,null,null,null,{"$f":"R$11/$B$11/2","v":{"$error":"#REF!"}},{"$f":"R41*2*0.5","v":{"$error":"#REF!"}},{"$error":"#REF!"},{"$error":"#REF!"},{"$error":"#REF!"},{"$error":"#REF!"},{"$error":"#REF!"},{"$error":"#REF!"},{"$error":"#REF!"},{"$error":"#REF!"},{"$error":"#REF!"},{"$error":"#REF!"}]
["Depn Capex HY2021",null,null,null,null,null,null,null,null,null,null,null,null,null,null,null,null,null,{"$f":"S$11/$B$11/2","v":{"$error":"#REF!"}},{"$f":"S42*2","v":{"$error":"#REF!"}},{"$f":"T42","v":{"$error":"#REF!"}},{"$error":"#REF!"},{"$error":"#REF!"},{"$error":"#REF!"},{"$error":"#REF!"},{"$error":"#REF!"},{"$error":"#REF!"},{"$error":"#REF!"},{"$error":"#REF!"}]
["Depn Capex 2021-22",null,null,null,null,null,null,null,null,null,null,null,null,null,null,null,null,null,null,{"$f":"T$11/$B$11/2","v":{"$error":"#REF!"}},{"$f":"T43*2","v":{"$error":"#REF!"}},{"$error":"#REF!"},{"$f":"V43","v":{"$error":"#REF!"}},{"$f":"W43","v":{"$error":"#REF!"}},{"$error":"#REF!"},{"$error":"#REF!"},{"$error":"#REF!"},{"$error":"#REF!"},{"$error":"#REF!"}]
["Depn Capex 2022-23",null,null,null,null,null,null,null,null,null,null,null,null,null,null,null,null,null,null,null,{"$f":"U$11/$B$11/2","v":{"$error":"#REF!"}},{"$f":"U44*2","v":{"$error":"#REF!"}},{"$f":"V44","v":{"$error":"#REF!"}},{"$f":"W44","v":{"$error":"#REF!"}},{"$error":"#REF!"},{"$error":"#REF!"},{"$error":"#REF!"},{"$error":"#REF!"},{"$error":"#REF!"}]
["Depn Capex 2023-24",null,null,null,null,null,null,null,null,null,null,null,null,null,null,null,null,null,null,null,null,{"$f":"V$11/$B$11/2","v":{"$error":"#REF!"}},{"$f":"V45*2","v":{"$error":"#REF!"}},{"$f":"W45","v":{"$error":"#REF!"}},{"$error":"#REF!"},{"$error":"#REF!"},{"$error":"#REF!"},{"$error":"#REF!"},{"$error":"#REF!"}]
["Depn Capex 2024-25",null,null,null,null,null,null,null,null,null,null,null,null,null,null,null,null,null,null,null,null,null,{"$f":"W$11/$B$11/2","v":{"$error":"#REF!"}},{"$f":"W46*2","v":{"$error":"#REF!"}},{"$error":"#REF!"},{"$error":"#REF!"},{"$error":"#REF!"},{"$error":"#REF!"},{"$error":"#REF!"}]
["Depn Capex 2025-26",null,null,null,null,null,null,null,null,null,null,null,null,null,null,null,null,null,null,null,null,null,null,{"$f":"X$11/$B$11/2","v":{"$error":"#REF!"}},{"$error":"#REF!"},{"$error":"#REF!"},{"$error":"#REF!"},{"$error":"#REF!"},{"$error":"#REF!"}]
["Depn Capex 2026-27"]
["Depn Capex 2027-28"]
["Depn Capex 2028-29"]
["Depn Capex 2029-30"]
["Depn Capex 2030-31"]
["Total Depreciation",null,{"$f":"SUM(C25:C41)","v":{"$error":"#REF!"}},{"$f":"SUM(D25:D41)","v":{"$error":"#REF!"}},{"$f":"SUM(E25:E47)","v":{"$error":"#REF!"}},{"$error":"#REF!"},{"$error":"#REF!"},{"$error":"#REF!"},{"$error":"#REF!"},{"$error":"#REF!"},{"$error":"#REF!"},{"$error":"#REF!"},{"$error":"#REF!"},{"$f":"SUM(N25:N52)","v":{"$error":"#REF!"}},{"$f":"SUM(O25:O52)","v":{"$error":"#REF!"}},{"$error":"#REF!"},{"$error":"#REF!"},{"$error":"#REF!"},{"$error":"#REF!"},{"$error":"#REF!"},{"$error":"#REF!"},{"$error":"#REF!"},{"$error":"#REF!"},{"$error":"#REF!"},{"$error":"#REF!"},{"$error":"#REF!"},{"$error":"#REF!"},{"$error":"#REF!"},{"$error":"#REF!"}]
[]
[{"$f":"$A$13","v":"Existing Lights"}]
[{"$f":"$A$14","v":"Luminaires"}]
[{"$f":"A25","v":"RAB 2001-04"},null,{"$f":"SUM('RAB 2001 to 2004 Central'!F77,'RAB 2001 to 2004 N & E'!F77)","v":{"$error":"#REF!"}},{"$f":"SUM('RAB 2001 to 2004 Central'!G77,'RAB 2001 to 2004 N & E'!G77)","v":{"$error":"#REF!"}},{"$f":"SUM('RAB 2001 to 2004 Central'!H77,'RAB 2001 to 2004 N & E'!H77)","v":{"$error":"#REF!"}},{"$f":"SUM('RAB 2001 to 2004 Central'!I77,'RAB 2001 to 2004 N & E'!I77)","v":{"$error":"#REF!"}},{"$f":"SUM('RAB 2001 to 2004 Central'!J77,'RAB 2001 to 2004 N & E'!J77)","v":{"$error":"#REF!"}},{"$f":"SUM('RAB 2001 to 2004 Central'!K77,'RAB 2001 to 2004 N & E'!K77)","v":{"$error":"#REF!"}},{"$f":"SUM('RAB 2001 to 2004 Central'!L77,'RAB 2001 to 2004 N & E'!L77)","v":{"$error":"#REF!"}},{"$f":"SUM('RAB 2001 to 2004 Central'!M77,'RAB 2001 to 2004 N & E'!M77)","v":{"$error":"#REF!"}},{"$f":"SUM('RAB 2001 to 2004 Central'!N77,'RAB 2001 to 2004 N & E'!N77)","v":{"$error":"#REF!"}},{"$f":"SUM('RAB 2001 to 2004 Central'!O77,'RAB 2001 to 2004 N & E'!O77)","v":{"$error":"#REF!"}},{"$f":"SUM('RAB 2001 to 2004 Central'!P77,'RAB 2001 to 2004 N & E'!P77)","v":{"$error":"#REF!"}},{"$f":"SUM('RAB 2001 to 2004 Central'!Q77,'RAB 2001 to 2004 N & E'!Q77)","v":{"$error":"#REF!"}},{"$f":"SUM('RAB 2001 to 2004 Central'!R77,'RAB 2001 to 2004 N & E'!R77)","v":{"$error":"#REF!"}},{"$f":"SUM('RAB 2001 to 2004 Central'!S77,'RAB 2001 to 2004 N & E'!S77)","v":{"$error":"#REF!"}},{"$f":"SUM('RAB 2001 to 2004 Central'!T77,'RAB 2001 to 2004 N & E'!T77)","v":{"$error":"#REF!"}},{"$f":"SUM('RAB 2001 to 2004 Central'!U77,'RAB 2001 to 2004 N & E'!U77)","v":{"$error":"#REF!"}},{"$f":"SUM('RAB 2001 to 2004 Central'!V77,'RAB 2001 to 2004 N & E'!V77)","v":{"$error":"#REF!"}},{"$f":"SUM('RAB 2001 to 2004 Central'!W77,'RAB 2001 to 2004 N & E'!W77)","v":{"$error":"#REF!"}},{"$f":"SUM('RAB 2001 to 2004 Central'!X77,'RAB 2001 to 2004 N & E'!X77)","v":{"$error":"#REF!"}},{"$f":"SUM('RAB 2001 to 2004 Central'!Y77,'RAB 2001 to 2004 N & E'!Y77)","v":{"$error":"#REF!"}},{"$f":"SUM('RAB 2001 to 2004 Central'!Z77,'RAB 2001 to 2004 N & E'!Z77)","v":{"$error":"#REF!"}},{"$f":"SUM('RAB 2001 to 2004 Central'!AA77,'RAB 2001 to 2004 N & E'!AA77)","v":{"$error":"#REF!"}},{"$f":"SUM('RAB 2001 to 2004 Central'!AB77,'RAB 2001 to 2004 N & E'!AB77)","v":{"$error":"#REF!"}},{"$f":"SUM('RAB 2001 to 2004 Central'!AC77,'RAB 2001 to 2004 N & E'!AC77)","v":{"$error":"#REF!"}},{"$f":"SUM('RAB 2001 to 2004 Central'!AD77,'RAB 2001 to 2004 N & E'!AD77)","v":{"$error":"#REF!"}},{"$f":"SUM('RAB 2001 to 2004 Central'!AE77,'RAB 2001 to 2004 N & E'!AE77)","v":{"$error":"#REF!"}},{"$f":"SUM('RAB 2001 to 2004 Central'!AF77,'RAB 2001 to 2004 N & E'!AF77)","v":{"$error":"#REF!"}}]
[{"$f":"A26","v":"Depn Capex 2005"},null,{"$f":"C$14/$B$14/2","v":4534.4879816593884},{"$f":"C58*2","v":9068.9759633187768},{"$f":"D58","v":9068.9759633187768},9068.9759633187768,9068.9759633187768,9068.9759633187768,9068.9759633187768,9068.9759633187768,9068.9759633187768,9068.9759633187768,{"$f":"L58","v":9068.9759633187768},{"$f":"M58","v":9068.9759633187768},{"$f":"N58","v":9068.9759633187768},{"$f":"O58","v":9068.9759633187768},{"$f":"P58","v":9068.9759633187768},{"$f":"Q58","v":9068.9759633187768},{"$f":"R58*0.5","v":4534.4879816593884},{"$f":"S58*2","v":9068.9759633187768},{"$f":"T58","v":9068.9759633187768},{"$f":"U58","v":9068.9759633187768},{"$f":"V58","v":9068.9759633187768},0,1,2,3,4,5]
["Depn Capex 2006",null,null,{"$f":"D$14/$B$14/2","v":8047.9121802146256},{"$f":"D59*2","v":16095.824360429251},{"$f":"E59","v":16095.824360429251},16095.824360429251,16095.824360429251,16095.824360429251,16095.824360429251,16095.824360429251,16095.824360429251,16095.824360429251,16095.824360429251,16095.824360429251,16095.824360429251,16095.824360429251,16095.824360429251,{"$f":"R59*0.5","v":8047.9121802146256},{"$f":"S59*2","v":16095.824360429251},16095.824360429251,16095.824360429251,16095.824360429251,{"$f":"W59","v":16095.824360429251},{"$f":"X59","v":16095.824360429251},{"$f":"Y59","v":16095.824360429251},{"$f":"Z59","v":16095.824360429251},{"$f":"AA59","v":16095.824360429251},{"$f":"AB59","v":16095.824360429251}]
["Depn Capex 2007",null,null,null,{"$f":"E$14/$B$14/2","v":4060.1355154928924},{"$f":"E60*2","v":8120.2710309857848},{"$f":"F60","v":8120.2710309857848},8120.2710309857848,8120.2710309857848,8120.2710309857848,8120.2710309857848,8120.2710309857848,8120.2710309857848,8120.2710309857848,8120.2710309857848,8120.2710309857848,8120.2710309857848,8120.2710309857848,4060.1355154928924,8120.2710309857848,8120.2710309857848,8120.2710309857848,8120.2710309857848,8120.2710309857848,8120.2710309857848,8120.2710309857848,8120.2710309857848,8120.2710309857848,8120.2710309857848]
["Depn Capex 2008",null,null,null,null,{"$f":"F$14/$B$14/2","v":9749.1354946521496},{"$f":"F61*2","v":19498.270989304299},{"$f":"G61","v":19498.270989304299},{"$f":"H61","v":19498.270989304299},{"$f":"I61","v":19498.270989304299},{"$f":"J61","v":19498.270989304299},{"$f":"K61","v":19498.270989304299},19498.270989304299,19498.270989304299,19498.270989304299,19498.270989304299,19498.270989304299,19498.270989304299,9749.1354946521496,19498.270989304299,19498.270989304299,19498.270989304299,19498.270989304299,19498.270989304299,19498.270989304299,19498.270989304299,19498.270989304299,19498.270989304299,19498.270989304299]
["Depn Capex 2009",null,null,null,null,null,{"$f":"G$14/$B$14/2","v":{"$error":"#REF!"}},{"$f":"G62*2","v":{"$error":"#REF!"}},{"$f":"H62","v":{"$error":"#REF!"}},{"$f":"I62","v":{"$error":"#REF!"}},{"$f":"J62","v":{"$error":"#REF!"}},{"$f":"K62","v":{"$error":"#REF!"}},{"$error":"#REF!"},{"$error":"#REF!"},{"$error":"#REF!"},{"$error":"#REF!"},{"$error":"#REF!"},{"$error":"#REF!"},{"$error":"#REF!"},{"$error":"#REF!"},{"$error":"#REF!"},{"$error":"#REF!"},{"$error":"#REF!"},{"$error":"#REF!"},{"$error":"#REF!"},{"$error":"#REF!"},{"$error":"#REF!"},{"$error":"#REF!"},{"$error":"#REF!"}]
["Depn Capex 2010",null,null,null,null,null,null,{"$f":"H$14/$B$14/2","v":{"$error":"#REF!"}},{"$f":"H63*2","v":{"$error":"#REF!"}},{"$f":"I63","v":{"$error":"#REF!"}},{"$f":"J63","v":{"$error":"#REF!"}},{"$f":"K63","v":{"$error":"#REF!"}},{"$error":"#REF!"},{"$error":"#REF!"},{"$error":"#REF!"},{"$error":"#REF!"},{"$error":"#REF!"},{"$error":"#REF!"},{"$error":"#REF!"},{"$error":"#REF!"},{"$error":"#REF!"},{"$error":"#REF!"},{"$error":"#REF!"},{"$error":"#REF!"},{"$error":"#REF!"},{"$error":"#REF!"},{"$error":"#REF!"},{"$error":"#REF!"},{"$error":"#REF!"}]
["Depn Capex 2011",null,null,null,null,null,null,null,{"$f":"I$14/$B$14/2","v":{"$error":"#REF!"}},{"$f":"I64*2","v":{"$error":"#REF!"}},{"$f":"J64","v":{"$error":"#REF!"}},{"$f":"K64","v":{"$error":"#REF!"}},{"$error":"#REF!"},{"$error":"#REF!"},{"$error":"#REF!"},{"$error":"#REF!"},{"$error":"#REF!"},{"$error":"#REF!"},{"$error":"#REF!"},{"$error":"#REF!"},{"$error":"#REF!"},{"$error":"#REF!"},{"$error":"#REF!"},{"$error":"#REF!"},{"$error":"#REF!"},{"$error":"#REF!"},{"$error":"#REF!"},{"$error":"#REF!"},{"$error":"#REF!"}]
["Depn Capex 2012",null,null,null,null,null,null,null,null,{"$f":"J$14/$B$14/2","v":{"$error":"#REF!"}},{"$f":"J65*2","v":{"$error":"#REF!"}},{"$f":"K65","v":{"$error":"#REF!"}},{"$error":"#REF!"},{"$error":"#REF!"},{"$error":"#REF!"},{"$error":"#REF!"},{"$error":"#REF!"},{"$error":"#REF!"},{"$error":"#REF!"},{"$error":"#REF!"},{"$error":"#REF!"},{"$error":"#REF!"},{"$error":"#REF!"},{"$error":"#REF!"},{"$error":"#REF!"},{"$error":"#REF!"},{"$error":"#REF!"},{"$error":"#REF!"},{"$error":"#REF!"}]
["Depn Capex 2013",null,null,null,null,null,null,null,null,null,{"$f":"K$14/$B$14/2","v":{"$error":"#REF!"}},{"$f":"K66*2","v":{"$error":"#REF!"}},{"$error":"#REF!"},{"$error":"#REF!"},{"$error":"#REF!"},{"$error":"#REF!"},{"$error":"#REF!"},{"$error":"#REF!"},{"$error":"#REF!"},{"$error":"#REF!"},{"$error":"#REF!"},{"$error":"#REF!"},{"$error":"#REF!"},{"$error":"#REF!"},{"$error":"#REF!"},{"$error":"#REF!"},{"$error":"#REF!"},{"$error":"#REF!"},{"$error":"#REF!"}]
["Depn Capex 2014",null,null,null,null,null,null,null,null,null,null,{"$f":"L$14/$B$14/2","v":{"$error":"#REF!"}},{"$f":"L67*2","v":{"$error":"#REF!"}},{"$f":"M67","v":{"$error":"#REF!"}},{"$f":"N67","v":{"$error":"#REF!"}},{"$f":"O67","v":{"$error":"#REF!"}},{"$f":"P67","v":{"$error":"#REF!"}},{"$f":"Q67","v":{"$error":"#REF!"}},{"$error":"#REF!"},{"$error":"#REF!"},{"$f":"T67","v":{"$error":"#REF!"}},{"$error":"#REF!"},{"$error":"#REF!"},{"$error":"#REF!"},{"$error":"#REF!"},{"$error":"#REF!"},{"$error":"#REF!"},{"$error":"#REF!"},{"$error":"#REF!"}]
["Depn Capex 2015",null,null,null,null,null,null,null,null,null,null,null,{"$f":"M$14/$B$14/2","v":{"$error":"#REF!"}},{"$f":"M68*2","v":{"$error":"#REF!"}},{"$f":"N68","v":{"$error":"#REF!"}},{"$f":"O68","v":{"$error":"#REF!"}},{"$f":"P68","v":{"$error":"#REF!"}},{"$f":"Q68","v":{"$error":"#REF!"}},{"$error":"#REF!"},{"$error":"#REF!"},{"$error":"#REF!"},{"$error":"#REF!"},{"$error":"#REF!"},{"$error":"#REF!"},{"$error":"#REF!"},{"$error":"#REF!"},{"$error":"#REF!"},{"$error":"#REF!"},{"$error":"#REF!"}]
["Depn Capex 2016",null,null,null,null,null,null,null,null,null,null,null,null,{"$f":"N$14/$B$14/2","v":{"$error":"#REF!"}},{"$f":"N69*2","v":{"$error":"#REF!"}},{"$f":"O69","v":{"$error":"#REF!"}},{"$f":"P69","v":{"$error":"#REF!"}},{"$f":"Q69","v":{"$error":"#REF!"}},{"$error":"#REF!"},{"$error":"#REF!"},{"$error":"#REF!"},{"$error":"#REF!"},{"$error":"#REF!"},{"$error":"#REF!"},{"$error":"#REF!"},{"$error":"#REF!"},{"$error":"#REF!"},{"$error":"#REF!"},{"$error":"#REF!"}]
["Depn Capex 2017",null,null,null,null,null,null,null,null,null,null,null,null,null,{"$f":"O$14/$B$14/2","v":{"$error":"#REF!"}},{"$f":"O70*2","v":{"$error":"#REF!"}},{"$f":"P70","v":{"$error":"#REF!"}},{"$f":"Q70","v":{"$error":"#REF!"}},{"$error":"#REF!"},{"$error":"#REF!"},{"$error":"#REF!"},{"$error":"#REF!"},{"$error":"#REF!"},{"$error":"#REF!"},{"$error":"#REF!"},{"$error":"#REF!"},{"$error":"#REF!"},{"$error":"#REF!"},{"$error":"#REF!"}]
["Depn Capex 2018",null,null,null,null,null,null,null,null,null,null,null,null,null,null,{"$f":"P$14/$B$14/2","v":{"$error":"#REF!"}},{"$f":"P71*2","v":{"$error":"#REF!"}},{"$f":"Q71","v":{"$error":"#REF!"}},{"$error":"#REF!"},{"$error":"#REF!"},{"$error":"#REF!"},{"$error":"#REF!"},{"$error":"#REF!"},{"$error":"#REF!"},{"$error":"#REF!"},{"$error":"#REF!"},{"$error":"#REF!"},{"$error":"#REF!"},{"$error":"#REF!"}]
["Depn Capex 2019",null,null,null,null,null,null,null,null,null,null,null,null,null,null,null,{"$f":"Q$14/$B$14/2","v":{"$error":"#REF!"}},{"$f":"Q72*2","v":{"$error":"#REF!"}},{"$error":"#REF!"},{"$error":"#REF!"},{"$error":"#REF!"},{"$error":"#REF!"},{"$error":"#REF!"},{"$error":"#REF!"},{"$error":"#REF!"},{"$error":"#REF!"},{"$error":"#REF!"},{"$error":"#REF!"},{"$error":"#REF!"}]
["Depn Capex 2020",null,null,null,null,null,null,null,null,null,null,null,null,null,null,null,null,{"$f":"R$14/$B$14/2","v":{"$error":"#REF!"}},{"$f":"R73*2*0.5","v":{"$error":"#REF!"}},{"$error":"#REF!"},{"$error":"#REF!"},{"$error":"#REF!"},{"$error":"#REF!"},{"$error":"#REF!"},{"$error":"#REF!"},{"$error":"#REF!"},{"$error":"#REF!"},{"$error":"#REF!"},{"$error":"#REF!"}]
["Depn Capex HY2021",null,null,null,null,null,null,null,null,null,null,null,null,null,null,null,null,null,{"$f":"S$14/$B$14/2","v":{"$error":"#REF!"}},{"$f":"S74*2","v":{"$error":"#REF!"}},{"$error":"#REF!"},{"$error":"#REF!"},{"$error":"#REF!"},{"$error":"#REF!"},{"$error":"#REF!"},{"$error":"#REF!"},{"$error":"#REF!"},{"$error":"#REF!"},{"$error":"#REF!"}]
["Depn Capex 2021-22",null,null,null,null,null,null,null,null,null,null,null,null,null,null,null,null,null,null,{"$f":"T$14/$B$14/2","v":{"$error":"#REF!"}},{"$f":"T75*2","v":{"$error":"#REF!"}},{"$f":"U75","v":{"$error":"#REF!"}},{"$f":"V75","v":{"$error":"#REF!"}},{"$f":"W75","v":{"$error":"#REF!"}},{"$error":"#REF!"},{"$error":"#REF!"},{"$error":"#REF!"},{"$error":"#REF!"},{"$error":"#REF!"}]
["Depn Capex 2022-23",null,null,null,null,null,null,null,null,null,null,null,null,null,null,null,null,null,null,null,{"$f":"U$14/$B$14/2","v":{"$error":"#REF!"}},{"$f":"U76*2","v":{"$error":"#REF!"}},{"$f":"V76","v":{"$error":"#REF!"}},{"$f":"W76","v":{"$error":"#REF!"}},{"$error":"#REF!"},{"$error":"#REF!"},{"$error":"#REF!"},{"$error":"#REF!"},{"$error":"#REF!"}]
["Depn Capex 2023-24",null,null,null,null,null,null,null,null,null,null,null,null,null,null,null,null,null,null,null,null,{"$f":"V$14/$B$14/2","v":{"$error":"#REF!"}},{"$f":"V77*2","v":{"$error":"#REF!"}},{"$f":"W77","v":{"$error":"#REF!"}},{"$error":"#REF!"},{"$error":"#REF!"},{"$error":"#REF!"},{"$error":"#REF!"},{"$error":"#REF!"}]
["Depn Capex 2024-25",null,null,null,null,null,null,null,null,null,null,null,null,null,null,null,null,null,null,null,null,null,{"$f":"W$14/$B$14/2","v":{"$error":"#REF!"}},{"$f":"W78*2","v":{"$error":"#REF!"}},{"$error":"#REF!"},{"$error":"#REF!"},{"$error":"#REF!"},{"$error":"#REF!"},{"$error":"#REF!"}]
["Depn Capex 2025-26",null,null,null,null,null,null,null,null,null,null,null,null,null,null,null,null,null,null,null,null,null,null,{"$f":"X$14/$B$14/2","v":{"$error":"#REF!"}},{"$error":"#REF!"},{"$error":"#REF!"},{"$error":"#REF!"},{"$error":"#REF!"},{"$error":"#REF!"}]
["Depn Capex 2026-27"]
["Depn Capex 2027-28"]
["Depn Capex 2028-29"]
["Depn Capex 2029-30"]
["Depn Capex 2030-31"]
["Total Depreciation",null,{"$f":"SUM(C57:C73)","v":{"$error":"#REF!"}},{"$f":"SUM(D57:D73)","v":{"$error":"#REF!"}},{"$f":"SUM(E57:E79)","v":{"$error":"#REF!"}},{"$error":"#REF!"},{"$error":"#REF!"},{"$error":"#REF!"},{"$error":"#REF!"},{"$error":"#REF!"},{"$error":"#REF!"},{"$error":"#REF!"},{"$error":"#REF!"},{"$f":"SUM(N57:N84)","v":{"$error":"#REF!"}},{"$f":"SUM(O57:O84)","v":{"$error":"#REF!"}},{"$error":"#REF!"},{"$error":"#REF!"},{"$error":"#REF!"},{"$error":"#REF!"},{"$error":"#REF!"},{"$error":"#REF!"},{"$error":"#REF!"},{"$error":"#REF!"},{"$error":"#REF!"},{"$error":"#REF!"},{"$error":"#REF!"},{"$error":"#REF!"},{"$error":"#REF!"},{"$error":"#REF!"}]
[]
[{"$f":"$A$16","v":"Energy Efficient Lights"}]
[{"$f":"$A$17","v":"Luminaires and Ballasts"}]
[{"$f":"A25","v":"RAB 2001-04"}]
[{"$f":"A26","v":"Depn Capex 2005"}]
["Depn Capex 2006"]
["Depn Capex 2007"]
["Depn Capex 2008"]
["Depn Capex 2009",null,null,null,null,null,{"$f":"G$17/$B$17/2","v":{"$error":"#REF!"}},{"$f":"G94*2","v":{"$error":"#REF!"}},{"$f":"H94","v":{"$error":"#REF!"}},{"$f":"I94","v":{"$error":"#REF!"}},{"$f":"J94","v":{"$error":"#REF!"}},{"$f":"K94","v":{"$error":"#REF!"}},{"$f":"L94","v":{"$error":"#REF!"}},{"$error":"#REF!"},{"$error":"#REF!"},{"$error":"#REF!"},{"$error":"#REF!"},{"$error":"#REF!"},{"$f":"R94*0.5","v":{"$error":"#REF!"}},{"$f":"S94*2","v":{"$error":"#REF!"}},{"$error":"#REF!"},{"$error":"#REF!"},{"$error":"#REF!"},{"$error":"#REF!"},{"$f":"X94","v":{"$error":"#REF!"}},{"$f":"Y94","v":{"$error":"#REF!"}},{"$f":"Z94","v":{"$error":"#REF!"}},{"$f":"AA94","v":{"$error":"#REF!"}},{"$f":"AB94","v":{"$error":"#REF!"}}]
["Depn Capex 2010",null,null,null,null,null,null,{"$f":"H$17/$B$17/2","v":{"$error":"#REF!"}},{"$f":"H95*2","v":{"$error":"#REF!"}},{"$f":"I95","v":{"$error":"#REF!"}},{"$f":"J95","v":{"$error":"#REF!"}},{"$f":"K95","v":{"$error":"#REF!"}},{"$f":"L95","v":{"$error":"#REF!"}},{"$error":"#REF!"},{"$error":"#REF!"},{"$error":"#REF!"},{"$error":"#REF!"},{"$error":"#REF!"},{"$f":"R95*0.5","v":{"$error":"#REF!"}},{"$f":"S95*2","v":{"$error":"#REF!"}},{"$error":"#REF!"},{"$error":"#REF!"},{"$error":"#REF!"},{"$error":"#REF!"},{"$error":"#REF!"},{"$error":"#REF!"},{"$error":"#REF!"},{"$error":"#REF!"},{"$error":"#REF!"}]
["Depn Capex 2011",null,null,null,null,null,null,null,{"$f":"I$17/$B$17/2","v":{"$error":"#REF!"}},{"$f":"I96*2","v":{"$error":"#REF!"}},{"$f":"J96","v":{"$error":"#REF!"}},{"$f":"K96","v":{"$error":"#REF!"}},{"$f":"L96","v":{"$error":"#REF!"}},{"$error":"#REF!"},{"$error":"#REF!"},{"$error":"#REF!"},{"$error":"#REF!"},{"$error":"#REF!"},{"$error":"#REF!"},{"$error":"#REF!"},{"$error":"#REF!"},{"$error":"#REF!"},{"$error":"#REF!"},{"$error":"#REF!"},{"$error":"#REF!"},{"$error":"#REF!"},{"$error":"#REF!"},{"$error":"#REF!"},{"$error":"#REF!"}]
["Depn Capex 2012",null,null,null,null,null,null,null,null,{"$f":"J$17/$B$17/2","v":{"$error":"#REF!"}},{"$f":"J97*2","v":{"$error":"#REF!"}},{"$f":"K97","v":{"$error":"#REF!"}},{"$f":"L97","v":{"$error":"#REF!"}},{"$error":"#REF!"},{"$error":"#REF!"},{"$error":"#REF!"},{"$error":"#REF!"},{"$error":"#REF!"},{"$error":"#REF!"},{"$error":"#REF!"},{"$error":"#REF!"},{"$error":"#REF!"},{"$error":"#REF!"},{"$error":"#REF!"},{"$error":"#REF!"},{"$error":"#REF!"},{"$error":"#REF!"},{"$error":"#REF!"},{"$error":"#REF!"}]
["Depn Capex 2013",null,null,null,null,null,null,null,null,null,{"$f":"K$17/$B$17/2","v":{"$error":"#REF!"}},{"$f":"K98*2","v":{"$error":"#REF!"}},{"$f":"L98","v":{"$error":"#REF!"}},{"$error":"#REF!"},{"$error":"#REF!"},{"$error":"#REF!"},{"$error":"#REF!"},{"$error":"#REF!"},{"$error":"#REF!"},{"$error":"#REF!"},{"$error":"#REF!"},{"$error":"#REF!"},{"$error":"#REF!"},{"$error":"#REF!"},{"$error":"#REF!"},{"$error":"#REF!"},{"$error":"#REF!"},{"$error":"#REF!"},{"$error":"#REF!"}]
["Depn Capex 2014",null,null,null,null,null,null,null,null,null,null,{"$f":"L$17/$B$17/2","v":{"$error":"#REF!"}},{"$f":"L99","v":{"$error":"#REF!"}},{"$error":"#REF!"},{"$error":"#REF!"},{"$error":"#REF!"},{"$error":"#REF!"},{"$error":"#REF!"},{"$error":"#REF!"},{"$error":"#REF!"},{"$f":"T99","v":{"$error":"#REF!"}},{"$error":"#REF!"},{"$error":"#REF!"},{"$error":"#REF!"},{"$error":"#REF!"},{"$error":"#REF!"},{"$error":"#REF!"},{"$error":"#REF!"},{"$error":"#REF!"}]
["Depn Capex 2015",null,null,null,null,null,null,null,null,null,null,null,{"$f":"M$17/$B$17/2","v":{"$error":"#REF!"}},{"$f":"M100*2","v":{"$error":"#REF!"}},{"$f":"N100","v":{"$error":"#REF!"}},{"$f":"O100","v":{"$error":"#REF!"}},{"$f":"P100","v":{"$error":"#REF!"}},{"$f":"Q100","v":{"$error":"#REF!"}},{"$error":"#REF!"},{"$error":"#REF!"},{"$error":"#REF!"},{"$error":"#REF!"},{"$error":"#REF!"},{"$error":"#REF!"},{"$error":"#REF!"},{"$error":"#REF!"},{"$error":"#REF!"},{"$error":"#REF!"},{"$error":"#REF!"}]
["Depn Capex 2016",null,null,null,null,null,null,null,null,null,null,null,null,{"$f":"N$17/$B$17/2","v":{"$error":"#REF!"}},{"$f":"N101*2","v":{"$error":"#REF!"}},{"$f":"O101","v":{"$error":"#REF!"}},{"$f":"P101","v":{"$error":"#REF!"}},{"$f":"Q101","v":{"$error":"#REF!"}},{"$error":"#REF!"},{"$error":"#REF!"},{"$error":"#REF!"},{"$error":"#REF!"},{"$error":"#REF!"},{"$error":"#REF!"},{"$error":"#REF!"},{"$error":"#REF!"},{"$error":"#REF!"},{"$error":"#REF!"},{"$error":"#REF!"}]
["Depn Capex 2017",null,null,null,null,null,null,null,null,null,null,null,null,null,{"$f":"O$17/$B$17/2","v":{"$error":"#REF!"}},{"$f":"O102*2","v":{"$error":"#REF!"}},{"$f":"P102","v":{"$error":"#REF!"}},{"$f":"Q102","v":{"$error":"#REF!"}},{"$error":"#REF!"},{"$error":"#REF!"},{"$error":"#REF!"},{"$error":"#REF!"},{"$error":"#REF!"},{"$error":"#REF!"},{"$error":"#REF!"},{"$error":"#REF!"},{"$error":"#REF!"},{"$error":"#REF!"},{"$error":"#REF!"}]
["Depn Capex 2018",null,null,null,null,null,null,null,null,null,null,null,null,null,null,{"$f":"P$17/$B$17/2","v":{"$error":"#REF!"}},{"$f":"P103*2","v":{"$error":"#REF!"}},{"$f":"Q103","v":{"$error":"#REF!"}},{"$error":"#REF!"},{"$error":"#REF!"},{"$error":"#REF!"},{"$error":"#REF!"},{"$error":"#REF!"},{"$error":"#REF!"},{"$error":"#REF!"},{"$error":"#REF!"},{"$error":"#REF!"},{"$error":"#REF!"},{"$error":"#REF!"}]
["Depn Capex 2019",null,null,null,null,null,null,null,null,null,null,null,null,null,null,null,{"$f":"Q$17/$B$17/2","v":{"$error":"#REF!"}},{"$f":"Q104*2","v":{"$error":"#REF!"}},{"$error":"#REF!"},{"$error":"#REF!"},{"$f":"T104","v":{"$error":"#REF!"}},{"$error":"#REF!"},{"$error":"#REF!"},{"$error":"#REF!"},{"$error":"#REF!"},{"$error":"#REF!"},{"$error":"#REF!"},{"$error":"#REF!"},{"$error":"#REF!"}]
["Depn Capex 2020",null,null,null,null,null,null,null,null,null,null,null,null,null,null,null,null,{"$f":"R$17/$B$17/2","v":{"$error":"#REF!"}},{"$f":"R105*2*0.5","v":{"$error":"#REF!"}},{"$f":"S105*2","v":{"$error":"#REF!"}},{"$error":"#REF!"},{"$error":"#REF!"},{"$error":"#REF!"},{"$error":"#REF!"},{"$error":"#REF!"},{"$error":"#REF!"},{"$error":"#REF!"},{"$error":"#REF!"},{"$error":"#REF!"}]
["Depn Capex HY2021",null,null,null,null,null,null,null,null,null,null,null,null,null,null,null,null,null,{"$f":"S$17/$B$17/2","v":{"$error":"#REF!"}},{"$f":"S106*2","v":{"$error":"#REF!"}},{"$error":"#REF!"},{"$error":"#REF!"},{"$error":"#REF!"},{"$error":"#REF!"},{"$error":"#REF!"},{"$error":"#REF!"},{"$error":"#REF!"},{"$error":"#REF!"},{"$error":"#REF!"}]
["Depn Capex 2021-22",null,null,null,null,null,null,null,null,null,null,null,null,null,null,null,null,null,null,{"$f":"T$17/$B$17/2","v":{"$error":"#REF!"}},{"$f":"T107*2","v":{"$error":"#REF!"}},{"$f":"U107","v":{"$error":"#REF!"}},{"$error":"#REF!"},{"$error":"#REF!"},{"$error":"#REF!"},{"$error":"#REF!"},{"$error":"#REF!"},{"$error":"#REF!"},{"$error":"#REF!"}]
["Depn Capex 2022-23",null,null,null,null,null,null,null,null,null,null,null,null,null,null,null,null,null,null,null,{"$f":"U$17/$B$17/2","v":{"$error":"#REF!"}},{"$f":"U108*2","v":{"$error":"#REF!"}},{"$error":"#REF!"},{"$f":"W108","v":{"$error":"#REF!"}},{"$error":"#REF!"},{"$error":"#REF!"},{"$error":"#REF!"},{"$error":"#REF!"},{"$error":"#REF!"}]
["Depn Capex 2023-24",null,null,null,null,null,null,null,null,null,null,null,null,null,null,null,null,null,null,null,null,{"$f":"V$17/$B$17/2","v":{"$error":"#REF!"}},{"$f":"V109*2","v":{"$error":"#REF!"}},{"$f":"W109","v":{"$error":"#REF!"}},{"$error":"#REF!"},{"$error":"#REF!"},{"$error":"#REF!"},{"$error":"#REF!"},{"$error":"#REF!"}]
["Depn Capex 2024-25",null,null,null,null,null,null,null,null,null,null,null,null,null,null,null,null,null,null,null,null,null,{"$f":"W$17/$B$17/2","v":{"$error":"#REF!"}},{"$f":"W110*2","v":{"$error":"#REF!"}},{"$error":"#REF!"},{"$error":"#REF!"},{"$error":"#REF!"},{"$error":"#REF!"},{"$error":"#REF!"}]
["Depn Capex 2025-26",null,null,null,null,null,null,null,null,null,null,null,null,null,null,null,null,null,null,null,null,null,null,{"$f":"X$17/$B$17/2","v":{"$error":"#REF!"}},{"$error":"#REF!"},{"$error":"#REF!"},{"$error":"#REF!"},{"$error":"#REF!"},{"$error":"#REF!"}]
["Depn Capex 2026-27"]
["Depn Capex 2027-28"]
["Depn Capex 2028-29"]
["Depn Capex 2029-30"]
["Depn Capex 2030-31"]
["Total Depreciation",null,{"$f":"SUM(C89:C105)","v":0},{"$f":"SUM(D89:D105)","v":0},{"$f":"SUM(E89:E111)","v":0},{"$f":"SUM(F89:F111)","v":0},{"$error":"#REF!"},{"$error":"#REF!"},{"$error":"#REF!"},{"$error":"#REF!"},{"$error":"#REF!"},{"$error":"#REF!"},{"$error":"#REF!"},{"$f":"SUM(N89:N116)","v":{"$error":"#REF!"}},{"$f":"SUM(O89:O116)","v":{"$error":"#REF!"}},{"$error":"#REF!"},{"$error":"#REF!"},{"$error":"#REF!"},{"$error":"#REF!"},{"$error":"#REF!"},{"$error":"#REF!"},{"$error":"#REF!"},{"$error":"#REF!"},{"$error":"#REF!"},{"$f":"SUM(Y89:Y116)","v":{"$error":"#REF!"}},{"$f":"SUM(Z89:Z116)","v":{"$error":"#REF!"}},{"$f":"SUM(AA89:AA116)","v":{"$error":"#REF!"}},{"$f":"SUM(AB89:AB116)","v":{"$error":"#REF!"}},{"$f":"SUM(AC89:AC116)","v":{"$error":"#REF!"}}]
[]
[]
["Nominal pre tax WACC",null,null,null,null,null,null,null,null,null,null,null,null,null,null,null,null,null,null,{"$f":"WACC!E$8","v":{"$error":"#REF!"}},{"$f":"WACC!F$8","v":{"$error":"#REF!"}},{"$f":"WACC!G$8","v":{"$error":"#REF!"}},{"$f":"WACC!H$8","v":{"$error":"#REF!"}},{"$f":"WACC!I$8","v":{"$error":"#REF!"}}]
[]
[]
[{"$f":"$A$11","v":"Poles and Brackets"}]
["RAB",null,{"$f":"$C$6","v":2005},{"$f":"$D$6","v":2006},{"$f":"$E$6","v":2007},{"$f":"$F$6","v":2008},{"$f":"G$6","v":2009},{"$f":"H$6","v":2010},2011,2012,2013,2014,2015,2016,2017,2018,2019,2020,{"$error":"#REF!"},{"$error":"#REF!"},{"$error":"#REF!"},{"$error":"#REF!"},{"$error":"#REF!"},{"$error":"#REF!"},{"$error":"#REF!"},{"$error":"#REF!"},{"$error":"#REF!"},{"$error":"#REF!"},{"$error":"#REF!"}]
["Opening RAB",null,{"$f":"SUM('RAB 2001 to 2004 Central'!E114,'RAB 2001 to 2004 N & E'!E114)","v":{"$error":"#REF!"}},{"$f":"C128","v":{"$error":"#REF!"}},{"$error":"#REF!"},{"$error":"#REF!"},{"$error":"#REF!"},{"$error":"#REF!"},{"$error":"#REF!"},{"$error":"#REF!"},{"$error":"#REF!"},{"$error":"#REF!"},{"$f":"L128","v":{"$error":"#REF!"}},{"$error":"#REF!"},{"$error":"#REF!"},{"$error":"#REF!"},{"$error":"#REF!"},{"$error":"#REF!"},{"$error":"#REF!"},{"$error":"#REF!"},{"$error":"#REF!"},{"$error":"#REF!"},{"$error":"#REF!"},{"$error":"#REF!"},{"$error":"#REF!"},{"$error":"#REF!"},{"$error":"#REF!"},{"$error":"#REF!"},{"$error":"#REF!"}]
["Additional Capex",null,{"$f":"C$11","v":382620.48073362443},679083.51279141498,342454.50012480229,822296.52427371382,{"$error":"#REF!"},{"$error":"#REF!"},{"$error":"#REF!"},{"$error":"#REF!"},{"$error":"#REF!"},{"$error":"#REF!"},{"$error":"#REF!"},{"$error":"#REF!"},{"$error":"#REF!"},{"$error":"#REF!"},{"$error":"#REF!"},{"$error":"#REF!"},{"$error":"#REF!"},{"$error":"#REF!"},{"$error":"#REF!"},{"$error":"#REF!"},{"$error":"#REF!"},{"$error":"#REF!"},{"$error":"#REF!"},{"$error":"#REF!"},{"$error":"#REF!"},{"$error":"#REF!"},{"$error":"#REF!"}]
["Depreciation",null,{"$f":"C$53","v":{"$error":"#REF!"}},{"$error":"#REF!"},{"$error":"#REF!"},{"$error":"#REF!"},{"$error":"#REF!"},{"$error":"#REF!"},{"$error":"#REF!"},{"$error":"#REF!"},{"$error":"#REF!"},{"$error":"#REF!"},{"$error":"#REF!"},{"$error":"#REF!"},{"$error":"#REF!"},{"$error":"#REF!"},{"$error":"#REF!"},{"$error":"#REF!"},{"$error":"#REF!"},{"$error":"#REF!"},{"$error":"#REF!"},{"$error":"#REF!"},{"$error":"#REF!"},{"$error":"#REF!"},{"$error":"#REF!"},{"$error":"#REF!"},{"$error":"#REF!"},{"$error":"#REF!"},{"$error":"#REF!"}]
["Closing RAB",null,{"$f":"C125+C126-C127","v":{"$error":"#REF!"}},{"$error":"#REF!"},{"$error":"#REF!"},{"$error":"#REF!"},{"$error":"#REF!"},{"$error":"#REF!"},{"$error":"#REF!"},{"$error":"#REF!"},{"$error":"#REF!"},{"$error":"#REF!"},{"$f":"M125+M126-M127","v":{"$error":"#REF!"}},{"$error":"#REF!"},{"$error":"#REF!"},{"$error":"#REF!"},{"$error":"#REF!"},{"$error":"#REF!"},{"$error":"#REF!"},{"$f":"T125+T126-T127","v":{"$error":"#REF!"}},{"$error":"#REF!"},{"$error":"#REF!"},{"$error":"#REF!"},{"$error":"#REF!"},{"$error":"#REF!"},{"$error":"#REF!"},{"$error":"#REF!"},{"$error":"#REF!"},{"$error":"#REF!"}]
["Average RAB",null,{"$f":"SUM(C125,C128)/2","v":{"$error":"#REF!"}},{"$f":"SUM(D125,D128)/2","v":{"$error":"#REF!"}},{"$f":"SUM(E125,E128)/2","v":{"$error":"#REF!"}},{"$f":"SUM(F125,F128)/2","v":{"$error":"#REF!"}},{"$f":"SUM(G125,G128)/2","v":{"$error":"#REF!"}},{"$error":"#REF!"},{"$error":"#REF!"},{"$error":"#REF!"},{"$error":"#REF!"},{"$error":"#REF!"},{"$f":"SUM(M125,M128)/2","v":{"$error":"#REF!"}},{"$error":"#REF!"},{"$error":"#REF!"},{"$error":"#REF!"},{"$error":"#REF!"},{"$error":"#REF!"},{"$error":"#REF!"},{"$error":"#REF!"},{"$error":"#REF!"},{"$error":"#REF!"},{"$error":"#REF!"},{"$error":"#REF!"},{"$f":"SUM(Y125,Y128)/2","v":{"$error":"#REF!"}},{"$f":"SUM(Z125,Z128)/2","v":{"$error":"#REF!"}},{"$f":"SUM(AA125,AA128)/2","v":{"$error":"#REF!"}},{"$f":"SUM(AB125,AB128)/2","v":{"$error":"#REF!"}},{"$f":"SUM(AC125,AC128)/2","v":{"$error":"#REF!"}}]
[]
["Total Value to be recovered by change in unit rates",null,null,null,null,null,null,null,null,null,null,null,null,null,null,null,null,null,null,{"$f":"T$6","v":{"$error":"#REF!"}},{"$error":"#REF!"},{"$error":"#REF!"},{"$error":"#REF!"},{"$error":"#REF!"},{"$error":"#REF!"},{"$error":"#REF!"},{"$error":"#REF!"},{"$error":"#REF!"},{"$error":"#REF!"}]
["Depreciation",null,null,null,null,null,null,null,null,null,null,null,null,null,null,null,null,null,null,{"$f":"T127","v":{"$error":"#REF!"}},{"$error":"#REF!"},{"$error":"#REF!"},{"$error":"#REF!"},{"$error":"#REF!"},{"$error":"#REF!"},{"$error":"#REF!"},{"$error":"#REF!"},{"$error":"#REF!"},{"$error":"#REF!"}]
["ROA",null,null,null,null,null,null,null,null,null,null,null,null,null,null,null,null,null,null,{"$f":"T$120*T129","v":{"$error":"#REF!"}},{"$error":"#REF!"},{"$error":"#REF!"},{"$error":"#REF!"},{"$error":"#REF!"},{"$error":"#REF!"},{"$error":"#REF!"},{"$error":"#REF!"},{"$error":"#REF!"},{"$error":"#REF!"}]
[null,null,null,null,null,null,null,null,null,null,null,null,null,null,null,null,null,null,null,{"$f":"SUM(T132:T133)","v":{"$error":"#REF!"}},{"$error":"#REF!"},{"$error":"#REF!"},{"$error":"#REF!"},{"$error":"#REF!"},{"$error":"#REF!"},{"$error":"#REF!"},{"$error":"#REF!"},{"$error":"#REF!"},{"$error":"#REF!"}]
[]
[]
[{"$f":"$A$13","v":"Existing Lights"}]
[{"$f":"$A$14","v":"Luminaires"}]
["RAB",null,{"$f":"$C$6","v":2005},{"$f":"$D$6","v":2006},{"$f":"$E$6","v":2007},{"$f":"$F$6","v":2008},{"$f":"G$6","v":2009},{"$f":"H$6","v":2010},2011,2012,2013,2014,2015,2016,2017,2018,2019,2020,{"$error":"#REF!"},{"$error":"#REF!"},{"$error":"#REF!"},{"$error":"#REF!"},{"$error":"#REF!"},{"$error":"#REF!"},{"$error":"#REF!"},{"$error":"#REF!"},{"$error":"#REF!"},{"$error":"#REF!"},{"$error":"#REF!"}]
["Opening RAB",null,{"$f":"SUM('RAB 2001 to 2004 Central'!E77,'RAB 2001 to 2004 N & E'!E77)","v":{"$error":"#REF!"}},{"$f":"C143","v":{"$error":"#REF!"}},{"$error":"#REF!"},{"$error":"#REF!"},{"$error":"#REF!"},{"$error":"#REF!"},{"$error":"#REF!"},{"$error":"#REF!"},{"$error":"#REF!"},{"$error":"#REF!"},{"$f":"L143","v":{"$error":"#REF!"}},{"$error":"#REF!"},{"$error":"#REF!"},{"$error":"#REF!"},{"$error":"#REF!"},{"$error":"#REF!"},{"$error":"#REF!"},{"$error":"#REF!"},{"$error":"#REF!"},{"$error":"#REF!"},{"$error":"#REF!"},{"$error":"#REF!"},{"$error":"#REF!"},{"$error":"#REF!"},{"$error":"#REF!"},{"$error":"#REF!"},{"$error":"#REF!"}]
["Additional Capex",null,{"$f":"C$14","v":181379.51926637554},321916.48720858502,162405.4206197157,389965.41978608596,{"$error":"#REF!"},{"$error":"#REF!"},{"$error":"#REF!"},{"$error":"#REF!"},{"$error":"#REF!"},{"$error":"#REF!"},{"$error":"#REF!"},{"$error":"#REF!"},{"$error":"#REF!"},{"$error":"#REF!"},{"$error":"#REF!"},{"$error":"#REF!"},{"$error":"#REF!"},{"$error":"#REF!"},{"$error":"#REF!"},{"$error":"#REF!"},{"$error":"#REF!"},{"$error":"#REF!"},{"$error":"#REF!"},{"$error":"#REF!"},{"$error":"#REF!"},{"$error":"#REF!"},{"$error":"#REF!"}]
["Depreciation",null,{"$f":"C$85","v":{"$error":"#REF!"}},{"$error":"#REF!"},{"$error":"#REF!"},{"$error":"#REF!"},{"$error":"#REF!"},{"$error":"#REF!"},{"$error":"#REF!"},{"$error":"#REF!"},{"$error":"#REF!"},{"$error":"#REF!"},{"$error":"#REF!"},{"$error":"#REF!"},{"$error":"#REF!"},{"$error":"#REF!"},{"$error":"#REF!"},{"$error":"#REF!"},{"$error":"#REF!"},{"$error":"#REF!"},{"$error":"#REF!"},{"$error":"#REF!"},{"$error":"#REF!"},{"$error":"#REF!"},{"$error":"#REF!"},{"$error":"#REF!"},{"$error":"#REF!"},{"$error":"#REF!"},{"$error":"#REF!"}]
["Closing RAB",null,{"$f":"C140+C141-C142","v":{"$error":"#REF!"}},{"$error":"#REF!"},{"$error":"#REF!"},{"$error":"#REF!"},{"$error":"#REF!"},{"$error":"#REF!"},{"$error":"#REF!"},{"$error":"#REF!"},{"$error":"#REF!"},{"$error":"#REF!"},{"$f":"M140+M141-M142","v":{"$error":"#REF!"}},{"$error":"#REF!"},{"$error":"#REF!"},{"$error":"#REF!"},{"$error":"#REF!"},{"$error":"#REF!"},{"$error":"#REF!"},{"$f":"T140+T141-T142","v":{"$error":"#REF!"}},{"$error":"#REF!"},{"$error":"#REF!"},{"$error":"#REF!"},{"$error":"#REF!"},{"$error":"#REF!"},{"$error":"#REF!"},{"$error":"#REF!"},{"$error":"#REF!"},{"$error":"#REF!"}]
["Average RAB",null,{"$f":"SUM(C140,C143)/2","v":{"$error":"#REF!"}},{"$error":"#REF!"},{"$error":"#REF!"},{"$error":"#REF!"},{"$error":"#REF!"},{"$error":"#REF!"},{"$error":"#REF!"},{"$error":"#REF!"},{"$error":"#REF!"},{"$error":"#REF!"},{"$f":"SUM(M140,M143)/2","v":{"$error":"#REF!"}},{"$error":"#REF!"},{"$error":"#REF!"},{"$error":"#REF!"},{"$error":"#REF!"},{"$error":"#REF!"},{"$error":"#REF!"},{"$error":"#REF!"},{"$error":"#REF!"},{"$error":"#REF!"},{"$error":"#REF!"},{"$error":"#REF!"},{"$f":"SUM(Y140,Y143)/2","v":{"$error":"#REF!"}},{"$f":"SUM(Z140,Z143)/2","v":{"$error":"#REF!"}},{"$f":"SUM(AA140,AA143)/2","v":{"$error":"#REF!"}},{"$f":"SUM(AB140,AB143)/2","v":{"$error":"#REF!"}},{"$f":"SUM(AC140,AC143)/2","v":{"$error":"#REF!"}}]
[]
["Total Value to be recovered by change in unit rates",null,null,null,null,null,null,null,null,null,null,null,null,null,null,null,null,null,null,{"$f":"T$6","v":{"$error":"#REF!"}},{"$error":"#REF!"},{"$error":"#REF!"},{"$error":"#REF!"},{"$error":"#REF!"},{"$error":"#REF!"},{"$error":"#REF!"},{"$error":"#REF!"},{"$error":"#REF!"},{"$error":"#REF!"}]
["Depreciation",null,null,null,null,null,null,null,null,null,null,null,null,null,null,null,null,null,null,{"$f":"T142","v":{"$error":"#REF!"}},{"$error":"#REF!"},{"$error":"#REF!"},{"$error":"#REF!"},{"$error":"#REF!"},{"$error":"#REF!"},{"$error":"#REF!"},{"$error":"#REF!"},{"$error":"#REF!"},{"$error":"#REF!"}]
["ROA",null,null,null,null,null,null,null,null,null,null,null,null,null,null,null,null,null,null,{"$f":"T$120*T144","v":{"$error":"#REF!"}},{"$error":"#REF!"},{"$error":"#REF!"},{"$error":"#REF!"},{"$error":"#REF!"},{"$error":"#REF!"},{"$error":"#REF!"},{"$error":"#REF!"},{"$error":"#REF!"},{"$error":"#REF!"}]
[null,null,null,null,null,null,null,null,null,null,null,null,null,null,null,null,null,null,null,{"$f":"SUM(T147:T148)","v":{"$error":"#REF!"}},{"$error":"#REF!"},{"$error":"#REF!"},{"$error":"#REF!"},{"$error":"#REF!"},{"$error":"#REF!"},{"$error":"#REF!"},{"$error":"#REF!"},{"$error":"#REF!"},{"$error":"#REF!"}]
[]
[]
[{"$f":"$A$16","v":"Energy Efficient Lights"}]
[{"$f":"$A$17","v":"Luminaires and Ballasts"}]
["RAB",null,{"$f":"$C$6","v":2005},{"$f":"$D$6","v":2006},{"$f":"$E$6","v":2007},{"$f":"$F$6","v":2008},{"$f":"G$6","v":2009},{"$f":"H$6","v":2010},2011,2012,2013,2014,2015,2016,2017,2018,2019,2020,{"$error":"#REF!"},{"$error":"#REF!"},{"$error":"#REF!"},{"$error":"#REF!"},{"$error":"#REF!"},{"$error":"#REF!"},{"$error":"#REF!"},{"$error":"#REF!"},{"$error":"#REF!"},{"$error":"#REF!"},{"$error":"#REF!"}]
["Opening RAB",null,0,{"$f":"C158","v":0},0,0,0,{"$error":"#REF!"},{"$error":"#REF!"},{"$error":"#REF!"},{"$error":"#REF!"},{"$error":"#REF!"},{"$f":"L158","v":{"$error":"#REF!"}},{"$error":"#REF!"},{"$error":"#REF!"},{"$error":"#REF!"},{"$error":"#REF!"},{"$error":"#REF!"},{"$error":"#REF!"},{"$error":"#REF!"},{"$error":"#REF!"},{"$error":"#REF!"},{"$error":"#REF!"},{"$error":"#REF!"},{"$error":"#REF!"},{"$error":"#REF!"},{"$error":"#REF!"},{"$error":"#REF!"},{"$error":"#REF!"}]
["Additional Capex",null,{"$f":"C$17","v":0},0,0,0,{"$error":"#REF!"},{"$error":"#REF!"},{"$error":"#REF!"},{"$error":"#REF!"},{"$error":"#REF!"},{"$error":"#REF!"},{"$error":"#REF!"},{"$error":"#REF!"},{"$error":"#REF!"},{"$error":"#REF!"},{"$error":"#REF!"},{"$error":"#REF!"},{"$error":"#REF!"},{"$error":"#REF!"},{"$error":"#REF!"},{"$error":"#REF!"},{"$error":"#REF!"},{"$error":"#REF!"},{"$error":"#REF!"},{"$error":"#REF!"},{"$error":"#REF!"},{"$error":"#REF!"},{"$error":"#REF!"}]
["Depreciation",null,{"$f":"C$117","v":0},0,0,0,{"$error":"#REF!"},{"$error":"#REF!"},{"$error":"#REF!"},{"$error":"#REF!"},{"$error":"#REF!"},{"$error":"#REF!"},{"$error":"#REF!"},{"$error":"#REF!"},{"$error":"#REF!"},{"$error":"#REF!"},{"$error":"#REF!"},{"$error":"#REF!"},{"$error":"#REF!"},{"$error":"#REF!"},{"$error":"#REF!"},{"$error":"#REF!"},{"$error":"#REF!"},{"$error":"#REF!"},{"$error":"#REF!"},{"$error":"#REF!"},{"$error":"#REF!"},{"$error":"#REF!"},{"$error":"#REF!"}]
["Closing RAB",null,{"$f":"C155+C156-C157","v":0},0,0,0,{"$error":"#REF!"},{"$error":"#REF!"},{"$error":"#REF!"},{"$error":"#REF!"},{"$error":"#REF!"},{"$error":"#REF!"},{"$f":"M155+M156-M157","v":{"$error":"#REF!"}},{"$error":"#REF!"},{"$error":"#REF!"},{"$error":"#REF!"},{"$error":"#REF!"},{"$error":"#REF!"},{"$error":"#REF!"},{"$f":"T155+T156-T157","v":{"$error":"#REF!"}},{"$error":"#REF!"},{"$error":"#REF!"},{"$error":"#REF!"},{"$error":"#REF!"},{"$error":"#REF!"},{"$error":"#REF!"},{"$error":"#REF!"},{"$error":"#REF!"},{"$error":"#REF!"}]
["Average RAB",null,{"$f":"SUM(C155,C158)/2","v":0},{"$f":"SUM(D155,D158)/2","v":0},{"$f":"SUM(E155,E158)/2","v":0},{"$f":"SUM(F155,F158)/2","v":0},{"$f":"SUM(G155,G158)/2","v":{"$error":"#REF!"}},{"$error":"#REF!"},{"$error":"#REF!"},{"$error":"#REF!"},{"$error":"#REF!"},{"$error":"#REF!"},{"$f":"SUM(M155,M158)/2","v":{"$error":"#REF!"}},{"$error":"#REF!"},{"$error":"#REF!"},{"$error":"#REF!"},{"$error":"#REF!"},{"$error":"#REF!"},{"$error":"#REF!"},{"$error":"#REF!"},{"$error":"#REF!"},{"$error":"#REF!"},{"$error":"#REF!"},{"$error":"#REF!"},{"$f":"SUM(Y155,Y158)/2","v":{"$error":"#REF!"}},{"$f":"SUM(Z155,Z158)/2","v":{"$error":"#REF!"}},{"$f":"SUM(AA155,AA158)/2","v":{"$error":"#REF!"}},{"$f":"SUM(AB155,AB158)/2","v":{"$error":"#REF!"}},{"$f":"SUM(AC155,AC158)/2","v":{"$error":"#REF!"}}]
[]
["Total Value to be recovered by change in unit rates",null,null,null,null,null,null,null,null,null,null,null,null,null,null,null,null,null,null,{"$f":"T$6","v":{"$error":"#REF!"}},{"$error":"#REF!"},{"$error":"#REF!"},{"$error":"#REF!"},{"$error":"#REF!"},{"$error":"#REF!"},{"$error":"#REF!"},{"$error":"#REF!"},{"$error":"#REF!"},{"$error":"#REF!"}]
["Depreciation",null,null,null,null,null,null,null,null,null,null,null,null,null,null,null,null,null,null,{"$f":"T157","v":{"$error":"#REF!"}},{"$error":"#REF!"},{"$error":"#REF!"},{"$error":"#REF!"},{"$error":"#REF!"},{"$error":"#REF!"},{"$error":"#REF!"},{"$error":"#REF!"},{"$error":"#REF!"},{"$error":"#REF!"}]
["ROA",null,null,null,null,null,null,null,null,null,null,null,null,null,null,null,null,null,null,{"$f":"T$120*T159","v":{"$error":"#REF!"}},{"$error":"#REF!"},{"$error":"#REF!"},{"$error":"#REF!"},{"$error":"#REF!"},{"$error":"#REF!"},{"$error":"#REF!"},{"$error":"#REF!"},{"$error":"#REF!"},{"$error":"#REF!"}]
[null,null,null,null,null,null,null,null,null,null,null,null,null,null,null,null,null,null,null,{"$f":"SUM(T162:T163)","v":{"$error":"#REF!"}},{"$error":"#REF!"},{"$error":"#REF!"},{"$error":"#REF!"},{"$error":"#REF!"},{"$error":"#REF!"},{"$error":"#REF!"},{"$error":"#REF!"},{"$error":"#REF!"},{"$error":"#REF!"}]
[]
[]
[]
["Total Public Lighting RAB"]
["Historical cost ($)"]
[]
["RAB",null,{"$f":"C$6","v":2005},{"$f":"D$6","v":2006},{"$f":"E$6","v":2007},2008,2009,2010,2011,2012,2013,2014,2015,2016,2017,2018,2019,2020,{"$error":"#REF!"},{"$error":"#REF!"},{"$error":"#REF!"},{"$error":"#REF!"},{"$error":"#REF!"},{"$error":"#REF!"},{"$error":"#REF!"},{"$error":"#REF!"},{"$error":"#REF!"},{"$error":"#REF!"},{"$error":"#REF!"}]
["Opening RAB",null,{"$f":"SUM(C125,C140,C155)","v":{"$error":"#REF!"}},{"$f":"C175","v":{"$error":"#REF!"}},{"$f":"D175","v":{"$error":"#REF!"}},{"$error":"#REF!"},{"$error":"#REF!"},{"$error":"#REF!"},{"$error":"#REF!"},{"$error":"#REF!"},{"$error":"#REF!"},{"$error":"#REF!"},{"$f":"L175","v":{"$error":"#REF!"}},{"$error":"#REF!"},{"$error":"#REF!"},{"$error":"#REF!"},{"$error":"#REF!"},{"$error":"#REF!"},{"$error":"#REF!"},{"$error":"#REF!"},{"$error":"#REF!"},{"$error":"#REF!"},{"$error":"#REF!"},{"$error":"#REF!"},{"$error":"#REF!"},{"$error":"#REF!"},{"$error":"#REF!"},{"$error":"#REF!"},{"$error":"#REF!"}]
["Capex",null,{"$f":"SUM(C126,C141,C156)","v":564000},{"$f":"SUM(D126,D141,D156)","v":1001000},504859.92074451799,1212261.9440597999,{"$error":"#REF!"},{"$error":"#REF!"},{"$error":"#REF!"},{"$error":"#REF!"},{"$error":"#REF!"},{"$error":"#REF!"},{"$f":"SUM(M126,M141,M156)","v":{"$error":"#REF!"}},{"$error":"#REF!"},{"$error":"#REF!"},{"$error":"#REF!"},{"$error":"#REF!"},{"$f":"SUM(R126,R141,R156)","v":{"$error":"#REF!"}},{"$error":"#REF!"},{"$error":"#REF!"},{"$error":"#REF!"},{"$error":"#REF!"},{"$error":"#REF!"},{"$error":"#REF!"},{"$f":"SUM(Y126,Y141,Y156)","v":{"$error":"#REF!"}},{"$error":"#REF!"},{"$error":"#REF!"},{"$error":"#REF!"},{"$error":"#REF!"}]
["Depreciation",null,{"$f":"SUM(C127,C142,C157)","v":{"$error":"#REF!"}},{"$error":"#REF!"},{"$error":"#REF!"},{"$error":"#REF!"},{"$error":"#REF!"},{"$error":"#REF!"},{"$error":"#REF!"},{"$error":"#REF!"},{"$error":"#REF!"},{"$error":"#REF!"},{"$error":"#REF!"},{"$error":"#REF!"},{"$error":"#REF!"},{"$error":"#REF!"},{"$error":"#REF!"},{"$f":"SUM(R127,R142,R157)","v":{"$error":"#REF!"}},{"$error":"#REF!"},{"$error":"#REF!"},{"$error":"#REF!"},{"$error":"#REF!"},{"$error":"#REF!"},{"$error":"#REF!"},{"$error":"#REF!"},{"$error":"#REF!"},{"$error":"#REF!"},{"$error":"#REF!"},{"$error":"#REF!"}]
["Closing RAB",null,{"$f":"C172+C173-C174","v":{"$error":"#REF!"}},{"$f":"D172+D173-D174","v":{"$error":"#REF!"}},{"$f":"E172+E173-E174","v":{"$error":"#REF!"}},{"$error":"#REF!"},{"$error":"#REF!"},{"$error":"#REF!"},{"$error":"#REF!"},{"$error":"#REF!"},{"$error":"#REF!"},{"$error":"#REF!"},{"$f":"M172+M173-M174","v":{"$error":"#REF!"}},{"$error":"#REF!"},{"$error":"#REF!"},{"$error":"#REF!"},{"$error":"#REF!"},{"$error":"#REF!"},{"$error":"#REF!"},{"$error":"#REF!"},{"$error":"#REF!"},{"$error":"#REF!"},{"$error":"#REF!"},{"$error":"#REF!"},{"$f":"Y172+Y173-Y174","v":{"$error":"#REF!"}},{"$f":"Z172+Z173-Z174","v":{"$error":"#REF!"}},{"$f":"AA172+AA173-AA174","v":{"$error":"#REF!"}},{"$f":"AB172+AB173-AB174","v":{"$error":"#REF!"}},{"$f":"AC172+AC173-AC174","v":{"$error":"#REF!"}}]
["Average RAB",null,{"$f":"SUM(C172,C175)/2","v":{"$error":"#REF!"}},{"$f":"SUM(D172,D175)/2","v":{"$error":"#REF!"}},{"$f":"SUM(E172,E175)/2","v":{"$error":"#REF!"}},{"$error":"#REF!"},{"$error":"#REF!"},{"$error":"#REF!"},{"$error":"#REF!"},{"$error":"#REF!"},{"$error":"#REF!"},{"$error":"#REF!"},{"$f":"SUM(M172,M175)/2","v":{"$error":"#REF!"}},{"$error":"#REF!"},{"$error":"#REF!"},{"$error":"#REF!"},{"$error":"#REF!"},{"$error":"#REF!"},{"$error":"#REF!"},{"$error":"#REF!"},{"$error":"#REF!"},{"$error":"#REF!"},{"$error":"#REF!"},{"$error":"#REF!"},{"$f":"SUM(Y172,Y175)/2","v":{"$error":"#REF!"}},{"$f":"SUM(Z172,Z175)/2","v":{"$error":"#REF!"}},{"$f":"SUM(AA172,AA175)/2","v":{"$error":"#REF!"}},{"$f":"SUM(AB172,AB175)/2","v":{"$error":"#REF!"}},{"$f":"SUM(AC172,AC175)/2","v":{"$error":"#REF!"}}]
["Check",{"$f":"SUM(C177:X177)","v":{"$error":"#REF!"}},{"$f":"ABS(C175-SUM(C128,C143,C158))","v":{"$error":"#REF!"}},{"$error":"#REF!"},{"$error":"#REF!"},{"$error":"#REF!"},{"$error":"#REF!"},{"$error":"#REF!"},{"$error":"#REF!"},{"$error":"#REF!"},{"$error":"#REF!"},{"$error":"#REF!"},{"$f":"ABS(M175-SUM(M128,M143,M158))","v":{"$error":"#REF!"}},{"$error":"#REF!"},{"$error":"#REF!"},{"$error":"#REF!"},{"$error":"#REF!"},{"$error":"#REF!"},{"$error":"#REF!"},{"$error":"#REF!"},{"$error":"#REF!"},{"$error":"#REF!"},{"$error":"#REF!"},{"$error":"#REF!"},{"$f":"ABS(Y175-SUM(Y128,Y143,Y158))","v":{"$error":"#REF!"}},{"$f":"ABS(Z175-SUM(Z128,Z143,Z158))","v":{"$error":"#REF!"}},{"$f":"ABS(AA175-SUM(AA128,AA143,AA158))","v":{"$error":"#REF!"}},{"$f":"ABS(AB175-SUM(AB128,AB143,AB158))","v":{"$error":"#REF!"}},{"$f":"ABS(AC175-SUM(AC128,AC143,AC158))","v":{"$error":"#REF!"}}]
[]
["Post 2005 RAB",null,{"$f":"C$6","v":2005},{"$f":"D$6","v":2006},{"$f":"E$6","v":2007},2008,2009,2010,2011,2012,2013,2014,2015,2016,2017,2018,2019,2020,{"$error":"#REF!"},{"$error":"#REF!"},{"$error":"#REF!"},{"$error":"#REF!"},{"$error":"#REF!"},{"$error":"#REF!"},{"$error":"#REF!"},{"$error":"#REF!"},{"$error":"#REF!"},{"$error":"#REF!"},{"$error":"#REF!"}]
["Opening RAB",null,0,{"$f":"C183","v":{"$error":"#REF!"}},{"$f":"D183","v":{"$error":"#REF!"}},{"$error":"#REF!"},{"$error":"#REF!"},{"$error":"#REF!"},{"$error":"#REF!"},{"$error":"#REF!"},{"$error":"#REF!"},{"$error":"#REF!"},{"$error":"#REF!"},{"$error":"#REF!"},{"$error":"#REF!"},{"$error":"#REF!"},{"$error":"#REF!"},{"$error":"#REF!"},{"$error":"#REF!"},{"$error":"#REF!"},{"$error":"#REF!"},{"$error":"#REF!"},{"$error":"#REF!"},{"$error":"#REF!"},{"$f":"X183","v":{"$error":"#REF!"}},{"$f":"Y183","v":{"$error":"#REF!"}},{"$f":"Z183","v":{"$error":"#REF!"}},{"$f":"AA183","v":{"$error":"#REF!"}},{"$f":"AB183","v":{"$error":"#REF!"}}]
["Capex",null,{"$f":"C173","v":564000},{"$f":"D173","v":1001000},{"$f":"E173","v":504859.92074451799},1212261.9440597999,{"$error":"#REF!"},{"$error":"#REF!"},{"$error":"#REF!"},{"$error":"#REF!"},{"$error":"#REF!"},{"$error":"#REF!"},{"$error":"#REF!"},{"$error":"#REF!"},{"$error":"#REF!"},{"$error":"#REF!"},{"$error":"#REF!"},{"$error":"#REF!"},{"$error":"#REF!"},{"$error":"#REF!"},{"$error":"#REF!"},{"$error":"#REF!"},{"$error":"#REF!"},{"$error":"#REF!"},{"$f":"Y173","v":{"$error":"#REF!"}},{"$f":"Z173","v":{"$error":"#REF!"}},{"$f":"AA173","v":{"$error":"#REF!"}},{"$f":"AB173","v":{"$error":"#REF!"}},{"$f":"AC173","v":{"$error":"#REF!"}}]
["Depreciation",null,{"$f":"SUM(C127,C142,C157)-SUM(C25,C57,C89)","v":{"$error":"#REF!"}},{"$f":"SUM(D127,D142,D157)-SUM(D25,D57,D89)","v":{"$error":"#REF!"}},{"$f":"SUM(E127,E142,E157)-SUM(E25,E57,E89)","v":{"$error":"#REF!"}},{"$error":"#REF!"},{"$error":"#REF!"},{"$error":"#REF!"},{"$error":"#REF!"},{"$error":"#REF!"},{"$error":"#REF!"},{"$error":"#REF!"},{"$error":"#REF!"},{"$error":"#REF!"},{"$error":"#REF!"},{"$error":"#REF!"},{"$error":"#REF!"},{"$error":"#REF!"},{"$error":"#REF!"},{"$error":"#REF!"},{"$error":"#REF!"},{"$error":"#REF!"},{"$error":"#REF!"},{"$error":"#REF!"},{"$f":"SUM(Y127,Y142,Y157)-SUM(Y25,Y57,Y89)","v":{"$error":"#REF!"}},{"$f":"SUM(Z127,Z142,Z157)-SUM(Z25,Z57,Z89)","v":{"$error":"#REF!"}},{"$f":"SUM(AA127,AA142,AA157)-SUM(AA25,AA57,AA89)","v":{"$error":"#REF!"}},{"$f":"SUM(AB127,AB142,AB157)-SUM(AB25,AB57,AB89)","v":{"$error":"#REF!"}},{"$f":"SUM(AC127,AC142,AC157)-SUM(AC25,AC57,AC89)","v":{"$error":"#REF!"}}]
["Closing RAB",null,{"$f":"C180+C181-C182","v":{"$error":"#REF!"}},{"$f":"D180+D181-D182","v":{"$error":"#REF!"}},{"$f":"E180+E181-E182","v":{"$error":"#REF!"}},{"$error":"#REF!"},{"$error":"#REF!"},{"$error":"#REF!"},{"$error":"#REF!"},{"$error":"#REF!"},{"$error":"#REF!"},{"$error":"#REF!"},{"$error":"#REF!"},{"$error":"#REF!"},{"$error":"#REF!"},{"$error":"#REF!"},{"$error":"#REF!"},{"$error":"#REF!"},{"$error":"#REF!"},{"$error":"#REF!"},{"$error":"#REF!"},{"$error":"#REF!"},{"$error":"#REF!"},{"$error":"#REF!"},{"$f":"Y180+Y181-Y182","v":{"$error":"#REF!"}},{"$f":"Z180+Z181-Z182","v":{"$error":"#REF!"}},{"$f":"AA180+AA181-AA182","v":{"$error":"#REF!"}},{"$f":"AB180+AB181-AB182","v":{"$error":"#REF!"}},{"$f":"AC180+AC181-AC182","v":{"$error":"#REF!"}}]

{"sheet":"RAB Rem Lives","index":19,"n_rows":185,"n_cols":9,"rows_kept":185,"cut":false,"hidden":true,"merged":[]}
[]
[null,"Remaining Lives Calculation"]
[null,null,null,"Actual","Actual","Actual","Forecast","Forecast","Forecast"]
[null,"Post 2005 RAB",null,{"$f":"'Total RAB'!S179&\" Closing RAB\"","v":{"$error":"#REF!"}},{"$f":"TEXT('Total RAB'!T179,\"MMM-YY\")&\" Closing RAB\"","v":{"$error":"#REF!"}},{"$f":"TEXT('Total RAB'!U179,\"MMM-YY\")&\" Closing RAB\"","v":{"$error":"#REF!"}},{"$f":"TEXT('Total RAB'!V179,\"MMM-YY\")&\" Closing RAB\"","v":{"$error":"#REF!"}},{"$f":"TEXT('Total RAB'!W179,\"MMM-YY\")&\" Closing RAB\"","v":{"$error":"#REF!"}},{"$f":"TEXT('Total RAB'!X179,\"MMM-YY\")&\" Closing RAB\"","v":{"$error":"#REF!"}}]
[]
[null,"Poles and Brackets",null,{"$f":"D81","v":{"$error":"#REF!"}},{"$error":"#REF!"},{"$error":"#REF!"},{"$error":"#REF!"},{"$error":"#REF!"},{"$error":"#REF!"}]
[]
[null,"Existing Lights",null,{"$f":"D133","v":{"$error":"#REF!"}},{"$error":"#REF!"},{"$error":"#REF!"},{"$error":"#REF!"},{"$error":"#REF!"},{"$error":"#REF!"}]
[null,"Luminaires"]
[]
[null,"Energy Efficient Lights",null,{"$f":"D185","v":{"$error":"#REF!"}},{"$error":"#REF!"},{"$error":"#REF!"},{"$error":"#REF!"},{"$error":"#REF!"},{"$error":"#REF!"}]
[null,"Luminaires and Ballasts"]
[]
[null,"Total Post 2005 RAB",null,{"$f":"D6+D8+D11","v":{"$error":"#REF!"}},{"$error":"#REF!"},{"$error":"#REF!"},{"$error":"#REF!"},{"$error":"#REF!"},{"$error":"#REF!"}]
[null,"check",null,{"$f":"D14-'Total RAB'!S183","v":{"$error":"#REF!"}},{"$f":"E14-'Total RAB'!T183","v":{"$error":"#REF!"}},{"$f":"F14-'Total RAB'!U183","v":{"$error":"#REF!"}},{"$f":"G14-'Total RAB'!V183","v":{"$error":"#REF!"}},{"$f":"H14-'Total RAB'!W183","v":{"$error":"#REF!"}},{"$f":"I14-'Total RAB'!X183","v":{"$error":"#REF!"}}]
[]
[null,"Post 2005 RAB",null,{"$f":"'Total RAB'!S179&\" Average Rem Lives\"","v":{"$error":"#REF!"}},{"$f":"TEXT('Total RAB'!T179,\"MMM-YY\")&\" Average Rem Lives\"","v":{"$error":"#REF!"}},{"$f":"TEXT('Total RAB'!U179,\"MMM-YY\")&\" Average Rem Lives\"","v":{"$error":"#REF!"}},{"$f":"TEXT('Total RAB'!V179,\"MMM-YY\")&\" Average Rem Lives\"","v":{"$error":"#REF!"}},{"$f":"TEXT('Total RAB'!W179,\"MMM-YY\")&\" Average Rem Lives\"","v":{"$error":"#REF!"}},{"$f":"TEXT('Total RAB'!X179,\"MMM-YY\")&\" Average Rem Lives\"","v":{"$error":"#REF!"}}]
[]
[null,"Poles and Brackets",null,{"$f":"SUMPRODUCT(D59:D80,'RAB Rem Lives'!D34:D55)/'RAB Rem Lives'!D6","v":{"$error":"#REF!"}},{"$f":"SUMPRODUCT(E59:E80,'RAB Rem Lives'!E34:E55)/'RAB Rem Lives'!E6","v":{"$error":"#REF!"}},{"$f":"SUMPRODUCT(F59:F80,'RAB Rem Lives'!F34:F55)/'RAB Rem Lives'!F6","v":{"$error":"#REF!"}},{"$f":"SUMPRODUCT(G59:G80,'RAB Rem Lives'!G34:G55)/'RAB Rem Lives'!G6","v":{"$error":"#REF!"}},{"$f":"SUMPRODUCT(H59:H80,'RAB Rem Lives'!H34:H55)/'RAB Rem Lives'!H6","v":{"$error":"#REF!"}},{"$f":"SUMPRODUCT(I59:I80,'RAB Rem Lives'!I34:I55)/'RAB Rem Lives'!I6","v":{"$error":"#REF!"}}]
[]
[null,"Existing Lights",null,{"$f":"SUMPRODUCT(D111:D132,'RAB Rem Lives'!D87:D108)/'RAB Rem Lives'!D8","v":{"$error":"#REF!"}},{"$f":"SUMPRODUCT(E111:E132,'RAB Rem Lives'!E87:E108)/'RAB Rem Lives'!E8","v":{"$error":"#REF!"}},{"$f":"SUMPRODUCT(F111:F132,'RAB Rem Lives'!F87:F108)/'RAB Rem Lives'!F8","v":{"$error":"#REF!"}},{"$f":"SUMPRODUCT(G111:G132,'RAB Rem Lives'!G87:G108)/'RAB Rem Lives'!G8","v":{"$error":"#REF!"}},{"$f":"SUMPRODUCT(H111:H132,'RAB Rem Lives'!H87:H108)/'RAB Rem Lives'!H8","v":{"$error":"#REF!"}},{"$f":"SUMPRODUCT(I111:I132,'RAB Rem Lives'!I87:I108)/'RAB Rem Lives'!I8","v":{"$error":"#REF!"}}]
[null,"Luminaires"]
[]
[null,"Energy Efficient Lights",null,{"$f":"SUMPRODUCT(D163:D184,'RAB Rem Lives'!D139:D160)/'RAB Rem Lives'!D11","v":{"$error":"#REF!"}},{"$f":"SUMPRODUCT(E163:E184,'RAB Rem Lives'!E139:E160)/'RAB Rem Lives'!E11","v":{"$error":"#REF!"}},{"$f":"SUMPRODUCT(F163:F184,'RAB Rem Lives'!F139:F160)/'RAB Rem Lives'!F11","v":{"$error":"#REF!"}},{"$f":"SUMPRODUCT(G163:G184,'RAB Rem Lives'!G139:G160)/'RAB Rem Lives'!G11","v":{"$error":"#REF!"}},{"$f":"SUMPRODUCT(H163:H184,'RAB Rem Lives'!H139:H160)/'RAB Rem Lives'!H11","v":{"$error":"#REF!"}},{"$f":"SUMPRODUCT(I163:I184,'RAB Rem Lives'!I139:I160)/'RAB Rem Lives'!I11","v":{"$error":"#REF!"}}]
[null,"Luminaires and Ballasts"]
[]
[null,"WARL",null,{"$f":"SUMPRODUCT(D6:D11,D19:D24)/D14","v":{"$error":"#REF!"}},{"$error":"#REF!"},{"$error":"#REF!"},{"$error":"#REF!"},{"$error":"#REF!"},{"$error":"#REF!"}]
[null,"check",null,{"$error":"#REF!"}]
[]
[]
[null,"Poles and Brackets"]
[null,"Remaining Lives","Standard Life","HY2021","2022-06-30","2023-06-30","2024-06-30","2025-06-30","2026-06-30"]
[]
[null,"Capex Rem Life 2005",{"$f":"'Total RAB'!$B$11","v":35},19,{"$f":"D34-1","v":18},17,16,15,14]
[null,"Capex Rem Life 2006",{"$f":"'Total RAB'!$B$11","v":35},20,19,18,17,16,15]
[null,"Capex Rem Life 2007",{"$f":"'Total RAB'!$B$11","v":35},21,20,19,18,17,16]
[null,"Capex Rem Life 2008",{"$f":"'Total RAB'!$B$11","v":35},22,21,20,19,18,17]
[null,"Capex Rem Life 2009",{"$f":"'Total RAB'!$B$11","v":35},23,22,21,20,19,18]
[null,"Capex Rem Life 2010",{"$f":"'Total RAB'!$B$11","v":35},24,23,22,21,20,19]
[null,"Capex Rem Life 2011",{"$f":"'Total RAB'!$B$11","v":35},25,24,23,22,21,20]
[null,"Capex Rem Life 2012",{"$f":"'Total RAB'!$B$11","v":35},26,25,24,23,22,21]
[null,"Capex Rem Life 2013",{"$f":"'Total RAB'!$B$11","v":35},27,26,25,24,23,22]
[null,"Capex Rem Life 2014",{"$f":"'Total RAB'!$B$11","v":35},28,27,26,25,24,23]
[null,"Capex Rem Life 2015",{"$f":"'Total RAB'!$B$11","v":35},29,{"$f":"D44-1","v":28},27,26,25,24]
[null,"Capex Rem Life 2016",{"$f":"'Total RAB'!$B$11","v":35},30,29,28,27,26,25]
[null,"Capex Rem Life 2017",{"$f":"'Total RAB'!$B$11","v":35},31,30,29,28,27,26]
[null,"Capex Rem Life 2018",{"$f":"'Total RAB'!$B$11","v":35},32,31,30,29,28,27]
[null,"Capex Rem Life 2019",{"$f":"'Total RAB'!$B$11","v":35},33,32,31,30,29,28]
[null,"Capex Rem Life 2020",{"$f":"'Total RAB'!$B$11","v":35},34,33,32,31,30,29]
[null,"Capex Rem Life HY2021",{"$f":"'Total RAB'!$B$11","v":35},34.5,{"$f":"D50-1","v":33.5},32.5,31.5,30.5,29.5]
[null,"Capex Rem Life 2022",{"$f":"'Total RAB'!$B$11","v":35},null,{"$f":"$C51","v":35},34,33,32,31]
[null,"Capex Rem Life 2023",{"$f":"'Total RAB'!$B$11","v":35},null,null,{"$f":"$C52","v":35},34,33,32]
[null,"Capex Rem Life 2024",{"$f":"'Total RAB'!$B$11","v":35},null,null,null,{"$f":"$C53","v":35},34,33]
[null,"Capex Rem Life 2025",{"$f":"'Total RAB'!$B$11","v":35},null,null,null,null,{"$f":"$C54","v":35},34]
[null,"Capex Rem Life 2026",{"$f":"'Total RAB'!$B$11","v":35},null,null,null,null,null,{"$f":"$C55","v":35}]
[]
[null,"Depreciated Net Capex","Nominal Net Capex","HY2021","2022-06-30","2023-06-30","2024-06-30","2025-06-30","2026-06-30"]
[null,"$Nominal"]
[null,"Depreciated Net Capex 2005",{"$f":"TRANSPOSE('Total RAB'!C11:X11)","v":382620.48073362443},{"$f":"$C59-SUM('Total RAB'!$C26:S26)","v":207708.26096968187},{"$f":"$C59-SUM('Total RAB'!$C26:T26)","v":196776.24723443546},{"$f":"$C59-SUM('Total RAB'!$C26:U26)","v":185844.23349918905},{"$f":"$C59-SUM('Total RAB'!$C26:V26)","v":174912.21976394264},{"$f":"$C59-SUM('Total RAB'!$C26:W26)","v":163980.20602869624},{"$f":"$C59-SUM('Total RAB'!$C26:X26)","v":153048.19229344983}]
[null,"Depreciated Net Capex 2006",679083.51279141498,{"$f":"$C60-SUM('Total RAB'!$C27:S27)","v":388047.72159509431},{"$f":"$C60-SUM('Total RAB'!$C27:T27)","v":368645.33551533957},{"$f":"$C60-SUM('Total RAB'!$C27:U27)","v":349242.94943558483},{"$f":"$C60-SUM('Total RAB'!$C27:V27)","v":329840.56335583009},{"$f":"$C60-SUM('Total RAB'!$C27:W27)","v":310438.17727607535},{"$f":"$C60-SUM('Total RAB'!$C27:X27)","v":291035.79119632061}]
[null,"Depreciated Net Capex 2007",342454.50012480229,{"$f":"$C61-SUM('Total RAB'!$C28:S28)","v":205472.7000748814},{"$f":"$C61-SUM('Total RAB'!$C28:T28)","v":195688.28578560133},{"$f":"$C61-SUM('Total RAB'!$C28:U28)","v":185903.87149632126},{"$f":"$C61-SUM('Total RAB'!$C28:V28)","v":176119.45720704118},{"$f":"$C61-SUM('Total RAB'!$C28:W28)","v":166335.04291776111},{"$f":"$C61-SUM('Total RAB'!$C28:X28)","v":156550.62862848103}]
[null,"Depreciated Net Capex 2008",822296.52427371382,{"$f":"$C62-SUM('Total RAB'!$C29:S29)","v":516872.10097204876},{"$f":"$C62-SUM('Total RAB'!$C29:T29)","v":493377.91456422838},{"$f":"$C62-SUM('Total RAB'!$C29:U29)","v":469883.728156408},{"$f":"$C62-SUM('Total RAB'!$C29:V29)","v":446389.54174858762},{"$f":"$C62-SUM('Total RAB'!$C29:W29)","v":422895.35534076724},{"$f":"$C62-SUM('Total RAB'!$C29:X29)","v":399401.16893294686}]
[null,"Depreciated Net Capex 2009",{"$error":"#REF!"},{"$f":"$C63-SUM('Total RAB'!$C30:S30)","v":{"$error":"#REF!"}},{"$f":"$C63-SUM('Total RAB'!$C30:T30)","v":{"$error":"#REF!"}},{"$f":"$C63-SUM('Total RAB'!$C30:U30)","v":{"$error":"#REF!"}},{"$f":"$C63-SUM('Total RAB'!$C30:V30)","v":{"$error":"#REF!"}},{"$f":"$C63-SUM('Total RAB'!$C30:W30)","v":{"$error":"#REF!"}},{"$f":"$C63-SUM('Total RAB'!$C30:X30)","v":{"$error":"#REF!"}}]
[null,"Depreciated Net Capex 2010",{"$error":"#REF!"},{"$f":"$C64-SUM('Total RAB'!$C31:S31)","v":{"$error":"#REF!"}},{"$f":"$C64-SUM('Total RAB'!$C31:T31)","v":{"$error":"#REF!"}},{"$f":"$C64-SUM('Total RAB'!$C31:U31)","v":{"$error":"#REF!"}},{"$f":"$C64-SUM('Total RAB'!$C31:V31)","v":{"$error":"#REF!"}},{"$f":"$C64-SUM('Total RAB'!$C31:W31)","v":{"$error":"#REF!"}},{"$f":"$C64-SUM('Total RAB'!$C31:X31)","v":{"$error":"#REF!"}}]
[null,"Depreciated Net Capex 2011",{"$error":"#REF!"},{"$f":"$C65-SUM('Total RAB'!$C32:S32)","v":{"$error":"#REF!"}},{"$f":"$C65-SUM('Total RAB'!$C32:T32)","v":{"$error":"#REF!"}},{"$f":"$C65-SUM('Total RAB'!$C32:U32)","v":{"$error":"#REF!"}},{"$f":"$C65-SUM('Total RAB'!$C32:V32)","v":{"$error":"#REF!"}},{"$f":"$C65-SUM('Total RAB'!$C32:W32)","v":{"$error":"#REF!"}},{"$f":"$C65-SUM('Total RAB'!$C32:X32)","v":{"$error":"#REF!"}}]
[null,"Depreciated Net Capex 2012",{"$error":"#REF!"},{"$f":"$C66-SUM('Total RAB'!$C33:S33)","v":{"$error":"#REF!"}},{"$f":"$C66-SUM('Total RAB'!$C33:T33)","v":{"$error":"#REF!"}},{"$f":"$C66-SUM('Total RAB'!$C33:U33)","v":{"$error":"#REF!"}},{"$f":"$C66-SUM('Total RAB'!$C33:V33)","v":{"$error":"#REF!"}},{"$f":"$C66-SUM('Total RAB'!$C33:W33)","v":{"$error":"#REF!"}},{"$f":"$C66-SUM('Total RAB'!$C33:X33)","v":{"$error":"#REF!"}}]
[null,"Depreciated Net Capex 2013",{"$error":"#REF!"},{"$f":"$C67-SUM('Total RAB'!$C34:S34)","v":{"$error":"#REF!"}},{"$f":"$C67-SUM('Total RAB'!$C34:T34)","v":{"$error":"#REF!"}},{"$f":"$C67-SUM('Total RAB'!$C34:U34)","v":{"$error":"#REF!"}},{"$f":"$C67-SUM('Total RAB'!$C34:V34)","v":{"$error":"#REF!"}},{"$f":"$C67-SUM('Total RAB'!$C34:W34)","v":{"$error":"#REF!"}},{"$f":"$C67-SUM('Total RAB'!$C34:X34)","v":{"$error":"#REF!"}}]
[null,"Depreciated Net Capex 2014",{"$error":"#REF!"},{"$f":"$C68-SUM('Total RAB'!$C35:S35)","v":{"$error":"#REF!"}},{"$f":"$C68-SUM('Total RAB'!$C35:T35)","v":{"$error":"#REF!"}},{"$f":"$C68-SUM('Total RAB'!$C35:U35)","v":{"$error":"#REF!"}},{"$f":"$C68-SUM('Total RAB'!$C35:V35)","v":{"$error":"#REF!"}},{"$f":"$C68-SUM('Total RAB'!$C35:W35)","v":{"$error":"#REF!"}},{"$f":"$C68-SUM('Total RAB'!$C35:X35)","v":{"$error":"#REF!"}}]
[null,"Depreciated Net Capex 2015",{"$error":"#REF!"},{"$f":"$C69-SUM('Total RAB'!$C36:S36)","v":{"$error":"#REF!"}},{"$f":"$C69-SUM('Total RAB'!$C36:T36)","v":{"$error":"#REF!"}},{"$f":"$C69-SUM('Total RAB'!$C36:U36)","v":{"$error":"#REF!"}},{"$f":"$C69-SUM('Total RAB'!$C36:V36)","v":{"$error":"#REF!"}},{"$f":"$C69-SUM('Total RAB'!$C36:W36)","v":{"$error":"#REF!"}},{"$f":"$C69-SUM('Total RAB'!$C36:X36)","v":{"$error":"#REF!"}}]
[null,"Depreciated Net Capex 2016",{"$error":"#REF!"},{"$f":"$C70-SUM('Total RAB'!$C37:S37)","v":{"$error":"#REF!"}},{"$f":"$C70-SUM('Total RAB'!$C37:T37)","v":{"$error":"#REF!"}},{"$f":"$C70-SUM('Total RAB'!$C37:U37)","v":{"$error":"#REF!"}},{"$f":"$C70-SUM('Total RAB'!$C37:V37)","v":{"$error":"#REF!"}},{"$f":"$C70-SUM('Total RAB'!$C37:W37)","v":{"$error":"#REF!"}},{"$f":"$C70-SUM('Total RAB'!$C37:X37)","v":{"$error":"#REF!"}}]
[null,"Depreciated Net Capex 2017",{"$error":"#REF!"},{"$f":"$C71-SUM('Total RAB'!$C38:S38)","v":{"$error":"#REF!"}},{"$f":"$C71-SUM('Total RAB'!$C38:T38)","v":{"$error":"#REF!"}},{"$f":"$C71-SUM('Total RAB'!$C38:U38)","v":{"$error":"#REF!"}},{"$f":"$C71-SUM('Total RAB'!$C38:V38)","v":{"$error":"#REF!"}},{"$f":"$C71-SUM('Total RAB'!$C38:W38)","v":{"$error":"#REF!"}},{"$f":"$C71-SUM('Total RAB'!$C38:X38)","v":{"$error":"#REF!"}}]
[null,"Depreciated Net Capex 2018",{"$error":"#REF!"},{"$f":"$C72-SUM('Total RAB'!$C39:S39)","v":{"$error":"#REF!"}},{"$f":"$C72-SUM('Total RAB'!$C39:T39)","v":{"$error":"#REF!"}},{"$f":"$C72-SUM('Total RAB'!$C39:U39)","v":{"$error":"#REF!"}},{"$f":"$C72-SUM('Total RAB'!$C39:V39)","v":{"$error":"#REF!"}},{"$f":"$C72-SUM('Total RAB'!$C39:W39)","v":{"$error":"#REF!"}},{"$f":"$C72-SUM('Total RAB'!$C39:X39)","v":{"$error":"#REF!"}}]
[null,"Depreciated Net Capex 2019",{"$error":"#REF!"},{"$f":"$C73-SUM('Total RAB'!$C40:S40)","v":{"$error":"#REF!"}},{"$f":"$C73-SUM('Total RAB'!$C40:T40)","v":{"$error":"#REF!"}},{"$f":"$C73-SUM('Total RAB'!$C40:U40)","v":{"$error":"#REF!"}},{"$f":"$C73-SUM('Total RAB'!$C40:V40)","v":{"$error":"#REF!"}},{"$f":"$C73-SUM('Total RAB'!$C40:W40)","v":{"$error":"#REF!"}},{"$f":"$C73-SUM('Total RAB'!$C40:X40)","v":{"$error":"#REF!"}}]
[null,"Depreciated Net Capex 2020",{"$error":"#REF!"},{"$f":"$C74-SUM('Total RAB'!$C41:S41)","v":{"$error":"#REF!"}},{"$f":"$C74-SUM('Total RAB'!$C41:T41)","v":{"$error":"#REF!"}},{"$f":"$C74-SUM('Total RAB'!$C41:U41)","v":{"$error":"#REF!"}},{"$f":"$C74-SUM('Total RAB'!$C41:V41)","v":{"$error":"#REF!"}},{"$f":"$C74-SUM('Total RAB'!$C41:W41)","v":{"$error":"#REF!"}},{"$f":"$C74-SUM('Total RAB'!$C41:X41)","v":{"$error":"#REF!"}}]
[null,"Depreciated Net Capex HY2021",{"$error":"#REF!"},{"$f":"$C75-SUM('Total RAB'!$C42:S42)","v":{"$error":"#REF!"}},{"$f":"$C75-SUM('Total RAB'!$C42:T42)","v":{"$error":"#REF!"}},{"$f":"$C75-SUM('Total RAB'!$C42:U42)","v":{"$error":"#REF!"}},{"$f":"$C75-SUM('Total RAB'!$C42:V42)","v":{"$error":"#REF!"}},{"$f":"$C75-SUM('Total RAB'!$C42:W42)","v":{"$error":"#REF!"}},{"$f":"$C75-SUM('Total RAB'!$C42:X42)","v":{"$error":"#REF!"}}]
[null,"Depreciated Net Capex 2022",{"$error":"#REF!"},null,{"$f":"$C76-SUM('Total RAB'!$C43:T43)","v":{"$error":"#REF!"}},{"$f":"$C76-SUM('Total RAB'!$C43:U43)","v":{"$error":"#REF!"}},{"$f":"$C76-SUM('Total RAB'!$C43:V43)","v":{"$error":"#REF!"}},{"$f":"$C76-SUM('Total RAB'!$C43:W43)","v":{"$error":"#REF!"}},{"$f":"$C76-SUM('Total RAB'!$C43:X43)","v":{"$error":"#REF!"}}]
[null,"Depreciated Net Capex 2023",{"$error":"#REF!"},null,null,{"$f":"$C77-SUM('Total RAB'!$C44:U44)","v":{"$error":"#REF!"}},{"$f":"$C77-SUM('Total RAB'!$C44:V44)","v":{"$error":"#REF!"}},{"$f":"$C77-SUM('Total RAB'!$C44:W44)","v":{"$error":"#REF!"}},{"$f":"$C77-SUM('Total RAB'!$C44:X44)","v":{"$error":"#REF!"}}]
[null,"Depreciated Net Capex 2024",{"$error":"#REF!"},null,null,null,{"$f":"$C78-SUM('Total RAB'!$C45:V45)","v":{"$error":"#REF!"}},{"$f":"$C78-SUM('Total RAB'!$C45:W45)","v":{"$error":"#REF!"}},{"$f":"$C78-SUM('Total RAB'!$C45:X45)","v":{"$error":"#REF!"}}]
[null,"Depreciated Net Capex 2025",{"$error":"#REF!"},null,null,null,null,{"$f":"$C79-SUM('Total RAB'!$C46:W46)","v":{"$error":"#REF!"}},{"$f":"$C79-SUM('Total RAB'!$C46:X46)","v":{"$error":"#REF!"}}]
[null,"Depreciated Net Capex 2026",{"$error":"#REF!"},null,null,null,null,null,{"$f":"$C80-SUM('Total RAB'!$C47:X47)","v":{"$error":"#REF!"}}]
[null,null,null,{"$f":"SUM(D59:D80)","v":{"$error":"#REF!"}},{"$error":"#REF!"},{"$error":"#REF!"},{"$error":"#REF!"},{"$error":"#REF!"},{"$error":"#REF!"}]
[]
[]
[null,"Existing Lights"]
[null,"Remaining Lives","Standard Life","HY2021","2022-06-30","2023-06-30","2024-06-30","2025-06-30","2026-06-30"]
[]
[null,"Capex Rem Life 2005",{"$f":"'Total RAB'!$B$14","v":20},4,{"$f":"IF(D87-1<0,0,D87-1)","v":3},2,1,0,0]
[null,"Capex Rem Life 2006",{"$f":"'Total RAB'!$B$14","v":20},5,4,3,2,1,0]
[null,"Capex Rem Life 2007",{"$f":"'Total RAB'!$B$14","v":20},6,5,4,3,2,1]
[null,"Capex Rem Life 2008",{"$f":"'Total RAB'!$B$14","v":20},7,6,5,4,3,2]
[null,"Capex Rem Life 2009",{"$f":"'Total RAB'!$B$14","v":20},8,7,6,5,4,3]
[null,"Capex Rem Life 2010",{"$f":"'Total RAB'!$B$14","v":20},9,8,7,6,5,4]
[null,"Capex Rem Life 2011",{"$f":"'Total RAB'!$B$14","v":20},10,9,8,7,6,5]
[null,"Capex Rem Life 2012",{"$f":"'Total RAB'!$B$14","v":20},11,10,9,8,7,6]
[null,"Capex Rem Life 2013",{"$f":"'Total RAB'!$B$14","v":20},12,11,10,9,8,7]
[null,"Capex Rem Life 2014",{"$f":"'Total RAB'!$B$14","v":20},13,12,11,10,9,8]
[null,"Capex Rem Life 2015",{"$f":"'Total RAB'!$B$14","v":20},14,{"$f":"IF(D97-1<0,0,D97-1)","v":13},12,11,10,9]
[null,"Capex Rem Life 2016",{"$f":"'Total RAB'!$B$14","v":20},15,14,13,12,11,10]
[null,"Capex Rem Life 2017",{"$f":"'Total RAB'!$B$14","v":20},16,15,14,13,12,11]
[null,"Capex Rem Life 2018",{"$f":"'Total RAB'!$B$14","v":20},17,16,15,14,13,12]
[null,"Capex Rem Life 2019",{"$f":"'Total RAB'!$B$14","v":20},18,17,16,15,14,13]
[null,"Capex Rem Life 2020",{"$f":"'Total RAB'!$B$14","v":20},19,18,17,16,15,14]
[null,"Capex Rem Life HY2021",{"$f":"'Total RAB'!$B$14","v":20},19.5,18.5,17.5,16.5,15.5,14.5]
[null,"Capex Rem Life 2022",{"$f":"'Total RAB'!$B$14","v":20},null,{"$f":"$C104","v":20},{"$f":"IF(E104-1<0,0,E104-1)","v":19},{"$f":"IF(F104-1<0,0,F104-1)","v":18},{"$f":"IF(G104-1<0,0,G104-1)","v":17},{"$f":"IF(H104-1<0,0,H104-1)","v":16}]
[null,"Capex Rem Life 2023",{"$f":"'Total RAB'!$B$14","v":20},null,null,{"$f":"$C105","v":20},{"$f":"F105-1","v":19},{"$f":"G105-1","v":18},{"$f":"H105-1","v":17}]
[null,"Capex Rem Life 2024",{"$f":"'Total RAB'!$B$14","v":20},null,null,null,{"$f":"$C106","v":20},{"$f":"G106-1","v":19},{"$f":"H106-1","v":18}]
[null,"Capex Rem Life 2025",{"$f":"'Total RAB'!$B$14","v":20},null,null,null,null,{"$f":"$C107","v":20},{"$f":"H107-1","v":19}]
[null,"Capex Rem Life 2026",{"$f":"'Total RAB'!$B$14","v":20},null,null,null,null,null,{"$f":"$C108","v":20}]
[]
[null,"Depreciated Net Capex","Nominal Net Capex","HY2021","2022-06-30","2023-06-30","2024-06-30","2025-06-30","2026-06-30"]
[null,"Depreciated Net Capex 2005",{"$f":"TRANSPOSE('Total RAB'!C14:X14)","v":181379.51926637554},{"$f":"IF(C111=\"\",$C111-SUM('Total RAB'!$C58:S58),IF(C111=0,0,$C111-SUM('Total RAB'!$C58:S58)))","v":36275.903853275115},{"$f":"IF(D111=\"\",$C111-SUM('Total RAB'!$C58:T58),IF(D111=0,0,$C111-SUM('Total RAB'!$C58:T58)))","v":27206.927889956336},{"$f":"IF(E111=\"\",$C111-SUM('Total RAB'!$C58:U58),IF(E111=0,0,$C111-SUM('Total RAB'!$C58:U58)))","v":18137.951926637557},{"$f":"IF(F111=\"\",$C111-SUM('Total RAB'!$C58:V58),IF(F111=0,0,$C111-SUM('Total RAB'!$C58:V58)))","v":9068.9759633187787},{"$f":"IF(G111=\"\",$C111-SUM('Total RAB'!$C58:W58),IF(G111=0,0,$C111-SUM('Total RAB'!$C58:W58)))","v":0},{"$f":"IF(H111=\"\",$C111-SUM('Total RAB'!$C58:X58),IF(H111=0,0,$C111-SUM('Total RAB'!$C58:X58)))","v":0}]
[null,"Depreciated Net Capex 2006",321916.48720858502,{"$f":"IF(C112=\"\",$C112-SUM('Total RAB'!$C59:S59),IF(C112=0,0,$C112-SUM('Total RAB'!$C59:S59)))","v":80479.121802146256},{"$f":"IF(D112=\"\",$C112-SUM('Total RAB'!$C59:T59),IF(D112=0,0,$C112-SUM('Total RAB'!$C59:T59)))","v":64383.297441717004},{"$f":"IF(E112=\"\",$C112-SUM('Total RAB'!$C59:U59),IF(E112=0,0,$C112-SUM('Total RAB'!$C59:U59)))","v":48287.473081287753},{"$f":"IF(F112=\"\",$C112-SUM('Total RAB'!$C59:V59),IF(F112=0,0,$C112-SUM('Total RAB'!$C59:V59)))","v":32191.648720858502},{"$f":"IF(G112=\"\",$C112-SUM('Total RAB'!$C59:W59),IF(G112=0,0,$C112-SUM('Total RAB'!$C59:W59)))","v":16095.824360429251},{"$f":"IF(H112=\"\",$C112-SUM('Total RAB'!$C59:X59),IF(H112=0,0,$C112-SUM('Total RAB'!$C59:X59)))","v":0}]
[null,"Depreciated Net Capex 2007",162405.4206197157,{"$f":"IF(C113=\"\",$C113-SUM('Total RAB'!$C60:S60),IF(C113=0,0,$C113-SUM('Total RAB'!$C60:S60)))","v":48721.626185914734},{"$f":"IF(D113=\"\",$C113-SUM('Total RAB'!$C60:T60),IF(D113=0,0,$C113-SUM('Total RAB'!$C60:T60)))","v":40601.355154928955},{"$f":"IF(E113=\"\",$C113-SUM('Total RAB'!$C60:U60),IF(E113=0,0,$C113-SUM('Total RAB'!$C60:U60)))","v":32481.084123943176},{"$f":"IF(F113=\"\",$C113-SUM('Total RAB'!$C60:V60),IF(F113=0,0,$C113-SUM('Total RAB'!$C60:V60)))","v":24360.813092957396},{"$f":"IF(G113=\"\",$C113-SUM('Total RAB'!$C60:W60),IF(G113=0,0,$C113-SUM('Total RAB'!$C60:W60)))","v":16240.542061971617},{"$f":"IF(H113=\"\",$C113-SUM('Total RAB'!$C60:X60),IF(H113=0,0,$C113-SUM('Total RAB'!$C60:X60)))","v":8120.2710309858376}]
[null,"Depreciated Net Capex 2008",389965.41978608596,{"$f":"IF(C114=\"\",$C114-SUM('Total RAB'!$C61:S61),IF(C114=0,0,$C114-SUM('Total RAB'!$C61:S61)))","v":136487.89692513013},{"$f":"IF(D114=\"\",$C114-SUM('Total RAB'!$C61:T61),IF(D114=0,0,$C114-SUM('Total RAB'!$C61:T61)))","v":116989.62593582581},{"$f":"IF(E114=\"\",$C114-SUM('Total RAB'!$C61:U61),IF(E114=0,0,$C114-SUM('Total RAB'!$C61:U61)))","v":97491.354946521518},{"$f":"IF(F114=\"\",$C114-SUM('Total RAB'!$C61:V61),IF(F114=0,0,$C114-SUM('Total RAB'!$C61:V61)))","v":77993.083957217226},{"$f":"IF(G114=\"\",$C114-SUM('Total RAB'!$C61:W61),IF(G114=0,0,$C114-SUM('Total RAB'!$C61:W61)))","v":58494.812967912934},{"$f":"IF(H114=\"\",$C114-SUM('Total RAB'!$C61:X61),IF(H114=0,0,$C114-SUM('Total RAB'!$C61:X61)))","v":38996.541978608642}]
[null,"Depreciated Net Capex 2009",{"$error":"#REF!"},{"$f":"IF(C115=\"\",$C115-SUM('Total RAB'!$C62:S62),IF(C115=0,0,$C115-SUM('Total RAB'!$C62:S62)))","v":{"$error":"#REF!"}},{"$f":"IF(D115=\"\",$C115-SUM('Total RAB'!$C62:T62),IF(D115=0,0,$C115-SUM('Total RAB'!$C62:T62)))","v":{"$error":"#REF!"}},{"$f":"IF(E115=\"\",$C115-SUM('Total RAB'!$C62:U62),IF(E115=0,0,$C115-SUM('Total RAB'!$C62:U62)))","v":{"$error":"#REF!"}},{"$f":"IF(F115=\"\",$C115-SUM('Total RAB'!$C62:V62),IF(F115=0,0,$C115-SUM('Total RAB'!$C62:V62)))","v":{"$error":"#REF!"}},{"$f":"IF(G115=\"\",$C115-SUM('Total RAB'!$C62:W62),IF(G115=0,0,$C115-SUM('Total RAB'!$C62:W62)))","v":{"$error":"#REF!"}},{"$f":"IF(H115=\"\",$C115-SUM('Total RAB'!$C62:X62),IF(H115=0,0,$C115-SUM('Total RAB'!$C62:X62)))","v":{"$error":"#REF!"}}]
[null,"Depreciated Net Capex 2010",{"$error":"#REF!"},{"$f":"IF(C116=\"\",$C116-SUM('Total RAB'!$C63:S63),IF(C116=0,0,$C116-SUM('Total RAB'!$C63:S63)))","v":{"$error":"#REF!"}},{"$f":"IF(D116=\"\",$C116-SUM('Total RAB'!$C63:T63),IF(D116=0,0,$C116-SUM('Total RAB'!$C63:T63)))","v":{"$error":"#REF!"}},{"$f":"IF(E116=\"\",$C116-SUM('Total RAB'!$C63:U63),IF(E116=0,0,$C116-SUM('Total RAB'!$C63:U63)))","v":{"$error":"#REF!"}},{"$f":"IF(F116=\"\",$C116-SUM('Total RAB'!$C63:V63),IF(F116=0,0,$C116-SUM('Total RAB'!$C63:V63)))","v":{"$error":"#REF!"}},{"$f":"IF(G116=\"\",$C116-SUM('Total RAB'!$C63:W63),IF(G116=0,0,$C116-SUM('Total RAB'!$C63:W63)))","v":{"$error":"#REF!"}},{"$f":"IF(H116=\"\",$C116-SUM('Total RAB'!$C63:X63),IF(H116=0,0,$C116-SUM('Total RAB'!$C63:X63)))","v":{"$error":"#REF!"}}]
[null,"Depreciated Net Capex 2011",{"$error":"#REF!"},{"$f":"IF(C117=\"\",$C117-SUM('Total RAB'!$C64:S64),IF(C117=0,0,$C117-SUM('Total RAB'!$C64:S64)))","v":{"$error":"#REF!"}},{"$f":"IF(D117=\"\",$C117-SUM('Total RAB'!$C64:T64),IF(D117=0,0,$C117-SUM('Total RAB'!$C64:T64)))","v":{"$error":"#REF!"}},{"$f":"IF(E117=\"\",$C117-SUM('Total RAB'!$C64:U64),IF(E117=0,0,$C117-SUM('Total RAB'!$C64:U64)))","v":{"$error":"#REF!"}},{"$f":"IF(F117=\"\",$C117-SUM('Total RAB'!$C64:V64),IF(F117=0,0,$C117-SUM('Total RAB'!$C64:V64)))","v":{"$error":"#REF!"}},{"$f":"IF(G117=\"\",$C117-SUM('Total RAB'!$C64:W64),IF(G117=0,0,$C117-SUM('Total RAB'!$C64:W64)))","v":{"$error":"#REF!"}},{"$f":"IF(H117=\"\",$C117-SUM('Total RAB'!$C64:X64),IF(H117=0,0,$C117-SUM('Total RAB'!$C64:X64)))","v":{"$error":"#REF!"}}]
[null,"Depreciated Net Capex 2012",{"$error":"#REF!"},{"$f":"IF(C118=\"\",$C118-SUM('Total RAB'!$C65:S65),IF(C118=0,0,$C118-SUM('Total RAB'!$C65:S65)))","v":{"$error":"#REF!"}},{"$f":"IF(D118=\"\",$C118-SUM('Total RAB'!$C65:T65),IF(D118=0,0,$C118-SUM('Total RAB'!$C65:T65)))","v":{"$error":"#REF!"}},{"$f":"IF(E118=\"\",$C118-SUM('Total RAB'!$C65:U65),IF(E118=0,0,$C118-SUM('Total RAB'!$C65:U65)))","v":{"$error":"#REF!"}},{"$f":"IF(F118=\"\",$C118-SUM('Total RAB'!$C65:V65),IF(F118=0,0,$C118-SUM('Total RAB'!$C65:V65)))","v":{"$error":"#REF!"}},{"$f":"IF(G118=\"\",$C118-SUM('Total RAB'!$C65:W65),IF(G118=0,0,$C118-SUM('Total RAB'!$C65:W65)))","v":{"$error":"#REF!"}},{"$f":"IF(H118=\"\",$C118-SUM('Total RAB'!$C65:X65),IF(H118=0,0,$C118-SUM('Total RAB'!$C65:X65)))","v":{"$error":"#REF!"}}]
[null,"Depreciated Net Capex 2013",{"$error":"#REF!"},{"$f":"IF(C119=\"\",$C119-SUM('Total RAB'!$C66:S66),IF(C119=0,0,$C119-SUM('Total RAB'!$C66:S66)))","v":{"$error":"#REF!"}},{"$f":"IF(D119=\"\",$C119-SUM('Total RAB'!$C66:T66),IF(D119=0,0,$C119-SUM('Total RAB'!$C66:T66)))","v":{"$error":"#REF!"}},{"$f":"IF(E119=\"\",$C119-SUM('Total RAB'!$C66:U66),IF(E119=0,0,$C119-SUM('Total RAB'!$C66:U66)))","v":{"$error":"#REF!"}},{"$f":"IF(F119=\"\",$C119-SUM('Total RAB'!$C66:V66),IF(F119=0,0,$C119-SUM('Total RAB'!$C66:V66)))","v":{"$error":"#REF!"}},{"$f":"IF(G119=\"\",$C119-SUM('Total RAB'!$C66:W66),IF(G119=0,0,$C119-SUM('Total RAB'!$C66:W66)))","v":{"$error":"#REF!"}},{"$f":"IF(H119=\"\",$C119-SUM('Total RAB'!$C66:X66),IF(H119=0,0,$C119-SUM('Total RAB'!$C66:X66)))","v":{"$error":"#REF!"}}]
[null,"Depreciated Net Capex 2014",{"$error":"#REF!"},{"$f":"IF(C120=\"\",$C120-SUM('Total RAB'!$C67:S67),IF(C120=0,0,$C120-SUM('Total RAB'!$C67:S67)))","v":{"$error":"#REF!"}},{"$f":"IF(D120=\"\",$C120-SUM('Total RAB'!$C67:T67),IF(D120=0,0,$C120-SUM('Total RAB'!$C67:T67)))","v":{"$error":"#REF!"}},{"$f":"IF(E120=\"\",$C120-SUM('Total RAB'!$C67:U67),IF(E120=0,0,$C120-SUM('Total RAB'!$C67:U67)))","v":{"$error":"#REF!"}},{"$f":"IF(F120=\"\",$C120-SUM('Total RAB'!$C67:V67),IF(F120=0,0,$C120-SUM('Total RAB'!$C67:V67)))","v":{"$error":"#REF!"}},{"$f":"IF(G120=\"\",$C120-SUM('Total RAB'!$C67:W67),IF(G120=0,0,$C120-SUM('Total RAB'!$C67:W67)))","v":{"$error":"#REF!"}},{"$f":"IF(H120=\"\",$C120-SUM('Total RAB'!$C67:X67),IF(H120=0,0,$C120-SUM('Total RAB'!$C67:X67)))","v":{"$error":"#REF!"}}]
[null,"Depreciated Net Capex 2015",{"$error":"#REF!"},{"$f":"IF(C121=\"\",$C121-SUM('Total RAB'!$C68:S68),IF(C121=0,0,$C121-SUM('Total RAB'!$C68:S68)))","v":{"$error":"#REF!"}},{"$f":"IF(D121=\"\",$C121-SUM('Total RAB'!$C68:T68),IF(D121=0,0,$C121-SUM('Total RAB'!$C68:T68)))","v":{"$error":"#REF!"}},{"$f":"IF(E121=\"\",$C121-SUM('Total RAB'!$C68:U68),IF(E121=0,0,$C121-SUM('Total RAB'!$C68:U68)))","v":{"$error":"#REF!"}},{"$f":"IF(F121=\"\",$C121-SUM('Total RAB'!$C68:V68),IF(F121=0,0,$C121-SUM('Total RAB'!$C68:V68)))","v":{"$error":"#REF!"}},{"$f":"IF(G121=\"\",$C121-SUM('Total RAB'!$C68:W68),IF(G121=0,0,$C121-SUM('Total RAB'!$C68:W68)))","v":{"$error":"#REF!"}},{"$f":"IF(H121=\"\",$C121-SUM('Total RAB'!$C68:X68),IF(H121=0,0,$C121-SUM('Total RAB'!$C68:X68)))","v":{"$error":"#REF!"}}]
[null,"Depreciated Net Capex 2016",{"$error":"#REF!"},{"$f":"IF(C122=\"\",$C122-SUM('Total RAB'!$C69:S69),IF(C122=0,0,$C122-SUM('Total RAB'!$C69:S69)))","v":{"$error":"#REF!"}},{"$f":"IF(D122=\"\",$C122-SUM('Total RAB'!$C69:T69),IF(D122=0,0,$C122-SUM('Total RAB'!$C69:T69)))","v":{"$error":"#REF!"}},{"$f":"IF(E122=\"\",$C122-SUM('Total RAB'!$C69:U69),IF(E122=0,0,$C122-SUM('Total RAB'!$C69:U69)))","v":{"$error":"#REF!"}},{"$f":"IF(F122=\"\",$C122-SUM('Total RAB'!$C69:V69),IF(F122=0,0,$C122-SUM('Total RAB'!$C69:V69)))","v":{"$error":"#REF!"}},{"$f":"IF(G122=\"\",$C122-SUM('Total RAB'!$C69:W69),IF(G122=0,0,$C122-SUM('Total RAB'!$C69:W69)))","v":{"$error":"#REF!"}},{"$f":"IF(H122=\"\",$C122-SUM('Total RAB'!$C69:X69),IF(H122=0,0,$C122-SUM('Total RAB'!$C69:X69)))","v":{"$error":"#REF!"}}]
[null,"Depreciated Net Capex 2017",{"$error":"#REF!"},{"$f":"IF(C123=\"\",$C123-SUM('Total RAB'!$C70:S70),IF(C123=0,0,$C123-SUM('Total RAB'!$C70:S70)))","v":{"$error":"#REF!"}},{"$f":"IF(D123=\"\",$C123-SUM('Total RAB'!$C70:T70),IF(D123=0,0,$C123-SUM('Total RAB'!$C70:T70)))","v":{"$error":"#REF!"}},{"$f":"IF(E123=\"\",$C123-SUM('Total RAB'!$C70:U70),IF(E123=0,0,$C123-SUM('Total RAB'!$C70:U70)))","v":{"$error":"#REF!"}},{"$f":"IF(F123=\"\",$C123-SUM('Total RAB'!$C70:V70),IF(F123=0,0,$C123-SUM('Total RAB'!$C70:V70)))","v":{"$error":"#REF!"}},{"$f":"IF(G123=\"\",$C123-SUM('Total RAB'!$C70:W70),IF(G123=0,0,$C123-SUM('Total RAB'!$C70:W70)))","v":{"$error":"#REF!"}},{"$f":"IF(H123=\"\",$C123-SUM('Total RAB'!$C70:X70),IF(H123=0,0,$C123-SUM('Total RAB'!$C70:X70)))","v":{"$error":"#REF!"}}]
[null,"Depreciated Net Capex 2018",{"$error":"#REF!"},{"$f":"IF(C124=\"\",$C124-SUM('Total RAB'!$C71:S71),IF(C124=0,0,$C124-SUM('Total RAB'!$C71:S71)))","v":{"$error":"#REF!"}},{"$f":"IF(D124=\"\",$C124-SUM('Total RAB'!$C71:T71),IF(D124=0,0,$C124-SUM('Total RAB'!$C71:T71)))","v":{"$error":"#REF!"}},{"$f":"IF(E124=\"\",$C124-SUM('Total RAB'!$C71:U71),IF(E124=0,0,$C124-SUM('Total RAB'!$C71:U71)))","v":{"$error":"#REF!"}},{"$f":"IF(F124=\"\",$C124-SUM('Total RAB'!$C71:V71),IF(F124=0,0,$C124-SUM('Total RAB'!$C71:V71)))","v":{"$error":"#REF!"}},{"$f":"IF(G124=\"\",$C124-SUM('Total RAB'!$C71:W71),IF(G124=0,0,$C124-SUM('Total RAB'!$C71:W71)))","v":{"$error":"#REF!"}},{"$f":"IF(H124=\"\",$C124-SUM('Total RAB'!$C71:X71),IF(H124=0,0,$C124-SUM('Total RAB'!$C71:X71)))","v":{"$error":"#REF!"}}]
[null,"Depreciated Net Capex 2019",{"$error":"#REF!"},{"$f":"IF(C125=\"\",$C125-SUM('Total RAB'!$C72:S72),IF(C125=0,0,$C125-SUM('Total RAB'!$C72:S72)))","v":{"$error":"#REF!"}},{"$f":"IF(D125=\"\",$C125-SUM('Total RAB'!$C72:T72),IF(D125=0,0,$C125-SUM('Total RAB'!$C72:T72)))","v":{"$error":"#REF!"}},{"$f":"IF(E125=\"\",$C125-SUM('Total RAB'!$C72:U72),IF(E125=0,0,$C125-SUM('Total RAB'!$C72:U72)))","v":{"$error":"#REF!"}},{"$f":"IF(F125=\"\",$C125-SUM('Total RAB'!$C72:V72),IF(F125=0,0,$C125-SUM('Total RAB'!$C72:V72)))","v":{"$error":"#REF!"}},{"$f":"IF(G125=\"\",$C125-SUM('Total RAB'!$C72:W72),IF(G125=0,0,$C125-SUM('Total RAB'!$C72:W72)))","v":{"$error":"#REF!"}},{"$f":"IF(H125=\"\",$C125-SUM('Total RAB'!$C72:X72),IF(H125=0,0,$C125-SUM('Total RAB'!$C72:X72)))","v":{"$error":"#REF!"}}]
[null,"Depreciated Net Capex 2020",{"$error":"#REF!"},{"$f":"IF(C126=\"\",$C126-SUM('Total RAB'!$C73:S73),IF(C126=0,0,$C126-SUM('Total RAB'!$C73:S73)))","v":{"$error":"#REF!"}},{"$f":"IF(D126=\"\",$C126-SUM('Total RAB'!$C73:T73),IF(D126=0,0,$C126-SUM('Total RAB'!$C73:T73)))","v":{"$error":"#REF!"}},{"$f":"IF(E126=\"\",$C126-SUM('Total RAB'!$C73:U73),IF(E126=0,0,$C126-SUM('Total RAB'!$C73:U73)))","v":{"$error":"#REF!"}},{"$f":"IF(F126=\"\",$C126-SUM('Total RAB'!$C73:V73),IF(F126=0,0,$C126-SUM('Total RAB'!$C73:V73)))","v":{"$error":"#REF!"}},{"$f":"IF(G126=\"\",$C126-SUM('Total RAB'!$C73:W73),IF(G126=0,0,$C126-SUM('Total RAB'!$C73:W73)))","v":{"$error":"#REF!"}},{"$f":"IF(H126=\"\",$C126-SUM('Total RAB'!$C73:X73),IF(H126=0,0,$C126-SUM('Total RAB'!$C73:X73)))","v":{"$error":"#REF!"}}]
[null,"Depreciated Net Capex HY2021",{"$error":"#REF!"},{"$f":"IF(C127=\"\",$C127-SUM('Total RAB'!$C74:S74),IF(C127=0,0,$C127-SUM('Total RAB'!$C74:S74)))","v":{"$error":"#REF!"}},{"$f":"IF(D127=\"\",$C127-SUM('Total RAB'!$C74:T74),IF(D127=0,0,$C127-SUM('Total RAB'!$C74:T74)))","v":{"$error":"#REF!"}},{"$f":"IF(E127=\"\",$C127-SUM('Total RAB'!$C74:U74),IF(E127=0,0,$C127-SUM('Total RAB'!$C74:U74)))","v":{"$error":"#REF!"}},{"$f":"IF(F127=\"\",$C127-SUM('Total RAB'!$C74:V74),IF(F127=0,0,$C127-SUM('Total RAB'!$C74:V74)))","v":{"$error":"#REF!"}},{"$f":"IF(G127=\"\",$C127-SUM('Total RAB'!$C74:W74),IF(G127=0,0,$C127-SUM('Total RAB'!$C74:W74)))","v":{"$error":"#REF!"}},{"$f":"IF(H127=\"\",$C127-SUM('Total RAB'!$C74:X74),IF(H127=0,0,$C127-SUM('Total RAB'!$C74:X74)))","v":{"$error":"#REF!"}}]
[null,"Depreciated Net Capex 2022",{"$error":"#REF!"},null,{"$f":"IF(D128=\"\",$C128-SUM('Total RAB'!$C75:T75),IF(D128=0,0,$C128-SUM('Total RAB'!$C75:T75)))","v":{"$error":"#REF!"}},{"$f":"IF(E128=\"\",$C128-SUM('Total RAB'!$C75:U75),IF(E128=0,0,$C128-SUM('Total RAB'!$C75:U75)))","v":{"$error":"#REF!"}},{"$f":"IF(F128=\"\",$C128-SUM('Total RAB'!$C75:V75),IF(F128=0,0,$C128-SUM('Total RAB'!$C75:V75)))","v":{"$error":"#REF!"}},{"$f":"IF(G128=\"\",$C128-SUM('Total RAB'!$C75:W75),IF(G128=0,0,$C128-SUM('Total RAB'!$C75:W75)))","v":{"$error":"#REF!"}},{"$f":"IF(H128=\"\",$C128-SUM('Total RAB'!$C75:X75),IF(H128=0,0,$C128-SUM('Total RAB'!$C75:X75)))","v":{"$error":"#REF!"}}]
[null,"Depreciated Net Capex 2023",{"$error":"#REF!"},null,null,{"$f":"IF(E129=\"\",$C129-SUM('Total RAB'!$C76:U76),IF(E129=0,0,$C129-SUM('Total RAB'!$C76:U76)))","v":{"$error":"#REF!"}},{"$f":"IF(F129=\"\",$C129-SUM('Total RAB'!$C76:V76),IF(F129=0,0,$C129-SUM('Total RAB'!$C76:V76)))","v":{"$error":"#REF!"}},{"$f":"IF(G129=\"\",$C129-SUM('Total RAB'!$C76:W76),IF(G129=0,0,$C129-SUM('Total RAB'!$C76:W76)))","v":{"$error":"#REF!"}},{"$f":"IF(H129=\"\",$C129-SUM('Total RAB'!$C76:X76),IF(H129=0,0,$C129-SUM('Total RAB'!$C76:X76)))","v":{"$error":"#REF!"}}]
[null,"Depreciated Net Capex 2024",{"$error":"#REF!"},null,null,null,{"$f":"IF(F130=\"\",$C130-SUM('Total RAB'!$C77:V77),IF(F130=0,0,$C130-SUM('Total RAB'!$C77:V77)))","v":{"$error":"#REF!"}},{"$f":"IF(G130=\"\",$C130-SUM('Total RAB'!$C77:W77),IF(G130=0,0,$C130-SUM('Total RAB'!$C77:W77)))","v":{"$error":"#REF!"}},{"$f":"IF(H130=\"\",$C130-SUM('Total RAB'!$C77:X77),IF(H130=0,0,$C130-SUM('Total RAB'!$C77:X77)))","v":{"$error":"#REF!"}}]
[null,"Depreciated Net Capex 2025",{"$error":"#REF!"},null,null,null,null,{"$f":"IF(G131=\"\",$C131-SUM('Total RAB'!$C78:W78),IF(G131=0,0,$C131-SUM('Total RAB'!$C78:W78)))","v":{"$error":"#REF!"}},{"$f":"IF(H131=\"\",$C131-SUM('Total RAB'!$C78:X78),IF(H131=0,0,$C131-SUM('Total RAB'!$C78:X78)))","v":{"$error":"#REF!"}}]
[null,"Depreciated Net Capex 2026",{"$error":"#REF!"},null,null,null,null,null,{"$f":"IF(H132=\"\",$C132-SUM('Total RAB'!$C79:X79),IF(H132=0,0,$C132-SUM('Total RAB'!$C79:X79)))","v":{"$error":"#REF!"}}]
[null,null,null,{"$f":"SUM(D111:D132)","v":{"$error":"#REF!"}},{"$error":"#REF!"},{"$error":"#REF!"},{"$error":"#REF!"},{"$error":"#REF!"},{"$error":"#REF!"}]
[]
[]
[null,"Energy Efficient Lights"]
[null,"Remaining Lives","Standard Life","HY2021","2022-06-30","2023-06-30","2024-06-30","2025-06-30","2026-06-30"]
[]
[null,"Capex Rem Life 2005",{"$f":"'Total RAB'!$B$17","v":20}]
[null,"Capex Rem Life 2006",{"$f":"'Total RAB'!$B$17","v":20}]
[null,"Capex Rem Life 2007",{"$f":"'Total RAB'!$B$17","v":20}]
[null,"Capex Rem Life 2008",{"$f":"'Total RAB'!$B$17","v":20}]
[null,"Capex Rem Life 2009",{"$f":"'Total RAB'!$B$17","v":20},0,{"$f":"IF(D143-1<0,0,D143-1)","v":0},0,0,0,0]
[null,"Capex Rem Life 2010",{"$f":"'Total RAB'!$B$17","v":20},9,8,7,6,5,4]
[null,"Capex Rem Life 2011",{"$f":"'Total RAB'!$B$17","v":20},0,0,0,0,0,0]
[null,"Capex Rem Life 2012",{"$f":"'Total RAB'!$B$17","v":20},0,0,0,0,0,0]
[null,"Capex Rem Life 2013",{"$f":"'Total RAB'!$B$17","v":20},0,0,0,0,0,0]
[null,"Capex Rem Life 2014",{"$f":"'Total RAB'!$B$17","v":20},0,0,0,0,0,0]
[null,"Capex Rem Life 2015",{"$f":"'Total RAB'!$B$17","v":20},0,0,0,0,0,0]
[null,"Capex Rem Life 2016",{"$f":"'Total RAB'!$B$17","v":20},0,0,0,0,0,0]
[null,"Capex Rem Life 2017",{"$f":"'Total RAB'!$B$17","v":20},0,0,0,0,0,0]
[null,"Capex Rem Life 2018",{"$f":"'Total RAB'!$B$17","v":20},17,16,15,14,13,12]
[null,"Capex Rem Life 2019",{"$f":"'Total RAB'!$B$17","v":20},18,17,16,15,14,13]
[null,"Capex Rem Life 2020",{"$f":"'Total RAB'!$B$17","v":20},19,18,17,16,15,14]
[null,"Capex Rem Life HY2021",{"$f":"'Total RAB'!$B$17","v":20},19.5,18.5,17.5,16.5,15.5,14.5]
[null,"Capex Rem Life 2022",{"$f":"'Total RAB'!$B$17","v":20},null,{"$f":"$C156","v":20},{"$f":"IF(E156-1<0,0,E156-1)","v":19},{"$f":"IF(F156-1<0,0,F156-1)","v":18},{"$f":"IF(G156-1<0,0,G156-1)","v":17},{"$f":"IF(H156-1<0,0,H156-1)","v":16}]
[null,"Capex Rem Life 2023",{"$f":"'Total RAB'!$B$17","v":20},null,null,{"$f":"$C157","v":20},{"$f":"F157-1","v":19},{"$f":"G157-1","v":18},{"$f":"H157-1","v":17}]
[null,"Capex Rem Life 2024",{"$f":"'Total RAB'!$B$17","v":20},null,null,null,{"$f":"$C158","v":20},{"$f":"G158-1","v":19},{"$f":"H158-1","v":18}]
[null,"Capex Rem Life 2025",{"$f":"'Total RAB'!$B$17","v":20},null,null,null,null,{"$f":"$C159","v":20},{"$f":"H159-1","v":19}]
[null,"Capex Rem Life 2026",{"$f":"'Total RAB'!$B$17","v":20},null,null,null,null,null,{"$f":"$C160","v":20}]
[]
[null,"Depreciated Net Capex","Nominal Net Capex","HY2021","2022-06-30","2023-06-30","2024-06-30","2025-06-30","2026-06-30"]
[null,"Depreciated Net Capex 2005",{"$f":"TRANSPOSE('Total RAB'!C17:X17)","v":0},{"$f":"IF(C163=\"\",$C163-SUM('Total RAB'!$C90:S90),IF(C163=0,0,$C163-SUM('Total RAB'!$C90:S90)))","v":0},{"$f":"IF(D163=\"\",$C163-SUM('Total RAB'!$C90:T90),IF(D163=0,0,$C163-SUM('Total RAB'!$C90:T90)))","v":0},{"$f":"IF(E163=\"\",$C163-SUM('Total RAB'!$C90:U90),IF(E163=0,0,$C163-SUM('Total RAB'!$C90:U90)))","v":0},{"$f":"IF(F163=\"\",$C163-SUM('Total RAB'!$C90:V90),IF(F163=0,0,$C163-SUM('Total RAB'!$C90:V90)))","v":0},{"$f":"IF(G163=\"\",$C163-SUM('Total RAB'!$C90:W90),IF(G163=0,0,$C163-SUM('Total RAB'!$C90:W90)))","v":0},{"$f":"IF(H163=\"\",$C163-SUM('Total RAB'!$C90:X90),IF(H163=0,0,$C163-SUM('Total RAB'!$C90:X90)))","v":0}]
[null,"Depreciated Net Capex 2006",0,{"$f":"IF(C164=\"\",$C164-SUM('Total RAB'!$C91:S91),IF(C164=0,0,$C164-SUM('Total RAB'!$C91:S91)))","v":0},{"$f":"IF(D164=\"\",$C164-SUM('Total RAB'!$C91:T91),IF(D164=0,0,$C164-SUM('Total RAB'!$C91:T91)))","v":0},{"$f":"IF(E164=\"\",$C164-SUM('Total RAB'!$C91:U91),IF(E164=0,0,$C164-SUM('Total RAB'!$C91:U91)))","v":0},{"$f":"IF(F164=\"\",$C164-SUM('Total RAB'!$C91:V91),IF(F164=0,0,$C164-SUM('Total RAB'!$C91:V91)))","v":0},{"$f":"IF(G164=\"\",$C164-SUM('Total RAB'!$C91:W91),IF(G164=0,0,$C164-SUM('Total RAB'!$C91:W91)))","v":0},{"$f":"IF(H164=\"\",$C164-SUM('Total RAB'!$C91:X91),IF(H164=0,0,$C164-SUM('Total RAB'!$C91:X91)))","v":0}]
[null,"Depreciated Net Capex 2007",0,{"$f":"IF(C165=\"\",$C165-SUM('Total RAB'!$C92:S92),IF(C165=0,0,$C165-SUM('Total RAB'!$C92:S92)))","v":0},{"$f":"IF(D165=\"\",$C165-SUM('Total RAB'!$C92:T92),IF(D165=0,0,$C165-SUM('Total RAB'!$C92:T92)))","v":0},{"$f":"IF(E165=\"\",$C165-SUM('Total RAB'!$C92:U92),IF(E165=0,0,$C165-SUM('Total RAB'!$C92:U92)))","v":0},{"$f":"IF(F165=\"\",$C165-SUM('Total RAB'!$C92:V92),IF(F165=0,0,$C165-SUM('Total RAB'!$C92:V92)))","v":0},{"$f":"IF(G165=\"\",$C165-SUM('Total RAB'!$C92:W92),IF(G165=0,0,$C165-SUM('Total RAB'!$C92:W92)))","v":0},{"$f":"IF(H165=\"\",$C165-SUM('Total RAB'!$C92:X92),IF(H165=0,0,$C165-SUM('Total RAB'!$C92:X92)))","v":0}]
[null,"Depreciated Net Capex 2008",0,{"$f":"IF(C166=\"\",$C166-SUM('Total RAB'!$C93:S93),IF(C166=0,0,$C166-SUM('Total RAB'!$C93:S93)))","v":0},{"$f":"IF(D166=\"\",$C166-SUM('Total RAB'!$C93:T93),IF(D166=0,0,$C166-SUM('Total RAB'!$C93:T93)))","v":0},{"$f":"IF(E166=\"\",$C166-SUM('Total RAB'!$C93:U93),IF(E166=0,0,$C166-SUM('Total RAB'!$C93:U93)))","v":0},{"$f":"IF(F166=\"\",$C166-SUM('Total RAB'!$C93:V93),IF(F166=0,0,$C166-SUM('Total RAB'!$C93:V93)))","v":0},{"$f":"IF(G166=\"\",$C166-SUM('Total RAB'!$C93:W93),IF(G166=0,0,$C166-SUM('Total RAB'!$C93:W93)))","v":0},{"$f":"IF(H166=\"\",$C166-SUM('Total RAB'!$C93:X93),IF(H166=0,0,$C166-SUM('Total RAB'!$C93:X93)))","v":0}]
[null,"Depreciated Net Capex 2009",{"$error":"#REF!"},{"$f":"IF(C167=\"\",$C167-SUM('Total RAB'!$C94:S94),IF(C167=0,0,$C167-SUM('Total RAB'!$C94:S94)))","v":{"$error":"#REF!"}},{"$f":"IF(D167=\"\",$C167-SUM('Total RAB'!$C94:T94),IF(D167=0,0,$C167-SUM('Total RAB'!$C94:T94)))","v":{"$error":"#REF!"}},{"$f":"IF(E167=\"\",$C167-SUM('Total RAB'!$C94:U94),IF(E167=0,0,$C167-SUM('Total RAB'!$C94:U94)))","v":{"$error":"#REF!"}},{"$f":"IF(F167=\"\",$C167-SUM('Total RAB'!$C94:V94),IF(F167=0,0,$C167-SUM('Total RAB'!$C94:V94)))","v":{"$error":"#REF!"}},{"$f":"IF(G167=\"\",$C167-SUM('Total RAB'!$C94:W94),IF(G167=0,0,$C167-SUM('Total RAB'!$C94:W94)))","v":{"$error":"#REF!"}},{"$f":"IF(H167=\"\",$C167-SUM('Total RAB'!$C94:X94),IF(H167=0,0,$C167-SUM('Total RAB'!$C94:X94)))","v":{"$error":"#REF!"}}]
[null,"Depreciated Net Capex 2010",{"$error":"#REF!"},{"$f":"IF(C168=\"\",$C168-SUM('Total RAB'!$C95:S95),IF(C168=0,0,$C168-SUM('Total RAB'!$C95:S95)))","v":{"$error":"#REF!"}},{"$f":"IF(D168=\"\",$C168-SUM('Total RAB'!$C95:T95),IF(D168=0,0,$C168-SUM('Total RAB'!$C95:T95)))","v":{"$error":"#REF!"}},{"$f":"IF(E168=\"\",$C168-SUM('Total RAB'!$C95:U95),IF(E168=0,0,$C168-SUM('Total RAB'!$C95:U95)))","v":{"$error":"#REF!"}},{"$f":"IF(F168=\"\",$C168-SUM('Total RAB'!$C95:V95),IF(F168=0,0,$C168-SUM('Total RAB'!$C95:V95)))","v":{"$error":"#REF!"}},{"$f":"IF(G168=\"\",$C168-SUM('Total RAB'!$C95:W95),IF(G168=0,0,$C168-SUM('Total RAB'!$C95:W95)))","v":{"$error":"#REF!"}},{"$f":"IF(H168=\"\",$C168-SUM('Total RAB'!$C95:X95),IF(H168=0,0,$C168-SUM('Total RAB'!$C95:X95)))","v":{"$error":"#REF!"}}]
[null,"Depreciated Net Capex 2011",{"$error":"#REF!"},{"$f":"IF(C169=\"\",$C169-SUM('Total RAB'!$C96:S96),IF(C169=0,0,$C169-SUM('Total RAB'!$C96:S96)))","v":{"$error":"#REF!"}},{"$f":"IF(D169=\"\",$C169-SUM('Total RAB'!$C96:T96),IF(D169=0,0,$C169-SUM('Total RAB'!$C96:T96)))","v":{"$error":"#REF!"}},{"$f":"IF(E169=\"\",$C169-SUM('Total RAB'!$C96:U96),IF(E169=0,0,$C169-SUM('Total RAB'!$C96:U96)))","v":{"$error":"#REF!"}},{"$f":"IF(F169=\"\",$C169-SUM('Total RAB'!$C96:V96),IF(F169=0,0,$C169-SUM('Total RAB'!$C96:V96)))","v":{"$error":"#REF!"}},{"$f":"IF(G169=\"\",$C169-SUM('Total RAB'!$C96:W96),IF(G169=0,0,$C169-SUM('Total RAB'!$C96:W96)))","v":{"$error":"#REF!"}},{"$f":"IF(H169=\"\",$C169-SUM('Total RAB'!$C96:X96),IF(H169=0,0,$C169-SUM('Total RAB'!$C96:X96)))","v":{"$error":"#REF!"}}]
[null,"Depreciated Net Capex 2012",{"$error":"#REF!"},{"$f":"IF(C170=\"\",$C170-SUM('Total RAB'!$C97:S97),IF(C170=0,0,$C170-SUM('Total RAB'!$C97:S97)))","v":{"$error":"#REF!"}},{"$f":"IF(D170=\"\",$C170-SUM('Total RAB'!$C97:T97),IF(D170=0,0,$C170-SUM('Total RAB'!$C97:T97)))","v":{"$error":"#REF!"}},{"$f":"IF(E170=\"\",$C170-SUM('Total RAB'!$C97:U97),IF(E170=0,0,$C170-SUM('Total RAB'!$C97:U97)))","v":{"$error":"#REF!"}},{"$f":"IF(F170=\"\",$C170-SUM('Total RAB'!$C97:V97),IF(F170=0,0,$C170-SUM('Total RAB'!$C97:V97)))","v":{"$error":"#REF!"}},{"$f":"IF(G170=\"\",$C170-SUM('Total RAB'!$C97:W97),IF(G170=0,0,$C170-SUM('Total RAB'!$C97:W97)))","v":{"$error":"#REF!"}},{"$f":"IF(H170=\"\",$C170-SUM('Total RAB'!$C97:X97),IF(H170=0,0,$C170-SUM('Total RAB'!$C97:X97)))","v":{"$error":"#REF!"}}]
[null,"Depreciated Net Capex 2013",{"$error":"#REF!"},{"$f":"IF(C171=\"\",$C171-SUM('Total RAB'!$C98:S98),IF(C171=0,0,$C171-SUM('Total RAB'!$C98:S98)))","v":{"$error":"#REF!"}},{"$f":"IF(D171=\"\",$C171-SUM('Total RAB'!$C98:T98),IF(D171=0,0,$C171-SUM('Total RAB'!$C98:T98)))","v":{"$error":"#REF!"}},{"$f":"IF(E171=\"\",$C171-SUM('Total RAB'!$C98:U98),IF(E171=0,0,$C171-SUM('Total RAB'!$C98:U98)))","v":{"$error":"#REF!"}},{"$f":"IF(F171=\"\",$C171-SUM('Total RAB'!$C98:V98),IF(F171=0,0,$C171-SUM('Total RAB'!$C98:V98)))","v":{"$error":"#REF!"}},{"$f":"IF(G171=\"\",$C171-SUM('Total RAB'!$C98:W98),IF(G171=0,0,$C171-SUM('Total RAB'!$C98:W98)))","v":{"$error":"#REF!"}},{"$f":"IF(H171=\"\",$C171-SUM('Total RAB'!$C98:X98),IF(H171=0,0,$C171-SUM('Total RAB'!$C98:X98)))","v":{"$error":"#REF!"}}]
[null,"Depreciated Net Capex 2014",{"$error":"#REF!"},{"$f":"IF(C172=\"\",$C172-SUM('Total RAB'!$C99:S99),IF(C172=0,0,$C172-SUM('Total RAB'!$C99:S99)))","v":{"$error":"#REF!"}},{"$f":"IF(D172=\"\",$C172-SUM('Total RAB'!$C99:T99),IF(D172=0,0,$C172-SUM('Total RAB'!$C99:T99)))","v":{"$error":"#REF!"}},{"$f":"IF(E172=\"\",$C172-SUM('Total RAB'!$C99:U99),IF(E172=0,0,$C172-SUM('Total RAB'!$C99:U99)))","v":{"$error":"#REF!"}},{"$f":"IF(F172=\"\",$C172-SUM('Total RAB'!$C99:V99),IF(F172=0,0,$C172-SUM('Total RAB'!$C99:V99)))","v":{"$error":"#REF!"}},{"$f":"IF(G172=\"\",$C172-SUM('Total RAB'!$C99:W99),IF(G172=0,0,$C172-SUM('Total RAB'!$C99:W99)))","v":{"$error":"#REF!"}},{"$f":"IF(H172=\"\",$C172-SUM('Total RAB'!$C99:X99),IF(H172=0,0,$C172-SUM('Total RAB'!$C99:X99)))","v":{"$error":"#REF!"}}]
[null,"Depreciated Net Capex 2015",{"$error":"#REF!"},{"$f":"IF(C173=\"\",$C173-SUM('Total RAB'!$C100:S100),IF(C173=0,0,$C173-SUM('Total RAB'!$C100:S100)))","v":{"$error":"#REF!"}},{"$f":"IF(D173=\"\",$C173-SUM('Total RAB'!$C100:T100),IF(D173=0,0,$C173-SUM('Total RAB'!$C100:T100)))","v":{"$error":"#REF!"}},{"$f":"IF(E173=\"\",$C173-SUM('Total RAB'!$C100:U100),IF(E173=0,0,$C173-SUM('Total RAB'!$C100:U100)))","v":{"$error":"#REF!"}},{"$f":"IF(F173=\"\",$C173-SUM('Total RAB'!$C100:V100),IF(F173=0,0,$C173-SUM('Total RAB'!$C100:V100)))","v":{"$error":"#REF!"}},{"$f":"IF(G173=\"\",$C173-SUM('Total RAB'!$C100:W100),IF(G173=0,0,$C173-SUM('Total RAB'!$C100:W100)))","v":{"$error":"#REF!"}},{"$f":"IF(H173=\"\",$C173-SUM('Total RAB'!$C100:X100),IF(H173=0,0,$C173-SUM('Total RAB'!$C100:X100)))","v":{"$error":"#REF!"}}]
[null,"Depreciated Net Capex 2016",{"$error":"#REF!"},{"$f":"IF(C174=\"\",$C174-SUM('Total RAB'!$C101:S101),IF(C174=0,0,$C174-SUM('Total RAB'!$C101:S101)))","v":{"$error":"#REF!"}},{"$f":"IF(D174=\"\",$C174-SUM('Total RAB'!$C101:T101),IF(D174=0,0,$C174-SUM('Total RAB'!$C101:T101)))","v":{"$error":"#REF!"}},{"$f":"IF(E174=\"\",$C174-SUM('Total RAB'!$C101:U101),IF(E174=0,0,$C174-SUM('Total RAB'!$C101:U101)))","v":{"$error":"#REF!"}},{"$f":"IF(F174=\"\",$C174-SUM('Total RAB'!$C101:V101),IF(F174=0,0,$C174-SUM('Total RAB'!$C101:V101)))","v":{"$error":"#REF!"}},{"$f":"IF(G174=\"\",$C174-SUM('Total RAB'!$C101:W101),IF(G174=0,0,$C174-SUM('Total RAB'!$C101:W101)))","v":{"$error":"#REF!"}},{"$f":"IF(H174=\"\",$C174-SUM('Total RAB'!$C101:X101),IF(H174=0,0,$C174-SUM('Total RAB'!$C101:X101)))","v":{"$error":"#REF!"}}]
[null,"Depreciated Net Capex 2017",{"$error":"#REF!"},{"$f":"IF(C175=\"\",$C175-SUM('Total RAB'!$C102:S102),IF(C175=0,0,$C175-SUM('Total RAB'!$C102:S102)))","v":{"$error":"#REF!"}},{"$f":"IF(D175=\"\",$C175-SUM('Total RAB'!$C102:T102),IF(D175=0,0,$C175-SUM('Total RAB'!$C102:T102)))","v":{"$error":"#REF!"}},{"$f":"IF(E175=\"\",$C175-SUM('Total RAB'!$C102:U102),IF(E175=0,0,$C175-SUM('Total RAB'!$C102:U102)))","v":{"$error":"#REF!"}},{"$f":"IF(F175=\"\",$C175-SUM('Total RAB'!$C102:V102),IF(F175=0,0,$C175-SUM('Total RAB'!$C102:V102)))","v":{"$error":"#REF!"}},{"$f":"IF(G175=\"\",$C175-SUM('Total RAB'!$C102:W102),IF(G175=0,0,$C175-SUM('Total RAB'!$C102:W102)))","v":{"$error":"#REF!"}},{"$f":"IF(H175=\"\",$C175-SUM('Total RAB'!$C102:X102),IF(H175=0,0,$C175-SUM('Total RAB'!$C102:X102)))","v":{"$error":"#REF!"}}]
[null,"Depreciated Net Capex 2018",{"$error":"#REF!"},{"$f":"IF(C176=\"\",$C176-SUM('Total RAB'!$C103:S103),IF(C176=0,0,$C176-SUM('Total RAB'!$C103:S103)))","v":{"$error":"#REF!"}},{"$f":"IF(D176=\"\",$C176-SUM('Total RAB'!$C103:T103),IF(D176=0,0,$C176-SUM('Total RAB'!$C103:T103)))","v":{"$error":"#REF!"}},{"$f":"IF(E176=\"\",$C176-SUM('Total RAB'!$C103:U103),IF(E176=0,0,$C176-SUM('Total RAB'!$C103:U103)))","v":{"$error":"#REF!"}},{"$f":"IF(F176=\"\",$C176-SUM('Total RAB'!$C103:V103),IF(F176=0,0,$C176-SUM('Total RAB'!$C103:V103)))","v":{"$error":"#REF!"}},{"$f":"IF(G176=\"\",$C176-SUM('Total RAB'!$C103:W103),IF(G176=0,0,$C176-SUM('Total RAB'!$C103:W103)))","v":{"$error":"#REF!"}},{"$f":"IF(H176=\"\",$C176-SUM('Total RAB'!$C103:X103),IF(H176=0,0,$C176-SUM('Total RAB'!$C103:X103)))","v":{"$error":"#REF!"}}]
[null,"Depreciated Net Capex 2019",{"$error":"#REF!"},{"$f":"IF(C177=\"\",$C177-SUM('Total RAB'!$C104:S104),IF(C177=0,0,$C177-SUM('Total RAB'!$C104:S104)))","v":{"$error":"#REF!"}},{"$f":"IF(D177=\"\",$C177-SUM('Total RAB'!$C104:T104),IF(D177=0,0,$C177-SUM('Total RAB'!$C104:T104)))","v":{"$error":"#REF!"}},{"$f":"IF(E177=\"\",$C177-SUM('Total RAB'!$C104:U104),IF(E177=0,0,$C177-SUM('Total RAB'!$C104:U104)))","v":{"$error":"#REF!"}},{"$f":"IF(F177=\"\",$C177-SUM('Total RAB'!$C104:V104),IF(F177=0,0,$C177-SUM('Total RAB'!$C104:V104)))","v":{"$error":"#REF!"}},{"$f":"IF(G177=\"\",$C177-SUM('Total RAB'!$C104:W104),IF(G177=0,0,$C177-SUM('Total RAB'!$C104:W104)))","v":{"$error":"#REF!"}},{"$f":"IF(H177=\"\",$C177-SUM('Total RAB'!$C104:X104),IF(H177=0,0,$C177-SUM('Total RAB'!$C104:X104)))","v":{"$error":"#REF!"}}]
[null,"Depreciated Net Capex 2020",{"$error":"#REF!"},{"$f":"IF(C178=\"\",$C178-SUM('Total RAB'!$C105:S105),IF(C178=0,0,$C178-SUM('Total RAB'!$C105:S105)))","v":{"$error":"#REF!"}},{"$f":"IF(D178=\"\",$C178-SUM('Total RAB'!$C105:T105),IF(D178=0,0,$C178-SUM('Total RAB'!$C105:T105)))","v":{"$error":"#REF!"}},{"$f":"IF(E178=\"\",$C178-SUM('Total RAB'!$C105:U105),IF(E178=0,0,$C178-SUM('Total RAB'!$C105:U105)))","v":{"$error":"#REF!"}},{"$f":"IF(F178=\"\",$C178-SUM('Total RAB'!$C105:V105),IF(F178=0,0,$C178-SUM('Total RAB'!$C105:V105)))","v":{"$error":"#REF!"}},{"$f":"IF(G178=\"\",$C178-SUM('Total RAB'!$C105:W105),IF(G178=0,0,$C178-SUM('Total RAB'!$C105:W105)))","v":{"$error":"#REF!"}},{"$f":"IF(H178=\"\",$C178-SUM('Total RAB'!$C105:X105),IF(H178=0,0,$C178-SUM('Total RAB'!$C105:X105)))","v":{"$error":"#REF!"}}]
[null,"Depreciated Net Capex HY2021",{"$error":"#REF!"},{"$f":"IF(C179=\"\",$C179-SUM('Total RAB'!$C106:S106),IF(C179=0,0,$C179-SUM('Total RAB'!$C106:S106)))","v":{"$error":"#REF!"}},{"$f":"IF(D179=\"\",$C179-SUM('Total RAB'!$C106:T106),IF(D179=0,0,$C179-SUM('Total RAB'!$C106:T106)))","v":{"$error":"#REF!"}},{"$f":"IF(E179=\"\",$C179-SUM('Total RAB'!$C106:U106),IF(E179=0,0,$C179-SUM('Total RAB'!$C106:U106)))","v":{"$error":"#REF!"}},{"$f":"IF(F179=\"\",$C179-SUM('Total RAB'!$C106:V106),IF(F179=0,0,$C179-SUM('Total RAB'!$C106:V106)))","v":{"$error":"#REF!"}},{"$f":"IF(G179=\"\",$C179-SUM('Total RAB'!$C106:W106),IF(G179=0,0,$C179-SUM('Total RAB'!$C106:W106)))","v":{"$error":"#REF!"}},{"$f":"IF(H179=\"\",$C179-SUM('Total RAB'!$C106:X106),IF(H179=0,0,$C179-SUM('Total RAB'!$C106:X106)))","v":{"$error":"#REF!"}}]
[null,"Depreciated Net Capex 2022",{"$error":"#REF!"},null,{"$f":"IF(D180=\"\",$C180-SUM('Total RAB'!$C107:T107),IF(D180=0,0,$C180-SUM('Total RAB'!$C107:T107)))","v":{"$error":"#REF!"}},{"$f":"IF(E180=\"\",$C180-SUM('Total RAB'!$C107:U107),IF(E180=0,0,$C180-SUM('Total RAB'!$C107:U107)))","v":{"$error":"#REF!"}},{"$f":"IF(F180=\"\",$C180-SUM('Total RAB'!$C107:V107),IF(F180=0,0,$C180-SUM('Total RAB'!$C107:V107)))","v":{"$error":"#REF!"}},{"$f":"IF(G180=\"\",$C180-SUM('Total RAB'!$C107:W107),IF(G180=0,0,$C180-SUM('Total RAB'!$C107:W107)))","v":{"$error":"#REF!"}},{"$f":"IF(H180=\"\",$C180-SUM('Total RAB'!$C107:X107),IF(H180=0,0,$C180-SUM('Total RAB'!$C107:X107)))","v":{"$error":"#REF!"}}]
[null,"Depreciated Net Capex 2023",{"$error":"#REF!"},null,null,{"$f":"IF(E181=\"\",$C181-SUM('Total RAB'!$C108:U108),IF(E181=0,0,$C181-SUM('Total RAB'!$C108:U108)))","v":{"$error":"#REF!"}},{"$f":"IF(F181=\"\",$C181-SUM('Total RAB'!$C108:V108),IF(F181=0,0,$C181-SUM('Total RAB'!$C108:V108)))","v":{"$error":"#REF!"}},{"$f":"IF(G181=\"\",$C181-SUM('Total RAB'!$C108:W108),IF(G181=0,0,$C181-SUM('Total RAB'!$C108:W108)))","v":{"$error":"#REF!"}},{"$f":"IF(H181=\"\",$C181-SUM('Total RAB'!$C108:X108),IF(H181=0,0,$C181-SUM('Total RAB'!$C108:X108)))","v":{"$error":"#REF!"}}]
[null,"Depreciated Net Capex 2024",{"$error":"#REF!"},null,null,null,{"$f":"IF(F182=\"\",$C182-SUM('Total RAB'!$C109:V109),IF(F182=0,0,$C182-SUM('Total RAB'!$C109:V109)))","v":{"$error":"#REF!"}},{"$f":"IF(G182=\"\",$C182-SUM('Total RAB'!$C109:W109),IF(G182=0,0,$C182-SUM('Total RAB'!$C109:W109)))","v":{"$error":"#REF!"}},{"$f":"IF(H182=\"\",$C182-SUM('Total RAB'!$C109:X109),IF(H182=0,0,$C182-SUM('Total RAB'!$C109:X109)))","v":{"$error":"#REF!"}}]
[null,"Depreciated Net Capex 2025",{"$error":"#REF!"},null,null,null,null,{"$f":"IF(G183=\"\",$C183-SUM('Total RAB'!$C110:W110),IF(G183=0,0,$C183-SUM('Total RAB'!$C110:W110)))","v":{"$error":"#REF!"}},{"$f":"IF(H183=\"\",$C183-SUM('Total RAB'!$C110:X110),IF(H183=0,0,$C183-SUM('Total RAB'!$C110:X110)))","v":{"$error":"#REF!"}}]
[null,"Depreciated Net Capex 2026",{"$error":"#REF!"},null,null,null,null,null,{"$f":"IF(H184=\"\",$C184-SUM('Total RAB'!$C111:X111),IF(H184=0,0,$C184-SUM('Total RAB'!$C111:X111)))","v":{"$error":"#REF!"}}]
[null,null,null,{"$f":"SUM(D163:D184)","v":{"$error":"#REF!"}},{"$error":"#REF!"},{"$error":"#REF!"},{"$error":"#REF!"},{"$error":"#REF!"},{"$error":"#REF!"}]

{"sheet":"RAB Std Lives","index":20,"n_rows":22,"n_cols":23,"rows_kept":22,"cut":false,"hidden":true,"merged":[]}
[]
[null,"Standard Lives Calculation",null,null,null,null,null,null,null,null,null,null,"$Nom to real $Jun-22",{"$error":"#REF!"},{"$error":"#REF!"},{"$error":"#REF!"},{"$error":"#REF!"},{"$error":"#REF!"},{"$error":"#REF!"},{"$error":"#REF!"},{"$error":"#REF!"},{"$error":"#REF!"},{"$error":"#REF!"}]
[null,null,null,"Actual","Actual","Actual","Forecast","Forecast","Forecast"]
[null,null,"Standard Life","HY2021","2022-06-30","2023-06-30","2024-06-30","2025-06-30","2026-06-30",null,null,null,"Real $Jun-22 net capex",2017,2018,2019,2020,"HY2021","2022-06-30","2023-06-30","2024-06-30","2025-06-30","2026-06-30"]
[]
[null,"5 year rolling real net capex",null,"2017-21","2018-22","2019-23","2020-24","2021-25","2022-26"]
[]
[null,"Poles and Brackets",{"$f":"'Total RAB'!B11","v":35},{"$f":"SUM(N8:R8)","v":{"$error":"#REF!"}},{"$error":"#REF!"},{"$error":"#REF!"},{"$error":"#REF!"},{"$error":"#REF!"},{"$error":"#REF!"},null,null,null,"Poles and Brackets",{"$f":"'Total RAB'!O11*N2","v":{"$error":"#REF!"}},{"$f":"'Total RAB'!P11*O2","v":{"$error":"#REF!"}},{"$f":"'Total RAB'!Q11*P2","v":{"$error":"#REF!"}},{"$f":"'Total RAB'!R11*Q2","v":{"$error":"#REF!"}},{"$f":"'Total RAB'!S11*R2","v":{"$error":"#REF!"}},{"$f":"'Total RAB'!T11*S2","v":{"$error":"#REF!"}},{"$f":"'Total RAB'!U11*T2","v":{"$error":"#REF!"}},{"$f":"'Total RAB'!V11*U2","v":{"$error":"#REF!"}},{"$f":"'Total RAB'!W11*V2","v":{"$error":"#REF!"}},{"$f":"'Total RAB'!X11*W2","v":{"$error":"#REF!"}}]
[]
[null,"Existing Lights",{"$f":"'Total RAB'!B14","v":20},{"$f":"SUM(N10:R10)","v":{"$error":"#REF!"}},{"$error":"#REF!"},{"$error":"#REF!"},{"$error":"#REF!"},{"$error":"#REF!"},{"$error":"#REF!"},null,null,null,"Existing Lights",{"$f":"'Total RAB'!O14*N2","v":{"$error":"#REF!"}},{"$f":"'Total RAB'!P14*O2","v":{"$error":"#REF!"}},{"$f":"'Total RAB'!Q14*P2","v":{"$error":"#REF!"}},{"$f":"'Total RAB'!R14*Q2","v":{"$error":"#REF!"}},{"$f":"'Total RAB'!S14*R2","v":{"$error":"#REF!"}},{"$f":"'Total RAB'!T14*S2","v":{"$error":"#REF!"}},{"$f":"'Total RAB'!U14*T2","v":{"$error":"#REF!"}},{"$f":"'Total RAB'!V14*U2","v":{"$error":"#REF!"}},{"$f":"'Total RAB'!W14*V2","v":{"$error":"#REF!"}},{"$f":"'Total RAB'!X14*W2","v":{"$error":"#REF!"}}]
[null,"Luminaires",null,null,null,null,null,null,null,null,null,null,"Luminaires"]
[]
[null,"Energy Efficient Lights",{"$f":"'Total RAB'!B17","v":20},{"$f":"SUM(N13:R13)","v":{"$error":"#REF!"}},{"$error":"#REF!"},{"$error":"#REF!"},{"$error":"#REF!"},{"$error":"#REF!"},{"$error":"#REF!"},null,null,null,"Energy Efficient Lights",{"$f":"'Total RAB'!O17*N2","v":{"$error":"#REF!"}},{"$f":"'Total RAB'!P17*O2","v":{"$error":"#REF!"}},{"$f":"'Total RAB'!Q17*P2","v":{"$error":"#REF!"}},{"$f":"'Total RAB'!R17*Q2","v":{"$error":"#REF!"}},{"$f":"'Total RAB'!S17*R2","v":{"$error":"#REF!"}},{"$f":"'Total RAB'!T17*S2","v":{"$error":"#REF!"}},{"$f":"'Total RAB'!U17*T2","v":{"$error":"#REF!"}},{"$f":"'Total RAB'!V17*U2","v":{"$error":"#REF!"}},{"$f":"'Total RAB'!W17*V2","v":{"$error":"#REF!"}},{"$f":"'Total RAB'!X17*W2","v":{"$error":"#REF!"}}]
[null,"Luminaires and Ballasts",null,null,null,null,null,null,null,null,null,null,"Luminaires and Ballasts"]
[]
[null,"Total 5 Year rolling net capex",null,{"$f":"SUM(D8:D13)","v":{"$error":"#REF!"}},{"$error":"#REF!"},{"$error":"#REF!"},{"$error":"#REF!"},{"$error":"#REF!"},{"$error":"#REF!"},null,null,null,null,{"$f":"SUM(N8:N13)","v":{"$error":"#REF!"}},{"$f":"SUM(O8:O13)","v":{"$error":"#REF!"}},{"$error":"#REF!"},{"$error":"#REF!"},{"$error":"#REF!"},{"$error":"#REF!"},{"$error":"#REF!"},{"$error":"#REF!"},{"$error":"#REF!"},{"$error":"#REF!"}]
[]
[null,"Capex split @ 35yr std life",null,{"$f":"D8/D16","v":{"$error":"#REF!"}},{"$error":"#REF!"},{"$error":"#REF!"},{"$error":"#REF!"},{"$error":"#REF!"},{"$error":"#REF!"}]
[]
[null,"Capex split @ 20yr std life",null,{"$f":"1-D18","v":{"$error":"#REF!"}},{"$error":"#REF!"},{"$error":"#REF!"},{"$error":"#REF!"},{"$error":"#REF!"},{"$error":"#REF!"}]
[]
[null,"Std Life - weighted based on 5 year rolling net capex",null,{"$f":"D18*$C8+D20*$C10","v":{"$error":"#REF!"}},{"$error":"#REF!"},{"$error":"#REF!"},{"$error":"#REF!"},{"$error":"#REF!"},{"$error":"#REF!"}]

{"sheet":"RAB 2001 to 2004 Central","index":21,"n_rows":239,"n_cols":40,"rows_kept":239,"cut":false,"hidden":true,"merged":[[207,1,207,5],[207,7,207,11],[207,13,207,17],[207,19,207,23],[45,5,45,26],[52,5,52,26],[82,5,82,26],[89,5,89,26]]}
[{"$f":"'Inputs PL Final Decision 2004'!$A$126","v":"SP AusNet - Central"}]
[]
["Public Lighting RAB - Assets constructed between 1 January 2001 and 31 December 2004."]
["Historical cost ($)"]
[]
["Summary"]
[]
["Cost Per Unit",null,{"$f":"#REF!","v":{"$error":"#REF!"}},{"$f":"#REF!","v":{"$error":"#REF!"}},{"$f":"#REF!","v":{"$error":"#REF!"}},{"$f":"#REF!","v":{"$error":"#REF!"}},{"$f":"#REF!","v":{"$error":"#REF!"}}]
["Rate of return (per annum) (Nominal Pre tax WACC)",null,{"$f":"WACC!E$8","v":{"$error":"#REF!"}},{"$f":"WACC!F$8","v":{"$error":"#REF!"}},{"$f":"WACC!G$8","v":{"$error":"#REF!"}},{"$f":"WACC!H$8","v":{"$error":"#REF!"}},{"$f":"WACC!I$8","v":{"$error":"#REF!"}}]
[]
["Luminaires"]
[{"$f":"$A$134","v":"MV 80"}]
["Luminaire - depreciation",null,{"$f":"W144","v":2.1367532867451411},{"$f":"X144","v":1.0683766433725705},{"$f":"Y144","v":0},{"$f":"Z144","v":0},{"$f":"AA144","v":0}]
["Luminaire - return on",null,{"$f":"W143*C$9","v":{"$error":"#REF!"}},{"$f":"X143*D$9","v":{"$error":"#REF!"}},{"$f":"Y143*E$9","v":{"$error":"#REF!"}},{"$f":"Z143*F$9","v":{"$error":"#REF!"}},{"$f":"AA143*G$9","v":{"$error":"#REF!"}}]
["Capital Charge",null,{"$f":"SUM(C13:C14)","v":{"$error":"#REF!"}},{"$f":"SUM(D13:D14)","v":{"$error":"#REF!"}},{"$f":"SUM(E13:E14)","v":{"$error":"#REF!"}},{"$f":"SUM(F13:F14)","v":{"$error":"#REF!"}},{"$f":"SUM(G13:G14)","v":{"$error":"#REF!"}}]
[]
[{"$f":"$A$148","v":"S-HP 150 "}]
["Luminaire - depreciation",null,{"$f":"W158","v":2.5710778072031615},{"$f":"X158","v":1.2855389036015807},{"$f":"Y158","v":0},{"$f":"Z158","v":0},{"$f":"AA158","v":0}]
["Luminaire - return on",null,{"$f":"W157*C$9","v":{"$error":"#REF!"}},{"$f":"X157*D$9","v":{"$error":"#REF!"}},{"$f":"Y157*E$9","v":{"$error":"#REF!"}},{"$f":"Z157*F$9","v":{"$error":"#REF!"}},{"$f":"AA157*G$9","v":{"$error":"#REF!"}}]
["Capital Charge",null,{"$f":"SUM(C18:C19)","v":{"$error":"#REF!"}},{"$f":"SUM(D18:D19)","v":{"$error":"#REF!"}},{"$f":"SUM(E18:E19)","v":{"$error":"#REF!"}},{"$f":"SUM(F18:F19)","v":{"$error":"#REF!"}},{"$f":"SUM(G18:G19)","v":{"$error":"#REF!"}}]
[]
[{"$f":"$A$162","v":"S-HP 250 "}]
["Luminaire - depreciation",null,{"$f":"W172","v":2.6226803205521598},{"$f":"X172","v":1.3113401602760799},{"$f":"Y172","v":0},{"$f":"Z172","v":0},{"$f":"AA172","v":0}]
["Luminaire - return on",null,{"$f":"W171*C$9","v":{"$error":"#REF!"}},{"$f":"X171*D$9","v":{"$error":"#REF!"}},{"$f":"Y171*E$9","v":{"$error":"#REF!"}},{"$f":"Z171*F$9","v":{"$error":"#REF!"}},{"$f":"AA171*G$9","v":{"$error":"#REF!"}}]
["Capital Charge",null,{"$f":"SUM(C23:C24)","v":{"$error":"#REF!"}},{"$f":"SUM(D23:D24)","v":{"$error":"#REF!"}},{"$f":"SUM(E23:E24)","v":{"$error":"#REF!"}},{"$f":"SUM(F23:F24)","v":{"$error":"#REF!"}},{"$f":"SUM(G23:G24)","v":{"$error":"#REF!"}}]
[]
[{"$f":"$A$176","v":"Poles & Brackets"}]
[{"$f":"$A$177","v":"Dedicated poles"}]
["Dedicated poles - depreciation",null,{"$f":"W186","v":0.91476154288995293},{"$f":"X186","v":0.91476154288995293},{"$f":"Y186","v":0.91476154288995293},{"$f":"Z186","v":0.91476154288995293},{"$f":"AA186","v":0.91476154288995293}]
["Dedicated poles - return on",null,{"$f":"W185*C$9","v":{"$error":"#REF!"}},{"$f":"X185*D$9","v":{"$error":"#REF!"}},{"$f":"Y185*E$9","v":{"$error":"#REF!"}},{"$f":"Z185*F$9","v":{"$error":"#REF!"}},{"$f":"AA185*G$9","v":{"$error":"#REF!"}}]
["Capital Charge",null,{"$f":"SUM(C29:C30)","v":{"$error":"#REF!"}},{"$f":"SUM(D29:D30)","v":{"$error":"#REF!"}},{"$f":"SUM(E29:E30)","v":{"$error":"#REF!"}},{"$f":"SUM(F29:F30)","v":{"$error":"#REF!"}},{"$f":"SUM(G29:G30)","v":{"$error":"#REF!"}}]
[]
[{"$f":"A191","v":"Brackets"}]
["Brackets - depreciation",null,{"$f":"W200","v":0.18807135179628345},{"$f":"X200","v":0.18807135179628345},{"$f":"Y200","v":0.18807135179628345},{"$f":"Z200","v":0.18807135179628345},{"$f":"AA200","v":0.18807135179628345}]
["Brackets - return on",null,{"$f":"W199*C$9","v":{"$error":"#REF!"}},{"$f":"X199*D$9","v":{"$error":"#REF!"}},{"$f":"Y199*E$9","v":{"$error":"#REF!"}},{"$f":"Z199*F$9","v":{"$error":"#REF!"}},{"$f":"AA199*G$9","v":{"$error":"#REF!"}}]
["Capital Charge",null,{"$f":"SUM(C34:C35)","v":{"$error":"#REF!"}},{"$f":"SUM(D34:D35)","v":{"$error":"#REF!"}},{"$f":"SUM(E34:E35)","v":{"$error":"#REF!"}},{"$f":"SUM(F34:F35)","v":{"$error":"#REF!"}},{"$f":"SUM(G34:G35)","v":{"$error":"#REF!"}}]
[]
[]
[]
[]
["Closing RAB at 31 December 2004 and Depreciation per annum 2005 onwards"]
[]
["Note : Calculation of the closing $ value of RAB in 2004 is Unit WDV at 31 December 2004 multiplied by volumes at 31 December 2004."]
[]
["Luminaires"]
["Depreciation",null,null,null,"Closing RAB per unit","Depreciation per unit"]
[null,null,null,null,2004,2005,2006,2007,2008,2009,2010,2011,2012,2013,2014,2015,2016,2017,2018,2019,2020,{"$f":"#REF!","v":{"$error":"#REF!"}},{"$f":"#REF!","v":{"$error":"#REF!"}},{"$f":"#REF!","v":{"$error":"#REF!"}},{"$f":"#REF!","v":{"$error":"#REF!"}},{"$f":"#REF!","v":{"$error":"#REF!"}},{"$f":"#REF!","v":{"$error":"#REF!"}}]
[{"$f":"#REF!","v":{"$error":"#REF!"}},null,null,null,{"$f":"F143+F144/2","v":38.461559161412552},{"$f":"F144","v":2.1367532867451411},{"$f":"G144","v":2.1367532867451411},2.1367532867451411,2.1367532867451411,2.1367532867451411,2.1367532867451411,2.1367532867451411,2.1367532867451411,2.1367532867451411,2.1367532867451411,2.1367532867451411,2.1367532867451411,2.1367532867451411,2.1367532867451411,2.1367532867451411,2.1367532867451411,{"$f":"V144","v":1.0683766433725705},2.1367532867451411,1.0683766433725705,0,0,0]
[{"$f":"#REF!","v":{"$error":"#REF!"}},null,null,null,{"$f":"F157+F158/2","v":46.279400529656911},{"$f":"F158","v":2.5710778072031615},{"$f":"G158","v":2.5710778072031615},2.5710778072031615,2.5710778072031615,2.5710778072031615,2.5710778072031615,2.5710778072031615,2.5710778072031615,2.5710778072031615,2.5710778072031615,2.5710778072031615,2.5710778072031615,2.5710778072031615,2.5710778072031615,2.5710778072031615,2.5710778072031615,{"$f":"V158","v":1.2855389036015807},2.5710778072031615,1.2855389036015807,0,0,0]
[{"$f":"#REF!","v":{"$error":"#REF!"}},null,null,null,{"$f":"F171+F172/2","v":47.208245769938877},{"$f":"F172","v":2.6226803205521598},{"$f":"G172","v":2.6226803205521598},2.6226803205521598,2.6226803205521598,2.6226803205521598,2.6226803205521598,2.6226803205521598,2.6226803205521598,2.6226803205521598,2.6226803205521598,2.6226803205521598,2.6226803205521598,2.6226803205521598,2.6226803205521598,2.6226803205521598,2.6226803205521598,{"$f":"V172","v":1.3113401602760799},2.6226803205521598,1.3113401602760799,0,0,0]
[]
[]
["Light Type",null,"Assumed",null,"Closing RAB","Depreciation"]
[null,null," 2004 Volumes",null,{"$f":"E$47","v":2004},2005,2006,2007,2008,2009,2010,2011,2012,2013,2014,2015,2016,2017,2018,2019,2020,{"$f":"V$47","v":{"$error":"#REF!"}},{"$error":"#REF!"},{"$error":"#REF!"},{"$error":"#REF!"},{"$error":"#REF!"},{"$error":"#REF!"}]
[{"$f":"#REF!","v":{"$error":"#REF!"}},null,{"$f":"54830.8388653408+5129.42975845582+3216.02650170813","v":63176.295125504752},null,{"$f":"E48*$C55","v":2429858.8125684606},{"$f":"F48*$C55","v":134992.15625380332},134992.15625380332,134992.15625380332,134992.15625380332,134992.15625380332,134992.15625380332,134992.15625380332,134992.15625380332,134992.15625380332,134992.15625380332,134992.15625380332,134992.15625380332,{"$f":"R48*$C55","v":134992.15625380332},134992.15625380332,134992.15625380332,134992.15625380332,{"$f":"V48*$C55","v":67496.078126901659},134992.15625380332,67496.078126901659,0,0,0]
[{"$f":"#REF!","v":{"$error":"#REF!"}},null,11309.578750263752,null,{"$f":"E49*$C56","v":523400.52480515285},{"$f":"F49*$C56","v":29077.806933619599},29077.806933619599,29077.806933619599,29077.806933619599,29077.806933619599,29077.806933619599,29077.806933619599,29077.806933619599,29077.806933619599,29077.806933619599,29077.806933619599,29077.806933619599,29077.806933619599,29077.806933619599,29077.806933619599,29077.806933619599,{"$f":"V49*$C56","v":14538.903466809799},29077.806933619599,14538.903466809799,0,0,0]
[{"$f":"#REF!","v":{"$error":"#REF!"}},null,5935.0914346750506,null,{"$f":"E50*$C57","v":280185.2551151989},{"$f":"F50*$C57","v":15565.847506399939},15565.847506399939,15565.847506399939,15565.847506399939,15565.847506399939,15565.847506399939,15565.847506399939,15565.847506399939,15565.847506399939,15565.847506399939,15565.847506399939,15565.847506399939,15565.847506399939,15565.847506399939,15565.847506399939,15565.847506399939,{"$f":"V50*$C57","v":7782.9237531999697},15565.847506399939,7782.9237531999697,0,0,0]
[{"$f":"#REF!","v":{"$error":"#REF!"}},null,393.03223566379955,null,{"$f":"IF(#REF!=#REF!,E$48,IF(#REF!=#REF!,E$49,E$50))*#REF!*$C58","v":{"$error":"#REF!"}},{"$f":"IF(#REF!=#REF!,F$48,IF(#REF!=#REF!,F$49,F$50))*#REF!*$C58","v":{"$error":"#REF!"}},{"$f":"IF(#REF!=#REF!,G$48,IF(#REF!=#REF!,G$49,G$50))*#REF!*$C58","v":{"$error":"#REF!"}},{"$f":"IF(#REF!=#REF!,H$48,IF(#REF!=#REF!,H$49,H$50))*#REF!*$C58","v":{"$error":"#REF!"}},{"$f":"IF(#REF!=#REF!,I$48,IF(#REF!=#REF!,I$49,I$50))*#REF!*$C58","v":{"$error":"#REF!"}},{"$f":"IF(#REF!=#REF!,J$48,IF(#REF!=#REF!,J$49,J$50))*#REF!*$C58","v":{"$error":"#REF!"}},{"$f":"IF(#REF!=#REF!,K$48,IF(#REF!=#REF!,K$49,K$50))*#REF!*$C58","v":{"$error":"#REF!"}},{"$f":"IF(#REF!=#REF!,L$48,IF(#REF!=#REF!,L$49,L$50))*#REF!*$C58","v":{"$error":"#REF!"}},{"$f":"IF(#REF!=#REF!,M$48,IF(#REF!=#REF!,M$49,M$50))*#REF!*$C58","v":{"$error":"#REF!"}},{"$f":"IF(#REF!=#REF!,N$48,IF(#REF!=#REF!,N$49,N$50))*#REF!*$C58","v":{"$error":"#REF!"}},{"$f":"IF(#REF!=#REF!,O$48,IF(#REF!=#REF!,O$49,O$50))*#REF!*$C58","v":{"$error":"#REF!"}},{"$f":"IF(#REF!=#REF!,P$48,IF(#REF!=#REF!,P$49,P$50))*#REF!*$C58","v":{"$error":"#REF!"}},{"$f":"IF(#REF!=#REF!,Q$48,IF(#REF!=#REF!,Q$49,Q$50))*#REF!*$C58","v":{"$error":"#REF!"}},{"$f":"IF(#REF!=#REF!,R$48,IF(#REF!=#REF!,R$49,R$50))*#REF!*$C58","v":{"$error":"#REF!"}},{"$f":"IF(#REF!=#REF!,S$48,IF(#REF!=#REF!,S$49,S$50))*#REF!*$C58","v":{"$error":"#REF!"}},{"$f":"IF(#REF!=#REF!,T$48,IF(#REF!=#REF!,T$49,T$50))*#REF!*$C58","v":{"$error":"#REF!"}},{"$f":"IF(#REF!=#REF!,U$48,IF(#REF!=#REF!,U$49,U$50))*#REF!*$C58","v":{"$error":"#REF!"}},{"$f":"IF(#REF!=#REF!,V$48,IF(#REF!=#REF!,V$49,V$50))*#REF!*$C58","v":{"$error":"#REF!"}},{"$f":"IF(#REF!=#REF!,W$48,IF(#REF!=#REF!,W$49,W$50))*#REF!*$C58","v":{"$error":"#REF!"}},{"$f":"IF(#REF!=#REF!,X$48,IF(#REF!=#REF!,X$49,X$50))*#REF!*$C58","v":{"$error":"#REF!"}},{"$f":"IF(#REF!=#REF!,Y$48,IF(#REF!=#REF!,Y$49,Y$50))*#REF!*$C58","v":{"$error":"#REF!"}},{"$f":"IF(#REF!=#REF!,Z$48,IF(#REF!=#REF!,Z$49,Z$50))*#REF!*$C58","v":{"$error":"#REF!"}},{"$f":"IF(#REF!=#REF!,AA$48,IF(#REF!=#REF!,AA$49,AA$50))*#REF!*$C58","v":{"$error":"#REF!"}}]
[{"$f":"#REF!","v":{"$error":"#REF!"}},null,908.95051917080264,null,{"$f":"IF(#REF!=#REF!,E$48,IF(#REF!=#REF!,E$49,E$50))*#REF!*$C59","v":{"$error":"#REF!"}},{"$f":"IF(#REF!=#REF!,F$48,IF(#REF!=#REF!,F$49,F$50))*#REF!*$C59","v":{"$error":"#REF!"}},{"$f":"IF(#REF!=#REF!,G$48,IF(#REF!=#REF!,G$49,G$50))*#REF!*$C59","v":{"$error":"#REF!"}},{"$f":"IF(#REF!=#REF!,H$48,IF(#REF!=#REF!,H$49,H$50))*#REF!*$C59","v":{"$error":"#REF!"}},{"$f":"IF(#REF!=#REF!,I$48,IF(#REF!=#REF!,I$49,I$50))*#REF!*$C59","v":{"$error":"#REF!"}},{"$f":"IF(#REF!=#REF!,J$48,IF(#REF!=#REF!,J$49,J$50))*#REF!*$C59","v":{"$error":"#REF!"}},{"$f":"IF(#REF!=#REF!,K$48,IF(#REF!=#REF!,K$49,K$50))*#REF!*$C59","v":{"$error":"#REF!"}},{"$f":"IF(#REF!=#REF!,L$48,IF(#REF!=#REF!,L$49,L$50))*#REF!*$C59","v":{"$error":"#REF!"}},{"$f":"IF(#REF!=#REF!,M$48,IF(#REF!=#REF!,M$49,M$50))*#REF!*$C59","v":{"$error":"#REF!"}},{"$f":"IF(#REF!=#REF!,N$48,IF(#REF!=#REF!,N$49,N$50))*#REF!*$C59","v":{"$error":"#REF!"}},{"$f":"IF(#REF!=#REF!,O$48,IF(#REF!=#REF!,O$49,O$50))*#REF!*$C59","v":{"$error":"#REF!"}},{"$f":"IF(#REF!=#REF!,P$48,IF(#REF!=#REF!,P$49,P$50))*#REF!*$C59","v":{"$error":"#REF!"}},{"$f":"IF(#REF!=#REF!,Q$48,IF(#REF!=#REF!,Q$49,Q$50))*#REF!*$C59","v":{"$error":"#REF!"}},{"$f":"IF(#REF!=#REF!,R$48,IF(#REF!=#REF!,R$49,R$50))*#REF!*$C59","v":{"$error":"#REF!"}},{"$f":"IF(#REF!=#REF!,S$48,IF(#REF!=#REF!,S$49,S$50))*#REF!*$C59","v":{"$error":"#REF!"}},{"$f":"IF(#REF!=#REF!,T$48,IF(#REF!=#REF!,T$49,T$50))*#REF!*$C59","v":{"$error":"#REF!"}},{"$f":"IF(#REF!=#REF!,U$48,IF(#REF!=#REF!,U$49,U$50))*#REF!*$C59","v":{"$error":"#REF!"}},{"$f":"IF(#REF!=#REF!,V$48,IF(#REF!=#REF!,V$49,V$50))*#REF!*$C59","v":{"$error":"#REF!"}},{"$f":"IF(#REF!=#REF!,W$48,IF(#REF!=#REF!,W$49,W$50))*#REF!*$C59","v":{"$error":"#REF!"}},{"$f":"IF(#REF!=#REF!,X$48,IF(#REF!=#REF!,X$49,X$50))*#REF!*$C59","v":{"$error":"#REF!"}},{"$f":"IF(#REF!=#REF!,Y$48,IF(#REF!=#REF!,Y$49,Y$50))*#REF!*$C59","v":{"$error":"#REF!"}},{"$f":"IF(#REF!=#REF!,Z$48,IF(#REF!=#REF!,Z$49,Z$50))*#REF!*$C59","v":{"$error":"#REF!"}},{"$f":"IF(#REF!=#REF!,AA$48,IF(#REF!=#REF!,AA$49,AA$50))*#REF!*$C59","v":{"$error":"#REF!"}}]
[{"$f":"#REF!","v":{"$error":"#REF!"}},null,906.91934482628687,null,{"$f":"IF(#REF!=#REF!,E$48,IF(#REF!=#REF!,E$49,E$50))*#REF!*$C60","v":{"$error":"#REF!"}},{"$f":"IF(#REF!=#REF!,F$48,IF(#REF!=#REF!,F$49,F$50))*#REF!*$C60","v":{"$error":"#REF!"}},{"$f":"IF(#REF!=#REF!,G$48,IF(#REF!=#REF!,G$49,G$50))*#REF!*$C60","v":{"$error":"#REF!"}},{"$f":"IF(#REF!=#REF!,H$48,IF(#REF!=#REF!,H$49,H$50))*#REF!*$C60","v":{"$error":"#REF!"}},{"$f":"IF(#REF!=#REF!,I$48,IF(#REF!=#REF!,I$49,I$50))*#REF!*$C60","v":{"$error":"#REF!"}},{"$f":"IF(#REF!=#REF!,J$48,IF(#REF!=#REF!,J$49,J$50))*#REF!*$C60","v":{"$error":"#REF!"}},{"$f":"IF(#REF!=#REF!,K$48,IF(#REF!=#REF!,K$49,K$50))*#REF!*$C60","v":{"$error":"#REF!"}},{"$f":"IF(#REF!=#REF!,L$48,IF(#REF!=#REF!,L$49,L$50))*#REF!*$C60","v":{"$error":"#REF!"}},{"$f":"IF(#REF!=#REF!,M$48,IF(#REF!=#REF!,M$49,M$50))*#REF!*$C60","v":{"$error":"#REF!"}},{"$f":"IF(#REF!=#REF!,N$48,IF(#REF!=#REF!,N$49,N$50))*#REF!*$C60","v":{"$error":"#REF!"}},{"$f":"IF(#REF!=#REF!,O$48,IF(#REF!=#REF!,O$49,O$50))*#REF!*$C60","v":{"$error":"#REF!"}},{"$f":"IF(#REF!=#REF!,P$48,IF(#REF!=#REF!,P$49,P$50))*#REF!*$C60","v":{"$error":"#REF!"}},{"$f":"IF(#REF!=#REF!,Q$48,IF(#REF!=#REF!,Q$49,Q$50))*#REF!*$C60","v":{"$error":"#REF!"}},{"$f":"IF(#REF!=#REF!,R$48,IF(#REF!=#REF!,R$49,R$50))*#REF!*$C60","v":{"$error":"#REF!"}},{"$f":"IF(#REF!=#REF!,S$48,IF(#REF!=#REF!,S$49,S$50))*#REF!*$C60","v":{"$error":"#REF!"}},{"$f":"IF(#REF!=#REF!,T$48,IF(#REF!=#REF!,T$49,T$50))*#REF!*$C60","v":{"$error":"#REF!"}},{"$f":"IF(#REF!=#REF!,U$48,IF(#REF!=#REF!,U$49,U$50))*#REF!*$C60","v":{"$error":"#REF!"}},{"$f":"IF(#REF!=#REF!,V$48,IF(#REF!=#REF!,V$49,V$50))*#REF!*$C60","v":{"$error":"#REF!"}},{"$f":"IF(#REF!=#REF!,W$48,IF(#REF!=#REF!,W$49,W$50))*#REF!*$C60","v":{"$error":"#REF!"}},{"$f":"IF(#REF!=#REF!,X$48,IF(#REF!=#REF!,X$49,X$50))*#REF!*$C60","v":{"$error":"#REF!"}},{"$f":"IF(#REF!=#REF!,Y$48,IF(#REF!=#REF!,Y$49,Y$50))*#REF!*$C60","v":{"$error":"#REF!"}},{"$f":"IF(#REF!=#REF!,Z$48,IF(#REF!=#REF!,Z$49,Z$50))*#REF!*$C60","v":{"$error":"#REF!"}},{"$f":"IF(#REF!=#REF!,AA$48,IF(#REF!=#REF!,AA$49,AA$50))*#REF!*$C60","v":{"$error":"#REF!"}}]
[{"$f":"#REF!","v":{"$error":"#REF!"}},null,156.40042452771351,null,{"$f":"IF(#REF!=#REF!,E$48,IF(#REF!=#REF!,E$49,E$50))*#REF!*$C61","v":{"$error":"#REF!"}},{"$f":"IF(#REF!=#REF!,F$48,IF(#REF!=#REF!,F$49,F$50))*#REF!*$C61","v":{"$error":"#REF!"}},{"$f":"IF(#REF!=#REF!,G$48,IF(#REF!=#REF!,G$49,G$50))*#REF!*$C61","v":{"$error":"#REF!"}},{"$f":"IF(#REF!=#REF!,H$48,IF(#REF!=#REF!,H$49,H$50))*#REF!*$C61","v":{"$error":"#REF!"}},{"$f":"IF(#REF!=#REF!,I$48,IF(#REF!=#REF!,I$49,I$50))*#REF!*$C61","v":{"$error":"#REF!"}},{"$f":"IF(#REF!=#REF!,J$48,IF(#REF!=#REF!,J$49,J$50))*#REF!*$C61","v":{"$error":"#REF!"}},{"$f":"IF(#REF!=#REF!,K$48,IF(#REF!=#REF!,K$49,K$50))*#REF!*$C61","v":{"$error":"#REF!"}},{"$f":"IF(#REF!=#REF!,L$48,IF(#REF!=#REF!,L$49,L$50))*#REF!*$C61","v":{"$error":"#REF!"}},{"$f":"IF(#REF!=#REF!,M$48,IF(#REF!=#REF!,M$49,M$50))*#REF!*$C61","v":{"$error":"#REF!"}},{"$f":"IF(#REF!=#REF!,N$48,IF(#REF!=#REF!,N$49,N$50))*#REF!*$C61","v":{"$error":"#REF!"}},{"$f":"IF(#REF!=#REF!,O$48,IF(#REF!=#REF!,O$49,O$50))*#REF!*$C61","v":{"$error":"#REF!"}},{"$f":"IF(#REF!=#REF!,P$48,IF(#REF!=#REF!,P$49,P$50))*#REF!*$C61","v":{"$error":"#REF!"}},{"$f":"IF(#REF!=#REF!,Q$48,IF(#REF!=#REF!,Q$49,Q$50))*#REF!*$C61","v":{"$error":"#REF!"}},{"$f":"IF(#REF!=#REF!,R$48,IF(#REF!=#REF!,R$49,R$50))*#REF!*$C61","v":{"$error":"#REF!"}},{"$f":"IF(#REF!=#REF!,S$48,IF(#REF!=#REF!,S$49,S$50))*#REF!*$C61","v":{"$error":"#REF!"}},{"$f":"IF(#REF!=#REF!,T$48,IF(#REF!=#REF!,T$49,T$50))*#REF!*$C61","v":{"$error":"#REF!"}},{"$f":"IF(#REF!=#REF!,U$48,IF(#REF!=#REF!,U$49,U$50))*#REF!*$C61","v":{"$error":"#REF!"}},{"$f":"IF(#REF!=#REF!,V$48,IF(#REF!=#REF!,V$49,V$50))*#REF!*$C61","v":{"$error":"#REF!"}},{"$f":"IF(#REF!=#REF!,W$48,IF(#REF!=#REF!,W$49,W$50))*#REF!*$C61","v":{"$error":"#REF!"}},{"$f":"IF(#REF!=#REF!,X$48,IF(#REF!=#REF!,X$49,X$50))*#REF!*$C61","v":{"$error":"#REF!"}},{"$f":"IF(#REF!=#REF!,Y$48,IF(#REF!=#REF!,Y$49,Y$50))*#REF!*$C61","v":{"$error":"#REF!"}},{"$f":"IF(#REF!=#REF!,Z$48,IF(#REF!=#REF!,Z$49,Z$50))*#REF!*$C61","v":{"$error":"#REF!"}},{"$f":"IF(#REF!=#REF!,AA$48,IF(#REF!=#REF!,AA$49,AA$50))*#REF!*$C61","v":{"$error":"#REF!"}}]
[{"$f":"#REF!","v":{"$error":"#REF!"}},null,1699.0773391874332,null,{"$f":"IF(#REF!=#REF!,E$48,IF(#REF!=#REF!,E$49,E$50))*#REF!*$C62","v":{"$error":"#REF!"}},{"$f":"IF(#REF!=#REF!,F$48,IF(#REF!=#REF!,F$49,F$50))*#REF!*$C62","v":{"$error":"#REF!"}},{"$f":"IF(#REF!=#REF!,G$48,IF(#REF!=#REF!,G$49,G$50))*#REF!*$C62","v":{"$error":"#REF!"}},{"$f":"IF(#REF!=#REF!,H$48,IF(#REF!=#REF!,H$49,H$50))*#REF!*$C62","v":{"$error":"#REF!"}},{"$f":"IF(#REF!=#REF!,I$48,IF(#REF!=#REF!,I$49,I$50))*#REF!*$C62","v":{"$error":"#REF!"}},{"$f":"IF(#REF!=#REF!,J$48,IF(#REF!=#REF!,J$49,J$50))*#REF!*$C62","v":{"$error":"#REF!"}},{"$f":"IF(#REF!=#REF!,K$48,IF(#REF!=#REF!,K$49,K$50))*#REF!*$C62","v":{"$error":"#REF!"}},{"$f":"IF(#REF!=#REF!,L$48,IF(#REF!=#REF!,L$49,L$50))*#REF!*$C62","v":{"$error":"#REF!"}},{"$f":"IF(#REF!=#REF!,M$48,IF(#REF!=#REF!,M$49,M$50))*#REF!*$C62","v":{"$error":"#REF!"}},{"$f":"IF(#REF!=#REF!,N$48,IF(#REF!=#REF!,N$49,N$50))*#REF!*$C62","v":{"$error":"#REF!"}},{"$f":"IF(#REF!=#REF!,O$48,IF(#REF!=#REF!,O$49,O$50))*#REF!*$C62","v":{"$error":"#REF!"}},{"$f":"IF(#REF!=#REF!,P$48,IF(#REF!=#REF!,P$49,P$50))*#REF!*$C62","v":{"$error":"#REF!"}},{"$f":"IF(#REF!=#REF!,Q$48,IF(#REF!=#REF!,Q$49,Q$50))*#REF!*$C62","v":{"$error":"#REF!"}},{"$f":"IF(#REF!=#REF!,R$48,IF(#REF!=#REF!,R$49,R$50))*#REF!*$C62","v":{"$error":"#REF!"}},{"$f":"IF(#REF!=#REF!,S$48,IF(#REF!=#REF!,S$49,S$50))*#REF!*$C62","v":{"$error":"#REF!"}},{"$f":"IF(#REF!=#REF!,T$48,IF(#REF!=#REF!,T$49,T$50))*#REF!*$C62","v":{"$error":"#REF!"}},{"$f":"IF(#REF!=#REF!,U$48,IF(#REF!=#REF!,U$49,U$50))*#REF!*$C62","v":{"$error":"#REF!"}},{"$f":"IF(#REF!=#REF!,V$48,IF(#REF!=#REF!,V$49,V$50))*#REF!*$C62","v":{"$error":"#REF!"}},{"$f":"IF(#REF!=#REF!,W$48,IF(#REF!=#REF!,W$49,W$50))*#REF!*$C62","v":{"$error":"#REF!"}},{"$f":"IF(#REF!=#REF!,X$48,IF(#REF!=#REF!,X$49,X$50))*#REF!*$C62","v":{"$error":"#REF!"}},{"$f":"IF(#REF!=#REF!,Y$48,IF(#REF!=#REF!,Y$49,Y$50))*#REF!*$C62","v":{"$error":"#REF!"}},{"$f":"IF(#REF!=#REF!,Z$48,IF(#REF!=#REF!,Z$49,Z$50))*#REF!*$C62","v":{"$error":"#REF!"}},{"$f":"IF(#REF!=#REF!,AA$48,IF(#REF!=#REF!,AA$49,AA$50))*#REF!*$C62","v":{"$error":"#REF!"}}]
[{"$f":"#REF!","v":{"$error":"#REF!"}},null,295.53586712704305,null,{"$f":"IF(#REF!=#REF!,E$48,IF(#REF!=#REF!,E$49,E$50))*#REF!*$C63","v":{"$error":"#REF!"}},{"$f":"IF(#REF!=#REF!,F$48,IF(#REF!=#REF!,F$49,F$50))*#REF!*$C63","v":{"$error":"#REF!"}},{"$f":"IF(#REF!=#REF!,G$48,IF(#REF!=#REF!,G$49,G$50))*#REF!*$C63","v":{"$error":"#REF!"}},{"$f":"IF(#REF!=#REF!,H$48,IF(#REF!=#REF!,H$49,H$50))*#REF!*$C63","v":{"$error":"#REF!"}},{"$f":"IF(#REF!=#REF!,I$48,IF(#REF!=#REF!,I$49,I$50))*#REF!*$C63","v":{"$error":"#REF!"}},{"$f":"IF(#REF!=#REF!,J$48,IF(#REF!=#REF!,J$49,J$50))*#REF!*$C63","v":{"$error":"#REF!"}},{"$f":"IF(#REF!=#REF!,K$48,IF(#REF!=#REF!,K$49,K$50))*#REF!*$C63","v":{"$error":"#REF!"}},{"$f":"IF(#REF!=#REF!,L$48,IF(#REF!=#REF!,L$49,L$50))*#REF!*$C63","v":{"$error":"#REF!"}},{"$f":"IF(#REF!=#REF!,M$48,IF(#REF!=#REF!,M$49,M$50))*#REF!*$C63","v":{"$error":"#REF!"}},{"$f":"IF(#REF!=#REF!,N$48,IF(#REF!=#REF!,N$49,N$50))*#REF!*$C63","v":{"$error":"#REF!"}},{"$f":"IF(#REF!=#REF!,O$48,IF(#REF!=#REF!,O$49,O$50))*#REF!*$C63","v":{"$error":"#REF!"}},{"$f":"IF(#REF!=#REF!,P$48,IF(#REF!=#REF!,P$49,P$50))*#REF!*$C63","v":{"$error":"#REF!"}},{"$f":"IF(#REF!=#REF!,Q$48,IF(#REF!=#REF!,Q$49,Q$50))*#REF!*$C63","v":{"$error":"#REF!"}},{"$f":"IF(#REF!=#REF!,R$48,IF(#REF!=#REF!,R$49,R$50))*#REF!*$C63","v":{"$error":"#REF!"}},{"$f":"IF(#REF!=#REF!,S$48,IF(#REF!=#REF!,S$49,S$50))*#REF!*$C63","v":{"$error":"#REF!"}},{"$f":"IF(#REF!=#REF!,T$48,IF(#REF!=#REF!,T$49,T$50))*#REF!*$C63","v":{"$error":"#REF!"}},{"$f":"IF(#REF!=#REF!,U$48,IF(#REF!=#REF!,U$49,U$50))*#REF!*$C63","v":{"$error":"#REF!"}},{"$f":"IF(#REF!=#REF!,V$48,IF(#REF!=#REF!,V$49,V$50))*#REF!*$C63","v":{"$error":"#REF!"}},{"$f":"IF(#REF!=#REF!,W$48,IF(#REF!=#REF!,W$49,W$50))*#REF!*$C63","v":{"$error":"#REF!"}},{"$f":"IF(#REF!=#REF!,X$48,IF(#REF!=#REF!,X$49,X$50))*#REF!*$C63","v":{"$error":"#REF!"}},{"$f":"IF(#REF!=#REF!,Y$48,IF(#REF!=#REF!,Y$49,Y$50))*#REF!*$C63","v":{"$error":"#REF!"}},{"$f":"IF(#REF!=#REF!,Z$48,IF(#REF!=#REF!,Z$49,Z$50))*#REF!*$C63","v":{"$error":"#REF!"}},{"$f":"IF(#REF!=#REF!,AA$48,IF(#REF!=#REF!,AA$49,AA$50))*#REF!*$C63","v":{"$error":"#REF!"}}]
[]
[]
[]
[]
[]
[]
[]
[]
[]
[]
[]
[]
[]
[null,null,null,null,{"$f":"SUM(E55:E76)","v":{"$error":"#REF!"}},{"$f":"SUM(F55:F76)","v":{"$error":"#REF!"}},{"$error":"#REF!"},{"$error":"#REF!"},{"$error":"#REF!"},{"$error":"#REF!"},{"$error":"#REF!"},{"$error":"#REF!"},{"$error":"#REF!"},{"$error":"#REF!"},{"$error":"#REF!"},{"$error":"#REF!"},{"$error":"#REF!"},{"$f":"SUM(R55:R76)","v":{"$error":"#REF!"}},{"$f":"SUM(S55:S76)","v":{"$error":"#REF!"}},{"$f":"SUM(T55:T76)","v":{"$error":"#REF!"}},{"$f":"SUM(U55:U76)","v":{"$error":"#REF!"}},{"$f":"SUM(V55:V76)","v":{"$error":"#REF!"}},{"$error":"#REF!"},{"$error":"#REF!"},{"$error":"#REF!"},{"$error":"#REF!"},{"$error":"#REF!"}]
[]
["WDV",null,null,null,{"$f":"E77","v":{"$error":"#REF!"}},{"$f":"E79-F77","v":{"$error":"#REF!"}},{"$f":"F79-G77","v":{"$error":"#REF!"}},{"$error":"#REF!"},{"$error":"#REF!"},{"$error":"#REF!"},{"$error":"#REF!"},{"$error":"#REF!"},{"$error":"#REF!"},{"$error":"#REF!"},{"$error":"#REF!"},{"$error":"#REF!"},{"$error":"#REF!"},{"$error":"#REF!"},{"$error":"#REF!"},{"$error":"#REF!"},{"$error":"#REF!"},{"$error":"#REF!"},{"$error":"#REF!"},{"$error":"#REF!"},{"$error":"#REF!"},{"$error":"#REF!"},{"$error":"#REF!"}]
[]
[]
["Poles & Brackets"]
["Depreciation",null,null,null,"Closing RAB per unit","Depreciation per unit"]
[null,null,null,null,{"$f":"E$47","v":2004},2005,2006,2007,2008,2009,2010,2011,2012,2013,2014,2015,2016,2017,2018,2019,2020,{"$f":"V$47","v":{"$error":"#REF!"}},{"$error":"#REF!"},{"$error":"#REF!"},{"$error":"#REF!"},{"$error":"#REF!"},{"$error":"#REF!"},{"$f":"EOMONTH(AA84,12)","v":{"$error":"#REF!"}},{"$f":"EOMONTH(AB84,12)","v":{"$error":"#REF!"}},{"$error":"#REF!"},{"$error":"#REF!"},{"$error":"#REF!"},{"$error":"#REF!"},{"$error":"#REF!"},{"$error":"#REF!"},{"$error":"#REF!"},{"$error":"#REF!"},{"$error":"#REF!"},{"$error":"#REF!"},{"$error":"#REF!"}]
[{"$f":"'RAB 2001 to 2004 Central'!A$28","v":"Dedicated poles"},null,null,null,{"$f":"F185+F186/2","v":30.187130915368446},{"$f":"F186","v":0.91476154288995293},{"$f":"G186","v":0.91476154288995293},0.91476154288995293,0.91476154288995293,0.91476154288995293,0.91476154288995293,0.91476154288995293,0.91476154288995293,0.91476154288995293,0.91476154288995293,0.91476154288995293,0.91476154288995293,0.91476154288995293,0.91476154288995293,0.91476154288995293,0.91476154288995293,{"$f":"V186","v":0.45738077144497646},0.91476154288995293,0.91476154288995293,0.91476154288995293,0.91476154288995293,0.91476154288995293,{"$f":"AB186","v":0.91476154288995293},0.91476154288995293,0.91476154288995293,0.91476154288995293,0.91476154288995293,0.91476154288995293,0.91476154288995293,0.91476154288995293,0.91476154288995293,0.91476154288995293,0.91476154288995293,0.45738077144497646,0]
[{"$f":"'RAB 2001 to 2004 Central'!A$33","v":"Brackets"},null,null,null,{"$f":"F199+F200/2","v":6.2063546092773541},{"$f":"F200","v":0.18807135179628345},{"$f":"G200","v":0.18807135179628345},0.18807135179628345,0.18807135179628345,0.18807135179628345,0.18807135179628345,0.18807135179628345,0.18807135179628345,0.18807135179628345,0.18807135179628345,0.18807135179628345,0.18807135179628345,0.18807135179628345,0.18807135179628345,0.18807135179628345,0.18807135179628345,{"$f":"V200","v":9.4035675898141727E-2},0.18807135179628345,0.18807135179628345,0.18807135179628345,0.18807135179628345,0.18807135179628345,{"$f":"AB200","v":0.18807135179628345},0.18807135179628345,0.18807135179628345,0.18807135179628345,0.18807135179628345,0.18807135179628345,0.18807135179628345,0.18807135179628345,0.18807135179628345,0.18807135179628345,0.18807135179628345,9.4035675898141727E-2,0]
[null,null,null,null,{"$f":"SUM(E85:E86)","v":36.393485524645797},{"$f":"SUM(F85:F86)","v":1.1028328946862365},{"$f":"SUM(G85:G86)","v":1.1028328946862365},1.1028328946862365,1.1028328946862365,1.1028328946862365,1.1028328946862365,1.1028328946862365,1.1028328946862365,1.1028328946862365,1.1028328946862365,1.1028328946862365,1.1028328946862365,1.1028328946862365,1.1028328946862365,1.1028328946862365,1.1028328946862365,{"$f":"SUM(V85:V86)","v":0.55141644734311823},1.1028328946862365,1.1028328946862365,1.1028328946862365,1.1028328946862365,1.1028328946862365,{"$f":"SUM(AB85:AB86)","v":1.1028328946862365},1.1028328946862365,1.1028328946862365,1.1028328946862365,1.1028328946862365,1.1028328946862365,1.1028328946862365,1.1028328946862365,1.1028328946862365,1.1028328946862365,1.1028328946862365,0.55141644734311823,0]
[]
[]
["Light Type",null,"Assumed",null,"Closing RAB","Depreciation"]
[null,null," 2004 Volumes",null,{"$f":"E$47","v":2004},2005,2006,2007,2008,2009,2010,2011,2012,2013,2014,2015,2016,2017,2018,2019,2020,{"$f":"V$47","v":{"$error":"#REF!"}},{"$error":"#REF!"},{"$error":"#REF!"},{"$error":"#REF!"},{"$error":"#REF!"},{"$error":"#REF!"},{"$f":"AB$84","v":{"$error":"#REF!"}},{"$error":"#REF!"},{"$error":"#REF!"},{"$error":"#REF!"},{"$error":"#REF!"},{"$error":"#REF!"},{"$error":"#REF!"},{"$error":"#REF!"},{"$error":"#REF!"},{"$error":"#REF!"},{"$error":"#REF!"},{"$error":"#REF!"},{"$error":"#REF!"}]
[{"$f":"#REF!","v":{"$error":"#REF!"}},null,{"$f":"C$55","v":63176.295125504752},null,{"$f":"E$87*$C92","v":2299205.5821508081},{"$f":"F$87*$C92","v":69672.896428812383},69672.896428812383,69672.896428812383,69672.896428812383,69672.896428812383,69672.896428812383,69672.896428812383,69672.896428812383,69672.896428812383,69672.896428812383,69672.896428812383,69672.896428812383,{"$f":"R$87*$C92","v":69672.896428812383},{"$f":"S$87*$C92","v":69672.896428812383},69672.896428812383,69672.896428812383,34836.448214406191,69672.896428812383,69672.896428812383,69672.896428812383,69672.896428812383,69672.896428812383,69672.896428812383,69672.896428812383,69672.896428812383,69672.896428812383,69672.896428812383,69672.896428812383,69672.896428812383,{"$f":"AI$87*$C92","v":69672.896428812383},69672.896428812383,69672.896428812383,69672.896428812383,34836.448214406191,0]
[{"$f":"#REF!","v":{"$error":"#REF!"}},null,{"$f":"C$56","v":11309.578750263752},null,{"$f":"E$87*$C93","v":411594.99053756555},12472.575470835323,12472.575470835323,12472.575470835323,12472.575470835323,12472.575470835323,12472.575470835323,12472.575470835323,12472.575470835323,12472.575470835323,12472.575470835323,12472.575470835323,12472.575470835323,{"$f":"R$87*$C93","v":12472.575470835323},12472.575470835323,12472.575470835323,12472.575470835323,6236.2877354176617,12472.575470835323,12472.575470835323,12472.575470835323,12472.575470835323,12472.575470835323,12472.575470835323,12472.575470835323,12472.575470835323,12472.575470835323,12472.575470835323,12472.575470835323,12472.575470835323,12472.575470835323,12472.575470835323,12472.575470835323,12472.575470835323,6236.2877354176617,0]
[{"$f":"#REF!","v":{"$error":"#REF!"}},null,{"$f":"C$57","v":5935.0914346750506},null,{"$f":"E$87*$C94","v":215998.66421529572},6545.4140671301739,6545.4140671301739,6545.4140671301739,6545.4140671301739,6545.4140671301739,6545.4140671301739,6545.4140671301739,6545.4140671301739,6545.4140671301739,6545.4140671301739,6545.4140671301739,6545.4140671301739,{"$f":"R$87*$C94","v":6545.4140671301739},6545.4140671301739,6545.4140671301739,6545.4140671301739,3272.7070335650869,6545.4140671301739,6545.4140671301739,6545.4140671301739,6545.4140671301739,6545.4140671301739,6545.4140671301739,6545.4140671301739,6545.4140671301739,6545.4140671301739,6545.4140671301739,6545.4140671301739,6545.4140671301739,6545.4140671301739,6545.4140671301739,6545.4140671301739,6545.4140671301739,3272.7070335650869,0]
[{"$f":"#REF!","v":{"$error":"#REF!"}},null,{"$f":"C$58","v":393.03223566379955},null,{"$f":"E$87*#REF!*$C95","v":{"$error":"#REF!"}},{"$f":"F$87*#REF!*$C95","v":{"$error":"#REF!"}},{"$f":"G$87*#REF!*$C95","v":{"$error":"#REF!"}},{"$f":"H$87*#REF!*$C95","v":{"$error":"#REF!"}},{"$f":"I$87*#REF!*$C95","v":{"$error":"#REF!"}},{"$f":"J$87*#REF!*$C95","v":{"$error":"#REF!"}},{"$f":"K$87*#REF!*$C95","v":{"$error":"#REF!"}},{"$f":"L$87*#REF!*$C95","v":{"$error":"#REF!"}},{"$f":"M$87*#REF!*$C95","v":{"$error":"#REF!"}},{"$f":"N$87*#REF!*$C95","v":{"$error":"#REF!"}},{"$f":"O$87*#REF!*$C95","v":{"$error":"#REF!"}},{"$f":"P$87*#REF!*$C95","v":{"$error":"#REF!"}},{"$f":"Q$87*#REF!*$C95","v":{"$error":"#REF!"}},{"$f":"R$87*#REF!*$C95","v":{"$error":"#REF!"}},{"$f":"S$87*#REF!*$C95","v":{"$error":"#REF!"}},{"$f":"T$87*#REF!*$C95","v":{"$error":"#REF!"}},{"$f":"U$87*#REF!*$C95","v":{"$error":"#REF!"}},{"$f":"V$87*#REF!*$C95","v":{"$error":"#REF!"}},{"$f":"W$87*#REF!*$C95","v":{"$error":"#REF!"}},{"$f":"X$87*#REF!*$C95","v":{"$error":"#REF!"}},{"$f":"Y$87*#REF!*$C95","v":{"$error":"#REF!"}},{"$f":"Z$87*#REF!*$C95","v":{"$error":"#REF!"}},{"$f":"AA$87*#REF!*$C95","v":{"$error":"#REF!"}},{"$f":"AB$87*#REF!*$C95","v":{"$error":"#REF!"}},{"$f":"AC$87*#REF!*$C95","v":{"$error":"#REF!"}},{"$f":"AD$87*#REF!*$C95","v":{"$error":"#REF!"}},{"$f":"AE$87*#REF!*$C95","v":{"$error":"#REF!"}},{"$f":"AF$87*#REF!*$C95","v":{"$error":"#REF!"}},{"$f":"AG$87*#REF!*$C95","v":{"$error":"#REF!"}},{"$f":"AH$87*#REF!*$C95","v":{"$error":"#REF!"}},{"$f":"AI$87*#REF!*$C95","v":{"$error":"#REF!"}},{"$f":"AJ$87*#REF!*$C95","v":{"$error":"#REF!"}},{"$f":"AK$87*#REF!*$C95","v":{"$error":"#REF!"}},{"$f":"AL$87*#REF!*$C95","v":{"$error":"#REF!"}},{"$f":"AM$87*#REF!*$C95","v":{"$error":"#REF!"}},{"$f":"AN$87*#REF!*$C95","v":{"$error":"#REF!"}}]
[{"$f":"#REF!","v":{"$error":"#REF!"}},null,{"$f":"C$59","v":908.95051917080264},null,{"$f":"E$87*#REF!*$C96","v":{"$error":"#REF!"}},{"$f":"F$87*#REF!*$C96","v":{"$error":"#REF!"}},{"$f":"G$87*#REF!*$C96","v":{"$error":"#REF!"}},{"$f":"H$87*#REF!*$C96","v":{"$error":"#REF!"}},{"$f":"I$87*#REF!*$C96","v":{"$error":"#REF!"}},{"$f":"J$87*#REF!*$C96","v":{"$error":"#REF!"}},{"$f":"K$87*#REF!*$C96","v":{"$error":"#REF!"}},{"$f":"L$87*#REF!*$C96","v":{"$error":"#REF!"}},{"$f":"M$87*#REF!*$C96","v":{"$error":"#REF!"}},{"$f":"N$87*#REF!*$C96","v":{"$error":"#REF!"}},{"$f":"O$87*#REF!*$C96","v":{"$error":"#REF!"}},{"$f":"P$87*#REF!*$C96","v":{"$error":"#REF!"}},{"$f":"Q$87*#REF!*$C96","v":{"$error":"#REF!"}},{"$f":"R$87*#REF!*$C96","v":{"$error":"#REF!"}},{"$f":"S$87*#REF!*$C96","v":{"$error":"#REF!"}},{"$f":"T$87*#REF!*$C96","v":{"$error":"#REF!"}},{"$f":"U$87*#REF!*$C96","v":{"$error":"#REF!"}},{"$f":"V$87*#REF!*$C96","v":{"$error":"#REF!"}},{"$f":"W$87*#REF!*$C96","v":{"$error":"#REF!"}},{"$f":"X$87*#REF!*$C96","v":{"$error":"#REF!"}},{"$f":"Y$87*#REF!*$C96","v":{"$error":"#REF!"}},{"$f":"Z$87*#REF!*$C96","v":{"$error":"#REF!"}},{"$f":"AA$87*#REF!*$C96","v":{"$error":"#REF!"}},{"$f":"AB$87*#REF!*$C96","v":{"$error":"#REF!"}},{"$f":"AC$87*#REF!*$C96","v":{"$error":"#REF!"}},{"$f":"AD$87*#REF!*$C96","v":{"$error":"#REF!"}},{"$f":"AE$87*#REF!*$C96","v":{"$error":"#REF!"}},{"$f":"AF$87*#REF!*$C96","v":{"$error":"#REF!"}},{"$f":"AG$87*#REF!*$C96","v":{"$error":"#REF!"}},{"$f":"AH$87*#REF!*$C96","v":{"$error":"#REF!"}},{"$f":"AI$87*#REF!*$C96","v":{"$error":"#REF!"}},{"$f":"AJ$87*#REF!*$C96","v":{"$error":"#REF!"}},{"$f":"AK$87*#REF!*$C96","v":{"$error":"#REF!"}},{"$f":"AL$87*#REF!*$C96","v":{"$error":"#REF!"}},{"$f":"AM$87*#REF!*$C96","v":{"$error":"#REF!"}},{"$f":"AN$87*#REF!*$C96","v":{"$error":"#REF!"}}]
[{"$f":"#REF!","v":{"$error":"#REF!"}},null,{"$f":"C$60","v":906.91934482628687},null,{"$f":"E$87*#REF!*$C97","v":{"$error":"#REF!"}},{"$f":"F$87*#REF!*$C97","v":{"$error":"#REF!"}},{"$f":"G$87*#REF!*$C97","v":{"$error":"#REF!"}},{"$f":"H$87*#REF!*$C97","v":{"$error":"#REF!"}},{"$f":"I$87*#REF!*$C97","v":{"$error":"#REF!"}},{"$f":"J$87*#REF!*$C97","v":{"$error":"#REF!"}},{"$f":"K$87*#REF!*$C97","v":{"$error":"#REF!"}},{"$f":"L$87*#REF!*$C97","v":{"$error":"#REF!"}},{"$f":"M$87*#REF!*$C97","v":{"$error":"#REF!"}},{"$f":"N$87*#REF!*$C97","v":{"$error":"#REF!"}},{"$f":"O$87*#REF!*$C97","v":{"$error":"#REF!"}},{"$f":"P$87*#REF!*$C97","v":{"$error":"#REF!"}},{"$f":"Q$87*#REF!*$C97","v":{"$error":"#REF!"}},{"$f":"R$87*#REF!*$C97","v":{"$error":"#REF!"}},{"$f":"S$87*#REF!*$C97","v":{"$error":"#REF!"}},{"$f":"T$87*#REF!*$C97","v":{"$error":"#REF!"}},{"$f":"U$87*#REF!*$C97","v":{"$error":"#REF!"}},{"$f":"V$87*#REF!*$C97","v":{"$error":"#REF!"}},{"$f":"W$87*#REF!*$C97","v":{"$error":"#REF!"}},{"$f":"X$87*#REF!*$C97","v":{"$error":"#REF!"}},{"$f":"Y$87*#REF!*$C97","v":{"$error":"#REF!"}},{"$f":"Z$87*#REF!*$C97","v":{"$error":"#REF!"}},{"$f":"AA$87*#REF!*$C97","v":{"$error":"#REF!"}},{"$f":"AB$87*#REF!*$C97","v":{"$error":"#REF!"}},{"$f":"AC$87*#REF!*$C97","v":{"$error":"#REF!"}},{"$f":"AD$87*#REF!*$C97","v":{"$error":"#REF!"}},{"$f":"AE$87*#REF!*$C97","v":{"$error":"#REF!"}},{"$f":"AF$87*#REF!*$C97","v":{"$error":"#REF!"}},{"$f":"AG$87*#REF!*$C97","v":{"$error":"#REF!"}},{"$f":"AH$87*#REF!*$C97","v":{"$error":"#REF!"}},{"$f":"AI$87*#REF!*$C97","v":{"$error":"#REF!"}},{"$f":"AJ$87*#REF!*$C97","v":{"$error":"#REF!"}},{"$f":"AK$87*#REF!*$C97","v":{"$error":"#REF!"}},{"$f":"AL$87*#REF!*$C97","v":{"$error":"#REF!"}},{"$f":"AM$87*#REF!*$C97","v":{"$error":"#REF!"}},{"$f":"AN$87*#REF!*$C97","v":{"$error":"#REF!"}}]
[{"$f":"#REF!","v":{"$error":"#REF!"}},null,{"$f":"C$61","v":156.40042452771351},null,{"$f":"E$87*#REF!*$C98","v":{"$error":"#REF!"}},{"$f":"F$87*#REF!*$C98","v":{"$error":"#REF!"}},{"$f":"G$87*#REF!*$C98","v":{"$error":"#REF!"}},{"$f":"H$87*#REF!*$C98","v":{"$error":"#REF!"}},{"$f":"I$87*#REF!*$C98","v":{"$error":"#REF!"}},{"$f":"J$87*#REF!*$C98","v":{"$error":"#REF!"}},{"$f":"K$87*#REF!*$C98","v":{"$error":"#REF!"}},{"$f":"L$87*#REF!*$C98","v":{"$error":"#REF!"}},{"$f":"M$87*#REF!*$C98","v":{"$error":"#REF!"}},{"$f":"N$87*#REF!*$C98","v":{"$error":"#REF!"}},{"$f":"O$87*#REF!*$C98","v":{"$error":"#REF!"}},{"$f":"P$87*#REF!*$C98","v":{"$error":"#REF!"}},{"$f":"Q$87*#REF!*$C98","v":{"$error":"#REF!"}},{"$f":"R$87*#REF!*$C98","v":{"$error":"#REF!"}},{"$f":"S$87*#REF!*$C98","v":{"$error":"#REF!"}},{"$f":"T$87*#REF!*$C98","v":{"$error":"#REF!"}},{"$f":"U$87*#REF!*$C98","v":{"$error":"#REF!"}},{"$f":"V$87*#REF!*$C98","v":{"$error":"#REF!"}},{"$f":"W$87*#REF!*$C98","v":{"$error":"#REF!"}},{"$f":"X$87*#REF!*$C98","v":{"$error":"#REF!"}},{"$f":"Y$87*#REF!*$C98","v":{"$error":"#REF!"}},{"$f":"Z$87*#REF!*$C98","v":{"$error":"#REF!"}},{"$f":"AA$87*#REF!*$C98","v":{"$error":"#REF!"}},{"$f":"AB$87*#REF!*$C98","v":{"$error":"#REF!"}},{"$f":"AC$87*#REF!*$C98","v":{"$error":"#REF!"}},{"$f":"AD$87*#REF!*$C98","v":{"$error":"#REF!"}},{"$f":"AE$87*#REF!*$C98","v":{"$error":"#REF!"}},{"$f":"AF$87*#REF!*$C98","v":{"$error":"#REF!"}},{"$f":"AG$87*#REF!*$C98","v":{"$error":"#REF!"}},{"$f":"AH$87*#REF!*$C98","v":{"$error":"#REF!"}},{"$f":"AI$87*#REF!*$C98","v":{"$error":"#REF!"}},{"$f":"AJ$87*#REF!*$C98","v":{"$error":"#REF!"}},{"$f":"AK$87*#REF!*$C98","v":{"$error":"#REF!"}},{"$f":"AL$87*#REF!*$C98","v":{"$error":"#REF!"}},{"$f":"AM$87*#REF!*$C98","v":{"$error":"#REF!"}},{"$f":"AN$87*#REF!*$C98","v":{"$error":"#REF!"}}]
[{"$f":"#REF!","v":{"$error":"#REF!"}},null,{"$f":"C$62","v":1699.0773391874332},null,{"$f":"E$87*#REF!*$C99","v":{"$error":"#REF!"}},{"$f":"F$87*#REF!*$C99","v":{"$error":"#REF!"}},{"$f":"G$87*#REF!*$C99","v":{"$error":"#REF!"}},{"$f":"H$87*#REF!*$C99","v":{"$error":"#REF!"}},{"$f":"I$87*#REF!*$C99","v":{"$error":"#REF!"}},{"$f":"J$87*#REF!*$C99","v":{"$error":"#REF!"}},{"$f":"K$87*#REF!*$C99","v":{"$error":"#REF!"}},{"$f":"L$87*#REF!*$C99","v":{"$error":"#REF!"}},{"$f":"M$87*#REF!*$C99","v":{"$error":"#REF!"}},{"$f":"N$87*#REF!*$C99","v":{"$error":"#REF!"}},{"$f":"O$87*#REF!*$C99","v":{"$error":"#REF!"}},{"$f":"P$87*#REF!*$C99","v":{"$error":"#REF!"}},{"$f":"Q$87*#REF!*$C99","v":{"$error":"#REF!"}},{"$f":"R$87*#REF!*$C99","v":{"$error":"#REF!"}},{"$f":"S$87*#REF!*$C99","v":{"$error":"#REF!"}},{"$f":"T$87*#REF!*$C99","v":{"$error":"#REF!"}},{"$f":"U$87*#REF!*$C99","v":{"$error":"#REF!"}},{"$f":"V$87*#REF!*$C99","v":{"$error":"#REF!"}},{"$f":"W$87*#REF!*$C99","v":{"$error":"#REF!"}},{"$f":"X$87*#REF!*$C99","v":{"$error":"#REF!"}},{"$f":"Y$87*#REF!*$C99","v":{"$error":"#REF!"}},{"$f":"Z$87*#REF!*$C99","v":{"$error":"#REF!"}},{"$f":"AA$87*#REF!*$C99","v":{"$error":"#REF!"}},{"$f":"AB$87*#REF!*$C99","v":{"$error":"#REF!"}},{"$f":"AC$87*#REF!*$C99","v":{"$error":"#REF!"}},{"$f":"AD$87*#REF!*$C99","v":{"$error":"#REF!"}},{"$f":"AE$87*#REF!*$C99","v":{"$error":"#REF!"}},{"$f":"AF$87*#REF!*$C99","v":{"$error":"#REF!"}},{"$f":"AG$87*#REF!*$C99","v":{"$error":"#REF!"}},{"$f":"AH$87*#REF!*$C99","v":{"$error":"#REF!"}},{"$f":"AI$87*#REF!*$C99","v":{"$error":"#REF!"}},{"$f":"AJ$87*#REF!*$C99","v":{"$error":"#REF!"}},{"$f":"AK$87*#REF!*$C99","v":{"$error":"#REF!"}},{"$f":"AL$87*#REF!*$C99","v":{"$error":"#REF!"}},{"$f":"AM$87*#REF!*$C99","v":{"$error":"#REF!"}},{"$f":"AN$87*#REF!*$C99","v":{"$error":"#REF!"}}]
[{"$f":"#REF!","v":{"$error":"#REF!"}},null,{"$f":"C$63","v":295.53586712704305},null,{"$f":"E$87*#REF!*$C100","v":{"$error":"#REF!"}},{"$f":"F$87*#REF!*$C100","v":{"$error":"#REF!"}},{"$f":"G$87*#REF!*$C100","v":{"$error":"#REF!"}},{"$f":"H$87*#REF!*$C100","v":{"$error":"#REF!"}},{"$f":"I$87*#REF!*$C100","v":{"$error":"#REF!"}},{"$f":"J$87*#REF!*$C100","v":{"$error":"#REF!"}},{"$f":"K$87*#REF!*$C100","v":{"$error":"#REF!"}},{"$f":"L$87*#REF!*$C100","v":{"$error":"#REF!"}},{"$f":"M$87*#REF!*$C100","v":{"$error":"#REF!"}},{"$f":"N$87*#REF!*$C100","v":{"$error":"#REF!"}},{"$f":"O$87*#REF!*$C100","v":{"$error":"#REF!"}},{"$f":"P$87*#REF!*$C100","v":{"$error":"#REF!"}},{"$f":"Q$87*#REF!*$C100","v":{"$error":"#REF!"}},{"$f":"R$87*#REF!*$C100","v":{"$error":"#REF!"}},{"$f":"S$87*#REF!*$C100","v":{"$error":"#REF!"}},{"$f":"T$87*#REF!*$C100","v":{"$error":"#REF!"}},{"$f":"U$87*#REF!*$C100","v":{"$error":"#REF!"}},{"$f":"V$87*#REF!*$C100","v":{"$error":"#REF!"}},{"$f":"W$87*#REF!*$C100","v":{"$error":"#REF!"}},{"$f":"X$87*#REF!*$C100","v":{"$error":"#REF!"}},{"$f":"Y$87*#REF!*$C100","v":{"$error":"#REF!"}},{"$f":"Z$87*#REF!*$C100","v":{"$error":"#REF!"}},{"$f":"AA$87*#REF!*$C100","v":{"$error":"#REF!"}},{"$f":"AB$87*#REF!*$C100","v":{"$error":"#REF!"}},{"$f":"AC$87*#REF!*$C100","v":{"$error":"#REF!"}},{"$f":"AD$87*#REF!*$C100","v":{"$error":"#REF!"}},{"$f":"AE$87*#REF!*$C100","v":{"$error":"#REF!"}},{"$f":"AF$87*#REF!*$C100","v":{"$error":"#REF!"}},{"$f":"AG$87*#REF!*$C100","v":{"$error":"#REF!"}},{"$f":"AH$87*#REF!*$C100","v":{"$error":"#REF!"}},{"$f":"AI$87*#REF!*$C100","v":{"$error":"#REF!"}},{"$f":"AJ$87*#REF!*$C100","v":{"$error":"#REF!"}},{"$f":"AK$87*#REF!*$C100","v":{"$error":"#REF!"}},{"$f":"AL$87*#REF!*$C100","v":{"$error":"#REF!"}},{"$f":"AM$87*#REF!*$C100","v":{"$error":"#REF!"}},{"$f":"AN$87*#REF!*$C100","v":{"$error":"#REF!"}}]
[]
[]
[]
[]
[]
[]
[]
[]
[]
[]
[]
[]
[]
[null,null,null,null,{"$f":"SUM(E92:E113)","v":{"$error":"#REF!"}},{"$f":"SUM(F92:F113)","v":{"$error":"#REF!"}},{"$error":"#REF!"},{"$error":"#REF!"},{"$error":"#REF!"},{"$error":"#REF!"},{"$error":"#REF!"},{"$error":"#REF!"},{"$error":"#REF!"},{"$error":"#REF!"},{"$error":"#REF!"},{"$error":"#REF!"},{"$error":"#REF!"},{"$f":"SUM(R92:R113)","v":{"$error":"#REF!"}},{"$f":"SUM(S92:S113)","v":{"$error":"#REF!"}},{"$f":"SUM(T92:T113)","v":{"$error":"#REF!"}},{"$f":"SUM(U92:U113)","v":{"$error":"#REF!"}},{"$f":"SUM(V92:V113)","v":{"$error":"#REF!"}},{"$error":"#REF!"},{"$error":"#REF!"},{"$error":"#REF!"},{"$error":"#REF!"},{"$error":"#REF!"},{"$f":"SUM(AB92:AB113)","v":{"$error":"#REF!"}},{"$error":"#REF!"},{"$error":"#REF!"},{"$error":"#REF!"},{"$error":"#REF!"},{"$error":"#REF!"},{"$error":"#REF!"},{"$error":"#REF!"},{"$error":"#REF!"},{"$error":"#REF!"},{"$error":"#REF!"},{"$error":"#REF!"},{"$error":"#REF!"}]
[]
["WDV",null,null,null,{"$f":"E114","v":{"$error":"#REF!"}},{"$f":"E116-F114","v":{"$error":"#REF!"}},{"$f":"F116-G114","v":{"$error":"#REF!"}},{"$error":"#REF!"},{"$error":"#REF!"},{"$error":"#REF!"},{"$error":"#REF!"},{"$error":"#REF!"},{"$error":"#REF!"},{"$error":"#REF!"},{"$error":"#REF!"},{"$error":"#REF!"},{"$error":"#REF!"},{"$error":"#REF!"},{"$error":"#REF!"},{"$error":"#REF!"},{"$error":"#REF!"},{"$error":"#REF!"},{"$error":"#REF!"},{"$error":"#REF!"},{"$error":"#REF!"},{"$error":"#REF!"},{"$error":"#REF!"},{"$error":"#REF!"},{"$error":"#REF!"},{"$error":"#REF!"},{"$error":"#REF!"},{"$error":"#REF!"},{"$error":"#REF!"},{"$error":"#REF!"},{"$error":"#REF!"},{"$error":"#REF!"},{"$error":"#REF!"},{"$error":"#REF!"},{"$error":"#REF!"},{"$error":"#REF!"}]
[]
[]
[]
[]
["Detailed calculations"]
[]
[]
["DEPRECIATION PROFILE"]
["Year Counter",1,{"$f":"B125+1","v":2},3,4,5,6,7,8,9,10,11,12,13,14,15,16,17,18,19,20,{"$f":"U125+0.5","v":20.5},21.5,22.5,23.5,24.5,25.5,26.5,27.5,28.5,29.5,30.5,31.5,32.5,33.5,34.5,35.5,36.5,37.5,38.5]
["Numerator",2001,{"$f":"B126+1","v":2002},2003,2004,2005,2006,2007,2008,2009,2010,2011,2012,2013,2014,2015,2016,2017,2018,2019,2020,{"$f":"V$91","v":{"$error":"#REF!"}},{"$f":"W$91","v":{"$error":"#REF!"}},{"$error":"#REF!"},{"$error":"#REF!"},{"$error":"#REF!"},{"$error":"#REF!"},{"$error":"#REF!"},{"$error":"#REF!"},{"$error":"#REF!"},{"$error":"#REF!"},{"$error":"#REF!"},{"$error":"#REF!"},{"$error":"#REF!"},{"$error":"#REF!"},{"$error":"#REF!"},{"$error":"#REF!"},{"$error":"#REF!"},{"$error":"#REF!"},{"$error":"#REF!"}]
[{"$f":"'Inputs PL Final Decision 2004'!$A$65","v":"20 year asset life"},10,29,47,64,{"$f":"E127+10-4","v":70},{"$f":"F127-4","v":66},{"$f":"IF(G127-4<0,0,G127-4)","v":62},58,54,50,46,42,38,34,30,26,22,18,14,10,{"$f":"IF(U127-4<0,0,U127-2)","v":8},{"$f":"IF(V127-4<0,0,V127-4)","v":4},{"$f":"IF(W127-2<0,0,W127-2)","v":2},{"$f":"IF(X127-2<0,0,X127-2)","v":0},0,0,0,0,0,0,0,0,0,0,0,0,0,0,0]
[]
[{"$f":"'Inputs PL Final Decision 2004'!$A$74","v":"35 year asset life"},17.5,51.5,84.5,116.5,{"$f":"E129+17.5-4","v":130},{"$f":"F129-4","v":126},{"$f":"IF(G129-4<0,0,G129-4)","v":122},118,114,110,106,102,98,94,90,86,82,78,74,70,{"$f":"IF(U129-2<0,0,U129-2)","v":68},{"$f":"IF(V129-4<0,0,V129-4)","v":64},60,56,52,48,44,40,36,32,28,24,20,16,{"$f":"IF(AI129-1<0,0,AI129-4)","v":12},{"$f":"IF(AJ129-4<0,0,AJ129-4)","v":8},{"$f":"IF(AK129-4<0,0,AK129-4)","v":4},{"$f":"IF(AL129-2<0,0,AL129-2)","v":2},{"$f":"IF(AM129-2<0,0,AM129-2)","v":0}]
[]
[]
[]
[]
["MV 80",null,null,{"$f":"'Inputs PL Final Decision 2004'!$B$88","v":"Location of selected public lighting assets within distributors' areas (%)"},null,null,null,null,null,{"$f":"'Inputs PL Final Decision 2004'!$B$107","v":"Proportion of lights installed at 1 January 2001 (%)"}]
["Luminaire",null,null,{"$f":"'Inputs PL Final Decision 2004'!$B$92","v":"CitiPower"},{"$f":"IF($A$1='Inputs PL Final Decision 2004'!$A$123,'Inputs PL Final Decision 2004'!$C$92,IF($A$1='Inputs PL Final Decision 2004'!$A$124,'Inputs PL Final Decision 2004'!$D$92,IF($A$1='Inputs PL Final Decision 2004'!$A$125,'Inputs PL Final Decision 2004'!$E$92,IF($A$1='Inputs PL Final Decision 2004'!$A$126,'Inputs PL Final Decision 2004'!$F$92,IF($A$1='Inputs PL Final Decision 2004'!$A$127,'Inputs PL Final Decision 2004'!$G$92,'Inputs PL Final Decision 2004'!$H$92)))))","v":0},null,null,null,null,{"$f":"IF($A$1='Inputs PL Final Decision 2004'!$A$123,'Inputs PL Final Decision 2004'!$C$110,IF($A$1='Inputs PL Final Decision 2004'!$A$124,'Inputs PL Final Decision 2004'!$D$110,IF($A$1='Inputs PL Final Decision 2004'!$A$125,'Inputs PL Final Decision 2004'!$E$110,IF($A$1='Inputs PL Final Decision 2004'!$A$126,'Inputs PL Final Decision 2004'!$F$110,IF($A$1='Inputs PL Final Decision 2004'!$A$127,'Inputs PL Final Decision 2004'!$G$110,'Inputs PL Final Decision 2004'!$H$110)))))","v":0.88453792189886593}]
["Capital cost",{"$f":"($F$214*E135+$L$214*E136+$R$214*E137+$X$214*E138)*J135","v":213.67532867451413},null,{"$f":"'Inputs PL Final Decision 2004'!$B$93","v":"Urban"},{"$f":"IF($A$1='Inputs PL Final Decision 2004'!$A$123,'Inputs PL Final Decision 2004'!$C$93,IF($A$1='Inputs PL Final Decision 2004'!$A$124,'Inputs PL Final Decision 2004'!$D$93,IF($A$1='Inputs PL Final Decision 2004'!$A$125,'Inputs PL Final Decision 2004'!$E$93,IF($A$1='Inputs PL Final Decision 2004'!$A$126,'Inputs PL Final Decision 2004'!$F$93,IF($A$1='Inputs PL Final Decision 2004'!$A$127,'Inputs PL Final Decision 2004'!$G$93,'Inputs PL Final Decision 2004'!$H$93)))))","v":0.96}]
[{"$f":"'Inputs PL Final Decision 2004'!$A$20","v":"Depreciation period"},{"$f":"'Inputs PL Final Decision 2004'!$B$20","v":20},null,{"$f":"'Inputs PL Final Decision 2004'!$B$94","v":"Rural"},{"$f":"IF($A$1='Inputs PL Final Decision 2004'!$A$123,'Inputs PL Final Decision 2004'!$C$94,IF($A$1='Inputs PL Final Decision 2004'!$A$124,'Inputs PL Final Decision 2004'!$D$94,IF($A$1='Inputs PL Final Decision 2004'!$A$125,'Inputs PL Final Decision 2004'!$E$94,IF($A$1='Inputs PL Final Decision 2004'!$A$126,'Inputs PL Final Decision 2004'!$F$94,IF($A$1='Inputs PL Final Decision 2004'!$A$127,'Inputs PL Final Decision 2004'!$G$94,'Inputs PL Final Decision 2004'!$H$94)))))","v":0.04}]
[{"$f":"'Inputs PL Final Decision 2004'!$A$16","v":"Number of years from 1 January 2001"},{"$f":"'Inputs PL Final Decision 2004'!$B$16","v":4},null,{"$f":"'Inputs PL Final Decision 2004'!$B$95","v":"Remote"},{"$f":"IF($A$1='Inputs PL Final Decision 2004'!$A$123,'Inputs PL Final Decision 2004'!$C$95,IF($A$1='Inputs PL Final Decision 2004'!$A$124,'Inputs PL Final Decision 2004'!$D$95,IF($A$1='Inputs PL Final Decision 2004'!$A$125,'Inputs PL Final Decision 2004'!$E$95,IF($A$1='Inputs PL Final Decision 2004'!$A$126,'Inputs PL Final Decision 2004'!$F$95,IF($A$1='Inputs PL Final Decision 2004'!$A$127,'Inputs PL Final Decision 2004'!$G$95,'Inputs PL Final Decision 2004'!$H$95)))))","v":0}]
[]
[]
[]
[null,null,null,null,2004,{"$f":"E142+1","v":2005},2006,2007,2008,2009,2010,2011,2012,2013,2014,2015,{"$f":"P142+1","v":2016},{"$f":"Q142+1","v":2017},{"$f":"R142+1","v":2018},{"$f":"S142+1","v":2019},{"$f":"T142+1","v":2020},{"$f":"V$91","v":{"$error":"#REF!"}},{"$f":"W$91","v":{"$error":"#REF!"}},{"$error":"#REF!"},{"$error":"#REF!"},{"$error":"#REF!"},{"$error":"#REF!"},{"$error":"#REF!"},{"$error":"#REF!"},{"$error":"#REF!"},{"$error":"#REF!"},{"$error":"#REF!"},{"$error":"#REF!"},{"$error":"#REF!"},{"$error":"#REF!"},{"$error":"#REF!"},{"$error":"#REF!"},{"$error":"#REF!"},{"$error":"#REF!"},{"$error":"#REF!"}]
["RAB for Return",null,null,null,{"$f":"E$127/$B137*$B136/$B137","v":34.188052587922265},37.393182518039978,35.256429231294831,33.119675944549691,30.982922657804551,28.84616937105941,26.709416084314267,24.572662797569123,22.435909510823983,20.299156224078843,18.162402937333702,16.025649650588559,{"$f":"Q$127/$B137*$B136/$B137","v":13.88889636384342},11.752143077098278,9.6153897903531362,7.4786365036079943,5.3418832168628532,4.2735065734902831,2.1367532867451415,1.0683766433725708,0,0,0,0,0,0,0,0,0,0,0,0,0,0,0,0]
["Depreciation",null,null,null,{"$f":"IF(E143=0,0,$B$136*$B$138/$B$137/$B$137)","v":2.1367532867451411},2.1367532867451411,2.1367532867451411,2.1367532867451411,2.1367532867451411,2.1367532867451411,2.1367532867451411,2.1367532867451411,2.1367532867451411,2.1367532867451411,2.1367532867451411,2.1367532867451411,{"$f":"IF(Q143=0,0,$B$136*$B$138/$B$137/$B$137)","v":2.1367532867451411},2.1367532867451411,2.1367532867451411,2.1367532867451411,2.1367532867451411,{"$f":"IF(V143=0,0,$B$136*$B$138/$B$137/$B$137)*0.5","v":1.0683766433725705},2.1367532867451411,{"$f":"IF(X143=0,0,$B$136*$B$138/$B$137/$B$137)/2","v":1.0683766433725705},0,0,{"$f":"IF(AA143=0,0,$B$136*$B$138/$B$137/$B$137)","v":0},0,0,0,0,0,0,0,0,0,0,0,0,0]
[]
[]
[]
["S-HP 150 ",null,null,{"$f":"'Inputs PL Final Decision 2004'!$B$88","v":"Location of selected public lighting assets within distributors' areas (%)"},null,null,null,null,null,{"$f":"'Inputs PL Final Decision 2004'!$B$107","v":"Proportion of lights installed at 1 January 2001 (%)"}]
["Luminaire",null,null,{"$f":"'Inputs PL Final Decision 2004'!$B$92","v":"CitiPower"},{"$f":"IF($A$1='Inputs PL Final Decision 2004'!$A$123,'Inputs PL Final Decision 2004'!$C$97,IF($A$1='Inputs PL Final Decision 2004'!$A$124,'Inputs PL Final Decision 2004'!$D$97,IF($A$1='Inputs PL Final Decision 2004'!$A$125,'Inputs PL Final Decision 2004'!$E$97,IF($A$1='Inputs PL Final Decision 2004'!$A$126,'Inputs PL Final Decision 2004'!$F$97,IF($A$1='Inputs PL Final Decision 2004'!$A$127,'Inputs PL Final Decision 2004'!$G$97,'Inputs PL Final Decision 2004'!$H$97)))))","v":0},null,null,null,null,{"$f":"IF($A$1='Inputs PL Final Decision 2004'!$A$123,'Inputs PL Final Decision 2004'!$C$111,IF($A$1='Inputs PL Final Decision 2004'!$A$124,'Inputs PL Final Decision 2004'!$D$111,IF($A$1='Inputs PL Final Decision 2004'!$A$125,'Inputs PL Final Decision 2004'!$E$111,IF($A$1='Inputs PL Final Decision 2004'!$A$126,'Inputs PL Final Decision 2004'!$F$111,IF($A$1='Inputs PL Final Decision 2004'!$A$127,'Inputs PL Final Decision 2004'!$G$111,'Inputs PL Final Decision 2004'!$H$111)))))","v":0.9271778402248092}]
["Capital cost",{"$f":"($F$220*E149+$L$220*E150+$R$220*E151+$X$220*E152)*J149","v":257.10778072031616},null,{"$f":"'Inputs PL Final Decision 2004'!$B$93","v":"Urban"},{"$f":"IF($A$1='Inputs PL Final Decision 2004'!$A$123,'Inputs PL Final Decision 2004'!$C$98,IF($A$1='Inputs PL Final Decision 2004'!$A$124,'Inputs PL Final Decision 2004'!$D$98,IF($A$1='Inputs PL Final Decision 2004'!$A$125,'Inputs PL Final Decision 2004'!$E$98,IF($A$1='Inputs PL Final Decision 2004'!$A$126,'Inputs PL Final Decision 2004'!$F$98,IF($A$1='Inputs PL Final Decision 2004'!$A$127,'Inputs PL Final Decision 2004'!$G$98,'Inputs PL Final Decision 2004'!$H$98)))))","v":0.94}]
[{"$f":"'Inputs PL Final Decision 2004'!$A$20","v":"Depreciation period"},{"$f":"'Inputs PL Final Decision 2004'!$B$30","v":20},null,{"$f":"'Inputs PL Final Decision 2004'!$B$94","v":"Rural"},{"$f":"IF($A$1='Inputs PL Final Decision 2004'!$A$123,'Inputs PL Final Decision 2004'!$C$99,IF($A$1='Inputs PL Final Decision 2004'!$A$124,'Inputs PL Final Decision 2004'!$D$99,IF($A$1='Inputs PL Final Decision 2004'!$A$125,'Inputs PL Final Decision 2004'!$E$99,IF($A$1='Inputs PL Final Decision 2004'!$A$126,'Inputs PL Final Decision 2004'!$F$99,IF($A$1='Inputs PL Final Decision 2004'!$A$127,'Inputs PL Final Decision 2004'!$G$99,'Inputs PL Final Decision 2004'!$H$99)))))","v":0.06}]
[{"$f":"'Inputs PL Final Decision 2004'!$A$16","v":"Number of years from 1 January 2001"},{"$f":"'Inputs PL Final Decision 2004'!$B$16","v":4},null,{"$f":"'Inputs PL Final Decision 2004'!$B$95","v":"Remote"},{"$f":"IF($A$1='Inputs PL Final Decision 2004'!$A$123,'Inputs PL Final Decision 2004'!$C$100,IF($A$1='Inputs PL Final Decision 2004'!$A$124,'Inputs PL Final Decision 2004'!$D$100,IF($A$1='Inputs PL Final Decision 2004'!$A$125,'Inputs PL Final Decision 2004'!$E$100,IF($A$1='Inputs PL Final Decision 2004'!$A$126,'Inputs PL Final Decision 2004'!$F$100,IF($A$1='Inputs PL Final Decision 2004'!$A$127,'Inputs PL Final Decision 2004'!$G$100,'Inputs PL Final Decision 2004'!$H$100)))))","v":0}]
[]
[]
[]
[null,null,null,null,2004,{"$f":"E156+1","v":2005},2006,2007,2008,2009,2010,2011,2012,2013,2014,2015,{"$f":"P156+1","v":2016},{"$f":"Q156+1","v":2017},{"$f":"R156+1","v":2018},{"$f":"S156+1","v":2019},{"$f":"T156+1","v":2020},{"$f":"V$91","v":{"$error":"#REF!"}},{"$f":"W$91","v":{"$error":"#REF!"}},{"$error":"#REF!"},{"$error":"#REF!"},{"$error":"#REF!"},{"$error":"#REF!"},{"$error":"#REF!"},{"$error":"#REF!"},{"$error":"#REF!"},{"$error":"#REF!"},{"$error":"#REF!"},{"$error":"#REF!"},{"$error":"#REF!"},{"$error":"#REF!"},{"$error":"#REF!"},{"$error":"#REF!"},{"$error":"#REF!"},{"$error":"#REF!"},{"$error":"#REF!"}]
["RAB for Return",null,null,null,{"$f":"E$127/$B151*$B150/$B151","v":41.137244915250584},44.993861626055327,42.42278381885216,39.851706011649,37.280628204445847,34.709550397242687,32.13847259003952,29.567394782836356,26.996316975633199,24.425239168430032,21.854161361226872,19.283083554023712,{"$f":"Q$127/$B151*$B150/$B151","v":16.712005746820552},14.14092793961739,11.569850132414228,8.9987723252110658,6.4276945180079039,5.142155614406323,2.5710778072031615,1.2855389036015807,0,0,0,0,0,0,0,0,0,0,0,0,0,0,0,0]
["Depreciation",null,null,null,{"$f":"IF(E157=0,0,$B$150*$B$152/$B$151/$B$151)","v":2.5710778072031615},2.5710778072031615,2.5710778072031615,2.5710778072031615,2.5710778072031615,2.5710778072031615,2.5710778072031615,2.5710778072031615,2.5710778072031615,2.5710778072031615,2.5710778072031615,2.5710778072031615,{"$f":"IF(Q157=0,0,$B$150*$B$152/$B$151/$B$151)","v":2.5710778072031615},2.5710778072031615,2.5710778072031615,2.5710778072031615,2.5710778072031615,{"$f":"IF(V157=0,0,$B$150*$B$152/$B$151/$B$151)*0.5","v":1.2855389036015807},2.5710778072031615,{"$f":"IF(X157=0,0,$B$150*$B$152/$B$151/$B$151)*0.5","v":1.2855389036015807},0,0,{"$f":"IF(AA157=0,0,$B$150*$B$152/$B$151/$B$151)","v":0},0,0,0,0,0,0,0,0,0,0,0,0,0]
[]
[]
[]
["S-HP 250 ",null,null,{"$f":"'Inputs PL Final Decision 2004'!$B$88","v":"Location of selected public lighting assets within distributors' areas (%)"},null,null,null,null,null,{"$f":"'Inputs PL Final Decision 2004'!$B$107","v":"Proportion of lights installed at 1 January 2001 (%)"}]
["Luminaire",null,null,{"$f":"'Inputs PL Final Decision 2004'!$B$92","v":"CitiPower"},{"$f":"IF($A$1='Inputs PL Final Decision 2004'!$A$123,'Inputs PL Final Decision 2004'!$C$102,IF($A$1='Inputs PL Final Decision 2004'!$A$124,'Inputs PL Final Decision 2004'!$D$102,IF($A$1='Inputs PL Final Decision 2004'!$A$125,'Inputs PL Final Decision 2004'!$E$102,IF($A$1='Inputs PL Final Decision 2004'!$A$126,'Inputs PL Final Decision 2004'!$F$102,IF($A$1='Inputs PL Final Decision 2004'!$A$127,'Inputs PL Final Decision 2004'!$G$102,'Inputs PL Final Decision 2004'!$H$102)))))","v":0},null,null,null,null,{"$f":"IF($A$1='Inputs PL Final Decision 2004'!$A$123,'Inputs PL Final Decision 2004'!$C$112,IF($A$1='Inputs PL Final Decision 2004'!$A$124,'Inputs PL Final Decision 2004'!$D$112,IF($A$1='Inputs PL Final Decision 2004'!$A$125,'Inputs PL Final Decision 2004'!$E$112,IF($A$1='Inputs PL Final Decision 2004'!$A$126,'Inputs PL Final Decision 2004'!$F$112,IF($A$1='Inputs PL Final Decision 2004'!$A$127,'Inputs PL Final Decision 2004'!$G$112,'Inputs PL Final Decision 2004'!$H$112)))))","v":0.93238356164383551}]
["Capital cost",{"$f":"($F$226*E163+$L$226*E164+$R$226*E165+$X$226*E166)*J163","v":262.268032055216},null,{"$f":"'Inputs PL Final Decision 2004'!$B$93","v":"Urban"},{"$f":"IF($A$1='Inputs PL Final Decision 2004'!$A$123,'Inputs PL Final Decision 2004'!$C$103,IF($A$1='Inputs PL Final Decision 2004'!$A$124,'Inputs PL Final Decision 2004'!$D$103,IF($A$1='Inputs PL Final Decision 2004'!$A$125,'Inputs PL Final Decision 2004'!$E$103,IF($A$1='Inputs PL Final Decision 2004'!$A$126,'Inputs PL Final Decision 2004'!$F$103,IF($A$1='Inputs PL Final Decision 2004'!$A$127,'Inputs PL Final Decision 2004'!$G$103,'Inputs PL Final Decision 2004'!$H$103)))))","v":0.9}]
[{"$f":"'Inputs PL Final Decision 2004'!$A$20","v":"Depreciation period"},{"$f":"'Inputs PL Final Decision 2004'!$B$41","v":20},null,{"$f":"'Inputs PL Final Decision 2004'!$B$94","v":"Rural"},{"$f":"IF($A$1='Inputs PL Final Decision 2004'!$A$123,'Inputs PL Final Decision 2004'!$C$104,IF($A$1='Inputs PL Final Decision 2004'!$A$124,'Inputs PL Final Decision 2004'!$D$104,IF($A$1='Inputs PL Final Decision 2004'!$A$125,'Inputs PL Final Decision 2004'!$E$104,IF($A$1='Inputs PL Final Decision 2004'!$A$126,'Inputs PL Final Decision 2004'!$F$104,IF($A$1='Inputs PL Final Decision 2004'!$A$127,'Inputs PL Final Decision 2004'!$G$104,'Inputs PL Final Decision 2004'!$H$104)))))","v":0.1}]
[{"$f":"'Inputs PL Final Decision 2004'!$A$16","v":"Number of years from 1 January 2001"},{"$f":"'Inputs PL Final Decision 2004'!$B$16","v":4},null,{"$f":"'Inputs PL Final Decision 2004'!$B$95","v":"Remote"},{"$f":"IF($A$1='Inputs PL Final Decision 2004'!$A$123,'Inputs PL Final Decision 2004'!$C$105,IF($A$1='Inputs PL Final Decision 2004'!$A$124,'Inputs PL Final Decision 2004'!$D$105,IF($A$1='Inputs PL Final Decision 2004'!$A$125,'Inputs PL Final Decision 2004'!$E$105,IF($A$1='Inputs PL Final Decision 2004'!$A$126,'Inputs PL Final Decision 2004'!$F$105,IF($A$1='Inputs PL Final Decision 2004'!$A$127,'Inputs PL Final Decision 2004'!$G$105,'Inputs PL Final Decision 2004'!$H$105)))))","v":0}]
[]
[]
[]
[null,null,null,null,2004,{"$f":"E170+1","v":2005},2006,2007,2008,2009,2010,2011,2012,2013,2014,2015,{"$f":"P170+1","v":2016},{"$f":"Q170+1","v":2017},{"$f":"R170+1","v":2018},{"$f":"S170+1","v":2019},{"$f":"T170+1","v":2020},{"$f":"V$91","v":{"$error":"#REF!"}},{"$f":"W$91","v":{"$error":"#REF!"}},{"$error":"#REF!"},{"$error":"#REF!"},{"$error":"#REF!"},{"$error":"#REF!"},{"$error":"#REF!"},{"$error":"#REF!"},{"$error":"#REF!"},{"$error":"#REF!"},{"$error":"#REF!"},{"$error":"#REF!"},{"$error":"#REF!"},{"$error":"#REF!"},{"$error":"#REF!"},{"$error":"#REF!"},{"$error":"#REF!"},{"$error":"#REF!"},{"$error":"#REF!"}]
["RAB for Return",null,null,null,{"$f":"E$127/$B165*$B164/$B165","v":41.962885128834564},45.896905609662795,43.274225289110639,40.651544968558483,38.028864648006319,35.406184327454163,32.783504006902,30.160823686349836,27.53814336579768,24.91546304524552,22.29278272469336,19.670102404141197,{"$f":"Q$127/$B165*$B164/$B165","v":17.047422083589041},14.424741763036881,11.802061442484719,9.1793811219325594,6.5567008013803996,5.2453606411043205,2.6226803205521603,1.3113401602760801,0,0,0,0,0,0,0,0,0,0,0,0,0,0,0,0]
["Depreciation",null,null,null,{"$f":"IF(E171=0,0,$B$164*$B$166/$B$165/$B$165)","v":2.6226803205521598},2.6226803205521598,2.6226803205521598,2.6226803205521598,2.6226803205521598,2.6226803205521598,2.6226803205521598,2.6226803205521598,2.6226803205521598,2.6226803205521598,2.6226803205521598,2.6226803205521598,{"$f":"IF(Q171=0,0,$B$164*$B$166/$B$165/$B$165)","v":2.6226803205521598},2.6226803205521598,2.6226803205521598,2.6226803205521598,2.6226803205521598,{"$f":"IF(V171=0,0,$B$164*$B$166/$B$165/$B$165)*0.5","v":1.3113401602760799},2.6226803205521598,{"$f":"IF(X171=0,0,$B$164*$B$166/$B$165/$B$165)/2","v":1.3113401602760799},0,0,{"$f":"IF(AA171=0,0,$B$164*$B$166/$B$165/$B$165)","v":0},0,0,0,0,0,0,0,0,0,0,0,0,0]
[]
[]
[]
["Poles & Brackets",null,null,{"$f":"'Inputs PL Final Decision 2004'!$B$88","v":"Location of selected public lighting assets within distributors' areas (%)"},null,null,null,null,null,{"$f":"'Inputs PL Final Decision 2004'!$A$114","v":"Proportion of lights on dedicated poles"},null,null,null,{"$f":"'Inputs PL Final Decision 2004'!$A$115","v":"Proportion of dedicated poles at 1 Jan 2001"}]
["Dedicated poles",null,null,{"$f":"'Inputs PL Final Decision 2004'!$B$92","v":"CitiPower"},{"$f":"IF($A$1='Inputs PL Final Decision 2004'!$A$123,'Inputs PL Final Decision 2004'!$C$92,IF($A$1='Inputs PL Final Decision 2004'!$A$124,'Inputs PL Final Decision 2004'!$D$92,IF($A$1='Inputs PL Final Decision 2004'!$A$125,'Inputs PL Final Decision 2004'!$E$92,IF($A$1='Inputs PL Final Decision 2004'!$A$126,'Inputs PL Final Decision 2004'!$F$92,IF($A$1='Inputs PL Final Decision 2004'!$A$127,'Inputs PL Final Decision 2004'!$G$92,'Inputs PL Final Decision 2004'!$H$92)))))","v":0},null,null,null,null,{"$f":"IF($A$1='Inputs PL Final Decision 2004'!$A$123,'Inputs PL Final Decision 2004'!$C$114,IF($A$1='Inputs PL Final Decision 2004'!$A$124,'Inputs PL Final Decision 2004'!$D$114,IF($A$1='Inputs PL Final Decision 2004'!$A$125,'Inputs PL Final Decision 2004'!$E$114,IF($A$1='Inputs PL Final Decision 2004'!$A$126,'Inputs PL Final Decision 2004'!$F$114,IF($A$1='Inputs PL Final Decision 2004'!$A$127,'Inputs PL Final Decision 2004'!$G$114,'Inputs PL Final Decision 2004'!$H$114)))))","v":0.38119062500000001},null,null,null,{"$f":"IF($A$1='Inputs PL Final Decision 2004'!$A$123,'Inputs PL Final Decision 2004'!$C$115,IF($A$1='Inputs PL Final Decision 2004'!$A$124,'Inputs PL Final Decision 2004'!$D$115,IF($A$1='Inputs PL Final Decision 2004'!$A$125,'Inputs PL Final Decision 2004'!$E$115,IF($A$1='Inputs PL Final Decision 2004'!$A$126,'Inputs PL Final Decision 2004'!$F$115,IF($A$1='Inputs PL Final Decision 2004'!$A$127,'Inputs PL Final Decision 2004'!$G$115,'Inputs PL Final Decision 2004'!$H$115)))))","v":0.89230769230769236}]
["Capital cost",{"$f":"($F$231*E177+$L$231*E178+$R$231*E179+$X$231*E180)*J177*N177","v":280.14572251004807},null,{"$f":"'Inputs PL Final Decision 2004'!$B$93","v":"Urban"},{"$f":"IF($A$1='Inputs PL Final Decision 2004'!$A$123,'Inputs PL Final Decision 2004'!$C$93,IF($A$1='Inputs PL Final Decision 2004'!$A$124,'Inputs PL Final Decision 2004'!$D$93,IF($A$1='Inputs PL Final Decision 2004'!$A$125,'Inputs PL Final Decision 2004'!$E$93,IF($A$1='Inputs PL Final Decision 2004'!$A$126,'Inputs PL Final Decision 2004'!$F$93,IF($A$1='Inputs PL Final Decision 2004'!$A$127,'Inputs PL Final Decision 2004'!$G$93,'Inputs PL Final Decision 2004'!$H$93)))))","v":0.96}]
[{"$f":"'Inputs PL Final Decision 2004'!$A$52","v":"Depreciation of dedicated street lighting pole & bracket"},{"$f":"'Inputs PL Final Decision 2004'!$B$52","v":35},null,{"$f":"'Inputs PL Final Decision 2004'!$B$94","v":"Rural"},{"$f":"IF($A$1='Inputs PL Final Decision 2004'!$A$123,'Inputs PL Final Decision 2004'!$C$94,IF($A$1='Inputs PL Final Decision 2004'!$A$124,'Inputs PL Final Decision 2004'!$D$94,IF($A$1='Inputs PL Final Decision 2004'!$A$125,'Inputs PL Final Decision 2004'!$E$94,IF($A$1='Inputs PL Final Decision 2004'!$A$126,'Inputs PL Final Decision 2004'!$F$94,IF($A$1='Inputs PL Final Decision 2004'!$A$127,'Inputs PL Final Decision 2004'!$G$94,'Inputs PL Final Decision 2004'!$H$94)))))","v":0.04}]
[{"$f":"'Inputs PL Final Decision 2004'!$A$16","v":"Number of years from 1 January 2001"},{"$f":"'Inputs PL Final Decision 2004'!$B$16","v":4},null,{"$f":"'Inputs PL Final Decision 2004'!$B$95","v":"Remote"},{"$f":"IF($A$1='Inputs PL Final Decision 2004'!$A$123,'Inputs PL Final Decision 2004'!$C$95,IF($A$1='Inputs PL Final Decision 2004'!$A$124,'Inputs PL Final Decision 2004'!$D$95,IF($A$1='Inputs PL Final Decision 2004'!$A$125,'Inputs PL Final Decision 2004'!$E$95,IF($A$1='Inputs PL Final Decision 2004'!$A$126,'Inputs PL Final Decision 2004'!$F$95,IF($A$1='Inputs PL Final Decision 2004'!$A$127,'Inputs PL Final Decision 2004'!$G$95,'Inputs PL Final Decision 2004'!$H$95)))))","v":0}]
[]
[]
[]
[null,null,null,null,2004,{"$f":"E184+1","v":2005},2006,2007,2008,2009,2010,2011,2012,2013,2014,2015,{"$f":"P184+1","v":2016},{"$f":"Q184+1","v":2017},{"$f":"R184+1","v":2018},{"$f":"S184+1","v":2019},{"$f":"T184+1","v":2020},{"$f":"V$91","v":{"$error":"#REF!"}},{"$f":"W$91","v":{"$error":"#REF!"}},{"$error":"#REF!"},{"$error":"#REF!"},{"$error":"#REF!"},{"$error":"#REF!"},{"$error":"#REF!"},{"$error":"#REF!"},{"$error":"#REF!"},{"$error":"#REF!"},{"$error":"#REF!"},{"$error":"#REF!"},{"$error":"#REF!"},{"$error":"#REF!"},{"$error":"#REF!"},{"$error":"#REF!"},{"$error":"#REF!"},{"$error":"#REF!"},{"$error":"#REF!"}]
["RAB for Return",null,null,null,{"$f":"E$129/$B179*$B178/$B179","v":26.642429936669881},29.729750143923468,28.814988601033516,27.900227058143564,26.985465515253608,26.070703972363656,25.155942429473704,24.241180886583749,23.3264193436938,22.411657800803845,21.496896257913892,20.582134715023944,{"$f":"Q$129/$B179*$B178/$B179","v":19.667373172133988},18.752611629244036,17.837850086354081,16.923088543464129,16.008327000574177,15.550946229129201,14.636184686239247,13.721423143349293,12.806661600459341,11.891900057569389,10.977138514679435,10.062376971789481,9.1476154288995293,8.2328538860095755,7.3180923431196234,6.4033308002296705,5.4885692573397176,4.5738077144497646,3.6590461715598117,2.7442846286698588,1.8295230857799059,0.91476154288995293,0.45738077144497646,0]
["Depreciation",null,null,null,{"$f":"IF(E185=0,0,$B$178*$B$180/$B$179/$B$179)","v":0.91476154288995293},0.91476154288995293,0.91476154288995293,0.91476154288995293,0.91476154288995293,0.91476154288995293,0.91476154288995293,0.91476154288995293,0.91476154288995293,0.91476154288995293,0.91476154288995293,0.91476154288995293,{"$f":"IF(Q185=0,0,$B$178*$B$180/$B$179/$B$179)","v":0.91476154288995293},0.91476154288995293,0.91476154288995293,0.91476154288995293,0.91476154288995293,{"$f":"IF(V185=0,0,$B$178*$B$180/$B$179/$B$179)*0.5","v":0.45738077144497646},0.91476154288995293,0.91476154288995293,0.91476154288995293,0.91476154288995293,0.91476154288995293,0.91476154288995293,0.91476154288995293,0.91476154288995293,0.91476154288995293,0.91476154288995293,0.91476154288995293,0.91476154288995293,0.91476154288995293,0.91476154288995293,0.91476154288995293,0.91476154288995293,{"$f":"IF(AM185=0,0,$B$178*$B$180/$B$179/$B$179)/2","v":0.45738077144497646},0]
[]
[]
[]
["Poles & Brackets",null,null,{"$f":"'Inputs PL Final Decision 2004'!$B$88","v":"Location of selected public lighting assets within distributors' areas (%)"},null,null,null,null,null,{"$f":"'Inputs PL Final Decision 2004'!$A$117","v":"Proportion of non-dedicated poles at 1 Jan 2001"}]
["Brackets",null,null,{"$f":"'Inputs PL Final Decision 2004'!$B$92","v":"CitiPower"},{"$f":"IF($A$1='Inputs PL Final Decision 2004'!$A$123,'Inputs PL Final Decision 2004'!$C$92,IF($A$1='Inputs PL Final Decision 2004'!$A$124,'Inputs PL Final Decision 2004'!$D$92,IF($A$1='Inputs PL Final Decision 2004'!$A$125,'Inputs PL Final Decision 2004'!$E$92,IF($A$1='Inputs PL Final Decision 2004'!$A$126,'Inputs PL Final Decision 2004'!$F$92,IF($A$1='Inputs PL Final Decision 2004'!$A$127,'Inputs PL Final Decision 2004'!$G$92,'Inputs PL Final Decision 2004'!$H$92)))))","v":0},null,null,null,null,{"$f":"IF($A$1='Inputs PL Final Decision 2004'!$A$123,'Inputs PL Final Decision 2004'!$C$117,IF($A$1='Inputs PL Final Decision 2004'!$A$124,'Inputs PL Final Decision 2004'!$D$117,IF($A$1='Inputs PL Final Decision 2004'!$A$125,'Inputs PL Final Decision 2004'!$E$117,IF($A$1='Inputs PL Final Decision 2004'!$A$126,'Inputs PL Final Decision 2004'!$F$117,IF($A$1='Inputs PL Final Decision 2004'!$A$127,'Inputs PL Final Decision 2004'!$G$117,'Inputs PL Final Decision 2004'!$H$117)))))","v":0.54998659800000005}]
["Capital cost",{"$f":"($F$236*E191+$L$236*E192+$R$236*E193+$X$236*E194)*J191","v":57.596851487611808},null,{"$f":"'Inputs PL Final Decision 2004'!$B$93","v":"Urban"},{"$f":"IF($A$1='Inputs PL Final Decision 2004'!$A$123,'Inputs PL Final Decision 2004'!$C$93,IF($A$1='Inputs PL Final Decision 2004'!$A$124,'Inputs PL Final Decision 2004'!$D$93,IF($A$1='Inputs PL Final Decision 2004'!$A$125,'Inputs PL Final Decision 2004'!$E$93,IF($A$1='Inputs PL Final Decision 2004'!$A$126,'Inputs PL Final Decision 2004'!$F$93,IF($A$1='Inputs PL Final Decision 2004'!$A$127,'Inputs PL Final Decision 2004'!$G$93,'Inputs PL Final Decision 2004'!$H$93)))))","v":0.96}]
[{"$f":"'Inputs PL Final Decision 2004'!$A$52","v":"Depreciation of dedicated street lighting pole & bracket"},{"$f":"'Inputs PL Final Decision 2004'!$B$52","v":35},null,{"$f":"'Inputs PL Final Decision 2004'!$B$94","v":"Rural"},{"$f":"IF($A$1='Inputs PL Final Decision 2004'!$A$123,'Inputs PL Final Decision 2004'!$C$94,IF($A$1='Inputs PL Final Decision 2004'!$A$124,'Inputs PL Final Decision 2004'!$D$94,IF($A$1='Inputs PL Final Decision 2004'!$A$125,'Inputs PL Final Decision 2004'!$E$94,IF($A$1='Inputs PL Final Decision 2004'!$A$126,'Inputs PL Final Decision 2004'!$F$94,IF($A$1='Inputs PL Final Decision 2004'!$A$127,'Inputs PL Final Decision 2004'!$G$94,'Inputs PL Final Decision 2004'!$H$94)))))","v":0.04}]
[{"$f":"'Inputs PL Final Decision 2004'!$A$16","v":"Number of years from 1 January 2001"},{"$f":"'Inputs PL Final Decision 2004'!$B$16","v":4},null,{"$f":"'Inputs PL Final Decision 2004'!$B$95","v":"Remote"},{"$f":"IF($A$1='Inputs PL Final Decision 2004'!$A$123,'Inputs PL Final Decision 2004'!$C$95,IF($A$1='Inputs PL Final Decision 2004'!$A$124,'Inputs PL Final Decision 2004'!$D$95,IF($A$1='Inputs PL Final Decision 2004'!$A$125,'Inputs PL Final Decision 2004'!$E$95,IF($A$1='Inputs PL Final Decision 2004'!$A$126,'Inputs PL Final Decision 2004'!$F$95,IF($A$1='Inputs PL Final Decision 2004'!$A$127,'Inputs PL Final Decision 2004'!$G$95,'Inputs PL Final Decision 2004'!$H$95)))))","v":0}]
[]
[]
[]
[null,null,null,null,2004,{"$f":"E198+1","v":2005},2006,2007,2008,2009,2010,2011,2012,2013,2014,2015,{"$f":"P198+1","v":2016},{"$f":"Q198+1","v":2017},{"$f":"R198+1","v":2018},{"$f":"S198+1","v":2019},{"$f":"T198+1","v":2020},{"$f":"V$91","v":{"$error":"#REF!"}},{"$f":"W$91","v":{"$error":"#REF!"}},{"$error":"#REF!"},{"$error":"#REF!"},{"$error":"#REF!"},{"$error":"#REF!"},{"$error":"#REF!"},{"$error":"#REF!"},{"$error":"#REF!"},{"$error":"#REF!"},{"$error":"#REF!"},{"$error":"#REF!"},{"$error":"#REF!"},{"$error":"#REF!"},{"$error":"#REF!"},{"$error":"#REF!"},{"$error":"#REF!"},{"$error":"#REF!"},{"$error":"#REF!"}]
["RAB for Return",null,null,null,{"$f":"E$129/$B193*$B192/$B193","v":5.477578121066756},6.1123189333792123,5.9242475815829287,5.7361762297866461,5.5481048779903626,5.3600335261940781,5.1719621743977946,4.9838908226015111,4.7958194708052275,4.6077481190089449,4.4196767672126613,4.2316054154163778,{"$f":"Q$129/$B193*$B192/$B193","v":4.0435340636200943},3.8554627118238112,3.6673913600275276,3.4793200082312437,3.2912486564349606,3.1972129805368188,3.0091416287405353,2.8210702769442517,2.6329989251479686,2.4449275733516846,2.2568562215554016,2.068784869759118,1.8807135179628343,1.6926421661665509,1.5045708143702676,1.3164994625739843,1.1284281107777008,0.94035675898141713,0.75228540718513381,0.56421405538885039,0.37614270359256691,0.18807135179628345,9.4035675898141727E-2,0]
["Depreciation",null,null,null,{"$f":"IF(E199=0,0,$B$192*$B$194/$B$193/$B$193)","v":0.18807135179628345},0.18807135179628345,0.18807135179628345,0.18807135179628345,0.18807135179628345,0.18807135179628345,0.18807135179628345,0.18807135179628345,0.18807135179628345,0.18807135179628345,0.18807135179628345,0.18807135179628345,{"$f":"IF(Q199=0,0,$B$192*$B$194/$B$193/$B$193)","v":0.18807135179628345},0.18807135179628345,0.18807135179628345,0.18807135179628345,0.18807135179628345,{"$f":"IF(V199=0,0,$B$192*$B$194/$B$193/$B$193)*0.5","v":9.4035675898141727E-2},0.18807135179628345,0.18807135179628345,0.18807135179628345,0.18807135179628345,0.18807135179628345,0.18807135179628345,0.18807135179628345,0.18807135179628345,0.18807135179628345,0.18807135179628345,0.18807135179628345,0.18807135179628345,0.18807135179628345,0.18807135179628345,0.18807135179628345,0.18807135179628345,{"$f":"IF(AM199=0,0,$B$192*$B$194/$B$193/$B$193)/2","v":9.4035675898141727E-2},0]
[]
[]
[]
[]
[]
[]
[]
[null,"CitiPower",null,null,null,null,null,"Urban",null,null,null,null,null,"Rural",null,null,null,null,null,"Remote"]
[]
[null,"Unit rate","Number","Hours","Cost","Annualised",null,"Unit rate","Number","Hours","Cost","Annualised",null,"Unit rate","Number","Hours","Cost","Annualised",null,"Unit rate","Number","Hours","Cost","Annualised"]
[null,null,null,null,null," cost",null,null,null,null,null," cost",null,null,null,null,null," cost",null,null,null,null,null," cost"]
["MV80"]
["Luminaires "]
["Material & misc",{"$f":"'Inputs PL Final Decision 2004'!$B$21+'Inputs PL Final Decision 2004'!$B$22","v":159.55000000000001},{"$f":"'Inputs PL Final Decision 2004'!$B$24","v":16},null,{"$f":"B214*C214","v":2552.8000000000002},{"$f":"(E214+E215+E216)/C214","v":240.24687500000002},null,{"$f":"'Inputs PL Final Decision 2004'!$B$21+'Inputs PL Final Decision 2004'!$B$22","v":159.55000000000001},{"$f":"'Inputs PL Final Decision 2004'!$B$24","v":16},null,{"$f":"H214*I214","v":2552.8000000000002},{"$f":"(K214+K215+K216)/I214","v":240.24687500000002},null,{"$f":"('Inputs PL Final Decision 2004'!$B$21+'Inputs PL Final Decision 2004'!$B$22)*(1+'Inputs PL Final Decision 2004'!$B$10)","v":167.52750000000003},{"$f":"'Inputs PL Final Decision 2004'!$B$25","v":13},null,{"$f":"N214*O214","v":2177.8575000000005},{"$f":"(Q214+Q215+Q216)/O214","v":273.2544230769231},null,{"$f":"('Inputs PL Final Decision 2004'!$B$21+'Inputs PL Final Decision 2004'!$B$22)*(1+'Inputs PL Final Decision 2004'!$B$10)","v":167.52750000000003},{"$f":"'Inputs PL Final Decision 2004'!$B$26","v":10},null,{"$f":"T214*U214","v":1675.2750000000003},{"$f":"(W214+W215+W216)/U214","v":304.97250000000003}]
["Crew costs",{"$f":"'Inputs PL Final Decision 2004'!$B$11","v":60},{"$f":"'Inputs PL Final Decision 2004'!$B$23","v":2},{"$f":"'Inputs PL Final Decision 2004'!$B$14","v":8.33},{"$f":"B215*C215*D215","v":999.6},null,null,{"$f":"'Inputs PL Final Decision 2004'!$B$11","v":60},{"$f":"'Inputs PL Final Decision 2004'!$B$23","v":2},{"$f":"'Inputs PL Final Decision 2004'!$B$14","v":8.33},{"$f":"H215*I215*J215","v":999.6},null,null,{"$f":"'Inputs PL Final Decision 2004'!$B$11","v":60},{"$f":"'Inputs PL Final Decision 2004'!$B$23","v":2},{"$f":"'Inputs PL Final Decision 2004'!$B$14","v":8.33},{"$f":"N215*O215*P215","v":999.6},null,null,{"$f":"'Inputs PL Final Decision 2004'!$B$11","v":60},{"$f":"'Inputs PL Final Decision 2004'!$B$23","v":2},{"$f":"'Inputs PL Final Decision 2004'!$B$14","v":8.33},{"$f":"T215*U215*V215","v":999.6}]
["Elevated platform costs",{"$f":"'Inputs PL Final Decision 2004'!$B$12","v":35},1,{"$f":"'Inputs PL Final Decision 2004'!$B$14","v":8.33},{"$f":"B216*C216*D216","v":291.55},null,null,{"$f":"'Inputs PL Final Decision 2004'!$B$12","v":35},1,{"$f":"'Inputs PL Final Decision 2004'!$B$14","v":8.33},{"$f":"H216*I216*J216","v":291.55},null,null,{"$f":"'Inputs PL Final Decision 2004'!$B$13","v":45},1,{"$f":"'Inputs PL Final Decision 2004'!$B$14","v":8.33},{"$f":"N216*O216*P216","v":374.85},null,null,{"$f":"'Inputs PL Final Decision 2004'!$B$13","v":45},1,{"$f":"'Inputs PL Final Decision 2004'!$B$14","v":8.33},{"$f":"T216*U216*V216","v":374.85}]
[]
["S-HP 150"]
["Luminaires "]
["Material & misc",{"$f":"'Inputs PL Final Decision 2004'!$B$31+'Inputs PL Final Decision 2004'!$B$32","v":189.64},{"$f":"'Inputs PL Final Decision 2004'!$B$35","v":16},null,{"$f":"B220*C220","v":3034.24},{"$f":"(E220+E221+E222)/C220","v":291.16187500000001},null,{"$f":"'Inputs PL Final Decision 2004'!$B$31+'Inputs PL Final Decision 2004'!$B$32","v":189.64},{"$f":"'Inputs PL Final Decision 2004'!$B$35","v":16},null,{"$f":"H220*I220","v":3034.24},{"$f":"(K220+K221+K222)/I220","v":275.54312499999997},null,{"$f":"('Inputs PL Final Decision 2004'!$B$31+'Inputs PL Final Decision 2004'!$B$32)*(1+'Inputs PL Final Decision 2004'!$B$10)","v":199.12199999999999},{"$f":"'Inputs PL Final Decision 2004'!$B$36","v":13},null,{"$f":"N220*O220","v":2588.5859999999998},{"$f":"(Q220+Q221+Q222)/O220","v":304.84892307692303},null,{"$f":"('Inputs PL Final Decision 2004'!$B$31+'Inputs PL Final Decision 2004'!$B$32)*(1+'Inputs PL Final Decision 2004'!$B$10)","v":199.12199999999999},{"$f":"'Inputs PL Final Decision 2004'!$B$37","v":10},null,{"$f":"T220*U220","v":1991.2199999999998},{"$f":"(W220+W221+W222)/U220","v":336.56699999999995}]
["Crew costs",{"$f":"'Inputs PL Final Decision 2004'!$B$11","v":60},{"$f":"'Inputs PL Final Decision 2004'!$B$34","v":2.5},{"$f":"'Inputs PL Final Decision 2004'!$B$14","v":8.33},{"$f":"D221*C221*B221","v":1249.5},null,null,{"$f":"'Inputs PL Final Decision 2004'!$B$11","v":60},{"$f":"'Inputs PL Final Decision 2004'!$B$33","v":2},{"$f":"'Inputs PL Final Decision 2004'!$B$14","v":8.33},{"$f":"J221*I221*H221","v":999.6},null,null,{"$f":"'Inputs PL Final Decision 2004'!$B$11","v":60},{"$f":"'Inputs PL Final Decision 2004'!$B$33","v":2},{"$f":"'Inputs PL Final Decision 2004'!$B$14","v":8.33},{"$f":"P221*O221*N221","v":999.6},null,null,{"$f":"'Inputs PL Final Decision 2004'!$B$11","v":60},{"$f":"'Inputs PL Final Decision 2004'!$B$33","v":2},{"$f":"'Inputs PL Final Decision 2004'!$B$14","v":8.33},{"$f":"V221*U221*T221","v":999.6}]
["Elevated platform vehicle costs",{"$f":"'Inputs PL Final Decision 2004'!$B$13","v":45},1,{"$f":"'Inputs PL Final Decision 2004'!$B$14","v":8.33},{"$f":"D222*C222*B222","v":374.85},null,null,{"$f":"'Inputs PL Final Decision 2004'!$B$13","v":45},1,{"$f":"'Inputs PL Final Decision 2004'!$B$14","v":8.33},{"$f":"J222*I222*H222","v":374.85},null,null,{"$f":"'Inputs PL Final Decision 2004'!$B$13","v":45},1,{"$f":"'Inputs PL Final Decision 2004'!$B$14","v":8.33},{"$f":"P222*O222*N222","v":374.85},null,null,{"$f":"'Inputs PL Final Decision 2004'!$B$13","v":45},1,{"$f":"'Inputs PL Final Decision 2004'!$B$14","v":8.33},{"$f":"V222*U222*T222","v":374.85}]
[]
["S-HP 250"]
["Luminaires "]
["Material & misc",{"$f":"'Inputs PL Final Decision 2004'!$B$42+'Inputs PL Final Decision 2004'!$B$43","v":192.44},{"$f":"'Inputs PL Final Decision 2004'!$B$46","v":16},null,{"$f":"B226*C226","v":3079.04},{"$f":"(E226+E227+E228)/C226","v":293.96187500000002},null,{"$f":"'Inputs PL Final Decision 2004'!$B$42+'Inputs PL Final Decision 2004'!$B$43","v":192.44},{"$f":"'Inputs PL Final Decision 2004'!$B$46","v":16},null,{"$f":"H226*I226","v":3079.04},{"$f":"(K226+K227+K228)/I226","v":278.34312499999999},null,{"$f":"('Inputs PL Final Decision 2004'!$B$42+'Inputs PL Final Decision 2004'!$B$43)*(1+'Inputs PL Final Decision 2004'!$B$10)","v":202.06200000000001},{"$f":"'Inputs PL Final Decision 2004'!$B$47","v":13},null,{"$f":"N226*O226","v":2626.806},{"$f":"(Q226+Q227+Q228)/O226","v":307.78892307692308},null,{"$f":"('Inputs PL Final Decision 2004'!$B$42+'Inputs PL Final Decision 2004'!$B$43)*(1+'Inputs PL Final Decision 2004'!$B$10)","v":202.06200000000001},{"$f":"'Inputs PL Final Decision 2004'!$B$48","v":10},null,{"$f":"T226*U226","v":2020.6200000000001},{"$f":"(W226+W227+W228)/U226","v":339.50700000000001}]
["Crew costs",{"$f":"'Inputs PL Final Decision 2004'!$B$11","v":60},{"$f":"'Inputs PL Final Decision 2004'!$B$45","v":2.5},{"$f":"'Inputs PL Final Decision 2004'!$B$14","v":8.33},{"$f":"D227*C227*B227","v":1249.5},null,null,{"$f":"'Inputs PL Final Decision 2004'!$B$11","v":60},{"$f":"'Inputs PL Final Decision 2004'!$B$44","v":2},{"$f":"'Inputs PL Final Decision 2004'!$B$14","v":8.33},{"$f":"J227*I227*H227","v":999.6},null,null,{"$f":"'Inputs PL Final Decision 2004'!$B$11","v":60},{"$f":"'Inputs PL Final Decision 2004'!$B$44","v":2},{"$f":"'Inputs PL Final Decision 2004'!$B$14","v":8.33},{"$f":"P227*O227*N227","v":999.6},null,null,{"$f":"'Inputs PL Final Decision 2004'!$B$11","v":60},{"$f":"'Inputs PL Final Decision 2004'!$B$44","v":2},{"$f":"'Inputs PL Final Decision 2004'!$B$14","v":8.33},{"$f":"V227*U227*T227","v":999.6}]
["Elevated platform vehicle costs",{"$f":"'Inputs PL Final Decision 2004'!$B$13","v":45},1,{"$f":"'Inputs PL Final Decision 2004'!$B$14","v":8.33},{"$f":"D228*C228*B228","v":374.85},null,null,{"$f":"'Inputs PL Final Decision 2004'!$B$13","v":45},1,{"$f":"'Inputs PL Final Decision 2004'!$B$14","v":8.33},{"$f":"J228*I228*H228","v":374.85},null,null,{"$f":"'Inputs PL Final Decision 2004'!$B$13","v":45},1,{"$f":"'Inputs PL Final Decision 2004'!$B$14","v":8.33},{"$f":"P228*O228*N228","v":374.85},null,null,{"$f":"'Inputs PL Final Decision 2004'!$B$13","v":45},1,{"$f":"'Inputs PL Final Decision 2004'!$B$14","v":8.33},{"$f":"V228*U228*T228","v":374.85}]
[]
["Dedicated poles"]
["Material",{"$f":"'Inputs PL Final Decision 2004'!$B$53","v":500},{"$f":"'Inputs PL Final Decision 2004'!$B$54","v":4},null,{"$f":"C231*B231","v":2000},{"$f":"(E231+E232+E233)/C231","v":822.78750000000002},null,{"$f":"'Inputs PL Final Decision 2004'!$B$53","v":500},{"$f":"'Inputs PL Final Decision 2004'!$B$54","v":4},null,{"$f":"I231*H231","v":2000},{"$f":"(K231+K232+K233)/I231","v":822.78750000000002},null,{"$f":"'Inputs PL Final Decision 2004'!$B$53","v":500},{"$f":"'Inputs PL Final Decision 2004'!$B$54","v":4},null,{"$f":"O231*N231","v":2000},{"$f":"(Q231+Q232+Q233)/O231","v":843.61249999999995},null,{"$f":"'Inputs PL Final Decision 2004'!$B$53","v":500},{"$f":"'Inputs PL Final Decision 2004'!$B$54","v":4},null,{"$f":"U231*T231","v":2000},{"$f":"(W231+W232+W233)/U231","v":843.61249999999995}]
["Crew costs",{"$f":"'Inputs PL Final Decision 2004'!$B$11","v":60},{"$f":"'Inputs PL Final Decision 2004'!$B$23","v":2},{"$f":"'Inputs PL Final Decision 2004'!$B$14","v":8.33},{"$f":"B232*C232*D232","v":999.6},null,null,{"$f":"'Inputs PL Final Decision 2004'!$B$11","v":60},{"$f":"'Inputs PL Final Decision 2004'!$B$23","v":2},{"$f":"'Inputs PL Final Decision 2004'!$B$14","v":8.33},{"$f":"H232*I232*J232","v":999.6},null,null,{"$f":"'Inputs PL Final Decision 2004'!$B$11","v":60},{"$f":"'Inputs PL Final Decision 2004'!$B$23","v":2},{"$f":"'Inputs PL Final Decision 2004'!$B$14","v":8.33},{"$f":"N232*O232*P232","v":999.6},null,null,{"$f":"'Inputs PL Final Decision 2004'!$B$11","v":60},{"$f":"'Inputs PL Final Decision 2004'!$B$23","v":2},{"$f":"'Inputs PL Final Decision 2004'!$B$14","v":8.33},{"$f":"T232*U232*V232","v":999.6}]
["Elevated platform costs",{"$f":"'Inputs PL Final Decision 2004'!$B$12","v":35},1,{"$f":"'Inputs PL Final Decision 2004'!$B$14","v":8.33},{"$f":"B233*C233*D233","v":291.55},null,null,{"$f":"'Inputs PL Final Decision 2004'!$B$12","v":35},1,{"$f":"'Inputs PL Final Decision 2004'!$B$14","v":8.33},{"$f":"H233*I233*J233","v":291.55},null,null,{"$f":"'Inputs PL Final Decision 2004'!$B$13","v":45},1,{"$f":"'Inputs PL Final Decision 2004'!$B$14","v":8.33},{"$f":"N233*O233*P233","v":374.85},null,null,{"$f":"'Inputs PL Final Decision 2004'!$B$13","v":45},1,{"$f":"'Inputs PL Final Decision 2004'!$B$14","v":8.33},{"$f":"T233*U233*V233","v":374.85}]
[]
["Brackets"]
["Material",{"$f":"'Inputs PL Final Decision 2004'!$B$55","v":40},{"$f":"'Inputs PL Final Decision 2004'!$B$56","v":20},null,{"$f":"C236*B236","v":800},{"$f":"(E236+E237+E238)/C236","v":104.5575},null,{"$f":"'Inputs PL Final Decision 2004'!$B$55","v":40},{"$f":"'Inputs PL Final Decision 2004'!$B$56","v":20},null,{"$f":"I236*H236","v":800},{"$f":"(K236+K237+K238)/I236","v":104.5575},null,{"$f":"'Inputs PL Final Decision 2004'!$B$55","v":40},{"$f":"'Inputs PL Final Decision 2004'!$B$56","v":20},null,{"$f":"O236*N236","v":800},{"$f":"(Q236+Q237+Q238)/O236","v":108.7225},null,{"$f":"'Inputs PL Final Decision 2004'!$B$55","v":40},{"$f":"'Inputs PL Final Decision 2004'!$B$56","v":20},null,{"$f":"U236*T236","v":800},{"$f":"(W236+W237+W238)/U236","v":108.7225}]
["Crew costs",{"$f":"'Inputs PL Final Decision 2004'!$B$11","v":60},{"$f":"'Inputs PL Final Decision 2004'!$B$23","v":2},{"$f":"'Inputs PL Final Decision 2004'!$B$14","v":8.33},{"$f":"B237*C237*D237","v":999.6},null,null,{"$f":"'Inputs PL Final Decision 2004'!$B$11","v":60},{"$f":"'Inputs PL Final Decision 2004'!$B$23","v":2},{"$f":"'Inputs PL Final Decision 2004'!$B$14","v":8.33},{"$f":"H237*I237*J237","v":999.6},null,null,{"$f":"'Inputs PL Final Decision 2004'!$B$11","v":60},{"$f":"'Inputs PL Final Decision 2004'!$B$23","v":2},{"$f":"'Inputs PL Final Decision 2004'!$B$14","v":8.33},{"$f":"N237*O237*P237","v":999.6},null,null,{"$f":"'Inputs PL Final Decision 2004'!$B$11","v":60},{"$f":"'Inputs PL Final Decision 2004'!$B$23","v":2},{"$f":"'Inputs PL Final Decision 2004'!$B$14","v":8.33},{"$f":"T237*U237*V237","v":999.6}]
["Elevated platform costs",{"$f":"'Inputs PL Final Decision 2004'!$B$12","v":35},1,{"$f":"'Inputs PL Final Decision 2004'!$B$14","v":8.33},{"$f":"B238*C238*D238","v":291.55},null,null,{"$f":"'Inputs PL Final Decision 2004'!$B$12","v":35},1,{"$f":"'Inputs PL Final Decision 2004'!$B$14","v":8.33},{"$f":"H238*I238*J238","v":291.55},null,null,{"$f":"'Inputs PL Final Decision 2004'!$B$13","v":45},1,{"$f":"'Inputs PL Final Decision 2004'!$B$14","v":8.33},{"$f":"N238*O238*P238","v":374.85},null,null,{"$f":"'Inputs PL Final Decision 2004'!$B$13","v":45},1,{"$f":"'Inputs PL Final Decision 2004'!$B$14","v":8.33},{"$f":"T238*U238*V238","v":374.85}]
[" "]

{"sheet":"RAB 2001 to 2004 N & E","index":22,"n_rows":239,"n_cols":40,"rows_kept":239,"cut":false,"hidden":true,"merged":[[45,5,45,31],[82,5,82,39],[89,5,89,39],[207,1,207,5],[207,7,207,11],[207,13,207,17],[207,19,207,23],[52,5,52,26]]}
[{"$f":"'Inputs PL Final Decision 2004'!$A$127","v":"SP AusNet - North/East"}]
[]
["Public Lighting RAB - Assets constructed between 1 January 2001 and 31 December 2004."]
["Historical cost ($)"]
[]
["Summary"]
[]
["Cost Per Unit",null,{"$f":"#REF!","v":{"$error":"#REF!"}},{"$f":"#REF!","v":{"$error":"#REF!"}},{"$f":"#REF!","v":{"$error":"#REF!"}},{"$f":"#REF!","v":{"$error":"#REF!"}},{"$f":"#REF!","v":{"$error":"#REF!"}}]
["Rate of return (per annum) (Nominal Pre tax WACC)",null,{"$f":"WACC!E$8","v":{"$error":"#REF!"}},{"$f":"WACC!F$8","v":{"$error":"#REF!"}},{"$f":"WACC!G$8","v":{"$error":"#REF!"}},{"$f":"WACC!H$8","v":{"$error":"#REF!"}},{"$f":"WACC!I$8","v":{"$error":"#REF!"}}]
[]
["Luminaires"]
[{"$f":"$A$134","v":"MV 80"}]
["Luminaire - depreciation",null,{"$f":"W144","v":2.348204217238206},{"$f":"X144","v":1.174102108619103},{"$f":"Y144","v":0},{"$f":"Z144","v":0},{"$f":"AA144","v":0}]
["Luminaire - return on",null,{"$f":"W143*C$9","v":{"$error":"#REF!"}},{"$f":"X143*D$9","v":{"$error":"#REF!"}},{"$f":"Y143*E$9","v":{"$error":"#REF!"}},{"$f":"Z143*F$9","v":{"$error":"#REF!"}},{"$f":"AA143*G$9","v":{"$error":"#REF!"}}]
["Capital Charge",null,{"$f":"SUM(C13:C14)","v":{"$error":"#REF!"}},{"$f":"SUM(D13:D14)","v":{"$error":"#REF!"}},{"$f":"SUM(E13:E14)","v":{"$error":"#REF!"}},{"$f":"SUM(F13:F14)","v":{"$error":"#REF!"}},{"$f":"SUM(G13:G14)","v":{"$error":"#REF!"}}]
[]
[{"$f":"$A$148","v":"S-HP 150 "}]
["Luminaire - depreciation",null,{"$f":"W158","v":2.7655624098724645},{"$f":"X158","v":1.3827812049362322},{"$f":"Y158","v":0},{"$f":"Z158","v":0},{"$f":"AA158","v":0}]
["Luminaire - return on",null,{"$f":"W157*C$9","v":{"$error":"#REF!"}},{"$f":"X157*D$9","v":{"$error":"#REF!"}},{"$f":"Y157*E$9","v":{"$error":"#REF!"}},{"$f":"Z157*F$9","v":{"$error":"#REF!"}},{"$f":"AA157*G$9","v":{"$error":"#REF!"}}]
["Capital Charge",null,{"$f":"SUM(C18:C19)","v":{"$error":"#REF!"}},{"$f":"SUM(D18:D19)","v":{"$error":"#REF!"}},{"$f":"SUM(E18:E19)","v":{"$error":"#REF!"}},{"$f":"SUM(F18:F19)","v":{"$error":"#REF!"}},{"$f":"SUM(G18:G19)","v":{"$error":"#REF!"}}]
[]
[{"$f":"$A$162","v":"S-HP 250 "}]
["Luminaire - depreciation",null,{"$f":"W172","v":2.785934692528135},{"$f":"X172","v":1.3929673462640675},{"$f":"Y172","v":0},{"$f":"Z172","v":0},{"$f":"AA172","v":0}]
["Luminaire - return on",null,{"$f":"W171*C$9","v":{"$error":"#REF!"}},{"$f":"X171*D$9","v":{"$error":"#REF!"}},{"$f":"Y171*E$9","v":{"$error":"#REF!"}},{"$f":"Z171*F$9","v":{"$error":"#REF!"}},{"$f":"AA171*G$9","v":{"$error":"#REF!"}}]
["Capital Charge",null,{"$f":"SUM(C23:C24)","v":{"$error":"#REF!"}},{"$f":"SUM(D23:D24)","v":{"$error":"#REF!"}},{"$f":"SUM(E23:E24)","v":{"$error":"#REF!"}},{"$f":"SUM(F23:F24)","v":{"$error":"#REF!"}},{"$f":"SUM(G23:G24)","v":{"$error":"#REF!"}}]
[]
[{"$f":"$A$176","v":"Poles & Brackets"}]
[{"$f":"$A$177","v":"Dedicated poles"}]
["Dedicated poles - depreciation",null,{"$f":"W186","v":0.92962471672939739},{"$f":"X186","v":0.92962471672939739},{"$f":"Y186","v":0.92962471672939739},{"$f":"Z186","v":0.92962471672939739},{"$f":"AA186","v":0.92962471672939739}]
["Dedicated poles - return on",null,{"$f":"W185*C$9","v":{"$error":"#REF!"}},{"$f":"X185*D$9","v":{"$error":"#REF!"}},{"$f":"Y185*E$9","v":{"$error":"#REF!"}},{"$f":"Z185*F$9","v":{"$error":"#REF!"}},{"$f":"AA185*G$9","v":{"$error":"#REF!"}}]
["Capital Charge",null,{"$f":"SUM(C29:C30)","v":{"$error":"#REF!"}},{"$f":"SUM(D29:D30)","v":{"$error":"#REF!"}},{"$f":"SUM(E29:E30)","v":{"$error":"#REF!"}},{"$f":"SUM(F29:F30)","v":{"$error":"#REF!"}},{"$f":"SUM(G29:G30)","v":{"$error":"#REF!"}}]
[]
[{"$f":"A191","v":"Brackets"}]
["Brackets - depreciation",null,{"$f":"W200","v":0.19258177577179436},{"$f":"X200","v":0.19258177577179436},{"$f":"Y200","v":0.19258177577179436},{"$f":"Z200","v":0.19258177577179436},{"$f":"AA200","v":0.19258177577179436}]
["Brackets - return on",null,{"$f":"W199*C$9","v":{"$error":"#REF!"}},{"$f":"X199*D$9","v":{"$error":"#REF!"}},{"$f":"Y199*E$9","v":{"$error":"#REF!"}},{"$f":"Z199*F$9","v":{"$error":"#REF!"}},{"$f":"AA199*G$9","v":{"$error":"#REF!"}}]
["Capital Charge",null,{"$f":"SUM(C34:C35)","v":{"$error":"#REF!"}},{"$f":"SUM(D34:D35)","v":{"$error":"#REF!"}},{"$f":"SUM(E34:E35)","v":{"$error":"#REF!"}},{"$f":"SUM(F34:F35)","v":{"$error":"#REF!"}},{"$f":"SUM(G34:G35)","v":{"$error":"#REF!"}}]
[]
[]
[]
[]
["Closing RAB at 31 December 2004 and Depreciation per annum 2005 onwards"]
[]
["Note : Calculation of the closing $ value of RAB in 2004 is Unit WDV at 31 December 2004 multiplied by volumes at 31 December 2004."]
[]
["Luminaires"]
["Depreciation",null,null,null,"Closing RAB per unit","Depreciation per unit"]
[null,null,null,null,2004,2005,2006,2007,2008,2009,2010,2011,2012,2013,2014,2015,2016,2017,2018,2019,2020,{"$f":"#REF!","v":{"$error":"#REF!"}},{"$f":"#REF!","v":{"$error":"#REF!"}},{"$f":"#REF!","v":{"$error":"#REF!"}},{"$f":"#REF!","v":{"$error":"#REF!"}},{"$f":"#REF!","v":{"$error":"#REF!"}},{"$f":"#REF!","v":{"$error":"#REF!"}},{"$f":"#REF!","v":{"$error":"#REF!"}},{"$f":"#REF!","v":{"$error":"#REF!"}},{"$f":"#REF!","v":{"$error":"#REF!"}},{"$f":"#REF!","v":{"$error":"#REF!"}},{"$f":"#REF!","v":{"$error":"#REF!"}}]
[{"$f":"#REF!","v":{"$error":"#REF!"}},null,null,null,{"$f":"F143+F144/2","v":42.267675910287707},{"$f":"F144","v":2.348204217238206},{"$f":"G144","v":2.348204217238206},2.348204217238206,2.348204217238206,2.348204217238206,2.348204217238206,2.348204217238206,2.348204217238206,2.348204217238206,2.348204217238206,2.348204217238206,2.348204217238206,2.348204217238206,2.348204217238206,2.348204217238206,2.348204217238206,{"$f":"V144","v":1.174102108619103},2.348204217238206,1.174102108619103,0,0,0,{"$f":"AB144","v":0},{"$f":"AC144","v":0},{"$f":"AD144","v":0},{"$f":"AE144","v":0},{"$f":"AF144","v":0}]
[{"$f":"#REF!","v":{"$error":"#REF!"}},null,null,null,{"$f":"F157+F158/2","v":49.780123377704356},{"$f":"F158","v":2.7655624098724645},{"$f":"G158","v":2.7655624098724645},2.7655624098724645,2.7655624098724645,2.7655624098724645,2.7655624098724645,2.7655624098724645,2.7655624098724645,2.7655624098724645,2.7655624098724645,2.7655624098724645,2.7655624098724645,2.7655624098724645,2.7655624098724645,2.7655624098724645,2.7655624098724645,{"$f":"V158","v":1.3827812049362322},2.7655624098724645,1.3827812049362322,0,0,0,{"$f":"AB158","v":0},{"$f":"AC158","v":0},{"$f":"AD158","v":0},{"$f":"AE158","v":0},{"$f":"AF158","v":0}]
[{"$f":"#REF!","v":{"$error":"#REF!"}},null,null,null,{"$f":"F171+F172/2","v":50.146824465506434},{"$f":"F172","v":2.785934692528135},{"$f":"G172","v":2.785934692528135},2.785934692528135,2.785934692528135,2.785934692528135,2.785934692528135,2.785934692528135,2.785934692528135,2.785934692528135,2.785934692528135,2.785934692528135,2.785934692528135,2.785934692528135,2.785934692528135,2.785934692528135,2.785934692528135,{"$f":"V172","v":1.3929673462640675},2.785934692528135,1.3929673462640675,0,0,0,{"$f":"AB172","v":0},{"$f":"AC172","v":0},{"$f":"AD172","v":0},{"$f":"AE172","v":0},{"$f":"AF172","v":0}]
[]
[]
["Light Type",null,"Assumed",null,"Closing RAB","Depreciation"]
[null,null," 2004 Volumes",null,{"$f":"E$47","v":2004},2005,2006,2007,2008,2009,2010,2011,2012,2013,2014,2015,2016,2017,2018,2019,2020,{"$f":"V$47","v":{"$error":"#REF!"}},{"$f":"W$47","v":{"$error":"#REF!"}},{"$error":"#REF!"},{"$error":"#REF!"},{"$error":"#REF!"},{"$error":"#REF!"},{"$error":"#REF!"},{"$error":"#REF!"},{"$error":"#REF!"},{"$error":"#REF!"},{"$error":"#REF!"}]
[{"$f":"#REF!","v":{"$error":"#REF!"}},null,{"$f":"25106.4810513172+2278.72731269898+1469.46836533056","v":28854.676729346738},null,{"$f":"E48*$C55","v":1219620.1244921484},{"$f":"F48*$C55","v":67756.673582897143},67756.673582897143,67756.673582897143,67756.673582897143,67756.673582897143,67756.673582897143,67756.673582897143,67756.673582897143,67756.673582897143,67756.673582897143,67756.673582897143,67756.673582897143,{"$f":"R48*$C55","v":67756.673582897143},67756.673582897143,67756.673582897143,67756.673582897143,{"$f":"V48*$C55","v":33878.336791448572},67756.673582897143,33878.336791448572,0,0,0,{"$f":"AB48*$C55","v":0},0,0,0,0]
[{"$f":"#REF!","v":{"$error":"#REF!"}},null,4252.263490243743,null,{"$f":"E49*$C56","v":211678.20117884126},{"$f":"F49*$C56","v":11759.900065491183},11759.900065491183,11759.900065491183,11759.900065491183,11759.900065491183,11759.900065491183,11759.900065491183,11759.900065491183,11759.900065491183,11759.900065491183,11759.900065491183,11759.900065491183,11759.900065491183,11759.900065491183,11759.900065491183,11759.900065491183,{"$f":"V49*$C56","v":5879.9500327455917},11759.900065491183,5879.9500327455917,0,0,0,0,0,0,0,0]
[{"$f":"#REF!","v":{"$error":"#REF!"}},null,4329.4481153353427,null,{"$f":"E50*$C57","v":217108.07467223908},{"$f":"F50*$C57","v":12061.559704013282},12061.559704013282,12061.559704013282,12061.559704013282,12061.559704013282,12061.559704013282,12061.559704013282,12061.559704013282,12061.559704013282,12061.559704013282,12061.559704013282,12061.559704013282,12061.559704013282,12061.559704013282,12061.559704013282,12061.559704013282,{"$f":"V50*$C57","v":6030.7798520066408},12061.559704013282,6030.7798520066408,0,0,0,0,0,0,0,0]
[{"$f":"#REF!","v":{"$error":"#REF!"}},null,546.38589867473945,null,{"$f":"IF(#REF!=#REF!,E$48,IF(#REF!=#REF!,E$49,E$50))*#REF!*$C58","v":{"$error":"#REF!"}},{"$f":"IF(#REF!=#REF!,F$48,IF(#REF!=#REF!,F$49,F$50))*#REF!*$C58","v":{"$error":"#REF!"}},{"$f":"IF(#REF!=#REF!,G$48,IF(#REF!=#REF!,G$49,G$50))*#REF!*$C58","v":{"$error":"#REF!"}},{"$f":"IF(#REF!=#REF!,H$48,IF(#REF!=#REF!,H$49,H$50))*#REF!*$C58","v":{"$error":"#REF!"}},{"$f":"IF(#REF!=#REF!,I$48,IF(#REF!=#REF!,I$49,I$50))*#REF!*$C58","v":{"$error":"#REF!"}},{"$f":"IF(#REF!=#REF!,J$48,IF(#REF!=#REF!,J$49,J$50))*#REF!*$C58","v":{"$error":"#REF!"}},{"$f":"IF(#REF!=#REF!,K$48,IF(#REF!=#REF!,K$49,K$50))*#REF!*$C58","v":{"$error":"#REF!"}},{"$f":"IF(#REF!=#REF!,L$48,IF(#REF!=#REF!,L$49,L$50))*#REF!*$C58","v":{"$error":"#REF!"}},{"$f":"IF(#REF!=#REF!,M$48,IF(#REF!=#REF!,M$49,M$50))*#REF!*$C58","v":{"$error":"#REF!"}},{"$f":"IF(#REF!=#REF!,N$48,IF(#REF!=#REF!,N$49,N$50))*#REF!*$C58","v":{"$error":"#REF!"}},{"$f":"IF(#REF!=#REF!,O$48,IF(#REF!=#REF!,O$49,O$50))*#REF!*$C58","v":{"$error":"#REF!"}},{"$f":"IF(#REF!=#REF!,P$48,IF(#REF!=#REF!,P$49,P$50))*#REF!*$C58","v":{"$error":"#REF!"}},{"$f":"IF(#REF!=#REF!,Q$48,IF(#REF!=#REF!,Q$49,Q$50))*#REF!*$C58","v":{"$error":"#REF!"}},{"$f":"IF(#REF!=#REF!,R$48,IF(#REF!=#REF!,R$49,R$50))*#REF!*$C58","v":{"$error":"#REF!"}},{"$f":"IF(#REF!=#REF!,S$48,IF(#REF!=#REF!,S$49,S$50))*#REF!*$C58","v":{"$error":"#REF!"}},{"$f":"IF(#REF!=#REF!,T$48,IF(#REF!=#REF!,T$49,T$50))*#REF!*$C58","v":{"$error":"#REF!"}},{"$f":"IF(#REF!=#REF!,U$48,IF(#REF!=#REF!,U$49,U$50))*#REF!*$C58","v":{"$error":"#REF!"}},{"$f":"IF(#REF!=#REF!,V$48,IF(#REF!=#REF!,V$49,V$50))*#REF!*$C58","v":{"$error":"#REF!"}},{"$f":"IF(#REF!=#REF!,W$48,IF(#REF!=#REF!,W$49,W$50))*#REF!*$C58","v":{"$error":"#REF!"}},{"$f":"IF(#REF!=#REF!,X$48,IF(#REF!=#REF!,X$49,X$50))*#REF!*$C58","v":{"$error":"#REF!"}},{"$f":"IF(#REF!=#REF!,Y$48,IF(#REF!=#REF!,Y$49,Y$50))*#REF!*$C58","v":{"$error":"#REF!"}},{"$f":"IF(#REF!=#REF!,Z$48,IF(#REF!=#REF!,Z$49,Z$50))*#REF!*$C58","v":{"$error":"#REF!"}},{"$f":"IF(#REF!=#REF!,AA$48,IF(#REF!=#REF!,AA$49,AA$50))*#REF!*$C58","v":{"$error":"#REF!"}},{"$f":"IF(#REF!=#REF!,AB$48,IF(#REF!=#REF!,AB$49,AB$50))*#REF!*$C58","v":{"$error":"#REF!"}},{"$f":"IF(#REF!=#REF!,AC$48,IF(#REF!=#REF!,AC$49,AC$50))*#REF!*$C58","v":{"$error":"#REF!"}},{"$f":"IF(#REF!=#REF!,AD$48,IF(#REF!=#REF!,AD$49,AD$50))*#REF!*$C58","v":{"$error":"#REF!"}},{"$f":"IF(#REF!=#REF!,AE$48,IF(#REF!=#REF!,AE$49,AE$50))*#REF!*$C58","v":{"$error":"#REF!"}},{"$f":"IF(#REF!=#REF!,AF$48,IF(#REF!=#REF!,AF$49,AF$50))*#REF!*$C58","v":{"$error":"#REF!"}}]
[{"$f":"#REF!","v":{"$error":"#REF!"}},null,61.950817507730676,null,{"$f":"IF(#REF!=#REF!,E$48,IF(#REF!=#REF!,E$49,E$50))*#REF!*$C59","v":{"$error":"#REF!"}},{"$f":"IF(#REF!=#REF!,F$48,IF(#REF!=#REF!,F$49,F$50))*#REF!*$C59","v":{"$error":"#REF!"}},{"$f":"IF(#REF!=#REF!,G$48,IF(#REF!=#REF!,G$49,G$50))*#REF!*$C59","v":{"$error":"#REF!"}},{"$f":"IF(#REF!=#REF!,H$48,IF(#REF!=#REF!,H$49,H$50))*#REF!*$C59","v":{"$error":"#REF!"}},{"$f":"IF(#REF!=#REF!,I$48,IF(#REF!=#REF!,I$49,I$50))*#REF!*$C59","v":{"$error":"#REF!"}},{"$f":"IF(#REF!=#REF!,J$48,IF(#REF!=#REF!,J$49,J$50))*#REF!*$C59","v":{"$error":"#REF!"}},{"$f":"IF(#REF!=#REF!,K$48,IF(#REF!=#REF!,K$49,K$50))*#REF!*$C59","v":{"$error":"#REF!"}},{"$f":"IF(#REF!=#REF!,L$48,IF(#REF!=#REF!,L$49,L$50))*#REF!*$C59","v":{"$error":"#REF!"}},{"$f":"IF(#REF!=#REF!,M$48,IF(#REF!=#REF!,M$49,M$50))*#REF!*$C59","v":{"$error":"#REF!"}},{"$f":"IF(#REF!=#REF!,N$48,IF(#REF!=#REF!,N$49,N$50))*#REF!*$C59","v":{"$error":"#REF!"}},{"$f":"IF(#REF!=#REF!,O$48,IF(#REF!=#REF!,O$49,O$50))*#REF!*$C59","v":{"$error":"#REF!"}},{"$f":"IF(#REF!=#REF!,P$48,IF(#REF!=#REF!,P$49,P$50))*#REF!*$C59","v":{"$error":"#REF!"}},{"$f":"IF(#REF!=#REF!,Q$48,IF(#REF!=#REF!,Q$49,Q$50))*#REF!*$C59","v":{"$error":"#REF!"}},{"$f":"IF(#REF!=#REF!,R$48,IF(#REF!=#REF!,R$49,R$50))*#REF!*$C59","v":{"$error":"#REF!"}},{"$f":"IF(#REF!=#REF!,S$48,IF(#REF!=#REF!,S$49,S$50))*#REF!*$C59","v":{"$error":"#REF!"}},{"$f":"IF(#REF!=#REF!,T$48,IF(#REF!=#REF!,T$49,T$50))*#REF!*$C59","v":{"$error":"#REF!"}},{"$f":"IF(#REF!=#REF!,U$48,IF(#REF!=#REF!,U$49,U$50))*#REF!*$C59","v":{"$error":"#REF!"}},{"$f":"IF(#REF!=#REF!,V$48,IF(#REF!=#REF!,V$49,V$50))*#REF!*$C59","v":{"$error":"#REF!"}},{"$f":"IF(#REF!=#REF!,W$48,IF(#REF!=#REF!,W$49,W$50))*#REF!*$C59","v":{"$error":"#REF!"}},{"$f":"IF(#REF!=#REF!,X$48,IF(#REF!=#REF!,X$49,X$50))*#REF!*$C59","v":{"$error":"#REF!"}},{"$f":"IF(#REF!=#REF!,Y$48,IF(#REF!=#REF!,Y$49,Y$50))*#REF!*$C59","v":{"$error":"#REF!"}},{"$f":"IF(#REF!=#REF!,Z$48,IF(#REF!=#REF!,Z$49,Z$50))*#REF!*$C59","v":{"$error":"#REF!"}},{"$f":"IF(#REF!=#REF!,AA$48,IF(#REF!=#REF!,AA$49,AA$50))*#REF!*$C59","v":{"$error":"#REF!"}},{"$f":"IF(#REF!=#REF!,AB$48,IF(#REF!=#REF!,AB$49,AB$50))*#REF!*$C59","v":{"$error":"#REF!"}},{"$f":"IF(#REF!=#REF!,AC$48,IF(#REF!=#REF!,AC$49,AC$50))*#REF!*$C59","v":{"$error":"#REF!"}},{"$f":"IF(#REF!=#REF!,AD$48,IF(#REF!=#REF!,AD$49,AD$50))*#REF!*$C59","v":{"$error":"#REF!"}},{"$f":"IF(#REF!=#REF!,AE$48,IF(#REF!=#REF!,AE$49,AE$50))*#REF!*$C59","v":{"$error":"#REF!"}},{"$f":"IF(#REF!=#REF!,AF$48,IF(#REF!=#REF!,AF$49,AF$50))*#REF!*$C59","v":{"$error":"#REF!"}}]
[{"$f":"#REF!","v":{"$error":"#REF!"}},null,450.92070448249871,null,{"$f":"IF(#REF!=#REF!,E$48,IF(#REF!=#REF!,E$49,E$50))*#REF!*$C60","v":{"$error":"#REF!"}},{"$f":"IF(#REF!=#REF!,F$48,IF(#REF!=#REF!,F$49,F$50))*#REF!*$C60","v":{"$error":"#REF!"}},{"$f":"IF(#REF!=#REF!,G$48,IF(#REF!=#REF!,G$49,G$50))*#REF!*$C60","v":{"$error":"#REF!"}},{"$f":"IF(#REF!=#REF!,H$48,IF(#REF!=#REF!,H$49,H$50))*#REF!*$C60","v":{"$error":"#REF!"}},{"$f":"IF(#REF!=#REF!,I$48,IF(#REF!=#REF!,I$49,I$50))*#REF!*$C60","v":{"$error":"#REF!"}},{"$f":"IF(#REF!=#REF!,J$48,IF(#REF!=#REF!,J$49,J$50))*#REF!*$C60","v":{"$error":"#REF!"}},{"$f":"IF(#REF!=#REF!,K$48,IF(#REF!=#REF!,K$49,K$50))*#REF!*$C60","v":{"$error":"#REF!"}},{"$f":"IF(#REF!=#REF!,L$48,IF(#REF!=#REF!,L$49,L$50))*#REF!*$C60","v":{"$error":"#REF!"}},{"$f":"IF(#REF!=#REF!,M$48,IF(#REF!=#REF!,M$49,M$50))*#REF!*$C60","v":{"$error":"#REF!"}},{"$f":"IF(#REF!=#REF!,N$48,IF(#REF!=#REF!,N$49,N$50))*#REF!*$C60","v":{"$error":"#REF!"}},{"$f":"IF(#REF!=#REF!,O$48,IF(#REF!=#REF!,O$49,O$50))*#REF!*$C60","v":{"$error":"#REF!"}},{"$f":"IF(#REF!=#REF!,P$48,IF(#REF!=#REF!,P$49,P$50))*#REF!*$C60","v":{"$error":"#REF!"}},{"$f":"IF(#REF!=#REF!,Q$48,IF(#REF!=#REF!,Q$49,Q$50))*#REF!*$C60","v":{"$error":"#REF!"}},{"$f":"IF(#REF!=#REF!,R$48,IF(#REF!=#REF!,R$49,R$50))*#REF!*$C60","v":{"$error":"#REF!"}},{"$f":"IF(#REF!=#REF!,S$48,IF(#REF!=#REF!,S$49,S$50))*#REF!*$C60","v":{"$error":"#REF!"}},{"$f":"IF(#REF!=#REF!,T$48,IF(#REF!=#REF!,T$49,T$50))*#REF!*$C60","v":{"$error":"#REF!"}},{"$f":"IF(#REF!=#REF!,U$48,IF(#REF!=#REF!,U$49,U$50))*#REF!*$C60","v":{"$error":"#REF!"}},{"$f":"IF(#REF!=#REF!,V$48,IF(#REF!=#REF!,V$49,V$50))*#REF!*$C60","v":{"$error":"#REF!"}},{"$f":"IF(#REF!=#REF!,W$48,IF(#REF!=#REF!,W$49,W$50))*#REF!*$C60","v":{"$error":"#REF!"}},{"$f":"IF(#REF!=#REF!,X$48,IF(#REF!=#REF!,X$49,X$50))*#REF!*$C60","v":{"$error":"#REF!"}},{"$f":"IF(#REF!=#REF!,Y$48,IF(#REF!=#REF!,Y$49,Y$50))*#REF!*$C60","v":{"$error":"#REF!"}},{"$f":"IF(#REF!=#REF!,Z$48,IF(#REF!=#REF!,Z$49,Z$50))*#REF!*$C60","v":{"$error":"#REF!"}},{"$f":"IF(#REF!=#REF!,AA$48,IF(#REF!=#REF!,AA$49,AA$50))*#REF!*$C60","v":{"$error":"#REF!"}},{"$f":"IF(#REF!=#REF!,AB$48,IF(#REF!=#REF!,AB$49,AB$50))*#REF!*$C60","v":{"$error":"#REF!"}},{"$f":"IF(#REF!=#REF!,AC$48,IF(#REF!=#REF!,AC$49,AC$50))*#REF!*$C60","v":{"$error":"#REF!"}},{"$f":"IF(#REF!=#REF!,AD$48,IF(#REF!=#REF!,AD$49,AD$50))*#REF!*$C60","v":{"$error":"#REF!"}},{"$f":"IF(#REF!=#REF!,AE$48,IF(#REF!=#REF!,AE$49,AE$50))*#REF!*$C60","v":{"$error":"#REF!"}},{"$f":"IF(#REF!=#REF!,AF$48,IF(#REF!=#REF!,AF$49,AF$50))*#REF!*$C60","v":{"$error":"#REF!"}}]
[{"$f":"#REF!","v":{"$error":"#REF!"}},null,137.1042682548138,null,{"$f":"IF(#REF!=#REF!,E$48,IF(#REF!=#REF!,E$49,E$50))*#REF!*$C61","v":{"$error":"#REF!"}},{"$f":"IF(#REF!=#REF!,F$48,IF(#REF!=#REF!,F$49,F$50))*#REF!*$C61","v":{"$error":"#REF!"}},{"$f":"IF(#REF!=#REF!,G$48,IF(#REF!=#REF!,G$49,G$50))*#REF!*$C61","v":{"$error":"#REF!"}},{"$f":"IF(#REF!=#REF!,H$48,IF(#REF!=#REF!,H$49,H$50))*#REF!*$C61","v":{"$error":"#REF!"}},{"$f":"IF(#REF!=#REF!,I$48,IF(#REF!=#REF!,I$49,I$50))*#REF!*$C61","v":{"$error":"#REF!"}},{"$f":"IF(#REF!=#REF!,J$48,IF(#REF!=#REF!,J$49,J$50))*#REF!*$C61","v":{"$error":"#REF!"}},{"$f":"IF(#REF!=#REF!,K$48,IF(#REF!=#REF!,K$49,K$50))*#REF!*$C61","v":{"$error":"#REF!"}},{"$f":"IF(#REF!=#REF!,L$48,IF(#REF!=#REF!,L$49,L$50))*#REF!*$C61","v":{"$error":"#REF!"}},{"$f":"IF(#REF!=#REF!,M$48,IF(#REF!=#REF!,M$49,M$50))*#REF!*$C61","v":{"$error":"#REF!"}},{"$f":"IF(#REF!=#REF!,N$48,IF(#REF!=#REF!,N$49,N$50))*#REF!*$C61","v":{"$error":"#REF!"}},{"$f":"IF(#REF!=#REF!,O$48,IF(#REF!=#REF!,O$49,O$50))*#REF!*$C61","v":{"$error":"#REF!"}},{"$f":"IF(#REF!=#REF!,P$48,IF(#REF!=#REF!,P$49,P$50))*#REF!*$C61","v":{"$error":"#REF!"}},{"$f":"IF(#REF!=#REF!,Q$48,IF(#REF!=#REF!,Q$49,Q$50))*#REF!*$C61","v":{"$error":"#REF!"}},{"$f":"IF(#REF!=#REF!,R$48,IF(#REF!=#REF!,R$49,R$50))*#REF!*$C61","v":{"$error":"#REF!"}},{"$f":"IF(#REF!=#REF!,S$48,IF(#REF!=#REF!,S$49,S$50))*#REF!*$C61","v":{"$error":"#REF!"}},{"$f":"IF(#REF!=#REF!,T$48,IF(#REF!=#REF!,T$49,T$50))*#REF!*$C61","v":{"$error":"#REF!"}},{"$f":"IF(#REF!=#REF!,U$48,IF(#REF!=#REF!,U$49,U$50))*#REF!*$C61","v":{"$error":"#REF!"}},{"$f":"IF(#REF!=#REF!,V$48,IF(#REF!=#REF!,V$49,V$50))*#REF!*$C61","v":{"$error":"#REF!"}},{"$f":"IF(#REF!=#REF!,W$48,IF(#REF!=#REF!,W$49,W$50))*#REF!*$C61","v":{"$error":"#REF!"}},{"$f":"IF(#REF!=#REF!,X$48,IF(#REF!=#REF!,X$49,X$50))*#REF!*$C61","v":{"$error":"#REF!"}},{"$f":"IF(#REF!=#REF!,Y$48,IF(#REF!=#REF!,Y$49,Y$50))*#REF!*$C61","v":{"$error":"#REF!"}},{"$f":"IF(#REF!=#REF!,Z$48,IF(#REF!=#REF!,Z$49,Z$50))*#REF!*$C61","v":{"$error":"#REF!"}},{"$f":"IF(#REF!=#REF!,AA$48,IF(#REF!=#REF!,AA$49,AA$50))*#REF!*$C61","v":{"$error":"#REF!"}},{"$f":"IF(#REF!=#REF!,AB$48,IF(#REF!=#REF!,AB$49,AB$50))*#REF!*$C61","v":{"$error":"#REF!"}},{"$f":"IF(#REF!=#REF!,AC$48,IF(#REF!=#REF!,AC$49,AC$50))*#REF!*$C61","v":{"$error":"#REF!"}},{"$f":"IF(#REF!=#REF!,AD$48,IF(#REF!=#REF!,AD$49,AD$50))*#REF!*$C61","v":{"$error":"#REF!"}},{"$f":"IF(#REF!=#REF!,AE$48,IF(#REF!=#REF!,AE$49,AE$50))*#REF!*$C61","v":{"$error":"#REF!"}},{"$f":"IF(#REF!=#REF!,AF$48,IF(#REF!=#REF!,AF$49,AF$50))*#REF!*$C61","v":{"$error":"#REF!"}}]
[{"$f":"#REF!","v":{"$error":"#REF!"}},null,92.418432675467074,null,{"$f":"IF(#REF!=#REF!,E$48,IF(#REF!=#REF!,E$49,E$50))*#REF!*$C62","v":{"$error":"#REF!"}},{"$f":"IF(#REF!=#REF!,F$48,IF(#REF!=#REF!,F$49,F$50))*#REF!*$C62","v":{"$error":"#REF!"}},{"$f":"IF(#REF!=#REF!,G$48,IF(#REF!=#REF!,G$49,G$50))*#REF!*$C62","v":{"$error":"#REF!"}},{"$f":"IF(#REF!=#REF!,H$48,IF(#REF!=#REF!,H$49,H$50))*#REF!*$C62","v":{"$error":"#REF!"}},{"$f":"IF(#REF!=#REF!,I$48,IF(#REF!=#REF!,I$49,I$50))*#REF!*$C62","v":{"$error":"#REF!"}},{"$f":"IF(#REF!=#REF!,J$48,IF(#REF!=#REF!,J$49,J$50))*#REF!*$C62","v":{"$error":"#REF!"}},{"$f":"IF(#REF!=#REF!,K$48,IF(#REF!=#REF!,K$49,K$50))*#REF!*$C62","v":{"$error":"#REF!"}},{"$f":"IF(#REF!=#REF!,L$48,IF(#REF!=#REF!,L$49,L$50))*#REF!*$C62","v":{"$error":"#REF!"}},{"$f":"IF(#REF!=#REF!,M$48,IF(#REF!=#REF!,M$49,M$50))*#REF!*$C62","v":{"$error":"#REF!"}},{"$f":"IF(#REF!=#REF!,N$48,IF(#REF!=#REF!,N$49,N$50))*#REF!*$C62","v":{"$error":"#REF!"}},{"$f":"IF(#REF!=#REF!,O$48,IF(#REF!=#REF!,O$49,O$50))*#REF!*$C62","v":{"$error":"#REF!"}},{"$f":"IF(#REF!=#REF!,P$48,IF(#REF!=#REF!,P$49,P$50))*#REF!*$C62","v":{"$error":"#REF!"}},{"$f":"IF(#REF!=#REF!,Q$48,IF(#REF!=#REF!,Q$49,Q$50))*#REF!*$C62","v":{"$error":"#REF!"}},{"$f":"IF(#REF!=#REF!,R$48,IF(#REF!=#REF!,R$49,R$50))*#REF!*$C62","v":{"$error":"#REF!"}},{"$f":"IF(#REF!=#REF!,S$48,IF(#REF!=#REF!,S$49,S$50))*#REF!*$C62","v":{"$error":"#REF!"}},{"$f":"IF(#REF!=#REF!,T$48,IF(#REF!=#REF!,T$49,T$50))*#REF!*$C62","v":{"$error":"#REF!"}},{"$f":"IF(#REF!=#REF!,U$48,IF(#REF!=#REF!,U$49,U$50))*#REF!*$C62","v":{"$error":"#REF!"}},{"$f":"IF(#REF!=#REF!,V$48,IF(#REF!=#REF!,V$49,V$50))*#REF!*$C62","v":{"$error":"#REF!"}},{"$f":"IF(#REF!=#REF!,W$48,IF(#REF!=#REF!,W$49,W$50))*#REF!*$C62","v":{"$error":"#REF!"}},{"$f":"IF(#REF!=#REF!,X$48,IF(#REF!=#REF!,X$49,X$50))*#REF!*$C62","v":{"$error":"#REF!"}},{"$f":"IF(#REF!=#REF!,Y$48,IF(#REF!=#REF!,Y$49,Y$50))*#REF!*$C62","v":{"$error":"#REF!"}},{"$f":"IF(#REF!=#REF!,Z$48,IF(#REF!=#REF!,Z$49,Z$50))*#REF!*$C62","v":{"$error":"#REF!"}},{"$f":"IF(#REF!=#REF!,AA$48,IF(#REF!=#REF!,AA$49,AA$50))*#REF!*$C62","v":{"$error":"#REF!"}},{"$f":"IF(#REF!=#REF!,AB$48,IF(#REF!=#REF!,AB$49,AB$50))*#REF!*$C62","v":{"$error":"#REF!"}},{"$f":"IF(#REF!=#REF!,AC$48,IF(#REF!=#REF!,AC$49,AC$50))*#REF!*$C62","v":{"$error":"#REF!"}},{"$f":"IF(#REF!=#REF!,AD$48,IF(#REF!=#REF!,AD$49,AD$50))*#REF!*$C62","v":{"$error":"#REF!"}},{"$f":"IF(#REF!=#REF!,AE$48,IF(#REF!=#REF!,AE$49,AE$50))*#REF!*$C62","v":{"$error":"#REF!"}},{"$f":"IF(#REF!=#REF!,AF$48,IF(#REF!=#REF!,AF$49,AF$50))*#REF!*$C62","v":{"$error":"#REF!"}}]
[{"$f":"#REF!","v":{"$error":"#REF!"}},null,282.33323388769065,null,{"$f":"IF(#REF!=#REF!,E$48,IF(#REF!=#REF!,E$49,E$50))*#REF!*$C63","v":{"$error":"#REF!"}},{"$f":"IF(#REF!=#REF!,F$48,IF(#REF!=#REF!,F$49,F$50))*#REF!*$C63","v":{"$error":"#REF!"}},{"$f":"IF(#REF!=#REF!,G$48,IF(#REF!=#REF!,G$49,G$50))*#REF!*$C63","v":{"$error":"#REF!"}},{"$f":"IF(#REF!=#REF!,H$48,IF(#REF!=#REF!,H$49,H$50))*#REF!*$C63","v":{"$error":"#REF!"}},{"$f":"IF(#REF!=#REF!,I$48,IF(#REF!=#REF!,I$49,I$50))*#REF!*$C63","v":{"$error":"#REF!"}},{"$f":"IF(#REF!=#REF!,J$48,IF(#REF!=#REF!,J$49,J$50))*#REF!*$C63","v":{"$error":"#REF!"}},{"$f":"IF(#REF!=#REF!,K$48,IF(#REF!=#REF!,K$49,K$50))*#REF!*$C63","v":{"$error":"#REF!"}},{"$f":"IF(#REF!=#REF!,L$48,IF(#REF!=#REF!,L$49,L$50))*#REF!*$C63","v":{"$error":"#REF!"}},{"$f":"IF(#REF!=#REF!,M$48,IF(#REF!=#REF!,M$49,M$50))*#REF!*$C63","v":{"$error":"#REF!"}},{"$f":"IF(#REF!=#REF!,N$48,IF(#REF!=#REF!,N$49,N$50))*#REF!*$C63","v":{"$error":"#REF!"}},{"$f":"IF(#REF!=#REF!,O$48,IF(#REF!=#REF!,O$49,O$50))*#REF!*$C63","v":{"$error":"#REF!"}},{"$f":"IF(#REF!=#REF!,P$48,IF(#REF!=#REF!,P$49,P$50))*#REF!*$C63","v":{"$error":"#REF!"}},{"$f":"IF(#REF!=#REF!,Q$48,IF(#REF!=#REF!,Q$49,Q$50))*#REF!*$C63","v":{"$error":"#REF!"}},{"$f":"IF(#REF!=#REF!,R$48,IF(#REF!=#REF!,R$49,R$50))*#REF!*$C63","v":{"$error":"#REF!"}},{"$f":"IF(#REF!=#REF!,S$48,IF(#REF!=#REF!,S$49,S$50))*#REF!*$C63","v":{"$error":"#REF!"}},{"$f":"IF(#REF!=#REF!,T$48,IF(#REF!=#REF!,T$49,T$50))*#REF!*$C63","v":{"$error":"#REF!"}},{"$f":"IF(#REF!=#REF!,U$48,IF(#REF!=#REF!,U$49,U$50))*#REF!*$C63","v":{"$error":"#REF!"}},{"$f":"IF(#REF!=#REF!,V$48,IF(#REF!=#REF!,V$49,V$50))*#REF!*$C63","v":{"$error":"#REF!"}},{"$f":"IF(#REF!=#REF!,W$48,IF(#REF!=#REF!,W$49,W$50))*#REF!*$C63","v":{"$error":"#REF!"}},{"$f":"IF(#REF!=#REF!,X$48,IF(#REF!=#REF!,X$49,X$50))*#REF!*$C63","v":{"$error":"#REF!"}},{"$f":"IF(#REF!=#REF!,Y$48,IF(#REF!=#REF!,Y$49,Y$50))*#REF!*$C63","v":{"$error":"#REF!"}},{"$f":"IF(#REF!=#REF!,Z$48,IF(#REF!=#REF!,Z$49,Z$50))*#REF!*$C63","v":{"$error":"#REF!"}},{"$f":"IF(#REF!=#REF!,AA$48,IF(#REF!=#REF!,AA$49,AA$50))*#REF!*$C63","v":{"$error":"#REF!"}},{"$f":"IF(#REF!=#REF!,AB$48,IF(#REF!=#REF!,AB$49,AB$50))*#REF!*$C63","v":{"$error":"#REF!"}},{"$f":"IF(#REF!=#REF!,AC$48,IF(#REF!=#REF!,AC$49,AC$50))*#REF!*$C63","v":{"$error":"#REF!"}},{"$f":"IF(#REF!=#REF!,AD$48,IF(#REF!=#REF!,AD$49,AD$50))*#REF!*$C63","v":{"$error":"#REF!"}},{"$f":"IF(#REF!=#REF!,AE$48,IF(#REF!=#REF!,AE$49,AE$50))*#REF!*$C63","v":{"$error":"#REF!"}},{"$f":"IF(#REF!=#REF!,AF$48,IF(#REF!=#REF!,AF$49,AF$50))*#REF!*$C63","v":{"$error":"#REF!"}}]
[]
[]
[]
[]
[]
[]
[]
[]
[]
[]
[]
[]
[]
[null,null,null,null,{"$f":"SUM(E55:E76)","v":{"$error":"#REF!"}},{"$f":"SUM(F55:F76)","v":{"$error":"#REF!"}},{"$error":"#REF!"},{"$error":"#REF!"},{"$error":"#REF!"},{"$error":"#REF!"},{"$error":"#REF!"},{"$error":"#REF!"},{"$error":"#REF!"},{"$error":"#REF!"},{"$error":"#REF!"},{"$error":"#REF!"},{"$error":"#REF!"},{"$f":"SUM(R55:R76)","v":{"$error":"#REF!"}},{"$f":"SUM(S55:S76)","v":{"$error":"#REF!"}},{"$f":"SUM(T55:T76)","v":{"$error":"#REF!"}},{"$f":"SUM(U55:U76)","v":{"$error":"#REF!"}},{"$f":"SUM(V55:V76)","v":{"$error":"#REF!"}},{"$error":"#REF!"},{"$error":"#REF!"},{"$error":"#REF!"},{"$error":"#REF!"},{"$error":"#REF!"},{"$f":"SUM(AB55:AB76)","v":{"$error":"#REF!"}},{"$f":"SUM(AC55:AC76)","v":{"$error":"#REF!"}},{"$f":"SUM(AD55:AD76)","v":{"$error":"#REF!"}},{"$f":"SUM(AE55:AE76)","v":{"$error":"#REF!"}},{"$f":"SUM(AF55:AF76)","v":{"$error":"#REF!"}}]
[]
["`",null,null,null,{"$f":"E77","v":{"$error":"#REF!"}},{"$f":"E79-F77","v":{"$error":"#REF!"}},{"$f":"F79-G77","v":{"$error":"#REF!"}},{"$error":"#REF!"},{"$error":"#REF!"},{"$error":"#REF!"},{"$error":"#REF!"},{"$error":"#REF!"},{"$error":"#REF!"},{"$error":"#REF!"},{"$error":"#REF!"},{"$error":"#REF!"},{"$error":"#REF!"},{"$error":"#REF!"},{"$error":"#REF!"},{"$error":"#REF!"},{"$error":"#REF!"},{"$error":"#REF!"},{"$error":"#REF!"},{"$error":"#REF!"},{"$error":"#REF!"},{"$error":"#REF!"},{"$error":"#REF!"},{"$f":"AA79-AB77","v":{"$error":"#REF!"}},{"$f":"AB79-AC77","v":{"$error":"#REF!"}},{"$f":"AC79-AD77","v":{"$error":"#REF!"}},{"$f":"AD79-AE77","v":{"$error":"#REF!"}},{"$f":"AE79-AF77","v":{"$error":"#REF!"}}]
[]
[]
["Poles & Brackets"]
["Depreciation",null,null,null,"Closing RAB per unit","Depreciation per unit"]
[null,null,null,null,{"$f":"E$47","v":2004},2005,2006,2007,2008,2009,2010,2011,2012,2013,2014,2015,2016,2017,2018,2019,2020,{"$f":"V$47","v":{"$error":"#REF!"}},{"$error":"#REF!"},{"$error":"#REF!"},{"$error":"#REF!"},{"$error":"#REF!"},{"$error":"#REF!"},{"$f":"EOMONTH(AA84,12)","v":{"$error":"#REF!"}},{"$f":"EOMONTH(AB84,12)","v":{"$error":"#REF!"}},{"$error":"#REF!"},{"$error":"#REF!"},{"$error":"#REF!"},{"$error":"#REF!"},{"$error":"#REF!"},{"$error":"#REF!"},{"$error":"#REF!"},{"$error":"#REF!"},{"$error":"#REF!"},{"$error":"#REF!"},{"$error":"#REF!"}]
[{"$f":"'RAB 2001 to 2004 N & E'!A$28","v":"Dedicated poles"},null,null,null,{"$f":"F185+F186/2","v":30.677615652070116},{"$f":"F186","v":0.92962471672939739},{"$f":"G186","v":0.92962471672939739},0.92962471672939739,0.92962471672939739,0.92962471672939739,0.92962471672939739,0.92962471672939739,0.92962471672939739,0.92962471672939739,0.92962471672939739,0.92962471672939739,0.92962471672939739,0.92962471672939739,0.92962471672939739,0.92962471672939739,0.92962471672939739,{"$f":"V186","v":0.4648123583646987},0.92962471672939739,0.92962471672939739,0.92962471672939739,0.92962471672939739,0.92962471672939739,{"$f":"AB186","v":0.92962471672939739},0.92962471672939739,0.92962471672939739,0.92962471672939739,0.92962471672939739,0.92962471672939739,0.92962471672939739,0.92962471672939739,0.92962471672939739,0.92962471672939739,0.92962471672939739,0.4648123583646987,0]
[{"$f":"'RAB 2001 to 2004 N & E'!A$33","v":"Brackets"},null,null,null,{"$f":"F199+F200/2","v":6.3551986004692136},{"$f":"F200","v":0.19258177577179436},{"$f":"G200","v":0.19258177577179436},0.19258177577179436,0.19258177577179436,0.19258177577179436,0.19258177577179436,0.19258177577179436,0.19258177577179436,0.19258177577179436,0.19258177577179436,0.19258177577179436,0.19258177577179436,0.19258177577179436,0.19258177577179436,0.19258177577179436,0.19258177577179436,{"$f":"V200","v":9.6290887885897181E-2},0.19258177577179436,0.19258177577179436,0.19258177577179436,0.19258177577179436,0.19258177577179436,{"$f":"AB200","v":0.19258177577179436},0.19258177577179436,0.19258177577179436,0.19258177577179436,0.19258177577179436,0.19258177577179436,0.19258177577179436,0.19258177577179436,0.19258177577179436,0.19258177577179436,0.19258177577179436,9.6290887885897181E-2,0]
[null,null,null,null,{"$f":"SUM(E85:E86)","v":37.032814252539332},{"$f":"SUM(F85:F86)","v":1.1222064925011916},{"$f":"SUM(G85:G86)","v":1.1222064925011916},1.1222064925011916,1.1222064925011916,1.1222064925011916,1.1222064925011916,1.1222064925011916,1.1222064925011916,1.1222064925011916,1.1222064925011916,1.1222064925011916,1.1222064925011916,1.1222064925011916,1.1222064925011916,1.1222064925011916,1.1222064925011916,{"$f":"SUM(V85:V86)","v":0.56110324625059582},1.1222064925011916,1.1222064925011916,1.1222064925011916,1.1222064925011916,1.1222064925011916,{"$f":"SUM(AB85:AB86)","v":1.1222064925011916},1.1222064925011916,1.1222064925011916,1.1222064925011916,1.1222064925011916,1.1222064925011916,1.1222064925011916,1.1222064925011916,1.1222064925011916,1.1222064925011916,1.1222064925011916,0.56110324625059582,0]
[]
[]
["Light Type",null,"Assumed",null,"Closing RAB","Depreciation"]
[null,null," 2004 Volumes",null,{"$f":"E$47","v":2004},2005,2006,2007,2008,2009,2010,2011,2012,2013,2014,2015,2016,2017,2018,2019,2020,{"$f":"V$47","v":{"$error":"#REF!"}},{"$error":"#REF!"},{"$error":"#REF!"},{"$error":"#REF!"},{"$error":"#REF!"},{"$error":"#REF!"},{"$f":"AB$84","v":{"$error":"#REF!"}},{"$error":"#REF!"},{"$error":"#REF!"},{"$error":"#REF!"},{"$error":"#REF!"},{"$error":"#REF!"},{"$error":"#REF!"},{"$error":"#REF!"},{"$error":"#REF!"},{"$error":"#REF!"},{"$error":"#REF!"},{"$error":"#REF!"},{"$error":"#REF!"}]
[{"$f":"#REF!","v":{"$error":"#REF!"}},null,{"$f":"C$55","v":28854.676729346738},null,{"$f":"E$87*$C92","v":1068569.8836349668},{"$f":"F$87*$C92","v":32380.90556469596},32380.90556469596,32380.90556469596,32380.90556469596,32380.90556469596,32380.90556469596,32380.90556469596,32380.90556469596,32380.90556469596,32380.90556469596,32380.90556469596,32380.90556469596,{"$f":"R$87*$C92","v":32380.90556469596},{"$f":"S$87*$C92","v":32380.90556469596},32380.90556469596,32380.90556469596,16190.45278234798,32380.90556469596,32380.90556469596,32380.90556469596,32380.90556469596,32380.90556469596,32380.90556469596,32380.90556469596,32380.90556469596,32380.90556469596,32380.90556469596,32380.90556469596,32380.90556469596,{"$f":"AI$87*$C92","v":32380.90556469596},32380.90556469596,32380.90556469596,32380.90556469596,16190.45278234798,0]
[{"$f":"#REF!","v":{"$error":"#REF!"}},null,{"$f":"C$56","v":4252.263490243743},null,{"$f":"E$87*$C93","v":157473.28398705114},4771.9176965773058,4771.9176965773058,4771.9176965773058,4771.9176965773058,4771.9176965773058,4771.9176965773058,4771.9176965773058,4771.9176965773058,4771.9176965773058,4771.9176965773058,4771.9176965773058,4771.9176965773058,{"$f":"R$87*$C93","v":4771.9176965773058},4771.9176965773058,4771.9176965773058,4771.9176965773058,2385.9588482886529,4771.9176965773058,4771.9176965773058,4771.9176965773058,4771.9176965773058,4771.9176965773058,{"$f":"AB$87*$C93","v":4771.9176965773058},4771.9176965773058,4771.9176965773058,4771.9176965773058,4771.9176965773058,4771.9176965773058,4771.9176965773058,4771.9176965773058,4771.9176965773058,4771.9176965773058,4771.9176965773058,2385.9588482886529,0]
[{"$f":"#REF!","v":{"$error":"#REF!"}},null,{"$f":"C$57","v":4329.4481153353427},null,{"$f":"E$87*$C94","v":160331.64787122022},4858.5347839763699,4858.5347839763699,4858.5347839763699,4858.5347839763699,4858.5347839763699,4858.5347839763699,4858.5347839763699,4858.5347839763699,4858.5347839763699,4858.5347839763699,4858.5347839763699,4858.5347839763699,{"$f":"R$87*$C94","v":4858.5347839763699},4858.5347839763699,4858.5347839763699,4858.5347839763699,2429.267391988185,4858.5347839763699,4858.5347839763699,4858.5347839763699,4858.5347839763699,4858.5347839763699,4858.5347839763699,4858.5347839763699,4858.5347839763699,4858.5347839763699,4858.5347839763699,4858.5347839763699,4858.5347839763699,4858.5347839763699,4858.5347839763699,4858.5347839763699,4858.5347839763699,2429.267391988185,0]
[{"$f":"#REF!","v":{"$error":"#REF!"}},null,{"$f":"C$58","v":546.38589867473945},null,{"$f":"E$87*#REF!*$C95","v":{"$error":"#REF!"}},{"$f":"F$87*#REF!*$C95","v":{"$error":"#REF!"}},{"$f":"G$87*#REF!*$C95","v":{"$error":"#REF!"}},{"$f":"H$87*#REF!*$C95","v":{"$error":"#REF!"}},{"$f":"I$87*#REF!*$C95","v":{"$error":"#REF!"}},{"$f":"J$87*#REF!*$C95","v":{"$error":"#REF!"}},{"$f":"K$87*#REF!*$C95","v":{"$error":"#REF!"}},{"$f":"L$87*#REF!*$C95","v":{"$error":"#REF!"}},{"$f":"M$87*#REF!*$C95","v":{"$error":"#REF!"}},{"$f":"N$87*#REF!*$C95","v":{"$error":"#REF!"}},{"$f":"O$87*#REF!*$C95","v":{"$error":"#REF!"}},{"$f":"P$87*#REF!*$C95","v":{"$error":"#REF!"}},{"$f":"Q$87*#REF!*$C95","v":{"$error":"#REF!"}},{"$f":"R$87*#REF!*$C95","v":{"$error":"#REF!"}},{"$f":"S$87*#REF!*$C95","v":{"$error":"#REF!"}},{"$f":"T$87*#REF!*$C95","v":{"$error":"#REF!"}},{"$f":"U$87*#REF!*$C95","v":{"$error":"#REF!"}},{"$f":"V$87*#REF!*$C95","v":{"$error":"#REF!"}},{"$f":"W$87*#REF!*$C95","v":{"$error":"#REF!"}},{"$f":"X$87*#REF!*$C95","v":{"$error":"#REF!"}},{"$f":"Y$87*#REF!*$C95","v":{"$error":"#REF!"}},{"$f":"Z$87*#REF!*$C95","v":{"$error":"#REF!"}},{"$f":"AA$87*#REF!*$C95","v":{"$error":"#REF!"}},{"$f":"AB$87*#REF!*$C95","v":{"$error":"#REF!"}},{"$f":"AC$87*#REF!*$C95","v":{"$error":"#REF!"}},{"$f":"AD$87*#REF!*$C95","v":{"$error":"#REF!"}},{"$f":"AE$87*#REF!*$C95","v":{"$error":"#REF!"}},{"$f":"AF$87*#REF!*$C95","v":{"$error":"#REF!"}},{"$f":"AG$87*#REF!*$C95","v":{"$error":"#REF!"}},{"$f":"AH$87*#REF!*$C95","v":{"$error":"#REF!"}},{"$f":"AI$87*#REF!*$C95","v":{"$error":"#REF!"}},{"$f":"AJ$87*#REF!*$C95","v":{"$error":"#REF!"}},{"$f":"AK$87*#REF!*$C95","v":{"$error":"#REF!"}},{"$f":"AL$87*#REF!*$C95","v":{"$error":"#REF!"}},{"$f":"AM$87*#REF!*$C95","v":{"$error":"#REF!"}},{"$f":"AN$87*#REF!*$C95","v":{"$error":"#REF!"}}]
[{"$f":"#REF!","v":{"$error":"#REF!"}},null,{"$f":"C$59","v":61.950817507730676},null,{"$f":"E$87*#REF!*$C96","v":{"$error":"#REF!"}},{"$f":"F$87*#REF!*$C96","v":{"$error":"#REF!"}},{"$f":"G$87*#REF!*$C96","v":{"$error":"#REF!"}},{"$f":"H$87*#REF!*$C96","v":{"$error":"#REF!"}},{"$f":"I$87*#REF!*$C96","v":{"$error":"#REF!"}},{"$f":"J$87*#REF!*$C96","v":{"$error":"#REF!"}},{"$f":"K$87*#REF!*$C96","v":{"$error":"#REF!"}},{"$f":"L$87*#REF!*$C96","v":{"$error":"#REF!"}},{"$f":"M$87*#REF!*$C96","v":{"$error":"#REF!"}},{"$f":"N$87*#REF!*$C96","v":{"$error":"#REF!"}},{"$f":"O$87*#REF!*$C96","v":{"$error":"#REF!"}},{"$f":"P$87*#REF!*$C96","v":{"$error":"#REF!"}},{"$f":"Q$87*#REF!*$C96","v":{"$error":"#REF!"}},{"$f":"R$87*#REF!*$C96","v":{"$error":"#REF!"}},{"$f":"S$87*#REF!*$C96","v":{"$error":"#REF!"}},{"$f":"T$87*#REF!*$C96","v":{"$error":"#REF!"}},{"$f":"U$87*#REF!*$C96","v":{"$error":"#REF!"}},{"$f":"V$87*#REF!*$C96","v":{"$error":"#REF!"}},{"$f":"W$87*#REF!*$C96","v":{"$error":"#REF!"}},{"$f":"X$87*#REF!*$C96","v":{"$error":"#REF!"}},{"$f":"Y$87*#REF!*$C96","v":{"$error":"#REF!"}},{"$f":"Z$87*#REF!*$C96","v":{"$error":"#REF!"}},{"$f":"AA$87*#REF!*$C96","v":{"$error":"#REF!"}},{"$f":"AB$87*#REF!*$C96","v":{"$error":"#REF!"}},{"$f":"AC$87*#REF!*$C96","v":{"$error":"#REF!"}},{"$f":"AD$87*#REF!*$C96","v":{"$error":"#REF!"}},{"$f":"AE$87*#REF!*$C96","v":{"$error":"#REF!"}},{"$f":"AF$87*#REF!*$C96","v":{"$error":"#REF!"}},{"$f":"AG$87*#REF!*$C96","v":{"$error":"#REF!"}},{"$f":"AH$87*#REF!*$C96","v":{"$error":"#REF!"}},{"$f":"AI$87*#REF!*$C96","v":{"$error":"#REF!"}},{"$f":"AJ$87*#REF!*$C96","v":{"$error":"#REF!"}},{"$f":"AK$87*#REF!*$C96","v":{"$error":"#REF!"}},{"$f":"AL$87*#REF!*$C96","v":{"$error":"#REF!"}},{"$f":"AM$87*#REF!*$C96","v":{"$error":"#REF!"}},{"$f":"AN$87*#REF!*$C96","v":{"$error":"#REF!"}}]
[{"$f":"#REF!","v":{"$error":"#REF!"}},null,{"$f":"C$60","v":450.92070448249871},null,{"$f":"E$87*#REF!*$C97","v":{"$error":"#REF!"}},{"$f":"F$87*#REF!*$C97","v":{"$error":"#REF!"}},{"$f":"G$87*#REF!*$C97","v":{"$error":"#REF!"}},{"$f":"H$87*#REF!*$C97","v":{"$error":"#REF!"}},{"$f":"I$87*#REF!*$C97","v":{"$error":"#REF!"}},{"$f":"J$87*#REF!*$C97","v":{"$error":"#REF!"}},{"$f":"K$87*#REF!*$C97","v":{"$error":"#REF!"}},{"$f":"L$87*#REF!*$C97","v":{"$error":"#REF!"}},{"$f":"M$87*#REF!*$C97","v":{"$error":"#REF!"}},{"$f":"N$87*#REF!*$C97","v":{"$error":"#REF!"}},{"$f":"O$87*#REF!*$C97","v":{"$error":"#REF!"}},{"$f":"P$87*#REF!*$C97","v":{"$error":"#REF!"}},{"$f":"Q$87*#REF!*$C97","v":{"$error":"#REF!"}},{"$f":"R$87*#REF!*$C97","v":{"$error":"#REF!"}},{"$f":"S$87*#REF!*$C97","v":{"$error":"#REF!"}},{"$f":"T$87*#REF!*$C97","v":{"$error":"#REF!"}},{"$f":"U$87*#REF!*$C97","v":{"$error":"#REF!"}},{"$f":"V$87*#REF!*$C97","v":{"$error":"#REF!"}},{"$f":"W$87*#REF!*$C97","v":{"$error":"#REF!"}},{"$f":"X$87*#REF!*$C97","v":{"$error":"#REF!"}},{"$f":"Y$87*#REF!*$C97","v":{"$error":"#REF!"}},{"$f":"Z$87*#REF!*$C97","v":{"$error":"#REF!"}},{"$f":"AA$87*#REF!*$C97","v":{"$error":"#REF!"}},{"$f":"AB$87*#REF!*$C97","v":{"$error":"#REF!"}},{"$f":"AC$87*#REF!*$C97","v":{"$error":"#REF!"}},{"$f":"AD$87*#REF!*$C97","v":{"$error":"#REF!"}},{"$f":"AE$87*#REF!*$C97","v":{"$error":"#REF!"}},{"$f":"AF$87*#REF!*$C97","v":{"$error":"#REF!"}},{"$f":"AG$87*#REF!*$C97","v":{"$error":"#REF!"}},{"$f":"AH$87*#REF!*$C97","v":{"$error":"#REF!"}},{"$f":"AI$87*#REF!*$C97","v":{"$error":"#REF!"}},{"$f":"AJ$87*#REF!*$C97","v":{"$error":"#REF!"}},{"$f":"AK$87*#REF!*$C97","v":{"$error":"#REF!"}},{"$f":"AL$87*#REF!*$C97","v":{"$error":"#REF!"}},{"$f":"AM$87*#REF!*$C97","v":{"$error":"#REF!"}},{"$f":"AN$87*#REF!*$C97","v":{"$error":"#REF!"}}]
[{"$f":"#REF!","v":{"$error":"#REF!"}},null,{"$f":"C$61","v":137.1042682548138},null,{"$f":"E$87*#REF!*$C98","v":{"$error":"#REF!"}},{"$f":"F$87*#REF!*$C98","v":{"$error":"#REF!"}},{"$f":"G$87*#REF!*$C98","v":{"$error":"#REF!"}},{"$f":"H$87*#REF!*$C98","v":{"$error":"#REF!"}},{"$f":"I$87*#REF!*$C98","v":{"$error":"#REF!"}},{"$f":"J$87*#REF!*$C98","v":{"$error":"#REF!"}},{"$f":"K$87*#REF!*$C98","v":{"$error":"#REF!"}},{"$f":"L$87*#REF!*$C98","v":{"$error":"#REF!"}},{"$f":"M$87*#REF!*$C98","v":{"$error":"#REF!"}},{"$f":"N$87*#REF!*$C98","v":{"$error":"#REF!"}},{"$f":"O$87*#REF!*$C98","v":{"$error":"#REF!"}},{"$f":"P$87*#REF!*$C98","v":{"$error":"#REF!"}},{"$f":"Q$87*#REF!*$C98","v":{"$error":"#REF!"}},{"$f":"R$87*#REF!*$C98","v":{"$error":"#REF!"}},{"$f":"S$87*#REF!*$C98","v":{"$error":"#REF!"}},{"$f":"T$87*#REF!*$C98","v":{"$error":"#REF!"}},{"$f":"U$87*#REF!*$C98","v":{"$error":"#REF!"}},{"$f":"V$87*#REF!*$C98","v":{"$error":"#REF!"}},{"$f":"W$87*#REF!*$C98","v":{"$error":"#REF!"}},{"$f":"X$87*#REF!*$C98","v":{"$error":"#REF!"}},{"$f":"Y$87*#REF!*$C98","v":{"$error":"#REF!"}},{"$f":"Z$87*#REF!*$C98","v":{"$error":"#REF!"}},{"$f":"AA$87*#REF!*$C98","v":{"$error":"#REF!"}},{"$f":"AB$87*#REF!*$C98","v":{"$error":"#REF!"}},{"$f":"AC$87*#REF!*$C98","v":{"$error":"#REF!"}},{"$f":"AD$87*#REF!*$C98","v":{"$error":"#REF!"}},{"$f":"AE$87*#REF!*$C98","v":{"$error":"#REF!"}},{"$f":"AF$87*#REF!*$C98","v":{"$error":"#REF!"}},{"$f":"AG$87*#REF!*$C98","v":{"$error":"#REF!"}},{"$f":"AH$87*#REF!*$C98","v":{"$error":"#REF!"}},{"$f":"AI$87*#REF!*$C98","v":{"$error":"#REF!"}},{"$f":"AJ$87*#REF!*$C98","v":{"$error":"#REF!"}},{"$f":"AK$87*#REF!*$C98","v":{"$error":"#REF!"}},{"$f":"AL$87*#REF!*$C98","v":{"$error":"#REF!"}},{"$f":"AM$87*#REF!*$C98","v":{"$error":"#REF!"}},{"$f":"AN$87*#REF!*$C98","v":{"$error":"#REF!"}}]
[{"$f":"#REF!","v":{"$error":"#REF!"}},null,{"$f":"C$62","v":92.418432675467074},null,{"$f":"E$87*#REF!*$C99","v":{"$error":"#REF!"}},{"$f":"F$87*#REF!*$C99","v":{"$error":"#REF!"}},{"$f":"G$87*#REF!*$C99","v":{"$error":"#REF!"}},{"$f":"H$87*#REF!*$C99","v":{"$error":"#REF!"}},{"$f":"I$87*#REF!*$C99","v":{"$error":"#REF!"}},{"$f":"J$87*#REF!*$C99","v":{"$error":"#REF!"}},{"$f":"K$87*#REF!*$C99","v":{"$error":"#REF!"}},{"$f":"L$87*#REF!*$C99","v":{"$error":"#REF!"}},{"$f":"M$87*#REF!*$C99","v":{"$error":"#REF!"}},{"$f":"N$87*#REF!*$C99","v":{"$error":"#REF!"}},{"$f":"O$87*#REF!*$C99","v":{"$error":"#REF!"}},{"$f":"P$87*#REF!*$C99","v":{"$error":"#REF!"}},{"$f":"Q$87*#REF!*$C99","v":{"$error":"#REF!"}},{"$f":"R$87*#REF!*$C99","v":{"$error":"#REF!"}},{"$f":"S$87*#REF!*$C99","v":{"$error":"#REF!"}},{"$f":"T$87*#REF!*$C99","v":{"$error":"#REF!"}},{"$f":"U$87*#REF!*$C99","v":{"$error":"#REF!"}},{"$f":"V$87*#REF!*$C99","v":{"$error":"#REF!"}},{"$f":"W$87*#REF!*$C99","v":{"$error":"#REF!"}},{"$f":"X$87*#REF!*$C99","v":{"$error":"#REF!"}},{"$f":"Y$87*#REF!*$C99","v":{"$error":"#REF!"}},{"$f":"Z$87*#REF!*$C99","v":{"$error":"#REF!"}},{"$f":"AA$87*#REF!*$C99","v":{"$error":"#REF!"}},{"$f":"AB$87*#REF!*$C99","v":{"$error":"#REF!"}},{"$f":"AC$87*#REF!*$C99","v":{"$error":"#REF!"}},{"$f":"AD$87*#REF!*$C99","v":{"$error":"#REF!"}},{"$f":"AE$87*#REF!*$C99","v":{"$error":"#REF!"}},{"$f":"AF$87*#REF!*$C99","v":{"$error":"#REF!"}},{"$f":"AG$87*#REF!*$C99","v":{"$error":"#REF!"}},{"$f":"AH$87*#REF!*$C99","v":{"$error":"#REF!"}},{"$f":"AI$87*#REF!*$C99","v":{"$error":"#REF!"}},{"$f":"AJ$87*#REF!*$C99","v":{"$error":"#REF!"}},{"$f":"AK$87*#REF!*$C99","v":{"$error":"#REF!"}},{"$f":"AL$87*#REF!*$C99","v":{"$error":"#REF!"}},{"$f":"AM$87*#REF!*$C99","v":{"$error":"#REF!"}},{"$f":"AN$87*#REF!*$C99","v":{"$error":"#REF!"}}]
[{"$f":"#REF!","v":{"$error":"#REF!"}},null,{"$f":"C$63","v":282.33323388769065},null,{"$f":"E$87*#REF!*$C100","v":{"$error":"#REF!"}},{"$f":"F$87*#REF!*$C100","v":{"$error":"#REF!"}},{"$f":"G$87*#REF!*$C100","v":{"$error":"#REF!"}},{"$f":"H$87*#REF!*$C100","v":{"$error":"#REF!"}},{"$f":"I$87*#REF!*$C100","v":{"$error":"#REF!"}},{"$f":"J$87*#REF!*$C100","v":{"$error":"#REF!"}},{"$f":"K$87*#REF!*$C100","v":{"$error":"#REF!"}},{"$f":"L$87*#REF!*$C100","v":{"$error":"#REF!"}},{"$f":"M$87*#REF!*$C100","v":{"$error":"#REF!"}},{"$f":"N$87*#REF!*$C100","v":{"$error":"#REF!"}},{"$f":"O$87*#REF!*$C100","v":{"$error":"#REF!"}},{"$f":"P$87*#REF!*$C100","v":{"$error":"#REF!"}},{"$f":"Q$87*#REF!*$C100","v":{"$error":"#REF!"}},{"$f":"R$87*#REF!*$C100","v":{"$error":"#REF!"}},{"$f":"S$87*#REF!*$C100","v":{"$error":"#REF!"}},{"$f":"T$87*#REF!*$C100","v":{"$error":"#REF!"}},{"$f":"U$87*#REF!*$C100","v":{"$error":"#REF!"}},{"$f":"V$87*#REF!*$C100","v":{"$error":"#REF!"}},{"$f":"W$87*#REF!*$C100","v":{"$error":"#REF!"}},{"$f":"X$87*#REF!*$C100","v":{"$error":"#REF!"}},{"$f":"Y$87*#REF!*$C100","v":{"$error":"#REF!"}},{"$f":"Z$87*#REF!*$C100","v":{"$error":"#REF!"}},{"$f":"AA$87*#REF!*$C100","v":{"$error":"#REF!"}},{"$f":"AB$87*#REF!*$C100","v":{"$error":"#REF!"}},{"$f":"AC$87*#REF!*$C100","v":{"$error":"#REF!"}},{"$f":"AD$87*#REF!*$C100","v":{"$error":"#REF!"}},{"$f":"AE$87*#REF!*$C100","v":{"$error":"#REF!"}},{"$f":"AF$87*#REF!*$C100","v":{"$error":"#REF!"}},{"$f":"AG$87*#REF!*$C100","v":{"$error":"#REF!"}},{"$f":"AH$87*#REF!*$C100","v":{"$error":"#REF!"}},{"$f":"AI$87*#REF!*$C100","v":{"$error":"#REF!"}},{"$f":"AJ$87*#REF!*$C100","v":{"$error":"#REF!"}},{"$f":"AK$87*#REF!*$C100","v":{"$error":"#REF!"}},{"$f":"AL$87*#REF!*$C100","v":{"$error":"#REF!"}},{"$f":"AM$87*#REF!*$C100","v":{"$error":"#REF!"}},{"$f":"AN$87*#REF!*$C100","v":{"$error":"#REF!"}}]
[]
[]
[]
[]
[]
[]
[]
[]
[]
[]
[]
[]
[]
[null,null,null,null,{"$f":"SUM(E92:E113)","v":{"$error":"#REF!"}},{"$f":"SUM(F92:F113)","v":{"$error":"#REF!"}},{"$error":"#REF!"},{"$error":"#REF!"},{"$error":"#REF!"},{"$error":"#REF!"},{"$error":"#REF!"},{"$error":"#REF!"},{"$error":"#REF!"},{"$error":"#REF!"},{"$error":"#REF!"},{"$error":"#REF!"},{"$error":"#REF!"},{"$f":"SUM(R92:R113)","v":{"$error":"#REF!"}},{"$f":"SUM(S92:S113)","v":{"$error":"#REF!"}},{"$f":"SUM(T92:T113)","v":{"$error":"#REF!"}},{"$f":"SUM(U92:U113)","v":{"$error":"#REF!"}},{"$f":"SUM(V92:V113)","v":{"$error":"#REF!"}},{"$error":"#REF!"},{"$error":"#REF!"},{"$error":"#REF!"},{"$error":"#REF!"},{"$error":"#REF!"},{"$f":"SUM(AB92:AB113)","v":{"$error":"#REF!"}},{"$error":"#REF!"},{"$error":"#REF!"},{"$error":"#REF!"},{"$error":"#REF!"},{"$error":"#REF!"},{"$error":"#REF!"},{"$error":"#REF!"},{"$error":"#REF!"},{"$error":"#REF!"},{"$error":"#REF!"},{"$error":"#REF!"},{"$error":"#REF!"}]
[]
["WDV",null,null,null,{"$f":"E114","v":{"$error":"#REF!"}},{"$f":"E116-F114","v":{"$error":"#REF!"}},{"$f":"F116-G114","v":{"$error":"#REF!"}},{"$error":"#REF!"},{"$error":"#REF!"},{"$error":"#REF!"},{"$error":"#REF!"},{"$error":"#REF!"},{"$error":"#REF!"},{"$error":"#REF!"},{"$error":"#REF!"},{"$error":"#REF!"},{"$error":"#REF!"},{"$error":"#REF!"},{"$error":"#REF!"},{"$error":"#REF!"},{"$error":"#REF!"},{"$error":"#REF!"},{"$error":"#REF!"},{"$error":"#REF!"},{"$error":"#REF!"},{"$error":"#REF!"},{"$error":"#REF!"},{"$error":"#REF!"},{"$error":"#REF!"},{"$error":"#REF!"},{"$error":"#REF!"},{"$error":"#REF!"},{"$error":"#REF!"},{"$error":"#REF!"},{"$error":"#REF!"},{"$error":"#REF!"},{"$error":"#REF!"},{"$error":"#REF!"},{"$error":"#REF!"},{"$error":"#REF!"}]
[]
[]
[]
[]
["Detailed calculations"]
[]
[]
["DEPRECIATION PROFILE"]
["Year Counter",1,{"$f":"B125+1","v":2},3,4,5,6,7,8,9,10,11,12,13,14,15,16,17,18,19,20,{"$f":"U125+0.5","v":20.5},21.5,22.5,23.5,24.5,25.5,26.5,27.5,28.5,29.5,30.5,31.5,32.5,33.5,34.5,35.5,36.5,37.5,38.5]
["Numerator",2001,{"$f":"B126+1","v":2002},2003,2004,2005,2006,2007,2008,2009,2010,2011,2012,2013,2014,2015,2016,2017,2018,2019,2020,{"$f":"V$91","v":{"$error":"#REF!"}},{"$f":"W$91","v":{"$error":"#REF!"}},{"$f":"X$91","v":{"$error":"#REF!"}},{"$error":"#REF!"},{"$error":"#REF!"},{"$error":"#REF!"},{"$error":"#REF!"},{"$error":"#REF!"},{"$error":"#REF!"},{"$error":"#REF!"},{"$error":"#REF!"},{"$error":"#REF!"},{"$error":"#REF!"},{"$error":"#REF!"},{"$error":"#REF!"},{"$error":"#REF!"},{"$error":"#REF!"},{"$error":"#REF!"},{"$error":"#REF!"}]
[{"$f":"'Inputs PL Final Decision 2004'!$A$65","v":"20 year asset life"},10,29,47,64,{"$f":"E127+10-4","v":70},{"$f":"F127-4","v":66},{"$f":"IF(G127-4<0,0,G127-4)","v":62},58,54,50,46,42,38,34,30,26,22,18,14,10,{"$f":"IF(U127-4<0,0,U127-2)","v":8},{"$f":"IF(V127-4<0,0,V127-4)","v":4},{"$f":"IF(W127-2<0,0,W127-2)","v":2},{"$f":"IF(X127-2<0,0,X127-2)","v":0},0,0,0,0,0,0,0,0,0,0,0,0,0,0,0]
[]
[{"$f":"'Inputs PL Final Decision 2004'!$A$74","v":"35 year asset life"},17.5,51.5,84.5,116.5,{"$f":"E129+17.5-4","v":130},{"$f":"F129-4","v":126},{"$f":"IF(G129-4<0,0,G129-4)","v":122},118,114,110,106,102,98,94,90,86,82,78,74,70,{"$f":"IF(U129-2<0,0,U129-2)","v":68},64,60,56,52,48,44,40,36,32,28,24,20,16,{"$f":"IF(AI129-1<0,0,AI129-4)","v":12},{"$f":"IF(AJ129-4<0,0,AJ129-4)","v":8},{"$f":"IF(AK129-4<0,0,AK129-4)","v":4},{"$f":"IF(AL129-2<0,0,AL129-2)","v":2},{"$f":"IF(AM129-2<0,0,AM129-2)","v":0}]
[]
[]
[]
[]
["MV 80",null,null,{"$f":"'Inputs PL Final Decision 2004'!$B$88","v":"Location of selected public lighting assets within distributors' areas (%)"},null,null,null,null,null,{"$f":"'Inputs PL Final Decision 2004'!$B$107","v":"Proportion of lights installed at 1 January 2001 (%)"}]
["Luminaire",null,null,{"$f":"'Inputs PL Final Decision 2004'!$B$92","v":"CitiPower"},{"$f":"IF($A$1='Inputs PL Final Decision 2004'!$A$123,'Inputs PL Final Decision 2004'!$C$92,IF($A$1='Inputs PL Final Decision 2004'!$A$124,'Inputs PL Final Decision 2004'!$D$92,IF($A$1='Inputs PL Final Decision 2004'!$A$125,'Inputs PL Final Decision 2004'!$E$92,IF($A$1='Inputs PL Final Decision 2004'!$A$126,'Inputs PL Final Decision 2004'!$F$92,IF($A$1='Inputs PL Final Decision 2004'!$A$127,'Inputs PL Final Decision 2004'!$G$92,'Inputs PL Final Decision 2004'!$H$92)))))","v":0},null,null,null,null,{"$f":"IF($A$1='Inputs PL Final Decision 2004'!$A$123,'Inputs PL Final Decision 2004'!$C$110,IF($A$1='Inputs PL Final Decision 2004'!$A$124,'Inputs PL Final Decision 2004'!$D$110,IF($A$1='Inputs PL Final Decision 2004'!$A$125,'Inputs PL Final Decision 2004'!$E$110,IF($A$1='Inputs PL Final Decision 2004'!$A$126,'Inputs PL Final Decision 2004'!$F$110,IF($A$1='Inputs PL Final Decision 2004'!$A$127,'Inputs PL Final Decision 2004'!$G$110,'Inputs PL Final Decision 2004'!$H$110)))))","v":0.88441954863731531}]
["Capital cost",{"$f":"($F$214*E135+$L$214*E136+$R$214*E137+$X$214*E138)*J135","v":234.8204217238206},null,{"$f":"'Inputs PL Final Decision 2004'!$B$93","v":"Urban"},{"$f":"IF($A$1='Inputs PL Final Decision 2004'!$A$123,'Inputs PL Final Decision 2004'!$C$93,IF($A$1='Inputs PL Final Decision 2004'!$A$124,'Inputs PL Final Decision 2004'!$D$93,IF($A$1='Inputs PL Final Decision 2004'!$A$125,'Inputs PL Final Decision 2004'!$E$93,IF($A$1='Inputs PL Final Decision 2004'!$A$126,'Inputs PL Final Decision 2004'!$F$93,IF($A$1='Inputs PL Final Decision 2004'!$A$127,'Inputs PL Final Decision 2004'!$G$93,'Inputs PL Final Decision 2004'!$H$93)))))","v":0.35}]
[{"$f":"'Inputs PL Final Decision 2004'!$A$20","v":"Depreciation period"},{"$f":"'Inputs PL Final Decision 2004'!$B$20","v":20},null,{"$f":"'Inputs PL Final Decision 2004'!$B$94","v":"Rural"},{"$f":"IF($A$1='Inputs PL Final Decision 2004'!$A$123,'Inputs PL Final Decision 2004'!$C$94,IF($A$1='Inputs PL Final Decision 2004'!$A$124,'Inputs PL Final Decision 2004'!$D$94,IF($A$1='Inputs PL Final Decision 2004'!$A$125,'Inputs PL Final Decision 2004'!$E$94,IF($A$1='Inputs PL Final Decision 2004'!$A$126,'Inputs PL Final Decision 2004'!$F$94,IF($A$1='Inputs PL Final Decision 2004'!$A$127,'Inputs PL Final Decision 2004'!$G$94,'Inputs PL Final Decision 2004'!$H$94)))))","v":0.53}]
[{"$f":"'Inputs PL Final Decision 2004'!$A$16","v":"Number of years from 1 January 2001"},{"$f":"'Inputs PL Final Decision 2004'!$B$16","v":4},null,{"$f":"'Inputs PL Final Decision 2004'!$B$95","v":"Remote"},{"$f":"IF($A$1='Inputs PL Final Decision 2004'!$A$123,'Inputs PL Final Decision 2004'!$C$95,IF($A$1='Inputs PL Final Decision 2004'!$A$124,'Inputs PL Final Decision 2004'!$D$95,IF($A$1='Inputs PL Final Decision 2004'!$A$125,'Inputs PL Final Decision 2004'!$E$95,IF($A$1='Inputs PL Final Decision 2004'!$A$126,'Inputs PL Final Decision 2004'!$F$95,IF($A$1='Inputs PL Final Decision 2004'!$A$127,'Inputs PL Final Decision 2004'!$G$95,'Inputs PL Final Decision 2004'!$H$95)))))","v":0.12}]
[]
[]
[]
[null,null,null,null,2004,{"$f":"E142+1","v":2005},2006,2007,2008,2009,2010,2011,2012,2013,2014,2015,{"$f":"P142+1","v":2016},{"$f":"Q142+1","v":2017},{"$f":"R142+1","v":2018},{"$f":"S142+1","v":2019},{"$f":"T142+1","v":2020},{"$f":"V$91","v":{"$error":"#REF!"}},{"$f":"W$91","v":{"$error":"#REF!"}},{"$f":"X$91","v":{"$error":"#REF!"}},{"$error":"#REF!"},{"$error":"#REF!"},{"$error":"#REF!"},{"$error":"#REF!"},{"$error":"#REF!"},{"$error":"#REF!"},{"$error":"#REF!"},{"$error":"#REF!"},{"$error":"#REF!"},{"$error":"#REF!"},{"$error":"#REF!"},{"$error":"#REF!"},{"$error":"#REF!"},{"$error":"#REF!"},{"$error":"#REF!"},{"$error":"#REF!"}]
["RAB for Return",null,null,null,{"$f":"E$127/$B137*$B136/$B137","v":37.571267475811297},41.093573801668605,38.745369584430399,36.397165367192194,34.048961149953989,31.700756932715784,29.352552715477579,27.00434849823937,24.656144281001165,22.307940063762956,19.959735846524751,17.611531629286546,{"$f":"Q$127/$B137*$B136/$B137","v":15.263327412048341},12.915123194810135,10.566918977571927,8.2187147603337216,5.8705105430955147,4.6964084344764121,2.348204217238206,1.174102108619103,0,0,0,0,0,0,0,0,0,0,0,0,0,0,0,0]
["Depreciation",null,null,null,{"$f":"IF(E143=0,0,$B$136*$B$138/$B$137/$B$137)","v":2.348204217238206},2.348204217238206,2.348204217238206,2.348204217238206,2.348204217238206,2.348204217238206,2.348204217238206,2.348204217238206,2.348204217238206,2.348204217238206,2.348204217238206,2.348204217238206,{"$f":"IF(Q143=0,0,$B$136*$B$138/$B$137/$B$137)","v":2.348204217238206},{"$f":"IF(R143=0,0,$B$136*$B$138/$B$137/$B$137)","v":2.348204217238206},{"$f":"IF(S143=0,0,$B$136*$B$138/$B$137/$B$137)","v":2.348204217238206},{"$f":"IF(T143=0,0,$B$136*$B$138/$B$137/$B$137)","v":2.348204217238206},{"$f":"IF(U143=0,0,$B$136*$B$138/$B$137/$B$137)","v":2.348204217238206},{"$f":"IF(V143=0,0,$B$136*$B$138/$B$137/$B$137)*0.5","v":1.174102108619103},{"$f":"IF(W143=0,0,$B$136*$B$138/$B$137/$B$137)","v":2.348204217238206},{"$f":"IF(X143=0,0,$B$136*$B$138/$B$137/$B$137)*0.5","v":1.174102108619103},{"$f":"IF(Y143=0,0,$B$136*$B$138/$B$137/$B$137)","v":0},0,0,0,0,0,0,0,0,0,0,0,0,0,0,0]
[]
[]
[]
["S-HP 150 ",null,null,{"$f":"'Inputs PL Final Decision 2004'!$B$88","v":"Location of selected public lighting assets within distributors' areas (%)"},null,null,null,null,null,{"$f":"'Inputs PL Final Decision 2004'!$B$107","v":"Proportion of lights installed at 1 January 2001 (%)"}]
["Luminaire",null,null,{"$f":"'Inputs PL Final Decision 2004'!$B$92","v":"CitiPower"},{"$f":"IF($A$1='Inputs PL Final Decision 2004'!$A$123,'Inputs PL Final Decision 2004'!$C$97,IF($A$1='Inputs PL Final Decision 2004'!$A$124,'Inputs PL Final Decision 2004'!$D$97,IF($A$1='Inputs PL Final Decision 2004'!$A$125,'Inputs PL Final Decision 2004'!$E$97,IF($A$1='Inputs PL Final Decision 2004'!$A$126,'Inputs PL Final Decision 2004'!$F$97,IF($A$1='Inputs PL Final Decision 2004'!$A$127,'Inputs PL Final Decision 2004'!$G$97,'Inputs PL Final Decision 2004'!$H$97)))))","v":0},null,null,null,null,{"$f":"IF($A$1='Inputs PL Final Decision 2004'!$A$123,'Inputs PL Final Decision 2004'!$C$111,IF($A$1='Inputs PL Final Decision 2004'!$A$124,'Inputs PL Final Decision 2004'!$D$111,IF($A$1='Inputs PL Final Decision 2004'!$A$125,'Inputs PL Final Decision 2004'!$E$111,IF($A$1='Inputs PL Final Decision 2004'!$A$126,'Inputs PL Final Decision 2004'!$F$111,IF($A$1='Inputs PL Final Decision 2004'!$A$127,'Inputs PL Final Decision 2004'!$G$111,'Inputs PL Final Decision 2004'!$H$111)))))","v":0.92717784022480954}]
["Capital cost",{"$f":"($F$220*E149+$L$220*E150+$R$220*E151+$X$220*E152)*J149","v":276.55624098724644},null,{"$f":"'Inputs PL Final Decision 2004'!$B$93","v":"Urban"},{"$f":"IF($A$1='Inputs PL Final Decision 2004'!$A$123,'Inputs PL Final Decision 2004'!$C$98,IF($A$1='Inputs PL Final Decision 2004'!$A$124,'Inputs PL Final Decision 2004'!$D$98,IF($A$1='Inputs PL Final Decision 2004'!$A$125,'Inputs PL Final Decision 2004'!$E$98,IF($A$1='Inputs PL Final Decision 2004'!$A$126,'Inputs PL Final Decision 2004'!$F$98,IF($A$1='Inputs PL Final Decision 2004'!$A$127,'Inputs PL Final Decision 2004'!$G$98,'Inputs PL Final Decision 2004'!$H$98)))))","v":0.3}]
[{"$f":"'Inputs PL Final Decision 2004'!$A$20","v":"Depreciation period"},{"$f":"'Inputs PL Final Decision 2004'!$B$30","v":20},null,{"$f":"'Inputs PL Final Decision 2004'!$B$94","v":"Rural"},{"$f":"IF($A$1='Inputs PL Final Decision 2004'!$A$123,'Inputs PL Final Decision 2004'!$C$99,IF($A$1='Inputs PL Final Decision 2004'!$A$124,'Inputs PL Final Decision 2004'!$D$99,IF($A$1='Inputs PL Final Decision 2004'!$A$125,'Inputs PL Final Decision 2004'!$E$99,IF($A$1='Inputs PL Final Decision 2004'!$A$126,'Inputs PL Final Decision 2004'!$F$99,IF($A$1='Inputs PL Final Decision 2004'!$A$127,'Inputs PL Final Decision 2004'!$G$99,'Inputs PL Final Decision 2004'!$H$99)))))","v":0.63}]
[{"$f":"'Inputs PL Final Decision 2004'!$A$16","v":"Number of years from 1 January 2001"},{"$f":"'Inputs PL Final Decision 2004'!$B$16","v":4},null,{"$f":"'Inputs PL Final Decision 2004'!$B$95","v":"Remote"},{"$f":"IF($A$1='Inputs PL Final Decision 2004'!$A$123,'Inputs PL Final Decision 2004'!$C$100,IF($A$1='Inputs PL Final Decision 2004'!$A$124,'Inputs PL Final Decision 2004'!$D$100,IF($A$1='Inputs PL Final Decision 2004'!$A$125,'Inputs PL Final Decision 2004'!$E$100,IF($A$1='Inputs PL Final Decision 2004'!$A$126,'Inputs PL Final Decision 2004'!$F$100,IF($A$1='Inputs PL Final Decision 2004'!$A$127,'Inputs PL Final Decision 2004'!$G$100,'Inputs PL Final Decision 2004'!$H$100)))))","v":7.0000000000000007E-2}]
[]
[]
[]
[null,null,null,null,2004,{"$f":"E156+1","v":2005},2006,2007,2008,2009,2010,2011,2012,2013,2014,2015,{"$f":"P156+1","v":2016},{"$f":"Q156+1","v":2017},{"$f":"R156+1","v":2018},{"$f":"S156+1","v":2019},{"$f":"T156+1","v":2020},{"$f":"V$91","v":{"$error":"#REF!"}},{"$f":"W$91","v":{"$error":"#REF!"}},{"$f":"X$91","v":{"$error":"#REF!"}},{"$error":"#REF!"},{"$error":"#REF!"},{"$error":"#REF!"},{"$error":"#REF!"},{"$error":"#REF!"},{"$error":"#REF!"},{"$error":"#REF!"},{"$error":"#REF!"},{"$error":"#REF!"},{"$error":"#REF!"},{"$error":"#REF!"},{"$error":"#REF!"},{"$error":"#REF!"},{"$error":"#REF!"},{"$error":"#REF!"},{"$error":"#REF!"}]
["RAB for Return",null,null,null,{"$f":"E$127/$B151*$B150/$B151","v":44.248998557959432},48.397342172768127,45.631779762895661,42.866217353023202,40.10065494315073,37.335092533278271,34.569530123405805,31.803967713533336,29.038405303660873,26.272842893788415,23.507280483915945,20.741718074043483,{"$f":"Q$127/$B151*$B150/$B151","v":17.976155664171021},15.210593254298555,12.445030844426089,9.679468434553625,6.913906024681161,5.531124819744929,2.7655624098724645,1.3827812049362322,0,0,0,0,0,0,0,0,0,0,0,0,0,0,0,0]
["Depreciation",null,null,null,{"$f":"IF(E157=0,0,$B$150*$B$152/$B$151/$B$151)","v":2.7655624098724645},2.7655624098724645,2.7655624098724645,2.7655624098724645,2.7655624098724645,2.7655624098724645,2.7655624098724645,2.7655624098724645,2.7655624098724645,2.7655624098724645,2.7655624098724645,2.7655624098724645,{"$f":"IF(Q157=0,0,$B$150*$B$152/$B$151/$B$151)","v":2.7655624098724645},{"$f":"IF(R157=0,0,$B$150*$B$152/$B$151/$B$151)","v":2.7655624098724645},{"$f":"IF(S157=0,0,$B$150*$B$152/$B$151/$B$151)","v":2.7655624098724645},{"$f":"IF(T157=0,0,$B$150*$B$152/$B$151/$B$151)","v":2.7655624098724645},{"$f":"IF(U157=0,0,$B$150*$B$152/$B$151/$B$151)","v":2.7655624098724645},{"$f":"IF(V157=0,0,$B$150*$B$152/$B$151/$B$151)*0.5","v":1.3827812049362322},{"$f":"IF(W157=0,0,$B$150*$B$152/$B$151/$B$151)","v":2.7655624098724645},{"$f":"IF(X157=0,0,$B$150*$B$152/$B$151/$B$151)*0.5","v":1.3827812049362322},{"$f":"IF(Y157=0,0,$B$150*$B$152/$B$151/$B$151)","v":0},0,0,0,0,0,0,0,0,0,0,0,0,0,0,0]
[]
[]
[]
["S-HP 250 ",null,null,{"$f":"'Inputs PL Final Decision 2004'!$B$88","v":"Location of selected public lighting assets within distributors' areas (%)"},null,null,null,null,null,{"$f":"'Inputs PL Final Decision 2004'!$B$107","v":"Proportion of lights installed at 1 January 2001 (%)"}]
["Luminaire",null,null,{"$f":"'Inputs PL Final Decision 2004'!$B$92","v":"CitiPower"},{"$f":"IF($A$1='Inputs PL Final Decision 2004'!$A$123,'Inputs PL Final Decision 2004'!$C$102,IF($A$1='Inputs PL Final Decision 2004'!$A$124,'Inputs PL Final Decision 2004'!$D$102,IF($A$1='Inputs PL Final Decision 2004'!$A$125,'Inputs PL Final Decision 2004'!$E$102,IF($A$1='Inputs PL Final Decision 2004'!$A$126,'Inputs PL Final Decision 2004'!$F$102,IF($A$1='Inputs PL Final Decision 2004'!$A$127,'Inputs PL Final Decision 2004'!$G$102,'Inputs PL Final Decision 2004'!$H$102)))))","v":0},null,null,null,null,{"$f":"IF($A$1='Inputs PL Final Decision 2004'!$A$123,'Inputs PL Final Decision 2004'!$C$112,IF($A$1='Inputs PL Final Decision 2004'!$A$124,'Inputs PL Final Decision 2004'!$D$112,IF($A$1='Inputs PL Final Decision 2004'!$A$125,'Inputs PL Final Decision 2004'!$E$112,IF($A$1='Inputs PL Final Decision 2004'!$A$126,'Inputs PL Final Decision 2004'!$F$112,IF($A$1='Inputs PL Final Decision 2004'!$A$127,'Inputs PL Final Decision 2004'!$G$112,'Inputs PL Final Decision 2004'!$H$112)))))","v":0.93238356164383573}]
["Capital cost",{"$f":"($F$226*E163+$L$226*E164+$R$226*E165+$X$226*E166)*J163","v":278.59346925281352},null,{"$f":"'Inputs PL Final Decision 2004'!$B$93","v":"Urban"},{"$f":"IF($A$1='Inputs PL Final Decision 2004'!$A$123,'Inputs PL Final Decision 2004'!$C$103,IF($A$1='Inputs PL Final Decision 2004'!$A$124,'Inputs PL Final Decision 2004'!$D$103,IF($A$1='Inputs PL Final Decision 2004'!$A$125,'Inputs PL Final Decision 2004'!$E$103,IF($A$1='Inputs PL Final Decision 2004'!$A$126,'Inputs PL Final Decision 2004'!$F$103,IF($A$1='Inputs PL Final Decision 2004'!$A$127,'Inputs PL Final Decision 2004'!$G$103,'Inputs PL Final Decision 2004'!$H$103)))))","v":0.37}]
[{"$f":"'Inputs PL Final Decision 2004'!$A$20","v":"Depreciation period"},{"$f":"'Inputs PL Final Decision 2004'!$B$41","v":20},null,{"$f":"'Inputs PL Final Decision 2004'!$B$94","v":"Rural"},{"$f":"IF($A$1='Inputs PL Final Decision 2004'!$A$123,'Inputs PL Final Decision 2004'!$C$104,IF($A$1='Inputs PL Final Decision 2004'!$A$124,'Inputs PL Final Decision 2004'!$D$104,IF($A$1='Inputs PL Final Decision 2004'!$A$125,'Inputs PL Final Decision 2004'!$E$104,IF($A$1='Inputs PL Final Decision 2004'!$A$126,'Inputs PL Final Decision 2004'!$F$104,IF($A$1='Inputs PL Final Decision 2004'!$A$127,'Inputs PL Final Decision 2004'!$G$104,'Inputs PL Final Decision 2004'!$H$104)))))","v":0.56999999999999995}]
[{"$f":"'Inputs PL Final Decision 2004'!$A$16","v":"Number of years from 1 January 2001"},{"$f":"'Inputs PL Final Decision 2004'!$B$16","v":4},null,{"$f":"'Inputs PL Final Decision 2004'!$B$95","v":"Remote"},{"$f":"IF($A$1='Inputs PL Final Decision 2004'!$A$123,'Inputs PL Final Decision 2004'!$C$105,IF($A$1='Inputs PL Final Decision 2004'!$A$124,'Inputs PL Final Decision 2004'!$D$105,IF($A$1='Inputs PL Final Decision 2004'!$A$125,'Inputs PL Final Decision 2004'!$E$105,IF($A$1='Inputs PL Final Decision 2004'!$A$126,'Inputs PL Final Decision 2004'!$F$105,IF($A$1='Inputs PL Final Decision 2004'!$A$127,'Inputs PL Final Decision 2004'!$G$105,'Inputs PL Final Decision 2004'!$H$105)))))","v":0.06}]
[]
[]
[]
[null,null,null,null,2004,{"$f":"E170+1","v":2005},2006,2007,2008,2009,2010,2011,2012,2013,2014,2015,{"$f":"P170+1","v":2016},{"$f":"Q170+1","v":2017},{"$f":"R170+1","v":2018},{"$f":"S170+1","v":2019},{"$f":"T170+1","v":2020},{"$f":"V$91","v":{"$error":"#REF!"}},{"$f":"W$91","v":{"$error":"#REF!"}},{"$f":"X$91","v":{"$error":"#REF!"}},{"$error":"#REF!"},{"$error":"#REF!"},{"$error":"#REF!"},{"$error":"#REF!"},{"$error":"#REF!"},{"$error":"#REF!"},{"$error":"#REF!"},{"$error":"#REF!"},{"$error":"#REF!"},{"$error":"#REF!"},{"$error":"#REF!"},{"$error":"#REF!"},{"$error":"#REF!"},{"$error":"#REF!"},{"$error":"#REF!"},{"$error":"#REF!"}]
["RAB for Return",null,null,null,{"$f":"E$127/$B165*$B164/$B165","v":44.574955080450167},48.753857119242369,45.967922426714225,43.181987734186094,40.396053041657964,37.610118349129827,34.82418365660169,32.038248964073553,29.252314271545419,26.466379579017286,23.680444886489148,20.894510193961015,{"$f":"Q$127/$B165*$B164/$B165","v":18.108575501432878},15.322640808904746,12.536706116376608,9.7507714238484731,6.9648367313203376,5.5718693850562708,2.7859346925281354,1.3929673462640677,0,0,0,0,0,0,0,0,0,0,0,0,0,0,0,0]
["Depreciation",null,null,null,{"$f":"IF(E171=0,0,$B$164*$B$166/$B$165/$B$165)","v":2.785934692528135},2.785934692528135,2.785934692528135,2.785934692528135,2.785934692528135,2.785934692528135,2.785934692528135,2.785934692528135,2.785934692528135,2.785934692528135,2.785934692528135,2.785934692528135,{"$f":"IF(Q171=0,0,$B$164*$B$166/$B$165/$B$165)","v":2.785934692528135},{"$f":"IF(R171=0,0,$B$164*$B$166/$B$165/$B$165)","v":2.785934692528135},{"$f":"IF(S171=0,0,$B$164*$B$166/$B$165/$B$165)","v":2.785934692528135},{"$f":"IF(T171=0,0,$B$164*$B$166/$B$165/$B$165)","v":2.785934692528135},{"$f":"IF(U171=0,0,$B$164*$B$166/$B$165/$B$165)","v":2.785934692528135},{"$f":"IF(V171=0,0,$B$164*$B$166/$B$165/$B$165)*0.5","v":1.3929673462640675},{"$f":"IF(W171=0,0,$B$164*$B$166/$B$165/$B$165)","v":2.785934692528135},{"$f":"IF(X171=0,0,$B$164*$B$166/$B$165/$B$165)*0.5","v":1.3929673462640675},{"$f":"IF(Y171=0,0,$B$164*$B$166/$B$165/$B$165)","v":0},0,0,0,0,0,0,0,0,0,0,0,0,0,0,0]
[]
[]
[]
["Poles & Brackets",null,null,{"$f":"'Inputs PL Final Decision 2004'!$B$88","v":"Location of selected public lighting assets within distributors' areas (%)"},null,null,null,null,null,{"$f":"'Inputs PL Final Decision 2004'!$A$114","v":"Proportion of lights on dedicated poles"},null,null,null,{"$f":"'Inputs PL Final Decision 2004'!$A$115","v":"Proportion of dedicated poles at 1 Jan 2001"}]
["Dedicated poles",null,null,{"$f":"'Inputs PL Final Decision 2004'!$B$92","v":"CitiPower"},{"$f":"IF($A$1='Inputs PL Final Decision 2004'!$A$123,'Inputs PL Final Decision 2004'!$C$92,IF($A$1='Inputs PL Final Decision 2004'!$A$124,'Inputs PL Final Decision 2004'!$D$92,IF($A$1='Inputs PL Final Decision 2004'!$A$125,'Inputs PL Final Decision 2004'!$E$92,IF($A$1='Inputs PL Final Decision 2004'!$A$126,'Inputs PL Final Decision 2004'!$F$92,IF($A$1='Inputs PL Final Decision 2004'!$A$127,'Inputs PL Final Decision 2004'!$G$92,'Inputs PL Final Decision 2004'!$H$92)))))","v":0},null,null,null,null,{"$f":"IF($A$1='Inputs PL Final Decision 2004'!$A$123,'Inputs PL Final Decision 2004'!$C$114,IF($A$1='Inputs PL Final Decision 2004'!$A$124,'Inputs PL Final Decision 2004'!$D$114,IF($A$1='Inputs PL Final Decision 2004'!$A$125,'Inputs PL Final Decision 2004'!$E$114,IF($A$1='Inputs PL Final Decision 2004'!$A$126,'Inputs PL Final Decision 2004'!$F$114,IF($A$1='Inputs PL Final Decision 2004'!$A$127,'Inputs PL Final Decision 2004'!$G$114,'Inputs PL Final Decision 2004'!$H$114)))))","v":0.38296744016378254},null,null,null,{"$f":"IF($A$1='Inputs PL Final Decision 2004'!$A$123,'Inputs PL Final Decision 2004'!$C$115,IF($A$1='Inputs PL Final Decision 2004'!$A$124,'Inputs PL Final Decision 2004'!$D$115,IF($A$1='Inputs PL Final Decision 2004'!$A$125,'Inputs PL Final Decision 2004'!$E$115,IF($A$1='Inputs PL Final Decision 2004'!$A$126,'Inputs PL Final Decision 2004'!$F$115,IF($A$1='Inputs PL Final Decision 2004'!$A$127,'Inputs PL Final Decision 2004'!$G$115,'Inputs PL Final Decision 2004'!$H$115)))))","v":0.88888888888888884}]
["Capital cost",{"$f":"($F$231*E177+$L$231*E178+$R$231*E179+$X$231*E180)*J177*N177","v":284.69756949837796},null,{"$f":"'Inputs PL Final Decision 2004'!$B$93","v":"Urban"},{"$f":"IF($A$1='Inputs PL Final Decision 2004'!$A$123,'Inputs PL Final Decision 2004'!$C$93,IF($A$1='Inputs PL Final Decision 2004'!$A$124,'Inputs PL Final Decision 2004'!$D$93,IF($A$1='Inputs PL Final Decision 2004'!$A$125,'Inputs PL Final Decision 2004'!$E$93,IF($A$1='Inputs PL Final Decision 2004'!$A$126,'Inputs PL Final Decision 2004'!$F$93,IF($A$1='Inputs PL Final Decision 2004'!$A$127,'Inputs PL Final Decision 2004'!$G$93,'Inputs PL Final Decision 2004'!$H$93)))))","v":0.35}]
[{"$f":"'Inputs PL Final Decision 2004'!$A$52","v":"Depreciation of dedicated street lighting pole & bracket"},{"$f":"'Inputs PL Final Decision 2004'!$B$52","v":35},null,{"$f":"'Inputs PL Final Decision 2004'!$B$94","v":"Rural"},{"$f":"IF($A$1='Inputs PL Final Decision 2004'!$A$123,'Inputs PL Final Decision 2004'!$C$94,IF($A$1='Inputs PL Final Decision 2004'!$A$124,'Inputs PL Final Decision 2004'!$D$94,IF($A$1='Inputs PL Final Decision 2004'!$A$125,'Inputs PL Final Decision 2004'!$E$94,IF($A$1='Inputs PL Final Decision 2004'!$A$126,'Inputs PL Final Decision 2004'!$F$94,IF($A$1='Inputs PL Final Decision 2004'!$A$127,'Inputs PL Final Decision 2004'!$G$94,'Inputs PL Final Decision 2004'!$H$94)))))","v":0.53}]
[{"$f":"'Inputs PL Final Decision 2004'!$A$16","v":"Number of years from 1 January 2001"},{"$f":"'Inputs PL Final Decision 2004'!$B$16","v":4},null,{"$f":"'Inputs PL Final Decision 2004'!$B$95","v":"Remote"},{"$f":"IF($A$1='Inputs PL Final Decision 2004'!$A$123,'Inputs PL Final Decision 2004'!$C$95,IF($A$1='Inputs PL Final Decision 2004'!$A$124,'Inputs PL Final Decision 2004'!$D$95,IF($A$1='Inputs PL Final Decision 2004'!$A$125,'Inputs PL Final Decision 2004'!$E$95,IF($A$1='Inputs PL Final Decision 2004'!$A$126,'Inputs PL Final Decision 2004'!$F$95,IF($A$1='Inputs PL Final Decision 2004'!$A$127,'Inputs PL Final Decision 2004'!$G$95,'Inputs PL Final Decision 2004'!$H$95)))))","v":0.12}]
[]
[]
[]
[null,null,null,null,2004,{"$f":"E184+1","v":2005},2006,2007,2008,2009,2010,2011,2012,2013,2014,2015,{"$f":"P184+1","v":2016},{"$f":"Q184+1","v":2017},{"$f":"R184+1","v":2018},{"$f":"S184+1","v":2019},{"$f":"T184+1","v":2020},{"$f":"V$91","v":{"$error":"#REF!"}},{"$f":"W$91","v":{"$error":"#REF!"}},{"$f":"X$91","v":{"$error":"#REF!"}},{"$error":"#REF!"},{"$error":"#REF!"},{"$error":"#REF!"},{"$error":"#REF!"},{"$error":"#REF!"},{"$error":"#REF!"},{"$error":"#REF!"},{"$error":"#REF!"},{"$error":"#REF!"},{"$error":"#REF!"},{"$error":"#REF!"},{"$error":"#REF!"},{"$error":"#REF!"},{"$error":"#REF!"},{"$error":"#REF!"},{"$error":"#REF!"}]
["RAB for Return",null,null,null,{"$f":"E$129/$B179*$B178/$B179","v":27.075319874743702},30.212803293705417,29.283178576976017,28.35355386024662,27.423929143517224,26.494304426787824,25.564679710058428,24.635054993329032,23.705430276599632,22.775805559870236,21.846180843140836,20.916556126411443,{"$f":"Q$129/$B179*$B178/$B179","v":19.986931409682047},19.057306692952647,18.127681976223251,17.198057259493851,16.268432542764454,15.803620184399756,14.873995467670358,13.94437075094096,13.014746034211564,12.085121317482168,11.15549660075277,10.225871884023372,9.2962471672939753,8.3666224505645754,7.4369977338351791,6.507373017105782,5.5777483003763848,4.6481235836469876,3.7184988669175896,2.7888741501881924,1.8592494334587948,0.92962471672939739,0.4648123583646987,0]
["Depreciation",null,null,null,{"$f":"IF(E185=0,0,$B$178*$B$180/$B$179/$B$179)","v":0.92962471672939739},0.92962471672939739,0.92962471672939739,0.92962471672939739,0.92962471672939739,0.92962471672939739,0.92962471672939739,0.92962471672939739,0.92962471672939739,0.92962471672939739,0.92962471672939739,0.92962471672939739,{"$f":"IF(Q185=0,0,$B$178*$B$180/$B$179/$B$179)","v":0.92962471672939739},{"$f":"IF(R185=0,0,$B$178*$B$180/$B$179/$B$179)","v":0.92962471672939739},{"$f":"IF(S185=0,0,$B$178*$B$180/$B$179/$B$179)","v":0.92962471672939739},{"$f":"IF(T185=0,0,$B$178*$B$180/$B$179/$B$179)","v":0.92962471672939739},{"$f":"IF(U185=0,0,$B$178*$B$180/$B$179/$B$179)","v":0.92962471672939739},{"$f":"IF(V185=0,0,$B$178*$B$180/$B$179/$B$179)*0.5","v":0.4648123583646987},{"$f":"IF(W185=0,0,$B$178*$B$180/$B$179/$B$179)","v":0.92962471672939739},0.92962471672939739,0.92962471672939739,0.92962471672939739,0.92962471672939739,0.92962471672939739,0.92962471672939739,0.92962471672939739,0.92962471672939739,0.92962471672939739,0.92962471672939739,0.92962471672939739,0.92962471672939739,0.92962471672939739,0.92962471672939739,0.92962471672939739,{"$f":"IF(AM185=0,0,$B$178*$B$180/$B$179/$B$179)*0.5","v":0.4648123583646987},{"$f":"IF(AN185=0,0,$B$178*$B$180/$B$179/$B$179)","v":0}]
[]
[]
[]
["Poles & Brackets",null,null,{"$f":"'Inputs PL Final Decision 2004'!$B$88","v":"Location of selected public lighting assets within distributors' areas (%)"},null,null,null,null,null,{"$f":"'Inputs PL Final Decision 2004'!$A$117","v":"Proportion of non-dedicated poles at 1 Jan 2001"}]
["Brackets",null,null,{"$f":"'Inputs PL Final Decision 2004'!$B$92","v":"CitiPower"},{"$f":"IF($A$1='Inputs PL Final Decision 2004'!$A$123,'Inputs PL Final Decision 2004'!$C$92,IF($A$1='Inputs PL Final Decision 2004'!$A$124,'Inputs PL Final Decision 2004'!$D$92,IF($A$1='Inputs PL Final Decision 2004'!$A$125,'Inputs PL Final Decision 2004'!$E$92,IF($A$1='Inputs PL Final Decision 2004'!$A$126,'Inputs PL Final Decision 2004'!$F$92,IF($A$1='Inputs PL Final Decision 2004'!$A$127,'Inputs PL Final Decision 2004'!$G$92,'Inputs PL Final Decision 2004'!$H$92)))))","v":0},null,null,null,null,{"$f":"IF($A$1='Inputs PL Final Decision 2004'!$A$123,'Inputs PL Final Decision 2004'!$C$117,IF($A$1='Inputs PL Final Decision 2004'!$A$124,'Inputs PL Final Decision 2004'!$D$117,IF($A$1='Inputs PL Final Decision 2004'!$A$125,'Inputs PL Final Decision 2004'!$E$117,IF($A$1='Inputs PL Final Decision 2004'!$A$126,'Inputs PL Final Decision 2004'!$F$117,IF($A$1='Inputs PL Final Decision 2004'!$A$127,'Inputs PL Final Decision 2004'!$G$117,'Inputs PL Final Decision 2004'!$H$117)))))","v":0.54983737742466199}]
["Capital cost",{"$f":"($F$236*E191+$L$236*E192+$R$236*E193+$X$236*E194)*J191","v":58.978168830112018},null,{"$f":"'Inputs PL Final Decision 2004'!$B$93","v":"Urban"},{"$f":"IF($A$1='Inputs PL Final Decision 2004'!$A$123,'Inputs PL Final Decision 2004'!$C$93,IF($A$1='Inputs PL Final Decision 2004'!$A$124,'Inputs PL Final Decision 2004'!$D$93,IF($A$1='Inputs PL Final Decision 2004'!$A$125,'Inputs PL Final Decision 2004'!$E$93,IF($A$1='Inputs PL Final Decision 2004'!$A$126,'Inputs PL Final Decision 2004'!$F$93,IF($A$1='Inputs PL Final Decision 2004'!$A$127,'Inputs PL Final Decision 2004'!$G$93,'Inputs PL Final Decision 2004'!$H$93)))))","v":0.35}]
[{"$f":"'Inputs PL Final Decision 2004'!$A$52","v":"Depreciation of dedicated street lighting pole & bracket"},{"$f":"'Inputs PL Final Decision 2004'!$B$52","v":35},null,{"$f":"'Inputs PL Final Decision 2004'!$B$94","v":"Rural"},{"$f":"IF($A$1='Inputs PL Final Decision 2004'!$A$123,'Inputs PL Final Decision 2004'!$C$94,IF($A$1='Inputs PL Final Decision 2004'!$A$124,'Inputs PL Final Decision 2004'!$D$94,IF($A$1='Inputs PL Final Decision 2004'!$A$125,'Inputs PL Final Decision 2004'!$E$94,IF($A$1='Inputs PL Final Decision 2004'!$A$126,'Inputs PL Final Decision 2004'!$F$94,IF($A$1='Inputs PL Final Decision 2004'!$A$127,'Inputs PL Final Decision 2004'!$G$94,'Inputs PL Final Decision 2004'!$H$94)))))","v":0.53}]
[{"$f":"'Inputs PL Final Decision 2004'!$A$16","v":"Number of years from 1 January 2001"},{"$f":"'Inputs PL Final Decision 2004'!$B$16","v":4},null,{"$f":"'Inputs PL Final Decision 2004'!$B$95","v":"Remote"},{"$f":"IF($A$1='Inputs PL Final Decision 2004'!$A$123,'Inputs PL Final Decision 2004'!$C$95,IF($A$1='Inputs PL Final Decision 2004'!$A$124,'Inputs PL Final Decision 2004'!$D$95,IF($A$1='Inputs PL Final Decision 2004'!$A$125,'Inputs PL Final Decision 2004'!$E$95,IF($A$1='Inputs PL Final Decision 2004'!$A$126,'Inputs PL Final Decision 2004'!$F$95,IF($A$1='Inputs PL Final Decision 2004'!$A$127,'Inputs PL Final Decision 2004'!$G$95,'Inputs PL Final Decision 2004'!$H$95)))))","v":0.12}]
[]
[]
[]
[null,null,null,null,2004,{"$f":"E198+1","v":2005},2006,2007,2008,2009,2010,2011,2012,2013,2014,2015,{"$f":"P198+1","v":2016},{"$f":"Q198+1","v":2017},{"$f":"R198+1","v":2018},{"$f":"S198+1","v":2019},{"$f":"T198+1","v":2020},{"$f":"V$91","v":{"$error":"#REF!"}},{"$f":"W$91","v":{"$error":"#REF!"}},{"$f":"X$91","v":{"$error":"#REF!"}},{"$error":"#REF!"},{"$error":"#REF!"},{"$error":"#REF!"},{"$error":"#REF!"},{"$error":"#REF!"},{"$error":"#REF!"},{"$error":"#REF!"},{"$error":"#REF!"},{"$error":"#REF!"},{"$error":"#REF!"},{"$error":"#REF!"},{"$error":"#REF!"},{"$error":"#REF!"},{"$error":"#REF!"},{"$error":"#REF!"},{"$error":"#REF!"}]
["RAB for Return",null,null,null,{"$f":"E$129/$B193*$B192/$B193","v":5.6089442193535106},6.2589077125833166,6.0663259368115217,5.8737441610397276,5.6811623852679327,5.4885806094961396,5.2959988337243447,5.1034170579525506,4.9108352821807557,4.7182535064089608,4.5256717306371668,4.3330899548653727,{"$f":"Q$129/$B193*$B192/$B193","v":4.1405081790935787},3.9479264033217842,3.7553446275499898,3.5627628517781957,3.3701810760064013,3.2738901881205038,3.0813084123487093,2.8887266365769149,2.6961448608051213,2.5035630850333268,2.3109813092615323,2.1183995334897379,1.9258177577179432,1.7332359819461489,1.5406542061743547,1.3480724304025606,1.1554906546307662,0.96290887885897158,0.77032710308717733,0.57774532731538308,0.38516355154358867,0.19258177577179433,9.6290887885897167E-2,0]
["Depreciation",null,null,null,{"$f":"IF(E199=0,0,$B$192*$B$194/$B$193/$B$193)","v":0.19258177577179436},0.19258177577179436,0.19258177577179436,0.19258177577179436,0.19258177577179436,0.19258177577179436,0.19258177577179436,0.19258177577179436,0.19258177577179436,0.19258177577179436,0.19258177577179436,0.19258177577179436,{"$f":"IF(Q199=0,0,$B$192*$B$194/$B$193/$B$193)","v":0.19258177577179436},{"$f":"IF(R199=0,0,$B$192*$B$194/$B$193/$B$193)","v":0.19258177577179436},{"$f":"IF(S199=0,0,$B$192*$B$194/$B$193/$B$193)","v":0.19258177577179436},{"$f":"IF(T199=0,0,$B$192*$B$194/$B$193/$B$193)","v":0.19258177577179436},{"$f":"IF(U199=0,0,$B$192*$B$194/$B$193/$B$193)","v":0.19258177577179436},{"$f":"IF(V199=0,0,$B$192*$B$194/$B$193/$B$193)*0.5","v":9.6290887885897181E-2},{"$f":"IF(W199=0,0,$B$192*$B$194/$B$193/$B$193)","v":0.19258177577179436},0.19258177577179436,0.19258177577179436,0.19258177577179436,0.19258177577179436,0.19258177577179436,0.19258177577179436,0.19258177577179436,0.19258177577179436,0.19258177577179436,0.19258177577179436,0.19258177577179436,0.19258177577179436,0.19258177577179436,0.19258177577179436,0.19258177577179436,{"$f":"IF(AM199=0,0,$B$192*$B$194/$B$193/$B$193)*0.5","v":9.6290887885897181E-2},{"$f":"IF(AN199=0,0,$B$192*$B$194/$B$193/$B$193)","v":0}]
[]
[]
[]
[]
[]
[]
[]
[null,"CitiPower",null,null,null,null,null,"Urban",null,null,null,null,null,"Rural",null,null,null,null,null,"Remote"]
[]
[null,"Unit rate","Number","Hours","Cost","Annualised",null,"Unit rate","Number","Hours","Cost","Annualised",null,"Unit rate","Number","Hours","Cost","Annualised",null,"Unit rate","Number","Hours","Cost","Annualised"]
[null,null,null,null,null," cost",null,null,null,null,null," cost",null,null,null,null,null," cost",null,null,null,null,null," cost"]
["MV80"]
["Luminaires "]
["Material & misc",{"$f":"'Inputs PL Final Decision 2004'!$B$21+'Inputs PL Final Decision 2004'!$B$22","v":159.55000000000001},{"$f":"'Inputs PL Final Decision 2004'!$B$24","v":16},null,{"$f":"B214*C214","v":2552.8000000000002},{"$f":"(E214+E215+E216)/C214","v":240.24687500000002},null,{"$f":"'Inputs PL Final Decision 2004'!$B$21+'Inputs PL Final Decision 2004'!$B$22","v":159.55000000000001},{"$f":"'Inputs PL Final Decision 2004'!$B$24","v":16},null,{"$f":"H214*I214","v":2552.8000000000002},{"$f":"(K214+K215+K216)/I214","v":240.24687500000002},null,{"$f":"('Inputs PL Final Decision 2004'!$B$21+'Inputs PL Final Decision 2004'!$B$22)*(1+'Inputs PL Final Decision 2004'!$B$10)","v":167.52750000000003},{"$f":"'Inputs PL Final Decision 2004'!$B$25","v":13},null,{"$f":"N214*O214","v":2177.8575000000005},{"$f":"(Q214+Q215+Q216)/O214","v":273.2544230769231},null,{"$f":"('Inputs PL Final Decision 2004'!$B$21+'Inputs PL Final Decision 2004'!$B$22)*(1+'Inputs PL Final Decision 2004'!$B$10)","v":167.52750000000003},{"$f":"'Inputs PL Final Decision 2004'!$B$26","v":10},null,{"$f":"T214*U214","v":1675.2750000000003},{"$f":"(W214+W215+W216)/U214","v":304.97250000000003}]
["Crew costs",{"$f":"'Inputs PL Final Decision 2004'!$B$11","v":60},{"$f":"'Inputs PL Final Decision 2004'!$B$23","v":2},{"$f":"'Inputs PL Final Decision 2004'!$B$14","v":8.33},{"$f":"B215*C215*D215","v":999.6},null,null,{"$f":"'Inputs PL Final Decision 2004'!$B$11","v":60},{"$f":"'Inputs PL Final Decision 2004'!$B$23","v":2},{"$f":"'Inputs PL Final Decision 2004'!$B$14","v":8.33},{"$f":"H215*I215*J215","v":999.6},null,null,{"$f":"'Inputs PL Final Decision 2004'!$B$11","v":60},{"$f":"'Inputs PL Final Decision 2004'!$B$23","v":2},{"$f":"'Inputs PL Final Decision 2004'!$B$14","v":8.33},{"$f":"N215*O215*P215","v":999.6},null,null,{"$f":"'Inputs PL Final Decision 2004'!$B$11","v":60},{"$f":"'Inputs PL Final Decision 2004'!$B$23","v":2},{"$f":"'Inputs PL Final Decision 2004'!$B$14","v":8.33},{"$f":"T215*U215*V215","v":999.6}]
["Elevated platform costs",{"$f":"'Inputs PL Final Decision 2004'!$B$12","v":35},1,{"$f":"'Inputs PL Final Decision 2004'!$B$14","v":8.33},{"$f":"B216*C216*D216","v":291.55},null,null,{"$f":"'Inputs PL Final Decision 2004'!$B$12","v":35},1,{"$f":"'Inputs PL Final Decision 2004'!$B$14","v":8.33},{"$f":"H216*I216*J216","v":291.55},null,null,{"$f":"'Inputs PL Final Decision 2004'!$B$13","v":45},1,{"$f":"'Inputs PL Final Decision 2004'!$B$14","v":8.33},{"$f":"N216*O216*P216","v":374.85},null,null,{"$f":"'Inputs PL Final Decision 2004'!$B$13","v":45},1,{"$f":"'Inputs PL Final Decision 2004'!$B$14","v":8.33},{"$f":"T216*U216*V216","v":374.85}]
[]
["S-HP 150"]
["Luminaires "]
["Material & misc",{"$f":"'Inputs PL Final Decision 2004'!$B$31+'Inputs PL Final Decision 2004'!$B$32","v":189.64},{"$f":"'Inputs PL Final Decision 2004'!$B$35","v":16},null,{"$f":"B220*C220","v":3034.24},{"$f":"(E220+E221+E222)/C220","v":291.16187500000001},null,{"$f":"'Inputs PL Final Decision 2004'!$B$31+'Inputs PL Final Decision 2004'!$B$32","v":189.64},{"$f":"'Inputs PL Final Decision 2004'!$B$35","v":16},null,{"$f":"H220*I220","v":3034.24},{"$f":"(K220+K221+K222)/I220","v":275.54312499999997},null,{"$f":"('Inputs PL Final Decision 2004'!$B$31+'Inputs PL Final Decision 2004'!$B$32)*(1+'Inputs PL Final Decision 2004'!$B$10)","v":199.12199999999999},{"$f":"'Inputs PL Final Decision 2004'!$B$36","v":13},null,{"$f":"N220*O220","v":2588.5859999999998},{"$f":"(Q220+Q221+Q222)/O220","v":304.84892307692303},null,{"$f":"('Inputs PL Final Decision 2004'!$B$31+'Inputs PL Final Decision 2004'!$B$32)*(1+'Inputs PL Final Decision 2004'!$B$10)","v":199.12199999999999},{"$f":"'Inputs PL Final Decision 2004'!$B$37","v":10},null,{"$f":"T220*U220","v":1991.2199999999998},{"$f":"(W220+W221+W222)/U220","v":336.56699999999995}]
["Crew costs",{"$f":"'Inputs PL Final Decision 2004'!$B$11","v":60},{"$f":"'Inputs PL Final Decision 2004'!$B$34","v":2.5},{"$f":"'Inputs PL Final Decision 2004'!$B$14","v":8.33},{"$f":"D221*C221*B221","v":1249.5},null,null,{"$f":"'Inputs PL Final Decision 2004'!$B$11","v":60},{"$f":"'Inputs PL Final Decision 2004'!$B$33","v":2},{"$f":"'Inputs PL Final Decision 2004'!$B$14","v":8.33},{"$f":"J221*I221*H221","v":999.6},null,null,{"$f":"'Inputs PL Final Decision 2004'!$B$11","v":60},{"$f":"'Inputs PL Final Decision 2004'!$B$33","v":2},{"$f":"'Inputs PL Final Decision 2004'!$B$14","v":8.33},{"$f":"P221*O221*N221","v":999.6},null,null,{"$f":"'Inputs PL Final Decision 2004'!$B$11","v":60},{"$f":"'Inputs PL Final Decision 2004'!$B$33","v":2},{"$f":"'Inputs PL Final Decision 2004'!$B$14","v":8.33},{"$f":"V221*U221*T221","v":999.6}]
["Elevated platform vehicle costs",{"$f":"'Inputs PL Final Decision 2004'!$B$13","v":45},1,{"$f":"'Inputs PL Final Decision 2004'!$B$14","v":8.33},{"$f":"D222*C222*B222","v":374.85},null,null,{"$f":"'Inputs PL Final Decision 2004'!$B$13","v":45},1,{"$f":"'Inputs PL Final Decision 2004'!$B$14","v":8.33},{"$f":"J222*I222*H222","v":374.85},null,null,{"$f":"'Inputs PL Final Decision 2004'!$B$13","v":45},1,{"$f":"'Inputs PL Final Decision 2004'!$B$14","v":8.33},{"$f":"P222*O222*N222","v":374.85},null,null,{"$f":"'Inputs PL Final Decision 2004'!$B$13","v":45},1,{"$f":"'Inputs PL Final Decision 2004'!$B$14","v":8.33},{"$f":"V222*U222*T222","v":374.85}]
[]
["S-HP 250"]
["Luminaires "]
["Material & misc",{"$f":"'Inputs PL Final Decision 2004'!$B$42+'Inputs PL Final Decision 2004'!$B$43","v":192.44},{"$f":"'Inputs PL Final Decision 2004'!$B$46","v":16},null,{"$f":"B226*C226","v":3079.04},{"$f":"(E226+E227+E228)/C226","v":293.96187500000002},null,{"$f":"'Inputs PL Final Decision 2004'!$B$42+'Inputs PL Final Decision 2004'!$B$43","v":192.44},{"$f":"'Inputs PL Final Decision 2004'!$B$46","v":16},null,{"$f":"H226*I226","v":3079.04},{"$f":"(K226+K227+K228)/I226","v":278.34312499999999},null,{"$f":"('Inputs PL Final Decision 2004'!$B$42+'Inputs PL Final Decision 2004'!$B$43)*(1+'Inputs PL Final Decision 2004'!$B$10)","v":202.06200000000001},{"$f":"'Inputs PL Final Decision 2004'!$B$47","v":13},null,{"$f":"N226*O226","v":2626.806},{"$f":"(Q226+Q227+Q228)/O226","v":307.78892307692308},null,{"$f":"('Inputs PL Final Decision 2004'!$B$42+'Inputs PL Final Decision 2004'!$B$43)*(1+'Inputs PL Final Decision 2004'!$B$10)","v":202.06200000000001},{"$f":"'Inputs PL Final Decision 2004'!$B$48","v":10},null,{"$f":"T226*U226","v":2020.6200000000001},{"$f":"(W226+W227+W228)/U226","v":339.50700000000001}]
["Crew costs",{"$f":"'Inputs PL Final Decision 2004'!$B$11","v":60},{"$f":"'Inputs PL Final Decision 2004'!$B$45","v":2.5},{"$f":"'Inputs PL Final Decision 2004'!$B$14","v":8.33},{"$f":"D227*C227*B227","v":1249.5},null,null,{"$f":"'Inputs PL Final Decision 2004'!$B$11","v":60},{"$f":"'Inputs PL Final Decision 2004'!$B$44","v":2},{"$f":"'Inputs PL Final Decision 2004'!$B$14","v":8.33},{"$f":"J227*I227*H227","v":999.6},null,null,{"$f":"'Inputs PL Final Decision 2004'!$B$11","v":60},{"$f":"'Inputs PL Final Decision 2004'!$B$44","v":2},{"$f":"'Inputs PL Final Decision 2004'!$B$14","v":8.33},{"$f":"P227*O227*N227","v":999.6},null,null,{"$f":"'Inputs PL Final Decision 2004'!$B$11","v":60},{"$f":"'Inputs PL Final Decision 2004'!$B$44","v":2},{"$f":"'Inputs PL Final Decision 2004'!$B$14","v":8.33},{"$f":"V227*U227*T227","v":999.6}]
["Elevated platform vehicle costs",{"$f":"'Inputs PL Final Decision 2004'!$B$13","v":45},1,{"$f":"'Inputs PL Final Decision 2004'!$B$14","v":8.33},{"$f":"D228*C228*B228","v":374.85},null,null,{"$f":"'Inputs PL Final Decision 2004'!$B$13","v":45},1,{"$f":"'Inputs PL Final Decision 2004'!$B$14","v":8.33},{"$f":"J228*I228*H228","v":374.85},null,null,{"$f":"'Inputs PL Final Decision 2004'!$B$13","v":45},1,{"$f":"'Inputs PL Final Decision 2004'!$B$14","v":8.33},{"$f":"P228*O228*N228","v":374.85},null,null,{"$f":"'Inputs PL Final Decision 2004'!$B$13","v":45},1,{"$f":"'Inputs PL Final Decision 2004'!$B$14","v":8.33},{"$f":"V228*U228*T228","v":374.85}]
[]
["Dedicated poles"]
["Material",{"$f":"'Inputs PL Final Decision 2004'!$B$53","v":500},{"$f":"'Inputs PL Final Decision 2004'!$B$54","v":4},null,{"$f":"C231*B231","v":2000},{"$f":"(E231+E232+E233)/C231","v":822.78750000000002},null,{"$f":"'Inputs PL Final Decision 2004'!$B$53","v":500},{"$f":"'Inputs PL Final Decision 2004'!$B$54","v":4},null,{"$f":"I231*H231","v":2000},{"$f":"(K231+K232+K233)/I231","v":822.78750000000002},null,{"$f":"'Inputs PL Final Decision 2004'!$B$53","v":500},{"$f":"'Inputs PL Final Decision 2004'!$B$54","v":4},null,{"$f":"O231*N231","v":2000},{"$f":"(Q231+Q232+Q233)/O231","v":843.61249999999995},null,{"$f":"'Inputs PL Final Decision 2004'!$B$53","v":500},{"$f":"'Inputs PL Final Decision 2004'!$B$54","v":4},null,{"$f":"U231*T231","v":2000},{"$f":"(W231+W232+W233)/U231","v":843.61249999999995}]
["Crew costs",{"$f":"'Inputs PL Final Decision 2004'!$B$11","v":60},{"$f":"'Inputs PL Final Decision 2004'!$B$23","v":2},{"$f":"'Inputs PL Final Decision 2004'!$B$14","v":8.33},{"$f":"B232*C232*D232","v":999.6},null,null,{"$f":"'Inputs PL Final Decision 2004'!$B$11","v":60},{"$f":"'Inputs PL Final Decision 2004'!$B$23","v":2},{"$f":"'Inputs PL Final Decision 2004'!$B$14","v":8.33},{"$f":"H232*I232*J232","v":999.6},null,null,{"$f":"'Inputs PL Final Decision 2004'!$B$11","v":60},{"$f":"'Inputs PL Final Decision 2004'!$B$23","v":2},{"$f":"'Inputs PL Final Decision 2004'!$B$14","v":8.33},{"$f":"N232*O232*P232","v":999.6},null,null,{"$f":"'Inputs PL Final Decision 2004'!$B$11","v":60},{"$f":"'Inputs PL Final Decision 2004'!$B$23","v":2},{"$f":"'Inputs PL Final Decision 2004'!$B$14","v":8.33},{"$f":"T232*U232*V232","v":999.6}]
["Elevated platform costs",{"$f":"'Inputs PL Final Decision 2004'!$B$12","v":35},1,{"$f":"'Inputs PL Final Decision 2004'!$B$14","v":8.33},{"$f":"B233*C233*D233","v":291.55},null,null,{"$f":"'Inputs PL Final Decision 2004'!$B$12","v":35},1,{"$f":"'Inputs PL Final Decision 2004'!$B$14","v":8.33},{"$f":"H233*I233*J233","v":291.55},null,null,{"$f":"'Inputs PL Final Decision 2004'!$B$13","v":45},1,{"$f":"'Inputs PL Final Decision 2004'!$B$14","v":8.33},{"$f":"N233*O233*P233","v":374.85},null,null,{"$f":"'Inputs PL Final Decision 2004'!$B$13","v":45},1,{"$f":"'Inputs PL Final Decision 2004'!$B$14","v":8.33},{"$f":"T233*U233*V233","v":374.85}]
[]
["Brackets"]
["Material",{"$f":"'Inputs PL Final Decision 2004'!$B$55","v":40},{"$f":"'Inputs PL Final Decision 2004'!$B$56","v":20},null,{"$f":"C236*B236","v":800},{"$f":"(E236+E237+E238)/C236","v":104.5575},null,{"$f":"'Inputs PL Final Decision 2004'!$B$55","v":40},{"$f":"'Inputs PL Final Decision 2004'!$B$56","v":20},null,{"$f":"I236*H236","v":800},{"$f":"(K236+K237+K238)/I236","v":104.5575},null,{"$f":"'Inputs PL Final Decision 2004'!$B$55","v":40},{"$f":"'Inputs PL Final Decision 2004'!$B$56","v":20},null,{"$f":"O236*N236","v":800},{"$f":"(Q236+Q237+Q238)/O236","v":108.7225},null,{"$f":"'Inputs PL Final Decision 2004'!$B$55","v":40},{"$f":"'Inputs PL Final Decision 2004'!$B$56","v":20},null,{"$f":"U236*T236","v":800},{"$f":"(W236+W237+W238)/U236","v":108.7225}]
["Crew costs",{"$f":"'Inputs PL Final Decision 2004'!$B$11","v":60},{"$f":"'Inputs PL Final Decision 2004'!$B$23","v":2},{"$f":"'Inputs PL Final Decision 2004'!$B$14","v":8.33},{"$f":"B237*C237*D237","v":999.6},null,null,{"$f":"'Inputs PL Final Decision 2004'!$B$11","v":60},{"$f":"'Inputs PL Final Decision 2004'!$B$23","v":2},{"$f":"'Inputs PL Final Decision 2004'!$B$14","v":8.33},{"$f":"H237*I237*J237","v":999.6},null,null,{"$f":"'Inputs PL Final Decision 2004'!$B$11","v":60},{"$f":"'Inputs PL Final Decision 2004'!$B$23","v":2},{"$f":"'Inputs PL Final Decision 2004'!$B$14","v":8.33},{"$f":"N237*O237*P237","v":999.6},null,null,{"$f":"'Inputs PL Final Decision 2004'!$B$11","v":60},{"$f":"'Inputs PL Final Decision 2004'!$B$23","v":2},{"$f":"'Inputs PL Final Decision 2004'!$B$14","v":8.33},{"$f":"T237*U237*V237","v":999.6}]
["Elevated platform costs",{"$f":"'Inputs PL Final Decision 2004'!$B$12","v":35},1,{"$f":"'Inputs PL Final Decision 2004'!$B$14","v":8.33},{"$f":"B238*C238*D238","v":291.55},null,null,{"$f":"'Inputs PL Final Decision 2004'!$B$12","v":35},1,{"$f":"'Inputs PL Final Decision 2004'!$B$14","v":8.33},{"$f":"H238*I238*J238","v":291.55},null,null,{"$f":"'Inputs PL Final Decision 2004'!$B$13","v":45},1,{"$f":"'Inputs PL Final Decision 2004'!$B$14","v":8.33},{"$f":"N238*O238*P238","v":374.85},null,null,{"$f":"'Inputs PL Final Decision 2004'!$B$13","v":45},1,{"$f":"'Inputs PL Final Decision 2004'!$B$14","v":8.33},{"$f":"T238*U238*V238","v":374.85}]
[" "]

{"sheet":"Inputs PL Final Decision 2004","index":23,"n_rows":128,"n_cols":8,"rows_kept":128,"cut":false,"hidden":true,"merged":[[88,5,88,6],[88,7,89,7],[88,1,89,1],[88,2,89,2],[88,3,89,3],[88,4,89,4],[116,0,116,1],[107,5,107,6],[107,7,108,7],[113,0,113,1],[114,0,114,1],[107,1,108,1],[107,2,108,2],[107,3,108,3],[107,4,108,4]]}
[{"$f":"'Inputs PL Final Decision 2004'!$A$127","v":"SP AusNet - North/East"}]
[]
["Final Decision - Cost Build-up Model 2004"]
[]
[]
[]
["Input parameters"]
[]
["Inputs - all lamps"]
["Material premium for rural areas",0.05]
["Labour rate (per hour)",60]
["Elevated platform vehicle (per hour) - urban MV",35]
["Elevated platform vehicle (per hour) - rural MV, S-HP",45]
["Number of hours in a day",8.33]
["Rate of return (per annum)",9.5000000000000001E-2]
["Number of years from 1 January 2001",4]
[]
["Inputs - MV80"]
[]
["Depreciation period",20,"years"]
["Unit cost - luminaire",158.55000000000001]
["Unit cost - miscellaneous materials (bulk lamp)",1]
["Number of men in crew",2]
["Number of luminaires replaced per day - urban",16]
["Number of luminaires replaced per day - rural",13]
["Number of luminaires replaced per day - remote",10]
[]
["Inputs - S-HP150"]
[]
["Depreciation period ",20,"years"]
["Unit cost - luminaire",187.64]
["Unit cost - miscellaneous materials",2]
["Number of men in crew - repairs (exc CitiPower)",2]
["Number of men in crew - repairs (CitiPower)",2.5]
["Number of luminaires replaced per day - urban",16]
["Number of luminaires replaced per day - rural",13]
["Number of luminaires replaced per day - remote",10]
[]
["Inputs - S-HP250"]
[]
["Depreciation period ",{"$f":"B30","v":20},"years"]
["Unit cost - luminaire",190.44]
["Unit cost - miscellaneous materials",2]
["Number of men in crew - repairs (exc CitiPower)",{"$f":"B33","v":2}]
["Number of men in crew - repairs (CitiPower)",{"$f":"B34","v":2.5}]
["Number of luminaires replaced per day - urban",{"$f":"B35","v":16}]
["Number of luminaires replaced per day - rural",{"$f":"B36","v":13}]
["Number of luminaires replaced per day - remote",{"$f":"B37","v":10}]
[]
["Dedicated street lighting poles"]
[]
["Depreciation of dedicated street lighting pole & bracket",35,"years"]
["Cost of pole & bracket",500]
["Number of poles & brackets replaced per day",4]
["Cost of bracket",40]
["Number of brackets replaced per day",20]
[]
[]
[]
[]
[]
[]
["DEPRECIATION PROFILE"]
[]
["20 year asset life"]
[null,2001,2002,2003,2004]
["New assets in 2001","10/20","19/20","18/20","17/20","Assume half the asset base in first year"]
["New assets in 2002",null,"10/20","19/20","18/20","In subsequent years - depreciation of 1/20 per year"]
["New assets in 2003",null,null,"10/20","19/20"]
["New assets in 2004",null,null,null,"10/20"]
[]
["Total","10/20","29/20","47/20","64/20"]
[]
["35 year asset life"]
[null,2001,2002,2003,2004]
["New assets in 2001","17.5/35","34/35","33/35","32/35","Assume half the asset base in first year"]
["New assets in 2002",null,"17.5/35","34/35","33/35","In subsequent years - depreciation of 1/35 per year"]
["New assets in 2003",null,null,"17.5/35","34/35"]
["New assets in 2004",null,null,null,"17.5/35"]
[]
["Total","17.5/35","51.5/35","84.5/35","116.5/35"]
[]
[]
[]
[]
[]
[]
[null,"Location of selected public lighting assets within distributors' areas (%)"]
[null,null,"AGL (%)","CitiPower (%)","Powercor (%)","TXU (%)",null,"United Energy (%)"]
[null,null,null,null,null,"central","north/east"]
[null,"MV 80 Watt"]
[null,"CitiPower",0,1,0,0,0,0]
[null,"Urban",0.97,0,0.39,0.96,0.35,0.84]
[null,"Rural",0.03,0,0.57099999999999995,0.04,0.53,0.16]
[null,"Remote",0,0,3.9E-2,0,0.12,0]
[null,"S-HP 150 Watt"]
[null,"CitiPower",0,1,0,0,0,0]
[null,"Urban",0.98,0,0.52,0.94,0.3,0.84]
[null,"Rural",0.02,0,0.441,0.06,0.63,0.16]
[null,"Remote",0,0,3.9E-2,0,7.0000000000000007E-2,0]
[null,"S-HP 250 Watt"]
[null,"CitiPower",0,1,0,0,0,0]
[null,"Urban",0.96,0,0.48,0.9,0.37,0.84]
[null,"Rural",0.04,0,0.48099999999999998,0.1,0.56999999999999995,0.16]
[null,"Remote",0,0,3.9E-2,0,0.06,0]
[]
[null,"Proportion of lights installed at 1 January 2001 (%)"]
[null,null,"AGL","CitiPower","Powercor","TXU",null,"United Energy"]
[null,null,null,null,null,"central","north/east"]
[null,"MV 80 Watt",0.905787037037037,1,0.86777777777777776,0.88453792189886593,0.88441954863731531,0.89212199870214148]
[null,"S-HP 150 Watt",0.92852830188679247,0.97046808510638294,0.79574999999999996,0.9271778402248092,0.92717784022480954,0.76780200027653589]
[null,"S-HP 250 Watt",0.97372093023255812,1,0.8570165745856354,0.93238356164383551,0.93238356164383573,0.79881039340498805]
[]
["Proportion of lights on dedicated poles",null,0.1908204,0.19633080440438641,0.28800286795458091,0.38119062500000001,0.38296744016378254,0.2370560408218817]
["Proportion of dedicated poles at 1 Jan 2001",null,0.91293333333333337,0.91293333333333337,0.88888888888888884,0.89230769230769236,0.88888888888888884,0.91293333333333337]
[]
["Proportion of non-dedicated poles at 1 Jan 2001",null,0.74134150899999995,0.85329845683448124,0.6107644460365671,0.54998659800000005,0.54983737742466199,0.66538387625035467]
[]
[]
[]
[]
[]
["Jemena",{"$f":"C108","v":"AGL"}]
["Citipower",{"$f":"D108","v":"CitiPower"}]
["Powercor",{"$f":"E108","v":"Powercor"}]
["SP AusNet - Central",{"$f":"F108","v":"TXU"},{"$f":"F109","v":"central"}]
["SP AusNet - North/East",{"$f":"F108","v":"TXU"},{"$f":"G109","v":"north/east"}]
["United Energy",{"$f":"H108","v":"United Energy"}]