{"text_format":"1","workbook":"xlsx","n_sheets":21,"sheets":["Summary","General","Under-Voltage Cost Estimation","Option_4","Option_2A","Option_2B","Option_2C","Option_2D","Option_3A","Option_3B","Option_3C","Option_3D","Compliance","OLTC_Taps","Cable_Charging","PV_Uptake","JEN_Spread","ZSS_Spread","Table","02Feb25","06Dec24"],"not_rendered":{"charts":6,"images":1,"macros":1,"external_links":1,"defined_names":384,"comments":5,"pivot_tables":0},"unopened":[],"bounds":{"document_bytes":16777216,"sheet_cells":100000,"rows_first":2000,"rows_last":500,"rows_between":2000,"halvings":0,"cell_chars":16384,"cell_head_chars":4096},"cells_cut":0,"cells_raw":0,"read":"whole","date_system":"1900"}

{"sheet":"Summary","index":0,"n_rows":833,"n_cols":19,"rows_kept":833,"cut":false,"hidden":false,"merged":[[842,13,842,17],[837,13,837,16],[838,14,838,17],[839,13,839,16],[840,13,840,16],[841,13,841,17],[849,13,849,16],[843,13,843,14],[844,13,844,15],[845,13,845,17],[846,13,846,15],[847,13,847,17],[848,13,848,17]]}
[null,null,null,"Voltage PQ Management Strategy",null,null,null,"Section Check:",{"$f":"IF(COUNTA($A$8:$A$833)=COUNTIF($A$8:$A$833,0),\"Ok\",\"Check\")","v":"Check"},null,null,"Overall Check:","Ok",null,"Legend:","Input","Internal","Select","Calculation"]
[null,null,null,{"$f":"RIGHT(CELL(\"filename\",D1),LEN(CELL(\"filename\",D1))-FIND(\"]\",CELL(\"filename\",D1)))","v":"Summary"}]
[]
[]
[]
[null,"Copyright Jemena Limited. All rights reserved. Jemena is not liable for any loss caused by reliance on this document."]
[]
[null,"Summary"]
[]
[]
["A",null,null,"EDCOP 5% NON-COMPLIANCE (FUNCTIONAL COMPLIANCE)",null,"Option 1","Option 2","Option 3","Option 4",null,"Notes:"]
[null,null,null,"Total Cost (2027-2031)","$ million",0,{"$f":"Option_2A!$K$23","v":24.758891448773127},{"$f":"Option_3A!$K$23","v":25.335059999999995},{"$f":"Option_4!$K$23","v":23.249318547252464},null,"Option 1 - Do Nothing"]
[null,null,null,"Present Value Cost (2027-2031)","$ million",0,{"$f":"Option_2A!$L$23","v":18.671736412991539},{"$f":"Option_3A!$L$23","v":19.162409424089333},{"$f":"Option_4!$L$23","v":17.919079173745935},null,{"$f":"\"Option 2 - DVM, VAr controllers and reactors\"","v":"Option 2 - DVM, VAr controllers and reactors"}]
[null,null,null,"Forecast EDCOP Compliance (end of 2031)","per cent",{"$f":"Compliance!$R$43","v":7.8399594616507237E-2},{"$f":"Option_2A!$R$36","v":4.5010377817415292E-2},{"$f":"G14","v":4.5010377817415292E-2},{"$f":"Option_4!$R$36","v":5.8593173341981532E-2},null,"Option 3 - Traditional augmentation"]
[null,null,null,null,null,null,null,null,null,null,"Option 4 - DVM only"]
["B",null,null,"EDCOP 4% NON-COMPLIANCE (MAINTAINING PERFORMANCE)",null,"Option 1","Option 2","Option 3","Option 4",null,"(Includes proactive and reactive programs)"]
[null,null,null,"Total Cost (2027-2031)","$ million",0,{"$f":"Option_2B!$K$23","v":25.949550093519349},{"$f":"Option_3B!$K$23","v":26.409259999999996},{"$f":"Option_4!$K$23","v":23.249318547252464}]
[null,null,null,"Present Value Cost (2027-2031)","$ million",0,{"$f":"Option_2B!$L$23","v":19.687892116172961},{"$f":"Option_3B!$L$23","v":20.079387354092542},{"$f":"Option_4!$L$23","v":17.919079173745935},null,"<--- PREFERRED OPTION IS MAINTAINING PERFORMANCE OPTION 2"]
[null,null,null,"Forecast EDCOP Compliance (end of 2031)","per cent",{"$f":"Compliance!$R$43","v":7.8399594616507237E-2},{"$f":"Option_2B!$R$36","v":3.7881936111561557E-2},{"$f":"G19","v":3.7881936111561557E-2},{"$f":"Option_4!$R$36","v":5.8593173341981532E-2}]
[]
["C",null,null,"EDCOP 3% NON-COMPLIANCE (IMPROVED PERFORMANCE)",null,"Option 1","Option 2","Option 3","Option 4"]
[null,null,null,"Total Cost (2027-2031)","$ million",0,{"$f":"Option_2C!$K$23","v":29.105568895869776},{"$f":"Option_3C!$K$23","v":30.083629999999992},{"$f":"Option_4!$K$23","v":23.249318547252464}]
[null,null,null,"Present Value Cost (2027-2031)","$ million",0,{"$f":"Option_2C!$L$23","v":22.265855655356489},{"$f":"Option_3C!$L$23","v":23.080852425299465},{"$f":"Option_4!$L$23","v":17.919079173745935}]
[null,null,null,"Forecast EDCOP Compliance (end of 2031)","per cent",{"$f":"Compliance!$R$43","v":7.8399594616507237E-2},{"$f":"Option_2C!$R$36","v":2.5761926382357726E-2},{"$f":"G24","v":2.5761926382357726E-2},{"$f":"Option_4!$R$36","v":5.8593173341981532E-2}]
[]
["D",null,null,"EDCOP 2% NON-COMPLIANCE (ON PAR WITH VIC DNSP PEERS)",null,"Option 1","Option 2","Option 3","Option 4"]
[null,null,null,"Total Cost (2027-2031)","$ million",0,{"$f":"Option_2D!$K$23","v":45.523030994781514},{"$f":"Option_3D!$K$23","v":50.493430000000046},{"$f":"Option_4!$K$23","v":23.249318547252464}]
[null,null,null,"Present Value Cost (2027-2031)","$ million",0,{"$f":"Option_2D!$L$23","v":34.121712552821506},{"$f":"Option_3D!$L$23","v":37.963950655340369},{"$f":"Option_4!$L$23","v":17.919079173745935}]
[null,null,null,"Forecast EDCOP Compliance (end of 2031)","per cent",{"$f":"Compliance!$R$43","v":7.8399594616507237E-2},{"$f":"Option_2D!$R$36","v":1.9717755796983961E-2},{"$f":"G29","v":1.9717755796983961E-2},{"$f":"Option_4!$R$36","v":5.8593173341981532E-2}]
[]
[null,"End"]
[]
[]
[]
[]
[]
[]
[]
[]
[]
[]
[]
[]
[]
[]
[]
[]
[]
[]
[]
[]
[]
[]
[]
[]
[]
[]
[]
[]
[]
[]
[]
[]
[]
[]
[]
[]
[]
[]
[]
[]
[]
[]
[]
[]
[]
[]
[]
[]
[]
[]
[]
[]
[]
[]
[]
[]
[]
[]
[]
[]
[]
[]
[]
[]
[]
[]
[]
[]
[]
[]
[]
[]
[]
[]
[]
[]
[]
[]
[]
[]
[]
[]
[]
[]
[]
[]
[]
[]
[]
[]
[]
[]
[]
[]
[]
[]
[]
[]
[]
[]
[]
[]
[]
[]
[]
[]
[]
[]
[]
[]
[]
[]
[]
[]
[]
[]
[]
[]
[]
[]
[]
[]
[]
[]
[]
[]
[]
[]
[]
[]
[]
[]
[]
[]
[]
[]
[]
[]
[]
[]
[]
[]
[]
[]
[]
[]
[]
[]
[]
[]
[]
[]
[]
[]
[]
[]
[]
[]
[]
[]
[]
[]
[]
[]
[]
[]
[]
[]
[]
[]
[]
[]
[]
[]
[]
[]
[]
[]
[]
[]
[]
[]
[]
[]
[]
[]
[]
[]
[]
[]
[]
[]
[]
[]
[]
[]
[]
[]
[]
[]
[]
[]
[]
[]
[]
[]
[]
[]
[]
[]
[]
[]
[]
[]
[]
[]
[]
[]
[]
[]
[]
[]
[]
[]
[]
[]
[]
[]
[]
[]
[]
[]
[]
[]
[]
[]
[]
[]
[]
[]
[]
[]
[]
[]
[]
[]
[]
[]
[]
[]
[]
[]
[]
[]
[]
[]
[]
[]
[]
[]
[]
[]
[]
[]
[]
[]
[]
[]
[]
[]
[]
[]
[]
[]
[]
[]
[]
[]
[]
[]
[]
[]
[]
[]
[]
[]
[]
[]
[]
[]
[]
[]
[]
[]
[]
[]
[]
[]
[]
[]
[]
[]
[]
[]
[]
[]
[]
[]
[]
[]
[]
[]
[]
[]
[]
[]
[]
[]
[]
[]
[]
[]
[]
[]
[]
[]
[]
[]
[]
[]
[]
[]
[]
[]
[]
[]
[]
[]
[]
[]
[]
[]
[]
[]
[]
[]
[]
[]
[]
[]
[]
[]
[]
[]
[]
[]
[]
[]
[]
[]
[]
[]
[]
[]
[]
[]
[]
[]
[]
[]
[]
[]
[]
[]
[]
[]
[]
[]
[]
[]
[]
[]
[]
[]
[]
[]
[]
[]
[]
[]
[]
[]
[]
[]
[]
[]
[]
[]
[]
[]
[]
[]
[]
[]
[]
[]
[]
[]
[]
[]
[]
[]
[]
[]
[]
[]
[]
[]
[]
[]
[]
[]
[]
[]
[]
[]
[]
[]
[]
[]
[]
[]
[]
[]
[]
[]
[]
[]
[]
[]
[]
[]
[]
[]
[]
[]
[]
[]
[]
[]
[]
[]
[]
[]
[]
[]
[]
[]
[]
[]
[]
[]
[]
[]
[]
[]
[]
[]
[]
[]
[]
[]
[]
[]
[]
[]
[]
[]
[]
[]
[]
[]
[]
[]
[]
[]
[]
[]
[]
[]
[]
[]
[]
[]
[]
[]
[]
[]
[]
[]
[]
[]
[]
[]
[]
[]
[]
[]
[]
[]
[]
[]
[]
[]
[]
[]
[]
[]
[]
[]
[]
[]
[]
[]
[]
[]
[]
[]
[]
[]
[]
[]
[]
[]
[]
[]
[]
[]
[]
[]
[]
[]
[]
[]
[]
[]
[]
[]
[]
[]
[]
[]
[]
[]
[]
[]
[]
[]
[]
[]
[]
[]
[]
[]
[]
[]
[]
[]
[]
[]
[]
[]
[]
[]
[]
[]
[]
[]
[]
[]
[]
[]
[]
[]
[]
[]
[]
[]
[]
[]
[]
[]
[]
[]
[]
[]
[]
[]
[]
[]
[]
[]
[]
[]
[]
[]
[]
[]
[]
[]
[]
[]
[]
[]
[]
[]
[]
[]
[]
[]
[]
[]
[]
[]
[]
[]
[]
[]
[]
[]
[]
[]
[]
[]
[]
[]
[]
[]
[]
[]
[]
[]
[]
[]
[]
[]
[]
[]
[]
[]
[]
[]
[]
[]
[]
[]
[]
[]
[]
[]
[]
[]
[]
[]
[]
[]
[]
[]
[]
[]
[]
[]
[]
[]
[]
[]
[]
[]
[]
[]
[]
[]
[]
[]
[]
[]
[]
[]
[]
[]
[]
[]
[]
[]
[]
[]
[]
[]
[]
[]
[]
[]
[]
[]
[]
[]
[]
[]
[]
[]
[]
[]
[]
[]
[]
[]
[]
[]
[]
[]
[]
[]
[]
[]
[]
[]
[]
[]
[]
[]
[]
[]
[]
[]
[]
[]
[]
[]
[]
[]
[]
[]
[]
[]
[]
[]
[]
[]
[]
[]
[]
[]
[]
[]
[]
[]
[]
[]
[]
[]
[]
[]
[]
[]
[]
[]
[]
[]
[]
[]
[]
[]
[]
[]
[]
[]
[]
[]
[]
[]
[]
[]
[]
[]
[]
[]
[]
[]
[]
[]
[]
[]
[]
[]
[]
[]
[]
[]
[]
[]
[]
[null,"End"]

{"sheet":"General","index":1,"n_rows":857,"n_cols":19,"rows_kept":857,"cut":false,"hidden":false,"merged":[[866,13,866,17],[861,13,861,16],[862,14,862,17],[863,13,863,16],[864,13,864,16],[865,13,865,17],[873,13,873,16],[867,13,867,14],[868,13,868,15],[869,13,869,17],[870,13,870,15],[871,13,871,17],[872,13,872,17]]}
[null,null,null,"Voltage PQ Management Strategy",null,null,null,"Section Check:",{"$f":"IF(COUNTA($A$8:$A$857)=COUNTIF($A$8:$A$857,0),\"Ok\",\"Check\")","v":"Ok"},null,null,"Overall Check:","Ok",null,"Legend:","Input","Internal","Select","Calculation"]
[null,null,null,{"$f":"RIGHT(CELL(\"filename\",D1),LEN(CELL(\"filename\",D1))-FIND(\"]\",CELL(\"filename\",D1)))","v":"General"}]
[]
[]
[]
[null,"Copyright Jemena Limited. All rights reserved. Jemena is not liable for any loss caused by reliance on this document."]
[]
[null,"General Assumptions"]
[]
[null,null,{"$f":"B8","v":"General Assumptions"}]
[]
[null,null,null,{"$f":"C10","v":"General Assumptions"},"Source","Unit","Basis"]
[null,null,null,"EDCOP Compliance Benefit of DVM","AM","%/%","ESC Voltage Reporting",null,null,{"$f":"1-1%/3.79%","v":0.73614775725593673}]
[null,null,null,"Discount Rate","AM","Per cent","n/a",null,null,5.5E-2]
[null,null,null,"Assessment Period Years","AM","Years","n/a",null,null,5]
[null,null,null,"Next Regulatory Period","AM","Year","n/a",null,null,2027]
[null,null,null,"EDCOP / Overvoltage Compliance Scaling","AM","%/%","EDC / AMI reports",null,null,{"$f":"3.79%/Compliance!$AG$43","v":0.98572776606669921}]
[]
[null,"Option"]
[]
[null,null,"Calculations"]
[]
[null,null,null,"Discount Ratios"]
[]
[null,null,null,"Year","Discount Ratio"]
[]
[null,null,null,2024,1]
[null,null,null,{"$f":"D27+1","v":2025},{"$f":"E27*1/(1+$J$14)","v":0.94786729857819907}]
[null,null,null,2026,0.89845241571393286]
[null,null,null,2027,0.85161366418382267]
[null,null,null,2028,0.80721674330220161]
[null,null,null,2029,0.76513435384094941]
[null,null,null,2030,0.72524583302459666]
[null,null,null,2031,0.68743680855412015]
[null,null,null,2032,0.65159887066741251]
[null,null,null,2033,0.61762926129612561]
[null,null,null,2034,0.58543057942760723]
[null,null,null,2035,0.55491050182711588]
[null,null,null,2036,0.5259815183195411]
[null,null,null,2037,0.49856068087160299]
[null,null,null,2038,0.47256936575507397]
[null,null,null,2039,0.44793304810907486]
[null,null,null,2040,0.42458108825504731]
[null,null,null,2041,0.40244652915170365]
[null,null,null,2042,0.38146590440919781]
[null,null,null,2043,0.36157905631203585]
[null,null,null,2044,0.34272896332894398]
[null,null,null,2045,0.32486157661511278]
[null,null,null,2046,0.3079256650380216]
[null,null,null,2047,0.29187266828248493]
[null,null,null,2048,0.27665655761372981]
[null,null,null,2049,0.26223370389926998]
[null,null,null,2050,0.24856275251115639]
[]
[null,"End"]
[]
[]
[]
[]
[]
[]
[]
[]
[]
[]
[]
[]
[]
[]
[]
[]
[]
[]
[]
[]
[]
[]
[]
[]
[]
[]
[]
[]
[]
[]
[]
[]
[]
[]
[]
[]
[]
[]
[]
[]
[]
[]
[]
[]
[]
[]
[]
[]
[]
[]
[]
[]
[]
[]
[]
[]
[]
[]
[]
[]
[]
[]
[]
[]
[]
[]
[]
[]
[]
[]
[]
[]
[]
[]
[]
[]
[]
[]
[]
[]
[]
[]
[]
[]
[]
[]
[]
[]
[]
[]
[]
[]
[]
[]
[]
[]
[]
[]
[]
[]
[]
[]
[]
[]
[]
[]
[]
[]
[]
[]
[]
[]
[]
[]
[]
[]
[]
[]
[]
[]
[]
[]
[]
[]
[]
[]
[]
[]
[]
[]
[]
[]
[]
[]
[]
[]
[]
[]
[]
[]
[]
[]
[]
[]
[]
[]
[]
[]
[]
[]
[]
[]
[]
[]
[]
[]
[]
[]
[]
[]
[]
[]
[]
[]
[]
[]
[]
[]
[]
[]
[]
[]
[]
[]
[]
[]
[]
[]
[]
[]
[]
[]
[]
[]
[]
[]
[]
[]
[]
[]
[]
[]
[]
[]
[]
[]
[]
[]
[]
[]
[]
[]
[]
[]
[]
[]
[]
[]
[]
[]
[]
[]
[]
[]
[]
[]
[]
[]
[]
[]
[]
[]
[]
[]
[]
[]
[]
[]
[]
[]
[]
[]
[]
[]
[]
[]
[]
[]
[]
[]
[]
[]
[]
[]
[]
[]
[]
[]
[]
[]
[]
[]
[]
[]
[]
[]
[]
[]
[]
[]
[]
[]
[]
[]
[]
[]
[]
[]
[]
[]
[]
[]
[]
[]
[]
[]
[]
[]
[]
[]
[]
[]
[]
[]
[]
[]
[]
[]
[]
[]
[]
[]
[]
[]
[]
[]
[]
[]
[]
[]
[]
[]
[]
[]
[]
[]
[]
[]
[]
[]
[]
[]
[]
[]
[]
[]
[]
[]
[]
[]
[]
[]
[]
[]
[]
[]
[]
[]
[]
[]
[]
[]
[]
[]
[]
[]
[]
[]
[]
[]
[]
[]
[]
[]
[]
[]
[]
[]
[]
[]
[]
[]
[]
[]
[]
[]
[]
[]
[]
[]
[]
[]
[]
[]
[]
[]
[]
[]
[]
[]
[]
[]
[]
[]
[]
[]
[]
[]
[]
[]
[]
[]
[]
[]
[]
[]
[]
[]
[]
[]
[]
[]
[]
[]
[]
[]
[]
[]
[]
[]
[]
[]
[]
[]
[]
[]
[]
[]
[]
[]
[]
[]
[]
[]
[]
[]
[]
[]
[]
[]
[]
[]
[]
[]
[]
[]
[]
[]
[]
[]
[]
[]
[]
[]
[]
[]
[]
[]
[]
[]
[]
[]
[]
[]
[]
[]
[]
[]
[]
[]
[]
[]
[]
[]
[]
[]
[]
[]
[]
[]
[]
[]
[]
[]
[]
[]
[]
[]
[]
[]
[]
[]
[]
[]
[]
[]
[]
[]
[]
[]
[]
[]
[]
[]
[]
[]
[]
[]
[]
[]
[]
[]
[]
[]
[]
[]
[]
[]
[]
[]
[]
[]
[]
[]
[]
[]
[]
[]
[]
[]
[]
[]
[]
[]
[]
[]
[]
[]
[]
[]
[]
[]
[]
[]
[]
[]
[]
[]
[]
[]
[]
[]
[]
[]
[]
[]
[]
[]
[]
[]
[]
[]
[]
[]
[]
[]
[]
[]
[]
[]
[]
[]
[]
[]
[]
[]
[]
[]
[]
[]
[]
[]
[]
[]
[]
[]
[]
[]
[]
[]
[]
[]
[]
[]
[]
[]
[]
[]
[]
[]
[]
[]
[]
[]
[]
[]
[]
[]
[]
[]
[]
[]
[]
[]
[]
[]
[]
[]
[]
[]
[]
[]
[]
[]
[]
[]
[]
[]
[]
[]
[]
[]
[]
[]
[]
[]
[]
[]
[]
[]
[]
[]
[]
[]
[]
[]
[]
[]
[]
[]
[]
[]
[]
[]
[]
[]
[]
[]
[]
[]
[]
[]
[]
[]
[]
[]
[]
[]
[]
[]
[]
[]
[]
[]
[]
[]
[]
[]
[]
[]
[]
[]
[]
[]
[]
[]
[]
[]
[]
[]
[]
[]
[]
[]
[]
[]
[]
[]
[]
[]
[]
[]
[]
[]
[]
[]
[]
[]
[]
[]
[]
[]
[]
[]
[]
[]
[]
[]
[]
[]
[]
[]
[]
[]
[]
[]
[]
[]
[]
[]
[]
[]
[]
[]
[]
[]
[]
[]
[]
[]
[]
[]
[]
[]
[]
[]
[]
[]
[]
[]
[]
[]
[]
[]
[]
[]
[]
[]
[]
[]
[]
[]
[]
[]
[]
[]
[]
[]
[]
[]
[]
[]
[]
[]
[]
[]
[]
[]
[]
[]
[]
[]
[]
[]
[]
[]
[]
[]
[]
[]
[]
[]
[]
[]
[]
[]
[]
[]
[]
[]
[]
[]
[]
[]
[]
[]
[]
[]
[]
[]
[]
[]
[]
[]
[]
[]
[]
[]
[]
[]
[]
[null,"End"]

{"sheet":"Under-Voltage Cost Estimation","index":2,"n_rows":48,"n_cols":12,"rows_kept":48,"cut":false,"hidden":false,"merged":[]}
[]
[]
[null,"Direct Costs only"]
[null,null,null,"20-21","21-22","22-23","23-24","24-25","Total","Status",null,"Number of PQ substations addressed"]
[null,null,null,null,null,null,null,null,"$","@30/6/25"]
[]
[null,"BAA-PQA-000034","Active Voltage Control",{"$f":"VLOOKUP(B7,'[1]2020-21'!G:J,4,0)","v":44520.99},{"$f":"VLOOKUP(B7,'[1]2021-22'!G:I,3,0)","v":35880.559999999998},null,null,null,{"$f":"SUM(D7:H7)","v":80401.549999999988},"CLSD"]
[null,"BAA-PQA-000039","MINOR PQA WORK",{"$f":"VLOOKUP(B8,'[1]2020-21'!G:J,4,0)","v":19742.14},null,null,null,null,19742.14,"CLSD"]
[null,"BAA-PQA-000040","RELIEF OF HOME-TAIT & COLLINGWOOD-HOME",{"$f":"VLOOKUP(B9,'[1]2020-21'!G:J,4,0)","v":5365.06},{"$f":"VLOOKUP(B9,'[1]2021-22'!G:I,3,0)","v":17545.240000000002},{"$f":"VLOOKUP(B9,'[1]2022-23'!G:J,4,0)","v":158804.68},{"$f":"VLOOKUP(B9,'[1]2023-24'!G:J,4,0)","v":237667.03},null,419382.01,"CLSD",null,2]
[null,"BAA-PQA-000042","RELIEF OF FEHON-SOMERVILLE",{"$f":"VLOOKUP(B10,'[1]2020-21'!G:J,4,0)","v":111102.62},{"$f":"VLOOKUP(B10,'[1]2021-22'!G:I,3,0)","v":180686.77},null,null,null,291789.39,"CLSD"]
[null,"BAA-PQA-000043","RELIEF OF CARROL-ORRONG & CARROL-WHITELA",null,{"$f":"VLOOKUP(B11,'[1]2021-22'!G:I,3,0)","v":111152.08},{"$f":"VLOOKUP(B11,'[1]2022-23'!G:J,4,0)","v":13955.36},null,null,125107.44,"CLSD"]
[null,"BAA-PQA-000044","RELIEF OF GRAHAM 138-SYLVIA",{"$f":"VLOOKUP(B12,'[1]2020-21'!G:J,4,0)","v":185295.45},{"$f":"VLOOKUP(B12,'[1]2021-22'!G:I,3,0)","v":44433.2},null,null,null,229728.65000000002,"CLSD"]
[null,"BAA-PQA-000046","RELIEF OF ALOHA-WATT",{"$f":"VLOOKUP(B13,'[1]2020-21'!G:J,4,0)","v":134980.12},null,null,null,null,134980.12,"CLSD"]
[null,"BAA-PQA-000047","RELIEF OF WEBB-QUEENSVILLE",{"$f":"VLOOKUP(B14,'[1]2020-21'!G:J,4,0)","v":119774.03},{"$f":"VLOOKUP(B14,'[1]2021-22'!G:I,3,0)","v":23687.09},null,null,null,{"$f":"SUM(E14:H14)","v":23687.09},"CLSD"]
[null,"BAA-PQA-000049","RELIEF OF MELBOURNE-PASCO",null,{"$f":"VLOOKUP(B15,'[1]2021-22'!G:I,3,0)","v":15208.41},{"$f":"VLOOKUP(B15,'[1]2022-23'!G:J,4,0)","v":228908.12},{"$f":"VLOOKUP(B15,'[1]2023-24'!G:J,4,0)","v":110436.13},null,354552.66000000003,"CLSD",null,2]
[null,"BAA-PQA-000050","RELIEF OF MELROSE-SOMERS",null,null,{"$f":"VLOOKUP(B16,'[1]2022-23'!G:J,4,0)","v":12586.6},{"$f":"VLOOKUP(B16,'[1]2023-24'!G:J,4,0)","v":200723.27},null,213309.87,"CLSD",null,2]
[null,"BAA-PQA-000051","RELIEF OF FINLAYSON-BRAIDHILL",null,null,{"$f":"VLOOKUP(B17,'[1]2022-23'!G:J,4,0)","v":19512.93},{"$f":"VLOOKUP(B17,'[1]2023-24'!G:J,4,0)","v":360099.83},null,379612.76,"CLSD",null,1]
[null,"BAA-PQA-000052","RELIEF OF SUSSEX-NEWCASTLE",null,null,{"$f":"VLOOKUP(B18,'[1]2022-23'!G:J,4,0)","v":281.26},{"$f":"VLOOKUP(B18,'[1]2023-24'!G:J,4,0)","v":196471.56},{"$f":"VLOOKUP(B18,'[1]2024-25'!G:J,4,0)","v":338355.31},535108.13,{"$f":"VLOOKUP(B18,'[1]2024-25'!G:I,3,0)","v":"CLSD"},null,2]
[null,"BAA-PQA-000053","RELIEF OF KIERNAN_UPP HEIDELBERG",null,null,{"$f":"VLOOKUP(B19,'[1]2022-23'!G:J,4,0)","v":211.3},{"$f":"VLOOKUP(B19,'[1]2023-24'!G:J,4,0)","v":41030.300000000003},{"$f":"VLOOKUP(B19,'[1]2024-25'!G:J,4,0)","v":442127.56},483369.16000000003,{"$f":"VLOOKUP(B19,'[1]2024-25'!G:I,3,0)","v":"CLSD"},null,1]
[null,"BAA-PQA-000054","RELIEF OF WESTGATE-HATTER",null,null,{"$f":"VLOOKUP(B20,'[1]2022-23'!G:J,4,0)","v":211.3},{"$f":"VLOOKUP(B20,'[1]2023-24'!G:J,4,0)","v":120758.15},{"$f":"VLOOKUP(B20,'[1]2024-25'!G:J,4,0)","v":122692.42},243661.87,{"$f":"VLOOKUP(B20,'[1]2024-25'!G:I,3,0)","v":"CLSD"},null,2]
[null,"BAA-PQA-000055","RELIEF OF MCCRAE-ELSEY",null,null,{"$f":"VLOOKUP(B21,'[1]2022-23'!G:J,4,0)","v":211.3},{"$f":"VLOOKUP(B21,'[1]2023-24'!G:J,4,0)","v":36652.36},{"$f":"VLOOKUP(B21,'[1]2024-25'!G:J,4,0)","v":908946.63},945810.29,{"$f":"VLOOKUP(B21,'[1]2024-25'!G:I,3,0)","v":"CLSD"},null,2]
[null,"BAA-PQA-000056","RELIEF OF ERIC-ADA",null,null,{"$f":"VLOOKUP(B22,'[1]2022-23'!G:J,4,0)","v":281.26},{"$f":"VLOOKUP(B22,'[1]2023-24'!G:J,4,0)","v":245404.18},{"$f":"VLOOKUP(B22,'[1]2024-25'!G:J,4,0)","v":102400.93},348086.37,{"$f":"VLOOKUP(B22,'[1]2024-25'!G:I,3,0)","v":"CLSD"},null,2]
[null,"BAA-PQA-000057","RE LOCATE THE PQM METER",null,null,null,{"$f":"VLOOKUP(B23,'[1]2023-24'!G:J,4,0)","v":21731.64},null,21731.64,"CLSD"]
[null,"BAA-PQA-000061","RELIEF OF KITCHENER-MURRAY",null,null,null,{"$f":"VLOOKUP(B24,'[1]2023-24'!G:J,4,0)","v":2644.83},{"$f":"VLOOKUP(B24,'[1]2024-25'!G:J,4,0)","v":714725.46},717370.28999999992,{"$f":"VLOOKUP(B24,'[1]2024-25'!G:I,3,0)","v":"REL"}]
[null,"BAA-PQA-000062","RELIEF OF PLENTY RESERVOIR COLLEGE",null,null,null,{"$f":"VLOOKUP(B25,'[1]2023-24'!G:J,4,0)","v":12692.34},{"$f":"VLOOKUP(B25,'[1]2024-25'!G:J,4,0)","v":143069.45000000001},155761.79,{"$f":"VLOOKUP(B25,'[1]2024-25'!G:I,3,0)","v":"REL"}]
[null,"BAA-PQA-000068","RELIEF OF WAIORA-DOUGHARTY",null,null,null,null,{"$f":"VLOOKUP(B26,'[1]2024-25'!G:J,4,0)","v":74060.240000000005},74060.240000000005,{"$f":"VLOOKUP(B26,'[1]2024-25'!G:I,3,0)","v":"REL"}]
[null,"BAA-PQA-000070","RELIEF OF BEAUCHAMP-HIGH",null,null,null,null,{"$f":"VLOOKUP(B27,'[1]2024-25'!G:J,4,0)","v":280.77999999999997},280.77999999999997,{"$f":"VLOOKUP(B27,'[1]2024-25'!G:I,3,0)","v":"REL"}]
[null,"BAA-PQA-000071","RELIEF OF BLENHEIM-WOODS",null,null,null,null,{"$f":"VLOOKUP(B28,'[1]2024-25'!G:J,4,0)","v":438096.33},438096.33,{"$f":"VLOOKUP(B28,'[1]2024-25'!G:I,3,0)","v":"REL"}]
[null,"BAA-PQA-000072","YARRA BEND FF ELSPEC G4 EOF PQM RELOC",null,null,null,null,{"$f":"VLOOKUP(B29,'[1]2024-25'!G:J,4,0)","v":25},25,{"$f":"VLOOKUP(B29,'[1]2024-25'!G:I,3,0)","v":"REL"}]
[null,"BAA-PQA-000073","RELIEF OF ST LEONARDS-EPSOM",null,null,null,null,{"$f":"VLOOKUP(B30,'[1]2024-25'!G:J,4,0)","v":148147.92000000001},148147.92000000001,{"$f":"VLOOKUP(B30,'[1]2024-25'!G:I,3,0)","v":"REL"}]
[null,"BAA-PQA-000074","RELIEF OF O'CONNOR-WHITBY",null,null,null,null,{"$f":"VLOOKUP(B31,'[1]2024-25'!G:J,4,0)","v":95837.23},95837.23,{"$f":"VLOOKUP(B31,'[1]2024-25'!G:I,3,0)","v":"REL"}]
[null,"BAA-PQA-000075","RELIEF OF HAWDON-BROWN",null,null,null,null,{"$f":"VLOOKUP(B32,'[1]2024-25'!G:J,4,0)","v":5720.73},5720.73,{"$f":"VLOOKUP(B32,'[1]2024-25'!G:I,3,0)","v":"REL"}]
[null,"BAA-PQA-000076","RELIEF OF JOFFRE-KENT",null,null,null,null,{"$f":"VLOOKUP(B33,'[1]2024-25'!G:J,4,0)","v":13697.82},13697.82,{"$f":"VLOOKUP(B33,'[1]2024-25'!G:I,3,0)","v":"REL"}]
[null,"BAA-PQA-000077","RELIEF OF CHALLIS-JUBILLEE",null,null,null,null,{"$f":"VLOOKUP(B34,'[1]2024-25'!G:J,4,0)","v":5038.8999999999996},5038.8999999999996,{"$f":"VLOOKUP(B34,'[1]2024-25'!G:I,3,0)","v":"REL"}]
[null,"BAA-PQA-000083","RELIEF OF WATT-THE AVENUE",null,null,null,null,{"$f":"VLOOKUP(B35,'[1]2024-25'!G:J,4,0)","v":256.73},256.73,{"$f":"VLOOKUP(B35,'[1]2024-25'!G:I,3,0)","v":"REL"}]
[null,"BAA-PQA-000085","RELIEF OF THORPE-WOODS",null,null,null,null,{"$f":"VLOOKUP(B36,'[1]2024-25'!G:J,4,0)","v":455.04},455.04,{"$f":"VLOOKUP(B36,'[1]2024-25'!G:I,3,0)","v":"REL"}]
[]
[]
[]
[]
[null,null,null,null,null,null,null,"Total",{"$f":"SUM(I9,I15,I16,I17,I18,I19,I20,I21,I22)","v":3922893.1200000006},null,null,{"$f":"SUM(L9,L15,L16,L17,L18,L19,L20,L21,L22)","v":16}]
[null,null,null,null,null,null,null,"Unit cost ($2024, direct cost without overheads, per DSS with PQA)",{"$f":"I41/L41","v":245180.82000000004}]
[]
[]
[null,null,null,null,null,null,null,"Augmentation required to deliver 15.98% under-voltage improvement with updated DSS augmentation unit rate of $245k per DSS"]
[null,null,null,null,null,null,null,"Unit cost ($2024, direct cost without overheads, per DSS with PQA)",{"$f":"I42","v":245180.82000000004}]
[null,null,null,null,null,null,null,"Number of DSS augmentation to deliver 15.98% improvement to meet 5% compliance",35]
[null,null,null,null,null,null,null,"One-off total capex required to deliver improvement to maintain EDCoP under-voltage 5% compliance ($2024, direct cost without overheads)",{"$f":"I46*I47","v":8581328.7000000011}]

{"sheet":"Option_4","index":3,"n_rows":126,"n_cols":19,"rows_kept":126,"cut":false,"hidden":false,"merged":[]}
[null,null,null,"Voltage PQ Management Strategy",null,null,null,"Section Check:",{"$f":"IF(COUNTA($A$8:$A$127)=COUNTIF($A$8:$A$127,0),\"Ok\",\"Check\")","v":"Ok"},null,null,"Overall Check:","Ok",null,"Legend:","Input","Internal","Select","Calculation"]
[null,null,null,{"$f":"Summary!$K15","v":"Option 4 - DVM only"}]
[]
[]
[]
[null,"Copyright Jemena Limited. All rights reserved. Jemena is not liable for any loss caused by reliance on this document."]
[]
[null,"General Assumptions"]
[]
[null,null,{"$f":"B8","v":"General Assumptions"}]
[]
[null,null,null,{"$f":"C10","v":"General Assumptions"},"Source","Unit","Basis"]
[null,null,null,null,null,null,null,null,null,"Start","End"]
[null,null,null,"Next Regulatory Period","AM","Year","n/a",null,null,{"$f":"General!J16","v":2027},{"$f":"J14+4","v":2031}]
[null,null,null,"This Regulatory Period","AM","Year","n/a",null,null,{"$f":"K15-4","v":2022},{"$f":"J14-1","v":2026}]
[]
[null,"Option"]
[]
[null,null,"Summary"]
[]
[null,null,null,{"$f":"C19&\" ($M)\"","v":"Summary ($M)"},"Period",null,null,null,null,"Total DVM Cost","Total Cost","PV Total Cost"]
[]
[null,null,null,{"$f":"D14","v":"Next Regulatory Period"},{"$f":"$J$14&\" - \"&$K$14","v":"2027 - 2031"},null,null,null,null,{"$f":"SUMIFS($K$72:$K$103,$J$72:$J$103,\">=\"&J14,$J$72:$J$103,\"<=\"&K14)","v":14.09656854725247},{"$f":"SUMIFS($K$37:$K$124,$J$37:$J$124,\">=\"&$J14,$J$37:$J$124,\"<=\"&$K14)","v":23.249318547252464},{"$f":"SUMIFS($L$37:$L$124,$J$37:$J$124,\">=\"&$J14,$J$37:$J$124,\"<=\"&$K14)","v":17.919079173745935}]
[null,null,null,{"$f":"D15","v":"This Regulatory Period"},{"$f":"$J$15&\" - \"&$K$15","v":"2022 - 2026"},null,null,null,null,{"$f":"SUMIFS($K$72:$K$103,$J$72:$J$103,\">=\"&J15,$J$72:$J$103,\"<=\"&K15)","v":7.5111570025283925},{"$f":"SUMIFS($K$37:$K$124,$J$37:$J$124,\">=\"&$J15,$J$37:$J$124,\"<=\"&$K15)","v":7.5111570025283925},{"$f":"SUMIFS($L$37:$L$124,$J$37:$J$124,\">=\"&$J15,$J$37:$J$124,\"<=\"&$K15)","v":7.2396339124170694}]
[]
[null,null,"Inputs"]
[]
[null,null,null,{"$f":"C26","v":"Inputs"},"Source","Unit"]
[null,null,null,null,null,null,null,null,"Year",2024,{"$f":"J29+1","v":2025},{"$f":"K29+1","v":2026},2027,2028,2029,2030,2031,2032]
[null,null,null,"VRR replacement per TX ($M)","AM","$M",null,null,"Unit Rate",0.20725539120310141,0.2183800259716934,0.23010178633502221,0.23087573199102945,0.23713500017703151,0.23700893852241472,0.23688294388253955,0.23675701622178077,0.23663115550453209]
[null,null,null,"DVM Integration per ZSS ($M)","AM","$M",null,null,"Unit Rate",0.45783893952207055,0.48766423344756749,0.5194324555099129,0.52383144877313392,0.54233044453207147,0.54153921789798876,0.54074914561471332,0.53996022599811866,0.5391724573665353]
[null,null,null,null,null,null,null,null,"Reconcile",{"$f":"SUMIF($J$72:$J$101,J$29,$K$72:$K$101)","v":1.330188661450344},{"$f":"SUMIF($J$72:$J$101,K$29,$K$72:$K$101)","v":1.4120885188385217},1.4990684836898702,2.7258730062745489,2.3383963341273089,3.8927407821020177,5.1395584247485964,0,0]
[null,null,"Calculations"]
[null,null,null,null,null,null,null,null,null,null,null,null,"Forecast Compliance"]
[null,null,null,{"$f":"D2","v":"Option 4 - DVM only"},null,null,null,null,null,"Indicative Year","Cost ($M)","PV Cost ($M)",{"$f":"M71","v":2027},2028,2029,2030,2031,2032]
[null,null,null,"PROJECT & LOCATION",null,null,null,null,"TOTAL",{"$f":"J14&\" - \"&J14+General!J15-1","v":"2027 - 2031"},{"$f":"SUMIFS(K$37:K$124,$J$37:$J$124,\">=\"&$J$14,$J$37:$J$124,\"<=\"&J14+General!J15-1)","v":23.249318547252464},{"$f":"SUMIFS(L$37:L$124,$J$37:$J$124,\">=\"&$J$14,$J$37:$J$124,\"<=\"&J14+General!J15-1)","v":17.919079173745935},{"$f":"Compliance!M43-SUM(M72:M101)","v":4.3198232527971468E-2},{"$f":"Compliance!N43-SUM(N72:N101)","v":2.6023404140316748E-2},{"$f":"Compliance!O43-SUM(O72:O101)","v":2.9759153559267067E-2},{"$f":"Compliance!P43-SUM(P72:P101)","v":3.7258580617263941E-2},{"$f":"Compliance!Q43-SUM(Q72:Q101)","v":4.6465828874114927E-2},{"$f":"Compliance!R43-SUM(R72:R101)","v":5.8593173341981532E-2}]
[null,null,null,{"$f":"Option_2D!D37","v":"Reactors"}]
[]
[]
[]
[]
[]
[null,null,null,{"$f":"Option_2D!D43","v":"VAr controllers"}]
[]
[]
[]
[]
[]
[]
[]
[]
[]
[]
[]
[null,null,null,{"$f":"Option_2D!D55","v":"Traditional for voltage spread to support DVM"}]
[null,null,null,{"$f":"Option_2D!D56","v":"EPN"},null,null,null,null,null,{"$f":"Option_2D!J56","v":2027},{"$f":"Option_2D!K56","v":4.1070000000000002E-2},{"$f":"Option_2D!L56","v":3.4975773188029601E-2}]
[null,null,null,{"$f":"Option_2D!D57","v":"EP0"},null,null,null,null,null,{"$f":"Option_2D!J57","v":2027},{"$f":"Option_2D!K57","v":4.1070000000000002E-2},{"$f":"Option_2D!L57","v":3.4975773188029601E-2}]
[null,null,null,{"$f":"Option_2D!D58","v":"AW0"},null,null,null,null,null,{"$f":"Option_2D!J58","v":2028},{"$f":"Option_2D!K58","v":4.1070000000000002E-2},{"$f":"Option_2D!L58","v":3.3152391647421425E-2}]
[null,null,null,{"$f":"Option_2D!D59","v":"NS0"},null,null,null,null,null,{"$f":"Option_2D!J59","v":2028},{"$f":"Option_2D!K59","v":4.1070000000000002E-2},{"$f":"Option_2D!L59","v":3.3152391647421425E-2}]
[null,null,null,{"$f":"Option_2D!D60","v":"FT0"},null,null,null,null,null,{"$f":"Option_2D!J60","v":2028},{"$f":"Option_2D!K60","v":4.1070000000000002E-2},{"$f":"Option_2D!L60","v":3.3152391647421425E-2}]
[null,null,null,{"$f":"Option_2D!D61","v":"TMA"},null,null,null,null,null,{"$f":"Option_2D!J61","v":2028},{"$f":"Option_2D!K61","v":4.1070000000000002E-2},{"$f":"Option_2D!L61","v":3.3152391647421425E-2}]
[null,null,null,{"$f":"Option_2D!D62","v":"TH0"},null,null,null,null,null,{"$f":"Option_2D!J62","v":2029},{"$f":"Option_2D!K62","v":4.1070000000000002E-2},{"$f":"Option_2D!L62","v":3.1424067912247791E-2}]
[null,null,null,{"$f":"Option_2D!D63","v":"PTN"},null,null,null,null,null,{"$f":"Option_2D!J63","v":2029},{"$f":"Option_2D!K63","v":4.1070000000000002E-2},{"$f":"Option_2D!L63","v":3.1424067912247791E-2}]
[null,null,null,{"$f":"Option_2D!D64","v":"YVE"},null,null,null,null,null,{"$f":"Option_2D!J64","v":2029},{"$f":"Option_2D!K64","v":4.1070000000000002E-2},{"$f":"Option_2D!L64","v":3.1424067912247791E-2}]
[null,null,null,{"$f":"Option_2D!D65","v":"FF0"},null,null,null,null,null,{"$f":"Option_2D!J65","v":2029},{"$f":"Option_2D!K65","v":4.1070000000000002E-2},{"$f":"Option_2D!L65","v":3.1424067912247791E-2}]
[null,null,null,{"$f":"Option_2D!D66","v":"BY0"},null,null,null,null,null,{"$f":"Option_2D!J66","v":2029},{"$f":"Option_2D!K66","v":4.1070000000000002E-2},{"$f":"Option_2D!L66","v":3.1424067912247791E-2}]
[null,null,null,{"$f":"Option_2D!D67","v":"ES0"},null,null,null,null,null,{"$f":"Option_2D!J67","v":2030},{"$f":"Option_2D!K67","v":4.1070000000000002E-2},{"$f":"Option_2D!L67","v":2.9785846362320186E-2}]
[null,null,null,{"$f":"Option_2D!D68","v":"HB0"},null,null,null,null,null,{"$f":"Option_2D!J68","v":2031},{"$f":"Option_2D!K68","v":4.1070000000000002E-2},{"$f":"Option_2D!L68","v":2.8233029727317716E-2}]
[null,null,null,{"$f":"Option_2D!D69","v":"PV0"},null,null,null,null,null,{"$f":"Option_2D!J69","v":2031},{"$f":"Option_2D!K69","v":4.1070000000000002E-2},{"$f":"Option_2D!L69","v":2.8233029727317716E-2}]
[null,null,null,{"$f":"Option_2D!D70","v":"BMS"},null,null,null,null,null,{"$f":"Option_2D!J70","v":2031},{"$f":"Option_2D!K70","v":4.1070000000000002E-2},{"$f":"Option_2D!L70","v":2.8233029727317716E-2}]
[null,null,null,{"$f":"Option_2D!D71","v":"DVM Rollout"},null,null,null,null,null,null,null,null,{"$f":"Option_2D!M71","v":2027},{"$f":"Option_2D!N71","v":2028},{"$f":"Option_2D!O71","v":2029},{"$f":"Option_2D!P71","v":2030},{"$f":"Option_2D!Q71","v":2031},{"$f":"Option_2D!R71","v":2032}]
[null,null,null,{"$f":"Option_2D!D72","v":"AW0"},null,null,null,null,null,{"$f":"Option_2D!J72","v":2024},{"$f":"Option_2D!K72","v":0.45783893952207055},{"$f":"Option_2D!L72","v":0.45783893952207055},{"$f":"IFERROR(HLOOKUP(MAX(VLOOKUP(VLOOKUP($D72,Compliance!$D$11:$E$41,2,FALSE),OLTC_Taps!$D$147:$K$173,6,FALSE),1),{1,2,3,4,5,6,7,8,9;0,0.5,0.75,1,1,1,1,1,1},2,FALSE),0)*\nIF(ISERROR(VLOOKUP($D72,Option_2D!$F$38:$F$54,1,FALSE)),1,0)*\nOption_2D!M72","v":1.5246148856818556E-3},{"$f":"IFERROR(HLOOKUP(MAX(VLOOKUP(VLOOKUP($D72,Compliance!$D$11:$E$41,2,FALSE),OLTC_Taps!$D$147:$K$173,6,FALSE),1),{1,2,3,4,5,6,7,8,9;0,0.5,0.75,1,1,1,1,1,1},2,FALSE),0)*\nIF(ISERROR(VLOOKUP($D72,Option_2D!$F$38:$F$54,1,FALSE)),1,0)*\nOption_2D!N72","v":1.5246148856818556E-3},{"$f":"IFERROR(HLOOKUP(MAX(VLOOKUP(VLOOKUP($D72,Compliance!$D$11:$E$41,2,FALSE),OLTC_Taps!$D$147:$K$173,6,FALSE),1),{1,2,3,4,5,6,7,8,9;0,0.5,0.75,1,1,1,1,1,1},2,FALSE),0)*\nIF(ISERROR(VLOOKUP($D72,Option_2D!$F$38:$F$54,1,FALSE)),1,0)*\nOption_2D!O72","v":1.5246148856818556E-3},{"$f":"IFERROR(HLOOKUP(MAX(VLOOKUP(VLOOKUP($D72,Compliance!$D$11:$E$41,2,FALSE),OLTC_Taps!$D$147:$K$173,7,FALSE),1),{1,2,3,4,5,6,7,8,9;0,0.5,0.75,1,1,1,1,1,1},2,FALSE),0)*\nIF(ISERROR(VLOOKUP($D72,Option_2D!$F$38:$F$54,1,FALSE)),1,0)*\nOption_2D!P72","v":1.1434611642613917E-3},{"$f":"IFERROR(HLOOKUP(MAX(VLOOKUP(VLOOKUP($D72,Compliance!$D$11:$E$41,2,FALSE),OLTC_Taps!$D$147:$K$173,7,FALSE),1),{1,2,3,4,5,6,7,8,9;0,0.5,0.75,1,1,1,1,1,1},2,FALSE),0)*\nIF(ISERROR(VLOOKUP($D72,Option_2D!$F$38:$F$54,1,FALSE)),1,0)*\nOption_2D!Q72","v":1.1434611642613917E-3},{"$f":"IFERROR(HLOOKUP(MAX(VLOOKUP(VLOOKUP($D72,Compliance!$D$11:$E$41,2,FALSE),OLTC_Taps!$D$147:$K$173,7,FALSE),1),{1,2,3,4,5,6,7,8,9;0,0.5,0.75,1,1,1,1,1,1},2,FALSE),0)*\nIF(ISERROR(VLOOKUP($D72,Option_2D!$F$38:$F$54,1,FALSE)),1,0)*\nOption_2D!R72","v":1.1434611642613917E-3}]
[null,null,null,{"$f":"Option_2D!D73","v":"CS0"},null,null,null,null,null,{"$f":"Option_2D!J73","v":2024},{"$f":"Option_2D!K73","v":0.87234972192827342},{"$f":"Option_2D!L73","v":0.87234972192827342},{"$f":"IFERROR(HLOOKUP(MAX(VLOOKUP(VLOOKUP($D73,Compliance!$D$11:$E$41,2,FALSE),OLTC_Taps!$D$147:$K$173,6,FALSE),1),{1,2,3,4,5,6,7,8,9;0,0.5,0.75,1,1,1,1,1,1},2,FALSE),0)*\nIF(ISERROR(VLOOKUP($D73,Option_2D!$F$38:$F$54,1,FALSE)),1,0)*\nOption_2D!M73","v":0},{"$f":"IFERROR(HLOOKUP(MAX(VLOOKUP(VLOOKUP($D73,Compliance!$D$11:$E$41,2,FALSE),OLTC_Taps!$D$147:$K$173,6,FALSE),1),{1,2,3,4,5,6,7,8,9;0,0.5,0.75,1,1,1,1,1,1},2,FALSE),0)*\nIF(ISERROR(VLOOKUP($D73,Option_2D!$F$38:$F$54,1,FALSE)),1,0)*\nOption_2D!N73","v":0},{"$f":"IFERROR(HLOOKUP(MAX(VLOOKUP(VLOOKUP($D73,Compliance!$D$11:$E$41,2,FALSE),OLTC_Taps!$D$147:$K$173,6,FALSE),1),{1,2,3,4,5,6,7,8,9;0,0.5,0.75,1,1,1,1,1,1},2,FALSE),0)*\nIF(ISERROR(VLOOKUP($D73,Option_2D!$F$38:$F$54,1,FALSE)),1,0)*\nOption_2D!O73","v":0},{"$f":"IFERROR(HLOOKUP(MAX(VLOOKUP(VLOOKUP($D73,Compliance!$D$11:$E$41,2,FALSE),OLTC_Taps!$D$147:$K$173,7,FALSE),1),{1,2,3,4,5,6,7,8,9;0,0.5,0.75,1,1,1,1,1,1},2,FALSE),0)*\nIF(ISERROR(VLOOKUP($D73,Option_2D!$F$38:$F$54,1,FALSE)),1,0)*\nOption_2D!P73","v":0},{"$f":"IFERROR(HLOOKUP(MAX(VLOOKUP(VLOOKUP($D73,Compliance!$D$11:$E$41,2,FALSE),OLTC_Taps!$D$147:$K$173,7,FALSE),1),{1,2,3,4,5,6,7,8,9;0,0.5,0.75,1,1,1,1,1,1},2,FALSE),0)*\nIF(ISERROR(VLOOKUP($D73,Option_2D!$F$38:$F$54,1,FALSE)),1,0)*\nOption_2D!Q73","v":0},{"$f":"IFERROR(HLOOKUP(MAX(VLOOKUP(VLOOKUP($D73,Compliance!$D$11:$E$41,2,FALSE),OLTC_Taps!$D$147:$K$173,7,FALSE),1),{1,2,3,4,5,6,7,8,9;0,0.5,0.75,1,1,1,1,1,1},2,FALSE),0)*\nIF(ISERROR(VLOOKUP($D73,Option_2D!$F$38:$F$54,1,FALSE)),1,0)*\nOption_2D!R73","v":0}]
[null,null,null,{"$f":"Option_2D!D74","v":"PTN"},null,null,null,null,null,{"$f":"Option_2D!J74","v":2025},{"$f":"Option_2D!K74","v":0.48766423344756749},{"$f":"Option_2D!L74","v":0.46224097957115401},{"$f":"IFERROR(HLOOKUP(MAX(VLOOKUP(VLOOKUP($D74,Compliance!$D$11:$E$41,2,FALSE),OLTC_Taps!$D$147:$K$173,6,FALSE),1),{1,2,3,4,5,6,7,8,9;0,0.5,0.75,1,1,1,1,1,1},2,FALSE),0)*\nIF(ISERROR(VLOOKUP($D74,Option_2D!$F$38:$F$54,1,FALSE)),1,0)*\nOption_2D!M74","v":9.3196043457110459E-4},{"$f":"IFERROR(HLOOKUP(MAX(VLOOKUP(VLOOKUP($D74,Compliance!$D$11:$E$41,2,FALSE),OLTC_Taps!$D$147:$K$173,6,FALSE),1),{1,2,3,4,5,6,7,8,9;0,0.5,0.75,1,1,1,1,1,1},2,FALSE),0)*\nIF(ISERROR(VLOOKUP($D74,Option_2D!$F$38:$F$54,1,FALSE)),1,0)*\nOption_2D!N74","v":9.3196043457110459E-4},{"$f":"IFERROR(HLOOKUP(MAX(VLOOKUP(VLOOKUP($D74,Compliance!$D$11:$E$41,2,FALSE),OLTC_Taps!$D$147:$K$173,6,FALSE),1),{1,2,3,4,5,6,7,8,9;0,0.5,0.75,1,1,1,1,1,1},2,FALSE),0)*\nIF(ISERROR(VLOOKUP($D74,Option_2D!$F$38:$F$54,1,FALSE)),1,0)*\nOption_2D!O74","v":9.3196043457110459E-4},{"$f":"IFERROR(HLOOKUP(MAX(VLOOKUP(VLOOKUP($D74,Compliance!$D$11:$E$41,2,FALSE),OLTC_Taps!$D$147:$K$173,7,FALSE),1),{1,2,3,4,5,6,7,8,9;0,0.5,0.75,1,1,1,1,1,1},2,FALSE),0)*\nIF(ISERROR(VLOOKUP($D74,Option_2D!$F$38:$F$54,1,FALSE)),1,0)*\nOption_2D!P74","v":9.3196043457110459E-4},{"$f":"IFERROR(HLOOKUP(MAX(VLOOKUP(VLOOKUP($D74,Compliance!$D$11:$E$41,2,FALSE),OLTC_Taps!$D$147:$K$173,7,FALSE),1),{1,2,3,4,5,6,7,8,9;0,0.5,0.75,1,1,1,1,1,1},2,FALSE),0)*\nIF(ISERROR(VLOOKUP($D74,Option_2D!$F$38:$F$54,1,FALSE)),1,0)*\nOption_2D!Q74","v":9.3196043457110459E-4},{"$f":"IFERROR(HLOOKUP(MAX(VLOOKUP(VLOOKUP($D74,Compliance!$D$11:$E$41,2,FALSE),OLTC_Taps!$D$147:$K$173,7,FALSE),1),{1,2,3,4,5,6,7,8,9;0,0.5,0.75,1,1,1,1,1,1},2,FALSE),0)*\nIF(ISERROR(VLOOKUP($D74,Option_2D!$F$38:$F$54,1,FALSE)),1,0)*\nOption_2D!R74","v":9.3196043457110459E-4}]
[null,null,null,{"$f":"Option_2D!D75","v":"HB0"},null,null,null,null,null,{"$f":"Option_2D!J75","v":2025},{"$f":"Option_2D!K75","v":0.92442428539095434},{"$f":"Option_2D!L75","v":0.83055123235412898},{"$f":"IFERROR(HLOOKUP(MAX(VLOOKUP(VLOOKUP($D75,Compliance!$D$11:$E$41,2,FALSE),OLTC_Taps!$D$147:$K$173,6,FALSE),1),{1,2,3,4,5,6,7,8,9;0,0.5,0.75,1,1,1,1,1,1},2,FALSE),0)*\nIF(ISERROR(VLOOKUP($D75,Option_2D!$F$38:$F$54,1,FALSE)),1,0)*\nOption_2D!M75","v":1.4929463272255557E-4},{"$f":"IFERROR(HLOOKUP(MAX(VLOOKUP(VLOOKUP($D75,Compliance!$D$11:$E$41,2,FALSE),OLTC_Taps!$D$147:$K$173,6,FALSE),1),{1,2,3,4,5,6,7,8,9;0,0.5,0.75,1,1,1,1,1,1},2,FALSE),0)*\nIF(ISERROR(VLOOKUP($D75,Option_2D!$F$38:$F$54,1,FALSE)),1,0)*\nOption_2D!N75","v":1.4929463272255557E-4},{"$f":"IFERROR(HLOOKUP(MAX(VLOOKUP(VLOOKUP($D75,Compliance!$D$11:$E$41,2,FALSE),OLTC_Taps!$D$147:$K$173,6,FALSE),1),{1,2,3,4,5,6,7,8,9;0,0.5,0.75,1,1,1,1,1,1},2,FALSE),0)*\nIF(ISERROR(VLOOKUP($D75,Option_2D!$F$38:$F$54,1,FALSE)),1,0)*\nOption_2D!O75","v":1.4929463272255557E-4},{"$f":"IFERROR(HLOOKUP(MAX(VLOOKUP(VLOOKUP($D75,Compliance!$D$11:$E$41,2,FALSE),OLTC_Taps!$D$147:$K$173,7,FALSE),1),{1,2,3,4,5,6,7,8,9;0,0.5,0.75,1,1,1,1,1,1},2,FALSE),0)*\nIF(ISERROR(VLOOKUP($D75,Option_2D!$F$38:$F$54,1,FALSE)),1,0)*\nOption_2D!P75","v":1.4929463272255557E-4},{"$f":"IFERROR(HLOOKUP(MAX(VLOOKUP(VLOOKUP($D75,Compliance!$D$11:$E$41,2,FALSE),OLTC_Taps!$D$147:$K$173,7,FALSE),1),{1,2,3,4,5,6,7,8,9;0,0.5,0.75,1,1,1,1,1,1},2,FALSE),0)*\nIF(ISERROR(VLOOKUP($D75,Option_2D!$F$38:$F$54,1,FALSE)),1,0)*\nOption_2D!Q75","v":1.4929463272255557E-4},{"$f":"IFERROR(HLOOKUP(MAX(VLOOKUP(VLOOKUP($D75,Compliance!$D$11:$E$41,2,FALSE),OLTC_Taps!$D$147:$K$173,7,FALSE),1),{1,2,3,4,5,6,7,8,9;0,0.5,0.75,1,1,1,1,1,1},2,FALSE),0)*\nIF(ISERROR(VLOOKUP($D75,Option_2D!$F$38:$F$54,1,FALSE)),1,0)*\nOption_2D!R75","v":1.4929463272255557E-4}]
[null,null,null,{"$f":"Option_2D!D76","v":"SBY"},null,null,null,null,null,{"$f":"Option_2D!J76","v":2026},{"$f":"Option_2D!K76","v":0.5194324555099129},{"$f":"Option_2D!L76","v":0.46668534445310123},{"$f":"IFERROR(HLOOKUP(MAX(VLOOKUP(VLOOKUP($D76,Compliance!$D$11:$E$41,2,FALSE),OLTC_Taps!$D$147:$K$173,6,FALSE),1),{1,2,3,4,5,6,7,8,9;0,0.5,0.75,1,1,1,1,1,1},2,FALSE),0)*\nIF(ISERROR(VLOOKUP($D76,Option_2D!$F$38:$F$54,1,FALSE)),1,0)*\nOption_2D!M76","v":0},{"$f":"IFERROR(HLOOKUP(MAX(VLOOKUP(VLOOKUP($D76,Compliance!$D$11:$E$41,2,FALSE),OLTC_Taps!$D$147:$K$173,6,FALSE),1),{1,2,3,4,5,6,7,8,9;0,0.5,0.75,1,1,1,1,1,1},2,FALSE),0)*\nIF(ISERROR(VLOOKUP($D76,Option_2D!$F$38:$F$54,1,FALSE)),1,0)*\nOption_2D!N76","v":0},{"$f":"IFERROR(HLOOKUP(MAX(VLOOKUP(VLOOKUP($D76,Compliance!$D$11:$E$41,2,FALSE),OLTC_Taps!$D$147:$K$173,6,FALSE),1),{1,2,3,4,5,6,7,8,9;0,0.5,0.75,1,1,1,1,1,1},2,FALSE),0)*\nIF(ISERROR(VLOOKUP($D76,Option_2D!$F$38:$F$54,1,FALSE)),1,0)*\nOption_2D!O76","v":0},{"$f":"IFERROR(HLOOKUP(MAX(VLOOKUP(VLOOKUP($D76,Compliance!$D$11:$E$41,2,FALSE),OLTC_Taps!$D$147:$K$173,7,FALSE),1),{1,2,3,4,5,6,7,8,9;0,0.5,0.75,1,1,1,1,1,1},2,FALSE),0)*\nIF(ISERROR(VLOOKUP($D76,Option_2D!$F$38:$F$54,1,FALSE)),1,0)*\nOption_2D!P76","v":0},{"$f":"IFERROR(HLOOKUP(MAX(VLOOKUP(VLOOKUP($D76,Compliance!$D$11:$E$41,2,FALSE),OLTC_Taps!$D$147:$K$173,7,FALSE),1),{1,2,3,4,5,6,7,8,9;0,0.5,0.75,1,1,1,1,1,1},2,FALSE),0)*\nIF(ISERROR(VLOOKUP($D76,Option_2D!$F$38:$F$54,1,FALSE)),1,0)*\nOption_2D!Q76","v":0},{"$f":"IFERROR(HLOOKUP(MAX(VLOOKUP(VLOOKUP($D76,Compliance!$D$11:$E$41,2,FALSE),OLTC_Taps!$D$147:$K$173,7,FALSE),1),{1,2,3,4,5,6,7,8,9;0,0.5,0.75,1,1,1,1,1,1},2,FALSE),0)*\nIF(ISERROR(VLOOKUP($D76,Option_2D!$F$38:$F$54,1,FALSE)),1,0)*\nOption_2D!R76","v":0}]
[null,null,null,{"$f":"Option_2D!D77","v":"FE0"},null,null,null,null,null,{"$f":"Option_2D!J77","v":2026},{"$f":"Option_2D!K77","v":0.97963602817995732},{"$f":"Option_2D!L77","v":0.88015635603868503},{"$f":"IFERROR(HLOOKUP(MAX(VLOOKUP(VLOOKUP($D77,Compliance!$D$11:$E$41,2,FALSE),OLTC_Taps!$D$147:$K$173,6,FALSE),1),{1,2,3,4,5,6,7,8,9;0,0.5,0.75,1,1,1,1,1,1},2,FALSE),0)*\nIF(ISERROR(VLOOKUP($D77,Option_2D!$F$38:$F$54,1,FALSE)),1,0)*\nOption_2D!M77","v":7.7964974866223452E-4},{"$f":"IFERROR(HLOOKUP(MAX(VLOOKUP(VLOOKUP($D77,Compliance!$D$11:$E$41,2,FALSE),OLTC_Taps!$D$147:$K$173,6,FALSE),1),{1,2,3,4,5,6,7,8,9;0,0.5,0.75,1,1,1,1,1,1},2,FALSE),0)*\nIF(ISERROR(VLOOKUP($D77,Option_2D!$F$38:$F$54,1,FALSE)),1,0)*\nOption_2D!N77","v":7.7964974866223452E-4},{"$f":"IFERROR(HLOOKUP(MAX(VLOOKUP(VLOOKUP($D77,Compliance!$D$11:$E$41,2,FALSE),OLTC_Taps!$D$147:$K$173,6,FALSE),1),{1,2,3,4,5,6,7,8,9;0,0.5,0.75,1,1,1,1,1,1},2,FALSE),0)*\nIF(ISERROR(VLOOKUP($D77,Option_2D!$F$38:$F$54,1,FALSE)),1,0)*\nOption_2D!O77","v":7.7964974866223452E-4},{"$f":"IFERROR(HLOOKUP(MAX(VLOOKUP(VLOOKUP($D77,Compliance!$D$11:$E$41,2,FALSE),OLTC_Taps!$D$147:$K$173,7,FALSE),1),{1,2,3,4,5,6,7,8,9;0,0.5,0.75,1,1,1,1,1,1},2,FALSE),0)*\nIF(ISERROR(VLOOKUP($D77,Option_2D!$F$38:$F$54,1,FALSE)),1,0)*\nOption_2D!P77","v":5.8473731149667589E-4},{"$f":"IFERROR(HLOOKUP(MAX(VLOOKUP(VLOOKUP($D77,Compliance!$D$11:$E$41,2,FALSE),OLTC_Taps!$D$147:$K$173,7,FALSE),1),{1,2,3,4,5,6,7,8,9;0,0.5,0.75,1,1,1,1,1,1},2,FALSE),0)*\nIF(ISERROR(VLOOKUP($D77,Option_2D!$F$38:$F$54,1,FALSE)),1,0)*\nOption_2D!Q77","v":5.8473731149667589E-4},{"$f":"IFERROR(HLOOKUP(MAX(VLOOKUP(VLOOKUP($D77,Compliance!$D$11:$E$41,2,FALSE),OLTC_Taps!$D$147:$K$173,7,FALSE),1),{1,2,3,4,5,6,7,8,9;0,0.5,0.75,1,1,1,1,1,1},2,FALSE),0)*\nIF(ISERROR(VLOOKUP($D77,Option_2D!$F$38:$F$54,1,FALSE)),1,0)*\nOption_2D!R77","v":5.8473731149667589E-4}]
[null,null,null,{"$f":"Option_2D!D78","v":"NS0"},null,null,null,null,null,{"$f":"Option_2D!J78","v":2027},{"$f":"Option_2D!K78","v":0.52383144877313392},{"$f":"Option_2D!L78","v":0.44610201950440898},{"$f":"IFERROR(HLOOKUP(MAX(VLOOKUP(VLOOKUP($D78,Compliance!$D$11:$E$41,2,FALSE),OLTC_Taps!$D$147:$K$173,6,FALSE),1),{1,2,3,4,5,6,7,8,9;0,0.5,0.75,1,1,1,1,1,1},2,FALSE),0)*\nIF(ISERROR(VLOOKUP($D78,Option_2D!$F$38:$F$54,1,FALSE)),1,0)*\nOption_2D!M78","v":0},{"$f":"IFERROR(HLOOKUP(MAX(VLOOKUP(VLOOKUP($D78,Compliance!$D$11:$E$41,2,FALSE),OLTC_Taps!$D$147:$K$173,6,FALSE),1),{1,2,3,4,5,6,7,8,9;0,0.5,0.75,1,1,1,1,1,1},2,FALSE),0)*\nIF(ISERROR(VLOOKUP($D78,Option_2D!$F$38:$F$54,1,FALSE)),1,0)*\nOption_2D!N78","v":1.4866126155342958E-2},{"$f":"IFERROR(HLOOKUP(MAX(VLOOKUP(VLOOKUP($D78,Compliance!$D$11:$E$41,2,FALSE),OLTC_Taps!$D$147:$K$173,6,FALSE),1),{1,2,3,4,5,6,7,8,9;0,0.5,0.75,1,1,1,1,1,1},2,FALSE),0)*\nIF(ISERROR(VLOOKUP($D78,Option_2D!$F$38:$F$54,1,FALSE)),1,0)*\nOption_2D!O78","v":1.4866126155342958E-2},{"$f":"IFERROR(HLOOKUP(MAX(VLOOKUP(VLOOKUP($D78,Compliance!$D$11:$E$41,2,FALSE),OLTC_Taps!$D$147:$K$173,7,FALSE),1),{1,2,3,4,5,6,7,8,9;0,0.5,0.75,1,1,1,1,1,1},2,FALSE),0)*\nIF(ISERROR(VLOOKUP($D78,Option_2D!$F$38:$F$54,1,FALSE)),1,0)*\nOption_2D!P78","v":1.4866126155342958E-2},{"$f":"IFERROR(HLOOKUP(MAX(VLOOKUP(VLOOKUP($D78,Compliance!$D$11:$E$41,2,FALSE),OLTC_Taps!$D$147:$K$173,7,FALSE),1),{1,2,3,4,5,6,7,8,9;0,0.5,0.75,1,1,1,1,1,1},2,FALSE),0)*\nIF(ISERROR(VLOOKUP($D78,Option_2D!$F$38:$F$54,1,FALSE)),1,0)*\nOption_2D!Q78","v":1.4866126155342958E-2},{"$f":"IFERROR(HLOOKUP(MAX(VLOOKUP(VLOOKUP($D78,Compliance!$D$11:$E$41,2,FALSE),OLTC_Taps!$D$147:$K$173,7,FALSE),1),{1,2,3,4,5,6,7,8,9;0,0.5,0.75,1,1,1,1,1,1},2,FALSE),0)*\nIF(ISERROR(VLOOKUP($D78,Option_2D!$F$38:$F$54,1,FALSE)),1,0)*\nOption_2D!R78","v":1.4866126155342958E-2}]
[null,null,null,{"$f":"Option_2D!D79","v":"ST0"},null,null,null,null,null,{"$f":"Option_2D!J79","v":2027},{"$f":"Option_2D!K79","v":1.2164586447462222},{"$f":"Option_2D!L79","v":1.0359528037804173},{"$f":"IFERROR(HLOOKUP(MAX(VLOOKUP(VLOOKUP($D79,Compliance!$D$11:$E$41,2,FALSE),OLTC_Taps!$D$147:$K$173,6,FALSE),1),{1,2,3,4,5,6,7,8,9;0,0.5,0.75,1,1,1,1,1,1},2,FALSE),0)*\nIF(ISERROR(VLOOKUP($D79,Option_2D!$F$38:$F$54,1,FALSE)),1,0)*\nOption_2D!M79","v":0},{"$f":"IFERROR(HLOOKUP(MAX(VLOOKUP(VLOOKUP($D79,Compliance!$D$11:$E$41,2,FALSE),OLTC_Taps!$D$147:$K$173,6,FALSE),1),{1,2,3,4,5,6,7,8,9;0,0.5,0.75,1,1,1,1,1,1},2,FALSE),0)*\nIF(ISERROR(VLOOKUP($D79,Option_2D!$F$38:$F$54,1,FALSE)),1,0)*\nOption_2D!N79","v":0},{"$f":"IFERROR(HLOOKUP(MAX(VLOOKUP(VLOOKUP($D79,Compliance!$D$11:$E$41,2,FALSE),OLTC_Taps!$D$147:$K$173,6,FALSE),1),{1,2,3,4,5,6,7,8,9;0,0.5,0.75,1,1,1,1,1,1},2,FALSE),0)*\nIF(ISERROR(VLOOKUP($D79,Option_2D!$F$38:$F$54,1,FALSE)),1,0)*\nOption_2D!O79","v":0},{"$f":"IFERROR(HLOOKUP(MAX(VLOOKUP(VLOOKUP($D79,Compliance!$D$11:$E$41,2,FALSE),OLTC_Taps!$D$147:$K$173,7,FALSE),1),{1,2,3,4,5,6,7,8,9;0,0.5,0.75,1,1,1,1,1,1},2,FALSE),0)*\nIF(ISERROR(VLOOKUP($D79,Option_2D!$F$38:$F$54,1,FALSE)),1,0)*\nOption_2D!P79","v":0},{"$f":"IFERROR(HLOOKUP(MAX(VLOOKUP(VLOOKUP($D79,Compliance!$D$11:$E$41,2,FALSE),OLTC_Taps!$D$147:$K$173,7,FALSE),1),{1,2,3,4,5,6,7,8,9;0,0.5,0.75,1,1,1,1,1,1},2,FALSE),0)*\nIF(ISERROR(VLOOKUP($D79,Option_2D!$F$38:$F$54,1,FALSE)),1,0)*\nOption_2D!Q79","v":0},{"$f":"IFERROR(HLOOKUP(MAX(VLOOKUP(VLOOKUP($D79,Compliance!$D$11:$E$41,2,FALSE),OLTC_Taps!$D$147:$K$173,7,FALSE),1),{1,2,3,4,5,6,7,8,9;0,0.5,0.75,1,1,1,1,1,1},2,FALSE),0)*\nIF(ISERROR(VLOOKUP($D79,Option_2D!$F$38:$F$54,1,FALSE)),1,0)*\nOption_2D!R79","v":0}]
[null,null,null,{"$f":"Option_2D!D80","v":"SHM"},null,null,null,null,null,{"$f":"Option_2D!J80","v":2027},{"$f":"Option_2D!K80","v":0.98558291275519283},{"$f":"Option_2D!L80","v":0.83933587568841461},{"$f":"IFERROR(HLOOKUP(MAX(VLOOKUP(VLOOKUP($D80,Compliance!$D$11:$E$41,2,FALSE),OLTC_Taps!$D$147:$K$173,6,FALSE),1),{1,2,3,4,5,6,7,8,9;0,0.5,0.75,1,1,1,1,1,1},2,FALSE),0)*\nIF(ISERROR(VLOOKUP($D80,Option_2D!$F$38:$F$54,1,FALSE)),1,0)*\nOption_2D!M80","v":0},{"$f":"IFERROR(HLOOKUP(MAX(VLOOKUP(VLOOKUP($D80,Compliance!$D$11:$E$41,2,FALSE),OLTC_Taps!$D$147:$K$173,6,FALSE),1),{1,2,3,4,5,6,7,8,9;0,0.5,0.75,1,1,1,1,1,1},2,FALSE),0)*\nIF(ISERROR(VLOOKUP($D80,Option_2D!$F$38:$F$54,1,FALSE)),1,0)*\nOption_2D!N80","v":0},{"$f":"IFERROR(HLOOKUP(MAX(VLOOKUP(VLOOKUP($D80,Compliance!$D$11:$E$41,2,FALSE),OLTC_Taps!$D$147:$K$173,6,FALSE),1),{1,2,3,4,5,6,7,8,9;0,0.5,0.75,1,1,1,1,1,1},2,FALSE),0)*\nIF(ISERROR(VLOOKUP($D80,Option_2D!$F$38:$F$54,1,FALSE)),1,0)*\nOption_2D!O80","v":0},{"$f":"IFERROR(HLOOKUP(MAX(VLOOKUP(VLOOKUP($D80,Compliance!$D$11:$E$41,2,FALSE),OLTC_Taps!$D$147:$K$173,7,FALSE),1),{1,2,3,4,5,6,7,8,9;0,0.5,0.75,1,1,1,1,1,1},2,FALSE),0)*\nIF(ISERROR(VLOOKUP($D80,Option_2D!$F$38:$F$54,1,FALSE)),1,0)*\nOption_2D!P80","v":0},{"$f":"IFERROR(HLOOKUP(MAX(VLOOKUP(VLOOKUP($D80,Compliance!$D$11:$E$41,2,FALSE),OLTC_Taps!$D$147:$K$173,7,FALSE),1),{1,2,3,4,5,6,7,8,9;0,0.5,0.75,1,1,1,1,1,1},2,FALSE),0)*\nIF(ISERROR(VLOOKUP($D80,Option_2D!$F$38:$F$54,1,FALSE)),1,0)*\nOption_2D!Q80","v":0},{"$f":"IFERROR(HLOOKUP(MAX(VLOOKUP(VLOOKUP($D80,Compliance!$D$11:$E$41,2,FALSE),OLTC_Taps!$D$147:$K$173,7,FALSE),1),{1,2,3,4,5,6,7,8,9;0,0.5,0.75,1,1,1,1,1,1},2,FALSE),0)*\nIF(ISERROR(VLOOKUP($D80,Option_2D!$F$38:$F$54,1,FALSE)),1,0)*\nOption_2D!R80","v":0}]
[null,null,null,{"$f":"Option_2D!D81","v":"TT0"},null,null,null,null,null,{"$f":"Option_2D!J81","v":2028},{"$f":"Option_2D!K81","v":1.2537354450631661},{"$f":"Option_2D!L81","v":1.0120362429264254},{"$f":"IFERROR(HLOOKUP(MAX(VLOOKUP(VLOOKUP($D81,Compliance!$D$11:$E$41,2,FALSE),OLTC_Taps!$D$147:$K$173,6,FALSE),1),{1,2,3,4,5,6,7,8,9;0,0.5,0.75,1,1,1,1,1,1},2,FALSE),0)*\nIF(ISERROR(VLOOKUP($D81,Option_2D!$F$38:$F$54,1,FALSE)),1,0)*\nOption_2D!M81","v":0},{"$f":"IFERROR(HLOOKUP(MAX(VLOOKUP(VLOOKUP($D81,Compliance!$D$11:$E$41,2,FALSE),OLTC_Taps!$D$147:$K$173,6,FALSE),1),{1,2,3,4,5,6,7,8,9;0,0.5,0.75,1,1,1,1,1,1},2,FALSE),0)*\nIF(ISERROR(VLOOKUP($D81,Option_2D!$F$38:$F$54,1,FALSE)),1,0)*\nOption_2D!N81","v":0},{"$f":"IFERROR(HLOOKUP(MAX(VLOOKUP(VLOOKUP($D81,Compliance!$D$11:$E$41,2,FALSE),OLTC_Taps!$D$147:$K$173,6,FALSE),1),{1,2,3,4,5,6,7,8,9;0,0.5,0.75,1,1,1,1,1,1},2,FALSE),0)*\nIF(ISERROR(VLOOKUP($D81,Option_2D!$F$38:$F$54,1,FALSE)),1,0)*\nOption_2D!O81","v":0},{"$f":"IFERROR(HLOOKUP(MAX(VLOOKUP(VLOOKUP($D81,Compliance!$D$11:$E$41,2,FALSE),OLTC_Taps!$D$147:$K$173,7,FALSE),1),{1,2,3,4,5,6,7,8,9;0,0.5,0.75,1,1,1,1,1,1},2,FALSE),0)*\nIF(ISERROR(VLOOKUP($D81,Option_2D!$F$38:$F$54,1,FALSE)),1,0)*\nOption_2D!P81","v":0},{"$f":"IFERROR(HLOOKUP(MAX(VLOOKUP(VLOOKUP($D81,Compliance!$D$11:$E$41,2,FALSE),OLTC_Taps!$D$147:$K$173,7,FALSE),1),{1,2,3,4,5,6,7,8,9;0,0.5,0.75,1,1,1,1,1,1},2,FALSE),0)*\nIF(ISERROR(VLOOKUP($D81,Option_2D!$F$38:$F$54,1,FALSE)),1,0)*\nOption_2D!Q81","v":0},{"$f":"IFERROR(HLOOKUP(MAX(VLOOKUP(VLOOKUP($D81,Compliance!$D$11:$E$41,2,FALSE),OLTC_Taps!$D$147:$K$173,7,FALSE),1),{1,2,3,4,5,6,7,8,9;0,0.5,0.75,1,1,1,1,1,1},2,FALSE),0)*\nIF(ISERROR(VLOOKUP($D81,Option_2D!$F$38:$F$54,1,FALSE)),1,0)*\nOption_2D!R81","v":0}]
[null,null,null,{"$f":"Option_2D!D82","v":"BD0"},null,null,null,null,null,{"$f":"Option_2D!J82","v":2028},{"$f":"Option_2D!K82","v":0.54233044453207147},{"$f":"Option_2D!L82","v":0.43777821522881399},{"$f":"IFERROR(HLOOKUP(MAX(VLOOKUP(VLOOKUP($D82,Compliance!$D$11:$E$41,2,FALSE),OLTC_Taps!$D$147:$K$173,6,FALSE),1),{1,2,3,4,5,6,7,8,9;0,0.5,0.75,1,1,1,1,1,1},2,FALSE),0)*\nIF(ISERROR(VLOOKUP($D82,Option_2D!$F$38:$F$54,1,FALSE)),1,0)*\nOption_2D!M82","v":0},{"$f":"IFERROR(HLOOKUP(MAX(VLOOKUP(VLOOKUP($D82,Compliance!$D$11:$E$41,2,FALSE),OLTC_Taps!$D$147:$K$173,6,FALSE),1),{1,2,3,4,5,6,7,8,9;0,0.5,0.75,1,1,1,1,1,1},2,FALSE),0)*\nIF(ISERROR(VLOOKUP($D82,Option_2D!$F$38:$F$54,1,FALSE)),1,0)*\nOption_2D!N82","v":0},{"$f":"IFERROR(HLOOKUP(MAX(VLOOKUP(VLOOKUP($D82,Compliance!$D$11:$E$41,2,FALSE),OLTC_Taps!$D$147:$K$173,6,FALSE),1),{1,2,3,4,5,6,7,8,9;0,0.5,0.75,1,1,1,1,1,1},2,FALSE),0)*\nIF(ISERROR(VLOOKUP($D82,Option_2D!$F$38:$F$54,1,FALSE)),1,0)*\nOption_2D!O82","v":0},{"$f":"IFERROR(HLOOKUP(MAX(VLOOKUP(VLOOKUP($D82,Compliance!$D$11:$E$41,2,FALSE),OLTC_Taps!$D$147:$K$173,7,FALSE),1),{1,2,3,4,5,6,7,8,9;0,0.5,0.75,1,1,1,1,1,1},2,FALSE),0)*\nIF(ISERROR(VLOOKUP($D82,Option_2D!$F$38:$F$54,1,FALSE)),1,0)*\nOption_2D!P82","v":0},{"$f":"IFERROR(HLOOKUP(MAX(VLOOKUP(VLOOKUP($D82,Compliance!$D$11:$E$41,2,FALSE),OLTC_Taps!$D$147:$K$173,7,FALSE),1),{1,2,3,4,5,6,7,8,9;0,0.5,0.75,1,1,1,1,1,1},2,FALSE),0)*\nIF(ISERROR(VLOOKUP($D82,Option_2D!$F$38:$F$54,1,FALSE)),1,0)*\nOption_2D!Q82","v":0},{"$f":"IFERROR(HLOOKUP(MAX(VLOOKUP(VLOOKUP($D82,Compliance!$D$11:$E$41,2,FALSE),OLTC_Taps!$D$147:$K$173,7,FALSE),1),{1,2,3,4,5,6,7,8,9;0,0.5,0.75,1,1,1,1,1,1},2,FALSE),0)*\nIF(ISERROR(VLOOKUP($D82,Option_2D!$F$38:$F$54,1,FALSE)),1,0)*\nOption_2D!R82","v":0}]
[null,null,null,{"$f":"Option_2D!D83","v":"EPN"},null,null,null,null,null,{"$f":"Option_2D!J83","v":2028},{"$f":"Option_2D!K83","v":0.54233044453207147},{"$f":"Option_2D!L83","v":0.43777821522881399},{"$f":"IFERROR(HLOOKUP(MAX(VLOOKUP(VLOOKUP($D83,Compliance!$D$11:$E$41,2,FALSE),OLTC_Taps!$D$147:$K$173,6,FALSE),1),{1,2,3,4,5,6,7,8,9;0,0.5,0.75,1,1,1,1,1,1},2,FALSE),0)*\nIF(ISERROR(VLOOKUP($D83,Option_2D!$F$38:$F$54,1,FALSE)),1,0)*\nOption_2D!M83","v":0},{"$f":"IFERROR(HLOOKUP(MAX(VLOOKUP(VLOOKUP($D83,Compliance!$D$11:$E$41,2,FALSE),OLTC_Taps!$D$147:$K$173,6,FALSE),1),{1,2,3,4,5,6,7,8,9;0,0.5,0.75,1,1,1,1,1,1},2,FALSE),0)*\nIF(ISERROR(VLOOKUP($D83,Option_2D!$F$38:$F$54,1,FALSE)),1,0)*\nOption_2D!N83","v":0},{"$f":"IFERROR(HLOOKUP(MAX(VLOOKUP(VLOOKUP($D83,Compliance!$D$11:$E$41,2,FALSE),OLTC_Taps!$D$147:$K$173,6,FALSE),1),{1,2,3,4,5,6,7,8,9;0,0.5,0.75,1,1,1,1,1,1},2,FALSE),0)*\nIF(ISERROR(VLOOKUP($D83,Option_2D!$F$38:$F$54,1,FALSE)),1,0)*\nOption_2D!O83","v":8.8370358359007644E-4},{"$f":"IFERROR(HLOOKUP(MAX(VLOOKUP(VLOOKUP($D83,Compliance!$D$11:$E$41,2,FALSE),OLTC_Taps!$D$147:$K$173,7,FALSE),1),{1,2,3,4,5,6,7,8,9;0,0.5,0.75,1,1,1,1,1,1},2,FALSE),0)*\nIF(ISERROR(VLOOKUP($D83,Option_2D!$F$38:$F$54,1,FALSE)),1,0)*\nOption_2D!P83","v":8.8370358359007644E-4},{"$f":"IFERROR(HLOOKUP(MAX(VLOOKUP(VLOOKUP($D83,Compliance!$D$11:$E$41,2,FALSE),OLTC_Taps!$D$147:$K$173,7,FALSE),1),{1,2,3,4,5,6,7,8,9;0,0.5,0.75,1,1,1,1,1,1},2,FALSE),0)*\nIF(ISERROR(VLOOKUP($D83,Option_2D!$F$38:$F$54,1,FALSE)),1,0)*\nOption_2D!Q83","v":8.8370358359007644E-4},{"$f":"IFERROR(HLOOKUP(MAX(VLOOKUP(VLOOKUP($D83,Compliance!$D$11:$E$41,2,FALSE),OLTC_Taps!$D$147:$K$173,7,FALSE),1),{1,2,3,4,5,6,7,8,9;0,0.5,0.75,1,1,1,1,1,1},2,FALSE),0)*\nIF(ISERROR(VLOOKUP($D83,Option_2D!$F$38:$F$54,1,FALSE)),1,0)*\nOption_2D!R83","v":8.8370358359007644E-4}]
[null,null,null,{"$f":"Option_2D!D84","v":"ES0"},null,null,null,null,null,{"$f":"Option_2D!J84","v":2029},{"$f":"Option_2D!K84","v":0.54153921789798876},{"$f":"Option_2D!L84","v":0.41435025956591071},{"$f":"IFERROR(HLOOKUP(MAX(VLOOKUP(VLOOKUP($D84,Compliance!$D$11:$E$41,2,FALSE),OLTC_Taps!$D$147:$K$173,6,FALSE),1),{1,2,3,4,5,6,7,8,9;0,0.5,0.75,1,1,1,1,1,1},2,FALSE),0)*\nIF(ISERROR(VLOOKUP($D84,Option_2D!$F$38:$F$54,1,FALSE)),1,0)*\nOption_2D!M84","v":0},{"$f":"IFERROR(HLOOKUP(MAX(VLOOKUP(VLOOKUP($D84,Compliance!$D$11:$E$41,2,FALSE),OLTC_Taps!$D$147:$K$173,6,FALSE),1),{1,2,3,4,5,6,7,8,9;0,0.5,0.75,1,1,1,1,1,1},2,FALSE),0)*\nIF(ISERROR(VLOOKUP($D84,Option_2D!$F$38:$F$54,1,FALSE)),1,0)*\nOption_2D!N84","v":0},{"$f":"IFERROR(HLOOKUP(MAX(VLOOKUP(VLOOKUP($D84,Compliance!$D$11:$E$41,2,FALSE),OLTC_Taps!$D$147:$K$173,6,FALSE),1),{1,2,3,4,5,6,7,8,9;0,0.5,0.75,1,1,1,1,1,1},2,FALSE),0)*\nIF(ISERROR(VLOOKUP($D84,Option_2D!$F$38:$F$54,1,FALSE)),1,0)*\nOption_2D!O84","v":0},{"$f":"IFERROR(HLOOKUP(MAX(VLOOKUP(VLOOKUP($D84,Compliance!$D$11:$E$41,2,FALSE),OLTC_Taps!$D$147:$K$173,7,FALSE),1),{1,2,3,4,5,6,7,8,9;0,0.5,0.75,1,1,1,1,1,1},2,FALSE),0)*\nIF(ISERROR(VLOOKUP($D84,Option_2D!$F$38:$F$54,1,FALSE)),1,0)*\nOption_2D!P84","v":0},{"$f":"IFERROR(HLOOKUP(MAX(VLOOKUP(VLOOKUP($D84,Compliance!$D$11:$E$41,2,FALSE),OLTC_Taps!$D$147:$K$173,7,FALSE),1),{1,2,3,4,5,6,7,8,9;0,0.5,0.75,1,1,1,1,1,1},2,FALSE),0)*\nIF(ISERROR(VLOOKUP($D84,Option_2D!$F$38:$F$54,1,FALSE)),1,0)*\nOption_2D!Q84","v":0},{"$f":"IFERROR(HLOOKUP(MAX(VLOOKUP(VLOOKUP($D84,Compliance!$D$11:$E$41,2,FALSE),OLTC_Taps!$D$147:$K$173,7,FALSE),1),{1,2,3,4,5,6,7,8,9;0,0.5,0.75,1,1,1,1,1,1},2,FALSE),0)*\nIF(ISERROR(VLOOKUP($D84,Option_2D!$F$38:$F$54,1,FALSE)),1,0)*\nOption_2D!R84","v":0}]
[null,null,null,{"$f":"Option_2D!D85","v":"TH0"},null,null,null,null,null,{"$f":"Option_2D!J85","v":2029},{"$f":"Option_2D!K85","v":1.0155570949428183},{"$f":"Option_2D!L85","v":0.77703762162766499},{"$f":"IFERROR(HLOOKUP(MAX(VLOOKUP(VLOOKUP($D85,Compliance!$D$11:$E$41,2,FALSE),OLTC_Taps!$D$147:$K$173,6,FALSE),1),{1,2,3,4,5,6,7,8,9;0,0.5,0.75,1,1,1,1,1,1},2,FALSE),0)*\nIF(ISERROR(VLOOKUP($D85,Option_2D!$F$38:$F$54,1,FALSE)),1,0)*\nOption_2D!M85","v":0},{"$f":"IFERROR(HLOOKUP(MAX(VLOOKUP(VLOOKUP($D85,Compliance!$D$11:$E$41,2,FALSE),OLTC_Taps!$D$147:$K$173,6,FALSE),1),{1,2,3,4,5,6,7,8,9;0,0.5,0.75,1,1,1,1,1,1},2,FALSE),0)*\nIF(ISERROR(VLOOKUP($D85,Option_2D!$F$38:$F$54,1,FALSE)),1,0)*\nOption_2D!N85","v":0},{"$f":"IFERROR(HLOOKUP(MAX(VLOOKUP(VLOOKUP($D85,Compliance!$D$11:$E$41,2,FALSE),OLTC_Taps!$D$147:$K$173,6,FALSE),1),{1,2,3,4,5,6,7,8,9;0,0.5,0.75,1,1,1,1,1,1},2,FALSE),0)*\nIF(ISERROR(VLOOKUP($D85,Option_2D!$F$38:$F$54,1,FALSE)),1,0)*\nOption_2D!O85","v":0},{"$f":"IFERROR(HLOOKUP(MAX(VLOOKUP(VLOOKUP($D85,Compliance!$D$11:$E$41,2,FALSE),OLTC_Taps!$D$147:$K$173,7,FALSE),1),{1,2,3,4,5,6,7,8,9;0,0.5,0.75,1,1,1,1,1,1},2,FALSE),0)*\nIF(ISERROR(VLOOKUP($D85,Option_2D!$F$38:$F$54,1,FALSE)),1,0)*\nOption_2D!P85","v":0},{"$f":"IFERROR(HLOOKUP(MAX(VLOOKUP(VLOOKUP($D85,Compliance!$D$11:$E$41,2,FALSE),OLTC_Taps!$D$147:$K$173,7,FALSE),1),{1,2,3,4,5,6,7,8,9;0,0.5,0.75,1,1,1,1,1,1},2,FALSE),0)*\nIF(ISERROR(VLOOKUP($D85,Option_2D!$F$38:$F$54,1,FALSE)),1,0)*\nOption_2D!Q85","v":0},{"$f":"IFERROR(HLOOKUP(MAX(VLOOKUP(VLOOKUP($D85,Compliance!$D$11:$E$41,2,FALSE),OLTC_Taps!$D$147:$K$173,7,FALSE),1),{1,2,3,4,5,6,7,8,9;0,0.5,0.75,1,1,1,1,1,1},2,FALSE),0)*\nIF(ISERROR(VLOOKUP($D85,Option_2D!$F$38:$F$54,1,FALSE)),1,0)*\nOption_2D!R85","v":0}]
[null,null,null,{"$f":"Option_2D!D86","v":"FF0"},null,null,null,null,null,{"$f":"Option_2D!J86","v":2029},{"$f":"Option_2D!K86","v":0.54153921789798876},{"$f":"Option_2D!L86","v":0.41435025956591071},{"$f":"IFERROR(HLOOKUP(MAX(VLOOKUP(VLOOKUP($D86,Compliance!$D$11:$E$41,2,FALSE),OLTC_Taps!$D$147:$K$173,6,FALSE),1),{1,2,3,4,5,6,7,8,9;0,0.5,0.75,1,1,1,1,1,1},2,FALSE),0)*\nIF(ISERROR(VLOOKUP($D86,Option_2D!$F$38:$F$54,1,FALSE)),1,0)*\nOption_2D!M86","v":0},{"$f":"IFERROR(HLOOKUP(MAX(VLOOKUP(VLOOKUP($D86,Compliance!$D$11:$E$41,2,FALSE),OLTC_Taps!$D$147:$K$173,6,FALSE),1),{1,2,3,4,5,6,7,8,9;0,0.5,0.75,1,1,1,1,1,1},2,FALSE),0)*\nIF(ISERROR(VLOOKUP($D86,Option_2D!$F$38:$F$54,1,FALSE)),1,0)*\nOption_2D!N86","v":0},{"$f":"IFERROR(HLOOKUP(MAX(VLOOKUP(VLOOKUP($D86,Compliance!$D$11:$E$41,2,FALSE),OLTC_Taps!$D$147:$K$173,6,FALSE),1),{1,2,3,4,5,6,7,8,9;0,0.5,0.75,1,1,1,1,1,1},2,FALSE),0)*\nIF(ISERROR(VLOOKUP($D86,Option_2D!$F$38:$F$54,1,FALSE)),1,0)*\nOption_2D!O86","v":0},{"$f":"IFERROR(HLOOKUP(MAX(VLOOKUP(VLOOKUP($D86,Compliance!$D$11:$E$41,2,FALSE),OLTC_Taps!$D$147:$K$173,7,FALSE),1),{1,2,3,4,5,6,7,8,9;0,0.5,0.75,1,1,1,1,1,1},2,FALSE),0)*\nIF(ISERROR(VLOOKUP($D86,Option_2D!$F$38:$F$54,1,FALSE)),1,0)*\nOption_2D!P86","v":0},{"$f":"IFERROR(HLOOKUP(MAX(VLOOKUP(VLOOKUP($D86,Compliance!$D$11:$E$41,2,FALSE),OLTC_Taps!$D$147:$K$173,7,FALSE),1),{1,2,3,4,5,6,7,8,9;0,0.5,0.75,1,1,1,1,1,1},2,FALSE),0)*\nIF(ISERROR(VLOOKUP($D86,Option_2D!$F$38:$F$54,1,FALSE)),1,0)*\nOption_2D!Q86","v":0},{"$f":"IFERROR(HLOOKUP(MAX(VLOOKUP(VLOOKUP($D86,Compliance!$D$11:$E$41,2,FALSE),OLTC_Taps!$D$147:$K$173,7,FALSE),1),{1,2,3,4,5,6,7,8,9;0,0.5,0.75,1,1,1,1,1,1},2,FALSE),0)*\nIF(ISERROR(VLOOKUP($D86,Option_2D!$F$38:$F$54,1,FALSE)),1,0)*\nOption_2D!R86","v":0}]
[null,null,null,{"$f":"Option_2D!D87","v":"NH0"},null,null,null,null,null,{"$f":"Option_2D!J87","v":2029},{"$f":"Option_2D!K87","v":1.2525660334652329},{"$f":"Option_2D!L87","v":0.95838130265854193},{"$f":"IFERROR(HLOOKUP(MAX(VLOOKUP(VLOOKUP($D87,Compliance!$D$11:$E$41,2,FALSE),OLTC_Taps!$D$147:$K$173,6,FALSE),1),{1,2,3,4,5,6,7,8,9;0,0.5,0.75,1,1,1,1,1,1},2,FALSE),0)*\nIF(ISERROR(VLOOKUP($D87,Option_2D!$F$38:$F$54,1,FALSE)),1,0)*\nOption_2D!M87","v":0},{"$f":"IFERROR(HLOOKUP(MAX(VLOOKUP(VLOOKUP($D87,Compliance!$D$11:$E$41,2,FALSE),OLTC_Taps!$D$147:$K$173,6,FALSE),1),{1,2,3,4,5,6,7,8,9;0,0.5,0.75,1,1,1,1,1,1},2,FALSE),0)*\nIF(ISERROR(VLOOKUP($D87,Option_2D!$F$38:$F$54,1,FALSE)),1,0)*\nOption_2D!N87","v":0},{"$f":"IFERROR(HLOOKUP(MAX(VLOOKUP(VLOOKUP($D87,Compliance!$D$11:$E$41,2,FALSE),OLTC_Taps!$D$147:$K$173,6,FALSE),1),{1,2,3,4,5,6,7,8,9;0,0.5,0.75,1,1,1,1,1,1},2,FALSE),0)*\nIF(ISERROR(VLOOKUP($D87,Option_2D!$F$38:$F$54,1,FALSE)),1,0)*\nOption_2D!O87","v":0},{"$f":"IFERROR(HLOOKUP(MAX(VLOOKUP(VLOOKUP($D87,Compliance!$D$11:$E$41,2,FALSE),OLTC_Taps!$D$147:$K$173,7,FALSE),1),{1,2,3,4,5,6,7,8,9;0,0.5,0.75,1,1,1,1,1,1},2,FALSE),0)*\nIF(ISERROR(VLOOKUP($D87,Option_2D!$F$38:$F$54,1,FALSE)),1,0)*\nOption_2D!P87","v":0},{"$f":"IFERROR(HLOOKUP(MAX(VLOOKUP(VLOOKUP($D87,Compliance!$D$11:$E$41,2,FALSE),OLTC_Taps!$D$147:$K$173,7,FALSE),1),{1,2,3,4,5,6,7,8,9;0,0.5,0.75,1,1,1,1,1,1},2,FALSE),0)*\nIF(ISERROR(VLOOKUP($D87,Option_2D!$F$38:$F$54,1,FALSE)),1,0)*\nOption_2D!Q87","v":0},{"$f":"IFERROR(HLOOKUP(MAX(VLOOKUP(VLOOKUP($D87,Compliance!$D$11:$E$41,2,FALSE),OLTC_Taps!$D$147:$K$173,7,FALSE),1),{1,2,3,4,5,6,7,8,9;0,0.5,0.75,1,1,1,1,1,1},2,FALSE),0)*\nIF(ISERROR(VLOOKUP($D87,Option_2D!$F$38:$F$54,1,FALSE)),1,0)*\nOption_2D!R87","v":0}]
[null,null,null,{"$f":"Option_2D!D88","v":"TMA"},null,null,null,null,null,{"$f":"Option_2D!J88","v":2029},{"$f":"Option_2D!K88","v":0.54153921789798876},{"$f":"Option_2D!L88","v":0.41435025956591071},{"$f":"IFERROR(HLOOKUP(MAX(VLOOKUP(VLOOKUP($D88,Compliance!$D$11:$E$41,2,FALSE),OLTC_Taps!$D$147:$K$173,6,FALSE),1),{1,2,3,4,5,6,7,8,9;0,0.5,0.75,1,1,1,1,1,1},2,FALSE),0)*\nIF(ISERROR(VLOOKUP($D88,Option_2D!$F$38:$F$54,1,FALSE)),1,0)*\nOption_2D!M88","v":0},{"$f":"IFERROR(HLOOKUP(MAX(VLOOKUP(VLOOKUP($D88,Compliance!$D$11:$E$41,2,FALSE),OLTC_Taps!$D$147:$K$173,6,FALSE),1),{1,2,3,4,5,6,7,8,9;0,0.5,0.75,1,1,1,1,1,1},2,FALSE),0)*\nIF(ISERROR(VLOOKUP($D88,Option_2D!$F$38:$F$54,1,FALSE)),1,0)*\nOption_2D!N88","v":0},{"$f":"IFERROR(HLOOKUP(MAX(VLOOKUP(VLOOKUP($D88,Compliance!$D$11:$E$41,2,FALSE),OLTC_Taps!$D$147:$K$173,6,FALSE),1),{1,2,3,4,5,6,7,8,9;0,0.5,0.75,1,1,1,1,1,1},2,FALSE),0)*\nIF(ISERROR(VLOOKUP($D88,Option_2D!$F$38:$F$54,1,FALSE)),1,0)*\nOption_2D!O88","v":0},{"$f":"IFERROR(HLOOKUP(MAX(VLOOKUP(VLOOKUP($D88,Compliance!$D$11:$E$41,2,FALSE),OLTC_Taps!$D$147:$K$173,7,FALSE),1),{1,2,3,4,5,6,7,8,9;0,0.5,0.75,1,1,1,1,1,1},2,FALSE),0)*\nIF(ISERROR(VLOOKUP($D88,Option_2D!$F$38:$F$54,1,FALSE)),1,0)*\nOption_2D!P88","v":2.8954110588616836E-4},{"$f":"IFERROR(HLOOKUP(MAX(VLOOKUP(VLOOKUP($D88,Compliance!$D$11:$E$41,2,FALSE),OLTC_Taps!$D$147:$K$173,7,FALSE),1),{1,2,3,4,5,6,7,8,9;0,0.5,0.75,1,1,1,1,1,1},2,FALSE),0)*\nIF(ISERROR(VLOOKUP($D88,Option_2D!$F$38:$F$54,1,FALSE)),1,0)*\nOption_2D!Q88","v":2.8954110588616836E-4},{"$f":"IFERROR(HLOOKUP(MAX(VLOOKUP(VLOOKUP($D88,Compliance!$D$11:$E$41,2,FALSE),OLTC_Taps!$D$147:$K$173,7,FALSE),1),{1,2,3,4,5,6,7,8,9;0,0.5,0.75,1,1,1,1,1,1},2,FALSE),0)*\nIF(ISERROR(VLOOKUP($D88,Option_2D!$F$38:$F$54,1,FALSE)),1,0)*\nOption_2D!R88","v":2.8954110588616836E-4}]
[null,null,null,{"$f":"Option_2D!D89","v":"CN0"},null,null,null,null,null,{"$f":"Option_2D!J89","v":2030},{"$f":"Option_2D!K89","v":1.251397977262332},{"$f":"Option_2D!L89","v":0.90757116846491526},{"$f":"IFERROR(HLOOKUP(MAX(VLOOKUP(VLOOKUP($D89,Compliance!$D$11:$E$41,2,FALSE),OLTC_Taps!$D$147:$K$173,6,FALSE),1),{1,2,3,4,5,6,7,8,9;0,0.5,0.75,1,1,1,1,1,1},2,FALSE),0)*\nIF(ISERROR(VLOOKUP($D89,Option_2D!$F$38:$F$54,1,FALSE)),1,0)*\nOption_2D!M89","v":0},{"$f":"IFERROR(HLOOKUP(MAX(VLOOKUP(VLOOKUP($D89,Compliance!$D$11:$E$41,2,FALSE),OLTC_Taps!$D$147:$K$173,6,FALSE),1),{1,2,3,4,5,6,7,8,9;0,0.5,0.75,1,1,1,1,1,1},2,FALSE),0)*\nIF(ISERROR(VLOOKUP($D89,Option_2D!$F$38:$F$54,1,FALSE)),1,0)*\nOption_2D!N89","v":0},{"$f":"IFERROR(HLOOKUP(MAX(VLOOKUP(VLOOKUP($D89,Compliance!$D$11:$E$41,2,FALSE),OLTC_Taps!$D$147:$K$173,6,FALSE),1),{1,2,3,4,5,6,7,8,9;0,0.5,0.75,1,1,1,1,1,1},2,FALSE),0)*\nIF(ISERROR(VLOOKUP($D89,Option_2D!$F$38:$F$54,1,FALSE)),1,0)*\nOption_2D!O89","v":0},{"$f":"IFERROR(HLOOKUP(MAX(VLOOKUP(VLOOKUP($D89,Compliance!$D$11:$E$41,2,FALSE),OLTC_Taps!$D$147:$K$173,7,FALSE),1),{1,2,3,4,5,6,7,8,9;0,0.5,0.75,1,1,1,1,1,1},2,FALSE),0)*\nIF(ISERROR(VLOOKUP($D89,Option_2D!$F$38:$F$54,1,FALSE)),1,0)*\nOption_2D!P89","v":0},{"$f":"IFERROR(HLOOKUP(MAX(VLOOKUP(VLOOKUP($D89,Compliance!$D$11:$E$41,2,FALSE),OLTC_Taps!$D$147:$K$173,7,FALSE),1),{1,2,3,4,5,6,7,8,9;0,0.5,0.75,1,1,1,1,1,1},2,FALSE),0)*\nIF(ISERROR(VLOOKUP($D89,Option_2D!$F$38:$F$54,1,FALSE)),1,0)*\nOption_2D!Q89","v":0},{"$f":"IFERROR(HLOOKUP(MAX(VLOOKUP(VLOOKUP($D89,Compliance!$D$11:$E$41,2,FALSE),OLTC_Taps!$D$147:$K$173,7,FALSE),1),{1,2,3,4,5,6,7,8,9;0,0.5,0.75,1,1,1,1,1,1},2,FALSE),0)*\nIF(ISERROR(VLOOKUP($D89,Option_2D!$F$38:$F$54,1,FALSE)),1,0)*\nOption_2D!R89","v":0}]
[null,null,null,{"$f":"Option_2D!D90","v":"BMS"},null,null,null,null,null,{"$f":"Option_2D!J90","v":2030},{"$f":"Option_2D!K90","v":0.54074914561471332},{"$f":"Option_2D!L90","v":0.3921760645686817},{"$f":"IFERROR(HLOOKUP(MAX(VLOOKUP(VLOOKUP($D90,Compliance!$D$11:$E$41,2,FALSE),OLTC_Taps!$D$147:$K$173,6,FALSE),1),{1,2,3,4,5,6,7,8,9;0,0.5,0.75,1,1,1,1,1,1},2,FALSE),0)*\nIF(ISERROR(VLOOKUP($D90,Option_2D!$F$38:$F$54,1,FALSE)),1,0)*\nOption_2D!M90","v":0},{"$f":"IFERROR(HLOOKUP(MAX(VLOOKUP(VLOOKUP($D90,Compliance!$D$11:$E$41,2,FALSE),OLTC_Taps!$D$147:$K$173,6,FALSE),1),{1,2,3,4,5,6,7,8,9;0,0.5,0.75,1,1,1,1,1,1},2,FALSE),0)*\nIF(ISERROR(VLOOKUP($D90,Option_2D!$F$38:$F$54,1,FALSE)),1,0)*\nOption_2D!N90","v":0},{"$f":"IFERROR(HLOOKUP(MAX(VLOOKUP(VLOOKUP($D90,Compliance!$D$11:$E$41,2,FALSE),OLTC_Taps!$D$147:$K$173,6,FALSE),1),{1,2,3,4,5,6,7,8,9;0,0.5,0.75,1,1,1,1,1,1},2,FALSE),0)*\nIF(ISERROR(VLOOKUP($D90,Option_2D!$F$38:$F$54,1,FALSE)),1,0)*\nOption_2D!O90","v":0},{"$f":"IFERROR(HLOOKUP(MAX(VLOOKUP(VLOOKUP($D90,Compliance!$D$11:$E$41,2,FALSE),OLTC_Taps!$D$147:$K$173,7,FALSE),1),{1,2,3,4,5,6,7,8,9;0,0.5,0.75,1,1,1,1,1,1},2,FALSE),0)*\nIF(ISERROR(VLOOKUP($D90,Option_2D!$F$38:$F$54,1,FALSE)),1,0)*\nOption_2D!P90","v":0},{"$f":"IFERROR(HLOOKUP(MAX(VLOOKUP(VLOOKUP($D90,Compliance!$D$11:$E$41,2,FALSE),OLTC_Taps!$D$147:$K$173,7,FALSE),1),{1,2,3,4,5,6,7,8,9;0,0.5,0.75,1,1,1,1,1,1},2,FALSE),0)*\nIF(ISERROR(VLOOKUP($D90,Option_2D!$F$38:$F$54,1,FALSE)),1,0)*\nOption_2D!Q90","v":2.8803307929301122E-4},{"$f":"IFERROR(HLOOKUP(MAX(VLOOKUP(VLOOKUP($D90,Compliance!$D$11:$E$41,2,FALSE),OLTC_Taps!$D$147:$K$173,7,FALSE),1),{1,2,3,4,5,6,7,8,9;0,0.5,0.75,1,1,1,1,1,1},2,FALSE),0)*\nIF(ISERROR(VLOOKUP($D90,Option_2D!$F$38:$F$54,1,FALSE)),1,0)*\nOption_2D!R90","v":2.8803307929301122E-4}]
[null,null,null,{"$f":"Option_2D!D91","v":"PV0"},null,null,null,null,null,{"$f":"Option_2D!J91","v":2030},{"$f":"Option_2D!K91","v":1.251397977262332},{"$f":"Option_2D!L91","v":0.90757116846491526},{"$f":"IFERROR(HLOOKUP(MAX(VLOOKUP(VLOOKUP($D91,Compliance!$D$11:$E$41,2,FALSE),OLTC_Taps!$D$147:$K$173,6,FALSE),1),{1,2,3,4,5,6,7,8,9;0,0.5,0.75,1,1,1,1,1,1},2,FALSE),0)*\nIF(ISERROR(VLOOKUP($D91,Option_2D!$F$38:$F$54,1,FALSE)),1,0)*\nOption_2D!M91","v":0},{"$f":"IFERROR(HLOOKUP(MAX(VLOOKUP(VLOOKUP($D91,Compliance!$D$11:$E$41,2,FALSE),OLTC_Taps!$D$147:$K$173,6,FALSE),1),{1,2,3,4,5,6,7,8,9;0,0.5,0.75,1,1,1,1,1,1},2,FALSE),0)*\nIF(ISERROR(VLOOKUP($D91,Option_2D!$F$38:$F$54,1,FALSE)),1,0)*\nOption_2D!N91","v":0},{"$f":"IFERROR(HLOOKUP(MAX(VLOOKUP(VLOOKUP($D91,Compliance!$D$11:$E$41,2,FALSE),OLTC_Taps!$D$147:$K$173,6,FALSE),1),{1,2,3,4,5,6,7,8,9;0,0.5,0.75,1,1,1,1,1,1},2,FALSE),0)*\nIF(ISERROR(VLOOKUP($D91,Option_2D!$F$38:$F$54,1,FALSE)),1,0)*\nOption_2D!O91","v":0},{"$f":"IFERROR(HLOOKUP(MAX(VLOOKUP(VLOOKUP($D91,Compliance!$D$11:$E$41,2,FALSE),OLTC_Taps!$D$147:$K$173,7,FALSE),1),{1,2,3,4,5,6,7,8,9;0,0.5,0.75,1,1,1,1,1,1},2,FALSE),0)*\nIF(ISERROR(VLOOKUP($D91,Option_2D!$F$38:$F$54,1,FALSE)),1,0)*\nOption_2D!P91","v":0},{"$f":"IFERROR(HLOOKUP(MAX(VLOOKUP(VLOOKUP($D91,Compliance!$D$11:$E$41,2,FALSE),OLTC_Taps!$D$147:$K$173,7,FALSE),1),{1,2,3,4,5,6,7,8,9;0,0.5,0.75,1,1,1,1,1,1},2,FALSE),0)*\nIF(ISERROR(VLOOKUP($D91,Option_2D!$F$38:$F$54,1,FALSE)),1,0)*\nOption_2D!Q91","v":2.7295281336143997E-4},{"$f":"IFERROR(HLOOKUP(MAX(VLOOKUP(VLOOKUP($D91,Compliance!$D$11:$E$41,2,FALSE),OLTC_Taps!$D$147:$K$173,7,FALSE),1),{1,2,3,4,5,6,7,8,9;0,0.5,0.75,1,1,1,1,1,1},2,FALSE),0)*\nIF(ISERROR(VLOOKUP($D91,Option_2D!$F$38:$F$54,1,FALSE)),1,0)*\nOption_2D!R91","v":2.7295281336143997E-4}]
[null,null,null,{"$f":"Option_2D!D92","v":"FT0"},null,null,null,null,null,{"$f":"Option_2D!J92","v":2030},{"$f":"Option_2D!K92","v":0.54074914561471332},{"$f":"Option_2D!L92","v":0.37173086688974571},{"$f":"IFERROR(HLOOKUP(MAX(VLOOKUP(VLOOKUP($D92,Compliance!$D$11:$E$41,2,FALSE),OLTC_Taps!$D$147:$K$173,6,FALSE),1),{1,2,3,4,5,6,7,8,9;0,0.5,0.75,1,1,1,1,1,1},2,FALSE),0)*\nIF(ISERROR(VLOOKUP($D92,Option_2D!$F$38:$F$54,1,FALSE)),1,0)*\nOption_2D!M92","v":0},{"$f":"IFERROR(HLOOKUP(MAX(VLOOKUP(VLOOKUP($D92,Compliance!$D$11:$E$41,2,FALSE),OLTC_Taps!$D$147:$K$173,6,FALSE),1),{1,2,3,4,5,6,7,8,9;0,0.5,0.75,1,1,1,1,1,1},2,FALSE),0)*\nIF(ISERROR(VLOOKUP($D92,Option_2D!$F$38:$F$54,1,FALSE)),1,0)*\nOption_2D!N92","v":0},{"$f":"IFERROR(HLOOKUP(MAX(VLOOKUP(VLOOKUP($D92,Compliance!$D$11:$E$41,2,FALSE),OLTC_Taps!$D$147:$K$173,6,FALSE),1),{1,2,3,4,5,6,7,8,9;0,0.5,0.75,1,1,1,1,1,1},2,FALSE),0)*\nIF(ISERROR(VLOOKUP($D92,Option_2D!$F$38:$F$54,1,FALSE)),1,0)*\nOption_2D!O92","v":0},{"$f":"IFERROR(HLOOKUP(MAX(VLOOKUP(VLOOKUP($D92,Compliance!$D$11:$E$41,2,FALSE),OLTC_Taps!$D$147:$K$173,7,FALSE),1),{1,2,3,4,5,6,7,8,9;0,0.5,0.75,1,1,1,1,1,1},2,FALSE),0)*\nIF(ISERROR(VLOOKUP($D92,Option_2D!$F$38:$F$54,1,FALSE)),1,0)*\nOption_2D!P92","v":0},{"$f":"IFERROR(HLOOKUP(MAX(VLOOKUP(VLOOKUP($D92,Compliance!$D$11:$E$41,2,FALSE),OLTC_Taps!$D$147:$K$173,7,FALSE),1),{1,2,3,4,5,6,7,8,9;0,0.5,0.75,1,1,1,1,1,1},2,FALSE),0)*\nIF(ISERROR(VLOOKUP($D92,Option_2D!$F$38:$F$54,1,FALSE)),1,0)*\nOption_2D!Q92","v":2.6993676017512567E-4},{"$f":"IFERROR(HLOOKUP(MAX(VLOOKUP(VLOOKUP($D92,Compliance!$D$11:$E$41,2,FALSE),OLTC_Taps!$D$147:$K$173,7,FALSE),1),{1,2,3,4,5,6,7,8,9;0,0.5,0.75,1,1,1,1,1,1},2,FALSE),0)*\nIF(ISERROR(VLOOKUP($D92,Option_2D!$F$38:$F$54,1,FALSE)),1,0)*\nOption_2D!R92","v":2.6993676017512567E-4}]
[null,null,null,{"$f":"Option_2D!D93","v":"COO"},null,null,null,null,null,{"$f":"Option_2D!J93","v":2030},{"$f":"Option_2D!K93","v":0.54074914561471332},{"$f":"Option_2D!L93","v":0.3921760645686817},{"$f":"IFERROR(HLOOKUP(MAX(VLOOKUP(VLOOKUP($D93,Compliance!$D$11:$E$41,2,FALSE),OLTC_Taps!$D$147:$K$173,6,FALSE),1),{1,2,3,4,5,6,7,8,9;0,0.5,0.75,1,1,1,1,1,1},2,FALSE),0)*\nIF(ISERROR(VLOOKUP($D93,Option_2D!$F$38:$F$54,1,FALSE)),1,0)*\nOption_2D!M93","v":0},{"$f":"IFERROR(HLOOKUP(MAX(VLOOKUP(VLOOKUP($D93,Compliance!$D$11:$E$41,2,FALSE),OLTC_Taps!$D$147:$K$173,6,FALSE),1),{1,2,3,4,5,6,7,8,9;0,0.5,0.75,1,1,1,1,1,1},2,FALSE),0)*\nIF(ISERROR(VLOOKUP($D93,Option_2D!$F$38:$F$54,1,FALSE)),1,0)*\nOption_2D!N93","v":0},{"$f":"IFERROR(HLOOKUP(MAX(VLOOKUP(VLOOKUP($D93,Compliance!$D$11:$E$41,2,FALSE),OLTC_Taps!$D$147:$K$173,6,FALSE),1),{1,2,3,4,5,6,7,8,9;0,0.5,0.75,1,1,1,1,1,1},2,FALSE),0)*\nIF(ISERROR(VLOOKUP($D93,Option_2D!$F$38:$F$54,1,FALSE)),1,0)*\nOption_2D!O93","v":0},{"$f":"IFERROR(HLOOKUP(MAX(VLOOKUP(VLOOKUP($D93,Compliance!$D$11:$E$41,2,FALSE),OLTC_Taps!$D$147:$K$173,7,FALSE),1),{1,2,3,4,5,6,7,8,9;0,0.5,0.75,1,1,1,1,1,1},2,FALSE),0)*\nIF(ISERROR(VLOOKUP($D93,Option_2D!$F$38:$F$54,1,FALSE)),1,0)*\nOption_2D!P93","v":0},{"$f":"IFERROR(HLOOKUP(MAX(VLOOKUP(VLOOKUP($D93,Compliance!$D$11:$E$41,2,FALSE),OLTC_Taps!$D$147:$K$173,7,FALSE),1),{1,2,3,4,5,6,7,8,9;0,0.5,0.75,1,1,1,1,1,1},2,FALSE),0)*\nIF(ISERROR(VLOOKUP($D93,Option_2D!$F$38:$F$54,1,FALSE)),1,0)*\nOption_2D!Q93","v":0},{"$f":"IFERROR(HLOOKUP(MAX(VLOOKUP(VLOOKUP($D93,Compliance!$D$11:$E$41,2,FALSE),OLTC_Taps!$D$147:$K$173,7,FALSE),1),{1,2,3,4,5,6,7,8,9;0,0.5,0.75,1,1,1,1,1,1},2,FALSE),0)*\nIF(ISERROR(VLOOKUP($D93,Option_2D!$F$38:$F$54,1,FALSE)),1,0)*\nOption_2D!R93","v":0}]
[null,null,null,{"$f":"Option_2D!D94","v":"NT0"},null,null,null,null,null,{"$f":"Option_2D!J94","v":2030},{"$f":"Option_2D!K94","v":1.0145150333797925},{"$f":"Option_2D!L94","v":0.73577280049950411},{"$f":"IFERROR(HLOOKUP(MAX(VLOOKUP(VLOOKUP($D94,Compliance!$D$11:$E$41,2,FALSE),OLTC_Taps!$D$147:$K$173,6,FALSE),1),{1,2,3,4,5,6,7,8,9;0,0.5,0.75,1,1,1,1,1,1},2,FALSE),0)*\nIF(ISERROR(VLOOKUP($D94,Option_2D!$F$38:$F$54,1,FALSE)),1,0)*\nOption_2D!M94","v":0},{"$f":"IFERROR(HLOOKUP(MAX(VLOOKUP(VLOOKUP($D94,Compliance!$D$11:$E$41,2,FALSE),OLTC_Taps!$D$147:$K$173,6,FALSE),1),{1,2,3,4,5,6,7,8,9;0,0.5,0.75,1,1,1,1,1,1},2,FALSE),0)*\nIF(ISERROR(VLOOKUP($D94,Option_2D!$F$38:$F$54,1,FALSE)),1,0)*\nOption_2D!N94","v":0},{"$f":"IFERROR(HLOOKUP(MAX(VLOOKUP(VLOOKUP($D94,Compliance!$D$11:$E$41,2,FALSE),OLTC_Taps!$D$147:$K$173,6,FALSE),1),{1,2,3,4,5,6,7,8,9;0,0.5,0.75,1,1,1,1,1,1},2,FALSE),0)*\nIF(ISERROR(VLOOKUP($D94,Option_2D!$F$38:$F$54,1,FALSE)),1,0)*\nOption_2D!O94","v":0},{"$f":"IFERROR(HLOOKUP(MAX(VLOOKUP(VLOOKUP($D94,Compliance!$D$11:$E$41,2,FALSE),OLTC_Taps!$D$147:$K$173,7,FALSE),1),{1,2,3,4,5,6,7,8,9;0,0.5,0.75,1,1,1,1,1,1},2,FALSE),0)*\nIF(ISERROR(VLOOKUP($D94,Option_2D!$F$38:$F$54,1,FALSE)),1,0)*\nOption_2D!P94","v":0},{"$f":"IFERROR(HLOOKUP(MAX(VLOOKUP(VLOOKUP($D94,Compliance!$D$11:$E$41,2,FALSE),OLTC_Taps!$D$147:$K$173,7,FALSE),1),{1,2,3,4,5,6,7,8,9;0,0.5,0.75,1,1,1,1,1,1},2,FALSE),0)*\nIF(ISERROR(VLOOKUP($D94,Option_2D!$F$38:$F$54,1,FALSE)),1,0)*\nOption_2D!Q94","v":1.2667423382519867E-4},{"$f":"IFERROR(HLOOKUP(MAX(VLOOKUP(VLOOKUP($D94,Compliance!$D$11:$E$41,2,FALSE),OLTC_Taps!$D$147:$K$173,7,FALSE),1),{1,2,3,4,5,6,7,8,9;0,0.5,0.75,1,1,1,1,1,1},2,FALSE),0)*\nIF(ISERROR(VLOOKUP($D94,Option_2D!$F$38:$F$54,1,FALSE)),1,0)*\nOption_2D!R94","v":1.2667423382519867E-4}]
[]
[]
[]
[]
[]
[]
[]
[null,null,null,{"$f":"Option_2D!D102","v":"Trial"},null,null,null,null,null,{"$f":"Option_2D!J102","v":2023},{"$f":"Option_2D!K102","v":2.2698113385496561},{"$f":"Option_2D!L102","v":2.2698113385496561}]
[null,null,null,{"$f":"Option_2D!D103","v":"Trial"},null,null,null,null,null,{"$f":"Option_2D!J103","v":2024},{"$f":"Option_2D!K103","v":1},{"$f":"Option_2D!L103","v":1}]
[]
[]
[]
[]
[]
[]
[]
[]
[]
[null,null,null,{"$f":"Option_2D!D113","v":"Traditional for worst served under-volt"},null,{"$f":"(1-COUNTIF($J$72:$J$101,\">0\")/COUNTIF(Option_2D!$J$72:$J$101,\">0\"))*10%","v":2.3333333333333331E-2}]
[null,null,null,{"$f":"Option_2D!D114","v":"Year 1"},null,null,null,null,null,{"$f":"Option_2D!J114","v":2027},{"$f":"Option_2D!K114*(1+$F$113)","v":1.5841200000000002},{"$f":"VLOOKUP($J114,General!$D$27:$E$46,2)*K114","v":1.3490582377068774}]
[null,null,null,{"$f":"Option_2D!D115","v":"Year 2"},null,null,null,null,null,{"$f":"Option_2D!J115","v":2028},{"$f":"Option_2D!K115*(1+$F$113)","v":1.5841200000000002},{"$f":"VLOOKUP($J115,General!$D$27:$E$46,2)*K115","v":1.2787281873998837}]
[null,null,null,{"$f":"Option_2D!D116","v":"Year 3"},null,null,null,null,null,{"$f":"Option_2D!J116","v":2029},{"$f":"Option_2D!K116*(1+$F$113)","v":1.5841200000000002},{"$f":"VLOOKUP($J116,General!$D$27:$E$46,2)*K116","v":1.212064632606525}]
[null,null,null,{"$f":"Option_2D!D117","v":"Year 4"},null,null,null,null,null,{"$f":"Option_2D!J117","v":2030},{"$f":"Option_2D!K117*(1+$F$113)","v":1.5841200000000002},{"$f":"VLOOKUP($J117,General!$D$27:$E$46,2)*K117","v":1.1488764290109241}]
[null,null,null,{"$f":"Option_2D!D118","v":"Year 5"},null,null,null,null,null,{"$f":"Option_2D!J118","v":2031},{"$f":"Option_2D!K118*(1+$F$113)","v":1.5841200000000002},{"$f":"VLOOKUP($J118,General!$D$27:$E$46,2)*K118","v":1.0889823971667529}]
[null,null,null,{"$f":"Option_2D!D119","v":"Power quality reactive program for customer complaints"}]
[null,null,null,{"$f":"Option_2D!D120","v":"Year 1"},null,null,null,null,null,{"$f":"Option_2D!J120","v":2027},{"$f":"Option_2D!K120","v":0.12322},{"$f":"VLOOKUP($J120,General!$D$27:$E$46,2)*K120","v":0.10493583570073063}]
[null,null,null,{"$f":"Option_2D!D121","v":"Year 2"},null,null,null,null,null,{"$f":"Option_2D!J121","v":2028},{"$f":"Option_2D!K121","v":0.12322},{"$f":"VLOOKUP($J121,General!$D$27:$E$46,2)*K121","v":9.9465247109697286E-2}]
[null,null,null,{"$f":"Option_2D!D122","v":"Year 3"},null,null,null,null,null,{"$f":"Option_2D!J122","v":2029},{"$f":"Option_2D!K122","v":0.12322},{"$f":"VLOOKUP($J122,General!$D$27:$E$46,2)*K122","v":9.4279855080281777E-2}]
[null,null,null,{"$f":"Option_2D!D123","v":"Year 4"},null,null,null,null,null,{"$f":"Option_2D!J123","v":2030},{"$f":"Option_2D!K123","v":0.12322},{"$f":"VLOOKUP($J123,General!$D$27:$E$46,2)*K123","v":8.9364791545290798E-2}]
[null,null,null,{"$f":"Option_2D!D124","v":"Year 5"},null,null,null,null,null,{"$f":"Option_2D!J124","v":2031},{"$f":"Option_2D!K124","v":0.12322},{"$f":"VLOOKUP($J124,General!$D$27:$E$46,2)*K124","v":8.4705963550038677E-2}]
[]
[null,null,null,"End"]

{"sheet":"Option_2A","index":4,"n_rows":126,"n_cols":19,"rows_kept":126,"cut":false,"hidden":false,"merged":[]}
[null,null,null,"Voltage PQ Management Strategy",null,null,null,"Section Check:",{"$f":"IF(COUNTA($A$8:$A$127)=COUNTIF($A$8:$A$127,0),\"Ok\",\"Check\")","v":"Ok"},null,null,"Overall Check:","Ok",null,"Legend:","Input","Internal","Select","Calculation"]
[null,null,null,{"$f":"Summary!$K13&\" - \"&Summary!$D11","v":"Option 2 - DVM, VAr controllers and reactors - EDCOP 5% NON-COMPLIANCE (FUNCTIONAL COMPLIANCE)"}]
[]
[]
[]
[null,"Copyright Jemena Limited. All rights reserved. Jemena is not liable for any loss caused by reliance on this document."]
[]
[null,"General Assumptions"]
[]
[null,null,{"$f":"B8","v":"General Assumptions"}]
[]
[null,null,null,{"$f":"C10","v":"General Assumptions"},"Source","Unit","Basis"]
[null,null,null,null,null,null,null,null,null,"Start","End"]
[null,null,null,"Next Regulatory Period","AM","Year","n/a",null,null,{"$f":"General!J16","v":2027},{"$f":"J14+4","v":2031}]
[null,null,null,"This Regulatory Period","AM","Year","n/a",null,null,{"$f":"K15-4","v":2022},{"$f":"J14-1","v":2026}]
[]
[null,"Option"]
[]
[null,null,"Summary"]
[]
[null,null,null,{"$f":"C19&\" ($M)\"","v":"Summary ($M)"},"Period",null,null,null,null,"Total DVM Cost","Total Cost","PV Total Cost"]
[]
[null,null,null,{"$f":"D14","v":"Next Regulatory Period"},{"$f":"$J$14&\" - \"&$K$14","v":"2027 - 2031"},null,null,null,null,{"$f":"SUMIFS($K$72:$K$103,$J$72:$J$103,\">=\"&J14,$J$72:$J$103,\"<=\"&K14)","v":0.52383144877313392},{"$f":"SUMIFS($K$37:$K$124,$J$37:$J$124,\">=\"&$J14,$J$37:$J$124,\"<=\"&$K14)","v":24.758891448773127},{"$f":"SUMIFS($L$37:$L$124,$J$37:$J$124,\">=\"&$J14,$J$37:$J$124,\"<=\"&$K14)","v":18.671736412991539}]
[null,null,null,{"$f":"D15","v":"This Regulatory Period"},{"$f":"$J$15&\" - \"&$K$15","v":"2022 - 2026"},null,null,null,null,{"$f":"SUMIFS($K$72:$K$103,$J$72:$J$103,\">=\"&J15,$J$72:$J$103,\"<=\"&K15)","v":7.5111570025283925},{"$f":"SUMIFS($K$37:$K$124,$J$37:$J$124,\">=\"&$J15,$J$37:$J$124,\"<=\"&$K15)","v":7.5111570025283925},{"$f":"SUMIFS($L$37:$L$124,$J$37:$J$124,\">=\"&$J15,$J$37:$J$124,\"<=\"&$K15)","v":7.2396339124170694}]
[]
[null,null,"Inputs"]
[]
[null,null,null,{"$f":"C26","v":"Inputs"},"Source","Unit"]
[null,null,null,null,null,null,null,null,"Year",2024,{"$f":"J29+1","v":2025},{"$f":"K29+1","v":2026},2027,2028,2029,2030,2031,2032]
[null,null,null,"VRR replacement per TX ($M)","AM","$M",null,null,"Unit Rate",0.20725539120310141,0.2183800259716934,0.23010178633502221,0.23087573199102945,0.23713500017703151,0.23700893852241472,0.23688294388253955,0.23675701622178077,0.23663115550453209]
[null,null,null,"DVM Integration per ZSS ($M)","AM","$M",null,null,"Unit Rate",0.45783893952207055,0.48766423344756749,0.5194324555099129,0.52383144877313392,0.54233044453207147,0.54153921789798876,0.54074914561471332,0.53996022599811866,0.5391724573665353]
[null,null,null,null,null,null,null,null,"Reconcile",{"$f":"SUMIF($J$72:$J$101,J$29,$K$72:$K$101)","v":1.330188661450344},{"$f":"SUMIF($J$72:$J$101,K$29,$K$72:$K$101)","v":1.4120885188385217},1.4990684836898702,0.52383144877313392,0,0,0,0,0]
[null,null,"Calculations"]
[null,null,null,null,null,null,null,null,null,null,null,null,"Forecast Compliance"]
[null,null,null,{"$f":"Summary!$G11&\" - \"&Summary!$D11","v":"Option 2 - EDCOP 5% NON-COMPLIANCE (FUNCTIONAL COMPLIANCE)"},null,null,null,null,null,"Indicative Year","Cost ($M)","PV Cost ($M)",{"$f":"M71","v":2027},2028,2029,2030,2031,2032]
[null,null,null,"PROJECT & LOCATION",null,null,null,null,"TOTAL",{"$f":"J14&\" - \"&J14+General!J15-1","v":"2027 - 2031"},{"$f":"SUMIFS(K$37:K$124,$J$37:$J$124,\">=\"&$J$14,$J$37:$J$124,\"<=\"&J14+General!J15-1)","v":24.758891448773127},{"$f":"SUMIFS(L$37:L$124,$J$37:$J$124,\">=\"&$J$14,$J$37:$J$124,\"<=\"&J14+General!J15-1)","v":18.671736412991539},{"$f":"Compliance!M43-SUM(M72:M101)","v":3.9913750608075248E-2},{"$f":"Compliance!N43-SUM(N72:N101)","v":2.2500654018701702E-2},{"$f":"Compliance!O43-SUM(O72:O101)","v":2.5854872709583268E-2},{"$f":"Compliance!P43-SUM(P72:P101)","v":3.0645884006269941E-2},{"$f":"Compliance!Q43-SUM(Q72:Q101)","v":3.7153764661369666E-2},{"$f":"Compliance!R43-SUM(R72:R101)","v":4.5010377817415292E-2}]
[null,null,null,{"$f":"Option_2B!D37","v":"Reactors"}]
[null,null,null,{"$f":"Option_2B!D38","v":"SBY"},null,null,null,null,null,{"$f":"Option_2B!J38","v":2028},{"$f":"Option_2B!K38","v":2.3165800000000001},{"$f":"Option_2B!L38","v":1.8699821631990143}]
[null,null,null,{"$f":"Option_2B!D39","v":"SHM"},null,null,null,null,null,{"$f":"Option_2B!J39","v":2029},{"$f":"Option_2B!K39","v":2.59457},{"$f":"Option_2B!L39","v":1.9851946404451122}]
[null,null,null,{"$f":"Option_2B!D40","v":"COO"},null,null,null,null,null,{"$f":"Option_2B!J40","v":2030},{"$f":"Option_2B!K40","v":2.6623600000000001},{"$f":"Option_2B!L40","v":1.9308654960113651}]
[null,null,null,{"$f":"Option_2B!D41","v":"ST"},null,null,null,null,null,{"$f":"Option_2B!J41","v":2031},{"$f":"Option_2B!K41","v":2.1589499999999999},{"$f":"Option_2B!L41","v":1.4841416978279176}]
[null,null,null,{"$f":"Option_2B!D42","v":"BD"},null,null,null,null,null,{"$f":"Option_2B!J42","v":2031},{"$f":"Option_2B!K42","v":2.4241000000000001},{"$f":"Option_2B!L42","v":1.6664155676160428}]
[null,null,null,{"$f":"Option_2B!D43","v":"VAr controllers"}]
[null,null,null,{"$f":"Option_2B!D44","v":"CN No.1"},null,null,null,null,null,{"$f":"Option_2B!J44","v":2027},{"$f":"Option_2B!K44","v":0.26951999999999998},{"$f":"Option_2B!L44","v":0.22952691477082388}]
[null,null,null,{"$f":"Option_2B!D45","v":"CN No.2"},null,null,null,null,null,{"$f":"Option_2B!J45","v":2027},{"$f":"Option_2B!K45","v":0.26951999999999998},{"$f":"Option_2B!L45","v":0.22952691477082388}]
[null,null,null,{"$f":"Option_2B!D46","v":"CN No.3A & 3B"},null,null,null,null,null,{"$f":"Option_2B!J46","v":2028},{"$f":"Option_2B!K46","v":0.26951999999999998},{"$f":"Option_2B!L46","v":0.21756105665480938}]
[null,null,null,{"$f":"Option_2B!D47","v":"CS No.2"},null,null,null,null,null,{"$f":"Option_2B!J47","v":2028},{"$f":"Option_2B!K47","v":0.26951999999999998},{"$f":"Option_2B!L47","v":0.21756105665480938}]
[null,null,null,{"$f":"Option_2B!D48","v":"ES No.1"},null,null,null,null,null,{"$f":"Option_2B!J48","v":2028},{"$f":"Option_2B!K48","v":0.26951999999999998},{"$f":"Option_2B!L48","v":0.21756105665480938}]
[null,null,null,{"$f":"Option_2B!D49","v":"FF No.1"},null,null,null,null,null,{"$f":"Option_2B!J49","v":2029},{"$f":"Option_2B!K49","v":0.26951999999999998},{"$f":"Option_2B!L49","v":0.20621901104721266}]
[null,null,null,{"$f":"Option_2B!D50","v":"NH No.1"},null,null,null,null,null,{"$f":"Option_2B!J50","v":2029},{"$f":"Option_2B!K50","v":0.26951999999999998},{"$f":"Option_2B!L50","v":0.20621901104721266}]
[null,null,null,{"$f":"Option_2B!D51","v":"ST No.1"},null,null,null,null,null,{"$f":"Option_2B!J51","v":2030},{"$f":"Option_2B!K51","v":0.26951999999999998},{"$f":"Option_2B!L51","v":0.19546825691678929}]
[null,null,null,{"$f":"Option_2B!D52","v":"ST No.2"},null,null,null,null,null,{"$f":"Option_2B!J52","v":2030},{"$f":"Option_2B!K52","v":0.26951999999999998},{"$f":"Option_2B!L52","v":0.19546825691678929}]
[null,null,null,{"$f":"Option_2B!D53","v":"TH No.1"},null,null,null,null,null,{"$f":"Option_2B!J53","v":2030},{"$f":"Option_2B!K53","v":0.26951999999999998},{"$f":"Option_2B!L53","v":0.19546825691678929}]
[null,null,null,{"$f":"Option_2B!D54","v":"TH No.2"},null,null,null,null,null,{"$f":"Option_2B!J54","v":2031},{"$f":"Option_2B!K54","v":0.26951999999999998},{"$f":"Option_2B!L54","v":0.18527796864150645}]
[null,null,null,{"$f":"Option_2B!D55","v":"Traditional for voltage spread to support DVM"}]
[]
[]
[null,null,null,{"$f":"Option_2B!D58","v":"AW0"},null,null,null,null,null,{"$f":"Option_2B!J58","v":2028},{"$f":"Option_2B!K58","v":4.1070000000000002E-2},{"$f":"Option_2B!L58","v":3.3152391647421425E-2}]
[null,null,null,{"$f":"Option_2B!D59","v":"NS0"},null,null,null,null,null,{"$f":"Option_2B!J59","v":2028},{"$f":"Option_2B!K59","v":4.1070000000000002E-2},{"$f":"Option_2B!L59","v":3.3152391647421425E-2}]
[]
[]
[]
[null,null,null,{"$f":"Option_2B!D63","v":"PTN"},null,null,null,null,null,{"$f":"Option_2B!J63","v":2029},{"$f":"Option_2B!K63","v":4.1070000000000002E-2},{"$f":"Option_2B!L63","v":3.1424067912247791E-2}]
[]
[]
[]
[]
[null,null,null,{"$f":"Option_2B!D68","v":"HB0"},null,null,null,null,null,{"$f":"Option_2B!J68","v":2031},{"$f":"Option_2B!K68","v":4.1070000000000002E-2},{"$f":"Option_2B!L68","v":2.8233029727317716E-2}]
[]
[]
[null,null,null,{"$f":"Option_2B!D71","v":"DVM Rollout"},null,null,null,null,null,null,null,null,{"$f":"Option_2B!M71","v":2027},{"$f":"Option_2B!N71","v":2028},{"$f":"Option_2B!O71","v":2029},{"$f":"Option_2B!P71","v":2030},{"$f":"Option_2B!Q71","v":2031},{"$f":"Option_2B!R71","v":2032}]
[null,null,null,{"$f":"Option_2B!D72","v":"AW0"},null,null,null,null,null,{"$f":"Option_2B!J72","v":2024},{"$f":"Option_2B!K72","v":0.45783893952207055},{"$f":"Option_2B!L72","v":0.45783893952207055},{"$f":"Option_2B!M72","v":1.5246148856818556E-3},{"$f":"Option_2B!N72","v":1.5246148856818556E-3},{"$f":"Option_2B!O72","v":1.5246148856818556E-3},{"$f":"Option_2B!P72","v":1.5246148856818556E-3},{"$f":"Option_2B!Q72","v":1.5246148856818556E-3},{"$f":"Option_2B!R72","v":1.5246148856818556E-3}]
[null,null,null,{"$f":"Option_2B!D73","v":"CS0"},null,null,null,null,null,{"$f":"Option_2B!J73","v":2024},{"$f":"Option_2B!K73","v":0.87234972192827342},{"$f":"Option_2B!L73","v":0.87234972192827342},{"$f":"Option_2B!M73","v":3.2874979730825363E-4},{"$f":"Option_2B!N73","v":3.2874979730825363E-4},{"$f":"Option_2B!O73","v":3.2874979730825363E-4},{"$f":"Option_2B!P73","v":3.2874979730825363E-4},{"$f":"Option_2B!Q73","v":3.2874979730825363E-4},{"$f":"Option_2B!R73","v":3.2874979730825363E-4}]
[null,null,null,{"$f":"Option_2B!D74","v":"PTN"},null,null,null,null,null,{"$f":"Option_2B!J74","v":2025},{"$f":"Option_2B!K74","v":0.48766423344756749},{"$f":"Option_2B!L74","v":0.46224097957115401},{"$f":"Option_2B!M74","v":9.3196043457110459E-4},{"$f":"Option_2B!N74","v":9.3196043457110459E-4},{"$f":"Option_2B!O74","v":9.3196043457110459E-4},{"$f":"Option_2B!P74","v":9.3196043457110459E-4},{"$f":"Option_2B!Q74","v":9.3196043457110459E-4},{"$f":"Option_2B!R74","v":9.3196043457110459E-4}]
[null,null,null,{"$f":"Option_2B!D75","v":"HB0"},null,null,null,null,null,{"$f":"Option_2B!J75","v":2025},{"$f":"Option_2B!K75","v":0.92442428539095434},{"$f":"Option_2B!L75","v":0.83055123235412898},{"$f":"Option_2B!M75","v":1.9905951029674076E-4},{"$f":"Option_2B!N75","v":1.9905951029674076E-4},{"$f":"Option_2B!O75","v":1.9905951029674076E-4},{"$f":"Option_2B!P75","v":1.9905951029674076E-4},{"$f":"Option_2B!Q75","v":1.9905951029674076E-4},{"$f":"Option_2B!R75","v":1.9905951029674076E-4}]
[null,null,null,{"$f":"Option_2B!D76","v":"SBY"},null,null,null,null,null,{"$f":"Option_2B!J76","v":2026},{"$f":"Option_2B!K76","v":0.5194324555099129},{"$f":"Option_2B!L76","v":0.46668534445310123},{"$f":"Option_2B!M76","v":2.9059672450137838E-3},{"$f":"Option_2B!N76","v":3.1442354467326092E-3},{"$f":"Option_2B!O76","v":4.4094697583914383E-3},{"$f":"Option_2B!P76","v":6.8313604670017843E-3},{"$f":"Option_2B!Q76","v":1.0488324955407817E-2},{"$f":"Option_2B!R76","v":1.4759056267228799E-2}]
[null,null,null,{"$f":"Option_2B!D77","v":"FE0"},null,null,null,null,null,{"$f":"Option_2B!J77","v":2026},{"$f":"Option_2B!K77","v":0.97963602817995732},{"$f":"Option_2B!L77","v":0.88015635603868503},{"$f":"Option_2B!M77","v":7.7964974866223452E-4},{"$f":"Option_2B!N77","v":7.7964974866223452E-4},{"$f":"Option_2B!O77","v":7.7964974866223452E-4},{"$f":"Option_2B!P77","v":7.7964974866223452E-4},{"$f":"Option_2B!Q77","v":7.7964974866223452E-4},{"$f":"Option_2B!R77","v":7.7964974866223452E-4}]
[null,null,null,{"$f":"Option_2B!D78","v":"NS0"},null,null,null,null,null,{"$f":"Option_2B!J78","v":2027},{"$f":"Option_2B!K78","v":0.52383144877313392},{"$f":"Option_2B!L78","v":0.44610201950440898},{"$f":"Option_2B!M78","v":0},{"$f":"Option_2B!N78","v":1.4866126155342958E-2},{"$f":"Option_2B!O78","v":1.4866126155342958E-2},{"$f":"Option_2B!P78","v":1.4866126155342958E-2},{"$f":"Option_2B!Q78","v":1.4866126155342958E-2},{"$f":"Option_2B!R78","v":1.4866126155342958E-2}]
[]
[]
[]
[]
[]
[]
[]
[]
[]
[]
[]
[]
[]
[]
[]
[]
[]
[]
[]
[]
[]
[]
[]
[null,null,null,{"$f":"Option_2B!D102","v":"Trial"},null,null,null,null,null,{"$f":"Option_2B!J102","v":2023},{"$f":"Option_2B!K102","v":2.2698113385496561},{"$f":"Option_2B!L102","v":2.2698113385496561}]
[null,null,null,{"$f":"Option_2B!D103","v":"Trial"},null,null,null,null,null,{"$f":"Option_2B!J103","v":2024},{"$f":"Option_2B!K103","v":1},{"$f":"Option_2B!L103","v":1}]
[]
[]
[]
[]
[]
[]
[]
[]
[]
[null,null,null,{"$f":"Option_2B!D113","v":"Traditional for worst served under-volt"},null,{"$f":"(1-COUNTIF($J$72:$J$101,\">0\")/COUNTIF(Option_2D!$J$72:$J$101,\">0\"))*10%","v":7.6666666666666661E-2}]
[null,null,null,{"$f":"Option_2B!D114","v":"Year 1"},null,null,null,null,null,{"$f":"Option_2B!J114","v":2027},{"$f":"Option_2D!K114*(1+$F$113)","v":1.6666799999999999},{"$f":"VLOOKUP($J114,General!$D$27:$E$46,2)*K114","v":1.4193674618218934}]
[null,null,null,{"$f":"Option_2B!D115","v":"Year 2"},null,null,null,null,null,{"$f":"Option_2B!J115","v":2028},{"$f":"Option_2D!K115*(1+$F$113)","v":1.6666799999999999},{"$f":"VLOOKUP($J115,General!$D$27:$E$46,2)*K115","v":1.3453720017269133}]
[null,null,null,{"$f":"Option_2B!D116","v":"Year 3"},null,null,null,null,null,{"$f":"Option_2B!J116","v":2029},{"$f":"Option_2D!K116*(1+$F$113)","v":1.6666799999999999},{"$f":"VLOOKUP($J116,General!$D$27:$E$46,2)*K116","v":1.2752341248596335}]
[null,null,null,{"$f":"Option_2B!D117","v":"Year 4"},null,null,null,null,null,{"$f":"Option_2B!J117","v":2030},{"$f":"Option_2D!K117*(1+$F$113)","v":1.6666799999999999},{"$f":"VLOOKUP($J117,General!$D$27:$E$46,2)*K117","v":1.2087527249854346}]
[null,null,null,{"$f":"Option_2B!D118","v":"Year 5"},null,null,null,null,null,{"$f":"Option_2B!J118","v":2031},{"$f":"Option_2D!K118*(1+$F$113)","v":1.6666799999999999},{"$f":"VLOOKUP($J118,General!$D$27:$E$46,2)*K118","v":1.145737180080981}]
[null,null,null,{"$f":"Option_2B!D119","v":"Power quality reactive program for customer complaints"}]
[null,null,null,{"$f":"Option_2B!D120","v":"Year 1"},null,null,null,null,null,{"$f":"Option_2B!J120","v":2027},{"$f":"Option_2D!K120","v":0.12322},{"$f":"VLOOKUP($J120,General!$D$27:$E$46,2)*K120","v":0.10493583570073063}]
[null,null,null,{"$f":"Option_2B!D121","v":"Year 2"},null,null,null,null,null,{"$f":"Option_2B!J121","v":2028},{"$f":"Option_2D!K121","v":0.12322},{"$f":"VLOOKUP($J121,General!$D$27:$E$46,2)*K121","v":9.9465247109697286E-2}]
[null,null,null,{"$f":"Option_2B!D122","v":"Year 3"},null,null,null,null,null,{"$f":"Option_2B!J122","v":2029},{"$f":"Option_2D!K122","v":0.12322},{"$f":"VLOOKUP($J122,General!$D$27:$E$46,2)*K122","v":9.4279855080281777E-2}]
[null,null,null,{"$f":"Option_2B!D123","v":"Year 4"},null,null,null,null,null,{"$f":"Option_2B!J123","v":2030},{"$f":"Option_2D!K123","v":0.12322},{"$f":"VLOOKUP($J123,General!$D$27:$E$46,2)*K123","v":8.9364791545290798E-2}]
[null,null,null,{"$f":"Option_2B!D124","v":"Year 5"},null,null,null,null,null,{"$f":"Option_2B!J124","v":2031},{"$f":"Option_2D!K124","v":0.12322},{"$f":"VLOOKUP($J124,General!$D$27:$E$46,2)*K124","v":8.4705963550038677E-2}]
[]
[null,null,null,"End"]

{"sheet":"Option_2B","index":5,"n_rows":126,"n_cols":19,"rows_kept":126,"cut":false,"hidden":false,"merged":[]}
[null,null,null,"Voltage PQ Management Strategy",null,null,null,"Section Check:",{"$f":"IF(COUNTA($A$8:$A$127)=COUNTIF($A$8:$A$127,0),\"Ok\",\"Check\")","v":"Ok"},null,null,"Overall Check:","Ok",null,"Legend:","Input","Internal","Select","Calculation"]
[null,null,null,{"$f":"Summary!$K13&\" - \"&Summary!$D16","v":"Option 2 - DVM, VAr controllers and reactors - EDCOP 4% NON-COMPLIANCE (MAINTAINING PERFORMANCE)"}]
[]
[]
[]
[null,"Copyright Jemena Limited. All rights reserved. Jemena is not liable for any loss caused by reliance on this document."]
[]
[null,"General Assumptions"]
[]
[null,null,{"$f":"B8","v":"General Assumptions"}]
[]
[null,null,null,{"$f":"C10","v":"General Assumptions"},"Source","Unit","Basis"]
[null,null,null,null,null,null,null,null,null,"Start","End"]
[null,null,null,"Next Regulatory Period","AM","Year","n/a",null,null,{"$f":"General!J16","v":2027},{"$f":"J14+4","v":2031}]
[null,null,null,"This Regulatory Period","AM","Year","n/a",null,null,{"$f":"K15-4","v":2022},{"$f":"J14-1","v":2026}]
[]
[null,"Option"]
[]
[null,null,"Summary"]
[]
[null,null,null,{"$f":"C19&\" ($M)\"","v":"Summary ($M)"},"Period",null,null,null,null,"Total DVM Cost","Total Cost","PV Total Cost"]
[]
[null,null,null,{"$f":"D14","v":"Next Regulatory Period"},{"$f":"$J$14&\" - \"&$K$14","v":"2027 - 2031"},null,null,null,null,{"$f":"SUMIFS($K$72:$K$103,$J$72:$J$103,\">=\"&J14,$J$72:$J$103,\"<=\"&K14)","v":1.7402900935193562},{"$f":"SUMIFS($K$37:$K$124,$J$37:$J$124,\">=\"&$J14,$J$37:$J$124,\"<=\"&$K14)","v":25.949550093519349},{"$f":"SUMIFS($L$37:$L$124,$J$37:$J$124,\">=\"&$J14,$J$37:$J$124,\"<=\"&$K14)","v":19.687892116172961}]
[null,null,null,{"$f":"D15","v":"This Regulatory Period"},{"$f":"$J$15&\" - \"&$K$15","v":"2022 - 2026"},null,null,null,null,{"$f":"SUMIFS($K$72:$K$103,$J$72:$J$103,\">=\"&J15,$J$72:$J$103,\"<=\"&K15)","v":7.5111570025283925},{"$f":"SUMIFS($K$37:$K$124,$J$37:$J$124,\">=\"&$J15,$J$37:$J$124,\"<=\"&$K15)","v":7.5111570025283925},{"$f":"SUMIFS($L$37:$L$124,$J$37:$J$124,\">=\"&$J15,$J$37:$J$124,\"<=\"&$K15)","v":7.2396339124170694}]
[]
[null,null,"Inputs"]
[]
[null,null,null,{"$f":"C26","v":"Inputs"},"Source","Unit"]
[null,null,null,null,null,null,null,null,"Year",2024,{"$f":"J29+1","v":2025},{"$f":"K29+1","v":2026},2027,2028,2029,2030,2031,2032]
[null,null,null,"VRR replacement per TX ($M)","AM","$M",null,null,"Unit Rate",0.20725539120310141,0.2183800259716934,0.23010178633502221,0.23087573199102945,0.23713500017703151,0.23700893852241472,0.23688294388253955,0.23675701622178077,0.23663115550453209]
[null,null,null,"DVM Integration per ZSS ($M)","AM","$M",null,null,"Unit Rate",0.45783893952207055,0.48766423344756749,0.5194324555099129,0.52383144877313392,0.54233044453207147,0.54153921789798876,0.54074914561471332,0.53996022599811866,0.5391724573665353]
[null,null,null,null,null,null,null,null,"Reconcile",{"$f":"SUMIF($J$72:$J$101,J$29,$K$72:$K$101)","v":1.330188661450344},{"$f":"SUMIF($J$72:$J$101,K$29,$K$72:$K$101)","v":1.4120885188385217},1.4990684836898702,1.7402900935193562,0,0,0,0,0]
[null,null,"Calculations"]
[null,null,null,null,null,null,null,null,null,null,null,null,"Forecast Compliance"]
[null,null,null,{"$f":"Summary!$G16&\" - \"&Summary!$D16","v":"Option 2 - EDCOP 4% NON-COMPLIANCE (MAINTAINING PERFORMANCE)"},null,null,null,null,null,"Indicative Year","Cost ($M)","PV Cost ($M)",{"$f":"M71","v":2027},2028,2029,2030,2031,2032]
[null,null,null,"PROJECT & LOCATION",null,null,null,null,"TOTAL",{"$f":"J14&\" - \"&J14+General!J15-1","v":"2027 - 2031"},{"$f":"SUMIFS(K$37:K$124,$J$37:$J$124,\">=\"&$J$14,$J$37:$J$124,\"<=\"&J14+General!J15-1)","v":25.949550093519349},{"$f":"SUMIFS(L$37:L$124,$J$37:$J$124,\">=\"&$J$14,$J$37:$J$124,\"<=\"&J14+General!J15-1)","v":19.687892116172961},{"$f":"Compliance!M43-SUM(M72:M101)","v":3.9913750608075248E-2},{"$f":"Compliance!N43-SUM(N72:N101)","v":2.1333441435598087E-2},{"$f":"Compliance!O43-SUM(O72:O101)","v":2.3862769580022702E-2},{"$f":"Compliance!P43-SUM(P72:P101)","v":2.7471488027674188E-2},{"$f":"Compliance!Q43-SUM(Q72:Q101)","v":3.2193865196475879E-2},{"$f":"Compliance!R43-SUM(R72:R101)","v":3.7881936111561557E-2}]
[null,null,null,{"$f":"Option_2D!D37","v":"Reactors"}]
[null,null,null,{"$f":"Option_2D!D38","v":"SBY"},null,null,null,null,null,{"$f":"Option_2D!J38","v":2028},{"$f":"Option_2D!K38","v":2.3165800000000001},{"$f":"Option_2D!L38","v":1.8699821631990143}]
[null,null,null,{"$f":"Option_2D!D39","v":"SHM"},null,null,null,null,null,{"$f":"Option_2D!J39","v":2029},{"$f":"Option_2D!K39","v":2.59457},{"$f":"Option_2D!L39","v":1.9851946404451122}]
[null,null,null,{"$f":"Option_2D!D40","v":"COO"},null,null,null,null,null,{"$f":"Option_2D!J40","v":2030},{"$f":"Option_2D!K40","v":2.6623600000000001},{"$f":"Option_2D!L40","v":1.9308654960113651}]
[null,null,null,{"$f":"Option_2D!D41","v":"ST"},null,null,null,null,null,{"$f":"Option_2D!J41","v":2031},{"$f":"Option_2D!K41","v":2.1589499999999999},{"$f":"Option_2D!L41","v":1.4841416978279176}]
[null,null,null,{"$f":"Option_2D!D42","v":"BD"},null,null,null,null,null,{"$f":"Option_2D!J42","v":2031},{"$f":"Option_2D!K42","v":2.4241000000000001},{"$f":"Option_2D!L42","v":1.6664155676160428}]
[null,null,null,{"$f":"Option_2D!D43","v":"VAr controllers"}]
[null,null,null,{"$f":"Option_2D!D44","v":"CN No.1"},null,null,null,null,null,{"$f":"Option_2D!J44","v":2027},{"$f":"Option_2D!K44","v":0.26951999999999998},{"$f":"Option_2D!L44","v":0.22952691477082388}]
[null,null,null,{"$f":"Option_2D!D45","v":"CN No.2"},null,null,null,null,null,{"$f":"Option_2D!J45","v":2027},{"$f":"Option_2D!K45","v":0.26951999999999998},{"$f":"Option_2D!L45","v":0.22952691477082388}]
[null,null,null,{"$f":"Option_2D!D46","v":"CN No.3A & 3B"},null,null,null,null,null,{"$f":"Option_2D!J46","v":2028},{"$f":"Option_2D!K46","v":0.26951999999999998},{"$f":"Option_2D!L46","v":0.21756105665480938}]
[null,null,null,{"$f":"Option_2D!D47","v":"CS No.2"},null,null,null,null,null,{"$f":"Option_2D!J47","v":2028},{"$f":"Option_2D!K47","v":0.26951999999999998},{"$f":"Option_2D!L47","v":0.21756105665480938}]
[null,null,null,{"$f":"Option_2D!D48","v":"ES No.1"},null,null,null,null,null,{"$f":"Option_2D!J48","v":2028},{"$f":"Option_2D!K48","v":0.26951999999999998},{"$f":"Option_2D!L48","v":0.21756105665480938}]
[null,null,null,{"$f":"Option_2D!D49","v":"FF No.1"},null,null,null,null,null,{"$f":"Option_2D!J49","v":2029},{"$f":"Option_2D!K49","v":0.26951999999999998},{"$f":"Option_2D!L49","v":0.20621901104721266}]
[null,null,null,{"$f":"Option_2D!D50","v":"NH No.1"},null,null,null,null,null,{"$f":"Option_2D!J50","v":2029},{"$f":"Option_2D!K50","v":0.26951999999999998},{"$f":"Option_2D!L50","v":0.20621901104721266}]
[null,null,null,{"$f":"Option_2D!D51","v":"ST No.1"},null,null,null,null,null,{"$f":"Option_2D!J51","v":2030},{"$f":"Option_2D!K51","v":0.26951999999999998},{"$f":"Option_2D!L51","v":0.19546825691678929}]
[null,null,null,{"$f":"Option_2D!D52","v":"ST No.2"},null,null,null,null,null,{"$f":"Option_2D!J52","v":2030},{"$f":"Option_2D!K52","v":0.26951999999999998},{"$f":"Option_2D!L52","v":0.19546825691678929}]
[null,null,null,{"$f":"Option_2D!D53","v":"TH No.1"},null,null,null,null,null,{"$f":"Option_2D!J53","v":2030},{"$f":"Option_2D!K53","v":0.26951999999999998},{"$f":"Option_2D!L53","v":0.19546825691678929}]
[null,null,null,{"$f":"Option_2D!D54","v":"TH No.2"},null,null,null,null,null,{"$f":"Option_2D!J54","v":2031},{"$f":"Option_2D!K54","v":0.26951999999999998},{"$f":"Option_2D!L54","v":0.18527796864150645}]
[null,null,null,{"$f":"Option_2D!D55","v":"Traditional for voltage spread to support DVM"}]
[]
[]
[null,null,null,{"$f":"Option_2D!D58","v":"AW0"},null,null,null,null,null,{"$f":"Option_2D!J58","v":2028},{"$f":"Option_2D!K58","v":4.1070000000000002E-2},{"$f":"Option_2D!L58","v":3.3152391647421425E-2}]
[null,null,null,{"$f":"Option_2D!D59","v":"NS0"},null,null,null,null,null,{"$f":"Option_2D!J59","v":2028},{"$f":"Option_2D!K59","v":4.1070000000000002E-2},{"$f":"Option_2D!L59","v":3.3152391647421425E-2}]
[]
[]
[]
[null,null,null,{"$f":"Option_2D!D63","v":"PTN"},null,null,null,null,null,{"$f":"Option_2D!J63","v":2029},{"$f":"Option_2D!K63","v":4.1070000000000002E-2},{"$f":"Option_2D!L63","v":3.1424067912247791E-2}]
[]
[]
[]
[]
[null,null,null,{"$f":"Option_2D!D68","v":"HB0"},null,null,null,null,null,{"$f":"Option_2D!J68","v":2031},{"$f":"Option_2D!K68","v":4.1070000000000002E-2},{"$f":"Option_2D!L68","v":2.8233029727317716E-2}]
[]
[]
[null,null,null,{"$f":"Option_2D!D71","v":"DVM Rollout"},null,null,null,null,null,null,null,null,{"$f":"Option_2D!M71","v":2027},{"$f":"Option_2D!N71","v":2028},{"$f":"Option_2D!O71","v":2029},{"$f":"Option_2D!P71","v":2030},{"$f":"Option_2D!Q71","v":2031},{"$f":"Option_2D!R71","v":2032}]
[null,null,null,{"$f":"Option_2D!D72","v":"AW0"},null,null,null,null,null,{"$f":"Option_2D!J72","v":2024},{"$f":"Option_2D!K72","v":0.45783893952207055},{"$f":"Option_2D!L72","v":0.45783893952207055},{"$f":"Option_2D!M72","v":1.5246148856818556E-3},{"$f":"Option_2D!N72","v":1.5246148856818556E-3},{"$f":"Option_2D!O72","v":1.5246148856818556E-3},{"$f":"Option_2D!P72","v":1.5246148856818556E-3},{"$f":"Option_2D!Q72","v":1.5246148856818556E-3},{"$f":"Option_2D!R72","v":1.5246148856818556E-3}]
[null,null,null,{"$f":"Option_2D!D73","v":"CS0"},null,null,null,null,null,{"$f":"Option_2D!J73","v":2024},{"$f":"Option_2D!K73","v":0.87234972192827342},{"$f":"Option_2D!L73","v":0.87234972192827342},{"$f":"Option_2D!M73","v":3.2874979730825363E-4},{"$f":"Option_2D!N73","v":3.2874979730825363E-4},{"$f":"Option_2D!O73","v":3.2874979730825363E-4},{"$f":"Option_2D!P73","v":3.2874979730825363E-4},{"$f":"Option_2D!Q73","v":3.2874979730825363E-4},{"$f":"Option_2D!R73","v":3.2874979730825363E-4}]
[null,null,null,{"$f":"Option_2D!D74","v":"PTN"},null,null,null,null,null,{"$f":"Option_2D!J74","v":2025},{"$f":"Option_2D!K74","v":0.48766423344756749},{"$f":"Option_2D!L74","v":0.46224097957115401},{"$f":"Option_2D!M74","v":9.3196043457110459E-4},{"$f":"Option_2D!N74","v":9.3196043457110459E-4},{"$f":"Option_2D!O74","v":9.3196043457110459E-4},{"$f":"Option_2D!P74","v":9.3196043457110459E-4},{"$f":"Option_2D!Q74","v":9.3196043457110459E-4},{"$f":"Option_2D!R74","v":9.3196043457110459E-4}]
[null,null,null,{"$f":"Option_2D!D75","v":"HB0"},null,null,null,null,null,{"$f":"Option_2D!J75","v":2025},{"$f":"Option_2D!K75","v":0.92442428539095434},{"$f":"Option_2D!L75","v":0.83055123235412898},{"$f":"Option_2D!M75","v":1.9905951029674076E-4},{"$f":"Option_2D!N75","v":1.9905951029674076E-4},{"$f":"Option_2D!O75","v":1.9905951029674076E-4},{"$f":"Option_2D!P75","v":1.9905951029674076E-4},{"$f":"Option_2D!Q75","v":1.9905951029674076E-4},{"$f":"Option_2D!R75","v":1.9905951029674076E-4}]
[null,null,null,{"$f":"Option_2D!D76","v":"SBY"},null,null,null,null,null,{"$f":"Option_2D!J76","v":2026},{"$f":"Option_2D!K76","v":0.5194324555099129},{"$f":"Option_2D!L76","v":0.46668534445310123},{"$f":"Option_2D!M76","v":2.9059672450137838E-3},{"$f":"Option_2D!N76","v":3.1442354467326092E-3},{"$f":"Option_2D!O76","v":4.4094697583914383E-3},{"$f":"Option_2D!P76","v":6.8313604670017843E-3},{"$f":"Option_2D!Q76","v":1.0488324955407817E-2},{"$f":"Option_2D!R76","v":1.4759056267228799E-2}]
[null,null,null,{"$f":"Option_2D!D77","v":"FE0"},null,null,null,null,null,{"$f":"Option_2D!J77","v":2026},{"$f":"Option_2D!K77","v":0.97963602817995732},{"$f":"Option_2D!L77","v":0.88015635603868503},{"$f":"Option_2D!M77","v":7.7964974866223452E-4},{"$f":"Option_2D!N77","v":7.7964974866223452E-4},{"$f":"Option_2D!O77","v":7.7964974866223452E-4},{"$f":"Option_2D!P77","v":7.7964974866223452E-4},{"$f":"Option_2D!Q77","v":7.7964974866223452E-4},{"$f":"Option_2D!R77","v":7.7964974866223452E-4}]
[null,null,null,{"$f":"Option_2D!D78","v":"NS0"},null,null,null,null,null,{"$f":"Option_2D!J78","v":2027},{"$f":"Option_2D!K78","v":0.52383144877313392},{"$f":"Option_2D!L78","v":0.44610201950440898},{"$f":"Option_2D!M78","v":0},{"$f":"Option_2D!N78","v":1.4866126155342958E-2},{"$f":"Option_2D!O78","v":1.4866126155342958E-2},{"$f":"Option_2D!P78","v":1.4866126155342958E-2},{"$f":"Option_2D!Q78","v":1.4866126155342958E-2},{"$f":"Option_2D!R78","v":1.4866126155342958E-2}]
[null,null,null,{"$f":"Option_2D!D79","v":"ST0"},null,null,null,null,null,{"$f":"Option_2D!J79","v":2027},{"$f":"Option_2D!K79","v":1.2164586447462222},{"$f":"Option_2D!L79","v":1.0359528037804173},{"$f":"Option_2D!M79","v":0},{"$f":"Option_2D!N79","v":1.1672125831036163E-3},{"$f":"Option_2D!O79","v":1.9921031295605644E-3},{"$f":"Option_2D!P79","v":3.1743959785957526E-3},{"$f":"Option_2D!Q79","v":4.9598994648937904E-3},{"$f":"Option_2D!R79","v":7.1284417058537393E-3}]
[]
[]
[]
[]
[]
[]
[]
[]
[]
[]
[]
[]
[]
[]
[]
[]
[]
[]
[]
[]
[]
[]
[null,null,null,{"$f":"Option_2D!D102","v":"Trial"},null,null,null,null,null,{"$f":"Option_2D!J102","v":2023},{"$f":"Option_2D!K102","v":2.2698113385496561},{"$f":"Option_2D!L102","v":2.2698113385496561}]
[null,null,null,{"$f":"Option_2D!D103","v":"Trial"},null,null,null,null,null,{"$f":"Option_2D!J103","v":2024},{"$f":"Option_2D!K103","v":1},{"$f":"Option_2D!L103","v":1}]
[]
[]
[]
[]
[]
[]
[]
[]
[]
[null,null,null,{"$f":"Option_2D!D113","v":"Traditional for worst served under-volt"},null,{"$f":"(1-COUNTIF($J$72:$J$101,\">0\")/COUNTIF(Option_2D!$J$72:$J$101,\">0\"))*10%","v":7.3333333333333348E-2}]
[null,null,null,{"$f":"Option_2D!D114","v":"Year 1"},null,null,null,null,null,{"$f":"Option_2D!J114","v":2027},{"$f":"Option_2D!K114*(1+$F$113)","v":1.6615199999999999},{"$f":"VLOOKUP($J114,General!$D$27:$E$46,2)*K114","v":1.414973135314705}]
[null,null,null,{"$f":"Option_2D!D115","v":"Year 2"},null,null,null,null,null,{"$f":"Option_2D!J115","v":2028},{"$f":"Option_2D!K115*(1+$F$113)","v":1.6615199999999999},{"$f":"VLOOKUP($J115,General!$D$27:$E$46,2)*K115","v":1.3412067633314739}]
[null,null,null,{"$f":"Option_2D!D116","v":"Year 3"},null,null,null,null,null,{"$f":"Option_2D!J116","v":2029},{"$f":"Option_2D!K116*(1+$F$113)","v":1.6615199999999999},{"$f":"VLOOKUP($J116,General!$D$27:$E$46,2)*K116","v":1.2712860315938141}]
[null,null,null,{"$f":"Option_2D!D117","v":"Year 4"},null,null,null,null,null,{"$f":"Option_2D!J117","v":2030},{"$f":"Option_2D!K117*(1+$F$113)","v":1.6615199999999999},{"$f":"VLOOKUP($J117,General!$D$27:$E$46,2)*K117","v":1.2050104564870279}]
[null,null,null,{"$f":"Option_2D!D118","v":"Year 5"},null,null,null,null,null,{"$f":"Option_2D!J118","v":2031},{"$f":"Option_2D!K118*(1+$F$113)","v":1.6615199999999999},{"$f":"VLOOKUP($J118,General!$D$27:$E$46,2)*K118","v":1.1421900061488417}]
[null,null,null,{"$f":"Option_2D!D119","v":"Power quality reactive program for customer complaints"}]
[null,null,null,{"$f":"Option_2D!D120","v":"Year 1"},null,null,null,null,null,{"$f":"Option_2D!J120","v":2027},{"$f":"Option_2D!K120","v":0.12322},{"$f":"VLOOKUP($J120,General!$D$27:$E$46,2)*K120","v":0.10493583570073063}]
[null,null,null,{"$f":"Option_2D!D121","v":"Year 2"},null,null,null,null,null,{"$f":"Option_2D!J121","v":2028},{"$f":"Option_2D!K121","v":0.12322},{"$f":"VLOOKUP($J121,General!$D$27:$E$46,2)*K121","v":9.9465247109697286E-2}]
[null,null,null,{"$f":"Option_2D!D122","v":"Year 3"},null,null,null,null,null,{"$f":"Option_2D!J122","v":2029},{"$f":"Option_2D!K122","v":0.12322},{"$f":"VLOOKUP($J122,General!$D$27:$E$46,2)*K122","v":9.4279855080281777E-2}]
[null,null,null,{"$f":"Option_2D!D123","v":"Year 4"},null,null,null,null,null,{"$f":"Option_2D!J123","v":2030},{"$f":"Option_2D!K123","v":0.12322},{"$f":"VLOOKUP($J123,General!$D$27:$E$46,2)*K123","v":8.9364791545290798E-2}]
[null,null,null,{"$f":"Option_2D!D124","v":"Year 5"},null,null,null,null,null,{"$f":"Option_2D!J124","v":2031},{"$f":"Option_2D!K124","v":0.12322},{"$f":"VLOOKUP($J124,General!$D$27:$E$46,2)*K124","v":8.4705963550038677E-2}]
[]
[null,null,null,"End"]

{"sheet":"Option_2C","index":6,"n_rows":126,"n_cols":19,"rows_kept":126,"cut":false,"hidden":false,"merged":[]}
[null,null,null,"Voltage PQ Management Strategy",null,null,null,"Section Check:",{"$f":"IF(COUNTA($A$8:$A$127)=COUNTIF($A$8:$A$127,0),\"Ok\",\"Check\")","v":"Ok"},null,null,"Overall Check:","Ok",null,"Legend:","Input","Internal","Select","Calculation"]
[null,null,null,{"$f":"Summary!$K13&\" - \"&Summary!$D21","v":"Option 2 - DVM, VAr controllers and reactors - EDCOP 3% NON-COMPLIANCE (IMPROVED PERFORMANCE)"}]
[]
[]
[]
[null,"Copyright Jemena Limited. All rights reserved. Jemena is not liable for any loss caused by reliance on this document."]
[]
[null,"General Assumptions"]
[]
[null,null,{"$f":"B8","v":"General Assumptions"}]
[]
[null,null,null,{"$f":"C10","v":"General Assumptions"},"Source","Unit","Basis"]
[null,null,null,null,null,null,null,null,null,"Start","End"]
[null,null,null,"Next Regulatory Period","AM","Year","n/a",null,null,{"$f":"General!J16","v":2027},{"$f":"J14+4","v":2031}]
[null,null,null,"This Regulatory Period","AM","Year","n/a",null,null,{"$f":"K15-4","v":2022},{"$f":"J14-1","v":2026}]
[]
[null,"Option"]
[]
[null,null,"Summary"]
[]
[null,null,null,{"$f":"C19&\" ($M)\"","v":"Summary ($M)"},"Period",null,null,null,null,"Total DVM Cost","Total Cost","PV Total Cost"]
[]
[null,null,null,{"$f":"D14","v":"Next Regulatory Period"},{"$f":"$J$14&\" - \"&$K$14","v":"2027 - 2031"},null,null,null,null,{"$f":"SUMIFS($K$72:$K$103,$J$72:$J$103,\">=\"&J14,$J$72:$J$103,\"<=\"&K14)","v":4.5219388958697868},{"$f":"SUMIFS($K$37:$K$124,$J$37:$J$124,\">=\"&$J14,$J$37:$J$124,\"<=\"&$K14)","v":29.105568895869776},{"$f":"SUMIFS($L$37:$L$124,$J$37:$J$124,\">=\"&$J14,$J$37:$J$124,\"<=\"&$K14)","v":22.265855655356489}]
[null,null,null,{"$f":"D15","v":"This Regulatory Period"},{"$f":"$J$15&\" - \"&$K$15","v":"2022 - 2026"},null,null,null,null,{"$f":"SUMIFS($K$72:$K$103,$J$72:$J$103,\">=\"&J15,$J$72:$J$103,\"<=\"&K15)","v":7.5111570025283925},{"$f":"SUMIFS($K$37:$K$124,$J$37:$J$124,\">=\"&$J15,$J$37:$J$124,\"<=\"&$K15)","v":7.5111570025283925},{"$f":"SUMIFS($L$37:$L$124,$J$37:$J$124,\">=\"&$J15,$J$37:$J$124,\"<=\"&$K15)","v":7.2396339124170694}]
[]
[null,null,"Inputs"]
[]
[null,null,null,{"$f":"C26","v":"Inputs"},"Source","Unit"]
[null,null,null,null,null,null,null,null,"Year",2024,{"$f":"J29+1","v":2025},{"$f":"K29+1","v":2026},2027,2028,2029,2030,2031,2032]
[null,null,null,"VRR replacement per TX ($M)","AM","$M",null,null,"Unit Rate",0.20725539120310141,0.2183800259716934,0.23010178633502221,0.23087573199102945,0.23713500017703151,0.23700893852241472,0.23688294388253955,0.23675701622178077,0.23663115550453209]
[null,null,null,"DVM Integration per ZSS ($M)","AM","$M",null,null,"Unit Rate",0.45783893952207055,0.48766423344756749,0.5194324555099129,0.52383144877313392,0.54233044453207147,0.54153921789798876,0.54074914561471332,0.53996022599811866,0.5391724573665353]
[null,null,null,null,null,null,null,null,"Reconcile",{"$f":"SUMIF($J$72:$J$101,J$29,$K$72:$K$101)","v":1.330188661450344},{"$f":"SUMIF($J$72:$J$101,K$29,$K$72:$K$101)","v":1.4120885188385217},1.4990684836898702,2.7258730062745489,1.7960658895952375,0,0,0,0]
[null,null,"Calculations"]
[null,null,null,null,null,null,null,null,null,null,null,null,"Forecast Compliance"]
[null,null,null,{"$f":"Summary!$G16&\" - \"&Summary!$D21","v":"Option 2 - EDCOP 3% NON-COMPLIANCE (IMPROVED PERFORMANCE)"},null,null,null,null,null,"Indicative Year","Cost ($M)","PV Cost ($M)",{"$f":"M71","v":2027},2028,2029,2030,2031,2032]
[null,null,null,"PROJECT & LOCATION",null,null,null,null,"TOTAL",{"$f":"J14&\" - \"&J14+General!J15-1","v":"2027 - 2031"},{"$f":"SUMIFS(K$37:K$124,$J$37:$J$124,\">=\"&$J$14,$J$37:$J$124,\"<=\"&J14+General!J15-1)","v":29.105568895869776},{"$f":"SUMIFS(L$37:L$124,$J$37:$J$124,\">=\"&$J$14,$J$37:$J$124,\"<=\"&J14+General!J15-1)","v":22.265855655356489},{"$f":"Compliance!M43-SUM(M72:M101)","v":3.9913750608075248E-2},{"$f":"Compliance!N43-SUM(N72:N101)","v":1.9246332630668623E-2},{"$f":"Compliance!O43-SUM(O72:O101)","v":1.7976941786930437E-2},{"$f":"Compliance!P43-SUM(P72:P101)","v":1.9880082157721211E-2},{"$f":"Compliance!Q43-SUM(Q72:Q101)","v":2.2562099345981308E-2},{"$f":"Compliance!R43-SUM(R72:R101)","v":2.5761926382357726E-2}]
[null,null,null,{"$f":"Option_2D!D37","v":"Reactors"}]
[null,null,null,{"$f":"Option_2D!D38","v":"SBY"},null,null,null,null,null,{"$f":"Option_2D!J38","v":2028},{"$f":"Option_2D!K38","v":2.3165800000000001},{"$f":"Option_2D!L38","v":1.8699821631990143}]
[null,null,null,{"$f":"Option_2D!D39","v":"SHM"},null,null,null,null,null,{"$f":"Option_2D!J39","v":2029},{"$f":"Option_2D!K39","v":2.59457},{"$f":"Option_2D!L39","v":1.9851946404451122}]
[null,null,null,{"$f":"Option_2D!D40","v":"COO"},null,null,null,null,null,{"$f":"Option_2D!J40","v":2030},{"$f":"Option_2D!K40","v":2.6623600000000001},{"$f":"Option_2D!L40","v":1.9308654960113651}]
[null,null,null,{"$f":"Option_2D!D41","v":"ST"},null,null,null,null,null,{"$f":"Option_2D!J41","v":2031},{"$f":"Option_2D!K41","v":2.1589499999999999},{"$f":"Option_2D!L41","v":1.4841416978279176}]
[null,null,null,{"$f":"Option_2D!D42","v":"BD"},null,null,null,null,null,{"$f":"Option_2D!J42","v":2031},{"$f":"Option_2D!K42","v":2.4241000000000001},{"$f":"Option_2D!L42","v":1.6664155676160428}]
[null,null,null,{"$f":"Option_2D!D43","v":"VAr controllers"}]
[null,null,null,{"$f":"Option_2D!D44","v":"CN No.1"},null,null,null,null,null,{"$f":"Option_2D!J44","v":2027},{"$f":"Option_2D!K44","v":0.26951999999999998},{"$f":"Option_2D!L44","v":0.22952691477082388}]
[null,null,null,{"$f":"Option_2D!D45","v":"CN No.2"},null,null,null,null,null,{"$f":"Option_2D!J45","v":2027},{"$f":"Option_2D!K45","v":0.26951999999999998},{"$f":"Option_2D!L45","v":0.22952691477082388}]
[null,null,null,{"$f":"Option_2D!D46","v":"CN No.3A & 3B"},null,null,null,null,null,{"$f":"Option_2D!J46","v":2028},{"$f":"Option_2D!K46","v":0.26951999999999998},{"$f":"Option_2D!L46","v":0.21756105665480938}]
[null,null,null,{"$f":"Option_2D!D47","v":"CS No.2"},null,null,null,null,null,{"$f":"Option_2D!J47","v":2028},{"$f":"Option_2D!K47","v":0.26951999999999998},{"$f":"Option_2D!L47","v":0.21756105665480938}]
[null,null,null,{"$f":"Option_2D!D48","v":"ES No.1"},null,null,null,null,null,{"$f":"Option_2D!J48","v":2028},{"$f":"Option_2D!K48","v":0.26951999999999998},{"$f":"Option_2D!L48","v":0.21756105665480938}]
[null,null,null,{"$f":"Option_2D!D49","v":"FF No.1"},null,null,null,null,null,{"$f":"Option_2D!J49","v":2029},{"$f":"Option_2D!K49","v":0.26951999999999998},{"$f":"Option_2D!L49","v":0.20621901104721266}]
[null,null,null,{"$f":"Option_2D!D50","v":"NH No.1"},null,null,null,null,null,{"$f":"Option_2D!J50","v":2029},{"$f":"Option_2D!K50","v":0.26951999999999998},{"$f":"Option_2D!L50","v":0.20621901104721266}]
[null,null,null,{"$f":"Option_2D!D51","v":"ST No.1"},null,null,null,null,null,{"$f":"Option_2D!J51","v":2030},{"$f":"Option_2D!K51","v":0.26951999999999998},{"$f":"Option_2D!L51","v":0.19546825691678929}]
[null,null,null,{"$f":"Option_2D!D52","v":"ST No.2"},null,null,null,null,null,{"$f":"Option_2D!J52","v":2030},{"$f":"Option_2D!K52","v":0.26951999999999998},{"$f":"Option_2D!L52","v":0.19546825691678929}]
[null,null,null,{"$f":"Option_2D!D53","v":"TH No.1"},null,null,null,null,null,{"$f":"Option_2D!J53","v":2030},{"$f":"Option_2D!K53","v":0.26951999999999998},{"$f":"Option_2D!L53","v":0.19546825691678929}]
[null,null,null,{"$f":"Option_2D!D54","v":"TH No.2"},null,null,null,null,null,{"$f":"Option_2D!J54","v":2031},{"$f":"Option_2D!K54","v":0.26951999999999998},{"$f":"Option_2D!L54","v":0.18527796864150645}]
[null,null,null,{"$f":"Option_2D!D55","v":"Traditional for voltage spread to support DVM"}]
[null,null,null,{"$f":"Option_2D!D56","v":"EPN"},null,null,null,null,null,{"$f":"Option_2D!J56","v":2027},{"$f":"Option_2D!K56","v":4.1070000000000002E-2},{"$f":"Option_2D!L56","v":3.4975773188029601E-2}]
[null,null,null,{"$f":"Option_2D!D57","v":"EP0"},null,null,null,null,null,{"$f":"Option_2D!J57","v":2027},{"$f":"Option_2D!K57","v":4.1070000000000002E-2},{"$f":"Option_2D!L57","v":3.4975773188029601E-2}]
[null,null,null,{"$f":"Option_2D!D58","v":"AW0"},null,null,null,null,null,{"$f":"Option_2D!J58","v":2028},{"$f":"Option_2D!K58","v":4.1070000000000002E-2},{"$f":"Option_2D!L58","v":3.3152391647421425E-2}]
[null,null,null,{"$f":"Option_2D!D59","v":"NS0"},null,null,null,null,null,{"$f":"Option_2D!J59","v":2028},{"$f":"Option_2D!K59","v":4.1070000000000002E-2},{"$f":"Option_2D!L59","v":3.3152391647421425E-2}]
[null,null,null,{"$f":"Option_2D!D60","v":"FT0"},null,null,null,null,null,{"$f":"Option_2D!J60","v":2028},{"$f":"Option_2D!K60","v":4.1070000000000002E-2},{"$f":"Option_2D!L60","v":3.3152391647421425E-2}]
[null,null,null,{"$f":"Option_2D!D61","v":"TMA"},null,null,null,null,null,{"$f":"Option_2D!J61","v":2028},{"$f":"Option_2D!K61","v":4.1070000000000002E-2},{"$f":"Option_2D!L61","v":3.3152391647421425E-2}]
[null,null,null,{"$f":"Option_2D!D62","v":"TH0"},null,null,null,null,null,{"$f":"Option_2D!J62","v":2029},{"$f":"Option_2D!K62","v":4.1070000000000002E-2},{"$f":"Option_2D!L62","v":3.1424067912247791E-2}]
[null,null,null,{"$f":"Option_2D!D63","v":"PTN"},null,null,null,null,null,{"$f":"Option_2D!J63","v":2029},{"$f":"Option_2D!K63","v":4.1070000000000002E-2},{"$f":"Option_2D!L63","v":3.1424067912247791E-2}]
[null,null,null,{"$f":"Option_2D!D64","v":"YVE"},null,null,null,null,null,{"$f":"Option_2D!J64","v":2029},{"$f":"Option_2D!K64","v":4.1070000000000002E-2},{"$f":"Option_2D!L64","v":3.1424067912247791E-2}]
[null,null,null,{"$f":"Option_2D!D65","v":"FF0"},null,null,null,null,null,{"$f":"Option_2D!J65","v":2029},{"$f":"Option_2D!K65","v":4.1070000000000002E-2},{"$f":"Option_2D!L65","v":3.1424067912247791E-2}]
[null,null,null,{"$f":"Option_2D!D66","v":"BY0"},null,null,null,null,null,{"$f":"Option_2D!J66","v":2029},{"$f":"Option_2D!K66","v":4.1070000000000002E-2},{"$f":"Option_2D!L66","v":3.1424067912247791E-2}]
[null,null,null,{"$f":"Option_2D!D67","v":"ES0"},null,null,null,null,null,{"$f":"Option_2D!J67","v":2030},{"$f":"Option_2D!K67","v":4.1070000000000002E-2},{"$f":"Option_2D!L67","v":2.9785846362320186E-2}]
[null,null,null,{"$f":"Option_2D!D68","v":"HB0"},null,null,null,null,null,{"$f":"Option_2D!J68","v":2031},{"$f":"Option_2D!K68","v":4.1070000000000002E-2},{"$f":"Option_2D!L68","v":2.8233029727317716E-2}]
[null,null,null,{"$f":"Option_2D!D69","v":"PV0"},null,null,null,null,null,{"$f":"Option_2D!J69","v":2031},{"$f":"Option_2D!K69","v":4.1070000000000002E-2},{"$f":"Option_2D!L69","v":2.8233029727317716E-2}]
[null,null,null,{"$f":"Option_2D!D70","v":"BMS"},null,null,null,null,null,{"$f":"Option_2D!J70","v":2031},{"$f":"Option_2D!K70","v":4.1070000000000002E-2},{"$f":"Option_2D!L70","v":2.8233029727317716E-2}]
[null,null,null,{"$f":"Option_2D!D71","v":"DVM Rollout"},null,null,null,null,null,null,null,null,{"$f":"Option_2D!M71","v":2027},{"$f":"Option_2D!N71","v":2028},{"$f":"Option_2D!O71","v":2029},{"$f":"Option_2D!P71","v":2030},{"$f":"Option_2D!Q71","v":2031},{"$f":"Option_2D!R71","v":2032}]
[null,null,null,{"$f":"Option_2D!D72","v":"AW0"},null,null,null,null,null,{"$f":"Option_2D!J72","v":2024},{"$f":"Option_2D!K72","v":0.45783893952207055},{"$f":"Option_2D!L72","v":0.45783893952207055},{"$f":"Option_2D!M72","v":1.5246148856818556E-3},{"$f":"Option_2D!N72","v":1.5246148856818556E-3},{"$f":"Option_2D!O72","v":1.5246148856818556E-3},{"$f":"Option_2D!P72","v":1.5246148856818556E-3},{"$f":"Option_2D!Q72","v":1.5246148856818556E-3},{"$f":"Option_2D!R72","v":1.5246148856818556E-3}]
[null,null,null,{"$f":"Option_2D!D73","v":"CS0"},null,null,null,null,null,{"$f":"Option_2D!J73","v":2024},{"$f":"Option_2D!K73","v":0.87234972192827342},{"$f":"Option_2D!L73","v":0.87234972192827342},{"$f":"Option_2D!M73","v":3.2874979730825363E-4},{"$f":"Option_2D!N73","v":3.2874979730825363E-4},{"$f":"Option_2D!O73","v":3.2874979730825363E-4},{"$f":"Option_2D!P73","v":3.2874979730825363E-4},{"$f":"Option_2D!Q73","v":3.2874979730825363E-4},{"$f":"Option_2D!R73","v":3.2874979730825363E-4}]
[null,null,null,{"$f":"Option_2D!D74","v":"PTN"},null,null,null,null,null,{"$f":"Option_2D!J74","v":2025},{"$f":"Option_2D!K74","v":0.48766423344756749},{"$f":"Option_2D!L74","v":0.46224097957115401},{"$f":"Option_2D!M74","v":9.3196043457110459E-4},{"$f":"Option_2D!N74","v":9.3196043457110459E-4},{"$f":"Option_2D!O74","v":9.3196043457110459E-4},{"$f":"Option_2D!P74","v":9.3196043457110459E-4},{"$f":"Option_2D!Q74","v":9.3196043457110459E-4},{"$f":"Option_2D!R74","v":9.3196043457110459E-4}]
[null,null,null,{"$f":"Option_2D!D75","v":"HB0"},null,null,null,null,null,{"$f":"Option_2D!J75","v":2025},{"$f":"Option_2D!K75","v":0.92442428539095434},{"$f":"Option_2D!L75","v":0.83055123235412898},{"$f":"Option_2D!M75","v":1.9905951029674076E-4},{"$f":"Option_2D!N75","v":1.9905951029674076E-4},{"$f":"Option_2D!O75","v":1.9905951029674076E-4},{"$f":"Option_2D!P75","v":1.9905951029674076E-4},{"$f":"Option_2D!Q75","v":1.9905951029674076E-4},{"$f":"Option_2D!R75","v":1.9905951029674076E-4}]
[null,null,null,{"$f":"Option_2D!D76","v":"SBY"},null,null,null,null,null,{"$f":"Option_2D!J76","v":2026},{"$f":"Option_2D!K76","v":0.5194324555099129},{"$f":"Option_2D!L76","v":0.46668534445310123},{"$f":"Option_2D!M76","v":2.9059672450137838E-3},{"$f":"Option_2D!N76","v":3.1442354467326092E-3},{"$f":"Option_2D!O76","v":4.4094697583914383E-3},{"$f":"Option_2D!P76","v":6.8313604670017843E-3},{"$f":"Option_2D!Q76","v":1.0488324955407817E-2},{"$f":"Option_2D!R76","v":1.4759056267228799E-2}]
[null,null,null,{"$f":"Option_2D!D77","v":"FE0"},null,null,null,null,null,{"$f":"Option_2D!J77","v":2026},{"$f":"Option_2D!K77","v":0.97963602817995732},{"$f":"Option_2D!L77","v":0.88015635603868503},{"$f":"Option_2D!M77","v":7.7964974866223452E-4},{"$f":"Option_2D!N77","v":7.7964974866223452E-4},{"$f":"Option_2D!O77","v":7.7964974866223452E-4},{"$f":"Option_2D!P77","v":7.7964974866223452E-4},{"$f":"Option_2D!Q77","v":7.7964974866223452E-4},{"$f":"Option_2D!R77","v":7.7964974866223452E-4}]
[null,null,null,{"$f":"Option_2D!D78","v":"NS0"},null,null,null,null,null,{"$f":"Option_2D!J78","v":2027},{"$f":"Option_2D!K78","v":0.52383144877313392},{"$f":"Option_2D!L78","v":0.44610201950440898},{"$f":"Option_2D!M78","v":0},{"$f":"Option_2D!N78","v":1.4866126155342958E-2},{"$f":"Option_2D!O78","v":1.4866126155342958E-2},{"$f":"Option_2D!P78","v":1.4866126155342958E-2},{"$f":"Option_2D!Q78","v":1.4866126155342958E-2},{"$f":"Option_2D!R78","v":1.4866126155342958E-2}]
[null,null,null,{"$f":"Option_2D!D79","v":"ST0"},null,null,null,null,null,{"$f":"Option_2D!J79","v":2027},{"$f":"Option_2D!K79","v":1.2164586447462222},{"$f":"Option_2D!L79","v":1.0359528037804173},{"$f":"Option_2D!M79","v":0},{"$f":"Option_2D!N79","v":1.1672125831036163E-3},{"$f":"Option_2D!O79","v":1.9921031295605644E-3},{"$f":"Option_2D!P79","v":3.1743959785957526E-3},{"$f":"Option_2D!Q79","v":4.9598994648937904E-3},{"$f":"Option_2D!R79","v":7.1284417058537393E-3}]
[null,null,null,{"$f":"Option_2D!D80","v":"SHM"},null,null,null,null,null,{"$f":"Option_2D!J80","v":2027},{"$f":"Option_2D!K80","v":0.98558291275519283},{"$f":"Option_2D!L80","v":0.83933587568841461},{"$f":"Option_2D!M80","v":0},{"$f":"Option_2D!N80","v":2.0871088049294636E-3},{"$f":"Option_2D!O80","v":3.3975839143830064E-3},{"$f":"Option_2D!P80","v":5.1031619912437166E-3},{"$f":"Option_2D!Q80","v":7.1435219717853101E-3},{"$f":"Option_2D!R80","v":9.6317658504945693E-3}]
[null,null,null,{"$f":"Option_2D!D81","v":"TT0"},null,null,null,null,null,{"$f":"Option_2D!J81","v":2028},{"$f":"Option_2D!K81","v":1.2537354450631661},{"$f":"Option_2D!L81","v":1.0120362429264254},{"$f":"Option_2D!M81","v":0},{"$f":"Option_2D!N81","v":0},{"$f":"Option_2D!O81","v":1.3240473487919574E-3},{"$f":"Option_2D!P81","v":1.3240473487919574E-3},{"$f":"Option_2D!Q81","v":1.3240473487919574E-3},{"$f":"Option_2D!R81","v":1.3240473487919574E-3}]
[null,null,null,{"$f":"Option_2D!D82","v":"BD0"},null,null,null,null,null,{"$f":"Option_2D!J82","v":2028},{"$f":"Option_2D!K82","v":0.54233044453207147},{"$f":"Option_2D!L82","v":0.43777821522881399},{"$f":"Option_2D!M82","v":0},{"$f":"Option_2D!N82","v":0},{"$f":"Option_2D!O82","v":1.1641965299173018E-3},{"$f":"Option_2D!P82","v":1.1641965299173018E-3},{"$f":"Option_2D!Q82","v":1.1641965299173018E-3},{"$f":"Option_2D!R82","v":1.1641965299173018E-3}]
[]
[]
[]
[]
[]
[]
[]
[]
[]
[]
[]
[]
[]
[]
[]
[]
[]
[]
[]
[null,null,null,{"$f":"Option_2D!D102","v":"Trial"},null,null,null,null,null,{"$f":"Option_2D!J102","v":2023},{"$f":"Option_2D!K102","v":2.2698113385496561},{"$f":"Option_2D!L102","v":2.2698113385496561}]
[null,null,null,{"$f":"Option_2D!D103","v":"Trial"},null,null,null,null,null,{"$f":"Option_2D!J103","v":2024},{"$f":"Option_2D!K103","v":1},{"$f":"Option_2D!L103","v":1}]
[]
[]
[]
[]
[]
[]
[]
[]
[]
[null,null,null,{"$f":"Option_2D!D113","v":"Traditional for worst served under-volt"},null,{"$f":"(1-COUNTIF($J$72:$J$101,\">0\")/COUNTIF(Option_2D!$J$72:$J$101,\">0\"))*10%","v":6.3333333333333339E-2}]
[null,null,null,{"$f":"Option_2D!D114","v":"Year 1"},null,null,null,null,null,{"$f":"Option_2D!J114","v":2027},{"$f":"Option_2D!K114*(1+$F$113)","v":1.6460399999999999},{"$f":"VLOOKUP($J114,General!$D$27:$E$46,2)*K114","v":1.4017901557931394}]
[null,null,null,{"$f":"Option_2D!D115","v":"Year 2"},null,null,null,null,null,{"$f":"Option_2D!J115","v":2028},{"$f":"Option_2D!K115*(1+$F$113)","v":1.6460399999999999},{"$f":"VLOOKUP($J115,General!$D$27:$E$46,2)*K115","v":1.3287110481451558}]
[null,null,null,{"$f":"Option_2D!D116","v":"Year 3"},null,null,null,null,null,{"$f":"Option_2D!J116","v":2029},{"$f":"Option_2D!K116*(1+$F$113)","v":1.6460399999999999},{"$f":"VLOOKUP($J116,General!$D$27:$E$46,2)*K116","v":1.2594417517963563}]
[null,null,null,{"$f":"Option_2D!D117","v":"Year 4"},null,null,null,null,null,{"$f":"Option_2D!J117","v":2030},{"$f":"Option_2D!K117*(1+$F$113)","v":1.6460399999999999},{"$f":"VLOOKUP($J117,General!$D$27:$E$46,2)*K117","v":1.1937836509918072}]
[null,null,null,{"$f":"Option_2D!D118","v":"Year 5"},null,null,null,null,null,{"$f":"Option_2D!J118","v":2031},{"$f":"Option_2D!K118*(1+$F$113)","v":1.6460399999999999},{"$f":"VLOOKUP($J118,General!$D$27:$E$46,2)*K118","v":1.1315484843524239}]
[null,null,null,{"$f":"Option_2D!D119","v":"Power quality reactive program for customer complaints"}]
[null,null,null,{"$f":"Option_2D!D120","v":"Year 1"},null,null,null,null,null,{"$f":"Option_2D!J120","v":2027},{"$f":"Option_2D!K120","v":0.12322},{"$f":"VLOOKUP($J120,General!$D$27:$E$46,2)*K120","v":0.10493583570073063}]
[null,null,null,{"$f":"Option_2D!D121","v":"Year 2"},null,null,null,null,null,{"$f":"Option_2D!J121","v":2028},{"$f":"Option_2D!K121","v":0.12322},{"$f":"VLOOKUP($J121,General!$D$27:$E$46,2)*K121","v":9.9465247109697286E-2}]
[null,null,null,{"$f":"Option_2D!D122","v":"Year 3"},null,null,null,null,null,{"$f":"Option_2D!J122","v":2029},{"$f":"Option_2D!K122","v":0.12322},{"$f":"VLOOKUP($J122,General!$D$27:$E$46,2)*K122","v":9.4279855080281777E-2}]
[null,null,null,{"$f":"Option_2D!D123","v":"Year 4"},null,null,null,null,null,{"$f":"Option_2D!J123","v":2030},{"$f":"Option_2D!K123","v":0.12322},{"$f":"VLOOKUP($J123,General!$D$27:$E$46,2)*K123","v":8.9364791545290798E-2}]
[null,null,null,{"$f":"Option_2D!D124","v":"Year 5"},null,null,null,null,null,{"$f":"Option_2D!J124","v":2031},{"$f":"Option_2D!K124","v":0.12322},{"$f":"VLOOKUP($J124,General!$D$27:$E$46,2)*K124","v":8.4705963550038677E-2}]
[]
[null,null,null,"End"]

{"sheet":"Option_2D","index":7,"n_rows":126,"n_cols":19,"rows_kept":126,"cut":false,"hidden":false,"merged":[]}
[null,null,null,"Voltage PQ Management Strategy",null,null,null,"Section Check:",{"$f":"IF(COUNTA($A$8:$A$127)=COUNTIF($A$8:$A$127,0),\"Ok\",\"Check\")","v":"Ok"},null,null,"Overall Check:","Ok",null,"Legend:","Input","Internal","Select","Calculation"]
[null,null,null,{"$f":"Summary!$K13&\" - \"&Summary!$D26","v":"Option 2 - DVM, VAr controllers and reactors - EDCOP 2% NON-COMPLIANCE (ON PAR WITH VIC DNSP PEERS)"}]
[]
[]
[]
[null,"Copyright Jemena Limited. All rights reserved. Jemena is not liable for any loss caused by reliance on this document."]
[]
[null,"General Assumptions"]
[]
[null,null,{"$f":"B8","v":"General Assumptions"}]
[]
[null,null,null,{"$f":"C10","v":"General Assumptions"},"Source","Unit","Basis"]
[null,null,null,null,null,null,null,null,null,"Start","End"]
[null,null,null,"Next Regulatory Period","AM","Year","n/a",null,null,{"$f":"General!J16","v":2027},{"$f":"J14+4","v":2031}]
[null,null,null,"This Regulatory Period","AM","Year","n/a",null,null,{"$f":"K15-4","v":2022},{"$f":"J14-1","v":2026}]
[]
[null,"Option"]
[]
[null,null,"Summary"]
[]
[null,null,null,{"$f":"C19&\" ($M)\"","v":"Summary ($M)"},"Period",null,null,null,null,"Total DVM Cost","Total Cost","PV Total Cost"]
[]
[null,null,null,{"$f":"D14","v":"Next Regulatory Period"},{"$f":"$J$14&\" - \"&$K$14","v":"2027 - 2031"},null,null,null,null,{"$f":"SUMIFS($K$72:$K$103,$J$72:$J$103,\">=\"&J14,$J$72:$J$103,\"<=\"&K14)","v":21.429600994781477},{"$f":"SUMIFS($K$37:$K$124,$J$37:$J$124,\">=\"&$J14,$J$37:$J$124,\"<=\"&$K14)","v":45.523030994781514},{"$f":"SUMIFS($L$37:$L$124,$J$37:$J$124,\">=\"&$J14,$J$37:$J$124,\"<=\"&$K14)","v":34.121712552821506}]
[null,null,null,{"$f":"D15","v":"This Regulatory Period"},{"$f":"$J$15&\" - \"&$K$15","v":"2022 - 2026"},null,null,null,null,{"$f":"SUMIFS($K$72:$K$103,$J$72:$J$103,\">=\"&J15,$J$72:$J$103,\"<=\"&K15)","v":7.5111570025283925},{"$f":"SUMIFS($K$37:$K$124,$J$37:$J$124,\">=\"&$J15,$J$37:$J$124,\"<=\"&$K15)","v":7.5111570025283925},{"$f":"SUMIFS($L$37:$L$124,$J$37:$J$124,\">=\"&$J15,$J$37:$J$124,\"<=\"&$K15)","v":7.2396339124170694}]
[]
[null,null,"Inputs"]
[]
[null,null,null,{"$f":"C26","v":"Inputs"},"Source","Unit"]
[null,null,null,null,null,null,null,null,"Year",2024,{"$f":"J29+1","v":2025},{"$f":"K29+1","v":2026},2027,2028,2029,2030,2031,2032]
[null,null,null,"VRR replacement per TX ($M)","AM","$M",null,null,"Unit Rate",0.20725539120310141,0.2183800259716934,0.23010178633502221,0.23087573199102945,0.23713500017703151,0.23700893852241472,0.23688294388253955,0.23675701622178077,0.23663115550453209]
[null,null,null,"DVM Integration per ZSS ($M)","AM","$M",null,null,"Unit Rate",0.45783893952207055,0.48766423344756749,0.5194324555099129,0.52383144877313392,0.54233044453207147,0.54153921789798876,0.54074914561471332,0.53996022599811866,0.5391724573665353]
[null,null,null,null,null,null,null,null,"Reconcile",{"$f":"SUMIF($J$72:$J$101,J$29,$K$72:$K$101)","v":1.330188661450344},{"$f":"SUMIF($J$72:$J$101,K$29,$K$72:$K$101)","v":1.4120885188385217},1.4990684836898702,2.7258730062745489,2.3383963341273089,3.8927407821020177,6.9317055476256417,5.5408853246519625,0]
[null,null,"Calculations"]
[null,null,null,null,null,null,null,null,null,null,null,null,"Forecast Compliance"]
[null,null,null,{"$f":"Summary!$G26&\" - \"&Summary!$D26","v":"Option 2 - EDCOP 2% NON-COMPLIANCE (ON PAR WITH VIC DNSP PEERS)"},null,null,null,null,null,"Indicative Year","Cost ($M)","PV Cost ($M)",{"$f":"M71","v":2027},2028,2029,2030,2031,2032]
[null,null,null,"PROJECT & LOCATION",null,null,null,null,"TOTAL",{"$f":"J14&\" - \"&J14+General!J15-1","v":"2027 - 2031"},{"$f":"SUMIFS(K$37:K$124,$J$37:$J$124,\">=\"&$J$14,$J$37:$J$124,\"<=\"&J14+General!J15-1)","v":45.523030994781514},{"$f":"SUMIFS(L$37:L$124,$J$37:$J$124,\">=\"&$J$14,$J$37:$J$124,\"<=\"&J14+General!J15-1)","v":34.121712552821506},{"$f":"Compliance!M43-SUM(M72:M101)","v":3.9913750608075248E-2},{"$f":"Compliance!N43-SUM(N72:N101)","v":1.9246332630668623E-2},{"$f":"Compliance!O43-SUM(O72:O101)","v":1.7093238203340362E-2},{"$f":"Compliance!P43-SUM(P72:P101)","v":1.6165812658775196E-2},{"$f":"Compliance!Q43-SUM(Q72:Q101)","v":1.6778817361223719E-2},{"$f":"Compliance!R43-SUM(R72:R101)","v":1.9717755796983961E-2}]
[null,null,null,"Reactors"]
[null,null,null,{"$f":"INDEX(OLTC_Taps!$D$147:$D$173,MATCH(ROW()-ROW($D$37),OLTC_Taps!$L$147:$L$173,FALSE))","v":"SBY"},null,{"$f":"IF(LEN($D38)=2,$D38&\"0\",$D38)","v":"SBY"},null,null,null,{"$f":"J14+1","v":2028},2.3165800000000001,{"$f":"VLOOKUP($J38,General!$D$27:$E$46,2)*K38","v":1.8699821631990143}]
[null,null,null,{"$f":"INDEX(OLTC_Taps!$D$147:$D$173,MATCH(ROW()-ROW($D$37),OLTC_Taps!$L$147:$L$173,FALSE))","v":"SHM"},null,{"$f":"IF(LEN($D39)=2,$D39&\"0\",$D39)","v":"SHM"},null,null,null,{"$f":"J38+1","v":2029},2.59457,{"$f":"VLOOKUP($J39,General!$D$27:$E$46,2)*K39","v":1.9851946404451122}]
[null,null,null,{"$f":"INDEX(OLTC_Taps!$D$147:$D$173,MATCH(ROW()-ROW($D$37),OLTC_Taps!$L$147:$L$173,FALSE))","v":"COO"},null,{"$f":"IF(LEN($D40)=2,$D40&\"0\",$D40)","v":"COO"},null,null,null,{"$f":"J39+1","v":2030},2.6623600000000001,{"$f":"VLOOKUP($J40,General!$D$27:$E$46,2)*K40","v":1.9308654960113651}]
[null,null,null,{"$f":"INDEX(OLTC_Taps!$D$147:$D$173,MATCH(ROW()-ROW($D$37),OLTC_Taps!$L$147:$L$173,FALSE))","v":"ST"},null,{"$f":"IF(LEN($D41)=2,$D41&\"0\",$D41)","v":"ST0"},null,null,null,{"$f":"J40+1","v":2031},2.1589499999999999,{"$f":"VLOOKUP($J41,General!$D$27:$E$46,2)*K41","v":1.4841416978279176}]
[null,null,null,{"$f":"INDEX(OLTC_Taps!$D$147:$D$173,MATCH(ROW()-ROW($D$37),OLTC_Taps!$L$147:$L$173,FALSE))","v":"BD"},null,{"$f":"IF(LEN($D42)=2,$D42&\"0\",$D42)","v":"BD0"},null,null,null,{"$f":"J41","v":2031},2.4241000000000001,{"$f":"VLOOKUP($J42,General!$D$27:$E$46,2)*K42","v":1.6664155676160428}]
[null,null,null,"VAr controllers"]
[null,null,null,"CN No.1",null,"CN0",null,null,null,{"$f":"J14","v":2027},0.26951999999999998,{"$f":"VLOOKUP($J44,General!$D$27:$E$46,2)*K44","v":0.22952691477082388}]
[null,null,null,"CN No.2",null,"CN0",null,null,null,{"$f":"J44","v":2027},0.26951999999999998,{"$f":"VLOOKUP($J45,General!$D$27:$E$46,2)*K45","v":0.22952691477082388}]
[null,null,null,"CN No.3A & 3B",null,"CN0",null,null,null,{"$f":"J44+1","v":2028},0.26951999999999998,{"$f":"VLOOKUP($J46,General!$D$27:$E$46,2)*K46","v":0.21756105665480938}]
[null,null,null,"CS No.2",null,"CS0",null,null,null,{"$f":"J46","v":2028},0.26951999999999998,{"$f":"VLOOKUP($J47,General!$D$27:$E$46,2)*K47","v":0.21756105665480938}]
[null,null,null,"ES No.1",null,"ES0",null,null,null,{"$f":"J47","v":2028},0.26951999999999998,{"$f":"VLOOKUP($J48,General!$D$27:$E$46,2)*K48","v":0.21756105665480938}]
[null,null,null,"FF No.1",null,"FF0",null,null,null,{"$f":"J44+2","v":2029},0.26951999999999998,{"$f":"VLOOKUP($J49,General!$D$27:$E$46,2)*K49","v":0.20621901104721266}]
[null,null,null,"NH No.1",null,"NH0",null,null,null,{"$f":"J49","v":2029},0.26951999999999998,{"$f":"VLOOKUP($J50,General!$D$27:$E$46,2)*K50","v":0.20621901104721266}]
[null,null,null,"ST No.1",null,"ST0",null,null,null,{"$f":"J44+3","v":2030},0.26951999999999998,{"$f":"VLOOKUP($J51,General!$D$27:$E$46,2)*K51","v":0.19546825691678929}]
[null,null,null,"ST No.2",null,"ST0",null,null,null,{"$f":"J51","v":2030},0.26951999999999998,{"$f":"VLOOKUP($J52,General!$D$27:$E$46,2)*K52","v":0.19546825691678929}]
[null,null,null,"TH No.1",null,"TH0",null,null,null,{"$f":"J52","v":2030},0.26951999999999998,{"$f":"VLOOKUP($J53,General!$D$27:$E$46,2)*K53","v":0.19546825691678929}]
[null,null,null,"TH No.2",null,"TH0",null,null,null,{"$f":"J44+4","v":2031},0.26951999999999998,{"$f":"VLOOKUP($J54,General!$D$27:$E$46,2)*K54","v":0.18527796864150645}]
[null,null,null,"Traditional for voltage spread to support DVM"]
[null,null,null,{"$f":"INDEX(Table!$A$4:$A$33,MATCH(ROW()-ROW($D$55),Table!$W$4:$W$33,FALSE))","v":"EPN"},null,null,null,null,null,{"$f":"MAX($J$14,37+$J$14-INT(INDEX(Table!$E$4:$E$33,MATCH(ROW()-ROW($J$55),Table!$W$4:$W$33,FALSE))))","v":2027},4.1070000000000002E-2,{"$f":"VLOOKUP($J56,General!$D$27:$E$46,2)*K56","v":3.4975773188029601E-2}]
[null,null,null,{"$f":"INDEX(Table!$A$4:$A$33,MATCH(ROW()-ROW($D$55),Table!$W$4:$W$33,FALSE))","v":"EP0"},null,null,null,null,null,{"$f":"MAX($J$14,37+$J$14-INT(INDEX(Table!$E$4:$E$33,MATCH(ROW()-ROW($J$55),Table!$W$4:$W$33,FALSE))))","v":2027},4.1070000000000002E-2,{"$f":"VLOOKUP($J57,General!$D$27:$E$46,2)*K57","v":3.4975773188029601E-2}]
[null,null,null,{"$f":"INDEX(Table!$A$4:$A$33,MATCH(ROW()-ROW($D$55),Table!$W$4:$W$33,FALSE))","v":"AW0"},null,null,null,null,null,{"$f":"MAX($J$14,37+$J$14-INT(INDEX(Table!$E$4:$E$33,MATCH(ROW()-ROW($J$55),Table!$W$4:$W$33,FALSE))))","v":2028},4.1070000000000002E-2,{"$f":"VLOOKUP($J58,General!$D$27:$E$46,2)*K58","v":3.3152391647421425E-2}]
[null,null,null,{"$f":"INDEX(Table!$A$4:$A$33,MATCH(ROW()-ROW($D$55),Table!$W$4:$W$33,FALSE))","v":"NS0"},null,null,null,null,null,{"$f":"MAX($J$14,37+$J$14-INT(INDEX(Table!$E$4:$E$33,MATCH(ROW()-ROW($J$55),Table!$W$4:$W$33,FALSE))))","v":2028},4.1070000000000002E-2,{"$f":"VLOOKUP($J59,General!$D$27:$E$46,2)*K59","v":3.3152391647421425E-2}]
[null,null,null,{"$f":"INDEX(Table!$A$4:$A$33,MATCH(ROW()-ROW($D$55),Table!$W$4:$W$33,FALSE))","v":"FT0"},null,null,null,null,null,{"$f":"MAX($J$14,37+$J$14-INT(INDEX(Table!$E$4:$E$33,MATCH(ROW()-ROW($J$55),Table!$W$4:$W$33,FALSE))))","v":2028},4.1070000000000002E-2,{"$f":"VLOOKUP($J60,General!$D$27:$E$46,2)*K60","v":3.3152391647421425E-2}]
[null,null,null,{"$f":"INDEX(Table!$A$4:$A$33,MATCH(ROW()-ROW($D$55),Table!$W$4:$W$33,FALSE))","v":"TMA"},null,null,null,null,null,{"$f":"MAX($J$14,37+$J$14-INT(INDEX(Table!$E$4:$E$33,MATCH(ROW()-ROW($J$55),Table!$W$4:$W$33,FALSE))))","v":2028},4.1070000000000002E-2,{"$f":"VLOOKUP($J61,General!$D$27:$E$46,2)*K61","v":3.3152391647421425E-2}]
[null,null,null,{"$f":"INDEX(Table!$A$4:$A$33,MATCH(ROW()-ROW($D$55),Table!$W$4:$W$33,FALSE))","v":"TH0"},null,null,null,null,null,{"$f":"MAX($J$14,37+$J$14-INT(INDEX(Table!$E$4:$E$33,MATCH(ROW()-ROW($J$55),Table!$W$4:$W$33,FALSE))))","v":2029},4.1070000000000002E-2,{"$f":"VLOOKUP($J62,General!$D$27:$E$46,2)*K62","v":3.1424067912247791E-2}]
[null,null,null,{"$f":"INDEX(Table!$A$4:$A$33,MATCH(ROW()-ROW($D$55),Table!$W$4:$W$33,FALSE))","v":"PTN"},null,null,null,null,null,{"$f":"MAX($J$14,37+$J$14-INT(INDEX(Table!$E$4:$E$33,MATCH(ROW()-ROW($J$55),Table!$W$4:$W$33,FALSE))))","v":2029},4.1070000000000002E-2,{"$f":"VLOOKUP($J63,General!$D$27:$E$46,2)*K63","v":3.1424067912247791E-2}]
[null,null,null,{"$f":"INDEX(Table!$A$4:$A$33,MATCH(ROW()-ROW($D$55),Table!$W$4:$W$33,FALSE))","v":"YVE"},null,null,null,null,null,{"$f":"MAX($J$14,37+$J$14-INT(INDEX(Table!$E$4:$E$33,MATCH(ROW()-ROW($J$55),Table!$W$4:$W$33,FALSE))))","v":2029},4.1070000000000002E-2,{"$f":"VLOOKUP($J64,General!$D$27:$E$46,2)*K64","v":3.1424067912247791E-2}]
[null,null,null,{"$f":"INDEX(Table!$A$4:$A$33,MATCH(ROW()-ROW($D$55),Table!$W$4:$W$33,FALSE))","v":"FF0"},null,null,null,null,null,{"$f":"MAX($J$14,37+$J$14-INT(INDEX(Table!$E$4:$E$33,MATCH(ROW()-ROW($J$55),Table!$W$4:$W$33,FALSE))))","v":2029},4.1070000000000002E-2,{"$f":"VLOOKUP($J65,General!$D$27:$E$46,2)*K65","v":3.1424067912247791E-2}]
[null,null,null,{"$f":"INDEX(Table!$A$4:$A$33,MATCH(ROW()-ROW($D$55),Table!$W$4:$W$33,FALSE))","v":"BY0"},null,null,null,null,null,{"$f":"MAX($J$14,37+$J$14-INT(INDEX(Table!$E$4:$E$33,MATCH(ROW()-ROW($J$55),Table!$W$4:$W$33,FALSE))))","v":2029},4.1070000000000002E-2,{"$f":"VLOOKUP($J66,General!$D$27:$E$46,2)*K66","v":3.1424067912247791E-2}]
[null,null,null,{"$f":"INDEX(Table!$A$4:$A$33,MATCH(ROW()-ROW($D$55),Table!$W$4:$W$33,FALSE))","v":"ES0"},null,null,null,null,null,{"$f":"MAX($J$14,37+$J$14-INT(INDEX(Table!$E$4:$E$33,MATCH(ROW()-ROW($J$55),Table!$W$4:$W$33,FALSE))))","v":2030},4.1070000000000002E-2,{"$f":"VLOOKUP($J67,General!$D$27:$E$46,2)*K67","v":2.9785846362320186E-2}]
[null,null,null,{"$f":"INDEX(Table!$A$4:$A$33,MATCH(ROW()-ROW($D$55),Table!$W$4:$W$33,FALSE))","v":"HB0"},null,null,null,null,null,{"$f":"MAX($J$14,37+$J$14-INT(INDEX(Table!$E$4:$E$33,MATCH(ROW()-ROW($J$55),Table!$W$4:$W$33,FALSE))))","v":2031},4.1070000000000002E-2,{"$f":"VLOOKUP($J68,General!$D$27:$E$46,2)*K68","v":2.8233029727317716E-2}]
[null,null,null,{"$f":"INDEX(Table!$A$4:$A$33,MATCH(ROW()-ROW($D$55),Table!$W$4:$W$33,FALSE))","v":"PV0"},null,null,null,null,null,{"$f":"MAX($J$14,37+$J$14-INT(INDEX(Table!$E$4:$E$33,MATCH(ROW()-ROW($J$55),Table!$W$4:$W$33,FALSE))))","v":2031},4.1070000000000002E-2,{"$f":"VLOOKUP($J69,General!$D$27:$E$46,2)*K69","v":2.8233029727317716E-2}]
[null,null,null,{"$f":"INDEX(Table!$A$4:$A$33,MATCH(ROW()-ROW($D$55),Table!$W$4:$W$33,FALSE))","v":"BMS"},null,null,null,null,null,{"$f":"MAX($J$14,37+$J$14-INT(INDEX(Table!$E$4:$E$33,MATCH(ROW()-ROW($J$55),Table!$W$4:$W$33,FALSE))))","v":2031},4.1070000000000002E-2,{"$f":"VLOOKUP($J70,General!$D$27:$E$46,2)*K70","v":2.8233029727317716E-2}]
[null,null,null,"DVM Rollout",null,null,null,null,null,null,null,null,{"$f":"J14","v":2027},{"$f":"M71+1","v":2028},{"$f":"N71+1","v":2029},{"$f":"O71+1","v":2030},{"$f":"P71+1","v":2031},{"$f":"Q71+1","v":2032}]
[null,null,null,{"$f":"INDEX(Compliance!$D$11:$D$41,MATCH(ROW()-ROW($D$71),Compliance!$H$11:$H$41,0))","v":"AW0"},null,null,null,null,null,{"$f":"VLOOKUP($D72,Compliance!$D$11:$G$41,4,FALSE)","v":2024},{"$f":"VLOOKUP($D72,Table!$A$4:$AA$33,COLUMN(Table!$AA:$AA),FALSE)*HLOOKUP($J72,$J$29:$R$31,2,FALSE)+HLOOKUP($J72,$J$29:$R$31,3,FALSE)","v":0.45783893952207055},{"$f":"VLOOKUP($J72,General!$D$27:$E$46,2)*K72","v":0.45783893952207055},{"$f":"IF(M$71>$J72,HLOOKUP(M$71,Compliance!$I$10:$S$43,MATCH($D72,Compliance!$D$11:$D$41,0)+1,FALSE),0)*General!$J$13","v":1.5246148856818556E-3},{"$f":"IF(N$71>$J72,HLOOKUP(N$71,Compliance!$I$10:$S$43,MATCH($D72,Compliance!$D$11:$D$41,0)+1,FALSE),0)*General!$J$13","v":1.5246148856818556E-3},{"$f":"IF(O$71>$J72,HLOOKUP(O$71,Compliance!$I$10:$S$43,MATCH($D72,Compliance!$D$11:$D$41,0)+1,FALSE),0)*General!$J$13","v":1.5246148856818556E-3},{"$f":"IF(P$71>$J72,HLOOKUP(P$71,Compliance!$I$10:$S$43,MATCH($D72,Compliance!$D$11:$D$41,0)+1,FALSE),0)*General!$J$13","v":1.5246148856818556E-3},{"$f":"IF(Q$71>$J72,HLOOKUP(Q$71,Compliance!$I$10:$S$43,MATCH($D72,Compliance!$D$11:$D$41,0)+1,FALSE),0)*General!$J$13","v":1.5246148856818556E-3},{"$f":"IF(R$71>$J72,HLOOKUP(R$71,Compliance!$I$10:$S$43,MATCH($D72,Compliance!$D$11:$D$41,0)+1,FALSE),0)*General!$J$13","v":1.5246148856818556E-3}]
[null,null,null,{"$f":"INDEX(Compliance!$D$11:$D$41,MATCH(ROW()-ROW($D$71),Compliance!$H$11:$H$41,0))","v":"CS0"},null,null,null,null,null,{"$f":"VLOOKUP($D73,Compliance!$D$11:$G$41,4,FALSE)","v":2024},{"$f":"VLOOKUP($D73,Table!$A$4:$AA$33,COLUMN(Table!$AA:$AA),FALSE)*HLOOKUP($J73,$J$29:$R$31,2,FALSE)+HLOOKUP($J73,$J$29:$R$31,3,FALSE)","v":0.87234972192827342},{"$f":"VLOOKUP($J73,General!$D$27:$E$46,2)*K73","v":0.87234972192827342},{"$f":"IF(M$71>$J73,HLOOKUP(M$71,Compliance!$I$10:$S$43,MATCH($D73,Compliance!$D$11:$D$41,0)+1,FALSE),0)*General!$J$13","v":3.2874979730825363E-4},{"$f":"IF(N$71>$J73,HLOOKUP(N$71,Compliance!$I$10:$S$43,MATCH($D73,Compliance!$D$11:$D$41,0)+1,FALSE),0)*General!$J$13","v":3.2874979730825363E-4},{"$f":"IF(O$71>$J73,HLOOKUP(O$71,Compliance!$I$10:$S$43,MATCH($D73,Compliance!$D$11:$D$41,0)+1,FALSE),0)*General!$J$13","v":3.2874979730825363E-4},{"$f":"IF(P$71>$J73,HLOOKUP(P$71,Compliance!$I$10:$S$43,MATCH($D73,Compliance!$D$11:$D$41,0)+1,FALSE),0)*General!$J$13","v":3.2874979730825363E-4},{"$f":"IF(Q$71>$J73,HLOOKUP(Q$71,Compliance!$I$10:$S$43,MATCH($D73,Compliance!$D$11:$D$41,0)+1,FALSE),0)*General!$J$13","v":3.2874979730825363E-4},{"$f":"IF(R$71>$J73,HLOOKUP(R$71,Compliance!$I$10:$S$43,MATCH($D73,Compliance!$D$11:$D$41,0)+1,FALSE),0)*General!$J$13","v":3.2874979730825363E-4}]
[null,null,null,{"$f":"INDEX(Compliance!$D$11:$D$41,MATCH(ROW()-ROW($D$71),Compliance!$H$11:$H$41,0))","v":"PTN"},null,null,null,null,null,{"$f":"VLOOKUP($D74,Compliance!$D$11:$G$41,4,FALSE)","v":2025},{"$f":"VLOOKUP($D74,Table!$A$4:$AA$33,COLUMN(Table!$AA:$AA),FALSE)*HLOOKUP($J74,$J$29:$R$31,2,FALSE)+HLOOKUP($J74,$J$29:$R$31,3,FALSE)","v":0.48766423344756749},{"$f":"VLOOKUP($J74,General!$D$27:$E$46,2)*K74","v":0.46224097957115401},{"$f":"IF(M$71>$J74,HLOOKUP(M$71,Compliance!$I$10:$S$43,MATCH($D74,Compliance!$D$11:$D$41,0)+1,FALSE),0)*General!$J$13","v":9.3196043457110459E-4},{"$f":"IF(N$71>$J74,HLOOKUP(N$71,Compliance!$I$10:$S$43,MATCH($D74,Compliance!$D$11:$D$41,0)+1,FALSE),0)*General!$J$13","v":9.3196043457110459E-4},{"$f":"IF(O$71>$J74,HLOOKUP(O$71,Compliance!$I$10:$S$43,MATCH($D74,Compliance!$D$11:$D$41,0)+1,FALSE),0)*General!$J$13","v":9.3196043457110459E-4},{"$f":"IF(P$71>$J74,HLOOKUP(P$71,Compliance!$I$10:$S$43,MATCH($D74,Compliance!$D$11:$D$41,0)+1,FALSE),0)*General!$J$13","v":9.3196043457110459E-4},{"$f":"IF(Q$71>$J74,HLOOKUP(Q$71,Compliance!$I$10:$S$43,MATCH($D74,Compliance!$D$11:$D$41,0)+1,FALSE),0)*General!$J$13","v":9.3196043457110459E-4},{"$f":"IF(R$71>$J74,HLOOKUP(R$71,Compliance!$I$10:$S$43,MATCH($D74,Compliance!$D$11:$D$41,0)+1,FALSE),0)*General!$J$13","v":9.3196043457110459E-4}]
[null,null,null,{"$f":"INDEX(Compliance!$D$11:$D$41,MATCH(ROW()-ROW($D$71),Compliance!$H$11:$H$41,0))","v":"HB0"},null,null,null,null,null,{"$f":"VLOOKUP($D75,Compliance!$D$11:$G$41,4,FALSE)","v":2025},{"$f":"VLOOKUP($D75,Table!$A$4:$AA$33,COLUMN(Table!$AA:$AA),FALSE)*HLOOKUP($J75,$J$29:$R$31,2,FALSE)+HLOOKUP($J75,$J$29:$R$31,3,FALSE)","v":0.92442428539095434},{"$f":"VLOOKUP($J75+1,General!$D$27:$E$46,2)*K75","v":0.83055123235412898},{"$f":"IF(M$71>$J75,HLOOKUP(M$71,Compliance!$I$10:$S$43,MATCH($D75,Compliance!$D$11:$D$41,0)+1,FALSE),0)*General!$J$13","v":1.9905951029674076E-4},{"$f":"IF(N$71>$J75,HLOOKUP(N$71,Compliance!$I$10:$S$43,MATCH($D75,Compliance!$D$11:$D$41,0)+1,FALSE),0)*General!$J$13","v":1.9905951029674076E-4},{"$f":"IF(O$71>$J75,HLOOKUP(O$71,Compliance!$I$10:$S$43,MATCH($D75,Compliance!$D$11:$D$41,0)+1,FALSE),0)*General!$J$13","v":1.9905951029674076E-4},{"$f":"IF(P$71>$J75,HLOOKUP(P$71,Compliance!$I$10:$S$43,MATCH($D75,Compliance!$D$11:$D$41,0)+1,FALSE),0)*General!$J$13","v":1.9905951029674076E-4},{"$f":"IF(Q$71>$J75,HLOOKUP(Q$71,Compliance!$I$10:$S$43,MATCH($D75,Compliance!$D$11:$D$41,0)+1,FALSE),0)*General!$J$13","v":1.9905951029674076E-4},{"$f":"IF(R$71>$J75,HLOOKUP(R$71,Compliance!$I$10:$S$43,MATCH($D75,Compliance!$D$11:$D$41,0)+1,FALSE),0)*General!$J$13","v":1.9905951029674076E-4}]
[null,null,null,{"$f":"INDEX(Compliance!$D$11:$D$41,MATCH(ROW()-ROW($D$71),Compliance!$H$11:$H$41,0))","v":"SBY"},null,null,null,null,null,{"$f":"VLOOKUP($D76,Compliance!$D$11:$G$41,4,FALSE)","v":2026},{"$f":"VLOOKUP($D76,Table!$A$4:$AA$33,COLUMN(Table!$AA:$AA),FALSE)*HLOOKUP($J76,$J$29:$R$31,2,FALSE)+HLOOKUP($J76,$J$29:$R$31,3,FALSE)","v":0.5194324555099129},{"$f":"VLOOKUP($J76,General!$D$27:$E$46,2)*K76","v":0.46668534445310123},{"$f":"IF(M$71>$J76,HLOOKUP(M$71,Compliance!$I$10:$S$43,MATCH($D76,Compliance!$D$11:$D$41,0)+1,FALSE),0)*General!$J$13","v":2.9059672450137838E-3},{"$f":"IF(N$71>$J76,HLOOKUP(N$71,Compliance!$I$10:$S$43,MATCH($D76,Compliance!$D$11:$D$41,0)+1,FALSE),0)*General!$J$13","v":3.1442354467326092E-3},{"$f":"IF(O$71>$J76,HLOOKUP(O$71,Compliance!$I$10:$S$43,MATCH($D76,Compliance!$D$11:$D$41,0)+1,FALSE),0)*General!$J$13","v":4.4094697583914383E-3},{"$f":"IF(P$71>$J76,HLOOKUP(P$71,Compliance!$I$10:$S$43,MATCH($D76,Compliance!$D$11:$D$41,0)+1,FALSE),0)*General!$J$13","v":6.8313604670017843E-3},{"$f":"IF(Q$71>$J76,HLOOKUP(Q$71,Compliance!$I$10:$S$43,MATCH($D76,Compliance!$D$11:$D$41,0)+1,FALSE),0)*General!$J$13","v":1.0488324955407817E-2},{"$f":"IF(R$71>$J76,HLOOKUP(R$71,Compliance!$I$10:$S$43,MATCH($D76,Compliance!$D$11:$D$41,0)+1,FALSE),0)*General!$J$13","v":1.4759056267228799E-2}]
[null,null,null,{"$f":"INDEX(Compliance!$D$11:$D$41,MATCH(ROW()-ROW($D$71),Compliance!$H$11:$H$41,0))","v":"FE0"},null,null,null,null,null,{"$f":"VLOOKUP($D77,Compliance!$D$11:$G$41,4,FALSE)","v":2026},{"$f":"VLOOKUP($D77,Table!$A$4:$AA$33,COLUMN(Table!$AA:$AA),FALSE)*HLOOKUP($J77,$J$29:$R$31,2,FALSE)+HLOOKUP($J77,$J$29:$R$31,3,FALSE)","v":0.97963602817995732},{"$f":"VLOOKUP($J77,General!$D$27:$E$46,2)*K77","v":0.88015635603868503},{"$f":"IF(M$71>$J77,HLOOKUP(M$71,Compliance!$I$10:$S$43,MATCH($D77,Compliance!$D$11:$D$41,0)+1,FALSE),0)*General!$J$13","v":7.7964974866223452E-4},{"$f":"IF(N$71>$J77,HLOOKUP(N$71,Compliance!$I$10:$S$43,MATCH($D77,Compliance!$D$11:$D$41,0)+1,FALSE),0)*General!$J$13","v":7.7964974866223452E-4},{"$f":"IF(O$71>$J77,HLOOKUP(O$71,Compliance!$I$10:$S$43,MATCH($D77,Compliance!$D$11:$D$41,0)+1,FALSE),0)*General!$J$13","v":7.7964974866223452E-4},{"$f":"IF(P$71>$J77,HLOOKUP(P$71,Compliance!$I$10:$S$43,MATCH($D77,Compliance!$D$11:$D$41,0)+1,FALSE),0)*General!$J$13","v":7.7964974866223452E-4},{"$f":"IF(Q$71>$J77,HLOOKUP(Q$71,Compliance!$I$10:$S$43,MATCH($D77,Compliance!$D$11:$D$41,0)+1,FALSE),0)*General!$J$13","v":7.7964974866223452E-4},{"$f":"IF(R$71>$J77,HLOOKUP(R$71,Compliance!$I$10:$S$43,MATCH($D77,Compliance!$D$11:$D$41,0)+1,FALSE),0)*General!$J$13","v":7.7964974866223452E-4}]
[null,null,null,{"$f":"INDEX(Compliance!$D$11:$D$41,MATCH(ROW()-ROW($D$71),Compliance!$H$11:$H$41,0))","v":"NS0"},null,null,null,null,null,{"$f":"VLOOKUP($D78,Compliance!$D$11:$G$41,4,FALSE)","v":2027},{"$f":"VLOOKUP($D78,Table!$A$4:$AA$33,COLUMN(Table!$AA:$AA),FALSE)*HLOOKUP($J78,$J$29:$R$31,2,FALSE)+HLOOKUP($J78,$J$29:$R$31,3,FALSE)","v":0.52383144877313392},{"$f":"VLOOKUP($J78,General!$D$27:$E$46,2)*K78","v":0.44610201950440898},{"$f":"IF(M$71>$J78,HLOOKUP(M$71,Compliance!$I$10:$S$43,MATCH($D78,Compliance!$D$11:$D$41,0)+1,FALSE),0)*General!$J$13","v":0},{"$f":"IF(N$71>$J78,HLOOKUP(N$71,Compliance!$I$10:$S$43,MATCH($D78,Compliance!$D$11:$D$41,0)+1,FALSE),0)*General!$J$13","v":1.4866126155342958E-2},{"$f":"IF(O$71>$J78,HLOOKUP(O$71,Compliance!$I$10:$S$43,MATCH($D78,Compliance!$D$11:$D$41,0)+1,FALSE),0)*General!$J$13","v":1.4866126155342958E-2},{"$f":"IF(P$71>$J78,HLOOKUP(P$71,Compliance!$I$10:$S$43,MATCH($D78,Compliance!$D$11:$D$41,0)+1,FALSE),0)*General!$J$13","v":1.4866126155342958E-2},{"$f":"IF(Q$71>$J78,HLOOKUP(Q$71,Compliance!$I$10:$S$43,MATCH($D78,Compliance!$D$11:$D$41,0)+1,FALSE),0)*General!$J$13","v":1.4866126155342958E-2},{"$f":"IF(R$71>$J78,HLOOKUP(R$71,Compliance!$I$10:$S$43,MATCH($D78,Compliance!$D$11:$D$41,0)+1,FALSE),0)*General!$J$13","v":1.4866126155342958E-2}]
[null,null,null,{"$f":"INDEX(Compliance!$D$11:$D$41,MATCH(ROW()-ROW($D$71),Compliance!$H$11:$H$41,0))","v":"ST0"},null,null,null,null,null,{"$f":"VLOOKUP($D79,Compliance!$D$11:$G$41,4,FALSE)","v":2027},{"$f":"VLOOKUP($D79,Table!$A$4:$AA$33,COLUMN(Table!$AA:$AA),FALSE)*HLOOKUP($J79,$J$29:$R$31,2,FALSE)+HLOOKUP($J79,$J$29:$R$31,3,FALSE)","v":1.2164586447462222},{"$f":"VLOOKUP($J79,General!$D$27:$E$46,2)*K79","v":1.0359528037804173},{"$f":"IF(M$71>$J79,HLOOKUP(M$71,Compliance!$I$10:$S$43,MATCH($D79,Compliance!$D$11:$D$41,0)+1,FALSE),0)*General!$J$13","v":0},{"$f":"IF(N$71>$J79,HLOOKUP(N$71,Compliance!$I$10:$S$43,MATCH($D79,Compliance!$D$11:$D$41,0)+1,FALSE),0)*General!$J$13","v":1.1672125831036163E-3},{"$f":"IF(O$71>$J79,HLOOKUP(O$71,Compliance!$I$10:$S$43,MATCH($D79,Compliance!$D$11:$D$41,0)+1,FALSE),0)*General!$J$13","v":1.9921031295605644E-3},{"$f":"IF(P$71>$J79,HLOOKUP(P$71,Compliance!$I$10:$S$43,MATCH($D79,Compliance!$D$11:$D$41,0)+1,FALSE),0)*General!$J$13","v":3.1743959785957526E-3},{"$f":"IF(Q$71>$J79,HLOOKUP(Q$71,Compliance!$I$10:$S$43,MATCH($D79,Compliance!$D$11:$D$41,0)+1,FALSE),0)*General!$J$13","v":4.9598994648937904E-3},{"$f":"IF(R$71>$J79,HLOOKUP(R$71,Compliance!$I$10:$S$43,MATCH($D79,Compliance!$D$11:$D$41,0)+1,FALSE),0)*General!$J$13","v":7.1284417058537393E-3}]
[null,null,null,{"$f":"INDEX(Compliance!$D$11:$D$41,MATCH(ROW()-ROW($D$71),Compliance!$H$11:$H$41,0))","v":"SHM"},null,null,null,null,null,{"$f":"VLOOKUP($D80,Compliance!$D$11:$G$41,4,FALSE)","v":2027},{"$f":"VLOOKUP($D80,Table!$A$4:$AA$33,COLUMN(Table!$AA:$AA),FALSE)*HLOOKUP($J80,$J$29:$R$31,2,FALSE)+HLOOKUP($J80,$J$29:$R$31,3,FALSE)","v":0.98558291275519283},{"$f":"VLOOKUP($J80,General!$D$27:$E$46,2)*K80","v":0.83933587568841461},{"$f":"IF(M$71>$J80,HLOOKUP(M$71,Compliance!$I$10:$S$43,MATCH($D80,Compliance!$D$11:$D$41,0)+1,FALSE),0)*General!$J$13","v":0},{"$f":"IF(N$71>$J80,HLOOKUP(N$71,Compliance!$I$10:$S$43,MATCH($D80,Compliance!$D$11:$D$41,0)+1,FALSE),0)*General!$J$13","v":2.0871088049294636E-3},{"$f":"IF(O$71>$J80,HLOOKUP(O$71,Compliance!$I$10:$S$43,MATCH($D80,Compliance!$D$11:$D$41,0)+1,FALSE),0)*General!$J$13","v":3.3975839143830064E-3},{"$f":"IF(P$71>$J80,HLOOKUP(P$71,Compliance!$I$10:$S$43,MATCH($D80,Compliance!$D$11:$D$41,0)+1,FALSE),0)*General!$J$13","v":5.1031619912437166E-3},{"$f":"IF(Q$71>$J80,HLOOKUP(Q$71,Compliance!$I$10:$S$43,MATCH($D80,Compliance!$D$11:$D$41,0)+1,FALSE),0)*General!$J$13","v":7.1435219717853101E-3},{"$f":"IF(R$71>$J80,HLOOKUP(R$71,Compliance!$I$10:$S$43,MATCH($D80,Compliance!$D$11:$D$41,0)+1,FALSE),0)*General!$J$13","v":9.6317658504945693E-3}]
[null,null,null,{"$f":"INDEX(Compliance!$D$11:$D$41,MATCH(ROW()-ROW($D$71),Compliance!$H$11:$H$41,0))","v":"TT0"},null,null,null,null,null,{"$f":"VLOOKUP($D81,Compliance!$D$11:$G$41,4,FALSE)","v":2028},{"$f":"VLOOKUP($D81,Table!$A$4:$AA$33,COLUMN(Table!$AA:$AA),FALSE)*HLOOKUP($J81,$J$29:$R$31,2,FALSE)+HLOOKUP($J81,$J$29:$R$31,3,FALSE)","v":1.2537354450631661},{"$f":"VLOOKUP($J81,General!$D$27:$E$46,2)*K81","v":1.0120362429264254},{"$f":"IF(M$71>$J81,HLOOKUP(M$71,Compliance!$I$10:$S$43,MATCH($D81,Compliance!$D$11:$D$41,0)+1,FALSE),0)*General!$J$13","v":0},{"$f":"IF(N$71>$J81,HLOOKUP(N$71,Compliance!$I$10:$S$43,MATCH($D81,Compliance!$D$11:$D$41,0)+1,FALSE),0)*General!$J$13","v":0},{"$f":"IF(O$71>$J81,HLOOKUP(O$71,Compliance!$I$10:$S$43,MATCH($D81,Compliance!$D$11:$D$41,0)+1,FALSE),0)*General!$J$13","v":1.3240473487919574E-3},{"$f":"IF(P$71>$J81,HLOOKUP(P$71,Compliance!$I$10:$S$43,MATCH($D81,Compliance!$D$11:$D$41,0)+1,FALSE),0)*General!$J$13","v":1.3240473487919574E-3},{"$f":"IF(Q$71>$J81,HLOOKUP(Q$71,Compliance!$I$10:$S$43,MATCH($D81,Compliance!$D$11:$D$41,0)+1,FALSE),0)*General!$J$13","v":1.3240473487919574E-3},{"$f":"IF(R$71>$J81,HLOOKUP(R$71,Compliance!$I$10:$S$43,MATCH($D81,Compliance!$D$11:$D$41,0)+1,FALSE),0)*General!$J$13","v":1.3240473487919574E-3}]
[null,null,null,{"$f":"INDEX(Compliance!$D$11:$D$41,MATCH(ROW()-ROW($D$71),Compliance!$H$11:$H$41,0))","v":"BD0"},null,null,null,null,null,{"$f":"VLOOKUP($D82,Compliance!$D$11:$G$41,4,FALSE)","v":2028},{"$f":"VLOOKUP($D82,Table!$A$4:$AA$33,COLUMN(Table!$AA:$AA),FALSE)*HLOOKUP($J82,$J$29:$R$31,2,FALSE)+HLOOKUP($J82,$J$29:$R$31,3,FALSE)","v":0.54233044453207147},{"$f":"VLOOKUP($J82,General!$D$27:$E$46,2)*K82","v":0.43777821522881399},{"$f":"IF(M$71>$J82,HLOOKUP(M$71,Compliance!$I$10:$S$43,MATCH($D82,Compliance!$D$11:$D$41,0)+1,FALSE),0)*General!$J$13","v":0},{"$f":"IF(N$71>$J82,HLOOKUP(N$71,Compliance!$I$10:$S$43,MATCH($D82,Compliance!$D$11:$D$41,0)+1,FALSE),0)*General!$J$13","v":0},{"$f":"IF(O$71>$J82,HLOOKUP(O$71,Compliance!$I$10:$S$43,MATCH($D82,Compliance!$D$11:$D$41,0)+1,FALSE),0)*General!$J$13","v":1.1641965299173018E-3},{"$f":"IF(P$71>$J82,HLOOKUP(P$71,Compliance!$I$10:$S$43,MATCH($D82,Compliance!$D$11:$D$41,0)+1,FALSE),0)*General!$J$13","v":1.1641965299173018E-3},{"$f":"IF(Q$71>$J82,HLOOKUP(Q$71,Compliance!$I$10:$S$43,MATCH($D82,Compliance!$D$11:$D$41,0)+1,FALSE),0)*General!$J$13","v":1.1641965299173018E-3},{"$f":"IF(R$71>$J82,HLOOKUP(R$71,Compliance!$I$10:$S$43,MATCH($D82,Compliance!$D$11:$D$41,0)+1,FALSE),0)*General!$J$13","v":1.1641965299173018E-3}]
[null,null,null,{"$f":"INDEX(Compliance!$D$11:$D$41,MATCH(ROW()-ROW($D$71),Compliance!$H$11:$H$41,0))","v":"EPN"},null,null,null,null,null,{"$f":"VLOOKUP($D83,Compliance!$D$11:$G$41,4,FALSE)","v":2028},{"$f":"VLOOKUP($D83,Table!$A$4:$AA$33,COLUMN(Table!$AA:$AA),FALSE)*HLOOKUP($J83,$J$29:$R$31,2,FALSE)+HLOOKUP($J83,$J$29:$R$31,3,FALSE)","v":0.54233044453207147},{"$f":"VLOOKUP($J83,General!$D$27:$E$46,2)*K83","v":0.43777821522881399},{"$f":"IF(M$71>$J83,HLOOKUP(M$71,Compliance!$I$10:$S$43,MATCH($D83,Compliance!$D$11:$D$41,0)+1,FALSE),0)*General!$J$13","v":0},{"$f":"IF(N$71>$J83,HLOOKUP(N$71,Compliance!$I$10:$S$43,MATCH($D83,Compliance!$D$11:$D$41,0)+1,FALSE),0)*General!$J$13","v":0},{"$f":"IF(O$71>$J83,HLOOKUP(O$71,Compliance!$I$10:$S$43,MATCH($D83,Compliance!$D$11:$D$41,0)+1,FALSE),0)*General!$J$13","v":8.8370358359007644E-4},{"$f":"IF(P$71>$J83,HLOOKUP(P$71,Compliance!$I$10:$S$43,MATCH($D83,Compliance!$D$11:$D$41,0)+1,FALSE),0)*General!$J$13","v":8.8370358359007644E-4},{"$f":"IF(Q$71>$J83,HLOOKUP(Q$71,Compliance!$I$10:$S$43,MATCH($D83,Compliance!$D$11:$D$41,0)+1,FALSE),0)*General!$J$13","v":8.8370358359007644E-4},{"$f":"IF(R$71>$J83,HLOOKUP(R$71,Compliance!$I$10:$S$43,MATCH($D83,Compliance!$D$11:$D$41,0)+1,FALSE),0)*General!$J$13","v":8.8370358359007644E-4}]
[null,null,null,{"$f":"INDEX(Compliance!$D$11:$D$41,MATCH(ROW()-ROW($D$71),Compliance!$H$11:$H$41,0))","v":"ES0"},null,null,null,null,null,{"$f":"VLOOKUP($D84,Compliance!$D$11:$G$41,4,FALSE)","v":2029},{"$f":"VLOOKUP($D84,Table!$A$4:$AA$33,COLUMN(Table!$AA:$AA),FALSE)*HLOOKUP($J84,$J$29:$R$31,2,FALSE)+HLOOKUP($J84,$J$29:$R$31,3,FALSE)","v":0.54153921789798876},{"$f":"VLOOKUP($J84,General!$D$27:$E$46,2)*K84","v":0.41435025956591071},{"$f":"IF(M$71>$J84,HLOOKUP(M$71,Compliance!$I$10:$S$43,MATCH($D84,Compliance!$D$11:$D$41,0)+1,FALSE),0)*General!$J$13","v":0},{"$f":"IF(N$71>$J84,HLOOKUP(N$71,Compliance!$I$10:$S$43,MATCH($D84,Compliance!$D$11:$D$41,0)+1,FALSE),0)*General!$J$13","v":0},{"$f":"IF(O$71>$J84,HLOOKUP(O$71,Compliance!$I$10:$S$43,MATCH($D84,Compliance!$D$11:$D$41,0)+1,FALSE),0)*General!$J$13","v":0},{"$f":"IF(P$71>$J84,HLOOKUP(P$71,Compliance!$I$10:$S$43,MATCH($D84,Compliance!$D$11:$D$41,0)+1,FALSE),0)*General!$J$13","v":7.2083671152910677E-4},{"$f":"IF(Q$71>$J84,HLOOKUP(Q$71,Compliance!$I$10:$S$43,MATCH($D84,Compliance!$D$11:$D$41,0)+1,FALSE),0)*General!$J$13","v":7.2083671152910677E-4},{"$f":"IF(R$71>$J84,HLOOKUP(R$71,Compliance!$I$10:$S$43,MATCH($D84,Compliance!$D$11:$D$41,0)+1,FALSE),0)*General!$J$13","v":7.2083671152910677E-4}]
[null,null,null,{"$f":"INDEX(Compliance!$D$11:$D$41,MATCH(ROW()-ROW($D$71),Compliance!$H$11:$H$41,0))","v":"TH0"},null,null,null,null,null,{"$f":"VLOOKUP($D85,Compliance!$D$11:$G$41,4,FALSE)","v":2029},{"$f":"VLOOKUP($D85,Table!$A$4:$AA$33,COLUMN(Table!$AA:$AA),FALSE)*HLOOKUP($J85,$J$29:$R$31,2,FALSE)+HLOOKUP($J85,$J$29:$R$31,3,FALSE)","v":1.0155570949428183},{"$f":"VLOOKUP($J85,General!$D$27:$E$46,2)*K85","v":0.77703762162766499},{"$f":"IF(M$71>$J85,HLOOKUP(M$71,Compliance!$I$10:$S$43,MATCH($D85,Compliance!$D$11:$D$41,0)+1,FALSE),0)*General!$J$13","v":0},{"$f":"IF(N$71>$J85,HLOOKUP(N$71,Compliance!$I$10:$S$43,MATCH($D85,Compliance!$D$11:$D$41,0)+1,FALSE),0)*General!$J$13","v":0},{"$f":"IF(O$71>$J85,HLOOKUP(O$71,Compliance!$I$10:$S$43,MATCH($D85,Compliance!$D$11:$D$41,0)+1,FALSE),0)*General!$J$13","v":0},{"$f":"IF(P$71>$J85,HLOOKUP(P$71,Compliance!$I$10:$S$43,MATCH($D85,Compliance!$D$11:$D$41,0)+1,FALSE),0)*General!$J$13","v":6.6805578076860718E-4},{"$f":"IF(Q$71>$J85,HLOOKUP(Q$71,Compliance!$I$10:$S$43,MATCH($D85,Compliance!$D$11:$D$41,0)+1,FALSE),0)*General!$J$13","v":6.6805578076860718E-4},{"$f":"IF(R$71>$J85,HLOOKUP(R$71,Compliance!$I$10:$S$43,MATCH($D85,Compliance!$D$11:$D$41,0)+1,FALSE),0)*General!$J$13","v":6.6805578076860718E-4}]
[null,null,null,{"$f":"INDEX(Compliance!$D$11:$D$41,MATCH(ROW()-ROW($D$71),Compliance!$H$11:$H$41,0))","v":"FF0"},null,null,null,null,null,{"$f":"VLOOKUP($D86,Compliance!$D$11:$G$41,4,FALSE)","v":2029},{"$f":"VLOOKUP($D86,Table!$A$4:$AA$33,COLUMN(Table!$AA:$AA),FALSE)*HLOOKUP($J86,$J$29:$R$31,2,FALSE)+HLOOKUP($J86,$J$29:$R$31,3,FALSE)","v":0.54153921789798876},{"$f":"VLOOKUP($J86,General!$D$27:$E$46,2)*K86","v":0.41435025956591071},{"$f":"IF(M$71>$J86,HLOOKUP(M$71,Compliance!$I$10:$S$43,MATCH($D86,Compliance!$D$11:$D$41,0)+1,FALSE),0)*General!$J$13","v":0},{"$f":"IF(N$71>$J86,HLOOKUP(N$71,Compliance!$I$10:$S$43,MATCH($D86,Compliance!$D$11:$D$41,0)+1,FALSE),0)*General!$J$13","v":0},{"$f":"IF(O$71>$J86,HLOOKUP(O$71,Compliance!$I$10:$S$43,MATCH($D86,Compliance!$D$11:$D$41,0)+1,FALSE),0)*General!$J$13","v":0},{"$f":"IF(P$71>$J86,HLOOKUP(P$71,Compliance!$I$10:$S$43,MATCH($D86,Compliance!$D$11:$D$41,0)+1,FALSE),0)*General!$J$13","v":6.0924274363547944E-4},{"$f":"IF(Q$71>$J86,HLOOKUP(Q$71,Compliance!$I$10:$S$43,MATCH($D86,Compliance!$D$11:$D$41,0)+1,FALSE),0)*General!$J$13","v":6.0924274363547944E-4},{"$f":"IF(R$71>$J86,HLOOKUP(R$71,Compliance!$I$10:$S$43,MATCH($D86,Compliance!$D$11:$D$41,0)+1,FALSE),0)*General!$J$13","v":6.0924274363547944E-4}]
[null,null,null,{"$f":"INDEX(Compliance!$D$11:$D$41,MATCH(ROW()-ROW($D$71),Compliance!$H$11:$H$41,0))","v":"NH0"},null,null,null,null,null,{"$f":"VLOOKUP($D87,Compliance!$D$11:$G$41,4,FALSE)","v":2029},{"$f":"VLOOKUP($D87,Table!$A$4:$AA$33,COLUMN(Table!$AA:$AA),FALSE)*HLOOKUP($J87,$J$29:$R$31,2,FALSE)+HLOOKUP($J87,$J$29:$R$31,3,FALSE)","v":1.2525660334652329},{"$f":"VLOOKUP($J87,General!$D$27:$E$46,2)*K87","v":0.95838130265854193},{"$f":"IF(M$71>$J87,HLOOKUP(M$71,Compliance!$I$10:$S$43,MATCH($D87,Compliance!$D$11:$D$41,0)+1,FALSE),0)*General!$J$13","v":0},{"$f":"IF(N$71>$J87,HLOOKUP(N$71,Compliance!$I$10:$S$43,MATCH($D87,Compliance!$D$11:$D$41,0)+1,FALSE),0)*General!$J$13","v":0},{"$f":"IF(O$71>$J87,HLOOKUP(O$71,Compliance!$I$10:$S$43,MATCH($D87,Compliance!$D$11:$D$41,0)+1,FALSE),0)*General!$J$13","v":0},{"$f":"IF(P$71>$J87,HLOOKUP(P$71,Compliance!$I$10:$S$43,MATCH($D87,Compliance!$D$11:$D$41,0)+1,FALSE),0)*General!$J$13","v":4.4637587157450961E-4},{"$f":"IF(Q$71>$J87,HLOOKUP(Q$71,Compliance!$I$10:$S$43,MATCH($D87,Compliance!$D$11:$D$41,0)+1,FALSE),0)*General!$J$13","v":4.4637587157450961E-4},{"$f":"IF(R$71>$J87,HLOOKUP(R$71,Compliance!$I$10:$S$43,MATCH($D87,Compliance!$D$11:$D$41,0)+1,FALSE),0)*General!$J$13","v":4.4637587157450961E-4}]
[null,null,null,{"$f":"INDEX(Compliance!$D$11:$D$41,MATCH(ROW()-ROW($D$71),Compliance!$H$11:$H$41,0))","v":"TMA"},null,null,null,null,null,{"$f":"VLOOKUP($D88,Compliance!$D$11:$G$41,4,FALSE)","v":2029},{"$f":"VLOOKUP($D88,Table!$A$4:$AA$33,COLUMN(Table!$AA:$AA),FALSE)*HLOOKUP($J88,$J$29:$R$31,2,FALSE)+HLOOKUP($J88,$J$29:$R$31,3,FALSE)","v":0.54153921789798876},{"$f":"VLOOKUP($J88,General!$D$27:$E$46,2)*K88","v":0.41435025956591071},{"$f":"IF(M$71>$J88,HLOOKUP(M$71,Compliance!$I$10:$S$43,MATCH($D88,Compliance!$D$11:$D$41,0)+1,FALSE),0)*General!$J$13","v":0},{"$f":"IF(N$71>$J88,HLOOKUP(N$71,Compliance!$I$10:$S$43,MATCH($D88,Compliance!$D$11:$D$41,0)+1,FALSE),0)*General!$J$13","v":0},{"$f":"IF(O$71>$J88,HLOOKUP(O$71,Compliance!$I$10:$S$43,MATCH($D88,Compliance!$D$11:$D$41,0)+1,FALSE),0)*General!$J$13","v":0},{"$f":"IF(P$71>$J88,HLOOKUP(P$71,Compliance!$I$10:$S$43,MATCH($D88,Compliance!$D$11:$D$41,0)+1,FALSE),0)*General!$J$13","v":3.8605480784822445E-4},{"$f":"IF(Q$71>$J88,HLOOKUP(Q$71,Compliance!$I$10:$S$43,MATCH($D88,Compliance!$D$11:$D$41,0)+1,FALSE),0)*General!$J$13","v":3.8605480784822445E-4},{"$f":"IF(R$71>$J88,HLOOKUP(R$71,Compliance!$I$10:$S$43,MATCH($D88,Compliance!$D$11:$D$41,0)+1,FALSE),0)*General!$J$13","v":3.8605480784822445E-4}]
[null,null,null,{"$f":"INDEX(Compliance!$D$11:$D$41,MATCH(ROW()-ROW($D$71),Compliance!$H$11:$H$41,0))","v":"CN0"},null,null,null,null,null,{"$f":"VLOOKUP($D89,Compliance!$D$11:$G$41,4,FALSE)","v":2030},{"$f":"VLOOKUP($D89,Table!$A$4:$AA$33,COLUMN(Table!$AA:$AA),FALSE)*HLOOKUP($J89,$J$29:$R$31,2,FALSE)+HLOOKUP($J89,$J$29:$R$31,3,FALSE)","v":1.251397977262332},{"$f":"VLOOKUP($J89,General!$D$27:$E$46,2)*K89","v":0.90757116846491526},{"$f":"IF(M$71>$J89,HLOOKUP(M$71,Compliance!$I$10:$S$43,MATCH($D89,Compliance!$D$11:$D$41,0)+1,FALSE),0)*General!$J$13","v":0},{"$f":"IF(N$71>$J89,HLOOKUP(N$71,Compliance!$I$10:$S$43,MATCH($D89,Compliance!$D$11:$D$41,0)+1,FALSE),0)*General!$J$13","v":0},{"$f":"IF(O$71>$J89,HLOOKUP(O$71,Compliance!$I$10:$S$43,MATCH($D89,Compliance!$D$11:$D$41,0)+1,FALSE),0)*General!$J$13","v":0},{"$f":"IF(P$71>$J89,HLOOKUP(P$71,Compliance!$I$10:$S$43,MATCH($D89,Compliance!$D$11:$D$41,0)+1,FALSE),0)*General!$J$13","v":0},{"$f":"IF(Q$71>$J89,HLOOKUP(Q$71,Compliance!$I$10:$S$43,MATCH($D89,Compliance!$D$11:$D$41,0)+1,FALSE),0)*General!$J$13","v":3.5740230257823904E-4},{"$f":"IF(R$71>$J89,HLOOKUP(R$71,Compliance!$I$10:$S$43,MATCH($D89,Compliance!$D$11:$D$41,0)+1,FALSE),0)*General!$J$13","v":3.5740230257823904E-4}]
[null,null,null,{"$f":"INDEX(Compliance!$D$11:$D$41,MATCH(ROW()-ROW($D$71),Compliance!$H$11:$H$41,0))","v":"BMS"},null,null,null,null,null,{"$f":"VLOOKUP($D90,Compliance!$D$11:$G$41,4,FALSE)","v":2030},{"$f":"VLOOKUP($D90,Table!$A$4:$AA$33,COLUMN(Table!$AA:$AA),FALSE)*HLOOKUP($J90,$J$29:$R$31,2,FALSE)+HLOOKUP($J90,$J$29:$R$31,3,FALSE)","v":0.54074914561471332},{"$f":"VLOOKUP($J90,General!$D$27:$E$46,2)*K90","v":0.3921760645686817},{"$f":"IF(M$71>$J90,HLOOKUP(M$71,Compliance!$I$10:$S$43,MATCH($D90,Compliance!$D$11:$D$41,0)+1,FALSE),0)*General!$J$13","v":0},{"$f":"IF(N$71>$J90,HLOOKUP(N$71,Compliance!$I$10:$S$43,MATCH($D90,Compliance!$D$11:$D$41,0)+1,FALSE),0)*General!$J$13","v":0},{"$f":"IF(O$71>$J90,HLOOKUP(O$71,Compliance!$I$10:$S$43,MATCH($D90,Compliance!$D$11:$D$41,0)+1,FALSE),0)*General!$J$13","v":0},{"$f":"IF(P$71>$J90,HLOOKUP(P$71,Compliance!$I$10:$S$43,MATCH($D90,Compliance!$D$11:$D$41,0)+1,FALSE),0)*General!$J$13","v":0},{"$f":"IF(Q$71>$J90,HLOOKUP(Q$71,Compliance!$I$10:$S$43,MATCH($D90,Compliance!$D$11:$D$41,0)+1,FALSE),0)*General!$J$13","v":2.8803307929301122E-4},{"$f":"IF(R$71>$J90,HLOOKUP(R$71,Compliance!$I$10:$S$43,MATCH($D90,Compliance!$D$11:$D$41,0)+1,FALSE),0)*General!$J$13","v":2.8803307929301122E-4}]
[null,null,null,{"$f":"INDEX(Compliance!$D$11:$D$41,MATCH(ROW()-ROW($D$71),Compliance!$H$11:$H$41,0))","v":"PV0"},null,null,null,null,null,{"$f":"VLOOKUP($D91,Compliance!$D$11:$G$41,4,FALSE)","v":2030},{"$f":"VLOOKUP($D91,Table!$A$4:$AA$33,COLUMN(Table!$AA:$AA),FALSE)*HLOOKUP($J91,$J$29:$R$31,2,FALSE)+HLOOKUP($J91,$J$29:$R$31,3,FALSE)","v":1.251397977262332},{"$f":"VLOOKUP($J91,General!$D$27:$E$46,2)*K91","v":0.90757116846491526},{"$f":"IF(M$71>$J91,HLOOKUP(M$71,Compliance!$I$10:$S$43,MATCH($D91,Compliance!$D$11:$D$41,0)+1,FALSE),0)*General!$J$13","v":0},{"$f":"IF(N$71>$J91,HLOOKUP(N$71,Compliance!$I$10:$S$43,MATCH($D91,Compliance!$D$11:$D$41,0)+1,FALSE),0)*General!$J$13","v":0},{"$f":"IF(O$71>$J91,HLOOKUP(O$71,Compliance!$I$10:$S$43,MATCH($D91,Compliance!$D$11:$D$41,0)+1,FALSE),0)*General!$J$13","v":0},{"$f":"IF(P$71>$J91,HLOOKUP(P$71,Compliance!$I$10:$S$43,MATCH($D91,Compliance!$D$11:$D$41,0)+1,FALSE),0)*General!$J$13","v":0},{"$f":"IF(Q$71>$J91,HLOOKUP(Q$71,Compliance!$I$10:$S$43,MATCH($D91,Compliance!$D$11:$D$41,0)+1,FALSE),0)*General!$J$13","v":2.7295281336143997E-4},{"$f":"IF(R$71>$J91,HLOOKUP(R$71,Compliance!$I$10:$S$43,MATCH($D91,Compliance!$D$11:$D$41,0)+1,FALSE),0)*General!$J$13","v":2.7295281336143997E-4}]
[null,null,null,{"$f":"INDEX(Compliance!$D$11:$D$41,MATCH(ROW()-ROW($D$71),Compliance!$H$11:$H$41,0))","v":"FT0"},null,null,null,null,null,{"$f":"VLOOKUP($D92,Compliance!$D$11:$G$41,4,FALSE)","v":2030},{"$f":"VLOOKUP($D92,Table!$A$4:$AA$33,COLUMN(Table!$AA:$AA),FALSE)*HLOOKUP($J92,$J$29:$R$31,2,FALSE)+HLOOKUP($J92,$J$29:$R$31,3,FALSE)","v":0.54074914561471332},{"$f":"VLOOKUP($J92+1,General!$D$27:$E$46,2)*K92","v":0.37173086688974571},{"$f":"IF(M$71>$J92,HLOOKUP(M$71,Compliance!$I$10:$S$43,MATCH($D92,Compliance!$D$11:$D$41,0)+1,FALSE),0)*General!$J$13","v":0},{"$f":"IF(N$71>$J92,HLOOKUP(N$71,Compliance!$I$10:$S$43,MATCH($D92,Compliance!$D$11:$D$41,0)+1,FALSE),0)*General!$J$13","v":0},{"$f":"IF(O$71>$J92,HLOOKUP(O$71,Compliance!$I$10:$S$43,MATCH($D92,Compliance!$D$11:$D$41,0)+1,FALSE),0)*General!$J$13","v":0},{"$f":"IF(P$71>$J92,HLOOKUP(P$71,Compliance!$I$10:$S$43,MATCH($D92,Compliance!$D$11:$D$41,0)+1,FALSE),0)*General!$J$13","v":0},{"$f":"IF(Q$71>$J92,HLOOKUP(Q$71,Compliance!$I$10:$S$43,MATCH($D92,Compliance!$D$11:$D$41,0)+1,FALSE),0)*General!$J$13","v":2.6993676017512567E-4},{"$f":"IF(R$71>$J92,HLOOKUP(R$71,Compliance!$I$10:$S$43,MATCH($D92,Compliance!$D$11:$D$41,0)+1,FALSE),0)*General!$J$13","v":2.6993676017512567E-4}]
[null,null,null,{"$f":"INDEX(Compliance!$D$11:$D$41,MATCH(ROW()-ROW($D$71),Compliance!$H$11:$H$41,0))","v":"COO"},null,null,null,null,null,{"$f":"VLOOKUP($D93,Compliance!$D$11:$G$41,4,FALSE)","v":2030},{"$f":"VLOOKUP($D93,Table!$A$4:$AA$33,COLUMN(Table!$AA:$AA),FALSE)*HLOOKUP($J93,$J$29:$R$31,2,FALSE)+HLOOKUP($J93,$J$29:$R$31,3,FALSE)","v":0.54074914561471332},{"$f":"VLOOKUP($J93,General!$D$27:$E$46,2)*K93","v":0.3921760645686817},{"$f":"IF(M$71>$J93,HLOOKUP(M$71,Compliance!$I$10:$S$43,MATCH($D93,Compliance!$D$11:$D$41,0)+1,FALSE),0)*General!$J$13","v":0},{"$f":"IF(N$71>$J93,HLOOKUP(N$71,Compliance!$I$10:$S$43,MATCH($D93,Compliance!$D$11:$D$41,0)+1,FALSE),0)*General!$J$13","v":0},{"$f":"IF(O$71>$J93,HLOOKUP(O$71,Compliance!$I$10:$S$43,MATCH($D93,Compliance!$D$11:$D$41,0)+1,FALSE),0)*General!$J$13","v":0},{"$f":"IF(P$71>$J93,HLOOKUP(P$71,Compliance!$I$10:$S$43,MATCH($D93,Compliance!$D$11:$D$41,0)+1,FALSE),0)*General!$J$13","v":0},{"$f":"IF(Q$71>$J93,HLOOKUP(Q$71,Compliance!$I$10:$S$43,MATCH($D93,Compliance!$D$11:$D$41,0)+1,FALSE),0)*General!$J$13","v":2.5787254742986866E-4},{"$f":"IF(R$71>$J93,HLOOKUP(R$71,Compliance!$I$10:$S$43,MATCH($D93,Compliance!$D$11:$D$41,0)+1,FALSE),0)*General!$J$13","v":2.5787254742986866E-4}]
[null,null,null,{"$f":"INDEX(Compliance!$D$11:$D$41,MATCH(ROW()-ROW($D$71),Compliance!$H$11:$H$41,0))","v":"NT0"},null,null,null,null,null,{"$f":"VLOOKUP($D94,Compliance!$D$11:$G$41,4,FALSE)","v":2030},{"$f":"VLOOKUP($D94,Table!$A$4:$AA$33,COLUMN(Table!$AA:$AA),FALSE)*HLOOKUP($J94,$J$29:$R$31,2,FALSE)+HLOOKUP($J94,$J$29:$R$31,3,FALSE)","v":1.0145150333797925},{"$f":"VLOOKUP($J94,General!$D$27:$E$46,2)*K94","v":0.73577280049950411},{"$f":"IF(M$71>$J94,HLOOKUP(M$71,Compliance!$I$10:$S$43,MATCH($D94,Compliance!$D$11:$D$41,0)+1,FALSE),0)*General!$J$13","v":0},{"$f":"IF(N$71>$J94,HLOOKUP(N$71,Compliance!$I$10:$S$43,MATCH($D94,Compliance!$D$11:$D$41,0)+1,FALSE),0)*General!$J$13","v":0},{"$f":"IF(O$71>$J94,HLOOKUP(O$71,Compliance!$I$10:$S$43,MATCH($D94,Compliance!$D$11:$D$41,0)+1,FALSE),0)*General!$J$13","v":0},{"$f":"IF(P$71>$J94,HLOOKUP(P$71,Compliance!$I$10:$S$43,MATCH($D94,Compliance!$D$11:$D$41,0)+1,FALSE),0)*General!$J$13","v":0},{"$f":"IF(Q$71>$J94,HLOOKUP(Q$71,Compliance!$I$10:$S$43,MATCH($D94,Compliance!$D$11:$D$41,0)+1,FALSE),0)*General!$J$13","v":2.5334846765039733E-4},{"$f":"IF(R$71>$J94,HLOOKUP(R$71,Compliance!$I$10:$S$43,MATCH($D94,Compliance!$D$11:$D$41,0)+1,FALSE),0)*General!$J$13","v":2.5334846765039733E-4}]
[null,null,null,{"$f":"INDEX(Compliance!$D$11:$D$41,MATCH(ROW()-ROW($D$71),Compliance!$H$11:$H$41,0))","v":"YVE"},null,null,null,null,null,{"$f":"VLOOKUP($D95,Compliance!$D$11:$G$41,4,FALSE)","v":2030},{"$f":"VLOOKUP($D95,Table!$A$4:$AA$33,COLUMN(Table!$AA:$AA),FALSE)*HLOOKUP($J95,$J$29:$R$31,2,FALSE)+HLOOKUP($J95,$J$29:$R$31,3,FALSE)","v":0.54074914561471332},{"$f":"VLOOKUP($J95,General!$D$27:$E$46,2)*K95","v":0.3921760645686817},{"$f":"IF(M$71>$J95,HLOOKUP(M$71,Compliance!$I$10:$S$43,MATCH($D95,Compliance!$D$11:$D$41,0)+1,FALSE),0)*General!$J$13","v":0},{"$f":"IF(N$71>$J95,HLOOKUP(N$71,Compliance!$I$10:$S$43,MATCH($D95,Compliance!$D$11:$D$41,0)+1,FALSE),0)*General!$J$13","v":0},{"$f":"IF(O$71>$J95,HLOOKUP(O$71,Compliance!$I$10:$S$43,MATCH($D95,Compliance!$D$11:$D$41,0)+1,FALSE),0)*General!$J$13","v":0},{"$f":"IF(P$71>$J95,HLOOKUP(P$71,Compliance!$I$10:$S$43,MATCH($D95,Compliance!$D$11:$D$41,0)+1,FALSE),0)*General!$J$13","v":0},{"$f":"IF(Q$71>$J95,HLOOKUP(Q$71,Compliance!$I$10:$S$43,MATCH($D95,Compliance!$D$11:$D$41,0)+1,FALSE),0)*General!$J$13","v":1.8548727095832663E-4},{"$f":"IF(R$71>$J95,HLOOKUP(R$71,Compliance!$I$10:$S$43,MATCH($D95,Compliance!$D$11:$D$41,0)+1,FALSE),0)*General!$J$13","v":1.8548727095832663E-4}]
[null,null,null,{"$f":"INDEX(Compliance!$D$11:$D$41,MATCH(ROW()-ROW($D$71),Compliance!$H$11:$H$41,0))","v":"FW0"},null,null,null,null,null,{"$f":"VLOOKUP($D96,Compliance!$D$11:$G$41,4,FALSE)","v":2030},{"$f":"VLOOKUP($D96,Table!$A$4:$AA$33,COLUMN(Table!$AA:$AA),FALSE)*HLOOKUP($J96,$J$29:$R$31,2,FALSE)+HLOOKUP($J96,$J$29:$R$31,3,FALSE)","v":1.251397977262332},{"$f":"VLOOKUP($J96,General!$D$27:$E$46,2)*K96","v":0.90757116846491526},{"$f":"IF(M$71>$J96,HLOOKUP(M$71,Compliance!$I$10:$S$43,MATCH($D96,Compliance!$D$11:$D$41,0)+1,FALSE),0)*General!$J$13","v":0},{"$f":"IF(N$71>$J96,HLOOKUP(N$71,Compliance!$I$10:$S$43,MATCH($D96,Compliance!$D$11:$D$41,0)+1,FALSE),0)*General!$J$13","v":0},{"$f":"IF(O$71>$J96,HLOOKUP(O$71,Compliance!$I$10:$S$43,MATCH($D96,Compliance!$D$11:$D$41,0)+1,FALSE),0)*General!$J$13","v":0},{"$f":"IF(P$71>$J96,HLOOKUP(P$71,Compliance!$I$10:$S$43,MATCH($D96,Compliance!$D$11:$D$41,0)+1,FALSE),0)*General!$J$13","v":0},{"$f":"IF(Q$71>$J96,HLOOKUP(Q$71,Compliance!$I$10:$S$43,MATCH($D96,Compliance!$D$11:$D$41,0)+1,FALSE),0)*General!$J$13","v":1.8397924436516951E-4},{"$f":"IF(R$71>$J96,HLOOKUP(R$71,Compliance!$I$10:$S$43,MATCH($D96,Compliance!$D$11:$D$41,0)+1,FALSE),0)*General!$J$13","v":1.8397924436516951E-4}]
[null,null,null,{"$f":"INDEX(Compliance!$D$11:$D$41,MATCH(ROW()-ROW($D$71),Compliance!$H$11:$H$41,0))","v":"BY0"},null,null,null,null,null,{"$f":"VLOOKUP($D97,Compliance!$D$11:$G$41,4,FALSE)","v":2031},{"$f":"VLOOKUP($D97,Table!$A$4:$AA$33,COLUMN(Table!$AA:$AA),FALSE)*HLOOKUP($J97,$J$29:$R$31,2,FALSE)+HLOOKUP($J97,$J$29:$R$31,3,FALSE)","v":1.0134742584416803},{"$f":"VLOOKUP($J97,General!$D$27:$E$46,2)*K97","v":0.69669950977490225},{"$f":"IF(M$71>$J97,HLOOKUP(M$71,Compliance!$I$10:$S$43,MATCH($D97,Compliance!$D$11:$D$41,0)+1,FALSE),0)*General!$J$13","v":0},{"$f":"IF(N$71>$J97,HLOOKUP(N$71,Compliance!$I$10:$S$43,MATCH($D97,Compliance!$D$11:$D$41,0)+1,FALSE),0)*General!$J$13","v":0},{"$f":"IF(O$71>$J97,HLOOKUP(O$71,Compliance!$I$10:$S$43,MATCH($D97,Compliance!$D$11:$D$41,0)+1,FALSE),0)*General!$J$13","v":0},{"$f":"IF(P$71>$J97,HLOOKUP(P$71,Compliance!$I$10:$S$43,MATCH($D97,Compliance!$D$11:$D$41,0)+1,FALSE),0)*General!$J$13","v":0},{"$f":"IF(Q$71>$J97,HLOOKUP(Q$71,Compliance!$I$10:$S$43,MATCH($D97,Compliance!$D$11:$D$41,0)+1,FALSE),0)*General!$J$13","v":0},{"$f":"IF(R$71>$J97,HLOOKUP(R$71,Compliance!$I$10:$S$43,MATCH($D97,Compliance!$D$11:$D$41,0)+1,FALSE),0)*General!$J$13","v":1.1913410085941305E-4}]
[null,null,null,{"$f":"INDEX(Compliance!$D$11:$D$41,MATCH(ROW()-ROW($D$71),Compliance!$H$11:$H$41,0))","v":"SA0"},null,null,null,null,null,{"$f":"VLOOKUP($D98,Compliance!$D$11:$G$41,4,FALSE)","v":2031},{"$f":"VLOOKUP($D98,Table!$A$4:$AA$33,COLUMN(Table!$AA:$AA),FALSE)*HLOOKUP($J98,$J$29:$R$31,2,FALSE)+HLOOKUP($J98,$J$29:$R$31,3,FALSE)","v":1.0134742584416803},{"$f":"VLOOKUP($J98,General!$D$27:$E$46,2)*K98","v":0.69669950977490225},{"$f":"IF(M$71>$J98,HLOOKUP(M$71,Compliance!$I$10:$S$43,MATCH($D98,Compliance!$D$11:$D$41,0)+1,FALSE),0)*General!$J$13","v":0},{"$f":"IF(N$71>$J98,HLOOKUP(N$71,Compliance!$I$10:$S$43,MATCH($D98,Compliance!$D$11:$D$41,0)+1,FALSE),0)*General!$J$13","v":0},{"$f":"IF(O$71>$J98,HLOOKUP(O$71,Compliance!$I$10:$S$43,MATCH($D98,Compliance!$D$11:$D$41,0)+1,FALSE),0)*General!$J$13","v":0},{"$f":"IF(P$71>$J98,HLOOKUP(P$71,Compliance!$I$10:$S$43,MATCH($D98,Compliance!$D$11:$D$41,0)+1,FALSE),0)*General!$J$13","v":0},{"$f":"IF(Q$71>$J98,HLOOKUP(Q$71,Compliance!$I$10:$S$43,MATCH($D98,Compliance!$D$11:$D$41,0)+1,FALSE),0)*General!$J$13","v":0},{"$f":"IF(R$71>$J98,HLOOKUP(R$71,Compliance!$I$10:$S$43,MATCH($D98,Compliance!$D$11:$D$41,0)+1,FALSE),0)*General!$J$13","v":7.9925409437327729E-5}]
[null,null,null,{"$f":"INDEX(Compliance!$D$11:$D$41,MATCH(ROW()-ROW($D$71),Compliance!$H$11:$H$41,0))","v":"EP0"},null,null,null,null,null,{"$f":"VLOOKUP($D99,Compliance!$D$11:$G$41,4,FALSE)","v":2031},{"$f":"VLOOKUP($D99,Table!$A$4:$AA$33,COLUMN(Table!$AA:$AA),FALSE)*HLOOKUP($J99,$J$29:$R$31,2,FALSE)+HLOOKUP($J99,$J$29:$R$31,3,FALSE)","v":1.4869882908852419},{"$f":"VLOOKUP($J99,General!$D$27:$E$46,2)*K99","v":1.0222104850434963},{"$f":"IF(M$71>$J99,HLOOKUP(M$71,Compliance!$I$10:$S$43,MATCH($D99,Compliance!$D$11:$D$41,0)+1,FALSE),0)*General!$J$13","v":0},{"$f":"IF(N$71>$J99,HLOOKUP(N$71,Compliance!$I$10:$S$43,MATCH($D99,Compliance!$D$11:$D$41,0)+1,FALSE),0)*General!$J$13","v":0},{"$f":"IF(O$71>$J99,HLOOKUP(O$71,Compliance!$I$10:$S$43,MATCH($D99,Compliance!$D$11:$D$41,0)+1,FALSE),0)*General!$J$13","v":0},{"$f":"IF(P$71>$J99,HLOOKUP(P$71,Compliance!$I$10:$S$43,MATCH($D99,Compliance!$D$11:$D$41,0)+1,FALSE),0)*General!$J$13","v":0},{"$f":"IF(Q$71>$J99,HLOOKUP(Q$71,Compliance!$I$10:$S$43,MATCH($D99,Compliance!$D$11:$D$41,0)+1,FALSE),0)*General!$J$13","v":0},{"$f":"IF(R$71>$J99,HLOOKUP(R$71,Compliance!$I$10:$S$43,MATCH($D99,Compliance!$D$11:$D$41,0)+1,FALSE),0)*General!$J$13","v":6.0321063726285073E-5}]
[null,null,null,{"$f":"INDEX(Compliance!$D$11:$D$41,MATCH(ROW()-ROW($D$71),Compliance!$H$11:$H$41,0))","v":"WT0"},null,null,null,null,null,{"$f":"VLOOKUP($D100,Compliance!$D$11:$G$41,4,FALSE)","v":2031},{"$f":"VLOOKUP($D100,Table!$A$4:$AA$33,COLUMN(Table!$AA:$AA),FALSE)*HLOOKUP($J100,$J$29:$R$31,2,FALSE)+HLOOKUP($J100,$J$29:$R$31,3,FALSE)","v":1.0134742584416803},{"$f":"VLOOKUP($J100,General!$D$27:$E$46,2)*K100","v":0.69669950977490225},{"$f":"IF(M$71>$J100,HLOOKUP(M$71,Compliance!$I$10:$S$43,MATCH($D100,Compliance!$D$11:$D$41,0)+1,FALSE),0)*General!$J$13","v":0},{"$f":"IF(N$71>$J100,HLOOKUP(N$71,Compliance!$I$10:$S$43,MATCH($D100,Compliance!$D$11:$D$41,0)+1,FALSE),0)*General!$J$13","v":0},{"$f":"IF(O$71>$J100,HLOOKUP(O$71,Compliance!$I$10:$S$43,MATCH($D100,Compliance!$D$11:$D$41,0)+1,FALSE),0)*General!$J$13","v":0},{"$f":"IF(P$71>$J100,HLOOKUP(P$71,Compliance!$I$10:$S$43,MATCH($D100,Compliance!$D$11:$D$41,0)+1,FALSE),0)*General!$J$13","v":0},{"$f":"IF(Q$71>$J100,HLOOKUP(Q$71,Compliance!$I$10:$S$43,MATCH($D100,Compliance!$D$11:$D$41,0)+1,FALSE),0)*General!$J$13","v":0},{"$f":"IF(R$71>$J100,HLOOKUP(R$71,Compliance!$I$10:$S$43,MATCH($D100,Compliance!$D$11:$D$41,0)+1,FALSE),0)*General!$J$13","v":1.5080265931571267E-6}]
[null,null,null,{"$f":"INDEX(Compliance!$D$11:$D$41,MATCH(ROW()-ROW($D$71),Compliance!$H$11:$H$41,0))","v":"KLO"},null,null,null,null,null,{"$f":"VLOOKUP($D101,Compliance!$D$11:$G$41,4,FALSE)","v":2031},{"$f":"VLOOKUP($D101,Table!$A$4:$AA$33,COLUMN(Table!$AA:$AA),FALSE)*HLOOKUP($J101,$J$29:$R$31,2,FALSE)+HLOOKUP($J101,$J$29:$R$31,3,FALSE)","v":1.0134742584416803},{"$f":"VLOOKUP($J101,General!$D$27:$E$46,2)*K101","v":0.69669950977490225},{"$f":"IF(M$71>$J101,HLOOKUP(M$71,Compliance!$I$10:$S$43,MATCH($D101,Compliance!$D$11:$D$41,0)+1,FALSE),0)*General!$J$13","v":0},{"$f":"IF(N$71>$J101,HLOOKUP(N$71,Compliance!$I$10:$S$43,MATCH($D101,Compliance!$D$11:$D$41,0)+1,FALSE),0)*General!$J$13","v":0},{"$f":"IF(O$71>$J101,HLOOKUP(O$71,Compliance!$I$10:$S$43,MATCH($D101,Compliance!$D$11:$D$41,0)+1,FALSE),0)*General!$J$13","v":0},{"$f":"IF(P$71>$J101,HLOOKUP(P$71,Compliance!$I$10:$S$43,MATCH($D101,Compliance!$D$11:$D$41,0)+1,FALSE),0)*General!$J$13","v":0},{"$f":"IF(Q$71>$J101,HLOOKUP(Q$71,Compliance!$I$10:$S$43,MATCH($D101,Compliance!$D$11:$D$41,0)+1,FALSE),0)*General!$J$13","v":0},{"$f":"IF(R$71>$J101,HLOOKUP(R$71,Compliance!$I$10:$S$43,MATCH($D101,Compliance!$D$11:$D$41,0)+1,FALSE),0)*General!$J$13","v":0}]
[null,null,null,"Trial",null,null,null,null,null,{"$f":"2023","v":2023},{"$f":"3.6-K72-K73","v":2.2698113385496561},{"$f":"VLOOKUP($J102+1,General!$D$27:$E$46,2)*K102","v":2.2698113385496561}]
[null,null,null,"Trial",null,null,null,null,null,{"$f":"2024","v":2024},1,{"$f":"VLOOKUP($J103,General!$D$27:$E$46,2)*K103","v":1}]
[]
[]
[]
[]
[]
[]
[]
[]
[]
[null,null,null,"Traditional for worst served under-volt"]
[null,null,null,"Year 1",null,null,null,null,null,{"$f":"J120","v":2027},{"$f":"8.6/5*90%","v":1.548},{"$f":"VLOOKUP($J114,General!$D$27:$E$46,2)*K114","v":1.3182979521565574}]
[null,null,null,"Year 2",null,null,null,null,null,{"$f":"J114+1","v":2028},{"$f":"K114","v":1.548},{"$f":"VLOOKUP($J115,General!$D$27:$E$46,2)*K115","v":1.2495715186318082}]
[null,null,null,"Year 3",null,null,null,null,null,{"$f":"J115+1","v":2029},{"$f":"K115","v":1.548},{"$f":"VLOOKUP($J116,General!$D$27:$E$46,2)*K116","v":1.1844279797457897}]
[null,null,null,"Year 4",null,null,null,null,null,{"$f":"J116+1","v":2030},{"$f":"K116","v":1.548},{"$f":"VLOOKUP($J117,General!$D$27:$E$46,2)*K117","v":1.1226805495220757}]
[null,null,null,"Year 5",null,null,null,null,null,{"$f":"J117+1","v":2031},{"$f":"K117","v":1.548},{"$f":"VLOOKUP($J118,General!$D$27:$E$46,2)*K118","v":1.0641521796417781}]
[null,null,null,"Power quality reactive program for customer complaints"]
[null,null,null,"Year 1",null,null,null,null,null,{"$f":"J14","v":2027},{"$f":"0.6161/5","v":0.12322},{"$f":"VLOOKUP($J120,General!$D$27:$E$46,2)*K120","v":0.10493583570073063}]
[null,null,null,"Year 2",null,null,null,null,null,{"$f":"J120+1","v":2028},{"$f":"K120","v":0.12322},{"$f":"VLOOKUP($J121,General!$D$27:$E$46,2)*K121","v":9.9465247109697286E-2}]
[null,null,null,"Year 3",null,null,null,null,null,{"$f":"J121+1","v":2029},{"$f":"K121","v":0.12322},{"$f":"VLOOKUP($J122,General!$D$27:$E$46,2)*K122","v":9.4279855080281777E-2}]
[null,null,null,"Year 4",null,null,null,null,null,{"$f":"J122+1","v":2030},{"$f":"K122","v":0.12322},{"$f":"VLOOKUP($J123,General!$D$27:$E$46,2)*K123","v":8.9364791545290798E-2}]
[null,null,null,"Year 5",null,null,null,null,null,{"$f":"J123+1","v":2031},{"$f":"K123","v":0.12322},{"$f":"VLOOKUP($J124,General!$D$27:$E$46,2)*K124","v":8.4705963550038677E-2}]
[]
[null,null,null,"End"]

{"sheet":"Option_3A","index":8,"n_rows":108,"n_cols":19,"rows_kept":108,"cut":false,"hidden":false,"merged":[]}
[null,null,null,"Voltage PQ Management Strategy",null,null,null,"Section Check:",{"$f":"IF(COUNTA($A$8:$A$109)=COUNTIF($A$8:$A$109,0),\"Ok\",\"Check\")","v":"Ok"},null,null,"Overall Check:","Ok",null,"Legend:","Input","Internal","Select","Calculation"]
[null,null,null,{"$f":"Summary!$K14&\" - \"&Summary!$D11","v":"Option 3 - Traditional augmentation - EDCOP 5% NON-COMPLIANCE (FUNCTIONAL COMPLIANCE)"}]
[]
[]
[]
[null,"Copyright Jemena Limited. All rights reserved. Jemena is not liable for any loss caused by reliance on this document."]
[]
[null,"General Assumptions"]
[]
[null,null,{"$f":"B8","v":"General Assumptions"}]
[]
[null,null,null,{"$f":"C10","v":"General Assumptions"},"Source","Unit","Basis"]
[null,null,null,null,null,null,null,null,null,"Start","End"]
[null,null,null,"Next Regulatory Period","AM","Year","n/a",null,null,{"$f":"General!J16","v":2027},{"$f":"J14+4","v":2031}]
[null,null,null,"This Regulatory Period","AM","Year","n/a",null,null,{"$f":"K15-4","v":2022},{"$f":"J14-1","v":2026}]
[]
[null,"Option"]
[]
[null,null,"Summary"]
[]
[null,null,null,{"$f":"C19&\" ($M)\"","v":"Summary ($M)"},"Period",null,null,null,null,"Total DVM Cost","Total Cost","PV Total Cost"]
[]
[null,null,null,{"$f":"D14","v":"Next Regulatory Period"},{"$f":"$J$14&\" - \"&$K$14","v":"2027 - 2031"},null,null,null,null,0,{"$f":"SUMIFS($K$30:$K$106,$J$30:$J$106,\">=\"&$J14,$J$30:$J$106,\"<=\"&$K14)","v":25.335059999999995},{"$f":"SUMIFS($L$30:$L$106,$J$30:$J$106,\">=\"&$J14,$J$30:$J$106,\"<=\"&$K14)","v":19.162409424089333}]
[null,null,null,{"$f":"D15","v":"This Regulatory Period"},{"$f":"$J$15&\" - \"&$K$15","v":"2022 - 2026"},null,null,null,null,{"$f":"Option_2A!J24","v":7.5111570025283925},{"$f":"SUMIFS($K$30:$K$79,$J$30:$J$79,\">=\"&$J15,$J$30:$J$79,\"<=\"&$K15)","v":6.6},{"$f":"SUMIFS($L$30:$L$79,$J$30:$J$79,\">=\"&$J15,$J$30:$J$79,\"<=\"&$K15)","v":6.2619033714426902}]
[]
[null,null,"Calculations"]
[]
[null,null,null,{"$f":"Summary!$H26&\" - \"&Summary!$D11","v":"Option 3 - EDCOP 5% NON-COMPLIANCE (FUNCTIONAL COMPLIANCE)"},null,null,null,null,null,"Indicative Year","Cost ($M)","PV Cost ($M)"]
[null,null,null,"PROJECT & LOCATION",null,null,null,null,"TOTAL",{"$f":"J14&\" - \"&J14+General!J15-1","v":"2027 - 2031"},{"$f":"SUMIFS(K$31:K$106,$J$31:$J$106,\">=\"&$J$14,$J$31:$J$106,\"<=\"&J14+General!J15-1)","v":25.335059999999995},{"$f":"SUMIFS(L$31:L$106,$J$31:$J$106,\">=\"&$J$14,$J$31:$J$106,\"<=\"&J14+General!J15-1)","v":19.162409424089333}]
[null,null,null,"Reactors"]
[null,null,null,{"$f":"Option_2A!D38","v":"SBY"},null,null,null,null,null,{"$f":"Option_2A!J38","v":2028},{"$f":"Option_2A!K38","v":2.3165800000000001},{"$f":"VLOOKUP($J31,General!$D$27:$E$46,2)*K31","v":1.8699821631990143}]
[null,null,null,{"$f":"Option_2A!D39","v":"SHM"},null,null,null,null,null,{"$f":"Option_2A!J39","v":2029},{"$f":"Option_2A!K39","v":2.59457},{"$f":"VLOOKUP($J32,General!$D$27:$E$46,2)*K32","v":1.9851946404451122}]
[null,null,null,{"$f":"Option_2A!D40","v":"COO"},null,null,null,null,null,{"$f":"Option_2A!J40","v":2030},{"$f":"Option_2A!K40","v":2.6623600000000001},{"$f":"VLOOKUP($J33,General!$D$27:$E$46,2)*K33","v":1.9308654960113651}]
[null,null,null,{"$f":"Option_2A!D41","v":"ST"},null,null,null,null,null,{"$f":"Option_2A!J41","v":2031},{"$f":"Option_2A!K41","v":2.1589499999999999},{"$f":"VLOOKUP($J34,General!$D$27:$E$46,2)*K34","v":1.4841416978279176}]
[null,null,null,{"$f":"Option_2A!D42","v":"BD"},null,null,null,null,null,{"$f":"Option_2A!J42","v":2031},{"$f":"Option_2A!K42","v":2.4241000000000001},{"$f":"VLOOKUP($J35,General!$D$27:$E$46,2)*K35","v":1.6664155676160428}]
[null,null,null,"VAr controllers"]
[null,null,null,{"$f":"Option_2A!D44","v":"CN No.1"},null,null,null,null,null,{"$f":"Option_2A!J44","v":2027},{"$f":"Option_2A!K44","v":0.26951999999999998},{"$f":"VLOOKUP($J37,General!$D$27:$E$46,2)*K37","v":0.22952691477082388}]
[null,null,null,{"$f":"Option_2A!D45","v":"CN No.2"},null,null,null,null,null,{"$f":"Option_2A!J45","v":2027},{"$f":"Option_2A!K45","v":0.26951999999999998},{"$f":"VLOOKUP($J38,General!$D$27:$E$46,2)*K38","v":0.22952691477082388}]
[null,null,null,{"$f":"Option_2A!D46","v":"CN No.3A & 3B"},null,null,null,null,null,{"$f":"Option_2A!J46","v":2028},{"$f":"Option_2A!K46","v":0.26951999999999998},{"$f":"VLOOKUP($J39,General!$D$27:$E$46,2)*K39","v":0.21756105665480938}]
[null,null,null,{"$f":"Option_2A!D47","v":"CS No.2"},null,null,null,null,null,{"$f":"Option_2A!J47","v":2028},{"$f":"Option_2A!K47","v":0.26951999999999998},{"$f":"VLOOKUP($J40,General!$D$27:$E$46,2)*K40","v":0.21756105665480938}]
[null,null,null,{"$f":"Option_2A!D48","v":"ES No.1"},null,null,null,null,null,{"$f":"Option_2A!J48","v":2028},{"$f":"Option_2A!K48","v":0.26951999999999998},{"$f":"VLOOKUP($J41,General!$D$27:$E$46,2)*K41","v":0.21756105665480938}]
[null,null,null,{"$f":"Option_2A!D49","v":"FF No.1"},null,null,null,null,null,{"$f":"Option_2A!J49","v":2029},{"$f":"Option_2A!K49","v":0.26951999999999998},{"$f":"VLOOKUP($J42,General!$D$27:$E$46,2)*K42","v":0.20621901104721266}]
[null,null,null,{"$f":"Option_2A!D50","v":"NH No.1"},null,null,null,null,null,{"$f":"Option_2A!J50","v":2029},{"$f":"Option_2A!K50","v":0.26951999999999998},{"$f":"VLOOKUP($J43,General!$D$27:$E$46,2)*K43","v":0.20621901104721266}]
[null,null,null,{"$f":"Option_2A!D51","v":"ST No.1"},null,null,null,null,null,{"$f":"Option_2A!J51","v":2030},{"$f":"Option_2A!K51","v":0.26951999999999998},{"$f":"VLOOKUP($J44,General!$D$27:$E$46,2)*K44","v":0.19546825691678929}]
[null,null,null,{"$f":"Option_2A!D52","v":"ST No.2"},null,null,null,null,null,{"$f":"Option_2A!J52","v":2030},{"$f":"Option_2A!K52","v":0.26951999999999998},{"$f":"VLOOKUP($J45,General!$D$27:$E$46,2)*K45","v":0.19546825691678929}]
[null,null,null,{"$f":"Option_2A!D53","v":"TH No.1"},null,null,null,null,null,{"$f":"Option_2A!J53","v":2030},{"$f":"Option_2A!K53","v":0.26951999999999998},{"$f":"VLOOKUP($J46,General!$D$27:$E$46,2)*K46","v":0.19546825691678929}]
[null,null,null,{"$f":"Option_2A!D54","v":"TH No.2"},null,null,null,null,null,{"$f":"Option_2A!J54","v":2031},{"$f":"Option_2A!K54","v":0.26951999999999998},{"$f":"VLOOKUP($J47,General!$D$27:$E$46,2)*K47","v":0.18527796864150645}]
[null,null,null,"Traditional for spread"]
[]
[]
[null,null,null,{"$f":"Option_2A!D58","v":"AW0"},null,null,null,null,null,{"$f":"Option_2A!J58","v":2028},{"$f":"Option_2A!K58","v":4.1070000000000002E-2},{"$f":"VLOOKUP($J51,General!$D$27:$E$46,2)*K51","v":3.3152391647421425E-2}]
[null,null,null,{"$f":"Option_2A!D59","v":"NS0"},null,null,null,null,null,{"$f":"Option_2A!J59","v":2028},{"$f":"Option_2A!K59","v":4.1070000000000002E-2},{"$f":"VLOOKUP($J52,General!$D$27:$E$46,2)*K52","v":3.3152391647421425E-2}]
[]
[]
[]
[null,null,null,{"$f":"Option_2A!D63","v":"PTN"},null,null,null,null,null,{"$f":"Option_2A!J63","v":2029},{"$f":"Option_2A!K63","v":4.1070000000000002E-2},{"$f":"VLOOKUP($J56,General!$D$27:$E$46,2)*K56","v":3.1424067912247791E-2}]
[]
[]
[]
[]
[null,null,null,{"$f":"Option_2A!D68","v":"HB0"},null,null,null,null,null,{"$f":"Option_2A!J68","v":2031},{"$f":"Option_2A!K68","v":4.1070000000000002E-2},{"$f":"VLOOKUP($J61,General!$D$27:$E$46,2)*K61","v":2.8233029727317716E-2}]
[]
[]
[null,null,null,"Traditional for worst served over-volt"]
[null,null,null,{"$f":"Option_2A!D72","v":"AW0"},null,null,null,null,null,{"$f":"Option_2A!J72","v":2024},1.1000000000000001,{"$f":"VLOOKUP($J65,General!$D$27:$E$46,2)*K65","v":1.1000000000000001}]
[null,null,null,{"$f":"Option_2A!D73","v":"CS0"},null,null,null,null,null,{"$f":"Option_2A!J73","v":2024},1.1000000000000001,{"$f":"VLOOKUP($J66,General!$D$27:$E$46,2)*K66","v":1.1000000000000001}]
[null,null,null,{"$f":"Option_2A!D74","v":"PTN"},null,null,null,null,null,{"$f":"Option_2A!J74","v":2025},1.1000000000000001,{"$f":"VLOOKUP($J67,General!$D$27:$E$46,2)*K67","v":1.0426540284360191}]
[null,null,null,{"$f":"Option_2A!D75","v":"HB0"},null,null,null,null,null,{"$f":"Option_2A!J75","v":2025},1.1000000000000001,{"$f":"VLOOKUP($J68,General!$D$27:$E$46,2)*K68","v":1.0426540284360191}]
[null,null,null,{"$f":"Option_2A!D76","v":"SBY"},null,null,null,null,null,{"$f":"Option_2A!J76","v":2026},1.1000000000000001,{"$f":"VLOOKUP($J69,General!$D$27:$E$46,2)*K69","v":0.98829765728532626}]
[null,null,null,{"$f":"Option_2A!D77","v":"FE0"},null,null,null,null,null,{"$f":"Option_2A!J77","v":2026},1.1000000000000001,{"$f":"VLOOKUP($J70,General!$D$27:$E$46,2)*K70","v":0.98829765728532626}]
[null,null,null,{"$f":"Option_2A!D78","v":"NS0"},null,null,null,null,null,{"$f":"Option_2A!J78","v":2027},1.1000000000000001,{"$f":"VLOOKUP($J71,General!$D$27:$E$46,2)*K71","v":0.93677503060220502}]
[]
[]
[]
[]
[]
[]
[]
[]
[]
[]
[]
[]
[]
[]
[]
[]
[]
[]
[]
[]
[]
[]
[]
[null,null,null,{"$f":"Option_2A!D113","v":"Traditional for worst served under-volt"}]
[null,null,null,{"$f":"Option_2A!D114","v":"Year 1"},null,null,null,null,null,{"$f":"Option_2A!J114","v":2027},{"$f":"Option_2A!K114","v":1.6666799999999999},{"$f":"VLOOKUP($J96,General!$D$27:$E$46,2)*K96","v":1.4193674618218934}]
[null,null,null,{"$f":"Option_2A!D115","v":"Year 2"},null,null,null,null,null,{"$f":"Option_2A!J115","v":2028},{"$f":"Option_2A!K115","v":1.6666799999999999},{"$f":"VLOOKUP($J97,General!$D$27:$E$46,2)*K97","v":1.3453720017269133}]
[null,null,null,{"$f":"Option_2A!D116","v":"Year 3"},null,null,null,null,null,{"$f":"Option_2A!J116","v":2029},{"$f":"Option_2A!K116","v":1.6666799999999999},{"$f":"VLOOKUP($J98,General!$D$27:$E$46,2)*K98","v":1.2752341248596335}]
[null,null,null,{"$f":"Option_2A!D117","v":"Year 4"},null,null,null,null,null,{"$f":"Option_2A!J117","v":2030},{"$f":"Option_2A!K117","v":1.6666799999999999},{"$f":"VLOOKUP($J99,General!$D$27:$E$46,2)*K99","v":1.2087527249854346}]
[null,null,null,{"$f":"Option_2A!D118","v":"Year 5"},null,null,null,null,null,{"$f":"Option_2A!J118","v":2031},{"$f":"Option_2A!K118","v":1.6666799999999999},{"$f":"VLOOKUP($J100,General!$D$27:$E$46,2)*K100","v":1.145737180080981}]
[null,null,null,{"$f":"Option_2A!D119","v":"Power quality reactive program for customer complaints"}]
[null,null,null,{"$f":"Option_2A!D120","v":"Year 1"},null,null,null,null,null,{"$f":"Option_2A!J120","v":2027},{"$f":"Option_2A!K120","v":0.12322},{"$f":"VLOOKUP($J102,General!$D$27:$E$46,2)*K102","v":0.10493583570073063}]
[null,null,null,{"$f":"Option_2A!D121","v":"Year 2"},null,null,null,null,null,{"$f":"Option_2A!J121","v":2028},{"$f":"Option_2A!K121","v":0.12322},{"$f":"VLOOKUP($J103,General!$D$27:$E$46,2)*K103","v":9.9465247109697286E-2}]
[null,null,null,{"$f":"Option_2A!D122","v":"Year 3"},null,null,null,null,null,{"$f":"Option_2A!J122","v":2029},{"$f":"Option_2A!K122","v":0.12322},{"$f":"VLOOKUP($J104,General!$D$27:$E$46,2)*K104","v":9.4279855080281777E-2}]
[null,null,null,{"$f":"Option_2A!D123","v":"Year 4"},null,null,null,null,null,{"$f":"Option_2A!J123","v":2030},{"$f":"Option_2A!K123","v":0.12322},{"$f":"VLOOKUP($J105,General!$D$27:$E$46,2)*K105","v":8.9364791545290798E-2}]
[null,null,null,{"$f":"Option_2A!D124","v":"Year 5"},null,null,null,null,null,{"$f":"Option_2A!J124","v":2031},{"$f":"Option_2A!K124","v":0.12322},{"$f":"VLOOKUP($J106,General!$D$27:$E$46,2)*K106","v":8.4705963550038677E-2}]
[]
[null,null,null,"End"]

{"sheet":"Option_3B","index":9,"n_rows":108,"n_cols":19,"rows_kept":108,"cut":false,"hidden":false,"merged":[]}
[null,null,null,"Voltage PQ Management Strategy",null,null,null,"Section Check:",{"$f":"IF(COUNTA($A$8:$A$109)=COUNTIF($A$8:$A$109,0),\"Ok\",\"Check\")","v":"Ok"},null,null,"Overall Check:","Ok",null,"Legend:","Input","Internal","Select","Calculation"]
[null,null,null,{"$f":"Summary!$K14&\" - \"&Summary!$D16","v":"Option 3 - Traditional augmentation - EDCOP 4% NON-COMPLIANCE (MAINTAINING PERFORMANCE)"}]
[]
[]
[]
[null,"Copyright Jemena Limited. All rights reserved. Jemena is not liable for any loss caused by reliance on this document."]
[]
[null,"General Assumptions"]
[]
[null,null,{"$f":"B8","v":"General Assumptions"}]
[]
[null,null,null,{"$f":"C10","v":"General Assumptions"},"Source","Unit","Basis"]
[null,null,null,null,null,null,null,null,null,"Start","End"]
[null,null,null,"Next Regulatory Period","AM","Year","n/a",null,null,{"$f":"General!J16","v":2027},{"$f":"J14+4","v":2031}]
[null,null,null,"This Regulatory Period","AM","Year","n/a",null,null,{"$f":"K15-4","v":2022},{"$f":"J14-1","v":2026}]
[]
[null,"Option"]
[]
[null,null,"Summary"]
[]
[null,null,null,{"$f":"C19&\" ($M)\"","v":"Summary ($M)"},"Period",null,null,null,null,"Total DVM Cost","Total Cost","PV Total Cost"]
[]
[null,null,null,{"$f":"D14","v":"Next Regulatory Period"},{"$f":"$J$14&\" - \"&$K$14","v":"2027 - 2031"},null,null,null,null,0,{"$f":"SUMIFS($K$30:$K$106,$J$30:$J$106,\">=\"&$J14,$J$30:$J$106,\"<=\"&$K14)","v":26.409259999999996},{"$f":"SUMIFS($L$30:$L$106,$J$30:$J$106,\">=\"&$J14,$J$30:$J$106,\"<=\"&$K14)","v":20.079387354092542}]
[null,null,null,{"$f":"D15","v":"This Regulatory Period"},{"$f":"$J$15&\" - \"&$K$15","v":"2022 - 2026"},null,null,null,null,{"$f":"Option_2B!J24","v":7.5111570025283925},{"$f":"SUMIFS($K$30:$K$79,$J$30:$J$79,\">=\"&$J15,$J$30:$J$79,\"<=\"&$K15)","v":6.6},{"$f":"SUMIFS($L$30:$L$79,$J$30:$J$79,\">=\"&$J15,$J$30:$J$79,\"<=\"&$K15)","v":6.2619033714426902}]
[]
[null,null,"Calculations"]
[]
[null,null,null,{"$f":"Summary!$H26&\" - \"&Summary!$D16","v":"Option 3 - EDCOP 4% NON-COMPLIANCE (MAINTAINING PERFORMANCE)"},null,null,null,null,null,"Indicative Year","Cost ($M)","PV Cost ($M)"]
[null,null,null,"PROJECT & LOCATION",null,null,null,null,"TOTAL",{"$f":"J14&\" - \"&J14+General!J15-1","v":"2027 - 2031"},{"$f":"SUMIFS(K$31:K$106,$J$31:$J$106,\">=\"&$J$14,$J$31:$J$106,\"<=\"&J14+General!J15-1)","v":26.409259999999996},{"$f":"SUMIFS(L$31:L$106,$J$31:$J$106,\">=\"&$J$14,$J$31:$J$106,\"<=\"&J14+General!J15-1)","v":20.079387354092542}]
[null,null,null,"Reactors"]
[null,null,null,{"$f":"Option_2B!D38","v":"SBY"},null,null,null,null,null,{"$f":"Option_2B!J38","v":2028},{"$f":"Option_2B!K38","v":2.3165800000000001},{"$f":"VLOOKUP($J31,General!$D$27:$E$46,2)*K31","v":1.8699821631990143}]
[null,null,null,{"$f":"Option_2B!D39","v":"SHM"},null,null,null,null,null,{"$f":"Option_2B!J39","v":2029},{"$f":"Option_2B!K39","v":2.59457},{"$f":"VLOOKUP($J32,General!$D$27:$E$46,2)*K32","v":1.9851946404451122}]
[null,null,null,{"$f":"Option_2B!D40","v":"COO"},null,null,null,null,null,{"$f":"Option_2B!J40","v":2030},{"$f":"Option_2B!K40","v":2.6623600000000001},{"$f":"VLOOKUP($J33,General!$D$27:$E$46,2)*K33","v":1.9308654960113651}]
[null,null,null,{"$f":"Option_2B!D41","v":"ST"},null,null,null,null,null,{"$f":"Option_2B!J41","v":2031},{"$f":"Option_2B!K41","v":2.1589499999999999},{"$f":"VLOOKUP($J34,General!$D$27:$E$46,2)*K34","v":1.4841416978279176}]
[null,null,null,{"$f":"Option_2B!D42","v":"BD"},null,null,null,null,null,{"$f":"Option_2B!J42","v":2031},{"$f":"Option_2B!K42","v":2.4241000000000001},{"$f":"VLOOKUP($J35,General!$D$27:$E$46,2)*K35","v":1.6664155676160428}]
[null,null,null,"VAr controllers"]
[null,null,null,{"$f":"Option_2B!D44","v":"CN No.1"},null,null,null,null,null,{"$f":"Option_2B!J44","v":2027},{"$f":"Option_2B!K44","v":0.26951999999999998},{"$f":"VLOOKUP($J37,General!$D$27:$E$46,2)*K37","v":0.22952691477082388}]
[null,null,null,{"$f":"Option_2B!D45","v":"CN No.2"},null,null,null,null,null,{"$f":"Option_2B!J45","v":2027},{"$f":"Option_2B!K45","v":0.26951999999999998},{"$f":"VLOOKUP($J38,General!$D$27:$E$46,2)*K38","v":0.22952691477082388}]
[null,null,null,{"$f":"Option_2B!D46","v":"CN No.3A & 3B"},null,null,null,null,null,{"$f":"Option_2B!J46","v":2028},{"$f":"Option_2B!K46","v":0.26951999999999998},{"$f":"VLOOKUP($J39,General!$D$27:$E$46,2)*K39","v":0.21756105665480938}]
[null,null,null,{"$f":"Option_2B!D47","v":"CS No.2"},null,null,null,null,null,{"$f":"Option_2B!J47","v":2028},{"$f":"Option_2B!K47","v":0.26951999999999998},{"$f":"VLOOKUP($J40,General!$D$27:$E$46,2)*K40","v":0.21756105665480938}]
[null,null,null,{"$f":"Option_2B!D48","v":"ES No.1"},null,null,null,null,null,{"$f":"Option_2B!J48","v":2028},{"$f":"Option_2B!K48","v":0.26951999999999998},{"$f":"VLOOKUP($J41,General!$D$27:$E$46,2)*K41","v":0.21756105665480938}]
[null,null,null,{"$f":"Option_2B!D49","v":"FF No.1"},null,null,null,null,null,{"$f":"Option_2B!J49","v":2029},{"$f":"Option_2B!K49","v":0.26951999999999998},{"$f":"VLOOKUP($J42,General!$D$27:$E$46,2)*K42","v":0.20621901104721266}]
[null,null,null,{"$f":"Option_2B!D50","v":"NH No.1"},null,null,null,null,null,{"$f":"Option_2B!J50","v":2029},{"$f":"Option_2B!K50","v":0.26951999999999998},{"$f":"VLOOKUP($J43,General!$D$27:$E$46,2)*K43","v":0.20621901104721266}]
[null,null,null,{"$f":"Option_2B!D51","v":"ST No.1"},null,null,null,null,null,{"$f":"Option_2B!J51","v":2030},{"$f":"Option_2B!K51","v":0.26951999999999998},{"$f":"VLOOKUP($J44,General!$D$27:$E$46,2)*K44","v":0.19546825691678929}]
[null,null,null,{"$f":"Option_2B!D52","v":"ST No.2"},null,null,null,null,null,{"$f":"Option_2B!J52","v":2030},{"$f":"Option_2B!K52","v":0.26951999999999998},{"$f":"VLOOKUP($J45,General!$D$27:$E$46,2)*K45","v":0.19546825691678929}]
[null,null,null,{"$f":"Option_2B!D53","v":"TH No.1"},null,null,null,null,null,{"$f":"Option_2B!J53","v":2030},{"$f":"Option_2B!K53","v":0.26951999999999998},{"$f":"VLOOKUP($J46,General!$D$27:$E$46,2)*K46","v":0.19546825691678929}]
[null,null,null,{"$f":"Option_2B!D54","v":"TH No.2"},null,null,null,null,null,{"$f":"Option_2B!J54","v":2031},{"$f":"Option_2B!K54","v":0.26951999999999998},{"$f":"VLOOKUP($J47,General!$D$27:$E$46,2)*K47","v":0.18527796864150645}]
[null,null,null,"Traditional for spread"]
[]
[]
[null,null,null,{"$f":"Option_2B!D58","v":"AW0"},null,null,null,null,null,{"$f":"Option_2B!J58","v":2028},{"$f":"Option_2B!K58","v":4.1070000000000002E-2},{"$f":"VLOOKUP($J51,General!$D$27:$E$46,2)*K51","v":3.3152391647421425E-2}]
[null,null,null,{"$f":"Option_2B!D59","v":"NS0"},null,null,null,null,null,{"$f":"Option_2B!J59","v":2028},{"$f":"Option_2B!K59","v":4.1070000000000002E-2},{"$f":"VLOOKUP($J52,General!$D$27:$E$46,2)*K52","v":3.3152391647421425E-2}]
[]
[]
[]
[null,null,null,{"$f":"Option_2B!D63","v":"PTN"},null,null,null,null,null,{"$f":"Option_2B!J63","v":2029},{"$f":"Option_2B!K63","v":4.1070000000000002E-2},{"$f":"VLOOKUP($J56,General!$D$27:$E$46,2)*K56","v":3.1424067912247791E-2}]
[]
[]
[]
[]
[null,null,null,{"$f":"Option_2B!D68","v":"HB0"},null,null,null,null,null,{"$f":"Option_2B!J68","v":2031},{"$f":"Option_2B!K68","v":4.1070000000000002E-2},{"$f":"VLOOKUP($J61,General!$D$27:$E$46,2)*K61","v":2.8233029727317716E-2}]
[]
[]
[null,null,null,"Traditional for worst served over-volt"]
[null,null,null,{"$f":"Option_2B!D72","v":"AW0"},null,null,null,null,null,{"$f":"Option_2B!J72","v":2024},1.1000000000000001,{"$f":"VLOOKUP($J65,General!$D$27:$E$46,2)*K65","v":1.1000000000000001}]
[null,null,null,{"$f":"Option_2B!D73","v":"CS0"},null,null,null,null,null,{"$f":"Option_2B!J73","v":2024},1.1000000000000001,{"$f":"VLOOKUP($J66,General!$D$27:$E$46,2)*K66","v":1.1000000000000001}]
[null,null,null,{"$f":"Option_2B!D74","v":"PTN"},null,null,null,null,null,{"$f":"Option_2B!J74","v":2025},1.1000000000000001,{"$f":"VLOOKUP($J67,General!$D$27:$E$46,2)*K67","v":1.0426540284360191}]
[null,null,null,{"$f":"Option_2B!D75","v":"HB0"},null,null,null,null,null,{"$f":"Option_2B!J75","v":2025},1.1000000000000001,{"$f":"VLOOKUP($J68,General!$D$27:$E$46,2)*K68","v":1.0426540284360191}]
[null,null,null,{"$f":"Option_2B!D76","v":"SBY"},null,null,null,null,null,{"$f":"Option_2B!J76","v":2026},1.1000000000000001,{"$f":"VLOOKUP($J69,General!$D$27:$E$46,2)*K69","v":0.98829765728532626}]
[null,null,null,{"$f":"Option_2B!D77","v":"FE0"},null,null,null,null,null,{"$f":"Option_2B!J77","v":2026},1.1000000000000001,{"$f":"VLOOKUP($J70,General!$D$27:$E$46,2)*K70","v":0.98829765728532626}]
[null,null,null,{"$f":"Option_2B!D78","v":"NS0"},null,null,null,null,null,{"$f":"Option_2B!J78","v":2027},1.1000000000000001,{"$f":"VLOOKUP($J71,General!$D$27:$E$46,2)*K71","v":0.93677503060220502}]
[null,null,null,{"$f":"Option_2B!D79","v":"ST0"},null,null,null,null,null,{"$f":"Option_2B!J79","v":2027},1.1000000000000001,{"$f":"VLOOKUP($J72,General!$D$27:$E$46,2)*K72","v":0.93677503060220502}]
[]
[]
[]
[]
[]
[]
[]
[]
[]
[]
[]
[]
[]
[]
[]
[]
[]
[]
[]
[]
[]
[]
[null,null,null,{"$f":"Option_2B!D113","v":"Traditional for worst served under-volt"}]
[null,null,null,{"$f":"Option_2B!D114","v":"Year 1"},null,null,null,null,null,{"$f":"Option_2B!J114","v":2027},{"$f":"Option_2B!K114","v":1.6615199999999999},{"$f":"VLOOKUP($J96,General!$D$27:$E$46,2)*K96","v":1.414973135314705}]
[null,null,null,{"$f":"Option_2B!D115","v":"Year 2"},null,null,null,null,null,{"$f":"Option_2B!J115","v":2028},{"$f":"Option_2B!K115","v":1.6615199999999999},{"$f":"VLOOKUP($J97,General!$D$27:$E$46,2)*K97","v":1.3412067633314739}]
[null,null,null,{"$f":"Option_2B!D116","v":"Year 3"},null,null,null,null,null,{"$f":"Option_2B!J116","v":2029},{"$f":"Option_2B!K116","v":1.6615199999999999},{"$f":"VLOOKUP($J98,General!$D$27:$E$46,2)*K98","v":1.2712860315938141}]
[null,null,null,{"$f":"Option_2B!D117","v":"Year 4"},null,null,null,null,null,{"$f":"Option_2B!J117","v":2030},{"$f":"Option_2B!K117","v":1.6615199999999999},{"$f":"VLOOKUP($J99,General!$D$27:$E$46,2)*K99","v":1.2050104564870279}]
[null,null,null,{"$f":"Option_2B!D118","v":"Year 5"},null,null,null,null,null,{"$f":"Option_2B!J118","v":2031},{"$f":"Option_2B!K118","v":1.6615199999999999},{"$f":"VLOOKUP($J100,General!$D$27:$E$46,2)*K100","v":1.1421900061488417}]
[null,null,null,{"$f":"Option_2B!D119","v":"Power quality reactive program for customer complaints"}]
[null,null,null,{"$f":"Option_2B!D120","v":"Year 1"},null,null,null,null,null,{"$f":"Option_2B!J120","v":2027},{"$f":"Option_2B!K120","v":0.12322},{"$f":"VLOOKUP($J102,General!$D$27:$E$46,2)*K102","v":0.10493583570073063}]
[null,null,null,{"$f":"Option_2B!D121","v":"Year 2"},null,null,null,null,null,{"$f":"Option_2B!J121","v":2028},{"$f":"Option_2B!K121","v":0.12322},{"$f":"VLOOKUP($J103,General!$D$27:$E$46,2)*K103","v":9.9465247109697286E-2}]
[null,null,null,{"$f":"Option_2B!D122","v":"Year 3"},null,null,null,null,null,{"$f":"Option_2B!J122","v":2029},{"$f":"Option_2B!K122","v":0.12322},{"$f":"VLOOKUP($J104,General!$D$27:$E$46,2)*K104","v":9.4279855080281777E-2}]
[null,null,null,{"$f":"Option_2B!D123","v":"Year 4"},null,null,null,null,null,{"$f":"Option_2B!J123","v":2030},{"$f":"Option_2B!K123","v":0.12322},{"$f":"VLOOKUP($J105,General!$D$27:$E$46,2)*K105","v":8.9364791545290798E-2}]
[null,null,null,{"$f":"Option_2B!D124","v":"Year 5"},null,null,null,null,null,{"$f":"Option_2B!J124","v":2031},{"$f":"Option_2B!K124","v":0.12322},{"$f":"VLOOKUP($J106,General!$D$27:$E$46,2)*K106","v":8.4705963550038677E-2}]
[]
[null,null,null,"End"]

{"sheet":"Option_3C","index":10,"n_rows":108,"n_cols":19,"rows_kept":108,"cut":false,"hidden":false,"merged":[]}
[null,null,null,"Voltage PQ Management Strategy",null,null,null,"Section Check:",{"$f":"IF(COUNTA($A$8:$A$109)=COUNTIF($A$8:$A$109,0),\"Ok\",\"Check\")","v":"Ok"},null,null,"Overall Check:","Ok",null,"Legend:","Input","Internal","Select","Calculation"]
[null,null,null,{"$f":"Summary!$K14&\" - \"&Summary!$D16","v":"Option 3 - Traditional augmentation - EDCOP 4% NON-COMPLIANCE (MAINTAINING PERFORMANCE)"}]
[]
[]
[]
[null,"Copyright Jemena Limited. All rights reserved. Jemena is not liable for any loss caused by reliance on this document."]
[]
[null,"General Assumptions"]
[]
[null,null,{"$f":"B8","v":"General Assumptions"}]
[]
[null,null,null,{"$f":"C10","v":"General Assumptions"},"Source","Unit","Basis"]
[null,null,null,null,null,null,null,null,null,"Start","End"]
[null,null,null,"Next Regulatory Period","AM","Year","n/a",null,null,{"$f":"General!J16","v":2027},{"$f":"J14+4","v":2031}]
[null,null,null,"This Regulatory Period","AM","Year","n/a",null,null,{"$f":"K15-4","v":2022},{"$f":"J14-1","v":2026}]
[]
[null,"Option"]
[]
[null,null,"Summary"]
[]
[null,null,null,{"$f":"C19&\" ($M)\"","v":"Summary ($M)"},"Period",null,null,null,null,"Total DVM Cost","Total Cost","PV Total Cost"]
[]
[null,null,null,{"$f":"D14","v":"Next Regulatory Period"},{"$f":"$J$14&\" - \"&$K$14","v":"2027 - 2031"},null,null,null,null,0,{"$f":"SUMIFS($K$30:$K$106,$J$30:$J$106,\">=\"&$J14,$J$30:$J$106,\"<=\"&$K14)","v":30.083629999999992},{"$f":"SUMIFS($L$30:$L$106,$J$30:$J$106,\">=\"&$J14,$J$30:$J$106,\"<=\"&$K14)","v":23.080852425299465}]
[null,null,null,{"$f":"D15","v":"This Regulatory Period"},{"$f":"$J$15&\" - \"&$K$15","v":"2022 - 2026"},null,null,null,null,{"$f":"Option_2C!J24","v":7.5111570025283925},{"$f":"SUMIFS($K$30:$K$79,$J$30:$J$79,\">=\"&$J15,$J$30:$J$79,\"<=\"&$K15)","v":6.6},{"$f":"SUMIFS($L$30:$L$79,$J$30:$J$79,\">=\"&$J15,$J$30:$J$79,\"<=\"&$K15)","v":6.2619033714426902}]
[]
[null,null,"Calculations"]
[]
[null,null,null,{"$f":"Summary!$H26&\" - \"&Summary!$D21","v":"Option 3 - EDCOP 3% NON-COMPLIANCE (IMPROVED PERFORMANCE)"},null,null,null,null,null,"Indicative Year","Cost ($M)","PV Cost ($M)"]
[null,null,null,"PROJECT & LOCATION",null,null,null,null,"TOTAL",{"$f":"J14&\" - \"&J14+General!J15-1","v":"2027 - 2031"},{"$f":"SUMIFS(K$31:K$106,$J$31:$J$106,\">=\"&$J$14,$J$31:$J$106,\"<=\"&J14+General!J15-1)","v":30.083629999999992},{"$f":"SUMIFS(L$31:L$106,$J$31:$J$106,\">=\"&$J$14,$J$31:$J$106,\"<=\"&J14+General!J15-1)","v":23.080852425299465}]
[null,null,null,"Reactors"]
[null,null,null,{"$f":"Option_2C!D38","v":"SBY"},null,null,null,null,null,{"$f":"Option_2C!J38","v":2028},{"$f":"Option_2C!K38","v":2.3165800000000001},{"$f":"VLOOKUP($J31,General!$D$27:$E$46,2)*K31","v":1.8699821631990143}]
[null,null,null,{"$f":"Option_2C!D39","v":"SHM"},null,null,null,null,null,{"$f":"Option_2C!J39","v":2029},{"$f":"Option_2C!K39","v":2.59457},{"$f":"VLOOKUP($J32,General!$D$27:$E$46,2)*K32","v":1.9851946404451122}]
[null,null,null,{"$f":"Option_2C!D40","v":"COO"},null,null,null,null,null,{"$f":"Option_2C!J40","v":2030},{"$f":"Option_2C!K40","v":2.6623600000000001},{"$f":"VLOOKUP($J33,General!$D$27:$E$46,2)*K33","v":1.9308654960113651}]
[null,null,null,{"$f":"Option_2C!D41","v":"ST"},null,null,null,null,null,{"$f":"Option_2C!J41","v":2031},{"$f":"Option_2C!K41","v":2.1589499999999999},{"$f":"VLOOKUP($J34,General!$D$27:$E$46,2)*K34","v":1.4841416978279176}]
[null,null,null,{"$f":"Option_2C!D42","v":"BD"},null,null,null,null,null,{"$f":"Option_2C!J42","v":2031},{"$f":"Option_2C!K42","v":2.4241000000000001},{"$f":"VLOOKUP($J35,General!$D$27:$E$46,2)*K35","v":1.6664155676160428}]
[null,null,null,"VAr controllers"]
[null,null,null,{"$f":"Option_2C!D44","v":"CN No.1"},null,null,null,null,null,{"$f":"Option_2C!J44","v":2027},{"$f":"Option_2C!K44","v":0.26951999999999998},{"$f":"VLOOKUP($J37,General!$D$27:$E$46,2)*K37","v":0.22952691477082388}]
[null,null,null,{"$f":"Option_2C!D45","v":"CN No.2"},null,null,null,null,null,{"$f":"Option_2C!J45","v":2027},{"$f":"Option_2C!K45","v":0.26951999999999998},{"$f":"VLOOKUP($J38,General!$D$27:$E$46,2)*K38","v":0.22952691477082388}]
[null,null,null,{"$f":"Option_2C!D46","v":"CN No.3A & 3B"},null,null,null,null,null,{"$f":"Option_2C!J46","v":2028},{"$f":"Option_2C!K46","v":0.26951999999999998},{"$f":"VLOOKUP($J39,General!$D$27:$E$46,2)*K39","v":0.21756105665480938}]
[null,null,null,{"$f":"Option_2C!D47","v":"CS No.2"},null,null,null,null,null,{"$f":"Option_2C!J47","v":2028},{"$f":"Option_2C!K47","v":0.26951999999999998},{"$f":"VLOOKUP($J40,General!$D$27:$E$46,2)*K40","v":0.21756105665480938}]
[null,null,null,{"$f":"Option_2C!D48","v":"ES No.1"},null,null,null,null,null,{"$f":"Option_2C!J48","v":2028},{"$f":"Option_2C!K48","v":0.26951999999999998},{"$f":"VLOOKUP($J41,General!$D$27:$E$46,2)*K41","v":0.21756105665480938}]
[null,null,null,{"$f":"Option_2C!D49","v":"FF No.1"},null,null,null,null,null,{"$f":"Option_2C!J49","v":2029},{"$f":"Option_2C!K49","v":0.26951999999999998},{"$f":"VLOOKUP($J42,General!$D$27:$E$46,2)*K42","v":0.20621901104721266}]
[null,null,null,{"$f":"Option_2C!D50","v":"NH No.1"},null,null,null,null,null,{"$f":"Option_2C!J50","v":2029},{"$f":"Option_2C!K50","v":0.26951999999999998},{"$f":"VLOOKUP($J43,General!$D$27:$E$46,2)*K43","v":0.20621901104721266}]
[null,null,null,{"$f":"Option_2C!D51","v":"ST No.1"},null,null,null,null,null,{"$f":"Option_2C!J51","v":2030},{"$f":"Option_2C!K51","v":0.26951999999999998},{"$f":"VLOOKUP($J44,General!$D$27:$E$46,2)*K44","v":0.19546825691678929}]
[null,null,null,{"$f":"Option_2C!D52","v":"ST No.2"},null,null,null,null,null,{"$f":"Option_2C!J52","v":2030},{"$f":"Option_2C!K52","v":0.26951999999999998},{"$f":"VLOOKUP($J45,General!$D$27:$E$46,2)*K45","v":0.19546825691678929}]
[null,null,null,{"$f":"Option_2C!D53","v":"TH No.1"},null,null,null,null,null,{"$f":"Option_2C!J53","v":2030},{"$f":"Option_2C!K53","v":0.26951999999999998},{"$f":"VLOOKUP($J46,General!$D$27:$E$46,2)*K46","v":0.19546825691678929}]
[null,null,null,{"$f":"Option_2C!D54","v":"TH No.2"},null,null,null,null,null,{"$f":"Option_2C!J54","v":2031},{"$f":"Option_2C!K54","v":0.26951999999999998},{"$f":"VLOOKUP($J47,General!$D$27:$E$46,2)*K47","v":0.18527796864150645}]
[null,null,null,"Traditional for spread"]
[null,null,null,{"$f":"Option_2C!D56","v":"EPN"},null,null,null,null,null,{"$f":"Option_2C!J56","v":2027},{"$f":"Option_2C!K56","v":4.1070000000000002E-2},{"$f":"VLOOKUP($J49,General!$D$27:$E$46,2)*K49","v":3.4975773188029601E-2}]
[null,null,null,{"$f":"Option_2C!D57","v":"EP0"},null,null,null,null,null,{"$f":"Option_2C!J57","v":2027},{"$f":"Option_2C!K57","v":4.1070000000000002E-2},{"$f":"VLOOKUP($J50,General!$D$27:$E$46,2)*K50","v":3.4975773188029601E-2}]
[null,null,null,{"$f":"Option_2C!D58","v":"AW0"},null,null,null,null,null,{"$f":"Option_2C!J58","v":2028},{"$f":"Option_2C!K58","v":4.1070000000000002E-2},{"$f":"VLOOKUP($J51,General!$D$27:$E$46,2)*K51","v":3.3152391647421425E-2}]
[null,null,null,{"$f":"Option_2C!D59","v":"NS0"},null,null,null,null,null,{"$f":"Option_2C!J59","v":2028},{"$f":"Option_2C!K59","v":4.1070000000000002E-2},{"$f":"VLOOKUP($J52,General!$D$27:$E$46,2)*K52","v":3.3152391647421425E-2}]
[null,null,null,{"$f":"Option_2C!D60","v":"FT0"},null,null,null,null,null,{"$f":"Option_2C!J60","v":2028},{"$f":"Option_2C!K60","v":4.1070000000000002E-2},{"$f":"VLOOKUP($J53,General!$D$27:$E$46,2)*K53","v":3.3152391647421425E-2}]
[null,null,null,{"$f":"Option_2C!D61","v":"TMA"},null,null,null,null,null,{"$f":"Option_2C!J61","v":2028},{"$f":"Option_2C!K61","v":4.1070000000000002E-2},{"$f":"VLOOKUP($J54,General!$D$27:$E$46,2)*K54","v":3.3152391647421425E-2}]
[null,null,null,{"$f":"Option_2C!D62","v":"TH0"},null,null,null,null,null,{"$f":"Option_2C!J62","v":2029},{"$f":"Option_2C!K62","v":4.1070000000000002E-2},{"$f":"VLOOKUP($J55,General!$D$27:$E$46,2)*K55","v":3.1424067912247791E-2}]
[null,null,null,{"$f":"Option_2C!D63","v":"PTN"},null,null,null,null,null,{"$f":"Option_2C!J63","v":2029},{"$f":"Option_2C!K63","v":4.1070000000000002E-2},{"$f":"VLOOKUP($J56,General!$D$27:$E$46,2)*K56","v":3.1424067912247791E-2}]
[null,null,null,{"$f":"Option_2C!D64","v":"YVE"},null,null,null,null,null,{"$f":"Option_2C!J64","v":2029},{"$f":"Option_2C!K64","v":4.1070000000000002E-2},{"$f":"VLOOKUP($J57,General!$D$27:$E$46,2)*K57","v":3.1424067912247791E-2}]
[null,null,null,{"$f":"Option_2C!D65","v":"FF0"},null,null,null,null,null,{"$f":"Option_2C!J65","v":2029},{"$f":"Option_2C!K65","v":4.1070000000000002E-2},{"$f":"VLOOKUP($J58,General!$D$27:$E$46,2)*K58","v":3.1424067912247791E-2}]
[null,null,null,{"$f":"Option_2C!D66","v":"BY0"},null,null,null,null,null,{"$f":"Option_2C!J66","v":2029},{"$f":"Option_2C!K66","v":4.1070000000000002E-2},{"$f":"VLOOKUP($J59,General!$D$27:$E$46,2)*K59","v":3.1424067912247791E-2}]
[null,null,null,{"$f":"Option_2C!D67","v":"ES0"},null,null,null,null,null,{"$f":"Option_2C!J67","v":2030},{"$f":"Option_2C!K67","v":4.1070000000000002E-2},{"$f":"VLOOKUP($J60,General!$D$27:$E$46,2)*K60","v":2.9785846362320186E-2}]
[null,null,null,{"$f":"Option_2C!D68","v":"HB0"},null,null,null,null,null,{"$f":"Option_2C!J68","v":2031},{"$f":"Option_2C!K68","v":4.1070000000000002E-2},{"$f":"VLOOKUP($J61,General!$D$27:$E$46,2)*K61","v":2.8233029727317716E-2}]
[null,null,null,{"$f":"Option_2C!D69","v":"PV0"},null,null,null,null,null,{"$f":"Option_2C!J69","v":2031},{"$f":"Option_2C!K69","v":4.1070000000000002E-2},{"$f":"VLOOKUP($J62,General!$D$27:$E$46,2)*K62","v":2.8233029727317716E-2}]
[null,null,null,{"$f":"Option_2C!D70","v":"BMS"},null,null,null,null,null,{"$f":"Option_2C!J70","v":2031},{"$f":"Option_2C!K70","v":4.1070000000000002E-2},{"$f":"VLOOKUP($J63,General!$D$27:$E$46,2)*K63","v":2.8233029727317716E-2}]
[null,null,null,"Traditional for worst served over-volt"]
[null,null,null,{"$f":"Option_2C!D72","v":"AW0"},null,null,null,null,null,{"$f":"Option_2C!J72","v":2024},1.1000000000000001,{"$f":"VLOOKUP($J65,General!$D$27:$E$46,2)*K65","v":1.1000000000000001}]
[null,null,null,{"$f":"Option_2C!D73","v":"CS0"},null,null,null,null,null,{"$f":"Option_2C!J73","v":2024},1.1000000000000001,{"$f":"VLOOKUP($J66,General!$D$27:$E$46,2)*K66","v":1.1000000000000001}]
[null,null,null,{"$f":"Option_2C!D74","v":"PTN"},null,null,null,null,null,{"$f":"Option_2C!J74","v":2025},1.1000000000000001,{"$f":"VLOOKUP($J67,General!$D$27:$E$46,2)*K67","v":1.0426540284360191}]
[null,null,null,{"$f":"Option_2C!D75","v":"HB0"},null,null,null,null,null,{"$f":"Option_2C!J75","v":2025},1.1000000000000001,{"$f":"VLOOKUP($J68,General!$D$27:$E$46,2)*K68","v":1.0426540284360191}]
[null,null,null,{"$f":"Option_2C!D76","v":"SBY"},null,null,null,null,null,{"$f":"Option_2C!J76","v":2026},1.1000000000000001,{"$f":"VLOOKUP($J69,General!$D$27:$E$46,2)*K69","v":0.98829765728532626}]
[null,null,null,{"$f":"Option_2C!D77","v":"FE0"},null,null,null,null,null,{"$f":"Option_2C!J77","v":2026},1.1000000000000001,{"$f":"VLOOKUP($J70,General!$D$27:$E$46,2)*K70","v":0.98829765728532626}]
[null,null,null,{"$f":"Option_2C!D78","v":"NS0"},null,null,null,null,null,{"$f":"Option_2C!J78","v":2027},1.1000000000000001,{"$f":"VLOOKUP($J71,General!$D$27:$E$46,2)*K71","v":0.93677503060220502}]
[null,null,null,{"$f":"Option_2C!D79","v":"ST0"},null,null,null,null,null,{"$f":"Option_2C!J79","v":2027},1.1000000000000001,{"$f":"VLOOKUP($J72,General!$D$27:$E$46,2)*K72","v":0.93677503060220502}]
[null,null,null,{"$f":"Option_2C!D80","v":"SHM"},null,null,null,null,null,{"$f":"Option_2C!J80","v":2027},1.1000000000000001,{"$f":"VLOOKUP($J73,General!$D$27:$E$46,2)*K73","v":0.93677503060220502}]
[null,null,null,{"$f":"Option_2C!D81","v":"TT0"},null,null,null,null,null,{"$f":"Option_2C!J81","v":2028},1.1000000000000001,{"$f":"VLOOKUP($J74,General!$D$27:$E$46,2)*K74","v":0.88793841763242187}]
[null,null,null,{"$f":"Option_2C!D82","v":"BD0"},null,null,null,null,null,{"$f":"Option_2C!J82","v":2028},1.1000000000000001,{"$f":"VLOOKUP($J75,General!$D$27:$E$46,2)*K75","v":0.88793841763242187}]
[]
[]
[]
[]
[]
[]
[]
[]
[]
[]
[]
[]
[]
[]
[]
[]
[]
[]
[]
[null,null,null,{"$f":"Option_2C!D113","v":"Traditional for worst served under-volt"}]
[null,null,null,{"$f":"Option_2C!D114","v":"Year 1"},null,null,null,null,null,{"$f":"Option_2C!J114","v":2027},{"$f":"Option_2C!K114","v":1.6460399999999999},{"$f":"VLOOKUP($J96,General!$D$27:$E$46,2)*K96","v":1.4017901557931394}]
[null,null,null,{"$f":"Option_2C!D115","v":"Year 2"},null,null,null,null,null,{"$f":"Option_2C!J115","v":2028},{"$f":"Option_2C!K115","v":1.6460399999999999},{"$f":"VLOOKUP($J97,General!$D$27:$E$46,2)*K97","v":1.3287110481451558}]
[null,null,null,{"$f":"Option_2C!D116","v":"Year 3"},null,null,null,null,null,{"$f":"Option_2C!J116","v":2029},{"$f":"Option_2C!K116","v":1.6460399999999999},{"$f":"VLOOKUP($J98,General!$D$27:$E$46,2)*K98","v":1.2594417517963563}]
[null,null,null,{"$f":"Option_2C!D117","v":"Year 4"},null,null,null,null,null,{"$f":"Option_2C!J117","v":2030},{"$f":"Option_2C!K117","v":1.6460399999999999},{"$f":"VLOOKUP($J99,General!$D$27:$E$46,2)*K99","v":1.1937836509918072}]
[null,null,null,{"$f":"Option_2C!D118","v":"Year 5"},null,null,null,null,null,{"$f":"Option_2C!J118","v":2031},{"$f":"Option_2C!K118","v":1.6460399999999999},{"$f":"VLOOKUP($J100,General!$D$27:$E$46,2)*K100","v":1.1315484843524239}]
[null,null,null,{"$f":"Option_2C!D119","v":"Power quality reactive program for customer complaints"}]
[null,null,null,{"$f":"Option_2C!D120","v":"Year 1"},null,null,null,null,null,{"$f":"Option_2C!J120","v":2027},{"$f":"Option_2C!K120","v":0.12322},{"$f":"VLOOKUP($J102,General!$D$27:$E$46,2)*K102","v":0.10493583570073063}]
[null,null,null,{"$f":"Option_2C!D121","v":"Year 2"},null,null,null,null,null,{"$f":"Option_2C!J121","v":2028},{"$f":"Option_2C!K121","v":0.12322},{"$f":"VLOOKUP($J103,General!$D$27:$E$46,2)*K103","v":9.9465247109697286E-2}]
[null,null,null,{"$f":"Option_2C!D122","v":"Year 3"},null,null,null,null,null,{"$f":"Option_2C!J122","v":2029},{"$f":"Option_2C!K122","v":0.12322},{"$f":"VLOOKUP($J104,General!$D$27:$E$46,2)*K104","v":9.4279855080281777E-2}]
[null,null,null,{"$f":"Option_2C!D123","v":"Year 4"},null,null,null,null,null,{"$f":"Option_2C!J123","v":2030},{"$f":"Option_2C!K123","v":0.12322},{"$f":"VLOOKUP($J105,General!$D$27:$E$46,2)*K105","v":8.9364791545290798E-2}]
[null,null,null,{"$f":"Option_2C!D124","v":"Year 5"},null,null,null,null,null,{"$f":"Option_2C!J124","v":2031},{"$f":"Option_2C!K124","v":0.12322},{"$f":"VLOOKUP($J106,General!$D$27:$E$46,2)*K106","v":8.4705963550038677E-2}]
[]
[null,null,null,"End"]

{"sheet":"Option_3D","index":11,"n_rows":108,"n_cols":19,"rows_kept":108,"cut":false,"hidden":false,"merged":[]}
[null,null,null,"Voltage PQ Management Strategy",null,null,null,"Section Check:",{"$f":"IF(COUNTA($A$8:$A$109)=COUNTIF($A$8:$A$109,0),\"Ok\",\"Check\")","v":"Ok"},null,null,"Overall Check:","Ok",null,"Legend:","Input","Internal","Select","Calculation"]
[null,null,null,{"$f":"Summary!$K14&\" - \"&Summary!$D26","v":"Option 3 - Traditional augmentation - EDCOP 2% NON-COMPLIANCE (ON PAR WITH VIC DNSP PEERS)"}]
[]
[]
[]
[null,"Copyright Jemena Limited. All rights reserved. Jemena is not liable for any loss caused by reliance on this document."]
[]
[null,"General Assumptions"]
[]
[null,null,{"$f":"B8","v":"General Assumptions"}]
[]
[null,null,null,{"$f":"C10","v":"General Assumptions"},"Source","Unit","Basis"]
[null,null,null,null,null,null,null,null,null,"Start","End"]
[null,null,null,"Next Regulatory Period","AM","Year","n/a",null,null,{"$f":"General!J16","v":2027},{"$f":"J14+4","v":2031}]
[null,null,null,"This Regulatory Period","AM","Year","n/a",null,null,{"$f":"K15-4","v":2022},{"$f":"J14-1","v":2026}]
[]
[null,"Option"]
[]
[null,null,"Summary"]
[]
[null,null,null,{"$f":"C19&\" ($M)\"","v":"Summary ($M)"},"Period",null,null,null,null,"Total DVM Cost","Total Cost","PV Total Cost"]
[]
[null,null,null,{"$f":"D14","v":"Next Regulatory Period"},{"$f":"$J$14&\" - \"&$K$14","v":"2027 - 2031"},null,null,null,null,0,{"$f":"SUMIFS($K$30:$K$106,$J$30:$J$106,\">=\"&$J14,$J$30:$J$106,\"<=\"&$K14)","v":50.493430000000046},{"$f":"SUMIFS($L$30:$L$106,$J$30:$J$106,\">=\"&$J14,$J$30:$J$106,\"<=\"&$K14)","v":37.963950655340369}]
[null,null,null,{"$f":"D15","v":"This Regulatory Period"},{"$f":"$J$15&\" - \"&$K$15","v":"2022 - 2026"},null,null,null,null,{"$f":"Option_2D!J24","v":7.5111570025283925},{"$f":"SUMIFS($K$30:$K$79,$J$30:$J$79,\">=\"&$J15,$J$30:$J$79,\"<=\"&$K15)","v":6.6},{"$f":"SUMIFS($L$30:$L$79,$J$30:$J$79,\">=\"&$J15,$J$30:$J$79,\"<=\"&$K15)","v":6.2619033714426902}]
[]
[null,null,"Calculations"]
[]
[null,null,null,{"$f":"Summary!$H26&\" - \"&Summary!$D26","v":"Option 3 - EDCOP 2% NON-COMPLIANCE (ON PAR WITH VIC DNSP PEERS)"},null,null,null,null,null,"Indicative Year","Cost ($M)","PV Cost ($M)"]
[null,null,null,"PROJECT & LOCATION",null,null,null,null,"TOTAL",{"$f":"J14&\" - \"&J14+General!J15-1","v":"2027 - 2031"},{"$f":"SUMIFS(K$31:K$106,$J$31:$J$106,\">=\"&$J$14,$J$31:$J$106,\"<=\"&J14+General!J15-1)","v":50.493430000000046},{"$f":"SUMIFS(L$31:L$106,$J$31:$J$106,\">=\"&$J$14,$J$31:$J$106,\"<=\"&J14+General!J15-1)","v":37.963950655340369}]
[null,null,null,"Reactors"]
[null,null,null,{"$f":"Option_2D!D38","v":"SBY"},null,null,null,null,null,{"$f":"Option_2D!J38","v":2028},{"$f":"Option_2D!K38","v":2.3165800000000001},{"$f":"VLOOKUP($J31,General!$D$27:$E$46,2)*K31","v":1.8699821631990143}]
[null,null,null,{"$f":"Option_2D!D39","v":"SHM"},null,null,null,null,null,{"$f":"Option_2D!J39","v":2029},{"$f":"Option_2D!K39","v":2.59457},{"$f":"VLOOKUP($J32,General!$D$27:$E$46,2)*K32","v":1.9851946404451122}]
[null,null,null,{"$f":"Option_2D!D40","v":"COO"},null,null,null,null,null,{"$f":"Option_2D!J40","v":2030},{"$f":"Option_2D!K40","v":2.6623600000000001},{"$f":"VLOOKUP($J33,General!$D$27:$E$46,2)*K33","v":1.9308654960113651}]
[null,null,null,{"$f":"Option_2D!D41","v":"ST"},null,null,null,null,null,{"$f":"Option_2D!J41","v":2031},{"$f":"Option_2D!K41","v":2.1589499999999999},{"$f":"VLOOKUP($J34,General!$D$27:$E$46,2)*K34","v":1.4841416978279176}]
[null,null,null,{"$f":"Option_2D!D42","v":"BD"},null,null,null,null,null,{"$f":"Option_2D!J42","v":2031},{"$f":"Option_2D!K42","v":2.4241000000000001},{"$f":"VLOOKUP($J35,General!$D$27:$E$46,2)*K35","v":1.6664155676160428}]
[null,null,null,"VAr controllers"]
[null,null,null,{"$f":"Option_2D!D44","v":"CN No.1"},null,null,null,null,null,{"$f":"Option_2D!J44","v":2027},{"$f":"Option_2D!K44","v":0.26951999999999998},{"$f":"VLOOKUP($J37,General!$D$27:$E$46,2)*K37","v":0.22952691477082388}]
[null,null,null,{"$f":"Option_2D!D45","v":"CN No.2"},null,null,null,null,null,{"$f":"Option_2D!J45","v":2027},{"$f":"Option_2D!K45","v":0.26951999999999998},{"$f":"VLOOKUP($J38,General!$D$27:$E$46,2)*K38","v":0.22952691477082388}]
[null,null,null,{"$f":"Option_2D!D46","v":"CN No.3A & 3B"},null,null,null,null,null,{"$f":"Option_2D!J46","v":2028},{"$f":"Option_2D!K46","v":0.26951999999999998},{"$f":"VLOOKUP($J39,General!$D$27:$E$46,2)*K39","v":0.21756105665480938}]
[null,null,null,{"$f":"Option_2D!D47","v":"CS No.2"},null,null,null,null,null,{"$f":"Option_2D!J47","v":2028},{"$f":"Option_2D!K47","v":0.26951999999999998},{"$f":"VLOOKUP($J40,General!$D$27:$E$46,2)*K40","v":0.21756105665480938}]
[null,null,null,{"$f":"Option_2D!D48","v":"ES No.1"},null,null,null,null,null,{"$f":"Option_2D!J48","v":2028},{"$f":"Option_2D!K48","v":0.26951999999999998},{"$f":"VLOOKUP($J41,General!$D$27:$E$46,2)*K41","v":0.21756105665480938}]
[null,null,null,{"$f":"Option_2D!D49","v":"FF No.1"},null,null,null,null,null,{"$f":"Option_2D!J49","v":2029},{"$f":"Option_2D!K49","v":0.26951999999999998},{"$f":"VLOOKUP($J42,General!$D$27:$E$46,2)*K42","v":0.20621901104721266}]
[null,null,null,{"$f":"Option_2D!D50","v":"NH No.1"},null,null,null,null,null,{"$f":"Option_2D!J50","v":2029},{"$f":"Option_2D!K50","v":0.26951999999999998},{"$f":"VLOOKUP($J43,General!$D$27:$E$46,2)*K43","v":0.20621901104721266}]
[null,null,null,{"$f":"Option_2D!D51","v":"ST No.1"},null,null,null,null,null,{"$f":"Option_2D!J51","v":2030},{"$f":"Option_2D!K51","v":0.26951999999999998},{"$f":"VLOOKUP($J44,General!$D$27:$E$46,2)*K44","v":0.19546825691678929}]
[null,null,null,{"$f":"Option_2D!D52","v":"ST No.2"},null,null,null,null,null,{"$f":"Option_2D!J52","v":2030},{"$f":"Option_2D!K52","v":0.26951999999999998},{"$f":"VLOOKUP($J45,General!$D$27:$E$46,2)*K45","v":0.19546825691678929}]
[null,null,null,{"$f":"Option_2D!D53","v":"TH No.1"},null,null,null,null,null,{"$f":"Option_2D!J53","v":2030},{"$f":"Option_2D!K53","v":0.26951999999999998},{"$f":"VLOOKUP($J46,General!$D$27:$E$46,2)*K46","v":0.19546825691678929}]
[null,null,null,{"$f":"Option_2D!D54","v":"TH No.2"},null,null,null,null,null,{"$f":"Option_2D!J54","v":2031},{"$f":"Option_2D!K54","v":0.26951999999999998},{"$f":"VLOOKUP($J47,General!$D$27:$E$46,2)*K47","v":0.18527796864150645}]
[null,null,null,"Traditional for spread"]
[null,null,null,{"$f":"Option_2D!D56","v":"EPN"},null,null,null,null,null,{"$f":"Option_2D!J56","v":2027},{"$f":"Option_2D!K56","v":4.1070000000000002E-2},{"$f":"VLOOKUP($J49,General!$D$27:$E$46,2)*K49","v":3.4975773188029601E-2}]
[null,null,null,{"$f":"Option_2D!D57","v":"EP0"},null,null,null,null,null,{"$f":"Option_2D!J57","v":2027},{"$f":"Option_2D!K57","v":4.1070000000000002E-2},{"$f":"VLOOKUP($J50,General!$D$27:$E$46,2)*K50","v":3.4975773188029601E-2}]
[null,null,null,{"$f":"Option_2D!D58","v":"AW0"},null,null,null,null,null,{"$f":"Option_2D!J58","v":2028},{"$f":"Option_2D!K58","v":4.1070000000000002E-2},{"$f":"VLOOKUP($J51,General!$D$27:$E$46,2)*K51","v":3.3152391647421425E-2}]
[null,null,null,{"$f":"Option_2D!D59","v":"NS0"},null,null,null,null,null,{"$f":"Option_2D!J59","v":2028},{"$f":"Option_2D!K59","v":4.1070000000000002E-2},{"$f":"VLOOKUP($J52,General!$D$27:$E$46,2)*K52","v":3.3152391647421425E-2}]
[null,null,null,{"$f":"Option_2D!D60","v":"FT0"},null,null,null,null,null,{"$f":"Option_2D!J60","v":2028},{"$f":"Option_2D!K60","v":4.1070000000000002E-2},{"$f":"VLOOKUP($J53,General!$D$27:$E$46,2)*K53","v":3.3152391647421425E-2}]
[null,null,null,{"$f":"Option_2D!D61","v":"TMA"},null,null,null,null,null,{"$f":"Option_2D!J61","v":2028},{"$f":"Option_2D!K61","v":4.1070000000000002E-2},{"$f":"VLOOKUP($J54,General!$D$27:$E$46,2)*K54","v":3.3152391647421425E-2}]
[null,null,null,{"$f":"Option_2D!D62","v":"TH0"},null,null,null,null,null,{"$f":"Option_2D!J62","v":2029},{"$f":"Option_2D!K62","v":4.1070000000000002E-2},{"$f":"VLOOKUP($J55,General!$D$27:$E$46,2)*K55","v":3.1424067912247791E-2}]
[null,null,null,{"$f":"Option_2D!D63","v":"PTN"},null,null,null,null,null,{"$f":"Option_2D!J63","v":2029},{"$f":"Option_2D!K63","v":4.1070000000000002E-2},{"$f":"VLOOKUP($J56,General!$D$27:$E$46,2)*K56","v":3.1424067912247791E-2}]
[null,null,null,{"$f":"Option_2D!D64","v":"YVE"},null,null,null,null,null,{"$f":"Option_2D!J64","v":2029},{"$f":"Option_2D!K64","v":4.1070000000000002E-2},{"$f":"VLOOKUP($J57,General!$D$27:$E$46,2)*K57","v":3.1424067912247791E-2}]
[null,null,null,{"$f":"Option_2D!D65","v":"FF0"},null,null,null,null,null,{"$f":"Option_2D!J65","v":2029},{"$f":"Option_2D!K65","v":4.1070000000000002E-2},{"$f":"VLOOKUP($J58,General!$D$27:$E$46,2)*K58","v":3.1424067912247791E-2}]
[null,null,null,{"$f":"Option_2D!D66","v":"BY0"},null,null,null,null,null,{"$f":"Option_2D!J66","v":2029},{"$f":"Option_2D!K66","v":4.1070000000000002E-2},{"$f":"VLOOKUP($J59,General!$D$27:$E$46,2)*K59","v":3.1424067912247791E-2}]
[null,null,null,{"$f":"Option_2D!D67","v":"ES0"},null,null,null,null,null,{"$f":"Option_2D!J67","v":2030},{"$f":"Option_2D!K67","v":4.1070000000000002E-2},{"$f":"VLOOKUP($J60,General!$D$27:$E$46,2)*K60","v":2.9785846362320186E-2}]
[null,null,null,{"$f":"Option_2D!D68","v":"HB0"},null,null,null,null,null,{"$f":"Option_2D!J68","v":2031},{"$f":"Option_2D!K68","v":4.1070000000000002E-2},{"$f":"VLOOKUP($J61,General!$D$27:$E$46,2)*K61","v":2.8233029727317716E-2}]
[null,null,null,{"$f":"Option_2D!D69","v":"PV0"},null,null,null,null,null,{"$f":"Option_2D!J69","v":2031},{"$f":"Option_2D!K69","v":4.1070000000000002E-2},{"$f":"VLOOKUP($J62,General!$D$27:$E$46,2)*K62","v":2.8233029727317716E-2}]
[null,null,null,{"$f":"Option_2D!D70","v":"BMS"},null,null,null,null,null,{"$f":"Option_2D!J70","v":2031},{"$f":"Option_2D!K70","v":4.1070000000000002E-2},{"$f":"VLOOKUP($J63,General!$D$27:$E$46,2)*K63","v":2.8233029727317716E-2}]
[null,null,null,"Traditional for worst served over-volt"]
[null,null,null,{"$f":"Option_2D!D72","v":"AW0"},null,null,null,null,null,{"$f":"Option_2D!J72","v":2024},1.1000000000000001,{"$f":"VLOOKUP($J65,General!$D$27:$E$46,2)*K65","v":1.1000000000000001}]
[null,null,null,{"$f":"Option_2D!D73","v":"CS0"},null,null,null,null,null,{"$f":"Option_2D!J73","v":2024},1.1000000000000001,{"$f":"VLOOKUP($J66,General!$D$27:$E$46,2)*K66","v":1.1000000000000001}]
[null,null,null,{"$f":"Option_2D!D74","v":"PTN"},null,null,null,null,null,{"$f":"Option_2D!J74","v":2025},1.1000000000000001,{"$f":"VLOOKUP($J67,General!$D$27:$E$46,2)*K67","v":1.0426540284360191}]
[null,null,null,{"$f":"Option_2D!D75","v":"HB0"},null,null,null,null,null,{"$f":"Option_2D!J75","v":2025},1.1000000000000001,{"$f":"VLOOKUP($J68,General!$D$27:$E$46,2)*K68","v":1.0426540284360191}]
[null,null,null,{"$f":"Option_2D!D76","v":"SBY"},null,null,null,null,null,{"$f":"Option_2D!J76","v":2026},1.1000000000000001,{"$f":"VLOOKUP($J69,General!$D$27:$E$46,2)*K69","v":0.98829765728532626}]
[null,null,null,{"$f":"Option_2D!D77","v":"FE0"},null,null,null,null,null,{"$f":"Option_2D!J77","v":2026},1.1000000000000001,{"$f":"VLOOKUP($J70,General!$D$27:$E$46,2)*K70","v":0.98829765728532626}]
[null,null,null,{"$f":"Option_2D!D78","v":"NS0"},null,null,null,null,null,{"$f":"Option_2D!J78","v":2027},1.1000000000000001,{"$f":"VLOOKUP($J71,General!$D$27:$E$46,2)*K71","v":0.93677503060220502}]
[null,null,null,{"$f":"Option_2D!D79","v":"ST0"},null,null,null,null,null,{"$f":"Option_2D!J79","v":2027},1.1000000000000001,{"$f":"VLOOKUP($J72,General!$D$27:$E$46,2)*K72","v":0.93677503060220502}]
[null,null,null,{"$f":"Option_2D!D80","v":"SHM"},null,null,null,null,null,{"$f":"Option_2D!J80","v":2027},1.1000000000000001,{"$f":"VLOOKUP($J73,General!$D$27:$E$46,2)*K73","v":0.93677503060220502}]
[null,null,null,{"$f":"Option_2D!D81","v":"TT0"},null,null,null,null,null,{"$f":"Option_2D!J81","v":2028},1.1000000000000001,{"$f":"VLOOKUP($J74,General!$D$27:$E$46,2)*K74","v":0.88793841763242187}]
[null,null,null,{"$f":"Option_2D!D82","v":"BD0"},null,null,null,null,null,{"$f":"Option_2D!J82","v":2028},1.1000000000000001,{"$f":"VLOOKUP($J75,General!$D$27:$E$46,2)*K75","v":0.88793841763242187}]
[null,null,null,{"$f":"Option_2D!D83","v":"EPN"},null,null,null,null,null,{"$f":"Option_2D!J83","v":2028},1.1000000000000001,{"$f":"VLOOKUP($J76,General!$D$27:$E$46,2)*K76","v":0.88793841763242187}]
[null,null,null,{"$f":"Option_2D!D84","v":"ES0"},null,null,null,null,null,{"$f":"Option_2D!J84","v":2029},1.1000000000000001,{"$f":"VLOOKUP($J77,General!$D$27:$E$46,2)*K77","v":0.84164778922504446}]
[null,null,null,{"$f":"Option_2D!D85","v":"TH0"},null,null,null,null,null,{"$f":"Option_2D!J85","v":2029},1.1000000000000001,{"$f":"VLOOKUP($J78,General!$D$27:$E$46,2)*K78","v":0.84164778922504446}]
[null,null,null,{"$f":"Option_2D!D86","v":"FF0"},null,null,null,null,null,{"$f":"Option_2D!J86","v":2029},1.1000000000000001,{"$f":"VLOOKUP($J79,General!$D$27:$E$46,2)*K79","v":0.84164778922504446}]
[null,null,null,{"$f":"Option_2D!D87","v":"NH0"},null,null,null,null,null,{"$f":"Option_2D!J87","v":2029},1.1000000000000001,{"$f":"VLOOKUP($J80,General!$D$27:$E$46,2)*K80","v":0.84164778922504446}]
[null,null,null,{"$f":"Option_2D!D88","v":"TMA"},null,null,null,null,null,{"$f":"Option_2D!J88","v":2029},1.1000000000000001,{"$f":"VLOOKUP($J81,General!$D$27:$E$46,2)*K81","v":0.84164778922504446}]
[null,null,null,{"$f":"Option_2D!D89","v":"CN0"},null,null,null,null,null,{"$f":"Option_2D!J89","v":2030},1.1000000000000001,{"$f":"VLOOKUP($J82,General!$D$27:$E$46,2)*K82","v":0.79777041632705636}]
[null,null,null,{"$f":"Option_2D!D90","v":"BMS"},null,null,null,null,null,{"$f":"Option_2D!J90","v":2030},1.1000000000000001,{"$f":"VLOOKUP($J83,General!$D$27:$E$46,2)*K83","v":0.79777041632705636}]
[null,null,null,{"$f":"Option_2D!D91","v":"PV0"},null,null,null,null,null,{"$f":"Option_2D!J91","v":2030},1.1000000000000001,{"$f":"VLOOKUP($J84,General!$D$27:$E$46,2)*K84","v":0.79777041632705636}]
[null,null,null,{"$f":"Option_2D!D92","v":"FT0"},null,null,null,null,null,{"$f":"Option_2D!J92","v":2030},1.1000000000000001,{"$f":"VLOOKUP($J85,General!$D$27:$E$46,2)*K85","v":0.79777041632705636}]
[null,null,null,{"$f":"Option_2D!D93","v":"COO"},null,null,null,null,null,{"$f":"Option_2D!J93","v":2030},1.1000000000000001,{"$f":"VLOOKUP($J86,General!$D$27:$E$46,2)*K86","v":0.79777041632705636}]
[null,null,null,{"$f":"Option_2D!D94","v":"NT0"},null,null,null,null,null,{"$f":"Option_2D!J94","v":2030},1.1000000000000001,{"$f":"VLOOKUP($J87,General!$D$27:$E$46,2)*K87","v":0.79777041632705636}]
[null,null,null,{"$f":"Option_2D!D95","v":"YVE"},null,null,null,null,null,{"$f":"Option_2D!J95","v":2030},1.1000000000000001,{"$f":"VLOOKUP($J88,General!$D$27:$E$46,2)*K88","v":0.79777041632705636}]
[null,null,null,{"$f":"Option_2D!D96","v":"FW0"},null,null,null,null,null,{"$f":"Option_2D!J96","v":2030},1.1000000000000001,{"$f":"VLOOKUP($J89,General!$D$27:$E$46,2)*K89","v":0.79777041632705636}]
[null,null,null,{"$f":"Option_2D!D97","v":"BY0"},null,null,null,null,null,{"$f":"Option_2D!J97","v":2031},1.1000000000000001,{"$f":"VLOOKUP($J90,General!$D$27:$E$46,2)*K90","v":0.7561804894095322}]
[null,null,null,{"$f":"Option_2D!D98","v":"SA0"},null,null,null,null,null,{"$f":"Option_2D!J98","v":2031},1.1000000000000001,{"$f":"VLOOKUP($J91,General!$D$27:$E$46,2)*K91","v":0.7561804894095322}]
[null,null,null,{"$f":"Option_2D!D99","v":"EP0"},null,null,null,null,null,{"$f":"Option_2D!J99","v":2031},1.1000000000000001,{"$f":"VLOOKUP($J92,General!$D$27:$E$46,2)*K92","v":0.7561804894095322}]
[null,null,null,{"$f":"Option_2D!D100","v":"WT0"},null,null,null,null,null,{"$f":"Option_2D!J100","v":2031},1.1000000000000001,{"$f":"VLOOKUP($J93,General!$D$27:$E$46,2)*K93","v":0.7561804894095322}]
[null,null,null,{"$f":"Option_2D!D101","v":"KLO"},null,null,null,null,null,{"$f":"Option_2D!J101","v":2031},1.1000000000000001,{"$f":"VLOOKUP($J94,General!$D$27:$E$46,2)*K94","v":0.7561804894095322}]
[null,null,null,{"$f":"Option_2D!D113","v":"Traditional for worst served under-volt"}]
[null,null,null,{"$f":"Option_2D!D114","v":"Year 1"},null,null,null,null,null,{"$f":"Option_2D!J114","v":2027},{"$f":"Option_2D!K114","v":1.548},{"$f":"VLOOKUP($J96,General!$D$27:$E$46,2)*K96","v":1.3182979521565574}]
[null,null,null,{"$f":"Option_2D!D115","v":"Year 2"},null,null,null,null,null,{"$f":"Option_2D!J115","v":2028},{"$f":"Option_2D!K115","v":1.548},{"$f":"VLOOKUP($J97,General!$D$27:$E$46,2)*K97","v":1.2495715186318082}]
[null,null,null,{"$f":"Option_2D!D116","v":"Year 3"},null,null,null,null,null,{"$f":"Option_2D!J116","v":2029},{"$f":"Option_2D!K116","v":1.548},{"$f":"VLOOKUP($J98,General!$D$27:$E$46,2)*K98","v":1.1844279797457897}]
[null,null,null,{"$f":"Option_2D!D117","v":"Year 4"},null,null,null,null,null,{"$f":"Option_2D!J117","v":2030},{"$f":"Option_2D!K117","v":1.548},{"$f":"VLOOKUP($J99,General!$D$27:$E$46,2)*K99","v":1.1226805495220757}]
[null,null,null,{"$f":"Option_2D!D118","v":"Year 5"},null,null,null,null,null,{"$f":"Option_2D!J118","v":2031},{"$f":"Option_2D!K118","v":1.548},{"$f":"VLOOKUP($J100,General!$D$27:$E$46,2)*K100","v":1.0641521796417781}]
[null,null,null,{"$f":"Option_2D!D119","v":"Power quality reactive program for customer complaints"}]
[null,null,null,{"$f":"Option_2D!D120","v":"Year 1"},null,null,null,null,null,{"$f":"Option_2D!J120","v":2027},{"$f":"Option_2D!K120","v":0.12322},{"$f":"VLOOKUP($J102,General!$D$27:$E$46,2)*K102","v":0.10493583570073063}]
[null,null,null,{"$f":"Option_2D!D121","v":"Year 2"},null,null,null,null,null,{"$f":"Option_2D!J121","v":2028},{"$f":"Option_2D!K121","v":0.12322},{"$f":"VLOOKUP($J103,General!$D$27:$E$46,2)*K103","v":9.9465247109697286E-2}]
[null,null,null,{"$f":"Option_2D!D122","v":"Year 3"},null,null,null,null,null,{"$f":"Option_2D!J122","v":2029},{"$f":"Option_2D!K122","v":0.12322},{"$f":"VLOOKUP($J104,General!$D$27:$E$46,2)*K104","v":9.4279855080281777E-2}]
[null,null,null,{"$f":"Option_2D!D123","v":"Year 4"},null,null,null,null,null,{"$f":"Option_2D!J123","v":2030},{"$f":"Option_2D!K123","v":0.12322},{"$f":"VLOOKUP($J105,General!$D$27:$E$46,2)*K105","v":8.9364791545290798E-2}]
[null,null,null,{"$f":"Option_2D!D124","v":"Year 5"},null,null,null,null,null,{"$f":"Option_2D!J124","v":2031},{"$f":"Option_2D!K124","v":0.12322},{"$f":"VLOOKUP($J106,General!$D$27:$E$46,2)*K106","v":8.4705963550038677E-2}]
[]
[null,null,null,"End"]

{"sheet":"Compliance","index":12,"n_rows":45,"n_cols":59,"rows_kept":45,"cut":false,"hidden":false,"merged":[[8,8,8,18],[8,32,8,42],[8,20,8,30],[8,44,8,54]]}
[null,null,null,"Voltage PQ Management Strategy",null,null,null,"Section Check:",{"$f":"IF(COUNTA($A$9:$A$172)=COUNTIF($A$9:$A$172,0),\"Ok\",\"Check\")","v":"Ok"},null,null,"Overall Check:","Ok",null,"Legend:","Input","Internal","Select","Calculation"]
[null,null,null,"Compliance Forecast"]
[]
[]
[]
[null,"Copyright Jemena Limited. All rights reserved. Jemena is not liable for any loss caused by reliance on this document.",null,null,null,null,null,null,null,null,null,null,null,null,null,null,null,null,null,null,null,null,null,null,null,null,null,null,null,null,null,null,null,null,null,null,null,null,null,null,null,null,null,null,null,null,null,"Cumulative sites per annum",5,10,15,25,100,100,100]
[]
[]
[null,null,null,null,null,null,null,null,"EDCOP Non-Compliance Contribution (%)",null,null,null,null,null,null,null,null,null,null,null,"V99",null,null,null,null,null,null,null,null,null,null,null,"% Over-voltage",null,null,null,null,null,null,null,null,null,null,null,"Timing"]
[null,null,null,null,"ZSS","AMI Customers","DVM Timing","Rank",{"$f":"U10","v":2023},{"$f":"V10","v":2024},2025,2026,2027,2028,2029,2030,2031,2032,2033,null,{"$f":"V10-1","v":2023},{"$f":"PV_Uptake!G49","v":2024},{"$f":"PV_Uptake!H49","v":2025},{"$f":"PV_Uptake!I49","v":2026},{"$f":"PV_Uptake!J49","v":2027},{"$f":"PV_Uptake!K49","v":2028},{"$f":"PV_Uptake!L49","v":2029},{"$f":"PV_Uptake!M49","v":2030},{"$f":"PV_Uptake!N49","v":2031},{"$f":"PV_Uptake!O49","v":2032},{"$f":"PV_Uptake!P49","v":2033},null,{"$f":"U10","v":2023},2024,2025,2026,2027,2028,2029,2030,2031,2032,2033,null,{"$f":"AG10","v":2023},{"$f":"AH10","v":2024},2025,2026,2027,2028,2029,2030,2031,2032,2033,null,null,null,"Adj"]
[null,null,null,{"$f":"IF(LEN(E11)=2,E11&\"0\",E11)","v":"NS0"},"NS",{"$f":"VLOOKUP($D11,Table!$A$4:$N$34,COLUMN(Table!$N:$N),FALSE)","v":14765},{"$f":"SUMIF($AS11:$BC11,1,$AS$10:$BC$10)","v":2027},{"$f":"_xlfn.RANK.EQ($G11,$G$11:$G$41,1)+COUNTIF($G$11:$G11,$G11)-1","v":7},{"$f":"$F11/$F$43*AG11*General!$J$17","v":2.0194486784498138E-2},{"$f":"$F11/$F$43*AH11*General!$J$17","v":2.0194486784498138E-2},{"$f":"$F11/$F$43*AI11*General!$J$17","v":2.0194486784498138E-2},{"$f":"$F11/$F$43*AJ11*General!$J$17","v":2.0194486784498138E-2},{"$f":"$F11/$F$43*AK11*General!$J$17","v":2.0194486784498138E-2},{"$f":"$F11/$F$43*AL11*General!$J$17","v":2.0194486784498138E-2},{"$f":"$F11/$F$43*AM11*General!$J$17","v":2.0194486784498138E-2},{"$f":"$F11/$F$43*AN11*General!$J$17","v":2.0194486784498138E-2},{"$f":"$F11/$F$43*AO11*General!$J$17","v":2.0194486784498138E-2},{"$f":"$F11/$F$43*AP11*General!$J$17","v":2.0194486784498138E-2},{"$f":"$F11/$F$43*AQ11*General!$J$17","v":2.0194486784498138E-2},null,{"$f":"VLOOKUP($D11,Table!$A$4:$L$34,COLUMN(Table!J:J),FALSE)","v":257.82017877108427},{"$f":"(1-MIN(0,VLOOKUP($E11,OLTC_Taps!$D$147:$H$173,6-1,FALSE)+VLOOKUP($E11,OLTC_Taps!$D$147:$N$173,12-1,FALSE)*(V$10-$V$10+1)))*$U11","v":257.82017877108427},{"$f":"(1-MIN(0,VLOOKUP($E11,OLTC_Taps!$D$147:$H$173,6-1,FALSE)+VLOOKUP($E11,OLTC_Taps!$D$147:$N$173,12-1,FALSE)*(W$10-$V$10+1)))*$U11","v":257.82017877108427},{"$f":"(1-MIN(0,VLOOKUP($E11,OLTC_Taps!$D$147:$H$173,6-1,FALSE)+VLOOKUP($E11,OLTC_Taps!$D$147:$N$173,12-1,FALSE)*(X$10-$V$10+1)))*$U11","v":257.82017877108427},{"$f":"(1-MIN(0,VLOOKUP($E11,OLTC_Taps!$D$147:$H$173,6-1,FALSE)+VLOOKUP($E11,OLTC_Taps!$D$147:$N$173,12-1,FALSE)*(Y$10-$V$10+1)))*$U11","v":257.82017877108427},{"$f":"(1-MIN(0,VLOOKUP($E11,OLTC_Taps!$D$147:$H$173,6-1,FALSE)+VLOOKUP($E11,OLTC_Taps!$D$147:$O$173,13-1,FALSE)*(Z$10-$V$10+1)))*$U11","v":257.82017877108427},{"$f":"(1-MIN(0,VLOOKUP($E11,OLTC_Taps!$D$147:$H$173,6-1,FALSE)+VLOOKUP($E11,OLTC_Taps!$D$147:$O$173,13-1,FALSE)*(AA$10-$V$10+1)))*$U11","v":257.82017877108427},{"$f":"(1-MIN(0,VLOOKUP($E11,OLTC_Taps!$D$147:$H$173,6-1,FALSE)+VLOOKUP($E11,OLTC_Taps!$D$147:$O$173,13-1,FALSE)*(AB$10-$V$10+1)))*$U11","v":257.82017877108427},{"$f":"(1-MIN(0,VLOOKUP($E11,OLTC_Taps!$D$147:$H$173,6-1,FALSE)+VLOOKUP($E11,OLTC_Taps!$D$147:$O$173,13-1,FALSE)*(AC$10-$V$10+1)))*$U11","v":257.82017877108427},{"$f":"(1-MIN(0,VLOOKUP($E11,OLTC_Taps!$D$147:$H$173,6-1,FALSE)+VLOOKUP($E11,OLTC_Taps!$D$147:$O$173,13-1,FALSE)*(AD$10-$V$10+1)))*$U11","v":257.82017877108427},{"$f":"(1-MIN(0,VLOOKUP($E11,OLTC_Taps!$D$147:$H$173,6-1,FALSE)+VLOOKUP($E11,OLTC_Taps!$D$147:$O$173,13-1,FALSE)*(AE$10-$V$10+1)))*$U11","v":257.82017877108427},null,{"$f":"COUNTIFS('06Dec24'!$E:$E,\">\"&253-U11+$U11-$BG11,'06Dec24'!$D:$D,$D11)/COUNTIF('06Dec24'!$D:$D,$D11)","v":0.66766000677277348},{"$f":"COUNTIFS('06Dec24'!$E:$E,\">\"&253-V11+$U11-$BG11,'06Dec24'!$D:$D,$D11)/COUNTIF('06Dec24'!$D:$D,$D11)","v":0.66766000677277348},{"$f":"COUNTIFS('06Dec24'!$E:$E,\">\"&253-W11+$U11-$BG11,'06Dec24'!$D:$D,$D11)/COUNTIF('06Dec24'!$D:$D,$D11)","v":0.66766000677277348},{"$f":"COUNTIFS('06Dec24'!$E:$E,\">\"&253-X11+$U11-$BG11,'06Dec24'!$D:$D,$D11)/COUNTIF('06Dec24'!$D:$D,$D11)","v":0.66766000677277348},{"$f":"COUNTIFS('06Dec24'!$E:$E,\">\"&253-Y11+$U11-$BG11,'06Dec24'!$D:$D,$D11)/COUNTIF('06Dec24'!$D:$D,$D11)","v":0.66766000677277348},{"$f":"COUNTIFS('06Dec24'!$E:$E,\">\"&253-Z11+$U11-$BG11,'06Dec24'!$D:$D,$D11)/COUNTIF('06Dec24'!$D:$D,$D11)","v":0.66766000677277348},{"$f":"COUNTIFS('06Dec24'!$E:$E,\">\"&253-AA11+$U11-$BG11,'06Dec24'!$D:$D,$D11)/COUNTIF('06Dec24'!$D:$D,$D11)","v":0.66766000677277348},{"$f":"COUNTIFS('06Dec24'!$E:$E,\">\"&253-AB11+$U11-$BG11,'06Dec24'!$D:$D,$D11)/COUNTIF('06Dec24'!$D:$D,$D11)","v":0.66766000677277348},{"$f":"COUNTIFS('06Dec24'!$E:$E,\">\"&253-AC11+$U11-$BG11,'06Dec24'!$D:$D,$D11)/COUNTIF('06Dec24'!$D:$D,$D11)","v":0.66766000677277348},{"$f":"COUNTIFS('06Dec24'!$E:$E,\">\"&253-AD11+$U11-$BG11,'06Dec24'!$D:$D,$D11)/COUNTIF('06Dec24'!$D:$D,$D11)","v":0.66766000677277348},{"$f":"COUNTIFS('06Dec24'!$E:$E,\">\"&253-AE11+$U11-$BG11,'06Dec24'!$D:$D,$D11)/COUNTIF('06Dec24'!$D:$D,$D11)","v":0.66766000677277348},null,null,null,null,null,{"$f":"IF(OR(SUM($AS11:AV11)>0,RANK(M11,M$11:M$41)>AW$6),\"\",1)","v":1},{"$f":"IF(OR(SUM($AS11:AW11)>0,RANK(N11,N$11:N$41)>AX$6),\"\",1)","v":""},{"$f":"IF(OR(SUM($AS11:AX11)>0,RANK(O11,O$11:O$41)>AY$6),\"\",1)","v":""},{"$f":"IF(OR(SUM($AS11:AY11)>0,RANK(P11,P$11:P$41)>AZ$6),\"\",1)","v":""},{"$f":"IF(OR(SUM($AS11:AZ11)>0,RANK(Q11,Q$11:Q$41)>BA$6),\"\",1)","v":""},{"$f":"IF(OR(SUM($AS11:BA11)>0,RANK(R11,R$11:R$41)>BB$6),\"\",1)","v":""},{"$f":"IF(OR(SUM($AS11:BB11)>0,RANK(S11,S$11:S$41)>BC$6),\"\",1)","v":""},null,null,null,{"$f":"VLOOKUP($D11,Table!$A$4:$M$34,COLUMN(Table!$M:$M),FALSE)","v":0}]
[null,null,null,"AW0","AW",{"$f":"VLOOKUP($D12,Table!$A$4:$N$34,COLUMN(Table!$N:$N),FALSE)","v":31529},2024,{"$f":"_xlfn.RANK.EQ($G12,$G$11:$G$41,1)+COUNTIF($G$11:$G12,$G12)-1","v":1},{"$f":"$F12/$F$43*AG12*General!$J$17","v":2.0710718339549219E-3},{"$f":"$F12/$F$43*AH12*General!$J$17","v":2.0710718339549219E-3},{"$f":"$F12/$F$43*AI12*General!$J$17","v":2.0710718339549219E-3},{"$f":"$F12/$F$43*AJ12*General!$J$17","v":2.0710718339549219E-3},{"$f":"$F12/$F$43*AK12*General!$J$17","v":2.0710718339549219E-3},{"$f":"$F12/$F$43*AL12*General!$J$17","v":2.0710718339549219E-3},{"$f":"$F12/$F$43*AM12*General!$J$17","v":2.0710718339549219E-3},{"$f":"$F12/$F$43*AN12*General!$J$17","v":2.0710718339549219E-3},{"$f":"$F12/$F$43*AO12*General!$J$17","v":2.0710718339549219E-3},{"$f":"$F12/$F$43*AP12*General!$J$17","v":2.0710718339549219E-3},{"$f":"$F12/$F$43*AQ12*General!$J$17","v":2.0710718339549219E-3},null,{"$f":"VLOOKUP($D12,Table!$A$4:$L$34,COLUMN(Table!J:J),FALSE)","v":255.04659651717191},{"$f":"(1-MIN(0,VLOOKUP($E12,OLTC_Taps!$D$147:$H$173,6-1,FALSE)+VLOOKUP($E12,OLTC_Taps!$D$147:$N$173,12-1,FALSE)*(V$10-$V$10+1)))*$U12","v":255.04659651717191},{"$f":"(1-MIN(0,VLOOKUP($E12,OLTC_Taps!$D$147:$H$173,6-1,FALSE)+VLOOKUP($E12,OLTC_Taps!$D$147:$N$173,12-1,FALSE)*(W$10-$V$10+1)))*$U12","v":255.04659651717191},{"$f":"(1-MIN(0,VLOOKUP($E12,OLTC_Taps!$D$147:$H$173,6-1,FALSE)+VLOOKUP($E12,OLTC_Taps!$D$147:$N$173,12-1,FALSE)*(X$10-$V$10+1)))*$U12","v":255.04659651717191},{"$f":"(1-MIN(0,VLOOKUP($E12,OLTC_Taps!$D$147:$H$173,6-1,FALSE)+VLOOKUP($E12,OLTC_Taps!$D$147:$N$173,12-1,FALSE)*(Y$10-$V$10+1)))*$U12","v":255.04659651717191},{"$f":"(1-MIN(0,VLOOKUP($E12,OLTC_Taps!$D$147:$H$173,6-1,FALSE)+VLOOKUP($E12,OLTC_Taps!$D$147:$O$173,13-1,FALSE)*(Z$10-$V$10+1)))*$U12","v":255.04659651717191},{"$f":"(1-MIN(0,VLOOKUP($E12,OLTC_Taps!$D$147:$H$173,6-1,FALSE)+VLOOKUP($E12,OLTC_Taps!$D$147:$O$173,13-1,FALSE)*(AA$10-$V$10+1)))*$U12","v":255.04659651717191},{"$f":"(1-MIN(0,VLOOKUP($E12,OLTC_Taps!$D$147:$H$173,6-1,FALSE)+VLOOKUP($E12,OLTC_Taps!$D$147:$O$173,13-1,FALSE)*(AB$10-$V$10+1)))*$U12","v":255.04659651717191},{"$f":"(1-MIN(0,VLOOKUP($E12,OLTC_Taps!$D$147:$H$173,6-1,FALSE)+VLOOKUP($E12,OLTC_Taps!$D$147:$O$173,13-1,FALSE)*(AC$10-$V$10+1)))*$U12","v":255.04659651717191},{"$f":"(1-MIN(0,VLOOKUP($E12,OLTC_Taps!$D$147:$H$173,6-1,FALSE)+VLOOKUP($E12,OLTC_Taps!$D$147:$O$173,13-1,FALSE)*(AD$10-$V$10+1)))*$U12","v":255.04659651717191},{"$f":"(1-MIN(0,VLOOKUP($E12,OLTC_Taps!$D$147:$H$173,6-1,FALSE)+VLOOKUP($E12,OLTC_Taps!$D$147:$O$173,13-1,FALSE)*(AE$10-$V$10+1)))*$U12","v":255.04659651717191},null,{"$f":"COUNTIFS('06Dec24'!$E:$E,\">\"&253-U12+$U12-$BG12,'06Dec24'!$D:$D,$D12)/COUNTIF('06Dec24'!$D:$D,$D12)","v":3.2065717276158458E-2},{"$f":"COUNTIFS('06Dec24'!$E:$E,\">\"&253-V12+$U12-$BG12,'06Dec24'!$D:$D,$D12)/COUNTIF('06Dec24'!$D:$D,$D12)","v":3.2065717276158458E-2},{"$f":"COUNTIFS('06Dec24'!$E:$E,\">\"&253-W12+$U12-$BG12,'06Dec24'!$D:$D,$D12)/COUNTIF('06Dec24'!$D:$D,$D12)","v":3.2065717276158458E-2},{"$f":"COUNTIFS('06Dec24'!$E:$E,\">\"&253-X12+$U12-$BG12,'06Dec24'!$D:$D,$D12)/COUNTIF('06Dec24'!$D:$D,$D12)","v":3.2065717276158458E-2},{"$f":"COUNTIFS('06Dec24'!$E:$E,\">\"&253-Y12+$U12-$BG12,'06Dec24'!$D:$D,$D12)/COUNTIF('06Dec24'!$D:$D,$D12)","v":3.2065717276158458E-2},{"$f":"COUNTIFS('06Dec24'!$E:$E,\">\"&253-Z12+$U12-$BG12,'06Dec24'!$D:$D,$D12)/COUNTIF('06Dec24'!$D:$D,$D12)","v":3.2065717276158458E-2},{"$f":"COUNTIFS('06Dec24'!$E:$E,\">\"&253-AA12+$U12-$BG12,'06Dec24'!$D:$D,$D12)/COUNTIF('06Dec24'!$D:$D,$D12)","v":3.2065717276158458E-2},{"$f":"COUNTIFS('06Dec24'!$E:$E,\">\"&253-AB12+$U12-$BG12,'06Dec24'!$D:$D,$D12)/COUNTIF('06Dec24'!$D:$D,$D12)","v":3.2065717276158458E-2},{"$f":"COUNTIFS('06Dec24'!$E:$E,\">\"&253-AC12+$U12-$BG12,'06Dec24'!$D:$D,$D12)/COUNTIF('06Dec24'!$D:$D,$D12)","v":3.2065717276158458E-2},{"$f":"COUNTIFS('06Dec24'!$E:$E,\">\"&253-AD12+$U12-$BG12,'06Dec24'!$D:$D,$D12)/COUNTIF('06Dec24'!$D:$D,$D12)","v":3.2065717276158458E-2},{"$f":"COUNTIFS('06Dec24'!$E:$E,\">\"&253-AE12+$U12-$BG12,'06Dec24'!$D:$D,$D12)/COUNTIF('06Dec24'!$D:$D,$D12)","v":3.2065717276158458E-2},null,null,1,null,null,{"$f":"IF(OR(SUM($AS12:AV12)>0,RANK(M12,M$11:M$41)>AW$6),\"\",1)","v":""},{"$f":"IF(OR(SUM($AS12:AW12)>0,RANK(N12,N$11:N$41)>AX$6),\"\",1)","v":""},{"$f":"IF(OR(SUM($AS12:AX12)>0,RANK(O12,O$11:O$41)>AY$6),\"\",1)","v":""},{"$f":"IF(OR(SUM($AS12:AY12)>0,RANK(P12,P$11:P$41)>AZ$6),\"\",1)","v":""},{"$f":"IF(OR(SUM($AS12:AZ12)>0,RANK(Q12,Q$11:Q$41)>BA$6),\"\",1)","v":""},{"$f":"IF(OR(SUM($AS12:BA12)>0,RANK(R12,R$11:R$41)>BB$6),\"\",1)","v":""},{"$f":"IF(OR(SUM($AS12:BB12)>0,RANK(S12,S$11:S$41)>BC$6),\"\",1)","v":""},null,null,null,{"$f":"VLOOKUP($D12,Table!$A$4:$M$34,COLUMN(Table!$M:$M),FALSE)","v":0}]
[null,null,null,"TT0","TT",{"$f":"VLOOKUP($D13,Table!$A$4:$N$34,COLUMN(Table!$N:$N),FALSE)","v":17957},2028,{"$f":"_xlfn.RANK.EQ($G13,$G$11:$G$41,1)+COUNTIF($G$11:$G13,$G13)-1","v":10},{"$f":"$F13/$F$43*AG13*General!$J$17","v":1.7986162910112969E-3},{"$f":"$F13/$F$43*AH13*General!$J$17","v":1.7986162910112969E-3},{"$f":"$F13/$F$43*AI13*General!$J$17","v":1.7986162910112969E-3},{"$f":"$F13/$F$43*AJ13*General!$J$17","v":1.7986162910112969E-3},{"$f":"$F13/$F$43*AK13*General!$J$17","v":1.7986162910112969E-3},{"$f":"$F13/$F$43*AL13*General!$J$17","v":1.7986162910112969E-3},{"$f":"$F13/$F$43*AM13*General!$J$17","v":1.7986162910112969E-3},{"$f":"$F13/$F$43*AN13*General!$J$17","v":1.7986162910112969E-3},{"$f":"$F13/$F$43*AO13*General!$J$17","v":1.7986162910112969E-3},{"$f":"$F13/$F$43*AP13*General!$J$17","v":1.7986162910112969E-3},{"$f":"$F13/$F$43*AQ13*General!$J$17","v":1.7986162910112969E-3},null,{"$f":"VLOOKUP($D13,Table!$A$4:$L$34,COLUMN(Table!J:J),FALSE)","v":254.89440247182378},{"$f":"U13","v":254.89440247182378},254.89440247182378,254.89440247182378,254.89440247182378,254.89440247182378,254.89440247182378,254.89440247182378,254.89440247182378,254.89440247182378,254.89440247182378,null,{"$f":"COUNTIFS('06Dec24'!$E:$E,\">\"&253-U13+$U13-$BG13,'06Dec24'!$D:$D,$D13)/COUNTIF('06Dec24'!$D:$D,$D13)","v":4.8894581500250597E-2},{"$f":"COUNTIFS('06Dec24'!$E:$E,\">\"&253-V13+$U13-$BG13,'06Dec24'!$D:$D,$D13)/COUNTIF('06Dec24'!$D:$D,$D13)","v":4.8894581500250597E-2},{"$f":"COUNTIFS('06Dec24'!$E:$E,\">\"&253-W13+$U13-$BG13,'06Dec24'!$D:$D,$D13)/COUNTIF('06Dec24'!$D:$D,$D13)","v":4.8894581500250597E-2},{"$f":"COUNTIFS('06Dec24'!$E:$E,\">\"&253-X13+$U13-$BG13,'06Dec24'!$D:$D,$D13)/COUNTIF('06Dec24'!$D:$D,$D13)","v":4.8894581500250597E-2},{"$f":"COUNTIFS('06Dec24'!$E:$E,\">\"&253-Y13+$U13-$BG13,'06Dec24'!$D:$D,$D13)/COUNTIF('06Dec24'!$D:$D,$D13)","v":4.8894581500250597E-2},{"$f":"COUNTIFS('06Dec24'!$E:$E,\">\"&253-Z13+$U13-$BG13,'06Dec24'!$D:$D,$D13)/COUNTIF('06Dec24'!$D:$D,$D13)","v":4.8894581500250597E-2},{"$f":"COUNTIFS('06Dec24'!$E:$E,\">\"&253-AA13+$U13-$BG13,'06Dec24'!$D:$D,$D13)/COUNTIF('06Dec24'!$D:$D,$D13)","v":4.8894581500250597E-2},{"$f":"COUNTIFS('06Dec24'!$E:$E,\">\"&253-AB13+$U13-$BG13,'06Dec24'!$D:$D,$D13)/COUNTIF('06Dec24'!$D:$D,$D13)","v":4.8894581500250597E-2},{"$f":"COUNTIFS('06Dec24'!$E:$E,\">\"&253-AC13+$U13-$BG13,'06Dec24'!$D:$D,$D13)/COUNTIF('06Dec24'!$D:$D,$D13)","v":4.8894581500250597E-2},{"$f":"COUNTIFS('06Dec24'!$E:$E,\">\"&253-AD13+$U13-$BG13,'06Dec24'!$D:$D,$D13)/COUNTIF('06Dec24'!$D:$D,$D13)","v":4.8894581500250597E-2},{"$f":"COUNTIFS('06Dec24'!$E:$E,\">\"&253-AE13+$U13-$BG13,'06Dec24'!$D:$D,$D13)/COUNTIF('06Dec24'!$D:$D,$D13)","v":4.8894581500250597E-2},null,null,null,null,null,{"$f":"IF(OR(SUM($AS13:AV13)>0,RANK(M13,M$11:M$41)>AW$6),\"\",1)","v":""},{"$f":"IF(OR(SUM($AS13:AW13)>0,RANK(N13,N$11:N$41)>AX$6),\"\",1)","v":1},{"$f":"IF(OR(SUM($AS13:AX13)>0,RANK(O13,O$11:O$41)>AY$6),\"\",1)","v":""},{"$f":"IF(OR(SUM($AS13:AY13)>0,RANK(P13,P$11:P$41)>AZ$6),\"\",1)","v":""},{"$f":"IF(OR(SUM($AS13:AZ13)>0,RANK(Q13,Q$11:Q$41)>BA$6),\"\",1)","v":""},{"$f":"IF(OR(SUM($AS13:BA13)>0,RANK(R13,R$11:R$41)>BB$6),\"\",1)","v":""},{"$f":"IF(OR(SUM($AS13:BB13)>0,RANK(S13,S$11:S$41)>BC$6),\"\",1)","v":""},null,null,null,{"$f":"VLOOKUP($D13,Table!$A$4:$M$34,COLUMN(Table!$M:$M),FALSE)","v":0}]
[null,null,null,"BD0","BD",{"$f":"VLOOKUP($D14,Table!$A$4:$N$34,COLUMN(Table!$N:$N),FALSE)","v":21363},2028,{"$f":"_xlfn.RANK.EQ($G14,$G$11:$G$41,1)+COUNTIF($G$11:$G14,$G14)-1","v":11},{"$f":"$F14/$F$43*AG14*General!$J$17","v":1.5814712718231446E-3},{"$f":"$F14/$F$43*AH14*General!$J$17","v":1.5814712718231446E-3},{"$f":"$F14/$F$43*AI14*General!$J$17","v":1.5814712718231446E-3},{"$f":"$F14/$F$43*AJ14*General!$J$17","v":1.5814712718231446E-3},{"$f":"$F14/$F$43*AK14*General!$J$17","v":1.5814712718231446E-3},{"$f":"$F14/$F$43*AL14*General!$J$17","v":1.5814712718231446E-3},{"$f":"$F14/$F$43*AM14*General!$J$17","v":1.5814712718231446E-3},{"$f":"$F14/$F$43*AN14*General!$J$17","v":1.5814712718231446E-3},{"$f":"$F14/$F$43*AO14*General!$J$17","v":1.5814712718231446E-3},{"$f":"$F14/$F$43*AP14*General!$J$17","v":1.5814712718231446E-3},{"$f":"$F14/$F$43*AQ14*General!$J$17","v":1.5814712718231446E-3},null,{"$f":"VLOOKUP($D14,Table!$A$4:$L$34,COLUMN(Table!J:J),FALSE)","v":254.98392655616701},{"$f":"(1-MIN(0,VLOOKUP($E14,OLTC_Taps!$D$147:$H$173,6-1,FALSE)+VLOOKUP($E14,OLTC_Taps!$D$147:$N$173,12-1,FALSE)*(V$10-$V$10+1)))*$U14","v":254.98392655616701},{"$f":"(1-MIN(0,VLOOKUP($E14,OLTC_Taps!$D$147:$H$173,6-1,FALSE)+VLOOKUP($E14,OLTC_Taps!$D$147:$N$173,12-1,FALSE)*(W$10-$V$10+1)))*$U14","v":254.98392655616701},{"$f":"(1-MIN(0,VLOOKUP($E14,OLTC_Taps!$D$147:$H$173,6-1,FALSE)+VLOOKUP($E14,OLTC_Taps!$D$147:$N$173,12-1,FALSE)*(X$10-$V$10+1)))*$U14","v":254.98392655616701},{"$f":"(1-MIN(0,VLOOKUP($E14,OLTC_Taps!$D$147:$H$173,6-1,FALSE)+VLOOKUP($E14,OLTC_Taps!$D$147:$N$173,12-1,FALSE)*(Y$10-$V$10+1)))*$U14","v":254.98392655616701},{"$f":"(1-MIN(0,VLOOKUP($E14,OLTC_Taps!$D$147:$H$173,6-1,FALSE)+VLOOKUP($E14,OLTC_Taps!$D$147:$O$173,13-1,FALSE)*(Z$10-$V$10+1)))*$U14","v":254.98392655616701},{"$f":"(1-MIN(0,VLOOKUP($E14,OLTC_Taps!$D$147:$H$173,6-1,FALSE)+VLOOKUP($E14,OLTC_Taps!$D$147:$O$173,13-1,FALSE)*(AA$10-$V$10+1)))*$U14","v":254.98392655616701},{"$f":"(1-MIN(0,VLOOKUP($E14,OLTC_Taps!$D$147:$H$173,6-1,FALSE)+VLOOKUP($E14,OLTC_Taps!$D$147:$O$173,13-1,FALSE)*(AB$10-$V$10+1)))*$U14","v":254.98392655616701},{"$f":"(1-MIN(0,VLOOKUP($E14,OLTC_Taps!$D$147:$H$173,6-1,FALSE)+VLOOKUP($E14,OLTC_Taps!$D$147:$O$173,13-1,FALSE)*(AC$10-$V$10+1)))*$U14","v":254.98392655616701},{"$f":"(1-MIN(0,VLOOKUP($E14,OLTC_Taps!$D$147:$H$173,6-1,FALSE)+VLOOKUP($E14,OLTC_Taps!$D$147:$O$173,13-1,FALSE)*(AD$10-$V$10+1)))*$U14","v":254.98392655616701},{"$f":"(1-MIN(0,VLOOKUP($E14,OLTC_Taps!$D$147:$H$173,6-1,FALSE)+VLOOKUP($E14,OLTC_Taps!$D$147:$O$173,13-1,FALSE)*(AE$10-$V$10+1)))*$U14","v":254.98392655616701},null,{"$f":"COUNTIFS('06Dec24'!$E:$E,\">\"&253-U14+$U14-$BG14,'06Dec24'!$D:$D,$D14)/COUNTIF('06Dec24'!$D:$D,$D14)","v":3.6137246641389315E-2},{"$f":"COUNTIFS('06Dec24'!$E:$E,\">\"&253-V14+$U14-$BG14,'06Dec24'!$D:$D,$D14)/COUNTIF('06Dec24'!$D:$D,$D14)","v":3.6137246641389315E-2},{"$f":"COUNTIFS('06Dec24'!$E:$E,\">\"&253-W14+$U14-$BG14,'06Dec24'!$D:$D,$D14)/COUNTIF('06Dec24'!$D:$D,$D14)","v":3.6137246641389315E-2},{"$f":"COUNTIFS('06Dec24'!$E:$E,\">\"&253-X14+$U14-$BG14,'06Dec24'!$D:$D,$D14)/COUNTIF('06Dec24'!$D:$D,$D14)","v":3.6137246641389315E-2},{"$f":"COUNTIFS('06Dec24'!$E:$E,\">\"&253-Y14+$U14-$BG14,'06Dec24'!$D:$D,$D14)/COUNTIF('06Dec24'!$D:$D,$D14)","v":3.6137246641389315E-2},{"$f":"COUNTIFS('06Dec24'!$E:$E,\">\"&253-Z14+$U14-$BG14,'06Dec24'!$D:$D,$D14)/COUNTIF('06Dec24'!$D:$D,$D14)","v":3.6137246641389315E-2},{"$f":"COUNTIFS('06Dec24'!$E:$E,\">\"&253-AA14+$U14-$BG14,'06Dec24'!$D:$D,$D14)/COUNTIF('06Dec24'!$D:$D,$D14)","v":3.6137246641389315E-2},{"$f":"COUNTIFS('06Dec24'!$E:$E,\">\"&253-AB14+$U14-$BG14,'06Dec24'!$D:$D,$D14)/COUNTIF('06Dec24'!$D:$D,$D14)","v":3.6137246641389315E-2},{"$f":"COUNTIFS('06Dec24'!$E:$E,\">\"&253-AC14+$U14-$BG14,'06Dec24'!$D:$D,$D14)/COUNTIF('06Dec24'!$D:$D,$D14)","v":3.6137246641389315E-2},{"$f":"COUNTIFS('06Dec24'!$E:$E,\">\"&253-AD14+$U14-$BG14,'06Dec24'!$D:$D,$D14)/COUNTIF('06Dec24'!$D:$D,$D14)","v":3.6137246641389315E-2},{"$f":"COUNTIFS('06Dec24'!$E:$E,\">\"&253-AE14+$U14-$BG14,'06Dec24'!$D:$D,$D14)/COUNTIF('06Dec24'!$D:$D,$D14)","v":3.6137246641389315E-2},null,null,null,null,null,{"$f":"IF(OR(SUM($AS14:AV14)>0,RANK(M14,M$11:M$41)>AW$6),\"\",1)","v":""},{"$f":"IF(OR(SUM($AS14:AW14)>0,RANK(N14,N$11:N$41)>AX$6),\"\",1)","v":1},{"$f":"IF(OR(SUM($AS14:AX14)>0,RANK(O14,O$11:O$41)>AY$6),\"\",1)","v":""},{"$f":"IF(OR(SUM($AS14:AY14)>0,RANK(P14,P$11:P$41)>AZ$6),\"\",1)","v":""},{"$f":"IF(OR(SUM($AS14:AZ14)>0,RANK(Q14,Q$11:Q$41)>BA$6),\"\",1)","v":""},{"$f":"IF(OR(SUM($AS14:BA14)>0,RANK(R14,R$11:R$41)>BB$6),\"\",1)","v":""},{"$f":"IF(OR(SUM($AS14:BB14)>0,RANK(S14,S$11:S$41)>BC$6),\"\",1)","v":""},null,null,null,{"$f":"VLOOKUP($D14,Table!$A$4:$M$34,COLUMN(Table!$M:$M),FALSE)","v":0}]
[null,null,null,"SBY","SBY",{"$f":"VLOOKUP($D15,Table!$A$4:$N$34,COLUMN(Table!$N:$N),FALSE)","v":23105},2026,{"$f":"_xlfn.RANK.EQ($G15,$G$11:$G$41,1)+COUNTIF($G$11:$G15,$G15)-1","v":5},{"$f":"$F15/$F$43*AG15*General!$J$17","v":8.1941516674774331E-4},{"$f":"$F15/$F$43*AH15*General!$J$17","v":1.3438408734662991E-3},{"$f":"$F15/$F$43*AI15*General!$J$17","v":1.8641695043511164E-3},{"$f":"$F15/$F$43*AJ15*General!$J$17","v":2.6385168369277338E-3},{"$f":"$F15/$F$43*AK15*General!$J$17","v":3.9475325658072545E-3},{"$f":"$F15/$F$43*AL15*General!$J$17","v":4.2712015566726122E-3},{"$f":"$F15/$F$43*AM15*General!$J$17","v":5.9899248689260038E-3},{"$f":"$F15/$F$43*AN15*General!$J$17","v":9.2798767634181944E-3},{"$f":"$F15/$F$43*AO15*General!$J$17","v":1.4247581211826389E-2},{"$f":"$F15/$F$43*AP15*General!$J$17","v":2.0049040592400411E-2},{"$f":"$F15/$F$43*AQ15*General!$J$17","v":2.5356802335008925E-2},null,{"$f":"VLOOKUP($D15,Table!$A$4:$L$34,COLUMN(Table!J:J),FALSE)","v":254.10916867894073},{"$f":"(1-MIN(0,VLOOKUP($E15,OLTC_Taps!$D$147:$H$173,6-1,FALSE)+VLOOKUP($E15,OLTC_Taps!$D$147:$N$173,12-1,FALSE)*(V$10-$V$10+1)))*$U15","v":254.84846781942801},{"$f":"(1-MIN(0,VLOOKUP($E15,OLTC_Taps!$D$147:$H$173,6-1,FALSE)+VLOOKUP($E15,OLTC_Taps!$D$147:$N$173,12-1,FALSE)*(W$10-$V$10+1)))*$U15","v":255.58776695991523},{"$f":"(1-MIN(0,VLOOKUP($E15,OLTC_Taps!$D$147:$H$173,6-1,FALSE)+VLOOKUP($E15,OLTC_Taps!$D$147:$N$173,12-1,FALSE)*(X$10-$V$10+1)))*$U15","v":256.32706610040253},{"$f":"(1-MIN(0,VLOOKUP($E15,OLTC_Taps!$D$147:$H$173,6-1,FALSE)+VLOOKUP($E15,OLTC_Taps!$D$147:$N$173,12-1,FALSE)*(Y$10-$V$10+1)))*$U15","v":257.06636524088975},{"$f":"(1-MIN(0,VLOOKUP($E15,OLTC_Taps!$D$147:$H$173,6-1,FALSE)+VLOOKUP($E15,OLTC_Taps!$D$147:$O$173,13-1,FALSE)*(Z$10-$V$10+1)))*$U15","v":257.26229427568524},{"$f":"(1-MIN(0,VLOOKUP($E15,OLTC_Taps!$D$147:$H$173,6-1,FALSE)+VLOOKUP($E15,OLTC_Taps!$D$147:$O$173,13-1,FALSE)*(AA$10-$V$10+1)))*$U15","v":257.89291939503414},{"$f":"(1-MIN(0,VLOOKUP($E15,OLTC_Taps!$D$147:$H$173,6-1,FALSE)+VLOOKUP($E15,OLTC_Taps!$D$147:$O$173,13-1,FALSE)*(AB$10-$V$10+1)))*$U15","v":258.52354451438299},{"$f":"(1-MIN(0,VLOOKUP($E15,OLTC_Taps!$D$147:$H$173,6-1,FALSE)+VLOOKUP($E15,OLTC_Taps!$D$147:$O$173,13-1,FALSE)*(AC$10-$V$10+1)))*$U15","v":259.1541696337319},{"$f":"(1-MIN(0,VLOOKUP($E15,OLTC_Taps!$D$147:$H$173,6-1,FALSE)+VLOOKUP($E15,OLTC_Taps!$D$147:$O$173,13-1,FALSE)*(AD$10-$V$10+1)))*$U15","v":259.7847947530808},{"$f":"(1-MIN(0,VLOOKUP($E15,OLTC_Taps!$D$147:$H$173,6-1,FALSE)+VLOOKUP($E15,OLTC_Taps!$D$147:$O$173,13-1,FALSE)*(AE$10-$V$10+1)))*$U15","v":260.41541987242971},null,{"$f":"COUNTIFS('06Dec24'!$E:$E,\">\"&253-U15+$U15-$BG15,'06Dec24'!$D:$D,$D15)/COUNTIF('06Dec24'!$D:$D,$D15)","v":1.7312270071413113E-2},{"$f":"COUNTIFS('06Dec24'!$E:$E,\">\"&253-V15+$U15-$BG15,'06Dec24'!$D:$D,$D15)/COUNTIF('06Dec24'!$D:$D,$D15)","v":2.8392122917117506E-2},{"$f":"COUNTIFS('06Dec24'!$E:$E,\">\"&253-W15+$U15-$BG15,'06Dec24'!$D:$D,$D15)/COUNTIF('06Dec24'!$D:$D,$D15)","v":3.9385414412464834E-2},{"$f":"COUNTIFS('06Dec24'!$E:$E,\">\"&253-X15+$U15-$BG15,'06Dec24'!$D:$D,$D15)/COUNTIF('06Dec24'!$D:$D,$D15)","v":5.574550962995023E-2},{"$f":"COUNTIFS('06Dec24'!$E:$E,\">\"&253-Y15+$U15-$BG15,'06Dec24'!$D:$D,$D15)/COUNTIF('06Dec24'!$D:$D,$D15)","v":8.3401861069032676E-2},{"$f":"COUNTIFS('06Dec24'!$E:$E,\">\"&253-Z15+$U15-$BG15,'06Dec24'!$D:$D,$D15)/COUNTIF('06Dec24'!$D:$D,$D15)","v":9.0240207747240855E-2},{"$f":"COUNTIFS('06Dec24'!$E:$E,\">\"&253-AA15+$U15-$BG15,'06Dec24'!$D:$D,$D15)/COUNTIF('06Dec24'!$D:$D,$D15)","v":0.12655269422202986},{"$f":"COUNTIFS('06Dec24'!$E:$E,\">\"&253-AB15+$U15-$BG15,'06Dec24'!$D:$D,$D15)/COUNTIF('06Dec24'!$D:$D,$D15)","v":0.19606145855875351},{"$f":"COUNTIFS('06Dec24'!$E:$E,\">\"&253-AC15+$U15-$BG15,'06Dec24'!$D:$D,$D15)/COUNTIF('06Dec24'!$D:$D,$D15)","v":0.30101709586669551},{"$f":"COUNTIFS('06Dec24'!$E:$E,\">\"&253-AD15+$U15-$BG15,'06Dec24'!$D:$D,$D15)/COUNTIF('06Dec24'!$D:$D,$D15)","v":0.42358796797230036},{"$f":"COUNTIFS('06Dec24'!$E:$E,\">\"&253-AE15+$U15-$BG15,'06Dec24'!$D:$D,$D15)/COUNTIF('06Dec24'!$D:$D,$D15)","v":0.53572819735987887},null,null,null,null,1,{"$f":"IF(OR(SUM($AS15:AV15)>0,RANK(M15,M$11:M$41)>AW$6),\"\",1)","v":""},{"$f":"IF(OR(SUM($AS15:AW15)>0,RANK(N15,N$11:N$41)>AX$6),\"\",1)","v":""},{"$f":"IF(OR(SUM($AS15:AX15)>0,RANK(O15,O$11:O$41)>AY$6),\"\",1)","v":""},{"$f":"IF(OR(SUM($AS15:AY15)>0,RANK(P15,P$11:P$41)>AZ$6),\"\",1)","v":""},{"$f":"IF(OR(SUM($AS15:AZ15)>0,RANK(Q15,Q$11:Q$41)>BA$6),\"\",1)","v":""},{"$f":"IF(OR(SUM($AS15:BA15)>0,RANK(R15,R$11:R$41)>BB$6),\"\",1)","v":""},{"$f":"IF(OR(SUM($AS15:BB15)>0,RANK(S15,S$11:S$41)>BC$6),\"\",1)","v":""},null,null,null,{"$f":"VLOOKUP($D15,Table!$A$4:$M$34,COLUMN(Table!$M:$M),FALSE)","v":0}]
[null,null,null,"PTN","PTN",{"$f":"VLOOKUP($D16,Table!$A$4:$N$34,COLUMN(Table!$N:$N),FALSE)","v":14196},2025,{"$f":"_xlfn.RANK.EQ($G16,$G$11:$G$41,1)+COUNTIF($G$11:$G16,$G16)-1","v":3},{"$f":"$F16/$F$43*AG16*General!$J$17","v":1.2659964326252639E-3},{"$f":"$F16/$F$43*AH16*General!$J$17","v":1.2659964326252639E-3},{"$f":"$F16/$F$43*AI16*General!$J$17","v":1.2659964326252639E-3},{"$f":"$F16/$F$43*AJ16*General!$J$17","v":1.2659964326252639E-3},{"$f":"$F16/$F$43*AK16*General!$J$17","v":1.2659964326252639E-3},{"$f":"$F16/$F$43*AL16*General!$J$17","v":1.2659964326252639E-3},{"$f":"$F16/$F$43*AM16*General!$J$17","v":1.2659964326252639E-3},{"$f":"$F16/$F$43*AN16*General!$J$17","v":1.2659964326252639E-3},{"$f":"$F16/$F$43*AO16*General!$J$17","v":1.2659964326252639E-3},{"$f":"$F16/$F$43*AP16*General!$J$17","v":1.2659964326252639E-3},{"$f":"$F16/$F$43*AQ16*General!$J$17","v":1.2659964326252639E-3},null,{"$f":"VLOOKUP($D16,Table!$A$4:$L$34,COLUMN(Table!J:J),FALSE)","v":255.14675313088199},{"$f":"(1-MIN(0,VLOOKUP($E16,OLTC_Taps!$D$147:$H$173,6-1,FALSE)+VLOOKUP($E16,OLTC_Taps!$D$147:$N$173,12-1,FALSE)*(V$10-$V$10+1)))*$U16","v":255.14675313088199},{"$f":"(1-MIN(0,VLOOKUP($E16,OLTC_Taps!$D$147:$H$173,6-1,FALSE)+VLOOKUP($E16,OLTC_Taps!$D$147:$N$173,12-1,FALSE)*(W$10-$V$10+1)))*$U16","v":255.14675313088199},{"$f":"(1-MIN(0,VLOOKUP($E16,OLTC_Taps!$D$147:$H$173,6-1,FALSE)+VLOOKUP($E16,OLTC_Taps!$D$147:$N$173,12-1,FALSE)*(X$10-$V$10+1)))*$U16","v":255.14675313088199},{"$f":"(1-MIN(0,VLOOKUP($E16,OLTC_Taps!$D$147:$H$173,6-1,FALSE)+VLOOKUP($E16,OLTC_Taps!$D$147:$N$173,12-1,FALSE)*(Y$10-$V$10+1)))*$U16","v":255.14675313088199},{"$f":"(1-MIN(0,VLOOKUP($E16,OLTC_Taps!$D$147:$H$173,6-1,FALSE)+VLOOKUP($E16,OLTC_Taps!$D$147:$O$173,13-1,FALSE)*(Z$10-$V$10+1)))*$U16","v":255.14675313088199},{"$f":"(1-MIN(0,VLOOKUP($E16,OLTC_Taps!$D$147:$H$173,6-1,FALSE)+VLOOKUP($E16,OLTC_Taps!$D$147:$O$173,13-1,FALSE)*(AA$10-$V$10+1)))*$U16","v":255.14675313088199},{"$f":"(1-MIN(0,VLOOKUP($E16,OLTC_Taps!$D$147:$H$173,6-1,FALSE)+VLOOKUP($E16,OLTC_Taps!$D$147:$O$173,13-1,FALSE)*(AB$10-$V$10+1)))*$U16","v":255.14675313088199},{"$f":"(1-MIN(0,VLOOKUP($E16,OLTC_Taps!$D$147:$H$173,6-1,FALSE)+VLOOKUP($E16,OLTC_Taps!$D$147:$O$173,13-1,FALSE)*(AC$10-$V$10+1)))*$U16","v":255.14675313088199},{"$f":"(1-MIN(0,VLOOKUP($E16,OLTC_Taps!$D$147:$H$173,6-1,FALSE)+VLOOKUP($E16,OLTC_Taps!$D$147:$O$173,13-1,FALSE)*(AD$10-$V$10+1)))*$U16","v":255.14675313088199},{"$f":"(1-MIN(0,VLOOKUP($E16,OLTC_Taps!$D$147:$H$173,6-1,FALSE)+VLOOKUP($E16,OLTC_Taps!$D$147:$O$173,13-1,FALSE)*(AE$10-$V$10+1)))*$U16","v":255.14675313088199},null,{"$f":"COUNTIFS('06Dec24'!$E:$E,\">\"&253-U16+$U16-$BG16,'06Dec24'!$D:$D,$D16)/COUNTIF('06Dec24'!$D:$D,$D16)","v":4.3533389687235843E-2},{"$f":"COUNTIFS('06Dec24'!$E:$E,\">\"&253-V16+$U16-$BG16,'06Dec24'!$D:$D,$D16)/COUNTIF('06Dec24'!$D:$D,$D16)","v":4.3533389687235843E-2},{"$f":"COUNTIFS('06Dec24'!$E:$E,\">\"&253-W16+$U16-$BG16,'06Dec24'!$D:$D,$D16)/COUNTIF('06Dec24'!$D:$D,$D16)","v":4.3533389687235843E-2},{"$f":"COUNTIFS('06Dec24'!$E:$E,\">\"&253-X16+$U16-$BG16,'06Dec24'!$D:$D,$D16)/COUNTIF('06Dec24'!$D:$D,$D16)","v":4.3533389687235843E-2},{"$f":"COUNTIFS('06Dec24'!$E:$E,\">\"&253-Y16+$U16-$BG16,'06Dec24'!$D:$D,$D16)/COUNTIF('06Dec24'!$D:$D,$D16)","v":4.3533389687235843E-2},{"$f":"COUNTIFS('06Dec24'!$E:$E,\">\"&253-Z16+$U16-$BG16,'06Dec24'!$D:$D,$D16)/COUNTIF('06Dec24'!$D:$D,$D16)","v":4.3533389687235843E-2},{"$f":"COUNTIFS('06Dec24'!$E:$E,\">\"&253-AA16+$U16-$BG16,'06Dec24'!$D:$D,$D16)/COUNTIF('06Dec24'!$D:$D,$D16)","v":4.3533389687235843E-2},{"$f":"COUNTIFS('06Dec24'!$E:$E,\">\"&253-AB16+$U16-$BG16,'06Dec24'!$D:$D,$D16)/COUNTIF('06Dec24'!$D:$D,$D16)","v":4.3533389687235843E-2},{"$f":"COUNTIFS('06Dec24'!$E:$E,\">\"&253-AC16+$U16-$BG16,'06Dec24'!$D:$D,$D16)/COUNTIF('06Dec24'!$D:$D,$D16)","v":4.3533389687235843E-2},{"$f":"COUNTIFS('06Dec24'!$E:$E,\">\"&253-AD16+$U16-$BG16,'06Dec24'!$D:$D,$D16)/COUNTIF('06Dec24'!$D:$D,$D16)","v":4.3533389687235843E-2},{"$f":"COUNTIFS('06Dec24'!$E:$E,\">\"&253-AE16+$U16-$BG16,'06Dec24'!$D:$D,$D16)/COUNTIF('06Dec24'!$D:$D,$D16)","v":4.3533389687235843E-2},null,null,null,1,null,{"$f":"IF(OR(SUM($AS16:AV16)>0,RANK(M16,M$11:M$41)>AW$6),\"\",1)","v":""},{"$f":"IF(OR(SUM($AS16:AW16)>0,RANK(N16,N$11:N$41)>AX$6),\"\",1)","v":""},{"$f":"IF(OR(SUM($AS16:AX16)>0,RANK(O16,O$11:O$41)>AY$6),\"\",1)","v":""},{"$f":"IF(OR(SUM($AS16:AY16)>0,RANK(P16,P$11:P$41)>AZ$6),\"\",1)","v":""},{"$f":"IF(OR(SUM($AS16:AZ16)>0,RANK(Q16,Q$11:Q$41)>BA$6),\"\",1)","v":""},{"$f":"IF(OR(SUM($AS16:BA16)>0,RANK(R16,R$11:R$41)>BB$6),\"\",1)","v":""},{"$f":"IF(OR(SUM($AS16:BB16)>0,RANK(S16,S$11:S$41)>BC$6),\"\",1)","v":""},null,null,null,{"$f":"VLOOKUP($D16,Table!$A$4:$M$34,COLUMN(Table!$M:$M),FALSE)","v":0}]
[null,null,null,"EPN","EPN",{"$f":"VLOOKUP($D17,Table!$A$4:$N$34,COLUMN(Table!$N:$N),FALSE)","v":10003},2028,{"$f":"_xlfn.RANK.EQ($G17,$G$11:$G$41,1)+COUNTIF($G$11:$G17,$G17)-1","v":12},{"$f":"$F17/$F$43*AG17*General!$J$17","v":1.2004432192854442E-3},{"$f":"$F17/$F$43*AH17*General!$J$17","v":1.2004432192854442E-3},{"$f":"$F17/$F$43*AI17*General!$J$17","v":1.2004432192854442E-3},{"$f":"$F17/$F$43*AJ17*General!$J$17","v":1.2004432192854442E-3},{"$f":"$F17/$F$43*AK17*General!$J$17","v":1.2004432192854442E-3},{"$f":"$F17/$F$43*AL17*General!$J$17","v":1.2004432192854442E-3},{"$f":"$F17/$F$43*AM17*General!$J$17","v":1.2004432192854442E-3},{"$f":"$F17/$F$43*AN17*General!$J$17","v":1.2004432192854442E-3},{"$f":"$F17/$F$43*AO17*General!$J$17","v":1.2004432192854442E-3},{"$f":"$F17/$F$43*AP17*General!$J$17","v":1.2004432192854442E-3},{"$f":"$F17/$F$43*AQ17*General!$J$17","v":1.2004432192854442E-3},null,{"$f":"VLOOKUP($D17,Table!$A$4:$L$34,COLUMN(Table!J:J),FALSE)","v":255.1268552438888},{"$f":"(1-MIN(0,VLOOKUP($E17,OLTC_Taps!$D$147:$H$173,6-1,FALSE)+VLOOKUP($E17,OLTC_Taps!$D$147:$N$173,12-1,FALSE)*(V$10-$V$10+1)))*$U17","v":255.1268552438888},{"$f":"(1-MIN(0,VLOOKUP($E17,OLTC_Taps!$D$147:$H$173,6-1,FALSE)+VLOOKUP($E17,OLTC_Taps!$D$147:$N$173,12-1,FALSE)*(W$10-$V$10+1)))*$U17","v":255.1268552438888},{"$f":"(1-MIN(0,VLOOKUP($E17,OLTC_Taps!$D$147:$H$173,6-1,FALSE)+VLOOKUP($E17,OLTC_Taps!$D$147:$N$173,12-1,FALSE)*(X$10-$V$10+1)))*$U17","v":255.1268552438888},{"$f":"(1-MIN(0,VLOOKUP($E17,OLTC_Taps!$D$147:$H$173,6-1,FALSE)+VLOOKUP($E17,OLTC_Taps!$D$147:$N$173,12-1,FALSE)*(Y$10-$V$10+1)))*$U17","v":255.1268552438888},{"$f":"(1-MIN(0,VLOOKUP($E17,OLTC_Taps!$D$147:$H$173,6-1,FALSE)+VLOOKUP($E17,OLTC_Taps!$D$147:$O$173,13-1,FALSE)*(Z$10-$V$10+1)))*$U17","v":255.1268552438888},{"$f":"(1-MIN(0,VLOOKUP($E17,OLTC_Taps!$D$147:$H$173,6-1,FALSE)+VLOOKUP($E17,OLTC_Taps!$D$147:$O$173,13-1,FALSE)*(AA$10-$V$10+1)))*$U17","v":255.1268552438888},{"$f":"(1-MIN(0,VLOOKUP($E17,OLTC_Taps!$D$147:$H$173,6-1,FALSE)+VLOOKUP($E17,OLTC_Taps!$D$147:$O$173,13-1,FALSE)*(AB$10-$V$10+1)))*$U17","v":255.1268552438888},{"$f":"(1-MIN(0,VLOOKUP($E17,OLTC_Taps!$D$147:$H$173,6-1,FALSE)+VLOOKUP($E17,OLTC_Taps!$D$147:$O$173,13-1,FALSE)*(AC$10-$V$10+1)))*$U17","v":255.1268552438888},{"$f":"(1-MIN(0,VLOOKUP($E17,OLTC_Taps!$D$147:$H$173,6-1,FALSE)+VLOOKUP($E17,OLTC_Taps!$D$147:$O$173,13-1,FALSE)*(AD$10-$V$10+1)))*$U17","v":255.1268552438888},{"$f":"(1-MIN(0,VLOOKUP($E17,OLTC_Taps!$D$147:$H$173,6-1,FALSE)+VLOOKUP($E17,OLTC_Taps!$D$147:$O$173,13-1,FALSE)*(AE$10-$V$10+1)))*$U17","v":255.1268552438888},null,{"$f":"COUNTIFS('06Dec24'!$E:$E,\">\"&253-U17+$U17-$BG17,'06Dec24'!$D:$D,$D17)/COUNTIF('06Dec24'!$D:$D,$D17)","v":5.8582425272418276E-2},{"$f":"COUNTIFS('06Dec24'!$E:$E,\">\"&253-V17+$U17-$BG17,'06Dec24'!$D:$D,$D17)/COUNTIF('06Dec24'!$D:$D,$D17)","v":5.8582425272418276E-2},{"$f":"COUNTIFS('06Dec24'!$E:$E,\">\"&253-W17+$U17-$BG17,'06Dec24'!$D:$D,$D17)/COUNTIF('06Dec24'!$D:$D,$D17)","v":5.8582425272418276E-2},{"$f":"COUNTIFS('06Dec24'!$E:$E,\">\"&253-X17+$U17-$BG17,'06Dec24'!$D:$D,$D17)/COUNTIF('06Dec24'!$D:$D,$D17)","v":5.8582425272418276E-2},{"$f":"COUNTIFS('06Dec24'!$E:$E,\">\"&253-Y17+$U17-$BG17,'06Dec24'!$D:$D,$D17)/COUNTIF('06Dec24'!$D:$D,$D17)","v":5.8582425272418276E-2},{"$f":"COUNTIFS('06Dec24'!$E:$E,\">\"&253-Z17+$U17-$BG17,'06Dec24'!$D:$D,$D17)/COUNTIF('06Dec24'!$D:$D,$D17)","v":5.8582425272418276E-2},{"$f":"COUNTIFS('06Dec24'!$E:$E,\">\"&253-AA17+$U17-$BG17,'06Dec24'!$D:$D,$D17)/COUNTIF('06Dec24'!$D:$D,$D17)","v":5.8582425272418276E-2},{"$f":"COUNTIFS('06Dec24'!$E:$E,\">\"&253-AB17+$U17-$BG17,'06Dec24'!$D:$D,$D17)/COUNTIF('06Dec24'!$D:$D,$D17)","v":5.8582425272418276E-2},{"$f":"COUNTIFS('06Dec24'!$E:$E,\">\"&253-AC17+$U17-$BG17,'06Dec24'!$D:$D,$D17)/COUNTIF('06Dec24'!$D:$D,$D17)","v":5.8582425272418276E-2},{"$f":"COUNTIFS('06Dec24'!$E:$E,\">\"&253-AD17+$U17-$BG17,'06Dec24'!$D:$D,$D17)/COUNTIF('06Dec24'!$D:$D,$D17)","v":5.8582425272418276E-2},{"$f":"COUNTIFS('06Dec24'!$E:$E,\">\"&253-AE17+$U17-$BG17,'06Dec24'!$D:$D,$D17)/COUNTIF('06Dec24'!$D:$D,$D17)","v":5.8582425272418276E-2},null,null,null,null,null,{"$f":"IF(OR(SUM($AS17:AV17)>0,RANK(M17,M$11:M$41)>AW$6),\"\",1)","v":""},{"$f":"IF(OR(SUM($AS17:AW17)>0,RANK(N17,N$11:N$41)>AX$6),\"\",1)","v":1},{"$f":"IF(OR(SUM($AS17:AX17)>0,RANK(O17,O$11:O$41)>AY$6),\"\",1)","v":""},{"$f":"IF(OR(SUM($AS17:AY17)>0,RANK(P17,P$11:P$41)>AZ$6),\"\",1)","v":""},{"$f":"IF(OR(SUM($AS17:AZ17)>0,RANK(Q17,Q$11:Q$41)>BA$6),\"\",1)","v":""},{"$f":"IF(OR(SUM($AS17:BA17)>0,RANK(R17,R$11:R$41)>BB$6),\"\",1)","v":""},{"$f":"IF(OR(SUM($AS17:BB17)>0,RANK(S17,S$11:S$41)>BC$6),\"\",1)","v":""},null,null,null,{"$f":"VLOOKUP($D17,Table!$A$4:$M$34,COLUMN(Table!$M:$M),FALSE)","v":0}]
[null,null,null,"ST0","ST",{"$f":"VLOOKUP($D18,Table!$A$4:$N$34,COLUMN(Table!$N:$N),FALSE)","v":27523},2027,{"$f":"_xlfn.RANK.EQ($G18,$G$11:$G$41,1)+COUNTIF($G$11:$G18,$G18)-1","v":8},{"$f":"$F18/$F$43*AG18*General!$J$17","v":1.159472460948057E-3},{"$f":"$F18/$F$43*AH18*General!$J$17","v":1.159472460948057E-3},{"$f":"$F18/$F$43*AI18*General!$J$17","v":1.159472460948057E-3},{"$f":"$F18/$F$43*AJ18*General!$J$17","v":1.159472460948057E-3},{"$f":"$F18/$F$43*AK18*General!$J$17","v":2.33123614939733E-3},{"$f":"$F18/$F$43*AL18*General!$J$17","v":1.5855683476568836E-3},{"$f":"$F18/$F$43*AM18*General!$J$17","v":2.7061185881844226E-3},{"$f":"$F18/$F$43*AN18*General!$J$17","v":4.3121723150100003E-3},{"$f":"$F18/$F$43*AO18*General!$J$17","v":6.7376412085833207E-3},{"$f":"$F18/$F$43*AP18*General!$J$17","v":9.6834387330414582E-3},{"$f":"$F18/$F$43*AQ18*General!$J$17","v":1.3110642667963895E-2},null,{"$f":"VLOOKUP($D18,Table!$A$4:$L$34,COLUMN(Table!J:J),FALSE)","v":254.29966936653022},{"$f":"(1-MIN(0,VLOOKUP($E18,OLTC_Taps!$D$147:$H$173,6-1,FALSE)+VLOOKUP($E18,OLTC_Taps!$D$147:$N$173,12-1,FALSE)*(V$10-$V$10+1)))*$U18","v":254.29966936653022},{"$f":"(1-MIN(0,VLOOKUP($E18,OLTC_Taps!$D$147:$H$173,6-1,FALSE)+VLOOKUP($E18,OLTC_Taps!$D$147:$N$173,12-1,FALSE)*(W$10-$V$10+1)))*$U18","v":254.29966936653022},{"$f":"(1-MIN(0,VLOOKUP($E18,OLTC_Taps!$D$147:$H$173,6-1,FALSE)+VLOOKUP($E18,OLTC_Taps!$D$147:$N$173,12-1,FALSE)*(X$10-$V$10+1)))*$U18","v":254.29966936653022},{"$f":"(1-MIN(0,VLOOKUP($E18,OLTC_Taps!$D$147:$H$173,6-1,FALSE)+VLOOKUP($E18,OLTC_Taps!$D$147:$N$173,12-1,FALSE)*(Y$10-$V$10+1)))*$U18","v":255.19123064777631},{"$f":"(1-MIN(0,VLOOKUP($E18,OLTC_Taps!$D$147:$H$173,6-1,FALSE)+VLOOKUP($E18,OLTC_Taps!$D$147:$O$173,13-1,FALSE)*(Z$10-$V$10+1)))*$U18","v":254.66987060240845},{"$f":"(1-MIN(0,VLOOKUP($E18,OLTC_Taps!$D$147:$H$173,6-1,FALSE)+VLOOKUP($E18,OLTC_Taps!$D$147:$O$173,13-1,FALSE)*(AA$10-$V$10+1)))*$U18","v":255.37966002300041},{"$f":"(1-MIN(0,VLOOKUP($E18,OLTC_Taps!$D$147:$H$173,6-1,FALSE)+VLOOKUP($E18,OLTC_Taps!$D$147:$O$173,13-1,FALSE)*(AB$10-$V$10+1)))*$U18","v":256.08944944359234},{"$f":"(1-MIN(0,VLOOKUP($E18,OLTC_Taps!$D$147:$H$173,6-1,FALSE)+VLOOKUP($E18,OLTC_Taps!$D$147:$O$173,13-1,FALSE)*(AC$10-$V$10+1)))*$U18","v":256.7992388641843},{"$f":"(1-MIN(0,VLOOKUP($E18,OLTC_Taps!$D$147:$H$173,6-1,FALSE)+VLOOKUP($E18,OLTC_Taps!$D$147:$O$173,13-1,FALSE)*(AD$10-$V$10+1)))*$U18","v":257.50902828477632},{"$f":"(1-MIN(0,VLOOKUP($E18,OLTC_Taps!$D$147:$H$173,6-1,FALSE)+VLOOKUP($E18,OLTC_Taps!$D$147:$O$173,13-1,FALSE)*(AE$10-$V$10+1)))*$U18","v":258.21881770536828},null,{"$f":"COUNTIFS('06Dec24'!$E:$E,\">\"&253-U18+$U18-$BG18,'06Dec24'!$D:$D,$D18)/COUNTIF('06Dec24'!$D:$D,$D18)","v":2.0564618682556407E-2},{"$f":"COUNTIFS('06Dec24'!$E:$E,\">\"&253-V18+$U18-$BG18,'06Dec24'!$D:$D,$D18)/COUNTIF('06Dec24'!$D:$D,$D18)","v":2.0564618682556407E-2},{"$f":"COUNTIFS('06Dec24'!$E:$E,\">\"&253-W18+$U18-$BG18,'06Dec24'!$D:$D,$D18)/COUNTIF('06Dec24'!$D:$D,$D18)","v":2.0564618682556407E-2},{"$f":"COUNTIFS('06Dec24'!$E:$E,\">\"&253-X18+$U18-$BG18,'06Dec24'!$D:$D,$D18)/COUNTIF('06Dec24'!$D:$D,$D18)","v":2.0564618682556407E-2},{"$f":"COUNTIFS('06Dec24'!$E:$E,\">\"&253-Y18+$U18-$BG18,'06Dec24'!$D:$D,$D18)/COUNTIF('06Dec24'!$D:$D,$D18)","v":4.1347236856447332E-2},{"$f":"COUNTIFS('06Dec24'!$E:$E,\">\"&253-Z18+$U18-$BG18,'06Dec24'!$D:$D,$D18)/COUNTIF('06Dec24'!$D:$D,$D18)","v":2.8121934382153109E-2},{"$f":"COUNTIFS('06Dec24'!$E:$E,\">\"&253-AA18+$U18-$BG18,'06Dec24'!$D:$D,$D18)/COUNTIF('06Dec24'!$D:$D,$D18)","v":4.7996221342150203E-2},{"$f":"COUNTIFS('06Dec24'!$E:$E,\">\"&253-AB18+$U18-$BG18,'06Dec24'!$D:$D,$D18)/COUNTIF('06Dec24'!$D:$D,$D18)","v":7.6481488209860837E-2},{"$f":"COUNTIFS('06Dec24'!$E:$E,\">\"&253-AC18+$U18-$BG18,'06Dec24'!$D:$D,$D18)/COUNTIF('06Dec24'!$D:$D,$D18)","v":0.11950005449987283},{"$f":"COUNTIFS('06Dec24'!$E:$E,\">\"&253-AD18+$U18-$BG18,'06Dec24'!$D:$D,$D18)/COUNTIF('06Dec24'!$D:$D,$D18)","v":0.17174726592304618},{"$f":"COUNTIFS('06Dec24'!$E:$E,\">\"&253-AE18+$U18-$BG18,'06Dec24'!$D:$D,$D18)/COUNTIF('06Dec24'!$D:$D,$D18)","v":0.23253279075682157},null,null,null,null,null,{"$f":"IF(OR(SUM($AS18:AV18)>0,RANK(M18,M$11:M$41)>AW$6),\"\",1)","v":1},{"$f":"IF(OR(SUM($AS18:AW18)>0,RANK(N18,N$11:N$41)>AX$6),\"\",1)","v":""},{"$f":"IF(OR(SUM($AS18:AX18)>0,RANK(O18,O$11:O$41)>AY$6),\"\",1)","v":""},{"$f":"IF(OR(SUM($AS18:AY18)>0,RANK(P18,P$11:P$41)>AZ$6),\"\",1)","v":""},{"$f":"IF(OR(SUM($AS18:AZ18)>0,RANK(Q18,Q$11:Q$41)>BA$6),\"\",1)","v":""},{"$f":"IF(OR(SUM($AS18:BA18)>0,RANK(R18,R$11:R$41)>BB$6),\"\",1)","v":""},{"$f":"IF(OR(SUM($AS18:BB18)>0,RANK(S18,S$11:S$41)>BC$6),\"\",1)","v":""},null,null,null,{"$f":"VLOOKUP($D18,Table!$A$4:$M$34,COLUMN(Table!$M:$M),FALSE)","v":0}]
[null,null,null,"FE0","FE",{"$f":"VLOOKUP($D19,Table!$A$4:$N$34,COLUMN(Table!$N:$N),FALSE)","v":17681},2026,{"$f":"_xlfn.RANK.EQ($G19,$G$11:$G$41,1)+COUNTIF($G$11:$G19,$G19)-1","v":6},{"$f":"$F19/$F$43*AG19*General!$J$17","v":1.0590941030214583E-3},{"$f":"$F19/$F$43*AH19*General!$J$17","v":1.0590941030214583E-3},{"$f":"$F19/$F$43*AI19*General!$J$17","v":1.0590941030214583E-3},{"$f":"$F19/$F$43*AJ19*General!$J$17","v":1.0590941030214583E-3},{"$f":"$F19/$F$43*AK19*General!$J$17","v":1.0590941030214583E-3},{"$f":"$F19/$F$43*AL19*General!$J$17","v":1.0590941030214583E-3},{"$f":"$F19/$F$43*AM19*General!$J$17","v":1.0590941030214583E-3},{"$f":"$F19/$F$43*AN19*General!$J$17","v":1.0590941030214583E-3},{"$f":"$F19/$F$43*AO19*General!$J$17","v":1.0590941030214583E-3},{"$f":"$F19/$F$43*AP19*General!$J$17","v":1.0590941030214583E-3},{"$f":"$F19/$F$43*AQ19*General!$J$17","v":1.0590941030214583E-3},null,{"$f":"VLOOKUP($D19,Table!$A$4:$L$34,COLUMN(Table!J:J),FALSE)","v":254.27594075280518},{"$f":"(1-MIN(0,VLOOKUP($E19,OLTC_Taps!$D$147:$H$173,6-1,FALSE)+VLOOKUP($E19,OLTC_Taps!$D$147:$N$173,12-1,FALSE)*(V$10-$V$10+1)))*$U19","v":254.27594075280518},{"$f":"(1-MIN(0,VLOOKUP($E19,OLTC_Taps!$D$147:$H$173,6-1,FALSE)+VLOOKUP($E19,OLTC_Taps!$D$147:$N$173,12-1,FALSE)*(W$10-$V$10+1)))*$U19","v":254.27594075280518},{"$f":"(1-MIN(0,VLOOKUP($E19,OLTC_Taps!$D$147:$H$173,6-1,FALSE)+VLOOKUP($E19,OLTC_Taps!$D$147:$N$173,12-1,FALSE)*(X$10-$V$10+1)))*$U19","v":254.27594075280518},{"$f":"(1-MIN(0,VLOOKUP($E19,OLTC_Taps!$D$147:$H$173,6-1,FALSE)+VLOOKUP($E19,OLTC_Taps!$D$147:$N$173,12-1,FALSE)*(Y$10-$V$10+1)))*$U19","v":254.27594075280518},{"$f":"(1-MIN(0,VLOOKUP($E19,OLTC_Taps!$D$147:$H$173,6-1,FALSE)+VLOOKUP($E19,OLTC_Taps!$D$147:$O$173,13-1,FALSE)*(Z$10-$V$10+1)))*$U19","v":254.27594075280518},{"$f":"(1-MIN(0,VLOOKUP($E19,OLTC_Taps!$D$147:$H$173,6-1,FALSE)+VLOOKUP($E19,OLTC_Taps!$D$147:$O$173,13-1,FALSE)*(AA$10-$V$10+1)))*$U19","v":254.27594075280518},{"$f":"(1-MIN(0,VLOOKUP($E19,OLTC_Taps!$D$147:$H$173,6-1,FALSE)+VLOOKUP($E19,OLTC_Taps!$D$147:$O$173,13-1,FALSE)*(AB$10-$V$10+1)))*$U19","v":254.27594075280518},{"$f":"(1-MIN(0,VLOOKUP($E19,OLTC_Taps!$D$147:$H$173,6-1,FALSE)+VLOOKUP($E19,OLTC_Taps!$D$147:$O$173,13-1,FALSE)*(AC$10-$V$10+1)))*$U19","v":254.27594075280518},{"$f":"(1-MIN(0,VLOOKUP($E19,OLTC_Taps!$D$147:$H$173,6-1,FALSE)+VLOOKUP($E19,OLTC_Taps!$D$147:$O$173,13-1,FALSE)*(AD$10-$V$10+1)))*$U19","v":254.27594075280518},{"$f":"(1-MIN(0,VLOOKUP($E19,OLTC_Taps!$D$147:$H$173,6-1,FALSE)+VLOOKUP($E19,OLTC_Taps!$D$147:$O$173,13-1,FALSE)*(AE$10-$V$10+1)))*$U19","v":254.27594075280518},null,{"$f":"COUNTIFS('06Dec24'!$E:$E,\">\"&253-U19+$U19-$BG19,'06Dec24'!$D:$D,$D19)/COUNTIF('06Dec24'!$D:$D,$D19)","v":2.92404275776257E-2},{"$f":"COUNTIFS('06Dec24'!$E:$E,\">\"&253-V19+$U19-$BG19,'06Dec24'!$D:$D,$D19)/COUNTIF('06Dec24'!$D:$D,$D19)","v":2.92404275776257E-2},{"$f":"COUNTIFS('06Dec24'!$E:$E,\">\"&253-W19+$U19-$BG19,'06Dec24'!$D:$D,$D19)/COUNTIF('06Dec24'!$D:$D,$D19)","v":2.92404275776257E-2},{"$f":"COUNTIFS('06Dec24'!$E:$E,\">\"&253-X19+$U19-$BG19,'06Dec24'!$D:$D,$D19)/COUNTIF('06Dec24'!$D:$D,$D19)","v":2.92404275776257E-2},{"$f":"COUNTIFS('06Dec24'!$E:$E,\">\"&253-Y19+$U19-$BG19,'06Dec24'!$D:$D,$D19)/COUNTIF('06Dec24'!$D:$D,$D19)","v":2.92404275776257E-2},{"$f":"COUNTIFS('06Dec24'!$E:$E,\">\"&253-Z19+$U19-$BG19,'06Dec24'!$D:$D,$D19)/COUNTIF('06Dec24'!$D:$D,$D19)","v":2.92404275776257E-2},{"$f":"COUNTIFS('06Dec24'!$E:$E,\">\"&253-AA19+$U19-$BG19,'06Dec24'!$D:$D,$D19)/COUNTIF('06Dec24'!$D:$D,$D19)","v":2.92404275776257E-2},{"$f":"COUNTIFS('06Dec24'!$E:$E,\">\"&253-AB19+$U19-$BG19,'06Dec24'!$D:$D,$D19)/COUNTIF('06Dec24'!$D:$D,$D19)","v":2.92404275776257E-2},{"$f":"COUNTIFS('06Dec24'!$E:$E,\">\"&253-AC19+$U19-$BG19,'06Dec24'!$D:$D,$D19)/COUNTIF('06Dec24'!$D:$D,$D19)","v":2.92404275776257E-2},{"$f":"COUNTIFS('06Dec24'!$E:$E,\">\"&253-AD19+$U19-$BG19,'06Dec24'!$D:$D,$D19)/COUNTIF('06Dec24'!$D:$D,$D19)","v":2.92404275776257E-2},{"$f":"COUNTIFS('06Dec24'!$E:$E,\">\"&253-AE19+$U19-$BG19,'06Dec24'!$D:$D,$D19)/COUNTIF('06Dec24'!$D:$D,$D19)","v":2.92404275776257E-2},null,null,null,null,1,{"$f":"IF(OR(SUM($AS19:AV19)>0,RANK(M19,M$11:M$41)>AW$6),\"\",1)","v":""},{"$f":"IF(OR(SUM($AS19:AW19)>0,RANK(N19,N$11:N$41)>AX$6),\"\",1)","v":""},{"$f":"IF(OR(SUM($AS19:AX19)>0,RANK(O19,O$11:O$41)>AY$6),\"\",1)","v":""},{"$f":"IF(OR(SUM($AS19:AY19)>0,RANK(P19,P$11:P$41)>AZ$6),\"\",1)","v":""},{"$f":"IF(OR(SUM($AS19:AZ19)>0,RANK(Q19,Q$11:Q$41)>BA$6),\"\",1)","v":""},{"$f":"IF(OR(SUM($AS19:BA19)>0,RANK(R19,R$11:R$41)>BB$6),\"\",1)","v":""},{"$f":"IF(OR(SUM($AS19:BB19)>0,RANK(S19,S$11:S$41)>BC$6),\"\",1)","v":""},null,null,null,{"$f":"VLOOKUP($D19,Table!$A$4:$M$34,COLUMN(Table!$M:$M),FALSE)","v":0}]
[null,null,null,"ES0","ES",{"$f":"VLOOKUP($D20,Table!$A$4:$N$34,COLUMN(Table!$N:$N),FALSE)","v":23188},2029,{"$f":"_xlfn.RANK.EQ($G20,$G$11:$G$41,1)+COUNTIF($G$11:$G20,$G20)-1","v":13},{"$f":"$F20/$F$43*AG20*General!$J$17","v":9.7920112426355351E-4},{"$f":"$F20/$F$43*AH20*General!$J$17","v":9.7920112426355351E-4},{"$f":"$F20/$F$43*AI20*General!$J$17","v":9.7920112426355351E-4},{"$f":"$F20/$F$43*AJ20*General!$J$17","v":9.7920112426355351E-4},{"$f":"$F20/$F$43*AK20*General!$J$17","v":9.7920112426355351E-4},{"$f":"$F20/$F$43*AL20*General!$J$17","v":9.7920112426355351E-4},{"$f":"$F20/$F$43*AM20*General!$J$17","v":9.7920112426355351E-4},{"$f":"$F20/$F$43*AN20*General!$J$17","v":9.7920112426355351E-4},{"$f":"$F20/$F$43*AO20*General!$J$17","v":9.7920112426355351E-4},{"$f":"$F20/$F$43*AP20*General!$J$17","v":9.7920112426355351E-4},{"$f":"$F20/$F$43*AQ20*General!$J$17","v":9.7920112426355351E-4},null,{"$f":"VLOOKUP($D20,Table!$A$4:$L$34,COLUMN(Table!J:J),FALSE)","v":253.72547568579259},{"$f":"(1-MIN(0,VLOOKUP($E20,OLTC_Taps!$D$147:$H$173,6-1,FALSE)+VLOOKUP($E20,OLTC_Taps!$D$147:$N$173,12-1,FALSE)*(V$10-$V$10+1)))*$U20","v":253.72547568579259},{"$f":"(1-MIN(0,VLOOKUP($E20,OLTC_Taps!$D$147:$H$173,6-1,FALSE)+VLOOKUP($E20,OLTC_Taps!$D$147:$N$173,12-1,FALSE)*(W$10-$V$10+1)))*$U20","v":253.72547568579259},{"$f":"(1-MIN(0,VLOOKUP($E20,OLTC_Taps!$D$147:$H$173,6-1,FALSE)+VLOOKUP($E20,OLTC_Taps!$D$147:$N$173,12-1,FALSE)*(X$10-$V$10+1)))*$U20","v":253.72547568579259},{"$f":"(1-MIN(0,VLOOKUP($E20,OLTC_Taps!$D$147:$H$173,6-1,FALSE)+VLOOKUP($E20,OLTC_Taps!$D$147:$N$173,12-1,FALSE)*(Y$10-$V$10+1)))*$U20","v":253.72547568579259},{"$f":"(1-MIN(0,VLOOKUP($E20,OLTC_Taps!$D$147:$H$173,6-1,FALSE)+VLOOKUP($E20,OLTC_Taps!$D$147:$O$173,13-1,FALSE)*(Z$10-$V$10+1)))*$U20","v":253.72547568579259},{"$f":"(1-MIN(0,VLOOKUP($E20,OLTC_Taps!$D$147:$H$173,6-1,FALSE)+VLOOKUP($E20,OLTC_Taps!$D$147:$O$173,13-1,FALSE)*(AA$10-$V$10+1)))*$U20","v":253.72547568579259},{"$f":"(1-MIN(0,VLOOKUP($E20,OLTC_Taps!$D$147:$H$173,6-1,FALSE)+VLOOKUP($E20,OLTC_Taps!$D$147:$O$173,13-1,FALSE)*(AB$10-$V$10+1)))*$U20","v":253.72547568579259},{"$f":"(1-MIN(0,VLOOKUP($E20,OLTC_Taps!$D$147:$H$173,6-1,FALSE)+VLOOKUP($E20,OLTC_Taps!$D$147:$O$173,13-1,FALSE)*(AC$10-$V$10+1)))*$U20","v":253.72547568579259},{"$f":"(1-MIN(0,VLOOKUP($E20,OLTC_Taps!$D$147:$H$173,6-1,FALSE)+VLOOKUP($E20,OLTC_Taps!$D$147:$O$173,13-1,FALSE)*(AD$10-$V$10+1)))*$U20","v":253.72547568579259},{"$f":"(1-MIN(0,VLOOKUP($E20,OLTC_Taps!$D$147:$H$173,6-1,FALSE)+VLOOKUP($E20,OLTC_Taps!$D$147:$O$173,13-1,FALSE)*(AE$10-$V$10+1)))*$U20","v":253.72547568579259},null,{"$f":"COUNTIFS('06Dec24'!$E:$E,\">\"&253-U20+$U20-$BG20,'06Dec24'!$D:$D,$D20)/COUNTIF('06Dec24'!$D:$D,$D20)","v":2.0614110746938072E-2},{"$f":"COUNTIFS('06Dec24'!$E:$E,\">\"&253-V20+$U20-$BG20,'06Dec24'!$D:$D,$D20)/COUNTIF('06Dec24'!$D:$D,$D20)","v":2.0614110746938072E-2},{"$f":"COUNTIFS('06Dec24'!$E:$E,\">\"&253-W20+$U20-$BG20,'06Dec24'!$D:$D,$D20)/COUNTIF('06Dec24'!$D:$D,$D20)","v":2.0614110746938072E-2},{"$f":"COUNTIFS('06Dec24'!$E:$E,\">\"&253-X20+$U20-$BG20,'06Dec24'!$D:$D,$D20)/COUNTIF('06Dec24'!$D:$D,$D20)","v":2.0614110746938072E-2},{"$f":"COUNTIFS('06Dec24'!$E:$E,\">\"&253-Y20+$U20-$BG20,'06Dec24'!$D:$D,$D20)/COUNTIF('06Dec24'!$D:$D,$D20)","v":2.0614110746938072E-2},{"$f":"COUNTIFS('06Dec24'!$E:$E,\">\"&253-Z20+$U20-$BG20,'06Dec24'!$D:$D,$D20)/COUNTIF('06Dec24'!$D:$D,$D20)","v":2.0614110746938072E-2},{"$f":"COUNTIFS('06Dec24'!$E:$E,\">\"&253-AA20+$U20-$BG20,'06Dec24'!$D:$D,$D20)/COUNTIF('06Dec24'!$D:$D,$D20)","v":2.0614110746938072E-2},{"$f":"COUNTIFS('06Dec24'!$E:$E,\">\"&253-AB20+$U20-$BG20,'06Dec24'!$D:$D,$D20)/COUNTIF('06Dec24'!$D:$D,$D20)","v":2.0614110746938072E-2},{"$f":"COUNTIFS('06Dec24'!$E:$E,\">\"&253-AC20+$U20-$BG20,'06Dec24'!$D:$D,$D20)/COUNTIF('06Dec24'!$D:$D,$D20)","v":2.0614110746938072E-2},{"$f":"COUNTIFS('06Dec24'!$E:$E,\">\"&253-AD20+$U20-$BG20,'06Dec24'!$D:$D,$D20)/COUNTIF('06Dec24'!$D:$D,$D20)","v":2.0614110746938072E-2},{"$f":"COUNTIFS('06Dec24'!$E:$E,\">\"&253-AE20+$U20-$BG20,'06Dec24'!$D:$D,$D20)/COUNTIF('06Dec24'!$D:$D,$D20)","v":2.0614110746938072E-2},null,null,null,null,null,{"$f":"IF(OR(SUM($AS20:AV20)>0,RANK(M20,M$11:M$41)>AW$6),\"\",1)","v":""},{"$f":"IF(OR(SUM($AS20:AW20)>0,RANK(N20,N$11:N$41)>AX$6),\"\",1)","v":""},{"$f":"IF(OR(SUM($AS20:AX20)>0,RANK(O20,O$11:O$41)>AY$6),\"\",1)","v":1},{"$f":"IF(OR(SUM($AS20:AY20)>0,RANK(P20,P$11:P$41)>AZ$6),\"\",1)","v":""},{"$f":"IF(OR(SUM($AS20:AZ20)>0,RANK(Q20,Q$11:Q$41)>BA$6),\"\",1)","v":""},{"$f":"IF(OR(SUM($AS20:BA20)>0,RANK(R20,R$11:R$41)>BB$6),\"\",1)","v":""},{"$f":"IF(OR(SUM($AS20:BB20)>0,RANK(S20,S$11:S$41)>BC$6),\"\",1)","v":""},null,null,null,{"$f":"VLOOKUP($D20,Table!$A$4:$M$34,COLUMN(Table!$M:$M),FALSE)","v":0}]
[null,null,null,"TH0","TH",{"$f":"VLOOKUP($D21,Table!$A$4:$N$34,COLUMN(Table!$N:$N),FALSE)","v":4581},2029,{"$f":"_xlfn.RANK.EQ($G21,$G$11:$G$41,1)+COUNTIF($G$11:$G21,$G21)-1","v":14},{"$f":"$F21/$F$43*AG21*General!$J$17","v":9.0750229717312576E-4},{"$f":"$F21/$F$43*AH21*General!$J$17","v":9.0750229717312576E-4},{"$f":"$F21/$F$43*AI21*General!$J$17","v":9.0750229717312576E-4},{"$f":"$F21/$F$43*AJ21*General!$J$17","v":9.0750229717312576E-4},{"$f":"$F21/$F$43*AK21*General!$J$17","v":9.0750229717312576E-4},{"$f":"$F21/$F$43*AL21*General!$J$17","v":9.0750229717312576E-4},{"$f":"$F21/$F$43*AM21*General!$J$17","v":9.0750229717312576E-4},{"$f":"$F21/$F$43*AN21*General!$J$17","v":9.0750229717312576E-4},{"$f":"$F21/$F$43*AO21*General!$J$17","v":9.0750229717312576E-4},{"$f":"$F21/$F$43*AP21*General!$J$17","v":9.0750229717312576E-4},{"$f":"$F21/$F$43*AQ21*General!$J$17","v":9.0750229717312576E-4},null,{"$f":"VLOOKUP($D21,Table!$A$4:$L$34,COLUMN(Table!J:J),FALSE)","v":255.71141414510123},{"$f":"(1-MIN(0,VLOOKUP($E21,OLTC_Taps!$D$147:$H$173,6-1,FALSE)+VLOOKUP($E21,OLTC_Taps!$D$147:$N$173,12-1,FALSE)*(V$10-$V$10+1)))*$U21","v":255.71141414510123},{"$f":"(1-MIN(0,VLOOKUP($E21,OLTC_Taps!$D$147:$H$173,6-1,FALSE)+VLOOKUP($E21,OLTC_Taps!$D$147:$N$173,12-1,FALSE)*(W$10-$V$10+1)))*$U21","v":255.71141414510123},{"$f":"(1-MIN(0,VLOOKUP($E21,OLTC_Taps!$D$147:$H$173,6-1,FALSE)+VLOOKUP($E21,OLTC_Taps!$D$147:$N$173,12-1,FALSE)*(X$10-$V$10+1)))*$U21","v":255.71141414510123},{"$f":"(1-MIN(0,VLOOKUP($E21,OLTC_Taps!$D$147:$H$173,6-1,FALSE)+VLOOKUP($E21,OLTC_Taps!$D$147:$N$173,12-1,FALSE)*(Y$10-$V$10+1)))*$U21","v":255.71141414510123},{"$f":"(1-MIN(0,VLOOKUP($E21,OLTC_Taps!$D$147:$H$173,6-1,FALSE)+VLOOKUP($E21,OLTC_Taps!$D$147:$O$173,13-1,FALSE)*(Z$10-$V$10+1)))*$U21","v":255.71141414510123},{"$f":"(1-MIN(0,VLOOKUP($E21,OLTC_Taps!$D$147:$H$173,6-1,FALSE)+VLOOKUP($E21,OLTC_Taps!$D$147:$O$173,13-1,FALSE)*(AA$10-$V$10+1)))*$U21","v":255.71141414510123},{"$f":"(1-MIN(0,VLOOKUP($E21,OLTC_Taps!$D$147:$H$173,6-1,FALSE)+VLOOKUP($E21,OLTC_Taps!$D$147:$O$173,13-1,FALSE)*(AB$10-$V$10+1)))*$U21","v":255.71141414510123},{"$f":"(1-MIN(0,VLOOKUP($E21,OLTC_Taps!$D$147:$H$173,6-1,FALSE)+VLOOKUP($E21,OLTC_Taps!$D$147:$O$173,13-1,FALSE)*(AC$10-$V$10+1)))*$U21","v":255.71141414510123},{"$f":"(1-MIN(0,VLOOKUP($E21,OLTC_Taps!$D$147:$H$173,6-1,FALSE)+VLOOKUP($E21,OLTC_Taps!$D$147:$O$173,13-1,FALSE)*(AD$10-$V$10+1)))*$U21","v":255.71141414510123},{"$f":"(1-MIN(0,VLOOKUP($E21,OLTC_Taps!$D$147:$H$173,6-1,FALSE)+VLOOKUP($E21,OLTC_Taps!$D$147:$O$173,13-1,FALSE)*(AE$10-$V$10+1)))*$U21","v":255.71141414510123},null,{"$f":"COUNTIFS('06Dec24'!$E:$E,\">\"&253-U21+$U21-$BG21,'06Dec24'!$D:$D,$D21)/COUNTIF('06Dec24'!$D:$D,$D21)","v":9.6703776468020086E-2},{"$f":"COUNTIFS('06Dec24'!$E:$E,\">\"&253-V21+$U21-$BG21,'06Dec24'!$D:$D,$D21)/COUNTIF('06Dec24'!$D:$D,$D21)","v":9.6703776468020086E-2},{"$f":"COUNTIFS('06Dec24'!$E:$E,\">\"&253-W21+$U21-$BG21,'06Dec24'!$D:$D,$D21)/COUNTIF('06Dec24'!$D:$D,$D21)","v":9.6703776468020086E-2},{"$f":"COUNTIFS('06Dec24'!$E:$E,\">\"&253-X21+$U21-$BG21,'06Dec24'!$D:$D,$D21)/COUNTIF('06Dec24'!$D:$D,$D21)","v":9.6703776468020086E-2},{"$f":"COUNTIFS('06Dec24'!$E:$E,\">\"&253-Y21+$U21-$BG21,'06Dec24'!$D:$D,$D21)/COUNTIF('06Dec24'!$D:$D,$D21)","v":9.6703776468020086E-2},{"$f":"COUNTIFS('06Dec24'!$E:$E,\">\"&253-Z21+$U21-$BG21,'06Dec24'!$D:$D,$D21)/COUNTIF('06Dec24'!$D:$D,$D21)","v":9.6703776468020086E-2},{"$f":"COUNTIFS('06Dec24'!$E:$E,\">\"&253-AA21+$U21-$BG21,'06Dec24'!$D:$D,$D21)/COUNTIF('06Dec24'!$D:$D,$D21)","v":9.6703776468020086E-2},{"$f":"COUNTIFS('06Dec24'!$E:$E,\">\"&253-AB21+$U21-$BG21,'06Dec24'!$D:$D,$D21)/COUNTIF('06Dec24'!$D:$D,$D21)","v":9.6703776468020086E-2},{"$f":"COUNTIFS('06Dec24'!$E:$E,\">\"&253-AC21+$U21-$BG21,'06Dec24'!$D:$D,$D21)/COUNTIF('06Dec24'!$D:$D,$D21)","v":9.6703776468020086E-2},{"$f":"COUNTIFS('06Dec24'!$E:$E,\">\"&253-AD21+$U21-$BG21,'06Dec24'!$D:$D,$D21)/COUNTIF('06Dec24'!$D:$D,$D21)","v":9.6703776468020086E-2},{"$f":"COUNTIFS('06Dec24'!$E:$E,\">\"&253-AE21+$U21-$BG21,'06Dec24'!$D:$D,$D21)/COUNTIF('06Dec24'!$D:$D,$D21)","v":9.6703776468020086E-2},null,null,null,null,null,{"$f":"IF(OR(SUM($AS21:AV21)>0,RANK(M21,M$11:M$41)>AW$6),\"\",1)","v":""},{"$f":"IF(OR(SUM($AS21:AW21)>0,RANK(N21,N$11:N$41)>AX$6),\"\",1)","v":""},{"$f":"IF(OR(SUM($AS21:AX21)>0,RANK(O21,O$11:O$41)>AY$6),\"\",1)","v":1},{"$f":"IF(OR(SUM($AS21:AY21)>0,RANK(P21,P$11:P$41)>AZ$6),\"\",1)","v":""},{"$f":"IF(OR(SUM($AS21:AZ21)>0,RANK(Q21,Q$11:Q$41)>BA$6),\"\",1)","v":""},{"$f":"IF(OR(SUM($AS21:BA21)>0,RANK(R21,R$11:R$41)>BB$6),\"\",1)","v":""},{"$f":"IF(OR(SUM($AS21:BB21)>0,RANK(S21,S$11:S$41)>BC$6),\"\",1)","v":""},null,null,null,{"$f":"VLOOKUP($D21,Table!$A$4:$M$34,COLUMN(Table!$M:$M),FALSE)","v":0}]
[null,null,null,"FF0","FF",{"$f":"VLOOKUP($D22,Table!$A$4:$N$34,COLUMN(Table!$N:$N),FALSE)","v":8339},2029,{"$f":"_xlfn.RANK.EQ($G22,$G$11:$G$41,1)+COUNTIF($G$11:$G22,$G22)-1","v":15},{"$f":"$F22/$F$43*AG22*General!$J$17","v":8.2760931841522104E-4},{"$f":"$F22/$F$43*AH22*General!$J$17","v":8.2760931841522104E-4},{"$f":"$F22/$F$43*AI22*General!$J$17","v":8.2760931841522104E-4},{"$f":"$F22/$F$43*AJ22*General!$J$17","v":8.2760931841522104E-4},{"$f":"$F22/$F$43*AK22*General!$J$17","v":8.2760931841522104E-4},{"$f":"$F22/$F$43*AL22*General!$J$17","v":8.2760931841522104E-4},{"$f":"$F22/$F$43*AM22*General!$J$17","v":8.2760931841522104E-4},{"$f":"$F22/$F$43*AN22*General!$J$17","v":8.2760931841522104E-4},{"$f":"$F22/$F$43*AO22*General!$J$17","v":8.2760931841522104E-4},{"$f":"$F22/$F$43*AP22*General!$J$17","v":8.2760931841522104E-4},{"$f":"$F22/$F$43*AQ22*General!$J$17","v":8.2760931841522104E-4},null,{"$f":"VLOOKUP($D22,Table!$A$4:$L$34,COLUMN(Table!J:J),FALSE)","v":254.56570373512832},{"$f":"(1-MIN(0,VLOOKUP($E22,OLTC_Taps!$D$147:$H$173,6-1,FALSE)+VLOOKUP($E22,OLTC_Taps!$D$147:$N$173,12-1,FALSE)*(V$10-$V$10+1)))*$U22","v":254.56570373512832},{"$f":"(1-MIN(0,VLOOKUP($E22,OLTC_Taps!$D$147:$H$173,6-1,FALSE)+VLOOKUP($E22,OLTC_Taps!$D$147:$N$173,12-1,FALSE)*(W$10-$V$10+1)))*$U22","v":254.56570373512832},{"$f":"(1-MIN(0,VLOOKUP($E22,OLTC_Taps!$D$147:$H$173,6-1,FALSE)+VLOOKUP($E22,OLTC_Taps!$D$147:$N$173,12-1,FALSE)*(X$10-$V$10+1)))*$U22","v":254.56570373512832},{"$f":"(1-MIN(0,VLOOKUP($E22,OLTC_Taps!$D$147:$H$173,6-1,FALSE)+VLOOKUP($E22,OLTC_Taps!$D$147:$N$173,12-1,FALSE)*(Y$10-$V$10+1)))*$U22","v":254.56570373512832},{"$f":"(1-MIN(0,VLOOKUP($E22,OLTC_Taps!$D$147:$H$173,6-1,FALSE)+VLOOKUP($E22,OLTC_Taps!$D$147:$O$173,13-1,FALSE)*(Z$10-$V$10+1)))*$U22","v":254.56570373512832},{"$f":"(1-MIN(0,VLOOKUP($E22,OLTC_Taps!$D$147:$H$173,6-1,FALSE)+VLOOKUP($E22,OLTC_Taps!$D$147:$O$173,13-1,FALSE)*(AA$10-$V$10+1)))*$U22","v":254.56570373512832},{"$f":"(1-MIN(0,VLOOKUP($E22,OLTC_Taps!$D$147:$H$173,6-1,FALSE)+VLOOKUP($E22,OLTC_Taps!$D$147:$O$173,13-1,FALSE)*(AB$10-$V$10+1)))*$U22","v":254.56570373512832},{"$f":"(1-MIN(0,VLOOKUP($E22,OLTC_Taps!$D$147:$H$173,6-1,FALSE)+VLOOKUP($E22,OLTC_Taps!$D$147:$O$173,13-1,FALSE)*(AC$10-$V$10+1)))*$U22","v":254.56570373512832},{"$f":"(1-MIN(0,VLOOKUP($E22,OLTC_Taps!$D$147:$H$173,6-1,FALSE)+VLOOKUP($E22,OLTC_Taps!$D$147:$O$173,13-1,FALSE)*(AD$10-$V$10+1)))*$U22","v":254.56570373512832},{"$f":"(1-MIN(0,VLOOKUP($E22,OLTC_Taps!$D$147:$H$173,6-1,FALSE)+VLOOKUP($E22,OLTC_Taps!$D$147:$O$173,13-1,FALSE)*(AE$10-$V$10+1)))*$U22","v":254.56570373512832},null,{"$f":"COUNTIFS('06Dec24'!$E:$E,\">\"&253-U22+$U22-$BG22,'06Dec24'!$D:$D,$D22)/COUNTIF('06Dec24'!$D:$D,$D22)","v":4.8447056001918697E-2},{"$f":"COUNTIFS('06Dec24'!$E:$E,\">\"&253-V22+$U22-$BG22,'06Dec24'!$D:$D,$D22)/COUNTIF('06Dec24'!$D:$D,$D22)","v":4.8447056001918697E-2},{"$f":"COUNTIFS('06Dec24'!$E:$E,\">\"&253-W22+$U22-$BG22,'06Dec24'!$D:$D,$D22)/COUNTIF('06Dec24'!$D:$D,$D22)","v":4.8447056001918697E-2},{"$f":"COUNTIFS('06Dec24'!$E:$E,\">\"&253-X22+$U22-$BG22,'06Dec24'!$D:$D,$D22)/COUNTIF('06Dec24'!$D:$D,$D22)","v":4.8447056001918697E-2},{"$f":"COUNTIFS('06Dec24'!$E:$E,\">\"&253-Y22+$U22-$BG22,'06Dec24'!$D:$D,$D22)/COUNTIF('06Dec24'!$D:$D,$D22)","v":4.8447056001918697E-2},{"$f":"COUNTIFS('06Dec24'!$E:$E,\">\"&253-Z22+$U22-$BG22,'06Dec24'!$D:$D,$D22)/COUNTIF('06Dec24'!$D:$D,$D22)","v":4.8447056001918697E-2},{"$f":"COUNTIFS('06Dec24'!$E:$E,\">\"&253-AA22+$U22-$BG22,'06Dec24'!$D:$D,$D22)/COUNTIF('06Dec24'!$D:$D,$D22)","v":4.8447056001918697E-2},{"$f":"COUNTIFS('06Dec24'!$E:$E,\">\"&253-AB22+$U22-$BG22,'06Dec24'!$D:$D,$D22)/COUNTIF('06Dec24'!$D:$D,$D22)","v":4.8447056001918697E-2},{"$f":"COUNTIFS('06Dec24'!$E:$E,\">\"&253-AC22+$U22-$BG22,'06Dec24'!$D:$D,$D22)/COUNTIF('06Dec24'!$D:$D,$D22)","v":4.8447056001918697E-2},{"$f":"COUNTIFS('06Dec24'!$E:$E,\">\"&253-AD22+$U22-$BG22,'06Dec24'!$D:$D,$D22)/COUNTIF('06Dec24'!$D:$D,$D22)","v":4.8447056001918697E-2},{"$f":"COUNTIFS('06Dec24'!$E:$E,\">\"&253-AE22+$U22-$BG22,'06Dec24'!$D:$D,$D22)/COUNTIF('06Dec24'!$D:$D,$D22)","v":4.8447056001918697E-2},null,null,null,null,null,{"$f":"IF(OR(SUM($AS22:AV22)>0,RANK(M22,M$11:M$41)>AW$6),\"\",1)","v":""},{"$f":"IF(OR(SUM($AS22:AW22)>0,RANK(N22,N$11:N$41)>AX$6),\"\",1)","v":""},{"$f":"IF(OR(SUM($AS22:AX22)>0,RANK(O22,O$11:O$41)>AY$6),\"\",1)","v":1},{"$f":"IF(OR(SUM($AS22:AY22)>0,RANK(P22,P$11:P$41)>AZ$6),\"\",1)","v":""},{"$f":"IF(OR(SUM($AS22:AZ22)>0,RANK(Q22,Q$11:Q$41)>BA$6),\"\",1)","v":""},{"$f":"IF(OR(SUM($AS22:BA22)>0,RANK(R22,R$11:R$41)>BB$6),\"\",1)","v":""},{"$f":"IF(OR(SUM($AS22:BB22)>0,RANK(S22,S$11:S$41)>BC$6),\"\",1)","v":""},null,null,null,{"$f":"VLOOKUP($D22,Table!$A$4:$M$34,COLUMN(Table!$M:$M),FALSE)","v":0}]
[null,null,null,"SHM","SHM",{"$f":"VLOOKUP($D23,Table!$A$4:$N$34,COLUMN(Table!$N:$N),FALSE)","v":23600},2027,{"$f":"_xlfn.RANK.EQ($G23,$G$11:$G$41,1)+COUNTIF($G$11:$G23,$G23)-1","v":9},{"$f":"$F23/$F$43*AG23*General!$J$17","v":3.3800875628344417E-4},{"$f":"$F23/$F$43*AH23*General!$J$17","v":6.4733798173071734E-4},{"$f":"$F23/$F$43*AI23*General!$J$17","v":1.0611426409383277E-3},{"$f":"$F23/$F$43*AJ23*General!$J$17","v":2.0833630614561379E-3},{"$f":"$F23/$F$43*AK23*General!$J$17","v":4.7218798983838716E-3},{"$f":"$F23/$F$43*AL23*General!$J$17","v":2.8351764769471923E-3},{"$f":"$F23/$F$43*AM23*General!$J$17","v":4.6153559267066643E-3},{"$f":"$F23/$F$43*AN23*General!$J$17","v":6.9322523106859083E-3},{"$f":"$F23/$F$43*AO23*General!$J$17","v":9.7039241122101518E-3},{"$f":"$F23/$F$43*AP23*General!$J$17","v":1.3084011675044593E-2},{"$f":"$F23/$F$43*AQ23*General!$J$17","v":1.7205669963785742E-2},null,{"$f":"VLOOKUP($D23,Table!$A$4:$L$34,COLUMN(Table!J:J),FALSE)","v":253.36301583546893},{"$f":"(1-MIN(0,VLOOKUP($E23,OLTC_Taps!$D$147:$H$173,6-1,FALSE)+VLOOKUP($E23,OLTC_Taps!$D$147:$N$173,12-1,FALSE)*(V$10-$V$10+1)))*$U23","v":254.16110681933429},{"$f":"(1-MIN(0,VLOOKUP($E23,OLTC_Taps!$D$147:$H$173,6-1,FALSE)+VLOOKUP($E23,OLTC_Taps!$D$147:$N$173,12-1,FALSE)*(W$10-$V$10+1)))*$U23","v":254.95919780319966},{"$f":"(1-MIN(0,VLOOKUP($E23,OLTC_Taps!$D$147:$H$173,6-1,FALSE)+VLOOKUP($E23,OLTC_Taps!$D$147:$N$173,12-1,FALSE)*(X$10-$V$10+1)))*$U23","v":255.75728878706502},{"$f":"(1-MIN(0,VLOOKUP($E23,OLTC_Taps!$D$147:$H$173,6-1,FALSE)+VLOOKUP($E23,OLTC_Taps!$D$147:$N$173,12-1,FALSE)*(Y$10-$V$10+1)))*$U23","v":256.55537977093036},{"$f":"(1-MIN(0,VLOOKUP($E23,OLTC_Taps!$D$147:$H$173,6-1,FALSE)+VLOOKUP($E23,OLTC_Taps!$D$147:$O$173,13-1,FALSE)*(Z$10-$V$10+1)))*$U23","v":255.99716295551613},{"$f":"(1-MIN(0,VLOOKUP($E23,OLTC_Taps!$D$147:$H$173,6-1,FALSE)+VLOOKUP($E23,OLTC_Taps!$D$147:$O$173,13-1,FALSE)*(AA$10-$V$10+1)))*$U23","v":256.52399237952557},{"$f":"(1-MIN(0,VLOOKUP($E23,OLTC_Taps!$D$147:$H$173,6-1,FALSE)+VLOOKUP($E23,OLTC_Taps!$D$147:$O$173,13-1,FALSE)*(AB$10-$V$10+1)))*$U23","v":257.05082180353503},{"$f":"(1-MIN(0,VLOOKUP($E23,OLTC_Taps!$D$147:$H$173,6-1,FALSE)+VLOOKUP($E23,OLTC_Taps!$D$147:$O$173,13-1,FALSE)*(AC$10-$V$10+1)))*$U23","v":257.57765122754449},{"$f":"(1-MIN(0,VLOOKUP($E23,OLTC_Taps!$D$147:$H$173,6-1,FALSE)+VLOOKUP($E23,OLTC_Taps!$D$147:$O$173,13-1,FALSE)*(AD$10-$V$10+1)))*$U23","v":258.1044806515539},{"$f":"(1-MIN(0,VLOOKUP($E23,OLTC_Taps!$D$147:$H$173,6-1,FALSE)+VLOOKUP($E23,OLTC_Taps!$D$147:$O$173,13-1,FALSE)*(AE$10-$V$10+1)))*$U23","v":258.63131007556336},null,{"$f":"COUNTIFS('06Dec24'!$E:$E,\">\"&253-U23+$U23-$BG23,'06Dec24'!$D:$D,$D23)/COUNTIF('06Dec24'!$D:$D,$D23)","v":6.9915254237288135E-3},{"$f":"COUNTIFS('06Dec24'!$E:$E,\">\"&253-V23+$U23-$BG23,'06Dec24'!$D:$D,$D23)/COUNTIF('06Dec24'!$D:$D,$D23)","v":1.3389830508474577E-2},{"$f":"COUNTIFS('06Dec24'!$E:$E,\">\"&253-W23+$U23-$BG23,'06Dec24'!$D:$D,$D23)/COUNTIF('06Dec24'!$D:$D,$D23)","v":2.1949152542372882E-2},{"$f":"COUNTIFS('06Dec24'!$E:$E,\">\"&253-X23+$U23-$BG23,'06Dec24'!$D:$D,$D23)/COUNTIF('06Dec24'!$D:$D,$D23)","v":4.3093220338983051E-2},{"$f":"COUNTIFS('06Dec24'!$E:$E,\">\"&253-Y23+$U23-$BG23,'06Dec24'!$D:$D,$D23)/COUNTIF('06Dec24'!$D:$D,$D23)","v":9.7669491525423729E-2},{"$f":"COUNTIFS('06Dec24'!$E:$E,\">\"&253-Z23+$U23-$BG23,'06Dec24'!$D:$D,$D23)/COUNTIF('06Dec24'!$D:$D,$D23)","v":5.8644067796610168E-2},{"$f":"COUNTIFS('06Dec24'!$E:$E,\">\"&253-AA23+$U23-$BG23,'06Dec24'!$D:$D,$D23)/COUNTIF('06Dec24'!$D:$D,$D23)","v":9.5466101694915248E-2},{"$f":"COUNTIFS('06Dec24'!$E:$E,\">\"&253-AB23+$U23-$BG23,'06Dec24'!$D:$D,$D23)/COUNTIF('06Dec24'!$D:$D,$D23)","v":0.14338983050847456},{"$f":"COUNTIFS('06Dec24'!$E:$E,\">\"&253-AC23+$U23-$BG23,'06Dec24'!$D:$D,$D23)/COUNTIF('06Dec24'!$D:$D,$D23)","v":0.20072033898305086},{"$f":"COUNTIFS('06Dec24'!$E:$E,\">\"&253-AD23+$U23-$BG23,'06Dec24'!$D:$D,$D23)/COUNTIF('06Dec24'!$D:$D,$D23)","v":0.27063559322033898},{"$f":"COUNTIFS('06Dec24'!$E:$E,\">\"&253-AE23+$U23-$BG23,'06Dec24'!$D:$D,$D23)/COUNTIF('06Dec24'!$D:$D,$D23)","v":0.35588983050847456},null,null,null,null,null,{"$f":"IF(OR(SUM($AS23:AV23)>0,RANK(M23,M$11:M$41)>AW$6),\"\",1)","v":1},{"$f":"IF(OR(SUM($AS23:AW23)>0,RANK(N23,N$11:N$41)>AX$6),\"\",1)","v":""},{"$f":"IF(OR(SUM($AS23:AX23)>0,RANK(O23,O$11:O$41)>AY$6),\"\",1)","v":""},{"$f":"IF(OR(SUM($AS23:AY23)>0,RANK(P23,P$11:P$41)>AZ$6),\"\",1)","v":""},{"$f":"IF(OR(SUM($AS23:AZ23)>0,RANK(Q23,Q$11:Q$41)>BA$6),\"\",1)","v":""},{"$f":"IF(OR(SUM($AS23:BA23)>0,RANK(R23,R$11:R$41)>BB$6),\"\",1)","v":""},{"$f":"IF(OR(SUM($AS23:BB23)>0,RANK(S23,S$11:S$41)>BC$6),\"\",1)","v":""},null,null,null,{"$f":"VLOOKUP($D23,Table!$A$4:$M$34,COLUMN(Table!$M:$M),FALSE)","v":0}]
[null,null,null,"NH0","NH",{"$f":"VLOOKUP($D24,Table!$A$4:$N$34,COLUMN(Table!$N:$N),FALSE)","v":18894},2029,{"$f":"_xlfn.RANK.EQ($G24,$G$11:$G$41,1)+COUNTIF($G$11:$G24,$G24)-1","v":16},{"$f":"$F24/$F$43*AG24*General!$J$17","v":6.0636722339333022E-4},{"$f":"$F24/$F$43*AH24*General!$J$17","v":6.0636722339333022E-4},{"$f":"$F24/$F$43*AI24*General!$J$17","v":6.0636722339333022E-4},{"$f":"$F24/$F$43*AJ24*General!$J$17","v":6.0636722339333022E-4},{"$f":"$F24/$F$43*AK24*General!$J$17","v":6.0636722339333022E-4},{"$f":"$F24/$F$43*AL24*General!$J$17","v":6.0636722339333022E-4},{"$f":"$F24/$F$43*AM24*General!$J$17","v":6.0636722339333022E-4},{"$f":"$F24/$F$43*AN24*General!$J$17","v":6.0636722339333022E-4},{"$f":"$F24/$F$43*AO24*General!$J$17","v":6.0636722339333022E-4},{"$f":"$F24/$F$43*AP24*General!$J$17","v":6.0636722339333022E-4},{"$f":"$F24/$F$43*AQ24*General!$J$17","v":6.0636722339333022E-4},null,{"$f":"VLOOKUP($D24,Table!$A$4:$L$34,COLUMN(Table!J:J),FALSE)","v":254.82619799999995},{"$f":"(1-MIN(0,VLOOKUP($E24,OLTC_Taps!$D$147:$H$173,6-1,FALSE)+VLOOKUP($E24,OLTC_Taps!$D$147:$N$173,12-1,FALSE)*(V$10-$V$10+1)))*$U24","v":254.82619799999995},{"$f":"(1-MIN(0,VLOOKUP($E24,OLTC_Taps!$D$147:$H$173,6-1,FALSE)+VLOOKUP($E24,OLTC_Taps!$D$147:$N$173,12-1,FALSE)*(W$10-$V$10+1)))*$U24","v":254.82619799999995},{"$f":"(1-MIN(0,VLOOKUP($E24,OLTC_Taps!$D$147:$H$173,6-1,FALSE)+VLOOKUP($E24,OLTC_Taps!$D$147:$N$173,12-1,FALSE)*(X$10-$V$10+1)))*$U24","v":254.82619799999995},{"$f":"(1-MIN(0,VLOOKUP($E24,OLTC_Taps!$D$147:$H$173,6-1,FALSE)+VLOOKUP($E24,OLTC_Taps!$D$147:$N$173,12-1,FALSE)*(Y$10-$V$10+1)))*$U24","v":254.82619799999995},{"$f":"(1-MIN(0,VLOOKUP($E24,OLTC_Taps!$D$147:$H$173,6-1,FALSE)+VLOOKUP($E24,OLTC_Taps!$D$147:$O$173,13-1,FALSE)*(Z$10-$V$10+1)))*$U24","v":254.82619799999995},{"$f":"(1-MIN(0,VLOOKUP($E24,OLTC_Taps!$D$147:$H$173,6-1,FALSE)+VLOOKUP($E24,OLTC_Taps!$D$147:$O$173,13-1,FALSE)*(AA$10-$V$10+1)))*$U24","v":254.82619799999995},{"$f":"(1-MIN(0,VLOOKUP($E24,OLTC_Taps!$D$147:$H$173,6-1,FALSE)+VLOOKUP($E24,OLTC_Taps!$D$147:$O$173,13-1,FALSE)*(AB$10-$V$10+1)))*$U24","v":254.82619799999995},{"$f":"(1-MIN(0,VLOOKUP($E24,OLTC_Taps!$D$147:$H$173,6-1,FALSE)+VLOOKUP($E24,OLTC_Taps!$D$147:$O$173,13-1,FALSE)*(AC$10-$V$10+1)))*$U24","v":254.82619799999995},{"$f":"(1-MIN(0,VLOOKUP($E24,OLTC_Taps!$D$147:$H$173,6-1,FALSE)+VLOOKUP($E24,OLTC_Taps!$D$147:$O$173,13-1,FALSE)*(AD$10-$V$10+1)))*$U24","v":254.82619799999995},{"$f":"(1-MIN(0,VLOOKUP($E24,OLTC_Taps!$D$147:$H$173,6-1,FALSE)+VLOOKUP($E24,OLTC_Taps!$D$147:$O$173,13-1,FALSE)*(AE$10-$V$10+1)))*$U24","v":254.82619799999995},null,{"$f":"COUNTIFS('06Dec24'!$E:$E,\">\"&253-U24+$U24-$BG24,'06Dec24'!$D:$D,$D24)/COUNTIF('06Dec24'!$D:$D,$D24)","v":1.5666349105536149E-2},{"$f":"COUNTIFS('06Dec24'!$E:$E,\">\"&253-V24+$U24-$BG24,'06Dec24'!$D:$D,$D24)/COUNTIF('06Dec24'!$D:$D,$D24)","v":1.5666349105536149E-2},{"$f":"COUNTIFS('06Dec24'!$E:$E,\">\"&253-W24+$U24-$BG24,'06Dec24'!$D:$D,$D24)/COUNTIF('06Dec24'!$D:$D,$D24)","v":1.5666349105536149E-2},{"$f":"COUNTIFS('06Dec24'!$E:$E,\">\"&253-X24+$U24-$BG24,'06Dec24'!$D:$D,$D24)/COUNTIF('06Dec24'!$D:$D,$D24)","v":1.5666349105536149E-2},{"$f":"COUNTIFS('06Dec24'!$E:$E,\">\"&253-Y24+$U24-$BG24,'06Dec24'!$D:$D,$D24)/COUNTIF('06Dec24'!$D:$D,$D24)","v":1.5666349105536149E-2},{"$f":"COUNTIFS('06Dec24'!$E:$E,\">\"&253-Z24+$U24-$BG24,'06Dec24'!$D:$D,$D24)/COUNTIF('06Dec24'!$D:$D,$D24)","v":1.5666349105536149E-2},{"$f":"COUNTIFS('06Dec24'!$E:$E,\">\"&253-AA24+$U24-$BG24,'06Dec24'!$D:$D,$D24)/COUNTIF('06Dec24'!$D:$D,$D24)","v":1.5666349105536149E-2},{"$f":"COUNTIFS('06Dec24'!$E:$E,\">\"&253-AB24+$U24-$BG24,'06Dec24'!$D:$D,$D24)/COUNTIF('06Dec24'!$D:$D,$D24)","v":1.5666349105536149E-2},{"$f":"COUNTIFS('06Dec24'!$E:$E,\">\"&253-AC24+$U24-$BG24,'06Dec24'!$D:$D,$D24)/COUNTIF('06Dec24'!$D:$D,$D24)","v":1.5666349105536149E-2},{"$f":"COUNTIFS('06Dec24'!$E:$E,\">\"&253-AD24+$U24-$BG24,'06Dec24'!$D:$D,$D24)/COUNTIF('06Dec24'!$D:$D,$D24)","v":1.5666349105536149E-2},{"$f":"COUNTIFS('06Dec24'!$E:$E,\">\"&253-AE24+$U24-$BG24,'06Dec24'!$D:$D,$D24)/COUNTIF('06Dec24'!$D:$D,$D24)","v":1.5666349105536149E-2},null,null,null,null,null,{"$f":"IF(OR(SUM($AS24:AV24)>0,RANK(M24,M$11:M$41)>AW$6),\"\",1)","v":""},{"$f":"IF(OR(SUM($AS24:AW24)>0,RANK(N24,N$11:N$41)>AX$6),\"\",1)","v":""},{"$f":"IF(OR(SUM($AS24:AX24)>0,RANK(O24,O$11:O$41)>AY$6),\"\",1)","v":1},{"$f":"IF(OR(SUM($AS24:AY24)>0,RANK(P24,P$11:P$41)>AZ$6),\"\",1)","v":""},{"$f":"IF(OR(SUM($AS24:AZ24)>0,RANK(Q24,Q$11:Q$41)>BA$6),\"\",1)","v":""},{"$f":"IF(OR(SUM($AS24:BA24)>0,RANK(R24,R$11:R$41)>BB$6),\"\",1)","v":""},{"$f":"IF(OR(SUM($AS24:BB24)>0,RANK(S24,S$11:S$41)>BC$6),\"\",1)","v":""},null,null,null,{"$f":"VLOOKUP($D24,Table!$A$4:$M$34,COLUMN(Table!$M:$M),FALSE)","v":0}]
[null,null,null,"TMA","TMA",{"$f":"VLOOKUP($D25,Table!$A$4:$N$34,COLUMN(Table!$N:$N),FALSE)","v":5295},2029,{"$f":"_xlfn.RANK.EQ($G25,$G$11:$G$41,1)+COUNTIF($G$11:$G25,$G25)-1","v":17},{"$f":"$F25/$F$43*AG25*General!$J$17","v":5.2442570671855577E-4},{"$f":"$F25/$F$43*AH25*General!$J$17","v":5.2442570671855577E-4},{"$f":"$F25/$F$43*AI25*General!$J$17","v":5.2442570671855577E-4},{"$f":"$F25/$F$43*AJ25*General!$J$17","v":5.2442570671855577E-4},{"$f":"$F25/$F$43*AK25*General!$J$17","v":5.2442570671855577E-4},{"$f":"$F25/$F$43*AL25*General!$J$17","v":5.2442570671855577E-4},{"$f":"$F25/$F$43*AM25*General!$J$17","v":5.2442570671855577E-4},{"$f":"$F25/$F$43*AN25*General!$J$17","v":5.2442570671855577E-4},{"$f":"$F25/$F$43*AO25*General!$J$17","v":5.2442570671855577E-4},{"$f":"$F25/$F$43*AP25*General!$J$17","v":5.2442570671855577E-4},{"$f":"$F25/$F$43*AQ25*General!$J$17","v":5.2442570671855577E-4},null,{"$f":"VLOOKUP($D25,Table!$A$4:$L$34,COLUMN(Table!J:J),FALSE)","v":255.26663310683969},{"$f":"(1-MIN(0,VLOOKUP($E25,OLTC_Taps!$D$147:$H$173,6-1,FALSE)+VLOOKUP($E25,OLTC_Taps!$D$147:$N$173,12-1,FALSE)*(V$10-$V$10+1)))*$U25","v":255.26663310683969},{"$f":"(1-MIN(0,VLOOKUP($E25,OLTC_Taps!$D$147:$H$173,6-1,FALSE)+VLOOKUP($E25,OLTC_Taps!$D$147:$N$173,12-1,FALSE)*(W$10-$V$10+1)))*$U25","v":255.26663310683969},{"$f":"(1-MIN(0,VLOOKUP($E25,OLTC_Taps!$D$147:$H$173,6-1,FALSE)+VLOOKUP($E25,OLTC_Taps!$D$147:$N$173,12-1,FALSE)*(X$10-$V$10+1)))*$U25","v":255.26663310683969},{"$f":"(1-MIN(0,VLOOKUP($E25,OLTC_Taps!$D$147:$H$173,6-1,FALSE)+VLOOKUP($E25,OLTC_Taps!$D$147:$N$173,12-1,FALSE)*(Y$10-$V$10+1)))*$U25","v":255.26663310683969},{"$f":"(1-MIN(0,VLOOKUP($E25,OLTC_Taps!$D$147:$H$173,6-1,FALSE)+VLOOKUP($E25,OLTC_Taps!$D$147:$O$173,13-1,FALSE)*(Z$10-$V$10+1)))*$U25","v":255.26663310683969},{"$f":"(1-MIN(0,VLOOKUP($E25,OLTC_Taps!$D$147:$H$173,6-1,FALSE)+VLOOKUP($E25,OLTC_Taps!$D$147:$O$173,13-1,FALSE)*(AA$10-$V$10+1)))*$U25","v":255.26663310683969},{"$f":"(1-MIN(0,VLOOKUP($E25,OLTC_Taps!$D$147:$H$173,6-1,FALSE)+VLOOKUP($E25,OLTC_Taps!$D$147:$O$173,13-1,FALSE)*(AB$10-$V$10+1)))*$U25","v":255.26663310683969},{"$f":"(1-MIN(0,VLOOKUP($E25,OLTC_Taps!$D$147:$H$173,6-1,FALSE)+VLOOKUP($E25,OLTC_Taps!$D$147:$O$173,13-1,FALSE)*(AC$10-$V$10+1)))*$U25","v":255.26663310683969},{"$f":"(1-MIN(0,VLOOKUP($E25,OLTC_Taps!$D$147:$H$173,6-1,FALSE)+VLOOKUP($E25,OLTC_Taps!$D$147:$O$173,13-1,FALSE)*(AD$10-$V$10+1)))*$U25","v":255.26663310683969},{"$f":"(1-MIN(0,VLOOKUP($E25,OLTC_Taps!$D$147:$H$173,6-1,FALSE)+VLOOKUP($E25,OLTC_Taps!$D$147:$O$173,13-1,FALSE)*(AE$10-$V$10+1)))*$U25","v":255.26663310683969},null,{"$f":"COUNTIFS('06Dec24'!$E:$E,\">\"&253-U25+$U25-$BG25,'06Dec24'!$D:$D,$D25)/COUNTIF('06Dec24'!$D:$D,$D25)","v":4.8347497639282339E-2},{"$f":"COUNTIFS('06Dec24'!$E:$E,\">\"&253-V25+$U25-$BG25,'06Dec24'!$D:$D,$D25)/COUNTIF('06Dec24'!$D:$D,$D25)","v":4.8347497639282339E-2},{"$f":"COUNTIFS('06Dec24'!$E:$E,\">\"&253-W25+$U25-$BG25,'06Dec24'!$D:$D,$D25)/COUNTIF('06Dec24'!$D:$D,$D25)","v":4.8347497639282339E-2},{"$f":"COUNTIFS('06Dec24'!$E:$E,\">\"&253-X25+$U25-$BG25,'06Dec24'!$D:$D,$D25)/COUNTIF('06Dec24'!$D:$D,$D25)","v":4.8347497639282339E-2},{"$f":"COUNTIFS('06Dec24'!$E:$E,\">\"&253-Y25+$U25-$BG25,'06Dec24'!$D:$D,$D25)/COUNTIF('06Dec24'!$D:$D,$D25)","v":4.8347497639282339E-2},{"$f":"COUNTIFS('06Dec24'!$E:$E,\">\"&253-Z25+$U25-$BG25,'06Dec24'!$D:$D,$D25)/COUNTIF('06Dec24'!$D:$D,$D25)","v":4.8347497639282339E-2},{"$f":"COUNTIFS('06Dec24'!$E:$E,\">\"&253-AA25+$U25-$BG25,'06Dec24'!$D:$D,$D25)/COUNTIF('06Dec24'!$D:$D,$D25)","v":4.8347497639282339E-2},{"$f":"COUNTIFS('06Dec24'!$E:$E,\">\"&253-AB25+$U25-$BG25,'06Dec24'!$D:$D,$D25)/COUNTIF('06Dec24'!$D:$D,$D25)","v":4.8347497639282339E-2},{"$f":"COUNTIFS('06Dec24'!$E:$E,\">\"&253-AC25+$U25-$BG25,'06Dec24'!$D:$D,$D25)/COUNTIF('06Dec24'!$D:$D,$D25)","v":4.8347497639282339E-2},{"$f":"COUNTIFS('06Dec24'!$E:$E,\">\"&253-AD25+$U25-$BG25,'06Dec24'!$D:$D,$D25)/COUNTIF('06Dec24'!$D:$D,$D25)","v":4.8347497639282339E-2},{"$f":"COUNTIFS('06Dec24'!$E:$E,\">\"&253-AE25+$U25-$BG25,'06Dec24'!$D:$D,$D25)/COUNTIF('06Dec24'!$D:$D,$D25)","v":4.8347497639282339E-2},null,null,null,null,null,{"$f":"IF(OR(SUM($AS25:AV25)>0,RANK(M25,M$11:M$41)>AW$6),\"\",1)","v":""},{"$f":"IF(OR(SUM($AS25:AW25)>0,RANK(N25,N$11:N$41)>AX$6),\"\",1)","v":""},{"$f":"IF(OR(SUM($AS25:AX25)>0,RANK(O25,O$11:O$41)>AY$6),\"\",1)","v":1},{"$f":"IF(OR(SUM($AS25:AY25)>0,RANK(P25,P$11:P$41)>AZ$6),\"\",1)","v":""},{"$f":"IF(OR(SUM($AS25:AZ25)>0,RANK(Q25,Q$11:Q$41)>BA$6),\"\",1)","v":""},{"$f":"IF(OR(SUM($AS25:BA25)>0,RANK(R25,R$11:R$41)>BB$6),\"\",1)","v":""},{"$f":"IF(OR(SUM($AS25:BB25)>0,RANK(S25,S$11:S$41)>BC$6),\"\",1)","v":""},null,null,null,{"$f":"VLOOKUP($D25,Table!$A$4:$M$34,COLUMN(Table!$M:$M),FALSE)","v":0}]
[null,null,null,"CN0","CN",{"$f":"VLOOKUP($D26,Table!$A$4:$N$34,COLUMN(Table!$N:$N),FALSE)","v":28378},2030,{"$f":"_xlfn.RANK.EQ($G26,$G$11:$G$41,1)+COUNTIF($G$11:$G26,$G26)-1","v":18},{"$f":"$F26/$F$43*AG26*General!$J$17","v":4.8550348629803795E-4},{"$f":"$F26/$F$43*AH26*General!$J$17","v":4.8550348629803795E-4},{"$f":"$F26/$F$43*AI26*General!$J$17","v":4.8550348629803795E-4},{"$f":"$F26/$F$43*AJ26*General!$J$17","v":4.8550348629803795E-4},{"$f":"$F26/$F$43*AK26*General!$J$17","v":4.8550348629803795E-4},{"$f":"$F26/$F$43*AL26*General!$J$17","v":4.8550348629803795E-4},{"$f":"$F26/$F$43*AM26*General!$J$17","v":4.8550348629803795E-4},{"$f":"$F26/$F$43*AN26*General!$J$17","v":4.8550348629803795E-4},{"$f":"$F26/$F$43*AO26*General!$J$17","v":4.8550348629803795E-4},{"$f":"$F26/$F$43*AP26*General!$J$17","v":4.8550348629803795E-4},{"$f":"$F26/$F$43*AQ26*General!$J$17","v":4.8550348629803795E-4},null,{"$f":"VLOOKUP($D26,Table!$A$4:$L$34,COLUMN(Table!J:J),FALSE)","v":251.16219089673891},{"$f":"(1-MIN(0,VLOOKUP($E26,OLTC_Taps!$D$147:$H$173,6-1,FALSE)+VLOOKUP($E26,OLTC_Taps!$D$147:$N$173,12-1,FALSE)*(V$10-$V$10+1)))*$U26","v":251.16219089673891},{"$f":"(1-MIN(0,VLOOKUP($E26,OLTC_Taps!$D$147:$H$173,6-1,FALSE)+VLOOKUP($E26,OLTC_Taps!$D$147:$N$173,12-1,FALSE)*(W$10-$V$10+1)))*$U26","v":251.16219089673891},{"$f":"(1-MIN(0,VLOOKUP($E26,OLTC_Taps!$D$147:$H$173,6-1,FALSE)+VLOOKUP($E26,OLTC_Taps!$D$147:$N$173,12-1,FALSE)*(X$10-$V$10+1)))*$U26","v":251.16219089673891},{"$f":"(1-MIN(0,VLOOKUP($E26,OLTC_Taps!$D$147:$H$173,6-1,FALSE)+VLOOKUP($E26,OLTC_Taps!$D$147:$N$173,12-1,FALSE)*(Y$10-$V$10+1)))*$U26","v":251.16219089673891},{"$f":"(1-MIN(0,VLOOKUP($E26,OLTC_Taps!$D$147:$H$173,6-1,FALSE)+VLOOKUP($E26,OLTC_Taps!$D$147:$O$173,13-1,FALSE)*(Z$10-$V$10+1)))*$U26","v":251.16219089673891},{"$f":"(1-MIN(0,VLOOKUP($E26,OLTC_Taps!$D$147:$H$173,6-1,FALSE)+VLOOKUP($E26,OLTC_Taps!$D$147:$O$173,13-1,FALSE)*(AA$10-$V$10+1)))*$U26","v":251.16219089673891},{"$f":"(1-MIN(0,VLOOKUP($E26,OLTC_Taps!$D$147:$H$173,6-1,FALSE)+VLOOKUP($E26,OLTC_Taps!$D$147:$O$173,13-1,FALSE)*(AB$10-$V$10+1)))*$U26","v":251.16219089673891},{"$f":"(1-MIN(0,VLOOKUP($E26,OLTC_Taps!$D$147:$H$173,6-1,FALSE)+VLOOKUP($E26,OLTC_Taps!$D$147:$O$173,13-1,FALSE)*(AC$10-$V$10+1)))*$U26","v":251.16219089673891},{"$f":"(1-MIN(0,VLOOKUP($E26,OLTC_Taps!$D$147:$H$173,6-1,FALSE)+VLOOKUP($E26,OLTC_Taps!$D$147:$O$173,13-1,FALSE)*(AD$10-$V$10+1)))*$U26","v":251.16219089673891},{"$f":"(1-MIN(0,VLOOKUP($E26,OLTC_Taps!$D$147:$H$173,6-1,FALSE)+VLOOKUP($E26,OLTC_Taps!$D$147:$O$173,13-1,FALSE)*(AE$10-$V$10+1)))*$U26","v":251.16219089673891},null,{"$f":"COUNTIFS('06Dec24'!$E:$E,\">\"&253-U26+$U26-$BG26,'06Dec24'!$D:$D,$D26)/COUNTIF('06Dec24'!$D:$D,$D26)","v":8.3515399252942421E-3},{"$f":"COUNTIFS('06Dec24'!$E:$E,\">\"&253-V26+$U26-$BG26,'06Dec24'!$D:$D,$D26)/COUNTIF('06Dec24'!$D:$D,$D26)","v":8.3515399252942421E-3},{"$f":"COUNTIFS('06Dec24'!$E:$E,\">\"&253-W26+$U26-$BG26,'06Dec24'!$D:$D,$D26)/COUNTIF('06Dec24'!$D:$D,$D26)","v":8.3515399252942421E-3},{"$f":"COUNTIFS('06Dec24'!$E:$E,\">\"&253-X26+$U26-$BG26,'06Dec24'!$D:$D,$D26)/COUNTIF('06Dec24'!$D:$D,$D26)","v":8.3515399252942421E-3},{"$f":"COUNTIFS('06Dec24'!$E:$E,\">\"&253-Y26+$U26-$BG26,'06Dec24'!$D:$D,$D26)/COUNTIF('06Dec24'!$D:$D,$D26)","v":8.3515399252942421E-3},{"$f":"COUNTIFS('06Dec24'!$E:$E,\">\"&253-Z26+$U26-$BG26,'06Dec24'!$D:$D,$D26)/COUNTIF('06Dec24'!$D:$D,$D26)","v":8.3515399252942421E-3},{"$f":"COUNTIFS('06Dec24'!$E:$E,\">\"&253-AA26+$U26-$BG26,'06Dec24'!$D:$D,$D26)/COUNTIF('06Dec24'!$D:$D,$D26)","v":8.3515399252942421E-3},{"$f":"COUNTIFS('06Dec24'!$E:$E,\">\"&253-AB26+$U26-$BG26,'06Dec24'!$D:$D,$D26)/COUNTIF('06Dec24'!$D:$D,$D26)","v":8.3515399252942421E-3},{"$f":"COUNTIFS('06Dec24'!$E:$E,\">\"&253-AC26+$U26-$BG26,'06Dec24'!$D:$D,$D26)/COUNTIF('06Dec24'!$D:$D,$D26)","v":8.3515399252942421E-3},{"$f":"COUNTIFS('06Dec24'!$E:$E,\">\"&253-AD26+$U26-$BG26,'06Dec24'!$D:$D,$D26)/COUNTIF('06Dec24'!$D:$D,$D26)","v":8.3515399252942421E-3},{"$f":"COUNTIFS('06Dec24'!$E:$E,\">\"&253-AE26+$U26-$BG26,'06Dec24'!$D:$D,$D26)/COUNTIF('06Dec24'!$D:$D,$D26)","v":8.3515399252942421E-3},null,null,null,null,null,{"$f":"IF(OR(SUM($AS26:AV26)>0,RANK(M26,M$11:M$41)>AW$6),\"\",1)","v":""},{"$f":"IF(OR(SUM($AS26:AW26)>0,RANK(N26,N$11:N$41)>AX$6),\"\",1)","v":""},{"$f":"IF(OR(SUM($AS26:AX26)>0,RANK(O26,O$11:O$41)>AY$6),\"\",1)","v":""},{"$f":"IF(OR(SUM($AS26:AY26)>0,RANK(P26,P$11:P$41)>AZ$6),\"\",1)","v":1},{"$f":"IF(OR(SUM($AS26:AZ26)>0,RANK(Q26,Q$11:Q$41)>BA$6),\"\",1)","v":""},{"$f":"IF(OR(SUM($AS26:BA26)>0,RANK(R26,R$11:R$41)>BB$6),\"\",1)","v":""},{"$f":"IF(OR(SUM($AS26:BB26)>0,RANK(S26,S$11:S$41)>BC$6),\"\",1)","v":""},null,null,null,{"$f":"VLOOKUP($D26,Table!$A$4:$M$34,COLUMN(Table!$M:$M),FALSE)","v":1.8378091032610939}]
[null,null,null,"CS0","CS",{"$f":"VLOOKUP($D27,Table!$A$4:$N$34,COLUMN(Table!$N:$N),FALSE)","v":26144},2024,{"$f":"_xlfn.RANK.EQ($G27,$G$11:$G$41,1)+COUNTIF($G$11:$G27,$G27)-1","v":2},{"$f":"$F27/$F$43*AG27*General!$J$17","v":4.4658126587752013E-4},{"$f":"$F27/$F$43*AH27*General!$J$17","v":4.4658126587752013E-4},{"$f":"$F27/$F$43*AI27*General!$J$17","v":4.4658126587752013E-4},{"$f":"$F27/$F$43*AJ27*General!$J$17","v":4.4658126587752013E-4},{"$f":"$F27/$F$43*AK27*General!$J$17","v":4.4658126587752013E-4},{"$f":"$F27/$F$43*AL27*General!$J$17","v":4.4658126587752013E-4},{"$f":"$F27/$F$43*AM27*General!$J$17","v":4.4658126587752013E-4},{"$f":"$F27/$F$43*AN27*General!$J$17","v":4.4658126587752013E-4},{"$f":"$F27/$F$43*AO27*General!$J$17","v":4.4658126587752013E-4},{"$f":"$F27/$F$43*AP27*General!$J$17","v":4.4658126587752013E-4},{"$f":"$F27/$F$43*AQ27*General!$J$17","v":4.4658126587752013E-4},null,{"$f":"VLOOKUP($D27,Table!$A$4:$L$34,COLUMN(Table!J:J),FALSE)","v":249.81955017641843},{"$f":"(1-MIN(0,VLOOKUP($E27,OLTC_Taps!$D$147:$H$173,6-1,FALSE)+VLOOKUP($E27,OLTC_Taps!$D$147:$N$173,12-1,FALSE)*(V$10-$V$10+1)))*$U27","v":249.81955017641843},{"$f":"(1-MIN(0,VLOOKUP($E27,OLTC_Taps!$D$147:$H$173,6-1,FALSE)+VLOOKUP($E27,OLTC_Taps!$D$147:$N$173,12-1,FALSE)*(W$10-$V$10+1)))*$U27","v":249.81955017641843},{"$f":"(1-MIN(0,VLOOKUP($E27,OLTC_Taps!$D$147:$H$173,6-1,FALSE)+VLOOKUP($E27,OLTC_Taps!$D$147:$N$173,12-1,FALSE)*(X$10-$V$10+1)))*$U27","v":249.81955017641843},{"$f":"(1-MIN(0,VLOOKUP($E27,OLTC_Taps!$D$147:$H$173,6-1,FALSE)+VLOOKUP($E27,OLTC_Taps!$D$147:$N$173,12-1,FALSE)*(Y$10-$V$10+1)))*$U27","v":249.81955017641843},{"$f":"(1-MIN(0,VLOOKUP($E27,OLTC_Taps!$D$147:$H$173,6-1,FALSE)+VLOOKUP($E27,OLTC_Taps!$D$147:$O$173,13-1,FALSE)*(Z$10-$V$10+1)))*$U27","v":249.81955017641843},{"$f":"(1-MIN(0,VLOOKUP($E27,OLTC_Taps!$D$147:$H$173,6-1,FALSE)+VLOOKUP($E27,OLTC_Taps!$D$147:$O$173,13-1,FALSE)*(AA$10-$V$10+1)))*$U27","v":249.81955017641843},{"$f":"(1-MIN(0,VLOOKUP($E27,OLTC_Taps!$D$147:$H$173,6-1,FALSE)+VLOOKUP($E27,OLTC_Taps!$D$147:$O$173,13-1,FALSE)*(AB$10-$V$10+1)))*$U27","v":249.81955017641843},{"$f":"(1-MIN(0,VLOOKUP($E27,OLTC_Taps!$D$147:$H$173,6-1,FALSE)+VLOOKUP($E27,OLTC_Taps!$D$147:$O$173,13-1,FALSE)*(AC$10-$V$10+1)))*$U27","v":249.81955017641843},{"$f":"(1-MIN(0,VLOOKUP($E27,OLTC_Taps!$D$147:$H$173,6-1,FALSE)+VLOOKUP($E27,OLTC_Taps!$D$147:$O$173,13-1,FALSE)*(AD$10-$V$10+1)))*$U27","v":249.81955017641843},{"$f":"(1-MIN(0,VLOOKUP($E27,OLTC_Taps!$D$147:$H$173,6-1,FALSE)+VLOOKUP($E27,OLTC_Taps!$D$147:$O$173,13-1,FALSE)*(AE$10-$V$10+1)))*$U27","v":249.81955017641843},null,{"$f":"COUNTIFS('06Dec24'!$E:$E,\">\"&253-U27+$U27-$BG27,'06Dec24'!$D:$D,$D27)/COUNTIF('06Dec24'!$D:$D,$D27)","v":8.3384332925336598E-3},{"$f":"COUNTIFS('06Dec24'!$E:$E,\">\"&253-V27+$U27-$BG27,'06Dec24'!$D:$D,$D27)/COUNTIF('06Dec24'!$D:$D,$D27)","v":8.3384332925336598E-3},{"$f":"COUNTIFS('06Dec24'!$E:$E,\">\"&253-W27+$U27-$BG27,'06Dec24'!$D:$D,$D27)/COUNTIF('06Dec24'!$D:$D,$D27)","v":8.3384332925336598E-3},{"$f":"COUNTIFS('06Dec24'!$E:$E,\">\"&253-X27+$U27-$BG27,'06Dec24'!$D:$D,$D27)/COUNTIF('06Dec24'!$D:$D,$D27)","v":8.3384332925336598E-3},{"$f":"COUNTIFS('06Dec24'!$E:$E,\">\"&253-Y27+$U27-$BG27,'06Dec24'!$D:$D,$D27)/COUNTIF('06Dec24'!$D:$D,$D27)","v":8.3384332925336598E-3},{"$f":"COUNTIFS('06Dec24'!$E:$E,\">\"&253-Z27+$U27-$BG27,'06Dec24'!$D:$D,$D27)/COUNTIF('06Dec24'!$D:$D,$D27)","v":8.3384332925336598E-3},{"$f":"COUNTIFS('06Dec24'!$E:$E,\">\"&253-AA27+$U27-$BG27,'06Dec24'!$D:$D,$D27)/COUNTIF('06Dec24'!$D:$D,$D27)","v":8.3384332925336598E-3},{"$f":"COUNTIFS('06Dec24'!$E:$E,\">\"&253-AB27+$U27-$BG27,'06Dec24'!$D:$D,$D27)/COUNTIF('06Dec24'!$D:$D,$D27)","v":8.3384332925336598E-3},{"$f":"COUNTIFS('06Dec24'!$E:$E,\">\"&253-AC27+$U27-$BG27,'06Dec24'!$D:$D,$D27)/COUNTIF('06Dec24'!$D:$D,$D27)","v":8.3384332925336598E-3},{"$f":"COUNTIFS('06Dec24'!$E:$E,\">\"&253-AD27+$U27-$BG27,'06Dec24'!$D:$D,$D27)/COUNTIF('06Dec24'!$D:$D,$D27)","v":8.3384332925336598E-3},{"$f":"COUNTIFS('06Dec24'!$E:$E,\">\"&253-AE27+$U27-$BG27,'06Dec24'!$D:$D,$D27)/COUNTIF('06Dec24'!$D:$D,$D27)","v":8.3384332925336598E-3},null,null,1,null,null,{"$f":"IF(OR(SUM($AS27:AV27)>0,RANK(M27,M$11:M$41)>AW$6),\"\",1)","v":""},{"$f":"IF(OR(SUM($AS27:AW27)>0,RANK(N27,N$11:N$41)>AX$6),\"\",1)","v":""},{"$f":"IF(OR(SUM($AS27:AX27)>0,RANK(O27,O$11:O$41)>AY$6),\"\",1)","v":""},{"$f":"IF(OR(SUM($AS27:AY27)>0,RANK(P27,P$11:P$41)>AZ$6),\"\",1)","v":""},{"$f":"IF(OR(SUM($AS27:AZ27)>0,RANK(Q27,Q$11:Q$41)>BA$6),\"\",1)","v":""},{"$f":"IF(OR(SUM($AS27:BA27)>0,RANK(R27,R$11:R$41)>BB$6),\"\",1)","v":""},{"$f":"IF(OR(SUM($AS27:BB27)>0,RANK(S27,S$11:S$41)>BC$6),\"\",1)","v":""},null,null,null,{"$f":"VLOOKUP($D27,Table!$A$4:$M$34,COLUMN(Table!$M:$M),FALSE)","v":3.1804498235815686}]
[null,null,null,"BMS","BMS",{"$f":"VLOOKUP($D28,Table!$A$4:$N$34,COLUMN(Table!$N:$N),FALSE)","v":5495},2030,{"$f":"_xlfn.RANK.EQ($G28,$G$11:$G$41,1)+COUNTIF($G$11:$G28,$G28)-1","v":19},{"$f":"$F28/$F$43*AG28*General!$J$17","v":3.9127074212204745E-4},{"$f":"$F28/$F$43*AH28*General!$J$17","v":3.9127074212204745E-4},{"$f":"$F28/$F$43*AI28*General!$J$17","v":3.9127074212204745E-4},{"$f":"$F28/$F$43*AJ28*General!$J$17","v":3.9127074212204745E-4},{"$f":"$F28/$F$43*AK28*General!$J$17","v":3.9127074212204745E-4},{"$f":"$F28/$F$43*AL28*General!$J$17","v":3.9127074212204745E-4},{"$f":"$F28/$F$43*AM28*General!$J$17","v":3.9127074212204745E-4},{"$f":"$F28/$F$43*AN28*General!$J$17","v":3.9127074212204745E-4},{"$f":"$F28/$F$43*AO28*General!$J$17","v":3.9127074212204745E-4},{"$f":"$F28/$F$43*AP28*General!$J$17","v":3.9127074212204745E-4},{"$f":"$F28/$F$43*AQ28*General!$J$17","v":3.9127074212204745E-4},null,{"$f":"VLOOKUP($D28,Table!$A$4:$L$34,COLUMN(Table!J:J),FALSE)","v":255.55400866531127},{"$f":"(1-MIN(0,VLOOKUP($E28,OLTC_Taps!$D$147:$H$173,6-1,FALSE)+VLOOKUP($E28,OLTC_Taps!$D$147:$N$173,12-1,FALSE)*(V$10-$V$10+1)))*$U28","v":255.55400866531127},{"$f":"(1-MIN(0,VLOOKUP($E28,OLTC_Taps!$D$147:$H$173,6-1,FALSE)+VLOOKUP($E28,OLTC_Taps!$D$147:$N$173,12-1,FALSE)*(W$10-$V$10+1)))*$U28","v":255.55400866531127},{"$f":"(1-MIN(0,VLOOKUP($E28,OLTC_Taps!$D$147:$H$173,6-1,FALSE)+VLOOKUP($E28,OLTC_Taps!$D$147:$N$173,12-1,FALSE)*(X$10-$V$10+1)))*$U28","v":255.55400866531127},{"$f":"(1-MIN(0,VLOOKUP($E28,OLTC_Taps!$D$147:$H$173,6-1,FALSE)+VLOOKUP($E28,OLTC_Taps!$D$147:$N$173,12-1,FALSE)*(Y$10-$V$10+1)))*$U28","v":255.55400866531127},{"$f":"(1-MIN(0,VLOOKUP($E28,OLTC_Taps!$D$147:$H$173,6-1,FALSE)+VLOOKUP($E28,OLTC_Taps!$D$147:$O$173,13-1,FALSE)*(Z$10-$V$10+1)))*$U28","v":255.55400866531127},{"$f":"(1-MIN(0,VLOOKUP($E28,OLTC_Taps!$D$147:$H$173,6-1,FALSE)+VLOOKUP($E28,OLTC_Taps!$D$147:$O$173,13-1,FALSE)*(AA$10-$V$10+1)))*$U28","v":255.55400866531127},{"$f":"(1-MIN(0,VLOOKUP($E28,OLTC_Taps!$D$147:$H$173,6-1,FALSE)+VLOOKUP($E28,OLTC_Taps!$D$147:$O$173,13-1,FALSE)*(AB$10-$V$10+1)))*$U28","v":255.55400866531127},{"$f":"(1-MIN(0,VLOOKUP($E28,OLTC_Taps!$D$147:$H$173,6-1,FALSE)+VLOOKUP($E28,OLTC_Taps!$D$147:$O$173,13-1,FALSE)*(AC$10-$V$10+1)))*$U28","v":255.55400866531127},{"$f":"(1-MIN(0,VLOOKUP($E28,OLTC_Taps!$D$147:$H$173,6-1,FALSE)+VLOOKUP($E28,OLTC_Taps!$D$147:$O$173,13-1,FALSE)*(AD$10-$V$10+1)))*$U28","v":255.55400866531127},{"$f":"(1-MIN(0,VLOOKUP($E28,OLTC_Taps!$D$147:$H$173,6-1,FALSE)+VLOOKUP($E28,OLTC_Taps!$D$147:$O$173,13-1,FALSE)*(AE$10-$V$10+1)))*$U28","v":255.55400866531127},null,{"$f":"COUNTIFS('06Dec24'!$E:$E,\">\"&253-U28+$U28-$BG28,'06Dec24'!$D:$D,$D28)/COUNTIF('06Dec24'!$D:$D,$D28)","v":3.4758871701546859E-2},{"$f":"COUNTIFS('06Dec24'!$E:$E,\">\"&253-V28+$U28-$BG28,'06Dec24'!$D:$D,$D28)/COUNTIF('06Dec24'!$D:$D,$D28)","v":3.4758871701546859E-2},{"$f":"COUNTIFS('06Dec24'!$E:$E,\">\"&253-W28+$U28-$BG28,'06Dec24'!$D:$D,$D28)/COUNTIF('06Dec24'!$D:$D,$D28)","v":3.4758871701546859E-2},{"$f":"COUNTIFS('06Dec24'!$E:$E,\">\"&253-X28+$U28-$BG28,'06Dec24'!$D:$D,$D28)/COUNTIF('06Dec24'!$D:$D,$D28)","v":3.4758871701546859E-2},{"$f":"COUNTIFS('06Dec24'!$E:$E,\">\"&253-Y28+$U28-$BG28,'06Dec24'!$D:$D,$D28)/COUNTIF('06Dec24'!$D:$D,$D28)","v":3.4758871701546859E-2},{"$f":"COUNTIFS('06Dec24'!$E:$E,\">\"&253-Z28+$U28-$BG28,'06Dec24'!$D:$D,$D28)/COUNTIF('06Dec24'!$D:$D,$D28)","v":3.4758871701546859E-2},{"$f":"COUNTIFS('06Dec24'!$E:$E,\">\"&253-AA28+$U28-$BG28,'06Dec24'!$D:$D,$D28)/COUNTIF('06Dec24'!$D:$D,$D28)","v":3.4758871701546859E-2},{"$f":"COUNTIFS('06Dec24'!$E:$E,\">\"&253-AB28+$U28-$BG28,'06Dec24'!$D:$D,$D28)/COUNTIF('06Dec24'!$D:$D,$D28)","v":3.4758871701546859E-2},{"$f":"COUNTIFS('06Dec24'!$E:$E,\">\"&253-AC28+$U28-$BG28,'06Dec24'!$D:$D,$D28)/COUNTIF('06Dec24'!$D:$D,$D28)","v":3.4758871701546859E-2},{"$f":"COUNTIFS('06Dec24'!$E:$E,\">\"&253-AD28+$U28-$BG28,'06Dec24'!$D:$D,$D28)/COUNTIF('06Dec24'!$D:$D,$D28)","v":3.4758871701546859E-2},{"$f":"COUNTIFS('06Dec24'!$E:$E,\">\"&253-AE28+$U28-$BG28,'06Dec24'!$D:$D,$D28)/COUNTIF('06Dec24'!$D:$D,$D28)","v":3.4758871701546859E-2},null,null,null,null,null,{"$f":"IF(OR(SUM($AS28:AV28)>0,RANK(M28,M$11:M$41)>AW$6),\"\",1)","v":""},{"$f":"IF(OR(SUM($AS28:AW28)>0,RANK(N28,N$11:N$41)>AX$6),\"\",1)","v":""},{"$f":"IF(OR(SUM($AS28:AX28)>0,RANK(O28,O$11:O$41)>AY$6),\"\",1)","v":""},{"$f":"IF(OR(SUM($AS28:AY28)>0,RANK(P28,P$11:P$41)>AZ$6),\"\",1)","v":1},{"$f":"IF(OR(SUM($AS28:AZ28)>0,RANK(Q28,Q$11:Q$41)>BA$6),\"\",1)","v":""},{"$f":"IF(OR(SUM($AS28:BA28)>0,RANK(R28,R$11:R$41)>BB$6),\"\",1)","v":""},{"$f":"IF(OR(SUM($AS28:BB28)>0,RANK(S28,S$11:S$41)>BC$6),\"\",1)","v":""},null,null,null,{"$f":"VLOOKUP($D28,Table!$A$4:$M$34,COLUMN(Table!$M:$M),FALSE)","v":0}]
[null,null,null,"PV0","PV",{"$f":"VLOOKUP($D29,Table!$A$4:$N$34,COLUMN(Table!$N:$N),FALSE)","v":24800},2030,{"$f":"_xlfn.RANK.EQ($G29,$G$11:$G$41,1)+COUNTIF($G$11:$G29,$G29)-1","v":20},{"$f":"$F29/$F$43*AG29*General!$J$17","v":3.7078536295335389E-4},{"$f":"$F29/$F$43*AH29*General!$J$17","v":3.7078536295335389E-4},{"$f":"$F29/$F$43*AI29*General!$J$17","v":3.7078536295335389E-4},{"$f":"$F29/$F$43*AJ29*General!$J$17","v":3.7078536295335389E-4},{"$f":"$F29/$F$43*AK29*General!$J$17","v":3.7078536295335389E-4},{"$f":"$F29/$F$43*AL29*General!$J$17","v":3.7078536295335389E-4},{"$f":"$F29/$F$43*AM29*General!$J$17","v":3.7078536295335389E-4},{"$f":"$F29/$F$43*AN29*General!$J$17","v":3.7078536295335389E-4},{"$f":"$F29/$F$43*AO29*General!$J$17","v":3.7078536295335389E-4},{"$f":"$F29/$F$43*AP29*General!$J$17","v":3.7078536295335389E-4},{"$f":"$F29/$F$43*AQ29*General!$J$17","v":3.7078536295335389E-4},null,{"$f":"VLOOKUP($D29,Table!$A$4:$L$34,COLUMN(Table!J:J),FALSE)","v":252.69627265368453},{"$f":"(1-MIN(0,VLOOKUP($E29,OLTC_Taps!$D$147:$H$173,6-1,FALSE)+VLOOKUP($E29,OLTC_Taps!$D$147:$N$173,12-1,FALSE)*(V$10-$V$10+1)))*$U29","v":252.69627265368453},{"$f":"(1-MIN(0,VLOOKUP($E29,OLTC_Taps!$D$147:$H$173,6-1,FALSE)+VLOOKUP($E29,OLTC_Taps!$D$147:$N$173,12-1,FALSE)*(W$10-$V$10+1)))*$U29","v":252.69627265368453},{"$f":"(1-MIN(0,VLOOKUP($E29,OLTC_Taps!$D$147:$H$173,6-1,FALSE)+VLOOKUP($E29,OLTC_Taps!$D$147:$N$173,12-1,FALSE)*(X$10-$V$10+1)))*$U29","v":252.69627265368453},{"$f":"(1-MIN(0,VLOOKUP($E29,OLTC_Taps!$D$147:$H$173,6-1,FALSE)+VLOOKUP($E29,OLTC_Taps!$D$147:$N$173,12-1,FALSE)*(Y$10-$V$10+1)))*$U29","v":252.69627265368453},{"$f":"(1-MIN(0,VLOOKUP($E29,OLTC_Taps!$D$147:$H$173,6-1,FALSE)+VLOOKUP($E29,OLTC_Taps!$D$147:$O$173,13-1,FALSE)*(Z$10-$V$10+1)))*$U29","v":252.69627265368453},{"$f":"(1-MIN(0,VLOOKUP($E29,OLTC_Taps!$D$147:$H$173,6-1,FALSE)+VLOOKUP($E29,OLTC_Taps!$D$147:$O$173,13-1,FALSE)*(AA$10-$V$10+1)))*$U29","v":252.69627265368453},{"$f":"(1-MIN(0,VLOOKUP($E29,OLTC_Taps!$D$147:$H$173,6-1,FALSE)+VLOOKUP($E29,OLTC_Taps!$D$147:$O$173,13-1,FALSE)*(AB$10-$V$10+1)))*$U29","v":252.69627265368453},{"$f":"(1-MIN(0,VLOOKUP($E29,OLTC_Taps!$D$147:$H$173,6-1,FALSE)+VLOOKUP($E29,OLTC_Taps!$D$147:$O$173,13-1,FALSE)*(AC$10-$V$10+1)))*$U29","v":252.69627265368453},{"$f":"(1-MIN(0,VLOOKUP($E29,OLTC_Taps!$D$147:$H$173,6-1,FALSE)+VLOOKUP($E29,OLTC_Taps!$D$147:$O$173,13-1,FALSE)*(AD$10-$V$10+1)))*$U29","v":252.69627265368453},{"$f":"(1-MIN(0,VLOOKUP($E29,OLTC_Taps!$D$147:$H$173,6-1,FALSE)+VLOOKUP($E29,OLTC_Taps!$D$147:$O$173,13-1,FALSE)*(AE$10-$V$10+1)))*$U29","v":252.69627265368453},null,{"$f":"COUNTIFS('06Dec24'!$E:$E,\">\"&253-U29+$U29-$BG29,'06Dec24'!$D:$D,$D29)/COUNTIF('06Dec24'!$D:$D,$D29)","v":7.2983870967741936E-3},{"$f":"COUNTIFS('06Dec24'!$E:$E,\">\"&253-V29+$U29-$BG29,'06Dec24'!$D:$D,$D29)/COUNTIF('06Dec24'!$D:$D,$D29)","v":7.2983870967741936E-3},{"$f":"COUNTIFS('06Dec24'!$E:$E,\">\"&253-W29+$U29-$BG29,'06Dec24'!$D:$D,$D29)/COUNTIF('06Dec24'!$D:$D,$D29)","v":7.2983870967741936E-3},{"$f":"COUNTIFS('06Dec24'!$E:$E,\">\"&253-X29+$U29-$BG29,'06Dec24'!$D:$D,$D29)/COUNTIF('06Dec24'!$D:$D,$D29)","v":7.2983870967741936E-3},{"$f":"COUNTIFS('06Dec24'!$E:$E,\">\"&253-Y29+$U29-$BG29,'06Dec24'!$D:$D,$D29)/COUNTIF('06Dec24'!$D:$D,$D29)","v":7.2983870967741936E-3},{"$f":"COUNTIFS('06Dec24'!$E:$E,\">\"&253-Z29+$U29-$BG29,'06Dec24'!$D:$D,$D29)/COUNTIF('06Dec24'!$D:$D,$D29)","v":7.2983870967741936E-3},{"$f":"COUNTIFS('06Dec24'!$E:$E,\">\"&253-AA29+$U29-$BG29,'06Dec24'!$D:$D,$D29)/COUNTIF('06Dec24'!$D:$D,$D29)","v":7.2983870967741936E-3},{"$f":"COUNTIFS('06Dec24'!$E:$E,\">\"&253-AB29+$U29-$BG29,'06Dec24'!$D:$D,$D29)/COUNTIF('06Dec24'!$D:$D,$D29)","v":7.2983870967741936E-3},{"$f":"COUNTIFS('06Dec24'!$E:$E,\">\"&253-AC29+$U29-$BG29,'06Dec24'!$D:$D,$D29)/COUNTIF('06Dec24'!$D:$D,$D29)","v":7.2983870967741936E-3},{"$f":"COUNTIFS('06Dec24'!$E:$E,\">\"&253-AD29+$U29-$BG29,'06Dec24'!$D:$D,$D29)/COUNTIF('06Dec24'!$D:$D,$D29)","v":7.2983870967741936E-3},{"$f":"COUNTIFS('06Dec24'!$E:$E,\">\"&253-AE29+$U29-$BG29,'06Dec24'!$D:$D,$D29)/COUNTIF('06Dec24'!$D:$D,$D29)","v":7.2983870967741936E-3},null,null,null,null,null,{"$f":"IF(OR(SUM($AS29:AV29)>0,RANK(M29,M$11:M$41)>AW$6),\"\",1)","v":""},{"$f":"IF(OR(SUM($AS29:AW29)>0,RANK(N29,N$11:N$41)>AX$6),\"\",1)","v":""},{"$f":"IF(OR(SUM($AS29:AX29)>0,RANK(O29,O$11:O$41)>AY$6),\"\",1)","v":""},{"$f":"IF(OR(SUM($AS29:AY29)>0,RANK(P29,P$11:P$41)>AZ$6),\"\",1)","v":1},{"$f":"IF(OR(SUM($AS29:AZ29)>0,RANK(Q29,Q$11:Q$41)>BA$6),\"\",1)","v":""},{"$f":"IF(OR(SUM($AS29:BA29)>0,RANK(R29,R$11:R$41)>BB$6),\"\",1)","v":""},{"$f":"IF(OR(SUM($AS29:BB29)>0,RANK(S29,S$11:S$41)>BC$6),\"\",1)","v":""},null,null,null,{"$f":"VLOOKUP($D29,Table!$A$4:$M$34,COLUMN(Table!$M:$M),FALSE)","v":0.30372734631546905}]
[null,null,null,"FT0","FT",{"$f":"VLOOKUP($D30,Table!$A$4:$N$34,COLUMN(Table!$N:$N),FALSE)","v":17389},2030,{"$f":"_xlfn.RANK.EQ($G30,$G$11:$G$41,1)+COUNTIF($G$11:$G30,$G30)-1","v":21},{"$f":"$F30/$F$43*AG30*General!$J$17","v":3.6668828711961513E-4},{"$f":"$F30/$F$43*AH30*General!$J$17","v":3.6668828711961513E-4},{"$f":"$F30/$F$43*AI30*General!$J$17","v":3.6668828711961513E-4},{"$f":"$F30/$F$43*AJ30*General!$J$17","v":3.6668828711961513E-4},{"$f":"$F30/$F$43*AK30*General!$J$17","v":3.6668828711961513E-4},{"$f":"$F30/$F$43*AL30*General!$J$17","v":3.6668828711961513E-4},{"$f":"$F30/$F$43*AM30*General!$J$17","v":3.6668828711961513E-4},{"$f":"$F30/$F$43*AN30*General!$J$17","v":3.6668828711961513E-4},{"$f":"$F30/$F$43*AO30*General!$J$17","v":3.6668828711961513E-4},{"$f":"$F30/$F$43*AP30*General!$J$17","v":3.6668828711961513E-4},{"$f":"$F30/$F$43*AQ30*General!$J$17","v":3.6668828711961513E-4},null,{"$f":"VLOOKUP($D30,Table!$A$4:$L$34,COLUMN(Table!J:J),FALSE)","v":253.53980612809201},{"$f":"(1-MIN(0,VLOOKUP($E30,OLTC_Taps!$D$147:$H$173,6-1,FALSE)+VLOOKUP($E30,OLTC_Taps!$D$147:$N$173,12-1,FALSE)*(V$10-$V$10+1)))*$U30","v":253.53980612809201},{"$f":"(1-MIN(0,VLOOKUP($E30,OLTC_Taps!$D$147:$H$173,6-1,FALSE)+VLOOKUP($E30,OLTC_Taps!$D$147:$N$173,12-1,FALSE)*(W$10-$V$10+1)))*$U30","v":253.53980612809201},{"$f":"(1-MIN(0,VLOOKUP($E30,OLTC_Taps!$D$147:$H$173,6-1,FALSE)+VLOOKUP($E30,OLTC_Taps!$D$147:$N$173,12-1,FALSE)*(X$10-$V$10+1)))*$U30","v":253.53980612809201},{"$f":"(1-MIN(0,VLOOKUP($E30,OLTC_Taps!$D$147:$H$173,6-1,FALSE)+VLOOKUP($E30,OLTC_Taps!$D$147:$N$173,12-1,FALSE)*(Y$10-$V$10+1)))*$U30","v":253.53980612809201},{"$f":"(1-MIN(0,VLOOKUP($E30,OLTC_Taps!$D$147:$H$173,6-1,FALSE)+VLOOKUP($E30,OLTC_Taps!$D$147:$O$173,13-1,FALSE)*(Z$10-$V$10+1)))*$U30","v":253.53980612809201},{"$f":"(1-MIN(0,VLOOKUP($E30,OLTC_Taps!$D$147:$H$173,6-1,FALSE)+VLOOKUP($E30,OLTC_Taps!$D$147:$O$173,13-1,FALSE)*(AA$10-$V$10+1)))*$U30","v":253.53980612809201},{"$f":"(1-MIN(0,VLOOKUP($E30,OLTC_Taps!$D$147:$H$173,6-1,FALSE)+VLOOKUP($E30,OLTC_Taps!$D$147:$O$173,13-1,FALSE)*(AB$10-$V$10+1)))*$U30","v":253.53980612809201},{"$f":"(1-MIN(0,VLOOKUP($E30,OLTC_Taps!$D$147:$H$173,6-1,FALSE)+VLOOKUP($E30,OLTC_Taps!$D$147:$O$173,13-1,FALSE)*(AC$10-$V$10+1)))*$U30","v":253.53980612809201},{"$f":"(1-MIN(0,VLOOKUP($E30,OLTC_Taps!$D$147:$H$173,6-1,FALSE)+VLOOKUP($E30,OLTC_Taps!$D$147:$O$173,13-1,FALSE)*(AD$10-$V$10+1)))*$U30","v":253.53980612809201},{"$f":"(1-MIN(0,VLOOKUP($E30,OLTC_Taps!$D$147:$H$173,6-1,FALSE)+VLOOKUP($E30,OLTC_Taps!$D$147:$O$173,13-1,FALSE)*(AE$10-$V$10+1)))*$U30","v":253.53980612809201},null,{"$f":"COUNTIFS('06Dec24'!$E:$E,\">\"&253-U30+$U30-$BG30,'06Dec24'!$D:$D,$D30)/COUNTIF('06Dec24'!$D:$D,$D30)","v":1.0293863936971648E-2},{"$f":"COUNTIFS('06Dec24'!$E:$E,\">\"&253-V30+$U30-$BG30,'06Dec24'!$D:$D,$D30)/COUNTIF('06Dec24'!$D:$D,$D30)","v":1.0293863936971648E-2},{"$f":"COUNTIFS('06Dec24'!$E:$E,\">\"&253-W30+$U30-$BG30,'06Dec24'!$D:$D,$D30)/COUNTIF('06Dec24'!$D:$D,$D30)","v":1.0293863936971648E-2},{"$f":"COUNTIFS('06Dec24'!$E:$E,\">\"&253-X30+$U30-$BG30,'06Dec24'!$D:$D,$D30)/COUNTIF('06Dec24'!$D:$D,$D30)","v":1.0293863936971648E-2},{"$f":"COUNTIFS('06Dec24'!$E:$E,\">\"&253-Y30+$U30-$BG30,'06Dec24'!$D:$D,$D30)/COUNTIF('06Dec24'!$D:$D,$D30)","v":1.0293863936971648E-2},{"$f":"COUNTIFS('06Dec24'!$E:$E,\">\"&253-Z30+$U30-$BG30,'06Dec24'!$D:$D,$D30)/COUNTIF('06Dec24'!$D:$D,$D30)","v":1.0293863936971648E-2},{"$f":"COUNTIFS('06Dec24'!$E:$E,\">\"&253-AA30+$U30-$BG30,'06Dec24'!$D:$D,$D30)/COUNTIF('06Dec24'!$D:$D,$D30)","v":1.0293863936971648E-2},{"$f":"COUNTIFS('06Dec24'!$E:$E,\">\"&253-AB30+$U30-$BG30,'06Dec24'!$D:$D,$D30)/COUNTIF('06Dec24'!$D:$D,$D30)","v":1.0293863936971648E-2},{"$f":"COUNTIFS('06Dec24'!$E:$E,\">\"&253-AC30+$U30-$BG30,'06Dec24'!$D:$D,$D30)/COUNTIF('06Dec24'!$D:$D,$D30)","v":1.0293863936971648E-2},{"$f":"COUNTIFS('06Dec24'!$E:$E,\">\"&253-AD30+$U30-$BG30,'06Dec24'!$D:$D,$D30)/COUNTIF('06Dec24'!$D:$D,$D30)","v":1.0293863936971648E-2},{"$f":"COUNTIFS('06Dec24'!$E:$E,\">\"&253-AE30+$U30-$BG30,'06Dec24'!$D:$D,$D30)/COUNTIF('06Dec24'!$D:$D,$D30)","v":1.0293863936971648E-2},null,null,null,null,null,{"$f":"IF(OR(SUM($AS30:AV30)>0,RANK(M30,M$11:M$41)>AW$6),\"\",1)","v":""},{"$f":"IF(OR(SUM($AS30:AW30)>0,RANK(N30,N$11:N$41)>AX$6),\"\",1)","v":""},{"$f":"IF(OR(SUM($AS30:AX30)>0,RANK(O30,O$11:O$41)>AY$6),\"\",1)","v":""},{"$f":"IF(OR(SUM($AS30:AY30)>0,RANK(P30,P$11:P$41)>AZ$6),\"\",1)","v":1},{"$f":"IF(OR(SUM($AS30:AZ30)>0,RANK(Q30,Q$11:Q$41)>BA$6),\"\",1)","v":""},{"$f":"IF(OR(SUM($AS30:BA30)>0,RANK(R30,R$11:R$41)>BB$6),\"\",1)","v":""},{"$f":"IF(OR(SUM($AS30:BB30)>0,RANK(S30,S$11:S$41)>BC$6),\"\",1)","v":""},null,null,null,{"$f":"VLOOKUP($D30,Table!$A$4:$M$34,COLUMN(Table!$M:$M),FALSE)","v":0}]
[null,null,null,"COO","COO",{"$f":"VLOOKUP($D31,Table!$A$4:$N$34,COLUMN(Table!$N:$N),FALSE)","v":18932},2030,{"$f":"_xlfn.RANK.EQ($G31,$G$11:$G$41,1)+COUNTIF($G$11:$G31,$G31)-1","v":22},{"$f":"$F31/$F$43*AG31*General!$J$17","v":3.5029998378466028E-4},{"$f":"$F31/$F$43*AH31*General!$J$17","v":3.5029998378466028E-4},{"$f":"$F31/$F$43*AI31*General!$J$17","v":3.5029998378466028E-4},{"$f":"$F31/$F$43*AJ31*General!$J$17","v":3.5029998378466028E-4},{"$f":"$F31/$F$43*AK31*General!$J$17","v":3.5029998378466028E-4},{"$f":"$F31/$F$43*AL31*General!$J$17","v":3.5029998378466028E-4},{"$f":"$F31/$F$43*AM31*General!$J$17","v":3.5029998378466028E-4},{"$f":"$F31/$F$43*AN31*General!$J$17","v":3.5029998378466028E-4},{"$f":"$F31/$F$43*AO31*General!$J$17","v":3.5029998378466028E-4},{"$f":"$F31/$F$43*AP31*General!$J$17","v":3.5029998378466028E-4},{"$f":"$F31/$F$43*AQ31*General!$J$17","v":5.776876925571591E-4},null,{"$f":"VLOOKUP($D31,Table!$A$4:$L$34,COLUMN(Table!J:J),FALSE)","v":251.90222504024297},{"$f":"(1-MIN(0,VLOOKUP($E31,OLTC_Taps!$D$147:$H$173,6-1,FALSE)+VLOOKUP($E31,OLTC_Taps!$D$147:$N$173,12-1,FALSE)*(V$10-$V$10+1)))*$U31","v":251.90222504024297},{"$f":"(1-MIN(0,VLOOKUP($E31,OLTC_Taps!$D$147:$H$173,6-1,FALSE)+VLOOKUP($E31,OLTC_Taps!$D$147:$N$173,12-1,FALSE)*(W$10-$V$10+1)))*$U31","v":251.90222504024297},{"$f":"(1-MIN(0,VLOOKUP($E31,OLTC_Taps!$D$147:$H$173,6-1,FALSE)+VLOOKUP($E31,OLTC_Taps!$D$147:$N$173,12-1,FALSE)*(X$10-$V$10+1)))*$U31","v":251.90222504024297},{"$f":"(1-MIN(0,VLOOKUP($E31,OLTC_Taps!$D$147:$H$173,6-1,FALSE)+VLOOKUP($E31,OLTC_Taps!$D$147:$N$173,12-1,FALSE)*(Y$10-$V$10+1)))*$U31","v":251.90222504024297},{"$f":"(1-MIN(0,VLOOKUP($E31,OLTC_Taps!$D$147:$H$173,6-1,FALSE)+VLOOKUP($E31,OLTC_Taps!$D$147:$O$173,13-1,FALSE)*(Z$10-$V$10+1)))*$U31","v":251.90222504024297},{"$f":"(1-MIN(0,VLOOKUP($E31,OLTC_Taps!$D$147:$H$173,6-1,FALSE)+VLOOKUP($E31,OLTC_Taps!$D$147:$O$173,13-1,FALSE)*(AA$10-$V$10+1)))*$U31","v":251.90222504024297},{"$f":"(1-MIN(0,VLOOKUP($E31,OLTC_Taps!$D$147:$H$173,6-1,FALSE)+VLOOKUP($E31,OLTC_Taps!$D$147:$O$173,13-1,FALSE)*(AB$10-$V$10+1)))*$U31","v":251.90222504024297},{"$f":"(1-MIN(0,VLOOKUP($E31,OLTC_Taps!$D$147:$H$173,6-1,FALSE)+VLOOKUP($E31,OLTC_Taps!$D$147:$O$173,13-1,FALSE)*(AC$10-$V$10+1)))*$U31","v":251.90222504024297},{"$f":"(1-MIN(0,VLOOKUP($E31,OLTC_Taps!$D$147:$H$173,6-1,FALSE)+VLOOKUP($E31,OLTC_Taps!$D$147:$O$173,13-1,FALSE)*(AD$10-$V$10+1)))*$U31","v":251.90222504024297},{"$f":"(1-MIN(0,VLOOKUP($E31,OLTC_Taps!$D$147:$H$173,6-1,FALSE)+VLOOKUP($E31,OLTC_Taps!$D$147:$O$173,13-1,FALSE)*(AE$10-$V$10+1)))*$U31","v":252.40258603803176},null,{"$f":"COUNTIFS('06Dec24'!$E:$E,\">\"&253-U31+$U31-$BG31,'06Dec24'!$D:$D,$D31)/COUNTIF('06Dec24'!$D:$D,$D31)","v":9.0323262201563483E-3},{"$f":"COUNTIFS('06Dec24'!$E:$E,\">\"&253-V31+$U31-$BG31,'06Dec24'!$D:$D,$D31)/COUNTIF('06Dec24'!$D:$D,$D31)","v":9.0323262201563483E-3},{"$f":"COUNTIFS('06Dec24'!$E:$E,\">\"&253-W31+$U31-$BG31,'06Dec24'!$D:$D,$D31)/COUNTIF('06Dec24'!$D:$D,$D31)","v":9.0323262201563483E-3},{"$f":"COUNTIFS('06Dec24'!$E:$E,\">\"&253-X31+$U31-$BG31,'06Dec24'!$D:$D,$D31)/COUNTIF('06Dec24'!$D:$D,$D31)","v":9.0323262201563483E-3},{"$f":"COUNTIFS('06Dec24'!$E:$E,\">\"&253-Y31+$U31-$BG31,'06Dec24'!$D:$D,$D31)/COUNTIF('06Dec24'!$D:$D,$D31)","v":9.0323262201563483E-3},{"$f":"COUNTIFS('06Dec24'!$E:$E,\">\"&253-Z31+$U31-$BG31,'06Dec24'!$D:$D,$D31)/COUNTIF('06Dec24'!$D:$D,$D31)","v":9.0323262201563483E-3},{"$f":"COUNTIFS('06Dec24'!$E:$E,\">\"&253-AA31+$U31-$BG31,'06Dec24'!$D:$D,$D31)/COUNTIF('06Dec24'!$D:$D,$D31)","v":9.0323262201563483E-3},{"$f":"COUNTIFS('06Dec24'!$E:$E,\">\"&253-AB31+$U31-$BG31,'06Dec24'!$D:$D,$D31)/COUNTIF('06Dec24'!$D:$D,$D31)","v":9.0323262201563483E-3},{"$f":"COUNTIFS('06Dec24'!$E:$E,\">\"&253-AC31+$U31-$BG31,'06Dec24'!$D:$D,$D31)/COUNTIF('06Dec24'!$D:$D,$D31)","v":9.0323262201563483E-3},{"$f":"COUNTIFS('06Dec24'!$E:$E,\">\"&253-AD31+$U31-$BG31,'06Dec24'!$D:$D,$D31)/COUNTIF('06Dec24'!$D:$D,$D31)","v":9.0323262201563483E-3},{"$f":"COUNTIFS('06Dec24'!$E:$E,\">\"&253-AE31+$U31-$BG31,'06Dec24'!$D:$D,$D31)/COUNTIF('06Dec24'!$D:$D,$D31)","v":1.48954151700824E-2},null,null,null,null,null,{"$f":"IF(OR(SUM($AS31:AV31)>0,RANK(M31,M$11:M$41)>AW$6),\"\",1)","v":""},{"$f":"IF(OR(SUM($AS31:AW31)>0,RANK(N31,N$11:N$41)>AX$6),\"\",1)","v":""},{"$f":"IF(OR(SUM($AS31:AX31)>0,RANK(O31,O$11:O$41)>AY$6),\"\",1)","v":""},{"$f":"IF(OR(SUM($AS31:AY31)>0,RANK(P31,P$11:P$41)>AZ$6),\"\",1)","v":1},{"$f":"IF(OR(SUM($AS31:AZ31)>0,RANK(Q31,Q$11:Q$41)>BA$6),\"\",1)","v":""},{"$f":"IF(OR(SUM($AS31:BA31)>0,RANK(R31,R$11:R$41)>BB$6),\"\",1)","v":""},{"$f":"IF(OR(SUM($AS31:BB31)>0,RANK(S31,S$11:S$41)>BC$6),\"\",1)","v":""},null,null,null,{"$f":"VLOOKUP($D31,Table!$A$4:$M$34,COLUMN(Table!$M:$M),FALSE)","v":1.0977749597570323}]
[null,null,null,"NT0","NT",{"$f":"VLOOKUP($D32,Table!$A$4:$N$34,COLUMN(Table!$N:$N),FALSE)","v":18484},2030,{"$f":"_xlfn.RANK.EQ($G32,$G$11:$G$41,1)+COUNTIF($G$11:$G32,$G32)-1","v":23},{"$f":"$F32/$F$43*AG32*General!$J$17","v":3.4415437003405228E-4},{"$f":"$F32/$F$43*AH32*General!$J$17","v":3.4415437003405228E-4},{"$f":"$F32/$F$43*AI32*General!$J$17","v":3.4415437003405228E-4},{"$f":"$F32/$F$43*AJ32*General!$J$17","v":3.4415437003405228E-4},{"$f":"$F32/$F$43*AK32*General!$J$17","v":3.4415437003405228E-4},{"$f":"$F32/$F$43*AL32*General!$J$17","v":3.4415437003405228E-4},{"$f":"$F32/$F$43*AM32*General!$J$17","v":3.4415437003405228E-4},{"$f":"$F32/$F$43*AN32*General!$J$17","v":3.4415437003405228E-4},{"$f":"$F32/$F$43*AO32*General!$J$17","v":3.4415437003405228E-4},{"$f":"$F32/$F$43*AP32*General!$J$17","v":3.4415437003405228E-4},{"$f":"$F32/$F$43*AQ32*General!$J$17","v":3.4415437003405228E-4},null,{"$f":"VLOOKUP($D32,Table!$A$4:$L$34,COLUMN(Table!J:J),FALSE)","v":250.36393507580294},{"$f":"(1-MIN(0,VLOOKUP($E32,OLTC_Taps!$D$147:$H$173,6-1,FALSE)+VLOOKUP($E32,OLTC_Taps!$D$147:$N$173,12-1,FALSE)*(V$10-$V$10+1)))*$U32","v":250.36393507580294},{"$f":"(1-MIN(0,VLOOKUP($E32,OLTC_Taps!$D$147:$H$173,6-1,FALSE)+VLOOKUP($E32,OLTC_Taps!$D$147:$N$173,12-1,FALSE)*(W$10-$V$10+1)))*$U32","v":250.36393507580294},{"$f":"(1-MIN(0,VLOOKUP($E32,OLTC_Taps!$D$147:$H$173,6-1,FALSE)+VLOOKUP($E32,OLTC_Taps!$D$147:$N$173,12-1,FALSE)*(X$10-$V$10+1)))*$U32","v":250.36393507580294},{"$f":"(1-MIN(0,VLOOKUP($E32,OLTC_Taps!$D$147:$H$173,6-1,FALSE)+VLOOKUP($E32,OLTC_Taps!$D$147:$N$173,12-1,FALSE)*(Y$10-$V$10+1)))*$U32","v":250.36393507580294},{"$f":"(1-MIN(0,VLOOKUP($E32,OLTC_Taps!$D$147:$H$173,6-1,FALSE)+VLOOKUP($E32,OLTC_Taps!$D$147:$O$173,13-1,FALSE)*(Z$10-$V$10+1)))*$U32","v":250.36393507580294},{"$f":"(1-MIN(0,VLOOKUP($E32,OLTC_Taps!$D$147:$H$173,6-1,FALSE)+VLOOKUP($E32,OLTC_Taps!$D$147:$O$173,13-1,FALSE)*(AA$10-$V$10+1)))*$U32","v":250.36393507580294},{"$f":"(1-MIN(0,VLOOKUP($E32,OLTC_Taps!$D$147:$H$173,6-1,FALSE)+VLOOKUP($E32,OLTC_Taps!$D$147:$O$173,13-1,FALSE)*(AB$10-$V$10+1)))*$U32","v":250.36393507580294},{"$f":"(1-MIN(0,VLOOKUP($E32,OLTC_Taps!$D$147:$H$173,6-1,FALSE)+VLOOKUP($E32,OLTC_Taps!$D$147:$O$173,13-1,FALSE)*(AC$10-$V$10+1)))*$U32","v":250.36393507580294},{"$f":"(1-MIN(0,VLOOKUP($E32,OLTC_Taps!$D$147:$H$173,6-1,FALSE)+VLOOKUP($E32,OLTC_Taps!$D$147:$O$173,13-1,FALSE)*(AD$10-$V$10+1)))*$U32","v":250.36393507580294},{"$f":"(1-MIN(0,VLOOKUP($E32,OLTC_Taps!$D$147:$H$173,6-1,FALSE)+VLOOKUP($E32,OLTC_Taps!$D$147:$O$173,13-1,FALSE)*(AE$10-$V$10+1)))*$U32","v":250.36393507580294},null,{"$f":"COUNTIFS('06Dec24'!$E:$E,\">\"&253-U32+$U32-$BG32,'06Dec24'!$D:$D,$D32)/COUNTIF('06Dec24'!$D:$D,$D32)","v":9.0889417874918856E-3},{"$f":"COUNTIFS('06Dec24'!$E:$E,\">\"&253-V32+$U32-$BG32,'06Dec24'!$D:$D,$D32)/COUNTIF('06Dec24'!$D:$D,$D32)","v":9.0889417874918856E-3},{"$f":"COUNTIFS('06Dec24'!$E:$E,\">\"&253-W32+$U32-$BG32,'06Dec24'!$D:$D,$D32)/COUNTIF('06Dec24'!$D:$D,$D32)","v":9.0889417874918856E-3},{"$f":"COUNTIFS('06Dec24'!$E:$E,\">\"&253-X32+$U32-$BG32,'06Dec24'!$D:$D,$D32)/COUNTIF('06Dec24'!$D:$D,$D32)","v":9.0889417874918856E-3},{"$f":"COUNTIFS('06Dec24'!$E:$E,\">\"&253-Y32+$U32-$BG32,'06Dec24'!$D:$D,$D32)/COUNTIF('06Dec24'!$D:$D,$D32)","v":9.0889417874918856E-3},{"$f":"COUNTIFS('06Dec24'!$E:$E,\">\"&253-Z32+$U32-$BG32,'06Dec24'!$D:$D,$D32)/COUNTIF('06Dec24'!$D:$D,$D32)","v":9.0889417874918856E-3},{"$f":"COUNTIFS('06Dec24'!$E:$E,\">\"&253-AA32+$U32-$BG32,'06Dec24'!$D:$D,$D32)/COUNTIF('06Dec24'!$D:$D,$D32)","v":9.0889417874918856E-3},{"$f":"COUNTIFS('06Dec24'!$E:$E,\">\"&253-AB32+$U32-$BG32,'06Dec24'!$D:$D,$D32)/COUNTIF('06Dec24'!$D:$D,$D32)","v":9.0889417874918856E-3},{"$f":"COUNTIFS('06Dec24'!$E:$E,\">\"&253-AC32+$U32-$BG32,'06Dec24'!$D:$D,$D32)/COUNTIF('06Dec24'!$D:$D,$D32)","v":9.0889417874918856E-3},{"$f":"COUNTIFS('06Dec24'!$E:$E,\">\"&253-AD32+$U32-$BG32,'06Dec24'!$D:$D,$D32)/COUNTIF('06Dec24'!$D:$D,$D32)","v":9.0889417874918856E-3},{"$f":"COUNTIFS('06Dec24'!$E:$E,\">\"&253-AE32+$U32-$BG32,'06Dec24'!$D:$D,$D32)/COUNTIF('06Dec24'!$D:$D,$D32)","v":9.0889417874918856E-3},null,null,null,null,null,{"$f":"IF(OR(SUM($AS32:AV32)>0,RANK(M32,M$11:M$41)>AW$6),\"\",1)","v":""},{"$f":"IF(OR(SUM($AS32:AW32)>0,RANK(N32,N$11:N$41)>AX$6),\"\",1)","v":""},{"$f":"IF(OR(SUM($AS32:AX32)>0,RANK(O32,O$11:O$41)>AY$6),\"\",1)","v":""},{"$f":"IF(OR(SUM($AS32:AY32)>0,RANK(P32,P$11:P$41)>AZ$6),\"\",1)","v":1},{"$f":"IF(OR(SUM($AS32:AZ32)>0,RANK(Q32,Q$11:Q$41)>BA$6),\"\",1)","v":""},{"$f":"IF(OR(SUM($AS32:BA32)>0,RANK(R32,R$11:R$41)>BB$6),\"\",1)","v":""},{"$f":"IF(OR(SUM($AS32:BB32)>0,RANK(S32,S$11:S$41)>BC$6),\"\",1)","v":""},null,null,null,{"$f":"VLOOKUP($D32,Table!$A$4:$M$34,COLUMN(Table!$M:$M),FALSE)","v":2.6360649241970577}]
[null,null,null,"HB0","HB",{"$f":"VLOOKUP($D33,Table!$A$4:$N$34,COLUMN(Table!$N:$N),FALSE)","v":14053},2025,{"$f":"_xlfn.RANK.EQ($G33,$G$11:$G$41,1)+COUNTIF($G$11:$G33,$G33)-1","v":4},{"$f":"$F33/$F$43*AG33*General!$J$17","v":2.7040700502675534E-4},{"$f":"$F33/$F$43*AH33*General!$J$17","v":2.7040700502675534E-4},{"$f":"$F33/$F$43*AI33*General!$J$17","v":2.7040700502675534E-4},{"$f":"$F33/$F$43*AJ33*General!$J$17","v":2.7040700502675534E-4},{"$f":"$F33/$F$43*AK33*General!$J$17","v":2.7040700502675534E-4},{"$f":"$F33/$F$43*AL33*General!$J$17","v":2.7040700502675534E-4},{"$f":"$F33/$F$43*AM33*General!$J$17","v":2.7040700502675534E-4},{"$f":"$F33/$F$43*AN33*General!$J$17","v":2.7040700502675534E-4},{"$f":"$F33/$F$43*AO33*General!$J$17","v":2.7040700502675534E-4},{"$f":"$F33/$F$43*AP33*General!$J$17","v":2.7040700502675534E-4},{"$f":"$F33/$F$43*AQ33*General!$J$17","v":2.7040700502675534E-4},null,{"$f":"VLOOKUP($D33,Table!$A$4:$L$34,COLUMN(Table!J:J),FALSE)","v":252.93020579816138},{"$f":"(1-MIN(0,VLOOKUP($E33,OLTC_Taps!$D$147:$H$173,6-1,FALSE)+VLOOKUP($E33,OLTC_Taps!$D$147:$N$173,12-1,FALSE)*(V$10-$V$10+1)))*$U33","v":252.93020579816138},{"$f":"(1-MIN(0,VLOOKUP($E33,OLTC_Taps!$D$147:$H$173,6-1,FALSE)+VLOOKUP($E33,OLTC_Taps!$D$147:$N$173,12-1,FALSE)*(W$10-$V$10+1)))*$U33","v":252.93020579816138},{"$f":"(1-MIN(0,VLOOKUP($E33,OLTC_Taps!$D$147:$H$173,6-1,FALSE)+VLOOKUP($E33,OLTC_Taps!$D$147:$N$173,12-1,FALSE)*(X$10-$V$10+1)))*$U33","v":252.93020579816138},{"$f":"(1-MIN(0,VLOOKUP($E33,OLTC_Taps!$D$147:$H$173,6-1,FALSE)+VLOOKUP($E33,OLTC_Taps!$D$147:$N$173,12-1,FALSE)*(Y$10-$V$10+1)))*$U33","v":252.93020579816138},{"$f":"(1-MIN(0,VLOOKUP($E33,OLTC_Taps!$D$147:$H$173,6-1,FALSE)+VLOOKUP($E33,OLTC_Taps!$D$147:$O$173,13-1,FALSE)*(Z$10-$V$10+1)))*$U33","v":252.93020579816138},{"$f":"(1-MIN(0,VLOOKUP($E33,OLTC_Taps!$D$147:$H$173,6-1,FALSE)+VLOOKUP($E33,OLTC_Taps!$D$147:$O$173,13-1,FALSE)*(AA$10-$V$10+1)))*$U33","v":252.93020579816138},{"$f":"(1-MIN(0,VLOOKUP($E33,OLTC_Taps!$D$147:$H$173,6-1,FALSE)+VLOOKUP($E33,OLTC_Taps!$D$147:$O$173,13-1,FALSE)*(AB$10-$V$10+1)))*$U33","v":252.93020579816138},{"$f":"(1-MIN(0,VLOOKUP($E33,OLTC_Taps!$D$147:$H$173,6-1,FALSE)+VLOOKUP($E33,OLTC_Taps!$D$147:$O$173,13-1,FALSE)*(AC$10-$V$10+1)))*$U33","v":252.93020579816138},{"$f":"(1-MIN(0,VLOOKUP($E33,OLTC_Taps!$D$147:$H$173,6-1,FALSE)+VLOOKUP($E33,OLTC_Taps!$D$147:$O$173,13-1,FALSE)*(AD$10-$V$10+1)))*$U33","v":252.93020579816138},{"$f":"(1-MIN(0,VLOOKUP($E33,OLTC_Taps!$D$147:$H$173,6-1,FALSE)+VLOOKUP($E33,OLTC_Taps!$D$147:$O$173,13-1,FALSE)*(AE$10-$V$10+1)))*$U33","v":252.93020579816138},null,{"$f":"COUNTIFS('06Dec24'!$E:$E,\">\"&253-U33+$U33-$BG33,'06Dec24'!$D:$D,$D33)/COUNTIF('06Dec24'!$D:$D,$D33)","v":9.3930121682203084E-3},{"$f":"COUNTIFS('06Dec24'!$E:$E,\">\"&253-V33+$U33-$BG33,'06Dec24'!$D:$D,$D33)/COUNTIF('06Dec24'!$D:$D,$D33)","v":9.3930121682203084E-3},{"$f":"COUNTIFS('06Dec24'!$E:$E,\">\"&253-W33+$U33-$BG33,'06Dec24'!$D:$D,$D33)/COUNTIF('06Dec24'!$D:$D,$D33)","v":9.3930121682203084E-3},{"$f":"COUNTIFS('06Dec24'!$E:$E,\">\"&253-X33+$U33-$BG33,'06Dec24'!$D:$D,$D33)/COUNTIF('06Dec24'!$D:$D,$D33)","v":9.3930121682203084E-3},{"$f":"COUNTIFS('06Dec24'!$E:$E,\">\"&253-Y33+$U33-$BG33,'06Dec24'!$D:$D,$D33)/COUNTIF('06Dec24'!$D:$D,$D33)","v":9.3930121682203084E-3},{"$f":"COUNTIFS('06Dec24'!$E:$E,\">\"&253-Z33+$U33-$BG33,'06Dec24'!$D:$D,$D33)/COUNTIF('06Dec24'!$D:$D,$D33)","v":9.3930121682203084E-3},{"$f":"COUNTIFS('06Dec24'!$E:$E,\">\"&253-AA33+$U33-$BG33,'06Dec24'!$D:$D,$D33)/COUNTIF('06Dec24'!$D:$D,$D33)","v":9.3930121682203084E-3},{"$f":"COUNTIFS('06Dec24'!$E:$E,\">\"&253-AB33+$U33-$BG33,'06Dec24'!$D:$D,$D33)/COUNTIF('06Dec24'!$D:$D,$D33)","v":9.3930121682203084E-3},{"$f":"COUNTIFS('06Dec24'!$E:$E,\">\"&253-AC33+$U33-$BG33,'06Dec24'!$D:$D,$D33)/COUNTIF('06Dec24'!$D:$D,$D33)","v":9.3930121682203084E-3},{"$f":"COUNTIFS('06Dec24'!$E:$E,\">\"&253-AD33+$U33-$BG33,'06Dec24'!$D:$D,$D33)/COUNTIF('06Dec24'!$D:$D,$D33)","v":9.3930121682203084E-3},{"$f":"COUNTIFS('06Dec24'!$E:$E,\">\"&253-AE33+$U33-$BG33,'06Dec24'!$D:$D,$D33)/COUNTIF('06Dec24'!$D:$D,$D33)","v":9.3930121682203084E-3},null,null,null,1,null,{"$f":"IF(OR(SUM($AS33:AV33)>0,RANK(M33,M$11:M$41)>AW$6),\"\",1)","v":""},{"$f":"IF(OR(SUM($AS33:AW33)>0,RANK(N33,N$11:N$41)>AX$6),\"\",1)","v":""},{"$f":"IF(OR(SUM($AS33:AX33)>0,RANK(O33,O$11:O$41)>AY$6),\"\",1)","v":""},{"$f":"IF(OR(SUM($AS33:AY33)>0,RANK(P33,P$11:P$41)>AZ$6),\"\",1)","v":""},{"$f":"IF(OR(SUM($AS33:AZ33)>0,RANK(Q33,Q$11:Q$41)>BA$6),\"\",1)","v":""},{"$f":"IF(OR(SUM($AS33:BA33)>0,RANK(R33,R$11:R$41)>BB$6),\"\",1)","v":""},{"$f":"IF(OR(SUM($AS33:BB33)>0,RANK(S33,S$11:S$41)>BC$6),\"\",1)","v":""},null,null,null,{"$f":"VLOOKUP($D33,Table!$A$4:$M$34,COLUMN(Table!$M:$M),FALSE)","v":6.9794201838618619E-2}]
[null,null,null,"YVE","YVE",{"$f":"VLOOKUP($D34,Table!$A$4:$N$34,COLUMN(Table!$N:$N),FALSE)","v":8417},2030,{"$f":"_xlfn.RANK.EQ($G34,$G$11:$G$41,1)+COUNTIF($G$11:$G34,$G34)-1","v":24},{"$f":"$F34/$F$43*AG34*General!$J$17","v":2.5197016377493113E-4},{"$f":"$F34/$F$43*AH34*General!$J$17","v":2.5197016377493113E-4},{"$f":"$F34/$F$43*AI34*General!$J$17","v":2.5197016377493113E-4},{"$f":"$F34/$F$43*AJ34*General!$J$17","v":2.5197016377493113E-4},{"$f":"$F34/$F$43*AK34*General!$J$17","v":2.5197016377493113E-4},{"$f":"$F34/$F$43*AL34*General!$J$17","v":2.5197016377493113E-4},{"$f":"$F34/$F$43*AM34*General!$J$17","v":2.5197016377493113E-4},{"$f":"$F34/$F$43*AN34*General!$J$17","v":2.5197016377493113E-4},{"$f":"$F34/$F$43*AO34*General!$J$17","v":2.5197016377493113E-4},{"$f":"$F34/$F$43*AP34*General!$J$17","v":2.5197016377493113E-4},{"$f":"$F34/$F$43*AQ34*General!$J$17","v":2.5197016377493113E-4},null,{"$f":"VLOOKUP($D34,Table!$A$4:$L$34,COLUMN(Table!J:J),FALSE)","v":253.69484846808507},{"$f":"(1-MIN(0,VLOOKUP($E34,OLTC_Taps!$D$147:$H$173,6-1,FALSE)+VLOOKUP($E34,OLTC_Taps!$D$147:$N$173,12-1,FALSE)*(V$10-$V$10+1)))*$U34","v":253.69484846808507},{"$f":"(1-MIN(0,VLOOKUP($E34,OLTC_Taps!$D$147:$H$173,6-1,FALSE)+VLOOKUP($E34,OLTC_Taps!$D$147:$N$173,12-1,FALSE)*(W$10-$V$10+1)))*$U34","v":253.69484846808507},{"$f":"(1-MIN(0,VLOOKUP($E34,OLTC_Taps!$D$147:$H$173,6-1,FALSE)+VLOOKUP($E34,OLTC_Taps!$D$147:$N$173,12-1,FALSE)*(X$10-$V$10+1)))*$U34","v":253.69484846808507},{"$f":"(1-MIN(0,VLOOKUP($E34,OLTC_Taps!$D$147:$H$173,6-1,FALSE)+VLOOKUP($E34,OLTC_Taps!$D$147:$N$173,12-1,FALSE)*(Y$10-$V$10+1)))*$U34","v":253.69484846808507},{"$f":"(1-MIN(0,VLOOKUP($E34,OLTC_Taps!$D$147:$H$173,6-1,FALSE)+VLOOKUP($E34,OLTC_Taps!$D$147:$O$173,13-1,FALSE)*(Z$10-$V$10+1)))*$U34","v":253.69484846808507},{"$f":"(1-MIN(0,VLOOKUP($E34,OLTC_Taps!$D$147:$H$173,6-1,FALSE)+VLOOKUP($E34,OLTC_Taps!$D$147:$O$173,13-1,FALSE)*(AA$10-$V$10+1)))*$U34","v":253.69484846808507},{"$f":"(1-MIN(0,VLOOKUP($E34,OLTC_Taps!$D$147:$H$173,6-1,FALSE)+VLOOKUP($E34,OLTC_Taps!$D$147:$O$173,13-1,FALSE)*(AB$10-$V$10+1)))*$U34","v":253.69484846808507},{"$f":"(1-MIN(0,VLOOKUP($E34,OLTC_Taps!$D$147:$H$173,6-1,FALSE)+VLOOKUP($E34,OLTC_Taps!$D$147:$O$173,13-1,FALSE)*(AC$10-$V$10+1)))*$U34","v":253.69484846808507},{"$f":"(1-MIN(0,VLOOKUP($E34,OLTC_Taps!$D$147:$H$173,6-1,FALSE)+VLOOKUP($E34,OLTC_Taps!$D$147:$O$173,13-1,FALSE)*(AD$10-$V$10+1)))*$U34","v":253.69484846808507},{"$f":"(1-MIN(0,VLOOKUP($E34,OLTC_Taps!$D$147:$H$173,6-1,FALSE)+VLOOKUP($E34,OLTC_Taps!$D$147:$O$173,13-1,FALSE)*(AE$10-$V$10+1)))*$U34","v":253.69484846808507},null,{"$f":"COUNTIFS('06Dec24'!$E:$E,\">\"&253-U34+$U34-$BG34,'06Dec24'!$D:$D,$D34)/COUNTIF('06Dec24'!$D:$D,$D34)","v":1.4613282642271594E-2},{"$f":"COUNTIFS('06Dec24'!$E:$E,\">\"&253-V34+$U34-$BG34,'06Dec24'!$D:$D,$D34)/COUNTIF('06Dec24'!$D:$D,$D34)","v":1.4613282642271594E-2},{"$f":"COUNTIFS('06Dec24'!$E:$E,\">\"&253-W34+$U34-$BG34,'06Dec24'!$D:$D,$D34)/COUNTIF('06Dec24'!$D:$D,$D34)","v":1.4613282642271594E-2},{"$f":"COUNTIFS('06Dec24'!$E:$E,\">\"&253-X34+$U34-$BG34,'06Dec24'!$D:$D,$D34)/COUNTIF('06Dec24'!$D:$D,$D34)","v":1.4613282642271594E-2},{"$f":"COUNTIFS('06Dec24'!$E:$E,\">\"&253-Y34+$U34-$BG34,'06Dec24'!$D:$D,$D34)/COUNTIF('06Dec24'!$D:$D,$D34)","v":1.4613282642271594E-2},{"$f":"COUNTIFS('06Dec24'!$E:$E,\">\"&253-Z34+$U34-$BG34,'06Dec24'!$D:$D,$D34)/COUNTIF('06Dec24'!$D:$D,$D34)","v":1.4613282642271594E-2},{"$f":"COUNTIFS('06Dec24'!$E:$E,\">\"&253-AA34+$U34-$BG34,'06Dec24'!$D:$D,$D34)/COUNTIF('06Dec24'!$D:$D,$D34)","v":1.4613282642271594E-2},{"$f":"COUNTIFS('06Dec24'!$E:$E,\">\"&253-AB34+$U34-$BG34,'06Dec24'!$D:$D,$D34)/COUNTIF('06Dec24'!$D:$D,$D34)","v":1.4613282642271594E-2},{"$f":"COUNTIFS('06Dec24'!$E:$E,\">\"&253-AC34+$U34-$BG34,'06Dec24'!$D:$D,$D34)/COUNTIF('06Dec24'!$D:$D,$D34)","v":1.4613282642271594E-2},{"$f":"COUNTIFS('06Dec24'!$E:$E,\">\"&253-AD34+$U34-$BG34,'06Dec24'!$D:$D,$D34)/COUNTIF('06Dec24'!$D:$D,$D34)","v":1.4613282642271594E-2},{"$f":"COUNTIFS('06Dec24'!$E:$E,\">\"&253-AE34+$U34-$BG34,'06Dec24'!$D:$D,$D34)/COUNTIF('06Dec24'!$D:$D,$D34)","v":1.4613282642271594E-2},null,null,null,null,null,{"$f":"IF(OR(SUM($AS34:AV34)>0,RANK(M34,M$11:M$41)>AW$6),\"\",1)","v":""},{"$f":"IF(OR(SUM($AS34:AW34)>0,RANK(N34,N$11:N$41)>AX$6),\"\",1)","v":""},{"$f":"IF(OR(SUM($AS34:AX34)>0,RANK(O34,O$11:O$41)>AY$6),\"\",1)","v":""},{"$f":"IF(OR(SUM($AS34:AY34)>0,RANK(P34,P$11:P$41)>AZ$6),\"\",1)","v":1},{"$f":"IF(OR(SUM($AS34:AZ34)>0,RANK(Q34,Q$11:Q$41)>BA$6),\"\",1)","v":""},{"$f":"IF(OR(SUM($AS34:BA34)>0,RANK(R34,R$11:R$41)>BB$6),\"\",1)","v":""},{"$f":"IF(OR(SUM($AS34:BB34)>0,RANK(S34,S$11:S$41)>BC$6),\"\",1)","v":""},null,null,null,{"$f":"VLOOKUP($D34,Table!$A$4:$M$34,COLUMN(Table!$M:$M),FALSE)","v":0}]
[null,null,null,"FW0","FW",{"$f":"VLOOKUP($D35,Table!$A$4:$N$34,COLUMN(Table!$N:$N),FALSE)","v":16756},2030,{"$f":"_xlfn.RANK.EQ($G35,$G$11:$G$41,1)+COUNTIF($G$11:$G35,$G35)-1","v":25},{"$f":"$F35/$F$43*AG35*General!$J$17","v":2.4992162585806178E-4},{"$f":"$F35/$F$43*AH35*General!$J$17","v":2.4992162585806178E-4},{"$f":"$F35/$F$43*AI35*General!$J$17","v":2.4992162585806178E-4},{"$f":"$F35/$F$43*AJ35*General!$J$17","v":2.4992162585806178E-4},{"$f":"$F35/$F$43*AK35*General!$J$17","v":2.4992162585806178E-4},{"$f":"$F35/$F$43*AL35*General!$J$17","v":2.4992162585806178E-4},{"$f":"$F35/$F$43*AM35*General!$J$17","v":2.4992162585806178E-4},{"$f":"$F35/$F$43*AN35*General!$J$17","v":2.4992162585806178E-4},{"$f":"$F35/$F$43*AO35*General!$J$17","v":2.4992162585806178E-4},{"$f":"$F35/$F$43*AP35*General!$J$17","v":2.4992162585806178E-4},{"$f":"$F35/$F$43*AQ35*General!$J$17","v":2.4992162585806178E-4},null,{"$f":"VLOOKUP($D35,Table!$A$4:$L$34,COLUMN(Table!J:J),FALSE)","v":252.28284802016026},{"$f":"(1-MIN(0,VLOOKUP($E35,OLTC_Taps!$D$147:$H$173,6-1,FALSE)+VLOOKUP($E35,OLTC_Taps!$D$147:$N$173,12-1,FALSE)*(V$10-$V$10+1)))*$U35","v":252.28284802016026},{"$f":"(1-MIN(0,VLOOKUP($E35,OLTC_Taps!$D$147:$H$173,6-1,FALSE)+VLOOKUP($E35,OLTC_Taps!$D$147:$N$173,12-1,FALSE)*(W$10-$V$10+1)))*$U35","v":252.28284802016026},{"$f":"(1-MIN(0,VLOOKUP($E35,OLTC_Taps!$D$147:$H$173,6-1,FALSE)+VLOOKUP($E35,OLTC_Taps!$D$147:$N$173,12-1,FALSE)*(X$10-$V$10+1)))*$U35","v":252.28284802016026},{"$f":"(1-MIN(0,VLOOKUP($E35,OLTC_Taps!$D$147:$H$173,6-1,FALSE)+VLOOKUP($E35,OLTC_Taps!$D$147:$N$173,12-1,FALSE)*(Y$10-$V$10+1)))*$U35","v":252.28284802016026},{"$f":"(1-MIN(0,VLOOKUP($E35,OLTC_Taps!$D$147:$H$173,6-1,FALSE)+VLOOKUP($E35,OLTC_Taps!$D$147:$O$173,13-1,FALSE)*(Z$10-$V$10+1)))*$U35","v":252.28284802016026},{"$f":"(1-MIN(0,VLOOKUP($E35,OLTC_Taps!$D$147:$H$173,6-1,FALSE)+VLOOKUP($E35,OLTC_Taps!$D$147:$O$173,13-1,FALSE)*(AA$10-$V$10+1)))*$U35","v":252.28284802016026},{"$f":"(1-MIN(0,VLOOKUP($E35,OLTC_Taps!$D$147:$H$173,6-1,FALSE)+VLOOKUP($E35,OLTC_Taps!$D$147:$O$173,13-1,FALSE)*(AB$10-$V$10+1)))*$U35","v":252.28284802016026},{"$f":"(1-MIN(0,VLOOKUP($E35,OLTC_Taps!$D$147:$H$173,6-1,FALSE)+VLOOKUP($E35,OLTC_Taps!$D$147:$O$173,13-1,FALSE)*(AC$10-$V$10+1)))*$U35","v":252.28284802016026},{"$f":"(1-MIN(0,VLOOKUP($E35,OLTC_Taps!$D$147:$H$173,6-1,FALSE)+VLOOKUP($E35,OLTC_Taps!$D$147:$O$173,13-1,FALSE)*(AD$10-$V$10+1)))*$U35","v":252.28284802016026},{"$f":"(1-MIN(0,VLOOKUP($E35,OLTC_Taps!$D$147:$H$173,6-1,FALSE)+VLOOKUP($E35,OLTC_Taps!$D$147:$O$173,13-1,FALSE)*(AE$10-$V$10+1)))*$U35","v":252.28284802016026},null,{"$f":"COUNTIFS('06Dec24'!$E:$E,\">\"&253-U35+$U35-$BG35,'06Dec24'!$D:$D,$D35)/COUNTIF('06Dec24'!$D:$D,$D35)","v":7.2809739794700403E-3},{"$f":"COUNTIFS('06Dec24'!$E:$E,\">\"&253-V35+$U35-$BG35,'06Dec24'!$D:$D,$D35)/COUNTIF('06Dec24'!$D:$D,$D35)","v":7.2809739794700403E-3},{"$f":"COUNTIFS('06Dec24'!$E:$E,\">\"&253-W35+$U35-$BG35,'06Dec24'!$D:$D,$D35)/COUNTIF('06Dec24'!$D:$D,$D35)","v":7.2809739794700403E-3},{"$f":"COUNTIFS('06Dec24'!$E:$E,\">\"&253-X35+$U35-$BG35,'06Dec24'!$D:$D,$D35)/COUNTIF('06Dec24'!$D:$D,$D35)","v":7.2809739794700403E-3},{"$f":"COUNTIFS('06Dec24'!$E:$E,\">\"&253-Y35+$U35-$BG35,'06Dec24'!$D:$D,$D35)/COUNTIF('06Dec24'!$D:$D,$D35)","v":7.2809739794700403E-3},{"$f":"COUNTIFS('06Dec24'!$E:$E,\">\"&253-Z35+$U35-$BG35,'06Dec24'!$D:$D,$D35)/COUNTIF('06Dec24'!$D:$D,$D35)","v":7.2809739794700403E-3},{"$f":"COUNTIFS('06Dec24'!$E:$E,\">\"&253-AA35+$U35-$BG35,'06Dec24'!$D:$D,$D35)/COUNTIF('06Dec24'!$D:$D,$D35)","v":7.2809739794700403E-3},{"$f":"COUNTIFS('06Dec24'!$E:$E,\">\"&253-AB35+$U35-$BG35,'06Dec24'!$D:$D,$D35)/COUNTIF('06Dec24'!$D:$D,$D35)","v":7.2809739794700403E-3},{"$f":"COUNTIFS('06Dec24'!$E:$E,\">\"&253-AC35+$U35-$BG35,'06Dec24'!$D:$D,$D35)/COUNTIF('06Dec24'!$D:$D,$D35)","v":7.2809739794700403E-3},{"$f":"COUNTIFS('06Dec24'!$E:$E,\">\"&253-AD35+$U35-$BG35,'06Dec24'!$D:$D,$D35)/COUNTIF('06Dec24'!$D:$D,$D35)","v":7.2809739794700403E-3},{"$f":"COUNTIFS('06Dec24'!$E:$E,\">\"&253-AE35+$U35-$BG35,'06Dec24'!$D:$D,$D35)/COUNTIF('06Dec24'!$D:$D,$D35)","v":7.2809739794700403E-3},null,null,null,null,null,{"$f":"IF(OR(SUM($AS35:AV35)>0,RANK(M35,M$11:M$41)>AW$6),\"\",1)","v":""},{"$f":"IF(OR(SUM($AS35:AW35)>0,RANK(N35,N$11:N$41)>AX$6),\"\",1)","v":""},{"$f":"IF(OR(SUM($AS35:AX35)>0,RANK(O35,O$11:O$41)>AY$6),\"\",1)","v":""},{"$f":"IF(OR(SUM($AS35:AY35)>0,RANK(P35,P$11:P$41)>AZ$6),\"\",1)","v":1},{"$f":"IF(OR(SUM($AS35:AZ35)>0,RANK(Q35,Q$11:Q$41)>BA$6),\"\",1)","v":""},{"$f":"IF(OR(SUM($AS35:BA35)>0,RANK(R35,R$11:R$41)>BB$6),\"\",1)","v":""},{"$f":"IF(OR(SUM($AS35:BB35)>0,RANK(S35,S$11:S$41)>BC$6),\"\",1)","v":""},null,null,null,{"$f":"VLOOKUP($D35,Table!$A$4:$M$34,COLUMN(Table!$M:$M),FALSE)","v":0.71715197983974122}]
[null,null,null,"BY0","BY",{"$f":"VLOOKUP($D36,Table!$A$4:$N$34,COLUMN(Table!$N:$N),FALSE)","v":15297},2031,{"$f":"_xlfn.RANK.EQ($G36,$G$11:$G$41,1)+COUNTIF($G$11:$G36,$G36)-1","v":26},{"$f":"$F36/$F$43*AG36*General!$J$17","v":1.6183449543267936E-4},{"$f":"$F36/$F$43*AH36*General!$J$17","v":1.6183449543267936E-4},{"$f":"$F36/$F$43*AI36*General!$J$17","v":1.6183449543267936E-4},{"$f":"$F36/$F$43*AJ36*General!$J$17","v":1.6183449543267936E-4},{"$f":"$F36/$F$43*AK36*General!$J$17","v":1.6183449543267936E-4},{"$f":"$F36/$F$43*AL36*General!$J$17","v":1.6183449543267936E-4},{"$f":"$F36/$F$43*AM36*General!$J$17","v":1.6183449543267936E-4},{"$f":"$F36/$F$43*AN36*General!$J$17","v":1.6183449543267936E-4},{"$f":"$F36/$F$43*AO36*General!$J$17","v":1.6183449543267936E-4},{"$f":"$F36/$F$43*AP36*General!$J$17","v":1.6183449543267936E-4},{"$f":"$F36/$F$43*AQ36*General!$J$17","v":1.6183449543267936E-4},null,{"$f":"VLOOKUP($D36,Table!$A$4:$L$34,COLUMN(Table!J:J),FALSE)","v":253.15795756421352},{"$f":"(1-MIN(0,VLOOKUP($E36,OLTC_Taps!$D$147:$H$173,6-1,FALSE)+VLOOKUP($E36,OLTC_Taps!$D$147:$N$173,12-1,FALSE)*(V$10-$V$10+1)))*$U36","v":253.15795756421352},{"$f":"(1-MIN(0,VLOOKUP($E36,OLTC_Taps!$D$147:$H$173,6-1,FALSE)+VLOOKUP($E36,OLTC_Taps!$D$147:$N$173,12-1,FALSE)*(W$10-$V$10+1)))*$U36","v":253.15795756421352},{"$f":"(1-MIN(0,VLOOKUP($E36,OLTC_Taps!$D$147:$H$173,6-1,FALSE)+VLOOKUP($E36,OLTC_Taps!$D$147:$N$173,12-1,FALSE)*(X$10-$V$10+1)))*$U36","v":253.15795756421352},{"$f":"(1-MIN(0,VLOOKUP($E36,OLTC_Taps!$D$147:$H$173,6-1,FALSE)+VLOOKUP($E36,OLTC_Taps!$D$147:$N$173,12-1,FALSE)*(Y$10-$V$10+1)))*$U36","v":253.15795756421352},{"$f":"(1-MIN(0,VLOOKUP($E36,OLTC_Taps!$D$147:$H$173,6-1,FALSE)+VLOOKUP($E36,OLTC_Taps!$D$147:$O$173,13-1,FALSE)*(Z$10-$V$10+1)))*$U36","v":253.15795756421352},{"$f":"(1-MIN(0,VLOOKUP($E36,OLTC_Taps!$D$147:$H$173,6-1,FALSE)+VLOOKUP($E36,OLTC_Taps!$D$147:$O$173,13-1,FALSE)*(AA$10-$V$10+1)))*$U36","v":253.15795756421352},{"$f":"(1-MIN(0,VLOOKUP($E36,OLTC_Taps!$D$147:$H$173,6-1,FALSE)+VLOOKUP($E36,OLTC_Taps!$D$147:$O$173,13-1,FALSE)*(AB$10-$V$10+1)))*$U36","v":253.15795756421352},{"$f":"(1-MIN(0,VLOOKUP($E36,OLTC_Taps!$D$147:$H$173,6-1,FALSE)+VLOOKUP($E36,OLTC_Taps!$D$147:$O$173,13-1,FALSE)*(AC$10-$V$10+1)))*$U36","v":253.15795756421352},{"$f":"(1-MIN(0,VLOOKUP($E36,OLTC_Taps!$D$147:$H$173,6-1,FALSE)+VLOOKUP($E36,OLTC_Taps!$D$147:$O$173,13-1,FALSE)*(AD$10-$V$10+1)))*$U36","v":253.15795756421352},{"$f":"(1-MIN(0,VLOOKUP($E36,OLTC_Taps!$D$147:$H$173,6-1,FALSE)+VLOOKUP($E36,OLTC_Taps!$D$147:$O$173,13-1,FALSE)*(AE$10-$V$10+1)))*$U36","v":253.15795756421352},null,{"$f":"COUNTIFS('06Dec24'!$E:$E,\">\"&253-U36+$U36-$BG36,'06Dec24'!$D:$D,$D36)/COUNTIF('06Dec24'!$D:$D,$D36)","v":5.1644113224815326E-3},{"$f":"COUNTIFS('06Dec24'!$E:$E,\">\"&253-V36+$U36-$BG36,'06Dec24'!$D:$D,$D36)/COUNTIF('06Dec24'!$D:$D,$D36)","v":5.1644113224815326E-3},{"$f":"COUNTIFS('06Dec24'!$E:$E,\">\"&253-W36+$U36-$BG36,'06Dec24'!$D:$D,$D36)/COUNTIF('06Dec24'!$D:$D,$D36)","v":5.1644113224815326E-3},{"$f":"COUNTIFS('06Dec24'!$E:$E,\">\"&253-X36+$U36-$BG36,'06Dec24'!$D:$D,$D36)/COUNTIF('06Dec24'!$D:$D,$D36)","v":5.1644113224815326E-3},{"$f":"COUNTIFS('06Dec24'!$E:$E,\">\"&253-Y36+$U36-$BG36,'06Dec24'!$D:$D,$D36)/COUNTIF('06Dec24'!$D:$D,$D36)","v":5.1644113224815326E-3},{"$f":"COUNTIFS('06Dec24'!$E:$E,\">\"&253-Z36+$U36-$BG36,'06Dec24'!$D:$D,$D36)/COUNTIF('06Dec24'!$D:$D,$D36)","v":5.1644113224815326E-3},{"$f":"COUNTIFS('06Dec24'!$E:$E,\">\"&253-AA36+$U36-$BG36,'06Dec24'!$D:$D,$D36)/COUNTIF('06Dec24'!$D:$D,$D36)","v":5.1644113224815326E-3},{"$f":"COUNTIFS('06Dec24'!$E:$E,\">\"&253-AB36+$U36-$BG36,'06Dec24'!$D:$D,$D36)/COUNTIF('06Dec24'!$D:$D,$D36)","v":5.1644113224815326E-3},{"$f":"COUNTIFS('06Dec24'!$E:$E,\">\"&253-AC36+$U36-$BG36,'06Dec24'!$D:$D,$D36)/COUNTIF('06Dec24'!$D:$D,$D36)","v":5.1644113224815326E-3},{"$f":"COUNTIFS('06Dec24'!$E:$E,\">\"&253-AD36+$U36-$BG36,'06Dec24'!$D:$D,$D36)/COUNTIF('06Dec24'!$D:$D,$D36)","v":5.1644113224815326E-3},{"$f":"COUNTIFS('06Dec24'!$E:$E,\">\"&253-AE36+$U36-$BG36,'06Dec24'!$D:$D,$D36)/COUNTIF('06Dec24'!$D:$D,$D36)","v":5.1644113224815326E-3},null,null,null,null,null,{"$f":"IF(OR(SUM($AS36:AV36)>0,RANK(M36,M$11:M$41)>AW$6),\"\",1)","v":""},{"$f":"IF(OR(SUM($AS36:AW36)>0,RANK(N36,N$11:N$41)>AX$6),\"\",1)","v":""},{"$f":"IF(OR(SUM($AS36:AX36)>0,RANK(O36,O$11:O$41)>AY$6),\"\",1)","v":""},{"$f":"IF(OR(SUM($AS36:AY36)>0,RANK(P36,P$11:P$41)>AZ$6),\"\",1)","v":""},{"$f":"IF(OR(SUM($AS36:AZ36)>0,RANK(Q36,Q$11:Q$41)>BA$6),\"\",1)","v":1},{"$f":"IF(OR(SUM($AS36:BA36)>0,RANK(R36,R$11:R$41)>BB$6),\"\",1)","v":""},{"$f":"IF(OR(SUM($AS36:BB36)>0,RANK(S36,S$11:S$41)>BC$6),\"\",1)","v":""},null,null,null,{"$f":"VLOOKUP($D36,Table!$A$4:$M$34,COLUMN(Table!$M:$M),FALSE)","v":0}]
[null,null,null,"SA0","SA",{"$f":"VLOOKUP($D37,Table!$A$4:$N$34,COLUMN(Table!$N:$N),FALSE)","v":2372},2031,{"$f":"_xlfn.RANK.EQ($G37,$G$11:$G$41,1)+COUNTIF($G$11:$G37,$G37)-1","v":27},{"$f":"$F37/$F$43*AG37*General!$J$17","v":1.0857250959407602E-4},{"$f":"$F37/$F$43*AH37*General!$J$17","v":1.0857250959407602E-4},{"$f":"$F37/$F$43*AI37*General!$J$17","v":1.0857250959407602E-4},{"$f":"$F37/$F$43*AJ37*General!$J$17","v":1.0857250959407602E-4},{"$f":"$F37/$F$43*AK37*General!$J$17","v":1.0857250959407602E-4},{"$f":"$F37/$F$43*AL37*General!$J$17","v":1.0857250959407602E-4},{"$f":"$F37/$F$43*AM37*General!$J$17","v":1.0857250959407602E-4},{"$f":"$F37/$F$43*AN37*General!$J$17","v":1.0857250959407602E-4},{"$f":"$F37/$F$43*AO37*General!$J$17","v":1.0857250959407602E-4},{"$f":"$F37/$F$43*AP37*General!$J$17","v":1.0857250959407602E-4},{"$f":"$F37/$F$43*AQ37*General!$J$17","v":1.0857250959407602E-4},null,{"$f":"VLOOKUP($D37,Table!$A$4:$L$34,COLUMN(Table!J:J),FALSE)","v":255.28130526315792},{"$f":"U37","v":255.28130526315792},255.28130526315792,255.28130526315792,255.28130526315792,255.28130526315792,255.28130526315792,255.28130526315792,255.28130526315792,255.28130526315792,255.28130526315792,null,{"$f":"COUNTIFS('06Dec24'!$E:$E,\">\"&253-U37+$U37-$BG37,'06Dec24'!$D:$D,$D37)/COUNTIF('06Dec24'!$D:$D,$D37)","v":2.2344013490725127E-2},{"$f":"COUNTIFS('06Dec24'!$E:$E,\">\"&253-V37+$U37-$BG37,'06Dec24'!$D:$D,$D37)/COUNTIF('06Dec24'!$D:$D,$D37)","v":2.2344013490725127E-2},{"$f":"COUNTIFS('06Dec24'!$E:$E,\">\"&253-W37+$U37-$BG37,'06Dec24'!$D:$D,$D37)/COUNTIF('06Dec24'!$D:$D,$D37)","v":2.2344013490725127E-2},{"$f":"COUNTIFS('06Dec24'!$E:$E,\">\"&253-X37+$U37-$BG37,'06Dec24'!$D:$D,$D37)/COUNTIF('06Dec24'!$D:$D,$D37)","v":2.2344013490725127E-2},{"$f":"COUNTIFS('06Dec24'!$E:$E,\">\"&253-Y37+$U37-$BG37,'06Dec24'!$D:$D,$D37)/COUNTIF('06Dec24'!$D:$D,$D37)","v":2.2344013490725127E-2},{"$f":"COUNTIFS('06Dec24'!$E:$E,\">\"&253-Z37+$U37-$BG37,'06Dec24'!$D:$D,$D37)/COUNTIF('06Dec24'!$D:$D,$D37)","v":2.2344013490725127E-2},{"$f":"COUNTIFS('06Dec24'!$E:$E,\">\"&253-AA37+$U37-$BG37,'06Dec24'!$D:$D,$D37)/COUNTIF('06Dec24'!$D:$D,$D37)","v":2.2344013490725127E-2},{"$f":"COUNTIFS('06Dec24'!$E:$E,\">\"&253-AB37+$U37-$BG37,'06Dec24'!$D:$D,$D37)/COUNTIF('06Dec24'!$D:$D,$D37)","v":2.2344013490725127E-2},{"$f":"COUNTIFS('06Dec24'!$E:$E,\">\"&253-AC37+$U37-$BG37,'06Dec24'!$D:$D,$D37)/COUNTIF('06Dec24'!$D:$D,$D37)","v":2.2344013490725127E-2},{"$f":"COUNTIFS('06Dec24'!$E:$E,\">\"&253-AD37+$U37-$BG37,'06Dec24'!$D:$D,$D37)/COUNTIF('06Dec24'!$D:$D,$D37)","v":2.2344013490725127E-2},{"$f":"COUNTIFS('06Dec24'!$E:$E,\">\"&253-AE37+$U37-$BG37,'06Dec24'!$D:$D,$D37)/COUNTIF('06Dec24'!$D:$D,$D37)","v":2.2344013490725127E-2},null,null,null,null,null,{"$f":"IF(OR(SUM($AS37:AV37)>0,RANK(M37,M$11:M$41)>AW$6),\"\",1)","v":""},{"$f":"IF(OR(SUM($AS37:AW37)>0,RANK(N37,N$11:N$41)>AX$6),\"\",1)","v":""},{"$f":"IF(OR(SUM($AS37:AX37)>0,RANK(O37,O$11:O$41)>AY$6),\"\",1)","v":""},{"$f":"IF(OR(SUM($AS37:AY37)>0,RANK(P37,P$11:P$41)>AZ$6),\"\",1)","v":""},{"$f":"IF(OR(SUM($AS37:AZ37)>0,RANK(Q37,Q$11:Q$41)>BA$6),\"\",1)","v":1},{"$f":"IF(OR(SUM($AS37:BA37)>0,RANK(R37,R$11:R$41)>BB$6),\"\",1)","v":""},{"$f":"IF(OR(SUM($AS37:BB37)>0,RANK(S37,S$11:S$41)>BC$6),\"\",1)","v":""},null,null,null,{"$f":"VLOOKUP($D37,Table!$A$4:$M$34,COLUMN(Table!$M:$M),FALSE)","v":0}]
[null,null,null,"EP0","EP B",{"$f":"VLOOKUP($D38,Table!$A$4:$N$34,COLUMN(Table!$N:$N),FALSE)","v":5655},2031,{"$f":"_xlfn.RANK.EQ($G38,$G$11:$G$41,1)+COUNTIF($G$11:$G38,$G38)-1","v":28},{"$f":"$F38/$F$43*AG38*General!$J$17","v":8.1941516674774342E-5},{"$f":"$F38/$F$43*AH38*General!$J$17","v":8.1941516674774342E-5},{"$f":"$F38/$F$43*AI38*General!$J$17","v":8.1941516674774342E-5},{"$f":"$F38/$F$43*AJ38*General!$J$17","v":8.1941516674774342E-5},{"$f":"$F38/$F$43*AK38*General!$J$17","v":8.1941516674774342E-5},{"$f":"$F38/$F$43*AL38*General!$J$17","v":8.1941516674774342E-5},{"$f":"$F38/$F$43*AM38*General!$J$17","v":8.1941516674774342E-5},{"$f":"$F38/$F$43*AN38*General!$J$17","v":8.1941516674774342E-5},{"$f":"$F38/$F$43*AO38*General!$J$17","v":8.1941516674774342E-5},{"$f":"$F38/$F$43*AP38*General!$J$17","v":8.1941516674774342E-5},{"$f":"$F38/$F$43*AQ38*General!$J$17","v":8.1941516674774342E-5},null,{"$f":"VLOOKUP($D38,Table!$A$4:$L$34,COLUMN(Table!J:J),FALSE)","v":251.48161445042987},{"$f":"(1-MIN(0,VLOOKUP($E38,OLTC_Taps!$D$147:$H$173,6-1,FALSE)+VLOOKUP($E38,OLTC_Taps!$D$147:$N$173,12-1,FALSE)*(V$10-$V$10+1)))*$U38","v":251.48161445042987},{"$f":"(1-MIN(0,VLOOKUP($E38,OLTC_Taps!$D$147:$H$173,6-1,FALSE)+VLOOKUP($E38,OLTC_Taps!$D$147:$N$173,12-1,FALSE)*(W$10-$V$10+1)))*$U38","v":251.48161445042987},{"$f":"(1-MIN(0,VLOOKUP($E38,OLTC_Taps!$D$147:$H$173,6-1,FALSE)+VLOOKUP($E38,OLTC_Taps!$D$147:$N$173,12-1,FALSE)*(X$10-$V$10+1)))*$U38","v":251.48161445042987},{"$f":"(1-MIN(0,VLOOKUP($E38,OLTC_Taps!$D$147:$H$173,6-1,FALSE)+VLOOKUP($E38,OLTC_Taps!$D$147:$N$173,12-1,FALSE)*(Y$10-$V$10+1)))*$U38","v":251.48161445042987},{"$f":"(1-MIN(0,VLOOKUP($E38,OLTC_Taps!$D$147:$H$173,6-1,FALSE)+VLOOKUP($E38,OLTC_Taps!$D$147:$O$173,13-1,FALSE)*(Z$10-$V$10+1)))*$U38","v":251.48161445042987},{"$f":"(1-MIN(0,VLOOKUP($E38,OLTC_Taps!$D$147:$H$173,6-1,FALSE)+VLOOKUP($E38,OLTC_Taps!$D$147:$O$173,13-1,FALSE)*(AA$10-$V$10+1)))*$U38","v":251.48161445042987},{"$f":"(1-MIN(0,VLOOKUP($E38,OLTC_Taps!$D$147:$H$173,6-1,FALSE)+VLOOKUP($E38,OLTC_Taps!$D$147:$O$173,13-1,FALSE)*(AB$10-$V$10+1)))*$U38","v":251.48161445042987},{"$f":"(1-MIN(0,VLOOKUP($E38,OLTC_Taps!$D$147:$H$173,6-1,FALSE)+VLOOKUP($E38,OLTC_Taps!$D$147:$O$173,13-1,FALSE)*(AC$10-$V$10+1)))*$U38","v":251.48161445042987},{"$f":"(1-MIN(0,VLOOKUP($E38,OLTC_Taps!$D$147:$H$173,6-1,FALSE)+VLOOKUP($E38,OLTC_Taps!$D$147:$O$173,13-1,FALSE)*(AD$10-$V$10+1)))*$U38","v":251.48161445042987},{"$f":"(1-MIN(0,VLOOKUP($E38,OLTC_Taps!$D$147:$H$173,6-1,FALSE)+VLOOKUP($E38,OLTC_Taps!$D$147:$O$173,13-1,FALSE)*(AE$10-$V$10+1)))*$U38","v":251.48161445042987},null,{"$f":"COUNTIFS('06Dec24'!$E:$E,\">\"&253-U38+$U38-$BG38,'06Dec24'!$D:$D,$D38)/COUNTIF('06Dec24'!$D:$D,$D38)","v":7.073386383731211E-3},{"$f":"COUNTIFS('06Dec24'!$E:$E,\">\"&253-V38+$U38-$BG38,'06Dec24'!$D:$D,$D38)/COUNTIF('06Dec24'!$D:$D,$D38)","v":7.073386383731211E-3},{"$f":"COUNTIFS('06Dec24'!$E:$E,\">\"&253-W38+$U38-$BG38,'06Dec24'!$D:$D,$D38)/COUNTIF('06Dec24'!$D:$D,$D38)","v":7.073386383731211E-3},{"$f":"COUNTIFS('06Dec24'!$E:$E,\">\"&253-X38+$U38-$BG38,'06Dec24'!$D:$D,$D38)/COUNTIF('06Dec24'!$D:$D,$D38)","v":7.073386383731211E-3},{"$f":"COUNTIFS('06Dec24'!$E:$E,\">\"&253-Y38+$U38-$BG38,'06Dec24'!$D:$D,$D38)/COUNTIF('06Dec24'!$D:$D,$D38)","v":7.073386383731211E-3},{"$f":"COUNTIFS('06Dec24'!$E:$E,\">\"&253-Z38+$U38-$BG38,'06Dec24'!$D:$D,$D38)/COUNTIF('06Dec24'!$D:$D,$D38)","v":7.073386383731211E-3},{"$f":"COUNTIFS('06Dec24'!$E:$E,\">\"&253-AA38+$U38-$BG38,'06Dec24'!$D:$D,$D38)/COUNTIF('06Dec24'!$D:$D,$D38)","v":7.073386383731211E-3},{"$f":"COUNTIFS('06Dec24'!$E:$E,\">\"&253-AB38+$U38-$BG38,'06Dec24'!$D:$D,$D38)/COUNTIF('06Dec24'!$D:$D,$D38)","v":7.073386383731211E-3},{"$f":"COUNTIFS('06Dec24'!$E:$E,\">\"&253-AC38+$U38-$BG38,'06Dec24'!$D:$D,$D38)/COUNTIF('06Dec24'!$D:$D,$D38)","v":7.073386383731211E-3},{"$f":"COUNTIFS('06Dec24'!$E:$E,\">\"&253-AD38+$U38-$BG38,'06Dec24'!$D:$D,$D38)/COUNTIF('06Dec24'!$D:$D,$D38)","v":7.073386383731211E-3},{"$f":"COUNTIFS('06Dec24'!$E:$E,\">\"&253-AE38+$U38-$BG38,'06Dec24'!$D:$D,$D38)/COUNTIF('06Dec24'!$D:$D,$D38)","v":7.073386383731211E-3},null,null,null,null,null,{"$f":"IF(OR(SUM($AS38:AV38)>0,RANK(M38,M$11:M$41)>AW$6),\"\",1)","v":""},{"$f":"IF(OR(SUM($AS38:AW38)>0,RANK(N38,N$11:N$41)>AX$6),\"\",1)","v":""},{"$f":"IF(OR(SUM($AS38:AX38)>0,RANK(O38,O$11:O$41)>AY$6),\"\",1)","v":""},{"$f":"IF(OR(SUM($AS38:AY38)>0,RANK(P38,P$11:P$41)>AZ$6),\"\",1)","v":""},{"$f":"IF(OR(SUM($AS38:AZ38)>0,RANK(Q38,Q$11:Q$41)>BA$6),\"\",1)","v":1},{"$f":"IF(OR(SUM($AS38:BA38)>0,RANK(R38,R$11:R$41)>BB$6),\"\",1)","v":""},{"$f":"IF(OR(SUM($AS38:BB38)>0,RANK(S38,S$11:S$41)>BC$6),\"\",1)","v":""},null,null,null,{"$f":"VLOOKUP($D38,Table!$A$4:$M$34,COLUMN(Table!$M:$M),FALSE)","v":1.5183855495701266}]
[null,null,null,{"$f":"IF(LEN(E39)=2,E39&\"0\",E39)","v":"WT0"},"WT",{"$f":"VLOOKUP($D39,Table!$A$4:$N$34,COLUMN(Table!$N:$N),FALSE)","v":173},2031,{"$f":"_xlfn.RANK.EQ($G39,$G$11:$G$41,1)+COUNTIF($G$11:$G39,$G39)-1","v":29},{"$f":"$F39/$F$43*AG39*General!$J$17","v":2.0485379168693585E-6},{"$f":"$F39/$F$43*AH39*General!$J$17","v":2.0485379168693585E-6},{"$f":"$F39/$F$43*AI39*General!$J$17","v":2.0485379168693585E-6},{"$f":"$F39/$F$43*AJ39*General!$J$17","v":2.0485379168693585E-6},{"$f":"$F39/$F$43*AK39*General!$J$17","v":2.0485379168693585E-6},{"$f":"$F39/$F$43*AL39*General!$J$17","v":2.0485379168693585E-6},{"$f":"$F39/$F$43*AM39*General!$J$17","v":2.0485379168693585E-6},{"$f":"$F39/$F$43*AN39*General!$J$17","v":2.0485379168693585E-6},{"$f":"$F39/$F$43*AO39*General!$J$17","v":2.0485379168693585E-6},{"$f":"$F39/$F$43*AP39*General!$J$17","v":2.0485379168693585E-6},{"$f":"$F39/$F$43*AQ39*General!$J$17","v":2.0485379168693585E-6},null,{"$f":"VLOOKUP($D39,Table!$A$4:$L$34,COLUMN(Table!J:J),FALSE)","v":252.60454330434791},{"$f":"U39","v":252.60454330434791},252.60454330434791,252.60454330434791,252.60454330434791,252.60454330434791,252.60454330434791,252.60454330434791,252.60454330434791,252.60454330434791,252.60454330434791,null,{"$f":"COUNTIFS('06Dec24'!$E:$E,\">\"&253-U39+$U39-$BG39,'06Dec24'!$D:$D,$D39)/COUNTIF('06Dec24'!$D:$D,$D39)","v":5.7803468208092483E-3},{"$f":"COUNTIFS('06Dec24'!$E:$E,\">\"&253-V39+$U39-$BG39,'06Dec24'!$D:$D,$D39)/COUNTIF('06Dec24'!$D:$D,$D39)","v":5.7803468208092483E-3},{"$f":"COUNTIFS('06Dec24'!$E:$E,\">\"&253-W39+$U39-$BG39,'06Dec24'!$D:$D,$D39)/COUNTIF('06Dec24'!$D:$D,$D39)","v":5.7803468208092483E-3},{"$f":"COUNTIFS('06Dec24'!$E:$E,\">\"&253-X39+$U39-$BG39,'06Dec24'!$D:$D,$D39)/COUNTIF('06Dec24'!$D:$D,$D39)","v":5.7803468208092483E-3},{"$f":"COUNTIFS('06Dec24'!$E:$E,\">\"&253-Y39+$U39-$BG39,'06Dec24'!$D:$D,$D39)/COUNTIF('06Dec24'!$D:$D,$D39)","v":5.7803468208092483E-3},{"$f":"COUNTIFS('06Dec24'!$E:$E,\">\"&253-Z39+$U39-$BG39,'06Dec24'!$D:$D,$D39)/COUNTIF('06Dec24'!$D:$D,$D39)","v":5.7803468208092483E-3},{"$f":"COUNTIFS('06Dec24'!$E:$E,\">\"&253-AA39+$U39-$BG39,'06Dec24'!$D:$D,$D39)/COUNTIF('06Dec24'!$D:$D,$D39)","v":5.7803468208092483E-3},{"$f":"COUNTIFS('06Dec24'!$E:$E,\">\"&253-AB39+$U39-$BG39,'06Dec24'!$D:$D,$D39)/COUNTIF('06Dec24'!$D:$D,$D39)","v":5.7803468208092483E-3},{"$f":"COUNTIFS('06Dec24'!$E:$E,\">\"&253-AC39+$U39-$BG39,'06Dec24'!$D:$D,$D39)/COUNTIF('06Dec24'!$D:$D,$D39)","v":5.7803468208092483E-3},{"$f":"COUNTIFS('06Dec24'!$E:$E,\">\"&253-AD39+$U39-$BG39,'06Dec24'!$D:$D,$D39)/COUNTIF('06Dec24'!$D:$D,$D39)","v":5.7803468208092483E-3},{"$f":"COUNTIFS('06Dec24'!$E:$E,\">\"&253-AE39+$U39-$BG39,'06Dec24'!$D:$D,$D39)/COUNTIF('06Dec24'!$D:$D,$D39)","v":5.7803468208092483E-3},null,null,null,null,null,{"$f":"IF(OR(SUM($AS39:AV39)>0,RANK(M39,M$11:M$41)>AW$6),\"\",1)","v":""},{"$f":"IF(OR(SUM($AS39:AW39)>0,RANK(N39,N$11:N$41)>AX$6),\"\",1)","v":""},{"$f":"IF(OR(SUM($AS39:AX39)>0,RANK(O39,O$11:O$41)>AY$6),\"\",1)","v":""},{"$f":"IF(OR(SUM($AS39:AY39)>0,RANK(P39,P$11:P$41)>AZ$6),\"\",1)","v":""},{"$f":"IF(OR(SUM($AS39:AZ39)>0,RANK(Q39,Q$11:Q$41)>BA$6),\"\",1)","v":1},{"$f":"IF(OR(SUM($AS39:BA39)>0,RANK(R39,R$11:R$41)>BB$6),\"\",1)","v":""},{"$f":"IF(OR(SUM($AS39:BB39)>0,RANK(S39,S$11:S$41)>BC$6),\"\",1)","v":""},null,null,null,{"$f":"VLOOKUP($D39,Table!$A$4:$M$34,COLUMN(Table!$M:$M),FALSE)","v":0}]
[null,null,null,{"$f":"IF(LEN(E40)=2,E40&\"0\",E40)","v":"KLO"},"KLO",{"$f":"VLOOKUP($D40,Table!$A$4:$N$34,COLUMN(Table!$N:$N),FALSE)","v":16822},2031,{"$f":"_xlfn.RANK.EQ($G40,$G$11:$G$41,1)+COUNTIF($G$11:$G40,$G40)-1","v":30},{"$f":"$F40/$F$43*AG40*General!$J$17","v":0},{"$f":"$F40/$F$43*AH40*General!$J$17","v":0},{"$f":"$F40/$F$43*AI40*General!$J$17","v":0},{"$f":"$F40/$F$43*AJ40*General!$J$17","v":0},{"$f":"$F40/$F$43*AK40*General!$J$17","v":0},{"$f":"$F40/$F$43*AL40*General!$J$17","v":0},{"$f":"$F40/$F$43*AM40*General!$J$17","v":0},{"$f":"$F40/$F$43*AN40*General!$J$17","v":0},{"$f":"$F40/$F$43*AO40*General!$J$17","v":0},{"$f":"$F40/$F$43*AP40*General!$J$17","v":0},{"$f":"$F40/$F$43*AQ40*General!$J$17","v":0},null,{"$f":"VLOOKUP($D40,Table!$A$4:$L$34,COLUMN(Table!J:J),FALSE)","v":249.20317784065904},{"$f":"U40","v":249.20317784065904},249.20317784065904,249.20317784065904,249.20317784065904,249.20317784065904,249.20317784065904,249.20317784065904,249.20317784065904,249.20317784065904,249.20317784065904,null,{"$f":"COUNTIFS('06Dec24'!$E:$E,\">\"&253-U40+$U40-$BG40,'06Dec24'!$D:$D,$D40)/COUNTIF('06Dec24'!$D:$D,$D40)","v":0},{"$f":"COUNTIFS('06Dec24'!$E:$E,\">\"&253-V40+$U40-$BG40,'06Dec24'!$D:$D,$D40)/COUNTIF('06Dec24'!$D:$D,$D40)","v":0},{"$f":"COUNTIFS('06Dec24'!$E:$E,\">\"&253-W40+$U40-$BG40,'06Dec24'!$D:$D,$D40)/COUNTIF('06Dec24'!$D:$D,$D40)","v":0},{"$f":"COUNTIFS('06Dec24'!$E:$E,\">\"&253-X40+$U40-$BG40,'06Dec24'!$D:$D,$D40)/COUNTIF('06Dec24'!$D:$D,$D40)","v":0},{"$f":"COUNTIFS('06Dec24'!$E:$E,\">\"&253-Y40+$U40-$BG40,'06Dec24'!$D:$D,$D40)/COUNTIF('06Dec24'!$D:$D,$D40)","v":0},{"$f":"COUNTIFS('06Dec24'!$E:$E,\">\"&253-Z40+$U40-$BG40,'06Dec24'!$D:$D,$D40)/COUNTIF('06Dec24'!$D:$D,$D40)","v":0},{"$f":"COUNTIFS('06Dec24'!$E:$E,\">\"&253-AA40+$U40-$BG40,'06Dec24'!$D:$D,$D40)/COUNTIF('06Dec24'!$D:$D,$D40)","v":0},{"$f":"COUNTIFS('06Dec24'!$E:$E,\">\"&253-AB40+$U40-$BG40,'06Dec24'!$D:$D,$D40)/COUNTIF('06Dec24'!$D:$D,$D40)","v":0},{"$f":"COUNTIFS('06Dec24'!$E:$E,\">\"&253-AC40+$U40-$BG40,'06Dec24'!$D:$D,$D40)/COUNTIF('06Dec24'!$D:$D,$D40)","v":0},{"$f":"COUNTIFS('06Dec24'!$E:$E,\">\"&253-AD40+$U40-$BG40,'06Dec24'!$D:$D,$D40)/COUNTIF('06Dec24'!$D:$D,$D40)","v":0},{"$f":"COUNTIFS('06Dec24'!$E:$E,\">\"&253-AE40+$U40-$BG40,'06Dec24'!$D:$D,$D40)/COUNTIF('06Dec24'!$D:$D,$D40)","v":0},null,null,null,null,null,{"$f":"IF(OR(SUM($AS40:AV40)>0,RANK(M40,M$11:M$41)>AW$6),\"\",1)","v":""},{"$f":"IF(OR(SUM($AS40:AW40)>0,RANK(N40,N$11:N$41)>AX$6),\"\",1)","v":""},{"$f":"IF(OR(SUM($AS40:AX40)>0,RANK(O40,O$11:O$41)>AY$6),\"\",1)","v":""},{"$f":"IF(OR(SUM($AS40:AY40)>0,RANK(P40,P$11:P$41)>AZ$6),\"\",1)","v":""},{"$f":"IF(OR(SUM($AS40:AZ40)>0,RANK(Q40,Q$11:Q$41)>BA$6),\"\",1)","v":1},{"$f":"IF(OR(SUM($AS40:BA40)>0,RANK(R40,R$11:R$41)>BB$6),\"\",1)","v":""},{"$f":"IF(OR(SUM($AS40:BB40)>0,RANK(S40,S$11:S$41)>BC$6),\"\",1)","v":""},null,null,null,{"$f":"VLOOKUP($D40,Table!$A$4:$M$34,COLUMN(Table!$M:$M),FALSE)","v":0}]
[null,null,null,null,null,null,null,null,null,null,null,null,null,null,null,null,null,null,null,null,null,null,null,null,null,null,null,null,null,null,null,null,null,null,null,null,null,null,null,null,null,null,null,null,null,null,null,null,{"$f":"IF(OR(SUM($AS41:AV41)>0,RANK(M41,M$11:M$41)>AW$6),\"\",1)","v":""},{"$f":"IF(OR(SUM($AS41:AW41)>0,RANK(N41,N$11:N$41)>AX$6),\"\",1)","v":""},{"$f":"IF(OR(SUM($AS41:AX41)>0,RANK(O41,O$11:O$41)>AY$6),\"\",1)","v":""},{"$f":"IF(OR(SUM($AS41:AY41)>0,RANK(P41,P$11:P$41)>AZ$6),\"\",1)","v":""},{"$f":"IF(OR(SUM($AS41:AZ41)>0,RANK(Q41,Q$11:Q$41)>BA$6),\"\",1)","v":1},{"$f":"IF(OR(SUM($AS41:BA41)>0,RANK(R41,R$11:R$41)>BB$6),\"\",1)","v":""},{"$f":"IF(OR(SUM($AS41:BB41)>0,RANK(S41,S$11:S$41)>BC$6),\"\",1)","v":""}]
[]
[null,null,null,"TOTAL JEN",null,{"$f":"Table!N3","v":481186},null,null,{"$f":"AG43*General!$J$17","v":3.7900000000000003E-2},{"$f":"AH43*General!$J$17","v":3.8733754932165847E-2},{"$f":"AI43*General!$J$17","v":3.9667888222258259E-2},{"$f":"AJ43*General!$J$17","v":4.1464455975352685E-2},{"$f":"AK43*General!$J$17","v":4.658375222960922E-2},{"$f":"AL43*General!$J$17","v":4.4275049997297457E-2},{"$f":"AM43*General!$J$17","v":4.8894502999837851E-2},{"$f":"AN43*General!$J$17","v":5.6107405005134871E-2},{"$f":"AO43*General!$J$17","v":6.6272250148640632E-2},{"$f":"AP43*General!$J$17","v":7.8399594616507237E-2},{"$f":"AQ43*General!$J$17","v":9.1483606291551819E-2},null,null,null,null,null,null,null,null,null,null,null,null,null,{"$f":"COUNTIF('06Dec24'!$E:$E,\">\"&253-Table!$M$3)/Table!$N$3","v":3.8448749547991837E-2},{"$f":"SUMPRODUCT(AH11:AH41,$F11:$F41)/$F$43+$AG$43-SUMPRODUCT($AG11:$AG41,$F11:$F41)/$F$43","v":3.929457631768174E-2},{"$f":"SUMPRODUCT(AI11:AI41,$F11:$F41)/$F$43+$AG$43-SUMPRODUCT($AG11:$AG41,$F11:$F41)/$F$43","v":4.0242234811486616E-2},4.2064814853299964E-2,4.7258232783164933E-2,4.4916103128519957E-2,4.9602440636261236E-2,5.69197773833819E-2,6.7231798098864065E-2,7.9534732930717028E-2,9.2808186439339468E-2]
[]
[null,"End"]

{"sheet":"OLTC_Taps","index":13,"n_rows":175,"n_cols":19,"rows_kept":175,"cut":false,"hidden":false,"merged":[]}
[null,null,null,"Voltage PQ Management Strategy",null,null,null,"Section Check:",{"$f":"IF(COUNTA($A$8:$A$210)=COUNTIF($A$8:$A$210,0),\"Ok\",\"Check\")","v":"Ok"},null,null,"Overall Check:","Ok",null,"Legend:","Input","Internal","Select","Calculation"]
[null,null,null,{"$f":"RIGHT(CELL(\"filename\",D1),LEN(CELL(\"filename\",D1))-FIND(\"]\",CELL(\"filename\",D1)))","v":"OLTC_Taps"},null,"Zone Substation OLTC Tap Positions"]
[]
[]
[]
[null,"Copyright Jemena Limited. All rights reserved. Jemena is not liable for any loss caused by reliance on this document."]
[]
[null,"General Assumptions"]
[]
[null,null,{"$f":"B8","v":"General Assumptions"}]
[]
[null,null,null,{"$f":"C10","v":"General Assumptions"},"Source","Unit","Basis"]
[]
[null,null,null,"Inflation Rate","AM","Per cent","n/a",null,null,0.02]
[]
[null,"Zone Substation OLTC Tap Positions"]
[]
[null,null,"Summary"]
[]
[null,null,null,"Item",null,"Source","Unit","Input $",null,"Cost ($)",{"$f":"\"Convert to $\"&L20","v":"Convert to $2021"},2021,null,"Assumed 0.7 USD:AUD, and 34% overheads"]
[]
[null,null,null,"Cost for upgrade from T3 to E3 device A$",null,"AM","$'000",2018,null,{"$f":"(6957+1600+4900)/0.7*1.34/1000","v":25.760542857142855},{"$f":"J22*(1+$J$14)^($L$20-$H22)","v":27.337294164342854},null,{"$f":"COUNTIF(H70:H135,\"DRMCC-T3\")","v":13},"TX having DRMCC-T3",null,null,"Source: http://cityofbatavia.net/AgendaCenter/ViewFile/Item/11920?fileID=8448"]
[null,null,null,"Cost for install one DRMCC-E3 device A$",null,"AM","$'000",2018,null,{"$f":"485510/2/1000","v":242.755},{"$f":"J23*(1+$J$14)^($L$20-$H23)","v":257.61354803999996},null,{"$f":"COUNTIF(H70:H135,\"<>DRMCC-E3\")-M22","v":20},"TX not having DRMCC-E3",null,null,"Source: BAA-PSA-000004 DR VR at CS"]
[null,null,null,"Cost of 240 new access points ",null,"AM","$'000",2021,null,{"$f":"2000","v":2000},{"$f":"J24*(1+$J$14)^($L$20-$H24)","v":2000},null,null,null,null,null,"Source: Lawrence Law meeting 15/11/21"]
[null,null,null,"Total cost to upgrade VRRs and AP",null,"AM","$'000",null,null,null,{"$f":"K22*M22\n+K23*M23\n+K24","v":7507.6557849364553}]
[]
[null,null,null,"OSII ADMS VVC data pre-processor integration with Itron SensorIQ ",null,"AM","$'000",2021,null,500,{"$f":"J27*(1+$J$14)^($L$20-$H27)","v":500}]
[null,null,null,"VVC reconfiguration to set-point control ",null,"AM","$'000",2021,null,500,{"$f":"J28*(1+$J$14)^($L$20-$H28)","v":500}]
[]
[null,null,null,"Total cost of VVC w/o tap changes maintenance",null,"AM","$'000",2021,null,{"$f":"K25+J27+J28","v":8507.6557849364544},{"$f":"J30*(1+$J$14)^($L$20-$H30)","v":8507.6557849364544}]
[null,null,null,"Additional tap changer maintenance costs",null,"AM","$'000",2021,null,100,{"$f":"J31*(1+$J$14)^($L$20-$H31)","v":100},null,"per annum"]
[]
[null,null,null,"Installed cost of 8MVAr 22kV reactor",null,"AM","$'000",2019,null,{"$f":"6500/100*8","v":520},{"$f":"J33*(1+$J$14)^($L$20-$H33)","v":541.00800000000004},null,"Source: https://aemo.com.au/-/media/files/electricity/nem/planning_and_forecasting/victorian_transmission/2019/reactive-power-rit-t/victorian-reactive-power-support-pacr.pdf"]
[null,null,null,"Number of reactors required",null,"AM","$'000","N/A",null,4]
[null,null,null,"Total cost of reactors",null,"AM","$'000",null,null,null,{"$f":"K33*J34","v":2164.0320000000002}]
[]
[null,null,null,"One off tap changes",null,"AM","$'000",2021,null,20,{"$f":"J37*(1+$J$14)^($L$20-$H37)","v":20}]
[]
[]
[]
[]
[]
[]
[]
[]
[]
[]
[]
[]
[]
[]
[]
[]
[]
[]
[]
[]
[]
[]
[]
[]
[]
[]
[]
[]
[null,null,"Inputs"]
[]
[null,null,null,"ZSS","ZSS TX","2022-12-18T13:30:00","Tx Tap Position","Tx VR relay","Note: The following ZSS don't have tap position in SCADA: EP, FW, NH No.1 & No.2 Tx, ST, TH."]
[]
[null,null,null,{"$f":"TRIM(LEFT(E70,3))","v":"AW"},"AW No1","\\\\HISY\\AW_DNP.1TRTAP",4,"DRMCC-E3"]
[null,null,null,"AW","AW No2","\\\\HISY\\AW_DNP.2TRTAP",4,"DRMCC-E3"]
[null,null,null,"AW","AW No3","\\\\HISY\\AW_DNP.3TRTAP",4,"DRMCC-E3"]
[null,null,null,"AW","AW No4","\\\\HISY\\AW_DNP.4TRTAP",14,"DRMCC-E3"]
[null,null,null,"BD","BD No1","\\\\HISY\\BD_DNP.1TRTAP",4,"DRMCC-E3"]
[null,null,null,"BD","BD No2","\\\\HISY\\BD_DNP.2TRTAP",3,"DRMCC-E3"]
[null,null,null,"BD","BD No3","\\\\HISY\\BD_DNP.3TRTAP",4,"DRMCC-E3"]
[null,null,null,"BD","BD No4","\\\\HISY\\BD_DNP.4TRTAP",3,"DRMCC-E3"]
[null,null,null,"BMS","BMS No1","\\\\HISY\\BMS_1.1TRTAP",4,"DRMCC-E3"]
[null,null,null,"BMS","BMS No2","\\\\HISY\\BMS_1.2TRTAP",4,"DRMCC-E3"]
[null,null,null,"BY","BY No1","\\\\HISY\\BY_DNP.1TRTAP",4,"KVGC202 ?"]
[null,null,null,"BY","BY No2","\\\\HISY\\BY_DNP.2TR_TPI",5,"DRMCC-T3"]
[null,null,null,"CN","CN No1","\\\\HISY\\CN_1.1TRTAP",5,"CDG11-1055 ?"]
[null,null,null,"CN","CN No2","\\\\HISY\\CN_1.2TRTAP",3,"CDG11-1055 ?"]
[null,null,null,"CN","CN No3","\\\\HISY\\CN_1.3TRTAP",3,"CDG11-1055 ?"]
[null,null,null,"CS","CS No1","\\\\HISY\\CS_1.1TRTAP",3,"DRMCC-E3"]
[null,null,null,"CS","CS No2","\\\\HISY\\CS_1.2TRTAP",3,"DRMCC-E3"]
[null,null,null,"COO","COO No1","\\\\HISY\\COO_DNP.1TRTAPPOS",3,"DRMCC-T3"]
[null,null,null,"COO","COO No2","\\\\HISY\\COO_DNP.2TRTAP",3,"DRMCC-T3"]
[null,null,null,"EP A","EP No1","-",4,"CDG11-521 ?"]
[null,null,null,"EP A","EP No2","-",4,"CDG11-521 ?"]
[null,null,null,"EP B","EP No3","-",4,"CDG11-521 ?"]
[null,null,null,"EP B","EP No4","-",4,"CDG11-521 ?"]
[null,null,null,{"$f":"TRIM(LEFT(E93,3))","v":"EPN"},"EPN No1","\\\\HISY\\EPN_1.3TRTAP",4,"DRMCC-E3"]
[null,null,null,"ES","ES No2","\\\\HISY\\ES_1.2TRTAP",5,"DRMCC-E3"]
[null,null,null,"ES","ES No3","\\\\HISY\\ES_1.3TRTAP",5,"DRMCC-E3"]
[null,null,null,"FE","FE No1","\\\\HISY\\FE_1.1TRTAP",4,"DRMCC-T3"]
[null,null,null,"FE","FE No2","\\\\HISY\\FE_1.2TRTAP",4,"DRMCC-T3"]
[null,null,null,"FW","FW No1","-",4,"CDG11-520 ?"]
[null,null,null,"FW","FW No2","-",4,"CDG11-520 ?"]
[null,null,null,"FW","FW No3","-",4,"CDG11-520 ?"]
[null,null,null,"FF","FF No1","\\\\HISY\\FF_DNP.1TRTAP",6,"DRMCC-E3"]
[null,null,null,"FF","FF No2","\\\\HISY\\FF_DNP.2TRTAP",6,"DRMCC-E3"]
[null,null,null,"FF","FF No3","\\\\HISY\\FF_DNP.3TRTAP",9,"DRMCC-E3"]
[null,null,null,"FT","FT No1","\\\\HISY\\FT_1.1TRTAP",6,"DRMCC-E3"]
[null,null,null,"FT","FT No2","\\\\HISY\\FT_1.2TRTAP",6,"DRMCC-E3"]
[null,null,null,"HB","HB No1","\\\\HISY\\HB_1.1TRTAP",3,"DRMCC-T3"]
[null,null,null,"HB","HB No3","\\\\HISY\\HB_1.3TRTAP",3,"DRMCC-T3"]
[null,null,null,"NH","NH No1","-",3,"CDG11-1054 ?"]
[null,null,null,"NH","NH No2","-",3,"CDG11-1054 ?"]
[null,null,null,"NH","NH No3","\\\\HISY\\NH_DNP.3TR_TPI",3,"GP3 - 1511 ?"]
[null,null,null,"NS","NS No1","\\\\HISY\\NS_1.1TRTAP",6,"DRMCC-E3"]
[null,null,null,"NS","NS No2","\\\\HISY\\NS_1.2TRTAP",6,"DRMCC-E3"]
[null,null,null,"NS","NS No3","\\\\HISY\\NS_1.3TRTAP",6,"DRMCC-E3"]
[null,null,null,"NT","NT No1","\\\\HISY\\NT_1.1TRTAP",2,"DRMCC-T3"]
[null,null,null,"NT","NT No3","\\\\HISY\\NT_1.3TRTAP",2,"DRMCC-T3"]
[null,null,null,"PTN","PTN No1","\\\\HISY\\PTN_1.1TRTAP",4,"DRMCC-E3"]
[null,null,null,"PTN","PTN No2","\\\\HISY\\PTN_1.2TRTAP",4,"DRMCC-E3"]
[null,null,null,"PV","PV No1","\\\\HISY\\PV_1.1TRTAP",5,"DRMCC-T3"]
[null,null,null,"PV","PV No2","\\\\HISY\\PV_1.2TRTAP",5,"DRMCC-T3"]
[null,null,null,"PV","PV No3","\\\\HISY\\PV_1.TR3TAPPOS",null,"?"]
[null,null,null,"SBY","SBY No1","\\\\HISY\\SBY_DNP.1TRTAP",1,"DRMCC-E3"]
[null,null,null,"SBY","SBY No2","\\\\HISY\\SBY_DNP.2TRTAP",1,"DRMCC-E3"]
[null,null,null,"SBY","SBY No3","\\\\HISY\\SBY_DNP.3TRTAP",1,"DRMCC-E3"]
[null,null,null,"SHM","SHM No1","\\\\HISY\\SHM.1TRTAP",1,"DRMCC-T3"]
[null,null,null,"SHM","SHM No2","\\\\HISY\\SHM.2TRTAP",1,"DRMCC-T3"]
[null,null,null,"ST","ST No1","-",2,"2V161K - 2415 ?"]
[null,null,null,"ST","ST No2","-",2,"?"]
[null,null,null,"ST","ST No3","-",2,"?"]
[null,null,null,"TH","TH No1","-",6,"?"]
[null,null,null,"TH","TH No2","-",6,"?"]
[null,null,null,"TMA","TMA No1","\\\\HISY\\TMA_1.1TRTAP",3,"DRMCC-E3"]
[null,null,null,"TMA","TMA No2","\\\\HISY\\TMA_1.2TRTAP",3,"DRMCC-E3"]
[null,null,null,"YVE","YVE No1","\\\\HISY\\YVE_1.1TRTAP",3,"DRMCC-E3"]
[null,null,null,"YVE","YVE No2","\\\\HISY\\YVE_1.2TRTAP",3,"DRMCC-E3"]
[null,null,null,"YVE","YVE No3","\\\\HISY\\YVE_1.4TRTAP",5,"DRMCC-E3"]
[]
[]
[null,null,"Calculation"]
[]
[null,null,null,"Calculation Metrics",null,null,"Factors"]
[]
[null,null,null,"HV Cable Charging Factor",null,null,{"$f":"10*G143","v":0.4}]
[null,null,null,"PV growth factor",null,null,0.04]
[]
[null,null,null,"ZSS",null,"Min tap",{"$f":"PV_Uptake!G49","v":2024},"Margin",{"$f":"PV_Uptake!J49","v":2027},{"$f":"PV_Uptake!O49","v":2032},null,"Rank",null,{"$f":"I145&\" delta tap pa\"","v":"2027 delta tap pa"},{"$f":"J145&\" delta tap pa\"","v":"2032 delta tap pa"}]
[]
[null,null,null,"SBY",null,null,{"$f":"_xlfn.MINIFS($G$70:$G$135,$D$70:$D$135,$D147)","v":1},{"$f":"(G147-1)*1.25%","v":0},{"$f":"ROUND(MAX(1,$G147-$G$142*VLOOKUP($D147,Cable_Charging!$D$51:$AQ$81,41-1,FALSE)-$G$143*SUMPRODUCT(PV_Uptake!$W$50:$W$80*(PV_Uptake!$D$50:$D$80=$D147))),0)","v":1},{"$f":"ROUND(MAX(1,$I147-$G$142*VLOOKUP($D147,Cable_Charging!$D$51:$AR$81,42-1,FALSE)-$G$143*SUMPRODUCT(PV_Uptake!$X$50:$X$80*(PV_Uptake!$D$50:$D$80=$D147))),0)","v":1},null,1,null,{"$f":"(-$G$142*VLOOKUP($D147,Cable_Charging!$D$51:$AQ$81,41-1,FALSE)-$G$143*SUMPRODUCT(PV_Uptake!$W$50:$W$80*(PV_Uptake!$D$50:$D$80=$D147)))*1.25%/3","v":-2.9093760934747605E-3},{"$f":"(-$G$142*VLOOKUP($D147,Cable_Charging!$D$51:$AR$81,42-1,FALSE)-$G$143*SUMPRODUCT(PV_Uptake!$X$50:$X$80*(PV_Uptake!$D$50:$D$80=$D147)))*1.25%/5","v":-2.4817094268080927E-3}]
[null,null,null,"SHM",null,null,{"$f":"_xlfn.MINIFS($G$70:$G$135,$D$70:$D$135,$D148)","v":1},0,{"$f":"ROUND(MAX(1,$G148-$G$142*VLOOKUP($D148,Cable_Charging!$D$51:$AQ$81,41-1,FALSE)-$G$143*SUMPRODUCT(PV_Uptake!$W$50:$W$80*(PV_Uptake!$D$50:$D$80=$D148))),0)","v":1},{"$f":"ROUND(MAX(1,$I148-$G$142*VLOOKUP($D148,Cable_Charging!$D$51:$AR$81,42-1,FALSE)-$G$143*SUMPRODUCT(PV_Uptake!$X$50:$X$80*(PV_Uptake!$D$50:$D$80=$D148))),0)","v":1},null,{"$f":"L147+1","v":2},null,{"$f":"(-$G$142*VLOOKUP($D148,Cable_Charging!$D$51:$AQ$81,41-1,FALSE)-$G$143*SUMPRODUCT(PV_Uptake!$W$50:$W$80*(PV_Uptake!$D$50:$D$80=$D148)))*1.25%/3","v":-3.1499900695199962E-3},{"$f":"(-$G$142*VLOOKUP($D148,Cable_Charging!$D$51:$AR$81,42-1,FALSE)-$G$143*SUMPRODUCT(PV_Uptake!$X$50:$X$80*(PV_Uptake!$D$50:$D$80=$D148)))*1.25%/5","v":-2.0793461992556954E-3}]
[null,null,null,"COO",null,null,3,2.5000000000000001E-2,{"$f":"ROUND(MAX(1,$G149-$G$142*VLOOKUP($D149,Cable_Charging!$D$51:$AQ$81,41-1,FALSE)-$G$143*SUMPRODUCT(PV_Uptake!$W$50:$W$80*(PV_Uptake!$D$50:$D$80=$D149))),0)","v":2},{"$f":"ROUND(MAX(1,$I149-$G$142*VLOOKUP($D149,Cable_Charging!$D$51:$AR$81,42-1,FALSE)-$G$143*SUMPRODUCT(PV_Uptake!$X$50:$X$80*(PV_Uptake!$D$50:$D$80=$D149))),0)","v":1},null,{"$f":"L148+1","v":3},null,{"$f":"(-$G$142*VLOOKUP($D149,Cable_Charging!$D$51:$AQ$81,41-1,FALSE)-$G$143*SUMPRODUCT(PV_Uptake!$W$50:$W$80*(PV_Uptake!$D$50:$D$80=$D149)))*1.25%/3","v":-3.2197755900119866E-3},{"$f":"(-$G$142*VLOOKUP($D149,Cable_Charging!$D$51:$AR$81,42-1,FALSE)-$G$143*SUMPRODUCT(PV_Uptake!$X$50:$X$80*(PV_Uptake!$D$50:$D$80=$D149)))*1.25%/5","v":-2.6986330202954157E-3}]
[null,null,null,"ST",null,null,2,1.2500000000000001E-2,{"$f":"ROUND(MAX(1,$G150-$G$142*VLOOKUP($D150,Cable_Charging!$D$51:$AQ$81,41-1,FALSE)-$G$143*SUMPRODUCT(PV_Uptake!$W$50:$W$80*(PV_Uptake!$D$50:$D$80=$D150))),0)","v":1},{"$f":"ROUND(MAX(1,$I150-$G$142*VLOOKUP($D150,Cable_Charging!$D$51:$AR$81,42-1,FALSE)-$G$143*SUMPRODUCT(PV_Uptake!$X$50:$X$80*(PV_Uptake!$D$50:$D$80=$D150))),0)","v":1},null,{"$f":"L149+1","v":4},null,{"$f":"(-$G$142*VLOOKUP($D150,Cable_Charging!$D$51:$AQ$81,41-1,FALSE)-$G$143*SUMPRODUCT(PV_Uptake!$W$50:$W$80*(PV_Uptake!$D$50:$D$80=$D150)))*1.25%/3","v":-4.0014868663287937E-3},{"$f":"(-$G$142*VLOOKUP($D150,Cable_Charging!$D$51:$AR$81,42-1,FALSE)-$G$143*SUMPRODUCT(PV_Uptake!$X$50:$X$80*(PV_Uptake!$D$50:$D$80=$D150)))*1.25%/5","v":-2.7911535329954596E-3}]
[null,null,null,"BD",null,null,3,2.5000000000000001E-2,{"$f":"ROUND(MAX(1,$G151-$G$142*VLOOKUP($D151,Cable_Charging!$D$51:$AQ$81,41-1,FALSE)-$G$143*SUMPRODUCT(PV_Uptake!$W$50:$W$80*(PV_Uptake!$D$50:$D$80=$D151))),0)","v":2},{"$f":"ROUND(MAX(1,$I151-$G$142*VLOOKUP($D151,Cable_Charging!$D$51:$AR$81,42-1,FALSE)-$G$143*SUMPRODUCT(PV_Uptake!$X$50:$X$80*(PV_Uptake!$D$50:$D$80=$D151))),0)","v":1},null,{"$f":"L150+1","v":5},null,{"$f":"(-$G$142*VLOOKUP($D151,Cable_Charging!$D$51:$AQ$81,41-1,FALSE)-$G$143*SUMPRODUCT(PV_Uptake!$W$50:$W$80*(PV_Uptake!$D$50:$D$80=$D151)))*1.25%/3","v":-2.3676921602465233E-3},{"$f":"(-$G$142*VLOOKUP($D151,Cable_Charging!$D$51:$AR$81,42-1,FALSE)-$G$143*SUMPRODUCT(PV_Uptake!$X$50:$X$80*(PV_Uptake!$D$50:$D$80=$D151)))*1.25%/5","v":-1.8326921602465254E-3}]
[null,null,null,"NH",null,null,3,2.5000000000000001E-2,{"$f":"ROUND(MAX(1,$G152-$G$142*VLOOKUP($D152,Cable_Charging!$D$51:$AQ$81,41-1,FALSE)-$G$143*SUMPRODUCT(PV_Uptake!$W$50:$W$80*(PV_Uptake!$D$50:$D$80=$D152))),0)","v":3},{"$f":"ROUND(MAX(1,$I152-$G$142*VLOOKUP($D152,Cable_Charging!$D$51:$AR$81,42-1,FALSE)-$G$143*SUMPRODUCT(PV_Uptake!$X$50:$X$80*(PV_Uptake!$D$50:$D$80=$D152))),0)","v":3},null,null,null,{"$f":"(-$G$142*VLOOKUP($D152,Cable_Charging!$D$51:$AQ$81,41-1,FALSE)-$G$143*SUMPRODUCT(PV_Uptake!$W$50:$W$80*(PV_Uptake!$D$50:$D$80=$D152)))*1.25%/3","v":-1.1651949810039463E-3},{"$f":"(-$G$142*VLOOKUP($D152,Cable_Charging!$D$51:$AR$81,42-1,FALSE)-$G$143*SUMPRODUCT(PV_Uptake!$X$50:$X$80*(PV_Uptake!$D$50:$D$80=$D152)))*1.25%/5","v":-1.2295283143372803E-3}]
[null,null,null,"CN",null,null,3,2.5000000000000001E-2,{"$f":"ROUND(MAX(1,$G153-$G$142*VLOOKUP($D153,Cable_Charging!$D$51:$AQ$81,41-1,FALSE)-$G$143*SUMPRODUCT(PV_Uptake!$W$50:$W$80*(PV_Uptake!$D$50:$D$80=$D153))),0)","v":3},{"$f":"ROUND(MAX(1,$I153-$G$142*VLOOKUP($D153,Cable_Charging!$D$51:$AR$81,42-1,FALSE)-$G$143*SUMPRODUCT(PV_Uptake!$X$50:$X$80*(PV_Uptake!$D$50:$D$80=$D153))),0)","v":2},null,null,null,{"$f":"(-$G$142*VLOOKUP($D153,Cable_Charging!$D$51:$AQ$81,41-1,FALSE)-$G$143*SUMPRODUCT(PV_Uptake!$W$50:$W$80*(PV_Uptake!$D$50:$D$80=$D153)))*1.25%/3","v":-1.5996491405369671E-3},{"$f":"(-$G$142*VLOOKUP($D153,Cable_Charging!$D$51:$AR$81,42-1,FALSE)-$G$143*SUMPRODUCT(PV_Uptake!$X$50:$X$80*(PV_Uptake!$D$50:$D$80=$D153)))*1.25%/5","v":-1.6486491405369673E-3}]
[null,null,null,"AW",null,null,4,3.7500000000000006E-2,{"$f":"ROUND(MAX(1,$G154-$G$142*VLOOKUP($D154,Cable_Charging!$D$51:$AQ$81,41-1,FALSE)-$G$143*SUMPRODUCT(PV_Uptake!$W$50:$W$80*(PV_Uptake!$D$50:$D$80=$D154))),0)","v":4},{"$f":"ROUND(MAX(1,$I154-$G$142*VLOOKUP($D154,Cable_Charging!$D$51:$AR$81,42-1,FALSE)-$G$143*SUMPRODUCT(PV_Uptake!$X$50:$X$80*(PV_Uptake!$D$50:$D$80=$D154))),0)","v":3},null,null,null,{"$f":"(-$G$142*VLOOKUP($D154,Cable_Charging!$D$51:$AQ$81,41-1,FALSE)-$G$143*SUMPRODUCT(PV_Uptake!$W$50:$W$80*(PV_Uptake!$D$50:$D$80=$D154)))*1.25%/3","v":-1.928952031712193E-3},{"$f":"(-$G$142*VLOOKUP($D154,Cable_Charging!$D$51:$AR$81,42-1,FALSE)-$G$143*SUMPRODUCT(PV_Uptake!$X$50:$X$80*(PV_Uptake!$D$50:$D$80=$D154)))*1.25%/5","v":-2.0092853650455259E-3}]
[null,null,null,"YVE",null,null,3,2.5000000000000001E-2,{"$f":"ROUND(MAX(1,$G155-$G$142*VLOOKUP($D155,Cable_Charging!$D$51:$AQ$81,41-1,FALSE)-$G$143*SUMPRODUCT(PV_Uptake!$W$50:$W$80*(PV_Uptake!$D$50:$D$80=$D155))),0)","v":3},{"$f":"ROUND(MAX(1,$I155-$G$142*VLOOKUP($D155,Cable_Charging!$D$51:$AR$81,42-1,FALSE)-$G$143*SUMPRODUCT(PV_Uptake!$X$50:$X$80*(PV_Uptake!$D$50:$D$80=$D155))),0)","v":3},null,null,null,{"$f":"(-$G$142*VLOOKUP($D155,Cable_Charging!$D$51:$AQ$81,41-1,FALSE)-$G$143*SUMPRODUCT(PV_Uptake!$W$50:$W$80*(PV_Uptake!$D$50:$D$80=$D155)))*1.25%/3","v":-7.9524773970189458E-4},{"$f":"(-$G$142*VLOOKUP($D155,Cable_Charging!$D$51:$AR$81,42-1,FALSE)-$G$143*SUMPRODUCT(PV_Uptake!$X$50:$X$80*(PV_Uptake!$D$50:$D$80=$D155)))*1.25%/5","v":-8.2358107303522803E-4}]
[null,null,null,"TMA",null,null,3,2.5000000000000001E-2,{"$f":"ROUND(MAX(1,$G156-$G$142*VLOOKUP($D156,Cable_Charging!$D$51:$AQ$81,41-1,FALSE)-$G$143*SUMPRODUCT(PV_Uptake!$W$50:$W$80*(PV_Uptake!$D$50:$D$80=$D156))),0)","v":3},{"$f":"ROUND(MAX(1,$I156-$G$142*VLOOKUP($D156,Cable_Charging!$D$51:$AR$81,42-1,FALSE)-$G$143*SUMPRODUCT(PV_Uptake!$X$50:$X$80*(PV_Uptake!$D$50:$D$80=$D156))),0)","v":3},null,null,null,{"$f":"(-$G$142*VLOOKUP($D156,Cable_Charging!$D$51:$AQ$81,41-1,FALSE)-$G$143*SUMPRODUCT(PV_Uptake!$W$50:$W$80*(PV_Uptake!$D$50:$D$80=$D156)))*1.25%/3","v":-4.1401698682888089E-4},{"$f":"(-$G$142*VLOOKUP($D156,Cable_Charging!$D$51:$AR$81,42-1,FALSE)-$G$143*SUMPRODUCT(PV_Uptake!$X$50:$X$80*(PV_Uptake!$D$50:$D$80=$D156)))*1.25%/5","v":-3.9001698682888106E-4}]
[null,null,null,"NT",null,null,2,1.2500000000000001E-2,{"$f":"ROUND(MAX(1,$G157-$G$142*VLOOKUP($D157,Cable_Charging!$D$51:$AQ$81,41-1,FALSE)-$G$143*SUMPRODUCT(PV_Uptake!$W$50:$W$80*(PV_Uptake!$D$50:$D$80=$D157))),0)","v":2},{"$f":"ROUND(MAX(1,$I157-$G$142*VLOOKUP($D157,Cable_Charging!$D$51:$AR$81,42-1,FALSE)-$G$143*SUMPRODUCT(PV_Uptake!$X$50:$X$80*(PV_Uptake!$D$50:$D$80=$D157))),0)","v":2},null,null,null,{"$f":"(-$G$142*VLOOKUP($D157,Cable_Charging!$D$51:$AQ$81,41-1,FALSE)-$G$143*SUMPRODUCT(PV_Uptake!$W$50:$W$80*(PV_Uptake!$D$50:$D$80=$D157)))*1.25%/3","v":-9.8209751608388778E-4},{"$f":"(-$G$142*VLOOKUP($D157,Cable_Charging!$D$51:$AR$81,42-1,FALSE)-$G$143*SUMPRODUCT(PV_Uptake!$X$50:$X$80*(PV_Uptake!$D$50:$D$80=$D157)))*1.25%/5","v":-1.049764182750554E-3}]
[null,null,null,"CS",null,null,3,2.5000000000000001E-2,{"$f":"ROUND(MAX(1,$G158-$G$142*VLOOKUP($D158,Cable_Charging!$D$51:$AQ$81,41-1,FALSE)-$G$143*SUMPRODUCT(PV_Uptake!$W$50:$W$80*(PV_Uptake!$D$50:$D$80=$D158))),0)","v":3},{"$f":"ROUND(MAX(1,$I158-$G$142*VLOOKUP($D158,Cable_Charging!$D$51:$AR$81,42-1,FALSE)-$G$143*SUMPRODUCT(PV_Uptake!$X$50:$X$80*(PV_Uptake!$D$50:$D$80=$D158))),0)","v":2},null,null,null,{"$f":"(-$G$142*VLOOKUP($D158,Cable_Charging!$D$51:$AQ$81,41-1,FALSE)-$G$143*SUMPRODUCT(PV_Uptake!$W$50:$W$80*(PV_Uptake!$D$50:$D$80=$D158)))*1.25%/3","v":-1.5540454224126146E-3},{"$f":"(-$G$142*VLOOKUP($D158,Cable_Charging!$D$51:$AR$81,42-1,FALSE)-$G$143*SUMPRODUCT(PV_Uptake!$X$50:$X$80*(PV_Uptake!$D$50:$D$80=$D158)))*1.25%/5","v":-1.6373787557459479E-3}]
[null,null,null,"FW",null,null,4,3.7500000000000006E-2,{"$f":"ROUND(MAX(1,$G159-$G$142*VLOOKUP($D159,Cable_Charging!$D$51:$AQ$81,41-1,FALSE)-$G$143*SUMPRODUCT(PV_Uptake!$W$50:$W$80*(PV_Uptake!$D$50:$D$80=$D159))),0)","v":4},{"$f":"ROUND(MAX(1,$I159-$G$142*VLOOKUP($D159,Cable_Charging!$D$51:$AR$81,42-1,FALSE)-$G$143*SUMPRODUCT(PV_Uptake!$X$50:$X$80*(PV_Uptake!$D$50:$D$80=$D159))),0)","v":4},null,null,null,{"$f":"(-$G$142*VLOOKUP($D159,Cable_Charging!$D$51:$AQ$81,41-1,FALSE)-$G$143*SUMPRODUCT(PV_Uptake!$W$50:$W$80*(PV_Uptake!$D$50:$D$80=$D159)))*1.25%/3","v":-1.1714687950288105E-3},{"$f":"(-$G$142*VLOOKUP($D159,Cable_Charging!$D$51:$AR$81,42-1,FALSE)-$G$143*SUMPRODUCT(PV_Uptake!$X$50:$X$80*(PV_Uptake!$D$50:$D$80=$D159)))*1.25%/5","v":-1.1394687950288097E-3}]
[null,null,null,"HB",null,null,3,2.5000000000000001E-2,{"$f":"ROUND(MAX(1,$G160-$G$142*VLOOKUP($D160,Cable_Charging!$D$51:$AQ$81,41-1,FALSE)-$G$143*SUMPRODUCT(PV_Uptake!$W$50:$W$80*(PV_Uptake!$D$50:$D$80=$D160))),0)","v":3},{"$f":"ROUND(MAX(1,$I160-$G$142*VLOOKUP($D160,Cable_Charging!$D$51:$AR$81,42-1,FALSE)-$G$143*SUMPRODUCT(PV_Uptake!$X$50:$X$80*(PV_Uptake!$D$50:$D$80=$D160))),0)","v":3},null,null,null,{"$f":"(-$G$142*VLOOKUP($D160,Cable_Charging!$D$51:$AQ$81,41-1,FALSE)-$G$143*SUMPRODUCT(PV_Uptake!$W$50:$W$80*(PV_Uptake!$D$50:$D$80=$D160)))*1.25%/3","v":-6.7020576763593919E-4},{"$f":"(-$G$142*VLOOKUP($D160,Cable_Charging!$D$51:$AR$81,42-1,FALSE)-$G$143*SUMPRODUCT(PV_Uptake!$X$50:$X$80*(PV_Uptake!$D$50:$D$80=$D160)))*1.25%/5","v":-7.062057676359393E-4}]
[null,null,null,"PTN",null,null,4,3.7500000000000006E-2,{"$f":"ROUND(MAX(1,$G161-$G$142*VLOOKUP($D161,Cable_Charging!$D$51:$AQ$81,41-1,FALSE)-$G$143*SUMPRODUCT(PV_Uptake!$W$50:$W$80*(PV_Uptake!$D$50:$D$80=$D161))),0)","v":4},{"$f":"ROUND(MAX(1,$I161-$G$142*VLOOKUP($D161,Cable_Charging!$D$51:$AR$81,42-1,FALSE)-$G$143*SUMPRODUCT(PV_Uptake!$X$50:$X$80*(PV_Uptake!$D$50:$D$80=$D161))),0)","v":4},null,null,null,{"$f":"(-$G$142*VLOOKUP($D161,Cable_Charging!$D$51:$AQ$81,41-1,FALSE)-$G$143*SUMPRODUCT(PV_Uptake!$W$50:$W$80*(PV_Uptake!$D$50:$D$80=$D161)))*1.25%/3","v":-7.5920982488342518E-4},{"$f":"(-$G$142*VLOOKUP($D161,Cable_Charging!$D$51:$AR$81,42-1,FALSE)-$G$143*SUMPRODUCT(PV_Uptake!$X$50:$X$80*(PV_Uptake!$D$50:$D$80=$D161)))*1.25%/5","v":-8.0554315821675852E-4}]
[null,null,null,"FE",null,null,4,3.7500000000000006E-2,{"$f":"ROUND(MAX(1,$G162-$G$142*VLOOKUP($D162,Cable_Charging!$D$51:$AQ$81,41-1,FALSE)-$G$143*SUMPRODUCT(PV_Uptake!$W$50:$W$80*(PV_Uptake!$D$50:$D$80=$D162))),0)","v":4},{"$f":"ROUND(MAX(1,$I162-$G$142*VLOOKUP($D162,Cable_Charging!$D$51:$AR$81,42-1,FALSE)-$G$143*SUMPRODUCT(PV_Uptake!$X$50:$X$80*(PV_Uptake!$D$50:$D$80=$D162))),0)","v":3},null,null,null,{"$f":"(-$G$142*VLOOKUP($D162,Cable_Charging!$D$51:$AQ$81,41-1,FALSE)-$G$143*SUMPRODUCT(PV_Uptake!$W$50:$W$80*(PV_Uptake!$D$50:$D$80=$D162)))*1.25%/3","v":-1.1905477372775545E-3},{"$f":"(-$G$142*VLOOKUP($D162,Cable_Charging!$D$51:$AR$81,42-1,FALSE)-$G$143*SUMPRODUCT(PV_Uptake!$X$50:$X$80*(PV_Uptake!$D$50:$D$80=$D162)))*1.25%/5","v":-1.2622144039442218E-3}]
[null,null,null,"BMS",null,null,4,3.7500000000000006E-2,{"$f":"ROUND(MAX(1,$G163-$G$142*VLOOKUP($D163,Cable_Charging!$D$51:$AQ$81,41-1,FALSE)-$G$143*SUMPRODUCT(PV_Uptake!$W$50:$W$80*(PV_Uptake!$D$50:$D$80=$D163))),0)","v":4},{"$f":"ROUND(MAX(1,$I163-$G$142*VLOOKUP($D163,Cable_Charging!$D$51:$AR$81,42-1,FALSE)-$G$143*SUMPRODUCT(PV_Uptake!$X$50:$X$80*(PV_Uptake!$D$50:$D$80=$D163))),0)","v":4},null,null,null,{"$f":"(-$G$142*VLOOKUP($D163,Cable_Charging!$D$51:$AQ$81,41-1,FALSE)-$G$143*SUMPRODUCT(PV_Uptake!$W$50:$W$80*(PV_Uptake!$D$50:$D$80=$D163)))*1.25%/3","v":-5.0930727264580575E-4},{"$f":"(-$G$142*VLOOKUP($D163,Cable_Charging!$D$51:$AR$81,42-1,FALSE)-$G$143*SUMPRODUCT(PV_Uptake!$X$50:$X$80*(PV_Uptake!$D$50:$D$80=$D163)))*1.25%/5","v":-4.7297393931247206E-4}]
[null,null,null,"EPN",null,null,4,3.7500000000000006E-2,{"$f":"ROUND(MAX(1,$G164-$G$142*VLOOKUP($D164,Cable_Charging!$D$51:$AQ$81,41-1,FALSE)-$G$143*SUMPRODUCT(PV_Uptake!$W$50:$W$80*(PV_Uptake!$D$50:$D$80=$D164))),0)","v":4},{"$f":"ROUND(MAX(1,$I164-$G$142*VLOOKUP($D164,Cable_Charging!$D$51:$AR$81,42-1,FALSE)-$G$143*SUMPRODUCT(PV_Uptake!$X$50:$X$80*(PV_Uptake!$D$50:$D$80=$D164))),0)","v":4},null,null,null,{"$f":"(-$G$142*VLOOKUP($D164,Cable_Charging!$D$51:$AQ$81,41-1,FALSE)-$G$143*SUMPRODUCT(PV_Uptake!$W$50:$W$80*(PV_Uptake!$D$50:$D$80=$D164)))*1.25%/3","v":-6.022892757635525E-4},{"$f":"(-$G$142*VLOOKUP($D164,Cable_Charging!$D$51:$AR$81,42-1,FALSE)-$G$143*SUMPRODUCT(PV_Uptake!$X$50:$X$80*(PV_Uptake!$D$50:$D$80=$D164)))*1.25%/5","v":-5.35955942430219E-4}]
[null,null,null,"BY",null,null,4,3.7500000000000006E-2,{"$f":"ROUND(MAX(1,$G165-$G$142*VLOOKUP($D165,Cable_Charging!$D$51:$AQ$81,41-1,FALSE)-$G$143*SUMPRODUCT(PV_Uptake!$W$50:$W$80*(PV_Uptake!$D$50:$D$80=$D165))),0)","v":4},{"$f":"ROUND(MAX(1,$I165-$G$142*VLOOKUP($D165,Cable_Charging!$D$51:$AR$81,42-1,FALSE)-$G$143*SUMPRODUCT(PV_Uptake!$X$50:$X$80*(PV_Uptake!$D$50:$D$80=$D165))),0)","v":4},null,null,null,{"$f":"(-$G$142*VLOOKUP($D165,Cable_Charging!$D$51:$AQ$81,41-1,FALSE)-$G$143*SUMPRODUCT(PV_Uptake!$W$50:$W$80*(PV_Uptake!$D$50:$D$80=$D165)))*1.25%/3","v":-7.1334177897219408E-4},{"$f":"(-$G$142*VLOOKUP($D165,Cable_Charging!$D$51:$AR$81,42-1,FALSE)-$G$143*SUMPRODUCT(PV_Uptake!$X$50:$X$80*(PV_Uptake!$D$50:$D$80=$D165)))*1.25%/5","v":-7.7867511230552723E-4}]
[null,null,null,"EP A",null,null,4,3.7500000000000006E-2,{"$f":"ROUND(MAX(1,$G166-$G$142*VLOOKUP($D166,Cable_Charging!$D$51:$AQ$81,41-1,FALSE)-$G$143*SUMPRODUCT(PV_Uptake!$W$50:$W$80*(PV_Uptake!$D$50:$D$80=$D166))),0)","v":4},{"$f":"ROUND(MAX(1,$I166-$G$142*VLOOKUP($D166,Cable_Charging!$D$51:$AR$81,42-1,FALSE)-$G$143*SUMPRODUCT(PV_Uptake!$X$50:$X$80*(PV_Uptake!$D$50:$D$80=$D166))),0)","v":4},null,null,null,{"$f":"(-$G$142*VLOOKUP($D166,Cable_Charging!$D$51:$AQ$81,41-1,FALSE)-$G$143*SUMPRODUCT(PV_Uptake!$W$50:$W$80*(PV_Uptake!$D$50:$D$80=$D166)))*1.25%/3","v":0},{"$f":"(-$G$142*VLOOKUP($D166,Cable_Charging!$D$51:$AR$81,42-1,FALSE)-$G$143*SUMPRODUCT(PV_Uptake!$X$50:$X$80*(PV_Uptake!$D$50:$D$80=$D166)))*1.25%/5","v":0}]
[null,null,null,"EP B",null,null,4,3.7500000000000006E-2,{"$f":"ROUND(MAX(1,$G167-$G$142*VLOOKUP($D167,Cable_Charging!$D$51:$AQ$81,41-1,FALSE)-$G$143*SUMPRODUCT(PV_Uptake!$W$50:$W$80*(PV_Uptake!$D$50:$D$80=$D167))),0)","v":4},{"$f":"ROUND(MAX(1,$I167-$G$142*VLOOKUP($D167,Cable_Charging!$D$51:$AR$81,42-1,FALSE)-$G$143*SUMPRODUCT(PV_Uptake!$X$50:$X$80*(PV_Uptake!$D$50:$D$80=$D167))),0)","v":4},null,null,null,{"$f":"(-$G$142*VLOOKUP($D167,Cable_Charging!$D$51:$AQ$81,41-1,FALSE)-$G$143*SUMPRODUCT(PV_Uptake!$W$50:$W$80*(PV_Uptake!$D$50:$D$80=$D167)))*1.25%/3","v":-3.3666666666666659E-4},{"$f":"(-$G$142*VLOOKUP($D167,Cable_Charging!$D$51:$AR$81,42-1,FALSE)-$G$143*SUMPRODUCT(PV_Uptake!$X$50:$X$80*(PV_Uptake!$D$50:$D$80=$D167)))*1.25%/5","v":-2.8599999999999996E-4}]
[null,null,null,"PV",null,null,5,0.05,{"$f":"ROUND(MAX(1,$G168-$G$142*VLOOKUP($D168,Cable_Charging!$D$51:$AQ$81,41-1,FALSE)-$G$143*SUMPRODUCT(PV_Uptake!$W$50:$W$80*(PV_Uptake!$D$50:$D$80=$D168))),0)","v":5},{"$f":"ROUND(MAX(1,$I168-$G$142*VLOOKUP($D168,Cable_Charging!$D$51:$AR$81,42-1,FALSE)-$G$143*SUMPRODUCT(PV_Uptake!$X$50:$X$80*(PV_Uptake!$D$50:$D$80=$D168))),0)","v":4},null,null,null,{"$f":"(-$G$142*VLOOKUP($D168,Cable_Charging!$D$51:$AQ$81,41-1,FALSE)-$G$143*SUMPRODUCT(PV_Uptake!$W$50:$W$80*(PV_Uptake!$D$50:$D$80=$D168)))*1.25%/3","v":-1.0814678091363667E-3},{"$f":"(-$G$142*VLOOKUP($D168,Cable_Charging!$D$51:$AR$81,42-1,FALSE)-$G$143*SUMPRODUCT(PV_Uptake!$X$50:$X$80*(PV_Uptake!$D$50:$D$80=$D168)))*1.25%/5","v":-1.2914678091363663E-3}]
[null,null,null,"ES",null,null,5,0.05,{"$f":"ROUND(MAX(1,$G169-$G$142*VLOOKUP($D169,Cable_Charging!$D$51:$AQ$81,41-1,FALSE)-$G$143*SUMPRODUCT(PV_Uptake!$W$50:$W$80*(PV_Uptake!$D$50:$D$80=$D169))),0)","v":5},{"$f":"ROUND(MAX(1,$I169-$G$142*VLOOKUP($D169,Cable_Charging!$D$51:$AR$81,42-1,FALSE)-$G$143*SUMPRODUCT(PV_Uptake!$X$50:$X$80*(PV_Uptake!$D$50:$D$80=$D169))),0)","v":5},null,null,null,{"$f":"(-$G$142*VLOOKUP($D169,Cable_Charging!$D$51:$AQ$81,41-1,FALSE)-$G$143*SUMPRODUCT(PV_Uptake!$W$50:$W$80*(PV_Uptake!$D$50:$D$80=$D169)))*1.25%/3","v":-1.082605147004427E-3},{"$f":"(-$G$142*VLOOKUP($D169,Cable_Charging!$D$51:$AR$81,42-1,FALSE)-$G$143*SUMPRODUCT(PV_Uptake!$X$50:$X$80*(PV_Uptake!$D$50:$D$80=$D169)))*1.25%/5","v":-1.1692718136710935E-3}]
[null,null,null,"FT",null,null,6,6.25E-2,{"$f":"ROUND(MAX(1,$G170-$G$142*VLOOKUP($D170,Cable_Charging!$D$51:$AQ$81,41-1,FALSE)-$G$143*SUMPRODUCT(PV_Uptake!$W$50:$W$80*(PV_Uptake!$D$50:$D$80=$D170))),0)","v":6},{"$f":"ROUND(MAX(1,$I170-$G$142*VLOOKUP($D170,Cable_Charging!$D$51:$AR$81,42-1,FALSE)-$G$143*SUMPRODUCT(PV_Uptake!$X$50:$X$80*(PV_Uptake!$D$50:$D$80=$D170))),0)","v":6},null,null,null,{"$f":"(-$G$142*VLOOKUP($D170,Cable_Charging!$D$51:$AQ$81,41-1,FALSE)-$G$143*SUMPRODUCT(PV_Uptake!$W$50:$W$80*(PV_Uptake!$D$50:$D$80=$D170)))*1.25%/3","v":-7.8093329083258527E-4},{"$f":"(-$G$142*VLOOKUP($D170,Cable_Charging!$D$51:$AR$81,42-1,FALSE)-$G$143*SUMPRODUCT(PV_Uptake!$X$50:$X$80*(PV_Uptake!$D$50:$D$80=$D170)))*1.25%/5","v":-7.6359995749925177E-4}]
[null,null,null,"NS",null,null,6,6.25E-2,{"$f":"ROUND(MAX(1,$G171-$G$142*VLOOKUP($D171,Cable_Charging!$D$51:$AQ$81,41-1,FALSE)-$G$143*SUMPRODUCT(PV_Uptake!$W$50:$W$80*(PV_Uptake!$D$50:$D$80=$D171))),0)","v":6},{"$f":"ROUND(MAX(1,$I171-$G$142*VLOOKUP($D171,Cable_Charging!$D$51:$AR$81,42-1,FALSE)-$G$143*SUMPRODUCT(PV_Uptake!$X$50:$X$80*(PV_Uptake!$D$50:$D$80=$D171))),0)","v":6},null,null,null,{"$f":"(-$G$142*VLOOKUP($D171,Cable_Charging!$D$51:$AQ$81,41-1,FALSE)-$G$143*SUMPRODUCT(PV_Uptake!$W$50:$W$80*(PV_Uptake!$D$50:$D$80=$D171)))*1.25%/3","v":-6.7339873448576308E-4},{"$f":"(-$G$142*VLOOKUP($D171,Cable_Charging!$D$51:$AR$81,42-1,FALSE)-$G$143*SUMPRODUCT(PV_Uptake!$X$50:$X$80*(PV_Uptake!$D$50:$D$80=$D171)))*1.25%/5","v":-7.4539873448576299E-4}]
[null,null,null,"FF",null,null,6,6.25E-2,{"$f":"ROUND(MAX(1,$G172-$G$142*VLOOKUP($D172,Cable_Charging!$D$51:$AQ$81,41-1,FALSE)-$G$143*SUMPRODUCT(PV_Uptake!$W$50:$W$80*(PV_Uptake!$D$50:$D$80=$D172))),0)","v":6},{"$f":"ROUND(MAX(1,$I172-$G$142*VLOOKUP($D172,Cable_Charging!$D$51:$AR$81,42-1,FALSE)-$G$143*SUMPRODUCT(PV_Uptake!$X$50:$X$80*(PV_Uptake!$D$50:$D$80=$D172))),0)","v":6},null,null,null,{"$f":"(-$G$142*VLOOKUP($D172,Cable_Charging!$D$51:$AQ$81,41-1,FALSE)-$G$143*SUMPRODUCT(PV_Uptake!$W$50:$W$80*(PV_Uptake!$D$50:$D$80=$D172)))*1.25%/3","v":-4.0343405401644289E-4},{"$f":"(-$G$142*VLOOKUP($D172,Cable_Charging!$D$51:$AR$81,42-1,FALSE)-$G$143*SUMPRODUCT(PV_Uptake!$X$50:$X$80*(PV_Uptake!$D$50:$D$80=$D172)))*1.25%/5","v":-3.8576738734977625E-4}]
[null,null,null,"TH",null,null,6,6.25E-2,{"$f":"ROUND(MAX(1,$G173-$G$142*VLOOKUP($D173,Cable_Charging!$D$51:$AQ$81,41-1,FALSE)-$G$143*SUMPRODUCT(PV_Uptake!$W$50:$W$80*(PV_Uptake!$D$50:$D$80=$D173))),0)","v":6},{"$f":"ROUND(MAX(1,$I173-$G$142*VLOOKUP($D173,Cable_Charging!$D$51:$AR$81,42-1,FALSE)-$G$143*SUMPRODUCT(PV_Uptake!$X$50:$X$80*(PV_Uptake!$D$50:$D$80=$D173))),0)","v":6},null,null,null,{"$f":"(-$G$142*VLOOKUP($D173,Cable_Charging!$D$51:$AQ$81,41-1,FALSE)-$G$143*SUMPRODUCT(PV_Uptake!$W$50:$W$80*(PV_Uptake!$D$50:$D$80=$D173)))*1.25%/3","v":-6.2814949375083714E-4},{"$f":"(-$G$142*VLOOKUP($D173,Cable_Charging!$D$51:$AR$81,42-1,FALSE)-$G$143*SUMPRODUCT(PV_Uptake!$X$50:$X$80*(PV_Uptake!$D$50:$D$80=$D173)))*1.25%/5","v":-2.0748282708417054E-4}]
[]
[null,"End"]

{"sheet":"Cable_Charging","index":14,"n_rows":83,"n_cols":46,"rows_kept":83,"cut":false,"hidden":false,"merged":[[47,42,47,43]]}
[null,null,null,"Voltage PQ Management Strategy",null,null,null,"Section Check:",{"$f":"IF(COUNTA($A$8:$A$210)=COUNTIF($A$8:$A$210,0),\"Ok\",\"Check\")","v":"Ok"},null,null,"Overall Check:","Ok",null,"Legend:","Input","Internal","Select","Calculation"]
[null,null,null,{"$f":"RIGHT(CELL(\"filename\",D1),LEN(CELL(\"filename\",D1))-FIND(\"]\",CELL(\"filename\",D1)))","v":"Cable_Charging"},null,"Cable Charging"]
[]
[]
[]
[null,"Copyright Jemena Limited. All rights reserved. Jemena is not liable for any loss caused by reliance on this document."]
[]
[null,"Cable Charging"]
[]
[null,null,"Summary"]
[]
[]
[]
[]
[]
[]
[]
[]
[]
[]
[]
[]
[]
[]
[]
[]
[]
[]
[]
[]
[]
[]
[]
[]
[]
[]
[]
[]
[]
[null,null,"Inputs"]
[]
[null,null,null,"MVAr Conversion","Source","Unit"]
[]
[null,null,null,"Charging A/km","AM","A/km",null,null,null,1.2,{"$f":"F44","v":"A/km"}]
[null,null,null,"MVAr/km (22 kV)","AM","MVAr/km",null,null,null,{"$f":"SQRT(3)*22*J44/1000","v":4.5726141319818357E-2},{"$f":"F45","v":"MVAr/km"}]
[]
[null,null,null,"Zone Substation HV cable lengths (km)",null,null,null,null,null,null,null,null,null,null,null,null,null,null,null,null,null,null,null,null,"Zone Substation HV cable charging (MVAr)"]
[null,null,null,null,null,null,null,null,null,null,null,null,null,null,null,null,null,null,null,null,null,null,null,null,null,null,null,null,null,null,null,null,null,null,null,null,null,null,null,null,null,null,"Growth to"]
[null,null,null,"Neutral",{"$f":"PV_Uptake!F49","v":2023},{"$f":"PV_Uptake!G49","v":2024},{"$f":"PV_Uptake!H49","v":2025},{"$f":"PV_Uptake!I49","v":2026},{"$f":"PV_Uptake!J49","v":2027},{"$f":"PV_Uptake!K49","v":2028},{"$f":"PV_Uptake!L49","v":2029},{"$f":"PV_Uptake!M49","v":2030},{"$f":"PV_Uptake!N49","v":2031},{"$f":"PV_Uptake!O49","v":2032},{"$f":"PV_Uptake!P49","v":2033},{"$f":"PV_Uptake!Q49","v":2034},{"$f":"PV_Uptake!R49","v":2035},{"$f":"PV_Uptake!S49","v":2036},{"$f":"PV_Uptake!T49","v":2037},{"$f":"PV_Uptake!U49","v":2038},{"$f":"PV_Uptake!V49","v":2039},"kV",2022,null,{"$f":"D49","v":"Neutral"},2023,2024,2025,2026,2027,2028,2029,2030,2031,2032,2033,2034,2035,2036,2037,2038,2039,{"$f":"AD49","v":2027},{"$f":"AI49","v":2032},null,"Check"]
[]
[null,null,null,"COO",146.83239500000002,152,158,162.33108745825942,166.80259069474181,171.41450970944715,176.16684450237543,181.05959507352668,186.09276142290085,191.26634355049796,196.58034145631805,201.89433936213814,207.20833726795823,212.52233517377832,217.8363330795984,223.15033098541849,228.46432889123858,22,102.81061800000001,null,{"$f":"D51","v":"COO"},{"$f":"E51*$J$45*($V51/22)^2","v":6.7140788440973909},{"$f":"F51*$J$45*($V51/22)^2","v":6.9503734806123907},{"$f":"G51*$J$45*($V51/22)^2","v":7.2247303285313},{"$f":"H51*$J$45*($V51/22)^2","v":7.4227742457161634},{"$f":"I51*$J$45*($V51/22)^2","v":7.6272388346195825},{"$f":"J51*$J$45*($V51/22)^2","v":7.8381240952415565},{"$f":"K51*$J$45*($V51/22)^2","v":8.0554300275820836},{"$f":"L51*$J$45*($V51/22)^2","v":8.2791566316411682},{"$f":"M51*$J$45*($V51/22)^2","v":8.5093039074188059},{"$f":"N51*$J$45*($V51/22)^2","v":8.7458718549149985},{"$f":"O51*$J$45*($V51/22)^2","v":8.988860474129746},{"$f":"P51*$J$45*($V51/22)^2","v":9.2318490933444952},{"$f":"Q51*$J$45*($V51/22)^2","v":9.4748377125592427},{"$f":"R51*$J$45*($V51/22)^2","v":9.7178263317739901},{"$f":"S51*$J$45*($V51/22)^2","v":9.9608149509887394},{"$f":"T51*$J$45*($V51/22)^2","v":10.203803570203487},{"$f":"U51*$J$45*($V51/22)^2","v":10.446792189418236},{"$f":"AD51-AA51","v":0.67686535400719183},{"$f":"AI51-AD51","v":1.118633020295416},null,{"$f":"W51>E51","v":false}]
[null,null,null,"ST",116,{"$f":"E52+MAX(0,$E52-$W52)","v":121},{"$f":"F52+MAX(0,$E52-$W52)","v":126},131,136,141,146,151,156,161,166,171,176,181,186,191,196,22,111,null,"ST",5.3042323930989292,5.5328630996980213,5.7614938062971133,5.9901245128962044,6.2187552194952964,6.4473859260943884,6.6760166326934804,6.9046473392925716,7.1332780458916636,7.3619087524907556,7.5905394590898476,7.8191701656889387,8.0478008722880308,8.2764315788871219,8.5050622854862148,8.7336929920853059,8.9623236986843988,{"$f":"AD52-AA52","v":0.68589211979727516},{"$f":"AI52-AD52","v":1.1431535329954592},null,false]
[null,null,null,"KLO",76.424530000000004,{"$f":"E53+MAX(0,$E53-$W53)+4","v":81.709024000000014},86.993518000000023,92.278012000000032,97.562506000000042,102.84700000000005,108.13149400000006,{"$f":"K53+MAX(0,$E53-$W53)+2","v":111.41598800000007},114.70048200000008,117.98497600000009,121.2694700000001,124.55396400000011,127.83845800000012,{"$f":"Q53+MAX(0,$E53-$W53)","v":129.12295200000011},{"$f":"R53+MAX(0,$E53-$W53)","v":130.40744600000011},{"$f":"S53+MAX(0,$E53-$W53)","v":131.6919400000001},{"$f":"T53+MAX(0,$E53-$W53)","v":132.9764340000001},22,75.140035999999995,null,"KLO",3.494598859080698,3.7362383785284305,3.9778778979761631,4.2195174174238961,4.4611569368716282,4.7027964563193612,4.9444359757670933,5.0946232125751898,5.2448104493832854,5.3949976861913811,5.5451849229994767,5.6953721598075733,5.8455593966156689,5.9042943507841272,5.9630293049525864,6.0217642591210447,6.080499213289503,0.72491855834319763,0.93384074931975292,null,false]
[null,null,null,"SHM",90.635358999999994,99,102.92552763974017,105.35204707425292,107.37582246516835,108.73685381248649,110.08514111620732,111.42068437633084,112.74348359285705,114.05353876578596,115.35084989511753,116.64816102444911,117.94547215378068,119.24278328311226,120.54009441244384,121.83740554177541,123.13471667110699,22,88.502043000000015,null,"SHM",4.1444052342064701,4.5268879906620176,4.706387222271629,4.8173425928494451,4.9098820323740151,4.9721167441021867,5.0337687198918424,5.0948379597429811,5.1553244636556039,5.2152282316297098,5.2745492636652989,5.3338702957008879,5.393191327736476,5.4525123597720651,5.5118333918076541,5.5711544238432431,5.6304754558788312,0.38299404171199747,0.30534619925569473,null,false]
[null,null,null,"SBY",72.27306999999999,{"$f":"E55+MAX(0,$E55-$W55)","v":75.237279999999984},78.201489999999978,81.165699999999973,84.129909999999967,87.094119999999961,90.058329999999955,93.02253999999995,95.986749999999944,98.950959999999938,101.91516999999993,104.87937999999993,107.84358999999992,110.80779999999992,113.77200999999991,116.7362199999999,119.7004299999999,22,69.308859999999996,null,"SBY",3.3047686124371243,3.4403104977987424,3.575852383160361,3.7113942685219796,3.8469361538835982,3.9824780392452168,4.118019924606835,4.2535618099684536,4.3891036953300722,4.5246455806916908,4.6601874660533094,4.795729351414928,4.9312712367765466,5.0668131221381643,5.2023550074997829,5.3378968928614015,5.4734387782230201,0.40662565608485579,0.67770942680809254,null,false]
[null,null,null,"BD",47.133100000000006,{"$f":"E56+MAX(0,$E56-$W56)","v":49.266200000000012},51.399300000000018,53.532400000000024,55.66550000000003,57.798600000000036,59.931700000000042,62.064800000000048,64.197900000000061,66.331000000000074,68.464100000000087,70.5972000000001,72.730300000000113,74.863400000000127,76.99650000000014,79.129600000000153,81.262700000000166,22,45,null,"BD",2.1552147914411308,2.2527532234904357,2.3502916555397406,2.4478300875890455,2.54536851963835,2.6429069516876549,2.7404453837369598,2.8379838157862647,2.9355222478355696,3.0330606798848749,3.1305991119341798,3.2281375439834852,3.3256759760327901,3.4232144080820954,3.5207528401314003,3.6182912721807057,3.7158297042300106,0.29261529614791426,0.48769216024652495,null,false]
[null,null,null,"YVE",38.999806000000007,{"$f":"E57+MAX(0,$E57-$W57)","v":41.071186000000012},43.142566000000016,45.213946000000021,47.285326000000026,49.356706000000031,51.428086000000036,53.499466000000041,55.570846000000046,57.642226000000051,59.713606000000055,61.78498600000006,63.856366000000065,65.92774600000007,67.999126000000075,70.07050600000008,72.141886000000085,22,36.928426000000002,null,"YVE",1.7833106406015002,1.8780268552085457,1.9727430698155914,2.0674592844226369,2.1621754990296824,2.2568917136367279,2.3516079282437734,2.4463241428508193,2.5410403574578648,2.6357565720649103,2.7304727866719558,2.8251890012790013,2.9199052158860472,3.0146214304930927,3.1093376451001382,3.2040538597071837,3.2987700743142292,0.28414864382113669,0.4735810730352279,null,false]
[null,null,null,"AW",46.950377000000003,{"$f":"E58+MAX(0,$E58-$W58)","v":47.900754000000006},48.851131000000009,49.801508000000013,50.751885000000016,51.702262000000019,52.652639000000022,53.603016000000025,54.553393000000028,55.503770000000031,56.454147000000034,57.404524000000038,58.354901000000041,59.305278000000044,60.255655000000047,61.20603200000005,62.156409000000053,22,46,null,"AW",2.1468595737207496,2.1903166467298547,2.2337737197389598,2.2772307927480648,2.3206878657571703,2.3641449387662754,2.4076020117753805,2.4510590847844855,2.494516157793591,2.5379732308026961,2.5814303038118012,2.6248873768209062,2.6683444498300113,2.7118015228391168,2.7552585958482219,2.7987156688573269,2.842172741866432,0.13037121902731563,0.21728536504552576,null,false]
[null,null,null,"FE",16.63447,{"$f":"E59+MAX(0,$E59-$W59)","v":18.874827},21.115183999999999,23.355540999999999,25.595897999999998,27.836254999999998,30.076611999999997,32.316969,34.557326000000003,36.797683000000006,39.038040000000009,41.278397000000012,43.518754000000015,45.759111000000019,47.999468000000022,50.239825000000025,52.480182000000028,22,14.394113000000001,null,"FE",0.76063012600027891,0.86307300678912313,0.96551588757796747,1.0679587683668117,1.1704016491556559,1.2728445299445001,1.3752874107333446,1.477730291522189,1.5801731723110335,1.6826160530998777,1.7850589338887222,1.8875018146775666,1.9899446954664111,2.0923875762552555,2.1948304570441,2.2972733378329444,2.3997162186217889,0.30732864236653279,0.5122144039442218,null,false]
[null,null,null,"NH",34.682274999999997,{"$f":"E60+MAX(0,$E60-$W60)","v":34.872661999999991},35.063048999999985,35.253435999999979,35.443822999999973,35.634209999999968,35.824596999999962,36.014983999999956,36.20537099999995,36.395757999999944,36.586144999999938,36.776531999999932,36.966918999999926,37.15730599999992,37.347692999999914,37.538079999999908,37.728466999999902,22,34.491888000000003,null,"NH",1.5858866079428031,1.5945922708102591,1.6032979336777151,1.6120035965451711,1.6207092594126271,1.6294149222800831,1.6381205851475391,1.6468262480149949,1.6555319108824509,1.6642375737499069,1.6729432366173629,1.6816488994848189,1.6903545623522749,1.6990602252197309,1.7077658880871869,1.7164715509546429,1.7251772138220989,2.6116988602367996E-2,4.3528314337279772E-2,null,false]
[null,null,null,"TMA",28.433087,{"$f":"E61+MAX(0,$E61-$W61)","v":28.866174000000001},29.299261000000001,29.732348000000002,30.165435000000002,30.598522000000003,31.031609000000003,31.464696000000004,31.897783000000004,32.330870000000004,32.763957000000005,33.197044000000005,33.630131000000006,34.063218000000006,34.496305000000007,34.929392000000007,35.362479000000008,22,28,null,"TMA",1.3001353543206902,1.3199387516864665,1.3397421490522425,1.3595455464180188,1.3793489437837949,1.3991523411495712,1.4189557385153473,1.4387591358811236,1.4585625332468997,1.478365930612676,1.498169327978452,1.5179727253442283,1.5377761227100044,1.5575795200757807,1.577382917441557,1.5971863148073331,1.6169897121731094,5.9410192097328451E-2,9.9016986828881048E-2,null,false]
[null,null,null,"FW",9.989255,{"$f":"E62+MAX(0,$E62-$W62)","v":11.373447000000001},12.757639000000001,14.141831000000002,15.526023000000002,16.910215000000001,18.294407,19.678598999999998,21.062790999999997,22.446982999999996,23.831174999999995,25.215366999999993,26.599558999999992,27.983750999999991,29.36794299999999,30.752134999999988,32.136326999999987,22,8.6050629999999995,null,"FW",0.45677008580970213,0.52006384481546419,0.58335760382122614,0.64665136282698821,0.70994512183275027,0.77323888083851222,0.83653263984427417,0.89982639885003612,0.96312015785579808,1.02641391686156,1.0897076758673221,1.1530014348730839,1.216295193878846,1.2795889528846078,1.3428827118903699,1.4061764708961317,1.4694702299018938,0.18988127701728608,0.31646879502880976,null,false]
[null,null,null,"BMS",12,{"$f":"E63+MAX(0,$E63-$W63)","v":12.944640999999999},13.889281999999998,14.833922999999997,15.778563999999996,16.723204999999993,17.66784599999999,18.612486999999987,19.557127999999985,20.501768999999982,21.446409999999979,22.391050999999976,23.335691999999973,24.28033299999997,25.224973999999968,26.169614999999965,27.114255999999962,22,11.055359000000001,null,"BMS",0.54871369583782026,0.59190848370031479,0.63510327156280921,0.67829805942530375,0.72149284728779828,0.76468763515029259,0.80788242301278701,0.85107721087528143,0.89427199873777585,0.93746678660027027,0.9806615744627647,1.023856362325259,1.0670511501877535,1.1102459380502478,1.1534407259127422,1.1966355137752367,1.239830301637731,0.12958436358748349,0.215973939312472,null,false]
[null,null,null,"CN",17.239027999999998,{"$f":"E64+MAX(0,$E64-$W64)","v":17.478055999999995},17.717083999999993,17.95611199999999,18.195139999999988,18.434167999999985,18.673195999999983,18.912223999999981,19.151251999999978,19.390279999999976,19.629307999999973,19.868335999999971,20.107363999999968,20.346391999999966,20.585419999999964,20.824447999999961,21.063475999999959,22,17,null,"CN",0.78827423054430545,0.79920405865169897,0.81013388675909237,0.82106371486648577,0.83199354297387929,0.84292337108127269,0.85385319918866609,0.86478302729605949,0.87571285540345301,0.88664268351084641,0.89757251161823981,0.90850233972563321,0.91943216783302673,0.93036199594042013,0.94129182404781353,0.95222165215520693,0.96315148026260045,3.2789484322180318E-2,5.4649140536967122E-2,null,false]
[null,null,null,"BY",16.474688,{"$f":"E65+MAX(0,$E65-$W65)","v":16.700708000000002},16.926728000000004,17.152748000000006,17.378768000000008,17.60478800000001,17.830808000000012,18.056828000000014,18.282848000000016,18.508868000000017,18.734888000000019,18.960908000000021,19.186928000000023,19.412948000000025,19.638968000000027,19.864988000000029,20.091008000000031,22,16.248667999999999,null,"BY",0.75332391168791568,0.76365893414902108,0.77399395661012649,0.784328979071232,0.79466400153233741,0.80499902399344281,0.81533404645454821,0.82566906891565373,0.83600409137675913,0.84633911383786453,0.85667413629896993,0.86700915876007545,0.87734418122118085,0.88767920368228626,0.89801422614339166,0.90834924860449717,0.91868427106560258,3.100506738331632E-2,5.1675112305527127E-2,null,false]
[null,null,null,"NT",17.147680000000001,{"$f":"E66+MAX(0,$E66-$W66)","v":17.295360000000002},17.443040000000003,17.590720000000005,17.738400000000006,17.886080000000007,18.033760000000008,18.181440000000009,18.32912000000001,18.476800000000011,18.624480000000013,18.772160000000014,18.919840000000015,19.067520000000016,19.215200000000017,19.362880000000018,19.510560000000019,22,17,null,"NT",0.78409723898702288,0.79085007553713371,0.79760291208724454,0.80435574863735537,0.8111085851874662,0.81786142173757703,0.82461425828768786,0.83136709483779869,0.83811993138790952,0.84487276793802035,0.85162560448813118,0.85837844103824201,0.86513127758835284,0.87188411413846367,0.8786369506885745,0.88538978723868533,0.89214262378879616,2.025850965033249E-2,3.376418275055415E-2,null,false]
[null,null,null,"FT",35.620919999999998,{"$f":"E67+MAX(0,$E67-$W67)","v":39.165499999999994},42.710079999999991,46.254659999999987,49.799239999999983,53.34381999999998,56.888399999999976,60.432979999999972,63.977559999999968,67.522139999999965,71.066719999999961,74.611299999999957,78.155879999999954,81.70045999999995,85.245039999999946,88.789619999999942,92.334199999999939,11,32.076340000000002,null,"FT",0.40720180546548601,0.44772179696533643,0.48824178846518679,0.52876177996503715,0.56928177146488756,0.60980176296473798,0.6503217544645884,0.69084174596443881,0.73136173746428912,0.77188172896413954,0.81240172046398995,0.85292171196384037,0.89344170346369078,0.9339616949635412,0.97448168646339151,1.015001677963242,1.0555216694630924,0.12155997449955114,0.20259995749925197,null,false]
[null,null,null,"TT",10.017883000000001,{"$f":"E68+MAX(0,$E68-$W68)","v":10.435166000000002},10.852449000000004,11.269732000000005,11.687015000000006,12.104298000000007,12.521581000000008,12.938864000000009,13.356147000000011,13.773430000000012,14.190713000000013,14.607996000000014,15.025279000000015,15.442562000000017,15.859845000000018,16.277128000000019,16.69441100000002,22,9.6006,null,"TT",0.45807913378340592,0.47715987521176373,0.49624061664012159,0.51532135806847934,0.53440209949683726,0.55348284092519506,0.57256358235355287,0.59164432378191067,0.61072506521026848,0.62980580663862629,0.64888654806698409,0.6679672894953419,0.6870480309236997,0.70612877235205762,0.72520951378041543,0.74429025520877323,0.76337099663713104,5.7242224285073529E-2,9.5403707141789029E-2,null,false]
[null,null,null,"PTN",9.0536699999999986,{"$f":"E69+MAX(0,$E69-$W69)","v":9.5021799999999974},9.9506899999999963,10.399199999999995,10.847709999999994,11.296219999999993,11.744729999999992,12.193239999999991,12.641749999999989,13.090259999999988,13.538769999999987,13.987279999999986,14.435789999999985,14.884299999999984,15.332809999999983,15.781319999999981,16.229829999999978,22,8.6051599999999997,null,"PTN",0.41398939388299982,0.43449802552635147,0.45500665716970318,0.47551528881305483,0.49602392045640653,0.51653255209975824,0.53704118374310983,0.55754981538646153,0.57805844702981324,0.59856707867316494,0.61907571031651654,0.63958434195986824,0.66009297360321995,0.68060160524657165,0.70111023688992336,0.72161886853327495,0.74212750017662654,6.1525894930055058E-2,0.10254315821675841,null,false]
[null,null,null,"CS",11.619751000000001,{"$f":"E70+MAX(0,$E70-$W70)","v":11.739502000000002},11.859253000000002,11.979004000000003,12.098755000000004,12.218506000000005,12.338257000000006,12.458008000000007,12.577759000000007,12.697510000000008,12.817261000000009,12.93701200000001,13.056763000000011,13.176514000000012,13.296265000000012,13.416016000000013,13.535767000000014,22,11.5,null,"CS",0.53132637632710067,0.5368021274762903,0.54227787862547994,0.54775362977466957,0.55322938092385909,0.55870513207304873,0.56418088322223836,0.56965663437142799,0.57513238552061752,0.58060813666980715,0.58608388781899678,0.59155963896818642,0.59703539011737594,0.60251114126656558,0.60798689241575521,0.61346264356494484,0.61893839471413437,1.642725344756879E-2,2.7378755745948058E-2,null,false]
[null,null,null,"TH",11.593963,{"$f":"E71+MAX(0,$E71-$W71)","v":11.687926000000001},11.781889000000001,11.875852000000002,11.969815000000002,12.063778000000003,12.157741000000003,12.251704000000004,12.345667000000004,12.439630000000005,12.533593000000005,12.627556000000006,12.721519000000006,12.815482000000006,12.909445000000007,13.003408000000007,13.097371000000008,22,11.5,null,"TH",0.53014719059474524,0.53444375601157934,0.53874032142841344,0.54303688684524754,0.54733345226208163,0.55163001767891584,0.55592658309574994,0.56022314851258403,0.56451971392941813,0.56881627934625223,0.57311284476308633,0.57740941017992042,0.58170597559675463,0.58600254101358873,0.59029910643042283,0.59459567184725692,0.59889223726409102,1.2889696250502292E-2,2.1482827084170597E-2,null,false]
[null,null,null,"SA",8.2072019999999988,{"$f":"E72+MAX(0,$E72-$W72)","v":8.3144039999999979},8.421605999999997,8.5288079999999962,8.6360099999999953,8.7432119999999944,8.8504139999999936,8.9576159999999927,9.0648179999999918,9.172019999999991,9.2792219999999901,9.3864239999999892,9.4936259999999884,9.6008279999999875,9.7080299999999866,9.8152319999999857,9.9224339999999849,22,8.1,null,"SA",0.37528367849229582,0.38018561229406295,0.38508754609583007,0.38998947989759719,0.39489141369936431,0.39979334750113144,0.40469528130289856,0.40959721510466568,0.4144991489064328,0.41940108270819998,0.4243030165099671,0.42920495031173422,0.43410688411350135,0.43900881791526847,0.44391075171703559,0.44881268551880271,0.45371461932056983,1.4705801405301366E-2,2.4509669008835666E-2,null,false]
[null,null,null,"EPN",4.4782790000000006,{"$f":"E73+MAX(0,$E73-$W73)","v":4.911099000000001},5.3439190000000014,5.7767390000000018,6.2095590000000023,6.6423790000000027,7.0751990000000031,7.5080190000000036,7.940839000000004,8.3736590000000035,8.8064790000000031,9.2392990000000026,9.6721190000000021,10.104939000000002,10.537759000000001,10.970579000000001,11.403399,22,4.0454590000000001,null,"EPN",0.20477441842357486,0.22456560690961866,0.24435679539566246,0.26414798388170624,0.28393917236775007,0.30373036085379385,0.32352154933983768,0.34331273782588145,0.36310392631192528,0.38289511479796901,0.40268630328401278,0.42247749177005656,0.44226868025610033,0.46205986874214405,0.48185105722818783,0.50164224571423155,0.52143343420027533,5.9373565458131411E-2,9.8955942430218935E-2,null,false]
[null,null,null,"ES",17.232171000000001,{"$f":"E74+MAX(0,$E74-$W74)","v":18.881500000000003},20.530829000000004,22.180158000000006,23.829487000000007,25.478816000000009,27.128145000000011,28.777474000000012,30.426803000000014,32.076132000000015,33.725461000000017,35.374790000000019,37.02411900000002,38.673448000000022,40.322777000000023,41.972106000000025,43.621435000000027,11,15.582841999999999,null,"ES",0.19699017159831891,0.21584453433253761,0.23469889706675631,0.25355325980097498,0.27240762253519368,0.29126198526941238,0.31011634800363108,0.32897071073784978,0.34782507347206842,0.36667943620628712,0.38553379894050582,0.40438816167472452,0.42324252440894322,0.44209688714316192,0.46095124987738062,0.47980561261159926,0.49865997534581796,5.656308820265607E-2,9.4271813671093441E-2,null,false]
[null,null,null,"NS",14.496848999999997,{"$f":"E75+MAX(0,$E75-$W75)","v":14.993697999999995},15.490546999999992,15.98739599999999,16.484244999999987,16.981093999999985,17.477942999999982,17.974791999999979,18.471640999999977,18.968489999999974,19.465338999999972,19.962187999999969,20.459036999999967,20.955885999999964,21.452734999999961,21.949583999999959,22.446432999999956,11,14,null,"NS",0.16572124151651682,0.17140098841366941,0.177080735310822,0.18276048220797456,0.18844022910512714,0.19411997600227973,0.19979972289943229,0.20547946979658488,0.21115921669373747,0.21683896359089003,0.22251871048804261,0.2281984573851952,0.23387820428234776,0.23955795117950035,0.24523769807665294,0.25091744497380553,0.25659719187095809,1.7039240691457735E-2,2.8398734485762883E-2,null,false]
[null,null,null,"PV",7.5769859999999998,{"$f":"E76+MAX(0,$E76-$W76)","v":7.6026660000000001},7.6283460000000005,7.6540260000000009,7.6797060000000013,7.7053860000000016,7.731066000000002,7.7567460000000024,7.7824260000000027,7.8081060000000031,7.8337860000000035,7.8594660000000038,7.8851460000000042,7.9108260000000046,7.9365060000000049,7.9621860000000053,7.9878660000000057,11,7.5513059999999994,null,"PV",8.6616583153571305E-2,8.6910144980844539E-2,8.7203706808117773E-2,8.7497268635391021E-2,8.7790830462664254E-2,8.8084392289937488E-2,8.8377954117210736E-2,8.867151594448397E-2,8.8965077771757203E-2,8.9258639599030437E-2,8.9552201426303685E-2,8.9845763253576919E-2,9.0139325080850152E-2,9.04328869081234E-2,9.0726448735396634E-2,9.1020010562669867E-2,9.1313572389943115E-2,8.8068548181971518E-4,1.4678091363661827E-3,null,false]
[null,null,null,"WT",1.5371079999999999,{"$f":"E77+MAX(0,$E77-$W77)","v":1.5742159999999998},1.6113239999999998,1.6484319999999997,1.6855399999999996,1.7226479999999995,1.7597559999999994,1.7968639999999994,1.8339719999999993,1.8710799999999992,1.9081879999999991,1.945295999999999,1.9824039999999989,2.0195119999999989,2.0566199999999988,2.0937279999999987,2.1308359999999986,22,1.5,null,"WT",7.028601763182335E-2,7.1982823283919167E-2,7.3679628936014985E-2,7.5376434588110802E-2,7.707324024020662E-2,7.8770045892302437E-2,8.0466851544398241E-2,8.2163657196494058E-2,8.3860462848589876E-2,8.5557268500685693E-2,8.7254074152781511E-2,8.8950879804877328E-2,9.0647685456973146E-2,9.2344491109068963E-2,9.404129676116478E-2,9.5738102413260584E-2,9.7434908065356401E-2,5.0904169562874524E-3,8.4840282604790734E-3,null,false]
[null,null,null,"HB",6.8733880000000003,{"$f":"E78+MAX(0,$E78-$W78)","v":6.8769880000000008},6.8805880000000013,6.8841880000000018,6.8877880000000022,6.8913880000000027,6.8949880000000032,6.8985880000000037,6.9021880000000042,6.9057880000000047,6.9093880000000052,6.9129880000000057,6.9165880000000062,6.9201880000000067,6.9237880000000072,6.9273880000000077,6.9309880000000081,11,6.8697879999999998,null,"HB",7.8573377758485913E-2,7.8614531285673764E-2,7.8655684812861601E-2,7.8696838340049438E-2,7.8737991867237289E-2,7.8779145394425126E-2,7.8820298921612977E-2,7.8861452448800815E-2,7.8902605975988652E-2,7.8943759503176503E-2,7.898491303036434E-2,7.9026066557552177E-2,7.9067220084740028E-2,7.9108373611927865E-2,7.9149527139115702E-2,7.9190680666303553E-2,7.9231834193491391E-2,1.2346058156352535E-4,2.0576763593921354E-4,null,false]
[null,null,null,"FF",6.1391630000000008,{"$f":"E79+MAX(0,$E79-$W79)","v":6.9540330000000017},7.7689030000000026,8.5837730000000043,9.3986430000000052,10.213513000000006,11.028383000000007,11.843253000000008,12.658123000000009,13.47299300000001,14.28786300000001,15.102733000000011,15.917603000000012,16.732473000000013,17.547343000000012,18.362213000000011,19.17708300000001,6.6,5.3242929999999999,null,"FF",2.5264821143106003E-2,2.8618298613061244E-2,3.1971776083016483E-2,3.5325253552971725E-2,3.867873102292696E-2,4.2032208492882195E-2,4.5385685962837437E-2,4.8739163432792672E-2,5.2092640902747907E-2,5.5446118372703156E-2,5.8799595842658391E-2,6.2153073312613633E-2,6.5506550782568868E-2,6.8860028252524103E-2,7.2213505722479338E-2,7.5566983192434573E-2,7.8920460662389794E-2,1.0060432409865715E-2,1.6767387349776196E-2,null,false]
[null,null,null,"EP B",4,{"$f":"E80+MAX(0,$E80-$W80)","v":4},4,4,4,4,4,4,4,4,4,4,4,4,4,4,4,6.6,4,null,"EP B",1.6461410875134606E-2,1.6461410875134606E-2,1.6461410875134606E-2,1.6461410875134606E-2,1.6461410875134606E-2,1.6461410875134606E-2,1.6461410875134606E-2,1.6461410875134606E-2,1.6461410875134606E-2,1.6461410875134606E-2,1.6461410875134606E-2,1.6461410875134606E-2,1.6461410875134606E-2,1.6461410875134606E-2,1.6461410875134606E-2,1.6461410875134606E-2,1.6461410875134606E-2,0,0,null,false]
[null,null,null,"EP A",4,{"$f":"E81+MAX(0,$E81-$W81)","v":4},4,4,4,4,4,4,4,4,4,4,4,4,4,4,4,6.6,4,null,"EP A",1.6461410875134606E-2,1.6461410875134606E-2,1.6461410875134606E-2,1.6461410875134606E-2,1.6461410875134606E-2,1.6461410875134606E-2,1.6461410875134606E-2,1.6461410875134606E-2,1.6461410875134606E-2,1.6461410875134606E-2,1.6461410875134606E-2,1.6461410875134606E-2,1.6461410875134606E-2,1.6461410875134606E-2,1.6461410875134606E-2,1.6461410875134606E-2,1.6461410875134606E-2,0,0,null,false]
[]
[null,"End"]

{"sheet":"PV_Uptake","index":15,"n_rows":114,"n_cols":26,"rows_kept":114,"cut":false,"hidden":false,"merged":[]}
[null,null,null,"Voltage PQ Management Strategy",null,null,null,"Section Check:",{"$f":"IF(COUNTA($A$8:$A$241)=COUNTIF($A$8:$A$241,0),\"Ok\",\"Check\")","v":"Ok"},null,null,"Overall Check:","Ok",null,"Legend:","Input","Internal","Select","Calculation"]
[null,null,null,{"$f":"RIGHT(CELL(\"filename\",D1),LEN(CELL(\"filename\",D1))-FIND(\"]\",CELL(\"filename\",D1)))","v":"PV_Uptake"},"Solar PV Uptake"]
[]
[]
[]
[null,"Copyright Jemena Limited. All rights reserved. Jemena is not liable for any loss caused by reliance on this document."]
[]
[null,"Solar PV Uptake"]
[]
[null,null,"Inputs"]
[]
[null,null,"Source: 2023 JEN Uptakes forecast"]
[null,null,null,"PV",null,2023,{"$f":"F13+1","v":2024},2025,2026,2027,2028,2029,2030,2031,2032,2033,2034,2035,2036,2037,2038,2039]
[null,null,null,"Strong",null,327.99975999999998,379.05180000000001,436.13076999999998,492.05038000000002,547.97002999999995,602.80944999999997,643.02499999999998,673.93460000000005,696.11959999999999,715.72889999999995,734.09180000000003,752.03925000000004,767.32780000000002,781.95165999999995,798.2373,817.34799999999996,836.62494000000004]
[null,null,null,"Neutral",null,327.99975999999998,379.05180000000001,436.13076999999998,500.13709999999998,564.14340000000004,625.65070000000003,682.72437000000002,736.65409999999997,788.24609999999996,828.47170000000006,864.58605999999997,902.47393999999997,944.15060000000005,989.37419999999997,1040.9662000000001,1094.4929,1154.3073999999999]
[null,null,null,"Weak",null,327.99975999999998,379.05180000000001,436.13076999999998,504.3537,572.57665999999995,644.66125,716.50450000000001,785.77329999999995,854.39850000000001,905.64620000000002,951.58399999999995,1000.3376500000001,1051.4244000000001,1114.4179999999999,1189.3184000000001,1262.288,1342.4982]
[]
[null,null,null,"Strong",null,327.99975999999998,379.05180000000001,436.13076999999998,492.05038000000002,547.97002999999995,602.80944999999997,643.02499999999998,673.93460000000005,696.11959999999999,715.72889999999995,734.09180000000003,752.03925000000004,767.32780000000002,781.95165999999995,798.2373,817.34799999999996,836.62494000000004]
[null,null,null,"Neutral",null,327.99975999999998,379.05180000000001,436.13076999999998,500.13709999999998,564.14340000000004,625.65070000000003,682.72437000000002,736.65409999999997,788.24609999999996,828.47170000000006,864.58605999999997,902.47393999999997,944.15060000000005,989.37419999999997,1040.9662000000001,1094.4929,1154.3073999999999]
[null,null,null,"Weak",null,327.99975999999998,379.05180000000001,436.13076999999998,504.3537,572.57665999999995,644.66125,716.50450000000001,785.77329999999995,854.39850000000001,905.64620000000002,951.58399999999995,1000.3376500000001,1051.4244000000001,1114.4179999999999,1189.3184000000001,1262.288,1342.4982]
[]
[]
[]
[]
[]
[]
[]
[]
[]
[]
[]
[]
[]
[]
[]
[]
[]
[]
[]
[]
[]
[]
[]
[]
[]
[]
[]
[]
[null,null,null,"Neutral",null,{"$f":"F13","v":2023},{"$f":"G13","v":2024},2025,2026,2027,2028,2029,2030,2031,2032,2033,2034,2035,2036,2037,2038,{"$f":"V13","v":2039},"1-3yr Growth","4-8 yr Growth","1-3yr Growth %pa","4-8 yr Growth %pa"]
[null,null,null,"ST",null,39.61,44.41,50.4,56.34,61.56,66.040000000000006,69.8,73.05,75.94,78.040000000000006,79.819999999999993,81.59,83.43,85.35,87.44,89.52,null,{"$f":"J50-G50","v":17.150000000000006},{"$f":"O50-G50-W50","v":16.480000000000004},{"$f":"W50/G50/3","v":0.12872476169031002},{"$f":"X50/J50/5","v":5.3541260558804427E-2}]
[null,null,null,"SHM",null,22.58,26.36,31.02,36.29,41.43,46.12,50.2,53.76,56.91,59.17,61.05,62.89,64.77,66.69,68.77,70.81,null,{"$f":"J51-G51","v":15.07},{"$f":"O51-G51-W51","v":17.740000000000002},{"$f":"W51/G51/3","v":0.19056651492159837},{"$f":"X51/J51/5","v":8.5638426261163414E-2}]
[null,null,null,"SBY",null,21.37,25.45,29.59,34.200000000000003,38.840000000000003,43.27,47.3,50.99,54.37,56.88,59,61.11,63.3,65.53,67.94,70.3,null,13.390000000000004,18.04,0.17537655533726268,9.2893923789907296E-2]
[null,null,null,"COO",null,23.51,26.55,29.8,34.54,39.1,43.25,46.84,50.01,52.84,54.9,56.66,58.43,60.33,62.35,64.66,67.06,null,12.55,15.799999999999997,0.15756434400502198,8.081841432225062E-2]
[null,null,null,"BD",null,26,29.23,33.06,36.85,40.51,43.91,46.94,49.67,52.14,53.96,55.49,56.99,58.52,60.08,61.73,63.32,null,11.279999999999998,13.450000000000003,0.12863496407800204,6.6403357195754159E-2]
[null,null,null,"AW",null,18.02,20.57,23.13,26.93,30.84,34.74,38.479999999999997,42.15,45.8,48.76,51.51,54.52,57.96,61.83,66.42,71.36,null,10.27,17.919999999999998,0.16642359423108086,0.11621271076523994]
[null,null,null,"CN",null,15.17,17.809999999999999,20.02,23.5,27.08,30.6,33.97,37.25,40.46,43.02,45.35,47.83,50.56,53.51,56.86,60.3,null,9.27,15.940000000000005,0.17349803481190343,0.11772525849335307]
[null,null,null,"KLO",null,25.18,29.21,34.270000000000003,36.479999999999997,38.24,39.520000000000003,40.4,41.01,41.43,41.66,41.81,41.93,42.02,42.09,42.15,42.2,null,9.0300000000000011,3.4199999999999946,0.10304690174597742,1.7887029288702901E-2]
[null,null,null,"CS",null,13.91,16.07,18.61,21.82,25.23,28.69,32.06,35.380000000000003,38.68,41.33,43.78,46.41,49.37,52.63,56.4,60.34,null,9.16,16.099999999999998,0.19000207425845261,0.12762584225128812]
[null,null,null,"NH",null,11.02,12.67,14.52,16.89,19.399999999999999,21.95,24.43,26.88,29.31,31.26,33.049999999999997,34.97,37.090000000000003,39.42,42.07,44.83,null,6.7299999999999986,11.860000000000005,0.17705866877137591,0.12226804123711346]
[null,null,null,"PV",null,9.7799999999999994,11.37,12.93,15.3,17.850000000000001,20.49,23.12,25.78,28.5,30.75,32.880000000000003,35.229999999999997,37.94,41,44.62,48.49,null,6.4800000000000022,12.9,0.18997361477572569,0.14453781512605041]
[null,null,null,"ES",null,8.9600000000000009,10.52,12.11,14.22,16.45,18.73,20.96,23.18,25.4,27.2,28.86,30.65,32.65,34.840000000000003,37.36,39.99,null,5.93,10.75,0.18789607097591887,0.13069908814589665]
[null,null,null,"TT",null,8.08,9.36,12.02,13.95,16.02,18.13,20.2,22.28,24.37,26.08,27.68,29.44,31.44,33.68,36.31,39.090000000000003,null,6.66,10.059999999999999,0.2371794871794872,0.12559300873907614]
[null,null,null,"NT",null,7.93,9.3699999999999992,10.88,12.9,15.06,17.25,19.38,21.48,23.56,25.22,26.75,28.36,30.15,32.1,34.32,36.61,null,5.6900000000000013,10.159999999999998,0.20241906794734976,0.13492695883134126]
[null,null,null,"FW",null,7.52,8.93,10.54,12.26,14.06,15.86,17.600000000000001,19.3,20.97,22.29,23.5,24.78,26.19,27.72,29.46,31.25,null,5.1300000000000008,8.2299999999999986,0.19148936170212769,0.11706970128022758]
[null,null,null,"BY",null,7.33,8.3699999999999992,9.36,10.81,12.34,13.88,15.38,16.88,18.38,19.61,20.76,22.02,23.46,25.08,26.98,29.02,null,3.9700000000000006,7.27,0.15810434090003986,0.11782820097244733]
[null,null,null,"HB",null,6.99,8.08,8.99,10.51,12.1,13.68,15.18,16.64,18.05,19.16,20.170000000000002,21.23,22.41,23.7,25.19,26.76,null,4.0199999999999996,7.0600000000000005,0.16584158415841582,0.11669421487603307]
[null,null,null,"FE",null,6.55,7.45,8.48,9.9600000000000009,11.52,13.1,14.65,16.2,17.75,19.02,20.21,21.5,22.96,24.59,26.49,28.5,null,4.0699999999999994,7.5000000000000009,0.18210290827740491,0.13020833333333334]
[null,null,null,"PTN",null,6.06,7.38,8.2200000000000006,9.74,11.32,12.89,14.39,15.84,17.25,18.350000000000001,19.350000000000001,20.399999999999999,21.56,22.81,24.23,25.69,null,3.9400000000000004,7.030000000000002,0.17795844625112919,0.12420494699646648]
[null,null,null,"NS",null,5.0999999999999996,6.26,7.22,8.6199999999999992,10.130000000000001,11.67,13.18,14.66,16.13,17.3,18.36,19.47,20.7,22.04,23.57,25.16,null,3.870000000000001,7.17,0.20607028753993617,0.14155972359328725]
[null,null,null,"FT",null,5.16,6.29,7.4,8.57,9.76,10.96,12.11,13.26,14.42,15.37,16.27,17.260000000000002,18.41,19.72,21.3,23.01,null,3.4699999999999998,5.6099999999999985,0.18388977212506621,0.1149590163934426]
[null,null,null,"EPN",null,5.88,7.11,8.17,9.14,10.130000000000001,11.1,12.03,12.93,13.81,14.5,15.12,15.76,16.45,17.170000000000002,17.97,18.75,null,3.0200000000000005,4.3699999999999992,0.14158462259728086,8.6278381046396818E-2]
[null,null,null,"FF",null,4.5999999999999996,5.21,5.72,6.62,7.53,8.39,9.19,9.9499999999999993,10.66,11.22,11.71,12.22,12.78,13.39,14.06,14.76,null,2.3200000000000003,3.6900000000000004,0.14843250159948818,9.8007968127490047E-2]
[null,null,null,"TMA",null,4.6900000000000004,5.14,5.5,6.26,7.03,7.76,8.41,9,9.5399999999999991,9.94,10.27,10.61,10.96,11.33,11.73,12.14,null,1.8900000000000006,2.9099999999999993,0.12256809338521406,8.2788051209103819E-2]
[null,null,null,"YVE",null,3.57,4.34,4.79,5.5,6.27,7.06,7.81,8.52,9.2200000000000006,9.77,10.28,10.83,11.46,12.16,12.99,13.89,null,1.9299999999999997,3.5,0.14823348694316435,0.11164274322169059]
[null,null,null,"TH",null,3.85,4.12,6.51,7.18,7.76,8.25,8.67,9.0500000000000007,9.3800000000000008,9.6199999999999992,9.82,10.02,10.210000000000001,10.41,10.61,10.8,null,3.6399999999999997,1.8599999999999994,0.29449838187702265,4.793814432989689E-2]
[null,null,null,"EP B",null,3.63,4.24,4.84,5.54,6.26,6.94,7.57,8.16,8.7100000000000009,9.1199999999999992,9.4700000000000006,9.83,10.19,10.56,10.96,11.35,null,2.0199999999999996,2.8599999999999994,0.15880503144654085,9.1373801916932895E-2]
[null,null,null,"BMS",null,3.56,4.42,4.82,5.51,6.18,6.8,7.36,7.88,8.3699999999999992,8.75,9.08,9.42,9.7799999999999994,10.16,10.57,10.99,null,1.7599999999999998,2.5700000000000003,0.13273001508295626,8.3171521035598717E-2]
[null,null,null,"SA",null,2.27,2.56,3.01,3.45,3.9,4.34,4.75,5.15,5.53,5.82,6.09,6.36,6.65,6.97,7.32,7.68,null,1.3399999999999999,1.9200000000000004,0.17447916666666663,9.8461538461538475E-2]
[null,null,null,"WT",null,0.14000000000000001,0.18,0.19,0.22,0.25,0.28999999999999998,0.31,0.34,0.36,0.38,0.4,0.42,0.43,0.45,0.47,0.49,null,7.0000000000000007E-2,0.13,0.12962962962962965,0.10400000000000001]
[null,null,null,null,null,{"$f":"SUM(F50:F79)","v":328.0200000000001},{"$f":"SUM(G50:G79)","v":379.03},436.12000000000012,500.09999999999997,564.14999999999986,625.66,682.66999999999985,736.62999999999988,788.23999999999978,828.45000000000016,864.55000000000007,902.48000000000013,944.13000000000011,989.3599999999999,1040.9500000000003,1094.4600000000003]
[]
[]
[]
[]
[]
[]
[]
[]
[]
[]
[]
[]
[]
[]
[]
[]
[]
[]
[]
[]
[]
[]
[]
[]
[]
[]
[]
[]
[]
[]
[]
[]
[]
[null,"End"]

{"sheet":"JEN_Spread","index":16,"n_rows":81,"n_cols":19,"rows_kept":81,"cut":false,"hidden":false,"merged":[]}
[null,null,null,"Voltage PQ Management Strategy",null,null,null,"Section Check:",{"$f":"IF(COUNTA($A$8:$A$208)=COUNTIF($A$8:$A$208,0),\"Ok\",\"Check\")","v":"Ok"},null,null,"Overall Check:","Ok",null,"Legend:","Input","Internal","Select","Calculation"]
[null,null,null,{"$f":"RIGHT(CELL(\"filename\",D1),LEN(CELL(\"filename\",D1))-FIND(\"]\",CELL(\"filename\",D1)))","v":"JEN_Spread"},"JEN Voltage Spread"]
[]
[]
[]
[null,"Copyright Jemena Limited. All rights reserved. Jemena is not liable for any loss caused by reliance on this document."]
[]
[null,"JEN Voltage Spread"]
[]
[null,null,"Inputs"]
[]
[null,null,null,"Voltage","JEN Vmin (Maximum Demand)","JEN Vmax (Minimum Daytime Demand)","Vmin","Vmax",null,null,null,null,null,"V1%","V50%","V99%","Spread","Undervolt","Overvolt"]
[null,null,null,200,{"$f":"COUNTIFS('02Feb25'!$E:$E,CONCATENATE(\">\",$D13-0.5),'02Feb25'!$E:$E,CONCATENATE(\"<=\",$D13+0.5))","v":0},{"$f":"COUNTIFS('06Dec24'!$E:$E,CONCATENATE(\">\",$D13-0.5),'06Dec24'!$E:$E,CONCATENATE(\"<=\",$D13+0.5))","v":0},{"$f":"E13","v":0},{"$f":"F13","v":0},null,null,"Maximum Demand",null,null,{"$f":"Table!B3","v":208.30999755859401},{"$f":"Table!C3","v":230.85000610351599},{"$f":"Table!D3","v":244.02000427246099},{"$f":"Table!E3","v":35.710006713866989},{"$f":"Table!F3","v":7.0972039260857295E-2},{"$f":"Table!G3","v":0}]
[null,null,null,201,{"$f":"COUNTIFS('02Feb25'!$E:$E,CONCATENATE(\">\",$D14-0.5),'02Feb25'!$E:$E,CONCATENATE(\"<=\",$D14+0.5))","v":0},{"$f":"COUNTIFS('06Dec24'!$E:$E,CONCATENATE(\">\",$D14-0.5),'06Dec24'!$E:$E,CONCATENATE(\"<=\",$D14+0.5))","v":0},{"$f":"G13+E14","v":0},{"$f":"H13+F14","v":0},null,null,"Minimum Demand",null,null,{"$f":"Table!H3","v":237.38999938964801},{"$f":"Table!I3","v":246.41000366210901},{"$f":"Table!J3","v":254.94000244140599},{"$f":"Table!K3","v":17.550003051757983},{"$f":"Table!L3","v":3.8210364569134306E-2},{"$f":"Table!M3","v":0}]
[null,null,null,202,{"$f":"COUNTIFS('02Feb25'!$E:$E,CONCATENATE(\">\",$D15-0.5),'02Feb25'!$E:$E,CONCATENATE(\"<=\",$D15+0.5))","v":0},{"$f":"COUNTIFS('06Dec24'!$E:$E,CONCATENATE(\">\",$D15-0.5),'06Dec24'!$E:$E,CONCATENATE(\"<=\",$D15+0.5))","v":0},0,0]
[null,null,null,203,{"$f":"COUNTIFS('02Feb25'!$E:$E,CONCATENATE(\">\",$D16-0.5),'02Feb25'!$E:$E,CONCATENATE(\"<=\",$D16+0.5))","v":0},{"$f":"COUNTIFS('06Dec24'!$E:$E,CONCATENATE(\">\",$D16-0.5),'06Dec24'!$E:$E,CONCATENATE(\"<=\",$D16+0.5))","v":0},0,0]
[null,null,null,204,{"$f":"COUNTIFS('02Feb25'!$E:$E,CONCATENATE(\">\",$D17-0.5),'02Feb25'!$E:$E,CONCATENATE(\"<=\",$D17+0.5))","v":0},{"$f":"COUNTIFS('06Dec24'!$E:$E,CONCATENATE(\">\",$D17-0.5),'06Dec24'!$E:$E,CONCATENATE(\"<=\",$D17+0.5))","v":0},0,0]
[null,null,null,205,{"$f":"COUNTIFS('02Feb25'!$E:$E,CONCATENATE(\">\",$D18-0.5),'02Feb25'!$E:$E,CONCATENATE(\"<=\",$D18+0.5))","v":0},{"$f":"COUNTIFS('06Dec24'!$E:$E,CONCATENATE(\">\",$D18-0.5),'06Dec24'!$E:$E,CONCATENATE(\"<=\",$D18+0.5))","v":0},0,0]
[null,null,null,206,{"$f":"COUNTIFS('02Feb25'!$E:$E,CONCATENATE(\">\",$D19-0.5),'02Feb25'!$E:$E,CONCATENATE(\"<=\",$D19+0.5))","v":882},{"$f":"COUNTIFS('06Dec24'!$E:$E,CONCATENATE(\">\",$D19-0.5),'06Dec24'!$E:$E,CONCATENATE(\"<=\",$D19+0.5))","v":0},882,0]
[null,null,null,207,{"$f":"COUNTIFS('02Feb25'!$E:$E,CONCATENATE(\">\",$D20-0.5),'02Feb25'!$E:$E,CONCATENATE(\"<=\",$D20+0.5))","v":2023},{"$f":"COUNTIFS('06Dec24'!$E:$E,CONCATENATE(\">\",$D20-0.5),'06Dec24'!$E:$E,CONCATENATE(\"<=\",$D20+0.5))","v":0},2905,0]
[null,null,null,208,{"$f":"COUNTIFS('02Feb25'!$E:$E,CONCATENATE(\">\",$D21-0.5),'02Feb25'!$E:$E,CONCATENATE(\"<=\",$D21+0.5))","v":2280},{"$f":"COUNTIFS('06Dec24'!$E:$E,CONCATENATE(\">\",$D21-0.5),'06Dec24'!$E:$E,CONCATENATE(\"<=\",$D21+0.5))","v":0},5185,0]
[null,null,null,209,{"$f":"COUNTIFS('02Feb25'!$E:$E,CONCATENATE(\">\",$D22-0.5),'02Feb25'!$E:$E,CONCATENATE(\"<=\",$D22+0.5))","v":2446},{"$f":"COUNTIFS('06Dec24'!$E:$E,CONCATENATE(\">\",$D22-0.5),'06Dec24'!$E:$E,CONCATENATE(\"<=\",$D22+0.5))","v":0},7631,0]
[null,null,null,210,{"$f":"COUNTIFS('02Feb25'!$E:$E,CONCATENATE(\">\",$D23-0.5),'02Feb25'!$E:$E,CONCATENATE(\"<=\",$D23+0.5))","v":2880},{"$f":"COUNTIFS('06Dec24'!$E:$E,CONCATENATE(\">\",$D23-0.5),'06Dec24'!$E:$E,CONCATENATE(\"<=\",$D23+0.5))","v":0},10511,0]
[null,null,null,211,{"$f":"COUNTIFS('02Feb25'!$E:$E,CONCATENATE(\">\",$D24-0.5),'02Feb25'!$E:$E,CONCATENATE(\"<=\",$D24+0.5))","v":3170},{"$f":"COUNTIFS('06Dec24'!$E:$E,CONCATENATE(\">\",$D24-0.5),'06Dec24'!$E:$E,CONCATENATE(\"<=\",$D24+0.5))","v":0},13681,0]
[null,null,null,212,{"$f":"COUNTIFS('02Feb25'!$E:$E,CONCATENATE(\">\",$D25-0.5),'02Feb25'!$E:$E,CONCATENATE(\"<=\",$D25+0.5))","v":3582},{"$f":"COUNTIFS('06Dec24'!$E:$E,CONCATENATE(\">\",$D25-0.5),'06Dec24'!$E:$E,CONCATENATE(\"<=\",$D25+0.5))","v":0},17263,0]
[null,null,null,213,{"$f":"COUNTIFS('02Feb25'!$E:$E,CONCATENATE(\">\",$D26-0.5),'02Feb25'!$E:$E,CONCATENATE(\"<=\",$D26+0.5))","v":3983},{"$f":"COUNTIFS('06Dec24'!$E:$E,CONCATENATE(\">\",$D26-0.5),'06Dec24'!$E:$E,CONCATENATE(\"<=\",$D26+0.5))","v":0},21246,0]
[null,null,null,214,{"$f":"COUNTIFS('02Feb25'!$E:$E,CONCATENATE(\">\",$D27-0.5),'02Feb25'!$E:$E,CONCATENATE(\"<=\",$D27+0.5))","v":4600},{"$f":"COUNTIFS('06Dec24'!$E:$E,CONCATENATE(\">\",$D27-0.5),'06Dec24'!$E:$E,CONCATENATE(\"<=\",$D27+0.5))","v":0},25846,0]
[null,null,null,215,{"$f":"COUNTIFS('02Feb25'!$E:$E,CONCATENATE(\">\",$D28-0.5),'02Feb25'!$E:$E,CONCATENATE(\"<=\",$D28+0.5))","v":5047},{"$f":"COUNTIFS('06Dec24'!$E:$E,CONCATENATE(\">\",$D28-0.5),'06Dec24'!$E:$E,CONCATENATE(\"<=\",$D28+0.5))","v":1},30893,1]
[null,null,null,216,{"$f":"COUNTIFS('02Feb25'!$E:$E,CONCATENATE(\">\",$D29-0.5),'02Feb25'!$E:$E,CONCATENATE(\"<=\",$D29+0.5))","v":5532},{"$f":"COUNTIFS('06Dec24'!$E:$E,CONCATENATE(\">\",$D29-0.5),'06Dec24'!$E:$E,CONCATENATE(\"<=\",$D29+0.5))","v":0},36425,1]
[null,null,null,217,{"$f":"COUNTIFS('02Feb25'!$E:$E,CONCATENATE(\">\",$D30-0.5),'02Feb25'!$E:$E,CONCATENATE(\"<=\",$D30+0.5))","v":6418},{"$f":"COUNTIFS('06Dec24'!$E:$E,CONCATENATE(\">\",$D30-0.5),'06Dec24'!$E:$E,CONCATENATE(\"<=\",$D30+0.5))","v":0},42843,1]
[null,null,null,218,{"$f":"COUNTIFS('02Feb25'!$E:$E,CONCATENATE(\">\",$D31-0.5),'02Feb25'!$E:$E,CONCATENATE(\"<=\",$D31+0.5))","v":7038},{"$f":"COUNTIFS('06Dec24'!$E:$E,CONCATENATE(\">\",$D31-0.5),'06Dec24'!$E:$E,CONCATENATE(\"<=\",$D31+0.5))","v":0},49881,1]
[null,null,null,219,{"$f":"COUNTIFS('02Feb25'!$E:$E,CONCATENATE(\">\",$D32-0.5),'02Feb25'!$E:$E,CONCATENATE(\"<=\",$D32+0.5))","v":8071},{"$f":"COUNTIFS('06Dec24'!$E:$E,CONCATENATE(\">\",$D32-0.5),'06Dec24'!$E:$E,CONCATENATE(\"<=\",$D32+0.5))","v":2},57952,3]
[null,null,null,220,{"$f":"COUNTIFS('02Feb25'!$E:$E,CONCATENATE(\">\",$D33-0.5),'02Feb25'!$E:$E,CONCATENATE(\"<=\",$D33+0.5))","v":8906},{"$f":"COUNTIFS('06Dec24'!$E:$E,CONCATENATE(\">\",$D33-0.5),'06Dec24'!$E:$E,CONCATENATE(\"<=\",$D33+0.5))","v":0},66858,3]
[null,null,null,221,{"$f":"COUNTIFS('02Feb25'!$E:$E,CONCATENATE(\">\",$D34-0.5),'02Feb25'!$E:$E,CONCATENATE(\"<=\",$D34+0.5))","v":9798},{"$f":"COUNTIFS('06Dec24'!$E:$E,CONCATENATE(\">\",$D34-0.5),'06Dec24'!$E:$E,CONCATENATE(\"<=\",$D34+0.5))","v":2},76656,5]
[null,null,null,222,{"$f":"COUNTIFS('02Feb25'!$E:$E,CONCATENATE(\">\",$D35-0.5),'02Feb25'!$E:$E,CONCATENATE(\"<=\",$D35+0.5))","v":10968},{"$f":"COUNTIFS('06Dec24'!$E:$E,CONCATENATE(\">\",$D35-0.5),'06Dec24'!$E:$E,CONCATENATE(\"<=\",$D35+0.5))","v":0},87624,5]
[null,null,null,223,{"$f":"COUNTIFS('02Feb25'!$E:$E,CONCATENATE(\">\",$D36-0.5),'02Feb25'!$E:$E,CONCATENATE(\"<=\",$D36+0.5))","v":12358},{"$f":"COUNTIFS('06Dec24'!$E:$E,CONCATENATE(\">\",$D36-0.5),'06Dec24'!$E:$E,CONCATENATE(\"<=\",$D36+0.5))","v":1},99982,6]
[null,null,null,224,{"$f":"COUNTIFS('02Feb25'!$E:$E,CONCATENATE(\">\",$D37-0.5),'02Feb25'!$E:$E,CONCATENATE(\"<=\",$D37+0.5))","v":13420},{"$f":"COUNTIFS('06Dec24'!$E:$E,CONCATENATE(\">\",$D37-0.5),'06Dec24'!$E:$E,CONCATENATE(\"<=\",$D37+0.5))","v":2},113402,8]
[null,null,null,225,{"$f":"COUNTIFS('02Feb25'!$E:$E,CONCATENATE(\">\",$D38-0.5),'02Feb25'!$E:$E,CONCATENATE(\"<=\",$D38+0.5))","v":15397},{"$f":"COUNTIFS('06Dec24'!$E:$E,CONCATENATE(\">\",$D38-0.5),'06Dec24'!$E:$E,CONCATENATE(\"<=\",$D38+0.5))","v":3},128799,11]
[null,null,null,226,{"$f":"COUNTIFS('02Feb25'!$E:$E,CONCATENATE(\">\",$D39-0.5),'02Feb25'!$E:$E,CONCATENATE(\"<=\",$D39+0.5))","v":17216},{"$f":"COUNTIFS('06Dec24'!$E:$E,CONCATENATE(\">\",$D39-0.5),'06Dec24'!$E:$E,CONCATENATE(\"<=\",$D39+0.5))","v":1},146015,12]
[null,null,null,227,{"$f":"COUNTIFS('02Feb25'!$E:$E,CONCATENATE(\">\",$D40-0.5),'02Feb25'!$E:$E,CONCATENATE(\"<=\",$D40+0.5))","v":18635},{"$f":"COUNTIFS('06Dec24'!$E:$E,CONCATENATE(\">\",$D40-0.5),'06Dec24'!$E:$E,CONCATENATE(\"<=\",$D40+0.5))","v":4},164650,16]
[null,null,null,228,{"$f":"COUNTIFS('02Feb25'!$E:$E,CONCATENATE(\">\",$D41-0.5),'02Feb25'!$E:$E,CONCATENATE(\"<=\",$D41+0.5))","v":19711},{"$f":"COUNTIFS('06Dec24'!$E:$E,CONCATENATE(\">\",$D41-0.5),'06Dec24'!$E:$E,CONCATENATE(\"<=\",$D41+0.5))","v":2},184361,18]
[null,null,null,229,{"$f":"COUNTIFS('02Feb25'!$E:$E,CONCATENATE(\">\",$D42-0.5),'02Feb25'!$E:$E,CONCATENATE(\"<=\",$D42+0.5))","v":21571},{"$f":"COUNTIFS('06Dec24'!$E:$E,CONCATENATE(\">\",$D42-0.5),'06Dec24'!$E:$E,CONCATENATE(\"<=\",$D42+0.5))","v":3},205932,21]
[null,null,null,230,{"$f":"COUNTIFS('02Feb25'!$E:$E,CONCATENATE(\">\",$D43-0.5),'02Feb25'!$E:$E,CONCATENATE(\"<=\",$D43+0.5))","v":22054},{"$f":"COUNTIFS('06Dec24'!$E:$E,CONCATENATE(\">\",$D43-0.5),'06Dec24'!$E:$E,CONCATENATE(\"<=\",$D43+0.5))","v":11},227986,32]
[null,null,null,231,{"$f":"COUNTIFS('02Feb25'!$E:$E,CONCATENATE(\">\",$D44-0.5),'02Feb25'!$E:$E,CONCATENATE(\"<=\",$D44+0.5))","v":23122},{"$f":"COUNTIFS('06Dec24'!$E:$E,CONCATENATE(\">\",$D44-0.5),'06Dec24'!$E:$E,CONCATENATE(\"<=\",$D44+0.5))","v":18},251108,50]
[null,null,null,232,{"$f":"COUNTIFS('02Feb25'!$E:$E,CONCATENATE(\">\",$D45-0.5),'02Feb25'!$E:$E,CONCATENATE(\"<=\",$D45+0.5))","v":23418},{"$f":"COUNTIFS('06Dec24'!$E:$E,CONCATENATE(\">\",$D45-0.5),'06Dec24'!$E:$E,CONCATENATE(\"<=\",$D45+0.5))","v":66},274526,116]
[null,null,null,233,{"$f":"COUNTIFS('02Feb25'!$E:$E,CONCATENATE(\">\",$D46-0.5),'02Feb25'!$E:$E,CONCATENATE(\"<=\",$D46+0.5))","v":23429},{"$f":"COUNTIFS('06Dec24'!$E:$E,CONCATENATE(\">\",$D46-0.5),'06Dec24'!$E:$E,CONCATENATE(\"<=\",$D46+0.5))","v":132},{"$f":"G45+E46","v":297955},{"$f":"H45+F46","v":248}]
[null,null,null,234,{"$f":"COUNTIFS('02Feb25'!$E:$E,CONCATENATE(\">\",$D47-0.5),'02Feb25'!$E:$E,CONCATENATE(\"<=\",$D47+0.5))","v":23419},{"$f":"COUNTIFS('06Dec24'!$E:$E,CONCATENATE(\">\",$D47-0.5),'06Dec24'!$E:$E,CONCATENATE(\"<=\",$D47+0.5))","v":198},321374,446]
[null,null,null,235,{"$f":"COUNTIFS('02Feb25'!$E:$E,CONCATENATE(\">\",$D48-0.5),'02Feb25'!$E:$E,CONCATENATE(\"<=\",$D48+0.5))","v":22987},{"$f":"COUNTIFS('06Dec24'!$E:$E,CONCATENATE(\">\",$D48-0.5),'06Dec24'!$E:$E,CONCATENATE(\"<=\",$D48+0.5))","v":536},344361,982]
[null,null,null,236,{"$f":"COUNTIFS('02Feb25'!$E:$E,CONCATENATE(\">\",$D49-0.5),'02Feb25'!$E:$E,CONCATENATE(\"<=\",$D49+0.5))","v":20732},{"$f":"COUNTIFS('06Dec24'!$E:$E,CONCATENATE(\">\",$D49-0.5),'06Dec24'!$E:$E,CONCATENATE(\"<=\",$D49+0.5))","v":1372},365093,2354]
[null,null,null,237,{"$f":"COUNTIFS('02Feb25'!$E:$E,CONCATENATE(\">\",$D50-0.5),'02Feb25'!$E:$E,CONCATENATE(\"<=\",$D50+0.5))","v":20298},{"$f":"COUNTIFS('06Dec24'!$E:$E,CONCATENATE(\">\",$D50-0.5),'06Dec24'!$E:$E,CONCATENATE(\"<=\",$D50+0.5))","v":2972},385391,5326]
[null,null,null,238,{"$f":"COUNTIFS('02Feb25'!$E:$E,CONCATENATE(\">\",$D51-0.5),'02Feb25'!$E:$E,CONCATENATE(\"<=\",$D51+0.5))","v":19890},{"$f":"COUNTIFS('06Dec24'!$E:$E,CONCATENATE(\">\",$D51-0.5),'06Dec24'!$E:$E,CONCATENATE(\"<=\",$D51+0.5))","v":5517},405281,10843]
[null,null,null,239,{"$f":"COUNTIFS('02Feb25'!$E:$E,CONCATENATE(\">\",$D52-0.5),'02Feb25'!$E:$E,CONCATENATE(\"<=\",$D52+0.5))","v":19227},{"$f":"COUNTIFS('06Dec24'!$E:$E,CONCATENATE(\">\",$D52-0.5),'06Dec24'!$E:$E,CONCATENATE(\"<=\",$D52+0.5))","v":9090},424508,19933]
[null,null,null,240,{"$f":"COUNTIFS('02Feb25'!$E:$E,CONCATENATE(\">\",$D53-0.5),'02Feb25'!$E:$E,CONCATENATE(\"<=\",$D53+0.5))","v":16440},{"$f":"COUNTIFS('06Dec24'!$E:$E,CONCATENATE(\">\",$D53-0.5),'06Dec24'!$E:$E,CONCATENATE(\"<=\",$D53+0.5))","v":11521},440948,31454]
[null,null,null,241,{"$f":"COUNTIFS('02Feb25'!$E:$E,CONCATENATE(\">\",$D54-0.5),'02Feb25'!$E:$E,CONCATENATE(\"<=\",$D54+0.5))","v":12305},{"$f":"COUNTIFS('06Dec24'!$E:$E,CONCATENATE(\">\",$D54-0.5),'06Dec24'!$E:$E,CONCATENATE(\"<=\",$D54+0.5))","v":17339},453253,48793]
[null,null,null,242,{"$f":"COUNTIFS('02Feb25'!$E:$E,CONCATENATE(\">\",$D55-0.5),'02Feb25'!$E:$E,CONCATENATE(\"<=\",$D55+0.5))","v":7283},{"$f":"COUNTIFS('06Dec24'!$E:$E,CONCATENATE(\">\",$D55-0.5),'06Dec24'!$E:$E,CONCATENATE(\"<=\",$D55+0.5))","v":24442},460536,73235]
[null,null,null,243,{"$f":"COUNTIFS('02Feb25'!$E:$E,CONCATENATE(\">\",$D56-0.5),'02Feb25'!$E:$E,CONCATENATE(\"<=\",$D56+0.5))","v":4690},{"$f":"COUNTIFS('06Dec24'!$E:$E,CONCATENATE(\">\",$D56-0.5),'06Dec24'!$E:$E,CONCATENATE(\"<=\",$D56+0.5))","v":30432},465226,103667]
[null,null,null,244,{"$f":"COUNTIFS('02Feb25'!$E:$E,CONCATENATE(\">\",$D57-0.5),'02Feb25'!$E:$E,CONCATENATE(\"<=\",$D57+0.5))","v":2602},{"$f":"COUNTIFS('06Dec24'!$E:$E,CONCATENATE(\">\",$D57-0.5),'06Dec24'!$E:$E,CONCATENATE(\"<=\",$D57+0.5))","v":40348},467828,144015]
[null,null,null,245,{"$f":"COUNTIFS('02Feb25'!$E:$E,CONCATENATE(\">\",$D58-0.5),'02Feb25'!$E:$E,CONCATENATE(\"<=\",$D58+0.5))","v":1804},{"$f":"COUNTIFS('06Dec24'!$E:$E,CONCATENATE(\">\",$D58-0.5),'06Dec24'!$E:$E,CONCATENATE(\"<=\",$D58+0.5))","v":48162},469632,192177]
[null,null,null,246,{"$f":"COUNTIFS('02Feb25'!$E:$E,CONCATENATE(\">\",$D59-0.5),'02Feb25'!$E:$E,CONCATENATE(\"<=\",$D59+0.5))","v":1251},{"$f":"COUNTIFS('06Dec24'!$E:$E,CONCATENATE(\">\",$D59-0.5),'06Dec24'!$E:$E,CONCATENATE(\"<=\",$D59+0.5))","v":55824},470883,248001]
[null,null,null,247,{"$f":"COUNTIFS('02Feb25'!$E:$E,CONCATENATE(\">\",$D60-0.5),'02Feb25'!$E:$E,CONCATENATE(\"<=\",$D60+0.5))","v":348},{"$f":"COUNTIFS('06Dec24'!$E:$E,CONCATENATE(\">\",$D60-0.5),'06Dec24'!$E:$E,CONCATENATE(\"<=\",$D60+0.5))","v":61257},471231,309258]
[null,null,null,248,{"$f":"COUNTIFS('02Feb25'!$E:$E,CONCATENATE(\">\",$D61-0.5),'02Feb25'!$E:$E,CONCATENATE(\"<=\",$D61+0.5))","v":137},{"$f":"COUNTIFS('06Dec24'!$E:$E,CONCATENATE(\">\",$D61-0.5),'06Dec24'!$E:$E,CONCATENATE(\"<=\",$D61+0.5))","v":52332},471368,361590]
[null,null,null,249,{"$f":"COUNTIFS('02Feb25'!$E:$E,CONCATENATE(\">\",$D62-0.5),'02Feb25'!$E:$E,CONCATENATE(\"<=\",$D62+0.5))","v":36},{"$f":"COUNTIFS('06Dec24'!$E:$E,CONCATENATE(\">\",$D62-0.5),'06Dec24'!$E:$E,CONCATENATE(\"<=\",$D62+0.5))","v":38515},471404,400105]
[null,null,null,250,{"$f":"COUNTIFS('02Feb25'!$E:$E,CONCATENATE(\">\",$D63-0.5),'02Feb25'!$E:$E,CONCATENATE(\"<=\",$D63+0.5))","v":7},{"$f":"COUNTIFS('06Dec24'!$E:$E,CONCATENATE(\">\",$D63-0.5),'06Dec24'!$E:$E,CONCATENATE(\"<=\",$D63+0.5))","v":28273},471411,428378]
[null,null,null,251,{"$f":"COUNTIFS('02Feb25'!$E:$E,CONCATENATE(\">\",$D64-0.5),'02Feb25'!$E:$E,CONCATENATE(\"<=\",$D64+0.5))","v":0},{"$f":"COUNTIFS('06Dec24'!$E:$E,CONCATENATE(\">\",$D64-0.5),'06Dec24'!$E:$E,CONCATENATE(\"<=\",$D64+0.5))","v":18944},471411,447322]
[null,null,null,252,{"$f":"COUNTIFS('02Feb25'!$E:$E,CONCATENATE(\">\",$D65-0.5),'02Feb25'!$E:$E,CONCATENATE(\"<=\",$D65+0.5))","v":0},{"$f":"COUNTIFS('06Dec24'!$E:$E,CONCATENATE(\">\",$D65-0.5),'06Dec24'!$E:$E,CONCATENATE(\"<=\",$D65+0.5))","v":13060},471411,460382]
[null,null,null,253,{"$f":"COUNTIFS('02Feb25'!$E:$E,CONCATENATE(\">\",$D66-0.5),'02Feb25'!$E:$E,CONCATENATE(\"<=\",$D66+0.5))","v":0},{"$f":"COUNTIFS('06Dec24'!$E:$E,CONCATENATE(\">\",$D66-0.5),'06Dec24'!$E:$E,CONCATENATE(\"<=\",$D66+0.5))","v":9922},471411,470304]
[null,null,null,254,{"$f":"COUNTIFS('02Feb25'!$E:$E,CONCATENATE(\">\",$D67-0.5),'02Feb25'!$E:$E,CONCATENATE(\"<=\",$D67+0.5))","v":0},{"$f":"COUNTIFS('06Dec24'!$E:$E,CONCATENATE(\">\",$D67-0.5),'06Dec24'!$E:$E,CONCATENATE(\"<=\",$D67+0.5))","v":7090},471411,477394]
[null,null,null,255,{"$f":"COUNTIFS('02Feb25'!$E:$E,CONCATENATE(\">\",$D68-0.5),'02Feb25'!$E:$E,CONCATENATE(\"<=\",$D68+0.5))","v":0},{"$f":"COUNTIFS('06Dec24'!$E:$E,CONCATENATE(\">\",$D68-0.5),'06Dec24'!$E:$E,CONCATENATE(\"<=\",$D68+0.5))","v":3790},471411,481184]
[null,null,null,256,{"$f":"COUNTIFS('02Feb25'!$E:$E,CONCATENATE(\">\",$D69-0.5),'02Feb25'!$E:$E,CONCATENATE(\"<=\",$D69+0.5))","v":0},{"$f":"COUNTIFS('06Dec24'!$E:$E,CONCATENATE(\">\",$D69-0.5),'06Dec24'!$E:$E,CONCATENATE(\"<=\",$D69+0.5))","v":1659},471411,482843]
[null,null,null,257,{"$f":"COUNTIFS('02Feb25'!$E:$E,CONCATENATE(\">\",$D70-0.5),'02Feb25'!$E:$E,CONCATENATE(\"<=\",$D70+0.5))","v":0},{"$f":"COUNTIFS('06Dec24'!$E:$E,CONCATENATE(\">\",$D70-0.5),'06Dec24'!$E:$E,CONCATENATE(\"<=\",$D70+0.5))","v":908},471411,483751]
[null,null,null,258,{"$f":"COUNTIFS('02Feb25'!$E:$E,CONCATENATE(\">\",$D71-0.5),'02Feb25'!$E:$E,CONCATENATE(\"<=\",$D71+0.5))","v":0},{"$f":"COUNTIFS('06Dec24'!$E:$E,CONCATENATE(\">\",$D71-0.5),'06Dec24'!$E:$E,CONCATENATE(\"<=\",$D71+0.5))","v":437},471411,484188]
[null,null,null,259,{"$f":"COUNTIFS('02Feb25'!$E:$E,CONCATENATE(\">\",$D72-0.5),'02Feb25'!$E:$E,CONCATENATE(\"<=\",$D72+0.5))","v":0},{"$f":"COUNTIFS('06Dec24'!$E:$E,CONCATENATE(\">\",$D72-0.5),'06Dec24'!$E:$E,CONCATENATE(\"<=\",$D72+0.5))","v":0},471411,484188]
[null,null,null,260,{"$f":"COUNTIFS('02Feb25'!$E:$E,CONCATENATE(\">\",$D73-0.5),'02Feb25'!$E:$E,CONCATENATE(\"<=\",$D73+0.5))","v":0},{"$f":"COUNTIFS('06Dec24'!$E:$E,CONCATENATE(\">\",$D73-0.5),'06Dec24'!$E:$E,CONCATENATE(\"<=\",$D73+0.5))","v":0},471411,484188]
[null,null,null,261,{"$f":"COUNTIFS('02Feb25'!$E:$E,CONCATENATE(\">\",$D74-0.5),'02Feb25'!$E:$E,CONCATENATE(\"<=\",$D74+0.5))","v":0},{"$f":"COUNTIFS('06Dec24'!$E:$E,CONCATENATE(\">\",$D74-0.5),'06Dec24'!$E:$E,CONCATENATE(\"<=\",$D74+0.5))","v":0},471411,484188]
[null,null,null,262,{"$f":"COUNTIFS('02Feb25'!$E:$E,CONCATENATE(\">\",$D75-0.5),'02Feb25'!$E:$E,CONCATENATE(\"<=\",$D75+0.5))","v":0},{"$f":"COUNTIFS('06Dec24'!$E:$E,CONCATENATE(\">\",$D75-0.5),'06Dec24'!$E:$E,CONCATENATE(\"<=\",$D75+0.5))","v":0},471411,484188]
[null,null,null,263,{"$f":"COUNTIFS('02Feb25'!$E:$E,CONCATENATE(\">\",$D76-0.5),'02Feb25'!$E:$E,CONCATENATE(\"<=\",$D76+0.5))","v":0},{"$f":"COUNTIFS('06Dec24'!$E:$E,CONCATENATE(\">\",$D76-0.5),'06Dec24'!$E:$E,CONCATENATE(\"<=\",$D76+0.5))","v":0},471411,484188]
[null,null,null,264,{"$f":"COUNTIFS('02Feb25'!$E:$E,CONCATENATE(\">\",$D77-0.5),'02Feb25'!$E:$E,CONCATENATE(\"<=\",$D77+0.5))","v":0},{"$f":"COUNTIFS('06Dec24'!$E:$E,CONCATENATE(\">\",$D77-0.5),'06Dec24'!$E:$E,CONCATENATE(\"<=\",$D77+0.5))","v":0},471411,484188]
[null,null,null,265,{"$f":"COUNTIFS('02Feb25'!$E:$E,CONCATENATE(\">\",$D78-0.5),'02Feb25'!$E:$E,CONCATENATE(\"<=\",$D78+0.5))","v":0},{"$f":"COUNTIFS('06Dec24'!$E:$E,CONCATENATE(\">\",$D78-0.5),'06Dec24'!$E:$E,CONCATENATE(\"<=\",$D78+0.5))","v":0},471411,484188]
[]
[]
[null,"End"]

{"sheet":"ZSS_Spread","index":17,"n_rows":83,"n_cols":19,"rows_kept":83,"cut":false,"hidden":false,"merged":[]}
[null,null,null,"Voltage PQ Management Strategy",null,null,null,"Section Check:",{"$f":"IF(COUNTA($A$8:$A$210)=COUNTIF($A$8:$A$210,0),\"Ok\",\"Check\")","v":"Ok"},null,null,"Overall Check:","Ok",null,"Legend:","Input","Internal","Select","Calculation"]
[null,null,null,{"$f":"RIGHT(CELL(\"filename\",D1),LEN(CELL(\"filename\",D1))-FIND(\"]\",CELL(\"filename\",D1)))","v":"ZSS_Spread"},"ZSS Voltage Spread"]
[]
[]
[]
[null,"Copyright Jemena Limited. All rights reserved. Jemena is not liable for any loss caused by reliance on this document."]
[]
[null,"ZSS Voltage Spread"]
[]
[null,null,"Inputs"]
[]
[null,null,null,"ZSS","EPN"]
[]
[null,null,null,"Voltage","ZSS Vmin","ZSS Vmax","Vmin","Vmax",null,null,null,null,null,"V1%","V50%","V99%","Spread","Undervolt","Overvolt"]
[null,null,null,200,{"$f":"COUNTIFS('02Feb25'!$D:$D,$E$12,'02Feb25'!$E:$E,CONCATENATE(\">\",$D15-0.5),'02Feb25'!$E:$E,CONCATENATE(\"<=\",$D15+0.5))","v":0},{"$f":"COUNTIFS('06Dec24'!$D:$D,$E$12,'06Dec24'!$E:$E,CONCATENATE(\">\",$D15-0.5),'06Dec24'!$E:$E,CONCATENATE(\"<=\",$D15+0.5))","v":0},{"$f":"E15","v":0},{"$f":"F15","v":0},null,null,"Maximum Demand",null,null,{"$f":"VLOOKUP(E12,Table!A:M,2,FALSE)","v":208.13833068558546},{"$f":"VLOOKUP(E12,Table!A:M,3,FALSE)","v":234.48396858573417},{"$f":"VLOOKUP(E12,Table!A:M,4,FALSE)","v":246.8829190600398},{"$f":"P15-N15","v":38.744588374454338},{"$f":"VLOOKUP(E12,Table!A:M,6,FALSE)","v":6.3198933005027186E-2},{"$f":"VLOOKUP(E12,Table!A:M,7,FALSE)","v":0}]
[null,null,null,201,{"$f":"COUNTIFS('02Feb25'!$D:$D,$E$12,'02Feb25'!$E:$E,CONCATENATE(\">\",$D16-0.5),'02Feb25'!$E:$E,CONCATENATE(\"<=\",$D16+0.5))","v":0},{"$f":"COUNTIFS('06Dec24'!$D:$D,$E$12,'06Dec24'!$E:$E,CONCATENATE(\">\",$D16-0.5),'06Dec24'!$E:$E,CONCATENATE(\"<=\",$D16+0.5))","v":0},{"$f":"G15+E16","v":0},{"$f":"H15+F16","v":0},null,null,"Minimum Daytime Demand",null,null,{"$f":"VLOOKUP(E12,Table!A:M,8,FALSE)","v":238.4},{"$f":"VLOOKUP(E12,Table!A:M,9,FALSE)","v":247.11568437271916},{"$f":"VLOOKUP(E12,Table!A:M,10,FALSE)","v":255.1268552438888},{"$f":"P16-N16","v":16.726855243888792},{"$f":"VLOOKUP(E12,Table!A:M,12,FALSE)","v":5.8582425272418276E-2},{"$f":"VLOOKUP(E12,Table!A:M,13,FALSE)","v":0}]
[null,null,null,202,{"$f":"COUNTIFS('02Feb25'!$D:$D,$E$12,'02Feb25'!$E:$E,CONCATENATE(\">\",$D17-0.5),'02Feb25'!$E:$E,CONCATENATE(\"<=\",$D17+0.5))","v":0},{"$f":"COUNTIFS('06Dec24'!$D:$D,$E$12,'06Dec24'!$E:$E,CONCATENATE(\">\",$D17-0.5),'06Dec24'!$E:$E,CONCATENATE(\"<=\",$D17+0.5))","v":0},0,0]
[null,null,null,203,{"$f":"COUNTIFS('02Feb25'!$D:$D,$E$12,'02Feb25'!$E:$E,CONCATENATE(\">\",$D18-0.5),'02Feb25'!$E:$E,CONCATENATE(\"<=\",$D18+0.5))","v":0},{"$f":"COUNTIFS('06Dec24'!$D:$D,$E$12,'06Dec24'!$E:$E,CONCATENATE(\">\",$D18-0.5),'06Dec24'!$E:$E,CONCATENATE(\"<=\",$D18+0.5))","v":0},0,0]
[null,null,null,204,{"$f":"COUNTIFS('02Feb25'!$D:$D,$E$12,'02Feb25'!$E:$E,CONCATENATE(\">\",$D19-0.5),'02Feb25'!$E:$E,CONCATENATE(\"<=\",$D19+0.5))","v":0},{"$f":"COUNTIFS('06Dec24'!$D:$D,$E$12,'06Dec24'!$E:$E,CONCATENATE(\">\",$D19-0.5),'06Dec24'!$E:$E,CONCATENATE(\"<=\",$D19+0.5))","v":0},0,0]
[null,null,null,205,{"$f":"COUNTIFS('02Feb25'!$D:$D,$E$12,'02Feb25'!$E:$E,CONCATENATE(\">\",$D20-0.5),'02Feb25'!$E:$E,CONCATENATE(\"<=\",$D20+0.5))","v":0},{"$f":"COUNTIFS('06Dec24'!$D:$D,$E$12,'06Dec24'!$E:$E,CONCATENATE(\">\",$D20-0.5),'06Dec24'!$E:$E,CONCATENATE(\"<=\",$D20+0.5))","v":0},0,0]
[null,null,null,206,{"$f":"COUNTIFS('02Feb25'!$D:$D,$E$12,'02Feb25'!$E:$E,CONCATENATE(\">\",$D21-0.5),'02Feb25'!$E:$E,CONCATENATE(\"<=\",$D21+0.5))","v":17},{"$f":"COUNTIFS('06Dec24'!$D:$D,$E$12,'06Dec24'!$E:$E,CONCATENATE(\">\",$D21-0.5),'06Dec24'!$E:$E,CONCATENATE(\"<=\",$D21+0.5))","v":0},17,0]
[null,null,null,207,{"$f":"COUNTIFS('02Feb25'!$D:$D,$E$12,'02Feb25'!$E:$E,CONCATENATE(\">\",$D22-0.5),'02Feb25'!$E:$E,CONCATENATE(\"<=\",$D22+0.5))","v":50},{"$f":"COUNTIFS('06Dec24'!$D:$D,$E$12,'06Dec24'!$E:$E,CONCATENATE(\">\",$D22-0.5),'06Dec24'!$E:$E,CONCATENATE(\"<=\",$D22+0.5))","v":0},67,0]
[null,null,null,208,{"$f":"COUNTIFS('02Feb25'!$D:$D,$E$12,'02Feb25'!$E:$E,CONCATENATE(\">\",$D23-0.5),'02Feb25'!$E:$E,CONCATENATE(\"<=\",$D23+0.5))","v":51},{"$f":"COUNTIFS('06Dec24'!$D:$D,$E$12,'06Dec24'!$E:$E,CONCATENATE(\">\",$D23-0.5),'06Dec24'!$E:$E,CONCATENATE(\"<=\",$D23+0.5))","v":0},118,0]
[null,null,null,209,{"$f":"COUNTIFS('02Feb25'!$D:$D,$E$12,'02Feb25'!$E:$E,CONCATENATE(\">\",$D24-0.5),'02Feb25'!$E:$E,CONCATENATE(\"<=\",$D24+0.5))","v":43},{"$f":"COUNTIFS('06Dec24'!$D:$D,$E$12,'06Dec24'!$E:$E,CONCATENATE(\">\",$D24-0.5),'06Dec24'!$E:$E,CONCATENATE(\"<=\",$D24+0.5))","v":0},161,0]
[null,null,null,210,{"$f":"COUNTIFS('02Feb25'!$D:$D,$E$12,'02Feb25'!$E:$E,CONCATENATE(\">\",$D25-0.5),'02Feb25'!$E:$E,CONCATENATE(\"<=\",$D25+0.5))","v":66},{"$f":"COUNTIFS('06Dec24'!$D:$D,$E$12,'06Dec24'!$E:$E,CONCATENATE(\">\",$D25-0.5),'06Dec24'!$E:$E,CONCATENATE(\"<=\",$D25+0.5))","v":0},227,0]
[null,null,null,211,{"$f":"COUNTIFS('02Feb25'!$D:$D,$E$12,'02Feb25'!$E:$E,CONCATENATE(\">\",$D26-0.5),'02Feb25'!$E:$E,CONCATENATE(\"<=\",$D26+0.5))","v":56},{"$f":"COUNTIFS('06Dec24'!$D:$D,$E$12,'06Dec24'!$E:$E,CONCATENATE(\">\",$D26-0.5),'06Dec24'!$E:$E,CONCATENATE(\"<=\",$D26+0.5))","v":0},283,0]
[null,null,null,212,{"$f":"COUNTIFS('02Feb25'!$D:$D,$E$12,'02Feb25'!$E:$E,CONCATENATE(\">\",$D27-0.5),'02Feb25'!$E:$E,CONCATENATE(\"<=\",$D27+0.5))","v":55},{"$f":"COUNTIFS('06Dec24'!$D:$D,$E$12,'06Dec24'!$E:$E,CONCATENATE(\">\",$D27-0.5),'06Dec24'!$E:$E,CONCATENATE(\"<=\",$D27+0.5))","v":0},338,0]
[null,null,null,213,{"$f":"COUNTIFS('02Feb25'!$D:$D,$E$12,'02Feb25'!$E:$E,CONCATENATE(\">\",$D28-0.5),'02Feb25'!$E:$E,CONCATENATE(\"<=\",$D28+0.5))","v":59},{"$f":"COUNTIFS('06Dec24'!$D:$D,$E$12,'06Dec24'!$E:$E,CONCATENATE(\">\",$D28-0.5),'06Dec24'!$E:$E,CONCATENATE(\"<=\",$D28+0.5))","v":0},397,0]
[null,null,null,214,{"$f":"COUNTIFS('02Feb25'!$D:$D,$E$12,'02Feb25'!$E:$E,CONCATENATE(\">\",$D29-0.5),'02Feb25'!$E:$E,CONCATENATE(\"<=\",$D29+0.5))","v":91},{"$f":"COUNTIFS('06Dec24'!$D:$D,$E$12,'06Dec24'!$E:$E,CONCATENATE(\">\",$D29-0.5),'06Dec24'!$E:$E,CONCATENATE(\"<=\",$D29+0.5))","v":0},488,0]
[null,null,null,215,{"$f":"COUNTIFS('02Feb25'!$D:$D,$E$12,'02Feb25'!$E:$E,CONCATENATE(\">\",$D30-0.5),'02Feb25'!$E:$E,CONCATENATE(\"<=\",$D30+0.5))","v":91},{"$f":"COUNTIFS('06Dec24'!$D:$D,$E$12,'06Dec24'!$E:$E,CONCATENATE(\">\",$D30-0.5),'06Dec24'!$E:$E,CONCATENATE(\"<=\",$D30+0.5))","v":0},579,0]
[null,null,null,216,{"$f":"COUNTIFS('02Feb25'!$D:$D,$E$12,'02Feb25'!$E:$E,CONCATENATE(\">\",$D31-0.5),'02Feb25'!$E:$E,CONCATENATE(\"<=\",$D31+0.5))","v":72},{"$f":"COUNTIFS('06Dec24'!$D:$D,$E$12,'06Dec24'!$E:$E,CONCATENATE(\">\",$D31-0.5),'06Dec24'!$E:$E,CONCATENATE(\"<=\",$D31+0.5))","v":0},651,0]
[null,null,null,217,{"$f":"COUNTIFS('02Feb25'!$D:$D,$E$12,'02Feb25'!$E:$E,CONCATENATE(\">\",$D32-0.5),'02Feb25'!$E:$E,CONCATENATE(\"<=\",$D32+0.5))","v":87},{"$f":"COUNTIFS('06Dec24'!$D:$D,$E$12,'06Dec24'!$E:$E,CONCATENATE(\">\",$D32-0.5),'06Dec24'!$E:$E,CONCATENATE(\"<=\",$D32+0.5))","v":0},738,0]
[null,null,null,218,{"$f":"COUNTIFS('02Feb25'!$D:$D,$E$12,'02Feb25'!$E:$E,CONCATENATE(\">\",$D33-0.5),'02Feb25'!$E:$E,CONCATENATE(\"<=\",$D33+0.5))","v":112},{"$f":"COUNTIFS('06Dec24'!$D:$D,$E$12,'06Dec24'!$E:$E,CONCATENATE(\">\",$D33-0.5),'06Dec24'!$E:$E,CONCATENATE(\"<=\",$D33+0.5))","v":0},850,0]
[null,null,null,219,{"$f":"COUNTIFS('02Feb25'!$D:$D,$E$12,'02Feb25'!$E:$E,CONCATENATE(\">\",$D34-0.5),'02Feb25'!$E:$E,CONCATENATE(\"<=\",$D34+0.5))","v":118},{"$f":"COUNTIFS('06Dec24'!$D:$D,$E$12,'06Dec24'!$E:$E,CONCATENATE(\">\",$D34-0.5),'06Dec24'!$E:$E,CONCATENATE(\"<=\",$D34+0.5))","v":0},968,0]
[null,null,null,220,{"$f":"COUNTIFS('02Feb25'!$D:$D,$E$12,'02Feb25'!$E:$E,CONCATENATE(\">\",$D35-0.5),'02Feb25'!$E:$E,CONCATENATE(\"<=\",$D35+0.5))","v":137},{"$f":"COUNTIFS('06Dec24'!$D:$D,$E$12,'06Dec24'!$E:$E,CONCATENATE(\">\",$D35-0.5),'06Dec24'!$E:$E,CONCATENATE(\"<=\",$D35+0.5))","v":0},1105,0]
[null,null,null,221,{"$f":"COUNTIFS('02Feb25'!$D:$D,$E$12,'02Feb25'!$E:$E,CONCATENATE(\">\",$D36-0.5),'02Feb25'!$E:$E,CONCATENATE(\"<=\",$D36+0.5))","v":142},{"$f":"COUNTIFS('06Dec24'!$D:$D,$E$12,'06Dec24'!$E:$E,CONCATENATE(\">\",$D36-0.5),'06Dec24'!$E:$E,CONCATENATE(\"<=\",$D36+0.5))","v":0},1247,0]
[null,null,null,222,{"$f":"COUNTIFS('02Feb25'!$D:$D,$E$12,'02Feb25'!$E:$E,CONCATENATE(\">\",$D37-0.5),'02Feb25'!$E:$E,CONCATENATE(\"<=\",$D37+0.5))","v":127},{"$f":"COUNTIFS('06Dec24'!$D:$D,$E$12,'06Dec24'!$E:$E,CONCATENATE(\">\",$D37-0.5),'06Dec24'!$E:$E,CONCATENATE(\"<=\",$D37+0.5))","v":0},1374,0]
[null,null,null,223,{"$f":"COUNTIFS('02Feb25'!$D:$D,$E$12,'02Feb25'!$E:$E,CONCATENATE(\">\",$D38-0.5),'02Feb25'!$E:$E,CONCATENATE(\"<=\",$D38+0.5))","v":176},{"$f":"COUNTIFS('06Dec24'!$D:$D,$E$12,'06Dec24'!$E:$E,CONCATENATE(\">\",$D38-0.5),'06Dec24'!$E:$E,CONCATENATE(\"<=\",$D38+0.5))","v":0},1550,0]
[null,null,null,224,{"$f":"COUNTIFS('02Feb25'!$D:$D,$E$12,'02Feb25'!$E:$E,CONCATENATE(\">\",$D39-0.5),'02Feb25'!$E:$E,CONCATENATE(\"<=\",$D39+0.5))","v":191},{"$f":"COUNTIFS('06Dec24'!$D:$D,$E$12,'06Dec24'!$E:$E,CONCATENATE(\">\",$D39-0.5),'06Dec24'!$E:$E,CONCATENATE(\"<=\",$D39+0.5))","v":0},1741,0]
[null,null,null,225,{"$f":"COUNTIFS('02Feb25'!$D:$D,$E$12,'02Feb25'!$E:$E,CONCATENATE(\">\",$D40-0.5),'02Feb25'!$E:$E,CONCATENATE(\"<=\",$D40+0.5))","v":201},{"$f":"COUNTIFS('06Dec24'!$D:$D,$E$12,'06Dec24'!$E:$E,CONCATENATE(\">\",$D40-0.5),'06Dec24'!$E:$E,CONCATENATE(\"<=\",$D40+0.5))","v":0},1942,0]
[null,null,null,226,{"$f":"COUNTIFS('02Feb25'!$D:$D,$E$12,'02Feb25'!$E:$E,CONCATENATE(\">\",$D41-0.5),'02Feb25'!$E:$E,CONCATENATE(\"<=\",$D41+0.5))","v":212},{"$f":"COUNTIFS('06Dec24'!$D:$D,$E$12,'06Dec24'!$E:$E,CONCATENATE(\">\",$D41-0.5),'06Dec24'!$E:$E,CONCATENATE(\"<=\",$D41+0.5))","v":0},2154,0]
[null,null,null,227,{"$f":"COUNTIFS('02Feb25'!$D:$D,$E$12,'02Feb25'!$E:$E,CONCATENATE(\">\",$D42-0.5),'02Feb25'!$E:$E,CONCATENATE(\"<=\",$D42+0.5))","v":267},{"$f":"COUNTIFS('06Dec24'!$D:$D,$E$12,'06Dec24'!$E:$E,CONCATENATE(\">\",$D42-0.5),'06Dec24'!$E:$E,CONCATENATE(\"<=\",$D42+0.5))","v":0},2421,0]
[null,null,null,228,{"$f":"COUNTIFS('02Feb25'!$D:$D,$E$12,'02Feb25'!$E:$E,CONCATENATE(\">\",$D43-0.5),'02Feb25'!$E:$E,CONCATENATE(\"<=\",$D43+0.5))","v":260},{"$f":"COUNTIFS('06Dec24'!$D:$D,$E$12,'06Dec24'!$E:$E,CONCATENATE(\">\",$D43-0.5),'06Dec24'!$E:$E,CONCATENATE(\"<=\",$D43+0.5))","v":0},2681,0]
[null,null,null,229,{"$f":"COUNTIFS('02Feb25'!$D:$D,$E$12,'02Feb25'!$E:$E,CONCATENATE(\">\",$D44-0.5),'02Feb25'!$E:$E,CONCATENATE(\"<=\",$D44+0.5))","v":302},{"$f":"COUNTIFS('06Dec24'!$D:$D,$E$12,'06Dec24'!$E:$E,CONCATENATE(\">\",$D44-0.5),'06Dec24'!$E:$E,CONCATENATE(\"<=\",$D44+0.5))","v":0},2983,0]
[null,null,null,230,{"$f":"COUNTIFS('02Feb25'!$D:$D,$E$12,'02Feb25'!$E:$E,CONCATENATE(\">\",$D45-0.5),'02Feb25'!$E:$E,CONCATENATE(\"<=\",$D45+0.5))","v":291},{"$f":"COUNTIFS('06Dec24'!$D:$D,$E$12,'06Dec24'!$E:$E,CONCATENATE(\">\",$D45-0.5),'06Dec24'!$E:$E,CONCATENATE(\"<=\",$D45+0.5))","v":0},3274,0]
[null,null,null,231,{"$f":"COUNTIFS('02Feb25'!$D:$D,$E$12,'02Feb25'!$E:$E,CONCATENATE(\">\",$D46-0.5),'02Feb25'!$E:$E,CONCATENATE(\"<=\",$D46+0.5))","v":364},{"$f":"COUNTIFS('06Dec24'!$D:$D,$E$12,'06Dec24'!$E:$E,CONCATENATE(\">\",$D46-0.5),'06Dec24'!$E:$E,CONCATENATE(\"<=\",$D46+0.5))","v":0},3638,0]
[null,null,null,232,{"$f":"COUNTIFS('02Feb25'!$D:$D,$E$12,'02Feb25'!$E:$E,CONCATENATE(\">\",$D47-0.5),'02Feb25'!$E:$E,CONCATENATE(\"<=\",$D47+0.5))","v":373},{"$f":"COUNTIFS('06Dec24'!$D:$D,$E$12,'06Dec24'!$E:$E,CONCATENATE(\">\",$D47-0.5),'06Dec24'!$E:$E,CONCATENATE(\"<=\",$D47+0.5))","v":0},4011,0]
[null,null,null,233,{"$f":"COUNTIFS('02Feb25'!$D:$D,$E$12,'02Feb25'!$E:$E,CONCATENATE(\">\",$D48-0.5),'02Feb25'!$E:$E,CONCATENATE(\"<=\",$D48+0.5))","v":372},{"$f":"COUNTIFS('06Dec24'!$D:$D,$E$12,'06Dec24'!$E:$E,CONCATENATE(\">\",$D48-0.5),'06Dec24'!$E:$E,CONCATENATE(\"<=\",$D48+0.5))","v":0},{"$f":"G47+E48","v":4383},{"$f":"H47+F48","v":0}]
[null,null,null,234,{"$f":"COUNTIFS('02Feb25'!$D:$D,$E$12,'02Feb25'!$E:$E,CONCATENATE(\">\",$D49-0.5),'02Feb25'!$E:$E,CONCATENATE(\"<=\",$D49+0.5))","v":557},{"$f":"COUNTIFS('06Dec24'!$D:$D,$E$12,'06Dec24'!$E:$E,CONCATENATE(\">\",$D49-0.5),'06Dec24'!$E:$E,CONCATENATE(\"<=\",$D49+0.5))","v":8},4940,8]
[null,null,null,235,{"$f":"COUNTIFS('02Feb25'!$D:$D,$E$12,'02Feb25'!$E:$E,CONCATENATE(\">\",$D50-0.5),'02Feb25'!$E:$E,CONCATENATE(\"<=\",$D50+0.5))","v":472},{"$f":"COUNTIFS('06Dec24'!$D:$D,$E$12,'06Dec24'!$E:$E,CONCATENATE(\">\",$D50-0.5),'06Dec24'!$E:$E,CONCATENATE(\"<=\",$D50+0.5))","v":33},5412,41]
[null,null,null,236,{"$f":"COUNTIFS('02Feb25'!$D:$D,$E$12,'02Feb25'!$E:$E,CONCATENATE(\">\",$D51-0.5),'02Feb25'!$E:$E,CONCATENATE(\"<=\",$D51+0.5))","v":509},{"$f":"COUNTIFS('06Dec24'!$D:$D,$E$12,'06Dec24'!$E:$E,CONCATENATE(\">\",$D51-0.5),'06Dec24'!$E:$E,CONCATENATE(\"<=\",$D51+0.5))","v":7},5921,48]
[null,null,null,237,{"$f":"COUNTIFS('02Feb25'!$D:$D,$E$12,'02Feb25'!$E:$E,CONCATENATE(\">\",$D52-0.5),'02Feb25'!$E:$E,CONCATENATE(\"<=\",$D52+0.5))","v":589},{"$f":"COUNTIFS('06Dec24'!$D:$D,$E$12,'06Dec24'!$E:$E,CONCATENATE(\">\",$D52-0.5),'06Dec24'!$E:$E,CONCATENATE(\"<=\",$D52+0.5))","v":32},6510,80]
[null,null,null,238,{"$f":"COUNTIFS('02Feb25'!$D:$D,$E$12,'02Feb25'!$E:$E,CONCATENATE(\">\",$D53-0.5),'02Feb25'!$E:$E,CONCATENATE(\"<=\",$D53+0.5))","v":597},{"$f":"COUNTIFS('06Dec24'!$D:$D,$E$12,'06Dec24'!$E:$E,CONCATENATE(\">\",$D53-0.5),'06Dec24'!$E:$E,CONCATENATE(\"<=\",$D53+0.5))","v":40},7107,120]
[null,null,null,239,{"$f":"COUNTIFS('02Feb25'!$D:$D,$E$12,'02Feb25'!$E:$E,CONCATENATE(\">\",$D54-0.5),'02Feb25'!$E:$E,CONCATENATE(\"<=\",$D54+0.5))","v":729},{"$f":"COUNTIFS('06Dec24'!$D:$D,$E$12,'06Dec24'!$E:$E,CONCATENATE(\">\",$D54-0.5),'06Dec24'!$E:$E,CONCATENATE(\"<=\",$D54+0.5))","v":117},7836,237]
[null,null,null,240,{"$f":"COUNTIFS('02Feb25'!$D:$D,$E$12,'02Feb25'!$E:$E,CONCATENATE(\">\",$D55-0.5),'02Feb25'!$E:$E,CONCATENATE(\"<=\",$D55+0.5))","v":630},{"$f":"COUNTIFS('06Dec24'!$D:$D,$E$12,'06Dec24'!$E:$E,CONCATENATE(\">\",$D55-0.5),'06Dec24'!$E:$E,CONCATENATE(\"<=\",$D55+0.5))","v":209},8466,446]
[null,null,null,241,{"$f":"COUNTIFS('02Feb25'!$D:$D,$E$12,'02Feb25'!$E:$E,CONCATENATE(\">\",$D56-0.5),'02Feb25'!$E:$E,CONCATENATE(\"<=\",$D56+0.5))","v":344},{"$f":"COUNTIFS('06Dec24'!$D:$D,$E$12,'06Dec24'!$E:$E,CONCATENATE(\">\",$D56-0.5),'06Dec24'!$E:$E,CONCATENATE(\"<=\",$D56+0.5))","v":325},8810,771]
[null,null,null,242,{"$f":"COUNTIFS('02Feb25'!$D:$D,$E$12,'02Feb25'!$E:$E,CONCATENATE(\">\",$D57-0.5),'02Feb25'!$E:$E,CONCATENATE(\"<=\",$D57+0.5))","v":206},{"$f":"COUNTIFS('06Dec24'!$D:$D,$E$12,'06Dec24'!$E:$E,CONCATENATE(\">\",$D57-0.5),'06Dec24'!$E:$E,CONCATENATE(\"<=\",$D57+0.5))","v":166},9016,937]
[null,null,null,243,{"$f":"COUNTIFS('02Feb25'!$D:$D,$E$12,'02Feb25'!$E:$E,CONCATENATE(\">\",$D58-0.5),'02Feb25'!$E:$E,CONCATENATE(\"<=\",$D58+0.5))","v":125},{"$f":"COUNTIFS('06Dec24'!$D:$D,$E$12,'06Dec24'!$E:$E,CONCATENATE(\">\",$D58-0.5),'06Dec24'!$E:$E,CONCATENATE(\"<=\",$D58+0.5))","v":176},9141,1113]
[null,null,null,244,{"$f":"COUNTIFS('02Feb25'!$D:$D,$E$12,'02Feb25'!$E:$E,CONCATENATE(\">\",$D59-0.5),'02Feb25'!$E:$E,CONCATENATE(\"<=\",$D59+0.5))","v":142},{"$f":"COUNTIFS('06Dec24'!$D:$D,$E$12,'06Dec24'!$E:$E,CONCATENATE(\">\",$D59-0.5),'06Dec24'!$E:$E,CONCATENATE(\"<=\",$D59+0.5))","v":301},9283,1414]
[null,null,null,245,{"$f":"COUNTIFS('02Feb25'!$D:$D,$E$12,'02Feb25'!$E:$E,CONCATENATE(\">\",$D60-0.5),'02Feb25'!$E:$E,CONCATENATE(\"<=\",$D60+0.5))","v":244},{"$f":"COUNTIFS('06Dec24'!$D:$D,$E$12,'06Dec24'!$E:$E,CONCATENATE(\">\",$D60-0.5),'06Dec24'!$E:$E,CONCATENATE(\"<=\",$D60+0.5))","v":1107},9527,2521]
[null,null,null,246,{"$f":"COUNTIFS('02Feb25'!$D:$D,$E$12,'02Feb25'!$E:$E,CONCATENATE(\">\",$D61-0.5),'02Feb25'!$E:$E,CONCATENATE(\"<=\",$D61+0.5))","v":211},{"$f":"COUNTIFS('06Dec24'!$D:$D,$E$12,'06Dec24'!$E:$E,CONCATENATE(\">\",$D61-0.5),'06Dec24'!$E:$E,CONCATENATE(\"<=\",$D61+0.5))","v":1501},9738,4022]
[null,null,null,247,{"$f":"COUNTIFS('02Feb25'!$D:$D,$E$12,'02Feb25'!$E:$E,CONCATENATE(\">\",$D62-0.5),'02Feb25'!$E:$E,CONCATENATE(\"<=\",$D62+0.5))","v":9},{"$f":"COUNTIFS('06Dec24'!$D:$D,$E$12,'06Dec24'!$E:$E,CONCATENATE(\">\",$D62-0.5),'06Dec24'!$E:$E,CONCATENATE(\"<=\",$D62+0.5))","v":1626},9747,5648]
[null,null,null,248,{"$f":"COUNTIFS('02Feb25'!$D:$D,$E$12,'02Feb25'!$E:$E,CONCATENATE(\">\",$D63-0.5),'02Feb25'!$E:$E,CONCATENATE(\"<=\",$D63+0.5))","v":0},{"$f":"COUNTIFS('06Dec24'!$D:$D,$E$12,'06Dec24'!$E:$E,CONCATENATE(\">\",$D63-0.5),'06Dec24'!$E:$E,CONCATENATE(\"<=\",$D63+0.5))","v":1033},9747,6681]
[null,null,null,249,{"$f":"COUNTIFS('02Feb25'!$D:$D,$E$12,'02Feb25'!$E:$E,CONCATENATE(\">\",$D64-0.5),'02Feb25'!$E:$E,CONCATENATE(\"<=\",$D64+0.5))","v":0},{"$f":"COUNTIFS('06Dec24'!$D:$D,$E$12,'06Dec24'!$E:$E,CONCATENATE(\">\",$D64-0.5),'06Dec24'!$E:$E,CONCATENATE(\"<=\",$D64+0.5))","v":585},9747,7266]
[null,null,null,250,{"$f":"COUNTIFS('02Feb25'!$D:$D,$E$12,'02Feb25'!$E:$E,CONCATENATE(\">\",$D65-0.5),'02Feb25'!$E:$E,CONCATENATE(\"<=\",$D65+0.5))","v":0},{"$f":"COUNTIFS('06Dec24'!$D:$D,$E$12,'06Dec24'!$E:$E,CONCATENATE(\">\",$D65-0.5),'06Dec24'!$E:$E,CONCATENATE(\"<=\",$D65+0.5))","v":504},9747,7770]
[null,null,null,251,{"$f":"COUNTIFS('02Feb25'!$D:$D,$E$12,'02Feb25'!$E:$E,CONCATENATE(\">\",$D66-0.5),'02Feb25'!$E:$E,CONCATENATE(\"<=\",$D66+0.5))","v":0},{"$f":"COUNTIFS('06Dec24'!$D:$D,$E$12,'06Dec24'!$E:$E,CONCATENATE(\">\",$D66-0.5),'06Dec24'!$E:$E,CONCATENATE(\"<=\",$D66+0.5))","v":665},9747,8435]
[null,null,null,252,{"$f":"COUNTIFS('02Feb25'!$D:$D,$E$12,'02Feb25'!$E:$E,CONCATENATE(\">\",$D67-0.5),'02Feb25'!$E:$E,CONCATENATE(\"<=\",$D67+0.5))","v":0},{"$f":"COUNTIFS('06Dec24'!$D:$D,$E$12,'06Dec24'!$E:$E,CONCATENATE(\">\",$D67-0.5),'06Dec24'!$E:$E,CONCATENATE(\"<=\",$D67+0.5))","v":718},9747,9153]
[null,null,null,253,{"$f":"COUNTIFS('02Feb25'!$D:$D,$E$12,'02Feb25'!$E:$E,CONCATENATE(\">\",$D68-0.5),'02Feb25'!$E:$E,CONCATENATE(\"<=\",$D68+0.5))","v":0},{"$f":"COUNTIFS('06Dec24'!$D:$D,$E$12,'06Dec24'!$E:$E,CONCATENATE(\">\",$D68-0.5),'06Dec24'!$E:$E,CONCATENATE(\"<=\",$D68+0.5))","v":451},9747,9604]
[null,null,null,254,{"$f":"COUNTIFS('02Feb25'!$D:$D,$E$12,'02Feb25'!$E:$E,CONCATENATE(\">\",$D69-0.5),'02Feb25'!$E:$E,CONCATENATE(\"<=\",$D69+0.5))","v":0},{"$f":"COUNTIFS('06Dec24'!$D:$D,$E$12,'06Dec24'!$E:$E,CONCATENATE(\">\",$D69-0.5),'06Dec24'!$E:$E,CONCATENATE(\"<=\",$D69+0.5))","v":237},9747,9841]
[null,null,null,255,{"$f":"COUNTIFS('02Feb25'!$D:$D,$E$12,'02Feb25'!$E:$E,CONCATENATE(\">\",$D70-0.5),'02Feb25'!$E:$E,CONCATENATE(\"<=\",$D70+0.5))","v":0},{"$f":"COUNTIFS('06Dec24'!$D:$D,$E$12,'06Dec24'!$E:$E,CONCATENATE(\">\",$D70-0.5),'06Dec24'!$E:$E,CONCATENATE(\"<=\",$D70+0.5))","v":114},9747,9955]
[null,null,null,256,{"$f":"COUNTIFS('02Feb25'!$D:$D,$E$12,'02Feb25'!$E:$E,CONCATENATE(\">\",$D71-0.5),'02Feb25'!$E:$E,CONCATENATE(\"<=\",$D71+0.5))","v":0},{"$f":"COUNTIFS('06Dec24'!$D:$D,$E$12,'06Dec24'!$E:$E,CONCATENATE(\">\",$D71-0.5),'06Dec24'!$E:$E,CONCATENATE(\"<=\",$D71+0.5))","v":38},9747,9993]
[null,null,null,257,{"$f":"COUNTIFS('02Feb25'!$D:$D,$E$12,'02Feb25'!$E:$E,CONCATENATE(\">\",$D72-0.5),'02Feb25'!$E:$E,CONCATENATE(\"<=\",$D72+0.5))","v":0},{"$f":"COUNTIFS('06Dec24'!$D:$D,$E$12,'06Dec24'!$E:$E,CONCATENATE(\">\",$D72-0.5),'06Dec24'!$E:$E,CONCATENATE(\"<=\",$D72+0.5))","v":9},9747,10002]
[null,null,null,258,{"$f":"COUNTIFS('02Feb25'!$D:$D,$E$12,'02Feb25'!$E:$E,CONCATENATE(\">\",$D73-0.5),'02Feb25'!$E:$E,CONCATENATE(\"<=\",$D73+0.5))","v":0},{"$f":"COUNTIFS('06Dec24'!$D:$D,$E$12,'06Dec24'!$E:$E,CONCATENATE(\">\",$D73-0.5),'06Dec24'!$E:$E,CONCATENATE(\"<=\",$D73+0.5))","v":1},9747,10003]
[null,null,null,259,{"$f":"COUNTIFS('02Feb25'!$D:$D,$E$12,'02Feb25'!$E:$E,CONCATENATE(\">\",$D74-0.5),'02Feb25'!$E:$E,CONCATENATE(\"<=\",$D74+0.5))","v":0},{"$f":"COUNTIFS('06Dec24'!$D:$D,$E$12,'06Dec24'!$E:$E,CONCATENATE(\">\",$D74-0.5),'06Dec24'!$E:$E,CONCATENATE(\"<=\",$D74+0.5))","v":0},9747,10003]
[null,null,null,260,{"$f":"COUNTIFS('02Feb25'!$D:$D,$E$12,'02Feb25'!$E:$E,CONCATENATE(\">\",$D75-0.5),'02Feb25'!$E:$E,CONCATENATE(\"<=\",$D75+0.5))","v":0},{"$f":"COUNTIFS('06Dec24'!$D:$D,$E$12,'06Dec24'!$E:$E,CONCATENATE(\">\",$D75-0.5),'06Dec24'!$E:$E,CONCATENATE(\"<=\",$D75+0.5))","v":0},9747,10003]
[null,null,null,261,{"$f":"COUNTIFS('02Feb25'!$D:$D,$E$12,'02Feb25'!$E:$E,CONCATENATE(\">\",$D76-0.5),'02Feb25'!$E:$E,CONCATENATE(\"<=\",$D76+0.5))","v":0},{"$f":"COUNTIFS('06Dec24'!$D:$D,$E$12,'06Dec24'!$E:$E,CONCATENATE(\">\",$D76-0.5),'06Dec24'!$E:$E,CONCATENATE(\"<=\",$D76+0.5))","v":0},9747,10003]
[null,null,null,262,{"$f":"COUNTIFS('02Feb25'!$D:$D,$E$12,'02Feb25'!$E:$E,CONCATENATE(\">\",$D77-0.5),'02Feb25'!$E:$E,CONCATENATE(\"<=\",$D77+0.5))","v":0},{"$f":"COUNTIFS('06Dec24'!$D:$D,$E$12,'06Dec24'!$E:$E,CONCATENATE(\">\",$D77-0.5),'06Dec24'!$E:$E,CONCATENATE(\"<=\",$D77+0.5))","v":0},9747,10003]
[null,null,null,263,{"$f":"COUNTIFS('02Feb25'!$D:$D,$E$12,'02Feb25'!$E:$E,CONCATENATE(\">\",$D78-0.5),'02Feb25'!$E:$E,CONCATENATE(\"<=\",$D78+0.5))","v":0},{"$f":"COUNTIFS('06Dec24'!$D:$D,$E$12,'06Dec24'!$E:$E,CONCATENATE(\">\",$D78-0.5),'06Dec24'!$E:$E,CONCATENATE(\"<=\",$D78+0.5))","v":0},9747,10003]
[null,null,null,264,{"$f":"COUNTIFS('02Feb25'!$D:$D,$E$12,'02Feb25'!$E:$E,CONCATENATE(\">\",$D79-0.5),'02Feb25'!$E:$E,CONCATENATE(\"<=\",$D79+0.5))","v":0},{"$f":"COUNTIFS('06Dec24'!$D:$D,$E$12,'06Dec24'!$E:$E,CONCATENATE(\">\",$D79-0.5),'06Dec24'!$E:$E,CONCATENATE(\"<=\",$D79+0.5))","v":0},9747,10003]
[null,null,null,265,{"$f":"COUNTIFS('02Feb25'!$D:$D,$E$12,'02Feb25'!$E:$E,CONCATENATE(\">\",$D80-0.5),'02Feb25'!$E:$E,CONCATENATE(\"<=\",$D80+0.5))","v":0},{"$f":"COUNTIFS('06Dec24'!$D:$D,$E$12,'06Dec24'!$E:$E,CONCATENATE(\">\",$D80-0.5),'06Dec24'!$E:$E,CONCATENATE(\"<=\",$D80+0.5))","v":0},9747,10003]
[]
[]
[null,"End"]

{"sheet":"Table","index":18,"n_rows":34,"n_cols":27,"rows_kept":34,"cut":false,"hidden":false,"merged":[[0,1,0,6],[0,7,0,11]]}
[null,"Maximum Demand",null,null,null,null,null,"Minimum Daytime",null,null,null,null,null,"AMI Customers"]
["ZSS","V1%","V50%","V99%","Spread","%Under","%Over","V1%","V50%","V99%","Spread","%Over","Adjust","No.",null,null,null,null,null,null,null,null,"Spread Rank","%Over rank","%Under rank",null,"No. of VRRs to replace"]
["JEN",{"$f":"PERCENTILE('02Feb25'!$E:$E,1%)","v":208.30999755859401},{"$f":"PERCENTILE('02Feb25'!$E:$E,50%)","v":230.85000610351599},{"$f":"PERCENTILE('02Feb25'!$E:$E,99%)","v":244.02000427246099},{"$f":"D3-B3","v":35.710006713866989},{"$f":"COUNTIF('02Feb25'!$E:$E,\"<216\")/COUNT('02Feb25'!$E:$E)","v":7.0972039260857295E-2},{"$f":"COUNTIF('02Feb25'!$E:$E,\">253\")/COUNT('02Feb25'!$E:$E)","v":0},{"$f":"PERCENTILE('06Dec24'!$E:$E,1%)","v":237.38999938964801},{"$f":"PERCENTILE('06Dec24'!$E:$E,50%)","v":246.41000366210901},{"$f":"PERCENTILE('06Dec24'!$E:$E,99%)","v":254.94000244140599},{"$f":"J3-H3","v":17.550003051757983},{"$f":"COUNTIF('06Dec24'!$E:$E,\">253\")/COUNT('06Dec24'!$E:$E)","v":3.8210364569134306E-2},{"$f":"MIN(MAX(0,D3-253,216-B3),MAX(0,253-J3))","v":0},{"$f":"SUM(N4:N33)","v":481186}]
["AW0",209.11548660661688,233.22345169046216,245.85049917592565,{"$f":"D4-B4","v":36.735012569308765},{"$f":"COUNTIFS('02Feb25'!$E:$E,\"<216\",'02Feb25'!$D:$D,$A4)/COUNTIF('02Feb25'!$D:$D,$A4)","v":6.0525799489896018E-2},{"$f":"COUNTIFS('02Feb25'!$E:$E,\">253\",'02Feb25'!$D:$D,$A4)/COUNTIF('02Feb25'!$D:$D,$A4)","v":0},240.4,247.6180548710407,255.04659651717191,{"$f":"J4-H4","v":14.646596517171901},{"$f":"COUNTIFS('06Dec24'!$E:$E,\">253\",'06Dec24'!$D:$D,$A4)/COUNTIF('06Dec24'!$D:$D,$A4)","v":3.2065717276158458E-2},0,{"$f":"COUNTIF('06Dec24'!D:D,$A4)","v":31529},255.04659651717191,{"$f":"INT(COUNTIFS('02Feb25'!$E:$E,\"<\"&O4,'02Feb25'!$D:$D,$A4)/COUNTIF('02Feb25'!$D:$D,$A4)*100)","v":100},{"$f":"INT(COUNTIFS('06Dec24'!$E:$E,\"<\"&O4,'06Dec24'!$D:$D,$A4)/COUNTIF('06Dec24'!$D:$D,$A4)*100)","v":99},null,null,null,null,null,{"$f":"RANK($E4,$E$4:$E$33)","v":3},{"$f":"IFERROR(VLOOKUP($A4,Compliance!$D$11:$H$38,5,FALSE),\"\")","v":1},{"$f":"RANK($F4,$F$4:$F$33)","v":14},null,0]
["BD0",213,233.66866816715438,245.13303719910544,{"$f":"D5-B5","v":32.133037199105445},{"$f":"COUNTIFS('02Feb25'!$E:$E,\"<216\",'02Feb25'!$D:$D,$A5)/COUNTIF('02Feb25'!$D:$D,$A5)","v":3.422017486133308E-2},{"$f":"COUNTIFS('02Feb25'!$E:$E,\">253\",'02Feb25'!$D:$D,$A5)/COUNTIF('02Feb25'!$D:$D,$A5)","v":0},240.6,247.31634458760462,254.98392655616701,{"$f":"J5-H5","v":14.383926556167012},{"$f":"COUNTIFS('06Dec24'!$E:$E,\">253\",'06Dec24'!$D:$D,$A5)/COUNTIF('06Dec24'!$D:$D,$A5)","v":3.6137246641389315E-2},0,{"$f":"COUNTIF('06Dec24'!D:D,$A5)","v":21363},254.98392655616701,{"$f":"INT(COUNTIFS('02Feb25'!$E:$E,\"<\"&O5,'02Feb25'!$D:$D,$A5)/COUNTIF('02Feb25'!$D:$D,$A5)*100)","v":100},{"$f":"INT(COUNTIFS('06Dec24'!$E:$E,\"<\"&O5,'06Dec24'!$D:$D,$A5)/COUNTIF('06Dec24'!$D:$D,$A5)*100)","v":99},null,null,null,null,null,{"$f":"RANK($E5,$E$4:$E$33)","v":19},{"$f":"IFERROR(VLOOKUP($A5,Compliance!$D$11:$H$38,5,FALSE),\"\")","v":11},{"$f":"RANK($F5,$F$4:$F$33)","v":20},null,0]
["BMS",214,236.45305824156998,247.59501295568037,33.595012955680374,{"$f":"COUNTIFS('02Feb25'!$E:$E,\"<216\",'02Feb25'!$D:$D,$A6)/COUNTIF('02Feb25'!$D:$D,$A6)","v":2.0546721457923887E-2},{"$f":"COUNTIFS('02Feb25'!$E:$E,\">253\",'02Feb25'!$D:$D,$A6)/COUNTIF('02Feb25'!$D:$D,$A6)","v":0},240.6,248.16155177304967,255.55400866531127,14.954008665311278,{"$f":"COUNTIFS('06Dec24'!$E:$E,\">253\",'06Dec24'!$D:$D,$A6)/COUNTIF('06Dec24'!$D:$D,$A6)","v":3.4758871701546859E-2},0,{"$f":"COUNTIF('06Dec24'!D:D,$A6)","v":5495},255.55400866531127,{"$f":"INT(COUNTIFS('02Feb25'!$E:$E,\"<\"&O6,'02Feb25'!$D:$D,$A6)/COUNTIF('02Feb25'!$D:$D,$A6)*100)","v":100},{"$f":"INT(COUNTIFS('06Dec24'!$E:$E,\"<\"&O6,'06Dec24'!$D:$D,$A6)/COUNTIF('06Dec24'!$D:$D,$A6)*100)","v":99},null,null,null,null,null,15,{"$f":"IFERROR(VLOOKUP($A6,Compliance!$D$11:$H$38,5,FALSE),\"\")","v":19},24,null,0]
["BY0",210,230,245,35,{"$f":"COUNTIFS('02Feb25'!$E:$E,\"<216\",'02Feb25'!$D:$D,$A7)/COUNTIF('02Feb25'!$D:$D,$A7)","v":7.6434412380888023E-2},{"$f":"COUNTIFS('02Feb25'!$E:$E,\">253\",'02Feb25'!$D:$D,$A7)/COUNTIF('02Feb25'!$D:$D,$A7)","v":0},238.88,245.7844248196248,253.15795756421352,14.277957564213523,{"$f":"COUNTIFS('06Dec24'!$E:$E,\">253\",'06Dec24'!$D:$D,$A7)/COUNTIF('06Dec24'!$D:$D,$A7)","v":5.1644113224815326E-3},0,{"$f":"COUNTIF('06Dec24'!D:D,$A7)","v":15297},253.15795756421352,{"$f":"INT(COUNTIFS('02Feb25'!$E:$E,\"<\"&O7,'02Feb25'!$D:$D,$A7)/COUNTIF('02Feb25'!$D:$D,$A7)*100)","v":100},{"$f":"INT(COUNTIFS('06Dec24'!$E:$E,\"<\"&O7,'06Dec24'!$D:$D,$A7)/COUNTIF('06Dec24'!$D:$D,$A7)*100)","v":99},null,null,null,null,null,11,{"$f":"IFERROR(VLOOKUP($A7,Compliance!$D$11:$H$38,5,FALSE),\"\")","v":26},12,null,2]
["CN0",207.44788082917782,228.1263027169903,240.14258122908842,32.694700399910602,{"$f":"COUNTIFS('02Feb25'!$E:$E,\"<216\",'02Feb25'!$D:$D,$A8)/COUNTIF('02Feb25'!$D:$D,$A8)","v":0.12260393791640302},{"$f":"COUNTIFS('02Feb25'!$E:$E,\">253\",'02Feb25'!$D:$D,$A8)/COUNTIF('02Feb25'!$D:$D,$A8)","v":0},235.93333333333334,243.56652374872317,251.16219089673891,15.228857563405569,{"$f":"COUNTIFS('06Dec24'!$E:$E,\">253\",'06Dec24'!$D:$D,$A8)/COUNTIF('06Dec24'!$D:$D,$A8)","v":2.1495524702234126E-3},1.8378091032610939,{"$f":"COUNTIF('06Dec24'!D:D,$A8)","v":28378},251.16219089673891,{"$f":"INT(COUNTIFS('02Feb25'!$E:$E,\"<\"&O8,'02Feb25'!$D:$D,$A8)/COUNTIF('02Feb25'!$D:$D,$A8)*100)","v":100},{"$f":"INT(COUNTIFS('06Dec24'!$E:$E,\"<\"&O8,'06Dec24'!$D:$D,$A8)/COUNTIF('06Dec24'!$D:$D,$A8)*100)","v":99},null,null,null,null,null,17,{"$f":"IFERROR(VLOOKUP($A8,Compliance!$D$11:$H$38,5,FALSE),\"\")","v":18},5,null,3]
["COO",214,229.42162688838309,243.31634182967437,29.316341829674371,{"$f":"COUNTIFS('02Feb25'!$E:$E,\"<216\",'02Feb25'!$D:$D,$A9)/COUNTIF('02Feb25'!$D:$D,$A9)","v":2.6528563124240342E-2},{"$f":"COUNTIFS('02Feb25'!$E:$E,\">253\",'02Feb25'!$D:$D,$A9)/COUNTIF('02Feb25'!$D:$D,$A9)","v":0},238,244.64891856088573,251.90222504024297,13.902225040242968,{"$f":"COUNTIFS('06Dec24'!$E:$E,\">253\",'06Dec24'!$D:$D,$A9)/COUNTIF('06Dec24'!$D:$D,$A9)","v":1.7959011197971689E-3},{"$f":"MIN(MAX(0,D9-253,216-B9),MAX(0,253-J9))","v":1.0977749597570323},{"$f":"COUNTIF('06Dec24'!D:D,$A9)","v":18932},251.90222504024297,{"$f":"INT(COUNTIFS('02Feb25'!$E:$E,\"<\"&O9,'02Feb25'!$D:$D,$A9)/COUNTIF('02Feb25'!$D:$D,$A9)*100)","v":100},{"$f":"INT(COUNTIFS('06Dec24'!$E:$E,\"<\"&O9,'06Dec24'!$D:$D,$A9)/COUNTIF('06Dec24'!$D:$D,$A9)*100)","v":99},null,null,null,null,null,25,{"$f":"IFERROR(VLOOKUP($A9,Compliance!$D$11:$H$38,5,FALSE),\"\")","v":22},22,null,0]
["CS0",208,228.60594035859228,239.80763143616323,31.807631436163234,{"$f":"COUNTIFS('02Feb25'!$E:$E,\"<216\",'02Feb25'!$D:$D,$A10)/COUNTIF('02Feb25'!$D:$D,$A10)","v":0.11597250303275373},{"$f":"COUNTIFS('02Feb25'!$E:$E,\">253\",'02Feb25'!$D:$D,$A10)/COUNTIF('02Feb25'!$D:$D,$A10)","v":0},237.03529411764706,243.93997137907658,249.81955017641843,12.784256058771376,{"$f":"COUNTIFS('06Dec24'!$E:$E,\">253\",'06Dec24'!$D:$D,$A10)/COUNTIF('06Dec24'!$D:$D,$A10)","v":6.8849449204406369E-4},3.1804498235815686,{"$f":"COUNTIF('06Dec24'!D:D,$A10)","v":26144},249.81955017641843,{"$f":"INT(COUNTIFS('02Feb25'!$E:$E,\"<\"&O10,'02Feb25'!$D:$D,$A10)/COUNTIF('02Feb25'!$D:$D,$A10)*100)","v":100},{"$f":"INT(COUNTIFS('06Dec24'!$E:$E,\"<\"&O10,'06Dec24'!$D:$D,$A10)/COUNTIF('06Dec24'!$D:$D,$A10)*100)","v":99},null,null,null,null,null,21,{"$f":"IFERROR(VLOOKUP($A10,Compliance!$D$11:$H$38,5,FALSE),\"\")","v":2},7,null,2]
["EP0",207,223,245,38,{"$f":"COUNTIFS('02Feb25'!$E:$E,\"<216\",'02Feb25'!$D:$D,$A11)/COUNTIF('02Feb25'!$D:$D,$A11)","v":0.20516330921181303},{"$f":"COUNTIFS('02Feb25'!$E:$E,\">253\",'02Feb25'!$D:$D,$A11)/COUNTIF('02Feb25'!$D:$D,$A11)","v":0},236.65263157894736,243.9177018770703,251.48161445042987,14.828982871482509,{"$f":"COUNTIFS('06Dec24'!$E:$E,\">253\",'06Dec24'!$D:$D,$A11)/COUNTIF('06Dec24'!$D:$D,$A11)","v":5.305039787798408E-4},1.5183855495701266,{"$f":"COUNTIF('06Dec24'!D:D,$A11)","v":5655},251.48161445042987,{"$f":"INT(COUNTIFS('02Feb25'!$E:$E,\"<\"&O11,'02Feb25'!$D:$D,$A11)/COUNTIF('02Feb25'!$D:$D,$A11)*100)","v":100},{"$f":"INT(COUNTIFS('06Dec24'!$E:$E,\"<\"&O11,'06Dec24'!$D:$D,$A11)/COUNTIF('06Dec24'!$D:$D,$A11)*100)","v":99},null,null,null,null,null,2,{"$f":"IFERROR(VLOOKUP($A11,Compliance!$D$11:$H$38,5,FALSE),\"\")","v":28},1,null,4]
["EPN",208.13833068558546,234.48396858573417,246.8829190600398,38.744588374454338,{"$f":"COUNTIFS('02Feb25'!$E:$E,\"<216\",'02Feb25'!$D:$D,$A12)/COUNTIF('02Feb25'!$D:$D,$A12)","v":6.3198933005027186E-2},{"$f":"COUNTIFS('02Feb25'!$E:$E,\">253\",'02Feb25'!$D:$D,$A12)/COUNTIF('02Feb25'!$D:$D,$A12)","v":0},238.4,247.11568437271916,255.1268552438888,16.726855243888792,{"$f":"COUNTIFS('06Dec24'!$E:$E,\">253\",'06Dec24'!$D:$D,$A12)/COUNTIF('06Dec24'!$D:$D,$A12)","v":5.8582425272418276E-2},0,{"$f":"COUNTIF('06Dec24'!D:D,$A12)","v":10003},255.1268552438888,{"$f":"INT(COUNTIFS('02Feb25'!$E:$E,\"<\"&O12,'02Feb25'!$D:$D,$A12)/COUNTIF('02Feb25'!$D:$D,$A12)*100)","v":100},{"$f":"INT(COUNTIFS('06Dec24'!$E:$E,\"<\"&O12,'06Dec24'!$D:$D,$A12)/COUNTIF('06Dec24'!$D:$D,$A12)*100)","v":99},null,null,null,null,null,1,{"$f":"IFERROR(VLOOKUP($A12,Compliance!$D$11:$H$38,5,FALSE),\"\")","v":12},13,null,0]
["ES0",207.59606681198409,226.43583761432029,242.26310503231832,34.667038220334234,{"$f":"COUNTIFS('02Feb25'!$E:$E,\"<216\",'02Feb25'!$D:$D,$A13)/COUNTIF('02Feb25'!$D:$D,$A13)","v":0.15209018318459372},{"$f":"COUNTIFS('02Feb25'!$E:$E,\">253\",'02Feb25'!$D:$D,$A13)/COUNTIF('02Feb25'!$D:$D,$A13)","v":0},240,246.79378925709335,253.72547568579259,13.725475685792588,{"$f":"COUNTIFS('06Dec24'!$E:$E,\">253\",'06Dec24'!$D:$D,$A13)/COUNTIF('06Dec24'!$D:$D,$A13)","v":2.0614110746938072E-2},0,{"$f":"COUNTIF('06Dec24'!D:D,$A13)","v":23188},253.72547568579259,{"$f":"INT(COUNTIFS('02Feb25'!$E:$E,\"<\"&O13,'02Feb25'!$D:$D,$A13)/COUNTIF('02Feb25'!$D:$D,$A13)*100)","v":100},{"$f":"INT(COUNTIFS('06Dec24'!$E:$E,\"<\"&O13,'06Dec24'!$D:$D,$A13)/COUNTIF('06Dec24'!$D:$D,$A13)*100)","v":99},null,null,null,null,null,12,{"$f":"IFERROR(VLOOKUP($A13,Compliance!$D$11:$H$38,5,FALSE),\"\")","v":13},3,null,0]
["FE0",214.79541252802017,237.82208157735266,245.10538282565906,30.309970297638898,{"$f":"COUNTIFS('02Feb25'!$E:$E,\"<216\",'02Feb25'!$D:$D,$A14)/COUNTIF('02Feb25'!$D:$D,$A14)","v":1.8893772475597922E-2},{"$f":"COUNTIFS('02Feb25'!$E:$E,\">253\",'02Feb25'!$D:$D,$A14)/COUNTIF('02Feb25'!$D:$D,$A14)","v":0},240,249.42599092918221,254.27594075280518,14.275940752805184,{"$f":"COUNTIFS('06Dec24'!$E:$E,\">253\",'06Dec24'!$D:$D,$A14)/COUNTIF('06Dec24'!$D:$D,$A14)","v":2.92404275776257E-2},0,{"$f":"COUNTIF('06Dec24'!D:D,$A14)","v":17681},254.27594075280518,{"$f":"INT(COUNTIFS('02Feb25'!$E:$E,\"<\"&O14,'02Feb25'!$D:$D,$A14)/COUNTIF('02Feb25'!$D:$D,$A14)*100)","v":100},{"$f":"INT(COUNTIFS('06Dec24'!$E:$E,\"<\"&O14,'06Dec24'!$D:$D,$A14)/COUNTIF('06Dec24'!$D:$D,$A14)*100)","v":99},null,null,null,null,null,24,{"$f":"IFERROR(VLOOKUP($A14,Compliance!$D$11:$H$38,5,FALSE),\"\")","v":6},25,null,2]
["FF0",208.74938331539352,229.63226437684111,243.91575668357035,35.166373368176835,{"$f":"COUNTIFS('02Feb25'!$E:$E,\"<216\",'02Feb25'!$D:$D,$A15)/COUNTIF('02Feb25'!$D:$D,$A15)","v":9.4402570122327945E-2},{"$f":"COUNTIFS('02Feb25'!$E:$E,\">253\",'02Feb25'!$D:$D,$A15)/COUNTIF('02Feb25'!$D:$D,$A15)","v":0},239,246.88428307883109,254.56570373512832,15.565703735128324,{"$f":"COUNTIFS('06Dec24'!$E:$E,\">253\",'06Dec24'!$D:$D,$A15)/COUNTIF('06Dec24'!$D:$D,$A15)","v":4.8447056001918697E-2},0,{"$f":"COUNTIF('06Dec24'!D:D,$A15)","v":8339},254.56570373512832,{"$f":"INT(COUNTIFS('02Feb25'!$E:$E,\"<\"&O15,'02Feb25'!$D:$D,$A15)/COUNTIF('02Feb25'!$D:$D,$A15)*100)","v":100},{"$f":"INT(COUNTIFS('06Dec24'!$E:$E,\"<\"&O15,'06Dec24'!$D:$D,$A15)/COUNTIF('06Dec24'!$D:$D,$A15)*100)","v":99},null,null,null,null,null,10,{"$f":"IFERROR(VLOOKUP($A15,Compliance!$D$11:$H$38,5,FALSE),\"\")","v":15},9,null,0]
["FT0",210,234.53949262863017,246.30200354682358,36.302003546823585,{"$f":"COUNTIFS('02Feb25'!$E:$E,\"<216\",'02Feb25'!$D:$D,$A16)/COUNTIF('02Feb25'!$D:$D,$A16)","v":4.5248078266946191E-2},{"$f":"COUNTIFS('02Feb25'!$E:$E,\">253\",'02Feb25'!$D:$D,$A16)/COUNTIF('02Feb25'!$D:$D,$A16)","v":0},237.6,246.86847936431823,253.53980612809201,15.939806128092016,{"$f":"COUNTIFS('06Dec24'!$E:$E,\">253\",'06Dec24'!$D:$D,$A16)/COUNTIF('06Dec24'!$D:$D,$A16)","v":1.0293863936971648E-2},0,{"$f":"COUNTIF('06Dec24'!D:D,$A16)","v":17389},253.53980612809201,{"$f":"INT(COUNTIFS('02Feb25'!$E:$E,\"<\"&O16,'02Feb25'!$D:$D,$A16)/COUNTIF('02Feb25'!$D:$D,$A16)*100)","v":100},{"$f":"INT(COUNTIFS('06Dec24'!$E:$E,\"<\"&O16,'06Dec24'!$D:$D,$A16)/COUNTIF('06Dec24'!$D:$D,$A16)*100)","v":99},null,null,null,null,null,5,{"$f":"IFERROR(VLOOKUP($A16,Compliance!$D$11:$H$38,5,FALSE),\"\")","v":21},16,null,0]
["FW0",208.76180904388801,229.17170790313341,240.24255328744388,31.480744243555876,{"$f":"COUNTIFS('02Feb25'!$E:$E,\"<216\",'02Feb25'!$D:$D,$A17)/COUNTIF('02Feb25'!$D:$D,$A17)","v":0.1196000987410516},{"$f":"COUNTIFS('02Feb25'!$E:$E,\">253\",'02Feb25'!$D:$D,$A17)/COUNTIF('02Feb25'!$D:$D,$A17)","v":0},239,246.49032537387424,252.28284802016026,13.282848020160259,{"$f":"COUNTIFS('06Dec24'!$E:$E,\">253\",'06Dec24'!$D:$D,$A17)/COUNTIF('06Dec24'!$D:$D,$A17)","v":5.0728097397947005E-3},0.71715197983974122,{"$f":"COUNTIF('06Dec24'!D:D,$A17)","v":16756},252.28284802016026,{"$f":"INT(COUNTIFS('02Feb25'!$E:$E,\"<\"&O17,'02Feb25'!$D:$D,$A17)/COUNTIF('02Feb25'!$D:$D,$A17)*100)","v":100},{"$f":"INT(COUNTIFS('06Dec24'!$E:$E,\"<\"&O17,'06Dec24'!$D:$D,$A17)/COUNTIF('06Dec24'!$D:$D,$A17)*100)","v":99},null,null,null,null,null,22,{"$f":"IFERROR(VLOOKUP($A17,Compliance!$D$11:$H$38,5,FALSE),\"\")","v":25},6,null,3]
["HB0",209.07514682304779,230.0162696440693,243.0100923765014,33.934945553453616,{"$f":"COUNTIFS('02Feb25'!$E:$E,\"<216\",'02Feb25'!$D:$D,$A18)/COUNTIF('02Feb25'!$D:$D,$A18)","v":9.0387908569726755E-2},{"$f":"COUNTIFS('02Feb25'!$E:$E,\">253\",'02Feb25'!$D:$D,$A18)/COUNTIF('02Feb25'!$D:$D,$A18)","v":0},240.48,248.37663417168054,252.93020579816138,12.450205798161392,{"$f":"COUNTIFS('06Dec24'!$E:$E,\">253\",'06Dec24'!$D:$D,$A18)/COUNTIF('06Dec24'!$D:$D,$A18)","v":8.3967836049242163E-3},6.9794201838618619E-2,{"$f":"COUNTIF('06Dec24'!D:D,$A18)","v":14053},252.93020579816138,{"$f":"INT(COUNTIFS('02Feb25'!$E:$E,\"<\"&O18,'02Feb25'!$D:$D,$A18)/COUNTIF('02Feb25'!$D:$D,$A18)*100)","v":100},{"$f":"INT(COUNTIFS('06Dec24'!$E:$E,\"<\"&O18,'06Dec24'!$D:$D,$A18)/COUNTIF('06Dec24'!$D:$D,$A18)*100)","v":99},null,null,null,null,null,13,{"$f":"IFERROR(VLOOKUP($A18,Compliance!$D$11:$H$38,5,FALSE),\"\")","v":4},11,null,2]
["KLO",216,228.7534068854423,237.75104088960308,21.751040889603075,{"$f":"COUNTIFS('02Feb25'!$E:$E,\"<216\",'02Feb25'!$D:$D,$A19)/COUNTIF('02Feb25'!$D:$D,$A19)","v":1.3043478260869565E-2},{"$f":"COUNTIFS('02Feb25'!$E:$E,\">253\",'02Feb25'!$D:$D,$A19)/COUNTIF('02Feb25'!$D:$D,$A19)","v":0},236,242.52315412186383,249.20317784065904,13.203177840659038,{"$f":"COUNTIFS('06Dec24'!$E:$E,\">253\",'06Dec24'!$D:$D,$A19)/COUNTIF('06Dec24'!$D:$D,$A19)","v":0},0,{"$f":"COUNTIF('06Dec24'!D:D,$A19)","v":16822},249.20317784065904,{"$f":"INT(COUNTIFS('02Feb25'!$E:$E,\"<\"&O19,'02Feb25'!$D:$D,$A19)/COUNTIF('02Feb25'!$D:$D,$A19)*100)","v":100},{"$f":"INT(COUNTIFS('06Dec24'!$E:$E,\"<\"&O19,'06Dec24'!$D:$D,$A19)/COUNTIF('06Dec24'!$D:$D,$A19)*100)","v":99},null,null,null,null,null,28,{"$f":"IFERROR(VLOOKUP($A19,Compliance!$D$11:$H$38,5,FALSE),\"\")","v":""},26,null,2]
["NH0",208,225,240,32,{"$f":"COUNTIFS('02Feb25'!$E:$E,\"<216\",'02Feb25'!$D:$D,$A20)/COUNTIF('02Feb25'!$D:$D,$A20)","v":0.1564248968285375},{"$f":"COUNTIFS('02Feb25'!$E:$E,\">253\",'02Feb25'!$D:$D,$A20)/COUNTIF('02Feb25'!$D:$D,$A20)","v":0},237.6,244.4376,254.82619799999995,17.226197999999954,{"$f":"COUNTIFS('06Dec24'!$E:$E,\">253\",'06Dec24'!$D:$D,$A20)/COUNTIF('06Dec24'!$D:$D,$A20)","v":1.5666349105536149E-2},0,{"$f":"COUNTIF('06Dec24'!D:D,$A20)","v":18894},254.82619799999995,{"$f":"INT(COUNTIFS('02Feb25'!$E:$E,\"<\"&O20,'02Feb25'!$D:$D,$A20)/COUNTIF('02Feb25'!$D:$D,$A20)*100)","v":100},{"$f":"INT(COUNTIFS('06Dec24'!$E:$E,\"<\"&O20,'06Dec24'!$D:$D,$A20)/COUNTIF('06Dec24'!$D:$D,$A20)*100)","v":99},null,null,null,null,null,20,{"$f":"IFERROR(VLOOKUP($A20,Compliance!$D$11:$H$38,5,FALSE),\"\")","v":16},2,null,3]
["NS0",209.70390151020098,235.98559832595598,246.35216974406572,36.648268233864741,{"$f":"COUNTIFS('02Feb25'!$E:$E,\"<216\",'02Feb25'!$D:$D,$A21)/COUNTIF('02Feb25'!$D:$D,$A21)","v":4.089515634580012E-2},{"$f":"COUNTIFS('02Feb25'!$E:$E,\">253\",'02Feb25'!$D:$D,$A21)/COUNTIF('02Feb25'!$D:$D,$A21)","v":0},246.89999999999998,254,257.82017877108427,10.920178771084295,{"$f":"COUNTIFS('06Dec24'!$E:$E,\">253\",'06Dec24'!$D:$D,$A21)/COUNTIF('06Dec24'!$D:$D,$A21)","v":0.66766000677277348},0,{"$f":"COUNTIF('06Dec24'!D:D,$A21)","v":14765},257.82017877108427,{"$f":"INT(COUNTIFS('02Feb25'!$E:$E,\"<\"&O21,'02Feb25'!$D:$D,$A21)/COUNTIF('02Feb25'!$D:$D,$A21)*100)","v":100},{"$f":"INT(COUNTIFS('06Dec24'!$E:$E,\"<\"&O21,'06Dec24'!$D:$D,$A21)/COUNTIF('06Dec24'!$D:$D,$A21)*100)","v":99},null,null,null,null,null,4,{"$f":"IFERROR(VLOOKUP($A21,Compliance!$D$11:$H$38,5,FALSE),\"\")","v":7},17,null,0]
["NT0",207.66689374230995,227.82423795065938,238.93505078609925,31.268157043789301,{"$f":"COUNTIFS('02Feb25'!$E:$E,\"<216\",'02Feb25'!$D:$D,$A22)/COUNTIF('02Feb25'!$D:$D,$A22)","v":0.12611185573291092},{"$f":"COUNTIFS('02Feb25'!$E:$E,\">253\",'02Feb25'!$D:$D,$A22)/COUNTIF('02Feb25'!$D:$D,$A22)","v":0},237.6,244.65950555162553,250.36393507580294,12.763935075802948,{"$f":"COUNTIFS('06Dec24'!$E:$E,\">253\",'06Dec24'!$D:$D,$A22)/COUNTIF('06Dec24'!$D:$D,$A22)","v":8.1151265959748971E-4},2.6360649241970577,{"$f":"COUNTIF('06Dec24'!D:D,$A22)","v":18484},250.36393507580294,{"$f":"INT(COUNTIFS('02Feb25'!$E:$E,\"<\"&O22,'02Feb25'!$D:$D,$A22)/COUNTIF('02Feb25'!$D:$D,$A22)*100)","v":100},{"$f":"INT(COUNTIFS('06Dec24'!$E:$E,\"<\"&O22,'06Dec24'!$D:$D,$A22)/COUNTIF('06Dec24'!$D:$D,$A22)*100)","v":99},null,null,null,null,null,23,{"$f":"IFERROR(VLOOKUP($A22,Compliance!$D$11:$H$38,5,FALSE),\"\")","v":23},4,null,2]
["PTN",211,236.14897181142689,246.54471665842217,35.544716658422175,{"$f":"COUNTIFS('02Feb25'!$E:$E,\"<216\",'02Feb25'!$D:$D,$A23)/COUNTIF('02Feb25'!$D:$D,$A23)","v":3.698332124728064E-2},{"$f":"COUNTIFS('02Feb25'!$E:$E,\">253\",'02Feb25'!$D:$D,$A23)/COUNTIF('02Feb25'!$D:$D,$A23)","v":0},240,247.60400160064029,255.14675313088199,15.14675313088199,{"$f":"COUNTIFS('06Dec24'!$E:$E,\">253\",'06Dec24'!$D:$D,$A23)/COUNTIF('06Dec24'!$D:$D,$A23)","v":4.3533389687235843E-2},0,{"$f":"COUNTIF('06Dec24'!D:D,$A23)","v":14196},255.14675313088199,{"$f":"INT(COUNTIFS('02Feb25'!$E:$E,\"<\"&O23,'02Feb25'!$D:$D,$A23)/COUNTIF('02Feb25'!$D:$D,$A23)*100)","v":100},{"$f":"INT(COUNTIFS('06Dec24'!$E:$E,\"<\"&O23,'06Dec24'!$D:$D,$A23)/COUNTIF('06Dec24'!$D:$D,$A23)*100)","v":99},null,null,null,null,null,8,{"$f":"IFERROR(VLOOKUP($A23,Compliance!$D$11:$H$38,5,FALSE),\"\")","v":3},19,null,0]
["PV0",208,227.53486952581542,241.72903006299933,33.729030062999328,{"$f":"COUNTIFS('02Feb25'!$E:$E,\"<216\",'02Feb25'!$D:$D,$A24)/COUNTIF('02Feb25'!$D:$D,$A24)","v":0.11594444676147975},{"$f":"COUNTIFS('02Feb25'!$E:$E,\">253\",'02Feb25'!$D:$D,$A24)/COUNTIF('02Feb25'!$D:$D,$A24)","v":0},237.6,244.80125773195877,252.69627265368453,15.096272653684537,{"$f":"COUNTIFS('06Dec24'!$E:$E,\">253\",'06Dec24'!$D:$D,$A24)/COUNTIF('06Dec24'!$D:$D,$A24)","v":5.2419354838709681E-3},0.30372734631546905,{"$f":"COUNTIF('06Dec24'!D:D,$A24)","v":24800},252.69627265368453,{"$f":"INT(COUNTIFS('02Feb25'!$E:$E,\"<\"&O24,'02Feb25'!$D:$D,$A24)/COUNTIF('02Feb25'!$D:$D,$A24)*100)","v":100},{"$f":"INT(COUNTIFS('06Dec24'!$E:$E,\"<\"&O24,'06Dec24'!$D:$D,$A24)/COUNTIF('06Dec24'!$D:$D,$A24)*100)","v":99},null,null,null,null,null,14,{"$f":"IFERROR(VLOOKUP($A24,Compliance!$D$11:$H$38,5,FALSE),\"\")","v":20},8,null,3]
["SA0",219.29592244242664,230.35875493615529,236.974476814371,17.678554371944358,{"$f":"COUNTIFS('02Feb25'!$E:$E,\"<216\",'02Feb25'!$D:$D,$A25)/COUNTIF('02Feb25'!$D:$D,$A25)","v":4.2372881355932203E-3},{"$f":"COUNTIFS('02Feb25'!$E:$E,\">253\",'02Feb25'!$D:$D,$A25)/COUNTIF('02Feb25'!$D:$D,$A25)","v":0},244.8,250,255.28130526315792,10.481305263157907,{"$f":"COUNTIFS('06Dec24'!$E:$E,\">253\",'06Dec24'!$D:$D,$A25)/COUNTIF('06Dec24'!$D:$D,$A25)","v":2.2344013490725127E-2},0,{"$f":"COUNTIF('06Dec24'!D:D,$A25)","v":2372},255.28130526315792,{"$f":"INT(COUNTIFS('02Feb25'!$E:$E,\"<\"&O25,'02Feb25'!$D:$D,$A25)/COUNTIF('02Feb25'!$D:$D,$A25)*100)","v":100},{"$f":"INT(COUNTIFS('06Dec24'!$E:$E,\"<\"&O25,'06Dec24'!$D:$D,$A25)/COUNTIF('06Dec24'!$D:$D,$A25)*100)","v":99},null,null,null,null,null,30,{"$f":"IFERROR(VLOOKUP($A25,Compliance!$D$11:$H$38,5,FALSE),\"\")","v":27},30,null,2]
["SBY",215,236,247.29322121764505,32.293221217645055,{"$f":"COUNTIFS('02Feb25'!$E:$E,\"<216\",'02Feb25'!$D:$D,$A26)/COUNTIF('02Feb25'!$D:$D,$A26)","v":1.2657141631269575E-2},{"$f":"COUNTIFS('02Feb25'!$E:$E,\">253\",'02Feb25'!$D:$D,$A26)/COUNTIF('02Feb25'!$D:$D,$A26)","v":0},239,246.92242647674905,254.10916867894073,15.109168678940733,{"$f":"COUNTIFS('06Dec24'!$E:$E,\">253\",'06Dec24'!$D:$D,$A26)/COUNTIF('06Dec24'!$D:$D,$A26)","v":1.7312270071413113E-2},0,{"$f":"COUNTIF('06Dec24'!D:D,$A26)","v":23105},254.10916867894073,{"$f":"INT(COUNTIFS('02Feb25'!$E:$E,\"<\"&O26,'02Feb25'!$D:$D,$A26)/COUNTIF('02Feb25'!$D:$D,$A26)*100)","v":100},{"$f":"INT(COUNTIFS('06Dec24'!$E:$E,\"<\"&O26,'06Dec24'!$D:$D,$A26)/COUNTIF('06Dec24'!$D:$D,$A26)*100)","v":99},null,null,null,null,null,18,{"$f":"IFERROR(VLOOKUP($A26,Compliance!$D$11:$H$38,5,FALSE),\"\")","v":5},27,null,0]
["SHM",213,229.36221925188855,241.92050866401357,28.920508664013568,{"$f":"COUNTIFS('02Feb25'!$E:$E,\"<216\",'02Feb25'!$D:$D,$A27)/COUNTIF('02Feb25'!$D:$D,$A27)","v":3.7590579710144928E-2},{"$f":"COUNTIFS('02Feb25'!$E:$E,\">253\",'02Feb25'!$D:$D,$A27)/COUNTIF('02Feb25'!$D:$D,$A27)","v":0},240,247.19400749063672,253.36301583546893,13.363015835468929,{"$f":"COUNTIFS('06Dec24'!$E:$E,\">253\",'06Dec24'!$D:$D,$A27)/COUNTIF('06Dec24'!$D:$D,$A27)","v":6.9915254237288135E-3},0,{"$f":"COUNTIF('06Dec24'!D:D,$A27)","v":23600},253.36301583546893,{"$f":"INT(COUNTIFS('02Feb25'!$E:$E,\"<\"&O27,'02Feb25'!$D:$D,$A27)/COUNTIF('02Feb25'!$D:$D,$A27)*100)","v":100},{"$f":"INT(COUNTIFS('06Dec24'!$E:$E,\"<\"&O27,'06Dec24'!$D:$D,$A27)/COUNTIF('06Dec24'!$D:$D,$A27)*100)","v":99},null,null,null,null,null,26,{"$f":"IFERROR(VLOOKUP($A27,Compliance!$D$11:$H$38,5,FALSE),\"\")","v":9},18,null,2]
["ST0",216,232.49215096358728,244.67673960656072,28.676739606560716,{"$f":"COUNTIFS('02Feb25'!$E:$E,\"<216\",'02Feb25'!$D:$D,$A28)/COUNTIF('02Feb25'!$D:$D,$A28)","v":1.0749173838835021E-2},{"$f":"COUNTIFS('02Feb25'!$E:$E,\">253\",'02Feb25'!$D:$D,$A28)/COUNTIF('02Feb25'!$D:$D,$A28)","v":0},240.4,247.1777604744095,254.29966936653022,13.899669366530219,{"$f":"COUNTIFS('06Dec24'!$E:$E,\">253\",'06Dec24'!$D:$D,$A28)/COUNTIF('06Dec24'!$D:$D,$A28)","v":2.0564618682556407E-2},0,{"$f":"COUNTIF('06Dec24'!D:D,$A28)","v":27523},254.29966936653022,{"$f":"INT(COUNTIFS('02Feb25'!$E:$E,\"<\"&O28,'02Feb25'!$D:$D,$A28)/COUNTIF('02Feb25'!$D:$D,$A28)*100)","v":100},{"$f":"INT(COUNTIFS('06Dec24'!$E:$E,\"<\"&O28,'06Dec24'!$D:$D,$A28)/COUNTIF('06Dec24'!$D:$D,$A28)*100)","v":99},null,null,null,null,null,27,{"$f":"IFERROR(VLOOKUP($A28,Compliance!$D$11:$H$38,5,FALSE),\"\")","v":8},28,null,3]
["TH0",210.42092694397724,236.46198062078241,246.14214295244571,35.721216008468474,{"$f":"COUNTIFS('02Feb25'!$E:$E,\"<216\",'02Feb25'!$D:$D,$A29)/COUNTIF('02Feb25'!$D:$D,$A29)","v":3.1467691568580348E-2},{"$f":"COUNTIFS('02Feb25'!$E:$E,\">253\",'02Feb25'!$D:$D,$A29)/COUNTIF('02Feb25'!$D:$D,$A29)","v":0},240.24,247.19685577936747,255.71141414510123,15.471414145101221,{"$f":"COUNTIFS('06Dec24'!$E:$E,\">253\",'06Dec24'!$D:$D,$A29)/COUNTIF('06Dec24'!$D:$D,$A29)","v":9.6703776468020086E-2},0,{"$f":"COUNTIF('06Dec24'!D:D,$A29)","v":4581},255.71141414510123,{"$f":"INT(COUNTIFS('02Feb25'!$E:$E,\"<\"&O29,'02Feb25'!$D:$D,$A29)/COUNTIF('02Feb25'!$D:$D,$A29)*100)","v":100},{"$f":"INT(COUNTIFS('06Dec24'!$E:$E,\"<\"&O29,'06Dec24'!$D:$D,$A29)/COUNTIF('06Dec24'!$D:$D,$A29)*100)","v":99},null,null,null,null,null,7,{"$f":"IFERROR(VLOOKUP($A29,Compliance!$D$11:$H$38,5,FALSE),\"\")","v":14},21,null,2]
["TMA",211.18418232872978,239.12102518861576,247.43048081392013,36.246298485190351,{"$f":"COUNTIFS('02Feb25'!$E:$E,\"<216\",'02Feb25'!$D:$D,$A30)/COUNTIF('02Feb25'!$D:$D,$A30)","v":2.3932605782117557E-2},{"$f":"COUNTIFS('02Feb25'!$E:$E,\">253\",'02Feb25'!$D:$D,$A30)/COUNTIF('02Feb25'!$D:$D,$A30)","v":0},240,247.1830783813941,255.26663310683969,15.266633106839691,{"$f":"COUNTIFS('06Dec24'!$E:$E,\">253\",'06Dec24'!$D:$D,$A30)/COUNTIF('06Dec24'!$D:$D,$A30)","v":4.8347497639282339E-2},0,{"$f":"COUNTIF('06Dec24'!D:D,$A30)","v":5295},255.26663310683969,{"$f":"INT(COUNTIFS('02Feb25'!$E:$E,\"<\"&O30,'02Feb25'!$D:$D,$A30)/COUNTIF('02Feb25'!$D:$D,$A30)*100)","v":100},{"$f":"INT(COUNTIFS('06Dec24'!$E:$E,\"<\"&O30,'06Dec24'!$D:$D,$A30)/COUNTIF('06Dec24'!$D:$D,$A30)*100)","v":99},null,null,null,null,null,6,{"$f":"IFERROR(VLOOKUP($A30,Compliance!$D$11:$H$38,5,FALSE),\"\")","v":17},23,null,0]
["TT0",208.28062235952822,230.56664895199771,241.86328452197426,33.582662162446042,{"$f":"COUNTIFS('02Feb25'!$E:$E,\"<216\",'02Feb25'!$D:$D,$A31)/COUNTIF('02Feb25'!$D:$D,$A31)","v":9.1428571428571428E-2},{"$f":"COUNTIFS('02Feb25'!$E:$E,\">253\",'02Feb25'!$D:$D,$A31)/COUNTIF('02Feb25'!$D:$D,$A31)","v":0},240,248.90512295081965,254.89440247182378,14.894402471823781,{"$f":"COUNTIFS('06Dec24'!$E:$E,\">253\",'06Dec24'!$D:$D,$A31)/COUNTIF('06Dec24'!$D:$D,$A31)","v":4.8894581500250597E-2},0,{"$f":"COUNTIF('06Dec24'!D:D,$A31)","v":17957},254.89440247182378,{"$f":"INT(COUNTIFS('02Feb25'!$E:$E,\"<\"&O31,'02Feb25'!$D:$D,$A31)/COUNTIF('02Feb25'!$D:$D,$A31)*100)","v":100},{"$f":"INT(COUNTIFS('06Dec24'!$E:$E,\"<\"&O31,'06Dec24'!$D:$D,$A31)/COUNTIF('06Dec24'!$D:$D,$A31)*100)","v":99},null,null,null,null,null,16,{"$f":"IFERROR(VLOOKUP($A31,Compliance!$D$11:$H$38,5,FALSE),\"\")","v":10},10,null,3]
["WT0",217.92997149703405,232.66412854431906,238.66441396467258,20.73444246763853,{"$f":"COUNTIFS('02Feb25'!$E:$E,\"<216\",'02Feb25'!$D:$D,$A32)/COUNTIF('02Feb25'!$D:$D,$A32)","v":5.7803468208092483E-3},{"$f":"COUNTIFS('02Feb25'!$E:$E,\">253\",'02Feb25'!$D:$D,$A32)/COUNTIF('02Feb25'!$D:$D,$A32)","v":0},244.8,249,252.60454330434791,7.8045433043479022,{"$f":"COUNTIFS('06Dec24'!$E:$E,\">253\",'06Dec24'!$D:$D,$A32)/COUNTIF('06Dec24'!$D:$D,$A32)","v":5.7803468208092483E-3},0,{"$f":"COUNTIF('06Dec24'!D:D,$A32)","v":173},252.60454330434791,{"$f":"INT(COUNTIFS('02Feb25'!$E:$E,\"<\"&O32,'02Feb25'!$D:$D,$A32)/COUNTIF('02Feb25'!$D:$D,$A32)*100)","v":100},{"$f":"INT(COUNTIFS('06Dec24'!$E:$E,\"<\"&O32,'06Dec24'!$D:$D,$A32)/COUNTIF('06Dec24'!$D:$D,$A32)*100)","v":99},null,null,null,null,null,29,{"$f":"IFERROR(VLOOKUP($A32,Compliance!$D$11:$H$38,5,FALSE),\"\")","v":""},29,null,2]
["YVE",210.31786246623682,229.34773614966775,245.61378328274421,35.29592081650739,{"$f":"COUNTIFS('02Feb25'!$E:$E,\"<216\",'02Feb25'!$D:$D,$A33)/COUNTIF('02Feb25'!$D:$D,$A33)","v":5.8724428399518649E-2},{"$f":"COUNTIFS('02Feb25'!$E:$E,\">253\",'02Feb25'!$D:$D,$A33)/COUNTIF('02Feb25'!$D:$D,$A33)","v":0},237.6,244.82011914893616,253.69484846808507,16.094848468085075,{"$f":"COUNTIFS('06Dec24'!$E:$E,\">253\",'06Dec24'!$D:$D,$A33)/COUNTIF('06Dec24'!$D:$D,$A33)","v":1.4613282642271594E-2},0,{"$f":"COUNTIF('06Dec24'!D:D,$A33)","v":8417},253.69484846808507,{"$f":"INT(COUNTIFS('02Feb25'!$E:$E,\"<\"&O33,'02Feb25'!$D:$D,$A33)/COUNTIF('02Feb25'!$D:$D,$A33)*100)","v":100},{"$f":"INT(COUNTIFS('06Dec24'!$E:$E,\"<\"&O33,'06Dec24'!$D:$D,$A33)/COUNTIF('06Dec24'!$D:$D,$A33)*100)","v":99},null,null,null,null,null,9,{"$f":"IFERROR(VLOOKUP($A33,Compliance!$D$11:$H$38,5,FALSE),\"\")","v":24},15,null,0]
["TOTALS"]

{"sheet":"02Feb25","index":19,"n_rows":471412,"n_cols":5,"rows_kept":4500,"cut":true,"hidden":false,"merged":[],"bounds":{"rows_first":2000,"rows_last":500,"rows_between":2000,"halvings":0}}
["NMI","Circuit","HV.Feeder","ZSS","Minimum.V"]
[6001148657,"SEXTON-PARER (01)","AW0-006 ","AW0",206]
[6001411905,"RYDER-NOLAN (02)","AW0-006 ","AW0",206.02000427246099]
[6001259964,"ETZEL-CLYDESDALE (01)","AW0-006 ","AW0",206.080001831055]
[6001478554,"HIGHRIDGE-ROBERTS (03)","AW0-006 ","AW0",206.080001831055]
[6001148319,"HILBERT-HARRINGTON (02)","AW0-008 ","AW0",206.11000061035199]
[6001147775,"ETZEL-CLYDESDALE (03)","AW0-006 ","AW0",206.11999511718801]
[6001333722,"STEELE CREEK-BASALT (01)","AW0-007 ","AW0",206.11999511718801]
[6001558001,"QUINN-NOGA (01)","AW0-007 ","AW0",206.13000488281301]
[6001509647,"NEWMAN-HOTHAM (01)","AW0-007 ","AW0",206.13999938964801]
[6001197184,"COLLEGE-BREES (03)","AW0-008 ","AW0",206.14999389648401]
[6001227523,"ROSEHILL-ROSE (02)","AW0-006 ","AW0",206.16000366210901]
[6001157444,"CUDGEWA-BORVA (01)","AW0-008 ","AW0",206.169998168945]
[6001324520,"VALLEY LAKE-STEELE CREEK (01)","AW0-007 ","AW0",206.169998168945]
[6001446437,"ROBERTS-MCNAMARA (01)","AW0-006 ","AW0",206.19000244140599]
[6001469059,"HEATHER-DINAH (01)","AW0-006 ","AW0",206.19000244140599]
[6001570075,"SHELLEY-NOGA (01)","AW0-007 ","AW0",206.19999694824199]
[6001592197,"ROSEHILL-TALBOT (01)","AW0-006 ","AW0",206.19999694824199]
[6001227969,"ROSEHILL-ROSE (02)","AW0-006 ","AW0",206.21000671386699]
[6001466211,"HILBERT-HARRINGTON (02)","AW0-008 ","AW0",206.24000549316401]
[6001227928,"OAK-CONISTON (03)","AW0-007 ","AW0",206.25]
[6001158237,"QUINN-NOGA (02)","AW0-007 ","AW0",206.27000427246099]
[6001216400,"SEXTON-PARER (03)","AW0-006 ","AW0",206.27000427246099]
[6001452434,"PAMELA-HERBERT (02)","AW0-006 ","AW0",206.27000427246099]
[6001159446,"ROSTELLA-NORWOOD (01)","AW0-008 ","AW0",206.30000305175801]
[6001147580,"KINGSLEY-ROBERTS (01)","AW0-007 ","AW0",206.32000732421901]
[6001214979,"CLAYTON-MASCOMA (01)","AW0-012 ","AW0",206.33999633789099]
[6001298894,"CENTREWAY-WINGARA (03)","AW0-007 ","AW0",206.33999633789099]
[6001163629,"HANSON-GOBLE (01)","AW0-007 ","AW0",206.35000610351599]
[6001019667,"JUDITH-BREES (02)","AW0-006 ","AW0",206.36000061035199]
[6001157112,"WUNNAMURRA-WONGANELA (01)","AW0-008 ","AW0",206.36000061035199]
[6001157540,"WOORITE-MILLEARA (01)","AW0-008 ","AW0",206.36000061035199]
[6001147329,"MCNAMARA-ROBERTS (02)","AW0-006 ","AW0",206.36999511718801]
[6001311788,"WUNNAMURRA-WONGANELA (01)","AW0-008 ","AW0",206.36999511718801]
[6001274950,"QUINN-NOGA (02)","AW0-007 ","AW0",206.38999938964801]
[6001157844,"CENTREWAY-WINGARA (03)","AW0-007 ","AW0",206.39999389648401]
[6001158191,"PAMELA-HERBERT (01)","AW0-006 ","AW0",206.39999389648401]
[6001494414,"FARRELL-RYDER (03)","AW0-006 ","AW0",206.39999389648401]
[6001514376,"SEXTON-PARER (03)","AW0-006 ","AW0",206.39999389648401]
[6001147523,"HILBERT-HARRINGTON (02)","AW0-008 ","AW0",206.41000366210901]
[6001158202,"PAMELA-HERBERT (02)","AW0-006 ","AW0",206.41000366210901]
[6001247217,"QUINN-NOGA (02)","AW0-007 ","AW0",206.41000366210901]
[6001158568,"JUDITH-BREES (02)","AW0-006 ","AW0",206.419998168945]
[6001268039,"HENRY-DENNIS (02)","AW0-008 ","AW0",206.419998168945]
[6001125017,"MCPHERSON-QUINN (03)","AW0-008 ","AW0",206.42999267578099]
[6001158550,"DAVID-RACHELLE (01)","AW0-007 ","AW0",206.42999267578099]
[6001221721,"COLLEGE-BREES (03)","AW0-008 ","AW0",206.42999267578099]
[6001148881,"SEXTON-HALSEY (02)","AW0-006 ","AW0",206.47000122070301]
[6001147333,"MCNAMARA-ROBERTS (02)","AW0-006 ","AW0",206.47999572753901]
[6001148539,"SEXTON-PARER (03)","AW0-006 ","AW0",206.47999572753901]
[6001399635,"ROBERTS-MCNAMARA (01)","AW0-006 ","AW0",206.47999572753901]
[6001475484,"MCNAMARA-ROBERTS (02)","AW0-006 ","AW0",206.47999572753901]
[6001455646,"MCNAMARA-ROBERTS (02)","AW0-006 ","AW0",206.49000549316401]
[6001243027,"DAVID-RACHELLE (03)","AW0-007 ","AW0",206.5]
[6001541451,"SHELLEY-NOGA (01)","AW0-007 ","AW0",206.5]
[6001548780,"SEXTON-PARER (01)","AW0-006 ","AW0",206.5]
[6001396630,"COLLEGE-BREES (03)","AW0-008 ","AW0",206.52000427246099]
[6001158214,"PAMELA-HERBERT (02)","AW0-006 ","AW0",206.52999877929699]
[6001163804,"HOTHAM-RYDER No. 2 (03)","AW0-006 ","AW0",206.53999328613301]
[6001304734,"ROBERTS-MCNAMARA (01)","AW0-006 ","AW0",206.57000732421901]
[6001429406,"RYDER-NOLAN (02)","AW0-006 ","AW0",206.580001831055]
[6001325764,"STEELE CREEK-BASALT (01)","AW0-007 ","AW0",206.58999633789099]
[6001326457,"STEELE CREEK-BASALT (01)","AW0-007 ","AW0",206.58999633789099]
[6001430099,"VIEWBANK-BREES (01)","AW0-006 ","AW0",206.58999633789099]
[6001158394,"QUINN-NOGA (01)","AW0-007 ","AW0",206.60000610351599]
[6001320854,"VALLEY LAKE-STEELE CREEK (01)","AW0-007 ","AW0",206.60000610351599]
[6001552354,"NORTH-THOMAS (01)","AW0-007 ","AW0",206.60000610351599]
[6001614018,"CENTREWAY-WINGARA (03)","AW0-007 ","AW0",206.60000610351599]
[6001197825,"THE CROSSWAY-PARK (02)","AW0-008 ","AW0",206.63999938964801]
[6001154232,"CLAYTON-MASCOMA (01)","AW0-012 ","AW0",206.66000366210901]
[6001163631,"HANSON-GOBLE (01)","AW0-007 ","AW0",206.69999694824199]
[6001552186,"NEWMAN-HOTHAM (01)","AW0-007 ","AW0",206.69999694824199]
[6001158289,"PAMELA-HERBERT (02)","AW0-006 ","AW0",206.74000549316401]
[6001414262,"SYCAMORE-BROADMEADOWS (01)","AW0-009 ","AW0",206.74000549316401]
[6001476048,"ETZEL-CLYDESDALE (01)","AW0-006 ","AW0",206.74000549316401]
[6001227018,"SEXTON-PARER (03)","AW0-006 ","AW0",206.75]
[6001148656,"SEXTON-PARER (01)","AW0-006 ","AW0",206.75999450683599]
[6001481570,"ROBERTS-MCNAMARA (01)","AW0-006 ","AW0",206.75999450683599]
[6001147094,"OAK-CONISTON (02)","AW0-007 ","AW0",206.77000427246099]
[6001252890,"HILBERT-HARRINGTON (02)","AW0-008 ","AW0",206.77000427246099]
[6001007618,"MCNAMARA-ROBERTS (02)","AW0-006 ","AW0",206.80000305175801]
[6001524944,"WEST-KINGSLEY (01)","AW0-007 ","AW0",206.80000305175801]
[6001528339,"CAMERON-MATTHEWS (03)","AW0-006 ","AW0",206.80000305175801]
[6001612027,"ROBERTS-MCNAMARA (01)","AW0-006 ","AW0",206.80000305175801]
[6001454342,"FULLARTON-WALTERS (01)","AW0-006 ","AW0",206.80999755859401]
[6001147497,"HILBERT-HARRINGTON (01)","AW0-008 ","AW0",206.82000732421901]
[6001273265,"WUNNAMURRA-WONGANELA (01)","AW0-008 ","AW0",206.82000732421901]
[6001022647,"GREENACRE-AYLESBURY (02)","AW0-002 ","AW0",206.85000610351599]
[6001446281,"ROSEHILL-TALBOT (01)","AW0-006 ","AW0",206.85000610351599]
[6001474761,"DAVID-RACHELLE (03)","AW0-007 ","AW0",206.86000061035199]
[6001148034,"HAWKER-MCNAMARA (02)","AW0-001 ","AW0",206.86999511718801]
[6001157442,"CUDGEWA-BORVA (01)","AW0-008 ","AW0",206.86999511718801]
[6001475486,"MCNAMARA-ROBERTS (02)","AW0-006 ","AW0",206.88000488281301]
[6001470695,"WUNNAMURRA-WONGANELA (02)","AW0-008 ","AW0",206.88999938964801]
[6001197166,"PAMELA-HERBERT (02)","AW0-006 ","AW0",206.89999389648401]
[6001521502,"HILBERT-HARRINGTON (02)","AW0-008 ","AW0",206.89999389648401]
[6001124415,"HOTHAM-RYDER No. 2 (03)","AW0-006 ","AW0",206.919998168945]
[6001194395,"GREENACRE-AYLESBURY (02)","AW0-002 ","AW0",206.92999267578099]
[6001148321,"HILBERT-HARRINGTON (02)","AW0-008 ","AW0",206.94000244140599]
[6001228897,"HOTHAM-RYDER No. 2 (03)","AW0-006 ","AW0",206.94000244140599]
[6001158443,"DAVID-RACHELLE (03)","AW0-007 ","AW0",206.96000671386699]
[6001157627,"CUDGEWA-BORVA (01)","AW0-008 ","AW0",206.97000122070301]
[6001340510,"RYDER-NOLAN (02)","AW0-006 ","AW0",206.97000122070301]
[6001394596,"WEST-KINGSLEY (01)","AW0-007 ","AW0",206.97000122070301]
[6001157536,"WOORITE-MILLEARA (01)","AW0-008 ","AW0",206.97999572753901]
[6001448174,"ROBERTS-MCNAMARA (01)","AW0-006 ","AW0",206.97999572753901]
[6001125688,"COLLEGE-BREES (03)","AW0-008 ","AW0",207]
[6001158557,"JUDITH-BREES (02)","AW0-006 ","AW0",207]
[6001538745,"CLAYTON-MASCOMA (01)","AW0-012 ","AW0",207]
[6001637002,"QUINN-NOGA (01)","AW0-007 ","AW0",207]
[6001213854,"MCPHERSON-QUINN (03)","AW0-008 ","AW0",207.02000427246099]
[6001226898,"ROSEHILL-ROSE (02)","AW0-006 ","AW0",207.02999877929699]
[6001313842,"FARRELL-RYDER (03)","AW0-006 ","AW0",207.02999877929699]
[6001345198,"WUNNAMURRA-WONGANELA (01)","AW0-008 ","AW0",207.05000305175801]
[6001450071,"ROSEHILL-TALBOT (01)","AW0-006 ","AW0",207.05000305175801]
[6001147798,"NORTH-THOMAS (01)","AW0-007 ","AW0",207.05999755859401]
[6001158184,"PAMELA-HERBERT (01)","AW0-006 ","AW0",207.05999755859401]
[6001434181,"RYDER-NOLAN (02)","AW0-006 ","AW0",207.07000732421901]
[6001197877,"NORWOOD-PROSPECT (02)","AW0-008 ","AW0",207.080001831055]
[6001147582,"KINGSLEY-ROBERTS (01)","AW0-007 ","AW0",207.08999633789099]
[6001278618,"SEXTON-HALSEY (04)","AW0-006 ","AW0",207.08999633789099]
[6001428641,"SYCAMORE-BROADMEADOWS (01)","AW0-009 ","AW0",207.08999633789099]
[6001147542,"HILBERT-HARRINGTON (01)","AW0-008 ","AW0",207.10000610351599]
[6001147794,"NORTH-THOMAS (01)","AW0-007 ","AW0",207.10000610351599]
[6001427672,"HIGHRIDGE-ROBERTS (03)","AW0-006 ","AW0",207.10000610351599]
[6001490660,"WUNNAMURRA-WONGANELA (01)","AW0-008 ","AW0",207.10000610351599]
[6001154243,"CLAYTON-MASCOMA (01)","AW0-012 ","AW0",207.13000488281301]
[6001157845,"CENTREWAY-WINGARA (03)","AW0-007 ","AW0",207.13999938964801]
[6001484201,"ROBERTS-MCNAMARA (01)","AW0-006 ","AW0",207.13999938964801]
[6001477142,"SEXTON-PARER (01)","AW0-006 ","AW0",207.169998168945]
[6001158183,"PAMELA-HERBERT (01)","AW0-006 ","AW0",207.17999267578099]
[6001333330,"QUINN-NOGA (01)","AW0-007 ","AW0",207.19999694824199]
[6001521547,"HILBERT-HARRINGTON (02)","AW0-008 ","AW0",207.19999694824199]
[6001154235,"CLAYTON-MASCOMA (01)","AW0-012 ","AW0",207.22000122070301]
[6001125688,"COLLEGE-BREES (03)","AW0-008 ","AW0",207.22999572753901]
[6001147740,"ETZEL-CLYDESDALE (01)","AW0-006 ","AW0",207.22999572753901]
[6001212428,"WUNNAMURRA-WONGANELA (02)","AW0-008 ","AW0",207.24000549316401]
[6001258760,"FARRELL-RYDER (03)","AW0-006 ","AW0",207.27000427246099]
[6001226626,"COLLEGE-BREES (03)","AW0-008 ","AW0",207.27999877929699]
[6001014943,"HART-BOWES (03)","AW0-006 ","AW0",207.28999328613301]
[6001227278,"NORTH-THOMAS (01)","AW0-007 ","AW0",207.30000305175801]
[6001147753,"ETZEL-CLYDESDALE (01)","AW0-006 ","AW0",207.30999755859401]
[6001149939,"JUDY-CHURCHILL (02)","AW0-004 ","AW0",207.30999755859401]
[6001223313,"COLLEGE-BREES (03)","AW0-008 ","AW0",207.30999755859401]
[6001194397,"GREENACRE-AYLESBURY (02)","AW0-002 ","AW0",207.32000732421901]
[6001157543,"WOORITE-MILLEARA (01)","AW0-008 ","AW0",207.36000061035199]
[6001040191,"NORTH-THOMAS (01)","AW0-007 ","AW0",207.36999511718801]
[6001197347,"THE CROSSWAY-VISTA (02)","AW0-008 ","AW0",207.38999938964801]
[6001148268,"HILBERT-HARRINGTON (01)","AW0-008 ","AW0",207.39999389648401]
[6001158433,"DAVID-RACHELLE (03)","AW0-007 ","AW0",207.39999389648401]
[6001491172,"SHELLEY-NOGA (01)","AW0-007 ","AW0",207.39999389648401]
[6001636019,"CENTREWAY-WINGARA (03)","AW0-007 ","AW0",207.39999389648401]
[6001219970,"NORTH-THOMAS (01)","AW0-007 ","AW0",207.41000366210901]
[6001030212,"THE CROSSWAY-VISTA (03)","AW0-008 ","AW0",207.44000244140599]
[6001148302,"HILBERT-HARRINGTON (01)","AW0-008 ","AW0",207.44999694824199]
[6001158562,"JUDITH-BREES (02)","AW0-006 ","AW0",207.46000671386699]
[6001226813,"NORTH-THOMAS (01)","AW0-007 ","AW0",207.46000671386699]
[6001344543,"HART-BOWES (03)","AW0-006 ","AW0",207.46000671386699]
[6001157202,"QUINN-CLARKS (01)","AW0-007 ","AW0",207.47999572753901]
[6001434709,"SEXTON-HALSEY (03)","AW0-006 ","AW0",207.47999572753901]
[6001197183,"COLLEGE-BREES (03)","AW0-008 ","AW0",207.49000549316401]
[6001147050,"HIGHRIDGE-ROBERTS (03)","AW0-006 ","AW0",207.5]
[6001148540,"SEXTON-PARER (03)","AW0-006 ","AW0",207.5]
[6001490647,"WUNNAMURRA-WONGANELA (01)","AW0-008 ","AW0",207.5]
[6001490814,"HILLSIDE-ROBERTS (02)","AW0-007 ","AW0",207.5]
[6001346696,"RYDER-NOLAN (02)","AW0-006 ","AW0",207.50999450683599]
[6001147513,"HILBERT-ROBERTS (02)","AW0-008 ","AW0",207.52000427246099]
[6001158215,"DAVID-RACHELLE (01)","AW0-007 ","AW0",207.52000427246099]
[6001158355,"DAVID-RACHELLE (02)","AW0-007 ","AW0",207.55999755859401]
[6001331622,"STEELE CREEK-BASALT (01)","AW0-007 ","AW0",207.55999755859401]
[6001148313,"HILBERT-HARRINGTON (01)","AW0-008 ","AW0",207.57000732421901]
[6001158299,"PAMELA-HERBERT (01)","AW0-006 ","AW0",207.580001831055]
[6001147824,"HAWKER-MCNAMARA (02)","AW0-001 ","AW0",207.60000610351599]
[6001158238,"QUINN-NOGA (02)","AW0-007 ","AW0",207.60000610351599]
[6001470686,"WUNNAMURRA-WONGANELA (02)","AW0-008 ","AW0",207.60000610351599]
[6001552608,"COHEN-GROVES (02)","AW0-008 ","AW0",207.60000610351599]
[6001563368,"WEST-KINGSLEY (01)","AW0-007 ","AW0",207.60000610351599]
[6001197910,"THE CROSSWAY-PARK (02)","AW0-008 ","AW0",207.61000061035199]
[6001276345,"SEXTON-HALSEY (04)","AW0-006 ","AW0",207.61000061035199]
[6001223312,"COLLEGE-BREES (03)","AW0-008 ","AW0",207.61999511718801]
[6001194396,"GREENACRE-AYLESBURY (02)","AW0-002 ","AW0",207.63999938964801]
[6001147447,"ROBERTS-MCNAMARA (01)","AW0-006 ","AW0",207.64999389648401]
[6001224558,"NORTH-THOMAS (01)","AW0-007 ","AW0",207.64999389648401]
[6001282224,"NORTH-THOMAS (01)","AW0-007 ","AW0",207.67999267578099]
[6001154339,"LOCKHEED-BOEING (02)","AW0-012 ","AW0",207.69000244140599]
[6001212366,"HART-BOWES (03)","AW0-006 ","AW0",207.69000244140599]
[6001159043,"ELLEN-RACHELLE (02)","AW0-008 ","AW0",207.69999694824199]
[6001489797,"HILBERT-HARRINGTON (02)","AW0-008 ","AW0",207.69999694824199]
[6001490128,"SHELLEY-NOGA (01)","AW0-007 ","AW0",207.69999694824199]
[6001276342,"SEXTON-HALSEY (04)","AW0-006 ","AW0",207.71000671386699]
[6001428638,"SYCAMORE-BROADMEADOWS (01)","AW0-009 ","AW0",207.71000671386699]
[6001158181,"PAMELA-HERBERT (01)","AW0-006 ","AW0",207.72999572753901]
[6001326875,"PAMELA-HERBERT (01)","AW0-006 ","AW0",207.72999572753901]
[6001148166,"NORTH-THOMAS (01)","AW0-007 ","AW0",207.74000549316401]
[6001274529,"NEWMAN-HOTHAM (03)","AW0-007 ","AW0",207.74000549316401]
[6001147527,"HILBERT-HARRINGTON (02)","AW0-008 ","AW0",207.75]
[6001197912,"THE CROSSWAY-PARK (02)","AW0-008 ","AW0",207.75]
[6001418881,"VALLEY LAKE-STEELE CREEK (03)","AW0-007 ","AW0",207.75]
[6001158179,"PAMELA-HERBERT (01)","AW0-006 ","AW0",207.75999450683599]
[6001158559,"JUDITH-BREES (02)","AW0-006 ","AW0",207.77000427246099]
[6001260193,"NORTH-THOMAS (01)","AW0-007 ","AW0",207.77000427246099]
[6001158429,"DAVID-RACHELLE (03)","AW0-007 ","AW0",207.77999877929699]
[6001476047,"ETZEL-CLYDESDALE (01)","AW0-006 ","AW0",207.78999328613301]
[6001148350,"HILBERT-HARRINGTON (01)","AW0-008 ","AW0",207.80000305175801]
[6001435156,"KINGSLEY-ROBERTS (01)","AW0-007 ","AW0",207.80000305175801]
[6001494407,"FARRELL-RYDER (03)","AW0-006 ","AW0",207.80000305175801]
[6001519126,"NORTH-THOMAS (01)","AW0-007 ","AW0",207.80000305175801]
[6001126064,"QUINN-CLARKS (03)","AW0-007 ","AW0",207.80999755859401]
[6001148535,"SEXTON-PARER (03)","AW0-006 ","AW0",207.80999755859401]
[6001218659,"NORTH-THOMAS (01)","AW0-007 ","AW0",207.82000732421901]
[6001124497,"WUNNAMURRA-WONGANELA (01)","AW0-008 ","AW0",207.830001831055]
[6001149937,"JUDY-CHURCHILL (02)","AW0-004 ","AW0",207.83999633789099]
[6001484338,"HOTHAM-RYDER No. 2 (03)","AW0-006 ","AW0",207.85000610351599]
[6001147051,"HIGHRIDGE-ROBERTS (03)","AW0-006 ","AW0",207.86000061035199]
[6001351974,"SHELLEY-NOGA (01)","AW0-007 ","AW0",207.86000061035199]
[6001334692,"VALLEY LAKE-STEELE CREEK (01)","AW0-007 ","AW0",207.86999511718801]
[6001159225,"COHEN-GROVES (02)","AW0-008 ","AW0",207.88999938964801]
[6001441130,"PAMELA-HERBERT (01)","AW0-006 ","AW0",207.88999938964801]
[6001575116,"COHEN-GROVES (02)","AW0-008 ","AW0",207.89999389648401]
[6001013721,"HILBERT-HARRINGTON (01)","AW0-008 ","AW0",207.919998168945]
[6001158187,"PAMELA-HERBERT (01)","AW0-006 ","AW0",207.919998168945]
[6001296539,"ADELAIDE-LANARK (04)","AW0-012 ","AW0",207.919998168945]
[6001253151,"JUDY-CHURCHILL (02)","AW0-004 ","AW0",207.92999267578099]
[6001147230,"MCNAMARA-PETERS (01)","AW0-007 ","AW0",207.94000244140599]
[6001260877,"COHEN-GROVES (02)","AW0-008 ","AW0",207.94000244140599]
[6001341327,"OAK-CONISTON (03)","AW0-007 ","AW0",207.94000244140599]
[6001216348,"SYCAMORE-BROADMEADOWS (01)","AW0-009 ","AW0",207.97000122070301]
[6001338896,"VALLEY LAKE-STEELE CREEK (01)","AW0-007 ","AW0",207.97999572753901]
[6001326236,"PAMELA-HERBERT (01)","AW0-006 ","AW0",207.99000549316401]
[6001158435,"DAVID-RACHELLE (03)","AW0-007 ","AW0",208.02000427246099]
[6001281586,"CUDGEWA-BORVA (01)","AW0-008 ","AW0",208.02000427246099]
[6001158561,"JUDITH-BREES (02)","AW0-006 ","AW0",208.02999877929699]
[6001222071,"QUINN-NOGA (01)","AW0-007 ","AW0",208.03999328613301]
[6001469013,"WOORITE-MILLEARA (01)","AW0-008 ","AW0",208.03999328613301]
[6001147047,"HIGHRIDGE-ROBERTS (03)","AW0-006 ","AW0",208.05000305175801]
[6001147315,"ROBERTS-MCNAMARA (01)","AW0-006 ","AW0",208.05000305175801]
[6001158309,"PAMELA-HERBERT (02)","AW0-006 ","AW0",208.05999755859401]
[6001266698,"ETZEL-CLYDESDALE (02)","AW0-006 ","AW0",208.080001831055]
[6001158356,"DAVID-RACHELLE (02)","AW0-007 ","AW0",208.10000610351599]
[6001320164,"MCPHERSON-QUINN (03)","AW0-008 ","AW0",208.10000610351599]
[6001342347,"PAMELA-HERBERT (02)","AW0-006 ","AW0",208.10000610351599]
[6001456359,"QUINN-NOGA (01)","AW0-007 ","AW0",208.10000610351599]
[6001515196,"MCINTOSH 42-MATTHEWS (01)","AW0-005 ","AW0",208.10000610351599]
[6001549295,"WEST-KINGSLEY (01)","AW0-007 ","AW0",208.10000610351599]
[6001278621,"SEXTON-HALSEY (04)","AW0-006 ","AW0",208.11000061035199]
[6001467190,"MCPHERSON-QUINN (03)","AW0-008 ","AW0",208.11000061035199]
[6001238668,"HILLSIDE-ROBERTS (02)","AW0-007 ","AW0",208.14999389648401]
[6001148280,"WEST-KINGSLEY (01)","AW0-007 ","AW0",208.16000366210901]
[6001159227,"COHEN-GROVES (02)","AW0-008 ","AW0",208.16000366210901]
[6001319719,"PAMELA-HERBERT (02)","AW0-006 ","AW0",208.169998168945]
[6001347074,"WUNNAMURRA-WONGANELA (01)","AW0-008 ","AW0",208.17999267578099]
[6001509810,"MCINTOSH 42-MATTHEWS (01)","AW0-005 ","AW0",208.19999694824199]
[6001614018,"CENTREWAY-WINGARA (03)","AW0-007 ","AW0",208.19999694824199]
[6001163965,"NEWMAN-HOTHAM (03)","AW0-007 ","AW0",208.21000671386699]
[6001319718,"PAMELA-HERBERT (02)","AW0-006 ","AW0",208.21000671386699]
[6001163798,"HOTHAM-RYDER No. 2 (03)","AW0-006 ","AW0",208.22000122070301]
[6001452965,"HOTHAM-RYDER No. 2 (03)","AW0-006 ","AW0",208.22000122070301]
[6001154233,"CLAYTON-MASCOMA (01)","AW0-012 ","AW0",208.22999572753901]
[6001197918,"THE CROSSWAY-PARK (02)","AW0-008 ","AW0",208.22999572753901]
[6001291967,"MCPHERSON-QUINN (03)","AW0-008 ","AW0",208.22999572753901]
[6001320525,"FULLARTON-WALTERS (01)","AW0-006 ","AW0",208.22999572753901]
[6001320962,"WEST-KINGSLEY (01)","AW0-007 ","AW0",208.22999572753901]
[6001412438,"MCNAMARA-PETERS (01)","AW0-007 ","AW0",208.22999572753901]
[6001305113,"MCPHERSON-QUINN (03)","AW0-008 ","AW0",208.24000549316401]
[6001157087,"WUNNAMURRA-WONGANELA (01)","AW0-008 ","AW0",208.25999450683599]
[6001163860,"THE AVENUE-KEILOR (02)","AW0-007 ","AW0",208.25999450683599]
[6001164001,"FARRELL-RYDER (03)","AW0-006 ","AW0",208.25999450683599]
[6001198193,"THE CROSSWAY-PARK (02)","AW0-008 ","AW0",208.25999450683599]
[6001209939,"HIGHRIDGE-ROBERTS (03)","AW0-006 ","AW0",208.28999328613301]
[6001481307,"WUNNAMURRA-WONGANELA (01)","AW0-008 ","AW0",208.28999328613301]
[6001265405,"ROSEHILL-ROSE (02)","AW0-006 ","AW0",208.30000305175801]
[6001012877,"NORTH-THOMAS (01)","AW0-007 ","AW0",208.30999755859401]
[6001263049,"HILLSIDE-ROBERTS (02)","AW0-007 ","AW0",208.30999755859401]
[6001320145,"VALLEY LAKE-STEELE CREEK (01)","AW0-007 ","AW0",208.30999755859401]
[6001149654,"THERESA-CHRISTOPHER (02)","AW0-009 ","AW0",208.32000732421901]
[6001273838,"WARATAH-CAROL (02)","AW0-009 ","AW0",208.32000732421901]
[6001346745,"OAK-CONISTON (03)","AW0-007 ","AW0",208.32000732421901]
[6001148537,"SEXTON-PARER (03)","AW0-006 ","AW0",208.330001831055]
[6001163802,"HOTHAM-RYDER No. 2 (03)","AW0-006 ","AW0",208.33999633789099]
[6001469618,"HENRY-DENNIS (02)","AW0-008 ","AW0",208.33999633789099]
[6001147039,"HIGHRIDGE-ROBERTS (03)","AW0-006 ","AW0",208.35000610351599]
[6001146766,"CAMERON-MATTHEWS (03)","AW0-006 ","AW0",208.36000061035199]
[6001337879,"COLLEGE-BREES (03)","AW0-008 ","AW0",208.36999511718801]
[6001472071,"HILLSIDE-ROBERTS (01)","AW0-007 ","AW0",208.36999511718801]
[6001147038,"HIGHRIDGE-ROBERTS (03)","AW0-006 ","AW0",208.38000488281301]
[6001233032,"QUINN-CLARKS (03)","AW0-007 ","AW0",208.38000488281301]
[6001157187,"QUINN-CLARKS (02)","AW0-007 ","AW0",208.38999938964801]
[6001148291,"WEST-KINGSLEY (01)","AW0-007 ","AW0",208.39999389648401]
[6001159172,"MCPHERSON-QUINN (03)","AW0-008 ","AW0",208.39999389648401]
[6001537019,"QUINN-NOGA (02)","AW0-007 ","AW0",208.39999389648401]
[6001158212,"PAMELA-HERBERT (02)","AW0-006 ","AW0",208.41000366210901]
[6001194406,"GREENACRE-AYLESBURY (02)","AW0-002 ","AW0",208.41000366210901]
[6001324519,"STEELE CREEK-BASALT (01)","AW0-007 ","AW0",208.41000366210901]
[6001469658,"THE CROSSWAY-PARK (02)","AW0-008 ","AW0",208.419998168945]
[6001196443,"VAUCLUSE-LENOAK (01)","AW0-002 ","AW0",208.42999267578099]
[6001424051,"ELLEN-RACHELLE (02)","AW0-008 ","AW0",208.42999267578099]
[6001459566,"ELLEN-RACHELLE (01)","AW0-008 ","AW0",208.42999267578099]
[6001264588,"HILLSIDE-ROBERTS (02)","AW0-007 ","AW0",208.44000244140599]
[6001114797,"FARRELL-RYDER (03)","AW0-006 ","AW0",208.46000671386699]
[6001148281,"HILBERT-HARRINGTON (01)","AW0-008 ","AW0",208.46000671386699]
[6001288140,"NEWMAN-HOTHAM (03)","AW0-007 ","AW0",208.5]
[6001545406,"MCINTOSH 42-MATTHEWS (01)","AW0-005 ","AW0",208.5]
[6001148278,"WEST-KINGSLEY (01)","AW0-007 ","AW0",208.50999450683599]
[6001158210,"PAMELA-HERBERT (02)","AW0-006 ","AW0",208.50999450683599]
[6001157846,"CENTREWAY-WINGARA (03)","AW0-007 ","AW0",208.55000305175801]
[6001331622,"STEELE CREEK-BASALT (01)","AW0-007 ","AW0",208.55999755859401]
[6001158430,"DAVID-RACHELLE (03)","AW0-007 ","AW0",208.57000732421901]
[6001158784,"HEATHER-DINAH (01)","AW0-006 ","AW0",208.57000732421901]
[6001481665,"QUINN-NOGA (01)","AW0-007 ","AW0",208.57000732421901]
[6001146878,"HART-BOWES (03)","AW0-006 ","AW0",208.580001831055]
[6001146878,"HART-BOWES (03)","AW0-006 ","AW0",208.58999633789099]
[6001163793,"HOTHAM-RYDER No. 2 (03)","AW0-006 ","AW0",208.58999633789099]
[6001301145,"WEST-KINGSLEY (01)","AW0-007 ","AW0",208.58999633789099]
[6001154341,"LOCKHEED-BOEING (02)","AW0-012 ","AW0",208.60000610351599]
[6001310607,"KING-BOWES (01)","AW0-005 ","AW0",208.60000610351599]
[6001421004,"FARRELL-RYDER (02)","AW0-006 ","AW0",208.60000610351599]
[6001540474,"SEXTON-PARER (01)","AW0-006 ","AW0",208.60000610351599]
[6001594182,"NEWMAN-HOTHAM (03)","AW0-007 ","AW0",208.60000610351599]
[6001407218,"NORTH-THOMAS (01)","AW0-007 ","AW0",208.63000488281301]
[6001148282,"WEST-KINGSLEY (01)","AW0-007 ","AW0",208.63999938964801]
[6001258759,"HILBERT-HARRINGTON (01)","AW0-008 ","AW0",208.63999938964801]
[6001147496,"HILBERT-HARRINGTON (01)","AW0-008 ","AW0",208.64999389648401]
[6001471807,"HILLSIDE-ROBERTS (01)","AW0-007 ","AW0",208.64999389648401]
[6001147632,"HILLSIDE-ROBERTS (01)","AW0-007 ","AW0",208.669998168945]
[6001413389,"NORTH-THOMAS (01)","AW0-007 ","AW0",208.669998168945]
[6001230473,"SYCAMORE-BROADMEADOWS (01)","AW0-009 ","AW0",208.67999267578099]
[6001494405,"HIGHRIDGE-ROBERTS (03)","AW0-006 ","AW0",208.69999694824199]
[6001532272,"HILBERT-HARRINGTON (02)","AW0-008 ","AW0",208.69999694824199]
[6001148545,"SEXTON-PARER (03)","AW0-006 ","AW0",208.71000671386699]
[6001230260,"ROSEHILL-ROSE (02)","AW0-006 ","AW0",208.72000122070301]
[6001158227,"DAVID-RACHELLE (01)","AW0-007 ","AW0",208.74000549316401]
[6001474746,"HILLSIDE-ROBERTS (01)","AW0-007 ","AW0",208.74000549316401]
[6001148314,"HILBERT-HARRINGTON (01)","AW0-008 ","AW0",208.75]
[6001396737,"CUDGEWA-BORVA (01)","AW0-008 ","AW0",208.75999450683599]
[6001147751,"ETZEL-CLYDESDALE (01)","AW0-006 ","AW0",208.77999877929699]
[6001332390,"VALLEY LAKE-STEELE CREEK (01)","AW0-007 ","AW0",208.77999877929699]
[6001422336,"THE AVENUE-KEILOR (02)","AW0-007 ","AW0",208.78999328613301]
[6001158056,"QUINN-CLARKS (02)","AW0-007 ","AW0",208.80000305175801]
[6001158440,"DAVID-RACHELLE (03)","AW0-007 ","AW0",208.80000305175801]
[6001020086,"MCPHERSON-QUINN (03)","AW0-008 ","AW0",208.80999755859401]
[6001148543,"SEXTON-PARER (03)","AW0-006 ","AW0",208.80999755859401]
[6001194401,"GREENACRE-AYLESBURY (02)","AW0-002 ","AW0",208.82000732421901]
[6001195784,"HALL-BURBANK (01)","AW0-002 ","AW0",208.82000732421901]
[6001231939,"MCPHERSON-QUINN (03)","AW0-008 ","AW0",208.830001831055]
[6001147599,"ETZEL-CLYDESDALE (01)","AW0-006 ","AW0",208.83999633789099]
[6001242696,"HOTHAM-RYDER No. 2 (03)","AW0-006 ","AW0",208.83999633789099]
[6001267493,"ETZEL-CLYDESDALE (02)","AW0-006 ","AW0",208.83999633789099]
[6001158242,"QUINN-NOGA (02)","AW0-007 ","AW0",208.85000610351599]
[6001158423,"DAVID-RACHELLE (03)","AW0-007 ","AW0",208.86000061035199]
[6001427604,"QUINN-CLARKS (02)","AW0-007 ","AW0",208.86000061035199]
[6001164002,"FARRELL-RYDER (03)","AW0-006 ","AW0",208.86999511718801]
[6001197180,"COLLEGE-BREES (03)","AW0-008 ","AW0",208.88000488281301]
[6001197946,"THE CROSSWAY-PARK (02)","AW0-008 ","AW0",208.88000488281301]
[6001148116,"ETZEL-CLYDESDALE (02)","AW0-006 ","AW0",208.89999389648401]
[6001572651,"CENTREWAY-WINGARA (03)","AW0-007 ","AW0",208.89999389648401]
[6001147228,"MCNAMARA-PETERS (01)","AW0-007 ","AW0",208.91000366210901]
[6001334075,"STEELE CREEK-BASALT (01)","AW0-007 ","AW0",208.91000366210901]
[6001158228,"DAVID-RACHELLE (01)","AW0-007 ","AW0",208.919998168945]
[6001216347,"SYCAMORE-BROADMEADOWS (01)","AW0-009 ","AW0",208.92999267578099]
[6001157622,"CUDGEWA-BORVA (01)","AW0-008 ","AW0",208.94000244140599]
[6001262082,"MCNAMARA-PETERS (01)","AW0-007 ","AW0",208.94000244140599]
[6001419779,"ETZEL-CLYDESDALE (01)","AW0-006 ","AW0",208.94999694824199]
[6001148171,"NORTH-THOMAS (01)","AW0-007 ","AW0",208.97000122070301]
[6001158749,"ELLEN-RACHELLE (03)","AW0-008 ","AW0",208.97000122070301]
[6001246267,"VIEWBANK-BREES (01)","AW0-006 ","AW0",208.97000122070301]
[6001424709,"THERESA-CHRISTOPHER (02)","AW0-009 ","AW0",208.97000122070301]
[6001148039,"ETZEL-CLYDESDALE (03)","AW0-006 ","AW0",208.97999572753901]
[6001421304,"SEXTON-HALSEY (02)","AW0-006 ","AW0",208.99000549316401]
[6001147782,"ETZEL-CLYDESDALE (03)","AW0-006 ","AW0",209]
[6001216349,"SYCAMORE-BROADMEADOWS (01)","AW0-009 ","AW0",209]
[6001148873,"SEXTON-HALSEY (02)","AW0-006 ","AW0",209.00999450683599]
[6001164063,"HOTHAM-RYDER No. 2 (03)","AW0-006 ","AW0",209.02999877929699]
[6001425822,"DALKEITH-GORDON (02)","AW0-009 ","AW0",209.03999328613301]
[6001230700,"HART-BOWES (03)","AW0-006 ","AW0",209.05000305175801]
[6001260131,"HOTHAM-RYDER No. 2 (03)","AW0-006 ","AW0",209.05000305175801]
[6001157120,"WUNNAMURRA-WONGANELA (01)","AW0-008 ","AW0",209.07000732421901]
[6001230470,"SYCAMORE-BROADMEADOWS (01)","AW0-009 ","AW0",209.080001831055]
[6001342855,"OAK-CONISTON (03)","AW0-007 ","AW0",209.080001831055]
[6001164005,"FARRELL-RYDER (03)","AW0-006 ","AW0",209.08999633789099]
[6001337879,"COLLEGE-BREES (03)","AW0-008 ","AW0",209.10000610351599]
[6001477130,"SEXTON-PARER (01)","AW0-006 ","AW0",209.10000610351599]
[6001484908,"DAVID-RACHELLE (03)","AW0-007 ","AW0",209.10000610351599]
[6001587503,"FARRELL-RYDER (03)","AW0-006 ","AW0",209.10000610351599]
[6001425519,"ELLEN-RACHELLE (02)","AW0-008 ","AW0",209.11999511718801]
[6001148311,"HILBERT-HARRINGTON (01)","AW0-008 ","AW0",209.14999389648401]
[6001148543,"SEXTON-PARER (03)","AW0-006 ","AW0",209.14999389648401]
[6001028730,"ETKA-MARK (03)","AW0-007 ","AW0",209.16000366210901]
[6001147225,"MCNAMARA-PETERS (01)","AW0-007 ","AW0",209.169998168945]
[6001241013,"JUDITH-BREES (02)","AW0-006 ","AW0",209.169998168945]
[6001447175,"HOTHAM-RYDER No. 2 (03)","AW0-006 ","AW0",209.169998168945]
[6001157831,"CENTREWAY-WINGARA (03)","AW0-007 ","AW0",209.19000244140599]
[6001347112,"OAK-CONISTON (03)","AW0-007 ","AW0",209.19000244140599]
[6001158240,"QUINN-NOGA (02)","AW0-007 ","AW0",209.19999694824199]
[6001533810,"NEWMAN-HOTHAM (03)","AW0-007 ","AW0",209.19999694824199]
[6001538094,"DAVID-RACHELLE (03)","AW0-007 ","AW0",209.19999694824199]
[6001149316,"SYCAMORE-BROADMEADOWS (01)","AW0-009 ","AW0",209.22000122070301]
[6001327429,"WUNNAMURRA-WONGANELA (01)","AW0-008 ","AW0",209.22000122070301]
[6001148164,"NORTH-THOMAS (01)","AW0-007 ","AW0",209.22999572753901]
[6001157083,"WUNNAMURRA-WONGANELA (01)","AW0-008 ","AW0",209.22999572753901]
[6001149605,"DALKEITH-GORDON (02)","AW0-009 ","AW0",209.24000549316401]
[6001197940,"THE CROSSWAY-PARK (02)","AW0-008 ","AW0",209.25]
[6001308115,"SHELLEY-NOGA (01)","AW0-007 ","AW0",209.25]
[6001158444,"DAVID-RACHELLE (03)","AW0-007 ","AW0",209.27000427246099]
[6001437480,"ROBERTS-MCNAMARA (01)","AW0-006 ","AW0",209.27000427246099]
[6001148032,"FRASER-BOWES (01)","AW0-001 ","AW0",209.27999877929699]
[6001148680,"SEXTON-PARER (01)","AW0-006 ","AW0",209.27999877929699]
[6001157739,"WUNNAMURRA-WONGANELA (02)","AW0-008 ","AW0",209.27999877929699]
[6001434190,"DAVID-RACHELLE (01)","AW0-007 ","AW0",209.27999877929699]
[6001148303,"HILBERT-HARRINGTON (01)","AW0-008 ","AW0",209.30000305175801]
[6001457475,"HOTHAM-RYDER No. 2 (03)","AW0-006 ","AW0",209.30000305175801]
[6001476814,"GREEN-MATTHEWS (01)","AW0-006 ","AW0",209.30000305175801]
[6001488026,"FARRELL-RYDER (03)","AW0-006 ","AW0",209.30000305175801]
[6001509040,"NEWMAN-HOTHAM (03)","AW0-007 ","AW0",209.30000305175801]
[6001148165,"NORTH-THOMAS (01)","AW0-007 ","AW0",209.32000732421901]
[6001158757,"ELLEN-RACHELLE (01)","AW0-008 ","AW0",209.32000732421901]
[6001196445,"VAUCLUSE-LENOAK (01)","AW0-002 ","AW0",209.330001831055]
[6001197938,"THE CROSSWAY-PARK (02)","AW0-008 ","AW0",209.330001831055]
[6001158054,"QUINN-CLARKS (02)","AW0-007 ","AW0",209.33999633789099]
[6001401706,"DAVID-RACHELLE (01)","AW0-007 ","AW0",209.35000610351599]
[6001402127,"FARRELL-RYDER (03)","AW0-006 ","AW0",209.35000610351599]
[6001197942,"THE CROSSWAY-PARK (02)","AW0-008 ","AW0",209.36000061035199]
[6001146762,"CAMERON-MATTHEWS (03)","AW0-006 ","AW0",209.38000488281301]
[6001159173,"MCPHERSON-QUINN (03)","AW0-008 ","AW0",209.38000488281301]
[6001147574,"KINGSLEY-ROBERTS (01)","AW0-007 ","AW0",209.38999938964801]
[6001344884,"WARATAH-CAROL (02)","AW0-009 ","AW0",209.38999938964801]
[6001159498,"HEATHERLEA-STERLING (02)","AW0-008 ","AW0",209.39999389648401]
[6001602072,"NORTH-THOMAS (01)","AW0-007 ","AW0",209.39999389648401]
[6001147222,"MCNAMARA-PETERS (01)","AW0-007 ","AW0",209.41000366210901]
[6001197348,"THE CROSSWAY-VISTA (02)","AW0-008 ","AW0",209.41000366210901]
[6001157633,"CUDGEWA-BORVA (01)","AW0-008 ","AW0",209.419998168945]
[6001434808,"MCNAMARA-PETERS (01)","AW0-007 ","AW0",209.42999267578099]
[6001369687,"WEST-KINGSLEY (02)","AW0-007 ","AW0",209.44000244140599]
[6001147525,"HILBERT-HARRINGTON (02)","AW0-008 ","AW0",209.44999694824199]
[6001148310,"HILBERT-HARRINGTON (01)","AW0-008 ","AW0",209.44999694824199]
[6001436565,"ELLEN-RACHELLE (03)","AW0-008 ","AW0",209.46000671386699]
[6001311130,"OAK-CONISTON (03)","AW0-007 ","AW0",209.47000122070301]
[6001448731,"HART-BOWES (03)","AW0-006 ","AW0",209.47000122070301]
[6001148674,"SEXTON-PARER (01)","AW0-006 ","AW0",209.47999572753901]
[6001324362,"FULLARTON-WALTERS (01)","AW0-006 ","AW0",209.47999572753901]
[6001243447,"WOORITE-MILLEARA (01)","AW0-008 ","AW0",209.5]
[6001490073,"PAMELA-HERBERT (01)","AW0-006 ","AW0",209.5]
[6001495546,"QUINN-CLARKS (02)","AW0-007 ","AW0",209.5]
[6001149315,"WARATAH-CAROL (02)","AW0-009 ","AW0",209.50999450683599]
[6001439434,"HART-BOWES (03)","AW0-006 ","AW0",209.50999450683599]
[6001197187,"COLLEGE-BREES (03)","AW0-008 ","AW0",209.52000427246099]
[6001274250,"WARATAH-CAROL (02)","AW0-009 ","AW0",209.52000427246099]
[6001146879,"HART-BOWES (03)","AW0-006 ","AW0",209.52999877929699]
[6001147760,"ETZEL-CLYDESDALE (01)","AW0-006 ","AW0",209.52999877929699]
[6001157660,"MOYANGUL-GUNGARLAN (02)","AW0-008 ","AW0",209.52999877929699]
[6001343046,"DALKEITH-GORDON (02)","AW0-009 ","AW0",209.52999877929699]
[6001335192,"ELLEN-RACHELLE (03)","AW0-008 ","AW0",209.53999328613301]
[6001412491,"MCNAMARA-PETERS (01)","AW0-007 ","AW0",209.55999755859401]
[6001013745,"PAMELA-HERBERT (01)","AW0-006 ","AW0",209.57000732421901]
[6001183688,"CUDGEWA-BORVA (01)","AW0-008 ","AW0",209.57000732421901]
[6001226404,"ROSEHILL-ROSE (02)","AW0-006 ","AW0",209.57000732421901]
[6001334260,"PAMELA-HERBERT (01)","AW0-006 ","AW0",209.57000732421901]
[6001147205,"MCNAMARA-ROBERTS (02)","AW0-006 ","AW0",209.580001831055]
[6001158500,"SHELLEY-NOGA (01)","AW0-007 ","AW0",209.580001831055]
[6001147744,"ETZEL-CLYDESDALE (01)","AW0-006 ","AW0",209.58999633789099]
[6001196446,"VAUCLUSE-LENOAK (01)","AW0-002 ","AW0",209.58999633789099]
[6001295191,"DALKEITH-GORDON (02)","AW0-009 ","AW0",209.60000610351599]
[6001406449,"VALLEY LAKE-STEELE CREEK (03)","AW0-007 ","AW0",209.60000610351599]
[6001538096,"CAMERON-MATTHEWS (03)","AW0-006 ","AW0",209.60000610351599]
[6001196440,"VAUCLUSE-LENOAK (01)","AW0-002 ","AW0",209.63999938964801]
[6001147498,"HILBERT-HARRINGTON (01)","AW0-008 ","AW0",209.64999389648401]
[6001154246,"CLAYTON-MASCOMA (01)","AW0-012 ","AW0",209.64999389648401]
[6001197916,"THE CROSSWAY-PARK (02)","AW0-008 ","AW0",209.66000366210901]
[6001017482,"SEXTON-HALSEY (02)","AW0-006 ","AW0",209.669998168945]
[6001453340,"CUDGEWA-BORVA (01)","AW0-008 ","AW0",209.69999694824199]
[6001492045,"RYDER-NOLAN (02)","AW0-006 ","AW0",209.69999694824199]
[6001507028,"VAUCLUSE-LENOAK (01)","AW0-002 ","AW0",209.69999694824199]
[6001588240,"ELLEN-RACHELLE (01)","AW0-008 ","AW0",209.69999694824199]
[6001596346,"NORTH-THOMAS (01)","AW0-007 ","AW0",209.69999694824199]
[6001149315,"WARATAH-CAROL (02)","AW0-009 ","AW0",209.72000122070301]
[6001157345,"ETKA-MARK (03)","AW0-007 ","AW0",209.72999572753901]
[6001008539,"SEXTON-HALSEY (03)","AW0-006 ","AW0",209.74000549316401]
[6001444515,"NEWMAN-HOTHAM (03)","AW0-007 ","AW0",209.74000549316401]
[6001194403,"GREENACRE-AYLESBURY (02)","AW0-002 ","AW0",209.75]
[6001210992,"ROSTELLA-NORWOOD (01)","AW0-008 ","AW0",209.75]
[6001410412,"HART-BOWES (03)","AW0-006 ","AW0",209.75]
[6001183772,"HANSON-GOBLE (01)","AW0-007 ","AW0",209.75999450683599]
[6001488075,"HAWKER-MCNAMARA (01)","AW0-001 ","AW0",209.77000427246099]
[6001419096,"NEAL-DINAH (01)","AW0-008 ","AW0",209.78999328613301]
[6001147052,"HIGHRIDGE-ROBERTS (03)","AW0-006 ","AW0",209.80000305175801]
[6001522574,"MOYANGUL-GUNGARLAN (02)","AW0-008 ","AW0",209.80000305175801]
[6001148285,"HILBERT-HARRINGTON (01)","AW0-008 ","AW0",209.80999755859401]
[6001158313,"PAMELA-HERBERT (02)","AW0-006 ","AW0",209.82000732421901]
[6001159221,"COHEN-GROVES (02)","AW0-008 ","AW0",209.82000732421901]
[6001147219,"MCNAMARA-PETERS (01)","AW0-007 ","AW0",209.830001831055]
[6001154240,"CLAYTON-MASCOMA (01)","AW0-012 ","AW0",209.830001831055]
[6001210257,"WUNNAMURRA-WONGANELA (02)","AW0-008 ","AW0",209.830001831055]
[6001410562,"MCNAMARA-PETERS (01)","AW0-007 ","AW0",209.830001831055]
[6001480622,"ELLEN-RACHELLE (03)","AW0-008 ","AW0",209.830001831055]
[6001149304,"WARATAH-CAROL (02)","AW0-009 ","AW0",209.86000061035199]
[6001157737,"WUNNAMURRA-WONGANELA (02)","AW0-008 ","AW0",209.86999511718801]
[6001146743,"HART-BOWES (03)","AW0-006 ","AW0",209.88000488281301]
[6001148122,"ETZEL-CLYDESDALE (02)","AW0-006 ","AW0",209.88999938964801]
[6001478552,"MCNAMARA-PETERS (01)","AW0-007 ","AW0",209.89999389648401]
[6001563328,"WEST-KINGSLEY (01)","AW0-007 ","AW0",209.89999389648401]
[6001012650,"MCNAMARA-PETERS (01)","AW0-007 ","AW0",209.91000366210901]
[6001148177,"NORTH-THOMAS (01)","AW0-007 ","AW0",209.91000366210901]
[6001453479,"MCNAMARA-PETERS (01)","AW0-007 ","AW0",209.91000366210901]
[6001445906,"CENTREWAY-WINGARA (03)","AW0-007 ","AW0",209.919998168945]
[6001147578,"KINGSLEY-ROBERTS (01)","AW0-007 ","AW0",209.92999267578099]
[6001158611,"ROSEHILL-TALBOT (01)","AW0-006 ","AW0",209.92999267578099]
[6001209526,"RYDER-NOLAN (02)","AW0-006 ","AW0",209.92999267578099]
[6001245186,"HOTHAM-RYDER No. 2 (03)","AW0-006 ","AW0",209.92999267578099]
[6001148307,"HILBERT-HARRINGTON (01)","AW0-008 ","AW0",209.94000244140599]
[6001148352,"HILBERT-HARRINGTON (01)","AW0-008 ","AW0",209.94000244140599]
[6001163947,"NEWMAN-HOTHAM (03)","AW0-007 ","AW0",209.94000244140599]
[6001257880,"WEST-KINGSLEY (02)","AW0-007 ","AW0",209.94000244140599]
[6001158448,"DAVID-RACHELLE (03)","AW0-007 ","AW0",209.94999694824199]
[6001196441,"VAUCLUSE-LENOAK (01)","AW0-002 ","AW0",209.94999694824199]
[6001197930,"THE CROSSWAY-PARK (02)","AW0-008 ","AW0",209.96000671386699]
[6001471337,"ELLEN-RACHELLE (01)","AW0-008 ","AW0",209.96000671386699]
[6001009043,"THE AVENUE-KEILOR (02)","AW0-007 ","AW0",209.97000122070301]
[6001228469,"ROSEHILL-ROSE (02)","AW0-006 ","AW0",209.97000122070301]
[6001343412,"NORTH-THOMAS (01)","AW0-007 ","AW0",209.97999572753901]
[6001494448,"VAUCLUSE-LENOAK (01)","AW0-002 ","AW0",210]
[6001496035,"MCNAMARA-PETERS (01)","AW0-007 ","AW0",210]
[6001636105,"HART-BOWES (03)","AW0-006 ","AW0",210]
[6001158290,"PAMELA-HERBERT (01)","AW0-006 ","AW0",210.00999450683599]
[6001322975,"OAK-CONISTON (03)","AW0-007 ","AW0",210.00999450683599]
[6001197994,"ARCADE-PROSPECT (02)","AW0-008 ","AW0",210.02000427246099]
[6001157119,"WUNNAMURRA-WONGANELA (01)","AW0-008 ","AW0",210.02999877929699]
[6001336842,"WUNNAMURRA-WONGANELA (01)","AW0-008 ","AW0",210.02999877929699]
[6001428636,"SYCAMORE-BROADMEADOWS (01)","AW0-009 ","AW0",210.02999877929699]
[6001163869,"NEWMAN-HOTHAM (02)","AW0-007 ","AW0",210.03999328613301]
[6001210989,"ROSTELLA-NORWOOD (01)","AW0-008 ","AW0",210.03999328613301]
[6001157838,"CENTREWAY-WINGARA (03)","AW0-007 ","AW0",210.05000305175801]
[6001432032,"THE CROSSWAY-PARK (02)","AW0-008 ","AW0",210.05000305175801]
[6001147515,"HILBERT-ROBERTS (02)","AW0-008 ","AW0",210.05999755859401]
[6001157086,"WUNNAMURRA-WONGANELA (01)","AW0-008 ","AW0",210.05999755859401]
[6001163974,"HOTHAM-RYDER No. 2 (03)","AW0-006 ","AW0",210.05999755859401]
[6001324634,"WEST-KINGSLEY (02)","AW0-007 ","AW0",210.05999755859401]
[6001157733,"WUNNAMURRA-WONGANELA (02)","AW0-008 ","AW0",210.07000732421901]
[6001472041,"GREEN-MATTHEWS (01)","AW0-006 ","AW0",210.07000732421901]
[6001158311,"PAMELA-HERBERT (02)","AW0-006 ","AW0",210.080001831055]
[6001305194,"ETZEL-CLYDESDALE (01)","AW0-006 ","AW0",210.080001831055]
[6001309585,"SEXTON-HALSEY (04)","AW0-006 ","AW0",210.08999633789099]
[6001158446,"DAVID-RACHELLE (03)","AW0-007 ","AW0",210.10000610351599]
[6001280857,"WEST-KINGSLEY (01)","AW0-007 ","AW0",210.10000610351599]
[6001428639,"SYCAMORE-BROADMEADOWS (01)","AW0-009 ","AW0",210.10000610351599]
[6001602072,"NORTH-THOMAS (01)","AW0-007 ","AW0",210.10000610351599]
[6001010436,"ETZEL-CLYDESDALE (02)","AW0-006 ","AW0",210.11000061035199]
[6001159229,"COHEN-GROVES (02)","AW0-008 ","AW0",210.11000061035199]
[6001385929,"HOTHAM-RYDER No. 2 (03)","AW0-006 ","AW0",210.11000061035199]
[6001158323,"PAMELA-HERBERT (02)","AW0-006 ","AW0",210.13000488281301]
[6001224589,"COLLEGE-BREES (03)","AW0-008 ","AW0",210.14999389648401]
[6001148301,"HILBERT-HARRINGTON (01)","AW0-008 ","AW0",210.16000366210901]
[6001196646,"HARDY-SNAEFELL (01)","AW0-009 ","AW0",210.16000366210901]
[6001230471,"SYCAMORE-BROADMEADOWS (01)","AW0-009 ","AW0",210.16000366210901]
[6001330639,"VALLEY LAKE-STEELE CREEK (01)","AW0-007 ","AW0",210.16000366210901]
[6001149938,"JUDY-CHURCHILL (02)","AW0-004 ","AW0",210.169998168945]
[6001210987,"ROSTELLA-NORWOOD (01)","AW0-008 ","AW0",210.169998168945]
[6001210996,"ROSTELLA-NORWOOD (01)","AW0-008 ","AW0",210.169998168945]
[6001147213,"MCNAMARA-PETERS (01)","AW0-007 ","AW0",210.17999267578099]
[6001148557,"NORTH-THOMAS (03)","AW0-007 ","AW0",210.19000244140599]
[6001158182,"PAMELA-HERBERT (01)","AW0-006 ","AW0",210.19000244140599]
[6001283258,"WEST-KINGSLEY (02)","AW0-007 ","AW0",210.19000244140599]
[6001522529,"ROBERTS-MCNAMARA (01)","AW0-006 ","AW0",210.19999694824199]
[6001563327,"WEST-KINGSLEY (01)","AW0-007 ","AW0",210.19999694824199]
[6001596030,"WUNNAMURRA-WONGANELA (01)","AW0-008 ","AW0",210.19999694824199]
[6001158454,"DAVID-RACHELLE (03)","AW0-007 ","AW0",210.21000671386699]
[6001365682,"VALLEY LAKE-STEELE CREEK (04)","AW0-007 ","AW0",210.21000671386699]
[6001333742,"CUDGEWA-BORVA (01)","AW0-008 ","AW0",210.22000122070301]
[6001158057,"QUINN-CLARKS (02)","AW0-007 ","AW0",210.22999572753901]
[6001197926,"THE CROSSWAY-PARK (02)","AW0-008 ","AW0",210.22999572753901]
[6001159448,"ROSTELLA-NORWOOD (01)","AW0-008 ","AW0",210.24000549316401]
[6001232708,"SYCAMORE-BROADMEADOWS (01)","AW0-009 ","AW0",210.25]
[6001147573,"KINGSLEY-ROBERTS (01)","AW0-007 ","AW0",210.27000427246099]
[6001335558,"VALLEY LAKE-STEELE CREEK (04)","AW0-007 ","AW0",210.27000427246099]
[6001406196,"ETZEL-CLYDESDALE (01)","AW0-006 ","AW0",210.27000427246099]
[6001158495,"SHELLEY-NOGA (01)","AW0-007 ","AW0",210.30000305175801]
[6001274251,"WARATAH-CAROL (02)","AW0-009 ","AW0",210.30000305175801]
[6001300341,"HART-BOWES (03)","AW0-006 ","AW0",210.30000305175801]
[6001635085,"SYCAMORE-BROADMEADOWS (01)","AW0-009 ","AW0",210.30000305175801]
[6001149656,"THERESA-CHRISTOPHER (02)","AW0-009 ","AW0",210.30999755859401]
[6001149668,"THERESA-CHRISTOPHER (02)","AW0-009 ","AW0",210.32000732421901]
[6001163868,"NEWMAN-HOTHAM (02)","AW0-007 ","AW0",210.32000732421901]
[6001198008,"ARCADE-PROSPECT (02)","AW0-008 ","AW0",210.32000732421901]
[6001320580,"HAWKER-MCNAMARA (02)","AW0-001 ","AW0",210.32000732421901]
[6001439883,"NEWMAN-HOTHAM (01)","AW0-007 ","AW0",210.330001831055]
[6001024408,"QUINN-NOGA (01)","AW0-007 ","AW0",210.33999633789099]
[6001149941,"JUDY-CHURCHILL (02)","AW0-004 ","AW0",210.33999633789099]
[6001159402,"ROSTELLA-NORWOOD (01)","AW0-008 ","AW0",210.35000610351599]
[6001149653,"THERESA-CHRISTOPHER (02)","AW0-009 ","AW0",210.36999511718801]
[6001158607,"ROSEHILL-TALBOT (01)","AW0-006 ","AW0",210.38000488281301]
[6001347795,"SEXTON-HALSEY (02)","AW0-006 ","AW0",210.38000488281301]
[6001147212,"MCNAMARA-PETERS (01)","AW0-007 ","AW0",210.38999938964801]
[6001147755,"ETZEL-CLYDESDALE (01)","AW0-006 ","AW0",210.38999938964801]
[6001505205,"HOTHAM-RYDER No. 2 (03)","AW0-006 ","AW0",210.39999389648401]
[6001514372,"FRASER-BOWES (01)","AW0-001 ","AW0",210.39999389648401]
[6001545266,"THE AVENUE-KEILOR (02)","AW0-007 ","AW0",210.39999389648401]
[6001154187,"LOCKHEED-BOEING (02)","AW0-012 ","AW0",210.419998168945]
[6001311338,"ELLEN-RACHELLE (03)","AW0-008 ","AW0",210.419998168945]
[6001148787,"SEXTON-HALSEY (04)","AW0-006 ","AW0",210.42999267578099]
[6001159442,"ROSTELLA-NORWOOD (01)","AW0-008 ","AW0",210.42999267578099]
[6001008680,"CUDGEWA-BORVA (01)","AW0-008 ","AW0",210.44000244140599]
[6001159041,"ELLEN-RACHELLE (02)","AW0-008 ","AW0",210.44000244140599]
[6001164009,"FARRELL-RYDER (03)","AW0-006 ","AW0",210.44000244140599]
[6001236759,"HARDY-SNAEFELL (01)","AW0-009 ","AW0",210.44000244140599]
[6001035377,"PAMELA-HERBERT (01)","AW0-006 ","AW0",210.44999694824199]
[6001154267,"CLAYTON-MASCOMA (01)","AW0-012 ","AW0",210.46000671386699]
[6001159891,"THE CROSSWAY-VISTA (03)","AW0-008 ","AW0",210.46000671386699]
[6001163958,"NEWMAN-HOTHAM (03)","AW0-007 ","AW0",210.46000671386699]
[6001236759,"HARDY-SNAEFELL (01)","AW0-009 ","AW0",210.46000671386699]
[6001158469,"DAVID-RACHELLE (03)","AW0-007 ","AW0",210.47000122070301]
[6001149312,"WARATAH-CAROL (02)","AW0-009 ","AW0",210.47999572753901]
[6001159195,"COHEN-GROVES (02)","AW0-008 ","AW0",210.47999572753901]
[6001265223,"ADELAIDE-LANARK (04)","AW0-012 ","AW0",210.47999572753901]
[6001158336,"PAMELA-HERBERT (02)","AW0-006 ","AW0",210.49000549316401]
[6001236759,"HARDY-SNAEFELL (01)","AW0-009 ","AW0",210.5]
[6001470694,"WUNNAMURRA-WONGANELA (02)","AW0-008 ","AW0",210.5]
[6001148297,"HILBERT-HARRINGTON (01)","AW0-008 ","AW0",210.52000427246099]
[6001452965,"HOTHAM-RYDER No. 2 (03)","AW0-006 ","AW0",210.52000427246099]
[6001008915,"DAVID-RACHELLE (01)","AW0-007 ","AW0",210.52999877929699]
[6001148346,"HILBERT-HARRINGTON (01)","AW0-008 ","AW0",210.52999877929699]
[6001158995,"ELLEN-RACHELLE (03)","AW0-008 ","AW0",210.52999877929699]
[6001159037,"ELLEN-RACHELLE (02)","AW0-008 ","AW0",210.52999877929699]
[6001236759,"HARDY-SNAEFELL (01)","AW0-009 ","AW0",210.52999877929699]
[6001448820,"DALKEITH-GORDON (02)","AW0-009 ","AW0",210.52999877929699]
[6001157164,"ETKA-MARK (03)","AW0-007 ","AW0",210.55999755859401]
[6001157895,"WUNNAMURRA-WONGANELA (01)","AW0-008 ","AW0",210.55999755859401]
[6001320583,"HAWKER-MCNAMARA (02)","AW0-001 ","AW0",210.55999755859401]
[6001403086,"DALKEITH-GORDON (02)","AW0-009 ","AW0",210.55999755859401]
[6001147576,"KINGSLEY-ROBERTS (01)","AW0-007 ","AW0",210.57000732421901]
[6001149659,"THERESA-CHRISTOPHER (02)","AW0-009 ","AW0",210.57000732421901]
[6001552690,"CAMERON-MATTHEWS (03)","AW0-006 ","AW0",210.57000732421901]
[6001320577,"HAWKER-MCNAMARA (02)","AW0-001 ","AW0",210.580001831055]
[6001263492,"CLAYTON-MASCOMA (01)","AW0-012 ","AW0",210.58999633789099]
[6001278824,"HOTHAM-RYDER No. 2 (03)","AW0-006 ","AW0",210.58999633789099]
[6001325191,"FRASER-BOWES (01)","AW0-001 ","AW0",210.58999633789099]
[6001148135,"BEDFORD-PARER (01)","AW0-007 ","AW0",210.60000610351599]
[6001148169,"NORTH-THOMAS (01)","AW0-007 ","AW0",210.60000610351599]
[6001157839,"CENTREWAY-WINGARA (03)","AW0-007 ","AW0",210.60000610351599]
[6001509953,"HOTHAM-RYDER No. 2 (03)","AW0-006 ","AW0",210.60000610351599]
[6001522351,"CUDGEWA-BORVA (01)","AW0-008 ","AW0",210.60000610351599]
[6001545633,"HILLSIDE-ROBERTS (01)","AW0-007 ","AW0",210.60000610351599]
[6001147313,"ROBERTS-MCNAMARA (01)","AW0-006 ","AW0",210.61000061035199]
[6001227081,"ROSEHILL-ROSE (02)","AW0-006 ","AW0",210.61000061035199]
[6001211886,"ROSTELLA-NORWOOD (01)","AW0-008 ","AW0",210.61999511718801]
[6001266117,"HART-BOWES (03)","AW0-006 ","AW0",210.63000488281301]
[6001147817,"HAWKER-MCNAMARA (02)","AW0-001 ","AW0",210.64999389648401]
[6001157664,"MOYANGUL-GUNGARLAN (02)","AW0-008 ","AW0",210.66000366210901]
[6001340422,"CAMERON-MATTHEWS (03)","AW0-006 ","AW0",210.66000366210901]
[6001148789,"SEXTON-HALSEY (04)","AW0-006 ","AW0",210.67999267578099]
[6001154258,"CLAYTON-MASCOMA (01)","AW0-012 ","AW0",210.67999267578099]
[6001283296,"ETZEL-CLYDESDALE (02)","AW0-006 ","AW0",210.67999267578099]
[6001322187,"ELLEN-RACHELLE (02)","AW0-008 ","AW0",210.67999267578099]
[6001154266,"CLAYTON-MASCOMA (01)","AW0-012 ","AW0",210.69999694824199]
[6001414749,"ROSEHILL-ROSE (02)","AW0-006 ","AW0",210.69999694824199]
[6001457475,"HOTHAM-RYDER No. 2 (03)","AW0-006 ","AW0",210.69999694824199]
[6001408635,"WUNNAMURRA-WONGANELA (02)","AW0-008 ","AW0",210.71000671386699]
[6001149312,"WARATAH-CAROL (02)","AW0-009 ","AW0",210.72000122070301]
[6001148356,"HILBERT-HARRINGTON (01)","AW0-008 ","AW0",210.72999572753901]
[6001157348,"ETKA-MARK (03)","AW0-007 ","AW0",210.72999572753901]
[6001389284,"SEXTON-HALSEY (02)","AW0-006 ","AW0",210.72999572753901]
[6001552581,"PAMELA-HERBERT (01)","AW0-006 ","AW0",210.72999572753901]
[6001194404,"GREENACRE-AYLESBURY (02)","AW0-002 ","AW0",210.75]
[6001301850,"WARATAH-CAROL (02)","AW0-009 ","AW0",210.75]
[6001158450,"DAVID-RACHELLE (03)","AW0-007 ","AW0",210.77000427246099]
[6001276246,"ROSEHILL-ROSE (02)","AW0-006 ","AW0",210.77000427246099]
[6001448872,"DAVID-RACHELLE (03)","AW0-007 ","AW0",210.77000427246099]
[6001147777,"ETZEL-CLYDESDALE (03)","AW0-006 ","AW0",210.77999877929699]
[6001163792,"HOTHAM-RYDER No. 2 (03)","AW0-006 ","AW0",210.77999877929699]
[6001225962,"NORTH-THOMAS (03)","AW0-007 ","AW0",210.77999877929699]
[6001297907,"HOTHAM-RYDER No. 2 (03)","AW0-006 ","AW0",210.77999877929699]
[6001341758,"QUINN-NOGA (01)","AW0-007 ","AW0",210.78999328613301]
[6001295175,"DALKEITH-GORDON (02)","AW0-009 ","AW0",210.80000305175801]
[6001199781,"HANSON-GOBLE (01)","AW0-007 ","AW0",210.80999755859401]
[6001148831,"SEXTON-HALSEY (03)","AW0-006 ","AW0",210.82000732421901]
[6001403684,"VALLEY LAKE-STEELE CREEK (03)","AW0-007 ","AW0",210.830001831055]
[6001148868,"SEXTON-HALSEY (02)","AW0-006 ","AW0",210.83999633789099]
[6001417556,"OAK-CONISTON (02)","AW0-007 ","AW0",210.83999633789099]
[6001147545,"HILBERT-HARRINGTON (01)","AW0-008 ","AW0",210.86000061035199]
[6001163632,"HANSON-GOBLE (01)","AW0-007 ","AW0",210.86000061035199]
[6001471170,"WARATAH-CAROL (02)","AW0-009 ","AW0",210.86000061035199]
[6001231035,"ROSEHILL-ROSE (02)","AW0-006 ","AW0",210.86999511718801]
[6001328606,"FRASER-BOWES (01)","AW0-001 ","AW0",210.86999511718801]
[6001596026,"WEST-KINGSLEY (01)","AW0-007 ","AW0",210.89999389648401]
[6001596346,"NORTH-THOMAS (01)","AW0-007 ","AW0",210.89999389648401]
[6001293112,"ELLEN-RACHELLE (01)","AW0-008 ","AW0",210.91000366210901]
[6001157742,"WUNNAMURRA-WONGANELA (02)","AW0-008 ","AW0",210.919998168945]
[6001114696,"ETKA-MARK (03)","AW0-007 ","AW0",210.92999267578099]
[6001157126,"QUINN-CLARKS (03)","AW0-007 ","AW0",210.92999267578099]
[6001159702,"THE CROSSWAY-VISTA (01)","AW0-008 ","AW0",210.92999267578099]
[6001233916,"HARDY-SNAEFELL (01)","AW0-009 ","AW0",210.92999267578099]
[6001147817,"HAWKER-MCNAMARA (02)","AW0-001 ","AW0",210.94000244140599]
[6001197923,"THE CROSSWAY-PARK (02)","AW0-008 ","AW0",210.94999694824199]
[6001157122,"WUNNAMURRA-WONGANELA (01)","AW0-008 ","AW0",210.96000671386699]
[6001158634,"JUDITH-BREES (02)","AW0-006 ","AW0",210.99000549316401]
[6001148306,"HILBERT-HARRINGTON (01)","AW0-008 ","AW0",211]
[6001196665,"SYCAMORE-BROADMEADOWS (01)","AW0-009 ","AW0",211]
[6001208684,"WUNNAMURRA-WONGANELA (02)","AW0-008 ","AW0",211]
[6001347134,"HART-BOWES (03)","AW0-006 ","AW0",211]
[6001389290,"HART-BOWES (03)","AW0-006 ","AW0",211]
[6001488909,"BEDFORD-PARER (01)","AW0-007 ","AW0",211]
[6001541050,"HART-BOWES (03)","AW0-006 ","AW0",211]
[6001546149,"ROSEHILL-TALBOT (01)","AW0-006 ","AW0",211]
[6001591194,"QUINN-CLARKS (02)","AW0-007 ","AW0",211]
[6001611008,"SEXTON-HALSEY (03)","AW0-006 ","AW0",211]
[6001157324,"RACHELLE-NICOLA (03)","AW0-007 ","AW0",211.02000427246099]
[6001392147,"DALKEITH-GORDON (02)","AW0-009 ","AW0",211.02000427246099]
[6001157121,"WUNNAMURRA-WONGANELA (01)","AW0-008 ","AW0",211.02999877929699]
[6001148110,"WEST-KINGSLEY (02)","AW0-007 ","AW0",211.03999328613301]
[6001159038,"ELLEN-RACHELLE (02)","AW0-008 ","AW0",211.05000305175801]
[6001158325,"PAMELA-HERBERT (02)","AW0-006 ","AW0",211.05999755859401]
[6001195067,"GREENACRE-AYLESBURY (02)","AW0-002 ","AW0",211.080001831055]
[6001197873,"NORWOOD-PROSPECT (02)","AW0-008 ","AW0",211.080001831055]
[6001148020,"FRASER-BOWES (01)","AW0-001 ","AW0",211.10000610351599]
[6001157094,"WUNNAMURRA-WONGANELA (01)","AW0-008 ","AW0",211.10000610351599]
[6001197156,"DAVID-RACHELLE (02)","AW0-007 ","AW0",211.10000610351599]
[6001589055,"ROSEHILL-TALBOT (01)","AW0-006 ","AW0",211.10000610351599]
[6001590019,"ROSEHILL-TALBOT (01)","AW0-006 ","AW0",211.10000610351599]
[6001147033,"HIGHRIDGE-ROBERTS (03)","AW0-006 ","AW0",211.11000061035199]
[6001441130,"PAMELA-HERBERT (01)","AW0-006 ","AW0",211.11000061035199]
[6001148773,"COPE-MOORE (02)","AW0-001 ","AW0",211.13000488281301]
[6001158304,"PAMELA-HERBERT (01)","AW0-006 ","AW0",211.13000488281301]
[6001339859,"CAMERON-MATTHEWS (03)","AW0-006 ","AW0",211.13000488281301]
[6001401167,"CENTREWAY-WINGARA (03)","AW0-007 ","AW0",211.13999938964801]
[6001295101,"KEILOR-NYAH (01)","AW0-007 ","AW0",211.14999389648401]
[6001305650,"HART-BOWES (03)","AW0-006 ","AW0",211.14999389648401]
[6001146827,"FULLARTON-WALTERS (01)","AW0-006 ","AW0",211.16000366210901]
[6001425822,"DALKEITH-GORDON (02)","AW0-009 ","AW0",211.169998168945]
[6001007839,"FRASER-BOWES (01)","AW0-001 ","AW0",211.17999267578099]
[6001148299,"HILBERT-HARRINGTON (01)","AW0-008 ","AW0",211.17999267578099]
[6001448820,"DALKEITH-GORDON (02)","AW0-009 ","AW0",211.17999267578099]
[6001259623,"WUNNAMURRA-WONGANELA (01)","AW0-008 ","AW0",211.19000244140599]
[6001399983,"MCINTOSH 42-MATTHEWS (01)","AW0-005 ","AW0",211.19000244140599]
[6001158440,"DAVID-RACHELLE (03)","AW0-007 ","AW0",211.19999694824199]
[6001163633,"HANSON-GOBLE (01)","AW0-007 ","AW0",211.19999694824199]
[6001552354,"NORTH-THOMAS (01)","AW0-007 ","AW0",211.19999694824199]
[6001565068,"HIGHRIDGE-ROBERTS (03)","AW0-006 ","AW0",211.19999694824199]
[6001147780,"ETZEL-CLYDESDALE (03)","AW0-006 ","AW0",211.21000671386699]
[6001306279,"CUDGEWA-BORVA (01)","AW0-008 ","AW0",211.22000122070301]
[6001146829,"FULLARTON-WALTERS (01)","AW0-006 ","AW0",211.22999572753901]
[6001157741,"WUNNAMURRA-WONGANELA (02)","AW0-008 ","AW0",211.22999572753901]
[6001271224,"HIGHRIDGE-ROBERTS (03)","AW0-006 ","AW0",211.24000549316401]
[6001163786,"HOTHAM-RYDER No. 2 (03)","AW0-006 ","AW0",211.25999450683599]
[6001214398,"HART-BOWES (03)","AW0-006 ","AW0",211.27000427246099]
[6001147095,"OAK-CONISTON (02)","AW0-007 ","AW0",211.27999877929699]
[6001320574,"HAWKER-MCNAMARA (02)","AW0-001 ","AW0",211.27999877929699]
[6001148101,"WEST-KINGSLEY (02)","AW0-007 ","AW0",211.30000305175801]
[6001618201,"CUDGEWA-BORVA (01)","AW0-008 ","AW0",211.30000305175801]
[6001148024,"FRASER-BOWES (01)","AW0-001 ","AW0",211.32000732421901]
[6001295231,"ELLEN-RACHELLE (02)","AW0-008 ","AW0",211.32000732421901]
[6001452228,"MCINTOSH 42-MATTHEWS (01)","AW0-005 ","AW0",211.32000732421901]
[6001148298,"HILBERT-HARRINGTON (01)","AW0-008 ","AW0",211.330001831055]
[6001226898,"ROSEHILL-ROSE (02)","AW0-006 ","AW0",211.330001831055]
[6001159979,"THE CROSSWAY-VISTA (03)","AW0-008 ","AW0",211.33999633789099]
[6001413445,"FRASER-BOWES (01)","AW0-001 ","AW0",211.33999633789099]
[6001149621,"DALKEITH-GORDON (02)","AW0-009 ","AW0",211.35000610351599]
[6001158964,"MCPHERSON-QUINN (03)","AW0-008 ","AW0",211.36000061035199]
[6001147322,"ROBERTS-MCNAMARA (01)","AW0-006 ","AW0",211.36999511718801]
[6001157734,"WUNNAMURRA-WONGANELA (02)","AW0-008 ","AW0",211.36999511718801]
[6001158575,"ROSEHILL-TALBOT (01)","AW0-006 ","AW0",211.38000488281301]
[6001235466,"WEST-KINGSLEY (02)","AW0-007 ","AW0",211.38000488281301]
[6001044010,"SEXTON-HALSEY (02)","AW0-006 ","AW0",211.38999938964801]
[6001148033,"FRASER-BOWES (01)","AW0-001 ","AW0",211.38999938964801]
[6001148038,"FRASER-BOWES (01)","AW0-001 ","AW0",211.38999938964801]
[6001148103,"WEST-KINGSLEY (02)","AW0-007 ","AW0",211.38999938964801]
[6001196384,"VAUCLUSE-LENOAK (01)","AW0-002 ","AW0",211.39999389648401]
[6001540415,"VAUCLUSE-LENOAK (01)","AW0-002 ","AW0",211.39999389648401]
[6001224907,"HART-BOWES (03)","AW0-006 ","AW0",211.41000366210901]
[6001197182,"COLLEGE-BREES (03)","AW0-008 ","AW0",211.419998168945]
[6001342724,"MCNAMARA-ROBERTS (02)","AW0-006 ","AW0",211.419998168945]
[6001348978,"LOCKHEED-BOEING (01)","AW0-012 ","AW0",211.419998168945]
[6001197186,"COLLEGE-BREES (03)","AW0-008 ","AW0",211.42999267578099]
[6001159500,"HEATHERLEA-STERLING (02)","AW0-008 ","AW0",211.44999694824199]
[6001262164,"QUINN-CLARKS (01)","AW0-007 ","AW0",211.44999694824199]
[6001147886,"MCINTOSH 42-MATTHEWS (01)","AW0-005 ","AW0",211.46000671386699]
[6001230541,"COLLEGE-BREES (03)","AW0-008 ","AW0",211.47999572753901]
[6001148305,"HILBERT-HARRINGTON (01)","AW0-008 ","AW0",211.5]
[6001400088,"PAMELA-HERBERT (02)","AW0-006 ","AW0",211.5]
[6001479263,"MCINTOSH 42-MATTHEWS (01)","AW0-005 ","AW0",211.5]
[6001490696,"BEDFORD-PARER (01)","AW0-007 ","AW0",211.5]
[6001148351,"HILBERT-HARRINGTON (01)","AW0-008 ","AW0",211.50999450683599]
[6001158358,"DAVID-RACHELLE (02)","AW0-007 ","AW0",211.50999450683599]
[6001347592,"HENRY-DENNIS (02)","AW0-008 ","AW0",211.50999450683599]
[6001412415,"NEWMAN-HOTHAM (01)","AW0-007 ","AW0",211.52000427246099]
[6001157546,"WOORITE-MILLEARA (01)","AW0-008 ","AW0",211.52999877929699]
[6001159888,"THE CROSSWAY-VISTA (03)","AW0-008 ","AW0",211.53999328613301]
[6001327673,"NEWMAN-HOTHAM (03)","AW0-007 ","AW0",211.53999328613301]
[6001148866,"SEXTON-HALSEY (02)","AW0-006 ","AW0",211.55000305175801]
[6001196640,"HARDY-SNAEFELL (01)","AW0-009 ","AW0",211.55999755859401]
[6001387826,"HANSON-GOBLE (01)","AW0-007 ","AW0",211.55999755859401]
[6001157621,"CUDGEWA-BORVA (01)","AW0-008 ","AW0",211.580001831055]
[6001239267,"CUDGEWA-BORVA (01)","AW0-008 ","AW0",211.580001831055]
[6001432487,"CAMERON-MATTHEWS (03)","AW0-006 ","AW0",211.580001831055]
[6001390585,"OAK-CONISTON (02)","AW0-007 ","AW0",211.58999633789099]
[6001469314,"WARATAH-CAROL (02)","AW0-009 ","AW0",211.58999633789099]
[6001158897,"ELLEN-RACHELLE (03)","AW0-008 ","AW0",211.60000610351599]
[6001232031,"PAMELA-HERBERT (01)","AW0-006 ","AW0",211.60000610351599]
[6001301849,"WARATAH-CAROL (02)","AW0-009 ","AW0",211.60000610351599]
[6001563327,"WEST-KINGSLEY (01)","AW0-007 ","AW0",211.60000610351599]
[6001587464,"WEST-KINGSLEY (01)","AW0-007 ","AW0",211.60000610351599]
[6001622000,"WEST-KINGSLEY (01)","AW0-007 ","AW0",211.60000610351599]
[6001629010,"CAMERON-MATTHEWS (03)","AW0-006 ","AW0",211.60000610351599]
[6001157434,"CUDGEWA-BORVA (01)","AW0-008 ","AW0",211.61000061035199]
[6001159974,"THE CROSSWAY-VISTA (03)","AW0-008 ","AW0",211.61000061035199]
[6001196647,"HARDY-SNAEFELL (01)","AW0-009 ","AW0",211.61999511718801]
[6001042151,"WUNNAMURRA-WONGANELA (02)","AW0-008 ","AW0",211.63999938964801]
[6001412452,"VALLEY LAKE-STEELE CREEK (03)","AW0-007 ","AW0",211.63999938964801]
[6001149614,"DALKEITH-GORDON (02)","AW0-009 ","AW0",211.64999389648401]
[6001197181,"COLLEGE-BREES (03)","AW0-008 ","AW0",211.64999389648401]
[6001330516,"CUDGEWA-BORVA (01)","AW0-008 ","AW0",211.64999389648401]
[6001432380,"DAVID-RACHELLE (01)","AW0-007 ","AW0",211.669998168945]
[6001196880,"KITTYHAWK-MOORNA (02)","AW0-008 ","AW0",211.69000244140599]
[6001148169,"NORTH-THOMAS (01)","AW0-007 ","AW0",211.69999694824199]
[6001544316,"ROSEHILL-TALBOT (01)","AW0-006 ","AW0",211.69999694824199]
[6001578077,"KEILOR-NYAH (01)","AW0-007 ","AW0",211.69999694824199]
[6001591341,"THERESA-CHRISTOPHER (02)","AW0-009 ","AW0",211.69999694824199]
[6001026113,"BEDFORD-PARER (02)","AW0-007 ","AW0",211.71000671386699]
[6001157732,"WUNNAMURRA-WONGANELA (02)","AW0-008 ","AW0",211.71000671386699]
[6001198004,"ARCADE-PROSPECT (02)","AW0-008 ","AW0",211.71000671386699]
[6001226726,"ROSEHILL-ROSE (02)","AW0-006 ","AW0",211.71000671386699]
[6001346097,"HENRY-DENNIS (02)","AW0-008 ","AW0",211.71000671386699]
[6001367583,"MOYANGUL-GUNGARLAN (02)","AW0-008 ","AW0",211.71000671386699]
[6001125688,"COLLEGE-BREES (03)","AW0-008 ","AW0",211.72000122070301]
[6001148295,"HILBERT-HARRINGTON (01)","AW0-008 ","AW0",211.72000122070301]
[6001148640,"SEXTON-PARER (02)","AW0-006 ","AW0",211.72000122070301]
[6001148791,"SEXTON-HALSEY (04)","AW0-006 ","AW0",211.72000122070301]
[6001309967,"COHEN-GROVES (02)","AW0-008 ","AW0",211.72999572753901]
[6001148097,"WEST-KINGSLEY (02)","AW0-007 ","AW0",211.75]
[6001157342,"ETKA-MARK (03)","AW0-007 ","AW0",211.75999450683599]
[6001157517,"CUDGEWA-BORVA (01)","AW0-008 ","AW0",211.75999450683599]
[6001396630,"COLLEGE-BREES (03)","AW0-008 ","AW0",211.75999450683599]
[6001125688,"COLLEGE-BREES (03)","AW0-008 ","AW0",211.77000427246099]
[6001148559,"NORTH-THOMAS (03)","AW0-007 ","AW0",211.77000427246099]
[6001157735,"WUNNAMURRA-WONGANELA (02)","AW0-008 ","AW0",211.77000427246099]
[6001158315,"PAMELA-HERBERT (02)","AW0-006 ","AW0",211.77000427246099]
[6001148028,"FRASER-BOWES (01)","AW0-001 ","AW0",211.77999877929699]
[6001328184,"MOYANGUL-GUNGARLAN (02)","AW0-008 ","AW0",211.77999877929699]
[6001462054,"SEXTON-PARER (02)","AW0-006 ","AW0",211.77999877929699]
[6001550075,"RACHELLE-NICOLA (03)","AW0-007 ","AW0",211.77999877929699]
[6001280330,"FARRELL-RYDER (02)","AW0-006 ","AW0",211.78999328613301]
[6001147317,"ROBERTS-MCNAMARA (01)","AW0-006 ","AW0",211.80000305175801]
[6001250640,"HARDY-SNAEFELL (01)","AW0-009 ","AW0",211.80000305175801]
[6001330574,"FRASER-BOWES (01)","AW0-001 ","AW0",211.80000305175801]
[6001630063,"CAMERON-MATTHEWS (03)","AW0-006 ","AW0",211.80000305175801]
[6001158291,"PAMELA-HERBERT (01)","AW0-006 ","AW0",211.80999755859401]
[6001158470,"DAVID-RACHELLE (03)","AW0-007 ","AW0",211.82000732421901]
[6001196876,"KITTYHAWK-MOORNA (02)","AW0-008 ","AW0",211.82000732421901]
[6001286032,"SEXTON-PARER (03)","AW0-006 ","AW0",211.830001831055]
[6001292751,"FRASER-BOWES (01)","AW0-001 ","AW0",211.830001831055]
[6001157728,"WUNNAMURRA-WONGANELA (02)","AW0-008 ","AW0",211.83999633789099]
[6001157848,"CENTREWAY-WINGARA (03)","AW0-007 ","AW0",211.85000610351599]
[6001163680,"HANSON-GOBLE (01)","AW0-007 ","AW0",211.85000610351599]
[6001154335,"LOCKHEED-BOEING (02)","AW0-012 ","AW0",211.86000061035199]
[6001163636,"HANSON-GOBLE (01)","AW0-007 ","AW0",211.89999389648401]
[6001469998,"BEDFORD-PARER (01)","AW0-007 ","AW0",211.89999389648401]
[6001487135,"MCINTOSH 42-MATTHEWS (01)","AW0-005 ","AW0",211.89999389648401]
[6001516574,"ELLEN-RACHELLE (03)","AW0-008 ","AW0",211.89999389648401]
[6001260164,"COPE-MOORE (02)","AW0-001 ","AW0",211.91000366210901]
[6001304358,"COLLEGE-BREES (03)","AW0-008 ","AW0",211.91000366210901]
[6001197997,"ARCADE-PROSPECT (02)","AW0-008 ","AW0",211.919998168945]
[6001147824,"HAWKER-MCNAMARA (02)","AW0-001 ","AW0",211.92999267578099]
[6001015007,"QUINN-CLARKS (01)","AW0-007 ","AW0",211.96000671386699]
[6001147530,"HILBERT-HARRINGTON (02)","AW0-008 ","AW0",211.97000122070301]
[6001195779,"HALL-BURBANK (01)","AW0-002 ","AW0",211.97000122070301]
[6001334500,"NEWMAN-HOTHAM (03)","AW0-007 ","AW0",211.97000122070301]
[6001148353,"HILBERT-HARRINGTON (01)","AW0-008 ","AW0",211.99000549316401]
[6001148785,"SEXTON-HALSEY (04)","AW0-006 ","AW0",211.99000549316401]
[6001154261,"CLAYTON-MASCOMA (01)","AW0-012 ","AW0",212]
[6001157167,"QUINN-CLARKS (02)","AW0-007 ","AW0",212]
[6001197190,"COLLEGE-BREES (03)","AW0-008 ","AW0",212]
[6001197993,"ARCADE-PROSPECT (02)","AW0-008 ","AW0",212]
[6001453406,"COPE-MOORE (02)","AW0-001 ","AW0",212]
[6001519097,"ROBERTS-MCNAMARA (01)","AW0-006 ","AW0",212]
[6001563328,"WEST-KINGSLEY (01)","AW0-007 ","AW0",212]
[6001264079,"ELLEN-RACHELLE (03)","AW0-008 ","AW0",212.02000427246099]
[6001393285,"WEST-KINGSLEY (02)","AW0-007 ","AW0",212.02000427246099]
[6001235517,"ETKA-MARK (03)","AW0-007 ","AW0",212.02999877929699]
[6001158740,"ELLEN-RACHELLE (03)","AW0-008 ","AW0",212.03999328613301]
[6001240404,"HANSON-GOBLE (01)","AW0-007 ","AW0",212.03999328613301]
[6001466211,"HILBERT-HARRINGTON (02)","AW0-008 ","AW0",212.03999328613301]
[6001475644,"HOTHAM-RYDER No. 2 (03)","AW0-006 ","AW0",212.03999328613301]
[6001158328,"PAMELA-HERBERT (02)","AW0-006 ","AW0",212.05000305175801]
[6001044649,"MOYANGUL-GUNGARLAN (02)","AW0-008 ","AW0",212.05999755859401]
[6001147446,"ROBERTS-MCNAMARA (01)","AW0-006 ","AW0",212.05999755859401]
[6001163618,"HANSON-GOBLE (01)","AW0-007 ","AW0",212.05999755859401]
[6001149315,"WARATAH-CAROL (02)","AW0-009 ","AW0",212.080001831055]
[6001158245,"DAVID-RACHELLE (01)","AW0-007 ","AW0",212.080001831055]
[6001158741,"ELLEN-RACHELLE (03)","AW0-008 ","AW0",212.080001831055]
[6001254065,"FRASER-BOWES (01)","AW0-001 ","AW0",212.080001831055]
[6001197998,"ARCADE-PROSPECT (02)","AW0-008 ","AW0",212.08999633789099]
[6001122972,"HANSON-GOBLE (01)","AW0-007 ","AW0",212.10000610351599]
[6001127130,"THE CROSSWAY-VISTA (02)","AW0-008 ","AW0",212.10000610351599]
[6001147516,"HILBERT-ROBERTS (02)","AW0-008 ","AW0",212.10000610351599]
[6001197190,"COLLEGE-BREES (03)","AW0-008 ","AW0",212.10000610351599]
[6001553517,"WUNNAMURRA-WONGANELA (02)","AW0-008 ","AW0",212.10000610351599]
[6001584147,"HENRY-DENNIS (02)","AW0-008 ","AW0",212.10000610351599]
[6001336378,"CRESSWELL-CAMERON (02)","AW0-006 ","AW0",212.11000061035199]
[6001480714,"BEDFORD-PARER (02)","AW0-007 ","AW0",212.11000061035199]
[6001329494,"PAMELA-HERBERT (02)","AW0-006 ","AW0",212.11999511718801]
[6001157695,"WUNNAMURRA-WONGANELA (02)","AW0-008 ","AW0",212.13000488281301]
[6001197870,"NORWOOD-PROSPECT (02)","AW0-008 ","AW0",212.14999389648401]
[6001332756,"GRANITE-VALLEY LAKE (03)","AW0-007 ","AW0",212.14999389648401]
[6001424537,"BEDFORD-PARER (02)","AW0-007 ","AW0",212.14999389648401]
[6001148669,"SEXTON-PARER (01)","AW0-006 ","AW0",212.16000366210901]
[6001196642,"HARDY-SNAEFELL (01)","AW0-009 ","AW0",212.16000366210901]
[6001274042,"MOYANGUL-GUNGARLAN (02)","AW0-008 ","AW0",212.16000366210901]
[6001148236,"BEDFORD-PARER (02)","AW0-007 ","AW0",212.169998168945]
[6001017372,"DALKEITH-GORDON (02)","AW0-009 ","AW0",212.17999267578099]
[6001149658,"THERESA-CHRISTOPHER (02)","AW0-009 ","AW0",212.19000244140599]
[6001197185,"COLLEGE-BREES (03)","AW0-008 ","AW0",212.19000244140599]
[6001157168,"QUINN-CLARKS (02)","AW0-007 ","AW0",212.19999694824199]
[6001164189,"FARRELL-RYDER (02)","AW0-006 ","AW0",212.19999694824199]
[6001195788,"ROSEHILL-ROSE (02)","AW0-006 ","AW0",212.19999694824199]
[6001545020,"THE CROSSWAY-VISTA (02)","AW0-008 ","AW0",212.19999694824199]
[6001549407,"WUNNAMURRA-WONGANELA (02)","AW0-008 ","AW0",212.19999694824199]
[6001565133,"QUINN-CLARKS (02)","AW0-007 ","AW0",212.19999694824199]
[6001258737,"SEXTON-PARER (03)","AW0-006 ","AW0",212.21000671386699]
[6001159196,"COHEN-GROVES (02)","AW0-008 ","AW0",212.22000122070301]
[6001399904,"DAVID-RACHELLE (03)","AW0-007 ","AW0",212.22000122070301]
[6001157456,"MOYANGUL-GUNGARLAN (03)","AW0-008 ","AW0",212.22999572753901]
[6001184079,"MCNAMARA-PETERS (01)","AW0-007 ","AW0",212.22999572753901]
[6001271402,"HOTHAM-RYDER No. 2 (03)","AW0-006 ","AW0",212.22999572753901]
[6001148318,"HILBERT-HARRINGTON (02)","AW0-008 ","AW0",212.24000549316401]
[6001163689,"HANSON-GOBLE (01)","AW0-007 ","AW0",212.24000549316401]
[6001197188,"COLLEGE-BREES (03)","AW0-008 ","AW0",212.24000549316401]
[6001339171,"VALLEY LAKE-STEELE CREEK (04)","AW0-007 ","AW0",212.24000549316401]
[6001301884,"KINGSLEY-ROBERTS (01)","AW0-007 ","AW0",212.25]
[6001313887,"MARIGOLD-HOLLY (03)","AW0-012 ","AW0",212.25999450683599]
[6001147762,"ETZEL-CLYDESDALE (01)","AW0-006 ","AW0",212.27999877929699]
[6001157128,"QUINN-CLARKS (03)","AW0-007 ","AW0",212.27999877929699]
[6001159440,"ROSTELLA-NORWOOD (01)","AW0-008 ","AW0",212.27999877929699]
[6001197875,"NORWOOD-PROSPECT (02)","AW0-008 ","AW0",212.27999877929699]
[6001431043,"ELLEN-RACHELLE (03)","AW0-008 ","AW0",212.27999877929699]
[6001217289,"CENTREWAY-WINGARA (03)","AW0-007 ","AW0",212.28999328613301]
[6001248629,"SEXTON-PARER (01)","AW0-006 ","AW0",212.30000305175801]
[6001494516,"DAVID-RACHELLE (01)","AW0-007 ","AW0",212.30000305175801]
[6001598169,"ARCADE-PROSPECT (02)","AW0-008 ","AW0",212.30000305175801]
[6001146788,"CRESSWELL-CAMERON (02)","AW0-006 ","AW0",212.30999755859401]
[6001158585,"ROSEHILL-TALBOT (01)","AW0-006 ","AW0",212.32000732421901]
[6001348766,"WUNNAMURRA-WONGANELA (02)","AW0-008 ","AW0",212.32000732421901]
[6001157849,"CENTREWAY-WINGARA (03)","AW0-007 ","AW0",212.330001831055]
[6001197108,"COLLEGE-BREES (02)","AW0-008 ","AW0",212.330001831055]
[6001249532,"THE CROSSWAY-VISTA (02)","AW0-008 ","AW0",212.330001831055]
[6001197102,"COLLEGE-BREES (02)","AW0-008 ","AW0",212.33999633789099]
[6001013266,"ELLEN-RACHELLE (03)","AW0-008 ","AW0",212.35000610351599]
[6001159231,"COHEN-GROVES (02)","AW0-008 ","AW0",212.35000610351599]
[6001226530,"FAWKNER-BENT (02)","AW0-009 ","AW0",212.36000061035199]
[6001244450,"KENNY-COGHILL (01)","AW0-009 ","AW0",212.36000061035199]
[6001326236,"PAMELA-HERBERT (01)","AW0-006 ","AW0",212.36000061035199]
[6001351911,"VALLEY LAKE-STEELE CREEK (04)","AW0-007 ","AW0",212.36000061035199]
[6001274041,"MOYANGUL-GUNGARLAN (02)","AW0-008 ","AW0",212.36999511718801]
[6001158636,"JUDITH-BREES (02)","AW0-006 ","AW0",212.38000488281301]
[6001159893,"THE CROSSWAY-VISTA (03)","AW0-008 ","AW0",212.38000488281301]
[6001273837,"WARATAH-CAROL (02)","AW0-009 ","AW0",212.38000488281301]
[6001016115,"HILBERT-ROBERTS (02)","AW0-008 ","AW0",212.38999938964801]
[6001158243,"DAVID-RACHELLE (01)","AW0-007 ","AW0",212.38999938964801]
[6001157845,"CENTREWAY-WINGARA (03)","AW0-007 ","AW0",212.39999389648401]
[6001195066,"GREENACRE-AYLESBURY (02)","AW0-002 ","AW0",212.39999389648401]
[6001485393,"DALKEITH-GORDON (02)","AW0-009 ","AW0",212.39999389648401]
[6001596343,"HENRY-DENNIS (02)","AW0-008 ","AW0",212.39999389648401]
[6001158111,"QUINN-CLARKS (01)","AW0-007 ","AW0",212.41000366210901]
[6001148766,"COPE-MOORE (02)","AW0-001 ","AW0",212.419998168945]
[6001154344,"LOCKHEED-BOEING (02)","AW0-012 ","AW0",212.419998168945]
[6001405767,"MCINTOSH 42-MATTHEWS (01)","AW0-005 ","AW0",212.419998168945]
[6001148867,"SEXTON-HALSEY (02)","AW0-006 ","AW0",212.42999267578099]
[6001159464,"ROSTELLA-NORWOOD (01)","AW0-008 ","AW0",212.42999267578099]
[6001222238,"SEXTON-PARER (03)","AW0-006 ","AW0",212.42999267578099]
[6001217290,"CENTREWAY-WINGARA (03)","AW0-007 ","AW0",212.44999694824199]
[6001148355,"HILBERT-HARRINGTON (01)","AW0-008 ","AW0",212.46000671386699]
[6001222082,"COLLEGE-BREES (03)","AW0-008 ","AW0",212.46000671386699]
[6001480480,"COHEN-GROVES (02)","AW0-008 ","AW0",212.46000671386699]
[6001019971,"DAVID-RACHELLE (01)","AW0-007 ","AW0",212.47000122070301]
[6001147491,"HILBERT-ROBERTS (02)","AW0-008 ","AW0",212.47000122070301]
[6001149650,"THERESA-CHRISTOPHER (02)","AW0-009 ","AW0",212.47000122070301]
[6001148025,"FRASER-BOWES (01)","AW0-001 ","AW0",212.47999572753901]
[6001149623,"DALKEITH-GORDON (02)","AW0-009 ","AW0",212.47999572753901]
[6001066377,"HANSON-GOBLE (01)","AW0-007 ","AW0",212.49000549316401]
[6001148638,"SEXTON-PARER (02)","AW0-006 ","AW0",212.49000549316401]
[6001289718,"ADELAIDE-LANARK (04)","AW0-012 ","AW0",212.49000549316401]
[6001437807,"FARRELL-RYDER (02)","AW0-006 ","AW0",212.49000549316401]
[6001147829,"HAWKER-MCNAMARA (02)","AW0-001 ","AW0",212.5]
[6001407271,"DAVID-RACHELLE (03)","AW0-007 ","AW0",212.5]
[6001487137,"MCINTOSH 42-MATTHEWS (01)","AW0-005 ","AW0",212.5]
[6001600052,"HANSON-GOBLE (01)","AW0-007 ","AW0",212.5]
[6001617143,"VAUCLUSE-LENOAK (01)","AW0-002 ","AW0",212.5]
[6001395041,"OAK-CONISTON (02)","AW0-007 ","AW0",212.50999450683599]
[6001045101,"WUNNAMURRA-WONGANELA (02)","AW0-008 ","AW0",212.52000427246099]
[6001147207,"MCNAMARA-ROBERTS (02)","AW0-006 ","AW0",212.52000427246099]
[6001158645,"ROSEHILL-TALBOT (01)","AW0-006 ","AW0",212.52000427246099]
[6001197999,"ARCADE-PROSPECT (02)","AW0-008 ","AW0",212.52000427246099]
[6001261820,"COHEN-GROVES (02)","AW0-008 ","AW0",212.52000427246099]
[6001147606,"HILLSIDE-ROBERTS (02)","AW0-007 ","AW0",212.52999877929699]
[6001148825,"SEXTON-HALSEY (03)","AW0-006 ","AW0",212.52999877929699]
[6001159502,"HEATHERLEA-STERLING (02)","AW0-008 ","AW0",212.52999877929699]
[6001158653,"ROSEHILL-TALBOT (01)","AW0-006 ","AW0",212.53999328613301]
[6001395427,"HANSON-GOBLE (01)","AW0-007 ","AW0",212.53999328613301]
[6001412774,"HAWKER-MCNAMARA (02)","AW0-001 ","AW0",212.53999328613301]
[6001223030,"HAWKER-MCNAMARA (01)","AW0-001 ","AW0",212.55000305175801]
[6001248190,"THE CROSSWAY-VISTA (03)","AW0-008 ","AW0",212.55000305175801]
[6001338940,"VALLEY LAKE-STEELE CREEK (04)","AW0-007 ","AW0",212.55000305175801]
[6001432608,"ELLEN-RACHELLE (03)","AW0-008 ","AW0",212.55999755859401]
[6001343042,"DALKEITH-GORDON (02)","AW0-009 ","AW0",212.57000732421901]
[6001157396,"KEILOR-NYAH (01)","AW0-007 ","AW0",212.58999633789099]
[6001157665,"MOYANGUL-GUNGARLAN (02)","AW0-008 ","AW0",212.58999633789099]
[6001158167,"HENRY-DENNIS (02)","AW0-008 ","AW0",212.58999633789099]
[6001158629,"JUDITH-BREES (02)","AW0-006 ","AW0",212.58999633789099]
[6001436978,"FARRELL-RYDER (02)","AW0-006 ","AW0",212.58999633789099]
[6001157130,"QUINN-CLARKS (03)","AW0-007 ","AW0",212.60000610351599]
[6001163687,"HANSON-GOBLE (01)","AW0-007 ","AW0",212.60000610351599]
[6001487135,"MCINTOSH 42-MATTHEWS (01)","AW0-005 ","AW0",212.60000610351599]
[6001514083,"SEXTON-HALSEY (04)","AW0-006 ","AW0",212.60000610351599]
[6001546382,"COPE-MOORE (02)","AW0-001 ","AW0",212.60000610351599]
[6001597029,"ARCADE-PROSPECT (02)","AW0-008 ","AW0",212.60000610351599]
[6001149306,"WARATAH-CAROL (02)","AW0-009 ","AW0",212.61000061035199]
[6001147543,"HILBERT-HARRINGTON (01)","AW0-008 ","AW0",212.61999511718801]
[6001163628,"HANSON-GOBLE (01)","AW0-007 ","AW0",212.61999511718801]
[6001148770,"COPE-MOORE (02)","AW0-001 ","AW0",212.63000488281301]
[6001241723,"WOORITE-MILLEARA (01)","AW0-008 ","AW0",212.63000488281301]
[6001345356,"OAK-CONISTON (02)","AW0-007 ","AW0",212.63000488281301]
[6001447255,"CENTREWAY-WINGARA (03)","AW0-007 ","AW0",212.63000488281301]
[6001159976,"THE CROSSWAY-VISTA (03)","AW0-008 ","AW0",212.63999938964801]
[6001325815,"GRANITE-VALLEY LAKE (03)","AW0-007 ","AW0",212.63999938964801]
[6001159691,"THE CROSSWAY-VISTA (01)","AW0-008 ","AW0",212.64999389648401]
[6001158651,"ROSEHILL-TALBOT (01)","AW0-006 ","AW0",212.66000366210901]
[6001197872,"NORWOOD-PROSPECT (02)","AW0-008 ","AW0",212.66000366210901]
[6001260490,"RYDER-NOLAN (02)","AW0-006 ","AW0",212.66000366210901]
[6001148021,"FRASER-BOWES (01)","AW0-001 ","AW0",212.669998168945]
[6001271374,"COHEN-GROVES (01)","AW0-008 ","AW0",212.669998168945]
[6001350323,"DAVID-RACHELLE (01)","AW0-007 ","AW0",212.669998168945]
[6001163537,"NEWMAN-HOTHAM (01)","AW0-007 ","AW0",212.67999267578099]
[6001197188,"COLLEGE-BREES (03)","AW0-008 ","AW0",212.67999267578099]
[6001474771,"VAUCLUSE-LENOAK (01)","AW0-002 ","AW0",212.67999267578099]
[6001268050,"ADELAIDE-LANARK (04)","AW0-012 ","AW0",212.69000244140599]
[6001010008,"QUINN-CLARKS (03)","AW0-007 ","AW0",212.69999694824199]
[6001506475,"WEST-KINGSLEY (01)","AW0-007 ","AW0",212.69999694824199]
[6001545060,"WUNNAMURRA-WONGANELA (02)","AW0-008 ","AW0",212.69999694824199]
[6001157127,"QUINN-CLARKS (03)","AW0-007 ","AW0",212.71000671386699]
[6001159450,"ROSTELLA-NORWOOD (01)","AW0-008 ","AW0",212.72000122070301]
[6001399982,"MCINTOSH 42-MATTHEWS (01)","AW0-005 ","AW0",212.72000122070301]
[6001452227,"MCINTOSH 42-MATTHEWS (01)","AW0-005 ","AW0",212.72000122070301]
[6001163619,"HANSON-GOBLE (01)","AW0-007 ","AW0",212.72999572753901]
[6001425834,"ROSEHILL-TALBOT (01)","AW0-006 ","AW0",212.72999572753901]
[6001159890,"THE CROSSWAY-VISTA (03)","AW0-008 ","AW0",212.74000549316401]
[6001158501,"SHELLEY-NOGA (01)","AW0-007 ","AW0",212.75]
[6001148096,"WEST-KINGSLEY (02)","AW0-007 ","AW0",212.75999450683599]
[6001197334,"COLLEGE-BREES (02)","AW0-008 ","AW0",212.77000427246099]
[6001346605,"NEWMAN-HOTHAM (03)","AW0-007 ","AW0",212.77999877929699]
[6001198035,"HEATHERLEA-STERLING (02)","AW0-008 ","AW0",212.78999328613301]
[6001163634,"HANSON-GOBLE (01)","AW0-007 ","AW0",212.80000305175801]
[6001544511,"ETKA-MARK (03)","AW0-007 ","AW0",212.80000305175801]
[6001159680,"THE CROSSWAY-VISTA (01)","AW0-008 ","AW0",212.82000732421901]
[6001246298,"COHEN-GROVES (02)","AW0-008 ","AW0",212.82000732421901]
[6001197343,"THE CROSSWAY-VISTA (02)","AW0-008 ","AW0",212.83999633789099]
[6001147892,"MCINTOSH 42-MATTHEWS (01)","AW0-005 ","AW0",212.85000610351599]
[6001300306,"FARRELL-RYDER (02)","AW0-006 ","AW0",212.85000610351599]
[6001306368,"KING-BOWES (01)","AW0-005 ","AW0",212.85000610351599]
[6001395253,"WEST-KINGSLEY (02)","AW0-007 ","AW0",212.85000610351599]
[6001157354,"ETKA-MARK (03)","AW0-007 ","AW0",212.86000061035199]
[6001392151,"GRANITE-VALLEY LAKE (02)","AW0-007 ","AW0",212.86000061035199]
[6001455647,"FARRELL-RYDER (02)","AW0-006 ","AW0",212.86999511718801]
[6001147894,"MCINTOSH 42-MATTHEWS (01)","AW0-005 ","AW0",212.88000488281301]
[6001158292,"PAMELA-HERBERT (01)","AW0-006 ","AW0",212.88000488281301]
[6001207295,"HANSON-GOBLE (01)","AW0-007 ","AW0",212.88999938964801]
[6001289718,"ADELAIDE-LANARK (04)","AW0-012 ","AW0",212.88999938964801]
[6001321049,"GRANITE-VALLEY LAKE (03)","AW0-007 ","AW0",212.89999389648401]
[6001539170,"DAVID-RACHELLE (01)","AW0-007 ","AW0",212.89999389648401]
[6001563348,"KEILOR-NYAH (01)","AW0-007 ","AW0",212.89999389648401]
[6001574092,"WEST-KINGSLEY (02)","AW0-007 ","AW0",212.89999389648401]
[6001149354,"BIRCH-BROADMEADOWS (02)","AW0-012 ","AW0",212.91000366210901]
[6001237535,"HANSON-GOBLE (01)","AW0-007 ","AW0",212.91000366210901]
[6001163613,"HANSON-GOBLE (01)","AW0-007 ","AW0",212.92999267578099]
[6001298789,"FULLARTON-WALTERS (01)","AW0-006 ","AW0",212.94000244140599]
[6001147030,"HIGHRIDGE-ROBERTS (03)","AW0-006 ","AW0",212.94999694824199]
[6001149625,"DALKEITH-GORDON (02)","AW0-009 ","AW0",212.94999694824199]
[6001265197,"ADELAIDE-LANARK (04)","AW0-012 ","AW0",212.94999694824199]
[6001420996,"GRANITE-VALLEY LAKE (03)","AW0-007 ","AW0",212.94999694824199]
[6001439457,"BEDFORD-PARER (02)","AW0-007 ","AW0",212.97999572753901]
[6001260124,"NORTH-THOMAS (03)","AW0-007 ","AW0",213]
[6001488736,"SHELLEY-NOGA (01)","AW0-007 ","AW0",213]
[6001528406,"CENTREWAY-WINGARA (03)","AW0-007 ","AW0",213]
[6001541258,"ETKA-MARK (03)","AW0-007 ","AW0",213]
[6001573068,"HOTHAM-RYDER No. 2 (03)","AW0-006 ","AW0",213]
[6001574021,"HOTHAM-RYDER No. 2 (03)","AW0-006 ","AW0",213]
[6001629022,"COHEN-GROVES (02)","AW0-008 ","AW0",213]
[6001150012,"BURVALE-CATHERINE (02)","AW0-004 ","AW0",213.00999450683599]
[6001149616,"DALKEITH-GORDON (02)","AW0-009 ","AW0",213.02000427246099]
[6001415487,"WEST-KINGSLEY (02)","AW0-007 ","AW0",213.02999877929699]
[6001009877,"MCNAMARA-ROBERTS (02)","AW0-006 ","AW0",213.03999328613301]
[6001301857,"HENRY-DENNIS (01)","AW0-008 ","AW0",213.03999328613301]
[6001127407,"ELLEN-RACHELLE (01)","AW0-008 ","AW0",213.05000305175801]
[6001148015,"FRASER-BOWES (01)","AW0-001 ","AW0",213.05000305175801]
[6001158308,"PAMELA-HERBERT (02)","AW0-006 ","AW0",213.05999755859401]
[6001328645,"COPE-MOORE (02)","AW0-001 ","AW0",213.05999755859401]
[6001432006,"SEXTON-PARER (02)","AW0-006 ","AW0",213.05999755859401]
[6001482019,"THE CROSSWAY-VISTA (03)","AW0-008 ","AW0",213.05999755859401]
[6001159438,"ROSTELLA-NORWOOD (01)","AW0-008 ","AW0",213.07000732421901]
[6001157667,"MOYANGUL-GUNGARLAN (02)","AW0-008 ","AW0",213.080001831055]
[6001158463,"DAVID-RACHELLE (03)","AW0-007 ","AW0",213.080001831055]
[6001163787,"HOTHAM-RYDER No. 2 (03)","AW0-006 ","AW0",213.080001831055]
[6001159694,"THE CROSSWAY-VISTA (01)","AW0-008 ","AW0",213.08999633789099]
[6001164192,"FARRELL-RYDER (02)","AW0-006 ","AW0",213.08999633789099]
[6001399981,"MCINTOSH 42-MATTHEWS (01)","AW0-005 ","AW0",213.10000610351599]
[6001405766,"MCINTOSH 42-MATTHEWS (01)","AW0-005 ","AW0",213.10000610351599]
[6001553326,"CUDGEWA-BORVA (01)","AW0-008 ","AW0",213.10000610351599]
[6001577089,"GORDON-SHARPS (02)","AW0-012 ","AW0",213.10000610351599]
[6001159971,"COHEN-GROVES (01)","AW0-008 ","AW0",213.11000061035199]
[6001164801,"ROSEHILL-ROSE (02)","AW0-006 ","AW0",213.11000061035199]
[6001164800,"ROSEHILL-ROSE (02)","AW0-006 ","AW0",213.13000488281301]
[6001147508,"HILBERT-ROBERTS (02)","AW0-008 ","AW0",213.13999938964801]
[6001148027,"FRASER-BOWES (01)","AW0-001 ","AW0",213.13999938964801]
[6001195782,"HALL-BURBANK (01)","AW0-002 ","AW0",213.13999938964801]
[6001283430,"QUINN-CLARKS (02)","AW0-007 ","AW0",213.13999938964801]
[6001311085,"NEWMAN-HOTHAM (03)","AW0-007 ","AW0",213.13999938964801]
[6001457018,"DAVID-RACHELLE (03)","AW0-007 ","AW0",213.13999938964801]
[6001264159,"LOCKHEED-BOEING (02)","AW0-012 ","AW0",213.14999389648401]
[6001196389,"VAUCLUSE-LENOAK (01)","AW0-002 ","AW0",213.169998168945]
[6001312919,"FULLARTON-WALTERS (01)","AW0-006 ","AW0",213.169998168945]
[6001335749,"VALLEY LAKE-STEELE CREEK (04)","AW0-007 ","AW0",213.169998168945]
[6001398847,"WUNNAMURRA-WONGANELA (02)","AW0-008 ","AW0",213.169998168945]
[6001157843,"CENTREWAY-WINGARA (03)","AW0-007 ","AW0",213.17999267578099]
[6001149355,"BIRCH-BROADMEADOWS (02)","AW0-012 ","AW0",213.19000244140599]
[6001228676,"HANSON-GOBLE (01)","AW0-007 ","AW0",213.19000244140599]
[6001013593,"FAWKNER-BENT (02)","AW0-009 ","AW0",213.19999694824199]
[6001334274,"GRANITE-VALLEY LAKE (03)","AW0-007 ","AW0",213.19999694824199]
[6001388622,"GREEN-MATTHEWS (01)","AW0-006 ","AW0",213.19999694824199]
[6001444136,"ROSEHILL-ROSE (02)","AW0-006 ","AW0",213.19999694824199]
[6001483079,"SHELLEY-NOGA (01)","AW0-007 ","AW0",213.19999694824199]
[6001526598,"CENTREWAY-WINGARA (03)","AW0-007 ","AW0",213.19999694824199]
[6001552598,"FARRELL-RYDER (01)","AW0-006 ","AW0",213.19999694824199]
[6001163789,"HOTHAM-RYDER No. 2 (03)","AW0-006 ","AW0",213.21000671386699]
[6001164057,"HOTHAM-RYDER No. 2 (03)","AW0-006 ","AW0",213.21000671386699]
[6001399471,"VALLEY LAKE-STEELE CREEK (03)","AW0-007 ","AW0",213.22000122070301]
[6001452064,"WARATAH-CAROL (02)","AW0-009 ","AW0",213.22000122070301]
[6001017155,"HARDY-SNAEFELL (01)","AW0-009 ","AW0",213.24000549316401]
[6001265085,"ADELAIDE-LANARK (04)","AW0-012 ","AW0",213.24000549316401]
[6001345552,"BEDFORD-PARER (02)","AW0-007 ","AW0",213.24000549316401]
[6001148250,"WEST-KINGSLEY (01)","AW0-007 ","AW0",213.25]
[6001158745,"ELLEN-RACHELLE (03)","AW0-008 ","AW0",213.25]
[6001381492,"CRESSWELL-CAMERON (02)","AW0-006 ","AW0",213.25]
[6001230075,"ROSEHILL-ROSE (02)","AW0-006 ","AW0",213.25999450683599]
[6001312017,"HIGHRIDGE-ROBERTS (03)","AW0-006 ","AW0",213.25999450683599]
[6001259422,"NORWOOD-PROSPECT (02)","AW0-008 ","AW0",213.27000427246099]
[6001158314,"PAMELA-HERBERT (02)","AW0-006 ","AW0",213.27999877929699]
[6001197868,"NORWOOD-PROSPECT (02)","AW0-008 ","AW0",213.27999877929699]
[6001216984,"COLLEGE-BREES (03)","AW0-008 ","AW0",213.27999877929699]
[6001337511,"COPE-MOORE (02)","AW0-001 ","AW0",213.28999328613301]
[6001146765,"CAMERON-MATTHEWS (03)","AW0-006 ","AW0",213.30000305175801]
[6001164190,"FARRELL-RYDER (02)","AW0-006 ","AW0",213.30000305175801]
[6001212871,"COLLEGE-BREES (03)","AW0-008 ","AW0",213.30000305175801]
[6001522497,"ETZEL-CLYDESDALE (03)","AW0-006 ","AW0",213.30000305175801]
[6001526156,"MCINTOSH 42-MATTHEWS (01)","AW0-005 ","AW0",213.30000305175801]
[6001545366,"SEXTON-HALSEY (02)","AW0-006 ","AW0",213.30000305175801]
[6001545757,"DAVID-RACHELLE (01)","AW0-007 ","AW0",213.30000305175801]
[6001573069,"HOTHAM-RYDER No. 2 (03)","AW0-006 ","AW0",213.30000305175801]
[6001577087,"GORDON-SHARPS (02)","AW0-012 ","AW0",213.30000305175801]
[6001596100,"HANSON-GOBLE (01)","AW0-007 ","AW0",213.30000305175801]
[6001018079,"ROBERTS-MCNAMARA (01)","AW0-006 ","AW0",213.30999755859401]
[6001157788,"WOORITE-MILLEARA (02)","AW0-008 ","AW0",213.30999755859401]
[6001228821,"QUINN-CLARKS (03)","AW0-007 ","AW0",213.32000732421901]
[6001243227,"HANSON-GOBLE (01)","AW0-007 ","AW0",213.32000732421901]
[6001163635,"HANSON-GOBLE (01)","AW0-007 ","AW0",213.330001831055]
[6001319804,"MARIGOLD-HOLLY (03)","AW0-012 ","AW0",213.330001831055]
[6001157169,"QUINN-CLARKS (02)","AW0-007 ","AW0",213.33999633789099]
[6001339393,"RACHELLE-NICOLA (03)","AW0-007 ","AW0",213.33999633789099]
[6001411754,"FULLARTON-WALTERS (01)","AW0-006 ","AW0",213.35000610351599]
[6001334260,"PAMELA-HERBERT (01)","AW0-006 ","AW0",213.36000061035199]
[6001346504,"GRANITE-VALLEY LAKE (03)","AW0-007 ","AW0",213.36000061035199]
[6001419035,"MCINTOSH 42-MATTHEWS (01)","AW0-005 ","AW0",213.36000061035199]
[6001158485,"QUINN-NOGA (01)","AW0-007 ","AW0",213.38000488281301]
[6001159234,"COHEN-GROVES (02)","AW0-008 ","AW0",213.39999389648401]
[6001197989,"ARCADE-PROSPECT (02)","AW0-008 ","AW0",213.39999389648401]
[6001291190,"ETKA-MARK (03)","AW0-007 ","AW0",213.39999389648401]
[6001334047,"MOYANGUL-GUNGARLAN (02)","AW0-008 ","AW0",213.39999389648401]
[6001526154,"MCINTOSH 42-MATTHEWS (01)","AW0-005 ","AW0",213.39999389648401]
[6001573069,"HOTHAM-RYDER No. 2 (03)","AW0-006 ","AW0",213.39999389648401]
[6001147334,"ROBERTS-MCNAMARA (01)","AW0-006 ","AW0",213.419998168945]
[6001198064,"ARCADE-PROSPECT (02)","AW0-008 ","AW0",213.419998168945]
[6001148141,"BEDFORD-PARER (01)","AW0-007 ","AW0",213.42999267578099]
[6001157782,"WOORITE-MILLEARA (02)","AW0-008 ","AW0",213.42999267578099]
[6001343443,"GRANITE-VALLEY LAKE (03)","AW0-007 ","AW0",213.42999267578099]
[6001157798,"WOORITE-MILLEARA (02)","AW0-008 ","AW0",213.44000244140599]
[6001195068,"GREENACRE-AYLESBURY (02)","AW0-002 ","AW0",213.44000244140599]
[6001480620,"VALLEY LAKE-STEELE CREEK (04)","AW0-007 ","AW0",213.44000244140599]
[6001164190,"FARRELL-RYDER (02)","AW0-006 ","AW0",213.46000671386699]
[6001444920,"OAK-CONISTON (02)","AW0-007 ","AW0",213.47000122070301]
[6001237000,"ROSEHILL-TALBOT (01)","AW0-006 ","AW0",213.47999572753901]
[6001490059,"WUNNAMURRA-WONGANELA (02)","AW0-008 ","AW0",213.47999572753901]
[6001159444,"ROSTELLA-NORWOOD (01)","AW0-008 ","AW0",213.49000549316401]
[6001398847,"WUNNAMURRA-WONGANELA (02)","AW0-008 ","AW0",213.5]
[6001486494,"HANSON-GOBLE (01)","AW0-007 ","AW0",213.5]
[6001495207,"QUINN-NOGA (01)","AW0-007 ","AW0",213.5]
[6001532324,"ROSTELLA-NORWOOD (01)","AW0-008 ","AW0",213.5]
[6001538790,"RACHELLE-NICOLA (03)","AW0-007 ","AW0",213.5]
[6001573067,"HOTHAM-RYDER No. 2 (03)","AW0-006 ","AW0",213.5]
[6001573068,"HOTHAM-RYDER No. 2 (03)","AW0-006 ","AW0",213.5]
[6001574021,"HOTHAM-RYDER No. 2 (03)","AW0-006 ","AW0",213.5]
[6001578025,"WUNNAMURRA-WONGANELA (01)","AW0-008 ","AW0",213.5]
[6001620019,"PAMELA-HERBERT (01)","AW0-006 ","AW0",213.5]
[6001197080,"COLLEGE-BREES (02)","AW0-008 ","AW0",213.50999450683599]
[6001438859,"HILBERT-ROBERTS (02)","AW0-008 ","AW0",213.50999450683599]
[6001158467,"DAVID-RACHELLE (03)","AW0-007 ","AW0",213.52000427246099]
[6001233209,"MOYANGUL-GUNGARLAN (03)","AW0-008 ","AW0",213.52000427246099]
[6001195463,"CARRICK-TRENTHAM (02)","AW0-002 ","AW0",213.52999877929699]
[6001148566,"NORTH-THOMAS (03)","AW0-007 ","AW0",213.53999328613301]
[6001195564,"CARRICK-TRENTHAM (02)","AW0-002 ","AW0",213.53999328613301]
[6001303971,"WOORITE-MILLEARA (02)","AW0-008 ","AW0",213.53999328613301]
[6001148108,"WEST-KINGSLEY (02)","AW0-007 ","AW0",213.55000305175801]
[6001197353,"THE CROSSWAY-VISTA (02)","AW0-008 ","AW0",213.55000305175801]
[6001341341,"NORTH-THOMAS (03)","AW0-007 ","AW0",213.55000305175801]
[6001157730,"WUNNAMURRA-WONGANELA (02)","AW0-008 ","AW0",213.55999755859401]
[6001261375,"HILLSIDE-ROBERTS (02)","AW0-007 ","AW0",213.55999755859401]
[6001158577,"ROSEHILL-TALBOT (01)","AW0-006 ","AW0",213.57000732421901]
[6001337370,"CUDGEWA-BORVA (01)","AW0-008 ","AW0",213.57000732421901]
[6001021678,"BIRCH-BROADMEADOWS (02)","AW0-012 ","AW0",213.580001831055]
[6001195562,"CARRICK-TRENTHAM (02)","AW0-002 ","AW0",213.580001831055]
[6001343803,"COPE-MOORE (02)","AW0-001 ","AW0",213.580001831055]
[6001021077,"BIRCH-BROADMEADOWS (02)","AW0-012 ","AW0",213.58999633789099]
[6001471052,"QUINN-NOGA (02)","AW0-007 ","AW0",213.58999633789099]
[6001125548,"HARDY-SNAEFELL (01)","AW0-009 ","AW0",213.60000610351599]
[6001163794,"HOTHAM-RYDER No. 2 (03)","AW0-006 ","AW0",213.60000610351599]
[6001217733,"THE CROSSWAY-VISTA (03)","AW0-008 ","AW0",213.60000610351599]
[6001485392,"DALKEITH-GORDON (02)","AW0-009 ","AW0",213.60000610351599]
[6001569582,"SEXTON-PARER (03)","AW0-006 ","AW0",213.60000610351599]
[6001147511,"HILBERT-ROBERTS (02)","AW0-008 ","AW0",213.61000061035199]
[6001147792,"ETZEL-CLYDESDALE (03)","AW0-006 ","AW0",213.61999511718801]
[6001157352,"ETKA-MARK (03)","AW0-007 ","AW0",213.61999511718801]
[6001159535,"HEATHERLEA-STERLING (02)","AW0-008 ","AW0",213.61999511718801]
[6001326942,"GRANITE-VALLEY LAKE (03)","AW0-007 ","AW0",213.61999511718801]
[6001327427,"GRANITE-VALLEY LAKE (03)","AW0-007 ","AW0",213.63999938964801]
[6001147097,"OAK-CONISTON (02)","AW0-007 ","AW0",213.64999389648401]
[6001154181,"LOCKHEED-BOEING (01)","AW0-012 ","AW0",213.64999389648401]
[6001154330,"LOCKHEED-BOEING (01)","AW0-012 ","AW0",213.66000366210901]
[6001043815,"COLLEGE-BREES (03)","AW0-008 ","AW0",213.669998168945]
[6001148187,"NORTH-THOMAS (01)","AW0-007 ","AW0",213.669998168945]
[6001147391,"HIGHRIDGE-ROBERTS (01)","AW0-006 ","AW0",213.67999267578099]
[6001149666,"THERESA-CHRISTOPHER (02)","AW0-009 ","AW0",213.67999267578099]
[6001157115,"WUNNAMURRA-WONGANELA (01)","AW0-008 ","AW0",213.67999267578099]
[6001393498,"QUINN-NOGA (01)","AW0-007 ","AW0",213.69000244140599]
[6001407739,"FARRELL-RYDER (02)","AW0-006 ","AW0",213.69000244140599]
[6001147552,"HILBERT-HARRINGTON (01)","AW0-008 ","AW0",213.69999694824199]
[6001391804,"WEST-KINGSLEY (01)","AW0-007 ","AW0",213.69999694824199]
[6001469315,"WARATAH-CAROL (02)","AW0-009 ","AW0",213.69999694824199]
[6001560861,"WUNNAMURRA-WONGANELA (02)","AW0-008 ","AW0",213.69999694824199]
[6001015905,"SEXTON-HALSEY (03)","AW0-006 ","AW0",213.71000671386699]
[6001158647,"ROSEHILL-TALBOT (01)","AW0-006 ","AW0",213.71000671386699]
[6001373292,"CAMERON-MATTHEWS (03)","AW0-006 ","AW0",213.71000671386699]
[6001197355,"THE CROSSWAY-VISTA (02)","AW0-008 ","AW0",213.72000122070301]
[6001471169,"WARATAH-CAROL (02)","AW0-009 ","AW0",213.72000122070301]
[6001196637,"HARDY-SNAEFELL (01)","AW0-009 ","AW0",213.72999572753901]
[6001346609,"OAK-CONISTON (04)","AW0-007 ","AW0",213.72999572753901]
[6001159303,"COHEN-GROVES (01)","AW0-008 ","AW0",213.74000549316401]
[6001285164,"KING-BOWES (01)","AW0-005 ","AW0",213.75]
[6001154255,"CLAYTON-MASCOMA (01)","AW0-012 ","AW0",213.75999450683599]
[6001158743,"ELLEN-RACHELLE (03)","AW0-008 ","AW0",213.75999450683599]
[6001044093,"WARATAH-CAROL (02)","AW0-009 ","AW0",213.77000427246099]
[6001195833,"CARRICK-PYKE (01)","AW0-002 ","AW0",213.77999877929699]
[6001285166,"KING-BOWES (01)","AW0-005 ","AW0",213.77999877929699]
[6001327596,"HENRY-DENNIS (01)","AW0-008 ","AW0",213.77999877929699]
[6001246099,"CUDGEWA-BORVA (01)","AW0-008 ","AW0",213.78999328613301]
[6001147510,"HILBERT-ROBERTS (02)","AW0-008 ","AW0",213.80000305175801]
[6001482212,"THE AVENUE-KEILOR (02)","AW0-007 ","AW0",213.80000305175801]
[6001552330,"CAMERON-MATTHEWS (03)","AW0-006 ","AW0",213.80000305175801]
[6001569744,"WEST-KINGSLEY (02)","AW0-007 ","AW0",213.80000305175801]
[6001573067,"HOTHAM-RYDER No. 2 (03)","AW0-006 ","AW0",213.80000305175801]
[6001011449,"COHEN-GROVES (01)","AW0-008 ","AW0",213.80999755859401]
[6001147709,"HILLSIDE-ROBERTS (02)","AW0-007 ","AW0",213.80999755859401]
[6001147783,"ETZEL-CLYDESDALE (03)","AW0-006 ","AW0",213.82000732421901]
[6001147702,"HILLSIDE-ROBERTS (02)","AW0-007 ","AW0",213.830001831055]
[6001244453,"CLAYTON-MASCOMA (01)","AW0-012 ","AW0",213.830001831055]
[6001251982,"GROSVENOR-FLORENCE (02)","AW0-007 ","AW0",213.830001831055]
[6001010119,"COLLEGE-BREES (02)","AW0-008 ","AW0",213.83999633789099]
[6001222475,"CRESSWELL-CAMERON (02)","AW0-006 ","AW0",213.83999633789099]
[6001158476,"QUINN-NOGA (01)","AW0-007 ","AW0",213.85000610351599]
[6001158583,"ROSEHILL-TALBOT (01)","AW0-006 ","AW0",213.85000610351599]
[6001449293,"SEXTON-HALSEY (04)","AW0-006 ","AW0",213.85000610351599]
[6001008683,"GORDON-SHARPS (02)","AW0-012 ","AW0",213.86000061035199]
[6001147608,"HILLSIDE-ROBERTS (02)","AW0-007 ","AW0",213.86000061035199]
[6001261607,"WYONG-CENTREWAY (02)","AW0-007 ","AW0",213.86000061035199]
[6001325074,"WEST-KINGSLEY (02)","AW0-007 ","AW0",213.86000061035199]
[6001147031,"HIGHRIDGE-ROBERTS (03)","AW0-006 ","AW0",213.86999511718801]
[6001163626,"HANSON-GOBLE (01)","AW0-007 ","AW0",213.88000488281301]
[6001163669,"HANSON-GOBLE (01)","AW0-007 ","AW0",213.88000488281301]
[6001158609,"ROSEHILL-TALBOT (01)","AW0-006 ","AW0",213.88999938964801]
[6001228820,"QUINN-CLARKS (03)","AW0-007 ","AW0",213.88999938964801]
[6001514339,"FRASER-BOWES (01)","AW0-001 ","AW0",213.89999389648401]
[6001148475,"WEST-KINGSLEY (01)","AW0-007 ","AW0",213.91000366210901]
[6001157136,"QUINN-CLARKS (03)","AW0-007 ","AW0",213.919998168945]
[6001333099,"VIEWBANK-BREES (01)","AW0-006 ","AW0",213.919998168945]
[6001150014,"BURVALE-CATHERINE (02)","AW0-004 ","AW0",213.92999267578099]
[6001154328,"LOCKHEED-BOEING (01)","AW0-012 ","AW0",213.92999267578099]
[6001159689,"THE CROSSWAY-VISTA (01)","AW0-008 ","AW0",213.92999267578099]
[6001339193,"CAMERON-MATTHEWS (03)","AW0-006 ","AW0",213.92999267578099]
[6001158566,"ROSEHILL-TALBOT (01)","AW0-006 ","AW0",213.94000244140599]
[6001282584,"GREEN-MATTHEWS (01)","AW0-006 ","AW0",213.94000244140599]
[6001470749,"ROSEHILL-TALBOT (01)","AW0-006 ","AW0",213.94000244140599]
[6001297656,"COPE-MOORE (02)","AW0-001 ","AW0",213.94999694824199]
[6001399405,"STEELE CREEK-BASALT (02)","AW0-007 ","AW0",213.96000671386699]
[6001401140,"ROSEHILL-TALBOT (01)","AW0-006 ","AW0",213.96000671386699]
[6001471188,"WARATAH-CAROL (02)","AW0-009 ","AW0",213.96000671386699]
[6001338145,"CRESSWELL-CAMERON (02)","AW0-006 ","AW0",213.97000122070301]
[6001500126,"WUNNAMURRA-WONGANELA (02)","AW0-008 ","AW0",213.97000122070301]
[6001157180,"QUINN-CLARKS (02)","AW0-007 ","AW0",213.99000549316401]
[6001164799,"ROSEHILL-ROSE (02)","AW0-006 ","AW0",213.99000549316401]
[6001319962,"GRANITE-VALLEY LAKE (03)","AW0-007 ","AW0",213.99000549316401]
[6001163620,"HANSON-GOBLE (01)","AW0-007 ","AW0",214]
[6001485131,"GRANITE-VALLEY LAKE (02)","AW0-007 ","AW0",214]
[6001524423,"QUINN-NOGA (01)","AW0-007 ","AW0",214]
[6001535279,"PAMELA-HERBERT (02)","AW0-006 ","AW0",214]
[6001538434,"WUNNAMURRA-WONGANELA (02)","AW0-008 ","AW0",214]
[6001147630,"HILLSIDE-ROBERTS (01)","AW0-007 ","AW0",214.00999450683599]
[6001222474,"CRESSWELL-CAMERON (02)","AW0-006 ","AW0",214.00999450683599]
[6001251576,"KITTYHAWK-MOORNA (02)","AW0-008 ","AW0",214.00999450683599]
[6001159504,"HEATHERLEA-STERLING (02)","AW0-008 ","AW0",214.02000427246099]
[6001159533,"HEATHERLEA-STERLING (02)","AW0-008 ","AW0",214.02000427246099]
[6001391384,"STEELE CREEK-BASALT (02)","AW0-007 ","AW0",214.02000427246099]
[6001422368,"HIGHRIDGE-ROBERTS (01)","AW0-006 ","AW0",214.02000427246099]
[6001453668,"QUINN-CLARKS (01)","AW0-007 ","AW0",214.02000427246099]
[6001481680,"GRANITE-VALLEY LAKE (02)","AW0-007 ","AW0",214.02000427246099]
[6001148354,"HILBERT-HARRINGTON (01)","AW0-008 ","AW0",214.02999877929699]
[6001154185,"LOCKHEED-BOEING (02)","AW0-012 ","AW0",214.02999877929699]
[6001164014,"FARRELL-RYDER (03)","AW0-006 ","AW0",214.03999328613301]
[6001398829,"STEELE CREEK-BASALT (02)","AW0-007 ","AW0",214.03999328613301]
[6001478181,"BEDFORD-PARER (02)","AW0-007 ","AW0",214.03999328613301]
[6001146846,"FULLARTON-WALTERS (01)","AW0-006 ","AW0",214.05000305175801]
[6001192962,"DAWSON-ROMA (02)","AW0-004 ","AW0",214.05000305175801]
[6001196572,"PAYNE-RYLANDES (01)","AW0-009 ","AW0",214.05000305175801]
[6001365677,"VALLEY LAKE-STEELE CREEK (04)","AW0-007 ","AW0",214.05000305175801]
[6001365678,"VALLEY LAKE-STEELE CREEK (04)","AW0-007 ","AW0",214.05000305175801]
[6001147600,"HILLSIDE-ROBERTS (02)","AW0-007 ","AW0",214.05999755859401]
[6001154343,"LOCKHEED-BOEING (02)","AW0-012 ","AW0",214.05999755859401]
[6001196634,"HARDY-SNAEFELL (01)","AW0-009 ","AW0",214.05999755859401]
[6001194844,"HILLCREST-MICKLEHAM (01)","AW0-009 ","AW0",214.07000732421901]
[6001326932,"GRANITE-VALLEY LAKE (03)","AW0-007 ","AW0",214.07000732421901]
[6001350079,"WEST-KINGSLEY (01)","AW0-007 ","AW0",214.080001831055]
[6001018417,"SEXTON-HALSEY (03)","AW0-006 ","AW0",214.08999633789099]
[6001158704,"NEAL-DINAH (01)","AW0-008 ","AW0",214.08999633789099]
[6001197106,"COLLEGE-BREES (02)","AW0-008 ","AW0",214.08999633789099]
[6001509230,"NORTH-THOMAS (01)","AW0-007 ","AW0",214.10000610351599]
[6001521127,"KING-BOWES (01)","AW0-005 ","AW0",214.10000610351599]
[6001594032,"FARRELL-RYDER (02)","AW0-006 ","AW0",214.10000610351599]
[6001339195,"STEELE CREEK-BASALT (01)","AW0-007 ","AW0",214.11999511718801]
[6001345731,"VALLEY LAKE-STEELE CREEK (04)","AW0-007 ","AW0",214.11999511718801]
[6001148774,"COPE-MOORE (02)","AW0-001 ","AW0",214.13000488281301]
[6001158235,"CUDGEWA-BORVA (01)","AW0-008 ","AW0",214.13000488281301]
[6001163624,"HANSON-GOBLE (01)","AW0-007 ","AW0",214.13000488281301]
[6001284624,"KENNY-COGHILL (01)","AW0-009 ","AW0",214.13000488281301]
[6001292912,"ADELAIDE-LANARK (04)","AW0-012 ","AW0",214.13000488281301]
[6001484334,"WUNNAMURRA-WONGANELA (02)","AW0-008 ","AW0",214.13000488281301]
[6001251684,"FOKKER-VICKERS (01)","AW0-012 ","AW0",214.13999938964801]
[6001197333,"COLLEGE-BREES (02)","AW0-008 ","AW0",214.14999389648401]
[6001343095,"BIRCH-BROADMEADOWS (02)","AW0-012 ","AW0",214.14999389648401]
[6001399308,"STEELE CREEK-BASALT (02)","AW0-007 ","AW0",214.14999389648401]
[6001243725,"HAWKER-MCNAMARA (01)","AW0-001 ","AW0",214.16000366210901]
[6001341237,"BIRCH-BROADMEADOWS (02)","AW0-012 ","AW0",214.16000366210901]
[6001342970,"DAVID-RACHELLE (02)","AW0-007 ","AW0",214.16000366210901]
[6001148321,"HILBERT-HARRINGTON (02)","AW0-008 ","AW0",214.169998168945]
[6001330925,"CUDGEWA-BORVA (01)","AW0-008 ","AW0",214.17999267578099]
[6001417932,"WEST-KINGSLEY (02)","AW0-007 ","AW0",214.17999267578099]
[6001197093,"COLLEGE-BREES (02)","AW0-008 ","AW0",214.19000244140599]
[6001045199,"HARDY-SNAEFELL (01)","AW0-009 ","AW0",214.19999694824199]
[6001159689,"THE CROSSWAY-VISTA (01)","AW0-008 ","AW0",214.19999694824199]
[6001537064,"DALKEITH-GORDON (02)","AW0-009 ","AW0",214.19999694824199]
[6001537138,"PAMELA-HERBERT (02)","AW0-006 ","AW0",214.19999694824199]
[6001552587,"WUNNAMURRA-WONGANELA (02)","AW0-008 ","AW0",214.19999694824199]
[6001154177,"LOCKHEED-BOEING (01)","AW0-012 ","AW0",214.21000671386699]
[6001159689,"THE CROSSWAY-VISTA (01)","AW0-008 ","AW0",214.22000122070301]
[6001159689,"THE CROSSWAY-VISTA (01)","AW0-008 ","AW0",214.22000122070301]
[6001492739,"FARRELL-RYDER (03)","AW0-006 ","AW0",214.22000122070301]
[6001444591,"COHEN-GROVES (01)","AW0-008 ","AW0",214.22999572753901]
[6001158459,"DAVID-RACHELLE (03)","AW0-007 ","AW0",214.25999450683599]
[6001147209,"MCNAMARA-PETERS (01)","AW0-007 ","AW0",214.27999877929699]
[6001444157,"GRANITE-VALLEY LAKE (03)","AW0-007 ","AW0",214.27999877929699]
[6001495564,"WARATAH-CAROL (02)","AW0-009 ","AW0",214.27999877929699]
[6001256145,"HIGHRIDGE-ROBERTS (03)","AW0-006 ","AW0",214.28999328613301]
[6001297165,"MARIGOLD-HOLLY (03)","AW0-012 ","AW0",214.28999328613301]
[6001124150,"HILLSIDE-ROBERTS (02)","AW0-007 ","AW0",214.30000305175801]
[6001241567,"HANSON-GOBLE (01)","AW0-007 ","AW0",214.30000305175801]
[6001406466,"EARL-MATTHEWS (02)","AW0-001 ","AW0",214.30000305175801]
[6001506950,"HEATHER-DINAH (01)","AW0-006 ","AW0",214.30000305175801]
[6001629010,"CAMERON-MATTHEWS (03)","AW0-006 ","AW0",214.30000305175801]
[6001147075,"HIGHRIDGE-ROBERTS (03)","AW0-006 ","AW0",214.32000732421901]
[6001154180,"LOCKHEED-BOEING (01)","AW0-012 ","AW0",214.32000732421901]
[6001157184,"QUINN-CLARKS (02)","AW0-007 ","AW0",214.32000732421901]
[6001157601,"WOORITE-MILLEARA (03)","AW0-008 ","AW0",214.330001831055]
[6001344940,"WARATAH-CAROL (02)","AW0-009 ","AW0",214.330001831055]
[6001337236,"GRANITE-VALLEY LAKE (02)","AW0-007 ","AW0",214.33999633789099]
[6001198063,"ARCADE-PROSPECT (02)","AW0-008 ","AW0",214.35000610351599]
[6001043815,"COLLEGE-BREES (03)","AW0-008 ","AW0",214.36000061035199]
[6001147473,"KINGSLEY-ROBERTS (01)","AW0-007 ","AW0",214.36000061035199]
[6001479364,"ELLEN-RACHELLE (01)","AW0-008 ","AW0",214.36000061035199]
[6001452063,"WARATAH-CAROL (02)","AW0-009 ","AW0",214.36999511718801]
[6001478498,"COPE-MOORE (02)","AW0-001 ","AW0",214.36999511718801]
[6001212871,"COLLEGE-BREES (03)","AW0-008 ","AW0",214.38000488281301]
[6001436197,"GREEN-MATTHEWS (01)","AW0-006 ","AW0",214.38000488281301]
[6001480407,"COPE-MOORE (02)","AW0-001 ","AW0",214.38999938964801]
[6001157777,"WOORITE-MILLEARA (02)","AW0-008 ","AW0",214.39999389648401]
[6001159455,"ROSTELLA-NORWOOD (01)","AW0-008 ","AW0",214.39999389648401]
[6001510261,"PAMELA-HERBERT (02)","AW0-006 ","AW0",214.39999389648401]
[6001545403,"MCINTOSH 42-MATTHEWS (01)","AW0-005 ","AW0",214.39999389648401]
[6001324319,"GRANITE-VALLEY LAKE (03)","AW0-007 ","AW0",214.41000366210901]
[6001125865,"TULLAMARINA-SHARPS (02)","AW0-009 ","AW0",214.419998168945]
[6001333178,"HEATHER-DINAH (01)","AW0-006 ","AW0",214.419998168945]
[6001147711,"HILLSIDE-ROBERTS (02)","AW0-007 ","AW0",214.42999267578099]
[6001467807,"ETZEL-CLYDESDALE (01)","AW0-006 ","AW0",214.42999267578099]
[6001158891,"ELLEN-RACHELLE (01)","AW0-008 ","AW0",214.44000244140599]
[6001158803,"NEAL-DINAH (01)","AW0-008 ","AW0",214.44999694824199]
[6001318496,"DAVID-RACHELLE (03)","AW0-007 ","AW0",214.46000671386699]
[6001329044,"CRESSWELL-CAMERON (01)","AW0-006 ","AW0",214.46000671386699]
[6001196884,"KITTYHAWK-MOORNA (02)","AW0-008 ","AW0",214.47000122070301]
[6001495565,"WARATAH-CAROL (02)","AW0-009 ","AW0",214.47999572753901]
[6001157102,"WUNNAMURRA-WONGANELA (01)","AW0-008 ","AW0",214.49000549316401]
[6001223445,"WUNNAMURRA-WONGANELA (01)","AW0-008 ","AW0",214.49000549316401]
[6001350049,"COPE-MOORE (02)","AW0-001 ","AW0",214.5]
[6001158297,"PAMELA-HERBERT (01)","AW0-006 ","AW0",214.52000427246099]
[6001346080,"GRANITE-VALLEY LAKE (03)","AW0-007 ","AW0",214.52000427246099]
[6001388733,"SEXTON-PARER (01)","AW0-006 ","AW0",214.52000427246099]
[6001157417,"KEILOR-NYAH (01)","AW0-007 ","AW0",214.52999877929699]
[6001158451,"DAVID-RACHELLE (03)","AW0-007 ","AW0",214.52999877929699]
[6001157783,"WOORITE-MILLEARA (02)","AW0-008 ","AW0",214.53999328613301]
[6001146773,"CAMERON-MATTHEWS (03)","AW0-006 ","AW0",214.55000305175801]
[6001159963,"COHEN-GROVES (01)","AW0-008 ","AW0",214.55000305175801]
[6001325692,"GRANITE-VALLEY LAKE (03)","AW0-007 ","AW0",214.55000305175801]
[6001003285,"HILBERT-HARRINGTON (01)","AW0-008 ","AW0",214.55999755859401]
[6001196497,"VAUCLUSE-LENOAK (02)","AW0-002 ","AW0",214.57000732421901]
[6001219265,"COLLEGE-BREES (02)","AW0-008 ","AW0",214.57000732421901]
[6001305851,"FULLARTON-WALTERS (01)","AW0-006 ","AW0",214.57000732421901]
[6001432385,"ETZEL-CLYDESDALE (02)","AW0-006 ","AW0",214.57000732421901]
[6001158576,"ROSEHILL-TALBOT (01)","AW0-006 ","AW0",214.580001831055]
[6001552689,"CAMERON-MATTHEWS (03)","AW0-006 ","AW0",214.58999633789099]
[6001196623,"HARDY-SNAEFELL (01)","AW0-009 ","AW0",214.60000610351599]
[6001197110,"COLLEGE-BREES (02)","AW0-008 ","AW0",214.60000610351599]
[6001345346,"STEELE CREEK-BASALT (02)","AW0-007 ","AW0",214.60000610351599]
[6001490128,"SHELLEY-NOGA (01)","AW0-007 ","AW0",214.60000610351599]
[6001491530,"NORTH-THOMAS (01)","AW0-007 ","AW0",214.60000610351599]
[6001513328,"KINGSLEY-ROBERTS (01)","AW0-007 ","AW0",214.60000610351599]
[6001546038,"WUNNAMURRA-WONGANELA (02)","AW0-008 ","AW0",214.60000610351599]
[6001630063,"CAMERON-MATTHEWS (03)","AW0-006 ","AW0",214.60000610351599]
[6001158631,"JUDITH-BREES (02)","AW0-006 ","AW0",214.61999511718801]
[6001237487,"ROSEHILL-ROSE (02)","AW0-006 ","AW0",214.63000488281301]
[6001149430,"GORDON-SHARPS (02)","AW0-012 ","AW0",214.63999938964801]
[6001158643,"ROSEHILL-TALBOT (01)","AW0-006 ","AW0",214.64999389648401]
[6001480656,"BEDFORD-PARER (02)","AW0-007 ","AW0",214.64999389648401]
[6001148099,"WEST-KINGSLEY (02)","AW0-007 ","AW0",214.66000366210901]
[6001197995,"ARCADE-PROSPECT (02)","AW0-008 ","AW0",214.66000366210901]
[6001148247,"BEDFORD-PARER (02)","AW0-007 ","AW0",214.669998168945]
[6001148581,"NORTH-THOMAS (03)","AW0-007 ","AW0",214.669998168945]
[6001343627,"NEAL-DINAH (01)","AW0-008 ","AW0",214.669998168945]
[6001147532,"HILBERT-HARRINGTON (02)","AW0-008 ","AW0",214.67999267578099]
[6001157781,"WOORITE-MILLEARA (02)","AW0-008 ","AW0",214.67999267578099]
[6001197100,"COLLEGE-BREES (02)","AW0-008 ","AW0",214.67999267578099]
[6001263350,"KENNY-COGHILL (01)","AW0-009 ","AW0",214.67999267578099]
[6001318945,"GRANITE-VALLEY LAKE (03)","AW0-007 ","AW0",214.67999267578099]
[6001388437,"GRANITE-VALLEY LAKE (02)","AW0-007 ","AW0",214.69000244140599]
[6001159375,"PARKSIDE-STERLING (01)","AW0-008 ","AW0",214.69999694824199]
[6001365686,"VALLEY LAKE-STEELE CREEK (04)","AW0-007 ","AW0",214.69999694824199]
[6001399357,"COPE-MOORE (02)","AW0-001 ","AW0",214.69999694824199]
[6001491172,"SHELLEY-NOGA (01)","AW0-007 ","AW0",214.69999694824199]
[6001499135,"DALKEITH-GORDON (02)","AW0-009 ","AW0",214.69999694824199]
[6001533834,"CENTREWAY-WINGARA (04)","AW0-007 ","AW0",214.69999694824199]
[6001157358,"ETKA-MARK (03)","AW0-007 ","AW0",214.72000122070301]
[6001398847,"WUNNAMURRA-WONGANELA (02)","AW0-008 ","AW0",214.72000122070301]
[6001158378,"DAVID-RACHELLE (01)","AW0-007 ","AW0",214.72999572753901]
[6001257215,"TULLAMARINA-SHARPS (02)","AW0-009 ","AW0",214.72999572753901]
[6001163731,"GROSVENOR-FLORENCE (01)","AW0-007 ","AW0",214.74000549316401]
[6001224512,"NEWMAN-HOTHAM (03)","AW0-007 ","AW0",214.74000549316401]
[6001147032,"HIGHRIDGE-ROBERTS (03)","AW0-006 ","AW0",214.75]
[6001147171,"MCNAMARA-PETERS (01)","AW0-007 ","AW0",214.75]
[6001154329,"LOCKHEED-BOEING (01)","AW0-012 ","AW0",214.75]
[6001158041,"QUINN-CLARKS (02)","AW0-007 ","AW0",214.75]
[6001446610,"HILBERT-HARRINGTON (02)","AW0-008 ","AW0",214.75]
[6001122859,"ELLEN-RACHELLE (01)","AW0-008 ","AW0",214.75999450683599]
[6001149618,"DALKEITH-GORDON (02)","AW0-009 ","AW0",214.75999450683599]
[6001346158,"VALLEY LAKE-STEELE CREEK (04)","AW0-007 ","AW0",214.75999450683599]
[6001348731,"SHELLEY-NOGA (01)","AW0-007 ","AW0",214.75999450683599]
[6001154256,"CLAYTON-MASCOMA (01)","AW0-012 ","AW0",214.77000427246099]
[6001214917,"HIGHRIDGE-ROBERTS (03)","AW0-006 ","AW0",214.77000427246099]
[6001444810,"COHEN-GROVES (01)","AW0-008 ","AW0",214.77000427246099]
[6001147495,"HILBERT-ROBERTS (02)","AW0-008 ","AW0",214.77999877929699]
[6001197866,"NORWOOD-PROSPECT (02)","AW0-008 ","AW0",214.77999877929699]
[6001243726,"ROSEHILL-TALBOT (01)","AW0-006 ","AW0",214.77999877929699]
[6001344544,"BEDFORD-PARER (01)","AW0-007 ","AW0",214.77999877929699]
[6001197394,"BUCKLEY-PHILLIP (01)","AW0-008 ","AW0",214.78999328613301]
[6001394595,"WEST-KINGSLEY (01)","AW0-007 ","AW0",214.80000305175801]
[6001490074,"PAMELA-HERBERT (01)","AW0-006 ","AW0",214.80000305175801]
[6001521368,"HEATHERLEA-STERLING (02)","AW0-008 ","AW0",214.80000305175801]
[6001533833,"CENTREWAY-WINGARA (04)","AW0-007 ","AW0",214.80000305175801]
[6001565794,"WEST-KINGSLEY (02)","AW0-007 ","AW0",214.80000305175801]
[6001148215,"BEDFORD-PARER (02)","AW0-007 ","AW0",214.80999755859401]
[6001154327,"LOCKHEED-BOEING (01)","AW0-012 ","AW0",214.80999755859401]
[6001213867,"COLLEGE-BREES (02)","AW0-008 ","AW0",214.80999755859401]
[6001410267,"WOORITE-MILLEARA (02)","AW0-008 ","AW0",214.80999755859401]
[6001148618,"COPE-MOORE (02)","AW0-001 ","AW0",214.82000732421901]
[6001343912,"COPE-MOORE (02)","AW0-001 ","AW0",214.830001831055]
[6001292475,"WARATAH-CAROL (02)","AW0-009 ","AW0",214.83999633789099]
[6001018940,"EARL-MATTHEWS (02)","AW0-001 ","AW0",214.85000610351599]
[6001157702,"WUNNAMURRA-WONGANELA (02)","AW0-008 ","AW0",214.85000610351599]
[6001147604,"HILLSIDE-ROBERTS (02)","AW0-007 ","AW0",214.86000061035199]
[6001157716,"MOYANGUL-GUNGARLAN (01)","AW0-008 ","AW0",214.86000061035199]
[6001282675,"MILLAR-DERBY (01)","AW0-004 ","AW0",214.86000061035199]
[6001302197,"CRESSWELL-CAMERON (01)","AW0-006 ","AW0",214.86000061035199]
[6001342113,"KEILOR-NYAH (01)","AW0-007 ","AW0",214.86000061035199]
[6001339060,"VALLEY LAKE-STEELE CREEK (04)","AW0-007 ","AW0",214.86999511718801]
[6001503155,"DAVID-RACHELLE (01)","AW0-007 ","AW0",214.86999511718801]
[6001158317,"PAMELA-HERBERT (02)","AW0-006 ","AW0",214.88000488281301]
[6001163692,"HANSON-GOBLE (01)","AW0-007 ","AW0",214.88000488281301]
[6001280106,"FULLARTON-WALTERS (01)","AW0-006 ","AW0",214.88000488281301]
[6001478640,"DALKEITH-GORDON (02)","AW0-009 ","AW0",214.88000488281301]
[6001011559,"WARATAH-CAROL (02)","AW0-009 ","AW0",214.88999938964801]
[6001157779,"WOORITE-MILLEARA (02)","AW0-008 ","AW0",214.88999938964801]
[6001158899,"ELLEN-RACHELLE (03)","AW0-008 ","AW0",214.88999938964801]
[6001195832,"CARRICK-PYKE (01)","AW0-002 ","AW0",214.89999389648401]
[6001346252,"KEILOR-NYAH (01)","AW0-007 ","AW0",214.89999389648401]
[6001485346,"GREEN-MATTHEWS (01)","AW0-006 ","AW0",214.89999389648401]
[6001491531,"NORTH-THOMAS (01)","AW0-007 ","AW0",214.89999389648401]
[6001501155,"WOORITE-MILLEARA (02)","AW0-008 ","AW0",214.89999389648401]
[6001599202,"CRESSWELL-CAMERON (02)","AW0-006 ","AW0",214.89999389648401]
[6001158862,"HEATHER-DINAH (01)","AW0-006 ","AW0",214.919998168945]
[6001148578,"NORTH-THOMAS (03)","AW0-007 ","AW0",214.94000244140599]
[6001157875,"CENTREWAY-WINGARA (04)","AW0-007 ","AW0",214.94000244140599]
[6001158628,"JUDITH-BREES (02)","AW0-006 ","AW0",214.94000244140599]
[6001271230,"HAWKER-MCNAMARA (02)","AW0-001 ","AW0",214.94000244140599]
[6001147092,"HIGHRIDGE-ROBERTS (03)","AW0-006 ","AW0",214.94999694824199]
[6001311325,"DAVID-RACHELLE (02)","AW0-007 ","AW0",214.94999694824199]
[6001348598,"GRANITE-VALLEY LAKE (03)","AW0-007 ","AW0",214.94999694824199]
[6001344238,"CUDGEWA-BORVA (01)","AW0-008 ","AW0",214.96000671386699]
[6001334393,"STEELE CREEK-BASALT (01)","AW0-007 ","AW0",214.97000122070301]
[6001346777,"HEATHER-DINAH (01)","AW0-006 ","AW0",214.97999572753901]
[6001446362,"SEXTON-HALSEY (04)","AW0-006 ","AW0",214.97999572753901]
[6001148018,"FRASER-BOWES (01)","AW0-001 ","AW0",215]
[6001404442,"ETZEL-CLYDESDALE (03)","AW0-006 ","AW0",215]
[6001482211,"THE AVENUE-KEILOR (02)","AW0-007 ","AW0",215]
[6001572649,"NEAL-DINAH (01)","AW0-008 ","AW0",215]
[6001572793,"WEST-KINGSLEY (02)","AW0-007 ","AW0",215]
[6001591346,"WEST-KINGSLEY (01)","AW0-007 ","AW0",215]
[6001614020,"ROSEHILL-TALBOT (01)","AW0-006 ","AW0",215]
[6001638184,"PAMELA-HERBERT (01)","AW0-006 ","AW0",215]
[6001157391,"KEILOR-NYAH (01)","AW0-007 ","AW0",215.00999450683599]
[6001159660,"EASTLEIGH-NORWOOD (03)","AW0-008 ","AW0",215.00999450683599]
[6001275250,"ETZEL-CLYDESDALE (02)","AW0-006 ","AW0",215.00999450683599]
[6001157797,"WOORITE-MILLEARA (02)","AW0-008 ","AW0",215.02000427246099]
[6001336070,"VALLEY LAKE-STEELE CREEK (04)","AW0-007 ","AW0",215.02000427246099]
[6001148186,"NORTH-THOMAS (01)","AW0-007 ","AW0",215.02999877929699]
[6001157438,"CUDGEWA-BORVA (01)","AW0-008 ","AW0",215.02999877929699]
[6001157514,"CUDGEWA-BORVA (01)","AW0-008 ","AW0",215.02999877929699]
[6001275527,"ETZEL-CLYDESDALE (02)","AW0-006 ","AW0",215.02999877929699]
[6001158048,"QUINN-CLARKS (02)","AW0-007 ","AW0",215.03999328613301]
[6001345409,"EARL-MATTHEWS (02)","AW0-001 ","AW0",215.03999328613301]
[6001146781,"CRESSWELL-CAMERON (02)","AW0-006 ","AW0",215.05000305175801]
[6001147471,"KINGSLEY-ROBERTS (01)","AW0-007 ","AW0",215.05000305175801]
[6001157776,"WOORITE-MILLEARA (02)","AW0-008 ","AW0",215.05000305175801]
[6001467329,"COPE-MOORE (02)","AW0-001 ","AW0",215.05000305175801]
[6001154329,"LOCKHEED-BOEING (01)","AW0-012 ","AW0",215.05999755859401]
[6001157105,"WUNNAMURRA-WONGANELA (01)","AW0-008 ","AW0",215.05999755859401]
[6001157162,"QUINN-CLARKS (02)","AW0-007 ","AW0",215.05999755859401]
[6001158321,"PAMELA-HERBERT (02)","AW0-006 ","AW0",215.05999755859401]
[6001163664,"HANSON-GOBLE (01)","AW0-007 ","AW0",215.05999755859401]
[6001147880,"MCINTOSH 42-MATTHEWS (01)","AW0-005 ","AW0",215.07000732421901]
[6001159427,"PARKSIDE-STERLING (01)","AW0-008 ","AW0",215.07000732421901]
[6001253854,"WYONG-CENTREWAY (02)","AW0-007 ","AW0",215.07000732421901]
[6001146601,"CRESSWELL-CAMERON (02)","AW0-006 ","AW0",215.080001831055]
[6001147520,"HILBERT-HARRINGTON (02)","AW0-008 ","AW0",215.080001831055]
[6001148106,"WEST-KINGSLEY (02)","AW0-007 ","AW0",215.080001831055]
[6001241337,"WARATAH-CAROL (02)","AW0-009 ","AW0",215.080001831055]
[6001271230,"HAWKER-MCNAMARA (02)","AW0-001 ","AW0",215.080001831055]
[6001197864,"NORWOOD-PROSPECT (02)","AW0-008 ","AW0",215.08999633789099]
[6001148239,"BEDFORD-PARER (02)","AW0-007 ","AW0",215.10000610351599]
[6001149303,"WARATAH-CAROL (02)","AW0-009 ","AW0",215.10000610351599]
[6001158263,"QUINN-NOGA (02)","AW0-007 ","AW0",215.10000610351599]
[6001159383,"PARKSIDE-STERLING (01)","AW0-008 ","AW0",215.10000610351599]
[6001303968,"WOORITE-MILLEARA (02)","AW0-008 ","AW0",215.10000610351599]
[6001538535,"ETZEL-CLYDESDALE (02)","AW0-006 ","AW0",215.10000610351599]
[6001549435,"KEILOR-NYAH (01)","AW0-007 ","AW0",215.10000610351599]
[6001251577,"KENNY-COGHILL (01)","AW0-009 ","AW0",215.11000061035199]
[6001390814,"EARL-MATTHEWS (02)","AW0-001 ","AW0",215.11000061035199]
[6001432488,"CAMERON-MATTHEWS (03)","AW0-006 ","AW0",215.11000061035199]
[6001163683,"HANSON-GOBLE (01)","AW0-007 ","AW0",215.11999511718801]
[6001280624,"KENNY-COGHILL (01)","AW0-009 ","AW0",215.11999511718801]
[6001196636,"HARDY-SNAEFELL (01)","AW0-009 ","AW0",215.13000488281301]
[6001149662,"THERESA-CHRISTOPHER (02)","AW0-009 ","AW0",215.13999938964801]
[6001157166,"QUINN-CLARKS (02)","AW0-007 ","AW0",215.13999938964801]
[6001234181,"KENNY-COGHILL (01)","AW0-009 ","AW0",215.13999938964801]
[6001255284,"KEILOR-NYAH (01)","AW0-007 ","AW0",215.13999938964801]
[6001395350,"DAVID-RACHELLE (03)","AW0-007 ","AW0",215.13999938964801]
[6001299490,"NEWMAN-HOTHAM (01)","AW0-007 ","AW0",215.14999389648401]
[6001465169,"HAWKER-MCNAMARA (01)","AW0-001 ","AW0",215.14999389648401]
[6001146783,"CRESSWELL-CAMERON (02)","AW0-006 ","AW0",215.16000366210901]
[6001164798,"ROSEHILL-ROSE (02)","AW0-006 ","AW0",215.16000366210901]
[6001308268,"HOTHAM-RYDER No. 2 (03)","AW0-006 ","AW0",215.16000366210901]
[6001012830,"ROSEHILL-ROSE (02)","AW0-006 ","AW0",215.169998168945]
[6001222960,"COLLEGE-BREES (03)","AW0-008 ","AW0",215.169998168945]
[6001280630,"KENNY-COGHILL (01)","AW0-009 ","AW0",215.169998168945]
[6001428536,"STEELE CREEK-BASALT (02)","AW0-007 ","AW0",215.169998168945]
[6001164146,"FARRELL-RYDER (01)","AW0-006 ","AW0",215.17999267578099]
[6001320848,"GRANITE-VALLEY LAKE (03)","AW0-007 ","AW0",215.17999267578099]
[6001158503,"SHELLEY-NOGA (01)","AW0-007 ","AW0",215.19000244140599]
[6001310860,"HIGHRIDGE-ROBERTS (03)","AW0-006 ","AW0",215.19000244140599]
[6001157803,"WOORITE-MILLEARA (02)","AW0-008 ","AW0",215.19999694824199]
[6001196605,"HARDY-SNAEFELL (01)","AW0-009 ","AW0",215.19999694824199]
[6001428543,"STEELE CREEK-BASALT (02)","AW0-007 ","AW0",215.19999694824199]
[6001482309,"HENRY-DENNIS (03)","AW0-008 ","AW0",215.19999694824199]
[6001505401,"THE CROSSWAY-VISTA (01)","AW0-008 ","AW0",215.19999694824199]
[6001505414,"GRANITE-VALLEY LAKE (02)","AW0-007 ","AW0",215.19999694824199]
[6001538089,"HEATHER-DINAH (01)","AW0-006 ","AW0",215.19999694824199]
[6001549295,"WEST-KINGSLEY (01)","AW0-007 ","AW0",215.19999694824199]
[6001197878,"NORWOOD-PROSPECT (02)","AW0-008 ","AW0",215.21000671386699]
[6001413200,"HEATHER-DINAH (01)","AW0-006 ","AW0",215.21000671386699]
[6001429402,"NEWMAN-HOTHAM (01)","AW0-007 ","AW0",215.21000671386699]
[6001148316,"HILBERT-HARRINGTON (02)","AW0-008 ","AW0",215.22000122070301]
[6001190901,"BRAMCOTE-FORMAN (02)","AW0-009 ","AW0",215.22000122070301]
[6001327655,"BIRCH-BROADMEADOWS (02)","AW0-012 ","AW0",215.22000122070301]
[6001157125,"QUINN-CLARKS (03)","AW0-007 ","AW0",215.22999572753901]
[6001159222,"COHEN-GROVES (02)","AW0-008 ","AW0",215.22999572753901]
[6001149300,"WARATAH-CAROL (02)","AW0-009 ","AW0",215.24000549316401]
[6001207870,"JUDITH-BREES (02)","AW0-006 ","AW0",215.24000549316401]
[6001261545,"LOCKHEED-BOEING (01)","AW0-012 ","AW0",215.24000549316401]
[6001305969,"CRESSWELL-CAMERON (02)","AW0-006 ","AW0",215.24000549316401]
[6001398645,"COHEN-GROVES (01)","AW0-008 ","AW0",215.24000549316401]
[6001147885,"MCINTOSH 42-MATTHEWS (01)","AW0-005 ","AW0",215.25]
[6001164199,"FARRELL-RYDER (02)","AW0-006 ","AW0",215.25]
[6001125859,"EARL-MATTHEWS (02)","AW0-001 ","AW0",215.25999450683599]
[6001197190,"COLLEGE-BREES (03)","AW0-008 ","AW0",215.25999450683599]
[6001291593,"CAMERON-MATTHEWS (03)","AW0-006 ","AW0",215.25999450683599]
[6001195721,"HALL-BURBANK (01)","AW0-002 ","AW0",215.27000427246099]
[6001158717,"NEAL-DINAH (01)","AW0-008 ","AW0",215.27999877929699]
[6001198029,"ARCADE-PROSPECT (02)","AW0-008 ","AW0",215.27999877929699]
[6001458225,"HAWKER-MCNAMARA (01)","AW0-001 ","AW0",215.27999877929699]
[6001195556,"CARRICK-TRENTHAM (02)","AW0-002 ","AW0",215.28999328613301]
[6001265519,"COHEN-GROVES (01)","AW0-008 ","AW0",215.30000305175801]
[6001280618,"KENNY-COGHILL (01)","AW0-009 ","AW0",215.30000305175801]
[6001552706,"KEILOR-NYAH (01)","AW0-007 ","AW0",215.30000305175801]
[6001592197,"ROSEHILL-TALBOT (01)","AW0-006 ","AW0",215.30000305175801]
[6001596095,"CRESSWELL-CAMERON (02)","AW0-006 ","AW0",215.30000305175801]
[6001146599,"CRESSWELL-CAMERON (02)","AW0-006 ","AW0",215.30999755859401]
[6001147993,"KING-BOWES (01)","AW0-005 ","AW0",215.30999755859401]
[6001157705,"MOYANGUL-GUNGARLAN (01)","AW0-008 ","AW0",215.30999755859401]
[6001224937,"THE CROSSWAY-VISTA (02)","AW0-008 ","AW0",215.30999755859401]
[6001252063,"ROSEHILL-ROSE (02)","AW0-006 ","AW0",215.30999755859401]
[6001013215,"CRESSWELL-CAMERON (02)","AW0-006 ","AW0",215.32000732421901]
[6001146782,"CRESSWELL-CAMERON (02)","AW0-006 ","AW0",215.32000732421901]
[6001280621,"KENNY-COGHILL (01)","AW0-009 ","AW0",215.32000732421901]
[6001342687,"SHELLEY-NOGA (01)","AW0-007 ","AW0",215.32000732421901]
[6001335950,"PETERBOROUGH-TRINITY (04)","AW0-009 ","AW0",215.330001831055]
[6001384125,"GORDON-SHARPS (02)","AW0-012 ","AW0",215.330001831055]
[6001157486,"CUDGEWA-BORVA (01)","AW0-008 ","AW0",215.33999633789099]
[6001159556,"ROSTELLA-NORWOOD (02)","AW0-008 ","AW0",215.33999633789099]
[6001297951,"VIEWBANK-BREES (01)","AW0-006 ","AW0",215.33999633789099]
[6001295046,"HILLSIDE-ROBERTS (02)","AW0-007 ","AW0",215.35000610351599]
[6001196377,"VAUCLUSE-LENOAK (01)","AW0-002 ","AW0",215.36000061035199]
[6001414498,"QUINN-NOGA (02)","AW0-007 ","AW0",215.36000061035199]
[6001148837,"SEXTON-HALSEY (03)","AW0-006 ","AW0",215.36999511718801]
[6001482702,"KING-BOWES (01)","AW0-005 ","AW0",215.36999511718801]
[6001241761,"EARL-MATTHEWS (02)","AW0-001 ","AW0",215.38000488281301]
[6001280637,"KENNY-COGHILL (01)","AW0-009 ","AW0",215.38999938964801]
[6001325500,"COPE-MOORE (02)","AW0-001 ","AW0",215.38999938964801]
[6001449436,"WARATAH-CAROL (02)","AW0-009 ","AW0",215.38999938964801]
[6001444136,"ROSEHILL-ROSE (02)","AW0-006 ","AW0",215.39999389648401]
[6001524944,"WEST-KINGSLEY (01)","AW0-007 ","AW0",215.39999389648401]
[6001537066,"DALKEITH-GORDON (02)","AW0-009 ","AW0",215.39999389648401]
[6001538323,"CRESSWELL-CAMERON (02)","AW0-006 ","AW0",215.39999389648401]
[6001541448,"SHELLEY-NOGA (01)","AW0-007 ","AW0",215.39999389648401]
[6001617076,"KEILOR-NYAH (01)","AW0-007 ","AW0",215.39999389648401]
[6001038018,"DAVID-RACHELLE (01)","AW0-007 ","AW0",215.419998168945]
[6001148554,"SEXTON-PARER (03)","AW0-006 ","AW0",215.419998168945]
[6001150026,"BURVALE-CATHERINE (02)","AW0-004 ","AW0",215.419998168945]
[6001163688,"HANSON-GOBLE (01)","AW0-007 ","AW0",215.419998168945]
[6001235471,"CLAYTON-MASCOMA (01)","AW0-012 ","AW0",215.419998168945]
[6001365675,"VALLEY LAKE-STEELE CREEK (04)","AW0-007 ","AW0",215.419998168945]
[6001393465,"GRANITE-VALLEY LAKE (02)","AW0-007 ","AW0",215.419998168945]
[6001506042,"FAWKNER-ROBERTS (02)","AW0-008 ","AW0",215.419998168945]
[6001561152,"KING-BOWES (01)","AW0-005 ","AW0",215.419998168945]
[6001045281,"FAWKNER-BENT (03)","AW0-009 ","AW0",215.42999267578099]
[6001147380,"HIGHRIDGE-ROBERTS (01)","AW0-006 ","AW0",215.42999267578099]
[6001148662,"SEXTON-PARER (01)","AW0-006 ","AW0",215.42999267578099]
[6001157787,"WOORITE-MILLEARA (02)","AW0-008 ","AW0",215.42999267578099]
[6001197092,"COLLEGE-BREES (02)","AW0-008 ","AW0",215.42999267578099]
[6001470650,"ETZEL-CLYDESDALE (02)","AW0-006 ","AW0",215.42999267578099]
[6001148102,"WEST-KINGSLEY (02)","AW0-007 ","AW0",215.44000244140599]
[6001436085,"KING-BOWES (01)","AW0-005 ","AW0",215.44000244140599]
[6001149319,"BIRCH-BROADMEADOWS (01)","AW0-012 ","AW0",215.44999694824199]
[6001159235,"COHEN-GROVES (02)","AW0-008 ","AW0",215.44999694824199]
[6001255561,"ROSEHILL-TALBOT (01)","AW0-006 ","AW0",215.44999694824199]
[6001413556,"MARIGOLD-HOLLY (03)","AW0-012 ","AW0",215.44999694824199]
[6001147014,"MCNAMARA-PETERS (03)","AW0-007 ","AW0",215.46000671386699]
[6001158632,"JUDITH-BREES (02)","AW0-006 ","AW0",215.46000671386699]
[6001198066,"ARCADE-PROSPECT (02)","AW0-008 ","AW0",215.46000671386699]
[6001147602,"HILLSIDE-ROBERTS (02)","AW0-007 ","AW0",215.47000122070301]
[6001306493,"MARIGOLD-HOLLY (03)","AW0-012 ","AW0",215.47000122070301]
[6001403725,"GRANITE-VALLEY LAKE (02)","AW0-007 ","AW0",215.47000122070301]
[6001196619,"HARDY-SNAEFELL (01)","AW0-009 ","AW0",215.47999572753901]
[6001197357,"THE CROSSWAY-VISTA (02)","AW0-008 ","AW0",215.47999572753901]
[6001290249,"HALL-BURBANK (01)","AW0-002 ","AW0",215.47999572753901]
[6001021911,"HEATHER-DINAH (02)","AW0-006 ","AW0",215.49000549316401]
[6001196879,"KITTYHAWK-MOORNA (02)","AW0-008 ","AW0",215.49000549316401]
[6001244969,"HANSON-GOBLE (01)","AW0-007 ","AW0",215.49000549316401]
[6001266866,"COLLEGE-BREES (02)","AW0-008 ","AW0",215.5]
[6001280337,"BIRCH-BROADMEADOWS (02)","AW0-012 ","AW0",215.5]
[6001329886,"FAWKNER-BENT (03)","AW0-009 ","AW0",215.5]
[6001533590,"HEATHER-DINAH (01)","AW0-006 ","AW0",215.5]
[6001549477,"BEDFORD-PARER (02)","AW0-007 ","AW0",215.5]
[6001587250,"PAMELA-HERBERT (01)","AW0-006 ","AW0",215.5]
[6001595731,"PAMELA-HERBERT (01)","AW0-006 ","AW0",215.5]
[6001621190,"ROSTELLA-NORWOOD (02)","AW0-008 ","AW0",215.5]
[6001636155,"QUINN-CLARKS (03)","AW0-007 ","AW0",215.5]
[6001028897,"BUCKLEY-PHILLIP (02)","AW0-008 ","AW0",215.50999450683599]
[6001280633,"KENNY-COGHILL (01)","AW0-009 ","AW0",215.50999450683599]
[6001438695,"HAWKER-MCNAMARA (01)","AW0-001 ","AW0",215.50999450683599]
[6001157727,"WUNNAMURRA-WONGANELA (02)","AW0-008 ","AW0",215.52000427246099]
[6001149352,"BIRCH-BROADMEADOWS (02)","AW0-012 ","AW0",215.52999877929699]
[6001157515,"CUDGEWA-BORVA (01)","AW0-008 ","AW0",215.52999877929699]
[6001391219,"STEELE CREEK-BASALT (02)","AW0-007 ","AW0",215.52999877929699]
[6001147463,"KINGSLEY-ROBERTS (01)","AW0-007 ","AW0",215.53999328613301]
[6001333177,"ELLEN-RACHELLE (01)","AW0-008 ","AW0",215.53999328613301]
[6001342053,"THE CROSSWAY-VISTA (01)","AW0-008 ","AW0",215.53999328613301]
[6001419034,"MCINTOSH 42-MATTHEWS (01)","AW0-005 ","AW0",215.53999328613301]
[6001428544,"STEELE CREEK-BASALT (02)","AW0-007 ","AW0",215.53999328613301]
[6001218190,"QUINN-THE CROSSWAY (01)","AW0-007 ","AW0",215.55000305175801]
[6001022940,"HANSON-GOBLE (01)","AW0-007 ","AW0",215.55999755859401]
[6001148385,"HILBERT-ROBERTS (02)","AW0-008 ","AW0",215.55999755859401]
[6001338933,"GRANITE-VALLEY LAKE (02)","AW0-007 ","AW0",215.55999755859401]
[6001148617,"COPE-MOORE (02)","AW0-001 ","AW0",215.57000732421901]
[6001197158,"DAVID-RACHELLE (02)","AW0-007 ","AW0",215.57000732421901]
[6001280635,"KENNY-COGHILL (01)","AW0-009 ","AW0",215.57000732421901]
[6001470014,"HAWKER-MCNAMARA (01)","AW0-001 ","AW0",215.57000732421901]
[6001157948,"HENRY-DENNIS (01)","AW0-008 ","AW0",215.580001831055]
[6001262438,"COHEN-GROVES (01)","AW0-008 ","AW0",215.580001831055]
[6001280627,"KENNY-COGHILL (01)","AW0-009 ","AW0",215.580001831055]
[6001221694,"CRESSWELL-CAMERON (02)","AW0-006 ","AW0",215.58999633789099]
[6001493292,"EARL-MATTHEWS (02)","AW0-001 ","AW0",215.58999633789099]
[6001149434,"GORDON-SHARPS (02)","AW0-012 ","AW0",215.60000610351599]
[6001157522,"CUDGEWA-BORVA (01)","AW0-008 ","AW0",215.60000610351599]
[6001444555,"FAWKNER-BENT (02)","AW0-009 ","AW0",215.60000610351599]
[6001501155,"WOORITE-MILLEARA (02)","AW0-008 ","AW0",215.60000610351599]
[6001506775,"WUNNAMURRA-WONGANELA (02)","AW0-008 ","AW0",215.60000610351599]
[6001563338,"SEXTON-PARER (01)","AW0-006 ","AW0",215.60000610351599]
[6001617004,"KINGSLEY-ROBERTS (01)","AW0-007 ","AW0",215.60000610351599]
[6001147005,"EARL-MATTHEWS (02)","AW0-001 ","AW0",215.61000061035199]
[6001147994,"KING-BOWES (01)","AW0-005 ","AW0",215.61000061035199]
[6001246030,"CLAYTON-MASCOMA (01)","AW0-012 ","AW0",215.61000061035199]
[6001412940,"MOYANGUL-GUNGARLAN (02)","AW0-008 ","AW0",215.61999511718801]
[6001157776,"WOORITE-MILLEARA (02)","AW0-008 ","AW0",215.63000488281301]
[6001157946,"HENRY-DENNIS (01)","AW0-008 ","AW0",215.63999938964801]
[6001196883,"KITTYHAWK-MOORNA (02)","AW0-008 ","AW0",215.63999938964801]
[6001147806,"KING-BOWES (01)","AW0-005 ","AW0",215.64999389648401]
[6001163668,"HANSON-GOBLE (01)","AW0-007 ","AW0",215.64999389648401]
[6001196591,"HARDY-SNAEFELL (01)","AW0-009 ","AW0",215.64999389648401]
[6001148470,"WEST-KINGSLEY (01)","AW0-007 ","AW0",215.66000366210901]
[6001157649,"MOYANGUL-GUNGARLAN (02)","AW0-008 ","AW0",215.66000366210901]
[6001158316,"PAMELA-HERBERT (02)","AW0-006 ","AW0",215.66000366210901]
[6001281585,"CUDGEWA-BORVA (01)","AW0-008 ","AW0",215.66000366210901]
[6001434185,"QUINN-CLARKS (02)","AW0-007 ","AW0",215.66000366210901]
[6001158053,"QUINN-CLARKS (02)","AW0-007 ","AW0",215.669998168945]
[6001236582,"CARRICK-TRENTHAM (02)","AW0-002 ","AW0",215.669998168945]
[6001148584,"NORTH-THOMAS (03)","AW0-007 ","AW0",215.67999267578099]
[6001227027,"CLAYTON-MASCOMA (01)","AW0-012 ","AW0",215.67999267578099]
[6001261226,"KENNY-COGHILL (01)","AW0-009 ","AW0",215.67999267578099]
[6001475095,"DALKEITH-GORDON (02)","AW0-009 ","AW0",215.67999267578099]
[6001149301,"WARATAH-CAROL (02)","AW0-009 ","AW0",215.69000244140599]
[6001157945,"HENRY-DENNIS (01)","AW0-008 ","AW0",215.69999694824199]
[6001314064,"SHELLEY-NOGA (01)","AW0-007 ","AW0",215.69999694824199]
[6001532308,"BEDFORD-PARER (01)","AW0-007 ","AW0",215.69999694824199]
[6001565133,"QUINN-CLARKS (02)","AW0-007 ","AW0",215.69999694824199]
[6001587187,"KING-BOWES (01)","AW0-005 ","AW0",215.69999694824199]
[6001154111,"FOKKER-VICKERS (01)","AW0-012 ","AW0",215.71000671386699]
[6001125895,"HANSON-GOBLE (01)","AW0-007 ","AW0",215.72000122070301]
[6001197978,"ARCADE-PROSPECT (02)","AW0-008 ","AW0",215.72000122070301]
[6001198032,"ARCADE-PROSPECT (02)","AW0-008 ","AW0",215.72000122070301]
[6001234424,"MOYANGUL-GUNGARLAN (02)","AW0-008 ","AW0",215.72000122070301]
[6001455834,"ETZEL-CLYDESDALE (02)","AW0-006 ","AW0",215.72000122070301]
[6001467766,"ETZEL-CLYDESDALE (03)","AW0-006 ","AW0",215.72000122070301]
[6001150010,"BURVALE-CATHERINE (02)","AW0-004 ","AW0",215.72999572753901]
[6001154251,"CLAYTON-MASCOMA (01)","AW0-012 ","AW0",215.74000549316401]
[6001159957,"COHEN-GROVES (01)","AW0-008 ","AW0",215.74000549316401]
[6001195462,"CARRICK-TRENTHAM (02)","AW0-002 ","AW0",215.74000549316401]
[6001148454,"WEST-KINGSLEY (02)","AW0-007 ","AW0",215.75]
[6001157726,"WUNNAMURRA-WONGANELA (02)","AW0-008 ","AW0",215.75]
[6001159857,"PARKSIDE-BELLARINE (02)","AW0-008 ","AW0",215.75]
[6001280617,"KENNY-COGHILL (01)","AW0-009 ","AW0",215.75]
[6001349841,"DAVID-RACHELLE (02)","AW0-007 ","AW0",215.75]
[6001407735,"COLLEGE-BREES (01)","AW0-008 ","AW0",215.75]
[6001291594,"CAMERON-MATTHEWS (03)","AW0-006 ","AW0",215.75999450683599]
[6001301851,"HOTHAM-RYDER No. 2 (03)","AW0-006 ","AW0",215.75999450683599]
[6001333019,"MARIGOLD-HOLLY (03)","AW0-012 ","AW0",215.75999450683599]
[6001158379,"DAVID-RACHELLE (01)","AW0-007 ","AW0",215.77000427246099]
[6001159013,"ELLEN-RACHELLE (02)","AW0-008 ","AW0",215.77000427246099]
[6001392267,"VALLEY LAKE-STEELE CREEK (03)","AW0-007 ","AW0",215.77000427246099]
[6001439915,"BEDFORD-PARER (01)","AW0-007 ","AW0",215.77000427246099]
[6001163679,"HANSON-GOBLE (01)","AW0-007 ","AW0",215.78999328613301]
[6001197786,"ARCADE-PROSPECT (02)","AW0-008 ","AW0",215.78999328613301]
[6001250659,"CENTREWAY-WINGARA (04)","AW0-007 ","AW0",215.78999328613301]
[6001147822,"HAWKER-MCNAMARA (02)","AW0-001 ","AW0",215.80000305175801]
[6001346721,"FARRELL-RYDER (03)","AW0-006 ","AW0",215.80000305175801]
[6001421317,"WEST-KINGSLEY (02)","AW0-007 ","AW0",215.80000305175801]
[6001484138,"CENTREWAY-WINGARA (04)","AW0-007 ","AW0",215.80000305175801]
[6001545554,"QUINN-NOGA (01)","AW0-007 ","AW0",215.80000305175801]
[6001587435,"EARL-MATTHEWS (02)","AW0-001 ","AW0",215.80000305175801]
[6001600647,"ADELAIDE-LANARK (04)","AW0-012 ","AW0",215.80000305175801]
[6001612014,"BIRCH-BROADMEADOWS (02)","AW0-012 ","AW0",215.80000305175801]
[6001149628,"DALKEITH-GORDON (02)","AW0-009 ","AW0",215.80999755859401]
[6001157729,"WUNNAMURRA-WONGANELA (02)","AW0-008 ","AW0",215.82000732421901]
[6001278817,"ROSEHILL-ROSE (02)","AW0-006 ","AW0",215.82000732421901]
[6001334393,"STEELE CREEK-BASALT (01)","AW0-007 ","AW0",215.82000732421901]
[6001286247,"MCINTOSH 42-MATTHEWS (01)","AW0-005 ","AW0",215.830001831055]
[6001127782,"EARL-MATTHEWS (02)","AW0-001 ","AW0",215.83999633789099]
[6001460023,"WOORITE-MILLEARA (02)","AW0-008 ","AW0",215.83999633789099]
[6001159967,"COHEN-GROVES (01)","AW0-008 ","AW0",215.85000610351599]
[6001384124,"GORDON-SHARPS (02)","AW0-012 ","AW0",215.85000610351599]
[6001197358,"THE CROSSWAY-VISTA (02)","AW0-008 ","AW0",215.86000061035199]
[6001455522,"MCPHERSON-QUINN (03)","AW0-008 ","AW0",215.86000061035199]
[6001159373,"PARKSIDE-STERLING (01)","AW0-008 ","AW0",215.86999511718801]
[6001350175,"HOTHAM-RYDER No. 2 (03)","AW0-006 ","AW0",215.86999511718801]
[6001238080,"COHEN-GROVES (01)","AW0-008 ","AW0",215.88000488281301]
[6001146892,"HART-BOWES (03)","AW0-006 ","AW0",215.88999938964801]
[6001259370,"VAUCLUSE-LENOAK (02)","AW0-002 ","AW0",215.88999938964801]
[6001147834,"HAWKER-MCNAMARA (01)","AW0-001 ","AW0",215.89999389648401]
[6001157398,"KEILOR-NYAH (01)","AW0-007 ","AW0",215.89999389648401]
[6001163963,"NEWMAN-HOTHAM (03)","AW0-007 ","AW0",215.89999389648401]
[6001256597,"TULLAMARINA-SHARPS (02)","AW0-009 ","AW0",215.89999389648401]
[6001313269,"GRANITE-VALLEY LAKE (03)","AW0-007 ","AW0",215.89999389648401]
[6001337111,"MARIGOLD-HOLLY (03)","AW0-012 ","AW0",215.89999389648401]
[6001391578,"WEST-KINGSLEY (02)","AW0-007 ","AW0",215.89999389648401]
[6001485161,"QUINN-CLARKS (02)","AW0-007 ","AW0",215.89999389648401]
[6001528500,"HEATHER-DINAH (01)","AW0-006 ","AW0",215.89999389648401]
[6001535480,"THE AVENUE-KEILOR (03)","AW0-007 ","AW0",215.89999389648401]
[6001154183,"LOCKHEED-BOEING (01)","AW0-012 ","AW0",215.91000366210901]
[6001157800,"WOORITE-MILLEARA (02)","AW0-008 ","AW0",215.91000366210901]
[6001159305,"COHEN-GROVES (01)","AW0-008 ","AW0",215.91000366210901]
[6001195450,"CARRICK-TRENTHAM (02)","AW0-002 ","AW0",215.91000366210901]
[6001467655,"QUINN-NOGA (02)","AW0-007 ","AW0",215.91000366210901]
[6001558014,"GROSVENOR-FLORENCE (02)","AW0-007 ","AW0",215.91000366210901]
[6001015215,"HANSON-GOBLE (01)","AW0-007 ","AW0",215.919998168945]
[6001154282,"GLENSCOTT-ELYSEE (01)","AW0-012 ","AW0",215.919998168945]
[6001159301,"COHEN-GROVES (01)","AW0-008 ","AW0",215.919998168945]
[6001417848,"CRESSWELL-CAMERON (02)","AW0-006 ","AW0",215.919998168945]
[6001475092,"DALKEITH-GORDON (02)","AW0-009 ","AW0",215.919998168945]
[6001196604,"HARDY-SNAEFELL (01)","AW0-009 ","AW0",215.92999267578099]
[6001253426,"BURVALE-CATHERINE (02)","AW0-004 ","AW0",215.92999267578099]
[6001261954,"CRESSWELL-CAMERON (02)","AW0-006 ","AW0",215.92999267578099]
[6001305971,"CRESSWELL-CAMERON (02)","AW0-006 ","AW0",215.94999694824199]
[6001313393,"MARIGOLD-HOLLY (03)","AW0-012 ","AW0",215.94999694824199]
[6001007958,"THE CROSSWAY-VISTA (03)","AW0-008 ","AW0",215.97000122070301]
[6001022725,"THERESA-CHRISTOPHER (02)","AW0-009 ","AW0",215.97000122070301]
[6001157325,"RACHELLE-NICOLA (03)","AW0-007 ","AW0",215.97000122070301]
[6001158335,"PAMELA-HERBERT (02)","AW0-006 ","AW0",215.97000122070301]
[6001158641,"ROSEHILL-TALBOT (01)","AW0-006 ","AW0",215.97000122070301]
[6001159623,"EASTLEIGH-NORWOOD (03)","AW0-008 ","AW0",215.97000122070301]
[6001159965,"COHEN-GROVES (01)","AW0-008 ","AW0",215.97000122070301]
[6001197127,"DAVID-RACHELLE (02)","AW0-007 ","AW0",215.97000122070301]
[6001231305,"ROSEHILL-ROSE (02)","AW0-006 ","AW0",215.97000122070301]
[6001404143,"WEST-KINGSLEY (02)","AW0-007 ","AW0",215.97000122070301]
[6001163567,"NEWMAN-HOTHAM (01)","AW0-007 ","AW0",215.97999572753901]
[6001190981,"FAWKNER-BENT (03)","AW0-009 ","AW0",215.97999572753901]
[6001417848,"CRESSWELL-CAMERON (02)","AW0-006 ","AW0",215.97999572753901]
[6001158312,"PAMELA-HERBERT (02)","AW0-006 ","AW0",215.99000549316401]
[6001196889,"KITTYHAWK-MOORNA (02)","AW0-008 ","AW0",215.99000549316401]
[6001339195,"STEELE CREEK-BASALT (01)","AW0-007 ","AW0",215.99000549316401]
[6001146790,"CRESSWELL-CAMERON (02)","AW0-006 ","AW0",216]
[6001147389,"HIGHRIDGE-ROBERTS (01)","AW0-006 ","AW0",216]
[6001492579,"HENRY-DENNIS (03)","AW0-008 ","AW0",216]
[6001544316,"ROSEHILL-TALBOT (01)","AW0-006 ","AW0",216]
[6001579045,"DAVID-RACHELLE (02)","AW0-007 ","AW0",216]
[6001587473,"VIEWBANK-BREES (01)","AW0-006 ","AW0",216]
[6001341343,"WEST-KINGSLEY (02)","AW0-007 ","AW0",216.00999450683599]
[6001347699,"STEELE CREEK-BASALT (02)","AW0-007 ","AW0",216.02000427246099]
[6001468203,"KEILOR-NYAH (01)","AW0-007 ","AW0",216.02000427246099]
[6001158872,"HEATHER-DINAH (01)","AW0-006 ","AW0",216.02999877929699]
[6001413390,"NORTH-THOMAS (01)","AW0-007 ","AW0",216.03999328613301]
[6001024021,"HILLCREST-MICKLEHAM (01)","AW0-009 ","AW0",216.05000305175801]
[6001157161,"QUINN-CLARKS (02)","AW0-007 ","AW0",216.05000305175801]
[6001196379,"VAUCLUSE-LENOAK (01)","AW0-002 ","AW0",216.05000305175801]
[6001322306,"COPE-MOORE (02)","AW0-001 ","AW0",216.05000305175801]
[6001411876,"QUINN-CLARKS (02)","AW0-007 ","AW0",216.05000305175801]
[6001445897,"ETZEL-CLYDESDALE (03)","AW0-006 ","AW0",216.05000305175801]
[6001478385,"GROSVENOR-FLORENCE (02)","AW0-007 ","AW0",216.05000305175801]
[6001154176,"LOCKHEED-BOEING (01)","AW0-012 ","AW0",216.05999755859401]
[6001159852,"PARKSIDE-BELLARINE (01)","AW0-008 ","AW0",216.05999755859401]
[6001159889,"THE CROSSWAY-VISTA (03)","AW0-008 ","AW0",216.05999755859401]
[6001197784,"ARCADE-PROSPECT (02)","AW0-008 ","AW0",216.05999755859401]
[6001195835,"CARRICK-PYKE (01)","AW0-002 ","AW0",216.07000732421901]
[6001250432,"MILLAR-DERBY (01)","AW0-004 ","AW0",216.07000732421901]
[6001147707,"HILLSIDE-ROBERTS (02)","AW0-007 ","AW0",216.080001831055]
[6001157455,"MOYANGUL-GUNGARLAN (03)","AW0-008 ","AW0",216.080001831055]
[6001391989,"MARIGOLD-HOLLY (03)","AW0-012 ","AW0",216.080001831055]
[6001396815,"WOORITE-MILLEARA (02)","AW0-008 ","AW0",216.080001831055]
[6001402198,"WOORITE-MILLEARA (02)","AW0-008 ","AW0",216.080001831055]
[6001467767,"ETZEL-CLYDESDALE (03)","AW0-006 ","AW0",216.080001831055]
[6001150029,"BURVALE-CATHERINE (02)","AW0-004 ","AW0",216.08999633789099]
[6001197324,"COLLEGE-BREES (02)","AW0-008 ","AW0",216.08999633789099]
[6001248350,"HAWKER-MCNAMARA (02)","AW0-001 ","AW0",216.08999633789099]
[6001147884,"MCINTOSH 42-MATTHEWS (01)","AW0-005 ","AW0",216.10000610351599]
[6001158157,"QUINN-NOGA (02)","AW0-007 ","AW0",216.10000610351599]
[6001197089,"COLLEGE-BREES (02)","AW0-008 ","AW0",216.10000610351599]
[6001280629,"KENNY-COGHILL (01)","AW0-009 ","AW0",216.10000610351599]
[6001338952,"NEWMAN-HOTHAM (03)","AW0-007 ","AW0",216.10000610351599]
[6001516187,"CENTREWAY-WINGARA (04)","AW0-007 ","AW0",216.10000610351599]
[6001535608,"QUINN-NOGA (01)","AW0-007 ","AW0",216.10000610351599]
[6001546149,"ROSEHILL-TALBOT (01)","AW0-006 ","AW0",216.10000610351599]
[6001563421,"KINGSLEY-ROBERTS (01)","AW0-007 ","AW0",216.10000610351599]
[6001587471,"VIEWBANK-BREES (01)","AW0-006 ","AW0",216.10000610351599]
[6001590019,"ROSEHILL-TALBOT (01)","AW0-006 ","AW0",216.10000610351599]
[6001609127,"COPE-MOORE (02)","AW0-001 ","AW0",216.10000610351599]
[6001146997,"EARL-MATTHEWS (02)","AW0-001 ","AW0",216.11000061035199]
[6001148769,"COPE-MOORE (02)","AW0-001 ","AW0",216.11000061035199]
[6001149942,"JUDY-CHURCHILL (02)","AW0-004 ","AW0",216.11000061035199]
[6001159387,"PARKSIDE-STERLING (01)","AW0-008 ","AW0",216.11000061035199]
[6001228045,"ROSEHILL-ROSE (02)","AW0-006 ","AW0",216.11000061035199]
[6001154249,"CLAYTON-MASCOMA (01)","AW0-012 ","AW0",216.11999511718801]
[6001158719,"NEAL-DINAH (01)","AW0-008 ","AW0",216.11999511718801]
[6001158294,"PAMELA-HERBERT (01)","AW0-006 ","AW0",216.13999938964801]
[6001158625,"JUDITH-BREES (02)","AW0-006 ","AW0",216.14999389648401]
[6001245299,"FAWKNER-BENT (03)","AW0-009 ","AW0",216.16000366210901]
[6001018250,"COHEN-GROVES (01)","AW0-008 ","AW0",216.169998168945]
[6001045766,"MOYANGUL-GUNGARLAN (01)","AW0-008 ","AW0",216.169998168945]
[6001157153,"QUINN-CLARKS (02)","AW0-007 ","AW0",216.169998168945]
[6001197788,"ARCADE-PROSPECT (02)","AW0-008 ","AW0",216.169998168945]
[6001223844,"HAWKER-MCNAMARA (02)","AW0-001 ","AW0",216.169998168945]
[6001163681,"HANSON-GOBLE (01)","AW0-007 ","AW0",216.17999267578099]
[6001347331,"WARATAH-CAROL (02)","AW0-009 ","AW0",216.17999267578099]
[6001460047,"WOORITE-MILLEARA (02)","AW0-008 ","AW0",216.17999267578099]
[6001148456,"WEST-KINGSLEY (02)","AW0-007 ","AW0",216.19000244140599]
[6001158045,"QUINN-CLARKS (02)","AW0-007 ","AW0",216.19999694824199]
[6001396150,"STEELE CREEK-BASALT (01)","AW0-007 ","AW0",216.19999694824199]
[6001451033,"BIRCH-BROADMEADOWS (02)","AW0-012 ","AW0",216.19999694824199]
[6001589055,"ROSEHILL-TALBOT (01)","AW0-006 ","AW0",216.19999694824199]
[6001597240,"DAVID-RACHELLE (02)","AW0-007 ","AW0",216.19999694824199]
[6001626245,"DAVID-RACHELLE (02)","AW0-007 ","AW0",216.19999694824199]
[6001410343,"QUINN-CLARKS (02)","AW0-007 ","AW0",216.21000671386699]
[6001158000,"SHELLEY-NOGA (01)","AW0-007 ","AW0",216.22000122070301]
[6001344203,"FOKKER-VICKERS (01)","AW0-012 ","AW0",216.22000122070301]
[6001158548,"DAVID-RACHELLE (01)","AW0-007 ","AW0",216.22999572753901]
[6001163847,"THE AVENUE-KEILOR (02)","AW0-007 ","AW0",216.22999572753901]
[6001347266,"FULLARTON-WALTERS (01)","AW0-006 ","AW0",216.22999572753901]
[6001314026,"ETZEL-CLYDESDALE (01)","AW0-006 ","AW0",216.24000549316401]
[6001470042,"FULLARTON-WALTERS (01)","AW0-006 ","AW0",216.25]
[6001022824,"BEDFORD-PARER (01)","AW0-007 ","AW0",216.25999450683599]
[6001157799,"WOORITE-MILLEARA (02)","AW0-008 ","AW0",216.25999450683599]
[6001159412,"ROSTELLA-NORWOOD (01)","AW0-008 ","AW0",216.25999450683599]
[6001190964,"FAWKNER-BENT (03)","AW0-009 ","AW0",216.25999450683599]
[6001459209,"WOORITE-MILLEARA (02)","AW0-008 ","AW0",216.25999450683599]
[6001265997,"CUDGEWA-BORVA (01)","AW0-008 ","AW0",216.27999877929699]
[6001276247,"ROSEHILL-ROSE (02)","AW0-006 ","AW0",216.27999877929699]
[6001045540,"HART-BOWES (03)","AW0-006 ","AW0",216.28999328613301]
[6001163685,"HANSON-GOBLE (01)","AW0-007 ","AW0",216.28999328613301]
[6001195561,"CARRICK-TRENTHAM (02)","AW0-002 ","AW0",216.28999328613301]
[6001476244,"NEWMAN-HOTHAM (01)","AW0-007 ","AW0",216.28999328613301]
[6001414132,"STEELE CREEK-BASALT (02)","AW0-007 ","AW0",216.30000305175801]
[6001482720,"SEXTON-HALSEY (03)","AW0-006 ","AW0",216.30000305175801]
[6001582022,"QUINN-CLARKS (03)","AW0-007 ","AW0",216.30000305175801]
[6001221695,"CRESSWELL-CAMERON (02)","AW0-006 ","AW0",216.30999755859401]
[6001296578,"FAWKNER-BENT (02)","AW0-009 ","AW0",216.30999755859401]
[6001019356,"NEWMAN-HOTHAM (03)","AW0-007 ","AW0",216.32000732421901]
[6001329237,"NEWMAN-HOTHAM (01)","AW0-007 ","AW0",216.32000732421901]
[6001410976,"EARL-MATTHEWS (02)","AW0-001 ","AW0",216.32000732421901]
[6001263515,"HILBERT-ROBERTS (02)","AW0-008 ","AW0",216.330001831055]
[6001287441,"CUDGEWA-BORVA (01)","AW0-008 ","AW0",216.330001831055]
[6001146838,"FULLARTON-WALTERS (01)","AW0-006 ","AW0",216.33999633789099]
[6001157489,"CUDGEWA-BORVA (01)","AW0-008 ","AW0",216.33999633789099]
[6001163682,"HANSON-GOBLE (01)","AW0-007 ","AW0",216.33999633789099]
[6001213078,"CRESSWELL-CAMERON (01)","AW0-006 ","AW0",216.33999633789099]
[6001154205,"CLAYTON-MASCOMA (01)","AW0-012 ","AW0",216.35000610351599]
[6001427488,"ETZEL-CLYDESDALE (03)","AW0-006 ","AW0",216.35000610351599]
[6001154279,"GLENSCOTT-ELYSEE (01)","AW0-012 ","AW0",216.36000061035199]
[6001158500,"SHELLEY-NOGA (01)","AW0-007 ","AW0",216.36000061035199]
[6001226453,"CUDGEWA-BORVA (01)","AW0-008 ","AW0",216.36000061035199]
[6001331927,"COPE-MOORE (02)","AW0-001 ","AW0",216.36000061035199]
[6001391223,"STEELE CREEK-BASALT (02)","AW0-007 ","AW0",216.36000061035199]
[6001410047,"TRUMPINGTON-TRINITY (01)","AW0-009 ","AW0",216.36000061035199]
[6001476917,"ETZEL-CLYDESDALE (03)","AW0-006 ","AW0",216.36000061035199]
[6001045308,"MILLAR-DERBY (01)","AW0-004 ","AW0",216.36999511718801]
[6001158374,"DAVID-RACHELLE (01)","AW0-007 ","AW0",216.38000488281301]
[6001163950,"NEWMAN-HOTHAM (03)","AW0-007 ","AW0",216.38999938964801]
[6001398894,"STEELE CREEK-BASALT (02)","AW0-007 ","AW0",216.38999938964801]
[6001475093,"DALKEITH-GORDON (02)","AW0-009 ","AW0",216.38999938964801]
[6001501074,"CRESSWELL-CAMERON (01)","AW0-006 ","AW0",216.38999938964801]
[6001158621,"JUDITH-BREES (02)","AW0-006 ","AW0",216.39999389648401]
[6001486771,"WOORITE-MILLEARA (02)","AW0-008 ","AW0",216.39999389648401]
[6001519139,"HILBERT-HARRINGTON (02)","AW0-008 ","AW0",216.39999389648401]
[6001535699,"WOORITE-MILLEARA (03)","AW0-008 ","AW0",216.39999389648401]
[6001546383,"COPE-MOORE (02)","AW0-001 ","AW0",216.39999389648401]
[6001148585,"NORTH-THOMAS (03)","AW0-007 ","AW0",216.41000366210901]
[6001147172,"MCNAMARA-PETERS (01)","AW0-007 ","AW0",216.419998168945]
[6001227844,"ROSEHILL-ROSE (02)","AW0-006 ","AW0",216.419998168945]
[6001388984,"SEXTON-HALSEY (03)","AW0-006 ","AW0",216.419998168945]
[6001396681,"HOTHAM-RYDER No. 2 (03)","AW0-006 ","AW0",216.419998168945]
[6001399604,"GRANITE-VALLEY LAKE (02)","AW0-007 ","AW0",216.42999267578099]
[6001495112,"FAWKNER-ROBERTS (02)","AW0-008 ","AW0",216.42999267578099]
[6001148178,"NORTH-THOMAS (01)","AW0-007 ","AW0",216.44000244140599]
[6001158722,"NEAL-DINAH (01)","AW0-008 ","AW0",216.44000244140599]
[6001430047,"HILLCREST-MICKLEHAM (01)","AW0-009 ","AW0",216.44000244140599]
[6001327821,"EARL-MATTHEWS (02)","AW0-001 ","AW0",216.44999694824199]
[6001350304,"STEELE CREEK-BASALT (01)","AW0-007 ","AW0",216.44999694824199]
[6001412457,"TRUMPINGTON-TRINITY (01)","AW0-009 ","AW0",216.44999694824199]
[6001455923,"ETZEL-CLYDESDALE (03)","AW0-006 ","AW0",216.44999694824199]
[6001196568,"PAYNE-RYLANDES (01)","AW0-009 ","AW0",216.46000671386699]
[6001310606,"KING-BOWES (01)","AW0-005 ","AW0",216.46000671386699]
[6001424680,"STEELE CREEK-BASALT (01)","AW0-007 ","AW0",216.46000671386699]
[6001438362,"WEST-KINGSLEY (01)","AW0-007 ","AW0",216.46000671386699]
[6001190787,"BROLGA-SWAN (01)","AW0-014 ","AW0",216.47000122070301]
[6001295052,"LOCKHEED-BOEING (01)","AW0-012 ","AW0",216.47000122070301]
[6001159424,"PARKSIDE-STERLING (01)","AW0-008 ","AW0",216.47999572753901]
[6001163573,"NEWMAN-HOTHAM (01)","AW0-007 ","AW0",216.5]
[6001325037,"QUINN-CLARKS (02)","AW0-007 ","AW0",216.5]
[6001509856,"QUINN-NOGA (02)","AW0-007 ","AW0",216.5]
[6001638238,"WEST-KINGSLEY (02)","AW0-007 ","AW0",216.5]
[6001196566,"PAYNE-RYLANDES (01)","AW0-009 ","AW0",217.02000427246099]
[6001526165,"COHEN-GROVES (01)","AW0-008 ","AW0",217.39999389648401]
[6001197262,"VIEWBANK-BREES (02)","AW0-006 ","AW0",218.19999694824199]
[6001419311,"OAK-CONISTON (02)","AW0-007 ","AW0",218.64999389648401]
[6001163953,"NEWMAN-HOTHAM (03)","AW0-007 ","AW0",219.32000732421901]
[6001342830,"PETERBOROUGH-TRINITY (04)","AW0-009 ","AW0",219.63999938964801]
[6001195432,"CARRICK-TRENTHAM (02)","AW0-002 ","AW0",220.38999938964801]
[6001035757,"KENNY-COGHILL (03)","AW0-009 ","AW0",220.66000366210901]
[6001282092,"WARATAH-CAROL (02)","AW0-009 ","AW0",221.32000732421901]
[6001163756,"NEWMAN-HOTHAM (02)","AW0-007 ","AW0",221.55000305175801]
[6001406167,"FAWKNER-QUINN (02)","AW0-008 ","AW0",221.89999389648401]
[6001147472,"KINGSLEY-ROBERTS (01)","AW0-007 ","AW0",222.39999389648401]
[6001017417,"FULLARTON-WALTERS (02)","AW0-006 ","AW0",222.94999694824199]
[6001546040,"QUINN-NOGA (02)","AW0-007 ","AW0",223]
[6001150068,"MELROSE-CATHERINE (01)","AW0-004 ","AW0",223.71000671386699]
[6001196485,"LENOAK-TRENTHAM (02)","AW0-002 ","AW0",223.77999877929699]
[6001249141,"RYDER-NOLAN (04)","AW0-006 ","AW0",224.10000610351599]
[6001283730,"KING-BOWES (01)","AW0-005 ","AW0",224.52999877929699]
[6001248569,"HILLSIDE-ROBERTS (02)","AW0-007 ","AW0",225.02000427246099]
[6001290064,"MARIGOLD-HOLLY (01)","AW0-012 ","AW0",225.13000488281301]
[6001066352,"KENNY-COGHILL (04)","AW0-009 ","AW0",225.69999694824199]
[6001563344,"DAVID-RACHELLE (01)","AW0-007 ","AW0",225.80000305175801]
[6001264344,"TAYLOR-PARNELL (02)","AW0-002 ","AW0",225.99000549316401]
[6001195705,"BURBANK-KATRINA (01)","AW0-002 ","AW0",226.38000488281301]
[6001016143,"CLAYTON-MASCOMA (02)","AW0-012 ","AW0",226.580001831055]
[6001305163,"HADDON HALL-BATEMAN (02)","AW0-009 ","AW0",226.91000366210901]
[6001195212,"CARRICK-TRENTHAM (01)","AW0-002 ","AW0",227.19999694824199]
[6001150089,"MELROSE-CATHERINE (01)","AW0-004 ","AW0",227.41000366210901]
[6001331628,"PETERBOROUGH-TRINITY (01)","AW0-009 ","AW0",227.67999267578099]
[6001149588,"EUMARELLA-SPRING (03)","AW0-012 ","AW0",227.88999938964801]
[6001158835,"FAWKNER-QUINN (02)","AW0-008 ","AW0",228.19000244140599]
[6001224156,"ROSTELLA-NORWOOD (01)","AW0-008 ","AW0",228.33999633789099]
[6001295473,"HADDON HALL-BATEMAN (01)","AW0-009 ","AW0",228.60000610351599]
[6001501685,"CARRICK-TRENTHAM (02)","AW0-002 ","AW0",228.75999450683599]
[6001296359,"HADDON HALL-BATEMAN (03)","AW0-009 ","AW0",228.85000610351599]
[6001022851,"ALANBRAE-STONEBRIDGE (05)","AW0-009 ","AW0",229.19000244140599]
[6001391929,"DIORITE-VALLEY LAKE (02)","AW0-007 ","AW0",229.25999450683599]
[6001611155,"ETZEL-CLYDESDALE (02)","AW0-006 ","AW0",229.60000610351599]
[6001385007,"OAK-CONISTON (01)","AW0-007 ","AW0",229.69000244140599]
[6001196242,"CARRICK-PYKE (02)","AW0-002 ","AW0",229.91000366210901]
[6001428640,"SYCAMORE-BROADMEADOWS (01)","AW0-009 ","AW0",230.11000061035199]
[6001147177,"MCNAMARA-PETERS (02)","AW0-007 ","AW0",230.33999633789099]
[6001194962,"BARRINGTON-PARNELL (02)","AW0-002 ","AW0",230.52999877929699]
[6001284098,"COGHLAN-REBECCA (04)","AW0-006 ","AW0",230.75999450683599]
[6001613004,"TRUMPINGTON-TRINITY (02)","AW0-009 ","AW0",230.89999389648401]
[6001157812,"CENTREWAY-WINGARA (03)","AW0-007 ","AW0",231.19000244140599]
[6001150252,"KENT-TADSTAN (02)","AW0-004 ","AW0",231.25999450683599]
[6001195613,"ELMHURST-CARRICK (01)","AW0-002 ","AW0",231.57000732421901]
[6001209515,"CHAPPELL-HASSETT (02)","AW0-008 ","AW0",231.66000366210901]
[6001147919,"HAWKER-MATTHEWS (03)","AW0-005 ","AW0",231.96000671386699]
[6001317979,"TULLAMARINA-SHARPS (01)","AW0-009 ","AW0",232.05000305175801]
[6001022014,"ETZEL-CLYDESDALE (03)","AW0-006 ","AW0",232.330001831055]
[6001149846,"JUDY-CHURCHILL (01)","AW0-004 ","AW0",232.50999450683599]
[6001240962,"THE AVENUE-KEILOR (01)","AW0-007 ","AW0",232.69000244140599]
[6001190781,"KOALA-PELICAN (01)","AW0-014 ","AW0",232.88000488281301]
[6001318156,"THE AVENUE-KEILOR (01)","AW0-007 ","AW0",233.02000427246099]
[6001639048,"RYDER-NOLAN (03)","AW0-006 ","AW0",233.10000610351599]
[6001157437,"CUDGEWA-BORVA (01)","AW0-008 ","AW0",233.35000610351599]
[6001273582,"BLUEBELL-LILAC (03)","AW0-012 ","AW0",233.46000671386699]
[6001125685,"SYCAMORE-BROADMEADOWS (03)","AW0-009 ","AW0",233.69000244140599]
[6001210405,"FRASER-MATTHEWS (01)","AW0-001 ","AW0",233.77999877929699]
[6001148996,"MATTHEWS-DROMANA (02)","AW0-012 ","AW0",234.00999450683599]
[6001210875,"MURDOCH-HASSETT (02)","AW0-008 ","AW0",234.10000610351599]
[6001233656,"GARRYOWEN-MICKLEHAM (02)","AW0-009 ","AW0",234.30999755859401]
[6001484572,"KEILOR-NYAH (01)","AW0-007 ","AW0",234.39999389648401]
[6001197177,"COLLEGE-BREES (03)","AW0-008 ","AW0",234.53999328613301]
[6001343476,"FAWKNER-BENT (03)","AW0-009 ","AW0",234.69999694824199]
[6001158116,"QUINN-CLARKS (01)","AW0-007 ","AW0",234.86000061035199]
[6001248504,"YORK-MATTHEWS (01)","AW0-001 ","AW0",235.00999450683599]
[6001234755,"CHAPPELL-HASSETT (01)","AW0-008 ","AW0",235.10000610351599]
[6001147319,"ROBERTS-MCNAMARA (01)","AW0-006 ","AW0",235.28999328613301]
[6001564337,"MCNAMARA-PETERS (03)","AW0-007 ","AW0",235.39999389648401]
[6001159253,"DINAH-QUINN (01)","AW0-007 ","AW0",235.61000061035199]
[6001193058,"FINNINGLEY-MARHAM (02)","AW0-014 ","AW0",235.72999572753901]
[6001420958,"TRUMPINGTON-TRINITY (04)","AW0-009 ","AW0",235.96000671386699]
[6001459136,"PUMICE-OLIVINE (01)","AW0-007 ","AW0",236.05999755859401]
[6001164067,"FARRELL-RYDER (01)","AW0-006 ","AW0",236.25999450683599]
[6001407747,"SHORT-WIRRAWAY (02)","AW0-005 ","AW0",236.33999633789099]
[6001020609,"PARER-COPE (01)","AW0-001 ","AW0",236.64999389648401]
[6001343672,"SUSAN-RACHELLE (01)","AW0-007 ","AW0",236.66000366210901]
[6001311455,"PARER-COPE (01)","AW0-001 ","AW0",236.86999511718801]
[6001158330,"PAMELA-HERBERT (02)","AW0-006 ","AW0",237.02999877929699]
[6001289711,"MARIGOLD-ALDER (01)","AW0-012 ","AW0",237.17999267578099]
[6001339664,"PUMICE-OLIVINE (01)","AW0-007 ","AW0",237.38000488281301]
[6001021714,"GORDON-SHARPS (02)","AW0-012 ","AW0",237.52999877929699]
[6001196123,"CARRICK-PYKE (02)","AW0-002 ","AW0",237.72000122070301]
[6001243837,"CENTREWAY-WINGARA (04)","AW0-007 ","AW0",237.830001831055]
[6001149830,"CHURCHILL-COONAMAR (02)","AW0-004 ","AW0",238.05999755859401]
[6001199278,"CATALINA-GARDEN 1 (01)","AW0-014 ","AW0",238.169998168945]
[6001231133,"HOOD-MATTHEWS 1 (02)","AW0-001 ","AW0",238.30000305175801]
[6001311810,"MELROSE-DERBY (02)","AW0-004 ","AW0",238.47000122070301]
[6001346856,"OVATA-ASSEMBLY (02)","AW0-011 ","AW0",238.52999877929699]
[6001210323,"GLADSTONE PK-BELMONT (90)","AW0-002 ","AW0",238.75999450683599]
[6001594226,"HOOD-BOWES (02)","AW0-001 ","AW0",238.80000305175801]
[6001217568,"HENDERSON-MELROSE (00)","AW0-004 ","AW0",238.94999694824199]
[6001253035,"LANARK-GOWANBRAE (02)","AW0-012 ","AW0",239.05999755859401]
[6001343357,"INTERNATIONAL-T'PARK (00)","AW0-004 ","AW0",239.19999694824199]
[6001198207,"ADINA 8-BARRIE (02)","AW0-011 ","AW0",239.32000732421901]
[6001343766,"DERBY 14-HENDERSON (01)","AW0-004 ","AW0",239.47000122070301]
[6001042311,"INTERNATIONAL-MICKLEHAM (00)","AW0-009 ","AW0",239.580001831055]
[6001251365,"WEBB-MATTHEWS (02)","AW0-012 ","AW0",239.74000549316401]
[6001147488,"HILBERT-ROBERTS (02)","AW0-008 ","AW0",239.83999633789099]
[6001251680,"MELROSE-CATHERINE (04)","AW0-004 ","AW0",240.02000427246099]
[6001405821,"EUMARELLA-SPRING (02)","AW0-012 ","AW0",240.10000610351599]
[6001150226,"KENT-TADSTAN (01)","AW0-004 ","AW0",240.330001831055]
[6001157228,"SUSAN-RACHELLE (02)","AW0-007 ","AW0",240.419998168945]
[6001208795,"LINDAWAY-MELROSE 2 (01)","AW0-002 ","AW0",240.66000366210901]
[6001208493,"SMOLIC-SPRINGBANK (01)","AW0-004 ","AW0",240.85000610351599]
[6001146815,"CRESSWELL-CAMERON (00)","AW0-006 ","AW0",241.02000427246099]
[6001193032,"LACKENHEATH-STRADSHL (02)","AW0-014 ","AW0",241.02999877929699]
[6001346127,"INTERNATIONAL-MICKLEHAM (00)","AW0-009 ","AW0",241.35000610351599]
[6001196287,"TOWNSEND-HOCTOR (02)","AW0-002 ","AW0",241.38000488281301]
[6001147466,"HILLSIDE-ROBERTS (02)","AW0-007 ","AW0",241.69999694824199]
[6001325650,"GLADSTONE PK-BELMONT (91)","AW0-002 ","AW0",241.78999328613301]
[6001369272,"CRAIG-NOGA (01)","AW0-006 ","AW0",242.05000305175801]
[6001350951,"ELSTONE-KEILOR (04)","AW0-006 ","AW0",242.169998168945]
[6001148900,"MOORE 9-MATTHEWS (01)","AW0-012 ","AW0",242.580001831055]
[6001392158,"CARRICK-ROSS CO (01)","AW0-002 ","AW0",242.72000122070301]
[6001340247,"RODD-WESTFIELD CO (01)","AW0-005 ","AW0",242.96000671386699]
[6001196397,"GABRIELLE-SHANE (03)","AW0-002 ","AW0",243.99000549316401]
[6001465882,"MOLYNEUX-HAWKER (02)","AW0-005 ","AW0",244.85000610351599]
[6001199289,"INTERNATIONAL-T'PARK (00)","AW0-004 ","AW0",247.05000305175801]
[6001181424,"HEPBURN-KING (02)","BD0-003 ","BD0",209.13999938964801]
[6001335439,"WARANGA-BLAIR (02)","BD0-011 ","BD0",212.669998168945]
[6001415386,"COBRAM-LILLIPUT (01)","BD0-007 ","BD0",215.330001831055]
[6001235572,"ELIZABETH-RALEIGH (01)","BD0-007 ","BD0",216.75999450683599]
[6001545164,"ELLESMERE-CARRICK (01)","BD0-007 ","BD0",217.5]
[6001189923,"CHISHOLM-ERINBANK (01)","BD0-007 ","BD0",218.92999267578099]
[6001193855,"BUNBURY-LYNDHURST (01)","BD0-007 ","BD0",219.64999389648401]
[6001262622,"ROKEWOOD-APPIN (02)","BD0-014 ","BD0",220.92999267578099]
[6001188580,"REDESDALE-GALVIN (01)","BD0-014 ","BD0",221.36000061035199]
[6001011355,"ENDEAVOUR-WESTFIELD (02)","BD0-007 ","BD0",222.36000061035199]
[6001180789,"YINNAR-BARRY (01)","BD0-007 ","BD0",222.72000122070301]
[6001350232,"RIGGALL-APOLLO (02)","BD0-011 ","BD0",223.32000732421901]
[6001327392,"DALLAS-FOSTER (02)","BD0-011 ","BD0",223.94999694824199]
[6001181763,"CLUNES-KOROIT (01)","BD0-010 ","BD0",224.44000244140599]
[6001180748,"TRESCO-BARRY (01)","BD0-007 ","BD0",224.86999511718801]
[6001189063,"COOMA-TAWONGA (02)","BD0-007 ","BD0",225.55999755859401]
[6001177694,"RAINSFORD-SAMUEL (02)","BD0-016 ","BD0",226.08999633789099]
[6001189521,"MISTY-HORNE (02)","BD0-015 ","BD0",226.41000366210901]
[6001179920,"WASHINGTON-DOY (01)","BD0-015 ","BD0",226.52999877929699]
[6001179489,"DALLAS-FOSTER (01)","BD0-011 ","BD0",227.14999389648401]
[6001455298,"WASHINGTON-DOY (02)","BD0-015 ","BD0",227.27999877929699]
[6001465996,"ROKEWOOD-APPIN (01)","BD0-014 ","BD0",227.82000732421901]
[6001194115,"WOLVERTON-BERESFORD (01)","BD0-007 ","BD0",227.94000244140599]
[6001177533,"SYCAMORE-LAUREL (01)","BD0-016 ","BD0",228.44999694824199]
[6001252533,"ELIZABETH-RALEIGH (02)","BD0-007 ","BD0",228.71000671386699]
[6001179718,"LYDIA-DUNSTAN (01)","BD0-015 ","BD0",229.05999755859401]
[6001187241,"REDESDALE-GALVIN (02)","BD0-014 ","BD0",229.19000244140599]
[6001177872,"MONT ALBERT-SUFFOLK (01)","BD0-016 ","BD0",229.580001831055]
[6001504665,"DUNKELD-PASCOE VALE (02)","BD0-004 ","BD0",229.80000305175801]
[6001181057,"CORINELLA-BLAIR (01)","BD0-010 ","BD0",230.10000610351599]
[6001019877,"MALMSBURY-WOODBURN (02)","BD0-014 ","BD0",230.30000305175801]
[6001321996,"ERINBANK-REDAN (02)","BD0-007 ","BD0",230.60000610351599]
[6001411966,"MALMSBURY-WOODBURN (01)","BD0-014 ","BD0",230.75]
[6001179308,"LONDON-CUTHBERT (02)","BD0-011 ","BD0",231.080001831055]
[6001181733,"INVERLOCH-MERINO (02)","BD0-010 ","BD0",231.25]
[6001528424,"LARA 31-PREMIER (04)","BD0-008 ","BD0",231.39999389648401]
[6001189460,"COLBERT-BERWICK (02)","BD0-016 ","BD0",231.67999267578099]
[6001013728,"WILTSHIRE-DUNFIELD (02)","BD0-007 ","BD0",231.97000122070301]
[6001235828,"ROKEWOOD-ELLAM (01)","BD0-014 ","BD0",232.10000610351599]
[6001177105,"CLARKE-SOMERSET (02)","BD0-016 ","BD0",232.41000366210901]
[6001187113,"PASCOE VALE RD-P193A (02)","BD0-004 ","BD0",232.419998168945]
[6001212804,"MAGNOLIA-BULLRUSH (01)","BD0-004 ","BD0",232.58999633789099]
[6001210450,"MANUKA-LIGHTWOOD (01)","BD0-004 ","BD0",232.82000732421901]
[6001187873,"TAGGERTY-MELWOOD (01)","BD0-014 ","BD0",233.00999450683599]
[6001192555,"TOORA-IONA (01)","BD0-007 ","BD0",233.25999450683599]
[6001212230,"EUCALYPTUS-PEPPERMINT (04)","BD0-004 ","BD0",233.63999938964801]
[6001180513,"BUSHFIELD-KYABRAM (01)","BD0-014 ","BD0",233.69000244140599]
[6001036922,"TALGARNO-UNITT (03)","BD0-010 ","BD0",233.82000732421901]
[6001237588,"ADRIAN-JESICA (00)","BD0-013 ","BD0",234.080001831055]
[6001198610,"TALGARNO-UNITT (03)","BD0-010 ","BD0",234.17999267578099]
[6001210822,"MANUKA-LIGHTWOOD (02)","BD0-004 ","BD0",234.47999572753901]
[6001311532,"LONDON-CUTHBERT (01)","BD0-011 ","BD0",234.57000732421901]
[6001179698,"AUGUSTA-HUME (01)","BD0-015 ","BD0",234.86999511718801]
[6001332492,"ZAKWELL-MOTTO (04)","BD0-004 ","BD0",235.05999755859401]
[6001240275,"TALGARNO-UNITT (03)","BD0-010 ","BD0",235.25]
[6001194146,"WOLVERTON-BERESFORD (01)","BD0-007 ","BD0",235.47000122070301]
[6001180313,"THORPDALE-KYABRAM (02)","BD0-009 ","BD0",235.63000488281301]
[6001187320,"PARINGA-JASMINE (01)","BD0-004 ","BD0",235.83999633789099]
[6001127375,"BICENTENNIAL-GUNBOWER (02)","BD0-004 ","BD0",236]
[6001189098,"PASCOE VALE-BENDOC (01)","BD0-014 ","BD0",236.08999633789099]
[6001346967,"YEA-KIEWA (02)","BD0-011 ","BD0",236.30999755859401]
[6001430998,"CUTHBERT-GOULBURN (01)","BD0-011 ","BD0",236.39999389648401]
[6001235855,"TARCOOLA-PINNAROO (01)","BD0-004 ","BD0",236.61000061035199]
[6001241674,"KILLARA-GLENBARRY 2 (00)","BD0-008 ","BD0",236.69000244140599]
[6001309271,"HUMESIDE-CLARISSA (02)","BD0-016 ","BD0",236.88999938964801]
[6001194241,"ELLESMERE-CARRICK (01)","BD0-007 ","BD0",236.96000671386699]
[6001189453,"COLBERT-BARRY (01)","BD0-016 ","BD0",237.10000610351599]
[6001199116,"KILLARA-BARRY 2 (02)","BD0-008 ","BD0",237.22000122070301]
[6001229157,"PARINGA-JASMINE (03)","BD0-004 ","BD0",237.330001831055]
[6001293709,"RANDOR 23-LARA (02)","BD0-008 ","BD0",237.44999694824199]
[6001208473,"NICHOLSON-GREEN VALLEY (03)","BD0-004 ","BD0",237.60000610351599]
[6001335294,"MAFFRA P79-LISA (01)","BD0-001 ","BD0",237.71000671386699]
[6001256270,"KILLARA 92-GLENBARRY (03)","BD0-008 ","BD0",237.919998168945]
[6001300625,"PASCOE-BLACK (02)","BD0-007 ","BD0",237.97000122070301]
[6001291329,"HUME-JESICA 1 (00)","BD0-013 ","BD0",238.19999694824199]
[6001181031,"YINNAR-BARRY (01)","BD0-007 ","BD0",238.27999877929699]
[6001038052,"MALCOLM-SARAH NO 2 (00)","BD0-016 ","BD0",238.580001831055]
[6001184308,"ROKEWOOD-YEO (01)","BD0-014 ","BD0",238.669998168945]
[6001189495,"PAULSON-HORNE (03)","BD0-016 ","BD0",239]
[6001179172,"JOFFRE-KITCHENER (02)","BD0-011 ","BD0",239.14999389648401]
[6001214524,"HUME-JESICA 1 (00)","BD0-013 ","BD0",239.330001831055]
[6001309671,"RANDOR 55-LARA (01)","BD0-008 ","BD0",239.5]
[6001642019,"MALCOLM-ARI (00)","BD0-016 ","BD0",239.69999694824199]
[6001011150,"KARNAK-PEARSON (03)","BD0-009 ","BD0",239.83999633789099]
[6001545690,"TAGGERTY-MELWOOD (01)","BD0-014 ","BD0",240.30000305175801]
[6001275559,"MEROLA-FREEMAN (02)","BD0-013 ","BD0",240.69000244140599]
[6001182008,"YEA-KIEWA (02)","BD0-011 ","BD0",241.5]
[6001189428,"GLENBARRY 9-KILLARA (03)","BD0-008 ","BD0",242.13000488281301]
[6001179567,"COBDEN-BARRY (01)","BD0-008 ","BD0",243]
[6001295013,"LARA 67-RANDOR (02)","BD0-008 ","BD0",243.55999755859401]
[6001320495,"MERRI LOT 385-PRODUCTION (01)","BD0-008 ","BD0",245.17999267578099]
[6001182345,"SUNSET-PASCOE VALE (02)","BMS-023 ","BMS",218.44000244140599]
[6001432442,"LANDY-LICHFIELD (01)","BMS-023 ","BMS",222.92999267578099]
[6001247341,"MERRICKS-ROSEBUD (02)","BMS-023 ","BMS",225.88000488281301]
[6001177075,"CHEVIOT-KALGOORLIE (02)","BMS-021 ","BMS",226.669998168945]
[6001176922,"MAHONEYS-KATHRYN (02)","BMS-021 ","BMS",228.830001831055]
[6001178553,"ELLIOT-GRAHAM (02)","BMS-012 ","BMS",230.38999938964801]
[6001224394,"ONSLOW-MAHONEYS 2 (01)","BMS-021 ","BMS",231.86999511718801]
[6001432519,"GRAHAM-GIBSON (02)","BMS-023 ","BMS",232.67999267578099]
[6001182878,"LORRAINE-JOHNSTONE (02)","BMS-023 ","BMS",233.71000671386699]
[6001014486,"HENDRICKS-LORRAINE (02)","BMS-023 ","BMS",234.41000366210901]
[6001297102,"CAMPBELL-STURIS (01)","BMS-023 ","BMS",235.44000244140599]
[6001177033,"CHEVIOT-KALGOORLIE (01)","BMS-021 ","BMS",236]
[6001447058,"JENSEN-CAMP (03)","BMS-012 ","BMS",237.33999633789099]
[6001330809,"TRETHOWAN-SMILEY (03)","BMS-012 ","BMS",237.53999328613301]
[6001578114,"JENSEN-CAMP (03)","BMS-012 ","BMS",238.5]
[6001517418,"TRETHOWAN-SMILEY (03)","BMS-012 ","BMS",239]
[6001325735,"PEARCEDALE-JOHNSTONE (03)","BMS-012 ","BMS",239.80000305175801]
[6001514152,"FREELAND-ELEANOR (01)","BMS-023 ","BMS",240.39999389648401]
[6001280826,"WINCHESTER-WHARTON (03)","BMS-025 ","BMS",240.85000610351599]
[6001010816,"STAMFORD-ACADEMY (03)","BMS-025 ","BMS",241.39999389648401]
[6001178457,"TRETHOWAN-SMILEY (04)","BMS-012 ","BMS",241.89999389648401]
[6001323115,"NEPEAN-FREDA (01)","BMS-023 ","BMS",242.63999938964801]
[6001018212,"PASCOE VALE1100-DIMBOOLA (01)","BMS-012 ","BMS",244.30000305175801]
[6001161781,"DOYLE-NORTH (02)","BY0-011 ","BY0",207.24000549316401]
[6001564089,"DOYLE-RIDLEY (01)","BY0-014 ","BY0",210]
[6001399128,"WOOD-SYDNEY 2 (01)","BY0-014 ","BY0",211.22999572753901]
[6001197959,"INTERVALE-ARCADE (02)","BY0-011 ","BY0",213.74000549316401]
[6001565790,"DOYLE-RIDLEY (01)","BY0-014 ","BY0",214.5]
[6001349650,"LANGHAM-CANNING (02)","BY0-014 ","BY0",216.63999938964801]
[6001419476,"HARGREAVES-LILY (03)","BY0-011 ","BY0",217.00999450683599]
[6001060905,"ROSAMOND-RIVER (01)","BY0-013 ","BY0",217.86999511718801]
[6001161342,"ARVERN MEDFIELD No.2 (01)","BY0-014 ","BY0",218.75999450683599]
[6001569048,"LACY-CANNING (04)","BY0-014 ","BY0",219.5]
[6001538282,"MONTPELLIER-BORDEAUX (01)","BY0-014 ","BY0",220.10000610351599]
[6001066366,"DOYLE-NORTH (02)","BY0-011 ","BY0",220.919998168945]
[6001160910,"RIVIERA-MILLEARA (01)","BY0-014 ","BY0",221.42999267578099]
[6001246977,"TEMPLEWOOD-WEYBURN (04)","BY0-014 ","BY0",222.080001831055]
[6001161219,"ROGERSON-THOMPSON (01)","BY0-011 ","BY0",222.60000610351599]
[6001160174,"ARCADE-SOUTH GATEWAY (01)","BY0-011 ","BY0",223.330001831055]
[6001339587,"ATHOL-EAST (03)","BY0-011 ","BY0",223.53999328613301]
[6001161161,"TEMPLEWOOD-WEYBURN (01)","BY0-014 ","BY0",224.32000732421901]
[6001160480,"RIVIERA-MILLEARA (02)","BY0-014 ","BY0",224.53999328613301]
[6001160873,"DAVIS-MILITARY (02)","BY0-014 ","BY0",225.22999572753901]
[6001513032,"KINNEAR-GORDON (02)","BY0-012 ","BY0",225.69999694824199]
[6001242112,"KINNEAR-GORDON (02)","BY0-012 ","BY0",226.11000061035199]
[6001060883,"KELLAWAY-ROSAMOND (02)","BY0-013 ","BY0",226.44000244140599]
[6001161569,"GLENCARA-CANNING (01)","BY0-014 ","BY0",226.82000732421901]
[6001061300,"JACKSON-THOMSON (02)","BY0-011 ","BY0",226.86999511718801]
[6001160005,"RIDGE-NORTH (02)","BY0-011 ","BY0",227.60000610351599]
[6001160959,"TEMPLEWOOD-MILGATE (01)","BY0-014 ","BY0",227.82000732421901]
[6001050376,"MACPHERSON-SHEPHERD (02)","BY0-012 ","BY0",228.30000305175801]
[6001521473,"VINE-SHEPHERD (04)","BY0-011 ","BY0",228.5]
[6001614269,"MACPHERSON-SHEPHERD (01)","BY0-012 ","BY0",228.89999389648401]
[6001161122,"TEMPLEWOOD-FENWICK (01)","BY0-014 ","BY0",229.05999755859401]
[6001161964,"ROGERSON-THOMPSON (02)","BY0-011 ","BY0",229.30000305175801]
[6001482196,"BOTANY-RIVERLEN (03)","BY0-014 ","BY0",229.60000610351599]
[6001611208,"ARVERN MEDFIELD No.2 (02)","BY0-014 ","BY0",229.80000305175801]
[6001062299,"CLARENDON-WHITTAKER (02)","BY0-015 ","BY0",230.08999633789099]
[6001326986,"SUNNYBANK-RIVERBEND (01)","BY0-011 ","BY0",230.32000732421901]
[6001264700,"CLARENDON-WHITTAKER (03)","BY0-015 ","BY0",230.580001831055]
[6001587480,"CARLTON-DARNLEY (03)","BY0-011 ","BY0",230.69999694824199]
[6001013091,"WOOD-BROWN (01)","BY0-011 ","BY0",231.02000427246099]
[6001323424,"JERROLD-GORDON (03)","BY0-012 ","BY0",231.24000549316401]
[6001047331,"SHEPHERD-GORDON (01)","BY0-012 ","BY0",231.58999633789099]
[6001161005,"TEMPLEWOOD-MILGATE (03)","BY0-014 ","BY0",231.77000427246099]
[6001161021,"TEMPLEWOOD-MILGATE (04)","BY0-014 ","BY0",232.13000488281301]
[6001160445,"RIVIERA-MILLEARA (04)","BY0-014 ","BY0",232.33999633789099]
[6001331407,"CLARENDON-WHITTAKER (02)","BY0-015 ","BY0",232.89999389648401]
[6001287249,"SLOANE-ROSAMOND No.2 (03)","BY0-014 ","BY0",233]
[6001160678,"CHARMAINE-MONTPELLIER (02)","BY0-014 ","BY0",233.25]
[6001264570,"CRANWELL-ANNESLEY (02)","BY0-015 ","BY0",233.61999511718801]
[6001305853,"CLARENDON-MILITARY (00)","BY0-014 ","BY0",234.10000610351599]
[6001061045,"LYONS-ROSAMOND (03)","BY0-012 ","BY0",234.5]
[6001552331,"HAVELOCK-CATHCART (02)","BY0-012 ","BY0",234.80000305175801]
[6001336278,"SUNNYBANK-RIVERBEND (06)","BY0-011 ","BY0",235.17999267578099]
[6001469225,"ARVERN MEDFIELD No.2 (01)","BY0-014 ","BY0",235.50999450683599]
[6001065705,"OMAR-MITCHELL (02)","BY0-015 ","BY0",235.92999267578099]
[6001161629,"WOOD-RAGLAN (01)","BY0-014 ","BY0",236.22000122070301]
[6001162120,"WOOD-BROWN (01)","BY0-011 ","BY0",236.330001831055]
[6001321487,"LOMANDRA-MYRTLE (02)","BY0-015 ","BY0",237.02000427246099]
[6001160297,"THOMPSON-NORTH (01)","BY0-011 ","BY0",237.32000732421901]
[6001049911,"JERROLD-GORDON (01)","BY0-012 ","BY0",237.83999633789099]
[6001065740,"GILBERT-ERROL (02)","BY0-011 ","BY0",238.03999328613301]
[6001012470,"JERROLD-GORDON (03)","BY0-012 ","BY0",238.71000671386699]
[6001268661,"RAYNER-GORDON (01)","BY0-012 ","BY0",238.94000244140599]
[6001460019,"MAVIS-BALLARAT (03)","BY0-012 ","BY0",239.89999389648401]
[6001230325,"ASHLEY-BRAYBROOK SHOPPING CENTRE (00)","BY0-015 ","BY0",241.50999450683599]
[6001095929,"SPRATLING-HENTY (03)","CN0-007 ","CN0",206.91000366210901]
[6001391272,"ESSEX-DOWNS (02)","CN0-005 ","CN0",207.72999572753901]
[6001242577,"MAJOR-HUME (04)","CN0-004 ","CN0",208.85000610351599]
[6001040878,"TONKIN-MASHOOBRA (01)","CN0-005 ","CN0",209.55999755859401]
[6001020870,"EAST-THACKERAY (01)","CN0-011 ","CN0",210.67999267578099]
[6001174865,"WINN-MAJOR (02)","CN0-010 ","CN0",211.30999755859401]
[6001302788,"GOULBURN-SHAND (04)","CN0-011 ","CN0",212.36999511718801]
[6001175951,"DENYS-GLYNDA (02)","CN0-010 ","CN0",212.75]
[6001435989,"GILBANK-GILBERT (02)","CN0-007 ","CN0",213.669998168945]
[6001037074,"ATHOL-SHORTS (01)","CN0-005 ","CN0",213.97999572753901]
[6001100520,"AMEILY-LEAMINGTON (01)","CN0-011 ","CN0",214.75999450683599]
[6001041224,"DIXON-DERBY (01)","CN0-005 ","CN0",215.25999450683599]
[6001173935,"MARJORY-MCBRYDE (03)","CN0-006 ","CN0",215.27000427246099]
[6001041562,"GYLES-ESSEX (01)","CN0-005 ","CN0",215.72999572753901]
[6001545668,"DOROTHY-ALEC (02)","CN0-004 ","CN0",216.60000610351599]
[6001100550,"AMEILY-LEAMINGTON (01)","CN0-011 ","CN0",216.67999267578099]
[6001446767,"DENYS-GLYNDA (02)","CN0-010 ","CN0",217.02000427246099]
[6001384711,"PITT-MAJOR (03)","CN0-006 ","CN0",217.5]
[6001173976,"JUNE-MCBRYDE (01)","CN0-006 ","CN0",217.85000610351599]
[6001103028,"ALEXANDRA-NORTHERNHAY (02)","CN0-011 ","CN0",218.44000244140599]
[6001344312,"JUKES-LANIGAN (03)","CN0-010 ","CN0",218.61000061035199]
[6001175535,"JUKES-HUME (02)","CN0-004 ","CN0",219.11000061035199]
[6001321085,"WILKINSON-BENDIGO (02)","CN0-011 ","CN0",219.42999267578099]
[6001103137,"ALEXANDRA-NORTHERNHAY (02)","CN0-011 ","CN0",219.80000305175801]
[6001095026,"GRANDVIEW-MURRAY (02)","CN0-008 ","CN0",220.08999633789099]
[6001234088,"CHARLES-BENAMBRA (01)","CN0-008 ","CN0",220.419998168945]
[6001093333,"FETTLING-COOPER (02)","CN0-008 ","CN0",220.72999572753901]
[6001550084,"TONKIN-SUSSEX (04)","CN0-005 ","CN0",221]
[6001101102,"WHITBY-BARTON (02)","CN0-011 ","CN0",221.30999755859401]
[6001637513,"SURREY-ESSEX (01)","CN0-005 ","CN0",221.60000610351599]
[6001251571,"PALLETT-ULM (02)","CN0-005 ","CN0",221.75999450683599]
[6001471158,"PITT-MAJOR (02)","CN0-006 ","CN0",222.10000610351599]
[6001459521,"SHEPPARD-SHORTS (02)","CN0-005 ","CN0",222.27000427246099]
[6001638062,"FETTLING-COOPER (02)","CN0-008 ","CN0",222.60000610351599]
[6001175244,"WILLIAM-JUKES (01)","CN0-010 ","CN0",222.77000427246099]
[6001022495,"TUCKER-LYNCH (02)","CN0-010 ","CN0",222.97000122070301]
[6001174256,"JAMES-MAJOR (02)","CN0-006 ","CN0",223.27000427246099]
[6001029725,"MORRIS-MCMAHONS (02)","CN0-008 ","CN0",223.47000122070301]
[6001388694,"QUEENS-PRINCESS (02)","CN0-004 ","CN0",223.77000427246099]
[6001042091,"WINDSOR-DERBY (01)","CN0-005 ","CN0",224]
[6001173474,"BERRY-LORNE (02)","CN0-010 ","CN0",224.25999450683599]
[6001039096,"ARTHUR-ELIZABETH (03)","CN0-003 ","CN0",224.67999267578099]
[6001097020,"CAROLE JOY-SPRING (01)","CN0-007 ","CN0",224.72000122070301]
[6001239732,"ARGYLE-PRINCESS (01)","CN0-004 ","CN0",225.17999267578099]
[6001321496,"MOORE-HENTY (02)","CN0-007 ","CN0",225.24000549316401]
[6001299206,"ALEXANDRA-NORTHERNHAY (02)","CN0-011 ","CN0",225.63999938964801]
[6001308972,"MARJORY-MCBRYDE (01)","CN0-006 ","CN0",225.72000122070301]
[6001092184,"BIRDWOOD-REGENT (02)","CN0-003 ","CN0",226.14999389648401]
[6001256575,"MASON-HIGH (03)","CN0-007 ","CN0",226.36000061035199]
[6001220019,"STANFORD-NORTH WEALD (03)","CN0-004 ","CN0",226.69000244140599]
[6001097100,"EDGAR-HIGH (01)","CN0-007 ","CN0",226.83999633789099]
[6001545538,"HEMBURROW-HARDY (01)","CN0-008 ","CN0",227.10000610351599]
[6001043292,"GYLES-ESSEX (04)","CN0-005 ","CN0",227.19999694824199]
[6001294860,"LILY-SUSSEX (01)","CN0-005 ","CN0",227.39999389648401]
[6001090647,"DORRINGTON-PLENTY (02)","CN0-011 ","CN0",227.57000732421901]
[6001514171,"JUKES-HUME (01)","CN0-004 ","CN0",227.80000305175801]
[6001019575,"DORRINGTON-PLENTY (02)","CN0-011 ","CN0",227.99000549316401]
[6001099295,"HARBURY-EDWARDES (03)","CN0-011 ","CN0",228.22999572753901]
[6001175429,"JUKES-HUME (01)","CN0-004 ","CN0",228.36999511718801]
[6001420946,"TILLEY-ELIZABETH (04)","CN0-003 ","CN0",228.60000610351599]
[6001233620,"UNION-GILBERT (02)","CN0-003 ","CN0",228.74000549316401]
[6001443971,"HARBURY-EDWARDES (01)","CN0-011 ","CN0",228.86999511718801]
[6001428518,"LOWSON-MINONA (02)","CN0-010 ","CN0",229.08999633789099]
[6001334534,"PERCY-LYNCH (01)","CN0-006 ","CN0",229.19000244140599]
[6001345314,"EDGAR-HIGH (01)","CN0-007 ","CN0",229.49000549316401]
[6001253714,"JUKES-BONWICK (02)","CN0-010 ","CN0",229.55999755859401]
[6001103128,"ALEXANDRA-NORTHERNHAY (02)","CN0-011 ","CN0",229.74000549316401]
[6001272640,"GYLES-ESSEX (03)","CN0-005 ","CN0",229.919998168945]
[6001456949,"GLOUCESTER-HENTY (02)","CN0-007 ","CN0",230.08999633789099]
[6001406463,"RONALD-DANTHONIA (01)","CN0-008 ","CN0",230.22999572753901]
[6001015510,"BECCLES-ANDERSON (03)","CN0-006 ","CN0",230.44999694824199]
[6001096850,"OLIVE-VIOLA (01)","CN0-007 ","CN0",230.58999633789099]
[6001038473,"WHITTON-BOYNE (02)","CN0-008 ","CN0",230.78999328613301]
[6001175916,"DENYS-GLYNDA (01)","CN0-010 ","CN0",230.91000366210901]
[6001096186,"BONVIEW-HENTY (01)","CN0-007 ","CN0",231.22999572753901]
[6001399909,"STANFORD-NORTH WEALD (01)","CN0-004 ","CN0",231.30000305175801]
[6001309152,"MAHER-HUME (01)","CN0-004 ","CN0",231.57000732421901]
[6001411642,"APERTURE-RED BOX (05)","CN0-003 ","CN0",231.66000366210901]
[6001295123,"PINE-HENTY (01)","CN0-007 ","CN0",231.91000366210901]
[6001419903,"WIMMERA-NORTH (02)","CN0-011 ","CN0",232.05999755859401]
[6001385635,"APERTURE-RED BOX (01)","CN0-003 ","CN0",232.22000122070301]
[6001221924,"PINE-HENTY (01)","CN0-007 ","CN0",232.36999511718801]
[6001526704,"EDWARDES-BEST (03)","CN0-011 ","CN0",232.5]
[6001206957,"EDGAR-HIGH (01)","CN0-007 ","CN0",232.69000244140599]
[6001096290,"SPRATLING-HENTY (02)","CN0-007 ","CN0",232.82000732421901]
[6001174519,"MAJOR-OSULLIVAN (02)","CN0-010 ","CN0",233.00999450683599]
[6001300330,"GEORGE-HENTY (02)","CN0-007 ","CN0",233.16000366210901]
[6001385681,"ROUSE-SNAPSHOT (01)","CN0-008 ","CN0",233.24000549316401]
[6001537258,"LYNCH-HUME (02)","CN0-004 ","CN0",233.5]
[6001486099,"BYFIELD-EDWARDES (02)","CN0-011 ","CN0",233.60000610351599]
[6001176600,"DOROTHY-ALEC (02)","CN0-004 ","CN0",233.75999450683599]
[6001311779,"HOCKING 25-PALLETT (02)","CN0-002 ","CN0",233.96000671386699]
[6001020470,"KNOX-GILBERT (01)","CN0-007 ","CN0",234.11000061035199]
[6001236502,"LOCKSLEY-KINSALE (01)","CN0-007 ","CN0",234.32000732421901]
[6001175424,"JUKES-HUME (01)","CN0-004 ","CN0",234.5]
[6001398584,"ROUSE-SNAPSHOT (03)","CN0-008 ","CN0",234.67999267578099]
[6001405325,"ROUSE-SNAPSHOT (04)","CN0-008 ","CN0",234.88999938964801]
[6001123344,"EDWARDES-BANBURY (03)","CN0-011 ","CN0",235.05999755859401]
[6001175545,"JUKES-HUME (02)","CN0-004 ","CN0",235.39999389648401]
[6001039268,"TRADE-NEWLANDS (02)","CN0-002 ","CN0",235.42999267578099]
[6001176910,"HUME 1427-CAMP (01)","CN0-004 ","CN0",235.80999755859401]
[6001037586,"MATHIESON-SYDNEY (03)","CN0-005 ","CN0",235.91000366210901]
[6001268548,"NORFOLK 34-NEWLANDS (02)","CN0-008 ","CN0",236.38000488281301]
["VDDD001185","LAKESIDE 28-BROADHURST (02)","CN0-011 ","CN0",236.61000061035199]
[6001003934,"HUME 1427-CAMP (02)","CN0-004 ","CN0",236.97000122070301]
[6001333574,"POWELL-ROBINSON (01)","CN0-007 ","CN0",237.14999389648401]
[6001029077,"GOLEEN-SYDNEY (03)","CN0-002 ","CN0",237.19999694824199]
[6001045089,"LAKESIDE-THROWER (01)","CN0-011 ","CN0",237.77999877929699]
[6001036707,"BAKERS 100-AUDREY (02)","CN0-005 ","CN0",238.11000061035199]
[6001041843,"DERBY 122-ESSEX (01)","CN0-005 ","CN0",238.30999755859401]
[6001036704,"BAKERS 100-AUDREY (02)","CN0-005 ","CN0",238.71000671386699]
[6001307786,"HOCKING-GUILFOYLE (01)","CN0-002 ","CN0",239.05999755859401]
[6001207475,"ARGYLE-PRINCESS (03)","CN0-004 ","CN0",239.80000305175801]
[6001288542,"TILLEY-ELIZABETH (01)","CN0-003 ","CN0",240.25999450683599]
[6001374401,"NAPOLI-SAN MARCO (03)","COO-023 ","COO",211.60000610351599]
[6001192333,"KONAGADERRA-BARDWELL (00)","COO-012 ","COO",213.83999633789099]
[6001384202,"BELLINI-TAORMINA (04)","COO-023 ","COO",215.92999267578099]
[6001371493,"BELLINI-TAORMINA (03)","COO-023 ","COO",217.80000305175801]
[6001409479,"PRISTINE-ALLURE (04)","COO-023 ","COO",218.57000732421901]
[6001278005,"CASTLEHILL-HELMSDALE (03)","COO-022 ","COO",219.46000671386699]
[6001487389,"HELENIC-CARROLL (03)","COO-023 ","COO",219.80000305175801]
[6001191985,"LANGTON-GREENVALE (02)","COO-023 ","COO",220.47999572753901]
[6001366006,"BOLOGNA-PAVIA (03)","COO-023 ","COO",220.97000122070301]
[6001366053,"BOLOGNA-PAVIA (05)","COO-023 ","COO",221.5]
[6001411570,"HONEY FLOWER-SUNDEW (02)","COO-023 ","COO",221.83999633789099]
[6001332534,"ANNADALE-KIRKHAM (02)","COO-022 ","COO",222.330001831055]
[6001327203,"HANNAM-BICKERTON (01)","COO-022 ","COO",222.63999938964801]
[6001212865,"ARNCLIFFE-WATERHOUSE (01)","COO-023 ","COO",223.080001831055]
[6001295156,"HARTLEY-GREENVALE (03)","COO-023 ","COO",223.30999755859401]
[6001272358,"ANNADALE-KIRKHAM (04)","COO-022 ","COO",223.88000488281301]
[6001410767,"STEINBECK-DONATELLO (03)","COO-023 ","COO",223.96000671386699]
[6001499041,"ADLINGTON-ARRAMONT (04)","COO-023 ","COO",224.39999389648401]
[6001022784,"BAGE-STILLWELL (01)","COO-022 ","COO",224.57000732421901]
[6001438644,"MIETTA-LAVINIA (02)","COO-023 ","COO",224.97999572753901]
[6001410585,"ARKOSE-GRANGE (01)","COO-023 ","COO",225.21000671386699]
[6001475885,"CANDY-SASH (01)","COO-023 ","COO",225.44999694824199]
[6001409490,"PRISTINE-ALLURE (04)","COO-023 ","COO",225.69000244140599]
[6001374455,"NAPOLI-VERONA (01)","COO-023 ","COO",225.89999389648401]
[6001410523,"STEINBECK-DONATELLO (01)","COO-023 ","COO",226.11000061035199]
[6001221259,"HADDINGTON-DRUMMOND (01)","COO-022 ","COO",226.30999755859401]
[6001213072,"NORMANBY-MCMILLAN (03)","COO-022 ","COO",226.53999328613301]
[6001223062,"HEVERSHAM-BIRTLEY (04)","COO-011 ","COO",226.71000671386699]
[6001463544,"LARAMIE-BONDS (01)","COO-023 ","COO",226.82000732421901]
[6001205173,"BLACKWELLS LA-P2 (00)","COO-012 ","COO",227.10000610351599]
[6001374293,"PLAZA-HINTER (03)","COO-024 ","COO",227.19000244140599]
[6001227120,"MUIRHEAD-ARKLEY (01)","COO-022 ","COO",227.36000061035199]
[6001374513,"NAPOLI-VERONA (05)","COO-023 ","COO",227.57000732421901]
[6001393438,"NAPOLI-VERONA (05)","COO-023 ","COO",227.74000549316401]
[6001448251,"SAYDA-VERDANT (01)","COO-023 ","COO",228]
[6001505657,"MATTINA-BRENDAN (04)","COO-023 ","COO",228.19999694824199]
[6001511683,"MATTINA-BRENDAN (04)","COO-023 ","COO",228.39999389648401]
[6001259748,"SUMMIT-CAPTAIN PEARSON (01)","COO-011 ","COO",228.64999389648401]
[6001220197,"COLLETT-ROSSITER (01)","COO-024 ","COO",228.85000610351599]
[6001215325,"KIRWAN-ST CLAIR (04)","COO-024 ","COO",229.08999633789099]
[6001191584,"GREENVALE-MICKLEHAM (01)","COO-011 ","COO",229.28999328613301]
[6001192393,"OAKLANDS RD-P46E2 (00)","COO-012 ","COO",229.55999755859401]
[6001183365,"BOYDEN-PARER (02)","COO-024 ","COO",229.64999389648401]
[6001301070,"KONAGADERRA RD P51E4 (00)","COO-012 ","COO",229.97999572753901]
[6001411061,"EVERGLADE-ARENA (03)","COO-022 ","COO",230.13999938964801]
[6001428410,"WESTBURY-YENGO (01)","COO-024 ","COO",230.17999267578099]
[6001377227,"WATER FERN-BUTTERCUP (04)","COO-023 ","COO",230.55000305175801]
[6001019034,"AMBLESIDE-MOTHERWELL (02)","COO-023 ","COO",230.58999633789099]
[6001266205,"LOEMANS RD-P174 (00)","COO-012 ","COO",230.75]
[6001205149,"SOMERTON RD-P112 (00)","COO-012 ","COO",230.94999694824199]
[6001411385,"PROSPERITY-ARENA (03)","COO-022 ","COO",231.13999938964801]
[6001426971,"PEAK-AMBITION (03)","COO-023 ","COO",231.32000732421901]
[6001487918,"PONY-TAO (01)","COO-023 ","COO",231.60000610351599]
[6001415265,"BLOOM-MYOORA (04)","COO-023 ","COO",231.86999511718801]
[6001468054,"CARAT- BLOSSOM (02)","COO-023 ","COO",232]
[6001205036,"GREEN-REC TELSTRA (01)","COO-012 ","COO",232.25999450683599]
[6001426864,"GREENHAVEN-MARQUEE (03)","COO-023 ","COO",232.36999511718801]
[6001244302,"BOYDEN-PARER (02)","COO-024 ","COO",232.53999328613301]
[6001265531,"ROXBURGH-MCKENZIE (03)","COO-024 ","COO",232.77000427246099]
[6001126334,"BREARLEY-MCINTYRE (03)","COO-024 ","COO",232.92999267578099]
[6001267434,"PALAMINO VALLEY-SAINSBURY (01)","COO-022 ","COO",233.169998168945]
[6001214921,"REARDEN-PARKER (03)","COO-024 ","COO",233.36000061035199]
[6001191507,"MICKLEHAM RD-P0162 (00)","COO-011 ","COO",233.57000732421901]
[6001447545,"STEINBECK-LEMONWOOD (05)","COO-023 ","COO",233.69999694824199]
[6001023232,"BRADFORD-KIRBY (02)","COO-023 ","COO",233.97000122070301]
[6001231567,"REYNOLDS-RAVENHILL (03)","COO-022 ","COO",234.19000244140599]
[6001280779,"REYNOLDS-RAVENHILL (03)","COO-022 ","COO",234.5]
[6001481919,"JAMES MIRAM-AITKEN (02)","COO-024 ","COO",234.67999267578099]
[6001455835,"HEIDI-MICKLEHAM (00)","COO-011 ","COO",235]
[6001468055,"CARAT- BLOSSOM (02)","COO-023 ","COO",235.19999694824199]
[6001473180,"STARBOARD-SEAFARERS (05)","COO-024 ","COO",235.39999389648401]
[6001411258,"EVERGLADE-ARENA (01)","COO-022 ","COO",235.75999450683599]
[6001221445,"ROXBURGH-MCKENZIE (01)","COO-024 ","COO",236.02999877929699]
[6001520254,"CIARA-BRENDAN (03)","COO-023 ","COO",236.5]
[6001223667,"PRENTICE-LINCOLNE (01)","COO-024 ","COO",237.08999633789099]
[6001545110,"BRILLIANT-EVERGLADE (01)","COO-022 ","COO",237.5]
[6001207568,"THE RIDGE-THOMAS (04)","COO-022 ","COO",237.94000244140599]
[6001480101,"JAMES MIRAM-AITKEN (02)","COO-024 ","COO",238.53999328613301]
[6001191424,"OAKLANDS-WOODLANDS (00)","COO-012 ","COO",239.21000671386699]
[6001230579,"RAVENHILL-KNIGHT (03)","COO-022 ","COO",239.44000244140599]
[6001375194,"SAHI-CLEELAND (01)","COO-024 ","COO",245.330001831055]
[6001042032,"ATTERCLIFFE-DERBY (03)","CS0-012 ","CS0",206.21000671386699]
[6001025178,"LEVER-QUEEN (03)","CS0-005 ","CS0",208.49000549316401]
[6001408214,"SHEFFIELD-COBURG (03)","CS0-009 ","CS0",209.19000244140599]
[6001025749,"GRAHAM-WOODLANDS (01)","CS0-005 ","CS0",210.38999938964801]
[6001251867,"MCDONALD-GAFFNEY (01)","CS0-012 ","CS0",210.97999572753901]
[6001031031,"REYNARD-PHILLIPS (01)","CS0-005 ","CS0",212.05999755859401]
[6001094481,"MOUNT-BELL (02)","CS0-003 ","CS0",212.50999450683599]
[6001127222,"IRVINE-GAFFNEY (02)","CS0-012 ","CS0",213.19999694824199]
[6001025815,"WARD-LOUISVILLE (01)","CS0-005 ","CS0",213.94000244140599]
[6001233350,"WARATAH-DERBY (02)","CS0-002 ","CS0",214.55000305175801]
[6001269743,"CRAMER-GILBERT (02)","CS0-003 ","CS0",215.07000732421901]
[6001028226,"GLADSTONE-HARDING (01)","CS0-008 ","CS0",215.71000671386699]
[6001025627,"LEVER-GORDON (01)","CS0-005 ","CS0",216.17999267578099]
[6001033674,"DAVERN-O'HEA (01)","CS0-002 ","CS0",216.80000305175801]
[6001093975,"GRANGE-CRAMER (01)","CS0-003 ","CS0",217.19000244140599]
[6001021963,"AUDLEY-WHITE (01)","CS0-005 ","CS0",217.5]
[6001032731,"SHACKELL-BELL (01)","CS0-002 ","CS0",218.11000061035199]
[6001093933,"GRANGE-CRAMER (02)","CS0-003 ","CS0",218.330001831055]
[6001272770,"AUDLEY-WHITE (02)","CS0-005 ","CS0",219.16000366210901]
[6001026745,"WINIFRED-REYNARD (01)","CS0-002 ","CS0",219.21000671386699]
[6001039852,"YORK-BELL (01)","CS0-002 ","CS0",219.52000427246099]
[6001030804,"MAYFIELD-MUNRO (02)","CS0-002 ","CS0",219.94000244140599]
[6001027720,"SHEFFIELD-COBURG (04)","CS0-009 ","CS0",220.25999450683599]
[6001252221,"MITCHELL-OAKOVER (02)","CS0-008 ","CS0",220.60000610351599]
[6001028342,"SHEFFIELD-COBURG (02)","CS0-009 ","CS0",220.96000671386699]
[6001033924,"RAY-O'HEA (02)","CS0-002 ","CS0",221.25999450683599]
[6001251161,"MCDONALD-GAFFNEY (01)","CS0-012 ","CS0",221.60000610351599]
[6001268436,"MURRAY-SUSSEX (01)","CS0-002 ","CS0",221.88000488281301]
[6001027496,"GLADSTONE-HARDING (01)","CS0-008 ","CS0",222.28999328613301]
[6001235667,"BOLINGBROKE-BURGUNDY (02)","CS0-002 ","CS0",222.39999389648401]
[6001373433,"PRINCES-WAVERLEY (02)","CS0-002 ","CS0",222.86999511718801]
[6001041969,"IRVINE-GAFFNEY (01)","CS0-012 ","CS0",223.10000610351599]
[6001028309,"CHAMBERS-HARDING (01)","CS0-008 ","CS0",223.44000244140599]
[6001023970,"COBURG-RENNIE (02)","CS0-009 ","CS0",223.69000244140599]
[6001576054,"BARROW-MOORE (02)","CS0-005 ","CS0",224]
[6001028123,"CHAMBERS-HARDING (01)","CS0-008 ","CS0",224.27000427246099]
[6001032260,"MITCHELL-HACKETT (02)","CS0-002 ","CS0",224.53999328613301]
[6001037361,"CAMPBELL-DE CARLE (01)","CS0-005 ","CS0",224.83999633789099]
[6001032041,"BREARLEY-BALMORAL (01)","CS0-002 ","CS0",225.10000610351599]
[6001044561,"KIRBISTER-GAFFNEY (01)","CS0-012 ","CS0",225.21000671386699]
[6001035882,"HOLROYD-O'HEA (01)","CS0-012 ","CS0",225.52000427246099]
[6001033374,"WATERFIELD 12-BELL (03)","CS0-003 ","CS0",225.67999267578099]
[6001028579,"ALVA-URQUHART (02)","CS0-003 ","CS0",226]
[6001033841,"LANSDOWNE-BELL (01)","CS0-002 ","CS0",226.19999694824199]
[6001032363,"GALLIPOLI-GEZIREH (03)","CS0-002 ","CS0",226.39999389648401]
[6001038117,"GOFF-ELIZABETH (01)","CS0-003 ","CS0",226.69999694824199]
[6001623204,"BRUCE-GILBERT (01)","CS0-003 ","CS0",226.89999389648401]
[6001227375,"PRINCES-WAVERLEY (02)","CS0-002 ","CS0",227.21000671386699]
[6001236299,"REYNARD-PHILLIPS (02)","CS0-005 ","CS0",227.39999389648401]
[6001317227,"THISTLE-HACKETT (03)","CS0-002 ","CS0",227.63999938964801]
[6001033726,"GREENWOOD-O'HEA (02)","CS0-002 ","CS0",228.02000427246099]
[6001031893,"BREARLEY-BALMORAL (02)","CS0-002 ","CS0",228.05000305175801]
[6001223749,"MOASCAR-GALLIPOLI (03)","CS0-002 ","CS0",228.5]
[6001390310,"REYNARD-DONNE (01)","CS0-005 ","CS0",228.55999755859401]
[6001307558,"ANDERSON-BOLINGBROKE (01)","CS0-002 ","CS0",228.96000671386699]
[6001035484,"MONTIFORE-O'HEA (03)","CS0-012 ","CS0",229.02000427246099]
[6001024535,"STATION-HALL (01)","CS0-005 ","CS0",229.419998168945]
[6001022974,"LYGON-MORELAND (02)","CS0-005 ","CS0",229.60000610351599]
[6001246527,"WOLSELEY-THE AVENUE (03)","CS0-005 ","CS0",229.66000366210901]
[6001030672,"BERRY-LOCH (02)","CS0-005 ","CS0",230.05999755859401]
[6001252409,"KIRBISTER-GAFFNEY (02)","CS0-012 ","CS0",230.30999755859401]
[6001002122,"LOUISA-MUNRO No. 1 (03)","CS0-003 ","CS0",230.44000244140599]
[6001023860,"RENNIE-GLENORA (02)","CS0-009 ","CS0",230.66000366210901]
[6001094623,"ROBESON-KENDALL (03)","CS0-008 ","CS0",230.85000610351599]
[6001095500,"ERIN-OAKOVER (02)","CS0-008 ","CS0",231.07000732421901]
[6001247498,"ROWAN-KENDALL (02)","CS0-008 ","CS0",231.25999450683599]
[6001024808,"WILLOW-LINDA (01)","CS0-005 ","CS0",231.52000427246099]
[6001509807,"LOBB-BELL (01)","CS0-003 ","CS0",231.69999694824199]
[6001446287,"HUDSON-BELL (02)","CS0-013 ","CS0",231.92999267578099]
[6001002189,"LENS-GAFFNEY (03)","CS0-012 ","CS0",232.08999633789099]
[6001027642,"BELGRAVE-HARDING (01)","CS0-008 ","CS0",232.19999694824199]
[6001288347,"O'HEA-CUMBERLAND (02)","CS0-002 ","CS0",232.39999389648401]
[6001030847,"DEAKIN-BERRY (01)","CS0-005 ","CS0",232.50999450683599]
[6001033336,"WELLINGTON-VICTORIA (01)","CS0-002 ","CS0",232.69999694824199]
[6001289812,"WOIWURUNG-O'RILEY (05)","CS0-013 ","CS0",232.80000305175801]
[6001090906,"BRUCE-GILBERT (01)","CS0-003 ","CS0",232.97000122070301]
[6001569228,"JESSIE-CRAMER (02)","CS0-003 ","CS0",233.11999511718801]
[6001297004,"HUTCHINSON-NICHOLSON (02)","CS0-008 ","CS0",233.27000427246099]
[6001028621,"BELGRAVE-HARDING (02)","CS0-008 ","CS0",233.38999938964801]
[6001013070,"LANSDOWNE-BELL (03)","CS0-002 ","CS0",233.57000732421901]
[6001545815,"KIRBISTER-GAFFNEY (03)","CS0-012 ","CS0",233.69999694824199]
[6001561215,"HUDSON 41-BELL (01)","CS0-013 ","CS0",233.89999389648401]
[6001467913,"BELL-MAIN (02)","CS0-013 ","CS0",234.07000732421901]
[6001297220,"TANDERUM-MANNA GUM (02)","CS0-013 ","CS0",234.38999938964801]
[6001033355,"RUSSELL-BELL NO 2 (04)","CS0-003 ","CS0",234.49000549316401]
[6001509886,"WOLSELEY-TELECOM (01)","CS0-005 ","CS0",234.80000305175801]
[6001040425,"KIRBISTER-GAFFNEY (03)","CS0-012 ","CS0",235.00999450683599]
[6001094596,"ERIN-OAKOVER (01)","CS0-008 ","CS0",235.30000305175801]
[6001028844,"KEITH-URQUHART (01)","CS0-003 ","CS0",235.5]
[6001033559,"SPRINGHALL-BELL (01)","CS0-002 ","CS0",235.74000549316401]
[6001039419,"MOORE-DE CARLE (01)","CS0-005 ","CS0",235.96000671386699]
[6001331096,"OLIVE-SYLVAN (02)","CS0-002 ","CS0",236.22000122070301]
[6001036419,"HOSSACK 11-CHARLES (01)","CS0-012 ","CS0",236.49000549316401]
[6001138431,"CHAMP-SYDNEY (02)","CS0-013 ","CS0",236.75999450683599]
[6001036420,"HOSSACK 11-CHARLES (01)","CS0-012 ","CS0",236.88000488281301]
[6001296475,"TANDERUM-MANNA GUM (03)","CS0-013 ","CS0",237.32000732421901]
[6001345439,"WARDENS-STOCKADE (03)","CS0-013 ","CS0",237.47000122070301]
[6001257062,"ERIC-ADA (01)","CS0-003 ","CS0",237.830001831055]
[6001035821,"GAFFNEY-HIGINBOTHAM (02)","CS0-012 ","CS0",238]
[6001415846,"GAFFNEY-CUMBERLAND (01)","CS0-012 ","CS0",238.19000244140599]
[6001032814,"VINCENT-BELL (02)","CS0-002 ","CS0",238.42999267578099]
[6001351494,"MOORE-SYDNEY (02)","CS0-005 ","CS0",238.61999511718801]
[6001024129,"MOORE-SYDNEY (02)","CS0-005 ","CS0",238.88000488281301]
[6001094600,"ERIN-OAKOVER (01)","CS0-008 ","CS0",239.10000610351599]
[6001439892,"MITCHELL-BELL (03)","CS0-002 ","CS0",239.41000366210901]
[6001258115,"BOND-ATHELSTANE (04)","EP0-036 ","EP0",206.169998168945]
[6001068152,"ATHELSTANE-ROBBINS (02)","EP0-036 ","EP0",209.80000305175801]
[6001371663,"MIHIL-VICTORIA (02)","EP0-037 ","EP0",213.13999938964801]
[6001308713,"WILKINSON-LIBERTY (03)","EP0-036 ","EP0",213.669998168945]
[6001207872,"JELLICOE-WATERDALE (02)","EP0-036 ","EP0",216.13000488281301]
[6001240884,"MELCOMBE-BANKSIA (02)","EP0-036 ","EP0",216.52000427246099]
[6001302404,"JELLICOE-WATERDALE (02)","EP0-036 ","EP0",217.27999877929699]
[6001070768,"MELCOMBE-BANKSIA (02)","EP0-036 ","EP0",219.25]
[6001343782,"DALVEEN-JELLICOE (01)","EP0-034 ","EP0",219.57000732421901]
[6001114163,"VICTORIA-FOLEY (02)","EP0-037 ","EP0",221.72999572753901]
[6001068331,"ORIEL-HAWKER (02)","EP0-034 ","EP0",221.89999389648401]
[6001114393,"ALBERT-DUNDAS (03)","EP0-033 ","EP0",224.03999328613301]
[6001427895,"BANKSIA-IRONBARK (03)","EP0-036 ","EP0",224.11999511718801]
[6001224906,"DALVEEN-JELLICOE (01)","EP0-034 ","EP0",225.75]
[6001427812,"RAGLAN-ASCOT (02)","EP0-037 ","EP0",227.21000671386699]
[6001087250,"WATERDALE-AILSA (02)","EP0-036 ","EP0",228.44999694824199]
[6001594766,"ALBERT-ALFRED (02)","EP0-035 ","EP0",230.80000305175801]
[6001596500,"ALBERT-ALFRED (02)","EP0-035 ","EP0",231.30000305175801]
[6001113373,"REX-CHIFLEY (01)","EP0-041 ","EP0",233.91000366210901]
[6001318725,"RAGLAN-CSIRO (00)","EP0-037 ","EP0",236.72000122070301]
[6001003046,"COPE-UCM 1 (02)","EP0-041 ","EP0",238.919998168945]
[6001541312,"ALBERT 8-14 FOLEY (01)","EP0-035 ","EP0",242.69999694824199]
[6001632043,"NICHOL-GOWER (01)","EPN-035 ","EPN",207.30000305175801]
[6001072743,"RAMU-ORIEL (01)","EPN-034 ","EPN",212.5]
[6001311840,"OUTHWAITE-MCEWAN (02)","EPN-033 ","EPN",215.05000305175801]
[6001405022,"SHEILA-MURRAY (01)","EPN-021 ","EPN",218.19999694824199]
[6001285013,"KATHLEEN-WOOD (01)","EPN-021 ","EPN",219.38000488281301]
[6001413227,"LLOYD-MONASH (01)","EPN-033 ","EPN",221.28999328613301]
[6001080422,"OUTHWAITE-WAIORA (02)","EPN-033 ","EPN",222.72000122070301]
[6001080870,"MONASH-BONAR (01)","EPN-033 ","EPN",224.30000305175801]
[6001112317,"NICHOL-GOWER (03)","EPN-035 ","EPN",225.169998168945]
[6001570017,"GOTHA-ST HELLIER (01)","EPN-033 ","EPN",226.58999633789099]
[6001509071,"PACIFIC-ALAMEIN (04)","EPN-034 ","EPN",227.30000305175801]
[6001475450,"ALTONA-KOKODA (03)","EPN-033 ","EPN",228.77999877929699]
[6001044861,"SOUTHERN-WAIORA (01)","EPN-033 ","EPN",229.00999450683599]
[6001089161,"OUTHWAITE-WAIORA (02)","EPN-033 ","EPN",229.57000732421901]
[6001495402,"WATERDALE-SOUTHERN (03)","EPN-033 ","EPN",230.60000610351599]
[6001080831,"LLOYD-MONASH (01)","EPN-033 ","EPN",231.580001831055]
[6001546350,"GOTHA-ST HELLIER (01)","EPN-033 ","EPN",232.19999694824199]
[6001071163,"LIBERTY-MOROBE (01)","EPN-034 ","EPN",232.86999511718801]
[6001631029,"PACIFIC-ALAMEIN (02)","EPN-034 ","EPN",233.5]
[6001112847,"RUBY-GOWER (03)","EPN-035 ","EPN",233.919998168945]
[6001513237,"SHAKESPEARE-BAMFIELD (02)","EPN-033 ","EPN",234.39999389648401]
[6001484709,"MULBERRY-GONA (03)","EPN-033 ","EPN",234.80000305175801]
[6001284066,"ASHE-O'KEEFE (02)","EPN-033 ","EPN",235.05000305175801]
[6001490688,"WATERDALE-SOUTHERN (02)","EPN-033 ","EPN",235.80000305175801]
[6001071264,"PERTH-ALAMEIN (01)","EPN-034 ","EPN",236.10000610351599]
[6001561099,"COLLINS-WATERDALE (01)","EPN-033 ","EPN",236.69999694824199]
[6001617167,"ASHE-O'KEEFE (01)","EPN-033 ","EPN",236.89999389648401]
[6001086052,"COOMALIE-TOBRUK (02)","EPN-033 ","EPN",237.27999877929699]
[6001625242,"BEATRICE-WATERDALE (01)","EPN-034 ","EPN",237.69999694824199]
[6001291629,"CHIFLEY 97-MURRAY (03)","EPN-021 ","EPN",238.07000732421901]
[6001479664,"HAIG-ELLIOTT (03)","EPN-033 ","EPN",238.50999450683599]
[6001112512,"NICHOL-GOWER (03)","EPN-035 ","EPN",238.86000061035199]
[6001351512,"COLLINS-WATERDALE (01)","EPN-033 ","EPN",239.19000244140599]
[6001419645,"CULVERLANDS-VEAR NO2 (02)","EPN-034 ","EPN",239.49000549316401]
[6001076681,"NORTHERN-KOLORA (01)","EPN-034 ","EPN",239.77000427246099]
[6001112645,"KENNETH-GOWER (02)","EPN-035 ","EPN",239.919998168945]
[6001418036,"HAIG-ELLIOTT (01)","EPN-033 ","EPN",240.64999389648401]
[6001076519,"MALACCA-WATERDALE (03)","EPN-033 ","EPN",240.96000671386699]
[6001229363,"ORIEL-TOBRUK (02)","EPN-033 ","EPN",242.16000366210901]
[6001487407,"MOROBE-ALAMEIN (03)","EPN-034 ","EPN",243.21000671386699]
[6001236917,"KORONG-LILLIMUR (03)","EPN-034 ","EPN",245.55999755859401]
[6001274496,"NORTHERN-WATERDALE (01)","EPN-034 ","EPN",245.72999572753901]
[6001511787,"MOUSHALL-NOLAN (01)","ES0-021 ","ES0",207.19999694824199]
[6001123824,"FLORENCE-LINCOLN (02)","ES0-016 ","ES0",207.42999267578099]
[6001135285,"DONCASTER-MYROSS (01)","ES0-022 ","ES0",208.33999633789099]
[6001313974,"EGLINTON-ARGYLE (02)","ES0-023 ","ES0",209.28999328613301]
[6001151042,"BULLA-DUBLIN (02)","ES0-025 ","ES0",210.169998168945]
[6001545305,"WASHINGTON-MILLER (02)","ES0-015 ","ES0",210.89999389648401]
[6001303361,"WASHINGTON-MILLER (02)","ES0-015 ","ES0",211.91000366210901]
[6001298496,"MARY-NIMMO (02)","ES0-016 ","ES0",212.77000427246099]
[6001136853,"EGLINTON-ARGYLE (01)","ES0-023 ","ES0",213.25]
[6001432096,"MOUSHALL-NOLAN (02)","ES0-021 ","ES0",213.41000366210901]
[6001351315,"FORRESTER-COOPER (01)","ES0-025 ","ES0",214.39999389648401]
[6001124643,"FLORENCE-LINCOLN (02)","ES0-016 ","ES0",214.88000488281301]
[6001150545,"OSHANNASSY-KERFERD (02)","ES0-025 ","ES0",215.60000610351599]
[6001165726,"BRADSHAW-MARY (02)","ES0-016 ","ES0",215.97999572753901]
[6001145020,"MCCARRON-FORRESTER (02)","ES0-015 ","ES0",216.5]
[6001415840,"BRADSHAW-MARY (03)","ES0-016 ","ES0",216.91000366210901]
[6001199673,"SHAMROCK-ROSE (03)","ES0-015 ","ES0",217.30999755859401]
[6001139463,"PARK-PENLEIGH (01)","ES0-015 ","ES0",217.63999938964801]
[6001495538,"CLYDEBANK-AFTON (01)","ES0-012 ","ES0",218.10000610351599]
[6001304012,"DERRY-ABERDEEN (04)","ES0-013 ","ES0",218.44000244140599]
[6001126327,"BRAEMAR-MCCRACKEN (02)","ES0-026 ","ES0",218.919998168945]
[6001143732,"FLOWER-BUCKLEY (03)","ES0-015 ","ES0",219.25]
[6001565496,"BRADSHAW-MARY (03)","ES0-016 ","ES0",219.69999694824199]
[6001305459,"ARTHUR-FAWKNER (01)","ES0-023 ","ES0",219.92999267578099]
[6001198397,"DONCASTER-WALTER (02)","ES0-022 ","ES0",220.19000244140599]
[6001425870,"TILBA-BRUNEL (03)","ES0-023 ","ES0",220.61999511718801]
[6001274589,"STANLEY-LESLIE (03)","ES0-015 ","ES0",220.86000061035199]
[6001222963,"SPENCER-COOPER (04)","ES0-025 ","ES0",221.27000427246099]
[6001146552,"BIRDWOOD-KEILOR (02)","ES0-011 ","ES0",221.58999633789099]
[6001013379,"FERGUSON-ROSEBERRY (01)","ES0-022 ","ES0",221.96000671386699]
[6001533603,"ALLAN-CLIFTON (02)","ES0-012 ","ES0",222.5]
[6001137468,"ATHOL-EDGAR (03)","ES0-023 ","ES0",222.52000427246099]
[6001136808,"EGLINTON-ARGYLE (02)","ES0-023 ","ES0",223.10000610351599]
[6001426458,"ARTHUR-FAWKNER (02)","ES0-023 ","ES0",223.16000366210901]
[6001587203,"FLOWER-BUCKLEY (01)","ES0-015 ","ES0",223.69999694824199]
[6001240600,"COOPER-KEILOR (02)","ES0-011 ","ES0",223.88999938964801]
[6001492212,"ALLAN-CLIFTON (03)","ES0-012 ","ES0",224]
[6001338631,"GARNET-IDA (03)","ES0-021 ","ES0",224.44000244140599]
[6001146285,"ARTHUR-FAWKNER (01)","ES0-023 ","ES0",224.53999328613301]
[6001134772,"THE PARADE-EPSOM (01)","ES0-013 ","ES0",225]
[6001227161,"MARKET-COLLINS (02)","ES0-026 ","ES0",225.30999755859401]
[6001164341,"GARNET-MURIEL (02)","ES0-021 ","ES0",225.47000122070301]
[6001139175,"PARK 20-MARGARET (02)","ES0-015 ","ES0",225.71000671386699]
[6001146390,"BUCKLEY-PRICE (02)","ES0-024 ","ES0",225.96000671386699]
[6001261751,"ROYAL-BULLA (01)","ES0-025 ","ES0",226.19000244140599]
[6001290387,"RENOWN-KERFERD (01)","ES0-025 ","ES0",226.41000366210901]
[6001482233,"STANLEY-LESLIE (03)","ES0-015 ","ES0",226.66000366210901]
[6001485130,"FLOWER-BUCKLEY (04)","ES0-015 ","ES0",226.89999389648401]
[6001456299,"MCCARRON-FORRESTER (02)","ES0-015 ","ES0",227.00999450683599]
[6001143201,"MT.ALEXANDER-THORN (03)","ES0-016 ","ES0",227.38000488281301]
[6001501412,"GILLIES-KEILOR (02)","ES0-025 ","ES0",227.5]
[6001144786,"LALUMA-MCCARRON (01)","ES0-016 ","ES0",227.88000488281301]
[6001216275,"OGILVIE-KEILOR (01)","ES0-011 ","ES0",227.97999572753901]
[6001309237,"CHARLES-EPSOM (01)","ES0-022 ","ES0",228.17999267578099]
[6001015362,"ROYAL-BULLA (03)","ES0-025 ","ES0",228.44000244140599]
[6001214821,"FORRESTER-COOPER (03)","ES0-025 ","ES0",228.63000488281301]
[6001198408,"FLORENCE-LINCOLN (02)","ES0-016 ","ES0",228.91000366210901]
[6001398057,"MT.ALEXANDER-THORN (01)","ES0-016 ","ES0",229.11000061035199]
[6001138592,"MILVERTON-HOLMES (02)","ES0-024 ","ES0",229.33999633789099]
[6001212643,"KEILOR-TREADWELL (02)","ES0-011 ","ES0",229.58999633789099]
[6001303670,"MADDEN-BULLA (04)","ES0-026 ","ES0",229.80999755859401]
[6001016215,"LEVIEN-COURT (03)","ES0-024 ","ES0",230.14999389648401]
[6001399538,"LINCOLN-LEAKE (01)","ES0-016 ","ES0",230.27000427246099]
[6001123903,"MOUSHALL-NOLAN (02)","ES0-021 ","ES0",230.66000366210901]
[6001212294,"NIMMO-BUCKLEY (00)","ES0-016 ","ES0",230.72999572753901]
[6001424979,"SYDENHAM-HOLMES (02)","ES0-024 ","ES0",231.13999938964801]
[6001014948,"THE PARADE-UNION (01)","ES0-022 ","ES0",231.35000610351599]
[6001288504,"SCOTT-BUCKLEY (03)","ES0-024 ","ES0",231.64999389648401]
[6001343728,"ARTHUR-FAWKNER (02)","ES0-023 ","ES0",231.86000061035199]
[6001164775,"SAPPHIRE-ROSEHILL (02)","ES0-012 ","ES0",232.16000366210901]
[6001398506,"DEAKIN-KEILOR (03)","ES0-011 ","ES0",232.46000671386699]
[6001337310,"DERBY-YORK (01)","ES0-024 ","ES0",232.77999877929699]
[6001151074,"WINDSOR-BULLA (01)","ES0-025 ","ES0",233.03999328613301]
[6001143402,"THORN-MT.ALEXANDER (01)","ES0-016 ","ES0",233.32000732421901]
[6001299487,"KEILOR 75-MCCRACKEN (03)","ES0-026 ","ES0",233.44999694824199]
[6001526667,"COOPER-KEILOR (02)","ES0-011 ","ES0",233.80000305175801]
[6001345143,"COLLINS-KEILOR (01)","ES0-026 ","ES0",233.97999572753901]
[6001144056,"KING-MCCRACKEN (03)","ES0-026 ","ES0",234.33999633789099]
[6001163178,"PROSPECT-BUCKLEY (01)","ES0-012 ","ES0",234.55000305175801]
[6001298596,"SCOTT-PARK (01)","ES0-013 ","ES0",234.78999328613301]
[6001463817,"MCCRACKEN-BUCKLEY (03)","ES0-024 ","ES0",235.13999938964801]
[6001392279,"DERRY-ABERDEEN (01)","ES0-013 ","ES0",235.42999267578099]
[6001224903,"DEAKIN-MARY (02)","ES0-021 ","ES0",235.82000732421901]
[6001325428,"BUCKLEY-SCOTT (03)","ES0-024 ","ES0",236.17999267578099]
[6001319394,"LEVIEN-COURT (02)","ES0-024 ","ES0",236.67999267578099]
[6001325421,"BUCKLEY-SCOTT (03)","ES0-024 ","ES0",237.10000610351599]
[6001223504,"DEAKIN-MARY (03)","ES0-021 ","ES0",237.83999633789099]
[6001552110,"FERGUSON-ROSEBERRY (02)","ES0-022 ","ES0",239]
[6001598181,"GREVILLE-KEILOR (02)","ES0-011 ","ES0",239.19999694824199]
[6001143717,"RUSSELL-BUCKLEY (02)","ES0-015 ","ES0",240.13999938964801]
[6001163210,"DEAKIN-BUCKLEY (01)","ES0-021 ","ES0",241.86000061035199]
[6001001805,"SCHILD-WILLIS (01)","FE0-012 ","FE0",210.919998168945]
[6001243809,"DEAN-FRANCIS (03)","FE0-012 ","FE0",218.55999755859401]
[6001291840,"WATT-THE AVENUE (01)","FE0-012 ","FE0",219.38000488281301]
[6001469400,"ALEXANDER-JOHN (01)","FE0-021 ","FE0",222.669998168945]
[6001241894,"BROWNING-GAMON (02)","FE0-021 ","FE0",223]
[6001050809,"RYAN-NICHOLSON (03)","FE0-022 ","FE0",225.24000549316401]
[6001051570,"PARKER-COWPER (01)","FE0-014 ","FE0",225.44000244140599]
[6001052231,"HAMILTON-O'FARRELL (01)","FE0-021 ","FE0",226.74000549316401]
[6001051627,"PARKER-COWPER (01)","FE0-014 ","FE0",227.42999267578099]
[6001050937,"DAWSON-BALLARAT (04)","FE0-014 ","FE0",228.02000427246099]
[6001327613,"MARY WALSH-EVELINE (03)","FE0-014 ","FE0",228.83999633789099]
[6001313481,"ESSEX-SWAN (01)","FE0-021 ","FE0",229.33999633789099]
[6001546343,"NEWELL-MOORE (02)","FE0-014 ","FE0",229.69999694824199]
[6001245510,"BAYVIEW-SOMERVILLE (01)","FE0-012 ","FE0",230.5]
[6001002291,"IRVING-NICHOLSON 2 (02)","FE0-015 ","FE0",230.80999755859401]
[6001303683,"REGATTA-WATERSIDE (04)","FE0-014 ","FE0",231.55000305175801]
[6001275131,"MARY WALSH-EVELINE (04)","FE0-014 ","FE0",231.86999511718801]
[6001301007,"COMMERCIAL-CATHERINE (01)","FE0-014 ","FE0",232.38999938964801]
[6001252640,"WOODS-AVOCA (03)","FE0-012 ","FE0",232.60000610351599]
[6001323122,"REGATTA-WATERSIDE (01)","FE0-014 ","FE0",232.96000671386699]
[6001049606,"KINNEAR-EMPIRE 1 (01)","FE0-014 ","FE0",233.33999633789099]
[6001052243,"O'FARRELL-WILLIAMSTOWN (02)","FE0-021 ","FE0",233.72000122070301]
[6001313758,"REGATTA-WATERSIDE (01)","FE0-014 ","FE0",234.05999755859401]
[6001327464,"JACKS-SKYLINE (03)","FE0-014 ","FE0",234.38999938964801]
[6001344692,"REGATTA-WATERSIDE (01)","FE0-014 ","FE0",234.69999694824199]
[6001047316,"SYDNEY-BARKLY (03)","FE0-021 ","FE0",235.17999267578099]
[6001233203,"AUSTIN-NORTH (01)","FE0-021 ","FE0",235.32000732421901]
[6001229840,"WALTER-ARRAN 2 (01)","FE0-022 ","FE0",235.72000122070301]
[6001345037,"PAISLEY 79-FRENCH (02)","FE0-022 ","FE0",235.830001831055]
[6001273379,"SCHILD-WILLIS (02)","FE0-012 ","FE0",236.19999694824199]
[6001622022,"WATT-THE AVENUE (02)","FE0-012 ","FE0",236.39999389648401]
[6001308510,"MARY WALSH-EVELINE (03)","FE0-014 ","FE0",236.63999938964801]
[6001050869,"RIPPON-HOADLEY (02)","FE0-014 ","FE0",236.86000061035199]
[6001054447,"STEPHEN-SCHILD (02)","FE0-012 ","FE0",237.07000732421901]
[6001341248,"WATT-THE AVENUE (04)","FE0-012 ","FE0",237.27999877929699]
[6001231893,"PILGRIM-JOHN (01)","FE0-021 ","FE0",237.47999572753901]
[6001465861,"NEWELL-MOORE (02)","FE0-014 ","FE0",237.67999267578099]
[6001065642,"BALLARAT-JAMIESON NO1 (02)","FE0-014 ","FE0",237.88000488281301]
[6001024691,"POWELL-GEORGE (03)","FE0-012 ","FE0",237.99000549316401]
[6001332369,"PAISLEY 79-FRENCH (02)","FE0-022 ","FE0",238.32000732421901]
[6001240200,"ALBERT 39-SHORT (03)","FE0-015 ","FE0",238.419998168945]
[6001064865,"GEELONG-MALDEN (01)","FE0-022 ","FE0",238.74000549316401]
[6001002269,"IRVING-FOOTSCRAY MARKET (01)","FE0-015 ","FE0",238.88999938964801]
[6001021240,"WATT-THE AVENUE (03)","FE0-012 ","FE0",239.05999755859401]
[6001291712,"NICHOLSON-LYONS (03)","FE0-022 ","FE0",239.28999328613301]
[6001343747,"FEHON-SOMERVILLE (02)","FE0-012 ","FE0",239.46000671386699]
[6001049523,"OWEN-ELDRIDGE (04)","FE0-014 ","FE0",239.71000671386699]
[6001060454,"HAMILTON-O'FARRELL (01)","FE0-021 ","FE0",239.89999389648401]
[6001048858,"BALLARAT-JAMIESON NO1 (02)","FE0-014 ","FE0",240.11000061035199]
[6001052205,"NICHOLSON-LYONS (03)","FE0-022 ","FE0",240.28999328613301]
[6001050099,"LEEDS-BYRON (05)","FE0-022 ","FE0",240.47999572753901]
[6001336400,"COMMERCIAL-BALLARAT (02)","FE0-014 ","FE0",240.57000732421901]
[6001049459,"OWEN-ELDRIDGE (03)","FE0-014 ","FE0",240.82000732421901]
[6001207327,"HAMILTON-O'FARRELL (01)","FE0-021 ","FE0",240.96000671386699]
[6001052162,"NICHOLSON-LYONS (03)","FE0-022 ","FE0",241.19000244140599]
[6001054657,"STEPHEN-PRINCESS (01)","FE0-021 ","FE0",241.30999755859401]
[6001331058,"COWPER-WINGFIELD (03)","FE0-014 ","FE0",241.58999633789099]
[6001402073,"ANN-ERROL (03)","FE0-021 ","FE0",241.63000488281301]
[6001123492,"HYDE-PRINCESS (01)","FE0-014 ","FE0",241.94999694824199]
[6001050476,"JAMIESON-BALLARAT (02)","FE0-014 ","FE0",241.97999572753901]
[6001241060,"POWELL-GEORGE (01)","FE0-012 ","FE0",242.11000061035199]
[6001306586,"COWPER-BUNBURY (01)","FE0-014 ","FE0",242.30999755859401]
[6001007155,"WOODS-AVOCA (01)","FE0-012 ","FE0",242.46000671386699]
[6001456660,"PICKETT-VICTORIA (02)","FE0-022 ","FE0",242.61999511718801]
[6001331012,"COWPER-WINGFIELD (03)","FE0-014 ","FE0",242.80999755859401]
[6001065463,"PALMER-VIPONT (02)","FE0-014 ","FE0",242.97000122070301]
[6001053181,"BLACKWOOD-WILLIAMSTOWN (01)","FE0-012 ","FE0",243.10000610351599]
[6001344326,"DROOP-BARKLY (01)","FE0-022 ","FE0",243.17999267578099]
[6001065613,"THOMAS-WILLIAMSTOWN (02)","FE0-012 ","FE0",243.36999511718801]
[6001010988,"ESSEX-SWAN (01)","FE0-021 ","FE0",243.47000122070301]
[6001053179,"BLACKWOOD-POWELL (04)","FE0-012 ","FE0",243.69000244140599]
[6001050802,"RYAN-MOORE (01)","FE0-022 ","FE0",243.82000732421901]
[6001059520,"O'FARRELL-WILLIAMSTOWN (01)","FE0-021 ","FE0",244.16000366210901]
[6001422722,"HYDE-PRINCESS (03)","FE0-014 ","FE0",244.61000061035199]
[6001251932,"GENEVA-COMO (02)","FF0-093 ","FF0",208.27999877929699]
[6001263264,"REX-COATE (02)","FF0-088 ","FF0",210.53999328613301]
[6001224165,"SEPARATION-FULHAM (01)","FF0-093 ","FF0",213.50999450683599]
[6001232878,"REX-COATE (02)","FF0-088 ","FF0",215.49000549316401]
[6001076261,"BELMONT-DELLA TORRE (03)","FF0-090 ","FF0",217.60000610351599]
[6001075244,"MILLER-HEIDELBERG (02)","FF0-095 ","FF0",219.00999450683599]
[6001074057,"MCGREGOR-PERRY (01)","FF0-083 ","FF0",221.16000366210901]
[6001236923,"SEPARATION-SHIERS (01)","FF0-093 ","FF0",221.61000061035199]
[6001075292,"MILLER-HEIDELBERG (02)","FF0-095 ","FF0",222.169998168945]
[6001087360,"MILLER-HEIDELBERG (03)","FF0-095 ","FF0",223.52000427246099]
[6001007980,"BELMONT-DELLA TORRE (02)","FF0-090 ","FF0",224.10000610351599]
[6001089507,"BELMONT-LIVINGSTONE (01)","FF0-090 ","FF0",225.19000244140599]
[6001073550,"MITCHELL-GILLIES (01)","FF0-088 ","FF0",226.35000610351599]
[6001073604,"MITCHELL-GILLIES (01)","FF0-088 ","FF0",227.02000427246099]
[6001424810,"DARLING-FULHAM (02)","FF0-095 ","FF0",227.77000427246099]
[6001235132,"SEPARATION-FULHAM (02)","FF0-093 ","FF0",228.580001831055]
[6001074694,"DARLING-WHITE (01)","FF0-095 ","FF0",229.13999938964801]
[6001087953,"LIVINGSTONE-SHOPPING CENTRE (01)","FF0-090 ","FF0",229.17999267578099]
[6001538704,"RAILWAY-STATION (01)","FF0-087 ","FF0",229.80000305175801]
[6001448507,"BECKWITH-PARKVIEW (03)","FF0-083 ","FF0",230.60000610351599]
[6001074665,"ARTHUR-SEPARATION (01)","FF0-093 ","FF0",230.88000488281301]
[6001456190,"GILLIES 25-HEIDELBERG (02)","FF0-087 ","FF0",231.63999938964801]
[6001256345,"REX-COATE (02)","FF0-088 ","FF0",231.88000488281301]
[6001073695,"GILLIES 25-HEIDELBERG (02)","FF0-087 ","FF0",232.61000061035199]
[6001070917,"TATE-LIVINGSTONE (03)","FF0-090 ","FF0",233.00999450683599]
[6001227508,"HEIDELBERG-PANTHER (02)","FF0-087 ","FF0",233.80000305175801]
[6001086697,"HEIDELBERG-FAIRFIELD PARK (01)","FF0-087 ","FF0",234.25]
[6001262995,"LIVINGSTONE-WATERDALE (02)","FF0-090 ","FF0",234.85000610351599]
[6001311647,"ALBERT-WESTFIELD (04)","FF0-087 ","FF0",235.419998168945]
[6001281604,"AUSTIN-HEIDELBERG (03)","FF0-088 ","FF0",236.080001831055]
[6001328815,"AUSTIN 53-HEIDELBERG (03)","FF0-088 ","FF0",236.75999450683599]
[6001521042,"STATION-HEIDELBERG (04)","FF0-087 ","FF0",237.60000610351599]
[6001089794,"RAVENSCOURT-FULHAM (01)","FF0-083 ","FF0",238.03999328613301]
[6001476777,"GILLIES-RAILWAY (03)","FF0-087 ","FF0",240.96000671386699]
[6001074864,"MCGREGOR-PERRY (01)","FF0-083 ","FF0",242.10000610351599]
[6001127312,"BANK-MT ALEXANDER (03)","FT0-024 ","FT0",209.22000122070301]
[6001244222,"BANK-MT ALEXANDER (03)","FT0-024 ","FT0",211.61000061035199]
[6001133116,"MOONEE-ASCOT VALE (01)","FT0-024 ","FT0",215.63999938964801]
[6001133340,"MIDDLE-ASCOT VALE (02)","FT0-024 ","FT0",216.17999267578099]
[6001133919,"ROTHWELL-DUNLOP (02)","FT0-026 ","FT0",217.69999694824199]
[6001270951,"MIDDLE-ASCOT VALE (02)","FT0-024 ","FT0",219.44999694824199]
[6001428331,"FENTON-MYRNONG (02)","FT0-014 ","FT0",220.63999938964801]
[6001133817,"ROXBURGH-ROTHWELL (02)","FT0-026 ","FT0",222.00999450683599]
[6001138247,"PATTISON-VINE (01)","FT0-014 ","FT0",222.88000488281301]
[6001128014,"ANTHONY-BELLAIR (03)","FT0-024 ","FT0",224.07000732421901]
[6001133743,"ROXBURGH-ROTHWELL (01)","FT0-026 ","FT0",225.19999694824199]
[6001253880,"DERBY-ORMOND 1 (01)","FT0-021 ","FT0",225.60000610351599]
[6001135590,"ANDERSON-MONASH (01)","FT0-016 ","FT0",226.61999511718801]
[6001013496,"BELMONT-BAYSWATER (02)","FT0-035 ","FT0",227.02000427246099]
[6001638057,"DERBY-ORMOND 1 (01)","FT0-021 ","FT0",227.69999694824199]
[6001130575,"CROWN-ILLAWARRA (03)","FT0-024 ","FT0",228.08999633789099]
[6001326831,"KENSINGTON-ALTONA (01)","FT0-021 ","FT0",228.72000122070301]
[6001028870,"NEWMARKET-MARSHALL (02)","FT0-024 ","FT0",229.03999328613301]
[6001132613,"CASHMERE-MANGALORE (01)","FT0-031 ","FT0",229.41000366210901]
[6001210574,"VICTORIA-HILL (02)","FT0-022 ","FT0",229.72000122070301]
[6001130762,"CANTERBURY-ASCOT VALE (02)","FT0-024 ","FT0",230.19999694824199]
[6001271015,"LANGS-VICTORY 2 (03)","FT0-016 ","FT0",230.47000122070301]
[6001016146,"MERCANTILE-TANKARD (02)","FT0-021 ","FT0",230.83999633789099]
[6001343508,"HAMPDEN-CLIFFORD (02)","FT0-035 ","FT0",230.96000671386699]
[6001130280,"PRIDHAM-RACECOURSE (03)","FT0-026 ","FT0",231.30000305175801]
[6001319906,"HAMPDEN-CLIFFORD (04)","FT0-035 ","FT0",231.52999877929699]
[6001256228,"MERCANTILE-TANKARD (04)","FT0-021 ","FT0",231.71000671386699]
[6001447120,"VICTORIA-MT ALEXANDER (02)","FT0-022 ","FT0",232.080001831055]
[6001331483,"FLEMINGTON-BUCKLAND (02)","FT0-031 ","FT0",232.22000122070301]
[6001132099,"VICTORIA-MT ALEXANDER (02)","FT0-022 ","FT0",232.58999633789099]
[6001295988,"HAMPDEN-CLIFFORD (01)","FT0-035 ","FT0",232.75999450683599]
[6001132424,"WARRICK-MT ALEXANDER 484 (01)","FT0-014 ","FT0",233.11999511718801]
[6001134371,"STURDEE-ASCOT VALE (01)","FT0-026 ","FT0",233.36000061035199]
[6001329065,"VICTORIA-MT ALEXANDER (01)","FT0-022 ","FT0",233.72000122070301]
[6001480060,"ANDERSON-MONASH (03)","FT0-016 ","FT0",233.830001831055]
[6001128629,"DERBY-ORMOND 1 (02)","FT0-021 ","FT0",234.10000610351599]
[6001291787,"DERBY-ORMOND 1 (02)","FT0-021 ","FT0",234.35000610351599]
[6001339937,"ROBERTSON-LAMBETH (02)","FT0-025 ","FT0",234.61999511718801]
[6001131752,"VICTORIA-MT ALEXANDER (01)","FT0-022 ","FT0",234.85000610351599]
[6001130662,"DUNCAN-ASCOT VALE (01)","FT0-024 ","FT0",235.22000122070301]
[6001128394,"DERBY-ORMOND 1 (01)","FT0-021 ","FT0",235.30999755859401]
[6001258966,"FLEMINGTON-MT ALEXANDER (02)","FT0-031 ","FT0",235.67999267578099]
[6001304775,"MILTON 9-MARIBYRNONG (01)","FT0-024 ","FT0",235.77000427246099]
[6001388386,"NOTTINGHAM-RACECOURSE NO2 (06)","FT0-031 ","FT0",236.07000732421901]
[6001135742,"FISHER-LANGS (03)","FT0-016 ","FT0",236.13999938964801]
[6001126132,"REGENT-MT ALEXANDER (01)","FT0-024 ","FT0",236.46000671386699]
[6001259475,"DUNCAN-ASCOT VALE (02)","FT0-024 ","FT0",236.69000244140599]
[6001129353,"EASTWOOD-RANKINS (02)","FT0-021 ","FT0",236.94000244140599]
[6001446852,"SHOWGROUNDS NO4 (01)","FT0-016 ","FT0",237.169998168945]
[6001288438,"HENRY-CLIFFORD (03)","FT0-035 ","FT0",237.41000366210901]
[6001259670,"DERBY-ORMOND 1 (02)","FT0-021 ","FT0",237.66000366210901]
[6001291768,"DERBY-ORMOND 1 (02)","FT0-021 ","FT0",237.83999633789099]
[6001021025,"MERCANTILE-TANKARD (03)","FT0-021 ","FT0",237.94000244140599]
[6001045073,"EPSOM-SMITHFIELD (01)","FT0-015 ","FT0",238.22999572753901]
[6001124960,"HOLLAND-RACECOURSE 3 (03)","FT0-022 ","FT0",238.35000610351599]
[6001130708,"SANDOWN-ASCOT VALE (02)","FT0-011 ","FT0",238.71000671386699]
[6001509827,"FRANCIS-ASCOT VALE (03)","FT0-026 ","FT0",238.80000305175801]
[6001239305,"GOWER-MACAULAY (02)","FT0-035 ","FT0",239]
[6001134557,"MORSHEAD-ASCOT (01)","FT0-015 ","FT0",239.28999328613301]
[6001251091,"RACECOURSE 482-CORONET (01)","FT0-016 ","FT0",239.47999572753901]
[6001443839,"HIGH-SHIELDS (02)","FT0-031 ","FT0",239.72000122070301]
[6001369725,"HENRY-CLIFFORD (02)","FT0-035 ","FT0",240]
[6001009453,"DOVER-DARTFORD (04)","FT0-011 ","FT0",240.38999938964801]
[6001247888,"MARIBYRNONG 122-UNION (01)","FT0-026 ","FT0",240.69000244140599]
[6001344858,"HENRY-CLIFFORD (02)","FT0-035 ","FT0",240.94000244140599]
[6001288458,"HENRY-CLIFFORD (03)","FT0-035 ","FT0",241.30999755859401]
[6001124870,"HOLLAND-RACECOURSE 4 (02)","FT0-022 ","FT0",241.47000122070301]
[6001130020,"HOLLAND-RACECOURSE 4 (02)","FT0-022 ","FT0",241.80999755859401]
[6001134184,"WINGATE-VASEY (01)","FT0-026 ","FT0",241.99000549316401]
[6001020041,"SMITHFIELD-HOBSONS (00)","FT0-035 ","FT0",242.38000488281301]
[6001388205,"MARIBYRNONG 122-UNION (04)","FT0-026 ","FT0",242.63000488281301]
[6001260701,"MACAULAY-KENSINGTON (06)","FT0-035 ","FT0",244.19999694824199]
[6001270828,"HOLLAND-RACECOURSE 1 (02)","FT0-022 ","FT0",245.66000366210901]
[6001233405,"EIRENE-FRANCIS (04)","FW0-013 ","FW0",208]
[6001059166,"ALOHA-GREENE (03)","FW0-005 ","FW0",209.50999450683599]
[6001400117,"SUFFOLK-THOMSON (03)","FW0-017 ","FW0",210.99000549316401]
[6001330627,"ANGLISS-ADENEY (01)","FW0-005 ","FW0",212.07000732421901]
[6001056427,"WEBB-CORONATION (03)","FW0-008 ","FW0",213.16000366210901]
[6001449269,"ESSEX-DUDLEY (03)","FW0-008 ","FW0",213.580001831055]
[6001047846,"ALMA-ELPHINSTONE (02)","FW0-016 ","FW0",214.07000732421901]
[6001046413,"VIEW-SUFFOLK (01)","FW0-017 ","FW0",215.30000305175801]
[6001240572,"HANSEN-GLAMIS (02)","FW0-008 ","FW0",215.830001831055]
[6001485563,"STUDLEY-WALLACE (03)","FW0-017 ","FW0",216.80000305175801]
[6001254708,"ROBBS-DARWIN (01)","FW0-008 ","FW0",217.36000061035199]
[6001038785,"SUFFOLK-DONGOLA (02)","FW0-017 ","FW0",218.19999694824199]
[6001479222,"SUMMERHILL-ESSEX (03)","FW0-017 ","FW0",218.69999694824199]
[6001614023,"CONIFER-PRIMULA (03)","FW0-006 ","FW0",219.5]
[6001509475,"WARLEIGH-BARKLY (01)","FW0-017 ","FW0",220]
[6001058766,"RICHARDS-KIDMAN (02)","FW0-005 ","FW0",220.72000122070301]
[6001047420,"RICHELIEU-SUFFOLK (03)","FW0-017 ","FW0",221.169998168945]
[6001612029,"EAMES-CYPRESS (02)","FW0-006 ","FW0",221.80000305175801]
[6001337089,"HEWITT-McDOUGALL (02)","FW0-017 ","FW0",222.03999328613301]
[6001062176,"ASHLEY-BERNARD (02)","FW0-016 ","FW0",222.66000366210901]
[6001056881,"ALBION-GEELONG (02)","FW0-008 ","FW0",223.05999755859401]
[6001055654,"BROMYARD-DREW (02)","FW0-013 ","FW0",223.89999389648401]
[6001048657,"SUFFOLK-THOMSON (04)","FW0-017 ","FW0",224.10000610351599]
[6001061730,"MADDEN-STUDLEY (02)","FW0-017 ","FW0",224.77999877929699]
[6001213139,"CLARKE-RUPERT (01)","FW0-017 ","FW0",224.94999694824199]
[6001269074,"BABB-SONLEY (04)","FW0-017 ","FW0",225.69999694824199]
[6001022325,"HARTLEY-BARKLY (02)","FW0-016 ","FW0",225.82000732421901]
[6001123008,"NEIL-RUPERT (02)","FW0-016 ","FW0",226.52000427246099]
[6001619084,"HEATHER-STENHOUSE (01)","FW0-006 ","FW0",226.60000610351599]
[6001560834,"NEYLON-ROBERTS (02)","FW0-017 ","FW0",227.19999694824199]
[6001047984,"CLARKE-RUPERT (02)","FW0-017 ","FW0",227.66000366210901]
[6001319949,"EXPORT 58-LINK (03)","FW0-006 ","FW0",228.05000305175801]
[6001534062,"BABB-SONLEY (04)","FW0-017 ","FW0",228.39999389648401]
[6001048097,"NEIL-RUPERT (03)","FW0-016 ","FW0",228.67999267578099]
[6001062154,"RICHELIEU-JACKSON (01)","FW0-017 ","FW0",228.88999938964801]
[6001046574,"WARLEIGH-BARKLY (01)","FW0-017 ","FW0",229.330001831055]
[6001262007,"MADDEN-STUDLEY (02)","FW0-017 ","FW0",229.47000122070301]
[6001343001,"CORRIGAN-CYPRESS (02)","FW0-006 ","FW0",229.92999267578099]
[6001221851,"KINGSTON-WILLIAMSTOWN (02)","FW0-008 ","FW0",230.10000610351599]
[6001532103,"RICHELIEU-SUFFOLK (02)","FW0-017 ","FW0",230.5]
[6001047801,"BARKLY-HARTLEY (02)","FW0-016 ","FW0",230.64999389648401]
[6001060136,"CORRIGAN-CYPRESS (02)","FW0-006 ","FW0",230.92999267578099]
[6001293948,"EAMES-CYPRESS (01)","FW0-006 ","FW0",231.21000671386699]
[6001526483,"BEAUMONT-WARATAH (03)","FW0-016 ","FW0",231.47999572753901]
[6001059498,"DICKSON-WILLIAMSTOWN (03)","FW0-008 ","FW0",231.78999328613301]
[6001448186,"ROBBS-DARWIN (02)","FW0-008 ","FW0",232.08999633789099]
[6001480576,"CONIFER-PRIMULA (03)","FW0-006 ","FW0",232.39999389648401]
[6001013817,"RICHELIEU-SUFFOLK (01)","FW0-017 ","FW0",232.89999389648401]
[6001055802,"WEBB-QUEENSVILLE (01)","FW0-008 ","FW0",233.05999755859401]
[6001407400,"CHATFIELD-BISHOP (02)","FW0-008 ","FW0",233.46000671386699]
[6001021795,"ALOHA-SALTLEY (02)","FW0-005 ","FW0",233.58999633789099]
[6001046044,"ARGYLE-BROAD (02)","FW0-016 ","FW0",233.94999694824199]
[6001448175,"ROBBS-DARWIN (02)","FW0-008 ","FW0",234.16000366210901]
[6001064438,"SUMMERHILL-ESSEX (03)","FW0-017 ","FW0",234.22000122070301]
[6001046523,"NAPOLEON-BRUNSWICK (03)","FW0-016 ","FW0",234.72000122070301]
[6001311030,"STENHOUSE-MILLERS (02)","FW0-006 ","FW0",234.97999572753901]
[6001057862,"MARYSTON-SOMERVILLE (02)","FW0-008 ","FW0",235.27999877929699]
[6001027841,"RICHELIEU-SUFFOLK (01)","FW0-017 ","FW0",235.58999633789099]
[6001251713,"SUMMERHILL-BARKLY (01)","FW0-017 ","FW0",235.80999755859401]
[6001482259,"HARTLEY-BARKLY (01)","FW0-016 ","FW0",235.82000732421901]
[6001513039,"NEIL-BARKLY (01)","FW0-016 ","FW0",236.30000305175801]
[6001480052,"BARKLY-ELEANOR (01)","FW0-008 ","FW0",236.47999572753901]
[6001350274,"SOUTER-BEAUREPAIRE (04)","FW0-017 ","FW0",236.92999267578099]
[6001423390,"GLAMIS-EXHIBITION (03)","FW0-008 ","FW0",237.08999633789099]
[6001396552,"GEELONG-ORMOND (03)","FW0-008 ","FW0",237.72999572753901]
[6001338996,"CHATFIELD-BISHOP (01)","FW0-008 ","FW0",238.07000732421901]
[6001059398,"HANSEN-GLAMIS (03)","FW0-008 ","FW0",238.830001831055]
[6001056469,"GLAMIS-EXHIBITION (01)","FW0-008 ","FW0",239.22999572753901]
[6001501017,"CONIFER-PRIMULA (02)","FW0-006 ","FW0",240.35000610351599]
[6001079064,"HODGSON-AVOCA (01)","HB0-023 ","HB0",207.07000732421901]
[6001020305,"DORSET-BERKELEY (02)","HB0-023 ","HB0",210.49000549316401]
[6001067021,"THE EYRIE-LAWRENCE (02)","HB0-015 ","HB0",212.33999633789099]
[6001069562,"CHARTERIS-BURKE (02)","HB0-024 ","HB0",214.05999755859401]
[6001307797,"WATERDALE-THE BOULEVARD (03)","HB0-015 ","HB0",214.52000427246099]
[6001081572,"BANYULE-MCCRAE (01)","HB0-023 ","HB0",216.35000610351599]
[6001070601,"THE BOULEVARD-NEVILLE (03)","HB0-024 ","HB0",216.77999877929699]
[6001458528,"HAUGHTON-GREVILLE (02)","HB0-023 ","HB0",218.30000305175801]
[6001078604,"BEVERLEY-GREVILLE (02)","HB0-023 ","HB0",218.63999938964801]
[6001318834,"THE BOULEVARD-NEVILLE (02)","HB0-024 ","HB0",219.919998168945]
[6001069551,"LONGSTAFF-STREETON (01)","HB0-024 ","HB0",220.169998168945]
[6001069698,"CASTELLA-THE BOULEVARD (01)","HB0-024 ","HB0",221.33999633789099]
[6001532030,"WILFRED-CEDRIC (01)","HB0-024 ","HB0",221.5]
[6001066679,"THE BOULEVARD-GILBERT (01)","HB0-024 ","HB0",222.02999877929699]
[6001079034,"HAUGHTON-GREVILLE (02)","HB0-023 ","HB0",222.77999877929699]
[6001391643,"RAVENSWOOD-LWR HBERG (01)","HB0-015 ","HB0",223.61999511718801]
[6001432510,"FINN-HAUGHTON (03)","HB0-023 ","HB0",224.05999755859401]
[6001067237,"STUDLEY-CARN (03)","HB0-021 ","HB0",224.919998168945]
[6001066523,"THE BOULEVARD-WARNCLIFFE (02)","HB0-024 ","HB0",225.50999450683599]
[6001070393,"LOWER HEIDELBERG-THE BOULEVARD (01)","HB0-015 ","HB0",225.97999572753901]
[6001079011,"HODGSON-AVOCA (02)","HB0-023 ","HB0",226.25999450683599]
[6001079383,"CAPE-DAREBIN (02)","HB0-031 ","HB0",226.88999938964801]
[6001066872,"THE RIGHI-THE EYRIE (01)","HB0-014 ","HB0",227.14999389648401]
[6001067167,"STUDLEY-BANKSIA (01)","HB0-022 ","HB0",227.80000305175801]
[6001087645,"STUDLEY-CARN (02)","HB0-021 ","HB0",228.10000610351599]
[6001075753,"THE EYRIE-LAWRENCE (03)","HB0-015 ","HB0",228.64999389648401]
[6001067793,"MELCOMBE-OXFORD (01)","HB0-022 ","HB0",228.96000671386699]
[6001067359,"WESTLEY-IVANHOE (01)","HB0-022 ","HB0",229.47999572753901]
[6001250688,"STUDLEY-BANKSIA (01)","HB0-022 ","HB0",229.66000366210901]
[6001066820,"HAWDON-DURHAM (02)","HB0-014 ","HB0",230.08999633789099]
[6001067683,"CLIFTON-WATERDALE (02)","HB0-022 ","HB0",230.419998168945]
[6001126501,"CAPE-DAREBIN (01)","HB0-031 ","HB0",230.78999328613301]
[6001067824,"CLIFTON-WATERDALE (01)","HB0-022 ","HB0",231.08999633789099]
[6001228456,"ROSE-HEIDELBERG (01)","HB0-015 ","HB0",231.27000427246099]
[6001086365,"WATERDALE-NORMAN (05)","HB0-014 ","HB0",231.75999450683599]
[6001087358,"YOUNG-LOWER HEIDELBERG (02)","HB0-015 ","HB0",231.94000244140599]
[6001066518,"WILFRED-LOWER HEIDELBERG (02)","HB0-024 ","HB0",232.42999267578099]
[6001069005,"HEIDELBERG-ROSE (02)","HB0-015 ","HB0",232.63999938964801]
[6001320622,"EAGLEMONT-THE RIGHI (02)","HB0-014 ","HB0",233.11000061035199]
[6001318171,"KIERNAN-UPP HEIDELBERG (00)","HB0-022 ","HB0",233.28999328613301]
[6001002584,"UP H'BERG 226-IVANHOE (03)","HB0-022 ","HB0",233.96000671386699]
[6001067321,"IVANHOE-UPPER HEIDELBERG (02)","HB0-022 ","HB0",233.97999572753901]
[6001491175,"YOUNG-LOWER HEIDELBERG (01)","HB0-015 ","HB0",234.30000305175801]
[6001069089,"YOUNG-LOWER HEIDELBERG (01)","HB0-015 ","HB0",234.69999694824199]
[6001067353,"WATERDALE-NORMAN (01)","HB0-014 ","HB0",235.03999328613301]
[6001538699,"STUDLEY-BANKSIA (01)","HB0-022 ","HB0",235.39999389648401]
[6001232574,"YARRA-HAWDON No.2 (01)","HB0-031 ","HB0",236]
[6001489682,"ABBOTSFORD-UPPER HIEDELBERG (02)","HB0-021 ","HB0",236.19999694824199]
[6001079331,"BROWN-CAPE (04)","HB0-032 ","HB0",236.669998168945]
[6001297233,"HOPETOUN-MENZIE (02)","HB0-014 ","HB0",236.80999755859401]
[6001086372,"JIKA-PARK (01)","HB0-023 ","HB0",237.33999633789099]
[6001076366,"IVANHOE-UPPER HEIDELBERG (01)","HB0-022 ","HB0",237.80000305175801]
[6001019202,"WATERDALE-NORMAN (05)","HB0-014 ","HB0",238.38000488281301]
[6001067464,"WATERDALE-NORMAN (05)","HB0-014 ","HB0",238.88000488281301]
[6001069430,"HEIDELBERG-KINGSLEY (03)","HB0-021 ","HB0",239.71000671386699]
[6001479703,"NORMAN-MARSHALL (02)","HB0-014 ","HB0",240.419998168945]
[6001299942,"YARRA-HAWDON (01)","HB0-031 ","HB0",242.25999450683599]
[6001295479,"MONARCH-EAGLEVIEW (02)","KLO-022 ","KLO",210.58999633789099]
[6001320666,"MONARCH-EAGLEVIEW (03)","KLO-022 ","KLO",216.82000732421901]
[6001306295,"EARL-GRANGE (01)","KLO-022 ","KLO",217.72999572753901]
[6001393831,"TRILLIUM-PRIME (01)","KLO-022 ","KLO",220.02999877929699]
[6001470201,"LOKEPORT-HURKETT (02)","KLO-013 ","KLO",220.5]
[6001294661,"HAMILTON HUME-MITTAGONG (03)","KLO-022 ","KLO",221.57000732421901]
[6001288609,"HAMILTON HUME-MITTAGONG (02)","KLO-022 ","KLO",221.86000061035199]
[6001435835,"SCANDIA-ELLSCOTT (05)","KLO-013 ","KLO",222.30000305175801]
[6001369108,"ESCAPADE-GRAND (05)","KLO-022 ","KLO",222.91000366210901]
[6001300761,"WINDROCK-ROYAL (02)","KLO-022 ","KLO",223.25]
[6001467014,"ELLSCOTT-CASTOR (02)","KLO-013 ","KLO",223.69999694824199]
[6001418556,"WESTGARTH-BALMAIN (01)","KLO-013 ","KLO",224.02000427246099]
[6001371361,"GREVILLEA-POLO (02)","KLO-022 ","KLO",224.35000610351599]
[6001318343,"HAMILTON HUME-MITTAGONG (01)","KLO-022 ","KLO",224.72000122070301]
[6001516504,"MT RIDLEY-BROSSARD (03)","KLO-022 ","KLO",224.89999389648401]
[6001404243,"SEPAL-GRAND (02)","KLO-022 ","KLO",225.27999877929699]
[6001351548,"MILLICENT-GRAND (05)","KLO-022 ","KLO",225.42999267578099]
[6001375977,"BLUEBELL-TRAVERS (01)","KLO-022 ","KLO",225.72000122070301]
[6001350042,"BRADSHAW-MOOR PARK (03)","KLO-022 ","KLO",225.86999511718801]
[6001447432,"DAYBREAK-REVEILLE (04)","KLO-022 ","KLO",226.16000366210901]
[6001465262,"WESTON-WHEATLEY (02)","KLO-013 ","KLO",226.30000305175801]
[6001426013,"GOSSAMER-TURION (01)","KLO-022 ","KLO",226.53999328613301]
[6001418350,"NAPIER-CANNING (05)","KLO-013 ","KLO",226.669998168945]
[6001415680,"NEBULA-BIRDSONG (02)","KLO-022 ","KLO",226.86999511718801]
[6001493456,"POTTER-BROSSARD (03)","KLO-013 ","KLO",227]
[6001465448,"NESTING-SUGAR GLIDER (02)","KLO-022 ","KLO",227.19999694824199]
[6001466687,"ELDERBERRY-GRAND (02)","KLO-022 ","KLO",227.22000122070301]
[6001371265,"FALKLAND-SHAFTSBURY (01)","KLO-022 ","KLO",227.33999633789099]
[6001447955,"DOCKER-FARADAY (01)","KLO-013 ","KLO",227.55000305175801]
[6001488857,"EREMAEA-BOWENIA (03)","KLO-022 ","KLO",227.69999694824199]
[6001278563,"LIVERPOOL-PARRAMATTA (05)","KLO-022 ","KLO",227.80999755859401]
[6001505190,"AINTREE-PORTOBELLO (02)","KLO-022 ","KLO",227.89999389648401]
[6001492954,"EREMAEA-BOWENIA (02)","KLO-022 ","KLO",228.10000610351599]
[6001473719,"MONOMEATH-JODREW (01)","KLO-013 ","KLO",228.19999694824199]
[6001488841,"EREMAEA-BOWENIA (01)","KLO-022 ","KLO",228.39999389648401]
[6001463822,"CAYENNE-FENNEL (02)","KLO-013 ","KLO",228.5]
[6001420431,"SUSTAINABLE-PEPPERTREE (02)","KLO-022 ","KLO",228.66000366210901]
[6001447998,"DOCKER-FARADAY (04)","KLO-013 ","KLO",228.77000427246099]
[6001123761,"PARKSIDE-CHARTERIS (01)","KLO-022 ","KLO",228.94000244140599]
[6001505092,"JUSCELINA-HIGHLANDER (02)","KLO-022 ","KLO",229]
[6001456910,"CAYENNE-FENNEL (01)","KLO-013 ","KLO",229.11000061035199]
[6001328370,"POUND-PERISHER (01)","KLO-022 ","KLO",229.30000305175801]
[6001548883,"COTTON-IRONCAP (01)","KLO-022 ","KLO",229.39999389648401]
[6001441374,"UPTHORPE-LITTLEWICK (02)","KLO-013 ","KLO",229.53999328613301]
[6001437999,"CHARTERIS-ATLEY (02)","KLO-022 ","KLO",229.80000305175801]
[6001430453,"CHARTERIS-ATLEY (01)","KLO-022 ","KLO",229.86000061035199]
[6001486462,"EREMAEA-BOWENIA (01)","KLO-022 ","KLO",230.10000610351599]
[6001463686,"ST GEORGE-CARLINGFORD (01)","KLO-013 ","KLO",230.19999694824199]
[6001443672,"MARARA-HIGHLANDER (04)","KLO-022 ","KLO",230.47999572753901]
[6001445098,"WHITE LEAF-GOLDINGTON (01)","KLO-013 ","KLO",230.50999450683599]
[6001479534,"TELOPEA-HIGHLANDER (01)","KLO-022 ","KLO",230.80000305175801]
[6001434043,"GOSSAMER-TURION (03)","KLO-022 ","KLO",230.96000671386699]
[6001416816,"WILLSMERE-YARRADALE (03)","KLO-013 ","KLO",231.13999938964801]
[6001548958,"COTTON-IRONCAP (02)","KLO-022 ","KLO",231.30000305175801]
[6001435645,"LATCHFORD-OXBOW (03)","KLO-013 ","KLO",231.55999755859401]
[6001479596,"GOSSIA-LOMATIA (02)","KLO-022 ","KLO",231.80000305175801]
[6001447649,"CAMBERWELL-McCRACKEN (03)","KLO-013 ","KLO",232.10000610351599]
[6001527923,"BELMORE-ST. GEORGES (02)","KLO-013 ","KLO",232.19999694824199]
[6001544177,"BERGAMOT-MACADAMIA (02)","KLO-022 ","KLO",232.69999694824199]
[6001447650,"CAMBERWELL-McCRACKEN (03)","KLO-013 ","KLO",232.88000488281301]
[6001454687,"NESTING-SUGAR GLIDER (03)","KLO-022 ","KLO",233.25999450683599]
[6001393949,"THE WOODS-DONNYBROOK (05)","KLO-013 ","KLO",233.44999694824199]
[6001320049,"PARKSIDE-HIGHVIEW (03)","KLO-022 ","KLO",233.86999511718801]
[6001447467,"KONNER-ERROL (03)","KLO-013 ","KLO",234]
[6001411221,"SAVERNAKE-BEDGBURY (04)","KLO-013 ","KLO",234.19000244140599]
[6001334487,"FEATHERPARK-HUNTINGTON (02)","KLO-022 ","KLO",234.47999572753901]
[6001463693,"LANDSDOWNE-ROSENEATH (01)","KLO-013 ","KLO",234.71000671386699]
[6001435258,"SELWOOD-BISHAM (01)","KLO-013 ","KLO",235.080001831055]
[6001435250,"SELWOOD-BISHAM (01)","KLO-013 ","KLO",235.38999938964801]
[6001375633,"PEPPERTREE-LOUDON (04)","KLO-022 ","KLO",235.77000427246099]
[6001481480,"TRIFT-GREVILLEA (01)","KLO-022 ","KLO",236.30000305175801]
[6001435095,"ALEXO-FOXLEY (01)","KLO-013 ","KLO",236.64999389648401]
[6001418597,"ALEXO-LATCHFORD (05)","KLO-013 ","KLO",238.46000671386699]
[6001086164,"CARWARP-ERSKINE (02)","NH0-008 ","NH0",206.61999511718801]
[6001089320,"YALLAMBIE-WENDOVER (01)","NH0-002 ","NH0",207.330001831055]
[6001079683,"LOWER PLENTY-MOUNTVIEW (01)","NH0-017 ","NH0",209.44999694824199]
[6001110843,"BLAKE-DAVIS (02)","NH0-016 ","NH0",209.74000549316401]
[6001083604,"YALLAMBIE-JANICE (01)","NH0-002 ","NH0",211.33999633789099]
[6001560371,"BERRIMA-ROSANNA (02)","NH0-020 ","NH0",212.30000305175801]
[6001477102,"STRATHALLAN-WILSON (01)","NH0-002 ","NH0",213]
[6001018901,"YALLAMBIE-LOWER PLENTY (02)","NH0-002 ","NH0",213.14999389648401]
[6001242631,"BORLASE-DRYSDALE (03)","NH0-002 ","NH0",213.83999633789099]
[6001110439,"CLINGIN-CREVELLI (01)","NH0-016 ","NH0",214.22999572753901]
[6001079242,"HAWDON-BROWN (02)","NH0-017 ","NH0",215.05999755859401]
[6001079695,"LOWER PLENTY-MOUNTVIEW (01)","NH0-017 ","NH0",215.50999450683599]
[6001564389,"LAUREL-TYLER (04)","NH0-016 ","NH0",216.39999389648401]
[6001224497,"YALLAMBIE-JANICE (01)","NH0-002 ","NH0",216.71000671386699]
[6001565149,"ST JAMES-WOBURN (01)","NH0-017 ","NH0",217.39999389648401]
[6001110001,"MCCOMAS-ALBERT (01)","NH0-016 ","NH0",217.72000122070301]
[6001246259,"SMIKE-ASHTON (03)","NH0-002 ","NH0",218.33999633789099]
[6001084900,"BRAIDHILL-WINDSOR (02)","NH0-002 ","NH0",218.63999938964801]
[6001244623,"MONTGOMERY-EDWIN (03)","NH0-017 ","NH0",219.13000488281301]
[6001088882,"BORLASE-DRYSDALE (04)","NH0-002 ","NH0",219.44000244140599]
[6001086781,"HENDERSONS-QUAMBY (02)","NH0-008 ","NH0",219.85000610351599]
[6001079814,"ST JAMES-WOBURN (03)","NH0-017 ","NH0",220.30000305175801]
[6001125989,"ELLESMERE-INVERMAY (04)","NH0-017 ","NH0",220.53999328613301]
[6001474061,"BRAIDHILL-WINDSOR (02)","NH0-002 ","NH0",220.69000244140599]
[6001087881,"CAPE-ST JAMES (03)","NH0-020 ","NH0",221.02999877929699]
[6001082464,"WINSTON-JASON (02)","NH0-002 ","NH0",221.32000732421901]
[6001084139,"MOUNTAIN VIEW-DAVIES (02)","NH0-005 ","NH0",221.80999755859401]
[6001089666,"LOWER PLENTY-ARTHUR STREETON (02)","NH0-002 ","NH0",221.96000671386699]
[6001016216,"DAREBIN-STRADBROKE (01)","NH0-020 ","NH0",222.419998168945]
[6001082439,"RUTHERFORD-LILLIAN (02)","NH0-008 ","NH0",222.53999328613301]
[6001082194,"WARREN-CHERYL (01)","NH0-008 ","NH0",223.10000610351599]
[6001066308,"SMIKE-ASHTON (03)","NH0-002 ","NH0",223.19000244140599]
[6001478638,"LYON-MARTINS (02)","NH0-002 ","NH0",223.38999938964801]
[6001219527,"BANYULE-APPLE BLOSSOM (01)","NH0-008 ","NH0",223.72999572753901]
[6001079199,"HAWDON-BROWN (01)","NH0-017 ","NH0",224.14999389648401]
[6001334960,"ROSANNA-ARDEN (02)","NH0-020 ","NH0",224.42999267578099]
[6001219158,"NUNAN-KIRBY (02)","NH0-016 ","NH0",224.66000366210901]
[6001084366,"JOYNT-GRIEVE (01)","NH0-003 ","NH0",224.92999267578099]
[6001089041,"RUTHERFORD-LILLIAN (01)","NH0-008 ","NH0",225.14999389648401]
[6001079934,"BEETHAM-PROSPECT (02)","NH0-017 ","NH0",225.28999328613301]
[6001085571,"TORBAY-HINKLER (01)","NH0-002 ","NH0",225.60000610351599]
[6001010409,"EISENHOWER-CHALEYER (01)","NH0-016 ","NH0",225.71000671386699]
[6001207740,"BEETHAM-PROSPECT (01)","NH0-017 ","NH0",226.00999450683599]
[6001087243,"CASEY-MARTINS (03)","NH0-008 ","NH0",226.16000366210901]
[6001398170,"DAREBIN-MARTIN (01)","NH0-020 ","NH0",226.44999694824199]
[6001111734,"BEATRICE-JENSEN (02)","NH0-016 ","NH0",226.60000610351599]
[6001325196,"MYRTLE-FORSTER (02)","NH0-017 ","NH0",226.78999328613301]
[6001269610,"RUTHVEN-WAIORA (01)","NH0-009 ","NH0",227.02000427246099]
[6001083319,"FINLAYSON-BRAIDHILL (01)","NH0-020 ","NH0",227.25]
[6001488470,"RUTHVEN-WAIORA (01)","NH0-009 ","NH0",227.5]
[6001080469,"WAIORA-DAVIES (02)","NH0-005 ","NH0",227.74000549316401]
[6001087854,"CAPE-ST JAMES (03)","NH0-020 ","NH0",227.97000122070301]
[6001087726,"BURGUNDY-STRADBROKE (01)","NH0-020 ","NH0",228.28999328613301]
[6001279958,"MARTINS-KURANGA (01)","NH0-008 ","NH0",228.419998168945]
[6001254326,"MYRTLE-FORSTER (03)","NH0-017 ","NH0",228.53999328613301]
[6001013863,"CHALEYER-ASHTON (02)","NH0-016 ","NH0",228.89999389648401]
[6001242286,"MYRTLE-FORSTER (01)","NH0-017 ","NH0",229.02000427246099]
[6001535374,"RUTHVEN-WAIORA (03)","NH0-009 ","NH0",229.39999389648401]
[6001231342,"FINLAYSON-BRAIDHILL (03)","NH0-020 ","NH0",229.52999877929699]
[6001251163,"GOLF-FINLAYSON (02)","NH0-020 ","NH0",229.97000122070301]
[6001081106,"DAREBIN-UPP. H'BERG (01)","NH0-017 ","NH0",230.00999450683599]
[6001079414,"CAPE-FANNING (03)","NH0-020 ","NH0",230.5]
[6001422661,"FINLAYSON-LOWER PLENTY (02)","NH0-020 ","NH0",230.52000427246099]
[6001574029,"WOOD-GREENBELT (01)","NH0-016 ","NH0",230.89999389648401]
[6001272271,"THE GRANGE-YALLAMBIE (01)","NH0-002 ","NH0",231.08999633789099]
[6001089124,"LOWER PLENTY-MOUNTVIEW (02)","NH0-017 ","NH0",231.46000671386699]
[6001085596,"LINDSAY-TORBAY (02)","NH0-002 ","NH0",231.61999511718801]
[6001258697,"COLLEEN-FAHEY (03)","NH0-008 ","NH0",231.97999572753901]
[6001002700,"BELLEVUE-DAVIES (01)","NH0-005 ","NH0",232.11000061035199]
[6001272887,"NISBETT-SESTON (01)","NH0-016 ","NH0",232.64999389648401]
[6001545442,"NISBETT-SESTON (01)","NH0-016 ","NH0",232.89999389648401]
[6001485204,"BEETHAM 40-PROSPECT (02)","NH0-017 ","NH0",233.60000610351599]
[6001297822,"BEETHAM 40-PROSPECT (02)","NH0-017 ","NH0",234.080001831055]
[6001532644,"NEWTON-CREVELLI (02)","NH0-016 ","NH0",235.19999694824199]
[6001269606,"LOWER PLENTY-ROSANNA (01)","NH0-020 ","NH0",236.60000610351599]
[6001151308,"MARKS-YORK (03)","NS0-014 ","NS0",207.38000488281301]
[6001491990,"MARKS-YORK (02)","NS0-014 ","NS0",208.80000305175801]
[6001141636,"NICHOLSON-BREWSTER (02)","NS0-007 ","NS0",214.55999755859401]
[6001151461,"HAYES-HOUSTON (04)","NS0-014 ","NS0",215.36999511718801]
[6001142877,"VANBERG-TENNYSON (02)","NS0-009 ","NS0",218.75]
[6001139601,"ALBERT-MT ALEXANDER (02)","NS0-018 ","NS0",219.46000671386699]
[6001183305,"THE BOULEVARD-PARKSTONE (02)","NS0-017 ","NS0",221.57000732421901]
[6001150988,"KERNAN-CARNARVON (02)","NS0-014 ","NS0",222.03999328613301]
[6001151487,"JAMES-WILLIAMSON (02)","NS0-017 ","NS0",223.72999572753901]
[6001419468,"LOCH-WENDORA (01)","NS0-014 ","NS0",223.99000549316401]
[6001221715,"NAPIER-LIND (02)","NS0-014 ","NS0",224.66000366210901]
[6001012922,"WADHAM-MORELAND (03)","NS0-012 ","NS0",225.71000671386699]
[6001151908,"HEAD-NAPIER (01)","NS0-014 ","NS0",226.27999877929699]
[6001538273,"FIRST-BULLA (02)","NS0-014 ","NS0",227.10000610351599]
[6001240770,"ASCOT VALE 259-REGENT (01)","NS0-011 ","NS0",227.94000244140599]
[6001141131,"WARNER-GLASS (02)","NS0-008 ","NS0",228.44000244140599]
[6001152161,"BOURNIAN-GRAMMAR (03)","NS0-014 ","NS0",229.30000305175801]
[6001140451,"HUTCHESON-BUCKLEY (04)","NS0-018 ","NS0",229.36999511718801]
[6001140499,"HUTCHESON-BUCKLEY (04)","NS0-018 ","NS0",230.38999938964801]
[6001350480,"VANBERG-TENNYSON (02)","NS0-009 ","NS0",230.60000610351599]
[6001141680,"BREWSTER-PASCOE VALE (01)","NS0-016 ","NS0",231.22000122070301]
[6001136529,"ASCOT VALE 259-REGENT (01)","NS0-011 ","NS0",231.49000549316401]
[6001143111,"FORBES-BUCKLEY (02)","NS0-018 ","NS0",232.13000488281301]
[6001533307,"McPHERSON-ALEXANDRA 2 (04)","NS0-009 ","NS0",232.39999389648401]
[6001136549,"ASCOT VALE 259-REGENT (01)","NS0-011 ","NS0",232.86000061035199]
[6001280011,"NAPIER-BUTLER (01)","NS0-008 ","NS0",233.13000488281301]
[6001391511,"MT ALEXANDER-BREWSTER (04)","NS0-007 ","NS0",233.30000305175801]
[6001142606,"VANBERG-TENNYSON (04)","NS0-009 ","NS0",233.830001831055]
[6001592154,"JAMES-WILLIAMSON (03)","NS0-017 ","NS0",234.10000610351599]
[6001142605,"VANBERG-TENNYSON (04)","NS0-009 ","NS0",234.38000488281301]
[6001151120,"CRANWELL-CARNARVON (01)","NS0-016 ","NS0",234.66000366210901]
[6001143653,"ST JAMES-MT ALEXANDER (03)","NS0-007 ","NS0",234.89999389648401]
[6001143156,"BREWSTER-MT ALEXANDER (01)","NS0-007 ","NS0",235.02000427246099]
[6001142788,"VANBERG-TENNYSON (03)","NS0-009 ","NS0",235.419998168945]
[6001407909,"JAMES-WILLIAMSON (03)","NS0-017 ","NS0",235.55000305175801]
[6001139633,"HALL-MARGARET (03)","NS0-011 ","NS0",235.89999389648401]
[6001139761,"McPHERSON-ALEXANDRA 2 (01)","NS0-009 ","NS0",236.03999328613301]
[6001228551,"SHUTER-PUCKLE (01)","NS0-011 ","NS0",236.36000061035199]
[6001137762,"BROWNING-MOORE (02)","NS0-015 ","NS0",236.52000427246099]
[6001142806,"VANBERG-TENNYSON (03)","NS0-009 ","NS0",236.88000488281301]
[6001142440,"TALBOT-WALLACE (03)","NS0-014 ","NS0",236.97999572753901]
[6001466203,"FLETCHER-PASCOE VALE (02)","NS0-015 ","NS0",237.17999267578099]
[6001481697,"MOORE 17-PUCKLE (03)","NS0-011 ","NS0",237.39999389648401]
[6001015526,"FULLER-SCHOFIELD (03)","NS0-016 ","NS0",237.669998168945]
[6001138513,"YOUNG-PRATT (02)","NS0-011 ","NS0",237.77000427246099]
[6001143050,"HUTCHESON-BUCKLEY (03)","NS0-018 ","NS0",238.00999450683599]
[6001141779,"BREWSTER-NAPIER (03)","NS0-007 ","NS0",238.13000488281301]
[6001004052,"MT ALEXANDER 641-HALL (03)","NS0-011 ","NS0",238.39999389648401]
[6001138517,"YOUNG-PRATT (01)","NS0-011 ","NS0",238.47999572753901]
[6001142009,"NICHOLSON-FLETCHER (03)","NS0-007 ","NS0",238.77000427246099]
[6001331962,"RALEIGH 87-NAPIER (02)","NS0-007 ","NS0",238.86000061035199]
[6001143558,"FIELD-GRANDISON (01)","NS0-007 ","NS0",239.19000244140599]
[6001142372,"KIORA-PASCOE VALE (03)","NS0-008 ","NS0",239.35000610351599]
[6001569074,"MAGDALA-WOODLAND (02)","NS0-016 ","NS0",239.60000610351599]
[6001151151,"CRANWELL-CARNARVON (03)","NS0-016 ","NS0",239.78999328613301]
[6001141725,"SHAFTESBURY-RALEIGH (01)","NS0-018 ","NS0",240.02000427246099]
[6001140459,"MURRAY-PASCOE VALE (05)","NS0-015 ","NS0",240.08999633789099]
[6001304503,"HOMER-EDDY (03)","NS0-018 ","NS0",240.44000244140599]
[6001138455,"MONTGOMERY-MT ALEXANDER (02)","NS0-015 ","NS0",240.52000427246099]
[6001141223,"GLASS-NAPIER (03)","NS0-008 ","NS0",240.86000061035199]
[6001141951,"HODDLE-FLETCHER (03)","NS0-018 ","NS0",240.92999267578099]
[6001311376,"GLADSTONE-ASCOT VALE (05)","NS0-011 ","NS0",241.24000549316401]
[6001412622,"NAPIER 20-FLETCHER (06)","NS0-007 ","NS0",241.36000061035199]
[6001212098,"RALEIGH-NAPIER No. 2 (03)","NS0-007 ","NS0",241.52000427246099]
[6001345513,"GRANDISON-MT ALEXANDER (01)","NS0-007 ","NS0",241.97000122070301]
[6001207253,"TAYLOR-MT ALEXANDER (01)","NS0-018 ","NS0",242.32000732421901]
[6001140306,"THOMAS-PASCOE VALE (01)","NS0-015 ","NS0",243.05000305175801]
[6001310882,"MT ALEXANDER-NAPIER (02)","NS0-007 ","NS0",243.83999633789099]
[6001495039,"MT ALEXANDER-NAPIER (03)","NS0-007 ","NS0",244.85000610351599]
[6001004046,"MT ALEXANDER-HOMER (03)","NS0-018 ","NS0",246.39999389648401]
[6001219537,"WINDSOR-CECIL (04)","NT0-015 ","NT0",206.80000305175801]
[6001117302,"BAYVIEW-TOBRUK (02)","NT0-015 ","NT0",209.16000366210901]
[6001117754,"STANLEY-DOVER (02)","NT0-004 ","NT0",210.07000732421901]
[6001116399,"PERRY-VERDON (02)","NT0-015 ","NT0",211.72000122070301]
[6001121064,"WOODS-MADDOX No.1 (04)","NT0-003 ","NT0",212.25999450683599]
[6001439966,"FELICIA-PICCOLO (04)","NT0-017 ","NT0",212.69999694824199]
[6001121715,"SALISBURY-JACK (01)","NT0-003 ","NT0",214.08999633789099]
[6001424080,"STEVEDORE-DOUGLAS (04)","NT0-015 ","NT0",215.10000610351599]
[6001612122,"CHALLIS-JUBILLEE (03)","NT0-017 ","NT0",215.80000305175801]
[6001115353,"PEEL-DOUGLAS (02)","NT0-004 ","NT0",216.08999633789099]
[6001117346,"SWANSTON-COLLINS (03)","NT0-015 ","NT0",217.28999328613301]
[6001403779,"DERWENT-MARKET (02)","NT0-003 ","NT0",217.39999389648401]
[6001119581,"RIVER-HOME (03)","NT0-017 ","NT0",218.13999938964801]
[6001233583,"CHALLIS-SPEIGHT (01)","NT0-017 ","NT0",218.64999389648401]
[6001121448,"CHALLIS-SPEIGHT (02)","NT0-017 ","NT0",219.50999450683599]
[6001115898,"HANMER-ELECTRA (02)","NT0-015 ","NT0",220.13999938964801]
[6001116141,"PASCO-RAILWAY (03)","NT0-011 ","NT0",220.63999938964801]
[6001183897,"QUEEN-RUSSELL (03)","NT0-011 ","NT0",220.91000366210901]
[6001439645,"FELICIA-PICCOLO (02)","NT0-017 ","NT0",221.80000305175801]
[6001273930,"YARRA-DOVER (01)","NT0-004 ","NT0",222.11999511718801]
[6001124997,"STEVEDORE-MELBOURNE (01)","NT0-011 ","NT0",222.82000732421901]
[6001516610,"JOHNSTON-NEWCASTLE (02)","NT0-017 ","NT0",223.10000610351599]
[6001122511,"QUEEN-RUSSELL (03)","NT0-011 ","NT0",223.64999389648401]
[6001221506,"FREYER-POWER (03)","NT0-011 ","NT0",223.919998168945]
[6001236955,"LATROBE-YARRA (02)","NT0-011 ","NT0",224.41000366210901]
[6001118813,"ALMA-CHANDLER (01)","NT0-015 ","NT0",224.580001831055]
[6001532226,"FERGUSON-TOWNHALL (01)","NT0-011 ","NT0",224.89999389648401]
[6001031203,"MELBOURNE-DAVIES (01)","NT0-011 ","NT0",225.27000427246099]
[6001257139,"ADELINE-KOROROIT (00)","NT0-017 ","NT0",225.72999572753901]
[6001115304,"CHAMPION-LEMMON (02)","NT0-003 ","NT0",225.919998168945]
[6001389302,"WOODS-MADDOX No.1 (04)","NT0-003 ","NT0",226.36000061035199]
[6001320230,"GIFFARD-OSBORNE (04)","NT0-011 ","NT0",226.52999877929699]
[6001118315,"DOVER-WATERLOO (01)","NT0-004 ","NT0",227.03999328613301]
[6001348518,"COXS-WHITTAKERS (02)","NT0-015 ","NT0",227.169998168945]
[6001452147,"BASIL-WOODS (02)","NT0-003 ","NT0",227.69999694824199]
[6001116637,"OSBORNE-GARDEN (00)","NT0-015 ","NT0",227.83999633789099]
[6001248064,"STANLEY-DOVER (02)","NT0-004 ","NT0",228.30000305175801]
[6001120875,"THORPE-WOODS (01)","NT0-003 ","NT0",228.39999389648401]
[6001116172,"VERDON-FERGUSON (02)","NT0-011 ","NT0",228.77000427246099]
[6001301995,"APHRASIA-VESTA (04)","NT0-011 ","NT0",228.97999572753901]
[6001465057,"PAINE-LATROBE (02)","NT0-011 ","NT0",229.22000122070301]
[6001304435,"DAWSON-MASON (01)","NT0-017 ","NT0",229.30000305175801]
[6001117984,"STEVEDORE-MELBOURNE (02)","NT0-011 ","NT0",229.66000366210901]
[6001226342,"KINGSHOTT-LINDSAY (02)","NT0-003 ","NT0",229.75]
[6001294587,"DAWSON-MASON (03)","NT0-017 ","NT0",230.17999267578099]
[6001117103,"HANNAN-GELLIBRAND (02)","NT0-015 ","NT0",230.30999755859401]
[6001223734,"COURTIS-MELBOURNE (01)","NT0-011 ","NT0",230.72000122070301]
[6001117441,"VIOLET-PARK (02)","NT0-017 ","NT0",230.88999938964801]
[6001122285,"RIFLE RANGE-RADFORD (04)","NT0-003 ","NT0",231.27000427246099]
[6001010940,"OSBORNE-GARDEN (00)","NT0-015 ","NT0",231.39999389648401]
[6001225441,"PAAS-RETIREMENT VILLAGE (00)","NT0-017 ","NT0",231.55000305175801]
[6001115290,"KOROROIT-LEMMON (01)","NT0-003 ","NT0",231.83999633789099]
[6001276595,"APHRASIA-VESTA (01)","NT0-011 ","NT0",232.080001831055]
[6001389129,"CECIL-FERGUSON (01)","NT0-015 ","NT0",232.35000610351599]
[6001115406,"STEVEDORE-WELLINGTON (04)","NT0-015 ","NT0",232.72000122070301]
[6001121319,"CHALLIS-SPEIGHT (01)","NT0-017 ","NT0",232.919998168945]
[6001279252,"JOHNSTON-NEWCASTLE (03)","NT0-017 ","NT0",233.30000305175801]
[6001232842,"OSBORNE-GARDEN (00)","NT0-015 ","NT0",233.52000427246099]
[6001118174,"COURTIS-MELBOURNE (01)","NT0-011 ","NT0",233.919998168945]
[6001118747,"DOVER-WATERLOO (03)","NT0-004 ","NT0",234.11000061035199]
[6001317388,"STEVEDORE-VIC INN (02)","NT0-015 ","NT0",234.330001831055]
[6001226702,"PAAS-RETIREMENT VILLAGE (00)","NT0-017 ","NT0",234.919998168945]
[6001122029,"STEVEDORE-DOUGLAS (04)","NT0-015 ","NT0",235.00999450683599]
[6001123214,"CROPPER-AITKEN (03)","NT0-015 ","NT0",235.63999938964801]
[6001115534,"JOHNSTON-NEWCASTLE (01)","NT0-017 ","NT0",235.71000671386699]
[6001245542,"HANMER-THOMPSON (01)","NT0-011 ","NT0",236.44999694824199]
[6001258442,"STEVEDORE-DOUGLAS (04)","NT0-015 ","NT0",236.53999328613301]
[6001118331,"DOVER-WATERLOO (02)","NT0-004 ","NT0",237.07000732421901]
[6001115398,"STEVEDORE-STRAND (02)","NT0-004 ","NT0",237.44000244140599]
[6001599724,"OXFORD-JUNCTION (02)","NT0-003 ","NT0",238.89999389648401]
[6001103273,"FRIER-PLENTY (01)","PTN-011 ","PTN",206.75]
[6001095766,"DAVIES-MILLER (01)","PTN-015 ","PTN",214.25]
[6001045525,"DAVIES-MILLER (01)","PTN-015 ","PTN",216]
[6001091693,"MAY-SPRING (01)","PTN-015 ","PTN",219.11000061035199]
[6001095271,"JESSIE-BELL (01)","PTN-015 ","PTN",220.28999328613301]
[6001480368,"DERMOT-CORMAC (01)","PTN-021 ","PTN",222.55000305175801]
[6001092325,"MYRTLE-REGENT (01)","PTN-015 ","PTN",223.61999511718801]
[6001340338,"FOCH-QUEEN (01)","PTN-011 ","PTN",225.22999572753901]
[6001090179,"GOWER-HIGH (01)","PTN-021 ","PTN",225.99000549316401]
[6001113654,"MILTON-RAGLAN (02)","PTN-014 ","PTN",227.22000122070301]
[6001101938,"PLENTY-BELL (02)","PTN-014 ","PTN",228.16000366210901]
[6001091315,"TAUNTON-SPRING (02)","PTN-015 ","PTN",228.80999755859401]
[6001428600,"ST GEORGES-TAFE COLLEGE (02)","PTN-015 ","PTN",229.16000366210901]
[6001093543,"VALE-HOPETOUN (02)","PTN-015 ","PTN",229.85000610351599]
[6001234972,"WATSON-DAVID (01)","PTN-021 ","PTN",230.41000366210901]
[6001410418,"POWELL-EXCELSIOR (02)","PTN-015 ","PTN",231.30999755859401]
[6001092791,"TAUNTON-SPRING (03)","PTN-015 ","PTN",231.55000305175801]
[6001125676,"DALGETY-HIGH (02)","PTN-014 ","PTN",232.30000305175801]
[6001336615,"MILTON-RAGLAN (02)","PTN-014 ","PTN",232.44000244140599]
[6001102715,"HAWKER-ELLISON (01)","PTN-011 ","PTN",233.14999389648401]
[6001220683,"BEAUCHAMP-HIGH (01)","PTN-011 ","PTN",233.27999877929699]
[6001388463,"GORDON-WOOD (02)","PTN-011 ","PTN",233.53999328613301]
[6001113943,"CARLISLE-HOTHAM (03)","PTN-014 ","PTN",233.99000549316401]
[6001090221,"CLINCH-HIGH (03)","PTN-011 ","PTN",234.419998168945]
[6001111856,"GORDON-WOOD (02)","PTN-011 ","PTN",234.669998168945]
[6001090354,"OLVER-HIGH (02)","PTN-011 ","PTN",235.02000427246099]
[6001490155,"PLENTY 33-MILTON (00)","PTN-014 ","PTN",235.10000610351599]
[6001630045,"OAKOVER-KENWOOD (04)","PTN-015 ","PTN",235.60000610351599]
[6001401731,"ETON-ALBERT (02)","PTN-021 ","PTN",235.75999450683599]
[6001255233,"WOOD-LUNETTE (01)","PTN-011 ","PTN",235.919998168945]
[6001342247,"LAHINCH-OPAL (03)","PTN-021 ","PTN",236.38000488281301]
[6001101901,"OSBORNE-HOTHAM (01)","PTN-014 ","PTN",236.83999633789099]
[6001112187,"KITCHENER-MURRAY (02)","PTN-011 ","PTN",237.00999450683599]
[6001112095,"GREGORY-PLENTY (02)","PTN-011 ","PTN",237.13000488281301]
[6001090801,"GARNET-PLENTY (02)","PTN-014 ","PTN",237.58999633789099]
[6001094674,"OAKOVER-MAIL CENTRE (02)","PTN-014 ","PTN",237.69999694824199]
[6001199783,"DEAN-SYLVESTER (02)","PTN-011 ","PTN",238.19999694824199]
[6001245767,"SYLVESTER-GORDON (02)","PTN-011 ","PTN",238.47000122070301]
[6001003036,"PATTERSON-DAVID (03)","PTN-021 ","PTN",238.80000305175801]
[6001002865,"GARNET-PLENTY (02)","PTN-014 ","PTN",239.11999511718801]
[6001424054,"PLENTY-RAGLAN (03)","PTN-014 ","PTN",239.25999450683599]
[6001090545,"JOSEPHINE-PLENTY (03)","PTN-011 ","PTN",239.36000061035199]
[6001323485,"PLENTY-MILTON (01)","PTN-014 ","PTN",239.69999694824199]
[6001094981,"CRAMER-BOND (02)","PTN-015 ","PTN",239.77000427246099]
[6001299816,"WARRS-HIGH (01)","PTN-014 ","PTN",239.96000671386699]
[6001246107,"PLENTY-SAFEWAY (00)","PTN-014 ","PTN",240.02999877929699]
[6001393167,"MILLER-HIGH (01)","PTN-014 ","PTN",240.21000671386699]
[6001003044,"CLIFTON-DAVID (01)","PTN-014 ","PTN",240.27999877929699]
[6001309663,"HAWKER-ELLISON (01)","PTN-011 ","PTN",240.5]
[6001614079,"BLANCH-ISAACS (03)","PTN-015 ","PTN",240.5]
[6001311068,"KITCHENER-MURRAY (02)","PTN-011 ","PTN",240.61000061035199]
[6001433864,"BELL-DONOVAN (01)","PTN-015 ","PTN",240.74000549316401]
[6001298664,"ST GEORGES 102-MURRAY (02)","PTN-024 ","PTN",240.88999938964801]
[6001330381,"MARY-BELL (02)","PTN-015 ","PTN",240.97000122070301]
[6001094556,"DAVIES-MILLER (02)","PTN-015 ","PTN",241.16000366210901]
[6001488246,"CLINCH-WILLIAM (01)","PTN-011 ","PTN",241.30000305175801]
[6001093179,"CRAMER-MARKET (00)","PTN-014 ","PTN",241.97000122070301]
[6001093202,"CRAMER-MARKET (00)","PTN-014 ","PTN",242.77999877929699]
[6001090202,"ROSEBERRY-HIGH (01)","PTN-021 ","PTN",246.80000305175801]
[6001170130,"ASH-WIDFORD (01)","PV0-013 ","PV0",207.080001831055]
[6001168218,"KALANG-PLUMPTON (02)","PV0-021 ","PV0",208.83999633789099]
[6001171243,"WEST-JOHN (03)","PV0-023 ","PV0",209.67999267578099]
[6001166203,"VALLEY-AUGUSTINE (02)","PV0-014 ","PV0",210.91000366210901]
[6001172764,"SOUTH-DERBY (03)","PV0-024 ","PV0",211.61000061035199]
[6001152717,"NEW-THE AVENUE (02)","PV0-014 ","PV0",212.61999511718801]
[6001491054,"SOUTH-DERBY (01)","PV0-024 ","PV0",212.80000305175801]
[6001154452,"ELDORADO-STRELDON (02)","PV0-022 ","PV0",213.99000549316401]
[6001475439,"PEARL-WHEATSHEAF (02)","PV0-013 ","PV0",214.11000061035199]
[6001233596,"MARGARET-WINIFRED (01)","PV0-022 ","PV0",215.02000427246099]
[6001154675,"PECK-PASCOE VALE (01)","PV0-012 ","PV0",215.27000427246099]
[6001320225,"JOHN-WINIFRED (03)","PV0-022 ","PV0",216.080001831055]
[6001169555,"HILTON-JUSTIN (01)","PV0-023 ","PV0",216.39999389648401]
[6001156271,"FREEMAN-LIZA (04)","PV0-015 ","PV0",216.69999694824199]
[6001166719,"BECKET-ANSELM (03)","PV0-031 ","PV0",217.38000488281301]
[6001636176,"STRATFORD-EAST (04)","PV0-024 ","PV0",217.69999694824199]
[6001569208,"NERISSA-SNELL (02)","PV0-031 ","PV0",218.30000305175801]
[6001211328,"PRINCESS-SOUTH (01)","PV0-024 ","PV0",218.61000061035199]
[6001155189,"DANIN-AUSTIN (01)","PV0-013 ","PV0",219.05999755859401]
[6001166290,"RIDGEWAY-MARRSON (03)","PV0-014 ","PV0",219.419998168945]
[6001154687,"PECK-PASCOE VALE (01)","PV0-012 ","PV0",219.69999694824199]
[6001172160,"NORTH-RICHMOND (03)","PV0-015 ","PV0",220.16000366210901]
[6001446831,"KADANA-NEW (01)","PV0-014 ","PV0",220.27999877929699]
[6001166490,"MOONEE-VALLEY (02)","PV0-014 ","PV0",220.44999694824199]
[6001019508,"HILTON-THAMES (02)","PV0-015 ","PV0",220.89999389648401]
[6001170425,"VALENCIA-MELBOURNE (03)","PV0-023 ","PV0",221.02999877929699]
[6001479797,"KADANA-NEW (01)","PV0-014 ","PV0",221.5]
[6001538270,"WALTER-WEST (02)","PV0-015 ","PV0",221.60000610351599]
[6001252436,"VALLEY-AUGUSTINE (02)","PV0-014 ","PV0",222.080001831055]
[6001170246,"HILTON-CHURCHILL (02)","PV0-021 ","PV0",222.17999267578099]
[6001242800,"EVELL-MORLEY (02)","PV0-023 ","PV0",222.580001831055]
[6001313582,"LINDSAY-GLENROY (02)","PV0-021 ","PV0",222.669998168945]
[6001407390,"ISLA-MELBOURNE (02)","PV0-023 ","PV0",222.94999694824199]
[6001308491,"TUDOR-PLUMPTON (02)","PV0-021 ","PV0",223.19000244140599]
[6001476554,"GREVILLIA-ALBERT (01)","PV0-013 ","PV0",223.580001831055]
[6001565212,"ILA-FARVIEW (01)","PV0-023 ","PV0",223.69999694824199]
[6001256708,"STRATFORD-EAST (01)","PV0-024 ","PV0",224.10000610351599]
[6001521276,"CHAPMAN-GRANDVIEW (02)","PV0-031 ","PV0",224.19999694824199]
[6001416146,"GREVILLIA-ALBERT (01)","PV0-013 ","PV0",224.61999511718801]
[6001170579,"GLENROY-MAUDE (01)","PV0-023 ","PV0",224.75]
[6001621041,"PECK-PASCOE VALE (04)","PV0-012 ","PV0",225.10000610351599]
[6001152709,"SUMMIT-VICTORIA (01)","PV0-014 ","PV0",225.24000549316401]
[6001346665,"CARDINAL-GLENROY (02)","PV0-013 ","PV0",225.57000732421901]
[6001583023,"BEATTY-MELBOURNE (02)","PV0-021 ","PV0",225.80000305175801]
[6001452130,"THICKINS-NORTHUMBERLAND (02)","PV0-012 ","PV0",226.02999877929699]
[6001007342,"BECKET-ANSELM (02)","PV0-031 ","PV0",226.13000488281301]
[6001321893,"ISLA-MELBOURNE (02)","PV0-023 ","PV0",226.330001831055]
[6001172060,"EAST-EXETER (01)","PV0-024 ","PV0",226.580001831055]
[6001034919,"JUSTIN-VIEW (04)","PV0-013 ","PV0",226.88999938964801]
[6001501152,"MIKADO-WEST (02)","PV0-023 ","PV0",227.02999877929699]
[6001166920,"CHAPMAN-BELAIR (04)","PV0-014 ","PV0",227.330001831055]
[6001166647,"CENTRE WAY-FRAN (03)","PV0-014 ","PV0",227.49000549316401]
[6001166801,"BECKET-ANSELM (03)","PV0-031 ","PV0",227.80000305175801]
[6001169626,"HILTON-HUBERT (03)","PV0-013 ","PV0",227.919998168945]
[6001309980,"DEVON-OAK (01)","PV0-031 ","PV0",228.27000427246099]
[6001166326,"GERVASE-PECHAM (02)","PV0-031 ","PV0",228.38000488281301]
[6001198982,"VOLGA-MIDDLE (01)","PV0-015 ","PV0",228.67999267578099]
[6001155397,"JESSIE-HERMIONE (03)","PV0-031 ","PV0",228.88000488281301]
[6001169033,"TREVANNION-DALEY (01)","PV0-021 ","PV0",229.13999938964801]
[6001230233,"JUSTIN-VIEW (02)","PV0-013 ","PV0",229.330001831055]
[6001156186,"PRINCESS-SOUTH (01)","PV0-024 ","PV0",229.60000610351599]
[6001306016,"BRISTOL-SOUTH (03)","PV0-024 ","PV0",229.64999389648401]
[6001351671,"PASCOE VALE-DEVON (01)","PV0-014 ","PV0",230.00999450683599]
[6001392041,"LINDSAY-GLENROY (03)","PV0-021 ","PV0",230.08999633789099]
[6001003314,"LYTTON-PASCOE VALE (01)","PV0-031 ","PV0",230.44999694824199]
[6001385938,"WALTER-LAWRENCE (01)","PV0-015 ","PV0",230.52999877929699]
[6001495257,"PARKER-AVOCA (02)","PV0-012 ","PV0",230.89999389648401]
[6001506389,"HILTON-JUSTIN (01)","PV0-023 ","PV0",231]
[6001153758,"IVAN-MASCOMA (03)","PV0-022 ","PV0",231.13999938964801]
[6001172448,"WEST-GEUM (03)","PV0-023 ","PV0",231.419998168945]
[6001561170,"QUICK-ARNDT (03)","PV0-023 ","PV0",231.60000610351599]
[6001017817,"HILTON-WEST (01)","PV0-023 ","PV0",231.91000366210901]
[6001351677,"CARDINAL-DALEY (02)","PV0-013 ","PV0",232.10000610351599]
[6001152896,"FLANNERY-DEVEREAUX (02)","PV0-022 ","PV0",232.39999389648401]
[6001153438,"JOHN-WINIFRED (03)","PV0-022 ","PV0",232.71000671386699]
[6001215915,"TUDOR-PLUMPTON (01)","PV0-021 ","PV0",232.94999694824199]
[6001327282,"QUICK-ARNDT (02)","PV0-023 ","PV0",233.27000427246099]
[6001152573,"PASCOE VALE-SWIMMING POOL (02)","PV0-022 ","PV0",233.46000671386699]
[6001588208,"JESSIE-HERMIONE (03)","PV0-031 ","PV0",233.60000610351599]
[6001443932,"GRANVILLE-MELBOURNE (01)","PV0-021 ","PV0",234.00999450683599]
[6001153169,"MARIE-MURPHY (01)","PV0-014 ","PV0",234.169998168945]
[6001168376,"WHEATSHEAF-ARGYLE (01)","PV0-021 ","PV0",234.580001831055]
[6001271426,"PASCOE VALE 824-BELAIR (02)","PV0-031 ","PV0",234.67999267578099]
[6001526175,"AUSTIN-VIEW (03)","PV0-022 ","PV0",235.10000610351599]
[6001343822,"ARUNDEL-PASCOE VALE (02)","PV0-031 ","PV0",235.19999694824199]
[6001015538,"GLENROY-LOGAN (01)","PV0-013 ","PV0",235.63999938964801]
[6001172712,"WALTER-DAVIES (02)","PV0-024 ","PV0",235.74000549316401]
[6001171647,"NORTH-LARLAC (02)","PV0-023 ","PV0",236.05999755859401]
[6001281072,"HILTON-CHURCHILL (02)","PV0-021 ","PV0",236.32000732421901]
[6001167767,"GLADSTONE-CHAPMAN (02)","PV0-014 ","PV0",236.67999267578099]
[6001168860,"ROY-BINDI (03)","PV0-013 ","PV0",236.89999389648401]
[6001016809,"BLUCHER-WATERLOO (02)","PV0-021 ","PV0",237.33999633789099]
[6001403909,"SNELL-WATT (02)","PV0-021 ","PV0",237.47000122070301]
[6001406472,"MASCOMA-STRATHNAVER (01)","PV0-022 ","PV0",237.94999694824199]
[6001033739,"PARKER-AVOCA (01)","PV0-012 ","PV0",238.11000061035199]
[6001408455,"SOUTH-KNOLE (02)","PV0-024 ","PV0",238.52000427246099]
[6001198969,"GLENROY-PLUMPTON (02)","PV0-021 ","PV0",238.71000671386699]
[6001560831,"MARGARET-WINIFRED (04)","PV0-022 ","PV0",239.19999694824199]
[6001388861,"EAST-EXETER (01)","PV0-024 ","PV0",239.47000122070301]
[6001167683,"PENGANA-LOONGANA (02)","PV0-014 ","PV0",240.25]
[6001514062,"LEBANON-ELDORADO (02)","PV0-022 ","PV0",241.39999389648401]
[6001455196,"HARTINGTON-MELBOURNE (00)","PV0-021 ","PV0",242.67999267578099]
[6001215306,"SANTA MONICA-LAGUNA (03)","SA0-006 ","SA0",218.78999328613301]
[6001228396,"MIRM-CHITTENUP (02)","SA0-012 ","SA0",226.72000122070301]
[6001013504,"SILVERDENE-LILY (04)","SA0-012 ","SA0",227.75]
[6001223300,"MELTON-SANDPIPER (00)","SA0-010 ","SA0",229.10000610351599]
[6001268136,"PECKS-SACRAS (03)","SA0-012 ","SA0",229.61999511718801]
[6001045104,"ROBINA-AMBRIDGE (02)","SA0-012 ","SA0",230.82000732421901]
[6001277122,"SILVERDENE-LILY (01)","SA0-012 ","SA0",231.13999938964801]
[6001295183,"RUBEN-CONTURSI (04)","SA0-012 ","SA0",232.41000366210901]
[6001243041,"PECKS-SACRAS (04)","SA0-012 ","SA0",232.86000061035199]
[6001010565,"RUBEN-CONTURSI (01)","SA0-012 ","SA0",234.13999938964801]
[6001457099,"FULLWOOD-WHEELER (04)","SBY-032 ","SBY",208.39999389648401]
[6001202851,"DOBELL-LINDSAY (01)","SBY-032 ","SBY",217.25]
[6001204139,"BENSON RD-P4 (00)","SBY-013 ","SBY",219.46000671386699]
[6001302370,"JUNE-COLLINS (02)","SBY-013 ","SBY",221.580001831055]
[6001204220,"OUTAWOOD RISE-P4 (00)","SBY-013 ","SBY",222.08999633789099]
[6001204206,"BULLARD RD-P4 (00)","SBY-013 ","SBY",223.13999938964801]
[6001310690,"BELLEVIEW-BETULA (02)","SBY-035 ","SBY",224.91000366210901]
[6001343315,"COURTNEY-PHILLIP (01)","SBY-023 ","SBY",225.50999450683599]
[6001203434,"ELIZABETH-HEYSEN (02)","SBY-032 ","SBY",226.61000061035199]
[6001403614,"LOGAN-BACKHAUS (01)","SBY-013 ","SBY",226.96000671386699]
[6001338008,"HIGHGROVE-OLD STOCK (01)","SBY-024 ","SBY",227.80999755859401]
[6001208193,"FULLBROOK-LAWRENCE (04)","SBY-023 ","SBY",228.08999633789099]
[6001326368,"ELIZABETH-HEYSEN (01)","SBY-032 ","SBY",228.77999877929699]
[6001202314,"ELIZABETH-LEICHARDT (01)","SBY-032 ","SBY",229.13000488281301]
[6001213788,"SORBONNE-CAREY (03)","SBY-024 ","SBY",229.66000366210901]
[6001202919,"DUNDAS-HEYSEN (01)","SBY-032 ","SBY",229.97999572753901]
[6001273388,"BALMORAL-BRAEMAR (01)","SBY-023 ","SBY",230.36000061035199]
[6001286146,"ROLLING MEADOWS-MARYLEBONE (02)","SBY-024 ","SBY",230.77999877929699]
[6001279715,"LOGAN-BACKHAUS (01)","SBY-013 ","SBY",231]
[6001204835,"RACECOURSE RD-P12 (00)","SBY-023 ","SBY",231.35000610351599]
[6001222606,"YELLOWGUM-BANKSIA (01)","SBY-012 ","SBY",231.52000427246099]
[6001330423,"THE STRAND-ROSEBERRY (02)","SBY-035 ","SBY",231.63000488281301]
[6001251081,"VAUGHAN-MACEDON (01)","SBY-024 ","SBY",232.00999450683599]
[6001014874,"ANTHONY-OLIVE (01)","SBY-032 ","SBY",232.11999511718801]
[6001310481,"THE HERMITAGE-THE SKYLINE (04)","SBY-024 ","SBY",232.44999694824199]
[6001304599,"MASSIE-LINDWALL (03)","SBY-013 ","SBY",232.50999450683599]
[6001291381,"MACEDON-JACKSON (03)","SBY-024 ","SBY",232.85000610351599]
[6001275659,"ROLLING MEADOWS-MARYLEBONE (04)","SBY-024 ","SBY",232.91000366210901]
[6001405590,"OUTLOOK-THE HEIGHTS (03)","SBY-035 ","SBY",233.22000122070301]
[6001341063,"THE STRAND-ROSEBERRY (02)","SBY-035 ","SBY",233.27000427246099]
[6001528332,"STAND-COMPANY (03)","SBY-024 ","SBY",233.5]
[6001309566,"OLD STOCK-COTSWOLDS (01)","SBY-024 ","SBY",233.67999267578099]
[6001284747,"OLD STOCK-COTSWOLDS (03)","SBY-024 ","SBY",233.89999389648401]
[6001500010,"ORIGIN-GOSHAWK (05)","SBY-024 ","SBY",234]
[6001208711,"CORNISH-PASLEY (03)","SBY-012 ","SBY",234.22000122070301]
[6001493839,"STONEY-SACRED (03)","SBY-024 ","SBY",234.30000305175801]
[6001516405,"LEROY-DUTCH (01)","SBY-024 ","SBY",234.5]
[6001341362,"FELTON-MAY (02)","SBY-032 ","SBY",234.58999633789099]
[6001324456,"BUNDANOON-LANDSCAPE (02)","SBY-023 ","SBY",234.72999572753901]
[6001528307,"MECHANICAL-MULGA (03)","SBY-024 ","SBY",234.80000305175801]
[6001278955,"STEWARTS-STOCKFELD (02)","SBY-023 ","SBY",234.94999694824199]
[6001215677,"BALMORAL-BRAEMAR (03)","SBY-023 ","SBY",235.00999450683599]
[6001240865,"TURNER-MENZIES (01)","SBY-012 ","SBY",235.19999694824199]
[6001515278,"LEROY-DUTCH (01)","SBY-024 ","SBY",235.19999694824199]
[6001204839,"EMU RD-P7 (00)","SBY-023 ","SBY",235.42999267578099]
[6001214616,"SORBONNE-CAREY (01)","SBY-024 ","SBY",235.46000671386699]
[6001210753,"MELBA-HEYSEN (02)","SBY-032 ","SBY",235.69999694824199]
[6001302696,"MASSIE-LINDWALL (02)","SBY-013 ","SBY",235.77000427246099]
[6001201259,"WINGEDFOOT-MUIRFIELD (02)","SBY-024 ","SBY",235.99000549316401]
[6001317769,"THE STRAND-ROSEBERRY (04)","SBY-035 ","SBY",236.07000732421901]
[6001222218,"YELLOWGUM-BLUEBUSH (01)","SBY-012 ","SBY",236.32000732421901]
[6001491998,"CANTERBURY-BUNDANOON (02)","SBY-023 ","SBY",236.39999389648401]
[6001299440,"MASSIE-LINDWALL (02)","SBY-013 ","SBY",236.50999450683599]
[6001329567,"THE STRAND-ROSEBERRY (03)","SBY-035 ","SBY",236.75999450683599]
[6001218153,"ANTHONY-OLIVE (02)","SBY-032 ","SBY",236.94000244140599]
[6001334030,"WELLINGTON-WESTMINSTER (04)","SBY-035 ","SBY",237.10000610351599]
[6001204727,"RACECOURSE RD-P12 (00)","SBY-023 ","SBY",237.27999877929699]
[6001503450,"SPECKLE-CRIMSON (01)","SBY-024 ","SBY",237.41000366210901]
[6001303565,"OLD STOCK-COTSWOLDS (03)","SBY-024 ","SBY",237.47999572753901]
[6001035897,"WESTWARD HO-SPYGLASS (03)","SBY-024 ","SBY",237.69000244140599]
[6001321132,"ELIZABETH-MARL (01)","SBY-013 ","SBY",237.77000427246099]
[6001266362,"THORNTON-WOODFIELD (03)","SBY-032 ","SBY",237.96000671386699]
[6001328894,"EVANS-BROOK (00)","SBY-012 ","SBY",238.05000305175801]
[6001230499,"BRADMAN-CHAPPEL (01)","SBY-013 ","SBY",238.25999450683599]
[6001424258,"ELIZABETH-PIMELEA (03)","SBY-023 ","SBY",238.32000732421901]
[6001388285,"ANDERSON-MITCHELLS (03)","SBY-023 ","SBY",238.50999450683599]
[6001414157,"SORREL-PIPIT (03)","SBY-023 ","SBY",238.580001831055]
[6001505586,"CAPEK-SUNNY (05)","SBY-024 ","SBY",238.69999694824199]
[6001230914,"BRADMAN-CHAPPEL (02)","SBY-013 ","SBY",238.830001831055]
[6001202833,"DOBELL-LINDSAY (01)","SBY-032 ","SBY",239.02999877929699]
[6001203090,"MELBA-DYSON (02)","SBY-032 ","SBY",239.13000488281301]
[6001230105,"BRADMAN-CHAPPEL (02)","SBY-013 ","SBY",239.25]
[6001311284,"LOCK RD-P23 (00)","SBY-013 ","SBY",239.38000488281301]
[6001204024,"LYNNE CRT-P1 (00)","SBY-013 ","SBY",239.46000671386699]
[6001422551,"BUNDANOON-LANDSCAPE (05)","SBY-023 ","SBY",239.5]
[6001260083,"ROVER-GAP (00)","SBY-013 ","SBY",239.66000366210901]
[6001516647,"RUBRUM-PALMATUM (03)","SBY-024 ","SBY",239.69999694824199]
[6001201510,"MCDOUGALL-VINEYARD (02)","SBY-032 ","SBY",239.85000610351599]
[6001281418,"BUNDANOON-LANDSCAPE (01)","SBY-023 ","SBY",239.89999389648401]
[6001435064,"GAP-BATMAN (01)","SBY-032 ","SBY",240.03999328613301]
[6001204715,"SPAVIN DR-P14A (00)","SBY-023 ","SBY",240.10000610351599]
[6001022232,"NAPIER ST-P3 (00)","SBY-013 ","SBY",240.16000366210901]
[6001204483,"RIDDELL RD-P59 (01)","SBY-023 ","SBY",240.27000427246099]
[6001213598,"REES-STREETON (02)","SBY-023 ","SBY",240.330001831055]
[6001206928,"LATROBE-MENZIES (02)","SBY-012 ","SBY",240.44999694824199]
[6001299674,"BLUEGUM-BELLEVIEW (01)","SBY-035 ","SBY",240.55999755859401]
[6001550164,"RUBRUM-NEEDLEBUSH (05)","SBY-024 ","SBY",240.60000610351599]
[6001200345,"ARDCLONEY-MAGUIRE (01)","SBY-012 ","SBY",240.72999572753901]
[6001488888,"BELLEVIEW-OUTLOOK (02)","SBY-035 ","SBY",240.80000305175801]
[6001204077,"STANTON CRT-P7 (00)","SBY-013 ","SBY",240.94999694824199]
[6001018850,"HOPBUSH-TREEVIOLET (02)","SBY-012 ","SBY",241.00999450683599]
[6001527178,"VANGEL-PEDRO (02)","SBY-024 ","SBY",241.19999694824199]
[6001248587,"DYSON-HARCOMBE (01)","SBY-013 ","SBY",241.30000305175801]
[6001203722,"GILCHRIST-CROSBIE (02)","SBY-023 ","SBY",241.47999572753901]
[6001598201,"MITCHELLS-SIMPSON 1 (04)","SBY-013 ","SBY",241.60000610351599]
[6001319118,"RITCHIE-GROUT (04)","SBY-013 ","SBY",241.91000366210901]
[6001292356,"RITCHIE-GROUT (04)","SBY-013 ","SBY",242.17999267578099]
[6001206793,"HIGGINS-MCKELL (02)","SBY-023 ","SBY",243.00999450683599]
[6001206823,"HIGGINS-MCKELL (01)","SBY-023 ","SBY",243.25999450683599]
[6001327080,"CHANDOS-BREADALBANE (02)","SHM-021 ","SHM",208.19000244140599]
[6001231105,"PUNJEL-CALDER (00)","SHM-011 ","SHM",209.33999633789099]
[6001125583,"CHANDOS-BREADALBANE (02)","SHM-021 ","SHM",213.91000366210901]
[6001279373,"DOMAIN-LYGON (03)","SHM-021 ","SHM",214.53999328613301]
[6001205988,"INGOT-PLUMPTON (01)","SHM-011 ","SHM",216.36999511718801]
[6001297029,"DICKERSON-TUCKER (03)","SHM-021 ","SHM",216.69999694824199]
[6001280245,"FLAGSTAFF-SWANSTON (03)","SHM-021 ","SHM",217.02999877929699]
[6001291919,"CONDER-DOBELL (03)","SHM-021 ","SHM",217.92999267578099]
[6001295471,"DICKERSON-TUCKER (03)","SHM-021 ","SHM",218.330001831055]
[6001317190,"OXFORD-ASHBURY (02)","SHM-022 ","SHM",219.05000305175801]
[6001236271,"CAPRICORN-PALMERSTON (01)","SHM-012 ","SHM",219.67999267578099]
[6001206158,"COLOUR-WINCH (02)","SHM-011 ","SHM",220.13000488281301]
[6001012305,"SANDALWOOD-BRAEDUKE (03)","SHM-022 ","SHM",220.69000244140599]
[6001277687,"CARLTON-CALDER PARK (04)","SHM-021 ","SHM",221.07000732421901]
[6001510958,"SCATTER-ORANGE (02)","SHM-014 ","SHM",221.5]
[6001209662,"DUNDEE-MEADE (03)","SHM-021 ","SHM",221.80000305175801]
[6001335996,"FLINDERS-THE WALK (03)","SHM-021 ","SHM",221.96000671386699]
[6001266412,"BLACKMAN-WHITELEY (03)","SHM-012 ","SHM",222.49000549316401]
[6001259694,"PIMELEA-COMMUNITY (02)","SHM-014 ","SHM",222.66000366210901]
[6001434219,"ERSKINE-ARGYLL (01)","SHM-014 ","SHM",223.07000732421901]
[6001219267,"BELLEVUE-WATTLEVALLEY (04)","SHM-022 ","SHM",223.19999694824199]
[6001124297,"THE CREST-HILLCREST (04)","SHM-022 ","SHM",223.63000488281301]
[6001267939,"ALLENBY-KALISTA (01)","SHM-021 ","SHM",223.71000671386699]
[6001217794,"LONGHURST-PENLOW (01)","SHM-022 ","SHM",223.96000671386699]
[6001511404,"RYNA'S-MAN (01)","SHM-011 ","SHM",224.19999694824199]
[6001183775,"SANTOLIN-REBECCA (02)","SHM-014 ","SHM",224.46000671386699]
[6001279397,"FLAGSTAFF-SWANSTON (04)","SHM-021 ","SHM",224.66000366210901]
[6001481059,"MILSOM-MANRESH (03)","SHM-014 ","SHM",225]
[6001008476,"MARQUET-SARONVALE (04)","SHM-022 ","SHM",225.080001831055]
[6001511154,"CROWN-ENGLISH (03)","SHM-014 ","SHM",225.39999389648401]
[6001255197,"CAPRICORN-PALMERSTON (04)","SHM-012 ","SHM",225.49000549316401]
[6001511629,"MAREMMANO-FRIESIAN (03)","SHM-012 ","SHM",225.80000305175801]
[6001480267,"PORTOBELLO-HILLGATE (01)","SHM-014 ","SHM",225.89999389648401]
[6001341420,"HUME-CALDER PARK (03)","SHM-021 ","SHM",226.17999267578099]
[6001228291,"COMMUNITY-HANNAH (01)","SHM-021 ","SHM",226.27999877929699]
[6001453207,"HIMALAYA-FLOURISH (03)","SHM-011 ","SHM",226.52999877929699]
[6001296605,"DUNDEE-MEADE (04)","SHM-021 ","SHM",226.71000671386699]
[6001008400,"WELLESLEY-SANDPIPER (01)","SHM-012 ","SHM",226.919998168945]
[6001480262,"MILSOM-MANRESH (04)","SHM-014 ","SHM",227]
[6001308273,"JADE-BALMORAL (03)","SHM-021 ","SHM",227.16000366210901]
[6001247894,"PIMELEA-COMMUNITY (04)","SHM-014 ","SHM",227.36999511718801]
[6001275434,"MCCUBBIN-WENTWORTH (03)","SHM-012 ","SHM",227.60000610351599]
[6001273612,"CATHERINE-SAINSBURY (04)","SHM-014 ","SHM",227.72000122070301]
[6001228996,"PIMELEA-COMMUNITY (04)","SHM-014 ","SHM",227.97000122070301]
[6001411129,"HIGGINS-SNOWSILL (04)","SHM-014 ","SHM",228.05999755859401]
[6001540046,"BALDWIN-AXE (02)","SHM-014 ","SHM",228.30000305175801]
[6001493535,"CROWN-ADVENTURE (02)","SHM-014 ","SHM",228.39999389648401]
[6001535301,"FOAL-FARRIER (05)","SHM-014 ","SHM",228.63999938964801]
[6001550241,"BALDWIN-AXE (03)","SHM-014 ","SHM",228.69999694824199]
[6001415092,"HIGGINS-SNOWSILL (02)","SHM-014 ","SHM",228.94000244140599]
[6001253699,"VERONA-CLIFTON (01)","SHM-012 ","SHM",229.05999755859401]
[6001280231,"PAVLEKA-ALLENBY (03)","SHM-021 ","SHM",229.27999877929699]
[6001411620,"ASPIRE-KENNEDY (01)","SHM-014 ","SHM",229.38999938964801]
[6001217134,"BORONIA-LABURNUM (02)","SHM-014 ","SHM",229.41000366210901]
[6001486755,"MADISONS-SHOWMAN (03)","SHM-011 ","SHM",229.60000610351599]
[6001550521,"BALDWIN-AXE (03)","SHM-014 ","SHM",229.69999694824199]
[6001474003,"MADISONS-TERRITORY (01)","SHM-011 ","SHM",229.89999389648401]
[6001308356,"SCARVELL-PRO HART (03)","SHM-021 ","SHM",230.16000366210901]
[6001205918,"KIPLING-CARROLL (04)","SHM-011 ","SHM",230.21000671386699]
[6001219025,"LONGHURST-PENLOW (01)","SHM-022 ","SHM",230.30999755859401]
[6001326324,"OXFORD-ASHBURY (04)","SHM-022 ","SHM",230.53999328613301]
[6001336451,"WILLIAMS-MORTON (02)","SHM-021 ","SHM",230.63999938964801]
[6001266008,"TASMAN-WENTWORTH (01)","SHM-012 ","SHM",230.86000061035199]
[6001205782,"STRATHDEN-MELTON (03)","SHM-021 ","SHM",230.97000122070301]
[6001213856,"MARQUET-SARONVALE (04)","SHM-022 ","SHM",231.17999267578099]
[6001391708,"BERGEN-NORDIC (03)","SHM-012 ","SHM",231.33999633789099]
[6001014434,"ROYAL-GRANDVIEW (01)","SHM-022 ","SHM",231.47999572753901]
[6001288573,"MORAY-YORK (02)","SHM-021 ","SHM",231.63999938964801]
[6001018681,"CATHERINE-ANTIONETTA (01)","SHM-014 ","SHM",231.77999877929699]
[6001219604,"CATHERINE-SAINSBURY (01)","SHM-014 ","SHM",231.99000549316401]
[6001367823,"SUNNINGDALE-CALLAWAY (03)","SHM-014 ","SHM",232.10000610351599]
[6001599625,"FRIENDSHIP-VERONA (03)","SHM-012 ","SHM",232.30000305175801]
[6001543247,"JUMP-CART (02)","SHM-014 ","SHM",232.39999389648401]
[6001424137,"KIPLING-DRYDEN (01)","SHM-011 ","SHM",232.50999450683599]
[6001320741,"KINETIC-VIRIDIAN (02)","SHM-022 ","SHM",232.78999328613301]
[6001417335,"PLUMPTON-COLOUR (02)","SHM-011 ","SHM",232.83999633789099]
[6001550258,"STRONG-TURNING (05)","SHM-014 ","SHM",233.10000610351599]
[6001249264,"CRADLE-PLUMPTON (01)","SHM-011 ","SHM",233.19999694824199]
[6001393726,"BREEZE-KING (02)","SHM-022 ","SHM",233.39999389648401]
[6001324423,"CALDER FWY-CALDER PARK (00)","SHM-012 ","SHM",233.55999755859401]
[6001228127,"LUSCANDER-TORMORVEY (04)","SHM-022 ","SHM",233.77000427246099]
[6001394093,"WRIGHT-ASPIRE (01)","SHM-014 ","SHM",233.94000244140599]
[6001233815,"PIMELEA-COMMUNITY (02)","SHM-014 ","SHM",234.169998168945]
[6001517422,"BUDDING-BANKS (02)","SHM-011 ","SHM",234.30000305175801]
[6001527076,"HAMMERHILL-MULLINS (02)","SHM-011 ","SHM",234.60000610351599]
[6001473877,"MADISONS-TERRITORY (03)","SHM-011 ","SHM",234.69999694824199]
[6001481155,"MILSOM-MANRESH (02)","SHM-014 ","SHM",235]
[6001457286,"CREEKSIDE-MASON (02)","SHM-022 ","SHM",235.10000610351599]
[6001373096,"AUDEN-ROWLING (01)","SHM-014 ","SHM",235.38000488281301]
[6001552227,"MELTON-OVERTON (04)","SHM-021 ","SHM",235.5]
[6001232413,"SANTOLIN-REBECCA (01)","SHM-014 ","SHM",235.86000061035199]
[6001209512,"SPELLMAN-BRENNAN (03)","SHM-021 ","SHM",236.16000366210901]
[6001425419,"PROSPECTOR-GOLDFIELD (03)","SHM-011 ","SHM",236.419998168945]
[6001386813,"RAWSON-GOULDING (02)","SHM-014 ","SHM",236.77999877929699]
[6001414366,"KIPLING-CARROLL (04)","SHM-011 ","SHM",237.11999511718801]
[6001367798,"SUNNINGDALE-CALLAWAY (04)","SHM-014 ","SHM",237.330001831055]
[6001593151,"OVERTON LEA-TRICKEY (04)","SHM-021 ","SHM",237.89999389648401]
[6001539143,"ALDGATE-PACKINGTON (04)","SHM-014 ","SHM",238.30000305175801]
[6001469733,"CHATEAU-BUDBURST (03)","SHM-011 ","SHM",239.30000305175801]
[6001454546,"FREDERICK-MCDOUGALL (03)","SHM-011 ","SHM",239.63000488281301]
[6001524858,"BUSHRANGER-CATTLECROSSING (03)","SHM-011 ","SHM",240.39999389648401]
[6001476467,"TARADALE-MAMIC (03)","SHM-014 ","SHM",240.69999694824199]
[6001524852,"BUSHRANGER-CATTLECROSSING (03)","SHM-011 ","SHM",241.5]
[6001276815,"MELTON-MEWS (04)","SHM-021 ","SHM",242]
[6001186103,"SECOND-EVE (01)","ST0-011 ","ST0",209.86000061035199]
[6001456515,"BURNETT-NORTHPARK (01)","ST0-013 ","ST0",216.07000732421901]
[6001418248,"LANCEWOOD-BRENTWICK (04)","ST0-012 ","ST0",217.60000610351599]
[6001281474,"MOSEL-WISLA (02)","ST0-012 ","ST0",220.30000305175801]
[6001504100,"ADANSONIA-CAROB (02)","ST0-012 ","ST0",220.5]
[6001297655,"BAY MEADOWS-KAPALUA (04)","ST0-012 ","ST0",221.61000061035199]
[6001371056,"BALYANG-GULLY (03)","ST0-033 ","ST0",222.14999389648401]
[6001211389,"BANBURY-HURSLEY (02)","ST0-011 ","ST0",222.86000061035199]
[6001267598,"PLATANI-MARNE (02)","ST0-033 ","ST0",223.13999938964801]
[6001423240,"OCEAN-DELTA (02)","ST0-012 ","ST0",223.72000122070301]
[6001185784,"BEACON HILLS-MEDWAY (01)","ST0-011 ","ST0",223.92999267578099]
[6001292394,"BAY MEADOWS-KAPALUA (03)","ST0-012 ","ST0",224.419998168945]
[6001425616,"FORTHAM-PIONEER (02)","ST0-012 ","ST0",224.60000610351599]
[6001427969,"DIVAN-DEBONAIR (05)","ST0-012 ","ST0",224.99000549316401]
[6001423154,"RIEGELHUTH-HIGHLANDER (03)","ST0-012 ","ST0",225.17999267578099]
[6001514835,"VANTAGE-ELEVATION (05)","ST0-012 ","ST0",225.5]
[6001428002,"DIVAN-DEBONAIR (03)","ST0-012 ","ST0",225.69999694824199]
[6001387425,"LANCEWOOD-BRENTWICK (02)","ST0-012 ","ST0",225.97999572753901]
[6001280191,"MOSEL-WISLA (01)","ST0-012 ","ST0",226.25999450683599]
[6001416670,"ADMIRATION-REVERENCE (02)","ST0-012 ","ST0",226.41000366210901]
[6001217331,"PRINCETOWN-WICK (02)","ST0-033 ","ST0",226.47999572753901]
[6001408906,"RIEGELHUTH-HIGHLANDER (01)","ST0-012 ","ST0",226.830001831055]
[6001184817,"FARNBOROUGH-EPSOM (02)","ST0-033 ","ST0",226.919998168945]
[6001186185,"MEDWAY-HANSON (01)","ST0-011 ","ST0",227.25999450683599]
[6001408578,"FAME-EUPHORIA (02)","ST0-032 ","ST0",227.330001831055]
[6001283622,"MERRIVALE-KINGFISHER (01)","ST0-032 ","ST0",227.669998168945]
[6001186545,"LANGDON-GRINSTEAD (02)","ST0-033 ","ST0",227.75999450683599]
[6001417353,"RIEGELHUTH-HIGHLANDER (02)","ST0-012 ","ST0",228.05999755859401]
[6001211702,"NEWLYN-PEMBROKE (03)","ST0-012 ","ST0",228.11999511718801]
[6001281069,"PLATANI-MARNE (04)","ST0-033 ","ST0",228.30999755859401]
[6001236763,"MEDWAY-CIMBERWOOD (02)","ST0-011 ","ST0",228.47000122070301]
[6001296696,"CONISTON-GROSVENOR (01)","ST0-033 ","ST0",228.63999938964801]
[6001420492,"PLUMBAGO-MONTALTO (02)","ST0-032 ","ST0",228.77999877929699]
[6001307975,"BELLFIELD-GAINSBOROUGH (04)","ST0-033 ","ST0",228.96000671386699]
[6001290174,"St CLOUD-SCOTTSDALE (02)","ST0-012 ","ST0",229.080001831055]
[6001386538,"VANTAGE-VALI (03)","ST0-012 ","ST0",229.25999450683599]
[6001021799,"STUDLEY-ROKEBY (02)","ST0-011 ","ST0",229.38000488281301]
[6001410731,"RIVERSIDE-WATERVIEW (04)","ST0-012 ","ST0",229.58999633789099]
[6001334462,"CENTENNIAL PARK-GIPPSLAND (03)","ST0-011 ","ST0",229.66000366210901]
[6001453859,"ESTEEM-DISTINCTION (01)","ST0-012 ","ST0",229.88000488281301]
[6001392074,"GREVILLEA-PLUM (02)","ST0-033 ","ST0",229.97000122070301]
[6001310154,"CASCADE-CENTRAL PARK (03)","ST0-033 ","ST0",230.19000244140599]
[6001474292,"JUSCELINA-RETBA (04)","ST0-012 ","ST0",230.19999694824199]
[6001332143,"FAIRHAVEN-HOLMAN (04)","ST0-011 ","ST0",230.46000671386699]
[6001369407,"CHAMPION-CRAIGIEBURN (02)","ST0-032 ","ST0",230.47999572753901]
[6001326349,"CENTENNIAL PARK-GIPPSLAND (04)","ST0-011 ","ST0",230.60000610351599]
[6001416808,"RIVERSIDE-WATERVIEW (05)","ST0-012 ","ST0",230.75999450683599]
[6001415695,"VANTAGE-DASHING (01)","ST0-012 ","ST0",231.02999877929699]
[6001290119,"WOODLEA-HEATHWOOD (02)","ST0-022 ","ST0",231.11000061035199]
[6001524913,"HUME OFF RAMP-EXPORT (00)","ST0-011 ","ST0",231.30000305175801]
[6001309241,"ROYAL-WESTERFOLDS (04)","ST0-022 ","ST0",231.38999938964801]
[6001418201,"RIVERSIDE-WATERVIEW (05)","ST0-012 ","ST0",231.44999694824199]
[6001311658,"DOVER-WINDROCK (01)","ST0-022 ","ST0",231.63999938964801]
[6001351010,"EDINGTON-HOTHLYN (03)","ST0-033 ","ST0",231.72000122070301]
[6001519026,"KOSCIUSZKO-KILIMANJARO (01)","ST0-032 ","ST0",231.89999389648401]
[6001350405,"NORTHUMBERLAND-MIDDLESBOROUGH (01)","ST0-022 ","ST0",232.03999328613301]
[6001233796,"CREEKWOOD-CHERRY BLOSSOM (02)","ST0-011 ","ST0",232.17999267578099]
[6001332928,"HAYFIELD-EDGEWOOD (03)","ST0-032 ","ST0",232.28999328613301]
[6001208130,"LONGTOWN-ABERCARN (02)","ST0-033 ","ST0",232.41000366210901]
[6001324468,"WATERBIRD-WATERVIEW (02)","ST0-033 ","ST0",232.47000122070301]
[6001411550,"PENINSULA-STREAMSIDE (04)","ST0-012 ","ST0",232.61999511718801]
[6001018458,"BRECON-YARCOMBE (03)","ST0-032 ","ST0",232.72999572753901]
[6001290581,"BOWRAL-GRAND (04)","ST0-022 ","ST0",232.89999389648401]
[6001212719,"WOKING-DYMOCK (01)","ST0-032 ","ST0",232.97000122070301]
[6001414186,"VANTAGE-DASHING (02)","ST0-012 ","ST0",233.13000488281301]
[6001454008,"FAME-EUPHORIA (03)","ST0-032 ","ST0",233.19999694824199]
[6001286379,"FREIGHT 138-FILLO (03)","ST0-013 ","ST0",233.38000488281301]
[6001447334,"RHYOLITE-BANJOLINA (02)","ST0-012 ","ST0",233.42999267578099]
[6001453633,"CROCKET-HOTHLYN (00)","ST0-022 ","ST0",233.53999328613301]
[6001447337,"RHYOLITE-BANJOLINA (04)","ST0-012 ","ST0",233.67999267578099]
[6001210575,"DORCHESTER-BANBURY (02)","ST0-011 ","ST0",233.88000488281301]
[6001311979,"DOVER-WINDROCK (01)","ST0-022 ","ST0",233.97999572753901]
[6001390719,"FAIRHAVEN-HOLMAN (02)","ST0-011 ","ST0",234.14999389648401]
[6001184728,"CRAIGIEBURN-HANSON (01)","ST0-022 ","ST0",234.19999694824199]
[6001212889,"WOKING-DYMOCK (01)","ST0-032 ","ST0",234.46000671386699]
[6001443301,"WHITFIELD-WHITES (02)","ST0-012 ","ST0",234.5]
[6001466331,"DIATREME-VULCAN (05)","ST0-032 ","ST0",234.72999572753901]
[6001466263,"DIATREME-VULCAN (05)","ST0-032 ","ST0",234.80000305175801]
[6001520025,"BRECCIA-GLACIER (04)","ST0-032 ","ST0",235]
[6001127836,"EASTGATE-HOTHLYN (02)","ST0-022 ","ST0",235.08999633789099]
[6001453871,"CHAMPION-BRAVEHEART (04)","ST0-032 ","ST0",235.30000305175801]
[6001421350,"CAVELL-PUNT (03)","ST0-011 ","ST0",235.38000488281301]
[6001386143,"GRAND-AITKEN (04)","ST0-022 ","ST0",235.5]
[6001494660,"CLOVELLY-ENFIELD (01)","ST0-033 ","ST0",235.69999694824199]
[6001249767,"CROCKET-HOTHLYN (02)","ST0-022 ","ST0",235.919998168945]
[6001293284,"St CLOUD-SCOTTSDALE (04)","ST0-012 ","ST0",236.080001831055]
[6001281492,"CREEKWOOD-CHERRY BLOSSOM (04)","ST0-011 ","ST0",236.25999450683599]
[6001321504,"CENTENNIAL PARK-GIPPSLAND (01)","ST0-011 ","ST0",236.39999389648401]
[6001278159,"SILVERTREE-CROSSDALE (04)","ST0-022 ","ST0",236.60000610351599]
[6001453912,"METTLE-SCENERY (03)","ST0-012 ","ST0",236.69999694824199]
[6001476400,"COCKATOO-COMPASS (05)","ST0-032 ","ST0",236.89999389648401]
[6001448629,"GAUJA-ANDAMAN (01)","ST0-012 ","ST0",237]
[6001489901,"COCKATOO-COMPASS (02)","ST0-032 ","ST0",237.19999694824199]
[6001463737,"BRUNSWICK-LYGON (05)","ST0-011 ","ST0",237.28999328613301]
[6001385964,"CAVELL-PUNT (04)","ST0-011 ","ST0",237.49000549316401]
[6001441921,"HYDE-BRIGHTON (02)","ST0-022 ","ST0",237.57000732421901]
[6001268077,"FODEN 11-SCAMMEL (01)","ST0-024 ","ST0",237.61999511718801]
[6001453820,"HARDY-BENSTON (01)","ST0-022 ","ST0",237.77000427246099]
[6001427130,"LEFEY-OSCAR (01)","ST0-032 ","ST0",237.88999938964801]
[6001295864,"NATHAN-FODEN NO.1 (02)","ST0-024 ","ST0",238.02000427246099]
[6001003933,"NORTHBOURNE RD-P20 (01)","ST0-034 ","ST0",238.11999511718801]
[6001320655,"DOVER-WINDROCK (04)","ST0-022 ","ST0",238.27000427246099]
[6001229830,"MEROLA 70-AMCOR (01)","ST0-034 ","ST0",238.35000610351599]
[6001598113,"POTTER ST-P186A (04)","ST0-022 ","ST0",238.5]
[6001513182,"NORTHPARK 38-BURNETT (04)","ST0-013 ","ST0",238.60000610351599]
[6001407157,"METROLINK WEST-COOPER 2 (04)","ST0-013 ","ST0",238.75]
[6001321101,"METROLINK EAST-TRANSIT (02)","ST0-013 ","ST0",238.80999755859401]
[6001305912,"NATHAN-FODEN NO.1 (04)","ST0-024 ","ST0",238.97999572753901]
[6001126667,"JESICA 48-VANESSA (01)","ST0-023 ","ST0",239.05000305175801]
[6001477010,"NORTHPARK-COOPER (04)","ST0-013 ","ST0",239.22000122070301]
[6001209712,"PRINCETOWN-WICK (02)","ST0-033 ","ST0",239.39999389648401]
[6001369904,"MAISIE-LOMBARD (03)","ST0-032 ","ST0",239.53999328613301]
[6001209820,"WOKING-DYMOCK (02)","ST0-032 ","ST0",239.77999877929699]
[6001479885,"NORTHPARK-BURNETT (01)","ST0-013 ","ST0",239.97999572753901]
[6001250509,"LEFEY-OSCAR (04)","ST0-032 ","ST0",240.35000610351599]
[6001453019,"METROLINK WEST TRANSIT (01)","ST0-013 ","ST0",240.77999877929699]
[6001305008,"CAPITAL LINK 84-MEROLA (01)","ST0-034 ","ST0",242]
[6001511062,"STANLEY-THE GATE WAREHOUSE (01)","ST0-024 ","ST0",245.55999755859401]
[6001301465,"HAMPDEN-CROTHERS (01)","TH0-012 ","TH0",215.16000366210901]
[6001414305,"SOUTH-BEACHLEY (01)","TH0-022 ","TH0",223.97999572753901]
[6001057055,"BIZANA-FONTEIN (02)","TH0-011 ","TH0",225.44999694824199]
[6001235899,"SOUTH-BEACHLEY (02)","TH0-022 ","TH0",229.25999450683599]
[6001339686,"OPAL-JADE (01)","TH0-022 ","TH0",230.13999938964801]
[6001002470,"MCDONALD-SOMERVILLE (00)","TH0-021 ","TH0",232]
[6001058681,"SOMERVILLE-CROMWELL (01)","TH0-011 ","TH0",233.46000671386699]
[6001424909,"ASHLEY-CENTRAL WEST NO.1 (05)","TH0-012 ","TH0",234.63999938964801]
[6001387614,"ANGLISS-SANDERSON (01)","TH0-011 ","TH0",235.94999694824199]
[6001488669,"COLE-INVENTORY (05)","TH0-022 ","TH0",237.69999694824199]
[6001220733,"OLD GEELONG 17-JONES (01)","TH0-021 ","TH0",237.96000671386699]
[6001065582,"TOTTENHAM-GEELONG (01)","TH0-011 ","TH0",238.97999572753901]
[6001058463,"ANGLISS-SANDERSON (03)","TH0-011 ","TH0",239.14999389648401]
[6001478792,"HOLZER-MUNITIONS (03)","TH0-022 ","TH0",240.19999694824199]
[6001219479,"SUNSHINE 217-QUARRY 2 (00)","TH0-022 ","TH0",241.02000427246099]
[6001009529,"BANK-SOUTH (02)","TH0-012 ","TH0",244.47000122070301]
[6001489963,"BUNTING-SOMERVILLE 463A (01)","TH0-021 ","TH0",245.10000610351599]
[6001487168,"VICTORY-FOSTERS (01)","TMA-011 ","TMA",215]
[6001156889,"SNOW-LATROSE (02)","TMA-011 ","TMA",224.35000610351599]
[6001156574,"MARKET-SPENCE (01)","TMA-011 ","TMA",228.55999755859401]
[6001504369,"ELIZA-EREBUS (01)","TMA-011 ","TMA",229.89999389648401]
[6001243585,"MARKET-SPENCE (02)","TMA-011 ","TMA",233.169998168945]
[6001414112,"DISNEY-SLATER (01)","TMA-011 ","TMA",234.19999694824199]
[6001222392,"WEBBER 62-SLATER (02)","TMA-011 ","TMA",235.61999511718801]
[6001289877,"MARENO-LAMBECK (02)","TMA-014 ","TMA",236.80000305175801]
[6001394457,"QUINN-THOMSONS (01)","TMA-011 ","TMA",238.00999450683599]
[6001004613,"LAMBECK-ANNANDALE (01)","TMA-014 ","TMA",238.38999938964801]
[6001303844,"SNOW-LATROSE (04)","TMA-011 ","TMA",238.88000488281301]
[6001228440,"SLATER 39-WEBBER (01)","TMA-011 ","TMA",239.05000305175801]
[6001294609,"COMMERCIAL-LAMBECK (01)","TMA-025 ","TMA",239.35000610351599]
[6001495292,"TREVI 20-MARENO (02)","TMA-014 ","TMA",239.46000671386699]
[6001319378,"LILLEE-LAMBECK (01)","TMA-014 ","TMA",239.66000366210901]
[6001274256,"LILLEE-LAMBECK (01)","TMA-014 ","TMA",239.88999938964801]
[6001342647,"SOUTH CENTRE 189-ANNANDALE (02)","TMA-014 ","TMA",239.97000122070301]
[6001334600,"LOGISTICS-LINDON (02)","TMA-025 ","TMA",240.21000671386699]
[6001403181,"ELY-TUNNECLIFFE (01)","TMA-011 ","TMA",240.419998168945]
[6001278113,"BECKETT-SLATER (02)","TMA-011 ","TMA",240.72999572753901]
[6001288830,"LAMBECK-KEILOR PK 1 (01)","TMA-025 ","TMA",241.03999328613301]
[6001501430,"THOR-KEILOR PK 1 (00)","TMA-011 ","TMA",243.10000610351599]
[6001396089,"WRIGHT 20-THOMSONS (04)","TMA-025 ","TMA",245.58999633789099]
[6001105613,"PICKETT-HICKFORD (02)","TT0-011 ","TT0",207.63000488281301]
[6001449629,"MCCRAE-ELSEY (03)","TT0-011 ","TT0",208.88999938964801]
[6001104247,"CENTRE-HOWARD (04)","TT0-010 ","TT0",211.05999755859401]
[6001098324,"ROSENTHAL-ALLENBY (01)","TT0-010 ","TT0",212.14999389648401]
[6001108055,"BOLDREWOOD-McMAHON (01)","TT0-011 ","TT0",214.080001831055]
[6001106909,"ARGYLE-DAREBIN (01)","TT0-003 ","TT0",214.86000061035199]
[6001490575,"BANFF-DON (02)","TT0-003 ","TT0",216.30000305175801]
[6001273272,"GODLEY-BROADHURST (02)","TT0-008 ","TT0",217.330001831055]
[6001098131,"ROSENTHAL-HUGHES (01)","TT0-008 ","TT0",218.11000061035199]
[6001272973,"INVERMAY-ST VIGEONS (02)","TT0-003 ","TT0",219]
[6001636239,"PLENTY-RESERVOIR COLLEGE (01)","TT0-010 ","TT0",219.69999694824199]
[6001017343,"BRAY-BARTROP (02)","TT0-008 ","TT0",220.63000488281301]
[6001097739,"CARSON-HUGHES (02)","TT0-010 ","TT0",221.14999389648401]
[6001108879,"SCOTT-PLENTY (01)","TT0-011 ","TT0",221.38000488281301]
[6001257612,"GREENOCK-DAREBIN (01)","TT0-011 ","TT0",222.419998168945]
[6001106982,"AYR-DAREBIN (02)","TT0-003 ","TT0",222.66000366210901]
[6001106301,"BURBANK-SAN LEANDRO (01)","TT0-003 ","TT0",223.46000671386699]
[6001107829,"BEENAK-PURINUAN (01)","TT0-011 ","TT0",223.69999694824199]
[6001478393,"CARROL-ROYAL (03)","TT0-010 ","TT0",224.50999450683599]
[6001100408,"BRAY-BARTROP (02)","TT0-008 ","TT0",224.75999450683599]
[6001101357,"BARRY-WHITBY (03)","TT0-010 ","TT0",225.25]
[6001281160,"PICKETT-HICKFORD (00)","TT0-011 ","TT0",225.63999938964801]
[6001100444,"BRAY-BARTROP (02)","TT0-008 ","TT0",226.05999755859401]
[6001106839,"GREENOCK-DAREBIN (02)","TT0-011 ","TT0",226.419998168945]
[6001453032,"CHENIES-RATHCOWN (01)","TT0-003 ","TT0",226.80999755859401]
[6001107160,"INVERMAY-ST VIGEONS (02)","TT0-003 ","TT0",227.10000610351599]
[6001104553,"BERNARD-BROADWAY (02)","TT0-010 ","TT0",227.61000061035199]
[6001107935,"CHENIES-RATHCOWN (01)","TT0-003 ","TT0",227.75]
[6001105287,"WHITE-CHEDDAR (04)","TT0-011 ","TT0",228.27999877929699]
[6001105722,"MACK-HARMER (03)","TT0-011 ","TT0",228.46000671386699]
[6001105853,"LISTON-JOHNSON (01)","TT0-003 ","TT0",228.91000366210901]
[6001105628,"MACK-PICKETT (02)","TT0-011 ","TT0",229.10000610351599]
[6001097518,"ANSTEY-LOCKTON (04)","TT0-008 ","TT0",229.57000732421901]
[6001098672,"TRACEY-ELLIOT (01)","TT0-008 ","TT0",229.86999511718801]
[6001471281,"NORTH-BARWON (03)","TT0-010 ","TT0",229.88000488281301]
[6001491781,"CHEDDAR-JINGHI (03)","TT0-011 ","TT0",230.19999694824199]
[6001107647,"PURINUAN-BOX (02)","TT0-011 ","TT0",230.75]
[6001097669,"LUDEMAN-BRAITHWAITE (02)","TT0-008 ","TT0",230.92999267578099]
[6001255936,"THE FAIRWAY-DUNNE (03)","TT0-011 ","TT0",231.27999877929699]
[6001346949,"ELLERSLIE-HIGHLAND (02)","TT0-011 ","TT0",231.49000549316401]
[6001109086,"ELLERSLIE-DUNNE (02)","TT0-011 ","TT0",231.85000610351599]
[6001105839,"ANNE-DALEGLEN (01)","TT0-003 ","TT0",232]
[6001106570,"GERTZ-BURNETT (03)","TT0-003 ","TT0",232.36000061035199]
[6001101006,"TRACEY-ELLIOT (01)","TT0-008 ","TT0",232.49000549316401]
[6001222921,"DUFFY-BARRY (02)","TT0-010 ","TT0",232.60000610351599]
[6001302608,"LODDON-PLENTY (02)","TT0-010 ","TT0",232.96000671386699]
[6001109438,"DRIVER-THE FAIRWAY (02)","TT0-003 ","TT0",233.22000122070301]
[6001439248,"ELLERSLIE-DUNNE (01)","TT0-011 ","TT0",233.50999450683599]
[6001407272,"HOBBS-BROADHURST (02)","TT0-010 ","TT0",233.63000488281301]
[6001596460,"LUDEMAN-BRAITHWAITE (02)","TT0-008 ","TT0",233.89999389648401]
[6001537418,"JOHNSON-ARUNDEL (02)","TT0-003 ","TT0",234.10000610351599]
[6001098702,"GLASGOW-RADFORD (01)","TT0-008 ","TT0",234.39999389648401]
[6001107576,"PURINUAN-NUTWOOD (01)","TT0-003 ","TT0",234.580001831055]
[6001107312,"ST VIGEONS-BORRIE (03)","TT0-011 ","TT0",234.89999389648401]
[6001123663,"SCOTT-PLENTY (01)","TT0-011 ","TT0",235.03999328613301]
[6001477374,"JOHNSON-ARUNDEL (04)","TT0-003 ","TT0",235.38999938964801]
[6001108782,"BROWNING-SCOTT (01)","TT0-011 ","TT0",235.580001831055]
[6001100202,"GLASGOW-RADFORD (03)","TT0-008 ","TT0",236.00999450683599]
[6001105306,"CARROL-ORRONG (01)","TT0-010 ","TT0",236.22000122070301]
[6001097687,"LUDEMAN-BRAITHWAITE (02)","TT0-008 ","TT0",236.52000427246099]
[6001222321,"HALSEY-RADFORD (02)","TT0-008 ","TT0",236.91000366210901]
[6001097685,"LUDEMAN-BRAITHWAITE (02)","TT0-008 ","TT0",237.33999633789099]
[6001329873,"ELLERSLIE-DUNNE (02)","TT0-011 ","TT0",237.669998168945]
[6001109569,"GOLF-FLAG (01)","TT0-011 ","TT0",237.919998168945]
[6001107291,"BANFF-DON (03)","TT0-003 ","TT0",238.25999450683599]
[6001256925,"CURTAIN-PLENTY (01)","TT0-011 ","TT0",238.52000427246099]
[6001460159,"PLENTY-SNAKE GULLY (01)","TT0-011 ","TT0",238.58999633789099]
[6001100276,"HALSEY-RADFORD (01)","TT0-008 ","TT0",239.169998168945]
[6001488381,"GISBORNE-NORTH (02)","TT0-010 ","TT0",239.30000305175801]
[6001557413,"COBHAM 2-VIMY (03)","TT0-008 ","TT0",240]
[6001232816,"ASQUITH-STURDEE (02)","TT0-011 ","TT0",240.33999633789099]
[6001126250,"BUNDOORA PARK-CHILDRENS FARM (01)","TT0-003 ","TT0",245.27000427246099]
[6001083510,"FRENSHAM-HARBORNE (03)","WT0-004 ","WT0",229.30999755859401]
[6001063802,"BURTON-OAKLAND (01)","YVE-022 ","YVE",207.14999389648401]
[6001270423,"CULLEN-MARY (02)","YVE-012 ","YVE",214.32000732421901]
[6001403526,"CULLEN-MARY (01)","YVE-012 ","YVE",217.169998168945]
[6001063960,"CLYDE-THE ESPLANADE (01)","YVE-022 ","YVE",218.97000122070301]
[6001011738,"TAMUK-SHEOAK (03)","YVE-022 ","YVE",220.69000244140599]
[6001286829,"CHICAGO-RANDALL (01)","YVE-022 ","YVE",222.05000305175801]
[6001012097,"JINDIVICK-SEAGULL (03)","YVE-022 ","YVE",223.13999938964801]
[6001020391,"THE ESPLANADE-PLANTATION (02)","YVE-022 ","YVE",223.69000244140599]
[6001262944,"NAVIGATOR-RALEIGH (02)","YVE-022 ","YVE",224.57000732421901]
[6001267533,"RIVERBANK-BREAM (02)","YVE-022 ","YVE",225.00999450683599]
[6001125845,"JINDIVICK-SEAGULL (01)","YVE-022 ","YVE",225.88999938964801]
[6001273615,"PLATYPUS-SANDPIPER (01)","YVE-022 ","YVE",226.21000671386699]
[6001022759,"BARB-MIDDLE (04)","YVE-022 ","YVE",227.02000427246099]
[6001433843,"BARB-MIDDLE (01)","YVE-022 ","YVE",227.32000732421901]
[6001266003,"WESTS-RALEIGH (00)","YVE-022 ","YVE",227.53999328613301]
[6001278690,"WESTS-VILLAGE (02)","YVE-022 ","YVE",228.00999450683599]
[6001042384,"TAMUK-SHEOAK (04)","YVE-022 ","YVE",228.44999694824199]
["VDDD001434","WHITEHALL 218-HALL (01)","YVE-014 ","YVE",228.96000671386699]
[6001259260,"BLAIR-WILD CHERRY (04)","YVE-022 ","YVE",229.44999694824199]
[6001324595,"CREFDEN-YELLOWBOX (04)","YVE-022 ","YVE",230.05000305175801]
[6001264390,"FRANCIS 61-STEPHEN (03)","YVE-024 ","YVE",230.49000549316401]
[6001321854,"CREFDEN-YELLOWBOX (03)","YVE-022 ","YVE",231.24000549316401]
[6001321843,"CREFDEN-YELLOWBOX (03)","YVE-022 ","YVE",231.39999389648401]
[6001266067,"RIVERBANK-BREAM (05)","YVE-022 ","YVE",232.11999511718801]
[6001290057,"WARRS-VAN NESS (01)","YVE-022 ","YVE",232.36999511718801]
[6001289836,"EARSDON-WHITEHALL (02)","YVE-014 ","YVE",232.99000549316401]
[6001326685,"WESTS-RALEIGH (00)","YVE-022 ","YVE",233.19999694824199]
[6001416409,"LA SCALA-LYRIC NO 2 (02)","YVE-015 ","YVE",233.92999267578099]
[6001054184,"BALLARAT-OVENS (01)","YVE-024 ","YVE",234.44999694824199]
[6001232930,"MINNIE-WHITEHALL (01)","YVE-014 ","YVE",235.13999938964801]
[6001331441,"WESTS-RALEIGH (00)","YVE-022 ","YVE",235.75]
[6001007830,"WHITEHALL-NAPIER (02)","YVE-021 ","YVE",236.58999633789099]
[6001552603,"FORREST-HUDSONS (01)","YVE-012 ","YVE",237.10000610351599]
[6001238666,"FABIAN-BELVEDERE (01)","YVE-015 ","YVE",238.66000366210901]
[6001290285,"LA SCALA-GORDON (02)","YVE-015 ","YVE",239.88999938964801]
[6001528504,null,null,null,210.30000305175801]
[6001007805,null,null,null,215.919998168945]
[6001184043,null,"        ",null,222.88999938964801]
[6001236926,null,null,null,225.17999267578099]
[6001084970,null,null,null,229.32000732421901]
[6001285822,null,null,null,230.69999694824199]
[6001327609,null,null,null,232.580001831055]
[6001308523,null,null,null,234.580001831055]
[6001176154,null,null,null,236.41000366210901]
[6001545810,null,null,null,237.89999389648401]
[6001549482,null,null,null,237.89999389648401]
[6001564345,null,null,null,237.89999389648401]
[6001569733,null,null,null,237.89999389648401]
[6001615026,null,null,null,237.89999389648401]
[6001173350,null,null,null,237.91000366210901]
[6001001823,null,null,null,237.919998168945]
[6001205014,null,null,null,237.92999267578099]
[6001328498,null,"        ",null,237.92999267578099]
[6001158927,null,null,null,237.94000244140599]
[6001317211,null,"        ",null,237.94000244140599]
[6001221127,null,null,null,237.96000671386699]
[6001023261,null,null,null,237.97000122070301]
[6001200679,null,null,null,237.97000122070301]
[6001095957,null,null,null,237.97999572753901]
[6001200679,null,null,null,237.99000549316401]
[6001446543,null,null,null,238]
[6001522400,null,"        ",null,238]
[6001072942,null,null,null,238.02000427246099]
[6001403501,null,null,null,238.02000427246099]
[6001335611,null,null,null,238.02999877929699]
[6001343031,null,null,null,238.02999877929699]
[6001035775,null,null,null,238.03999328613301]
[6001272745,null,null,null,238.05000305175801]
[6001272508,null,null,null,238.07000732421901]
[6001050107,null,null,null,238.080001831055]
[6001259059,null,null,null,238.080001831055]
[6001292484,null,null,null,238.080001831055]
[6001403501,null,null,null,238.080001831055]
[6001232825,null,null,null,238.10000610351599]
[6001376375,null,null,null,238.10000610351599]
[6001462231,null,null,null,238.11000061035199]
[6001003420,null,null,null,238.11999511718801]
[6001324440,null,null,null,238.11999511718801]
[6001260970,null,null,null,238.13999938964801]
[6001055959,null,null,null,238.14999389648401]
[6001314078,null,null,null,238.14999389648401]
[6001200481,null,null,null,238.16000366210901]
[6001230678,null,null,null,238.16000366210901]
[6001113359,null,null,null,238.169998168945]
[6001302722,null,null,null,238.169998168945]
[6001156809,null,null,null,238.17999267578099]
[6001224540,null,null,null,238.17999267578099]
[6001002668,null,null,null,238.19000244140599]
[6001288191,null,null,null,238.19999694824199]
[6001506585,null,null,null,238.19999694824199]
[6001616074,null,null,null,238.19999694824199]
[6001266496,null,null,null,238.21000671386699]
[6001272704,null,null,null,238.21000671386699]
[6001342792,null,null,null,238.21000671386699]
[6001065476,null,null,null,238.22000122070301]
[6001314078,null,null,null,238.22000122070301]
[6001171958,null,null,null,238.24000549316401]
[6001175054,null,null,null,238.24000549316401]
[6001104517,null,null,null,238.25]
[6001040024,null,null,null,238.27999877929699]
[6001189326,null,null,null,238.28999328613301]
[6001438898,null,null,null,238.28999328613301]
[6001036879,null,null,null,238.30000305175801]
[6001184737,null,null,null,238.30000305175801]
[6001581050,null,null,null,238.30000305175801]
[6001585890,null,null,null,238.30000305175801]
[6001638072,null,null,null,238.30000305175801]
[6001230504,null,null,null,238.330001831055]
[6001169089,null,null,null,238.36000061035199]
[6001272719,null,null,null,238.36000061035199]
[6001095956,null,null,null,238.36999511718801]
[6001159949,null,null,null,238.44000244140599]
[6001272754,null,null,null,238.44000244140599]
[6001207889,null,null,null,238.44999694824199]
[6001319379,null,null,null,238.46000671386699]
[6001169088,null,null,null,238.47000122070301]
[6001259059,null,null,null,238.47000122070301]
[6001399631,null,"        ",null,238.47000122070301]
[6001176794,null,null,null,238.47999572753901]
[6001189567,null,null,null,238.47999572753901]
[6001004463,null,null,null,238.49000549316401]
[6001271749,null,null,null,238.5]
[6001624000,null,null,null,238.5]
[6001635041,null,null,null,238.5]
[6001172889,null,null,null,238.50999450683599]
[6001136978,null,null,null,238.52000427246099]
[6001185137,null,null,null,238.52000427246099]
[6001033576,null,null,null,238.53999328613301]
[6001189563,null,null,null,238.53999328613301]
[6001095956,null,null,null,238.55000305175801]
[6001222723,null,null,null,238.55000305175801]
[6001100203,null,null,null,238.55999755859401]
[6001049714,null,null,null,238.57000732421901]
[6001004463,null,null,null,238.58999633789099]
[6001407736,null,"        ",null,238.58999633789099]
[6001467385,null,null,null,238.60000610351599]
[6001488476,null,null,null,238.60000610351599]
[6001522400,null,"        ",null,238.60000610351599]
[6001615002,null,null,null,238.60000610351599]
[6001061268,null,null,null,238.63999938964801]
[6001240001,null,null,null,238.64999389648401]
[6001189326,null,null,null,238.66000366210901]
[6001299684,null,null,null,238.669998168945]
[6001169612,null,null,null,238.67999267578099]
[6001323797,null,null,null,238.67999267578099]
[6001150118,null,null,null,238.69000244140599]
[6001171505,null,null,null,238.69000244140599]
[6001061268,null,null,null,238.69999694824199]
[6001168364,null,null,null,238.69999694824199]
[6001446543,null,null,null,238.69999694824199]
[6001631017,null,null,null,238.69999694824199]
[6001640073,null,null,null,238.69999694824199]
[6001328498,null,"        ",null,238.71000671386699]
[6001271726,null,null,null,238.72999572753901]
[6001424444,null,null,null,238.72999572753901]
[6001110286,null,"        ",null,238.75]
[6001270008,null,null,null,238.78999328613301]
[6001302445,null,null,null,238.80000305175801]
[6001198221,null,null,null,238.80999755859401]
[6001253104,null,null,null,238.830001831055]
[6001396416,null,null,null,238.86000061035199]
[6001323797,null,null,null,238.86999511718801]
[6001299684,null,null,null,238.88000488281301]
[6001064731,null,null,null,238.89999389648401]
[6001272698,null,null,null,238.89999389648401]
[6001539522,null,null,null,238.89999389648401]
[6001152351,null,null,null,238.919998168945]
[6001350429,null,null,null,238.919998168945]
[6001189567,null,null,null,238.94000244140599]
[6001262101,null,null,null,238.94000244140599]
[6001269906,null,null,null,238.99000549316401]
[6001095956,null,null,null,239]
[6001233791,null,null,null,239]
[6001290770,null,null,null,239]
[6001334187,null,null,null,239]
[6001638072,null,null,null,239]
[6001140240,null,null,null,239.00999450683599]
[6001189563,null,null,null,239.00999450683599]
[6001223549,null,null,null,239.00999450683599]
[6001004472,null,null,null,239.02000427246099]
[6001057753,null,null,null,239.02000427246099]
[6001199374,null,null,null,239.02000427246099]
[6001025065,null,null,null,239.05000305175801]
[6001189563,null,null,null,239.05000305175801]
[6001003902,null,null,null,239.05999755859401]
[6001139037,null,null,null,239.07000732421901]
[6001065336,null,null,null,239.080001831055]
[6001345093,null,null,null,239.080001831055]
[6001201696,null,null,null,239.08999633789099]
[6001323797,null,null,null,239.08999633789099]
[6001119778,null,null,null,239.10000610351599]
[6001003902,null,null,null,239.11000061035199]
[6001157750,null,null,null,239.13000488281301]
[6001169612,null,null,null,239.13000488281301]
[6001335611,null,null,null,239.13999938964801]
[6001466154,null,null,null,239.13999938964801]
[6001288191,null,null,null,239.14999389648401]
[6001478396,null,"        ",null,239.16000366210901]
[6001157887,null,null,null,239.169998168945]
[6001332405,null,null,null,239.19000244140599]
[6001403501,null,null,null,239.19999694824199]
[6001522400,null,"        ",null,239.19999694824199]
[6001565171,null,null,null,239.19999694824199]
[6001581064,null,null,null,239.19999694824199]
[6001112780,null,null,null,239.21000671386699]
[6001270008,null,null,null,239.22999572753901]
[6001428629,null,null,null,239.24000549316401]
[6001225214,null,null,null,239.25]
[6001272508,null,null,null,239.25999450683599]
[6001225977,null,null,null,239.27999877929699]
[6001401285,null,null,null,239.27999877929699]
[6001198652,null,null,null,239.30000305175801]
[6001564345,null,null,null,239.30000305175801]
[6001177458,null,null,null,239.32000732421901]
[6001441968,null,"        ",null,239.32000732421901]
[6001309727,null,null,null,239.330001831055]
[6001109325,null,null,null,239.33999633789099]
[6001481901,null,null,null,239.33999633789099]
[6001189567,null,null,null,239.36000061035199]
[6001376375,null,null,null,239.36000061035199]
[6001398910,null,null,null,239.36999511718801]
[6001455288,null,null,null,239.39999389648401]
[6001585890,null,null,null,239.39999389648401]
[6001593017,null,null,null,239.39999389648401]
[6001647014,null,null,null,239.39999389648401]
[6001480103,null,null,null,239.41000366210901]
[6001003420,null,null,null,239.419998168945]
[6001111864,null,null,null,239.44000244140599]
["VDDD000619",null,"        ",null,239.44000244140599]
[6001401829,null,null,null,239.44999694824199]
[6001036748,null,null,null,239.46000671386699]
[6001192787,null,null,null,239.46000671386699]
[6001036748,null,null,null,239.47000122070301]
[6001244195,null,"        ",null,239.47000122070301]
[6001198372,null,null,null,239.49000549316401]
[6001158806,null,null,null,239.5]
[6001638072,null,null,null,239.5]
[6001113359,null,null,null,239.52000427246099]
[6001113359,null,null,null,239.52000427246099]
[6001428629,null,null,null,239.52000427246099]
[6001204609,null,null,null,239.53999328613301]
[6001317211,null,"        ",null,239.55999755859401]
[6001224911,null,null,null,239.57000732421901]
[6001240001,null,null,null,239.580001831055]
[6001106150,null,null,null,239.60000610351599]
[6001156366,null,null,null,239.61999511718801]
[6001168294,null,null,null,239.61999511718801]
[6001302817,null,null,null,239.61999511718801]
[6001198898,null,null,null,239.63000488281301]
[6001271145,null,null,null,239.63000488281301]
[6001143136,null,null,null,239.64999389648401]
[6001198372,null,null,null,239.64999389648401]
[6001233313,null,null,null,239.64999389648401]
[6001255377,null,null,null,239.64999389648401]
[6001224540,null,null,null,239.66000366210901]
[6001233791,null,null,null,239.669998168945]
[6001141683,null,null,null,239.67999267578099]
[6001191944,null,null,null,239.69999694824199]
[6001192787,null,null,null,239.69999694824199]
[6001488476,null,null,null,239.69999694824199]
[6001593015,null,null,null,239.69999694824199]
[6001455288,null,null,null,239.71000671386699]
[6001398222,null,null,null,239.72000122070301]
[6001247124,null,null,null,239.75]
[6001261281,null,null,null,239.75]
[6001271743,null,null,null,239.75]
[6001198221,null,null,null,239.75999450683599]
[6001091017,null,null,null,239.77000427246099]
[6001233791,null,null,null,239.77000427246099]
[6001317786,null,null,null,239.77000427246099]
[6001317920,null,null,null,239.77000427246099]
[6001403483,null,null,null,239.77000427246099]
[6001302817,null,null,null,239.77999877929699]
[6001228314,null,null,null,239.78999328613301]
[6001272686,null,null,null,239.78999328613301]
[6001102802,null,null,null,239.80000305175801]
[6001501483,null,"        ",null,239.80000305175801]
[6001240001,null,null,null,239.82000732421901]
[6001242325,null,null,null,239.82000732421901]
[6001253772,null,null,null,239.82000732421901]
[6001143135,null,null,null,239.830001831055]
[6001301168,null,null,null,239.86000061035199]
[6001210066,null,null,null,239.86999511718801]
[6001143140,null,null,null,239.88999938964801]
[6001146363,null,null,null,239.88999938964801]
[6001159352,null,null,null,239.88999938964801]
[6001210066,null,null,null,239.91000366210901]
[6001285822,null,null,null,239.91000366210901]
[6001065673,null,null,null,239.919998168945]
[6001144243,null,null,null,239.94000244140599]
[6001143139,null,null,null,239.96000671386699]
[6001349440,null,null,null,239.97000122070301]
[6001462231,null,null,null,239.97000122070301]
[6001001823,null,null,null,239.97999572753901]
[6001016346,null,null,null,239.97999572753901]
[6001139970,null,null,null,239.97999572753901]
[6001143139,null,null,null,239.97999572753901]
[6001111883,null,null,null,239.99000549316401]
[6001149011,null,null,null,239.99000549316401]
[6001350429,null,null,null,239.99000549316401]
[6001338587,null,null,null,240]
[6001395542,null,null,null,240]
[6001505053,null,null,null,240]
[6001004463,null,null,null,240.02000427246099]
[6001143132,null,null,null,240.03999328613301]
[6001210066,null,null,null,240.03999328613301]
[6001112547,null,null,null,240.05999755859401]
[6001143136,null,null,null,240.080001831055]
[6001292433,null,null,null,240.08999633789099]
[6001591567,null,null,null,240.10000610351599]
[6001621314,null,null,null,240.10000610351599]
[6001049733,null,null,null,240.11000061035199]
[6001065314,null,null,null,240.11000061035199]
[6001112547,null,null,null,240.25]
[6001112547,null,null,null,240.25999450683599]
[6001338587,null,null,null,240.25999450683599]
[6001003902,null,null,null,240.30000305175801]
[6001173379,null,null,null,240.30000305175801]
[6001585890,null,null,null,240.30000305175801]
[6001036783,null,"        ",null,240.30999755859401]
[6001049749,null,null,null,240.30999755859401]
[6001067148,null,null,null,240.30999755859401]
[6001427648,null,"        ",null,240.32000732421901]
[6001021883,null,null,null,240.330001831055]
[6001090374,null,null,null,240.33999633789099]
[6001213410,null,null,null,240.33999633789099]
[6001302817,null,null,null,240.33999633789099]
[6001308472,null,null,null,240.35000610351599]
[6001145491,null,null,null,240.36000061035199]
[6001112193,null,null,null,240.36999511718801]
[6001167358,null,null,null,240.36999511718801]
[6001064577,null,null,null,240.38000488281301]
[6001293469,null,null,null,240.38000488281301]
[6001139610,null,null,null,240.42999267578099]
[6001146706,null,"        ",null,240.46000671386699]
[6001146704,null,"        ",null,240.49000549316401]
[6001192775,null,null,null,240.50999450683599]
[6001093153,null,null,null,240.52000427246099]
[6001213410,null,null,null,240.52999877929699]
[6001065098,null,null,null,240.53999328613301]
[6001071429,null,null,null,240.53999328613301]
[6001142516,null,null,null,240.53999328613301]
[6001276966,null,null,null,240.53999328613301]
[6001239340,null,null,null,240.55999755859401]
[6001090374,null,null,null,240.57000732421901]
[6001182245,null,null,null,240.57000732421901]
[6001411984,null,"        ",null,240.580001831055]
[6001065673,null,null,null,240.60000610351599]
[6001127492,null,null,null,240.60000610351599]
[6001501483,null,"        ",null,240.60000610351599]
[6001049005,null,null,null,240.61999511718801]
[6001190961,null,null,null,240.61999511718801]
["VDDD000619",null,"        ",null,240.63000488281301]
[6001455288,null,null,null,240.63999938964801]
[6001145414,null,null,null,240.67999267578099]
[6001189563,null,null,null,240.71000671386699]
[6001130764,null,null,null,240.75]
[6001350429,null,null,null,240.77000427246099]
[6001146705,null,"        ",null,240.77999877929699]
[6001156366,null,null,null,240.78999328613301]
[6001189567,null,null,null,240.80000305175801]
[6001090374,null,null,null,240.80999755859401]
[6001073036,null,null,null,240.82000732421901]
[6001281850,null,null,null,240.85000610351599]
[6001204609,null,null,null,240.88000488281301]
[6001036748,null,null,null,240.88999938964801]
[6001280847,null,null,null,240.89999389648401]
[6001299983,null,null,null,240.91000366210901]
[6001314078,null,null,null,240.919998168945]
[6001092232,null,null,null,240.97999572753901]
[6001302803,null,null,null,240.97999572753901]
[6001213410,null,null,null,241]
[6001340249,null,null,null,241.02999877929699]
[6001148861,null,null,null,241.03999328613301]
["VDDD000619",null,"        ",null,241.08999633789099]
[6001051688,null,null,null,241.10000610351599]
[6001591344,null,null,null,241.10000610351599]
[6001591344,null,null,null,241.10000610351599]
[6001050700,null,null,null,241.13999938964801]
[6001145491,null,null,null,241.13999938964801]
[6001338587,null,null,null,241.13999938964801]
[6001049723,null,null,null,241.16000366210901]
[6001213481,null,null,null,241.19999694824199]
[6001503633,null,null,null,241.19999694824199]
[6001244982,null,null,null,241.21000671386699]
[6001427648,null,"        ",null,241.21000671386699]
[6001270939,null,null,null,241.22000122070301]
[6001095965,null,null,null,241.25]
[6001334769,null,null,null,241.25999450683599]
[6001051634,null,null,null,241.27000427246099]
[6001095966,null,null,null,241.30000305175801]
[6001259545,null,null,null,241.30999755859401]
[6001141987,null,null,null,241.32000732421901]
[6001194958,null,null,null,241.36999511718801]
[6001036783,null,"        ",null,241.39999389648401]
[6001503633,null,null,null,241.39999389648401]
[6001596050,null,null,null,241.39999389648401]
[6001302803,null,null,null,241.419998168945]
[6001302803,null,null,null,241.419998168945]
[6001427648,null,"        ",null,241.42999267578099]
[6001178960,null,null,null,241.44000244140599]
[6001090374,null,null,null,241.46000671386699]
[6001179938,null,null,null,241.53999328613301]
[6001376375,null,null,null,241.57000732421901]
[6001164024,null,null,null,241.580001831055]
[6001284401,null,null,null,241.580001831055]
[6001152396,null,null,null,241.58999633789099]
[6001503633,null,null,null,241.60000610351599]
[6001199374,null,null,null,241.61999511718801]
[6001126788,null,null,null,241.63000488281301]
[6001259545,null,null,null,241.63999938964801]
[6001303866,null,null,null,241.669998168945]
[6001221127,null,null,null,241.69000244140599]
[6001309953,null,null,null,241.75999450683599]
[6001198652,null,null,null,241.80000305175801]
[6001156366,null,null,null,241.82000732421901]
[6001466154,null,null,null,241.85000610351599]
[6001312830,null,null,null,241.86000061035199]
[6001286174,null,null,null,241.88000488281301]
[6001143143,null,null,null,241.89999389648401]
[6001244932,null,null,null,241.89999389648401]
[6001272550,null,null,null,241.89999389648401]
[6001231558,null,"        ",null,241.919998168945]
[6001198221,null,null,null,241.94000244140599]
[6001310100,null,null,null,241.94999694824199]
[6001143135,null,null,null,241.96000671386699]
[6001059346,null,null,null,241.97999572753901]
[6001072581,null,null,null,241.97999572753901]
[6001036783,null,"        ",null,242]
[6001143137,null,null,null,242]
[6001466154,null,null,null,242]
[6001143142,null,null,null,242.00999450683599]
[6001494562,null,"        ",null,242.00999450683599]
[6001465885,null,"        ",null,242.02000427246099]
[6001129716,null,null,null,242.03999328613301]
[6001292440,null,null,null,242.03999328613301]
[6001143135,null,null,null,242.07000732421901]
[6001224168,null,null,null,242.08999633789099]
[6001537193,null,null,null,242.10000610351599]
[6001271146,null,null,null,242.11999511718801]
[6001111814,null,null,null,242.13000488281301]
[6001143134,null,null,null,242.13999938964801]
[6001424444,null,null,null,242.13999938964801]
[6001424444,null,null,null,242.14999389648401]
[6001143141,null,null,null,242.169998168945]
[6001156366,null,null,null,242.17999267578099]
[6001213102,null,null,null,242.17999267578099]
[6001143133,null,null,null,242.19999694824199]
[6001173307,null,null,null,242.19999694824199]
[6001271143,null,null,null,242.21000671386699]
[6001271147,null,null,null,242.22000122070301]
[6001262602,null,null,null,242.25999450683599]
[6001395410,null,null,null,242.25999450683599]
[6001043048,null,null,null,242.27000427246099]
[6001578046,null,null,null,242.30000305175801]
[6001200854,null,null,null,242.33999633789099]
[6001143131,null,null,null,242.38000488281301]
[6001329915,null,null,null,242.38000488281301]
[6001229580,null,null,null,242.44999694824199]
[6001243305,null,null,null,242.44999694824199]
[6001325616,null,null,null,242.46000671386699]
[6001148904,null,null,null,242.5]
[6001085905,null,null,null,242.53999328613301]
[6001143131,null,null,null,242.55999755859401]
[6001143138,null,null,null,242.55999755859401]
[6001072119,null,null,null,242.61999511718801]
[6001143130,null,null,null,242.61999511718801]
[6001329915,null,null,null,242.64999389648401]
[6001501483,null,"        ",null,242.69999694824199]
[6001148893,null,null,null,242.71000671386699]
[6001149462,null,null,null,242.75]
[6001347049,null,null,null,242.75]
[6001114479,null,null,null,242.75999450683599]
[6001141839,null,null,null,242.78999328613301]
[6001467355,null,null,null,242.80000305175801]
[6001065673,null,null,null,242.82000732421901]
[6001280386,null,null,null,242.86000061035199]
[6001114479,null,null,null,242.88999938964801]
[6001313537,null,null,null,242.89999389648401]
[6001587002,null,null,null,242.89999389648401]
[6001621314,null,null,null,242.89999389648401]
[6001059635,null,null,null,242.92999267578099]
[6001342676,null,null,null,242.97999572753901]
[6001143130,null,null,null,243]
[6001325616,null,null,null,243.00999450683599]
[6001089630,null,null,null,243.03999328613301]
[6001329915,null,null,null,243.10000610351599]
[6001516203,null,null,null,243.10000610351599]
[6001621314,null,null,null,243.19999694824199]
[6001465885,null,"        ",null,243.25999450683599]
[6001467355,null,null,null,243.30000305175801]
[6001071887,null,null,null,243.330001831055]
[6001269142,null,null,null,243.419998168945]
[6001139671,null,null,null,243.5]
[6001085905,null,null,null,243.61000061035199]
[6001111810,null,null,null,243.61999511718801]
[6001141209,null,null,null,243.64999389648401]
[6001114479,null,null,null,243.669998168945]
[6001029150,null,null,null,243.77999877929699]
[6001143125,null,"        ",null,243.88999938964801]
[6001467355,null,null,null,243.89999389648401]
[6001609002,null,null,null,243.89999389648401]
[6001300805,null,null,null,243.94000244140599]
[6001591504,null,null,null,244.10000610351599]
[6001627006,null,null,null,244.19999694824199]
[6001148893,null,null,null,244.24000549316401]
[6001438463,null,null,null,244.25]
[6001303866,null,null,null,244.30000305175801]
[6001072438,null,null,null,244.32000732421901]
[6001325616,null,null,null,244.47000122070301]
[6001007950,null,null,null,244.47999572753901]
[6001138462,null,null,null,244.55000305175801]
[6001007950,null,null,null,244.72000122070301]
[6001113711,null,null,null,244.74000549316401]
[6001085905,null,null,null,244.88000488281301]
[6001591686,null,null,null,245]
[6001613024,null,null,null,245]
[6001465885,null,"        ",null,245.05999755859401]
[6001591687,null,null,null,245.10000610351599]
[6001300805,null,null,null,245.14999389648401]
[6001193679,null,null,null,245.169998168945]
[6001591686,null,null,null,245.19999694824199]
[6001007950,null,null,null,245.22999572753901]
[6001591687,null,null,null,245.30000305175801]
[6001095965,null,null,null,245.46000671386699]
[6001613024,null,null,null,245.5]
[6001613024,null,null,null,245.5]
[6001113711,null,null,null,245.60000610351599]
[6001129678,null,null,null,245.61999511718801]
[6001264447,null,null,null,245.61999511718801]
[6001148893,null,null,null,245.72000122070301]
[6001113711,null,null,null,245.77000427246099]
[6001591686,null,null,null,245.80000305175801]
[6001021682,null,null,null,245.88000488281301]
[6001591687,null,null,null,245.89999389648401]
[6001093133,null,null,null,246.11000061035199]
[6001095965,null,null,null,246.14999389648401]
[6001428629,null,null,null,246.19000244140599]
[6001093134,null,null,null,246.57000732421901]
[6001300805,null,null,null,246.77000427246099]
[6001193679,null,null,null,247.47999572753901]
[6001303866,null,null,null,247.86000061035199]
[6001266873,null,null,null,247.89999389648401]
[6001193679,null,null,null,248.21000671386699]

{"sheet":"06Dec24","index":20,"n_rows":484189,"n_cols":5,"rows_kept":4500,"cut":true,"hidden":false,"merged":[],"bounds":{"rows_first":2000,"rows_last":500,"rows_between":2000,"halvings":0}}
["NMI","Circuit","Feeder","ZSS","Maximum.V"]
[6001195238,"SAMARA-ELMHURST (02)","AW0-002 ","AW0",257.67001342773398]
[6001220783,"ETZEL-CLYDESDALE (03)","AW0-006 ","AW0",257.63000488281301]
[6001147987,"KING-BOWES (01)","AW0-005 ","AW0",257.60000610351602]
[6001417848,"CRESSWELL-CAMERON (02)","AW0-006 ","AW0",257.5]
[6001214939,"THE CROSSWAY-PARK (01)","AW0-008 ","AW0",257.22000122070301]
[6001482701,"KING-BOWES (01)","AW0-005 ","AW0",257.14999389648398]
[6001197920,"THE CROSSWAY-PARK (01)","AW0-008 ","AW0",257.07000732421898]
[6001146593,"ELSTONE-KEILOR (02)","AW0-006 ","AW0",257.05999755859398]
[6001148039,"ETZEL-CLYDESDALE (03)","AW0-006 ","AW0",256.98001098632801]
[6001213335,"DROMANA-MATTHEWS (02)","AW0-012 ","AW0",256.98001098632801]
[6001305357,"LOUIS-FRANKLINS (02)","AW0-005 ","AW0",256.97000122070301]
[6001305375,"LOUIS-FRANKLINS (02)","AW0-005 ","AW0",256.95999145507801]
[6001476046,"ETZEL-CLYDESDALE (01)","AW0-006 ","AW0",256.92001342773398]
[6001008539,"SEXTON-HALSEY (03)","AW0-006 ","AW0",256.89999389648398]
[6001190907,"BRAMCOTE-FORMAN (02)","AW0-009 ","AW0",256.88000488281301]
[6001244005,"SALTAU-MILLEARA (02)","AW0-008 ","AW0",256.88000488281301]
[6001197802,"AMIS-VISTA (02)","AW0-008 ","AW0",256.79998779296898]
[6001190894,"BRAMCOTE-FORMAN (02)","AW0-009 ","AW0",256.70999145507801]
[6001470749,"ROSEHILL-TALBOT (01)","AW0-006 ","AW0",256.70001220703102]
[6001016865,"SALTAU-MILLEARA (02)","AW0-008 ","AW0",256.67001342773398]
[6001190905,"BRAMCOTE-FORMAN (02)","AW0-009 ","AW0",256.60000610351602]
[6001434709,"SEXTON-HALSEY (03)","AW0-006 ","AW0",256.60000610351602]
[6001538323,"CRESSWELL-CAMERON (02)","AW0-006 ","AW0",256.60000610351602]
[6001329723,"ETZEL-CLYDESDALE (03)","AW0-006 ","AW0",256.57998657226602]
[6001587185,"KING-BOWES (01)","AW0-005 ","AW0",256.5]
[6001158573,"ROSEHILL-TALBOT (01)","AW0-006 ","AW0",256.489990234375]
[6001190827,"KOALA-PELICAN (01)","AW0-014 ","AW0",256.45001220703102]
[6001322549,"ETZEL-CLYDESDALE (01)","AW0-006 ","AW0",256.42999267578102]
[6001235973,"FREIGHT-CUSTOM (02)","AW0-014 ","AW0",256.42001342773398]
[6001310608,"KING-BOWES (01)","AW0-005 ","AW0",256.42001342773398]
[6001561150,"KING-BOWES (01)","AW0-005 ","AW0",256.41000366210898]
[6001197881,"NORWOOD-PROSPECT (02)","AW0-008 ","AW0",256.39999389648398]
[6001614018,"CENTREWAY-WINGARA (03)","AW0-007 ","AW0",256.39999389648398]
[6001254971,"ETZEL-CLYDESDALE (01)","AW0-006 ","AW0",256.38000488281301]
[6001428254,"GREENACRE-AYLESBURY (02)","AW0-002 ","AW0",256.38000488281301]
[6001123404,"SALTAU-MILLEARA (02)","AW0-008 ","AW0",256.35000610351602]
[6001158936,"FAWKNER-ROBERTS (02)","AW0-008 ","AW0",256.32998657226602]
[6001157830,"CENTREWAY-WINGARA (03)","AW0-007 ","AW0",256.29998779296898]
[6001538323,"CRESSWELL-CAMERON (02)","AW0-006 ","AW0",256.29998779296898]
[6001590019,"ROSEHILL-TALBOT (01)","AW0-006 ","AW0",256.29998779296898]
[6001209067,"SALTAU-MILLEARA (02)","AW0-008 ","AW0",256.26998901367199]
[6001410066,"KING-BOWES (01)","AW0-005 ","AW0",256.260009765625]
[6001285165,"KING-BOWES (01)","AW0-005 ","AW0",256.239990234375]
[6001148825,"SEXTON-HALSEY (03)","AW0-006 ","AW0",256.20999145507801]
[6001490766,"ETZEL-CLYDESDALE (03)","AW0-006 ","AW0",256.20999145507801]
[6001197896,"AMIS-VISTA (02)","AW0-008 ","AW0",256.20001220703102]
[6001285152,"KING-BOWES (01)","AW0-005 ","AW0",256.20001220703102]
[6001526598,"CENTREWAY-WINGARA (03)","AW0-007 ","AW0",256.20001220703102]
[6001589055,"ROSEHILL-TALBOT (01)","AW0-006 ","AW0",256.20001220703102]
[6001199271,"SABRE-GARDEN (00)","AW0-014 ","AW0",256.16000366210898]
[6001195279,"HARCOURT-SHERBOURNE (02)","AW0-002 ","AW0",256.14999389648398]
[6001195239,"SAMARA-ELMHURST (02)","AW0-002 ","AW0",256.13000488281301]
[6001158491,"SHELLEY-NOGA (01)","AW0-007 ","AW0",256.11999511718801]
[6001194405,"GREENACRE-AYLESBURY (02)","AW0-002 ","AW0",256.08999633789102]
[6001317321,"SHELLEY-NOGA (01)","AW0-007 ","AW0",256.08999633789102]
[6001338507,"ETZEL-CLYDESDALE (03)","AW0-006 ","AW0",256.08999633789102]
[6001401140,"ROSEHILL-TALBOT (01)","AW0-006 ","AW0",256.08999633789102]
[6001194889,"WESTERN-GLOBAL (02)","AW0-014 ","AW0",256.07998657226602]
[6001348112,"CRESSWELL-CAMERON (02)","AW0-006 ","AW0",256.07998657226602]
[6001159069,"FAWKNER-ROBERTS (02)","AW0-008 ","AW0",256.07000732421898]
[6001239366,"FREIGHT-CUSTOM (02)","AW0-014 ","AW0",256.04998779296898]
[6001197799,"AMIS-VISTA (02)","AW0-008 ","AW0",256.04000854492199]
[6001193602,"FREIGHT-CUSTOM (02)","AW0-014 ","AW0",256.01998901367199]
[6001195233,"SAMARA-ELMHURST (02)","AW0-002 ","AW0",256.01998901367199]
[6001147751,"ETZEL-CLYDESDALE (01)","AW0-006 ","AW0",256.010009765625]
[6001193608,"FREIGHT-CUSTOM (02)","AW0-014 ","AW0",256.010009765625]
[6001522497,"ETZEL-CLYDESDALE (03)","AW0-006 ","AW0",256]
[6001528406,"CENTREWAY-WINGARA (03)","AW0-007 ","AW0",256]
[6001596100,"HANSON-GOBLE (01)","AW0-007 ","AW0",256]
[6001598325,"AMIS-VISTA (02)","AW0-008 ","AW0",256]
[6001190603,"COPELAND-BAMFORD (01)","AW0-014 ","AW0",255.97999572753901]
[6001340136,"CRESSWELL-CAMERON (02)","AW0-006 ","AW0",255.97999572753901]
[6001448079,"HIGHRIDGE-ROBERTS (01)","AW0-006 ","AW0",255.97999572753901]
[6001419779,"ETZEL-CLYDESDALE (01)","AW0-006 ","AW0",255.97000122070301]
[6001159156,"FAWKNER-ROBERTS (01)","AW0-008 ","AW0",255.92999267578099]
[6001213317,"MURDOCH-HASSETT (01)","AW0-008 ","AW0",255.919998168945]
[6001216155,"SABRE-GARDEN (00)","AW0-014 ","AW0",255.919998168945]
[6001457088,"DROMANA-MATTHEWS (02)","AW0-012 ","AW0",255.919998168945]
[6001238274,"FREIGHT-CUSTOM (01)","AW0-014 ","AW0",255.91000366210901]
[6001013887,"SALTAU-MILLEARA (02)","AW0-008 ","AW0",255.89999389648401]
[6001044923,"FREIGHT-CUSTOM (02)","AW0-014 ","AW0",255.89999389648401]
[6001159072,"FAWKNER-ROBERTS (02)","AW0-008 ","AW0",255.89999389648401]
[6001190940,"BRAMCOTE-FORMAN (03)","AW0-009 ","AW0",255.89999389648401]
[6001544316,"ROSEHILL-TALBOT (01)","AW0-006 ","AW0",255.89999389648401]
[6001019834,"SALTAU-MILLEARA (02)","AW0-008 ","AW0",255.86000061035199]
[6001194522,"PRIOR-TAYLOR (02)","AW0-002 ","AW0",255.86000061035199]
[6001227282,"ETZEL-CLYDESDALE (03)","AW0-006 ","AW0",255.85000610351599]
[6001238274,"FREIGHT-CUSTOM (01)","AW0-014 ","AW0",255.85000610351599]
[6001388984,"SEXTON-HALSEY (03)","AW0-006 ","AW0",255.83999633789099]
[6001158402,"QUINN-NOGA (01)","AW0-007 ","AW0",255.80999755859401]
[6001148828,"SEXTON-HALSEY (03)","AW0-006 ","AW0",255.80000305175801]
[6001271863,"FREIGHT-CUSTOM (02)","AW0-014 ","AW0",255.80000305175801]
[6001550596,"SALTAU-MILLEARA (02)","AW0-008 ","AW0",255.80000305175801]
[6001193600,"FREIGHT-CUSTOM (01)","AW0-014 ","AW0",255.77999877929699]
[6001194398,"GREENACRE-AYLESBURY (02)","AW0-002 ","AW0",255.77999877929699]
[6001197882,"NORWOOD-PROSPECT (02)","AW0-008 ","AW0",255.77999877929699]
[6001158926,"SALTAU-MILLEARA (01)","AW0-008 ","AW0",255.77000427246099]
[6001401166,"CENTREWAY-WINGARA (03)","AW0-007 ","AW0",255.77000427246099]
[6001159176,"SALTAU-MILLEARA (01)","AW0-008 ","AW0",255.75999450683599]
[6001021815,"ETZEL-CLYDESDALE (03)","AW0-006 ","AW0",255.74000549316401]
[6001146782,"CRESSWELL-CAMERON (02)","AW0-006 ","AW0",255.74000549316401]
[6001159046,"ELLEN-RACHELLE (02)","AW0-008 ","AW0",255.74000549316401]
[6001159092,"FAWKNER-ROBERTS (02)","AW0-008 ","AW0",255.74000549316401]
[6001305971,"CRESSWELL-CAMERON (02)","AW0-006 ","AW0",255.74000549316401]
[6001426052,"BIRCH-BROADMEADOWS (01)","AW0-012 ","AW0",255.74000549316401]
[6001195049,"SAMARA-ELMHURST (02)","AW0-002 ","AW0",255.72999572753901]
[6001271972,"FREIGHT-CUSTOM (01)","AW0-014 ","AW0",255.72999572753901]
[6001227773,"WILLOWTREE-PERSICA (04)","AW0-006 ","AW0",255.72000122070301]
[6001444170,"SNYDER-TULLA PARK (02)","AW0-003 ","AW0",255.72000122070301]
[6001477167,"FAWKNER-ROBERTS (02)","AW0-008 ","AW0",255.72000122070301]
[6001231856,"SALTAU-MILLEARA (02)","AW0-008 ","AW0",255.71000671386699]
[6001126529,"FREIGHT-CUSTOM (02)","AW0-014 ","AW0",255.69999694824199]
[6001159180,"SALTAU-MILLEARA (01)","AW0-008 ","AW0",255.69999694824199]
[6001159182,"SALTAU-MILLEARA (01)","AW0-008 ","AW0",255.69999694824199]
[6001599202,"CRESSWELL-CAMERON (02)","AW0-006 ","AW0",255.69999694824199]
[6001600052,"HANSON-GOBLE (01)","AW0-007 ","AW0",255.69999694824199]
[6001160398,"SALTAU-MILLEARA (02)","AW0-008 ","AW0",255.69000244140599]
[6001436086,"KING-BOWES (01)","AW0-005 ","AW0",255.69000244140599]
[6001193609,"FREIGHT-CUSTOM (02)","AW0-014 ","AW0",255.67999267578099]
[6001467766,"ETZEL-CLYDESDALE (03)","AW0-006 ","AW0",255.67999267578099]
[6001247080,"SALTAU-MILLEARA (02)","AW0-008 ","AW0",255.669998168945]
[6001148831,"SEXTON-HALSEY (03)","AW0-006 ","AW0",255.63999938964801]
[6001467767,"ETZEL-CLYDESDALE (03)","AW0-006 ","AW0",255.63999938964801]
[6001232741,"ETZEL-CLYDESDALE (03)","AW0-006 ","AW0",255.61999511718801]
[6001275314,"ALANBRAE-STONEBRIDGE (03)","AW0-009 ","AW0",255.61999511718801]
[6001224602,"FAWKNER-ROBERTS (02)","AW0-008 ","AW0",255.61000061035199]
[6001466601,"WESTERN-QUARRY (00)","AW0-014 ","AW0",255.61000061035199]
[6001147782,"ETZEL-CLYDESDALE (03)","AW0-006 ","AW0",255.60000610351599]
[6001231545,"BIRCH-BROADMEADOWS (01)","AW0-012 ","AW0",255.60000610351599]
[6001546149,"ROSEHILL-TALBOT (01)","AW0-006 ","AW0",255.60000610351599]
[6001592197,"ROSEHILL-TALBOT (01)","AW0-006 ","AW0",255.60000610351599]
[6001596095,"CRESSWELL-CAMERON (02)","AW0-006 ","AW0",255.60000610351599]
[6001596095,"CRESSWELL-CAMERON (02)","AW0-006 ","AW0",255.60000610351599]
[6001599202,"CRESSWELL-CAMERON (02)","AW0-006 ","AW0",255.60000610351599]
[6001159168,"FAWKNER-ROBERTS (01)","AW0-008 ","AW0",255.58999633789099]
[6001552526,"NORWOOD-PROSPECT (02)","AW0-008 ","AW0",255.58999633789099]
[6001197797,"AMIS-VISTA (02)","AW0-008 ","AW0",255.580001831055]
[6001199599,"FREIGHT-CUSTOM (02)","AW0-014 ","AW0",255.580001831055]
[6001381491,"CRESSWELL-CAMERON (02)","AW0-006 ","AW0",255.580001831055]
[6001491713,"BIRCH-BROADMEADOWS (01)","AW0-012 ","AW0",255.580001831055]
[6001197941,"THE CROSSWAY-PARK (01)","AW0-008 ","AW0",255.55999755859401]
[6001014167,"CRESSWELL-CAMERON (02)","AW0-006 ","AW0",255.55000305175801]
[6001453566,"WESTERN AVE-P30A (00)","AW0-014 ","AW0",255.55000305175801]
[6001197890,"AMIS-VISTA (02)","AW0-008 ","AW0",255.53999328613301]
[6001224207,"FREIGHT-CUSTOM (01)","AW0-014 ","AW0",255.53999328613301]
[6001387380,"BIRCH-BROADMEADOWS (01)","AW0-012 ","AW0",255.52999877929699]
[6001159080,"FAWKNER-ROBERTS (02)","AW0-008 ","AW0",255.52000427246099]
[6001154246,"CLAYTON-MASCOMA (01)","AW0-012 ","AW0",255.50999450683599]
[6001491710,"BIRCH-BROADMEADOWS (01)","AW0-012 ","AW0",255.50999450683599]
[6001193602,"FREIGHT-CUSTOM (02)","AW0-014 ","AW0",255.5]
[6001509554,"BIRCH-BROADMEADOWS (01)","AW0-012 ","AW0",255.5]
[6001526223,"ETZEL-CLYDESDALE (03)","AW0-006 ","AW0",255.5]
[6001247862,"FREIGHT-CUSTOM (02)","AW0-014 ","AW0",255.49000549316401]
[6001159073,"FAWKNER-ROBERTS (02)","AW0-008 ","AW0",255.47999572753901]
[6001197936,"THE CROSSWAY-PARK (01)","AW0-008 ","AW0",255.47999572753901]
[6001260274,"FREIGHT-CUSTOM (01)","AW0-014 ","AW0",255.47999572753901]
[6001197795,"AMIS-VISTA (02)","AW0-008 ","AW0",255.47000122070301]
["VDDD001295","FREIGHT-CUSTOM (02)","AW0-014 ","AW0",255.47000122070301]
[6001193604,"FREIGHT-CUSTOM (02)","AW0-014 ","AW0",255.46000671386699]
[6001193594,"FREIGHT-CUSTOM (01)","AW0-014 ","AW0",255.44999694824199]
[6001193678,"SABRE-GARDEN (00)","AW0-014 ","AW0",255.44000244140599]
[6001018941,"FREIGHT-CUSTOM (02)","AW0-014 ","AW0",255.42999267578099]
[6001159094,"FAWKNER-ROBERTS (02)","AW0-008 ","AW0",255.419998168945]
[6001216005,"THE CROSSWAY-PARK (01)","AW0-008 ","AW0",255.419998168945]
[6001238274,"FREIGHT-CUSTOM (01)","AW0-014 ","AW0",255.419998168945]
[6001478629,"SALTAU-MILLEARA (02)","AW0-008 ","AW0",255.419998168945]
[6001159161,"FAWKNER-ROBERTS (01)","AW0-008 ","AW0",255.41000366210901]
[6001147287,"LOCK-LAURENCE (02)","AW0-007 ","AW0",255.39999389648401]
[6001340697,"THE CROSSWAY-PARK (01)","AW0-008 ","AW0",255.39999389648401]
[6001521125,"KING-BOWES (01)","AW0-005 ","AW0",255.39999389648401]
[6001550267,"FAWKNER-ROBERTS (02)","AW0-008 ","AW0",255.39999389648401]
[6001561124,"MOYANGUL-GUNGARLAN (03)","AW0-008 ","AW0",255.39999389648401]
[6001579027,"ETZEL-CLYDESDALE (03)","AW0-006 ","AW0",255.39999389648401]
[6001390010,"BIRCH-BROADMEADOWS (01)","AW0-012 ","AW0",255.38999938964801]
[6001163568,"NEWMAN-HOTHAM (01)","AW0-007 ","AW0",255.38000488281301]
[6001157845,"CENTREWAY-WINGARA (03)","AW0-007 ","AW0",255.36999511718801]
[6001309942,"ETZEL-CLYDESDALE (01)","AW0-006 ","AW0",255.36000061035199]
[6001003766,"FREIGHT-CUSTOM (01)","AW0-014 ","AW0",255.35000610351599]
[6001473916,"FAWKNER-ROBERTS (02)","AW0-008 ","AW0",255.35000610351599]
[6001274943,"BIRCH-BROADMEADOWS (01)","AW0-012 ","AW0",255.33999633789099]
[6001154247,"CLAYTON-MASCOMA (01)","AW0-012 ","AW0",255.330001831055]
[6001207543,"DROMANA-MATTHEWS (02)","AW0-012 ","AW0",255.330001831055]
[6001460044,"SNYDER-TULLA PARK (02)","AW0-003 ","AW0",255.330001831055]
[6001193595,"FREIGHT-CUSTOM (01)","AW0-014 ","AW0",255.32000732421901]
[6001197929,"THE CROSSWAY-PARK (01)","AW0-008 ","AW0",255.32000732421901]
[6001224207,"FREIGHT-CUSTOM (01)","AW0-014 ","AW0",255.30999755859401]
[6001430016,"DROMANA-MATTHEWS (02)","AW0-012 ","AW0",255.30999755859401]
[6001147352,"MCNAMARA-ROBERTS (02)","AW0-006 ","AW0",255.30000305175801]
[6001159082,"FAWKNER-ROBERTS (02)","AW0-008 ","AW0",255.30000305175801]
[6001160394,"SALTAU-MILLEARA (02)","AW0-008 ","AW0",255.30000305175801]
[6001193608,"FREIGHT-CUSTOM (02)","AW0-014 ","AW0",255.30000305175801]
[6001126585,"AMIS-VISTA (02)","AW0-008 ","AW0",255.28999328613301]
[6001158966,"MCPHERSON-QUINN (03)","AW0-008 ","AW0",255.27999877929699]
[6001159158,"FAWKNER-ROBERTS (01)","AW0-008 ","AW0",255.25999450683599]
[6001199283,"FREIGHT-CUSTOM (01)","AW0-014 ","AW0",255.25]
[6001146782,"CRESSWELL-CAMERON (02)","AW0-006 ","AW0",255.22999572753901]
[6001195229,"SAMARA-ELMHURST (02)","AW0-002 ","AW0",255.22999572753901]
[6001413201,"HEATHER-DINAH (01)","AW0-006 ","AW0",255.22999572753901]
[6001010320,"CRESSWELL-CAMERON (02)","AW0-006 ","AW0",255.22000122070301]
[6001160396,"SALTAU-MILLEARA (02)","AW0-008 ","AW0",255.22000122070301]
[6001193593,"FREIGHT-CUSTOM (01)","AW0-014 ","AW0",255.22000122070301]
[6001298414,"CRESSWELL-CAMERON (02)","AW0-006 ","AW0",255.22000122070301]
[6001126529,"FREIGHT-CUSTOM (02)","AW0-014 ","AW0",255.19999694824199]
[6001193609,"FREIGHT-CUSTOM (02)","AW0-014 ","AW0",255.19999694824199]
[6001196625,"HARDY-SNAEFELL (01)","AW0-009 ","AW0",255.19999694824199]
[6001197889,"THE CROSSWAY-PARK (01)","AW0-008 ","AW0",255.19999694824199]
[6001521299,"FREIGHT-CUSTOM (01)","AW0-014 ","AW0",255.19999694824199]
[6001521317,"ETZEL-CLYDESDALE (03)","AW0-006 ","AW0",255.19999694824199]
[6001044923,"FREIGHT-CUSTOM (02)","AW0-014 ","AW0",255.19000244140599]
[6001193597,"FREIGHT-CUSTOM (01)","AW0-014 ","AW0",255.17999267578099]
[6001289544,"BIRCH-BROADMEADOWS (01)","AW0-012 ","AW0",255.17999267578099]
[6001158932,"SALTAU-MILLEARA (01)","AW0-008 ","AW0",255.169998168945]
[6001159954,"THE CROSSWAY-PARK (01)","AW0-008 ","AW0",255.169998168945]
[6001193595,"FREIGHT-CUSTOM (01)","AW0-014 ","AW0",255.169998168945]
[6001430017,"DROMANA-MATTHEWS (02)","AW0-012 ","AW0",255.169998168945]
[6001194886,"WESTERN-GLOBAL (02)","AW0-014 ","AW0",255.16000366210901]
[6001281007,"WESTERN 21-GLOBAL (02)","AW0-009 ","AW0",255.16000366210901]
[6001154238,"CLAYTON-MASCOMA (01)","AW0-012 ","AW0",255.14999389648401]
[6001158930,"SALTAU-MILLEARA (01)","AW0-008 ","AW0",255.14999389648401]
[6001409280,"SALTAU-MILLEARA (02)","AW0-008 ","AW0",255.14999389648401]
[6001271863,"FREIGHT-CUSTOM (02)","AW0-014 ","AW0",255.13999938964801]
[6001193600,"FREIGHT-CUSTOM (01)","AW0-014 ","AW0",255.13000488281301]
[6001216155,"SABRE-GARDEN (00)","AW0-014 ","AW0",255.13000488281301]
[6001190942,"BRAMCOTE-FORMAN (03)","AW0-009 ","AW0",255.11999511718801]
[6001199599,"FREIGHT-CUSTOM (02)","AW0-014 ","AW0",255.11999511718801]
[6001236497,"FAWKNER-ROBERTS (01)","AW0-008 ","AW0",255.11999511718801]
[6001193602,"FREIGHT-CUSTOM (02)","AW0-014 ","AW0",255.11000061035199]
[6001194884,"WESTERN-GLOBAL (02)","AW0-014 ","AW0",255.11000061035199]
[6001230047,"DROMANA-MATTHEWS (02)","AW0-012 ","AW0",255.11000061035199]
[6001233260,"AMIS-VISTA (02)","AW0-008 ","AW0",255.11000061035199]
[6001297763,"KING-BOWES (01)","AW0-005 ","AW0",255.11000061035199]
[6001194389,"GREENACRE-AYLESBURY (02)","AW0-002 ","AW0",255.10000610351599]
[6001254127,"CRESSWELL-CAMERON (02)","AW0-006 ","AW0",255.10000610351599]
[6001510261,"PAMELA-HERBERT (02)","AW0-006 ","AW0",255.10000610351599]
[6001538159,"SAMARA-ELMHURST (02)","AW0-002 ","AW0",255.10000610351599]
[6001592234,"BIRCH-BROADMEADOWS (01)","AW0-012 ","AW0",255.10000610351599]
[6001611008,"SEXTON-HALSEY (03)","AW0-006 ","AW0",255.10000610351599]
[6001193609,"FREIGHT-CUSTOM (02)","AW0-014 ","AW0",255.08999633789099]
[6001003766,"FREIGHT-CUSTOM (01)","AW0-014 ","AW0",255.080001831055]
[6001149655,"THERESA-CHRISTOPHER (02)","AW0-009 ","AW0",255.080001831055]
[6001193604,"FREIGHT-CUSTOM (02)","AW0-014 ","AW0",255.080001831055]
[6001010152,"ELATA-BEVERAGE (01)","AW0-003 ","AW0",255.07000732421901]
[6001159197,"SALTAU-MILLEARA (01)","AW0-008 ","AW0",255.05999755859401]
[6001422338,"DROMANA-MATTHEWS (02)","AW0-012 ","AW0",255.05999755859401]
["VDDD001295","FREIGHT-CUSTOM (02)","AW0-014 ","AW0",255.05999755859401]
[6001193599,"FREIGHT-CUSTOM (01)","AW0-014 ","AW0",255.05000305175801]
[6001217292,"CENTREWAY-WINGARA (03)","AW0-007 ","AW0",255.05000305175801]
[6001239366,"FREIGHT-CUSTOM (02)","AW0-014 ","AW0",255.05000305175801]
[6001159165,"FAWKNER-ROBERTS (02)","AW0-008 ","AW0",255.03999328613301]
[6001193593,"FREIGHT-CUSTOM (01)","AW0-014 ","AW0",255.03999328613301]
[6001193595,"FREIGHT-CUSTOM (01)","AW0-014 ","AW0",255.03999328613301]
[6001346777,"HEATHER-DINAH (01)","AW0-006 ","AW0",255.03999328613301]
[6001146793,"CRESSWELL-CAMERON (02)","AW0-006 ","AW0",255.02999877929699]
[6001193598,"FREIGHT-CUSTOM (01)","AW0-014 ","AW0",255.02999877929699]
[6001193604,"FREIGHT-CUSTOM (02)","AW0-014 ","AW0",255.02999877929699]
[6001147776,"ETZEL-CLYDESDALE (03)","AW0-006 ","AW0",255.02000427246099]
[6001149008,"DROMANA-MATTHEWS (02)","AW0-012 ","AW0",255.02000427246099]
[6001159158,"FAWKNER-ROBERTS (01)","AW0-008 ","AW0",255.02000427246099]
[6001335099,"NEWMAN-HOTHAM (01)","AW0-007 ","AW0",255.02000427246099]
[6001193608,"FREIGHT-CUSTOM (02)","AW0-014 ","AW0",255.00999450683599]
[6001215024,"MURDOCH-HASSETT (01)","AW0-008 ","AW0",255.00999450683599]
[6001230046,"DROMANA-MATTHEWS (02)","AW0-012 ","AW0",255.00999450683599]
[6001320518,"CRESSWELL-CAMERON (02)","AW0-006 ","AW0",255.00999450683599]
[6001349575,"CENTREWAY-WINGARA (02)","AW0-007 ","AW0",255.00999450683599]
[6001044923,"FREIGHT-CUSTOM (02)","AW0-014 ","AW0",255]
[6001146788,"CRESSWELL-CAMERON (02)","AW0-006 ","AW0",255]
[6001228079,"WILLOWTREE-PERSICA (01)","AW0-006 ","AW0",255]
[6001506656,"BIRCH-BROADMEADOWS (01)","AW0-012 ","AW0",255]
[6001522288,"BIRCH-BROADMEADOWS (01)","AW0-012 ","AW0",255]
[6001561567,"WYONG-CENTREWAY (01)","AW0-007 ","AW0",255]
[6001595696,"MOYANGUL-GUNGARLAN (03)","AW0-008 ","AW0",255]
[6001235973,"FREIGHT-CUSTOM (02)","AW0-014 ","AW0",254.97999572753901]
[6001193597,"FREIGHT-CUSTOM (01)","AW0-014 ","AW0",254.97000122070301]
[6001193599,"FREIGHT-CUSTOM (01)","AW0-014 ","AW0",254.97000122070301]
[6001406197,"ETZEL-CLYDESDALE (01)","AW0-006 ","AW0",254.97000122070301]
[6001123183,"GREENACRE-AYLESBURY (02)","AW0-002 ","AW0",254.96000671386699]
[6001149322,"BIRCH-BROADMEADOWS (01)","AW0-012 ","AW0",254.96000671386699]
[6001158931,"SALTAU-MILLEARA (01)","AW0-008 ","AW0",254.96000671386699]
[6001208218,"ELATA-BEVERAGE (01)","AW0-003 ","AW0",254.96000671386699]
[6001217291,"CENTREWAY-WINGARA (03)","AW0-007 ","AW0",254.94999694824199]
[6001261954,"CRESSWELL-CAMERON (02)","AW0-006 ","AW0",254.94999694824199]
[6001271972,"FREIGHT-CUSTOM (01)","AW0-014 ","AW0",254.94999694824199]
[6001197879,"NORWOOD-PROSPECT (02)","AW0-008 ","AW0",254.94000244140599]
[6001197892,"AMIS-VISTA (02)","AW0-008 ","AW0",254.94000244140599]
[6001003441,"ELATA-BEVERAGE (01)","AW0-003 ","AW0",254.92999267578099]
[6001190851,"BRAMCOTE-FORMAN (02)","AW0-009 ","AW0",254.92999267578099]
[6001221695,"CRESSWELL-CAMERON (02)","AW0-006 ","AW0",254.92999267578099]
[6001320519,"CRESSWELL-CAMERON (02)","AW0-006 ","AW0",254.92999267578099]
[6001387089,"BIRCH-BROADMEADOWS (01)","AW0-012 ","AW0",254.92999267578099]
[6001420894,"SEXTON-HALSEY (03)","AW0-006 ","AW0",254.92999267578099]
[6001461089,"HENRY-DENNIS (02)","AW0-008 ","AW0",254.92999267578099]
[6001044759,"CENTREWAY-WINGARA (03)","AW0-007 ","AW0",254.919998168945]
[6001194391,"GREENACRE-AYLESBURY (02)","AW0-002 ","AW0",254.91000366210901]
[6001195051,"SAMARA-ELMHURST (02)","AW0-002 ","AW0",254.91000366210901]
[6001197932,"THE CROSSWAY-PARK (01)","AW0-008 ","AW0",254.91000366210901]
[6001015905,"SEXTON-HALSEY (03)","AW0-006 ","AW0",254.89999389648401]
[6001147790,"ETZEL-CLYDESDALE (03)","AW0-006 ","AW0",254.89999389648401]
[6001193600,"FREIGHT-CUSTOM (01)","AW0-014 ","AW0",254.89999389648401]
[6001199284,"FREIGHT-CUSTOM (01)","AW0-014 ","AW0",254.89999389648401]
[6001514083,"SEXTON-HALSEY (04)","AW0-006 ","AW0",254.89999389648401]
[6001532424,"HARCOURT-SHERBOURNE (01)","AW0-002 ","AW0",254.89999389648401]
[6001535279,"PAMELA-HERBERT (02)","AW0-006 ","AW0",254.89999389648401]
[6001538090,"HEATHER-DINAH (01)","AW0-006 ","AW0",254.89999389648401]
[6001548694,"CLAYTON-MASCOMA (01)","AW0-012 ","AW0",254.89999389648401]
[6001552529,"MCPHERSON-QUINN (03)","AW0-008 ","AW0",254.89999389648401]
[6001019616,"AMIS-VISTA (02)","AW0-008 ","AW0",254.88999938964801]
[6001147346,"MCNAMARA-ROBERTS (02)","AW0-006 ","AW0",254.88999938964801]
[6001149326,"BIRCH-BROADMEADOWS (01)","AW0-012 ","AW0",254.88999938964801]
[6001198329,"ELATA-BEVERAGE (01)","AW0-003 ","AW0",254.88999938964801]
[6001002029,"WYONG-CENTREWAY (02)","AW0-007 ","AW0",254.88000488281301]
[6001197900,"THE CROSSWAY-PARK (01)","AW0-008 ","AW0",254.88000488281301]
[6001198330,"ELATA-BEVERAGE (01)","AW0-003 ","AW0",254.86999511718801]
[6001336378,"CRESSWELL-CAMERON (02)","AW0-006 ","AW0",254.86999511718801]
[6001146790,"CRESSWELL-CAMERON (02)","AW0-006 ","AW0",254.86000061035199]
[6001197867,"NORWOOD-PROSPECT (02)","AW0-008 ","AW0",254.86000061035199]
[6001196595,"HARDY-SNAEFELL (01)","AW0-009 ","AW0",254.83999633789099]
[6001208172,"SALTAU-MILLEARA (01)","AW0-008 ","AW0",254.83999633789099]
[6001260274,"FREIGHT-CUSTOM (01)","AW0-014 ","AW0",254.83999633789099]
[6001339567,"BRAMCOTE-FORMAN (03)","AW0-009 ","AW0",254.83999633789099]
[6001194889,"WESTERN-GLOBAL (02)","AW0-014 ","AW0",254.830001831055]
[6001195364,"HARCOURT-SHERBOURNE (01)","AW0-002 ","AW0",254.830001831055]
[6001149328,"BIRCH-BROADMEADOWS (01)","AW0-012 ","AW0",254.82000732421901]
[6001193597,"FREIGHT-CUSTOM (01)","AW0-014 ","AW0",254.82000732421901]
[6001193678,"SABRE-GARDEN (00)","AW0-014 ","AW0",254.82000732421901]
[6001197902,"THE CROSSWAY-PARK (01)","AW0-008 ","AW0",254.82000732421901]
[6001197939,"THE CROSSWAY-PARK (01)","AW0-008 ","AW0",254.82000732421901]
[6001260725,"THE CROSSWAY-PARK (01)","AW0-008 ","AW0",254.82000732421901]
[6001317303,"WESTERN-GLOBAL (01)","AW0-014 ","AW0",254.80999755859401]
[6001146795,"CRESSWELL-CAMERON (02)","AW0-006 ","AW0",254.80000305175801]
[6001159156,"FAWKNER-ROBERTS (01)","AW0-008 ","AW0",254.80000305175801]
[6001193594,"FREIGHT-CUSTOM (01)","AW0-014 ","AW0",254.80000305175801]
[6001486494,"HANSON-GOBLE (01)","AW0-007 ","AW0",254.80000305175801]
[6001521299,"FREIGHT-CUSTOM (01)","AW0-014 ","AW0",254.80000305175801]
[6001193593,"FREIGHT-CUSTOM (01)","AW0-014 ","AW0",254.78999328613301]
[6001014577,"FREIGHT-CUSTOM (01)","AW0-014 ","AW0",254.77999877929699]
[6001146599,"CRESSWELL-CAMERON (02)","AW0-006 ","AW0",254.77999877929699]
[6001234911,"HARDY-SNAEFELL (01)","AW0-009 ","AW0",254.77999877929699]
[6001309585,"SEXTON-HALSEY (04)","AW0-006 ","AW0",254.77999877929699]
[6001351975,"SHELLEY-NOGA (01)","AW0-007 ","AW0",254.77999877929699]
[6001154236,"CLAYTON-MASCOMA (01)","AW0-012 ","AW0",254.77000427246099]
[6001199284,"FREIGHT-CUSTOM (01)","AW0-014 ","AW0",254.77000427246099]
[6001193599,"FREIGHT-CUSTOM (01)","AW0-014 ","AW0",254.75999450683599]
[6001224207,"FREIGHT-CUSTOM (01)","AW0-014 ","AW0",254.75999450683599]
[6001193597,"FREIGHT-CUSTOM (01)","AW0-014 ","AW0",254.75]
[6001199271,"SABRE-GARDEN (00)","AW0-014 ","AW0",254.74000549316401]
[6001292745,"WILLOWTREE-PERSICA (01)","AW0-006 ","AW0",254.74000549316401]
[6001193598,"FREIGHT-CUSTOM (01)","AW0-014 ","AW0",254.72999572753901]
[6001247090,"ELATA-BEVERAGE (01)","AW0-003 ","AW0",254.72999572753901]
[6001018941,"FREIGHT-CUSTOM (02)","AW0-014 ","AW0",254.72000122070301]
[6001194400,"GREENACRE-AYLESBURY (02)","AW0-002 ","AW0",254.72000122070301]
[6001223196,"WILLOWTREE-PERSICA (04)","AW0-006 ","AW0",254.72000122070301]
[6001550263,"FAWKNER-ROBERTS (02)","AW0-008 ","AW0",254.72000122070301]
[6001196581,"HARDY-SNAEFELL (01)","AW0-009 ","AW0",254.71000671386699]
[6001260274,"FREIGHT-CUSTOM (01)","AW0-014 ","AW0",254.71000671386699]
[6001271912,"ELATA-BEVERAGE (01)","AW0-003 ","AW0",254.71000671386699]
[6001453566,"WESTERN AVE-P30A (00)","AW0-014 ","AW0",254.71000671386699]
[6001010152,"ELATA-BEVERAGE (01)","AW0-003 ","AW0",254.69999694824199]
[6001014577,"FREIGHT-CUSTOM (01)","AW0-014 ","AW0",254.69999694824199]
[6001035846,"QUINN-NOGA (02)","AW0-007 ","AW0",254.69999694824199]
[6001154266,"CLAYTON-MASCOMA (01)","AW0-012 ","AW0",254.69999694824199]
[6001198333,"ELATA-BEVERAGE (01)","AW0-003 ","AW0",254.69999694824199]
[6001239366,"FREIGHT-CUSTOM (02)","AW0-014 ","AW0",254.69999694824199]
[6001283522,"CRESSWELL-CAMERON (02)","AW0-006 ","AW0",254.69999694824199]
[6001284417,"WILLOWTREE-PERSICA (04)","AW0-006 ","AW0",254.69999694824199]
[6001490128,"SHELLEY-NOGA (01)","AW0-007 ","AW0",254.69999694824199]
[6001553388,"WESTERN-GLOBAL (02)","AW0-014 ","AW0",254.69999694824199]
[6001159078,"FAWKNER-ROBERTS (02)","AW0-008 ","AW0",254.69000244140599]
[6001194520,"PRIOR-TAYLOR (02)","AW0-002 ","AW0",254.69000244140599]
[6001271972,"FREIGHT-CUSTOM (01)","AW0-014 ","AW0",254.69000244140599]
[6001126529,"FREIGHT-CUSTOM (02)","AW0-014 ","AW0",254.67999267578099]
[6001159090,"FAWKNER-ROBERTS (02)","AW0-008 ","AW0",254.669998168945]
[6001193599,"FREIGHT-CUSTOM (01)","AW0-014 ","AW0",254.669998168945]
[6001157469,"MOYANGUL-GUNGARLAN (03)","AW0-008 ","AW0",254.66000366210901]
[6001425834,"ROSEHILL-TALBOT (01)","AW0-006 ","AW0",254.66000366210901]
[6001003766,"FREIGHT-CUSTOM (01)","AW0-014 ","AW0",254.64999389648401]
[6001235973,"FREIGHT-CUSTOM (02)","AW0-014 ","AW0",254.64999389648401]
[6001291831,"WILLOWTREE-PERSICA (04)","AW0-006 ","AW0",254.64999389648401]
[6001199284,"FREIGHT-CUSTOM (01)","AW0-014 ","AW0",254.63999938964801]
[6001311252,"BRAMCOTE-FORMAN (01)","AW0-009 ","AW0",254.63999938964801]
[6001190850,"BRAMCOTE-FORMAN (02)","AW0-009 ","AW0",254.63000488281301]
[6001299492,"NEWMAN-HOTHAM (01)","AW0-007 ","AW0",254.63000488281301]
[6001317299,"WESTERN-GLOBAL (01)","AW0-014 ","AW0",254.61999511718801]
[6001193608,"FREIGHT-CUSTOM (02)","AW0-014 ","AW0",254.61000061035199]
[6001199271,"SABRE-GARDEN (00)","AW0-014 ","AW0",254.61000061035199]
[6001199484,"ELATA-BEVERAGE (01)","AW0-003 ","AW0",254.61000061035199]
[6001007865,"HILLSIDE-ROBERTS (02)","AW0-007 ","AW0",254.60000610351599]
[6001254127,"CRESSWELL-CAMERON (02)","AW0-006 ","AW0",254.60000610351599]
[6001491172,"SHELLEY-NOGA (01)","AW0-007 ","AW0",254.60000610351599]
[6001506593,"HENRY-DENNIS (02)","AW0-008 ","AW0",254.60000610351599]
[6001524423,"QUINN-NOGA (01)","AW0-007 ","AW0",254.60000610351599]
[6001535608,"QUINN-NOGA (01)","AW0-007 ","AW0",254.60000610351599]
["VDDD001295","FREIGHT-CUSTOM (02)","AW0-014 ","AW0",254.58999633789099]
[6001008776,"ELATA-BEVERAGE (01)","AW0-003 ","AW0",254.57000732421901]
[6001195366,"HARCOURT-SHERBOURNE (01)","AW0-002 ","AW0",254.57000732421901]
[6001196578,"HARDY-SNAEFELL (01)","AW0-009 ","AW0",254.57000732421901]
[6001271863,"FREIGHT-CUSTOM (02)","AW0-014 ","AW0",254.55999755859401]
[6001294200,"TULLA 14-BEVERAGE (01)","AW0-011 ","AW0",254.55999755859401]
[6001384592,"GREENACRE-AYLESBURY (02)","AW0-002 ","AW0",254.55999755859401]
[6001196594,"HARDY-SNAEFELL (01)","AW0-009 ","AW0",254.55000305175801]
[6001197931,"THE CROSSWAY-PARK (01)","AW0-008 ","AW0",254.55000305175801]
[6001317314,"WESTERN-GLOBAL (01)","AW0-014 ","AW0",254.55000305175801]
[6001157743,"WYONG-CENTREWAY (01)","AW0-007 ","AW0",254.53999328613301]
[6001193594,"FREIGHT-CUSTOM (01)","AW0-014 ","AW0",254.53999328613301]
[6001193595,"FREIGHT-CUSTOM (01)","AW0-014 ","AW0",254.53999328613301]
[6001199283,"FREIGHT-CUSTOM (01)","AW0-014 ","AW0",254.53999328613301]
[6001229605,"WILLOWTREE-PERSICA (01)","AW0-006 ","AW0",254.53999328613301]
[6001281007,"WESTERN 21-GLOBAL (02)","AW0-009 ","AW0",254.53999328613301]
[6001293687,"COVENTRY-MALVERN (02)","AW0-012 ","AW0",254.53999328613301]
[6001299131,"KINGSLEY-AJ DAVIS RESERVE (01)","AW0-007 ","AW0",254.52999877929699]
[6001329434,"MOYANGUL-GUNGARLAN (03)","AW0-008 ","AW0",254.52999877929699]
[6001195202,"SAMARA-ELMHURST (01)","AW0-002 ","AW0",254.52000427246099]
[6001451354,"CRESSWELL-CAMERON (02)","AW0-006 ","AW0",254.50999450683599]
[6001158488,"QUINN-NOGA (01)","AW0-007 ","AW0",254.5]
[6001159199,"SALTAU-MILLEARA (01)","AW0-008 ","AW0",254.5]
[6001159371,"PARKSIDE-STERLING (01)","AW0-008 ","AW0",254.5]
[6001247862,"FREIGHT-CUSTOM (02)","AW0-014 ","AW0",254.5]
[6001325326,"SALTAU-MILLEARA (01)","AW0-008 ","AW0",254.5]
[6001490767,"WUNNAMURRA-WONGANELA (01)","AW0-008 ","AW0",254.5]
[6001521299,"FREIGHT-CUSTOM (01)","AW0-014 ","AW0",254.5]
[6001537138,"PAMELA-HERBERT (02)","AW0-006 ","AW0",254.5]
[6001546544,"FRASER-BOWES (01)","AW0-001 ","AW0",254.5]
[6001552357,"CENTREWAY-WINGARA (02)","AW0-007 ","AW0",254.5]
[6001621087,"QUINN-NOGA (02)","AW0-007 ","AW0",254.5]
[6001146600,"CRESSWELL-CAMERON (02)","AW0-006 ","AW0",254.49000549316401]
[6001224509,"WILLOWTREE-PERSICA (04)","AW0-006 ","AW0",254.49000549316401]
[6001190782,"KOALA-PELICAN (01)","AW0-014 ","AW0",254.47999572753901]
[6001196638,"HARDY-SNAEFELL (01)","AW0-009 ","AW0",254.47999572753901]
[6001395427,"HANSON-GOBLE (01)","AW0-007 ","AW0",254.47999572753901]
[6001224195,"WILLOWTREE-PERSICA (04)","AW0-006 ","AW0",254.47000122070301]
[6001274195,"ETZEL-CLYDESDALE (01)","AW0-006 ","AW0",254.47000122070301]
[6001454399,"ETZEL-CLYDESDALE (02)","AW0-006 ","AW0",254.47000122070301]
[6001467807,"ETZEL-CLYDESDALE (01)","AW0-006 ","AW0",254.46000671386699]
[6001253241,"FAWKNER-ROBERTS (01)","AW0-008 ","AW0",254.44999694824199]
[6001279650,"ETZEL-CLYDESDALE (01)","AW0-006 ","AW0",254.44999694824199]
[6001466601,"WESTERN-QUARRY (00)","AW0-014 ","AW0",254.44999694824199]
[6001146599,"CRESSWELL-CAMERON (02)","AW0-006 ","AW0",254.44000244140599]
[6001158973,"MCPHERSON-QUINN (03)","AW0-008 ","AW0",254.44000244140599]
[6001159198,"SALTAU-MILLEARA (01)","AW0-008 ","AW0",254.44000244140599]
[6001036803,"WILLOWTREE-PERSICA (04)","AW0-006 ","AW0",254.42999267578099]
[6001339567,"BRAMCOTE-FORMAN (03)","AW0-009 ","AW0",254.42999267578099]
[6001195280,"HARCOURT-SHERBOURNE (02)","AW0-002 ","AW0",254.419998168945]
[6001198328,"ELATA-BEVERAGE (01)","AW0-003 ","AW0",254.419998168945]
[6001199599,"FREIGHT-CUSTOM (02)","AW0-014 ","AW0",254.419998168945]
[6001230656,"WILLOWTREE-PERSICA (04)","AW0-006 ","AW0",254.419998168945]
[6001126529,"FREIGHT-CUSTOM (02)","AW0-014 ","AW0",254.39999389648401]
[6001158486,"QUINN-NOGA (01)","AW0-007 ","AW0",254.39999389648401]
[6001158970,"MCPHERSON-QUINN (03)","AW0-008 ","AW0",254.39999389648401]
[6001281627,"WILLOWTREE-PERSICA (04)","AW0-006 ","AW0",254.39999389648401]
[6001493901,"FAWKNER-ROBERTS (01)","AW0-008 ","AW0",254.39999389648401]
[6001506427,"QUINN-NOGA (02)","AW0-007 ","AW0",254.39999389648401]
[6001532165,"DROMANA-MATTHEWS (02)","AW0-012 ","AW0",254.39999389648401]
[6001541452,"SHELLEY-NOGA (01)","AW0-007 ","AW0",254.39999389648401]
[6001554016,"CENTREWAY-WINGARA (02)","AW0-007 ","AW0",254.39999389648401]
[6001194514,"PRIOR-TAYLOR (02)","AW0-002 ","AW0",254.38999938964801]
[6001232322,"ELATA-BEVERAGE (01)","AW0-003 ","AW0",254.38999938964801]
[6001317316,"WESTERN-GLOBAL (01)","AW0-014 ","AW0",254.38000488281301]
[6001157459,"MOYANGUL-GUNGARLAN (03)","AW0-008 ","AW0",254.36999511718801]
[6001298417,"CRESSWELL-CAMERON (02)","AW0-006 ","AW0",254.36999511718801]
[6001018941,"FREIGHT-CUSTOM (02)","AW0-014 ","AW0",254.36000061035199]
[6001159162,"FAWKNER-ROBERTS (01)","AW0-008 ","AW0",254.36000061035199]
[6001283729,"KING-BOWES (01)","AW0-005 ","AW0",254.36000061035199]
[6001317310,"WESTERN-GLOBAL (01)","AW0-014 ","AW0",254.36000061035199]
[6001148787,"SEXTON-HALSEY (04)","AW0-006 ","AW0",254.35000610351599]
[6001198266,"TULLA PARK-ELATA (02)","AW0-011 ","AW0",254.33999633789099]
[6001190825,"KOALA-PELICAN (01)","AW0-014 ","AW0",254.330001831055]
[6001157753,"WYONG-CENTREWAY (01)","AW0-007 ","AW0",254.32000732421901]
[6001247862,"FREIGHT-CUSTOM (02)","AW0-014 ","AW0",254.32000732421901]
[6001278621,"SEXTON-HALSEY (04)","AW0-006 ","AW0",254.32000732421901]
[6001292022,"HIGHRIDGE-ROBERTS (01)","AW0-006 ","AW0",254.32000732421901]
[6001157083,"WUNNAMURRA-WONGANELA (01)","AW0-008 ","AW0",254.30999755859401]
[6001276342,"SEXTON-HALSEY (04)","AW0-006 ","AW0",254.30999755859401]
[6001146599,"CRESSWELL-CAMERON (02)","AW0-006 ","AW0",254.30000305175801]
[6001146662,"HART-BOWES (02)","AW0-006 ","AW0",254.30000305175801]
[6001158936,"FAWKNER-ROBERTS (02)","AW0-008 ","AW0",254.30000305175801]
[6001317302,"WESTERN-GLOBAL (01)","AW0-014 ","AW0",254.30000305175801]
[6001328727,"FRASER-BOWES (01)","AW0-001 ","AW0",254.30000305175801]
[6001417848,"CRESSWELL-CAMERON (02)","AW0-006 ","AW0",254.30000305175801]
[6001490662,"WUNNAMURRA-WONGANELA (01)","AW0-008 ","AW0",254.30000305175801]
[6001509522,"QUINN-NOGA (02)","AW0-007 ","AW0",254.30000305175801]
[6001545554,"QUINN-NOGA (01)","AW0-007 ","AW0",254.30000305175801]
[6001588255,"NEAL-DINAH (01)","AW0-008 ","AW0",254.30000305175801]
[6001148837,"SEXTON-HALSEY (03)","AW0-006 ","AW0",254.28999328613301]
[6001228044,"WILLOWTREE-PERSICA (01)","AW0-006 ","AW0",254.28999328613301]
[6001230264,"WILLOWTREE-PERSICA (04)","AW0-006 ","AW0",254.28999328613301]
[6001230633,"WILLOWTREE-PERSICA (01)","AW0-006 ","AW0",254.28999328613301]
[6001215254,"ELATA-BEVERAGE (02)","AW0-003 ","AW0",254.27999877929699]
[6001276345,"SEXTON-HALSEY (04)","AW0-006 ","AW0",254.27999877929699]
[6001008409,"PAYNE-RYLANDES (02)","AW0-009 ","AW0",254.27000427246099]
[6001261107,"NEWMAN-HOTHAM (01)","AW0-007 ","AW0",254.27000427246099]
[6001294201,"TULLA 14-BEVERAGE (01)","AW0-011 ","AW0",254.27000427246099]
[6001158976,"MCPHERSON-QUINN (03)","AW0-008 ","AW0",254.25999450683599]
[6001236920,"WILLOWTREE-PERSICA (04)","AW0-006 ","AW0",254.25999450683599]
[6001284417,"WILLOWTREE-PERSICA (04)","AW0-006 ","AW0",254.25999450683599]
[6001288726,"ALANBRAE-STONEBRIDGE (04)","AW0-009 ","AW0",254.25999450683599]
[6001317311,"WESTERN-GLOBAL (01)","AW0-014 ","AW0",254.25999450683599]
[6001157466,"MOYANGUL-GUNGARLAN (03)","AW0-008 ","AW0",254.25]
[6001226924,"WILLOWTREE-PERSICA (01)","AW0-006 ","AW0",254.25]
[6001311787,"WUNNAMURRA-WONGANELA (01)","AW0-008 ","AW0",254.25]
[6001332687,"CENTREWAY-WINGARA (03)","AW0-007 ","AW0",254.25]
[6001402127,"FARRELL-RYDER (03)","AW0-006 ","AW0",254.25]
[6001439601,"CRESSWELL-CAMERON (02)","AW0-006 ","AW0",254.25]
[6001044987,"NORWOOD-PROSPECT (02)","AW0-008 ","AW0",254.24000549316401]
[6001148773,"COPE-MOORE (02)","AW0-001 ","AW0",254.24000549316401]
[6001158478,"QUINN-NOGA (01)","AW0-007 ","AW0",254.24000549316401]
[6001195311,"HARCOURT-SHERBOURNE (02)","AW0-002 ","AW0",254.24000549316401]
[6001022350,"MCPHERSON-QUINN (03)","AW0-008 ","AW0",254.22999572753901]
[6001157857,"CENTREWAY-WINGARA (03)","AW0-007 ","AW0",254.22999572753901]
[6001193430,"MICKLEHAM-SCAMPTON (02)","AW0-009 ","AW0",254.22999572753901]
[6001425519,"ELLEN-RACHELLE (02)","AW0-008 ","AW0",254.22999572753901]
[6001163611,"HANSON-GOBLE (01)","AW0-007 ","AW0",254.22000122070301]
[6001226500,"ELATA-BEVERAGE (01)","AW0-003 ","AW0",254.22000122070301]
[6001552526,"NORWOOD-PROSPECT (02)","AW0-008 ","AW0",254.22000122070301]
[6001147393,"HIGHRIDGE-ROBERTS (01)","AW0-006 ","AW0",254.21000671386699]
[6001014577,"FREIGHT-CUSTOM (01)","AW0-014 ","AW0",254.19999694824199]
[6001158485,"QUINN-NOGA (01)","AW0-007 ","AW0",254.19999694824199]
[6001159154,"FAWKNER-ROBERTS (01)","AW0-008 ","AW0",254.19999694824199]
[6001195310,"HARCOURT-SHERBOURNE (02)","AW0-002 ","AW0",254.19999694824199]
[6001299193,"TULLA 14-BEVERAGE (01)","AW0-011 ","AW0",254.19999694824199]
[6001390816,"ETZEL-CLYDESDALE (01)","AW0-006 ","AW0",254.19999694824199]
[6001495207,"QUINN-NOGA (01)","AW0-007 ","AW0",254.19999694824199]
[6001149571,"CHURCHILL-COONAMAR (01)","AW0-004 ","AW0",254.19000244140599]
[6001190935,"BRAMCOTE-FORMAN (03)","AW0-009 ","AW0",254.19000244140599]
[6001193609,"FREIGHT-CUSTOM (02)","AW0-014 ","AW0",254.19000244140599]
[6001211812,"SOUTH CIRCULAR-CARRICK (01)","AW0-002 ","AW0",254.19000244140599]
[6001247780,"WILLOWTREE-PERSICA (04)","AW0-006 ","AW0",254.19000244140599]
[6001306224,"QUINN-NOGA (02)","AW0-007 ","AW0",254.19000244140599]
[6001158608,"ROSEHILL-TALBOT (01)","AW0-006 ","AW0",254.17999267578099]
[6001159167,"FAWKNER-ROBERTS (01)","AW0-008 ","AW0",254.17999267578099]
[6001216155,"SABRE-GARDEN (00)","AW0-014 ","AW0",254.17999267578099]
[6001216975,"SEXTON-HALSEY (04)","AW0-006 ","AW0",254.17999267578099]
[6001278618,"SEXTON-HALSEY (04)","AW0-006 ","AW0",254.17999267578099]
[6001317313,"WESTERN-GLOBAL (01)","AW0-014 ","AW0",254.17999267578099]
[6001183730,"WILLOWTREE-PERSICA (04)","AW0-006 ","AW0",254.169998168945]
[6001258138,"AMIS-VISTA (02)","AW0-008 ","AW0",254.169998168945]
[6001343151,"ELLEN-RACHELLE (02)","AW0-008 ","AW0",254.169998168945]
[6001317301,"WESTERN-GLOBAL (01)","AW0-014 ","AW0",254.16000366210901]
[6001193598,"FREIGHT-CUSTOM (01)","AW0-014 ","AW0",254.14999389648401]
[6001208218,"ELATA-BEVERAGE (01)","AW0-003 ","AW0",254.14999389648401]
[6001482784,"QUINN-NOGA (02)","AW0-007 ","AW0",254.14999389648401]
[6001035359,"WILLOWTREE-PERSICA (04)","AW0-006 ","AW0",254.13999938964801]
[6001158964,"MCPHERSON-QUINN (03)","AW0-008 ","AW0",254.13999938964801]
[6001207708,"PRIOR-TAYLOR (02)","AW0-002 ","AW0",254.13999938964801]
[6001438915,"CENTREWAY-WINGARA (04)","AW0-007 ","AW0",254.13999938964801]
[6001473562,"MCPHERSON-QUINN (03)","AW0-008 ","AW0",254.13999938964801]
[6001021777,"WILLOWTREE-PERSICA (01)","AW0-006 ","AW0",254.13000488281301]
[6001322852,"MCPHERSON-QUINN (03)","AW0-008 ","AW0",254.13000488281301]
[6001020542,"WUNNAMURRA-WONGANELA (01)","AW0-008 ","AW0",254.11999511718801]
[6001040528,"FOKKER-VICKERS (01)","AW0-012 ","AW0",254.11999511718801]
[6001227419,"WILLOWTREE-PERSICA (04)","AW0-006 ","AW0",254.11999511718801]
[6001414498,"QUINN-NOGA (02)","AW0-007 ","AW0",254.11999511718801]
[6001018417,"SEXTON-HALSEY (03)","AW0-006 ","AW0",254.10000610351599]
[6001149308,"WARATAH-CAROL (02)","AW0-009 ","AW0",254.10000610351599]
[6001228002,"WILLOWTREE-PERSICA (04)","AW0-006 ","AW0",254.10000610351599]
[6001290144,"WILLOWTREE-PERSICA (01)","AW0-006 ","AW0",254.10000610351599]
[6001317299,"WESTERN-GLOBAL (01)","AW0-014 ","AW0",254.10000610351599]
[6001490814,"HILLSIDE-ROBERTS (02)","AW0-007 ","AW0",254.10000610351599]
[6001522287,"BIRCH-BROADMEADOWS (01)","AW0-012 ","AW0",254.10000610351599]
[6001541606,"QUINN-NOGA (01)","AW0-007 ","AW0",254.10000610351599]
[6001348397,"PETERBOROUGH-TRINITY (03)","AW0-009 ","AW0",254.080001831055]
[6001158868,"HEATHER-DINAH (01)","AW0-006 ","AW0",254.07000732421901]
[6001317300,"WESTERN-GLOBAL (01)","AW0-014 ","AW0",254.07000732421901]
[6001317312,"WESTERN-GLOBAL (01)","AW0-014 ","AW0",254.07000732421901]
[6001158977,"MCPHERSON-QUINN (03)","AW0-008 ","AW0",254.05999755859401]
[6001194518,"PRIOR-TAYLOR (02)","AW0-002 ","AW0",254.05999755859401]
[6001213441,"MURDOCH-HASSETT (01)","AW0-008 ","AW0",254.05999755859401]
[6001235204,"ETZEL-CLYDESDALE (01)","AW0-006 ","AW0",254.05999755859401]
[6001276953,"WILLOWTREE-PERSICA (01)","AW0-006 ","AW0",254.05999755859401]
[6001146798,"CRESSWELL-CAMERON (02)","AW0-006 ","AW0",254.05000305175801]
[6001159200,"SALTAU-MILLEARA (01)","AW0-008 ","AW0",254.05000305175801]
[6001194394,"GREENACRE-AYLESBURY (02)","AW0-002 ","AW0",254.05000305175801]
[6001317303,"WESTERN-GLOBAL (01)","AW0-014 ","AW0",254.05000305175801]
[6001333112,"ELLEN-RACHELLE (02)","AW0-008 ","AW0",254.03999328613301]
[6001194524,"PRIOR-TAYLOR (02)","AW0-002 ","AW0",254.02999877929699]
[6001241704,"NEWMAN-HOTHAM (01)","AW0-007 ","AW0",254.02999877929699]
[6001424051,"ELLEN-RACHELLE (02)","AW0-008 ","AW0",254.02999877929699]
[6001157464,"MOYANGUL-GUNGARLAN (03)","AW0-008 ","AW0",254.02000427246099]
[6001236920,"WILLOWTREE-PERSICA (04)","AW0-006 ","AW0",254.02000427246099]
[6001261107,"NEWMAN-HOTHAM (01)","AW0-007 ","AW0",254.02000427246099]
[6001154145,"FOKKER-VICKERS (02)","AW0-012 ","AW0",254.00999450683599]
[6001199283,"FREIGHT-CUSTOM (01)","AW0-014 ","AW0",254.00999450683599]
[6001291132,"ETZEL-CLYDESDALE (01)","AW0-006 ","AW0",254.00999450683599]
[6001441302,"WYONG-CENTREWAY (02)","AW0-007 ","AW0",254.00999450683599]
[6001022277,"CRESSWELL-CAMERON (02)","AW0-006 ","AW0",254]
[6001035359,"WILLOWTREE-PERSICA (04)","AW0-006 ","AW0",254]
[6001157086,"WUNNAMURRA-WONGANELA (01)","AW0-008 ","AW0",254]
[6001217296,"WYONG-CENTREWAY (00)","AW0-007 ","AW0",254]
[6001466601,"WESTERN-QUARRY (00)","AW0-014 ","AW0",254]
[6001469224,"HENRY-DENNIS (02)","AW0-008 ","AW0",254]
[6001572765,"ETZEL-CLYDESDALE (01)","AW0-006 ","AW0",254]
[6001600137,"CENTREWAY-WINGARA (02)","AW0-007 ","AW0",254]
[6001635126,"HILLSIDE-ROBERTS (02)","AW0-007 ","AW0",254]
[6001198331,"ELATA-BEVERAGE (02)","AW0-003 ","AW0",253.99000549316401]
[6001302256,"BIRCH-BROADMEADOWS (01)","AW0-012 ","AW0",253.99000549316401]
[6001193140,"FINNINGLEY-MARHAM (01)","AW0-014 ","AW0",253.97999572753901]
[6001193738,"PAYNE-RYLANDES (02)","AW0-009 ","AW0",253.97999572753901]
[6001195365,"HARCOURT-SHERBOURNE (01)","AW0-002 ","AW0",253.97999572753901]
[6001196247,"TOWNSEND-HOCTOR (02)","AW0-002 ","AW0",253.97999572753901]
[6001225233,"WILLOWTREE-PERSICA (04)","AW0-006 ","AW0",253.97999572753901]
[6001228079,"WILLOWTREE-PERSICA (01)","AW0-006 ","AW0",253.97999572753901]
[6001558002,"QUINN-NOGA (01)","AW0-007 ","AW0",253.97999572753901]
[6001019197,"BRAMCOTE-FORMAN (02)","AW0-009 ","AW0",253.97000122070301]
[6001195271,"HARCOURT-SHERBOURNE (02)","AW0-002 ","AW0",253.97000122070301]
[6001148415,"KINGSLEY-AJ DAVIS RESERVE (01)","AW0-007 ","AW0",253.96000671386699]
[6001195055,"SAMARA-ELMHURST (02)","AW0-002 ","AW0",253.96000671386699]
[6001198267,"TULLA PARK-ELATA (02)","AW0-011 ","AW0",253.96000671386699]
[6001230631,"WILLOWTREE-PERSICA (04)","AW0-006 ","AW0",253.96000671386699]
[6001294201,"TULLA 14-BEVERAGE (01)","AW0-011 ","AW0",253.96000671386699]
[6001317302,"WESTERN-GLOBAL (01)","AW0-014 ","AW0",253.96000671386699]
[6001195275,"HARCOURT-SHERBOURNE (02)","AW0-002 ","AW0",253.94999694824199]
[6001279186,"KING-BOWES (01)","AW0-005 ","AW0",253.94999694824199]
[6001287428,"WILLOWTREE-PERSICA (04)","AW0-006 ","AW0",253.94999694824199]
[6001157784,"WYONG-CENTREWAY (02)","AW0-007 ","AW0",253.94000244140599]
[6001190538,"HORNSBY-BAMFORD (02)","AW0-014 ","AW0",253.94000244140599]
[6001193678,"SABRE-GARDEN (00)","AW0-014 ","AW0",253.94000244140599]
[6001277551,"ALANBRAE-STONEBRIDGE (03)","AW0-009 ","AW0",253.94000244140599]
[6001195273,"HARCOURT-SHERBOURNE (02)","AW0-002 ","AW0",253.92999267578099]
[6001197859,"NORWOOD-PROSPECT (02)","AW0-008 ","AW0",253.92999267578099]
[6001217297,"WYONG-CENTREWAY (02)","AW0-007 ","AW0",253.92999267578099]
[6001291902,"ELATA-BEVERAGE (02)","AW0-003 ","AW0",253.92999267578099]
[6001147286,"LOCK-LAURENCE (02)","AW0-007 ","AW0",253.919998168945]
[6001261107,"NEWMAN-HOTHAM (01)","AW0-007 ","AW0",253.91000366210901]
[6001341757,"QUINN-NOGA (01)","AW0-007 ","AW0",253.91000366210901]
[6001021133,"ELATA-BEVERAGE (02)","AW0-003 ","AW0",253.89999389648401]
[6001147292,"LOCK-LAURENCE (02)","AW0-007 ","AW0",253.89999389648401]
[6001159165,"FAWKNER-ROBERTS (02)","AW0-008 ","AW0",253.89999389648401]
[6001228079,"WILLOWTREE-PERSICA (01)","AW0-006 ","AW0",253.89999389648401]
[6001422315,"THERESA-CHRISTOPHER (02)","AW0-009 ","AW0",253.89999389648401]
[6001487490,"NEWMAN-HOTHAM (01)","AW0-007 ","AW0",253.89999389648401]
[6001536211,"CENTREWAY-WINGARA (04)","AW0-007 ","AW0",253.89999389648401]
[6001159120,"MCPHERSON-QUINN (03)","AW0-008 ","AW0",253.88999938964801]
[6001190618,"HORNSBY-BAMFORD (01)","AW0-014 ","AW0",253.88999938964801]
[6001196580,"HARDY-SNAEFELL (01)","AW0-009 ","AW0",253.88999938964801]
[6001284197,"ALANBRAE-STONEBRIDGE (04)","AW0-009 ","AW0",253.88999938964801]
[6001022368,"HILLSIDE-ROBERTS (02)","AW0-007 ","AW0",253.88000488281301]
[6001159158,"FAWKNER-ROBERTS (01)","AW0-008 ","AW0",253.86999511718801]
[6001197871,"NORWOOD-PROSPECT (02)","AW0-008 ","AW0",253.86999511718801]
[6001261107,"NEWMAN-HOTHAM (01)","AW0-007 ","AW0",253.86000061035199]
[6001273153,"NEWMAN-HOTHAM (01)","AW0-007 ","AW0",253.85000610351599]
[6001281627,"WILLOWTREE-PERSICA (04)","AW0-006 ","AW0",253.85000610351599]
[6001455834,"ETZEL-CLYDESDALE (02)","AW0-006 ","AW0",253.85000610351599]
[6001158937,"FAWKNER-ROBERTS (02)","AW0-008 ","AW0",253.83999633789099]
[6001159713,"EASTLEIGH-NORWOOD (01)","AW0-008 ","AW0",253.83999633789099]
[6001407946,"CENTREWAY-WINGARA (03)","AW0-007 ","AW0",253.83999633789099]
[6001195194,"SAMARA-ELMHURST (01)","AW0-002 ","AW0",253.830001831055]
[6001195200,"SAMARA-ELMHURST (01)","AW0-002 ","AW0",253.830001831055]
[6001018276,"HARCOURT-SHERBOURNE (02)","AW0-002 ","AW0",253.82000732421901]
[6001224889,"WILLOWTREE-PERSICA (04)","AW0-006 ","AW0",253.82000732421901]
[6001011820,"WESTFIELD-NO2 (00)","AW0-008 ","AW0",253.80999755859401]
[6001159986,"THE CROSSWAY-VISTA (03)","AW0-008 ","AW0",253.80999755859401]
[6001457349,"FAWKNER-BENT (02)","AW0-009 ","AW0",253.80999755859401]
[6001147967,"KING-BOWES (01)","AW0-005 ","AW0",253.80000305175801]
[6001149963,"THERESA-CHRISTOPHER (02)","AW0-009 ","AW0",253.80000305175801]
[6001190933,"BRAMCOTE-FORMAN (03)","AW0-009 ","AW0",253.80000305175801]
[6001194886,"WESTERN-GLOBAL (02)","AW0-014 ","AW0",253.80000305175801]
[6001235535,"MCPHERSON-QUINN (03)","AW0-008 ","AW0",253.80000305175801]
[6001300229,"QUINN-NOGA (02)","AW0-007 ","AW0",253.80000305175801]
[6001430037,"AMIS-VISTA (02)","AW0-008 ","AW0",253.80000305175801]
[6001453566,"WESTERN AVE-P30A (00)","AW0-014 ","AW0",253.80000305175801]
[6001519123,"WYONG-CENTREWAY (01)","AW0-007 ","AW0",253.80000305175801]
[6001520209,"BIRCH-BROADMEADOWS (01)","AW0-012 ","AW0",253.80000305175801]
[6001534085,"ETZEL-CLYDESDALE (03)","AW0-006 ","AW0",253.80000305175801]
[6001591341,"THERESA-CHRISTOPHER (02)","AW0-009 ","AW0",253.80000305175801]
[6001591341,"THERESA-CHRISTOPHER (02)","AW0-009 ","AW0",253.80000305175801]
[6001196635,"HARDY-SNAEFELL (01)","AW0-009 ","AW0",253.78999328613301]
[6001196644,"HARDY-SNAEFELL (01)","AW0-009 ","AW0",253.78999328613301]
[6001260164,"COPE-MOORE (02)","AW0-001 ","AW0",253.78999328613301]
[6001154252,"CLAYTON-MASCOMA (01)","AW0-012 ","AW0",253.77999877929699]
[6001330577,"FRASER-BOWES (01)","AW0-001 ","AW0",253.77999877929699]
[6001469034,"FAWKNER-BENT (02)","AW0-009 ","AW0",253.77999877929699]
[6001009534,"WILLOWTREE-PERSICA (04)","AW0-006 ","AW0",253.77000427246099]
[6001148419,"KINGSLEY-AJ DAVIS RESERVE (01)","AW0-007 ","AW0",253.77000427246099]
[6001158480,"QUINN-NOGA (01)","AW0-007 ","AW0",253.77000427246099]
[6001304176,"CRESSWELL-CAMERON (02)","AW0-006 ","AW0",253.77000427246099]
[6001321832,"ETZEL-CLYDESDALE (01)","AW0-006 ","AW0",253.77000427246099]
[6001441287,"WYONG-CENTREWAY (01)","AW0-007 ","AW0",253.77000427246099]
[6001195196,"SAMARA-ELMHURST (01)","AW0-002 ","AW0",253.75999450683599]
[6001234624,"HEATHER-DINAH (01)","AW0-006 ","AW0",253.75999450683599]
[6001016980,"INTERNATIONAL-T'PARK (00)","AW0-004 ","AW0",253.75]
[6001019777,"THERESA-CHRISTOPHER (02)","AW0-009 ","AW0",253.75]
[6001158605,"ROSEHILL-TALBOT (01)","AW0-006 ","AW0",253.75]
[6001259728,"AMIS-VISTA (02)","AW0-008 ","AW0",253.75]
[6001157463,"MOYANGUL-GUNGARLAN (03)","AW0-008 ","AW0",253.72999572753901]
[6001196589,"HARDY-SNAEFELL (01)","AW0-009 ","AW0",253.72999572753901]
[6001276810,"FREIGHT-CUSTOM (02)","AW0-014 ","AW0",253.72999572753901]
[6001148758,"COPE-MOORE (02)","AW0-001 ","AW0",253.72000122070301]
[6001013894,"WILLOWTREE-PERSICA (01)","AW0-006 ","AW0",253.71000671386699]
[6001251173,"QUINN-NOGA (02)","AW0-007 ","AW0",253.71000671386699]
[6001285364,"ALANBRAE-STONEBRIDGE (04)","AW0-009 ","AW0",253.71000671386699]
[6001317315,"WESTERN-GLOBAL (01)","AW0-014 ","AW0",253.71000671386699]
[6001003406,"INTERNATIONAL-T'PARK (00)","AW0-004 ","AW0",253.69999694824199]
[6001003867,"ELATA-BEVERAGE (02)","AW0-003 ","AW0",253.69999694824199]
[6001344509,"SEXTON-HALSEY (03)","AW0-006 ","AW0",253.69999694824199]
[6001407783,"LOCK-LAURENCE (02)","AW0-007 ","AW0",253.69999694824199]
[6001537019,"QUINN-NOGA (02)","AW0-007 ","AW0",253.69999694824199]
[6001537022,"CENTREWAY-WINGARA (04)","AW0-007 ","AW0",253.69999694824199]
[6001538535,"ETZEL-CLYDESDALE (02)","AW0-006 ","AW0",253.69999694824199]
[6001281007,"WESTERN 21-GLOBAL (02)","AW0-009 ","AW0",253.69000244140599]
[6001455522,"MCPHERSON-QUINN (03)","AW0-008 ","AW0",253.69000244140599]
[6001002029,"WYONG-CENTREWAY (02)","AW0-007 ","AW0",253.67999267578099]
[6001127327,"AMIS-VISTA (02)","AW0-008 ","AW0",253.67999267578099]
[6001194535,"PRIOR-TAYLOR (02)","AW0-002 ","AW0",253.67999267578099]
[6001336263,"PAMELA-HERBERT (02)","AW0-006 ","AW0",253.67999267578099]
[6001350049,"COPE-MOORE (02)","AW0-001 ","AW0",253.67999267578099]
[6001197815,"AMIS-VISTA (02)","AW0-008 ","AW0",253.669998168945]
[6001193767,"PAYNE-RYLANDES (02)","AW0-009 ","AW0",253.66000366210901]
[6001196582,"HARDY-SNAEFELL (01)","AW0-009 ","AW0",253.66000366210901]
[6001196612,"HARDY-SNAEFELL (01)","AW0-009 ","AW0",253.66000366210901]
[6001194408,"GREENACRE-AYLESBURY (02)","AW0-002 ","AW0",253.64999389648401]
[6001317316,"WESTERN-GLOBAL (01)","AW0-014 ","AW0",253.64999389648401]
[6001163638,"HANSON-GOBLE (01)","AW0-007 ","AW0",253.63999938964801]
[6001163843,"NEWMAN-HOTHAM (03)","AW0-007 ","AW0",253.63999938964801]
[6001195223,"SAMARA-ELMHURST (01)","AW0-002 ","AW0",253.63999938964801]
[6001230336,"NEWMAN-HOTHAM (01)","AW0-007 ","AW0",253.63999938964801]
[6001322765,"LANARK-GOWANBRAE (01)","AW0-012 ","AW0",253.63999938964801]
[6001463776,"NEWMAN-HOTHAM (01)","AW0-007 ","AW0",253.63999938964801]
[6001149339,"BIRCH-BROADMEADOWS (01)","AW0-012 ","AW0",253.63000488281301]
[6001150192,"MILLAR-DERBY (00)","AW0-004 ","AW0",253.63000488281301]
[6001217739,"HAWKER-MCNAMARA (01)","AW0-001 ","AW0",253.63000488281301]
[6001229018,"HAWKER-MCNAMARA (01)","AW0-001 ","AW0",253.63000488281301]
[6001254051,"HARCOURT-SHERBOURNE (02)","AW0-002 ","AW0",253.63000488281301]
[6001422705,"THERESA-CHRISTOPHER (02)","AW0-009 ","AW0",253.63000488281301]
[6001437299,"ETZEL-CLYDESDALE (03)","AW0-006 ","AW0",253.63000488281301]
[6001194533,"PRIOR-TAYLOR (02)","AW0-002 ","AW0",253.61999511718801]
[6001195107,"SAMARA-ELMHURST (02)","AW0-002 ","AW0",253.61999511718801]
[6001197874,"NORWOOD-PROSPECT (02)","AW0-008 ","AW0",253.61999511718801]
[6001159121,"MCPHERSON-QUINN (03)","AW0-008 ","AW0",253.61000061035199]
[6001195220,"SAMARA-ELMHURST (01)","AW0-002 ","AW0",253.61000061035199]
[6001195231,"SAMARA-ELMHURST (02)","AW0-002 ","AW0",253.61000061035199]
[6001278623,"SEXTON-HALSEY (04)","AW0-006 ","AW0",253.61000061035199]
[6001197897,"AMIS-VISTA (02)","AW0-008 ","AW0",253.60000610351599]
[6001347292,"KING-BOWES (01)","AW0-005 ","AW0",253.60000610351599]
[6001487246,"KINGSLEY-AJ DAVIS RESERVE (01)","AW0-007 ","AW0",253.60000610351599]
[6001545020,"THE CROSSWAY-VISTA (02)","AW0-008 ","AW0",253.60000610351599]
[6001570074,"SHELLEY-NOGA (01)","AW0-007 ","AW0",253.60000610351599]
[6001596031,"WUNNAMURRA-WONGANELA (01)","AW0-008 ","AW0",253.60000610351599]
[6001612003,"KINGSLEY-AJ DAVIS RESERVE (01)","AW0-007 ","AW0",253.60000610351599]
[6001614020,"ROSEHILL-TALBOT (01)","AW0-006 ","AW0",253.60000610351599]
[6001635125,"HILLSIDE-ROBERTS (02)","AW0-007 ","AW0",253.60000610351599]
[6001194407,"GREENACRE-AYLESBURY (02)","AW0-002 ","AW0",253.58999633789099]
[6001216114,"MURDOCH-HASSETT (01)","AW0-008 ","AW0",253.58999633789099]
[6001327910,"ELATA-BEVERAGE (02)","AW0-003 ","AW0",253.58999633789099]
[6001021661,"AMIS-VISTA (02)","AW0-008 ","AW0",253.580001831055]
[6001214639,"SEXTON-HALSEY (04)","AW0-006 ","AW0",253.580001831055]
[6001317301,"WESTERN-GLOBAL (01)","AW0-014 ","AW0",253.580001831055]
[6001015783,"BRAMCOTE-FORMAN (03)","AW0-009 ","AW0",253.57000732421901]
[6001213208,"WYONG-CENTREWAY (02)","AW0-007 ","AW0",253.57000732421901]
[6001251017,"HARDY-SNAEFELL (01)","AW0-009 ","AW0",253.57000732421901]
[6001312919,"FULLARTON-WALTERS (01)","AW0-006 ","AW0",253.57000732421901]
[6001394548,"FULLARTON-WALTERS (02)","AW0-006 ","AW0",253.57000732421901]
[6001020762,"TULLA PARK-ELATA (02)","AW0-011 ","AW0",253.55999755859401]
[6001194889,"WESTERN-GLOBAL (02)","AW0-014 ","AW0",253.55999755859401]
[6001207160,"AMIS-VISTA (02)","AW0-008 ","AW0",253.55999755859401]
[6001148031,"FRASER-BOWES (01)","AW0-001 ","AW0",253.55000305175801]
[6001158500,"SHELLEY-NOGA (01)","AW0-007 ","AW0",253.55000305175801]
[6001264169,"WYONG-CENTREWAY (02)","AW0-007 ","AW0",253.55000305175801]
[6001147280,"LOCK-LAURENCE (02)","AW0-007 ","AW0",253.53999328613301]
[6001163630,"HANSON-GOBLE (01)","AW0-007 ","AW0",253.53999328613301]
[6001183300,"SALTAU-MILLEARA (01)","AW0-008 ","AW0",253.53999328613301]
[6001251535,"AMIS-VISTA (02)","AW0-008 ","AW0",253.53999328613301]
[6001296211,"INTERNATIONAL-T'PARK (00)","AW0-004 ","AW0",253.53999328613301]
[6001229605,"WILLOWTREE-PERSICA (01)","AW0-006 ","AW0",253.52999877929699]
[6001407789,"LOCK-LAURENCE (02)","AW0-007 ","AW0",253.52999877929699]
[6001009760,"AMIS-VISTA (02)","AW0-008 ","AW0",253.52000427246099]
[6001147269,"LOCK-LAURENCE (02)","AW0-007 ","AW0",253.52000427246099]
[6001213232,"MURDOCH-HASSETT (01)","AW0-008 ","AW0",253.52000427246099]
[6001234439,"WYONG-CENTREWAY (02)","AW0-007 ","AW0",253.52000427246099]
[6001416197,"DINAH-MILLEARA (02)","AW0-008 ","AW0",253.52000427246099]
[6001022088,"CENTREWAY-WINGARA (04)","AW0-007 ","AW0",253.50999450683599]
[6001317311,"WESTERN-GLOBAL (01)","AW0-014 ","AW0",253.50999450683599]
[6001127231,"CENTREWAY-WINGARA (03)","AW0-007 ","AW0",253.5]
[6001158970,"MCPHERSON-QUINN (03)","AW0-008 ","AW0",253.5]
[6001163564,"NEWMAN-HOTHAM (01)","AW0-007 ","AW0",253.5]
[6001190693,"HORNSBY-BAMFORD (02)","AW0-014 ","AW0",253.5]
[6001190863,"BRAMCOTE-FORMAN (01)","AW0-009 ","AW0",253.5]
[6001386408,"HILLSIDE-ROBERTS (02)","AW0-007 ","AW0",253.5]
[6001528500,"HEATHER-DINAH (01)","AW0-006 ","AW0",253.5]
[6001543087,"QUINN-NOGA (02)","AW0-007 ","AW0",253.5]
[6001554094,"HILLSIDE-ROBERTS (02)","AW0-007 ","AW0",253.5]
[6001591328,"LOCK-LAURENCE (02)","AW0-007 ","AW0",253.5]
[6001591825,"MOORE 9-MATTHEWS (01)","AW0-012 ","AW0",253.5]
[6001154259,"CLAYTON-MASCOMA (01)","AW0-012 ","AW0",253.49000549316401]
[6001290144,"WILLOWTREE-PERSICA (01)","AW0-006 ","AW0",253.49000549316401]
[6001022209,"BRAMCOTE-FORMAN (01)","AW0-009 ","AW0",253.47999572753901]
[6001149964,"THERESA-CHRISTOPHER (02)","AW0-009 ","AW0",253.47999572753901]
[6001154262,"CLAYTON-MASCOMA (01)","AW0-012 ","AW0",253.47999572753901]
[6001157281,"RACHELLE-NICOLA (01)","AW0-007 ","AW0",253.47999572753901]
[6001158155,"QUINN-NOGA (02)","AW0-007 ","AW0",253.47999572753901]
[6001158866,"HEATHER-DINAH (01)","AW0-006 ","AW0",253.47999572753901]
[6001243610,"HORNSBY-BAMFORD (01)","AW0-014 ","AW0",253.47999572753901]
[6001296210,"INTERNATIONAL-T'PARK (00)","AW0-004 ","AW0",253.47999572753901]
[6001303329,"ETZEL-CLYDESDALE (01)","AW0-006 ","AW0",253.47999572753901]
[6001195331,"HARCOURT-SHERBOURNE (02)","AW0-002 ","AW0",253.47000122070301]
[6001259185,"AMIS-VISTA (02)","AW0-008 ","AW0",253.47000122070301]
[6001317314,"WESTERN-GLOBAL (01)","AW0-014 ","AW0",253.47000122070301]
[6001398665,"CRESSWELL-CAMERON (02)","AW0-006 ","AW0",253.47000122070301]
[6001026220,"ALANBRAE-STONEBRIDGE (03)","AW0-009 ","AW0",253.46000671386699]
[6001148090,"ETZEL-CLYDESDALE (02)","AW0-006 ","AW0",253.46000671386699]
[6001317300,"WESTERN-GLOBAL (01)","AW0-014 ","AW0",253.46000671386699]
[6001148417,"KINGSLEY-AJ DAVIS RESERVE (01)","AW0-007 ","AW0",253.44999694824199]
[6001157792,"WYONG-CENTREWAY (02)","AW0-007 ","AW0",253.44999694824199]
[6001208999,"QUINN-NOGA (01)","AW0-007 ","AW0",253.44999694824199]
[6001276343,"SEXTON-HALSEY (04)","AW0-006 ","AW0",253.44999694824199]
[6001416370,"LOCK-LAURENCE (02)","AW0-007 ","AW0",253.44999694824199]
[6001020106,"ELLEN-RACHELLE (01)","AW0-008 ","AW0",253.44000244140599]
[6001158397,"QUINN-NOGA (01)","AW0-007 ","AW0",253.44000244140599]
[6001207196,"OAK-CONISTON (02)","AW0-007 ","AW0",253.44000244140599]
[6001261329,"INTERNATIONAL-T'PARK (00)","AW0-004 ","AW0",253.44000244140599]
[6001294201,"TULLA 14-BEVERAGE (01)","AW0-011 ","AW0",253.44000244140599]
[6001149665,"THERESA-CHRISTOPHER (02)","AW0-009 ","AW0",253.42999267578099]
[6001154330,"LOCKHEED-BOEING (01)","AW0-012 ","AW0",253.42999267578099]
[6001194884,"WESTERN-GLOBAL (02)","AW0-014 ","AW0",253.42999267578099]
[6001195359,"HARCOURT-SHERBOURNE (01)","AW0-002 ","AW0",253.42999267578099]
[6001196583,"HARDY-SNAEFELL (01)","AW0-009 ","AW0",253.42999267578099]
[6001196643,"HARDY-SNAEFELL (01)","AW0-009 ","AW0",253.42999267578099]
[6001228003,"WILLOWTREE-PERSICA (04)","AW0-006 ","AW0",253.42999267578099]
[6001276181,"WYONG-CENTREWAY (02)","AW0-007 ","AW0",253.42999267578099]
[6001276636,"MARIGOLD-ALDER (03)","AW0-012 ","AW0",253.42999267578099]
[6001474080,"CENTREWAY-WINGARA (04)","AW0-007 ","AW0",253.42999267578099]
[6001038007,"NORWOOD-PROSPECT (02)","AW0-008 ","AW0",253.419998168945]
[6001148057,"ETZEL-CLYDESDALE (01)","AW0-006 ","AW0",253.419998168945]
[6001158649,"ROSEHILL-TALBOT (01)","AW0-006 ","AW0",253.419998168945]
[6001220152,"HIGHRIDGE-ROBERTS (01)","AW0-006 ","AW0",253.419998168945]
[6001322794,"LOCK-LAURENCE (02)","AW0-007 ","AW0",253.419998168945]
[6001148048,"ETZEL-CLYDESDALE (01)","AW0-006 ","AW0",253.41000366210901]
[6001148792,"SEXTON-HALSEY (04)","AW0-006 ","AW0",253.41000366210901]
[6001212240,"ELLEN-RACHELLE (02)","AW0-008 ","AW0",253.41000366210901]
[6001157460,"MOYANGUL-GUNGARLAN (03)","AW0-008 ","AW0",253.39999389648401]
[6001158649,"ROSEHILL-TALBOT (01)","AW0-006 ","AW0",253.39999389648401]
[6001163637,"HANSON-GOBLE (01)","AW0-007 ","AW0",253.39999389648401]
[6001197866,"NORWOOD-PROSPECT (02)","AW0-008 ","AW0",253.39999389648401]
[6001278620,"SEXTON-HALSEY (04)","AW0-006 ","AW0",253.39999389648401]
[6001480018,"WYONG-CENTREWAY (02)","AW0-007 ","AW0",253.39999389648401]
[6001533590,"HEATHER-DINAH (01)","AW0-006 ","AW0",253.39999389648401]
[6001552608,"COHEN-GROVES (02)","AW0-008 ","AW0",253.39999389648401]
[6001563348,"KEILOR-NYAH (01)","AW0-007 ","AW0",253.39999389648401]
[6001569439,"ETZEL-CLYDESDALE (01)","AW0-006 ","AW0",253.39999389648401]
[6001591831,"MOORE 9-MATTHEWS (01)","AW0-012 ","AW0",253.39999389648401]
[6001154173,"FOKKER-VICKERS (02)","AW0-012 ","AW0",253.38999938964801]
[6001196606,"HARDY-SNAEFELL (01)","AW0-009 ","AW0",253.38999938964801]
[6001199418,"KING-BOWES (01)","AW0-005 ","AW0",253.38999938964801]
[6001317313,"WESTERN-GLOBAL (01)","AW0-014 ","AW0",253.38999938964801]
[6001322763,"MOORE 9-MATTHEWS (01)","AW0-012 ","AW0",253.38999938964801]
[6001148785,"SEXTON-HALSEY (04)","AW0-006 ","AW0",253.38000488281301]
[6001154262,"CLAYTON-MASCOMA (01)","AW0-012 ","AW0",253.38000488281301]
[6001163544,"NEWMAN-HOTHAM (01)","AW0-007 ","AW0",253.38000488281301]
[6001238900,"ALANBRAE-STONEBRIDGE (04)","AW0-009 ","AW0",253.38000488281301]
[6001387826,"HANSON-GOBLE (01)","AW0-007 ","AW0",253.38000488281301]
["VDDD001298","INTERNATIONAL-T'PARK (00)","AW0-004 ","AW0",253.38000488281301]
[6001154250,"CLAYTON-MASCOMA (01)","AW0-012 ","AW0",253.36999511718801]
[6001190864,"BRAMCOTE-FORMAN (01)","AW0-009 ","AW0",253.36999511718801]
[6001196607,"HARDY-SNAEFELL (01)","AW0-009 ","AW0",253.36999511718801]
[6001253625,"LOCK-LAURENCE (02)","AW0-007 ","AW0",253.36999511718801]
[6001255439,"WILLOWTREE-PERSICA (01)","AW0-006 ","AW0",253.36999511718801]
[6001148791,"SEXTON-HALSEY (04)","AW0-006 ","AW0",253.36000061035199]
[6001149570,"CHURCHILL-COONAMAR (01)","AW0-004 ","AW0",253.36000061035199]
[6001149657,"THERESA-CHRISTOPHER (02)","AW0-009 ","AW0",253.36000061035199]
[6001149663,"THERESA-CHRISTOPHER (02)","AW0-009 ","AW0",253.36000061035199]
[6001159793,"REGENT-JEFFREY (02)","AW0-008 ","AW0",253.36000061035199]
[6001196645,"HARDY-SNAEFELL (01)","AW0-009 ","AW0",253.36000061035199]
[6001405223,"CENTREWAY-WINGARA (03)","AW0-007 ","AW0",253.36000061035199]
[6001154262,"CLAYTON-MASCOMA (01)","AW0-012 ","AW0",253.35000610351599]
[6001230542,"WILLOWTREE-PERSICA (01)","AW0-006 ","AW0",253.35000610351599]
[6001147670,"LOCK-LAURENCE (01)","AW0-007 ","AW0",253.33999633789099]
[6001149777,"MAY-DAWSON (01)","AW0-004 ","AW0",253.33999633789099]
[6001154262,"CLAYTON-MASCOMA (01)","AW0-012 ","AW0",253.33999633789099]
[6001194399,"GREENACRE-AYLESBURY (02)","AW0-002 ","AW0",253.33999633789099]
[6001196641,"HARDY-SNAEFELL (01)","AW0-009 ","AW0",253.33999633789099]
[6001197722,"CORTINA-MONTE CARLO (02)","AW0-008 ","AW0",253.33999633789099]
["VDDD001298","INTERNATIONAL-T'PARK (00)","AW0-004 ","AW0",253.330001831055]
[6001467330,"COPE-MOORE (02)","AW0-001 ","AW0",253.32000732421901]
[6001003774,"INTERNATIONAL-T'PARK (00)","AW0-004 ","AW0",253.30999755859401]
[6001199289,"INTERNATIONAL-T'PARK (00)","AW0-004 ","AW0",253.30999755859401]
[6001217011,"HART-BOWES (02)","AW0-006 ","AW0",253.30999755859401]
[6001290416,"WILLOWTREE-PERSICA (01)","AW0-006 ","AW0",253.30000305175801]
[6001296212,"INTERNATIONAL-T'PARK (00)","AW0-004 ","AW0",253.30000305175801]
[6001322764,"MOORE 9-MATTHEWS (01)","AW0-012 ","AW0",253.30000305175801]
[6001398665,"CRESSWELL-CAMERON (02)","AW0-006 ","AW0",253.30000305175801]
[6001481947,"WYONG-CENTREWAY (02)","AW0-007 ","AW0",253.30000305175801]
[6001485131,"GRANITE-VALLEY LAKE (02)","AW0-007 ","AW0",253.30000305175801]
[6001552350,"FOKKER-VICKERS (02)","AW0-012 ","AW0",253.30000305175801]
[6001588487,"BRAMCOTE-FORMAN (01)","AW0-009 ","AW0",253.30000305175801]
[6001630003,"HARCOURT-SHERBOURNE (02)","AW0-002 ","AW0",253.30000305175801]
[6001149971,"THERESA-CHRISTOPHER (01)","AW0-009 ","AW0",253.28999328613301]
[6001157789,"WYONG-CENTREWAY (02)","AW0-007 ","AW0",253.28999328613301]
[6001251492,"HARDY-SNAEFELL (01)","AW0-009 ","AW0",253.28999328613301]
[6001265408,"CENTREWAY-WINGARA (04)","AW0-007 ","AW0",253.28999328613301]
[6001317310,"WESTERN-GLOBAL (01)","AW0-014 ","AW0",253.28999328613301]
[6001148789,"SEXTON-HALSEY (04)","AW0-006 ","AW0",253.27999877929699]
[6001197876,"NORWOOD-PROSPECT (02)","AW0-008 ","AW0",253.27999877929699]
[6001232100,"INTERNATIONAL-T'PARK (00)","AW0-004 ","AW0",253.27999877929699]
[6001235471,"CLAYTON-MASCOMA (01)","AW0-012 ","AW0",253.27999877929699]
[6001003774,"INTERNATIONAL-T'PARK (00)","AW0-004 ","AW0",253.25999450683599]
[6001123590,"INTERNATIONAL-T'PARK (00)","AW0-004 ","AW0",253.25999450683599]
[6001147283,"LOCK-LAURENCE (02)","AW0-007 ","AW0",253.25999450683599]
[6001157793,"WYONG-CENTREWAY (02)","AW0-007 ","AW0",253.25999450683599]
[6001196253,"TOWNSEND-HOCTOR (02)","AW0-002 ","AW0",253.25999450683599]
[6001296213,"INTERNATIONAL-T'PARK (00)","AW0-004 ","AW0",253.25999450683599]
[6001420747,"THERESA-CHRISTOPHER (02)","AW0-009 ","AW0",253.25999450683599]
[6001010152,"ELATA-BEVERAGE (01)","AW0-003 ","AW0",253.25]
[6001237144,"WYONG-CENTREWAY (01)","AW0-007 ","AW0",253.25]
[6001281627,"WILLOWTREE-PERSICA (04)","AW0-006 ","AW0",253.25]
[6001157792,"WYONG-CENTREWAY (02)","AW0-007 ","AW0",253.24000549316401]
[6001195238,"SAMARA-ELMHURST (02)","AW0-002 ","AW0",253.24000549316401]
[6001243837,"CENTREWAY-WINGARA (04)","AW0-007 ","AW0",253.24000549316401]
[6001477168,"FAWKNER-ROBERTS (02)","AW0-008 ","AW0",253.24000549316401]
[6001149664,"THERESA-CHRISTOPHER (02)","AW0-009 ","AW0",253.22999572753901]
[6001154329,"LOCKHEED-BOEING (01)","AW0-012 ","AW0",253.22999572753901]
[6001158474,"DAVID-RACHELLE (03)","AW0-007 ","AW0",253.22999572753901]
[6001308405,"PETERBOROUGH-TRINITY (03)","AW0-009 ","AW0",253.22999572753901]
[6001474074,"CENTREWAY-WINGARA (04)","AW0-007 ","AW0",253.22999572753901]
[6001197903,"AMIS-VISTA (02)","AW0-008 ","AW0",253.22000122070301]
[6001252063,"ROSEHILL-ROSE (02)","AW0-006 ","AW0",253.22000122070301]
[6001265050,"INTERNATIONAL-T'PARK (00)","AW0-004 ","AW0",253.22000122070301]
[6001296212,"INTERNATIONAL-T'PARK (00)","AW0-004 ","AW0",253.22000122070301]
[6001339042,"LOCK-LAURENCE (02)","AW0-007 ","AW0",253.22000122070301]
[6001159978,"THE CROSSWAY-VISTA (03)","AW0-008 ","AW0",253.21000671386699]
[6001230633,"WILLOWTREE-PERSICA (01)","AW0-006 ","AW0",253.21000671386699]
[6001313125,"WYONG-CENTREWAY (01)","AW0-007 ","AW0",253.21000671386699]
[6001147687,"HILLSIDE-ROBERTS (02)","AW0-007 ","AW0",253.19999694824199]
[6001196599,"HARDY-SNAEFELL (01)","AW0-009 ","AW0",253.19999694824199]
[6001549435,"KEILOR-NYAH (01)","AW0-007 ","AW0",253.19999694824199]
[6001553388,"WESTERN-GLOBAL (02)","AW0-014 ","AW0",253.19999694824199]
[6001635122,"HILLSIDE-ROBERTS (02)","AW0-007 ","AW0",253.19999694824199]
[6001158644,"ROSEHILL-TALBOT (01)","AW0-006 ","AW0",253.19000244140599]
[6001194882,"WESTERN-GLOBAL (02)","AW0-014 ","AW0",253.19000244140599]
[6001195190,"SAMARA-ELMHURST (01)","AW0-002 ","AW0",253.19000244140599]
[6001158387,"QUINN-NOGA (01)","AW0-007 ","AW0",253.17999267578099]
[6001183661,"HARDY-SNAEFELL (01)","AW0-009 ","AW0",253.17999267578099]
[6001147273,"LOCK-LAURENCE (02)","AW0-007 ","AW0",253.169998168945]
[6001197931,"THE CROSSWAY-PARK (01)","AW0-008 ","AW0",253.169998168945]
[6001230410,"MCNAMARA-PETERS (03)","AW0-007 ","AW0",253.169998168945]
[6001317312,"WESTERN-GLOBAL (01)","AW0-014 ","AW0",253.16000366210901]
[6001349711,"NEWMAN-HOTHAM (01)","AW0-007 ","AW0",253.16000366210901]
[6001395041,"OAK-CONISTON (02)","AW0-007 ","AW0",253.16000366210901]
[6001146848,"FULLARTON-WALTERS (01)","AW0-006 ","AW0",253.14999389648401]
[6001231545,"BIRCH-BROADMEADOWS (01)","AW0-012 ","AW0",253.14999389648401]
[6001403246,"PAMELA-HERBERT (02)","AW0-006 ","AW0",253.14999389648401]
[6001148790,"SEXTON-HALSEY (04)","AW0-006 ","AW0",253.13999938964801]
[6001149961,"THERESA-CHRISTOPHER (02)","AW0-009 ","AW0",253.13999938964801]
[6001190554,"HORNSBY-BAMFORD (02)","AW0-014 ","AW0",253.13999938964801]
[6001190601,"COPELAND-BAMFORD (01)","AW0-014 ","AW0",253.13999938964801]
[6001199419,"KING-BOWES (01)","AW0-005 ","AW0",253.13999938964801]
[6001211013,"ETZEL-CLYDESDALE (01)","AW0-006 ","AW0",253.13999938964801]
[6001227102,"WILLOWTREE-PERSICA (04)","AW0-006 ","AW0",253.13999938964801]
[6001317315,"WESTERN-GLOBAL (01)","AW0-014 ","AW0",253.13999938964801]
[6001347713,"WYONG-CENTREWAY (02)","AW0-007 ","AW0",253.13999938964801]
[6001398320,"LANARK-GOWANBRAE (01)","AW0-012 ","AW0",253.13999938964801]
[6001405447,"WYONG-CENTREWAY (01)","AW0-007 ","AW0",253.13999938964801]
[6001146797,"CRESSWELL-CAMERON (02)","AW0-006 ","AW0",253.13000488281301]
[6001147601,"HILLSIDE-ROBERTS (02)","AW0-007 ","AW0",253.13000488281301]
[6001040900,"ALANBRAE-STONEBRIDGE (04)","AW0-009 ","AW0",253.11999511718801]
[6001158405,"QUINN-NOGA (01)","AW0-007 ","AW0",253.11999511718801]
[6001198333,"ELATA-BEVERAGE (01)","AW0-003 ","AW0",253.11999511718801]
[6001241186,"SEXTON-HALSEY (03)","AW0-006 ","AW0",253.11999511718801]
[6001294200,"TULLA 14-BEVERAGE (01)","AW0-011 ","AW0",253.11999511718801]
[6001149651,"THERESA-CHRISTOPHER (02)","AW0-009 ","AW0",253.11000061035199]
[6001157114,"WUNNAMURRA-WONGANELA (01)","AW0-008 ","AW0",253.11000061035199]
[6001158384,"DAVID-RACHELLE (01)","AW0-007 ","AW0",253.11000061035199]
[6001190901,"BRAMCOTE-FORMAN (02)","AW0-009 ","AW0",253.11000061035199]
[6001192777,"INTERNATIONAL-T'PARK (00)","AW0-004 ","AW0",253.11000061035199]
[6001196608,"HARDY-SNAEFELL (01)","AW0-009 ","AW0",253.11000061035199]
[6001196639,"HARDY-SNAEFELL (01)","AW0-009 ","AW0",253.11000061035199]
[6001199451,"MOORE 9-MATTHEWS (01)","AW0-012 ","AW0",253.11000061035199]
[6001236920,"WILLOWTREE-PERSICA (04)","AW0-006 ","AW0",253.11000061035199]
[6001247090,"ELATA-BEVERAGE (01)","AW0-003 ","AW0",253.11000061035199]
[6001435381,"KING-BOWES (01)","AW0-005 ","AW0",253.11000061035199]
[6001148892,"MOORE 9-MATTHEWS (01)","AW0-012 ","AW0",253.10000610351599]
[6001159117,"MCPHERSON-QUINN (03)","AW0-008 ","AW0",253.10000610351599]
[6001190870,"BRAMCOTE-FORMAN (01)","AW0-009 ","AW0",253.10000610351599]
[6001195361,"HARCOURT-SHERBOURNE (01)","AW0-002 ","AW0",253.10000610351599]
[6001545403,"MCINTOSH 42-MATTHEWS (01)","AW0-005 ","AW0",253.10000610351599]
[6001545624,"HILLSIDE-ROBERTS (02)","AW0-007 ","AW0",253.10000610351599]
[6001575116,"COHEN-GROVES (02)","AW0-008 ","AW0",253.10000610351599]
[6001585871,"NEAL-DINAH (01)","AW0-008 ","AW0",253.10000610351599]
[6001591827,"MOORE 9-MATTHEWS (01)","AW0-012 ","AW0",253.10000610351599]
[6001591828,"MOORE 9-MATTHEWS (01)","AW0-012 ","AW0",253.10000610351599]
[6001637002,"QUINN-NOGA (01)","AW0-007 ","AW0",253.10000610351599]
[6001007929,"HILBERT-ROBERTS (02)","AW0-008 ","AW0",253.08999633789099]
[6001044581,"WILLOWTREE-PERSICA (01)","AW0-006 ","AW0",253.08999633789099]
[6001148413,"KINGSLEY-AJ DAVIS RESERVE (01)","AW0-007 ","AW0",253.08999633789099]
[6001159010,"ELLEN-RACHELLE (02)","AW0-008 ","AW0",253.08999633789099]
[6001252427,"INTERNATIONAL-T'PARK (00)","AW0-004 ","AW0",253.08999633789099]
[6001350132,"MOORE 9-MATTHEWS (01)","AW0-012 ","AW0",253.08999633789099]
[6001149713,"JANUS-CHURCHILL (02)","AW0-004 ","AW0",253.080001831055]
[6001251903,"HARCOURT-SHERBOURNE (01)","AW0-002 ","AW0",253.080001831055]
[6001292557,"ETZEL-CLYDESDALE (02)","AW0-006 ","AW0",253.080001831055]
[6001343967,"ELLEN-RACHELLE (02)","AW0-008 ","AW0",253.080001831055]
[6001457239,"WYONG-CENTREWAY (01)","AW0-007 ","AW0",253.080001831055]
[6001035359,"WILLOWTREE-PERSICA (04)","AW0-006 ","AW0",253.05999755859401]
[6001149661,"THERESA-CHRISTOPHER (02)","AW0-009 ","AW0",253.05999755859401]
[6001209282,"ASSEMBLY-OVATA (03)","AW0-011 ","AW0",253.05999755859401]
[6001261637,"LOCK-LAURENCE (02)","AW0-007 ","AW0",253.05999755859401]
[6001018140,"FRASER-BOWES (01)","AW0-001 ","AW0",253.05000305175801]
[6001042811,"INTERNATIONAL-T'PARK (00)","AW0-004 ","AW0",253.05000305175801]
[6001195637,"SOUTH CIRCULAR-CARRICK (03)","AW0-002 ","AW0",253.05000305175801]
[6001318982,"FARRELL-RYDER (01)","AW0-006 ","AW0",253.05000305175801]
[6001212189,"WYONG-CENTREWAY (02)","AW0-007 ","AW0",253.03999328613301]
[6001246564,"WILLOWTREE-PERSICA (01)","AW0-006 ","AW0",253.03999328613301]
[6001260479,"INTERNATIONAL-T'PARK (00)","AW0-004 ","AW0",253.03999328613301]
[6001296211,"INTERNATIONAL-T'PARK (00)","AW0-004 ","AW0",253.03999328613301]
[6001334946,"THERESA-CHRISTOPHER (02)","AW0-009 ","AW0",253.03999328613301]
[6001469142,"WYONG-CENTREWAY (01)","AW0-007 ","AW0",253.03999328613301]
[6001193763,"PAYNE-RYLANDES (02)","AW0-009 ","AW0",253.02999877929699]
[6001284417,"WILLOWTREE-PERSICA (04)","AW0-006 ","AW0",253.02999877929699]
[6001286173,"WILLOWTREE-PERSICA (01)","AW0-006 ","AW0",253.02999877929699]
["VDDD001298","INTERNATIONAL-T'PARK (00)","AW0-004 ","AW0",253.02999877929699]
[6001158603,"ROSEHILL-TALBOT (01)","AW0-006 ","AW0",253.02000427246099]
[6001147348,"MCNAMARA-ROBERTS (02)","AW0-006 ","AW0",253.00999450683599]
[6001149660,"THERESA-CHRISTOPHER (02)","AW0-009 ","AW0",253.00999450683599]
[6001157754,"WYONG-CENTREWAY (01)","AW0-007 ","AW0",253.00999450683599]
[6001195633,"SOUTH CIRCULAR-CARRICK (03)","AW0-002 ","AW0",253.00999450683599]
[6001003406,"INTERNATIONAL-T'PARK (00)","AW0-004 ","AW0",253]
[6001004066,"WYONG-CENTREWAY (02)","AW0-007 ","AW0",253]
[6001004366,"INTERNATIONAL-T'PARK (00)","AW0-004 ","AW0",253]
[6001476790,"ETZEL-CLYDESDALE (03)","AW0-006 ","AW0",253]
[6001502193,"SEXTON-HALSEY (03)","AW0-006 ","AW0",253]
[6001591826,"MOORE 9-MATTHEWS (01)","AW0-012 ","AW0",253]
[6001591829,"MOORE 9-MATTHEWS (01)","AW0-012 ","AW0",253]
[6001591830,"MOORE 9-MATTHEWS (01)","AW0-012 ","AW0",253]
[6001601000,"OAK-CONISTON (03)","AW0-007 ","AW0",253]
[6001617076,"KEILOR-NYAH (01)","AW0-007 ","AW0",253]
[6001624007,"ELLEN-RACHELLE (02)","AW0-008 ","AW0",253]
[6001147714,"LOCK-LAURENCE (01)","AW0-007 ","AW0",252.99000549316401]
[6001157748,"WYONG-CENTREWAY (01)","AW0-007 ","AW0",252.99000549316401]
[6001158268,"QUINN-NOGA (02)","AW0-007 ","AW0",252.99000549316401]
[6001159123,"MCPHERSON-QUINN (03)","AW0-008 ","AW0",252.99000549316401]
[6001194846,"HILLCREST-MICKLEHAM (01)","AW0-009 ","AW0",252.99000549316401]
[6001212185,"MURDOCH-HASSETT (01)","AW0-008 ","AW0",252.99000549316401]
[6001249117,"HARDY-SNAEFELL (01)","AW0-009 ","AW0",252.99000549316401]
[6001296213,"INTERNATIONAL-T'PARK (00)","AW0-004 ","AW0",252.99000549316401]
[6001407786,"LOCK-LAURENCE (02)","AW0-007 ","AW0",252.99000549316401]
[6001446281,"ROSEHILL-TALBOT (01)","AW0-006 ","AW0",252.99000549316401]
[6001008776,"ELATA-BEVERAGE (01)","AW0-003 ","AW0",252.97999572753901]
[6001148899,"MOORE 9-MATTHEWS (01)","AW0-012 ","AW0",252.97000122070301]
[6001157794,"WYONG-CENTREWAY (02)","AW0-007 ","AW0",252.97000122070301]
[6001197880,"NORWOOD-PROSPECT (02)","AW0-008 ","AW0",252.97000122070301]
[6001248967,"NEWMAN-HOTHAM (03)","AW0-007 ","AW0",252.97000122070301]
[6001157758,"WYONG-CENTREWAY (01)","AW0-007 ","AW0",252.96000671386699]
[6001157770,"WYONG-CENTREWAY (02)","AW0-007 ","AW0",252.94999694824199]
[6001158669,"RACHELLE-DINAH (01)","AW0-006 ","AW0",252.94999694824199]
[6001207335,"INTERNATIONAL-T'PARK (00)","AW0-004 ","AW0",252.94999694824199]
[6001232322,"ELATA-BEVERAGE (01)","AW0-003 ","AW0",252.94999694824199]
[6001147965,"KING-BOWES (01)","AW0-005 ","AW0",252.94000244140599]
[6001148115,"ETZEL-CLYDESDALE (02)","AW0-006 ","AW0",252.94000244140599]
[6001197946,"THE CROSSWAY-PARK (02)","AW0-008 ","AW0",252.94000244140599]
[6001215254,"ELATA-BEVERAGE (02)","AW0-003 ","AW0",252.94000244140599]
[6001039596,"ALANBRAE-STONEBRIDGE (03)","AW0-009 ","AW0",252.92999267578099]
[6001147681,"HILLSIDE-ROBERTS (02)","AW0-007 ","AW0",252.92999267578099]
[6001149783,"MAY-DAWSON (01)","AW0-004 ","AW0",252.92999267578099]
[6001149951,"THERESA-CHRISTOPHER (02)","AW0-009 ","AW0",252.92999267578099]
[6001163691,"HANSON-GOBLE (01)","AW0-007 ","AW0",252.92999267578099]
[6001296213,"INTERNATIONAL-T'PARK (00)","AW0-004 ","AW0",252.92999267578099]
[6001195330,"HARCOURT-SHERBOURNE (02)","AW0-002 ","AW0",252.919998168945]
[6001235135,"HANSON-GOBLE (01)","AW0-007 ","AW0",252.919998168945]
[6001157755,"WYONG-CENTREWAY (01)","AW0-007 ","AW0",252.91000366210901]
[6001193345,"TANGEMERE-MICKLEHAM (02)","AW0-009 ","AW0",252.91000366210901]
[6001287446,"NEWMAN-HOTHAM (03)","AW0-007 ","AW0",252.91000366210901]
[6001147080,"OAK-CONISTON (02)","AW0-007 ","AW0",252.89999389648401]
[6001157855,"CENTREWAY-WINGARA (03)","AW0-007 ","AW0",252.89999389648401]
[6001163686,"HANSON-GOBLE (01)","AW0-007 ","AW0",252.89999389648401]
[6001196854,"KITTYHAWK-MOORNA (02)","AW0-008 ","AW0",252.89999389648401]
[6001334153,"CENTREWAY-WINGARA (03)","AW0-007 ","AW0",252.89999389648401]
[6001482720,"SEXTON-HALSEY (03)","AW0-006 ","AW0",252.89999389648401]
[6001530172,"WYONG-CENTREWAY (01)","AW0-007 ","AW0",252.89999389648401]
[6001561567,"WYONG-CENTREWAY (01)","AW0-007 ","AW0",252.89999389648401]
[6001578077,"KEILOR-NYAH (01)","AW0-007 ","AW0",252.89999389648401]
[6001635123,"HILLSIDE-ROBERTS (02)","AW0-007 ","AW0",252.89999389648401]
[6001044871,"INTERNATIONAL-T'PARK (00)","AW0-004 ","AW0",252.88999938964801]
[6001044871,"INTERNATIONAL-T'PARK (00)","AW0-004 ","AW0",252.88999938964801]
[6001239637,"MOORE 9-MATTHEWS (01)","AW0-012 ","AW0",252.88999938964801]
[6001262078,"WILLOWTREE-PERSICA (01)","AW0-006 ","AW0",252.88999938964801]
[6001322792,"LOCK-LAURENCE (02)","AW0-007 ","AW0",252.88999938964801]
[6001009760,"AMIS-VISTA (02)","AW0-008 ","AW0",252.88000488281301]
[6001146801,"CRESSWELL-CAMERON (02)","AW0-006 ","AW0",252.86999511718801]
[6001157756,"WYONG-CENTREWAY (01)","AW0-007 ","AW0",252.86999511718801]
[6001197883,"NORWOOD-PROSPECT (02)","AW0-008 ","AW0",252.86999511718801]
[6001217295,"WYONG-CENTREWAY (00)","AW0-007 ","AW0",252.86999511718801]
[6001231991,"ALANBRAE-STONEBRIDGE (03)","AW0-009 ","AW0",252.86999511718801]
[6001271912,"ELATA-BEVERAGE (01)","AW0-003 ","AW0",252.86999511718801]
[6001157094,"WUNNAMURRA-WONGANELA (01)","AW0-008 ","AW0",252.86000061035199]
[6001197887,"THE CROSSWAY-PARK (01)","AW0-008 ","AW0",252.86000061035199]
[6001226941,"HOOD-MATTHEWS (01)","AW0-001 ","AW0",252.86000061035199]
[6001234424,"MOYANGUL-GUNGARLAN (02)","AW0-008 ","AW0",252.86000061035199]
[6001244476,"NEWMAN-HOTHAM (03)","AW0-007 ","AW0",252.86000061035199]
[6001252427,"INTERNATIONAL-T'PARK (00)","AW0-004 ","AW0",252.86000061035199]
[6001274445,"LANARK-GOWANBRAE (03)","AW0-012 ","AW0",252.86000061035199]
[6001317312,"WESTERN-GLOBAL (01)","AW0-014 ","AW0",252.86000061035199]
[6001329756,"NORWOOD-PROSPECT (02)","AW0-008 ","AW0",252.86000061035199]
[6001127743,"HANSON-GOBLE (01)","AW0-007 ","AW0",252.85000610351599]
[6001190934,"BRAMCOTE-FORMAN (03)","AW0-009 ","AW0",252.85000610351599]
[6001193760,"PAYNE-RYLANDES (02)","AW0-009 ","AW0",252.85000610351599]
[6001247090,"ELATA-BEVERAGE (01)","AW0-003 ","AW0",252.85000610351599]
[6001317311,"WESTERN-GLOBAL (01)","AW0-014 ","AW0",252.85000610351599]
[6001340136,"CRESSWELL-CAMERON (02)","AW0-006 ","AW0",252.85000610351599]
[6001003774,"INTERNATIONAL-T'PARK (00)","AW0-004 ","AW0",252.83999633789099]
[6001011820,"WESTFIELD-NO2 (00)","AW0-008 ","AW0",252.83999633789099]
[6001127327,"AMIS-VISTA (02)","AW0-008 ","AW0",252.83999633789099]
[6001158164,"HENRY-DENNIS (02)","AW0-008 ","AW0",252.83999633789099]
[6001169704,"ALANBRAE-STONEBRIDGE (04)","AW0-009 ","AW0",252.83999633789099]
[6001478503,"WYONG-CENTREWAY (01)","AW0-007 ","AW0",252.83999633789099]
[6001003306,"WYONG-CENTREWAY (02)","AW0-007 ","AW0",252.830001831055]
[6001159053,"BUCKLEY-PHILLIP (02)","AW0-008 ","AW0",252.830001831055]
[6001259728,"AMIS-VISTA (02)","AW0-008 ","AW0",252.830001831055]
[6001317299,"WESTERN-GLOBAL (01)","AW0-014 ","AW0",252.830001831055]
[6001384135,"MCNAMARA-PETERS (03)","AW0-007 ","AW0",252.830001831055]
[6001453406,"COPE-MOORE (02)","AW0-001 ","AW0",252.830001831055]
[6001197806,"AMIS-VISTA (02)","AW0-008 ","AW0",252.82000732421901]
[6001227892,"WILLOWTREE-PERSICA (01)","AW0-006 ","AW0",252.82000732421901]
[6001317303,"WESTERN-GLOBAL (01)","AW0-014 ","AW0",252.82000732421901]
[6001149014,"COVENTRY-MALVERN (02)","AW0-012 ","AW0",252.80999755859401]
[6001211790,"FRASER-BOWES (01)","AW0-001 ","AW0",252.80999755859401]
[6001035896,"INTERNATIONAL-T'PARK (00)","AW0-004 ","AW0",252.80000305175801]
[6001157823,"WYONG-CENTREWAY (02)","AW0-007 ","AW0",252.80000305175801]
[6001159220,"COHEN-GROVES (02)","AW0-008 ","AW0",252.80000305175801]
[6001190690,"HORNSBY-BAMFORD (02)","AW0-014 ","AW0",252.80000305175801]
[6001247203,"NEWMAN-HOTHAM (03)","AW0-007 ","AW0",252.80000305175801]
[6001317314,"WESTERN-GLOBAL (01)","AW0-014 ","AW0",252.80000305175801]
[6001450071,"ROSEHILL-TALBOT (01)","AW0-006 ","AW0",252.80000305175801]
[6001487137,"MCINTOSH 42-MATTHEWS (01)","AW0-005 ","AW0",252.80000305175801]
[6001538528,"QUINN-NOGA (02)","AW0-007 ","AW0",252.80000305175801]
[6001546382,"COPE-MOORE (02)","AW0-001 ","AW0",252.80000305175801]
[6001561567,"WYONG-CENTREWAY (01)","AW0-007 ","AW0",252.80000305175801]
[6001585870,"NEAL-DINAH (01)","AW0-008 ","AW0",252.80000305175801]
[6001021661,"AMIS-VISTA (02)","AW0-008 ","AW0",252.78999328613301]
[6001197909,"AMIS-VISTA (02)","AW0-008 ","AW0",252.78999328613301]
[6001281666,"WYONG-CENTREWAY (01)","AW0-007 ","AW0",252.78999328613301]
[6001299193,"TULLA 14-BEVERAGE (01)","AW0-011 ","AW0",252.78999328613301]
[6001320625,"QUINN-NOGA (02)","AW0-007 ","AW0",252.78999328613301]
[6001426584,"PAMELA-HERBERT (02)","AW0-006 ","AW0",252.78999328613301]
[6001042811,"INTERNATIONAL-T'PARK (00)","AW0-004 ","AW0",252.77999877929699]
[6001147892,"MCINTOSH 42-MATTHEWS (01)","AW0-005 ","AW0",252.77999877929699]
[6001317302,"WESTERN-GLOBAL (01)","AW0-014 ","AW0",252.77999877929699]
[6001317310,"WESTERN-GLOBAL (01)","AW0-014 ","AW0",252.77999877929699]
[6001377638,"OAK-CONISTON (02)","AW0-007 ","AW0",252.77999877929699]
[6001003405,"INTERNATIONAL-T'PARK (00)","AW0-004 ","AW0",252.77000427246099]
[6001148087,"ETZEL-CLYDESDALE (02)","AW0-006 ","AW0",252.77000427246099]
[6001157093,"WUNNAMURRA-WONGANELA (01)","AW0-008 ","AW0",252.77000427246099]
[6001157757,"WYONG-CENTREWAY (01)","AW0-007 ","AW0",252.77000427246099]
[6001195356,"HARCOURT-SHERBOURNE (01)","AW0-002 ","AW0",252.77000427246099]
[6001296926,"LANARK-GOWANBRAE (01)","AW0-012 ","AW0",252.77000427246099]
[6001003835,"KING-BOWES (01)","AW0-005 ","AW0",252.75999450683599]
[6001146834,"FULLARTON-WALTERS (01)","AW0-006 ","AW0",252.75999450683599]
[6001195360,"HARCOURT-SHERBOURNE (01)","AW0-002 ","AW0",252.75999450683599]
[6001197865,"NORWOOD-PROSPECT (02)","AW0-008 ","AW0",252.75999450683599]
[6001198330,"ELATA-BEVERAGE (01)","AW0-003 ","AW0",252.75999450683599]
[6001267185,"WILLOWTREE-PERSICA (01)","AW0-006 ","AW0",252.75999450683599]
[6001296210,"INTERNATIONAL-T'PARK (00)","AW0-004 ","AW0",252.75999450683599]
[6001317301,"WESTERN-GLOBAL (01)","AW0-014 ","AW0",252.75999450683599]
[6001196603,"HARDY-SNAEFELL (01)","AW0-009 ","AW0",252.75]
[6001211798,"WYONG-CENTREWAY (01)","AW0-007 ","AW0",252.75]
[6001291937,"ALANBRAE-STONEBRIDGE (04)","AW0-009 ","AW0",252.75]
[6001199418,"KING-BOWES (01)","AW0-005 ","AW0",252.74000549316401]
[6001232755,"MATTHEWS-DROMANA (02)","AW0-012 ","AW0",252.74000549316401]
[6001292745,"WILLOWTREE-PERSICA (01)","AW0-006 ","AW0",252.74000549316401]
[6001296212,"INTERNATIONAL-T'PARK (00)","AW0-004 ","AW0",252.74000549316401]
[6001158788,"HEATHER-DINAH (01)","AW0-006 ","AW0",252.72999572753901]
[6001194838,"HILLCREST-MICKLEHAM (01)","AW0-009 ","AW0",252.72999572753901]
[6001195096,"SAMARA-ELMHURST (02)","AW0-002 ","AW0",252.72999572753901]
[6001221562,"HAWKER-MCNAMARA (01)","AW0-001 ","AW0",252.72999572753901]
[6001317300,"WESTERN-GLOBAL (01)","AW0-014 ","AW0",252.72999572753901]
[6001454410,"KEILOR-NYAH (01)","AW0-007 ","AW0",252.72999572753901]
["VDDD001067","MOORE 9-MATTHEWS (02)","AW0-012 ","AW0",252.72999572753901]
[6001149392,"SYCAMORE-BROADMEADOWS (01)","AW0-009 ","AW0",252.72000122070301]
[6001157812,"CENTREWAY-WINGARA (03)","AW0-007 ","AW0",252.72000122070301]
[6001159982,"THE CROSSWAY-VISTA (03)","AW0-008 ","AW0",252.72000122070301]
[6001209404,"FULLARTON-WALTERS (02)","AW0-006 ","AW0",252.72000122070301]
[6001278924,"HOOD-MATTHEWS (01)","AW0-001 ","AW0",252.72000122070301]
[6001309762,"SEXTON-HALSEY (04)","AW0-006 ","AW0",252.72000122070301]
[6001317316,"WESTERN-GLOBAL (01)","AW0-014 ","AW0",252.72000122070301]
[6001319718,"PAMELA-HERBERT (02)","AW0-006 ","AW0",252.72000122070301]
[6001148410,"KINGSLEY-AJ DAVIS RESERVE (01)","AW0-007 ","AW0",252.71000671386699]
[6001212332,"MURDOCH-HASSETT (01)","AW0-008 ","AW0",252.71000671386699]
[6001224404,"WILLOWTREE-PERSICA (01)","AW0-006 ","AW0",252.71000671386699]
[6001238520,"HANSON-GOBLE (01)","AW0-007 ","AW0",252.71000671386699]
[6001282004,"MARIGOLD-ALDER (03)","AW0-012 ","AW0",252.71000671386699]
[6001347714,"WYONG-CENTREWAY (02)","AW0-007 ","AW0",252.71000671386699]
[6001022335,"HORNSBY-BAMFORD (02)","AW0-014 ","AW0",252.69999694824199]
[6001126081,"QUINN-NOGA (02)","AW0-007 ","AW0",252.69999694824199]
[6001163690,"HANSON-GOBLE (01)","AW0-007 ","AW0",252.69999694824199]
[6001197354,"THE CROSSWAY-VISTA (02)","AW0-008 ","AW0",252.69999694824199]
[6001197899,"AMIS-VISTA (02)","AW0-008 ","AW0",252.69999694824199]
[6001211983,"HASSETT-BORDER (03)","AW0-008 ","AW0",252.69999694824199]
[6001237579,"FULLARTON-WALTERS (02)","AW0-006 ","AW0",252.69999694824199]
[6001291967,"MCPHERSON-QUINN (03)","AW0-008 ","AW0",252.69999694824199]
[6001436262,"WYONG-CENTREWAY (01)","AW0-007 ","AW0",252.69999694824199]
[6001439109,"CRESSWELL-CAMERON (02)","AW0-006 ","AW0",252.69999694824199]
[6001477767,"CENTREWAY-WINGARA (03)","AW0-007 ","AW0",252.69999694824199]
[6001486130,"DROMANA-MATTHEWS (02)","AW0-012 ","AW0",252.69999694824199]
[6001514095,"OAK-CONISTON (03)","AW0-007 ","AW0",252.69999694824199]
[6001523043,"THERESA-CHRISTOPHER (02)","AW0-009 ","AW0",252.69999694824199]
[6001540142,"MCNAMARA-ROBERTS (02)","AW0-006 ","AW0",252.69999694824199]
[6001593216,"ELLEN-RACHELLE (02)","AW0-008 ","AW0",252.69999694824199]
[6001629022,"COHEN-GROVES (02)","AW0-008 ","AW0",252.69999694824199]
[6001042811,"INTERNATIONAL-T'PARK (00)","AW0-004 ","AW0",252.69000244140599]
[6001146663,"HART-BOWES (02)","AW0-006 ","AW0",252.69000244140599]
[6001147008,"MCNAMARA-PETERS (03)","AW0-007 ","AW0",252.69000244140599]
[6001148891,"MOORE 9-MATTHEWS (01)","AW0-012 ","AW0",252.69000244140599]
[6001190456,"SWAITH-FORMAN (02)","AW0-009 ","AW0",252.69000244140599]
[6001217294,"WYONG-CENTREWAY (00)","AW0-007 ","AW0",252.69000244140599]
[6001266339,"MARIGOLD-ALDER (03)","AW0-012 ","AW0",252.69000244140599]
[6001123148,"SOUTH CIRCULAR-CARRICK (03)","AW0-002 ","AW0",252.67999267578099]
[6001157092,"WUNNAMURRA-WONGANELA (01)","AW0-008 ","AW0",252.67999267578099]
[6001163684,"HANSON-GOBLE (01)","AW0-007 ","AW0",252.67999267578099]
[6001196881,"KITTYHAWK-MOORNA (02)","AW0-008 ","AW0",252.67999267578099]
[6001259185,"AMIS-VISTA (02)","AW0-008 ","AW0",252.67999267578099]
[6001296210,"INTERNATIONAL-T'PARK (00)","AW0-004 ","AW0",252.67999267578099]
[6001148776,"COPE-MOORE (02)","AW0-001 ","AW0",252.669998168945]
[6001148842,"SEXTON-HALSEY (03)","AW0-006 ","AW0",252.669998168945]
[6001351126,"ELLEN-RACHELLE (02)","AW0-008 ","AW0",252.669998168945]
[6001351967,"SEXTON-HALSEY (03)","AW0-006 ","AW0",252.669998168945]
[6001430037,"AMIS-VISTA (02)","AW0-008 ","AW0",252.669998168945]
[6001490878,"COHEN-GROVES (01)","AW0-008 ","AW0",252.669998168945]
[6001147607,"HILLSIDE-ROBERTS (02)","AW0-007 ","AW0",252.66000366210901]
[6001197901,"AMIS-VISTA (02)","AW0-008 ","AW0",252.66000366210901]
[6001232100,"INTERNATIONAL-T'PARK (00)","AW0-004 ","AW0",252.66000366210901]
[6001239637,"MOORE 9-MATTHEWS (01)","AW0-012 ","AW0",252.66000366210901]
[6001282626,"HADDON HALL-BATEMAN (01)","AW0-009 ","AW0",252.66000366210901]
[6001294200,"TULLA 14-BEVERAGE (01)","AW0-011 ","AW0",252.66000366210901]
[6001317313,"WESTERN-GLOBAL (01)","AW0-014 ","AW0",252.66000366210901]
[6001020208,"SAMARA-ELMHURST (02)","AW0-002 ","AW0",252.64999389648401]
[6001148890,"MOORE 9-MATTHEWS (01)","AW0-012 ","AW0",252.64999389648401]
[6001195355,"HARCOURT-SHERBOURNE (01)","AW0-002 ","AW0",252.64999389648401]
[6001199484,"ELATA-BEVERAGE (01)","AW0-003 ","AW0",252.64999389648401]
[6001296211,"INTERNATIONAL-T'PARK (00)","AW0-004 ","AW0",252.64999389648401]
[6001322852,"MCPHERSON-QUINN (03)","AW0-008 ","AW0",252.64999389648401]
[6001419311,"OAK-CONISTON (02)","AW0-007 ","AW0",252.64999389648401]
[6001159164,"FAWKNER-ROBERTS (01)","AW0-008 ","AW0",252.63999938964801]
[6001195190,"SAMARA-ELMHURST (01)","AW0-002 ","AW0",252.63999938964801]
[6001199698,"ASSEMBLY-OVATA (01)","AW0-011 ","AW0",252.63999938964801]
[6001261649,"SEXTON-HALSEY (03)","AW0-006 ","AW0",252.63999938964801]
[6001226422,"MURDOCH-HASSETT (01)","AW0-008 ","AW0",252.63000488281301]
[6001290415,"WILLOWTREE-PERSICA (01)","AW0-006 ","AW0",252.63000488281301]
[6001305851,"FULLARTON-WALTERS (01)","AW0-006 ","AW0",252.63000488281301]
[6001003837,"MOLYNEUX-HAWKER (01)","AW0-005 ","AW0",252.61999511718801]
[6001148897,"MOORE 9-MATTHEWS (01)","AW0-012 ","AW0",252.61999511718801]
[6001159051,"BUCKLEY-PHILLIP (02)","AW0-008 ","AW0",252.61999511718801]
[6001159095,"FAWKNER-ROBERTS (02)","AW0-008 ","AW0",252.61999511718801]
[6001309310,"INTERNATIONAL-T'PARK (00)","AW0-004 ","AW0",252.61999511718801]
[6001313123,"WYONG-CENTREWAY (01)","AW0-007 ","AW0",252.61999511718801]
[6001457293,"MCNAMARA-PETERS (03)","AW0-007 ","AW0",252.61999511718801]
[6001016980,"INTERNATIONAL-T'PARK (00)","AW0-004 ","AW0",252.61000061035199]
[6001163678,"HANSON-GOBLE (01)","AW0-007 ","AW0",252.61000061035199]
[6001192777,"INTERNATIONAL-T'PARK (00)","AW0-004 ","AW0",252.61000061035199]
[6001198329,"ELATA-BEVERAGE (01)","AW0-003 ","AW0",252.61000061035199]
[6001329145,"DALKEITH-GORDON (01)","AW0-009 ","AW0",252.61000061035199]
[6001479920,"WYONG-CENTREWAY (01)","AW0-007 ","AW0",252.61000061035199]
[6001148113,"ETZEL-CLYDESDALE (02)","AW0-006 ","AW0",252.60000610351599]
[6001149977,"THERESA-CHRISTOPHER (01)","AW0-009 ","AW0",252.60000610351599]
[6001157759,"WYONG-CENTREWAY (01)","AW0-007 ","AW0",252.60000610351599]
[6001195155,"ELMHURST-CARRICK (01)","AW0-002 ","AW0",252.60000610351599]
[6001250643,"HANSON-GOBLE (01)","AW0-007 ","AW0",252.60000610351599]
[6001285616,"LANARK-GOWANBRAE (01)","AW0-012 ","AW0",252.60000610351599]
[6001325762,"HILLCREST-ARJAY (01)","AW0-014 ","AW0",252.60000610351599]
[6001445063,"OAK-CONISTON (03)","AW0-007 ","AW0",252.60000610351599]
[6001486126,"DROMANA-MATTHEWS (02)","AW0-012 ","AW0",252.60000610351599]
[6001507057,"WESTERN-GLOBAL (02)","AW0-014 ","AW0",252.60000610351599]
[6001550264,"FAWKNER-ROBERTS (02)","AW0-008 ","AW0",252.60000610351599]
[6001558014,"GROSVENOR-FLORENCE (02)","AW0-007 ","AW0",252.60000610351599]
[6001571105,"HEATHER-DINAH (02)","AW0-006 ","AW0",252.60000610351599]
[6001592269,"THERESA-CHRISTOPHER (02)","AW0-009 ","AW0",252.60000610351599]
[6001146665,"HART-BOWES (02)","AW0-006 ","AW0",252.58999633789099]
[6001147009,"MCNAMARA-PETERS (03)","AW0-007 ","AW0",252.58999633789099]
[6001159085,"FAWKNER-ROBERTS (02)","AW0-008 ","AW0",252.58999633789099]
[6001159124,"MCPHERSON-QUINN (03)","AW0-008 ","AW0",252.58999633789099]
[6001193001,"DAWSON-ROMA (01)","AW0-004 ","AW0",252.58999633789099]
[6001273043,"MARIGOLD-ALDER (03)","AW0-012 ","AW0",252.58999633789099]
[6001249697,"ELLEN-RACHELLE (02)","AW0-008 ","AW0",252.580001831055]
[6001251535,"AMIS-VISTA (02)","AW0-008 ","AW0",252.580001831055]
[6001265050,"INTERNATIONAL-T'PARK (00)","AW0-004 ","AW0",252.580001831055]
[6001347712,"WYONG-CENTREWAY (02)","AW0-007 ","AW0",252.580001831055]
[6001126938,"HANSON-GOBLE (01)","AW0-007 ","AW0",252.57000732421901]
[6001157764,"WYONG-CENTREWAY (02)","AW0-007 ","AW0",252.57000732421901]
[6001195237,"SAMARA-ELMHURST (02)","AW0-002 ","AW0",252.57000732421901]
[6001198326,"ASSEMBLY-OVATA (03)","AW0-011 ","AW0",252.57000732421901]
[6001261329,"INTERNATIONAL-T'PARK (00)","AW0-004 ","AW0",252.57000732421901]
[6001284510,"BIRCH-BROADMEADOWS (01)","AW0-012 ","AW0",252.57000732421901]
[6001159165,"FAWKNER-ROBERTS (02)","AW0-008 ","AW0",252.55999755859401]
[6001190920,"SWAITH-FORMAN (02)","AW0-009 ","AW0",252.55999755859401]
[6001221448,"COLLEGE-BREES (03)","AW0-008 ","AW0",252.55999755859401]
[6001192777,"INTERNATIONAL-T'PARK (00)","AW0-004 ","AW0",252.55000305175801]
[6001195033,"ELMHURST-CARRICK (02)","AW0-002 ","AW0",252.55000305175801]
[6001276791,"ALANBRAE-STONEBRIDGE (04)","AW0-009 ","AW0",252.55000305175801]
[6001478384,"GROSVENOR-FLORENCE (02)","AW0-007 ","AW0",252.55000305175801]
[6001123590,"INTERNATIONAL-T'PARK (00)","AW0-004 ","AW0",252.53999328613301]
[6001146847,"FULLARTON-WALTERS (01)","AW0-006 ","AW0",252.53999328613301]
[6001158186,"PAMELA-HERBERT (02)","AW0-006 ","AW0",252.53999328613301]
[6001158201,"PAMELA-HERBERT (02)","AW0-006 ","AW0",252.53999328613301]
[6001159160,"FAWKNER-ROBERTS (01)","AW0-008 ","AW0",252.53999328613301]
[6001163965,"NEWMAN-HOTHAM (03)","AW0-007 ","AW0",252.53999328613301]
[6001195153,"ELMHURST-CARRICK (01)","AW0-002 ","AW0",252.53999328613301]
[6001197907,"AMIS-VISTA (02)","AW0-008 ","AW0",252.53999328613301]
[6001275626,"ADELAIDE-LANARK (02)","AW0-012 ","AW0",252.53999328613301]
[6001327910,"ELATA-BEVERAGE (02)","AW0-003 ","AW0",252.53999328613301]
[6001148777,"SEXTON-HALSEY (04)","AW0-006 ","AW0",252.52999877929699]
[6001190789,"BROLGA-SWAN (01)","AW0-014 ","AW0",252.52999877929699]
[6001198318,"ASSEMBLY-OVATA (01)","AW0-011 ","AW0",252.52999877929699]
[6001230633,"WILLOWTREE-PERSICA (01)","AW0-006 ","AW0",252.52999877929699]
[6001251221,"WYONG-CENTREWAY (00)","AW0-007 ","AW0",252.52999877929699]
[6001149965,"THERESA-CHRISTOPHER (02)","AW0-009 ","AW0",252.52000427246099]
[6001190926,"BRAMCOTE-FORMAN (03)","AW0-009 ","AW0",252.52000427246099]
[6001193577,"MICKLEHAM-SCAMPTON (02)","AW0-009 ","AW0",252.52000427246099]
[6001197635,"CORTINA-MONTE CARLO (02)","AW0-008 ","AW0",252.52000427246099]
[6001299193,"TULLA 14-BEVERAGE (01)","AW0-011 ","AW0",252.52000427246099]
[6001469951,"GROSVENOR-FLORENCE (01)","AW0-007 ","AW0",252.52000427246099]
[6001015838,"WYONG-CENTREWAY (02)","AW0-007 ","AW0",252.50999450683599]
[6001149552,"GORDON-SHARPS (02)","AW0-012 ","AW0",252.50999450683599]
[6001157089,"WUNNAMURRA-WONGANELA (01)","AW0-008 ","AW0",252.50999450683599]
[6001199289,"INTERNATIONAL-T'PARK (00)","AW0-004 ","AW0",252.50999450683599]
[6001004366,"INTERNATIONAL-T'PARK (00)","AW0-004 ","AW0",252.5]
[6001158263,"QUINN-NOGA (02)","AW0-007 ","AW0",252.5]
[6001190545,"HORNSBY-BAMFORD (02)","AW0-014 ","AW0",252.5]
[6001275941,"HOOD-MATTHEWS (01)","AW0-001 ","AW0",252.5]
[6001281665,"WYONG-CENTREWAY (01)","AW0-007 ","AW0",252.5]
[6001485134,"BIRCH-BROADMEADOWS (01)","AW0-012 ","AW0",252.5]
[6001494407,"FARRELL-RYDER (03)","AW0-006 ","AW0",252.5]
[6001509132,"KEILOR-NYAH (01)","AW0-007 ","AW0",252.5]
[6001552409,"McINTOSH 16-MATTHEWS (02)","AW0-005 ","AW0",252.5]
[6001553534,"QUINN-NOGA (02)","AW0-007 ","AW0",252.5]
[6001557379,"HART-BOWES (02)","AW0-006 ","AW0",252.5]
[6001585873,"ELLEN-RACHELLE (02)","AW0-008 ","AW0",252.5]
[6001591831,"MOORE 9-MATTHEWS (01)","AW0-012 ","AW0",252.5]
[6001596538,"SHELLEY-NOGA (02)","AW0-007 ","AW0",252.5]
[6001148896,"MOORE 9-MATTHEWS (01)","AW0-012 ","AW0",252.49000549316401]
[6001148901,"MOORE 9-MATTHEWS (01)","AW0-012 ","AW0",252.49000549316401]
[6001157860,"CENTREWAY-WINGARA (04)","AW0-007 ","AW0",252.49000549316401]
[6001195190,"SAMARA-ELMHURST (01)","AW0-002 ","AW0",252.49000549316401]
[6001196214,"TOWNSEND-HOCTOR (02)","AW0-002 ","AW0",252.49000549316401]
[6001196609,"HARDY-SNAEFELL (01)","AW0-009 ","AW0",252.49000549316401]
[6001276700,"LANARK-GOWANBRAE (01)","AW0-012 ","AW0",252.49000549316401]
[6001367581,"CENTREWAY-WINGARA (04)","AW0-007 ","AW0",252.49000549316401]
[6001195190,"SAMARA-ELMHURST (01)","AW0-002 ","AW0",252.47999572753901]
[6001197944,"THE CROSSWAY-PARK (02)","AW0-008 ","AW0",252.47999572753901]
[6001324243,"LANARK-GOWANBRAE (01)","AW0-012 ","AW0",252.47000122070301]
[6001148310,"HILBERT-HARRINGTON (01)","AW0-008 ","AW0",252.46000671386699]
[6001157752,"WYONG-CENTREWAY (01)","AW0-007 ","AW0",252.46000671386699]
[6001183719,"WYONG-CENTREWAY (02)","AW0-007 ","AW0",252.46000671386699]
[6001197935,"THE CROSSWAY-PARK (02)","AW0-008 ","AW0",252.46000671386699]
[6001198328,"ELATA-BEVERAGE (01)","AW0-003 ","AW0",252.46000671386699]
[6001207160,"AMIS-VISTA (02)","AW0-008 ","AW0",252.46000671386699]
[6001232100,"INTERNATIONAL-T'PARK (00)","AW0-004 ","AW0",252.46000671386699]
[6001328557,"COPE-MOORE (02)","AW0-001 ","AW0",252.46000671386699]
[6001458051,"KEILOR-NYAH (01)","AW0-007 ","AW0",252.46000671386699]
[6001146742,"CRESSWELL-CAMERON (01)","AW0-006 ","AW0",252.44999694824199]
[6001194605,"GREENACRE-AYLESBURY (01)","AW0-002 ","AW0",252.44999694824199]
[6001292745,"WILLOWTREE-PERSICA (01)","AW0-006 ","AW0",252.44999694824199]
[6001123590,"INTERNATIONAL-T'PARK (00)","AW0-004 ","AW0",252.44000244140599]
[6001125017,"MCPHERSON-QUINN (03)","AW0-008 ","AW0",252.44000244140599]
[6001148895,"MOORE 9-MATTHEWS (01)","AW0-012 ","AW0",252.44000244140599]
[6001235382,"ALANBRAE-STONEBRIDGE (04)","AW0-009 ","AW0",252.44000244140599]
[6001335621,"HILLCREST-ARJAY (01)","AW0-014 ","AW0",252.44000244140599]
[6001390703,"SEXTON-HALSEY (03)","AW0-006 ","AW0",252.44000244140599]
[6001148124,"ETZEL-CLYDESDALE (02)","AW0-006 ","AW0",252.42999267578099]
[6001470042,"FULLARTON-WALTERS (01)","AW0-006 ","AW0",252.42999267578099]
[6001003770,"INTERNATIONAL-T'PARK (00)","AW0-004 ","AW0",252.419998168945]
[6001159156,"FAWKNER-ROBERTS (01)","AW0-008 ","AW0",252.419998168945]
[6001195318,"HARCOURT-SHERBOURNE (02)","AW0-002 ","AW0",252.419998168945]
[6001328924,"OAK-CONISTON (02)","AW0-007 ","AW0",252.419998168945]
[6001146957,"HOOD-MATTHEWS (01)","AW0-001 ","AW0",252.41000366210901]
[6001148770,"COPE-MOORE (02)","AW0-001 ","AW0",252.41000366210901]
[6001163561,"NEWMAN-HOTHAM (01)","AW0-007 ","AW0",252.41000366210901]
[6001190617,"HORNSBY-BAMFORD (01)","AW0-014 ","AW0",252.41000366210901]
[6001331561,"HILLCREST-ARJAY (01)","AW0-014 ","AW0",252.41000366210901]
[6001341711,"ETZEL-CLYDESDALE (02)","AW0-006 ","AW0",252.41000366210901]
[6001467190,"MCPHERSON-QUINN (03)","AW0-008 ","AW0",252.41000366210901]
[6001480715,"BEDFORD-PARER (02)","AW0-007 ","AW0",252.41000366210901]
[6001163769,"GROSVENOR-FLORENCE (02)","AW0-007 ","AW0",252.39999389648401]
[6001273238,"THE AVENUE-KEILOR (01)","AW0-007 ","AW0",252.39999389648401]
[6001329495,"PAMELA-HERBERT (02)","AW0-006 ","AW0",252.39999389648401]
[6001436518,"WYONG-CENTREWAY (01)","AW0-007 ","AW0",252.39999389648401]
[6001448820,"DALKEITH-GORDON (02)","AW0-009 ","AW0",252.39999389648401]
[6001487135,"MCINTOSH 42-MATTHEWS (01)","AW0-005 ","AW0",252.39999389648401]
[6001493902,"FAWKNER-ROBERTS (01)","AW0-008 ","AW0",252.39999389648401]
[6001552076,"ELLEN-RACHELLE (01)","AW0-008 ","AW0",252.39999389648401]
[6001552408,"McINTOSH 16-MATTHEWS (02)","AW0-005 ","AW0",252.39999389648401]
[6001588213,"GROSVENOR-FLORENCE (02)","AW0-007 ","AW0",252.39999389648401]
[6001591825,"MOORE 9-MATTHEWS (01)","AW0-012 ","AW0",252.39999389648401]
[6001591826,"MOORE 9-MATTHEWS (01)","AW0-012 ","AW0",252.39999389648401]
[6001612312,"PAYNE-RYLANDES (02)","AW0-009 ","AW0",252.39999389648401]
[6001636223,"CRESSWELL-CAMERON (01)","AW0-006 ","AW0",252.39999389648401]
[6001004366,"INTERNATIONAL-T'PARK (00)","AW0-004 ","AW0",252.38999938964801]
[6001016980,"INTERNATIONAL-T'PARK (00)","AW0-004 ","AW0",252.38999938964801]
[6001157825,"CENTREWAY-WINGARA (01)","AW0-007 ","AW0",252.38999938964801]
[6001193008,"DAWSON-ROMA (02)","AW0-004 ","AW0",252.38999938964801]
[6001320579,"HAWKER-MCNAMARA (02)","AW0-001 ","AW0",252.38999938964801]
[6001003815,"CENTREWAY-WINGARA (04)","AW0-007 ","AW0",252.38000488281301]
[6001003834,"KING-BOWES (01)","AW0-005 ","AW0",252.38000488281301]
[6001159075,"FAWKNER-ROBERTS (02)","AW0-008 ","AW0",252.38000488281301]
[6001163846,"NEWMAN-HOTHAM (03)","AW0-007 ","AW0",252.38000488281301]
[6001190895,"BRAMCOTE-FORMAN (02)","AW0-009 ","AW0",252.38000488281301]
[6001262179,"HANSON-GOBLE (01)","AW0-007 ","AW0",252.38000488281301]
[6001281003,"BEVERAGE-TULLA PARK (01)","AW0-003 ","AW0",252.38000488281301]
[6001297657,"COPE-MOORE (02)","AW0-001 ","AW0",252.38000488281301]
[6001399981,"MCINTOSH 42-MATTHEWS (01)","AW0-005 ","AW0",252.38000488281301]
[6001411754,"FULLARTON-WALTERS (01)","AW0-006 ","AW0",252.38000488281301]
[6001148894,"MOORE 9-MATTHEWS (01)","AW0-012 ","AW0",252.36999511718801]
[6001157095,"WUNNAMURRA-WONGANELA (01)","AW0-008 ","AW0",252.36999511718801]
[6001197740,"CORTINA-MONTE CARLO (02)","AW0-008 ","AW0",252.36999511718801]
[6001197945,"THE CROSSWAY-PARK (02)","AW0-008 ","AW0",252.36999511718801]
[6001207335,"INTERNATIONAL-T'PARK (00)","AW0-004 ","AW0",252.36999511718801]
[6001230474,"SYCAMORE-BROADMEADOWS (01)","AW0-009 ","AW0",252.36999511718801]
[6001290414,"WILLOWTREE-PERSICA (01)","AW0-006 ","AW0",252.36999511718801]
[6001125388,"WILLOWTREE-PERSICA (01)","AW0-006 ","AW0",252.36000061035199]
[6001157647,"MOYANGUL-GUNGARLAN (02)","AW0-008 ","AW0",252.36000061035199]
[6001192987,"DAWSON-ROMA (01)","AW0-004 ","AW0",252.36000061035199]
[6001271842,"INTERNATIONAL-T'PARK (00)","AW0-004 ","AW0",252.36000061035199]
[6001331640,"HILLCREST-ARJAY (01)","AW0-014 ","AW0",252.36000061035199]
[6001438436,"ELLEN-RACHELLE (02)","AW0-008 ","AW0",252.36000061035199]
[6001467145,"CARRICK 34-MELROSE (02)","AW0-002 ","AW0",252.36000061035199]
[6001476833,"BEVERAGE-TULLA PARK (01)","AW0-003 ","AW0",252.36000061035199]
[6001011834,"CENTREWAY-WINGARA (03)","AW0-007 ","AW0",252.35000610351599]
[6001146666,"HART-BOWES (02)","AW0-006 ","AW0",252.35000610351599]
[6001197869,"NORWOOD-PROSPECT (02)","AW0-008 ","AW0",252.35000610351599]
[6001199289,"INTERNATIONAL-T'PARK (00)","AW0-004 ","AW0",252.35000610351599]
[6001317315,"WESTERN-GLOBAL (01)","AW0-014 ","AW0",252.35000610351599]
[6001148309,"HILBERT-HARRINGTON (01)","AW0-008 ","AW0",252.33999633789099]
[6001148900,"MOORE 9-MATTHEWS (01)","AW0-012 ","AW0",252.33999633789099]
[6001158212,"PAMELA-HERBERT (02)","AW0-006 ","AW0",252.33999633789099]
[6001320528,"PETERBOROUGH-TRINITY (03)","AW0-009 ","AW0",252.33999633789099]
[6001322763,"MOORE 9-MATTHEWS (01)","AW0-012 ","AW0",252.33999633789099]
[6001157703,"MOYANGUL-GUNGARLAN (01)","AW0-008 ","AW0",252.330001831055]
[6001158989,"ELLEN-RACHELLE (02)","AW0-008 ","AW0",252.330001831055]
[6001159349,"REGENT-JEFFREY (02)","AW0-008 ","AW0",252.330001831055]
[6001282415,"WILLOWTREE-PERSICA (01)","AW0-006 ","AW0",252.330001831055]
[6001329316,"SEXTON-HALSEY (04)","AW0-006 ","AW0",252.330001831055]
[6001003405,"INTERNATIONAL-T'PARK (00)","AW0-004 ","AW0",252.32000732421901]
[6001011569,"WILLOWTREE-PERSICA (01)","AW0-006 ","AW0",252.32000732421901]
[6001159207,"SALTAU-MILLEARA (01)","AW0-008 ","AW0",252.32000732421901]
[6001197611,"CORTINA-MONTE CARLO (02)","AW0-008 ","AW0",252.32000732421901]
[6001198331,"ELATA-BEVERAGE (02)","AW0-003 ","AW0",252.32000732421901]
[6001290144,"WILLOWTREE-PERSICA (01)","AW0-006 ","AW0",252.32000732421901]
[6001298789,"FULLARTON-WALTERS (01)","AW0-006 ","AW0",252.32000732421901]
["VDDD001067","MOORE 9-MATTHEWS (02)","AW0-012 ","AW0",252.32000732421901]
[6001012211,"ALANBRAE-STONEBRIDGE (04)","AW0-009 ","AW0",252.30999755859401]
[6001146873,"FULLARTON-WALTERS (02)","AW0-006 ","AW0",252.30999755859401]
[6001157876,"CENTREWAY-WINGARA (04)","AW0-007 ","AW0",252.30999755859401]
[6001193368,"HANDSWORTH-LACKENHTH (01)","AW0-014 ","AW0",252.30999755859401]
[6001231939,"MCPHERSON-QUINN (03)","AW0-008 ","AW0",252.30999755859401]
[6001337511,"COPE-MOORE (02)","AW0-001 ","AW0",252.30999755859401]
[6001454452,"WYONG-CENTREWAY (02)","AW0-007 ","AW0",252.30999755859401]
[6001465879,"MOLYNEUX-HAWKER (02)","AW0-005 ","AW0",252.30999755859401]
[6001003867,"ELATA-BEVERAGE (02)","AW0-003 ","AW0",252.30000305175801]
[6001196345,"TOWNSEND-HOCTOR (01)","AW0-002 ","AW0",252.30000305175801]
[6001197947,"THE CROSSWAY-PARK (02)","AW0-008 ","AW0",252.30000305175801]
[6001226500,"ELATA-BEVERAGE (01)","AW0-003 ","AW0",252.30000305175801]
[6001281180,"HADDON HALL-BATEMAN (01)","AW0-009 ","AW0",252.30000305175801]
[6001284132,"WYONG-CENTREWAY (02)","AW0-007 ","AW0",252.30000305175801]
[6001319719,"PAMELA-HERBERT (02)","AW0-006 ","AW0",252.30000305175801]
[6001331841,"BIRCH-BROADMEADOWS (01)","AW0-012 ","AW0",252.30000305175801]
[6001483079,"SHELLEY-NOGA (01)","AW0-007 ","AW0",252.30000305175801]
[6001484135,"DROMANA-MATTHEWS (02)","AW0-012 ","AW0",252.30000305175801]
[6001488736,"SHELLEY-NOGA (01)","AW0-007 ","AW0",252.30000305175801]
[6001520005,"DALKEITH-GORDON (02)","AW0-009 ","AW0",252.30000305175801]
[6001552412,"McINTOSH 16-MATTHEWS (02)","AW0-005 ","AW0",252.30000305175801]
[6001552413,"McINTOSH 16-MATTHEWS (02)","AW0-005 ","AW0",252.30000305175801]
[6001552414,"McINTOSH 16-MATTHEWS (02)","AW0-005 ","AW0",252.30000305175801]
[6001552685,"QUINN-NOGA (02)","AW0-007 ","AW0",252.30000305175801]
[6001563332,"HILBERT-HARRINGTON (01)","AW0-008 ","AW0",252.30000305175801]
[6001571126,"ETZEL-CLYDESDALE (02)","AW0-006 ","AW0",252.30000305175801]
[6001581339,"ELLEN-RACHELLE (02)","AW0-008 ","AW0",252.30000305175801]
[6001149768,"MAY-DAWSON (01)","AW0-004 ","AW0",252.28999328613301]
[6001149967,"THERESA-CHRISTOPHER (02)","AW0-009 ","AW0",252.28999328613301]
[6001199228,"MMBW-VICTORIA 1 (01)","AW0-014 ","AW0",252.28999328613301]
[6001213796,"MURDOCH-HASSETT (04)","AW0-008 ","AW0",252.28999328613301]
[6001280794,"TRUMPINGTON-TRINITY (03)","AW0-009 ","AW0",252.28999328613301]
[6001339290,"QUINN-NOGA (02)","AW0-007 ","AW0",252.28999328613301]
[6001410936,"MCNAMARA-PETERS (03)","AW0-007 ","AW0",252.28999328613301]
[6001020086,"MCPHERSON-QUINN (03)","AW0-008 ","AW0",252.27999877929699]
[6001044871,"INTERNATIONAL-T'PARK (00)","AW0-004 ","AW0",252.27999877929699]
[6001147108,"OAK-CONISTON (02)","AW0-007 ","AW0",252.27999877929699]
[6001148082,"ETZEL-CLYDESDALE (02)","AW0-006 ","AW0",252.27999877929699]
[6001159378,"PARKSIDE-STERLING (01)","AW0-008 ","AW0",252.27999877929699]
[6001475677,"KEILOR-NYAH (01)","AW0-007 ","AW0",252.27999877929699]
[6001008667,"CENTREWAY-WINGARA (04)","AW0-007 ","AW0",252.27000427246099]
[6001011538,"ALANBRAE-STONEBRIDGE (04)","AW0-009 ","AW0",252.27000427246099]
[6001149968,"THERESA-CHRISTOPHER (02)","AW0-009 ","AW0",252.27000427246099]
[6001157749,"WYONG-CENTREWAY (01)","AW0-007 ","AW0",252.27000427246099]
[6001193374,"TANGEMERE-MICKLEHAM (02)","AW0-009 ","AW0",252.27000427246099]
[6001197359,"THE CROSSWAY-VISTA (02)","AW0-008 ","AW0",252.27000427246099]
[6001199451,"MOORE 9-MATTHEWS (01)","AW0-012 ","AW0",252.27000427246099]
[6001310117,"HENDERSON-MELROSE (01)","AW0-004 ","AW0",252.27000427246099]
[6001332304,"QUINN-NOGA (02)","AW0-007 ","AW0",252.27000427246099]
[6001411739,"OAK-CONISTON (03)","AW0-007 ","AW0",252.27000427246099]
[6001003441,"ELATA-BEVERAGE (01)","AW0-003 ","AW0",252.25999450683599]
[6001148058,"ETZEL-CLYDESDALE (01)","AW0-006 ","AW0",252.25999450683599]
[6001148078,"ETZEL-CLYDESDALE (02)","AW0-006 ","AW0",252.25999450683599]
[6001154160,"FOKKER-VICKERS (02)","AW0-012 ","AW0",252.25999450683599]
[6001159159,"FAWKNER-ROBERTS (01)","AW0-008 ","AW0",252.25999450683599]
[6001190631,"BEECROFT-ASHFORD (01)","AW0-014 ","AW0",252.25999450683599]
[6001193077,"HANDSWORTH-LACKENHTH (01)","AW0-014 ","AW0",252.25999450683599]
[6001195664,"SOUTH CIRCULAR-CARRICK (01)","AW0-002 ","AW0",252.25999450683599]
[6001453046,"CARRICK 34-MELROSE (02)","AW0-002 ","AW0",252.25999450683599]
[6001033974,"KINGSLEY-AJ DAVIS RESERVE (01)","AW0-007 ","AW0",252.25]
[6001148936,"COPE-MOORE (03)","AW0-001 ","AW0",252.25]
[6001349747,"CRESSWELL-CAMERON (02)","AW0-006 ","AW0",252.25]
[6001407912,"OAK-CONISTON (03)","AW0-007 ","AW0",252.25]
[6001157376,"KEILOR-NYAH (01)","AW0-007 ","AW0",252.24000549316401]
[6001163819,"NEWMAN-HOTHAM (03)","AW0-007 ","AW0",252.24000549316401]
[6001210949,"MMBW-VICTORIA 1 (01)","AW0-014 ","AW0",252.24000549316401]
[6001252427,"INTERNATIONAL-T'PARK (00)","AW0-004 ","AW0",252.24000549316401]
[6001275321,"ADELAIDE-LANARK (04)","AW0-012 ","AW0",252.24000549316401]
[6001277593,"DROMANA-MATTHEWS (03)","AW0-012 ","AW0",252.24000549316401]
[6001295052,"LOCKHEED-BOEING (01)","AW0-012 ","AW0",252.24000549316401]
[6001147498,"HILBERT-HARRINGTON (01)","AW0-008 ","AW0",252.22999572753901]
[6001159173,"MCPHERSON-QUINN (03)","AW0-008 ","AW0",252.22999572753901]
[6001190616,"HORNSBY-BAMFORD (01)","AW0-014 ","AW0",252.22999572753901]
[6001311231,"PETERBOROUGH-TRINITY (04)","AW0-009 ","AW0",252.22999572753901]
[6001011820,"WESTFIELD-NO2 (00)","AW0-008 ","AW0",252.22000122070301]
[6001154112,"FOKKER-VICKERS (01)","AW0-012 ","AW0",252.22000122070301]
[6001158784,"HEATHER-DINAH (01)","AW0-006 ","AW0",252.22000122070301]
[6001196118,"CARRICK-PYKE (02)","AW0-002 ","AW0",252.22000122070301]
[6001197832,"THE CROSSWAY-PARK (02)","AW0-008 ","AW0",252.22000122070301]
[6001301742,"ELLEN-RACHELLE (02)","AW0-008 ","AW0",252.22000122070301]
[6001322764,"MOORE 9-MATTHEWS (01)","AW0-012 ","AW0",252.22000122070301]
[6001399577,"QUINN-NOGA (01)","AW0-007 ","AW0",252.22000122070301]
[6001469317,"WARATAH-CAROL (02)","AW0-009 ","AW0",252.22000122070301]
[6001197166,"PAMELA-HERBERT (02)","AW0-006 ","AW0",252.21000671386699]
[6001197905,"AMIS-VISTA (02)","AW0-008 ","AW0",252.21000671386699]
[6001254351,"HOOD-MATTHEWS (01)","AW0-001 ","AW0",252.21000671386699]
[6001415762,"SEXTON-HALSEY (03)","AW0-006 ","AW0",252.21000671386699]
[6001044919,"HART-BOWES (03)","AW0-006 ","AW0",252.19999694824199]
[6001045000,"OAK-CONISTON (02)","AW0-007 ","AW0",252.19999694824199]
[6001198322,"ASSEMBLY-OVATA (01)","AW0-011 ","AW0",252.19999694824199]
[6001211880,"CORTINA-MONTE CARLO (02)","AW0-008 ","AW0",252.19999694824199]
[6001294067,"LANARK-GOWANBRAE (01)","AW0-012 ","AW0",252.19999694824199]
[6001305113,"MCPHERSON-QUINN (03)","AW0-008 ","AW0",252.19999694824199]
[6001337519,"FRASER-BOWES (01)","AW0-001 ","AW0",252.19999694824199]
[6001344370,"FAWKNER-ROBERTS (02)","AW0-008 ","AW0",252.19999694824199]
[6001511766,"DALKEITH-GORDON (02)","AW0-009 ","AW0",252.19999694824199]
[6001546040,"QUINN-NOGA (02)","AW0-007 ","AW0",252.19999694824199]
[6001552410,"McINTOSH 16-MATTHEWS (02)","AW0-005 ","AW0",252.19999694824199]
[6001553388,"WESTERN-GLOBAL (02)","AW0-014 ","AW0",252.19999694824199]
[6001571127,"ETZEL-CLYDESDALE (02)","AW0-006 ","AW0",252.19999694824199]
[6001591540,"HILLSIDE-ROBERTS (02)","AW0-007 ","AW0",252.19999694824199]
[6001591827,"MOORE 9-MATTHEWS (01)","AW0-012 ","AW0",252.19999694824199]
[6001591829,"MOORE 9-MATTHEWS (01)","AW0-012 ","AW0",252.19999694824199]
[6001591830,"MOORE 9-MATTHEWS (01)","AW0-012 ","AW0",252.19999694824199]
[6001596052,"HILLSIDE-ROBERTS (02)","AW0-007 ","AW0",252.19999694824199]
[6001619034,"HEATHER-DINAH (01)","AW0-006 ","AW0",252.19999694824199]
[6001003406,"INTERNATIONAL-T'PARK (00)","AW0-004 ","AW0",252.19000244140599]
[6001190551,"HORNSBY-BAMFORD (02)","AW0-014 ","AW0",252.19000244140599]
[6001196879,"KITTYHAWK-MOORNA (02)","AW0-008 ","AW0",252.19000244140599]
[6001197350,"THE CROSSWAY-VISTA (02)","AW0-008 ","AW0",252.19000244140599]
[6001320576,"HAWKER-MCNAMARA (02)","AW0-001 ","AW0",252.19000244140599]
[6001346745,"OAK-CONISTON (03)","AW0-007 ","AW0",252.19000244140599]
[6001147460,"HILLSIDE-ROBERTS (02)","AW0-007 ","AW0",252.17999267578099]
[6001148898,"MOORE 9-MATTHEWS (01)","AW0-012 ","AW0",252.17999267578099]
[6001157778,"WYONG-CENTREWAY (02)","AW0-007 ","AW0",252.17999267578099]
[6001211880,"CORTINA-MONTE CARLO (02)","AW0-008 ","AW0",252.17999267578099]
[6001219657,"HASSETT-BORDER (02)","AW0-008 ","AW0",252.17999267578099]
[6001227206,"BEVERAGE-TULLA PARK (03)","AW0-003 ","AW0",252.17999267578099]
[6001321562,"PETERBOROUGH-TRINITY (03)","AW0-009 ","AW0",252.17999267578099]
[6001330185,"HILLCREST-ARJAY (01)","AW0-014 ","AW0",252.17999267578099]
[6001412998,"MCNAMARA-PETERS (03)","AW0-007 ","AW0",252.17999267578099]
[6001467983,"SHELLEY-NOGA (02)","AW0-007 ","AW0",252.17999267578099]
[6001040387,"NEWMAN-HOTHAM (03)","AW0-007 ","AW0",252.169998168945]
[6001146870,"FULLARTON-WALTERS (02)","AW0-006 ","AW0",252.169998168945]
[6001193066,"FINNINGLEY-MARHAM (02)","AW0-014 ","AW0",252.169998168945]
[6001196572,"PAYNE-RYLANDES (01)","AW0-009 ","AW0",252.169998168945]
[6001213854,"MCPHERSON-QUINN (03)","AW0-008 ","AW0",252.169998168945]
[6001217611,"ASSEMBLY 45-OVATA (01)","AW0-011 ","AW0",252.169998168945]
[6001222257,"EASTLEIGH-NORWOOD (01)","AW0-008 ","AW0",252.169998168945]
[6001410492,"CENTREWAY-WINGARA (04)","AW0-007 ","AW0",252.169998168945]
[6001462052,"MCPHERSON-QUINN (03)","AW0-008 ","AW0",252.169998168945]
[6001493703,"CRESSWELL-CAMERON (01)","AW0-006 ","AW0",252.169998168945]
[6001154156,"FOKKER-VICKERS (02)","AW0-012 ","AW0",252.16000366210901]
[6001154204,"CLAYTON-MASCOMA (01)","AW0-012 ","AW0",252.16000366210901]
[6001198317,"ASSEMBLY-OVATA (01)","AW0-011 ","AW0",252.16000366210901]
[6001338962,"TRUMPINGTON-TRINITY (03)","AW0-009 ","AW0",252.16000366210901]
[6001343043,"DALKEITH-GORDON (02)","AW0-009 ","AW0",252.16000366210901]
[6001149966,"THERESA-CHRISTOPHER (02)","AW0-009 ","AW0",252.14999389648401]
[6001157869,"CENTREWAY-WINGARA (03)","AW0-007 ","AW0",252.14999389648401]
[6001158760,"ELLEN-RACHELLE (03)","AW0-008 ","AW0",252.14999389648401]
[6001159079,"FAWKNER-ROBERTS (02)","AW0-008 ","AW0",252.14999389648401]
[6001163558,"NEWMAN-HOTHAM (01)","AW0-007 ","AW0",252.14999389648401]
[6001199698,"ASSEMBLY-OVATA (01)","AW0-011 ","AW0",252.14999389648401]
[6001333572,"FULLARTON-WALTERS (01)","AW0-006 ","AW0",252.14999389648401]
[6001338505,"ETZEL-CLYDESDALE (03)","AW0-006 ","AW0",252.14999389648401]
[6001468203,"KEILOR-NYAH (01)","AW0-007 ","AW0",252.14999389648401]
[6001154146,"FOKKER-VICKERS (02)","AW0-012 ","AW0",252.13999938964801]
[6001154184,"LOCKHEED-BOEING (01)","AW0-012 ","AW0",252.13999938964801]
[6001157096,"WUNNAMURRA-WONGANELA (01)","AW0-008 ","AW0",252.13999938964801]
[6001157791,"WYONG-CENTREWAY (02)","AW0-007 ","AW0",252.13999938964801]
[6001199451,"MOORE 9-MATTHEWS (01)","AW0-012 ","AW0",252.13999938964801]
[6001207335,"INTERNATIONAL-T'PARK (00)","AW0-004 ","AW0",252.13999938964801]
[6001276247,"ROSEHILL-ROSE (02)","AW0-006 ","AW0",252.13999938964801]
[6001319966,"PETERBOROUGH-TRINITY (03)","AW0-009 ","AW0",252.13999938964801]
[6001350577,"HENDERSON-MELROSE (01)","AW0-004 ","AW0",252.13999938964801]
[6001465877,"MOLYNEUX-HAWKER (02)","AW0-005 ","AW0",252.13999938964801]
[6001149955,"THERESA-CHRISTOPHER (02)","AW0-009 ","AW0",252.13000488281301]
[6001157761,"WYONG-CENTREWAY (02)","AW0-007 ","AW0",252.13000488281301]
[6001158766,"HEATHER-DINAH (01)","AW0-006 ","AW0",252.13000488281301]
[6001159661,"EASTLEIGH-NORWOOD (03)","AW0-008 ","AW0",252.13000488281301]
[6001190980,"FAWKNER-BENT (03)","AW0-009 ","AW0",252.13000488281301]
[6001196885,"KITTYHAWK-MOORNA (02)","AW0-008 ","AW0",252.13000488281301]
[6001292051,"TRUMPINGTON-TRINITY (03)","AW0-009 ","AW0",252.13000488281301]
[6001403087,"DALKEITH-GORDON (02)","AW0-009 ","AW0",252.13000488281301]
[6001003940,"LINDAWAY-MELROSE 2 (01)","AW0-002 ","AW0",252.11999511718801]
[6001010152,"ELATA-BEVERAGE (01)","AW0-003 ","AW0",252.11999511718801]
[6001148281,"HILBERT-HARRINGTON (01)","AW0-008 ","AW0",252.11999511718801]
[6001149205,"TULLAMARINA-SHARPS (02)","AW0-009 ","AW0",252.11999511718801]
[6001282140,"HADDON HALL-BATEMAN (01)","AW0-009 ","AW0",252.11999511718801]
[6001296640,"HEATHER-DINAH (01)","AW0-006 ","AW0",252.11999511718801]
[6001396043,"DALKEITH-GORDON (02)","AW0-009 ","AW0",252.11999511718801]
[6001159097,"FAWKNER-ROBERTS (02)","AW0-008 ","AW0",252.11000061035199]
[6001195662,"SOUTH CIRCULAR-CARRICK (01)","AW0-002 ","AW0",252.11000061035199]
[6001197166,"PAMELA-HERBERT (02)","AW0-006 ","AW0",252.11000061035199]
[6001271842,"INTERNATIONAL-T'PARK (00)","AW0-004 ","AW0",252.11000061035199]
[6001288370,"WARATAH-CAROL (02)","AW0-009 ","AW0",252.11000061035199]
[6001340642,"GREENACRE-AYLESBURY (02)","AW0-002 ","AW0",252.11000061035199]
[6001465884,"MOLYNEUX-HAWKER (02)","AW0-005 ","AW0",252.11000061035199]
[6001019610,"AMIS-VISTA (02)","AW0-008 ","AW0",252.10000610351599]
[6001026756,"MILLAR-DERBY (01)","AW0-004 ","AW0",252.10000610351599]
[6001197230,"ROSEHILL-TALBOT (01)","AW0-006 ","AW0",252.10000610351599]
[6001231389,"ALANBRAE-STONEBRIDGE (04)","AW0-009 ","AW0",252.10000610351599]
[6001280106,"FULLARTON-WALTERS (01)","AW0-006 ","AW0",252.10000610351599]
[6001291902,"ELATA-BEVERAGE (02)","AW0-003 ","AW0",252.10000610351599]
[6001524928,"LOCK-LAURENCE (01)","AW0-007 ","AW0",252.10000610351599]
[6001533278,"THERESA-CHRISTOPHER (02)","AW0-009 ","AW0",252.10000610351599]
[6001550265,"FAWKNER-ROBERTS (02)","AW0-008 ","AW0",252.10000610351599]
[6001563349,"PAMELA-HERBERT (02)","AW0-006 ","AW0",252.10000610351599]
[6001566996,"ELLEN-RACHELLE (02)","AW0-008 ","AW0",252.10000610351599]
[6001572802,"SEXTON-HALSEY (02)","AW0-006 ","AW0",252.10000610351599]
[6001035896,"INTERNATIONAL-T'PARK (00)","AW0-004 ","AW0",252.08999633789099]
[6001147894,"MCINTOSH 42-MATTHEWS (01)","AW0-005 ","AW0",252.08999633789099]
[6001148416,"KINGSLEY-AJ DAVIS RESERVE (01)","AW0-007 ","AW0",252.08999633789099]
[6001149356,"BIRCH-BROADMEADOWS (02)","AW0-012 ","AW0",252.08999633789099]
[6001194847,"HILLCREST-MICKLEHAM (01)","AW0-009 ","AW0",252.08999633789099]
[6001277595,"DROMANA-MATTHEWS (03)","AW0-012 ","AW0",252.08999633789099]
[6001465881,"MOLYNEUX-HAWKER (02)","AW0-005 ","AW0",252.08999633789099]
[6001465883,"MOLYNEUX-HAWKER (02)","AW0-005 ","AW0",252.08999633789099]
[6001150033,"BURVALE-CATHERINE (02)","AW0-004 ","AW0",252.080001831055]
[6001157931,"DINAH-MILLEARA (02)","AW0-008 ","AW0",252.080001831055]
[6001192727,"SMOLIC-SPRINGBANK (02)","AW0-004 ","AW0",252.080001831055]
[6001197866,"NORWOOD-PROSPECT (02)","AW0-008 ","AW0",252.080001831055]
[6001286096,"ELLEN-RACHELLE (02)","AW0-008 ","AW0",252.080001831055]
[6001327714,"ETZEL-CLYDESDALE (03)","AW0-006 ","AW0",252.080001831055]
[6001147458,"HILLSIDE-ROBERTS (02)","AW0-007 ","AW0",252.07000732421901]
[6001149550,"CHURCHILL-COONAMAR (01)","AW0-004 ","AW0",252.07000732421901]
[6001159074,"FAWKNER-ROBERTS (02)","AW0-008 ","AW0",252.07000732421901]
[6001190785,"KOALA-PELICAN (01)","AW0-014 ","AW0",252.07000732421901]
[6001302331,"QUINN-NOGA (01)","AW0-007 ","AW0",252.07000732421901]
[6001344908,"WARATAH-CAROL (02)","AW0-009 ","AW0",252.07000732421901]
[6001350132,"MOORE 9-MATTHEWS (01)","AW0-012 ","AW0",252.07000732421901]
[6001126311,"CRESSWELL-CAMERON (02)","AW0-006 ","AW0",252.05999755859401]
[6001146956,"HOOD-MATTHEWS (01)","AW0-001 ","AW0",252.05999755859401]
[6001154355,"CLAYTON-MASCOMA (01)","AW0-012 ","AW0",252.05999755859401]
[6001158989,"ELLEN-RACHELLE (02)","AW0-008 ","AW0",252.05999755859401]
[6001158989,"ELLEN-RACHELLE (02)","AW0-008 ","AW0",252.05999755859401]
[6001392123,"HEATHER-DINAH (01)","AW0-006 ","AW0",252.05999755859401]
[6001147885,"MCINTOSH 42-MATTHEWS (01)","AW0-005 ","AW0",252.05000305175801]
[6001154154,"FOKKER-VICKERS (02)","AW0-012 ","AW0",252.05000305175801]
[6001158974,"MCPHERSON-QUINN (03)","AW0-008 ","AW0",252.05000305175801]
[6001208040,"LANARK-GOWANBRAE (03)","AW0-012 ","AW0",252.05000305175801]
[6001193730,"PAYNE-RYLANDES (02)","AW0-009 ","AW0",252.03999328613301]
[6001195151,"ELMHURST-CARRICK (01)","AW0-002 ","AW0",252.03999328613301]
[6001197911,"THE CROSSWAY-PARK (01)","AW0-008 ","AW0",252.03999328613301]
[6001229605,"WILLOWTREE-PERSICA (01)","AW0-006 ","AW0",252.03999328613301]
[6001367524,"QUINN-NOGA (02)","AW0-007 ","AW0",252.03999328613301]
[6001459017,"MCPHERSON-QUINN (03)","AW0-008 ","AW0",252.03999328613301]
[6001149357,"BIRCH-BROADMEADOWS (02)","AW0-012 ","AW0",252.02999877929699]
[6001212333,"MURDOCH-HASSETT (01)","AW0-008 ","AW0",252.02999877929699]
[6001230472,"SYCAMORE-BROADMEADOWS (01)","AW0-009 ","AW0",252.02999877929699]
[6001350576,"HENDERSON-MELROSE (01)","AW0-004 ","AW0",252.02999877929699]
[6001148891,"MOORE 9-MATTHEWS (01)","AW0-012 ","AW0",252.02000427246099]
[6001163715,"GROSVENOR-FLORENCE (02)","AW0-007 ","AW0",252.02000427246099]
[6001228973,"NOMAD-VAUGHAN (01)","AW0-001 ","AW0",252.02000427246099]
[6001235859,"KEILOR-NYAH (01)","AW0-007 ","AW0",252.02000427246099]
[6001301774,"FULLARTON-WALTERS (02)","AW0-006 ","AW0",252.02000427246099]
[6001348598,"GRANITE-VALLEY LAKE (03)","AW0-007 ","AW0",252.02000427246099]
[6001465170,"HAWKER-MCNAMARA (01)","AW0-001 ","AW0",252.02000427246099]
[6001010331,"ALANBRAE-STONEBRIDGE (04)","AW0-009 ","AW0",252.00999450683599]
[6001029689,"NORWOOD-PROSPECT (02)","AW0-008 ","AW0",252.00999450683599]
[6001157457,"MOYANGUL-GUNGARLAN (03)","AW0-008 ","AW0",252.00999450683599]
[6001159174,"MCPHERSON-QUINN (03)","AW0-008 ","AW0",252.00999450683599]
[6001159797,"REGENT-JEFFREY (02)","AW0-008 ","AW0",252.00999450683599]
[6001238592,"ALANBRAE-STONEBRIDGE (04)","AW0-009 ","AW0",252.00999450683599]
[6001290058,"HADDON HALL-BATEMAN (01)","AW0-009 ","AW0",252.00999450683599]
[6001325851,"MCNAMARA-PETERS (02)","AW0-007 ","AW0",252.00999450683599]
[6001335530,"QUINN-NOGA (01)","AW0-007 ","AW0",252.00999450683599]
[6001465880,"MOLYNEUX-HAWKER (02)","AW0-005 ","AW0",252.00999450683599]
[6001147096,"OAK-CONISTON (02)","AW0-007 ","AW0",252]
[6001148772,"COPE-MOORE (02)","AW0-001 ","AW0",252]
[6001158645,"ROSEHILL-TALBOT (01)","AW0-006 ","AW0",252]
[6001158795,"HEATHER-DINAH (01)","AW0-006 ","AW0",252]
[6001159155,"FAWKNER-ROBERTS (01)","AW0-008 ","AW0",252]
[6001194527,"PRIOR-TAYLOR (02)","AW0-002 ","AW0",252]
[6001196600,"HARDY-SNAEFELL (01)","AW0-009 ","AW0",252]
[6001196855,"KITTYHAWK-MOORNA (02)","AW0-008 ","AW0",252]
[6001216529,"CORTINA-MONTE CARLO (02)","AW0-008 ","AW0",252]
[6001445709,"QUINN-NOGA (01)","AW0-007 ","AW0",252]
[6001509104,"NEWMAN-HOTHAM (03)","AW0-007 ","AW0",252]
[6001535279,"PAMELA-HERBERT (02)","AW0-006 ","AW0",252]
[6001549084,"ETZEL-CLYDESDALE (02)","AW0-006 ","AW0",252]
[6001591828,"MOORE 9-MATTHEWS (01)","AW0-012 ","AW0",252]
[6001606114,"BIRCH-BROADMEADOWS (02)","AW0-012 ","AW0",252]
[6001612013,"BIRCH-BROADMEADOWS (02)","AW0-012 ","AW0",252]
[6001622052,"HEATHER-DINAH (01)","AW0-006 ","AW0",252]
[6001637401,"HENDERSON-MELROSE (01)","AW0-004 ","AW0",252]
[6001159098,"FAWKNER-ROBERTS (02)","AW0-008 ","AW0",251.99000549316401]
[6001190698,"HORNSBY-BAMFORD (01)","AW0-014 ","AW0",251.99000549316401]
[6001192670,"HENDERSON-MELROSE (01)","AW0-004 ","AW0",251.99000549316401]
[6001311131,"OAK-CONISTON (03)","AW0-007 ","AW0",251.99000549316401]
[6001341327,"OAK-CONISTON (03)","AW0-007 ","AW0",251.99000549316401]
[6001430088,"PAMELA-HERBERT (02)","AW0-006 ","AW0",251.99000549316401]
[6001148887,"LOUIS-WEBB (01)","AW0-005 ","AW0",251.97999572753901]
[6001149315,"WARATAH-CAROL (02)","AW0-009 ","AW0",251.97999572753901]
[6001157469,"MOYANGUL-GUNGARLAN (03)","AW0-008 ","AW0",251.97999572753901]
[6001159172,"MCPHERSON-QUINN (03)","AW0-008 ","AW0",251.97999572753901]
[6001163558,"NEWMAN-HOTHAM (01)","AW0-007 ","AW0",251.97999572753901]
[6001196889,"KITTYHAWK-MOORNA (02)","AW0-008 ","AW0",251.97999572753901]
[6001447702,"HART-BOWES (02)","AW0-006 ","AW0",251.97999572753901]
[6001465876,"MOLYNEUX-HAWKER (02)","AW0-005 ","AW0",251.97999572753901]
[6001465882,"MOLYNEUX-HAWKER (02)","AW0-005 ","AW0",251.97999572753901]
[6001159233,"COHEN-GROVES (02)","AW0-008 ","AW0",251.97000122070301]
[6001194884,"WESTERN-GLOBAL (02)","AW0-014 ","AW0",251.97000122070301]
[6001237848,"SOUTH CIRCULAR-CARRICK (01)","AW0-002 ","AW0",251.97000122070301]
[6001298426,"CENTREWAY-WINGARA (04)","AW0-007 ","AW0",251.97000122070301]
[6001328799,"GROSVENOR-FLORENCE (02)","AW0-007 ","AW0",251.97000122070301]
[6001347527,"MCNAMARA-PETERS (03)","AW0-007 ","AW0",251.97000122070301]
[6001399982,"MCINTOSH 42-MATTHEWS (01)","AW0-005 ","AW0",251.97000122070301]
[6001241609,"HEATHER-DINAH (02)","AW0-006 ","AW0",251.96000671386699]
[6001439950,"HEATHER-DINAH (01)","AW0-006 ","AW0",251.96000671386699]
[6001465027,"HAWKER-MCNAMARA (01)","AW0-001 ","AW0",251.96000671386699]
[6001013975,"COACH HOUSE-ALANBRAE (01)","AW0-009 ","AW0",251.94999694824199]
[6001020987,"CENTREWAY-WINGARA (02)","AW0-007 ","AW0",251.94999694824199]
[6001158989,"ELLEN-RACHELLE (02)","AW0-008 ","AW0",251.94999694824199]
[6001194983,"SOUTH CIRCULAR-CARRICK (01)","AW0-002 ","AW0",251.94999694824199]
[6001259185,"AMIS-VISTA (02)","AW0-008 ","AW0",251.94999694824199]
[6001329705,"FULLARTON-WALTERS (02)","AW0-006 ","AW0",251.94999694824199]
[6001416352,"DAVID-RACHELLE (03)","AW0-007 ","AW0",251.94999694824199]
[6001021133,"ELATA-BEVERAGE (02)","AW0-003 ","AW0",251.94000244140599]
[6001127381,"AMIS-VISTA (02)","AW0-008 ","AW0",251.94000244140599]
[6001146861,"FULLARTON-WALTERS (02)","AW0-006 ","AW0",251.94000244140599]
[6001214286,"HASSETT-BORDER (03)","AW0-008 ","AW0",251.94000244140599]
[6001261329,"INTERNATIONAL-T'PARK (00)","AW0-004 ","AW0",251.94000244140599]
[6001347324,"ELLEN-RACHELLE (02)","AW0-008 ","AW0",251.94000244140599]
[6001021184,"KENT-TADSTAN (02)","AW0-004 ","AW0",251.92999267578099]
[6001195681,"CARRICK-PYKE (01)","AW0-002 ","AW0",251.92999267578099]
[6001209282,"ASSEMBLY-OVATA (03)","AW0-011 ","AW0",251.92999267578099]
[6001280556,"BEVERAGE-TULLA PARK (01)","AW0-003 ","AW0",251.92999267578099]
[6001333329,"QUINN-NOGA (01)","AW0-007 ","AW0",251.92999267578099]
[6001338933,"GRANITE-VALLEY LAKE (02)","AW0-007 ","AW0",251.92999267578099]
[6001343803,"COPE-MOORE (02)","AW0-001 ","AW0",251.92999267578099]
[6001148766,"COPE-MOORE (02)","AW0-001 ","AW0",251.919998168945]
[6001148895,"MOORE 9-MATTHEWS (01)","AW0-012 ","AW0",251.919998168945]
[6001149498,"CHURCHILL-COONAMAR (01)","AW0-004 ","AW0",251.919998168945]
[6001157649,"MOYANGUL-GUNGARLAN (02)","AW0-008 ","AW0",251.919998168945]
[6001195180,"ELMHURST-CARRICK (02)","AW0-002 ","AW0",251.919998168945]
[6001195332,"HARCOURT-SHERBOURNE (02)","AW0-002 ","AW0",251.919998168945]
[6001226958,"HAWKER-MCNAMARA (01)","AW0-001 ","AW0",251.919998168945]
[6001556050,"RYDER-NOLAN (02)","AW0-006 ","AW0",251.919998168945]
[6001146678,"HART-BOWES (02)","AW0-006 ","AW0",251.91000366210901]
[6001157285,"RACHELLE-NICOLA (01)","AW0-007 ","AW0",251.91000366210901]
[6001157816,"CENTREWAY-WINGARA (01)","AW0-007 ","AW0",251.91000366210901]
[6001208946,"AMIS-VISTA (02)","AW0-008 ","AW0",251.91000366210901]
[6001217733,"THE CROSSWAY-VISTA (03)","AW0-008 ","AW0",251.91000366210901]
[6001232992,"FAWKNER-ROBERTS (02)","AW0-008 ","AW0",251.91000366210901]
[6001260479,"INTERNATIONAL-T'PARK (00)","AW0-004 ","AW0",251.91000366210901]
[6001274686,"ALANBRAE-STONEBRIDGE (03)","AW0-009 ","AW0",251.91000366210901]
[6001304631,"QUINN-NOGA (01)","AW0-007 ","AW0",251.91000366210901]
[6001035896,"INTERNATIONAL-T'PARK (00)","AW0-004 ","AW0",251.89999389648401]
[6001159072,"FAWKNER-ROBERTS (02)","AW0-008 ","AW0",251.89999389648401]
[6001390943,"HEATHERLEA-STERLING (03)","AW0-008 ","AW0",251.89999389648401]
[6001399068,"DINAH-MILLEARA (02)","AW0-008 ","AW0",251.89999389648401]
[6001430037,"AMIS-VISTA (02)","AW0-008 ","AW0",251.89999389648401]
[6001465878,"MOLYNEUX-HAWKER (02)","AW0-005 ","AW0",251.89999389648401]
[6001478924,"SEXTON-HALSEY (03)","AW0-006 ","AW0",251.89999389648401]
[6001480005,"FAWKNER-ROBERTS (02)","AW0-008 ","AW0",251.89999389648401]
[6001485394,"DALKEITH-GORDON (02)","AW0-009 ","AW0",251.89999389648401]
[6001510261,"PAMELA-HERBERT (02)","AW0-006 ","AW0",251.89999389648401]
[6001532245,"LANARK-GOWANBRAE (01)","AW0-012 ","AW0",251.89999389648401]
[6001532406,"ELLEN-RACHELLE (01)","AW0-008 ","AW0",251.89999389648401]
[6001537138,"PAMELA-HERBERT (02)","AW0-006 ","AW0",251.89999389648401]
[6001538097,"RACHELLE-DINAH (01)","AW0-006 ","AW0",251.89999389648401]
[6001545553,"KENT-TADSTAN (02)","AW0-004 ","AW0",251.89999389648401]
[6001552411,"McINTOSH 16-MATTHEWS (02)","AW0-005 ","AW0",251.89999389648401]
[6001560850,"RACHELLE-DINAH (01)","AW0-006 ","AW0",251.89999389648401]
[6001578024,"WUNNAMURRA-WONGANELA (01)","AW0-008 ","AW0",251.89999389648401]
[6001579027,"ETZEL-CLYDESDALE (03)","AW0-006 ","AW0",251.89999389648401]
[6001591782,"KEILOR-NYAH (01)","AW0-007 ","AW0",251.89999389648401]
[6001158289,"PAMELA-HERBERT (02)","AW0-006 ","AW0",251.88999938964801]
[6001320164,"MCPHERSON-QUINN (03)","AW0-008 ","AW0",251.88999938964801]
[6001347334,"WARATAH-CAROL (02)","AW0-009 ","AW0",251.88999938964801]
[6001158763,"HEATHER-DINAH (01)","AW0-006 ","AW0",251.88000488281301]
[6001193109,"HANDSWORTH-LACKENHTH (02)","AW0-014 ","AW0",251.88000488281301]
[6001233529,"AMIS-VISTA (02)","AW0-008 ","AW0",251.88000488281301]
[6001237503,"ALANBRAE-STONEBRIDGE (04)","AW0-009 ","AW0",251.88000488281301]
[6001327910,"ELATA-BEVERAGE (02)","AW0-003 ","AW0",251.88000488281301]
[6001412469,"FOKKER-VICKERS (01)","AW0-012 ","AW0",251.88000488281301]
[6001471192,"HILLCREST-ARJAY (02)","AW0-014 ","AW0",251.88000488281301]
[6001007958,"THE CROSSWAY-VISTA (03)","AW0-008 ","AW0",251.86999511718801]
[6001158638,"ROSEHILL-TALBOT (01)","AW0-006 ","AW0",251.86999511718801]
[6001221393,"GABRIELLE-SHANE (02)","AW0-002 ","AW0",251.86999511718801]
[6001271842,"INTERNATIONAL-T'PARK (00)","AW0-004 ","AW0",251.86999511718801]
[6001297656,"COPE-MOORE (02)","AW0-001 ","AW0",251.86999511718801]
[6001402080,"WYONG-CENTREWAY (02)","AW0-007 ","AW0",251.86999511718801]
[6001021661,"AMIS-VISTA (02)","AW0-008 ","AW0",251.86000061035199]
[6001146871,"FULLARTON-WALTERS (02)","AW0-006 ","AW0",251.86000061035199]
[6001158759,"HEATHER-DINAH (01)","AW0-006 ","AW0",251.86000061035199]
[6001190611,"HORNSBY-BAMFORD (01)","AW0-014 ","AW0",251.86000061035199]
[6001195326,"HARCOURT-SHERBOURNE (02)","AW0-002 ","AW0",251.86000061035199]
[6001232055,"HORNSBY-BAMFORD (01)","AW0-014 ","AW0",251.86000061035199]
[6001234199,"HASSETT-BORDER (02)","AW0-008 ","AW0",251.86000061035199]
[6001273247,"MARIGOLD-ALDER (03)","AW0-012 ","AW0",251.86000061035199]
[6001274585,"OAK-CONISTON (02)","AW0-007 ","AW0",251.86000061035199]
[6001430046,"HILLCREST-MICKLEHAM (01)","AW0-009 ","AW0",251.86000061035199]
[6001471452,"CENTREWAY-WINGARA (02)","AW0-007 ","AW0",251.86000061035199]
[6001146846,"FULLARTON-WALTERS (01)","AW0-006 ","AW0",251.85000610351599]
[6001148890,"MOORE 9-MATTHEWS (01)","AW0-012 ","AW0",251.85000610351599]
[6001148897,"MOORE 9-MATTHEWS (01)","AW0-012 ","AW0",251.85000610351599]
[6001192682,"HENDERSON-MELROSE (01)","AW0-004 ","AW0",251.85000610351599]
[6001196613,"HARDY-SNAEFELL (01)","AW0-009 ","AW0",251.85000610351599]
[6001265050,"INTERNATIONAL-T'PARK (00)","AW0-004 ","AW0",251.85000610351599]
[6001343641,"BEDFORD-PARER (02)","AW0-007 ","AW0",251.85000610351599]
[6001401912,"HART-BOWES (02)","AW0-006 ","AW0",251.85000610351599]
[6001432554,"HAWKER-MCNAMARA (02)","AW0-001 ","AW0",251.85000610351599]
[6001003439,"ASSEMBLY-OVATA (01)","AW0-011 ","AW0",251.83999633789099]
[6001149169,"LINDAWAY-MELROSE 2 (01)","AW0-002 ","AW0",251.83999633789099]
[6001157387,"KEILOR-NYAH (01)","AW0-007 ","AW0",251.83999633789099]
[6001195275,"HARCOURT-SHERBOURNE (02)","AW0-002 ","AW0",251.83999633789099]
[6001452268,"SEXTON-HALSEY (03)","AW0-006 ","AW0",251.83999633789099]
[6001478679,"HEATHER-DINAH (01)","AW0-006 ","AW0",251.83999633789099]
[6001495112,"FAWKNER-ROBERTS (02)","AW0-008 ","AW0",251.83999633789099]
[6001158570,"ROSEHILL-TALBOT (01)","AW0-006 ","AW0",251.830001831055]
[6001281009,"FULLARTON-WALTERS (01)","AW0-006 ","AW0",251.830001831055]
[6001452001,"THE CROSSWAY-VISTA (03)","AW0-008 ","AW0",251.830001831055]
[6001477510,"RYDER-NOLAN (02)","AW0-006 ","AW0",251.830001831055]
[6001147964,"KING-BOWES (01)","AW0-005 ","AW0",251.82000732421901]
[6001197813,"AMIS-VISTA (02)","AW0-008 ","AW0",251.82000732421901]
[6001221865,"HASSETT-BORDER (02)","AW0-008 ","AW0",251.82000732421901]
[6001256203,"LOCK-LAURENCE (01)","AW0-007 ","AW0",251.82000732421901]
[6001425822,"DALKEITH-GORDON (02)","AW0-009 ","AW0",251.82000732421901]
[6001484341,"FAWKNER-ROBERTS (02)","AW0-008 ","AW0",251.82000732421901]
[6001159083,"FAWKNER-ROBERTS (02)","AW0-008 ","AW0",251.80999755859401]
[6001159717,"EASTLEIGH-NORWOOD (01)","AW0-008 ","AW0",251.80999755859401]
[6001190467,"HILLCREST-MICKLEHAM (02)","AW0-009 ","AW0",251.80999755859401]
[6001196250,"TOWNSEND-HOCTOR (02)","AW0-002 ","AW0",251.80999755859401]
[6001208172,"SALTAU-MILLEARA (01)","AW0-008 ","AW0",251.80999755859401]
[6001231455,"AMIS-VISTA (01)","AW0-008 ","AW0",251.80999755859401]
[6001008129,"ETZEL-CLYDESDALE (02)","AW0-006 ","AW0",251.80000305175801]
[6001147260,"LOCK-LAURENCE (02)","AW0-007 ","AW0",251.80000305175801]
[6001196625,"HARDY-SNAEFELL (01)","AW0-009 ","AW0",251.80000305175801]
[6001197800,"AMIS-VISTA (02)","AW0-008 ","AW0",251.80000305175801]
[6001247089,"SOUTH CIRCULAR-CARRICK (01)","AW0-002 ","AW0",251.80000305175801]
[6001336555,"FULLARTON-WALTERS (02)","AW0-006 ","AW0",251.80000305175801]
[6001337512,"COPE-MOORE (02)","AW0-001 ","AW0",251.80000305175801]
[6001430996,"HENDERSON-MELROSE (01)","AW0-004 ","AW0",251.80000305175801]
[6001486524,"CENTREWAY-WINGARA (04)","AW0-007 ","AW0",251.80000305175801]
[6001487430,"OAK-CONISTON (02)","AW0-007 ","AW0",251.80000305175801]
[6001506046,"THE CROSSWAY-PARK (02)","AW0-008 ","AW0",251.80000305175801]
[6001526153,"ELLEN-RACHELLE (02)","AW0-008 ","AW0",251.80000305175801]
[6001545651,"SHELLEY-NOGA (02)","AW0-007 ","AW0",251.80000305175801]
[6001556035,"SHELLEY-NOGA (02)","AW0-007 ","AW0",251.80000305175801]
[6001557078,"GROSVENOR-FLORENCE (02)","AW0-007 ","AW0",251.80000305175801]
[6001564160,"KING-BOWES (04)","AW0-005 ","AW0",251.80000305175801]
[6001598325,"AMIS-VISTA (02)","AW0-008 ","AW0",251.80000305175801]
[6001625002,"HEATHER-DINAH (02)","AW0-006 ","AW0",251.80000305175801]
[6001147274,"LOCK-LAURENCE (02)","AW0-007 ","AW0",251.78999328613301]
[6001157768,"WYONG-CENTREWAY (02)","AW0-007 ","AW0",251.78999328613301]
[6001190941,"BRAMCOTE-FORMAN (03)","AW0-009 ","AW0",251.78999328613301]
[6001300608,"ELSTONE-KEILOR (03)","AW0-006 ","AW0",251.78999328613301]
[6001350744,"SHELLEY-NOGA (02)","AW0-007 ","AW0",251.78999328613301]
[6001388437,"GRANITE-VALLEY LAKE (02)","AW0-007 ","AW0",251.78999328613301]
[6001399374,"CENTREWAY-WINGARA (04)","AW0-007 ","AW0",251.78999328613301]
[6001127327,"AMIS-VISTA (02)","AW0-008 ","AW0",251.77999877929699]
[6001158783,"HEATHER-DINAH (01)","AW0-006 ","AW0",251.77999877929699]
[6001159158,"FAWKNER-ROBERTS (01)","AW0-008 ","AW0",251.77999877929699]
[6001217783,"CENTREWAY-WINGARA (03)","AW0-007 ","AW0",251.77999877929699]
[6001376233,"FRASER-BOWES (01)","AW0-001 ","AW0",251.77999877929699]
[6001441957,"COPE-MOORE (02)","AW0-001 ","AW0",251.77999877929699]
[6001163760,"GROSVENOR-FLORENCE (02)","AW0-007 ","AW0",251.77000427246099]
[6001190979,"FAWKNER-BENT (03)","AW0-009 ","AW0",251.77000427246099]
[6001248791,"HILBERT-HARRINGTON (01)","AW0-008 ","AW0",251.77000427246099]
[6001275886,"FRASER-BOWES (01)","AW0-001 ","AW0",251.77000427246099]
[6001336686,"ETZEL-CLYDESDALE (01)","AW0-006 ","AW0",251.77000427246099]
[6001391620,"ELLEN-RACHELLE (02)","AW0-008 ","AW0",251.77000427246099]
[6001149206,"TULLAMARINA-SHARPS (02)","AW0-009 ","AW0",251.75999450683599]
[6001159367,"REGENT-JEFFREY (02)","AW0-008 ","AW0",251.75999450683599]
[6001190876,"BRAMCOTE-FORMAN (01)","AW0-009 ","AW0",251.75999450683599]
[6001272354,"MCNAMARA-PETERS (03)","AW0-007 ","AW0",251.75999450683599]
[6001282651,"LANARK-GOWANBRAE (03)","AW0-012 ","AW0",251.75999450683599]
[6001329756,"NORWOOD-PROSPECT (02)","AW0-008 ","AW0",251.75999450683599]
[6001452165,"PAMELA-HERBERT (02)","AW0-006 ","AW0",251.75999450683599]
[6001149954,"THERESA-CHRISTOPHER (02)","AW0-009 ","AW0",251.75]
[6001157277,"RACHELLE-NICOLA (01)","AW0-007 ","AW0",251.75]
[6001159715,"EASTLEIGH-NORWOOD (01)","AW0-008 ","AW0",251.75]
[6001190879,"BRAMCOTE-FORMAN (01)","AW0-009 ","AW0",251.75]
[6001231819,"LINDAWAY-MELROSE 2 (01)","AW0-002 ","AW0",251.75]
[6001232463,"COACH HOUSE-ALANBRAE (01)","AW0-009 ","AW0",251.75]
[6001148039,"ETZEL-CLYDESDALE (03)","AW0-006 ","AW0",251.74000549316401]
[6001149307,"WARATAH-CAROL (02)","AW0-009 ","AW0",251.74000549316401]
[6001157894,"WUNNAMURRA-WONGANELA (01)","AW0-008 ","AW0",251.74000549316401]
[6001163770,"GROSVENOR-FLORENCE (02)","AW0-007 ","AW0",251.74000549316401]
[6001190499,"HORNSBY-BAMFORD (02)","AW0-014 ","AW0",251.74000549316401]
[6001196398,"GABRIELLE-SHANE (03)","AW0-002 ","AW0",251.74000549316401]
[6001196875,"KITTYHAWK-MOORNA (02)","AW0-008 ","AW0",251.74000549316401]
[6001230041,"VAUGHAN-HARGRAVE (02)","AW0-005 ","AW0",251.74000549316401]
[6001260479,"INTERNATIONAL-T'PARK (00)","AW0-004 ","AW0",251.74000549316401]
[6001281630,"OAK-CONISTON (03)","AW0-007 ","AW0",251.74000549316401]
[6001298555,"ETZEL-CLYDESDALE (02)","AW0-006 ","AW0",251.74000549316401]
[6001147824,"HAWKER-MCNAMARA (02)","AW0-001 ","AW0",251.72999572753901]
[6001157817,"CENTREWAY-WINGARA (01)","AW0-007 ","AW0",251.72999572753901]
[6001190904,"BRAMCOTE-FORMAN (02)","AW0-009 ","AW0",251.72999572753901]
[6001215149,"HASSETT-BORDER (03)","AW0-008 ","AW0",251.72999572753901]
[6001221673,"GROSVENOR-FLORENCE (02)","AW0-007 ","AW0",251.72999572753901]
[6001232248,"COHEN-GROVES (02)","AW0-008 ","AW0",251.72999572753901]
[6001284857,"WESTERN-GLOBAL (02)","AW0-014 ","AW0",251.72999572753901]
[6001154100,"LOCKHEED-BOEING (03)","AW0-012 ","AW0",251.72000122070301]
[6001164008,"FARRELL-RYDER (03)","AW0-006 ","AW0",251.72000122070301]
[6001193343,"TANGEMERE-MICKLEHAM (02)","AW0-009 ","AW0",251.72000122070301]
[6001251131,"CRESSWELL-CAMERON (02)","AW0-006 ","AW0",251.72000122070301]
[6001255315,"WESTERN-GLOBAL (02)","AW0-014 ","AW0",251.72000122070301]
[6001342163,"HILLCREST-MICKLEHAM (01)","AW0-009 ","AW0",251.72000122070301]
[6001347671,"GABRIELLE-SHANE (04)","AW0-002 ","AW0",251.72000122070301]
[6001391646,"BEECROFT-ASHFORD (01)","AW0-014 ","AW0",251.72000122070301]
[6001475695,"OAK-CONISTON (03)","AW0-007 ","AW0",251.72000122070301]
[6001493675,"HILLCREST-ARJAY (02)","AW0-014 ","AW0",251.72000122070301]
[6001157650,"MOYANGUL-GUNGARLAN (02)","AW0-008 ","AW0",251.71000671386699]
[6001183588,"HAWKER-MCNAMARA (01)","AW0-001 ","AW0",251.71000671386699]
[6001193417,"TANGEMERE-MICKLEHAM (01)","AW0-009 ","AW0",251.71000671386699]
[6001213070,"TROTT-HASSETT (03)","AW0-008 ","AW0",251.71000671386699]
[6001227547,"AMIS-VISTA (02)","AW0-008 ","AW0",251.71000671386699]
[6001259728,"AMIS-VISTA (02)","AW0-008 ","AW0",251.71000671386699]
[6001274529,"NEWMAN-HOTHAM (03)","AW0-007 ","AW0",251.71000671386699]
[6001305999,"CENTREWAY-WINGARA (01)","AW0-007 ","AW0",251.71000671386699]
[6001320582,"HAWKER-MCNAMARA (02)","AW0-001 ","AW0",251.71000671386699]
[6001421141,"HILLCREST-MICKLEHAM (01)","AW0-009 ","AW0",251.71000671386699]
[6001003785,"VAUGHAN-HARGRAVE (02)","AW0-005 ","AW0",251.69999694824199]
[6001157286,"RACHELLE-NICOLA (01)","AW0-007 ","AW0",251.69999694824199]
[6001157873,"CENTREWAY-WINGARA (03)","AW0-007 ","AW0",251.69999694824199]
[6001158676,"RACHELLE-DINAH (01)","AW0-006 ","AW0",251.69999694824199]
[6001190935,"BRAMCOTE-FORMAN (03)","AW0-009 ","AW0",251.69999694824199]
[6001196883,"KITTYHAWK-MOORNA (02)","AW0-008 ","AW0",251.69999694824199]
[6001197618,"CORTINA-MONTE CARLO (02)","AW0-008 ","AW0",251.69999694824199]
[6001210688,"LINDAWAY-MELROSE 2 (01)","AW0-002 ","AW0",251.69999694824199]
[6001220353,"HAWKER-MCNAMARA (01)","AW0-001 ","AW0",251.69999694824199]
[6001322763,"MOORE 9-MATTHEWS (01)","AW0-012 ","AW0",251.69999694824199]
[6001350578,"HENDERSON-MELROSE (01)","AW0-004 ","AW0",251.69999694824199]
[6001374299,"BEDFORD-PARER (02)","AW0-007 ","AW0",251.69999694824199]
[6001395127,"DINAH-MILLEARA (02)","AW0-008 ","AW0",251.69999694824199]
[6001487135,"MCINTOSH 42-MATTHEWS (01)","AW0-005 ","AW0",251.69999694824199]
[6001494414,"FARRELL-RYDER (03)","AW0-006 ","AW0",251.69999694824199]
[6001505414,"GRANITE-VALLEY LAKE (02)","AW0-007 ","AW0",251.69999694824199]
[6001517093,"GROSVENOR-FLORENCE (01)","AW0-007 ","AW0",251.69999694824199]
[6001526223,"ETZEL-CLYDESDALE (03)","AW0-006 ","AW0",251.69999694824199]
[6001527112,"FRASER-BOWES (01)","AW0-001 ","AW0",251.69999694824199]
[6001533835,"ELLEN-RACHELLE (01)","AW0-008 ","AW0",251.69999694824199]
[6001542309,"RACHELLE-DINAH (01)","AW0-006 ","AW0",251.69999694824199]
[6001564158,"KING-BOWES (04)","AW0-005 ","AW0",251.69999694824199]
[6001564161,"KING-BOWES (04)","AW0-005 ","AW0",251.69999694824199]
[6001564162,"KING-BOWES (04)","AW0-005 ","AW0",251.69999694824199]
[6001564163,"KING-BOWES (04)","AW0-005 ","AW0",251.69999694824199]
[6001564164,"KING-BOWES (04)","AW0-005 ","AW0",251.69999694824199]
[6001564165,"KING-BOWES (04)","AW0-005 ","AW0",251.69999694824199]
[6001564168,"KING-BOWES (04)","AW0-005 ","AW0",251.69999694824199]
[6001565003,"ROBERTS-MCNAMARA (01)","AW0-006 ","AW0",251.69999694824199]
[6001595211,"HILBERT-HARRINGTON (01)","AW0-008 ","AW0",251.69999694824199]
[6001599499,"MCNAMARA-PETERS (03)","AW0-007 ","AW0",251.69999694824199]
[6001148762,"COPE-MOORE (02)","AW0-001 ","AW0",251.69000244140599]
[6001240385,"THERESA-CHRISTOPHER (02)","AW0-009 ","AW0",251.69000244140599]
[6001276009,"FULLARTON-WALTERS (02)","AW0-006 ","AW0",251.69000244140599]
[6001126029,"ALANBRAE-STONEBRIDGE (04)","AW0-009 ","AW0",251.67999267578099]
[6001147104,"OAK-CONISTON (02)","AW0-007 ","AW0",251.67999267578099]
[6001149635,"DALKEITH-GORDON (02)","AW0-009 ","AW0",251.67999267578099]
[6001207293,"PAMELA-HERBERT (02)","AW0-006 ","AW0",251.67999267578099]
[6001233778,"CLAYTON-MASCOMA (02)","AW0-012 ","AW0",251.67999267578099]
[6001265353,"MARIGOLD-ALDER (03)","AW0-012 ","AW0",251.67999267578099]
[6001273836,"WARATAH-CAROL (02)","AW0-009 ","AW0",251.67999267578099]
[6001438701,"FRASER-BOWES (01)","AW0-001 ","AW0",251.67999267578099]
[6001012507,"MONTE CARLO-ORLEANS (02)","AW0-008 ","AW0",251.669998168945]
[6001147466,"HILLSIDE-ROBERTS (02)","AW0-007 ","AW0",251.669998168945]
[6001158782,"HEATHER-DINAH (01)","AW0-006 ","AW0",251.669998168945]
[6001193745,"HERCULES-CATALINA (02)","AW0-014 ","AW0",251.669998168945]
[6001196351,"BARRINGTON-PARNELL (01)","AW0-002 ","AW0",251.669998168945]
[6001196390,"GABRIELLE-SHANE (02)","AW0-002 ","AW0",251.669998168945]
[6001246908,"COHEN-GROVES (01)","AW0-008 ","AW0",251.669998168945]
[6001298788,"FULLARTON-WALTERS (01)","AW0-006 ","AW0",251.669998168945]
[6001376229,"FRASER-BOWES (01)","AW0-001 ","AW0",251.669998168945]
[6001388732,"HART-BOWES (02)","AW0-006 ","AW0",251.669998168945]
[6001148304,"HILBERT-HARRINGTON (01)","AW0-008 ","AW0",251.66000366210901]
[6001158996,"MCPHERSON-QUINN (02)","AW0-008 ","AW0",251.66000366210901]
[6001197811,"AMIS-VISTA (02)","AW0-008 ","AW0",251.66000366210901]
[6001198326,"ASSEMBLY-OVATA (03)","AW0-011 ","AW0",251.66000366210901]
[6001212357,"CENTREWAY-WINGARA (04)","AW0-007 ","AW0",251.66000366210901]
[6001225750,"SALTAU-MILLEARA (01)","AW0-008 ","AW0",251.66000366210901]
[6001231787,"LANARK-GOWANBRAE (03)","AW0-012 ","AW0",251.66000366210901]
[6001251535,"AMIS-VISTA (02)","AW0-008 ","AW0",251.66000366210901]
[6001309310,"INTERNATIONAL-T'PARK (00)","AW0-004 ","AW0",251.66000366210901]
[6001309310,"INTERNATIONAL-T'PARK (00)","AW0-004 ","AW0",251.66000366210901]
[6001312941,"LANARK-GOWANBRAE (03)","AW0-012 ","AW0",251.66000366210901]
[6001009760,"AMIS-VISTA (02)","AW0-008 ","AW0",251.64999389648401]
[6001132787,"WOODSTOCK-GLADSTONE (01)","AW0-002 ","AW0",251.64999389648401]
[6001147378,"HIGHRIDGE-ROBERTS (01)","AW0-006 ","AW0",251.64999389648401]
[6001148334,"HILBERT-HARRINGTON (01)","AW0-008 ","AW0",251.64999389648401]
[6001148890,"MOORE 9-MATTHEWS (01)","AW0-012 ","AW0",251.64999389648401]
[6001158947,"FAWKNER-QUINN (01)","AW0-008 ","AW0",251.64999389648401]
[6001190495,"HORNSBY-BAMFORD (02)","AW0-014 ","AW0",251.64999389648401]
[6001190707,"HORNSBY-BAMFORD (01)","AW0-014 ","AW0",251.64999389648401]
[6001192851,"DAWSON-ROMA (02)","AW0-004 ","AW0",251.64999389648401]
[6001196248,"TOWNSEND-HOCTOR (02)","AW0-002 ","AW0",251.55000305175801]
[6001198326,"ASSEMBLY-OVATA (03)","AW0-011 ","AW0",251.32000732421901]
[6001263713,"CENTREWAY-WINGARA (01)","AW0-007 ","AW0",251.11999511718801]
[6001328217,"NEWMAN-HOTHAM (02)","AW0-007 ","AW0",250.92999267578099]
[6001491787,"ELSTONE-KEILOR (03)","AW0-006 ","AW0",250.89999389648401]
[6001147955,"KING-BOWES (02)","AW0-005 ","AW0",250.71000671386699]
[6001549447,"MOLYNEUX-HAWKER (02)","AW0-005 ","AW0",250.60000610351599]
[6001195596,"CARRICK 34-MELROSE (01)","AW0-002 ","AW0",250.39999389648401]
[6001261803,"MCINTOSH 5-MATTHEWS (01)","AW0-005 ","AW0",250.38000488281301]
[6001195769,"LINACRE-KATRINA (02)","AW0-002 ","AW0",250.25]
[6001147967,"KING-BOWES (01)","AW0-005 ","AW0",250.11999511718801]
[6001228045,"ROSEHILL-ROSE (02)","AW0-006 ","AW0",250]
[6001147779,"ETZEL-CLYDESDALE (03)","AW0-006 ","AW0",249.99000549316401]
[6001193016,"LACKENHEATH-STRADSHL (01)","AW0-014 ","AW0",249.86999511718801]
[6001210159,"THE CROSSWAY-PARK (02)","AW0-008 ","AW0",249.74000549316401]
[6001158999,"MCPHERSON-QUINN (02)","AW0-008 ","AW0",249.63000488281301]
[6001193690,"CATALINA-GARDEN 1 (00)","AW0-014 ","AW0",249.52999877929699]
[6001148505,"PARER-LOUIS (01)","AW0-001 ","AW0",249.50999450683599]
[6001147243,"MCNAMARA-PETERS (02)","AW0-007 ","AW0",249.419998168945]
[6001280136,"RODD-WESTFIELD CO (01)","AW0-005 ","AW0",249.330001831055]
[6001195659,"SOUTH CIRCULAR-CARRICK (01)","AW0-002 ","AW0",249.25]
[6001159125,"MCPHERSON-QUINN (03)","AW0-008 ","AW0",249.22999572753901]
[6001395427,"HANSON-GOBLE (01)","AW0-007 ","AW0",249.169998168945]
[6001520179,"WUNNAMURRA-WONGANELA (02)","AW0-008 ","AW0",249.10000610351599]
[6001219965,"HASSETT-BORDER (02)","AW0-008 ","AW0",249.02000427246099]
[6001148991,"RODD-WESTFIELD CO (03)","AW0-005 ","AW0",248.97999572753901]
[6001249332,"SAMARA-ELMHURST (02)","AW0-002 ","AW0",248.94000244140599]
[6001197371,"THE CROSSWAY-VISTA (02)","AW0-008 ","AW0",248.88000488281301]
[6001146625,"CAMERON-MATTHEWS (02)","AW0-006 ","AW0",248.80000305175801]
[6001148311,"HILBERT-HARRINGTON (01)","AW0-008 ","AW0",248.74000549316401]
[6001163568,"NEWMAN-HOTHAM (01)","AW0-007 ","AW0",248.72999572753901]
[6001157701,"WUNNAMURRA-WONGANELA (02)","AW0-008 ","AW0",248.669998168945]
[6001150206,"KENT-TADSTAN (01)","AW0-004 ","AW0",248.61999511718801]
[6001291315,"NEWMAN-HOTHAM (01)","AW0-007 ","AW0",248.55000305175801]
[6001345186,"ELSTONE-KEILOR (04)","AW0-006 ","AW0",248.53999328613301]
[6001236680,"GARRYOWEN-MICKLEHAM (02)","AW0-009 ","AW0",248.47999572753901]
[6001190615,"HORNSBY-BAMFORD (01)","AW0-014 ","AW0",248.419998168945]
[6001255792,"COGHLAN-REBECCA (02)","AW0-006 ","AW0",248.36999511718801]
[6001277321,"ELSTONE-KEILOR (03)","AW0-006 ","AW0",248.36000061035199]
[6001195573,"CARRICK 24-MELROSE (00)","AW0-002 ","AW0",248.30000305175801]
[6001198254,"BEVERAGE-ELATA (01)","AW0-003 ","AW0",248.25]
[6001501494,"HOOD 35-MATTHEWS (02)","AW0-001 ","AW0",248.19999694824199]
[6001345000,"ELSTONE-KEILOR (04)","AW0-006 ","AW0",248.14999389648401]
[6001267431,"BLUEBELL-LILAC (02)","AW0-012 ","AW0",248.13999938964801]
[6001003756,"INTERNATIONAL-MICKLEHAM (00)","AW0-009 ","AW0",248.080001831055]
[6001483069,"OAK-CONISTON (03)","AW0-007 ","AW0",248.02999877929699]
[6001159102,"MCPHERSON-QUINN (02)","AW0-008 ","AW0",247.99000549316401]
[6001197663,"MONTE CARLO-ORLEANS (01)","AW0-008 ","AW0",247.97999572753901]
[6001193071,"FELGATE-SHAWLANDS (02)","AW0-009 ","AW0",247.919998168945]
[6001122972,"HANSON-GOBLE (01)","AW0-007 ","AW0",247.86999511718801]
[6001252453,"FULLARTON-WALTERS (01)","AW0-006 ","AW0",247.82000732421901]
[6001190854,"BRAMCOTE-FORMAN (02)","AW0-009 ","AW0",247.78999328613301]
[6001193311,"FELGATE-SHAWLANDS (02)","AW0-009 ","AW0",247.75999450683599]
[6001228348,"COACH HOUSE-ALANBRAE (04)","AW0-009 ","AW0",247.71000671386699]
[6001193690,"CATALINA-GARDEN 1 (00)","AW0-014 ","AW0",247.66000366210901]
[6001246061,"CATALINA-GARDEN 1 (01)","AW0-014 ","AW0",247.64999389648401]
[6001149767,"MAY-DAWSON (01)","AW0-004 ","AW0",247.60000610351599]
[6001195772,"LINACRE-KATRINA (02)","AW0-002 ","AW0",247.55999755859401]
[6001020550,"FAWKNER-QUINN (01)","AW0-008 ","AW0",247.5]
[6001146816,"CRESSWELL-CAMERON (00)","AW0-006 ","AW0",247.46000671386699]
[6001407946,"CENTREWAY-WINGARA (03)","AW0-007 ","AW0",247.46000671386699]
[6001190479,"HILLCREST-ARJAY (02)","AW0-014 ","AW0",247.39999389648401]
[6001193308,"FELGATE-SHAWLANDS (02)","AW0-009 ","AW0",247.36000061035199]
[6001243118,"CATALINA 38-GARDEN (02)","AW0-014 ","AW0",247.30999755859401]
[6001216528,"THE AVENUE-KEILOR (03)","AW0-007 ","AW0",247.30000305175801]
[6001271875,"WOODSTOCK-GLADSTONE (02)","AW0-002 ","AW0",247.25999450683599]
[6001303287,"COVENTRY-MALVERN (01)","AW0-012 ","AW0",247.21000671386699]
[6001009938,"TULLAMARINA-SHARPS (01)","AW0-009 ","AW0",247.16000366210901]
[6001227252,"OVATA-ASSEMBLY (03)","AW0-011 ","AW0",247.11999511718801]
[6001288690,"ALANBRAE-STONEBRIDGE (01)","AW0-009 ","AW0",247.11000061035199]
[6001149153,"LINDAWAY-MELROSE 1 (00)","AW0-002 ","AW0",247.03999328613301]
[6001195658,"SOUTH CIRCULAR-CARRICK (01)","AW0-002 ","AW0",247.00999450683599]
[6001147675,"HILLSIDE-ROBERTS (02)","AW0-007 ","AW0",246.97000122070301]
[6001004474,"WESTFIELD-NO2 (00)","AW0-008 ","AW0",246.96000671386699]
[6001197302,"COLLEGE-BREES (01)","AW0-008 ","AW0",246.91000366210901]
[6001258796,"MILLAR-DERBY (01)","AW0-004 ","AW0",246.86999511718801]
[6001021057,"ROSTELLA-NORWOOD (02)","AW0-008 ","AW0",246.80999755859401]
[6001322652,"MARIGOLD-ALDER (04)","AW0-012 ","AW0",246.78999328613301]
[6001256069,"CAMERON-MATTHEWS (02)","AW0-006 ","AW0",246.75999450683599]
[6001343046,"DALKEITH-GORDON (02)","AW0-009 ","AW0",246.69999694824199]
[6001147667,"ROBERTS-MCNAMARA (01)","AW0-006 ","AW0",246.63999938964801]
[6001154172,"FOKKER-VICKERS (02)","AW0-012 ","AW0",246.58999633789099]
[6001297081,"MARIGOLD-ALDER (03)","AW0-012 ","AW0",246.580001831055]
[6001004275,"BARRIE 31-SILICON (01)","AW0-011 ","AW0",246.50999450683599]
[6001399068,"DINAH-MILLEARA (02)","AW0-008 ","AW0",246.44999694824199]
[6001492728,"EUMARELLA-SPRING (01)","AW0-012 ","AW0",246.38999938964801]
[6001158889,"ELLEN-RACHELLE (01)","AW0-008 ","AW0",246.36999511718801]
[6001159822,"REGENT-JEFFREY (01)","AW0-008 ","AW0",246.30000305175801]
[6001024219,"FELLOWES-BARRIE (03)","AW0-011 ","AW0",246.22999572753901]
[6001197045,"COLLEGE-BREES (04)","AW0-008 ","AW0",246.16000366210901]
[6001195295,"BURNLEIGH-ELMHURST (02)","AW0-002 ","AW0",246.13999938964801]
[6001261121,"ADELAIDE-LANARK (01)","AW0-012 ","AW0",246.080001831055]
[6001184132,"COACH HOUSE-ALANBRAE (02)","AW0-009 ","AW0",245.99000549316401]
[6001330862,"DINAH-QUINN (02)","AW0-007 ","AW0",245.89999389648401]
[6001321159,"HUTCHINSON-HOTHAM (01)","AW0-006 ","AW0",245.80000305175801]
[6001157635,"CUDGEWA-BORVA (01)","AW0-008 ","AW0",245.77999877929699]
[6001044210,"TOWNSEND-HOCTOR (02)","AW0-002 ","AW0",245.61999511718801]
[6001253652,"DIB-BEVERAGE (03)","AW0-003 ","AW0",245.55000305175801]
[6001149691,"JILLIAN-DAWSON (02)","AW0-004 ","AW0",245.39999389648401]
[6001513290,"MICKLEHAM-GARDEN (02)","AW0-009 ","AW0",245.38999938964801]
[6001433910,"PARER-MATTHEWS (01)","AW0-005 ","AW0",245.21000671386699]
[6001285670,"KENNY-COGHILL (03)","AW0-009 ","AW0",245.03999328613301]
[6001407533,"PARER-COPE (01)","AW0-001 ","AW0",244.88000488281301]
[6001195881,"HALL-BURBANK (03)","AW0-002 ","AW0",244.80000305175801]
[6001471955,"WOORITE-MILLEARA (02)","AW0-008 ","AW0",244.58999633789099]
[6001199315,"VAUGHAN 1-WIRRAWAY (00)","AW0-005 ","AW0",244.330001831055]
[6001210625,"DINAH-QUINN (01)","AW0-007 ","AW0",244.080001831055]
[6001195870,"BURBANK-KATRINA (02)","AW0-002 ","AW0",243.80000305175801]
[6001439458,"STEELE CREEK-BASALT (01)","AW0-007 ","AW0",243.72999572753901]
[6001237498,"YORK-MATTHEWS (01)","AW0-001 ","AW0",243.44000244140599]
[6001428544,"STEELE CREEK-BASALT (02)","AW0-007 ","AW0",243.10000610351599]
[6001298419,"WOORITE-MILLEARA (04)","AW0-008 ","AW0",242.82000732421901]
[6001410955,"STEELE CREEK-BASALT (03)","AW0-007 ","AW0",242.77999877929699]
[6001239265,"VICTORY - LOUIS (02)","AW0-005 ","AW0",242.47999572753901]
[6001195839,"BURBANK-KATRINA (02)","AW0-002 ","AW0",242.22000122070301]
[6001522153,"COVENTRY-MALVERN (01)","AW0-012 ","AW0",242.10000610351599]
[6001343412,"NORTH-THOMAS (01)","AW0-007 ","AW0",241.89999389648401]
[6001149843,"JUDY-CHURCHILL (01)","AW0-004 ","AW0",241.61999511718801]
[6001531152,"WOORITE-MILLEARA (04)","AW0-008 ","AW0",241.30000305175801]
[6001252992,"ALLIED-SHARPS 2 (02)","AW0-011 ","AW0",240.92999267578099]
[6001457475,"HOTHAM-RYDER No. 2 (03)","AW0-006 ","AW0",240.39999389648401]
[6001004037,"ALLIED-SHARPS 2 (02)","AW0-011 ","AW0",240.19999694824199]
[6001004538,"HUME-CAMPBELL (02)","BD0-015 ","BD0",255.74000549316401]
[6001180866,"NAREEN-PAISLEY (02)","BD0-004 ","BD0",254.30000305175801]
[6001264503,"MEROLA 54 -FREEMAN (02)","BD0-013 ","BD0",253.39999389648401]
[6001189420,"GLENBARRY 9-KILLARA (01)","BD0-008 ","BD0",253.28999328613301]
[6001215939,"JOHNSON-BENAUD (04)","BD0-014 ","BD0",252.78999328613301]
[6001179774,"LYDIA-DUNSTAN (02)","BD0-015 ","BD0",252.38000488281301]
[6001181150,"WARRAGUL-LISMORE (01)","BD0-011 ","BD0",252.080001831055]
[6001180066,"HERBERT-GARNER (02)","BD0-015 ","BD0",251.99000549316401]
[6001209143,"ERINBANK-ALVIE (01)","BD0-007 ","BD0",251.71000671386699]
[6001276194,"NATIONAL 20-HUME (03)","BD0-001 ","BD0",251.42999267578099]
[6001237545,"KARNAK-PEARSON (03)","BD0-009 ","BD0",251.17999267578099]
[6001180268,"KYABRAM-GUILDFORD (01)","BD0-014 ","BD0",250.92999267578099]
[6001196046,"COLDEN-CLARKE (02)","BD0-007 ","BD0",250.88000488281301]
[6001187722,"ROKEWOOD-ELLAM (02)","BD0-014 ","BD0",250.64999389648401]
[6001321723,"BARRY-ARI (02)","BD0-016 ","BD0",250.42999267578099]
[6001299919,"BARRY-ARI NO2 (01)","BD0-016 ","BD0",250.24000549316401]
[6001329573,"MAFFRA 16-BARRY (00)","BD0-009 ","BD0",250.19999694824199]
[6001211179,"MANUKA-LIGHTWOOD (04)","BD0-004 ","BD0",250.02000427246099]
[6001346554,"BARRY-PASCOE VALE (02)","BD0-014 ","BD0",249.86000061035199]
[6001180359,"KARNAK-PEARSON (01)","BD0-009 ","BD0",249.77000427246099]
[6001286935,"CAPITAL LINK-LARA (01)","BD0-013 ","BD0",249.669998168945]
[6001184219,"ASHLEIGH-GILMOUR (03)","BD0-014 ","BD0",249.52000427246099]
[6001588294,"KING WILLIAM 34-RAILWAY (02)","BD0-011 ","BD0",249.39999389648401]
[6001378124,"MERRI 1-LEVER (01)","BD0-008 ","BD0",249.27999877929699]
[6001189070,"GLENELG 25-MAFFRA (02)","BD0-009 ","BD0",249.25]
[6001186936,"NICHOLSON-BRONCO (01)","BD0-004 ","BD0",249.13999938964801]
[6001229157,"PARINGA-JASMINE (03)","BD0-004 ","BD0",249.00999450683599]
[6001190392,"ERINBANK-DOBIES (02)","BD0-007 ","BD0",248.89999389648401]
[6001231498,"MANUKA-LIGHTWOOD (02)","BD0-004 ","BD0",248.78999328613301]
[6001492133,"GOSFORD-NICHOLAS (03)","BD0-011 ","BD0",248.77000427246099]
[6001177359,"BLACKWOOD-SYCAMORE (02)","BD0-016 ","BD0",248.64999389648401]
[6001179752,"LYDIA-DUNSTAN (02)","BD0-015 ","BD0",248.53999328613301]
[6001189148,"LOVAT-LONGFORD (01)","BD0-004 ","BD0",248.44999694824199]
[6001244799,"WEEMALA-SHANKLAND (01)","BD0-004 ","BD0",248.419998168945]
[6001501646,"RALEIGH-WILLS (02)","BD0-007 ","BD0",248.30000305175801]
[6001586047,"BOLINDA 95-HUME No 1 (02)","BD0-015 ","BD0",248.19999694824199]
[6001004134,"HUME 1938-JESICA (02)","BD0-013 ","BD0",248.07000732421901]
[6001177438,"LUCERNE-BLACKWOOD (02)","BD0-016 ","BD0",248.05000305175801]
[6001521194,"CUTHBERT-GOULBURN (02)","BD0-011 ","BD0",247.89999389648401]
[6001184304,"ROKEWOOD-YEO (01)","BD0-014 ","BD0",247.80000305175801]
[6001586045,"BOLINDA 95-HUME No 1 (02)","BD0-015 ","BD0",247.69999694824199]
[6001033860,"MANUKA-LIGHTWOOD (01)","BD0-004 ","BD0",247.55999755859401]
[6001189051,"COOMA-TAWONGA (02)","BD0-007 ","BD0",247.53999328613301]
[6001180742,"DALLAS-BARRY (02)","BD0-011 ","BD0",247.419998168945]
[6001189884,"HARRICKS-ALISON (01)","BD0-007 ","BD0",247.30999755859401]
[6001224926,"RALEIGH-WILLS (02)","BD0-007 ","BD0",247.25999450683599]
[6001196150,"HENLEY-CLARKE (01)","BD0-007 ","BD0",247.19000244140599]
[6001199193,"MILLEWA-KOROIT (02)","BD0-010 ","BD0",247.080001831055]
[6001003688,"BERWICK-HUME (02)","BD0-015 ","BD0",246.96000671386699]
[6001262158,"HUME-JESICA 1 (02)","BD0-013 ","BD0",246.86000061035199]
[6001179342,"WARANGA-BLAIR (02)","BD0-011 ","BD0",246.830001831055]
[6001189452,"COLBERT-BARRY (01)","BD0-016 ","BD0",246.74000549316401]
[6001180801,"EXFORD-LONGFORD (01)","BD0-004 ","BD0",246.61000061035199]
[6001298780,"PRODUCTION-MERRI (01)","BD0-008 ","BD0",246.5]
[6001189396,"KILLARA 79-GLENBARRY (01)","BD0-008 ","BD0",246.38999938964801]
[6001195960,"HENLEY-CLARKE (02)","BD0-007 ","BD0",246.36999511718801]
[6001422794,"BAILEYS-MALMSBURY (02)","BD0-004 ","BD0",246.27000427246099]
[6001003678,"COLBERT-BARRY (02)","BD0-016 ","BD0",246.14999389648401]
[6001471866,"EUCALYPTUS-PEPPERMINT (01)","BD0-004 ","BD0",246.07000732421901]
[6001300923,"FABIO P6-HUME (00)","BD0-015 ","BD0",246.03999328613301]
[6001187369,"DALTON-MITCHELL (01)","BD0-004 ","BD0",245.92999267578099]
[6001188750,"COBRAM-LILLIPUT (01)","BD0-007 ","BD0",245.830001831055]
[6001281681,"SARAH-PATRICK (01)","BD0-016 ","BD0",245.72999572753901]
[6001194366,"PASCOE-BLACK (01)","BD0-007 ","BD0",245.71000671386699]
[6001193880,"BUNBURY-LYNDHURST (02)","BD0-007 ","BD0",245.580001831055]
[6001416375,"RESERVOIR 22-SOMERTON (03)","BD0-004 ","BD0",245.5]
[6001434936,"DUNKELD-PASCOE VALE (01)","BD0-004 ","BD0",245.38000488281301]
[6001179589,"BRIGHT-BARRY (02)","BD0-008 ","BD0",245.24000549316401]
[6001246773,"TATURA-NATHALIA (01)","BD0-007 ","BD0",245.22999572753901]
[6001413422,"LONDON-CUTHBERT (01)","BD0-011 ","BD0",245.11000061035199]
[6001323080,"PREMIER 80-LARA (01)","BD0-008 ","BD0",245.02000427246099]
[6001423064,"VALLEY PARK-VISTA (02)","BD0-007 ","BD0",244.86000061035199]
[6001179021,"WODONGA-CUTHBERT (01)","BD0-011 ","BD0",244.82000732421901]
[6001187284,"DUNKELD-PASCOE VALE (02)","BD0-004 ","BD0",244.69000244140599]
[6001194083,"WOLVERTON-FAIRBANK (02)","BD0-007 ","BD0",244.55000305175801]
[6001194157,"DUNFIELD-BERESFORD (01)","BD0-007 ","BD0",244.38000488281301]
[6001187426,"DALTON-MITCHELL (02)","BD0-004 ","BD0",244.33999633789099]
[6001190134,"ELIZABETH-RALEIGH (02)","BD0-007 ","BD0",244.17999267578099]
[6001337839,"JOFFRE-KITCHENER (02)","BD0-011 ","BD0",243.99000549316401]
[6001196558,"CHISHOLM-OSBORNE (01)","BD0-007 ","BD0",243.75]
[6001194093,"WOLVERTON-BERESFORD (02)","BD0-007 ","BD0",243.49000549316401]
[6001193840,"ELLESMERE-CARRICK (02)","BD0-007 ","BD0",243.44000244140599]
[6001179812,"HUME-STEWART (04)","BD0-016 ","BD0",243.11999511718801]
[6001019922,"RAINSFORD-SAMUEL (02)","BD0-016 ","BD0",242.72999572753901]
[6001043805,"REDWOOD-LEATHERWOOD (03)","BD0-004 ","BD0",242.44999694824199]
[6001302943,"GOODENIA-MAGNOLIA (02)","BD0-004 ","BD0",242.36999511718801]
[6001247591,"KILLARA-BARRY 1 (02)","BD0-008 ","BD0",241.83999633789099]
[6001019293,"CLARKE-SOMERSET (04)","BD0-016 ","BD0",241.05000305175801]
[6001019047,"CHILDERS-LONGFORD (03)","BD0-004 ","BD0",239.64999389648401]
[6001433451,"LARA 31-PREMIER (01)","BD0-008 ","BD0",239.11000061035199]
[6001479238,"HUME-K MART (01)","BMS-021 ","BMS",252.19000244140599]
[6001413489,"WAVERLEY-ELECTRIC (02)","BMS-023 ","BMS",251.19999694824199]
[6001481854,"LAHINCH-WIDFORD (01)","BMS-023 ","BMS",250.44000244140599]
[6001342646,"GRAHAM-GLEN ALLAN (03)","BMS-023 ","BMS",249.88000488281301]
[6001211042,"JENSEN-CAMP (02)","BMS-012 ","BMS",249.80999755859401]
[6001476676,"FREELAND-ELEANOR (01)","BMS-023 ","BMS",249.5]
[6001271620,"JACANA-LAHINCH (03)","BMS-012 ","BMS",249.22999572753901]
[6001310151,"NORTHCORP 193-MILITARY (01)","BMS-025 ","BMS",248.86999511718801]
[6001522049,"HARTLEY-CAMP (01)","BMS-012 ","BMS",248.80000305175801]
[6001636024,"LAKESIDE 40-NORTHCORP (05)","BMS-025 ","BMS",248.5]
[6001183046,"TIMBOON-RIPPLEBROOK (01)","BMS-023 ","BMS",248.19000244140599]
[6001396445,"HUME-MICHAEL CO (01)","BMS-021 ","BMS",247.85000610351599]
[6001321339,"CAMP-WARNOCK (01)","BMS-012 ","BMS",247.80000305175801]
[6001004108,"ROBINSON-BAMBURGH (01)","BMS-023 ","BMS",247.49000549316401]
[6001178256,"FREDA-WIDFORD (02)","BMS-023 ","BMS",247.05999755859401]
[6001336637,"FREDA-WIDFORD (03)","BMS-023 ","BMS",246.64999389648401]
[6001003705,"TRAWALLA-TERRAZZO (02)","BMS-021 ","BMS",246.52999877929699]
[6001228142,"TRETHOWAN-SMILEY (03)","BMS-012 ","BMS",246.05000305175801]
[6001281509,"TRAWALLA-TERRAZZO (02)","BMS-021 ","BMS",245.47999572753901]
[6001190069,"CAMPBELL-STURIS (03)","BMS-023 ","BMS",243.72000122070301]
[6001313608,"CAMP 82-HUME (02)","BMS-021 ","BMS",242.63000488281301]
[6001178638,"GRAHAM-GIBSON (01)","BMS-023 ","BMS",242.22000122070301]
[6001162709,"CHRISTINA-BARBARA (01)","BY0-014 ","BY0",253.27999877929699]
[6001347943,"SHEPHERD-GORDON (01)","BY0-012 ","BY0",251.69000244140599]
[6001066048,"HAVELOCK-BALLARAT (02)","BY0-012 ","BY0",250.50999450683599]
[6001063182,"RENNISON-CASTLEY (03)","BY0-011 ","BY0",249.96000671386699]
[6001408218,"WOOD-SYDNEY 2 (01)","BY0-014 ","BY0",249.669998168945]
[6001262648,"SHEPHERD-GORDON (00)","BY0-012 ","BY0",249.14999389648401]
[6001049232,"MACPHERSON-SHEPHERD (02)","BY0-012 ","BY0",248.72999572753901]
[6001251820,"SHEPHERD-GORDON (00)","BY0-012 ","BY0",248.66000366210901]
[6001448784,"MACEDON-ROWE (01)","BY0-014 ","BY0",248.39999389648401]
[6001061421,"OMAR-MITCHELL (02)","BY0-015 ","BY0",248.17999267578099]
[6001491124,"ROSAMOND-RIVER (01)","BY0-013 ","BY0",248]
[6001425862,"HAVELOCK-CATHCART (01)","BY0-012 ","BY0",247.78999328613301]
[6001347173,"CLARENDON-WHITTAKER (03)","BY0-015 ","BY0",247.75]
[6001160136,"ARCADE-SOUTH GATEWAY (01)","BY0-011 ","BY0",247.57000732421901]
[6001197416,"BROWNING-SHANE (01)","BY0-014 ","BY0",247.39999389648401]
[6001311275,"OMAR-MITCHELL (02)","BY0-015 ","BY0",247.25]
[6001444348,"THOMPSON-NORTH (02)","BY0-011 ","BY0",247.21000671386699]
[6001226112,"BROWNING-SHANE (04)","BY0-014 ","BY0",247.080001831055]
[6001326196,"EMU-HAMPSTEAD 44 (00)","BY0-013 ","BY0",246.94000244140599]
[6001526595,"GLENSIDE-CANNING (01)","BY0-014 ","BY0",246.80000305175801]
[6001466580,"ARVERN-MEDFIELD (01)","BY0-014 ","BY0",246.77000427246099]
[6001403512,"SUNNYBANK-RIVERBEND (01)","BY0-011 ","BY0",246.63999938964801]
[6001340334,"LOMANDRA-MYRTLE (01)","BY0-015 ","BY0",246.52999877929699]
[6001526978,"ROSAMOND-MARIBYRNONG (02)","BY0-014 ","BY0",246.39999389648401]
[6001160391,"RIDGE-NORTH (04)","BY0-011 ","BY0",246.30999755859401]
[6001335297,"MEPHAN 21-ROSAMOND (01)","BY0-012 ","BY0",246.30000305175801]
[6001018067,"MITCHELL-HAVELOCK (04)","BY0-012 ","BY0",246.19000244140599]
[6001062995,"RENNISON-CASTLEY (03)","BY0-011 ","BY0",246.08999633789099]
[6001162171,"RHONDA-CANNING (02)","BY0-014 ","BY0",245.97999572753901]
[6001161650,"WESTMINSTER-MILITARY (02)","BY0-014 ","BY0",245.91000366210901]
[6001445490,"CLARENDON-WHITTAKER (01)","BY0-015 ","BY0",245.88000488281301]
[6001160311,"THOMPSON-NORTH (01)","BY0-011 ","BY0",245.75999450683599]
[6001211913,"TEMPLEWOOD-FENWICK (02)","BY0-014 ","BY0",245.669998168945]
[6001047683,"MITCHELL-ROWE (01)","BY0-012 ","BY0",245.57000732421901]
[6001307727,"DANTUM-KANNAN (04)","BY0-015 ","BY0",245.55000305175801]
[6001235060,"CARLTON-DARNLEY (01)","BY0-011 ","BY0",245.44999694824199]
[6001300570,"OMAR-MITCHELL (01)","BY0-015 ","BY0",245.36999511718801]
[6001161694,"DAVIS-MILITARY (02)","BY0-014 ","BY0",245.27000427246099]
[6001160440,"RIVIERA-MILLEARA (04)","BY0-014 ","BY0",245.25]
[6001160068,"RIDGE-NORTH (02)","BY0-011 ","BY0",245.16000366210901]
[6001062535,"DARNLEY-JOY (01)","BY0-011 ","BY0",245.05000305175801]
[6001160289,"RIDGE-NORTH (03)","BY0-011 ","BY0",244.94000244140599]
[6001348189,"JACKSON-THOMSON (02)","BY0-011 ","BY0",244.91000366210901]
[6001410133,"CLARENDON-MILITARY (00)","BY0-014 ","BY0",244.80999755859401]
[6001281259,"RIVIERA-MILLEARA (01)","BY0-014 ","BY0",244.67999267578099]
[6001250903,"MACPHERSON-SHEPHERD (01)","BY0-012 ","BY0",244.52999877929699]
[6001062971,"VINE-SHEPHERD (01)","BY0-011 ","BY0",244.38000488281301]
[6001160974,"TEMPLEWOOD-MILGATE (03)","BY0-014 ","BY0",244.35000610351599]
[6001197455,"RIVIERA-WARRICK (02)","BY0-014 ","BY0",244.24000549316401]
[6001039046,"RIVIERA-WARRICK (01)","BY0-014 ","BY0",243.97000122070301]
[6001335423,"CLARENDON-MILITARY (00)","BY0-014 ","BY0",243.72999572753901]
[6001019125,"RIVIERA-WARRICK (03)","BY0-014 ","BY0",243.67999267578099]
[6001319164,"MITCHELL-ROWE (02)","BY0-012 ","BY0",243.32000732421901]
[6001263307,"GILBERT-ERROL (01)","BY0-011 ","BY0",242.89999389648401]
[6001062901,"ATHOL-EAST (01)","BY0-011 ","BY0",242.330001831055]
[6001061292,"JACKSON-THOMSON (02)","BY0-011 ","BY0",241.94999694824199]
[6001476144,"CRANWELL-BURKE (03)","BY0-011 ","BY0",241.67999267578099]
[6001490056,"JACKSON-THOMSON (03)","BY0-011 ","BY0",241.10000610351599]
[6001246977,"TEMPLEWOOD-WEYBURN (04)","BY0-014 ","BY0",240.61999511718801]
[6001279165,"JACKSON-THOMSON (03)","BY0-011 ","BY0",240.11000061035199]
[6001162692,"CHRISTINA-BARBARA (03)","BY0-014 ","BY0",240]
[6001471455,"BURKE 40-CRANWELL (02)","BY0-011 ","BY0",239.39999389648401]
[6001545753,"TEMPLEWOOD-WEYBURN (02)","BY0-014 ","BY0",238.80000305175801]
[6001039083,"LIVINGSTONE-ELIZABETH (01)","CN0-003 ","CN0",252.77999877929699]
[6001008691,"LIVINGSTONE-ELIZABETH (01)","CN0-003 ","CN0",252.03999328613301]
[6001173342,"MARLBOROUGH-DERBY (02)","CN0-004 ","CN0",250.19000244140599]
[6001234200,"MAHER-HUME (02)","CN0-004 ","CN0",249.47999572753901]
[6001100016,"COLTHUR-BANBURY (02)","CN0-011 ","CN0",249.080001831055]
[6001175566,"JUKES-HUME (02)","CN0-004 ","CN0",248.96000671386699]
[6001176607,"BIRCHWOOD-ANDERSON (01)","CN0-004 ","CN0",248.71000671386699]
[6001004451,"TRADE 54-NEWLANDS (02)","CN0-002 ","CN0",248.44000244140599]
[6001016384,"TRADE 54-NEWLANDS (02)","CN0-002 ","CN0",248.24000549316401]
[6001175780,"DISNEY-HUME (04)","CN0-004 ","CN0",248.05999755859401]
[6001350436,"TILLEY-ELIZABETH (04)","CN0-003 ","CN0",248.00999450683599]
[6001561078,"LYNCH-HUME (02)","CN0-004 ","CN0",247.89999389648401]
[6001015131,"MCNAMARA-ELIZABETH (01)","CN0-003 ","CN0",247.67999267578099]
[6001236054,"KELVERNE-NEWLANDS (02)","CN0-001 ","CN0",247.52999877929699]
[6001036637,"CATHERINE-BAKERS (02)","CN0-002 ","CN0",247.5]
[6001199004,"HUME 1317-WELLS (01)","CN0-004 ","CN0",247.36999511718801]
[6001267577,"DISNEY-HUME (02)","CN0-004 ","CN0",247.24000549316401]
[6001175264,"BRUCE-LYNCH (02)","CN0-006 ","CN0",247.10000610351599]
[6001038590,"PETERSON-JACKSON (02)","CN0-008 ","CN0",246.99000549316401]
[6001480691,"LIVINGSTONE-ELIZABETH (02)","CN0-003 ","CN0",246.94000244140599]
[6001173284,"QUEENS-ALBERT (01)","CN0-004 ","CN0",246.78999328613301]
[6001322682,"SYDNEY-MORAY (01)","CN0-004 ","CN0",246.63000488281301]
[6001270669,"BONVIEW-CARRINGTON (01)","CN0-007 ","CN0",246.61000061035199]
[6001407046,"LEAMINGTON-HIGH (02)","CN0-011 ","CN0",246.44999694824199]
[6001268489,"WARNER-LYON (02)","CN0-005 ","CN0",246.27000427246099]
[6001175040,"LYNCH-HUME (01)","CN0-004 ","CN0",246.13999938964801]
[6001258607,"FETTLING-COOPER (01)","CN0-008 ","CN0",246]
[6001043847,"JUKES-TYSON (02)","CN0-010 ","CN0",245.97999572753901]
[6001424041,"JUKES-HUME (01)","CN0-004 ","CN0",245.83999633789099]
[6001176856,"JUKES-HUME (01)","CN0-004 ","CN0",245.69999694824199]
[6001270566,"HOOD-MCBRYDE (02)","CN0-006 ","CN0",245.63000488281301]
[6001405733,"BRUCE-LYNCH (02)","CN0-006 ","CN0",245.55999755859401]
[6001258394,"PALMER-HEDLEY (01)","CN0-004 ","CN0",245.44999694824199]
[6001104056,"WILKINSON-BENDIGO (01)","CN0-011 ","CN0",245.330001831055]
[6001038437,"WHITTON-BOYNE (04)","CN0-008 ","CN0",245.22999572753901]
[6001313755,"LAKESIDE-THROWER (02)","CN0-011 ","CN0",245.22000122070301]
[6001002824,"EDWARDES 303-PLATEAU (03)","CN0-009 ","CN0",245.11999511718801]
[6001099204,"COMPTON-LEAMINGTON (02)","CN0-011 ","CN0",245.07000732421901]
[6001034365,"KENT-SUNSHINE (02)","CN0-005 ","CN0",244.94999694824199]
[6001040954,"GUILFOYLE-SHORTS (02)","CN0-005 ","CN0",244.86000061035199]
[6001029220,"KEADY-SYDNEY (03)","CN0-005 ","CN0",244.83999633789099]
[6001029335,"MATHIESON-SYDNEY (04)","CN0-005 ","CN0",244.75999450683599]
[6001092133,"GILBANK-GILBERT (02)","CN0-007 ","CN0",244.67999267578099]
[6001522271,"OLIVE-VIOLA (01)","CN0-007 ","CN0",244.60000610351599]
[6001093441,"GILBANK-GILBERT (01)","CN0-007 ","CN0",244.580001831055]
[6001514478,"LANDELLS-MARTIN (01)","CN0-005 ","CN0",244.5]
[6001176397,"JENNIFER-ANDERSON (01)","CN0-006 ","CN0",244.419998168945]
[6001230338,"HARBURY-EDWARDES (03)","CN0-011 ","CN0",244.330001831055]
[6001092644,"CAROLE JOY-SPRING (02)","CN0-007 ","CN0",244.30999755859401]
[6001175610,"LOWSON-MINONA (02)","CN0-010 ","CN0",244.22999572753901]
[6001090077,"LAKESIDE 29-31-THROWER (01)","CN0-011 ","CN0",244.13999938964801]
[6001039575,"NORFOLK 17-NEWLANDS (02)","CN0-008 ","CN0",244.07000732421901]
[6001036708,"WARNER-LYON (02)","CN0-005 ","CN0",243.99000549316401]
[6001175820,"MCBRYDE-WATKINS (02)","CN0-006 ","CN0",243.97999572753901]
[6001093457,"KNOX-GILBERT (02)","CN0-007 ","CN0",243.88999938964801]
[6001334719,"BONVIEW-HENTY (02)","CN0-007 ","CN0",243.80000305175801]
[6001244389,"GUILFOYLE-SHORTS (01)","CN0-005 ","CN0",243.75]
[6001509650,"GUILFOYLE-SHORTS (02)","CN0-005 ","CN0",243.69999694824199]
[6001101138,"WHITBY-BARTON (02)","CN0-011 ","CN0",243.61999511718801]
[6001260195,"BAKERS-SUSSEX (00)","CN0-005 ","CN0",243.55000305175801]
[6001175910,"DENYS-GLYNDA (01)","CN0-010 ","CN0",243.47000122070301]
[6001038781,"MALCOLM-ELIZABETH (01)","CN0-008 ","CN0",243.44999694824199]
[6001255360,"FETTLING-COOPER (02)","CN0-008 ","CN0",243.36999511718801]
[6001091484,"FETTLING-COOPER (01)","CN0-008 ","CN0",243.30999755859401]
[6001096525,"GLOUCESTER-HENTY (02)","CN0-007 ","CN0",243.21000671386699]
[6001097057,"MOORE-HENTY (01)","CN0-007 ","CN0",243.13000488281301]
[6001261952,"SURREY-ESSEX (00)","CN0-005 ","CN0",243.11999511718801]
[6001100692,"SEAVER-LEAMINGTON (01)","CN0-011 ","CN0",243.03999328613301]
[6001012066,"PINE-HENTY (01)","CN0-007 ","CN0",242.96000671386699]
[6001103349,"MCIVOR-OAKHILL (02)","CN0-011 ","CN0",242.88000488281301]
[6001038957,"COOL-ELIZABETH (02)","CN0-003 ","CN0",242.86000061035199]
[6001096662,"GEORGE-HENTY (02)","CN0-007 ","CN0",242.77999877929699]
[6001176017,"LOWSON-MINONA (02)","CN0-010 ","CN0",242.69999694824199]
[6001174163,"PERCY-LYNCH (01)","CN0-006 ","CN0",242.61999511718801]
[6001042678,"LANDELLS-MARTIN (03)","CN0-005 ","CN0",242.60000610351599]
[6001104109,"EAST-THACKERAY (02)","CN0-011 ","CN0",242.49000549316401]
[6001037367,"WINDSOR-DERBY (02)","CN0-005 ","CN0",242.42999267578099]
[6001103293,"NORTHERNHAY-OAKHILL (02)","CN0-011 ","CN0",242.33999633789099]
[6001289280,"BYFIELD-EDWARDES (03)","CN0-011 ","CN0",242.25999450683599]
[6001043433,"BENDIGO-ALPINE (01)","CN0-005 ","CN0",242.24000549316401]
[6001098983,"BYFIELD-EDWARDES (02)","CN0-011 ","CN0",242.13999938964801]
[6001103233,"NORTHERNHAY-OAKHILL (01)","CN0-011 ","CN0",242.03999328613301]
[6001175685,"JUKES-LANIGAN (03)","CN0-010 ","CN0",241.97999572753901]
[6001044381,"GOULBURN-SHAND (04)","CN0-011 ","CN0",241.89999389648401]
[6001173531,"WILSON-ARGYLE (02)","CN0-004 ","CN0",241.80000305175801]
[6001038964,"COOL-ELIZABETH (02)","CN0-003 ","CN0",241.69000244140599]
[6001174194,"JAMES-MAJOR (02)","CN0-006 ","CN0",241.53999328613301]
[6001481791,"BAKERS 50-ALLENBY (03)","CN0-002 ","CN0",241.52000427246099]
[6001481390,"LEAMINGTON-HIGH (02)","CN0-011 ","CN0",241.36999511718801]
[6001545632,"LEAMINGTON-HIGH (02)","CN0-011 ","CN0",241.19999694824199]
[6001037051,"NOVIAN-MARAMA (03)","CN0-005 ","CN0",241.02000427246099]
[6001095026,"GRANDVIEW-MURRAY (02)","CN0-008 ","CN0",240.82000732421901]
[6001522301,"GYLES-ESSEX (01)","CN0-005 ","CN0",240.80000305175801]
[6001618269,"GILBANK-GILBERT (01)","CN0-007 ","CN0",240.60000610351599]
[6001002958,"CARAWA-NEWLANDS (02)","CN0-007 ","CN0",240.36000061035199]
[6001439195,"PHOTOGRAPHY-NEWLANDS (02)","CN0-008 ","CN0",240.16000366210901]
[6001029716,"MORRIS-MCMAHONS (02)","CN0-008 ","CN0",240.11000061035199]
[6001096760,"ASHLEY-EDWARDES (02)","CN0-011 ","CN0",239.919998168945]
[6001093921,"CHARLES-BENAMBRA (02)","CN0-008 ","CN0",239.71000671386699]
[6001041373,"JOFFRE-KENT (02)","CN0-005 ","CN0",239.5]
[6001458257,"CHARLES-BENAMBRA (02)","CN0-008 ","CN0",239.47999572753901]
[6001241436,"ASHLEY-EDWARDES (01)","CN0-011 ","CN0",239.169998168945]
[6001422223,"WINN-MAJOR (02)","CN0-010 ","CN0",239.02999877929699]
[6001288289,"ASHLEY-EDWARDES (01)","CN0-011 ","CN0",238.86000061035199]
[6001251116,"CHARLES-BENAMBRA (01)","CN0-008 ","CN0",238.80999755859401]
[6001264475,"MURRAY-BONWICK (01)","CN0-010 ","CN0",238.63999938964801]
[6001317464,"ESSEX-LANDELLS (02)","CN0-005 ","CN0",238.44000244140599]
[6001381515,"ELIZABETH-MURPHY (02)","CN0-008 ","CN0",238.19999694824199]
[6001102906,"MASON-HIGH (03)","CN0-007 ","CN0",238.03999328613301]
[6001270067,"BARWON-PLENTY (02)","CN0-011 ","CN0",237.919998168945]
[6001381502,"BOYNE-ELIZABETH (01)","CN0-008 ","CN0",237.63999938964801]
[6001103682,"BARWON-PLENTY (02)","CN0-011 ","CN0",237.38000488281301]
[6001043545,"JOFFRE-KENT (01)","CN0-005 ","CN0",237.07000732421901]
[6001174793,"WYMLET-LYNCH (02)","CN0-010 ","CN0",237.02000427246099]
[6001102912,"MASON-HIGH (03)","CN0-007 ","CN0",236.72000122070301]
[6001029233,"ANZAC-SYDNEY (04)","CN0-005 ","CN0",236.22999572753901]
[6001090329,"MASON-HIGH (02)","CN0-007 ","CN0",235.5]
[6001347349,"SYMONS-GILBERT (04)","CN0-008 ","CN0",235.14999389648401]
[6001174048,"MARJORY-MCBRYDE (02)","CN0-006 ","CN0",232.30999755859401]
[6001216762,"LARGS-MOTHERWELL (01)","COO-023 ","COO",251.63000488281301]
[6001213773,"RAVENHILL-KNIGHT (01)","COO-022 ","COO",250.71000671386699]
[6001351456,"SAHI-CLEELAND (02)","COO-024 ","COO",250.16000366210901]
[6001375174,"SAHI-CLEELAND (02)","COO-024 ","COO",250.08999633789099]
[6001223120,"SHARP-BULLA (02)","COO-012 ","COO",249.64999389648401]
[6001027884,"GREENVALE-WALLACE (02)","COO-022 ","COO",249.25999450683599]
[6001218848,"ROSSITER-GATHRAY (03)","COO-022 ","COO",248.83999633789099]
[6001191957,"SIMMINGTON-KENTMERE (01)","COO-023 ","COO",248.75999450683599]
[6001191592,"RUDSTONE-ABBEY (01)","COO-011 ","COO",248.17999267578099]
[6001228711,"PRENTICE-LINCOLNE (04)","COO-024 ","COO",247.919998168945]
[6001412853,"RUDSTONE-ABBEY (01)","COO-011 ","COO",247.60000610351599]
[6001010107,"MONTROSE-MACKAY (01)","COO-012 ","COO",247.52000427246099]
[6001466017,"DUMFRIES-QUEENSFERRY (02)","COO-023 ","COO",247.22000122070301]
[6001192059,"RUDSTONE-ABBEY (02)","COO-011 ","COO",246.96000671386699]
[6001213336,"ROSSITER-GATHRAY (02)","COO-022 ","COO",246.71000671386699]
[6001229342,"CLIFTON-KIRKHAM (01)","COO-022 ","COO",246.47999572753901]
[6001246249,"NORMANBY-BURBRIDGE (01)","COO-022 ","COO",246.44000244140599]
[6001243517,"CLIFTON-KIRKHAM (01)","COO-022 ","COO",246.28999328613301]
[6001191484,"MICKLEHAM 1305-DUNHELEN (00)","COO-011 ","COO",246.13000488281301]
[6001020861,"MOUNTAIN VIEW-THE PANORAMA (00)","COO-011 ","COO",246]
[6001475911,"CANDY-SASH (04)","COO-023 ","COO",246]
[6001477472,"REGALLA-BONDS (03)","COO-023 ","COO",245.89999389648401]
[6001487914,"PONY-TAO (01)","COO-023 ","COO",245.80000305175801]
[6001480097,"JAMES MIRAM-AITKEN (02)","COO-024 ","COO",245.69999694824199]
[6001419787,"MUIRHEAD-ARKLEY (04)","COO-022 ","COO",245.67999267578099]
[6001391899,"IRIS-BLOSSOM (04)","COO-023 ","COO",245.58999633789099]
[6001270532,"SOUTHERN CROSS-LYNX (02)","COO-024 ","COO",245.49000549316401]
[6001192309,"MT RIDLEY-KONAGADERRA (00)","COO-011 ","COO",245.42999267578099]
[6001411087,"IRIS-BLOSSOM (03)","COO-023 ","COO",245.30000305175801]
[6001011485,"GREEN-REC RESERVE (00)","COO-012 ","COO",245.28999328613301]
[6001535220,"MATTINA-BRENDAN (02)","COO-023 ","COO",245.19999694824199]
[6001487379,"ALTO-WENLYAN (04)","COO-023 ","COO",245.10000610351599]
[6001477485,"REGALLA-BONDS (04)","COO-023 ","COO",245]
[6001276188,"CASTLEHILL-HELMSDALE (01)","COO-022 ","COO",244.97999572753901]
[6001231223,"ABERDEEN-MACLACHLAN (04)","COO-022 ","COO",244.85000610351599]
[6001473182,"STARBOARD-SEAFARERS (02)","COO-024 ","COO",244.80000305175801]
[6001192270,"NORMANBY-PICCADILLY (01)","COO-022 ","COO",244.72000122070301]
[6001038843,"CASTLEHILL-HELMSDALE (04)","COO-022 ","COO",244.69999694824199]
[6001281381,"ROACH-MCKINLEY (02)","COO-024 ","COO",244.64999389648401]
[6001427243,"PROSPERITY-ARENA (04)","COO-022 ","COO",244.58999633789099]
[6001427075,"STEINBECK-LEMONWOOD (02)","COO-023 ","COO",244.5]
[6001438829,"NORMANBY-CROMWELL (04)","COO-022 ","COO",244.44000244140599]
[6001384769,"NAPOLI-SAN MARCO (03)","COO-023 ","COO",244.419998168945]
[6001233471,"ROXBURGH-SILVESTER (01)","COO-024 ","COO",244.36000061035199]
[6001469623,"EVERGLADE-ARENA (01)","COO-022 ","COO",244.30000305175801]
[6001265280,"SUMMIT-CAPTAIN PEARSON (01)","COO-011 ","COO",244.22999572753901]
[6001374463,"NAPOLI-VERONA (01)","COO-023 ","COO",244.22000122070301]
[6001465758,"BELLEVUE-CAPTAIN PEARSON (00)","COO-011 ","COO",244.169998168945]
[6001444522,"EVERGLADE-ARENA (01)","COO-022 ","COO",244.10000610351599]
[6001304414,"LAKESIDE-DONALD CAMERON (02)","COO-024 ","COO",244.03999328613301]
[6001409908,"CAROLINE-LUCY (04)","COO-023 ","COO",243.99000549316401]
[6001214656,"ROSSITER-MANLEY (03)","COO-022 ","COO",243.97000122070301]
[6001192313,"PARKLAND CR-P5 (00)","COO-011 ","COO",243.89999389648401]
[6001374142,"PLAZA-HINTER (02)","COO-024 ","COO",243.88000488281301]
[6001284195,"THE RIDGE-THOMAS (02)","COO-022 ","COO",243.77999877929699]
[6001409768,"ENCHANT-ALTITUDE (02)","COO-023 ","COO",243.77000427246099]
[6001465788,"MACHELL-CARROLL (02)","COO-012 ","COO",243.69999694824199]
[6001366055,"BOLOGNA-PAVIA (01)","COO-023 ","COO",243.61999511718801]
[6001010381,"FLEETWOOD-HEVERSHAM (02)","COO-023 ","COO",243.52999877929699]
[6001371503,"BELLINI-TAORMINA (03)","COO-023 ","COO",243.47000122070301]
[6001191047,"BARRYMORE-DUNBAR (03)","COO-012 ","COO",243.42999267578099]
[6001198572,"ERSKINE-GLENCAIRN (01)","COO-023 ","COO",243.33999633789099]
[6001282041,"BARRYMORE-DUNBAR (03)","COO-012 ","COO",243.25]
[6001281337,"HANNAM-BICKERTON (04)","COO-022 ","COO",243.14999389648401]
[6001343637,"BLUEBIRD-BEVERIDGE (05)","COO-024 ","COO",243.11999511718801]
[6001214037,"PICCADILLY-TRAFALGAR (03)","COO-022 ","COO",242.99000549316401]
[6001227896,"MUIRHEAD-ARKLEY (01)","COO-022 ","COO",242.83999633789099]
[6001229091,"ARNCLIFFE-LEEDS (02)","COO-023 ","COO",242.66000366210901]
[6001482816,"MICKLEHAM RD-P0254 (00)","COO-011 ","COO",242.63000488281301]
[6001339238,"HARTLEY-GREENVALE (03)","COO-023 ","COO",242.36000061035199]
[6001227426,"ROXBURGH-DONALD (05)","COO-024 ","COO",241.88000488281301]
[6001464022,"BLACKWELLS LA-P3A (01)","COO-012 ","COO",240.86999511718801]
[6001426231,"PRISTINE-ALLURE (04)","COO-023 ","COO",240.39999389648401]
[6001292652,"MT RIDLEY RD-P13 (00)","COO-011 ","COO",239.88000488281301]
[6001487782,"HELENIC-CARROLL (04)","COO-023 ","COO",239.10000610351599]
[6001517304,"MALKARI-BERASIA (02)","COO-023 ","COO",238.5]
[6001540516,"BERNADETTE-MERVYN (01)","COO-012 ","COO",238.39999389648401]
[6001553454,"PROVIDENCE-CHARBEL (04)","COO-012 ","COO",237.69999694824199]
[6001296899,"RENNIE-GLENORA (02)","CS0-009 ","CS0",251.080001831055]
[6001241169,"CRAMER-GILBERT (01)","CS0-003 ","CS0",249.55999755859401]
[6001248534,"ANDERSON-BOLINGBROKE (02)","CS0-002 ","CS0",248.19999694824199]
[6001024950,"SHAFTSBURY-MORELAND (02)","CS0-005 ","CS0",248.10000610351599]
[6001295075,"GAFFNEY-CUMBERLAND (01)","CS0-012 ","CS0",247.69000244140599]
[6001136043,"ATTERCLIFFE-DERBY (03)","CS0-012 ","CS0",247.36000061035199]
[6001033327,"VINCENT-BELL (04)","CS0-002 ","CS0",247.080001831055]
[6001238822,"MITCHELL-OAKOVER (01)","CS0-008 ","CS0",246.82000732421901]
[6001028858,"CHAMP-SYDNEY (01)","CS0-013 ","CS0",246.75]
[6001035195,"FRASER-OHEA (02)","CS0-012 ","CS0",246.55999755859401]
[6001027061,"DEANS-SYDNEY (02)","CS0-013 ","CS0",246.41000366210901]
[6001487431,"BERRY-LOCH (02)","CS0-005 ","CS0",246.39999389648401]
[6001258075,"RENOWN-SYDNEY (01)","CS0-013 ","CS0",246.25999450683599]
[6001024560,"JESSIE-STATION (01)","CS0-005 ","CS0",246.13999938964801]
[6001036907,"THE GROVE-DE CARLE (01)","CS0-005 ","CS0",246.03999328613301]
[6001381348,"SOUDAN-HIGH (02)","CS0-002 ","CS0",245.94000244140599]
[6001296331,"REYNARD-SPRINGHALL (02)","CS0-005 ","CS0",245.919998168945]
[6001270731,"REYNARD-PHILLIPS (02)","CS0-005 ","CS0",245.83999633789099]
[6001027506,"GLADSTONE-HARDING (01)","CS0-008 ","CS0",245.75]
[6001031125,"HAWTHORN-REYNARD (02)","CS0-005 ","CS0",245.669998168945]
[6001024241,"WOLSELEY-THE AVENUE (01)","CS0-005 ","CS0",245.61999511718801]
[6001031495,"BREARLEY-ROSE (02)","CS0-002 ","CS0",245.580001831055]
[6001255478,"GORDON-BELL (02)","CS0-002 ","CS0",245.5]
[6001474158,"MOASCAR-GALLIPOLI (03)","CS0-002 ","CS0",245.44000244140599]
[6001044486,"MUNRO-WALKER (02)","CS0-008 ","CS0",245.419998168945]
[6001123650,"WILSON-GILMOUR (01)","CS0-013 ","CS0",245.35000610351599]
[6001094318,"ROWAN-KENDALL (01)","CS0-008 ","CS0",245.30000305175801]
[6001275593,"YORK- EASTGATE (02)","CS0-002 ","CS0",245.22000122070301]
[6001253256,"RUSSELL-BELL NO 1 (01)","CS0-008 ","CS0",245.14999389648401]
[6001296462,"TANDERUM-MANNA GUM (04)","CS0-013 ","CS0",245.13999938964801]
[6001028146,"CHAMBERS-HARDING (02)","CS0-008 ","CS0",245.07000732421901]
[6001024925,"REYNARD-PHILLIPS (02)","CS0-005 ","CS0",245]
[6001449575,"HILLVIEW-REYNARD (01)","CS0-005 ","CS0",244.94999694824199]
[6001031800,"SPRINGHALL-BELL (02)","CS0-002 ","CS0",244.88999938964801]
[6001025110,"HAWTHORN-REYNARD (03)","CS0-005 ","CS0",244.86999511718801]
[6001023343,"DE CARLE-BLAIR (03)","CS0-005 ","CS0",244.80000305175801]
[6001028228,"GLADSTONE-HARDING (01)","CS0-008 ","CS0",244.75]
[6001425947,"O'HEA-CUMBERLAND (03)","CS0-002 ","CS0",244.75]
[6001297225,"TANDERUM-MANNA GUM (04)","CS0-013 ","CS0",244.69000244140599]
[6001024965,"SHAFTSBURY-MORELAND (02)","CS0-005 ","CS0",244.60000610351599]
[6001543957,"ROGERS-ROSS (04)","CS0-013 ","CS0",244.57000732421901]
[6001028596,"ALVA-URQUHART (02)","CS0-003 ","CS0",244.5]
[6001541622,"ROGERS-ROSS (04)","CS0-013 ","CS0",244.5]
[6001033911,"WESTGATE-HATTER (02)","CS0-002 ","CS0",244.42999267578099]
[6001028830,"KEITH-URQUHART (02)","CS0-003 ","CS0",244.38000488281301]
[6001207347,"LOBB-BELL (01)","CS0-003 ","CS0",244.32000732421901]
[6001521445,"DAVERN-O'HEA (02)","CS0-002 ","CS0",244.30000305175801]
[6001040013,"DAVERN-O'HEA (02)","CS0-002 ","CS0",244.25999450683599]
[6001532568,"OLIVE-SYLVAN (02)","CS0-002 ","CS0",244.19999694824199]
[6001031989,"BREARLEY-BALMORAL (02)","CS0-002 ","CS0",244.13000488281301]
[6001032212,"MOASCAR-GALLIPOLI (03)","CS0-002 ","CS0",244.11999511718801]
[6001033701,"YORK- EASTGATE (01)","CS0-002 ","CS0",244.05999755859401]
[6001401275,"MOORE-DE CARLE (03)","CS0-005 ","CS0",244.00999450683599]
[6001258452,"DE CARLE-RENNIE (02)","CS0-005 ","CS0",243.94000244140599]
[6001310808,"MOASCAR-GALLIPOLI (01)","CS0-002 ","CS0",243.86999511718801]
[6001284968,"BOLINGBROKE-BURGUNDY (02)","CS0-002 ","CS0",243.86000061035199]
[6001533154,"WESTGATE-HATTER (01)","CS0-002 ","CS0",243.80000305175801]
[6001405810,"GLADSTONE-HARDING (01)","CS0-008 ","CS0",243.72999572753901]
[6001249469,"DAVERN-O'HEA (01)","CS0-002 ","CS0",243.669998168945]
[6001035035,"SOUDAN-HIGH (01)","CS0-002 ","CS0",243.66000366210901]
[6001040222,"BOLINGBROKE-BURGUNDY (01)","CS0-002 ","CS0",243.58999633789099]
[6001023610,"GLENGYLE-NICHOLSON (03)","CS0-009 ","CS0",243.5]
[6001095638,"MITCHELL-OAKOVER (02)","CS0-008 ","CS0",243.419998168945]
[6001034540,"HUDSON-BELL (02)","CS0-013 ","CS0",243.39999389648401]
[6001034061,"WARATAH-DERBY (01)","CS0-002 ","CS0",243.30000305175801]
[6001030436,"RUSSELL-BELL NO 2 (04)","CS0-003 ","CS0",243.19000244140599]
[6001243269,"RUSSELL-BELL NO 2 (01)","CS0-003 ","CS0",243.11000061035199]
[6001023730,"GLENGYLE-BARROW (01)","CS0-009 ","CS0",242.97999572753901]
[6001028753,"HUTCHINSON-NICHOLSON (01)","CS0-008 ","CS0",242.96000671386699]
[6001027757,"RICHARDS-BELL (02)","CS0-008 ","CS0",242.82000732421901]
[6001630015,"DROMANA-GAFFNEY (01)","CS0-002 ","CS0",242.69999694824199]
[6001093962,"GRANGE-CRAMER (01)","CS0-003 ","CS0",242.60000610351599]
[6001033356,"RUSSELL-BELL NO 2 (04)","CS0-003 ","CS0",242.52000427246099]
[6001039768,"BOLINGBROKE-CUMBERLAND (02)","CS0-002 ","CS0",242.36000061035199]
[6001023621,"GLENGYLE-NICHOLSON (03)","CS0-009 ","CS0",242.17999267578099]
[6001207888,"RUSSELL-BELL NO 2 (02)","CS0-003 ","CS0",241.97999572753901]
[6001030450,"WATERFIELD 12-BELL (02)","CS0-003 ","CS0",241.92999267578099]
[6001262842,"REYNARD-DONNE (01)","CS0-005 ","CS0",241.69999694824199]
[6001033646,"BOLINGBROKE-BURGUNDY (02)","CS0-002 ","CS0",241.53999328613301]
[6001031558,"BRUCE-REYNARD (02)","CS0-005 ","CS0",241.28999328613301]
[6001402018,"CARR-NEWLANDS (01)","CS0-013 ","CS0",241.24000549316401]
[6001327755,"MERCIER-CHARLES (02)","CS0-012 ","CS0",241.05000305175801]
[6001026010,"WALHALLA-MORELAND (01)","CS0-005 ","CS0",240.83999633789099]
[6001404302,"MERCIER-CHARLES (02)","CS0-012 ","CS0",240.61999511718801]
[6001263139,"LOCH-REYNARDS (02)","CS0-005 ","CS0",240.55000305175801]
[6001029447,"CARR-NEWLANDS (04)","CS0-013 ","CS0",240.36999511718801]
[6001268313,"LEVER-GORDON (01)","CS0-005 ","CS0",240.19999694824199]
[6001303791,"BELL 14-ARMSTEAD (01)","CS0-003 ","CS0",240.05000305175801]
[6001033330,"WELLINGTON-VICTORIA (01)","CS0-002 ","CS0",239.88000488281301]
[6001429385,"GILBERT-BURGESS (01)","CS0-008 ","CS0",239.86000061035199]
[6001420927,"EDDIE-CUMBERLAND (02)","CS0-002 ","CS0",239.69999694824199]
[6001224576,"EDWARD-CASH (01)","CS0-009 ","CS0",239.52000427246099]
[6001025549,"REYNARD-ROYAL (02)","CS0-005 ","CS0",239.39999389648401]
[6001002189,"LENS-GAFFNEY (03)","CS0-012 ","CS0",239.38000488281301]
[6001094017,"MOUNT-BELL (01)","CS0-003 ","CS0",239.25999450683599]
[6001484145,"CAMDON-NORTON (01)","CS0-002 ","CS0",239.13000488281301]
[6001303765,"STOCKADE-SENTRY (02)","CS0-013 ","CS0",239]
[6001028987,"SYDNEY-MURRAY (04)","CS0-013 ","CS0",238.89999389648401]
[6001029825,"CARR-NEWLANDS (03)","CS0-013 ","CS0",238.830001831055]
[6001402134,"PROSPECT-CUMBERLAND (03)","CS0-002 ","CS0",238.69000244140599]
[6001036159,"AUTUMN-GAFFNEY (02)","CS0-012 ","CS0",238.50999450683599]
[6001033301,"WELLINGTON-VICTORIA (01)","CS0-002 ","CS0",238.32000732421901]
[6001545552,"COBURG-RENNIE (04)","CS0-009 ","CS0",238.30000305175801]
[6001004503,"ATTERCLIFFE-SUSSEX (02)","CS0-012 ","CS0",238.05000305175801]
[6001033431,"SHACKELL-BELL (03)","CS0-002 ","CS0",237.86999511718801]
[6001543920,"WHATMORE-MOONERING (92)","CS0-013 ","CS0",237.5]
[6001038117,"GOFF-ELIZABETH (01)","CS0-003 ","CS0",237.41000366210901]
[6001031634,"BREARLEY-ROSE (01)","CS0-002 ","CS0",236.75]
[6001095062,"CRAMER-FORD (01)","CS0-003 ","CS0",234.11000061035199]
[6001230040,"BOND-LIBERTY (02)","EP0-034 ","EP0",249.25999450683599]
[6001549023,"ALBERT 8-14 FOLEY (01)","EP0-035 ","EP0",249]
[6001224801,"BELLEVUE-SWANSTON (02)","EP0-027 ","EP0",247.75999450683599]
[6001299861,"BELL-QUINN (01)","EP0-033 ","EP0",246.38999938964801]
[6001113589,"RAGLAN-ASCOT (01)","EP0-037 ","EP0",245.86000061035199]
[6001068232,"BOND-ORIEL (02)","EP0-034 ","EP0",245.41000366210901]
[6001198501,"SUSSEX-NEWCASTLE (01)","EP0-037 ","EP0",245.35000610351599]
[6001067718,"ROSELAND-IVANHOE (03)","EP0-036 ","EP0",244.75999450683599]
[6001545180,"DALVEEN-JELLICOE (02)","EP0-034 ","EP0",244.60000610351599]
[6001318257,"ALBERT 28-RAGLAN (02)","EP0-037 ","EP0",244.32000732421901]
[6001114432,"BEECHER-DUNDAS 1 (02)","EP0-028 ","EP0",244.25999450683599]
[6001446233,"WATERDALE-BANKSIA (02)","EP0-036 ","EP0",243.94000244140599]
[6001423481,"DALVEEN-JELLICOE (01)","EP0-034 ","EP0",243.55000305175801]
[6001089837,"FORD-SPARKFORD (01)","EP0-034 ","EP0",243.08999633789099]
[6001089456,"ROSELAND-IVANHOE (02)","EP0-036 ","EP0",242.80000305175801]
[6001067830,"ROSELAND-IVANHOE (02)","EP0-036 ","EP0",242.55999755859401]
[6001294631,"JELLICOE-WATERDALE (02)","EP0-036 ","EP0",240.91000366210901]
[6001452857,"BANKSIA-LIBERTY (01)","EP0-034 ","EP0",239.50999450683599]
[6001481657,"LIBERTY-PERKINS (04)","EP0-034 ","EP0",238.94000244140599]
[6001407923,"WILKINSON-LIBERTY (03)","EP0-036 ","EP0",238.86999511718801]
[6001414681,"JELLICOE-OSNEY (01)","EP0-034 ","EP0",238.38000488281301]
[6001071042,"WILKINSON-LIBERTY (02)","EP0-036 ","EP0",237.63999938964801]
[6001067638,"LANTANA-IVANHOE (01)","EP0-036 ","EP0",236.55999755859401]
[6001619116,"ALBERT-ALFRED (01)","EP0-035 ","EP0",235.80000305175801]
[6001072008,"ALTONA-ORIEL (02)","EPN-033 ","EPN",253.94000244140599]
[6001318939,"LLOYD-MONASH (01)","EPN-033 ","EPN",253.05000305175801]
[6001230871,"RAMU-PACIFIC (01)","EPN-034 ","EPN",252.47000122070301]
[6001552077,"DOUGHARTY-MARKS (01)","EPN-033 ","EPN",252.30000305175801]
[6001076806,"KOLORA-ORTHLA (01)","EPN-034 ","EPN",251.99000549316401]
[6001089897,"MALACCA-WATERDALE (03)","EPN-033 ","EPN",251.580001831055]
[6001335405,"OUTHWAITE-MCEWAN (04)","EPN-033 ","EPN",251.17999267578099]
[6001072309,"ALTONA-KOKODA (03)","EPN-033 ","EPN",250.71000671386699]
[6001287831,"SETANI-OUTHWAITE (02)","EPN-033 ","EPN",250.61999511718801]
[6001433384,"KENNETH-GOWER (01)","EPN-035 ","EPN",249.77999877929699]
[6001027015,"QUINN-KIA (04)","EPN-031 ","EPN",249.46000671386699]
[6001076445,"ALTONA-KOKODA (02)","EPN-033 ","EPN",248.919998168945]
[6001033733,"QUINN-KIA (04)","EPN-031 ","EPN",248.80000305175801]
[6001269636,"COOMALIE-TOBRUK (01)","EPN-033 ","EPN",248.39999389648401]
[6001281076,"KATHLEEN-WOOD (01)","EPN-021 ","EPN",248.08999633789099]
[6001526954,"BAMFIELD-COLLINS (02)","EPN-033 ","EPN",247.80000305175801]
[6001232205,"RAMU-PACIFIC (03)","EPN-034 ","EPN",247.61999511718801]
[6001421225,"CULVERLANDS-VEAR NO2 (02)","EPN-034 ","EPN",247.52000427246099]
[6001284147,"MCEWAN-VERNON (02)","EPN-033 ","EPN",247.30000305175801]
[6001304326,"ASHE-O'KEEFE (01)","EPN-033 ","EPN",247.13000488281301]
[6001309153,"SHAKESPEARE-BAMFIELD (02)","EPN-033 ","EPN",246.94999694824199]
[6001311840,"OUTHWAITE-MCEWAN (02)","EPN-033 ","EPN",246.919998168945]
[6001077279,"PERTH-ALAMEIN (01)","EPN-034 ","EPN",246.74000549316401]
[6001302390,"MONASH-BONAR (02)","EPN-033 ","EPN",246.580001831055]
[6001558017,"SHAKESPEARE-BAMFIELD (01)","EPN-033 ","EPN",246.39999389648401]
[6001072725,"RAMU-ORIEL (01)","EPN-034 ","EPN",246.33999633789099]
[6001071377,"RAMU-PACIFIC (03)","EPN-034 ","EPN",246.14999389648401]
[6001305297,"ORIEL-TOBRUK (01)","EPN-033 ","EPN",245.97000122070301]
[6001436450,"SOUTHERN-WAIORA (02)","EPN-033 ","EPN",245.83999633789099]
[6001080973,"SOUTHERN-WAIORA (02)","EPN-033 ","EPN",245.53999328613301]
[6001430734,"SETANI-OUTHWAITE (01)","EPN-033 ","EPN",245.50999450683599]
[6001088981,"ALTONA-KOKODA (02)","EPN-033 ","EPN",245.32000732421901]
[6001326852,"DARVALL-WAIORA (02)","EPN-033 ","EPN",245.11999511718801]
[6001072762,"PERTH-ALAMEIN (01)","EPN-034 ","EPN",244.830001831055]
[6001237939,"KATHLEEN-WOOD (01)","EPN-021 ","EPN",244.77000427246099]
[6001222516,"WATERDALE-LLOYD (01)","EPN-033 ","EPN",243.63000488281301]
[6001112145,"CHIFLEY 97-MURRAY (01)","EPN-021 ","EPN",242.77000427246099]
[6001112148,"SHEILA-MURRAY (01)","EPN-021 ","EPN",241.25]
[6001478947,"PLUNKETT-O'KEEFE (02)","EPN-033 ","EPN",241.05999755859401]
[6001552637,"SHEEHAN 52-DOUGHARTY (03)","EPN-034 ","EPN",240]
[6001112471,"ALBERT-HARROW (02)","EPN-035 ","EPN",235.00999450683599]
[6001299236,"FORRESTER-HEDDERWICK (02)","ES0-015 ","ES0",253.44000244140599]
[6001163403,"DEAKIN-MARY (01)","ES0-021 ","ES0",252.88999938964801]
[6001135176,"HILLSIDE-HURTLE (01)","ES0-013 ","ES0",252.80999755859401]
[6001114781,"ARDMILLAN-MANTELL (01)","ES0-024 ","ES0",252.49000549316401]
[6001146189,"TILBA-BRUNEL (02)","ES0-023 ","ES0",252.25999450683599]
[6001134789,"THE PARADE-EPSOM (01)","ES0-013 ","ES0",252.05000305175801]
[6001164549,"KELVIN-ALBERT (01)","ES0-021 ","ES0",252.02000427246099]
[6001490620,"SPENCER-COOPER (02)","ES0-025 ","ES0",251.80000305175801]
[6001526679,"COOPER-KEILOR (02)","ES0-011 ","ES0",251.60000610351599]
[6001411477,"RETREAT-HAVEN (01)","ES0-022 ","ES0",251.39999389648401]
[6001401102,"RETREAT-HAVEN (04)","ES0-022 ","ES0",251.38000488281301]
[6001211714,"KELVIN-ALBERT (02)","ES0-021 ","ES0",251.22000122070301]
[6001007844,"LESLIE 17-RIVERVIEW (01)","ES0-015 ","ES0",251.07000732421901]
[6001549343,"MOUSHALL-HOFFMANS (02)","ES0-021 ","ES0",250.96000671386699]
[6001145425,"RIVERVIEW-LESLIE (01)","ES0-015 ","ES0",250.69999694824199]
[6001151051,"WINDSOR-BULLA (01)","ES0-025 ","ES0",250.67999267578099]
[6001144874,"FORRESTER-HEDDERWICK (03)","ES0-015 ","ES0",250.50999450683599]
[6001283433,"KEILOR-MC CULLOCH (02)","ES0-011 ","ES0",250.36000061035199]
[6001143502,"ROSE-BUCKLEY (01)","ES0-015 ","ES0",250.17999267578099]
[6001460546,"ROBERTS-MARKET (02)","ES0-025 ","ES0",250.14999389648401]
[6001228382,"LOCKE-PARK (01)","ES0-024 ","ES0",249.91000366210901]
[6001013292,"THE PARADE-EPSOM (02)","ES0-013 ","ES0",249.80999755859401]
[6001222962,"SPENCER-COOPER (04)","ES0-025 ","ES0",249.64999389648401]
[6001143743,"DAISY-BUCKLEY (01)","ES0-024 ","ES0",249.61000061035199]
[6001307654,"LINCOLN-QUEEN (03)","ES0-016 ","ES0",249.42999267578099]
[6001137544,"ATHOL-CANTERBURY (01)","ES0-023 ","ES0",249.25]
[6001214373,"TILBA-BRUNEL (01)","ES0-023 ","ES0",249.02999877929699]
[6001125246,"FLORENCE-LINCOLN (02)","ES0-016 ","ES0",248.80000305175801]
[6001138918,"GRANDVIEW-HOLMES (02)","ES0-024 ","ES0",248.77999877929699]
[6001136823,"EGLINTON-ARGYLE (01)","ES0-023 ","ES0",248.55999755859401]
[6001328443,"CLIFTON-JEAN (01)","ES0-012 ","ES0",248.38999938964801]
[6001455333,"JEAN-FAWKNER (03)","ES0-012 ","ES0",248.19999694824199]
[6001137579,"ATHOL-EDGAR (02)","ES0-023 ","ES0",248.10000610351599]
[6001138550,"SYDENHAM-HOLMES (03)","ES0-024 ","ES0",248]
[6001123174,"EPSOM-ST LEONARDS (02)","ES0-022 ","ES0",247.86000061035199]
[6001143890,"FORRESTER-HEDDERWICK (02)","ES0-015 ","ES0",247.72000122070301]
[6001146378,"NIMMO-BUCKLEY (02)","ES0-016 ","ES0",247.69999694824199]
[6001136515,"SCOTIA-MARIBYRNONG (02)","ES0-013 ","ES0",247.57000732421901]
[6001332664,"BURROWES-EPSOM (03)","ES0-022 ","ES0",247.46000671386699]
[6001165470,"FORRESTER-COOPER (03)","ES0-025 ","ES0",247.38999938964801]
[6001283958,"HAROLD-HURTLE (02)","ES0-013 ","ES0",247.25]
[6001320405,"GRAVES-MARKET (02)","ES0-011 ","ES0",247.22999572753901]
[6001384412,"MOUSHALL-HOFFMANS (02)","ES0-021 ","ES0",247.14999389648401]
[6001325437,"BUCKLEY-SCOTT (03)","ES0-024 ","ES0",247.05000305175801]
[6001007036,"FORRESTER-HEDDERWICK (03)","ES0-015 ","ES0",246.96000671386699]
[6001150403,"GREVILLE-KEILOR (02)","ES0-011 ","ES0",246.94999694824199]
[6001384413,"FORRESTER-COOPER (02)","ES0-025 ","ES0",246.86999511718801]
[6001347697,"FORRESTER-COOPER (02)","ES0-025 ","ES0",246.78999328613301]
[6001486117,"FORRESTER-COOPER (04)","ES0-025 ","ES0",246.69999694824199]
[6001146222,"JEAN-FAWKNER (02)","ES0-012 ","ES0",246.69000244140599]
[6001482390,"DUFFY-KEILOR (01)","ES0-011 ","ES0",246.60000610351599]
[6001216042,"DEAKIN-BUCKLEY (02)","ES0-021 ","ES0",246.52000427246099]
[6001257282,"BOWEN-HOLMES (01)","ES0-024 ","ES0",246.44000244140599]
[6001237329,"CUDMORE-MARKET (02)","ES0-026 ","ES0",246.36999511718801]
[6001449065,"FERGUSON-ROSEBERRY (04)","ES0-022 ","ES0",246.36000061035199]
[6001286376,"BUCKLEY-ABERDEEN (04)","ES0-024 ","ES0",246.28999328613301]
[6001165462,"FORRESTER-COOPER (04)","ES0-025 ","ES0",246.19999694824199]
[6001136706,"WAVERLEY-HOLMES (02)","ES0-013 ","ES0",246.13999938964801]
[6001288940,"WINCHESTER-LAURA (01)","ES0-023 ","ES0",246.10000610351599]
[6001234099,"LALUMA-MCCARRON (01)","ES0-016 ","ES0",246.05999755859401]
[6001141345,"MT ALEXANDER-STURT (03)","ES0-016 ","ES0",245.97999572753901]
[6001309802,"BURROWES-EPSOM (02)","ES0-022 ","ES0",245.91000366210901]
[6001487803,"MOUSHALL-NOLAN (02)","ES0-021 ","ES0",245.89999389648401]
[6001020185,"CLARINDA-PARK (02)","ES0-013 ","ES0",245.82000732421901]
[6001018421,"MADDEN-BULLA (04)","ES0-026 ","ES0",245.75999450683599]
[6001135392,"DONCASTER-MYROSS (03)","ES0-022 ","ES0",245.71000671386699]
[6001394166,"DERBY-YORK (01)","ES0-024 ","ES0",245.61000061035199]
[6001336031,"KING-MCCRACKEN (02)","ES0-026 ","ES0",245.60000610351599]
[6001138854,"BOWEN-HOLMES (01)","ES0-024 ","ES0",245.52000427246099]
[6001348011,"MADDEN-BULLA (03)","ES0-026 ","ES0",245.44999694824199]
[6001262105,"BULLA-DUBLIN (03)","ES0-025 ","ES0",245.36000061035199]
[6001145751,"PARK-COMBERMERE (02)","ES0-013 ","ES0",245.33999633789099]
[6001347132,"LALUMA-MCCARRON (01)","ES0-016 ","ES0",245.27000427246099]
[6001004094,"HOFFMANS-KEILOR (03)","ES0-021 ","ES0",245.169998168945]
[6001163180,"PROSPECT-BUCKLEY (01)","ES0-012 ","ES0",245.08999633789099]
[6001143285,"SHAMROCK-ROSE (03)","ES0-015 ","ES0",245.07000732421901]
[6001199526,"HOTHAM-MARIBYRNONG (01)","ES0-023 ","ES0",244.97999572753901]
[6001432144,"MILLER-ROSE (01)","ES0-015 ","ES0",244.86000061035199]
[6001139133,"JENNINGS-ARDMILLAN (02)","ES0-024 ","ES0",244.78999328613301]
[6001146294,"ARTHUR-FAWKNER (01)","ES0-023 ","ES0",244.77000427246099]
[6001144915,"MCCRACKEN-BUCKLEY (01)","ES0-024 ","ES0",244.66000366210901]
[6001139355,"SCOTT-PARK (01)","ES0-013 ","ES0",244.53999328613301]
[6001007883,"LINCOLN-QUEEN (02)","ES0-016 ","ES0",244.419998168945]
[6001015910,"SUSSEX-HOLMES (02)","ES0-024 ","ES0",244.28999328613301]
[6001004032,"OGILVIE-KEILOR (03)","ES0-011 ","ES0",244.19999694824199]
[6001271042,"HOTHAM-MARIBYRNONG (01)","ES0-023 ","ES0",244.11000061035199]
[6001218159,"BRADSHAW-MARY (03)","ES0-016 ","ES0",243.91000366210901]
[6001138811,"SUSSEX-HOLMES (02)","ES0-024 ","ES0",243.72000122070301]
[6001199356,"TREADWELL-DUDLEY (04)","ES0-011 ","ES0",243.69000244140599]
[6001491378,"PROSPECT-BUCKLEY (01)","ES0-012 ","ES0",243.39999389648401]
[6001143243,"LEAKE-RICHARDSON (03)","ES0-016 ","ES0",243.080001831055]
[6001143924,"SPENCER-ROBERTS (02)","ES0-025 ","ES0",242.50999450683599]
[6001139403,"JENNINGS-ARDMILLAN (02)","ES0-024 ","ES0",242.38000488281301]
[6001136373,"CHARLES-EPSOM (02)","ES0-022 ","ES0",241.42999267578099]
[6001013356,"FORRESTER-DEAKIN (04)","ES0-021 ","ES0",240.22000122070301]
[6001139260,"PARK-PENLEIGH (03)","ES0-015 ","ES0",238.80000305175801]
[6001014182,"BLACKWOOD-POWELL (04)","FE0-012 ","FE0",253.71000671386699]
[6001064185,"ANN-ERROL (04)","FE0-021 ","FE0",253.47999572753901]
[6001475429,"HAMILTON-O'FARRELL (01)","FE0-021 ","FE0",252.88000488281301]
[6001053477,"HAMILTON-O'FARRELL (02)","FE0-021 ","FE0",252.39999389648401]
[6001051724,"GREIG-THOMSON (02)","FE0-021 ","FE0",252.10000610351599]
[6001309035,"FRENCH-PAISLEY (04)","FE0-022 ","FE0",252.07000732421901]
[6001053438,"BLACKWOOD-POWELL (03)","FE0-012 ","FE0",251.830001831055]
[6001015779,"STIRLING-MOORE (01)","FE0-014 ","FE0",251.580001831055]
[6001050696,"FRENCH-PAISLEY (02)","FE0-022 ","FE0",251.46000671386699]
[6001219397,"ALBERT-TELECOM CO (03)","FE0-015 ","FE0",251.42999267578099]
[6001306182,"STEPHEN-BERRY (01)","FE0-021 ","FE0",251.27000427246099]
[6001049247,"ANN-ERROL (04)","FE0-021 ","FE0",251.11000061035199]
[6001592212,"ANN-ERROL (02)","FE0-021 ","FE0",251]
[6001054846,"FEHON-ANDERSON (03)","FE0-012 ","FE0",250.88000488281301]
[6001050577,"LYNCH-NICHOLSON (02)","FE0-014 ","FE0",250.80000305175801]
[6001256254,"WATT-THE AVENUE (03)","FE0-012 ","FE0",250.74000549316401]
[6001052450,"CHARLES-NORTH (02)","FE0-021 ","FE0",250.63000488281301]
[6001467114,"HYDE-KENT (02)","FE0-012 ","FE0",250.53999328613301]
[6001015332,"GREIG-THOMSON (02)","FE0-021 ","FE0",250.50999450683599]
[6001231526,"FRENCH-PAISLEY (02)","FE0-022 ","FE0",250.419998168945]
[6001257921,"FRENCH-PAISLEY (02)","FE0-022 ","FE0",250.35000610351599]
[6001049437,"KINNEAR-ELDRIDGE (02)","FE0-014 ","FE0",250.25999450683599]
[6001481448,"RYAN-MOORE (03)","FE0-022 ","FE0",250.25]
[6001346096,"WATT-THE AVENUE (02)","FE0-012 ","FE0",250.17999267578099]
[6001323229,"WATT-THE AVENUE (04)","FE0-012 ","FE0",250.10000610351599]
[6001054180,"O'FARRELL-WILLIAMSTOWN (03)","FE0-021 ","FE0",250.02999877929699]
[6001053923,"HYDE-PRINCESS (01)","FE0-014 ","FE0",250]
[6001050081,"BYRON-MOORE (02)","FE0-014 ","FE0",249.94000244140599]
[6001332363,"LENNOX-HYDE (03)","FE0-012 ","FE0",249.88000488281301]
[6001052159,"NICHOLSON-LYONS (03)","FE0-022 ","FE0",249.80000305175801]
[6001052326,"WALTER-ARRAN 2 (04)","FE0-022 ","FE0",249.72999572753901]
[6001052482,"GREER-NEWELL (02)","FE0-014 ","FE0",249.72000122070301]
[6001321635,"BUCKLEY-ARRAN (01)","FE0-022 ","FE0",249.66000366210901]
[6001065460,"PALMER-VIPONT (02)","FE0-014 ","FE0",249.55999755859401]
[6001055378,"JAMIESON-BALLARAT (03)","FE0-014 ","FE0",249.50999450683599]
[6001459512,"YORK-HYDE (02)","FE0-012 ","FE0",249.5]
[6001235416,"BALLARAT-JAMIESON NO1 (02)","FE0-014 ","FE0",249.42999267578099]
[6001010561,"ANDERSON-FEHON (03)","FE0-012 ","FE0",249.36000061035199]
[6001277235,"DAWSON-BALLARAT (02)","FE0-014 ","FE0",249.28999328613301]
[6001319478,"DAWSON-BALLARAT (02)","FE0-014 ","FE0",249.22000122070301]
[6001045574,"PALMER-VIPONT (01)","FE0-014 ","FE0",249.17999267578099]
[6001621058,"COWPER-WINGFIELD (04)","FE0-014 ","FE0",249.10000610351599]
[6001048210,"ESSEX-SWAN (02)","FE0-021 ","FE0",249]
[6001538766,"PICKETT-VICTORIA (01)","FE0-022 ","FE0",248.89999389648401]
[6001050713,"PICKETT-HUNTLEY (02)","FE0-022 ","FE0",248.88000488281301]
[6001319516,"DAWSON-BALLARAT (02)","FE0-014 ","FE0",248.75999450683599]
[6001054623,"STEPHEN-SCHILD (02)","FE0-012 ","FE0",248.64999389648401]
[6001544577,"FOGARTY-CRANBROOK (02)","FE0-012 ","FE0",248.5]
[6001058946,"WATT-THE AVENUE (02)","FE0-012 ","FE0",248.46000671386699]
[6001286988,"FEHON-SOMERVILLE (02)","FE0-012 ","FE0",248.32000732421901]
[6001065471,"CHAMBERS-LEEDS (01)","FE0-015 ","FE0",248.169998168945]
[6001051442,"STATION-GAMON (02)","FE0-021 ","FE0",247.96000671386699]
[6001054407,"BAYVIEW-SOMERVILLE (01)","FE0-012 ","FE0",247.83999633789099]
[6001064704,"BROWNING-GAMON (02)","FE0-021 ","FE0",247.61999511718801]
[6001323389,"CUMBERLAND-CORMORANT (05)","FE0-014 ","FE0",247.36000061035199]
[6001051833,"GREIG-THOMSON (01)","FE0-021 ","FE0",247.05999755859401]
[6001056083,"FOGARTY-CRANBROOK (01)","FE0-012 ","FE0",246.77000427246099]
[6001065985,"IRVING-NICHOLSON (03)","FE0-015 ","FE0",246.71000671386699]
[6001007435,"PAISLEY-VICTORIA (03)","FE0-022 ","FE0",246.41000366210901]
[6001050648,"IRVING-NICHOLSON (01)","FE0-015 ","FE0",246.25999450683599]
[6001059633,"WALTER-ARRAN 2 (02)","FE0-022 ","FE0",245.85000610351599]
[6001303322,"SPEARGRASS-HILLSDALE (01)","FE0-014 ","FE0",245.77999877929699]
[6001064237,"KINNEAR-EMPIRE 1 (02)","FE0-014 ","FE0",245.44999694824199]
[6001268699,"KINNEAR-EMPIRE 1 (01)","FE0-014 ","FE0",245.11999511718801]
[6001052033,"STATION-HAMILTON (01)","FE0-021 ","FE0",244.80000305175801]
[6001001801,"SCHILD-WILLIS (04)","FE0-012 ","FE0",244.53999328613301]
[6001232810,"KINNEAR-EMPIRE 1 (02)","FE0-014 ","FE0",244.419998168945]
[6001284505,"ALBERT-METRO WEST (00)","FE0-022 ","FE0",244.08999633789099]
[6001048896,"ALBERT-BARKLY (01)","FE0-022 ","FE0",243.69000244140599]
[6001336656,"REGATTA-WATERSIDE (03)","FE0-014 ","FE0",243.19000244140599]
[6001505802,"SCHILD-WILLIS (01)","FE0-012 ","FE0",243.10000610351599]
[6001054983,"WILLIS-SCHILD (04)","FE0-012 ","FE0",242.46000671386699]
[6001263068,"PARKER-COWPER (01)","FE0-014 ","FE0",239.24000549316401]
[6001261248,"JEFFREY-WESTGARTH (03)","FF0-089 ","FF0",254.30000305175801]
[6001332087,"ROWE-YARRALEA (00)","FF0-093 ","FF0",254.05000305175801]
[6001476705,"GILLIES-RAILWAY (03)","FF0-087 ","FF0",252.55999755859401]
[6001506059,"WATERDALE-UPPER HEIDELBERG (04)","FF0-090 ","FF0",251.60000610351599]
[6001200398,"PARKLANDS-KELVIN (01)","FF0-093 ","FF0",250.14999389648401]
[6001086060,"STATION-MITCHELL (02)","FF0-095 ","FF0",249.71000671386699]
[6001089313,"REX-COATE (02)","FF0-088 ","FF0",249.14999389648401]
[6001002778,"PARKVIEW-HEIDELBERG (01)","FF0-095 ","FF0",248.669998168945]
[6001448596,"BECKWITH-PARKVIEW (02)","FF0-083 ","FF0",248.36999511718801]
[6001596372,"PARKLANDS-KELVIN (01)","FF0-093 ","FF0",248.10000610351599]
[6001019742,"ARTHUR-HEIDELBERG (02)","FF0-088 ","FF0",248.03999328613301]
[6001007574,"DUDLEY-GREEN (02)","FF0-090 ","FF0",247.86999511718801]
[6001241122,"PARKLANDS-KELVIN (01)","FF0-093 ","FF0",247.61000061035199]
[6001077101,"ARTHUR-PARK (03)","FF0-088 ","FF0",247.419998168945]
[6001074264,"SEPARATION-FULHAM (01)","FF0-093 ","FF0",247.38999938964801]
[6001074120,"PERRY-GORDON (02)","FF0-095 ","FF0",247.19999694824199]
[6001351047,"REX-COATE (02)","FF0-088 ","FF0",247.02000427246099]
[6001077480,"ALPHINGTON-PARK (02)","FF0-088 ","FF0",246.83999633789099]
[6001446246,"STATION-HEIDELBERG (03)","FF0-087 ","FF0",246.69000244140599]
[6001074638,"ARTHUR-SEPARATION (02)","FF0-093 ","FF0",246.63000488281301]
[6001089950,"REX-COATE (02)","FF0-088 ","FF0",246.49000549316401]
[6001292256,"ARTHUR-SEPARATION (02)","FF0-093 ","FF0",246.35000610351599]
[6001125493,"GILLIES-MITCHELL (01)","FF0-087 ","FF0",246.21000671386699]
[6001328815,"AUSTIN 53-HEIDELBERG (03)","FF0-088 ","FF0",246.19000244140599]
[6001367495,"DARLING-WHITE (01)","FF0-095 ","FF0",246]
[6001443171,"DARLING-WHITE (01)","FF0-095 ","FF0",245.830001831055]
[6001074218,"DARLING-FULHAM (01)","FF0-095 ","FF0",245.57000732421901]
[6001420402,"DUNCAN-ARTHUR (01)","FF0-088 ","FF0",245.50999450683599]
[6001420397,"DUNCAN-ARTHUR (01)","FF0-088 ","FF0",245.11999511718801]
[6001275436,"MILES-LIVINGSTONE (02)","FF0-090 ","FF0",244.169998168945]
[6001326048,"GILLIES-DUNCAN (02)","FF0-087 ","FF0",242.22000122070301]
[6001075267,"YARRALEA-GIBSON (03)","FF0-095 ","FF0",241.55999755859401]
[6001016416,"FULHAM-WINGROVE (01)","FF0-095 ","FF0",240.97000122070301]
[6001522601,"BELMONT-LIVINGSTONE (02)","FF0-090 ","FF0",240.39999389648401]
[6001338108,"HEIDELBERG-WESTGARTH (03)","FF0-087 ","FF0",239.16000366210901]
[6001132942,"MILTON 9-MARIBYRNONG (03)","FT0-024 ","FT0",252.47999572753901]
[6001134249,"WINGATE-VASEY (02)","FT0-026 ","FT0",252.19999694824199]
[6001132725,"EAST-HARDING (01)","FT0-014 ","FT0",251.63999938964801]
[6001439276,"FERNHILL-BARODA (02)","FT0-014 ","FT0",251.169998168945]
[6001136605,"MARIBYRNONG 122-UNION (02)","FT0-026 ","FT0",250.82000732421901]
[6001295359,"ST LEONARDS-UNION (02)","FT0-026 ","FT0",250.77000427246099]
[6001405146,"ST LEONARDS-UNION (01)","FT0-026 ","FT0",250.42999267578099]
[6001130982,"DOVER-DARTFORD (01)","FT0-011 ","FT0",250.080001831055]
[6001324712,"FENTON-MYRNONG (01)","FT0-014 ","FT0",249.69999694824199]
[6001044114,"BRYANT 30-HILL (01)","FT0-031 ","FT0",249.330001831055]
[6001130731,"CHATHAM-CANTERBURY (02)","FT0-011 ","FT0",249.22000122070301]
[6001270903,"FARNHAM-FARNHAM (02)","FT0-031 ","FT0",248.91000366210901]
[6001131262,"WALTHAM-LEE (02)","FT0-011 ","FT0",248.67999267578099]
[6001131799,"BRYANT 30-HILL (01)","FT0-031 ","FT0",248.46000671386699]
[6001446688,"MOONEE-ASCOT VALE (01)","FT0-024 ","FT0",248.44000244140599]
[6001131106,"WALTHAM-LEE (01)","FT0-011 ","FT0",248.24000549316401]
[6001262126,"WALTHAM-LEE (01)","FT0-011 ","FT0",248.13999938964801]
[6001128438,"GOWER-MACAULAY (02)","FT0-035 ","FT0",248.00999450683599]
[6001346008,"HENRY-CLIFFORD (01)","FT0-035 ","FT0",248]
[6001313868,"ROXBURGH-ROTHWELL (01)","FT0-026 ","FT0",247.88999938964801]
[6001289932,"NEWMARKET-JEZABELL (02)","FT0-024 ","FT0",247.78999328613301]
[6001040801,"MORSHEAD-ASCOT (01)","FT0-015 ","FT0",247.71000671386699]
[6001231619,"DOVER-DARTFORD (01)","FT0-011 ","FT0",247.60000610351599]
[6001127918,"HARDIMAN-ALBERMARLE (02)","FT0-032 ","FT0",247.580001831055]
[6001317416,"EAST-NORTH (03)","FT0-014 ","FT0",247.5]
[6001130230,"HOLLAND-RACECOURSE 3 (03)","FT0-022 ","FT0",247.41000366210901]
[6001272952,"MERCANTILE-TANKARD (03)","FT0-021 ","FT0",247.33999633789099]
[6001010413,"STURDEE-ASCOT VALE (02)","FT0-026 ","FT0",247.32000732421901]
[6001240458,"MORSHEAD-ASCOT (01)","FT0-015 ","FT0",247.27000427246099]
[6001130049,"HOLLAND-RACECOURSE 4 (02)","FT0-022 ","FT0",247.17999267578099]
[6001309185,"SANDOWN-ASCOT VALE (02)","FT0-011 ","FT0",247.11000061035199]
[6001307908,"SMITH-STUBBS (01)","FT0-022 ","FT0",247.10000610351599]
[6001133176,"EAST-NORTH (01)","FT0-014 ","FT0",247.02000427246099]
[6001255937,"MERCANTILE-TANKARD (04)","FT0-021 ","FT0",246.96000671386699]
[6001246576,"FRANCIS-ASCOT VALE (02)","FT0-026 ","FT0",246.88999938964801]
[6001128165,"ORMOND-DERBY NO.2 (03)","FT0-021 ","FT0",246.830001831055]
[6001138016,"PATTISON-VINE (01)","FT0-014 ","FT0",246.82000732421901]
[6001012431,"NOTTINGHAM-RACECOURSE (01)","FT0-031 ","FT0",246.75]
[6001273766,"PRIDHAM-RACECOURSE (01)","FT0-026 ","FT0",246.69000244140599]
[6001015540,"MACAULAY-KENSINGTON (04)","FT0-035 ","FT0",246.61000061035199]
[6001229400,"MERCANTILE-TANKARD (02)","FT0-021 ","FT0",246.60000610351599]
[6001300851,"ANDERSON-MONASH (04)","FT0-016 ","FT0",246.50999450683599]
[6001253821,"EASTWOOD-RACECOURSE (04)","FT0-026 ","FT0",246.44999694824199]
[6001478405,"NOTTINGHAM-RACECOURSE (01)","FT0-031 ","FT0",246.38000488281301]
[6001130263,"PRIDHAM-RACECOURSE (03)","FT0-026 ","FT0",246.36000061035199]
[6001263808,"GOWER-MACAULAY (01)","FT0-035 ","FT0",246.27000427246099]
[6001012552,"AYR-KENT (01)","FT0-014 ","FT0",246.169998168945]
[6001130390,"CROWN-EDINBURGH (01)","FT0-024 ","FT0",246.10000610351599]
[6001132433,"WARRICK-MT ALEXANDER 484 (01)","FT0-014 ","FT0",246.05999755859401]
[6001128033,"GOWER-MACAULAY (04)","FT0-035 ","FT0",245.96000671386699]
[6001022144,"CANTERBURY-ASCOT VALE (02)","FT0-024 ","FT0",245.83999633789099]
[6001025112,"KENSINGTON-ALTONA (01)","FT0-021 ","FT0",245.71000671386699]
[6001282791,"STEELE-STUART (03)","FT0-014 ","FT0",245.580001831055]
[6001130208,"HOLLAND-RACECOURSE 3 (03)","FT0-022 ","FT0",245.53999328613301]
[6001131741,"VICTORIA-MT ALEXANDER (01)","FT0-022 ","FT0",245.419998168945]
[6001242330,"NOTTINGHAM-RACECOURSE (03)","FT0-031 ","FT0",245.22000122070301]
[6001329071,"VICTORIA-MT ALEXANDER (01)","FT0-022 ","FT0",245.07000732421901]
[6001257705,"MERCANTILE-TANKARD (04)","FT0-021 ","FT0",245.02999877929699]
[6001014826,"FLEMINGTON-BUCKLAND (02)","FT0-031 ","FT0",244.80000305175801]
[6001128209,"ORMOND-DERBY (02)","FT0-021 ","FT0",244.55999755859401]
[6001208626,"STEELE-STUART (03)","FT0-014 ","FT0",244.24000549316401]
[6001221970,"RACECOURSE-NEWMARKET (00)","FT0-016 ","FT0",244.22000122070301]
[6001137839,"ELIZABETH-ASCOT VALE (01)","FT0-024 ","FT0",243.88999938964801]
[6001138271,"STEELE-STUART (01)","FT0-014 ","FT0",243.13000488281301]
[6001311975,"HAMPDEN-CLIFFORD (02)","FT0-035 ","FT0",242.36000061035199]
[6001458112,"NOTTINGHAM-RACECOURSE NO2 (06)","FT0-031 ","FT0",241.669998168945]
[6001296568,"HAMPDEN-CLIFFORD (01)","FT0-035 ","FT0",241.38000488281301]
[6001217051,"CROWN-ILLAWARRA (02)","FT0-024 ","FT0",241.13999938964801]
[6001326823,"HAMPDEN-CLIFFORD (06)","FT0-035 ","FT0",240.669998168945]
[6001246277,"FLEMINGTON-MT ALEXANDER (02)","FT0-031 ","FT0",240.00999450683599]
[6001217076,"CROWN-ILLAWARRA (02)","FT0-024 ","FT0",239.88999938964801]
[6001129064,"ANTHONY-BELLAIR (01)","FT0-024 ","FT0",237.169998168945]
[6001018982,"WEBB-CORONATION (03)","FW0-008 ","FW0",252.77999877929699]
[6001258280,"RUSSELL-BARKLY (02)","FW0-017 ","FW0",251.10000610351599]
[6001324618,"FIRST-BARKLY (02)","FW0-016 ","FW0",250.60000610351599]
[6001482590,"EXPORT 30-FRANCIS (03)","FW0-006 ","FW0",249.94000244140599]
[6001056371,"WEBB-CORONATION (03)","FW0-008 ","FW0",249.55000305175801]
[6001443689,"CONIFER-PRIMULA (03)","FW0-006 ","FW0",249.21000671386699]
[6001460607,"ALOHA-GREENE (02)","FW0-005 ","FW0",248.89999389648401]
[6001330909,"ALOHA-GREENE (04)","FW0-005 ","FW0",248.82000732421901]
[6001055310,"BEAUMONT-ROBERTS (02)","FW0-016 ","FW0",248.60000610351599]
[6001293569,"FIRST-BARKLY (02)","FW0-016 ","FW0",248.39999389648401]
[6001296440,"ALOHA-GREENE (04)","FW0-005 ","FW0",248.24000549316401]
[6001064556,"ALMA-PALMERSTON (01)","FW0-016 ","FW0",248.21000671386699]
[6001344044,"BABB-SONLEY (01)","FW0-017 ","FW0",248.07000732421901]
[6001410743,"RICHELIEU-ESSEX (01)","FW0-016 ","FW0",247.94999694824199]
[6001012247,"CHATFIELD-KINGSVILLE (01)","FW0-008 ","FW0",247.80000305175801]
[6001057182,"HANSEN-GLAMIS (01)","FW0-008 ","FW0",247.80000305175801]
[6001526499,"HIGH-WILLIAMSTOWN No. 2 (03)","FW0-008 ","FW0",247.69999694824199]
[6001059496,"DICKSON-WILLIAMSTOWN (03)","FW0-008 ","FW0",247.58999633789099]
[6001047067,"STANHOPE-ELPHINSTONE (01)","FW0-016 ","FW0",247.49000549316401]
[6001061737,"MADDEN-STUDLEY (02)","FW0-017 ","FW0",247.38999938964801]
[6001347466,"ALMA-PALMERSTON (01)","FW0-016 ","FW0",247.30999755859401]
[6001293949,"EAMES-CYPRESS (01)","FW0-006 ","FW0",247.27000427246099]
[6001046367,"NEIL-BARKLY (01)","FW0-016 ","FW0",247.17999267578099]
[6001489472,"GEELONG-MILLERS (02)","FW0-005 ","FW0",247.10000610351599]
[6001059414,"WEBB-CORONATION (02)","FW0-008 ","FW0",247.08999633789099]
[6001250353,"STANHOPE-ELPHINSTONE (02)","FW0-016 ","FW0",247.00999450683599]
[6001236133,"ALMA-PALMERSTON (01)","FW0-016 ","FW0",246.94000244140599]
[6001046367,"NEIL-BARKLY (01)","FW0-016 ","FW0",246.88999938964801]
[6001047032,"STANHOPE-ELPHINSTONE (01)","FW0-016 ","FW0",246.85000610351599]
[6001331861,"HAWKHURST-FRANCIS (02)","FW0-013 ","FW0",246.78999328613301]
[6001346816,"CROSS-WARLEIGH (01)","FW0-008 ","FW0",246.71000671386699]
[6001287194,"BEAUMONT-ROBERTS (02)","FW0-016 ","FW0",246.63999938964801]
[6001257779,"CHATFIELD-BISHOP (02)","FW0-008 ","FW0",246.57000732421901]
[6001329895,"SCULLIN-DEAKIN (01)","FW0-017 ","FW0",246.55000305175801]
[6001046504,"ARGYLE-BROAD (02)","FW0-016 ","FW0",246.47999572753901]
[6001045986,"ALMA-PALMERSTON (01)","FW0-016 ","FW0",246.39999389648401]
[6001296678,"RICHELIEU-SUFFOLK (02)","FW0-017 ","FW0",246.33999633789099]
[6001469366,"EAMES-CYPRESS (02)","FW0-006 ","FW0",246.330001831055]
[6001371645,"BABB-SONLEY (03)","FW0-017 ","FW0",246.25]
[6001284377,"RICHELIEU-JACKSON (01)","FW0-017 ","FW0",246.19999694824199]
[6001064439,"SUMMERHILL-ESSEX (03)","FW0-017 ","FW0",246.080001831055]
[6001336823,"HEWITT-McDOUGALL (02)","FW0-017 ","FW0",246.05999755859401]
[6001235058,"STEEL-THE AVENUE (03)","FW0-005 ","FW0",245.96000671386699]
[6001046763,"GOVAN-STANLAKE (01)","FW0-017 ","FW0",245.86000061035199]
[6001278039,"GEELONG-BURGESS (02)","FW0-006 ","FW0",245.74000549316401]
[6001377452,"SOUTER-BEAUREPAIRE (05)","FW0-017 ","FW0",245.61999511718801]
[6001062103,"RICHELIEU-JACKSON (01)","FW0-017 ","FW0",245.52999877929699]
[6001048404,"SUFFOLK-THOMSON (02)","FW0-017 ","FW0",245.47000122070301]
[6001060482,"HIGH-WILLIAMSTOWN No. 2 (01)","FW0-008 ","FW0",245.330001831055]
[6001058043,"BRUNEL-TRUMAN (02)","FW0-005 ","FW0",245.17999267578099]
[6001046293,"RUSSELL-BARKLY (01)","FW0-017 ","FW0",245.14999389648401]
[6001058422,"BRUNEL-TRUMAN (01)","FW0-005 ","FW0",244.94999694824199]
[6001241281,"BRUNEL-TRUMAN (01)","FW0-005 ","FW0",244.72999572753901]
[6001237302,"STEEL-THE AVENUE (03)","FW0-005 ","FW0",244.5]
[6001392030,"STANLAKE-ELEANOR (01)","FW0-017 ","FW0",244.44000244140599]
[6001480051,"BARKLY-ELEANOR (01)","FW0-008 ","FW0",244.10000610351599]
[6001412654,"STEEL-THE AVENUE (02)","FW0-005 ","FW0",243.61999511718801]
[6001058584,"HIGH-SEVERN (02)","FW0-008 ","FW0",243.11999511718801]
[6001221847,"KINGSTON-WILLIAMSTOWN (02)","FW0-008 ","FW0",242.67999267578099]
[6001019898,"ALBION-GEELONG (02)","FW0-008 ","FW0",242.52999877929699]
[6001470068,"HEATHER-CYPRESS (02)","FW0-006 ","FW0",242.22000122070301]
[6001526502,"HIGH-WILLIAMSTOWN No. 2 (03)","FW0-008 ","FW0",241.89999389648401]
[6001015916,"HEATHER-CYPRESS (02)","FW0-006 ","FW0",241.60000610351599]
[6001244305,"BEAUMONT-WARATAH (03)","FW0-016 ","FW0",241.55999755859401]
[6001008033,"HEATHER-CYPRESS (02)","FW0-006 ","FW0",241.25999450683599]
[6001620142,"SEVERN-SOMERVILLE (03)","FW0-008 ","FW0",241.10000610351599]
[6001064505,"BLANDFORD-ESSEX (02)","FW0-017 ","FW0",240.580001831055]
[6001058652,"SOMERVILLE-JULIAN (02)","FW0-008 ","FW0",240.49000549316401]
[6001014666,"BLANDFORD-ESSEX (02)","FW0-017 ","FW0",239.97000122070301]
[6001448185,"ROBBS-DARWIN (02)","FW0-008 ","FW0",238.58999633789099]
[6001078633,"FINN-HAUGHTON (03)","HB0-023 ","HB0",252.22000122070301]
[6001075644,"LOWER HEIDELBERG-DEVON (01)","HB0-015 ","HB0",251.42999267578099]
[6001069754,"CHARTERIS-WARNCLIFFE (01)","HB0-024 ","HB0",251.11000061035199]
[6001086425,"BROWN-CAPE (02)","HB0-032 ","HB0",250.97000122070301]
[6001254281,"BROWN-CAPE (03)","HB0-032 ","HB0",250.72999572753901]
[6001067217,"STUDLEY-CARN (01)","HB0-021 ","HB0",250.52000427246099]
[6001428286,"HAWDON-DURHAM (01)","HB0-014 ","HB0",250.5]
[6001087732,"BROWN-ROSANNA (03)","HB0-032 ","HB0",250.330001831055]
[6001574252,"WAMBA-THE BOULEVARD (02)","HB0-024 ","HB0",250.19999694824199]
[6001075983,"WILFRED-LOWER HEIDELBERG (02)","HB0-024 ","HB0",250.07000732421901]
[6001250241,"BROWN-CAPE (03)","HB0-032 ","HB0",250.05000305175801]
[6001079159,"MOUNT-YARRA (02)","HB0-031 ","HB0",249.919998168945]
[6001446914,"HOPETOUN-MENZIE (01)","HB0-014 ","HB0",249.80999755859401]
[6001538085,"WILFRED-LOWER HEIDELBERG (02)","HB0-024 ","HB0",249.69999694824199]
[6001073147,"CASTLE-HAWDON (01)","HB0-014 ","HB0",249.63999938964801]
[6001414929,"HEIDELBERG-KINGSLEY (01)","HB0-021 ","HB0",249.580001831055]
[6001070759,"MELCOMBE-OXFORD (01)","HB0-022 ","HB0",249.47000122070301]
[6001228607,"CASTLE-HAWDON (02)","HB0-014 ","HB0",249.38000488281301]
[6001269557,"YARRA-HAWDON (02)","HB0-031 ","HB0",249.27999877929699]
[6001448114,"HOPETOUN-MENZIE (01)","HB0-014 ","HB0",249.25999450683599]
[6001252939,"HAWDON 96-BURGUNDY (02)","HB0-031 ","HB0",249.16000366210901]
[6001087074,"WAMBA-THE BOULEVARD (03)","HB0-024 ","HB0",249.08999633789099]
[6001012031,"FINN-HAUGHTON (02)","HB0-023 ","HB0",248.94000244140599]
[6001342922,"WILFRED-LOWER HEIDELBERG (03)","HB0-024 ","HB0",248.92999267578099]
[6001067696,"MELCOMBE-OXFORD (01)","HB0-022 ","HB0",248.80999755859401]
[6001250802,"THE BOULEVARD-GILBERT (01)","HB0-024 ","HB0",248.71000671386699]
[6001020305,"DORSET-BERKELEY (02)","HB0-023 ","HB0",248.580001831055]
[6001303300,"CHARTERIS-BURKE (01)","HB0-024 ","HB0",248.46000671386699]
[6001269360,"ORMOND-MENZIE (01)","HB0-015 ","HB0",248.41000366210901]
[6001078617,"HAUGHTON-GREVILLE (01)","HB0-023 ","HB0",248.27000427246099]
[6001484964,"THE BOULEVARD-GILBERT (01)","HB0-024 ","HB0",248.10000610351599]
[6001514733,"HAWDON 96-BURGUNDY (04)","HB0-031 ","HB0",247.89999389648401]
[6001420007,"THE BOULEVARD-GILBERT (01)","HB0-024 ","HB0",247.86999511718801]
[6001067545,"MARSHALL-SHERWOOD (02)","HB0-021 ","HB0",247.63000488281301]
[6001089213,"WATERDALE-NORMAN (04)","HB0-014 ","HB0",247.35000610351599]
[6001340190,"LONGSTAFF-STREETON (02)","HB0-024 ","HB0",247.080001831055]
[6001341572,"BURGUNDY-ROSANNA (02)","HB0-032 ","HB0",247.02000427246099]
[6001240630,"WATERDALE-NORMAN (01)","HB0-014 ","HB0",246.74000549316401]
[6001086799,"WATERDALE-THE BOULEVARD (03)","HB0-015 ","HB0",246.44999694824199]
[6001460081,"RAVENSWOOD-LWR HBERG (02)","HB0-015 ","HB0",246.17999267578099]
[6001333451,"CLIFTON-WATERDALE (01)","HB0-022 ","HB0",246.05000305175801]
[6001066755,"THE RIGHI-CASTLE (01)","HB0-022 ","HB0",245.89999389648401]
[6001089215,"SHERWOOD-THORESBY (02)","HB0-014 ","HB0",245.669998168945]
[6001413500,"BURGUNDY-ROSANNA (02)","HB0-032 ","HB0",245.46000671386699]
[6001067518,"SHERWOOD-THORESBY (02)","HB0-014 ","HB0",245.22000122070301]
[6001086710,"CAPE-BURGUNDY (02)","HB0-031 ","HB0",245.19000244140599]
[6001252426,"PINE-MARSHALL (01)","HB0-015 ","HB0",244.94999694824199]
[6001240710,"MOUNT-DEVON (01)","HB0-014 ","HB0",244.75]
[6001236910,"BANKSIA-LOWER HEIDELBERG (01)","HB0-014 ","HB0",244.330001831055]
[6001456265,"CARTMELL-CAPE (04)","HB0-031 ","HB0",244.25]
[6001079166,"MOUNT 87-YARRA (02)","HB0-031 ","HB0",243.91000366210901]
[6001569321,"ABBOTSFORD-59 UPP H'BERG (01)","HB0-021 ","HB0",243.60000610351599]
[6001069476,"KEAM-STREETON (02)","HB0-024 ","HB0",243.19999694824199]
[6001069875,"CARMICHAEL-LOWER HEIDELBERG (01)","HB0-015 ","HB0",242.830001831055]
[6001066639,"THE BOULEVARD-NEVILLE (02)","HB0-024 ","HB0",242.69999694824199]
[6001491093,"CAPE-DAREBIN (03)","HB0-031 ","HB0",242.080001831055]
[6001237926,"ASHBY-LOCKSLEY (02)","HB0-014 ","HB0",241.27999877929699]
[6001237248,"WATERDALE-NORMAN (01)","HB0-014 ","HB0",236.53999328613301]
[6001452340,"STRAUN-INKERMAN (02)","KLO-013 ","KLO",249.89999389648401]
[6001457332,"LATCHFORD-OXBOW (04)","KLO-013 ","KLO",248.89999389648401]
[6001544791,"HALLRAY-ENGLISH (01)","KLO-021 ","KLO",248.80000305175801]
[6001327306,"POUND-PERISHER (03)","KLO-022 ","KLO",248.61999511718801]
[6001441695,"INKERMAN-FARADAY (04)","KLO-013 ","KLO",248.60000610351599]
[6001478239,"BATABA-ROSEHILL (03)","KLO-013 ","KLO",248.5]
[6001428101,"HARFIELD-BETHANY (01)","KLO-013 ","KLO",248.38999938964801]
[6001430527,"DORCAS-BENDIGO (05)","KLO-013 ","KLO",248.22000122070301]
[6001437782,"WESTLOCK-SELKIRK (04)","KLO-013 ","KLO",248.13999938964801]
[6001404282,"PEPPERTREE-LOUDON (01)","KLO-022 ","KLO",248.03999328613301]
[6001542472,"PARKSIDE-HIGHVIEW (04)","KLO-022 ","KLO",247.89999389648401]
[6001396858,"FEATHERPARK-HUNTINGTON (03)","KLO-022 ","KLO",247.75]
[6001441499,"INKERMAN-FARADAY (03)","KLO-013 ","KLO",247.60000610351599]
[6001475538,"WINKLER-TRIJENA (05)","KLO-013 ","KLO",247.60000610351599]
[6001340600,"BRIDGEHAVEN-HUMBER (04)","KLO-022 ","KLO",247.46000671386699]
[6001521227,"INKERMAN-FARADAY (02)","KLO-013 ","KLO",247.30000305175801]
[6001256184,"PARKSIDE-HIGHVIEW (01)","KLO-022 ","KLO",247.080001831055]
[6001333852,"POUND-PERISHER (01)","KLO-022 ","KLO",247.02999877929699]
[6001481476,"TRIFT-GREVILLEA (03)","KLO-022 ","KLO",246.80000305175801]
[6001481474,"TRIFT-GREVILLEA (03)","KLO-022 ","KLO",246.5]
[6001481533,"TRIFT-GREVILLEA (03)","KLO-022 ","KLO",246]
[6001447952,"DOCKER-FARADAY (01)","KLO-013 ","KLO",244.580001831055]
[6001516523,"BERGAMOT-MACADAMIA (01)","KLO-022 ","KLO",244.39999389648401]
[6001447587,"UPTHORPE-LITTLEWICK (03)","KLO-013 ","KLO",243.33999633789099]
[6001456469,"PAPRIKA-SALVIA (02)","KLO-013 ","KLO",243.10000610351599]
[6001475282,"SALISBURY-BLACKMORE (01)","KLO-013 ","KLO",243]
[6001505193,"BROOKFIELD-SUSTAINABLE (04)","KLO-022 ","KLO",243]
[6001543884,"DARWINA-WALLOWA (04)","KLO-022 ","KLO",242.89999389648401]
[6001456618,"PAPRIKA-SALVIA (02)","KLO-013 ","KLO",242.80000305175801]
[6001447429,"DAYBREAK-REVEILLE (04)","KLO-022 ","KLO",242.77000427246099]
[6001436023,"CARBERRY-ELLSCOTT (03)","KLO-013 ","KLO",242.74000549316401]
[6001505106,"JUSCELINA-HIGHLANDER (01)","KLO-022 ","KLO",242.69999694824199]
[6001418351,"NAPIER-CANNING (05)","KLO-013 ","KLO",242.60000610351599]
[6001418345,"NAPIER-CANNING (05)","KLO-013 ","KLO",242.580001831055]
[6001443495,"GRAND-HIGHLANDER (01)","KLO-022 ","KLO",242.52000427246099]
[6001486938,"GOSSIA-LOMATIA (01)","KLO-022 ","KLO",242.5]
[6001375441,"FALKLAND-SHAFTSBURY (03)","KLO-022 ","KLO",242.419998168945]
[6001371388,"MILLICENT-PENHALL (03)","KLO-022 ","KLO",242.38999938964801]
[6001420099,"BILBY-PAXTON (01)","KLO-022 ","KLO",242.30000305175801]
[6001475299,"SALISBURY-BLACKMORE (05)","KLO-013 ","KLO",242.30000305175801]
[6001385361,"NEBULA-BIRDSONG (01)","KLO-022 ","KLO",242.25]
[6001375262,"MILLICENT-GRAND (05)","KLO-022 ","KLO",242.17999267578099]
[6001409888,"TRILLIUM-PRIME (01)","KLO-022 ","KLO",242.10000610351599]
[6001469986,"NECTAR-TARRAGON (04)","KLO-013 ","KLO",242.10000610351599]
[6001391838,"TWILIGHT-MOONLIGHT (04)","KLO-022 ","KLO",242.02000427246099]
[6001448646,"DAYBREAK-HIGHLANDER (04)","KLO-022 ","KLO",241.97000122070301]
[6001384257,"TRILLIUM-PRIME (04)","KLO-022 ","KLO",241.919998168945]
[6001546069,"SEACOMBE-COOLANGATTA (02)","KLO-013 ","KLO",241.89999389648401]
[6001375811,"ESCAPADE-BANDICOOT (01)","KLO-022 ","KLO",241.80000305175801]
[6001305988,"ROYAL-YORKSHIRE (02)","KLO-022 ","KLO",241.74000549316401]
[6001543645,"DARWINIA-DRYLAND (01)","KLO-022 ","KLO",241.69999694824199]
[6001309065,"ROYAL-YORKSHIRE (03)","KLO-022 ","KLO",241.60000610351599]
[6001469891,"HAZEL-COCO (04)","KLO-013 ","KLO",241.60000610351599]
[6001430272,"WHITE LEAF-GOLDINGTON (03)","KLO-013 ","KLO",241.50999450683599]
[6001408303,"GREVILLEA-POLO (01)","KLO-022 ","KLO",241.49000549316401]
[6001466737,"GRAND-HIGHLANDER (03)","KLO-022 ","KLO",241.39999389648401]
[6001493127,"EREMAEA-BOWENIA (03)","KLO-022 ","KLO",241.39999389648401]
[6001443268,"KANGAROO-HIGHLANDER (04)","KLO-022 ","KLO",241.30000305175801]
[6001302282,"EARL-GRANGE (04)","KLO-022 ","KLO",241.22000122070301]
[6001375440,"FALKLAND-SHAFTSBURY (03)","KLO-022 ","KLO",241.14999389648401]
[6001410384,"BRADSHAW-MOOR PARK (05)","KLO-022 ","KLO",241.11000061035199]
[6001517345,"JOY-ROBIN (01)","KLO-013 ","KLO",241]
[6001291644,"MONARCH-EAGLEVIEW (02)","KLO-022 ","KLO",240.83999633789099]
[6001332261,"MONARCH-EAGLEVIEW (03)","KLO-022 ","KLO",240.63999938964801]
[6001266055,"EARL-GRANGE (02)","KLO-022 ","KLO",240.30000305175801]
[6001321816,"EARL-GRANGE (03)","KLO-022 ","KLO",240.21000671386699]
[6001300897,"SCARBOROUGH-WHITBY (01)","KLO-022 ","KLO",239.30000305175801]
[6001428880,"ALDERGROVE-ELLSCOTT (03)","KLO-013 ","KLO",237.02000427246099]
[6001418310,"ALDERGROVE-ELLSCOTT (05)","KLO-013 ","KLO",236.22999572753901]
[6001457268,"SCANDIA-ELLSCOTT (01)","KLO-013 ","KLO",236.10000610351599]
[6001446882,"NEWTON-CREVELLI (02)","NH0-016 ","NH0",254.669998168945]
[6001455363,"RUTHVEN-WAIORA (01)","NH0-009 ","NH0",252.30999755859401]
[6001086831,"GLENMORE-KINLOCK (04)","NH0-002 ","NH0",251.69000244140599]
[6001219934,"THE GRANGE-YALLAMBIE (03)","NH0-002 ","NH0",250.75]
[6001398755,"CREVILLI-SUMMERHILL (01)","NH0-016 ","NH0",250.05000305175801]
[6001228070,"BIRDWOOD-ABERDEEN (01)","NH0-002 ","NH0",249.52000427246099]
[6001081488,"UP H'BERG-ST HELLIER (01)","NH0-017 ","NH0",249.02999877929699]
[6001252713,"ST HELLIER-UP HEIDELBERG (01)","NH0-017 ","NH0",248.69000244140599]
[6001471302,"BIRDWOOD-ABERDEEN (01)","NH0-002 ","NH0",248.60000610351599]
[6001230400,"BIRDWOOD-ABERDEEN (03)","NH0-002 ","NH0",248.24000549316401]
[6001422376,"BIRDWOOD-ABERDEEN (01)","NH0-002 ","NH0",248.07000732421901]
[6001291463,"LOWER PLENTY-MOUNTVIEW (01)","NH0-017 ","NH0",247.830001831055]
[6001276381,"ARDEN-LOWER PLENTY (03)","NH0-020 ","NH0",247.78999328613301]
[6001089672,"LOWER PLENTY-ARTHUR STREETON (02)","NH0-002 ","NH0",247.50999450683599]
[6001486147,"STEANE-ALBERT (01)","NH0-016 ","NH0",247.30000305175801]
[6001088044,"LOWER PLENTY-MOUNTVIEW (02)","NH0-017 ","NH0",247.11000061035199]
[6001082997,"LOWER PLENTY-ARTHUR STREETON (01)","NH0-002 ","NH0",247.03999328613301]
[6001013576,"STANTON-THOMSON (02)","NH0-020 ","NH0",246.85000610351599]
[6001082549,"IRONBARK-RUTHERFORD (03)","NH0-002 ","NH0",246.64999389648401]
[6001110617,"BEATRICE-JENSEN (01)","NH0-016 ","NH0",246.47000122070301]
[6001545375,"CHALEYER-ASHTON (01)","NH0-016 ","NH0",246.30000305175801]
[6001221511,"WOOD-GREENBELT (02)","NH0-016 ","NH0",246.22000122070301]
[6001080017,"ARDEN-LOWER PLENTY (02)","NH0-020 ","NH0",246.07000732421901]
[6001537075,"EDWARD-GREENSBOROUGH (01)","NH0-002 ","NH0",245.89999389648401]
[6001110302,"CLINGIN-CREVELLI (03)","NH0-016 ","NH0",245.72000122070301]
[6001597159,"EDWARD-GREENSBOROUGH (01)","NH0-002 ","NH0",245.69999694824199]
[6001011041,"CLINGIN-CREVELLI (04)","NH0-016 ","NH0",245.50999450683599]
[6001222061,"TYLER-SESTON (01)","NH0-016 ","NH0",245.36000061035199]
[6001078711,"BERRIMA-ROSANNA (02)","NH0-020 ","NH0",245.28999328613301]
[6001501564,"CLINGIN-CREVELLI (02)","NH0-016 ","NH0",245.19000244140599]
[6001183711,"LINDSAY-TORBAY (01)","NH0-002 ","NH0",245.05999755859401]
[6001266164,"GOLF-FINLAYSON (01)","NH0-020 ","NH0",244.94000244140599]
[6001083412,"KENTWOOD-ALBANY (01)","NH0-002 ","NH0",244.83999633789099]
[6001234160,"MUNRO-ERSKINE (01)","NH0-008 ","NH0",244.75]
[6001255887,"THE GRANGE-YALLAMBIE (02)","NH0-002 ","NH0",244.67999267578099]
[6001034887,"ST JAMES-WOBURN (03)","NH0-017 ","NH0",244.63999938964801]
[6001086497,"TORBAY-HINKLER (04)","NH0-002 ","NH0",244.57000732421901]
[6001089777,"SMIKE-ASHTON (04)","NH0-002 ","NH0",244.49000549316401]
[6001079827,"ST JAMES-WOBURN (02)","NH0-017 ","NH0",244.47000122070301]
[6001561191,"CAPE-ST JAMES (03)","NH0-020 ","NH0",244.39999389648401]
[6001083955,"CHAPMAN-THOMSON (01)","NH0-020 ","NH0",244.32000732421901]
[6001390104,"SILK-LOWER PLENTY (01)","NH0-020 ","NH0",244.27000427246099]
[6001240311,"SILVERWATTLE-BUVELOT (02)","NH0-002 ","NH0",244.24000549316401]
[6001079890,"ST JAMES-WOBURN (04)","NH0-017 ","NH0",244.169998168945]
[6001235360,"MARTINS-KURANGA (03)","NH0-008 ","NH0",244.10000610351599]
[6001085131,"VON NIDA-FINLAYSON (02)","NH0-020 ","NH0",244.02999877929699]
[6001087176,"HENDERSONS-QUAMBY (01)","NH0-008 ","NH0",243.96000671386699]
[6001110059,"MCCOMAS-ALBERT (02)","NH0-016 ","NH0",243.92999267578099]
[6001012109,"SMIKE-ASHTON (03)","NH0-002 ","NH0",243.86999511718801]
[6001279954,"MARTINS-KURANGA (01)","NH0-008 ","NH0",243.80000305175801]
[6001086451,"ROBERN-ROSEBUD (02)","NH0-008 ","NH0",243.72000122070301]
[6001437746,"RUTHVEN-WAIORA (04)","NH0-009 ","NH0",243.71000671386699]
[6001026808,"HENDERSONS-QUAMBY (01)","NH0-008 ","NH0",243.63000488281301]
[6001086691,"HENDERSONS-QUAMBY (02)","NH0-008 ","NH0",243.55999755859401]
[6001089392,"HOOPER-DUNVEGAN (01)","NH0-002 ","NH0",243.52000427246099]
[6001079715,"RILL-OLIVE (02)","NH0-017 ","NH0",243.44999694824199]
[6001082263,"ROBERN-ROSEBUD (02)","NH0-008 ","NH0",243.36000061035199]
[6001321929,"UPPER HEIDELBERG-BELL (03)","NH0-017 ","NH0",243.25999450683599]
[6001088602,"WAIORA-DOUGHARTY (02)","NH0-005 ","NH0",243.13000488281301]
[6001086042,"WAIORA-DOUGHARTY (02)","NH0-005 ","NH0",243]
[6001083008,"KARDINIA-BINOWEE (01)","NH0-002 ","NH0",242.88999938964801]
[6001288792,"CASEY-MARTINS (01)","NH0-008 ","NH0",242.830001831055]
[6001083013,"YALLAMBIE-LOWER PLENTY (01)","NH0-002 ","NH0",242.63000488281301]
[6001082444,"RUTHERFORD-LILLIAN (02)","NH0-008 ","NH0",242.36000061035199]
[6001087447,"ELLESMERE-INVERMAY (04)","NH0-017 ","NH0",242.30999755859401]
[6001081640,"ROSANNA-ARDEN (02)","NH0-020 ","NH0",241.97000122070301]
[6001086208,"HOOPER-DUNVEGAN (01)","NH0-002 ","NH0",241.58999633789099]
[6001087238,"SHORT-DUNVEGAN (01)","NH0-002 ","NH0",240.97999572753901]
[6001281484,"ELLESMERE-INVERMAY (04)","NH0-017 ","NH0",240.67999267578099]
[6001122759,"CASTLETON 21-HAVILAH (02)","NH0-008 ","NH0",240.05000305175801]
[6001259543,"SHORT-DUNVEGAN (02)","NH0-002 ","NH0",239.46000671386699]
[6001414137,"INVERMAY-MT IDA (03)","NH0-017 ","NH0",239]
[6001079637,"WIMPORT-MARTIN (01)","NH0-017 ","NH0",238.669998168945]
[6001088735,"INVERMAY-MT IDA (01)","NH0-017 ","NH0",238.53999328613301]
[6001238306,"BURGUNDY-MARTIN (04)","NH0-017 ","NH0",238.35000610351599]
[6001079247,"HAWDON-BROWN (02)","NH0-017 ","NH0",238.08999633789099]
[6001244797,"CASTLETON 21-HAVILAH (01)","NH0-008 ","NH0",237.55999755859401]
[6001344302,"BURGUNDY-MARTIN (04)","NH0-017 ","NH0",237.41000366210901]
[6001087432,"BRASSEY-PYALONG (01)","NH0-020 ","NH0",233.97999572753901]
[6001137846,"GLADSTONE-ASCOT VALE (01)","NS0-011 ","NS0",257.739990234375]
[6001430059,"GLADSTONE-ASCOT VALE (05)","NS0-011 ","NS0",257.29000854492199]
[6001140468,"HUTCHESON-THE STRAND (01)","NS0-018 ","NS0",257.19000244140602]
[6001141856,"RALEIGH-HODDLE (00)","NS0-018 ","NS0",256.77999877929699]
[6001137624,"BROWNING-MOORE (01)","NS0-015 ","NS0",256.29998779296898]
[6001038055,"FULLER-SCHOFIELD (03)","NS0-016 ","NS0",255.97999572753901]
[6001139658,"HALL-MARGARET (02)","NS0-011 ","NS0",255.75]
[6001274991,"THOMAS-PASCOE VALE (02)","NS0-015 ","NS0",255.75]
[6001141083,"FULLER-SCHOFIELD (02)","NS0-016 ","NS0",255.52000427246099]
[6001142170,"HODDLE-FLETCHER (02)","NS0-018 ","NS0",255.36000061035199]
[6001151563,"JAMES-WILLIAMSON (01)","NS0-017 ","NS0",255.19999694824199]
[6001151949,"YORK-NAPIER (03)","NS0-014 ","NS0",255.17999267578099]
[6001142727,"FLETCHER-PASCOE VALE (01)","NS0-015 ","NS0",255.05000305175801]
[6001260668,"FANNY-SALISBURY (01)","NS0-012 ","NS0",254.89999389648401]
[6001485456,"PRATT-PUCKLE (06)","NS0-011 ","NS0",254.80000305175801]
[6001132930,"ASCOT VALE 259-REGENT (01)","NS0-011 ","NS0",254.77999877929699]
[6001141258,"GLEN-GLASS (02)","NS0-008 ","NS0",254.669998168945]
[6001152467,"HILLSYDE-LOEMAN (02)","NS0-014 ","NS0",254.57000732421901]
[6001151993,"GLENVIEW-UPLAND (01)","NS0-017 ","NS0",254.47999572753901]
[6001580239,"McPHERSON-KENNA (02)","NS0-009 ","NS0",254.39999389648401]
[6001418797,"WADHAM-MORELAND (03)","NS0-012 ","NS0",254.35000610351599]
[6001141735,"SHAFTESBURY-RALEIGH (01)","NS0-018 ","NS0",254.27999877929699]
[6001139773,"McPHERSON-KENNA (03)","NS0-009 ","NS0",254.19000244140599]
[6001141784,"BREWSTER-NAPIER (03)","NS0-007 ","NS0",254.10000610351599]
[6001537090,"HUTCHESON-BUCKLEY (04)","NS0-018 ","NS0",254.10000610351599]
[6001142893,"LAWSON-KENDALL (02)","NS0-012 ","NS0",254]
[6001012253,"BREWSTER-PASCOE VALE (03)","NS0-016 ","NS0",253.94000244140599]
[6001140384,"MURRAY-PASCOE VALE (03)","NS0-015 ","NS0",253.83999633789099]
[6001419735,"LAWSON-KENDALL (02)","NS0-012 ","NS0",253.830001831055]
[6001151199,"CRANWELL-CARNARVON (04)","NS0-016 ","NS0",253.75]
[6001143603,"FIELD-GRANDISON (03)","NS0-007 ","NS0",253.67999267578099]
[6001138542,"MOORE-PUCKLE (04)","NS0-011 ","NS0",253.58999633789099]
[6001198893,"NICHOLSON-FLETCHER (01)","NS0-007 ","NS0",253.5]
[6001026490,"WADHAM-MORELAND (03)","NS0-012 ","NS0",253.42999267578099]
[6001349097,"MARKS-YORK (01)","NS0-014 ","NS0",253.39999389648401]
[6001411948,"MOORE-PUCKLE (01)","NS0-011 ","NS0",253.30999755859401]
[6001345625,"RALEIGH 87-NAPIER (03)","NS0-007 ","NS0",253.22999572753901]
[6001469526,"FIELD-GRANDISON (03)","NS0-007 ","NS0",253.22000122070301]
[6001569043,"BUCKLEY-MT ALEXANDER (03)","NS0-007 ","NS0",253.14999389648401]
[6001346413,"THE CROSSWAY-UPLAND (02)","NS0-017 ","NS0",253.05000305175801]
[6001391716,"BREWSTER-MT ALEXANDER (02)","NS0-007 ","NS0",252.97999572753901]
[6001138521,"YOUNG-PRATT (01)","NS0-011 ","NS0",252.94999694824199]
[6001040551,"SHAFTESBURY-RALEIGH (03)","NS0-018 ","NS0",252.86999511718801]
[6001335347,"YOUNG-ASCOT VALE (06)","NS0-015 ","NS0",252.77999877929699]
[6001140289,"CAPULET-BENT (03)","NS0-012 ","NS0",252.669998168945]
[6001521353,"SHUTER-PUCKLE (01)","NS0-011 ","NS0",252.60000610351599]
[6001274970,"GLASS-NAPIER (01)","NS0-008 ","NS0",252.55000305175801]
[6001140007,"BUCKLEY-MCPHERSON (02)","NS0-009 ","NS0",252.419998168945]
[6001345996,"FIRST-BULLA (02)","NS0-014 ","NS0",252.28999328613301]
[6001282860,"PRATT-PUCKLE (03)","NS0-011 ","NS0",252.11000061035199]
[6001142561,"VANBERG-TENNYSON (01)","NS0-009 ","NS0",252.080001831055]
[6001245453,"KERNAN-MARKS (01)","NS0-014 ","NS0",251.89999389648401]
[6001409928,"MT ALEXANDER 1142-WINIFRED (01)","NS0-008 ","NS0",251.75999450683599]
[6001545198,"MERCHISTON-CARNARVON (01)","NS0-016 ","NS0",251.47000122070301]
[6001004129,"MT ALEXANDER 641-HALL (03)","NS0-011 ","NS0",251.41000366210901]
[6001351190,"THE CROSSWAY-UPLAND (03)","NS0-017 ","NS0",251.08999633789099]
[6001209579,"YORK-NAPIER (02)","NS0-014 ","NS0",250.61000061035199]
[6001137648,"SHUTER-PUCKLE (05)","NS0-011 ","NS0",249.61999511718801]
[6001391538,"MT ALEXANDER-BREWSTER (04)","NS0-007 ","NS0",249.24000549316401]
[6001416958,"MT ALEXANDER-BREWSTER (01)","NS0-007 ","NS0",247.69999694824199]
[6001391524,"MT ALEXANDER-BREWSTER (04)","NS0-007 ","NS0",245.919998168945]
[6001119652,"HOBSON-HOME (01)","NT0-016 ","NT0",249.89999389648401]
[6001121207,"CHALLIS-JUBILLEE (04)","NT0-017 ","NT0",248.96000671386699]
[6001115535,"JOHNSTON-NEWCASTLE (01)","NT0-017 ","NT0",248.830001831055]
[6001434551,"HALL-MORWICK (01)","NT0-016 ","NT0",248.22999572753901]
[6001222169,"SYDNEY-ROSSHIRE (02)","NT0-003 ","NT0",247.78999328613301]
[6001115046,"ELECTRA-PASCO (02)","NT0-015 ","NT0",247.55999755859401]
[6001118817,"ALMA-CHANDLER (01)","NT0-015 ","NT0",247.5]
[6001115356,"PEEL-DOUGLAS (02)","NT0-004 ","NT0",247.27000427246099]
[6001320000,"CLYDE-MASON (02)","NT0-003 ","NT0",247.03999328613301]
[6001117467,"PARK-INGLIS (02)","NT0-017 ","NT0",246.83999633789099]
[6001329932,"YARRA-DOVER (01)","NT0-004 ","NT0",246.74000549316401]
[6001117672,"STEVEDORE-DOVER (02)","NT0-004 ","NT0",246.64999389648401]
[6001120648,"OXFORD-JUNCTION (02)","NT0-003 ","NT0",246.49000549316401]
[6001119796,"HALL-MORWICK (01)","NT0-016 ","NT0",246.33999633789099]
[6001119430,"HOME-TAIT (02)","NT0-011 ","NT0",246.21000671386699]
[6001266279,"MORRIS-OSBORNE (01)","NT0-011 ","NT0",246.19999694824199]
[6001487667,"YARRA-DOVER (01)","NT0-004 ","NT0",246.07000732421901]
[6001021744,"STRAND 8-RYANS (03)","NT0-004 ","NT0",245.97000122070301]
[6001236551,"PEEL-DOUGLAS (01)","NT0-004 ","NT0",245.830001831055]
[6001339799,"BAYVIEW-TOBRUK (03)","NT0-015 ","NT0",245.80999755859401]
[6001118048,"STEVEDORE-STRAND (01)","NT0-004 ","NT0",245.69000244140599]
[6001122621,"KINGSHOTT-LINDSAY (06)","NT0-003 ","NT0",245.580001831055]
[6001117116,"HANNAN-GELLIBRAND (01)","NT0-015 ","NT0",245.47000122070301]
[6001265917,"APHRASIA-VESTA (04)","NT0-011 ","NT0",245.44999694824199]
[6001121881,"DERWENT-MARKET (02)","NT0-003 ","NT0",245.36999511718801]
[6001245765,"TWYFORD-THOMPSON (02)","NT0-011 ","NT0",245.28999328613301]
[6001121300,"CHALLIS-JUBILLEE (04)","NT0-017 ","NT0",245.21000671386699]
[6001270577,"APHRASIA-VESTA (01)","NT0-011 ","NT0",245.14999389648401]
[6001021068,"KINGSHOTT-LINDSAY (01)","NT0-003 ","NT0",245.13000488281301]
[6001119744,"RIVER-HOME (02)","NT0-017 ","NT0",245.05000305175801]
[6001258942,"DOVER-WATERLOO (04)","NT0-004 ","NT0",245.00999450683599]
[6001266765,"JOINER-MERRETT (05)","NT0-003 ","NT0",244.94999694824199]
[6001011523,"RIFLE RANGE-RADFORD (04)","NT0-003 ","NT0",244.92999267578099]
[6001439367,"KOROROIT-LAKEVIEW (02)","NT0-017 ","NT0",244.88000488281301]
[6001293530,"HERIOT-ANN (01)","NT0-015 ","NT0",244.80999755859401]
[6001041959,"PAAS-RETIREMENT VILLAGE (00)","NT0-017 ","NT0",244.75]
[6001118469,"RENNIE-JOHN (03)","NT0-015 ","NT0",244.71000671386699]
[6001396015,"PEEL-DOUGLAS (02)","NT0-004 ","NT0",244.69000244140599]
[6001273930,"YARRA-DOVER (01)","NT0-004 ","NT0",244.61999511718801]
[6001119087,"PEEL-DOUGLAS (02)","NT0-004 ","NT0",244.55999755859401]
[6001328178,"BURLEIGH-RAMSAY (01)","NT0-016 ","NT0",244.5]
[6001282694,"HERIOT-ANN (01)","NT0-015 ","NT0",244.49000549316401]
[6001121053,"BRADLEY-MASON (03)","NT0-017 ","NT0",244.419998168945]
[6001435444,"FERGUSON-VERDON (03)","NT0-011 ","NT0",244.35000610351599]
[6001227680,"JOINER-MERRETT (04)","NT0-003 ","NT0",244.27000427246099]
[6001318670,"RYANS-FERGUSON (01)","NT0-004 ","NT0",244.25999450683599]
[6001293326,"RIFLE RANGE-MADIGAN (03)","NT0-003 ","NT0",244.169998168945]
[6001257030,"CHAMPION-LEMMON (02)","NT0-003 ","NT0",244.07000732421901]
[6001117398,"ADELINE-KOROROIT (02)","NT0-017 ","NT0",243.94999694824199]
[6001388504,"HERIOT-ANN (03)","NT0-015 ","NT0",243.919998168945]
[6001275804,"CLYDE-MASON (01)","NT0-003 ","NT0",243.80999755859401]
[6001324206,"THORPE-WOODS (01)","NT0-003 ","NT0",243.669998168945]
[6001003174,"PASCO-NELSON (02)","NT0-004 ","NT0",243.46000671386699]
[6001115303,"CHAMPION-LEMMON (02)","NT0-003 ","NT0",243.22999572753901]
[6001254028,"JOHNSTON-NEWCASTLE (01)","NT0-017 ","NT0",243.169998168945]
[6001033998,"STEWART-OSBORNE (02)","NT0-011 ","NT0",242.57000732421901]
[6001116885,"GIFFARD-OSBORNE (03)","NT0-011 ","NT0",242.30000305175801]
[6001340727,"GIFFARD-OSBORNE (02)","NT0-011 ","NT0",241.77999877929699]
[6001119262,"EFFINGHAM-WILKINS (01)","NT0-011 ","NT0",241.69000244140599]
[6001122184,"PERRY-VERDON (02)","NT0-015 ","NT0",241.32000732421901]
[6001012800,"FARM-HOME (02)","NT0-016 ","NT0",241.05999755859401]
[6001286812,"MELBOURNE-PASCO (02)","NT0-011 ","NT0",240.83999633789099]
[6001439387,"GELLIBRAND-STEWART (02)","NT0-015 ","NT0",240.669998168945]
[6001119141,"MELBOURNE-DAVIES (02)","NT0-011 ","NT0",240.55999755859401]
[6001116109,"PERRY-VERDON (02)","NT0-015 ","NT0",240.30000305175801]
[6001304449,"DAWSON-MASON (01)","NT0-017 ","NT0",240.10000610351599]
[6001465054,"PAINE-LATROBE (02)","NT0-011 ","NT0",239.91000366210901]
[6001122250,"BASIL-WOODS (01)","NT0-003 ","NT0",239.88000488281301]
[6001429283,"PAINE-LATROBE (02)","NT0-011 ","NT0",239.67999267578099]
[6001007413,"STEVEDORE-MELBOURNE (03)","NT0-011 ","NT0",239.44000244140599]
[6001348534,"COXS-WHITTAKERS (02)","NT0-015 ","NT0",239.22000122070301]
[6001297497,"CHAMPION-AKUNA (02)","NT0-017 ","NT0",239.17999267578099]
[6001116530,"STEWART-OSBORNE (02)","NT0-011 ","NT0",238.89999389648401]
[6001122242,"CHAMPION-AKUNA (00)","NT0-017 ","NT0",238.60000610351599]
[6001481273,"BAYVIEW-GELLIBRAND (03)","NT0-015 ","NT0",238.41000366210901]
[6001116899,"GELLIBRAND-STEWART (02)","NT0-015 ","NT0",238.00999450683599]
[6001516586,"CHAMPION-AKUNA (01)","NT0-017 ","NT0",236.19999694824199]
[6001232397,"MCCOLL-TYLER (03)","PTN-011 ","PTN",254.16000366210901]
[6001407408,"ROSEBERRY-HIGH (01)","PTN-021 ","PTN",253.22999572753901]
[6001495276,"GORDON-WOOD (02)","PTN-011 ","PTN",252.14999389648401]
[6001091613,"PAYWIT-BELLARINE (01)","PTN-015 ","PTN",251.97999572753901]
[6001095494,"SCOTIA-BELL (01)","PTN-015 ","PTN",250.94999694824199]
[6001093003,"CLINCH-WILLIAM (02)","PTN-011 ","PTN",250.61999511718801]
[6001093168,"CRAMER-MARKET (00)","PTN-014 ","PTN",250.17999267578099]
[6001236106,"KITCHENER-MURRAY (02)","PTN-011 ","PTN",250.11999511718801]
[6001095590,"SCOTIA-BELL (02)","PTN-015 ","PTN",249.77000427246099]
[6001491734,"HAIG-GILBERT (02)","PTN-015 ","PTN",249.5]
[6001552169,"HAWKER-ELLISON (02)","PTN-011 ","PTN",249.30000305175801]
[6001016892,"CAMBRIAN-HIGH (01)","PTN-011 ","PTN",249.22999572753901]
[6001102296,"CENTRAL-PENDER (01)","PTN-011 ","PTN",249.05999755859401]
[6001526200,"ARTHUR-BELL (03)","PTN-015 ","PTN",248.89999389648401]
[6001478422,"STOKES-SHOWERS (01)","PTN-015 ","PTN",248.75999450683599]
[6001419253,"SPRING-MURRAY (01)","PTN-015 ","PTN",248.64999389648401]
[6001310794,"ARTHUR-BELL (01)","PTN-015 ","PTN",248.61999511718801]
[6001102569,"WURRUK-HIGH (01)","PTN-011 ","PTN",248.5]
[6001298661,"ST GEORGES 102-MURRAY (02)","PTN-024 ","PTN",248.39999389648401]
[6001484419,"STOKES-SHOWERS (02)","PTN-015 ","PTN",248.30000305175801]
[6001094563,"DAVIES-MILLER (02)","PTN-015 ","PTN",248.27999877929699]
[6001090763,"MARTIN-GOWER (01)","PTN-021 ","PTN",248.169998168945]
[6001111821,"SYLVESTER-GORDON (04)","PTN-011 ","PTN",248.05999755859401]
[6001448077,"HIGH 154-SEYMOUR (03)","PTN-014 ","PTN",248.00999450683599]
[6001338574,"ESTHER-HIGH (03)","PTN-014 ","PTN",247.94999694824199]
[6001090545,"JOSEPHINE-PLENTY (03)","PTN-011 ","PTN",247.85000610351599]
[6001112700,"ETON-ALBERT (02)","PTN-021 ","PTN",247.75999450683599]
[6001299817,"WARRS-HIGH (01)","PTN-014 ","PTN",247.66000366210901]
[6001282890,"WARRS-HIGH (01)","PTN-014 ","PTN",247.55999755859401]
[6001338092,"MYRTLE-REGENT (02)","PTN-015 ","PTN",247.53999328613301]
[6001313967,"HAIG-GILBERT (02)","PTN-015 ","PTN",247.47999572753901]
[6001243587,"POWELL-EXCELSIOR (01)","PTN-015 ","PTN",247.330001831055]
[6001090235,"YOUNGMAN-HIGH (02)","PTN-011 ","PTN",247.22000122070301]
[6001257150,"SPRING-MURRAY (02)","PTN-015 ","PTN",247.19999694824199]
[6001419798,"RAILWAY-OAKOVER (04)","PTN-014 ","PTN",247.07000732421901]
[6001320116,"BRUCE-HIGH (03)","PTN-015 ","PTN",246.92999267578099]
[6001347206,"WATSON-DAVID (01)","PTN-021 ","PTN",246.80000305175801]
[6001113822,"PLENTY-RAGLAN (02)","PTN-014 ","PTN",246.75999450683599]
[6001020196,"RONA-SPRING (02)","PTN-015 ","PTN",246.60000610351599]
[6001102753,"HAWKER-ELLISON (02)","PTN-011 ","PTN",246.419998168945]
[6001242986,"NEWTON-MCCOLL (01)","PTN-011 ","PTN",246.19999694824199]
[6001490551,"GREGORY-PLENTY (04)","PTN-011 ","PTN",246]
[6001112531,"COOMA-GOWER (02)","PTN-014 ","PTN",245.88999938964801]
[6001090793,"PLENTY-BELL (02)","PTN-014 ","PTN",245.72999572753901]
[6001095787,"ESTHER-HIGH (02)","PTN-014 ","PTN",245.47000122070301]
[6001101896,"OSBORNE-HOTHAM (01)","PTN-014 ","PTN",245.11000061035199]
[6001091286,"ST GEORGES-TAFE COLLEGE (02)","PTN-015 ","PTN",245.03999328613301]
[6001591276,"OAKOVER-KENWOOD (04)","PTN-015 ","PTN",244.5]
[6001283192,"MAY-SPRING (03)","PTN-015 ","PTN",243.94999694824199]
[6001250696,"HAWKER-ELLISON (02)","PTN-011 ","PTN",243.64999389648401]
[6001090133,"HIGH 273-BELL (04)","PTN-014 ","PTN",243.30000305175801]
[6001113482,"DERMOT-CORMAC (02)","PTN-021 ","PTN",242.86000061035199]
[6001090420,"BRUCE-HIGH (01)","PTN-015 ","PTN",242.32000732421901]
[6001103309,"FRIER-PLENTY (04)","PTN-011 ","PTN",241.89999389648401]
[6001428601,"ST GEORGES-TAFE COLLEGE (02)","PTN-015 ","PTN",241.55000305175801]
[6001002869,"HAWKER-ELLISON (02)","PTN-011 ","PTN",241.49000549316401]
[6001269731,"FRIER-PLENTY (02)","PTN-011 ","PTN",240.830001831055]
[6001002908,"STOKES-BELL (02)","PTN-015 ","PTN",239.41000366210901]
[6001336210,"FLANNERY-DEVEREAUX (01)","PV0-022 ","PV0",252.96000671386699]
[6001438188,"JOHN-WINIFRED (02)","PV0-022 ","PV0",252.66000366210901]
[6001311963,"MAUDE-MELBOURNE (02)","PV0-023 ","PV0",251.61999511718801]
[6001399329,"MERBEIN-SUSSEX (01)","PV0-024 ","PV0",250.919998168945]
[6001322255,"PASCOE VALE-SWIMMING POOL (03)","PV0-022 ","PV0",250.5]
[6001152866,"ATHENS-DEVEREAUX (02)","PV0-022 ","PV0",250.41000366210901]
[6001491717,"JOHN-WINIFRED (02)","PV0-022 ","PV0",250.11000061035199]
[6001226493,"GLENROY-LOGAN (01)","PV0-013 ","PV0",249.80000305175801]
[6001520426,"MERBEIN-SUSSEX (01)","PV0-024 ","PV0",249.5]
[6001166164,"GERVASE-PECHAM (01)","PV0-031 ","PV0",249.21000671386699]
[6001346142,"DANIN-AUSTIN (01)","PV0-013 ","PV0",249.07000732421901]
[6001503518,"QUICK-ARNDT (01)","PV0-023 ","PV0",248.89999389648401]
[6001326966,"BLENHEIM-MARLBOROUGH (03)","PV0-021 ","PV0",248.69999694824199]
[6001329217,"BEATTY-MELBOURNE (03)","PV0-021 ","PV0",248.50999450683599]
[6001126742,"ILA-FARVIEW (03)","PV0-023 ","PV0",248.49000549316401]
[6001168084,"TREVANNION-MELBOURNE (01)","PV0-021 ","PV0",248.30999755859401]
[6001333756,"EVELL-SADIE (02)","PV0-023 ","PV0",248.11999511718801]
[6001167623,"KADANA-NEW (01)","PV0-014 ","PV0",248.00999450683599]
[6001153620,"PASCOE VALE-SWIMMING POOL (03)","PV0-022 ","PV0",247.89999389648401]
[6001171791,"NORTH-LARLAC (02)","PV0-023 ","PV0",247.72000122070301]
[6001390959,"EVELL-OGDEN (01)","PV0-024 ","PV0",247.57000732421901]
[6001242955,"EVELL-OGDEN (02)","PV0-024 ","PV0",247.41000366210901]
[6001166323,"GERVASE-PECHAM (02)","PV0-031 ","PV0",247.38999938964801]
[6001243939,"PEARL-WHEATSHEAF (02)","PV0-013 ","PV0",247.25]
[6001171026,"EVELL-SADIE (02)","PV0-023 ","PV0",247.11000061035199]
[6001402105,"KENNEDY-CHAPMAN (02)","PV0-031 ","PV0",246.99000549316401]
[6001328676,"ARUNDEL-PASCOE VALE (01)","PV0-031 ","PV0",246.83999633789099]
[6001285732,"PEARL-WHEATSHEAF (02)","PV0-013 ","PV0",246.80999755859401]
[6001331151,"MARGARET-WINIFRED (02)","PV0-022 ","PV0",246.69000244140599]
[6001444708,"FINCHLEY-PASCOE VALE (02)","PV0-031 ","PV0",246.53999328613301]
[6001319694,"NORTHUMBERLAND-ARNDT (02)","PV0-015 ","PV0",246.44000244140599]
[6001166104,"ARUNDEL-PASCOE VALE (03)","PV0-031 ","PV0",246.41000366210901]
[6001320301,"CARDINAL-DALEY (01)","PV0-013 ","PV0",246.30999755859401]
[6001155762,"GREVILLIA-ALBERT (02)","PV0-013 ","PV0",246.19999694824199]
[6001538245,"PARK-GAFFNEY (01)","PV0-012 ","PV0",246.10000610351599]
[6001467090,"ARUNDEL-PASCOE VALE (03)","PV0-031 ","PV0",246.08999633789099]
[6001166111,"ARUNDEL-PASCOE VALE (03)","PV0-031 ","PV0",245.92999267578099]
[6001154779,"STEWART-PASCOE VALE (01)","PV0-022 ","PV0",245.86000061035199]
[6001406279,"KENNEDY-WILLIAM (02)","PV0-014 ","PV0",245.75999450683599]
[6001166548,"GLENPARK-OUTLOOK (01)","PV0-014 ","PV0",245.66000366210901]
[6001463232,"DANIN-AUSTIN (03)","PV0-013 ","PV0",245.64999389648401]
[6001391862,"ESMALE-LEBANON (02)","PV0-022 ","PV0",245.55999755859401]
[6001040575,"PRINCESS-SOUTH (02)","PV0-024 ","PV0",245.47000122070301]
[6001420724,"PRINCESS-SOUTH (02)","PV0-024 ","PV0",245.38000488281301]
[6001470018,"RAILWAY-FAWKNER (02)","PV0-012 ","PV0",245.36000061035199]
[6001387798,"LYTTON-WILLIAM (02)","PV0-014 ","PV0",245.25999450683599]
[6001166528,"RIDGEWAY-MARRSON (02)","PV0-014 ","PV0",245.169998168945]
[6001369304,"PARK-DEVON (02)","PV0-014 ","PV0",245.080001831055]
[6001471470,"GROVER-FAWKNER (01)","PV0-012 ","PV0",245.05999755859401]
[6001425869,"ISLA-MELBOURNE (01)","PV0-023 ","PV0",244.99000549316401]
[6001367596,"LYTTON-WILLIAM (01)","PV0-014 ","PV0",244.88999938964801]
[6001598174,"ASH-WIDFORD (03)","PV0-013 ","PV0",244.80000305175801]
[6001401740,"VOLGA-MIDDLE (01)","PV0-015 ","PV0",244.71000671386699]
[6001491136,"YORK-CHAPMAN (02)","PV0-014 ","PV0",244.69999694824199]
[6001167870,"CARTWRIGHT-PASCOE VALE (02)","PV0-014 ","PV0",244.61999511718801]
[6001209713,"WILLETT-SUMMIT (03)","PV0-014 ","PV0",244.52000427246099]
[6001246973,"THE LOOP-REX (02)","PV0-015 ","PV0",244.46000671386699]
[6001166914,"CHAPMAN-BELAIR (04)","PV0-014 ","PV0",244.44000244140599]
[6001426397,"YORK-CHAPMAN (02)","PV0-014 ","PV0",244.36999511718801]
[6001214163,"BRISTOL-SOUTH (03)","PV0-024 ","PV0",244.28999328613301]
[6001486506,"PROSPECT-PASCOE VALE (01)","PV0-031 ","PV0",244.19999694824199]
[6001621027,"PECK-PASCOE VALE (04)","PV0-012 ","PV0",244.19999694824199]
[6001299462,"SOUTH-DICKINSON 2 (01)","PV0-024 ","PV0",244.08999633789099]
[6001333756,"EVELL-SADIE (02)","PV0-023 ","PV0",244.02999877929699]
[6001168880,"ROY-BINDI (01)","PV0-013 ","PV0",243.94999694824199]
[6001155674,"NERISSA-SNELL (02)","PV0-031 ","PV0",243.86999511718801]
[6001324916,"HILTON-HUBERT (02)","PV0-013 ","PV0",243.86000061035199]
[6001480599,"HEATH-FAWKNER (01)","PV0-022 ","PV0",243.78999328613301]
[6001156247,"BRISTOL-SOUTH (03)","PV0-024 ","PV0",243.71000671386699]
[6001154435,"MENARRA-LAMART (03)","PV0-022 ","PV0",243.63000488281301]
[6001169808,"CONNELL-HILTON (02)","PV0-013 ","PV0",243.61999511718801]
[6001182748,"PATRICK-PLUMPTON (03)","PV0-021 ","PV0",243.53999328613301]
[6001168618,"LINDSAY-GLENROY (02)","PV0-021 ","PV0",243.46000671386699]
[6001264205,"JUSTIN-VIEW (01)","PV0-013 ","PV0",243.38999938964801]
[6001291813,"LINDSAY-GLENROY (03)","PV0-021 ","PV0",243.36000061035199]
[6001014448,"STRATFORD-EAST (02)","PV0-024 ","PV0",243.28999328613301]
[6001291516,"CHAPMAN-BELAIR (01)","PV0-014 ","PV0",243.19999694824199]
[6001214663,"PALANA-PENGANA (02)","PV0-014 ","PV0",243.11000061035199]
[6001166772,"BECKET-ANSELM (02)","PV0-031 ","PV0",243.02999877929699]
[6001479852,"KENNEDY-WILLIAM (01)","PV0-014 ","PV0",243.02000427246099]
[6001153472,"FRANCIS-VINCENT (01)","PV0-022 ","PV0",242.919998168945]
[6001463086,"STATION-CARTWRIGHT (03)","PV0-031 ","PV0",242.88999938964801]
[6001154585,"LEBANON-FENACRE (03)","PV0-022 ","PV0",242.72000122070301]
[6001451991,"LYTTON-PASCOE VALE (02)","PV0-031 ","PV0",242.71000671386699]
[6001524659,"MENARRA-LAMART (03)","PV0-022 ","PV0",242.60000610351599]
[6001391349,"VALENCIA-MELBOURNE (02)","PV0-023 ","PV0",242.5]
[6001463074,"STATION-CARTWRIGHT (03)","PV0-031 ","PV0",242.38999938964801]
[6001503305,"FRANCIS-VINCENT (01)","PV0-022 ","PV0",242.30000305175801]
[6001008832,"DAVID-NORTH (02)","PV0-015 ","PV0",242.25]
[6001154579,"LEBANON-FENACRE (03)","PV0-022 ","PV0",242.13000488281301]
[6001311121,"GRANDVIEW-PASCOE VALE (01)","PV0-031 ","PV0",242]
[6001155907,"THICKINS-NORTHUMBERLAND (02)","PV0-012 ","PV0",241.97000122070301]
[6001021138,"JUSTIN-VIEW (01)","PV0-013 ","PV0",241.830001831055]
[6001155910,"THICKINS-NORTHUMBERLAND (02)","PV0-012 ","PV0",241.69000244140599]
[6001469343,"RIDGEWAY-MARRSON (03)","PV0-014 ","PV0",241.52999877929699]
[6001506963,"MCCRACKEN-STEWART (01)","PV0-022 ","PV0",241.30000305175801]
[6001155906,"THICKINS-NORTHUMBERLAND (02)","PV0-012 ","PV0",241.24000549316401]
[6001172126,"STRATFORD-EAST (02)","PV0-024 ","PV0",240.94999694824199]
[6001430253,"KATOOMBA-SUTHERLAND (03)","PV0-015 ","PV0",240.47999572753901]
[6001311212,"SOUTH-DERBY (02)","PV0-024 ","PV0",239.61000061035199]
[6001242659,"SOUTH-DERBY (03)","PV0-024 ","PV0",239.21000671386699]
[6001152791,"KERR-DEVEREAUX (03)","PV0-022 ","PV0",238.17999267578099]
[6001169364,"HILTON-WEST (02)","PV0-023 ","PV0",236.75]
[6001216850,"ROCKWALL-STAGECOACH (03)","SA0-012 ","SA0",252.85000610351599]
[6001227213,"MELTON-SANDPIPER (00)","SA0-010 ","SA0",251.64999389648401]
[6001258565,"RUBEN-CONTURSI (02)","SA0-012 ","SA0",251.47000122070301]
[6001227816,"MIRM-CHITTENUP (04)","SA0-012 ","SA0",250.580001831055]
[6001229978,"ORCHID-CHITTENUP (02)","SA0-012 ","SA0",249.96000671386699]
[6001512288,"ROBINA-AMBRIDGE (04)","SA0-012 ","SA0",249]
[6001281365,"ALBERTINE-ROSELEIGH (02)","SA0-012 ","SA0",248.89999389648401]
[6001346865,"PECKS-SACRAS (02)","SA0-012 ","SA0",248.419998168945]
[6001267576,"ROBINA-AMBRIDGE (03)","SA0-012 ","SA0",248]
[6001277064,"ALBERTINE-ROSELEIGH (02)","SA0-012 ","SA0",246.83999633789099]
[6001206552,"TURNER-MENZIES (01)","SBY-012 ","SBY",254.25999450683599]
[6001201680,"PASLEY-NEILL (02)","SBY-023 ","SBY",253.66000366210901]
[6001614046,"BURKE-FLINDERS (03)","SBY-032 ","SBY",252.5]
[6001202392,"GAP-COWPER (02)","SBY-032 ","SBY",251.69000244140599]
[6001203801,"STOCKFELD-RESERVOIR (01)","SBY-023 ","SBY",251.02999877929699]
[6001204143,"BENSON RD-P9E1E2 (00)","SBY-013 ","SBY",250.89999389648401]
[6001202688,"GAP-DYSON (01)","SBY-013 ","SBY",250.44999694824199]
[6001211436,"HAVELOCK RD-P5 (00)","SBY-024 ","SBY",250.17999267578099]
[6001283848,"WESTWARD HO-SPYGLASS (01)","SBY-024 ","SBY",249.830001831055]
[6001227730,"REES-STREETON (01)","SBY-023 ","SBY",249.78999328613301]
[6001299876,"FINGLETON-BURGE (02)","SBY-013 ","SBY",249.53999328613301]
[6001201468,"NOTREDAME-OXFORD (02)","SBY-024 ","SBY",249.330001831055]
[6001201963,"FLINDERS-WENTWORTH (03)","SBY-032 ","SBY",249.16000366210901]
[6001505585,"CAPEK-SUNNY (04)","SBY-024 ","SBY",249.10000610351599]
[6001200977,"EVANS-BROOK (00)","SBY-012 ","SBY",248.99000549316401]
[6001325246,"YALLOP-McCABE (03)","SBY-013 ","SBY",248.85000610351599]
[6001232712,"FLINDERS-WENTWORTH (03)","SBY-032 ","SBY",248.75999450683599]
[6001237431,"HORNE-MITCHELL (01)","SBY-012 ","SBY",248.66000366210901]
[6001347029,"COURTNEY-PHILLIP (04)","SBY-023 ","SBY",248.63999938964801]
[6001308110,"RITCHIE-GROUT (04)","SBY-013 ","SBY",248.580001831055]
[6001386996,"DULVERTON-WEDMORE (01)","SBY-032 ","SBY",248.47000122070301]
[6001535580,"RUBRUM-PALMATUM (04)","SBY-024 ","SBY",248.39999389648401]
[6001125482,"RACECOURSE-WILLIAMS (00)","SBY-023 ","SBY",248.38000488281301]
[6001505679,"BALLET-JAMAICAN (02)","SBY-024 ","SBY",248.30000305175801]
[6001441411,"STIRRUP-WILDFLOWER (02)","SBY-023 ","SBY",248.21000671386699]
[6001292245,"EVANS-BROOK (02)","SBY-012 ","SBY",248.14999389648401]
[6001552042,"CHARTER EAST-ELIZABETH (03)","SBY-032 ","SBY",248.10000610351599]
[6001044216,"SUSSEX-VINEYARD (02)","SBY-032 ","SBY",248.05999755859401]
[6001274228,"SORBONNE-CLYDE (03)","SBY-024 ","SBY",247.99000549316401]
[6001346163,"VINEYARD-COMMERCE (04)","SBY-032 ","SBY",247.91000366210901]
[6001330942,"THE STRAND-ROSEBERRY (04)","SBY-035 ","SBY",247.86000061035199]
[6001212886,"WESTWARD HO-SPYGLASS (04)","SBY-024 ","SBY",247.83999633789099]
[6001293429,"WILLIAMS-RACECOURSE NO 2 (00)","SBY-023 ","SBY",247.77999877929699]
[6001026982,"BRADMAN-CHAPPEL (04)","SBY-013 ","SBY",247.69999694824199]
[6001238583,"OUTLOOK-THE HEIGHTS (01)","SBY-035 ","SBY",247.64999389648401]
[6001328889,"EVANS-BROOK (00)","SBY-012 ","SBY",247.63999938964801]
[6001304813,"ELIZABETH-MARL (01)","SBY-013 ","SBY",247.580001831055]
[6001202665,"REGHON-GIBBONS (03)","SBY-013 ","SBY",247.5]
[6001312932,"RESERVOIR RD-P57 (01)","SBY-032 ","SBY",247.44999694824199]
[6001204437,"STEWARTS-LISTER (03)","SBY-023 ","SBY",247.41000366210901]
[6001212838,"JACKSON-MACEDON (02)","SBY-024 ","SBY",247.36000061035199]
[6001322471,"BLUEGUM-BELLEVIEW (04)","SBY-035 ","SBY",247.28999328613301]
[6001426091,"STIRRUP-WILDFLOWER (03)","SBY-023 ","SBY",247.21000671386699]
[6001204748,"ENTERPRISE DR-P6 (00)","SBY-023 ","SBY",247.13999938964801]
[6001202476,"ROVER-GAP (02)","SBY-013 ","SBY",247.11999511718801]
[6001414247,"SORREL-PIPIT (03)","SBY-023 ","SBY",247.080001831055]
[6001215014,"SORBONNE-CAREY (01)","SBY-024 ","SBY",246.99000549316401]
[6001200026,"DUNROSSIL-GORTON (04)","SBY-012 ","SBY",246.89999389648401]
[6001514681,"ANDERSON-CORNISH (03)","SBY-032 ","SBY",246.89999389648401]
[6001278910,"RESERVOIR-CARLA (01)","SBY-032 ","SBY",246.82000732421901]
[6001199882,"TURNER-MENZIES (02)","SBY-012 ","SBY",246.74000549316401]
[6001203251,"MELBA-DYSON (01)","SBY-032 ","SBY",246.669998168945]
[6001227911,"HORNE-NEILL (02)","SBY-012 ","SBY",246.66000366210901]
[6001039245,"GILCHRIST-ELIZABETH (02)","SBY-023 ","SBY",246.57000732421901]
[6001284220,"YALLOP-McCABE (03)","SBY-013 ","SBY",246.49000549316401]
[6001258415,"WELSH RD-P2 (03)","SBY-013 ","SBY",246.39999389648401]
[6001248930,"STOCKFELD-RESERVOIR (01)","SBY-023 ","SBY",246.30999755859401]
[6001203828,"RESERVOIR-DARGIE (02)","SBY-032 ","SBY",246.28999328613301]
[6001209652,"BALMORAL-BRAEMAR (03)","SBY-023 ","SBY",246.169998168945]
[6001202286,"WILLS-DARWIN (02)","SBY-032 ","SBY",246.080001831055]
[6001206972,"SUSSEX-VINEYARD (02)","SBY-032 ","SBY",245.94000244140599]
[6001332285,"THE STRAND-ROSEBERRY (03)","SBY-035 ","SBY",245.91000366210901]
[6001310694,"FINGLETON-BURGE (03)","SBY-013 ","SBY",245.77999877929699]
[6001210325,"SHORT RD-P11 (00)","SBY-013 ","SBY",245.61999511718801]
[6001204155,"BENSON RD-P20E3 (00)","SBY-013 ","SBY",245.52000427246099]
[6001218072,"FULLBROOK-LAWRENCE (01)","SBY-023 ","SBY",245.42999267578099]
[6001127556,"THE AVENUE-PARKVIEW (02)","SBY-035 ","SBY",245.22999572753901]
[6001201165,"LANCEFIELD-GELLIES (02)","SBY-024 ","SBY",245.00999450683599]
[6001320151,"JACKSON-STATION (02)","SBY-024 ","SBY",244.80000305175801]
[6001222606,"YELLOWGUM-BANKSIA (01)","SBY-012 ","SBY",244.57000732421901]
[6001216392,"YELLOWGUM-BLUEBUSH (03)","SBY-012 ","SBY",244.52000427246099]
[6001223257,"FULLWOOD-WHEELER (02)","SBY-032 ","SBY",244.36999511718801]
[6001254880,"CANTERBURY-BUNDANOON (03)","SBY-023 ","SBY",244.08999633789099]
[6001221261,"THORNTON-RUBICON (01)","SBY-032 ","SBY",243.85000610351599]
[6001287856,"HEATHERBRAE-KELBOURNE (04)","SBY-023 ","SBY",243.80999755859401]
[6001346486,"KISMET RD-P2 (02)","SBY-023 ","SBY",243.580001831055]
[6001290802,"TIMINS-OSHANASSY (01)","SBY-035 ","SBY",243.35000610351599]
[6001204873,"STOCKWELL DR-P4 (00)","SBY-024 ","SBY",243.11999511718801]
[6001499257,"STONEY-SACRED (04)","SBY-024 ","SBY",243.10000610351599]
[6001200816,"AITKEN-BROOK (01)","SBY-035 ","SBY",242.94000244140599]
[6001515273,"LEROY-DUTCH (01)","SBY-024 ","SBY",242.80000305175801]
[6001386599,"KENTHILL-BISHOPS (04)","SBY-035 ","SBY",242.63000488281301]
[6001499258,"STONEY-SACRED (04)","SBY-024 ","SBY",242.60000610351599]
[6001202092,"KINGSLEY-KAVEL (01)","SBY-013 ","SBY",242.44999694824199]
[6001034131,"LOGAN-BACKHAUS (01)","SBY-013 ","SBY",242.25]
[6001503389,"SPECKLE-CRIMSON (03)","SBY-024 ","SBY",242.10000610351599]
[6001318001,"ROLLING MEADOWS-MARYLEBONE (05)","SBY-024 ","SBY",241.89999389648401]
[6001242782,"MILLER-HORNE (02)","SBY-012 ","SBY",241.88000488281301]
[6001236070,"SORBONNE-CAREY (04)","SBY-024 ","SBY",241.669998168945]
[6001215501,"SORBONNE-CAREY (04)","SBY-024 ","SBY",241.419998168945]
[6001335444,"THE HERMITAGE-THE SKYLINE (02)","SBY-024 ","SBY",241.22999572753901]
[6001384698,"RIDDELL RD-P43E1 (01)","SBY-023 ","SBY",241.07000732421901]
[6001310481,"THE HERMITAGE-THE SKYLINE (04)","SBY-024 ","SBY",240.72999572753901]
[6001214604,"RIDDELL RD-P47 (02)","SBY-023 ","SBY",240.30000305175801]
[6001200741,"JACKSON-STATION (01)","SBY-024 ","SBY",239.60000610351599]
[6001206848,"MCKELL-RIDDELL (02)","SBY-023 ","SBY",239.39999389648401]
[6001268430,"MOORE RD-P7 (00)","SHM-011 ","SHM",254.24000549316401]
[6001029249,"DUNCANS LA STH-P1 (00)","SHM-011 ","SHM",252.44000244140599]
[6001227939,"SANTOLIN-REBECCA (02)","SHM-014 ","SHM",251.11000061035199]
[6001221608,"NEPEAN-WELLESLEY (03)","SHM-012 ","SHM",250.67999267578099]
[6001123129,"SPELLMAN-BRENNAN (02)","SHM-021 ","SHM",250.63999938964801]
[6001266238,"CYPRESS-STILLIA (02)","SHM-014 ","SHM",250.44999694824199]
[6001427008,"SHOWMAN-BLOOMDALE (01)","SHM-011 ","SHM",250.25]
[6001282490,"HILLCREST-ROYAL (04)","SHM-022 ","SHM",250.03999328613301]
[6001230985,"SPELLMAN-CECIL (04)","SHM-021 ","SHM",250.00999450683599]
[6001287984,"WAKELIN-STREETON (03)","SHM-012 ","SHM",249.86000061035199]
[6001390929,"HILLCREST-ROYAL (04)","SHM-022 ","SHM",249.71000671386699]
[6001226697,"LUSCANDER-TORMORVEY (02)","SHM-022 ","SHM",249.57000732421901]
[6001235651,"LUSCANDER-TORMORVEY (02)","SHM-022 ","SHM",249.55000305175801]
[6001227532,"TASMAN-WENTWORTH (03)","SHM-012 ","SHM",249.35000610351599]
[6001122976,"NEPEAN-WELLESLEY (01)","SHM-012 ","SHM",249.27999877929699]
[6001471828,"MCDOUGALL-BUBECK (02)","SHM-011 ","SHM",249.16000366210901]
[6001268582,"ALLENBY-ERIN (03)","SHM-021 ","SHM",249.02999877929699]
[6001205672,"CHANDOS-BEAUMONT (01)","SHM-021 ","SHM",249]
[6001515576,"BOUQUET-ESSENCE (02)","SHM-011 ","SHM",248.89999389648401]
[6001566081,"CIVIC-BUDDING (01)","SHM-011 ","SHM",248.80000305175801]
[6001409448,"PLOUGH-ROSENTHAL (02)","SHM-011 ","SHM",248.69999694824199]
[6001274410,"ROYAL-GRANDVIEW (01)","SHM-022 ","SHM",248.64999389648401]
[6001439590,"KIPLING-DRYDEN (03)","SHM-011 ","SHM",248.55999755859401]
[6001386839,"RAWSON-GOULDING (02)","SHM-014 ","SHM",248.47000122070301]
[6001007692,"NEPEAN-WELLESLEY (01)","SHM-012 ","SHM",248.38000488281301]
[6001415596,"JERSEY-LAMPTON (03)","SHM-011 ","SHM",248.36999511718801]
[6001396639,"RAWSON-GOULDING (02)","SHM-014 ","SHM",248.28999328613301]
[6001473673,"MODENA-FLORESTA (02)","SHM-014 ","SHM",248.19999694824199]
[6001219704,"MANCHESTER-PENZANCE (03)","SHM-021 ","SHM",248.10000610351599]
[6001390904,"DAWKINS-ASPIRE (01)","SHM-014 ","SHM",248.02999877929699]
[6001206010,"INGOT-PLUMPTON (01)","SHM-011 ","SHM",248]
[6001278940,"ALLENBY-KALISTA (03)","SHM-021 ","SHM",247.94000244140599]
[6001281166,"PARK-BOTANIC (01)","SHM-022 ","SHM",247.86999511718801]
[6001412200,"PLOUGH-ROSENTHAL (01)","SHM-011 ","SHM",247.83999633789099]
[6001238960,"GOURLAY-GREVILLEA (01)","SHM-014 ","SHM",247.78999328613301]
[6001411619,"ASPIRE-KENNEDY (01)","SHM-014 ","SHM",247.71000671386699]
[6001439553,"EXPLORER-FESTIVAL (03)","SHM-011 ","SHM",247.669998168945]
[6001473834,"MADISONS-TERRITORY (02)","SHM-011 ","SHM",247.60000610351599]
[6001510914,"PROGRESS-MAMIC (02)","SHM-014 ","SHM",247.60000610351599]
[6001404209,"LIFESTYLE-SPEARYS (04)","SHM-011 ","SHM",247.50999450683599]
[6001511413,"RYNA'S-MADISONS (04)","SHM-011 ","SHM",247.5]
[6001209936,"SPELLMAN-CECIL (04)","SHM-021 ","SHM",247.44000244140599]
[6001489038,"STEVO-MAMIC (02)","SHM-014 ","SHM",247.39999389648401]
[6001515576,"BOUQUET-ESSENCE (02)","SHM-011 ","SHM",247.39999389648401]
[6001296437,"CONDER-DOBELL (02)","SHM-021 ","SHM",247.33999633789099]
[6001510871,"KOORA-BAMAL (01)","SHM-011 ","SHM",247.30000305175801]
[6001284036,"COIMADAI-TAME (02)","SHM-011 ","SHM",247.27000427246099]
[6001343293,"CASTLEWELLAN-BORONIA (02)","SHM-014 ","SHM",247.24000549316401]
[6001511659,"MAREMMANO-FRIESIAN (02)","SHM-012 ","SHM",247.19999694824199]
[6001394816,"HARDWARE-EXHIBITION (01)","SHM-021 ","SHM",247.14999389648401]
[6001489087,"VIGNETTE-SHEEPYARD (01)","SHM-011 ","SHM",247.10000610351599]
[6001592245,"FREDERICK-MCDOUGALL (02)","SHM-011 ","SHM",247.10000610351599]
[6001219973,"BELLEVUE-WATTLEVALLEY (04)","SHM-022 ","SHM",247.02999877929699]
[6001010756,"PLUMPTON-COLOUR (03)","SHM-011 ","SHM",246.97999572753901]
[6001266153,"GLENBRUAR-KANMORE (01)","SHM-022 ","SHM",246.919998168945]
[6001022658,"DUCHESS-THE REGENCY (02)","SHM-022 ","SHM",246.89999389648401]
[6001297581,"CONDER-DOBELL (02)","SHM-021 ","SHM",246.85000610351599]
[6001222264,"WELLESLEY-SANDPIPER (01)","SHM-012 ","SHM",246.78999328613301]
[6001278945,"SUGARGUM-ROBINIA (01)","SHM-014 ","SHM",246.75]
[6001386835,"RAWSON-GOULDING (04)","SHM-014 ","SHM",246.669998168945]
[6001326645,"OXFORD-ASHBURY (03)","SHM-022 ","SHM",246.66000366210901]
[6001228791,"WELLESLEY-SANDPIPER (04)","SHM-012 ","SHM",246.58999633789099]
[6001298012,"GOURLAY-MELTON (03)","SHM-014 ","SHM",246.52000427246099]
[6001275668,"BERTHON-WOLVISTON (02)","SHM-022 ","SHM",246.46000671386699]
[6001011140,"PIMELEA-COMMUNITY (02)","SHM-014 ","SHM",246.44000244140599]
[6001401794,"PAVLEKA-ALLENBY (01)","SHM-021 ","SHM",246.35000610351599]
[6001210472,"MESSINA-RIVOLI (02)","SHM-012 ","SHM",246.30000305175801]
[6001213494,"BELLEVUE-WATTLEVALLEY (02)","SHM-022 ","SHM",246.22999572753901]
[6001227422,"WATTLEVALLEY-ROYAL (01)","SHM-022 ","SHM",246.21000671386699]
[6001216821,"VERONA-CLIFTON (01)","SHM-012 ","SHM",246.13000488281301]
[6001292574,"COBURN-HEYSEN (04)","SHM-021 ","SHM",246.03999328613301]
[6001249779,"GLITTER-OLD CALDER (01)","SHM-011 ","SHM",245.94000244140599]
[6001274236,"LANDSCAPE-PILGRIM (01)","SHM-022 ","SHM",245.830001831055]
[6001218803,"SALAMANDER-ARCADIA (02)","SHM-012 ","SHM",245.80999755859401]
[6001317982,"WARRENS BROOK-SPEARGRASS (04)","SHM-022 ","SHM",245.67999267578099]
[6001295211,"OVERTON-MELTON (01)","SHM-021 ","SHM",245.52000427246099]
[6001266514,"CAPRICORN-PALMERSTON (03)","SHM-012 ","SHM",245.30000305175801]
[6001300169,"WARRENS BROOK-SPEARGRASS (02)","SHM-022 ","SHM",245.25999450683599]
[6001246710,"GOURLAY-SUGAR GUM (03)","SHM-014 ","SHM",245.00999450683599]
[6001205334,"DUNCANS LA NTH-P4 (00)","SHM-011 ","SHM",244.71000671386699]
[6001267702,"ALLENBY-KALISTA (01)","SHM-021 ","SHM",244.38999938964801]
[6001245283,"SANDPIPER-CARDIGAN (03)","SHM-012 ","SHM",244.30000305175801]
[6001206317,"GLITTER-OLD CALDER (01)","SHM-011 ","SHM",243.88999938964801]
[6001236989,"TASMAN-MIDLAND (02)","SHM-012 ","SHM",243.5]
[6001490258,"MAROON-LICENSE (04)","SHM-011 ","SHM",243.30000305175801]
[6001205687,"ERSKINE-ARGYLL (03)","SHM-014 ","SHM",242.88000488281301]
[6001480313,"MILSOM-MANRESH (05)","SHM-014 ","SHM",242.80000305175801]
[6001275547,"JADE-BALMORAL (01)","SHM-021 ","SHM",242.55999755859401]
[6001480258,"PORTOBELLO-HILLGATE (01)","SHM-014 ","SHM",242.19999694824199]
[6001290566,"JADE-BALMORAL (03)","SHM-021 ","SHM",241.89999389648401]
[6001493524,"CROWN-ADVENTURE (01)","SHM-014 ","SHM",241.89999389648401]
[6001494096,"LINOSA-VERONA (04)","SHM-014 ","SHM",241.60000610351599]
[6001510344,"STRICTA-PURPLE (01)","SHM-014 ","SHM",241.5]
[6001486577,"ERSKINE-ARGYLL (02)","SHM-014 ","SHM",241.19999694824199]
[6001281439,"JADE-BALMORAL (02)","SHM-021 ","SHM",240.830001831055]
[6001205662,"ERSKINE-ARGYLL (03)","SHM-014 ","SHM",240.72999572753901]
[6001229713,"GOULBURN-PALMERSTON (02)","SHM-012 ","SHM",240.25]
[6001267765,"FLINDERS-THE WALK (01)","SHM-021 ","SHM",239.44000244140599]
[6001035202,"SOUTHERN-MEDWAY (02)","ST0-011 ","ST0",254.05000305175801]
[6001199089,"NORTHBOURNE 146-REX (01)","ST0-034 ","ST0",253.80999755859401]
[6001184359,"SOMERTON PARK-LEADER (01)","ST0-024 ","ST0",253.05000305175801]
[6001278426,"SANDOVER-SALWEEN (01)","ST0-033 ","ST0",252.52000427246099]
[6001443504,"RHYOLITE-BANJOLINA (04)","ST0-012 ","ST0",252.10000610351599]
[6001425592,"WHITFIELD-CRAIGIEBURN (04)","ST0-012 ","ST0",251.97000122070301]
[6001302468,"LOCKWOOD-WATTLEVIEW (03)","ST0-032 ","ST0",251.75999450683599]
[6001527349,"WHITFIELD-WHITES (02)","ST0-012 ","ST0",251.5]
[6001274680,"SALWEEN-ELSA (04)","ST0-012 ","ST0",251.24000549316401]
[6001367119,"GREVILLEA-PLUM (02)","ST0-033 ","ST0",251.05000305175801]
[6001448552,"MARATHON-GANGES (01)","ST0-012 ","ST0",251]
[6001416519,"ADMIRATION-REVERENCE (03)","ST0-012 ","ST0",250.80999755859401]
[6001428003,"ELEVATION-GILDED (01)","ST0-012 ","ST0",250.69999694824199]
[6001486334,"CRAIGIEBURN-CHAMPION (02)","ST0-012 ","ST0",250.5]
[6001320471,"LONG ISLAND-ROYAL TROON (02)","ST0-012 ","ST0",250.49000549316401]
[6001004110,"BRECON-YARCOMBE (04)","ST0-032 ","ST0",250.30000305175801]
[6001240174,"PLUMPTON-DIANNE (03)","ST0-011 ","ST0",250.169998168945]
[6001466326,"RHYOLITE-BANJOLINA (04)","ST0-012 ","ST0",250]
[6001432289,"RHYOLITE-BANJOLINA (03)","ST0-012 ","ST0",249.88000488281301]
[6001286987,"DONVALE-HAYFIELD (04)","ST0-032 ","ST0",249.830001831055]
[6001524742,"COULEE-FAIRWAYS (01)","ST0-032 ","ST0",249.69999694824199]
[6001367127,"GREVILLEA-PLUM (02)","ST0-033 ","ST0",249.57000732421901]
[6001345979,"MAISIE-LOMBARD (02)","ST0-032 ","ST0",249.419998168945]
[6001476378,"COCKATOO-COMPASS (01)","ST0-032 ","ST0",249.39999389648401]
[6001223704,"CAPITAL LINK-MEROLA (02)","ST0-034 ","ST0",249.28999328613301]
[6001294270,"WATTLEBIRD-BROOKVALE (04)","ST0-032 ","ST0",249.169998168945]
[6001185042,"GILLINGHAM-LYDD (01)","ST0-033 ","ST0",249.05999755859401]
[6001286754,"STANLEY P4E1-HUME (01)","ST0-024 ","ST0",249.03999328613301]
[6001425340,"FORTHAM-PIONEER (03)","ST0-012 ","ST0",248.92999267578099]
[6001260155,"LEFEY-OSCAR (04)","ST0-032 ","ST0",248.80999755859401]
[6001434356,"LEFEY-OSCAR (04)","ST0-032 ","ST0",248.72000122070301]
[6001304120,"WATTLEBIRD-BROOKVALE (04)","ST0-032 ","ST0",248.67999267578099]
[6001030825,"SOMERTON PARK-LEADER (01)","ST0-024 ","ST0",248.60000610351599]
[6001396943,"CHAMPION-ZEST (01)","ST0-032 ","ST0",248.50999450683599]
[6001512154,"TOPOGRAPHICAL-LUNAR (04)","ST0-032 ","ST0",248.42999267578099]
[6001208100,"NORTHLEIGH-PRINCETOWN (01)","ST0-033 ","ST0",248.35000610351599]
[6001186864,"EASTGATE-HOTHLYN (01)","ST0-022 ","ST0",248.330001831055]
[6001184348,"SOMERTON PARK-LEADER (01)","ST0-024 ","ST0",248.25999450683599]
[6001285498,"BINGIN-EMERALD (02)","ST0-022 ","ST0",248.19999694824199]
[6001453193,"JAMES MIRAM-BRIDGEWATER (02)","ST0-032 ","ST0",248.10000610351599]
[6001532279,"BURNETT-NORTHPARK (01)","ST0-013 ","ST0",248.10000610351599]
[6001262615,"YARCOMBE-WOKING (01)","ST0-033 ","ST0",248.00999450683599]
[6001328745,"EXPORT-NOVA (04)","ST0-011 ","ST0",247.94000244140599]
[6001344631,"MARATHON-HUNTINGFIELD (02)","ST0-033 ","ST0",247.88000488281301]
[6001414741,"FAIRHAVEN-HOLMAN (04)","ST0-011 ","ST0",247.86999511718801]
[6001340638,"KIRKSTEAD-AITKEN (01)","ST0-011 ","ST0",247.78999328613301]
[6001123242,"WOKING-DYMOCK (01)","ST0-032 ","ST0",247.69999694824199]
[6001163968,"BROOKEDGE-PARK (02)","ST0-012 ","ST0",247.63999938964801]
[6001276585,"LIMPOPA-DESNA (03)","ST0-033 ","ST0",247.57000732421901]
[6001410466,"GILLINGHAM-LYDD (00)","ST0-033 ","ST0",247.55999755859401]
[6001185090,"CRAIGIEBURN-BELSAY (04)","ST0-033 ","ST0",247.47999572753901]
[6001445842,"CAVELL-PUNT (01)","ST0-011 ","ST0",247.44000244140599]
[6001414662,"PENINSULA-STREAMSIDE (04)","ST0-012 ","ST0",247.38000488281301]
[6001012073,"LAKES-THE GREENWAY (01)","ST0-012 ","ST0",247.36000061035199]
[6001475217,"COCKATOO-COMPASS (01)","ST0-032 ","ST0",247.30000305175801]
[6001339219,"CLARENDON-ACLAND (03)","ST0-011 ","ST0",247.24000549316401]
[6001291560,"REX 283-COOPER (02)","ST0-034 ","ST0",247.17999267578099]
[6001480083,"METROLINK WEST-CONNECTION (02)","ST0-013 ","ST0",247.14999389648401]
[6001271741,"POTTER ST-187A (02)","ST0-022 ","ST0",247.10000610351599]
[6001233644,"HALLEY-TRUCK CITY (03)","ST0-023 ","ST0",247.03999328613301]
[6001377210,"CHAMPION-CRAIGIEBURN (04)","ST0-032 ","ST0",246.99000549316401]
[6001347568,"CONISTON-GROSVENOR (01)","ST0-033 ","ST0",246.97999572753901]
[6001320243,"CHEETHAM-CORONET (02)","ST0-032 ","ST0",246.89999389648401]
[6001338256,"NORTHUMBERLAND-MIDDLESBOROUGH (01)","ST0-022 ","ST0",246.86000061035199]
[6001614027,"REX-COOPER (02)","ST0-034 ","ST0",246.80000305175801]
[6001296507,"COOPER-FILLO (00)","ST0-013 ","ST0",246.72000122070301]
[6001317266,"CENTENNIAL PARK-GIPPSLAND (02)","ST0-011 ","ST0",246.71000671386699]
[6001476253,"POTTER-KADER CO (01)","ST0-022 ","ST0",246.66000366210901]
[6001614040,"REX-COOPER (02)","ST0-034 ","ST0",246.60000610351599]
[6001345015,"FAIRHAVEN-HOLMAN (02)","ST0-011 ","ST0",246.52999877929699]
[6001393346,"CAVELL-PUNT (05)","ST0-011 ","ST0",246.52000427246099]
[6001306780,"FREIGHT-FLEET P19 (03)","ST0-013 ","ST0",246.44999694824199]
[6001186030,"PLUMPTON-DIANNE (01)","ST0-011 ","ST0",246.38000488281301]
[6001186161,"MEDWAY-HANSON (02)","ST0-011 ","ST0",246.30000305175801]
[6001500150,"TOPOGRAPHICAL-ASTRONOMY (01)","ST0-032 ","ST0",246.30000305175801]
[6001377152,"JESICA 35-AMCOR (01)","ST0-034 ","ST0",246.22000122070301]
[6001184928,"CLOVELLY-ENFIELD (01)","ST0-033 ","ST0",246.11999511718801]
[6001447878,"AITKEN-BEDDISON (01)","ST0-022 ","ST0",246.080001831055]
[6001535617,"RUSHWOOD-TECHNICAL 1 (01)","ST0-011 ","ST0",246]
[6001294622,"NATHAN-FODEN NO.1 (04)","ST0-024 ","ST0",245.97999572753901]
[6001488386,"YELLOWBOX 30-GRASSLANDS (01)","ST0-014 ","ST0",245.89999389648401]
[6001427124,"ADMIRATION-REVERENCE (03)","ST0-012 ","ST0",245.80999755859401]
[6001185319,"WATTLEGLEN-SPURR (02)","ST0-011 ","ST0",245.72000122070301]
[6001377352,"CLARENDON-ACLAND (03)","ST0-011 ","ST0",245.67999267578099]
[6001445276,"SUNMOTH-DEBONAIR (01)","ST0-012 ","ST0",245.61999511718801]
[6001037631,"ROKEBY-CIMBERWOOD (02)","ST0-033 ","ST0",245.52000427246099]
[6001185002,"GILLINGHAM-LYDD (01)","ST0-033 ","ST0",245.419998168945]
[6001335135,"CONISTON-GROSVENOR (04)","ST0-033 ","ST0",245.41000366210901]
[6001341004,"CLARENDON-ACLAND (01)","ST0-011 ","ST0",245.30000305175801]
[6001282529,"AVENEL-GRAND (01)","ST0-022 ","ST0",245.19999694824199]
[6001229976,"DENNIS 24-LEADER (02)","ST0-024 ","ST0",245.080001831055]
[6001003660,"CRAIGIEBURN-HANSON (02)","ST0-022 ","ST0",244.94999694824199]
[6001238098,"CREEKWOOD-TALLGUM (04)","ST0-011 ","ST0",244.92999267578099]
[6001474821,"DIATREME-VULCAN (04)","ST0-032 ","ST0",244.80000305175801]
[6001123119,"ROCK-DIANNE (02)","ST0-011 ","ST0",244.66000366210901]
[6001418246,"LANCEWOOD-BRENTWICK (04)","ST0-012 ","ST0",244.61000061035199]
[6001409126,"FORTHAM-PIONEER (04)","ST0-012 ","ST0",244.47999572753901]
[6001427191,"WATERVIEW-DACITE (04)","ST0-032 ","ST0",244.330001831055]
[6001286493,"EXMOUTH-PEMBROKE (04)","ST0-012 ","ST0",244.11999511718801]
[6001519025,"KOSCIUSZKO-KILIMANJARO (01)","ST0-032 ","ST0",243.89999389648401]
[6001323690,"BALYANG-GULLY (01)","ST0-033 ","ST0",243.83999633789099]
[6001474282,"JUSCELINA-RETBA (03)","ST0-012 ","ST0",243.60000610351599]
[6001474276,"JUSCELINA-RETBA (03)","ST0-012 ","ST0",243.30000305175801]
[6001313561,"STUBB-FLEET (01)","ST0-013 ","ST0",243.11999511718801]
[6001236396,"CROCKET-HOTHLYN (02)","ST0-022 ","ST0",242.86999511718801]
[6001448906,"MOSEL-WISLA (02)","ST0-012 ","ST0",242.830001831055]
[6001291278,"HAYFIELD-EDGEWOOD (03)","ST0-032 ","ST0",242.55999755859401]
[6001207953,"CAPITAL LINK-P14 (01)","ST0-034 ","ST0",242.25999450683599]
[6001274475,"MOSEL-WISLA (02)","ST0-012 ","ST0",242.03999328613301]
[6001184377,"HUME 1825-SOMERTON 1 (00)","ST0-023 ","ST0",241.89999389648401]
[6001224607,"AINSLIE-NORTHBOURNE (02)","ST0-034 ","ST0",241.49000549316401]
[6001123621,"SECOND-EVE (03)","ST0-011 ","ST0",241.03999328613301]
[6001435628,"RUSHWOOD-GASOLINE (03)","ST0-011 ","ST0",240.44000244140599]
[6001312450,"RUSHWOOD-GASOLINE (03)","ST0-011 ","ST0",240.27999877929699]
[6001123621,"SECOND-EVE (03)","ST0-011 ","ST0",238.44999694824199]
[6001489962,"BUNTING-SOMERVILLE 463A (01)","TH0-021 ","TH0",253.60000610351599]
[6001290563,"BOOMERANG-AIRFORCE (01)","TH0-022 ","TH0",252.63999938964801]
[6001279024,"HAMPDEN-CROTHERS (02)","TH0-012 ","TH0",250.69999694824199]
[6001367442,"HAMPDEN-CROTHERS (01)","TH0-012 ","TH0",250.16000366210901]
[6001045957,"ASHLEY-CENTRAL WEST NO.1 (05)","TH0-012 ","TH0",249]
[6001057065,"GWELO-DEMPSTER (03)","TH0-011 ","TH0",248.16000366210901]
[6001588476,"SOUTH-BEACHLEY (02)","TH0-022 ","TH0",248]
[6001034891,"ANGLISS-SANDERSON (01)","TH0-011 ","TH0",247.63999938964801]
[6001474875,"HOLZER-MUNITIONS (02)","TH0-022 ","TH0",247.30000305175801]
[6001351479,"OLD GEELONG 17-JONES (03)","TH0-021 ","TH0",246.97999572753901]
[6001560519,"ANGLISS-SANDERSON (01)","TH0-011 ","TH0",246.60000610351599]
[6001126749,"RAVENSCOURT-ALICK 2 (02)","TH0-013 ","TH0",246.52000427246099]
[6001127324,"MARKET-FOURTH (03)","TH0-022 ","TH0",246.03999328613301]
[6001064609,"SHOWERS-SIMS (02)","TH0-022 ","TH0",245.44999694824199]
[6001401228,"ASHLEY-CENTRAL WEST NO.1 (05)","TH0-012 ","TH0",244.85000610351599]
[6001319086,"SOUTH-BEACHLEY (02)","TH0-022 ","TH0",244.67999267578099]
[6001065150,"GEELONG-OLD GEELONG (01)","TH0-021 ","TH0",243]
[6001318463,"OPAL-JADE (01)","TH0-022 ","TH0",241.33999633789099]
[6001395184,"WRIGHT 20-THOMSONS (04)","TMA-025 ","TMA",254.32000732421901]
[6001265053,"RANDWICK-QUINELLA (01)","TMA-011 ","TMA",252.80000305175801]
[6001156609,"FOSTERS-FLINDERS (03)","TMA-011 ","TMA",251.61999511718801]
[6001271894,"SLATER-TUNNECLIFFE (01)","TMA-011 ","TMA",249.47999572753901]
[6001455258,"COMMERCIAL 54-KEILOR PARK (01)","TMA-011 ","TMA",248.80000305175801]
[6001196834,"TERROR-FULLARTON (01)","TMA-011 ","TMA",248.36000061035199]
[6001156610,"KINGSTON-COLLINSON (02)","TMA-011 ","TMA",248.30000305175801]
[6001221009,"WEBBER 62-SLATER (02)","TMA-011 ","TMA",247.94999694824199]
[6001432725,"RICHARDS-THOMSONS (04)","TMA-011 ","TMA",247.69000244140599]
[6001230481,"DISNEY-WEBBER (02)","TMA-011 ","TMA",247.44000244140599]
[6001493710,"RICHARDS-THOMSONS (01)","TMA-011 ","TMA",247.39999389648401]
[6001509515,"RICHARDS-THOMSONS (02)","TMA-011 ","TMA",247.19999694824199]
[6001156915,"SNOW-LATROSE (01)","TMA-011 ","TMA",247.00999450683599]
[6001214264,"FOSTERS-MIDWAY (01)","TMA-011 ","TMA",246.78999328613301]
[6001408886,"TREVI 20-MARENO (01)","TMA-014 ","TMA",246.69999694824199]
[6001320433,"BAILEY-SLATER (02)","TMA-011 ","TMA",246.47000122070301]
[6001242780,"WEBBER-SLATER (01)","TMA-011 ","TMA",246.17999267578099]
[6001156916,"SNOW-LATROSE (04)","TMA-011 ","TMA",245.830001831055]
[6001196953,"WILLIAMS 18-WEBBER (01)","TMA-011 ","TMA",245.38999938964801]
[6001196964,"DISNEY-SLATER (02)","TMA-011 ","TMA",245.32000732421901]
[6001398712,"HARRICKS-TRANSLINK (01)","TMA-025 ","TMA",244.11000061035199]
[6001290260,"MALLETT-LILLEE (01)","TMA-014 ","TMA",242.5]
[6001219122,"AYR-DAREBIN (01)","TT0-003 ","TT0",255.53999328613301]
[6001237654,"ANNE-DALEGLEN (02)","TT0-003 ","TT0",254.92999267578099]
[6001234532,"BROWNING-SCOTT (01)","TT0-011 ","TT0",253.74000549316401]
[6001466631,"ROYAL-MCMAHON (02)","TT0-011 ","TT0",253.22000122070301]
[6001104901,"WHITELAW-BOLDREWOOD (02)","TT0-011 ","TT0",252.830001831055]
[6001527162,"ROYAL-MCMAHON (01)","TT0-011 ","TT0",252.60000610351599]
[6001108790,"BROWNING-SCOTT (02)","TT0-011 ","TT0",252.49000549316401]
[6001106654,"MANOEL-DAREBIN (02)","TT0-003 ","TT0",252.22999572753901]
[6001139926,"GLASGOW-HIGH (02)","TT0-010 ","TT0",252]
[6001107671,"BEENAK-PURINUAN (02)","TT0-011 ","TT0",251.75]
[6001104889,"WHITELAW-BOLDREWOOD (02)","TT0-011 ","TT0",251.69999694824199]
[6001106133,"ANNE-DALEGLEN (01)","TT0-003 ","TT0",251.47000122070301]
[6001107738,"LAURIE-PURINUAN (02)","TT0-003 ","TT0",251.30000305175801]
[6001307020,"GREENOCK-DAREBIN (02)","TT0-011 ","TT0",251.13999938964801]
[6001097463,"CLAREMONT-MOIRA (02)","TT0-008 ","TT0",251.10000610351599]
[6001107333,"INVERMAY-ST VIGEONS (01)","TT0-003 ","TT0",250.99000549316401]
[6001108998,"BRADSHAW-MARYBOROUGH (02)","TT0-011 ","TT0",250.85000610351599]
[6001270114,"CARROL-ORRONG (01)","TT0-010 ","TT0",250.72000122070301]
[6001478655,"ASQUITH-STURDEE (01)","TT0-011 ","TT0",250.67999267578099]
[6001623078,"RATHCOWN-CHEDDAR (01)","TT0-011 ","TT0",250.60000610351599]
[6001444269,"PLENTY-SNAKE GULLY (01)","TT0-011 ","TT0",250.47999572753901]
[6001287533,"AYR-DAREBIN (02)","TT0-003 ","TT0",250.36000061035199]
[6001105239,"CARROL-ORRONG (02)","TT0-010 ","TT0",250.24000549316401]
[6001100135,"GODLEY-BROADHURST (01)","TT0-008 ","TT0",250.22000122070301]
[6001106477,"ROBINS-SHAPIRO (02)","TT0-003 ","TT0",250.080001831055]
[6001108055,"BOLDREWOOD-McMAHON (01)","TT0-011 ","TT0",250.02999877929699]
[6001279932,"ARGYLE-DAREBIN (01)","TT0-003 ","TT0",249.92999267578099]
[6001105145,"ROYAL-MCMAHON (01)","TT0-011 ","TT0",249.89999389648401]
[6001109526,"BRADSHAW-MARYBOROUGH (02)","TT0-011 ","TT0",249.80000305175801]
[6001532205,"GLASGOW-HIGH (02)","TT0-010 ","TT0",249.69999694824199]
[6001243572,"McMAHON-CHEDDAR (02)","TT0-011 ","TT0",249.57000732421901]
[6001106785,"INVERNESS-INVERMAY (01)","TT0-003 ","TT0",249.46000671386699]
[6001104852,"CARROL-WHITELAW (00)","TT0-010 ","TT0",249.44000244140599]
[6001277843,"DREDGE-TORMEY (01)","TT0-008 ","TT0",249.32000732421901]
[6001227350,"GODLEY-BROADHURST (01)","TT0-008 ","TT0",249.19000244140599]
[6001305619,"BERNARD-BEDFORD (01)","TT0-010 ","TT0",249.05999755859401]
[6001106391,"BRIDGETON-TUNALEY (01)","TT0-003 ","TT0",249.02999877929699]
[6001104991,"ROYAL-MCMAHON (01)","TT0-011 ","TT0",248.88999938964801]
[6001098862,"BROADHURST-RADFORD (01)","TT0-008 ","TT0",248.75]
[6001097475,"CLAREMONT-MOIRA (02)","TT0-008 ","TT0",248.61000061035199]
[6001619226,"ARGYLE-DAREBIN (01)","TT0-003 ","TT0",248.5]
[6001100219,"MACKENZIE-RADFORD (01)","TT0-008 ","TT0",248.46000671386699]
[6001105194,"CHEDDAR-MACARTNEY (02)","TT0-010 ","TT0",248.330001831055]
[6001475732,"CHARLTON-BOLDREWOOD (01)","TT0-010 ","TT0",248.25]
[6001433995,"BERNARD-BEDFORD (03)","TT0-010 ","TT0",248.02999877929699]
[6001557389,"COBHAM 2-VIMY (03)","TT0-008 ","TT0",248]
[6001328277,"WHITELAW-BROADWAY (02)","TT0-010 ","TT0",247.80000305175801]
[6001100606,"LAWLEY-GLASGOW (01)","TT0-008 ","TT0",247.61999511718801]
[6001331911,"PURINUAN-BOX (03)","TT0-011 ","TT0",247.47000122070301]
[6001101175,"DUFFY-BARRY (03)","TT0-010 ","TT0",247.42999267578099]
[6001228098,"CHEDDAR-MACARTNEY (02)","TT0-010 ","TT0",247.30000305175801]
[6001097481,"ANSTEY-LOCKTON (01)","TT0-008 ","TT0",247.02000427246099]
[6001100609,"LAWLEY-GLASGOW (02)","TT0-008 ","TT0",246.80000305175801]
[6001100202,"GLASGOW-RADFORD (03)","TT0-008 ","TT0",246.580001831055]
[6001269963,"CHEDDAR-ROYAL (01)","TT0-010 ","TT0",246.52999877929699]
[6001541523,"CHEDDAR-ROYAL (01)","TT0-010 ","TT0",246.30000305175801]
[6001107143,"BANFF-DON (04)","TT0-003 ","TT0",246.00999450683599]
[6001101168,"DUFFY-BARRY (03)","TT0-010 ","TT0",245.80999755859401]
[6001105936,"ROMSEY-KEON (03)","TT0-003 ","TT0",245.77999877929699]
[6001098173,"JACKSON-STURDEE (01)","TT0-011 ","TT0",245.55999755859401]
[6001108473,"KILMORE-CHARLTON (02)","TT0-010 ","TT0",245.30000305175801]
[6001008666,"MONZA-FLORENCE (01)","TT0-008 ","TT0",245.02999877929699]
[6001537435,"JOHNSON-ARUNDEL (02)","TT0-003 ","TT0",245]
[6001252074,"CHENIES-RATHCOWN (02)","TT0-003 ","TT0",244.66000366210901]
[6001621292,"OCONNOR-MACFADZEAN (04)","TT0-008 ","TT0",244.39999389648401]
[6001108186,"BOLDREWOOD-McMAHON (02)","TT0-011 ","TT0",244.080001831055]
[6001509209,"FORDHAM-STRATHMERTON (02)","TT0-011 ","TT0",243.80000305175801]
[6001097935,"CARSON-HUGHES (02)","TT0-010 ","TT0",243.69999694824199]
[6001349622,"NORTH-BARWON (02)","TT0-010 ","TT0",243.36000061035199]
[6001097730,"CARSON-LINDENOW (02)","TT0-010 ","TT0",243.11000061035199]
[6001097979,"CHAUVEL-GLASGOW (01)","TT0-008 ","TT0",242.58999633789099]
[6001104343,"CENTRE-HOWARD (01)","TT0-010 ","TT0",242.5]
[6001098758,"CHAUVEL-GLASGOW (02)","TT0-008 ","TT0",241.97000122070301]
[6001108702,"SCOTT-PLENTY (01)","TT0-011 ","TT0",240.94000244140599]
[6001104546,"BERNARD-BROADWAY (02)","TT0-010 ","TT0",237.21000671386699]
[6001514791,"FRENSHAM-HARBORNE (02)","WT0-004 ","WT0",249.39999389648401]
[6001484088,"THOMAS HOLMES-SKYLINE (02)","YVE-015 ","YVE",252.60000610351599]
[6001252013,"RIVERBANK-BREAM (02)","YVE-022 ","YVE",249.669998168945]
[6001275386,"RIVERBANK-BREAM (01)","YVE-022 ","YVE",248.72999572753901]
[6001119944,"BIRMINGHAM-MELBOURNE (02)","YVE-012 ","YVE",248.61999511718801]
[6001252723,"BIRMINGHAM-MELBOURNE (01)","YVE-012 ","YVE",248.080001831055]
[6001435021,"HUDSONS 88-FORREST (04)","YVE-012 ","YVE",247.72000122070301]
[6001324584,"CREFDEN-YELLOWBOX (04)","YVE-022 ","YVE",247.32000732421901]
[6001388508,"THE AVENUE-CREEK (02)","YVE-012 ","YVE",247]
[6001290856,"WARRS-VAN NESS (01)","YVE-022 ","YVE",246.96000671386699]
[6001549262,"BARB-MIDDLE (04)","YVE-022 ","YVE",246.69999694824199]
[6001273203,"BLAIR-FORGE (08)","YVE-022 ","YVE",246.46000671386699]
[6001334380,"HALLENSTEIN-WARDE (02)","YVE-021 ","YVE",246.21000671386699]
[6001367334,"WHITEHALL-HARRIS (01)","YVE-021 ","YVE",246.05000305175801]
[6001267661,"BLAIR-WILD CHERRY (06)","YVE-022 ","YVE",245.91000366210901]
[6001324592,"CREFDEN-YELLOWBOX (04)","YVE-022 ","YVE",245.60000610351599]
[6001324588,"CREFDEN-YELLOWBOX (04)","YVE-022 ","YVE",245.22000122070301]
[6001474114,"LA SCALA-GORDON (02)","YVE-015 ","YVE",245.13999938964801]
[6001064061,"CLYDE-THE ESPLANADE (01)","YVE-022 ","YVE",244.71000671386699]
[6001240787,"TAMUK-SHEOAK (01)","YVE-022 ","YVE",244.19999694824199]
[6001257688,"JINDIVICK-SEAGULL (02)","YVE-022 ","YVE",243.830001831055]
[6001019785,"PARKER-MORELAND (01)","YVE-021 ","YVE",243.17999267578099]
[6001286111,"STONEY-SALTWATER (02)","YVE-022 ","YVE",243.11000061035199]
[6001488961,"EUCALYPTUS-CREFDEN (01)","YVE-022 ","YVE",242.60000610351599]
[6001306602,"BALLARAT-OVENS (01)","YVE-024 ","YVE",242.22999572753901]
[6001350630,"SALTRIVER-MORELAND (03)","YVE-021 ","YVE",241.88999938964801]
[6001306604,"BALLARAT-OVENS (01)","YVE-024 ","YVE",241.80000305175801]
[6001506713,"LA SCALA-LYRIC NO 2 (02)","YVE-015 ","YVE",241.5]
[6001416393,"LA SCALA-LYRIC NO 2 (02)","YVE-015 ","YVE",241.22000122070301]
[6001287950,"WESTS-VILLAGE (03)","YVE-022 ","YVE",240.97999572753901]
[6001480527,"EARSDON-WHITEHALL (01)","YVE-014 ","YVE",240.94999694824199]
[6001064037,"THE ESPLANADE-PLANTATION (01)","YVE-022 ","YVE",240.63000488281301]
[6001250876,"GRANDVIEW-HIGH (02)","YVE-015 ","YVE",240.25]
[6001016299,"THE ESPLANADE-PLANTATION (01)","YVE-022 ","YVE",239.580001831055]
[6001054489,"SIMPSON-BALLARAT (01)","YVE-024 ","YVE",238.08999633789099]
[6001432788,"HALL 208-SIMCOCK (01)","YVE-012 ","YVE",237.52000427246099]
[6001303866,null,null,null,252.55000305175801]
[6001020615,null,null,null,249.94999694824199]
[6001162997,null,null,null,248.57000732421901]
[6001062583,null,null,null,247.88999938964801]
[6001045994,null,null,null,247.36999511718801]
[6001049717,null,null,null,246.49000549316401]
[6001034387,null,null,null,245.60000610351599]
[6001194623,null,null,null,245.47999572753901]
[6001165653,null,null,null,244.55000305175801]
[6001055415,null,null,null,243.44000244140599]
[6001061575,null,null,null,242.77999877929699]
[6001249038,null,null,null,242.77999877929699]
[6001040289,null,null,null,242.77000427246099]
[6001024393,null,null,null,242.75]
[6001093437,null,null,null,242.74000549316401]
[6001148172,null,null,null,242.74000549316401]
[6001172136,null,null,null,242.72999572753901]
[6001332376,null,null,null,242.71000671386699]
[6001421108,null,null,null,242.71000671386699]
[6001104272,null,null,null,242.69000244140599]
[6001057281,null,null,null,242.67999267578099]
[6001395416,null,null,null,242.67999267578099]
[6001416430,null,null,null,242.67999267578099]
[6001002548,null,"        ",null,242.669998168945]
[6001042205,null,null,null,242.66000366210901]
[6001234919,null,null,null,242.64999389648401]
[6001090656,null,null,null,242.63999938964801]
[6001271303,null,null,null,242.63000488281301]
[6001065875,null,"        ",null,242.61999511718801]
[6001189445,null,null,null,242.61999511718801]
[6001039842,null,null,null,242.61000061035199]
[6001120975,null,null,null,242.61000061035199]
[6001279167,null,null,null,242.61000061035199]
[6001089977,null,null,null,242.60000610351599]
[6001505107,null,"        ",null,242.60000610351599]
[6001528195,null,null,null,242.60000610351599]
[6001351389,null,"        ",null,242.58999633789099]
[6001048362,null,null,null,242.580001831055]
[6001171638,null,null,null,242.580001831055]
[6001247623,null,null,null,242.580001831055]
[6001267026,null,null,null,242.580001831055]
[6001047550,null,null,null,242.57000732421901]
[6001067259,null,null,null,242.57000732421901]
[6001271407,null,null,null,242.57000732421901]
[6001017376,null,"        ",null,242.55999755859401]
[6001040289,null,null,null,242.55999755859401]
[6001085661,null,null,null,242.55999755859401]
[6001247623,null,null,null,242.55000305175801]
[6001416428,null,null,null,242.52999877929699]
[6001033792,null,null,null,242.52000427246099]
[6001101299,null,null,null,242.52000427246099]
[6001416430,null,null,null,242.52000427246099]
[6001163500,null,null,null,242.5]
[6001596344,null,null,null,242.5]
[6001611002,null,null,null,242.5]
[6001635145,null,null,null,242.5]
[6001416433,null,null,null,242.49000549316401]
[6001015389,null,"        ",null,242.47999572753901]
[6001065872,null,"        ",null,242.47999572753901]
[6001087573,null,null,null,242.47999572753901]
[6001089977,null,null,null,242.47999572753901]
[6001167010,null,null,null,242.47999572753901]
[6001333834,null,null,null,242.47999572753901]
[6001153479,null,null,null,242.47000122070301]
[6001027745,null,null,null,242.44999694824199]
[6001037321,null,null,null,242.44999694824199]
[6001146317,null,null,null,242.44999694824199]
[6001169388,null,null,null,242.44000244140599]
[6001103479,null,null,null,242.42999267578099]
[6001171638,null,null,null,242.42999267578099]
[6001029910,null,null,null,242.419998168945]
[6001228805,null,null,null,242.419998168945]
[6001284936,null,null,null,242.41000366210901]
[6001096681,null,null,null,242.39999389648401]
[6001569414,null,null,null,242.39999389648401]
[6001396388,null,"        ",null,242.38000488281301]
[6001034562,null,null,null,242.36999511718801]
[6001019162,null,null,null,242.35000610351599]
[6001152519,null,null,null,242.35000610351599]
[6001170723,null,null,null,242.35000610351599]
[6001037321,null,null,null,242.330001831055]
[6001171260,null,null,null,242.30999755859401]
[6001033376,null,null,null,242.30000305175801]
[6001036921,null,null,null,242.30000305175801]
[6001169631,null,null,null,242.30000305175801]
[6001624012,null,null,null,242.30000305175801]
[6001189445,null,null,null,242.28999328613301]
[6001388102,null,null,null,242.28999328613301]
[6001416428,null,null,null,242.28999328613301]
[6001085216,null,null,null,242.27999877929699]
[6001322063,null,null,null,242.27999877929699]
[6001145038,null,null,null,242.27000427246099]
[6001155678,null,null,null,242.27000427246099]
[6001154459,null,null,null,242.25999450683599]
[6001099141,null,null,null,242.24000549316401]
[6001078734,null,null,null,242.22999572753901]
[6001078734,null,null,null,242.22000122070301]
[6001084529,null,null,null,242.22000122070301]
[6001091700,null,null,null,242.22000122070301]
[6001275134,null,null,null,242.22000122070301]
[6001233905,null,null,null,242.21000671386699]
[6001631004,null,null,null,242.19999694824199]
[6001166600,null,null,null,242.19000244140599]
[6001416433,null,null,null,242.17999267578099]
[6001041728,null,null,null,242.169998168945]
[6001166859,null,null,null,242.169998168945]
[6001174221,null,null,null,242.169998168945]
[6001029273,null,null,null,242.16000366210901]
[6001171995,null,null,null,242.16000366210901]
[6001087571,null,null,null,242.13000488281301]
[6001120820,null,null,null,242.13000488281301]
[6001180609,null,null,null,242.13000488281301]
[6001247623,null,null,null,242.13000488281301]
[6001055705,null,null,null,242.11000061035199]
[6001630074,null,null,null,242.10000610351599]
[6001636078,null,null,null,242.10000610351599]
[6001033376,null,null,null,242.08999633789099]
[6001135834,null,null,null,242.08999633789099]
[6001166420,null,null,null,242.08999633789099]
[6001198950,null,"        ",null,242.080001831055]
[6001201377,null,null,null,242.07000732421901]
[6001174342,null,null,null,242.05999755859401]
[6001035331,null,null,null,242.03999328613301]
[6001096680,null,null,null,242.03999328613301]
[6001173517,null,null,null,242.03999328613301]
[6001268974,null,null,null,242.02000427246099]
[6001318191,null,null,null,242.02000427246099]
[6001334105,null,null,null,242.00999450683599]
[6001023576,null,null,null,242]
[6001120976,null,null,null,242]
[6001585061,null,null,null,242]
[6001594647,null,null,null,242]
[6001318817,null,null,null,241.99000549316401]
[6001065098,null,null,null,241.97000122070301]
[6001146635,null,null,null,241.97000122070301]
[6001172464,null,null,null,241.97000122070301]
[6001039813,null,null,null,241.96000671386699]
[6001057757,null,null,null,241.96000671386699]
[6001084901,null,null,null,241.96000671386699]
[6001064129,null,null,null,241.94000244140599]
[6001103859,null,null,null,241.919998168945]
[6001285000,null,null,null,241.919998168945]
[6001114773,null,null,null,241.91000366210901]
[6001055709,null,"        ",null,241.89999389648401]
[6001107428,null,null,null,241.89999389648401]
[6001189445,null,null,null,241.89999389648401]
[6001528195,null,null,null,241.89999389648401]
[6001632049,null,null,null,241.89999389648401]
[6001425019,null,null,null,241.88999938964801]
[6001056869,null,null,null,241.88000488281301]
[6001008426,null,null,null,241.86000061035199]
[6001153745,null,null,null,241.85000610351599]
[6001272835,null,null,null,241.85000610351599]
[6001120976,null,null,null,241.83999633789099]
[6001153744,null,null,null,241.83999633789099]
[6001066614,null,null,null,241.830001831055]
[6001242668,null,null,null,241.830001831055]
[6001042006,null,null,null,241.82000732421901]
[6001087647,null,null,null,241.82000732421901]
[6001324023,null,null,null,241.80000305175801]
[6001510407,null,null,null,241.80000305175801]
[6001036879,null,null,null,241.78999328613301]
[6001173598,null,null,null,241.78999328613301]
[6001172221,null,null,null,241.75]
[6001163500,null,null,null,241.74000549316401]
[6001056869,null,null,null,241.72999572753901]
[6001153800,null,null,null,241.72999572753901]
[6001408243,null,null,null,241.71000671386699]
[6001037401,null,null,null,241.69999694824199]
[6001510407,null,null,null,241.69999694824199]
[6001147905,null,null,null,241.69000244140599]
[6001045655,null,null,null,241.67999267578099]
[6001439603,null,null,null,241.64999389648401]
[6001135003,null,null,null,241.63999938964801]
[6001113638,null,null,null,241.63000488281301]
[6001055248,null,null,null,241.61999511718801]
[6001104224,null,null,null,241.61999511718801]
[6001172145,null,null,null,241.61999511718801]
[6001163500,null,null,null,241.60000610351599]
[6001173720,null,null,null,241.60000610351599]
[6001247623,null,null,null,241.60000610351599]
[6001510099,null,null,null,241.60000610351599]
[6001621211,null,null,null,241.60000610351599]
[6001024072,null,null,null,241.58999633789099]
[6001041565,null,null,null,241.58999633789099]
[6001126155,null,null,null,241.58999633789099]
[6001094110,null,null,null,241.57000732421901]
[6001153476,null,null,null,241.57000732421901]
[6001153445,null,null,null,241.55999755859401]
[6001612332,null,null,null,241.53999328613301]
[6001114693,null,null,null,241.52999877929699]
[6001163500,null,null,null,241.52000427246099]
[6001636056,null,null,null,241.5]
[6001096718,null,null,null,241.49000549316401]
[6001167720,null,null,null,241.49000549316401]
[6001043322,null,null,null,241.47999572753901]
[6001131413,null,null,null,241.47999572753901]
[6001042218,null,null,null,241.47000122070301]
[6001172736,null,null,null,241.47000122070301]
[6001197991,null,null,null,241.46000671386699]
[6001348896,null,null,null,241.46000671386699]
[6001526349,null,null,null,241.39999389648401]
[6001092829,null,null,null,241.38999938964801]
[6001096924,null,null,null,241.38999938964801]
[6001255039,null,null,null,241.38999938964801]
[6001037129,null,null,null,241.36000061035199]
[6001177850,null,null,null,241.35000610351599]
[6001027657,null,null,null,241.33999633789099]
[6001172486,null,null,null,241.33999633789099]
[6001027662,null,null,null,241.30999755859401]
[6001546105,null,null,null,241.30000305175801]
[6001598029,null,null,null,241.30000305175801]
[6001044181,null,null,null,241.28999328613301]
[6001066428,null,null,null,241.28999328613301]
[6001153495,null,null,null,241.27999877929699]
[6001153792,null,null,null,241.27999877929699]
[6001163500,null,null,null,241.27999877929699]
[6001176931,null,null,null,241.27999877929699]
[6001089977,null,null,null,241.24000549316401]
[6001149526,null,null,null,241.24000549316401]
[6001321131,null,null,null,241.22000122070301]
[6001022433,null,null,null,241.21000671386699]
[6001101074,null,null,null,241.19999694824199]
[6001499090,null,null,null,241.19999694824199]
[6001591678,null,null,null,241.19999694824199]
[6001322396,null,null,null,241.16000366210901]
[6001074546,null,null,null,241.13999938964801]
[6001065098,null,null,null,241.13000488281301]
[6001113423,null,null,null,241.11999511718801]
[6001120238,null,null,null,241.11999511718801]
[6001087436,null,null,null,241.10000610351599]
[6001269787,null,null,null,241.10000610351599]
[6001638273,null,null,null,241.10000610351599]
[6001073572,null,"        ",null,241.08999633789099]
[6001007805,null,null,null,241.07000732421901]
[6001444409,null,null,null,241.07000732421901]
[6001396431,null,null,null,241.03999328613301]
[6001036275,null,null,null,241]
[6001091298,null,null,null,241]
[6001087487,null,null,null,240.99000549316401]
[6001054188,null,null,null,240.97000122070301]
[6001234330,null,null,null,240.96000671386699]
[6001125230,null,null,null,240.94999694824199]
[6001095035,null,null,null,240.919998168945]
[6001060279,null,null,null,240.91000366210901]
[6001039607,null,null,null,240.89999389648401]
[6001157306,null,null,null,240.89999389648401]
[6001242668,null,null,null,240.89999389648401]
[6001520200,null,null,null,240.89999389648401]
[6001612000,null,null,null,240.89999389648401]
[6001514818,null,null,null,240.88999938964801]
[6001076793,null,null,null,240.88000488281301]
[6001242668,null,null,null,240.88000488281301]
[6001063850,null,null,null,240.86999511718801]
[6001056869,null,null,null,240.86000061035199]
[6001032794,null,null,null,240.85000610351599]
[6001278408,null,null,null,240.830001831055]
[6001298379,null,null,null,240.80000305175801]
[6001268874,null,null,null,240.77999877929699]
[6001313556,null,null,null,240.77000427246099]
[6001034562,null,null,null,240.75999450683599]
[6001090015,null,null,null,240.74000549316401]
[6001122949,null,null,null,240.74000549316401]
[6001396140,null,null,null,240.74000549316401]
[6001157293,null,null,null,240.72999572753901]
[6001066305,null,null,null,240.67999267578099]
[6001158115,null,null,null,240.669998168945]
[6001074553,null,null,null,240.60000610351599]
[6001120269,null,null,null,240.60000610351599]
[6001172114,null,null,null,240.60000610351599]
[6001590367,null,null,null,240.60000610351599]
[6001033183,null,null,null,240.53999328613301]
[6001207153,null,null,null,240.5]
[6001207153,null,null,null,240.5]
[6001598433,null,null,null,240.5]
[6001087573,null,null,null,240.47999572753901]
[6001091000,null,null,null,240.47999572753901]
[6001076793,null,null,null,240.46000671386699]
[6001120976,null,null,null,240.419998168945]
[6001340420,null,null,null,240.41000366210901]
[6001087484,null,null,null,240.39999389648401]
[6001110582,null,null,null,240.39999389648401]
[6001396140,null,null,null,240.38999938964801]
[6001087530,null,null,null,240.36000061035199]
[6001033293,null,null,null,240.35000610351599]
[6001087458,null,null,null,240.35000610351599]
[6001087483,null,null,null,240.33999633789099]
[6001087511,null,null,null,240.33999633789099]
[6001045165,null,null,null,240.330001831055]
[6001091001,null,null,null,240.32000732421901]
[6001117096,null,null,null,240.30999755859401]
[6001207153,null,null,null,240.30000305175801]
[6001197746,null,null,null,240.28999328613301]
[6001044128,null,null,null,240.27999877929699]
[6001172234,null,null,null,240.25999450683599]
[6001120976,null,null,null,240.25]
[6001087482,null,null,null,240.17999267578099]
[6001149516,null,null,null,240.16000366210901]
[6001046658,null,null,null,240.14999389648401]
[6001300100,null,null,null,240.13999938964801]
[6001087529,null,null,null,240.13000488281301]
[6001087457,null,null,null,240.11999511718801]
[6001061080,null,null,null,240.11000061035199]
[6001220307,null,null,null,240.11000061035199]
[6001017627,null,null,null,240.10000610351599]
[6001087422,null,null,null,240.10000610351599]
[6001087460,null,null,null,240.10000610351599]
[6001087462,null,null,null,240.10000610351599]
[6001340437,null,null,null,240.08999633789099]
[6001050222,null,null,null,240.080001831055]
[6001172738,null,null,null,240.05999755859401]
[6001114497,null,null,null,240.05000305175801]
[6001268437,null,null,null,240.05000305175801]
[6001183952,null,null,null,240.03999328613301]
[6001275826,null,null,null,240.03999328613301]
[6001087551,null,null,null,240.02000427246099]
[6001093389,null,null,null,239.99000549316401]
[6001029603,null,null,null,239.97999572753901]
[6001114497,null,null,null,239.97999572753901]
[6001127535,null,null,null,239.97999572753901]
[6001087552,null,null,null,239.94999694824199]
[6001050222,null,null,null,239.92999267578099]
[6001087540,null,null,null,239.919998168945]
[6001041441,null,null,null,239.89999389648401]
[6001087522,null,null,null,239.89999389648401]
[6001598427,null,"        ",null,239.89999389648401]
[6001236926,null,null,null,239.88000488281301]
[6001087571,null,null,null,239.86999511718801]
[6001232614,null,null,null,239.86999511718801]
[6001087423,null,null,null,239.86000061035199]
[6001114773,null,null,null,239.86000061035199]
[6001232614,null,null,null,239.86000061035199]
[6001087647,null,null,null,239.85000610351599]
[6001245589,null,null,null,239.85000610351599]
[6001087429,null,null,null,239.83999633789099]
[6001260360,null,null,null,239.83999633789099]
[6001351562,null,null,null,239.830001831055]
[6001021073,null,null,null,239.82000732421901]
[6001041178,null,null,null,239.80999755859401]
[6001114497,null,null,null,239.80999755859401]
[6001597666,null,null,null,239.80000305175801]
[6001023833,null,null,null,239.77000427246099]
[6001276443,null,null,null,239.77000427246099]
[6001087481,null,null,null,239.74000549316401]
[6001239742,null,null,null,239.72999572753901]
[6001026261,null,null,null,239.69999694824199]
[6001612306,null,null,null,239.69999694824199]
[6001091000,null,null,null,239.69000244140599]
[6001087489,null,null,null,239.67999267578099]
[6001087497,null,null,null,239.67999267578099]
[6001094091,null,null,null,239.67999267578099]
[6001087439,null,null,null,239.669998168945]
[6001396140,null,null,null,239.669998168945]
[6001023281,null,null,null,239.66000366210901]
[6001043177,null,null,null,239.66000366210901]
[6001018828,null,null,null,239.63999938964801]
[6001085916,null,null,null,239.63999938964801]
[6001200877,null,null,null,239.63999938964801]
[6001120213,null,null,null,239.61999511718801]
[6001008968,null,null,null,239.61000061035199]
[6001351562,null,null,null,239.580001831055]
[6001087574,null,null,null,239.55000305175801]
[6001351562,null,null,null,239.55000305175801]
[6001114505,null,null,null,239.52999877929699]
[6001165073,null,null,null,239.52999877929699]
[6001254318,null,null,null,239.52000427246099]
[6001042907,null,null,null,239.5]
[6001165072,null,null,null,239.5]
[6001574122,null,null,null,239.5]
[6001203569,null,null,null,239.49000549316401]
[6001269747,null,null,null,239.49000549316401]
[6001055248,null,null,null,239.47000122070301]
[6001027168,null,null,null,239.42999267578099]
[6001114505,null,null,null,239.42999267578099]
[6001149541,null,null,null,239.42999267578099]
[6001091000,null,null,null,239.41000366210901]
[6001589115,null,null,null,239.39999389648401]
[6001596344,null,null,null,239.39999389648401]
[6001621275,null,null,null,239.39999389648401]
[6001335913,null,null,null,239.36000061035199]
[6001070992,null,null,null,239.330001831055]
[6001039607,null,null,null,239.30000305175801]
[6001593257,null,null,null,239.30000305175801]
[6001245005,null,null,null,239.27999877929699]
[6001311091,null,null,null,239.27000427246099]
[6001017447,null,null,null,239.22000122070301]
[6001569246,null,null,null,239.19999694824199]
[6001240519,null,null,null,239.169998168945]
[6001235832,null,null,null,239.14999389648401]
[6001175089,null,null,null,239.13999938964801]
[6001039607,null,null,null,239.10000610351599]
[6001120269,null,null,null,239.10000610351599]
[6001120681,null,null,null,239.080001831055]
[6001087490,null,null,null,239.05999755859401]
[6001284473,null,null,null,239.05000305175801]
[6001094033,null,null,null,239.03999328613301]
[6001094725,null,null,null,239.03999328613301]
[6001120269,null,null,null,239.02999877929699]
[6001203482,null,null,null,239.02999877929699]
[6001409216,null,null,null,239.00999450683599]
[6001055248,null,null,null,239]
[6001218223,null,null,null,238.94999694824199]
[6001042890,null,null,null,238.94000244140599]
[6001621057,null,null,null,238.89999389648401]
[6001043449,null,null,null,238.85000610351599]
[6001099223,null,null,null,238.82000732421901]
[6001076591,null,null,null,238.80999755859401]
[6001114377,null,null,null,238.80999755859401]
[6001071054,null,null,null,238.80000305175801]
[6001485049,null,null,null,238.80000305175801]
[6001071061,null,null,null,238.75]
[6001032668,null,null,null,238.74000549316401]
[6001396431,null,null,null,238.72000122070301]
[6001537247,null,null,null,238.69999694824199]
[6001086113,null,null,null,238.669998168945]
[6001033031,null,null,null,238.63000488281301]
[6001116846,null,null,null,238.58999633789099]
[6001197162,null,null,null,238.580001831055]
[6001067920,null,null,null,238.57000732421901]
[6001087571,null,null,null,238.55999755859401]
[6001095002,null,null,null,238.55000305175801]
[6001149528,null,null,null,238.55000305175801]
[6001116525,null,null,null,238.53999328613301]
[6001237217,null,null,null,238.53999328613301]
[6001037401,null,null,null,238.5]
[6001175818,null,null,null,238.47999572753901]
[6001174308,null,null,null,238.44999694824199]
[6001236285,null,null,null,238.38000488281301]
[6001399663,null,null,null,238.38000488281301]
[6001114505,null,null,null,238.36999511718801]
[6001396892,null,null,null,238.36000061035199]
[6001023182,null,null,null,238.330001831055]
[6001094486,null,null,null,238.30999755859401]
[6001552367,null,null,null,238.30000305175801]
[6001104372,null,null,null,238.24000549316401]
[6001164994,null,null,null,238.22000122070301]
[6001099216,null,null,null,238.19999694824199]
[6001396431,null,null,null,238.19999694824199]
[6001125627,null,null,null,238.13000488281301]
[6001336257,null,null,null,238.13000488281301]
[6001103625,null,null,null,238.11000061035199]
[6001152797,null,null,null,238.10000610351599]
[6001083659,null,null,null,238.08999633789099]
[6001087573,null,null,null,238.08999633789099]
[6001085988,null,null,null,238.05000305175801]
[6001093808,null,null,null,238.05000305175801]
[6001032672,null,null,null,238.02000427246099]
[6001031648,null,null,null,238]
[6001045054,null,null,null,237.97999572753901]
[6001094034,null,null,null,237.97999572753901]
[6001349836,null,null,null,237.97000122070301]
[6001349836,null,null,null,237.96000671386699]
[6001087618,null,null,null,237.94000244140599]
[6001114773,null,null,null,237.919998168945]
[6001349836,null,null,null,237.91000366210901]
[6001087647,null,null,null,237.89999389648401]
[6001621048,null,null,null,237.89999389648401]
[6001087618,null,null,null,237.830001831055]
[6001068296,null,null,null,237.80999755859401]
[6001232614,null,null,null,237.80000305175801]
[6001595761,null,null,null,237.80000305175801]
[6001174988,null,null,null,237.72999572753901]
[6001010877,null,null,null,237.71000671386699]
[6001034480,null,null,null,237.69999694824199]
[6001241036,null,null,null,237.67999267578099]
[6001236285,null,null,null,237.63000488281301]
[6001115583,null,null,null,237.61999511718801]
[6001239742,null,null,null,237.58999633789099]
[6001448296,null,null,null,237.580001831055]
[6001148676,null,"        ",null,237.55000305175801]
[6001023181,null,null,null,237.50999450683599]
[6001114773,null,null,null,237.50999450683599]
[6001026309,null,null,null,237.47000122070301]
[6001174994,null,null,null,237.46000671386699]
[6001180589,null,null,null,237.44999694824199]
[6001084621,null,null,null,237.36000061035199]
[6001148678,null,"        ",null,237.36000061035199]
[6001023181,null,null,null,237.22000122070301]
[6001513033,null,null,null,237.10000610351599]
[6001125939,null,null,null,237.08999633789099]
[6001076793,null,null,null,237.05000305175801]
[6001517269,null,null,null,236.89999389648401]
[6001517273,null,null,null,236.89999389648401]
[6001517281,null,null,null,236.89999389648401]
[6001572592,null,null,null,236.89999389648401]
[6001152952,null,null,null,236.86000061035199]
[6001595761,null,null,null,236.80000305175801]
[6001125939,null,null,null,236.69000244140599]
[6001175206,null,null,null,236.67999267578099]
[6001017575,null,null,null,236.63000488281301]
[6001595761,null,null,null,236.30000305175801]
[6001112666,null,null,null,236.27000427246099]
[6001112665,null,null,null,236.21000671386699]
[6001125939,null,null,null,236.21000671386699]
[6001076793,null,null,null,236.10000610351599]
[6001520200,null,null,null,236.10000610351599]
[6001333576,null,null,null,235.91000366210901]
[6001545764,null,null,null,235.80000305175801]
[6001019167,null,null,null,235.33999633789099]
[6001236285,null,null,null,235.330001831055]
[6001399663,null,null,null,235.22999572753901]
[6001590367,null,null,null,235.19999694824199]
[6001399663,null,null,null,235.08999633789099]
[6001042995,null,null,null,235.080001831055]
[6001091000,null,null,null,235.00999450683599]
[6001118960,null,null,null,234.97999572753901]
[6001520200,null,null,null,234.80000305175801]
[6001173307,null,null,null,233.75999450683599]
[6001170033,null,null,null,233.74000549316401]
[6001003631,null,null,null,232.24000549316401]