{"text_format":"1","workbook":"xlsx","n_sheets":5,"sheets":["Cover","Summary","Model","Data","Lists"],"not_rendered":{"charts":1,"images":1,"macros":0,"external_links":0,"defined_names":3,"comments":0,"pivot_tables":0},"unopened":[],"bounds":{"document_bytes":16777216,"sheet_cells":100000,"rows_first":2000,"rows_last":500,"rows_between":2000,"halvings":0,"cell_chars":16384,"cell_head_chars":4096},"cells_cut":0,"cells_raw":0,"read":"whole","date_system":"1900"}

{"sheet":"Cover","index":0,"n_rows":40,"n_cols":4,"rows_kept":40,"cut":false,"hidden":false,"merged":[]}
[]
[null,null,"United Energy"]
[null,null,"Revised proposal 2026-31"]
[]
[null,null,"Backcast wood pole condition forecast (FY21-25)"]
[null,null,"Model number:","3.4.02"]
[]
[null,null,"2025-12-01"]
[]
[]
[]
[]
[]
[]
[]
[]
[]
[]
[]
[]
[]
[]
[]
[]
[]
[]
[]
[]
[]
[]
[]
[]
[]
[]
[]
[]
[]
[]
[]
[{"$f":"_xlfn.SHEETS()","v":5}]

{"sheet":"Summary","index":1,"n_rows":25,"n_cols":6,"rows_kept":25,"cut":false,"hidden":false,"merged":[]}
["United Energy"]
["Backcasted wood pole condition forecast"]
[]
["FORECAST"]
[]
[null,"FY21-25 intervention volumes",{"$f":"SUM(D25:E25)","v":9286.6219999999994}]
[]
["CALCS"]
[]
[null,"FY20 pole condition","FY25 Pole Condition",null,null,"Total"]
[null,null,"Serviceable","Limited Life","Unserviceable"]
[null,"Serviceable",{"$f":"COUNTIFS(Model!$E:$E,Summary!$B12,Model!$N:$N,Summary!C$11)","v":118291},{"$f":"COUNTIFS(Model!$E:$E,Summary!$B12,Model!$N:$N,Summary!D$11)","v":13238},{"$f":"COUNTIFS(Model!$E:$E,Summary!$B12,Model!$N:$N,Summary!E$11)","v":0},{"$f":"SUM(C12:E12)","v":131529}]
[null,"Limited Life",{"$f":"COUNTIFS(Model!$E:$E,Summary!$B13,Model!$N:$N,Summary!C$11)","v":0},{"$f":"COUNTIFS(Model!$E:$E,Summary!$B13,Model!$N:$N,Summary!D$11)","v":5467},{"$f":"COUNTIFS(Model!$E:$E,Summary!$B13,Model!$N:$N,Summary!E$11)","v":325},{"$f":"SUM(C13:E13)","v":5792}]
[null,"Unserviceable",{"$f":"COUNTIFS(Model!$E:$E,Summary!$B14,Model!$N:$N,Summary!C$11)","v":0},{"$f":"COUNTIFS(Model!$E:$E,Summary!$B14,Model!$N:$N,Summary!D$11)","v":0},{"$f":"COUNTIFS(Model!$E:$E,Summary!$B14,Model!$N:$N,Summary!E$11)","v":397},{"$f":"SUM(C14:E14)","v":397}]
[null,"Total",{"$f":"SUM(C12:C14)","v":118291},{"$f":"SUM(D12:D14)","v":18705},{"$f":"SUM(E12:E14)","v":722},{"$f":"SUM(F12:F14)","v":137718}]
[]
[]
[null,"Pole condition ","Serviceable",{"$f":"Data!B12","v":"Limited Life"},{"$f":"Data!B13","v":"Unserviceable"}]
[null,"FY2021",{"$f":"COUNTIF(Model!$E:$E,Summary!C$18)","v":131529},{"$f":"COUNTIF(Model!$E:$E,Summary!D$18)","v":5792},{"$f":"COUNTIF(Model!$E:$E,Summary!E$18)","v":397}]
[null,"FY2025",{"$f":"COUNTIF(Model!$N:$N,Summary!C$18)","v":118291},{"$f":"COUNTIF(Model!$N:$N,Summary!D$18)","v":18705},{"$f":"COUNTIF(Model!$N:$N,Summary!E$18)","v":722}]
[null,"Delta",{"$f":"C20-C19","v":-13238},{"$f":"D20-D19","v":12913},{"$f":"E20-E19","v":325}]
[]
[]
[null,"Intervention volumes (FY21-25)","Serviceable",{"$f":"D18","v":"Limited Life"},{"$f":"E18","v":"Unserviceable"}]
[null,"Interventions",{"$f":"C20*Data!$C$11","v":0},{"$f":"D21*Data!$C$12","v":8961.6219999999994},{"$f":"E21*Data!$C$13","v":325}]

{"sheet":"Model","index":2,"n_rows":137726,"n_cols":14,"rows_kept":4500,"cut":true,"hidden":false,"merged":[],"bounds":{"rows_first":2000,"rows_last":500,"rows_between":2000,"halvings":0}}
["United Energy"]
["Pole condition data"]
[]
[null,"Forecast end year:",null,{"$f":"Data!$C$5","v":2025}]
[]
[null,"Data extract (2020)",null,null,null,null,null,null,null,"Calcs"]
[null,"ID","Start Date","Pole Type","FY20 pole condition","Class","Last inspection","SWT (mm)","FY20 SWT (mm)","Decay period (yrs)","Pole Age group","Internal decay rate","FY25 SWT (mm)","FY25 pole condition"]
[null,2,1993,"Wood Untreated Dressed","Serviceable","Class 1",2016,150,142.16,{"$f":"2025-G8","v":9},{"$f":"INDEX(Lists!$B$32:$B$40, MATCH(2020-C8, Lists!$C$32:$C$40,1))","v":"21-30"},{"$f":"SUMPRODUCT((Data!$B$17:$B$19=Model!$F8)*(Data!$C$16:$K$16=Model!$K8)*(Data!$C$17:$K$19))","v":1.96},{"$f":"IF(IF(H8>=700,999,(H8-L8*J8))<0,0,IF(H8>=700,999,(H8-L8*J8)))","v":132.36000000000001},{"$f":"_xlfn.IFS(M8>70,\"Serviceable\",M8>30, \"Limited Life\",M8<=30, \"Unserviceable\")","v":"Serviceable"}]
[null,3,1965,"Wood Creos Impregnated","Serviceable","Class 3",2016,100,89.08,9,{"$f":"INDEX(Lists!$B$32:$B$40, MATCH(2020-C9, Lists!$C$32:$C$40,1))","v":"51-60"},{"$f":"SUMPRODUCT((Data!$B$17:$B$19=Model!$F9)*(Data!$C$16:$K$16=Model!$K9)*(Data!$C$17:$K$19))","v":2.73},75.430000000000007,{"$f":"_xlfn.IFS(M9>70,\"Serviceable\",M9>30, \"Limited Life\",M9<=30, \"Unserviceable\")","v":"Serviceable"}]
[null,4,1965,"Wood Creos Impregnated","Serviceable","Class 3",2018,80,74.540000000000006,7,{"$f":"INDEX(Lists!$B$32:$B$40, MATCH(2020-C10, Lists!$C$32:$C$40,1))","v":"51-60"},{"$f":"SUMPRODUCT((Data!$B$17:$B$19=Model!$F10)*(Data!$C$16:$K$16=Model!$K10)*(Data!$C$17:$K$19))","v":2.73},60.89,{"$f":"_xlfn.IFS(M10>70,\"Serviceable\",M10>30, \"Limited Life\",M10<=30, \"Unserviceable\")","v":"Limited Life"}]
[null,5,1992,"Wood Untreated Dressed","Serviceable","Class 1",2016,150,142.16,9,{"$f":"INDEX(Lists!$B$32:$B$40, MATCH(2020-C11, Lists!$C$32:$C$40,1))","v":"21-30"},{"$f":"SUMPRODUCT((Data!$B$17:$B$19=Model!$F11)*(Data!$C$16:$K$16=Model!$K11)*(Data!$C$17:$K$19))","v":1.96},132.36000000000001,{"$f":"_xlfn.IFS(M11>70,\"Serviceable\",M11>30, \"Limited Life\",M11<=30, \"Unserviceable\")","v":"Serviceable"}]
[null,6,1985,"Wood Other","Serviceable","Class 1",2019,120,117.48,6,{"$f":"INDEX(Lists!$B$32:$B$40, MATCH(2020-C12, Lists!$C$32:$C$40,1))","v":"31-40"},{"$f":"SUMPRODUCT((Data!$B$17:$B$19=Model!$F12)*(Data!$C$16:$K$16=Model!$K12)*(Data!$C$17:$K$19))","v":2.52},104.88,{"$f":"_xlfn.IFS(M12>70,\"Serviceable\",M12>30, \"Limited Life\",M12<=30, \"Unserviceable\")","v":"Serviceable"}]
[null,7,1965,"Wood Creos Impregnated","Serviceable","Class 1",2019,80,78.349999999999994,6,{"$f":"INDEX(Lists!$B$32:$B$40, MATCH(2020-C13, Lists!$C$32:$C$40,1))","v":"51-60"},{"$f":"SUMPRODUCT((Data!$B$17:$B$19=Model!$F13)*(Data!$C$16:$K$16=Model!$K13)*(Data!$C$17:$K$19))","v":1.65},70.099999999999994,{"$f":"_xlfn.IFS(M13>70,\"Serviceable\",M13>30, \"Limited Life\",M13<=30, \"Unserviceable\")","v":"Serviceable"}]
[null,8,1965,"Wood Creos Impregnated","Serviceable","Class 3",2016,100,89.08,9,{"$f":"INDEX(Lists!$B$32:$B$40, MATCH(2020-C14, Lists!$C$32:$C$40,1))","v":"51-60"},{"$f":"SUMPRODUCT((Data!$B$17:$B$19=Model!$F14)*(Data!$C$16:$K$16=Model!$K14)*(Data!$C$17:$K$19))","v":2.73},75.430000000000007,{"$f":"_xlfn.IFS(M14>70,\"Serviceable\",M14>30, \"Limited Life\",M14<=30, \"Unserviceable\")","v":"Serviceable"}]
[null,9,1967,"CCA Treated Pole","Serviceable","Class 1",2015,100,91.75,10,{"$f":"INDEX(Lists!$B$32:$B$40, MATCH(2020-C15, Lists!$C$32:$C$40,1))","v":"51-60"},{"$f":"SUMPRODUCT((Data!$B$17:$B$19=Model!$F15)*(Data!$C$16:$K$16=Model!$K15)*(Data!$C$17:$K$19))","v":1.65},83.5,{"$f":"_xlfn.IFS(M15>70,\"Serviceable\",M15>30, \"Limited Life\",M15<=30, \"Unserviceable\")","v":"Serviceable"}]
[null,10,2003,"CCA Treated Pole","Serviceable","Class 1",2015,166.31691553103065,161.01691553103063,10,{"$f":"INDEX(Lists!$B$32:$B$40, MATCH(2020-C16, Lists!$C$32:$C$40,1))","v":"0-20"},{"$f":"SUMPRODUCT((Data!$B$17:$B$19=Model!$F16)*(Data!$C$16:$K$16=Model!$K16)*(Data!$C$17:$K$19))","v":1.06},155.71691553103065,{"$f":"_xlfn.IFS(M16>70,\"Serviceable\",M16>30, \"Limited Life\",M16<=30, \"Unserviceable\")","v":"Serviceable"}]
[null,14,1993,"Wood Untreated Dressed","Serviceable","Class 1",2015,140,130.19999999999999,10,{"$f":"INDEX(Lists!$B$32:$B$40, MATCH(2020-C17, Lists!$C$32:$C$40,1))","v":"21-30"},{"$f":"SUMPRODUCT((Data!$B$17:$B$19=Model!$F17)*(Data!$C$16:$K$16=Model!$K17)*(Data!$C$17:$K$19))","v":1.96},120.4,{"$f":"_xlfn.IFS(M17>70,\"Serviceable\",M17>30, \"Limited Life\",M17<=30, \"Unserviceable\")","v":"Serviceable"}]
[null,24,1981,"Wood Untreated Dressed","Serviceable","Class 1",2020,140,140,5,{"$f":"INDEX(Lists!$B$32:$B$40, MATCH(2020-C18, Lists!$C$32:$C$40,1))","v":"31-40"},{"$f":"SUMPRODUCT((Data!$B$17:$B$19=Model!$F18)*(Data!$C$16:$K$16=Model!$K18)*(Data!$C$17:$K$19))","v":2.52},127.4,{"$f":"_xlfn.IFS(M18>70,\"Serviceable\",M18>30, \"Limited Life\",M18<=30, \"Unserviceable\")","v":"Serviceable"}]
[null,25,1982,"Wood Untreated Dressed","Serviceable","Class 1",2020,140,140,5,{"$f":"INDEX(Lists!$B$32:$B$40, MATCH(2020-C19, Lists!$C$32:$C$40,1))","v":"31-40"},{"$f":"SUMPRODUCT((Data!$B$17:$B$19=Model!$F19)*(Data!$C$16:$K$16=Model!$K19)*(Data!$C$17:$K$19))","v":2.52},127.4,{"$f":"_xlfn.IFS(M19>70,\"Serviceable\",M19>30, \"Limited Life\",M19<=30, \"Unserviceable\")","v":"Serviceable"}]
[null,26,1982,"Wood Other","Serviceable","Class 1",2020,90,90,5,{"$f":"INDEX(Lists!$B$32:$B$40, MATCH(2020-C20, Lists!$C$32:$C$40,1))","v":"31-40"},{"$f":"SUMPRODUCT((Data!$B$17:$B$19=Model!$F20)*(Data!$C$16:$K$16=Model!$K20)*(Data!$C$17:$K$19))","v":2.52},77.400000000000006,{"$f":"_xlfn.IFS(M20>70,\"Serviceable\",M20>30, \"Limited Life\",M20<=30, \"Unserviceable\")","v":"Serviceable"}]
[null,27,1982,"Wood Untreated Dressed","Serviceable","Class 3",2020,120,120,5,{"$f":"INDEX(Lists!$B$32:$B$40, MATCH(2020-C21, Lists!$C$32:$C$40,1))","v":"31-40"},{"$f":"SUMPRODUCT((Data!$B$17:$B$19=Model!$F21)*(Data!$C$16:$K$16=Model!$K21)*(Data!$C$17:$K$19))","v":3.22},103.9,{"$f":"_xlfn.IFS(M21>70,\"Serviceable\",M21>30, \"Limited Life\",M21<=30, \"Unserviceable\")","v":"Serviceable"}]
[null,28,1981,"Wood Untreated Dressed","Serviceable","Class 1",2020,140,140,5,{"$f":"INDEX(Lists!$B$32:$B$40, MATCH(2020-C22, Lists!$C$32:$C$40,1))","v":"31-40"},{"$f":"SUMPRODUCT((Data!$B$17:$B$19=Model!$F22)*(Data!$C$16:$K$16=Model!$K22)*(Data!$C$17:$K$19))","v":2.52},127.4,{"$f":"_xlfn.IFS(M22>70,\"Serviceable\",M22>30, \"Limited Life\",M22<=30, \"Unserviceable\")","v":"Serviceable"}]
[null,29,1983,"Wood Untreated Dressed","Serviceable","Class 1",2015,140,127.4,10,{"$f":"INDEX(Lists!$B$32:$B$40, MATCH(2020-C23, Lists!$C$32:$C$40,1))","v":"31-40"},{"$f":"SUMPRODUCT((Data!$B$17:$B$19=Model!$F23)*(Data!$C$16:$K$16=Model!$K23)*(Data!$C$17:$K$19))","v":2.52},114.8,{"$f":"_xlfn.IFS(M23>70,\"Serviceable\",M23>30, \"Limited Life\",M23<=30, \"Unserviceable\")","v":"Serviceable"}]
[null,30,1982,"Wood Untreated Dressed","Serviceable","Class 1",2020,130,130,5,{"$f":"INDEX(Lists!$B$32:$B$40, MATCH(2020-C24, Lists!$C$32:$C$40,1))","v":"31-40"},{"$f":"SUMPRODUCT((Data!$B$17:$B$19=Model!$F24)*(Data!$C$16:$K$16=Model!$K24)*(Data!$C$17:$K$19))","v":2.52},117.4,{"$f":"_xlfn.IFS(M24>70,\"Serviceable\",M24>30, \"Limited Life\",M24<=30, \"Unserviceable\")","v":"Serviceable"}]
[null,31,1982,"Wood Untreated Dressed","Serviceable","Class 1",2020,100,100,5,{"$f":"INDEX(Lists!$B$32:$B$40, MATCH(2020-C25, Lists!$C$32:$C$40,1))","v":"31-40"},{"$f":"SUMPRODUCT((Data!$B$17:$B$19=Model!$F25)*(Data!$C$16:$K$16=Model!$K25)*(Data!$C$17:$K$19))","v":2.52},87.4,{"$f":"_xlfn.IFS(M25>70,\"Serviceable\",M25>30, \"Limited Life\",M25<=30, \"Unserviceable\")","v":"Serviceable"}]
[null,32,1982,"Wood Untreated Dressed","Serviceable","Class 1",2020,140,140,5,{"$f":"INDEX(Lists!$B$32:$B$40, MATCH(2020-C26, Lists!$C$32:$C$40,1))","v":"31-40"},{"$f":"SUMPRODUCT((Data!$B$17:$B$19=Model!$F26)*(Data!$C$16:$K$16=Model!$K26)*(Data!$C$17:$K$19))","v":2.52},127.4,{"$f":"_xlfn.IFS(M26>70,\"Serviceable\",M26>30, \"Limited Life\",M26<=30, \"Unserviceable\")","v":"Serviceable"}]
[null,33,1982,"Wood Untreated Dressed","Serviceable","Class 1",2020,150,150,5,{"$f":"INDEX(Lists!$B$32:$B$40, MATCH(2020-C27, Lists!$C$32:$C$40,1))","v":"31-40"},{"$f":"SUMPRODUCT((Data!$B$17:$B$19=Model!$F27)*(Data!$C$16:$K$16=Model!$K27)*(Data!$C$17:$K$19))","v":2.52},137.4,{"$f":"_xlfn.IFS(M27>70,\"Serviceable\",M27>30, \"Limited Life\",M27<=30, \"Unserviceable\")","v":"Serviceable"}]
[null,34,1982,"Wood Untreated Dressed","Serviceable","Class 1",2015,150,137.4,10,{"$f":"INDEX(Lists!$B$32:$B$40, MATCH(2020-C28, Lists!$C$32:$C$40,1))","v":"31-40"},{"$f":"SUMPRODUCT((Data!$B$17:$B$19=Model!$F28)*(Data!$C$16:$K$16=Model!$K28)*(Data!$C$17:$K$19))","v":2.52},124.8,{"$f":"_xlfn.IFS(M28>70,\"Serviceable\",M28>30, \"Limited Life\",M28<=30, \"Unserviceable\")","v":"Serviceable"}]
[null,35,1982,"Wood Untreated Dressed","Serviceable","Class 1",2020,120,120,5,{"$f":"INDEX(Lists!$B$32:$B$40, MATCH(2020-C29, Lists!$C$32:$C$40,1))","v":"31-40"},{"$f":"SUMPRODUCT((Data!$B$17:$B$19=Model!$F29)*(Data!$C$16:$K$16=Model!$K29)*(Data!$C$17:$K$19))","v":2.52},107.4,{"$f":"_xlfn.IFS(M29>70,\"Serviceable\",M29>30, \"Limited Life\",M29<=30, \"Unserviceable\")","v":"Serviceable"}]
[null,36,1982,"Wood Untreated Dressed","Serviceable","Class 1",2015,140,127.4,10,{"$f":"INDEX(Lists!$B$32:$B$40, MATCH(2020-C30, Lists!$C$32:$C$40,1))","v":"31-40"},{"$f":"SUMPRODUCT((Data!$B$17:$B$19=Model!$F30)*(Data!$C$16:$K$16=Model!$K30)*(Data!$C$17:$K$19))","v":2.52},114.8,{"$f":"_xlfn.IFS(M30>70,\"Serviceable\",M30>30, \"Limited Life\",M30<=30, \"Unserviceable\")","v":"Serviceable"}]
[null,37,1982,"Wood Untreated Dressed","Serviceable","Class 1",2016,150,139.91999999999999,9,{"$f":"INDEX(Lists!$B$32:$B$40, MATCH(2020-C31, Lists!$C$32:$C$40,1))","v":"31-40"},{"$f":"SUMPRODUCT((Data!$B$17:$B$19=Model!$F31)*(Data!$C$16:$K$16=Model!$K31)*(Data!$C$17:$K$19))","v":2.52},127.32,{"$f":"_xlfn.IFS(M31>70,\"Serviceable\",M31>30, \"Limited Life\",M31<=30, \"Unserviceable\")","v":"Serviceable"}]
[null,38,1982,"Wood Untreated Dressed","Serviceable","Class 1",2020,120,120,5,{"$f":"INDEX(Lists!$B$32:$B$40, MATCH(2020-C32, Lists!$C$32:$C$40,1))","v":"31-40"},{"$f":"SUMPRODUCT((Data!$B$17:$B$19=Model!$F32)*(Data!$C$16:$K$16=Model!$K32)*(Data!$C$17:$K$19))","v":2.52},107.4,{"$f":"_xlfn.IFS(M32>70,\"Serviceable\",M32>30, \"Limited Life\",M32<=30, \"Unserviceable\")","v":"Serviceable"}]
[null,39,1982,"Wood Untreated Dressed","Serviceable","Class 1",2020,130,130,5,{"$f":"INDEX(Lists!$B$32:$B$40, MATCH(2020-C33, Lists!$C$32:$C$40,1))","v":"31-40"},{"$f":"SUMPRODUCT((Data!$B$17:$B$19=Model!$F33)*(Data!$C$16:$K$16=Model!$K33)*(Data!$C$17:$K$19))","v":2.52},117.4,{"$f":"_xlfn.IFS(M33>70,\"Serviceable\",M33>30, \"Limited Life\",M33<=30, \"Unserviceable\")","v":"Serviceable"}]
[null,40,1982,"Wood Untreated Dressed","Serviceable","Class 1",2020,140,140,5,{"$f":"INDEX(Lists!$B$32:$B$40, MATCH(2020-C34, Lists!$C$32:$C$40,1))","v":"31-40"},{"$f":"SUMPRODUCT((Data!$B$17:$B$19=Model!$F34)*(Data!$C$16:$K$16=Model!$K34)*(Data!$C$17:$K$19))","v":2.52},127.4,{"$f":"_xlfn.IFS(M34>70,\"Serviceable\",M34>30, \"Limited Life\",M34<=30, \"Unserviceable\")","v":"Serviceable"}]
[null,42,1983,"Wood Untreated Dressed","Serviceable","Class 1",2020,130,130,5,{"$f":"INDEX(Lists!$B$32:$B$40, MATCH(2020-C35, Lists!$C$32:$C$40,1))","v":"31-40"},{"$f":"SUMPRODUCT((Data!$B$17:$B$19=Model!$F35)*(Data!$C$16:$K$16=Model!$K35)*(Data!$C$17:$K$19))","v":2.52},117.4,{"$f":"_xlfn.IFS(M35>70,\"Serviceable\",M35>30, \"Limited Life\",M35<=30, \"Unserviceable\")","v":"Serviceable"}]
[null,43,1982,"Wood Untreated Dressed","Serviceable","Class 1",2020,120,120,5,{"$f":"INDEX(Lists!$B$32:$B$40, MATCH(2020-C36, Lists!$C$32:$C$40,1))","v":"31-40"},{"$f":"SUMPRODUCT((Data!$B$17:$B$19=Model!$F36)*(Data!$C$16:$K$16=Model!$K36)*(Data!$C$17:$K$19))","v":2.52},107.4,{"$f":"_xlfn.IFS(M36>70,\"Serviceable\",M36>30, \"Limited Life\",M36<=30, \"Unserviceable\")","v":"Serviceable"}]
[null,44,1982,"Wood Untreated Dressed","Serviceable","Class 1",2016,130,119.92,9,{"$f":"INDEX(Lists!$B$32:$B$40, MATCH(2020-C37, Lists!$C$32:$C$40,1))","v":"31-40"},{"$f":"SUMPRODUCT((Data!$B$17:$B$19=Model!$F37)*(Data!$C$16:$K$16=Model!$K37)*(Data!$C$17:$K$19))","v":2.52},107.32,{"$f":"_xlfn.IFS(M37>70,\"Serviceable\",M37>30, \"Limited Life\",M37<=30, \"Unserviceable\")","v":"Serviceable"}]
[null,45,1982,"Wood Untreated Dressed","Serviceable","Class 1",2016,140,129.91999999999999,9,{"$f":"INDEX(Lists!$B$32:$B$40, MATCH(2020-C38, Lists!$C$32:$C$40,1))","v":"31-40"},{"$f":"SUMPRODUCT((Data!$B$17:$B$19=Model!$F38)*(Data!$C$16:$K$16=Model!$K38)*(Data!$C$17:$K$19))","v":2.52},117.32,{"$f":"_xlfn.IFS(M38>70,\"Serviceable\",M38>30, \"Limited Life\",M38<=30, \"Unserviceable\")","v":"Serviceable"}]
[null,46,1985,"Wood Untreated Dressed","Serviceable","Class 1",2015,130,117.4,10,{"$f":"INDEX(Lists!$B$32:$B$40, MATCH(2020-C39, Lists!$C$32:$C$40,1))","v":"31-40"},{"$f":"SUMPRODUCT((Data!$B$17:$B$19=Model!$F39)*(Data!$C$16:$K$16=Model!$K39)*(Data!$C$17:$K$19))","v":2.52},104.8,{"$f":"_xlfn.IFS(M39>70,\"Serviceable\",M39>30, \"Limited Life\",M39<=30, \"Unserviceable\")","v":"Serviceable"}]
[null,47,1982,"Wood Untreated Dressed","Serviceable","Class 1",2020,130,130,5,{"$f":"INDEX(Lists!$B$32:$B$40, MATCH(2020-C40, Lists!$C$32:$C$40,1))","v":"31-40"},{"$f":"SUMPRODUCT((Data!$B$17:$B$19=Model!$F40)*(Data!$C$16:$K$16=Model!$K40)*(Data!$C$17:$K$19))","v":2.52},117.4,{"$f":"_xlfn.IFS(M40>70,\"Serviceable\",M40>30, \"Limited Life\",M40<=30, \"Unserviceable\")","v":"Serviceable"}]
[null,48,1982,"Wood Untreated Dressed","Serviceable","Class 1",2020,110,110,5,{"$f":"INDEX(Lists!$B$32:$B$40, MATCH(2020-C41, Lists!$C$32:$C$40,1))","v":"31-40"},{"$f":"SUMPRODUCT((Data!$B$17:$B$19=Model!$F41)*(Data!$C$16:$K$16=Model!$K41)*(Data!$C$17:$K$19))","v":2.52},97.4,{"$f":"_xlfn.IFS(M41>70,\"Serviceable\",M41>30, \"Limited Life\",M41<=30, \"Unserviceable\")","v":"Serviceable"}]
[null,49,1982,"Wood Untreated Dressed","Serviceable","Class 1",2020,120,120,5,{"$f":"INDEX(Lists!$B$32:$B$40, MATCH(2020-C42, Lists!$C$32:$C$40,1))","v":"31-40"},{"$f":"SUMPRODUCT((Data!$B$17:$B$19=Model!$F42)*(Data!$C$16:$K$16=Model!$K42)*(Data!$C$17:$K$19))","v":2.52},107.4,{"$f":"_xlfn.IFS(M42>70,\"Serviceable\",M42>30, \"Limited Life\",M42<=30, \"Unserviceable\")","v":"Serviceable"}]
[null,50,1982,"Wood Untreated Dressed","Serviceable","Class 1",2020,110,110,5,{"$f":"INDEX(Lists!$B$32:$B$40, MATCH(2020-C43, Lists!$C$32:$C$40,1))","v":"31-40"},{"$f":"SUMPRODUCT((Data!$B$17:$B$19=Model!$F43)*(Data!$C$16:$K$16=Model!$K43)*(Data!$C$17:$K$19))","v":2.52},97.4,{"$f":"_xlfn.IFS(M43>70,\"Serviceable\",M43>30, \"Limited Life\",M43<=30, \"Unserviceable\")","v":"Serviceable"}]
[null,51,1982,"Wood Untreated Dressed","Serviceable","Class 1",2020,130,130,5,{"$f":"INDEX(Lists!$B$32:$B$40, MATCH(2020-C44, Lists!$C$32:$C$40,1))","v":"31-40"},{"$f":"SUMPRODUCT((Data!$B$17:$B$19=Model!$F44)*(Data!$C$16:$K$16=Model!$K44)*(Data!$C$17:$K$19))","v":2.52},117.4,{"$f":"_xlfn.IFS(M44>70,\"Serviceable\",M44>30, \"Limited Life\",M44<=30, \"Unserviceable\")","v":"Serviceable"}]
[null,52,1982,"Wood Untreated Dressed","Serviceable","Class 1",2020,120,120,5,{"$f":"INDEX(Lists!$B$32:$B$40, MATCH(2020-C45, Lists!$C$32:$C$40,1))","v":"31-40"},{"$f":"SUMPRODUCT((Data!$B$17:$B$19=Model!$F45)*(Data!$C$16:$K$16=Model!$K45)*(Data!$C$17:$K$19))","v":2.52},107.4,{"$f":"_xlfn.IFS(M45>70,\"Serviceable\",M45>30, \"Limited Life\",M45<=30, \"Unserviceable\")","v":"Serviceable"}]
[null,53,1982,"Wood Untreated Dressed","Serviceable","Class 1",2020,120,120,5,{"$f":"INDEX(Lists!$B$32:$B$40, MATCH(2020-C46, Lists!$C$32:$C$40,1))","v":"31-40"},{"$f":"SUMPRODUCT((Data!$B$17:$B$19=Model!$F46)*(Data!$C$16:$K$16=Model!$K46)*(Data!$C$17:$K$19))","v":2.52},107.4,{"$f":"_xlfn.IFS(M46>70,\"Serviceable\",M46>30, \"Limited Life\",M46<=30, \"Unserviceable\")","v":"Serviceable"}]
[null,54,1982,"Wood Untreated Dressed","Serviceable","Class 1",2015,150,137.4,10,{"$f":"INDEX(Lists!$B$32:$B$40, MATCH(2020-C47, Lists!$C$32:$C$40,1))","v":"31-40"},{"$f":"SUMPRODUCT((Data!$B$17:$B$19=Model!$F47)*(Data!$C$16:$K$16=Model!$K47)*(Data!$C$17:$K$19))","v":2.52},124.8,{"$f":"_xlfn.IFS(M47>70,\"Serviceable\",M47>30, \"Limited Life\",M47<=30, \"Unserviceable\")","v":"Serviceable"}]
[null,55,1982,"Wood Untreated Dressed","Serviceable","Class 1",2020,110,110,5,{"$f":"INDEX(Lists!$B$32:$B$40, MATCH(2020-C48, Lists!$C$32:$C$40,1))","v":"31-40"},{"$f":"SUMPRODUCT((Data!$B$17:$B$19=Model!$F48)*(Data!$C$16:$K$16=Model!$K48)*(Data!$C$17:$K$19))","v":2.52},97.4,{"$f":"_xlfn.IFS(M48>70,\"Serviceable\",M48>30, \"Limited Life\",M48<=30, \"Unserviceable\")","v":"Serviceable"}]
[null,56,1981,"Wood Untreated Dressed","Serviceable","Class 1",2020,130,130,5,{"$f":"INDEX(Lists!$B$32:$B$40, MATCH(2020-C49, Lists!$C$32:$C$40,1))","v":"31-40"},{"$f":"SUMPRODUCT((Data!$B$17:$B$19=Model!$F49)*(Data!$C$16:$K$16=Model!$K49)*(Data!$C$17:$K$19))","v":2.52},117.4,{"$f":"_xlfn.IFS(M49>70,\"Serviceable\",M49>30, \"Limited Life\",M49<=30, \"Unserviceable\")","v":"Serviceable"}]
[null,57,1982,"Wood Untreated Dressed","Serviceable","Class 1",2020,120,120,5,{"$f":"INDEX(Lists!$B$32:$B$40, MATCH(2020-C50, Lists!$C$32:$C$40,1))","v":"31-40"},{"$f":"SUMPRODUCT((Data!$B$17:$B$19=Model!$F50)*(Data!$C$16:$K$16=Model!$K50)*(Data!$C$17:$K$19))","v":2.52},107.4,{"$f":"_xlfn.IFS(M50>70,\"Serviceable\",M50>30, \"Limited Life\",M50<=30, \"Unserviceable\")","v":"Serviceable"}]
[null,58,1981,"Wood Untreated Dressed","Serviceable","Class 1",2020,130,130,5,{"$f":"INDEX(Lists!$B$32:$B$40, MATCH(2020-C51, Lists!$C$32:$C$40,1))","v":"31-40"},{"$f":"SUMPRODUCT((Data!$B$17:$B$19=Model!$F51)*(Data!$C$16:$K$16=Model!$K51)*(Data!$C$17:$K$19))","v":2.52},117.4,{"$f":"_xlfn.IFS(M51>70,\"Serviceable\",M51>30, \"Limited Life\",M51<=30, \"Unserviceable\")","v":"Serviceable"}]
[null,59,1982,"Wood Untreated Dressed","Serviceable","Class 1",2015,140,127.4,10,{"$f":"INDEX(Lists!$B$32:$B$40, MATCH(2020-C52, Lists!$C$32:$C$40,1))","v":"31-40"},{"$f":"SUMPRODUCT((Data!$B$17:$B$19=Model!$F52)*(Data!$C$16:$K$16=Model!$K52)*(Data!$C$17:$K$19))","v":2.52},114.8,{"$f":"_xlfn.IFS(M52>70,\"Serviceable\",M52>30, \"Limited Life\",M52<=30, \"Unserviceable\")","v":"Serviceable"}]
[null,60,1982,"Wood Untreated Dressed","Serviceable","Class 1",2015,140,127.4,10,{"$f":"INDEX(Lists!$B$32:$B$40, MATCH(2020-C53, Lists!$C$32:$C$40,1))","v":"31-40"},{"$f":"SUMPRODUCT((Data!$B$17:$B$19=Model!$F53)*(Data!$C$16:$K$16=Model!$K53)*(Data!$C$17:$K$19))","v":2.52},114.8,{"$f":"_xlfn.IFS(M53>70,\"Serviceable\",M53>30, \"Limited Life\",M53<=30, \"Unserviceable\")","v":"Serviceable"}]
[null,61,1997,"Wood Untreated Dressed","Serviceable","Class 1",2015,150,140.19999999999999,10,{"$f":"INDEX(Lists!$B$32:$B$40, MATCH(2020-C54, Lists!$C$32:$C$40,1))","v":"21-30"},{"$f":"SUMPRODUCT((Data!$B$17:$B$19=Model!$F54)*(Data!$C$16:$K$16=Model!$K54)*(Data!$C$17:$K$19))","v":1.96},130.4,{"$f":"_xlfn.IFS(M54>70,\"Serviceable\",M54>30, \"Limited Life\",M54<=30, \"Unserviceable\")","v":"Serviceable"}]
[null,62,1982,"Wood Untreated Dressed","Serviceable","Class 1",2015,150,137.4,10,{"$f":"INDEX(Lists!$B$32:$B$40, MATCH(2020-C55, Lists!$C$32:$C$40,1))","v":"31-40"},{"$f":"SUMPRODUCT((Data!$B$17:$B$19=Model!$F55)*(Data!$C$16:$K$16=Model!$K55)*(Data!$C$17:$K$19))","v":2.52},124.8,{"$f":"_xlfn.IFS(M55>70,\"Serviceable\",M55>30, \"Limited Life\",M55<=30, \"Unserviceable\")","v":"Serviceable"}]
[null,63,1982,"Wood Untreated Dressed","Serviceable","Class 1",2015,130,117.4,10,{"$f":"INDEX(Lists!$B$32:$B$40, MATCH(2020-C56, Lists!$C$32:$C$40,1))","v":"31-40"},{"$f":"SUMPRODUCT((Data!$B$17:$B$19=Model!$F56)*(Data!$C$16:$K$16=Model!$K56)*(Data!$C$17:$K$19))","v":2.52},104.8,{"$f":"_xlfn.IFS(M56>70,\"Serviceable\",M56>30, \"Limited Life\",M56<=30, \"Unserviceable\")","v":"Serviceable"}]
[null,64,2007,"CCA Treated Pole","Serviceable","Class 3",2015,150,143.15,10,{"$f":"INDEX(Lists!$B$32:$B$40, MATCH(2020-C57, Lists!$C$32:$C$40,1))","v":"0-20"},{"$f":"SUMPRODUCT((Data!$B$17:$B$19=Model!$F57)*(Data!$C$16:$K$16=Model!$K57)*(Data!$C$17:$K$19))","v":1.37},136.30000000000001,{"$f":"_xlfn.IFS(M57>70,\"Serviceable\",M57>30, \"Limited Life\",M57<=30, \"Unserviceable\")","v":"Serviceable"}]
[null,65,1982,"Wood Untreated Dressed","Serviceable","Class 1",2020,130,130,5,{"$f":"INDEX(Lists!$B$32:$B$40, MATCH(2020-C58, Lists!$C$32:$C$40,1))","v":"31-40"},{"$f":"SUMPRODUCT((Data!$B$17:$B$19=Model!$F58)*(Data!$C$16:$K$16=Model!$K58)*(Data!$C$17:$K$19))","v":2.52},117.4,{"$f":"_xlfn.IFS(M58>70,\"Serviceable\",M58>30, \"Limited Life\",M58<=30, \"Unserviceable\")","v":"Serviceable"}]
[null,66,1981,"Wood Untreated Dressed","Serviceable","Class 1",2020,120,120,5,{"$f":"INDEX(Lists!$B$32:$B$40, MATCH(2020-C59, Lists!$C$32:$C$40,1))","v":"31-40"},{"$f":"SUMPRODUCT((Data!$B$17:$B$19=Model!$F59)*(Data!$C$16:$K$16=Model!$K59)*(Data!$C$17:$K$19))","v":2.52},107.4,{"$f":"_xlfn.IFS(M59>70,\"Serviceable\",M59>30, \"Limited Life\",M59<=30, \"Unserviceable\")","v":"Serviceable"}]
[null,67,1982,"Wood Untreated Dressed","Serviceable","Class 1",2020,130,130,5,{"$f":"INDEX(Lists!$B$32:$B$40, MATCH(2020-C60, Lists!$C$32:$C$40,1))","v":"31-40"},{"$f":"SUMPRODUCT((Data!$B$17:$B$19=Model!$F60)*(Data!$C$16:$K$16=Model!$K60)*(Data!$C$17:$K$19))","v":2.52},117.4,{"$f":"_xlfn.IFS(M60>70,\"Serviceable\",M60>30, \"Limited Life\",M60<=30, \"Unserviceable\")","v":"Serviceable"}]
[null,68,1981,"Wood Untreated Dressed","Serviceable","Class 1",2020,120,120,5,{"$f":"INDEX(Lists!$B$32:$B$40, MATCH(2020-C61, Lists!$C$32:$C$40,1))","v":"31-40"},{"$f":"SUMPRODUCT((Data!$B$17:$B$19=Model!$F61)*(Data!$C$16:$K$16=Model!$K61)*(Data!$C$17:$K$19))","v":2.52},107.4,{"$f":"_xlfn.IFS(M61>70,\"Serviceable\",M61>30, \"Limited Life\",M61<=30, \"Unserviceable\")","v":"Serviceable"}]
[null,69,1981,"Wood Untreated Dressed","Serviceable","Class 1",2020,120,120,5,{"$f":"INDEX(Lists!$B$32:$B$40, MATCH(2020-C62, Lists!$C$32:$C$40,1))","v":"31-40"},{"$f":"SUMPRODUCT((Data!$B$17:$B$19=Model!$F62)*(Data!$C$16:$K$16=Model!$K62)*(Data!$C$17:$K$19))","v":2.52},107.4,{"$f":"_xlfn.IFS(M62>70,\"Serviceable\",M62>30, \"Limited Life\",M62<=30, \"Unserviceable\")","v":"Serviceable"}]
[null,70,1983,"Wood Untreated Dressed","Serviceable","Class 1",2020,120,120,5,{"$f":"INDEX(Lists!$B$32:$B$40, MATCH(2020-C63, Lists!$C$32:$C$40,1))","v":"31-40"},{"$f":"SUMPRODUCT((Data!$B$17:$B$19=Model!$F63)*(Data!$C$16:$K$16=Model!$K63)*(Data!$C$17:$K$19))","v":2.52},107.4,{"$f":"_xlfn.IFS(M63>70,\"Serviceable\",M63>30, \"Limited Life\",M63<=30, \"Unserviceable\")","v":"Serviceable"}]
[null,71,1982,"Wood Untreated Dressed","Unserviceable","Class 1",2020,30,30,5,{"$f":"INDEX(Lists!$B$32:$B$40, MATCH(2020-C64, Lists!$C$32:$C$40,1))","v":"31-40"},{"$f":"SUMPRODUCT((Data!$B$17:$B$19=Model!$F64)*(Data!$C$16:$K$16=Model!$K64)*(Data!$C$17:$K$19))","v":2.52},17.399999999999999,{"$f":"_xlfn.IFS(M64>70,\"Serviceable\",M64>30, \"Limited Life\",M64<=30, \"Unserviceable\")","v":"Unserviceable"}]
[null,72,1982,"Wood Untreated Dressed","Serviceable","Class 1",2015,140,127.4,10,{"$f":"INDEX(Lists!$B$32:$B$40, MATCH(2020-C65, Lists!$C$32:$C$40,1))","v":"31-40"},{"$f":"SUMPRODUCT((Data!$B$17:$B$19=Model!$F65)*(Data!$C$16:$K$16=Model!$K65)*(Data!$C$17:$K$19))","v":2.52},114.8,{"$f":"_xlfn.IFS(M65>70,\"Serviceable\",M65>30, \"Limited Life\",M65<=30, \"Unserviceable\")","v":"Serviceable"}]
[null,73,1983,"Wood Untreated Dressed","Serviceable","Class 1",2020,120,120,5,{"$f":"INDEX(Lists!$B$32:$B$40, MATCH(2020-C66, Lists!$C$32:$C$40,1))","v":"31-40"},{"$f":"SUMPRODUCT((Data!$B$17:$B$19=Model!$F66)*(Data!$C$16:$K$16=Model!$K66)*(Data!$C$17:$K$19))","v":2.52},107.4,{"$f":"_xlfn.IFS(M66>70,\"Serviceable\",M66>30, \"Limited Life\",M66<=30, \"Unserviceable\")","v":"Serviceable"}]
[null,74,1981,"Wood Untreated Dressed","Serviceable","Class 1",2020,100,100,5,{"$f":"INDEX(Lists!$B$32:$B$40, MATCH(2020-C67, Lists!$C$32:$C$40,1))","v":"31-40"},{"$f":"SUMPRODUCT((Data!$B$17:$B$19=Model!$F67)*(Data!$C$16:$K$16=Model!$K67)*(Data!$C$17:$K$19))","v":2.52},87.4,{"$f":"_xlfn.IFS(M67>70,\"Serviceable\",M67>30, \"Limited Life\",M67<=30, \"Unserviceable\")","v":"Serviceable"}]
[null,75,1981,"Wood Untreated Dressed","Serviceable","Class 1",2020,130,130,5,{"$f":"INDEX(Lists!$B$32:$B$40, MATCH(2020-C68, Lists!$C$32:$C$40,1))","v":"31-40"},{"$f":"SUMPRODUCT((Data!$B$17:$B$19=Model!$F68)*(Data!$C$16:$K$16=Model!$K68)*(Data!$C$17:$K$19))","v":2.52},117.4,{"$f":"_xlfn.IFS(M68>70,\"Serviceable\",M68>30, \"Limited Life\",M68<=30, \"Unserviceable\")","v":"Serviceable"}]
[null,76,1983,"Wood Untreated Dressed","Serviceable","Class 1",2016,150,139.91999999999999,9,{"$f":"INDEX(Lists!$B$32:$B$40, MATCH(2020-C69, Lists!$C$32:$C$40,1))","v":"31-40"},{"$f":"SUMPRODUCT((Data!$B$17:$B$19=Model!$F69)*(Data!$C$16:$K$16=Model!$K69)*(Data!$C$17:$K$19))","v":2.52},127.32,{"$f":"_xlfn.IFS(M69>70,\"Serviceable\",M69>30, \"Limited Life\",M69<=30, \"Unserviceable\")","v":"Serviceable"}]
[null,77,1981,"Wood Untreated Dressed","Serviceable","Class 1",2019,130,127.48,6,{"$f":"INDEX(Lists!$B$32:$B$40, MATCH(2020-C70, Lists!$C$32:$C$40,1))","v":"31-40"},{"$f":"SUMPRODUCT((Data!$B$17:$B$19=Model!$F70)*(Data!$C$16:$K$16=Model!$K70)*(Data!$C$17:$K$19))","v":2.52},114.88,{"$f":"_xlfn.IFS(M70>70,\"Serviceable\",M70>30, \"Limited Life\",M70<=30, \"Unserviceable\")","v":"Serviceable"}]
[null,78,1983,"Wood Untreated Dressed","Serviceable","Class 1",2016,150,139.91999999999999,9,{"$f":"INDEX(Lists!$B$32:$B$40, MATCH(2020-C71, Lists!$C$32:$C$40,1))","v":"31-40"},{"$f":"SUMPRODUCT((Data!$B$17:$B$19=Model!$F71)*(Data!$C$16:$K$16=Model!$K71)*(Data!$C$17:$K$19))","v":2.52},127.32,{"$f":"_xlfn.IFS(M71>70,\"Serviceable\",M71>30, \"Limited Life\",M71<=30, \"Unserviceable\")","v":"Serviceable"}]
[null,80,1983,"Wood Untreated Dressed","Serviceable","Class 1",2017,140,132.44,{"$f":"2025-G72","v":8},{"$f":"INDEX(Lists!$B$32:$B$40, MATCH(2020-C72, Lists!$C$32:$C$40,1))","v":"31-40"},{"$f":"SUMPRODUCT((Data!$B$17:$B$19=Model!$F72)*(Data!$C$16:$K$16=Model!$K72)*(Data!$C$17:$K$19))","v":2.52},{"$f":"IF(IF(H72>=700,999,(H72-L72*J72))<0,0,IF(H72>=700,999,(H72-L72*J72)))","v":119.84},{"$f":"_xlfn.IFS(M72>70,\"Serviceable\",M72>30, \"Limited Life\",M72<=30, \"Unserviceable\")","v":"Serviceable"}]
[null,81,1983,"Wood Untreated Dressed","Serviceable","Class 1",2019,140,137.47999999999999,6,{"$f":"INDEX(Lists!$B$32:$B$40, MATCH(2020-C73, Lists!$C$32:$C$40,1))","v":"31-40"},{"$f":"SUMPRODUCT((Data!$B$17:$B$19=Model!$F73)*(Data!$C$16:$K$16=Model!$K73)*(Data!$C$17:$K$19))","v":2.52},124.88,{"$f":"_xlfn.IFS(M73>70,\"Serviceable\",M73>30, \"Limited Life\",M73<=30, \"Unserviceable\")","v":"Serviceable"}]
[null,82,1985,"Wood Untreated Dressed","Serviceable","Class 1",2017,140,132.44,8,{"$f":"INDEX(Lists!$B$32:$B$40, MATCH(2020-C74, Lists!$C$32:$C$40,1))","v":"31-40"},{"$f":"SUMPRODUCT((Data!$B$17:$B$19=Model!$F74)*(Data!$C$16:$K$16=Model!$K74)*(Data!$C$17:$K$19))","v":2.52},119.84,{"$f":"_xlfn.IFS(M74>70,\"Serviceable\",M74>30, \"Limited Life\",M74<=30, \"Unserviceable\")","v":"Serviceable"}]
[null,83,1983,"Wood Untreated Dressed","Serviceable","Class 1",2019,130,127.48,6,{"$f":"INDEX(Lists!$B$32:$B$40, MATCH(2020-C75, Lists!$C$32:$C$40,1))","v":"31-40"},{"$f":"SUMPRODUCT((Data!$B$17:$B$19=Model!$F75)*(Data!$C$16:$K$16=Model!$K75)*(Data!$C$17:$K$19))","v":2.52},114.88,{"$f":"_xlfn.IFS(M75>70,\"Serviceable\",M75>30, \"Limited Life\",M75<=30, \"Unserviceable\")","v":"Serviceable"}]
[null,84,1983,"Wood Untreated Dressed","Serviceable","Class 1",2017,140,132.44,8,{"$f":"INDEX(Lists!$B$32:$B$40, MATCH(2020-C76, Lists!$C$32:$C$40,1))","v":"31-40"},{"$f":"SUMPRODUCT((Data!$B$17:$B$19=Model!$F76)*(Data!$C$16:$K$16=Model!$K76)*(Data!$C$17:$K$19))","v":2.52},119.84,{"$f":"_xlfn.IFS(M76>70,\"Serviceable\",M76>30, \"Limited Life\",M76<=30, \"Unserviceable\")","v":"Serviceable"}]
[null,85,1983,"Wood Untreated Dressed","Serviceable","Class 1",2016,130,119.92,9,{"$f":"INDEX(Lists!$B$32:$B$40, MATCH(2020-C77, Lists!$C$32:$C$40,1))","v":"31-40"},{"$f":"SUMPRODUCT((Data!$B$17:$B$19=Model!$F77)*(Data!$C$16:$K$16=Model!$K77)*(Data!$C$17:$K$19))","v":2.52},107.32,{"$f":"_xlfn.IFS(M77>70,\"Serviceable\",M77>30, \"Limited Life\",M77<=30, \"Unserviceable\")","v":"Serviceable"}]
[null,87,1973,"Wood Creos Impregnated","Serviceable","Class 3",2017,110,98.66,8,{"$f":"INDEX(Lists!$B$32:$B$40, MATCH(2020-C78, Lists!$C$32:$C$40,1))","v":"41-50"},{"$f":"SUMPRODUCT((Data!$B$17:$B$19=Model!$F78)*(Data!$C$16:$K$16=Model!$K78)*(Data!$C$17:$K$19))","v":3.78},79.760000000000005,{"$f":"_xlfn.IFS(M78>70,\"Serviceable\",M78>30, \"Limited Life\",M78<=30, \"Unserviceable\")","v":"Serviceable"}]
[null,88,1992,"Wood Untreated Dressed","Serviceable","Class 1",2016,150,142.16,9,{"$f":"INDEX(Lists!$B$32:$B$40, MATCH(2020-C79, Lists!$C$32:$C$40,1))","v":"21-30"},{"$f":"SUMPRODUCT((Data!$B$17:$B$19=Model!$F79)*(Data!$C$16:$K$16=Model!$K79)*(Data!$C$17:$K$19))","v":1.96},132.36000000000001,{"$f":"_xlfn.IFS(M79>70,\"Serviceable\",M79>30, \"Limited Life\",M79<=30, \"Unserviceable\")","v":"Serviceable"}]
[null,89,1981,"Wood Untreated Dressed","Serviceable","Class 1",2016,120,109.92,9,{"$f":"INDEX(Lists!$B$32:$B$40, MATCH(2020-C80, Lists!$C$32:$C$40,1))","v":"31-40"},{"$f":"SUMPRODUCT((Data!$B$17:$B$19=Model!$F80)*(Data!$C$16:$K$16=Model!$K80)*(Data!$C$17:$K$19))","v":2.52},97.32,{"$f":"_xlfn.IFS(M80>70,\"Serviceable\",M80>30, \"Limited Life\",M80<=30, \"Unserviceable\")","v":"Serviceable"}]
[null,90,1981,"Wood Untreated Dressed","Serviceable","Class 1",2020,110,110,5,{"$f":"INDEX(Lists!$B$32:$B$40, MATCH(2020-C81, Lists!$C$32:$C$40,1))","v":"31-40"},{"$f":"SUMPRODUCT((Data!$B$17:$B$19=Model!$F81)*(Data!$C$16:$K$16=Model!$K81)*(Data!$C$17:$K$19))","v":2.52},97.4,{"$f":"_xlfn.IFS(M81>70,\"Serviceable\",M81>30, \"Limited Life\",M81<=30, \"Unserviceable\")","v":"Serviceable"}]
[null,91,1982,"Wood Untreated Dressed","Serviceable","Class 1",2020,110,110,5,{"$f":"INDEX(Lists!$B$32:$B$40, MATCH(2020-C82, Lists!$C$32:$C$40,1))","v":"31-40"},{"$f":"SUMPRODUCT((Data!$B$17:$B$19=Model!$F82)*(Data!$C$16:$K$16=Model!$K82)*(Data!$C$17:$K$19))","v":2.52},97.4,{"$f":"_xlfn.IFS(M82>70,\"Serviceable\",M82>30, \"Limited Life\",M82<=30, \"Unserviceable\")","v":"Serviceable"}]
[null,92,1982,"Wood Untreated Dressed","Serviceable","Class 1",2016,120,109.92,9,{"$f":"INDEX(Lists!$B$32:$B$40, MATCH(2020-C83, Lists!$C$32:$C$40,1))","v":"31-40"},{"$f":"SUMPRODUCT((Data!$B$17:$B$19=Model!$F83)*(Data!$C$16:$K$16=Model!$K83)*(Data!$C$17:$K$19))","v":2.52},97.32,{"$f":"_xlfn.IFS(M83>70,\"Serviceable\",M83>30, \"Limited Life\",M83<=30, \"Unserviceable\")","v":"Serviceable"}]
[null,94,1982,"Wood Untreated Dressed","Serviceable","Class 1",2020,140,140,5,{"$f":"INDEX(Lists!$B$32:$B$40, MATCH(2020-C84, Lists!$C$32:$C$40,1))","v":"31-40"},{"$f":"SUMPRODUCT((Data!$B$17:$B$19=Model!$F84)*(Data!$C$16:$K$16=Model!$K84)*(Data!$C$17:$K$19))","v":2.52},127.4,{"$f":"_xlfn.IFS(M84>70,\"Serviceable\",M84>30, \"Limited Life\",M84<=30, \"Unserviceable\")","v":"Serviceable"}]
[null,96,1982,"Wood Untreated Dressed","Serviceable","Class 1",2016,150,139.91999999999999,9,{"$f":"INDEX(Lists!$B$32:$B$40, MATCH(2020-C85, Lists!$C$32:$C$40,1))","v":"31-40"},{"$f":"SUMPRODUCT((Data!$B$17:$B$19=Model!$F85)*(Data!$C$16:$K$16=Model!$K85)*(Data!$C$17:$K$19))","v":2.52},127.32,{"$f":"_xlfn.IFS(M85>70,\"Serviceable\",M85>30, \"Limited Life\",M85<=30, \"Unserviceable\")","v":"Serviceable"}]
[null,98,1982,"Wood Untreated Dressed","Serviceable","Class 1",2016,150,139.91999999999999,9,{"$f":"INDEX(Lists!$B$32:$B$40, MATCH(2020-C86, Lists!$C$32:$C$40,1))","v":"31-40"},{"$f":"SUMPRODUCT((Data!$B$17:$B$19=Model!$F86)*(Data!$C$16:$K$16=Model!$K86)*(Data!$C$17:$K$19))","v":2.52},127.32,{"$f":"_xlfn.IFS(M86>70,\"Serviceable\",M86>30, \"Limited Life\",M86<=30, \"Unserviceable\")","v":"Serviceable"}]
[null,99,1982,"Wood Untreated Dressed","Serviceable","Class 1",2016,120,109.92,9,{"$f":"INDEX(Lists!$B$32:$B$40, MATCH(2020-C87, Lists!$C$32:$C$40,1))","v":"31-40"},{"$f":"SUMPRODUCT((Data!$B$17:$B$19=Model!$F87)*(Data!$C$16:$K$16=Model!$K87)*(Data!$C$17:$K$19))","v":2.52},97.32,{"$f":"_xlfn.IFS(M87>70,\"Serviceable\",M87>30, \"Limited Life\",M87<=30, \"Unserviceable\")","v":"Serviceable"}]
[null,100,1982,"Wood Untreated Dressed","Serviceable","Class 1",2016,110,99.92,9,{"$f":"INDEX(Lists!$B$32:$B$40, MATCH(2020-C88, Lists!$C$32:$C$40,1))","v":"31-40"},{"$f":"SUMPRODUCT((Data!$B$17:$B$19=Model!$F88)*(Data!$C$16:$K$16=Model!$K88)*(Data!$C$17:$K$19))","v":2.52},87.32,{"$f":"_xlfn.IFS(M88>70,\"Serviceable\",M88>30, \"Limited Life\",M88<=30, \"Unserviceable\")","v":"Serviceable"}]
[null,101,1982,"Wood Untreated Dressed","Serviceable","Class 1",2016,150,139.91999999999999,9,{"$f":"INDEX(Lists!$B$32:$B$40, MATCH(2020-C89, Lists!$C$32:$C$40,1))","v":"31-40"},{"$f":"SUMPRODUCT((Data!$B$17:$B$19=Model!$F89)*(Data!$C$16:$K$16=Model!$K89)*(Data!$C$17:$K$19))","v":2.52},127.32,{"$f":"_xlfn.IFS(M89>70,\"Serviceable\",M89>30, \"Limited Life\",M89<=30, \"Unserviceable\")","v":"Serviceable"}]
[null,102,1983,"Wood Untreated Dressed","Serviceable","Class 1",2016,120,109.92,9,{"$f":"INDEX(Lists!$B$32:$B$40, MATCH(2020-C90, Lists!$C$32:$C$40,1))","v":"31-40"},{"$f":"SUMPRODUCT((Data!$B$17:$B$19=Model!$F90)*(Data!$C$16:$K$16=Model!$K90)*(Data!$C$17:$K$19))","v":2.52},97.32,{"$f":"_xlfn.IFS(M90>70,\"Serviceable\",M90>30, \"Limited Life\",M90<=30, \"Unserviceable\")","v":"Serviceable"}]
[null,103,1983,"Wood Untreated Dressed","Serviceable","Class 1",2016,110,99.92,9,{"$f":"INDEX(Lists!$B$32:$B$40, MATCH(2020-C91, Lists!$C$32:$C$40,1))","v":"31-40"},{"$f":"SUMPRODUCT((Data!$B$17:$B$19=Model!$F91)*(Data!$C$16:$K$16=Model!$K91)*(Data!$C$17:$K$19))","v":2.52},87.32,{"$f":"_xlfn.IFS(M91>70,\"Serviceable\",M91>30, \"Limited Life\",M91<=30, \"Unserviceable\")","v":"Serviceable"}]
[null,104,1983,"Wood Untreated Dressed","Serviceable","Class 1",2016,120,109.92,9,{"$f":"INDEX(Lists!$B$32:$B$40, MATCH(2020-C92, Lists!$C$32:$C$40,1))","v":"31-40"},{"$f":"SUMPRODUCT((Data!$B$17:$B$19=Model!$F92)*(Data!$C$16:$K$16=Model!$K92)*(Data!$C$17:$K$19))","v":2.52},97.32,{"$f":"_xlfn.IFS(M92>70,\"Serviceable\",M92>30, \"Limited Life\",M92<=30, \"Unserviceable\")","v":"Serviceable"}]
[null,105,1983,"Wood Untreated Dressed","Serviceable","Class 1",2016,130,119.92,9,{"$f":"INDEX(Lists!$B$32:$B$40, MATCH(2020-C93, Lists!$C$32:$C$40,1))","v":"31-40"},{"$f":"SUMPRODUCT((Data!$B$17:$B$19=Model!$F93)*(Data!$C$16:$K$16=Model!$K93)*(Data!$C$17:$K$19))","v":2.52},107.32,{"$f":"_xlfn.IFS(M93>70,\"Serviceable\",M93>30, \"Limited Life\",M93<=30, \"Unserviceable\")","v":"Serviceable"}]
[null,106,1983,"Wood Untreated Dressed","Serviceable","Class 1",2016,130,119.92,9,{"$f":"INDEX(Lists!$B$32:$B$40, MATCH(2020-C94, Lists!$C$32:$C$40,1))","v":"31-40"},{"$f":"SUMPRODUCT((Data!$B$17:$B$19=Model!$F94)*(Data!$C$16:$K$16=Model!$K94)*(Data!$C$17:$K$19))","v":2.52},107.32,{"$f":"_xlfn.IFS(M94>70,\"Serviceable\",M94>30, \"Limited Life\",M94<=30, \"Unserviceable\")","v":"Serviceable"}]
[null,107,1983,"Wood Untreated Dressed","Serviceable","Class 1",2016,120,109.92,9,{"$f":"INDEX(Lists!$B$32:$B$40, MATCH(2020-C95, Lists!$C$32:$C$40,1))","v":"31-40"},{"$f":"SUMPRODUCT((Data!$B$17:$B$19=Model!$F95)*(Data!$C$16:$K$16=Model!$K95)*(Data!$C$17:$K$19))","v":2.52},97.32,{"$f":"_xlfn.IFS(M95>70,\"Serviceable\",M95>30, \"Limited Life\",M95<=30, \"Unserviceable\")","v":"Serviceable"}]
[null,108,1983,"Wood Untreated Dressed","Serviceable","Class 1",2016,120,109.92,9,{"$f":"INDEX(Lists!$B$32:$B$40, MATCH(2020-C96, Lists!$C$32:$C$40,1))","v":"31-40"},{"$f":"SUMPRODUCT((Data!$B$17:$B$19=Model!$F96)*(Data!$C$16:$K$16=Model!$K96)*(Data!$C$17:$K$19))","v":2.52},97.32,{"$f":"_xlfn.IFS(M96>70,\"Serviceable\",M96>30, \"Limited Life\",M96<=30, \"Unserviceable\")","v":"Serviceable"}]
[null,109,1983,"Wood Untreated Dressed","Serviceable","Class 1",2016,130,119.92,9,{"$f":"INDEX(Lists!$B$32:$B$40, MATCH(2020-C97, Lists!$C$32:$C$40,1))","v":"31-40"},{"$f":"SUMPRODUCT((Data!$B$17:$B$19=Model!$F97)*(Data!$C$16:$K$16=Model!$K97)*(Data!$C$17:$K$19))","v":2.52},107.32,{"$f":"_xlfn.IFS(M97>70,\"Serviceable\",M97>30, \"Limited Life\",M97<=30, \"Unserviceable\")","v":"Serviceable"}]
[null,110,1982,"Wood Untreated Dressed","Serviceable","Class 1",2016,150,139.91999999999999,9,{"$f":"INDEX(Lists!$B$32:$B$40, MATCH(2020-C98, Lists!$C$32:$C$40,1))","v":"31-40"},{"$f":"SUMPRODUCT((Data!$B$17:$B$19=Model!$F98)*(Data!$C$16:$K$16=Model!$K98)*(Data!$C$17:$K$19))","v":2.52},127.32,{"$f":"_xlfn.IFS(M98>70,\"Serviceable\",M98>30, \"Limited Life\",M98<=30, \"Unserviceable\")","v":"Serviceable"}]
[null,111,1982,"Wood Untreated Dressed","Serviceable","Class 1",2016,120,109.92,9,{"$f":"INDEX(Lists!$B$32:$B$40, MATCH(2020-C99, Lists!$C$32:$C$40,1))","v":"31-40"},{"$f":"SUMPRODUCT((Data!$B$17:$B$19=Model!$F99)*(Data!$C$16:$K$16=Model!$K99)*(Data!$C$17:$K$19))","v":2.52},97.32,{"$f":"_xlfn.IFS(M99>70,\"Serviceable\",M99>30, \"Limited Life\",M99<=30, \"Unserviceable\")","v":"Serviceable"}]
[null,112,1985,"Wood Untreated Dressed","Serviceable","Class 1",2016,120,109.92,9,{"$f":"INDEX(Lists!$B$32:$B$40, MATCH(2020-C100, Lists!$C$32:$C$40,1))","v":"31-40"},{"$f":"SUMPRODUCT((Data!$B$17:$B$19=Model!$F100)*(Data!$C$16:$K$16=Model!$K100)*(Data!$C$17:$K$19))","v":2.52},97.32,{"$f":"_xlfn.IFS(M100>70,\"Serviceable\",M100>30, \"Limited Life\",M100<=30, \"Unserviceable\")","v":"Serviceable"}]
[null,113,1983,"Wood Untreated Dressed","Serviceable","Class 1",2016,150,139.91999999999999,9,{"$f":"INDEX(Lists!$B$32:$B$40, MATCH(2020-C101, Lists!$C$32:$C$40,1))","v":"31-40"},{"$f":"SUMPRODUCT((Data!$B$17:$B$19=Model!$F101)*(Data!$C$16:$K$16=Model!$K101)*(Data!$C$17:$K$19))","v":2.52},127.32,{"$f":"_xlfn.IFS(M101>70,\"Serviceable\",M101>30, \"Limited Life\",M101<=30, \"Unserviceable\")","v":"Serviceable"}]
[null,114,1983,"Wood Untreated Dressed","Serviceable","Class 1",2016,140,129.91999999999999,9,{"$f":"INDEX(Lists!$B$32:$B$40, MATCH(2020-C102, Lists!$C$32:$C$40,1))","v":"31-40"},{"$f":"SUMPRODUCT((Data!$B$17:$B$19=Model!$F102)*(Data!$C$16:$K$16=Model!$K102)*(Data!$C$17:$K$19))","v":2.52},117.32,{"$f":"_xlfn.IFS(M102>70,\"Serviceable\",M102>30, \"Limited Life\",M102<=30, \"Unserviceable\")","v":"Serviceable"}]
[null,116,1983,"Wood Untreated Dressed","Serviceable","Class 1",2020,100,100,5,{"$f":"INDEX(Lists!$B$32:$B$40, MATCH(2020-C103, Lists!$C$32:$C$40,1))","v":"31-40"},{"$f":"SUMPRODUCT((Data!$B$17:$B$19=Model!$F103)*(Data!$C$16:$K$16=Model!$K103)*(Data!$C$17:$K$19))","v":2.52},87.4,{"$f":"_xlfn.IFS(M103>70,\"Serviceable\",M103>30, \"Limited Life\",M103<=30, \"Unserviceable\")","v":"Serviceable"}]
[null,118,2008,"CCA Treated Pole","Serviceable","Class 1",2016,160,155.76,9,{"$f":"INDEX(Lists!$B$32:$B$40, MATCH(2020-C104, Lists!$C$32:$C$40,1))","v":"0-20"},{"$f":"SUMPRODUCT((Data!$B$17:$B$19=Model!$F104)*(Data!$C$16:$K$16=Model!$K104)*(Data!$C$17:$K$19))","v":1.06},150.46,{"$f":"_xlfn.IFS(M104>70,\"Serviceable\",M104>30, \"Limited Life\",M104<=30, \"Unserviceable\")","v":"Serviceable"}]
[null,120,1983,"Wood Untreated Dressed","Serviceable","Class 1",2016,120,109.92,9,{"$f":"INDEX(Lists!$B$32:$B$40, MATCH(2020-C105, Lists!$C$32:$C$40,1))","v":"31-40"},{"$f":"SUMPRODUCT((Data!$B$17:$B$19=Model!$F105)*(Data!$C$16:$K$16=Model!$K105)*(Data!$C$17:$K$19))","v":2.52},97.32,{"$f":"_xlfn.IFS(M105>70,\"Serviceable\",M105>30, \"Limited Life\",M105<=30, \"Unserviceable\")","v":"Serviceable"}]
[null,121,1983,"Wood Untreated Dressed","Serviceable","Class 1",2016,120,109.92,9,{"$f":"INDEX(Lists!$B$32:$B$40, MATCH(2020-C106, Lists!$C$32:$C$40,1))","v":"31-40"},{"$f":"SUMPRODUCT((Data!$B$17:$B$19=Model!$F106)*(Data!$C$16:$K$16=Model!$K106)*(Data!$C$17:$K$19))","v":2.52},97.32,{"$f":"_xlfn.IFS(M106>70,\"Serviceable\",M106>30, \"Limited Life\",M106<=30, \"Unserviceable\")","v":"Serviceable"}]
[null,122,1983,"Wood Untreated Dressed","Serviceable","Class 1",2016,120,109.92,9,{"$f":"INDEX(Lists!$B$32:$B$40, MATCH(2020-C107, Lists!$C$32:$C$40,1))","v":"31-40"},{"$f":"SUMPRODUCT((Data!$B$17:$B$19=Model!$F107)*(Data!$C$16:$K$16=Model!$K107)*(Data!$C$17:$K$19))","v":2.52},97.32,{"$f":"_xlfn.IFS(M107>70,\"Serviceable\",M107>30, \"Limited Life\",M107<=30, \"Unserviceable\")","v":"Serviceable"}]
[null,123,1983,"Wood Untreated Dressed","Serviceable","Class 1",2016,120,109.92,9,{"$f":"INDEX(Lists!$B$32:$B$40, MATCH(2020-C108, Lists!$C$32:$C$40,1))","v":"31-40"},{"$f":"SUMPRODUCT((Data!$B$17:$B$19=Model!$F108)*(Data!$C$16:$K$16=Model!$K108)*(Data!$C$17:$K$19))","v":2.52},97.32,{"$f":"_xlfn.IFS(M108>70,\"Serviceable\",M108>30, \"Limited Life\",M108<=30, \"Unserviceable\")","v":"Serviceable"}]
[null,124,1983,"Wood Untreated Dressed","Serviceable","Class 1",2016,120,109.92,9,{"$f":"INDEX(Lists!$B$32:$B$40, MATCH(2020-C109, Lists!$C$32:$C$40,1))","v":"31-40"},{"$f":"SUMPRODUCT((Data!$B$17:$B$19=Model!$F109)*(Data!$C$16:$K$16=Model!$K109)*(Data!$C$17:$K$19))","v":2.52},97.32,{"$f":"_xlfn.IFS(M109>70,\"Serviceable\",M109>30, \"Limited Life\",M109<=30, \"Unserviceable\")","v":"Serviceable"}]
[null,125,1983,"Wood Untreated Dressed","Serviceable","Class 1",2016,120,109.92,9,{"$f":"INDEX(Lists!$B$32:$B$40, MATCH(2020-C110, Lists!$C$32:$C$40,1))","v":"31-40"},{"$f":"SUMPRODUCT((Data!$B$17:$B$19=Model!$F110)*(Data!$C$16:$K$16=Model!$K110)*(Data!$C$17:$K$19))","v":2.52},97.32,{"$f":"_xlfn.IFS(M110>70,\"Serviceable\",M110>30, \"Limited Life\",M110<=30, \"Unserviceable\")","v":"Serviceable"}]
[null,126,1982,"Wood Untreated Dressed","Serviceable","Class 1",2016,110,99.92,9,{"$f":"INDEX(Lists!$B$32:$B$40, MATCH(2020-C111, Lists!$C$32:$C$40,1))","v":"31-40"},{"$f":"SUMPRODUCT((Data!$B$17:$B$19=Model!$F111)*(Data!$C$16:$K$16=Model!$K111)*(Data!$C$17:$K$19))","v":2.52},87.32,{"$f":"_xlfn.IFS(M111>70,\"Serviceable\",M111>30, \"Limited Life\",M111<=30, \"Unserviceable\")","v":"Serviceable"}]
[null,129,1982,"Wood Untreated Dressed","Serviceable","Class 1",2016,150,139.91999999999999,9,{"$f":"INDEX(Lists!$B$32:$B$40, MATCH(2020-C112, Lists!$C$32:$C$40,1))","v":"31-40"},{"$f":"SUMPRODUCT((Data!$B$17:$B$19=Model!$F112)*(Data!$C$16:$K$16=Model!$K112)*(Data!$C$17:$K$19))","v":2.52},127.32,{"$f":"_xlfn.IFS(M112>70,\"Serviceable\",M112>30, \"Limited Life\",M112<=30, \"Unserviceable\")","v":"Serviceable"}]
[null,130,1967,"Wood Creos Impregnated","Serviceable","Class 3",2018,100,94.54,7,{"$f":"INDEX(Lists!$B$32:$B$40, MATCH(2020-C113, Lists!$C$32:$C$40,1))","v":"51-60"},{"$f":"SUMPRODUCT((Data!$B$17:$B$19=Model!$F113)*(Data!$C$16:$K$16=Model!$K113)*(Data!$C$17:$K$19))","v":2.73},80.89,{"$f":"_xlfn.IFS(M113>70,\"Serviceable\",M113>30, \"Limited Life\",M113<=30, \"Unserviceable\")","v":"Serviceable"}]
[null,131,1967,"Wood Creos Impregnated","Serviceable","Class 3",2018,100,94.54,7,{"$f":"INDEX(Lists!$B$32:$B$40, MATCH(2020-C114, Lists!$C$32:$C$40,1))","v":"51-60"},{"$f":"SUMPRODUCT((Data!$B$17:$B$19=Model!$F114)*(Data!$C$16:$K$16=Model!$K114)*(Data!$C$17:$K$19))","v":2.73},80.89,{"$f":"_xlfn.IFS(M114>70,\"Serviceable\",M114>30, \"Limited Life\",M114<=30, \"Unserviceable\")","v":"Serviceable"}]
[null,132,1966,"Wood Creos Impregnated","Limited Life","Class 3",2018,70,64.540000000000006,7,{"$f":"INDEX(Lists!$B$32:$B$40, MATCH(2020-C115, Lists!$C$32:$C$40,1))","v":"51-60"},{"$f":"SUMPRODUCT((Data!$B$17:$B$19=Model!$F115)*(Data!$C$16:$K$16=Model!$K115)*(Data!$C$17:$K$19))","v":2.73},50.89,{"$f":"_xlfn.IFS(M115>70,\"Serviceable\",M115>30, \"Limited Life\",M115<=30, \"Unserviceable\")","v":"Limited Life"}]
[null,133,1966,"Wood Creos Impregnated","Serviceable","Class 3",2018,80,74.540000000000006,7,{"$f":"INDEX(Lists!$B$32:$B$40, MATCH(2020-C116, Lists!$C$32:$C$40,1))","v":"51-60"},{"$f":"SUMPRODUCT((Data!$B$17:$B$19=Model!$F116)*(Data!$C$16:$K$16=Model!$K116)*(Data!$C$17:$K$19))","v":2.73},60.89,{"$f":"_xlfn.IFS(M116>70,\"Serviceable\",M116>30, \"Limited Life\",M116<=30, \"Unserviceable\")","v":"Limited Life"}]
[null,134,1966,"Wood Creos Impregnated","Limited Life","Class 3",2018,70,64.540000000000006,7,{"$f":"INDEX(Lists!$B$32:$B$40, MATCH(2020-C117, Lists!$C$32:$C$40,1))","v":"51-60"},{"$f":"SUMPRODUCT((Data!$B$17:$B$19=Model!$F117)*(Data!$C$16:$K$16=Model!$K117)*(Data!$C$17:$K$19))","v":2.73},50.89,{"$f":"_xlfn.IFS(M117>70,\"Serviceable\",M117>30, \"Limited Life\",M117<=30, \"Unserviceable\")","v":"Limited Life"}]
[null,135,1966,"Wood Creos Impregnated","Serviceable","Class 3",2017,100,91.81,8,{"$f":"INDEX(Lists!$B$32:$B$40, MATCH(2020-C118, Lists!$C$32:$C$40,1))","v":"51-60"},{"$f":"SUMPRODUCT((Data!$B$17:$B$19=Model!$F118)*(Data!$C$16:$K$16=Model!$K118)*(Data!$C$17:$K$19))","v":2.73},78.16,{"$f":"_xlfn.IFS(M118>70,\"Serviceable\",M118>30, \"Limited Life\",M118<=30, \"Unserviceable\")","v":"Serviceable"}]
[null,137,1985,"Wood Untreated Dressed","Serviceable","Class 1",2017,140,132.44,8,{"$f":"INDEX(Lists!$B$32:$B$40, MATCH(2020-C119, Lists!$C$32:$C$40,1))","v":"31-40"},{"$f":"SUMPRODUCT((Data!$B$17:$B$19=Model!$F119)*(Data!$C$16:$K$16=Model!$K119)*(Data!$C$17:$K$19))","v":2.52},119.84,{"$f":"_xlfn.IFS(M119>70,\"Serviceable\",M119>30, \"Limited Life\",M119<=30, \"Unserviceable\")","v":"Serviceable"}]
[null,138,1962,"Wood Creos Impregnated","Serviceable","Class 3",2018,90,84.54,7,{"$f":"INDEX(Lists!$B$32:$B$40, MATCH(2020-C120, Lists!$C$32:$C$40,1))","v":"51-60"},{"$f":"SUMPRODUCT((Data!$B$17:$B$19=Model!$F120)*(Data!$C$16:$K$16=Model!$K120)*(Data!$C$17:$K$19))","v":2.73},70.89,{"$f":"_xlfn.IFS(M120>70,\"Serviceable\",M120>30, \"Limited Life\",M120<=30, \"Unserviceable\")","v":"Serviceable"}]
[null,139,1966,"Wood Creos Impregnated","Serviceable","Class 3",2019,90,87.27,6,{"$f":"INDEX(Lists!$B$32:$B$40, MATCH(2020-C121, Lists!$C$32:$C$40,1))","v":"51-60"},{"$f":"SUMPRODUCT((Data!$B$17:$B$19=Model!$F121)*(Data!$C$16:$K$16=Model!$K121)*(Data!$C$17:$K$19))","v":2.73},73.62,{"$f":"_xlfn.IFS(M121>70,\"Serviceable\",M121>30, \"Limited Life\",M121<=30, \"Unserviceable\")","v":"Serviceable"}]
[null,140,1984,"Wood Creos Impregnated","Serviceable","Class 2",2018,110,105.34,7,{"$f":"INDEX(Lists!$B$32:$B$40, MATCH(2020-C122, Lists!$C$32:$C$40,1))","v":"31-40"},{"$f":"SUMPRODUCT((Data!$B$17:$B$19=Model!$F122)*(Data!$C$16:$K$16=Model!$K122)*(Data!$C$17:$K$19))","v":2.33},93.69,{"$f":"_xlfn.IFS(M122>70,\"Serviceable\",M122>30, \"Limited Life\",M122<=30, \"Unserviceable\")","v":"Serviceable"}]
[null,141,1972,"Wood Creos Impregnated","Serviceable","Class 2",2018,120,113.44,7,{"$f":"INDEX(Lists!$B$32:$B$40, MATCH(2020-C123, Lists!$C$32:$C$40,1))","v":"41-50"},{"$f":"SUMPRODUCT((Data!$B$17:$B$19=Model!$F123)*(Data!$C$16:$K$16=Model!$K123)*(Data!$C$17:$K$19))","v":3.28},97.04,{"$f":"_xlfn.IFS(M123>70,\"Serviceable\",M123>30, \"Limited Life\",M123<=30, \"Unserviceable\")","v":"Serviceable"}]
[null,142,1970,"Wood Creos Impregnated","Serviceable","Class 3",2017,100,88.66,8,{"$f":"INDEX(Lists!$B$32:$B$40, MATCH(2020-C124, Lists!$C$32:$C$40,1))","v":"41-50"},{"$f":"SUMPRODUCT((Data!$B$17:$B$19=Model!$F124)*(Data!$C$16:$K$16=Model!$K124)*(Data!$C$17:$K$19))","v":3.78},69.760000000000005,{"$f":"_xlfn.IFS(M124>70,\"Serviceable\",M124>30, \"Limited Life\",M124<=30, \"Unserviceable\")","v":"Limited Life"}]
[null,143,1990,"Wood Untreated Dressed","Serviceable","Class 1",2018,120,116.08,7,{"$f":"INDEX(Lists!$B$32:$B$40, MATCH(2020-C125, Lists!$C$32:$C$40,1))","v":"21-30"},{"$f":"SUMPRODUCT((Data!$B$17:$B$19=Model!$F125)*(Data!$C$16:$K$16=Model!$K125)*(Data!$C$17:$K$19))","v":1.96},106.28,{"$f":"_xlfn.IFS(M125>70,\"Serviceable\",M125>30, \"Limited Life\",M125<=30, \"Unserviceable\")","v":"Serviceable"}]
[null,144,1967,"Wood Creos Impregnated","Serviceable","Class 3",2017,100,91.81,8,{"$f":"INDEX(Lists!$B$32:$B$40, MATCH(2020-C126, Lists!$C$32:$C$40,1))","v":"51-60"},{"$f":"SUMPRODUCT((Data!$B$17:$B$19=Model!$F126)*(Data!$C$16:$K$16=Model!$K126)*(Data!$C$17:$K$19))","v":2.73},78.16,{"$f":"_xlfn.IFS(M126>70,\"Serviceable\",M126>30, \"Limited Life\",M126<=30, \"Unserviceable\")","v":"Serviceable"}]
[null,145,1970,"Wood Creos Impregnated","Serviceable","Class 3",2017,100,88.66,8,{"$f":"INDEX(Lists!$B$32:$B$40, MATCH(2020-C127, Lists!$C$32:$C$40,1))","v":"41-50"},{"$f":"SUMPRODUCT((Data!$B$17:$B$19=Model!$F127)*(Data!$C$16:$K$16=Model!$K127)*(Data!$C$17:$K$19))","v":3.78},69.760000000000005,{"$f":"_xlfn.IFS(M127>70,\"Serviceable\",M127>30, \"Limited Life\",M127<=30, \"Unserviceable\")","v":"Limited Life"}]
[null,146,1973,"Wood Creos Impregnated","Limited Life","Class 3",2017,70,58.66,8,{"$f":"INDEX(Lists!$B$32:$B$40, MATCH(2020-C128, Lists!$C$32:$C$40,1))","v":"41-50"},{"$f":"SUMPRODUCT((Data!$B$17:$B$19=Model!$F128)*(Data!$C$16:$K$16=Model!$K128)*(Data!$C$17:$K$19))","v":3.78},39.760000000000005,{"$f":"_xlfn.IFS(M128>70,\"Serviceable\",M128>30, \"Limited Life\",M128<=30, \"Unserviceable\")","v":"Limited Life"}]
[null,148,1968,"Wood Creos Impregnated","Serviceable","Class 3",2017,80,71.81,8,{"$f":"INDEX(Lists!$B$32:$B$40, MATCH(2020-C129, Lists!$C$32:$C$40,1))","v":"51-60"},{"$f":"SUMPRODUCT((Data!$B$17:$B$19=Model!$F129)*(Data!$C$16:$K$16=Model!$K129)*(Data!$C$17:$K$19))","v":2.73},58.16,{"$f":"_xlfn.IFS(M129>70,\"Serviceable\",M129>30, \"Limited Life\",M129<=30, \"Unserviceable\")","v":"Limited Life"}]
[null,149,1988,"Wood Untreated Dressed","Serviceable","Class 1",2017,100,92.44,8,{"$f":"INDEX(Lists!$B$32:$B$40, MATCH(2020-C130, Lists!$C$32:$C$40,1))","v":"31-40"},{"$f":"SUMPRODUCT((Data!$B$17:$B$19=Model!$F130)*(Data!$C$16:$K$16=Model!$K130)*(Data!$C$17:$K$19))","v":2.52},79.84,{"$f":"_xlfn.IFS(M130>70,\"Serviceable\",M130>30, \"Limited Life\",M130<=30, \"Unserviceable\")","v":"Serviceable"}]
[null,150,1995,"Wood Untreated Dressed","Serviceable","Class 1",2017,150,144.12,8,{"$f":"INDEX(Lists!$B$32:$B$40, MATCH(2020-C131, Lists!$C$32:$C$40,1))","v":"21-30"},{"$f":"SUMPRODUCT((Data!$B$17:$B$19=Model!$F131)*(Data!$C$16:$K$16=Model!$K131)*(Data!$C$17:$K$19))","v":1.96},134.32,{"$f":"_xlfn.IFS(M131>70,\"Serviceable\",M131>30, \"Limited Life\",M131<=30, \"Unserviceable\")","v":"Serviceable"}]
[null,151,1955,"Wood Untreated Round","Serviceable","Class 2",2017,90,83.31,8,{"$f":"INDEX(Lists!$B$32:$B$40, MATCH(2020-C132, Lists!$C$32:$C$40,1))","v":"61-70"},{"$f":"SUMPRODUCT((Data!$B$17:$B$19=Model!$F132)*(Data!$C$16:$K$16=Model!$K132)*(Data!$C$17:$K$19))","v":2.23},72.16,{"$f":"_xlfn.IFS(M132>70,\"Serviceable\",M132>30, \"Limited Life\",M132<=30, \"Unserviceable\")","v":"Serviceable"}]
[null,152,1963,"Wood Creos Impregnated","Serviceable","Class 1",2017,100,95.05,8,{"$f":"INDEX(Lists!$B$32:$B$40, MATCH(2020-C133, Lists!$C$32:$C$40,1))","v":"51-60"},{"$f":"SUMPRODUCT((Data!$B$17:$B$19=Model!$F133)*(Data!$C$16:$K$16=Model!$K133)*(Data!$C$17:$K$19))","v":1.65},86.8,{"$f":"_xlfn.IFS(M133>70,\"Serviceable\",M133>30, \"Limited Life\",M133<=30, \"Unserviceable\")","v":"Serviceable"}]
[null,153,1964,"Wood Creos Impregnated","Serviceable","Class 3",2017,90,81.81,8,{"$f":"INDEX(Lists!$B$32:$B$40, MATCH(2020-C134, Lists!$C$32:$C$40,1))","v":"51-60"},{"$f":"SUMPRODUCT((Data!$B$17:$B$19=Model!$F134)*(Data!$C$16:$K$16=Model!$K134)*(Data!$C$17:$K$19))","v":2.73},68.16,{"$f":"_xlfn.IFS(M134>70,\"Serviceable\",M134>30, \"Limited Life\",M134<=30, \"Unserviceable\")","v":"Limited Life"}]
[null,155,1967,"Wood Creos Impregnated","Serviceable","Class 3",2017,100,91.81,8,{"$f":"INDEX(Lists!$B$32:$B$40, MATCH(2020-C135, Lists!$C$32:$C$40,1))","v":"51-60"},{"$f":"SUMPRODUCT((Data!$B$17:$B$19=Model!$F135)*(Data!$C$16:$K$16=Model!$K135)*(Data!$C$17:$K$19))","v":2.73},78.16,{"$f":"_xlfn.IFS(M135>70,\"Serviceable\",M135>30, \"Limited Life\",M135<=30, \"Unserviceable\")","v":"Serviceable"}]
[null,156,1980,"Wood Creos Impregnated","Serviceable","Class 3",2017,80,70.34,{"$f":"2025-G136","v":8},{"$f":"INDEX(Lists!$B$32:$B$40, MATCH(2020-C136, Lists!$C$32:$C$40,1))","v":"31-40"},{"$f":"SUMPRODUCT((Data!$B$17:$B$19=Model!$F136)*(Data!$C$16:$K$16=Model!$K136)*(Data!$C$17:$K$19))","v":3.22},{"$f":"IF(IF(H136>=700,999,(H136-L136*J136))<0,0,IF(H136>=700,999,(H136-L136*J136)))","v":54.239999999999995},{"$f":"_xlfn.IFS(M136>70,\"Serviceable\",M136>30, \"Limited Life\",M136<=30, \"Unserviceable\")","v":"Limited Life"}]
[null,158,1972,"Wood Creos Impregnated","Serviceable","Class 3",2017,110,98.66,8,{"$f":"INDEX(Lists!$B$32:$B$40, MATCH(2020-C137, Lists!$C$32:$C$40,1))","v":"41-50"},{"$f":"SUMPRODUCT((Data!$B$17:$B$19=Model!$F137)*(Data!$C$16:$K$16=Model!$K137)*(Data!$C$17:$K$19))","v":3.78},79.760000000000005,{"$f":"_xlfn.IFS(M137>70,\"Serviceable\",M137>30, \"Limited Life\",M137<=30, \"Unserviceable\")","v":"Serviceable"}]
[null,159,1956,"Wood Untreated Round","Serviceable","Class 1",2017,110,103.91,8,{"$f":"INDEX(Lists!$B$32:$B$40, MATCH(2020-C138, Lists!$C$32:$C$40,1))","v":"61-70"},{"$f":"SUMPRODUCT((Data!$B$17:$B$19=Model!$F138)*(Data!$C$16:$K$16=Model!$K138)*(Data!$C$17:$K$19))","v":2.0299999999999998},93.76,{"$f":"_xlfn.IFS(M138>70,\"Serviceable\",M138>30, \"Limited Life\",M138<=30, \"Unserviceable\")","v":"Serviceable"}]
[null,160,1980,"Wood Untreated Dressed","Serviceable","Class 1",2017,130,122.44,8,{"$f":"INDEX(Lists!$B$32:$B$40, MATCH(2020-C139, Lists!$C$32:$C$40,1))","v":"31-40"},{"$f":"SUMPRODUCT((Data!$B$17:$B$19=Model!$F139)*(Data!$C$16:$K$16=Model!$K139)*(Data!$C$17:$K$19))","v":2.52},109.84,{"$f":"_xlfn.IFS(M139>70,\"Serviceable\",M139>30, \"Limited Life\",M139<=30, \"Unserviceable\")","v":"Serviceable"}]
[null,162,1966,"Wood Creos Impregnated","Serviceable","Class 3",2017,80,71.81,8,{"$f":"INDEX(Lists!$B$32:$B$40, MATCH(2020-C140, Lists!$C$32:$C$40,1))","v":"51-60"},{"$f":"SUMPRODUCT((Data!$B$17:$B$19=Model!$F140)*(Data!$C$16:$K$16=Model!$K140)*(Data!$C$17:$K$19))","v":2.73},58.16,{"$f":"_xlfn.IFS(M140>70,\"Serviceable\",M140>30, \"Limited Life\",M140<=30, \"Unserviceable\")","v":"Limited Life"}]
[null,163,1964,"Wood Creos Impregnated","Serviceable","Class 3",2017,110,101.81,8,{"$f":"INDEX(Lists!$B$32:$B$40, MATCH(2020-C141, Lists!$C$32:$C$40,1))","v":"51-60"},{"$f":"SUMPRODUCT((Data!$B$17:$B$19=Model!$F141)*(Data!$C$16:$K$16=Model!$K141)*(Data!$C$17:$K$19))","v":2.73},88.16,{"$f":"_xlfn.IFS(M141>70,\"Serviceable\",M141>30, \"Limited Life\",M141<=30, \"Unserviceable\")","v":"Serviceable"}]
[null,164,1966,"Wood Creos Impregnated","Serviceable","Class 3",2017,110,101.81,8,{"$f":"INDEX(Lists!$B$32:$B$40, MATCH(2020-C142, Lists!$C$32:$C$40,1))","v":"51-60"},{"$f":"SUMPRODUCT((Data!$B$17:$B$19=Model!$F142)*(Data!$C$16:$K$16=Model!$K142)*(Data!$C$17:$K$19))","v":2.73},88.16,{"$f":"_xlfn.IFS(M142>70,\"Serviceable\",M142>30, \"Limited Life\",M142<=30, \"Unserviceable\")","v":"Serviceable"}]
[null,165,1967,"Wood Creos Impregnated","Serviceable","Class 3",2017,100,91.81,8,{"$f":"INDEX(Lists!$B$32:$B$40, MATCH(2020-C143, Lists!$C$32:$C$40,1))","v":"51-60"},{"$f":"SUMPRODUCT((Data!$B$17:$B$19=Model!$F143)*(Data!$C$16:$K$16=Model!$K143)*(Data!$C$17:$K$19))","v":2.73},78.16,{"$f":"_xlfn.IFS(M143>70,\"Serviceable\",M143>30, \"Limited Life\",M143<=30, \"Unserviceable\")","v":"Serviceable"}]
[null,166,1980,"Wood Untreated Dressed","Serviceable","Class 1",2017,130,122.44,8,{"$f":"INDEX(Lists!$B$32:$B$40, MATCH(2020-C144, Lists!$C$32:$C$40,1))","v":"31-40"},{"$f":"SUMPRODUCT((Data!$B$17:$B$19=Model!$F144)*(Data!$C$16:$K$16=Model!$K144)*(Data!$C$17:$K$19))","v":2.52},109.84,{"$f":"_xlfn.IFS(M144>70,\"Serviceable\",M144>30, \"Limited Life\",M144<=30, \"Unserviceable\")","v":"Serviceable"}]
[null,168,1976,"Wood Creos Impregnated","Limited Life","Class 3",2017,80,68.66,8,{"$f":"INDEX(Lists!$B$32:$B$40, MATCH(2020-C145, Lists!$C$32:$C$40,1))","v":"41-50"},{"$f":"SUMPRODUCT((Data!$B$17:$B$19=Model!$F145)*(Data!$C$16:$K$16=Model!$K145)*(Data!$C$17:$K$19))","v":3.78},49.760000000000005,{"$f":"_xlfn.IFS(M145>70,\"Serviceable\",M145>30, \"Limited Life\",M145<=30, \"Unserviceable\")","v":"Limited Life"}]
[null,169,1972,"Wood Creos Impregnated","Serviceable","Class 3",2017,90,78.66,8,{"$f":"INDEX(Lists!$B$32:$B$40, MATCH(2020-C146, Lists!$C$32:$C$40,1))","v":"41-50"},{"$f":"SUMPRODUCT((Data!$B$17:$B$19=Model!$F146)*(Data!$C$16:$K$16=Model!$K146)*(Data!$C$17:$K$19))","v":3.78},59.760000000000005,{"$f":"_xlfn.IFS(M146>70,\"Serviceable\",M146>30, \"Limited Life\",M146<=30, \"Unserviceable\")","v":"Limited Life"}]
[null,170,1972,"Wood Creos Impregnated","Serviceable","Class 3",2017,110,98.66,8,{"$f":"INDEX(Lists!$B$32:$B$40, MATCH(2020-C147, Lists!$C$32:$C$40,1))","v":"41-50"},{"$f":"SUMPRODUCT((Data!$B$17:$B$19=Model!$F147)*(Data!$C$16:$K$16=Model!$K147)*(Data!$C$17:$K$19))","v":3.78},79.760000000000005,{"$f":"_xlfn.IFS(M147>70,\"Serviceable\",M147>30, \"Limited Life\",M147<=30, \"Unserviceable\")","v":"Serviceable"}]
[null,171,1964,"Wood Creos Impregnated","Serviceable","Class 3",2017,110,101.81,8,{"$f":"INDEX(Lists!$B$32:$B$40, MATCH(2020-C148, Lists!$C$32:$C$40,1))","v":"51-60"},{"$f":"SUMPRODUCT((Data!$B$17:$B$19=Model!$F148)*(Data!$C$16:$K$16=Model!$K148)*(Data!$C$17:$K$19))","v":2.73},88.16,{"$f":"_xlfn.IFS(M148>70,\"Serviceable\",M148>30, \"Limited Life\",M148<=30, \"Unserviceable\")","v":"Serviceable"}]
[null,173,1979,"Wood Untreated Dressed","Serviceable","Class 1",2017,110,104.75,8,{"$f":"INDEX(Lists!$B$32:$B$40, MATCH(2020-C149, Lists!$C$32:$C$40,1))","v":"41-50"},{"$f":"SUMPRODUCT((Data!$B$17:$B$19=Model!$F149)*(Data!$C$16:$K$16=Model!$K149)*(Data!$C$17:$K$19))","v":1.75},96,{"$f":"_xlfn.IFS(M149>70,\"Serviceable\",M149>30, \"Limited Life\",M149<=30, \"Unserviceable\")","v":"Serviceable"}]
[null,174,1965,"Wood Creos Impregnated","Serviceable","Class 3",2017,110,101.81,8,{"$f":"INDEX(Lists!$B$32:$B$40, MATCH(2020-C150, Lists!$C$32:$C$40,1))","v":"51-60"},{"$f":"SUMPRODUCT((Data!$B$17:$B$19=Model!$F150)*(Data!$C$16:$K$16=Model!$K150)*(Data!$C$17:$K$19))","v":2.73},88.16,{"$f":"_xlfn.IFS(M150>70,\"Serviceable\",M150>30, \"Limited Life\",M150<=30, \"Unserviceable\")","v":"Serviceable"}]
[null,175,1975,"Wood Creos Impregnated","Serviceable","Class 1",2017,110,104.75,8,{"$f":"INDEX(Lists!$B$32:$B$40, MATCH(2020-C151, Lists!$C$32:$C$40,1))","v":"41-50"},{"$f":"SUMPRODUCT((Data!$B$17:$B$19=Model!$F151)*(Data!$C$16:$K$16=Model!$K151)*(Data!$C$17:$K$19))","v":1.75},96,{"$f":"_xlfn.IFS(M151>70,\"Serviceable\",M151>30, \"Limited Life\",M151<=30, \"Unserviceable\")","v":"Serviceable"}]
[null,176,1997,"CCA Treated Pole","Serviceable","Class 1",2017,120,114.12,8,{"$f":"INDEX(Lists!$B$32:$B$40, MATCH(2020-C152, Lists!$C$32:$C$40,1))","v":"21-30"},{"$f":"SUMPRODUCT((Data!$B$17:$B$19=Model!$F152)*(Data!$C$16:$K$16=Model!$K152)*(Data!$C$17:$K$19))","v":1.96},104.32,{"$f":"_xlfn.IFS(M152>70,\"Serviceable\",M152>30, \"Limited Life\",M152<=30, \"Unserviceable\")","v":"Serviceable"}]
[null,181,1971,"Wood Creos Impregnated","Serviceable","Class 3",2017,100,88.66,8,{"$f":"INDEX(Lists!$B$32:$B$40, MATCH(2020-C153, Lists!$C$32:$C$40,1))","v":"41-50"},{"$f":"SUMPRODUCT((Data!$B$17:$B$19=Model!$F153)*(Data!$C$16:$K$16=Model!$K153)*(Data!$C$17:$K$19))","v":3.78},69.760000000000005,{"$f":"_xlfn.IFS(M153>70,\"Serviceable\",M153>30, \"Limited Life\",M153<=30, \"Unserviceable\")","v":"Limited Life"}]
[null,184,1967,"Wood Creos Impregnated","Serviceable","Class 3",2017,80,71.81,8,{"$f":"INDEX(Lists!$B$32:$B$40, MATCH(2020-C154, Lists!$C$32:$C$40,1))","v":"51-60"},{"$f":"SUMPRODUCT((Data!$B$17:$B$19=Model!$F154)*(Data!$C$16:$K$16=Model!$K154)*(Data!$C$17:$K$19))","v":2.73},58.16,{"$f":"_xlfn.IFS(M154>70,\"Serviceable\",M154>30, \"Limited Life\",M154<=30, \"Unserviceable\")","v":"Limited Life"}]
[null,185,1973,"Wood Untreated Dressed","Serviceable","Class 1",2017,120,114.75,8,{"$f":"INDEX(Lists!$B$32:$B$40, MATCH(2020-C155, Lists!$C$32:$C$40,1))","v":"41-50"},{"$f":"SUMPRODUCT((Data!$B$17:$B$19=Model!$F155)*(Data!$C$16:$K$16=Model!$K155)*(Data!$C$17:$K$19))","v":1.75},106,{"$f":"_xlfn.IFS(M155>70,\"Serviceable\",M155>30, \"Limited Life\",M155<=30, \"Unserviceable\")","v":"Serviceable"}]
[null,186,1995,"Wood Untreated Dressed","Serviceable","Class 1",2017,150,144.12,8,{"$f":"INDEX(Lists!$B$32:$B$40, MATCH(2020-C156, Lists!$C$32:$C$40,1))","v":"21-30"},{"$f":"SUMPRODUCT((Data!$B$17:$B$19=Model!$F156)*(Data!$C$16:$K$16=Model!$K156)*(Data!$C$17:$K$19))","v":1.96},134.32,{"$f":"_xlfn.IFS(M156>70,\"Serviceable\",M156>30, \"Limited Life\",M156<=30, \"Unserviceable\")","v":"Serviceable"}]
[null,187,1967,"Wood Creos Impregnated","Serviceable","Class 3",2017,110,101.81,8,{"$f":"INDEX(Lists!$B$32:$B$40, MATCH(2020-C157, Lists!$C$32:$C$40,1))","v":"51-60"},{"$f":"SUMPRODUCT((Data!$B$17:$B$19=Model!$F157)*(Data!$C$16:$K$16=Model!$K157)*(Data!$C$17:$K$19))","v":2.73},88.16,{"$f":"_xlfn.IFS(M157>70,\"Serviceable\",M157>30, \"Limited Life\",M157<=30, \"Unserviceable\")","v":"Serviceable"}]
[null,188,1986,"Wood Untreated Dressed","Serviceable","Class 1",2017,130,122.44,8,{"$f":"INDEX(Lists!$B$32:$B$40, MATCH(2020-C158, Lists!$C$32:$C$40,1))","v":"31-40"},{"$f":"SUMPRODUCT((Data!$B$17:$B$19=Model!$F158)*(Data!$C$16:$K$16=Model!$K158)*(Data!$C$17:$K$19))","v":2.52},109.84,{"$f":"_xlfn.IFS(M158>70,\"Serviceable\",M158>30, \"Limited Life\",M158<=30, \"Unserviceable\")","v":"Serviceable"}]
[null,189,1967,"Wood Creos Impregnated","Serviceable","Class 3",2017,100,91.81,8,{"$f":"INDEX(Lists!$B$32:$B$40, MATCH(2020-C159, Lists!$C$32:$C$40,1))","v":"51-60"},{"$f":"SUMPRODUCT((Data!$B$17:$B$19=Model!$F159)*(Data!$C$16:$K$16=Model!$K159)*(Data!$C$17:$K$19))","v":2.73},78.16,{"$f":"_xlfn.IFS(M159>70,\"Serviceable\",M159>30, \"Limited Life\",M159<=30, \"Unserviceable\")","v":"Serviceable"}]
[null,191,1986,"Wood Untreated Dressed","Serviceable","Class 1",2018,90,84.96,7,{"$f":"INDEX(Lists!$B$32:$B$40, MATCH(2020-C160, Lists!$C$32:$C$40,1))","v":"31-40"},{"$f":"SUMPRODUCT((Data!$B$17:$B$19=Model!$F160)*(Data!$C$16:$K$16=Model!$K160)*(Data!$C$17:$K$19))","v":2.52},72.36,{"$f":"_xlfn.IFS(M160>70,\"Serviceable\",M160>30, \"Limited Life\",M160<=30, \"Unserviceable\")","v":"Serviceable"}]
[null,192,1974,"Wood Creos Impregnated","Serviceable","Class 1",2017,100,94.75,8,{"$f":"INDEX(Lists!$B$32:$B$40, MATCH(2020-C161, Lists!$C$32:$C$40,1))","v":"41-50"},{"$f":"SUMPRODUCT((Data!$B$17:$B$19=Model!$F161)*(Data!$C$16:$K$16=Model!$K161)*(Data!$C$17:$K$19))","v":1.75},86,{"$f":"_xlfn.IFS(M161>70,\"Serviceable\",M161>30, \"Limited Life\",M161<=30, \"Unserviceable\")","v":"Serviceable"}]
[null,193,1967,"Wood Creos Impregnated","Serviceable","Class 3",2017,100,91.81,8,{"$f":"INDEX(Lists!$B$32:$B$40, MATCH(2020-C162, Lists!$C$32:$C$40,1))","v":"51-60"},{"$f":"SUMPRODUCT((Data!$B$17:$B$19=Model!$F162)*(Data!$C$16:$K$16=Model!$K162)*(Data!$C$17:$K$19))","v":2.73},78.16,{"$f":"_xlfn.IFS(M162>70,\"Serviceable\",M162>30, \"Limited Life\",M162<=30, \"Unserviceable\")","v":"Serviceable"}]
[null,195,1971,"Wood Creos Impregnated","Limited Life","Class 3",2017,80,68.66,8,{"$f":"INDEX(Lists!$B$32:$B$40, MATCH(2020-C163, Lists!$C$32:$C$40,1))","v":"41-50"},{"$f":"SUMPRODUCT((Data!$B$17:$B$19=Model!$F163)*(Data!$C$16:$K$16=Model!$K163)*(Data!$C$17:$K$19))","v":3.78},49.760000000000005,{"$f":"_xlfn.IFS(M163>70,\"Serviceable\",M163>30, \"Limited Life\",M163<=30, \"Unserviceable\")","v":"Limited Life"}]
[null,197,1971,"Wood Creos Impregnated","Serviceable","Class 3",2017,100,88.66,8,{"$f":"INDEX(Lists!$B$32:$B$40, MATCH(2020-C164, Lists!$C$32:$C$40,1))","v":"41-50"},{"$f":"SUMPRODUCT((Data!$B$17:$B$19=Model!$F164)*(Data!$C$16:$K$16=Model!$K164)*(Data!$C$17:$K$19))","v":3.78},69.760000000000005,{"$f":"_xlfn.IFS(M164>70,\"Serviceable\",M164>30, \"Limited Life\",M164<=30, \"Unserviceable\")","v":"Limited Life"}]
[null,198,1980,"Wood Untreated Dressed","Serviceable","Class 1",2017,120,112.44,8,{"$f":"INDEX(Lists!$B$32:$B$40, MATCH(2020-C165, Lists!$C$32:$C$40,1))","v":"31-40"},{"$f":"SUMPRODUCT((Data!$B$17:$B$19=Model!$F165)*(Data!$C$16:$K$16=Model!$K165)*(Data!$C$17:$K$19))","v":2.52},99.84,{"$f":"_xlfn.IFS(M165>70,\"Serviceable\",M165>30, \"Limited Life\",M165<=30, \"Unserviceable\")","v":"Serviceable"}]
[null,199,1966,"Wood Creos Impregnated","Serviceable","Class 3",2017,100,91.81,8,{"$f":"INDEX(Lists!$B$32:$B$40, MATCH(2020-C166, Lists!$C$32:$C$40,1))","v":"51-60"},{"$f":"SUMPRODUCT((Data!$B$17:$B$19=Model!$F166)*(Data!$C$16:$K$16=Model!$K166)*(Data!$C$17:$K$19))","v":2.73},78.16,{"$f":"_xlfn.IFS(M166>70,\"Serviceable\",M166>30, \"Limited Life\",M166<=30, \"Unserviceable\")","v":"Serviceable"}]
[null,200,1981,"Wood Untreated Dressed","Serviceable","Class 1",2017,110,102.44,8,{"$f":"INDEX(Lists!$B$32:$B$40, MATCH(2020-C167, Lists!$C$32:$C$40,1))","v":"31-40"},{"$f":"SUMPRODUCT((Data!$B$17:$B$19=Model!$F167)*(Data!$C$16:$K$16=Model!$K167)*(Data!$C$17:$K$19))","v":2.52},89.84,{"$f":"_xlfn.IFS(M167>70,\"Serviceable\",M167>30, \"Limited Life\",M167<=30, \"Unserviceable\")","v":"Serviceable"}]
[null,202,1971,"Wood Creos Impregnated","Serviceable","Class 3",2018,100,92.44,7,{"$f":"INDEX(Lists!$B$32:$B$40, MATCH(2020-C168, Lists!$C$32:$C$40,1))","v":"41-50"},{"$f":"SUMPRODUCT((Data!$B$17:$B$19=Model!$F168)*(Data!$C$16:$K$16=Model!$K168)*(Data!$C$17:$K$19))","v":3.78},73.540000000000006,{"$f":"_xlfn.IFS(M168>70,\"Serviceable\",M168>30, \"Limited Life\",M168<=30, \"Unserviceable\")","v":"Serviceable"}]
[null,203,1984,"Wood Untreated Dressed","Serviceable","Class 1",2018,150,144.96,7,{"$f":"INDEX(Lists!$B$32:$B$40, MATCH(2020-C169, Lists!$C$32:$C$40,1))","v":"31-40"},{"$f":"SUMPRODUCT((Data!$B$17:$B$19=Model!$F169)*(Data!$C$16:$K$16=Model!$K169)*(Data!$C$17:$K$19))","v":2.52},132.36000000000001,{"$f":"_xlfn.IFS(M169>70,\"Serviceable\",M169>30, \"Limited Life\",M169<=30, \"Unserviceable\")","v":"Serviceable"}]
[null,204,1999,"Wood Untreated Round","Serviceable","Class 1",2018,120,116.08,7,{"$f":"INDEX(Lists!$B$32:$B$40, MATCH(2020-C170, Lists!$C$32:$C$40,1))","v":"21-30"},{"$f":"SUMPRODUCT((Data!$B$17:$B$19=Model!$F170)*(Data!$C$16:$K$16=Model!$K170)*(Data!$C$17:$K$19))","v":1.96},106.28,{"$f":"_xlfn.IFS(M170>70,\"Serviceable\",M170>30, \"Limited Life\",M170<=30, \"Unserviceable\")","v":"Serviceable"}]
[null,206,1977,"Wood Untreated Dressed","Serviceable","Class 1",2017,100,94.75,8,{"$f":"INDEX(Lists!$B$32:$B$40, MATCH(2020-C171, Lists!$C$32:$C$40,1))","v":"41-50"},{"$f":"SUMPRODUCT((Data!$B$17:$B$19=Model!$F171)*(Data!$C$16:$K$16=Model!$K171)*(Data!$C$17:$K$19))","v":1.75},86,{"$f":"_xlfn.IFS(M171>70,\"Serviceable\",M171>30, \"Limited Life\",M171<=30, \"Unserviceable\")","v":"Serviceable"}]
[null,208,1962,"Wood Creos Impregnated","Serviceable","Class 3",2017,110,101.81,8,{"$f":"INDEX(Lists!$B$32:$B$40, MATCH(2020-C172, Lists!$C$32:$C$40,1))","v":"51-60"},{"$f":"SUMPRODUCT((Data!$B$17:$B$19=Model!$F172)*(Data!$C$16:$K$16=Model!$K172)*(Data!$C$17:$K$19))","v":2.73},88.16,{"$f":"_xlfn.IFS(M172>70,\"Serviceable\",M172>30, \"Limited Life\",M172<=30, \"Unserviceable\")","v":"Serviceable"}]
[null,210,1967,"Wood Creos Impregnated","Serviceable","Class 3",2017,90,81.81,8,{"$f":"INDEX(Lists!$B$32:$B$40, MATCH(2020-C173, Lists!$C$32:$C$40,1))","v":"51-60"},{"$f":"SUMPRODUCT((Data!$B$17:$B$19=Model!$F173)*(Data!$C$16:$K$16=Model!$K173)*(Data!$C$17:$K$19))","v":2.73},68.16,{"$f":"_xlfn.IFS(M173>70,\"Serviceable\",M173>30, \"Limited Life\",M173<=30, \"Unserviceable\")","v":"Limited Life"}]
[null,211,1963,"Wood Creos Impregnated","Serviceable","Class 3",2017,80,71.81,8,{"$f":"INDEX(Lists!$B$32:$B$40, MATCH(2020-C174, Lists!$C$32:$C$40,1))","v":"51-60"},{"$f":"SUMPRODUCT((Data!$B$17:$B$19=Model!$F174)*(Data!$C$16:$K$16=Model!$K174)*(Data!$C$17:$K$19))","v":2.73},58.16,{"$f":"_xlfn.IFS(M174>70,\"Serviceable\",M174>30, \"Limited Life\",M174<=30, \"Unserviceable\")","v":"Limited Life"}]
[null,212,1967,"Wood Creos Impregnated","Serviceable","Class 3",2017,110,101.81,8,{"$f":"INDEX(Lists!$B$32:$B$40, MATCH(2020-C175, Lists!$C$32:$C$40,1))","v":"51-60"},{"$f":"SUMPRODUCT((Data!$B$17:$B$19=Model!$F175)*(Data!$C$16:$K$16=Model!$K175)*(Data!$C$17:$K$19))","v":2.73},88.16,{"$f":"_xlfn.IFS(M175>70,\"Serviceable\",M175>30, \"Limited Life\",M175<=30, \"Unserviceable\")","v":"Serviceable"}]
[null,213,1963,"Wood Creos Impregnated","Serviceable","Class 3",2017,110,101.81,8,{"$f":"INDEX(Lists!$B$32:$B$40, MATCH(2020-C176, Lists!$C$32:$C$40,1))","v":"51-60"},{"$f":"SUMPRODUCT((Data!$B$17:$B$19=Model!$F176)*(Data!$C$16:$K$16=Model!$K176)*(Data!$C$17:$K$19))","v":2.73},88.16,{"$f":"_xlfn.IFS(M176>70,\"Serviceable\",M176>30, \"Limited Life\",M176<=30, \"Unserviceable\")","v":"Serviceable"}]
[null,214,1964,"Wood Creos Impregnated","Serviceable","Class 3",2017,90,81.81,8,{"$f":"INDEX(Lists!$B$32:$B$40, MATCH(2020-C177, Lists!$C$32:$C$40,1))","v":"51-60"},{"$f":"SUMPRODUCT((Data!$B$17:$B$19=Model!$F177)*(Data!$C$16:$K$16=Model!$K177)*(Data!$C$17:$K$19))","v":2.73},68.16,{"$f":"_xlfn.IFS(M177>70,\"Serviceable\",M177>30, \"Limited Life\",M177<=30, \"Unserviceable\")","v":"Limited Life"}]
[null,216,1934,"Wood Untreated Dressed","Serviceable","Class 1",2017,100,91.57,8,{"$f":"INDEX(Lists!$B$32:$B$40, MATCH(2020-C178, Lists!$C$32:$C$40,1))","v":"81-90"},{"$f":"SUMPRODUCT((Data!$B$17:$B$19=Model!$F178)*(Data!$C$16:$K$16=Model!$K178)*(Data!$C$17:$K$19))","v":2.81},77.52,{"$f":"_xlfn.IFS(M178>70,\"Serviceable\",M178>30, \"Limited Life\",M178<=30, \"Unserviceable\")","v":"Serviceable"}]
[null,217,1987,"Wood Untreated Dressed","Serviceable","Class 1",2017,130,122.44,8,{"$f":"INDEX(Lists!$B$32:$B$40, MATCH(2020-C179, Lists!$C$32:$C$40,1))","v":"31-40"},{"$f":"SUMPRODUCT((Data!$B$17:$B$19=Model!$F179)*(Data!$C$16:$K$16=Model!$K179)*(Data!$C$17:$K$19))","v":2.52},109.84,{"$f":"_xlfn.IFS(M179>70,\"Serviceable\",M179>30, \"Limited Life\",M179<=30, \"Unserviceable\")","v":"Serviceable"}]
[null,218,1967,"Wood Creos Impregnated","Serviceable","Class 3",2017,100,91.81,8,{"$f":"INDEX(Lists!$B$32:$B$40, MATCH(2020-C180, Lists!$C$32:$C$40,1))","v":"51-60"},{"$f":"SUMPRODUCT((Data!$B$17:$B$19=Model!$F180)*(Data!$C$16:$K$16=Model!$K180)*(Data!$C$17:$K$19))","v":2.73},78.16,{"$f":"_xlfn.IFS(M180>70,\"Serviceable\",M180>30, \"Limited Life\",M180<=30, \"Unserviceable\")","v":"Serviceable"}]
[null,219,1967,"Wood Creos Impregnated","Serviceable","Class 3",2017,90,81.81,8,{"$f":"INDEX(Lists!$B$32:$B$40, MATCH(2020-C181, Lists!$C$32:$C$40,1))","v":"51-60"},{"$f":"SUMPRODUCT((Data!$B$17:$B$19=Model!$F181)*(Data!$C$16:$K$16=Model!$K181)*(Data!$C$17:$K$19))","v":2.73},68.16,{"$f":"_xlfn.IFS(M181>70,\"Serviceable\",M181>30, \"Limited Life\",M181<=30, \"Unserviceable\")","v":"Limited Life"}]
[null,220,1981,"Wood Untreated Dressed","Serviceable","Class 1",2017,90,82.44,8,{"$f":"INDEX(Lists!$B$32:$B$40, MATCH(2020-C182, Lists!$C$32:$C$40,1))","v":"31-40"},{"$f":"SUMPRODUCT((Data!$B$17:$B$19=Model!$F182)*(Data!$C$16:$K$16=Model!$K182)*(Data!$C$17:$K$19))","v":2.52},69.84,{"$f":"_xlfn.IFS(M182>70,\"Serviceable\",M182>30, \"Limited Life\",M182<=30, \"Unserviceable\")","v":"Limited Life"}]
[null,223,1969,"Wood Creos Impregnated","Serviceable","Class 3",2017,100,91.81,8,{"$f":"INDEX(Lists!$B$32:$B$40, MATCH(2020-C183, Lists!$C$32:$C$40,1))","v":"51-60"},{"$f":"SUMPRODUCT((Data!$B$17:$B$19=Model!$F183)*(Data!$C$16:$K$16=Model!$K183)*(Data!$C$17:$K$19))","v":2.73},78.16,{"$f":"_xlfn.IFS(M183>70,\"Serviceable\",M183>30, \"Limited Life\",M183<=30, \"Unserviceable\")","v":"Serviceable"}]
[null,224,1969,"Wood Creos Impregnated","Serviceable","Class 3",2017,90,81.81,8,{"$f":"INDEX(Lists!$B$32:$B$40, MATCH(2020-C184, Lists!$C$32:$C$40,1))","v":"51-60"},{"$f":"SUMPRODUCT((Data!$B$17:$B$19=Model!$F184)*(Data!$C$16:$K$16=Model!$K184)*(Data!$C$17:$K$19))","v":2.73},68.16,{"$f":"_xlfn.IFS(M184>70,\"Serviceable\",M184>30, \"Limited Life\",M184<=30, \"Unserviceable\")","v":"Limited Life"}]
[null,225,1969,"Wood Creos Impregnated","Serviceable","Class 3",2017,100,91.81,8,{"$f":"INDEX(Lists!$B$32:$B$40, MATCH(2020-C185, Lists!$C$32:$C$40,1))","v":"51-60"},{"$f":"SUMPRODUCT((Data!$B$17:$B$19=Model!$F185)*(Data!$C$16:$K$16=Model!$K185)*(Data!$C$17:$K$19))","v":2.73},78.16,{"$f":"_xlfn.IFS(M185>70,\"Serviceable\",M185>30, \"Limited Life\",M185<=30, \"Unserviceable\")","v":"Serviceable"}]
[null,226,2003,"CCA Treated Pole","Serviceable","Class 2",2017,160,156.34,8,{"$f":"INDEX(Lists!$B$32:$B$40, MATCH(2020-C186, Lists!$C$32:$C$40,1))","v":"0-20"},{"$f":"SUMPRODUCT((Data!$B$17:$B$19=Model!$F186)*(Data!$C$16:$K$16=Model!$K186)*(Data!$C$17:$K$19))","v":1.22},150.24,{"$f":"_xlfn.IFS(M186>70,\"Serviceable\",M186>30, \"Limited Life\",M186<=30, \"Unserviceable\")","v":"Serviceable"}]
[null,227,2006,"CCA Treated Pole","Serviceable","Class 1",2017,160,156.82,8,{"$f":"INDEX(Lists!$B$32:$B$40, MATCH(2020-C187, Lists!$C$32:$C$40,1))","v":"0-20"},{"$f":"SUMPRODUCT((Data!$B$17:$B$19=Model!$F187)*(Data!$C$16:$K$16=Model!$K187)*(Data!$C$17:$K$19))","v":1.06},151.52000000000001,{"$f":"_xlfn.IFS(M187>70,\"Serviceable\",M187>30, \"Limited Life\",M187<=30, \"Unserviceable\")","v":"Serviceable"}]
[null,228,1979,"Wood Creos Impregnated","Serviceable","Class 3",2017,110,98.66,8,{"$f":"INDEX(Lists!$B$32:$B$40, MATCH(2020-C188, Lists!$C$32:$C$40,1))","v":"41-50"},{"$f":"SUMPRODUCT((Data!$B$17:$B$19=Model!$F188)*(Data!$C$16:$K$16=Model!$K188)*(Data!$C$17:$K$19))","v":3.78},79.760000000000005,{"$f":"_xlfn.IFS(M188>70,\"Serviceable\",M188>30, \"Limited Life\",M188<=30, \"Unserviceable\")","v":"Serviceable"}]
[null,229,1979,"Wood Untreated Dressed","Serviceable","Class 1",2017,100,94.75,8,{"$f":"INDEX(Lists!$B$32:$B$40, MATCH(2020-C189, Lists!$C$32:$C$40,1))","v":"41-50"},{"$f":"SUMPRODUCT((Data!$B$17:$B$19=Model!$F189)*(Data!$C$16:$K$16=Model!$K189)*(Data!$C$17:$K$19))","v":1.75},86,{"$f":"_xlfn.IFS(M189>70,\"Serviceable\",M189>30, \"Limited Life\",M189<=30, \"Unserviceable\")","v":"Serviceable"}]
[null,231,1979,"Wood Creos Impregnated","Serviceable","Class 3",2017,100,88.66,8,{"$f":"INDEX(Lists!$B$32:$B$40, MATCH(2020-C190, Lists!$C$32:$C$40,1))","v":"41-50"},{"$f":"SUMPRODUCT((Data!$B$17:$B$19=Model!$F190)*(Data!$C$16:$K$16=Model!$K190)*(Data!$C$17:$K$19))","v":3.78},69.760000000000005,{"$f":"_xlfn.IFS(M190>70,\"Serviceable\",M190>30, \"Limited Life\",M190<=30, \"Unserviceable\")","v":"Limited Life"}]
[null,233,2002,"CCA Treated Pole","Serviceable","Class 1",2017,140,136.82,8,{"$f":"INDEX(Lists!$B$32:$B$40, MATCH(2020-C191, Lists!$C$32:$C$40,1))","v":"0-20"},{"$f":"SUMPRODUCT((Data!$B$17:$B$19=Model!$F191)*(Data!$C$16:$K$16=Model!$K191)*(Data!$C$17:$K$19))","v":1.06},131.52000000000001,{"$f":"_xlfn.IFS(M191>70,\"Serviceable\",M191>30, \"Limited Life\",M191<=30, \"Unserviceable\")","v":"Serviceable"}]
[null,234,1985,"Wood Untreated Dressed","Serviceable","Class 1",2017,110,102.44,8,{"$f":"INDEX(Lists!$B$32:$B$40, MATCH(2020-C192, Lists!$C$32:$C$40,1))","v":"31-40"},{"$f":"SUMPRODUCT((Data!$B$17:$B$19=Model!$F192)*(Data!$C$16:$K$16=Model!$K192)*(Data!$C$17:$K$19))","v":2.52},89.84,{"$f":"_xlfn.IFS(M192>70,\"Serviceable\",M192>30, \"Limited Life\",M192<=30, \"Unserviceable\")","v":"Serviceable"}]
[null,235,1985,"Wood Untreated Dressed","Serviceable","Class 1",2017,110,102.44,8,{"$f":"INDEX(Lists!$B$32:$B$40, MATCH(2020-C193, Lists!$C$32:$C$40,1))","v":"31-40"},{"$f":"SUMPRODUCT((Data!$B$17:$B$19=Model!$F193)*(Data!$C$16:$K$16=Model!$K193)*(Data!$C$17:$K$19))","v":2.52},89.84,{"$f":"_xlfn.IFS(M193>70,\"Serviceable\",M193>30, \"Limited Life\",M193<=30, \"Unserviceable\")","v":"Serviceable"}]
[null,236,1971,"Wood Creos Impregnated","Serviceable","Class 3",2017,90,78.66,8,{"$f":"INDEX(Lists!$B$32:$B$40, MATCH(2020-C194, Lists!$C$32:$C$40,1))","v":"41-50"},{"$f":"SUMPRODUCT((Data!$B$17:$B$19=Model!$F194)*(Data!$C$16:$K$16=Model!$K194)*(Data!$C$17:$K$19))","v":3.78},59.760000000000005,{"$f":"_xlfn.IFS(M194>70,\"Serviceable\",M194>30, \"Limited Life\",M194<=30, \"Unserviceable\")","v":"Limited Life"}]
[null,237,1979,"Wood Creos Impregnated","Serviceable","Class 3",2017,100,88.66,8,{"$f":"INDEX(Lists!$B$32:$B$40, MATCH(2020-C195, Lists!$C$32:$C$40,1))","v":"41-50"},{"$f":"SUMPRODUCT((Data!$B$17:$B$19=Model!$F195)*(Data!$C$16:$K$16=Model!$K195)*(Data!$C$17:$K$19))","v":3.78},69.760000000000005,{"$f":"_xlfn.IFS(M195>70,\"Serviceable\",M195>30, \"Limited Life\",M195<=30, \"Unserviceable\")","v":"Limited Life"}]
[null,238,1962,"Wood Creos Impregnated","Serviceable","Class 3",2017,100,91.81,8,{"$f":"INDEX(Lists!$B$32:$B$40, MATCH(2020-C196, Lists!$C$32:$C$40,1))","v":"51-60"},{"$f":"SUMPRODUCT((Data!$B$17:$B$19=Model!$F196)*(Data!$C$16:$K$16=Model!$K196)*(Data!$C$17:$K$19))","v":2.73},78.16,{"$f":"_xlfn.IFS(M196>70,\"Serviceable\",M196>30, \"Limited Life\",M196<=30, \"Unserviceable\")","v":"Serviceable"}]
[null,239,1971,"Wood Creos Impregnated","Serviceable","Class 3",2017,100,88.66,8,{"$f":"INDEX(Lists!$B$32:$B$40, MATCH(2020-C197, Lists!$C$32:$C$40,1))","v":"41-50"},{"$f":"SUMPRODUCT((Data!$B$17:$B$19=Model!$F197)*(Data!$C$16:$K$16=Model!$K197)*(Data!$C$17:$K$19))","v":3.78},69.760000000000005,{"$f":"_xlfn.IFS(M197>70,\"Serviceable\",M197>30, \"Limited Life\",M197<=30, \"Unserviceable\")","v":"Limited Life"}]
[null,240,1959,"Wood Creos Impregnated","Serviceable","Class 3",2018,110,105.96,7,{"$f":"INDEX(Lists!$B$32:$B$40, MATCH(2020-C198, Lists!$C$32:$C$40,1))","v":"61-70"},{"$f":"SUMPRODUCT((Data!$B$17:$B$19=Model!$F198)*(Data!$C$16:$K$16=Model!$K198)*(Data!$C$17:$K$19))","v":2.02},95.86,{"$f":"_xlfn.IFS(M198>70,\"Serviceable\",M198>30, \"Limited Life\",M198<=30, \"Unserviceable\")","v":"Serviceable"}]
[null,241,1989,"Wood Untreated Dressed","Serviceable","Class 1",2018,140,134.96,7,{"$f":"INDEX(Lists!$B$32:$B$40, MATCH(2020-C199, Lists!$C$32:$C$40,1))","v":"31-40"},{"$f":"SUMPRODUCT((Data!$B$17:$B$19=Model!$F199)*(Data!$C$16:$K$16=Model!$K199)*(Data!$C$17:$K$19))","v":2.52},122.36,{"$f":"_xlfn.IFS(M199>70,\"Serviceable\",M199>30, \"Limited Life\",M199<=30, \"Unserviceable\")","v":"Serviceable"}]
[null,242,2003,"CCA Treated Pole","Serviceable","Class 2",2018,150,147.56,{"$f":"2025-G200","v":7},{"$f":"INDEX(Lists!$B$32:$B$40, MATCH(2020-C200, Lists!$C$32:$C$40,1))","v":"0-20"},{"$f":"SUMPRODUCT((Data!$B$17:$B$19=Model!$F200)*(Data!$C$16:$K$16=Model!$K200)*(Data!$C$17:$K$19))","v":1.22},{"$f":"IF(IF(H200>=700,999,(H200-L200*J200))<0,0,IF(H200>=700,999,(H200-L200*J200)))","v":141.46},{"$f":"_xlfn.IFS(M200>70,\"Serviceable\",M200>30, \"Limited Life\",M200<=30, \"Unserviceable\")","v":"Serviceable"}]
[null,243,2003,"CCA Treated Pole","Serviceable","Class 2",2018,150,147.56,7,{"$f":"INDEX(Lists!$B$32:$B$40, MATCH(2020-C201, Lists!$C$32:$C$40,1))","v":"0-20"},{"$f":"SUMPRODUCT((Data!$B$17:$B$19=Model!$F201)*(Data!$C$16:$K$16=Model!$K201)*(Data!$C$17:$K$19))","v":1.22},141.46,{"$f":"_xlfn.IFS(M201>70,\"Serviceable\",M201>30, \"Limited Life\",M201<=30, \"Unserviceable\")","v":"Serviceable"}]
[null,244,1973,"Wood Untreated Dressed","Serviceable","Class 1",2018,110,106.5,7,{"$f":"INDEX(Lists!$B$32:$B$40, MATCH(2020-C202, Lists!$C$32:$C$40,1))","v":"41-50"},{"$f":"SUMPRODUCT((Data!$B$17:$B$19=Model!$F202)*(Data!$C$16:$K$16=Model!$K202)*(Data!$C$17:$K$19))","v":1.75},97.75,{"$f":"_xlfn.IFS(M202>70,\"Serviceable\",M202>30, \"Limited Life\",M202<=30, \"Unserviceable\")","v":"Serviceable"}]
[null,245,2002,"Wood Creos Impregnated","Serviceable","Class 2",2018,160,157.56,7,{"$f":"INDEX(Lists!$B$32:$B$40, MATCH(2020-C203, Lists!$C$32:$C$40,1))","v":"0-20"},{"$f":"SUMPRODUCT((Data!$B$17:$B$19=Model!$F203)*(Data!$C$16:$K$16=Model!$K203)*(Data!$C$17:$K$19))","v":1.22},151.46,{"$f":"_xlfn.IFS(M203>70,\"Serviceable\",M203>30, \"Limited Life\",M203<=30, \"Unserviceable\")","v":"Serviceable"}]
[null,247,1970,"Wood Creos Impregnated","Serviceable","Class 3",2018,90,82.44,7,{"$f":"INDEX(Lists!$B$32:$B$40, MATCH(2020-C204, Lists!$C$32:$C$40,1))","v":"41-50"},{"$f":"SUMPRODUCT((Data!$B$17:$B$19=Model!$F204)*(Data!$C$16:$K$16=Model!$K204)*(Data!$C$17:$K$19))","v":3.78},63.540000000000006,{"$f":"_xlfn.IFS(M204>70,\"Serviceable\",M204>30, \"Limited Life\",M204<=30, \"Unserviceable\")","v":"Limited Life"}]
[null,248,2004,"CCA Treated Pole","Serviceable","Class 1",2018,150,147.88,7,{"$f":"INDEX(Lists!$B$32:$B$40, MATCH(2020-C205, Lists!$C$32:$C$40,1))","v":"0-20"},{"$f":"SUMPRODUCT((Data!$B$17:$B$19=Model!$F205)*(Data!$C$16:$K$16=Model!$K205)*(Data!$C$17:$K$19))","v":1.06},142.58000000000001,{"$f":"_xlfn.IFS(M205>70,\"Serviceable\",M205>30, \"Limited Life\",M205<=30, \"Unserviceable\")","v":"Serviceable"}]
[null,249,2004,"CCA Treated Pole","Serviceable","Class 2",2018,150,147.56,7,{"$f":"INDEX(Lists!$B$32:$B$40, MATCH(2020-C206, Lists!$C$32:$C$40,1))","v":"0-20"},{"$f":"SUMPRODUCT((Data!$B$17:$B$19=Model!$F206)*(Data!$C$16:$K$16=Model!$K206)*(Data!$C$17:$K$19))","v":1.22},141.46,{"$f":"_xlfn.IFS(M206>70,\"Serviceable\",M206>30, \"Limited Life\",M206<=30, \"Unserviceable\")","v":"Serviceable"}]
[null,250,1984,"Wood Untreated Dressed","Serviceable","Class 1",2018,110,104.96,7,{"$f":"INDEX(Lists!$B$32:$B$40, MATCH(2020-C207, Lists!$C$32:$C$40,1))","v":"31-40"},{"$f":"SUMPRODUCT((Data!$B$17:$B$19=Model!$F207)*(Data!$C$16:$K$16=Model!$K207)*(Data!$C$17:$K$19))","v":2.52},92.36,{"$f":"_xlfn.IFS(M207>70,\"Serviceable\",M207>30, \"Limited Life\",M207<=30, \"Unserviceable\")","v":"Serviceable"}]
[null,252,1988,"Wood Creos Impregnated","Serviceable","Class 3",2018,90,83.56,7,{"$f":"INDEX(Lists!$B$32:$B$40, MATCH(2020-C208, Lists!$C$32:$C$40,1))","v":"31-40"},{"$f":"SUMPRODUCT((Data!$B$17:$B$19=Model!$F208)*(Data!$C$16:$K$16=Model!$K208)*(Data!$C$17:$K$19))","v":3.22},67.459999999999994,{"$f":"_xlfn.IFS(M208>70,\"Serviceable\",M208>30, \"Limited Life\",M208<=30, \"Unserviceable\")","v":"Limited Life"}]
[null,253,1959,"Wood Creos Impregnated","Limited Life","Class 3",2020,40,40,5,{"$f":"INDEX(Lists!$B$32:$B$40, MATCH(2020-C209, Lists!$C$32:$C$40,1))","v":"61-70"},{"$f":"SUMPRODUCT((Data!$B$17:$B$19=Model!$F209)*(Data!$C$16:$K$16=Model!$K209)*(Data!$C$17:$K$19))","v":2.02},29.9,{"$f":"_xlfn.IFS(M209>70,\"Serviceable\",M209>30, \"Limited Life\",M209<=30, \"Unserviceable\")","v":"Unserviceable"}]
[null,254,1982,"Wood Untreated Dressed","Serviceable","Class 1",2018,110,104.96,7,{"$f":"INDEX(Lists!$B$32:$B$40, MATCH(2020-C210, Lists!$C$32:$C$40,1))","v":"31-40"},{"$f":"SUMPRODUCT((Data!$B$17:$B$19=Model!$F210)*(Data!$C$16:$K$16=Model!$K210)*(Data!$C$17:$K$19))","v":2.52},92.36,{"$f":"_xlfn.IFS(M210>70,\"Serviceable\",M210>30, \"Limited Life\",M210<=30, \"Unserviceable\")","v":"Serviceable"}]
[null,255,1990,"Wood Creos Impregnated","Serviceable","Class 1",2018,100,96.08,7,{"$f":"INDEX(Lists!$B$32:$B$40, MATCH(2020-C211, Lists!$C$32:$C$40,1))","v":"21-30"},{"$f":"SUMPRODUCT((Data!$B$17:$B$19=Model!$F211)*(Data!$C$16:$K$16=Model!$K211)*(Data!$C$17:$K$19))","v":1.96},86.28,{"$f":"_xlfn.IFS(M211>70,\"Serviceable\",M211>30, \"Limited Life\",M211<=30, \"Unserviceable\")","v":"Serviceable"}]
[null,256,1969,"Wood Creos Impregnated","Serviceable","Class 3",2018,90,84.54,7,{"$f":"INDEX(Lists!$B$32:$B$40, MATCH(2020-C212, Lists!$C$32:$C$40,1))","v":"51-60"},{"$f":"SUMPRODUCT((Data!$B$17:$B$19=Model!$F212)*(Data!$C$16:$K$16=Model!$K212)*(Data!$C$17:$K$19))","v":2.73},70.89,{"$f":"_xlfn.IFS(M212>70,\"Serviceable\",M212>30, \"Limited Life\",M212<=30, \"Unserviceable\")","v":"Serviceable"}]
[null,257,1990,"Wood Untreated Dressed","Serviceable","Class 1",2018,140,136.08000000000001,7,{"$f":"INDEX(Lists!$B$32:$B$40, MATCH(2020-C213, Lists!$C$32:$C$40,1))","v":"21-30"},{"$f":"SUMPRODUCT((Data!$B$17:$B$19=Model!$F213)*(Data!$C$16:$K$16=Model!$K213)*(Data!$C$17:$K$19))","v":1.96},126.28,{"$f":"_xlfn.IFS(M213>70,\"Serviceable\",M213>30, \"Limited Life\",M213<=30, \"Unserviceable\")","v":"Serviceable"}]
[null,258,1982,"Wood Untreated Dressed","Serviceable","Class 1",2018,120,114.96,7,{"$f":"INDEX(Lists!$B$32:$B$40, MATCH(2020-C214, Lists!$C$32:$C$40,1))","v":"31-40"},{"$f":"SUMPRODUCT((Data!$B$17:$B$19=Model!$F214)*(Data!$C$16:$K$16=Model!$K214)*(Data!$C$17:$K$19))","v":2.52},102.36,{"$f":"_xlfn.IFS(M214>70,\"Serviceable\",M214>30, \"Limited Life\",M214<=30, \"Unserviceable\")","v":"Serviceable"}]
[null,259,1983,"Wood Creos Impregnated","Serviceable","Class 3",2018,90,83.56,7,{"$f":"INDEX(Lists!$B$32:$B$40, MATCH(2020-C215, Lists!$C$32:$C$40,1))","v":"31-40"},{"$f":"SUMPRODUCT((Data!$B$17:$B$19=Model!$F215)*(Data!$C$16:$K$16=Model!$K215)*(Data!$C$17:$K$19))","v":3.22},67.459999999999994,{"$f":"_xlfn.IFS(M215>70,\"Serviceable\",M215>30, \"Limited Life\",M215<=30, \"Unserviceable\")","v":"Limited Life"}]
[null,262,1985,"Wood Untreated Dressed","Serviceable","Class 1",2018,140,134.96,7,{"$f":"INDEX(Lists!$B$32:$B$40, MATCH(2020-C216, Lists!$C$32:$C$40,1))","v":"31-40"},{"$f":"SUMPRODUCT((Data!$B$17:$B$19=Model!$F216)*(Data!$C$16:$K$16=Model!$K216)*(Data!$C$17:$K$19))","v":2.52},122.36,{"$f":"_xlfn.IFS(M216>70,\"Serviceable\",M216>30, \"Limited Life\",M216<=30, \"Unserviceable\")","v":"Serviceable"}]
[null,264,1968,"Wood Creos Impregnated","Limited Life","Class 3",2018,70,64.540000000000006,7,{"$f":"INDEX(Lists!$B$32:$B$40, MATCH(2020-C217, Lists!$C$32:$C$40,1))","v":"51-60"},{"$f":"SUMPRODUCT((Data!$B$17:$B$19=Model!$F217)*(Data!$C$16:$K$16=Model!$K217)*(Data!$C$17:$K$19))","v":2.73},50.89,{"$f":"_xlfn.IFS(M217>70,\"Serviceable\",M217>30, \"Limited Life\",M217<=30, \"Unserviceable\")","v":"Limited Life"}]
[null,265,1987,"Wood Untreated Dressed","Serviceable","Class 1",2018,140,134.96,7,{"$f":"INDEX(Lists!$B$32:$B$40, MATCH(2020-C218, Lists!$C$32:$C$40,1))","v":"31-40"},{"$f":"SUMPRODUCT((Data!$B$17:$B$19=Model!$F218)*(Data!$C$16:$K$16=Model!$K218)*(Data!$C$17:$K$19))","v":2.52},122.36,{"$f":"_xlfn.IFS(M218>70,\"Serviceable\",M218>30, \"Limited Life\",M218<=30, \"Unserviceable\")","v":"Serviceable"}]
[null,266,1965,"Wood Creos Impregnated","Serviceable","Class 3",2018,110,104.54,7,{"$f":"INDEX(Lists!$B$32:$B$40, MATCH(2020-C219, Lists!$C$32:$C$40,1))","v":"51-60"},{"$f":"SUMPRODUCT((Data!$B$17:$B$19=Model!$F219)*(Data!$C$16:$K$16=Model!$K219)*(Data!$C$17:$K$19))","v":2.73},90.89,{"$f":"_xlfn.IFS(M219>70,\"Serviceable\",M219>30, \"Limited Life\",M219<=30, \"Unserviceable\")","v":"Serviceable"}]
[null,267,1965,"Wood Creos Impregnated","Serviceable","Class 3",2018,100,94.54,7,{"$f":"INDEX(Lists!$B$32:$B$40, MATCH(2020-C220, Lists!$C$32:$C$40,1))","v":"51-60"},{"$f":"SUMPRODUCT((Data!$B$17:$B$19=Model!$F220)*(Data!$C$16:$K$16=Model!$K220)*(Data!$C$17:$K$19))","v":2.73},80.89,{"$f":"_xlfn.IFS(M220>70,\"Serviceable\",M220>30, \"Limited Life\",M220<=30, \"Unserviceable\")","v":"Serviceable"}]
[null,269,1970,"Wood Creos Impregnated","Serviceable","Class 3",2018,90,82.44,7,{"$f":"INDEX(Lists!$B$32:$B$40, MATCH(2020-C221, Lists!$C$32:$C$40,1))","v":"41-50"},{"$f":"SUMPRODUCT((Data!$B$17:$B$19=Model!$F221)*(Data!$C$16:$K$16=Model!$K221)*(Data!$C$17:$K$19))","v":3.78},63.540000000000006,{"$f":"_xlfn.IFS(M221>70,\"Serviceable\",M221>30, \"Limited Life\",M221<=30, \"Unserviceable\")","v":"Limited Life"}]
[null,273,1985,"Wood Untreated Dressed","Serviceable","Class 1",2018,120,114.96,7,{"$f":"INDEX(Lists!$B$32:$B$40, MATCH(2020-C222, Lists!$C$32:$C$40,1))","v":"31-40"},{"$f":"SUMPRODUCT((Data!$B$17:$B$19=Model!$F222)*(Data!$C$16:$K$16=Model!$K222)*(Data!$C$17:$K$19))","v":2.52},102.36,{"$f":"_xlfn.IFS(M222>70,\"Serviceable\",M222>30, \"Limited Life\",M222<=30, \"Unserviceable\")","v":"Serviceable"}]
[null,274,1984,"Wood Untreated Dressed","Serviceable","Class 1",2018,110,104.96,7,{"$f":"INDEX(Lists!$B$32:$B$40, MATCH(2020-C223, Lists!$C$32:$C$40,1))","v":"31-40"},{"$f":"SUMPRODUCT((Data!$B$17:$B$19=Model!$F223)*(Data!$C$16:$K$16=Model!$K223)*(Data!$C$17:$K$19))","v":2.52},92.36,{"$f":"_xlfn.IFS(M223>70,\"Serviceable\",M223>30, \"Limited Life\",M223<=30, \"Unserviceable\")","v":"Serviceable"}]
[null,278,1994,"Wood Untreated Dressed","Serviceable","Class 1",2017,110,104.12,8,{"$f":"INDEX(Lists!$B$32:$B$40, MATCH(2020-C224, Lists!$C$32:$C$40,1))","v":"21-30"},{"$f":"SUMPRODUCT((Data!$B$17:$B$19=Model!$F224)*(Data!$C$16:$K$16=Model!$K224)*(Data!$C$17:$K$19))","v":1.96},94.32,{"$f":"_xlfn.IFS(M224>70,\"Serviceable\",M224>30, \"Limited Life\",M224<=30, \"Unserviceable\")","v":"Serviceable"}]
[null,281,1959,"Wood Creos Impregnated","Limited Life","Class 3",2017,70,63.94,8,{"$f":"INDEX(Lists!$B$32:$B$40, MATCH(2020-C225, Lists!$C$32:$C$40,1))","v":"61-70"},{"$f":"SUMPRODUCT((Data!$B$17:$B$19=Model!$F225)*(Data!$C$16:$K$16=Model!$K225)*(Data!$C$17:$K$19))","v":2.02},53.84,{"$f":"_xlfn.IFS(M225>70,\"Serviceable\",M225>30, \"Limited Life\",M225<=30, \"Unserviceable\")","v":"Limited Life"}]
[null,283,1970,"Wood Creos Impregnated","Serviceable","Class 3",2017,90,78.66,8,{"$f":"INDEX(Lists!$B$32:$B$40, MATCH(2020-C226, Lists!$C$32:$C$40,1))","v":"41-50"},{"$f":"SUMPRODUCT((Data!$B$17:$B$19=Model!$F226)*(Data!$C$16:$K$16=Model!$K226)*(Data!$C$17:$K$19))","v":3.78},59.760000000000005,{"$f":"_xlfn.IFS(M226>70,\"Serviceable\",M226>30, \"Limited Life\",M226<=30, \"Unserviceable\")","v":"Limited Life"}]
[null,284,1946,"Wood Untreated Dressed","Serviceable","Class 1",2017,110,103.55,8,{"$f":"INDEX(Lists!$B$32:$B$40, MATCH(2020-C227, Lists!$C$32:$C$40,1))","v":"71-80"},{"$f":"SUMPRODUCT((Data!$B$17:$B$19=Model!$F227)*(Data!$C$16:$K$16=Model!$K227)*(Data!$C$17:$K$19))","v":2.15},92.8,{"$f":"_xlfn.IFS(M227>70,\"Serviceable\",M227>30, \"Limited Life\",M227<=30, \"Unserviceable\")","v":"Serviceable"}]
[null,288,1963,"Wood Creos Impregnated","Serviceable","Class 3",2017,100,91.81,8,{"$f":"INDEX(Lists!$B$32:$B$40, MATCH(2020-C228, Lists!$C$32:$C$40,1))","v":"51-60"},{"$f":"SUMPRODUCT((Data!$B$17:$B$19=Model!$F228)*(Data!$C$16:$K$16=Model!$K228)*(Data!$C$17:$K$19))","v":2.73},78.16,{"$f":"_xlfn.IFS(M228>70,\"Serviceable\",M228>30, \"Limited Life\",M228<=30, \"Unserviceable\")","v":"Serviceable"}]
[null,289,1978,"Wood Untreated Dressed","Serviceable","Class 1",2018,120,116.5,7,{"$f":"INDEX(Lists!$B$32:$B$40, MATCH(2020-C229, Lists!$C$32:$C$40,1))","v":"41-50"},{"$f":"SUMPRODUCT((Data!$B$17:$B$19=Model!$F229)*(Data!$C$16:$K$16=Model!$K229)*(Data!$C$17:$K$19))","v":1.75},107.75,{"$f":"_xlfn.IFS(M229>70,\"Serviceable\",M229>30, \"Limited Life\",M229<=30, \"Unserviceable\")","v":"Serviceable"}]
[null,290,1972,"Wood Untreated Dressed","Serviceable","Class 1",2018,130,126.5,7,{"$f":"INDEX(Lists!$B$32:$B$40, MATCH(2020-C230, Lists!$C$32:$C$40,1))","v":"41-50"},{"$f":"SUMPRODUCT((Data!$B$17:$B$19=Model!$F230)*(Data!$C$16:$K$16=Model!$K230)*(Data!$C$17:$K$19))","v":1.75},117.75,{"$f":"_xlfn.IFS(M230>70,\"Serviceable\",M230>30, \"Limited Life\",M230<=30, \"Unserviceable\")","v":"Serviceable"}]
[null,291,1971,"Wood Creos Impregnated","Serviceable","Class 3",2018,90,82.44,7,{"$f":"INDEX(Lists!$B$32:$B$40, MATCH(2020-C231, Lists!$C$32:$C$40,1))","v":"41-50"},{"$f":"SUMPRODUCT((Data!$B$17:$B$19=Model!$F231)*(Data!$C$16:$K$16=Model!$K231)*(Data!$C$17:$K$19))","v":3.78},63.540000000000006,{"$f":"_xlfn.IFS(M231>70,\"Serviceable\",M231>30, \"Limited Life\",M231<=30, \"Unserviceable\")","v":"Limited Life"}]
[null,292,1972,"Wood Untreated Dressed","Serviceable","Class 1",2018,100,96.5,7,{"$f":"INDEX(Lists!$B$32:$B$40, MATCH(2020-C232, Lists!$C$32:$C$40,1))","v":"41-50"},{"$f":"SUMPRODUCT((Data!$B$17:$B$19=Model!$F232)*(Data!$C$16:$K$16=Model!$K232)*(Data!$C$17:$K$19))","v":1.75},87.75,{"$f":"_xlfn.IFS(M232>70,\"Serviceable\",M232>30, \"Limited Life\",M232<=30, \"Unserviceable\")","v":"Serviceable"}]
[null,294,1985,"Wood Untreated Dressed","Serviceable","Class 1",2018,140,134.96,7,{"$f":"INDEX(Lists!$B$32:$B$40, MATCH(2020-C233, Lists!$C$32:$C$40,1))","v":"31-40"},{"$f":"SUMPRODUCT((Data!$B$17:$B$19=Model!$F233)*(Data!$C$16:$K$16=Model!$K233)*(Data!$C$17:$K$19))","v":2.52},122.36,{"$f":"_xlfn.IFS(M233>70,\"Serviceable\",M233>30, \"Limited Life\",M233<=30, \"Unserviceable\")","v":"Serviceable"}]
[null,295,1958,"Wood Creos Impregnated","Serviceable","Class 3",2017,100,93.94,8,{"$f":"INDEX(Lists!$B$32:$B$40, MATCH(2020-C234, Lists!$C$32:$C$40,1))","v":"61-70"},{"$f":"SUMPRODUCT((Data!$B$17:$B$19=Model!$F234)*(Data!$C$16:$K$16=Model!$K234)*(Data!$C$17:$K$19))","v":2.02},83.84,{"$f":"_xlfn.IFS(M234>70,\"Serviceable\",M234>30, \"Limited Life\",M234<=30, \"Unserviceable\")","v":"Serviceable"}]
[null,298,1958,"Wood Creos Impregnated","Serviceable","Class 3",2017,90,83.94,8,{"$f":"INDEX(Lists!$B$32:$B$40, MATCH(2020-C235, Lists!$C$32:$C$40,1))","v":"61-70"},{"$f":"SUMPRODUCT((Data!$B$17:$B$19=Model!$F235)*(Data!$C$16:$K$16=Model!$K235)*(Data!$C$17:$K$19))","v":2.02},73.84,{"$f":"_xlfn.IFS(M235>70,\"Serviceable\",M235>30, \"Limited Life\",M235<=30, \"Unserviceable\")","v":"Serviceable"}]
[null,300,1963,"Wood Creos Impregnated","Serviceable","Class 3",2017,100,91.81,8,{"$f":"INDEX(Lists!$B$32:$B$40, MATCH(2020-C236, Lists!$C$32:$C$40,1))","v":"51-60"},{"$f":"SUMPRODUCT((Data!$B$17:$B$19=Model!$F236)*(Data!$C$16:$K$16=Model!$K236)*(Data!$C$17:$K$19))","v":2.73},78.16,{"$f":"_xlfn.IFS(M236>70,\"Serviceable\",M236>30, \"Limited Life\",M236<=30, \"Unserviceable\")","v":"Serviceable"}]
[null,301,1979,"Wood Untreated Dressed","Serviceable","Class 1",2017,100,94.75,8,{"$f":"INDEX(Lists!$B$32:$B$40, MATCH(2020-C237, Lists!$C$32:$C$40,1))","v":"41-50"},{"$f":"SUMPRODUCT((Data!$B$17:$B$19=Model!$F237)*(Data!$C$16:$K$16=Model!$K237)*(Data!$C$17:$K$19))","v":1.75},86,{"$f":"_xlfn.IFS(M237>70,\"Serviceable\",M237>30, \"Limited Life\",M237<=30, \"Unserviceable\")","v":"Serviceable"}]
[null,303,1980,"Wood Untreated Dressed","Serviceable","Class 1",2017,120,112.44,8,{"$f":"INDEX(Lists!$B$32:$B$40, MATCH(2020-C238, Lists!$C$32:$C$40,1))","v":"31-40"},{"$f":"SUMPRODUCT((Data!$B$17:$B$19=Model!$F238)*(Data!$C$16:$K$16=Model!$K238)*(Data!$C$17:$K$19))","v":2.52},99.84,{"$f":"_xlfn.IFS(M238>70,\"Serviceable\",M238>30, \"Limited Life\",M238<=30, \"Unserviceable\")","v":"Serviceable"}]
[null,304,1971,"Wood Creos Impregnated","Limited Life","Class 3",2020,70,70,5,{"$f":"INDEX(Lists!$B$32:$B$40, MATCH(2020-C239, Lists!$C$32:$C$40,1))","v":"41-50"},{"$f":"SUMPRODUCT((Data!$B$17:$B$19=Model!$F239)*(Data!$C$16:$K$16=Model!$K239)*(Data!$C$17:$K$19))","v":3.78},51.1,{"$f":"_xlfn.IFS(M239>70,\"Serviceable\",M239>30, \"Limited Life\",M239<=30, \"Unserviceable\")","v":"Limited Life"}]
[null,305,1969,"Wood Creos Impregnated","Limited Life","Class 3",2017,70,61.81,8,{"$f":"INDEX(Lists!$B$32:$B$40, MATCH(2020-C240, Lists!$C$32:$C$40,1))","v":"51-60"},{"$f":"SUMPRODUCT((Data!$B$17:$B$19=Model!$F240)*(Data!$C$16:$K$16=Model!$K240)*(Data!$C$17:$K$19))","v":2.73},48.16,{"$f":"_xlfn.IFS(M240>70,\"Serviceable\",M240>30, \"Limited Life\",M240<=30, \"Unserviceable\")","v":"Limited Life"}]
[null,306,1966,"Wood Creos Impregnated","Serviceable","Class 3",2017,120,111.81,8,{"$f":"INDEX(Lists!$B$32:$B$40, MATCH(2020-C241, Lists!$C$32:$C$40,1))","v":"51-60"},{"$f":"SUMPRODUCT((Data!$B$17:$B$19=Model!$F241)*(Data!$C$16:$K$16=Model!$K241)*(Data!$C$17:$K$19))","v":2.73},98.16,{"$f":"_xlfn.IFS(M241>70,\"Serviceable\",M241>30, \"Limited Life\",M241<=30, \"Unserviceable\")","v":"Serviceable"}]
[null,308,1986,"Wood Untreated Dressed","Serviceable","Class 1",2017,120,112.44,8,{"$f":"INDEX(Lists!$B$32:$B$40, MATCH(2020-C242, Lists!$C$32:$C$40,1))","v":"31-40"},{"$f":"SUMPRODUCT((Data!$B$17:$B$19=Model!$F242)*(Data!$C$16:$K$16=Model!$K242)*(Data!$C$17:$K$19))","v":2.52},99.84,{"$f":"_xlfn.IFS(M242>70,\"Serviceable\",M242>30, \"Limited Life\",M242<=30, \"Unserviceable\")","v":"Serviceable"}]
[null,309,1986,"Wood Untreated Dressed","Serviceable","Class 1",2017,120,112.44,8,{"$f":"INDEX(Lists!$B$32:$B$40, MATCH(2020-C243, Lists!$C$32:$C$40,1))","v":"31-40"},{"$f":"SUMPRODUCT((Data!$B$17:$B$19=Model!$F243)*(Data!$C$16:$K$16=Model!$K243)*(Data!$C$17:$K$19))","v":2.52},99.84,{"$f":"_xlfn.IFS(M243>70,\"Serviceable\",M243>30, \"Limited Life\",M243<=30, \"Unserviceable\")","v":"Serviceable"}]
[null,311,1970,"Wood Creos Impregnated","Limited Life","Class 3",2017,70,58.66,8,{"$f":"INDEX(Lists!$B$32:$B$40, MATCH(2020-C244, Lists!$C$32:$C$40,1))","v":"41-50"},{"$f":"SUMPRODUCT((Data!$B$17:$B$19=Model!$F244)*(Data!$C$16:$K$16=Model!$K244)*(Data!$C$17:$K$19))","v":3.78},39.760000000000005,{"$f":"_xlfn.IFS(M244>70,\"Serviceable\",M244>30, \"Limited Life\",M244<=30, \"Unserviceable\")","v":"Limited Life"}]
[null,312,1970,"Wood Creos Impregnated","Serviceable","Class 3",2017,100,88.66,8,{"$f":"INDEX(Lists!$B$32:$B$40, MATCH(2020-C245, Lists!$C$32:$C$40,1))","v":"41-50"},{"$f":"SUMPRODUCT((Data!$B$17:$B$19=Model!$F245)*(Data!$C$16:$K$16=Model!$K245)*(Data!$C$17:$K$19))","v":3.78},69.760000000000005,{"$f":"_xlfn.IFS(M245>70,\"Serviceable\",M245>30, \"Limited Life\",M245<=30, \"Unserviceable\")","v":"Limited Life"}]
[null,314,1986,"Wood Untreated Dressed","Serviceable","Class 1",2017,120,112.44,8,{"$f":"INDEX(Lists!$B$32:$B$40, MATCH(2020-C246, Lists!$C$32:$C$40,1))","v":"31-40"},{"$f":"SUMPRODUCT((Data!$B$17:$B$19=Model!$F246)*(Data!$C$16:$K$16=Model!$K246)*(Data!$C$17:$K$19))","v":2.52},99.84,{"$f":"_xlfn.IFS(M246>70,\"Serviceable\",M246>30, \"Limited Life\",M246<=30, \"Unserviceable\")","v":"Serviceable"}]
[null,317,1946,"Wood Untreated Dressed","Serviceable","Class 1",2017,90,83.55,8,{"$f":"INDEX(Lists!$B$32:$B$40, MATCH(2020-C247, Lists!$C$32:$C$40,1))","v":"71-80"},{"$f":"SUMPRODUCT((Data!$B$17:$B$19=Model!$F247)*(Data!$C$16:$K$16=Model!$K247)*(Data!$C$17:$K$19))","v":2.15},72.8,{"$f":"_xlfn.IFS(M247>70,\"Serviceable\",M247>30, \"Limited Life\",M247<=30, \"Unserviceable\")","v":"Serviceable"}]
[null,318,1970,"Wood Creos Impregnated","Serviceable","Class 3",2017,100,88.66,8,{"$f":"INDEX(Lists!$B$32:$B$40, MATCH(2020-C248, Lists!$C$32:$C$40,1))","v":"41-50"},{"$f":"SUMPRODUCT((Data!$B$17:$B$19=Model!$F248)*(Data!$C$16:$K$16=Model!$K248)*(Data!$C$17:$K$19))","v":3.78},69.760000000000005,{"$f":"_xlfn.IFS(M248>70,\"Serviceable\",M248>30, \"Limited Life\",M248<=30, \"Unserviceable\")","v":"Limited Life"}]
[null,321,1974,"Wood Untreated Dressed","Limited Life","Class 1",2017,70,64.75,8,{"$f":"INDEX(Lists!$B$32:$B$40, MATCH(2020-C249, Lists!$C$32:$C$40,1))","v":"41-50"},{"$f":"SUMPRODUCT((Data!$B$17:$B$19=Model!$F249)*(Data!$C$16:$K$16=Model!$K249)*(Data!$C$17:$K$19))","v":1.75},56,{"$f":"_xlfn.IFS(M249>70,\"Serviceable\",M249>30, \"Limited Life\",M249<=30, \"Unserviceable\")","v":"Limited Life"}]
[null,322,1974,"Wood Untreated Dressed","Serviceable","Class 1",2017,90,84.75,8,{"$f":"INDEX(Lists!$B$32:$B$40, MATCH(2020-C250, Lists!$C$32:$C$40,1))","v":"41-50"},{"$f":"SUMPRODUCT((Data!$B$17:$B$19=Model!$F250)*(Data!$C$16:$K$16=Model!$K250)*(Data!$C$17:$K$19))","v":1.75},76,{"$f":"_xlfn.IFS(M250>70,\"Serviceable\",M250>30, \"Limited Life\",M250<=30, \"Unserviceable\")","v":"Serviceable"}]
[null,323,1979,"Wood Untreated Dressed","Serviceable","Class 1",2017,100,94.75,8,{"$f":"INDEX(Lists!$B$32:$B$40, MATCH(2020-C251, Lists!$C$32:$C$40,1))","v":"41-50"},{"$f":"SUMPRODUCT((Data!$B$17:$B$19=Model!$F251)*(Data!$C$16:$K$16=Model!$K251)*(Data!$C$17:$K$19))","v":1.75},86,{"$f":"_xlfn.IFS(M251>70,\"Serviceable\",M251>30, \"Limited Life\",M251<=30, \"Unserviceable\")","v":"Serviceable"}]
[null,325,2003,"CCA Treated Pole","Serviceable","Class 2",2017,160,156.34,8,{"$f":"INDEX(Lists!$B$32:$B$40, MATCH(2020-C252, Lists!$C$32:$C$40,1))","v":"0-20"},{"$f":"SUMPRODUCT((Data!$B$17:$B$19=Model!$F252)*(Data!$C$16:$K$16=Model!$K252)*(Data!$C$17:$K$19))","v":1.22},150.24,{"$f":"_xlfn.IFS(M252>70,\"Serviceable\",M252>30, \"Limited Life\",M252<=30, \"Unserviceable\")","v":"Serviceable"}]
[null,326,1986,"Wood Untreated Dressed","Serviceable","Class 1",2018,100,94.96,7,{"$f":"INDEX(Lists!$B$32:$B$40, MATCH(2020-C253, Lists!$C$32:$C$40,1))","v":"31-40"},{"$f":"SUMPRODUCT((Data!$B$17:$B$19=Model!$F253)*(Data!$C$16:$K$16=Model!$K253)*(Data!$C$17:$K$19))","v":2.52},82.36,{"$f":"_xlfn.IFS(M253>70,\"Serviceable\",M253>30, \"Limited Life\",M253<=30, \"Unserviceable\")","v":"Serviceable"}]
[null,327,1963,"Wood Creos Impregnated","Limited Life","Class 3",2018,70,64.540000000000006,7,{"$f":"INDEX(Lists!$B$32:$B$40, MATCH(2020-C254, Lists!$C$32:$C$40,1))","v":"51-60"},{"$f":"SUMPRODUCT((Data!$B$17:$B$19=Model!$F254)*(Data!$C$16:$K$16=Model!$K254)*(Data!$C$17:$K$19))","v":2.73},50.89,{"$f":"_xlfn.IFS(M254>70,\"Serviceable\",M254>30, \"Limited Life\",M254<=30, \"Unserviceable\")","v":"Limited Life"}]
[null,328,1986,"Wood Untreated Dressed","Serviceable","Class 1",2017,120,112.44,8,{"$f":"INDEX(Lists!$B$32:$B$40, MATCH(2020-C255, Lists!$C$32:$C$40,1))","v":"31-40"},{"$f":"SUMPRODUCT((Data!$B$17:$B$19=Model!$F255)*(Data!$C$16:$K$16=Model!$K255)*(Data!$C$17:$K$19))","v":2.52},99.84,{"$f":"_xlfn.IFS(M255>70,\"Serviceable\",M255>30, \"Limited Life\",M255<=30, \"Unserviceable\")","v":"Serviceable"}]
[null,329,1986,"Wood Untreated Dressed","Serviceable","Class 1",2018,100,94.96,7,{"$f":"INDEX(Lists!$B$32:$B$40, MATCH(2020-C256, Lists!$C$32:$C$40,1))","v":"31-40"},{"$f":"SUMPRODUCT((Data!$B$17:$B$19=Model!$F256)*(Data!$C$16:$K$16=Model!$K256)*(Data!$C$17:$K$19))","v":2.52},82.36,{"$f":"_xlfn.IFS(M256>70,\"Serviceable\",M256>30, \"Limited Life\",M256<=30, \"Unserviceable\")","v":"Serviceable"}]
[null,330,1963,"Wood Creos Impregnated","Serviceable","Class 3",2018,110,104.54,7,{"$f":"INDEX(Lists!$B$32:$B$40, MATCH(2020-C257, Lists!$C$32:$C$40,1))","v":"51-60"},{"$f":"SUMPRODUCT((Data!$B$17:$B$19=Model!$F257)*(Data!$C$16:$K$16=Model!$K257)*(Data!$C$17:$K$19))","v":2.73},90.89,{"$f":"_xlfn.IFS(M257>70,\"Serviceable\",M257>30, \"Limited Life\",M257<=30, \"Unserviceable\")","v":"Serviceable"}]
[null,331,1986,"Wood Untreated Dressed","Serviceable","Class 1",2018,130,124.96,7,{"$f":"INDEX(Lists!$B$32:$B$40, MATCH(2020-C258, Lists!$C$32:$C$40,1))","v":"31-40"},{"$f":"SUMPRODUCT((Data!$B$17:$B$19=Model!$F258)*(Data!$C$16:$K$16=Model!$K258)*(Data!$C$17:$K$19))","v":2.52},112.36,{"$f":"_xlfn.IFS(M258>70,\"Serviceable\",M258>30, \"Limited Life\",M258<=30, \"Unserviceable\")","v":"Serviceable"}]
[null,332,1974,"Wood Untreated Dressed","Limited Life","Class 1",2019,70,68.25,6,{"$f":"INDEX(Lists!$B$32:$B$40, MATCH(2020-C259, Lists!$C$32:$C$40,1))","v":"41-50"},{"$f":"SUMPRODUCT((Data!$B$17:$B$19=Model!$F259)*(Data!$C$16:$K$16=Model!$K259)*(Data!$C$17:$K$19))","v":1.75},59.5,{"$f":"_xlfn.IFS(M259>70,\"Serviceable\",M259>30, \"Limited Life\",M259<=30, \"Unserviceable\")","v":"Limited Life"}]
[null,334,1981,"Wood Untreated Dressed","Serviceable","Class 1",2018,100,94.96,7,{"$f":"INDEX(Lists!$B$32:$B$40, MATCH(2020-C260, Lists!$C$32:$C$40,1))","v":"31-40"},{"$f":"SUMPRODUCT((Data!$B$17:$B$19=Model!$F260)*(Data!$C$16:$K$16=Model!$K260)*(Data!$C$17:$K$19))","v":2.52},82.36,{"$f":"_xlfn.IFS(M260>70,\"Serviceable\",M260>30, \"Limited Life\",M260<=30, \"Unserviceable\")","v":"Serviceable"}]
[null,335,1986,"Wood Untreated Dressed","Serviceable","Class 1",2018,100,94.96,7,{"$f":"INDEX(Lists!$B$32:$B$40, MATCH(2020-C261, Lists!$C$32:$C$40,1))","v":"31-40"},{"$f":"SUMPRODUCT((Data!$B$17:$B$19=Model!$F261)*(Data!$C$16:$K$16=Model!$K261)*(Data!$C$17:$K$19))","v":2.52},82.36,{"$f":"_xlfn.IFS(M261>70,\"Serviceable\",M261>30, \"Limited Life\",M261<=30, \"Unserviceable\")","v":"Serviceable"}]
[null,336,1963,"Wood Creos Impregnated","Serviceable","Class 3",2018,80,74.540000000000006,7,{"$f":"INDEX(Lists!$B$32:$B$40, MATCH(2020-C262, Lists!$C$32:$C$40,1))","v":"51-60"},{"$f":"SUMPRODUCT((Data!$B$17:$B$19=Model!$F262)*(Data!$C$16:$K$16=Model!$K262)*(Data!$C$17:$K$19))","v":2.73},60.89,{"$f":"_xlfn.IFS(M262>70,\"Serviceable\",M262>30, \"Limited Life\",M262<=30, \"Unserviceable\")","v":"Limited Life"}]
[null,337,1986,"Wood Untreated Dressed","Serviceable","Class 1",2018,100,94.96,7,{"$f":"INDEX(Lists!$B$32:$B$40, MATCH(2020-C263, Lists!$C$32:$C$40,1))","v":"31-40"},{"$f":"SUMPRODUCT((Data!$B$17:$B$19=Model!$F263)*(Data!$C$16:$K$16=Model!$K263)*(Data!$C$17:$K$19))","v":2.52},82.36,{"$f":"_xlfn.IFS(M263>70,\"Serviceable\",M263>30, \"Limited Life\",M263<=30, \"Unserviceable\")","v":"Serviceable"}]
[null,338,1963,"Wood Creos Impregnated","Serviceable","Class 3",2018,100,94.54,{"$f":"2025-G264","v":7},{"$f":"INDEX(Lists!$B$32:$B$40, MATCH(2020-C264, Lists!$C$32:$C$40,1))","v":"51-60"},{"$f":"SUMPRODUCT((Data!$B$17:$B$19=Model!$F264)*(Data!$C$16:$K$16=Model!$K264)*(Data!$C$17:$K$19))","v":2.73},{"$f":"IF(IF(H264>=700,999,(H264-L264*J264))<0,0,IF(H264>=700,999,(H264-L264*J264)))","v":80.89},{"$f":"_xlfn.IFS(M264>70,\"Serviceable\",M264>30, \"Limited Life\",M264<=30, \"Unserviceable\")","v":"Serviceable"}]
[null,341,1963,"Wood Creos Impregnated","Serviceable","Class 3",2018,100,94.54,7,{"$f":"INDEX(Lists!$B$32:$B$40, MATCH(2020-C265, Lists!$C$32:$C$40,1))","v":"51-60"},{"$f":"SUMPRODUCT((Data!$B$17:$B$19=Model!$F265)*(Data!$C$16:$K$16=Model!$K265)*(Data!$C$17:$K$19))","v":2.73},80.89,{"$f":"_xlfn.IFS(M265>70,\"Serviceable\",M265>30, \"Limited Life\",M265<=30, \"Unserviceable\")","v":"Serviceable"}]
[null,346,1990,"Wood Untreated Dressed","Serviceable","Class 1",2018,120,116.08,7,{"$f":"INDEX(Lists!$B$32:$B$40, MATCH(2020-C266, Lists!$C$32:$C$40,1))","v":"21-30"},{"$f":"SUMPRODUCT((Data!$B$17:$B$19=Model!$F266)*(Data!$C$16:$K$16=Model!$K266)*(Data!$C$17:$K$19))","v":1.96},106.28,{"$f":"_xlfn.IFS(M266>70,\"Serviceable\",M266>30, \"Limited Life\",M266<=30, \"Unserviceable\")","v":"Serviceable"}]
[null,347,1978,"Wood Untreated Dressed","Serviceable","Class 1",2018,120,116.5,7,{"$f":"INDEX(Lists!$B$32:$B$40, MATCH(2020-C267, Lists!$C$32:$C$40,1))","v":"41-50"},{"$f":"SUMPRODUCT((Data!$B$17:$B$19=Model!$F267)*(Data!$C$16:$K$16=Model!$K267)*(Data!$C$17:$K$19))","v":1.75},107.75,{"$f":"_xlfn.IFS(M267>70,\"Serviceable\",M267>30, \"Limited Life\",M267<=30, \"Unserviceable\")","v":"Serviceable"}]
[null,348,1958,"Wood Creos Impregnated","Limited Life","Class 3",2018,70,65.959999999999994,7,{"$f":"INDEX(Lists!$B$32:$B$40, MATCH(2020-C268, Lists!$C$32:$C$40,1))","v":"61-70"},{"$f":"SUMPRODUCT((Data!$B$17:$B$19=Model!$F268)*(Data!$C$16:$K$16=Model!$K268)*(Data!$C$17:$K$19))","v":2.02},55.86,{"$f":"_xlfn.IFS(M268>70,\"Serviceable\",M268>30, \"Limited Life\",M268<=30, \"Unserviceable\")","v":"Limited Life"}]
[null,349,1963,"Wood Creos Impregnated","Serviceable","Class 3",2018,80,74.540000000000006,7,{"$f":"INDEX(Lists!$B$32:$B$40, MATCH(2020-C269, Lists!$C$32:$C$40,1))","v":"51-60"},{"$f":"SUMPRODUCT((Data!$B$17:$B$19=Model!$F269)*(Data!$C$16:$K$16=Model!$K269)*(Data!$C$17:$K$19))","v":2.73},60.89,{"$f":"_xlfn.IFS(M269>70,\"Serviceable\",M269>30, \"Limited Life\",M269<=30, \"Unserviceable\")","v":"Limited Life"}]
[null,350,2008,"CCA Treated Pole","Serviceable","Class 2",2018,80,77.56,7,{"$f":"INDEX(Lists!$B$32:$B$40, MATCH(2020-C270, Lists!$C$32:$C$40,1))","v":"0-20"},{"$f":"SUMPRODUCT((Data!$B$17:$B$19=Model!$F270)*(Data!$C$16:$K$16=Model!$K270)*(Data!$C$17:$K$19))","v":1.22},71.460000000000008,{"$f":"_xlfn.IFS(M270>70,\"Serviceable\",M270>30, \"Limited Life\",M270<=30, \"Unserviceable\")","v":"Serviceable"}]
[null,352,2003,"CCA Treated Pole","Serviceable","Class 2",2018,160,157.56,7,{"$f":"INDEX(Lists!$B$32:$B$40, MATCH(2020-C271, Lists!$C$32:$C$40,1))","v":"0-20"},{"$f":"SUMPRODUCT((Data!$B$17:$B$19=Model!$F271)*(Data!$C$16:$K$16=Model!$K271)*(Data!$C$17:$K$19))","v":1.22},151.46,{"$f":"_xlfn.IFS(M271>70,\"Serviceable\",M271>30, \"Limited Life\",M271<=30, \"Unserviceable\")","v":"Serviceable"}]
[null,354,1957,"Wood Creos Impregnated","Serviceable","Class 3",2018,80,75.959999999999994,7,{"$f":"INDEX(Lists!$B$32:$B$40, MATCH(2020-C272, Lists!$C$32:$C$40,1))","v":"61-70"},{"$f":"SUMPRODUCT((Data!$B$17:$B$19=Model!$F272)*(Data!$C$16:$K$16=Model!$K272)*(Data!$C$17:$K$19))","v":2.02},65.86,{"$f":"_xlfn.IFS(M272>70,\"Serviceable\",M272>30, \"Limited Life\",M272<=30, \"Unserviceable\")","v":"Limited Life"}]
[null,355,1969,"Wood Creos Impregnated","Serviceable","Class 3",2018,100,94.54,7,{"$f":"INDEX(Lists!$B$32:$B$40, MATCH(2020-C273, Lists!$C$32:$C$40,1))","v":"51-60"},{"$f":"SUMPRODUCT((Data!$B$17:$B$19=Model!$F273)*(Data!$C$16:$K$16=Model!$K273)*(Data!$C$17:$K$19))","v":2.73},80.89,{"$f":"_xlfn.IFS(M273>70,\"Serviceable\",M273>30, \"Limited Life\",M273<=30, \"Unserviceable\")","v":"Serviceable"}]
[null,356,1991,"Wood Untreated Dressed","Serviceable","Class 1",2018,120,116.08,7,{"$f":"INDEX(Lists!$B$32:$B$40, MATCH(2020-C274, Lists!$C$32:$C$40,1))","v":"21-30"},{"$f":"SUMPRODUCT((Data!$B$17:$B$19=Model!$F274)*(Data!$C$16:$K$16=Model!$K274)*(Data!$C$17:$K$19))","v":1.96},106.28,{"$f":"_xlfn.IFS(M274>70,\"Serviceable\",M274>30, \"Limited Life\",M274<=30, \"Unserviceable\")","v":"Serviceable"}]
[null,357,1968,"Wood Creos Impregnated","Serviceable","Class 3",2018,80,74.540000000000006,7,{"$f":"INDEX(Lists!$B$32:$B$40, MATCH(2020-C275, Lists!$C$32:$C$40,1))","v":"51-60"},{"$f":"SUMPRODUCT((Data!$B$17:$B$19=Model!$F275)*(Data!$C$16:$K$16=Model!$K275)*(Data!$C$17:$K$19))","v":2.73},60.89,{"$f":"_xlfn.IFS(M275>70,\"Serviceable\",M275>30, \"Limited Life\",M275<=30, \"Unserviceable\")","v":"Limited Life"}]
[null,358,1968,"Wood Creos Impregnated","Serviceable","Class 3",2018,100,94.54,7,{"$f":"INDEX(Lists!$B$32:$B$40, MATCH(2020-C276, Lists!$C$32:$C$40,1))","v":"51-60"},{"$f":"SUMPRODUCT((Data!$B$17:$B$19=Model!$F276)*(Data!$C$16:$K$16=Model!$K276)*(Data!$C$17:$K$19))","v":2.73},80.89,{"$f":"_xlfn.IFS(M276>70,\"Serviceable\",M276>30, \"Limited Life\",M276<=30, \"Unserviceable\")","v":"Serviceable"}]
[null,359,1970,"Wood Creos Impregnated","Serviceable","Class 3",2017,110,98.66,8,{"$f":"INDEX(Lists!$B$32:$B$40, MATCH(2020-C277, Lists!$C$32:$C$40,1))","v":"41-50"},{"$f":"SUMPRODUCT((Data!$B$17:$B$19=Model!$F277)*(Data!$C$16:$K$16=Model!$K277)*(Data!$C$17:$K$19))","v":3.78},79.760000000000005,{"$f":"_xlfn.IFS(M277>70,\"Serviceable\",M277>30, \"Limited Life\",M277<=30, \"Unserviceable\")","v":"Serviceable"}]
[null,360,1999,"CCA Treated Pole","Serviceable","Class 2",2018,160,156.22,7,{"$f":"INDEX(Lists!$B$32:$B$40, MATCH(2020-C278, Lists!$C$32:$C$40,1))","v":"21-30"},{"$f":"SUMPRODUCT((Data!$B$17:$B$19=Model!$F278)*(Data!$C$16:$K$16=Model!$K278)*(Data!$C$17:$K$19))","v":1.89},146.77000000000001,{"$f":"_xlfn.IFS(M278>70,\"Serviceable\",M278>30, \"Limited Life\",M278<=30, \"Unserviceable\")","v":"Serviceable"}]
[null,361,1988,"Wood Untreated Dressed","Serviceable","Class 1",2018,120,114.96,7,{"$f":"INDEX(Lists!$B$32:$B$40, MATCH(2020-C279, Lists!$C$32:$C$40,1))","v":"31-40"},{"$f":"SUMPRODUCT((Data!$B$17:$B$19=Model!$F279)*(Data!$C$16:$K$16=Model!$K279)*(Data!$C$17:$K$19))","v":2.52},102.36,{"$f":"_xlfn.IFS(M279>70,\"Serviceable\",M279>30, \"Limited Life\",M279<=30, \"Unserviceable\")","v":"Serviceable"}]
[null,362,1968,"Wood Creos Impregnated","Serviceable","Class 3",2018,90,84.54,7,{"$f":"INDEX(Lists!$B$32:$B$40, MATCH(2020-C280, Lists!$C$32:$C$40,1))","v":"51-60"},{"$f":"SUMPRODUCT((Data!$B$17:$B$19=Model!$F280)*(Data!$C$16:$K$16=Model!$K280)*(Data!$C$17:$K$19))","v":2.73},70.89,{"$f":"_xlfn.IFS(M280>70,\"Serviceable\",M280>30, \"Limited Life\",M280<=30, \"Unserviceable\")","v":"Serviceable"}]
[null,365,1986,"Wood Untreated Dressed","Serviceable","Class 1",2018,100,94.96,7,{"$f":"INDEX(Lists!$B$32:$B$40, MATCH(2020-C281, Lists!$C$32:$C$40,1))","v":"31-40"},{"$f":"SUMPRODUCT((Data!$B$17:$B$19=Model!$F281)*(Data!$C$16:$K$16=Model!$K281)*(Data!$C$17:$K$19))","v":2.52},82.36,{"$f":"_xlfn.IFS(M281>70,\"Serviceable\",M281>30, \"Limited Life\",M281<=30, \"Unserviceable\")","v":"Serviceable"}]
[null,367,1963,"Wood Creos Impregnated","Serviceable","Class 3",2018,100,94.54,7,{"$f":"INDEX(Lists!$B$32:$B$40, MATCH(2020-C282, Lists!$C$32:$C$40,1))","v":"51-60"},{"$f":"SUMPRODUCT((Data!$B$17:$B$19=Model!$F282)*(Data!$C$16:$K$16=Model!$K282)*(Data!$C$17:$K$19))","v":2.73},80.89,{"$f":"_xlfn.IFS(M282>70,\"Serviceable\",M282>30, \"Limited Life\",M282<=30, \"Unserviceable\")","v":"Serviceable"}]
[null,369,1963,"Wood Creos Impregnated","Serviceable","Class 3",2018,100,94.54,7,{"$f":"INDEX(Lists!$B$32:$B$40, MATCH(2020-C283, Lists!$C$32:$C$40,1))","v":"51-60"},{"$f":"SUMPRODUCT((Data!$B$17:$B$19=Model!$F283)*(Data!$C$16:$K$16=Model!$K283)*(Data!$C$17:$K$19))","v":2.73},80.89,{"$f":"_xlfn.IFS(M283>70,\"Serviceable\",M283>30, \"Limited Life\",M283<=30, \"Unserviceable\")","v":"Serviceable"}]
[null,376,1963,"Wood Creos Impregnated","Serviceable","Class 3",2018,90,84.54,7,{"$f":"INDEX(Lists!$B$32:$B$40, MATCH(2020-C284, Lists!$C$32:$C$40,1))","v":"51-60"},{"$f":"SUMPRODUCT((Data!$B$17:$B$19=Model!$F284)*(Data!$C$16:$K$16=Model!$K284)*(Data!$C$17:$K$19))","v":2.73},70.89,{"$f":"_xlfn.IFS(M284>70,\"Serviceable\",M284>30, \"Limited Life\",M284<=30, \"Unserviceable\")","v":"Serviceable"}]
[null,378,1963,"Wood Creos Impregnated","Serviceable","Class 3",2018,100,94.54,7,{"$f":"INDEX(Lists!$B$32:$B$40, MATCH(2020-C285, Lists!$C$32:$C$40,1))","v":"51-60"},{"$f":"SUMPRODUCT((Data!$B$17:$B$19=Model!$F285)*(Data!$C$16:$K$16=Model!$K285)*(Data!$C$17:$K$19))","v":2.73},80.89,{"$f":"_xlfn.IFS(M285>70,\"Serviceable\",M285>30, \"Limited Life\",M285<=30, \"Unserviceable\")","v":"Serviceable"}]
[null,382,1935,"Wood Untreated Dressed","Serviceable","Class 1",2018,100,94.38,7,{"$f":"INDEX(Lists!$B$32:$B$40, MATCH(2020-C286, Lists!$C$32:$C$40,1))","v":"81-90"},{"$f":"SUMPRODUCT((Data!$B$17:$B$19=Model!$F286)*(Data!$C$16:$K$16=Model!$K286)*(Data!$C$17:$K$19))","v":2.81},80.33,{"$f":"_xlfn.IFS(M286>70,\"Serviceable\",M286>30, \"Limited Life\",M286<=30, \"Unserviceable\")","v":"Serviceable"}]
[null,384,1952,"Wood Untreated Dressed","Serviceable","Class 1",2018,140,135.94,7,{"$f":"INDEX(Lists!$B$32:$B$40, MATCH(2020-C287, Lists!$C$32:$C$40,1))","v":"61-70"},{"$f":"SUMPRODUCT((Data!$B$17:$B$19=Model!$F287)*(Data!$C$16:$K$16=Model!$K287)*(Data!$C$17:$K$19))","v":2.0299999999999998},125.79,{"$f":"_xlfn.IFS(M287>70,\"Serviceable\",M287>30, \"Limited Life\",M287<=30, \"Unserviceable\")","v":"Serviceable"}]
[null,386,2009,"CCA Treated Pole","Serviceable","Class 2",2018,150,147.56,7,{"$f":"INDEX(Lists!$B$32:$B$40, MATCH(2020-C288, Lists!$C$32:$C$40,1))","v":"0-20"},{"$f":"SUMPRODUCT((Data!$B$17:$B$19=Model!$F288)*(Data!$C$16:$K$16=Model!$K288)*(Data!$C$17:$K$19))","v":1.22},141.46,{"$f":"_xlfn.IFS(M288>70,\"Serviceable\",M288>30, \"Limited Life\",M288<=30, \"Unserviceable\")","v":"Serviceable"}]
[null,395,1950,"Wood Untreated Round","Serviceable","Class 2",2016,100,91.08,9,{"$f":"INDEX(Lists!$B$32:$B$40, MATCH(2020-C289, Lists!$C$32:$C$40,1))","v":"61-70"},{"$f":"SUMPRODUCT((Data!$B$17:$B$19=Model!$F289)*(Data!$C$16:$K$16=Model!$K289)*(Data!$C$17:$K$19))","v":2.23},79.930000000000007,{"$f":"_xlfn.IFS(M289>70,\"Serviceable\",M289>30, \"Limited Life\",M289<=30, \"Unserviceable\")","v":"Serviceable"}]
[null,396,1970,"Wood Creos Impregnated","Serviceable","Class 3",2016,110,94.88,9,{"$f":"INDEX(Lists!$B$32:$B$40, MATCH(2020-C290, Lists!$C$32:$C$40,1))","v":"41-50"},{"$f":"SUMPRODUCT((Data!$B$17:$B$19=Model!$F290)*(Data!$C$16:$K$16=Model!$K290)*(Data!$C$17:$K$19))","v":3.78},75.98,{"$f":"_xlfn.IFS(M290>70,\"Serviceable\",M290>30, \"Limited Life\",M290<=30, \"Unserviceable\")","v":"Serviceable"}]
[null,397,1965,"Wood Creos Impregnated","Serviceable","Class 3",2016,120,109.08,9,{"$f":"INDEX(Lists!$B$32:$B$40, MATCH(2020-C291, Lists!$C$32:$C$40,1))","v":"51-60"},{"$f":"SUMPRODUCT((Data!$B$17:$B$19=Model!$F291)*(Data!$C$16:$K$16=Model!$K291)*(Data!$C$17:$K$19))","v":2.73},95.43,{"$f":"_xlfn.IFS(M291>70,\"Serviceable\",M291>30, \"Limited Life\",M291<=30, \"Unserviceable\")","v":"Serviceable"}]
[null,401,2009,"CCA Treated Pole","Serviceable","Class 1",2018,166.31691553103065,164.19691553103064,7,{"$f":"INDEX(Lists!$B$32:$B$40, MATCH(2020-C292, Lists!$C$32:$C$40,1))","v":"0-20"},{"$f":"SUMPRODUCT((Data!$B$17:$B$19=Model!$F292)*(Data!$C$16:$K$16=Model!$K292)*(Data!$C$17:$K$19))","v":1.06},158.89691553103066,{"$f":"_xlfn.IFS(M292>70,\"Serviceable\",M292>30, \"Limited Life\",M292<=30, \"Unserviceable\")","v":"Serviceable"}]
[null,410,1989,"Wood Untreated Dressed","Serviceable","Class 1",2018,130,124.96,7,{"$f":"INDEX(Lists!$B$32:$B$40, MATCH(2020-C293, Lists!$C$32:$C$40,1))","v":"31-40"},{"$f":"SUMPRODUCT((Data!$B$17:$B$19=Model!$F293)*(Data!$C$16:$K$16=Model!$K293)*(Data!$C$17:$K$19))","v":2.52},112.36,{"$f":"_xlfn.IFS(M293>70,\"Serviceable\",M293>30, \"Limited Life\",M293<=30, \"Unserviceable\")","v":"Serviceable"}]
[null,411,1970,"Wood Creos Impregnated","Limited Life","Class 3",2018,70,62.44,7,{"$f":"INDEX(Lists!$B$32:$B$40, MATCH(2020-C294, Lists!$C$32:$C$40,1))","v":"41-50"},{"$f":"SUMPRODUCT((Data!$B$17:$B$19=Model!$F294)*(Data!$C$16:$K$16=Model!$K294)*(Data!$C$17:$K$19))","v":3.78},43.540000000000006,{"$f":"_xlfn.IFS(M294>70,\"Serviceable\",M294>30, \"Limited Life\",M294<=30, \"Unserviceable\")","v":"Limited Life"}]
[null,414,1965,"Wood Creos Impregnated","Serviceable","Class 3",2018,100,94.54,7,{"$f":"INDEX(Lists!$B$32:$B$40, MATCH(2020-C295, Lists!$C$32:$C$40,1))","v":"51-60"},{"$f":"SUMPRODUCT((Data!$B$17:$B$19=Model!$F295)*(Data!$C$16:$K$16=Model!$K295)*(Data!$C$17:$K$19))","v":2.73},80.89,{"$f":"_xlfn.IFS(M295>70,\"Serviceable\",M295>30, \"Limited Life\",M295<=30, \"Unserviceable\")","v":"Serviceable"}]
[null,417,1960,"Wood Creos Impregnated","Serviceable","Class 3",2018,100,94.54,7,{"$f":"INDEX(Lists!$B$32:$B$40, MATCH(2020-C296, Lists!$C$32:$C$40,1))","v":"51-60"},{"$f":"SUMPRODUCT((Data!$B$17:$B$19=Model!$F296)*(Data!$C$16:$K$16=Model!$K296)*(Data!$C$17:$K$19))","v":2.73},80.89,{"$f":"_xlfn.IFS(M296>70,\"Serviceable\",M296>30, \"Limited Life\",M296<=30, \"Unserviceable\")","v":"Serviceable"}]
[null,418,1963,"Wood Creos Impregnated","Serviceable","Class 3",2018,100,94.54,7,{"$f":"INDEX(Lists!$B$32:$B$40, MATCH(2020-C297, Lists!$C$32:$C$40,1))","v":"51-60"},{"$f":"SUMPRODUCT((Data!$B$17:$B$19=Model!$F297)*(Data!$C$16:$K$16=Model!$K297)*(Data!$C$17:$K$19))","v":2.73},80.89,{"$f":"_xlfn.IFS(M297>70,\"Serviceable\",M297>30, \"Limited Life\",M297<=30, \"Unserviceable\")","v":"Serviceable"}]
[null,419,1987,"Wood Untreated Dressed","Serviceable","Class 1",2018,120,114.96,7,{"$f":"INDEX(Lists!$B$32:$B$40, MATCH(2020-C298, Lists!$C$32:$C$40,1))","v":"31-40"},{"$f":"SUMPRODUCT((Data!$B$17:$B$19=Model!$F298)*(Data!$C$16:$K$16=Model!$K298)*(Data!$C$17:$K$19))","v":2.52},102.36,{"$f":"_xlfn.IFS(M298>70,\"Serviceable\",M298>30, \"Limited Life\",M298<=30, \"Unserviceable\")","v":"Serviceable"}]
[null,420,1958,"Wood Creos Impregnated","Serviceable","Class 3",2018,90,85.96,7,{"$f":"INDEX(Lists!$B$32:$B$40, MATCH(2020-C299, Lists!$C$32:$C$40,1))","v":"61-70"},{"$f":"SUMPRODUCT((Data!$B$17:$B$19=Model!$F299)*(Data!$C$16:$K$16=Model!$K299)*(Data!$C$17:$K$19))","v":2.02},75.86,{"$f":"_xlfn.IFS(M299>70,\"Serviceable\",M299>30, \"Limited Life\",M299<=30, \"Unserviceable\")","v":"Serviceable"}]
[null,422,1963,"Wood Creos Impregnated","Serviceable","Class 3",2018,120,114.54,7,{"$f":"INDEX(Lists!$B$32:$B$40, MATCH(2020-C300, Lists!$C$32:$C$40,1))","v":"51-60"},{"$f":"SUMPRODUCT((Data!$B$17:$B$19=Model!$F300)*(Data!$C$16:$K$16=Model!$K300)*(Data!$C$17:$K$19))","v":2.73},100.89,{"$f":"_xlfn.IFS(M300>70,\"Serviceable\",M300>30, \"Limited Life\",M300<=30, \"Unserviceable\")","v":"Serviceable"}]
[null,423,1955,"Wood Untreated Round","Serviceable","Class 1",2018,100,95.94,7,{"$f":"INDEX(Lists!$B$32:$B$40, MATCH(2020-C301, Lists!$C$32:$C$40,1))","v":"61-70"},{"$f":"SUMPRODUCT((Data!$B$17:$B$19=Model!$F301)*(Data!$C$16:$K$16=Model!$K301)*(Data!$C$17:$K$19))","v":2.0299999999999998},85.79,{"$f":"_xlfn.IFS(M301>70,\"Serviceable\",M301>30, \"Limited Life\",M301<=30, \"Unserviceable\")","v":"Serviceable"}]
[null,424,1969,"Wood Creos Impregnated","Serviceable","Class 3",2018,90,84.54,7,{"$f":"INDEX(Lists!$B$32:$B$40, MATCH(2020-C302, Lists!$C$32:$C$40,1))","v":"51-60"},{"$f":"SUMPRODUCT((Data!$B$17:$B$19=Model!$F302)*(Data!$C$16:$K$16=Model!$K302)*(Data!$C$17:$K$19))","v":2.73},70.89,{"$f":"_xlfn.IFS(M302>70,\"Serviceable\",M302>30, \"Limited Life\",M302<=30, \"Unserviceable\")","v":"Serviceable"}]
[null,425,1982,"Wood Untreated Dressed","Serviceable","Class 1",2016,130,119.92,9,{"$f":"INDEX(Lists!$B$32:$B$40, MATCH(2020-C303, Lists!$C$32:$C$40,1))","v":"31-40"},{"$f":"SUMPRODUCT((Data!$B$17:$B$19=Model!$F303)*(Data!$C$16:$K$16=Model!$K303)*(Data!$C$17:$K$19))","v":2.52},107.32,{"$f":"_xlfn.IFS(M303>70,\"Serviceable\",M303>30, \"Limited Life\",M303<=30, \"Unserviceable\")","v":"Serviceable"}]
[null,426,1971,"Wood Creos Impregnated","Serviceable","Class 3",2016,110,94.88,9,{"$f":"INDEX(Lists!$B$32:$B$40, MATCH(2020-C304, Lists!$C$32:$C$40,1))","v":"41-50"},{"$f":"SUMPRODUCT((Data!$B$17:$B$19=Model!$F304)*(Data!$C$16:$K$16=Model!$K304)*(Data!$C$17:$K$19))","v":3.78},75.98,{"$f":"_xlfn.IFS(M304>70,\"Serviceable\",M304>30, \"Limited Life\",M304<=30, \"Unserviceable\")","v":"Serviceable"}]
[null,427,1986,"Wood Untreated Dressed","Serviceable","Class 1",2016,140,129.91999999999999,9,{"$f":"INDEX(Lists!$B$32:$B$40, MATCH(2020-C305, Lists!$C$32:$C$40,1))","v":"31-40"},{"$f":"SUMPRODUCT((Data!$B$17:$B$19=Model!$F305)*(Data!$C$16:$K$16=Model!$K305)*(Data!$C$17:$K$19))","v":2.52},117.32,{"$f":"_xlfn.IFS(M305>70,\"Serviceable\",M305>30, \"Limited Life\",M305<=30, \"Unserviceable\")","v":"Serviceable"}]
[null,428,1977,"Wood Creos Impregnated","Serviceable","Class 3",2016,110,94.88,9,{"$f":"INDEX(Lists!$B$32:$B$40, MATCH(2020-C306, Lists!$C$32:$C$40,1))","v":"41-50"},{"$f":"SUMPRODUCT((Data!$B$17:$B$19=Model!$F306)*(Data!$C$16:$K$16=Model!$K306)*(Data!$C$17:$K$19))","v":3.78},75.98,{"$f":"_xlfn.IFS(M306>70,\"Serviceable\",M306>30, \"Limited Life\",M306<=30, \"Unserviceable\")","v":"Serviceable"}]
[null,429,1971,"Wood Creos Impregnated","Limited Life","Class 3",2016,80,64.88,9,{"$f":"INDEX(Lists!$B$32:$B$40, MATCH(2020-C307, Lists!$C$32:$C$40,1))","v":"41-50"},{"$f":"SUMPRODUCT((Data!$B$17:$B$19=Model!$F307)*(Data!$C$16:$K$16=Model!$K307)*(Data!$C$17:$K$19))","v":3.78},45.980000000000004,{"$f":"_xlfn.IFS(M307>70,\"Serviceable\",M307>30, \"Limited Life\",M307<=30, \"Unserviceable\")","v":"Limited Life"}]
[null,431,1972,"Wood Creos Impregnated","Limited Life","Class 2",2016,70,56.88,9,{"$f":"INDEX(Lists!$B$32:$B$40, MATCH(2020-C308, Lists!$C$32:$C$40,1))","v":"41-50"},{"$f":"SUMPRODUCT((Data!$B$17:$B$19=Model!$F308)*(Data!$C$16:$K$16=Model!$K308)*(Data!$C$17:$K$19))","v":3.28},40.480000000000004,{"$f":"_xlfn.IFS(M308>70,\"Serviceable\",M308>30, \"Limited Life\",M308<=30, \"Unserviceable\")","v":"Limited Life"}]
[null,432,1958,"Wood Untreated Round","Serviceable","Class 2",2016,90,81.08,9,{"$f":"INDEX(Lists!$B$32:$B$40, MATCH(2020-C309, Lists!$C$32:$C$40,1))","v":"61-70"},{"$f":"SUMPRODUCT((Data!$B$17:$B$19=Model!$F309)*(Data!$C$16:$K$16=Model!$K309)*(Data!$C$17:$K$19))","v":2.23},69.930000000000007,{"$f":"_xlfn.IFS(M309>70,\"Serviceable\",M309>30, \"Limited Life\",M309<=30, \"Unserviceable\")","v":"Limited Life"}]
[null,433,1964,"Wood Creos Impregnated","Serviceable","Class 3",2016,100,89.08,9,{"$f":"INDEX(Lists!$B$32:$B$40, MATCH(2020-C310, Lists!$C$32:$C$40,1))","v":"51-60"},{"$f":"SUMPRODUCT((Data!$B$17:$B$19=Model!$F310)*(Data!$C$16:$K$16=Model!$K310)*(Data!$C$17:$K$19))","v":2.73},75.430000000000007,{"$f":"_xlfn.IFS(M310>70,\"Serviceable\",M310>30, \"Limited Life\",M310<=30, \"Unserviceable\")","v":"Serviceable"}]
[null,434,1969,"Wood Creos Impregnated","Serviceable","Class 3",2018,130,124.54,7,{"$f":"INDEX(Lists!$B$32:$B$40, MATCH(2020-C311, Lists!$C$32:$C$40,1))","v":"51-60"},{"$f":"SUMPRODUCT((Data!$B$17:$B$19=Model!$F311)*(Data!$C$16:$K$16=Model!$K311)*(Data!$C$17:$K$19))","v":2.73},110.89,{"$f":"_xlfn.IFS(M311>70,\"Serviceable\",M311>30, \"Limited Life\",M311<=30, \"Unserviceable\")","v":"Serviceable"}]
[null,435,1996,"Wood Untreated Dressed","Serviceable","Class 1",2018,140,136.08000000000001,7,{"$f":"INDEX(Lists!$B$32:$B$40, MATCH(2020-C312, Lists!$C$32:$C$40,1))","v":"21-30"},{"$f":"SUMPRODUCT((Data!$B$17:$B$19=Model!$F312)*(Data!$C$16:$K$16=Model!$K312)*(Data!$C$17:$K$19))","v":1.96},126.28,{"$f":"_xlfn.IFS(M312>70,\"Serviceable\",M312>30, \"Limited Life\",M312<=30, \"Unserviceable\")","v":"Serviceable"}]
[null,437,1969,"Wood Creos Impregnated","Serviceable","Class 3",2018,80,74.540000000000006,7,{"$f":"INDEX(Lists!$B$32:$B$40, MATCH(2020-C313, Lists!$C$32:$C$40,1))","v":"51-60"},{"$f":"SUMPRODUCT((Data!$B$17:$B$19=Model!$F313)*(Data!$C$16:$K$16=Model!$K313)*(Data!$C$17:$K$19))","v":2.73},60.89,{"$f":"_xlfn.IFS(M313>70,\"Serviceable\",M313>30, \"Limited Life\",M313<=30, \"Unserviceable\")","v":"Limited Life"}]
[null,438,1968,"Wood Creos Impregnated","Serviceable","Class 3",2018,80,74.540000000000006,7,{"$f":"INDEX(Lists!$B$32:$B$40, MATCH(2020-C314, Lists!$C$32:$C$40,1))","v":"51-60"},{"$f":"SUMPRODUCT((Data!$B$17:$B$19=Model!$F314)*(Data!$C$16:$K$16=Model!$K314)*(Data!$C$17:$K$19))","v":2.73},60.89,{"$f":"_xlfn.IFS(M314>70,\"Serviceable\",M314>30, \"Limited Life\",M314<=30, \"Unserviceable\")","v":"Limited Life"}]
[null,439,1968,"Wood Creos Impregnated","Serviceable","Class 3",2018,110,104.54,7,{"$f":"INDEX(Lists!$B$32:$B$40, MATCH(2020-C315, Lists!$C$32:$C$40,1))","v":"51-60"},{"$f":"SUMPRODUCT((Data!$B$17:$B$19=Model!$F315)*(Data!$C$16:$K$16=Model!$K315)*(Data!$C$17:$K$19))","v":2.73},90.89,{"$f":"_xlfn.IFS(M315>70,\"Serviceable\",M315>30, \"Limited Life\",M315<=30, \"Unserviceable\")","v":"Serviceable"}]
[null,440,2009,"CCA Treated Pole","Serviceable","Class 1",2018,166.31691553103065,164.19691553103064,7,{"$f":"INDEX(Lists!$B$32:$B$40, MATCH(2020-C316, Lists!$C$32:$C$40,1))","v":"0-20"},{"$f":"SUMPRODUCT((Data!$B$17:$B$19=Model!$F316)*(Data!$C$16:$K$16=Model!$K316)*(Data!$C$17:$K$19))","v":1.06},158.89691553103066,{"$f":"_xlfn.IFS(M316>70,\"Serviceable\",M316>30, \"Limited Life\",M316<=30, \"Unserviceable\")","v":"Serviceable"}]
[null,441,1983,"Wood Untreated Dressed","Serviceable","Class 1",2018,130,124.96,7,{"$f":"INDEX(Lists!$B$32:$B$40, MATCH(2020-C317, Lists!$C$32:$C$40,1))","v":"31-40"},{"$f":"SUMPRODUCT((Data!$B$17:$B$19=Model!$F317)*(Data!$C$16:$K$16=Model!$K317)*(Data!$C$17:$K$19))","v":2.52},112.36,{"$f":"_xlfn.IFS(M317>70,\"Serviceable\",M317>30, \"Limited Life\",M317<=30, \"Unserviceable\")","v":"Serviceable"}]
[null,443,1964,"Wood Creos Impregnated","Serviceable","Class 2",2016,90,79.72,9,{"$f":"INDEX(Lists!$B$32:$B$40, MATCH(2020-C318, Lists!$C$32:$C$40,1))","v":"51-60"},{"$f":"SUMPRODUCT((Data!$B$17:$B$19=Model!$F318)*(Data!$C$16:$K$16=Model!$K318)*(Data!$C$17:$K$19))","v":2.57},66.87,{"$f":"_xlfn.IFS(M318>70,\"Serviceable\",M318>30, \"Limited Life\",M318<=30, \"Unserviceable\")","v":"Limited Life"}]
[null,444,1974,"Wood Untreated Dressed","Serviceable","Class 1",2016,110,103,9,{"$f":"INDEX(Lists!$B$32:$B$40, MATCH(2020-C319, Lists!$C$32:$C$40,1))","v":"41-50"},{"$f":"SUMPRODUCT((Data!$B$17:$B$19=Model!$F319)*(Data!$C$16:$K$16=Model!$K319)*(Data!$C$17:$K$19))","v":1.75},94.25,{"$f":"_xlfn.IFS(M319>70,\"Serviceable\",M319>30, \"Limited Life\",M319<=30, \"Unserviceable\")","v":"Serviceable"}]
[null,445,1964,"Wood Creos Impregnated","Serviceable","Class 2",2016,110,99.72,9,{"$f":"INDEX(Lists!$B$32:$B$40, MATCH(2020-C320, Lists!$C$32:$C$40,1))","v":"51-60"},{"$f":"SUMPRODUCT((Data!$B$17:$B$19=Model!$F320)*(Data!$C$16:$K$16=Model!$K320)*(Data!$C$17:$K$19))","v":2.57},86.87,{"$f":"_xlfn.IFS(M320>70,\"Serviceable\",M320>30, \"Limited Life\",M320<=30, \"Unserviceable\")","v":"Serviceable"}]
[null,446,1970,"Wood Creos Impregnated","Serviceable","Class 3",2016,100,84.88,9,{"$f":"INDEX(Lists!$B$32:$B$40, MATCH(2020-C321, Lists!$C$32:$C$40,1))","v":"41-50"},{"$f":"SUMPRODUCT((Data!$B$17:$B$19=Model!$F321)*(Data!$C$16:$K$16=Model!$K321)*(Data!$C$17:$K$19))","v":3.78},65.98,{"$f":"_xlfn.IFS(M321>70,\"Serviceable\",M321>30, \"Limited Life\",M321<=30, \"Unserviceable\")","v":"Limited Life"}]
[null,447,1982,"Wood Creos Impregnated","Serviceable","Class 3",2016,100,87.12,9,{"$f":"INDEX(Lists!$B$32:$B$40, MATCH(2020-C322, Lists!$C$32:$C$40,1))","v":"31-40"},{"$f":"SUMPRODUCT((Data!$B$17:$B$19=Model!$F322)*(Data!$C$16:$K$16=Model!$K322)*(Data!$C$17:$K$19))","v":3.22},71.02,{"$f":"_xlfn.IFS(M322>70,\"Serviceable\",M322>30, \"Limited Life\",M322<=30, \"Unserviceable\")","v":"Serviceable"}]
[null,448,1967,"Wood Creos Impregnated","Limited Life","Class 3",2018,70,64.540000000000006,7,{"$f":"INDEX(Lists!$B$32:$B$40, MATCH(2020-C323, Lists!$C$32:$C$40,1))","v":"51-60"},{"$f":"SUMPRODUCT((Data!$B$17:$B$19=Model!$F323)*(Data!$C$16:$K$16=Model!$K323)*(Data!$C$17:$K$19))","v":2.73},50.89,{"$f":"_xlfn.IFS(M323>70,\"Serviceable\",M323>30, \"Limited Life\",M323<=30, \"Unserviceable\")","v":"Limited Life"}]
[null,449,1970,"Wood Creos Impregnated","Serviceable","Class 3",2018,100,92.44,7,{"$f":"INDEX(Lists!$B$32:$B$40, MATCH(2020-C324, Lists!$C$32:$C$40,1))","v":"41-50"},{"$f":"SUMPRODUCT((Data!$B$17:$B$19=Model!$F324)*(Data!$C$16:$K$16=Model!$K324)*(Data!$C$17:$K$19))","v":3.78},73.540000000000006,{"$f":"_xlfn.IFS(M324>70,\"Serviceable\",M324>30, \"Limited Life\",M324<=30, \"Unserviceable\")","v":"Serviceable"}]
[null,450,1982,"Wood Creos Impregnated","Serviceable","Class 3",2018,110,103.56,7,{"$f":"INDEX(Lists!$B$32:$B$40, MATCH(2020-C325, Lists!$C$32:$C$40,1))","v":"31-40"},{"$f":"SUMPRODUCT((Data!$B$17:$B$19=Model!$F325)*(Data!$C$16:$K$16=Model!$K325)*(Data!$C$17:$K$19))","v":3.22},87.46,{"$f":"_xlfn.IFS(M325>70,\"Serviceable\",M325>30, \"Limited Life\",M325<=30, \"Unserviceable\")","v":"Serviceable"}]
[null,451,2002,"CCA Treated Pole","Serviceable","Class 2",2018,162.49719689682513,160.05719689682513,7,{"$f":"INDEX(Lists!$B$32:$B$40, MATCH(2020-C326, Lists!$C$32:$C$40,1))","v":"0-20"},{"$f":"SUMPRODUCT((Data!$B$17:$B$19=Model!$F326)*(Data!$C$16:$K$16=Model!$K326)*(Data!$C$17:$K$19))","v":1.22},153.95719689682514,{"$f":"_xlfn.IFS(M326>70,\"Serviceable\",M326>30, \"Limited Life\",M326<=30, \"Unserviceable\")","v":"Serviceable"}]
[null,452,2009,"CCA Treated Pole","Serviceable","Class 2",2018,162.49719689682513,160.05719689682513,7,{"$f":"INDEX(Lists!$B$32:$B$40, MATCH(2020-C327, Lists!$C$32:$C$40,1))","v":"0-20"},{"$f":"SUMPRODUCT((Data!$B$17:$B$19=Model!$F327)*(Data!$C$16:$K$16=Model!$K327)*(Data!$C$17:$K$19))","v":1.22},153.95719689682514,{"$f":"_xlfn.IFS(M327>70,\"Serviceable\",M327>30, \"Limited Life\",M327<=30, \"Unserviceable\")","v":"Serviceable"}]
[null,455,1941,"Wood Untreated Dressed","Serviceable","Class 1",2020,100,100,{"$f":"2025-G328","v":5},{"$f":"INDEX(Lists!$B$32:$B$40, MATCH(2020-C328, Lists!$C$32:$C$40,1))","v":"71-80"},{"$f":"SUMPRODUCT((Data!$B$17:$B$19=Model!$F328)*(Data!$C$16:$K$16=Model!$K328)*(Data!$C$17:$K$19))","v":2.15},{"$f":"IF(IF(H328>=700,999,(H328-L328*J328))<0,0,IF(H328>=700,999,(H328-L328*J328)))","v":89.25},{"$f":"_xlfn.IFS(M328>70,\"Serviceable\",M328>30, \"Limited Life\",M328<=30, \"Unserviceable\")","v":"Serviceable"}]
[null,456,2001,"CCA Treated Pole","Serviceable","Class 2",2018,150,147.56,7,{"$f":"INDEX(Lists!$B$32:$B$40, MATCH(2020-C329, Lists!$C$32:$C$40,1))","v":"0-20"},{"$f":"SUMPRODUCT((Data!$B$17:$B$19=Model!$F329)*(Data!$C$16:$K$16=Model!$K329)*(Data!$C$17:$K$19))","v":1.22},141.46,{"$f":"_xlfn.IFS(M329>70,\"Serviceable\",M329>30, \"Limited Life\",M329<=30, \"Unserviceable\")","v":"Serviceable"}]
[null,457,1971,"Wood Creos Impregnated","Serviceable","Class 3",2018,120,112.44,7,{"$f":"INDEX(Lists!$B$32:$B$40, MATCH(2020-C330, Lists!$C$32:$C$40,1))","v":"41-50"},{"$f":"SUMPRODUCT((Data!$B$17:$B$19=Model!$F330)*(Data!$C$16:$K$16=Model!$K330)*(Data!$C$17:$K$19))","v":3.78},93.54,{"$f":"_xlfn.IFS(M330>70,\"Serviceable\",M330>30, \"Limited Life\",M330<=30, \"Unserviceable\")","v":"Serviceable"}]
[null,459,1958,"Wood Untreated Round","Serviceable","Class 1",2018,110,105.94,7,{"$f":"INDEX(Lists!$B$32:$B$40, MATCH(2020-C331, Lists!$C$32:$C$40,1))","v":"61-70"},{"$f":"SUMPRODUCT((Data!$B$17:$B$19=Model!$F331)*(Data!$C$16:$K$16=Model!$K331)*(Data!$C$17:$K$19))","v":2.0299999999999998},95.79,{"$f":"_xlfn.IFS(M331>70,\"Serviceable\",M331>30, \"Limited Life\",M331<=30, \"Unserviceable\")","v":"Serviceable"}]
[null,460,1985,"Wood Untreated Dressed","Serviceable","Class 1",2018,120,114.96,7,{"$f":"INDEX(Lists!$B$32:$B$40, MATCH(2020-C332, Lists!$C$32:$C$40,1))","v":"31-40"},{"$f":"SUMPRODUCT((Data!$B$17:$B$19=Model!$F332)*(Data!$C$16:$K$16=Model!$K332)*(Data!$C$17:$K$19))","v":2.52},102.36,{"$f":"_xlfn.IFS(M332>70,\"Serviceable\",M332>30, \"Limited Life\",M332<=30, \"Unserviceable\")","v":"Serviceable"}]
[null,461,1982,"Wood Untreated Dressed","Serviceable","Class 1",2018,130,124.96,7,{"$f":"INDEX(Lists!$B$32:$B$40, MATCH(2020-C333, Lists!$C$32:$C$40,1))","v":"31-40"},{"$f":"SUMPRODUCT((Data!$B$17:$B$19=Model!$F333)*(Data!$C$16:$K$16=Model!$K333)*(Data!$C$17:$K$19))","v":2.52},112.36,{"$f":"_xlfn.IFS(M333>70,\"Serviceable\",M333>30, \"Limited Life\",M333<=30, \"Unserviceable\")","v":"Serviceable"}]
[null,462,1979,"Wood Untreated Dressed","Serviceable","Class 1",2018,120,116.5,7,{"$f":"INDEX(Lists!$B$32:$B$40, MATCH(2020-C334, Lists!$C$32:$C$40,1))","v":"41-50"},{"$f":"SUMPRODUCT((Data!$B$17:$B$19=Model!$F334)*(Data!$C$16:$K$16=Model!$K334)*(Data!$C$17:$K$19))","v":1.75},107.75,{"$f":"_xlfn.IFS(M334>70,\"Serviceable\",M334>30, \"Limited Life\",M334<=30, \"Unserviceable\")","v":"Serviceable"}]
[null,463,1958,"Wood Untreated Round","Serviceable","Class 1",2018,100,95.94,7,{"$f":"INDEX(Lists!$B$32:$B$40, MATCH(2020-C335, Lists!$C$32:$C$40,1))","v":"61-70"},{"$f":"SUMPRODUCT((Data!$B$17:$B$19=Model!$F335)*(Data!$C$16:$K$16=Model!$K335)*(Data!$C$17:$K$19))","v":2.0299999999999998},85.79,{"$f":"_xlfn.IFS(M335>70,\"Serviceable\",M335>30, \"Limited Life\",M335<=30, \"Unserviceable\")","v":"Serviceable"}]
[null,464,1980,"Wood Untreated Dressed","Serviceable","Class 1",2018,110,104.96,7,{"$f":"INDEX(Lists!$B$32:$B$40, MATCH(2020-C336, Lists!$C$32:$C$40,1))","v":"31-40"},{"$f":"SUMPRODUCT((Data!$B$17:$B$19=Model!$F336)*(Data!$C$16:$K$16=Model!$K336)*(Data!$C$17:$K$19))","v":2.52},92.36,{"$f":"_xlfn.IFS(M336>70,\"Serviceable\",M336>30, \"Limited Life\",M336<=30, \"Unserviceable\")","v":"Serviceable"}]
[null,465,1985,"Wood Untreated Dressed","Serviceable","Class 1",2016,140,129.91999999999999,9,{"$f":"INDEX(Lists!$B$32:$B$40, MATCH(2020-C337, Lists!$C$32:$C$40,1))","v":"31-40"},{"$f":"SUMPRODUCT((Data!$B$17:$B$19=Model!$F337)*(Data!$C$16:$K$16=Model!$K337)*(Data!$C$17:$K$19))","v":2.52},117.32,{"$f":"_xlfn.IFS(M337>70,\"Serviceable\",M337>30, \"Limited Life\",M337<=30, \"Unserviceable\")","v":"Serviceable"}]
[null,467,1980,"Wood Creos Impregnated","Limited Life","Class 3",2016,70,57.12,9,{"$f":"INDEX(Lists!$B$32:$B$40, MATCH(2020-C338, Lists!$C$32:$C$40,1))","v":"31-40"},{"$f":"SUMPRODUCT((Data!$B$17:$B$19=Model!$F338)*(Data!$C$16:$K$16=Model!$K338)*(Data!$C$17:$K$19))","v":3.22},41.019999999999996,{"$f":"_xlfn.IFS(M338>70,\"Serviceable\",M338>30, \"Limited Life\",M338<=30, \"Unserviceable\")","v":"Limited Life"}]
[null,469,2001,"CCA Treated Pole","Serviceable","Class 1",2016,150,145.76,9,{"$f":"INDEX(Lists!$B$32:$B$40, MATCH(2020-C339, Lists!$C$32:$C$40,1))","v":"0-20"},{"$f":"SUMPRODUCT((Data!$B$17:$B$19=Model!$F339)*(Data!$C$16:$K$16=Model!$K339)*(Data!$C$17:$K$19))","v":1.06},140.46,{"$f":"_xlfn.IFS(M339>70,\"Serviceable\",M339>30, \"Limited Life\",M339<=30, \"Unserviceable\")","v":"Serviceable"}]
[null,471,1967,"Wood Creos Impregnated","Serviceable","Class 3",2018,100,94.54,7,{"$f":"INDEX(Lists!$B$32:$B$40, MATCH(2020-C340, Lists!$C$32:$C$40,1))","v":"51-60"},{"$f":"SUMPRODUCT((Data!$B$17:$B$19=Model!$F340)*(Data!$C$16:$K$16=Model!$K340)*(Data!$C$17:$K$19))","v":2.73},80.89,{"$f":"_xlfn.IFS(M340>70,\"Serviceable\",M340>30, \"Limited Life\",M340<=30, \"Unserviceable\")","v":"Serviceable"}]
[null,472,1962,"Wood Creos Impregnated","Serviceable","Class 3",2018,90,84.54,7,{"$f":"INDEX(Lists!$B$32:$B$40, MATCH(2020-C341, Lists!$C$32:$C$40,1))","v":"51-60"},{"$f":"SUMPRODUCT((Data!$B$17:$B$19=Model!$F341)*(Data!$C$16:$K$16=Model!$K341)*(Data!$C$17:$K$19))","v":2.73},70.89,{"$f":"_xlfn.IFS(M341>70,\"Serviceable\",M341>30, \"Limited Life\",M341<=30, \"Unserviceable\")","v":"Serviceable"}]
[null,473,1962,"Wood Creos Impregnated","Serviceable","Class 3",2018,90,84.54,7,{"$f":"INDEX(Lists!$B$32:$B$40, MATCH(2020-C342, Lists!$C$32:$C$40,1))","v":"51-60"},{"$f":"SUMPRODUCT((Data!$B$17:$B$19=Model!$F342)*(Data!$C$16:$K$16=Model!$K342)*(Data!$C$17:$K$19))","v":2.73},70.89,{"$f":"_xlfn.IFS(M342>70,\"Serviceable\",M342>30, \"Limited Life\",M342<=30, \"Unserviceable\")","v":"Serviceable"}]
[null,474,1986,"Wood Untreated Dressed","Serviceable","Class 1",2018,140,134.96,7,{"$f":"INDEX(Lists!$B$32:$B$40, MATCH(2020-C343, Lists!$C$32:$C$40,1))","v":"31-40"},{"$f":"SUMPRODUCT((Data!$B$17:$B$19=Model!$F343)*(Data!$C$16:$K$16=Model!$K343)*(Data!$C$17:$K$19))","v":2.52},122.36,{"$f":"_xlfn.IFS(M343>70,\"Serviceable\",M343>30, \"Limited Life\",M343<=30, \"Unserviceable\")","v":"Serviceable"}]
[null,476,1986,"Wood Untreated Dressed","Serviceable","Class 1",2018,140,134.96,7,{"$f":"INDEX(Lists!$B$32:$B$40, MATCH(2020-C344, Lists!$C$32:$C$40,1))","v":"31-40"},{"$f":"SUMPRODUCT((Data!$B$17:$B$19=Model!$F344)*(Data!$C$16:$K$16=Model!$K344)*(Data!$C$17:$K$19))","v":2.52},122.36,{"$f":"_xlfn.IFS(M344>70,\"Serviceable\",M344>30, \"Limited Life\",M344<=30, \"Unserviceable\")","v":"Serviceable"}]
[null,477,1962,"Wood Creos Impregnated","Serviceable","Class 3",2018,100,94.54,7,{"$f":"INDEX(Lists!$B$32:$B$40, MATCH(2020-C345, Lists!$C$32:$C$40,1))","v":"51-60"},{"$f":"SUMPRODUCT((Data!$B$17:$B$19=Model!$F345)*(Data!$C$16:$K$16=Model!$K345)*(Data!$C$17:$K$19))","v":2.73},80.89,{"$f":"_xlfn.IFS(M345>70,\"Serviceable\",M345>30, \"Limited Life\",M345<=30, \"Unserviceable\")","v":"Serviceable"}]
[null,478,1977,"Wood Untreated Dressed","Serviceable","Class 1",2018,110,106.5,7,{"$f":"INDEX(Lists!$B$32:$B$40, MATCH(2020-C346, Lists!$C$32:$C$40,1))","v":"41-50"},{"$f":"SUMPRODUCT((Data!$B$17:$B$19=Model!$F346)*(Data!$C$16:$K$16=Model!$K346)*(Data!$C$17:$K$19))","v":1.75},97.75,{"$f":"_xlfn.IFS(M346>70,\"Serviceable\",M346>30, \"Limited Life\",M346<=30, \"Unserviceable\")","v":"Serviceable"}]
[null,479,1978,"Wood Untreated Dressed","Serviceable","Class 1",2018,100,96.5,7,{"$f":"INDEX(Lists!$B$32:$B$40, MATCH(2020-C347, Lists!$C$32:$C$40,1))","v":"41-50"},{"$f":"SUMPRODUCT((Data!$B$17:$B$19=Model!$F347)*(Data!$C$16:$K$16=Model!$K347)*(Data!$C$17:$K$19))","v":1.75},87.75,{"$f":"_xlfn.IFS(M347>70,\"Serviceable\",M347>30, \"Limited Life\",M347<=30, \"Unserviceable\")","v":"Serviceable"}]
[null,480,1986,"Wood Untreated Dressed","Serviceable","Class 1",2018,130,124.96,7,{"$f":"INDEX(Lists!$B$32:$B$40, MATCH(2020-C348, Lists!$C$32:$C$40,1))","v":"31-40"},{"$f":"SUMPRODUCT((Data!$B$17:$B$19=Model!$F348)*(Data!$C$16:$K$16=Model!$K348)*(Data!$C$17:$K$19))","v":2.52},112.36,{"$f":"_xlfn.IFS(M348>70,\"Serviceable\",M348>30, \"Limited Life\",M348<=30, \"Unserviceable\")","v":"Serviceable"}]
[null,481,1986,"Wood Untreated Dressed","Serviceable","Class 1",2018,130,124.96,7,{"$f":"INDEX(Lists!$B$32:$B$40, MATCH(2020-C349, Lists!$C$32:$C$40,1))","v":"31-40"},{"$f":"SUMPRODUCT((Data!$B$17:$B$19=Model!$F349)*(Data!$C$16:$K$16=Model!$K349)*(Data!$C$17:$K$19))","v":2.52},112.36,{"$f":"_xlfn.IFS(M349>70,\"Serviceable\",M349>30, \"Limited Life\",M349<=30, \"Unserviceable\")","v":"Serviceable"}]
[null,482,1980,"Wood Untreated Dressed","Limited Life","Class 1",2016,80,69.92,9,{"$f":"INDEX(Lists!$B$32:$B$40, MATCH(2020-C350, Lists!$C$32:$C$40,1))","v":"31-40"},{"$f":"SUMPRODUCT((Data!$B$17:$B$19=Model!$F350)*(Data!$C$16:$K$16=Model!$K350)*(Data!$C$17:$K$19))","v":2.52},57.32,{"$f":"_xlfn.IFS(M350>70,\"Serviceable\",M350>30, \"Limited Life\",M350<=30, \"Unserviceable\")","v":"Limited Life"}]
[null,483,1985,"Wood Untreated Dressed","Serviceable","Class 1",2018,120,114.96,7,{"$f":"INDEX(Lists!$B$32:$B$40, MATCH(2020-C351, Lists!$C$32:$C$40,1))","v":"31-40"},{"$f":"SUMPRODUCT((Data!$B$17:$B$19=Model!$F351)*(Data!$C$16:$K$16=Model!$K351)*(Data!$C$17:$K$19))","v":2.52},102.36,{"$f":"_xlfn.IFS(M351>70,\"Serviceable\",M351>30, \"Limited Life\",M351<=30, \"Unserviceable\")","v":"Serviceable"}]
[null,484,1950,"Wood Untreated Dressed","Serviceable","Class 2",2018,100,95.54,7,{"$f":"INDEX(Lists!$B$32:$B$40, MATCH(2020-C352, Lists!$C$32:$C$40,1))","v":"61-70"},{"$f":"SUMPRODUCT((Data!$B$17:$B$19=Model!$F352)*(Data!$C$16:$K$16=Model!$K352)*(Data!$C$17:$K$19))","v":2.23},84.39,{"$f":"_xlfn.IFS(M352>70,\"Serviceable\",M352>30, \"Limited Life\",M352<=30, \"Unserviceable\")","v":"Serviceable"}]
[null,485,1970,"Wood Creos Impregnated","Serviceable","Class 3",2018,110,102.44,7,{"$f":"INDEX(Lists!$B$32:$B$40, MATCH(2020-C353, Lists!$C$32:$C$40,1))","v":"41-50"},{"$f":"SUMPRODUCT((Data!$B$17:$B$19=Model!$F353)*(Data!$C$16:$K$16=Model!$K353)*(Data!$C$17:$K$19))","v":3.78},83.54,{"$f":"_xlfn.IFS(M353>70,\"Serviceable\",M353>30, \"Limited Life\",M353<=30, \"Unserviceable\")","v":"Serviceable"}]
[null,486,1982,"Wood Untreated Dressed","Serviceable","Class 1",2018,120,114.96,7,{"$f":"INDEX(Lists!$B$32:$B$40, MATCH(2020-C354, Lists!$C$32:$C$40,1))","v":"31-40"},{"$f":"SUMPRODUCT((Data!$B$17:$B$19=Model!$F354)*(Data!$C$16:$K$16=Model!$K354)*(Data!$C$17:$K$19))","v":2.52},102.36,{"$f":"_xlfn.IFS(M354>70,\"Serviceable\",M354>30, \"Limited Life\",M354<=30, \"Unserviceable\")","v":"Serviceable"}]
[null,487,1979,"Wood Untreated Dressed","Serviceable","Class 1",2018,120,116.5,7,{"$f":"INDEX(Lists!$B$32:$B$40, MATCH(2020-C355, Lists!$C$32:$C$40,1))","v":"41-50"},{"$f":"SUMPRODUCT((Data!$B$17:$B$19=Model!$F355)*(Data!$C$16:$K$16=Model!$K355)*(Data!$C$17:$K$19))","v":1.75},107.75,{"$f":"_xlfn.IFS(M355>70,\"Serviceable\",M355>30, \"Limited Life\",M355<=30, \"Unserviceable\")","v":"Serviceable"}]
[null,489,1938,"Wood Untreated Dressed","Serviceable","Class 1",2018,120,114.38,7,{"$f":"INDEX(Lists!$B$32:$B$40, MATCH(2020-C356, Lists!$C$32:$C$40,1))","v":"81-90"},{"$f":"SUMPRODUCT((Data!$B$17:$B$19=Model!$F356)*(Data!$C$16:$K$16=Model!$K356)*(Data!$C$17:$K$19))","v":2.81},100.33,{"$f":"_xlfn.IFS(M356>70,\"Serviceable\",M356>30, \"Limited Life\",M356<=30, \"Unserviceable\")","v":"Serviceable"}]
[null,490,1978,"Wood Untreated Dressed","Serviceable","Class 1",2018,130,126.5,7,{"$f":"INDEX(Lists!$B$32:$B$40, MATCH(2020-C357, Lists!$C$32:$C$40,1))","v":"41-50"},{"$f":"SUMPRODUCT((Data!$B$17:$B$19=Model!$F357)*(Data!$C$16:$K$16=Model!$K357)*(Data!$C$17:$K$19))","v":1.75},117.75,{"$f":"_xlfn.IFS(M357>70,\"Serviceable\",M357>30, \"Limited Life\",M357<=30, \"Unserviceable\")","v":"Serviceable"}]
[null,491,1982,"Wood Untreated Dressed","Serviceable","Class 1",2018,130,124.96,7,{"$f":"INDEX(Lists!$B$32:$B$40, MATCH(2020-C358, Lists!$C$32:$C$40,1))","v":"31-40"},{"$f":"SUMPRODUCT((Data!$B$17:$B$19=Model!$F358)*(Data!$C$16:$K$16=Model!$K358)*(Data!$C$17:$K$19))","v":2.52},112.36,{"$f":"_xlfn.IFS(M358>70,\"Serviceable\",M358>30, \"Limited Life\",M358<=30, \"Unserviceable\")","v":"Serviceable"}]
[null,492,1968,"Wood Creos Impregnated","Serviceable","Class 3",2018,130,124.54,7,{"$f":"INDEX(Lists!$B$32:$B$40, MATCH(2020-C359, Lists!$C$32:$C$40,1))","v":"51-60"},{"$f":"SUMPRODUCT((Data!$B$17:$B$19=Model!$F359)*(Data!$C$16:$K$16=Model!$K359)*(Data!$C$17:$K$19))","v":2.73},110.89,{"$f":"_xlfn.IFS(M359>70,\"Serviceable\",M359>30, \"Limited Life\",M359<=30, \"Unserviceable\")","v":"Serviceable"}]
[null,493,1968,"Wood Creos Impregnated","Serviceable","Class 3",2018,100,94.54,7,{"$f":"INDEX(Lists!$B$32:$B$40, MATCH(2020-C360, Lists!$C$32:$C$40,1))","v":"51-60"},{"$f":"SUMPRODUCT((Data!$B$17:$B$19=Model!$F360)*(Data!$C$16:$K$16=Model!$K360)*(Data!$C$17:$K$19))","v":2.73},80.89,{"$f":"_xlfn.IFS(M360>70,\"Serviceable\",M360>30, \"Limited Life\",M360<=30, \"Unserviceable\")","v":"Serviceable"}]
[null,496,1969,"Wood Creos Impregnated","Serviceable","Class 3",2018,100,94.54,7,{"$f":"INDEX(Lists!$B$32:$B$40, MATCH(2020-C361, Lists!$C$32:$C$40,1))","v":"51-60"},{"$f":"SUMPRODUCT((Data!$B$17:$B$19=Model!$F361)*(Data!$C$16:$K$16=Model!$K361)*(Data!$C$17:$K$19))","v":2.73},80.89,{"$f":"_xlfn.IFS(M361>70,\"Serviceable\",M361>30, \"Limited Life\",M361<=30, \"Unserviceable\")","v":"Serviceable"}]
[null,498,1980,"Wood Untreated Dressed","Serviceable","Class 1",2018,100,94.96,7,{"$f":"INDEX(Lists!$B$32:$B$40, MATCH(2020-C362, Lists!$C$32:$C$40,1))","v":"31-40"},{"$f":"SUMPRODUCT((Data!$B$17:$B$19=Model!$F362)*(Data!$C$16:$K$16=Model!$K362)*(Data!$C$17:$K$19))","v":2.52},82.36,{"$f":"_xlfn.IFS(M362>70,\"Serviceable\",M362>30, \"Limited Life\",M362<=30, \"Unserviceable\")","v":"Serviceable"}]
[null,499,1969,"Wood Creos Impregnated","Serviceable","Class 3",2018,120,114.54,7,{"$f":"INDEX(Lists!$B$32:$B$40, MATCH(2020-C363, Lists!$C$32:$C$40,1))","v":"51-60"},{"$f":"SUMPRODUCT((Data!$B$17:$B$19=Model!$F363)*(Data!$C$16:$K$16=Model!$K363)*(Data!$C$17:$K$19))","v":2.73},100.89,{"$f":"_xlfn.IFS(M363>70,\"Serviceable\",M363>30, \"Limited Life\",M363<=30, \"Unserviceable\")","v":"Serviceable"}]
[null,500,1970,"Wood Creos Impregnated","Serviceable","Class 3",2018,80,72.44,7,{"$f":"INDEX(Lists!$B$32:$B$40, MATCH(2020-C364, Lists!$C$32:$C$40,1))","v":"41-50"},{"$f":"SUMPRODUCT((Data!$B$17:$B$19=Model!$F364)*(Data!$C$16:$K$16=Model!$K364)*(Data!$C$17:$K$19))","v":3.78},53.540000000000006,{"$f":"_xlfn.IFS(M364>70,\"Serviceable\",M364>30, \"Limited Life\",M364<=30, \"Unserviceable\")","v":"Limited Life"}]
[null,501,1971,"Wood Creos Impregnated","Serviceable","Class 3",2018,90,82.44,7,{"$f":"INDEX(Lists!$B$32:$B$40, MATCH(2020-C365, Lists!$C$32:$C$40,1))","v":"41-50"},{"$f":"SUMPRODUCT((Data!$B$17:$B$19=Model!$F365)*(Data!$C$16:$K$16=Model!$K365)*(Data!$C$17:$K$19))","v":3.78},63.540000000000006,{"$f":"_xlfn.IFS(M365>70,\"Serviceable\",M365>30, \"Limited Life\",M365<=30, \"Unserviceable\")","v":"Limited Life"}]
[null,502,1968,"Wood Creos Impregnated","Serviceable","Class 3",2018,100,94.54,7,{"$f":"INDEX(Lists!$B$32:$B$40, MATCH(2020-C366, Lists!$C$32:$C$40,1))","v":"51-60"},{"$f":"SUMPRODUCT((Data!$B$17:$B$19=Model!$F366)*(Data!$C$16:$K$16=Model!$K366)*(Data!$C$17:$K$19))","v":2.73},80.89,{"$f":"_xlfn.IFS(M366>70,\"Serviceable\",M366>30, \"Limited Life\",M366<=30, \"Unserviceable\")","v":"Serviceable"}]
[null,503,1968,"Wood Creos Impregnated","Serviceable","Class 3",2020,100,100,5,{"$f":"INDEX(Lists!$B$32:$B$40, MATCH(2020-C367, Lists!$C$32:$C$40,1))","v":"51-60"},{"$f":"SUMPRODUCT((Data!$B$17:$B$19=Model!$F367)*(Data!$C$16:$K$16=Model!$K367)*(Data!$C$17:$K$19))","v":2.73},86.35,{"$f":"_xlfn.IFS(M367>70,\"Serviceable\",M367>30, \"Limited Life\",M367<=30, \"Unserviceable\")","v":"Serviceable"}]
[null,504,1968,"Wood Creos Impregnated","Serviceable","Class 3",2018,90,84.54,7,{"$f":"INDEX(Lists!$B$32:$B$40, MATCH(2020-C368, Lists!$C$32:$C$40,1))","v":"51-60"},{"$f":"SUMPRODUCT((Data!$B$17:$B$19=Model!$F368)*(Data!$C$16:$K$16=Model!$K368)*(Data!$C$17:$K$19))","v":2.73},70.89,{"$f":"_xlfn.IFS(M368>70,\"Serviceable\",M368>30, \"Limited Life\",M368<=30, \"Unserviceable\")","v":"Serviceable"}]
[null,505,1984,"Wood Untreated Dressed","Serviceable","Class 1",2018,120,114.96,7,{"$f":"INDEX(Lists!$B$32:$B$40, MATCH(2020-C369, Lists!$C$32:$C$40,1))","v":"31-40"},{"$f":"SUMPRODUCT((Data!$B$17:$B$19=Model!$F369)*(Data!$C$16:$K$16=Model!$K369)*(Data!$C$17:$K$19))","v":2.52},102.36,{"$f":"_xlfn.IFS(M369>70,\"Serviceable\",M369>30, \"Limited Life\",M369<=30, \"Unserviceable\")","v":"Serviceable"}]
[null,506,1986,"Wood Untreated Dressed","Serviceable","Class 1",2018,140,134.96,7,{"$f":"INDEX(Lists!$B$32:$B$40, MATCH(2020-C370, Lists!$C$32:$C$40,1))","v":"31-40"},{"$f":"SUMPRODUCT((Data!$B$17:$B$19=Model!$F370)*(Data!$C$16:$K$16=Model!$K370)*(Data!$C$17:$K$19))","v":2.52},122.36,{"$f":"_xlfn.IFS(M370>70,\"Serviceable\",M370>30, \"Limited Life\",M370<=30, \"Unserviceable\")","v":"Serviceable"}]
[null,507,1986,"Wood Untreated Dressed","Serviceable","Class 1",2018,140,134.96,7,{"$f":"INDEX(Lists!$B$32:$B$40, MATCH(2020-C371, Lists!$C$32:$C$40,1))","v":"31-40"},{"$f":"SUMPRODUCT((Data!$B$17:$B$19=Model!$F371)*(Data!$C$16:$K$16=Model!$K371)*(Data!$C$17:$K$19))","v":2.52},122.36,{"$f":"_xlfn.IFS(M371>70,\"Serviceable\",M371>30, \"Limited Life\",M371<=30, \"Unserviceable\")","v":"Serviceable"}]
[null,508,1986,"Wood Untreated Dressed","Serviceable","Class 1",2018,140,134.96,7,{"$f":"INDEX(Lists!$B$32:$B$40, MATCH(2020-C372, Lists!$C$32:$C$40,1))","v":"31-40"},{"$f":"SUMPRODUCT((Data!$B$17:$B$19=Model!$F372)*(Data!$C$16:$K$16=Model!$K372)*(Data!$C$17:$K$19))","v":2.52},122.36,{"$f":"_xlfn.IFS(M372>70,\"Serviceable\",M372>30, \"Limited Life\",M372<=30, \"Unserviceable\")","v":"Serviceable"}]
[null,509,1980,"Wood Untreated Dressed","Serviceable","Class 1",2018,120,114.96,7,{"$f":"INDEX(Lists!$B$32:$B$40, MATCH(2020-C373, Lists!$C$32:$C$40,1))","v":"31-40"},{"$f":"SUMPRODUCT((Data!$B$17:$B$19=Model!$F373)*(Data!$C$16:$K$16=Model!$K373)*(Data!$C$17:$K$19))","v":2.52},102.36,{"$f":"_xlfn.IFS(M373>70,\"Serviceable\",M373>30, \"Limited Life\",M373<=30, \"Unserviceable\")","v":"Serviceable"}]
[null,510,1980,"Wood Untreated Dressed","Serviceable","Class 1",2018,120,114.96,7,{"$f":"INDEX(Lists!$B$32:$B$40, MATCH(2020-C374, Lists!$C$32:$C$40,1))","v":"31-40"},{"$f":"SUMPRODUCT((Data!$B$17:$B$19=Model!$F374)*(Data!$C$16:$K$16=Model!$K374)*(Data!$C$17:$K$19))","v":2.52},102.36,{"$f":"_xlfn.IFS(M374>70,\"Serviceable\",M374>30, \"Limited Life\",M374<=30, \"Unserviceable\")","v":"Serviceable"}]
[null,511,1991,"Wood Untreated Dressed","Serviceable","Class 1",2018,140,136.08000000000001,7,{"$f":"INDEX(Lists!$B$32:$B$40, MATCH(2020-C375, Lists!$C$32:$C$40,1))","v":"21-30"},{"$f":"SUMPRODUCT((Data!$B$17:$B$19=Model!$F375)*(Data!$C$16:$K$16=Model!$K375)*(Data!$C$17:$K$19))","v":1.96},126.28,{"$f":"_xlfn.IFS(M375>70,\"Serviceable\",M375>30, \"Limited Life\",M375<=30, \"Unserviceable\")","v":"Serviceable"}]
[null,514,1978,"Wood Untreated Dressed","Serviceable","Class 1",2018,100,96.5,7,{"$f":"INDEX(Lists!$B$32:$B$40, MATCH(2020-C376, Lists!$C$32:$C$40,1))","v":"41-50"},{"$f":"SUMPRODUCT((Data!$B$17:$B$19=Model!$F376)*(Data!$C$16:$K$16=Model!$K376)*(Data!$C$17:$K$19))","v":1.75},87.75,{"$f":"_xlfn.IFS(M376>70,\"Serviceable\",M376>30, \"Limited Life\",M376<=30, \"Unserviceable\")","v":"Serviceable"}]
[null,518,1965,"Wood Creos Impregnated","Serviceable","Class 3",2018,90,84.54,7,{"$f":"INDEX(Lists!$B$32:$B$40, MATCH(2020-C377, Lists!$C$32:$C$40,1))","v":"51-60"},{"$f":"SUMPRODUCT((Data!$B$17:$B$19=Model!$F377)*(Data!$C$16:$K$16=Model!$K377)*(Data!$C$17:$K$19))","v":2.73},70.89,{"$f":"_xlfn.IFS(M377>70,\"Serviceable\",M377>30, \"Limited Life\",M377<=30, \"Unserviceable\")","v":"Serviceable"}]
[null,520,1963,"Wood Creos Impregnated","Serviceable","Class 3",2018,90,84.54,7,{"$f":"INDEX(Lists!$B$32:$B$40, MATCH(2020-C378, Lists!$C$32:$C$40,1))","v":"51-60"},{"$f":"SUMPRODUCT((Data!$B$17:$B$19=Model!$F378)*(Data!$C$16:$K$16=Model!$K378)*(Data!$C$17:$K$19))","v":2.73},70.89,{"$f":"_xlfn.IFS(M378>70,\"Serviceable\",M378>30, \"Limited Life\",M378<=30, \"Unserviceable\")","v":"Serviceable"}]
[null,521,1965,"Wood Creos Impregnated","Limited Life","Class 3",2018,70,64.540000000000006,7,{"$f":"INDEX(Lists!$B$32:$B$40, MATCH(2020-C379, Lists!$C$32:$C$40,1))","v":"51-60"},{"$f":"SUMPRODUCT((Data!$B$17:$B$19=Model!$F379)*(Data!$C$16:$K$16=Model!$K379)*(Data!$C$17:$K$19))","v":2.73},50.89,{"$f":"_xlfn.IFS(M379>70,\"Serviceable\",M379>30, \"Limited Life\",M379<=30, \"Unserviceable\")","v":"Limited Life"}]
[null,522,1965,"Wood Creos Impregnated","Serviceable","Class 3",2018,120,114.54,7,{"$f":"INDEX(Lists!$B$32:$B$40, MATCH(2020-C380, Lists!$C$32:$C$40,1))","v":"51-60"},{"$f":"SUMPRODUCT((Data!$B$17:$B$19=Model!$F380)*(Data!$C$16:$K$16=Model!$K380)*(Data!$C$17:$K$19))","v":2.73},100.89,{"$f":"_xlfn.IFS(M380>70,\"Serviceable\",M380>30, \"Limited Life\",M380<=30, \"Unserviceable\")","v":"Serviceable"}]
[null,523,1964,"Wood Creos Impregnated","Limited Life","Class 3",2018,70,64.540000000000006,7,{"$f":"INDEX(Lists!$B$32:$B$40, MATCH(2020-C381, Lists!$C$32:$C$40,1))","v":"51-60"},{"$f":"SUMPRODUCT((Data!$B$17:$B$19=Model!$F381)*(Data!$C$16:$K$16=Model!$K381)*(Data!$C$17:$K$19))","v":2.73},50.89,{"$f":"_xlfn.IFS(M381>70,\"Serviceable\",M381>30, \"Limited Life\",M381<=30, \"Unserviceable\")","v":"Limited Life"}]
[null,524,1980,"Wood Untreated Dressed","Serviceable","Class 1",2018,130,124.96,7,{"$f":"INDEX(Lists!$B$32:$B$40, MATCH(2020-C382, Lists!$C$32:$C$40,1))","v":"31-40"},{"$f":"SUMPRODUCT((Data!$B$17:$B$19=Model!$F382)*(Data!$C$16:$K$16=Model!$K382)*(Data!$C$17:$K$19))","v":2.52},112.36,{"$f":"_xlfn.IFS(M382>70,\"Serviceable\",M382>30, \"Limited Life\",M382<=30, \"Unserviceable\")","v":"Serviceable"}]
[null,525,1961,"Wood Creos Impregnated","Serviceable","Class 3",2018,100,94.54,7,{"$f":"INDEX(Lists!$B$32:$B$40, MATCH(2020-C383, Lists!$C$32:$C$40,1))","v":"51-60"},{"$f":"SUMPRODUCT((Data!$B$17:$B$19=Model!$F383)*(Data!$C$16:$K$16=Model!$K383)*(Data!$C$17:$K$19))","v":2.73},80.89,{"$f":"_xlfn.IFS(M383>70,\"Serviceable\",M383>30, \"Limited Life\",M383<=30, \"Unserviceable\")","v":"Serviceable"}]
[null,526,1967,"Wood Creos Impregnated","Serviceable","Class 3",2018,90,84.54,7,{"$f":"INDEX(Lists!$B$32:$B$40, MATCH(2020-C384, Lists!$C$32:$C$40,1))","v":"51-60"},{"$f":"SUMPRODUCT((Data!$B$17:$B$19=Model!$F384)*(Data!$C$16:$K$16=Model!$K384)*(Data!$C$17:$K$19))","v":2.73},70.89,{"$f":"_xlfn.IFS(M384>70,\"Serviceable\",M384>30, \"Limited Life\",M384<=30, \"Unserviceable\")","v":"Serviceable"}]
[null,527,1970,"Wood Creos Impregnated","Serviceable","Class 3",2018,100,92.44,7,{"$f":"INDEX(Lists!$B$32:$B$40, MATCH(2020-C385, Lists!$C$32:$C$40,1))","v":"41-50"},{"$f":"SUMPRODUCT((Data!$B$17:$B$19=Model!$F385)*(Data!$C$16:$K$16=Model!$K385)*(Data!$C$17:$K$19))","v":3.78},73.540000000000006,{"$f":"_xlfn.IFS(M385>70,\"Serviceable\",M385>30, \"Limited Life\",M385<=30, \"Unserviceable\")","v":"Serviceable"}]
[null,528,1967,"Wood Creos Impregnated","Serviceable","Class 3",2018,100,94.54,7,{"$f":"INDEX(Lists!$B$32:$B$40, MATCH(2020-C386, Lists!$C$32:$C$40,1))","v":"51-60"},{"$f":"SUMPRODUCT((Data!$B$17:$B$19=Model!$F386)*(Data!$C$16:$K$16=Model!$K386)*(Data!$C$17:$K$19))","v":2.73},80.89,{"$f":"_xlfn.IFS(M386>70,\"Serviceable\",M386>30, \"Limited Life\",M386<=30, \"Unserviceable\")","v":"Serviceable"}]
[null,533,1969,"Wood Creos Impregnated","Serviceable","Class 3",2018,110,104.54,7,{"$f":"INDEX(Lists!$B$32:$B$40, MATCH(2020-C387, Lists!$C$32:$C$40,1))","v":"51-60"},{"$f":"SUMPRODUCT((Data!$B$17:$B$19=Model!$F387)*(Data!$C$16:$K$16=Model!$K387)*(Data!$C$17:$K$19))","v":2.73},90.89,{"$f":"_xlfn.IFS(M387>70,\"Serviceable\",M387>30, \"Limited Life\",M387<=30, \"Unserviceable\")","v":"Serviceable"}]
[null,536,1961,"Wood Creos Impregnated","Serviceable","Class 3",2018,120,114.54,7,{"$f":"INDEX(Lists!$B$32:$B$40, MATCH(2020-C388, Lists!$C$32:$C$40,1))","v":"51-60"},{"$f":"SUMPRODUCT((Data!$B$17:$B$19=Model!$F388)*(Data!$C$16:$K$16=Model!$K388)*(Data!$C$17:$K$19))","v":2.73},100.89,{"$f":"_xlfn.IFS(M388>70,\"Serviceable\",M388>30, \"Limited Life\",M388<=30, \"Unserviceable\")","v":"Serviceable"}]
[null,537,1986,"Wood Untreated Dressed","Serviceable","Class 1",2018,100,94.96,7,{"$f":"INDEX(Lists!$B$32:$B$40, MATCH(2020-C389, Lists!$C$32:$C$40,1))","v":"31-40"},{"$f":"SUMPRODUCT((Data!$B$17:$B$19=Model!$F389)*(Data!$C$16:$K$16=Model!$K389)*(Data!$C$17:$K$19))","v":2.52},82.36,{"$f":"_xlfn.IFS(M389>70,\"Serviceable\",M389>30, \"Limited Life\",M389<=30, \"Unserviceable\")","v":"Serviceable"}]
[null,539,1967,"Wood Creos Impregnated","Serviceable","Class 3",2018,100,94.54,7,{"$f":"INDEX(Lists!$B$32:$B$40, MATCH(2020-C390, Lists!$C$32:$C$40,1))","v":"51-60"},{"$f":"SUMPRODUCT((Data!$B$17:$B$19=Model!$F390)*(Data!$C$16:$K$16=Model!$K390)*(Data!$C$17:$K$19))","v":2.73},80.89,{"$f":"_xlfn.IFS(M390>70,\"Serviceable\",M390>30, \"Limited Life\",M390<=30, \"Unserviceable\")","v":"Serviceable"}]
[null,540,1968,"Wood Creos Impregnated","Serviceable","Class 3",2018,120,114.54,7,{"$f":"INDEX(Lists!$B$32:$B$40, MATCH(2020-C391, Lists!$C$32:$C$40,1))","v":"51-60"},{"$f":"SUMPRODUCT((Data!$B$17:$B$19=Model!$F391)*(Data!$C$16:$K$16=Model!$K391)*(Data!$C$17:$K$19))","v":2.73},100.89,{"$f":"_xlfn.IFS(M391>70,\"Serviceable\",M391>30, \"Limited Life\",M391<=30, \"Unserviceable\")","v":"Serviceable"}]
[null,543,1979,"Wood Untreated Dressed","Serviceable","Class 1",2018,110,106.5,{"$f":"2025-G392","v":7},{"$f":"INDEX(Lists!$B$32:$B$40, MATCH(2020-C392, Lists!$C$32:$C$40,1))","v":"41-50"},{"$f":"SUMPRODUCT((Data!$B$17:$B$19=Model!$F392)*(Data!$C$16:$K$16=Model!$K392)*(Data!$C$17:$K$19))","v":1.75},{"$f":"IF(IF(H392>=700,999,(H392-L392*J392))<0,0,IF(H392>=700,999,(H392-L392*J392)))","v":97.75},{"$f":"_xlfn.IFS(M392>70,\"Serviceable\",M392>30, \"Limited Life\",M392<=30, \"Unserviceable\")","v":"Serviceable"}]
[null,544,1972,"Wood Creos Impregnated","Serviceable","Class 2",2016,90,76.88,9,{"$f":"INDEX(Lists!$B$32:$B$40, MATCH(2020-C393, Lists!$C$32:$C$40,1))","v":"41-50"},{"$f":"SUMPRODUCT((Data!$B$17:$B$19=Model!$F393)*(Data!$C$16:$K$16=Model!$K393)*(Data!$C$17:$K$19))","v":3.28},60.480000000000004,{"$f":"_xlfn.IFS(M393>70,\"Serviceable\",M393>30, \"Limited Life\",M393<=30, \"Unserviceable\")","v":"Limited Life"}]
[null,545,1980,"Wood Untreated Dressed","Serviceable","Class 1",2016,110,99.92,9,{"$f":"INDEX(Lists!$B$32:$B$40, MATCH(2020-C394, Lists!$C$32:$C$40,1))","v":"31-40"},{"$f":"SUMPRODUCT((Data!$B$17:$B$19=Model!$F394)*(Data!$C$16:$K$16=Model!$K394)*(Data!$C$17:$K$19))","v":2.52},87.32,{"$f":"_xlfn.IFS(M394>70,\"Serviceable\",M394>30, \"Limited Life\",M394<=30, \"Unserviceable\")","v":"Serviceable"}]
[null,547,1980,"Wood Untreated Dressed","Serviceable","Class 1",2016,130,119.92,9,{"$f":"INDEX(Lists!$B$32:$B$40, MATCH(2020-C395, Lists!$C$32:$C$40,1))","v":"31-40"},{"$f":"SUMPRODUCT((Data!$B$17:$B$19=Model!$F395)*(Data!$C$16:$K$16=Model!$K395)*(Data!$C$17:$K$19))","v":2.52},107.32,{"$f":"_xlfn.IFS(M395>70,\"Serviceable\",M395>30, \"Limited Life\",M395<=30, \"Unserviceable\")","v":"Serviceable"}]
[null,549,1972,"Wood Creos Impregnated","Serviceable","Class 3",2018,90,82.44,7,{"$f":"INDEX(Lists!$B$32:$B$40, MATCH(2020-C396, Lists!$C$32:$C$40,1))","v":"41-50"},{"$f":"SUMPRODUCT((Data!$B$17:$B$19=Model!$F396)*(Data!$C$16:$K$16=Model!$K396)*(Data!$C$17:$K$19))","v":3.78},63.540000000000006,{"$f":"_xlfn.IFS(M396>70,\"Serviceable\",M396>30, \"Limited Life\",M396<=30, \"Unserviceable\")","v":"Limited Life"}]
[null,550,1981,"Wood Untreated Dressed","Serviceable","Class 1",2018,110,104.96,7,{"$f":"INDEX(Lists!$B$32:$B$40, MATCH(2020-C397, Lists!$C$32:$C$40,1))","v":"31-40"},{"$f":"SUMPRODUCT((Data!$B$17:$B$19=Model!$F397)*(Data!$C$16:$K$16=Model!$K397)*(Data!$C$17:$K$19))","v":2.52},92.36,{"$f":"_xlfn.IFS(M397>70,\"Serviceable\",M397>30, \"Limited Life\",M397<=30, \"Unserviceable\")","v":"Serviceable"}]
[null,551,2000,"CCA Treated Pole","Serviceable","Class 2",2018,162.49719689682513,160.05719689682513,7,{"$f":"INDEX(Lists!$B$32:$B$40, MATCH(2020-C398, Lists!$C$32:$C$40,1))","v":"0-20"},{"$f":"SUMPRODUCT((Data!$B$17:$B$19=Model!$F398)*(Data!$C$16:$K$16=Model!$K398)*(Data!$C$17:$K$19))","v":1.22},153.95719689682514,{"$f":"_xlfn.IFS(M398>70,\"Serviceable\",M398>30, \"Limited Life\",M398<=30, \"Unserviceable\")","v":"Serviceable"}]
[null,553,1981,"Wood Untreated Dressed","Serviceable","Class 1",2018,130,124.96,7,{"$f":"INDEX(Lists!$B$32:$B$40, MATCH(2020-C399, Lists!$C$32:$C$40,1))","v":"31-40"},{"$f":"SUMPRODUCT((Data!$B$17:$B$19=Model!$F399)*(Data!$C$16:$K$16=Model!$K399)*(Data!$C$17:$K$19))","v":2.52},112.36,{"$f":"_xlfn.IFS(M399>70,\"Serviceable\",M399>30, \"Limited Life\",M399<=30, \"Unserviceable\")","v":"Serviceable"}]
[null,554,1968,"Wood Creos Impregnated","Serviceable","Class 3",2018,110,104.54,7,{"$f":"INDEX(Lists!$B$32:$B$40, MATCH(2020-C400, Lists!$C$32:$C$40,1))","v":"51-60"},{"$f":"SUMPRODUCT((Data!$B$17:$B$19=Model!$F400)*(Data!$C$16:$K$16=Model!$K400)*(Data!$C$17:$K$19))","v":2.73},90.89,{"$f":"_xlfn.IFS(M400>70,\"Serviceable\",M400>30, \"Limited Life\",M400<=30, \"Unserviceable\")","v":"Serviceable"}]
[null,555,2001,"CCA Treated Pole","Serviceable","Class 1",2018,150,147.88,7,{"$f":"INDEX(Lists!$B$32:$B$40, MATCH(2020-C401, Lists!$C$32:$C$40,1))","v":"0-20"},{"$f":"SUMPRODUCT((Data!$B$17:$B$19=Model!$F401)*(Data!$C$16:$K$16=Model!$K401)*(Data!$C$17:$K$19))","v":1.06},142.58000000000001,{"$f":"_xlfn.IFS(M401>70,\"Serviceable\",M401>30, \"Limited Life\",M401<=30, \"Unserviceable\")","v":"Serviceable"}]
[null,557,1971,"Wood Creos Impregnated","Serviceable","Class 3",2018,90,82.44,7,{"$f":"INDEX(Lists!$B$32:$B$40, MATCH(2020-C402, Lists!$C$32:$C$40,1))","v":"41-50"},{"$f":"SUMPRODUCT((Data!$B$17:$B$19=Model!$F402)*(Data!$C$16:$K$16=Model!$K402)*(Data!$C$17:$K$19))","v":3.78},63.540000000000006,{"$f":"_xlfn.IFS(M402>70,\"Serviceable\",M402>30, \"Limited Life\",M402<=30, \"Unserviceable\")","v":"Limited Life"}]
[null,558,1973,"Wood Creos Impregnated","Serviceable","Class 3",2018,110,102.44,7,{"$f":"INDEX(Lists!$B$32:$B$40, MATCH(2020-C403, Lists!$C$32:$C$40,1))","v":"41-50"},{"$f":"SUMPRODUCT((Data!$B$17:$B$19=Model!$F403)*(Data!$C$16:$K$16=Model!$K403)*(Data!$C$17:$K$19))","v":3.78},83.54,{"$f":"_xlfn.IFS(M403>70,\"Serviceable\",M403>30, \"Limited Life\",M403<=30, \"Unserviceable\")","v":"Serviceable"}]
[null,559,1970,"Wood Creos Impregnated","Serviceable","Class 3",2018,90,82.44,7,{"$f":"INDEX(Lists!$B$32:$B$40, MATCH(2020-C404, Lists!$C$32:$C$40,1))","v":"41-50"},{"$f":"SUMPRODUCT((Data!$B$17:$B$19=Model!$F404)*(Data!$C$16:$K$16=Model!$K404)*(Data!$C$17:$K$19))","v":3.78},63.540000000000006,{"$f":"_xlfn.IFS(M404>70,\"Serviceable\",M404>30, \"Limited Life\",M404<=30, \"Unserviceable\")","v":"Limited Life"}]
[null,560,1962,"Wood Creos Impregnated","Serviceable","Class 3",2018,80,74.540000000000006,7,{"$f":"INDEX(Lists!$B$32:$B$40, MATCH(2020-C405, Lists!$C$32:$C$40,1))","v":"51-60"},{"$f":"SUMPRODUCT((Data!$B$17:$B$19=Model!$F405)*(Data!$C$16:$K$16=Model!$K405)*(Data!$C$17:$K$19))","v":2.73},60.89,{"$f":"_xlfn.IFS(M405>70,\"Serviceable\",M405>30, \"Limited Life\",M405<=30, \"Unserviceable\")","v":"Limited Life"}]
[null,561,1988,"Wood Untreated Dressed","Serviceable","Class 1",2018,120,114.96,7,{"$f":"INDEX(Lists!$B$32:$B$40, MATCH(2020-C406, Lists!$C$32:$C$40,1))","v":"31-40"},{"$f":"SUMPRODUCT((Data!$B$17:$B$19=Model!$F406)*(Data!$C$16:$K$16=Model!$K406)*(Data!$C$17:$K$19))","v":2.52},102.36,{"$f":"_xlfn.IFS(M406>70,\"Serviceable\",M406>30, \"Limited Life\",M406<=30, \"Unserviceable\")","v":"Serviceable"}]
[null,562,1947,"Wood Untreated Dressed","Serviceable","Class 1",2018,120,115.7,7,{"$f":"INDEX(Lists!$B$32:$B$40, MATCH(2020-C407, Lists!$C$32:$C$40,1))","v":"71-80"},{"$f":"SUMPRODUCT((Data!$B$17:$B$19=Model!$F407)*(Data!$C$16:$K$16=Model!$K407)*(Data!$C$17:$K$19))","v":2.15},104.95,{"$f":"_xlfn.IFS(M407>70,\"Serviceable\",M407>30, \"Limited Life\",M407<=30, \"Unserviceable\")","v":"Serviceable"}]
[null,566,1973,"Wood Untreated Dressed","Serviceable","Class 1",2018,120,116.5,7,{"$f":"INDEX(Lists!$B$32:$B$40, MATCH(2020-C408, Lists!$C$32:$C$40,1))","v":"41-50"},{"$f":"SUMPRODUCT((Data!$B$17:$B$19=Model!$F408)*(Data!$C$16:$K$16=Model!$K408)*(Data!$C$17:$K$19))","v":1.75},107.75,{"$f":"_xlfn.IFS(M408>70,\"Serviceable\",M408>30, \"Limited Life\",M408<=30, \"Unserviceable\")","v":"Serviceable"}]
[null,569,1981,"Wood Untreated Dressed","Serviceable","Class 1",2018,100,94.96,7,{"$f":"INDEX(Lists!$B$32:$B$40, MATCH(2020-C409, Lists!$C$32:$C$40,1))","v":"31-40"},{"$f":"SUMPRODUCT((Data!$B$17:$B$19=Model!$F409)*(Data!$C$16:$K$16=Model!$K409)*(Data!$C$17:$K$19))","v":2.52},82.36,{"$f":"_xlfn.IFS(M409>70,\"Serviceable\",M409>30, \"Limited Life\",M409<=30, \"Unserviceable\")","v":"Serviceable"}]
[null,570,1968,"Wood Creos Impregnated","Serviceable","Class 3",2018,100,94.54,7,{"$f":"INDEX(Lists!$B$32:$B$40, MATCH(2020-C410, Lists!$C$32:$C$40,1))","v":"51-60"},{"$f":"SUMPRODUCT((Data!$B$17:$B$19=Model!$F410)*(Data!$C$16:$K$16=Model!$K410)*(Data!$C$17:$K$19))","v":2.73},80.89,{"$f":"_xlfn.IFS(M410>70,\"Serviceable\",M410>30, \"Limited Life\",M410<=30, \"Unserviceable\")","v":"Serviceable"}]
[null,572,2007,"CCA Treated Pole","Serviceable","Class 2",2018,100,97.56,7,{"$f":"INDEX(Lists!$B$32:$B$40, MATCH(2020-C411, Lists!$C$32:$C$40,1))","v":"0-20"},{"$f":"SUMPRODUCT((Data!$B$17:$B$19=Model!$F411)*(Data!$C$16:$K$16=Model!$K411)*(Data!$C$17:$K$19))","v":1.22},91.460000000000008,{"$f":"_xlfn.IFS(M411>70,\"Serviceable\",M411>30, \"Limited Life\",M411<=30, \"Unserviceable\")","v":"Serviceable"}]
[null,574,1975,"Wood Creos Impregnated","Serviceable","Class 1",2018,100,96.5,7,{"$f":"INDEX(Lists!$B$32:$B$40, MATCH(2020-C412, Lists!$C$32:$C$40,1))","v":"41-50"},{"$f":"SUMPRODUCT((Data!$B$17:$B$19=Model!$F412)*(Data!$C$16:$K$16=Model!$K412)*(Data!$C$17:$K$19))","v":1.75},87.75,{"$f":"_xlfn.IFS(M412>70,\"Serviceable\",M412>30, \"Limited Life\",M412<=30, \"Unserviceable\")","v":"Serviceable"}]
[null,576,1950,"Wood Untreated Round","Serviceable","Class 1",2018,100,95.94,7,{"$f":"INDEX(Lists!$B$32:$B$40, MATCH(2020-C413, Lists!$C$32:$C$40,1))","v":"61-70"},{"$f":"SUMPRODUCT((Data!$B$17:$B$19=Model!$F413)*(Data!$C$16:$K$16=Model!$K413)*(Data!$C$17:$K$19))","v":2.0299999999999998},85.79,{"$f":"_xlfn.IFS(M413>70,\"Serviceable\",M413>30, \"Limited Life\",M413<=30, \"Unserviceable\")","v":"Serviceable"}]
[null,577,1972,"Wood Creos Impregnated","Serviceable","Class 3",2018,100,92.44,7,{"$f":"INDEX(Lists!$B$32:$B$40, MATCH(2020-C414, Lists!$C$32:$C$40,1))","v":"41-50"},{"$f":"SUMPRODUCT((Data!$B$17:$B$19=Model!$F414)*(Data!$C$16:$K$16=Model!$K414)*(Data!$C$17:$K$19))","v":3.78},73.540000000000006,{"$f":"_xlfn.IFS(M414>70,\"Serviceable\",M414>30, \"Limited Life\",M414<=30, \"Unserviceable\")","v":"Serviceable"}]
[null,578,1978,"Wood Untreated Dressed","Serviceable","Class 1",2018,100,96.5,7,{"$f":"INDEX(Lists!$B$32:$B$40, MATCH(2020-C415, Lists!$C$32:$C$40,1))","v":"41-50"},{"$f":"SUMPRODUCT((Data!$B$17:$B$19=Model!$F415)*(Data!$C$16:$K$16=Model!$K415)*(Data!$C$17:$K$19))","v":1.75},87.75,{"$f":"_xlfn.IFS(M415>70,\"Serviceable\",M415>30, \"Limited Life\",M415<=30, \"Unserviceable\")","v":"Serviceable"}]
[null,579,1970,"Wood Creos Impregnated","Serviceable","Class 3",2018,110,102.44,7,{"$f":"INDEX(Lists!$B$32:$B$40, MATCH(2020-C416, Lists!$C$32:$C$40,1))","v":"41-50"},{"$f":"SUMPRODUCT((Data!$B$17:$B$19=Model!$F416)*(Data!$C$16:$K$16=Model!$K416)*(Data!$C$17:$K$19))","v":3.78},83.54,{"$f":"_xlfn.IFS(M416>70,\"Serviceable\",M416>30, \"Limited Life\",M416<=30, \"Unserviceable\")","v":"Serviceable"}]
[null,580,1993,"Wood Untreated Dressed","Serviceable","Class 1",2018,120,116.08,7,{"$f":"INDEX(Lists!$B$32:$B$40, MATCH(2020-C417, Lists!$C$32:$C$40,1))","v":"21-30"},{"$f":"SUMPRODUCT((Data!$B$17:$B$19=Model!$F417)*(Data!$C$16:$K$16=Model!$K417)*(Data!$C$17:$K$19))","v":1.96},106.28,{"$f":"_xlfn.IFS(M417>70,\"Serviceable\",M417>30, \"Limited Life\",M417<=30, \"Unserviceable\")","v":"Serviceable"}]
[null,581,1986,"Wood Untreated Dressed","Serviceable","Class 1",2018,90,84.96,7,{"$f":"INDEX(Lists!$B$32:$B$40, MATCH(2020-C418, Lists!$C$32:$C$40,1))","v":"31-40"},{"$f":"SUMPRODUCT((Data!$B$17:$B$19=Model!$F418)*(Data!$C$16:$K$16=Model!$K418)*(Data!$C$17:$K$19))","v":2.52},72.36,{"$f":"_xlfn.IFS(M418>70,\"Serviceable\",M418>30, \"Limited Life\",M418<=30, \"Unserviceable\")","v":"Serviceable"}]
[null,583,1964,"Wood Creos Impregnated","Serviceable","Class 3",2018,120,114.54,7,{"$f":"INDEX(Lists!$B$32:$B$40, MATCH(2020-C419, Lists!$C$32:$C$40,1))","v":"51-60"},{"$f":"SUMPRODUCT((Data!$B$17:$B$19=Model!$F419)*(Data!$C$16:$K$16=Model!$K419)*(Data!$C$17:$K$19))","v":2.73},100.89,{"$f":"_xlfn.IFS(M419>70,\"Serviceable\",M419>30, \"Limited Life\",M419<=30, \"Unserviceable\")","v":"Serviceable"}]
[null,586,1986,"Wood Untreated Dressed","Serviceable","Class 1",2018,100,94.96,7,{"$f":"INDEX(Lists!$B$32:$B$40, MATCH(2020-C420, Lists!$C$32:$C$40,1))","v":"31-40"},{"$f":"SUMPRODUCT((Data!$B$17:$B$19=Model!$F420)*(Data!$C$16:$K$16=Model!$K420)*(Data!$C$17:$K$19))","v":2.52},82.36,{"$f":"_xlfn.IFS(M420>70,\"Serviceable\",M420>30, \"Limited Life\",M420<=30, \"Unserviceable\")","v":"Serviceable"}]
[null,589,1967,"Wood Creos Impregnated","Serviceable","Class 3",2018,90,84.54,7,{"$f":"INDEX(Lists!$B$32:$B$40, MATCH(2020-C421, Lists!$C$32:$C$40,1))","v":"51-60"},{"$f":"SUMPRODUCT((Data!$B$17:$B$19=Model!$F421)*(Data!$C$16:$K$16=Model!$K421)*(Data!$C$17:$K$19))","v":2.73},70.89,{"$f":"_xlfn.IFS(M421>70,\"Serviceable\",M421>30, \"Limited Life\",M421<=30, \"Unserviceable\")","v":"Serviceable"}]
[null,592,1979,"Wood Untreated Dressed","Serviceable","Class 1",2018,100,96.5,7,{"$f":"INDEX(Lists!$B$32:$B$40, MATCH(2020-C422, Lists!$C$32:$C$40,1))","v":"41-50"},{"$f":"SUMPRODUCT((Data!$B$17:$B$19=Model!$F422)*(Data!$C$16:$K$16=Model!$K422)*(Data!$C$17:$K$19))","v":1.75},87.75,{"$f":"_xlfn.IFS(M422>70,\"Serviceable\",M422>30, \"Limited Life\",M422<=30, \"Unserviceable\")","v":"Serviceable"}]
[null,593,1938,"Wood Untreated Dressed","Serviceable","Class 1",2018,100,94.38,7,{"$f":"INDEX(Lists!$B$32:$B$40, MATCH(2020-C423, Lists!$C$32:$C$40,1))","v":"81-90"},{"$f":"SUMPRODUCT((Data!$B$17:$B$19=Model!$F423)*(Data!$C$16:$K$16=Model!$K423)*(Data!$C$17:$K$19))","v":2.81},80.33,{"$f":"_xlfn.IFS(M423>70,\"Serviceable\",M423>30, \"Limited Life\",M423<=30, \"Unserviceable\")","v":"Serviceable"}]
[null,597,1933,"Wood Untreated Round","Serviceable","Class 1",2018,110,104.38,7,{"$f":"INDEX(Lists!$B$32:$B$40, MATCH(2020-C424, Lists!$C$32:$C$40,1))","v":"81-90"},{"$f":"SUMPRODUCT((Data!$B$17:$B$19=Model!$F424)*(Data!$C$16:$K$16=Model!$K424)*(Data!$C$17:$K$19))","v":2.81},90.33,{"$f":"_xlfn.IFS(M424>70,\"Serviceable\",M424>30, \"Limited Life\",M424<=30, \"Unserviceable\")","v":"Serviceable"}]
[null,599,1971,"Wood Creos Impregnated","Serviceable","Class 3",2018,80,72.44,7,{"$f":"INDEX(Lists!$B$32:$B$40, MATCH(2020-C425, Lists!$C$32:$C$40,1))","v":"41-50"},{"$f":"SUMPRODUCT((Data!$B$17:$B$19=Model!$F425)*(Data!$C$16:$K$16=Model!$K425)*(Data!$C$17:$K$19))","v":3.78},53.540000000000006,{"$f":"_xlfn.IFS(M425>70,\"Serviceable\",M425>30, \"Limited Life\",M425<=30, \"Unserviceable\")","v":"Limited Life"}]
[null,600,1980,"Wood Untreated Dressed","Serviceable","Class 1",2018,110,104.96,7,{"$f":"INDEX(Lists!$B$32:$B$40, MATCH(2020-C426, Lists!$C$32:$C$40,1))","v":"31-40"},{"$f":"SUMPRODUCT((Data!$B$17:$B$19=Model!$F426)*(Data!$C$16:$K$16=Model!$K426)*(Data!$C$17:$K$19))","v":2.52},92.36,{"$f":"_xlfn.IFS(M426>70,\"Serviceable\",M426>30, \"Limited Life\",M426<=30, \"Unserviceable\")","v":"Serviceable"}]
[null,601,1983,"Wood Untreated Dressed","Serviceable","Class 1",2018,80,74.959999999999994,7,{"$f":"INDEX(Lists!$B$32:$B$40, MATCH(2020-C427, Lists!$C$32:$C$40,1))","v":"31-40"},{"$f":"SUMPRODUCT((Data!$B$17:$B$19=Model!$F427)*(Data!$C$16:$K$16=Model!$K427)*(Data!$C$17:$K$19))","v":2.52},62.36,{"$f":"_xlfn.IFS(M427>70,\"Serviceable\",M427>30, \"Limited Life\",M427<=30, \"Unserviceable\")","v":"Limited Life"}]
[null,602,1961,"Wood Creos Impregnated","Serviceable","Class 3",2018,80,74.540000000000006,7,{"$f":"INDEX(Lists!$B$32:$B$40, MATCH(2020-C428, Lists!$C$32:$C$40,1))","v":"51-60"},{"$f":"SUMPRODUCT((Data!$B$17:$B$19=Model!$F428)*(Data!$C$16:$K$16=Model!$K428)*(Data!$C$17:$K$19))","v":2.73},60.89,{"$f":"_xlfn.IFS(M428>70,\"Serviceable\",M428>30, \"Limited Life\",M428<=30, \"Unserviceable\")","v":"Limited Life"}]
[null,605,1964,"Wood Creos Impregnated","Serviceable","Class 3",2017,90,81.81,8,{"$f":"INDEX(Lists!$B$32:$B$40, MATCH(2020-C429, Lists!$C$32:$C$40,1))","v":"51-60"},{"$f":"SUMPRODUCT((Data!$B$17:$B$19=Model!$F429)*(Data!$C$16:$K$16=Model!$K429)*(Data!$C$17:$K$19))","v":2.73},68.16,{"$f":"_xlfn.IFS(M429>70,\"Serviceable\",M429>30, \"Limited Life\",M429<=30, \"Unserviceable\")","v":"Limited Life"}]
[null,608,1980,"Wood Untreated Dressed","Serviceable","Class 1",2018,100,94.96,7,{"$f":"INDEX(Lists!$B$32:$B$40, MATCH(2020-C430, Lists!$C$32:$C$40,1))","v":"31-40"},{"$f":"SUMPRODUCT((Data!$B$17:$B$19=Model!$F430)*(Data!$C$16:$K$16=Model!$K430)*(Data!$C$17:$K$19))","v":2.52},82.36,{"$f":"_xlfn.IFS(M430>70,\"Serviceable\",M430>30, \"Limited Life\",M430<=30, \"Unserviceable\")","v":"Serviceable"}]
[null,609,1981,"Wood Untreated Dressed","Serviceable","Class 1",2018,130,124.96,7,{"$f":"INDEX(Lists!$B$32:$B$40, MATCH(2020-C431, Lists!$C$32:$C$40,1))","v":"31-40"},{"$f":"SUMPRODUCT((Data!$B$17:$B$19=Model!$F431)*(Data!$C$16:$K$16=Model!$K431)*(Data!$C$17:$K$19))","v":2.52},112.36,{"$f":"_xlfn.IFS(M431>70,\"Serviceable\",M431>30, \"Limited Life\",M431<=30, \"Unserviceable\")","v":"Serviceable"}]
[null,619,2003,"CCA Treated Pole","Serviceable","Class 2",2017,150,146.34,8,{"$f":"INDEX(Lists!$B$32:$B$40, MATCH(2020-C432, Lists!$C$32:$C$40,1))","v":"0-20"},{"$f":"SUMPRODUCT((Data!$B$17:$B$19=Model!$F432)*(Data!$C$16:$K$16=Model!$K432)*(Data!$C$17:$K$19))","v":1.22},140.24,{"$f":"_xlfn.IFS(M432>70,\"Serviceable\",M432>30, \"Limited Life\",M432<=30, \"Unserviceable\")","v":"Serviceable"}]
[null,620,1970,"Wood Creos Impregnated","Serviceable","Class 3",2017,90,78.66,8,{"$f":"INDEX(Lists!$B$32:$B$40, MATCH(2020-C433, Lists!$C$32:$C$40,1))","v":"41-50"},{"$f":"SUMPRODUCT((Data!$B$17:$B$19=Model!$F433)*(Data!$C$16:$K$16=Model!$K433)*(Data!$C$17:$K$19))","v":3.78},59.760000000000005,{"$f":"_xlfn.IFS(M433>70,\"Serviceable\",M433>30, \"Limited Life\",M433<=30, \"Unserviceable\")","v":"Limited Life"}]
[null,621,2002,"CCA Treated Pole","Serviceable","Class 2",2017,150,146.34,8,{"$f":"INDEX(Lists!$B$32:$B$40, MATCH(2020-C434, Lists!$C$32:$C$40,1))","v":"0-20"},{"$f":"SUMPRODUCT((Data!$B$17:$B$19=Model!$F434)*(Data!$C$16:$K$16=Model!$K434)*(Data!$C$17:$K$19))","v":1.22},140.24,{"$f":"_xlfn.IFS(M434>70,\"Serviceable\",M434>30, \"Limited Life\",M434<=30, \"Unserviceable\")","v":"Serviceable"}]
[null,622,1937,"Wood Untreated Dressed","Serviceable","Class 1",2017,100,91.57,8,{"$f":"INDEX(Lists!$B$32:$B$40, MATCH(2020-C435, Lists!$C$32:$C$40,1))","v":"81-90"},{"$f":"SUMPRODUCT((Data!$B$17:$B$19=Model!$F435)*(Data!$C$16:$K$16=Model!$K435)*(Data!$C$17:$K$19))","v":2.81},77.52,{"$f":"_xlfn.IFS(M435>70,\"Serviceable\",M435>30, \"Limited Life\",M435<=30, \"Unserviceable\")","v":"Serviceable"}]
[null,623,2008,"CCA Treated Pole","Serviceable","Class 2",2017,162.49719689682513,158.83719689682513,8,{"$f":"INDEX(Lists!$B$32:$B$40, MATCH(2020-C436, Lists!$C$32:$C$40,1))","v":"0-20"},{"$f":"SUMPRODUCT((Data!$B$17:$B$19=Model!$F436)*(Data!$C$16:$K$16=Model!$K436)*(Data!$C$17:$K$19))","v":1.22},152.73719689682514,{"$f":"_xlfn.IFS(M436>70,\"Serviceable\",M436>30, \"Limited Life\",M436<=30, \"Unserviceable\")","v":"Serviceable"}]
[null,624,2003,"CCA Treated Pole","Serviceable","Class 1",2017,166.31691553103065,163.13691553103064,8,{"$f":"INDEX(Lists!$B$32:$B$40, MATCH(2020-C437, Lists!$C$32:$C$40,1))","v":"0-20"},{"$f":"SUMPRODUCT((Data!$B$17:$B$19=Model!$F437)*(Data!$C$16:$K$16=Model!$K437)*(Data!$C$17:$K$19))","v":1.06},157.83691553103066,{"$f":"_xlfn.IFS(M437>70,\"Serviceable\",M437>30, \"Limited Life\",M437<=30, \"Unserviceable\")","v":"Serviceable"}]
[null,625,1981,"Wood Untreated Dressed","Serviceable","Class 1",2018,130,124.96,7,{"$f":"INDEX(Lists!$B$32:$B$40, MATCH(2020-C438, Lists!$C$32:$C$40,1))","v":"31-40"},{"$f":"SUMPRODUCT((Data!$B$17:$B$19=Model!$F438)*(Data!$C$16:$K$16=Model!$K438)*(Data!$C$17:$K$19))","v":2.52},112.36,{"$f":"_xlfn.IFS(M438>70,\"Serviceable\",M438>30, \"Limited Life\",M438<=30, \"Unserviceable\")","v":"Serviceable"}]
[null,626,1981,"Wood Untreated Dressed","Serviceable","Class 1",2017,110,102.44,8,{"$f":"INDEX(Lists!$B$32:$B$40, MATCH(2020-C439, Lists!$C$32:$C$40,1))","v":"31-40"},{"$f":"SUMPRODUCT((Data!$B$17:$B$19=Model!$F439)*(Data!$C$16:$K$16=Model!$K439)*(Data!$C$17:$K$19))","v":2.52},89.84,{"$f":"_xlfn.IFS(M439>70,\"Serviceable\",M439>30, \"Limited Life\",M439<=30, \"Unserviceable\")","v":"Serviceable"}]
[null,627,1981,"Wood Untreated Dressed","Serviceable","Class 1",2017,120,112.44,8,{"$f":"INDEX(Lists!$B$32:$B$40, MATCH(2020-C440, Lists!$C$32:$C$40,1))","v":"31-40"},{"$f":"SUMPRODUCT((Data!$B$17:$B$19=Model!$F440)*(Data!$C$16:$K$16=Model!$K440)*(Data!$C$17:$K$19))","v":2.52},99.84,{"$f":"_xlfn.IFS(M440>70,\"Serviceable\",M440>30, \"Limited Life\",M440<=30, \"Unserviceable\")","v":"Serviceable"}]
[null,628,1981,"Wood Untreated Dressed","Serviceable","Class 1",2017,100,92.44,8,{"$f":"INDEX(Lists!$B$32:$B$40, MATCH(2020-C441, Lists!$C$32:$C$40,1))","v":"31-40"},{"$f":"SUMPRODUCT((Data!$B$17:$B$19=Model!$F441)*(Data!$C$16:$K$16=Model!$K441)*(Data!$C$17:$K$19))","v":2.52},79.84,{"$f":"_xlfn.IFS(M441>70,\"Serviceable\",M441>30, \"Limited Life\",M441<=30, \"Unserviceable\")","v":"Serviceable"}]
[null,629,1967,"Wood Creos Impregnated","Limited Life","Class 3",2018,70,64.540000000000006,7,{"$f":"INDEX(Lists!$B$32:$B$40, MATCH(2020-C442, Lists!$C$32:$C$40,1))","v":"51-60"},{"$f":"SUMPRODUCT((Data!$B$17:$B$19=Model!$F442)*(Data!$C$16:$K$16=Model!$K442)*(Data!$C$17:$K$19))","v":2.73},50.89,{"$f":"_xlfn.IFS(M442>70,\"Serviceable\",M442>30, \"Limited Life\",M442<=30, \"Unserviceable\")","v":"Limited Life"}]
[null,630,1971,"Wood Creos Impregnated","Serviceable","Class 3",2018,90,82.44,7,{"$f":"INDEX(Lists!$B$32:$B$40, MATCH(2020-C443, Lists!$C$32:$C$40,1))","v":"41-50"},{"$f":"SUMPRODUCT((Data!$B$17:$B$19=Model!$F443)*(Data!$C$16:$K$16=Model!$K443)*(Data!$C$17:$K$19))","v":3.78},63.540000000000006,{"$f":"_xlfn.IFS(M443>70,\"Serviceable\",M443>30, \"Limited Life\",M443<=30, \"Unserviceable\")","v":"Limited Life"}]
[null,631,1941,"Wood Untreated Dressed","Serviceable","Class 1",2018,110,105.7,7,{"$f":"INDEX(Lists!$B$32:$B$40, MATCH(2020-C444, Lists!$C$32:$C$40,1))","v":"71-80"},{"$f":"SUMPRODUCT((Data!$B$17:$B$19=Model!$F444)*(Data!$C$16:$K$16=Model!$K444)*(Data!$C$17:$K$19))","v":2.15},94.95,{"$f":"_xlfn.IFS(M444>70,\"Serviceable\",M444>30, \"Limited Life\",M444<=30, \"Unserviceable\")","v":"Serviceable"}]
[null,632,1982,"Wood Untreated Dressed","Serviceable","Class 1",2018,110,104.96,7,{"$f":"INDEX(Lists!$B$32:$B$40, MATCH(2020-C445, Lists!$C$32:$C$40,1))","v":"31-40"},{"$f":"SUMPRODUCT((Data!$B$17:$B$19=Model!$F445)*(Data!$C$16:$K$16=Model!$K445)*(Data!$C$17:$K$19))","v":2.52},92.36,{"$f":"_xlfn.IFS(M445>70,\"Serviceable\",M445>30, \"Limited Life\",M445<=30, \"Unserviceable\")","v":"Serviceable"}]
[null,633,1982,"Wood Untreated Dressed","Serviceable","Class 1",2018,110,104.96,7,{"$f":"INDEX(Lists!$B$32:$B$40, MATCH(2020-C446, Lists!$C$32:$C$40,1))","v":"31-40"},{"$f":"SUMPRODUCT((Data!$B$17:$B$19=Model!$F446)*(Data!$C$16:$K$16=Model!$K446)*(Data!$C$17:$K$19))","v":2.52},92.36,{"$f":"_xlfn.IFS(M446>70,\"Serviceable\",M446>30, \"Limited Life\",M446<=30, \"Unserviceable\")","v":"Serviceable"}]
[null,634,1982,"Wood Untreated Dressed","Serviceable","Class 1",2018,110,104.96,7,{"$f":"INDEX(Lists!$B$32:$B$40, MATCH(2020-C447, Lists!$C$32:$C$40,1))","v":"31-40"},{"$f":"SUMPRODUCT((Data!$B$17:$B$19=Model!$F447)*(Data!$C$16:$K$16=Model!$K447)*(Data!$C$17:$K$19))","v":2.52},92.36,{"$f":"_xlfn.IFS(M447>70,\"Serviceable\",M447>30, \"Limited Life\",M447<=30, \"Unserviceable\")","v":"Serviceable"}]
[null,636,1978,"Wood Untreated Dressed","Serviceable","Class 1",2018,130,126.5,7,{"$f":"INDEX(Lists!$B$32:$B$40, MATCH(2020-C448, Lists!$C$32:$C$40,1))","v":"41-50"},{"$f":"SUMPRODUCT((Data!$B$17:$B$19=Model!$F448)*(Data!$C$16:$K$16=Model!$K448)*(Data!$C$17:$K$19))","v":1.75},117.75,{"$f":"_xlfn.IFS(M448>70,\"Serviceable\",M448>30, \"Limited Life\",M448<=30, \"Unserviceable\")","v":"Serviceable"}]
[null,637,1982,"Wood Untreated Dressed","Serviceable","Class 1",2018,110,104.96,7,{"$f":"INDEX(Lists!$B$32:$B$40, MATCH(2020-C449, Lists!$C$32:$C$40,1))","v":"31-40"},{"$f":"SUMPRODUCT((Data!$B$17:$B$19=Model!$F449)*(Data!$C$16:$K$16=Model!$K449)*(Data!$C$17:$K$19))","v":2.52},92.36,{"$f":"_xlfn.IFS(M449>70,\"Serviceable\",M449>30, \"Limited Life\",M449<=30, \"Unserviceable\")","v":"Serviceable"}]
[null,638,1932,"Wood Untreated Round","Serviceable","Class 1",2018,90,84.38,7,{"$f":"INDEX(Lists!$B$32:$B$40, MATCH(2020-C450, Lists!$C$32:$C$40,1))","v":"81-90"},{"$f":"SUMPRODUCT((Data!$B$17:$B$19=Model!$F450)*(Data!$C$16:$K$16=Model!$K450)*(Data!$C$17:$K$19))","v":2.81},70.33,{"$f":"_xlfn.IFS(M450>70,\"Serviceable\",M450>30, \"Limited Life\",M450<=30, \"Unserviceable\")","v":"Serviceable"}]
[null,639,1956,"Wood Untreated Dressed","Limited Life","Class 1",2018,70,65.94,7,{"$f":"INDEX(Lists!$B$32:$B$40, MATCH(2020-C451, Lists!$C$32:$C$40,1))","v":"61-70"},{"$f":"SUMPRODUCT((Data!$B$17:$B$19=Model!$F451)*(Data!$C$16:$K$16=Model!$K451)*(Data!$C$17:$K$19))","v":2.0299999999999998},55.79,{"$f":"_xlfn.IFS(M451>70,\"Serviceable\",M451>30, \"Limited Life\",M451<=30, \"Unserviceable\")","v":"Limited Life"}]
[null,640,1932,"Wood Untreated Round","Serviceable","Class 1",2018,110,104.38,7,{"$f":"INDEX(Lists!$B$32:$B$40, MATCH(2020-C452, Lists!$C$32:$C$40,1))","v":"81-90"},{"$f":"SUMPRODUCT((Data!$B$17:$B$19=Model!$F452)*(Data!$C$16:$K$16=Model!$K452)*(Data!$C$17:$K$19))","v":2.81},90.33,{"$f":"_xlfn.IFS(M452>70,\"Serviceable\",M452>30, \"Limited Life\",M452<=30, \"Unserviceable\")","v":"Serviceable"}]
[null,642,1958,"Wood Creos Impregnated","Serviceable","Class 3",2018,90,85.96,7,{"$f":"INDEX(Lists!$B$32:$B$40, MATCH(2020-C453, Lists!$C$32:$C$40,1))","v":"61-70"},{"$f":"SUMPRODUCT((Data!$B$17:$B$19=Model!$F453)*(Data!$C$16:$K$16=Model!$K453)*(Data!$C$17:$K$19))","v":2.02},75.86,{"$f":"_xlfn.IFS(M453>70,\"Serviceable\",M453>30, \"Limited Life\",M453<=30, \"Unserviceable\")","v":"Serviceable"}]
[null,643,2007,"CCA Treated Pole","Serviceable","Class 1",2017,150,146.82,8,{"$f":"INDEX(Lists!$B$32:$B$40, MATCH(2020-C454, Lists!$C$32:$C$40,1))","v":"0-20"},{"$f":"SUMPRODUCT((Data!$B$17:$B$19=Model!$F454)*(Data!$C$16:$K$16=Model!$K454)*(Data!$C$17:$K$19))","v":1.06},141.52000000000001,{"$f":"_xlfn.IFS(M454>70,\"Serviceable\",M454>30, \"Limited Life\",M454<=30, \"Unserviceable\")","v":"Serviceable"}]
[null,644,2002,"CCA Treated Pole","Serviceable","Class 2",2017,150,146.34,8,{"$f":"INDEX(Lists!$B$32:$B$40, MATCH(2020-C455, Lists!$C$32:$C$40,1))","v":"0-20"},{"$f":"SUMPRODUCT((Data!$B$17:$B$19=Model!$F455)*(Data!$C$16:$K$16=Model!$K455)*(Data!$C$17:$K$19))","v":1.22},140.24,{"$f":"_xlfn.IFS(M455>70,\"Serviceable\",M455>30, \"Limited Life\",M455<=30, \"Unserviceable\")","v":"Serviceable"}]
[null,645,1969,"Wood Creos Impregnated","Serviceable","Class 3",2017,100,91.81,{"$f":"2025-G456","v":8},{"$f":"INDEX(Lists!$B$32:$B$40, MATCH(2020-C456, Lists!$C$32:$C$40,1))","v":"51-60"},{"$f":"SUMPRODUCT((Data!$B$17:$B$19=Model!$F456)*(Data!$C$16:$K$16=Model!$K456)*(Data!$C$17:$K$19))","v":2.73},{"$f":"IF(IF(H456>=700,999,(H456-L456*J456))<0,0,IF(H456>=700,999,(H456-L456*J456)))","v":78.16},{"$f":"_xlfn.IFS(M456>70,\"Serviceable\",M456>30, \"Limited Life\",M456<=30, \"Unserviceable\")","v":"Serviceable"}]
[null,646,1935,"Wood Untreated Dressed","Serviceable","Class 1",2017,100,91.57,8,{"$f":"INDEX(Lists!$B$32:$B$40, MATCH(2020-C457, Lists!$C$32:$C$40,1))","v":"81-90"},{"$f":"SUMPRODUCT((Data!$B$17:$B$19=Model!$F457)*(Data!$C$16:$K$16=Model!$K457)*(Data!$C$17:$K$19))","v":2.81},77.52,{"$f":"_xlfn.IFS(M457>70,\"Serviceable\",M457>30, \"Limited Life\",M457<=30, \"Unserviceable\")","v":"Serviceable"}]
[null,647,1939,"Wood Untreated Dressed","Serviceable","Class 1",2017,100,91.57,8,{"$f":"INDEX(Lists!$B$32:$B$40, MATCH(2020-C458, Lists!$C$32:$C$40,1))","v":"81-90"},{"$f":"SUMPRODUCT((Data!$B$17:$B$19=Model!$F458)*(Data!$C$16:$K$16=Model!$K458)*(Data!$C$17:$K$19))","v":2.81},77.52,{"$f":"_xlfn.IFS(M458>70,\"Serviceable\",M458>30, \"Limited Life\",M458<=30, \"Unserviceable\")","v":"Serviceable"}]
[null,648,2003,"CCA Treated Pole","Serviceable","Class 2",2017,150,146.34,8,{"$f":"INDEX(Lists!$B$32:$B$40, MATCH(2020-C459, Lists!$C$32:$C$40,1))","v":"0-20"},{"$f":"SUMPRODUCT((Data!$B$17:$B$19=Model!$F459)*(Data!$C$16:$K$16=Model!$K459)*(Data!$C$17:$K$19))","v":1.22},140.24,{"$f":"_xlfn.IFS(M459>70,\"Serviceable\",M459>30, \"Limited Life\",M459<=30, \"Unserviceable\")","v":"Serviceable"}]
[null,649,1935,"Wood Untreated Dressed","Serviceable","Class 1",2017,90,81.569999999999993,8,{"$f":"INDEX(Lists!$B$32:$B$40, MATCH(2020-C460, Lists!$C$32:$C$40,1))","v":"81-90"},{"$f":"SUMPRODUCT((Data!$B$17:$B$19=Model!$F460)*(Data!$C$16:$K$16=Model!$K460)*(Data!$C$17:$K$19))","v":2.81},67.52,{"$f":"_xlfn.IFS(M460>70,\"Serviceable\",M460>30, \"Limited Life\",M460<=30, \"Unserviceable\")","v":"Limited Life"}]
[null,650,1983,"Wood Untreated Dressed","Serviceable","Class 1",2017,120,112.44,8,{"$f":"INDEX(Lists!$B$32:$B$40, MATCH(2020-C461, Lists!$C$32:$C$40,1))","v":"31-40"},{"$f":"SUMPRODUCT((Data!$B$17:$B$19=Model!$F461)*(Data!$C$16:$K$16=Model!$K461)*(Data!$C$17:$K$19))","v":2.52},99.84,{"$f":"_xlfn.IFS(M461>70,\"Serviceable\",M461>30, \"Limited Life\",M461<=30, \"Unserviceable\")","v":"Serviceable"}]
[null,652,2009,"CCA Treated Pole","Serviceable","Class 2",2018,150,147.56,7,{"$f":"INDEX(Lists!$B$32:$B$40, MATCH(2020-C462, Lists!$C$32:$C$40,1))","v":"0-20"},{"$f":"SUMPRODUCT((Data!$B$17:$B$19=Model!$F462)*(Data!$C$16:$K$16=Model!$K462)*(Data!$C$17:$K$19))","v":1.22},141.46,{"$f":"_xlfn.IFS(M462>70,\"Serviceable\",M462>30, \"Limited Life\",M462<=30, \"Unserviceable\")","v":"Serviceable"}]
[null,653,1984,"Wood Untreated Dressed","Serviceable","Class 1",2020,120,120,5,{"$f":"INDEX(Lists!$B$32:$B$40, MATCH(2020-C463, Lists!$C$32:$C$40,1))","v":"31-40"},{"$f":"SUMPRODUCT((Data!$B$17:$B$19=Model!$F463)*(Data!$C$16:$K$16=Model!$K463)*(Data!$C$17:$K$19))","v":2.52},107.4,{"$f":"_xlfn.IFS(M463>70,\"Serviceable\",M463>30, \"Limited Life\",M463<=30, \"Unserviceable\")","v":"Serviceable"}]
[null,654,2010,"CCA Treated Pole","Serviceable","Class 2",2018,162.49719689682513,160.05719689682513,7,{"$f":"INDEX(Lists!$B$32:$B$40, MATCH(2020-C464, Lists!$C$32:$C$40,1))","v":"0-20"},{"$f":"SUMPRODUCT((Data!$B$17:$B$19=Model!$F464)*(Data!$C$16:$K$16=Model!$K464)*(Data!$C$17:$K$19))","v":1.22},153.95719689682514,{"$f":"_xlfn.IFS(M464>70,\"Serviceable\",M464>30, \"Limited Life\",M464<=30, \"Unserviceable\")","v":"Serviceable"}]
[null,656,1982,"Wood Untreated Dressed","Serviceable","Class 1",2020,100,100,5,{"$f":"INDEX(Lists!$B$32:$B$40, MATCH(2020-C465, Lists!$C$32:$C$40,1))","v":"31-40"},{"$f":"SUMPRODUCT((Data!$B$17:$B$19=Model!$F465)*(Data!$C$16:$K$16=Model!$K465)*(Data!$C$17:$K$19))","v":2.52},87.4,{"$f":"_xlfn.IFS(M465>70,\"Serviceable\",M465>30, \"Limited Life\",M465<=30, \"Unserviceable\")","v":"Serviceable"}]
[null,658,1933,"Wood Untreated Dressed","Serviceable","Class 1",2020,100,100,5,{"$f":"INDEX(Lists!$B$32:$B$40, MATCH(2020-C466, Lists!$C$32:$C$40,1))","v":"81-90"},{"$f":"SUMPRODUCT((Data!$B$17:$B$19=Model!$F466)*(Data!$C$16:$K$16=Model!$K466)*(Data!$C$17:$K$19))","v":2.81},85.95,{"$f":"_xlfn.IFS(M466>70,\"Serviceable\",M466>30, \"Limited Life\",M466<=30, \"Unserviceable\")","v":"Serviceable"}]
[null,660,1938,"Wood Untreated Dressed","Serviceable","Class 1",2020,90,90,5,{"$f":"INDEX(Lists!$B$32:$B$40, MATCH(2020-C467, Lists!$C$32:$C$40,1))","v":"81-90"},{"$f":"SUMPRODUCT((Data!$B$17:$B$19=Model!$F467)*(Data!$C$16:$K$16=Model!$K467)*(Data!$C$17:$K$19))","v":2.81},75.95,{"$f":"_xlfn.IFS(M467>70,\"Serviceable\",M467>30, \"Limited Life\",M467<=30, \"Unserviceable\")","v":"Serviceable"}]
[null,661,1982,"Wood Untreated Dressed","Serviceable","Class 1",2018,110,104.96,7,{"$f":"INDEX(Lists!$B$32:$B$40, MATCH(2020-C468, Lists!$C$32:$C$40,1))","v":"31-40"},{"$f":"SUMPRODUCT((Data!$B$17:$B$19=Model!$F468)*(Data!$C$16:$K$16=Model!$K468)*(Data!$C$17:$K$19))","v":2.52},92.36,{"$f":"_xlfn.IFS(M468>70,\"Serviceable\",M468>30, \"Limited Life\",M468<=30, \"Unserviceable\")","v":"Serviceable"}]
[null,663,2010,"CCA Treated Pole","Serviceable","Class 2",2018,100,97.56,7,{"$f":"INDEX(Lists!$B$32:$B$40, MATCH(2020-C469, Lists!$C$32:$C$40,1))","v":"0-20"},{"$f":"SUMPRODUCT((Data!$B$17:$B$19=Model!$F469)*(Data!$C$16:$K$16=Model!$K469)*(Data!$C$17:$K$19))","v":1.22},91.460000000000008,{"$f":"_xlfn.IFS(M469>70,\"Serviceable\",M469>30, \"Limited Life\",M469<=30, \"Unserviceable\")","v":"Serviceable"}]
[null,664,1982,"Wood Untreated Dressed","Serviceable","Class 1",2018,110,104.96,7,{"$f":"INDEX(Lists!$B$32:$B$40, MATCH(2020-C470, Lists!$C$32:$C$40,1))","v":"31-40"},{"$f":"SUMPRODUCT((Data!$B$17:$B$19=Model!$F470)*(Data!$C$16:$K$16=Model!$K470)*(Data!$C$17:$K$19))","v":2.52},92.36,{"$f":"_xlfn.IFS(M470>70,\"Serviceable\",M470>30, \"Limited Life\",M470<=30, \"Unserviceable\")","v":"Serviceable"}]
[null,665,1939,"Wood Untreated Dressed","Serviceable","Class 1",2018,110,104.38,7,{"$f":"INDEX(Lists!$B$32:$B$40, MATCH(2020-C471, Lists!$C$32:$C$40,1))","v":"81-90"},{"$f":"SUMPRODUCT((Data!$B$17:$B$19=Model!$F471)*(Data!$C$16:$K$16=Model!$K471)*(Data!$C$17:$K$19))","v":2.81},90.33,{"$f":"_xlfn.IFS(M471>70,\"Serviceable\",M471>30, \"Limited Life\",M471<=30, \"Unserviceable\")","v":"Serviceable"}]
[null,666,1970,"Wood Creos Impregnated","Limited Life","Class 3",2018,70,62.44,7,{"$f":"INDEX(Lists!$B$32:$B$40, MATCH(2020-C472, Lists!$C$32:$C$40,1))","v":"41-50"},{"$f":"SUMPRODUCT((Data!$B$17:$B$19=Model!$F472)*(Data!$C$16:$K$16=Model!$K472)*(Data!$C$17:$K$19))","v":3.78},43.540000000000006,{"$f":"_xlfn.IFS(M472>70,\"Serviceable\",M472>30, \"Limited Life\",M472<=30, \"Unserviceable\")","v":"Limited Life"}]
[null,667,2009,"CCA Treated Pole","Serviceable","Class 2",2020,162.49719689682513,162.49719689682513,5,{"$f":"INDEX(Lists!$B$32:$B$40, MATCH(2020-C473, Lists!$C$32:$C$40,1))","v":"0-20"},{"$f":"SUMPRODUCT((Data!$B$17:$B$19=Model!$F473)*(Data!$C$16:$K$16=Model!$K473)*(Data!$C$17:$K$19))","v":1.22},156.39719689682514,{"$f":"_xlfn.IFS(M473>70,\"Serviceable\",M473>30, \"Limited Life\",M473<=30, \"Unserviceable\")","v":"Serviceable"}]
[null,668,1935,"Wood Untreated Dressed","Serviceable","Class 1",2020,100,100,5,{"$f":"INDEX(Lists!$B$32:$B$40, MATCH(2020-C474, Lists!$C$32:$C$40,1))","v":"81-90"},{"$f":"SUMPRODUCT((Data!$B$17:$B$19=Model!$F474)*(Data!$C$16:$K$16=Model!$K474)*(Data!$C$17:$K$19))","v":2.81},85.95,{"$f":"_xlfn.IFS(M474>70,\"Serviceable\",M474>30, \"Limited Life\",M474<=30, \"Unserviceable\")","v":"Serviceable"}]
[null,669,1970,"Wood Creos Impregnated","Serviceable","Class 2",2020,100,100,5,{"$f":"INDEX(Lists!$B$32:$B$40, MATCH(2020-C475, Lists!$C$32:$C$40,1))","v":"41-50"},{"$f":"SUMPRODUCT((Data!$B$17:$B$19=Model!$F475)*(Data!$C$16:$K$16=Model!$K475)*(Data!$C$17:$K$19))","v":3.28},83.6,{"$f":"_xlfn.IFS(M475>70,\"Serviceable\",M475>30, \"Limited Life\",M475<=30, \"Unserviceable\")","v":"Serviceable"}]
[null,671,1966,"Wood Creos Impregnated","Serviceable","Class 3",2020,90,90,5,{"$f":"INDEX(Lists!$B$32:$B$40, MATCH(2020-C476, Lists!$C$32:$C$40,1))","v":"51-60"},{"$f":"SUMPRODUCT((Data!$B$17:$B$19=Model!$F476)*(Data!$C$16:$K$16=Model!$K476)*(Data!$C$17:$K$19))","v":2.73},76.349999999999994,{"$f":"_xlfn.IFS(M476>70,\"Serviceable\",M476>30, \"Limited Life\",M476<=30, \"Unserviceable\")","v":"Serviceable"}]
[null,672,1935,"Wood Untreated Dressed","Serviceable","Class 1",2020,110,110,5,{"$f":"INDEX(Lists!$B$32:$B$40, MATCH(2020-C477, Lists!$C$32:$C$40,1))","v":"81-90"},{"$f":"SUMPRODUCT((Data!$B$17:$B$19=Model!$F477)*(Data!$C$16:$K$16=Model!$K477)*(Data!$C$17:$K$19))","v":2.81},95.95,{"$f":"_xlfn.IFS(M477>70,\"Serviceable\",M477>30, \"Limited Life\",M477<=30, \"Unserviceable\")","v":"Serviceable"}]
[null,673,1973,"Wood Creos Impregnated","Serviceable","Class 3",2020,80,80,5,{"$f":"INDEX(Lists!$B$32:$B$40, MATCH(2020-C478, Lists!$C$32:$C$40,1))","v":"41-50"},{"$f":"SUMPRODUCT((Data!$B$17:$B$19=Model!$F478)*(Data!$C$16:$K$16=Model!$K478)*(Data!$C$17:$K$19))","v":3.78},61.1,{"$f":"_xlfn.IFS(M478>70,\"Serviceable\",M478>30, \"Limited Life\",M478<=30, \"Unserviceable\")","v":"Limited Life"}]
[null,675,1976,"Wood Creos Impregnated","Serviceable","Class 2",2020,100,100,5,{"$f":"INDEX(Lists!$B$32:$B$40, MATCH(2020-C479, Lists!$C$32:$C$40,1))","v":"41-50"},{"$f":"SUMPRODUCT((Data!$B$17:$B$19=Model!$F479)*(Data!$C$16:$K$16=Model!$K479)*(Data!$C$17:$K$19))","v":3.28},83.6,{"$f":"_xlfn.IFS(M479>70,\"Serviceable\",M479>30, \"Limited Life\",M479<=30, \"Unserviceable\")","v":"Serviceable"}]
[null,677,1966,"Wood Creos Impregnated","Serviceable","Class 3",2018,130,124.54,7,{"$f":"INDEX(Lists!$B$32:$B$40, MATCH(2020-C480, Lists!$C$32:$C$40,1))","v":"51-60"},{"$f":"SUMPRODUCT((Data!$B$17:$B$19=Model!$F480)*(Data!$C$16:$K$16=Model!$K480)*(Data!$C$17:$K$19))","v":2.73},110.89,{"$f":"_xlfn.IFS(M480>70,\"Serviceable\",M480>30, \"Limited Life\",M480<=30, \"Unserviceable\")","v":"Serviceable"}]
[null,679,1986,"Wood Untreated Dressed","Serviceable","Class 1",2018,140,134.96,7,{"$f":"INDEX(Lists!$B$32:$B$40, MATCH(2020-C481, Lists!$C$32:$C$40,1))","v":"31-40"},{"$f":"SUMPRODUCT((Data!$B$17:$B$19=Model!$F481)*(Data!$C$16:$K$16=Model!$K481)*(Data!$C$17:$K$19))","v":2.52},122.36,{"$f":"_xlfn.IFS(M481>70,\"Serviceable\",M481>30, \"Limited Life\",M481<=30, \"Unserviceable\")","v":"Serviceable"}]
[null,681,1986,"Wood Untreated Dressed","Serviceable","Class 1",2018,140,134.96,7,{"$f":"INDEX(Lists!$B$32:$B$40, MATCH(2020-C482, Lists!$C$32:$C$40,1))","v":"31-40"},{"$f":"SUMPRODUCT((Data!$B$17:$B$19=Model!$F482)*(Data!$C$16:$K$16=Model!$K482)*(Data!$C$17:$K$19))","v":2.52},122.36,{"$f":"_xlfn.IFS(M482>70,\"Serviceable\",M482>30, \"Limited Life\",M482<=30, \"Unserviceable\")","v":"Serviceable"}]
[null,685,1971,"Wood Creos Impregnated","Serviceable","Class 3",2018,90,82.44,7,{"$f":"INDEX(Lists!$B$32:$B$40, MATCH(2020-C483, Lists!$C$32:$C$40,1))","v":"41-50"},{"$f":"SUMPRODUCT((Data!$B$17:$B$19=Model!$F483)*(Data!$C$16:$K$16=Model!$K483)*(Data!$C$17:$K$19))","v":3.78},63.540000000000006,{"$f":"_xlfn.IFS(M483>70,\"Serviceable\",M483>30, \"Limited Life\",M483<=30, \"Unserviceable\")","v":"Limited Life"}]
[null,690,2011,"CCA Treated Pole","Serviceable","Class 2",2018,150,147.56,7,{"$f":"INDEX(Lists!$B$32:$B$40, MATCH(2020-C484, Lists!$C$32:$C$40,1))","v":"0-20"},{"$f":"SUMPRODUCT((Data!$B$17:$B$19=Model!$F484)*(Data!$C$16:$K$16=Model!$K484)*(Data!$C$17:$K$19))","v":1.22},141.46,{"$f":"_xlfn.IFS(M484>70,\"Serviceable\",M484>30, \"Limited Life\",M484<=30, \"Unserviceable\")","v":"Serviceable"}]
[null,691,2002,"CCA Treated Pole","Serviceable","Class 2",2018,150,147.56,7,{"$f":"INDEX(Lists!$B$32:$B$40, MATCH(2020-C485, Lists!$C$32:$C$40,1))","v":"0-20"},{"$f":"SUMPRODUCT((Data!$B$17:$B$19=Model!$F485)*(Data!$C$16:$K$16=Model!$K485)*(Data!$C$17:$K$19))","v":1.22},141.46,{"$f":"_xlfn.IFS(M485>70,\"Serviceable\",M485>30, \"Limited Life\",M485<=30, \"Unserviceable\")","v":"Serviceable"}]
[null,695,1961,"Wood Creos Impregnated","Serviceable","Class 3",2018,90,84.54,7,{"$f":"INDEX(Lists!$B$32:$B$40, MATCH(2020-C486, Lists!$C$32:$C$40,1))","v":"51-60"},{"$f":"SUMPRODUCT((Data!$B$17:$B$19=Model!$F486)*(Data!$C$16:$K$16=Model!$K486)*(Data!$C$17:$K$19))","v":2.73},70.89,{"$f":"_xlfn.IFS(M486>70,\"Serviceable\",M486>30, \"Limited Life\",M486<=30, \"Unserviceable\")","v":"Serviceable"}]
[null,699,1938,"Wood Untreated Dressed","Serviceable","Class 1",2018,100,94.38,7,{"$f":"INDEX(Lists!$B$32:$B$40, MATCH(2020-C487, Lists!$C$32:$C$40,1))","v":"81-90"},{"$f":"SUMPRODUCT((Data!$B$17:$B$19=Model!$F487)*(Data!$C$16:$K$16=Model!$K487)*(Data!$C$17:$K$19))","v":2.81},80.33,{"$f":"_xlfn.IFS(M487>70,\"Serviceable\",M487>30, \"Limited Life\",M487<=30, \"Unserviceable\")","v":"Serviceable"}]
[null,703,2003,"CCA Treated Pole","Serviceable","Class 1",2018,150,147.88,7,{"$f":"INDEX(Lists!$B$32:$B$40, MATCH(2020-C488, Lists!$C$32:$C$40,1))","v":"0-20"},{"$f":"SUMPRODUCT((Data!$B$17:$B$19=Model!$F488)*(Data!$C$16:$K$16=Model!$K488)*(Data!$C$17:$K$19))","v":1.06},142.58000000000001,{"$f":"_xlfn.IFS(M488>70,\"Serviceable\",M488>30, \"Limited Life\",M488<=30, \"Unserviceable\")","v":"Serviceable"}]
[null,705,1989,"Wood Untreated Dressed","Serviceable","Class 1",2018,140,134.96,7,{"$f":"INDEX(Lists!$B$32:$B$40, MATCH(2020-C489, Lists!$C$32:$C$40,1))","v":"31-40"},{"$f":"SUMPRODUCT((Data!$B$17:$B$19=Model!$F489)*(Data!$C$16:$K$16=Model!$K489)*(Data!$C$17:$K$19))","v":2.52},122.36,{"$f":"_xlfn.IFS(M489>70,\"Serviceable\",M489>30, \"Limited Life\",M489<=30, \"Unserviceable\")","v":"Serviceable"}]
[null,710,2001,"CCA Treated Pole","Serviceable","Class 1",2018,140,137.88,7,{"$f":"INDEX(Lists!$B$32:$B$40, MATCH(2020-C490, Lists!$C$32:$C$40,1))","v":"0-20"},{"$f":"SUMPRODUCT((Data!$B$17:$B$19=Model!$F490)*(Data!$C$16:$K$16=Model!$K490)*(Data!$C$17:$K$19))","v":1.06},132.58000000000001,{"$f":"_xlfn.IFS(M490>70,\"Serviceable\",M490>30, \"Limited Life\",M490<=30, \"Unserviceable\")","v":"Serviceable"}]
[null,712,1936,"Wood Untreated Dressed","Unserviceable","Class 1",2018,20,14.379999999999999,7,{"$f":"INDEX(Lists!$B$32:$B$40, MATCH(2020-C491, Lists!$C$32:$C$40,1))","v":"81-90"},{"$f":"SUMPRODUCT((Data!$B$17:$B$19=Model!$F491)*(Data!$C$16:$K$16=Model!$K491)*(Data!$C$17:$K$19))","v":2.81},0.32999999999999829,{"$f":"_xlfn.IFS(M491>70,\"Serviceable\",M491>30, \"Limited Life\",M491<=30, \"Unserviceable\")","v":"Unserviceable"}]
[null,713,1934,"Wood Untreated Dressed","Serviceable","Class 1",2018,120,114.38,7,{"$f":"INDEX(Lists!$B$32:$B$40, MATCH(2020-C492, Lists!$C$32:$C$40,1))","v":"81-90"},{"$f":"SUMPRODUCT((Data!$B$17:$B$19=Model!$F492)*(Data!$C$16:$K$16=Model!$K492)*(Data!$C$17:$K$19))","v":2.81},100.33,{"$f":"_xlfn.IFS(M492>70,\"Serviceable\",M492>30, \"Limited Life\",M492<=30, \"Unserviceable\")","v":"Serviceable"}]
[null,714,2003,"CCA Treated Pole","Serviceable","Class 1",2018,150,147.88,7,{"$f":"INDEX(Lists!$B$32:$B$40, MATCH(2020-C493, Lists!$C$32:$C$40,1))","v":"0-20"},{"$f":"SUMPRODUCT((Data!$B$17:$B$19=Model!$F493)*(Data!$C$16:$K$16=Model!$K493)*(Data!$C$17:$K$19))","v":1.06},142.58000000000001,{"$f":"_xlfn.IFS(M493>70,\"Serviceable\",M493>30, \"Limited Life\",M493<=30, \"Unserviceable\")","v":"Serviceable"}]
[null,721,1983,"Wood Untreated Dressed","Serviceable","Class 1",2018,90,84.96,7,{"$f":"INDEX(Lists!$B$32:$B$40, MATCH(2020-C494, Lists!$C$32:$C$40,1))","v":"31-40"},{"$f":"SUMPRODUCT((Data!$B$17:$B$19=Model!$F494)*(Data!$C$16:$K$16=Model!$K494)*(Data!$C$17:$K$19))","v":2.52},72.36,{"$f":"_xlfn.IFS(M494>70,\"Serviceable\",M494>30, \"Limited Life\",M494<=30, \"Unserviceable\")","v":"Serviceable"}]
[null,727,1971,"Wood Creos Impregnated","Serviceable","Class 3",2018,110,102.44,7,{"$f":"INDEX(Lists!$B$32:$B$40, MATCH(2020-C495, Lists!$C$32:$C$40,1))","v":"41-50"},{"$f":"SUMPRODUCT((Data!$B$17:$B$19=Model!$F495)*(Data!$C$16:$K$16=Model!$K495)*(Data!$C$17:$K$19))","v":3.78},83.54,{"$f":"_xlfn.IFS(M495>70,\"Serviceable\",M495>30, \"Limited Life\",M495<=30, \"Unserviceable\")","v":"Serviceable"}]
[null,729,1967,"Wood Creos Impregnated","Serviceable","Class 3",2018,110,104.54,7,{"$f":"INDEX(Lists!$B$32:$B$40, MATCH(2020-C496, Lists!$C$32:$C$40,1))","v":"51-60"},{"$f":"SUMPRODUCT((Data!$B$17:$B$19=Model!$F496)*(Data!$C$16:$K$16=Model!$K496)*(Data!$C$17:$K$19))","v":2.73},90.89,{"$f":"_xlfn.IFS(M496>70,\"Serviceable\",M496>30, \"Limited Life\",M496<=30, \"Unserviceable\")","v":"Serviceable"}]
[null,730,1986,"Wood Untreated Dressed","Serviceable","Class 1",2018,120,114.96,7,{"$f":"INDEX(Lists!$B$32:$B$40, MATCH(2020-C497, Lists!$C$32:$C$40,1))","v":"31-40"},{"$f":"SUMPRODUCT((Data!$B$17:$B$19=Model!$F497)*(Data!$C$16:$K$16=Model!$K497)*(Data!$C$17:$K$19))","v":2.52},102.36,{"$f":"_xlfn.IFS(M497>70,\"Serviceable\",M497>30, \"Limited Life\",M497<=30, \"Unserviceable\")","v":"Serviceable"}]
[null,732,1933,"Wood Untreated Dressed","Serviceable","Class 1",2018,90,84.38,7,{"$f":"INDEX(Lists!$B$32:$B$40, MATCH(2020-C498, Lists!$C$32:$C$40,1))","v":"81-90"},{"$f":"SUMPRODUCT((Data!$B$17:$B$19=Model!$F498)*(Data!$C$16:$K$16=Model!$K498)*(Data!$C$17:$K$19))","v":2.81},70.33,{"$f":"_xlfn.IFS(M498>70,\"Serviceable\",M498>30, \"Limited Life\",M498<=30, \"Unserviceable\")","v":"Serviceable"}]
[null,733,2003,"CCA Treated Pole","Serviceable","Class 1",2018,150,147.88,7,{"$f":"INDEX(Lists!$B$32:$B$40, MATCH(2020-C499, Lists!$C$32:$C$40,1))","v":"0-20"},{"$f":"SUMPRODUCT((Data!$B$17:$B$19=Model!$F499)*(Data!$C$16:$K$16=Model!$K499)*(Data!$C$17:$K$19))","v":1.06},142.58000000000001,{"$f":"_xlfn.IFS(M499>70,\"Serviceable\",M499>30, \"Limited Life\",M499<=30, \"Unserviceable\")","v":"Serviceable"}]
[null,736,1968,"Wood Creos Impregnated","Serviceable","Class 3",2018,90,84.54,7,{"$f":"INDEX(Lists!$B$32:$B$40, MATCH(2020-C500, Lists!$C$32:$C$40,1))","v":"51-60"},{"$f":"SUMPRODUCT((Data!$B$17:$B$19=Model!$F500)*(Data!$C$16:$K$16=Model!$K500)*(Data!$C$17:$K$19))","v":2.73},70.89,{"$f":"_xlfn.IFS(M500>70,\"Serviceable\",M500>30, \"Limited Life\",M500<=30, \"Unserviceable\")","v":"Serviceable"}]
[null,738,1961,"Wood Creos Impregnated","Serviceable","Class 3",2018,80,74.540000000000006,7,{"$f":"INDEX(Lists!$B$32:$B$40, MATCH(2020-C501, Lists!$C$32:$C$40,1))","v":"51-60"},{"$f":"SUMPRODUCT((Data!$B$17:$B$19=Model!$F501)*(Data!$C$16:$K$16=Model!$K501)*(Data!$C$17:$K$19))","v":2.73},60.89,{"$f":"_xlfn.IFS(M501>70,\"Serviceable\",M501>30, \"Limited Life\",M501<=30, \"Unserviceable\")","v":"Limited Life"}]
[null,739,1970,"Wood Creos Impregnated","Limited Life","Class 2",2018,70,63.44,7,{"$f":"INDEX(Lists!$B$32:$B$40, MATCH(2020-C502, Lists!$C$32:$C$40,1))","v":"41-50"},{"$f":"SUMPRODUCT((Data!$B$17:$B$19=Model!$F502)*(Data!$C$16:$K$16=Model!$K502)*(Data!$C$17:$K$19))","v":3.28},47.040000000000006,{"$f":"_xlfn.IFS(M502>70,\"Serviceable\",M502>30, \"Limited Life\",M502<=30, \"Unserviceable\")","v":"Limited Life"}]
[null,740,1970,"Wood Creos Impregnated","Limited Life","Class 3",2018,70,62.44,7,{"$f":"INDEX(Lists!$B$32:$B$40, MATCH(2020-C503, Lists!$C$32:$C$40,1))","v":"41-50"},{"$f":"SUMPRODUCT((Data!$B$17:$B$19=Model!$F503)*(Data!$C$16:$K$16=Model!$K503)*(Data!$C$17:$K$19))","v":3.78},43.540000000000006,{"$f":"_xlfn.IFS(M503>70,\"Serviceable\",M503>30, \"Limited Life\",M503<=30, \"Unserviceable\")","v":"Limited Life"}]
[null,743,1972,"Wood Creos Impregnated","Serviceable","Class 1",2018,80,76.5,7,{"$f":"INDEX(Lists!$B$32:$B$40, MATCH(2020-C504, Lists!$C$32:$C$40,1))","v":"41-50"},{"$f":"SUMPRODUCT((Data!$B$17:$B$19=Model!$F504)*(Data!$C$16:$K$16=Model!$K504)*(Data!$C$17:$K$19))","v":1.75},67.75,{"$f":"_xlfn.IFS(M504>70,\"Serviceable\",M504>30, \"Limited Life\",M504<=30, \"Unserviceable\")","v":"Limited Life"}]
[null,745,1949,"Wood Untreated Dressed","Serviceable","Class 1",2018,80,75.7,7,{"$f":"INDEX(Lists!$B$32:$B$40, MATCH(2020-C505, Lists!$C$32:$C$40,1))","v":"71-80"},{"$f":"SUMPRODUCT((Data!$B$17:$B$19=Model!$F505)*(Data!$C$16:$K$16=Model!$K505)*(Data!$C$17:$K$19))","v":2.15},64.95,{"$f":"_xlfn.IFS(M505>70,\"Serviceable\",M505>30, \"Limited Life\",M505<=30, \"Unserviceable\")","v":"Limited Life"}]
[null,747,1979,"Wood Untreated Dressed","Serviceable","Class 1",2018,80,76.5,7,{"$f":"INDEX(Lists!$B$32:$B$40, MATCH(2020-C506, Lists!$C$32:$C$40,1))","v":"41-50"},{"$f":"SUMPRODUCT((Data!$B$17:$B$19=Model!$F506)*(Data!$C$16:$K$16=Model!$K506)*(Data!$C$17:$K$19))","v":1.75},67.75,{"$f":"_xlfn.IFS(M506>70,\"Serviceable\",M506>30, \"Limited Life\",M506<=30, \"Unserviceable\")","v":"Limited Life"}]
[null,748,2002,"CCA Treated Pole","Serviceable","Class 1",2018,150,147.88,7,{"$f":"INDEX(Lists!$B$32:$B$40, MATCH(2020-C507, Lists!$C$32:$C$40,1))","v":"0-20"},{"$f":"SUMPRODUCT((Data!$B$17:$B$19=Model!$F507)*(Data!$C$16:$K$16=Model!$K507)*(Data!$C$17:$K$19))","v":1.06},142.58000000000001,{"$f":"_xlfn.IFS(M507>70,\"Serviceable\",M507>30, \"Limited Life\",M507<=30, \"Unserviceable\")","v":"Serviceable"}]
[null,749,1961,"Wood Creos Impregnated","Serviceable","Class 3",2018,80,74.540000000000006,7,{"$f":"INDEX(Lists!$B$32:$B$40, MATCH(2020-C508, Lists!$C$32:$C$40,1))","v":"51-60"},{"$f":"SUMPRODUCT((Data!$B$17:$B$19=Model!$F508)*(Data!$C$16:$K$16=Model!$K508)*(Data!$C$17:$K$19))","v":2.73},60.89,{"$f":"_xlfn.IFS(M508>70,\"Serviceable\",M508>30, \"Limited Life\",M508<=30, \"Unserviceable\")","v":"Limited Life"}]
[null,750,1968,"Wood Creos Impregnated","Serviceable","Class 2",2018,80,74.86,7,{"$f":"INDEX(Lists!$B$32:$B$40, MATCH(2020-C509, Lists!$C$32:$C$40,1))","v":"51-60"},{"$f":"SUMPRODUCT((Data!$B$17:$B$19=Model!$F509)*(Data!$C$16:$K$16=Model!$K509)*(Data!$C$17:$K$19))","v":2.57},62.010000000000005,{"$f":"_xlfn.IFS(M509>70,\"Serviceable\",M509>30, \"Limited Life\",M509<=30, \"Unserviceable\")","v":"Limited Life"}]
[null,751,1939,"Wood Untreated Dressed","Serviceable","Class 1",2018,80,74.38,7,{"$f":"INDEX(Lists!$B$32:$B$40, MATCH(2020-C510, Lists!$C$32:$C$40,1))","v":"81-90"},{"$f":"SUMPRODUCT((Data!$B$17:$B$19=Model!$F510)*(Data!$C$16:$K$16=Model!$K510)*(Data!$C$17:$K$19))","v":2.81},60.33,{"$f":"_xlfn.IFS(M510>70,\"Serviceable\",M510>30, \"Limited Life\",M510<=30, \"Unserviceable\")","v":"Limited Life"}]
[null,753,1970,"Wood Creos Impregnated","Limited Life","Class 3",2018,70,62.44,7,{"$f":"INDEX(Lists!$B$32:$B$40, MATCH(2020-C511, Lists!$C$32:$C$40,1))","v":"41-50"},{"$f":"SUMPRODUCT((Data!$B$17:$B$19=Model!$F511)*(Data!$C$16:$K$16=Model!$K511)*(Data!$C$17:$K$19))","v":3.78},43.540000000000006,{"$f":"_xlfn.IFS(M511>70,\"Serviceable\",M511>30, \"Limited Life\",M511<=30, \"Unserviceable\")","v":"Limited Life"}]
[null,754,1938,"Wood Untreated Dressed","Serviceable","Class 1",2018,90,84.38,7,{"$f":"INDEX(Lists!$B$32:$B$40, MATCH(2020-C512, Lists!$C$32:$C$40,1))","v":"81-90"},{"$f":"SUMPRODUCT((Data!$B$17:$B$19=Model!$F512)*(Data!$C$16:$K$16=Model!$K512)*(Data!$C$17:$K$19))","v":2.81},70.33,{"$f":"_xlfn.IFS(M512>70,\"Serviceable\",M512>30, \"Limited Life\",M512<=30, \"Unserviceable\")","v":"Serviceable"}]
[null,755,1983,"Wood Untreated Dressed","Serviceable","Class 1",2018,90,84.96,7,{"$f":"INDEX(Lists!$B$32:$B$40, MATCH(2020-C513, Lists!$C$32:$C$40,1))","v":"31-40"},{"$f":"SUMPRODUCT((Data!$B$17:$B$19=Model!$F513)*(Data!$C$16:$K$16=Model!$K513)*(Data!$C$17:$K$19))","v":2.52},72.36,{"$f":"_xlfn.IFS(M513>70,\"Serviceable\",M513>30, \"Limited Life\",M513<=30, \"Unserviceable\")","v":"Serviceable"}]
[null,757,1970,"Wood Creos Impregnated","Serviceable","Class 3",2018,80,72.44,7,{"$f":"INDEX(Lists!$B$32:$B$40, MATCH(2020-C514, Lists!$C$32:$C$40,1))","v":"41-50"},{"$f":"SUMPRODUCT((Data!$B$17:$B$19=Model!$F514)*(Data!$C$16:$K$16=Model!$K514)*(Data!$C$17:$K$19))","v":3.78},53.540000000000006,{"$f":"_xlfn.IFS(M514>70,\"Serviceable\",M514>30, \"Limited Life\",M514<=30, \"Unserviceable\")","v":"Limited Life"}]
[null,758,1961,"Wood Creos Impregnated","Limited Life","Class 3",2018,70,64.540000000000006,7,{"$f":"INDEX(Lists!$B$32:$B$40, MATCH(2020-C515, Lists!$C$32:$C$40,1))","v":"51-60"},{"$f":"SUMPRODUCT((Data!$B$17:$B$19=Model!$F515)*(Data!$C$16:$K$16=Model!$K515)*(Data!$C$17:$K$19))","v":2.73},50.89,{"$f":"_xlfn.IFS(M515>70,\"Serviceable\",M515>30, \"Limited Life\",M515<=30, \"Unserviceable\")","v":"Limited Life"}]
[null,759,1939,"Wood Untreated Dressed","Serviceable","Class 1",2018,110,104.38,7,{"$f":"INDEX(Lists!$B$32:$B$40, MATCH(2020-C516, Lists!$C$32:$C$40,1))","v":"81-90"},{"$f":"SUMPRODUCT((Data!$B$17:$B$19=Model!$F516)*(Data!$C$16:$K$16=Model!$K516)*(Data!$C$17:$K$19))","v":2.81},90.33,{"$f":"_xlfn.IFS(M516>70,\"Serviceable\",M516>30, \"Limited Life\",M516<=30, \"Unserviceable\")","v":"Serviceable"}]
[null,761,1986,"Wood Untreated Dressed","Serviceable","Class 1",2018,140,134.96,7,{"$f":"INDEX(Lists!$B$32:$B$40, MATCH(2020-C517, Lists!$C$32:$C$40,1))","v":"31-40"},{"$f":"SUMPRODUCT((Data!$B$17:$B$19=Model!$F517)*(Data!$C$16:$K$16=Model!$K517)*(Data!$C$17:$K$19))","v":2.52},122.36,{"$f":"_xlfn.IFS(M517>70,\"Serviceable\",M517>30, \"Limited Life\",M517<=30, \"Unserviceable\")","v":"Serviceable"}]
[null,763,1939,"Wood Untreated Dressed","Serviceable","Class 1",2018,120,114.38,7,{"$f":"INDEX(Lists!$B$32:$B$40, MATCH(2020-C518, Lists!$C$32:$C$40,1))","v":"81-90"},{"$f":"SUMPRODUCT((Data!$B$17:$B$19=Model!$F518)*(Data!$C$16:$K$16=Model!$K518)*(Data!$C$17:$K$19))","v":2.81},100.33,{"$f":"_xlfn.IFS(M518>70,\"Serviceable\",M518>30, \"Limited Life\",M518<=30, \"Unserviceable\")","v":"Serviceable"}]
[null,766,1937,"Wood Untreated Dressed","Serviceable","Class 1",2018,90,84.38,7,{"$f":"INDEX(Lists!$B$32:$B$40, MATCH(2020-C519, Lists!$C$32:$C$40,1))","v":"81-90"},{"$f":"SUMPRODUCT((Data!$B$17:$B$19=Model!$F519)*(Data!$C$16:$K$16=Model!$K519)*(Data!$C$17:$K$19))","v":2.81},70.33,{"$f":"_xlfn.IFS(M519>70,\"Serviceable\",M519>30, \"Limited Life\",M519<=30, \"Unserviceable\")","v":"Serviceable"}]
[null,767,1958,"Wood Creos Impregnated","Serviceable","Class 3",2018,80,75.959999999999994,{"$f":"2025-G520","v":7},{"$f":"INDEX(Lists!$B$32:$B$40, MATCH(2020-C520, Lists!$C$32:$C$40,1))","v":"61-70"},{"$f":"SUMPRODUCT((Data!$B$17:$B$19=Model!$F520)*(Data!$C$16:$K$16=Model!$K520)*(Data!$C$17:$K$19))","v":2.02},{"$f":"IF(IF(H520>=700,999,(H520-L520*J520))<0,0,IF(H520>=700,999,(H520-L520*J520)))","v":65.86},{"$f":"_xlfn.IFS(M520>70,\"Serviceable\",M520>30, \"Limited Life\",M520<=30, \"Unserviceable\")","v":"Limited Life"}]
[null,768,1974,"Wood Creos Impregnated","Limited Life","Class 3",2018,70,62.44,7,{"$f":"INDEX(Lists!$B$32:$B$40, MATCH(2020-C521, Lists!$C$32:$C$40,1))","v":"41-50"},{"$f":"SUMPRODUCT((Data!$B$17:$B$19=Model!$F521)*(Data!$C$16:$K$16=Model!$K521)*(Data!$C$17:$K$19))","v":3.78},43.540000000000006,{"$f":"_xlfn.IFS(M521>70,\"Serviceable\",M521>30, \"Limited Life\",M521<=30, \"Unserviceable\")","v":"Limited Life"}]
[null,769,1966,"Wood Creos Impregnated","Serviceable","Class 3",2018,80,74.540000000000006,7,{"$f":"INDEX(Lists!$B$32:$B$40, MATCH(2020-C522, Lists!$C$32:$C$40,1))","v":"51-60"},{"$f":"SUMPRODUCT((Data!$B$17:$B$19=Model!$F522)*(Data!$C$16:$K$16=Model!$K522)*(Data!$C$17:$K$19))","v":2.73},60.89,{"$f":"_xlfn.IFS(M522>70,\"Serviceable\",M522>30, \"Limited Life\",M522<=30, \"Unserviceable\")","v":"Limited Life"}]
[null,771,1967,"Wood Creos Impregnated","Serviceable","Class 3",2018,130,124.54,7,{"$f":"INDEX(Lists!$B$32:$B$40, MATCH(2020-C523, Lists!$C$32:$C$40,1))","v":"51-60"},{"$f":"SUMPRODUCT((Data!$B$17:$B$19=Model!$F523)*(Data!$C$16:$K$16=Model!$K523)*(Data!$C$17:$K$19))","v":2.73},110.89,{"$f":"_xlfn.IFS(M523>70,\"Serviceable\",M523>30, \"Limited Life\",M523<=30, \"Unserviceable\")","v":"Serviceable"}]
[null,772,1965,"Wood Creos Impregnated","Serviceable","Class 3",2018,120,114.54,7,{"$f":"INDEX(Lists!$B$32:$B$40, MATCH(2020-C524, Lists!$C$32:$C$40,1))","v":"51-60"},{"$f":"SUMPRODUCT((Data!$B$17:$B$19=Model!$F524)*(Data!$C$16:$K$16=Model!$K524)*(Data!$C$17:$K$19))","v":2.73},100.89,{"$f":"_xlfn.IFS(M524>70,\"Serviceable\",M524>30, \"Limited Life\",M524<=30, \"Unserviceable\")","v":"Serviceable"}]
[null,774,1970,"Wood Creos Impregnated","Serviceable","Class 3",2018,110,102.44,7,{"$f":"INDEX(Lists!$B$32:$B$40, MATCH(2020-C525, Lists!$C$32:$C$40,1))","v":"41-50"},{"$f":"SUMPRODUCT((Data!$B$17:$B$19=Model!$F525)*(Data!$C$16:$K$16=Model!$K525)*(Data!$C$17:$K$19))","v":3.78},83.54,{"$f":"_xlfn.IFS(M525>70,\"Serviceable\",M525>30, \"Limited Life\",M525<=30, \"Unserviceable\")","v":"Serviceable"}]
[null,775,2001,"CCA Treated Pole","Serviceable","Class 2",2018,150,147.56,7,{"$f":"INDEX(Lists!$B$32:$B$40, MATCH(2020-C526, Lists!$C$32:$C$40,1))","v":"0-20"},{"$f":"SUMPRODUCT((Data!$B$17:$B$19=Model!$F526)*(Data!$C$16:$K$16=Model!$K526)*(Data!$C$17:$K$19))","v":1.22},141.46,{"$f":"_xlfn.IFS(M526>70,\"Serviceable\",M526>30, \"Limited Life\",M526<=30, \"Unserviceable\")","v":"Serviceable"}]
[null,777,1967,"Wood Creos Impregnated","Serviceable","Class 3",2018,120,114.54,7,{"$f":"INDEX(Lists!$B$32:$B$40, MATCH(2020-C527, Lists!$C$32:$C$40,1))","v":"51-60"},{"$f":"SUMPRODUCT((Data!$B$17:$B$19=Model!$F527)*(Data!$C$16:$K$16=Model!$K527)*(Data!$C$17:$K$19))","v":2.73},100.89,{"$f":"_xlfn.IFS(M527>70,\"Serviceable\",M527>30, \"Limited Life\",M527<=30, \"Unserviceable\")","v":"Serviceable"}]
[null,779,1965,"Wood Creos Impregnated","Limited Life","Class 3",2018,70,64.540000000000006,7,{"$f":"INDEX(Lists!$B$32:$B$40, MATCH(2020-C528, Lists!$C$32:$C$40,1))","v":"51-60"},{"$f":"SUMPRODUCT((Data!$B$17:$B$19=Model!$F528)*(Data!$C$16:$K$16=Model!$K528)*(Data!$C$17:$K$19))","v":2.73},50.89,{"$f":"_xlfn.IFS(M528>70,\"Serviceable\",M528>30, \"Limited Life\",M528<=30, \"Unserviceable\")","v":"Limited Life"}]
[null,780,1986,"Wood Untreated Dressed","Serviceable","Class 1",2018,100,94.96,7,{"$f":"INDEX(Lists!$B$32:$B$40, MATCH(2020-C529, Lists!$C$32:$C$40,1))","v":"31-40"},{"$f":"SUMPRODUCT((Data!$B$17:$B$19=Model!$F529)*(Data!$C$16:$K$16=Model!$K529)*(Data!$C$17:$K$19))","v":2.52},82.36,{"$f":"_xlfn.IFS(M529>70,\"Serviceable\",M529>30, \"Limited Life\",M529<=30, \"Unserviceable\")","v":"Serviceable"}]
[null,781,1979,"Wood Untreated Dressed","Serviceable","Class 1",2018,100,96.5,7,{"$f":"INDEX(Lists!$B$32:$B$40, MATCH(2020-C530, Lists!$C$32:$C$40,1))","v":"41-50"},{"$f":"SUMPRODUCT((Data!$B$17:$B$19=Model!$F530)*(Data!$C$16:$K$16=Model!$K530)*(Data!$C$17:$K$19))","v":1.75},87.75,{"$f":"_xlfn.IFS(M530>70,\"Serviceable\",M530>30, \"Limited Life\",M530<=30, \"Unserviceable\")","v":"Serviceable"}]
[null,782,1961,"Wood Creos Impregnated","Serviceable","Class 3",2018,120,114.54,7,{"$f":"INDEX(Lists!$B$32:$B$40, MATCH(2020-C531, Lists!$C$32:$C$40,1))","v":"51-60"},{"$f":"SUMPRODUCT((Data!$B$17:$B$19=Model!$F531)*(Data!$C$16:$K$16=Model!$K531)*(Data!$C$17:$K$19))","v":2.73},100.89,{"$f":"_xlfn.IFS(M531>70,\"Serviceable\",M531>30, \"Limited Life\",M531<=30, \"Unserviceable\")","v":"Serviceable"}]
[null,783,1980,"Wood Untreated Dressed","Serviceable","Class 1",2018,140,134.96,7,{"$f":"INDEX(Lists!$B$32:$B$40, MATCH(2020-C532, Lists!$C$32:$C$40,1))","v":"31-40"},{"$f":"SUMPRODUCT((Data!$B$17:$B$19=Model!$F532)*(Data!$C$16:$K$16=Model!$K532)*(Data!$C$17:$K$19))","v":2.52},122.36,{"$f":"_xlfn.IFS(M532>70,\"Serviceable\",M532>30, \"Limited Life\",M532<=30, \"Unserviceable\")","v":"Serviceable"}]
[null,784,1983,"Wood Untreated Dressed","Serviceable","Class 1",2018,120,114.96,7,{"$f":"INDEX(Lists!$B$32:$B$40, MATCH(2020-C533, Lists!$C$32:$C$40,1))","v":"31-40"},{"$f":"SUMPRODUCT((Data!$B$17:$B$19=Model!$F533)*(Data!$C$16:$K$16=Model!$K533)*(Data!$C$17:$K$19))","v":2.52},102.36,{"$f":"_xlfn.IFS(M533>70,\"Serviceable\",M533>30, \"Limited Life\",M533<=30, \"Unserviceable\")","v":"Serviceable"}]
[null,785,2002,"CCA Treated Pole","Serviceable","Class 1",2018,150,147.88,7,{"$f":"INDEX(Lists!$B$32:$B$40, MATCH(2020-C534, Lists!$C$32:$C$40,1))","v":"0-20"},{"$f":"SUMPRODUCT((Data!$B$17:$B$19=Model!$F534)*(Data!$C$16:$K$16=Model!$K534)*(Data!$C$17:$K$19))","v":1.06},142.58000000000001,{"$f":"_xlfn.IFS(M534>70,\"Serviceable\",M534>30, \"Limited Life\",M534<=30, \"Unserviceable\")","v":"Serviceable"}]
[null,786,2002,"CCA Treated Pole","Serviceable","Class 2",2018,150,147.56,7,{"$f":"INDEX(Lists!$B$32:$B$40, MATCH(2020-C535, Lists!$C$32:$C$40,1))","v":"0-20"},{"$f":"SUMPRODUCT((Data!$B$17:$B$19=Model!$F535)*(Data!$C$16:$K$16=Model!$K535)*(Data!$C$17:$K$19))","v":1.22},141.46,{"$f":"_xlfn.IFS(M535>70,\"Serviceable\",M535>30, \"Limited Life\",M535<=30, \"Unserviceable\")","v":"Serviceable"}]
[null,789,1944,"Wood Untreated Round","Serviceable","Class 2",2018,80,72.94,7,{"$f":"INDEX(Lists!$B$32:$B$40, MATCH(2020-C536, Lists!$C$32:$C$40,1))","v":"71-80"},{"$f":"SUMPRODUCT((Data!$B$17:$B$19=Model!$F536)*(Data!$C$16:$K$16=Model!$K536)*(Data!$C$17:$K$19))","v":3.53},55.290000000000006,{"$f":"_xlfn.IFS(M536>70,\"Serviceable\",M536>30, \"Limited Life\",M536<=30, \"Unserviceable\")","v":"Limited Life"}]
[null,790,1935,"Wood Untreated Dressed","Serviceable","Class 1",2018,80,74.38,7,{"$f":"INDEX(Lists!$B$32:$B$40, MATCH(2020-C537, Lists!$C$32:$C$40,1))","v":"81-90"},{"$f":"SUMPRODUCT((Data!$B$17:$B$19=Model!$F537)*(Data!$C$16:$K$16=Model!$K537)*(Data!$C$17:$K$19))","v":2.81},60.33,{"$f":"_xlfn.IFS(M537>70,\"Serviceable\",M537>30, \"Limited Life\",M537<=30, \"Unserviceable\")","v":"Limited Life"}]
[null,791,1966,"Wood Creos Impregnated","Limited Life","Class 3",2019,60,57.27,6,{"$f":"INDEX(Lists!$B$32:$B$40, MATCH(2020-C538, Lists!$C$32:$C$40,1))","v":"51-60"},{"$f":"SUMPRODUCT((Data!$B$17:$B$19=Model!$F538)*(Data!$C$16:$K$16=Model!$K538)*(Data!$C$17:$K$19))","v":2.73},43.620000000000005,{"$f":"_xlfn.IFS(M538>70,\"Serviceable\",M538>30, \"Limited Life\",M538<=30, \"Unserviceable\")","v":"Limited Life"}]
[null,792,1988,"Wood Untreated Dressed","Serviceable","Class 1",2018,90,84.96,7,{"$f":"INDEX(Lists!$B$32:$B$40, MATCH(2020-C539, Lists!$C$32:$C$40,1))","v":"31-40"},{"$f":"SUMPRODUCT((Data!$B$17:$B$19=Model!$F539)*(Data!$C$16:$K$16=Model!$K539)*(Data!$C$17:$K$19))","v":2.52},72.36,{"$f":"_xlfn.IFS(M539>70,\"Serviceable\",M539>30, \"Limited Life\",M539<=30, \"Unserviceable\")","v":"Serviceable"}]
[null,793,1965,"Wood Creos Impregnated","Serviceable","Class 3",2018,80,74.540000000000006,7,{"$f":"INDEX(Lists!$B$32:$B$40, MATCH(2020-C540, Lists!$C$32:$C$40,1))","v":"51-60"},{"$f":"SUMPRODUCT((Data!$B$17:$B$19=Model!$F540)*(Data!$C$16:$K$16=Model!$K540)*(Data!$C$17:$K$19))","v":2.73},60.89,{"$f":"_xlfn.IFS(M540>70,\"Serviceable\",M540>30, \"Limited Life\",M540<=30, \"Unserviceable\")","v":"Limited Life"}]
[null,794,1986,"Wood Untreated Dressed","Serviceable","Class 1",2018,100,94.96,7,{"$f":"INDEX(Lists!$B$32:$B$40, MATCH(2020-C541, Lists!$C$32:$C$40,1))","v":"31-40"},{"$f":"SUMPRODUCT((Data!$B$17:$B$19=Model!$F541)*(Data!$C$16:$K$16=Model!$K541)*(Data!$C$17:$K$19))","v":2.52},82.36,{"$f":"_xlfn.IFS(M541>70,\"Serviceable\",M541>30, \"Limited Life\",M541<=30, \"Unserviceable\")","v":"Serviceable"}]
[null,795,2002,"CCA Treated Pole","Serviceable","Class 2",2018,150,147.56,7,{"$f":"INDEX(Lists!$B$32:$B$40, MATCH(2020-C542, Lists!$C$32:$C$40,1))","v":"0-20"},{"$f":"SUMPRODUCT((Data!$B$17:$B$19=Model!$F542)*(Data!$C$16:$K$16=Model!$K542)*(Data!$C$17:$K$19))","v":1.22},141.46,{"$f":"_xlfn.IFS(M542>70,\"Serviceable\",M542>30, \"Limited Life\",M542<=30, \"Unserviceable\")","v":"Serviceable"}]
[null,796,1986,"Wood Untreated Dressed","Serviceable","Class 1",2018,90,84.96,7,{"$f":"INDEX(Lists!$B$32:$B$40, MATCH(2020-C543, Lists!$C$32:$C$40,1))","v":"31-40"},{"$f":"SUMPRODUCT((Data!$B$17:$B$19=Model!$F543)*(Data!$C$16:$K$16=Model!$K543)*(Data!$C$17:$K$19))","v":2.52},72.36,{"$f":"_xlfn.IFS(M543>70,\"Serviceable\",M543>30, \"Limited Life\",M543<=30, \"Unserviceable\")","v":"Serviceable"}]
[null,797,1969,"Wood Creos Impregnated","Serviceable","Class 3",2018,80,74.540000000000006,7,{"$f":"INDEX(Lists!$B$32:$B$40, MATCH(2020-C544, Lists!$C$32:$C$40,1))","v":"51-60"},{"$f":"SUMPRODUCT((Data!$B$17:$B$19=Model!$F544)*(Data!$C$16:$K$16=Model!$K544)*(Data!$C$17:$K$19))","v":2.73},60.89,{"$f":"_xlfn.IFS(M544>70,\"Serviceable\",M544>30, \"Limited Life\",M544<=30, \"Unserviceable\")","v":"Limited Life"}]
[null,800,1991,"Wood Untreated Dressed","Serviceable","Class 1",2018,100,96.08,7,{"$f":"INDEX(Lists!$B$32:$B$40, MATCH(2020-C545, Lists!$C$32:$C$40,1))","v":"21-30"},{"$f":"SUMPRODUCT((Data!$B$17:$B$19=Model!$F545)*(Data!$C$16:$K$16=Model!$K545)*(Data!$C$17:$K$19))","v":1.96},86.28,{"$f":"_xlfn.IFS(M545>70,\"Serviceable\",M545>30, \"Limited Life\",M545<=30, \"Unserviceable\")","v":"Serviceable"}]
[null,801,1986,"Wood Untreated Dressed","Serviceable","Class 1",2018,90,84.96,7,{"$f":"INDEX(Lists!$B$32:$B$40, MATCH(2020-C546, Lists!$C$32:$C$40,1))","v":"31-40"},{"$f":"SUMPRODUCT((Data!$B$17:$B$19=Model!$F546)*(Data!$C$16:$K$16=Model!$K546)*(Data!$C$17:$K$19))","v":2.52},72.36,{"$f":"_xlfn.IFS(M546>70,\"Serviceable\",M546>30, \"Limited Life\",M546<=30, \"Unserviceable\")","v":"Serviceable"}]
[null,802,1984,"Wood Untreated Dressed","Serviceable","Class 1",2018,100,94.96,7,{"$f":"INDEX(Lists!$B$32:$B$40, MATCH(2020-C547, Lists!$C$32:$C$40,1))","v":"31-40"},{"$f":"SUMPRODUCT((Data!$B$17:$B$19=Model!$F547)*(Data!$C$16:$K$16=Model!$K547)*(Data!$C$17:$K$19))","v":2.52},82.36,{"$f":"_xlfn.IFS(M547>70,\"Serviceable\",M547>30, \"Limited Life\",M547<=30, \"Unserviceable\")","v":"Serviceable"}]
[null,803,1983,"Wood Untreated Dressed","Serviceable","Class 1",2018,100,94.96,7,{"$f":"INDEX(Lists!$B$32:$B$40, MATCH(2020-C548, Lists!$C$32:$C$40,1))","v":"31-40"},{"$f":"SUMPRODUCT((Data!$B$17:$B$19=Model!$F548)*(Data!$C$16:$K$16=Model!$K548)*(Data!$C$17:$K$19))","v":2.52},82.36,{"$f":"_xlfn.IFS(M548>70,\"Serviceable\",M548>30, \"Limited Life\",M548<=30, \"Unserviceable\")","v":"Serviceable"}]
[null,805,1962,"Wood Creos Impregnated","Serviceable","Class 3",2018,100,94.54,7,{"$f":"INDEX(Lists!$B$32:$B$40, MATCH(2020-C549, Lists!$C$32:$C$40,1))","v":"51-60"},{"$f":"SUMPRODUCT((Data!$B$17:$B$19=Model!$F549)*(Data!$C$16:$K$16=Model!$K549)*(Data!$C$17:$K$19))","v":2.73},80.89,{"$f":"_xlfn.IFS(M549>70,\"Serviceable\",M549>30, \"Limited Life\",M549<=30, \"Unserviceable\")","v":"Serviceable"}]
[null,806,1984,"Wood Untreated Dressed","Serviceable","Class 1",2018,120,114.96,7,{"$f":"INDEX(Lists!$B$32:$B$40, MATCH(2020-C550, Lists!$C$32:$C$40,1))","v":"31-40"},{"$f":"SUMPRODUCT((Data!$B$17:$B$19=Model!$F550)*(Data!$C$16:$K$16=Model!$K550)*(Data!$C$17:$K$19))","v":2.52},102.36,{"$f":"_xlfn.IFS(M550>70,\"Serviceable\",M550>30, \"Limited Life\",M550<=30, \"Unserviceable\")","v":"Serviceable"}]
[null,807,1997,"CCA Treated Pole","Serviceable","Class 1",2018,120,116.08,7,{"$f":"INDEX(Lists!$B$32:$B$40, MATCH(2020-C551, Lists!$C$32:$C$40,1))","v":"21-30"},{"$f":"SUMPRODUCT((Data!$B$17:$B$19=Model!$F551)*(Data!$C$16:$K$16=Model!$K551)*(Data!$C$17:$K$19))","v":1.96},106.28,{"$f":"_xlfn.IFS(M551>70,\"Serviceable\",M551>30, \"Limited Life\",M551<=30, \"Unserviceable\")","v":"Serviceable"}]
[null,808,1991,"Wood Untreated Dressed","Serviceable","Class 1",2018,100,96.08,7,{"$f":"INDEX(Lists!$B$32:$B$40, MATCH(2020-C552, Lists!$C$32:$C$40,1))","v":"21-30"},{"$f":"SUMPRODUCT((Data!$B$17:$B$19=Model!$F552)*(Data!$C$16:$K$16=Model!$K552)*(Data!$C$17:$K$19))","v":1.96},86.28,{"$f":"_xlfn.IFS(M552>70,\"Serviceable\",M552>30, \"Limited Life\",M552<=30, \"Unserviceable\")","v":"Serviceable"}]
[null,809,1967,"Wood Creos Impregnated","Limited Life","Class 3",2018,70,64.540000000000006,7,{"$f":"INDEX(Lists!$B$32:$B$40, MATCH(2020-C553, Lists!$C$32:$C$40,1))","v":"51-60"},{"$f":"SUMPRODUCT((Data!$B$17:$B$19=Model!$F553)*(Data!$C$16:$K$16=Model!$K553)*(Data!$C$17:$K$19))","v":2.73},50.89,{"$f":"_xlfn.IFS(M553>70,\"Serviceable\",M553>30, \"Limited Life\",M553<=30, \"Unserviceable\")","v":"Limited Life"}]
[null,810,1967,"Wood Creos Impregnated","Serviceable","Class 3",2018,80,74.540000000000006,7,{"$f":"INDEX(Lists!$B$32:$B$40, MATCH(2020-C554, Lists!$C$32:$C$40,1))","v":"51-60"},{"$f":"SUMPRODUCT((Data!$B$17:$B$19=Model!$F554)*(Data!$C$16:$K$16=Model!$K554)*(Data!$C$17:$K$19))","v":2.73},60.89,{"$f":"_xlfn.IFS(M554>70,\"Serviceable\",M554>30, \"Limited Life\",M554<=30, \"Unserviceable\")","v":"Limited Life"}]
[null,811,1967,"Wood Creos Impregnated","Serviceable","Class 3",2018,90,84.54,7,{"$f":"INDEX(Lists!$B$32:$B$40, MATCH(2020-C555, Lists!$C$32:$C$40,1))","v":"51-60"},{"$f":"SUMPRODUCT((Data!$B$17:$B$19=Model!$F555)*(Data!$C$16:$K$16=Model!$K555)*(Data!$C$17:$K$19))","v":2.73},70.89,{"$f":"_xlfn.IFS(M555>70,\"Serviceable\",M555>30, \"Limited Life\",M555<=30, \"Unserviceable\")","v":"Serviceable"}]
[null,812,1991,"Wood Untreated Dressed","Serviceable","Class 1",2018,100,96.08,7,{"$f":"INDEX(Lists!$B$32:$B$40, MATCH(2020-C556, Lists!$C$32:$C$40,1))","v":"21-30"},{"$f":"SUMPRODUCT((Data!$B$17:$B$19=Model!$F556)*(Data!$C$16:$K$16=Model!$K556)*(Data!$C$17:$K$19))","v":1.96},86.28,{"$f":"_xlfn.IFS(M556>70,\"Serviceable\",M556>30, \"Limited Life\",M556<=30, \"Unserviceable\")","v":"Serviceable"}]
[null,815,1963,"Wood Creos Impregnated","Serviceable","Class 3",2018,80,74.540000000000006,7,{"$f":"INDEX(Lists!$B$32:$B$40, MATCH(2020-C557, Lists!$C$32:$C$40,1))","v":"51-60"},{"$f":"SUMPRODUCT((Data!$B$17:$B$19=Model!$F557)*(Data!$C$16:$K$16=Model!$K557)*(Data!$C$17:$K$19))","v":2.73},60.89,{"$f":"_xlfn.IFS(M557>70,\"Serviceable\",M557>30, \"Limited Life\",M557<=30, \"Unserviceable\")","v":"Limited Life"}]
[null,816,1941,"Wood Untreated Dressed","Serviceable","Class 1",2018,80,75.7,7,{"$f":"INDEX(Lists!$B$32:$B$40, MATCH(2020-C558, Lists!$C$32:$C$40,1))","v":"71-80"},{"$f":"SUMPRODUCT((Data!$B$17:$B$19=Model!$F558)*(Data!$C$16:$K$16=Model!$K558)*(Data!$C$17:$K$19))","v":2.15},64.95,{"$f":"_xlfn.IFS(M558>70,\"Serviceable\",M558>30, \"Limited Life\",M558<=30, \"Unserviceable\")","v":"Limited Life"}]
[null,817,2011,"CCA Treated Pole","Serviceable","Class 2",2018,100,97.56,7,{"$f":"INDEX(Lists!$B$32:$B$40, MATCH(2020-C559, Lists!$C$32:$C$40,1))","v":"0-20"},{"$f":"SUMPRODUCT((Data!$B$17:$B$19=Model!$F559)*(Data!$C$16:$K$16=Model!$K559)*(Data!$C$17:$K$19))","v":1.22},91.460000000000008,{"$f":"_xlfn.IFS(M559>70,\"Serviceable\",M559>30, \"Limited Life\",M559<=30, \"Unserviceable\")","v":"Serviceable"}]
[null,818,1938,"Wood Untreated Dressed","Serviceable","Class 1",2018,80,74.38,7,{"$f":"INDEX(Lists!$B$32:$B$40, MATCH(2020-C560, Lists!$C$32:$C$40,1))","v":"81-90"},{"$f":"SUMPRODUCT((Data!$B$17:$B$19=Model!$F560)*(Data!$C$16:$K$16=Model!$K560)*(Data!$C$17:$K$19))","v":2.81},60.33,{"$f":"_xlfn.IFS(M560>70,\"Serviceable\",M560>30, \"Limited Life\",M560<=30, \"Unserviceable\")","v":"Limited Life"}]
[null,821,1938,"Wood Untreated Dressed","Serviceable","Class 1",2018,90,84.38,7,{"$f":"INDEX(Lists!$B$32:$B$40, MATCH(2020-C561, Lists!$C$32:$C$40,1))","v":"81-90"},{"$f":"SUMPRODUCT((Data!$B$17:$B$19=Model!$F561)*(Data!$C$16:$K$16=Model!$K561)*(Data!$C$17:$K$19))","v":2.81},70.33,{"$f":"_xlfn.IFS(M561>70,\"Serviceable\",M561>30, \"Limited Life\",M561<=30, \"Unserviceable\")","v":"Serviceable"}]
[null,822,1982,"Wood Untreated Dressed","Serviceable","Class 1",2018,90,84.96,7,{"$f":"INDEX(Lists!$B$32:$B$40, MATCH(2020-C562, Lists!$C$32:$C$40,1))","v":"31-40"},{"$f":"SUMPRODUCT((Data!$B$17:$B$19=Model!$F562)*(Data!$C$16:$K$16=Model!$K562)*(Data!$C$17:$K$19))","v":2.52},72.36,{"$f":"_xlfn.IFS(M562>70,\"Serviceable\",M562>30, \"Limited Life\",M562<=30, \"Unserviceable\")","v":"Serviceable"}]
[null,823,1969,"Wood Creos Impregnated","Limited Life","Class 3",2018,70,64.540000000000006,7,{"$f":"INDEX(Lists!$B$32:$B$40, MATCH(2020-C563, Lists!$C$32:$C$40,1))","v":"51-60"},{"$f":"SUMPRODUCT((Data!$B$17:$B$19=Model!$F563)*(Data!$C$16:$K$16=Model!$K563)*(Data!$C$17:$K$19))","v":2.73},50.89,{"$f":"_xlfn.IFS(M563>70,\"Serviceable\",M563>30, \"Limited Life\",M563<=30, \"Unserviceable\")","v":"Limited Life"}]
[null,824,1971,"Wood Creos Impregnated","Serviceable","Class 3",2018,80,72.44,7,{"$f":"INDEX(Lists!$B$32:$B$40, MATCH(2020-C564, Lists!$C$32:$C$40,1))","v":"41-50"},{"$f":"SUMPRODUCT((Data!$B$17:$B$19=Model!$F564)*(Data!$C$16:$K$16=Model!$K564)*(Data!$C$17:$K$19))","v":3.78},53.540000000000006,{"$f":"_xlfn.IFS(M564>70,\"Serviceable\",M564>30, \"Limited Life\",M564<=30, \"Unserviceable\")","v":"Limited Life"}]
[null,834,1967,"Wood Creos Impregnated","Serviceable","Class 3",2018,110,104.54,7,{"$f":"INDEX(Lists!$B$32:$B$40, MATCH(2020-C565, Lists!$C$32:$C$40,1))","v":"51-60"},{"$f":"SUMPRODUCT((Data!$B$17:$B$19=Model!$F565)*(Data!$C$16:$K$16=Model!$K565)*(Data!$C$17:$K$19))","v":2.73},90.89,{"$f":"_xlfn.IFS(M565>70,\"Serviceable\",M565>30, \"Limited Life\",M565<=30, \"Unserviceable\")","v":"Serviceable"}]
[null,835,1960,"Wood Creos Impregnated","Serviceable","Class 3",2018,90,84.54,7,{"$f":"INDEX(Lists!$B$32:$B$40, MATCH(2020-C566, Lists!$C$32:$C$40,1))","v":"51-60"},{"$f":"SUMPRODUCT((Data!$B$17:$B$19=Model!$F566)*(Data!$C$16:$K$16=Model!$K566)*(Data!$C$17:$K$19))","v":2.73},70.89,{"$f":"_xlfn.IFS(M566>70,\"Serviceable\",M566>30, \"Limited Life\",M566<=30, \"Unserviceable\")","v":"Serviceable"}]
[null,836,1969,"Wood Creos Impregnated","Serviceable","Class 2",2018,80,74.86,7,{"$f":"INDEX(Lists!$B$32:$B$40, MATCH(2020-C567, Lists!$C$32:$C$40,1))","v":"51-60"},{"$f":"SUMPRODUCT((Data!$B$17:$B$19=Model!$F567)*(Data!$C$16:$K$16=Model!$K567)*(Data!$C$17:$K$19))","v":2.57},62.010000000000005,{"$f":"_xlfn.IFS(M567>70,\"Serviceable\",M567>30, \"Limited Life\",M567<=30, \"Unserviceable\")","v":"Limited Life"}]
[null,837,1980,"Wood Untreated Dressed","Serviceable","Class 1",2018,130,124.96,7,{"$f":"INDEX(Lists!$B$32:$B$40, MATCH(2020-C568, Lists!$C$32:$C$40,1))","v":"31-40"},{"$f":"SUMPRODUCT((Data!$B$17:$B$19=Model!$F568)*(Data!$C$16:$K$16=Model!$K568)*(Data!$C$17:$K$19))","v":2.52},112.36,{"$f":"_xlfn.IFS(M568>70,\"Serviceable\",M568>30, \"Limited Life\",M568<=30, \"Unserviceable\")","v":"Serviceable"}]
[null,838,1967,"Wood Creos Impregnated","Serviceable","Class 3",2018,100,94.54,7,{"$f":"INDEX(Lists!$B$32:$B$40, MATCH(2020-C569, Lists!$C$32:$C$40,1))","v":"51-60"},{"$f":"SUMPRODUCT((Data!$B$17:$B$19=Model!$F569)*(Data!$C$16:$K$16=Model!$K569)*(Data!$C$17:$K$19))","v":2.73},80.89,{"$f":"_xlfn.IFS(M569>70,\"Serviceable\",M569>30, \"Limited Life\",M569<=30, \"Unserviceable\")","v":"Serviceable"}]
[null,846,1957,"Wood Creos Impregnated","Serviceable","Class 3",2018,100,95.96,7,{"$f":"INDEX(Lists!$B$32:$B$40, MATCH(2020-C570, Lists!$C$32:$C$40,1))","v":"61-70"},{"$f":"SUMPRODUCT((Data!$B$17:$B$19=Model!$F570)*(Data!$C$16:$K$16=Model!$K570)*(Data!$C$17:$K$19))","v":2.02},85.86,{"$f":"_xlfn.IFS(M570>70,\"Serviceable\",M570>30, \"Limited Life\",M570<=30, \"Unserviceable\")","v":"Serviceable"}]
[null,847,1965,"Wood Creos Impregnated","Serviceable","Class 3",2018,100,94.54,7,{"$f":"INDEX(Lists!$B$32:$B$40, MATCH(2020-C571, Lists!$C$32:$C$40,1))","v":"51-60"},{"$f":"SUMPRODUCT((Data!$B$17:$B$19=Model!$F571)*(Data!$C$16:$K$16=Model!$K571)*(Data!$C$17:$K$19))","v":2.73},80.89,{"$f":"_xlfn.IFS(M571>70,\"Serviceable\",M571>30, \"Limited Life\",M571<=30, \"Unserviceable\")","v":"Serviceable"}]
[null,849,1965,"Wood Creos Impregnated","Serviceable","Class 3",2018,100,94.54,7,{"$f":"INDEX(Lists!$B$32:$B$40, MATCH(2020-C572, Lists!$C$32:$C$40,1))","v":"51-60"},{"$f":"SUMPRODUCT((Data!$B$17:$B$19=Model!$F572)*(Data!$C$16:$K$16=Model!$K572)*(Data!$C$17:$K$19))","v":2.73},80.89,{"$f":"_xlfn.IFS(M572>70,\"Serviceable\",M572>30, \"Limited Life\",M572<=30, \"Unserviceable\")","v":"Serviceable"}]
[null,851,1984,"Wood Untreated Dressed","Serviceable","Class 1",2018,120,114.96,7,{"$f":"INDEX(Lists!$B$32:$B$40, MATCH(2020-C573, Lists!$C$32:$C$40,1))","v":"31-40"},{"$f":"SUMPRODUCT((Data!$B$17:$B$19=Model!$F573)*(Data!$C$16:$K$16=Model!$K573)*(Data!$C$17:$K$19))","v":2.52},102.36,{"$f":"_xlfn.IFS(M573>70,\"Serviceable\",M573>30, \"Limited Life\",M573<=30, \"Unserviceable\")","v":"Serviceable"}]
[null,852,1984,"Wood Untreated Dressed","Serviceable","Class 1",2018,120,114.96,7,{"$f":"INDEX(Lists!$B$32:$B$40, MATCH(2020-C574, Lists!$C$32:$C$40,1))","v":"31-40"},{"$f":"SUMPRODUCT((Data!$B$17:$B$19=Model!$F574)*(Data!$C$16:$K$16=Model!$K574)*(Data!$C$17:$K$19))","v":2.52},102.36,{"$f":"_xlfn.IFS(M574>70,\"Serviceable\",M574>30, \"Limited Life\",M574<=30, \"Unserviceable\")","v":"Serviceable"}]
[null,853,1965,"Wood Creos Impregnated","Serviceable","Class 3",2018,110,104.54,7,{"$f":"INDEX(Lists!$B$32:$B$40, MATCH(2020-C575, Lists!$C$32:$C$40,1))","v":"51-60"},{"$f":"SUMPRODUCT((Data!$B$17:$B$19=Model!$F575)*(Data!$C$16:$K$16=Model!$K575)*(Data!$C$17:$K$19))","v":2.73},90.89,{"$f":"_xlfn.IFS(M575>70,\"Serviceable\",M575>30, \"Limited Life\",M575<=30, \"Unserviceable\")","v":"Serviceable"}]
[null,854,1934,"Wood Untreated Dressed","Serviceable","Class 1",2018,80,74.38,7,{"$f":"INDEX(Lists!$B$32:$B$40, MATCH(2020-C576, Lists!$C$32:$C$40,1))","v":"81-90"},{"$f":"SUMPRODUCT((Data!$B$17:$B$19=Model!$F576)*(Data!$C$16:$K$16=Model!$K576)*(Data!$C$17:$K$19))","v":2.81},60.33,{"$f":"_xlfn.IFS(M576>70,\"Serviceable\",M576>30, \"Limited Life\",M576<=30, \"Unserviceable\")","v":"Limited Life"}]
[null,855,1961,"Wood Creos Impregnated","Serviceable","Class 3",2018,90,84.54,7,{"$f":"INDEX(Lists!$B$32:$B$40, MATCH(2020-C577, Lists!$C$32:$C$40,1))","v":"51-60"},{"$f":"SUMPRODUCT((Data!$B$17:$B$19=Model!$F577)*(Data!$C$16:$K$16=Model!$K577)*(Data!$C$17:$K$19))","v":2.73},70.89,{"$f":"_xlfn.IFS(M577>70,\"Serviceable\",M577>30, \"Limited Life\",M577<=30, \"Unserviceable\")","v":"Serviceable"}]
[null,863,1965,"Wood Creos Impregnated","Serviceable","Class 3",2018,100,94.54,7,{"$f":"INDEX(Lists!$B$32:$B$40, MATCH(2020-C578, Lists!$C$32:$C$40,1))","v":"51-60"},{"$f":"SUMPRODUCT((Data!$B$17:$B$19=Model!$F578)*(Data!$C$16:$K$16=Model!$K578)*(Data!$C$17:$K$19))","v":2.73},80.89,{"$f":"_xlfn.IFS(M578>70,\"Serviceable\",M578>30, \"Limited Life\",M578<=30, \"Unserviceable\")","v":"Serviceable"}]
[null,867,1972,"Wood Creos Impregnated","Serviceable","Class 1",2018,120,116.5,7,{"$f":"INDEX(Lists!$B$32:$B$40, MATCH(2020-C579, Lists!$C$32:$C$40,1))","v":"41-50"},{"$f":"SUMPRODUCT((Data!$B$17:$B$19=Model!$F579)*(Data!$C$16:$K$16=Model!$K579)*(Data!$C$17:$K$19))","v":1.75},107.75,{"$f":"_xlfn.IFS(M579>70,\"Serviceable\",M579>30, \"Limited Life\",M579<=30, \"Unserviceable\")","v":"Serviceable"}]
[null,869,1965,"Wood Creos Impregnated","Serviceable","Class 3",2018,100,94.54,7,{"$f":"INDEX(Lists!$B$32:$B$40, MATCH(2020-C580, Lists!$C$32:$C$40,1))","v":"51-60"},{"$f":"SUMPRODUCT((Data!$B$17:$B$19=Model!$F580)*(Data!$C$16:$K$16=Model!$K580)*(Data!$C$17:$K$19))","v":2.73},80.89,{"$f":"_xlfn.IFS(M580>70,\"Serviceable\",M580>30, \"Limited Life\",M580<=30, \"Unserviceable\")","v":"Serviceable"}]
[null,870,1971,"Wood Creos Impregnated","Serviceable","Class 3",2018,100,92.44,7,{"$f":"INDEX(Lists!$B$32:$B$40, MATCH(2020-C581, Lists!$C$32:$C$40,1))","v":"41-50"},{"$f":"SUMPRODUCT((Data!$B$17:$B$19=Model!$F581)*(Data!$C$16:$K$16=Model!$K581)*(Data!$C$17:$K$19))","v":3.78},73.540000000000006,{"$f":"_xlfn.IFS(M581>70,\"Serviceable\",M581>30, \"Limited Life\",M581<=30, \"Unserviceable\")","v":"Serviceable"}]
[null,871,1969,"Wood Creos Impregnated","Limited Life","Class 3",2018,70,64.540000000000006,7,{"$f":"INDEX(Lists!$B$32:$B$40, MATCH(2020-C582, Lists!$C$32:$C$40,1))","v":"51-60"},{"$f":"SUMPRODUCT((Data!$B$17:$B$19=Model!$F582)*(Data!$C$16:$K$16=Model!$K582)*(Data!$C$17:$K$19))","v":2.73},50.89,{"$f":"_xlfn.IFS(M582>70,\"Serviceable\",M582>30, \"Limited Life\",M582<=30, \"Unserviceable\")","v":"Limited Life"}]
[null,872,1983,"Wood Untreated Dressed","Serviceable","Class 1",2018,100,94.96,7,{"$f":"INDEX(Lists!$B$32:$B$40, MATCH(2020-C583, Lists!$C$32:$C$40,1))","v":"31-40"},{"$f":"SUMPRODUCT((Data!$B$17:$B$19=Model!$F583)*(Data!$C$16:$K$16=Model!$K583)*(Data!$C$17:$K$19))","v":2.52},82.36,{"$f":"_xlfn.IFS(M583>70,\"Serviceable\",M583>30, \"Limited Life\",M583<=30, \"Unserviceable\")","v":"Serviceable"}]
[null,873,1986,"Wood Untreated Dressed","Serviceable","Class 1",2018,140,134.96,{"$f":"2025-G584","v":7},{"$f":"INDEX(Lists!$B$32:$B$40, MATCH(2020-C584, Lists!$C$32:$C$40,1))","v":"31-40"},{"$f":"SUMPRODUCT((Data!$B$17:$B$19=Model!$F584)*(Data!$C$16:$K$16=Model!$K584)*(Data!$C$17:$K$19))","v":2.52},{"$f":"IF(IF(H584>=700,999,(H584-L584*J584))<0,0,IF(H584>=700,999,(H584-L584*J584)))","v":122.36},{"$f":"_xlfn.IFS(M584>70,\"Serviceable\",M584>30, \"Limited Life\",M584<=30, \"Unserviceable\")","v":"Serviceable"}]
[null,874,1988,"Wood Untreated Dressed","Serviceable","Class 1",2018,140,134.96,7,{"$f":"INDEX(Lists!$B$32:$B$40, MATCH(2020-C585, Lists!$C$32:$C$40,1))","v":"31-40"},{"$f":"SUMPRODUCT((Data!$B$17:$B$19=Model!$F585)*(Data!$C$16:$K$16=Model!$K585)*(Data!$C$17:$K$19))","v":2.52},122.36,{"$f":"_xlfn.IFS(M585>70,\"Serviceable\",M585>30, \"Limited Life\",M585<=30, \"Unserviceable\")","v":"Serviceable"}]
[null,877,1973,"Wood Creos Impregnated","Serviceable","Class 3",2018,100,92.44,7,{"$f":"INDEX(Lists!$B$32:$B$40, MATCH(2020-C586, Lists!$C$32:$C$40,1))","v":"41-50"},{"$f":"SUMPRODUCT((Data!$B$17:$B$19=Model!$F586)*(Data!$C$16:$K$16=Model!$K586)*(Data!$C$17:$K$19))","v":3.78},73.540000000000006,{"$f":"_xlfn.IFS(M586>70,\"Serviceable\",M586>30, \"Limited Life\",M586<=30, \"Unserviceable\")","v":"Serviceable"}]
[null,879,1969,"Wood Creos Impregnated","Serviceable","Class 2",2018,100,94.86,7,{"$f":"INDEX(Lists!$B$32:$B$40, MATCH(2020-C587, Lists!$C$32:$C$40,1))","v":"51-60"},{"$f":"SUMPRODUCT((Data!$B$17:$B$19=Model!$F587)*(Data!$C$16:$K$16=Model!$K587)*(Data!$C$17:$K$19))","v":2.57},82.01,{"$f":"_xlfn.IFS(M587>70,\"Serviceable\",M587>30, \"Limited Life\",M587<=30, \"Unserviceable\")","v":"Serviceable"}]
[null,881,1973,"Wood Untreated Dressed","Serviceable","Class 1",2018,120,116.5,7,{"$f":"INDEX(Lists!$B$32:$B$40, MATCH(2020-C588, Lists!$C$32:$C$40,1))","v":"41-50"},{"$f":"SUMPRODUCT((Data!$B$17:$B$19=Model!$F588)*(Data!$C$16:$K$16=Model!$K588)*(Data!$C$17:$K$19))","v":1.75},107.75,{"$f":"_xlfn.IFS(M588>70,\"Serviceable\",M588>30, \"Limited Life\",M588<=30, \"Unserviceable\")","v":"Serviceable"}]
[null,882,1967,"Wood Creos Impregnated","Serviceable","Class 3",2018,100,94.54,7,{"$f":"INDEX(Lists!$B$32:$B$40, MATCH(2020-C589, Lists!$C$32:$C$40,1))","v":"51-60"},{"$f":"SUMPRODUCT((Data!$B$17:$B$19=Model!$F589)*(Data!$C$16:$K$16=Model!$K589)*(Data!$C$17:$K$19))","v":2.73},80.89,{"$f":"_xlfn.IFS(M589>70,\"Serviceable\",M589>30, \"Limited Life\",M589<=30, \"Unserviceable\")","v":"Serviceable"}]
[null,885,1974,"Wood Untreated Dressed","Serviceable","Class 1",2018,100,96.5,7,{"$f":"INDEX(Lists!$B$32:$B$40, MATCH(2020-C590, Lists!$C$32:$C$40,1))","v":"41-50"},{"$f":"SUMPRODUCT((Data!$B$17:$B$19=Model!$F590)*(Data!$C$16:$K$16=Model!$K590)*(Data!$C$17:$K$19))","v":1.75},87.75,{"$f":"_xlfn.IFS(M590>70,\"Serviceable\",M590>30, \"Limited Life\",M590<=30, \"Unserviceable\")","v":"Serviceable"}]
[null,886,1986,"Wood Untreated Dressed","Serviceable","Class 1",2018,100,94.96,7,{"$f":"INDEX(Lists!$B$32:$B$40, MATCH(2020-C591, Lists!$C$32:$C$40,1))","v":"31-40"},{"$f":"SUMPRODUCT((Data!$B$17:$B$19=Model!$F591)*(Data!$C$16:$K$16=Model!$K591)*(Data!$C$17:$K$19))","v":2.52},82.36,{"$f":"_xlfn.IFS(M591>70,\"Serviceable\",M591>30, \"Limited Life\",M591<=30, \"Unserviceable\")","v":"Serviceable"}]
[null,887,1982,"Wood Untreated Round","Serviceable","Class 2",2018,100,95.34,7,{"$f":"INDEX(Lists!$B$32:$B$40, MATCH(2020-C592, Lists!$C$32:$C$40,1))","v":"31-40"},{"$f":"SUMPRODUCT((Data!$B$17:$B$19=Model!$F592)*(Data!$C$16:$K$16=Model!$K592)*(Data!$C$17:$K$19))","v":2.33},83.69,{"$f":"_xlfn.IFS(M592>70,\"Serviceable\",M592>30, \"Limited Life\",M592<=30, \"Unserviceable\")","v":"Serviceable"}]
[null,889,1978,"Wood Untreated Dressed","Serviceable","Class 1",2018,130,126.5,7,{"$f":"INDEX(Lists!$B$32:$B$40, MATCH(2020-C593, Lists!$C$32:$C$40,1))","v":"41-50"},{"$f":"SUMPRODUCT((Data!$B$17:$B$19=Model!$F593)*(Data!$C$16:$K$16=Model!$K593)*(Data!$C$17:$K$19))","v":1.75},117.75,{"$f":"_xlfn.IFS(M593>70,\"Serviceable\",M593>30, \"Limited Life\",M593<=30, \"Unserviceable\")","v":"Serviceable"}]
[null,891,1961,"Wood Creos Impregnated","Serviceable","Class 3",2018,90,84.54,7,{"$f":"INDEX(Lists!$B$32:$B$40, MATCH(2020-C594, Lists!$C$32:$C$40,1))","v":"51-60"},{"$f":"SUMPRODUCT((Data!$B$17:$B$19=Model!$F594)*(Data!$C$16:$K$16=Model!$K594)*(Data!$C$17:$K$19))","v":2.73},70.89,{"$f":"_xlfn.IFS(M594>70,\"Serviceable\",M594>30, \"Limited Life\",M594<=30, \"Unserviceable\")","v":"Serviceable"}]
[null,892,1985,"Wood Untreated Dressed","Serviceable","Class 1",2018,150,144.96,7,{"$f":"INDEX(Lists!$B$32:$B$40, MATCH(2020-C595, Lists!$C$32:$C$40,1))","v":"31-40"},{"$f":"SUMPRODUCT((Data!$B$17:$B$19=Model!$F595)*(Data!$C$16:$K$16=Model!$K595)*(Data!$C$17:$K$19))","v":2.52},132.36000000000001,{"$f":"_xlfn.IFS(M595>70,\"Serviceable\",M595>30, \"Limited Life\",M595<=30, \"Unserviceable\")","v":"Serviceable"}]
[null,893,2008,"CCA Treated Pole","Serviceable","Class 1",2018,150,147.88,7,{"$f":"INDEX(Lists!$B$32:$B$40, MATCH(2020-C596, Lists!$C$32:$C$40,1))","v":"0-20"},{"$f":"SUMPRODUCT((Data!$B$17:$B$19=Model!$F596)*(Data!$C$16:$K$16=Model!$K596)*(Data!$C$17:$K$19))","v":1.06},142.58000000000001,{"$f":"_xlfn.IFS(M596>70,\"Serviceable\",M596>30, \"Limited Life\",M596<=30, \"Unserviceable\")","v":"Serviceable"}]
[null,897,2007,"CCA Treated Pole","Serviceable","Class 1",2018,150,147.88,7,{"$f":"INDEX(Lists!$B$32:$B$40, MATCH(2020-C597, Lists!$C$32:$C$40,1))","v":"0-20"},{"$f":"SUMPRODUCT((Data!$B$17:$B$19=Model!$F597)*(Data!$C$16:$K$16=Model!$K597)*(Data!$C$17:$K$19))","v":1.06},142.58000000000001,{"$f":"_xlfn.IFS(M597>70,\"Serviceable\",M597>30, \"Limited Life\",M597<=30, \"Unserviceable\")","v":"Serviceable"}]
[null,899,1974,"Wood Creos Impregnated","Serviceable","Class 1",2018,120,116.5,7,{"$f":"INDEX(Lists!$B$32:$B$40, MATCH(2020-C598, Lists!$C$32:$C$40,1))","v":"41-50"},{"$f":"SUMPRODUCT((Data!$B$17:$B$19=Model!$F598)*(Data!$C$16:$K$16=Model!$K598)*(Data!$C$17:$K$19))","v":1.75},107.75,{"$f":"_xlfn.IFS(M598>70,\"Serviceable\",M598>30, \"Limited Life\",M598<=30, \"Unserviceable\")","v":"Serviceable"}]
[null,902,1969,"Wood Creos Impregnated","Serviceable","Class 3",2018,100,94.54,7,{"$f":"INDEX(Lists!$B$32:$B$40, MATCH(2020-C599, Lists!$C$32:$C$40,1))","v":"51-60"},{"$f":"SUMPRODUCT((Data!$B$17:$B$19=Model!$F599)*(Data!$C$16:$K$16=Model!$K599)*(Data!$C$17:$K$19))","v":2.73},80.89,{"$f":"_xlfn.IFS(M599>70,\"Serviceable\",M599>30, \"Limited Life\",M599<=30, \"Unserviceable\")","v":"Serviceable"}]
[null,912,1966,"Wood Creos Impregnated","Serviceable","Class 3",2018,100,94.54,7,{"$f":"INDEX(Lists!$B$32:$B$40, MATCH(2020-C600, Lists!$C$32:$C$40,1))","v":"51-60"},{"$f":"SUMPRODUCT((Data!$B$17:$B$19=Model!$F600)*(Data!$C$16:$K$16=Model!$K600)*(Data!$C$17:$K$19))","v":2.73},80.89,{"$f":"_xlfn.IFS(M600>70,\"Serviceable\",M600>30, \"Limited Life\",M600<=30, \"Unserviceable\")","v":"Serviceable"}]
[null,913,1986,"Wood Untreated Dressed","Serviceable","Class 1",2018,120,114.96,7,{"$f":"INDEX(Lists!$B$32:$B$40, MATCH(2020-C601, Lists!$C$32:$C$40,1))","v":"31-40"},{"$f":"SUMPRODUCT((Data!$B$17:$B$19=Model!$F601)*(Data!$C$16:$K$16=Model!$K601)*(Data!$C$17:$K$19))","v":2.52},102.36,{"$f":"_xlfn.IFS(M601>70,\"Serviceable\",M601>30, \"Limited Life\",M601<=30, \"Unserviceable\")","v":"Serviceable"}]
[null,914,1968,"Wood Creos Impregnated","Serviceable","Class 3",2018,90,84.54,7,{"$f":"INDEX(Lists!$B$32:$B$40, MATCH(2020-C602, Lists!$C$32:$C$40,1))","v":"51-60"},{"$f":"SUMPRODUCT((Data!$B$17:$B$19=Model!$F602)*(Data!$C$16:$K$16=Model!$K602)*(Data!$C$17:$K$19))","v":2.73},70.89,{"$f":"_xlfn.IFS(M602>70,\"Serviceable\",M602>30, \"Limited Life\",M602<=30, \"Unserviceable\")","v":"Serviceable"}]
[null,916,1963,"Wood Creos Impregnated","Serviceable","Class 3",2018,80,74.540000000000006,7,{"$f":"INDEX(Lists!$B$32:$B$40, MATCH(2020-C603, Lists!$C$32:$C$40,1))","v":"51-60"},{"$f":"SUMPRODUCT((Data!$B$17:$B$19=Model!$F603)*(Data!$C$16:$K$16=Model!$K603)*(Data!$C$17:$K$19))","v":2.73},60.89,{"$f":"_xlfn.IFS(M603>70,\"Serviceable\",M603>30, \"Limited Life\",M603<=30, \"Unserviceable\")","v":"Limited Life"}]
[null,917,1939,"Wood Untreated Dressed","Serviceable","Class 1",2018,80,74.38,7,{"$f":"INDEX(Lists!$B$32:$B$40, MATCH(2020-C604, Lists!$C$32:$C$40,1))","v":"81-90"},{"$f":"SUMPRODUCT((Data!$B$17:$B$19=Model!$F604)*(Data!$C$16:$K$16=Model!$K604)*(Data!$C$17:$K$19))","v":2.81},60.33,{"$f":"_xlfn.IFS(M604>70,\"Serviceable\",M604>30, \"Limited Life\",M604<=30, \"Unserviceable\")","v":"Limited Life"}]
[null,918,1938,"Wood Untreated Dressed","Serviceable","Class 1",2018,80,74.38,7,{"$f":"INDEX(Lists!$B$32:$B$40, MATCH(2020-C605, Lists!$C$32:$C$40,1))","v":"81-90"},{"$f":"SUMPRODUCT((Data!$B$17:$B$19=Model!$F605)*(Data!$C$16:$K$16=Model!$K605)*(Data!$C$17:$K$19))","v":2.81},60.33,{"$f":"_xlfn.IFS(M605>70,\"Serviceable\",M605>30, \"Limited Life\",M605<=30, \"Unserviceable\")","v":"Limited Life"}]
[null,922,1971,"Wood Creos Impregnated","Limited Life","Class 3",2019,70,66.22,6,{"$f":"INDEX(Lists!$B$32:$B$40, MATCH(2020-C606, Lists!$C$32:$C$40,1))","v":"41-50"},{"$f":"SUMPRODUCT((Data!$B$17:$B$19=Model!$F606)*(Data!$C$16:$K$16=Model!$K606)*(Data!$C$17:$K$19))","v":3.78},47.32,{"$f":"_xlfn.IFS(M606>70,\"Serviceable\",M606>30, \"Limited Life\",M606<=30, \"Unserviceable\")","v":"Limited Life"}]
[null,923,1986,"Wood Untreated Dressed","Serviceable","Class 1",2018,120,114.96,7,{"$f":"INDEX(Lists!$B$32:$B$40, MATCH(2020-C607, Lists!$C$32:$C$40,1))","v":"31-40"},{"$f":"SUMPRODUCT((Data!$B$17:$B$19=Model!$F607)*(Data!$C$16:$K$16=Model!$K607)*(Data!$C$17:$K$19))","v":2.52},102.36,{"$f":"_xlfn.IFS(M607>70,\"Serviceable\",M607>30, \"Limited Life\",M607<=30, \"Unserviceable\")","v":"Serviceable"}]
[null,924,1974,"Wood Creos Impregnated","Serviceable","Class 1",2018,100,96.5,7,{"$f":"INDEX(Lists!$B$32:$B$40, MATCH(2020-C608, Lists!$C$32:$C$40,1))","v":"41-50"},{"$f":"SUMPRODUCT((Data!$B$17:$B$19=Model!$F608)*(Data!$C$16:$K$16=Model!$K608)*(Data!$C$17:$K$19))","v":1.75},87.75,{"$f":"_xlfn.IFS(M608>70,\"Serviceable\",M608>30, \"Limited Life\",M608<=30, \"Unserviceable\")","v":"Serviceable"}]
[null,925,1941,"Wood Untreated Dressed","Serviceable","Class 1",2018,100,95.7,7,{"$f":"INDEX(Lists!$B$32:$B$40, MATCH(2020-C609, Lists!$C$32:$C$40,1))","v":"71-80"},{"$f":"SUMPRODUCT((Data!$B$17:$B$19=Model!$F609)*(Data!$C$16:$K$16=Model!$K609)*(Data!$C$17:$K$19))","v":2.15},84.95,{"$f":"_xlfn.IFS(M609>70,\"Serviceable\",M609>30, \"Limited Life\",M609<=30, \"Unserviceable\")","v":"Serviceable"}]
[null,926,1980,"Wood Untreated Dressed","Serviceable","Class 1",2018,120,114.96,7,{"$f":"INDEX(Lists!$B$32:$B$40, MATCH(2020-C610, Lists!$C$32:$C$40,1))","v":"31-40"},{"$f":"SUMPRODUCT((Data!$B$17:$B$19=Model!$F610)*(Data!$C$16:$K$16=Model!$K610)*(Data!$C$17:$K$19))","v":2.52},102.36,{"$f":"_xlfn.IFS(M610>70,\"Serviceable\",M610>30, \"Limited Life\",M610<=30, \"Unserviceable\")","v":"Serviceable"}]
[null,930,1997,"CCA Treated Pole","Serviceable","Class 1",2018,150,146.08000000000001,7,{"$f":"INDEX(Lists!$B$32:$B$40, MATCH(2020-C611, Lists!$C$32:$C$40,1))","v":"21-30"},{"$f":"SUMPRODUCT((Data!$B$17:$B$19=Model!$F611)*(Data!$C$16:$K$16=Model!$K611)*(Data!$C$17:$K$19))","v":1.96},136.28,{"$f":"_xlfn.IFS(M611>70,\"Serviceable\",M611>30, \"Limited Life\",M611<=30, \"Unserviceable\")","v":"Serviceable"}]
[null,933,1938,"Wood Untreated Dressed","Serviceable","Class 1",2018,90,84.38,7,{"$f":"INDEX(Lists!$B$32:$B$40, MATCH(2020-C612, Lists!$C$32:$C$40,1))","v":"81-90"},{"$f":"SUMPRODUCT((Data!$B$17:$B$19=Model!$F612)*(Data!$C$16:$K$16=Model!$K612)*(Data!$C$17:$K$19))","v":2.81},70.33,{"$f":"_xlfn.IFS(M612>70,\"Serviceable\",M612>30, \"Limited Life\",M612<=30, \"Unserviceable\")","v":"Serviceable"}]
[null,935,1986,"Wood Untreated Dressed","Serviceable","Class 1",2018,100,94.96,7,{"$f":"INDEX(Lists!$B$32:$B$40, MATCH(2020-C613, Lists!$C$32:$C$40,1))","v":"31-40"},{"$f":"SUMPRODUCT((Data!$B$17:$B$19=Model!$F613)*(Data!$C$16:$K$16=Model!$K613)*(Data!$C$17:$K$19))","v":2.52},82.36,{"$f":"_xlfn.IFS(M613>70,\"Serviceable\",M613>30, \"Limited Life\",M613<=30, \"Unserviceable\")","v":"Serviceable"}]
[null,936,1938,"Wood Untreated Dressed","Serviceable","Class 1",2018,80,74.38,7,{"$f":"INDEX(Lists!$B$32:$B$40, MATCH(2020-C614, Lists!$C$32:$C$40,1))","v":"81-90"},{"$f":"SUMPRODUCT((Data!$B$17:$B$19=Model!$F614)*(Data!$C$16:$K$16=Model!$K614)*(Data!$C$17:$K$19))","v":2.81},60.33,{"$f":"_xlfn.IFS(M614>70,\"Serviceable\",M614>30, \"Limited Life\",M614<=30, \"Unserviceable\")","v":"Limited Life"}]
[null,937,1938,"Wood Untreated Dressed","Serviceable","Class 1",2018,90,84.38,7,{"$f":"INDEX(Lists!$B$32:$B$40, MATCH(2020-C615, Lists!$C$32:$C$40,1))","v":"81-90"},{"$f":"SUMPRODUCT((Data!$B$17:$B$19=Model!$F615)*(Data!$C$16:$K$16=Model!$K615)*(Data!$C$17:$K$19))","v":2.81},70.33,{"$f":"_xlfn.IFS(M615>70,\"Serviceable\",M615>30, \"Limited Life\",M615<=30, \"Unserviceable\")","v":"Serviceable"}]
[null,938,1977,"Wood Untreated Dressed","Serviceable","Class 1",2018,100,96.5,7,{"$f":"INDEX(Lists!$B$32:$B$40, MATCH(2020-C616, Lists!$C$32:$C$40,1))","v":"41-50"},{"$f":"SUMPRODUCT((Data!$B$17:$B$19=Model!$F616)*(Data!$C$16:$K$16=Model!$K616)*(Data!$C$17:$K$19))","v":1.75},87.75,{"$f":"_xlfn.IFS(M616>70,\"Serviceable\",M616>30, \"Limited Life\",M616<=30, \"Unserviceable\")","v":"Serviceable"}]
[null,939,1986,"Wood Untreated Dressed","Serviceable","Class 1",2018,110,104.96,7,{"$f":"INDEX(Lists!$B$32:$B$40, MATCH(2020-C617, Lists!$C$32:$C$40,1))","v":"31-40"},{"$f":"SUMPRODUCT((Data!$B$17:$B$19=Model!$F617)*(Data!$C$16:$K$16=Model!$K617)*(Data!$C$17:$K$19))","v":2.52},92.36,{"$f":"_xlfn.IFS(M617>70,\"Serviceable\",M617>30, \"Limited Life\",M617<=30, \"Unserviceable\")","v":"Serviceable"}]
[null,940,1938,"Wood Untreated Dressed","Serviceable","Class 1",2018,90,84.38,7,{"$f":"INDEX(Lists!$B$32:$B$40, MATCH(2020-C618, Lists!$C$32:$C$40,1))","v":"81-90"},{"$f":"SUMPRODUCT((Data!$B$17:$B$19=Model!$F618)*(Data!$C$16:$K$16=Model!$K618)*(Data!$C$17:$K$19))","v":2.81},70.33,{"$f":"_xlfn.IFS(M618>70,\"Serviceable\",M618>30, \"Limited Life\",M618<=30, \"Unserviceable\")","v":"Serviceable"}]
[null,941,1986,"Wood Untreated Dressed","Serviceable","Class 1",2018,130,124.96,7,{"$f":"INDEX(Lists!$B$32:$B$40, MATCH(2020-C619, Lists!$C$32:$C$40,1))","v":"31-40"},{"$f":"SUMPRODUCT((Data!$B$17:$B$19=Model!$F619)*(Data!$C$16:$K$16=Model!$K619)*(Data!$C$17:$K$19))","v":2.52},112.36,{"$f":"_xlfn.IFS(M619>70,\"Serviceable\",M619>30, \"Limited Life\",M619<=30, \"Unserviceable\")","v":"Serviceable"}]
[null,944,1969,"Wood Creos Impregnated","Serviceable","Class 3",2018,90,84.54,7,{"$f":"INDEX(Lists!$B$32:$B$40, MATCH(2020-C620, Lists!$C$32:$C$40,1))","v":"51-60"},{"$f":"SUMPRODUCT((Data!$B$17:$B$19=Model!$F620)*(Data!$C$16:$K$16=Model!$K620)*(Data!$C$17:$K$19))","v":2.73},70.89,{"$f":"_xlfn.IFS(M620>70,\"Serviceable\",M620>30, \"Limited Life\",M620<=30, \"Unserviceable\")","v":"Serviceable"}]
[null,947,1984,"Wood Untreated Dressed","Serviceable","Class 1",2018,150,144.96,7,{"$f":"INDEX(Lists!$B$32:$B$40, MATCH(2020-C621, Lists!$C$32:$C$40,1))","v":"31-40"},{"$f":"SUMPRODUCT((Data!$B$17:$B$19=Model!$F621)*(Data!$C$16:$K$16=Model!$K621)*(Data!$C$17:$K$19))","v":2.52},132.36000000000001,{"$f":"_xlfn.IFS(M621>70,\"Serviceable\",M621>30, \"Limited Life\",M621<=30, \"Unserviceable\")","v":"Serviceable"}]
[null,949,1939,"Wood Untreated Dressed","Serviceable","Class 1",2018,100,94.38,7,{"$f":"INDEX(Lists!$B$32:$B$40, MATCH(2020-C622, Lists!$C$32:$C$40,1))","v":"81-90"},{"$f":"SUMPRODUCT((Data!$B$17:$B$19=Model!$F622)*(Data!$C$16:$K$16=Model!$K622)*(Data!$C$17:$K$19))","v":2.81},80.33,{"$f":"_xlfn.IFS(M622>70,\"Serviceable\",M622>30, \"Limited Life\",M622<=30, \"Unserviceable\")","v":"Serviceable"}]
[null,950,1934,"Wood Untreated Dressed","Serviceable","Class 1",2018,90,84.38,7,{"$f":"INDEX(Lists!$B$32:$B$40, MATCH(2020-C623, Lists!$C$32:$C$40,1))","v":"81-90"},{"$f":"SUMPRODUCT((Data!$B$17:$B$19=Model!$F623)*(Data!$C$16:$K$16=Model!$K623)*(Data!$C$17:$K$19))","v":2.81},70.33,{"$f":"_xlfn.IFS(M623>70,\"Serviceable\",M623>30, \"Limited Life\",M623<=30, \"Unserviceable\")","v":"Serviceable"}]
[null,952,1941,"Wood Untreated Dressed","Serviceable","Class 1",2018,90,85.7,7,{"$f":"INDEX(Lists!$B$32:$B$40, MATCH(2020-C624, Lists!$C$32:$C$40,1))","v":"71-80"},{"$f":"SUMPRODUCT((Data!$B$17:$B$19=Model!$F624)*(Data!$C$16:$K$16=Model!$K624)*(Data!$C$17:$K$19))","v":2.15},74.95,{"$f":"_xlfn.IFS(M624>70,\"Serviceable\",M624>30, \"Limited Life\",M624<=30, \"Unserviceable\")","v":"Serviceable"}]
[null,954,1997,"CCA Treated Pole","Serviceable","Class 1",2018,90,86.08,7,{"$f":"INDEX(Lists!$B$32:$B$40, MATCH(2020-C625, Lists!$C$32:$C$40,1))","v":"21-30"},{"$f":"SUMPRODUCT((Data!$B$17:$B$19=Model!$F625)*(Data!$C$16:$K$16=Model!$K625)*(Data!$C$17:$K$19))","v":1.96},76.28,{"$f":"_xlfn.IFS(M625>70,\"Serviceable\",M625>30, \"Limited Life\",M625<=30, \"Unserviceable\")","v":"Serviceable"}]
[null,955,1958,"Wood Creos Impregnated","Serviceable","Class 3",2018,100,95.96,7,{"$f":"INDEX(Lists!$B$32:$B$40, MATCH(2020-C626, Lists!$C$32:$C$40,1))","v":"61-70"},{"$f":"SUMPRODUCT((Data!$B$17:$B$19=Model!$F626)*(Data!$C$16:$K$16=Model!$K626)*(Data!$C$17:$K$19))","v":2.02},85.86,{"$f":"_xlfn.IFS(M626>70,\"Serviceable\",M626>30, \"Limited Life\",M626<=30, \"Unserviceable\")","v":"Serviceable"}]
[null,956,1941,"Wood Untreated Dressed","Serviceable","Class 1",2018,110,105.7,7,{"$f":"INDEX(Lists!$B$32:$B$40, MATCH(2020-C627, Lists!$C$32:$C$40,1))","v":"71-80"},{"$f":"SUMPRODUCT((Data!$B$17:$B$19=Model!$F627)*(Data!$C$16:$K$16=Model!$K627)*(Data!$C$17:$K$19))","v":2.15},94.95,{"$f":"_xlfn.IFS(M627>70,\"Serviceable\",M627>30, \"Limited Life\",M627<=30, \"Unserviceable\")","v":"Serviceable"}]
[null,957,1941,"Wood Untreated Dressed","Serviceable","Class 1",2018,110,105.7,7,{"$f":"INDEX(Lists!$B$32:$B$40, MATCH(2020-C628, Lists!$C$32:$C$40,1))","v":"71-80"},{"$f":"SUMPRODUCT((Data!$B$17:$B$19=Model!$F628)*(Data!$C$16:$K$16=Model!$K628)*(Data!$C$17:$K$19))","v":2.15},94.95,{"$f":"_xlfn.IFS(M628>70,\"Serviceable\",M628>30, \"Limited Life\",M628<=30, \"Unserviceable\")","v":"Serviceable"}]
[null,958,1942,"Wood Untreated Dressed","Serviceable","Class 1",2018,130,125.7,7,{"$f":"INDEX(Lists!$B$32:$B$40, MATCH(2020-C629, Lists!$C$32:$C$40,1))","v":"71-80"},{"$f":"SUMPRODUCT((Data!$B$17:$B$19=Model!$F629)*(Data!$C$16:$K$16=Model!$K629)*(Data!$C$17:$K$19))","v":2.15},114.95,{"$f":"_xlfn.IFS(M629>70,\"Serviceable\",M629>30, \"Limited Life\",M629<=30, \"Unserviceable\")","v":"Serviceable"}]
[null,960,1942,"Wood Untreated Dressed","Serviceable","Class 1",2018,120,115.7,7,{"$f":"INDEX(Lists!$B$32:$B$40, MATCH(2020-C630, Lists!$C$32:$C$40,1))","v":"71-80"},{"$f":"SUMPRODUCT((Data!$B$17:$B$19=Model!$F630)*(Data!$C$16:$K$16=Model!$K630)*(Data!$C$17:$K$19))","v":2.15},104.95,{"$f":"_xlfn.IFS(M630>70,\"Serviceable\",M630>30, \"Limited Life\",M630<=30, \"Unserviceable\")","v":"Serviceable"}]
[null,961,1947,"Wood Untreated Dressed","Serviceable","Class 1",2018,100,95.7,7,{"$f":"INDEX(Lists!$B$32:$B$40, MATCH(2020-C631, Lists!$C$32:$C$40,1))","v":"71-80"},{"$f":"SUMPRODUCT((Data!$B$17:$B$19=Model!$F631)*(Data!$C$16:$K$16=Model!$K631)*(Data!$C$17:$K$19))","v":2.15},84.95,{"$f":"_xlfn.IFS(M631>70,\"Serviceable\",M631>30, \"Limited Life\",M631<=30, \"Unserviceable\")","v":"Serviceable"}]
[null,963,2007,"CCA Treated Pole","Serviceable","Class 1",2018,150,147.88,7,{"$f":"INDEX(Lists!$B$32:$B$40, MATCH(2020-C632, Lists!$C$32:$C$40,1))","v":"0-20"},{"$f":"SUMPRODUCT((Data!$B$17:$B$19=Model!$F632)*(Data!$C$16:$K$16=Model!$K632)*(Data!$C$17:$K$19))","v":1.06},142.58000000000001,{"$f":"_xlfn.IFS(M632>70,\"Serviceable\",M632>30, \"Limited Life\",M632<=30, \"Unserviceable\")","v":"Serviceable"}]
[null,965,2008,"CCA Treated Pole","Serviceable","Class 2",2018,162.49719689682513,160.05719689682513,7,{"$f":"INDEX(Lists!$B$32:$B$40, MATCH(2020-C633, Lists!$C$32:$C$40,1))","v":"0-20"},{"$f":"SUMPRODUCT((Data!$B$17:$B$19=Model!$F633)*(Data!$C$16:$K$16=Model!$K633)*(Data!$C$17:$K$19))","v":1.22},153.95719689682514,{"$f":"_xlfn.IFS(M633>70,\"Serviceable\",M633>30, \"Limited Life\",M633<=30, \"Unserviceable\")","v":"Serviceable"}]
[null,968,1948,"Wood Untreated Dressed","Serviceable","Class 1",2018,130,125.7,7,{"$f":"INDEX(Lists!$B$32:$B$40, MATCH(2020-C634, Lists!$C$32:$C$40,1))","v":"71-80"},{"$f":"SUMPRODUCT((Data!$B$17:$B$19=Model!$F634)*(Data!$C$16:$K$16=Model!$K634)*(Data!$C$17:$K$19))","v":2.15},114.95,{"$f":"_xlfn.IFS(M634>70,\"Serviceable\",M634>30, \"Limited Life\",M634<=30, \"Unserviceable\")","v":"Serviceable"}]
[null,969,1968,"Wood Creos Impregnated","Serviceable","Class 2",2018,100,94.86,7,{"$f":"INDEX(Lists!$B$32:$B$40, MATCH(2020-C635, Lists!$C$32:$C$40,1))","v":"51-60"},{"$f":"SUMPRODUCT((Data!$B$17:$B$19=Model!$F635)*(Data!$C$16:$K$16=Model!$K635)*(Data!$C$17:$K$19))","v":2.57},82.01,{"$f":"_xlfn.IFS(M635>70,\"Serviceable\",M635>30, \"Limited Life\",M635<=30, \"Unserviceable\")","v":"Serviceable"}]
[null,970,1941,"Wood Untreated Dressed","Serviceable","Class 1",2018,100,95.7,7,{"$f":"INDEX(Lists!$B$32:$B$40, MATCH(2020-C636, Lists!$C$32:$C$40,1))","v":"71-80"},{"$f":"SUMPRODUCT((Data!$B$17:$B$19=Model!$F636)*(Data!$C$16:$K$16=Model!$K636)*(Data!$C$17:$K$19))","v":2.15},84.95,{"$f":"_xlfn.IFS(M636>70,\"Serviceable\",M636>30, \"Limited Life\",M636<=30, \"Unserviceable\")","v":"Serviceable"}]
[null,972,1941,"Wood Untreated Dressed","Serviceable","Class 1",2018,130,125.7,7,{"$f":"INDEX(Lists!$B$32:$B$40, MATCH(2020-C637, Lists!$C$32:$C$40,1))","v":"71-80"},{"$f":"SUMPRODUCT((Data!$B$17:$B$19=Model!$F637)*(Data!$C$16:$K$16=Model!$K637)*(Data!$C$17:$K$19))","v":2.15},114.95,{"$f":"_xlfn.IFS(M637>70,\"Serviceable\",M637>30, \"Limited Life\",M637<=30, \"Unserviceable\")","v":"Serviceable"}]
[null,973,1941,"Wood Untreated Dressed","Serviceable","Class 1",2018,90,85.7,7,{"$f":"INDEX(Lists!$B$32:$B$40, MATCH(2020-C638, Lists!$C$32:$C$40,1))","v":"71-80"},{"$f":"SUMPRODUCT((Data!$B$17:$B$19=Model!$F638)*(Data!$C$16:$K$16=Model!$K638)*(Data!$C$17:$K$19))","v":2.15},74.95,{"$f":"_xlfn.IFS(M638>70,\"Serviceable\",M638>30, \"Limited Life\",M638<=30, \"Unserviceable\")","v":"Serviceable"}]
[null,974,1966,"Wood Untreated Dressed","Serviceable","Class 1",2018,80,76.7,7,{"$f":"INDEX(Lists!$B$32:$B$40, MATCH(2020-C639, Lists!$C$32:$C$40,1))","v":"51-60"},{"$f":"SUMPRODUCT((Data!$B$17:$B$19=Model!$F639)*(Data!$C$16:$K$16=Model!$K639)*(Data!$C$17:$K$19))","v":1.65},68.45,{"$f":"_xlfn.IFS(M639>70,\"Serviceable\",M639>30, \"Limited Life\",M639<=30, \"Unserviceable\")","v":"Limited Life"}]
[null,975,1972,"Wood Creos Impregnated","Serviceable","Class 3",2018,80,72.44,7,{"$f":"INDEX(Lists!$B$32:$B$40, MATCH(2020-C640, Lists!$C$32:$C$40,1))","v":"41-50"},{"$f":"SUMPRODUCT((Data!$B$17:$B$19=Model!$F640)*(Data!$C$16:$K$16=Model!$K640)*(Data!$C$17:$K$19))","v":3.78},53.540000000000006,{"$f":"_xlfn.IFS(M640>70,\"Serviceable\",M640>30, \"Limited Life\",M640<=30, \"Unserviceable\")","v":"Limited Life"}]
[null,976,1938,"Wood Untreated Dressed","Serviceable","Class 1",2018,100,94.38,7,{"$f":"INDEX(Lists!$B$32:$B$40, MATCH(2020-C641, Lists!$C$32:$C$40,1))","v":"81-90"},{"$f":"SUMPRODUCT((Data!$B$17:$B$19=Model!$F641)*(Data!$C$16:$K$16=Model!$K641)*(Data!$C$17:$K$19))","v":2.81},80.33,{"$f":"_xlfn.IFS(M641>70,\"Serviceable\",M641>30, \"Limited Life\",M641<=30, \"Unserviceable\")","v":"Serviceable"}]
[null,977,1938,"Wood Untreated Dressed","Serviceable","Class 1",2018,80,74.38,7,{"$f":"INDEX(Lists!$B$32:$B$40, MATCH(2020-C642, Lists!$C$32:$C$40,1))","v":"81-90"},{"$f":"SUMPRODUCT((Data!$B$17:$B$19=Model!$F642)*(Data!$C$16:$K$16=Model!$K642)*(Data!$C$17:$K$19))","v":2.81},60.33,{"$f":"_xlfn.IFS(M642>70,\"Serviceable\",M642>30, \"Limited Life\",M642<=30, \"Unserviceable\")","v":"Limited Life"}]
[null,978,1939,"Wood Untreated Dressed","Serviceable","Class 1",2018,100,94.38,7,{"$f":"INDEX(Lists!$B$32:$B$40, MATCH(2020-C643, Lists!$C$32:$C$40,1))","v":"81-90"},{"$f":"SUMPRODUCT((Data!$B$17:$B$19=Model!$F643)*(Data!$C$16:$K$16=Model!$K643)*(Data!$C$17:$K$19))","v":2.81},80.33,{"$f":"_xlfn.IFS(M643>70,\"Serviceable\",M643>30, \"Limited Life\",M643<=30, \"Unserviceable\")","v":"Serviceable"}]
[null,979,1939,"Wood Untreated Dressed","Serviceable","Class 1",2018,100,94.38,7,{"$f":"INDEX(Lists!$B$32:$B$40, MATCH(2020-C644, Lists!$C$32:$C$40,1))","v":"81-90"},{"$f":"SUMPRODUCT((Data!$B$17:$B$19=Model!$F644)*(Data!$C$16:$K$16=Model!$K644)*(Data!$C$17:$K$19))","v":2.81},80.33,{"$f":"_xlfn.IFS(M644>70,\"Serviceable\",M644>30, \"Limited Life\",M644<=30, \"Unserviceable\")","v":"Serviceable"}]
[null,980,2008,"CCA Treated Pole","Serviceable","Class 2",2018,162.49719689682513,160.05719689682513,7,{"$f":"INDEX(Lists!$B$32:$B$40, MATCH(2020-C645, Lists!$C$32:$C$40,1))","v":"0-20"},{"$f":"SUMPRODUCT((Data!$B$17:$B$19=Model!$F645)*(Data!$C$16:$K$16=Model!$K645)*(Data!$C$17:$K$19))","v":1.22},153.95719689682514,{"$f":"_xlfn.IFS(M645>70,\"Serviceable\",M645>30, \"Limited Life\",M645<=30, \"Unserviceable\")","v":"Serviceable"}]
[null,982,1986,"Wood Untreated Dressed","Serviceable","Class 1",2018,140,134.96,7,{"$f":"INDEX(Lists!$B$32:$B$40, MATCH(2020-C646, Lists!$C$32:$C$40,1))","v":"31-40"},{"$f":"SUMPRODUCT((Data!$B$17:$B$19=Model!$F646)*(Data!$C$16:$K$16=Model!$K646)*(Data!$C$17:$K$19))","v":2.52},122.36,{"$f":"_xlfn.IFS(M646>70,\"Serviceable\",M646>30, \"Limited Life\",M646<=30, \"Unserviceable\")","v":"Serviceable"}]
[null,983,1967,"Wood Creos Impregnated","Serviceable","Class 3",2018,90,84.54,7,{"$f":"INDEX(Lists!$B$32:$B$40, MATCH(2020-C647, Lists!$C$32:$C$40,1))","v":"51-60"},{"$f":"SUMPRODUCT((Data!$B$17:$B$19=Model!$F647)*(Data!$C$16:$K$16=Model!$K647)*(Data!$C$17:$K$19))","v":2.73},70.89,{"$f":"_xlfn.IFS(M647>70,\"Serviceable\",M647>30, \"Limited Life\",M647<=30, \"Unserviceable\")","v":"Serviceable"}]
[null,984,2008,"CCA Treated Pole","Serviceable","Class 2",2018,130,127.56,{"$f":"2025-G648","v":7},{"$f":"INDEX(Lists!$B$32:$B$40, MATCH(2020-C648, Lists!$C$32:$C$40,1))","v":"0-20"},{"$f":"SUMPRODUCT((Data!$B$17:$B$19=Model!$F648)*(Data!$C$16:$K$16=Model!$K648)*(Data!$C$17:$K$19))","v":1.22},{"$f":"IF(IF(H648>=700,999,(H648-L648*J648))<0,0,IF(H648>=700,999,(H648-L648*J648)))","v":121.46000000000001},{"$f":"_xlfn.IFS(M648>70,\"Serviceable\",M648>30, \"Limited Life\",M648<=30, \"Unserviceable\")","v":"Serviceable"}]
[null,987,1986,"Wood Untreated Dressed","Serviceable","Class 1",2018,140,134.96,7,{"$f":"INDEX(Lists!$B$32:$B$40, MATCH(2020-C649, Lists!$C$32:$C$40,1))","v":"31-40"},{"$f":"SUMPRODUCT((Data!$B$17:$B$19=Model!$F649)*(Data!$C$16:$K$16=Model!$K649)*(Data!$C$17:$K$19))","v":2.52},122.36,{"$f":"_xlfn.IFS(M649>70,\"Serviceable\",M649>30, \"Limited Life\",M649<=30, \"Unserviceable\")","v":"Serviceable"}]
[null,988,1986,"Wood Untreated Dressed","Serviceable","Class 1",2018,90,84.96,7,{"$f":"INDEX(Lists!$B$32:$B$40, MATCH(2020-C650, Lists!$C$32:$C$40,1))","v":"31-40"},{"$f":"SUMPRODUCT((Data!$B$17:$B$19=Model!$F650)*(Data!$C$16:$K$16=Model!$K650)*(Data!$C$17:$K$19))","v":2.52},72.36,{"$f":"_xlfn.IFS(M650>70,\"Serviceable\",M650>30, \"Limited Life\",M650<=30, \"Unserviceable\")","v":"Serviceable"}]
[null,989,1946,"Wood Untreated Dressed","Serviceable","Class 1",2018,100,95.7,7,{"$f":"INDEX(Lists!$B$32:$B$40, MATCH(2020-C651, Lists!$C$32:$C$40,1))","v":"71-80"},{"$f":"SUMPRODUCT((Data!$B$17:$B$19=Model!$F651)*(Data!$C$16:$K$16=Model!$K651)*(Data!$C$17:$K$19))","v":2.15},84.95,{"$f":"_xlfn.IFS(M651>70,\"Serviceable\",M651>30, \"Limited Life\",M651<=30, \"Unserviceable\")","v":"Serviceable"}]
[null,991,1939,"Wood Untreated Dressed","Serviceable","Class 1",2018,80,74.38,7,{"$f":"INDEX(Lists!$B$32:$B$40, MATCH(2020-C652, Lists!$C$32:$C$40,1))","v":"81-90"},{"$f":"SUMPRODUCT((Data!$B$17:$B$19=Model!$F652)*(Data!$C$16:$K$16=Model!$K652)*(Data!$C$17:$K$19))","v":2.81},60.33,{"$f":"_xlfn.IFS(M652>70,\"Serviceable\",M652>30, \"Limited Life\",M652<=30, \"Unserviceable\")","v":"Limited Life"}]
[null,992,1939,"Wood Untreated Dressed","Serviceable","Class 1",2018,80,74.38,7,{"$f":"INDEX(Lists!$B$32:$B$40, MATCH(2020-C653, Lists!$C$32:$C$40,1))","v":"81-90"},{"$f":"SUMPRODUCT((Data!$B$17:$B$19=Model!$F653)*(Data!$C$16:$K$16=Model!$K653)*(Data!$C$17:$K$19))","v":2.81},60.33,{"$f":"_xlfn.IFS(M653>70,\"Serviceable\",M653>30, \"Limited Life\",M653<=30, \"Unserviceable\")","v":"Limited Life"}]
[null,993,1967,"Wood Creos Impregnated","Serviceable","Class 3",2018,80,74.540000000000006,7,{"$f":"INDEX(Lists!$B$32:$B$40, MATCH(2020-C654, Lists!$C$32:$C$40,1))","v":"51-60"},{"$f":"SUMPRODUCT((Data!$B$17:$B$19=Model!$F654)*(Data!$C$16:$K$16=Model!$K654)*(Data!$C$17:$K$19))","v":2.73},60.89,{"$f":"_xlfn.IFS(M654>70,\"Serviceable\",M654>30, \"Limited Life\",M654<=30, \"Unserviceable\")","v":"Limited Life"}]
[null,994,1939,"Wood Untreated Dressed","Serviceable","Class 1",2018,120,114.38,7,{"$f":"INDEX(Lists!$B$32:$B$40, MATCH(2020-C655, Lists!$C$32:$C$40,1))","v":"81-90"},{"$f":"SUMPRODUCT((Data!$B$17:$B$19=Model!$F655)*(Data!$C$16:$K$16=Model!$K655)*(Data!$C$17:$K$19))","v":2.81},100.33,{"$f":"_xlfn.IFS(M655>70,\"Serviceable\",M655>30, \"Limited Life\",M655<=30, \"Unserviceable\")","v":"Serviceable"}]
[null,995,1999,"CCA Treated Pole","Serviceable","Class 1",2018,150,146.08000000000001,7,{"$f":"INDEX(Lists!$B$32:$B$40, MATCH(2020-C656, Lists!$C$32:$C$40,1))","v":"21-30"},{"$f":"SUMPRODUCT((Data!$B$17:$B$19=Model!$F656)*(Data!$C$16:$K$16=Model!$K656)*(Data!$C$17:$K$19))","v":1.96},136.28,{"$f":"_xlfn.IFS(M656>70,\"Serviceable\",M656>30, \"Limited Life\",M656<=30, \"Unserviceable\")","v":"Serviceable"}]
[null,996,2007,"CCA Treated Pole","Serviceable","Class 2",2018,150,147.56,7,{"$f":"INDEX(Lists!$B$32:$B$40, MATCH(2020-C657, Lists!$C$32:$C$40,1))","v":"0-20"},{"$f":"SUMPRODUCT((Data!$B$17:$B$19=Model!$F657)*(Data!$C$16:$K$16=Model!$K657)*(Data!$C$17:$K$19))","v":1.22},141.46,{"$f":"_xlfn.IFS(M657>70,\"Serviceable\",M657>30, \"Limited Life\",M657<=30, \"Unserviceable\")","v":"Serviceable"}]
[null,997,1968,"Wood Creos Impregnated","Serviceable","Class 3",2018,120,114.54,7,{"$f":"INDEX(Lists!$B$32:$B$40, MATCH(2020-C658, Lists!$C$32:$C$40,1))","v":"51-60"},{"$f":"SUMPRODUCT((Data!$B$17:$B$19=Model!$F658)*(Data!$C$16:$K$16=Model!$K658)*(Data!$C$17:$K$19))","v":2.73},100.89,{"$f":"_xlfn.IFS(M658>70,\"Serviceable\",M658>30, \"Limited Life\",M658<=30, \"Unserviceable\")","v":"Serviceable"}]
[null,998,1982,"Wood Untreated Dressed","Serviceable","Class 1",2018,110,104.96,7,{"$f":"INDEX(Lists!$B$32:$B$40, MATCH(2020-C659, Lists!$C$32:$C$40,1))","v":"31-40"},{"$f":"SUMPRODUCT((Data!$B$17:$B$19=Model!$F659)*(Data!$C$16:$K$16=Model!$K659)*(Data!$C$17:$K$19))","v":2.52},92.36,{"$f":"_xlfn.IFS(M659>70,\"Serviceable\",M659>30, \"Limited Life\",M659<=30, \"Unserviceable\")","v":"Serviceable"}]
[null,999,1940,"Wood Untreated Dressed","Serviceable","Class 1",2018,150,145.69999999999999,7,{"$f":"INDEX(Lists!$B$32:$B$40, MATCH(2020-C660, Lists!$C$32:$C$40,1))","v":"71-80"},{"$f":"SUMPRODUCT((Data!$B$17:$B$19=Model!$F660)*(Data!$C$16:$K$16=Model!$K660)*(Data!$C$17:$K$19))","v":2.15},134.94999999999999,{"$f":"_xlfn.IFS(M660>70,\"Serviceable\",M660>30, \"Limited Life\",M660<=30, \"Unserviceable\")","v":"Serviceable"}]
[null,1000,1991,"Wood Untreated Dressed","Serviceable","Class 1",2018,150,146.08000000000001,7,{"$f":"INDEX(Lists!$B$32:$B$40, MATCH(2020-C661, Lists!$C$32:$C$40,1))","v":"21-30"},{"$f":"SUMPRODUCT((Data!$B$17:$B$19=Model!$F661)*(Data!$C$16:$K$16=Model!$K661)*(Data!$C$17:$K$19))","v":1.96},136.28,{"$f":"_xlfn.IFS(M661>70,\"Serviceable\",M661>30, \"Limited Life\",M661<=30, \"Unserviceable\")","v":"Serviceable"}]
[null,1001,2007,"CCA Treated Pole","Serviceable","Class 1",2018,150,147.88,7,{"$f":"INDEX(Lists!$B$32:$B$40, MATCH(2020-C662, Lists!$C$32:$C$40,1))","v":"0-20"},{"$f":"SUMPRODUCT((Data!$B$17:$B$19=Model!$F662)*(Data!$C$16:$K$16=Model!$K662)*(Data!$C$17:$K$19))","v":1.06},142.58000000000001,{"$f":"_xlfn.IFS(M662>70,\"Serviceable\",M662>30, \"Limited Life\",M662<=30, \"Unserviceable\")","v":"Serviceable"}]
[null,1002,2007,"CCA Treated Pole","Serviceable","Class 2",2018,150,147.56,7,{"$f":"INDEX(Lists!$B$32:$B$40, MATCH(2020-C663, Lists!$C$32:$C$40,1))","v":"0-20"},{"$f":"SUMPRODUCT((Data!$B$17:$B$19=Model!$F663)*(Data!$C$16:$K$16=Model!$K663)*(Data!$C$17:$K$19))","v":1.22},141.46,{"$f":"_xlfn.IFS(M663>70,\"Serviceable\",M663>30, \"Limited Life\",M663<=30, \"Unserviceable\")","v":"Serviceable"}]
[null,1004,2007,"CCA Treated Pole","Serviceable","Class 2",2018,150,147.56,7,{"$f":"INDEX(Lists!$B$32:$B$40, MATCH(2020-C664, Lists!$C$32:$C$40,1))","v":"0-20"},{"$f":"SUMPRODUCT((Data!$B$17:$B$19=Model!$F664)*(Data!$C$16:$K$16=Model!$K664)*(Data!$C$17:$K$19))","v":1.22},141.46,{"$f":"_xlfn.IFS(M664>70,\"Serviceable\",M664>30, \"Limited Life\",M664<=30, \"Unserviceable\")","v":"Serviceable"}]
[null,1005,1975,"Wood Creos Impregnated","Serviceable","Class 3",2018,90,82.44,7,{"$f":"INDEX(Lists!$B$32:$B$40, MATCH(2020-C665, Lists!$C$32:$C$40,1))","v":"41-50"},{"$f":"SUMPRODUCT((Data!$B$17:$B$19=Model!$F665)*(Data!$C$16:$K$16=Model!$K665)*(Data!$C$17:$K$19))","v":3.78},63.540000000000006,{"$f":"_xlfn.IFS(M665>70,\"Serviceable\",M665>30, \"Limited Life\",M665<=30, \"Unserviceable\")","v":"Limited Life"}]
[null,1006,2007,"CCA Treated Pole","Serviceable","Class 2",2018,150,147.56,7,{"$f":"INDEX(Lists!$B$32:$B$40, MATCH(2020-C666, Lists!$C$32:$C$40,1))","v":"0-20"},{"$f":"SUMPRODUCT((Data!$B$17:$B$19=Model!$F666)*(Data!$C$16:$K$16=Model!$K666)*(Data!$C$17:$K$19))","v":1.22},141.46,{"$f":"_xlfn.IFS(M666>70,\"Serviceable\",M666>30, \"Limited Life\",M666<=30, \"Unserviceable\")","v":"Serviceable"}]
[null,1007,1959,"Wood Creos Impregnated","Serviceable","Class 3",2018,110,105.96,7,{"$f":"INDEX(Lists!$B$32:$B$40, MATCH(2020-C667, Lists!$C$32:$C$40,1))","v":"61-70"},{"$f":"SUMPRODUCT((Data!$B$17:$B$19=Model!$F667)*(Data!$C$16:$K$16=Model!$K667)*(Data!$C$17:$K$19))","v":2.02},95.86,{"$f":"_xlfn.IFS(M667>70,\"Serviceable\",M667>30, \"Limited Life\",M667<=30, \"Unserviceable\")","v":"Serviceable"}]
[null,1008,1981,"Wood Untreated Dressed","Serviceable","Class 1",2018,150,144.96,7,{"$f":"INDEX(Lists!$B$32:$B$40, MATCH(2020-C668, Lists!$C$32:$C$40,1))","v":"31-40"},{"$f":"SUMPRODUCT((Data!$B$17:$B$19=Model!$F668)*(Data!$C$16:$K$16=Model!$K668)*(Data!$C$17:$K$19))","v":2.52},132.36000000000001,{"$f":"_xlfn.IFS(M668>70,\"Serviceable\",M668>30, \"Limited Life\",M668<=30, \"Unserviceable\")","v":"Serviceable"}]
[null,1009,1965,"Wood Creos Impregnated","Serviceable","Class 3",2018,120,114.54,7,{"$f":"INDEX(Lists!$B$32:$B$40, MATCH(2020-C669, Lists!$C$32:$C$40,1))","v":"51-60"},{"$f":"SUMPRODUCT((Data!$B$17:$B$19=Model!$F669)*(Data!$C$16:$K$16=Model!$K669)*(Data!$C$17:$K$19))","v":2.73},100.89,{"$f":"_xlfn.IFS(M669>70,\"Serviceable\",M669>30, \"Limited Life\",M669<=30, \"Unserviceable\")","v":"Serviceable"}]
[null,1012,1981,"Wood Untreated Dressed","Serviceable","Class 1",2018,150,144.96,7,{"$f":"INDEX(Lists!$B$32:$B$40, MATCH(2020-C670, Lists!$C$32:$C$40,1))","v":"31-40"},{"$f":"SUMPRODUCT((Data!$B$17:$B$19=Model!$F670)*(Data!$C$16:$K$16=Model!$K670)*(Data!$C$17:$K$19))","v":2.52},132.36000000000001,{"$f":"_xlfn.IFS(M670>70,\"Serviceable\",M670>30, \"Limited Life\",M670<=30, \"Unserviceable\")","v":"Serviceable"}]
[null,1013,1956,"Wood Untreated Round","Serviceable","Class 1",2018,110,105.94,7,{"$f":"INDEX(Lists!$B$32:$B$40, MATCH(2020-C671, Lists!$C$32:$C$40,1))","v":"61-70"},{"$f":"SUMPRODUCT((Data!$B$17:$B$19=Model!$F671)*(Data!$C$16:$K$16=Model!$K671)*(Data!$C$17:$K$19))","v":2.0299999999999998},95.79,{"$f":"_xlfn.IFS(M671>70,\"Serviceable\",M671>30, \"Limited Life\",M671<=30, \"Unserviceable\")","v":"Serviceable"}]
[null,1014,1969,"Wood Salt Impregnated (Green)","Serviceable","Class 3",2018,150,144.54,7,{"$f":"INDEX(Lists!$B$32:$B$40, MATCH(2020-C672, Lists!$C$32:$C$40,1))","v":"51-60"},{"$f":"SUMPRODUCT((Data!$B$17:$B$19=Model!$F672)*(Data!$C$16:$K$16=Model!$K672)*(Data!$C$17:$K$19))","v":2.73},130.88999999999999,{"$f":"_xlfn.IFS(M672>70,\"Serviceable\",M672>30, \"Limited Life\",M672<=30, \"Unserviceable\")","v":"Serviceable"}]
[null,1016,1999,"CCA Treated Pole","Serviceable","Class 2",2017,160,154.33000000000001,8,{"$f":"INDEX(Lists!$B$32:$B$40, MATCH(2020-C673, Lists!$C$32:$C$40,1))","v":"21-30"},{"$f":"SUMPRODUCT((Data!$B$17:$B$19=Model!$F673)*(Data!$C$16:$K$16=Model!$K673)*(Data!$C$17:$K$19))","v":1.89},144.88,{"$f":"_xlfn.IFS(M673>70,\"Serviceable\",M673>30, \"Limited Life\",M673<=30, \"Unserviceable\")","v":"Serviceable"}]
[null,1017,1966,"Wood Creos Impregnated","Serviceable","Class 3",2018,90,84.54,7,{"$f":"INDEX(Lists!$B$32:$B$40, MATCH(2020-C674, Lists!$C$32:$C$40,1))","v":"51-60"},{"$f":"SUMPRODUCT((Data!$B$17:$B$19=Model!$F674)*(Data!$C$16:$K$16=Model!$K674)*(Data!$C$17:$K$19))","v":2.73},70.89,{"$f":"_xlfn.IFS(M674>70,\"Serviceable\",M674>30, \"Limited Life\",M674<=30, \"Unserviceable\")","v":"Serviceable"}]
[null,1018,1967,"Wood Creos Impregnated","Serviceable","Class 3",2018,120,114.54,7,{"$f":"INDEX(Lists!$B$32:$B$40, MATCH(2020-C675, Lists!$C$32:$C$40,1))","v":"51-60"},{"$f":"SUMPRODUCT((Data!$B$17:$B$19=Model!$F675)*(Data!$C$16:$K$16=Model!$K675)*(Data!$C$17:$K$19))","v":2.73},100.89,{"$f":"_xlfn.IFS(M675>70,\"Serviceable\",M675>30, \"Limited Life\",M675<=30, \"Unserviceable\")","v":"Serviceable"}]
[null,1019,1958,"Wood Creos Impregnated","Serviceable","Class 3",2018,90,85.96,7,{"$f":"INDEX(Lists!$B$32:$B$40, MATCH(2020-C676, Lists!$C$32:$C$40,1))","v":"61-70"},{"$f":"SUMPRODUCT((Data!$B$17:$B$19=Model!$F676)*(Data!$C$16:$K$16=Model!$K676)*(Data!$C$17:$K$19))","v":2.02},75.86,{"$f":"_xlfn.IFS(M676>70,\"Serviceable\",M676>30, \"Limited Life\",M676<=30, \"Unserviceable\")","v":"Serviceable"}]
[null,1020,1965,"Wood Creos Impregnated","Serviceable","Class 3",2018,80,74.540000000000006,7,{"$f":"INDEX(Lists!$B$32:$B$40, MATCH(2020-C677, Lists!$C$32:$C$40,1))","v":"51-60"},{"$f":"SUMPRODUCT((Data!$B$17:$B$19=Model!$F677)*(Data!$C$16:$K$16=Model!$K677)*(Data!$C$17:$K$19))","v":2.73},60.89,{"$f":"_xlfn.IFS(M677>70,\"Serviceable\",M677>30, \"Limited Life\",M677<=30, \"Unserviceable\")","v":"Limited Life"}]
[null,1021,1961,"Wood Creos Impregnated","Serviceable","Class 3",2018,90,84.54,7,{"$f":"INDEX(Lists!$B$32:$B$40, MATCH(2020-C678, Lists!$C$32:$C$40,1))","v":"51-60"},{"$f":"SUMPRODUCT((Data!$B$17:$B$19=Model!$F678)*(Data!$C$16:$K$16=Model!$K678)*(Data!$C$17:$K$19))","v":2.73},70.89,{"$f":"_xlfn.IFS(M678>70,\"Serviceable\",M678>30, \"Limited Life\",M678<=30, \"Unserviceable\")","v":"Serviceable"}]
[null,1022,1962,"Wood Creos Impregnated","Serviceable","Class 3",2018,110,104.54,7,{"$f":"INDEX(Lists!$B$32:$B$40, MATCH(2020-C679, Lists!$C$32:$C$40,1))","v":"51-60"},{"$f":"SUMPRODUCT((Data!$B$17:$B$19=Model!$F679)*(Data!$C$16:$K$16=Model!$K679)*(Data!$C$17:$K$19))","v":2.73},90.89,{"$f":"_xlfn.IFS(M679>70,\"Serviceable\",M679>30, \"Limited Life\",M679<=30, \"Unserviceable\")","v":"Serviceable"}]
[null,1023,2007,"CCA Treated Pole","Serviceable","Class 2",2018,162.49719689682513,160.05719689682513,7,{"$f":"INDEX(Lists!$B$32:$B$40, MATCH(2020-C680, Lists!$C$32:$C$40,1))","v":"0-20"},{"$f":"SUMPRODUCT((Data!$B$17:$B$19=Model!$F680)*(Data!$C$16:$K$16=Model!$K680)*(Data!$C$17:$K$19))","v":1.22},153.95719689682514,{"$f":"_xlfn.IFS(M680>70,\"Serviceable\",M680>30, \"Limited Life\",M680<=30, \"Unserviceable\")","v":"Serviceable"}]
[null,1024,2007,"CCA Treated Pole","Serviceable","Class 2",2018,162.49719689682513,160.05719689682513,7,{"$f":"INDEX(Lists!$B$32:$B$40, MATCH(2020-C681, Lists!$C$32:$C$40,1))","v":"0-20"},{"$f":"SUMPRODUCT((Data!$B$17:$B$19=Model!$F681)*(Data!$C$16:$K$16=Model!$K681)*(Data!$C$17:$K$19))","v":1.22},153.95719689682514,{"$f":"_xlfn.IFS(M681>70,\"Serviceable\",M681>30, \"Limited Life\",M681<=30, \"Unserviceable\")","v":"Serviceable"}]
[null,1027,1966,"Wood Creos Impregnated","Serviceable","Class 3",2018,120,114.54,7,{"$f":"INDEX(Lists!$B$32:$B$40, MATCH(2020-C682, Lists!$C$32:$C$40,1))","v":"51-60"},{"$f":"SUMPRODUCT((Data!$B$17:$B$19=Model!$F682)*(Data!$C$16:$K$16=Model!$K682)*(Data!$C$17:$K$19))","v":2.73},100.89,{"$f":"_xlfn.IFS(M682>70,\"Serviceable\",M682>30, \"Limited Life\",M682<=30, \"Unserviceable\")","v":"Serviceable"}]
[null,1028,2001,"CCA Treated Pole","Serviceable","Class 2",2018,150,147.56,7,{"$f":"INDEX(Lists!$B$32:$B$40, MATCH(2020-C683, Lists!$C$32:$C$40,1))","v":"0-20"},{"$f":"SUMPRODUCT((Data!$B$17:$B$19=Model!$F683)*(Data!$C$16:$K$16=Model!$K683)*(Data!$C$17:$K$19))","v":1.22},141.46,{"$f":"_xlfn.IFS(M683>70,\"Serviceable\",M683>30, \"Limited Life\",M683<=30, \"Unserviceable\")","v":"Serviceable"}]
[null,1029,2008,"CCA Treated Pole","Serviceable","Class 1",2017,100,96.82,8,{"$f":"INDEX(Lists!$B$32:$B$40, MATCH(2020-C684, Lists!$C$32:$C$40,1))","v":"0-20"},{"$f":"SUMPRODUCT((Data!$B$17:$B$19=Model!$F684)*(Data!$C$16:$K$16=Model!$K684)*(Data!$C$17:$K$19))","v":1.06},91.52,{"$f":"_xlfn.IFS(M684>70,\"Serviceable\",M684>30, \"Limited Life\",M684<=30, \"Unserviceable\")","v":"Serviceable"}]
[null,1030,2000,"CCA Treated Pole","Serviceable","Class 2",2018,150,147.56,7,{"$f":"INDEX(Lists!$B$32:$B$40, MATCH(2020-C685, Lists!$C$32:$C$40,1))","v":"0-20"},{"$f":"SUMPRODUCT((Data!$B$17:$B$19=Model!$F685)*(Data!$C$16:$K$16=Model!$K685)*(Data!$C$17:$K$19))","v":1.22},141.46,{"$f":"_xlfn.IFS(M685>70,\"Serviceable\",M685>30, \"Limited Life\",M685<=30, \"Unserviceable\")","v":"Serviceable"}]
[null,1031,1973,"Wood Untreated Dressed","Serviceable","Class 1",2020,120,120,5,{"$f":"INDEX(Lists!$B$32:$B$40, MATCH(2020-C686, Lists!$C$32:$C$40,1))","v":"41-50"},{"$f":"SUMPRODUCT((Data!$B$17:$B$19=Model!$F686)*(Data!$C$16:$K$16=Model!$K686)*(Data!$C$17:$K$19))","v":1.75},111.25,{"$f":"_xlfn.IFS(M686>70,\"Serviceable\",M686>30, \"Limited Life\",M686<=30, \"Unserviceable\")","v":"Serviceable"}]
[null,1036,2008,"CCA Treated Pole","Serviceable","Class 1",2017,150,146.82,8,{"$f":"INDEX(Lists!$B$32:$B$40, MATCH(2020-C687, Lists!$C$32:$C$40,1))","v":"0-20"},{"$f":"SUMPRODUCT((Data!$B$17:$B$19=Model!$F687)*(Data!$C$16:$K$16=Model!$K687)*(Data!$C$17:$K$19))","v":1.06},141.52000000000001,{"$f":"_xlfn.IFS(M687>70,\"Serviceable\",M687>30, \"Limited Life\",M687<=30, \"Unserviceable\")","v":"Serviceable"}]
[null,1037,1967,"Wood Creos Impregnated","Serviceable","Class 3",2018,100,94.54,7,{"$f":"INDEX(Lists!$B$32:$B$40, MATCH(2020-C688, Lists!$C$32:$C$40,1))","v":"51-60"},{"$f":"SUMPRODUCT((Data!$B$17:$B$19=Model!$F688)*(Data!$C$16:$K$16=Model!$K688)*(Data!$C$17:$K$19))","v":2.73},80.89,{"$f":"_xlfn.IFS(M688>70,\"Serviceable\",M688>30, \"Limited Life\",M688<=30, \"Unserviceable\")","v":"Serviceable"}]
[null,1038,1965,"Wood Creos Impregnated","Serviceable","Class 3",2017,90,81.81,8,{"$f":"INDEX(Lists!$B$32:$B$40, MATCH(2020-C689, Lists!$C$32:$C$40,1))","v":"51-60"},{"$f":"SUMPRODUCT((Data!$B$17:$B$19=Model!$F689)*(Data!$C$16:$K$16=Model!$K689)*(Data!$C$17:$K$19))","v":2.73},68.16,{"$f":"_xlfn.IFS(M689>70,\"Serviceable\",M689>30, \"Limited Life\",M689<=30, \"Unserviceable\")","v":"Limited Life"}]
[null,1039,1964,"Wood Creos Impregnated","Serviceable","Class 3",2018,80,74.540000000000006,7,{"$f":"INDEX(Lists!$B$32:$B$40, MATCH(2020-C690, Lists!$C$32:$C$40,1))","v":"51-60"},{"$f":"SUMPRODUCT((Data!$B$17:$B$19=Model!$F690)*(Data!$C$16:$K$16=Model!$K690)*(Data!$C$17:$K$19))","v":2.73},60.89,{"$f":"_xlfn.IFS(M690>70,\"Serviceable\",M690>30, \"Limited Life\",M690<=30, \"Unserviceable\")","v":"Limited Life"}]
[null,1040,2008,"CCA Treated Pole","Serviceable","Class 1",2017,100,96.82,8,{"$f":"INDEX(Lists!$B$32:$B$40, MATCH(2020-C691, Lists!$C$32:$C$40,1))","v":"0-20"},{"$f":"SUMPRODUCT((Data!$B$17:$B$19=Model!$F691)*(Data!$C$16:$K$16=Model!$K691)*(Data!$C$17:$K$19))","v":1.06},91.52,{"$f":"_xlfn.IFS(M691>70,\"Serviceable\",M691>30, \"Limited Life\",M691<=30, \"Unserviceable\")","v":"Serviceable"}]
[null,1041,1973,"Wood Creos Impregnated","Serviceable","Class 3",2018,90,82.44,7,{"$f":"INDEX(Lists!$B$32:$B$40, MATCH(2020-C692, Lists!$C$32:$C$40,1))","v":"41-50"},{"$f":"SUMPRODUCT((Data!$B$17:$B$19=Model!$F692)*(Data!$C$16:$K$16=Model!$K692)*(Data!$C$17:$K$19))","v":3.78},63.540000000000006,{"$f":"_xlfn.IFS(M692>70,\"Serviceable\",M692>30, \"Limited Life\",M692<=30, \"Unserviceable\")","v":"Limited Life"}]
[null,1045,1963,"Wood Creos Impregnated","Serviceable","Class 3",2018,100,94.54,7,{"$f":"INDEX(Lists!$B$32:$B$40, MATCH(2020-C693, Lists!$C$32:$C$40,1))","v":"51-60"},{"$f":"SUMPRODUCT((Data!$B$17:$B$19=Model!$F693)*(Data!$C$16:$K$16=Model!$K693)*(Data!$C$17:$K$19))","v":2.73},80.89,{"$f":"_xlfn.IFS(M693>70,\"Serviceable\",M693>30, \"Limited Life\",M693<=30, \"Unserviceable\")","v":"Serviceable"}]
[null,1047,1964,"Wood Creos Impregnated","Serviceable","Class 3",2018,120,114.54,7,{"$f":"INDEX(Lists!$B$32:$B$40, MATCH(2020-C694, Lists!$C$32:$C$40,1))","v":"51-60"},{"$f":"SUMPRODUCT((Data!$B$17:$B$19=Model!$F694)*(Data!$C$16:$K$16=Model!$K694)*(Data!$C$17:$K$19))","v":2.73},100.89,{"$f":"_xlfn.IFS(M694>70,\"Serviceable\",M694>30, \"Limited Life\",M694<=30, \"Unserviceable\")","v":"Serviceable"}]
[null,1048,1968,"Wood Creos Impregnated","Serviceable","Class 3",2017,80,71.81,8,{"$f":"INDEX(Lists!$B$32:$B$40, MATCH(2020-C695, Lists!$C$32:$C$40,1))","v":"51-60"},{"$f":"SUMPRODUCT((Data!$B$17:$B$19=Model!$F695)*(Data!$C$16:$K$16=Model!$K695)*(Data!$C$17:$K$19))","v":2.73},58.16,{"$f":"_xlfn.IFS(M695>70,\"Serviceable\",M695>30, \"Limited Life\",M695<=30, \"Unserviceable\")","v":"Limited Life"}]
[null,1049,2008,"CCA Treated Pole","Serviceable","Class 1",2018,100,97.88,7,{"$f":"INDEX(Lists!$B$32:$B$40, MATCH(2020-C696, Lists!$C$32:$C$40,1))","v":"0-20"},{"$f":"SUMPRODUCT((Data!$B$17:$B$19=Model!$F696)*(Data!$C$16:$K$16=Model!$K696)*(Data!$C$17:$K$19))","v":1.06},92.58,{"$f":"_xlfn.IFS(M696>70,\"Serviceable\",M696>30, \"Limited Life\",M696<=30, \"Unserviceable\")","v":"Serviceable"}]
[null,1051,1953,"Wood Creos Impregnated","Serviceable","Class 3",2017,100,93.94,8,{"$f":"INDEX(Lists!$B$32:$B$40, MATCH(2020-C697, Lists!$C$32:$C$40,1))","v":"61-70"},{"$f":"SUMPRODUCT((Data!$B$17:$B$19=Model!$F697)*(Data!$C$16:$K$16=Model!$K697)*(Data!$C$17:$K$19))","v":2.02},83.84,{"$f":"_xlfn.IFS(M697>70,\"Serviceable\",M697>30, \"Limited Life\",M697<=30, \"Unserviceable\")","v":"Serviceable"}]
[null,1052,1986,"Wood Untreated Dressed","Serviceable","Class 1",2018,150,144.96,7,{"$f":"INDEX(Lists!$B$32:$B$40, MATCH(2020-C698, Lists!$C$32:$C$40,1))","v":"31-40"},{"$f":"SUMPRODUCT((Data!$B$17:$B$19=Model!$F698)*(Data!$C$16:$K$16=Model!$K698)*(Data!$C$17:$K$19))","v":2.52},132.36000000000001,{"$f":"_xlfn.IFS(M698>70,\"Serviceable\",M698>30, \"Limited Life\",M698<=30, \"Unserviceable\")","v":"Serviceable"}]
[null,1053,1939,"Wood Untreated Dressed","Serviceable","Class 1",2020,110,110,5,{"$f":"INDEX(Lists!$B$32:$B$40, MATCH(2020-C699, Lists!$C$32:$C$40,1))","v":"81-90"},{"$f":"SUMPRODUCT((Data!$B$17:$B$19=Model!$F699)*(Data!$C$16:$K$16=Model!$K699)*(Data!$C$17:$K$19))","v":2.81},95.95,{"$f":"_xlfn.IFS(M699>70,\"Serviceable\",M699>30, \"Limited Life\",M699<=30, \"Unserviceable\")","v":"Serviceable"}]
[null,1055,1976,"Wood Creos Impregnated","Serviceable","Class 1",2020,110,110,5,{"$f":"INDEX(Lists!$B$32:$B$40, MATCH(2020-C700, Lists!$C$32:$C$40,1))","v":"41-50"},{"$f":"SUMPRODUCT((Data!$B$17:$B$19=Model!$F700)*(Data!$C$16:$K$16=Model!$K700)*(Data!$C$17:$K$19))","v":1.75},101.25,{"$f":"_xlfn.IFS(M700>70,\"Serviceable\",M700>30, \"Limited Life\",M700<=30, \"Unserviceable\")","v":"Serviceable"}]
[null,1058,2002,"CCA Treated Pole","Serviceable","Class 1",2017,150,146.82,8,{"$f":"INDEX(Lists!$B$32:$B$40, MATCH(2020-C701, Lists!$C$32:$C$40,1))","v":"0-20"},{"$f":"SUMPRODUCT((Data!$B$17:$B$19=Model!$F701)*(Data!$C$16:$K$16=Model!$K701)*(Data!$C$17:$K$19))","v":1.06},141.52000000000001,{"$f":"_xlfn.IFS(M701>70,\"Serviceable\",M701>30, \"Limited Life\",M701<=30, \"Unserviceable\")","v":"Serviceable"}]
[null,1059,1980,"Wood Untreated Dressed","Serviceable","Class 1",2018,150,144.96,7,{"$f":"INDEX(Lists!$B$32:$B$40, MATCH(2020-C702, Lists!$C$32:$C$40,1))","v":"31-40"},{"$f":"SUMPRODUCT((Data!$B$17:$B$19=Model!$F702)*(Data!$C$16:$K$16=Model!$K702)*(Data!$C$17:$K$19))","v":2.52},132.36000000000001,{"$f":"_xlfn.IFS(M702>70,\"Serviceable\",M702>30, \"Limited Life\",M702<=30, \"Unserviceable\")","v":"Serviceable"}]
[null,1061,2006,"CCA Treated Pole","Serviceable","Class 2",2017,150,146.34,8,{"$f":"INDEX(Lists!$B$32:$B$40, MATCH(2020-C703, Lists!$C$32:$C$40,1))","v":"0-20"},{"$f":"SUMPRODUCT((Data!$B$17:$B$19=Model!$F703)*(Data!$C$16:$K$16=Model!$K703)*(Data!$C$17:$K$19))","v":1.22},140.24,{"$f":"_xlfn.IFS(M703>70,\"Serviceable\",M703>30, \"Limited Life\",M703<=30, \"Unserviceable\")","v":"Serviceable"}]
[null,1063,1988,"Wood Untreated Dressed","Serviceable","Class 1",2018,140,134.96,7,{"$f":"INDEX(Lists!$B$32:$B$40, MATCH(2020-C704, Lists!$C$32:$C$40,1))","v":"31-40"},{"$f":"SUMPRODUCT((Data!$B$17:$B$19=Model!$F704)*(Data!$C$16:$K$16=Model!$K704)*(Data!$C$17:$K$19))","v":2.52},122.36,{"$f":"_xlfn.IFS(M704>70,\"Serviceable\",M704>30, \"Limited Life\",M704<=30, \"Unserviceable\")","v":"Serviceable"}]
[null,1064,1982,"Wood Untreated Dressed","Serviceable","Class 1",2018,100,94.96,7,{"$f":"INDEX(Lists!$B$32:$B$40, MATCH(2020-C705, Lists!$C$32:$C$40,1))","v":"31-40"},{"$f":"SUMPRODUCT((Data!$B$17:$B$19=Model!$F705)*(Data!$C$16:$K$16=Model!$K705)*(Data!$C$17:$K$19))","v":2.52},82.36,{"$f":"_xlfn.IFS(M705>70,\"Serviceable\",M705>30, \"Limited Life\",M705<=30, \"Unserviceable\")","v":"Serviceable"}]
[null,1065,1938,"Wood Untreated Dressed","Serviceable","Class 1",2017,100,91.57,8,{"$f":"INDEX(Lists!$B$32:$B$40, MATCH(2020-C706, Lists!$C$32:$C$40,1))","v":"81-90"},{"$f":"SUMPRODUCT((Data!$B$17:$B$19=Model!$F706)*(Data!$C$16:$K$16=Model!$K706)*(Data!$C$17:$K$19))","v":2.81},77.52,{"$f":"_xlfn.IFS(M706>70,\"Serviceable\",M706>30, \"Limited Life\",M706<=30, \"Unserviceable\")","v":"Serviceable"}]
[null,1066,1982,"Wood Untreated Dressed","Serviceable","Class 1",2018,120,114.96,7,{"$f":"INDEX(Lists!$B$32:$B$40, MATCH(2020-C707, Lists!$C$32:$C$40,1))","v":"31-40"},{"$f":"SUMPRODUCT((Data!$B$17:$B$19=Model!$F707)*(Data!$C$16:$K$16=Model!$K707)*(Data!$C$17:$K$19))","v":2.52},102.36,{"$f":"_xlfn.IFS(M707>70,\"Serviceable\",M707>30, \"Limited Life\",M707<=30, \"Unserviceable\")","v":"Serviceable"}]
[null,1067,1938,"Wood Untreated Dressed","Serviceable","Class 1",2017,100,91.57,8,{"$f":"INDEX(Lists!$B$32:$B$40, MATCH(2020-C708, Lists!$C$32:$C$40,1))","v":"81-90"},{"$f":"SUMPRODUCT((Data!$B$17:$B$19=Model!$F708)*(Data!$C$16:$K$16=Model!$K708)*(Data!$C$17:$K$19))","v":2.81},77.52,{"$f":"_xlfn.IFS(M708>70,\"Serviceable\",M708>30, \"Limited Life\",M708<=30, \"Unserviceable\")","v":"Serviceable"}]
[null,1068,1935,"Wood Untreated Dressed","Serviceable","Class 1",2018,100,94.38,7,{"$f":"INDEX(Lists!$B$32:$B$40, MATCH(2020-C709, Lists!$C$32:$C$40,1))","v":"81-90"},{"$f":"SUMPRODUCT((Data!$B$17:$B$19=Model!$F709)*(Data!$C$16:$K$16=Model!$K709)*(Data!$C$17:$K$19))","v":2.81},80.33,{"$f":"_xlfn.IFS(M709>70,\"Serviceable\",M709>30, \"Limited Life\",M709<=30, \"Unserviceable\")","v":"Serviceable"}]
[null,1069,1970,"Wood Creos Impregnated","Limited Life","Class 3",2017,80,68.66,8,{"$f":"INDEX(Lists!$B$32:$B$40, MATCH(2020-C710, Lists!$C$32:$C$40,1))","v":"41-50"},{"$f":"SUMPRODUCT((Data!$B$17:$B$19=Model!$F710)*(Data!$C$16:$K$16=Model!$K710)*(Data!$C$17:$K$19))","v":3.78},49.760000000000005,{"$f":"_xlfn.IFS(M710>70,\"Serviceable\",M710>30, \"Limited Life\",M710<=30, \"Unserviceable\")","v":"Limited Life"}]
[null,1070,1997,"CCA Treated Pole","Serviceable","Class 2",2018,150,146.22,7,{"$f":"INDEX(Lists!$B$32:$B$40, MATCH(2020-C711, Lists!$C$32:$C$40,1))","v":"21-30"},{"$f":"SUMPRODUCT((Data!$B$17:$B$19=Model!$F711)*(Data!$C$16:$K$16=Model!$K711)*(Data!$C$17:$K$19))","v":1.89},136.77000000000001,{"$f":"_xlfn.IFS(M711>70,\"Serviceable\",M711>30, \"Limited Life\",M711<=30, \"Unserviceable\")","v":"Serviceable"}]
[null,1071,1956,"Wood Untreated Round","Serviceable","Class 1",2020,90,90,{"$f":"2025-G712","v":5},{"$f":"INDEX(Lists!$B$32:$B$40, MATCH(2020-C712, Lists!$C$32:$C$40,1))","v":"61-70"},{"$f":"SUMPRODUCT((Data!$B$17:$B$19=Model!$F712)*(Data!$C$16:$K$16=Model!$K712)*(Data!$C$17:$K$19))","v":2.0299999999999998},{"$f":"IF(IF(H712>=700,999,(H712-L712*J712))<0,0,IF(H712>=700,999,(H712-L712*J712)))","v":79.849999999999994},{"$f":"_xlfn.IFS(M712>70,\"Serviceable\",M712>30, \"Limited Life\",M712<=30, \"Unserviceable\")","v":"Serviceable"}]
[null,1072,1989,"Wood Untreated Dressed","Serviceable","Class 1",2018,120,114.96,7,{"$f":"INDEX(Lists!$B$32:$B$40, MATCH(2020-C713, Lists!$C$32:$C$40,1))","v":"31-40"},{"$f":"SUMPRODUCT((Data!$B$17:$B$19=Model!$F713)*(Data!$C$16:$K$16=Model!$K713)*(Data!$C$17:$K$19))","v":2.52},102.36,{"$f":"_xlfn.IFS(M713>70,\"Serviceable\",M713>30, \"Limited Life\",M713<=30, \"Unserviceable\")","v":"Serviceable"}]
[null,1074,1993,"Wood Untreated Dressed","Serviceable","Class 1",2018,150,146.08000000000001,7,{"$f":"INDEX(Lists!$B$32:$B$40, MATCH(2020-C714, Lists!$C$32:$C$40,1))","v":"21-30"},{"$f":"SUMPRODUCT((Data!$B$17:$B$19=Model!$F714)*(Data!$C$16:$K$16=Model!$K714)*(Data!$C$17:$K$19))","v":1.96},136.28,{"$f":"_xlfn.IFS(M714>70,\"Serviceable\",M714>30, \"Limited Life\",M714<=30, \"Unserviceable\")","v":"Serviceable"}]
[null,1076,2007,"CCA Treated Pole","Serviceable","Class 2",2017,100,96.34,8,{"$f":"INDEX(Lists!$B$32:$B$40, MATCH(2020-C715, Lists!$C$32:$C$40,1))","v":"0-20"},{"$f":"SUMPRODUCT((Data!$B$17:$B$19=Model!$F715)*(Data!$C$16:$K$16=Model!$K715)*(Data!$C$17:$K$19))","v":1.22},90.24,{"$f":"_xlfn.IFS(M715>70,\"Serviceable\",M715>30, \"Limited Life\",M715<=30, \"Unserviceable\")","v":"Serviceable"}]
[null,1077,1935,"Wood Untreated Dressed","Serviceable","Class 1",2017,100,91.57,8,{"$f":"INDEX(Lists!$B$32:$B$40, MATCH(2020-C716, Lists!$C$32:$C$40,1))","v":"81-90"},{"$f":"SUMPRODUCT((Data!$B$17:$B$19=Model!$F716)*(Data!$C$16:$K$16=Model!$K716)*(Data!$C$17:$K$19))","v":2.81},77.52,{"$f":"_xlfn.IFS(M716>70,\"Serviceable\",M716>30, \"Limited Life\",M716<=30, \"Unserviceable\")","v":"Serviceable"}]
[null,1078,2002,"CCA Treated Pole","Serviceable","Class 2",2018,150,147.56,7,{"$f":"INDEX(Lists!$B$32:$B$40, MATCH(2020-C717, Lists!$C$32:$C$40,1))","v":"0-20"},{"$f":"SUMPRODUCT((Data!$B$17:$B$19=Model!$F717)*(Data!$C$16:$K$16=Model!$K717)*(Data!$C$17:$K$19))","v":1.22},141.46,{"$f":"_xlfn.IFS(M717>70,\"Serviceable\",M717>30, \"Limited Life\",M717<=30, \"Unserviceable\")","v":"Serviceable"}]
[null,1079,2002,"CCA Treated Pole","Serviceable","Class 1",2017,150,146.82,8,{"$f":"INDEX(Lists!$B$32:$B$40, MATCH(2020-C718, Lists!$C$32:$C$40,1))","v":"0-20"},{"$f":"SUMPRODUCT((Data!$B$17:$B$19=Model!$F718)*(Data!$C$16:$K$16=Model!$K718)*(Data!$C$17:$K$19))","v":1.06},141.52000000000001,{"$f":"_xlfn.IFS(M718>70,\"Serviceable\",M718>30, \"Limited Life\",M718<=30, \"Unserviceable\")","v":"Serviceable"}]
[null,1080,1989,"Wood Untreated Dressed","Serviceable","Class 1",2018,150,144.96,7,{"$f":"INDEX(Lists!$B$32:$B$40, MATCH(2020-C719, Lists!$C$32:$C$40,1))","v":"31-40"},{"$f":"SUMPRODUCT((Data!$B$17:$B$19=Model!$F719)*(Data!$C$16:$K$16=Model!$K719)*(Data!$C$17:$K$19))","v":2.52},132.36000000000001,{"$f":"_xlfn.IFS(M719>70,\"Serviceable\",M719>30, \"Limited Life\",M719<=30, \"Unserviceable\")","v":"Serviceable"}]
[null,1082,1938,"Wood Untreated Dressed","Serviceable","Class 1",2018,90,84.38,7,{"$f":"INDEX(Lists!$B$32:$B$40, MATCH(2020-C720, Lists!$C$32:$C$40,1))","v":"81-90"},{"$f":"SUMPRODUCT((Data!$B$17:$B$19=Model!$F720)*(Data!$C$16:$K$16=Model!$K720)*(Data!$C$17:$K$19))","v":2.81},70.33,{"$f":"_xlfn.IFS(M720>70,\"Serviceable\",M720>30, \"Limited Life\",M720<=30, \"Unserviceable\")","v":"Serviceable"}]
[null,1083,1962,"Wood Creos Impregnated","Serviceable","Class 3",2017,80,71.81,8,{"$f":"INDEX(Lists!$B$32:$B$40, MATCH(2020-C721, Lists!$C$32:$C$40,1))","v":"51-60"},{"$f":"SUMPRODUCT((Data!$B$17:$B$19=Model!$F721)*(Data!$C$16:$K$16=Model!$K721)*(Data!$C$17:$K$19))","v":2.73},58.16,{"$f":"_xlfn.IFS(M721>70,\"Serviceable\",M721>30, \"Limited Life\",M721<=30, \"Unserviceable\")","v":"Limited Life"}]
[null,1084,1981,"Wood Untreated Dressed","Serviceable","Class 1",2018,120,114.96,7,{"$f":"INDEX(Lists!$B$32:$B$40, MATCH(2020-C722, Lists!$C$32:$C$40,1))","v":"31-40"},{"$f":"SUMPRODUCT((Data!$B$17:$B$19=Model!$F722)*(Data!$C$16:$K$16=Model!$K722)*(Data!$C$17:$K$19))","v":2.52},102.36,{"$f":"_xlfn.IFS(M722>70,\"Serviceable\",M722>30, \"Limited Life\",M722<=30, \"Unserviceable\")","v":"Serviceable"}]
[null,1085,1970,"Wood Creos Impregnated","Serviceable","Class 3",2017,90,78.66,8,{"$f":"INDEX(Lists!$B$32:$B$40, MATCH(2020-C723, Lists!$C$32:$C$40,1))","v":"41-50"},{"$f":"SUMPRODUCT((Data!$B$17:$B$19=Model!$F723)*(Data!$C$16:$K$16=Model!$K723)*(Data!$C$17:$K$19))","v":3.78},59.760000000000005,{"$f":"_xlfn.IFS(M723>70,\"Serviceable\",M723>30, \"Limited Life\",M723<=30, \"Unserviceable\")","v":"Limited Life"}]
[null,1086,2004,"CCA Treated Pole","Serviceable","Class 1",2018,150,147.88,7,{"$f":"INDEX(Lists!$B$32:$B$40, MATCH(2020-C724, Lists!$C$32:$C$40,1))","v":"0-20"},{"$f":"SUMPRODUCT((Data!$B$17:$B$19=Model!$F724)*(Data!$C$16:$K$16=Model!$K724)*(Data!$C$17:$K$19))","v":1.06},142.58000000000001,{"$f":"_xlfn.IFS(M724>70,\"Serviceable\",M724>30, \"Limited Life\",M724<=30, \"Unserviceable\")","v":"Serviceable"}]
[null,1089,1938,"Wood Untreated Dressed","Serviceable","Class 1",2018,100,94.38,7,{"$f":"INDEX(Lists!$B$32:$B$40, MATCH(2020-C725, Lists!$C$32:$C$40,1))","v":"81-90"},{"$f":"SUMPRODUCT((Data!$B$17:$B$19=Model!$F725)*(Data!$C$16:$K$16=Model!$K725)*(Data!$C$17:$K$19))","v":2.81},80.33,{"$f":"_xlfn.IFS(M725>70,\"Serviceable\",M725>30, \"Limited Life\",M725<=30, \"Unserviceable\")","v":"Serviceable"}]
[null,1092,1981,"Wood Untreated Dressed","Serviceable","Class 1",2018,110,104.96,7,{"$f":"INDEX(Lists!$B$32:$B$40, MATCH(2020-C726, Lists!$C$32:$C$40,1))","v":"31-40"},{"$f":"SUMPRODUCT((Data!$B$17:$B$19=Model!$F726)*(Data!$C$16:$K$16=Model!$K726)*(Data!$C$17:$K$19))","v":2.52},92.36,{"$f":"_xlfn.IFS(M726>70,\"Serviceable\",M726>30, \"Limited Life\",M726<=30, \"Unserviceable\")","v":"Serviceable"}]
[null,1093,1968,"Wood Creos Impregnated","Serviceable","Class 3",2018,80,74.540000000000006,7,{"$f":"INDEX(Lists!$B$32:$B$40, MATCH(2020-C727, Lists!$C$32:$C$40,1))","v":"51-60"},{"$f":"SUMPRODUCT((Data!$B$17:$B$19=Model!$F727)*(Data!$C$16:$K$16=Model!$K727)*(Data!$C$17:$K$19))","v":2.73},60.89,{"$f":"_xlfn.IFS(M727>70,\"Serviceable\",M727>30, \"Limited Life\",M727<=30, \"Unserviceable\")","v":"Limited Life"}]
[null,1097,1939,"Wood Untreated Dressed","Serviceable","Class 1",2018,90,84.38,7,{"$f":"INDEX(Lists!$B$32:$B$40, MATCH(2020-C728, Lists!$C$32:$C$40,1))","v":"81-90"},{"$f":"SUMPRODUCT((Data!$B$17:$B$19=Model!$F728)*(Data!$C$16:$K$16=Model!$K728)*(Data!$C$17:$K$19))","v":2.81},70.33,{"$f":"_xlfn.IFS(M728>70,\"Serviceable\",M728>30, \"Limited Life\",M728<=30, \"Unserviceable\")","v":"Serviceable"}]
[null,1100,1959,"Wood Creos Impregnated","Serviceable","Class 3",2018,100,95.96,7,{"$f":"INDEX(Lists!$B$32:$B$40, MATCH(2020-C729, Lists!$C$32:$C$40,1))","v":"61-70"},{"$f":"SUMPRODUCT((Data!$B$17:$B$19=Model!$F729)*(Data!$C$16:$K$16=Model!$K729)*(Data!$C$17:$K$19))","v":2.02},85.86,{"$f":"_xlfn.IFS(M729>70,\"Serviceable\",M729>30, \"Limited Life\",M729<=30, \"Unserviceable\")","v":"Serviceable"}]
[null,1102,1965,"Wood Creos Impregnated","Serviceable","Class 3",2018,90,84.54,7,{"$f":"INDEX(Lists!$B$32:$B$40, MATCH(2020-C730, Lists!$C$32:$C$40,1))","v":"51-60"},{"$f":"SUMPRODUCT((Data!$B$17:$B$19=Model!$F730)*(Data!$C$16:$K$16=Model!$K730)*(Data!$C$17:$K$19))","v":2.73},70.89,{"$f":"_xlfn.IFS(M730>70,\"Serviceable\",M730>30, \"Limited Life\",M730<=30, \"Unserviceable\")","v":"Serviceable"}]
[null,1103,1937,"Wood Untreated Dressed","Serviceable","Class 1",2017,110,101.57,8,{"$f":"INDEX(Lists!$B$32:$B$40, MATCH(2020-C731, Lists!$C$32:$C$40,1))","v":"81-90"},{"$f":"SUMPRODUCT((Data!$B$17:$B$19=Model!$F731)*(Data!$C$16:$K$16=Model!$K731)*(Data!$C$17:$K$19))","v":2.81},87.52,{"$f":"_xlfn.IFS(M731>70,\"Serviceable\",M731>30, \"Limited Life\",M731<=30, \"Unserviceable\")","v":"Serviceable"}]
[null,1104,1965,"Wood Creos Impregnated","Serviceable","Class 3",2017,100,91.81,8,{"$f":"INDEX(Lists!$B$32:$B$40, MATCH(2020-C732, Lists!$C$32:$C$40,1))","v":"51-60"},{"$f":"SUMPRODUCT((Data!$B$17:$B$19=Model!$F732)*(Data!$C$16:$K$16=Model!$K732)*(Data!$C$17:$K$19))","v":2.73},78.16,{"$f":"_xlfn.IFS(M732>70,\"Serviceable\",M732>30, \"Limited Life\",M732<=30, \"Unserviceable\")","v":"Serviceable"}]
[null,1105,2003,"CCA Treated Pole","Serviceable","Class 2",2018,150,147.56,7,{"$f":"INDEX(Lists!$B$32:$B$40, MATCH(2020-C733, Lists!$C$32:$C$40,1))","v":"0-20"},{"$f":"SUMPRODUCT((Data!$B$17:$B$19=Model!$F733)*(Data!$C$16:$K$16=Model!$K733)*(Data!$C$17:$K$19))","v":1.22},141.46,{"$f":"_xlfn.IFS(M733>70,\"Serviceable\",M733>30, \"Limited Life\",M733<=30, \"Unserviceable\")","v":"Serviceable"}]
[null,1106,1965,"Wood Creos Impregnated","Serviceable","Class 3",2017,100,91.81,8,{"$f":"INDEX(Lists!$B$32:$B$40, MATCH(2020-C734, Lists!$C$32:$C$40,1))","v":"51-60"},{"$f":"SUMPRODUCT((Data!$B$17:$B$19=Model!$F734)*(Data!$C$16:$K$16=Model!$K734)*(Data!$C$17:$K$19))","v":2.73},78.16,{"$f":"_xlfn.IFS(M734>70,\"Serviceable\",M734>30, \"Limited Life\",M734<=30, \"Unserviceable\")","v":"Serviceable"}]
[null,1107,1958,"Wood Creos Impregnated","Serviceable","Class 3",2018,90,85.96,7,{"$f":"INDEX(Lists!$B$32:$B$40, MATCH(2020-C735, Lists!$C$32:$C$40,1))","v":"61-70"},{"$f":"SUMPRODUCT((Data!$B$17:$B$19=Model!$F735)*(Data!$C$16:$K$16=Model!$K735)*(Data!$C$17:$K$19))","v":2.02},75.86,{"$f":"_xlfn.IFS(M735>70,\"Serviceable\",M735>30, \"Limited Life\",M735<=30, \"Unserviceable\")","v":"Serviceable"}]
[null,1108,1988,"Wood Untreated Dressed","Serviceable","Class 1",2018,150,144.96,7,{"$f":"INDEX(Lists!$B$32:$B$40, MATCH(2020-C736, Lists!$C$32:$C$40,1))","v":"31-40"},{"$f":"SUMPRODUCT((Data!$B$17:$B$19=Model!$F736)*(Data!$C$16:$K$16=Model!$K736)*(Data!$C$17:$K$19))","v":2.52},132.36000000000001,{"$f":"_xlfn.IFS(M736>70,\"Serviceable\",M736>30, \"Limited Life\",M736<=30, \"Unserviceable\")","v":"Serviceable"}]
[null,1111,1935,"Wood Untreated Dressed","Serviceable","Class 1",2018,100,94.38,7,{"$f":"INDEX(Lists!$B$32:$B$40, MATCH(2020-C737, Lists!$C$32:$C$40,1))","v":"81-90"},{"$f":"SUMPRODUCT((Data!$B$17:$B$19=Model!$F737)*(Data!$C$16:$K$16=Model!$K737)*(Data!$C$17:$K$19))","v":2.81},80.33,{"$f":"_xlfn.IFS(M737>70,\"Serviceable\",M737>30, \"Limited Life\",M737<=30, \"Unserviceable\")","v":"Serviceable"}]
[null,1112,1979,"Wood Untreated Dressed","Serviceable","Class 1",2017,100,94.75,8,{"$f":"INDEX(Lists!$B$32:$B$40, MATCH(2020-C738, Lists!$C$32:$C$40,1))","v":"41-50"},{"$f":"SUMPRODUCT((Data!$B$17:$B$19=Model!$F738)*(Data!$C$16:$K$16=Model!$K738)*(Data!$C$17:$K$19))","v":1.75},86,{"$f":"_xlfn.IFS(M738>70,\"Serviceable\",M738>30, \"Limited Life\",M738<=30, \"Unserviceable\")","v":"Serviceable"}]
[null,1115,1965,"Wood Creos Impregnated","Serviceable","Class 3",2017,80,71.81,8,{"$f":"INDEX(Lists!$B$32:$B$40, MATCH(2020-C739, Lists!$C$32:$C$40,1))","v":"51-60"},{"$f":"SUMPRODUCT((Data!$B$17:$B$19=Model!$F739)*(Data!$C$16:$K$16=Model!$K739)*(Data!$C$17:$K$19))","v":2.73},58.16,{"$f":"_xlfn.IFS(M739>70,\"Serviceable\",M739>30, \"Limited Life\",M739<=30, \"Unserviceable\")","v":"Limited Life"}]
[null,1116,1935,"Wood Untreated Dressed","Serviceable","Class 1",2018,90,84.38,7,{"$f":"INDEX(Lists!$B$32:$B$40, MATCH(2020-C740, Lists!$C$32:$C$40,1))","v":"81-90"},{"$f":"SUMPRODUCT((Data!$B$17:$B$19=Model!$F740)*(Data!$C$16:$K$16=Model!$K740)*(Data!$C$17:$K$19))","v":2.81},70.33,{"$f":"_xlfn.IFS(M740>70,\"Serviceable\",M740>30, \"Limited Life\",M740<=30, \"Unserviceable\")","v":"Serviceable"}]
[null,1117,1965,"Wood Creos Impregnated","Serviceable","Class 3",2017,100,91.81,8,{"$f":"INDEX(Lists!$B$32:$B$40, MATCH(2020-C741, Lists!$C$32:$C$40,1))","v":"51-60"},{"$f":"SUMPRODUCT((Data!$B$17:$B$19=Model!$F741)*(Data!$C$16:$K$16=Model!$K741)*(Data!$C$17:$K$19))","v":2.73},78.16,{"$f":"_xlfn.IFS(M741>70,\"Serviceable\",M741>30, \"Limited Life\",M741<=30, \"Unserviceable\")","v":"Serviceable"}]
[null,1120,1981,"Wood Untreated Dressed","Serviceable","Class 1",2017,100,92.44,8,{"$f":"INDEX(Lists!$B$32:$B$40, MATCH(2020-C742, Lists!$C$32:$C$40,1))","v":"31-40"},{"$f":"SUMPRODUCT((Data!$B$17:$B$19=Model!$F742)*(Data!$C$16:$K$16=Model!$K742)*(Data!$C$17:$K$19))","v":2.52},79.84,{"$f":"_xlfn.IFS(M742>70,\"Serviceable\",M742>30, \"Limited Life\",M742<=30, \"Unserviceable\")","v":"Serviceable"}]
[null,1121,1934,"Wood Untreated Dressed","Serviceable","Class 1",2018,100,94.38,7,{"$f":"INDEX(Lists!$B$32:$B$40, MATCH(2020-C743, Lists!$C$32:$C$40,1))","v":"81-90"},{"$f":"SUMPRODUCT((Data!$B$17:$B$19=Model!$F743)*(Data!$C$16:$K$16=Model!$K743)*(Data!$C$17:$K$19))","v":2.81},80.33,{"$f":"_xlfn.IFS(M743>70,\"Serviceable\",M743>30, \"Limited Life\",M743<=30, \"Unserviceable\")","v":"Serviceable"}]
[null,1122,1995,"Wood Untreated Dressed","Serviceable","Class 1",2016,130,122.16,9,{"$f":"INDEX(Lists!$B$32:$B$40, MATCH(2020-C744, Lists!$C$32:$C$40,1))","v":"21-30"},{"$f":"SUMPRODUCT((Data!$B$17:$B$19=Model!$F744)*(Data!$C$16:$K$16=Model!$K744)*(Data!$C$17:$K$19))","v":1.96},112.36,{"$f":"_xlfn.IFS(M744>70,\"Serviceable\",M744>30, \"Limited Life\",M744<=30, \"Unserviceable\")","v":"Serviceable"}]
[null,1123,1939,"Wood Untreated Dressed","Serviceable","Class 1",2018,100,94.38,7,{"$f":"INDEX(Lists!$B$32:$B$40, MATCH(2020-C745, Lists!$C$32:$C$40,1))","v":"81-90"},{"$f":"SUMPRODUCT((Data!$B$17:$B$19=Model!$F745)*(Data!$C$16:$K$16=Model!$K745)*(Data!$C$17:$K$19))","v":2.81},80.33,{"$f":"_xlfn.IFS(M745>70,\"Serviceable\",M745>30, \"Limited Life\",M745<=30, \"Unserviceable\")","v":"Serviceable"}]
[null,1125,1941,"Wood Untreated Dressed","Serviceable","Class 1",2018,90,85.7,7,{"$f":"INDEX(Lists!$B$32:$B$40, MATCH(2020-C746, Lists!$C$32:$C$40,1))","v":"71-80"},{"$f":"SUMPRODUCT((Data!$B$17:$B$19=Model!$F746)*(Data!$C$16:$K$16=Model!$K746)*(Data!$C$17:$K$19))","v":2.15},74.95,{"$f":"_xlfn.IFS(M746>70,\"Serviceable\",M746>30, \"Limited Life\",M746<=30, \"Unserviceable\")","v":"Serviceable"}]
[null,1127,1986,"Wood Untreated Dressed","Serviceable","Class 1",2018,120,114.96,7,{"$f":"INDEX(Lists!$B$32:$B$40, MATCH(2020-C747, Lists!$C$32:$C$40,1))","v":"31-40"},{"$f":"SUMPRODUCT((Data!$B$17:$B$19=Model!$F747)*(Data!$C$16:$K$16=Model!$K747)*(Data!$C$17:$K$19))","v":2.52},102.36,{"$f":"_xlfn.IFS(M747>70,\"Serviceable\",M747>30, \"Limited Life\",M747<=30, \"Unserviceable\")","v":"Serviceable"}]
[null,1129,1968,"Wood Creos Impregnated","Serviceable","Class 3",2018,80,74.540000000000006,7,{"$f":"INDEX(Lists!$B$32:$B$40, MATCH(2020-C748, Lists!$C$32:$C$40,1))","v":"51-60"},{"$f":"SUMPRODUCT((Data!$B$17:$B$19=Model!$F748)*(Data!$C$16:$K$16=Model!$K748)*(Data!$C$17:$K$19))","v":2.73},60.89,{"$f":"_xlfn.IFS(M748>70,\"Serviceable\",M748>30, \"Limited Life\",M748<=30, \"Unserviceable\")","v":"Limited Life"}]
[null,1130,1986,"Wood Untreated Dressed","Serviceable","Class 1",2018,90,84.96,7,{"$f":"INDEX(Lists!$B$32:$B$40, MATCH(2020-C749, Lists!$C$32:$C$40,1))","v":"31-40"},{"$f":"SUMPRODUCT((Data!$B$17:$B$19=Model!$F749)*(Data!$C$16:$K$16=Model!$K749)*(Data!$C$17:$K$19))","v":2.52},72.36,{"$f":"_xlfn.IFS(M749>70,\"Serviceable\",M749>30, \"Limited Life\",M749<=30, \"Unserviceable\")","v":"Serviceable"}]
[null,1133,1978,"Wood Creos Impregnated","Serviceable","Class 3",2016,90,74.88,9,{"$f":"INDEX(Lists!$B$32:$B$40, MATCH(2020-C750, Lists!$C$32:$C$40,1))","v":"41-50"},{"$f":"SUMPRODUCT((Data!$B$17:$B$19=Model!$F750)*(Data!$C$16:$K$16=Model!$K750)*(Data!$C$17:$K$19))","v":3.78},55.980000000000004,{"$f":"_xlfn.IFS(M750>70,\"Serviceable\",M750>30, \"Limited Life\",M750<=30, \"Unserviceable\")","v":"Limited Life"}]
[null,1135,1966,"Wood Creos Impregnated","Limited Life","Class 3",2017,50,41.81,8,{"$f":"INDEX(Lists!$B$32:$B$40, MATCH(2020-C751, Lists!$C$32:$C$40,1))","v":"51-60"},{"$f":"SUMPRODUCT((Data!$B$17:$B$19=Model!$F751)*(Data!$C$16:$K$16=Model!$K751)*(Data!$C$17:$K$19))","v":2.73},28.16,{"$f":"_xlfn.IFS(M751>70,\"Serviceable\",M751>30, \"Limited Life\",M751<=30, \"Unserviceable\")","v":"Unserviceable"}]
[null,1136,1986,"Wood Untreated Dressed","Serviceable","Class 1",2018,140,134.96,7,{"$f":"INDEX(Lists!$B$32:$B$40, MATCH(2020-C752, Lists!$C$32:$C$40,1))","v":"31-40"},{"$f":"SUMPRODUCT((Data!$B$17:$B$19=Model!$F752)*(Data!$C$16:$K$16=Model!$K752)*(Data!$C$17:$K$19))","v":2.52},122.36,{"$f":"_xlfn.IFS(M752>70,\"Serviceable\",M752>30, \"Limited Life\",M752<=30, \"Unserviceable\")","v":"Serviceable"}]
[null,1138,1980,"Wood Untreated Dressed","Serviceable","Class 1",2018,100,94.96,7,{"$f":"INDEX(Lists!$B$32:$B$40, MATCH(2020-C753, Lists!$C$32:$C$40,1))","v":"31-40"},{"$f":"SUMPRODUCT((Data!$B$17:$B$19=Model!$F753)*(Data!$C$16:$K$16=Model!$K753)*(Data!$C$17:$K$19))","v":2.52},82.36,{"$f":"_xlfn.IFS(M753>70,\"Serviceable\",M753>30, \"Limited Life\",M753<=30, \"Unserviceable\")","v":"Serviceable"}]
[null,1140,1957,"Wood Untreated Round","Serviceable","Class 1",2018,130,125.94,7,{"$f":"INDEX(Lists!$B$32:$B$40, MATCH(2020-C754, Lists!$C$32:$C$40,1))","v":"61-70"},{"$f":"SUMPRODUCT((Data!$B$17:$B$19=Model!$F754)*(Data!$C$16:$K$16=Model!$K754)*(Data!$C$17:$K$19))","v":2.0299999999999998},115.79,{"$f":"_xlfn.IFS(M754>70,\"Serviceable\",M754>30, \"Limited Life\",M754<=30, \"Unserviceable\")","v":"Serviceable"}]
[null,1141,1938,"Wood Untreated Dressed","Serviceable","Class 1",2018,90,84.38,7,{"$f":"INDEX(Lists!$B$32:$B$40, MATCH(2020-C755, Lists!$C$32:$C$40,1))","v":"81-90"},{"$f":"SUMPRODUCT((Data!$B$17:$B$19=Model!$F755)*(Data!$C$16:$K$16=Model!$K755)*(Data!$C$17:$K$19))","v":2.81},70.33,{"$f":"_xlfn.IFS(M755>70,\"Serviceable\",M755>30, \"Limited Life\",M755<=30, \"Unserviceable\")","v":"Serviceable"}]
[null,1142,1976,"Wood Creos Impregnated","Serviceable","Class 3",2018,80,72.44,7,{"$f":"INDEX(Lists!$B$32:$B$40, MATCH(2020-C756, Lists!$C$32:$C$40,1))","v":"41-50"},{"$f":"SUMPRODUCT((Data!$B$17:$B$19=Model!$F756)*(Data!$C$16:$K$16=Model!$K756)*(Data!$C$17:$K$19))","v":3.78},53.540000000000006,{"$f":"_xlfn.IFS(M756>70,\"Serviceable\",M756>30, \"Limited Life\",M756<=30, \"Unserviceable\")","v":"Limited Life"}]
[null,1144,1941,"Wood Untreated Dressed","Serviceable","Class 1",2018,90,85.7,7,{"$f":"INDEX(Lists!$B$32:$B$40, MATCH(2020-C757, Lists!$C$32:$C$40,1))","v":"71-80"},{"$f":"SUMPRODUCT((Data!$B$17:$B$19=Model!$F757)*(Data!$C$16:$K$16=Model!$K757)*(Data!$C$17:$K$19))","v":2.15},74.95,{"$f":"_xlfn.IFS(M757>70,\"Serviceable\",M757>30, \"Limited Life\",M757<=30, \"Unserviceable\")","v":"Serviceable"}]
[null,1145,2001,"CCA Treated Pole","Serviceable","Class 2",2017,150,146.34,8,{"$f":"INDEX(Lists!$B$32:$B$40, MATCH(2020-C758, Lists!$C$32:$C$40,1))","v":"0-20"},{"$f":"SUMPRODUCT((Data!$B$17:$B$19=Model!$F758)*(Data!$C$16:$K$16=Model!$K758)*(Data!$C$17:$K$19))","v":1.22},140.24,{"$f":"_xlfn.IFS(M758>70,\"Serviceable\",M758>30, \"Limited Life\",M758<=30, \"Unserviceable\")","v":"Serviceable"}]
[null,1146,1961,"Wood Creos Impregnated","Serviceable","Class 3",2018,100,94.54,7,{"$f":"INDEX(Lists!$B$32:$B$40, MATCH(2020-C759, Lists!$C$32:$C$40,1))","v":"51-60"},{"$f":"SUMPRODUCT((Data!$B$17:$B$19=Model!$F759)*(Data!$C$16:$K$16=Model!$K759)*(Data!$C$17:$K$19))","v":2.73},80.89,{"$f":"_xlfn.IFS(M759>70,\"Serviceable\",M759>30, \"Limited Life\",M759<=30, \"Unserviceable\")","v":"Serviceable"}]
[null,1150,1966,"Wood Creos Impregnated","Serviceable","Class 3",2018,90,84.54,7,{"$f":"INDEX(Lists!$B$32:$B$40, MATCH(2020-C760, Lists!$C$32:$C$40,1))","v":"51-60"},{"$f":"SUMPRODUCT((Data!$B$17:$B$19=Model!$F760)*(Data!$C$16:$K$16=Model!$K760)*(Data!$C$17:$K$19))","v":2.73},70.89,{"$f":"_xlfn.IFS(M760>70,\"Serviceable\",M760>30, \"Limited Life\",M760<=30, \"Unserviceable\")","v":"Serviceable"}]
[null,1152,1970,"Wood Creos Impregnated","Serviceable","Class 3",2018,100,92.44,7,{"$f":"INDEX(Lists!$B$32:$B$40, MATCH(2020-C761, Lists!$C$32:$C$40,1))","v":"41-50"},{"$f":"SUMPRODUCT((Data!$B$17:$B$19=Model!$F761)*(Data!$C$16:$K$16=Model!$K761)*(Data!$C$17:$K$19))","v":3.78},73.540000000000006,{"$f":"_xlfn.IFS(M761>70,\"Serviceable\",M761>30, \"Limited Life\",M761<=30, \"Unserviceable\")","v":"Serviceable"}]
[null,1156,1986,"Wood Untreated Dressed","Serviceable","Class 1",2018,120,114.96,7,{"$f":"INDEX(Lists!$B$32:$B$40, MATCH(2020-C762, Lists!$C$32:$C$40,1))","v":"31-40"},{"$f":"SUMPRODUCT((Data!$B$17:$B$19=Model!$F762)*(Data!$C$16:$K$16=Model!$K762)*(Data!$C$17:$K$19))","v":2.52},102.36,{"$f":"_xlfn.IFS(M762>70,\"Serviceable\",M762>30, \"Limited Life\",M762<=30, \"Unserviceable\")","v":"Serviceable"}]
[null,1157,1960,"Wood Creos Impregnated","Serviceable","Class 3",2017,90,81.81,8,{"$f":"INDEX(Lists!$B$32:$B$40, MATCH(2020-C763, Lists!$C$32:$C$40,1))","v":"51-60"},{"$f":"SUMPRODUCT((Data!$B$17:$B$19=Model!$F763)*(Data!$C$16:$K$16=Model!$K763)*(Data!$C$17:$K$19))","v":2.73},68.16,{"$f":"_xlfn.IFS(M763>70,\"Serviceable\",M763>30, \"Limited Life\",M763<=30, \"Unserviceable\")","v":"Limited Life"}]
[null,1158,1967,"Wood Creos Impregnated","Serviceable","Class 3",2018,90,84.54,7,{"$f":"INDEX(Lists!$B$32:$B$40, MATCH(2020-C764, Lists!$C$32:$C$40,1))","v":"51-60"},{"$f":"SUMPRODUCT((Data!$B$17:$B$19=Model!$F764)*(Data!$C$16:$K$16=Model!$K764)*(Data!$C$17:$K$19))","v":2.73},70.89,{"$f":"_xlfn.IFS(M764>70,\"Serviceable\",M764>30, \"Limited Life\",M764<=30, \"Unserviceable\")","v":"Serviceable"}]
[null,1162,1935,"Wood Untreated Dressed","Serviceable","Class 1",2018,100,94.38,7,{"$f":"INDEX(Lists!$B$32:$B$40, MATCH(2020-C765, Lists!$C$32:$C$40,1))","v":"81-90"},{"$f":"SUMPRODUCT((Data!$B$17:$B$19=Model!$F765)*(Data!$C$16:$K$16=Model!$K765)*(Data!$C$17:$K$19))","v":2.81},80.33,{"$f":"_xlfn.IFS(M765>70,\"Serviceable\",M765>30, \"Limited Life\",M765<=30, \"Unserviceable\")","v":"Serviceable"}]
[null,1163,1960,"Wood Creos Impregnated","Serviceable","Class 3",2017,110,101.81,8,{"$f":"INDEX(Lists!$B$32:$B$40, MATCH(2020-C766, Lists!$C$32:$C$40,1))","v":"51-60"},{"$f":"SUMPRODUCT((Data!$B$17:$B$19=Model!$F766)*(Data!$C$16:$K$16=Model!$K766)*(Data!$C$17:$K$19))","v":2.73},88.16,{"$f":"_xlfn.IFS(M766>70,\"Serviceable\",M766>30, \"Limited Life\",M766<=30, \"Unserviceable\")","v":"Serviceable"}]
[null,1164,1982,"Wood Untreated Dressed","Serviceable","Class 1",2018,100,94.96,7,{"$f":"INDEX(Lists!$B$32:$B$40, MATCH(2020-C767, Lists!$C$32:$C$40,1))","v":"31-40"},{"$f":"SUMPRODUCT((Data!$B$17:$B$19=Model!$F767)*(Data!$C$16:$K$16=Model!$K767)*(Data!$C$17:$K$19))","v":2.52},82.36,{"$f":"_xlfn.IFS(M767>70,\"Serviceable\",M767>30, \"Limited Life\",M767<=30, \"Unserviceable\")","v":"Serviceable"}]
[null,1166,1980,"Wood Untreated Dressed","Serviceable","Class 1",2018,100,94.96,7,{"$f":"INDEX(Lists!$B$32:$B$40, MATCH(2020-C768, Lists!$C$32:$C$40,1))","v":"31-40"},{"$f":"SUMPRODUCT((Data!$B$17:$B$19=Model!$F768)*(Data!$C$16:$K$16=Model!$K768)*(Data!$C$17:$K$19))","v":2.52},82.36,{"$f":"_xlfn.IFS(M768>70,\"Serviceable\",M768>30, \"Limited Life\",M768<=30, \"Unserviceable\")","v":"Serviceable"}]
[null,1168,1940,"Wood Untreated Dressed","Serviceable","Class 1",2018,100,95.7,7,{"$f":"INDEX(Lists!$B$32:$B$40, MATCH(2020-C769, Lists!$C$32:$C$40,1))","v":"71-80"},{"$f":"SUMPRODUCT((Data!$B$17:$B$19=Model!$F769)*(Data!$C$16:$K$16=Model!$K769)*(Data!$C$17:$K$19))","v":2.15},84.95,{"$f":"_xlfn.IFS(M769>70,\"Serviceable\",M769>30, \"Limited Life\",M769<=30, \"Unserviceable\")","v":"Serviceable"}]
[null,1172,1938,"Wood Untreated Dressed","Serviceable","Class 1",2017,80,71.569999999999993,8,{"$f":"INDEX(Lists!$B$32:$B$40, MATCH(2020-C770, Lists!$C$32:$C$40,1))","v":"81-90"},{"$f":"SUMPRODUCT((Data!$B$17:$B$19=Model!$F770)*(Data!$C$16:$K$16=Model!$K770)*(Data!$C$17:$K$19))","v":2.81},57.519999999999996,{"$f":"_xlfn.IFS(M770>70,\"Serviceable\",M770>30, \"Limited Life\",M770<=30, \"Unserviceable\")","v":"Limited Life"}]
[null,1173,2006,"CCA Treated Pole","Serviceable","Class 1",2017,110,106.82,8,{"$f":"INDEX(Lists!$B$32:$B$40, MATCH(2020-C771, Lists!$C$32:$C$40,1))","v":"0-20"},{"$f":"SUMPRODUCT((Data!$B$17:$B$19=Model!$F771)*(Data!$C$16:$K$16=Model!$K771)*(Data!$C$17:$K$19))","v":1.06},101.52,{"$f":"_xlfn.IFS(M771>70,\"Serviceable\",M771>30, \"Limited Life\",M771<=30, \"Unserviceable\")","v":"Serviceable"}]
[null,1174,1938,"Wood Untreated Dressed","Serviceable","Class 1",2018,90,84.38,7,{"$f":"INDEX(Lists!$B$32:$B$40, MATCH(2020-C772, Lists!$C$32:$C$40,1))","v":"81-90"},{"$f":"SUMPRODUCT((Data!$B$17:$B$19=Model!$F772)*(Data!$C$16:$K$16=Model!$K772)*(Data!$C$17:$K$19))","v":2.81},70.33,{"$f":"_xlfn.IFS(M772>70,\"Serviceable\",M772>30, \"Limited Life\",M772<=30, \"Unserviceable\")","v":"Serviceable"}]
[null,1175,1965,"Wood Creos Impregnated","Serviceable","Class 3",2017,80,71.81,8,{"$f":"INDEX(Lists!$B$32:$B$40, MATCH(2020-C773, Lists!$C$32:$C$40,1))","v":"51-60"},{"$f":"SUMPRODUCT((Data!$B$17:$B$19=Model!$F773)*(Data!$C$16:$K$16=Model!$K773)*(Data!$C$17:$K$19))","v":2.73},58.16,{"$f":"_xlfn.IFS(M773>70,\"Serviceable\",M773>30, \"Limited Life\",M773<=30, \"Unserviceable\")","v":"Limited Life"}]
[null,1177,1974,"Wood Creos Impregnated","Serviceable","Class 3",2017,100,88.66,8,{"$f":"INDEX(Lists!$B$32:$B$40, MATCH(2020-C774, Lists!$C$32:$C$40,1))","v":"41-50"},{"$f":"SUMPRODUCT((Data!$B$17:$B$19=Model!$F774)*(Data!$C$16:$K$16=Model!$K774)*(Data!$C$17:$K$19))","v":3.78},69.760000000000005,{"$f":"_xlfn.IFS(M774>70,\"Serviceable\",M774>30, \"Limited Life\",M774<=30, \"Unserviceable\")","v":"Limited Life"}]
[null,1178,1972,"Wood Creos Impregnated","Serviceable","Class 2",2018,90,83.44,7,{"$f":"INDEX(Lists!$B$32:$B$40, MATCH(2020-C775, Lists!$C$32:$C$40,1))","v":"41-50"},{"$f":"SUMPRODUCT((Data!$B$17:$B$19=Model!$F775)*(Data!$C$16:$K$16=Model!$K775)*(Data!$C$17:$K$19))","v":3.28},67.040000000000006,{"$f":"_xlfn.IFS(M775>70,\"Serviceable\",M775>30, \"Limited Life\",M775<=30, \"Unserviceable\")","v":"Limited Life"}]
[null,1179,1939,"Wood Untreated Dressed","Serviceable","Class 1",2018,100,94.38,{"$f":"2025-G776","v":7},{"$f":"INDEX(Lists!$B$32:$B$40, MATCH(2020-C776, Lists!$C$32:$C$40,1))","v":"81-90"},{"$f":"SUMPRODUCT((Data!$B$17:$B$19=Model!$F776)*(Data!$C$16:$K$16=Model!$K776)*(Data!$C$17:$K$19))","v":2.81},{"$f":"IF(IF(H776>=700,999,(H776-L776*J776))<0,0,IF(H776>=700,999,(H776-L776*J776)))","v":80.33},{"$f":"_xlfn.IFS(M776>70,\"Serviceable\",M776>30, \"Limited Life\",M776<=30, \"Unserviceable\")","v":"Serviceable"}]
[null,1180,1955,"Wood Untreated Round","Serviceable","Class 1",2017,100,93.91,8,{"$f":"INDEX(Lists!$B$32:$B$40, MATCH(2020-C777, Lists!$C$32:$C$40,1))","v":"61-70"},{"$f":"SUMPRODUCT((Data!$B$17:$B$19=Model!$F777)*(Data!$C$16:$K$16=Model!$K777)*(Data!$C$17:$K$19))","v":2.0299999999999998},83.76,{"$f":"_xlfn.IFS(M777>70,\"Serviceable\",M777>30, \"Limited Life\",M777<=30, \"Unserviceable\")","v":"Serviceable"}]
[null,1183,1938,"Wood Untreated Dressed","Serviceable","Class 1",2017,110,101.57,8,{"$f":"INDEX(Lists!$B$32:$B$40, MATCH(2020-C778, Lists!$C$32:$C$40,1))","v":"81-90"},{"$f":"SUMPRODUCT((Data!$B$17:$B$19=Model!$F778)*(Data!$C$16:$K$16=Model!$K778)*(Data!$C$17:$K$19))","v":2.81},87.52,{"$f":"_xlfn.IFS(M778>70,\"Serviceable\",M778>30, \"Limited Life\",M778<=30, \"Unserviceable\")","v":"Serviceable"}]
[null,1186,1966,"Wood Creos Impregnated","Serviceable","Class 3",2017,120,111.81,8,{"$f":"INDEX(Lists!$B$32:$B$40, MATCH(2020-C779, Lists!$C$32:$C$40,1))","v":"51-60"},{"$f":"SUMPRODUCT((Data!$B$17:$B$19=Model!$F779)*(Data!$C$16:$K$16=Model!$K779)*(Data!$C$17:$K$19))","v":2.73},98.16,{"$f":"_xlfn.IFS(M779>70,\"Serviceable\",M779>30, \"Limited Life\",M779<=30, \"Unserviceable\")","v":"Serviceable"}]
[null,1190,1966,"Wood Creos Impregnated","Serviceable","Class 3",2017,80,71.81,8,{"$f":"INDEX(Lists!$B$32:$B$40, MATCH(2020-C780, Lists!$C$32:$C$40,1))","v":"51-60"},{"$f":"SUMPRODUCT((Data!$B$17:$B$19=Model!$F780)*(Data!$C$16:$K$16=Model!$K780)*(Data!$C$17:$K$19))","v":2.73},58.16,{"$f":"_xlfn.IFS(M780>70,\"Serviceable\",M780>30, \"Limited Life\",M780<=30, \"Unserviceable\")","v":"Limited Life"}]
[null,1191,2002,"CCA Treated Pole","Serviceable","Class 1",2017,150,146.82,8,{"$f":"INDEX(Lists!$B$32:$B$40, MATCH(2020-C781, Lists!$C$32:$C$40,1))","v":"0-20"},{"$f":"SUMPRODUCT((Data!$B$17:$B$19=Model!$F781)*(Data!$C$16:$K$16=Model!$K781)*(Data!$C$17:$K$19))","v":1.06},141.52000000000001,{"$f":"_xlfn.IFS(M781>70,\"Serviceable\",M781>30, \"Limited Life\",M781<=30, \"Unserviceable\")","v":"Serviceable"}]
[null,1192,1967,"Wood Creos Impregnated","Limited Life","Class 3",2017,75,66.81,8,{"$f":"INDEX(Lists!$B$32:$B$40, MATCH(2020-C782, Lists!$C$32:$C$40,1))","v":"51-60"},{"$f":"SUMPRODUCT((Data!$B$17:$B$19=Model!$F782)*(Data!$C$16:$K$16=Model!$K782)*(Data!$C$17:$K$19))","v":2.73},53.16,{"$f":"_xlfn.IFS(M782>70,\"Serviceable\",M782>30, \"Limited Life\",M782<=30, \"Unserviceable\")","v":"Limited Life"}]
[null,1195,1935,"Wood Untreated Dressed","Serviceable","Class 1",2017,100,91.57,8,{"$f":"INDEX(Lists!$B$32:$B$40, MATCH(2020-C783, Lists!$C$32:$C$40,1))","v":"81-90"},{"$f":"SUMPRODUCT((Data!$B$17:$B$19=Model!$F783)*(Data!$C$16:$K$16=Model!$K783)*(Data!$C$17:$K$19))","v":2.81},77.52,{"$f":"_xlfn.IFS(M783>70,\"Serviceable\",M783>30, \"Limited Life\",M783<=30, \"Unserviceable\")","v":"Serviceable"}]
[null,1197,1933,"Wood Untreated Dressed","Serviceable","Class 1",2017,120,111.57,8,{"$f":"INDEX(Lists!$B$32:$B$40, MATCH(2020-C784, Lists!$C$32:$C$40,1))","v":"81-90"},{"$f":"SUMPRODUCT((Data!$B$17:$B$19=Model!$F784)*(Data!$C$16:$K$16=Model!$K784)*(Data!$C$17:$K$19))","v":2.81},97.52,{"$f":"_xlfn.IFS(M784>70,\"Serviceable\",M784>30, \"Limited Life\",M784<=30, \"Unserviceable\")","v":"Serviceable"}]
[null,1200,1971,"Wood Creos Impregnated","Limited Life","Class 3",2018,70,62.44,7,{"$f":"INDEX(Lists!$B$32:$B$40, MATCH(2020-C785, Lists!$C$32:$C$40,1))","v":"41-50"},{"$f":"SUMPRODUCT((Data!$B$17:$B$19=Model!$F785)*(Data!$C$16:$K$16=Model!$K785)*(Data!$C$17:$K$19))","v":3.78},43.540000000000006,{"$f":"_xlfn.IFS(M785>70,\"Serviceable\",M785>30, \"Limited Life\",M785<=30, \"Unserviceable\")","v":"Limited Life"}]
[null,1202,2003,"CCA Treated Pole","Serviceable","Class 1",2017,166.31691553103065,163.13691553103064,8,{"$f":"INDEX(Lists!$B$32:$B$40, MATCH(2020-C786, Lists!$C$32:$C$40,1))","v":"0-20"},{"$f":"SUMPRODUCT((Data!$B$17:$B$19=Model!$F786)*(Data!$C$16:$K$16=Model!$K786)*(Data!$C$17:$K$19))","v":1.06},157.83691553103066,{"$f":"_xlfn.IFS(M786>70,\"Serviceable\",M786>30, \"Limited Life\",M786<=30, \"Unserviceable\")","v":"Serviceable"}]
[null,1203,1981,"Wood Untreated Dressed","Serviceable","Class 1",2018,100,94.96,7,{"$f":"INDEX(Lists!$B$32:$B$40, MATCH(2020-C787, Lists!$C$32:$C$40,1))","v":"31-40"},{"$f":"SUMPRODUCT((Data!$B$17:$B$19=Model!$F787)*(Data!$C$16:$K$16=Model!$K787)*(Data!$C$17:$K$19))","v":2.52},82.36,{"$f":"_xlfn.IFS(M787>70,\"Serviceable\",M787>30, \"Limited Life\",M787<=30, \"Unserviceable\")","v":"Serviceable"}]
[null,1204,1933,"Wood Untreated Dressed","Limited Life","Class 1",2017,75,66.569999999999993,8,{"$f":"INDEX(Lists!$B$32:$B$40, MATCH(2020-C788, Lists!$C$32:$C$40,1))","v":"81-90"},{"$f":"SUMPRODUCT((Data!$B$17:$B$19=Model!$F788)*(Data!$C$16:$K$16=Model!$K788)*(Data!$C$17:$K$19))","v":2.81},52.519999999999996,{"$f":"_xlfn.IFS(M788>70,\"Serviceable\",M788>30, \"Limited Life\",M788<=30, \"Unserviceable\")","v":"Limited Life"}]
[null,1206,1974,"Wood Creos Impregnated","Serviceable","Class 3",2017,100,88.66,8,{"$f":"INDEX(Lists!$B$32:$B$40, MATCH(2020-C789, Lists!$C$32:$C$40,1))","v":"41-50"},{"$f":"SUMPRODUCT((Data!$B$17:$B$19=Model!$F789)*(Data!$C$16:$K$16=Model!$K789)*(Data!$C$17:$K$19))","v":3.78},69.760000000000005,{"$f":"_xlfn.IFS(M789>70,\"Serviceable\",M789>30, \"Limited Life\",M789<=30, \"Unserviceable\")","v":"Limited Life"}]
[null,1208,1978,"Wood Untreated Dressed","Serviceable","Class 1",2017,90,84.75,8,{"$f":"INDEX(Lists!$B$32:$B$40, MATCH(2020-C790, Lists!$C$32:$C$40,1))","v":"41-50"},{"$f":"SUMPRODUCT((Data!$B$17:$B$19=Model!$F790)*(Data!$C$16:$K$16=Model!$K790)*(Data!$C$17:$K$19))","v":1.75},76,{"$f":"_xlfn.IFS(M790>70,\"Serviceable\",M790>30, \"Limited Life\",M790<=30, \"Unserviceable\")","v":"Serviceable"}]
[null,1211,1937,"Wood Creos Impregnated","Serviceable","Class 1",2018,80,74.38,7,{"$f":"INDEX(Lists!$B$32:$B$40, MATCH(2020-C791, Lists!$C$32:$C$40,1))","v":"81-90"},{"$f":"SUMPRODUCT((Data!$B$17:$B$19=Model!$F791)*(Data!$C$16:$K$16=Model!$K791)*(Data!$C$17:$K$19))","v":2.81},60.33,{"$f":"_xlfn.IFS(M791>70,\"Serviceable\",M791>30, \"Limited Life\",M791<=30, \"Unserviceable\")","v":"Limited Life"}]
[null,1212,2011,"CCA Treated Pole","Serviceable","Class 1",2017,150,146.82,8,{"$f":"INDEX(Lists!$B$32:$B$40, MATCH(2020-C792, Lists!$C$32:$C$40,1))","v":"0-20"},{"$f":"SUMPRODUCT((Data!$B$17:$B$19=Model!$F792)*(Data!$C$16:$K$16=Model!$K792)*(Data!$C$17:$K$19))","v":1.06},141.52000000000001,{"$f":"_xlfn.IFS(M792>70,\"Serviceable\",M792>30, \"Limited Life\",M792<=30, \"Unserviceable\")","v":"Serviceable"}]
[null,1213,2000,"CCA Treated Pole","Serviceable","Class 2",2018,150,147.56,7,{"$f":"INDEX(Lists!$B$32:$B$40, MATCH(2020-C793, Lists!$C$32:$C$40,1))","v":"0-20"},{"$f":"SUMPRODUCT((Data!$B$17:$B$19=Model!$F793)*(Data!$C$16:$K$16=Model!$K793)*(Data!$C$17:$K$19))","v":1.22},141.46,{"$f":"_xlfn.IFS(M793>70,\"Serviceable\",M793>30, \"Limited Life\",M793<=30, \"Unserviceable\")","v":"Serviceable"}]
[null,1215,1963,"Wood Creos Impregnated","Serviceable","Class 2",2018,80,74.86,7,{"$f":"INDEX(Lists!$B$32:$B$40, MATCH(2020-C794, Lists!$C$32:$C$40,1))","v":"51-60"},{"$f":"SUMPRODUCT((Data!$B$17:$B$19=Model!$F794)*(Data!$C$16:$K$16=Model!$K794)*(Data!$C$17:$K$19))","v":2.57},62.010000000000005,{"$f":"_xlfn.IFS(M794>70,\"Serviceable\",M794>30, \"Limited Life\",M794<=30, \"Unserviceable\")","v":"Limited Life"}]
[null,1217,2002,"CCA Treated Pole","Serviceable","Class 1",2018,150,147.88,7,{"$f":"INDEX(Lists!$B$32:$B$40, MATCH(2020-C795, Lists!$C$32:$C$40,1))","v":"0-20"},{"$f":"SUMPRODUCT((Data!$B$17:$B$19=Model!$F795)*(Data!$C$16:$K$16=Model!$K795)*(Data!$C$17:$K$19))","v":1.06},142.58000000000001,{"$f":"_xlfn.IFS(M795>70,\"Serviceable\",M795>30, \"Limited Life\",M795<=30, \"Unserviceable\")","v":"Serviceable"}]
[null,1218,1981,"Wood Untreated Dressed","Serviceable","Class 1",2017,100,92.44,8,{"$f":"INDEX(Lists!$B$32:$B$40, MATCH(2020-C796, Lists!$C$32:$C$40,1))","v":"31-40"},{"$f":"SUMPRODUCT((Data!$B$17:$B$19=Model!$F796)*(Data!$C$16:$K$16=Model!$K796)*(Data!$C$17:$K$19))","v":2.52},79.84,{"$f":"_xlfn.IFS(M796>70,\"Serviceable\",M796>30, \"Limited Life\",M796<=30, \"Unserviceable\")","v":"Serviceable"}]
[null,1220,1959,"Wood Creos Impregnated","Serviceable","Class 3",2017,100,93.94,8,{"$f":"INDEX(Lists!$B$32:$B$40, MATCH(2020-C797, Lists!$C$32:$C$40,1))","v":"61-70"},{"$f":"SUMPRODUCT((Data!$B$17:$B$19=Model!$F797)*(Data!$C$16:$K$16=Model!$K797)*(Data!$C$17:$K$19))","v":2.02},83.84,{"$f":"_xlfn.IFS(M797>70,\"Serviceable\",M797>30, \"Limited Life\",M797<=30, \"Unserviceable\")","v":"Serviceable"}]
[null,1221,1964,"Wood Creos Impregnated","Serviceable","Class 3",2018,80,74.540000000000006,7,{"$f":"INDEX(Lists!$B$32:$B$40, MATCH(2020-C798, Lists!$C$32:$C$40,1))","v":"51-60"},{"$f":"SUMPRODUCT((Data!$B$17:$B$19=Model!$F798)*(Data!$C$16:$K$16=Model!$K798)*(Data!$C$17:$K$19))","v":2.73},60.89,{"$f":"_xlfn.IFS(M798>70,\"Serviceable\",M798>30, \"Limited Life\",M798<=30, \"Unserviceable\")","v":"Limited Life"}]
[null,1222,1965,"Wood Creos Impregnated","Serviceable","Class 3",2017,100,91.81,8,{"$f":"INDEX(Lists!$B$32:$B$40, MATCH(2020-C799, Lists!$C$32:$C$40,1))","v":"51-60"},{"$f":"SUMPRODUCT((Data!$B$17:$B$19=Model!$F799)*(Data!$C$16:$K$16=Model!$K799)*(Data!$C$17:$K$19))","v":2.73},78.16,{"$f":"_xlfn.IFS(M799>70,\"Serviceable\",M799>30, \"Limited Life\",M799<=30, \"Unserviceable\")","v":"Serviceable"}]
[null,1223,2009,"CCA Treated Pole","Serviceable","Class 2",2018,130,127.56,7,{"$f":"INDEX(Lists!$B$32:$B$40, MATCH(2020-C800, Lists!$C$32:$C$40,1))","v":"0-20"},{"$f":"SUMPRODUCT((Data!$B$17:$B$19=Model!$F800)*(Data!$C$16:$K$16=Model!$K800)*(Data!$C$17:$K$19))","v":1.22},121.46000000000001,{"$f":"_xlfn.IFS(M800>70,\"Serviceable\",M800>30, \"Limited Life\",M800<=30, \"Unserviceable\")","v":"Serviceable"}]
[null,1226,1965,"Wood Creos Impregnated","Serviceable","Class 3",2017,90,81.81,8,{"$f":"INDEX(Lists!$B$32:$B$40, MATCH(2020-C801, Lists!$C$32:$C$40,1))","v":"51-60"},{"$f":"SUMPRODUCT((Data!$B$17:$B$19=Model!$F801)*(Data!$C$16:$K$16=Model!$K801)*(Data!$C$17:$K$19))","v":2.73},68.16,{"$f":"_xlfn.IFS(M801>70,\"Serviceable\",M801>30, \"Limited Life\",M801<=30, \"Unserviceable\")","v":"Limited Life"}]
[null,1227,1991,"Wood Untreated Dressed","Serviceable","Class 1",2018,100,96.08,7,{"$f":"INDEX(Lists!$B$32:$B$40, MATCH(2020-C802, Lists!$C$32:$C$40,1))","v":"21-30"},{"$f":"SUMPRODUCT((Data!$B$17:$B$19=Model!$F802)*(Data!$C$16:$K$16=Model!$K802)*(Data!$C$17:$K$19))","v":1.96},86.28,{"$f":"_xlfn.IFS(M802>70,\"Serviceable\",M802>30, \"Limited Life\",M802<=30, \"Unserviceable\")","v":"Serviceable"}]
[null,1228,1989,"Wood Untreated Dressed","Serviceable","Class 1",2017,150,142.44,8,{"$f":"INDEX(Lists!$B$32:$B$40, MATCH(2020-C803, Lists!$C$32:$C$40,1))","v":"31-40"},{"$f":"SUMPRODUCT((Data!$B$17:$B$19=Model!$F803)*(Data!$C$16:$K$16=Model!$K803)*(Data!$C$17:$K$19))","v":2.52},129.84,{"$f":"_xlfn.IFS(M803>70,\"Serviceable\",M803>30, \"Limited Life\",M803<=30, \"Unserviceable\")","v":"Serviceable"}]
[null,1231,1965,"Wood Creos Impregnated","Limited Life","Class 3",2018,70,64.540000000000006,7,{"$f":"INDEX(Lists!$B$32:$B$40, MATCH(2020-C804, Lists!$C$32:$C$40,1))","v":"51-60"},{"$f":"SUMPRODUCT((Data!$B$17:$B$19=Model!$F804)*(Data!$C$16:$K$16=Model!$K804)*(Data!$C$17:$K$19))","v":2.73},50.89,{"$f":"_xlfn.IFS(M804>70,\"Serviceable\",M804>30, \"Limited Life\",M804<=30, \"Unserviceable\")","v":"Limited Life"}]
[null,1233,1985,"Wood Untreated Dressed","Serviceable","Class 1",2018,100,94.96,7,{"$f":"INDEX(Lists!$B$32:$B$40, MATCH(2020-C805, Lists!$C$32:$C$40,1))","v":"31-40"},{"$f":"SUMPRODUCT((Data!$B$17:$B$19=Model!$F805)*(Data!$C$16:$K$16=Model!$K805)*(Data!$C$17:$K$19))","v":2.52},82.36,{"$f":"_xlfn.IFS(M805>70,\"Serviceable\",M805>30, \"Limited Life\",M805<=30, \"Unserviceable\")","v":"Serviceable"}]
[null,1234,1938,"Wood Untreated Dressed","Serviceable","Class 1",2017,130,121.57,8,{"$f":"INDEX(Lists!$B$32:$B$40, MATCH(2020-C806, Lists!$C$32:$C$40,1))","v":"81-90"},{"$f":"SUMPRODUCT((Data!$B$17:$B$19=Model!$F806)*(Data!$C$16:$K$16=Model!$K806)*(Data!$C$17:$K$19))","v":2.81},107.52,{"$f":"_xlfn.IFS(M806>70,\"Serviceable\",M806>30, \"Limited Life\",M806<=30, \"Unserviceable\")","v":"Serviceable"}]
[null,1235,1963,"Wood Creos Impregnated","Serviceable","Class 3",2018,80,74.540000000000006,7,{"$f":"INDEX(Lists!$B$32:$B$40, MATCH(2020-C807, Lists!$C$32:$C$40,1))","v":"51-60"},{"$f":"SUMPRODUCT((Data!$B$17:$B$19=Model!$F807)*(Data!$C$16:$K$16=Model!$K807)*(Data!$C$17:$K$19))","v":2.73},60.89,{"$f":"_xlfn.IFS(M807>70,\"Serviceable\",M807>30, \"Limited Life\",M807<=30, \"Unserviceable\")","v":"Limited Life"}]
[null,1237,1935,"Wood Untreated Dressed","Serviceable","Class 1",2018,80,74.38,7,{"$f":"INDEX(Lists!$B$32:$B$40, MATCH(2020-C808, Lists!$C$32:$C$40,1))","v":"81-90"},{"$f":"SUMPRODUCT((Data!$B$17:$B$19=Model!$F808)*(Data!$C$16:$K$16=Model!$K808)*(Data!$C$17:$K$19))","v":2.81},60.33,{"$f":"_xlfn.IFS(M808>70,\"Serviceable\",M808>30, \"Limited Life\",M808<=30, \"Unserviceable\")","v":"Limited Life"}]
[null,1239,2003,"CCA Treated Pole","Serviceable","Class 2",2018,150,147.56,7,{"$f":"INDEX(Lists!$B$32:$B$40, MATCH(2020-C809, Lists!$C$32:$C$40,1))","v":"0-20"},{"$f":"SUMPRODUCT((Data!$B$17:$B$19=Model!$F809)*(Data!$C$16:$K$16=Model!$K809)*(Data!$C$17:$K$19))","v":1.22},141.46,{"$f":"_xlfn.IFS(M809>70,\"Serviceable\",M809>30, \"Limited Life\",M809<=30, \"Unserviceable\")","v":"Serviceable"}]
[null,1240,1955,"Wood Untreated Dressed","Serviceable","Class 1",2017,120,113.91,8,{"$f":"INDEX(Lists!$B$32:$B$40, MATCH(2020-C810, Lists!$C$32:$C$40,1))","v":"61-70"},{"$f":"SUMPRODUCT((Data!$B$17:$B$19=Model!$F810)*(Data!$C$16:$K$16=Model!$K810)*(Data!$C$17:$K$19))","v":2.0299999999999998},103.76,{"$f":"_xlfn.IFS(M810>70,\"Serviceable\",M810>30, \"Limited Life\",M810<=30, \"Unserviceable\")","v":"Serviceable"}]
[null,1242,1978,"Wood Untreated Dressed","Serviceable","Class 1",2017,100,94.75,8,{"$f":"INDEX(Lists!$B$32:$B$40, MATCH(2020-C811, Lists!$C$32:$C$40,1))","v":"41-50"},{"$f":"SUMPRODUCT((Data!$B$17:$B$19=Model!$F811)*(Data!$C$16:$K$16=Model!$K811)*(Data!$C$17:$K$19))","v":1.75},86,{"$f":"_xlfn.IFS(M811>70,\"Serviceable\",M811>30, \"Limited Life\",M811<=30, \"Unserviceable\")","v":"Serviceable"}]
[null,1244,1981,"Wood Untreated Dressed","Serviceable","Class 1",2017,100,92.44,8,{"$f":"INDEX(Lists!$B$32:$B$40, MATCH(2020-C812, Lists!$C$32:$C$40,1))","v":"31-40"},{"$f":"SUMPRODUCT((Data!$B$17:$B$19=Model!$F812)*(Data!$C$16:$K$16=Model!$K812)*(Data!$C$17:$K$19))","v":2.52},79.84,{"$f":"_xlfn.IFS(M812>70,\"Serviceable\",M812>30, \"Limited Life\",M812<=30, \"Unserviceable\")","v":"Serviceable"}]
[null,1245,1983,"Wood Untreated Dressed","Serviceable","Class 1",2018,100,94.96,7,{"$f":"INDEX(Lists!$B$32:$B$40, MATCH(2020-C813, Lists!$C$32:$C$40,1))","v":"31-40"},{"$f":"SUMPRODUCT((Data!$B$17:$B$19=Model!$F813)*(Data!$C$16:$K$16=Model!$K813)*(Data!$C$17:$K$19))","v":2.52},82.36,{"$f":"_xlfn.IFS(M813>70,\"Serviceable\",M813>30, \"Limited Life\",M813<=30, \"Unserviceable\")","v":"Serviceable"}]
[null,1246,1981,"Wood Untreated Dressed","Serviceable","Class 1",2017,120,112.44,8,{"$f":"INDEX(Lists!$B$32:$B$40, MATCH(2020-C814, Lists!$C$32:$C$40,1))","v":"31-40"},{"$f":"SUMPRODUCT((Data!$B$17:$B$19=Model!$F814)*(Data!$C$16:$K$16=Model!$K814)*(Data!$C$17:$K$19))","v":2.52},99.84,{"$f":"_xlfn.IFS(M814>70,\"Serviceable\",M814>30, \"Limited Life\",M814<=30, \"Unserviceable\")","v":"Serviceable"}]
[null,1247,2002,"CCA Treated Pole","Serviceable","Class 1",2017,150,146.82,8,{"$f":"INDEX(Lists!$B$32:$B$40, MATCH(2020-C815, Lists!$C$32:$C$40,1))","v":"0-20"},{"$f":"SUMPRODUCT((Data!$B$17:$B$19=Model!$F815)*(Data!$C$16:$K$16=Model!$K815)*(Data!$C$17:$K$19))","v":1.06},141.52000000000001,{"$f":"_xlfn.IFS(M815>70,\"Serviceable\",M815>30, \"Limited Life\",M815<=30, \"Unserviceable\")","v":"Serviceable"}]
[null,1249,1980,"Wood Untreated Dressed","Serviceable","Class 1",2018,100,94.96,7,{"$f":"INDEX(Lists!$B$32:$B$40, MATCH(2020-C816, Lists!$C$32:$C$40,1))","v":"31-40"},{"$f":"SUMPRODUCT((Data!$B$17:$B$19=Model!$F816)*(Data!$C$16:$K$16=Model!$K816)*(Data!$C$17:$K$19))","v":2.52},82.36,{"$f":"_xlfn.IFS(M816>70,\"Serviceable\",M816>30, \"Limited Life\",M816<=30, \"Unserviceable\")","v":"Serviceable"}]
[null,1253,1981,"Wood Untreated Dressed","Serviceable","Class 1",2018,100,94.96,7,{"$f":"INDEX(Lists!$B$32:$B$40, MATCH(2020-C817, Lists!$C$32:$C$40,1))","v":"31-40"},{"$f":"SUMPRODUCT((Data!$B$17:$B$19=Model!$F817)*(Data!$C$16:$K$16=Model!$K817)*(Data!$C$17:$K$19))","v":2.52},82.36,{"$f":"_xlfn.IFS(M817>70,\"Serviceable\",M817>30, \"Limited Life\",M817<=30, \"Unserviceable\")","v":"Serviceable"}]
[null,1254,1969,"Wood Creos Impregnated","Serviceable","Class 3",2017,120,111.81,8,{"$f":"INDEX(Lists!$B$32:$B$40, MATCH(2020-C818, Lists!$C$32:$C$40,1))","v":"51-60"},{"$f":"SUMPRODUCT((Data!$B$17:$B$19=Model!$F818)*(Data!$C$16:$K$16=Model!$K818)*(Data!$C$17:$K$19))","v":2.73},98.16,{"$f":"_xlfn.IFS(M818>70,\"Serviceable\",M818>30, \"Limited Life\",M818<=30, \"Unserviceable\")","v":"Serviceable"}]
[null,1255,1964,"Wood Creos Impregnated","Limited Life","Class 3",2018,70,64.540000000000006,7,{"$f":"INDEX(Lists!$B$32:$B$40, MATCH(2020-C819, Lists!$C$32:$C$40,1))","v":"51-60"},{"$f":"SUMPRODUCT((Data!$B$17:$B$19=Model!$F819)*(Data!$C$16:$K$16=Model!$K819)*(Data!$C$17:$K$19))","v":2.73},50.89,{"$f":"_xlfn.IFS(M819>70,\"Serviceable\",M819>30, \"Limited Life\",M819<=30, \"Unserviceable\")","v":"Limited Life"}]
[null,1256,1966,"Wood Creos Impregnated","Serviceable","Class 3",2017,100,91.81,8,{"$f":"INDEX(Lists!$B$32:$B$40, MATCH(2020-C820, Lists!$C$32:$C$40,1))","v":"51-60"},{"$f":"SUMPRODUCT((Data!$B$17:$B$19=Model!$F820)*(Data!$C$16:$K$16=Model!$K820)*(Data!$C$17:$K$19))","v":2.73},78.16,{"$f":"_xlfn.IFS(M820>70,\"Serviceable\",M820>30, \"Limited Life\",M820<=30, \"Unserviceable\")","v":"Serviceable"}]
[null,1257,2000,"CCA Treated Pole","Serviceable","Class 1",2018,150,147.88,7,{"$f":"INDEX(Lists!$B$32:$B$40, MATCH(2020-C821, Lists!$C$32:$C$40,1))","v":"0-20"},{"$f":"SUMPRODUCT((Data!$B$17:$B$19=Model!$F821)*(Data!$C$16:$K$16=Model!$K821)*(Data!$C$17:$K$19))","v":1.06},142.58000000000001,{"$f":"_xlfn.IFS(M821>70,\"Serviceable\",M821>30, \"Limited Life\",M821<=30, \"Unserviceable\")","v":"Serviceable"}]
[null,1258,1971,"Wood Creos Impregnated","Serviceable","Class 3",2017,100,88.66,8,{"$f":"INDEX(Lists!$B$32:$B$40, MATCH(2020-C822, Lists!$C$32:$C$40,1))","v":"41-50"},{"$f":"SUMPRODUCT((Data!$B$17:$B$19=Model!$F822)*(Data!$C$16:$K$16=Model!$K822)*(Data!$C$17:$K$19))","v":3.78},69.760000000000005,{"$f":"_xlfn.IFS(M822>70,\"Serviceable\",M822>30, \"Limited Life\",M822<=30, \"Unserviceable\")","v":"Limited Life"}]
[null,1261,1965,"Wood Creos Impregnated","Serviceable","Class 3",2018,80,74.540000000000006,7,{"$f":"INDEX(Lists!$B$32:$B$40, MATCH(2020-C823, Lists!$C$32:$C$40,1))","v":"51-60"},{"$f":"SUMPRODUCT((Data!$B$17:$B$19=Model!$F823)*(Data!$C$16:$K$16=Model!$K823)*(Data!$C$17:$K$19))","v":2.73},60.89,{"$f":"_xlfn.IFS(M823>70,\"Serviceable\",M823>30, \"Limited Life\",M823<=30, \"Unserviceable\")","v":"Limited Life"}]
[null,1263,1964,"Wood Creos Impregnated","Serviceable","Class 3",2018,100,94.54,7,{"$f":"INDEX(Lists!$B$32:$B$40, MATCH(2020-C824, Lists!$C$32:$C$40,1))","v":"51-60"},{"$f":"SUMPRODUCT((Data!$B$17:$B$19=Model!$F824)*(Data!$C$16:$K$16=Model!$K824)*(Data!$C$17:$K$19))","v":2.73},80.89,{"$f":"_xlfn.IFS(M824>70,\"Serviceable\",M824>30, \"Limited Life\",M824<=30, \"Unserviceable\")","v":"Serviceable"}]
[null,1264,1962,"Wood Creos Impregnated","Limited Life","Class 3",2017,70,61.81,8,{"$f":"INDEX(Lists!$B$32:$B$40, MATCH(2020-C825, Lists!$C$32:$C$40,1))","v":"51-60"},{"$f":"SUMPRODUCT((Data!$B$17:$B$19=Model!$F825)*(Data!$C$16:$K$16=Model!$K825)*(Data!$C$17:$K$19))","v":2.73},48.16,{"$f":"_xlfn.IFS(M825>70,\"Serviceable\",M825>30, \"Limited Life\",M825<=30, \"Unserviceable\")","v":"Limited Life"}]
[null,1265,2003,"CCA Treated Pole","Serviceable","Class 2",2018,150,147.56,7,{"$f":"INDEX(Lists!$B$32:$B$40, MATCH(2020-C826, Lists!$C$32:$C$40,1))","v":"0-20"},{"$f":"SUMPRODUCT((Data!$B$17:$B$19=Model!$F826)*(Data!$C$16:$K$16=Model!$K826)*(Data!$C$17:$K$19))","v":1.22},141.46,{"$f":"_xlfn.IFS(M826>70,\"Serviceable\",M826>30, \"Limited Life\",M826<=30, \"Unserviceable\")","v":"Serviceable"}]
[null,1266,1981,"Wood Untreated Dressed","Serviceable","Class 1",2017,100,92.44,8,{"$f":"INDEX(Lists!$B$32:$B$40, MATCH(2020-C827, Lists!$C$32:$C$40,1))","v":"31-40"},{"$f":"SUMPRODUCT((Data!$B$17:$B$19=Model!$F827)*(Data!$C$16:$K$16=Model!$K827)*(Data!$C$17:$K$19))","v":2.52},79.84,{"$f":"_xlfn.IFS(M827>70,\"Serviceable\",M827>30, \"Limited Life\",M827<=30, \"Unserviceable\")","v":"Serviceable"}]
[null,1267,1986,"Wood Untreated Dressed","Serviceable","Class 1",2018,100,94.96,7,{"$f":"INDEX(Lists!$B$32:$B$40, MATCH(2020-C828, Lists!$C$32:$C$40,1))","v":"31-40"},{"$f":"SUMPRODUCT((Data!$B$17:$B$19=Model!$F828)*(Data!$C$16:$K$16=Model!$K828)*(Data!$C$17:$K$19))","v":2.52},82.36,{"$f":"_xlfn.IFS(M828>70,\"Serviceable\",M828>30, \"Limited Life\",M828<=30, \"Unserviceable\")","v":"Serviceable"}]
[null,1270,1974,"Wood Creos Impregnated","Limited Life","Class 3",2017,80,68.66,8,{"$f":"INDEX(Lists!$B$32:$B$40, MATCH(2020-C829, Lists!$C$32:$C$40,1))","v":"41-50"},{"$f":"SUMPRODUCT((Data!$B$17:$B$19=Model!$F829)*(Data!$C$16:$K$16=Model!$K829)*(Data!$C$17:$K$19))","v":3.78},49.760000000000005,{"$f":"_xlfn.IFS(M829>70,\"Serviceable\",M829>30, \"Limited Life\",M829<=30, \"Unserviceable\")","v":"Limited Life"}]
[null,1274,1967,"Wood Creos Impregnated","Serviceable","Class 3",2017,100,91.81,8,{"$f":"INDEX(Lists!$B$32:$B$40, MATCH(2020-C830, Lists!$C$32:$C$40,1))","v":"51-60"},{"$f":"SUMPRODUCT((Data!$B$17:$B$19=Model!$F830)*(Data!$C$16:$K$16=Model!$K830)*(Data!$C$17:$K$19))","v":2.73},78.16,{"$f":"_xlfn.IFS(M830>70,\"Serviceable\",M830>30, \"Limited Life\",M830<=30, \"Unserviceable\")","v":"Serviceable"}]
[null,1276,1934,"Wood Untreated Dressed","Limited Life","Class 1",2019,40,37.19,6,{"$f":"INDEX(Lists!$B$32:$B$40, MATCH(2020-C831, Lists!$C$32:$C$40,1))","v":"81-90"},{"$f":"SUMPRODUCT((Data!$B$17:$B$19=Model!$F831)*(Data!$C$16:$K$16=Model!$K831)*(Data!$C$17:$K$19))","v":2.81},23.14,{"$f":"_xlfn.IFS(M831>70,\"Serviceable\",M831>30, \"Limited Life\",M831<=30, \"Unserviceable\")","v":"Unserviceable"}]
[null,1277,1936,"Wood Untreated Dressed","Serviceable","Class 1",2018,100,94.38,7,{"$f":"INDEX(Lists!$B$32:$B$40, MATCH(2020-C832, Lists!$C$32:$C$40,1))","v":"81-90"},{"$f":"SUMPRODUCT((Data!$B$17:$B$19=Model!$F832)*(Data!$C$16:$K$16=Model!$K832)*(Data!$C$17:$K$19))","v":2.81},80.33,{"$f":"_xlfn.IFS(M832>70,\"Serviceable\",M832>30, \"Limited Life\",M832<=30, \"Unserviceable\")","v":"Serviceable"}]
[null,1278,1976,"Wood Creos Impregnated","Serviceable","Class 1",2017,110,104.75,8,{"$f":"INDEX(Lists!$B$32:$B$40, MATCH(2020-C833, Lists!$C$32:$C$40,1))","v":"41-50"},{"$f":"SUMPRODUCT((Data!$B$17:$B$19=Model!$F833)*(Data!$C$16:$K$16=Model!$K833)*(Data!$C$17:$K$19))","v":1.75},96,{"$f":"_xlfn.IFS(M833>70,\"Serviceable\",M833>30, \"Limited Life\",M833<=30, \"Unserviceable\")","v":"Serviceable"}]
[null,1279,1938,"Wood Untreated Dressed","Serviceable","Class 1",2018,80,74.38,7,{"$f":"INDEX(Lists!$B$32:$B$40, MATCH(2020-C834, Lists!$C$32:$C$40,1))","v":"81-90"},{"$f":"SUMPRODUCT((Data!$B$17:$B$19=Model!$F834)*(Data!$C$16:$K$16=Model!$K834)*(Data!$C$17:$K$19))","v":2.81},60.33,{"$f":"_xlfn.IFS(M834>70,\"Serviceable\",M834>30, \"Limited Life\",M834<=30, \"Unserviceable\")","v":"Limited Life"}]
[null,1281,2002,"CCA Treated Pole","Serviceable","Class 1",2018,150,147.88,7,{"$f":"INDEX(Lists!$B$32:$B$40, MATCH(2020-C835, Lists!$C$32:$C$40,1))","v":"0-20"},{"$f":"SUMPRODUCT((Data!$B$17:$B$19=Model!$F835)*(Data!$C$16:$K$16=Model!$K835)*(Data!$C$17:$K$19))","v":1.06},142.58000000000001,{"$f":"_xlfn.IFS(M835>70,\"Serviceable\",M835>30, \"Limited Life\",M835<=30, \"Unserviceable\")","v":"Serviceable"}]
[null,1284,1968,"Wood Creos Impregnated","Serviceable","Class 3",2018,100,94.54,7,{"$f":"INDEX(Lists!$B$32:$B$40, MATCH(2020-C836, Lists!$C$32:$C$40,1))","v":"51-60"},{"$f":"SUMPRODUCT((Data!$B$17:$B$19=Model!$F836)*(Data!$C$16:$K$16=Model!$K836)*(Data!$C$17:$K$19))","v":2.73},80.89,{"$f":"_xlfn.IFS(M836>70,\"Serviceable\",M836>30, \"Limited Life\",M836<=30, \"Unserviceable\")","v":"Serviceable"}]
[null,1286,2008,"CCA Treated Pole","Serviceable","Class 2",2018,100,97.56,7,{"$f":"INDEX(Lists!$B$32:$B$40, MATCH(2020-C837, Lists!$C$32:$C$40,1))","v":"0-20"},{"$f":"SUMPRODUCT((Data!$B$17:$B$19=Model!$F837)*(Data!$C$16:$K$16=Model!$K837)*(Data!$C$17:$K$19))","v":1.22},91.460000000000008,{"$f":"_xlfn.IFS(M837>70,\"Serviceable\",M837>30, \"Limited Life\",M837<=30, \"Unserviceable\")","v":"Serviceable"}]
[null,1290,1969,"Wood Creos Impregnated","Serviceable","Class 3",2018,90,84.54,7,{"$f":"INDEX(Lists!$B$32:$B$40, MATCH(2020-C838, Lists!$C$32:$C$40,1))","v":"51-60"},{"$f":"SUMPRODUCT((Data!$B$17:$B$19=Model!$F838)*(Data!$C$16:$K$16=Model!$K838)*(Data!$C$17:$K$19))","v":2.73},70.89,{"$f":"_xlfn.IFS(M838>70,\"Serviceable\",M838>30, \"Limited Life\",M838<=30, \"Unserviceable\")","v":"Serviceable"}]
[null,1292,1963,"Wood Creos Impregnated","Limited Life","Class 3",2018,70,64.540000000000006,7,{"$f":"INDEX(Lists!$B$32:$B$40, MATCH(2020-C839, Lists!$C$32:$C$40,1))","v":"51-60"},{"$f":"SUMPRODUCT((Data!$B$17:$B$19=Model!$F839)*(Data!$C$16:$K$16=Model!$K839)*(Data!$C$17:$K$19))","v":2.73},50.89,{"$f":"_xlfn.IFS(M839>70,\"Serviceable\",M839>30, \"Limited Life\",M839<=30, \"Unserviceable\")","v":"Limited Life"}]
[null,1296,1941,"Wood Untreated Dressed","Serviceable","Class 1",2018,80,75.7,{"$f":"2025-G840","v":7},{"$f":"INDEX(Lists!$B$32:$B$40, MATCH(2020-C840, Lists!$C$32:$C$40,1))","v":"71-80"},{"$f":"SUMPRODUCT((Data!$B$17:$B$19=Model!$F840)*(Data!$C$16:$K$16=Model!$K840)*(Data!$C$17:$K$19))","v":2.15},{"$f":"IF(IF(H840>=700,999,(H840-L840*J840))<0,0,IF(H840>=700,999,(H840-L840*J840)))","v":64.95},{"$f":"_xlfn.IFS(M840>70,\"Serviceable\",M840>30, \"Limited Life\",M840<=30, \"Unserviceable\")","v":"Limited Life"}]
[null,1299,1963,"Wood Creos Impregnated","Serviceable","Class 3",2020,90,90,5,{"$f":"INDEX(Lists!$B$32:$B$40, MATCH(2020-C841, Lists!$C$32:$C$40,1))","v":"51-60"},{"$f":"SUMPRODUCT((Data!$B$17:$B$19=Model!$F841)*(Data!$C$16:$K$16=Model!$K841)*(Data!$C$17:$K$19))","v":2.73},76.349999999999994,{"$f":"_xlfn.IFS(M841>70,\"Serviceable\",M841>30, \"Limited Life\",M841<=30, \"Unserviceable\")","v":"Serviceable"}]
[null,1300,1941,"Wood Untreated Round","Limited Life","Class 1",2018,60,55.7,7,{"$f":"INDEX(Lists!$B$32:$B$40, MATCH(2020-C842, Lists!$C$32:$C$40,1))","v":"71-80"},{"$f":"SUMPRODUCT((Data!$B$17:$B$19=Model!$F842)*(Data!$C$16:$K$16=Model!$K842)*(Data!$C$17:$K$19))","v":2.15},44.95,{"$f":"_xlfn.IFS(M842>70,\"Serviceable\",M842>30, \"Limited Life\",M842<=30, \"Unserviceable\")","v":"Limited Life"}]
[null,1302,1940,"Wood Untreated Dressed","Serviceable","Class 1",2018,100,95.7,7,{"$f":"INDEX(Lists!$B$32:$B$40, MATCH(2020-C843, Lists!$C$32:$C$40,1))","v":"71-80"},{"$f":"SUMPRODUCT((Data!$B$17:$B$19=Model!$F843)*(Data!$C$16:$K$16=Model!$K843)*(Data!$C$17:$K$19))","v":2.15},84.95,{"$f":"_xlfn.IFS(M843>70,\"Serviceable\",M843>30, \"Limited Life\",M843<=30, \"Unserviceable\")","v":"Serviceable"}]
[null,1304,2005,"CCA Treated Pole","Serviceable","Class 2",2018,150,147.56,7,{"$f":"INDEX(Lists!$B$32:$B$40, MATCH(2020-C844, Lists!$C$32:$C$40,1))","v":"0-20"},{"$f":"SUMPRODUCT((Data!$B$17:$B$19=Model!$F844)*(Data!$C$16:$K$16=Model!$K844)*(Data!$C$17:$K$19))","v":1.22},141.46,{"$f":"_xlfn.IFS(M844>70,\"Serviceable\",M844>30, \"Limited Life\",M844<=30, \"Unserviceable\")","v":"Serviceable"}]
[null,1305,1967,"Wood Creos Impregnated","Serviceable","Class 3",2018,80,74.540000000000006,7,{"$f":"INDEX(Lists!$B$32:$B$40, MATCH(2020-C845, Lists!$C$32:$C$40,1))","v":"51-60"},{"$f":"SUMPRODUCT((Data!$B$17:$B$19=Model!$F845)*(Data!$C$16:$K$16=Model!$K845)*(Data!$C$17:$K$19))","v":2.73},60.89,{"$f":"_xlfn.IFS(M845>70,\"Serviceable\",M845>30, \"Limited Life\",M845<=30, \"Unserviceable\")","v":"Limited Life"}]
[null,1310,1963,"Wood Creos Impregnated","Serviceable","Class 3",2020,100,100,5,{"$f":"INDEX(Lists!$B$32:$B$40, MATCH(2020-C846, Lists!$C$32:$C$40,1))","v":"51-60"},{"$f":"SUMPRODUCT((Data!$B$17:$B$19=Model!$F846)*(Data!$C$16:$K$16=Model!$K846)*(Data!$C$17:$K$19))","v":2.73},86.35,{"$f":"_xlfn.IFS(M846>70,\"Serviceable\",M846>30, \"Limited Life\",M846<=30, \"Unserviceable\")","v":"Serviceable"}]
[null,1311,1978,"Wood Untreated Dressed","Serviceable","Class 1",2018,90,86.5,7,{"$f":"INDEX(Lists!$B$32:$B$40, MATCH(2020-C847, Lists!$C$32:$C$40,1))","v":"41-50"},{"$f":"SUMPRODUCT((Data!$B$17:$B$19=Model!$F847)*(Data!$C$16:$K$16=Model!$K847)*(Data!$C$17:$K$19))","v":1.75},77.75,{"$f":"_xlfn.IFS(M847>70,\"Serviceable\",M847>30, \"Limited Life\",M847<=30, \"Unserviceable\")","v":"Serviceable"}]
[null,1313,1940,"Wood Untreated Dressed","Serviceable","Class 1",2018,80,75.7,7,{"$f":"INDEX(Lists!$B$32:$B$40, MATCH(2020-C848, Lists!$C$32:$C$40,1))","v":"71-80"},{"$f":"SUMPRODUCT((Data!$B$17:$B$19=Model!$F848)*(Data!$C$16:$K$16=Model!$K848)*(Data!$C$17:$K$19))","v":2.15},64.95,{"$f":"_xlfn.IFS(M848>70,\"Serviceable\",M848>30, \"Limited Life\",M848<=30, \"Unserviceable\")","v":"Limited Life"}]
[null,1314,1969,"Wood Creos Impregnated","Limited Life","Class 3",2020,70,70,5,{"$f":"INDEX(Lists!$B$32:$B$40, MATCH(2020-C849, Lists!$C$32:$C$40,1))","v":"51-60"},{"$f":"SUMPRODUCT((Data!$B$17:$B$19=Model!$F849)*(Data!$C$16:$K$16=Model!$K849)*(Data!$C$17:$K$19))","v":2.73},56.35,{"$f":"_xlfn.IFS(M849>70,\"Serviceable\",M849>30, \"Limited Life\",M849<=30, \"Unserviceable\")","v":"Limited Life"}]
[null,1315,1975,"Wood Creos Impregnated","Serviceable","Class 1",2018,90,86.5,7,{"$f":"INDEX(Lists!$B$32:$B$40, MATCH(2020-C850, Lists!$C$32:$C$40,1))","v":"41-50"},{"$f":"SUMPRODUCT((Data!$B$17:$B$19=Model!$F850)*(Data!$C$16:$K$16=Model!$K850)*(Data!$C$17:$K$19))","v":1.75},77.75,{"$f":"_xlfn.IFS(M850>70,\"Serviceable\",M850>30, \"Limited Life\",M850<=30, \"Unserviceable\")","v":"Serviceable"}]
[null,1318,1967,"Wood Creos Impregnated","Serviceable","Class 3",2016,90,79.08,9,{"$f":"INDEX(Lists!$B$32:$B$40, MATCH(2020-C851, Lists!$C$32:$C$40,1))","v":"51-60"},{"$f":"SUMPRODUCT((Data!$B$17:$B$19=Model!$F851)*(Data!$C$16:$K$16=Model!$K851)*(Data!$C$17:$K$19))","v":2.73},65.430000000000007,{"$f":"_xlfn.IFS(M851>70,\"Serviceable\",M851>30, \"Limited Life\",M851<=30, \"Unserviceable\")","v":"Limited Life"}]
[null,1319,1982,"Wood Untreated Dressed","Serviceable","Class 1",2018,90,84.96,7,{"$f":"INDEX(Lists!$B$32:$B$40, MATCH(2020-C852, Lists!$C$32:$C$40,1))","v":"31-40"},{"$f":"SUMPRODUCT((Data!$B$17:$B$19=Model!$F852)*(Data!$C$16:$K$16=Model!$K852)*(Data!$C$17:$K$19))","v":2.52},72.36,{"$f":"_xlfn.IFS(M852>70,\"Serviceable\",M852>30, \"Limited Life\",M852<=30, \"Unserviceable\")","v":"Serviceable"}]
[null,1320,1996,"CCA Treated Pole","Serviceable","Class 1",2016,150,142.16,9,{"$f":"INDEX(Lists!$B$32:$B$40, MATCH(2020-C853, Lists!$C$32:$C$40,1))","v":"21-30"},{"$f":"SUMPRODUCT((Data!$B$17:$B$19=Model!$F853)*(Data!$C$16:$K$16=Model!$K853)*(Data!$C$17:$K$19))","v":1.96},132.36000000000001,{"$f":"_xlfn.IFS(M853>70,\"Serviceable\",M853>30, \"Limited Life\",M853<=30, \"Unserviceable\")","v":"Serviceable"}]
[null,1321,2000,"CCA Treated Pole","Serviceable","Class 2",2018,150,147.56,7,{"$f":"INDEX(Lists!$B$32:$B$40, MATCH(2020-C854, Lists!$C$32:$C$40,1))","v":"0-20"},{"$f":"SUMPRODUCT((Data!$B$17:$B$19=Model!$F854)*(Data!$C$16:$K$16=Model!$K854)*(Data!$C$17:$K$19))","v":1.22},141.46,{"$f":"_xlfn.IFS(M854>70,\"Serviceable\",M854>30, \"Limited Life\",M854<=30, \"Unserviceable\")","v":"Serviceable"}]
[null,1322,1968,"Wood Creos Impregnated","Serviceable","Class 3",2016,100,89.08,9,{"$f":"INDEX(Lists!$B$32:$B$40, MATCH(2020-C855, Lists!$C$32:$C$40,1))","v":"51-60"},{"$f":"SUMPRODUCT((Data!$B$17:$B$19=Model!$F855)*(Data!$C$16:$K$16=Model!$K855)*(Data!$C$17:$K$19))","v":2.73},75.430000000000007,{"$f":"_xlfn.IFS(M855>70,\"Serviceable\",M855>30, \"Limited Life\",M855<=30, \"Unserviceable\")","v":"Serviceable"}]
[null,1323,1940,"Wood Untreated Dressed","Serviceable","Class 1",2018,90,85.7,7,{"$f":"INDEX(Lists!$B$32:$B$40, MATCH(2020-C856, Lists!$C$32:$C$40,1))","v":"71-80"},{"$f":"SUMPRODUCT((Data!$B$17:$B$19=Model!$F856)*(Data!$C$16:$K$16=Model!$K856)*(Data!$C$17:$K$19))","v":2.15},74.95,{"$f":"_xlfn.IFS(M856>70,\"Serviceable\",M856>30, \"Limited Life\",M856<=30, \"Unserviceable\")","v":"Serviceable"}]
[null,1324,2002,"CCA Treated Pole","Serviceable","Class 1",2016,150,145.76,9,{"$f":"INDEX(Lists!$B$32:$B$40, MATCH(2020-C857, Lists!$C$32:$C$40,1))","v":"0-20"},{"$f":"SUMPRODUCT((Data!$B$17:$B$19=Model!$F857)*(Data!$C$16:$K$16=Model!$K857)*(Data!$C$17:$K$19))","v":1.06},140.46,{"$f":"_xlfn.IFS(M857>70,\"Serviceable\",M857>30, \"Limited Life\",M857<=30, \"Unserviceable\")","v":"Serviceable"}]
[null,1325,1934,"Wood Untreated Dressed","Serviceable","Class 1",2018,80,74.38,7,{"$f":"INDEX(Lists!$B$32:$B$40, MATCH(2020-C858, Lists!$C$32:$C$40,1))","v":"81-90"},{"$f":"SUMPRODUCT((Data!$B$17:$B$19=Model!$F858)*(Data!$C$16:$K$16=Model!$K858)*(Data!$C$17:$K$19))","v":2.81},60.33,{"$f":"_xlfn.IFS(M858>70,\"Serviceable\",M858>30, \"Limited Life\",M858<=30, \"Unserviceable\")","v":"Limited Life"}]
[null,1326,1960,"Wood Creos Impregnated","Serviceable","Class 3",2018,90,84.54,7,{"$f":"INDEX(Lists!$B$32:$B$40, MATCH(2020-C859, Lists!$C$32:$C$40,1))","v":"51-60"},{"$f":"SUMPRODUCT((Data!$B$17:$B$19=Model!$F859)*(Data!$C$16:$K$16=Model!$K859)*(Data!$C$17:$K$19))","v":2.73},70.89,{"$f":"_xlfn.IFS(M859>70,\"Serviceable\",M859>30, \"Limited Life\",M859<=30, \"Unserviceable\")","v":"Serviceable"}]
[null,1327,1940,"Wood Untreated Dressed","Serviceable","Class 1",2018,90,85.7,7,{"$f":"INDEX(Lists!$B$32:$B$40, MATCH(2020-C860, Lists!$C$32:$C$40,1))","v":"71-80"},{"$f":"SUMPRODUCT((Data!$B$17:$B$19=Model!$F860)*(Data!$C$16:$K$16=Model!$K860)*(Data!$C$17:$K$19))","v":2.15},74.95,{"$f":"_xlfn.IFS(M860>70,\"Serviceable\",M860>30, \"Limited Life\",M860<=30, \"Unserviceable\")","v":"Serviceable"}]
[null,1330,1979,"Wood Untreated Dressed","Serviceable","Class 1",2017,150,144.75,8,{"$f":"INDEX(Lists!$B$32:$B$40, MATCH(2020-C861, Lists!$C$32:$C$40,1))","v":"41-50"},{"$f":"SUMPRODUCT((Data!$B$17:$B$19=Model!$F861)*(Data!$C$16:$K$16=Model!$K861)*(Data!$C$17:$K$19))","v":1.75},136,{"$f":"_xlfn.IFS(M861>70,\"Serviceable\",M861>30, \"Limited Life\",M861<=30, \"Unserviceable\")","v":"Serviceable"}]
[null,1331,2003,"CCA Treated Pole","Serviceable","Class 1",2018,150,147.88,7,{"$f":"INDEX(Lists!$B$32:$B$40, MATCH(2020-C862, Lists!$C$32:$C$40,1))","v":"0-20"},{"$f":"SUMPRODUCT((Data!$B$17:$B$19=Model!$F862)*(Data!$C$16:$K$16=Model!$K862)*(Data!$C$17:$K$19))","v":1.06},142.58000000000001,{"$f":"_xlfn.IFS(M862>70,\"Serviceable\",M862>30, \"Limited Life\",M862<=30, \"Unserviceable\")","v":"Serviceable"}]
[null,1332,1927,"Wood Untreated Dressed","Serviceable","Class 1",2017,90,83.73,8,{"$f":"INDEX(Lists!$B$32:$B$40, MATCH(2020-C863, Lists!$C$32:$C$40,1))","v":"90+"},{"$f":"SUMPRODUCT((Data!$B$17:$B$19=Model!$F863)*(Data!$C$16:$K$16=Model!$K863)*(Data!$C$17:$K$19))","v":2.09},73.28,{"$f":"_xlfn.IFS(M863>70,\"Serviceable\",M863>30, \"Limited Life\",M863<=30, \"Unserviceable\")","v":"Serviceable"}]
[null,1333,1938,"Wood Untreated Dressed","Limited Life","Class 1",2018,70,64.38,7,{"$f":"INDEX(Lists!$B$32:$B$40, MATCH(2020-C864, Lists!$C$32:$C$40,1))","v":"81-90"},{"$f":"SUMPRODUCT((Data!$B$17:$B$19=Model!$F864)*(Data!$C$16:$K$16=Model!$K864)*(Data!$C$17:$K$19))","v":2.81},50.33,{"$f":"_xlfn.IFS(M864>70,\"Serviceable\",M864>30, \"Limited Life\",M864<=30, \"Unserviceable\")","v":"Limited Life"}]
[null,1335,1935,"Wood Untreated Dressed","Serviceable","Class 1",2018,80,74.38,7,{"$f":"INDEX(Lists!$B$32:$B$40, MATCH(2020-C865, Lists!$C$32:$C$40,1))","v":"81-90"},{"$f":"SUMPRODUCT((Data!$B$17:$B$19=Model!$F865)*(Data!$C$16:$K$16=Model!$K865)*(Data!$C$17:$K$19))","v":2.81},60.33,{"$f":"_xlfn.IFS(M865>70,\"Serviceable\",M865>30, \"Limited Life\",M865<=30, \"Unserviceable\")","v":"Limited Life"}]
[null,1336,1934,"Wood Untreated Dressed","Serviceable","Class 1",2017,110,101.57,8,{"$f":"INDEX(Lists!$B$32:$B$40, MATCH(2020-C866, Lists!$C$32:$C$40,1))","v":"81-90"},{"$f":"SUMPRODUCT((Data!$B$17:$B$19=Model!$F866)*(Data!$C$16:$K$16=Model!$K866)*(Data!$C$17:$K$19))","v":2.81},87.52,{"$f":"_xlfn.IFS(M866>70,\"Serviceable\",M866>30, \"Limited Life\",M866<=30, \"Unserviceable\")","v":"Serviceable"}]
[null,1337,1937,"Wood Untreated Dressed","Serviceable","Class 1",2018,90,84.38,7,{"$f":"INDEX(Lists!$B$32:$B$40, MATCH(2020-C867, Lists!$C$32:$C$40,1))","v":"81-90"},{"$f":"SUMPRODUCT((Data!$B$17:$B$19=Model!$F867)*(Data!$C$16:$K$16=Model!$K867)*(Data!$C$17:$K$19))","v":2.81},70.33,{"$f":"_xlfn.IFS(M867>70,\"Serviceable\",M867>30, \"Limited Life\",M867<=30, \"Unserviceable\")","v":"Serviceable"}]
[null,1338,1962,"Wood Untreated Round","Serviceable","Class 3",2016,100,89.08,9,{"$f":"INDEX(Lists!$B$32:$B$40, MATCH(2020-C868, Lists!$C$32:$C$40,1))","v":"51-60"},{"$f":"SUMPRODUCT((Data!$B$17:$B$19=Model!$F868)*(Data!$C$16:$K$16=Model!$K868)*(Data!$C$17:$K$19))","v":2.73},75.430000000000007,{"$f":"_xlfn.IFS(M868>70,\"Serviceable\",M868>30, \"Limited Life\",M868<=30, \"Unserviceable\")","v":"Serviceable"}]
[null,1341,2003,"CCA Treated Pole","Serviceable","Class 2",2018,150,147.56,7,{"$f":"INDEX(Lists!$B$32:$B$40, MATCH(2020-C869, Lists!$C$32:$C$40,1))","v":"0-20"},{"$f":"SUMPRODUCT((Data!$B$17:$B$19=Model!$F869)*(Data!$C$16:$K$16=Model!$K869)*(Data!$C$17:$K$19))","v":1.22},141.46,{"$f":"_xlfn.IFS(M869>70,\"Serviceable\",M869>30, \"Limited Life\",M869<=30, \"Unserviceable\")","v":"Serviceable"}]
[null,1343,2003,"CCA Treated Pole","Serviceable","Class 1",2018,150,147.88,7,{"$f":"INDEX(Lists!$B$32:$B$40, MATCH(2020-C870, Lists!$C$32:$C$40,1))","v":"0-20"},{"$f":"SUMPRODUCT((Data!$B$17:$B$19=Model!$F870)*(Data!$C$16:$K$16=Model!$K870)*(Data!$C$17:$K$19))","v":1.06},142.58000000000001,{"$f":"_xlfn.IFS(M870>70,\"Serviceable\",M870>30, \"Limited Life\",M870<=30, \"Unserviceable\")","v":"Serviceable"}]
[null,1345,2002,"CCA Treated Pole","Serviceable","Class 1",2018,150,147.88,7,{"$f":"INDEX(Lists!$B$32:$B$40, MATCH(2020-C871, Lists!$C$32:$C$40,1))","v":"0-20"},{"$f":"SUMPRODUCT((Data!$B$17:$B$19=Model!$F871)*(Data!$C$16:$K$16=Model!$K871)*(Data!$C$17:$K$19))","v":1.06},142.58000000000001,{"$f":"_xlfn.IFS(M871>70,\"Serviceable\",M871>30, \"Limited Life\",M871<=30, \"Unserviceable\")","v":"Serviceable"}]
[null,1346,1983,"Wood Untreated Dressed","Serviceable","Class 1",2016,100,89.92,9,{"$f":"INDEX(Lists!$B$32:$B$40, MATCH(2020-C872, Lists!$C$32:$C$40,1))","v":"31-40"},{"$f":"SUMPRODUCT((Data!$B$17:$B$19=Model!$F872)*(Data!$C$16:$K$16=Model!$K872)*(Data!$C$17:$K$19))","v":2.52},77.319999999999993,{"$f":"_xlfn.IFS(M872>70,\"Serviceable\",M872>30, \"Limited Life\",M872<=30, \"Unserviceable\")","v":"Serviceable"}]
[null,1347,1987,"Wood Untreated Dressed","Serviceable","Class 1",2018,100,94.96,7,{"$f":"INDEX(Lists!$B$32:$B$40, MATCH(2020-C873, Lists!$C$32:$C$40,1))","v":"31-40"},{"$f":"SUMPRODUCT((Data!$B$17:$B$19=Model!$F873)*(Data!$C$16:$K$16=Model!$K873)*(Data!$C$17:$K$19))","v":2.52},82.36,{"$f":"_xlfn.IFS(M873>70,\"Serviceable\",M873>30, \"Limited Life\",M873<=30, \"Unserviceable\")","v":"Serviceable"}]
[null,1348,1979,"Wood Untreated Dressed","Serviceable","Class 1",2016,100,93,9,{"$f":"INDEX(Lists!$B$32:$B$40, MATCH(2020-C874, Lists!$C$32:$C$40,1))","v":"41-50"},{"$f":"SUMPRODUCT((Data!$B$17:$B$19=Model!$F874)*(Data!$C$16:$K$16=Model!$K874)*(Data!$C$17:$K$19))","v":1.75},84.25,{"$f":"_xlfn.IFS(M874>70,\"Serviceable\",M874>30, \"Limited Life\",M874<=30, \"Unserviceable\")","v":"Serviceable"}]
[null,1350,1976,"Wood Untreated Dressed","Serviceable","Class 1",2016,120,113,9,{"$f":"INDEX(Lists!$B$32:$B$40, MATCH(2020-C875, Lists!$C$32:$C$40,1))","v":"41-50"},{"$f":"SUMPRODUCT((Data!$B$17:$B$19=Model!$F875)*(Data!$C$16:$K$16=Model!$K875)*(Data!$C$17:$K$19))","v":1.75},104.25,{"$f":"_xlfn.IFS(M875>70,\"Serviceable\",M875>30, \"Limited Life\",M875<=30, \"Unserviceable\")","v":"Serviceable"}]
[null,1354,2002,"CCA Treated Pole","Serviceable","Class 2",2016,162.49719689682513,157.61719689682513,9,{"$f":"INDEX(Lists!$B$32:$B$40, MATCH(2020-C876, Lists!$C$32:$C$40,1))","v":"0-20"},{"$f":"SUMPRODUCT((Data!$B$17:$B$19=Model!$F876)*(Data!$C$16:$K$16=Model!$K876)*(Data!$C$17:$K$19))","v":1.22},151.51719689682514,{"$f":"_xlfn.IFS(M876>70,\"Serviceable\",M876>30, \"Limited Life\",M876<=30, \"Unserviceable\")","v":"Serviceable"}]
[null,1356,1979,"Wood Untreated Dressed","Serviceable","Class 1",2016,100,93,9,{"$f":"INDEX(Lists!$B$32:$B$40, MATCH(2020-C877, Lists!$C$32:$C$40,1))","v":"41-50"},{"$f":"SUMPRODUCT((Data!$B$17:$B$19=Model!$F877)*(Data!$C$16:$K$16=Model!$K877)*(Data!$C$17:$K$19))","v":1.75},84.25,{"$f":"_xlfn.IFS(M877>70,\"Serviceable\",M877>30, \"Limited Life\",M877<=30, \"Unserviceable\")","v":"Serviceable"}]
[null,1357,2002,"CCA Treated Pole","Serviceable","Class 1",2018,150,147.88,7,{"$f":"INDEX(Lists!$B$32:$B$40, MATCH(2020-C878, Lists!$C$32:$C$40,1))","v":"0-20"},{"$f":"SUMPRODUCT((Data!$B$17:$B$19=Model!$F878)*(Data!$C$16:$K$16=Model!$K878)*(Data!$C$17:$K$19))","v":1.06},142.58000000000001,{"$f":"_xlfn.IFS(M878>70,\"Serviceable\",M878>30, \"Limited Life\",M878<=30, \"Unserviceable\")","v":"Serviceable"}]
[null,1358,1978,"Wood Other","Serviceable","Class 3",2016,110,94.88,9,{"$f":"INDEX(Lists!$B$32:$B$40, MATCH(2020-C879, Lists!$C$32:$C$40,1))","v":"41-50"},{"$f":"SUMPRODUCT((Data!$B$17:$B$19=Model!$F879)*(Data!$C$16:$K$16=Model!$K879)*(Data!$C$17:$K$19))","v":3.78},75.98,{"$f":"_xlfn.IFS(M879>70,\"Serviceable\",M879>30, \"Limited Life\",M879<=30, \"Unserviceable\")","v":"Serviceable"}]
[null,1359,1989,"Wood Untreated Dressed","Serviceable","Class 1",2018,120,114.96,7,{"$f":"INDEX(Lists!$B$32:$B$40, MATCH(2020-C880, Lists!$C$32:$C$40,1))","v":"31-40"},{"$f":"SUMPRODUCT((Data!$B$17:$B$19=Model!$F880)*(Data!$C$16:$K$16=Model!$K880)*(Data!$C$17:$K$19))","v":2.52},102.36,{"$f":"_xlfn.IFS(M880>70,\"Serviceable\",M880>30, \"Limited Life\",M880<=30, \"Unserviceable\")","v":"Serviceable"}]
[null,1361,2003,"CCA Treated Pole","Serviceable","Class 1",2018,150,147.88,7,{"$f":"INDEX(Lists!$B$32:$B$40, MATCH(2020-C881, Lists!$C$32:$C$40,1))","v":"0-20"},{"$f":"SUMPRODUCT((Data!$B$17:$B$19=Model!$F881)*(Data!$C$16:$K$16=Model!$K881)*(Data!$C$17:$K$19))","v":1.06},142.58000000000001,{"$f":"_xlfn.IFS(M881>70,\"Serviceable\",M881>30, \"Limited Life\",M881<=30, \"Unserviceable\")","v":"Serviceable"}]
[null,1363,2003,"CCA Treated Pole","Serviceable","Class 1",2018,150,147.88,7,{"$f":"INDEX(Lists!$B$32:$B$40, MATCH(2020-C882, Lists!$C$32:$C$40,1))","v":"0-20"},{"$f":"SUMPRODUCT((Data!$B$17:$B$19=Model!$F882)*(Data!$C$16:$K$16=Model!$K882)*(Data!$C$17:$K$19))","v":1.06},142.58000000000001,{"$f":"_xlfn.IFS(M882>70,\"Serviceable\",M882>30, \"Limited Life\",M882<=30, \"Unserviceable\")","v":"Serviceable"}]
[null,1364,1979,"Wood Untreated Dressed","Serviceable","Class 1",2016,120,113,9,{"$f":"INDEX(Lists!$B$32:$B$40, MATCH(2020-C883, Lists!$C$32:$C$40,1))","v":"41-50"},{"$f":"SUMPRODUCT((Data!$B$17:$B$19=Model!$F883)*(Data!$C$16:$K$16=Model!$K883)*(Data!$C$17:$K$19))","v":1.75},104.25,{"$f":"_xlfn.IFS(M883>70,\"Serviceable\",M883>30, \"Limited Life\",M883<=30, \"Unserviceable\")","v":"Serviceable"}]
[null,1365,2000,"CCA Treated Pole","Serviceable","Class 1",2018,150,147.88,7,{"$f":"INDEX(Lists!$B$32:$B$40, MATCH(2020-C884, Lists!$C$32:$C$40,1))","v":"0-20"},{"$f":"SUMPRODUCT((Data!$B$17:$B$19=Model!$F884)*(Data!$C$16:$K$16=Model!$K884)*(Data!$C$17:$K$19))","v":1.06},142.58000000000001,{"$f":"_xlfn.IFS(M884>70,\"Serviceable\",M884>30, \"Limited Life\",M884<=30, \"Unserviceable\")","v":"Serviceable"}]
[null,1366,1975,"Wood Untreated Round","Serviceable","Class 1",2016,100,93,9,{"$f":"INDEX(Lists!$B$32:$B$40, MATCH(2020-C885, Lists!$C$32:$C$40,1))","v":"41-50"},{"$f":"SUMPRODUCT((Data!$B$17:$B$19=Model!$F885)*(Data!$C$16:$K$16=Model!$K885)*(Data!$C$17:$K$19))","v":1.75},84.25,{"$f":"_xlfn.IFS(M885>70,\"Serviceable\",M885>30, \"Limited Life\",M885<=30, \"Unserviceable\")","v":"Serviceable"}]
[null,1367,1968,"Wood Creos Impregnated","Serviceable","Class 3",2018,80,74.540000000000006,7,{"$f":"INDEX(Lists!$B$32:$B$40, MATCH(2020-C886, Lists!$C$32:$C$40,1))","v":"51-60"},{"$f":"SUMPRODUCT((Data!$B$17:$B$19=Model!$F886)*(Data!$C$16:$K$16=Model!$K886)*(Data!$C$17:$K$19))","v":2.73},60.89,{"$f":"_xlfn.IFS(M886>70,\"Serviceable\",M886>30, \"Limited Life\",M886<=30, \"Unserviceable\")","v":"Limited Life"}]
[null,1368,1989,"Wood Untreated Dressed","Serviceable","Class 1",2017,150,142.44,8,{"$f":"INDEX(Lists!$B$32:$B$40, MATCH(2020-C887, Lists!$C$32:$C$40,1))","v":"31-40"},{"$f":"SUMPRODUCT((Data!$B$17:$B$19=Model!$F887)*(Data!$C$16:$K$16=Model!$K887)*(Data!$C$17:$K$19))","v":2.52},129.84,{"$f":"_xlfn.IFS(M887>70,\"Serviceable\",M887>30, \"Limited Life\",M887<=30, \"Unserviceable\")","v":"Serviceable"}]
[null,1369,2002,"CCA Treated Pole","Serviceable","Class 1",2018,150,147.88,7,{"$f":"INDEX(Lists!$B$32:$B$40, MATCH(2020-C888, Lists!$C$32:$C$40,1))","v":"0-20"},{"$f":"SUMPRODUCT((Data!$B$17:$B$19=Model!$F888)*(Data!$C$16:$K$16=Model!$K888)*(Data!$C$17:$K$19))","v":1.06},142.58000000000001,{"$f":"_xlfn.IFS(M888>70,\"Serviceable\",M888>30, \"Limited Life\",M888<=30, \"Unserviceable\")","v":"Serviceable"}]
[null,1370,1980,"Wood Untreated Dressed","Serviceable","Class 1",2017,130,122.44,8,{"$f":"INDEX(Lists!$B$32:$B$40, MATCH(2020-C889, Lists!$C$32:$C$40,1))","v":"31-40"},{"$f":"SUMPRODUCT((Data!$B$17:$B$19=Model!$F889)*(Data!$C$16:$K$16=Model!$K889)*(Data!$C$17:$K$19))","v":2.52},109.84,{"$f":"_xlfn.IFS(M889>70,\"Serviceable\",M889>30, \"Limited Life\",M889<=30, \"Unserviceable\")","v":"Serviceable"}]
[null,1373,2003,"CCA Treated Pole","Serviceable","Class 2",2018,150,147.56,7,{"$f":"INDEX(Lists!$B$32:$B$40, MATCH(2020-C890, Lists!$C$32:$C$40,1))","v":"0-20"},{"$f":"SUMPRODUCT((Data!$B$17:$B$19=Model!$F890)*(Data!$C$16:$K$16=Model!$K890)*(Data!$C$17:$K$19))","v":1.22},141.46,{"$f":"_xlfn.IFS(M890>70,\"Serviceable\",M890>30, \"Limited Life\",M890<=30, \"Unserviceable\")","v":"Serviceable"}]
[null,1374,2003,"CCA Treated Pole","Serviceable","Class 2",2016,150,145.12,9,{"$f":"INDEX(Lists!$B$32:$B$40, MATCH(2020-C891, Lists!$C$32:$C$40,1))","v":"0-20"},{"$f":"SUMPRODUCT((Data!$B$17:$B$19=Model!$F891)*(Data!$C$16:$K$16=Model!$K891)*(Data!$C$17:$K$19))","v":1.22},139.02000000000001,{"$f":"_xlfn.IFS(M891>70,\"Serviceable\",M891>30, \"Limited Life\",M891<=30, \"Unserviceable\")","v":"Serviceable"}]
[null,1375,1938,"Wood Untreated Dressed","Serviceable","Class 1",2018,90,84.38,7,{"$f":"INDEX(Lists!$B$32:$B$40, MATCH(2020-C892, Lists!$C$32:$C$40,1))","v":"81-90"},{"$f":"SUMPRODUCT((Data!$B$17:$B$19=Model!$F892)*(Data!$C$16:$K$16=Model!$K892)*(Data!$C$17:$K$19))","v":2.81},70.33,{"$f":"_xlfn.IFS(M892>70,\"Serviceable\",M892>30, \"Limited Life\",M892<=30, \"Unserviceable\")","v":"Serviceable"}]
[null,1377,1999,"CCA Treated Pole","Serviceable","Class 1",2018,150,146.08000000000001,7,{"$f":"INDEX(Lists!$B$32:$B$40, MATCH(2020-C893, Lists!$C$32:$C$40,1))","v":"21-30"},{"$f":"SUMPRODUCT((Data!$B$17:$B$19=Model!$F893)*(Data!$C$16:$K$16=Model!$K893)*(Data!$C$17:$K$19))","v":1.96},136.28,{"$f":"_xlfn.IFS(M893>70,\"Serviceable\",M893>30, \"Limited Life\",M893<=30, \"Unserviceable\")","v":"Serviceable"}]
[null,1381,1976,"Wood Creos Impregnated","Serviceable","Class 3",2018,100,92.44,7,{"$f":"INDEX(Lists!$B$32:$B$40, MATCH(2020-C894, Lists!$C$32:$C$40,1))","v":"41-50"},{"$f":"SUMPRODUCT((Data!$B$17:$B$19=Model!$F894)*(Data!$C$16:$K$16=Model!$K894)*(Data!$C$17:$K$19))","v":3.78},73.540000000000006,{"$f":"_xlfn.IFS(M894>70,\"Serviceable\",M894>30, \"Limited Life\",M894<=30, \"Unserviceable\")","v":"Serviceable"}]
[null,1383,1966,"Wood Creos Impregnated","Serviceable","Class 3",2018,90,84.54,7,{"$f":"INDEX(Lists!$B$32:$B$40, MATCH(2020-C895, Lists!$C$32:$C$40,1))","v":"51-60"},{"$f":"SUMPRODUCT((Data!$B$17:$B$19=Model!$F895)*(Data!$C$16:$K$16=Model!$K895)*(Data!$C$17:$K$19))","v":2.73},70.89,{"$f":"_xlfn.IFS(M895>70,\"Serviceable\",M895>30, \"Limited Life\",M895<=30, \"Unserviceable\")","v":"Serviceable"}]
[null,1385,1967,"Wood Creos Impregnated","Serviceable","Class 3",2016,90,79.08,9,{"$f":"INDEX(Lists!$B$32:$B$40, MATCH(2020-C896, Lists!$C$32:$C$40,1))","v":"51-60"},{"$f":"SUMPRODUCT((Data!$B$17:$B$19=Model!$F896)*(Data!$C$16:$K$16=Model!$K896)*(Data!$C$17:$K$19))","v":2.73},65.430000000000007,{"$f":"_xlfn.IFS(M896>70,\"Serviceable\",M896>30, \"Limited Life\",M896<=30, \"Unserviceable\")","v":"Limited Life"}]
[null,1386,2004,"CCA Treated Pole","Serviceable","Class 1",2018,150,147.88,7,{"$f":"INDEX(Lists!$B$32:$B$40, MATCH(2020-C897, Lists!$C$32:$C$40,1))","v":"0-20"},{"$f":"SUMPRODUCT((Data!$B$17:$B$19=Model!$F897)*(Data!$C$16:$K$16=Model!$K897)*(Data!$C$17:$K$19))","v":1.06},142.58000000000001,{"$f":"_xlfn.IFS(M897>70,\"Serviceable\",M897>30, \"Limited Life\",M897<=30, \"Unserviceable\")","v":"Serviceable"}]
[null,1388,2000,"CCA Treated Pole","Serviceable","Class 2",2018,150,147.56,7,{"$f":"INDEX(Lists!$B$32:$B$40, MATCH(2020-C898, Lists!$C$32:$C$40,1))","v":"0-20"},{"$f":"SUMPRODUCT((Data!$B$17:$B$19=Model!$F898)*(Data!$C$16:$K$16=Model!$K898)*(Data!$C$17:$K$19))","v":1.22},141.46,{"$f":"_xlfn.IFS(M898>70,\"Serviceable\",M898>30, \"Limited Life\",M898<=30, \"Unserviceable\")","v":"Serviceable"}]
[null,1389,1935,"Wood Untreated Dressed","Serviceable","Class 1",2018,90,84.38,7,{"$f":"INDEX(Lists!$B$32:$B$40, MATCH(2020-C899, Lists!$C$32:$C$40,1))","v":"81-90"},{"$f":"SUMPRODUCT((Data!$B$17:$B$19=Model!$F899)*(Data!$C$16:$K$16=Model!$K899)*(Data!$C$17:$K$19))","v":2.81},70.33,{"$f":"_xlfn.IFS(M899>70,\"Serviceable\",M899>30, \"Limited Life\",M899<=30, \"Unserviceable\")","v":"Serviceable"}]
[null,1391,1937,"Wood Untreated Dressed","Serviceable","Class 1",2018,100,94.38,7,{"$f":"INDEX(Lists!$B$32:$B$40, MATCH(2020-C900, Lists!$C$32:$C$40,1))","v":"81-90"},{"$f":"SUMPRODUCT((Data!$B$17:$B$19=Model!$F900)*(Data!$C$16:$K$16=Model!$K900)*(Data!$C$17:$K$19))","v":2.81},80.33,{"$f":"_xlfn.IFS(M900>70,\"Serviceable\",M900>30, \"Limited Life\",M900<=30, \"Unserviceable\")","v":"Serviceable"}]
[null,1392,1958,"Wood Creos Impregnated","Limited Life","Class 3",2015,80,69.900000000000006,10,{"$f":"INDEX(Lists!$B$32:$B$40, MATCH(2020-C901, Lists!$C$32:$C$40,1))","v":"61-70"},{"$f":"SUMPRODUCT((Data!$B$17:$B$19=Model!$F901)*(Data!$C$16:$K$16=Model!$K901)*(Data!$C$17:$K$19))","v":2.02},59.8,{"$f":"_xlfn.IFS(M901>70,\"Serviceable\",M901>30, \"Limited Life\",M901<=30, \"Unserviceable\")","v":"Limited Life"}]
[null,1393,1937,"Wood Untreated Dressed","Serviceable","Class 1",2018,100,94.38,7,{"$f":"INDEX(Lists!$B$32:$B$40, MATCH(2020-C902, Lists!$C$32:$C$40,1))","v":"81-90"},{"$f":"SUMPRODUCT((Data!$B$17:$B$19=Model!$F902)*(Data!$C$16:$K$16=Model!$K902)*(Data!$C$17:$K$19))","v":2.81},80.33,{"$f":"_xlfn.IFS(M902>70,\"Serviceable\",M902>30, \"Limited Life\",M902<=30, \"Unserviceable\")","v":"Serviceable"}]
[null,1394,1970,"Wood Creos Impregnated","Serviceable","Class 3",2015,90,71.099999999999994,10,{"$f":"INDEX(Lists!$B$32:$B$40, MATCH(2020-C903, Lists!$C$32:$C$40,1))","v":"41-50"},{"$f":"SUMPRODUCT((Data!$B$17:$B$19=Model!$F903)*(Data!$C$16:$K$16=Model!$K903)*(Data!$C$17:$K$19))","v":3.78},52.2,{"$f":"_xlfn.IFS(M903>70,\"Serviceable\",M903>30, \"Limited Life\",M903<=30, \"Unserviceable\")","v":"Limited Life"}]
[null,1395,1985,"Wood Untreated Dressed","Serviceable","Class 1",2018,120,114.96,{"$f":"2025-G904","v":7},{"$f":"INDEX(Lists!$B$32:$B$40, MATCH(2020-C904, Lists!$C$32:$C$40,1))","v":"31-40"},{"$f":"SUMPRODUCT((Data!$B$17:$B$19=Model!$F904)*(Data!$C$16:$K$16=Model!$K904)*(Data!$C$17:$K$19))","v":2.52},{"$f":"IF(IF(H904>=700,999,(H904-L904*J904))<0,0,IF(H904>=700,999,(H904-L904*J904)))","v":102.36},{"$f":"_xlfn.IFS(M904>70,\"Serviceable\",M904>30, \"Limited Life\",M904<=30, \"Unserviceable\")","v":"Serviceable"}]
[null,1396,1971,"Wood Creos Impregnated","Serviceable","Class 2",2015,90,73.599999999999994,10,{"$f":"INDEX(Lists!$B$32:$B$40, MATCH(2020-C905, Lists!$C$32:$C$40,1))","v":"41-50"},{"$f":"SUMPRODUCT((Data!$B$17:$B$19=Model!$F905)*(Data!$C$16:$K$16=Model!$K905)*(Data!$C$17:$K$19))","v":3.28},57.2,{"$f":"_xlfn.IFS(M905>70,\"Serviceable\",M905>30, \"Limited Life\",M905<=30, \"Unserviceable\")","v":"Limited Life"}]
[null,1398,1970,"Wood Creos Impregnated","Serviceable","Class 3",2015,90,71.099999999999994,10,{"$f":"INDEX(Lists!$B$32:$B$40, MATCH(2020-C906, Lists!$C$32:$C$40,1))","v":"41-50"},{"$f":"SUMPRODUCT((Data!$B$17:$B$19=Model!$F906)*(Data!$C$16:$K$16=Model!$K906)*(Data!$C$17:$K$19))","v":3.78},52.2,{"$f":"_xlfn.IFS(M906>70,\"Serviceable\",M906>30, \"Limited Life\",M906<=30, \"Unserviceable\")","v":"Limited Life"}]
[null,1399,1938,"Wood Untreated Dressed","Serviceable","Class 1",2018,80,74.38,7,{"$f":"INDEX(Lists!$B$32:$B$40, MATCH(2020-C907, Lists!$C$32:$C$40,1))","v":"81-90"},{"$f":"SUMPRODUCT((Data!$B$17:$B$19=Model!$F907)*(Data!$C$16:$K$16=Model!$K907)*(Data!$C$17:$K$19))","v":2.81},60.33,{"$f":"_xlfn.IFS(M907>70,\"Serviceable\",M907>30, \"Limited Life\",M907<=30, \"Unserviceable\")","v":"Limited Life"}]
[null,1401,1967,"Wood Creos Impregnated","Serviceable","Class 3",2018,80,74.540000000000006,7,{"$f":"INDEX(Lists!$B$32:$B$40, MATCH(2020-C908, Lists!$C$32:$C$40,1))","v":"51-60"},{"$f":"SUMPRODUCT((Data!$B$17:$B$19=Model!$F908)*(Data!$C$16:$K$16=Model!$K908)*(Data!$C$17:$K$19))","v":2.73},60.89,{"$f":"_xlfn.IFS(M908>70,\"Serviceable\",M908>30, \"Limited Life\",M908<=30, \"Unserviceable\")","v":"Limited Life"}]
[null,1404,1988,"Wood Untreated Dressed","Serviceable","Class 1",2015,120,107.4,10,{"$f":"INDEX(Lists!$B$32:$B$40, MATCH(2020-C909, Lists!$C$32:$C$40,1))","v":"31-40"},{"$f":"SUMPRODUCT((Data!$B$17:$B$19=Model!$F909)*(Data!$C$16:$K$16=Model!$K909)*(Data!$C$17:$K$19))","v":2.52},94.8,{"$f":"_xlfn.IFS(M909>70,\"Serviceable\",M909>30, \"Limited Life\",M909<=30, \"Unserviceable\")","v":"Serviceable"}]
[null,1405,1940,"Wood Creos Impregnated","Serviceable","Class 1",2018,90,85.7,7,{"$f":"INDEX(Lists!$B$32:$B$40, MATCH(2020-C910, Lists!$C$32:$C$40,1))","v":"71-80"},{"$f":"SUMPRODUCT((Data!$B$17:$B$19=Model!$F910)*(Data!$C$16:$K$16=Model!$K910)*(Data!$C$17:$K$19))","v":2.15},74.95,{"$f":"_xlfn.IFS(M910>70,\"Serviceable\",M910>30, \"Limited Life\",M910<=30, \"Unserviceable\")","v":"Serviceable"}]
[null,1406,1984,"Wood Untreated Dressed","Serviceable","Class 1",2016,120,109.92,9,{"$f":"INDEX(Lists!$B$32:$B$40, MATCH(2020-C911, Lists!$C$32:$C$40,1))","v":"31-40"},{"$f":"SUMPRODUCT((Data!$B$17:$B$19=Model!$F911)*(Data!$C$16:$K$16=Model!$K911)*(Data!$C$17:$K$19))","v":2.52},97.32,{"$f":"_xlfn.IFS(M911>70,\"Serviceable\",M911>30, \"Limited Life\",M911<=30, \"Unserviceable\")","v":"Serviceable"}]
[null,1407,1936,"Wood Untreated Dressed","Serviceable","Class 1",2018,110,104.38,7,{"$f":"INDEX(Lists!$B$32:$B$40, MATCH(2020-C912, Lists!$C$32:$C$40,1))","v":"81-90"},{"$f":"SUMPRODUCT((Data!$B$17:$B$19=Model!$F912)*(Data!$C$16:$K$16=Model!$K912)*(Data!$C$17:$K$19))","v":2.81},90.33,{"$f":"_xlfn.IFS(M912>70,\"Serviceable\",M912>30, \"Limited Life\",M912<=30, \"Unserviceable\")","v":"Serviceable"}]
[null,1409,1936,"Wood Untreated Dressed","Serviceable","Class 1",2018,100,94.38,7,{"$f":"INDEX(Lists!$B$32:$B$40, MATCH(2020-C913, Lists!$C$32:$C$40,1))","v":"81-90"},{"$f":"SUMPRODUCT((Data!$B$17:$B$19=Model!$F913)*(Data!$C$16:$K$16=Model!$K913)*(Data!$C$17:$K$19))","v":2.81},80.33,{"$f":"_xlfn.IFS(M913>70,\"Serviceable\",M913>30, \"Limited Life\",M913<=30, \"Unserviceable\")","v":"Serviceable"}]
[null,1411,1936,"Wood Untreated Dressed","Serviceable","Class 1",2018,90,84.38,7,{"$f":"INDEX(Lists!$B$32:$B$40, MATCH(2020-C914, Lists!$C$32:$C$40,1))","v":"81-90"},{"$f":"SUMPRODUCT((Data!$B$17:$B$19=Model!$F914)*(Data!$C$16:$K$16=Model!$K914)*(Data!$C$17:$K$19))","v":2.81},70.33,{"$f":"_xlfn.IFS(M914>70,\"Serviceable\",M914>30, \"Limited Life\",M914<=30, \"Unserviceable\")","v":"Serviceable"}]
[null,1412,1985,"Wood Untreated Dressed","Serviceable","Class 1",2019,150,147.47999999999999,6,{"$f":"INDEX(Lists!$B$32:$B$40, MATCH(2020-C915, Lists!$C$32:$C$40,1))","v":"31-40"},{"$f":"SUMPRODUCT((Data!$B$17:$B$19=Model!$F915)*(Data!$C$16:$K$16=Model!$K915)*(Data!$C$17:$K$19))","v":2.52},134.88,{"$f":"_xlfn.IFS(M915>70,\"Serviceable\",M915>30, \"Limited Life\",M915<=30, \"Unserviceable\")","v":"Serviceable"}]
[null,1413,1939,"Wood Untreated Dressed","Serviceable","Class 1",2018,100,94.38,7,{"$f":"INDEX(Lists!$B$32:$B$40, MATCH(2020-C916, Lists!$C$32:$C$40,1))","v":"81-90"},{"$f":"SUMPRODUCT((Data!$B$17:$B$19=Model!$F916)*(Data!$C$16:$K$16=Model!$K916)*(Data!$C$17:$K$19))","v":2.81},80.33,{"$f":"_xlfn.IFS(M916>70,\"Serviceable\",M916>30, \"Limited Life\",M916<=30, \"Unserviceable\")","v":"Serviceable"}]
[null,1414,2006,"CCA Treated Pole","Serviceable","Class 2",2018,150,147.56,7,{"$f":"INDEX(Lists!$B$32:$B$40, MATCH(2020-C917, Lists!$C$32:$C$40,1))","v":"0-20"},{"$f":"SUMPRODUCT((Data!$B$17:$B$19=Model!$F917)*(Data!$C$16:$K$16=Model!$K917)*(Data!$C$17:$K$19))","v":1.22},141.46,{"$f":"_xlfn.IFS(M917>70,\"Serviceable\",M917>30, \"Limited Life\",M917<=30, \"Unserviceable\")","v":"Serviceable"}]
[null,1415,1971,"Wood Creos Impregnated","Serviceable","Class 3",2015,100,81.099999999999994,10,{"$f":"INDEX(Lists!$B$32:$B$40, MATCH(2020-C918, Lists!$C$32:$C$40,1))","v":"41-50"},{"$f":"SUMPRODUCT((Data!$B$17:$B$19=Model!$F918)*(Data!$C$16:$K$16=Model!$K918)*(Data!$C$17:$K$19))","v":3.78},62.2,{"$f":"_xlfn.IFS(M918>70,\"Serviceable\",M918>30, \"Limited Life\",M918<=30, \"Unserviceable\")","v":"Limited Life"}]
[null,1417,1971,"Wood Creos Impregnated","Serviceable","Class 2",2015,90,73.599999999999994,10,{"$f":"INDEX(Lists!$B$32:$B$40, MATCH(2020-C919, Lists!$C$32:$C$40,1))","v":"41-50"},{"$f":"SUMPRODUCT((Data!$B$17:$B$19=Model!$F919)*(Data!$C$16:$K$16=Model!$K919)*(Data!$C$17:$K$19))","v":3.28},57.2,{"$f":"_xlfn.IFS(M919>70,\"Serviceable\",M919>30, \"Limited Life\",M919<=30, \"Unserviceable\")","v":"Limited Life"}]
[null,1418,1936,"Wood Untreated Dressed","Serviceable","Class 1",2018,100,94.38,7,{"$f":"INDEX(Lists!$B$32:$B$40, MATCH(2020-C920, Lists!$C$32:$C$40,1))","v":"81-90"},{"$f":"SUMPRODUCT((Data!$B$17:$B$19=Model!$F920)*(Data!$C$16:$K$16=Model!$K920)*(Data!$C$17:$K$19))","v":2.81},80.33,{"$f":"_xlfn.IFS(M920>70,\"Serviceable\",M920>30, \"Limited Life\",M920<=30, \"Unserviceable\")","v":"Serviceable"}]
[null,1419,1997,"CCA Treated Pole","Serviceable","Class 2",2016,160,152.44,9,{"$f":"INDEX(Lists!$B$32:$B$40, MATCH(2020-C921, Lists!$C$32:$C$40,1))","v":"21-30"},{"$f":"SUMPRODUCT((Data!$B$17:$B$19=Model!$F921)*(Data!$C$16:$K$16=Model!$K921)*(Data!$C$17:$K$19))","v":1.89},142.99,{"$f":"_xlfn.IFS(M921>70,\"Serviceable\",M921>30, \"Limited Life\",M921<=30, \"Unserviceable\")","v":"Serviceable"}]
[null,1420,1963,"CCA Treated Pole","Serviceable","Class 2",2018,100,94.86,7,{"$f":"INDEX(Lists!$B$32:$B$40, MATCH(2020-C922, Lists!$C$32:$C$40,1))","v":"51-60"},{"$f":"SUMPRODUCT((Data!$B$17:$B$19=Model!$F922)*(Data!$C$16:$K$16=Model!$K922)*(Data!$C$17:$K$19))","v":2.57},82.01,{"$f":"_xlfn.IFS(M922>70,\"Serviceable\",M922>30, \"Limited Life\",M922<=30, \"Unserviceable\")","v":"Serviceable"}]
[null,1422,1937,"Wood Untreated Dressed","Serviceable","Class 1",2018,100,94.38,7,{"$f":"INDEX(Lists!$B$32:$B$40, MATCH(2020-C923, Lists!$C$32:$C$40,1))","v":"81-90"},{"$f":"SUMPRODUCT((Data!$B$17:$B$19=Model!$F923)*(Data!$C$16:$K$16=Model!$K923)*(Data!$C$17:$K$19))","v":2.81},80.33,{"$f":"_xlfn.IFS(M923>70,\"Serviceable\",M923>30, \"Limited Life\",M923<=30, \"Unserviceable\")","v":"Serviceable"}]
[null,1423,1986,"Wood Untreated Dressed","Serviceable","Class 1",2019,130,127.48,6,{"$f":"INDEX(Lists!$B$32:$B$40, MATCH(2020-C924, Lists!$C$32:$C$40,1))","v":"31-40"},{"$f":"SUMPRODUCT((Data!$B$17:$B$19=Model!$F924)*(Data!$C$16:$K$16=Model!$K924)*(Data!$C$17:$K$19))","v":2.52},114.88,{"$f":"_xlfn.IFS(M924>70,\"Serviceable\",M924>30, \"Limited Life\",M924<=30, \"Unserviceable\")","v":"Serviceable"}]
[null,1424,1937,"Wood Untreated Round","Serviceable","Class 1",2018,80,74.38,7,{"$f":"INDEX(Lists!$B$32:$B$40, MATCH(2020-C925, Lists!$C$32:$C$40,1))","v":"81-90"},{"$f":"SUMPRODUCT((Data!$B$17:$B$19=Model!$F925)*(Data!$C$16:$K$16=Model!$K925)*(Data!$C$17:$K$19))","v":2.81},60.33,{"$f":"_xlfn.IFS(M925>70,\"Serviceable\",M925>30, \"Limited Life\",M925<=30, \"Unserviceable\")","v":"Limited Life"}]
[null,1425,1971,"Wood Creos Impregnated","Serviceable","Class 3",2016,130,114.88,9,{"$f":"INDEX(Lists!$B$32:$B$40, MATCH(2020-C926, Lists!$C$32:$C$40,1))","v":"41-50"},{"$f":"SUMPRODUCT((Data!$B$17:$B$19=Model!$F926)*(Data!$C$16:$K$16=Model!$K926)*(Data!$C$17:$K$19))","v":3.78},95.98,{"$f":"_xlfn.IFS(M926>70,\"Serviceable\",M926>30, \"Limited Life\",M926<=30, \"Unserviceable\")","v":"Serviceable"}]
[null,1426,1986,"Wood Untreated Dressed","Serviceable","Class 1",2018,100,94.96,7,{"$f":"INDEX(Lists!$B$32:$B$40, MATCH(2020-C927, Lists!$C$32:$C$40,1))","v":"31-40"},{"$f":"SUMPRODUCT((Data!$B$17:$B$19=Model!$F927)*(Data!$C$16:$K$16=Model!$K927)*(Data!$C$17:$K$19))","v":2.52},82.36,{"$f":"_xlfn.IFS(M927>70,\"Serviceable\",M927>30, \"Limited Life\",M927<=30, \"Unserviceable\")","v":"Serviceable"}]
[null,1427,1984,"Wood Untreated Dressed","Serviceable","Class 1",2018,100,94.96,7,{"$f":"INDEX(Lists!$B$32:$B$40, MATCH(2020-C928, Lists!$C$32:$C$40,1))","v":"31-40"},{"$f":"SUMPRODUCT((Data!$B$17:$B$19=Model!$F928)*(Data!$C$16:$K$16=Model!$K928)*(Data!$C$17:$K$19))","v":2.52},82.36,{"$f":"_xlfn.IFS(M928>70,\"Serviceable\",M928>30, \"Limited Life\",M928<=30, \"Unserviceable\")","v":"Serviceable"}]
[null,1429,1937,"Wood Untreated Dressed","Serviceable","Class 1",2018,100,94.38,7,{"$f":"INDEX(Lists!$B$32:$B$40, MATCH(2020-C929, Lists!$C$32:$C$40,1))","v":"81-90"},{"$f":"SUMPRODUCT((Data!$B$17:$B$19=Model!$F929)*(Data!$C$16:$K$16=Model!$K929)*(Data!$C$17:$K$19))","v":2.81},80.33,{"$f":"_xlfn.IFS(M929>70,\"Serviceable\",M929>30, \"Limited Life\",M929<=30, \"Unserviceable\")","v":"Serviceable"}]
[null,1430,1968,"Wood Untreated Round","Serviceable","Class 3",2017,100,91.81,8,{"$f":"INDEX(Lists!$B$32:$B$40, MATCH(2020-C930, Lists!$C$32:$C$40,1))","v":"51-60"},{"$f":"SUMPRODUCT((Data!$B$17:$B$19=Model!$F930)*(Data!$C$16:$K$16=Model!$K930)*(Data!$C$17:$K$19))","v":2.73},78.16,{"$f":"_xlfn.IFS(M930>70,\"Serviceable\",M930>30, \"Limited Life\",M930<=30, \"Unserviceable\")","v":"Serviceable"}]
[null,1432,1978,"Wood Untreated Dressed","Serviceable","Class 1",2016,100,93,9,{"$f":"INDEX(Lists!$B$32:$B$40, MATCH(2020-C931, Lists!$C$32:$C$40,1))","v":"41-50"},{"$f":"SUMPRODUCT((Data!$B$17:$B$19=Model!$F931)*(Data!$C$16:$K$16=Model!$K931)*(Data!$C$17:$K$19))","v":1.75},84.25,{"$f":"_xlfn.IFS(M931>70,\"Serviceable\",M931>30, \"Limited Life\",M931<=30, \"Unserviceable\")","v":"Serviceable"}]
[null,1433,1940,"Wood Untreated Dressed","Serviceable","Class 1",2018,100,95.7,7,{"$f":"INDEX(Lists!$B$32:$B$40, MATCH(2020-C932, Lists!$C$32:$C$40,1))","v":"71-80"},{"$f":"SUMPRODUCT((Data!$B$17:$B$19=Model!$F932)*(Data!$C$16:$K$16=Model!$K932)*(Data!$C$17:$K$19))","v":2.15},84.95,{"$f":"_xlfn.IFS(M932>70,\"Serviceable\",M932>30, \"Limited Life\",M932<=30, \"Unserviceable\")","v":"Serviceable"}]
[null,1434,1935,"Wood Untreated Dressed","Serviceable","Class 1",2016,100,88.76,9,{"$f":"INDEX(Lists!$B$32:$B$40, MATCH(2020-C933, Lists!$C$32:$C$40,1))","v":"81-90"},{"$f":"SUMPRODUCT((Data!$B$17:$B$19=Model!$F933)*(Data!$C$16:$K$16=Model!$K933)*(Data!$C$17:$K$19))","v":2.81},74.710000000000008,{"$f":"_xlfn.IFS(M933>70,\"Serviceable\",M933>30, \"Limited Life\",M933<=30, \"Unserviceable\")","v":"Serviceable"}]
[null,1436,1940,"Wood Untreated Dressed","Serviceable","Class 1",2018,100,95.7,7,{"$f":"INDEX(Lists!$B$32:$B$40, MATCH(2020-C934, Lists!$C$32:$C$40,1))","v":"71-80"},{"$f":"SUMPRODUCT((Data!$B$17:$B$19=Model!$F934)*(Data!$C$16:$K$16=Model!$K934)*(Data!$C$17:$K$19))","v":2.15},84.95,{"$f":"_xlfn.IFS(M934>70,\"Serviceable\",M934>30, \"Limited Life\",M934<=30, \"Unserviceable\")","v":"Serviceable"}]
[null,1437,1998,"CCA Treated Pole","Serviceable","Class 1",2016,150,142.16,9,{"$f":"INDEX(Lists!$B$32:$B$40, MATCH(2020-C935, Lists!$C$32:$C$40,1))","v":"21-30"},{"$f":"SUMPRODUCT((Data!$B$17:$B$19=Model!$F935)*(Data!$C$16:$K$16=Model!$K935)*(Data!$C$17:$K$19))","v":1.96},132.36000000000001,{"$f":"_xlfn.IFS(M935>70,\"Serviceable\",M935>30, \"Limited Life\",M935<=30, \"Unserviceable\")","v":"Serviceable"}]
[null,1438,1938,"Wood Untreated Dressed","Limited Life","Class 1",2018,70,64.38,7,{"$f":"INDEX(Lists!$B$32:$B$40, MATCH(2020-C936, Lists!$C$32:$C$40,1))","v":"81-90"},{"$f":"SUMPRODUCT((Data!$B$17:$B$19=Model!$F936)*(Data!$C$16:$K$16=Model!$K936)*(Data!$C$17:$K$19))","v":2.81},50.33,{"$f":"_xlfn.IFS(M936>70,\"Serviceable\",M936>30, \"Limited Life\",M936<=30, \"Unserviceable\")","v":"Limited Life"}]
[null,1439,1963,"Wood Untreated Round","Serviceable","Class 3",2016,100,89.08,9,{"$f":"INDEX(Lists!$B$32:$B$40, MATCH(2020-C937, Lists!$C$32:$C$40,1))","v":"51-60"},{"$f":"SUMPRODUCT((Data!$B$17:$B$19=Model!$F937)*(Data!$C$16:$K$16=Model!$K937)*(Data!$C$17:$K$19))","v":2.73},75.430000000000007,{"$f":"_xlfn.IFS(M937>70,\"Serviceable\",M937>30, \"Limited Life\",M937<=30, \"Unserviceable\")","v":"Serviceable"}]
[null,1440,1986,"Wood Untreated Dressed","Serviceable","Class 1",2018,120,114.96,7,{"$f":"INDEX(Lists!$B$32:$B$40, MATCH(2020-C938, Lists!$C$32:$C$40,1))","v":"31-40"},{"$f":"SUMPRODUCT((Data!$B$17:$B$19=Model!$F938)*(Data!$C$16:$K$16=Model!$K938)*(Data!$C$17:$K$19))","v":2.52},102.36,{"$f":"_xlfn.IFS(M938>70,\"Serviceable\",M938>30, \"Limited Life\",M938<=30, \"Unserviceable\")","v":"Serviceable"}]
[null,1441,1934,"CCA Treated Pole","Serviceable","Class 1",2016,100,88.76,9,{"$f":"INDEX(Lists!$B$32:$B$40, MATCH(2020-C939, Lists!$C$32:$C$40,1))","v":"81-90"},{"$f":"SUMPRODUCT((Data!$B$17:$B$19=Model!$F939)*(Data!$C$16:$K$16=Model!$K939)*(Data!$C$17:$K$19))","v":2.81},74.710000000000008,{"$f":"_xlfn.IFS(M939>70,\"Serviceable\",M939>30, \"Limited Life\",M939<=30, \"Unserviceable\")","v":"Serviceable"}]
[null,1442,1938,"Wood Untreated Dressed","Serviceable","Class 1",2018,110,104.38,7,{"$f":"INDEX(Lists!$B$32:$B$40, MATCH(2020-C940, Lists!$C$32:$C$40,1))","v":"81-90"},{"$f":"SUMPRODUCT((Data!$B$17:$B$19=Model!$F940)*(Data!$C$16:$K$16=Model!$K940)*(Data!$C$17:$K$19))","v":2.81},90.33,{"$f":"_xlfn.IFS(M940>70,\"Serviceable\",M940>30, \"Limited Life\",M940<=30, \"Unserviceable\")","v":"Serviceable"}]
[null,1443,1976,"Wood Untreated Round","Serviceable","Class 3",2016,90,74.88,9,{"$f":"INDEX(Lists!$B$32:$B$40, MATCH(2020-C941, Lists!$C$32:$C$40,1))","v":"41-50"},{"$f":"SUMPRODUCT((Data!$B$17:$B$19=Model!$F941)*(Data!$C$16:$K$16=Model!$K941)*(Data!$C$17:$K$19))","v":3.78},55.980000000000004,{"$f":"_xlfn.IFS(M941>70,\"Serviceable\",M941>30, \"Limited Life\",M941<=30, \"Unserviceable\")","v":"Limited Life"}]
[null,1445,1969,"Wood Untreated Round","Serviceable","Class 3",2016,100,89.08,9,{"$f":"INDEX(Lists!$B$32:$B$40, MATCH(2020-C942, Lists!$C$32:$C$40,1))","v":"51-60"},{"$f":"SUMPRODUCT((Data!$B$17:$B$19=Model!$F942)*(Data!$C$16:$K$16=Model!$K942)*(Data!$C$17:$K$19))","v":2.73},75.430000000000007,{"$f":"_xlfn.IFS(M942>70,\"Serviceable\",M942>30, \"Limited Life\",M942<=30, \"Unserviceable\")","v":"Serviceable"}]
[null,1446,1968,"Wood Creos Impregnated","Limited Life","Class 3",2020,60,60,5,{"$f":"INDEX(Lists!$B$32:$B$40, MATCH(2020-C943, Lists!$C$32:$C$40,1))","v":"51-60"},{"$f":"SUMPRODUCT((Data!$B$17:$B$19=Model!$F943)*(Data!$C$16:$K$16=Model!$K943)*(Data!$C$17:$K$19))","v":2.73},46.35,{"$f":"_xlfn.IFS(M943>70,\"Serviceable\",M943>30, \"Limited Life\",M943<=30, \"Unserviceable\")","v":"Limited Life"}]
[null,1447,1961,"Wood Untreated Round","Serviceable","Class 3",2016,100,89.08,9,{"$f":"INDEX(Lists!$B$32:$B$40, MATCH(2020-C944, Lists!$C$32:$C$40,1))","v":"51-60"},{"$f":"SUMPRODUCT((Data!$B$17:$B$19=Model!$F944)*(Data!$C$16:$K$16=Model!$K944)*(Data!$C$17:$K$19))","v":2.73},75.430000000000007,{"$f":"_xlfn.IFS(M944>70,\"Serviceable\",M944>30, \"Limited Life\",M944<=30, \"Unserviceable\")","v":"Serviceable"}]
[null,1448,1961,"Wood Creos Impregnated","Serviceable","Class 3",2018,100,94.54,7,{"$f":"INDEX(Lists!$B$32:$B$40, MATCH(2020-C945, Lists!$C$32:$C$40,1))","v":"51-60"},{"$f":"SUMPRODUCT((Data!$B$17:$B$19=Model!$F945)*(Data!$C$16:$K$16=Model!$K945)*(Data!$C$17:$K$19))","v":2.73},80.89,{"$f":"_xlfn.IFS(M945>70,\"Serviceable\",M945>30, \"Limited Life\",M945<=30, \"Unserviceable\")","v":"Serviceable"}]
[null,1455,1940,"Wood Untreated Dressed","Serviceable","Class 1",2018,90,85.7,7,{"$f":"INDEX(Lists!$B$32:$B$40, MATCH(2020-C946, Lists!$C$32:$C$40,1))","v":"71-80"},{"$f":"SUMPRODUCT((Data!$B$17:$B$19=Model!$F946)*(Data!$C$16:$K$16=Model!$K946)*(Data!$C$17:$K$19))","v":2.15},74.95,{"$f":"_xlfn.IFS(M946>70,\"Serviceable\",M946>30, \"Limited Life\",M946<=30, \"Unserviceable\")","v":"Serviceable"}]
[null,1457,1940,"Wood Untreated Dressed","Serviceable","Class 1",2018,90,85.7,7,{"$f":"INDEX(Lists!$B$32:$B$40, MATCH(2020-C947, Lists!$C$32:$C$40,1))","v":"71-80"},{"$f":"SUMPRODUCT((Data!$B$17:$B$19=Model!$F947)*(Data!$C$16:$K$16=Model!$K947)*(Data!$C$17:$K$19))","v":2.15},74.95,{"$f":"_xlfn.IFS(M947>70,\"Serviceable\",M947>30, \"Limited Life\",M947<=30, \"Unserviceable\")","v":"Serviceable"}]
[null,1459,1979,"Wood Untreated Dressed","Serviceable","Class 1",2016,100,93,9,{"$f":"INDEX(Lists!$B$32:$B$40, MATCH(2020-C948, Lists!$C$32:$C$40,1))","v":"41-50"},{"$f":"SUMPRODUCT((Data!$B$17:$B$19=Model!$F948)*(Data!$C$16:$K$16=Model!$K948)*(Data!$C$17:$K$19))","v":1.75},84.25,{"$f":"_xlfn.IFS(M948>70,\"Serviceable\",M948>30, \"Limited Life\",M948<=30, \"Unserviceable\")","v":"Serviceable"}]
[null,1461,1998,"CCA Treated Pole","Serviceable","Class 1",2016,150,142.16,9,{"$f":"INDEX(Lists!$B$32:$B$40, MATCH(2020-C949, Lists!$C$32:$C$40,1))","v":"21-30"},{"$f":"SUMPRODUCT((Data!$B$17:$B$19=Model!$F949)*(Data!$C$16:$K$16=Model!$K949)*(Data!$C$17:$K$19))","v":1.96},132.36000000000001,{"$f":"_xlfn.IFS(M949>70,\"Serviceable\",M949>30, \"Limited Life\",M949<=30, \"Unserviceable\")","v":"Serviceable"}]
[null,1463,1970,"Wood Creos Impregnated","Serviceable","Class 3",2018,90,82.44,7,{"$f":"INDEX(Lists!$B$32:$B$40, MATCH(2020-C950, Lists!$C$32:$C$40,1))","v":"41-50"},{"$f":"SUMPRODUCT((Data!$B$17:$B$19=Model!$F950)*(Data!$C$16:$K$16=Model!$K950)*(Data!$C$17:$K$19))","v":3.78},63.540000000000006,{"$f":"_xlfn.IFS(M950>70,\"Serviceable\",M950>30, \"Limited Life\",M950<=30, \"Unserviceable\")","v":"Limited Life"}]
[null,1464,1978,"Wood Untreated Dressed","Serviceable","Class 1",2016,100,93,9,{"$f":"INDEX(Lists!$B$32:$B$40, MATCH(2020-C951, Lists!$C$32:$C$40,1))","v":"41-50"},{"$f":"SUMPRODUCT((Data!$B$17:$B$19=Model!$F951)*(Data!$C$16:$K$16=Model!$K951)*(Data!$C$17:$K$19))","v":1.75},84.25,{"$f":"_xlfn.IFS(M951>70,\"Serviceable\",M951>30, \"Limited Life\",M951<=30, \"Unserviceable\")","v":"Serviceable"}]
[null,1465,1961,"Wood Creos Impregnated","Serviceable","Class 3",2018,100,94.54,7,{"$f":"INDEX(Lists!$B$32:$B$40, MATCH(2020-C952, Lists!$C$32:$C$40,1))","v":"51-60"},{"$f":"SUMPRODUCT((Data!$B$17:$B$19=Model!$F952)*(Data!$C$16:$K$16=Model!$K952)*(Data!$C$17:$K$19))","v":2.73},80.89,{"$f":"_xlfn.IFS(M952>70,\"Serviceable\",M952>30, \"Limited Life\",M952<=30, \"Unserviceable\")","v":"Serviceable"}]
[null,1467,1970,"Wood Creos Impregnated","Serviceable","Class 3",2018,90,82.44,7,{"$f":"INDEX(Lists!$B$32:$B$40, MATCH(2020-C953, Lists!$C$32:$C$40,1))","v":"41-50"},{"$f":"SUMPRODUCT((Data!$B$17:$B$19=Model!$F953)*(Data!$C$16:$K$16=Model!$K953)*(Data!$C$17:$K$19))","v":3.78},63.540000000000006,{"$f":"_xlfn.IFS(M953>70,\"Serviceable\",M953>30, \"Limited Life\",M953<=30, \"Unserviceable\")","v":"Limited Life"}]
[null,1469,1935,"Wood Untreated Dressed","Serviceable","Class 1",2018,100,94.38,7,{"$f":"INDEX(Lists!$B$32:$B$40, MATCH(2020-C954, Lists!$C$32:$C$40,1))","v":"81-90"},{"$f":"SUMPRODUCT((Data!$B$17:$B$19=Model!$F954)*(Data!$C$16:$K$16=Model!$K954)*(Data!$C$17:$K$19))","v":2.81},80.33,{"$f":"_xlfn.IFS(M954>70,\"Serviceable\",M954>30, \"Limited Life\",M954<=30, \"Unserviceable\")","v":"Serviceable"}]
[null,1471,1941,"Wood Untreated Dressed","Serviceable","Class 1",2018,90,85.7,7,{"$f":"INDEX(Lists!$B$32:$B$40, MATCH(2020-C955, Lists!$C$32:$C$40,1))","v":"71-80"},{"$f":"SUMPRODUCT((Data!$B$17:$B$19=Model!$F955)*(Data!$C$16:$K$16=Model!$K955)*(Data!$C$17:$K$19))","v":2.15},74.95,{"$f":"_xlfn.IFS(M955>70,\"Serviceable\",M955>30, \"Limited Life\",M955<=30, \"Unserviceable\")","v":"Serviceable"}]
[null,1473,1979,"Wood Untreated Dressed","Serviceable","Class 1",2018,110,106.5,7,{"$f":"INDEX(Lists!$B$32:$B$40, MATCH(2020-C956, Lists!$C$32:$C$40,1))","v":"41-50"},{"$f":"SUMPRODUCT((Data!$B$17:$B$19=Model!$F956)*(Data!$C$16:$K$16=Model!$K956)*(Data!$C$17:$K$19))","v":1.75},97.75,{"$f":"_xlfn.IFS(M956>70,\"Serviceable\",M956>30, \"Limited Life\",M956<=30, \"Unserviceable\")","v":"Serviceable"}]
[null,1475,1964,"Wood Creos Impregnated","Serviceable","Class 3",2018,100,94.54,7,{"$f":"INDEX(Lists!$B$32:$B$40, MATCH(2020-C957, Lists!$C$32:$C$40,1))","v":"51-60"},{"$f":"SUMPRODUCT((Data!$B$17:$B$19=Model!$F957)*(Data!$C$16:$K$16=Model!$K957)*(Data!$C$17:$K$19))","v":2.73},80.89,{"$f":"_xlfn.IFS(M957>70,\"Serviceable\",M957>30, \"Limited Life\",M957<=30, \"Unserviceable\")","v":"Serviceable"}]
[null,1477,1968,"Wood Creos Impregnated","Serviceable","Class 3",2018,80,74.540000000000006,7,{"$f":"INDEX(Lists!$B$32:$B$40, MATCH(2020-C958, Lists!$C$32:$C$40,1))","v":"51-60"},{"$f":"SUMPRODUCT((Data!$B$17:$B$19=Model!$F958)*(Data!$C$16:$K$16=Model!$K958)*(Data!$C$17:$K$19))","v":2.73},60.89,{"$f":"_xlfn.IFS(M958>70,\"Serviceable\",M958>30, \"Limited Life\",M958<=30, \"Unserviceable\")","v":"Limited Life"}]
[null,1480,1966,"Wood Untreated Round","Serviceable","Class 3",2016,100,89.08,9,{"$f":"INDEX(Lists!$B$32:$B$40, MATCH(2020-C959, Lists!$C$32:$C$40,1))","v":"51-60"},{"$f":"SUMPRODUCT((Data!$B$17:$B$19=Model!$F959)*(Data!$C$16:$K$16=Model!$K959)*(Data!$C$17:$K$19))","v":2.73},75.430000000000007,{"$f":"_xlfn.IFS(M959>70,\"Serviceable\",M959>30, \"Limited Life\",M959<=30, \"Unserviceable\")","v":"Serviceable"}]
[null,1481,1999,"CCA Treated Pole","Serviceable","Class 1",2018,150,146.08000000000001,7,{"$f":"INDEX(Lists!$B$32:$B$40, MATCH(2020-C960, Lists!$C$32:$C$40,1))","v":"21-30"},{"$f":"SUMPRODUCT((Data!$B$17:$B$19=Model!$F960)*(Data!$C$16:$K$16=Model!$K960)*(Data!$C$17:$K$19))","v":1.96},136.28,{"$f":"_xlfn.IFS(M960>70,\"Serviceable\",M960>30, \"Limited Life\",M960<=30, \"Unserviceable\")","v":"Serviceable"}]
[null,1483,1983,"Wood Untreated Dressed","Serviceable","Class 1",2018,120,114.96,7,{"$f":"INDEX(Lists!$B$32:$B$40, MATCH(2020-C961, Lists!$C$32:$C$40,1))","v":"31-40"},{"$f":"SUMPRODUCT((Data!$B$17:$B$19=Model!$F961)*(Data!$C$16:$K$16=Model!$K961)*(Data!$C$17:$K$19))","v":2.52},102.36,{"$f":"_xlfn.IFS(M961>70,\"Serviceable\",M961>30, \"Limited Life\",M961<=30, \"Unserviceable\")","v":"Serviceable"}]
[null,1485,1937,"Wood Untreated Dressed","Serviceable","Class 1",2018,120,114.38,7,{"$f":"INDEX(Lists!$B$32:$B$40, MATCH(2020-C962, Lists!$C$32:$C$40,1))","v":"81-90"},{"$f":"SUMPRODUCT((Data!$B$17:$B$19=Model!$F962)*(Data!$C$16:$K$16=Model!$K962)*(Data!$C$17:$K$19))","v":2.81},100.33,{"$f":"_xlfn.IFS(M962>70,\"Serviceable\",M962>30, \"Limited Life\",M962<=30, \"Unserviceable\")","v":"Serviceable"}]
[null,1493,1969,"Wood Creos Impregnated","Serviceable","Class 3",2018,100,94.54,7,{"$f":"INDEX(Lists!$B$32:$B$40, MATCH(2020-C963, Lists!$C$32:$C$40,1))","v":"51-60"},{"$f":"SUMPRODUCT((Data!$B$17:$B$19=Model!$F963)*(Data!$C$16:$K$16=Model!$K963)*(Data!$C$17:$K$19))","v":2.73},80.89,{"$f":"_xlfn.IFS(M963>70,\"Serviceable\",M963>30, \"Limited Life\",M963<=30, \"Unserviceable\")","v":"Serviceable"}]
[null,1495,1941,"Wood Untreated Dressed","Serviceable","Class 1",2018,110,105.7,7,{"$f":"INDEX(Lists!$B$32:$B$40, MATCH(2020-C964, Lists!$C$32:$C$40,1))","v":"71-80"},{"$f":"SUMPRODUCT((Data!$B$17:$B$19=Model!$F964)*(Data!$C$16:$K$16=Model!$K964)*(Data!$C$17:$K$19))","v":2.15},94.95,{"$f":"_xlfn.IFS(M964>70,\"Serviceable\",M964>30, \"Limited Life\",M964<=30, \"Unserviceable\")","v":"Serviceable"}]
[null,1497,1937,"Wood Untreated Dressed","Limited Life","Class 1",2018,70,64.38,7,{"$f":"INDEX(Lists!$B$32:$B$40, MATCH(2020-C965, Lists!$C$32:$C$40,1))","v":"81-90"},{"$f":"SUMPRODUCT((Data!$B$17:$B$19=Model!$F965)*(Data!$C$16:$K$16=Model!$K965)*(Data!$C$17:$K$19))","v":2.81},50.33,{"$f":"_xlfn.IFS(M965>70,\"Serviceable\",M965>30, \"Limited Life\",M965<=30, \"Unserviceable\")","v":"Limited Life"}]
[null,1501,1976,"Wood Untreated Dressed","Serviceable","Class 1",2018,110,106.5,7,{"$f":"INDEX(Lists!$B$32:$B$40, MATCH(2020-C966, Lists!$C$32:$C$40,1))","v":"41-50"},{"$f":"SUMPRODUCT((Data!$B$17:$B$19=Model!$F966)*(Data!$C$16:$K$16=Model!$K966)*(Data!$C$17:$K$19))","v":1.75},97.75,{"$f":"_xlfn.IFS(M966>70,\"Serviceable\",M966>30, \"Limited Life\",M966<=30, \"Unserviceable\")","v":"Serviceable"}]
[null,1502,1962,"Wood Untreated Round","Serviceable","Class 3",2016,100,89.08,9,{"$f":"INDEX(Lists!$B$32:$B$40, MATCH(2020-C967, Lists!$C$32:$C$40,1))","v":"51-60"},{"$f":"SUMPRODUCT((Data!$B$17:$B$19=Model!$F967)*(Data!$C$16:$K$16=Model!$K967)*(Data!$C$17:$K$19))","v":2.73},75.430000000000007,{"$f":"_xlfn.IFS(M967>70,\"Serviceable\",M967>30, \"Limited Life\",M967<=30, \"Unserviceable\")","v":"Serviceable"}]
[null,1503,1935,"Wood Untreated Dressed","Serviceable","Class 1",2018,100,94.38,{"$f":"2025-G968","v":7},{"$f":"INDEX(Lists!$B$32:$B$40, MATCH(2020-C968, Lists!$C$32:$C$40,1))","v":"81-90"},{"$f":"SUMPRODUCT((Data!$B$17:$B$19=Model!$F968)*(Data!$C$16:$K$16=Model!$K968)*(Data!$C$17:$K$19))","v":2.81},{"$f":"IF(IF(H968>=700,999,(H968-L968*J968))<0,0,IF(H968>=700,999,(H968-L968*J968)))","v":80.33},{"$f":"_xlfn.IFS(M968>70,\"Serviceable\",M968>30, \"Limited Life\",M968<=30, \"Unserviceable\")","v":"Serviceable"}]
[null,1504,1973,"Wood Untreated Dressed","Serviceable","Class 1",2016,90,83,9,{"$f":"INDEX(Lists!$B$32:$B$40, MATCH(2020-C969, Lists!$C$32:$C$40,1))","v":"41-50"},{"$f":"SUMPRODUCT((Data!$B$17:$B$19=Model!$F969)*(Data!$C$16:$K$16=Model!$K969)*(Data!$C$17:$K$19))","v":1.75},74.25,{"$f":"_xlfn.IFS(M969>70,\"Serviceable\",M969>30, \"Limited Life\",M969<=30, \"Unserviceable\")","v":"Serviceable"}]
[null,1505,1938,"Wood Untreated Dressed","Serviceable","Class 1",2018,110,104.38,7,{"$f":"INDEX(Lists!$B$32:$B$40, MATCH(2020-C970, Lists!$C$32:$C$40,1))","v":"81-90"},{"$f":"SUMPRODUCT((Data!$B$17:$B$19=Model!$F970)*(Data!$C$16:$K$16=Model!$K970)*(Data!$C$17:$K$19))","v":2.81},90.33,{"$f":"_xlfn.IFS(M970>70,\"Serviceable\",M970>30, \"Limited Life\",M970<=30, \"Unserviceable\")","v":"Serviceable"}]
[null,1506,1975,"Wood Untreated Dressed","Serviceable","Class 1",2016,120,113,9,{"$f":"INDEX(Lists!$B$32:$B$40, MATCH(2020-C971, Lists!$C$32:$C$40,1))","v":"41-50"},{"$f":"SUMPRODUCT((Data!$B$17:$B$19=Model!$F971)*(Data!$C$16:$K$16=Model!$K971)*(Data!$C$17:$K$19))","v":1.75},104.25,{"$f":"_xlfn.IFS(M971>70,\"Serviceable\",M971>30, \"Limited Life\",M971<=30, \"Unserviceable\")","v":"Serviceable"}]
[null,1508,1933,"Wood Untreated Dressed","Serviceable","Class 1",2016,166.31691553103065,155.07691553103064,9,{"$f":"INDEX(Lists!$B$32:$B$40, MATCH(2020-C972, Lists!$C$32:$C$40,1))","v":"81-90"},{"$f":"SUMPRODUCT((Data!$B$17:$B$19=Model!$F972)*(Data!$C$16:$K$16=Model!$K972)*(Data!$C$17:$K$19))","v":2.81},141.02691553103065,{"$f":"_xlfn.IFS(M972>70,\"Serviceable\",M972>30, \"Limited Life\",M972<=30, \"Unserviceable\")","v":"Serviceable"}]
[null,1509,1970,"Wood Creos Impregnated","Serviceable","Class 3",2018,80,72.44,7,{"$f":"INDEX(Lists!$B$32:$B$40, MATCH(2020-C973, Lists!$C$32:$C$40,1))","v":"41-50"},{"$f":"SUMPRODUCT((Data!$B$17:$B$19=Model!$F973)*(Data!$C$16:$K$16=Model!$K973)*(Data!$C$17:$K$19))","v":3.78},53.540000000000006,{"$f":"_xlfn.IFS(M973>70,\"Serviceable\",M973>30, \"Limited Life\",M973<=30, \"Unserviceable\")","v":"Limited Life"}]
[null,1512,1974,"Wood Untreated Round","Serviceable","Class 1",2016,120,113,9,{"$f":"INDEX(Lists!$B$32:$B$40, MATCH(2020-C974, Lists!$C$32:$C$40,1))","v":"41-50"},{"$f":"SUMPRODUCT((Data!$B$17:$B$19=Model!$F974)*(Data!$C$16:$K$16=Model!$K974)*(Data!$C$17:$K$19))","v":1.75},104.25,{"$f":"_xlfn.IFS(M974>70,\"Serviceable\",M974>30, \"Limited Life\",M974<=30, \"Unserviceable\")","v":"Serviceable"}]
[null,1514,1969,"Wood Creos Impregnated","Serviceable","Class 3",2016,120,109.08,9,{"$f":"INDEX(Lists!$B$32:$B$40, MATCH(2020-C975, Lists!$C$32:$C$40,1))","v":"51-60"},{"$f":"SUMPRODUCT((Data!$B$17:$B$19=Model!$F975)*(Data!$C$16:$K$16=Model!$K975)*(Data!$C$17:$K$19))","v":2.73},95.43,{"$f":"_xlfn.IFS(M975>70,\"Serviceable\",M975>30, \"Limited Life\",M975<=30, \"Unserviceable\")","v":"Serviceable"}]
[null,1515,1940,"Wood Untreated Dressed","Serviceable","Class 1",2018,100,95.7,7,{"$f":"INDEX(Lists!$B$32:$B$40, MATCH(2020-C976, Lists!$C$32:$C$40,1))","v":"71-80"},{"$f":"SUMPRODUCT((Data!$B$17:$B$19=Model!$F976)*(Data!$C$16:$K$16=Model!$K976)*(Data!$C$17:$K$19))","v":2.15},84.95,{"$f":"_xlfn.IFS(M976>70,\"Serviceable\",M976>30, \"Limited Life\",M976<=30, \"Unserviceable\")","v":"Serviceable"}]
[null,1516,1969,"Wood Creos Impregnated","Serviceable","Class 3",2016,100,89.08,9,{"$f":"INDEX(Lists!$B$32:$B$40, MATCH(2020-C977, Lists!$C$32:$C$40,1))","v":"51-60"},{"$f":"SUMPRODUCT((Data!$B$17:$B$19=Model!$F977)*(Data!$C$16:$K$16=Model!$K977)*(Data!$C$17:$K$19))","v":2.73},75.430000000000007,{"$f":"_xlfn.IFS(M977>70,\"Serviceable\",M977>30, \"Limited Life\",M977<=30, \"Unserviceable\")","v":"Serviceable"}]
[null,1517,1966,"Wood Untreated Dressed","Serviceable","Class 1",2018,110,106.7,7,{"$f":"INDEX(Lists!$B$32:$B$40, MATCH(2020-C978, Lists!$C$32:$C$40,1))","v":"51-60"},{"$f":"SUMPRODUCT((Data!$B$17:$B$19=Model!$F978)*(Data!$C$16:$K$16=Model!$K978)*(Data!$C$17:$K$19))","v":1.65},98.45,{"$f":"_xlfn.IFS(M978>70,\"Serviceable\",M978>30, \"Limited Life\",M978<=30, \"Unserviceable\")","v":"Serviceable"}]
[null,1518,1940,"Wood Untreated Dressed","Limited Life","Class 1",2019,70,67.849999999999994,6,{"$f":"INDEX(Lists!$B$32:$B$40, MATCH(2020-C979, Lists!$C$32:$C$40,1))","v":"71-80"},{"$f":"SUMPRODUCT((Data!$B$17:$B$19=Model!$F979)*(Data!$C$16:$K$16=Model!$K979)*(Data!$C$17:$K$19))","v":2.15},57.1,{"$f":"_xlfn.IFS(M979>70,\"Serviceable\",M979>30, \"Limited Life\",M979<=30, \"Unserviceable\")","v":"Limited Life"}]
[null,1519,1961,"Wood Creos Impregnated","Serviceable","Class 3",2018,100,94.54,7,{"$f":"INDEX(Lists!$B$32:$B$40, MATCH(2020-C980, Lists!$C$32:$C$40,1))","v":"51-60"},{"$f":"SUMPRODUCT((Data!$B$17:$B$19=Model!$F980)*(Data!$C$16:$K$16=Model!$K980)*(Data!$C$17:$K$19))","v":2.73},80.89,{"$f":"_xlfn.IFS(M980>70,\"Serviceable\",M980>30, \"Limited Life\",M980<=30, \"Unserviceable\")","v":"Serviceable"}]
[null,1522,1997,"CCA Treated Pole","Serviceable","Class 1",2016,150,142.16,9,{"$f":"INDEX(Lists!$B$32:$B$40, MATCH(2020-C981, Lists!$C$32:$C$40,1))","v":"21-30"},{"$f":"SUMPRODUCT((Data!$B$17:$B$19=Model!$F981)*(Data!$C$16:$K$16=Model!$K981)*(Data!$C$17:$K$19))","v":1.96},132.36000000000001,{"$f":"_xlfn.IFS(M981>70,\"Serviceable\",M981>30, \"Limited Life\",M981<=30, \"Unserviceable\")","v":"Serviceable"}]
[null,1523,1935,"Wood Untreated Dressed","Serviceable","Class 1",2018,100,94.38,7,{"$f":"INDEX(Lists!$B$32:$B$40, MATCH(2020-C982, Lists!$C$32:$C$40,1))","v":"81-90"},{"$f":"SUMPRODUCT((Data!$B$17:$B$19=Model!$F982)*(Data!$C$16:$K$16=Model!$K982)*(Data!$C$17:$K$19))","v":2.81},80.33,{"$f":"_xlfn.IFS(M982>70,\"Serviceable\",M982>30, \"Limited Life\",M982<=30, \"Unserviceable\")","v":"Serviceable"}]
[null,1526,1941,"Wood Untreated Dressed","Serviceable","Class 1",2016,100,91.4,9,{"$f":"INDEX(Lists!$B$32:$B$40, MATCH(2020-C983, Lists!$C$32:$C$40,1))","v":"71-80"},{"$f":"SUMPRODUCT((Data!$B$17:$B$19=Model!$F983)*(Data!$C$16:$K$16=Model!$K983)*(Data!$C$17:$K$19))","v":2.15},80.650000000000006,{"$f":"_xlfn.IFS(M983>70,\"Serviceable\",M983>30, \"Limited Life\",M983<=30, \"Unserviceable\")","v":"Serviceable"}]
[null,1527,1970,"Wood Creos Impregnated","Serviceable","Class 3",2018,100,92.44,7,{"$f":"INDEX(Lists!$B$32:$B$40, MATCH(2020-C984, Lists!$C$32:$C$40,1))","v":"41-50"},{"$f":"SUMPRODUCT((Data!$B$17:$B$19=Model!$F984)*(Data!$C$16:$K$16=Model!$K984)*(Data!$C$17:$K$19))","v":3.78},73.540000000000006,{"$f":"_xlfn.IFS(M984>70,\"Serviceable\",M984>30, \"Limited Life\",M984<=30, \"Unserviceable\")","v":"Serviceable"}]
[null,1530,1989,"Wood Untreated Dressed","Serviceable","Class 1",2016,150,139.91999999999999,9,{"$f":"INDEX(Lists!$B$32:$B$40, MATCH(2020-C985, Lists!$C$32:$C$40,1))","v":"31-40"},{"$f":"SUMPRODUCT((Data!$B$17:$B$19=Model!$F985)*(Data!$C$16:$K$16=Model!$K985)*(Data!$C$17:$K$19))","v":2.52},127.32,{"$f":"_xlfn.IFS(M985>70,\"Serviceable\",M985>30, \"Limited Life\",M985<=30, \"Unserviceable\")","v":"Serviceable"}]
[null,1531,1985,"Wood Untreated Dressed","Serviceable","Class 1",2018,100,94.96,7,{"$f":"INDEX(Lists!$B$32:$B$40, MATCH(2020-C986, Lists!$C$32:$C$40,1))","v":"31-40"},{"$f":"SUMPRODUCT((Data!$B$17:$B$19=Model!$F986)*(Data!$C$16:$K$16=Model!$K986)*(Data!$C$17:$K$19))","v":2.52},82.36,{"$f":"_xlfn.IFS(M986>70,\"Serviceable\",M986>30, \"Limited Life\",M986<=30, \"Unserviceable\")","v":"Serviceable"}]
[null,1532,1988,"Wood Untreated Dressed","Serviceable","Class 1",2016,150,139.91999999999999,9,{"$f":"INDEX(Lists!$B$32:$B$40, MATCH(2020-C987, Lists!$C$32:$C$40,1))","v":"31-40"},{"$f":"SUMPRODUCT((Data!$B$17:$B$19=Model!$F987)*(Data!$C$16:$K$16=Model!$K987)*(Data!$C$17:$K$19))","v":2.52},127.32,{"$f":"_xlfn.IFS(M987>70,\"Serviceable\",M987>30, \"Limited Life\",M987<=30, \"Unserviceable\")","v":"Serviceable"}]
[null,1533,1940,"Wood Untreated Dressed","Serviceable","Class 1",2018,110,105.7,7,{"$f":"INDEX(Lists!$B$32:$B$40, MATCH(2020-C988, Lists!$C$32:$C$40,1))","v":"71-80"},{"$f":"SUMPRODUCT((Data!$B$17:$B$19=Model!$F988)*(Data!$C$16:$K$16=Model!$K988)*(Data!$C$17:$K$19))","v":2.15},94.95,{"$f":"_xlfn.IFS(M988>70,\"Serviceable\",M988>30, \"Limited Life\",M988<=30, \"Unserviceable\")","v":"Serviceable"}]
[null,1534,1989,"Wood Untreated Dressed","Serviceable","Class 1",2016,150,139.91999999999999,9,{"$f":"INDEX(Lists!$B$32:$B$40, MATCH(2020-C989, Lists!$C$32:$C$40,1))","v":"31-40"},{"$f":"SUMPRODUCT((Data!$B$17:$B$19=Model!$F989)*(Data!$C$16:$K$16=Model!$K989)*(Data!$C$17:$K$19))","v":2.52},127.32,{"$f":"_xlfn.IFS(M989>70,\"Serviceable\",M989>30, \"Limited Life\",M989<=30, \"Unserviceable\")","v":"Serviceable"}]
[null,1535,1989,"Wood Untreated Dressed","Serviceable","Class 1",2016,130,119.92,9,{"$f":"INDEX(Lists!$B$32:$B$40, MATCH(2020-C990, Lists!$C$32:$C$40,1))","v":"31-40"},{"$f":"SUMPRODUCT((Data!$B$17:$B$19=Model!$F990)*(Data!$C$16:$K$16=Model!$K990)*(Data!$C$17:$K$19))","v":2.52},107.32,{"$f":"_xlfn.IFS(M990>70,\"Serviceable\",M990>30, \"Limited Life\",M990<=30, \"Unserviceable\")","v":"Serviceable"}]
[null,1537,1930,"Wood Untreated Dressed","Limited Life","Class 2",2016,80,65,9,{"$f":"INDEX(Lists!$B$32:$B$40, MATCH(2020-C991, Lists!$C$32:$C$40,1))","v":"81-90"},{"$f":"SUMPRODUCT((Data!$B$17:$B$19=Model!$F991)*(Data!$C$16:$K$16=Model!$K991)*(Data!$C$17:$K$19))","v":3.75},46.25,{"$f":"_xlfn.IFS(M991>70,\"Serviceable\",M991>30, \"Limited Life\",M991<=30, \"Unserviceable\")","v":"Limited Life"}]
[null,1538,1940,"Wood Untreated Dressed","Serviceable","Class 1",2018,100,95.7,7,{"$f":"INDEX(Lists!$B$32:$B$40, MATCH(2020-C992, Lists!$C$32:$C$40,1))","v":"71-80"},{"$f":"SUMPRODUCT((Data!$B$17:$B$19=Model!$F992)*(Data!$C$16:$K$16=Model!$K992)*(Data!$C$17:$K$19))","v":2.15},84.95,{"$f":"_xlfn.IFS(M992>70,\"Serviceable\",M992>30, \"Limited Life\",M992<=30, \"Unserviceable\")","v":"Serviceable"}]
[null,1540,1970,"Wood Creos Impregnated","Serviceable","Class 3",2018,100,92.44,7,{"$f":"INDEX(Lists!$B$32:$B$40, MATCH(2020-C993, Lists!$C$32:$C$40,1))","v":"41-50"},{"$f":"SUMPRODUCT((Data!$B$17:$B$19=Model!$F993)*(Data!$C$16:$K$16=Model!$K993)*(Data!$C$17:$K$19))","v":3.78},73.540000000000006,{"$f":"_xlfn.IFS(M993>70,\"Serviceable\",M993>30, \"Limited Life\",M993<=30, \"Unserviceable\")","v":"Serviceable"}]
[null,1544,1935,"Wood Untreated Dressed","Serviceable","Class 1",2018,80,74.38,7,{"$f":"INDEX(Lists!$B$32:$B$40, MATCH(2020-C994, Lists!$C$32:$C$40,1))","v":"81-90"},{"$f":"SUMPRODUCT((Data!$B$17:$B$19=Model!$F994)*(Data!$C$16:$K$16=Model!$K994)*(Data!$C$17:$K$19))","v":2.81},60.33,{"$f":"_xlfn.IFS(M994>70,\"Serviceable\",M994>30, \"Limited Life\",M994<=30, \"Unserviceable\")","v":"Limited Life"}]
[null,1546,1937,"Wood Untreated Dressed","Serviceable","Class 1",2018,100,94.38,7,{"$f":"INDEX(Lists!$B$32:$B$40, MATCH(2020-C995, Lists!$C$32:$C$40,1))","v":"81-90"},{"$f":"SUMPRODUCT((Data!$B$17:$B$19=Model!$F995)*(Data!$C$16:$K$16=Model!$K995)*(Data!$C$17:$K$19))","v":2.81},80.33,{"$f":"_xlfn.IFS(M995>70,\"Serviceable\",M995>30, \"Limited Life\",M995<=30, \"Unserviceable\")","v":"Serviceable"}]
[null,1549,1966,"Wood Creos Impregnated","Serviceable","Class 3",2016,100,89.08,9,{"$f":"INDEX(Lists!$B$32:$B$40, MATCH(2020-C996, Lists!$C$32:$C$40,1))","v":"51-60"},{"$f":"SUMPRODUCT((Data!$B$17:$B$19=Model!$F996)*(Data!$C$16:$K$16=Model!$K996)*(Data!$C$17:$K$19))","v":2.73},75.430000000000007,{"$f":"_xlfn.IFS(M996>70,\"Serviceable\",M996>30, \"Limited Life\",M996<=30, \"Unserviceable\")","v":"Serviceable"}]
[null,1550,1988,"Wood Untreated Dressed","Serviceable","Class 1",2018,130,124.96,7,{"$f":"INDEX(Lists!$B$32:$B$40, MATCH(2020-C997, Lists!$C$32:$C$40,1))","v":"31-40"},{"$f":"SUMPRODUCT((Data!$B$17:$B$19=Model!$F997)*(Data!$C$16:$K$16=Model!$K997)*(Data!$C$17:$K$19))","v":2.52},112.36,{"$f":"_xlfn.IFS(M997>70,\"Serviceable\",M997>30, \"Limited Life\",M997<=30, \"Unserviceable\")","v":"Serviceable"}]
[null,1552,1940,"Wood Untreated Dressed","Serviceable","Class 1",2016,130,121.4,9,{"$f":"INDEX(Lists!$B$32:$B$40, MATCH(2020-C998, Lists!$C$32:$C$40,1))","v":"71-80"},{"$f":"SUMPRODUCT((Data!$B$17:$B$19=Model!$F998)*(Data!$C$16:$K$16=Model!$K998)*(Data!$C$17:$K$19))","v":2.15},110.65,{"$f":"_xlfn.IFS(M998>70,\"Serviceable\",M998>30, \"Limited Life\",M998<=30, \"Unserviceable\")","v":"Serviceable"}]
[null,1555,1941,"Wood Creos Impregnated","Serviceable","Class 3",2018,80,75.680000000000007,7,{"$f":"INDEX(Lists!$B$32:$B$40, MATCH(2020-C999, Lists!$C$32:$C$40,1))","v":"71-80"},{"$f":"SUMPRODUCT((Data!$B$17:$B$19=Model!$F999)*(Data!$C$16:$K$16=Model!$K999)*(Data!$C$17:$K$19))","v":2.16},64.88,{"$f":"_xlfn.IFS(M999>70,\"Serviceable\",M999>30, \"Limited Life\",M999<=30, \"Unserviceable\")","v":"Limited Life"}]
[null,1556,1988,"Wood Untreated Dressed","Serviceable","Class 1",2016,150,139.91999999999999,9,{"$f":"INDEX(Lists!$B$32:$B$40, MATCH(2020-C1000, Lists!$C$32:$C$40,1))","v":"31-40"},{"$f":"SUMPRODUCT((Data!$B$17:$B$19=Model!$F1000)*(Data!$C$16:$K$16=Model!$K1000)*(Data!$C$17:$K$19))","v":2.52},127.32,{"$f":"_xlfn.IFS(M1000>70,\"Serviceable\",M1000>30, \"Limited Life\",M1000<=30, \"Unserviceable\")","v":"Serviceable"}]
[null,1557,2010,"CCA Treated Pole","Serviceable","Class 1",2018,150,147.88,7,{"$f":"INDEX(Lists!$B$32:$B$40, MATCH(2020-C1001, Lists!$C$32:$C$40,1))","v":"0-20"},{"$f":"SUMPRODUCT((Data!$B$17:$B$19=Model!$F1001)*(Data!$C$16:$K$16=Model!$K1001)*(Data!$C$17:$K$19))","v":1.06},142.58000000000001,{"$f":"_xlfn.IFS(M1001>70,\"Serviceable\",M1001>30, \"Limited Life\",M1001<=30, \"Unserviceable\")","v":"Serviceable"}]
[null,1558,1989,"Wood Untreated Dressed","Serviceable","Class 1",2016,150,139.91999999999999,9,{"$f":"INDEX(Lists!$B$32:$B$40, MATCH(2020-C1002, Lists!$C$32:$C$40,1))","v":"31-40"},{"$f":"SUMPRODUCT((Data!$B$17:$B$19=Model!$F1002)*(Data!$C$16:$K$16=Model!$K1002)*(Data!$C$17:$K$19))","v":2.52},127.32,{"$f":"_xlfn.IFS(M1002>70,\"Serviceable\",M1002>30, \"Limited Life\",M1002<=30, \"Unserviceable\")","v":"Serviceable"}]
[null,1560,1989,"Wood Untreated Dressed","Serviceable","Class 1",2016,150,139.91999999999999,9,{"$f":"INDEX(Lists!$B$32:$B$40, MATCH(2020-C1003, Lists!$C$32:$C$40,1))","v":"31-40"},{"$f":"SUMPRODUCT((Data!$B$17:$B$19=Model!$F1003)*(Data!$C$16:$K$16=Model!$K1003)*(Data!$C$17:$K$19))","v":2.52},127.32,{"$f":"_xlfn.IFS(M1003>70,\"Serviceable\",M1003>30, \"Limited Life\",M1003<=30, \"Unserviceable\")","v":"Serviceable"}]
[null,1561,1961,"Wood Creos Impregnated","Serviceable","Class 3",2018,120,114.54,7,{"$f":"INDEX(Lists!$B$32:$B$40, MATCH(2020-C1004, Lists!$C$32:$C$40,1))","v":"51-60"},{"$f":"SUMPRODUCT((Data!$B$17:$B$19=Model!$F1004)*(Data!$C$16:$K$16=Model!$K1004)*(Data!$C$17:$K$19))","v":2.73},100.89,{"$f":"_xlfn.IFS(M1004>70,\"Serviceable\",M1004>30, \"Limited Life\",M1004<=30, \"Unserviceable\")","v":"Serviceable"}]
[null,1562,1971,"Wood Creos Impregnated","Serviceable","Class 3",2016,100,84.88,9,{"$f":"INDEX(Lists!$B$32:$B$40, MATCH(2020-C1005, Lists!$C$32:$C$40,1))","v":"41-50"},{"$f":"SUMPRODUCT((Data!$B$17:$B$19=Model!$F1005)*(Data!$C$16:$K$16=Model!$K1005)*(Data!$C$17:$K$19))","v":3.78},65.98,{"$f":"_xlfn.IFS(M1005>70,\"Serviceable\",M1005>30, \"Limited Life\",M1005<=30, \"Unserviceable\")","v":"Limited Life"}]
[null,1564,1959,"Wood Creos Impregnated","Serviceable","Class 3",2016,140,131.91999999999999,9,{"$f":"INDEX(Lists!$B$32:$B$40, MATCH(2020-C1006, Lists!$C$32:$C$40,1))","v":"61-70"},{"$f":"SUMPRODUCT((Data!$B$17:$B$19=Model!$F1006)*(Data!$C$16:$K$16=Model!$K1006)*(Data!$C$17:$K$19))","v":2.02},121.82,{"$f":"_xlfn.IFS(M1006>70,\"Serviceable\",M1006>30, \"Limited Life\",M1006<=30, \"Unserviceable\")","v":"Serviceable"}]
[null,1566,1989,"Wood Untreated Dressed","Serviceable","Class 1",2016,150,139.91999999999999,9,{"$f":"INDEX(Lists!$B$32:$B$40, MATCH(2020-C1007, Lists!$C$32:$C$40,1))","v":"31-40"},{"$f":"SUMPRODUCT((Data!$B$17:$B$19=Model!$F1007)*(Data!$C$16:$K$16=Model!$K1007)*(Data!$C$17:$K$19))","v":2.52},127.32,{"$f":"_xlfn.IFS(M1007>70,\"Serviceable\",M1007>30, \"Limited Life\",M1007<=30, \"Unserviceable\")","v":"Serviceable"}]
[null,1568,1988,"Wood Untreated Dressed","Serviceable","Class 1",2016,150,139.91999999999999,9,{"$f":"INDEX(Lists!$B$32:$B$40, MATCH(2020-C1008, Lists!$C$32:$C$40,1))","v":"31-40"},{"$f":"SUMPRODUCT((Data!$B$17:$B$19=Model!$F1008)*(Data!$C$16:$K$16=Model!$K1008)*(Data!$C$17:$K$19))","v":2.52},127.32,{"$f":"_xlfn.IFS(M1008>70,\"Serviceable\",M1008>30, \"Limited Life\",M1008<=30, \"Unserviceable\")","v":"Serviceable"}]
[null,1570,1969,"Wood Untreated Dressed","Serviceable","Class 2",2016,90,79.72,9,{"$f":"INDEX(Lists!$B$32:$B$40, MATCH(2020-C1009, Lists!$C$32:$C$40,1))","v":"51-60"},{"$f":"SUMPRODUCT((Data!$B$17:$B$19=Model!$F1009)*(Data!$C$16:$K$16=Model!$K1009)*(Data!$C$17:$K$19))","v":2.57},66.87,{"$f":"_xlfn.IFS(M1009>70,\"Serviceable\",M1009>30, \"Limited Life\",M1009<=30, \"Unserviceable\")","v":"Limited Life"}]
[null,1573,1989,"Wood Untreated Dressed","Serviceable","Class 1",2016,150,139.91999999999999,9,{"$f":"INDEX(Lists!$B$32:$B$40, MATCH(2020-C1010, Lists!$C$32:$C$40,1))","v":"31-40"},{"$f":"SUMPRODUCT((Data!$B$17:$B$19=Model!$F1010)*(Data!$C$16:$K$16=Model!$K1010)*(Data!$C$17:$K$19))","v":2.52},127.32,{"$f":"_xlfn.IFS(M1010>70,\"Serviceable\",M1010>30, \"Limited Life\",M1010<=30, \"Unserviceable\")","v":"Serviceable"}]
[null,1575,1985,"Wood Untreated Dressed","Serviceable","Class 1",2016,150,139.91999999999999,9,{"$f":"INDEX(Lists!$B$32:$B$40, MATCH(2020-C1011, Lists!$C$32:$C$40,1))","v":"31-40"},{"$f":"SUMPRODUCT((Data!$B$17:$B$19=Model!$F1011)*(Data!$C$16:$K$16=Model!$K1011)*(Data!$C$17:$K$19))","v":2.52},127.32,{"$f":"_xlfn.IFS(M1011>70,\"Serviceable\",M1011>30, \"Limited Life\",M1011<=30, \"Unserviceable\")","v":"Serviceable"}]
[null,1577,1969,"Wood Creos Impregnated","Limited Life","Class 3",2016,80,69.08,9,{"$f":"INDEX(Lists!$B$32:$B$40, MATCH(2020-C1012, Lists!$C$32:$C$40,1))","v":"51-60"},{"$f":"SUMPRODUCT((Data!$B$17:$B$19=Model!$F1012)*(Data!$C$16:$K$16=Model!$K1012)*(Data!$C$17:$K$19))","v":2.73},55.43,{"$f":"_xlfn.IFS(M1012>70,\"Serviceable\",M1012>30, \"Limited Life\",M1012<=30, \"Unserviceable\")","v":"Limited Life"}]
[null,1579,1966,"Wood Salt Impregnated (Green)","Serviceable","Class 3",2016,171.56902865306319,160.6490286530632,9,{"$f":"INDEX(Lists!$B$32:$B$40, MATCH(2020-C1013, Lists!$C$32:$C$40,1))","v":"51-60"},{"$f":"SUMPRODUCT((Data!$B$17:$B$19=Model!$F1013)*(Data!$C$16:$K$16=Model!$K1013)*(Data!$C$17:$K$19))","v":2.73},146.99902865306319,{"$f":"_xlfn.IFS(M1013>70,\"Serviceable\",M1013>30, \"Limited Life\",M1013<=30, \"Unserviceable\")","v":"Serviceable"}]
[null,1581,1978,"Wood Untreated Dressed","Serviceable","Class 1",2016,140,133,9,{"$f":"INDEX(Lists!$B$32:$B$40, MATCH(2020-C1014, Lists!$C$32:$C$40,1))","v":"41-50"},{"$f":"SUMPRODUCT((Data!$B$17:$B$19=Model!$F1014)*(Data!$C$16:$K$16=Model!$K1014)*(Data!$C$17:$K$19))","v":1.75},124.25,{"$f":"_xlfn.IFS(M1014>70,\"Serviceable\",M1014>30, \"Limited Life\",M1014<=30, \"Unserviceable\")","v":"Serviceable"}]
[null,1585,1981,"Wood Untreated Dressed","Serviceable","Class 1",2016,120,109.92,9,{"$f":"INDEX(Lists!$B$32:$B$40, MATCH(2020-C1015, Lists!$C$32:$C$40,1))","v":"31-40"},{"$f":"SUMPRODUCT((Data!$B$17:$B$19=Model!$F1015)*(Data!$C$16:$K$16=Model!$K1015)*(Data!$C$17:$K$19))","v":2.52},97.32,{"$f":"_xlfn.IFS(M1015>70,\"Serviceable\",M1015>30, \"Limited Life\",M1015<=30, \"Unserviceable\")","v":"Serviceable"}]
[null,1587,1969,"Wood Creos Impregnated","Serviceable","Class 3",2016,140,129.08000000000001,9,{"$f":"INDEX(Lists!$B$32:$B$40, MATCH(2020-C1016, Lists!$C$32:$C$40,1))","v":"51-60"},{"$f":"SUMPRODUCT((Data!$B$17:$B$19=Model!$F1016)*(Data!$C$16:$K$16=Model!$K1016)*(Data!$C$17:$K$19))","v":2.73},115.43,{"$f":"_xlfn.IFS(M1016>70,\"Serviceable\",M1016>30, \"Limited Life\",M1016<=30, \"Unserviceable\")","v":"Serviceable"}]
[null,1588,1933,"Wood Untreated Dressed","Serviceable","Class 1",2018,110,104.38,7,{"$f":"INDEX(Lists!$B$32:$B$40, MATCH(2020-C1017, Lists!$C$32:$C$40,1))","v":"81-90"},{"$f":"SUMPRODUCT((Data!$B$17:$B$19=Model!$F1017)*(Data!$C$16:$K$16=Model!$K1017)*(Data!$C$17:$K$19))","v":2.81},90.33,{"$f":"_xlfn.IFS(M1017>70,\"Serviceable\",M1017>30, \"Limited Life\",M1017<=30, \"Unserviceable\")","v":"Serviceable"}]
[null,1589,1976,"Wood Creos Impregnated","Serviceable","Class 1",2016,130,123,9,{"$f":"INDEX(Lists!$B$32:$B$40, MATCH(2020-C1018, Lists!$C$32:$C$40,1))","v":"41-50"},{"$f":"SUMPRODUCT((Data!$B$17:$B$19=Model!$F1018)*(Data!$C$16:$K$16=Model!$K1018)*(Data!$C$17:$K$19))","v":1.75},114.25,{"$f":"_xlfn.IFS(M1018>70,\"Serviceable\",M1018>30, \"Limited Life\",M1018<=30, \"Unserviceable\")","v":"Serviceable"}]
[null,1591,1973,"Wood Untreated Dressed","Serviceable","Class 1",2016,140,133,9,{"$f":"INDEX(Lists!$B$32:$B$40, MATCH(2020-C1019, Lists!$C$32:$C$40,1))","v":"41-50"},{"$f":"SUMPRODUCT((Data!$B$17:$B$19=Model!$F1019)*(Data!$C$16:$K$16=Model!$K1019)*(Data!$C$17:$K$19))","v":1.75},124.25,{"$f":"_xlfn.IFS(M1019>70,\"Serviceable\",M1019>30, \"Limited Life\",M1019<=30, \"Unserviceable\")","v":"Serviceable"}]
[null,1592,2000,"CCA Treated Pole","Serviceable","Class 1",2018,150,147.88,7,{"$f":"INDEX(Lists!$B$32:$B$40, MATCH(2020-C1020, Lists!$C$32:$C$40,1))","v":"0-20"},{"$f":"SUMPRODUCT((Data!$B$17:$B$19=Model!$F1020)*(Data!$C$16:$K$16=Model!$K1020)*(Data!$C$17:$K$19))","v":1.06},142.58000000000001,{"$f":"_xlfn.IFS(M1020>70,\"Serviceable\",M1020>30, \"Limited Life\",M1020<=30, \"Unserviceable\")","v":"Serviceable"}]
[null,1593,1978,"Wood Untreated Dressed","Serviceable","Class 1",2016,140,133,9,{"$f":"INDEX(Lists!$B$32:$B$40, MATCH(2020-C1021, Lists!$C$32:$C$40,1))","v":"41-50"},{"$f":"SUMPRODUCT((Data!$B$17:$B$19=Model!$F1021)*(Data!$C$16:$K$16=Model!$K1021)*(Data!$C$17:$K$19))","v":1.75},124.25,{"$f":"_xlfn.IFS(M1021>70,\"Serviceable\",M1021>30, \"Limited Life\",M1021<=30, \"Unserviceable\")","v":"Serviceable"}]
[null,1595,1978,"Wood Untreated Dressed","Serviceable","Class 1",2016,120,113,9,{"$f":"INDEX(Lists!$B$32:$B$40, MATCH(2020-C1022, Lists!$C$32:$C$40,1))","v":"41-50"},{"$f":"SUMPRODUCT((Data!$B$17:$B$19=Model!$F1022)*(Data!$C$16:$K$16=Model!$K1022)*(Data!$C$17:$K$19))","v":1.75},104.25,{"$f":"_xlfn.IFS(M1022>70,\"Serviceable\",M1022>30, \"Limited Life\",M1022<=30, \"Unserviceable\")","v":"Serviceable"}]
[null,1596,1978,"Wood Creos Impregnated","Serviceable","Class 3",2018,90,82.44,7,{"$f":"INDEX(Lists!$B$32:$B$40, MATCH(2020-C1023, Lists!$C$32:$C$40,1))","v":"41-50"},{"$f":"SUMPRODUCT((Data!$B$17:$B$19=Model!$F1023)*(Data!$C$16:$K$16=Model!$K1023)*(Data!$C$17:$K$19))","v":3.78},63.540000000000006,{"$f":"_xlfn.IFS(M1023>70,\"Serviceable\",M1023>30, \"Limited Life\",M1023<=30, \"Unserviceable\")","v":"Limited Life"}]
[null,1598,1960,"Wood Creos Impregnated","Serviceable","Class 3",2018,100,94.54,7,{"$f":"INDEX(Lists!$B$32:$B$40, MATCH(2020-C1024, Lists!$C$32:$C$40,1))","v":"51-60"},{"$f":"SUMPRODUCT((Data!$B$17:$B$19=Model!$F1024)*(Data!$C$16:$K$16=Model!$K1024)*(Data!$C$17:$K$19))","v":2.73},80.89,{"$f":"_xlfn.IFS(M1024>70,\"Serviceable\",M1024>30, \"Limited Life\",M1024<=30, \"Unserviceable\")","v":"Serviceable"}]
[null,1604,1935,"Wood Untreated Dressed","Serviceable","Class 1",2018,120,114.38,7,{"$f":"INDEX(Lists!$B$32:$B$40, MATCH(2020-C1025, Lists!$C$32:$C$40,1))","v":"81-90"},{"$f":"SUMPRODUCT((Data!$B$17:$B$19=Model!$F1025)*(Data!$C$16:$K$16=Model!$K1025)*(Data!$C$17:$K$19))","v":2.81},100.33,{"$f":"_xlfn.IFS(M1025>70,\"Serviceable\",M1025>30, \"Limited Life\",M1025<=30, \"Unserviceable\")","v":"Serviceable"}]
[null,1605,1940,"Wood Untreated Dressed","Serviceable","Class 1",2016,140,131.4,9,{"$f":"INDEX(Lists!$B$32:$B$40, MATCH(2020-C1026, Lists!$C$32:$C$40,1))","v":"71-80"},{"$f":"SUMPRODUCT((Data!$B$17:$B$19=Model!$F1026)*(Data!$C$16:$K$16=Model!$K1026)*(Data!$C$17:$K$19))","v":2.15},120.65,{"$f":"_xlfn.IFS(M1026>70,\"Serviceable\",M1026>30, \"Limited Life\",M1026<=30, \"Unserviceable\")","v":"Serviceable"}]
[null,1607,1979,"Wood Untreated Dressed","Serviceable","Class 1",2016,140,133,9,{"$f":"INDEX(Lists!$B$32:$B$40, MATCH(2020-C1027, Lists!$C$32:$C$40,1))","v":"41-50"},{"$f":"SUMPRODUCT((Data!$B$17:$B$19=Model!$F1027)*(Data!$C$16:$K$16=Model!$K1027)*(Data!$C$17:$K$19))","v":1.75},124.25,{"$f":"_xlfn.IFS(M1027>70,\"Serviceable\",M1027>30, \"Limited Life\",M1027<=30, \"Unserviceable\")","v":"Serviceable"}]
[null,1610,1976,"Wood Creos Impregnated","Serviceable","Class 3",2020,110,110,5,{"$f":"INDEX(Lists!$B$32:$B$40, MATCH(2020-C1028, Lists!$C$32:$C$40,1))","v":"41-50"},{"$f":"SUMPRODUCT((Data!$B$17:$B$19=Model!$F1028)*(Data!$C$16:$K$16=Model!$K1028)*(Data!$C$17:$K$19))","v":3.78},91.1,{"$f":"_xlfn.IFS(M1028>70,\"Serviceable\",M1028>30, \"Limited Life\",M1028<=30, \"Unserviceable\")","v":"Serviceable"}]
[null,1616,1933,"Wood Untreated Dressed","Serviceable","Class 1",2019,90,87.19,6,{"$f":"INDEX(Lists!$B$32:$B$40, MATCH(2020-C1029, Lists!$C$32:$C$40,1))","v":"81-90"},{"$f":"SUMPRODUCT((Data!$B$17:$B$19=Model!$F1029)*(Data!$C$16:$K$16=Model!$K1029)*(Data!$C$17:$K$19))","v":2.81},73.14,{"$f":"_xlfn.IFS(M1029>70,\"Serviceable\",M1029>30, \"Limited Life\",M1029<=30, \"Unserviceable\")","v":"Serviceable"}]
[null,1619,1979,"Wood Untreated Dressed","Serviceable","Class 1",2016,140,133,9,{"$f":"INDEX(Lists!$B$32:$B$40, MATCH(2020-C1030, Lists!$C$32:$C$40,1))","v":"41-50"},{"$f":"SUMPRODUCT((Data!$B$17:$B$19=Model!$F1030)*(Data!$C$16:$K$16=Model!$K1030)*(Data!$C$17:$K$19))","v":1.75},124.25,{"$f":"_xlfn.IFS(M1030>70,\"Serviceable\",M1030>30, \"Limited Life\",M1030<=30, \"Unserviceable\")","v":"Serviceable"}]
[null,1620,1962,"Wood Creos Impregnated","Serviceable","Class 3",2019,80,77.27,6,{"$f":"INDEX(Lists!$B$32:$B$40, MATCH(2020-C1031, Lists!$C$32:$C$40,1))","v":"51-60"},{"$f":"SUMPRODUCT((Data!$B$17:$B$19=Model!$F1031)*(Data!$C$16:$K$16=Model!$K1031)*(Data!$C$17:$K$19))","v":2.73},63.620000000000005,{"$f":"_xlfn.IFS(M1031>70,\"Serviceable\",M1031>30, \"Limited Life\",M1031<=30, \"Unserviceable\")","v":"Limited Life"}]
[null,1622,2009,"CCA Treated Pole","Serviceable","Class 2",2016,160,155.12,{"$f":"2025-G1032","v":9},{"$f":"INDEX(Lists!$B$32:$B$40, MATCH(2020-C1032, Lists!$C$32:$C$40,1))","v":"0-20"},{"$f":"SUMPRODUCT((Data!$B$17:$B$19=Model!$F1032)*(Data!$C$16:$K$16=Model!$K1032)*(Data!$C$17:$K$19))","v":1.22},{"$f":"IF(IF(H1032>=700,999,(H1032-L1032*J1032))<0,0,IF(H1032>=700,999,(H1032-L1032*J1032)))","v":149.02000000000001},{"$f":"_xlfn.IFS(M1032>70,\"Serviceable\",M1032>30, \"Limited Life\",M1032<=30, \"Unserviceable\")","v":"Serviceable"}]
[null,1624,1979,"Wood Creos Impregnated","Serviceable","Class 3",2016,130,114.88,9,{"$f":"INDEX(Lists!$B$32:$B$40, MATCH(2020-C1033, Lists!$C$32:$C$40,1))","v":"41-50"},{"$f":"SUMPRODUCT((Data!$B$17:$B$19=Model!$F1033)*(Data!$C$16:$K$16=Model!$K1033)*(Data!$C$17:$K$19))","v":3.78},95.98,{"$f":"_xlfn.IFS(M1033>70,\"Serviceable\",M1033>30, \"Limited Life\",M1033<=30, \"Unserviceable\")","v":"Serviceable"}]
[null,1625,1971,"Wood Creos Impregnated","Serviceable","Class 3",2019,80,76.22,6,{"$f":"INDEX(Lists!$B$32:$B$40, MATCH(2020-C1034, Lists!$C$32:$C$40,1))","v":"41-50"},{"$f":"SUMPRODUCT((Data!$B$17:$B$19=Model!$F1034)*(Data!$C$16:$K$16=Model!$K1034)*(Data!$C$17:$K$19))","v":3.78},57.32,{"$f":"_xlfn.IFS(M1034>70,\"Serviceable\",M1034>30, \"Limited Life\",M1034<=30, \"Unserviceable\")","v":"Limited Life"}]
[null,1626,1965,"Wood Creos Impregnated","Serviceable","Class 3",2016,140,129.08000000000001,9,{"$f":"INDEX(Lists!$B$32:$B$40, MATCH(2020-C1035, Lists!$C$32:$C$40,1))","v":"51-60"},{"$f":"SUMPRODUCT((Data!$B$17:$B$19=Model!$F1035)*(Data!$C$16:$K$16=Model!$K1035)*(Data!$C$17:$K$19))","v":2.73},115.43,{"$f":"_xlfn.IFS(M1035>70,\"Serviceable\",M1035>30, \"Limited Life\",M1035<=30, \"Unserviceable\")","v":"Serviceable"}]
[null,1628,1998,"Wood Untreated Dressed","Serviceable","Class 1",2016,150,142.16,9,{"$f":"INDEX(Lists!$B$32:$B$40, MATCH(2020-C1036, Lists!$C$32:$C$40,1))","v":"21-30"},{"$f":"SUMPRODUCT((Data!$B$17:$B$19=Model!$F1036)*(Data!$C$16:$K$16=Model!$K1036)*(Data!$C$17:$K$19))","v":1.96},132.36000000000001,{"$f":"_xlfn.IFS(M1036>70,\"Serviceable\",M1036>30, \"Limited Life\",M1036<=30, \"Unserviceable\")","v":"Serviceable"}]
[null,1629,1963,"Wood Creos Impregnated","Serviceable","Class 3",2019,80,77.27,6,{"$f":"INDEX(Lists!$B$32:$B$40, MATCH(2020-C1037, Lists!$C$32:$C$40,1))","v":"51-60"},{"$f":"SUMPRODUCT((Data!$B$17:$B$19=Model!$F1037)*(Data!$C$16:$K$16=Model!$K1037)*(Data!$C$17:$K$19))","v":2.73},63.620000000000005,{"$f":"_xlfn.IFS(M1037>70,\"Serviceable\",M1037>30, \"Limited Life\",M1037<=30, \"Unserviceable\")","v":"Limited Life"}]
[null,1630,1968,"Wood Creos Impregnated","Serviceable","Class 3",2016,110,99.08,9,{"$f":"INDEX(Lists!$B$32:$B$40, MATCH(2020-C1038, Lists!$C$32:$C$40,1))","v":"51-60"},{"$f":"SUMPRODUCT((Data!$B$17:$B$19=Model!$F1038)*(Data!$C$16:$K$16=Model!$K1038)*(Data!$C$17:$K$19))","v":2.73},85.43,{"$f":"_xlfn.IFS(M1038>70,\"Serviceable\",M1038>30, \"Limited Life\",M1038<=30, \"Unserviceable\")","v":"Serviceable"}]
[null,1631,1966,"Wood Creos Impregnated","Serviceable","Class 3",2020,120,120,5,{"$f":"INDEX(Lists!$B$32:$B$40, MATCH(2020-C1039, Lists!$C$32:$C$40,1))","v":"51-60"},{"$f":"SUMPRODUCT((Data!$B$17:$B$19=Model!$F1039)*(Data!$C$16:$K$16=Model!$K1039)*(Data!$C$17:$K$19))","v":2.73},106.35,{"$f":"_xlfn.IFS(M1039>70,\"Serviceable\",M1039>30, \"Limited Life\",M1039<=30, \"Unserviceable\")","v":"Serviceable"}]
[null,1632,1998,"CCA Treated Pole","Serviceable","Class 1",2016,160,152.16,9,{"$f":"INDEX(Lists!$B$32:$B$40, MATCH(2020-C1040, Lists!$C$32:$C$40,1))","v":"21-30"},{"$f":"SUMPRODUCT((Data!$B$17:$B$19=Model!$F1040)*(Data!$C$16:$K$16=Model!$K1040)*(Data!$C$17:$K$19))","v":1.96},142.36000000000001,{"$f":"_xlfn.IFS(M1040>70,\"Serviceable\",M1040>30, \"Limited Life\",M1040<=30, \"Unserviceable\")","v":"Serviceable"}]
[null,1633,1978,"Wood Untreated Dressed","Serviceable","Class 1",2019,100,98.25,6,{"$f":"INDEX(Lists!$B$32:$B$40, MATCH(2020-C1041, Lists!$C$32:$C$40,1))","v":"41-50"},{"$f":"SUMPRODUCT((Data!$B$17:$B$19=Model!$F1041)*(Data!$C$16:$K$16=Model!$K1041)*(Data!$C$17:$K$19))","v":1.75},89.5,{"$f":"_xlfn.IFS(M1041>70,\"Serviceable\",M1041>30, \"Limited Life\",M1041<=30, \"Unserviceable\")","v":"Serviceable"}]
[null,1634,1967,"Wood Creos Impregnated","Serviceable","Class 3",2016,120,109.08,9,{"$f":"INDEX(Lists!$B$32:$B$40, MATCH(2020-C1042, Lists!$C$32:$C$40,1))","v":"51-60"},{"$f":"SUMPRODUCT((Data!$B$17:$B$19=Model!$F1042)*(Data!$C$16:$K$16=Model!$K1042)*(Data!$C$17:$K$19))","v":2.73},95.43,{"$f":"_xlfn.IFS(M1042>70,\"Serviceable\",M1042>30, \"Limited Life\",M1042<=30, \"Unserviceable\")","v":"Serviceable"}]
[null,1635,1963,"Wood Creos Impregnated","Serviceable","Class 3",2019,80,77.27,6,{"$f":"INDEX(Lists!$B$32:$B$40, MATCH(2020-C1043, Lists!$C$32:$C$40,1))","v":"51-60"},{"$f":"SUMPRODUCT((Data!$B$17:$B$19=Model!$F1043)*(Data!$C$16:$K$16=Model!$K1043)*(Data!$C$17:$K$19))","v":2.73},63.620000000000005,{"$f":"_xlfn.IFS(M1043>70,\"Serviceable\",M1043>30, \"Limited Life\",M1043<=30, \"Unserviceable\")","v":"Limited Life"}]
[null,1636,1989,"Wood Untreated Dressed","Serviceable","Class 1",2016,150,139.91999999999999,9,{"$f":"INDEX(Lists!$B$32:$B$40, MATCH(2020-C1044, Lists!$C$32:$C$40,1))","v":"31-40"},{"$f":"SUMPRODUCT((Data!$B$17:$B$19=Model!$F1044)*(Data!$C$16:$K$16=Model!$K1044)*(Data!$C$17:$K$19))","v":2.52},127.32,{"$f":"_xlfn.IFS(M1044>70,\"Serviceable\",M1044>30, \"Limited Life\",M1044<=30, \"Unserviceable\")","v":"Serviceable"}]
[null,1637,1976,"Wood Untreated Dressed","Serviceable","Class 1",2020,130,130,5,{"$f":"INDEX(Lists!$B$32:$B$40, MATCH(2020-C1045, Lists!$C$32:$C$40,1))","v":"41-50"},{"$f":"SUMPRODUCT((Data!$B$17:$B$19=Model!$F1045)*(Data!$C$16:$K$16=Model!$K1045)*(Data!$C$17:$K$19))","v":1.75},121.25,{"$f":"_xlfn.IFS(M1045>70,\"Serviceable\",M1045>30, \"Limited Life\",M1045<=30, \"Unserviceable\")","v":"Serviceable"}]
[null,1638,1967,"Wood Creos Impregnated","Serviceable","Class 3",2016,100,89.08,9,{"$f":"INDEX(Lists!$B$32:$B$40, MATCH(2020-C1046, Lists!$C$32:$C$40,1))","v":"51-60"},{"$f":"SUMPRODUCT((Data!$B$17:$B$19=Model!$F1046)*(Data!$C$16:$K$16=Model!$K1046)*(Data!$C$17:$K$19))","v":2.73},75.430000000000007,{"$f":"_xlfn.IFS(M1046>70,\"Serviceable\",M1046>30, \"Limited Life\",M1046<=30, \"Unserviceable\")","v":"Serviceable"}]
[null,1639,1984,"Wood Untreated Dressed","Serviceable","Class 1",2020,130,130,5,{"$f":"INDEX(Lists!$B$32:$B$40, MATCH(2020-C1047, Lists!$C$32:$C$40,1))","v":"31-40"},{"$f":"SUMPRODUCT((Data!$B$17:$B$19=Model!$F1047)*(Data!$C$16:$K$16=Model!$K1047)*(Data!$C$17:$K$19))","v":2.52},117.4,{"$f":"_xlfn.IFS(M1047>70,\"Serviceable\",M1047>30, \"Limited Life\",M1047<=30, \"Unserviceable\")","v":"Serviceable"}]
[null,1640,1968,"Wood Creos Impregnated","Serviceable","Class 3",2016,130,119.08,9,{"$f":"INDEX(Lists!$B$32:$B$40, MATCH(2020-C1048, Lists!$C$32:$C$40,1))","v":"51-60"},{"$f":"SUMPRODUCT((Data!$B$17:$B$19=Model!$F1048)*(Data!$C$16:$K$16=Model!$K1048)*(Data!$C$17:$K$19))","v":2.73},105.43,{"$f":"_xlfn.IFS(M1048>70,\"Serviceable\",M1048>30, \"Limited Life\",M1048<=30, \"Unserviceable\")","v":"Serviceable"}]
[null,1641,2006,"CCA Treated Pole","Serviceable","Class 2",2020,162.49719689682513,162.49719689682513,5,{"$f":"INDEX(Lists!$B$32:$B$40, MATCH(2020-C1049, Lists!$C$32:$C$40,1))","v":"0-20"},{"$f":"SUMPRODUCT((Data!$B$17:$B$19=Model!$F1049)*(Data!$C$16:$K$16=Model!$K1049)*(Data!$C$17:$K$19))","v":1.22},156.39719689682514,{"$f":"_xlfn.IFS(M1049>70,\"Serviceable\",M1049>30, \"Limited Life\",M1049<=30, \"Unserviceable\")","v":"Serviceable"}]
[null,1642,1939,"Wood Untreated Dressed","Serviceable","Class 1",2020,120,120,5,{"$f":"INDEX(Lists!$B$32:$B$40, MATCH(2020-C1050, Lists!$C$32:$C$40,1))","v":"81-90"},{"$f":"SUMPRODUCT((Data!$B$17:$B$19=Model!$F1050)*(Data!$C$16:$K$16=Model!$K1050)*(Data!$C$17:$K$19))","v":2.81},105.95,{"$f":"_xlfn.IFS(M1050>70,\"Serviceable\",M1050>30, \"Limited Life\",M1050<=30, \"Unserviceable\")","v":"Serviceable"}]
[null,1643,1964,"Wood Creos Impregnated","Serviceable","Class 3",2016,110,99.08,9,{"$f":"INDEX(Lists!$B$32:$B$40, MATCH(2020-C1051, Lists!$C$32:$C$40,1))","v":"51-60"},{"$f":"SUMPRODUCT((Data!$B$17:$B$19=Model!$F1051)*(Data!$C$16:$K$16=Model!$K1051)*(Data!$C$17:$K$19))","v":2.73},85.43,{"$f":"_xlfn.IFS(M1051>70,\"Serviceable\",M1051>30, \"Limited Life\",M1051<=30, \"Unserviceable\")","v":"Serviceable"}]
[null,1645,2005,"CCA Treated Pole","Serviceable","Class 2",2016,160,155.12,9,{"$f":"INDEX(Lists!$B$32:$B$40, MATCH(2020-C1052, Lists!$C$32:$C$40,1))","v":"0-20"},{"$f":"SUMPRODUCT((Data!$B$17:$B$19=Model!$F1052)*(Data!$C$16:$K$16=Model!$K1052)*(Data!$C$17:$K$19))","v":1.22},149.02000000000001,{"$f":"_xlfn.IFS(M1052>70,\"Serviceable\",M1052>30, \"Limited Life\",M1052<=30, \"Unserviceable\")","v":"Serviceable"}]
[null,1647,1967,"Wood Untreated Round","Limited Life","Class 3",2016,70,59.08,9,{"$f":"INDEX(Lists!$B$32:$B$40, MATCH(2020-C1053, Lists!$C$32:$C$40,1))","v":"51-60"},{"$f":"SUMPRODUCT((Data!$B$17:$B$19=Model!$F1053)*(Data!$C$16:$K$16=Model!$K1053)*(Data!$C$17:$K$19))","v":2.73},45.43,{"$f":"_xlfn.IFS(M1053>70,\"Serviceable\",M1053>30, \"Limited Life\",M1053<=30, \"Unserviceable\")","v":"Limited Life"}]
[null,1648,1993,"Wood Untreated Dressed","Serviceable","Class 1",2018,130,126.08,7,{"$f":"INDEX(Lists!$B$32:$B$40, MATCH(2020-C1054, Lists!$C$32:$C$40,1))","v":"21-30"},{"$f":"SUMPRODUCT((Data!$B$17:$B$19=Model!$F1054)*(Data!$C$16:$K$16=Model!$K1054)*(Data!$C$17:$K$19))","v":1.96},116.28,{"$f":"_xlfn.IFS(M1054>70,\"Serviceable\",M1054>30, \"Limited Life\",M1054<=30, \"Unserviceable\")","v":"Serviceable"}]
[null,1649,1964,"Wood Creos Impregnated","Serviceable","Class 3",2016,100,89.08,9,{"$f":"INDEX(Lists!$B$32:$B$40, MATCH(2020-C1055, Lists!$C$32:$C$40,1))","v":"51-60"},{"$f":"SUMPRODUCT((Data!$B$17:$B$19=Model!$F1055)*(Data!$C$16:$K$16=Model!$K1055)*(Data!$C$17:$K$19))","v":2.73},75.430000000000007,{"$f":"_xlfn.IFS(M1055>70,\"Serviceable\",M1055>30, \"Limited Life\",M1055<=30, \"Unserviceable\")","v":"Serviceable"}]
[null,1652,2004,"CCA Treated Pole","Serviceable","Class 1",2018,166.31691553103065,164.19691553103064,7,{"$f":"INDEX(Lists!$B$32:$B$40, MATCH(2020-C1056, Lists!$C$32:$C$40,1))","v":"0-20"},{"$f":"SUMPRODUCT((Data!$B$17:$B$19=Model!$F1056)*(Data!$C$16:$K$16=Model!$K1056)*(Data!$C$17:$K$19))","v":1.06},158.89691553103066,{"$f":"_xlfn.IFS(M1056>70,\"Serviceable\",M1056>30, \"Limited Life\",M1056<=30, \"Unserviceable\")","v":"Serviceable"}]
[null,1654,1978,"Wood Untreated Dressed","Serviceable","Class 1",2018,130,126.5,7,{"$f":"INDEX(Lists!$B$32:$B$40, MATCH(2020-C1057, Lists!$C$32:$C$40,1))","v":"41-50"},{"$f":"SUMPRODUCT((Data!$B$17:$B$19=Model!$F1057)*(Data!$C$16:$K$16=Model!$K1057)*(Data!$C$17:$K$19))","v":1.75},117.75,{"$f":"_xlfn.IFS(M1057>70,\"Serviceable\",M1057>30, \"Limited Life\",M1057<=30, \"Unserviceable\")","v":"Serviceable"}]
[null,1655,2006,"CCA Treated Pole","Serviceable","Class 2",2016,162.49719689682513,157.61719689682513,9,{"$f":"INDEX(Lists!$B$32:$B$40, MATCH(2020-C1058, Lists!$C$32:$C$40,1))","v":"0-20"},{"$f":"SUMPRODUCT((Data!$B$17:$B$19=Model!$F1058)*(Data!$C$16:$K$16=Model!$K1058)*(Data!$C$17:$K$19))","v":1.22},151.51719689682514,{"$f":"_xlfn.IFS(M1058>70,\"Serviceable\",M1058>30, \"Limited Life\",M1058<=30, \"Unserviceable\")","v":"Serviceable"}]
[null,1656,1994,"Wood Untreated Dressed","Serviceable","Class 1",2020,120,120,5,{"$f":"INDEX(Lists!$B$32:$B$40, MATCH(2020-C1059, Lists!$C$32:$C$40,1))","v":"21-30"},{"$f":"SUMPRODUCT((Data!$B$17:$B$19=Model!$F1059)*(Data!$C$16:$K$16=Model!$K1059)*(Data!$C$17:$K$19))","v":1.96},110.2,{"$f":"_xlfn.IFS(M1059>70,\"Serviceable\",M1059>30, \"Limited Life\",M1059<=30, \"Unserviceable\")","v":"Serviceable"}]
[null,1657,1969,"Wood Untreated Round","Limited Life","Class 3",2016,80,69.08,9,{"$f":"INDEX(Lists!$B$32:$B$40, MATCH(2020-C1060, Lists!$C$32:$C$40,1))","v":"51-60"},{"$f":"SUMPRODUCT((Data!$B$17:$B$19=Model!$F1060)*(Data!$C$16:$K$16=Model!$K1060)*(Data!$C$17:$K$19))","v":2.73},55.43,{"$f":"_xlfn.IFS(M1060>70,\"Serviceable\",M1060>30, \"Limited Life\",M1060<=30, \"Unserviceable\")","v":"Limited Life"}]
[null,1658,2005,"CCA Treated Pole","Serviceable","Class 2",2018,162.49719689682513,160.05719689682513,7,{"$f":"INDEX(Lists!$B$32:$B$40, MATCH(2020-C1061, Lists!$C$32:$C$40,1))","v":"0-20"},{"$f":"SUMPRODUCT((Data!$B$17:$B$19=Model!$F1061)*(Data!$C$16:$K$16=Model!$K1061)*(Data!$C$17:$K$19))","v":1.22},153.95719689682514,{"$f":"_xlfn.IFS(M1061>70,\"Serviceable\",M1061>30, \"Limited Life\",M1061<=30, \"Unserviceable\")","v":"Serviceable"}]
[null,1660,1978,"Wood Untreated Dressed","Serviceable","Class 1",2018,130,126.5,7,{"$f":"INDEX(Lists!$B$32:$B$40, MATCH(2020-C1062, Lists!$C$32:$C$40,1))","v":"41-50"},{"$f":"SUMPRODUCT((Data!$B$17:$B$19=Model!$F1062)*(Data!$C$16:$K$16=Model!$K1062)*(Data!$C$17:$K$19))","v":1.75},117.75,{"$f":"_xlfn.IFS(M1062>70,\"Serviceable\",M1062>30, \"Limited Life\",M1062<=30, \"Unserviceable\")","v":"Serviceable"}]
[null,1661,1934,"Wood Untreated Dressed","Serviceable","Class 1",2016,100,88.76,9,{"$f":"INDEX(Lists!$B$32:$B$40, MATCH(2020-C1063, Lists!$C$32:$C$40,1))","v":"81-90"},{"$f":"SUMPRODUCT((Data!$B$17:$B$19=Model!$F1063)*(Data!$C$16:$K$16=Model!$K1063)*(Data!$C$17:$K$19))","v":2.81},74.710000000000008,{"$f":"_xlfn.IFS(M1063>70,\"Serviceable\",M1063>30, \"Limited Life\",M1063<=30, \"Unserviceable\")","v":"Serviceable"}]
[null,1662,1985,"Wood Untreated Dressed","Serviceable","Class 1",2018,130,124.96,7,{"$f":"INDEX(Lists!$B$32:$B$40, MATCH(2020-C1064, Lists!$C$32:$C$40,1))","v":"31-40"},{"$f":"SUMPRODUCT((Data!$B$17:$B$19=Model!$F1064)*(Data!$C$16:$K$16=Model!$K1064)*(Data!$C$17:$K$19))","v":2.52},112.36,{"$f":"_xlfn.IFS(M1064>70,\"Serviceable\",M1064>30, \"Limited Life\",M1064<=30, \"Unserviceable\")","v":"Serviceable"}]
[null,1663,2007,"CCA Treated Pole","Serviceable","Class 1",2016,160,155.76,9,{"$f":"INDEX(Lists!$B$32:$B$40, MATCH(2020-C1065, Lists!$C$32:$C$40,1))","v":"0-20"},{"$f":"SUMPRODUCT((Data!$B$17:$B$19=Model!$F1065)*(Data!$C$16:$K$16=Model!$K1065)*(Data!$C$17:$K$19))","v":1.06},150.46,{"$f":"_xlfn.IFS(M1065>70,\"Serviceable\",M1065>30, \"Limited Life\",M1065<=30, \"Unserviceable\")","v":"Serviceable"}]
[null,1664,1956,"Wood Creos Impregnated","Serviceable","Class 3",2018,110,105.96,7,{"$f":"INDEX(Lists!$B$32:$B$40, MATCH(2020-C1066, Lists!$C$32:$C$40,1))","v":"61-70"},{"$f":"SUMPRODUCT((Data!$B$17:$B$19=Model!$F1066)*(Data!$C$16:$K$16=Model!$K1066)*(Data!$C$17:$K$19))","v":2.02},95.86,{"$f":"_xlfn.IFS(M1066>70,\"Serviceable\",M1066>30, \"Limited Life\",M1066<=30, \"Unserviceable\")","v":"Serviceable"}]
[null,1665,2007,"CCA Treated Pole","Serviceable","Class 2",2016,160,155.12,9,{"$f":"INDEX(Lists!$B$32:$B$40, MATCH(2020-C1067, Lists!$C$32:$C$40,1))","v":"0-20"},{"$f":"SUMPRODUCT((Data!$B$17:$B$19=Model!$F1067)*(Data!$C$16:$K$16=Model!$K1067)*(Data!$C$17:$K$19))","v":1.22},149.02000000000001,{"$f":"_xlfn.IFS(M1067>70,\"Serviceable\",M1067>30, \"Limited Life\",M1067<=30, \"Unserviceable\")","v":"Serviceable"}]
[null,1666,1967,"Wood Creos Impregnated","Serviceable","Class 3",2018,90,84.54,7,{"$f":"INDEX(Lists!$B$32:$B$40, MATCH(2020-C1068, Lists!$C$32:$C$40,1))","v":"51-60"},{"$f":"SUMPRODUCT((Data!$B$17:$B$19=Model!$F1068)*(Data!$C$16:$K$16=Model!$K1068)*(Data!$C$17:$K$19))","v":2.73},70.89,{"$f":"_xlfn.IFS(M1068>70,\"Serviceable\",M1068>30, \"Limited Life\",M1068<=30, \"Unserviceable\")","v":"Serviceable"}]
[null,1667,1966,"Wood Creos Impregnated","Serviceable","Class 3",2016,100,89.08,9,{"$f":"INDEX(Lists!$B$32:$B$40, MATCH(2020-C1069, Lists!$C$32:$C$40,1))","v":"51-60"},{"$f":"SUMPRODUCT((Data!$B$17:$B$19=Model!$F1069)*(Data!$C$16:$K$16=Model!$K1069)*(Data!$C$17:$K$19))","v":2.73},75.430000000000007,{"$f":"_xlfn.IFS(M1069>70,\"Serviceable\",M1069>30, \"Limited Life\",M1069<=30, \"Unserviceable\")","v":"Serviceable"}]
[null,1668,1979,"Wood Untreated Dressed","Serviceable","Class 1",2018,110,106.5,7,{"$f":"INDEX(Lists!$B$32:$B$40, MATCH(2020-C1070, Lists!$C$32:$C$40,1))","v":"41-50"},{"$f":"SUMPRODUCT((Data!$B$17:$B$19=Model!$F1070)*(Data!$C$16:$K$16=Model!$K1070)*(Data!$C$17:$K$19))","v":1.75},97.75,{"$f":"_xlfn.IFS(M1070>70,\"Serviceable\",M1070>30, \"Limited Life\",M1070<=30, \"Unserviceable\")","v":"Serviceable"}]
[null,1671,1991,"Wood Untreated Dressed","Serviceable","Class 1",2018,100,96.08,7,{"$f":"INDEX(Lists!$B$32:$B$40, MATCH(2020-C1071, Lists!$C$32:$C$40,1))","v":"21-30"},{"$f":"SUMPRODUCT((Data!$B$17:$B$19=Model!$F1071)*(Data!$C$16:$K$16=Model!$K1071)*(Data!$C$17:$K$19))","v":1.96},86.28,{"$f":"_xlfn.IFS(M1071>70,\"Serviceable\",M1071>30, \"Limited Life\",M1071<=30, \"Unserviceable\")","v":"Serviceable"}]
[null,1675,1933,"Wood Untreated Dressed","Serviceable","Class 1",2018,100,94.38,7,{"$f":"INDEX(Lists!$B$32:$B$40, MATCH(2020-C1072, Lists!$C$32:$C$40,1))","v":"81-90"},{"$f":"SUMPRODUCT((Data!$B$17:$B$19=Model!$F1072)*(Data!$C$16:$K$16=Model!$K1072)*(Data!$C$17:$K$19))","v":2.81},80.33,{"$f":"_xlfn.IFS(M1072>70,\"Serviceable\",M1072>30, \"Limited Life\",M1072<=30, \"Unserviceable\")","v":"Serviceable"}]
[null,1676,1968,"Wood Creos Impregnated","Serviceable","Class 3",2018,110,104.54,7,{"$f":"INDEX(Lists!$B$32:$B$40, MATCH(2020-C1073, Lists!$C$32:$C$40,1))","v":"51-60"},{"$f":"SUMPRODUCT((Data!$B$17:$B$19=Model!$F1073)*(Data!$C$16:$K$16=Model!$K1073)*(Data!$C$17:$K$19))","v":2.73},90.89,{"$f":"_xlfn.IFS(M1073>70,\"Serviceable\",M1073>30, \"Limited Life\",M1073<=30, \"Unserviceable\")","v":"Serviceable"}]
[null,1677,1973,"Wood Untreated Dressed","Serviceable","Class 1",2016,80,73,9,{"$f":"INDEX(Lists!$B$32:$B$40, MATCH(2020-C1074, Lists!$C$32:$C$40,1))","v":"41-50"},{"$f":"SUMPRODUCT((Data!$B$17:$B$19=Model!$F1074)*(Data!$C$16:$K$16=Model!$K1074)*(Data!$C$17:$K$19))","v":1.75},64.25,{"$f":"_xlfn.IFS(M1074>70,\"Serviceable\",M1074>30, \"Limited Life\",M1074<=30, \"Unserviceable\")","v":"Limited Life"}]
[null,1678,1954,"Wood Untreated Round","Serviceable","Class 1",2018,80,75.94,7,{"$f":"INDEX(Lists!$B$32:$B$40, MATCH(2020-C1075, Lists!$C$32:$C$40,1))","v":"61-70"},{"$f":"SUMPRODUCT((Data!$B$17:$B$19=Model!$F1075)*(Data!$C$16:$K$16=Model!$K1075)*(Data!$C$17:$K$19))","v":2.0299999999999998},65.790000000000006,{"$f":"_xlfn.IFS(M1075>70,\"Serviceable\",M1075>30, \"Limited Life\",M1075<=30, \"Unserviceable\")","v":"Limited Life"}]
[null,1680,1970,"Wood Untreated Dressed","Serviceable","Class 1",2018,90,86.5,7,{"$f":"INDEX(Lists!$B$32:$B$40, MATCH(2020-C1076, Lists!$C$32:$C$40,1))","v":"41-50"},{"$f":"SUMPRODUCT((Data!$B$17:$B$19=Model!$F1076)*(Data!$C$16:$K$16=Model!$K1076)*(Data!$C$17:$K$19))","v":1.75},77.75,{"$f":"_xlfn.IFS(M1076>70,\"Serviceable\",M1076>30, \"Limited Life\",M1076<=30, \"Unserviceable\")","v":"Serviceable"}]
[null,1682,1956,"Wood Untreated Round","Serviceable","Class 1",2018,90,85.94,7,{"$f":"INDEX(Lists!$B$32:$B$40, MATCH(2020-C1077, Lists!$C$32:$C$40,1))","v":"61-70"},{"$f":"SUMPRODUCT((Data!$B$17:$B$19=Model!$F1077)*(Data!$C$16:$K$16=Model!$K1077)*(Data!$C$17:$K$19))","v":2.0299999999999998},75.790000000000006,{"$f":"_xlfn.IFS(M1077>70,\"Serviceable\",M1077>30, \"Limited Life\",M1077<=30, \"Unserviceable\")","v":"Serviceable"}]
[null,1684,1968,"Wood Creos Impregnated","Serviceable","Class 3",2018,90,84.54,7,{"$f":"INDEX(Lists!$B$32:$B$40, MATCH(2020-C1078, Lists!$C$32:$C$40,1))","v":"51-60"},{"$f":"SUMPRODUCT((Data!$B$17:$B$19=Model!$F1078)*(Data!$C$16:$K$16=Model!$K1078)*(Data!$C$17:$K$19))","v":2.73},70.89,{"$f":"_xlfn.IFS(M1078>70,\"Serviceable\",M1078>30, \"Limited Life\",M1078<=30, \"Unserviceable\")","v":"Serviceable"}]
[null,1685,1933,"Wood Untreated Dressed","Serviceable","Class 1",2016,100,88.76,9,{"$f":"INDEX(Lists!$B$32:$B$40, MATCH(2020-C1079, Lists!$C$32:$C$40,1))","v":"81-90"},{"$f":"SUMPRODUCT((Data!$B$17:$B$19=Model!$F1079)*(Data!$C$16:$K$16=Model!$K1079)*(Data!$C$17:$K$19))","v":2.81},74.710000000000008,{"$f":"_xlfn.IFS(M1079>70,\"Serviceable\",M1079>30, \"Limited Life\",M1079<=30, \"Unserviceable\")","v":"Serviceable"}]
[null,1686,1964,"Wood Creos Impregnated","Serviceable","Class 3",2018,90,84.54,7,{"$f":"INDEX(Lists!$B$32:$B$40, MATCH(2020-C1080, Lists!$C$32:$C$40,1))","v":"51-60"},{"$f":"SUMPRODUCT((Data!$B$17:$B$19=Model!$F1080)*(Data!$C$16:$K$16=Model!$K1080)*(Data!$C$17:$K$19))","v":2.73},70.89,{"$f":"_xlfn.IFS(M1080>70,\"Serviceable\",M1080>30, \"Limited Life\",M1080<=30, \"Unserviceable\")","v":"Serviceable"}]
[null,1688,1967,"Wood Creos Impregnated","Serviceable","Class 3",2018,90,84.54,7,{"$f":"INDEX(Lists!$B$32:$B$40, MATCH(2020-C1081, Lists!$C$32:$C$40,1))","v":"51-60"},{"$f":"SUMPRODUCT((Data!$B$17:$B$19=Model!$F1081)*(Data!$C$16:$K$16=Model!$K1081)*(Data!$C$17:$K$19))","v":2.73},70.89,{"$f":"_xlfn.IFS(M1081>70,\"Serviceable\",M1081>30, \"Limited Life\",M1081<=30, \"Unserviceable\")","v":"Serviceable"}]
[null,1689,1969,"Wood Untreated Round","Serviceable","Class 3",2016,90,79.08,9,{"$f":"INDEX(Lists!$B$32:$B$40, MATCH(2020-C1082, Lists!$C$32:$C$40,1))","v":"51-60"},{"$f":"SUMPRODUCT((Data!$B$17:$B$19=Model!$F1082)*(Data!$C$16:$K$16=Model!$K1082)*(Data!$C$17:$K$19))","v":2.73},65.430000000000007,{"$f":"_xlfn.IFS(M1082>70,\"Serviceable\",M1082>30, \"Limited Life\",M1082<=30, \"Unserviceable\")","v":"Limited Life"}]
[null,1693,1979,"Wood Untreated Dressed","Serviceable","Class 1",2016,120,113,9,{"$f":"INDEX(Lists!$B$32:$B$40, MATCH(2020-C1083, Lists!$C$32:$C$40,1))","v":"41-50"},{"$f":"SUMPRODUCT((Data!$B$17:$B$19=Model!$F1083)*(Data!$C$16:$K$16=Model!$K1083)*(Data!$C$17:$K$19))","v":1.75},104.25,{"$f":"_xlfn.IFS(M1083>70,\"Serviceable\",M1083>30, \"Limited Life\",M1083<=30, \"Unserviceable\")","v":"Serviceable"}]
[null,1695,1979,"Wood Untreated Dressed","Serviceable","Class 1",2016,120,113,9,{"$f":"INDEX(Lists!$B$32:$B$40, MATCH(2020-C1084, Lists!$C$32:$C$40,1))","v":"41-50"},{"$f":"SUMPRODUCT((Data!$B$17:$B$19=Model!$F1084)*(Data!$C$16:$K$16=Model!$K1084)*(Data!$C$17:$K$19))","v":1.75},104.25,{"$f":"_xlfn.IFS(M1084>70,\"Serviceable\",M1084>30, \"Limited Life\",M1084<=30, \"Unserviceable\")","v":"Serviceable"}]
[null,1700,1999,"CCA Treated Pole","Serviceable","Class 2",2018,150,146.22,7,{"$f":"INDEX(Lists!$B$32:$B$40, MATCH(2020-C1085, Lists!$C$32:$C$40,1))","v":"21-30"},{"$f":"SUMPRODUCT((Data!$B$17:$B$19=Model!$F1085)*(Data!$C$16:$K$16=Model!$K1085)*(Data!$C$17:$K$19))","v":1.89},136.77000000000001,{"$f":"_xlfn.IFS(M1085>70,\"Serviceable\",M1085>30, \"Limited Life\",M1085<=30, \"Unserviceable\")","v":"Serviceable"}]
[null,1703,1985,"Wood Untreated Dressed","Serviceable","Class 1",2018,120,114.96,7,{"$f":"INDEX(Lists!$B$32:$B$40, MATCH(2020-C1086, Lists!$C$32:$C$40,1))","v":"31-40"},{"$f":"SUMPRODUCT((Data!$B$17:$B$19=Model!$F1086)*(Data!$C$16:$K$16=Model!$K1086)*(Data!$C$17:$K$19))","v":2.52},102.36,{"$f":"_xlfn.IFS(M1086>70,\"Serviceable\",M1086>30, \"Limited Life\",M1086<=30, \"Unserviceable\")","v":"Serviceable"}]
[null,1705,1978,"Wood Untreated Dressed","Serviceable","Class 1",2018,120,116.5,7,{"$f":"INDEX(Lists!$B$32:$B$40, MATCH(2020-C1087, Lists!$C$32:$C$40,1))","v":"41-50"},{"$f":"SUMPRODUCT((Data!$B$17:$B$19=Model!$F1087)*(Data!$C$16:$K$16=Model!$K1087)*(Data!$C$17:$K$19))","v":1.75},107.75,{"$f":"_xlfn.IFS(M1087>70,\"Serviceable\",M1087>30, \"Limited Life\",M1087<=30, \"Unserviceable\")","v":"Serviceable"}]
[null,1706,1966,"Wood Creos Impregnated","Serviceable","Class 3",2016,90,79.08,9,{"$f":"INDEX(Lists!$B$32:$B$40, MATCH(2020-C1088, Lists!$C$32:$C$40,1))","v":"51-60"},{"$f":"SUMPRODUCT((Data!$B$17:$B$19=Model!$F1088)*(Data!$C$16:$K$16=Model!$K1088)*(Data!$C$17:$K$19))","v":2.73},65.430000000000007,{"$f":"_xlfn.IFS(M1088>70,\"Serviceable\",M1088>30, \"Limited Life\",M1088<=30, \"Unserviceable\")","v":"Limited Life"}]
[null,1707,1997,"CCA Treated Pole","Serviceable","Class 1",2018,150,146.08000000000001,7,{"$f":"INDEX(Lists!$B$32:$B$40, MATCH(2020-C1089, Lists!$C$32:$C$40,1))","v":"21-30"},{"$f":"SUMPRODUCT((Data!$B$17:$B$19=Model!$F1089)*(Data!$C$16:$K$16=Model!$K1089)*(Data!$C$17:$K$19))","v":1.96},136.28,{"$f":"_xlfn.IFS(M1089>70,\"Serviceable\",M1089>30, \"Limited Life\",M1089<=30, \"Unserviceable\")","v":"Serviceable"}]
[null,1708,1955,"Wood Untreated Dressed","Serviceable","Class 1",2016,100,91.88,9,{"$f":"INDEX(Lists!$B$32:$B$40, MATCH(2020-C1090, Lists!$C$32:$C$40,1))","v":"61-70"},{"$f":"SUMPRODUCT((Data!$B$17:$B$19=Model!$F1090)*(Data!$C$16:$K$16=Model!$K1090)*(Data!$C$17:$K$19))","v":2.0299999999999998},81.73,{"$f":"_xlfn.IFS(M1090>70,\"Serviceable\",M1090>30, \"Limited Life\",M1090<=30, \"Unserviceable\")","v":"Serviceable"}]
[null,1709,1937,"Wood Untreated Dressed","Serviceable","Class 1",2018,110,104.38,7,{"$f":"INDEX(Lists!$B$32:$B$40, MATCH(2020-C1091, Lists!$C$32:$C$40,1))","v":"81-90"},{"$f":"SUMPRODUCT((Data!$B$17:$B$19=Model!$F1091)*(Data!$C$16:$K$16=Model!$K1091)*(Data!$C$17:$K$19))","v":2.81},90.33,{"$f":"_xlfn.IFS(M1091>70,\"Serviceable\",M1091>30, \"Limited Life\",M1091<=30, \"Unserviceable\")","v":"Serviceable"}]
[null,1710,1978,"Wood Untreated Dressed","Serviceable","Class 1",2016,110,103,9,{"$f":"INDEX(Lists!$B$32:$B$40, MATCH(2020-C1092, Lists!$C$32:$C$40,1))","v":"41-50"},{"$f":"SUMPRODUCT((Data!$B$17:$B$19=Model!$F1092)*(Data!$C$16:$K$16=Model!$K1092)*(Data!$C$17:$K$19))","v":1.75},94.25,{"$f":"_xlfn.IFS(M1092>70,\"Serviceable\",M1092>30, \"Limited Life\",M1092<=30, \"Unserviceable\")","v":"Serviceable"}]
[null,1711,1961,"Wood Salt Impregnated (Green)","Serviceable","Class 3",2018,90,84.54,7,{"$f":"INDEX(Lists!$B$32:$B$40, MATCH(2020-C1093, Lists!$C$32:$C$40,1))","v":"51-60"},{"$f":"SUMPRODUCT((Data!$B$17:$B$19=Model!$F1093)*(Data!$C$16:$K$16=Model!$K1093)*(Data!$C$17:$K$19))","v":2.73},70.89,{"$f":"_xlfn.IFS(M1093>70,\"Serviceable\",M1093>30, \"Limited Life\",M1093<=30, \"Unserviceable\")","v":"Serviceable"}]
[null,1714,1980,"Wood Untreated Dressed","Serviceable","Class 1",2018,100,94.96,7,{"$f":"INDEX(Lists!$B$32:$B$40, MATCH(2020-C1094, Lists!$C$32:$C$40,1))","v":"31-40"},{"$f":"SUMPRODUCT((Data!$B$17:$B$19=Model!$F1094)*(Data!$C$16:$K$16=Model!$K1094)*(Data!$C$17:$K$19))","v":2.52},82.36,{"$f":"_xlfn.IFS(M1094>70,\"Serviceable\",M1094>30, \"Limited Life\",M1094<=30, \"Unserviceable\")","v":"Serviceable"}]
[null,1715,1979,"Wood Untreated Round","Serviceable","Class 1",2016,130,123,9,{"$f":"INDEX(Lists!$B$32:$B$40, MATCH(2020-C1095, Lists!$C$32:$C$40,1))","v":"41-50"},{"$f":"SUMPRODUCT((Data!$B$17:$B$19=Model!$F1095)*(Data!$C$16:$K$16=Model!$K1095)*(Data!$C$17:$K$19))","v":1.75},114.25,{"$f":"_xlfn.IFS(M1095>70,\"Serviceable\",M1095>30, \"Limited Life\",M1095<=30, \"Unserviceable\")","v":"Serviceable"}]
[null,1716,1960,"Wood Creos Impregnated","Serviceable","Class 3",2018,90,84.54,{"$f":"2025-G1096","v":7},{"$f":"INDEX(Lists!$B$32:$B$40, MATCH(2020-C1096, Lists!$C$32:$C$40,1))","v":"51-60"},{"$f":"SUMPRODUCT((Data!$B$17:$B$19=Model!$F1096)*(Data!$C$16:$K$16=Model!$K1096)*(Data!$C$17:$K$19))","v":2.73},{"$f":"IF(IF(H1096>=700,999,(H1096-L1096*J1096))<0,0,IF(H1096>=700,999,(H1096-L1096*J1096)))","v":70.89},{"$f":"_xlfn.IFS(M1096>70,\"Serviceable\",M1096>30, \"Limited Life\",M1096<=30, \"Unserviceable\")","v":"Serviceable"}]
[null,1718,1979,"Wood Untreated Dressed","Serviceable","Class 1",2016,100,93,9,{"$f":"INDEX(Lists!$B$32:$B$40, MATCH(2020-C1097, Lists!$C$32:$C$40,1))","v":"41-50"},{"$f":"SUMPRODUCT((Data!$B$17:$B$19=Model!$F1097)*(Data!$C$16:$K$16=Model!$K1097)*(Data!$C$17:$K$19))","v":1.75},84.25,{"$f":"_xlfn.IFS(M1097>70,\"Serviceable\",M1097>30, \"Limited Life\",M1097<=30, \"Unserviceable\")","v":"Serviceable"}]
[null,1721,1940,"Wood Untreated Dressed","Serviceable","Class 1",2020,90,90,5,{"$f":"INDEX(Lists!$B$32:$B$40, MATCH(2020-C1098, Lists!$C$32:$C$40,1))","v":"71-80"},{"$f":"SUMPRODUCT((Data!$B$17:$B$19=Model!$F1098)*(Data!$C$16:$K$16=Model!$K1098)*(Data!$C$17:$K$19))","v":2.15},79.25,{"$f":"_xlfn.IFS(M1098>70,\"Serviceable\",M1098>30, \"Limited Life\",M1098<=30, \"Unserviceable\")","v":"Serviceable"}]
[null,1722,1974,"Wood Creos Impregnated","Serviceable","Class 1",2016,120,113,9,{"$f":"INDEX(Lists!$B$32:$B$40, MATCH(2020-C1099, Lists!$C$32:$C$40,1))","v":"41-50"},{"$f":"SUMPRODUCT((Data!$B$17:$B$19=Model!$F1099)*(Data!$C$16:$K$16=Model!$K1099)*(Data!$C$17:$K$19))","v":1.75},104.25,{"$f":"_xlfn.IFS(M1099>70,\"Serviceable\",M1099>30, \"Limited Life\",M1099<=30, \"Unserviceable\")","v":"Serviceable"}]
[null,1723,1941,"Wood Untreated Dressed","Serviceable","Class 1",2020,100,100,5,{"$f":"INDEX(Lists!$B$32:$B$40, MATCH(2020-C1100, Lists!$C$32:$C$40,1))","v":"71-80"},{"$f":"SUMPRODUCT((Data!$B$17:$B$19=Model!$F1100)*(Data!$C$16:$K$16=Model!$K1100)*(Data!$C$17:$K$19))","v":2.15},89.25,{"$f":"_xlfn.IFS(M1100>70,\"Serviceable\",M1100>30, \"Limited Life\",M1100<=30, \"Unserviceable\")","v":"Serviceable"}]
[null,1724,1975,"Wood Untreated Dressed","Serviceable","Class 1",2019,110,108.25,6,{"$f":"INDEX(Lists!$B$32:$B$40, MATCH(2020-C1101, Lists!$C$32:$C$40,1))","v":"41-50"},{"$f":"SUMPRODUCT((Data!$B$17:$B$19=Model!$F1101)*(Data!$C$16:$K$16=Model!$K1101)*(Data!$C$17:$K$19))","v":1.75},99.5,{"$f":"_xlfn.IFS(M1101>70,\"Serviceable\",M1101>30, \"Limited Life\",M1101<=30, \"Unserviceable\")","v":"Serviceable"}]
[null,1725,1970,"Wood Creos Impregnated","Serviceable","Class 2",2020,100,100,5,{"$f":"INDEX(Lists!$B$32:$B$40, MATCH(2020-C1102, Lists!$C$32:$C$40,1))","v":"41-50"},{"$f":"SUMPRODUCT((Data!$B$17:$B$19=Model!$F1102)*(Data!$C$16:$K$16=Model!$K1102)*(Data!$C$17:$K$19))","v":3.28},83.6,{"$f":"_xlfn.IFS(M1102>70,\"Serviceable\",M1102>30, \"Limited Life\",M1102<=30, \"Unserviceable\")","v":"Serviceable"}]
[null,1726,1968,"Wood Creos Impregnated","Serviceable","Class 3",2016,100,89.08,9,{"$f":"INDEX(Lists!$B$32:$B$40, MATCH(2020-C1103, Lists!$C$32:$C$40,1))","v":"51-60"},{"$f":"SUMPRODUCT((Data!$B$17:$B$19=Model!$F1103)*(Data!$C$16:$K$16=Model!$K1103)*(Data!$C$17:$K$19))","v":2.73},75.430000000000007,{"$f":"_xlfn.IFS(M1103>70,\"Serviceable\",M1103>30, \"Limited Life\",M1103<=30, \"Unserviceable\")","v":"Serviceable"}]
[null,1727,1935,"Wood Untreated Round","Serviceable","Class 1",2020,90,90,5,{"$f":"INDEX(Lists!$B$32:$B$40, MATCH(2020-C1104, Lists!$C$32:$C$40,1))","v":"81-90"},{"$f":"SUMPRODUCT((Data!$B$17:$B$19=Model!$F1104)*(Data!$C$16:$K$16=Model!$K1104)*(Data!$C$17:$K$19))","v":2.81},75.95,{"$f":"_xlfn.IFS(M1104>70,\"Serviceable\",M1104>30, \"Limited Life\",M1104<=30, \"Unserviceable\")","v":"Serviceable"}]
[null,1728,2006,"CCA Treated Pole","Serviceable","Class 2",2016,160,155.12,9,{"$f":"INDEX(Lists!$B$32:$B$40, MATCH(2020-C1105, Lists!$C$32:$C$40,1))","v":"0-20"},{"$f":"SUMPRODUCT((Data!$B$17:$B$19=Model!$F1105)*(Data!$C$16:$K$16=Model!$K1105)*(Data!$C$17:$K$19))","v":1.22},149.02000000000001,{"$f":"_xlfn.IFS(M1105>70,\"Serviceable\",M1105>30, \"Limited Life\",M1105<=30, \"Unserviceable\")","v":"Serviceable"}]
[null,1731,2005,"CCA Treated Pole","Serviceable","Class 1",2016,160,155.76,9,{"$f":"INDEX(Lists!$B$32:$B$40, MATCH(2020-C1106, Lists!$C$32:$C$40,1))","v":"0-20"},{"$f":"SUMPRODUCT((Data!$B$17:$B$19=Model!$F1106)*(Data!$C$16:$K$16=Model!$K1106)*(Data!$C$17:$K$19))","v":1.06},150.46,{"$f":"_xlfn.IFS(M1106>70,\"Serviceable\",M1106>30, \"Limited Life\",M1106<=30, \"Unserviceable\")","v":"Serviceable"}]
[null,1732,1935,"Wood Untreated Dressed","Serviceable","Class 1",2018,100,94.38,7,{"$f":"INDEX(Lists!$B$32:$B$40, MATCH(2020-C1107, Lists!$C$32:$C$40,1))","v":"81-90"},{"$f":"SUMPRODUCT((Data!$B$17:$B$19=Model!$F1107)*(Data!$C$16:$K$16=Model!$K1107)*(Data!$C$17:$K$19))","v":2.81},80.33,{"$f":"_xlfn.IFS(M1107>70,\"Serviceable\",M1107>30, \"Limited Life\",M1107<=30, \"Unserviceable\")","v":"Serviceable"}]
[null,1733,1937,"Wood Untreated Dressed","Serviceable","Class 1",2016,110,98.76,9,{"$f":"INDEX(Lists!$B$32:$B$40, MATCH(2020-C1108, Lists!$C$32:$C$40,1))","v":"81-90"},{"$f":"SUMPRODUCT((Data!$B$17:$B$19=Model!$F1108)*(Data!$C$16:$K$16=Model!$K1108)*(Data!$C$17:$K$19))","v":2.81},84.710000000000008,{"$f":"_xlfn.IFS(M1108>70,\"Serviceable\",M1108>30, \"Limited Life\",M1108<=30, \"Unserviceable\")","v":"Serviceable"}]
[null,1734,1967,"Wood Creos Impregnated","Serviceable","Class 3",2018,80,74.540000000000006,7,{"$f":"INDEX(Lists!$B$32:$B$40, MATCH(2020-C1109, Lists!$C$32:$C$40,1))","v":"51-60"},{"$f":"SUMPRODUCT((Data!$B$17:$B$19=Model!$F1109)*(Data!$C$16:$K$16=Model!$K1109)*(Data!$C$17:$K$19))","v":2.73},60.89,{"$f":"_xlfn.IFS(M1109>70,\"Serviceable\",M1109>30, \"Limited Life\",M1109<=30, \"Unserviceable\")","v":"Limited Life"}]
[null,1737,2002,"CCA Treated Pole","Serviceable","Class 1",2016,160,155.76,9,{"$f":"INDEX(Lists!$B$32:$B$40, MATCH(2020-C1110, Lists!$C$32:$C$40,1))","v":"0-20"},{"$f":"SUMPRODUCT((Data!$B$17:$B$19=Model!$F1110)*(Data!$C$16:$K$16=Model!$K1110)*(Data!$C$17:$K$19))","v":1.06},150.46,{"$f":"_xlfn.IFS(M1110>70,\"Serviceable\",M1110>30, \"Limited Life\",M1110<=30, \"Unserviceable\")","v":"Serviceable"}]
[null,1738,2010,"CCA Treated Pole","Serviceable","Class 2",2018,90,87.56,7,{"$f":"INDEX(Lists!$B$32:$B$40, MATCH(2020-C1111, Lists!$C$32:$C$40,1))","v":"0-20"},{"$f":"SUMPRODUCT((Data!$B$17:$B$19=Model!$F1111)*(Data!$C$16:$K$16=Model!$K1111)*(Data!$C$17:$K$19))","v":1.22},81.460000000000008,{"$f":"_xlfn.IFS(M1111>70,\"Serviceable\",M1111>30, \"Limited Life\",M1111<=30, \"Unserviceable\")","v":"Serviceable"}]
[null,1739,1947,"Wood Untreated Dressed","Serviceable","Class 1",2018,100,95.7,7,{"$f":"INDEX(Lists!$B$32:$B$40, MATCH(2020-C1112, Lists!$C$32:$C$40,1))","v":"71-80"},{"$f":"SUMPRODUCT((Data!$B$17:$B$19=Model!$F1112)*(Data!$C$16:$K$16=Model!$K1112)*(Data!$C$17:$K$19))","v":2.15},84.95,{"$f":"_xlfn.IFS(M1112>70,\"Serviceable\",M1112>30, \"Limited Life\",M1112<=30, \"Unserviceable\")","v":"Serviceable"}]
[null,1740,1964,"Wood Creos Impregnated","Serviceable","Class 3",2016,120,109.08,9,{"$f":"INDEX(Lists!$B$32:$B$40, MATCH(2020-C1113, Lists!$C$32:$C$40,1))","v":"51-60"},{"$f":"SUMPRODUCT((Data!$B$17:$B$19=Model!$F1113)*(Data!$C$16:$K$16=Model!$K1113)*(Data!$C$17:$K$19))","v":2.73},95.43,{"$f":"_xlfn.IFS(M1113>70,\"Serviceable\",M1113>30, \"Limited Life\",M1113<=30, \"Unserviceable\")","v":"Serviceable"}]
[null,1742,2005,"CCA Treated Pole","Serviceable","Class 2",2018,150,147.56,7,{"$f":"INDEX(Lists!$B$32:$B$40, MATCH(2020-C1114, Lists!$C$32:$C$40,1))","v":"0-20"},{"$f":"SUMPRODUCT((Data!$B$17:$B$19=Model!$F1114)*(Data!$C$16:$K$16=Model!$K1114)*(Data!$C$17:$K$19))","v":1.22},141.46,{"$f":"_xlfn.IFS(M1114>70,\"Serviceable\",M1114>30, \"Limited Life\",M1114<=30, \"Unserviceable\")","v":"Serviceable"}]
[null,1743,1967,"Wood Creos Impregnated","Serviceable","Class 3",2016,90,79.08,9,{"$f":"INDEX(Lists!$B$32:$B$40, MATCH(2020-C1115, Lists!$C$32:$C$40,1))","v":"51-60"},{"$f":"SUMPRODUCT((Data!$B$17:$B$19=Model!$F1115)*(Data!$C$16:$K$16=Model!$K1115)*(Data!$C$17:$K$19))","v":2.73},65.430000000000007,{"$f":"_xlfn.IFS(M1115>70,\"Serviceable\",M1115>30, \"Limited Life\",M1115<=30, \"Unserviceable\")","v":"Limited Life"}]
[null,1744,1985,"Wood Untreated Dressed","Serviceable","Class 1",2020,120,120,5,{"$f":"INDEX(Lists!$B$32:$B$40, MATCH(2020-C1116, Lists!$C$32:$C$40,1))","v":"31-40"},{"$f":"SUMPRODUCT((Data!$B$17:$B$19=Model!$F1116)*(Data!$C$16:$K$16=Model!$K1116)*(Data!$C$17:$K$19))","v":2.52},107.4,{"$f":"_xlfn.IFS(M1116>70,\"Serviceable\",M1116>30, \"Limited Life\",M1116<=30, \"Unserviceable\")","v":"Serviceable"}]
[null,1745,1967,"Wood Creos Impregnated","Limited Life","Class 3",2016,70,59.08,9,{"$f":"INDEX(Lists!$B$32:$B$40, MATCH(2020-C1117, Lists!$C$32:$C$40,1))","v":"51-60"},{"$f":"SUMPRODUCT((Data!$B$17:$B$19=Model!$F1117)*(Data!$C$16:$K$16=Model!$K1117)*(Data!$C$17:$K$19))","v":2.73},45.43,{"$f":"_xlfn.IFS(M1117>70,\"Serviceable\",M1117>30, \"Limited Life\",M1117<=30, \"Unserviceable\")","v":"Limited Life"}]
[null,1747,2007,"CCA Treated Pole","Serviceable","Class 2",2016,160,155.12,9,{"$f":"INDEX(Lists!$B$32:$B$40, MATCH(2020-C1118, Lists!$C$32:$C$40,1))","v":"0-20"},{"$f":"SUMPRODUCT((Data!$B$17:$B$19=Model!$F1118)*(Data!$C$16:$K$16=Model!$K1118)*(Data!$C$17:$K$19))","v":1.22},149.02000000000001,{"$f":"_xlfn.IFS(M1118>70,\"Serviceable\",M1118>30, \"Limited Life\",M1118<=30, \"Unserviceable\")","v":"Serviceable"}]
[null,1748,1939,"Wood Untreated Dressed","Serviceable","Class 1",2020,80,80,5,{"$f":"INDEX(Lists!$B$32:$B$40, MATCH(2020-C1119, Lists!$C$32:$C$40,1))","v":"81-90"},{"$f":"SUMPRODUCT((Data!$B$17:$B$19=Model!$F1119)*(Data!$C$16:$K$16=Model!$K1119)*(Data!$C$17:$K$19))","v":2.81},65.95,{"$f":"_xlfn.IFS(M1119>70,\"Serviceable\",M1119>30, \"Limited Life\",M1119<=30, \"Unserviceable\")","v":"Limited Life"}]
[null,1749,1966,"Wood Creos Impregnated","Serviceable","Class 3",2016,100,89.08,9,{"$f":"INDEX(Lists!$B$32:$B$40, MATCH(2020-C1120, Lists!$C$32:$C$40,1))","v":"51-60"},{"$f":"SUMPRODUCT((Data!$B$17:$B$19=Model!$F1120)*(Data!$C$16:$K$16=Model!$K1120)*(Data!$C$17:$K$19))","v":2.73},75.430000000000007,{"$f":"_xlfn.IFS(M1120>70,\"Serviceable\",M1120>30, \"Limited Life\",M1120<=30, \"Unserviceable\")","v":"Serviceable"}]
[null,1751,1966,"Wood Creos Impregnated","Limited Life","Class 3",2016,70,59.08,9,{"$f":"INDEX(Lists!$B$32:$B$40, MATCH(2020-C1121, Lists!$C$32:$C$40,1))","v":"51-60"},{"$f":"SUMPRODUCT((Data!$B$17:$B$19=Model!$F1121)*(Data!$C$16:$K$16=Model!$K1121)*(Data!$C$17:$K$19))","v":2.73},45.43,{"$f":"_xlfn.IFS(M1121>70,\"Serviceable\",M1121>30, \"Limited Life\",M1121<=30, \"Unserviceable\")","v":"Limited Life"}]
[null,1752,1968,"Wood Creos Impregnated","Serviceable","Class 3",2020,80,80,5,{"$f":"INDEX(Lists!$B$32:$B$40, MATCH(2020-C1122, Lists!$C$32:$C$40,1))","v":"51-60"},{"$f":"SUMPRODUCT((Data!$B$17:$B$19=Model!$F1122)*(Data!$C$16:$K$16=Model!$K1122)*(Data!$C$17:$K$19))","v":2.73},66.349999999999994,{"$f":"_xlfn.IFS(M1122>70,\"Serviceable\",M1122>30, \"Limited Life\",M1122<=30, \"Unserviceable\")","v":"Limited Life"}]
[null,1753,1965,"Wood Creos Impregnated","Serviceable","Class 3",2016,100,89.08,9,{"$f":"INDEX(Lists!$B$32:$B$40, MATCH(2020-C1123, Lists!$C$32:$C$40,1))","v":"51-60"},{"$f":"SUMPRODUCT((Data!$B$17:$B$19=Model!$F1123)*(Data!$C$16:$K$16=Model!$K1123)*(Data!$C$17:$K$19))","v":2.73},75.430000000000007,{"$f":"_xlfn.IFS(M1123>70,\"Serviceable\",M1123>30, \"Limited Life\",M1123<=30, \"Unserviceable\")","v":"Serviceable"}]
[null,1754,1937,"Wood Untreated Dressed","Serviceable","Class 1",2020,110,110,5,{"$f":"INDEX(Lists!$B$32:$B$40, MATCH(2020-C1124, Lists!$C$32:$C$40,1))","v":"81-90"},{"$f":"SUMPRODUCT((Data!$B$17:$B$19=Model!$F1124)*(Data!$C$16:$K$16=Model!$K1124)*(Data!$C$17:$K$19))","v":2.81},95.95,{"$f":"_xlfn.IFS(M1124>70,\"Serviceable\",M1124>30, \"Limited Life\",M1124<=30, \"Unserviceable\")","v":"Serviceable"}]
[null,1755,1989,"Wood Untreated Dressed","Serviceable","Class 1",2016,130,119.92,9,{"$f":"INDEX(Lists!$B$32:$B$40, MATCH(2020-C1125, Lists!$C$32:$C$40,1))","v":"31-40"},{"$f":"SUMPRODUCT((Data!$B$17:$B$19=Model!$F1125)*(Data!$C$16:$K$16=Model!$K1125)*(Data!$C$17:$K$19))","v":2.52},107.32,{"$f":"_xlfn.IFS(M1125>70,\"Serviceable\",M1125>30, \"Limited Life\",M1125<=30, \"Unserviceable\")","v":"Serviceable"}]
[null,1756,1933,"Wood Untreated Dressed","Serviceable","Class 1",2018,100,94.38,7,{"$f":"INDEX(Lists!$B$32:$B$40, MATCH(2020-C1126, Lists!$C$32:$C$40,1))","v":"81-90"},{"$f":"SUMPRODUCT((Data!$B$17:$B$19=Model!$F1126)*(Data!$C$16:$K$16=Model!$K1126)*(Data!$C$17:$K$19))","v":2.81},80.33,{"$f":"_xlfn.IFS(M1126>70,\"Serviceable\",M1126>30, \"Limited Life\",M1126<=30, \"Unserviceable\")","v":"Serviceable"}]
[null,1757,1957,"Wood Untreated Round","Serviceable","Class 2",2016,100,91.08,9,{"$f":"INDEX(Lists!$B$32:$B$40, MATCH(2020-C1127, Lists!$C$32:$C$40,1))","v":"61-70"},{"$f":"SUMPRODUCT((Data!$B$17:$B$19=Model!$F1127)*(Data!$C$16:$K$16=Model!$K1127)*(Data!$C$17:$K$19))","v":2.23},79.930000000000007,{"$f":"_xlfn.IFS(M1127>70,\"Serviceable\",M1127>30, \"Limited Life\",M1127<=30, \"Unserviceable\")","v":"Serviceable"}]
[null,1758,1933,"Wood Untreated Dressed","Serviceable","Class 1",2018,100,94.38,7,{"$f":"INDEX(Lists!$B$32:$B$40, MATCH(2020-C1128, Lists!$C$32:$C$40,1))","v":"81-90"},{"$f":"SUMPRODUCT((Data!$B$17:$B$19=Model!$F1128)*(Data!$C$16:$K$16=Model!$K1128)*(Data!$C$17:$K$19))","v":2.81},80.33,{"$f":"_xlfn.IFS(M1128>70,\"Serviceable\",M1128>30, \"Limited Life\",M1128<=30, \"Unserviceable\")","v":"Serviceable"}]
[null,1759,1957,"Wood Untreated Round","Serviceable","Class 1",2016,100,91.88,9,{"$f":"INDEX(Lists!$B$32:$B$40, MATCH(2020-C1129, Lists!$C$32:$C$40,1))","v":"61-70"},{"$f":"SUMPRODUCT((Data!$B$17:$B$19=Model!$F1129)*(Data!$C$16:$K$16=Model!$K1129)*(Data!$C$17:$K$19))","v":2.0299999999999998},81.73,{"$f":"_xlfn.IFS(M1129>70,\"Serviceable\",M1129>30, \"Limited Life\",M1129<=30, \"Unserviceable\")","v":"Serviceable"}]
[null,1760,1990,"Wood Untreated Dressed","Serviceable","Class 1",2018,100,96.08,7,{"$f":"INDEX(Lists!$B$32:$B$40, MATCH(2020-C1130, Lists!$C$32:$C$40,1))","v":"21-30"},{"$f":"SUMPRODUCT((Data!$B$17:$B$19=Model!$F1130)*(Data!$C$16:$K$16=Model!$K1130)*(Data!$C$17:$K$19))","v":1.96},86.28,{"$f":"_xlfn.IFS(M1130>70,\"Serviceable\",M1130>30, \"Limited Life\",M1130<=30, \"Unserviceable\")","v":"Serviceable"}]
[null,1762,1933,"Wood Untreated Dressed","Serviceable","Class 1",2018,100,94.38,7,{"$f":"INDEX(Lists!$B$32:$B$40, MATCH(2020-C1131, Lists!$C$32:$C$40,1))","v":"81-90"},{"$f":"SUMPRODUCT((Data!$B$17:$B$19=Model!$F1131)*(Data!$C$16:$K$16=Model!$K1131)*(Data!$C$17:$K$19))","v":2.81},80.33,{"$f":"_xlfn.IFS(M1131>70,\"Serviceable\",M1131>30, \"Limited Life\",M1131<=30, \"Unserviceable\")","v":"Serviceable"}]
[null,1764,1997,"CCA Treated Pole","Serviceable","Class 2",2018,100,96.22,7,{"$f":"INDEX(Lists!$B$32:$B$40, MATCH(2020-C1132, Lists!$C$32:$C$40,1))","v":"21-30"},{"$f":"SUMPRODUCT((Data!$B$17:$B$19=Model!$F1132)*(Data!$C$16:$K$16=Model!$K1132)*(Data!$C$17:$K$19))","v":1.89},86.77,{"$f":"_xlfn.IFS(M1132>70,\"Serviceable\",M1132>30, \"Limited Life\",M1132<=30, \"Unserviceable\")","v":"Serviceable"}]
[null,1766,1984,"Wood Untreated Dressed","Serviceable","Class 1",2018,100,94.96,7,{"$f":"INDEX(Lists!$B$32:$B$40, MATCH(2020-C1133, Lists!$C$32:$C$40,1))","v":"31-40"},{"$f":"SUMPRODUCT((Data!$B$17:$B$19=Model!$F1133)*(Data!$C$16:$K$16=Model!$K1133)*(Data!$C$17:$K$19))","v":2.52},82.36,{"$f":"_xlfn.IFS(M1133>70,\"Serviceable\",M1133>30, \"Limited Life\",M1133<=30, \"Unserviceable\")","v":"Serviceable"}]
[null,1768,1967,"Wood Creos Impregnated","Serviceable","Class 3",2018,90,84.54,7,{"$f":"INDEX(Lists!$B$32:$B$40, MATCH(2020-C1134, Lists!$C$32:$C$40,1))","v":"51-60"},{"$f":"SUMPRODUCT((Data!$B$17:$B$19=Model!$F1134)*(Data!$C$16:$K$16=Model!$K1134)*(Data!$C$17:$K$19))","v":2.73},70.89,{"$f":"_xlfn.IFS(M1134>70,\"Serviceable\",M1134>30, \"Limited Life\",M1134<=30, \"Unserviceable\")","v":"Serviceable"}]
[null,1769,1976,"Wood Untreated Dressed","Serviceable","Class 1",2016,100,93,9,{"$f":"INDEX(Lists!$B$32:$B$40, MATCH(2020-C1135, Lists!$C$32:$C$40,1))","v":"41-50"},{"$f":"SUMPRODUCT((Data!$B$17:$B$19=Model!$F1135)*(Data!$C$16:$K$16=Model!$K1135)*(Data!$C$17:$K$19))","v":1.75},84.25,{"$f":"_xlfn.IFS(M1135>70,\"Serviceable\",M1135>30, \"Limited Life\",M1135<=30, \"Unserviceable\")","v":"Serviceable"}]
[null,1771,1957,"Wood Untreated Round","Serviceable","Class 1",2016,100,91.88,9,{"$f":"INDEX(Lists!$B$32:$B$40, MATCH(2020-C1136, Lists!$C$32:$C$40,1))","v":"61-70"},{"$f":"SUMPRODUCT((Data!$B$17:$B$19=Model!$F1136)*(Data!$C$16:$K$16=Model!$K1136)*(Data!$C$17:$K$19))","v":2.0299999999999998},81.73,{"$f":"_xlfn.IFS(M1136>70,\"Serviceable\",M1136>30, \"Limited Life\",M1136<=30, \"Unserviceable\")","v":"Serviceable"}]
[null,1772,1961,"Wood Creos Impregnated","Limited Life","Class 3",2018,70,64.540000000000006,7,{"$f":"INDEX(Lists!$B$32:$B$40, MATCH(2020-C1137, Lists!$C$32:$C$40,1))","v":"51-60"},{"$f":"SUMPRODUCT((Data!$B$17:$B$19=Model!$F1137)*(Data!$C$16:$K$16=Model!$K1137)*(Data!$C$17:$K$19))","v":2.73},50.89,{"$f":"_xlfn.IFS(M1137>70,\"Serviceable\",M1137>30, \"Limited Life\",M1137<=30, \"Unserviceable\")","v":"Limited Life"}]
[null,1773,2007,"CCA Treated Pole","Serviceable","Class 2",2017,100,96.34,8,{"$f":"INDEX(Lists!$B$32:$B$40, MATCH(2020-C1138, Lists!$C$32:$C$40,1))","v":"0-20"},{"$f":"SUMPRODUCT((Data!$B$17:$B$19=Model!$F1138)*(Data!$C$16:$K$16=Model!$K1138)*(Data!$C$17:$K$19))","v":1.22},90.24,{"$f":"_xlfn.IFS(M1138>70,\"Serviceable\",M1138>30, \"Limited Life\",M1138<=30, \"Unserviceable\")","v":"Serviceable"}]
[null,1775,1997,"CCA Treated Pole","Serviceable","Class 1",2016,150,142.16,9,{"$f":"INDEX(Lists!$B$32:$B$40, MATCH(2020-C1139, Lists!$C$32:$C$40,1))","v":"21-30"},{"$f":"SUMPRODUCT((Data!$B$17:$B$19=Model!$F1139)*(Data!$C$16:$K$16=Model!$K1139)*(Data!$C$17:$K$19))","v":1.96},132.36000000000001,{"$f":"_xlfn.IFS(M1139>70,\"Serviceable\",M1139>30, \"Limited Life\",M1139<=30, \"Unserviceable\")","v":"Serviceable"}]
[null,1776,1946,"Wood Untreated Dressed","Serviceable","Class 1",2020,80,80,5,{"$f":"INDEX(Lists!$B$32:$B$40, MATCH(2020-C1140, Lists!$C$32:$C$40,1))","v":"71-80"},{"$f":"SUMPRODUCT((Data!$B$17:$B$19=Model!$F1140)*(Data!$C$16:$K$16=Model!$K1140)*(Data!$C$17:$K$19))","v":2.15},69.25,{"$f":"_xlfn.IFS(M1140>70,\"Serviceable\",M1140>30, \"Limited Life\",M1140<=30, \"Unserviceable\")","v":"Limited Life"}]
[null,1778,1960,"Wood Untreated Round","Limited Life","Class 3",2016,80,69.08,9,{"$f":"INDEX(Lists!$B$32:$B$40, MATCH(2020-C1141, Lists!$C$32:$C$40,1))","v":"51-60"},{"$f":"SUMPRODUCT((Data!$B$17:$B$19=Model!$F1141)*(Data!$C$16:$K$16=Model!$K1141)*(Data!$C$17:$K$19))","v":2.73},55.43,{"$f":"_xlfn.IFS(M1141>70,\"Serviceable\",M1141>30, \"Limited Life\",M1141<=30, \"Unserviceable\")","v":"Limited Life"}]
[null,1779,1966,"Wood Creos Impregnated","Serviceable","Class 3",2018,90,84.54,7,{"$f":"INDEX(Lists!$B$32:$B$40, MATCH(2020-C1142, Lists!$C$32:$C$40,1))","v":"51-60"},{"$f":"SUMPRODUCT((Data!$B$17:$B$19=Model!$F1142)*(Data!$C$16:$K$16=Model!$K1142)*(Data!$C$17:$K$19))","v":2.73},70.89,{"$f":"_xlfn.IFS(M1142>70,\"Serviceable\",M1142>30, \"Limited Life\",M1142<=30, \"Unserviceable\")","v":"Serviceable"}]
[null,1780,1934,"Wood Untreated Dressed","Serviceable","Class 1",2016,90,78.760000000000005,9,{"$f":"INDEX(Lists!$B$32:$B$40, MATCH(2020-C1143, Lists!$C$32:$C$40,1))","v":"81-90"},{"$f":"SUMPRODUCT((Data!$B$17:$B$19=Model!$F1143)*(Data!$C$16:$K$16=Model!$K1143)*(Data!$C$17:$K$19))","v":2.81},64.710000000000008,{"$f":"_xlfn.IFS(M1143>70,\"Serviceable\",M1143>30, \"Limited Life\",M1143<=30, \"Unserviceable\")","v":"Limited Life"}]
[null,1782,1988,"Wood Untreated Dressed","Serviceable","Class 1",2016,100,89.92,9,{"$f":"INDEX(Lists!$B$32:$B$40, MATCH(2020-C1144, Lists!$C$32:$C$40,1))","v":"31-40"},{"$f":"SUMPRODUCT((Data!$B$17:$B$19=Model!$F1144)*(Data!$C$16:$K$16=Model!$K1144)*(Data!$C$17:$K$19))","v":2.52},77.319999999999993,{"$f":"_xlfn.IFS(M1144>70,\"Serviceable\",M1144>30, \"Limited Life\",M1144<=30, \"Unserviceable\")","v":"Serviceable"}]
[null,1784,1979,"Wood Untreated Dressed","Serviceable","Class 1",2017,130,124.75,8,{"$f":"INDEX(Lists!$B$32:$B$40, MATCH(2020-C1145, Lists!$C$32:$C$40,1))","v":"41-50"},{"$f":"SUMPRODUCT((Data!$B$17:$B$19=Model!$F1145)*(Data!$C$16:$K$16=Model!$K1145)*(Data!$C$17:$K$19))","v":1.75},116,{"$f":"_xlfn.IFS(M1145>70,\"Serviceable\",M1145>30, \"Limited Life\",M1145<=30, \"Unserviceable\")","v":"Serviceable"}]
[null,1788,1980,"Wood Untreated Dressed","Serviceable","Class 1",2017,130,122.44,8,{"$f":"INDEX(Lists!$B$32:$B$40, MATCH(2020-C1146, Lists!$C$32:$C$40,1))","v":"31-40"},{"$f":"SUMPRODUCT((Data!$B$17:$B$19=Model!$F1146)*(Data!$C$16:$K$16=Model!$K1146)*(Data!$C$17:$K$19))","v":2.52},109.84,{"$f":"_xlfn.IFS(M1146>70,\"Serviceable\",M1146>30, \"Limited Life\",M1146<=30, \"Unserviceable\")","v":"Serviceable"}]
[null,1789,1976,"Wood Untreated Dressed","Serviceable","Class 1",2020,110,110,5,{"$f":"INDEX(Lists!$B$32:$B$40, MATCH(2020-C1147, Lists!$C$32:$C$40,1))","v":"41-50"},{"$f":"SUMPRODUCT((Data!$B$17:$B$19=Model!$F1147)*(Data!$C$16:$K$16=Model!$K1147)*(Data!$C$17:$K$19))","v":1.75},101.25,{"$f":"_xlfn.IFS(M1147>70,\"Serviceable\",M1147>30, \"Limited Life\",M1147<=30, \"Unserviceable\")","v":"Serviceable"}]
[null,1790,1962,"Wood Creos Impregnated","Limited Life","Class 3",2016,50,39.08,9,{"$f":"INDEX(Lists!$B$32:$B$40, MATCH(2020-C1148, Lists!$C$32:$C$40,1))","v":"51-60"},{"$f":"SUMPRODUCT((Data!$B$17:$B$19=Model!$F1148)*(Data!$C$16:$K$16=Model!$K1148)*(Data!$C$17:$K$19))","v":2.73},25.43,{"$f":"_xlfn.IFS(M1148>70,\"Serviceable\",M1148>30, \"Limited Life\",M1148<=30, \"Unserviceable\")","v":"Unserviceable"}]
[null,1791,1976,"Wood Creos Impregnated","Serviceable","Class 3",2016,120,104.88,9,{"$f":"INDEX(Lists!$B$32:$B$40, MATCH(2020-C1149, Lists!$C$32:$C$40,1))","v":"41-50"},{"$f":"SUMPRODUCT((Data!$B$17:$B$19=Model!$F1149)*(Data!$C$16:$K$16=Model!$K1149)*(Data!$C$17:$K$19))","v":3.78},85.98,{"$f":"_xlfn.IFS(M1149>70,\"Serviceable\",M1149>30, \"Limited Life\",M1149<=30, \"Unserviceable\")","v":"Serviceable"}]
[null,1792,1983,"Wood Untreated Dressed","Serviceable","Class 1",2018,130,124.96,7,{"$f":"INDEX(Lists!$B$32:$B$40, MATCH(2020-C1150, Lists!$C$32:$C$40,1))","v":"31-40"},{"$f":"SUMPRODUCT((Data!$B$17:$B$19=Model!$F1150)*(Data!$C$16:$K$16=Model!$K1150)*(Data!$C$17:$K$19))","v":2.52},112.36,{"$f":"_xlfn.IFS(M1150>70,\"Serviceable\",M1150>30, \"Limited Life\",M1150<=30, \"Unserviceable\")","v":"Serviceable"}]
[null,1793,1984,"Wood Untreated Dressed","Serviceable","Class 1",2016,150,139.91999999999999,9,{"$f":"INDEX(Lists!$B$32:$B$40, MATCH(2020-C1151, Lists!$C$32:$C$40,1))","v":"31-40"},{"$f":"SUMPRODUCT((Data!$B$17:$B$19=Model!$F1151)*(Data!$C$16:$K$16=Model!$K1151)*(Data!$C$17:$K$19))","v":2.52},127.32,{"$f":"_xlfn.IFS(M1151>70,\"Serviceable\",M1151>30, \"Limited Life\",M1151<=30, \"Unserviceable\")","v":"Serviceable"}]
[null,1794,2000,"CCA Treated Pole","Serviceable","Class 2",2016,150,145.12,9,{"$f":"INDEX(Lists!$B$32:$B$40, MATCH(2020-C1152, Lists!$C$32:$C$40,1))","v":"0-20"},{"$f":"SUMPRODUCT((Data!$B$17:$B$19=Model!$F1152)*(Data!$C$16:$K$16=Model!$K1152)*(Data!$C$17:$K$19))","v":1.22},139.02000000000001,{"$f":"_xlfn.IFS(M1152>70,\"Serviceable\",M1152>30, \"Limited Life\",M1152<=30, \"Unserviceable\")","v":"Serviceable"}]
[null,1795,1980,"Wood Untreated Dressed","Serviceable","Class 1",2018,120,114.96,7,{"$f":"INDEX(Lists!$B$32:$B$40, MATCH(2020-C1153, Lists!$C$32:$C$40,1))","v":"31-40"},{"$f":"SUMPRODUCT((Data!$B$17:$B$19=Model!$F1153)*(Data!$C$16:$K$16=Model!$K1153)*(Data!$C$17:$K$19))","v":2.52},102.36,{"$f":"_xlfn.IFS(M1153>70,\"Serviceable\",M1153>30, \"Limited Life\",M1153<=30, \"Unserviceable\")","v":"Serviceable"}]
[null,1796,1974,"Wood Creos Impregnated","Serviceable","Class 1",2016,140,133,9,{"$f":"INDEX(Lists!$B$32:$B$40, MATCH(2020-C1154, Lists!$C$32:$C$40,1))","v":"41-50"},{"$f":"SUMPRODUCT((Data!$B$17:$B$19=Model!$F1154)*(Data!$C$16:$K$16=Model!$K1154)*(Data!$C$17:$K$19))","v":1.75},124.25,{"$f":"_xlfn.IFS(M1154>70,\"Serviceable\",M1154>30, \"Limited Life\",M1154<=30, \"Unserviceable\")","v":"Serviceable"}]
[null,1797,1984,"Wood Untreated Dressed","Serviceable","Class 1",2018,120,114.96,7,{"$f":"INDEX(Lists!$B$32:$B$40, MATCH(2020-C1155, Lists!$C$32:$C$40,1))","v":"31-40"},{"$f":"SUMPRODUCT((Data!$B$17:$B$19=Model!$F1155)*(Data!$C$16:$K$16=Model!$K1155)*(Data!$C$17:$K$19))","v":2.52},102.36,{"$f":"_xlfn.IFS(M1155>70,\"Serviceable\",M1155>30, \"Limited Life\",M1155<=30, \"Unserviceable\")","v":"Serviceable"}]
[null,1798,1984,"Wood Untreated Dressed","Serviceable","Class 1",2018,140,134.96,7,{"$f":"INDEX(Lists!$B$32:$B$40, MATCH(2020-C1156, Lists!$C$32:$C$40,1))","v":"31-40"},{"$f":"SUMPRODUCT((Data!$B$17:$B$19=Model!$F1156)*(Data!$C$16:$K$16=Model!$K1156)*(Data!$C$17:$K$19))","v":2.52},122.36,{"$f":"_xlfn.IFS(M1156>70,\"Serviceable\",M1156>30, \"Limited Life\",M1156<=30, \"Unserviceable\")","v":"Serviceable"}]
[null,1801,1977,"Wood Untreated Dressed","Serviceable","Class 1",2016,100,93,9,{"$f":"INDEX(Lists!$B$32:$B$40, MATCH(2020-C1157, Lists!$C$32:$C$40,1))","v":"41-50"},{"$f":"SUMPRODUCT((Data!$B$17:$B$19=Model!$F1157)*(Data!$C$16:$K$16=Model!$K1157)*(Data!$C$17:$K$19))","v":1.75},84.25,{"$f":"_xlfn.IFS(M1157>70,\"Serviceable\",M1157>30, \"Limited Life\",M1157<=30, \"Unserviceable\")","v":"Serviceable"}]
[null,1802,1954,"Wood Untreated Round","Serviceable","Class 1",2018,100,95.94,7,{"$f":"INDEX(Lists!$B$32:$B$40, MATCH(2020-C1158, Lists!$C$32:$C$40,1))","v":"61-70"},{"$f":"SUMPRODUCT((Data!$B$17:$B$19=Model!$F1158)*(Data!$C$16:$K$16=Model!$K1158)*(Data!$C$17:$K$19))","v":2.0299999999999998},85.79,{"$f":"_xlfn.IFS(M1158>70,\"Serviceable\",M1158>30, \"Limited Life\",M1158<=30, \"Unserviceable\")","v":"Serviceable"}]
[null,1804,2006,"CCA Treated Pole","Serviceable","Class 1",2018,150,147.88,7,{"$f":"INDEX(Lists!$B$32:$B$40, MATCH(2020-C1159, Lists!$C$32:$C$40,1))","v":"0-20"},{"$f":"SUMPRODUCT((Data!$B$17:$B$19=Model!$F1159)*(Data!$C$16:$K$16=Model!$K1159)*(Data!$C$17:$K$19))","v":1.06},142.58000000000001,{"$f":"_xlfn.IFS(M1159>70,\"Serviceable\",M1159>30, \"Limited Life\",M1159<=30, \"Unserviceable\")","v":"Serviceable"}]
[null,1806,1954,"Wood Untreated Round","Serviceable","Class 1",2018,100,95.94,{"$f":"2025-G1160","v":7},{"$f":"INDEX(Lists!$B$32:$B$40, MATCH(2020-C1160, Lists!$C$32:$C$40,1))","v":"61-70"},{"$f":"SUMPRODUCT((Data!$B$17:$B$19=Model!$F1160)*(Data!$C$16:$K$16=Model!$K1160)*(Data!$C$17:$K$19))","v":2.0299999999999998},{"$f":"IF(IF(H1160>=700,999,(H1160-L1160*J1160))<0,0,IF(H1160>=700,999,(H1160-L1160*J1160)))","v":85.79},{"$f":"_xlfn.IFS(M1160>70,\"Serviceable\",M1160>30, \"Limited Life\",M1160<=30, \"Unserviceable\")","v":"Serviceable"}]
[null,1807,1983,"Wood Untreated Dressed","Serviceable","Class 1",2018,130,124.96,7,{"$f":"INDEX(Lists!$B$32:$B$40, MATCH(2020-C1161, Lists!$C$32:$C$40,1))","v":"31-40"},{"$f":"SUMPRODUCT((Data!$B$17:$B$19=Model!$F1161)*(Data!$C$16:$K$16=Model!$K1161)*(Data!$C$17:$K$19))","v":2.52},112.36,{"$f":"_xlfn.IFS(M1161>70,\"Serviceable\",M1161>30, \"Limited Life\",M1161<=30, \"Unserviceable\")","v":"Serviceable"}]
[null,1808,1979,"Wood Untreated Dressed","Serviceable","Class 1",2016,150,143,9,{"$f":"INDEX(Lists!$B$32:$B$40, MATCH(2020-C1162, Lists!$C$32:$C$40,1))","v":"41-50"},{"$f":"SUMPRODUCT((Data!$B$17:$B$19=Model!$F1162)*(Data!$C$16:$K$16=Model!$K1162)*(Data!$C$17:$K$19))","v":1.75},134.25,{"$f":"_xlfn.IFS(M1162>70,\"Serviceable\",M1162>30, \"Limited Life\",M1162<=30, \"Unserviceable\")","v":"Serviceable"}]
[null,1810,1967,"Wood Creos Impregnated","Serviceable","Class 3",2018,100,94.54,7,{"$f":"INDEX(Lists!$B$32:$B$40, MATCH(2020-C1163, Lists!$C$32:$C$40,1))","v":"51-60"},{"$f":"SUMPRODUCT((Data!$B$17:$B$19=Model!$F1163)*(Data!$C$16:$K$16=Model!$K1163)*(Data!$C$17:$K$19))","v":2.73},80.89,{"$f":"_xlfn.IFS(M1163>70,\"Serviceable\",M1163>30, \"Limited Life\",M1163<=30, \"Unserviceable\")","v":"Serviceable"}]
[null,1811,1995,"Wood Untreated Dressed","Serviceable","Class 1",2020,120,120,5,{"$f":"INDEX(Lists!$B$32:$B$40, MATCH(2020-C1164, Lists!$C$32:$C$40,1))","v":"21-30"},{"$f":"SUMPRODUCT((Data!$B$17:$B$19=Model!$F1164)*(Data!$C$16:$K$16=Model!$K1164)*(Data!$C$17:$K$19))","v":1.96},110.2,{"$f":"_xlfn.IFS(M1164>70,\"Serviceable\",M1164>30, \"Limited Life\",M1164<=30, \"Unserviceable\")","v":"Serviceable"}]
[null,1812,1997,"CCA Treated Pole","Serviceable","Class 1",2016,150,142.16,9,{"$f":"INDEX(Lists!$B$32:$B$40, MATCH(2020-C1165, Lists!$C$32:$C$40,1))","v":"21-30"},{"$f":"SUMPRODUCT((Data!$B$17:$B$19=Model!$F1165)*(Data!$C$16:$K$16=Model!$K1165)*(Data!$C$17:$K$19))","v":1.96},132.36000000000001,{"$f":"_xlfn.IFS(M1165>70,\"Serviceable\",M1165>30, \"Limited Life\",M1165<=30, \"Unserviceable\")","v":"Serviceable"}]
[null,1814,1997,"CCA Treated Pole","Serviceable","Class 1",2016,140,132.16,9,{"$f":"INDEX(Lists!$B$32:$B$40, MATCH(2020-C1166, Lists!$C$32:$C$40,1))","v":"21-30"},{"$f":"SUMPRODUCT((Data!$B$17:$B$19=Model!$F1166)*(Data!$C$16:$K$16=Model!$K1166)*(Data!$C$17:$K$19))","v":1.96},122.36,{"$f":"_xlfn.IFS(M1166>70,\"Serviceable\",M1166>30, \"Limited Life\",M1166<=30, \"Unserviceable\")","v":"Serviceable"}]
[null,1816,1982,"Wood Untreated Dressed","Serviceable","Class 1",2016,100,89.92,9,{"$f":"INDEX(Lists!$B$32:$B$40, MATCH(2020-C1167, Lists!$C$32:$C$40,1))","v":"31-40"},{"$f":"SUMPRODUCT((Data!$B$17:$B$19=Model!$F1167)*(Data!$C$16:$K$16=Model!$K1167)*(Data!$C$17:$K$19))","v":2.52},77.319999999999993,{"$f":"_xlfn.IFS(M1167>70,\"Serviceable\",M1167>30, \"Limited Life\",M1167<=30, \"Unserviceable\")","v":"Serviceable"}]
[null,1825,2004,"CCA Treated Pole","Serviceable","Class 2",2018,150,147.56,7,{"$f":"INDEX(Lists!$B$32:$B$40, MATCH(2020-C1168, Lists!$C$32:$C$40,1))","v":"0-20"},{"$f":"SUMPRODUCT((Data!$B$17:$B$19=Model!$F1168)*(Data!$C$16:$K$16=Model!$K1168)*(Data!$C$17:$K$19))","v":1.22},141.46,{"$f":"_xlfn.IFS(M1168>70,\"Serviceable\",M1168>30, \"Limited Life\",M1168<=30, \"Unserviceable\")","v":"Serviceable"}]
[null,1827,1941,"Wood Untreated Dressed","Serviceable","Class 1",2018,100,95.7,7,{"$f":"INDEX(Lists!$B$32:$B$40, MATCH(2020-C1169, Lists!$C$32:$C$40,1))","v":"71-80"},{"$f":"SUMPRODUCT((Data!$B$17:$B$19=Model!$F1169)*(Data!$C$16:$K$16=Model!$K1169)*(Data!$C$17:$K$19))","v":2.15},84.95,{"$f":"_xlfn.IFS(M1169>70,\"Serviceable\",M1169>30, \"Limited Life\",M1169<=30, \"Unserviceable\")","v":"Serviceable"}]
[null,1829,1978,"Wood Untreated Dressed","Serviceable","Class 1",2020,130,130,5,{"$f":"INDEX(Lists!$B$32:$B$40, MATCH(2020-C1170, Lists!$C$32:$C$40,1))","v":"41-50"},{"$f":"SUMPRODUCT((Data!$B$17:$B$19=Model!$F1170)*(Data!$C$16:$K$16=Model!$K1170)*(Data!$C$17:$K$19))","v":1.75},121.25,{"$f":"_xlfn.IFS(M1170>70,\"Serviceable\",M1170>30, \"Limited Life\",M1170<=30, \"Unserviceable\")","v":"Serviceable"}]
[null,1832,1998,"CCA Treated Pole","Serviceable","Class 2",2017,162.49719689682513,156.82719689682514,8,{"$f":"INDEX(Lists!$B$32:$B$40, MATCH(2020-C1171, Lists!$C$32:$C$40,1))","v":"21-30"},{"$f":"SUMPRODUCT((Data!$B$17:$B$19=Model!$F1171)*(Data!$C$16:$K$16=Model!$K1171)*(Data!$C$17:$K$19))","v":1.89},147.37719689682513,{"$f":"_xlfn.IFS(M1171>70,\"Serviceable\",M1171>30, \"Limited Life\",M1171<=30, \"Unserviceable\")","v":"Serviceable"}]
[null,1837,1985,"Wood Untreated Dressed","Serviceable","Class 1",2018,120,114.96,7,{"$f":"INDEX(Lists!$B$32:$B$40, MATCH(2020-C1172, Lists!$C$32:$C$40,1))","v":"31-40"},{"$f":"SUMPRODUCT((Data!$B$17:$B$19=Model!$F1172)*(Data!$C$16:$K$16=Model!$K1172)*(Data!$C$17:$K$19))","v":2.52},102.36,{"$f":"_xlfn.IFS(M1172>70,\"Serviceable\",M1172>30, \"Limited Life\",M1172<=30, \"Unserviceable\")","v":"Serviceable"}]
[null,1838,1958,"Wood Creos Impregnated","Serviceable","Class 2",2017,100,93.31,8,{"$f":"INDEX(Lists!$B$32:$B$40, MATCH(2020-C1173, Lists!$C$32:$C$40,1))","v":"61-70"},{"$f":"SUMPRODUCT((Data!$B$17:$B$19=Model!$F1173)*(Data!$C$16:$K$16=Model!$K1173)*(Data!$C$17:$K$19))","v":2.23},82.16,{"$f":"_xlfn.IFS(M1173>70,\"Serviceable\",M1173>30, \"Limited Life\",M1173<=30, \"Unserviceable\")","v":"Serviceable"}]
[null,1839,1940,"Wood Untreated Dressed","Serviceable","Class 1",2018,110,105.7,7,{"$f":"INDEX(Lists!$B$32:$B$40, MATCH(2020-C1174, Lists!$C$32:$C$40,1))","v":"71-80"},{"$f":"SUMPRODUCT((Data!$B$17:$B$19=Model!$F1174)*(Data!$C$16:$K$16=Model!$K1174)*(Data!$C$17:$K$19))","v":2.15},94.95,{"$f":"_xlfn.IFS(M1174>70,\"Serviceable\",M1174>30, \"Limited Life\",M1174<=30, \"Unserviceable\")","v":"Serviceable"}]
[null,1840,1983,"Wood Untreated Dressed","Serviceable","Class 1",2017,100,92.44,8,{"$f":"INDEX(Lists!$B$32:$B$40, MATCH(2020-C1175, Lists!$C$32:$C$40,1))","v":"31-40"},{"$f":"SUMPRODUCT((Data!$B$17:$B$19=Model!$F1175)*(Data!$C$16:$K$16=Model!$K1175)*(Data!$C$17:$K$19))","v":2.52},79.84,{"$f":"_xlfn.IFS(M1175>70,\"Serviceable\",M1175>30, \"Limited Life\",M1175<=30, \"Unserviceable\")","v":"Serviceable"}]
[null,1841,1938,"Wood Untreated Dressed","Serviceable","Class 1",2018,100,94.38,7,{"$f":"INDEX(Lists!$B$32:$B$40, MATCH(2020-C1176, Lists!$C$32:$C$40,1))","v":"81-90"},{"$f":"SUMPRODUCT((Data!$B$17:$B$19=Model!$F1176)*(Data!$C$16:$K$16=Model!$K1176)*(Data!$C$17:$K$19))","v":2.81},80.33,{"$f":"_xlfn.IFS(M1176>70,\"Serviceable\",M1176>30, \"Limited Life\",M1176<=30, \"Unserviceable\")","v":"Serviceable"}]
[null,1842,2002,"CCA Treated Pole","Serviceable","Class 1",2016,166.31691553103065,162.07691553103064,9,{"$f":"INDEX(Lists!$B$32:$B$40, MATCH(2020-C1177, Lists!$C$32:$C$40,1))","v":"0-20"},{"$f":"SUMPRODUCT((Data!$B$17:$B$19=Model!$F1177)*(Data!$C$16:$K$16=Model!$K1177)*(Data!$C$17:$K$19))","v":1.06},156.77691553103065,{"$f":"_xlfn.IFS(M1177>70,\"Serviceable\",M1177>30, \"Limited Life\",M1177<=30, \"Unserviceable\")","v":"Serviceable"}]
[null,1843,1971,"Wood Creos Impregnated","Serviceable","Class 1",2018,90,86.5,7,{"$f":"INDEX(Lists!$B$32:$B$40, MATCH(2020-C1178, Lists!$C$32:$C$40,1))","v":"41-50"},{"$f":"SUMPRODUCT((Data!$B$17:$B$19=Model!$F1178)*(Data!$C$16:$K$16=Model!$K1178)*(Data!$C$17:$K$19))","v":1.75},77.75,{"$f":"_xlfn.IFS(M1178>70,\"Serviceable\",M1178>30, \"Limited Life\",M1178<=30, \"Unserviceable\")","v":"Serviceable"}]
[null,1844,1963,"Wood Creos Impregnated","Limited Life","Class 3",2016,80,69.08,9,{"$f":"INDEX(Lists!$B$32:$B$40, MATCH(2020-C1179, Lists!$C$32:$C$40,1))","v":"51-60"},{"$f":"SUMPRODUCT((Data!$B$17:$B$19=Model!$F1179)*(Data!$C$16:$K$16=Model!$K1179)*(Data!$C$17:$K$19))","v":2.73},55.43,{"$f":"_xlfn.IFS(M1179>70,\"Serviceable\",M1179>30, \"Limited Life\",M1179<=30, \"Unserviceable\")","v":"Limited Life"}]
[null,1846,1979,"Wood Untreated Dressed","Serviceable","Class 1",2016,100,93,9,{"$f":"INDEX(Lists!$B$32:$B$40, MATCH(2020-C1180, Lists!$C$32:$C$40,1))","v":"41-50"},{"$f":"SUMPRODUCT((Data!$B$17:$B$19=Model!$F1180)*(Data!$C$16:$K$16=Model!$K1180)*(Data!$C$17:$K$19))","v":1.75},84.25,{"$f":"_xlfn.IFS(M1180>70,\"Serviceable\",M1180>30, \"Limited Life\",M1180<=30, \"Unserviceable\")","v":"Serviceable"}]
[null,1847,1993,"Wood Untreated Dressed","Serviceable","Class 1",2018,140,136.08000000000001,7,{"$f":"INDEX(Lists!$B$32:$B$40, MATCH(2020-C1181, Lists!$C$32:$C$40,1))","v":"21-30"},{"$f":"SUMPRODUCT((Data!$B$17:$B$19=Model!$F1181)*(Data!$C$16:$K$16=Model!$K1181)*(Data!$C$17:$K$19))","v":1.96},126.28,{"$f":"_xlfn.IFS(M1181>70,\"Serviceable\",M1181>30, \"Limited Life\",M1181<=30, \"Unserviceable\")","v":"Serviceable"}]
[null,1848,1963,"Wood Creos Impregnated","Serviceable","Class 3",2016,120,109.08,9,{"$f":"INDEX(Lists!$B$32:$B$40, MATCH(2020-C1182, Lists!$C$32:$C$40,1))","v":"51-60"},{"$f":"SUMPRODUCT((Data!$B$17:$B$19=Model!$F1182)*(Data!$C$16:$K$16=Model!$K1182)*(Data!$C$17:$K$19))","v":2.73},95.43,{"$f":"_xlfn.IFS(M1182>70,\"Serviceable\",M1182>30, \"Limited Life\",M1182<=30, \"Unserviceable\")","v":"Serviceable"}]
[null,1850,1974,"Wood Untreated Dressed","Serviceable","Class 1",2016,120,113,9,{"$f":"INDEX(Lists!$B$32:$B$40, MATCH(2020-C1183, Lists!$C$32:$C$40,1))","v":"41-50"},{"$f":"SUMPRODUCT((Data!$B$17:$B$19=Model!$F1183)*(Data!$C$16:$K$16=Model!$K1183)*(Data!$C$17:$K$19))","v":1.75},104.25,{"$f":"_xlfn.IFS(M1183>70,\"Serviceable\",M1183>30, \"Limited Life\",M1183<=30, \"Unserviceable\")","v":"Serviceable"}]
[null,1851,1938,"Wood Untreated Dressed","Serviceable","Class 1",2020,100,100,5,{"$f":"INDEX(Lists!$B$32:$B$40, MATCH(2020-C1184, Lists!$C$32:$C$40,1))","v":"81-90"},{"$f":"SUMPRODUCT((Data!$B$17:$B$19=Model!$F1184)*(Data!$C$16:$K$16=Model!$K1184)*(Data!$C$17:$K$19))","v":2.81},85.95,{"$f":"_xlfn.IFS(M1184>70,\"Serviceable\",M1184>30, \"Limited Life\",M1184<=30, \"Unserviceable\")","v":"Serviceable"}]
[null,1852,1960,"Wood Untreated Round","Serviceable","Class 3",2016,120,109.08,9,{"$f":"INDEX(Lists!$B$32:$B$40, MATCH(2020-C1185, Lists!$C$32:$C$40,1))","v":"51-60"},{"$f":"SUMPRODUCT((Data!$B$17:$B$19=Model!$F1185)*(Data!$C$16:$K$16=Model!$K1185)*(Data!$C$17:$K$19))","v":2.73},95.43,{"$f":"_xlfn.IFS(M1185>70,\"Serviceable\",M1185>30, \"Limited Life\",M1185<=30, \"Unserviceable\")","v":"Serviceable"}]
[null,1853,1997,"CCA Treated Pole","Serviceable","Class 2",2020,120,120,5,{"$f":"INDEX(Lists!$B$32:$B$40, MATCH(2020-C1186, Lists!$C$32:$C$40,1))","v":"21-30"},{"$f":"SUMPRODUCT((Data!$B$17:$B$19=Model!$F1186)*(Data!$C$16:$K$16=Model!$K1186)*(Data!$C$17:$K$19))","v":1.89},110.55,{"$f":"_xlfn.IFS(M1186>70,\"Serviceable\",M1186>30, \"Limited Life\",M1186<=30, \"Unserviceable\")","v":"Serviceable"}]
[null,1854,1978,"Wood Untreated Dressed","Serviceable","Class 1",2020,120,120,5,{"$f":"INDEX(Lists!$B$32:$B$40, MATCH(2020-C1187, Lists!$C$32:$C$40,1))","v":"41-50"},{"$f":"SUMPRODUCT((Data!$B$17:$B$19=Model!$F1187)*(Data!$C$16:$K$16=Model!$K1187)*(Data!$C$17:$K$19))","v":1.75},111.25,{"$f":"_xlfn.IFS(M1187>70,\"Serviceable\",M1187>30, \"Limited Life\",M1187<=30, \"Unserviceable\")","v":"Serviceable"}]
[null,1855,1968,"Wood Creos Impregnated","Serviceable","Class 2",2016,120,109.72,9,{"$f":"INDEX(Lists!$B$32:$B$40, MATCH(2020-C1188, Lists!$C$32:$C$40,1))","v":"51-60"},{"$f":"SUMPRODUCT((Data!$B$17:$B$19=Model!$F1188)*(Data!$C$16:$K$16=Model!$K1188)*(Data!$C$17:$K$19))","v":2.57},96.87,{"$f":"_xlfn.IFS(M1188>70,\"Serviceable\",M1188>30, \"Limited Life\",M1188<=30, \"Unserviceable\")","v":"Serviceable"}]
[null,1856,1935,"Wood Untreated Dressed","Serviceable","Class 1",2016,100,88.76,9,{"$f":"INDEX(Lists!$B$32:$B$40, MATCH(2020-C1189, Lists!$C$32:$C$40,1))","v":"81-90"},{"$f":"SUMPRODUCT((Data!$B$17:$B$19=Model!$F1189)*(Data!$C$16:$K$16=Model!$K1189)*(Data!$C$17:$K$19))","v":2.81},74.710000000000008,{"$f":"_xlfn.IFS(M1189>70,\"Serviceable\",M1189>30, \"Limited Life\",M1189<=30, \"Unserviceable\")","v":"Serviceable"}]
[null,1857,1994,"Wood Untreated Dressed","Serviceable","Class 1",2020,130,130,5,{"$f":"INDEX(Lists!$B$32:$B$40, MATCH(2020-C1190, Lists!$C$32:$C$40,1))","v":"21-30"},{"$f":"SUMPRODUCT((Data!$B$17:$B$19=Model!$F1190)*(Data!$C$16:$K$16=Model!$K1190)*(Data!$C$17:$K$19))","v":1.96},120.2,{"$f":"_xlfn.IFS(M1190>70,\"Serviceable\",M1190>30, \"Limited Life\",M1190<=30, \"Unserviceable\")","v":"Serviceable"}]
[null,1858,1968,"Wood Creos Impregnated","Serviceable","Class 2",2016,120,109.72,9,{"$f":"INDEX(Lists!$B$32:$B$40, MATCH(2020-C1191, Lists!$C$32:$C$40,1))","v":"51-60"},{"$f":"SUMPRODUCT((Data!$B$17:$B$19=Model!$F1191)*(Data!$C$16:$K$16=Model!$K1191)*(Data!$C$17:$K$19))","v":2.57},96.87,{"$f":"_xlfn.IFS(M1191>70,\"Serviceable\",M1191>30, \"Limited Life\",M1191<=30, \"Unserviceable\")","v":"Serviceable"}]
[null,1859,1956,"Wood Creos Impregnated","Serviceable","Class 3",2020,90,90,5,{"$f":"INDEX(Lists!$B$32:$B$40, MATCH(2020-C1192, Lists!$C$32:$C$40,1))","v":"61-70"},{"$f":"SUMPRODUCT((Data!$B$17:$B$19=Model!$F1192)*(Data!$C$16:$K$16=Model!$K1192)*(Data!$C$17:$K$19))","v":2.02},79.900000000000006,{"$f":"_xlfn.IFS(M1192>70,\"Serviceable\",M1192>30, \"Limited Life\",M1192<=30, \"Unserviceable\")","v":"Serviceable"}]
[null,1860,1967,"Wood Creos Impregnated","Serviceable","Class 3",2016,90,79.08,9,{"$f":"INDEX(Lists!$B$32:$B$40, MATCH(2020-C1193, Lists!$C$32:$C$40,1))","v":"51-60"},{"$f":"SUMPRODUCT((Data!$B$17:$B$19=Model!$F1193)*(Data!$C$16:$K$16=Model!$K1193)*(Data!$C$17:$K$19))","v":2.73},65.430000000000007,{"$f":"_xlfn.IFS(M1193>70,\"Serviceable\",M1193>30, \"Limited Life\",M1193<=30, \"Unserviceable\")","v":"Limited Life"}]
[null,1861,1975,"Wood Untreated Round","Serviceable","Class 3",2016,120,104.88,9,{"$f":"INDEX(Lists!$B$32:$B$40, MATCH(2020-C1194, Lists!$C$32:$C$40,1))","v":"41-50"},{"$f":"SUMPRODUCT((Data!$B$17:$B$19=Model!$F1194)*(Data!$C$16:$K$16=Model!$K1194)*(Data!$C$17:$K$19))","v":3.78},85.98,{"$f":"_xlfn.IFS(M1194>70,\"Serviceable\",M1194>30, \"Limited Life\",M1194<=30, \"Unserviceable\")","v":"Serviceable"}]
[null,1864,1938,"Wood Untreated Dressed","Serviceable","Class 1",2020,120,120,5,{"$f":"INDEX(Lists!$B$32:$B$40, MATCH(2020-C1195, Lists!$C$32:$C$40,1))","v":"81-90"},{"$f":"SUMPRODUCT((Data!$B$17:$B$19=Model!$F1195)*(Data!$C$16:$K$16=Model!$K1195)*(Data!$C$17:$K$19))","v":2.81},105.95,{"$f":"_xlfn.IFS(M1195>70,\"Serviceable\",M1195>30, \"Limited Life\",M1195<=30, \"Unserviceable\")","v":"Serviceable"}]
[null,1865,2002,"CCA Treated Pole","Serviceable","Class 1",2016,166.31691553103065,162.07691553103064,9,{"$f":"INDEX(Lists!$B$32:$B$40, MATCH(2020-C1196, Lists!$C$32:$C$40,1))","v":"0-20"},{"$f":"SUMPRODUCT((Data!$B$17:$B$19=Model!$F1196)*(Data!$C$16:$K$16=Model!$K1196)*(Data!$C$17:$K$19))","v":1.06},156.77691553103065,{"$f":"_xlfn.IFS(M1196>70,\"Serviceable\",M1196>30, \"Limited Life\",M1196<=30, \"Unserviceable\")","v":"Serviceable"}]
[null,1868,1947,"Wood Untreated Dressed","Serviceable","Class 1",2020,120,120,5,{"$f":"INDEX(Lists!$B$32:$B$40, MATCH(2020-C1197, Lists!$C$32:$C$40,1))","v":"71-80"},{"$f":"SUMPRODUCT((Data!$B$17:$B$19=Model!$F1197)*(Data!$C$16:$K$16=Model!$K1197)*(Data!$C$17:$K$19))","v":2.15},109.25,{"$f":"_xlfn.IFS(M1197>70,\"Serviceable\",M1197>30, \"Limited Life\",M1197<=30, \"Unserviceable\")","v":"Serviceable"}]
[null,1869,1966,"Wood Creos Impregnated","Serviceable","Class 3",2016,120,109.08,9,{"$f":"INDEX(Lists!$B$32:$B$40, MATCH(2020-C1198, Lists!$C$32:$C$40,1))","v":"51-60"},{"$f":"SUMPRODUCT((Data!$B$17:$B$19=Model!$F1198)*(Data!$C$16:$K$16=Model!$K1198)*(Data!$C$17:$K$19))","v":2.73},95.43,{"$f":"_xlfn.IFS(M1198>70,\"Serviceable\",M1198>30, \"Limited Life\",M1198<=30, \"Unserviceable\")","v":"Serviceable"}]
[null,1870,1986,"Wood Untreated Dressed","Serviceable","Class 1",2020,140,140,5,{"$f":"INDEX(Lists!$B$32:$B$40, MATCH(2020-C1199, Lists!$C$32:$C$40,1))","v":"31-40"},{"$f":"SUMPRODUCT((Data!$B$17:$B$19=Model!$F1199)*(Data!$C$16:$K$16=Model!$K1199)*(Data!$C$17:$K$19))","v":2.52},127.4,{"$f":"_xlfn.IFS(M1199>70,\"Serviceable\",M1199>30, \"Limited Life\",M1199<=30, \"Unserviceable\")","v":"Serviceable"}]
[null,1873,1957,"Wood Untreated Dressed","Serviceable","Class 1",2018,100,95.94,7,{"$f":"INDEX(Lists!$B$32:$B$40, MATCH(2020-C1200, Lists!$C$32:$C$40,1))","v":"61-70"},{"$f":"SUMPRODUCT((Data!$B$17:$B$19=Model!$F1200)*(Data!$C$16:$K$16=Model!$K1200)*(Data!$C$17:$K$19))","v":2.0299999999999998},85.79,{"$f":"_xlfn.IFS(M1200>70,\"Serviceable\",M1200>30, \"Limited Life\",M1200<=30, \"Unserviceable\")","v":"Serviceable"}]
[null,1874,1966,"Wood Untreated Round","Serviceable","Class 3",2016,130,119.08,9,{"$f":"INDEX(Lists!$B$32:$B$40, MATCH(2020-C1201, Lists!$C$32:$C$40,1))","v":"51-60"},{"$f":"SUMPRODUCT((Data!$B$17:$B$19=Model!$F1201)*(Data!$C$16:$K$16=Model!$K1201)*(Data!$C$17:$K$19))","v":2.73},105.43,{"$f":"_xlfn.IFS(M1201>70,\"Serviceable\",M1201>30, \"Limited Life\",M1201<=30, \"Unserviceable\")","v":"Serviceable"}]
[null,1875,1965,"Wood Creos Impregnated","Serviceable","Class 3",2016,130,119.08,9,{"$f":"INDEX(Lists!$B$32:$B$40, MATCH(2020-C1202, Lists!$C$32:$C$40,1))","v":"51-60"},{"$f":"SUMPRODUCT((Data!$B$17:$B$19=Model!$F1202)*(Data!$C$16:$K$16=Model!$K1202)*(Data!$C$17:$K$19))","v":2.73},105.43,{"$f":"_xlfn.IFS(M1202>70,\"Serviceable\",M1202>30, \"Limited Life\",M1202<=30, \"Unserviceable\")","v":"Serviceable"}]
[null,1877,1986,"Wood Untreated Dressed","Serviceable","Class 1",2020,120,120,5,{"$f":"INDEX(Lists!$B$32:$B$40, MATCH(2020-C1203, Lists!$C$32:$C$40,1))","v":"31-40"},{"$f":"SUMPRODUCT((Data!$B$17:$B$19=Model!$F1203)*(Data!$C$16:$K$16=Model!$K1203)*(Data!$C$17:$K$19))","v":2.52},107.4,{"$f":"_xlfn.IFS(M1203>70,\"Serviceable\",M1203>30, \"Limited Life\",M1203<=30, \"Unserviceable\")","v":"Serviceable"}]
[null,1879,1976,"Wood Untreated Dressed","Serviceable","Class 1",2020,110,110,5,{"$f":"INDEX(Lists!$B$32:$B$40, MATCH(2020-C1204, Lists!$C$32:$C$40,1))","v":"41-50"},{"$f":"SUMPRODUCT((Data!$B$17:$B$19=Model!$F1204)*(Data!$C$16:$K$16=Model!$K1204)*(Data!$C$17:$K$19))","v":1.75},101.25,{"$f":"_xlfn.IFS(M1204>70,\"Serviceable\",M1204>30, \"Limited Life\",M1204<=30, \"Unserviceable\")","v":"Serviceable"}]
[null,1880,1965,"Wood Creos Impregnated","Serviceable","Class 3",2016,90,79.08,9,{"$f":"INDEX(Lists!$B$32:$B$40, MATCH(2020-C1205, Lists!$C$32:$C$40,1))","v":"51-60"},{"$f":"SUMPRODUCT((Data!$B$17:$B$19=Model!$F1205)*(Data!$C$16:$K$16=Model!$K1205)*(Data!$C$17:$K$19))","v":2.73},65.430000000000007,{"$f":"_xlfn.IFS(M1205>70,\"Serviceable\",M1205>30, \"Limited Life\",M1205<=30, \"Unserviceable\")","v":"Limited Life"}]
[null,1881,1977,"Wood Untreated Dressed","Serviceable","Class 1",2020,120,120,5,{"$f":"INDEX(Lists!$B$32:$B$40, MATCH(2020-C1206, Lists!$C$32:$C$40,1))","v":"41-50"},{"$f":"SUMPRODUCT((Data!$B$17:$B$19=Model!$F1206)*(Data!$C$16:$K$16=Model!$K1206)*(Data!$C$17:$K$19))","v":1.75},111.25,{"$f":"_xlfn.IFS(M1206>70,\"Serviceable\",M1206>30, \"Limited Life\",M1206<=30, \"Unserviceable\")","v":"Serviceable"}]
[null,1882,1966,"Wood Untreated Round","Limited Life","Class 3",2016,80,69.08,9,{"$f":"INDEX(Lists!$B$32:$B$40, MATCH(2020-C1207, Lists!$C$32:$C$40,1))","v":"51-60"},{"$f":"SUMPRODUCT((Data!$B$17:$B$19=Model!$F1207)*(Data!$C$16:$K$16=Model!$K1207)*(Data!$C$17:$K$19))","v":2.73},55.43,{"$f":"_xlfn.IFS(M1207>70,\"Serviceable\",M1207>30, \"Limited Life\",M1207<=30, \"Unserviceable\")","v":"Limited Life"}]
[null,1883,1972,"Wood Creos Impregnated","Serviceable","Class 3",2020,110,110,5,{"$f":"INDEX(Lists!$B$32:$B$40, MATCH(2020-C1208, Lists!$C$32:$C$40,1))","v":"41-50"},{"$f":"SUMPRODUCT((Data!$B$17:$B$19=Model!$F1208)*(Data!$C$16:$K$16=Model!$K1208)*(Data!$C$17:$K$19))","v":3.78},91.1,{"$f":"_xlfn.IFS(M1208>70,\"Serviceable\",M1208>30, \"Limited Life\",M1208<=30, \"Unserviceable\")","v":"Serviceable"}]
[null,1884,1999,"CCA Treated Pole","Serviceable","Class 1",2016,150,142.16,9,{"$f":"INDEX(Lists!$B$32:$B$40, MATCH(2020-C1209, Lists!$C$32:$C$40,1))","v":"21-30"},{"$f":"SUMPRODUCT((Data!$B$17:$B$19=Model!$F1209)*(Data!$C$16:$K$16=Model!$K1209)*(Data!$C$17:$K$19))","v":1.96},132.36000000000001,{"$f":"_xlfn.IFS(M1209>70,\"Serviceable\",M1209>30, \"Limited Life\",M1209<=30, \"Unserviceable\")","v":"Serviceable"}]
[null,1886,1974,"Wood Untreated Round","Serviceable","Class 1",2016,100,93,9,{"$f":"INDEX(Lists!$B$32:$B$40, MATCH(2020-C1210, Lists!$C$32:$C$40,1))","v":"41-50"},{"$f":"SUMPRODUCT((Data!$B$17:$B$19=Model!$F1210)*(Data!$C$16:$K$16=Model!$K1210)*(Data!$C$17:$K$19))","v":1.75},84.25,{"$f":"_xlfn.IFS(M1210>70,\"Serviceable\",M1210>30, \"Limited Life\",M1210<=30, \"Unserviceable\")","v":"Serviceable"}]
[null,1888,1966,"Wood Untreated Round","Limited Life","Class 3",2016,80,69.08,9,{"$f":"INDEX(Lists!$B$32:$B$40, MATCH(2020-C1211, Lists!$C$32:$C$40,1))","v":"51-60"},{"$f":"SUMPRODUCT((Data!$B$17:$B$19=Model!$F1211)*(Data!$C$16:$K$16=Model!$K1211)*(Data!$C$17:$K$19))","v":2.73},55.43,{"$f":"_xlfn.IFS(M1211>70,\"Serviceable\",M1211>30, \"Limited Life\",M1211<=30, \"Unserviceable\")","v":"Limited Life"}]
[null,1892,1958,"Wood Creos Impregnated","Serviceable","Class 3",2020,100,100,5,{"$f":"INDEX(Lists!$B$32:$B$40, MATCH(2020-C1212, Lists!$C$32:$C$40,1))","v":"61-70"},{"$f":"SUMPRODUCT((Data!$B$17:$B$19=Model!$F1212)*(Data!$C$16:$K$16=Model!$K1212)*(Data!$C$17:$K$19))","v":2.02},89.9,{"$f":"_xlfn.IFS(M1212>70,\"Serviceable\",M1212>30, \"Limited Life\",M1212<=30, \"Unserviceable\")","v":"Serviceable"}]
[null,1894,1964,"Wood Creos Impregnated","Serviceable","Class 3",2020,110,110,5,{"$f":"INDEX(Lists!$B$32:$B$40, MATCH(2020-C1213, Lists!$C$32:$C$40,1))","v":"51-60"},{"$f":"SUMPRODUCT((Data!$B$17:$B$19=Model!$F1213)*(Data!$C$16:$K$16=Model!$K1213)*(Data!$C$17:$K$19))","v":2.73},96.35,{"$f":"_xlfn.IFS(M1213>70,\"Serviceable\",M1213>30, \"Limited Life\",M1213<=30, \"Unserviceable\")","v":"Serviceable"}]
[null,1895,1985,"Wood Untreated Dressed","Serviceable","Class 1",2016,150,139.91999999999999,9,{"$f":"INDEX(Lists!$B$32:$B$40, MATCH(2020-C1214, Lists!$C$32:$C$40,1))","v":"31-40"},{"$f":"SUMPRODUCT((Data!$B$17:$B$19=Model!$F1214)*(Data!$C$16:$K$16=Model!$K1214)*(Data!$C$17:$K$19))","v":2.52},127.32,{"$f":"_xlfn.IFS(M1214>70,\"Serviceable\",M1214>30, \"Limited Life\",M1214<=30, \"Unserviceable\")","v":"Serviceable"}]
[null,1897,1982,"Wood Untreated Dressed","Serviceable","Class 1",2016,150,139.91999999999999,9,{"$f":"INDEX(Lists!$B$32:$B$40, MATCH(2020-C1215, Lists!$C$32:$C$40,1))","v":"31-40"},{"$f":"SUMPRODUCT((Data!$B$17:$B$19=Model!$F1215)*(Data!$C$16:$K$16=Model!$K1215)*(Data!$C$17:$K$19))","v":2.52},127.32,{"$f":"_xlfn.IFS(M1215>70,\"Serviceable\",M1215>30, \"Limited Life\",M1215<=30, \"Unserviceable\")","v":"Serviceable"}]
[null,1898,1970,"Wood Creos Impregnated","Serviceable","Class 3",2020,100,100,5,{"$f":"INDEX(Lists!$B$32:$B$40, MATCH(2020-C1216, Lists!$C$32:$C$40,1))","v":"41-50"},{"$f":"SUMPRODUCT((Data!$B$17:$B$19=Model!$F1216)*(Data!$C$16:$K$16=Model!$K1216)*(Data!$C$17:$K$19))","v":3.78},81.099999999999994,{"$f":"_xlfn.IFS(M1216>70,\"Serviceable\",M1216>30, \"Limited Life\",M1216<=30, \"Unserviceable\")","v":"Serviceable"}]
[null,1902,1970,"Wood Creos Impregnated","Serviceable","Class 2",2020,100,100,5,{"$f":"INDEX(Lists!$B$32:$B$40, MATCH(2020-C1217, Lists!$C$32:$C$40,1))","v":"41-50"},{"$f":"SUMPRODUCT((Data!$B$17:$B$19=Model!$F1217)*(Data!$C$16:$K$16=Model!$K1217)*(Data!$C$17:$K$19))","v":3.28},83.6,{"$f":"_xlfn.IFS(M1217>70,\"Serviceable\",M1217>30, \"Limited Life\",M1217<=30, \"Unserviceable\")","v":"Serviceable"}]
[null,1903,1968,"Wood Creos Impregnated","Serviceable","Class 3",2016,110,99.08,9,{"$f":"INDEX(Lists!$B$32:$B$40, MATCH(2020-C1218, Lists!$C$32:$C$40,1))","v":"51-60"},{"$f":"SUMPRODUCT((Data!$B$17:$B$19=Model!$F1218)*(Data!$C$16:$K$16=Model!$K1218)*(Data!$C$17:$K$19))","v":2.73},85.43,{"$f":"_xlfn.IFS(M1218>70,\"Serviceable\",M1218>30, \"Limited Life\",M1218<=30, \"Unserviceable\")","v":"Serviceable"}]
[null,1904,1966,"CCA Treated Pole","Serviceable","Class 1",2020,90,90,5,{"$f":"INDEX(Lists!$B$32:$B$40, MATCH(2020-C1219, Lists!$C$32:$C$40,1))","v":"51-60"},{"$f":"SUMPRODUCT((Data!$B$17:$B$19=Model!$F1219)*(Data!$C$16:$K$16=Model!$K1219)*(Data!$C$17:$K$19))","v":1.65},81.75,{"$f":"_xlfn.IFS(M1219>70,\"Serviceable\",M1219>30, \"Limited Life\",M1219<=30, \"Unserviceable\")","v":"Serviceable"}]
[null,1905,1983,"Wood Untreated Dressed","Serviceable","Class 1",2016,130,119.92,9,{"$f":"INDEX(Lists!$B$32:$B$40, MATCH(2020-C1220, Lists!$C$32:$C$40,1))","v":"31-40"},{"$f":"SUMPRODUCT((Data!$B$17:$B$19=Model!$F1220)*(Data!$C$16:$K$16=Model!$K1220)*(Data!$C$17:$K$19))","v":2.52},107.32,{"$f":"_xlfn.IFS(M1220>70,\"Serviceable\",M1220>30, \"Limited Life\",M1220<=30, \"Unserviceable\")","v":"Serviceable"}]
[null,1907,1987,"Wood Untreated Dressed","Serviceable","Class 1",2016,130,119.92,9,{"$f":"INDEX(Lists!$B$32:$B$40, MATCH(2020-C1221, Lists!$C$32:$C$40,1))","v":"31-40"},{"$f":"SUMPRODUCT((Data!$B$17:$B$19=Model!$F1221)*(Data!$C$16:$K$16=Model!$K1221)*(Data!$C$17:$K$19))","v":2.52},107.32,{"$f":"_xlfn.IFS(M1221>70,\"Serviceable\",M1221>30, \"Limited Life\",M1221<=30, \"Unserviceable\")","v":"Serviceable"}]
[null,1908,1970,"Wood Creos Impregnated","Serviceable","Class 3",2020,110,110,5,{"$f":"INDEX(Lists!$B$32:$B$40, MATCH(2020-C1222, Lists!$C$32:$C$40,1))","v":"41-50"},{"$f":"SUMPRODUCT((Data!$B$17:$B$19=Model!$F1222)*(Data!$C$16:$K$16=Model!$K1222)*(Data!$C$17:$K$19))","v":3.78},91.1,{"$f":"_xlfn.IFS(M1222>70,\"Serviceable\",M1222>30, \"Limited Life\",M1222<=30, \"Unserviceable\")","v":"Serviceable"}]
[null,1909,1997,"CCA Treated Pole","Serviceable","Class 2",2016,150,142.44,9,{"$f":"INDEX(Lists!$B$32:$B$40, MATCH(2020-C1223, Lists!$C$32:$C$40,1))","v":"21-30"},{"$f":"SUMPRODUCT((Data!$B$17:$B$19=Model!$F1223)*(Data!$C$16:$K$16=Model!$K1223)*(Data!$C$17:$K$19))","v":1.89},132.99,{"$f":"_xlfn.IFS(M1223>70,\"Serviceable\",M1223>30, \"Limited Life\",M1223<=30, \"Unserviceable\")","v":"Serviceable"}]
[null,1911,1967,"Wood Creos Impregnated","Serviceable","Class 3",2016,130,119.08,{"$f":"2025-G1224","v":9},{"$f":"INDEX(Lists!$B$32:$B$40, MATCH(2020-C1224, Lists!$C$32:$C$40,1))","v":"51-60"},{"$f":"SUMPRODUCT((Data!$B$17:$B$19=Model!$F1224)*(Data!$C$16:$K$16=Model!$K1224)*(Data!$C$17:$K$19))","v":2.73},{"$f":"IF(IF(H1224>=700,999,(H1224-L1224*J1224))<0,0,IF(H1224>=700,999,(H1224-L1224*J1224)))","v":105.43},{"$f":"_xlfn.IFS(M1224>70,\"Serviceable\",M1224>30, \"Limited Life\",M1224<=30, \"Unserviceable\")","v":"Serviceable"}]
[null,1912,1997,"CCA Treated Pole","Serviceable","Class 2",2020,120,120,5,{"$f":"INDEX(Lists!$B$32:$B$40, MATCH(2020-C1225, Lists!$C$32:$C$40,1))","v":"21-30"},{"$f":"SUMPRODUCT((Data!$B$17:$B$19=Model!$F1225)*(Data!$C$16:$K$16=Model!$K1225)*(Data!$C$17:$K$19))","v":1.89},110.55,{"$f":"_xlfn.IFS(M1225>70,\"Serviceable\",M1225>30, \"Limited Life\",M1225<=30, \"Unserviceable\")","v":"Serviceable"}]
[null,1913,1967,"Wood Creos Impregnated","Serviceable","Class 3",2016,110,99.08,9,{"$f":"INDEX(Lists!$B$32:$B$40, MATCH(2020-C1226, Lists!$C$32:$C$40,1))","v":"51-60"},{"$f":"SUMPRODUCT((Data!$B$17:$B$19=Model!$F1226)*(Data!$C$16:$K$16=Model!$K1226)*(Data!$C$17:$K$19))","v":2.73},85.43,{"$f":"_xlfn.IFS(M1226>70,\"Serviceable\",M1226>30, \"Limited Life\",M1226<=30, \"Unserviceable\")","v":"Serviceable"}]
[null,1914,1972,"Wood Creos Impregnated","Serviceable","Class 1",2020,100,100,5,{"$f":"INDEX(Lists!$B$32:$B$40, MATCH(2020-C1227, Lists!$C$32:$C$40,1))","v":"41-50"},{"$f":"SUMPRODUCT((Data!$B$17:$B$19=Model!$F1227)*(Data!$C$16:$K$16=Model!$K1227)*(Data!$C$17:$K$19))","v":1.75},91.25,{"$f":"_xlfn.IFS(M1227>70,\"Serviceable\",M1227>30, \"Limited Life\",M1227<=30, \"Unserviceable\")","v":"Serviceable"}]
[null,1915,1967,"Wood Creos Impregnated","Serviceable","Class 3",2016,120,109.08,9,{"$f":"INDEX(Lists!$B$32:$B$40, MATCH(2020-C1228, Lists!$C$32:$C$40,1))","v":"51-60"},{"$f":"SUMPRODUCT((Data!$B$17:$B$19=Model!$F1228)*(Data!$C$16:$K$16=Model!$K1228)*(Data!$C$17:$K$19))","v":2.73},95.43,{"$f":"_xlfn.IFS(M1228>70,\"Serviceable\",M1228>30, \"Limited Life\",M1228<=30, \"Unserviceable\")","v":"Serviceable"}]
[null,1917,1983,"Wood Untreated Dressed","Serviceable","Class 1",2016,130,119.92,9,{"$f":"INDEX(Lists!$B$32:$B$40, MATCH(2020-C1229, Lists!$C$32:$C$40,1))","v":"31-40"},{"$f":"SUMPRODUCT((Data!$B$17:$B$19=Model!$F1229)*(Data!$C$16:$K$16=Model!$K1229)*(Data!$C$17:$K$19))","v":2.52},107.32,{"$f":"_xlfn.IFS(M1229>70,\"Serviceable\",M1229>30, \"Limited Life\",M1229<=30, \"Unserviceable\")","v":"Serviceable"}]
[null,1919,1983,"Wood Untreated Dressed","Serviceable","Class 1",2016,130,119.92,9,{"$f":"INDEX(Lists!$B$32:$B$40, MATCH(2020-C1230, Lists!$C$32:$C$40,1))","v":"31-40"},{"$f":"SUMPRODUCT((Data!$B$17:$B$19=Model!$F1230)*(Data!$C$16:$K$16=Model!$K1230)*(Data!$C$17:$K$19))","v":2.52},107.32,{"$f":"_xlfn.IFS(M1230>70,\"Serviceable\",M1230>30, \"Limited Life\",M1230<=30, \"Unserviceable\")","v":"Serviceable"}]
[null,1920,1966,"Wood Creos Impregnated","Serviceable","Class 3",2020,90,90,5,{"$f":"INDEX(Lists!$B$32:$B$40, MATCH(2020-C1231, Lists!$C$32:$C$40,1))","v":"51-60"},{"$f":"SUMPRODUCT((Data!$B$17:$B$19=Model!$F1231)*(Data!$C$16:$K$16=Model!$K1231)*(Data!$C$17:$K$19))","v":2.73},76.349999999999994,{"$f":"_xlfn.IFS(M1231>70,\"Serviceable\",M1231>30, \"Limited Life\",M1231<=30, \"Unserviceable\")","v":"Serviceable"}]
[null,1921,1983,"Wood Untreated Dressed","Serviceable","Class 1",2016,130,119.92,9,{"$f":"INDEX(Lists!$B$32:$B$40, MATCH(2020-C1232, Lists!$C$32:$C$40,1))","v":"31-40"},{"$f":"SUMPRODUCT((Data!$B$17:$B$19=Model!$F1232)*(Data!$C$16:$K$16=Model!$K1232)*(Data!$C$17:$K$19))","v":2.52},107.32,{"$f":"_xlfn.IFS(M1232>70,\"Serviceable\",M1232>30, \"Limited Life\",M1232<=30, \"Unserviceable\")","v":"Serviceable"}]
[null,1922,1955,"Wood Untreated Round","Serviceable","Class 1",2020,100,100,5,{"$f":"INDEX(Lists!$B$32:$B$40, MATCH(2020-C1233, Lists!$C$32:$C$40,1))","v":"61-70"},{"$f":"SUMPRODUCT((Data!$B$17:$B$19=Model!$F1233)*(Data!$C$16:$K$16=Model!$K1233)*(Data!$C$17:$K$19))","v":2.0299999999999998},89.85,{"$f":"_xlfn.IFS(M1233>70,\"Serviceable\",M1233>30, \"Limited Life\",M1233<=30, \"Unserviceable\")","v":"Serviceable"}]
[null,1928,1958,"Wood Creos Impregnated","Serviceable","Class 3",2020,120,120,5,{"$f":"INDEX(Lists!$B$32:$B$40, MATCH(2020-C1234, Lists!$C$32:$C$40,1))","v":"61-70"},{"$f":"SUMPRODUCT((Data!$B$17:$B$19=Model!$F1234)*(Data!$C$16:$K$16=Model!$K1234)*(Data!$C$17:$K$19))","v":2.02},109.9,{"$f":"_xlfn.IFS(M1234>70,\"Serviceable\",M1234>30, \"Limited Life\",M1234<=30, \"Unserviceable\")","v":"Serviceable"}]
[null,1929,1983,"Wood Untreated Dressed","Serviceable","Class 1",2016,100,89.92,9,{"$f":"INDEX(Lists!$B$32:$B$40, MATCH(2020-C1235, Lists!$C$32:$C$40,1))","v":"31-40"},{"$f":"SUMPRODUCT((Data!$B$17:$B$19=Model!$F1235)*(Data!$C$16:$K$16=Model!$K1235)*(Data!$C$17:$K$19))","v":2.52},77.319999999999993,{"$f":"_xlfn.IFS(M1235>70,\"Serviceable\",M1235>30, \"Limited Life\",M1235<=30, \"Unserviceable\")","v":"Serviceable"}]
[null,1931,1971,"Wood Creos Impregnated","Serviceable","Class 3",2016,100,84.88,9,{"$f":"INDEX(Lists!$B$32:$B$40, MATCH(2020-C1236, Lists!$C$32:$C$40,1))","v":"41-50"},{"$f":"SUMPRODUCT((Data!$B$17:$B$19=Model!$F1236)*(Data!$C$16:$K$16=Model!$K1236)*(Data!$C$17:$K$19))","v":3.78},65.98,{"$f":"_xlfn.IFS(M1236>70,\"Serviceable\",M1236>30, \"Limited Life\",M1236<=30, \"Unserviceable\")","v":"Limited Life"}]
[null,1935,1967,"Wood Creos Impregnated","Limited Life","Class 3",2016,80,69.08,9,{"$f":"INDEX(Lists!$B$32:$B$40, MATCH(2020-C1237, Lists!$C$32:$C$40,1))","v":"51-60"},{"$f":"SUMPRODUCT((Data!$B$17:$B$19=Model!$F1237)*(Data!$C$16:$K$16=Model!$K1237)*(Data!$C$17:$K$19))","v":2.73},55.43,{"$f":"_xlfn.IFS(M1237>70,\"Serviceable\",M1237>30, \"Limited Life\",M1237<=30, \"Unserviceable\")","v":"Limited Life"}]
[null,1937,1986,"Wood Untreated Dressed","Serviceable","Class 1",2020,130,130,5,{"$f":"INDEX(Lists!$B$32:$B$40, MATCH(2020-C1238, Lists!$C$32:$C$40,1))","v":"31-40"},{"$f":"SUMPRODUCT((Data!$B$17:$B$19=Model!$F1238)*(Data!$C$16:$K$16=Model!$K1238)*(Data!$C$17:$K$19))","v":2.52},117.4,{"$f":"_xlfn.IFS(M1238>70,\"Serviceable\",M1238>30, \"Limited Life\",M1238<=30, \"Unserviceable\")","v":"Serviceable"}]
[null,1938,1990,"Wood Untreated Dressed","Serviceable","Class 1",2016,150,142.16,9,{"$f":"INDEX(Lists!$B$32:$B$40, MATCH(2020-C1239, Lists!$C$32:$C$40,1))","v":"21-30"},{"$f":"SUMPRODUCT((Data!$B$17:$B$19=Model!$F1239)*(Data!$C$16:$K$16=Model!$K1239)*(Data!$C$17:$K$19))","v":1.96},132.36000000000001,{"$f":"_xlfn.IFS(M1239>70,\"Serviceable\",M1239>30, \"Limited Life\",M1239<=30, \"Unserviceable\")","v":"Serviceable"}]
[null,1941,1975,"Wood Creos Impregnated","Serviceable","Class 2",2020,90,90,5,{"$f":"INDEX(Lists!$B$32:$B$40, MATCH(2020-C1240, Lists!$C$32:$C$40,1))","v":"41-50"},{"$f":"SUMPRODUCT((Data!$B$17:$B$19=Model!$F1240)*(Data!$C$16:$K$16=Model!$K1240)*(Data!$C$17:$K$19))","v":3.28},73.599999999999994,{"$f":"_xlfn.IFS(M1240>70,\"Serviceable\",M1240>30, \"Limited Life\",M1240<=30, \"Unserviceable\")","v":"Serviceable"}]
[null,1942,1960,"Wood Creos Impregnated","Serviceable","Class 3",2016,100,89.08,9,{"$f":"INDEX(Lists!$B$32:$B$40, MATCH(2020-C1241, Lists!$C$32:$C$40,1))","v":"51-60"},{"$f":"SUMPRODUCT((Data!$B$17:$B$19=Model!$F1241)*(Data!$C$16:$K$16=Model!$K1241)*(Data!$C$17:$K$19))","v":2.73},75.430000000000007,{"$f":"_xlfn.IFS(M1241>70,\"Serviceable\",M1241>30, \"Limited Life\",M1241<=30, \"Unserviceable\")","v":"Serviceable"}]
[null,1944,1988,"Wood Untreated Dressed","Serviceable","Class 1",2016,100,89.92,9,{"$f":"INDEX(Lists!$B$32:$B$40, MATCH(2020-C1242, Lists!$C$32:$C$40,1))","v":"31-40"},{"$f":"SUMPRODUCT((Data!$B$17:$B$19=Model!$F1242)*(Data!$C$16:$K$16=Model!$K1242)*(Data!$C$17:$K$19))","v":2.52},77.319999999999993,{"$f":"_xlfn.IFS(M1242>70,\"Serviceable\",M1242>30, \"Limited Life\",M1242<=30, \"Unserviceable\")","v":"Serviceable"}]
[null,1946,1969,"Wood Creos Impregnated","Serviceable","Class 3",2016,100,89.08,9,{"$f":"INDEX(Lists!$B$32:$B$40, MATCH(2020-C1243, Lists!$C$32:$C$40,1))","v":"51-60"},{"$f":"SUMPRODUCT((Data!$B$17:$B$19=Model!$F1243)*(Data!$C$16:$K$16=Model!$K1243)*(Data!$C$17:$K$19))","v":2.73},75.430000000000007,{"$f":"_xlfn.IFS(M1243>70,\"Serviceable\",M1243>30, \"Limited Life\",M1243<=30, \"Unserviceable\")","v":"Serviceable"}]
[null,1949,1983,"Wood Untreated Dressed","Serviceable","Class 1",2018,110,104.96,7,{"$f":"INDEX(Lists!$B$32:$B$40, MATCH(2020-C1244, Lists!$C$32:$C$40,1))","v":"31-40"},{"$f":"SUMPRODUCT((Data!$B$17:$B$19=Model!$F1244)*(Data!$C$16:$K$16=Model!$K1244)*(Data!$C$17:$K$19))","v":2.52},92.36,{"$f":"_xlfn.IFS(M1244>70,\"Serviceable\",M1244>30, \"Limited Life\",M1244<=30, \"Unserviceable\")","v":"Serviceable"}]
[null,1951,1984,"Wood Untreated Dressed","Serviceable","Class 1",2018,100,94.96,7,{"$f":"INDEX(Lists!$B$32:$B$40, MATCH(2020-C1245, Lists!$C$32:$C$40,1))","v":"31-40"},{"$f":"SUMPRODUCT((Data!$B$17:$B$19=Model!$F1245)*(Data!$C$16:$K$16=Model!$K1245)*(Data!$C$17:$K$19))","v":2.52},82.36,{"$f":"_xlfn.IFS(M1245>70,\"Serviceable\",M1245>30, \"Limited Life\",M1245<=30, \"Unserviceable\")","v":"Serviceable"}]
[null,1954,1990,"Wood Untreated Dressed","Serviceable","Class 1",2016,150,142.16,9,{"$f":"INDEX(Lists!$B$32:$B$40, MATCH(2020-C1246, Lists!$C$32:$C$40,1))","v":"21-30"},{"$f":"SUMPRODUCT((Data!$B$17:$B$19=Model!$F1246)*(Data!$C$16:$K$16=Model!$K1246)*(Data!$C$17:$K$19))","v":1.96},132.36000000000001,{"$f":"_xlfn.IFS(M1246>70,\"Serviceable\",M1246>30, \"Limited Life\",M1246<=30, \"Unserviceable\")","v":"Serviceable"}]
[null,1955,1964,"Wood Creos Impregnated","Serviceable","Class 2",2020,100,100,5,{"$f":"INDEX(Lists!$B$32:$B$40, MATCH(2020-C1247, Lists!$C$32:$C$40,1))","v":"51-60"},{"$f":"SUMPRODUCT((Data!$B$17:$B$19=Model!$F1247)*(Data!$C$16:$K$16=Model!$K1247)*(Data!$C$17:$K$19))","v":2.57},87.15,{"$f":"_xlfn.IFS(M1247>70,\"Serviceable\",M1247>30, \"Limited Life\",M1247<=30, \"Unserviceable\")","v":"Serviceable"}]
[null,1956,1969,"Wood Creos Impregnated","Serviceable","Class 3",2017,80,71.81,8,{"$f":"INDEX(Lists!$B$32:$B$40, MATCH(2020-C1248, Lists!$C$32:$C$40,1))","v":"51-60"},{"$f":"SUMPRODUCT((Data!$B$17:$B$19=Model!$F1248)*(Data!$C$16:$K$16=Model!$K1248)*(Data!$C$17:$K$19))","v":2.73},58.16,{"$f":"_xlfn.IFS(M1248>70,\"Serviceable\",M1248>30, \"Limited Life\",M1248<=30, \"Unserviceable\")","v":"Limited Life"}]
[null,1957,1972,"Wood Creos Impregnated","Serviceable","Class 1",2020,120,120,5,{"$f":"INDEX(Lists!$B$32:$B$40, MATCH(2020-C1249, Lists!$C$32:$C$40,1))","v":"41-50"},{"$f":"SUMPRODUCT((Data!$B$17:$B$19=Model!$F1249)*(Data!$C$16:$K$16=Model!$K1249)*(Data!$C$17:$K$19))","v":1.75},111.25,{"$f":"_xlfn.IFS(M1249>70,\"Serviceable\",M1249>30, \"Limited Life\",M1249<=30, \"Unserviceable\")","v":"Serviceable"}]
[null,1958,1960,"Wood Creos Impregnated","Serviceable","Class 3",2017,90,81.81,8,{"$f":"INDEX(Lists!$B$32:$B$40, MATCH(2020-C1250, Lists!$C$32:$C$40,1))","v":"51-60"},{"$f":"SUMPRODUCT((Data!$B$17:$B$19=Model!$F1250)*(Data!$C$16:$K$16=Model!$K1250)*(Data!$C$17:$K$19))","v":2.73},68.16,{"$f":"_xlfn.IFS(M1250>70,\"Serviceable\",M1250>30, \"Limited Life\",M1250<=30, \"Unserviceable\")","v":"Limited Life"}]
[null,1961,1978,"Wood Untreated Dressed","Serviceable","Class 1",2018,110,106.5,7,{"$f":"INDEX(Lists!$B$32:$B$40, MATCH(2020-C1251, Lists!$C$32:$C$40,1))","v":"41-50"},{"$f":"SUMPRODUCT((Data!$B$17:$B$19=Model!$F1251)*(Data!$C$16:$K$16=Model!$K1251)*(Data!$C$17:$K$19))","v":1.75},97.75,{"$f":"_xlfn.IFS(M1251>70,\"Serviceable\",M1251>30, \"Limited Life\",M1251<=30, \"Unserviceable\")","v":"Serviceable"}]
[null,1962,1971,"Wood Creos Impregnated","Serviceable","Class 3",2017,90,78.66,8,{"$f":"INDEX(Lists!$B$32:$B$40, MATCH(2020-C1252, Lists!$C$32:$C$40,1))","v":"41-50"},{"$f":"SUMPRODUCT((Data!$B$17:$B$19=Model!$F1252)*(Data!$C$16:$K$16=Model!$K1252)*(Data!$C$17:$K$19))","v":3.78},59.760000000000005,{"$f":"_xlfn.IFS(M1252>70,\"Serviceable\",M1252>30, \"Limited Life\",M1252<=30, \"Unserviceable\")","v":"Limited Life"}]
[null,1963,2005,"CCA Treated Pole","Serviceable","Class 2",2018,99,96.56,7,{"$f":"INDEX(Lists!$B$32:$B$40, MATCH(2020-C1253, Lists!$C$32:$C$40,1))","v":"0-20"},{"$f":"SUMPRODUCT((Data!$B$17:$B$19=Model!$F1253)*(Data!$C$16:$K$16=Model!$K1253)*(Data!$C$17:$K$19))","v":1.22},90.460000000000008,{"$f":"_xlfn.IFS(M1253>70,\"Serviceable\",M1253>30, \"Limited Life\",M1253<=30, \"Unserviceable\")","v":"Serviceable"}]
[null,1964,1971,"Wood Creos Impregnated","Serviceable","Class 3",2017,100,88.66,8,{"$f":"INDEX(Lists!$B$32:$B$40, MATCH(2020-C1254, Lists!$C$32:$C$40,1))","v":"41-50"},{"$f":"SUMPRODUCT((Data!$B$17:$B$19=Model!$F1254)*(Data!$C$16:$K$16=Model!$K1254)*(Data!$C$17:$K$19))","v":3.78},69.760000000000005,{"$f":"_xlfn.IFS(M1254>70,\"Serviceable\",M1254>30, \"Limited Life\",M1254<=30, \"Unserviceable\")","v":"Limited Life"}]
[null,1965,1982,"Wood Untreated Dressed","Serviceable","Class 1",2018,110,104.96,7,{"$f":"INDEX(Lists!$B$32:$B$40, MATCH(2020-C1255, Lists!$C$32:$C$40,1))","v":"31-40"},{"$f":"SUMPRODUCT((Data!$B$17:$B$19=Model!$F1255)*(Data!$C$16:$K$16=Model!$K1255)*(Data!$C$17:$K$19))","v":2.52},92.36,{"$f":"_xlfn.IFS(M1255>70,\"Serviceable\",M1255>30, \"Limited Life\",M1255<=30, \"Unserviceable\")","v":"Serviceable"}]
[null,1966,1997,"CCA Treated Pole","Serviceable","Class 2",2017,140,134.33000000000001,8,{"$f":"INDEX(Lists!$B$32:$B$40, MATCH(2020-C1256, Lists!$C$32:$C$40,1))","v":"21-30"},{"$f":"SUMPRODUCT((Data!$B$17:$B$19=Model!$F1256)*(Data!$C$16:$K$16=Model!$K1256)*(Data!$C$17:$K$19))","v":1.89},124.88,{"$f":"_xlfn.IFS(M1256>70,\"Serviceable\",M1256>30, \"Limited Life\",M1256<=30, \"Unserviceable\")","v":"Serviceable"}]
[null,1969,2010,"CCA Treated Pole","Serviceable","Class 2",2018,162.49719689682513,160.05719689682513,7,{"$f":"INDEX(Lists!$B$32:$B$40, MATCH(2020-C1257, Lists!$C$32:$C$40,1))","v":"0-20"},{"$f":"SUMPRODUCT((Data!$B$17:$B$19=Model!$F1257)*(Data!$C$16:$K$16=Model!$K1257)*(Data!$C$17:$K$19))","v":1.22},153.95719689682514,{"$f":"_xlfn.IFS(M1257>70,\"Serviceable\",M1257>30, \"Limited Life\",M1257<=30, \"Unserviceable\")","v":"Serviceable"}]
[null,1971,1967,"Wood Creos Impregnated","Serviceable","Class 3",2018,90,84.54,7,{"$f":"INDEX(Lists!$B$32:$B$40, MATCH(2020-C1258, Lists!$C$32:$C$40,1))","v":"51-60"},{"$f":"SUMPRODUCT((Data!$B$17:$B$19=Model!$F1258)*(Data!$C$16:$K$16=Model!$K1258)*(Data!$C$17:$K$19))","v":2.73},70.89,{"$f":"_xlfn.IFS(M1258>70,\"Serviceable\",M1258>30, \"Limited Life\",M1258<=30, \"Unserviceable\")","v":"Serviceable"}]
[null,1972,1969,"Wood Creos Impregnated","Serviceable","Class 3",2017,100,91.81,8,{"$f":"INDEX(Lists!$B$32:$B$40, MATCH(2020-C1259, Lists!$C$32:$C$40,1))","v":"51-60"},{"$f":"SUMPRODUCT((Data!$B$17:$B$19=Model!$F1259)*(Data!$C$16:$K$16=Model!$K1259)*(Data!$C$17:$K$19))","v":2.73},78.16,{"$f":"_xlfn.IFS(M1259>70,\"Serviceable\",M1259>30, \"Limited Life\",M1259<=30, \"Unserviceable\")","v":"Serviceable"}]
[null,1973,1969,"Wood Creos Impregnated","Serviceable","Class 3",2018,80,74.540000000000006,7,{"$f":"INDEX(Lists!$B$32:$B$40, MATCH(2020-C1260, Lists!$C$32:$C$40,1))","v":"51-60"},{"$f":"SUMPRODUCT((Data!$B$17:$B$19=Model!$F1260)*(Data!$C$16:$K$16=Model!$K1260)*(Data!$C$17:$K$19))","v":2.73},60.89,{"$f":"_xlfn.IFS(M1260>70,\"Serviceable\",M1260>30, \"Limited Life\",M1260<=30, \"Unserviceable\")","v":"Limited Life"}]
[null,1974,1968,"Wood Creos Impregnated","Serviceable","Class 2",2016,150,139.72,9,{"$f":"INDEX(Lists!$B$32:$B$40, MATCH(2020-C1261, Lists!$C$32:$C$40,1))","v":"51-60"},{"$f":"SUMPRODUCT((Data!$B$17:$B$19=Model!$F1261)*(Data!$C$16:$K$16=Model!$K1261)*(Data!$C$17:$K$19))","v":2.57},126.87,{"$f":"_xlfn.IFS(M1261>70,\"Serviceable\",M1261>30, \"Limited Life\",M1261<=30, \"Unserviceable\")","v":"Serviceable"}]
[null,1975,1968,"Wood Creos Impregnated","Limited Life","Class 3",2018,70,64.540000000000006,7,{"$f":"INDEX(Lists!$B$32:$B$40, MATCH(2020-C1262, Lists!$C$32:$C$40,1))","v":"51-60"},{"$f":"SUMPRODUCT((Data!$B$17:$B$19=Model!$F1262)*(Data!$C$16:$K$16=Model!$K1262)*(Data!$C$17:$K$19))","v":2.73},50.89,{"$f":"_xlfn.IFS(M1262>70,\"Serviceable\",M1262>30, \"Limited Life\",M1262<=30, \"Unserviceable\")","v":"Limited Life"}]
[null,1977,1979,"Wood Untreated Dressed","Serviceable","Class 1",2018,100,96.5,7,{"$f":"INDEX(Lists!$B$32:$B$40, MATCH(2020-C1263, Lists!$C$32:$C$40,1))","v":"41-50"},{"$f":"SUMPRODUCT((Data!$B$17:$B$19=Model!$F1263)*(Data!$C$16:$K$16=Model!$K1263)*(Data!$C$17:$K$19))","v":1.75},87.75,{"$f":"_xlfn.IFS(M1263>70,\"Serviceable\",M1263>30, \"Limited Life\",M1263<=30, \"Unserviceable\")","v":"Serviceable"}]
[null,1978,1957,"Wood Untreated Dressed","Serviceable","Class 2",2016,80,71.08,9,{"$f":"INDEX(Lists!$B$32:$B$40, MATCH(2020-C1264, Lists!$C$32:$C$40,1))","v":"61-70"},{"$f":"SUMPRODUCT((Data!$B$17:$B$19=Model!$F1264)*(Data!$C$16:$K$16=Model!$K1264)*(Data!$C$17:$K$19))","v":2.23},59.93,{"$f":"_xlfn.IFS(M1264>70,\"Serviceable\",M1264>30, \"Limited Life\",M1264<=30, \"Unserviceable\")","v":"Limited Life"}]
[null,1979,2010,"CCA Treated Pole","Serviceable","Class 2",2018,162.49719689682513,160.05719689682513,7,{"$f":"INDEX(Lists!$B$32:$B$40, MATCH(2020-C1265, Lists!$C$32:$C$40,1))","v":"0-20"},{"$f":"SUMPRODUCT((Data!$B$17:$B$19=Model!$F1265)*(Data!$C$16:$K$16=Model!$K1265)*(Data!$C$17:$K$19))","v":1.22},153.95719689682514,{"$f":"_xlfn.IFS(M1265>70,\"Serviceable\",M1265>30, \"Limited Life\",M1265<=30, \"Unserviceable\")","v":"Serviceable"}]
[null,1980,1983,"Wood Untreated Dressed","Serviceable","Class 1",2016,140,129.91999999999999,9,{"$f":"INDEX(Lists!$B$32:$B$40, MATCH(2020-C1266, Lists!$C$32:$C$40,1))","v":"31-40"},{"$f":"SUMPRODUCT((Data!$B$17:$B$19=Model!$F1266)*(Data!$C$16:$K$16=Model!$K1266)*(Data!$C$17:$K$19))","v":2.52},117.32,{"$f":"_xlfn.IFS(M1266>70,\"Serviceable\",M1266>30, \"Limited Life\",M1266<=30, \"Unserviceable\")","v":"Serviceable"}]
[null,1982,1968,"Wood Untreated Round","Serviceable","Class 2",2016,120,109.72,9,{"$f":"INDEX(Lists!$B$32:$B$40, MATCH(2020-C1267, Lists!$C$32:$C$40,1))","v":"51-60"},{"$f":"SUMPRODUCT((Data!$B$17:$B$19=Model!$F1267)*(Data!$C$16:$K$16=Model!$K1267)*(Data!$C$17:$K$19))","v":2.57},96.87,{"$f":"_xlfn.IFS(M1267>70,\"Serviceable\",M1267>30, \"Limited Life\",M1267<=30, \"Unserviceable\")","v":"Serviceable"}]
[null,1983,1968,"Wood Creos Impregnated","Serviceable","Class 3",2018,80,74.540000000000006,7,{"$f":"INDEX(Lists!$B$32:$B$40, MATCH(2020-C1268, Lists!$C$32:$C$40,1))","v":"51-60"},{"$f":"SUMPRODUCT((Data!$B$17:$B$19=Model!$F1268)*(Data!$C$16:$K$16=Model!$K1268)*(Data!$C$17:$K$19))","v":2.73},60.89,{"$f":"_xlfn.IFS(M1268>70,\"Serviceable\",M1268>30, \"Limited Life\",M1268<=30, \"Unserviceable\")","v":"Limited Life"}]
[null,1984,1968,"Wood Untreated Round","Serviceable","Class 2",2016,100,89.72,9,{"$f":"INDEX(Lists!$B$32:$B$40, MATCH(2020-C1269, Lists!$C$32:$C$40,1))","v":"51-60"},{"$f":"SUMPRODUCT((Data!$B$17:$B$19=Model!$F1269)*(Data!$C$16:$K$16=Model!$K1269)*(Data!$C$17:$K$19))","v":2.57},76.87,{"$f":"_xlfn.IFS(M1269>70,\"Serviceable\",M1269>30, \"Limited Life\",M1269<=30, \"Unserviceable\")","v":"Serviceable"}]
[null,1985,1965,"Wood Creos Impregnated","Serviceable","Class 3",2018,90,84.54,7,{"$f":"INDEX(Lists!$B$32:$B$40, MATCH(2020-C1270, Lists!$C$32:$C$40,1))","v":"51-60"},{"$f":"SUMPRODUCT((Data!$B$17:$B$19=Model!$F1270)*(Data!$C$16:$K$16=Model!$K1270)*(Data!$C$17:$K$19))","v":2.73},70.89,{"$f":"_xlfn.IFS(M1270>70,\"Serviceable\",M1270>30, \"Limited Life\",M1270<=30, \"Unserviceable\")","v":"Serviceable"}]
[null,1987,2002,"CCA Treated Pole","Serviceable","Class 1",2018,166.31691553103065,164.19691553103064,7,{"$f":"INDEX(Lists!$B$32:$B$40, MATCH(2020-C1271, Lists!$C$32:$C$40,1))","v":"0-20"},{"$f":"SUMPRODUCT((Data!$B$17:$B$19=Model!$F1271)*(Data!$C$16:$K$16=Model!$K1271)*(Data!$C$17:$K$19))","v":1.06},158.89691553103066,{"$f":"_xlfn.IFS(M1271>70,\"Serviceable\",M1271>30, \"Limited Life\",M1271<=30, \"Unserviceable\")","v":"Serviceable"}]
[null,1990,1955,"Wood Untreated Round","Limited Life","Class 2",2016,75,66.08,9,{"$f":"INDEX(Lists!$B$32:$B$40, MATCH(2020-C1272, Lists!$C$32:$C$40,1))","v":"61-70"},{"$f":"SUMPRODUCT((Data!$B$17:$B$19=Model!$F1272)*(Data!$C$16:$K$16=Model!$K1272)*(Data!$C$17:$K$19))","v":2.23},54.93,{"$f":"_xlfn.IFS(M1272>70,\"Serviceable\",M1272>30, \"Limited Life\",M1272<=30, \"Unserviceable\")","v":"Limited Life"}]
[null,1991,1983,"Wood Untreated Dressed","Serviceable","Class 1",2018,120,114.96,7,{"$f":"INDEX(Lists!$B$32:$B$40, MATCH(2020-C1273, Lists!$C$32:$C$40,1))","v":"31-40"},{"$f":"SUMPRODUCT((Data!$B$17:$B$19=Model!$F1273)*(Data!$C$16:$K$16=Model!$K1273)*(Data!$C$17:$K$19))","v":2.52},102.36,{"$f":"_xlfn.IFS(M1273>70,\"Serviceable\",M1273>30, \"Limited Life\",M1273<=30, \"Unserviceable\")","v":"Serviceable"}]
[null,1993,1998,"CCA Treated Pole","Serviceable","Class 1",2020,120,120,5,{"$f":"INDEX(Lists!$B$32:$B$40, MATCH(2020-C1274, Lists!$C$32:$C$40,1))","v":"21-30"},{"$f":"SUMPRODUCT((Data!$B$17:$B$19=Model!$F1274)*(Data!$C$16:$K$16=Model!$K1274)*(Data!$C$17:$K$19))","v":1.96},110.2,{"$f":"_xlfn.IFS(M1274>70,\"Serviceable\",M1274>30, \"Limited Life\",M1274<=30, \"Unserviceable\")","v":"Serviceable"}]
[null,1994,1938,"Wood Untreated Dressed","Serviceable","Class 1",2020,100,100,5,{"$f":"INDEX(Lists!$B$32:$B$40, MATCH(2020-C1275, Lists!$C$32:$C$40,1))","v":"81-90"},{"$f":"SUMPRODUCT((Data!$B$17:$B$19=Model!$F1275)*(Data!$C$16:$K$16=Model!$K1275)*(Data!$C$17:$K$19))","v":2.81},85.95,{"$f":"_xlfn.IFS(M1275>70,\"Serviceable\",M1275>30, \"Limited Life\",M1275<=30, \"Unserviceable\")","v":"Serviceable"}]
[null,1995,1966,"Wood Creos Impregnated","Serviceable","Class 3",2016,100,89.08,9,{"$f":"INDEX(Lists!$B$32:$B$40, MATCH(2020-C1276, Lists!$C$32:$C$40,1))","v":"51-60"},{"$f":"SUMPRODUCT((Data!$B$17:$B$19=Model!$F1276)*(Data!$C$16:$K$16=Model!$K1276)*(Data!$C$17:$K$19))","v":2.73},75.430000000000007,{"$f":"_xlfn.IFS(M1276>70,\"Serviceable\",M1276>30, \"Limited Life\",M1276<=30, \"Unserviceable\")","v":"Serviceable"}]
[null,1996,1938,"Wood Untreated Dressed","Serviceable","Class 1",2020,100,100,5,{"$f":"INDEX(Lists!$B$32:$B$40, MATCH(2020-C1277, Lists!$C$32:$C$40,1))","v":"81-90"},{"$f":"SUMPRODUCT((Data!$B$17:$B$19=Model!$F1277)*(Data!$C$16:$K$16=Model!$K1277)*(Data!$C$17:$K$19))","v":2.81},85.95,{"$f":"_xlfn.IFS(M1277>70,\"Serviceable\",M1277>30, \"Limited Life\",M1277<=30, \"Unserviceable\")","v":"Serviceable"}]
[null,1999,1974,"Wood Untreated Dressed","Serviceable","Class 2",2016,90,76.88,9,{"$f":"INDEX(Lists!$B$32:$B$40, MATCH(2020-C1278, Lists!$C$32:$C$40,1))","v":"41-50"},{"$f":"SUMPRODUCT((Data!$B$17:$B$19=Model!$F1278)*(Data!$C$16:$K$16=Model!$K1278)*(Data!$C$17:$K$19))","v":3.28},60.480000000000004,{"$f":"_xlfn.IFS(M1278>70,\"Serviceable\",M1278>30, \"Limited Life\",M1278<=30, \"Unserviceable\")","v":"Limited Life"}]
[null,2000,1934,"Wood Untreated Dressed","Serviceable","Class 1",2018,110,104.38,7,{"$f":"INDEX(Lists!$B$32:$B$40, MATCH(2020-C1279, Lists!$C$32:$C$40,1))","v":"81-90"},{"$f":"SUMPRODUCT((Data!$B$17:$B$19=Model!$F1279)*(Data!$C$16:$K$16=Model!$K1279)*(Data!$C$17:$K$19))","v":2.81},90.33,{"$f":"_xlfn.IFS(M1279>70,\"Serviceable\",M1279>30, \"Limited Life\",M1279<=30, \"Unserviceable\")","v":"Serviceable"}]
[null,2002,1935,"Wood Untreated Dressed","Serviceable","Class 1",2020,90,90,5,{"$f":"INDEX(Lists!$B$32:$B$40, MATCH(2020-C1280, Lists!$C$32:$C$40,1))","v":"81-90"},{"$f":"SUMPRODUCT((Data!$B$17:$B$19=Model!$F1280)*(Data!$C$16:$K$16=Model!$K1280)*(Data!$C$17:$K$19))","v":2.81},75.95,{"$f":"_xlfn.IFS(M1280>70,\"Serviceable\",M1280>30, \"Limited Life\",M1280<=30, \"Unserviceable\")","v":"Serviceable"}]
[null,2003,1983,"Wood Untreated Dressed","Serviceable","Class 1",2016,150,139.91999999999999,9,{"$f":"INDEX(Lists!$B$32:$B$40, MATCH(2020-C1281, Lists!$C$32:$C$40,1))","v":"31-40"},{"$f":"SUMPRODUCT((Data!$B$17:$B$19=Model!$F1281)*(Data!$C$16:$K$16=Model!$K1281)*(Data!$C$17:$K$19))","v":2.52},127.32,{"$f":"_xlfn.IFS(M1281>70,\"Serviceable\",M1281>30, \"Limited Life\",M1281<=30, \"Unserviceable\")","v":"Serviceable"}]
[null,2005,1968,"Wood Creos Impregnated","Serviceable","Class 3",2016,130,119.08,9,{"$f":"INDEX(Lists!$B$32:$B$40, MATCH(2020-C1282, Lists!$C$32:$C$40,1))","v":"51-60"},{"$f":"SUMPRODUCT((Data!$B$17:$B$19=Model!$F1282)*(Data!$C$16:$K$16=Model!$K1282)*(Data!$C$17:$K$19))","v":2.73},105.43,{"$f":"_xlfn.IFS(M1282>70,\"Serviceable\",M1282>30, \"Limited Life\",M1282<=30, \"Unserviceable\")","v":"Serviceable"}]
[null,2006,1965,"Wood Creos Impregnated","Serviceable","Class 3",2020,80,80,5,{"$f":"INDEX(Lists!$B$32:$B$40, MATCH(2020-C1283, Lists!$C$32:$C$40,1))","v":"51-60"},{"$f":"SUMPRODUCT((Data!$B$17:$B$19=Model!$F1283)*(Data!$C$16:$K$16=Model!$K1283)*(Data!$C$17:$K$19))","v":2.73},66.349999999999994,{"$f":"_xlfn.IFS(M1283>70,\"Serviceable\",M1283>30, \"Limited Life\",M1283<=30, \"Unserviceable\")","v":"Limited Life"}]
[null,2008,2011,"CCA Treated Pole","Serviceable","Class 1",2020,100,100,5,{"$f":"INDEX(Lists!$B$32:$B$40, MATCH(2020-C1284, Lists!$C$32:$C$40,1))","v":"0-20"},{"$f":"SUMPRODUCT((Data!$B$17:$B$19=Model!$F1284)*(Data!$C$16:$K$16=Model!$K1284)*(Data!$C$17:$K$19))","v":1.06},94.7,{"$f":"_xlfn.IFS(M1284>70,\"Serviceable\",M1284>30, \"Limited Life\",M1284<=30, \"Unserviceable\")","v":"Serviceable"}]
[null,2009,1967,"Wood Creos Impregnated","Serviceable","Class 3",2016,110,99.08,9,{"$f":"INDEX(Lists!$B$32:$B$40, MATCH(2020-C1285, Lists!$C$32:$C$40,1))","v":"51-60"},{"$f":"SUMPRODUCT((Data!$B$17:$B$19=Model!$F1285)*(Data!$C$16:$K$16=Model!$K1285)*(Data!$C$17:$K$19))","v":2.73},85.43,{"$f":"_xlfn.IFS(M1285>70,\"Serviceable\",M1285>30, \"Limited Life\",M1285<=30, \"Unserviceable\")","v":"Serviceable"}]
[null,2010,1984,"Wood Untreated Dressed","Serviceable","Class 1",2018,130,124.96,7,{"$f":"INDEX(Lists!$B$32:$B$40, MATCH(2020-C1286, Lists!$C$32:$C$40,1))","v":"31-40"},{"$f":"SUMPRODUCT((Data!$B$17:$B$19=Model!$F1286)*(Data!$C$16:$K$16=Model!$K1286)*(Data!$C$17:$K$19))","v":2.52},112.36,{"$f":"_xlfn.IFS(M1286>70,\"Serviceable\",M1286>30, \"Limited Life\",M1286<=30, \"Unserviceable\")","v":"Serviceable"}]
[null,2011,1980,"Wood Untreated Dressed","Serviceable","Class 1",2018,110,104.96,7,{"$f":"INDEX(Lists!$B$32:$B$40, MATCH(2020-C1287, Lists!$C$32:$C$40,1))","v":"31-40"},{"$f":"SUMPRODUCT((Data!$B$17:$B$19=Model!$F1287)*(Data!$C$16:$K$16=Model!$K1287)*(Data!$C$17:$K$19))","v":2.52},92.36,{"$f":"_xlfn.IFS(M1287>70,\"Serviceable\",M1287>30, \"Limited Life\",M1287<=30, \"Unserviceable\")","v":"Serviceable"}]
[null,2012,1966,"Wood Untreated Round","Serviceable","Class 3",2016,90,79.08,{"$f":"2025-G1288","v":9},{"$f":"INDEX(Lists!$B$32:$B$40, MATCH(2020-C1288, Lists!$C$32:$C$40,1))","v":"51-60"},{"$f":"SUMPRODUCT((Data!$B$17:$B$19=Model!$F1288)*(Data!$C$16:$K$16=Model!$K1288)*(Data!$C$17:$K$19))","v":2.73},{"$f":"IF(IF(H1288>=700,999,(H1288-L1288*J1288))<0,0,IF(H1288>=700,999,(H1288-L1288*J1288)))","v":65.430000000000007},{"$f":"_xlfn.IFS(M1288>70,\"Serviceable\",M1288>30, \"Limited Life\",M1288<=30, \"Unserviceable\")","v":"Limited Life"}]
[null,2013,2010,"CCA Treated Pole","Serviceable","Class 1",2018,100,97.88,7,{"$f":"INDEX(Lists!$B$32:$B$40, MATCH(2020-C1289, Lists!$C$32:$C$40,1))","v":"0-20"},{"$f":"SUMPRODUCT((Data!$B$17:$B$19=Model!$F1289)*(Data!$C$16:$K$16=Model!$K1289)*(Data!$C$17:$K$19))","v":1.06},92.58,{"$f":"_xlfn.IFS(M1289>70,\"Serviceable\",M1289>30, \"Limited Life\",M1289<=30, \"Unserviceable\")","v":"Serviceable"}]
[null,2014,1968,"Wood Creos Impregnated","Serviceable","Class 2",2016,120,109.72,9,{"$f":"INDEX(Lists!$B$32:$B$40, MATCH(2020-C1290, Lists!$C$32:$C$40,1))","v":"51-60"},{"$f":"SUMPRODUCT((Data!$B$17:$B$19=Model!$F1290)*(Data!$C$16:$K$16=Model!$K1290)*(Data!$C$17:$K$19))","v":2.57},96.87,{"$f":"_xlfn.IFS(M1290>70,\"Serviceable\",M1290>30, \"Limited Life\",M1290<=30, \"Unserviceable\")","v":"Serviceable"}]
[null,2015,2001,"CCA Treated Pole","Serviceable","Class 2",2018,160,157.56,7,{"$f":"INDEX(Lists!$B$32:$B$40, MATCH(2020-C1291, Lists!$C$32:$C$40,1))","v":"0-20"},{"$f":"SUMPRODUCT((Data!$B$17:$B$19=Model!$F1291)*(Data!$C$16:$K$16=Model!$K1291)*(Data!$C$17:$K$19))","v":1.22},151.46,{"$f":"_xlfn.IFS(M1291>70,\"Serviceable\",M1291>30, \"Limited Life\",M1291<=30, \"Unserviceable\")","v":"Serviceable"}]
[null,2017,1956,"Wood Untreated Round","Limited Life","Class 1",2018,60,55.94,7,{"$f":"INDEX(Lists!$B$32:$B$40, MATCH(2020-C1292, Lists!$C$32:$C$40,1))","v":"61-70"},{"$f":"SUMPRODUCT((Data!$B$17:$B$19=Model!$F1292)*(Data!$C$16:$K$16=Model!$K1292)*(Data!$C$17:$K$19))","v":2.0299999999999998},45.79,{"$f":"_xlfn.IFS(M1292>70,\"Serviceable\",M1292>30, \"Limited Life\",M1292<=30, \"Unserviceable\")","v":"Limited Life"}]
[null,2018,1967,"Wood Creos Impregnated","Limited Life","Class 3",2016,80,69.08,9,{"$f":"INDEX(Lists!$B$32:$B$40, MATCH(2020-C1293, Lists!$C$32:$C$40,1))","v":"51-60"},{"$f":"SUMPRODUCT((Data!$B$17:$B$19=Model!$F1293)*(Data!$C$16:$K$16=Model!$K1293)*(Data!$C$17:$K$19))","v":2.73},55.43,{"$f":"_xlfn.IFS(M1293>70,\"Serviceable\",M1293>30, \"Limited Life\",M1293<=30, \"Unserviceable\")","v":"Limited Life"}]
[null,2019,1967,"Wood Creos Impregnated","Serviceable","Class 3",2018,90,84.54,7,{"$f":"INDEX(Lists!$B$32:$B$40, MATCH(2020-C1294, Lists!$C$32:$C$40,1))","v":"51-60"},{"$f":"SUMPRODUCT((Data!$B$17:$B$19=Model!$F1294)*(Data!$C$16:$K$16=Model!$K1294)*(Data!$C$17:$K$19))","v":2.73},70.89,{"$f":"_xlfn.IFS(M1294>70,\"Serviceable\",M1294>30, \"Limited Life\",M1294<=30, \"Unserviceable\")","v":"Serviceable"}]
[null,2020,1961,"Wood Creos Impregnated","Serviceable","Class 3",2016,90,79.08,9,{"$f":"INDEX(Lists!$B$32:$B$40, MATCH(2020-C1295, Lists!$C$32:$C$40,1))","v":"51-60"},{"$f":"SUMPRODUCT((Data!$B$17:$B$19=Model!$F1295)*(Data!$C$16:$K$16=Model!$K1295)*(Data!$C$17:$K$19))","v":2.73},65.430000000000007,{"$f":"_xlfn.IFS(M1295>70,\"Serviceable\",M1295>30, \"Limited Life\",M1295<=30, \"Unserviceable\")","v":"Limited Life"}]
[null,2022,1984,"Wood Creos Impregnated","Serviceable","Class 1",2016,140,129.91999999999999,9,{"$f":"INDEX(Lists!$B$32:$B$40, MATCH(2020-C1296, Lists!$C$32:$C$40,1))","v":"31-40"},{"$f":"SUMPRODUCT((Data!$B$17:$B$19=Model!$F1296)*(Data!$C$16:$K$16=Model!$K1296)*(Data!$C$17:$K$19))","v":2.52},117.32,{"$f":"_xlfn.IFS(M1296>70,\"Serviceable\",M1296>30, \"Limited Life\",M1296<=30, \"Unserviceable\")","v":"Serviceable"}]
[null,2023,1984,"Wood Untreated Round","Serviceable","Class 1",2018,80,74.959999999999994,7,{"$f":"INDEX(Lists!$B$32:$B$40, MATCH(2020-C1297, Lists!$C$32:$C$40,1))","v":"31-40"},{"$f":"SUMPRODUCT((Data!$B$17:$B$19=Model!$F1297)*(Data!$C$16:$K$16=Model!$K1297)*(Data!$C$17:$K$19))","v":2.52},62.36,{"$f":"_xlfn.IFS(M1297>70,\"Serviceable\",M1297>30, \"Limited Life\",M1297<=30, \"Unserviceable\")","v":"Limited Life"}]
[null,2024,1967,"Wood Creos Impregnated","Serviceable","Class 3",2016,120,109.08,9,{"$f":"INDEX(Lists!$B$32:$B$40, MATCH(2020-C1298, Lists!$C$32:$C$40,1))","v":"51-60"},{"$f":"SUMPRODUCT((Data!$B$17:$B$19=Model!$F1298)*(Data!$C$16:$K$16=Model!$K1298)*(Data!$C$17:$K$19))","v":2.73},95.43,{"$f":"_xlfn.IFS(M1298>70,\"Serviceable\",M1298>30, \"Limited Life\",M1298<=30, \"Unserviceable\")","v":"Serviceable"}]
[null,2025,1956,"Wood Untreated Round","Limited Life","Class 1",2018,70,65.94,7,{"$f":"INDEX(Lists!$B$32:$B$40, MATCH(2020-C1299, Lists!$C$32:$C$40,1))","v":"61-70"},{"$f":"SUMPRODUCT((Data!$B$17:$B$19=Model!$F1299)*(Data!$C$16:$K$16=Model!$K1299)*(Data!$C$17:$K$19))","v":2.0299999999999998},55.79,{"$f":"_xlfn.IFS(M1299>70,\"Serviceable\",M1299>30, \"Limited Life\",M1299<=30, \"Unserviceable\")","v":"Limited Life"}]
[null,2027,1960,"Wood Creos Impregnated","Limited Life","Class 3",2018,70,64.540000000000006,7,{"$f":"INDEX(Lists!$B$32:$B$40, MATCH(2020-C1300, Lists!$C$32:$C$40,1))","v":"51-60"},{"$f":"SUMPRODUCT((Data!$B$17:$B$19=Model!$F1300)*(Data!$C$16:$K$16=Model!$K1300)*(Data!$C$17:$K$19))","v":2.73},50.89,{"$f":"_xlfn.IFS(M1300>70,\"Serviceable\",M1300>30, \"Limited Life\",M1300<=30, \"Unserviceable\")","v":"Limited Life"}]
[null,2029,1979,"Wood Untreated Dressed","Serviceable","Class 1",2018,120,116.5,7,{"$f":"INDEX(Lists!$B$32:$B$40, MATCH(2020-C1301, Lists!$C$32:$C$40,1))","v":"41-50"},{"$f":"SUMPRODUCT((Data!$B$17:$B$19=Model!$F1301)*(Data!$C$16:$K$16=Model!$K1301)*(Data!$C$17:$K$19))","v":1.75},107.75,{"$f":"_xlfn.IFS(M1301>70,\"Serviceable\",M1301>30, \"Limited Life\",M1301<=30, \"Unserviceable\")","v":"Serviceable"}]
[null,2032,1967,"Wood Creos Impregnated","Limited Life","Class 3",2018,70,64.540000000000006,7,{"$f":"INDEX(Lists!$B$32:$B$40, MATCH(2020-C1302, Lists!$C$32:$C$40,1))","v":"51-60"},{"$f":"SUMPRODUCT((Data!$B$17:$B$19=Model!$F1302)*(Data!$C$16:$K$16=Model!$K1302)*(Data!$C$17:$K$19))","v":2.73},50.89,{"$f":"_xlfn.IFS(M1302>70,\"Serviceable\",M1302>30, \"Limited Life\",M1302<=30, \"Unserviceable\")","v":"Limited Life"}]
[null,2033,1967,"Wood Penta Impregnated","Serviceable","Class 3",2016,90,79.08,9,{"$f":"INDEX(Lists!$B$32:$B$40, MATCH(2020-C1303, Lists!$C$32:$C$40,1))","v":"51-60"},{"$f":"SUMPRODUCT((Data!$B$17:$B$19=Model!$F1303)*(Data!$C$16:$K$16=Model!$K1303)*(Data!$C$17:$K$19))","v":2.73},65.430000000000007,{"$f":"_xlfn.IFS(M1303>70,\"Serviceable\",M1303>30, \"Limited Life\",M1303<=30, \"Unserviceable\")","v":"Limited Life"}]
[null,2035,1963,"Wood Creos Impregnated","Limited Life","Class 3",2020,45,45,5,{"$f":"INDEX(Lists!$B$32:$B$40, MATCH(2020-C1304, Lists!$C$32:$C$40,1))","v":"51-60"},{"$f":"SUMPRODUCT((Data!$B$17:$B$19=Model!$F1304)*(Data!$C$16:$K$16=Model!$K1304)*(Data!$C$17:$K$19))","v":2.73},31.35,{"$f":"_xlfn.IFS(M1304>70,\"Serviceable\",M1304>30, \"Limited Life\",M1304<=30, \"Unserviceable\")","v":"Limited Life"}]
[null,2037,1962,"Wood Creos Impregnated","Limited Life","Class 3",2020,55,55,5,{"$f":"INDEX(Lists!$B$32:$B$40, MATCH(2020-C1305, Lists!$C$32:$C$40,1))","v":"51-60"},{"$f":"SUMPRODUCT((Data!$B$17:$B$19=Model!$F1305)*(Data!$C$16:$K$16=Model!$K1305)*(Data!$C$17:$K$19))","v":2.73},41.35,{"$f":"_xlfn.IFS(M1305>70,\"Serviceable\",M1305>30, \"Limited Life\",M1305<=30, \"Unserviceable\")","v":"Limited Life"}]
[null,2038,2001,"CCA Treated Pole","Serviceable","Class 1",2018,166.31691553103065,164.19691553103064,7,{"$f":"INDEX(Lists!$B$32:$B$40, MATCH(2020-C1306, Lists!$C$32:$C$40,1))","v":"0-20"},{"$f":"SUMPRODUCT((Data!$B$17:$B$19=Model!$F1306)*(Data!$C$16:$K$16=Model!$K1306)*(Data!$C$17:$K$19))","v":1.06},158.89691553103066,{"$f":"_xlfn.IFS(M1306>70,\"Serviceable\",M1306>30, \"Limited Life\",M1306<=30, \"Unserviceable\")","v":"Serviceable"}]
[null,2039,1968,"Wood Creos Impregnated","Serviceable","Class 3",2020,120,120,5,{"$f":"INDEX(Lists!$B$32:$B$40, MATCH(2020-C1307, Lists!$C$32:$C$40,1))","v":"51-60"},{"$f":"SUMPRODUCT((Data!$B$17:$B$19=Model!$F1307)*(Data!$C$16:$K$16=Model!$K1307)*(Data!$C$17:$K$19))","v":2.73},106.35,{"$f":"_xlfn.IFS(M1307>70,\"Serviceable\",M1307>30, \"Limited Life\",M1307<=30, \"Unserviceable\")","v":"Serviceable"}]
[null,2040,1995,"Wood Untreated Dressed","Serviceable","Class 1",2018,150,146.08000000000001,7,{"$f":"INDEX(Lists!$B$32:$B$40, MATCH(2020-C1308, Lists!$C$32:$C$40,1))","v":"21-30"},{"$f":"SUMPRODUCT((Data!$B$17:$B$19=Model!$F1308)*(Data!$C$16:$K$16=Model!$K1308)*(Data!$C$17:$K$19))","v":1.96},136.28,{"$f":"_xlfn.IFS(M1308>70,\"Serviceable\",M1308>30, \"Limited Life\",M1308<=30, \"Unserviceable\")","v":"Serviceable"}]
[null,2042,1979,"Wood Untreated Dressed","Serviceable","Class 1",2018,110,106.5,7,{"$f":"INDEX(Lists!$B$32:$B$40, MATCH(2020-C1309, Lists!$C$32:$C$40,1))","v":"41-50"},{"$f":"SUMPRODUCT((Data!$B$17:$B$19=Model!$F1309)*(Data!$C$16:$K$16=Model!$K1309)*(Data!$C$17:$K$19))","v":1.75},97.75,{"$f":"_xlfn.IFS(M1309>70,\"Serviceable\",M1309>30, \"Limited Life\",M1309<=30, \"Unserviceable\")","v":"Serviceable"}]
[null,2045,1979,"Wood Untreated Dressed","Serviceable","Class 1",2016,100,93,9,{"$f":"INDEX(Lists!$B$32:$B$40, MATCH(2020-C1310, Lists!$C$32:$C$40,1))","v":"41-50"},{"$f":"SUMPRODUCT((Data!$B$17:$B$19=Model!$F1310)*(Data!$C$16:$K$16=Model!$K1310)*(Data!$C$17:$K$19))","v":1.75},84.25,{"$f":"_xlfn.IFS(M1310>70,\"Serviceable\",M1310>30, \"Limited Life\",M1310<=30, \"Unserviceable\")","v":"Serviceable"}]
[null,2046,1978,"Wood Untreated Dressed","Serviceable","Class 1",2018,100,96.5,7,{"$f":"INDEX(Lists!$B$32:$B$40, MATCH(2020-C1311, Lists!$C$32:$C$40,1))","v":"41-50"},{"$f":"SUMPRODUCT((Data!$B$17:$B$19=Model!$F1311)*(Data!$C$16:$K$16=Model!$K1311)*(Data!$C$17:$K$19))","v":1.75},87.75,{"$f":"_xlfn.IFS(M1311>70,\"Serviceable\",M1311>30, \"Limited Life\",M1311<=30, \"Unserviceable\")","v":"Serviceable"}]
[null,2048,1984,"Wood Untreated Dressed","Serviceable","Class 1",2016,150,139.91999999999999,9,{"$f":"INDEX(Lists!$B$32:$B$40, MATCH(2020-C1312, Lists!$C$32:$C$40,1))","v":"31-40"},{"$f":"SUMPRODUCT((Data!$B$17:$B$19=Model!$F1312)*(Data!$C$16:$K$16=Model!$K1312)*(Data!$C$17:$K$19))","v":2.52},127.32,{"$f":"_xlfn.IFS(M1312>70,\"Serviceable\",M1312>30, \"Limited Life\",M1312<=30, \"Unserviceable\")","v":"Serviceable"}]
[null,2049,1935,"Wood Untreated Dressed","Serviceable","Class 1",2018,100,94.38,7,{"$f":"INDEX(Lists!$B$32:$B$40, MATCH(2020-C1313, Lists!$C$32:$C$40,1))","v":"81-90"},{"$f":"SUMPRODUCT((Data!$B$17:$B$19=Model!$F1313)*(Data!$C$16:$K$16=Model!$K1313)*(Data!$C$17:$K$19))","v":2.81},80.33,{"$f":"_xlfn.IFS(M1313>70,\"Serviceable\",M1313>30, \"Limited Life\",M1313<=30, \"Unserviceable\")","v":"Serviceable"}]
[null,2051,1980,"Wood Untreated Dressed","Serviceable","Class 1",2018,100,94.96,7,{"$f":"INDEX(Lists!$B$32:$B$40, MATCH(2020-C1314, Lists!$C$32:$C$40,1))","v":"31-40"},{"$f":"SUMPRODUCT((Data!$B$17:$B$19=Model!$F1314)*(Data!$C$16:$K$16=Model!$K1314)*(Data!$C$17:$K$19))","v":2.52},82.36,{"$f":"_xlfn.IFS(M1314>70,\"Serviceable\",M1314>30, \"Limited Life\",M1314<=30, \"Unserviceable\")","v":"Serviceable"}]
[null,2052,1984,"Wood Untreated Dressed","Serviceable","Class 1",2016,150,139.91999999999999,9,{"$f":"INDEX(Lists!$B$32:$B$40, MATCH(2020-C1315, Lists!$C$32:$C$40,1))","v":"31-40"},{"$f":"SUMPRODUCT((Data!$B$17:$B$19=Model!$F1315)*(Data!$C$16:$K$16=Model!$K1315)*(Data!$C$17:$K$19))","v":2.52},127.32,{"$f":"_xlfn.IFS(M1315>70,\"Serviceable\",M1315>30, \"Limited Life\",M1315<=30, \"Unserviceable\")","v":"Serviceable"}]
[null,2054,1967,"Wood Creos Impregnated","Serviceable","Class 3",2016,90,79.08,9,{"$f":"INDEX(Lists!$B$32:$B$40, MATCH(2020-C1316, Lists!$C$32:$C$40,1))","v":"51-60"},{"$f":"SUMPRODUCT((Data!$B$17:$B$19=Model!$F1316)*(Data!$C$16:$K$16=Model!$K1316)*(Data!$C$17:$K$19))","v":2.73},65.430000000000007,{"$f":"_xlfn.IFS(M1316>70,\"Serviceable\",M1316>30, \"Limited Life\",M1316<=30, \"Unserviceable\")","v":"Limited Life"}]
[null,2056,1996,"Wood Untreated Dressed","Serviceable","Class 1",2016,150,142.16,9,{"$f":"INDEX(Lists!$B$32:$B$40, MATCH(2020-C1317, Lists!$C$32:$C$40,1))","v":"21-30"},{"$f":"SUMPRODUCT((Data!$B$17:$B$19=Model!$F1317)*(Data!$C$16:$K$16=Model!$K1317)*(Data!$C$17:$K$19))","v":1.96},132.36000000000001,{"$f":"_xlfn.IFS(M1317>70,\"Serviceable\",M1317>30, \"Limited Life\",M1317<=30, \"Unserviceable\")","v":"Serviceable"}]
[null,2057,1941,"Wood Untreated Dressed","Serviceable","Class 1",2018,100,95.7,7,{"$f":"INDEX(Lists!$B$32:$B$40, MATCH(2020-C1318, Lists!$C$32:$C$40,1))","v":"71-80"},{"$f":"SUMPRODUCT((Data!$B$17:$B$19=Model!$F1318)*(Data!$C$16:$K$16=Model!$K1318)*(Data!$C$17:$K$19))","v":2.15},84.95,{"$f":"_xlfn.IFS(M1318>70,\"Serviceable\",M1318>30, \"Limited Life\",M1318<=30, \"Unserviceable\")","v":"Serviceable"}]
[null,2058,1969,"Wood Untreated Round","Serviceable","Class 3",2016,90,79.08,9,{"$f":"INDEX(Lists!$B$32:$B$40, MATCH(2020-C1319, Lists!$C$32:$C$40,1))","v":"51-60"},{"$f":"SUMPRODUCT((Data!$B$17:$B$19=Model!$F1319)*(Data!$C$16:$K$16=Model!$K1319)*(Data!$C$17:$K$19))","v":2.73},65.430000000000007,{"$f":"_xlfn.IFS(M1319>70,\"Serviceable\",M1319>30, \"Limited Life\",M1319<=30, \"Unserviceable\")","v":"Limited Life"}]
[null,2059,1939,"Wood Untreated Dressed","Serviceable","Class 1",2018,100,94.38,7,{"$f":"INDEX(Lists!$B$32:$B$40, MATCH(2020-C1320, Lists!$C$32:$C$40,1))","v":"81-90"},{"$f":"SUMPRODUCT((Data!$B$17:$B$19=Model!$F1320)*(Data!$C$16:$K$16=Model!$K1320)*(Data!$C$17:$K$19))","v":2.81},80.33,{"$f":"_xlfn.IFS(M1320>70,\"Serviceable\",M1320>30, \"Limited Life\",M1320<=30, \"Unserviceable\")","v":"Serviceable"}]
[null,2060,1929,"Wood Untreated Dressed","Serviceable","Class 1",2016,140,131.63999999999999,9,{"$f":"INDEX(Lists!$B$32:$B$40, MATCH(2020-C1321, Lists!$C$32:$C$40,1))","v":"90+"},{"$f":"SUMPRODUCT((Data!$B$17:$B$19=Model!$F1321)*(Data!$C$16:$K$16=Model!$K1321)*(Data!$C$17:$K$19))","v":2.09},121.19,{"$f":"_xlfn.IFS(M1321>70,\"Serviceable\",M1321>30, \"Limited Life\",M1321<=30, \"Unserviceable\")","v":"Serviceable"}]
[null,2061,1985,"Wood Untreated Dressed","Serviceable","Class 1",2020,120,120,5,{"$f":"INDEX(Lists!$B$32:$B$40, MATCH(2020-C1322, Lists!$C$32:$C$40,1))","v":"31-40"},{"$f":"SUMPRODUCT((Data!$B$17:$B$19=Model!$F1322)*(Data!$C$16:$K$16=Model!$K1322)*(Data!$C$17:$K$19))","v":2.52},107.4,{"$f":"_xlfn.IFS(M1322>70,\"Serviceable\",M1322>30, \"Limited Life\",M1322<=30, \"Unserviceable\")","v":"Serviceable"}]
[null,2062,1938,"Wood Untreated Dressed","Serviceable","Class 1",2016,120,108.76,9,{"$f":"INDEX(Lists!$B$32:$B$40, MATCH(2020-C1323, Lists!$C$32:$C$40,1))","v":"81-90"},{"$f":"SUMPRODUCT((Data!$B$17:$B$19=Model!$F1323)*(Data!$C$16:$K$16=Model!$K1323)*(Data!$C$17:$K$19))","v":2.81},94.710000000000008,{"$f":"_xlfn.IFS(M1323>70,\"Serviceable\",M1323>30, \"Limited Life\",M1323<=30, \"Unserviceable\")","v":"Serviceable"}]
[null,2063,1985,"Wood Untreated Dressed","Serviceable","Class 1",2020,110,110,5,{"$f":"INDEX(Lists!$B$32:$B$40, MATCH(2020-C1324, Lists!$C$32:$C$40,1))","v":"31-40"},{"$f":"SUMPRODUCT((Data!$B$17:$B$19=Model!$F1324)*(Data!$C$16:$K$16=Model!$K1324)*(Data!$C$17:$K$19))","v":2.52},97.4,{"$f":"_xlfn.IFS(M1324>70,\"Serviceable\",M1324>30, \"Limited Life\",M1324<=30, \"Unserviceable\")","v":"Serviceable"}]
[null,2064,1967,"Wood Creos Impregnated","Serviceable","Class 3",2016,100,89.08,9,{"$f":"INDEX(Lists!$B$32:$B$40, MATCH(2020-C1325, Lists!$C$32:$C$40,1))","v":"51-60"},{"$f":"SUMPRODUCT((Data!$B$17:$B$19=Model!$F1325)*(Data!$C$16:$K$16=Model!$K1325)*(Data!$C$17:$K$19))","v":2.73},75.430000000000007,{"$f":"_xlfn.IFS(M1325>70,\"Serviceable\",M1325>30, \"Limited Life\",M1325<=30, \"Unserviceable\")","v":"Serviceable"}]
[null,2065,1985,"Wood Untreated Dressed","Serviceable","Class 1",2020,120,120,5,{"$f":"INDEX(Lists!$B$32:$B$40, MATCH(2020-C1326, Lists!$C$32:$C$40,1))","v":"31-40"},{"$f":"SUMPRODUCT((Data!$B$17:$B$19=Model!$F1326)*(Data!$C$16:$K$16=Model!$K1326)*(Data!$C$17:$K$19))","v":2.52},107.4,{"$f":"_xlfn.IFS(M1326>70,\"Serviceable\",M1326>30, \"Limited Life\",M1326<=30, \"Unserviceable\")","v":"Serviceable"}]
[null,2066,1971,"Wood Creos Impregnated","Serviceable","Class 3",2016,120,104.88,9,{"$f":"INDEX(Lists!$B$32:$B$40, MATCH(2020-C1327, Lists!$C$32:$C$40,1))","v":"41-50"},{"$f":"SUMPRODUCT((Data!$B$17:$B$19=Model!$F1327)*(Data!$C$16:$K$16=Model!$K1327)*(Data!$C$17:$K$19))","v":3.78},85.98,{"$f":"_xlfn.IFS(M1327>70,\"Serviceable\",M1327>30, \"Limited Life\",M1327<=30, \"Unserviceable\")","v":"Serviceable"}]
[null,2067,1934,"Wood Untreated Dressed","Limited Life","Class 1",2020,70,70,5,{"$f":"INDEX(Lists!$B$32:$B$40, MATCH(2020-C1328, Lists!$C$32:$C$40,1))","v":"81-90"},{"$f":"SUMPRODUCT((Data!$B$17:$B$19=Model!$F1328)*(Data!$C$16:$K$16=Model!$K1328)*(Data!$C$17:$K$19))","v":2.81},55.95,{"$f":"_xlfn.IFS(M1328>70,\"Serviceable\",M1328>30, \"Limited Life\",M1328<=30, \"Unserviceable\")","v":"Limited Life"}]
[null,2075,2003,"CCA Treated Pole","Serviceable","Class 1",2020,166.31691553103065,166.31691553103065,5,{"$f":"INDEX(Lists!$B$32:$B$40, MATCH(2020-C1329, Lists!$C$32:$C$40,1))","v":"0-20"},{"$f":"SUMPRODUCT((Data!$B$17:$B$19=Model!$F1329)*(Data!$C$16:$K$16=Model!$K1329)*(Data!$C$17:$K$19))","v":1.06},161.01691553103063,{"$f":"_xlfn.IFS(M1329>70,\"Serviceable\",M1329>30, \"Limited Life\",M1329<=30, \"Unserviceable\")","v":"Serviceable"}]
[null,2079,2011,"CCA Treated Pole","Serviceable","Class 2",2020,162.49719689682513,162.49719689682513,5,{"$f":"INDEX(Lists!$B$32:$B$40, MATCH(2020-C1330, Lists!$C$32:$C$40,1))","v":"0-20"},{"$f":"SUMPRODUCT((Data!$B$17:$B$19=Model!$F1330)*(Data!$C$16:$K$16=Model!$K1330)*(Data!$C$17:$K$19))","v":1.22},156.39719689682514,{"$f":"_xlfn.IFS(M1330>70,\"Serviceable\",M1330>30, \"Limited Life\",M1330<=30, \"Unserviceable\")","v":"Serviceable"}]
[null,2082,1963,"CCA Treated Pole","Serviceable","Class 1",2017,150,145.05000000000001,8,{"$f":"INDEX(Lists!$B$32:$B$40, MATCH(2020-C1331, Lists!$C$32:$C$40,1))","v":"51-60"},{"$f":"SUMPRODUCT((Data!$B$17:$B$19=Model!$F1331)*(Data!$C$16:$K$16=Model!$K1331)*(Data!$C$17:$K$19))","v":1.65},136.80000000000001,{"$f":"_xlfn.IFS(M1331>70,\"Serviceable\",M1331>30, \"Limited Life\",M1331<=30, \"Unserviceable\")","v":"Serviceable"}]
[null,2083,2006,"CCA Treated Pole","Serviceable","Class 2",2018,162.49719689682513,160.05719689682513,7,{"$f":"INDEX(Lists!$B$32:$B$40, MATCH(2020-C1332, Lists!$C$32:$C$40,1))","v":"0-20"},{"$f":"SUMPRODUCT((Data!$B$17:$B$19=Model!$F1332)*(Data!$C$16:$K$16=Model!$K1332)*(Data!$C$17:$K$19))","v":1.22},153.95719689682514,{"$f":"_xlfn.IFS(M1332>70,\"Serviceable\",M1332>30, \"Limited Life\",M1332<=30, \"Unserviceable\")","v":"Serviceable"}]
[null,2085,1985,"Wood Untreated Dressed","Serviceable","Class 1",2020,110,110,5,{"$f":"INDEX(Lists!$B$32:$B$40, MATCH(2020-C1333, Lists!$C$32:$C$40,1))","v":"31-40"},{"$f":"SUMPRODUCT((Data!$B$17:$B$19=Model!$F1333)*(Data!$C$16:$K$16=Model!$K1333)*(Data!$C$17:$K$19))","v":2.52},97.4,{"$f":"_xlfn.IFS(M1333>70,\"Serviceable\",M1333>30, \"Limited Life\",M1333<=30, \"Unserviceable\")","v":"Serviceable"}]
[null,2086,2011,"CCA Treated Pole","Serviceable","Class 2",2020,162.49719689682513,162.49719689682513,5,{"$f":"INDEX(Lists!$B$32:$B$40, MATCH(2020-C1334, Lists!$C$32:$C$40,1))","v":"0-20"},{"$f":"SUMPRODUCT((Data!$B$17:$B$19=Model!$F1334)*(Data!$C$16:$K$16=Model!$K1334)*(Data!$C$17:$K$19))","v":1.22},156.39719689682514,{"$f":"_xlfn.IFS(M1334>70,\"Serviceable\",M1334>30, \"Limited Life\",M1334<=30, \"Unserviceable\")","v":"Serviceable"}]
[null,2088,2011,"CCA Treated Pole","Serviceable","Class 2",2020,162.49719689682513,162.49719689682513,5,{"$f":"INDEX(Lists!$B$32:$B$40, MATCH(2020-C1335, Lists!$C$32:$C$40,1))","v":"0-20"},{"$f":"SUMPRODUCT((Data!$B$17:$B$19=Model!$F1335)*(Data!$C$16:$K$16=Model!$K1335)*(Data!$C$17:$K$19))","v":1.22},156.39719689682514,{"$f":"_xlfn.IFS(M1335>70,\"Serviceable\",M1335>30, \"Limited Life\",M1335<=30, \"Unserviceable\")","v":"Serviceable"}]
[null,2090,2011,"CCA Treated Pole","Serviceable","Class 2",2020,162.49719689682513,162.49719689682513,5,{"$f":"INDEX(Lists!$B$32:$B$40, MATCH(2020-C1336, Lists!$C$32:$C$40,1))","v":"0-20"},{"$f":"SUMPRODUCT((Data!$B$17:$B$19=Model!$F1336)*(Data!$C$16:$K$16=Model!$K1336)*(Data!$C$17:$K$19))","v":1.22},156.39719689682514,{"$f":"_xlfn.IFS(M1336>70,\"Serviceable\",M1336>30, \"Limited Life\",M1336<=30, \"Unserviceable\")","v":"Serviceable"}]
[null,2091,1967,"Wood Creos Impregnated","Serviceable","Class 3",2017,120,111.81,8,{"$f":"INDEX(Lists!$B$32:$B$40, MATCH(2020-C1337, Lists!$C$32:$C$40,1))","v":"51-60"},{"$f":"SUMPRODUCT((Data!$B$17:$B$19=Model!$F1337)*(Data!$C$16:$K$16=Model!$K1337)*(Data!$C$17:$K$19))","v":2.73},98.16,{"$f":"_xlfn.IFS(M1337>70,\"Serviceable\",M1337>30, \"Limited Life\",M1337<=30, \"Unserviceable\")","v":"Serviceable"}]
[null,2092,1999,"CCA Treated Pole","Serviceable","Class 1",2018,166.31691553103065,162.39691553103066,7,{"$f":"INDEX(Lists!$B$32:$B$40, MATCH(2020-C1338, Lists!$C$32:$C$40,1))","v":"21-30"},{"$f":"SUMPRODUCT((Data!$B$17:$B$19=Model!$F1338)*(Data!$C$16:$K$16=Model!$K1338)*(Data!$C$17:$K$19))","v":1.96},152.59691553103065,{"$f":"_xlfn.IFS(M1338>70,\"Serviceable\",M1338>30, \"Limited Life\",M1338<=30, \"Unserviceable\")","v":"Serviceable"}]
[null,2093,1989,"Wood Untreated Dressed","Serviceable","Class 1",2017,150,142.44,8,{"$f":"INDEX(Lists!$B$32:$B$40, MATCH(2020-C1339, Lists!$C$32:$C$40,1))","v":"31-40"},{"$f":"SUMPRODUCT((Data!$B$17:$B$19=Model!$F1339)*(Data!$C$16:$K$16=Model!$K1339)*(Data!$C$17:$K$19))","v":2.52},129.84,{"$f":"_xlfn.IFS(M1339>70,\"Serviceable\",M1339>30, \"Limited Life\",M1339<=30, \"Unserviceable\")","v":"Serviceable"}]
[null,2096,1967,"Wood Creos Impregnated","Serviceable","Class 3",2020,100,100,5,{"$f":"INDEX(Lists!$B$32:$B$40, MATCH(2020-C1340, Lists!$C$32:$C$40,1))","v":"51-60"},{"$f":"SUMPRODUCT((Data!$B$17:$B$19=Model!$F1340)*(Data!$C$16:$K$16=Model!$K1340)*(Data!$C$17:$K$19))","v":2.73},86.35,{"$f":"_xlfn.IFS(M1340>70,\"Serviceable\",M1340>30, \"Limited Life\",M1340<=30, \"Unserviceable\")","v":"Serviceable"}]
[null,2097,1979,"Wood Untreated Dressed","Serviceable","Class 1",2017,110,104.75,8,{"$f":"INDEX(Lists!$B$32:$B$40, MATCH(2020-C1341, Lists!$C$32:$C$40,1))","v":"41-50"},{"$f":"SUMPRODUCT((Data!$B$17:$B$19=Model!$F1341)*(Data!$C$16:$K$16=Model!$K1341)*(Data!$C$17:$K$19))","v":1.75},96,{"$f":"_xlfn.IFS(M1341>70,\"Serviceable\",M1341>30, \"Limited Life\",M1341<=30, \"Unserviceable\")","v":"Serviceable"}]
[null,2098,1956,"Wood Untreated Round","Serviceable","Class 3",2020,100,100,5,{"$f":"INDEX(Lists!$B$32:$B$40, MATCH(2020-C1342, Lists!$C$32:$C$40,1))","v":"61-70"},{"$f":"SUMPRODUCT((Data!$B$17:$B$19=Model!$F1342)*(Data!$C$16:$K$16=Model!$K1342)*(Data!$C$17:$K$19))","v":2.02},89.9,{"$f":"_xlfn.IFS(M1342>70,\"Serviceable\",M1342>30, \"Limited Life\",M1342<=30, \"Unserviceable\")","v":"Serviceable"}]
[null,2100,1970,"Wood Creos Impregnated","Serviceable","Class 3",2020,90,90,5,{"$f":"INDEX(Lists!$B$32:$B$40, MATCH(2020-C1343, Lists!$C$32:$C$40,1))","v":"41-50"},{"$f":"SUMPRODUCT((Data!$B$17:$B$19=Model!$F1343)*(Data!$C$16:$K$16=Model!$K1343)*(Data!$C$17:$K$19))","v":3.78},71.099999999999994,{"$f":"_xlfn.IFS(M1343>70,\"Serviceable\",M1343>30, \"Limited Life\",M1343<=30, \"Unserviceable\")","v":"Serviceable"}]
[null,2102,2011,"CCA Treated Pole","Serviceable","Class 1",2020,166.31691553103065,166.31691553103065,5,{"$f":"INDEX(Lists!$B$32:$B$40, MATCH(2020-C1344, Lists!$C$32:$C$40,1))","v":"0-20"},{"$f":"SUMPRODUCT((Data!$B$17:$B$19=Model!$F1344)*(Data!$C$16:$K$16=Model!$K1344)*(Data!$C$17:$K$19))","v":1.06},161.01691553103063,{"$f":"_xlfn.IFS(M1344>70,\"Serviceable\",M1344>30, \"Limited Life\",M1344<=30, \"Unserviceable\")","v":"Serviceable"}]
[null,2103,1967,"Wood Creos Impregnated","Serviceable","Class 3",2017,100,91.81,8,{"$f":"INDEX(Lists!$B$32:$B$40, MATCH(2020-C1345, Lists!$C$32:$C$40,1))","v":"51-60"},{"$f":"SUMPRODUCT((Data!$B$17:$B$19=Model!$F1345)*(Data!$C$16:$K$16=Model!$K1345)*(Data!$C$17:$K$19))","v":2.73},78.16,{"$f":"_xlfn.IFS(M1345>70,\"Serviceable\",M1345>30, \"Limited Life\",M1345<=30, \"Unserviceable\")","v":"Serviceable"}]
[null,2104,2011,"CCA Treated Pole","Serviceable","Class 1",2020,166.31691553103065,166.31691553103065,5,{"$f":"INDEX(Lists!$B$32:$B$40, MATCH(2020-C1346, Lists!$C$32:$C$40,1))","v":"0-20"},{"$f":"SUMPRODUCT((Data!$B$17:$B$19=Model!$F1346)*(Data!$C$16:$K$16=Model!$K1346)*(Data!$C$17:$K$19))","v":1.06},161.01691553103063,{"$f":"_xlfn.IFS(M1346>70,\"Serviceable\",M1346>30, \"Limited Life\",M1346<=30, \"Unserviceable\")","v":"Serviceable"}]
[null,2107,1982,"Wood Creos Impregnated","Serviceable","Class 3",2017,130,120.34,8,{"$f":"INDEX(Lists!$B$32:$B$40, MATCH(2020-C1347, Lists!$C$32:$C$40,1))","v":"31-40"},{"$f":"SUMPRODUCT((Data!$B$17:$B$19=Model!$F1347)*(Data!$C$16:$K$16=Model!$K1347)*(Data!$C$17:$K$19))","v":3.22},104.24,{"$f":"_xlfn.IFS(M1347>70,\"Serviceable\",M1347>30, \"Limited Life\",M1347<=30, \"Unserviceable\")","v":"Serviceable"}]
[null,2108,1970,"Wood Creos Impregnated","Serviceable","Class 3",2020,90,90,5,{"$f":"INDEX(Lists!$B$32:$B$40, MATCH(2020-C1348, Lists!$C$32:$C$40,1))","v":"41-50"},{"$f":"SUMPRODUCT((Data!$B$17:$B$19=Model!$F1348)*(Data!$C$16:$K$16=Model!$K1348)*(Data!$C$17:$K$19))","v":3.78},71.099999999999994,{"$f":"_xlfn.IFS(M1348>70,\"Serviceable\",M1348>30, \"Limited Life\",M1348<=30, \"Unserviceable\")","v":"Serviceable"}]
[null,2110,1956,"Wood Untreated Round","Serviceable","Class 1",2020,100,100,5,{"$f":"INDEX(Lists!$B$32:$B$40, MATCH(2020-C1349, Lists!$C$32:$C$40,1))","v":"61-70"},{"$f":"SUMPRODUCT((Data!$B$17:$B$19=Model!$F1349)*(Data!$C$16:$K$16=Model!$K1349)*(Data!$C$17:$K$19))","v":2.0299999999999998},89.85,{"$f":"_xlfn.IFS(M1349>70,\"Serviceable\",M1349>30, \"Limited Life\",M1349<=30, \"Unserviceable\")","v":"Serviceable"}]
[null,2112,1956,"Wood Untreated Round","Limited Life","Class 1",2020,70,70,5,{"$f":"INDEX(Lists!$B$32:$B$40, MATCH(2020-C1350, Lists!$C$32:$C$40,1))","v":"61-70"},{"$f":"SUMPRODUCT((Data!$B$17:$B$19=Model!$F1350)*(Data!$C$16:$K$16=Model!$K1350)*(Data!$C$17:$K$19))","v":2.0299999999999998},59.85,{"$f":"_xlfn.IFS(M1350>70,\"Serviceable\",M1350>30, \"Limited Life\",M1350<=30, \"Unserviceable\")","v":"Limited Life"}]
[null,2113,1964,"Wood Creos Impregnated","Serviceable","Class 3",2017,100,91.81,8,{"$f":"INDEX(Lists!$B$32:$B$40, MATCH(2020-C1351, Lists!$C$32:$C$40,1))","v":"51-60"},{"$f":"SUMPRODUCT((Data!$B$17:$B$19=Model!$F1351)*(Data!$C$16:$K$16=Model!$K1351)*(Data!$C$17:$K$19))","v":2.73},78.16,{"$f":"_xlfn.IFS(M1351>70,\"Serviceable\",M1351>30, \"Limited Life\",M1351<=30, \"Unserviceable\")","v":"Serviceable"}]
[null,2114,1948,"Wood Untreated Round","Serviceable","Class 1",2020,100,100,{"$f":"2025-G1352","v":5},{"$f":"INDEX(Lists!$B$32:$B$40, MATCH(2020-C1352, Lists!$C$32:$C$40,1))","v":"71-80"},{"$f":"SUMPRODUCT((Data!$B$17:$B$19=Model!$F1352)*(Data!$C$16:$K$16=Model!$K1352)*(Data!$C$17:$K$19))","v":2.15},{"$f":"IF(IF(H1352>=700,999,(H1352-L1352*J1352))<0,0,IF(H1352>=700,999,(H1352-L1352*J1352)))","v":89.25},{"$f":"_xlfn.IFS(M1352>70,\"Serviceable\",M1352>30, \"Limited Life\",M1352<=30, \"Unserviceable\")","v":"Serviceable"}]
[null,2115,1958,"Wood Untreated Dressed","Serviceable","Class 1",2017,120,113.91,8,{"$f":"INDEX(Lists!$B$32:$B$40, MATCH(2020-C1353, Lists!$C$32:$C$40,1))","v":"61-70"},{"$f":"SUMPRODUCT((Data!$B$17:$B$19=Model!$F1353)*(Data!$C$16:$K$16=Model!$K1353)*(Data!$C$17:$K$19))","v":2.0299999999999998},103.76,{"$f":"_xlfn.IFS(M1353>70,\"Serviceable\",M1353>30, \"Limited Life\",M1353<=30, \"Unserviceable\")","v":"Serviceable"}]
[null,2116,1935,"Wood Untreated Dressed","Serviceable","Class 1",2020,110,110,5,{"$f":"INDEX(Lists!$B$32:$B$40, MATCH(2020-C1354, Lists!$C$32:$C$40,1))","v":"81-90"},{"$f":"SUMPRODUCT((Data!$B$17:$B$19=Model!$F1354)*(Data!$C$16:$K$16=Model!$K1354)*(Data!$C$17:$K$19))","v":2.81},95.95,{"$f":"_xlfn.IFS(M1354>70,\"Serviceable\",M1354>30, \"Limited Life\",M1354<=30, \"Unserviceable\")","v":"Serviceable"}]
[null,2117,2007,"CCA Treated Pole","Serviceable","Class 2",2017,100,96.34,8,{"$f":"INDEX(Lists!$B$32:$B$40, MATCH(2020-C1355, Lists!$C$32:$C$40,1))","v":"0-20"},{"$f":"SUMPRODUCT((Data!$B$17:$B$19=Model!$F1355)*(Data!$C$16:$K$16=Model!$K1355)*(Data!$C$17:$K$19))","v":1.22},90.24,{"$f":"_xlfn.IFS(M1355>70,\"Serviceable\",M1355>30, \"Limited Life\",M1355<=30, \"Unserviceable\")","v":"Serviceable"}]
[null,2118,2004,"CCA Treated Pole","Serviceable","Class 2",2020,162.49719689682513,162.49719689682513,5,{"$f":"INDEX(Lists!$B$32:$B$40, MATCH(2020-C1356, Lists!$C$32:$C$40,1))","v":"0-20"},{"$f":"SUMPRODUCT((Data!$B$17:$B$19=Model!$F1356)*(Data!$C$16:$K$16=Model!$K1356)*(Data!$C$17:$K$19))","v":1.22},156.39719689682514,{"$f":"_xlfn.IFS(M1356>70,\"Serviceable\",M1356>30, \"Limited Life\",M1356<=30, \"Unserviceable\")","v":"Serviceable"}]
[null,2119,1985,"Wood Untreated Dressed","Serviceable","Class 1",2017,100,92.44,8,{"$f":"INDEX(Lists!$B$32:$B$40, MATCH(2020-C1357, Lists!$C$32:$C$40,1))","v":"31-40"},{"$f":"SUMPRODUCT((Data!$B$17:$B$19=Model!$F1357)*(Data!$C$16:$K$16=Model!$K1357)*(Data!$C$17:$K$19))","v":2.52},79.84,{"$f":"_xlfn.IFS(M1357>70,\"Serviceable\",M1357>30, \"Limited Life\",M1357<=30, \"Unserviceable\")","v":"Serviceable"}]
[null,2121,2008,"CCA Treated Pole","Serviceable","Class 1",2017,150,146.82,8,{"$f":"INDEX(Lists!$B$32:$B$40, MATCH(2020-C1358, Lists!$C$32:$C$40,1))","v":"0-20"},{"$f":"SUMPRODUCT((Data!$B$17:$B$19=Model!$F1358)*(Data!$C$16:$K$16=Model!$K1358)*(Data!$C$17:$K$19))","v":1.06},141.52000000000001,{"$f":"_xlfn.IFS(M1358>70,\"Serviceable\",M1358>30, \"Limited Life\",M1358<=30, \"Unserviceable\")","v":"Serviceable"}]
[null,2124,1965,"Wood Creos Impregnated","Serviceable","Class 3",2020,90,90,5,{"$f":"INDEX(Lists!$B$32:$B$40, MATCH(2020-C1359, Lists!$C$32:$C$40,1))","v":"51-60"},{"$f":"SUMPRODUCT((Data!$B$17:$B$19=Model!$F1359)*(Data!$C$16:$K$16=Model!$K1359)*(Data!$C$17:$K$19))","v":2.73},76.349999999999994,{"$f":"_xlfn.IFS(M1359>70,\"Serviceable\",M1359>30, \"Limited Life\",M1359<=30, \"Unserviceable\")","v":"Serviceable"}]
[null,2126,1985,"Wood Untreated Dressed","Serviceable","Class 1",2020,120,120,5,{"$f":"INDEX(Lists!$B$32:$B$40, MATCH(2020-C1360, Lists!$C$32:$C$40,1))","v":"31-40"},{"$f":"SUMPRODUCT((Data!$B$17:$B$19=Model!$F1360)*(Data!$C$16:$K$16=Model!$K1360)*(Data!$C$17:$K$19))","v":2.52},107.4,{"$f":"_xlfn.IFS(M1360>70,\"Serviceable\",M1360>30, \"Limited Life\",M1360<=30, \"Unserviceable\")","v":"Serviceable"}]
[null,2127,1980,"Wood Untreated Dressed","Serviceable","Class 1",2017,100,92.44,8,{"$f":"INDEX(Lists!$B$32:$B$40, MATCH(2020-C1361, Lists!$C$32:$C$40,1))","v":"31-40"},{"$f":"SUMPRODUCT((Data!$B$17:$B$19=Model!$F1361)*(Data!$C$16:$K$16=Model!$K1361)*(Data!$C$17:$K$19))","v":2.52},79.84,{"$f":"_xlfn.IFS(M1361>70,\"Serviceable\",M1361>30, \"Limited Life\",M1361<=30, \"Unserviceable\")","v":"Serviceable"}]
[null,2128,1970,"Wood Creos Impregnated","Limited Life","Class 3",2020,70,70,5,{"$f":"INDEX(Lists!$B$32:$B$40, MATCH(2020-C1362, Lists!$C$32:$C$40,1))","v":"41-50"},{"$f":"SUMPRODUCT((Data!$B$17:$B$19=Model!$F1362)*(Data!$C$16:$K$16=Model!$K1362)*(Data!$C$17:$K$19))","v":3.78},51.1,{"$f":"_xlfn.IFS(M1362>70,\"Serviceable\",M1362>30, \"Limited Life\",M1362<=30, \"Unserviceable\")","v":"Limited Life"}]
[null,2130,1968,"Wood Creos Impregnated","Serviceable","Class 3",2020,90,90,5,{"$f":"INDEX(Lists!$B$32:$B$40, MATCH(2020-C1363, Lists!$C$32:$C$40,1))","v":"51-60"},{"$f":"SUMPRODUCT((Data!$B$17:$B$19=Model!$F1363)*(Data!$C$16:$K$16=Model!$K1363)*(Data!$C$17:$K$19))","v":2.73},76.349999999999994,{"$f":"_xlfn.IFS(M1363>70,\"Serviceable\",M1363>30, \"Limited Life\",M1363<=30, \"Unserviceable\")","v":"Serviceable"}]
[null,2131,1967,"Wood Creos Impregnated","Limited Life","Class 3",2017,70,61.81,8,{"$f":"INDEX(Lists!$B$32:$B$40, MATCH(2020-C1364, Lists!$C$32:$C$40,1))","v":"51-60"},{"$f":"SUMPRODUCT((Data!$B$17:$B$19=Model!$F1364)*(Data!$C$16:$K$16=Model!$K1364)*(Data!$C$17:$K$19))","v":2.73},48.16,{"$f":"_xlfn.IFS(M1364>70,\"Serviceable\",M1364>30, \"Limited Life\",M1364<=30, \"Unserviceable\")","v":"Limited Life"}]
[null,2132,1970,"Wood Creos Impregnated","Serviceable","Class 3",2020,85,85,5,{"$f":"INDEX(Lists!$B$32:$B$40, MATCH(2020-C1365, Lists!$C$32:$C$40,1))","v":"41-50"},{"$f":"SUMPRODUCT((Data!$B$17:$B$19=Model!$F1365)*(Data!$C$16:$K$16=Model!$K1365)*(Data!$C$17:$K$19))","v":3.78},66.099999999999994,{"$f":"_xlfn.IFS(M1365>70,\"Serviceable\",M1365>30, \"Limited Life\",M1365<=30, \"Unserviceable\")","v":"Limited Life"}]
[null,2134,1985,"Wood Untreated Dressed","Serviceable","Class 1",2020,120,120,5,{"$f":"INDEX(Lists!$B$32:$B$40, MATCH(2020-C1366, Lists!$C$32:$C$40,1))","v":"31-40"},{"$f":"SUMPRODUCT((Data!$B$17:$B$19=Model!$F1366)*(Data!$C$16:$K$16=Model!$K1366)*(Data!$C$17:$K$19))","v":2.52},107.4,{"$f":"_xlfn.IFS(M1366>70,\"Serviceable\",M1366>30, \"Limited Life\",M1366<=30, \"Unserviceable\")","v":"Serviceable"}]
[null,2135,1937,"Wood Untreated Dressed","Serviceable","Class 1",2016,100,88.76,9,{"$f":"INDEX(Lists!$B$32:$B$40, MATCH(2020-C1367, Lists!$C$32:$C$40,1))","v":"81-90"},{"$f":"SUMPRODUCT((Data!$B$17:$B$19=Model!$F1367)*(Data!$C$16:$K$16=Model!$K1367)*(Data!$C$17:$K$19))","v":2.81},74.710000000000008,{"$f":"_xlfn.IFS(M1367>70,\"Serviceable\",M1367>30, \"Limited Life\",M1367<=30, \"Unserviceable\")","v":"Serviceable"}]
[null,2136,1964,"Wood Creos Impregnated","Serviceable","Class 3",2020,100,100,5,{"$f":"INDEX(Lists!$B$32:$B$40, MATCH(2020-C1368, Lists!$C$32:$C$40,1))","v":"51-60"},{"$f":"SUMPRODUCT((Data!$B$17:$B$19=Model!$F1368)*(Data!$C$16:$K$16=Model!$K1368)*(Data!$C$17:$K$19))","v":2.73},86.35,{"$f":"_xlfn.IFS(M1368>70,\"Serviceable\",M1368>30, \"Limited Life\",M1368<=30, \"Unserviceable\")","v":"Serviceable"}]
[null,2137,1960,"Wood Creos Impregnated","Serviceable","Class 3",2017,80,71.81,8,{"$f":"INDEX(Lists!$B$32:$B$40, MATCH(2020-C1369, Lists!$C$32:$C$40,1))","v":"51-60"},{"$f":"SUMPRODUCT((Data!$B$17:$B$19=Model!$F1369)*(Data!$C$16:$K$16=Model!$K1369)*(Data!$C$17:$K$19))","v":2.73},58.16,{"$f":"_xlfn.IFS(M1369>70,\"Serviceable\",M1369>30, \"Limited Life\",M1369<=30, \"Unserviceable\")","v":"Limited Life"}]
[null,2142,1950,"Wood Untreated Round","Serviceable","Class 1",2020,100,100,5,{"$f":"INDEX(Lists!$B$32:$B$40, MATCH(2020-C1370, Lists!$C$32:$C$40,1))","v":"61-70"},{"$f":"SUMPRODUCT((Data!$B$17:$B$19=Model!$F1370)*(Data!$C$16:$K$16=Model!$K1370)*(Data!$C$17:$K$19))","v":2.0299999999999998},89.85,{"$f":"_xlfn.IFS(M1370>70,\"Serviceable\",M1370>30, \"Limited Life\",M1370<=30, \"Unserviceable\")","v":"Serviceable"}]
[null,2146,1998,"CCA Treated Pole","Serviceable","Class 1",2020,130,130,5,{"$f":"INDEX(Lists!$B$32:$B$40, MATCH(2020-C1371, Lists!$C$32:$C$40,1))","v":"21-30"},{"$f":"SUMPRODUCT((Data!$B$17:$B$19=Model!$F1371)*(Data!$C$16:$K$16=Model!$K1371)*(Data!$C$17:$K$19))","v":1.96},120.2,{"$f":"_xlfn.IFS(M1371>70,\"Serviceable\",M1371>30, \"Limited Life\",M1371<=30, \"Unserviceable\")","v":"Serviceable"}]
[null,2148,1986,"Wood Untreated Dressed","Serviceable","Class 1",2020,120,120,5,{"$f":"INDEX(Lists!$B$32:$B$40, MATCH(2020-C1372, Lists!$C$32:$C$40,1))","v":"31-40"},{"$f":"SUMPRODUCT((Data!$B$17:$B$19=Model!$F1372)*(Data!$C$16:$K$16=Model!$K1372)*(Data!$C$17:$K$19))","v":2.52},107.4,{"$f":"_xlfn.IFS(M1372>70,\"Serviceable\",M1372>30, \"Limited Life\",M1372<=30, \"Unserviceable\")","v":"Serviceable"}]
[null,2149,1973,"Wood Untreated Dressed","Serviceable","Class 1",2020,90,90,5,{"$f":"INDEX(Lists!$B$32:$B$40, MATCH(2020-C1373, Lists!$C$32:$C$40,1))","v":"41-50"},{"$f":"SUMPRODUCT((Data!$B$17:$B$19=Model!$F1373)*(Data!$C$16:$K$16=Model!$K1373)*(Data!$C$17:$K$19))","v":1.75},81.25,{"$f":"_xlfn.IFS(M1373>70,\"Serviceable\",M1373>30, \"Limited Life\",M1373<=30, \"Unserviceable\")","v":"Serviceable"}]
[null,2150,1984,"Wood Untreated Dressed","Serviceable","Class 1",2017,150,142.44,8,{"$f":"INDEX(Lists!$B$32:$B$40, MATCH(2020-C1374, Lists!$C$32:$C$40,1))","v":"31-40"},{"$f":"SUMPRODUCT((Data!$B$17:$B$19=Model!$F1374)*(Data!$C$16:$K$16=Model!$K1374)*(Data!$C$17:$K$19))","v":2.52},129.84,{"$f":"_xlfn.IFS(M1374>70,\"Serviceable\",M1374>30, \"Limited Life\",M1374<=30, \"Unserviceable\")","v":"Serviceable"}]
[null,2153,1975,"Wood Creos Impregnated","Serviceable","Class 1",2020,110,110,5,{"$f":"INDEX(Lists!$B$32:$B$40, MATCH(2020-C1375, Lists!$C$32:$C$40,1))","v":"41-50"},{"$f":"SUMPRODUCT((Data!$B$17:$B$19=Model!$F1375)*(Data!$C$16:$K$16=Model!$K1375)*(Data!$C$17:$K$19))","v":1.75},101.25,{"$f":"_xlfn.IFS(M1375>70,\"Serviceable\",M1375>30, \"Limited Life\",M1375<=30, \"Unserviceable\")","v":"Serviceable"}]
[null,2155,1968,"Wood Creos Impregnated","Serviceable","Class 2",2020,90,90,5,{"$f":"INDEX(Lists!$B$32:$B$40, MATCH(2020-C1376, Lists!$C$32:$C$40,1))","v":"51-60"},{"$f":"SUMPRODUCT((Data!$B$17:$B$19=Model!$F1376)*(Data!$C$16:$K$16=Model!$K1376)*(Data!$C$17:$K$19))","v":2.57},77.150000000000006,{"$f":"_xlfn.IFS(M1376>70,\"Serviceable\",M1376>30, \"Limited Life\",M1376<=30, \"Unserviceable\")","v":"Serviceable"}]
[null,2156,1980,"Wood Untreated Dressed","Serviceable","Class 1",2017,100,92.44,8,{"$f":"INDEX(Lists!$B$32:$B$40, MATCH(2020-C1377, Lists!$C$32:$C$40,1))","v":"31-40"},{"$f":"SUMPRODUCT((Data!$B$17:$B$19=Model!$F1377)*(Data!$C$16:$K$16=Model!$K1377)*(Data!$C$17:$K$19))","v":2.52},79.84,{"$f":"_xlfn.IFS(M1377>70,\"Serviceable\",M1377>30, \"Limited Life\",M1377<=30, \"Unserviceable\")","v":"Serviceable"}]
[null,2157,1997,"CCA Treated Pole","Serviceable","Class 2",2020,150,150,5,{"$f":"INDEX(Lists!$B$32:$B$40, MATCH(2020-C1378, Lists!$C$32:$C$40,1))","v":"21-30"},{"$f":"SUMPRODUCT((Data!$B$17:$B$19=Model!$F1378)*(Data!$C$16:$K$16=Model!$K1378)*(Data!$C$17:$K$19))","v":1.89},140.55000000000001,{"$f":"_xlfn.IFS(M1378>70,\"Serviceable\",M1378>30, \"Limited Life\",M1378<=30, \"Unserviceable\")","v":"Serviceable"}]
[null,2158,1967,"Wood Creos Impregnated","Serviceable","Class 3",2017,100,91.81,8,{"$f":"INDEX(Lists!$B$32:$B$40, MATCH(2020-C1379, Lists!$C$32:$C$40,1))","v":"51-60"},{"$f":"SUMPRODUCT((Data!$B$17:$B$19=Model!$F1379)*(Data!$C$16:$K$16=Model!$K1379)*(Data!$C$17:$K$19))","v":2.73},78.16,{"$f":"_xlfn.IFS(M1379>70,\"Serviceable\",M1379>30, \"Limited Life\",M1379<=30, \"Unserviceable\")","v":"Serviceable"}]
[null,2159,1937,"Wood Untreated Dressed","Serviceable","Class 1",2020,100,100,5,{"$f":"INDEX(Lists!$B$32:$B$40, MATCH(2020-C1380, Lists!$C$32:$C$40,1))","v":"81-90"},{"$f":"SUMPRODUCT((Data!$B$17:$B$19=Model!$F1380)*(Data!$C$16:$K$16=Model!$K1380)*(Data!$C$17:$K$19))","v":2.81},85.95,{"$f":"_xlfn.IFS(M1380>70,\"Serviceable\",M1380>30, \"Limited Life\",M1380<=30, \"Unserviceable\")","v":"Serviceable"}]
[null,2160,1958,"Wood Creos Impregnated","Serviceable","Class 1",2017,100,93.91,8,{"$f":"INDEX(Lists!$B$32:$B$40, MATCH(2020-C1381, Lists!$C$32:$C$40,1))","v":"61-70"},{"$f":"SUMPRODUCT((Data!$B$17:$B$19=Model!$F1381)*(Data!$C$16:$K$16=Model!$K1381)*(Data!$C$17:$K$19))","v":2.0299999999999998},83.76,{"$f":"_xlfn.IFS(M1381>70,\"Serviceable\",M1381>30, \"Limited Life\",M1381<=30, \"Unserviceable\")","v":"Serviceable"}]
[null,2162,1967,"Wood Creos Impregnated","Serviceable","Class 3",2017,100,91.81,8,{"$f":"INDEX(Lists!$B$32:$B$40, MATCH(2020-C1382, Lists!$C$32:$C$40,1))","v":"51-60"},{"$f":"SUMPRODUCT((Data!$B$17:$B$19=Model!$F1382)*(Data!$C$16:$K$16=Model!$K1382)*(Data!$C$17:$K$19))","v":2.73},78.16,{"$f":"_xlfn.IFS(M1382>70,\"Serviceable\",M1382>30, \"Limited Life\",M1382<=30, \"Unserviceable\")","v":"Serviceable"}]
[null,2164,1984,"Wood Untreated Dressed","Serviceable","Class 1",2017,140,132.44,8,{"$f":"INDEX(Lists!$B$32:$B$40, MATCH(2020-C1383, Lists!$C$32:$C$40,1))","v":"31-40"},{"$f":"SUMPRODUCT((Data!$B$17:$B$19=Model!$F1383)*(Data!$C$16:$K$16=Model!$K1383)*(Data!$C$17:$K$19))","v":2.52},119.84,{"$f":"_xlfn.IFS(M1383>70,\"Serviceable\",M1383>30, \"Limited Life\",M1383<=30, \"Unserviceable\")","v":"Serviceable"}]
[null,2165,1965,"Wood Creos Impregnated","Serviceable","Class 3",2020,90,90,5,{"$f":"INDEX(Lists!$B$32:$B$40, MATCH(2020-C1384, Lists!$C$32:$C$40,1))","v":"51-60"},{"$f":"SUMPRODUCT((Data!$B$17:$B$19=Model!$F1384)*(Data!$C$16:$K$16=Model!$K1384)*(Data!$C$17:$K$19))","v":2.73},76.349999999999994,{"$f":"_xlfn.IFS(M1384>70,\"Serviceable\",M1384>30, \"Limited Life\",M1384<=30, \"Unserviceable\")","v":"Serviceable"}]
[null,2166,1965,"Wood Creos Impregnated","Serviceable","Class 3",2017,100,91.81,8,{"$f":"INDEX(Lists!$B$32:$B$40, MATCH(2020-C1385, Lists!$C$32:$C$40,1))","v":"51-60"},{"$f":"SUMPRODUCT((Data!$B$17:$B$19=Model!$F1385)*(Data!$C$16:$K$16=Model!$K1385)*(Data!$C$17:$K$19))","v":2.73},78.16,{"$f":"_xlfn.IFS(M1385>70,\"Serviceable\",M1385>30, \"Limited Life\",M1385<=30, \"Unserviceable\")","v":"Serviceable"}]
[null,2167,1965,"Wood Creos Impregnated","Serviceable","Class 3",2020,100,100,5,{"$f":"INDEX(Lists!$B$32:$B$40, MATCH(2020-C1386, Lists!$C$32:$C$40,1))","v":"51-60"},{"$f":"SUMPRODUCT((Data!$B$17:$B$19=Model!$F1386)*(Data!$C$16:$K$16=Model!$K1386)*(Data!$C$17:$K$19))","v":2.73},86.35,{"$f":"_xlfn.IFS(M1386>70,\"Serviceable\",M1386>30, \"Limited Life\",M1386<=30, \"Unserviceable\")","v":"Serviceable"}]
[null,2169,1985,"Wood Untreated Dressed","Serviceable","Class 1",2020,120,120,5,{"$f":"INDEX(Lists!$B$32:$B$40, MATCH(2020-C1387, Lists!$C$32:$C$40,1))","v":"31-40"},{"$f":"SUMPRODUCT((Data!$B$17:$B$19=Model!$F1387)*(Data!$C$16:$K$16=Model!$K1387)*(Data!$C$17:$K$19))","v":2.52},107.4,{"$f":"_xlfn.IFS(M1387>70,\"Serviceable\",M1387>30, \"Limited Life\",M1387<=30, \"Unserviceable\")","v":"Serviceable"}]
[null,2170,1984,"Wood Untreated Dressed","Serviceable","Class 1",2017,120,112.44,8,{"$f":"INDEX(Lists!$B$32:$B$40, MATCH(2020-C1388, Lists!$C$32:$C$40,1))","v":"31-40"},{"$f":"SUMPRODUCT((Data!$B$17:$B$19=Model!$F1388)*(Data!$C$16:$K$16=Model!$K1388)*(Data!$C$17:$K$19))","v":2.52},99.84,{"$f":"_xlfn.IFS(M1388>70,\"Serviceable\",M1388>30, \"Limited Life\",M1388<=30, \"Unserviceable\")","v":"Serviceable"}]
[null,2173,1991,"Wood Untreated Dressed","Serviceable","Class 1",2020,130,130,5,{"$f":"INDEX(Lists!$B$32:$B$40, MATCH(2020-C1389, Lists!$C$32:$C$40,1))","v":"21-30"},{"$f":"SUMPRODUCT((Data!$B$17:$B$19=Model!$F1389)*(Data!$C$16:$K$16=Model!$K1389)*(Data!$C$17:$K$19))","v":1.96},120.2,{"$f":"_xlfn.IFS(M1389>70,\"Serviceable\",M1389>30, \"Limited Life\",M1389<=30, \"Unserviceable\")","v":"Serviceable"}]
[null,2174,2009,"CCA Treated Pole","Serviceable","Class 1",2017,150,146.82,8,{"$f":"INDEX(Lists!$B$32:$B$40, MATCH(2020-C1390, Lists!$C$32:$C$40,1))","v":"0-20"},{"$f":"SUMPRODUCT((Data!$B$17:$B$19=Model!$F1390)*(Data!$C$16:$K$16=Model!$K1390)*(Data!$C$17:$K$19))","v":1.06},141.52000000000001,{"$f":"_xlfn.IFS(M1390>70,\"Serviceable\",M1390>30, \"Limited Life\",M1390<=30, \"Unserviceable\")","v":"Serviceable"}]
[null,2175,1973,"Wood Untreated Dressed","Serviceable","Class 1",2020,90,90,5,{"$f":"INDEX(Lists!$B$32:$B$40, MATCH(2020-C1391, Lists!$C$32:$C$40,1))","v":"41-50"},{"$f":"SUMPRODUCT((Data!$B$17:$B$19=Model!$F1391)*(Data!$C$16:$K$16=Model!$K1391)*(Data!$C$17:$K$19))","v":1.75},81.25,{"$f":"_xlfn.IFS(M1391>70,\"Serviceable\",M1391>30, \"Limited Life\",M1391<=30, \"Unserviceable\")","v":"Serviceable"}]
[null,2177,1988,"Wood Untreated Dressed","Serviceable","Class 1",2020,140,140,5,{"$f":"INDEX(Lists!$B$32:$B$40, MATCH(2020-C1392, Lists!$C$32:$C$40,1))","v":"31-40"},{"$f":"SUMPRODUCT((Data!$B$17:$B$19=Model!$F1392)*(Data!$C$16:$K$16=Model!$K1392)*(Data!$C$17:$K$19))","v":2.52},127.4,{"$f":"_xlfn.IFS(M1392>70,\"Serviceable\",M1392>30, \"Limited Life\",M1392<=30, \"Unserviceable\")","v":"Serviceable"}]
[null,2179,1960,"Wood Creos Impregnated","Serviceable","Class 3",2020,90,90,5,{"$f":"INDEX(Lists!$B$32:$B$40, MATCH(2020-C1393, Lists!$C$32:$C$40,1))","v":"51-60"},{"$f":"SUMPRODUCT((Data!$B$17:$B$19=Model!$F1393)*(Data!$C$16:$K$16=Model!$K1393)*(Data!$C$17:$K$19))","v":2.73},76.349999999999994,{"$f":"_xlfn.IFS(M1393>70,\"Serviceable\",M1393>30, \"Limited Life\",M1393<=30, \"Unserviceable\")","v":"Serviceable"}]
[null,2182,1973,"Wood Untreated Dressed","Serviceable","Class 1",2017,150,144.75,8,{"$f":"INDEX(Lists!$B$32:$B$40, MATCH(2020-C1394, Lists!$C$32:$C$40,1))","v":"41-50"},{"$f":"SUMPRODUCT((Data!$B$17:$B$19=Model!$F1394)*(Data!$C$16:$K$16=Model!$K1394)*(Data!$C$17:$K$19))","v":1.75},136,{"$f":"_xlfn.IFS(M1394>70,\"Serviceable\",M1394>30, \"Limited Life\",M1394<=30, \"Unserviceable\")","v":"Serviceable"}]
[null,2183,1965,"CCA Treated Pole","Serviceable","Class 2",2020,110,110,5,{"$f":"INDEX(Lists!$B$32:$B$40, MATCH(2020-C1395, Lists!$C$32:$C$40,1))","v":"51-60"},{"$f":"SUMPRODUCT((Data!$B$17:$B$19=Model!$F1395)*(Data!$C$16:$K$16=Model!$K1395)*(Data!$C$17:$K$19))","v":2.57},97.15,{"$f":"_xlfn.IFS(M1395>70,\"Serviceable\",M1395>30, \"Limited Life\",M1395<=30, \"Unserviceable\")","v":"Serviceable"}]
[null,2186,1963,"Wood Creos Impregnated","Serviceable","Class 3",2017,120,111.81,8,{"$f":"INDEX(Lists!$B$32:$B$40, MATCH(2020-C1396, Lists!$C$32:$C$40,1))","v":"51-60"},{"$f":"SUMPRODUCT((Data!$B$17:$B$19=Model!$F1396)*(Data!$C$16:$K$16=Model!$K1396)*(Data!$C$17:$K$19))","v":2.73},98.16,{"$f":"_xlfn.IFS(M1396>70,\"Serviceable\",M1396>30, \"Limited Life\",M1396<=30, \"Unserviceable\")","v":"Serviceable"}]
[null,2187,1934,"Wood Untreated Dressed","Serviceable","Class 1",2020,120,120,5,{"$f":"INDEX(Lists!$B$32:$B$40, MATCH(2020-C1397, Lists!$C$32:$C$40,1))","v":"81-90"},{"$f":"SUMPRODUCT((Data!$B$17:$B$19=Model!$F1397)*(Data!$C$16:$K$16=Model!$K1397)*(Data!$C$17:$K$19))","v":2.81},105.95,{"$f":"_xlfn.IFS(M1397>70,\"Serviceable\",M1397>30, \"Limited Life\",M1397<=30, \"Unserviceable\")","v":"Serviceable"}]
[null,2189,1971,"Wood Creos Impregnated","Serviceable","Class 3",2017,90,78.66,8,{"$f":"INDEX(Lists!$B$32:$B$40, MATCH(2020-C1398, Lists!$C$32:$C$40,1))","v":"41-50"},{"$f":"SUMPRODUCT((Data!$B$17:$B$19=Model!$F1398)*(Data!$C$16:$K$16=Model!$K1398)*(Data!$C$17:$K$19))","v":3.78},59.760000000000005,{"$f":"_xlfn.IFS(M1398>70,\"Serviceable\",M1398>30, \"Limited Life\",M1398<=30, \"Unserviceable\")","v":"Limited Life"}]
[null,2191,1965,"Wood Creos Impregnated","Serviceable","Class 3",2017,120,111.81,8,{"$f":"INDEX(Lists!$B$32:$B$40, MATCH(2020-C1399, Lists!$C$32:$C$40,1))","v":"51-60"},{"$f":"SUMPRODUCT((Data!$B$17:$B$19=Model!$F1399)*(Data!$C$16:$K$16=Model!$K1399)*(Data!$C$17:$K$19))","v":2.73},98.16,{"$f":"_xlfn.IFS(M1399>70,\"Serviceable\",M1399>30, \"Limited Life\",M1399<=30, \"Unserviceable\")","v":"Serviceable"}]
[null,2196,1968,"Wood Untreated Dressed","Serviceable","Class 3",2020,100,100,5,{"$f":"INDEX(Lists!$B$32:$B$40, MATCH(2020-C1400, Lists!$C$32:$C$40,1))","v":"51-60"},{"$f":"SUMPRODUCT((Data!$B$17:$B$19=Model!$F1400)*(Data!$C$16:$K$16=Model!$K1400)*(Data!$C$17:$K$19))","v":2.73},86.35,{"$f":"_xlfn.IFS(M1400>70,\"Serviceable\",M1400>30, \"Limited Life\",M1400<=30, \"Unserviceable\")","v":"Serviceable"}]
[null,2197,2000,"CCA Treated Pole","Serviceable","Class 2",2018,162.49719689682513,160.05719689682513,7,{"$f":"INDEX(Lists!$B$32:$B$40, MATCH(2020-C1401, Lists!$C$32:$C$40,1))","v":"0-20"},{"$f":"SUMPRODUCT((Data!$B$17:$B$19=Model!$F1401)*(Data!$C$16:$K$16=Model!$K1401)*(Data!$C$17:$K$19))","v":1.22},153.95719689682514,{"$f":"_xlfn.IFS(M1401>70,\"Serviceable\",M1401>30, \"Limited Life\",M1401<=30, \"Unserviceable\")","v":"Serviceable"}]
[null,2199,1939,"Wood Untreated Dressed","Serviceable","Class 1",2017,120,111.57,8,{"$f":"INDEX(Lists!$B$32:$B$40, MATCH(2020-C1402, Lists!$C$32:$C$40,1))","v":"81-90"},{"$f":"SUMPRODUCT((Data!$B$17:$B$19=Model!$F1402)*(Data!$C$16:$K$16=Model!$K1402)*(Data!$C$17:$K$19))","v":2.81},97.52,{"$f":"_xlfn.IFS(M1402>70,\"Serviceable\",M1402>30, \"Limited Life\",M1402<=30, \"Unserviceable\")","v":"Serviceable"}]
[null,2203,1989,"Wood Untreated Dressed","Serviceable","Class 1",2017,140,132.44,8,{"$f":"INDEX(Lists!$B$32:$B$40, MATCH(2020-C1403, Lists!$C$32:$C$40,1))","v":"31-40"},{"$f":"SUMPRODUCT((Data!$B$17:$B$19=Model!$F1403)*(Data!$C$16:$K$16=Model!$K1403)*(Data!$C$17:$K$19))","v":2.52},119.84,{"$f":"_xlfn.IFS(M1403>70,\"Serviceable\",M1403>30, \"Limited Life\",M1403<=30, \"Unserviceable\")","v":"Serviceable"}]
[null,2204,1971,"Wood Creos Impregnated","Serviceable","Class 3",2020,90,90,5,{"$f":"INDEX(Lists!$B$32:$B$40, MATCH(2020-C1404, Lists!$C$32:$C$40,1))","v":"41-50"},{"$f":"SUMPRODUCT((Data!$B$17:$B$19=Model!$F1404)*(Data!$C$16:$K$16=Model!$K1404)*(Data!$C$17:$K$19))","v":3.78},71.099999999999994,{"$f":"_xlfn.IFS(M1404>70,\"Serviceable\",M1404>30, \"Limited Life\",M1404<=30, \"Unserviceable\")","v":"Serviceable"}]
[null,2205,1938,"Wood Untreated Dressed","Serviceable","Class 1",2017,130,121.57,8,{"$f":"INDEX(Lists!$B$32:$B$40, MATCH(2020-C1405, Lists!$C$32:$C$40,1))","v":"81-90"},{"$f":"SUMPRODUCT((Data!$B$17:$B$19=Model!$F1405)*(Data!$C$16:$K$16=Model!$K1405)*(Data!$C$17:$K$19))","v":2.81},107.52,{"$f":"_xlfn.IFS(M1405>70,\"Serviceable\",M1405>30, \"Limited Life\",M1405<=30, \"Unserviceable\")","v":"Serviceable"}]
[null,2211,2001,"CCA Treated Pole","Serviceable","Class 1",2017,150,146.82,8,{"$f":"INDEX(Lists!$B$32:$B$40, MATCH(2020-C1406, Lists!$C$32:$C$40,1))","v":"0-20"},{"$f":"SUMPRODUCT((Data!$B$17:$B$19=Model!$F1406)*(Data!$C$16:$K$16=Model!$K1406)*(Data!$C$17:$K$19))","v":1.06},141.52000000000001,{"$f":"_xlfn.IFS(M1406>70,\"Serviceable\",M1406>30, \"Limited Life\",M1406<=30, \"Unserviceable\")","v":"Serviceable"}]
[null,2214,1965,"Wood Creos Impregnated","Serviceable","Class 3",2020,100,100,5,{"$f":"INDEX(Lists!$B$32:$B$40, MATCH(2020-C1407, Lists!$C$32:$C$40,1))","v":"51-60"},{"$f":"SUMPRODUCT((Data!$B$17:$B$19=Model!$F1407)*(Data!$C$16:$K$16=Model!$K1407)*(Data!$C$17:$K$19))","v":2.73},86.35,{"$f":"_xlfn.IFS(M1407>70,\"Serviceable\",M1407>30, \"Limited Life\",M1407<=30, \"Unserviceable\")","v":"Serviceable"}]
[null,2218,1965,"Wood Creos Impregnated","Serviceable","Class 3",2020,100,100,5,{"$f":"INDEX(Lists!$B$32:$B$40, MATCH(2020-C1408, Lists!$C$32:$C$40,1))","v":"51-60"},{"$f":"SUMPRODUCT((Data!$B$17:$B$19=Model!$F1408)*(Data!$C$16:$K$16=Model!$K1408)*(Data!$C$17:$K$19))","v":2.73},86.35,{"$f":"_xlfn.IFS(M1408>70,\"Serviceable\",M1408>30, \"Limited Life\",M1408<=30, \"Unserviceable\")","v":"Serviceable"}]
[null,2221,1959,"Wood Creos Impregnated","Serviceable","Class 3",2020,90,90,5,{"$f":"INDEX(Lists!$B$32:$B$40, MATCH(2020-C1409, Lists!$C$32:$C$40,1))","v":"61-70"},{"$f":"SUMPRODUCT((Data!$B$17:$B$19=Model!$F1409)*(Data!$C$16:$K$16=Model!$K1409)*(Data!$C$17:$K$19))","v":2.02},79.900000000000006,{"$f":"_xlfn.IFS(M1409>70,\"Serviceable\",M1409>30, \"Limited Life\",M1409<=30, \"Unserviceable\")","v":"Serviceable"}]
[null,2222,1971,"Wood Creos Impregnated","Limited Life","Class 3",2017,70,58.66,8,{"$f":"INDEX(Lists!$B$32:$B$40, MATCH(2020-C1410, Lists!$C$32:$C$40,1))","v":"41-50"},{"$f":"SUMPRODUCT((Data!$B$17:$B$19=Model!$F1410)*(Data!$C$16:$K$16=Model!$K1410)*(Data!$C$17:$K$19))","v":3.78},39.760000000000005,{"$f":"_xlfn.IFS(M1410>70,\"Serviceable\",M1410>30, \"Limited Life\",M1410<=30, \"Unserviceable\")","v":"Limited Life"}]
[null,2224,1939,"Wood Untreated Dressed","Serviceable","Class 1",2017,140,131.57,8,{"$f":"INDEX(Lists!$B$32:$B$40, MATCH(2020-C1411, Lists!$C$32:$C$40,1))","v":"81-90"},{"$f":"SUMPRODUCT((Data!$B$17:$B$19=Model!$F1411)*(Data!$C$16:$K$16=Model!$K1411)*(Data!$C$17:$K$19))","v":2.81},117.52,{"$f":"_xlfn.IFS(M1411>70,\"Serviceable\",M1411>30, \"Limited Life\",M1411<=30, \"Unserviceable\")","v":"Serviceable"}]
[null,2225,1969,"Wood Creos Impregnated","Serviceable","Class 3",2020,110,110,5,{"$f":"INDEX(Lists!$B$32:$B$40, MATCH(2020-C1412, Lists!$C$32:$C$40,1))","v":"51-60"},{"$f":"SUMPRODUCT((Data!$B$17:$B$19=Model!$F1412)*(Data!$C$16:$K$16=Model!$K1412)*(Data!$C$17:$K$19))","v":2.73},96.35,{"$f":"_xlfn.IFS(M1412>70,\"Serviceable\",M1412>30, \"Limited Life\",M1412<=30, \"Unserviceable\")","v":"Serviceable"}]
[null,2226,1980,"Wood Untreated Dressed","Serviceable","Class 1",2017,120,112.44,8,{"$f":"INDEX(Lists!$B$32:$B$40, MATCH(2020-C1413, Lists!$C$32:$C$40,1))","v":"31-40"},{"$f":"SUMPRODUCT((Data!$B$17:$B$19=Model!$F1413)*(Data!$C$16:$K$16=Model!$K1413)*(Data!$C$17:$K$19))","v":2.52},99.84,{"$f":"_xlfn.IFS(M1413>70,\"Serviceable\",M1413>30, \"Limited Life\",M1413<=30, \"Unserviceable\")","v":"Serviceable"}]
[null,2227,1970,"Wood Creos Impregnated","Serviceable","Class 3",2020,100,100,5,{"$f":"INDEX(Lists!$B$32:$B$40, MATCH(2020-C1414, Lists!$C$32:$C$40,1))","v":"41-50"},{"$f":"SUMPRODUCT((Data!$B$17:$B$19=Model!$F1414)*(Data!$C$16:$K$16=Model!$K1414)*(Data!$C$17:$K$19))","v":3.78},81.099999999999994,{"$f":"_xlfn.IFS(M1414>70,\"Serviceable\",M1414>30, \"Limited Life\",M1414<=30, \"Unserviceable\")","v":"Serviceable"}]
[null,2228,1970,"Wood Creos Impregnated","Serviceable","Class 3",2017,100,88.66,8,{"$f":"INDEX(Lists!$B$32:$B$40, MATCH(2020-C1415, Lists!$C$32:$C$40,1))","v":"41-50"},{"$f":"SUMPRODUCT((Data!$B$17:$B$19=Model!$F1415)*(Data!$C$16:$K$16=Model!$K1415)*(Data!$C$17:$K$19))","v":3.78},69.760000000000005,{"$f":"_xlfn.IFS(M1415>70,\"Serviceable\",M1415>30, \"Limited Life\",M1415<=30, \"Unserviceable\")","v":"Limited Life"}]
[null,2229,1974,"Wood Creos Impregnated","Serviceable","Class 1",2020,130,130,{"$f":"2025-G1416","v":5},{"$f":"INDEX(Lists!$B$32:$B$40, MATCH(2020-C1416, Lists!$C$32:$C$40,1))","v":"41-50"},{"$f":"SUMPRODUCT((Data!$B$17:$B$19=Model!$F1416)*(Data!$C$16:$K$16=Model!$K1416)*(Data!$C$17:$K$19))","v":1.75},{"$f":"IF(IF(H1416>=700,999,(H1416-L1416*J1416))<0,0,IF(H1416>=700,999,(H1416-L1416*J1416)))","v":121.25},{"$f":"_xlfn.IFS(M1416>70,\"Serviceable\",M1416>30, \"Limited Life\",M1416<=30, \"Unserviceable\")","v":"Serviceable"}]
[null,2231,1974,"Wood Creos Impregnated","Serviceable","Class 1",2020,130,130,5,{"$f":"INDEX(Lists!$B$32:$B$40, MATCH(2020-C1417, Lists!$C$32:$C$40,1))","v":"41-50"},{"$f":"SUMPRODUCT((Data!$B$17:$B$19=Model!$F1417)*(Data!$C$16:$K$16=Model!$K1417)*(Data!$C$17:$K$19))","v":1.75},121.25,{"$f":"_xlfn.IFS(M1417>70,\"Serviceable\",M1417>30, \"Limited Life\",M1417<=30, \"Unserviceable\")","v":"Serviceable"}]
[null,2232,1965,"Wood Creos Impregnated","Serviceable","Class 3",2017,100,91.81,8,{"$f":"INDEX(Lists!$B$32:$B$40, MATCH(2020-C1418, Lists!$C$32:$C$40,1))","v":"51-60"},{"$f":"SUMPRODUCT((Data!$B$17:$B$19=Model!$F1418)*(Data!$C$16:$K$16=Model!$K1418)*(Data!$C$17:$K$19))","v":2.73},78.16,{"$f":"_xlfn.IFS(M1418>70,\"Serviceable\",M1418>30, \"Limited Life\",M1418<=30, \"Unserviceable\")","v":"Serviceable"}]
[null,2234,1998,"CCA Treated Pole","Serviceable","Class 2",2020,120,120,5,{"$f":"INDEX(Lists!$B$32:$B$40, MATCH(2020-C1419, Lists!$C$32:$C$40,1))","v":"21-30"},{"$f":"SUMPRODUCT((Data!$B$17:$B$19=Model!$F1419)*(Data!$C$16:$K$16=Model!$K1419)*(Data!$C$17:$K$19))","v":1.89},110.55,{"$f":"_xlfn.IFS(M1419>70,\"Serviceable\",M1419>30, \"Limited Life\",M1419<=30, \"Unserviceable\")","v":"Serviceable"}]
[null,2235,1935,"Wood Untreated Dressed","Serviceable","Class 1",2017,100,91.57,8,{"$f":"INDEX(Lists!$B$32:$B$40, MATCH(2020-C1420, Lists!$C$32:$C$40,1))","v":"81-90"},{"$f":"SUMPRODUCT((Data!$B$17:$B$19=Model!$F1420)*(Data!$C$16:$K$16=Model!$K1420)*(Data!$C$17:$K$19))","v":2.81},77.52,{"$f":"_xlfn.IFS(M1420>70,\"Serviceable\",M1420>30, \"Limited Life\",M1420<=30, \"Unserviceable\")","v":"Serviceable"}]
[null,2236,1939,"Wood Untreated Dressed","Serviceable","Class 1",2020,140,140,5,{"$f":"INDEX(Lists!$B$32:$B$40, MATCH(2020-C1421, Lists!$C$32:$C$40,1))","v":"81-90"},{"$f":"SUMPRODUCT((Data!$B$17:$B$19=Model!$F1421)*(Data!$C$16:$K$16=Model!$K1421)*(Data!$C$17:$K$19))","v":2.81},125.95,{"$f":"_xlfn.IFS(M1421>70,\"Serviceable\",M1421>30, \"Limited Life\",M1421<=30, \"Unserviceable\")","v":"Serviceable"}]
[null,2238,1984,"Wood Untreated Dressed","Serviceable","Class 1",2020,90,90,5,{"$f":"INDEX(Lists!$B$32:$B$40, MATCH(2020-C1422, Lists!$C$32:$C$40,1))","v":"31-40"},{"$f":"SUMPRODUCT((Data!$B$17:$B$19=Model!$F1422)*(Data!$C$16:$K$16=Model!$K1422)*(Data!$C$17:$K$19))","v":2.52},77.400000000000006,{"$f":"_xlfn.IFS(M1422>70,\"Serviceable\",M1422>30, \"Limited Life\",M1422<=30, \"Unserviceable\")","v":"Serviceable"}]
[null,2240,1976,"Wood Creos Impregnated","Serviceable","Class 1",2020,110,110,5,{"$f":"INDEX(Lists!$B$32:$B$40, MATCH(2020-C1423, Lists!$C$32:$C$40,1))","v":"41-50"},{"$f":"SUMPRODUCT((Data!$B$17:$B$19=Model!$F1423)*(Data!$C$16:$K$16=Model!$K1423)*(Data!$C$17:$K$19))","v":1.75},101.25,{"$f":"_xlfn.IFS(M1423>70,\"Serviceable\",M1423>30, \"Limited Life\",M1423<=30, \"Unserviceable\")","v":"Serviceable"}]
[null,2243,1965,"Wood Creos Impregnated","Serviceable","Class 3",2017,80,71.81,8,{"$f":"INDEX(Lists!$B$32:$B$40, MATCH(2020-C1424, Lists!$C$32:$C$40,1))","v":"51-60"},{"$f":"SUMPRODUCT((Data!$B$17:$B$19=Model!$F1424)*(Data!$C$16:$K$16=Model!$K1424)*(Data!$C$17:$K$19))","v":2.73},58.16,{"$f":"_xlfn.IFS(M1424>70,\"Serviceable\",M1424>30, \"Limited Life\",M1424<=30, \"Unserviceable\")","v":"Limited Life"}]
[null,2244,1976,"Wood Creos Impregnated","Serviceable","Class 1",2020,110,110,5,{"$f":"INDEX(Lists!$B$32:$B$40, MATCH(2020-C1425, Lists!$C$32:$C$40,1))","v":"41-50"},{"$f":"SUMPRODUCT((Data!$B$17:$B$19=Model!$F1425)*(Data!$C$16:$K$16=Model!$K1425)*(Data!$C$17:$K$19))","v":1.75},101.25,{"$f":"_xlfn.IFS(M1425>70,\"Serviceable\",M1425>30, \"Limited Life\",M1425<=30, \"Unserviceable\")","v":"Serviceable"}]
[null,2246,1940,"Wood Untreated Dressed","Serviceable","Class 1",2020,90,90,5,{"$f":"INDEX(Lists!$B$32:$B$40, MATCH(2020-C1426, Lists!$C$32:$C$40,1))","v":"71-80"},{"$f":"SUMPRODUCT((Data!$B$17:$B$19=Model!$F1426)*(Data!$C$16:$K$16=Model!$K1426)*(Data!$C$17:$K$19))","v":2.15},79.25,{"$f":"_xlfn.IFS(M1426>70,\"Serviceable\",M1426>30, \"Limited Life\",M1426<=30, \"Unserviceable\")","v":"Serviceable"}]
[null,2248,1976,"Wood Creos Impregnated","Serviceable","Class 1",2020,110,110,5,{"$f":"INDEX(Lists!$B$32:$B$40, MATCH(2020-C1427, Lists!$C$32:$C$40,1))","v":"41-50"},{"$f":"SUMPRODUCT((Data!$B$17:$B$19=Model!$F1427)*(Data!$C$16:$K$16=Model!$K1427)*(Data!$C$17:$K$19))","v":1.75},101.25,{"$f":"_xlfn.IFS(M1427>70,\"Serviceable\",M1427>30, \"Limited Life\",M1427<=30, \"Unserviceable\")","v":"Serviceable"}]
[null,2250,1941,"Wood Untreated Dressed","Serviceable","Class 1",2020,110,110,5,{"$f":"INDEX(Lists!$B$32:$B$40, MATCH(2020-C1428, Lists!$C$32:$C$40,1))","v":"71-80"},{"$f":"SUMPRODUCT((Data!$B$17:$B$19=Model!$F1428)*(Data!$C$16:$K$16=Model!$K1428)*(Data!$C$17:$K$19))","v":2.15},99.25,{"$f":"_xlfn.IFS(M1428>70,\"Serviceable\",M1428>30, \"Limited Life\",M1428<=30, \"Unserviceable\")","v":"Serviceable"}]
[null,2252,1986,"Wood Untreated Dressed","Serviceable","Class 1",2020,110,110,5,{"$f":"INDEX(Lists!$B$32:$B$40, MATCH(2020-C1429, Lists!$C$32:$C$40,1))","v":"31-40"},{"$f":"SUMPRODUCT((Data!$B$17:$B$19=Model!$F1429)*(Data!$C$16:$K$16=Model!$K1429)*(Data!$C$17:$K$19))","v":2.52},97.4,{"$f":"_xlfn.IFS(M1429>70,\"Serviceable\",M1429>30, \"Limited Life\",M1429<=30, \"Unserviceable\")","v":"Serviceable"}]
[null,2253,1938,"Wood Untreated Round","Serviceable","Class 1",2017,100,91.57,8,{"$f":"INDEX(Lists!$B$32:$B$40, MATCH(2020-C1430, Lists!$C$32:$C$40,1))","v":"81-90"},{"$f":"SUMPRODUCT((Data!$B$17:$B$19=Model!$F1430)*(Data!$C$16:$K$16=Model!$K1430)*(Data!$C$17:$K$19))","v":2.81},77.52,{"$f":"_xlfn.IFS(M1430>70,\"Serviceable\",M1430>30, \"Limited Life\",M1430<=30, \"Unserviceable\")","v":"Serviceable"}]
[null,2256,1938,"Wood Creos Impregnated","Serviceable","Class 1",2020,80,80,5,{"$f":"INDEX(Lists!$B$32:$B$40, MATCH(2020-C1431, Lists!$C$32:$C$40,1))","v":"81-90"},{"$f":"SUMPRODUCT((Data!$B$17:$B$19=Model!$F1431)*(Data!$C$16:$K$16=Model!$K1431)*(Data!$C$17:$K$19))","v":2.81},65.95,{"$f":"_xlfn.IFS(M1431>70,\"Serviceable\",M1431>30, \"Limited Life\",M1431<=30, \"Unserviceable\")","v":"Limited Life"}]
[null,2257,2010,"CCA Treated Pole","Serviceable","Class 2",2017,130,126.34,8,{"$f":"INDEX(Lists!$B$32:$B$40, MATCH(2020-C1432, Lists!$C$32:$C$40,1))","v":"0-20"},{"$f":"SUMPRODUCT((Data!$B$17:$B$19=Model!$F1432)*(Data!$C$16:$K$16=Model!$K1432)*(Data!$C$17:$K$19))","v":1.22},120.24,{"$f":"_xlfn.IFS(M1432>70,\"Serviceable\",M1432>30, \"Limited Life\",M1432<=30, \"Unserviceable\")","v":"Serviceable"}]
[null,2259,1937,"Wood Untreated Round","Serviceable","Class 1",2017,120,111.57,8,{"$f":"INDEX(Lists!$B$32:$B$40, MATCH(2020-C1433, Lists!$C$32:$C$40,1))","v":"81-90"},{"$f":"SUMPRODUCT((Data!$B$17:$B$19=Model!$F1433)*(Data!$C$16:$K$16=Model!$K1433)*(Data!$C$17:$K$19))","v":2.81},97.52,{"$f":"_xlfn.IFS(M1433>70,\"Serviceable\",M1433>30, \"Limited Life\",M1433<=30, \"Unserviceable\")","v":"Serviceable"}]
[null,2261,1986,"Wood Untreated Dressed","Serviceable","Class 1",2017,110,102.44,8,{"$f":"INDEX(Lists!$B$32:$B$40, MATCH(2020-C1434, Lists!$C$32:$C$40,1))","v":"31-40"},{"$f":"SUMPRODUCT((Data!$B$17:$B$19=Model!$F1434)*(Data!$C$16:$K$16=Model!$K1434)*(Data!$C$17:$K$19))","v":2.52},89.84,{"$f":"_xlfn.IFS(M1434>70,\"Serviceable\",M1434>30, \"Limited Life\",M1434<=30, \"Unserviceable\")","v":"Serviceable"}]
[null,2262,1965,"Wood Creos Impregnated","Serviceable","Class 3",2018,110,104.54,7,{"$f":"INDEX(Lists!$B$32:$B$40, MATCH(2020-C1435, Lists!$C$32:$C$40,1))","v":"51-60"},{"$f":"SUMPRODUCT((Data!$B$17:$B$19=Model!$F1435)*(Data!$C$16:$K$16=Model!$K1435)*(Data!$C$17:$K$19))","v":2.73},90.89,{"$f":"_xlfn.IFS(M1435>70,\"Serviceable\",M1435>30, \"Limited Life\",M1435<=30, \"Unserviceable\")","v":"Serviceable"}]
[null,2263,1986,"Wood Untreated Dressed","Serviceable","Class 1",2017,140,132.44,8,{"$f":"INDEX(Lists!$B$32:$B$40, MATCH(2020-C1436, Lists!$C$32:$C$40,1))","v":"31-40"},{"$f":"SUMPRODUCT((Data!$B$17:$B$19=Model!$F1436)*(Data!$C$16:$K$16=Model!$K1436)*(Data!$C$17:$K$19))","v":2.52},119.84,{"$f":"_xlfn.IFS(M1436>70,\"Serviceable\",M1436>30, \"Limited Life\",M1436<=30, \"Unserviceable\")","v":"Serviceable"}]
[null,2265,1984,"Wood Untreated Dressed","Serviceable","Class 1",2017,140,132.44,8,{"$f":"INDEX(Lists!$B$32:$B$40, MATCH(2020-C1437, Lists!$C$32:$C$40,1))","v":"31-40"},{"$f":"SUMPRODUCT((Data!$B$17:$B$19=Model!$F1437)*(Data!$C$16:$K$16=Model!$K1437)*(Data!$C$17:$K$19))","v":2.52},119.84,{"$f":"_xlfn.IFS(M1437>70,\"Serviceable\",M1437>30, \"Limited Life\",M1437<=30, \"Unserviceable\")","v":"Serviceable"}]
[null,2267,1961,"Wood Creos Impregnated","Serviceable","Class 3",2017,80,71.81,8,{"$f":"INDEX(Lists!$B$32:$B$40, MATCH(2020-C1438, Lists!$C$32:$C$40,1))","v":"51-60"},{"$f":"SUMPRODUCT((Data!$B$17:$B$19=Model!$F1438)*(Data!$C$16:$K$16=Model!$K1438)*(Data!$C$17:$K$19))","v":2.73},58.16,{"$f":"_xlfn.IFS(M1438>70,\"Serviceable\",M1438>30, \"Limited Life\",M1438<=30, \"Unserviceable\")","v":"Limited Life"}]
[null,2269,1966,"Wood Creos Impregnated","Serviceable","Class 3",2017,100,91.81,8,{"$f":"INDEX(Lists!$B$32:$B$40, MATCH(2020-C1439, Lists!$C$32:$C$40,1))","v":"51-60"},{"$f":"SUMPRODUCT((Data!$B$17:$B$19=Model!$F1439)*(Data!$C$16:$K$16=Model!$K1439)*(Data!$C$17:$K$19))","v":2.73},78.16,{"$f":"_xlfn.IFS(M1439>70,\"Serviceable\",M1439>30, \"Limited Life\",M1439<=30, \"Unserviceable\")","v":"Serviceable"}]
[null,2271,1961,"Wood Creos Impregnated","Serviceable","Class 3",2018,100,94.54,7,{"$f":"INDEX(Lists!$B$32:$B$40, MATCH(2020-C1440, Lists!$C$32:$C$40,1))","v":"51-60"},{"$f":"SUMPRODUCT((Data!$B$17:$B$19=Model!$F1440)*(Data!$C$16:$K$16=Model!$K1440)*(Data!$C$17:$K$19))","v":2.73},80.89,{"$f":"_xlfn.IFS(M1440>70,\"Serviceable\",M1440>30, \"Limited Life\",M1440<=30, \"Unserviceable\")","v":"Serviceable"}]
[null,2276,1965,"Wood Creos Impregnated","Serviceable","Class 3",2016,90,79.08,9,{"$f":"INDEX(Lists!$B$32:$B$40, MATCH(2020-C1441, Lists!$C$32:$C$40,1))","v":"51-60"},{"$f":"SUMPRODUCT((Data!$B$17:$B$19=Model!$F1441)*(Data!$C$16:$K$16=Model!$K1441)*(Data!$C$17:$K$19))","v":2.73},65.430000000000007,{"$f":"_xlfn.IFS(M1441>70,\"Serviceable\",M1441>30, \"Limited Life\",M1441<=30, \"Unserviceable\")","v":"Limited Life"}]
[null,2278,1940,"Wood Untreated Dressed","Serviceable","Class 1",2016,130,121.4,9,{"$f":"INDEX(Lists!$B$32:$B$40, MATCH(2020-C1442, Lists!$C$32:$C$40,1))","v":"71-80"},{"$f":"SUMPRODUCT((Data!$B$17:$B$19=Model!$F1442)*(Data!$C$16:$K$16=Model!$K1442)*(Data!$C$17:$K$19))","v":2.15},110.65,{"$f":"_xlfn.IFS(M1442>70,\"Serviceable\",M1442>30, \"Limited Life\",M1442<=30, \"Unserviceable\")","v":"Serviceable"}]
[null,2283,1935,"Wood Untreated Dressed","Serviceable","Class 1",2018,120,114.38,7,{"$f":"INDEX(Lists!$B$32:$B$40, MATCH(2020-C1443, Lists!$C$32:$C$40,1))","v":"81-90"},{"$f":"SUMPRODUCT((Data!$B$17:$B$19=Model!$F1443)*(Data!$C$16:$K$16=Model!$K1443)*(Data!$C$17:$K$19))","v":2.81},100.33,{"$f":"_xlfn.IFS(M1443>70,\"Serviceable\",M1443>30, \"Limited Life\",M1443<=30, \"Unserviceable\")","v":"Serviceable"}]
[null,2284,1960,"Wood Creos Impregnated","Serviceable","Class 3",2017,100,91.81,8,{"$f":"INDEX(Lists!$B$32:$B$40, MATCH(2020-C1444, Lists!$C$32:$C$40,1))","v":"51-60"},{"$f":"SUMPRODUCT((Data!$B$17:$B$19=Model!$F1444)*(Data!$C$16:$K$16=Model!$K1444)*(Data!$C$17:$K$19))","v":2.73},78.16,{"$f":"_xlfn.IFS(M1444>70,\"Serviceable\",M1444>30, \"Limited Life\",M1444<=30, \"Unserviceable\")","v":"Serviceable"}]
[null,2287,1996,"Wood Untreated Dressed","Serviceable","Class 1",2018,100,96.08,7,{"$f":"INDEX(Lists!$B$32:$B$40, MATCH(2020-C1445, Lists!$C$32:$C$40,1))","v":"21-30"},{"$f":"SUMPRODUCT((Data!$B$17:$B$19=Model!$F1445)*(Data!$C$16:$K$16=Model!$K1445)*(Data!$C$17:$K$19))","v":1.96},86.28,{"$f":"_xlfn.IFS(M1445>70,\"Serviceable\",M1445>30, \"Limited Life\",M1445<=30, \"Unserviceable\")","v":"Serviceable"}]
[null,2288,1969,"Wood Creos Impregnated","Limited Life","Class 3",2017,70,61.81,8,{"$f":"INDEX(Lists!$B$32:$B$40, MATCH(2020-C1446, Lists!$C$32:$C$40,1))","v":"51-60"},{"$f":"SUMPRODUCT((Data!$B$17:$B$19=Model!$F1446)*(Data!$C$16:$K$16=Model!$K1446)*(Data!$C$17:$K$19))","v":2.73},48.16,{"$f":"_xlfn.IFS(M1446>70,\"Serviceable\",M1446>30, \"Limited Life\",M1446<=30, \"Unserviceable\")","v":"Limited Life"}]
[null,2291,1961,"Wood Creos Impregnated","Serviceable","Class 3",2018,90,84.54,7,{"$f":"INDEX(Lists!$B$32:$B$40, MATCH(2020-C1447, Lists!$C$32:$C$40,1))","v":"51-60"},{"$f":"SUMPRODUCT((Data!$B$17:$B$19=Model!$F1447)*(Data!$C$16:$K$16=Model!$K1447)*(Data!$C$17:$K$19))","v":2.73},70.89,{"$f":"_xlfn.IFS(M1447>70,\"Serviceable\",M1447>30, \"Limited Life\",M1447<=30, \"Unserviceable\")","v":"Serviceable"}]
[null,2292,1966,"Wood Creos Impregnated","Serviceable","Class 3",2017,100,91.81,8,{"$f":"INDEX(Lists!$B$32:$B$40, MATCH(2020-C1448, Lists!$C$32:$C$40,1))","v":"51-60"},{"$f":"SUMPRODUCT((Data!$B$17:$B$19=Model!$F1448)*(Data!$C$16:$K$16=Model!$K1448)*(Data!$C$17:$K$19))","v":2.73},78.16,{"$f":"_xlfn.IFS(M1448>70,\"Serviceable\",M1448>30, \"Limited Life\",M1448<=30, \"Unserviceable\")","v":"Serviceable"}]
[null,2293,1961,"Wood Creos Impregnated","Serviceable","Class 3",2018,110,104.54,7,{"$f":"INDEX(Lists!$B$32:$B$40, MATCH(2020-C1449, Lists!$C$32:$C$40,1))","v":"51-60"},{"$f":"SUMPRODUCT((Data!$B$17:$B$19=Model!$F1449)*(Data!$C$16:$K$16=Model!$K1449)*(Data!$C$17:$K$19))","v":2.73},90.89,{"$f":"_xlfn.IFS(M1449>70,\"Serviceable\",M1449>30, \"Limited Life\",M1449<=30, \"Unserviceable\")","v":"Serviceable"}]
[null,2294,1966,"Wood Creos Impregnated","Serviceable","Class 3",2018,110,104.54,7,{"$f":"INDEX(Lists!$B$32:$B$40, MATCH(2020-C1450, Lists!$C$32:$C$40,1))","v":"51-60"},{"$f":"SUMPRODUCT((Data!$B$17:$B$19=Model!$F1450)*(Data!$C$16:$K$16=Model!$K1450)*(Data!$C$17:$K$19))","v":2.73},90.89,{"$f":"_xlfn.IFS(M1450>70,\"Serviceable\",M1450>30, \"Limited Life\",M1450<=30, \"Unserviceable\")","v":"Serviceable"}]
[null,2295,1967,"Wood Creos Impregnated","Serviceable","Class 3",2017,90,81.81,8,{"$f":"INDEX(Lists!$B$32:$B$40, MATCH(2020-C1451, Lists!$C$32:$C$40,1))","v":"51-60"},{"$f":"SUMPRODUCT((Data!$B$17:$B$19=Model!$F1451)*(Data!$C$16:$K$16=Model!$K1451)*(Data!$C$17:$K$19))","v":2.73},68.16,{"$f":"_xlfn.IFS(M1451>70,\"Serviceable\",M1451>30, \"Limited Life\",M1451<=30, \"Unserviceable\")","v":"Limited Life"}]
[null,2296,1935,"Wood Untreated Dressed","Serviceable","Class 1",2020,90,90,5,{"$f":"INDEX(Lists!$B$32:$B$40, MATCH(2020-C1452, Lists!$C$32:$C$40,1))","v":"81-90"},{"$f":"SUMPRODUCT((Data!$B$17:$B$19=Model!$F1452)*(Data!$C$16:$K$16=Model!$K1452)*(Data!$C$17:$K$19))","v":2.81},75.95,{"$f":"_xlfn.IFS(M1452>70,\"Serviceable\",M1452>30, \"Limited Life\",M1452<=30, \"Unserviceable\")","v":"Serviceable"}]
[null,2298,1935,"Wood Untreated Dressed","Serviceable","Class 1",2020,90,90,5,{"$f":"INDEX(Lists!$B$32:$B$40, MATCH(2020-C1453, Lists!$C$32:$C$40,1))","v":"81-90"},{"$f":"SUMPRODUCT((Data!$B$17:$B$19=Model!$F1453)*(Data!$C$16:$K$16=Model!$K1453)*(Data!$C$17:$K$19))","v":2.81},75.95,{"$f":"_xlfn.IFS(M1453>70,\"Serviceable\",M1453>30, \"Limited Life\",M1453<=30, \"Unserviceable\")","v":"Serviceable"}]
[null,2299,1970,"Wood Untreated Dressed","Limited Life","Class 2",2020,70,70,5,{"$f":"INDEX(Lists!$B$32:$B$40, MATCH(2020-C1454, Lists!$C$32:$C$40,1))","v":"41-50"},{"$f":"SUMPRODUCT((Data!$B$17:$B$19=Model!$F1454)*(Data!$C$16:$K$16=Model!$K1454)*(Data!$C$17:$K$19))","v":3.28},53.6,{"$f":"_xlfn.IFS(M1454>70,\"Serviceable\",M1454>30, \"Limited Life\",M1454<=30, \"Unserviceable\")","v":"Limited Life"}]
[null,2301,1986,"Wood Untreated Dressed","Serviceable","Class 1",2018,100,94.96,7,{"$f":"INDEX(Lists!$B$32:$B$40, MATCH(2020-C1455, Lists!$C$32:$C$40,1))","v":"31-40"},{"$f":"SUMPRODUCT((Data!$B$17:$B$19=Model!$F1455)*(Data!$C$16:$K$16=Model!$K1455)*(Data!$C$17:$K$19))","v":2.52},82.36,{"$f":"_xlfn.IFS(M1455>70,\"Serviceable\",M1455>30, \"Limited Life\",M1455<=30, \"Unserviceable\")","v":"Serviceable"}]
[null,2302,1934,"Wood Untreated Dressed","Serviceable","Class 1",2017,110,101.57,8,{"$f":"INDEX(Lists!$B$32:$B$40, MATCH(2020-C1456, Lists!$C$32:$C$40,1))","v":"81-90"},{"$f":"SUMPRODUCT((Data!$B$17:$B$19=Model!$F1456)*(Data!$C$16:$K$16=Model!$K1456)*(Data!$C$17:$K$19))","v":2.81},87.52,{"$f":"_xlfn.IFS(M1456>70,\"Serviceable\",M1456>30, \"Limited Life\",M1456<=30, \"Unserviceable\")","v":"Serviceable"}]
[null,2305,1959,"Wood Creos Impregnated","Serviceable","Class 3",2018,100,95.96,7,{"$f":"INDEX(Lists!$B$32:$B$40, MATCH(2020-C1457, Lists!$C$32:$C$40,1))","v":"61-70"},{"$f":"SUMPRODUCT((Data!$B$17:$B$19=Model!$F1457)*(Data!$C$16:$K$16=Model!$K1457)*(Data!$C$17:$K$19))","v":2.02},85.86,{"$f":"_xlfn.IFS(M1457>70,\"Serviceable\",M1457>30, \"Limited Life\",M1457<=30, \"Unserviceable\")","v":"Serviceable"}]
[null,2306,1999,"CCA Treated Pole","Serviceable","Class 1",2017,140,134.12,8,{"$f":"INDEX(Lists!$B$32:$B$40, MATCH(2020-C1458, Lists!$C$32:$C$40,1))","v":"21-30"},{"$f":"SUMPRODUCT((Data!$B$17:$B$19=Model!$F1458)*(Data!$C$16:$K$16=Model!$K1458)*(Data!$C$17:$K$19))","v":1.96},124.32,{"$f":"_xlfn.IFS(M1458>70,\"Serviceable\",M1458>30, \"Limited Life\",M1458<=30, \"Unserviceable\")","v":"Serviceable"}]
[null,2309,1935,"Wood Untreated Dressed","Serviceable","Class 1",2018,90,84.38,7,{"$f":"INDEX(Lists!$B$32:$B$40, MATCH(2020-C1459, Lists!$C$32:$C$40,1))","v":"81-90"},{"$f":"SUMPRODUCT((Data!$B$17:$B$19=Model!$F1459)*(Data!$C$16:$K$16=Model!$K1459)*(Data!$C$17:$K$19))","v":2.81},70.33,{"$f":"_xlfn.IFS(M1459>70,\"Serviceable\",M1459>30, \"Limited Life\",M1459<=30, \"Unserviceable\")","v":"Serviceable"}]
[null,2310,1970,"Wood Creos Impregnated","Limited Life","Class 3",2017,70,58.66,8,{"$f":"INDEX(Lists!$B$32:$B$40, MATCH(2020-C1460, Lists!$C$32:$C$40,1))","v":"41-50"},{"$f":"SUMPRODUCT((Data!$B$17:$B$19=Model!$F1460)*(Data!$C$16:$K$16=Model!$K1460)*(Data!$C$17:$K$19))","v":3.78},39.760000000000005,{"$f":"_xlfn.IFS(M1460>70,\"Serviceable\",M1460>30, \"Limited Life\",M1460<=30, \"Unserviceable\")","v":"Limited Life"}]
[null,2313,1938,"Wood Untreated Dressed","Serviceable","Class 1",2020,80,80,5,{"$f":"INDEX(Lists!$B$32:$B$40, MATCH(2020-C1461, Lists!$C$32:$C$40,1))","v":"81-90"},{"$f":"SUMPRODUCT((Data!$B$17:$B$19=Model!$F1461)*(Data!$C$16:$K$16=Model!$K1461)*(Data!$C$17:$K$19))","v":2.81},65.95,{"$f":"_xlfn.IFS(M1461>70,\"Serviceable\",M1461>30, \"Limited Life\",M1461<=30, \"Unserviceable\")","v":"Limited Life"}]
[null,2314,1972,"Wood Creos Impregnated","Serviceable","Class 1",2017,110,104.75,8,{"$f":"INDEX(Lists!$B$32:$B$40, MATCH(2020-C1462, Lists!$C$32:$C$40,1))","v":"41-50"},{"$f":"SUMPRODUCT((Data!$B$17:$B$19=Model!$F1462)*(Data!$C$16:$K$16=Model!$K1462)*(Data!$C$17:$K$19))","v":1.75},96,{"$f":"_xlfn.IFS(M1462>70,\"Serviceable\",M1462>30, \"Limited Life\",M1462<=30, \"Unserviceable\")","v":"Serviceable"}]
[null,2317,1984,"Wood Untreated Dressed","Serviceable","Class 1",2018,140,134.96,7,{"$f":"INDEX(Lists!$B$32:$B$40, MATCH(2020-C1463, Lists!$C$32:$C$40,1))","v":"31-40"},{"$f":"SUMPRODUCT((Data!$B$17:$B$19=Model!$F1463)*(Data!$C$16:$K$16=Model!$K1463)*(Data!$C$17:$K$19))","v":2.52},122.36,{"$f":"_xlfn.IFS(M1463>70,\"Serviceable\",M1463>30, \"Limited Life\",M1463<=30, \"Unserviceable\")","v":"Serviceable"}]
[null,2318,1979,"Wood Untreated Dressed","Serviceable","Class 1",2017,130,124.75,8,{"$f":"INDEX(Lists!$B$32:$B$40, MATCH(2020-C1464, Lists!$C$32:$C$40,1))","v":"41-50"},{"$f":"SUMPRODUCT((Data!$B$17:$B$19=Model!$F1464)*(Data!$C$16:$K$16=Model!$K1464)*(Data!$C$17:$K$19))","v":1.75},116,{"$f":"_xlfn.IFS(M1464>70,\"Serviceable\",M1464>30, \"Limited Life\",M1464<=30, \"Unserviceable\")","v":"Serviceable"}]
[null,2319,1971,"Wood Creos Impregnated","Serviceable","Class 3",2018,110,102.44,7,{"$f":"INDEX(Lists!$B$32:$B$40, MATCH(2020-C1465, Lists!$C$32:$C$40,1))","v":"41-50"},{"$f":"SUMPRODUCT((Data!$B$17:$B$19=Model!$F1465)*(Data!$C$16:$K$16=Model!$K1465)*(Data!$C$17:$K$19))","v":3.78},83.54,{"$f":"_xlfn.IFS(M1465>70,\"Serviceable\",M1465>30, \"Limited Life\",M1465<=30, \"Unserviceable\")","v":"Serviceable"}]
[null,2320,1984,"Wood Untreated Dressed","Serviceable","Class 1",2017,130,122.44,8,{"$f":"INDEX(Lists!$B$32:$B$40, MATCH(2020-C1466, Lists!$C$32:$C$40,1))","v":"31-40"},{"$f":"SUMPRODUCT((Data!$B$17:$B$19=Model!$F1466)*(Data!$C$16:$K$16=Model!$K1466)*(Data!$C$17:$K$19))","v":2.52},109.84,{"$f":"_xlfn.IFS(M1466>70,\"Serviceable\",M1466>30, \"Limited Life\",M1466<=30, \"Unserviceable\")","v":"Serviceable"}]
[null,2322,1967,"Wood Creos Impregnated","Serviceable","Class 3",2017,90,81.81,8,{"$f":"INDEX(Lists!$B$32:$B$40, MATCH(2020-C1467, Lists!$C$32:$C$40,1))","v":"51-60"},{"$f":"SUMPRODUCT((Data!$B$17:$B$19=Model!$F1467)*(Data!$C$16:$K$16=Model!$K1467)*(Data!$C$17:$K$19))","v":2.73},68.16,{"$f":"_xlfn.IFS(M1467>70,\"Serviceable\",M1467>30, \"Limited Life\",M1467<=30, \"Unserviceable\")","v":"Limited Life"}]
[null,2323,1986,"Wood Untreated Dressed","Serviceable","Class 1",2020,120,120,5,{"$f":"INDEX(Lists!$B$32:$B$40, MATCH(2020-C1468, Lists!$C$32:$C$40,1))","v":"31-40"},{"$f":"SUMPRODUCT((Data!$B$17:$B$19=Model!$F1468)*(Data!$C$16:$K$16=Model!$K1468)*(Data!$C$17:$K$19))","v":2.52},107.4,{"$f":"_xlfn.IFS(M1468>70,\"Serviceable\",M1468>30, \"Limited Life\",M1468<=30, \"Unserviceable\")","v":"Serviceable"}]
[null,2325,1979,"Wood Untreated Dressed","Serviceable","Class 1",2017,130,124.75,8,{"$f":"INDEX(Lists!$B$32:$B$40, MATCH(2020-C1469, Lists!$C$32:$C$40,1))","v":"41-50"},{"$f":"SUMPRODUCT((Data!$B$17:$B$19=Model!$F1469)*(Data!$C$16:$K$16=Model!$K1469)*(Data!$C$17:$K$19))","v":1.75},116,{"$f":"_xlfn.IFS(M1469>70,\"Serviceable\",M1469>30, \"Limited Life\",M1469<=30, \"Unserviceable\")","v":"Serviceable"}]
[null,2328,1958,"Wood Creos Impregnated","Serviceable","Class 3",2020,90,90,5,{"$f":"INDEX(Lists!$B$32:$B$40, MATCH(2020-C1470, Lists!$C$32:$C$40,1))","v":"61-70"},{"$f":"SUMPRODUCT((Data!$B$17:$B$19=Model!$F1470)*(Data!$C$16:$K$16=Model!$K1470)*(Data!$C$17:$K$19))","v":2.02},79.900000000000006,{"$f":"_xlfn.IFS(M1470>70,\"Serviceable\",M1470>30, \"Limited Life\",M1470<=30, \"Unserviceable\")","v":"Serviceable"}]
[null,2329,1930,"Wood Untreated Dressed","Serviceable","Class 1",2017,100,91.57,8,{"$f":"INDEX(Lists!$B$32:$B$40, MATCH(2020-C1471, Lists!$C$32:$C$40,1))","v":"81-90"},{"$f":"SUMPRODUCT((Data!$B$17:$B$19=Model!$F1471)*(Data!$C$16:$K$16=Model!$K1471)*(Data!$C$17:$K$19))","v":2.81},77.52,{"$f":"_xlfn.IFS(M1471>70,\"Serviceable\",M1471>30, \"Limited Life\",M1471<=30, \"Unserviceable\")","v":"Serviceable"}]
[null,2331,1983,"Wood Untreated Dressed","Serviceable","Class 1",2017,120,112.44,8,{"$f":"INDEX(Lists!$B$32:$B$40, MATCH(2020-C1472, Lists!$C$32:$C$40,1))","v":"31-40"},{"$f":"SUMPRODUCT((Data!$B$17:$B$19=Model!$F1472)*(Data!$C$16:$K$16=Model!$K1472)*(Data!$C$17:$K$19))","v":2.52},99.84,{"$f":"_xlfn.IFS(M1472>70,\"Serviceable\",M1472>30, \"Limited Life\",M1472<=30, \"Unserviceable\")","v":"Serviceable"}]
[null,2332,1970,"Wood Creos Impregnated","Serviceable","Class 2",2020,90,90,5,{"$f":"INDEX(Lists!$B$32:$B$40, MATCH(2020-C1473, Lists!$C$32:$C$40,1))","v":"41-50"},{"$f":"SUMPRODUCT((Data!$B$17:$B$19=Model!$F1473)*(Data!$C$16:$K$16=Model!$K1473)*(Data!$C$17:$K$19))","v":3.28},73.599999999999994,{"$f":"_xlfn.IFS(M1473>70,\"Serviceable\",M1473>30, \"Limited Life\",M1473<=30, \"Unserviceable\")","v":"Serviceable"}]
[null,2334,1982,"Wood Untreated Dressed","Serviceable","Class 1",2020,100,100,5,{"$f":"INDEX(Lists!$B$32:$B$40, MATCH(2020-C1474, Lists!$C$32:$C$40,1))","v":"31-40"},{"$f":"SUMPRODUCT((Data!$B$17:$B$19=Model!$F1474)*(Data!$C$16:$K$16=Model!$K1474)*(Data!$C$17:$K$19))","v":2.52},87.4,{"$f":"_xlfn.IFS(M1474>70,\"Serviceable\",M1474>30, \"Limited Life\",M1474<=30, \"Unserviceable\")","v":"Serviceable"}]
[null,2336,1970,"Wood Creos Impregnated","Serviceable","Class 2",2020,90,90,5,{"$f":"INDEX(Lists!$B$32:$B$40, MATCH(2020-C1475, Lists!$C$32:$C$40,1))","v":"41-50"},{"$f":"SUMPRODUCT((Data!$B$17:$B$19=Model!$F1475)*(Data!$C$16:$K$16=Model!$K1475)*(Data!$C$17:$K$19))","v":3.28},73.599999999999994,{"$f":"_xlfn.IFS(M1475>70,\"Serviceable\",M1475>30, \"Limited Life\",M1475<=30, \"Unserviceable\")","v":"Serviceable"}]
[null,2338,1941,"Wood Untreated Dressed","Serviceable","Class 1",2020,140,140,5,{"$f":"INDEX(Lists!$B$32:$B$40, MATCH(2020-C1476, Lists!$C$32:$C$40,1))","v":"71-80"},{"$f":"SUMPRODUCT((Data!$B$17:$B$19=Model!$F1476)*(Data!$C$16:$K$16=Model!$K1476)*(Data!$C$17:$K$19))","v":2.15},129.25,{"$f":"_xlfn.IFS(M1476>70,\"Serviceable\",M1476>30, \"Limited Life\",M1476<=30, \"Unserviceable\")","v":"Serviceable"}]
[null,2339,2004,"CCA Treated Pole","Serviceable","Class 1",2017,166.31691553103065,163.13691553103064,8,{"$f":"INDEX(Lists!$B$32:$B$40, MATCH(2020-C1477, Lists!$C$32:$C$40,1))","v":"0-20"},{"$f":"SUMPRODUCT((Data!$B$17:$B$19=Model!$F1477)*(Data!$C$16:$K$16=Model!$K1477)*(Data!$C$17:$K$19))","v":1.06},157.83691553103066,{"$f":"_xlfn.IFS(M1477>70,\"Serviceable\",M1477>30, \"Limited Life\",M1477<=30, \"Unserviceable\")","v":"Serviceable"}]
[null,2341,1954,"Wood Untreated Round","Serviceable","Class 1",2017,90,83.91,8,{"$f":"INDEX(Lists!$B$32:$B$40, MATCH(2020-C1478, Lists!$C$32:$C$40,1))","v":"61-70"},{"$f":"SUMPRODUCT((Data!$B$17:$B$19=Model!$F1478)*(Data!$C$16:$K$16=Model!$K1478)*(Data!$C$17:$K$19))","v":2.0299999999999998},73.760000000000005,{"$f":"_xlfn.IFS(M1478>70,\"Serviceable\",M1478>30, \"Limited Life\",M1478<=30, \"Unserviceable\")","v":"Serviceable"}]
[null,2342,1999,"CCA Treated Pole","Serviceable","Class 1",2020,150,150,5,{"$f":"INDEX(Lists!$B$32:$B$40, MATCH(2020-C1479, Lists!$C$32:$C$40,1))","v":"21-30"},{"$f":"SUMPRODUCT((Data!$B$17:$B$19=Model!$F1479)*(Data!$C$16:$K$16=Model!$K1479)*(Data!$C$17:$K$19))","v":1.96},140.19999999999999,{"$f":"_xlfn.IFS(M1479>70,\"Serviceable\",M1479>30, \"Limited Life\",M1479<=30, \"Unserviceable\")","v":"Serviceable"}]
[null,2344,1997,"CCA Treated Pole","Serviceable","Class 2",2020,120,120,{"$f":"2025-G1480","v":5},{"$f":"INDEX(Lists!$B$32:$B$40, MATCH(2020-C1480, Lists!$C$32:$C$40,1))","v":"21-30"},{"$f":"SUMPRODUCT((Data!$B$17:$B$19=Model!$F1480)*(Data!$C$16:$K$16=Model!$K1480)*(Data!$C$17:$K$19))","v":1.89},{"$f":"IF(IF(H1480>=700,999,(H1480-L1480*J1480))<0,0,IF(H1480>=700,999,(H1480-L1480*J1480)))","v":110.55},{"$f":"_xlfn.IFS(M1480>70,\"Serviceable\",M1480>30, \"Limited Life\",M1480<=30, \"Unserviceable\")","v":"Serviceable"}]
[null,2345,1965,"Wood Creos Impregnated","Serviceable","Class 3",2019,90,87.27,6,{"$f":"INDEX(Lists!$B$32:$B$40, MATCH(2020-C1481, Lists!$C$32:$C$40,1))","v":"51-60"},{"$f":"SUMPRODUCT((Data!$B$17:$B$19=Model!$F1481)*(Data!$C$16:$K$16=Model!$K1481)*(Data!$C$17:$K$19))","v":2.73},73.62,{"$f":"_xlfn.IFS(M1481>70,\"Serviceable\",M1481>30, \"Limited Life\",M1481<=30, \"Unserviceable\")","v":"Serviceable"}]
[null,2347,2004,"CCA Treated Pole","Serviceable","Class 1",2017,166.31691553103065,163.13691553103064,8,{"$f":"INDEX(Lists!$B$32:$B$40, MATCH(2020-C1482, Lists!$C$32:$C$40,1))","v":"0-20"},{"$f":"SUMPRODUCT((Data!$B$17:$B$19=Model!$F1482)*(Data!$C$16:$K$16=Model!$K1482)*(Data!$C$17:$K$19))","v":1.06},157.83691553103066,{"$f":"_xlfn.IFS(M1482>70,\"Serviceable\",M1482>30, \"Limited Life\",M1482<=30, \"Unserviceable\")","v":"Serviceable"}]
[null,2348,1941,"Wood Untreated Dressed","Serviceable","Class 1",2020,140,140,5,{"$f":"INDEX(Lists!$B$32:$B$40, MATCH(2020-C1483, Lists!$C$32:$C$40,1))","v":"71-80"},{"$f":"SUMPRODUCT((Data!$B$17:$B$19=Model!$F1483)*(Data!$C$16:$K$16=Model!$K1483)*(Data!$C$17:$K$19))","v":2.15},129.25,{"$f":"_xlfn.IFS(M1483>70,\"Serviceable\",M1483>30, \"Limited Life\",M1483<=30, \"Unserviceable\")","v":"Serviceable"}]
[null,2349,1940,"Wood Untreated Dressed","Serviceable","Class 1",2017,100,93.55,8,{"$f":"INDEX(Lists!$B$32:$B$40, MATCH(2020-C1484, Lists!$C$32:$C$40,1))","v":"71-80"},{"$f":"SUMPRODUCT((Data!$B$17:$B$19=Model!$F1484)*(Data!$C$16:$K$16=Model!$K1484)*(Data!$C$17:$K$19))","v":2.15},82.8,{"$f":"_xlfn.IFS(M1484>70,\"Serviceable\",M1484>30, \"Limited Life\",M1484<=30, \"Unserviceable\")","v":"Serviceable"}]
[null,2350,1941,"CCA Treated Pole","Serviceable","Class 2",2020,110,110,5,{"$f":"INDEX(Lists!$B$32:$B$40, MATCH(2020-C1485, Lists!$C$32:$C$40,1))","v":"71-80"},{"$f":"SUMPRODUCT((Data!$B$17:$B$19=Model!$F1485)*(Data!$C$16:$K$16=Model!$K1485)*(Data!$C$17:$K$19))","v":3.53},92.35,{"$f":"_xlfn.IFS(M1485>70,\"Serviceable\",M1485>30, \"Limited Life\",M1485<=30, \"Unserviceable\")","v":"Serviceable"}]
[null,2351,1978,"Wood Untreated Dressed","Serviceable","Class 1",2017,120,114.75,8,{"$f":"INDEX(Lists!$B$32:$B$40, MATCH(2020-C1486, Lists!$C$32:$C$40,1))","v":"41-50"},{"$f":"SUMPRODUCT((Data!$B$17:$B$19=Model!$F1486)*(Data!$C$16:$K$16=Model!$K1486)*(Data!$C$17:$K$19))","v":1.75},106,{"$f":"_xlfn.IFS(M1486>70,\"Serviceable\",M1486>30, \"Limited Life\",M1486<=30, \"Unserviceable\")","v":"Serviceable"}]
[null,2352,2000,"CCA Treated Pole","Serviceable","Class 1",2020,150,150,5,{"$f":"INDEX(Lists!$B$32:$B$40, MATCH(2020-C1487, Lists!$C$32:$C$40,1))","v":"0-20"},{"$f":"SUMPRODUCT((Data!$B$17:$B$19=Model!$F1487)*(Data!$C$16:$K$16=Model!$K1487)*(Data!$C$17:$K$19))","v":1.06},144.69999999999999,{"$f":"_xlfn.IFS(M1487>70,\"Serviceable\",M1487>30, \"Limited Life\",M1487<=30, \"Unserviceable\")","v":"Serviceable"}]
[null,2353,1967,"Wood Creos Impregnated","Serviceable","Class 3",2017,110,101.81,8,{"$f":"INDEX(Lists!$B$32:$B$40, MATCH(2020-C1488, Lists!$C$32:$C$40,1))","v":"51-60"},{"$f":"SUMPRODUCT((Data!$B$17:$B$19=Model!$F1488)*(Data!$C$16:$K$16=Model!$K1488)*(Data!$C$17:$K$19))","v":2.73},88.16,{"$f":"_xlfn.IFS(M1488>70,\"Serviceable\",M1488>30, \"Limited Life\",M1488<=30, \"Unserviceable\")","v":"Serviceable"}]
[null,2355,1970,"Wood Creos Impregnated","Limited Life","Class 3",2017,80,68.66,8,{"$f":"INDEX(Lists!$B$32:$B$40, MATCH(2020-C1489, Lists!$C$32:$C$40,1))","v":"41-50"},{"$f":"SUMPRODUCT((Data!$B$17:$B$19=Model!$F1489)*(Data!$C$16:$K$16=Model!$K1489)*(Data!$C$17:$K$19))","v":3.78},49.760000000000005,{"$f":"_xlfn.IFS(M1489>70,\"Serviceable\",M1489>30, \"Limited Life\",M1489<=30, \"Unserviceable\")","v":"Limited Life"}]
[null,2356,1969,"Wood Creos Impregnated","Serviceable","Class 2",2020,100,100,5,{"$f":"INDEX(Lists!$B$32:$B$40, MATCH(2020-C1490, Lists!$C$32:$C$40,1))","v":"51-60"},{"$f":"SUMPRODUCT((Data!$B$17:$B$19=Model!$F1490)*(Data!$C$16:$K$16=Model!$K1490)*(Data!$C$17:$K$19))","v":2.57},87.15,{"$f":"_xlfn.IFS(M1490>70,\"Serviceable\",M1490>30, \"Limited Life\",M1490<=30, \"Unserviceable\")","v":"Serviceable"}]
[null,2357,1982,"Wood Untreated Dressed","Serviceable","Class 1",2017,110,102.44,8,{"$f":"INDEX(Lists!$B$32:$B$40, MATCH(2020-C1491, Lists!$C$32:$C$40,1))","v":"31-40"},{"$f":"SUMPRODUCT((Data!$B$17:$B$19=Model!$F1491)*(Data!$C$16:$K$16=Model!$K1491)*(Data!$C$17:$K$19))","v":2.52},89.84,{"$f":"_xlfn.IFS(M1491>70,\"Serviceable\",M1491>30, \"Limited Life\",M1491<=30, \"Unserviceable\")","v":"Serviceable"}]
[null,2358,2004,"CCA Treated Pole","Serviceable","Class 3",2020,150,150,5,{"$f":"INDEX(Lists!$B$32:$B$40, MATCH(2020-C1492, Lists!$C$32:$C$40,1))","v":"0-20"},{"$f":"SUMPRODUCT((Data!$B$17:$B$19=Model!$F1492)*(Data!$C$16:$K$16=Model!$K1492)*(Data!$C$17:$K$19))","v":1.37},143.15,{"$f":"_xlfn.IFS(M1492>70,\"Serviceable\",M1492>30, \"Limited Life\",M1492<=30, \"Unserviceable\")","v":"Serviceable"}]
[null,2359,1979,"Wood Untreated Dressed","Serviceable","Class 1",2017,120,114.75,8,{"$f":"INDEX(Lists!$B$32:$B$40, MATCH(2020-C1493, Lists!$C$32:$C$40,1))","v":"41-50"},{"$f":"SUMPRODUCT((Data!$B$17:$B$19=Model!$F1493)*(Data!$C$16:$K$16=Model!$K1493)*(Data!$C$17:$K$19))","v":1.75},106,{"$f":"_xlfn.IFS(M1493>70,\"Serviceable\",M1493>30, \"Limited Life\",M1493<=30, \"Unserviceable\")","v":"Serviceable"}]
[null,2360,1935,"Wood Untreated Dressed","Serviceable","Class 1",2020,100,100,5,{"$f":"INDEX(Lists!$B$32:$B$40, MATCH(2020-C1494, Lists!$C$32:$C$40,1))","v":"81-90"},{"$f":"SUMPRODUCT((Data!$B$17:$B$19=Model!$F1494)*(Data!$C$16:$K$16=Model!$K1494)*(Data!$C$17:$K$19))","v":2.81},85.95,{"$f":"_xlfn.IFS(M1494>70,\"Serviceable\",M1494>30, \"Limited Life\",M1494<=30, \"Unserviceable\")","v":"Serviceable"}]
[null,2361,1978,"Wood Untreated Dressed","Serviceable","Class 1",2017,140,134.75,8,{"$f":"INDEX(Lists!$B$32:$B$40, MATCH(2020-C1495, Lists!$C$32:$C$40,1))","v":"41-50"},{"$f":"SUMPRODUCT((Data!$B$17:$B$19=Model!$F1495)*(Data!$C$16:$K$16=Model!$K1495)*(Data!$C$17:$K$19))","v":1.75},126,{"$f":"_xlfn.IFS(M1495>70,\"Serviceable\",M1495>30, \"Limited Life\",M1495<=30, \"Unserviceable\")","v":"Serviceable"}]
[null,2362,1938,"Wood Untreated Dressed","Serviceable","Class 1",2020,100,100,5,{"$f":"INDEX(Lists!$B$32:$B$40, MATCH(2020-C1496, Lists!$C$32:$C$40,1))","v":"81-90"},{"$f":"SUMPRODUCT((Data!$B$17:$B$19=Model!$F1496)*(Data!$C$16:$K$16=Model!$K1496)*(Data!$C$17:$K$19))","v":2.81},85.95,{"$f":"_xlfn.IFS(M1496>70,\"Serviceable\",M1496>30, \"Limited Life\",M1496<=30, \"Unserviceable\")","v":"Serviceable"}]
[null,2364,1970,"Wood Creos Impregnated","Serviceable","Class 3",2020,100,100,5,{"$f":"INDEX(Lists!$B$32:$B$40, MATCH(2020-C1497, Lists!$C$32:$C$40,1))","v":"41-50"},{"$f":"SUMPRODUCT((Data!$B$17:$B$19=Model!$F1497)*(Data!$C$16:$K$16=Model!$K1497)*(Data!$C$17:$K$19))","v":3.78},81.099999999999994,{"$f":"_xlfn.IFS(M1497>70,\"Serviceable\",M1497>30, \"Limited Life\",M1497<=30, \"Unserviceable\")","v":"Serviceable"}]
[null,2365,1963,"Wood Creos Impregnated","Serviceable","Class 3",2017,100,91.81,8,{"$f":"INDEX(Lists!$B$32:$B$40, MATCH(2020-C1498, Lists!$C$32:$C$40,1))","v":"51-60"},{"$f":"SUMPRODUCT((Data!$B$17:$B$19=Model!$F1498)*(Data!$C$16:$K$16=Model!$K1498)*(Data!$C$17:$K$19))","v":2.73},78.16,{"$f":"_xlfn.IFS(M1498>70,\"Serviceable\",M1498>30, \"Limited Life\",M1498<=30, \"Unserviceable\")","v":"Serviceable"}]
[null,2366,1973,"Wood Untreated Dressed","Serviceable","Class 1",2020,80,80,5,{"$f":"INDEX(Lists!$B$32:$B$40, MATCH(2020-C1499, Lists!$C$32:$C$40,1))","v":"41-50"},{"$f":"SUMPRODUCT((Data!$B$17:$B$19=Model!$F1499)*(Data!$C$16:$K$16=Model!$K1499)*(Data!$C$17:$K$19))","v":1.75},71.25,{"$f":"_xlfn.IFS(M1499>70,\"Serviceable\",M1499>30, \"Limited Life\",M1499<=30, \"Unserviceable\")","v":"Serviceable"}]
[null,2367,1988,"Wood Untreated Dressed","Serviceable","Class 1",2017,140,132.44,8,{"$f":"INDEX(Lists!$B$32:$B$40, MATCH(2020-C1500, Lists!$C$32:$C$40,1))","v":"31-40"},{"$f":"SUMPRODUCT((Data!$B$17:$B$19=Model!$F1500)*(Data!$C$16:$K$16=Model!$K1500)*(Data!$C$17:$K$19))","v":2.52},119.84,{"$f":"_xlfn.IFS(M1500>70,\"Serviceable\",M1500>30, \"Limited Life\",M1500<=30, \"Unserviceable\")","v":"Serviceable"}]
[null,2369,1966,"Wood Creos Impregnated","Serviceable","Class 3",2017,80,71.81,8,{"$f":"INDEX(Lists!$B$32:$B$40, MATCH(2020-C1501, Lists!$C$32:$C$40,1))","v":"51-60"},{"$f":"SUMPRODUCT((Data!$B$17:$B$19=Model!$F1501)*(Data!$C$16:$K$16=Model!$K1501)*(Data!$C$17:$K$19))","v":2.73},58.16,{"$f":"_xlfn.IFS(M1501>70,\"Serviceable\",M1501>30, \"Limited Life\",M1501<=30, \"Unserviceable\")","v":"Limited Life"}]
[null,2370,1951,"Wood Untreated Dressed","Serviceable","Class 1",2020,100,100,5,{"$f":"INDEX(Lists!$B$32:$B$40, MATCH(2020-C1502, Lists!$C$32:$C$40,1))","v":"61-70"},{"$f":"SUMPRODUCT((Data!$B$17:$B$19=Model!$F1502)*(Data!$C$16:$K$16=Model!$K1502)*(Data!$C$17:$K$19))","v":2.0299999999999998},89.85,{"$f":"_xlfn.IFS(M1502>70,\"Serviceable\",M1502>30, \"Limited Life\",M1502<=30, \"Unserviceable\")","v":"Serviceable"}]
[null,2371,1980,"Wood Untreated Dressed","Serviceable","Class 1",2017,100,92.44,8,{"$f":"INDEX(Lists!$B$32:$B$40, MATCH(2020-C1503, Lists!$C$32:$C$40,1))","v":"31-40"},{"$f":"SUMPRODUCT((Data!$B$17:$B$19=Model!$F1503)*(Data!$C$16:$K$16=Model!$K1503)*(Data!$C$17:$K$19))","v":2.52},79.84,{"$f":"_xlfn.IFS(M1503>70,\"Serviceable\",M1503>30, \"Limited Life\",M1503<=30, \"Unserviceable\")","v":"Serviceable"}]
[null,2372,1985,"Wood Untreated Dressed","Serviceable","Class 1",2020,120,120,5,{"$f":"INDEX(Lists!$B$32:$B$40, MATCH(2020-C1504, Lists!$C$32:$C$40,1))","v":"31-40"},{"$f":"SUMPRODUCT((Data!$B$17:$B$19=Model!$F1504)*(Data!$C$16:$K$16=Model!$K1504)*(Data!$C$17:$K$19))","v":2.52},107.4,{"$f":"_xlfn.IFS(M1504>70,\"Serviceable\",M1504>30, \"Limited Life\",M1504<=30, \"Unserviceable\")","v":"Serviceable"}]
[null,2374,1970,"Wood Creos Impregnated","Serviceable","Class 3",2020,100,100,5,{"$f":"INDEX(Lists!$B$32:$B$40, MATCH(2020-C1505, Lists!$C$32:$C$40,1))","v":"41-50"},{"$f":"SUMPRODUCT((Data!$B$17:$B$19=Model!$F1505)*(Data!$C$16:$K$16=Model!$K1505)*(Data!$C$17:$K$19))","v":3.78},81.099999999999994,{"$f":"_xlfn.IFS(M1505>70,\"Serviceable\",M1505>30, \"Limited Life\",M1505<=30, \"Unserviceable\")","v":"Serviceable"}]
[null,2376,1939,"Wood Untreated Dressed","Serviceable","Class 1",2020,100,100,5,{"$f":"INDEX(Lists!$B$32:$B$40, MATCH(2020-C1506, Lists!$C$32:$C$40,1))","v":"81-90"},{"$f":"SUMPRODUCT((Data!$B$17:$B$19=Model!$F1506)*(Data!$C$16:$K$16=Model!$K1506)*(Data!$C$17:$K$19))","v":2.81},85.95,{"$f":"_xlfn.IFS(M1506>70,\"Serviceable\",M1506>30, \"Limited Life\",M1506<=30, \"Unserviceable\")","v":"Serviceable"}]
[null,2377,1958,"Wood Creos Impregnated","Serviceable","Class 3",2017,90,83.94,8,{"$f":"INDEX(Lists!$B$32:$B$40, MATCH(2020-C1507, Lists!$C$32:$C$40,1))","v":"61-70"},{"$f":"SUMPRODUCT((Data!$B$17:$B$19=Model!$F1507)*(Data!$C$16:$K$16=Model!$K1507)*(Data!$C$17:$K$19))","v":2.02},73.84,{"$f":"_xlfn.IFS(M1507>70,\"Serviceable\",M1507>30, \"Limited Life\",M1507<=30, \"Unserviceable\")","v":"Serviceable"}]
[null,2378,1935,"Wood Untreated Dressed","Serviceable","Class 1",2020,100,100,5,{"$f":"INDEX(Lists!$B$32:$B$40, MATCH(2020-C1508, Lists!$C$32:$C$40,1))","v":"81-90"},{"$f":"SUMPRODUCT((Data!$B$17:$B$19=Model!$F1508)*(Data!$C$16:$K$16=Model!$K1508)*(Data!$C$17:$K$19))","v":2.81},85.95,{"$f":"_xlfn.IFS(M1508>70,\"Serviceable\",M1508>30, \"Limited Life\",M1508<=30, \"Unserviceable\")","v":"Serviceable"}]
[null,2380,1980,"Wood Untreated Dressed","Serviceable","Class 1",2020,140,140,5,{"$f":"INDEX(Lists!$B$32:$B$40, MATCH(2020-C1509, Lists!$C$32:$C$40,1))","v":"31-40"},{"$f":"SUMPRODUCT((Data!$B$17:$B$19=Model!$F1509)*(Data!$C$16:$K$16=Model!$K1509)*(Data!$C$17:$K$19))","v":2.52},127.4,{"$f":"_xlfn.IFS(M1509>70,\"Serviceable\",M1509>30, \"Limited Life\",M1509<=30, \"Unserviceable\")","v":"Serviceable"}]
[null,2381,1940,"Wood Untreated Dressed","Serviceable","Class 1",2017,120,113.55,8,{"$f":"INDEX(Lists!$B$32:$B$40, MATCH(2020-C1510, Lists!$C$32:$C$40,1))","v":"71-80"},{"$f":"SUMPRODUCT((Data!$B$17:$B$19=Model!$F1510)*(Data!$C$16:$K$16=Model!$K1510)*(Data!$C$17:$K$19))","v":2.15},102.8,{"$f":"_xlfn.IFS(M1510>70,\"Serviceable\",M1510>30, \"Limited Life\",M1510<=30, \"Unserviceable\")","v":"Serviceable"}]
[null,2382,1998,"CCA Treated Pole","Serviceable","Class 1",2020,150,150,5,{"$f":"INDEX(Lists!$B$32:$B$40, MATCH(2020-C1511, Lists!$C$32:$C$40,1))","v":"21-30"},{"$f":"SUMPRODUCT((Data!$B$17:$B$19=Model!$F1511)*(Data!$C$16:$K$16=Model!$K1511)*(Data!$C$17:$K$19))","v":1.96},140.19999999999999,{"$f":"_xlfn.IFS(M1511>70,\"Serviceable\",M1511>30, \"Limited Life\",M1511<=30, \"Unserviceable\")","v":"Serviceable"}]
[null,2383,1966,"Wood Creos Impregnated","Serviceable","Class 3",2017,90,81.81,8,{"$f":"INDEX(Lists!$B$32:$B$40, MATCH(2020-C1512, Lists!$C$32:$C$40,1))","v":"51-60"},{"$f":"SUMPRODUCT((Data!$B$17:$B$19=Model!$F1512)*(Data!$C$16:$K$16=Model!$K1512)*(Data!$C$17:$K$19))","v":2.73},68.16,{"$f":"_xlfn.IFS(M1512>70,\"Serviceable\",M1512>30, \"Limited Life\",M1512<=30, \"Unserviceable\")","v":"Limited Life"}]
[null,2385,2009,"CCA Treated Pole","Serviceable","Class 2",2017,120,116.34,8,{"$f":"INDEX(Lists!$B$32:$B$40, MATCH(2020-C1513, Lists!$C$32:$C$40,1))","v":"0-20"},{"$f":"SUMPRODUCT((Data!$B$17:$B$19=Model!$F1513)*(Data!$C$16:$K$16=Model!$K1513)*(Data!$C$17:$K$19))","v":1.22},110.24,{"$f":"_xlfn.IFS(M1513>70,\"Serviceable\",M1513>30, \"Limited Life\",M1513<=30, \"Unserviceable\")","v":"Serviceable"}]
[null,2387,1986,"Wood Untreated Dressed","Serviceable","Class 1",2017,140,132.44,8,{"$f":"INDEX(Lists!$B$32:$B$40, MATCH(2020-C1514, Lists!$C$32:$C$40,1))","v":"31-40"},{"$f":"SUMPRODUCT((Data!$B$17:$B$19=Model!$F1514)*(Data!$C$16:$K$16=Model!$K1514)*(Data!$C$17:$K$19))","v":2.52},119.84,{"$f":"_xlfn.IFS(M1514>70,\"Serviceable\",M1514>30, \"Limited Life\",M1514<=30, \"Unserviceable\")","v":"Serviceable"}]
[null,2388,1941,"Wood Untreated Dressed","Serviceable","Class 1",2018,90,85.7,7,{"$f":"INDEX(Lists!$B$32:$B$40, MATCH(2020-C1515, Lists!$C$32:$C$40,1))","v":"71-80"},{"$f":"SUMPRODUCT((Data!$B$17:$B$19=Model!$F1515)*(Data!$C$16:$K$16=Model!$K1515)*(Data!$C$17:$K$19))","v":2.15},74.95,{"$f":"_xlfn.IFS(M1515>70,\"Serviceable\",M1515>30, \"Limited Life\",M1515<=30, \"Unserviceable\")","v":"Serviceable"}]
[null,2389,1968,"Wood Creos Impregnated","Serviceable","Class 2",2017,110,102.29,8,{"$f":"INDEX(Lists!$B$32:$B$40, MATCH(2020-C1516, Lists!$C$32:$C$40,1))","v":"51-60"},{"$f":"SUMPRODUCT((Data!$B$17:$B$19=Model!$F1516)*(Data!$C$16:$K$16=Model!$K1516)*(Data!$C$17:$K$19))","v":2.57},89.44,{"$f":"_xlfn.IFS(M1516>70,\"Serviceable\",M1516>30, \"Limited Life\",M1516<=30, \"Unserviceable\")","v":"Serviceable"}]
[null,2390,1951,"Wood Untreated Round","Serviceable","Class 2",2020,90,90,5,{"$f":"INDEX(Lists!$B$32:$B$40, MATCH(2020-C1517, Lists!$C$32:$C$40,1))","v":"61-70"},{"$f":"SUMPRODUCT((Data!$B$17:$B$19=Model!$F1517)*(Data!$C$16:$K$16=Model!$K1517)*(Data!$C$17:$K$19))","v":2.23},78.849999999999994,{"$f":"_xlfn.IFS(M1517>70,\"Serviceable\",M1517>30, \"Limited Life\",M1517<=30, \"Unserviceable\")","v":"Serviceable"}]
[null,2391,1967,"Wood Creos Impregnated","Serviceable","Class 3",2017,90,81.81,8,{"$f":"INDEX(Lists!$B$32:$B$40, MATCH(2020-C1518, Lists!$C$32:$C$40,1))","v":"51-60"},{"$f":"SUMPRODUCT((Data!$B$17:$B$19=Model!$F1518)*(Data!$C$16:$K$16=Model!$K1518)*(Data!$C$17:$K$19))","v":2.73},68.16,{"$f":"_xlfn.IFS(M1518>70,\"Serviceable\",M1518>30, \"Limited Life\",M1518<=30, \"Unserviceable\")","v":"Limited Life"}]
[null,2392,1967,"Wood Creos Impregnated","Serviceable","Class 3",2018,90,84.54,7,{"$f":"INDEX(Lists!$B$32:$B$40, MATCH(2020-C1519, Lists!$C$32:$C$40,1))","v":"51-60"},{"$f":"SUMPRODUCT((Data!$B$17:$B$19=Model!$F1519)*(Data!$C$16:$K$16=Model!$K1519)*(Data!$C$17:$K$19))","v":2.73},70.89,{"$f":"_xlfn.IFS(M1519>70,\"Serviceable\",M1519>30, \"Limited Life\",M1519<=30, \"Unserviceable\")","v":"Serviceable"}]
[null,2393,2005,"CCA Treated Pole","Serviceable","Class 2",2017,162.49719689682513,158.83719689682513,8,{"$f":"INDEX(Lists!$B$32:$B$40, MATCH(2020-C1520, Lists!$C$32:$C$40,1))","v":"0-20"},{"$f":"SUMPRODUCT((Data!$B$17:$B$19=Model!$F1520)*(Data!$C$16:$K$16=Model!$K1520)*(Data!$C$17:$K$19))","v":1.22},152.73719689682514,{"$f":"_xlfn.IFS(M1520>70,\"Serviceable\",M1520>30, \"Limited Life\",M1520<=30, \"Unserviceable\")","v":"Serviceable"}]
[null,2394,1983,"Wood Untreated Dressed","Serviceable","Class 1",2020,140,140,5,{"$f":"INDEX(Lists!$B$32:$B$40, MATCH(2020-C1521, Lists!$C$32:$C$40,1))","v":"31-40"},{"$f":"SUMPRODUCT((Data!$B$17:$B$19=Model!$F1521)*(Data!$C$16:$K$16=Model!$K1521)*(Data!$C$17:$K$19))","v":2.52},127.4,{"$f":"_xlfn.IFS(M1521>70,\"Serviceable\",M1521>30, \"Limited Life\",M1521<=30, \"Unserviceable\")","v":"Serviceable"}]
[null,2395,1971,"Wood Creos Impregnated","Serviceable","Class 3",2017,100,88.66,8,{"$f":"INDEX(Lists!$B$32:$B$40, MATCH(2020-C1522, Lists!$C$32:$C$40,1))","v":"41-50"},{"$f":"SUMPRODUCT((Data!$B$17:$B$19=Model!$F1522)*(Data!$C$16:$K$16=Model!$K1522)*(Data!$C$17:$K$19))","v":3.78},69.760000000000005,{"$f":"_xlfn.IFS(M1522>70,\"Serviceable\",M1522>30, \"Limited Life\",M1522<=30, \"Unserviceable\")","v":"Limited Life"}]
[null,2398,1982,"Wood Untreated Round","Serviceable","Class 1",2020,80,80,5,{"$f":"INDEX(Lists!$B$32:$B$40, MATCH(2020-C1523, Lists!$C$32:$C$40,1))","v":"31-40"},{"$f":"SUMPRODUCT((Data!$B$17:$B$19=Model!$F1523)*(Data!$C$16:$K$16=Model!$K1523)*(Data!$C$17:$K$19))","v":2.52},67.400000000000006,{"$f":"_xlfn.IFS(M1523>70,\"Serviceable\",M1523>30, \"Limited Life\",M1523<=30, \"Unserviceable\")","v":"Limited Life"}]
[null,2402,1936,"Wood Untreated Dressed","Serviceable","Class 1",2018,90,84.38,7,{"$f":"INDEX(Lists!$B$32:$B$40, MATCH(2020-C1524, Lists!$C$32:$C$40,1))","v":"81-90"},{"$f":"SUMPRODUCT((Data!$B$17:$B$19=Model!$F1524)*(Data!$C$16:$K$16=Model!$K1524)*(Data!$C$17:$K$19))","v":2.81},70.33,{"$f":"_xlfn.IFS(M1524>70,\"Serviceable\",M1524>30, \"Limited Life\",M1524<=30, \"Unserviceable\")","v":"Serviceable"}]
[null,2406,2012,"CCA Treated Pole","Serviceable","Class 1",2018,120,117.88,7,{"$f":"INDEX(Lists!$B$32:$B$40, MATCH(2020-C1525, Lists!$C$32:$C$40,1))","v":"0-20"},{"$f":"SUMPRODUCT((Data!$B$17:$B$19=Model!$F1525)*(Data!$C$16:$K$16=Model!$K1525)*(Data!$C$17:$K$19))","v":1.06},112.58,{"$f":"_xlfn.IFS(M1525>70,\"Serviceable\",M1525>30, \"Limited Life\",M1525<=30, \"Unserviceable\")","v":"Serviceable"}]
[null,2407,1960,"Wood Creos Impregnated","Serviceable","Class 3",2017,100,91.81,8,{"$f":"INDEX(Lists!$B$32:$B$40, MATCH(2020-C1526, Lists!$C$32:$C$40,1))","v":"51-60"},{"$f":"SUMPRODUCT((Data!$B$17:$B$19=Model!$F1526)*(Data!$C$16:$K$16=Model!$K1526)*(Data!$C$17:$K$19))","v":2.73},78.16,{"$f":"_xlfn.IFS(M1526>70,\"Serviceable\",M1526>30, \"Limited Life\",M1526<=30, \"Unserviceable\")","v":"Serviceable"}]
[null,2409,1982,"Wood Untreated Dressed","Serviceable","Class 1",2017,100,92.44,8,{"$f":"INDEX(Lists!$B$32:$B$40, MATCH(2020-C1527, Lists!$C$32:$C$40,1))","v":"31-40"},{"$f":"SUMPRODUCT((Data!$B$17:$B$19=Model!$F1527)*(Data!$C$16:$K$16=Model!$K1527)*(Data!$C$17:$K$19))","v":2.52},79.84,{"$f":"_xlfn.IFS(M1527>70,\"Serviceable\",M1527>30, \"Limited Life\",M1527<=30, \"Unserviceable\")","v":"Serviceable"}]
[null,2410,2012,"CCA Treated Pole","Serviceable","Class 1",2018,166.31691553103065,164.19691553103064,7,{"$f":"INDEX(Lists!$B$32:$B$40, MATCH(2020-C1528, Lists!$C$32:$C$40,1))","v":"0-20"},{"$f":"SUMPRODUCT((Data!$B$17:$B$19=Model!$F1528)*(Data!$C$16:$K$16=Model!$K1528)*(Data!$C$17:$K$19))","v":1.06},158.89691553103066,{"$f":"_xlfn.IFS(M1528>70,\"Serviceable\",M1528>30, \"Limited Life\",M1528<=30, \"Unserviceable\")","v":"Serviceable"}]
[null,2411,1968,"Wood Creos Impregnated","Serviceable","Class 3",2017,100,91.81,8,{"$f":"INDEX(Lists!$B$32:$B$40, MATCH(2020-C1529, Lists!$C$32:$C$40,1))","v":"51-60"},{"$f":"SUMPRODUCT((Data!$B$17:$B$19=Model!$F1529)*(Data!$C$16:$K$16=Model!$K1529)*(Data!$C$17:$K$19))","v":2.73},78.16,{"$f":"_xlfn.IFS(M1529>70,\"Serviceable\",M1529>30, \"Limited Life\",M1529<=30, \"Unserviceable\")","v":"Serviceable"}]
[null,2414,2003,"CCA Treated Pole","Serviceable","Class 1",2018,166.31691553103065,164.19691553103064,7,{"$f":"INDEX(Lists!$B$32:$B$40, MATCH(2020-C1530, Lists!$C$32:$C$40,1))","v":"0-20"},{"$f":"SUMPRODUCT((Data!$B$17:$B$19=Model!$F1530)*(Data!$C$16:$K$16=Model!$K1530)*(Data!$C$17:$K$19))","v":1.06},158.89691553103066,{"$f":"_xlfn.IFS(M1530>70,\"Serviceable\",M1530>30, \"Limited Life\",M1530<=30, \"Unserviceable\")","v":"Serviceable"}]
[null,2416,1975,"Wood Untreated Round","Serviceable","Class 2",2018,100,93.44,7,{"$f":"INDEX(Lists!$B$32:$B$40, MATCH(2020-C1531, Lists!$C$32:$C$40,1))","v":"41-50"},{"$f":"SUMPRODUCT((Data!$B$17:$B$19=Model!$F1531)*(Data!$C$16:$K$16=Model!$K1531)*(Data!$C$17:$K$19))","v":3.28},77.040000000000006,{"$f":"_xlfn.IFS(M1531>70,\"Serviceable\",M1531>30, \"Limited Life\",M1531<=30, \"Unserviceable\")","v":"Serviceable"}]
[null,2418,1934,"Wood Untreated Dressed","Serviceable","Class 1",2018,100,94.38,7,{"$f":"INDEX(Lists!$B$32:$B$40, MATCH(2020-C1532, Lists!$C$32:$C$40,1))","v":"81-90"},{"$f":"SUMPRODUCT((Data!$B$17:$B$19=Model!$F1532)*(Data!$C$16:$K$16=Model!$K1532)*(Data!$C$17:$K$19))","v":2.81},80.33,{"$f":"_xlfn.IFS(M1532>70,\"Serviceable\",M1532>30, \"Limited Life\",M1532<=30, \"Unserviceable\")","v":"Serviceable"}]
[null,2419,1970,"Wood Creos Impregnated","Serviceable","Class 3",2018,90,82.44,7,{"$f":"INDEX(Lists!$B$32:$B$40, MATCH(2020-C1533, Lists!$C$32:$C$40,1))","v":"41-50"},{"$f":"SUMPRODUCT((Data!$B$17:$B$19=Model!$F1533)*(Data!$C$16:$K$16=Model!$K1533)*(Data!$C$17:$K$19))","v":3.78},63.540000000000006,{"$f":"_xlfn.IFS(M1533>70,\"Serviceable\",M1533>30, \"Limited Life\",M1533<=30, \"Unserviceable\")","v":"Limited Life"}]
[null,2420,1979,"Wood Untreated Dressed","Serviceable","Class 1",2017,100,94.75,8,{"$f":"INDEX(Lists!$B$32:$B$40, MATCH(2020-C1534, Lists!$C$32:$C$40,1))","v":"41-50"},{"$f":"SUMPRODUCT((Data!$B$17:$B$19=Model!$F1534)*(Data!$C$16:$K$16=Model!$K1534)*(Data!$C$17:$K$19))","v":1.75},86,{"$f":"_xlfn.IFS(M1534>70,\"Serviceable\",M1534>30, \"Limited Life\",M1534<=30, \"Unserviceable\")","v":"Serviceable"}]
[null,2422,1960,"Wood Creos Impregnated","Serviceable","Class 3",2017,100,91.81,8,{"$f":"INDEX(Lists!$B$32:$B$40, MATCH(2020-C1535, Lists!$C$32:$C$40,1))","v":"51-60"},{"$f":"SUMPRODUCT((Data!$B$17:$B$19=Model!$F1535)*(Data!$C$16:$K$16=Model!$K1535)*(Data!$C$17:$K$19))","v":2.73},78.16,{"$f":"_xlfn.IFS(M1535>70,\"Serviceable\",M1535>30, \"Limited Life\",M1535<=30, \"Unserviceable\")","v":"Serviceable"}]
[null,2424,1982,"Wood Untreated Dressed","Serviceable","Class 1",2017,100,92.44,8,{"$f":"INDEX(Lists!$B$32:$B$40, MATCH(2020-C1536, Lists!$C$32:$C$40,1))","v":"31-40"},{"$f":"SUMPRODUCT((Data!$B$17:$B$19=Model!$F1536)*(Data!$C$16:$K$16=Model!$K1536)*(Data!$C$17:$K$19))","v":2.52},79.84,{"$f":"_xlfn.IFS(M1536>70,\"Serviceable\",M1536>30, \"Limited Life\",M1536<=30, \"Unserviceable\")","v":"Serviceable"}]
[null,2427,1977,"Wood Creos Impregnated","Serviceable","Class 3",2020,80,80,5,{"$f":"INDEX(Lists!$B$32:$B$40, MATCH(2020-C1537, Lists!$C$32:$C$40,1))","v":"41-50"},{"$f":"SUMPRODUCT((Data!$B$17:$B$19=Model!$F1537)*(Data!$C$16:$K$16=Model!$K1537)*(Data!$C$17:$K$19))","v":3.78},61.1,{"$f":"_xlfn.IFS(M1537>70,\"Serviceable\",M1537>30, \"Limited Life\",M1537<=30, \"Unserviceable\")","v":"Limited Life"}]
[null,2428,2008,"CCA Treated Pole","Serviceable","Class 2",2017,150,146.34,8,{"$f":"INDEX(Lists!$B$32:$B$40, MATCH(2020-C1538, Lists!$C$32:$C$40,1))","v":"0-20"},{"$f":"SUMPRODUCT((Data!$B$17:$B$19=Model!$F1538)*(Data!$C$16:$K$16=Model!$K1538)*(Data!$C$17:$K$19))","v":1.22},140.24,{"$f":"_xlfn.IFS(M1538>70,\"Serviceable\",M1538>30, \"Limited Life\",M1538<=30, \"Unserviceable\")","v":"Serviceable"}]
[null,2430,2004,"CCA Treated Pole","Serviceable","Class 1",2020,150,150,5,{"$f":"INDEX(Lists!$B$32:$B$40, MATCH(2020-C1539, Lists!$C$32:$C$40,1))","v":"0-20"},{"$f":"SUMPRODUCT((Data!$B$17:$B$19=Model!$F1539)*(Data!$C$16:$K$16=Model!$K1539)*(Data!$C$17:$K$19))","v":1.06},144.69999999999999,{"$f":"_xlfn.IFS(M1539>70,\"Serviceable\",M1539>30, \"Limited Life\",M1539<=30, \"Unserviceable\")","v":"Serviceable"}]
[null,2431,1978,"Wood Creos Impregnated","Serviceable","Class 1",2017,150,144.75,8,{"$f":"INDEX(Lists!$B$32:$B$40, MATCH(2020-C1540, Lists!$C$32:$C$40,1))","v":"41-50"},{"$f":"SUMPRODUCT((Data!$B$17:$B$19=Model!$F1540)*(Data!$C$16:$K$16=Model!$K1540)*(Data!$C$17:$K$19))","v":1.75},136,{"$f":"_xlfn.IFS(M1540>70,\"Serviceable\",M1540>30, \"Limited Life\",M1540<=30, \"Unserviceable\")","v":"Serviceable"}]
[null,2433,1955,"Wood Untreated Round","Serviceable","Class 1",2020,80,80,5,{"$f":"INDEX(Lists!$B$32:$B$40, MATCH(2020-C1541, Lists!$C$32:$C$40,1))","v":"61-70"},{"$f":"SUMPRODUCT((Data!$B$17:$B$19=Model!$F1541)*(Data!$C$16:$K$16=Model!$K1541)*(Data!$C$17:$K$19))","v":2.0299999999999998},69.849999999999994,{"$f":"_xlfn.IFS(M1541>70,\"Serviceable\",M1541>30, \"Limited Life\",M1541<=30, \"Unserviceable\")","v":"Limited Life"}]
[null,2434,1969,"Wood Creos Impregnated","Serviceable","Class 3",2020,90,90,5,{"$f":"INDEX(Lists!$B$32:$B$40, MATCH(2020-C1542, Lists!$C$32:$C$40,1))","v":"51-60"},{"$f":"SUMPRODUCT((Data!$B$17:$B$19=Model!$F1542)*(Data!$C$16:$K$16=Model!$K1542)*(Data!$C$17:$K$19))","v":2.73},76.349999999999994,{"$f":"_xlfn.IFS(M1542>70,\"Serviceable\",M1542>30, \"Limited Life\",M1542<=30, \"Unserviceable\")","v":"Serviceable"}]
[null,2435,1961,"Wood Creos Impregnated","Serviceable","Class 3",2017,95,86.81,8,{"$f":"INDEX(Lists!$B$32:$B$40, MATCH(2020-C1543, Lists!$C$32:$C$40,1))","v":"51-60"},{"$f":"SUMPRODUCT((Data!$B$17:$B$19=Model!$F1543)*(Data!$C$16:$K$16=Model!$K1543)*(Data!$C$17:$K$19))","v":2.73},73.16,{"$f":"_xlfn.IFS(M1543>70,\"Serviceable\",M1543>30, \"Limited Life\",M1543<=30, \"Unserviceable\")","v":"Serviceable"}]
[null,2437,1960,"Wood Creos Impregnated","Serviceable","Class 3",2020,80,80,{"$f":"2025-G1544","v":5},{"$f":"INDEX(Lists!$B$32:$B$40, MATCH(2020-C1544, Lists!$C$32:$C$40,1))","v":"51-60"},{"$f":"SUMPRODUCT((Data!$B$17:$B$19=Model!$F1544)*(Data!$C$16:$K$16=Model!$K1544)*(Data!$C$17:$K$19))","v":2.73},{"$f":"IF(IF(H1544>=700,999,(H1544-L1544*J1544))<0,0,IF(H1544>=700,999,(H1544-L1544*J1544)))","v":66.349999999999994},{"$f":"_xlfn.IFS(M1544>70,\"Serviceable\",M1544>30, \"Limited Life\",M1544<=30, \"Unserviceable\")","v":"Limited Life"}]
[null,2438,1986,"Wood Untreated Dressed","Serviceable","Class 1",2017,100,92.44,8,{"$f":"INDEX(Lists!$B$32:$B$40, MATCH(2020-C1545, Lists!$C$32:$C$40,1))","v":"31-40"},{"$f":"SUMPRODUCT((Data!$B$17:$B$19=Model!$F1545)*(Data!$C$16:$K$16=Model!$K1545)*(Data!$C$17:$K$19))","v":2.52},79.84,{"$f":"_xlfn.IFS(M1545>70,\"Serviceable\",M1545>30, \"Limited Life\",M1545<=30, \"Unserviceable\")","v":"Serviceable"}]
[null,2439,1970,"Wood Creos Impregnated","Serviceable","Class 2",2017,100,90.16,8,{"$f":"INDEX(Lists!$B$32:$B$40, MATCH(2020-C1546, Lists!$C$32:$C$40,1))","v":"41-50"},{"$f":"SUMPRODUCT((Data!$B$17:$B$19=Model!$F1546)*(Data!$C$16:$K$16=Model!$K1546)*(Data!$C$17:$K$19))","v":3.28},73.760000000000005,{"$f":"_xlfn.IFS(M1546>70,\"Serviceable\",M1546>30, \"Limited Life\",M1546<=30, \"Unserviceable\")","v":"Serviceable"}]
[null,2440,1959,"Wood Creos Impregnated","Serviceable","Class 3",2020,100,100,5,{"$f":"INDEX(Lists!$B$32:$B$40, MATCH(2020-C1547, Lists!$C$32:$C$40,1))","v":"61-70"},{"$f":"SUMPRODUCT((Data!$B$17:$B$19=Model!$F1547)*(Data!$C$16:$K$16=Model!$K1547)*(Data!$C$17:$K$19))","v":2.02},89.9,{"$f":"_xlfn.IFS(M1547>70,\"Serviceable\",M1547>30, \"Limited Life\",M1547<=30, \"Unserviceable\")","v":"Serviceable"}]
[null,2445,1971,"Wood Creos Impregnated","Serviceable","Class 3",2017,100,88.66,8,{"$f":"INDEX(Lists!$B$32:$B$40, MATCH(2020-C1548, Lists!$C$32:$C$40,1))","v":"41-50"},{"$f":"SUMPRODUCT((Data!$B$17:$B$19=Model!$F1548)*(Data!$C$16:$K$16=Model!$K1548)*(Data!$C$17:$K$19))","v":3.78},69.760000000000005,{"$f":"_xlfn.IFS(M1548>70,\"Serviceable\",M1548>30, \"Limited Life\",M1548<=30, \"Unserviceable\")","v":"Limited Life"}]
[null,2446,1981,"Wood Untreated Dressed","Serviceable","Class 1",2020,120,120,5,{"$f":"INDEX(Lists!$B$32:$B$40, MATCH(2020-C1549, Lists!$C$32:$C$40,1))","v":"31-40"},{"$f":"SUMPRODUCT((Data!$B$17:$B$19=Model!$F1549)*(Data!$C$16:$K$16=Model!$K1549)*(Data!$C$17:$K$19))","v":2.52},107.4,{"$f":"_xlfn.IFS(M1549>70,\"Serviceable\",M1549>30, \"Limited Life\",M1549<=30, \"Unserviceable\")","v":"Serviceable"}]
[null,2448,1972,"Wood Creos Impregnated","Serviceable","Class 1",2018,120,116.5,7,{"$f":"INDEX(Lists!$B$32:$B$40, MATCH(2020-C1550, Lists!$C$32:$C$40,1))","v":"41-50"},{"$f":"SUMPRODUCT((Data!$B$17:$B$19=Model!$F1550)*(Data!$C$16:$K$16=Model!$K1550)*(Data!$C$17:$K$19))","v":1.75},107.75,{"$f":"_xlfn.IFS(M1550>70,\"Serviceable\",M1550>30, \"Limited Life\",M1550<=30, \"Unserviceable\")","v":"Serviceable"}]
[null,2449,1959,"Wood Creos Impregnated","Limited Life","Class 3",2018,70,65.959999999999994,7,{"$f":"INDEX(Lists!$B$32:$B$40, MATCH(2020-C1551, Lists!$C$32:$C$40,1))","v":"61-70"},{"$f":"SUMPRODUCT((Data!$B$17:$B$19=Model!$F1551)*(Data!$C$16:$K$16=Model!$K1551)*(Data!$C$17:$K$19))","v":2.02},55.86,{"$f":"_xlfn.IFS(M1551>70,\"Serviceable\",M1551>30, \"Limited Life\",M1551<=30, \"Unserviceable\")","v":"Limited Life"}]
[null,2450,1967,"Wood Creos Impregnated","Serviceable","Class 1",2018,120,116.7,7,{"$f":"INDEX(Lists!$B$32:$B$40, MATCH(2020-C1552, Lists!$C$32:$C$40,1))","v":"51-60"},{"$f":"SUMPRODUCT((Data!$B$17:$B$19=Model!$F1552)*(Data!$C$16:$K$16=Model!$K1552)*(Data!$C$17:$K$19))","v":1.65},108.45,{"$f":"_xlfn.IFS(M1552>70,\"Serviceable\",M1552>30, \"Limited Life\",M1552<=30, \"Unserviceable\")","v":"Serviceable"}]
[null,2451,1970,"Wood Creos Impregnated","Serviceable","Class 3",2018,80,72.44,7,{"$f":"INDEX(Lists!$B$32:$B$40, MATCH(2020-C1553, Lists!$C$32:$C$40,1))","v":"41-50"},{"$f":"SUMPRODUCT((Data!$B$17:$B$19=Model!$F1553)*(Data!$C$16:$K$16=Model!$K1553)*(Data!$C$17:$K$19))","v":3.78},53.540000000000006,{"$f":"_xlfn.IFS(M1553>70,\"Serviceable\",M1553>30, \"Limited Life\",M1553<=30, \"Unserviceable\")","v":"Limited Life"}]
[null,2455,1977,"Wood Creos Impregnated","Serviceable","Class 1",2017,120,114.75,8,{"$f":"INDEX(Lists!$B$32:$B$40, MATCH(2020-C1554, Lists!$C$32:$C$40,1))","v":"41-50"},{"$f":"SUMPRODUCT((Data!$B$17:$B$19=Model!$F1554)*(Data!$C$16:$K$16=Model!$K1554)*(Data!$C$17:$K$19))","v":1.75},106,{"$f":"_xlfn.IFS(M1554>70,\"Serviceable\",M1554>30, \"Limited Life\",M1554<=30, \"Unserviceable\")","v":"Serviceable"}]
[null,2459,1934,"Wood Untreated Round","Serviceable","Class 1",2017,90,81.569999999999993,8,{"$f":"INDEX(Lists!$B$32:$B$40, MATCH(2020-C1555, Lists!$C$32:$C$40,1))","v":"81-90"},{"$f":"SUMPRODUCT((Data!$B$17:$B$19=Model!$F1555)*(Data!$C$16:$K$16=Model!$K1555)*(Data!$C$17:$K$19))","v":2.81},67.52,{"$f":"_xlfn.IFS(M1555>70,\"Serviceable\",M1555>30, \"Limited Life\",M1555<=30, \"Unserviceable\")","v":"Limited Life"}]
[null,2460,1982,"Wood Untreated Dressed","Serviceable","Class 1",2018,100,94.96,7,{"$f":"INDEX(Lists!$B$32:$B$40, MATCH(2020-C1556, Lists!$C$32:$C$40,1))","v":"31-40"},{"$f":"SUMPRODUCT((Data!$B$17:$B$19=Model!$F1556)*(Data!$C$16:$K$16=Model!$K1556)*(Data!$C$17:$K$19))","v":2.52},82.36,{"$f":"_xlfn.IFS(M1556>70,\"Serviceable\",M1556>30, \"Limited Life\",M1556<=30, \"Unserviceable\")","v":"Serviceable"}]
[null,2467,1995,"Wood Untreated Dressed","Serviceable","Class 1",2017,140,134.12,8,{"$f":"INDEX(Lists!$B$32:$B$40, MATCH(2020-C1557, Lists!$C$32:$C$40,1))","v":"21-30"},{"$f":"SUMPRODUCT((Data!$B$17:$B$19=Model!$F1557)*(Data!$C$16:$K$16=Model!$K1557)*(Data!$C$17:$K$19))","v":1.96},124.32,{"$f":"_xlfn.IFS(M1557>70,\"Serviceable\",M1557>30, \"Limited Life\",M1557<=30, \"Unserviceable\")","v":"Serviceable"}]
[null,2473,1971,"Wood Creos Impregnated","Serviceable","Class 3",2017,100,88.66,8,{"$f":"INDEX(Lists!$B$32:$B$40, MATCH(2020-C1558, Lists!$C$32:$C$40,1))","v":"41-50"},{"$f":"SUMPRODUCT((Data!$B$17:$B$19=Model!$F1558)*(Data!$C$16:$K$16=Model!$K1558)*(Data!$C$17:$K$19))","v":3.78},69.760000000000005,{"$f":"_xlfn.IFS(M1558>70,\"Serviceable\",M1558>30, \"Limited Life\",M1558<=30, \"Unserviceable\")","v":"Limited Life"}]
[null,2476,1932,"Wood Untreated Dressed","Serviceable","Class 1",2017,100,91.57,8,{"$f":"INDEX(Lists!$B$32:$B$40, MATCH(2020-C1559, Lists!$C$32:$C$40,1))","v":"81-90"},{"$f":"SUMPRODUCT((Data!$B$17:$B$19=Model!$F1559)*(Data!$C$16:$K$16=Model!$K1559)*(Data!$C$17:$K$19))","v":2.81},77.52,{"$f":"_xlfn.IFS(M1559>70,\"Serviceable\",M1559>30, \"Limited Life\",M1559<=30, \"Unserviceable\")","v":"Serviceable"}]
[null,2478,1994,"Wood Untreated Dressed","Serviceable","Class 1",2018,150,146.08000000000001,7,{"$f":"INDEX(Lists!$B$32:$B$40, MATCH(2020-C1560, Lists!$C$32:$C$40,1))","v":"21-30"},{"$f":"SUMPRODUCT((Data!$B$17:$B$19=Model!$F1560)*(Data!$C$16:$K$16=Model!$K1560)*(Data!$C$17:$K$19))","v":1.96},136.28,{"$f":"_xlfn.IFS(M1560>70,\"Serviceable\",M1560>30, \"Limited Life\",M1560<=30, \"Unserviceable\")","v":"Serviceable"}]
[null,2479,1962,"Wood Creos Impregnated","Serviceable","Class 3",2018,80,74.540000000000006,7,{"$f":"INDEX(Lists!$B$32:$B$40, MATCH(2020-C1561, Lists!$C$32:$C$40,1))","v":"51-60"},{"$f":"SUMPRODUCT((Data!$B$17:$B$19=Model!$F1561)*(Data!$C$16:$K$16=Model!$K1561)*(Data!$C$17:$K$19))","v":2.73},60.89,{"$f":"_xlfn.IFS(M1561>70,\"Serviceable\",M1561>30, \"Limited Life\",M1561<=30, \"Unserviceable\")","v":"Limited Life"}]
[null,2480,1965,"Wood Creos Impregnated","Serviceable","Class 3",2020,100,100,5,{"$f":"INDEX(Lists!$B$32:$B$40, MATCH(2020-C1562, Lists!$C$32:$C$40,1))","v":"51-60"},{"$f":"SUMPRODUCT((Data!$B$17:$B$19=Model!$F1562)*(Data!$C$16:$K$16=Model!$K1562)*(Data!$C$17:$K$19))","v":2.73},86.35,{"$f":"_xlfn.IFS(M1562>70,\"Serviceable\",M1562>30, \"Limited Life\",M1562<=30, \"Unserviceable\")","v":"Serviceable"}]
[null,2482,1975,"Wood Creos Impregnated","Serviceable","Class 3",2018,80,72.44,7,{"$f":"INDEX(Lists!$B$32:$B$40, MATCH(2020-C1563, Lists!$C$32:$C$40,1))","v":"41-50"},{"$f":"SUMPRODUCT((Data!$B$17:$B$19=Model!$F1563)*(Data!$C$16:$K$16=Model!$K1563)*(Data!$C$17:$K$19))","v":3.78},53.540000000000006,{"$f":"_xlfn.IFS(M1563>70,\"Serviceable\",M1563>30, \"Limited Life\",M1563<=30, \"Unserviceable\")","v":"Limited Life"}]
[null,2483,1987,"Wood Untreated Dressed","Serviceable","Class 1",2018,150,144.96,7,{"$f":"INDEX(Lists!$B$32:$B$40, MATCH(2020-C1564, Lists!$C$32:$C$40,1))","v":"31-40"},{"$f":"SUMPRODUCT((Data!$B$17:$B$19=Model!$F1564)*(Data!$C$16:$K$16=Model!$K1564)*(Data!$C$17:$K$19))","v":2.52},132.36000000000001,{"$f":"_xlfn.IFS(M1564>70,\"Serviceable\",M1564>30, \"Limited Life\",M1564<=30, \"Unserviceable\")","v":"Serviceable"}]
[null,2484,1963,"Wood Creos Impregnated","Serviceable","Class 3",2018,100,94.54,7,{"$f":"INDEX(Lists!$B$32:$B$40, MATCH(2020-C1565, Lists!$C$32:$C$40,1))","v":"51-60"},{"$f":"SUMPRODUCT((Data!$B$17:$B$19=Model!$F1565)*(Data!$C$16:$K$16=Model!$K1565)*(Data!$C$17:$K$19))","v":2.73},80.89,{"$f":"_xlfn.IFS(M1565>70,\"Serviceable\",M1565>30, \"Limited Life\",M1565<=30, \"Unserviceable\")","v":"Serviceable"}]
[null,2485,1965,"Wood Creos Impregnated","Serviceable","Class 3",2020,100,100,5,{"$f":"INDEX(Lists!$B$32:$B$40, MATCH(2020-C1566, Lists!$C$32:$C$40,1))","v":"51-60"},{"$f":"SUMPRODUCT((Data!$B$17:$B$19=Model!$F1566)*(Data!$C$16:$K$16=Model!$K1566)*(Data!$C$17:$K$19))","v":2.73},86.35,{"$f":"_xlfn.IFS(M1566>70,\"Serviceable\",M1566>30, \"Limited Life\",M1566<=30, \"Unserviceable\")","v":"Serviceable"}]
[null,2486,1965,"Wood Creos Impregnated","Serviceable","Class 3",2018,120,114.54,7,{"$f":"INDEX(Lists!$B$32:$B$40, MATCH(2020-C1567, Lists!$C$32:$C$40,1))","v":"51-60"},{"$f":"SUMPRODUCT((Data!$B$17:$B$19=Model!$F1567)*(Data!$C$16:$K$16=Model!$K1567)*(Data!$C$17:$K$19))","v":2.73},100.89,{"$f":"_xlfn.IFS(M1567>70,\"Serviceable\",M1567>30, \"Limited Life\",M1567<=30, \"Unserviceable\")","v":"Serviceable"}]
[null,2488,1993,"Wood Untreated Dressed","Serviceable","Class 1",2020,150,150,5,{"$f":"INDEX(Lists!$B$32:$B$40, MATCH(2020-C1568, Lists!$C$32:$C$40,1))","v":"21-30"},{"$f":"SUMPRODUCT((Data!$B$17:$B$19=Model!$F1568)*(Data!$C$16:$K$16=Model!$K1568)*(Data!$C$17:$K$19))","v":1.96},140.19999999999999,{"$f":"_xlfn.IFS(M1568>70,\"Serviceable\",M1568>30, \"Limited Life\",M1568<=30, \"Unserviceable\")","v":"Serviceable"}]
[null,2489,1972,"Wood Creos Impregnated","Serviceable","Class 1",2018,120,116.5,7,{"$f":"INDEX(Lists!$B$32:$B$40, MATCH(2020-C1569, Lists!$C$32:$C$40,1))","v":"41-50"},{"$f":"SUMPRODUCT((Data!$B$17:$B$19=Model!$F1569)*(Data!$C$16:$K$16=Model!$K1569)*(Data!$C$17:$K$19))","v":1.75},107.75,{"$f":"_xlfn.IFS(M1569>70,\"Serviceable\",M1569>30, \"Limited Life\",M1569<=30, \"Unserviceable\")","v":"Serviceable"}]
[null,2491,1982,"Wood Untreated Dressed","Serviceable","Class 1",2020,80,80,5,{"$f":"INDEX(Lists!$B$32:$B$40, MATCH(2020-C1570, Lists!$C$32:$C$40,1))","v":"31-40"},{"$f":"SUMPRODUCT((Data!$B$17:$B$19=Model!$F1570)*(Data!$C$16:$K$16=Model!$K1570)*(Data!$C$17:$K$19))","v":2.52},67.400000000000006,{"$f":"_xlfn.IFS(M1570>70,\"Serviceable\",M1570>30, \"Limited Life\",M1570<=30, \"Unserviceable\")","v":"Limited Life"}]
[null,2493,1973,"Wood Creos Impregnated","Serviceable","Class 3",2020,80,80,5,{"$f":"INDEX(Lists!$B$32:$B$40, MATCH(2020-C1571, Lists!$C$32:$C$40,1))","v":"41-50"},{"$f":"SUMPRODUCT((Data!$B$17:$B$19=Model!$F1571)*(Data!$C$16:$K$16=Model!$K1571)*(Data!$C$17:$K$19))","v":3.78},61.1,{"$f":"_xlfn.IFS(M1571>70,\"Serviceable\",M1571>30, \"Limited Life\",M1571<=30, \"Unserviceable\")","v":"Limited Life"}]
[null,2494,2006,"CCA Treated Pole","Serviceable","Class 1",2018,150,147.88,7,{"$f":"INDEX(Lists!$B$32:$B$40, MATCH(2020-C1572, Lists!$C$32:$C$40,1))","v":"0-20"},{"$f":"SUMPRODUCT((Data!$B$17:$B$19=Model!$F1572)*(Data!$C$16:$K$16=Model!$K1572)*(Data!$C$17:$K$19))","v":1.06},142.58000000000001,{"$f":"_xlfn.IFS(M1572>70,\"Serviceable\",M1572>30, \"Limited Life\",M1572<=30, \"Unserviceable\")","v":"Serviceable"}]
[null,2495,1930,"Wood Untreated Dressed","Serviceable","Class 1",2018,80,74.38,7,{"$f":"INDEX(Lists!$B$32:$B$40, MATCH(2020-C1573, Lists!$C$32:$C$40,1))","v":"81-90"},{"$f":"SUMPRODUCT((Data!$B$17:$B$19=Model!$F1573)*(Data!$C$16:$K$16=Model!$K1573)*(Data!$C$17:$K$19))","v":2.81},60.33,{"$f":"_xlfn.IFS(M1573>70,\"Serviceable\",M1573>30, \"Limited Life\",M1573<=30, \"Unserviceable\")","v":"Limited Life"}]
[null,2497,2006,"CCA Treated Pole","Serviceable","Class 2",2018,150,147.56,7,{"$f":"INDEX(Lists!$B$32:$B$40, MATCH(2020-C1574, Lists!$C$32:$C$40,1))","v":"0-20"},{"$f":"SUMPRODUCT((Data!$B$17:$B$19=Model!$F1574)*(Data!$C$16:$K$16=Model!$K1574)*(Data!$C$17:$K$19))","v":1.22},141.46,{"$f":"_xlfn.IFS(M1574>70,\"Serviceable\",M1574>30, \"Limited Life\",M1574<=30, \"Unserviceable\")","v":"Serviceable"}]
[null,2498,1983,"Wood Untreated Dressed","Serviceable","Class 1",2020,100,100,5,{"$f":"INDEX(Lists!$B$32:$B$40, MATCH(2020-C1575, Lists!$C$32:$C$40,1))","v":"31-40"},{"$f":"SUMPRODUCT((Data!$B$17:$B$19=Model!$F1575)*(Data!$C$16:$K$16=Model!$K1575)*(Data!$C$17:$K$19))","v":2.52},87.4,{"$f":"_xlfn.IFS(M1575>70,\"Serviceable\",M1575>30, \"Limited Life\",M1575<=30, \"Unserviceable\")","v":"Serviceable"}]
[null,2499,1967,"Wood Creos Impregnated","Serviceable","Class 3",2018,100,94.54,7,{"$f":"INDEX(Lists!$B$32:$B$40, MATCH(2020-C1576, Lists!$C$32:$C$40,1))","v":"51-60"},{"$f":"SUMPRODUCT((Data!$B$17:$B$19=Model!$F1576)*(Data!$C$16:$K$16=Model!$K1576)*(Data!$C$17:$K$19))","v":2.73},80.89,{"$f":"_xlfn.IFS(M1576>70,\"Serviceable\",M1576>30, \"Limited Life\",M1576<=30, \"Unserviceable\")","v":"Serviceable"}]
[null,2501,1961,"Wood Creos Impregnated","Limited Life","Class 3",2020,70,70,5,{"$f":"INDEX(Lists!$B$32:$B$40, MATCH(2020-C1577, Lists!$C$32:$C$40,1))","v":"51-60"},{"$f":"SUMPRODUCT((Data!$B$17:$B$19=Model!$F1577)*(Data!$C$16:$K$16=Model!$K1577)*(Data!$C$17:$K$19))","v":2.73},56.35,{"$f":"_xlfn.IFS(M1577>70,\"Serviceable\",M1577>30, \"Limited Life\",M1577<=30, \"Unserviceable\")","v":"Limited Life"}]
[null,2502,1967,"Wood Creos Impregnated","Serviceable","Class 3",2020,90,90,5,{"$f":"INDEX(Lists!$B$32:$B$40, MATCH(2020-C1578, Lists!$C$32:$C$40,1))","v":"51-60"},{"$f":"SUMPRODUCT((Data!$B$17:$B$19=Model!$F1578)*(Data!$C$16:$K$16=Model!$K1578)*(Data!$C$17:$K$19))","v":2.73},76.349999999999994,{"$f":"_xlfn.IFS(M1578>70,\"Serviceable\",M1578>30, \"Limited Life\",M1578<=30, \"Unserviceable\")","v":"Serviceable"}]
[null,2503,1973,"Wood Creos Impregnated","Serviceable","Class 1",2018,130,126.5,7,{"$f":"INDEX(Lists!$B$32:$B$40, MATCH(2020-C1579, Lists!$C$32:$C$40,1))","v":"41-50"},{"$f":"SUMPRODUCT((Data!$B$17:$B$19=Model!$F1579)*(Data!$C$16:$K$16=Model!$K1579)*(Data!$C$17:$K$19))","v":1.75},117.75,{"$f":"_xlfn.IFS(M1579>70,\"Serviceable\",M1579>30, \"Limited Life\",M1579<=30, \"Unserviceable\")","v":"Serviceable"}]
[null,2504,2005,"CCA Treated Pole","Serviceable","Class 2",2020,150,150,5,{"$f":"INDEX(Lists!$B$32:$B$40, MATCH(2020-C1580, Lists!$C$32:$C$40,1))","v":"0-20"},{"$f":"SUMPRODUCT((Data!$B$17:$B$19=Model!$F1580)*(Data!$C$16:$K$16=Model!$K1580)*(Data!$C$17:$K$19))","v":1.22},143.9,{"$f":"_xlfn.IFS(M1580>70,\"Serviceable\",M1580>30, \"Limited Life\",M1580<=30, \"Unserviceable\")","v":"Serviceable"}]
[null,2507,1979,"Wood Untreated Dressed","Serviceable","Class 1",2020,120,120,5,{"$f":"INDEX(Lists!$B$32:$B$40, MATCH(2020-C1581, Lists!$C$32:$C$40,1))","v":"41-50"},{"$f":"SUMPRODUCT((Data!$B$17:$B$19=Model!$F1581)*(Data!$C$16:$K$16=Model!$K1581)*(Data!$C$17:$K$19))","v":1.75},111.25,{"$f":"_xlfn.IFS(M1581>70,\"Serviceable\",M1581>30, \"Limited Life\",M1581<=30, \"Unserviceable\")","v":"Serviceable"}]
[null,2510,1977,"Wood Untreated Dressed","Serviceable","Class 1",2015,100,91.25,10,{"$f":"INDEX(Lists!$B$32:$B$40, MATCH(2020-C1582, Lists!$C$32:$C$40,1))","v":"41-50"},{"$f":"SUMPRODUCT((Data!$B$17:$B$19=Model!$F1582)*(Data!$C$16:$K$16=Model!$K1582)*(Data!$C$17:$K$19))","v":1.75},82.5,{"$f":"_xlfn.IFS(M1582>70,\"Serviceable\",M1582>30, \"Limited Life\",M1582<=30, \"Unserviceable\")","v":"Serviceable"}]
[null,2512,1969,"Wood Other","Serviceable","Class 3",2017,100,91.81,8,{"$f":"INDEX(Lists!$B$32:$B$40, MATCH(2020-C1583, Lists!$C$32:$C$40,1))","v":"51-60"},{"$f":"SUMPRODUCT((Data!$B$17:$B$19=Model!$F1583)*(Data!$C$16:$K$16=Model!$K1583)*(Data!$C$17:$K$19))","v":2.73},78.16,{"$f":"_xlfn.IFS(M1583>70,\"Serviceable\",M1583>30, \"Limited Life\",M1583<=30, \"Unserviceable\")","v":"Serviceable"}]
[null,2515,1980,"Wood Creos Impregnated","Serviceable","Class 3",2016,120,107.12,9,{"$f":"INDEX(Lists!$B$32:$B$40, MATCH(2020-C1584, Lists!$C$32:$C$40,1))","v":"31-40"},{"$f":"SUMPRODUCT((Data!$B$17:$B$19=Model!$F1584)*(Data!$C$16:$K$16=Model!$K1584)*(Data!$C$17:$K$19))","v":3.22},91.02,{"$f":"_xlfn.IFS(M1584>70,\"Serviceable\",M1584>30, \"Limited Life\",M1584<=30, \"Unserviceable\")","v":"Serviceable"}]
[null,2517,1989,"Wood Untreated Dressed","Serviceable","Class 1",2020,150,150,5,{"$f":"INDEX(Lists!$B$32:$B$40, MATCH(2020-C1585, Lists!$C$32:$C$40,1))","v":"31-40"},{"$f":"SUMPRODUCT((Data!$B$17:$B$19=Model!$F1585)*(Data!$C$16:$K$16=Model!$K1585)*(Data!$C$17:$K$19))","v":2.52},137.4,{"$f":"_xlfn.IFS(M1585>70,\"Serviceable\",M1585>30, \"Limited Life\",M1585<=30, \"Unserviceable\")","v":"Serviceable"}]
[null,2518,1964,"Wood Creos Impregnated","Limited Life","Class 3",2016,80,69.08,9,{"$f":"INDEX(Lists!$B$32:$B$40, MATCH(2020-C1586, Lists!$C$32:$C$40,1))","v":"51-60"},{"$f":"SUMPRODUCT((Data!$B$17:$B$19=Model!$F1586)*(Data!$C$16:$K$16=Model!$K1586)*(Data!$C$17:$K$19))","v":2.73},55.43,{"$f":"_xlfn.IFS(M1586>70,\"Serviceable\",M1586>30, \"Limited Life\",M1586<=30, \"Unserviceable\")","v":"Limited Life"}]
[null,2520,1977,"Wood Untreated Dressed","Serviceable","Class 1",2020,100,100,5,{"$f":"INDEX(Lists!$B$32:$B$40, MATCH(2020-C1587, Lists!$C$32:$C$40,1))","v":"41-50"},{"$f":"SUMPRODUCT((Data!$B$17:$B$19=Model!$F1587)*(Data!$C$16:$K$16=Model!$K1587)*(Data!$C$17:$K$19))","v":1.75},91.25,{"$f":"_xlfn.IFS(M1587>70,\"Serviceable\",M1587>30, \"Limited Life\",M1587<=30, \"Unserviceable\")","v":"Serviceable"}]
[null,2523,1968,"Wood Creos Impregnated","Serviceable","Class 3",2020,100,100,5,{"$f":"INDEX(Lists!$B$32:$B$40, MATCH(2020-C1588, Lists!$C$32:$C$40,1))","v":"51-60"},{"$f":"SUMPRODUCT((Data!$B$17:$B$19=Model!$F1588)*(Data!$C$16:$K$16=Model!$K1588)*(Data!$C$17:$K$19))","v":2.73},86.35,{"$f":"_xlfn.IFS(M1588>70,\"Serviceable\",M1588>30, \"Limited Life\",M1588<=30, \"Unserviceable\")","v":"Serviceable"}]
[null,2524,1984,"Wood Creos Impregnated","Limited Life","Class 3",2016,80,67.12,9,{"$f":"INDEX(Lists!$B$32:$B$40, MATCH(2020-C1589, Lists!$C$32:$C$40,1))","v":"31-40"},{"$f":"SUMPRODUCT((Data!$B$17:$B$19=Model!$F1589)*(Data!$C$16:$K$16=Model!$K1589)*(Data!$C$17:$K$19))","v":3.22},51.019999999999996,{"$f":"_xlfn.IFS(M1589>70,\"Serviceable\",M1589>30, \"Limited Life\",M1589<=30, \"Unserviceable\")","v":"Limited Life"}]
[null,2527,1963,"Wood Creos Impregnated","Serviceable","Class 3",2016,100,89.08,9,{"$f":"INDEX(Lists!$B$32:$B$40, MATCH(2020-C1590, Lists!$C$32:$C$40,1))","v":"51-60"},{"$f":"SUMPRODUCT((Data!$B$17:$B$19=Model!$F1590)*(Data!$C$16:$K$16=Model!$K1590)*(Data!$C$17:$K$19))","v":2.73},75.430000000000007,{"$f":"_xlfn.IFS(M1590>70,\"Serviceable\",M1590>30, \"Limited Life\",M1590<=30, \"Unserviceable\")","v":"Serviceable"}]
[null,2528,1976,"Wood Untreated Dressed","Serviceable","Class 1",2020,100,100,5,{"$f":"INDEX(Lists!$B$32:$B$40, MATCH(2020-C1591, Lists!$C$32:$C$40,1))","v":"41-50"},{"$f":"SUMPRODUCT((Data!$B$17:$B$19=Model!$F1591)*(Data!$C$16:$K$16=Model!$K1591)*(Data!$C$17:$K$19))","v":1.75},91.25,{"$f":"_xlfn.IFS(M1591>70,\"Serviceable\",M1591>30, \"Limited Life\",M1591<=30, \"Unserviceable\")","v":"Serviceable"}]
[null,2529,1969,"Wood Creos Impregnated","Serviceable","Class 3",2018,100,94.54,7,{"$f":"INDEX(Lists!$B$32:$B$40, MATCH(2020-C1592, Lists!$C$32:$C$40,1))","v":"51-60"},{"$f":"SUMPRODUCT((Data!$B$17:$B$19=Model!$F1592)*(Data!$C$16:$K$16=Model!$K1592)*(Data!$C$17:$K$19))","v":2.73},80.89,{"$f":"_xlfn.IFS(M1592>70,\"Serviceable\",M1592>30, \"Limited Life\",M1592<=30, \"Unserviceable\")","v":"Serviceable"}]
[null,2533,1983,"Wood Untreated Dressed","Serviceable","Class 1",2016,130,119.92,9,{"$f":"INDEX(Lists!$B$32:$B$40, MATCH(2020-C1593, Lists!$C$32:$C$40,1))","v":"31-40"},{"$f":"SUMPRODUCT((Data!$B$17:$B$19=Model!$F1593)*(Data!$C$16:$K$16=Model!$K1593)*(Data!$C$17:$K$19))","v":2.52},107.32,{"$f":"_xlfn.IFS(M1593>70,\"Serviceable\",M1593>30, \"Limited Life\",M1593<=30, \"Unserviceable\")","v":"Serviceable"}]
[null,2534,1964,"Wood Creos Impregnated","Serviceable","Class 3",2019,120,117.27,6,{"$f":"INDEX(Lists!$B$32:$B$40, MATCH(2020-C1594, Lists!$C$32:$C$40,1))","v":"51-60"},{"$f":"SUMPRODUCT((Data!$B$17:$B$19=Model!$F1594)*(Data!$C$16:$K$16=Model!$K1594)*(Data!$C$17:$K$19))","v":2.73},103.62,{"$f":"_xlfn.IFS(M1594>70,\"Serviceable\",M1594>30, \"Limited Life\",M1594<=30, \"Unserviceable\")","v":"Serviceable"}]
[null,2535,1968,"Wood Creos Impregnated","Serviceable","Class 3",2020,100,100,5,{"$f":"INDEX(Lists!$B$32:$B$40, MATCH(2020-C1595, Lists!$C$32:$C$40,1))","v":"51-60"},{"$f":"SUMPRODUCT((Data!$B$17:$B$19=Model!$F1595)*(Data!$C$16:$K$16=Model!$K1595)*(Data!$C$17:$K$19))","v":2.73},86.35,{"$f":"_xlfn.IFS(M1595>70,\"Serviceable\",M1595>30, \"Limited Life\",M1595<=30, \"Unserviceable\")","v":"Serviceable"}]
[null,2536,1980,"Wood Creos Impregnated","Serviceable","Class 3",2016,130,117.12,9,{"$f":"INDEX(Lists!$B$32:$B$40, MATCH(2020-C1596, Lists!$C$32:$C$40,1))","v":"31-40"},{"$f":"SUMPRODUCT((Data!$B$17:$B$19=Model!$F1596)*(Data!$C$16:$K$16=Model!$K1596)*(Data!$C$17:$K$19))","v":3.22},101.02,{"$f":"_xlfn.IFS(M1596>70,\"Serviceable\",M1596>30, \"Limited Life\",M1596<=30, \"Unserviceable\")","v":"Serviceable"}]
[null,2538,2003,"CCA Treated Pole","Serviceable","Class 2",2020,150,150,5,{"$f":"INDEX(Lists!$B$32:$B$40, MATCH(2020-C1597, Lists!$C$32:$C$40,1))","v":"0-20"},{"$f":"SUMPRODUCT((Data!$B$17:$B$19=Model!$F1597)*(Data!$C$16:$K$16=Model!$K1597)*(Data!$C$17:$K$19))","v":1.22},143.9,{"$f":"_xlfn.IFS(M1597>70,\"Serviceable\",M1597>30, \"Limited Life\",M1597<=30, \"Unserviceable\")","v":"Serviceable"}]
[null,2541,2009,"CCA Treated Pole","Serviceable","Class 2",2020,100,100,5,{"$f":"INDEX(Lists!$B$32:$B$40, MATCH(2020-C1598, Lists!$C$32:$C$40,1))","v":"0-20"},{"$f":"SUMPRODUCT((Data!$B$17:$B$19=Model!$F1598)*(Data!$C$16:$K$16=Model!$K1598)*(Data!$C$17:$K$19))","v":1.22},93.9,{"$f":"_xlfn.IFS(M1598>70,\"Serviceable\",M1598>30, \"Limited Life\",M1598<=30, \"Unserviceable\")","v":"Serviceable"}]
[null,2542,1980,"Wood Untreated Round","Serviceable","Class 1",2016,100,89.92,9,{"$f":"INDEX(Lists!$B$32:$B$40, MATCH(2020-C1599, Lists!$C$32:$C$40,1))","v":"31-40"},{"$f":"SUMPRODUCT((Data!$B$17:$B$19=Model!$F1599)*(Data!$C$16:$K$16=Model!$K1599)*(Data!$C$17:$K$19))","v":2.52},77.319999999999993,{"$f":"_xlfn.IFS(M1599>70,\"Serviceable\",M1599>30, \"Limited Life\",M1599<=30, \"Unserviceable\")","v":"Serviceable"}]
[null,2547,2003,"CCA Treated Pole","Serviceable","Class 2",2017,162.49719689682513,158.83719689682513,8,{"$f":"INDEX(Lists!$B$32:$B$40, MATCH(2020-C1600, Lists!$C$32:$C$40,1))","v":"0-20"},{"$f":"SUMPRODUCT((Data!$B$17:$B$19=Model!$F1600)*(Data!$C$16:$K$16=Model!$K1600)*(Data!$C$17:$K$19))","v":1.22},152.73719689682514,{"$f":"_xlfn.IFS(M1600>70,\"Serviceable\",M1600>30, \"Limited Life\",M1600<=30, \"Unserviceable\")","v":"Serviceable"}]
[null,2548,1964,"Wood Creos Impregnated","Serviceable","Class 3",2016,90,79.08,9,{"$f":"INDEX(Lists!$B$32:$B$40, MATCH(2020-C1601, Lists!$C$32:$C$40,1))","v":"51-60"},{"$f":"SUMPRODUCT((Data!$B$17:$B$19=Model!$F1601)*(Data!$C$16:$K$16=Model!$K1601)*(Data!$C$17:$K$19))","v":2.73},65.430000000000007,{"$f":"_xlfn.IFS(M1601>70,\"Serviceable\",M1601>30, \"Limited Life\",M1601<=30, \"Unserviceable\")","v":"Limited Life"}]
[null,2553,1937,"Wood Untreated Dressed","Serviceable","Class 1",2017,100,91.57,8,{"$f":"INDEX(Lists!$B$32:$B$40, MATCH(2020-C1602, Lists!$C$32:$C$40,1))","v":"81-90"},{"$f":"SUMPRODUCT((Data!$B$17:$B$19=Model!$F1602)*(Data!$C$16:$K$16=Model!$K1602)*(Data!$C$17:$K$19))","v":2.81},77.52,{"$f":"_xlfn.IFS(M1602>70,\"Serviceable\",M1602>30, \"Limited Life\",M1602<=30, \"Unserviceable\")","v":"Serviceable"}]
[null,2554,1981,"Wood Creos Impregnated","Serviceable","Class 3",2016,100,87.12,9,{"$f":"INDEX(Lists!$B$32:$B$40, MATCH(2020-C1603, Lists!$C$32:$C$40,1))","v":"31-40"},{"$f":"SUMPRODUCT((Data!$B$17:$B$19=Model!$F1603)*(Data!$C$16:$K$16=Model!$K1603)*(Data!$C$17:$K$19))","v":3.22},71.02,{"$f":"_xlfn.IFS(M1603>70,\"Serviceable\",M1603>30, \"Limited Life\",M1603<=30, \"Unserviceable\")","v":"Serviceable"}]
[null,2556,1937,"Wood Untreated Dressed","Serviceable","Class 1",2017,120,111.57,8,{"$f":"INDEX(Lists!$B$32:$B$40, MATCH(2020-C1604, Lists!$C$32:$C$40,1))","v":"81-90"},{"$f":"SUMPRODUCT((Data!$B$17:$B$19=Model!$F1604)*(Data!$C$16:$K$16=Model!$K1604)*(Data!$C$17:$K$19))","v":2.81},97.52,{"$f":"_xlfn.IFS(M1604>70,\"Serviceable\",M1604>30, \"Limited Life\",M1604<=30, \"Unserviceable\")","v":"Serviceable"}]
[null,2559,1960,"CCA Treated Pole","Serviceable","Class 2",2017,80,72.290000000000006,8,{"$f":"INDEX(Lists!$B$32:$B$40, MATCH(2020-C1605, Lists!$C$32:$C$40,1))","v":"51-60"},{"$f":"SUMPRODUCT((Data!$B$17:$B$19=Model!$F1605)*(Data!$C$16:$K$16=Model!$K1605)*(Data!$C$17:$K$19))","v":2.57},59.44,{"$f":"_xlfn.IFS(M1605>70,\"Serviceable\",M1605>30, \"Limited Life\",M1605<=30, \"Unserviceable\")","v":"Limited Life"}]
[null,2563,1965,"Wood Creos Impregnated","Serviceable","Class 3",2016,90,79.08,9,{"$f":"INDEX(Lists!$B$32:$B$40, MATCH(2020-C1606, Lists!$C$32:$C$40,1))","v":"51-60"},{"$f":"SUMPRODUCT((Data!$B$17:$B$19=Model!$F1606)*(Data!$C$16:$K$16=Model!$K1606)*(Data!$C$17:$K$19))","v":2.73},65.430000000000007,{"$f":"_xlfn.IFS(M1606>70,\"Serviceable\",M1606>30, \"Limited Life\",M1606<=30, \"Unserviceable\")","v":"Limited Life"}]
[null,2564,1989,"Wood Untreated Dressed","Serviceable","Class 1",2020,120,120,5,{"$f":"INDEX(Lists!$B$32:$B$40, MATCH(2020-C1607, Lists!$C$32:$C$40,1))","v":"31-40"},{"$f":"SUMPRODUCT((Data!$B$17:$B$19=Model!$F1607)*(Data!$C$16:$K$16=Model!$K1607)*(Data!$C$17:$K$19))","v":2.52},107.4,{"$f":"_xlfn.IFS(M1607>70,\"Serviceable\",M1607>30, \"Limited Life\",M1607<=30, \"Unserviceable\")","v":"Serviceable"}]
[null,2567,1961,"Wood Creos Impregnated","Serviceable","Class 3",2020,90,90,{"$f":"2025-G1608","v":5},{"$f":"INDEX(Lists!$B$32:$B$40, MATCH(2020-C1608, Lists!$C$32:$C$40,1))","v":"51-60"},{"$f":"SUMPRODUCT((Data!$B$17:$B$19=Model!$F1608)*(Data!$C$16:$K$16=Model!$K1608)*(Data!$C$17:$K$19))","v":2.73},{"$f":"IF(IF(H1608>=700,999,(H1608-L1608*J1608))<0,0,IF(H1608>=700,999,(H1608-L1608*J1608)))","v":76.349999999999994},{"$f":"_xlfn.IFS(M1608>70,\"Serviceable\",M1608>30, \"Limited Life\",M1608<=30, \"Unserviceable\")","v":"Serviceable"}]
[null,2568,1977,"Wood Creos Impregnated","Serviceable","Class 3",2020,100,100,5,{"$f":"INDEX(Lists!$B$32:$B$40, MATCH(2020-C1609, Lists!$C$32:$C$40,1))","v":"41-50"},{"$f":"SUMPRODUCT((Data!$B$17:$B$19=Model!$F1609)*(Data!$C$16:$K$16=Model!$K1609)*(Data!$C$17:$K$19))","v":3.78},81.099999999999994,{"$f":"_xlfn.IFS(M1609>70,\"Serviceable\",M1609>30, \"Limited Life\",M1609<=30, \"Unserviceable\")","v":"Serviceable"}]
[null,2569,1980,"Wood Creos Impregnated","Serviceable","Class 1",2016,130,119.92,9,{"$f":"INDEX(Lists!$B$32:$B$40, MATCH(2020-C1610, Lists!$C$32:$C$40,1))","v":"31-40"},{"$f":"SUMPRODUCT((Data!$B$17:$B$19=Model!$F1610)*(Data!$C$16:$K$16=Model!$K1610)*(Data!$C$17:$K$19))","v":2.52},107.32,{"$f":"_xlfn.IFS(M1610>70,\"Serviceable\",M1610>30, \"Limited Life\",M1610<=30, \"Unserviceable\")","v":"Serviceable"}]
[null,2570,1961,"Wood Creos Impregnated","Serviceable","Class 3",2020,90,90,5,{"$f":"INDEX(Lists!$B$32:$B$40, MATCH(2020-C1611, Lists!$C$32:$C$40,1))","v":"51-60"},{"$f":"SUMPRODUCT((Data!$B$17:$B$19=Model!$F1611)*(Data!$C$16:$K$16=Model!$K1611)*(Data!$C$17:$K$19))","v":2.73},76.349999999999994,{"$f":"_xlfn.IFS(M1611>70,\"Serviceable\",M1611>30, \"Limited Life\",M1611<=30, \"Unserviceable\")","v":"Serviceable"}]
[null,2571,1955,"Wood Untreated Round","Serviceable","Class 2",2020,90,90,5,{"$f":"INDEX(Lists!$B$32:$B$40, MATCH(2020-C1612, Lists!$C$32:$C$40,1))","v":"61-70"},{"$f":"SUMPRODUCT((Data!$B$17:$B$19=Model!$F1612)*(Data!$C$16:$K$16=Model!$K1612)*(Data!$C$17:$K$19))","v":2.23},78.849999999999994,{"$f":"_xlfn.IFS(M1612>70,\"Serviceable\",M1612>30, \"Limited Life\",M1612<=30, \"Unserviceable\")","v":"Serviceable"}]
[null,2572,1986,"Wood Untreated Dressed","Serviceable","Class 1",2016,150,139.91999999999999,9,{"$f":"INDEX(Lists!$B$32:$B$40, MATCH(2020-C1613, Lists!$C$32:$C$40,1))","v":"31-40"},{"$f":"SUMPRODUCT((Data!$B$17:$B$19=Model!$F1613)*(Data!$C$16:$K$16=Model!$K1613)*(Data!$C$17:$K$19))","v":2.52},127.32,{"$f":"_xlfn.IFS(M1613>70,\"Serviceable\",M1613>30, \"Limited Life\",M1613<=30, \"Unserviceable\")","v":"Serviceable"}]
[null,2573,1970,"Wood Creos Impregnated","Serviceable","Class 3",2020,120,120,5,{"$f":"INDEX(Lists!$B$32:$B$40, MATCH(2020-C1614, Lists!$C$32:$C$40,1))","v":"41-50"},{"$f":"SUMPRODUCT((Data!$B$17:$B$19=Model!$F1614)*(Data!$C$16:$K$16=Model!$K1614)*(Data!$C$17:$K$19))","v":3.78},101.1,{"$f":"_xlfn.IFS(M1614>70,\"Serviceable\",M1614>30, \"Limited Life\",M1614<=30, \"Unserviceable\")","v":"Serviceable"}]
[null,2574,1984,"Wood Untreated Dressed","Serviceable","Class 1",2020,80,80,5,{"$f":"INDEX(Lists!$B$32:$B$40, MATCH(2020-C1615, Lists!$C$32:$C$40,1))","v":"31-40"},{"$f":"SUMPRODUCT((Data!$B$17:$B$19=Model!$F1615)*(Data!$C$16:$K$16=Model!$K1615)*(Data!$C$17:$K$19))","v":2.52},67.400000000000006,{"$f":"_xlfn.IFS(M1615>70,\"Serviceable\",M1615>30, \"Limited Life\",M1615<=30, \"Unserviceable\")","v":"Limited Life"}]
[null,2575,1985,"Wood Untreated Dressed","Serviceable","Class 1",2016,150,139.91999999999999,9,{"$f":"INDEX(Lists!$B$32:$B$40, MATCH(2020-C1616, Lists!$C$32:$C$40,1))","v":"31-40"},{"$f":"SUMPRODUCT((Data!$B$17:$B$19=Model!$F1616)*(Data!$C$16:$K$16=Model!$K1616)*(Data!$C$17:$K$19))","v":2.52},127.32,{"$f":"_xlfn.IFS(M1616>70,\"Serviceable\",M1616>30, \"Limited Life\",M1616<=30, \"Unserviceable\")","v":"Serviceable"}]
[null,2577,1955,"Wood Untreated Round","Serviceable","Class 2",2020,100,100,5,{"$f":"INDEX(Lists!$B$32:$B$40, MATCH(2020-C1617, Lists!$C$32:$C$40,1))","v":"61-70"},{"$f":"SUMPRODUCT((Data!$B$17:$B$19=Model!$F1617)*(Data!$C$16:$K$16=Model!$K1617)*(Data!$C$17:$K$19))","v":2.23},88.85,{"$f":"_xlfn.IFS(M1617>70,\"Serviceable\",M1617>30, \"Limited Life\",M1617<=30, \"Unserviceable\")","v":"Serviceable"}]
[null,2580,1977,"Wood Untreated Dressed","Serviceable","Class 1",2020,130,130,5,{"$f":"INDEX(Lists!$B$32:$B$40, MATCH(2020-C1618, Lists!$C$32:$C$40,1))","v":"41-50"},{"$f":"SUMPRODUCT((Data!$B$17:$B$19=Model!$F1618)*(Data!$C$16:$K$16=Model!$K1618)*(Data!$C$17:$K$19))","v":1.75},121.25,{"$f":"_xlfn.IFS(M1618>70,\"Serviceable\",M1618>30, \"Limited Life\",M1618<=30, \"Unserviceable\")","v":"Serviceable"}]
[null,2581,1986,"Wood Untreated Dressed","Serviceable","Class 1",2016,150,139.91999999999999,9,{"$f":"INDEX(Lists!$B$32:$B$40, MATCH(2020-C1619, Lists!$C$32:$C$40,1))","v":"31-40"},{"$f":"SUMPRODUCT((Data!$B$17:$B$19=Model!$F1619)*(Data!$C$16:$K$16=Model!$K1619)*(Data!$C$17:$K$19))","v":2.52},127.32,{"$f":"_xlfn.IFS(M1619>70,\"Serviceable\",M1619>30, \"Limited Life\",M1619<=30, \"Unserviceable\")","v":"Serviceable"}]
[null,2583,1979,"Wood Untreated Dressed","Serviceable","Class 1",2020,150,150,5,{"$f":"INDEX(Lists!$B$32:$B$40, MATCH(2020-C1620, Lists!$C$32:$C$40,1))","v":"41-50"},{"$f":"SUMPRODUCT((Data!$B$17:$B$19=Model!$F1620)*(Data!$C$16:$K$16=Model!$K1620)*(Data!$C$17:$K$19))","v":1.75},141.25,{"$f":"_xlfn.IFS(M1620>70,\"Serviceable\",M1620>30, \"Limited Life\",M1620<=30, \"Unserviceable\")","v":"Serviceable"}]
[null,2584,1986,"Wood Untreated Dressed","Serviceable","Class 1",2016,150,139.91999999999999,9,{"$f":"INDEX(Lists!$B$32:$B$40, MATCH(2020-C1621, Lists!$C$32:$C$40,1))","v":"31-40"},{"$f":"SUMPRODUCT((Data!$B$17:$B$19=Model!$F1621)*(Data!$C$16:$K$16=Model!$K1621)*(Data!$C$17:$K$19))","v":2.52},127.32,{"$f":"_xlfn.IFS(M1621>70,\"Serviceable\",M1621>30, \"Limited Life\",M1621<=30, \"Unserviceable\")","v":"Serviceable"}]
[null,2585,1936,"Wood Untreated Dressed","Serviceable","Class 1",2020,120,120,5,{"$f":"INDEX(Lists!$B$32:$B$40, MATCH(2020-C1622, Lists!$C$32:$C$40,1))","v":"81-90"},{"$f":"SUMPRODUCT((Data!$B$17:$B$19=Model!$F1622)*(Data!$C$16:$K$16=Model!$K1622)*(Data!$C$17:$K$19))","v":2.81},105.95,{"$f":"_xlfn.IFS(M1622>70,\"Serviceable\",M1622>30, \"Limited Life\",M1622<=30, \"Unserviceable\")","v":"Serviceable"}]
[null,2586,1937,"Wood Untreated Dressed","Serviceable","Class 1",2020,100,100,5,{"$f":"INDEX(Lists!$B$32:$B$40, MATCH(2020-C1623, Lists!$C$32:$C$40,1))","v":"81-90"},{"$f":"SUMPRODUCT((Data!$B$17:$B$19=Model!$F1623)*(Data!$C$16:$K$16=Model!$K1623)*(Data!$C$17:$K$19))","v":2.81},85.95,{"$f":"_xlfn.IFS(M1623>70,\"Serviceable\",M1623>30, \"Limited Life\",M1623<=30, \"Unserviceable\")","v":"Serviceable"}]
[null,2587,1986,"Wood Untreated Dressed","Serviceable","Class 1",2016,150,139.91999999999999,9,{"$f":"INDEX(Lists!$B$32:$B$40, MATCH(2020-C1624, Lists!$C$32:$C$40,1))","v":"31-40"},{"$f":"SUMPRODUCT((Data!$B$17:$B$19=Model!$F1624)*(Data!$C$16:$K$16=Model!$K1624)*(Data!$C$17:$K$19))","v":2.52},127.32,{"$f":"_xlfn.IFS(M1624>70,\"Serviceable\",M1624>30, \"Limited Life\",M1624<=30, \"Unserviceable\")","v":"Serviceable"}]
[null,2589,1937,"Wood Untreated Dressed","Serviceable","Class 1",2017,100,91.57,8,{"$f":"INDEX(Lists!$B$32:$B$40, MATCH(2020-C1625, Lists!$C$32:$C$40,1))","v":"81-90"},{"$f":"SUMPRODUCT((Data!$B$17:$B$19=Model!$F1625)*(Data!$C$16:$K$16=Model!$K1625)*(Data!$C$17:$K$19))","v":2.81},77.52,{"$f":"_xlfn.IFS(M1625>70,\"Serviceable\",M1625>30, \"Limited Life\",M1625<=30, \"Unserviceable\")","v":"Serviceable"}]
[null,2590,2004,"CCA Treated Pole","Serviceable","Class 2",2016,150,145.12,9,{"$f":"INDEX(Lists!$B$32:$B$40, MATCH(2020-C1626, Lists!$C$32:$C$40,1))","v":"0-20"},{"$f":"SUMPRODUCT((Data!$B$17:$B$19=Model!$F1626)*(Data!$C$16:$K$16=Model!$K1626)*(Data!$C$17:$K$19))","v":1.22},139.02000000000001,{"$f":"_xlfn.IFS(M1626>70,\"Serviceable\",M1626>30, \"Limited Life\",M1626<=30, \"Unserviceable\")","v":"Serviceable"}]
[null,2591,1972,"Wood Creos Impregnated","Serviceable","Class 1",2020,130,130,5,{"$f":"INDEX(Lists!$B$32:$B$40, MATCH(2020-C1627, Lists!$C$32:$C$40,1))","v":"41-50"},{"$f":"SUMPRODUCT((Data!$B$17:$B$19=Model!$F1627)*(Data!$C$16:$K$16=Model!$K1627)*(Data!$C$17:$K$19))","v":1.75},121.25,{"$f":"_xlfn.IFS(M1627>70,\"Serviceable\",M1627>30, \"Limited Life\",M1627<=30, \"Unserviceable\")","v":"Serviceable"}]
[null,2592,1977,"Wood Creos Impregnated","Limited Life","Class 3",2020,70,70,5,{"$f":"INDEX(Lists!$B$32:$B$40, MATCH(2020-C1628, Lists!$C$32:$C$40,1))","v":"41-50"},{"$f":"SUMPRODUCT((Data!$B$17:$B$19=Model!$F1628)*(Data!$C$16:$K$16=Model!$K1628)*(Data!$C$17:$K$19))","v":3.78},51.1,{"$f":"_xlfn.IFS(M1628>70,\"Serviceable\",M1628>30, \"Limited Life\",M1628<=30, \"Unserviceable\")","v":"Limited Life"}]
[null,2593,1985,"Wood Untreated Dressed","Serviceable","Class 1",2016,150,139.91999999999999,9,{"$f":"INDEX(Lists!$B$32:$B$40, MATCH(2020-C1629, Lists!$C$32:$C$40,1))","v":"31-40"},{"$f":"SUMPRODUCT((Data!$B$17:$B$19=Model!$F1629)*(Data!$C$16:$K$16=Model!$K1629)*(Data!$C$17:$K$19))","v":2.52},127.32,{"$f":"_xlfn.IFS(M1629>70,\"Serviceable\",M1629>30, \"Limited Life\",M1629<=30, \"Unserviceable\")","v":"Serviceable"}]
[null,2594,1967,"Wood Creos Impregnated","Limited Life","Class 3",2020,70,70,5,{"$f":"INDEX(Lists!$B$32:$B$40, MATCH(2020-C1630, Lists!$C$32:$C$40,1))","v":"51-60"},{"$f":"SUMPRODUCT((Data!$B$17:$B$19=Model!$F1630)*(Data!$C$16:$K$16=Model!$K1630)*(Data!$C$17:$K$19))","v":2.73},56.35,{"$f":"_xlfn.IFS(M1630>70,\"Serviceable\",M1630>30, \"Limited Life\",M1630<=30, \"Unserviceable\")","v":"Limited Life"}]
[null,2595,1968,"Wood Creos Impregnated","Serviceable","Class 2",2020,100,100,5,{"$f":"INDEX(Lists!$B$32:$B$40, MATCH(2020-C1631, Lists!$C$32:$C$40,1))","v":"51-60"},{"$f":"SUMPRODUCT((Data!$B$17:$B$19=Model!$F1631)*(Data!$C$16:$K$16=Model!$K1631)*(Data!$C$17:$K$19))","v":2.57},87.15,{"$f":"_xlfn.IFS(M1631>70,\"Serviceable\",M1631>30, \"Limited Life\",M1631<=30, \"Unserviceable\")","v":"Serviceable"}]
[null,2596,1972,"Wood Creos Impregnated","Serviceable","Class 3",2016,130,114.88,9,{"$f":"INDEX(Lists!$B$32:$B$40, MATCH(2020-C1632, Lists!$C$32:$C$40,1))","v":"41-50"},{"$f":"SUMPRODUCT((Data!$B$17:$B$19=Model!$F1632)*(Data!$C$16:$K$16=Model!$K1632)*(Data!$C$17:$K$19))","v":3.78},95.98,{"$f":"_xlfn.IFS(M1632>70,\"Serviceable\",M1632>30, \"Limited Life\",M1632<=30, \"Unserviceable\")","v":"Serviceable"}]
[null,2597,1968,"Wood Creos Impregnated","Serviceable","Class 3",2020,90,90,5,{"$f":"INDEX(Lists!$B$32:$B$40, MATCH(2020-C1633, Lists!$C$32:$C$40,1))","v":"51-60"},{"$f":"SUMPRODUCT((Data!$B$17:$B$19=Model!$F1633)*(Data!$C$16:$K$16=Model!$K1633)*(Data!$C$17:$K$19))","v":2.73},76.349999999999994,{"$f":"_xlfn.IFS(M1633>70,\"Serviceable\",M1633>30, \"Limited Life\",M1633<=30, \"Unserviceable\")","v":"Serviceable"}]
[null,2598,1970,"Wood Creos Impregnated","Serviceable","Class 2",2020,100,100,5,{"$f":"INDEX(Lists!$B$32:$B$40, MATCH(2020-C1634, Lists!$C$32:$C$40,1))","v":"41-50"},{"$f":"SUMPRODUCT((Data!$B$17:$B$19=Model!$F1634)*(Data!$C$16:$K$16=Model!$K1634)*(Data!$C$17:$K$19))","v":3.28},83.6,{"$f":"_xlfn.IFS(M1634>70,\"Serviceable\",M1634>30, \"Limited Life\",M1634<=30, \"Unserviceable\")","v":"Serviceable"}]
[null,2602,1968,"Wood Creos Impregnated","Serviceable","Class 3",2020,90,90,5,{"$f":"INDEX(Lists!$B$32:$B$40, MATCH(2020-C1635, Lists!$C$32:$C$40,1))","v":"51-60"},{"$f":"SUMPRODUCT((Data!$B$17:$B$19=Model!$F1635)*(Data!$C$16:$K$16=Model!$K1635)*(Data!$C$17:$K$19))","v":2.73},76.349999999999994,{"$f":"_xlfn.IFS(M1635>70,\"Serviceable\",M1635>30, \"Limited Life\",M1635<=30, \"Unserviceable\")","v":"Serviceable"}]
[null,2603,1997,"CCA Treated Pole","Serviceable","Class 1",2016,150,142.16,9,{"$f":"INDEX(Lists!$B$32:$B$40, MATCH(2020-C1636, Lists!$C$32:$C$40,1))","v":"21-30"},{"$f":"SUMPRODUCT((Data!$B$17:$B$19=Model!$F1636)*(Data!$C$16:$K$16=Model!$K1636)*(Data!$C$17:$K$19))","v":1.96},132.36000000000001,{"$f":"_xlfn.IFS(M1636>70,\"Serviceable\",M1636>30, \"Limited Life\",M1636<=30, \"Unserviceable\")","v":"Serviceable"}]
[null,2604,1970,"Wood Creos Impregnated","Limited Life","Class 3",2020,50,50,5,{"$f":"INDEX(Lists!$B$32:$B$40, MATCH(2020-C1637, Lists!$C$32:$C$40,1))","v":"41-50"},{"$f":"SUMPRODUCT((Data!$B$17:$B$19=Model!$F1637)*(Data!$C$16:$K$16=Model!$K1637)*(Data!$C$17:$K$19))","v":3.78},31.1,{"$f":"_xlfn.IFS(M1637>70,\"Serviceable\",M1637>30, \"Limited Life\",M1637<=30, \"Unserviceable\")","v":"Limited Life"}]
[null,2605,1977,"Wood Untreated Dressed","Serviceable","Class 1",2020,100,100,5,{"$f":"INDEX(Lists!$B$32:$B$40, MATCH(2020-C1638, Lists!$C$32:$C$40,1))","v":"41-50"},{"$f":"SUMPRODUCT((Data!$B$17:$B$19=Model!$F1638)*(Data!$C$16:$K$16=Model!$K1638)*(Data!$C$17:$K$19))","v":1.75},91.25,{"$f":"_xlfn.IFS(M1638>70,\"Serviceable\",M1638>30, \"Limited Life\",M1638<=30, \"Unserviceable\")","v":"Serviceable"}]
[null,2606,1972,"Wood Creos Impregnated","Serviceable","Class 3",2016,150,134.88,9,{"$f":"INDEX(Lists!$B$32:$B$40, MATCH(2020-C1639, Lists!$C$32:$C$40,1))","v":"41-50"},{"$f":"SUMPRODUCT((Data!$B$17:$B$19=Model!$F1639)*(Data!$C$16:$K$16=Model!$K1639)*(Data!$C$17:$K$19))","v":3.78},115.98,{"$f":"_xlfn.IFS(M1639>70,\"Serviceable\",M1639>30, \"Limited Life\",M1639<=30, \"Unserviceable\")","v":"Serviceable"}]
[null,2607,1968,"Wood Untreated Dressed","Serviceable","Class 1",2020,120,120,5,{"$f":"INDEX(Lists!$B$32:$B$40, MATCH(2020-C1640, Lists!$C$32:$C$40,1))","v":"51-60"},{"$f":"SUMPRODUCT((Data!$B$17:$B$19=Model!$F1640)*(Data!$C$16:$K$16=Model!$K1640)*(Data!$C$17:$K$19))","v":1.65},111.75,{"$f":"_xlfn.IFS(M1640>70,\"Serviceable\",M1640>30, \"Limited Life\",M1640<=30, \"Unserviceable\")","v":"Serviceable"}]
[null,2608,1981,"Wood Untreated Dressed","Serviceable","Class 1",2020,150,150,5,{"$f":"INDEX(Lists!$B$32:$B$40, MATCH(2020-C1641, Lists!$C$32:$C$40,1))","v":"31-40"},{"$f":"SUMPRODUCT((Data!$B$17:$B$19=Model!$F1641)*(Data!$C$16:$K$16=Model!$K1641)*(Data!$C$17:$K$19))","v":2.52},137.4,{"$f":"_xlfn.IFS(M1641>70,\"Serviceable\",M1641>30, \"Limited Life\",M1641<=30, \"Unserviceable\")","v":"Serviceable"}]
[null,2609,1960,"Wood Creos Impregnated","Serviceable","Class 3",2016,90,79.08,9,{"$f":"INDEX(Lists!$B$32:$B$40, MATCH(2020-C1642, Lists!$C$32:$C$40,1))","v":"51-60"},{"$f":"SUMPRODUCT((Data!$B$17:$B$19=Model!$F1642)*(Data!$C$16:$K$16=Model!$K1642)*(Data!$C$17:$K$19))","v":2.73},65.430000000000007,{"$f":"_xlfn.IFS(M1642>70,\"Serviceable\",M1642>30, \"Limited Life\",M1642<=30, \"Unserviceable\")","v":"Limited Life"}]
[null,2610,1935,"Wood Untreated Dressed","Serviceable","Class 1",2020,110,110,5,{"$f":"INDEX(Lists!$B$32:$B$40, MATCH(2020-C1643, Lists!$C$32:$C$40,1))","v":"81-90"},{"$f":"SUMPRODUCT((Data!$B$17:$B$19=Model!$F1643)*(Data!$C$16:$K$16=Model!$K1643)*(Data!$C$17:$K$19))","v":2.81},95.95,{"$f":"_xlfn.IFS(M1643>70,\"Serviceable\",M1643>30, \"Limited Life\",M1643<=30, \"Unserviceable\")","v":"Serviceable"}]
[null,2611,1978,"Wood Untreated Dressed","Serviceable","Class 1",2019,110,108.25,6,{"$f":"INDEX(Lists!$B$32:$B$40, MATCH(2020-C1644, Lists!$C$32:$C$40,1))","v":"41-50"},{"$f":"SUMPRODUCT((Data!$B$17:$B$19=Model!$F1644)*(Data!$C$16:$K$16=Model!$K1644)*(Data!$C$17:$K$19))","v":1.75},99.5,{"$f":"_xlfn.IFS(M1644>70,\"Serviceable\",M1644>30, \"Limited Life\",M1644<=30, \"Unserviceable\")","v":"Serviceable"}]
[null,2612,1972,"Wood Creos Impregnated","Serviceable","Class 2",2016,130,116.88,9,{"$f":"INDEX(Lists!$B$32:$B$40, MATCH(2020-C1645, Lists!$C$32:$C$40,1))","v":"41-50"},{"$f":"SUMPRODUCT((Data!$B$17:$B$19=Model!$F1645)*(Data!$C$16:$K$16=Model!$K1645)*(Data!$C$17:$K$19))","v":3.28},100.48,{"$f":"_xlfn.IFS(M1645>70,\"Serviceable\",M1645>30, \"Limited Life\",M1645<=30, \"Unserviceable\")","v":"Serviceable"}]
[null,2615,1981,"Wood Creos Impregnated","Serviceable","Class 3",2020,120,120,5,{"$f":"INDEX(Lists!$B$32:$B$40, MATCH(2020-C1646, Lists!$C$32:$C$40,1))","v":"31-40"},{"$f":"SUMPRODUCT((Data!$B$17:$B$19=Model!$F1646)*(Data!$C$16:$K$16=Model!$K1646)*(Data!$C$17:$K$19))","v":3.22},103.9,{"$f":"_xlfn.IFS(M1646>70,\"Serviceable\",M1646>30, \"Limited Life\",M1646<=30, \"Unserviceable\")","v":"Serviceable"}]
[null,2617,1988,"Wood Untreated Dressed","Serviceable","Class 1",2017,110,102.44,8,{"$f":"INDEX(Lists!$B$32:$B$40, MATCH(2020-C1647, Lists!$C$32:$C$40,1))","v":"31-40"},{"$f":"SUMPRODUCT((Data!$B$17:$B$19=Model!$F1647)*(Data!$C$16:$K$16=Model!$K1647)*(Data!$C$17:$K$19))","v":2.52},89.84,{"$f":"_xlfn.IFS(M1647>70,\"Serviceable\",M1647>30, \"Limited Life\",M1647<=30, \"Unserviceable\")","v":"Serviceable"}]
[null,2618,1970,"Wood Creos Impregnated","Serviceable","Class 3",2019,120,116.22,6,{"$f":"INDEX(Lists!$B$32:$B$40, MATCH(2020-C1648, Lists!$C$32:$C$40,1))","v":"41-50"},{"$f":"SUMPRODUCT((Data!$B$17:$B$19=Model!$F1648)*(Data!$C$16:$K$16=Model!$K1648)*(Data!$C$17:$K$19))","v":3.78},97.32,{"$f":"_xlfn.IFS(M1648>70,\"Serviceable\",M1648>30, \"Limited Life\",M1648<=30, \"Unserviceable\")","v":"Serviceable"}]
[null,2620,1979,"Wood Untreated Dressed","Serviceable","Class 1",2017,130,124.75,8,{"$f":"INDEX(Lists!$B$32:$B$40, MATCH(2020-C1649, Lists!$C$32:$C$40,1))","v":"41-50"},{"$f":"SUMPRODUCT((Data!$B$17:$B$19=Model!$F1649)*(Data!$C$16:$K$16=Model!$K1649)*(Data!$C$17:$K$19))","v":1.75},116,{"$f":"_xlfn.IFS(M1649>70,\"Serviceable\",M1649>30, \"Limited Life\",M1649<=30, \"Unserviceable\")","v":"Serviceable"}]
[null,2621,1972,"Wood Creos Impregnated","Serviceable","Class 3",2016,120,104.88,9,{"$f":"INDEX(Lists!$B$32:$B$40, MATCH(2020-C1650, Lists!$C$32:$C$40,1))","v":"41-50"},{"$f":"SUMPRODUCT((Data!$B$17:$B$19=Model!$F1650)*(Data!$C$16:$K$16=Model!$K1650)*(Data!$C$17:$K$19))","v":3.78},85.98,{"$f":"_xlfn.IFS(M1650>70,\"Serviceable\",M1650>30, \"Limited Life\",M1650<=30, \"Unserviceable\")","v":"Serviceable"}]
[null,2622,1959,"Wood Creos Impregnated","Serviceable","Class 3",2020,80,80,5,{"$f":"INDEX(Lists!$B$32:$B$40, MATCH(2020-C1651, Lists!$C$32:$C$40,1))","v":"61-70"},{"$f":"SUMPRODUCT((Data!$B$17:$B$19=Model!$F1651)*(Data!$C$16:$K$16=Model!$K1651)*(Data!$C$17:$K$19))","v":2.02},69.900000000000006,{"$f":"_xlfn.IFS(M1651>70,\"Serviceable\",M1651>30, \"Limited Life\",M1651<=30, \"Unserviceable\")","v":"Limited Life"}]
[null,2623,1963,"Wood Creos Impregnated","Serviceable","Class 3",2016,90,79.08,9,{"$f":"INDEX(Lists!$B$32:$B$40, MATCH(2020-C1652, Lists!$C$32:$C$40,1))","v":"51-60"},{"$f":"SUMPRODUCT((Data!$B$17:$B$19=Model!$F1652)*(Data!$C$16:$K$16=Model!$K1652)*(Data!$C$17:$K$19))","v":2.73},65.430000000000007,{"$f":"_xlfn.IFS(M1652>70,\"Serviceable\",M1652>30, \"Limited Life\",M1652<=30, \"Unserviceable\")","v":"Limited Life"}]
[null,2625,1934,"Wood Untreated Dressed","Serviceable","Class 1",2020,100,100,5,{"$f":"INDEX(Lists!$B$32:$B$40, MATCH(2020-C1653, Lists!$C$32:$C$40,1))","v":"81-90"},{"$f":"SUMPRODUCT((Data!$B$17:$B$19=Model!$F1653)*(Data!$C$16:$K$16=Model!$K1653)*(Data!$C$17:$K$19))","v":2.81},85.95,{"$f":"_xlfn.IFS(M1653>70,\"Serviceable\",M1653>30, \"Limited Life\",M1653<=30, \"Unserviceable\")","v":"Serviceable"}]
[null,2626,1963,"Wood Creos Impregnated","Serviceable","Class 3",2019,130,127.27,6,{"$f":"INDEX(Lists!$B$32:$B$40, MATCH(2020-C1654, Lists!$C$32:$C$40,1))","v":"51-60"},{"$f":"SUMPRODUCT((Data!$B$17:$B$19=Model!$F1654)*(Data!$C$16:$K$16=Model!$K1654)*(Data!$C$17:$K$19))","v":2.73},113.62,{"$f":"_xlfn.IFS(M1654>70,\"Serviceable\",M1654>30, \"Limited Life\",M1654<=30, \"Unserviceable\")","v":"Serviceable"}]
[null,2627,1969,"Wood Creos Impregnated","Serviceable","Class 3",2017,100,91.81,8,{"$f":"INDEX(Lists!$B$32:$B$40, MATCH(2020-C1655, Lists!$C$32:$C$40,1))","v":"51-60"},{"$f":"SUMPRODUCT((Data!$B$17:$B$19=Model!$F1655)*(Data!$C$16:$K$16=Model!$K1655)*(Data!$C$17:$K$19))","v":2.73},78.16,{"$f":"_xlfn.IFS(M1655>70,\"Serviceable\",M1655>30, \"Limited Life\",M1655<=30, \"Unserviceable\")","v":"Serviceable"}]
[null,2628,1935,"Wood Untreated Dressed","Serviceable","Class 1",2020,120,120,5,{"$f":"INDEX(Lists!$B$32:$B$40, MATCH(2020-C1656, Lists!$C$32:$C$40,1))","v":"81-90"},{"$f":"SUMPRODUCT((Data!$B$17:$B$19=Model!$F1656)*(Data!$C$16:$K$16=Model!$K1656)*(Data!$C$17:$K$19))","v":2.81},105.95,{"$f":"_xlfn.IFS(M1656>70,\"Serviceable\",M1656>30, \"Limited Life\",M1656<=30, \"Unserviceable\")","v":"Serviceable"}]
[null,2629,1963,"Wood Creos Impregnated","Serviceable","Class 3",2016,90,79.08,9,{"$f":"INDEX(Lists!$B$32:$B$40, MATCH(2020-C1657, Lists!$C$32:$C$40,1))","v":"51-60"},{"$f":"SUMPRODUCT((Data!$B$17:$B$19=Model!$F1657)*(Data!$C$16:$K$16=Model!$K1657)*(Data!$C$17:$K$19))","v":2.73},65.430000000000007,{"$f":"_xlfn.IFS(M1657>70,\"Serviceable\",M1657>30, \"Limited Life\",M1657<=30, \"Unserviceable\")","v":"Limited Life"}]
[null,2630,2008,"CCA Treated Pole","Serviceable","Class 2",2017,120,116.34,8,{"$f":"INDEX(Lists!$B$32:$B$40, MATCH(2020-C1658, Lists!$C$32:$C$40,1))","v":"0-20"},{"$f":"SUMPRODUCT((Data!$B$17:$B$19=Model!$F1658)*(Data!$C$16:$K$16=Model!$K1658)*(Data!$C$17:$K$19))","v":1.22},110.24,{"$f":"_xlfn.IFS(M1658>70,\"Serviceable\",M1658>30, \"Limited Life\",M1658<=30, \"Unserviceable\")","v":"Serviceable"}]
[null,2632,1979,"Wood Untreated Dressed","Serviceable","Class 1",2017,130,124.75,8,{"$f":"INDEX(Lists!$B$32:$B$40, MATCH(2020-C1659, Lists!$C$32:$C$40,1))","v":"41-50"},{"$f":"SUMPRODUCT((Data!$B$17:$B$19=Model!$F1659)*(Data!$C$16:$K$16=Model!$K1659)*(Data!$C$17:$K$19))","v":1.75},116,{"$f":"_xlfn.IFS(M1659>70,\"Serviceable\",M1659>30, \"Limited Life\",M1659<=30, \"Unserviceable\")","v":"Serviceable"}]
[null,2634,1963,"Wood Creos Impregnated","Serviceable","Class 3",2016,120,109.08,9,{"$f":"INDEX(Lists!$B$32:$B$40, MATCH(2020-C1660, Lists!$C$32:$C$40,1))","v":"51-60"},{"$f":"SUMPRODUCT((Data!$B$17:$B$19=Model!$F1660)*(Data!$C$16:$K$16=Model!$K1660)*(Data!$C$17:$K$19))","v":2.73},95.43,{"$f":"_xlfn.IFS(M1660>70,\"Serviceable\",M1660>30, \"Limited Life\",M1660<=30, \"Unserviceable\")","v":"Serviceable"}]
[null,2636,1983,"Wood Untreated Dressed","Serviceable","Class 1",2020,120,120,5,{"$f":"INDEX(Lists!$B$32:$B$40, MATCH(2020-C1661, Lists!$C$32:$C$40,1))","v":"31-40"},{"$f":"SUMPRODUCT((Data!$B$17:$B$19=Model!$F1661)*(Data!$C$16:$K$16=Model!$K1661)*(Data!$C$17:$K$19))","v":2.52},107.4,{"$f":"_xlfn.IFS(M1661>70,\"Serviceable\",M1661>30, \"Limited Life\",M1661<=30, \"Unserviceable\")","v":"Serviceable"}]
[null,2637,1963,"Wood Creos Impregnated","Serviceable","Class 3",2016,130,119.08,9,{"$f":"INDEX(Lists!$B$32:$B$40, MATCH(2020-C1662, Lists!$C$32:$C$40,1))","v":"51-60"},{"$f":"SUMPRODUCT((Data!$B$17:$B$19=Model!$F1662)*(Data!$C$16:$K$16=Model!$K1662)*(Data!$C$17:$K$19))","v":2.73},105.43,{"$f":"_xlfn.IFS(M1662>70,\"Serviceable\",M1662>30, \"Limited Life\",M1662<=30, \"Unserviceable\")","v":"Serviceable"}]
[null,2638,1966,"Wood Creos Impregnated","Serviceable","Class 3",2017,100,91.81,8,{"$f":"INDEX(Lists!$B$32:$B$40, MATCH(2020-C1663, Lists!$C$32:$C$40,1))","v":"51-60"},{"$f":"SUMPRODUCT((Data!$B$17:$B$19=Model!$F1663)*(Data!$C$16:$K$16=Model!$K1663)*(Data!$C$17:$K$19))","v":2.73},78.16,{"$f":"_xlfn.IFS(M1663>70,\"Serviceable\",M1663>30, \"Limited Life\",M1663<=30, \"Unserviceable\")","v":"Serviceable"}]
[null,2639,1960,"Wood Creos Impregnated","Serviceable","Class 3",2020,100,100,5,{"$f":"INDEX(Lists!$B$32:$B$40, MATCH(2020-C1664, Lists!$C$32:$C$40,1))","v":"51-60"},{"$f":"SUMPRODUCT((Data!$B$17:$B$19=Model!$F1664)*(Data!$C$16:$K$16=Model!$K1664)*(Data!$C$17:$K$19))","v":2.73},86.35,{"$f":"_xlfn.IFS(M1664>70,\"Serviceable\",M1664>30, \"Limited Life\",M1664<=30, \"Unserviceable\")","v":"Serviceable"}]
[null,2640,1972,"Wood Creos Impregnated","Serviceable","Class 3",2016,130,114.88,9,{"$f":"INDEX(Lists!$B$32:$B$40, MATCH(2020-C1665, Lists!$C$32:$C$40,1))","v":"41-50"},{"$f":"SUMPRODUCT((Data!$B$17:$B$19=Model!$F1665)*(Data!$C$16:$K$16=Model!$K1665)*(Data!$C$17:$K$19))","v":3.78},95.98,{"$f":"_xlfn.IFS(M1665>70,\"Serviceable\",M1665>30, \"Limited Life\",M1665<=30, \"Unserviceable\")","v":"Serviceable"}]
[null,2641,1973,"Wood Creos Impregnated","Serviceable","Class 3",2020,120,120,5,{"$f":"INDEX(Lists!$B$32:$B$40, MATCH(2020-C1666, Lists!$C$32:$C$40,1))","v":"41-50"},{"$f":"SUMPRODUCT((Data!$B$17:$B$19=Model!$F1666)*(Data!$C$16:$K$16=Model!$K1666)*(Data!$C$17:$K$19))","v":3.78},101.1,{"$f":"_xlfn.IFS(M1666>70,\"Serviceable\",M1666>30, \"Limited Life\",M1666<=30, \"Unserviceable\")","v":"Serviceable"}]
[null,2643,1970,"Wood Creos Impregnated","Serviceable","Class 3",2016,90,74.88,9,{"$f":"INDEX(Lists!$B$32:$B$40, MATCH(2020-C1667, Lists!$C$32:$C$40,1))","v":"41-50"},{"$f":"SUMPRODUCT((Data!$B$17:$B$19=Model!$F1667)*(Data!$C$16:$K$16=Model!$K1667)*(Data!$C$17:$K$19))","v":3.78},55.980000000000004,{"$f":"_xlfn.IFS(M1667>70,\"Serviceable\",M1667>30, \"Limited Life\",M1667<=30, \"Unserviceable\")","v":"Limited Life"}]
[null,2644,1994,"Wood Untreated Dressed","Serviceable","Class 1",2018,120,116.08,7,{"$f":"INDEX(Lists!$B$32:$B$40, MATCH(2020-C1668, Lists!$C$32:$C$40,1))","v":"21-30"},{"$f":"SUMPRODUCT((Data!$B$17:$B$19=Model!$F1668)*(Data!$C$16:$K$16=Model!$K1668)*(Data!$C$17:$K$19))","v":1.96},106.28,{"$f":"_xlfn.IFS(M1668>70,\"Serviceable\",M1668>30, \"Limited Life\",M1668<=30, \"Unserviceable\")","v":"Serviceable"}]
[null,2646,1968,"Wood Creos Impregnated","Serviceable","Class 3",2017,100,91.81,8,{"$f":"INDEX(Lists!$B$32:$B$40, MATCH(2020-C1669, Lists!$C$32:$C$40,1))","v":"51-60"},{"$f":"SUMPRODUCT((Data!$B$17:$B$19=Model!$F1669)*(Data!$C$16:$K$16=Model!$K1669)*(Data!$C$17:$K$19))","v":2.73},78.16,{"$f":"_xlfn.IFS(M1669>70,\"Serviceable\",M1669>30, \"Limited Life\",M1669<=30, \"Unserviceable\")","v":"Serviceable"}]
[null,2648,1964,"Wood Creos Impregnated","Serviceable","Class 3",2017,100,91.81,8,{"$f":"INDEX(Lists!$B$32:$B$40, MATCH(2020-C1670, Lists!$C$32:$C$40,1))","v":"51-60"},{"$f":"SUMPRODUCT((Data!$B$17:$B$19=Model!$F1670)*(Data!$C$16:$K$16=Model!$K1670)*(Data!$C$17:$K$19))","v":2.73},78.16,{"$f":"_xlfn.IFS(M1670>70,\"Serviceable\",M1670>30, \"Limited Life\",M1670<=30, \"Unserviceable\")","v":"Serviceable"}]
[null,2649,1972,"Wood Creos Impregnated","Serviceable","Class 1",2016,140,133,9,{"$f":"INDEX(Lists!$B$32:$B$40, MATCH(2020-C1671, Lists!$C$32:$C$40,1))","v":"41-50"},{"$f":"SUMPRODUCT((Data!$B$17:$B$19=Model!$F1671)*(Data!$C$16:$K$16=Model!$K1671)*(Data!$C$17:$K$19))","v":1.75},124.25,{"$f":"_xlfn.IFS(M1671>70,\"Serviceable\",M1671>30, \"Limited Life\",M1671<=30, \"Unserviceable\")","v":"Serviceable"}]
[null,2652,1976,"Wood Creos Impregnated","Serviceable","Class 1",2016,130,123,{"$f":"2025-G1672","v":9},{"$f":"INDEX(Lists!$B$32:$B$40, MATCH(2020-C1672, Lists!$C$32:$C$40,1))","v":"41-50"},{"$f":"SUMPRODUCT((Data!$B$17:$B$19=Model!$F1672)*(Data!$C$16:$K$16=Model!$K1672)*(Data!$C$17:$K$19))","v":1.75},{"$f":"IF(IF(H1672>=700,999,(H1672-L1672*J1672))<0,0,IF(H1672>=700,999,(H1672-L1672*J1672)))","v":114.25},{"$f":"_xlfn.IFS(M1672>70,\"Serviceable\",M1672>30, \"Limited Life\",M1672<=30, \"Unserviceable\")","v":"Serviceable"}]
[null,2653,1934,"Wood Untreated Dressed","Serviceable","Class 1",2018,100,94.38,7,{"$f":"INDEX(Lists!$B$32:$B$40, MATCH(2020-C1673, Lists!$C$32:$C$40,1))","v":"81-90"},{"$f":"SUMPRODUCT((Data!$B$17:$B$19=Model!$F1673)*(Data!$C$16:$K$16=Model!$K1673)*(Data!$C$17:$K$19))","v":2.81},80.33,{"$f":"_xlfn.IFS(M1673>70,\"Serviceable\",M1673>30, \"Limited Life\",M1673<=30, \"Unserviceable\")","v":"Serviceable"}]
[null,2654,2002,"CCA Treated Pole","Serviceable","Class 2",2017,150,146.34,8,{"$f":"INDEX(Lists!$B$32:$B$40, MATCH(2020-C1674, Lists!$C$32:$C$40,1))","v":"0-20"},{"$f":"SUMPRODUCT((Data!$B$17:$B$19=Model!$F1674)*(Data!$C$16:$K$16=Model!$K1674)*(Data!$C$17:$K$19))","v":1.22},140.24,{"$f":"_xlfn.IFS(M1674>70,\"Serviceable\",M1674>30, \"Limited Life\",M1674<=30, \"Unserviceable\")","v":"Serviceable"}]
[null,2655,1979,"Wood Creos Impregnated","Serviceable","Class 3",2016,110,94.88,9,{"$f":"INDEX(Lists!$B$32:$B$40, MATCH(2020-C1675, Lists!$C$32:$C$40,1))","v":"41-50"},{"$f":"SUMPRODUCT((Data!$B$17:$B$19=Model!$F1675)*(Data!$C$16:$K$16=Model!$K1675)*(Data!$C$17:$K$19))","v":3.78},75.98,{"$f":"_xlfn.IFS(M1675>70,\"Serviceable\",M1675>30, \"Limited Life\",M1675<=30, \"Unserviceable\")","v":"Serviceable"}]
[null,2656,1960,"Wood Creos Impregnated","Serviceable","Class 3",2018,100,94.54,7,{"$f":"INDEX(Lists!$B$32:$B$40, MATCH(2020-C1676, Lists!$C$32:$C$40,1))","v":"51-60"},{"$f":"SUMPRODUCT((Data!$B$17:$B$19=Model!$F1676)*(Data!$C$16:$K$16=Model!$K1676)*(Data!$C$17:$K$19))","v":2.73},80.89,{"$f":"_xlfn.IFS(M1676>70,\"Serviceable\",M1676>30, \"Limited Life\",M1676<=30, \"Unserviceable\")","v":"Serviceable"}]
[null,2657,2007,"CCA Treated Pole","Serviceable","Class 2",2017,150,146.34,8,{"$f":"INDEX(Lists!$B$32:$B$40, MATCH(2020-C1677, Lists!$C$32:$C$40,1))","v":"0-20"},{"$f":"SUMPRODUCT((Data!$B$17:$B$19=Model!$F1677)*(Data!$C$16:$K$16=Model!$K1677)*(Data!$C$17:$K$19))","v":1.22},140.24,{"$f":"_xlfn.IFS(M1677>70,\"Serviceable\",M1677>30, \"Limited Life\",M1677<=30, \"Unserviceable\")","v":"Serviceable"}]
[null,2658,1983,"Wood Creos Impregnated","Serviceable","Class 3",2016,110,97.12,9,{"$f":"INDEX(Lists!$B$32:$B$40, MATCH(2020-C1678, Lists!$C$32:$C$40,1))","v":"31-40"},{"$f":"SUMPRODUCT((Data!$B$17:$B$19=Model!$F1678)*(Data!$C$16:$K$16=Model!$K1678)*(Data!$C$17:$K$19))","v":3.22},81.02,{"$f":"_xlfn.IFS(M1678>70,\"Serviceable\",M1678>30, \"Limited Life\",M1678<=30, \"Unserviceable\")","v":"Serviceable"}]
[null,2660,2002,"CCA Treated Pole","Serviceable","Class 1",2017,150,146.82,8,{"$f":"INDEX(Lists!$B$32:$B$40, MATCH(2020-C1679, Lists!$C$32:$C$40,1))","v":"0-20"},{"$f":"SUMPRODUCT((Data!$B$17:$B$19=Model!$F1679)*(Data!$C$16:$K$16=Model!$K1679)*(Data!$C$17:$K$19))","v":1.06},141.52000000000001,{"$f":"_xlfn.IFS(M1679>70,\"Serviceable\",M1679>30, \"Limited Life\",M1679<=30, \"Unserviceable\")","v":"Serviceable"}]
[null,2663,2002,"CCA Treated Pole","Serviceable","Class 2",2017,162.49719689682513,158.83719689682513,8,{"$f":"INDEX(Lists!$B$32:$B$40, MATCH(2020-C1680, Lists!$C$32:$C$40,1))","v":"0-20"},{"$f":"SUMPRODUCT((Data!$B$17:$B$19=Model!$F1680)*(Data!$C$16:$K$16=Model!$K1680)*(Data!$C$17:$K$19))","v":1.22},152.73719689682514,{"$f":"_xlfn.IFS(M1680>70,\"Serviceable\",M1680>30, \"Limited Life\",M1680<=30, \"Unserviceable\")","v":"Serviceable"}]
[null,2664,1972,"Wood Creos Impregnated","Serviceable","Class 3",2016,100,84.88,9,{"$f":"INDEX(Lists!$B$32:$B$40, MATCH(2020-C1681, Lists!$C$32:$C$40,1))","v":"41-50"},{"$f":"SUMPRODUCT((Data!$B$17:$B$19=Model!$F1681)*(Data!$C$16:$K$16=Model!$K1681)*(Data!$C$17:$K$19))","v":3.78},65.98,{"$f":"_xlfn.IFS(M1681>70,\"Serviceable\",M1681>30, \"Limited Life\",M1681<=30, \"Unserviceable\")","v":"Limited Life"}]
[null,2667,1972,"Wood Creos Impregnated","Serviceable","Class 3",2016,110,94.88,9,{"$f":"INDEX(Lists!$B$32:$B$40, MATCH(2020-C1682, Lists!$C$32:$C$40,1))","v":"41-50"},{"$f":"SUMPRODUCT((Data!$B$17:$B$19=Model!$F1682)*(Data!$C$16:$K$16=Model!$K1682)*(Data!$C$17:$K$19))","v":3.78},75.98,{"$f":"_xlfn.IFS(M1682>70,\"Serviceable\",M1682>30, \"Limited Life\",M1682<=30, \"Unserviceable\")","v":"Serviceable"}]
[null,2671,1935,"Wood Untreated Dressed","Serviceable","Class 1",2018,100,94.38,7,{"$f":"INDEX(Lists!$B$32:$B$40, MATCH(2020-C1683, Lists!$C$32:$C$40,1))","v":"81-90"},{"$f":"SUMPRODUCT((Data!$B$17:$B$19=Model!$F1683)*(Data!$C$16:$K$16=Model!$K1683)*(Data!$C$17:$K$19))","v":2.81},80.33,{"$f":"_xlfn.IFS(M1683>70,\"Serviceable\",M1683>30, \"Limited Life\",M1683<=30, \"Unserviceable\")","v":"Serviceable"}]
[null,2673,1974,"Wood Creos Impregnated","Serviceable","Class 3",2016,120,104.88,9,{"$f":"INDEX(Lists!$B$32:$B$40, MATCH(2020-C1684, Lists!$C$32:$C$40,1))","v":"41-50"},{"$f":"SUMPRODUCT((Data!$B$17:$B$19=Model!$F1684)*(Data!$C$16:$K$16=Model!$K1684)*(Data!$C$17:$K$19))","v":3.78},85.98,{"$f":"_xlfn.IFS(M1684>70,\"Serviceable\",M1684>30, \"Limited Life\",M1684<=30, \"Unserviceable\")","v":"Serviceable"}]
[null,2675,1942,"Wood Untreated Dressed","Serviceable","Class 1",2017,110,103.55,8,{"$f":"INDEX(Lists!$B$32:$B$40, MATCH(2020-C1685, Lists!$C$32:$C$40,1))","v":"71-80"},{"$f":"SUMPRODUCT((Data!$B$17:$B$19=Model!$F1685)*(Data!$C$16:$K$16=Model!$K1685)*(Data!$C$17:$K$19))","v":2.15},92.8,{"$f":"_xlfn.IFS(M1685>70,\"Serviceable\",M1685>30, \"Limited Life\",M1685<=30, \"Unserviceable\")","v":"Serviceable"}]
[null,2676,1971,"Wood Creos Impregnated","Limited Life","Class 2",2016,70,56.88,9,{"$f":"INDEX(Lists!$B$32:$B$40, MATCH(2020-C1686, Lists!$C$32:$C$40,1))","v":"41-50"},{"$f":"SUMPRODUCT((Data!$B$17:$B$19=Model!$F1686)*(Data!$C$16:$K$16=Model!$K1686)*(Data!$C$17:$K$19))","v":3.28},40.480000000000004,{"$f":"_xlfn.IFS(M1686>70,\"Serviceable\",M1686>30, \"Limited Life\",M1686<=30, \"Unserviceable\")","v":"Limited Life"}]
[null,2677,1958,"Wood Untreated Round","Serviceable","Class 1",2020,120,120,5,{"$f":"INDEX(Lists!$B$32:$B$40, MATCH(2020-C1687, Lists!$C$32:$C$40,1))","v":"61-70"},{"$f":"SUMPRODUCT((Data!$B$17:$B$19=Model!$F1687)*(Data!$C$16:$K$16=Model!$K1687)*(Data!$C$17:$K$19))","v":2.0299999999999998},109.85,{"$f":"_xlfn.IFS(M1687>70,\"Serviceable\",M1687>30, \"Limited Life\",M1687<=30, \"Unserviceable\")","v":"Serviceable"}]
[null,2679,1986,"Wood Untreated Dressed","Serviceable","Class 1",2016,150,139.91999999999999,9,{"$f":"INDEX(Lists!$B$32:$B$40, MATCH(2020-C1688, Lists!$C$32:$C$40,1))","v":"31-40"},{"$f":"SUMPRODUCT((Data!$B$17:$B$19=Model!$F1688)*(Data!$C$16:$K$16=Model!$K1688)*(Data!$C$17:$K$19))","v":2.52},127.32,{"$f":"_xlfn.IFS(M1688>70,\"Serviceable\",M1688>30, \"Limited Life\",M1688<=30, \"Unserviceable\")","v":"Serviceable"}]
[null,2682,1985,"Wood Untreated Dressed","Serviceable","Class 1",2016,120,109.92,9,{"$f":"INDEX(Lists!$B$32:$B$40, MATCH(2020-C1689, Lists!$C$32:$C$40,1))","v":"31-40"},{"$f":"SUMPRODUCT((Data!$B$17:$B$19=Model!$F1689)*(Data!$C$16:$K$16=Model!$K1689)*(Data!$C$17:$K$19))","v":2.52},97.32,{"$f":"_xlfn.IFS(M1689>70,\"Serviceable\",M1689>30, \"Limited Life\",M1689<=30, \"Unserviceable\")","v":"Serviceable"}]
[null,2685,1986,"Wood Untreated Dressed","Serviceable","Class 1",2020,140,140,5,{"$f":"INDEX(Lists!$B$32:$B$40, MATCH(2020-C1690, Lists!$C$32:$C$40,1))","v":"31-40"},{"$f":"SUMPRODUCT((Data!$B$17:$B$19=Model!$F1690)*(Data!$C$16:$K$16=Model!$K1690)*(Data!$C$17:$K$19))","v":2.52},127.4,{"$f":"_xlfn.IFS(M1690>70,\"Serviceable\",M1690>30, \"Limited Life\",M1690<=30, \"Unserviceable\")","v":"Serviceable"}]
[null,2686,1973,"Wood Creos Impregnated","Serviceable","Class 3",2019,110,106.22,6,{"$f":"INDEX(Lists!$B$32:$B$40, MATCH(2020-C1691, Lists!$C$32:$C$40,1))","v":"41-50"},{"$f":"SUMPRODUCT((Data!$B$17:$B$19=Model!$F1691)*(Data!$C$16:$K$16=Model!$K1691)*(Data!$C$17:$K$19))","v":3.78},87.32,{"$f":"_xlfn.IFS(M1691>70,\"Serviceable\",M1691>30, \"Limited Life\",M1691<=30, \"Unserviceable\")","v":"Serviceable"}]
[null,2688,1994,"Wood Untreated Dressed","Serviceable","Class 1",2018,150,146.08000000000001,7,{"$f":"INDEX(Lists!$B$32:$B$40, MATCH(2020-C1692, Lists!$C$32:$C$40,1))","v":"21-30"},{"$f":"SUMPRODUCT((Data!$B$17:$B$19=Model!$F1692)*(Data!$C$16:$K$16=Model!$K1692)*(Data!$C$17:$K$19))","v":1.96},136.28,{"$f":"_xlfn.IFS(M1692>70,\"Serviceable\",M1692>30, \"Limited Life\",M1692<=30, \"Unserviceable\")","v":"Serviceable"}]
[null,2689,1971,"Wood Creos Impregnated","Limited Life","Class 3",2016,70,54.88,9,{"$f":"INDEX(Lists!$B$32:$B$40, MATCH(2020-C1693, Lists!$C$32:$C$40,1))","v":"41-50"},{"$f":"SUMPRODUCT((Data!$B$17:$B$19=Model!$F1693)*(Data!$C$16:$K$16=Model!$K1693)*(Data!$C$17:$K$19))","v":3.78},35.980000000000004,{"$f":"_xlfn.IFS(M1693>70,\"Serviceable\",M1693>30, \"Limited Life\",M1693<=30, \"Unserviceable\")","v":"Limited Life"}]
[null,2690,2001,"CCA Treated Pole","Serviceable","Class 1",2017,166.31691553103065,163.13691553103064,8,{"$f":"INDEX(Lists!$B$32:$B$40, MATCH(2020-C1694, Lists!$C$32:$C$40,1))","v":"0-20"},{"$f":"SUMPRODUCT((Data!$B$17:$B$19=Model!$F1694)*(Data!$C$16:$K$16=Model!$K1694)*(Data!$C$17:$K$19))","v":1.06},157.83691553103066,{"$f":"_xlfn.IFS(M1694>70,\"Serviceable\",M1694>30, \"Limited Life\",M1694<=30, \"Unserviceable\")","v":"Serviceable"}]
[null,2691,1973,"Wood Creos Impregnated","Serviceable","Class 1",2016,130,123,9,{"$f":"INDEX(Lists!$B$32:$B$40, MATCH(2020-C1695, Lists!$C$32:$C$40,1))","v":"41-50"},{"$f":"SUMPRODUCT((Data!$B$17:$B$19=Model!$F1695)*(Data!$C$16:$K$16=Model!$K1695)*(Data!$C$17:$K$19))","v":1.75},114.25,{"$f":"_xlfn.IFS(M1695>70,\"Serviceable\",M1695>30, \"Limited Life\",M1695<=30, \"Unserviceable\")","v":"Serviceable"}]
[null,2692,1996,"Wood Untreated Dressed","Serviceable","Class 1",2018,150,146.08000000000001,7,{"$f":"INDEX(Lists!$B$32:$B$40, MATCH(2020-C1696, Lists!$C$32:$C$40,1))","v":"21-30"},{"$f":"SUMPRODUCT((Data!$B$17:$B$19=Model!$F1696)*(Data!$C$16:$K$16=Model!$K1696)*(Data!$C$17:$K$19))","v":1.96},136.28,{"$f":"_xlfn.IFS(M1696>70,\"Serviceable\",M1696>30, \"Limited Life\",M1696<=30, \"Unserviceable\")","v":"Serviceable"}]
[null,2693,1966,"Wood Creos Impregnated","Serviceable","Class 3",2017,90,81.81,8,{"$f":"INDEX(Lists!$B$32:$B$40, MATCH(2020-C1697, Lists!$C$32:$C$40,1))","v":"51-60"},{"$f":"SUMPRODUCT((Data!$B$17:$B$19=Model!$F1697)*(Data!$C$16:$K$16=Model!$K1697)*(Data!$C$17:$K$19))","v":2.73},68.16,{"$f":"_xlfn.IFS(M1697>70,\"Serviceable\",M1697>30, \"Limited Life\",M1697<=30, \"Unserviceable\")","v":"Limited Life"}]
[null,2694,1948,"Wood Untreated Round","Serviceable","Class 1",2018,90,85.7,7,{"$f":"INDEX(Lists!$B$32:$B$40, MATCH(2020-C1698, Lists!$C$32:$C$40,1))","v":"71-80"},{"$f":"SUMPRODUCT((Data!$B$17:$B$19=Model!$F1698)*(Data!$C$16:$K$16=Model!$K1698)*(Data!$C$17:$K$19))","v":2.15},74.95,{"$f":"_xlfn.IFS(M1698>70,\"Serviceable\",M1698>30, \"Limited Life\",M1698<=30, \"Unserviceable\")","v":"Serviceable"}]
[null,2695,1971,"Wood Creos Impregnated","Serviceable","Class 3",2016,120,104.88,9,{"$f":"INDEX(Lists!$B$32:$B$40, MATCH(2020-C1699, Lists!$C$32:$C$40,1))","v":"41-50"},{"$f":"SUMPRODUCT((Data!$B$17:$B$19=Model!$F1699)*(Data!$C$16:$K$16=Model!$K1699)*(Data!$C$17:$K$19))","v":3.78},85.98,{"$f":"_xlfn.IFS(M1699>70,\"Serviceable\",M1699>30, \"Limited Life\",M1699<=30, \"Unserviceable\")","v":"Serviceable"}]
[null,2697,1971,"Wood Creos Impregnated","Serviceable","Class 3",2016,130,114.88,9,{"$f":"INDEX(Lists!$B$32:$B$40, MATCH(2020-C1700, Lists!$C$32:$C$40,1))","v":"41-50"},{"$f":"SUMPRODUCT((Data!$B$17:$B$19=Model!$F1700)*(Data!$C$16:$K$16=Model!$K1700)*(Data!$C$17:$K$19))","v":3.78},95.98,{"$f":"_xlfn.IFS(M1700>70,\"Serviceable\",M1700>30, \"Limited Life\",M1700<=30, \"Unserviceable\")","v":"Serviceable"}]
[null,2700,1970,"Wood Creos Impregnated","Serviceable","Class 3",2018,100,92.44,7,{"$f":"INDEX(Lists!$B$32:$B$40, MATCH(2020-C1701, Lists!$C$32:$C$40,1))","v":"41-50"},{"$f":"SUMPRODUCT((Data!$B$17:$B$19=Model!$F1701)*(Data!$C$16:$K$16=Model!$K1701)*(Data!$C$17:$K$19))","v":3.78},73.540000000000006,{"$f":"_xlfn.IFS(M1701>70,\"Serviceable\",M1701>30, \"Limited Life\",M1701<=30, \"Unserviceable\")","v":"Serviceable"}]
[null,2701,1958,"Wood Creos Impregnated","Serviceable","Class 3",2017,100,93.94,8,{"$f":"INDEX(Lists!$B$32:$B$40, MATCH(2020-C1702, Lists!$C$32:$C$40,1))","v":"61-70"},{"$f":"SUMPRODUCT((Data!$B$17:$B$19=Model!$F1702)*(Data!$C$16:$K$16=Model!$K1702)*(Data!$C$17:$K$19))","v":2.02},83.84,{"$f":"_xlfn.IFS(M1702>70,\"Serviceable\",M1702>30, \"Limited Life\",M1702<=30, \"Unserviceable\")","v":"Serviceable"}]
[null,2702,1966,"Wood Creos Impregnated","Serviceable","Class 2",2019,80,77.430000000000007,6,{"$f":"INDEX(Lists!$B$32:$B$40, MATCH(2020-C1703, Lists!$C$32:$C$40,1))","v":"51-60"},{"$f":"SUMPRODUCT((Data!$B$17:$B$19=Model!$F1703)*(Data!$C$16:$K$16=Model!$K1703)*(Data!$C$17:$K$19))","v":2.57},64.58,{"$f":"_xlfn.IFS(M1703>70,\"Serviceable\",M1703>30, \"Limited Life\",M1703<=30, \"Unserviceable\")","v":"Limited Life"}]
[null,2703,1954,"Wood Untreated Round","Serviceable","Class 1",2018,80,75.94,7,{"$f":"INDEX(Lists!$B$32:$B$40, MATCH(2020-C1704, Lists!$C$32:$C$40,1))","v":"61-70"},{"$f":"SUMPRODUCT((Data!$B$17:$B$19=Model!$F1704)*(Data!$C$16:$K$16=Model!$K1704)*(Data!$C$17:$K$19))","v":2.0299999999999998},65.790000000000006,{"$f":"_xlfn.IFS(M1704>70,\"Serviceable\",M1704>30, \"Limited Life\",M1704<=30, \"Unserviceable\")","v":"Limited Life"}]
[null,2704,1999,"CCA Treated Pole","Serviceable","Class 1",2017,150,144.12,8,{"$f":"INDEX(Lists!$B$32:$B$40, MATCH(2020-C1705, Lists!$C$32:$C$40,1))","v":"21-30"},{"$f":"SUMPRODUCT((Data!$B$17:$B$19=Model!$F1705)*(Data!$C$16:$K$16=Model!$K1705)*(Data!$C$17:$K$19))","v":1.96},134.32,{"$f":"_xlfn.IFS(M1705>70,\"Serviceable\",M1705>30, \"Limited Life\",M1705<=30, \"Unserviceable\")","v":"Serviceable"}]
[null,2705,1964,"Wood Creos Impregnated","Serviceable","Class 3",2016,110,99.08,9,{"$f":"INDEX(Lists!$B$32:$B$40, MATCH(2020-C1706, Lists!$C$32:$C$40,1))","v":"51-60"},{"$f":"SUMPRODUCT((Data!$B$17:$B$19=Model!$F1706)*(Data!$C$16:$K$16=Model!$K1706)*(Data!$C$17:$K$19))","v":2.73},85.43,{"$f":"_xlfn.IFS(M1706>70,\"Serviceable\",M1706>30, \"Limited Life\",M1706<=30, \"Unserviceable\")","v":"Serviceable"}]
[null,2706,1985,"Wood Untreated Dressed","Serviceable","Class 1",2018,130,124.96,7,{"$f":"INDEX(Lists!$B$32:$B$40, MATCH(2020-C1707, Lists!$C$32:$C$40,1))","v":"31-40"},{"$f":"SUMPRODUCT((Data!$B$17:$B$19=Model!$F1707)*(Data!$C$16:$K$16=Model!$K1707)*(Data!$C$17:$K$19))","v":2.52},112.36,{"$f":"_xlfn.IFS(M1707>70,\"Serviceable\",M1707>30, \"Limited Life\",M1707<=30, \"Unserviceable\")","v":"Serviceable"}]
[null,2707,1967,"Wood Creos Impregnated","Serviceable","Class 3",2017,100,91.81,8,{"$f":"INDEX(Lists!$B$32:$B$40, MATCH(2020-C1708, Lists!$C$32:$C$40,1))","v":"51-60"},{"$f":"SUMPRODUCT((Data!$B$17:$B$19=Model!$F1708)*(Data!$C$16:$K$16=Model!$K1708)*(Data!$C$17:$K$19))","v":2.73},78.16,{"$f":"_xlfn.IFS(M1708>70,\"Serviceable\",M1708>30, \"Limited Life\",M1708<=30, \"Unserviceable\")","v":"Serviceable"}]
[null,2708,1980,"Wood Creos Impregnated","Serviceable","Class 3",2020,90,90,5,{"$f":"INDEX(Lists!$B$32:$B$40, MATCH(2020-C1709, Lists!$C$32:$C$40,1))","v":"31-40"},{"$f":"SUMPRODUCT((Data!$B$17:$B$19=Model!$F1709)*(Data!$C$16:$K$16=Model!$K1709)*(Data!$C$17:$K$19))","v":3.22},73.900000000000006,{"$f":"_xlfn.IFS(M1709>70,\"Serviceable\",M1709>30, \"Limited Life\",M1709<=30, \"Unserviceable\")","v":"Serviceable"}]
[null,2709,1964,"Wood Creos Impregnated","Serviceable","Class 3",2016,90,79.08,9,{"$f":"INDEX(Lists!$B$32:$B$40, MATCH(2020-C1710, Lists!$C$32:$C$40,1))","v":"51-60"},{"$f":"SUMPRODUCT((Data!$B$17:$B$19=Model!$F1710)*(Data!$C$16:$K$16=Model!$K1710)*(Data!$C$17:$K$19))","v":2.73},65.430000000000007,{"$f":"_xlfn.IFS(M1710>70,\"Serviceable\",M1710>30, \"Limited Life\",M1710<=30, \"Unserviceable\")","v":"Limited Life"}]
[null,2713,1972,"Wood Creos Impregnated","Serviceable","Class 1",2017,120,114.75,8,{"$f":"INDEX(Lists!$B$32:$B$40, MATCH(2020-C1711, Lists!$C$32:$C$40,1))","v":"41-50"},{"$f":"SUMPRODUCT((Data!$B$17:$B$19=Model!$F1711)*(Data!$C$16:$K$16=Model!$K1711)*(Data!$C$17:$K$19))","v":1.75},106,{"$f":"_xlfn.IFS(M1711>70,\"Serviceable\",M1711>30, \"Limited Life\",M1711<=30, \"Unserviceable\")","v":"Serviceable"}]
[null,2714,1934,"CCA Treated Pole","Serviceable","Class 1",2020,120,120,5,{"$f":"INDEX(Lists!$B$32:$B$40, MATCH(2020-C1712, Lists!$C$32:$C$40,1))","v":"81-90"},{"$f":"SUMPRODUCT((Data!$B$17:$B$19=Model!$F1712)*(Data!$C$16:$K$16=Model!$K1712)*(Data!$C$17:$K$19))","v":2.81},105.95,{"$f":"_xlfn.IFS(M1712>70,\"Serviceable\",M1712>30, \"Limited Life\",M1712<=30, \"Unserviceable\")","v":"Serviceable"}]
[null,2715,1967,"Wood Creos Impregnated","Serviceable","Class 3",2017,110,101.81,8,{"$f":"INDEX(Lists!$B$32:$B$40, MATCH(2020-C1713, Lists!$C$32:$C$40,1))","v":"51-60"},{"$f":"SUMPRODUCT((Data!$B$17:$B$19=Model!$F1713)*(Data!$C$16:$K$16=Model!$K1713)*(Data!$C$17:$K$19))","v":2.73},88.16,{"$f":"_xlfn.IFS(M1713>70,\"Serviceable\",M1713>30, \"Limited Life\",M1713<=30, \"Unserviceable\")","v":"Serviceable"}]
[null,2716,1972,"Wood Creos Impregnated","Serviceable","Class 1",2016,120,113,9,{"$f":"INDEX(Lists!$B$32:$B$40, MATCH(2020-C1714, Lists!$C$32:$C$40,1))","v":"41-50"},{"$f":"SUMPRODUCT((Data!$B$17:$B$19=Model!$F1714)*(Data!$C$16:$K$16=Model!$K1714)*(Data!$C$17:$K$19))","v":1.75},104.25,{"$f":"_xlfn.IFS(M1714>70,\"Serviceable\",M1714>30, \"Limited Life\",M1714<=30, \"Unserviceable\")","v":"Serviceable"}]
[null,2719,1972,"Wood Creos Impregnated","Serviceable","Class 1",2017,130,124.75,8,{"$f":"INDEX(Lists!$B$32:$B$40, MATCH(2020-C1715, Lists!$C$32:$C$40,1))","v":"41-50"},{"$f":"SUMPRODUCT((Data!$B$17:$B$19=Model!$F1715)*(Data!$C$16:$K$16=Model!$K1715)*(Data!$C$17:$K$19))","v":1.75},116,{"$f":"_xlfn.IFS(M1715>70,\"Serviceable\",M1715>30, \"Limited Life\",M1715<=30, \"Unserviceable\")","v":"Serviceable"}]
[null,2720,1970,"Wood Creos Impregnated","Serviceable","Class 3",2018,100,92.44,7,{"$f":"INDEX(Lists!$B$32:$B$40, MATCH(2020-C1716, Lists!$C$32:$C$40,1))","v":"41-50"},{"$f":"SUMPRODUCT((Data!$B$17:$B$19=Model!$F1716)*(Data!$C$16:$K$16=Model!$K1716)*(Data!$C$17:$K$19))","v":3.78},73.540000000000006,{"$f":"_xlfn.IFS(M1716>70,\"Serviceable\",M1716>30, \"Limited Life\",M1716<=30, \"Unserviceable\")","v":"Serviceable"}]
[null,2721,1942,"Wood Untreated Dressed","Serviceable","Class 1",2017,100,93.55,8,{"$f":"INDEX(Lists!$B$32:$B$40, MATCH(2020-C1717, Lists!$C$32:$C$40,1))","v":"71-80"},{"$f":"SUMPRODUCT((Data!$B$17:$B$19=Model!$F1717)*(Data!$C$16:$K$16=Model!$K1717)*(Data!$C$17:$K$19))","v":2.15},82.8,{"$f":"_xlfn.IFS(M1717>70,\"Serviceable\",M1717>30, \"Limited Life\",M1717<=30, \"Unserviceable\")","v":"Serviceable"}]
[null,2722,1972,"Wood Creos Impregnated","Serviceable","Class 1",2017,120,114.75,8,{"$f":"INDEX(Lists!$B$32:$B$40, MATCH(2020-C1718, Lists!$C$32:$C$40,1))","v":"41-50"},{"$f":"SUMPRODUCT((Data!$B$17:$B$19=Model!$F1718)*(Data!$C$16:$K$16=Model!$K1718)*(Data!$C$17:$K$19))","v":1.75},106,{"$f":"_xlfn.IFS(M1718>70,\"Serviceable\",M1718>30, \"Limited Life\",M1718<=30, \"Unserviceable\")","v":"Serviceable"}]
[null,2723,1980,"Wood Untreated Dressed","Serviceable","Class 1",2018,100,94.96,7,{"$f":"INDEX(Lists!$B$32:$B$40, MATCH(2020-C1719, Lists!$C$32:$C$40,1))","v":"31-40"},{"$f":"SUMPRODUCT((Data!$B$17:$B$19=Model!$F1719)*(Data!$C$16:$K$16=Model!$K1719)*(Data!$C$17:$K$19))","v":2.52},82.36,{"$f":"_xlfn.IFS(M1719>70,\"Serviceable\",M1719>30, \"Limited Life\",M1719<=30, \"Unserviceable\")","v":"Serviceable"}]
[null,2724,1968,"Wood Creos Impregnated","Limited Life","Class 3",2020,70,70,5,{"$f":"INDEX(Lists!$B$32:$B$40, MATCH(2020-C1720, Lists!$C$32:$C$40,1))","v":"51-60"},{"$f":"SUMPRODUCT((Data!$B$17:$B$19=Model!$F1720)*(Data!$C$16:$K$16=Model!$K1720)*(Data!$C$17:$K$19))","v":2.73},56.35,{"$f":"_xlfn.IFS(M1720>70,\"Serviceable\",M1720>30, \"Limited Life\",M1720<=30, \"Unserviceable\")","v":"Limited Life"}]
[null,2725,1972,"Wood Creos Impregnated","Serviceable","Class 1",2017,140,134.75,8,{"$f":"INDEX(Lists!$B$32:$B$40, MATCH(2020-C1721, Lists!$C$32:$C$40,1))","v":"41-50"},{"$f":"SUMPRODUCT((Data!$B$17:$B$19=Model!$F1721)*(Data!$C$16:$K$16=Model!$K1721)*(Data!$C$17:$K$19))","v":1.75},126,{"$f":"_xlfn.IFS(M1721>70,\"Serviceable\",M1721>30, \"Limited Life\",M1721<=30, \"Unserviceable\")","v":"Serviceable"}]
[null,2726,1981,"Wood Untreated Dressed","Serviceable","Class 1",2018,100,94.96,7,{"$f":"INDEX(Lists!$B$32:$B$40, MATCH(2020-C1722, Lists!$C$32:$C$40,1))","v":"31-40"},{"$f":"SUMPRODUCT((Data!$B$17:$B$19=Model!$F1722)*(Data!$C$16:$K$16=Model!$K1722)*(Data!$C$17:$K$19))","v":2.52},82.36,{"$f":"_xlfn.IFS(M1722>70,\"Serviceable\",M1722>30, \"Limited Life\",M1722<=30, \"Unserviceable\")","v":"Serviceable"}]
[null,2727,1983,"Wood Untreated Dressed","Serviceable","Class 1",2017,140,132.44,8,{"$f":"INDEX(Lists!$B$32:$B$40, MATCH(2020-C1723, Lists!$C$32:$C$40,1))","v":"31-40"},{"$f":"SUMPRODUCT((Data!$B$17:$B$19=Model!$F1723)*(Data!$C$16:$K$16=Model!$K1723)*(Data!$C$17:$K$19))","v":2.52},119.84,{"$f":"_xlfn.IFS(M1723>70,\"Serviceable\",M1723>30, \"Limited Life\",M1723<=30, \"Unserviceable\")","v":"Serviceable"}]
[null,2728,1970,"Wood Creos Impregnated","Serviceable","Class 3",2016,90,74.88,9,{"$f":"INDEX(Lists!$B$32:$B$40, MATCH(2020-C1724, Lists!$C$32:$C$40,1))","v":"41-50"},{"$f":"SUMPRODUCT((Data!$B$17:$B$19=Model!$F1724)*(Data!$C$16:$K$16=Model!$K1724)*(Data!$C$17:$K$19))","v":3.78},55.980000000000004,{"$f":"_xlfn.IFS(M1724>70,\"Serviceable\",M1724>30, \"Limited Life\",M1724<=30, \"Unserviceable\")","v":"Limited Life"}]
[null,2730,1982,"Wood Untreated Dressed","Serviceable","Class 1",2017,100,92.44,8,{"$f":"INDEX(Lists!$B$32:$B$40, MATCH(2020-C1725, Lists!$C$32:$C$40,1))","v":"31-40"},{"$f":"SUMPRODUCT((Data!$B$17:$B$19=Model!$F1725)*(Data!$C$16:$K$16=Model!$K1725)*(Data!$C$17:$K$19))","v":2.52},79.84,{"$f":"_xlfn.IFS(M1725>70,\"Serviceable\",M1725>30, \"Limited Life\",M1725<=30, \"Unserviceable\")","v":"Serviceable"}]
[null,2731,1965,"Wood Creos Impregnated","Limited Life","Class 3",2016,80,69.08,9,{"$f":"INDEX(Lists!$B$32:$B$40, MATCH(2020-C1726, Lists!$C$32:$C$40,1))","v":"51-60"},{"$f":"SUMPRODUCT((Data!$B$17:$B$19=Model!$F1726)*(Data!$C$16:$K$16=Model!$K1726)*(Data!$C$17:$K$19))","v":2.73},55.43,{"$f":"_xlfn.IFS(M1726>70,\"Serviceable\",M1726>30, \"Limited Life\",M1726<=30, \"Unserviceable\")","v":"Limited Life"}]
[null,2732,1946,"Wood Untreated Dressed","Serviceable","Class 1",2018,100,95.7,7,{"$f":"INDEX(Lists!$B$32:$B$40, MATCH(2020-C1727, Lists!$C$32:$C$40,1))","v":"71-80"},{"$f":"SUMPRODUCT((Data!$B$17:$B$19=Model!$F1727)*(Data!$C$16:$K$16=Model!$K1727)*(Data!$C$17:$K$19))","v":2.15},84.95,{"$f":"_xlfn.IFS(M1727>70,\"Serviceable\",M1727>30, \"Limited Life\",M1727<=30, \"Unserviceable\")","v":"Serviceable"}]
[null,2734,2003,"CCA Treated Pole","Serviceable","Class 1",2016,160,155.76,9,{"$f":"INDEX(Lists!$B$32:$B$40, MATCH(2020-C1728, Lists!$C$32:$C$40,1))","v":"0-20"},{"$f":"SUMPRODUCT((Data!$B$17:$B$19=Model!$F1728)*(Data!$C$16:$K$16=Model!$K1728)*(Data!$C$17:$K$19))","v":1.06},150.46,{"$f":"_xlfn.IFS(M1728>70,\"Serviceable\",M1728>30, \"Limited Life\",M1728<=30, \"Unserviceable\")","v":"Serviceable"}]
[null,2735,1946,"Wood Untreated Dressed","Serviceable","Class 1",2020,99,99,5,{"$f":"INDEX(Lists!$B$32:$B$40, MATCH(2020-C1729, Lists!$C$32:$C$40,1))","v":"71-80"},{"$f":"SUMPRODUCT((Data!$B$17:$B$19=Model!$F1729)*(Data!$C$16:$K$16=Model!$K1729)*(Data!$C$17:$K$19))","v":2.15},88.25,{"$f":"_xlfn.IFS(M1729>70,\"Serviceable\",M1729>30, \"Limited Life\",M1729<=30, \"Unserviceable\")","v":"Serviceable"}]
[null,2736,2008,"CCA Treated Pole","Serviceable","Class 1",2017,150,146.82,8,{"$f":"INDEX(Lists!$B$32:$B$40, MATCH(2020-C1730, Lists!$C$32:$C$40,1))","v":"0-20"},{"$f":"SUMPRODUCT((Data!$B$17:$B$19=Model!$F1730)*(Data!$C$16:$K$16=Model!$K1730)*(Data!$C$17:$K$19))","v":1.06},141.52000000000001,{"$f":"_xlfn.IFS(M1730>70,\"Serviceable\",M1730>30, \"Limited Life\",M1730<=30, \"Unserviceable\")","v":"Serviceable"}]
[null,2737,1972,"Wood Creos Impregnated","Serviceable","Class 1",2016,110,103,9,{"$f":"INDEX(Lists!$B$32:$B$40, MATCH(2020-C1731, Lists!$C$32:$C$40,1))","v":"41-50"},{"$f":"SUMPRODUCT((Data!$B$17:$B$19=Model!$F1731)*(Data!$C$16:$K$16=Model!$K1731)*(Data!$C$17:$K$19))","v":1.75},94.25,{"$f":"_xlfn.IFS(M1731>70,\"Serviceable\",M1731>30, \"Limited Life\",M1731<=30, \"Unserviceable\")","v":"Serviceable"}]
[null,2739,1935,"Wood Untreated Dressed","Serviceable","Class 1",2017,100,91.57,8,{"$f":"INDEX(Lists!$B$32:$B$40, MATCH(2020-C1732, Lists!$C$32:$C$40,1))","v":"81-90"},{"$f":"SUMPRODUCT((Data!$B$17:$B$19=Model!$F1732)*(Data!$C$16:$K$16=Model!$K1732)*(Data!$C$17:$K$19))","v":2.81},77.52,{"$f":"_xlfn.IFS(M1732>70,\"Serviceable\",M1732>30, \"Limited Life\",M1732<=30, \"Unserviceable\")","v":"Serviceable"}]
[null,2740,1972,"Wood Creos Impregnated","Serviceable","Class 1",2016,120,113,9,{"$f":"INDEX(Lists!$B$32:$B$40, MATCH(2020-C1733, Lists!$C$32:$C$40,1))","v":"41-50"},{"$f":"SUMPRODUCT((Data!$B$17:$B$19=Model!$F1733)*(Data!$C$16:$K$16=Model!$K1733)*(Data!$C$17:$K$19))","v":1.75},104.25,{"$f":"_xlfn.IFS(M1733>70,\"Serviceable\",M1733>30, \"Limited Life\",M1733<=30, \"Unserviceable\")","v":"Serviceable"}]
[null,2742,2008,"CCA Treated Pole","Serviceable","Class 2",2017,150,146.34,8,{"$f":"INDEX(Lists!$B$32:$B$40, MATCH(2020-C1734, Lists!$C$32:$C$40,1))","v":"0-20"},{"$f":"SUMPRODUCT((Data!$B$17:$B$19=Model!$F1734)*(Data!$C$16:$K$16=Model!$K1734)*(Data!$C$17:$K$19))","v":1.22},140.24,{"$f":"_xlfn.IFS(M1734>70,\"Serviceable\",M1734>30, \"Limited Life\",M1734<=30, \"Unserviceable\")","v":"Serviceable"}]
[null,2744,1946,"Wood Untreated Dressed","Serviceable","Class 1",2020,100,100,5,{"$f":"INDEX(Lists!$B$32:$B$40, MATCH(2020-C1735, Lists!$C$32:$C$40,1))","v":"71-80"},{"$f":"SUMPRODUCT((Data!$B$17:$B$19=Model!$F1735)*(Data!$C$16:$K$16=Model!$K1735)*(Data!$C$17:$K$19))","v":2.15},89.25,{"$f":"_xlfn.IFS(M1735>70,\"Serviceable\",M1735>30, \"Limited Life\",M1735<=30, \"Unserviceable\")","v":"Serviceable"}]
[null,2745,2008,"CCA Treated Pole","Serviceable","Class 2",2017,150,146.34,{"$f":"2025-G1736","v":8},{"$f":"INDEX(Lists!$B$32:$B$40, MATCH(2020-C1736, Lists!$C$32:$C$40,1))","v":"0-20"},{"$f":"SUMPRODUCT((Data!$B$17:$B$19=Model!$F1736)*(Data!$C$16:$K$16=Model!$K1736)*(Data!$C$17:$K$19))","v":1.22},{"$f":"IF(IF(H1736>=700,999,(H1736-L1736*J1736))<0,0,IF(H1736>=700,999,(H1736-L1736*J1736)))","v":140.24},{"$f":"_xlfn.IFS(M1736>70,\"Serviceable\",M1736>30, \"Limited Life\",M1736<=30, \"Unserviceable\")","v":"Serviceable"}]
[null,2747,1933,"Wood Untreated Dressed","Serviceable","Class 1",2020,100,100,5,{"$f":"INDEX(Lists!$B$32:$B$40, MATCH(2020-C1737, Lists!$C$32:$C$40,1))","v":"81-90"},{"$f":"SUMPRODUCT((Data!$B$17:$B$19=Model!$F1737)*(Data!$C$16:$K$16=Model!$K1737)*(Data!$C$17:$K$19))","v":2.81},85.95,{"$f":"_xlfn.IFS(M1737>70,\"Serviceable\",M1737>30, \"Limited Life\",M1737<=30, \"Unserviceable\")","v":"Serviceable"}]
[null,2748,1983,"Wood Untreated Dressed","Serviceable","Class 1",2017,100,92.44,8,{"$f":"INDEX(Lists!$B$32:$B$40, MATCH(2020-C1738, Lists!$C$32:$C$40,1))","v":"31-40"},{"$f":"SUMPRODUCT((Data!$B$17:$B$19=Model!$F1738)*(Data!$C$16:$K$16=Model!$K1738)*(Data!$C$17:$K$19))","v":2.52},79.84,{"$f":"_xlfn.IFS(M1738>70,\"Serviceable\",M1738>30, \"Limited Life\",M1738<=30, \"Unserviceable\")","v":"Serviceable"}]
[null,2749,1995,"CCA Treated Pole","Serviceable","Class 1",2016,150,142.16,9,{"$f":"INDEX(Lists!$B$32:$B$40, MATCH(2020-C1739, Lists!$C$32:$C$40,1))","v":"21-30"},{"$f":"SUMPRODUCT((Data!$B$17:$B$19=Model!$F1739)*(Data!$C$16:$K$16=Model!$K1739)*(Data!$C$17:$K$19))","v":1.96},132.36000000000001,{"$f":"_xlfn.IFS(M1739>70,\"Serviceable\",M1739>30, \"Limited Life\",M1739<=30, \"Unserviceable\")","v":"Serviceable"}]
[null,2752,1991,"Wood Untreated Dressed","Serviceable","Class 1",2016,130,122.16,9,{"$f":"INDEX(Lists!$B$32:$B$40, MATCH(2020-C1740, Lists!$C$32:$C$40,1))","v":"21-30"},{"$f":"SUMPRODUCT((Data!$B$17:$B$19=Model!$F1740)*(Data!$C$16:$K$16=Model!$K1740)*(Data!$C$17:$K$19))","v":1.96},112.36,{"$f":"_xlfn.IFS(M1740>70,\"Serviceable\",M1740>30, \"Limited Life\",M1740<=30, \"Unserviceable\")","v":"Serviceable"}]
[null,2753,1982,"Wood Untreated Dressed","Serviceable","Class 1",2020,120,120,5,{"$f":"INDEX(Lists!$B$32:$B$40, MATCH(2020-C1741, Lists!$C$32:$C$40,1))","v":"31-40"},{"$f":"SUMPRODUCT((Data!$B$17:$B$19=Model!$F1741)*(Data!$C$16:$K$16=Model!$K1741)*(Data!$C$17:$K$19))","v":2.52},107.4,{"$f":"_xlfn.IFS(M1741>70,\"Serviceable\",M1741>30, \"Limited Life\",M1741<=30, \"Unserviceable\")","v":"Serviceable"}]
[null,2754,1988,"Wood Creos Impregnated","Serviceable","Class 1",2017,100,92.44,8,{"$f":"INDEX(Lists!$B$32:$B$40, MATCH(2020-C1742, Lists!$C$32:$C$40,1))","v":"31-40"},{"$f":"SUMPRODUCT((Data!$B$17:$B$19=Model!$F1742)*(Data!$C$16:$K$16=Model!$K1742)*(Data!$C$17:$K$19))","v":2.52},79.84,{"$f":"_xlfn.IFS(M1742>70,\"Serviceable\",M1742>30, \"Limited Life\",M1742<=30, \"Unserviceable\")","v":"Serviceable"}]
[null,2756,1964,"Wood Creos Impregnated","Serviceable","Class 3",2020,130,130,5,{"$f":"INDEX(Lists!$B$32:$B$40, MATCH(2020-C1743, Lists!$C$32:$C$40,1))","v":"51-60"},{"$f":"SUMPRODUCT((Data!$B$17:$B$19=Model!$F1743)*(Data!$C$16:$K$16=Model!$K1743)*(Data!$C$17:$K$19))","v":2.73},116.35,{"$f":"_xlfn.IFS(M1743>70,\"Serviceable\",M1743>30, \"Limited Life\",M1743<=30, \"Unserviceable\")","v":"Serviceable"}]
[null,2757,1954,"Wood Untreated Round","Serviceable","Class 2",2017,80,73.31,8,{"$f":"INDEX(Lists!$B$32:$B$40, MATCH(2020-C1744, Lists!$C$32:$C$40,1))","v":"61-70"},{"$f":"SUMPRODUCT((Data!$B$17:$B$19=Model!$F1744)*(Data!$C$16:$K$16=Model!$K1744)*(Data!$C$17:$K$19))","v":2.23},62.16,{"$f":"_xlfn.IFS(M1744>70,\"Serviceable\",M1744>30, \"Limited Life\",M1744<=30, \"Unserviceable\")","v":"Limited Life"}]
[null,2758,1969,"Wood Creos Impregnated","Serviceable","Class 3",2016,110,99.08,9,{"$f":"INDEX(Lists!$B$32:$B$40, MATCH(2020-C1745, Lists!$C$32:$C$40,1))","v":"51-60"},{"$f":"SUMPRODUCT((Data!$B$17:$B$19=Model!$F1745)*(Data!$C$16:$K$16=Model!$K1745)*(Data!$C$17:$K$19))","v":2.73},85.43,{"$f":"_xlfn.IFS(M1745>70,\"Serviceable\",M1745>30, \"Limited Life\",M1745<=30, \"Unserviceable\")","v":"Serviceable"}]
[null,2760,1989,"Wood Untreated Dressed","Serviceable","Class 1",2017,120,112.44,8,{"$f":"INDEX(Lists!$B$32:$B$40, MATCH(2020-C1746, Lists!$C$32:$C$40,1))","v":"31-40"},{"$f":"SUMPRODUCT((Data!$B$17:$B$19=Model!$F1746)*(Data!$C$16:$K$16=Model!$K1746)*(Data!$C$17:$K$19))","v":2.52},99.84,{"$f":"_xlfn.IFS(M1746>70,\"Serviceable\",M1746>30, \"Limited Life\",M1746<=30, \"Unserviceable\")","v":"Serviceable"}]
[null,2761,1969,"Wood Creos Impregnated","Serviceable","Class 3",2016,90,79.08,9,{"$f":"INDEX(Lists!$B$32:$B$40, MATCH(2020-C1747, Lists!$C$32:$C$40,1))","v":"51-60"},{"$f":"SUMPRODUCT((Data!$B$17:$B$19=Model!$F1747)*(Data!$C$16:$K$16=Model!$K1747)*(Data!$C$17:$K$19))","v":2.73},65.430000000000007,{"$f":"_xlfn.IFS(M1747>70,\"Serviceable\",M1747>30, \"Limited Life\",M1747<=30, \"Unserviceable\")","v":"Limited Life"}]
[null,2762,1974,"Wood Untreated Dressed","Serviceable","Class 1",2020,140,140,5,{"$f":"INDEX(Lists!$B$32:$B$40, MATCH(2020-C1748, Lists!$C$32:$C$40,1))","v":"41-50"},{"$f":"SUMPRODUCT((Data!$B$17:$B$19=Model!$F1748)*(Data!$C$16:$K$16=Model!$K1748)*(Data!$C$17:$K$19))","v":1.75},131.25,{"$f":"_xlfn.IFS(M1748>70,\"Serviceable\",M1748>30, \"Limited Life\",M1748<=30, \"Unserviceable\")","v":"Serviceable"}]
[null,2763,1971,"Wood Creos Impregnated","Serviceable","Class 3",2017,90,78.66,8,{"$f":"INDEX(Lists!$B$32:$B$40, MATCH(2020-C1749, Lists!$C$32:$C$40,1))","v":"41-50"},{"$f":"SUMPRODUCT((Data!$B$17:$B$19=Model!$F1749)*(Data!$C$16:$K$16=Model!$K1749)*(Data!$C$17:$K$19))","v":3.78},59.760000000000005,{"$f":"_xlfn.IFS(M1749>70,\"Serviceable\",M1749>30, \"Limited Life\",M1749<=30, \"Unserviceable\")","v":"Limited Life"}]
[null,2764,1969,"Wood Creos Impregnated","Serviceable","Class 3",2019,100,97.27,6,{"$f":"INDEX(Lists!$B$32:$B$40, MATCH(2020-C1750, Lists!$C$32:$C$40,1))","v":"51-60"},{"$f":"SUMPRODUCT((Data!$B$17:$B$19=Model!$F1750)*(Data!$C$16:$K$16=Model!$K1750)*(Data!$C$17:$K$19))","v":2.73},83.62,{"$f":"_xlfn.IFS(M1750>70,\"Serviceable\",M1750>30, \"Limited Life\",M1750<=30, \"Unserviceable\")","v":"Serviceable"}]
[null,2766,1984,"Wood Untreated Dressed","Serviceable","Class 1",2017,150,142.44,8,{"$f":"INDEX(Lists!$B$32:$B$40, MATCH(2020-C1751, Lists!$C$32:$C$40,1))","v":"31-40"},{"$f":"SUMPRODUCT((Data!$B$17:$B$19=Model!$F1751)*(Data!$C$16:$K$16=Model!$K1751)*(Data!$C$17:$K$19))","v":2.52},129.84,{"$f":"_xlfn.IFS(M1751>70,\"Serviceable\",M1751>30, \"Limited Life\",M1751<=30, \"Unserviceable\")","v":"Serviceable"}]
[null,2767,1968,"Wood Creos Impregnated","Serviceable","Class 3",2016,100,89.08,9,{"$f":"INDEX(Lists!$B$32:$B$40, MATCH(2020-C1752, Lists!$C$32:$C$40,1))","v":"51-60"},{"$f":"SUMPRODUCT((Data!$B$17:$B$19=Model!$F1752)*(Data!$C$16:$K$16=Model!$K1752)*(Data!$C$17:$K$19))","v":2.73},75.430000000000007,{"$f":"_xlfn.IFS(M1752>70,\"Serviceable\",M1752>30, \"Limited Life\",M1752<=30, \"Unserviceable\")","v":"Serviceable"}]
[null,2768,1954,"Wood Untreated Dressed","Serviceable","Class 1",2020,100,100,5,{"$f":"INDEX(Lists!$B$32:$B$40, MATCH(2020-C1753, Lists!$C$32:$C$40,1))","v":"61-70"},{"$f":"SUMPRODUCT((Data!$B$17:$B$19=Model!$F1753)*(Data!$C$16:$K$16=Model!$K1753)*(Data!$C$17:$K$19))","v":2.0299999999999998},89.85,{"$f":"_xlfn.IFS(M1753>70,\"Serviceable\",M1753>30, \"Limited Life\",M1753<=30, \"Unserviceable\")","v":"Serviceable"}]
[null,2769,2004,"CCA Treated Pole","Serviceable","Class 2",2017,150,146.34,8,{"$f":"INDEX(Lists!$B$32:$B$40, MATCH(2020-C1754, Lists!$C$32:$C$40,1))","v":"0-20"},{"$f":"SUMPRODUCT((Data!$B$17:$B$19=Model!$F1754)*(Data!$C$16:$K$16=Model!$K1754)*(Data!$C$17:$K$19))","v":1.22},140.24,{"$f":"_xlfn.IFS(M1754>70,\"Serviceable\",M1754>30, \"Limited Life\",M1754<=30, \"Unserviceable\")","v":"Serviceable"}]
[null,2770,1969,"Wood Creos Impregnated","Serviceable","Class 3",2016,110,99.08,9,{"$f":"INDEX(Lists!$B$32:$B$40, MATCH(2020-C1755, Lists!$C$32:$C$40,1))","v":"51-60"},{"$f":"SUMPRODUCT((Data!$B$17:$B$19=Model!$F1755)*(Data!$C$16:$K$16=Model!$K1755)*(Data!$C$17:$K$19))","v":2.73},85.43,{"$f":"_xlfn.IFS(M1755>70,\"Serviceable\",M1755>30, \"Limited Life\",M1755<=30, \"Unserviceable\")","v":"Serviceable"}]
[null,2771,1970,"Wood Untreated Round","Serviceable","Class 2",2020,90,90,5,{"$f":"INDEX(Lists!$B$32:$B$40, MATCH(2020-C1756, Lists!$C$32:$C$40,1))","v":"41-50"},{"$f":"SUMPRODUCT((Data!$B$17:$B$19=Model!$F1756)*(Data!$C$16:$K$16=Model!$K1756)*(Data!$C$17:$K$19))","v":3.28},73.599999999999994,{"$f":"_xlfn.IFS(M1756>70,\"Serviceable\",M1756>30, \"Limited Life\",M1756<=30, \"Unserviceable\")","v":"Serviceable"}]
[null,2773,1969,"Wood Creos Impregnated","Serviceable","Class 3",2016,100,89.08,9,{"$f":"INDEX(Lists!$B$32:$B$40, MATCH(2020-C1757, Lists!$C$32:$C$40,1))","v":"51-60"},{"$f":"SUMPRODUCT((Data!$B$17:$B$19=Model!$F1757)*(Data!$C$16:$K$16=Model!$K1757)*(Data!$C$17:$K$19))","v":2.73},75.430000000000007,{"$f":"_xlfn.IFS(M1757>70,\"Serviceable\",M1757>30, \"Limited Life\",M1757<=30, \"Unserviceable\")","v":"Serviceable"}]
[null,2774,1974,"Wood Untreated Dressed","Serviceable","Class 1",2020,130,130,5,{"$f":"INDEX(Lists!$B$32:$B$40, MATCH(2020-C1758, Lists!$C$32:$C$40,1))","v":"41-50"},{"$f":"SUMPRODUCT((Data!$B$17:$B$19=Model!$F1758)*(Data!$C$16:$K$16=Model!$K1758)*(Data!$C$17:$K$19))","v":1.75},121.25,{"$f":"_xlfn.IFS(M1758>70,\"Serviceable\",M1758>30, \"Limited Life\",M1758<=30, \"Unserviceable\")","v":"Serviceable"}]
[null,2775,1936,"Wood Untreated Dressed","Serviceable","Class 1",2017,130,121.57,8,{"$f":"INDEX(Lists!$B$32:$B$40, MATCH(2020-C1759, Lists!$C$32:$C$40,1))","v":"81-90"},{"$f":"SUMPRODUCT((Data!$B$17:$B$19=Model!$F1759)*(Data!$C$16:$K$16=Model!$K1759)*(Data!$C$17:$K$19))","v":2.81},107.52,{"$f":"_xlfn.IFS(M1759>70,\"Serviceable\",M1759>30, \"Limited Life\",M1759<=30, \"Unserviceable\")","v":"Serviceable"}]
[null,2782,1988,"Wood Untreated Dressed","Serviceable","Class 1",2016,130,119.92,9,{"$f":"INDEX(Lists!$B$32:$B$40, MATCH(2020-C1760, Lists!$C$32:$C$40,1))","v":"31-40"},{"$f":"SUMPRODUCT((Data!$B$17:$B$19=Model!$F1760)*(Data!$C$16:$K$16=Model!$K1760)*(Data!$C$17:$K$19))","v":2.52},107.32,{"$f":"_xlfn.IFS(M1760>70,\"Serviceable\",M1760>30, \"Limited Life\",M1760<=30, \"Unserviceable\")","v":"Serviceable"}]
[null,2783,1951,"Wood Untreated Dressed","Serviceable","Class 1",2020,90,90,5,{"$f":"INDEX(Lists!$B$32:$B$40, MATCH(2020-C1761, Lists!$C$32:$C$40,1))","v":"61-70"},{"$f":"SUMPRODUCT((Data!$B$17:$B$19=Model!$F1761)*(Data!$C$16:$K$16=Model!$K1761)*(Data!$C$17:$K$19))","v":2.0299999999999998},79.849999999999994,{"$f":"_xlfn.IFS(M1761>70,\"Serviceable\",M1761>30, \"Limited Life\",M1761<=30, \"Unserviceable\")","v":"Serviceable"}]
[null,2784,1935,"Wood Untreated Dressed","Serviceable","Class 1",2018,100,94.38,7,{"$f":"INDEX(Lists!$B$32:$B$40, MATCH(2020-C1762, Lists!$C$32:$C$40,1))","v":"81-90"},{"$f":"SUMPRODUCT((Data!$B$17:$B$19=Model!$F1762)*(Data!$C$16:$K$16=Model!$K1762)*(Data!$C$17:$K$19))","v":2.81},80.33,{"$f":"_xlfn.IFS(M1762>70,\"Serviceable\",M1762>30, \"Limited Life\",M1762<=30, \"Unserviceable\")","v":"Serviceable"}]
[null,2786,1981,"Wood Untreated Dressed","Serviceable","Class 1",2020,120,120,5,{"$f":"INDEX(Lists!$B$32:$B$40, MATCH(2020-C1763, Lists!$C$32:$C$40,1))","v":"31-40"},{"$f":"SUMPRODUCT((Data!$B$17:$B$19=Model!$F1763)*(Data!$C$16:$K$16=Model!$K1763)*(Data!$C$17:$K$19))","v":2.52},107.4,{"$f":"_xlfn.IFS(M1763>70,\"Serviceable\",M1763>30, \"Limited Life\",M1763<=30, \"Unserviceable\")","v":"Serviceable"}]
[null,2787,1985,"Wood Untreated Dressed","Serviceable","Class 1",2019,120,117.48,6,{"$f":"INDEX(Lists!$B$32:$B$40, MATCH(2020-C1764, Lists!$C$32:$C$40,1))","v":"31-40"},{"$f":"SUMPRODUCT((Data!$B$17:$B$19=Model!$F1764)*(Data!$C$16:$K$16=Model!$K1764)*(Data!$C$17:$K$19))","v":2.52},104.88,{"$f":"_xlfn.IFS(M1764>70,\"Serviceable\",M1764>30, \"Limited Life\",M1764<=30, \"Unserviceable\")","v":"Serviceable"}]
[null,2789,1973,"Wood Creos Impregnated","Serviceable","Class 1",2020,100,100,5,{"$f":"INDEX(Lists!$B$32:$B$40, MATCH(2020-C1765, Lists!$C$32:$C$40,1))","v":"41-50"},{"$f":"SUMPRODUCT((Data!$B$17:$B$19=Model!$F1765)*(Data!$C$16:$K$16=Model!$K1765)*(Data!$C$17:$K$19))","v":1.75},91.25,{"$f":"_xlfn.IFS(M1765>70,\"Serviceable\",M1765>30, \"Limited Life\",M1765<=30, \"Unserviceable\")","v":"Serviceable"}]
[null,2792,1974,"Wood Creos Impregnated","Serviceable","Class 1",2020,130,130,5,{"$f":"INDEX(Lists!$B$32:$B$40, MATCH(2020-C1766, Lists!$C$32:$C$40,1))","v":"41-50"},{"$f":"SUMPRODUCT((Data!$B$17:$B$19=Model!$F1766)*(Data!$C$16:$K$16=Model!$K1766)*(Data!$C$17:$K$19))","v":1.75},121.25,{"$f":"_xlfn.IFS(M1766>70,\"Serviceable\",M1766>30, \"Limited Life\",M1766<=30, \"Unserviceable\")","v":"Serviceable"}]
[null,2793,1988,"Wood Untreated Dressed","Serviceable","Class 1",2018,130,124.96,7,{"$f":"INDEX(Lists!$B$32:$B$40, MATCH(2020-C1767, Lists!$C$32:$C$40,1))","v":"31-40"},{"$f":"SUMPRODUCT((Data!$B$17:$B$19=Model!$F1767)*(Data!$C$16:$K$16=Model!$K1767)*(Data!$C$17:$K$19))","v":2.52},112.36,{"$f":"_xlfn.IFS(M1767>70,\"Serviceable\",M1767>30, \"Limited Life\",M1767<=30, \"Unserviceable\")","v":"Serviceable"}]
[null,2795,1973,"Wood Creos Impregnated","Serviceable","Class 1",2020,140,140,5,{"$f":"INDEX(Lists!$B$32:$B$40, MATCH(2020-C1768, Lists!$C$32:$C$40,1))","v":"41-50"},{"$f":"SUMPRODUCT((Data!$B$17:$B$19=Model!$F1768)*(Data!$C$16:$K$16=Model!$K1768)*(Data!$C$17:$K$19))","v":1.75},131.25,{"$f":"_xlfn.IFS(M1768>70,\"Serviceable\",M1768>30, \"Limited Life\",M1768<=30, \"Unserviceable\")","v":"Serviceable"}]
[null,2796,1968,"Wood Creos Impregnated","Serviceable","Class 3",2017,100,91.81,8,{"$f":"INDEX(Lists!$B$32:$B$40, MATCH(2020-C1769, Lists!$C$32:$C$40,1))","v":"51-60"},{"$f":"SUMPRODUCT((Data!$B$17:$B$19=Model!$F1769)*(Data!$C$16:$K$16=Model!$K1769)*(Data!$C$17:$K$19))","v":2.73},78.16,{"$f":"_xlfn.IFS(M1769>70,\"Serviceable\",M1769>30, \"Limited Life\",M1769<=30, \"Unserviceable\")","v":"Serviceable"}]
[null,2799,1968,"Wood Creos Impregnated","Serviceable","Class 2",2017,100,92.29,8,{"$f":"INDEX(Lists!$B$32:$B$40, MATCH(2020-C1770, Lists!$C$32:$C$40,1))","v":"51-60"},{"$f":"SUMPRODUCT((Data!$B$17:$B$19=Model!$F1770)*(Data!$C$16:$K$16=Model!$K1770)*(Data!$C$17:$K$19))","v":2.57},79.44,{"$f":"_xlfn.IFS(M1770>70,\"Serviceable\",M1770>30, \"Limited Life\",M1770<=30, \"Unserviceable\")","v":"Serviceable"}]
[null,2801,1965,"Wood Creos Impregnated","Serviceable","Class 2",2020,90,90,5,{"$f":"INDEX(Lists!$B$32:$B$40, MATCH(2020-C1771, Lists!$C$32:$C$40,1))","v":"51-60"},{"$f":"SUMPRODUCT((Data!$B$17:$B$19=Model!$F1771)*(Data!$C$16:$K$16=Model!$K1771)*(Data!$C$17:$K$19))","v":2.57},77.150000000000006,{"$f":"_xlfn.IFS(M1771>70,\"Serviceable\",M1771>30, \"Limited Life\",M1771<=30, \"Unserviceable\")","v":"Serviceable"}]
[null,2802,1980,"Wood Creos Impregnated","Serviceable","Class 3",2017,100,90.34,8,{"$f":"INDEX(Lists!$B$32:$B$40, MATCH(2020-C1772, Lists!$C$32:$C$40,1))","v":"31-40"},{"$f":"SUMPRODUCT((Data!$B$17:$B$19=Model!$F1772)*(Data!$C$16:$K$16=Model!$K1772)*(Data!$C$17:$K$19))","v":3.22},74.239999999999995,{"$f":"_xlfn.IFS(M1772>70,\"Serviceable\",M1772>30, \"Limited Life\",M1772<=30, \"Unserviceable\")","v":"Serviceable"}]
[null,2805,1980,"Wood Untreated Dressed","Serviceable","Class 1",2017,100,92.44,8,{"$f":"INDEX(Lists!$B$32:$B$40, MATCH(2020-C1773, Lists!$C$32:$C$40,1))","v":"31-40"},{"$f":"SUMPRODUCT((Data!$B$17:$B$19=Model!$F1773)*(Data!$C$16:$K$16=Model!$K1773)*(Data!$C$17:$K$19))","v":2.52},79.84,{"$f":"_xlfn.IFS(M1773>70,\"Serviceable\",M1773>30, \"Limited Life\",M1773<=30, \"Unserviceable\")","v":"Serviceable"}]
[null,2807,1970,"Wood Creos Impregnated","Serviceable","Class 3",2018,80,72.44,7,{"$f":"INDEX(Lists!$B$32:$B$40, MATCH(2020-C1774, Lists!$C$32:$C$40,1))","v":"41-50"},{"$f":"SUMPRODUCT((Data!$B$17:$B$19=Model!$F1774)*(Data!$C$16:$K$16=Model!$K1774)*(Data!$C$17:$K$19))","v":3.78},53.540000000000006,{"$f":"_xlfn.IFS(M1774>70,\"Serviceable\",M1774>30, \"Limited Life\",M1774<=30, \"Unserviceable\")","v":"Limited Life"}]
[null,2810,2009,"CCA Treated Pole","Serviceable","Class 2",2018,120,117.56,7,{"$f":"INDEX(Lists!$B$32:$B$40, MATCH(2020-C1775, Lists!$C$32:$C$40,1))","v":"0-20"},{"$f":"SUMPRODUCT((Data!$B$17:$B$19=Model!$F1775)*(Data!$C$16:$K$16=Model!$K1775)*(Data!$C$17:$K$19))","v":1.22},111.46000000000001,{"$f":"_xlfn.IFS(M1775>70,\"Serviceable\",M1775>30, \"Limited Life\",M1775<=30, \"Unserviceable\")","v":"Serviceable"}]
[null,2813,2009,"CCA Treated Pole","Serviceable","Class 2",2020,162.49719689682513,162.49719689682513,5,{"$f":"INDEX(Lists!$B$32:$B$40, MATCH(2020-C1776, Lists!$C$32:$C$40,1))","v":"0-20"},{"$f":"SUMPRODUCT((Data!$B$17:$B$19=Model!$F1776)*(Data!$C$16:$K$16=Model!$K1776)*(Data!$C$17:$K$19))","v":1.22},156.39719689682514,{"$f":"_xlfn.IFS(M1776>70,\"Serviceable\",M1776>30, \"Limited Life\",M1776<=30, \"Unserviceable\")","v":"Serviceable"}]
[null,2816,1980,"Wood Creos Impregnated","Serviceable","Class 3",2016,100,87.12,9,{"$f":"INDEX(Lists!$B$32:$B$40, MATCH(2020-C1777, Lists!$C$32:$C$40,1))","v":"31-40"},{"$f":"SUMPRODUCT((Data!$B$17:$B$19=Model!$F1777)*(Data!$C$16:$K$16=Model!$K1777)*(Data!$C$17:$K$19))","v":3.22},71.02,{"$f":"_xlfn.IFS(M1777>70,\"Serviceable\",M1777>30, \"Limited Life\",M1777<=30, \"Unserviceable\")","v":"Serviceable"}]
[null,2820,1997,"CCA Treated Pole","Serviceable","Class 1",2016,150,142.16,9,{"$f":"INDEX(Lists!$B$32:$B$40, MATCH(2020-C1778, Lists!$C$32:$C$40,1))","v":"21-30"},{"$f":"SUMPRODUCT((Data!$B$17:$B$19=Model!$F1778)*(Data!$C$16:$K$16=Model!$K1778)*(Data!$C$17:$K$19))","v":1.96},132.36000000000001,{"$f":"_xlfn.IFS(M1778>70,\"Serviceable\",M1778>30, \"Limited Life\",M1778<=30, \"Unserviceable\")","v":"Serviceable"}]
[null,2821,1986,"Wood Untreated Dressed","Serviceable","Class 1",2020,120,120,5,{"$f":"INDEX(Lists!$B$32:$B$40, MATCH(2020-C1779, Lists!$C$32:$C$40,1))","v":"31-40"},{"$f":"SUMPRODUCT((Data!$B$17:$B$19=Model!$F1779)*(Data!$C$16:$K$16=Model!$K1779)*(Data!$C$17:$K$19))","v":2.52},107.4,{"$f":"_xlfn.IFS(M1779>70,\"Serviceable\",M1779>30, \"Limited Life\",M1779<=30, \"Unserviceable\")","v":"Serviceable"}]
[null,2822,1984,"Wood Untreated Dressed","Serviceable","Class 1",2018,120,114.96,7,{"$f":"INDEX(Lists!$B$32:$B$40, MATCH(2020-C1780, Lists!$C$32:$C$40,1))","v":"31-40"},{"$f":"SUMPRODUCT((Data!$B$17:$B$19=Model!$F1780)*(Data!$C$16:$K$16=Model!$K1780)*(Data!$C$17:$K$19))","v":2.52},102.36,{"$f":"_xlfn.IFS(M1780>70,\"Serviceable\",M1780>30, \"Limited Life\",M1780<=30, \"Unserviceable\")","v":"Serviceable"}]
[null,2823,1968,"Wood Creos Impregnated","Serviceable","Class 3",2016,100,89.08,9,{"$f":"INDEX(Lists!$B$32:$B$40, MATCH(2020-C1781, Lists!$C$32:$C$40,1))","v":"51-60"},{"$f":"SUMPRODUCT((Data!$B$17:$B$19=Model!$F1781)*(Data!$C$16:$K$16=Model!$K1781)*(Data!$C$17:$K$19))","v":2.73},75.430000000000007,{"$f":"_xlfn.IFS(M1781>70,\"Serviceable\",M1781>30, \"Limited Life\",M1781<=30, \"Unserviceable\")","v":"Serviceable"}]
[null,2824,1959,"Wood Creos Impregnated","Serviceable","Class 3",2018,80,75.959999999999994,7,{"$f":"INDEX(Lists!$B$32:$B$40, MATCH(2020-C1782, Lists!$C$32:$C$40,1))","v":"61-70"},{"$f":"SUMPRODUCT((Data!$B$17:$B$19=Model!$F1782)*(Data!$C$16:$K$16=Model!$K1782)*(Data!$C$17:$K$19))","v":2.02},65.86,{"$f":"_xlfn.IFS(M1782>70,\"Serviceable\",M1782>30, \"Limited Life\",M1782<=30, \"Unserviceable\")","v":"Limited Life"}]
[null,2827,1935,"Wood Untreated Round","Serviceable","Class 1",2020,100,100,5,{"$f":"INDEX(Lists!$B$32:$B$40, MATCH(2020-C1783, Lists!$C$32:$C$40,1))","v":"81-90"},{"$f":"SUMPRODUCT((Data!$B$17:$B$19=Model!$F1783)*(Data!$C$16:$K$16=Model!$K1783)*(Data!$C$17:$K$19))","v":2.81},85.95,{"$f":"_xlfn.IFS(M1783>70,\"Serviceable\",M1783>30, \"Limited Life\",M1783<=30, \"Unserviceable\")","v":"Serviceable"}]
[null,2828,2003,"CCA Treated Pole","Serviceable","Class 2",2018,150,147.56,7,{"$f":"INDEX(Lists!$B$32:$B$40, MATCH(2020-C1784, Lists!$C$32:$C$40,1))","v":"0-20"},{"$f":"SUMPRODUCT((Data!$B$17:$B$19=Model!$F1784)*(Data!$C$16:$K$16=Model!$K1784)*(Data!$C$17:$K$19))","v":1.22},141.46,{"$f":"_xlfn.IFS(M1784>70,\"Serviceable\",M1784>30, \"Limited Life\",M1784<=30, \"Unserviceable\")","v":"Serviceable"}]
[null,2829,1969,"Wood Creos Impregnated","Serviceable","Class 3",2016,110,99.08,9,{"$f":"INDEX(Lists!$B$32:$B$40, MATCH(2020-C1785, Lists!$C$32:$C$40,1))","v":"51-60"},{"$f":"SUMPRODUCT((Data!$B$17:$B$19=Model!$F1785)*(Data!$C$16:$K$16=Model!$K1785)*(Data!$C$17:$K$19))","v":2.73},85.43,{"$f":"_xlfn.IFS(M1785>70,\"Serviceable\",M1785>30, \"Limited Life\",M1785<=30, \"Unserviceable\")","v":"Serviceable"}]
[null,2830,1964,"Wood Creos Impregnated","Serviceable","Class 3",2020,100,100,5,{"$f":"INDEX(Lists!$B$32:$B$40, MATCH(2020-C1786, Lists!$C$32:$C$40,1))","v":"51-60"},{"$f":"SUMPRODUCT((Data!$B$17:$B$19=Model!$F1786)*(Data!$C$16:$K$16=Model!$K1786)*(Data!$C$17:$K$19))","v":2.73},86.35,{"$f":"_xlfn.IFS(M1786>70,\"Serviceable\",M1786>30, \"Limited Life\",M1786<=30, \"Unserviceable\")","v":"Serviceable"}]
[null,2832,1969,"Wood Creos Impregnated","Serviceable","Class 3",2016,100,89.08,9,{"$f":"INDEX(Lists!$B$32:$B$40, MATCH(2020-C1787, Lists!$C$32:$C$40,1))","v":"51-60"},{"$f":"SUMPRODUCT((Data!$B$17:$B$19=Model!$F1787)*(Data!$C$16:$K$16=Model!$K1787)*(Data!$C$17:$K$19))","v":2.73},75.430000000000007,{"$f":"_xlfn.IFS(M1787>70,\"Serviceable\",M1787>30, \"Limited Life\",M1787<=30, \"Unserviceable\")","v":"Serviceable"}]
[null,2835,1974,"Wood Creos Impregnated","Serviceable","Class 1",2016,130,123,9,{"$f":"INDEX(Lists!$B$32:$B$40, MATCH(2020-C1788, Lists!$C$32:$C$40,1))","v":"41-50"},{"$f":"SUMPRODUCT((Data!$B$17:$B$19=Model!$F1788)*(Data!$C$16:$K$16=Model!$K1788)*(Data!$C$17:$K$19))","v":1.75},114.25,{"$f":"_xlfn.IFS(M1788>70,\"Serviceable\",M1788>30, \"Limited Life\",M1788<=30, \"Unserviceable\")","v":"Serviceable"}]
[null,2838,1974,"Wood Creos Impregnated","Serviceable","Class 1",2016,130,123,9,{"$f":"INDEX(Lists!$B$32:$B$40, MATCH(2020-C1789, Lists!$C$32:$C$40,1))","v":"41-50"},{"$f":"SUMPRODUCT((Data!$B$17:$B$19=Model!$F1789)*(Data!$C$16:$K$16=Model!$K1789)*(Data!$C$17:$K$19))","v":1.75},114.25,{"$f":"_xlfn.IFS(M1789>70,\"Serviceable\",M1789>30, \"Limited Life\",M1789<=30, \"Unserviceable\")","v":"Serviceable"}]
[null,2840,2010,"CCA Treated Pole","Serviceable","Class 2",2018,100,97.56,7,{"$f":"INDEX(Lists!$B$32:$B$40, MATCH(2020-C1790, Lists!$C$32:$C$40,1))","v":"0-20"},{"$f":"SUMPRODUCT((Data!$B$17:$B$19=Model!$F1790)*(Data!$C$16:$K$16=Model!$K1790)*(Data!$C$17:$K$19))","v":1.22},91.460000000000008,{"$f":"_xlfn.IFS(M1790>70,\"Serviceable\",M1790>30, \"Limited Life\",M1790<=30, \"Unserviceable\")","v":"Serviceable"}]
[null,2841,1974,"Wood Creos Impregnated","Serviceable","Class 1",2016,120,113,9,{"$f":"INDEX(Lists!$B$32:$B$40, MATCH(2020-C1791, Lists!$C$32:$C$40,1))","v":"41-50"},{"$f":"SUMPRODUCT((Data!$B$17:$B$19=Model!$F1791)*(Data!$C$16:$K$16=Model!$K1791)*(Data!$C$17:$K$19))","v":1.75},104.25,{"$f":"_xlfn.IFS(M1791>70,\"Serviceable\",M1791>30, \"Limited Life\",M1791<=30, \"Unserviceable\")","v":"Serviceable"}]
[null,2842,1970,"Wood Creos Impregnated","Serviceable","Class 2",2020,100,100,5,{"$f":"INDEX(Lists!$B$32:$B$40, MATCH(2020-C1792, Lists!$C$32:$C$40,1))","v":"41-50"},{"$f":"SUMPRODUCT((Data!$B$17:$B$19=Model!$F1792)*(Data!$C$16:$K$16=Model!$K1792)*(Data!$C$17:$K$19))","v":3.28},83.6,{"$f":"_xlfn.IFS(M1792>70,\"Serviceable\",M1792>30, \"Limited Life\",M1792<=30, \"Unserviceable\")","v":"Serviceable"}]
[null,2843,1944,"Wood Untreated Round","Serviceable","Class 2",2020,110,110,5,{"$f":"INDEX(Lists!$B$32:$B$40, MATCH(2020-C1793, Lists!$C$32:$C$40,1))","v":"71-80"},{"$f":"SUMPRODUCT((Data!$B$17:$B$19=Model!$F1793)*(Data!$C$16:$K$16=Model!$K1793)*(Data!$C$17:$K$19))","v":3.53},92.35,{"$f":"_xlfn.IFS(M1793>70,\"Serviceable\",M1793>30, \"Limited Life\",M1793<=30, \"Unserviceable\")","v":"Serviceable"}]
[null,2844,1974,"Wood Creos Impregnated","Serviceable","Class 1",2016,120,113,9,{"$f":"INDEX(Lists!$B$32:$B$40, MATCH(2020-C1794, Lists!$C$32:$C$40,1))","v":"41-50"},{"$f":"SUMPRODUCT((Data!$B$17:$B$19=Model!$F1794)*(Data!$C$16:$K$16=Model!$K1794)*(Data!$C$17:$K$19))","v":1.75},104.25,{"$f":"_xlfn.IFS(M1794>70,\"Serviceable\",M1794>30, \"Limited Life\",M1794<=30, \"Unserviceable\")","v":"Serviceable"}]
[null,2846,2007,"CCA Treated Pole","Serviceable","Class 1",2017,150,146.82,8,{"$f":"INDEX(Lists!$B$32:$B$40, MATCH(2020-C1795, Lists!$C$32:$C$40,1))","v":"0-20"},{"$f":"SUMPRODUCT((Data!$B$17:$B$19=Model!$F1795)*(Data!$C$16:$K$16=Model!$K1795)*(Data!$C$17:$K$19))","v":1.06},141.52000000000001,{"$f":"_xlfn.IFS(M1795>70,\"Serviceable\",M1795>30, \"Limited Life\",M1795<=30, \"Unserviceable\")","v":"Serviceable"}]
[null,2847,1974,"Wood Creos Impregnated","Serviceable","Class 1",2016,120,113,9,{"$f":"INDEX(Lists!$B$32:$B$40, MATCH(2020-C1796, Lists!$C$32:$C$40,1))","v":"41-50"},{"$f":"SUMPRODUCT((Data!$B$17:$B$19=Model!$F1796)*(Data!$C$16:$K$16=Model!$K1796)*(Data!$C$17:$K$19))","v":1.75},104.25,{"$f":"_xlfn.IFS(M1796>70,\"Serviceable\",M1796>30, \"Limited Life\",M1796<=30, \"Unserviceable\")","v":"Serviceable"}]
[null,2848,1984,"Wood Untreated Dressed","Serviceable","Class 1",2020,140,140,5,{"$f":"INDEX(Lists!$B$32:$B$40, MATCH(2020-C1797, Lists!$C$32:$C$40,1))","v":"31-40"},{"$f":"SUMPRODUCT((Data!$B$17:$B$19=Model!$F1797)*(Data!$C$16:$K$16=Model!$K1797)*(Data!$C$17:$K$19))","v":2.52},127.4,{"$f":"_xlfn.IFS(M1797>70,\"Serviceable\",M1797>30, \"Limited Life\",M1797<=30, \"Unserviceable\")","v":"Serviceable"}]
[null,2849,2007,"CCA Treated Pole","Serviceable","Class 3",2017,150,145.88999999999999,8,{"$f":"INDEX(Lists!$B$32:$B$40, MATCH(2020-C1798, Lists!$C$32:$C$40,1))","v":"0-20"},{"$f":"SUMPRODUCT((Data!$B$17:$B$19=Model!$F1798)*(Data!$C$16:$K$16=Model!$K1798)*(Data!$C$17:$K$19))","v":1.37},139.04,{"$f":"_xlfn.IFS(M1798>70,\"Serviceable\",M1798>30, \"Limited Life\",M1798<=30, \"Unserviceable\")","v":"Serviceable"}]
[null,2850,1974,"Wood Creos Impregnated","Serviceable","Class 1",2016,110,103,9,{"$f":"INDEX(Lists!$B$32:$B$40, MATCH(2020-C1799, Lists!$C$32:$C$40,1))","v":"41-50"},{"$f":"SUMPRODUCT((Data!$B$17:$B$19=Model!$F1799)*(Data!$C$16:$K$16=Model!$K1799)*(Data!$C$17:$K$19))","v":1.75},94.25,{"$f":"_xlfn.IFS(M1799>70,\"Serviceable\",M1799>30, \"Limited Life\",M1799<=30, \"Unserviceable\")","v":"Serviceable"}]
[null,2851,1976,"Wood Creos Impregnated","Serviceable","Class 3",2020,110,110,{"$f":"2025-G1800","v":5},{"$f":"INDEX(Lists!$B$32:$B$40, MATCH(2020-C1800, Lists!$C$32:$C$40,1))","v":"41-50"},{"$f":"SUMPRODUCT((Data!$B$17:$B$19=Model!$F1800)*(Data!$C$16:$K$16=Model!$K1800)*(Data!$C$17:$K$19))","v":3.78},{"$f":"IF(IF(H1800>=700,999,(H1800-L1800*J1800))<0,0,IF(H1800>=700,999,(H1800-L1800*J1800)))","v":91.1},{"$f":"_xlfn.IFS(M1800>70,\"Serviceable\",M1800>30, \"Limited Life\",M1800<=30, \"Unserviceable\")","v":"Serviceable"}]
[null,2853,1974,"Wood Creos Impregnated","Serviceable","Class 1",2016,120,113,9,{"$f":"INDEX(Lists!$B$32:$B$40, MATCH(2020-C1801, Lists!$C$32:$C$40,1))","v":"41-50"},{"$f":"SUMPRODUCT((Data!$B$17:$B$19=Model!$F1801)*(Data!$C$16:$K$16=Model!$K1801)*(Data!$C$17:$K$19))","v":1.75},104.25,{"$f":"_xlfn.IFS(M1801>70,\"Serviceable\",M1801>30, \"Limited Life\",M1801<=30, \"Unserviceable\")","v":"Serviceable"}]
[null,2854,1968,"Wood Creos Impregnated","Serviceable","Class 3",2020,100,100,5,{"$f":"INDEX(Lists!$B$32:$B$40, MATCH(2020-C1802, Lists!$C$32:$C$40,1))","v":"51-60"},{"$f":"SUMPRODUCT((Data!$B$17:$B$19=Model!$F1802)*(Data!$C$16:$K$16=Model!$K1802)*(Data!$C$17:$K$19))","v":2.73},86.35,{"$f":"_xlfn.IFS(M1802>70,\"Serviceable\",M1802>30, \"Limited Life\",M1802<=30, \"Unserviceable\")","v":"Serviceable"}]
[null,2856,1973,"Wood Creos Impregnated","Serviceable","Class 1",2016,120,113,9,{"$f":"INDEX(Lists!$B$32:$B$40, MATCH(2020-C1803, Lists!$C$32:$C$40,1))","v":"41-50"},{"$f":"SUMPRODUCT((Data!$B$17:$B$19=Model!$F1803)*(Data!$C$16:$K$16=Model!$K1803)*(Data!$C$17:$K$19))","v":1.75},104.25,{"$f":"_xlfn.IFS(M1803>70,\"Serviceable\",M1803>30, \"Limited Life\",M1803<=30, \"Unserviceable\")","v":"Serviceable"}]
[null,2857,1994,"Wood Untreated Dressed","Serviceable","Class 1",2018,130,126.08,7,{"$f":"INDEX(Lists!$B$32:$B$40, MATCH(2020-C1804, Lists!$C$32:$C$40,1))","v":"21-30"},{"$f":"SUMPRODUCT((Data!$B$17:$B$19=Model!$F1804)*(Data!$C$16:$K$16=Model!$K1804)*(Data!$C$17:$K$19))","v":1.96},116.28,{"$f":"_xlfn.IFS(M1804>70,\"Serviceable\",M1804>30, \"Limited Life\",M1804<=30, \"Unserviceable\")","v":"Serviceable"}]
[null,2858,2006,"CCA Treated Pole","Serviceable","Class 2",2017,150,146.34,8,{"$f":"INDEX(Lists!$B$32:$B$40, MATCH(2020-C1805, Lists!$C$32:$C$40,1))","v":"0-20"},{"$f":"SUMPRODUCT((Data!$B$17:$B$19=Model!$F1805)*(Data!$C$16:$K$16=Model!$K1805)*(Data!$C$17:$K$19))","v":1.22},140.24,{"$f":"_xlfn.IFS(M1805>70,\"Serviceable\",M1805>30, \"Limited Life\",M1805<=30, \"Unserviceable\")","v":"Serviceable"}]
[null,2859,1974,"Wood Creos Impregnated","Serviceable","Class 1",2016,130,123,9,{"$f":"INDEX(Lists!$B$32:$B$40, MATCH(2020-C1806, Lists!$C$32:$C$40,1))","v":"41-50"},{"$f":"SUMPRODUCT((Data!$B$17:$B$19=Model!$F1806)*(Data!$C$16:$K$16=Model!$K1806)*(Data!$C$17:$K$19))","v":1.75},114.25,{"$f":"_xlfn.IFS(M1806>70,\"Serviceable\",M1806>30, \"Limited Life\",M1806<=30, \"Unserviceable\")","v":"Serviceable"}]
[null,2862,1974,"Wood Creos Impregnated","Serviceable","Class 1",2016,120,113,9,{"$f":"INDEX(Lists!$B$32:$B$40, MATCH(2020-C1807, Lists!$C$32:$C$40,1))","v":"41-50"},{"$f":"SUMPRODUCT((Data!$B$17:$B$19=Model!$F1807)*(Data!$C$16:$K$16=Model!$K1807)*(Data!$C$17:$K$19))","v":1.75},104.25,{"$f":"_xlfn.IFS(M1807>70,\"Serviceable\",M1807>30, \"Limited Life\",M1807<=30, \"Unserviceable\")","v":"Serviceable"}]
[null,2866,1979,"Wood Creos Impregnated","Serviceable","Class 1",2016,130,123,9,{"$f":"INDEX(Lists!$B$32:$B$40, MATCH(2020-C1808, Lists!$C$32:$C$40,1))","v":"41-50"},{"$f":"SUMPRODUCT((Data!$B$17:$B$19=Model!$F1808)*(Data!$C$16:$K$16=Model!$K1808)*(Data!$C$17:$K$19))","v":1.75},114.25,{"$f":"_xlfn.IFS(M1808>70,\"Serviceable\",M1808>30, \"Limited Life\",M1808<=30, \"Unserviceable\")","v":"Serviceable"}]
[null,2867,1940,"Wood Untreated Dressed","Serviceable","Class 1",2017,90,83.55,8,{"$f":"INDEX(Lists!$B$32:$B$40, MATCH(2020-C1809, Lists!$C$32:$C$40,1))","v":"71-80"},{"$f":"SUMPRODUCT((Data!$B$17:$B$19=Model!$F1809)*(Data!$C$16:$K$16=Model!$K1809)*(Data!$C$17:$K$19))","v":2.15},72.8,{"$f":"_xlfn.IFS(M1809>70,\"Serviceable\",M1809>30, \"Limited Life\",M1809<=30, \"Unserviceable\")","v":"Serviceable"}]
[null,2869,1974,"Wood Creos Impregnated","Serviceable","Class 1",2016,130,123,9,{"$f":"INDEX(Lists!$B$32:$B$40, MATCH(2020-C1810, Lists!$C$32:$C$40,1))","v":"41-50"},{"$f":"SUMPRODUCT((Data!$B$17:$B$19=Model!$F1810)*(Data!$C$16:$K$16=Model!$K1810)*(Data!$C$17:$K$19))","v":1.75},114.25,{"$f":"_xlfn.IFS(M1810>70,\"Serviceable\",M1810>30, \"Limited Life\",M1810<=30, \"Unserviceable\")","v":"Serviceable"}]
[null,2872,1974,"Wood Creos Impregnated","Serviceable","Class 1",2016,130,123,9,{"$f":"INDEX(Lists!$B$32:$B$40, MATCH(2020-C1811, Lists!$C$32:$C$40,1))","v":"41-50"},{"$f":"SUMPRODUCT((Data!$B$17:$B$19=Model!$F1811)*(Data!$C$16:$K$16=Model!$K1811)*(Data!$C$17:$K$19))","v":1.75},114.25,{"$f":"_xlfn.IFS(M1811>70,\"Serviceable\",M1811>30, \"Limited Life\",M1811<=30, \"Unserviceable\")","v":"Serviceable"}]
[null,2875,1973,"Wood Creos Impregnated","Serviceable","Class 1",2016,130,123,9,{"$f":"INDEX(Lists!$B$32:$B$40, MATCH(2020-C1812, Lists!$C$32:$C$40,1))","v":"41-50"},{"$f":"SUMPRODUCT((Data!$B$17:$B$19=Model!$F1812)*(Data!$C$16:$K$16=Model!$K1812)*(Data!$C$17:$K$19))","v":1.75},114.25,{"$f":"_xlfn.IFS(M1812>70,\"Serviceable\",M1812>30, \"Limited Life\",M1812<=30, \"Unserviceable\")","v":"Serviceable"}]
[null,2877,1936,"Wood Untreated Dressed","Serviceable","Class 1",2020,100,100,5,{"$f":"INDEX(Lists!$B$32:$B$40, MATCH(2020-C1813, Lists!$C$32:$C$40,1))","v":"81-90"},{"$f":"SUMPRODUCT((Data!$B$17:$B$19=Model!$F1813)*(Data!$C$16:$K$16=Model!$K1813)*(Data!$C$17:$K$19))","v":2.81},85.95,{"$f":"_xlfn.IFS(M1813>70,\"Serviceable\",M1813>30, \"Limited Life\",M1813<=30, \"Unserviceable\")","v":"Serviceable"}]
[null,2878,1960,"Wood Creos Impregnated","Unserviceable","Class 3",2016,25,14.08,9,{"$f":"INDEX(Lists!$B$32:$B$40, MATCH(2020-C1814, Lists!$C$32:$C$40,1))","v":"51-60"},{"$f":"SUMPRODUCT((Data!$B$17:$B$19=Model!$F1814)*(Data!$C$16:$K$16=Model!$K1814)*(Data!$C$17:$K$19))","v":2.73},0.42999999999999972,{"$f":"_xlfn.IFS(M1814>70,\"Serviceable\",M1814>30, \"Limited Life\",M1814<=30, \"Unserviceable\")","v":"Unserviceable"}]
[null,2880,1958,"Wood Creos Impregnated","Serviceable","Class 3",2020,120,120,5,{"$f":"INDEX(Lists!$B$32:$B$40, MATCH(2020-C1815, Lists!$C$32:$C$40,1))","v":"61-70"},{"$f":"SUMPRODUCT((Data!$B$17:$B$19=Model!$F1815)*(Data!$C$16:$K$16=Model!$K1815)*(Data!$C$17:$K$19))","v":2.02},109.9,{"$f":"_xlfn.IFS(M1815>70,\"Serviceable\",M1815>30, \"Limited Life\",M1815<=30, \"Unserviceable\")","v":"Serviceable"}]
[null,2881,1959,"Wood Creos Impregnated","Serviceable","Class 3",2016,100,91.92,9,{"$f":"INDEX(Lists!$B$32:$B$40, MATCH(2020-C1816, Lists!$C$32:$C$40,1))","v":"61-70"},{"$f":"SUMPRODUCT((Data!$B$17:$B$19=Model!$F1816)*(Data!$C$16:$K$16=Model!$K1816)*(Data!$C$17:$K$19))","v":2.02},81.819999999999993,{"$f":"_xlfn.IFS(M1816>70,\"Serviceable\",M1816>30, \"Limited Life\",M1816<=30, \"Unserviceable\")","v":"Serviceable"}]
[null,2882,2001,"CCA Treated Pole","Serviceable","Class 2",2018,150,147.56,7,{"$f":"INDEX(Lists!$B$32:$B$40, MATCH(2020-C1817, Lists!$C$32:$C$40,1))","v":"0-20"},{"$f":"SUMPRODUCT((Data!$B$17:$B$19=Model!$F1817)*(Data!$C$16:$K$16=Model!$K1817)*(Data!$C$17:$K$19))","v":1.22},141.46,{"$f":"_xlfn.IFS(M1817>70,\"Serviceable\",M1817>30, \"Limited Life\",M1817<=30, \"Unserviceable\")","v":"Serviceable"}]
[null,2883,1978,"Wood Untreated Dressed","Serviceable","Class 1",2020,100,100,5,{"$f":"INDEX(Lists!$B$32:$B$40, MATCH(2020-C1818, Lists!$C$32:$C$40,1))","v":"41-50"},{"$f":"SUMPRODUCT((Data!$B$17:$B$19=Model!$F1818)*(Data!$C$16:$K$16=Model!$K1818)*(Data!$C$17:$K$19))","v":1.75},91.25,{"$f":"_xlfn.IFS(M1818>70,\"Serviceable\",M1818>30, \"Limited Life\",M1818<=30, \"Unserviceable\")","v":"Serviceable"}]
[null,2884,1961,"Wood Creos Impregnated","Serviceable","Class 3",2016,85,74.08,9,{"$f":"INDEX(Lists!$B$32:$B$40, MATCH(2020-C1819, Lists!$C$32:$C$40,1))","v":"51-60"},{"$f":"SUMPRODUCT((Data!$B$17:$B$19=Model!$F1819)*(Data!$C$16:$K$16=Model!$K1819)*(Data!$C$17:$K$19))","v":2.73},60.43,{"$f":"_xlfn.IFS(M1819>70,\"Serviceable\",M1819>30, \"Limited Life\",M1819<=30, \"Unserviceable\")","v":"Limited Life"}]
[null,2885,2006,"CCA Treated Pole","Serviceable","Class 2",2017,150,146.34,8,{"$f":"INDEX(Lists!$B$32:$B$40, MATCH(2020-C1820, Lists!$C$32:$C$40,1))","v":"0-20"},{"$f":"SUMPRODUCT((Data!$B$17:$B$19=Model!$F1820)*(Data!$C$16:$K$16=Model!$K1820)*(Data!$C$17:$K$19))","v":1.22},140.24,{"$f":"_xlfn.IFS(M1820>70,\"Serviceable\",M1820>30, \"Limited Life\",M1820<=30, \"Unserviceable\")","v":"Serviceable"}]
[null,2886,1953,"Wood Untreated Round","Serviceable","Class 1",2020,100,100,5,{"$f":"INDEX(Lists!$B$32:$B$40, MATCH(2020-C1821, Lists!$C$32:$C$40,1))","v":"61-70"},{"$f":"SUMPRODUCT((Data!$B$17:$B$19=Model!$F1821)*(Data!$C$16:$K$16=Model!$K1821)*(Data!$C$17:$K$19))","v":2.0299999999999998},89.85,{"$f":"_xlfn.IFS(M1821>70,\"Serviceable\",M1821>30, \"Limited Life\",M1821<=30, \"Unserviceable\")","v":"Serviceable"}]
[null,2887,1974,"Wood Creos Impregnated","Serviceable","Class 1",2016,130,123,9,{"$f":"INDEX(Lists!$B$32:$B$40, MATCH(2020-C1822, Lists!$C$32:$C$40,1))","v":"41-50"},{"$f":"SUMPRODUCT((Data!$B$17:$B$19=Model!$F1822)*(Data!$C$16:$K$16=Model!$K1822)*(Data!$C$17:$K$19))","v":1.75},114.25,{"$f":"_xlfn.IFS(M1822>70,\"Serviceable\",M1822>30, \"Limited Life\",M1822<=30, \"Unserviceable\")","v":"Serviceable"}]
[null,2888,1962,"Wood Creos Impregnated","Serviceable","Class 3",2017,100,91.81,8,{"$f":"INDEX(Lists!$B$32:$B$40, MATCH(2020-C1823, Lists!$C$32:$C$40,1))","v":"51-60"},{"$f":"SUMPRODUCT((Data!$B$17:$B$19=Model!$F1823)*(Data!$C$16:$K$16=Model!$K1823)*(Data!$C$17:$K$19))","v":2.73},78.16,{"$f":"_xlfn.IFS(M1823>70,\"Serviceable\",M1823>30, \"Limited Life\",M1823<=30, \"Unserviceable\")","v":"Serviceable"}]
[null,2889,1979,"Wood Untreated Dressed","Serviceable","Class 1",2020,100,100,5,{"$f":"INDEX(Lists!$B$32:$B$40, MATCH(2020-C1824, Lists!$C$32:$C$40,1))","v":"41-50"},{"$f":"SUMPRODUCT((Data!$B$17:$B$19=Model!$F1824)*(Data!$C$16:$K$16=Model!$K1824)*(Data!$C$17:$K$19))","v":1.75},91.25,{"$f":"_xlfn.IFS(M1824>70,\"Serviceable\",M1824>30, \"Limited Life\",M1824<=30, \"Unserviceable\")","v":"Serviceable"}]
[null,2890,1969,"Wood Creos Impregnated","Serviceable","Class 3",2016,110,99.08,9,{"$f":"INDEX(Lists!$B$32:$B$40, MATCH(2020-C1825, Lists!$C$32:$C$40,1))","v":"51-60"},{"$f":"SUMPRODUCT((Data!$B$17:$B$19=Model!$F1825)*(Data!$C$16:$K$16=Model!$K1825)*(Data!$C$17:$K$19))","v":2.73},85.43,{"$f":"_xlfn.IFS(M1825>70,\"Serviceable\",M1825>30, \"Limited Life\",M1825<=30, \"Unserviceable\")","v":"Serviceable"}]
[null,2893,1960,"Wood Creos Impregnated","Serviceable","Class 3",2019,100,97.27,6,{"$f":"INDEX(Lists!$B$32:$B$40, MATCH(2020-C1826, Lists!$C$32:$C$40,1))","v":"51-60"},{"$f":"SUMPRODUCT((Data!$B$17:$B$19=Model!$F1826)*(Data!$C$16:$K$16=Model!$K1826)*(Data!$C$17:$K$19))","v":2.73},83.62,{"$f":"_xlfn.IFS(M1826>70,\"Serviceable\",M1826>30, \"Limited Life\",M1826<=30, \"Unserviceable\")","v":"Serviceable"}]
[null,2894,1958,"Wood Untreated Round","Serviceable","Class 1",2018,100,95.94,7,{"$f":"INDEX(Lists!$B$32:$B$40, MATCH(2020-C1827, Lists!$C$32:$C$40,1))","v":"61-70"},{"$f":"SUMPRODUCT((Data!$B$17:$B$19=Model!$F1827)*(Data!$C$16:$K$16=Model!$K1827)*(Data!$C$17:$K$19))","v":2.0299999999999998},85.79,{"$f":"_xlfn.IFS(M1827>70,\"Serviceable\",M1827>30, \"Limited Life\",M1827<=30, \"Unserviceable\")","v":"Serviceable"}]
[null,2895,1958,"Wood Creos Impregnated","Serviceable","Class 3",2020,120,120,5,{"$f":"INDEX(Lists!$B$32:$B$40, MATCH(2020-C1828, Lists!$C$32:$C$40,1))","v":"61-70"},{"$f":"SUMPRODUCT((Data!$B$17:$B$19=Model!$F1828)*(Data!$C$16:$K$16=Model!$K1828)*(Data!$C$17:$K$19))","v":2.02},109.9,{"$f":"_xlfn.IFS(M1828>70,\"Serviceable\",M1828>30, \"Limited Life\",M1828<=30, \"Unserviceable\")","v":"Serviceable"}]
[null,2896,1976,"Wood Creos Impregnated","Unserviceable","Class 3",2016,10,0,9,{"$f":"INDEX(Lists!$B$32:$B$40, MATCH(2020-C1829, Lists!$C$32:$C$40,1))","v":"41-50"},{"$f":"SUMPRODUCT((Data!$B$17:$B$19=Model!$F1829)*(Data!$C$16:$K$16=Model!$K1829)*(Data!$C$17:$K$19))","v":3.78},0,{"$f":"_xlfn.IFS(M1829>70,\"Serviceable\",M1829>30, \"Limited Life\",M1829<=30, \"Unserviceable\")","v":"Unserviceable"}]
[null,2897,1986,"Wood Untreated Dressed","Serviceable","Class 1",2017,130,122.44,8,{"$f":"INDEX(Lists!$B$32:$B$40, MATCH(2020-C1830, Lists!$C$32:$C$40,1))","v":"31-40"},{"$f":"SUMPRODUCT((Data!$B$17:$B$19=Model!$F1830)*(Data!$C$16:$K$16=Model!$K1830)*(Data!$C$17:$K$19))","v":2.52},109.84,{"$f":"_xlfn.IFS(M1830>70,\"Serviceable\",M1830>30, \"Limited Life\",M1830<=30, \"Unserviceable\")","v":"Serviceable"}]
[null,2898,1969,"Wood Creos Impregnated","Serviceable","Class 3",2020,90,90,5,{"$f":"INDEX(Lists!$B$32:$B$40, MATCH(2020-C1831, Lists!$C$32:$C$40,1))","v":"51-60"},{"$f":"SUMPRODUCT((Data!$B$17:$B$19=Model!$F1831)*(Data!$C$16:$K$16=Model!$K1831)*(Data!$C$17:$K$19))","v":2.73},76.349999999999994,{"$f":"_xlfn.IFS(M1831>70,\"Serviceable\",M1831>30, \"Limited Life\",M1831<=30, \"Unserviceable\")","v":"Serviceable"}]
[null,2900,1988,"Wood Untreated Dressed","Serviceable","Class 1",2018,100,94.96,7,{"$f":"INDEX(Lists!$B$32:$B$40, MATCH(2020-C1832, Lists!$C$32:$C$40,1))","v":"31-40"},{"$f":"SUMPRODUCT((Data!$B$17:$B$19=Model!$F1832)*(Data!$C$16:$K$16=Model!$K1832)*(Data!$C$17:$K$19))","v":2.52},82.36,{"$f":"_xlfn.IFS(M1832>70,\"Serviceable\",M1832>30, \"Limited Life\",M1832<=30, \"Unserviceable\")","v":"Serviceable"}]
[null,2901,1969,"Wood Creos Impregnated","Limited Life","Class 3",2020,70,70,5,{"$f":"INDEX(Lists!$B$32:$B$40, MATCH(2020-C1833, Lists!$C$32:$C$40,1))","v":"51-60"},{"$f":"SUMPRODUCT((Data!$B$17:$B$19=Model!$F1833)*(Data!$C$16:$K$16=Model!$K1833)*(Data!$C$17:$K$19))","v":2.73},56.35,{"$f":"_xlfn.IFS(M1833>70,\"Serviceable\",M1833>30, \"Limited Life\",M1833<=30, \"Unserviceable\")","v":"Limited Life"}]
[null,2902,1978,"Wood Creos Impregnated","Serviceable","Class 3",2016,100,84.88,9,{"$f":"INDEX(Lists!$B$32:$B$40, MATCH(2020-C1834, Lists!$C$32:$C$40,1))","v":"41-50"},{"$f":"SUMPRODUCT((Data!$B$17:$B$19=Model!$F1834)*(Data!$C$16:$K$16=Model!$K1834)*(Data!$C$17:$K$19))","v":3.78},65.98,{"$f":"_xlfn.IFS(M1834>70,\"Serviceable\",M1834>30, \"Limited Life\",M1834<=30, \"Unserviceable\")","v":"Limited Life"}]
[null,2903,1980,"Wood Untreated Dressed","Serviceable","Class 1",2020,90,90,5,{"$f":"INDEX(Lists!$B$32:$B$40, MATCH(2020-C1835, Lists!$C$32:$C$40,1))","v":"31-40"},{"$f":"SUMPRODUCT((Data!$B$17:$B$19=Model!$F1835)*(Data!$C$16:$K$16=Model!$K1835)*(Data!$C$17:$K$19))","v":2.52},77.400000000000006,{"$f":"_xlfn.IFS(M1835>70,\"Serviceable\",M1835>30, \"Limited Life\",M1835<=30, \"Unserviceable\")","v":"Serviceable"}]
[null,2905,1976,"Wood Creos Impregnated","Limited Life","Class 3",2016,80,64.88,9,{"$f":"INDEX(Lists!$B$32:$B$40, MATCH(2020-C1836, Lists!$C$32:$C$40,1))","v":"41-50"},{"$f":"SUMPRODUCT((Data!$B$17:$B$19=Model!$F1836)*(Data!$C$16:$K$16=Model!$K1836)*(Data!$C$17:$K$19))","v":3.78},45.980000000000004,{"$f":"_xlfn.IFS(M1836>70,\"Serviceable\",M1836>30, \"Limited Life\",M1836<=30, \"Unserviceable\")","v":"Limited Life"}]
[null,2906,1970,"Wood Creos Impregnated","Serviceable","Class 3",2020,100,100,5,{"$f":"INDEX(Lists!$B$32:$B$40, MATCH(2020-C1837, Lists!$C$32:$C$40,1))","v":"41-50"},{"$f":"SUMPRODUCT((Data!$B$17:$B$19=Model!$F1837)*(Data!$C$16:$K$16=Model!$K1837)*(Data!$C$17:$K$19))","v":3.78},81.099999999999994,{"$f":"_xlfn.IFS(M1837>70,\"Serviceable\",M1837>30, \"Limited Life\",M1837<=30, \"Unserviceable\")","v":"Serviceable"}]
[null,2907,1977,"Wood Creos Impregnated","Serviceable","Class 1",2016,130,123,9,{"$f":"INDEX(Lists!$B$32:$B$40, MATCH(2020-C1838, Lists!$C$32:$C$40,1))","v":"41-50"},{"$f":"SUMPRODUCT((Data!$B$17:$B$19=Model!$F1838)*(Data!$C$16:$K$16=Model!$K1838)*(Data!$C$17:$K$19))","v":1.75},114.25,{"$f":"_xlfn.IFS(M1838>70,\"Serviceable\",M1838>30, \"Limited Life\",M1838<=30, \"Unserviceable\")","v":"Serviceable"}]
[null,2910,1997,"CCA Treated Pole","Serviceable","Class 1",2016,150,142.16,9,{"$f":"INDEX(Lists!$B$32:$B$40, MATCH(2020-C1839, Lists!$C$32:$C$40,1))","v":"21-30"},{"$f":"SUMPRODUCT((Data!$B$17:$B$19=Model!$F1839)*(Data!$C$16:$K$16=Model!$K1839)*(Data!$C$17:$K$19))","v":1.96},132.36000000000001,{"$f":"_xlfn.IFS(M1839>70,\"Serviceable\",M1839>30, \"Limited Life\",M1839<=30, \"Unserviceable\")","v":"Serviceable"}]
[null,2911,1943,"Wood Untreated Dressed","Serviceable","Class 1",2017,110,103.55,8,{"$f":"INDEX(Lists!$B$32:$B$40, MATCH(2020-C1840, Lists!$C$32:$C$40,1))","v":"71-80"},{"$f":"SUMPRODUCT((Data!$B$17:$B$19=Model!$F1840)*(Data!$C$16:$K$16=Model!$K1840)*(Data!$C$17:$K$19))","v":2.15},92.8,{"$f":"_xlfn.IFS(M1840>70,\"Serviceable\",M1840>30, \"Limited Life\",M1840<=30, \"Unserviceable\")","v":"Serviceable"}]
[null,2912,1986,"Wood Untreated Dressed","Serviceable","Class 1",2020,140,140,5,{"$f":"INDEX(Lists!$B$32:$B$40, MATCH(2020-C1841, Lists!$C$32:$C$40,1))","v":"31-40"},{"$f":"SUMPRODUCT((Data!$B$17:$B$19=Model!$F1841)*(Data!$C$16:$K$16=Model!$K1841)*(Data!$C$17:$K$19))","v":2.52},127.4,{"$f":"_xlfn.IFS(M1841>70,\"Serviceable\",M1841>30, \"Limited Life\",M1841<=30, \"Unserviceable\")","v":"Serviceable"}]
[null,2913,1960,"Wood Creos Impregnated","Serviceable","Class 3",2016,90,79.08,9,{"$f":"INDEX(Lists!$B$32:$B$40, MATCH(2020-C1842, Lists!$C$32:$C$40,1))","v":"51-60"},{"$f":"SUMPRODUCT((Data!$B$17:$B$19=Model!$F1842)*(Data!$C$16:$K$16=Model!$K1842)*(Data!$C$17:$K$19))","v":2.73},65.430000000000007,{"$f":"_xlfn.IFS(M1842>70,\"Serviceable\",M1842>30, \"Limited Life\",M1842<=30, \"Unserviceable\")","v":"Limited Life"}]
[null,2914,1969,"Wood Creos Impregnated","Serviceable","Class 3",2017,90,81.81,8,{"$f":"INDEX(Lists!$B$32:$B$40, MATCH(2020-C1843, Lists!$C$32:$C$40,1))","v":"51-60"},{"$f":"SUMPRODUCT((Data!$B$17:$B$19=Model!$F1843)*(Data!$C$16:$K$16=Model!$K1843)*(Data!$C$17:$K$19))","v":2.73},68.16,{"$f":"_xlfn.IFS(M1843>70,\"Serviceable\",M1843>30, \"Limited Life\",M1843<=30, \"Unserviceable\")","v":"Limited Life"}]
[null,2915,1935,"Wood Untreated Dressed","Serviceable","Class 1",2020,90,90,5,{"$f":"INDEX(Lists!$B$32:$B$40, MATCH(2020-C1844, Lists!$C$32:$C$40,1))","v":"81-90"},{"$f":"SUMPRODUCT((Data!$B$17:$B$19=Model!$F1844)*(Data!$C$16:$K$16=Model!$K1844)*(Data!$C$17:$K$19))","v":2.81},75.95,{"$f":"_xlfn.IFS(M1844>70,\"Serviceable\",M1844>30, \"Limited Life\",M1844<=30, \"Unserviceable\")","v":"Serviceable"}]
[null,2916,1978,"Wood Creos Impregnated","Serviceable","Class 3",2016,110,94.88,9,{"$f":"INDEX(Lists!$B$32:$B$40, MATCH(2020-C1845, Lists!$C$32:$C$40,1))","v":"41-50"},{"$f":"SUMPRODUCT((Data!$B$17:$B$19=Model!$F1845)*(Data!$C$16:$K$16=Model!$K1845)*(Data!$C$17:$K$19))","v":3.78},75.98,{"$f":"_xlfn.IFS(M1845>70,\"Serviceable\",M1845>30, \"Limited Life\",M1845<=30, \"Unserviceable\")","v":"Serviceable"}]
[null,2917,2011,"CCA Treated Pole","Serviceable","Class 2",2016,160,155.12,9,{"$f":"INDEX(Lists!$B$32:$B$40, MATCH(2020-C1846, Lists!$C$32:$C$40,1))","v":"0-20"},{"$f":"SUMPRODUCT((Data!$B$17:$B$19=Model!$F1846)*(Data!$C$16:$K$16=Model!$K1846)*(Data!$C$17:$K$19))","v":1.22},149.02000000000001,{"$f":"_xlfn.IFS(M1846>70,\"Serviceable\",M1846>30, \"Limited Life\",M1846<=30, \"Unserviceable\")","v":"Serviceable"}]
[null,2918,1983,"Wood Untreated Dressed","Serviceable","Class 1",2020,150,150,5,{"$f":"INDEX(Lists!$B$32:$B$40, MATCH(2020-C1847, Lists!$C$32:$C$40,1))","v":"31-40"},{"$f":"SUMPRODUCT((Data!$B$17:$B$19=Model!$F1847)*(Data!$C$16:$K$16=Model!$K1847)*(Data!$C$17:$K$19))","v":2.52},137.4,{"$f":"_xlfn.IFS(M1847>70,\"Serviceable\",M1847>30, \"Limited Life\",M1847<=30, \"Unserviceable\")","v":"Serviceable"}]
[null,2920,1966,"Wood Creos Impregnated","Serviceable","Class 3",2016,120,109.08,9,{"$f":"INDEX(Lists!$B$32:$B$40, MATCH(2020-C1848, Lists!$C$32:$C$40,1))","v":"51-60"},{"$f":"SUMPRODUCT((Data!$B$17:$B$19=Model!$F1848)*(Data!$C$16:$K$16=Model!$K1848)*(Data!$C$17:$K$19))","v":2.73},95.43,{"$f":"_xlfn.IFS(M1848>70,\"Serviceable\",M1848>30, \"Limited Life\",M1848<=30, \"Unserviceable\")","v":"Serviceable"}]
[null,2921,1983,"Wood Untreated Dressed","Serviceable","Class 1",2020,150,150,5,{"$f":"INDEX(Lists!$B$32:$B$40, MATCH(2020-C1849, Lists!$C$32:$C$40,1))","v":"31-40"},{"$f":"SUMPRODUCT((Data!$B$17:$B$19=Model!$F1849)*(Data!$C$16:$K$16=Model!$K1849)*(Data!$C$17:$K$19))","v":2.52},137.4,{"$f":"_xlfn.IFS(M1849>70,\"Serviceable\",M1849>30, \"Limited Life\",M1849<=30, \"Unserviceable\")","v":"Serviceable"}]
[null,2922,1960,"Wood Creos Impregnated","Serviceable","Class 3",2016,100,89.08,9,{"$f":"INDEX(Lists!$B$32:$B$40, MATCH(2020-C1850, Lists!$C$32:$C$40,1))","v":"51-60"},{"$f":"SUMPRODUCT((Data!$B$17:$B$19=Model!$F1850)*(Data!$C$16:$K$16=Model!$K1850)*(Data!$C$17:$K$19))","v":2.73},75.430000000000007,{"$f":"_xlfn.IFS(M1850>70,\"Serviceable\",M1850>30, \"Limited Life\",M1850<=30, \"Unserviceable\")","v":"Serviceable"}]
[null,2923,1983,"Wood Untreated Dressed","Serviceable","Class 1",2017,130,122.44,8,{"$f":"INDEX(Lists!$B$32:$B$40, MATCH(2020-C1851, Lists!$C$32:$C$40,1))","v":"31-40"},{"$f":"SUMPRODUCT((Data!$B$17:$B$19=Model!$F1851)*(Data!$C$16:$K$16=Model!$K1851)*(Data!$C$17:$K$19))","v":2.52},109.84,{"$f":"_xlfn.IFS(M1851>70,\"Serviceable\",M1851>30, \"Limited Life\",M1851<=30, \"Unserviceable\")","v":"Serviceable"}]
[null,2924,1935,"Wood Untreated Dressed","Limited Life","Class 1",2020,70,70,5,{"$f":"INDEX(Lists!$B$32:$B$40, MATCH(2020-C1852, Lists!$C$32:$C$40,1))","v":"81-90"},{"$f":"SUMPRODUCT((Data!$B$17:$B$19=Model!$F1852)*(Data!$C$16:$K$16=Model!$K1852)*(Data!$C$17:$K$19))","v":2.81},55.95,{"$f":"_xlfn.IFS(M1852>70,\"Serviceable\",M1852>30, \"Limited Life\",M1852<=30, \"Unserviceable\")","v":"Limited Life"}]
[null,2925,1978,"Wood Creos Impregnated","Serviceable","Class 3",2016,110,94.88,9,{"$f":"INDEX(Lists!$B$32:$B$40, MATCH(2020-C1853, Lists!$C$32:$C$40,1))","v":"41-50"},{"$f":"SUMPRODUCT((Data!$B$17:$B$19=Model!$F1853)*(Data!$C$16:$K$16=Model!$K1853)*(Data!$C$17:$K$19))","v":3.78},75.98,{"$f":"_xlfn.IFS(M1853>70,\"Serviceable\",M1853>30, \"Limited Life\",M1853<=30, \"Unserviceable\")","v":"Serviceable"}]
[null,2927,1982,"Wood Untreated Dressed","Serviceable","Class 1",2020,150,150,5,{"$f":"INDEX(Lists!$B$32:$B$40, MATCH(2020-C1854, Lists!$C$32:$C$40,1))","v":"31-40"},{"$f":"SUMPRODUCT((Data!$B$17:$B$19=Model!$F1854)*(Data!$C$16:$K$16=Model!$K1854)*(Data!$C$17:$K$19))","v":2.52},137.4,{"$f":"_xlfn.IFS(M1854>70,\"Serviceable\",M1854>30, \"Limited Life\",M1854<=30, \"Unserviceable\")","v":"Serviceable"}]
[null,2928,1991,"Wood Untreated Dressed","Serviceable","Class 1",2016,150,142.16,9,{"$f":"INDEX(Lists!$B$32:$B$40, MATCH(2020-C1855, Lists!$C$32:$C$40,1))","v":"21-30"},{"$f":"SUMPRODUCT((Data!$B$17:$B$19=Model!$F1855)*(Data!$C$16:$K$16=Model!$K1855)*(Data!$C$17:$K$19))","v":1.96},132.36000000000001,{"$f":"_xlfn.IFS(M1855>70,\"Serviceable\",M1855>30, \"Limited Life\",M1855<=30, \"Unserviceable\")","v":"Serviceable"}]
[null,2932,1983,"Wood Creos Impregnated","Serviceable","Class 3",2016,100,87.12,9,{"$f":"INDEX(Lists!$B$32:$B$40, MATCH(2020-C1856, Lists!$C$32:$C$40,1))","v":"31-40"},{"$f":"SUMPRODUCT((Data!$B$17:$B$19=Model!$F1856)*(Data!$C$16:$K$16=Model!$K1856)*(Data!$C$17:$K$19))","v":3.22},71.02,{"$f":"_xlfn.IFS(M1856>70,\"Serviceable\",M1856>30, \"Limited Life\",M1856<=30, \"Unserviceable\")","v":"Serviceable"}]
[null,2933,1980,"Wood Untreated Dressed","Serviceable","Class 1",2020,140,140,5,{"$f":"INDEX(Lists!$B$32:$B$40, MATCH(2020-C1857, Lists!$C$32:$C$40,1))","v":"31-40"},{"$f":"SUMPRODUCT((Data!$B$17:$B$19=Model!$F1857)*(Data!$C$16:$K$16=Model!$K1857)*(Data!$C$17:$K$19))","v":2.52},127.4,{"$f":"_xlfn.IFS(M1857>70,\"Serviceable\",M1857>30, \"Limited Life\",M1857<=30, \"Unserviceable\")","v":"Serviceable"}]
[null,2934,1990,"Wood Untreated Dressed","Serviceable","Class 1",2018,150,146.08000000000001,7,{"$f":"INDEX(Lists!$B$32:$B$40, MATCH(2020-C1858, Lists!$C$32:$C$40,1))","v":"21-30"},{"$f":"SUMPRODUCT((Data!$B$17:$B$19=Model!$F1858)*(Data!$C$16:$K$16=Model!$K1858)*(Data!$C$17:$K$19))","v":1.96},136.28,{"$f":"_xlfn.IFS(M1858>70,\"Serviceable\",M1858>30, \"Limited Life\",M1858<=30, \"Unserviceable\")","v":"Serviceable"}]
[null,2935,1960,"Wood Creos Impregnated","Limited Life","Class 3",2016,80,69.08,9,{"$f":"INDEX(Lists!$B$32:$B$40, MATCH(2020-C1859, Lists!$C$32:$C$40,1))","v":"51-60"},{"$f":"SUMPRODUCT((Data!$B$17:$B$19=Model!$F1859)*(Data!$C$16:$K$16=Model!$K1859)*(Data!$C$17:$K$19))","v":2.73},55.43,{"$f":"_xlfn.IFS(M1859>70,\"Serviceable\",M1859>30, \"Limited Life\",M1859<=30, \"Unserviceable\")","v":"Limited Life"}]
[null,2939,1950,"Wood Untreated Round","Serviceable","Class 1",2018,100,95.94,7,{"$f":"INDEX(Lists!$B$32:$B$40, MATCH(2020-C1860, Lists!$C$32:$C$40,1))","v":"61-70"},{"$f":"SUMPRODUCT((Data!$B$17:$B$19=Model!$F1860)*(Data!$C$16:$K$16=Model!$K1860)*(Data!$C$17:$K$19))","v":2.0299999999999998},85.79,{"$f":"_xlfn.IFS(M1860>70,\"Serviceable\",M1860>30, \"Limited Life\",M1860<=30, \"Unserviceable\")","v":"Serviceable"}]
[null,2940,1953,"Wood Untreated Dressed","Limited Life","Class 1",2020,40,40,5,{"$f":"INDEX(Lists!$B$32:$B$40, MATCH(2020-C1861, Lists!$C$32:$C$40,1))","v":"61-70"},{"$f":"SUMPRODUCT((Data!$B$17:$B$19=Model!$F1861)*(Data!$C$16:$K$16=Model!$K1861)*(Data!$C$17:$K$19))","v":2.0299999999999998},29.85,{"$f":"_xlfn.IFS(M1861>70,\"Serviceable\",M1861>30, \"Limited Life\",M1861<=30, \"Unserviceable\")","v":"Unserviceable"}]
[null,2941,1960,"Wood Creos Impregnated","Unserviceable","Class 3",2016,20,9.08,9,{"$f":"INDEX(Lists!$B$32:$B$40, MATCH(2020-C1862, Lists!$C$32:$C$40,1))","v":"51-60"},{"$f":"SUMPRODUCT((Data!$B$17:$B$19=Model!$F1862)*(Data!$C$16:$K$16=Model!$K1862)*(Data!$C$17:$K$19))","v":2.73},0,{"$f":"_xlfn.IFS(M1862>70,\"Serviceable\",M1862>30, \"Limited Life\",M1862<=30, \"Unserviceable\")","v":"Unserviceable"}]
[null,2942,1963,"Wood Creos Impregnated","Serviceable","Class 3",2018,110,104.54,7,{"$f":"INDEX(Lists!$B$32:$B$40, MATCH(2020-C1863, Lists!$C$32:$C$40,1))","v":"51-60"},{"$f":"SUMPRODUCT((Data!$B$17:$B$19=Model!$F1863)*(Data!$C$16:$K$16=Model!$K1863)*(Data!$C$17:$K$19))","v":2.73},90.89,{"$f":"_xlfn.IFS(M1863>70,\"Serviceable\",M1863>30, \"Limited Life\",M1863<=30, \"Unserviceable\")","v":"Serviceable"}]
[null,2943,1991,"Wood Untreated Dressed","Serviceable","Class 1",2018,150,146.08000000000001,{"$f":"2025-G1864","v":7},{"$f":"INDEX(Lists!$B$32:$B$40, MATCH(2020-C1864, Lists!$C$32:$C$40,1))","v":"21-30"},{"$f":"SUMPRODUCT((Data!$B$17:$B$19=Model!$F1864)*(Data!$C$16:$K$16=Model!$K1864)*(Data!$C$17:$K$19))","v":1.96},{"$f":"IF(IF(H1864>=700,999,(H1864-L1864*J1864))<0,0,IF(H1864>=700,999,(H1864-L1864*J1864)))","v":136.28},{"$f":"_xlfn.IFS(M1864>70,\"Serviceable\",M1864>30, \"Limited Life\",M1864<=30, \"Unserviceable\")","v":"Serviceable"}]
[null,2945,1962,"Wood Creos Impregnated","Serviceable","Class 3",2018,110,104.54,7,{"$f":"INDEX(Lists!$B$32:$B$40, MATCH(2020-C1865, Lists!$C$32:$C$40,1))","v":"51-60"},{"$f":"SUMPRODUCT((Data!$B$17:$B$19=Model!$F1865)*(Data!$C$16:$K$16=Model!$K1865)*(Data!$C$17:$K$19))","v":2.73},90.89,{"$f":"_xlfn.IFS(M1865>70,\"Serviceable\",M1865>30, \"Limited Life\",M1865<=30, \"Unserviceable\")","v":"Serviceable"}]
[null,2946,1991,"Wood Untreated Dressed","Serviceable","Class 1",2017,150,144.12,8,{"$f":"INDEX(Lists!$B$32:$B$40, MATCH(2020-C1866, Lists!$C$32:$C$40,1))","v":"21-30"},{"$f":"SUMPRODUCT((Data!$B$17:$B$19=Model!$F1866)*(Data!$C$16:$K$16=Model!$K1866)*(Data!$C$17:$K$19))","v":1.96},134.32,{"$f":"_xlfn.IFS(M1866>70,\"Serviceable\",M1866>30, \"Limited Life\",M1866<=30, \"Unserviceable\")","v":"Serviceable"}]
[null,2947,1966,"Wood Creos Impregnated","Serviceable","Class 3",2016,90,79.08,9,{"$f":"INDEX(Lists!$B$32:$B$40, MATCH(2020-C1867, Lists!$C$32:$C$40,1))","v":"51-60"},{"$f":"SUMPRODUCT((Data!$B$17:$B$19=Model!$F1867)*(Data!$C$16:$K$16=Model!$K1867)*(Data!$C$17:$K$19))","v":2.73},65.430000000000007,{"$f":"_xlfn.IFS(M1867>70,\"Serviceable\",M1867>30, \"Limited Life\",M1867<=30, \"Unserviceable\")","v":"Limited Life"}]
[null,2949,1991,"Wood Untreated Dressed","Serviceable","Class 1",2017,150,144.12,8,{"$f":"INDEX(Lists!$B$32:$B$40, MATCH(2020-C1868, Lists!$C$32:$C$40,1))","v":"21-30"},{"$f":"SUMPRODUCT((Data!$B$17:$B$19=Model!$F1868)*(Data!$C$16:$K$16=Model!$K1868)*(Data!$C$17:$K$19))","v":1.96},134.32,{"$f":"_xlfn.IFS(M1868>70,\"Serviceable\",M1868>30, \"Limited Life\",M1868<=30, \"Unserviceable\")","v":"Serviceable"}]
[null,2950,1966,"Wood Creos Impregnated","Serviceable","Class 3",2016,100,89.08,9,{"$f":"INDEX(Lists!$B$32:$B$40, MATCH(2020-C1869, Lists!$C$32:$C$40,1))","v":"51-60"},{"$f":"SUMPRODUCT((Data!$B$17:$B$19=Model!$F1869)*(Data!$C$16:$K$16=Model!$K1869)*(Data!$C$17:$K$19))","v":2.73},75.430000000000007,{"$f":"_xlfn.IFS(M1869>70,\"Serviceable\",M1869>30, \"Limited Life\",M1869<=30, \"Unserviceable\")","v":"Serviceable"}]
[null,2951,1959,"Wood Creos Impregnated","Serviceable","Class 3",2018,100,95.96,7,{"$f":"INDEX(Lists!$B$32:$B$40, MATCH(2020-C1870, Lists!$C$32:$C$40,1))","v":"61-70"},{"$f":"SUMPRODUCT((Data!$B$17:$B$19=Model!$F1870)*(Data!$C$16:$K$16=Model!$K1870)*(Data!$C$17:$K$19))","v":2.02},85.86,{"$f":"_xlfn.IFS(M1870>70,\"Serviceable\",M1870>30, \"Limited Life\",M1870<=30, \"Unserviceable\")","v":"Serviceable"}]
[null,2952,1991,"Wood Untreated Dressed","Serviceable","Class 1",2017,140,134.12,8,{"$f":"INDEX(Lists!$B$32:$B$40, MATCH(2020-C1871, Lists!$C$32:$C$40,1))","v":"21-30"},{"$f":"SUMPRODUCT((Data!$B$17:$B$19=Model!$F1871)*(Data!$C$16:$K$16=Model!$K1871)*(Data!$C$17:$K$19))","v":1.96},124.32,{"$f":"_xlfn.IFS(M1871>70,\"Serviceable\",M1871>30, \"Limited Life\",M1871<=30, \"Unserviceable\")","v":"Serviceable"}]
[null,2953,1971,"Wood Creos Impregnated","Limited Life","Class 3",2016,85,69.88,9,{"$f":"INDEX(Lists!$B$32:$B$40, MATCH(2020-C1872, Lists!$C$32:$C$40,1))","v":"41-50"},{"$f":"SUMPRODUCT((Data!$B$17:$B$19=Model!$F1872)*(Data!$C$16:$K$16=Model!$K1872)*(Data!$C$17:$K$19))","v":3.78},50.980000000000004,{"$f":"_xlfn.IFS(M1872>70,\"Serviceable\",M1872>30, \"Limited Life\",M1872<=30, \"Unserviceable\")","v":"Limited Life"}]
[null,2954,1963,"Wood Creos Impregnated","Serviceable","Class 3",2018,110,104.54,7,{"$f":"INDEX(Lists!$B$32:$B$40, MATCH(2020-C1873, Lists!$C$32:$C$40,1))","v":"51-60"},{"$f":"SUMPRODUCT((Data!$B$17:$B$19=Model!$F1873)*(Data!$C$16:$K$16=Model!$K1873)*(Data!$C$17:$K$19))","v":2.73},90.89,{"$f":"_xlfn.IFS(M1873>70,\"Serviceable\",M1873>30, \"Limited Life\",M1873<=30, \"Unserviceable\")","v":"Serviceable"}]
[null,2956,1963,"Wood Creos Impregnated","Serviceable","Class 3",2017,110,101.81,8,{"$f":"INDEX(Lists!$B$32:$B$40, MATCH(2020-C1874, Lists!$C$32:$C$40,1))","v":"51-60"},{"$f":"SUMPRODUCT((Data!$B$17:$B$19=Model!$F1874)*(Data!$C$16:$K$16=Model!$K1874)*(Data!$C$17:$K$19))","v":2.73},88.16,{"$f":"_xlfn.IFS(M1874>70,\"Serviceable\",M1874>30, \"Limited Life\",M1874<=30, \"Unserviceable\")","v":"Serviceable"}]
[null,2959,1963,"Wood Creos Impregnated","Serviceable","Class 3",2017,80,71.81,8,{"$f":"INDEX(Lists!$B$32:$B$40, MATCH(2020-C1875, Lists!$C$32:$C$40,1))","v":"51-60"},{"$f":"SUMPRODUCT((Data!$B$17:$B$19=Model!$F1875)*(Data!$C$16:$K$16=Model!$K1875)*(Data!$C$17:$K$19))","v":2.73},58.16,{"$f":"_xlfn.IFS(M1875>70,\"Serviceable\",M1875>30, \"Limited Life\",M1875<=30, \"Unserviceable\")","v":"Limited Life"}]
[null,2960,1988,"Wood Untreated Dressed","Serviceable","Class 1",2018,120,114.96,7,{"$f":"INDEX(Lists!$B$32:$B$40, MATCH(2020-C1876, Lists!$C$32:$C$40,1))","v":"31-40"},{"$f":"SUMPRODUCT((Data!$B$17:$B$19=Model!$F1876)*(Data!$C$16:$K$16=Model!$K1876)*(Data!$C$17:$K$19))","v":2.52},102.36,{"$f":"_xlfn.IFS(M1876>70,\"Serviceable\",M1876>30, \"Limited Life\",M1876<=30, \"Unserviceable\")","v":"Serviceable"}]
[null,2963,1966,"Wood Creos Impregnated","Serviceable","Class 3",2017,90,81.81,8,{"$f":"INDEX(Lists!$B$32:$B$40, MATCH(2020-C1877, Lists!$C$32:$C$40,1))","v":"51-60"},{"$f":"SUMPRODUCT((Data!$B$17:$B$19=Model!$F1877)*(Data!$C$16:$K$16=Model!$K1877)*(Data!$C$17:$K$19))","v":2.73},68.16,{"$f":"_xlfn.IFS(M1877>70,\"Serviceable\",M1877>30, \"Limited Life\",M1877<=30, \"Unserviceable\")","v":"Limited Life"}]
[null,2965,1965,"Wood Creos Impregnated","Serviceable","Class 3",2018,100,94.54,7,{"$f":"INDEX(Lists!$B$32:$B$40, MATCH(2020-C1878, Lists!$C$32:$C$40,1))","v":"51-60"},{"$f":"SUMPRODUCT((Data!$B$17:$B$19=Model!$F1878)*(Data!$C$16:$K$16=Model!$K1878)*(Data!$C$17:$K$19))","v":2.73},80.89,{"$f":"_xlfn.IFS(M1878>70,\"Serviceable\",M1878>30, \"Limited Life\",M1878<=30, \"Unserviceable\")","v":"Serviceable"}]
[null,2967,1974,"Wood Creos Impregnated","Serviceable","Class 1",2016,120,113,9,{"$f":"INDEX(Lists!$B$32:$B$40, MATCH(2020-C1879, Lists!$C$32:$C$40,1))","v":"41-50"},{"$f":"SUMPRODUCT((Data!$B$17:$B$19=Model!$F1879)*(Data!$C$16:$K$16=Model!$K1879)*(Data!$C$17:$K$19))","v":1.75},104.25,{"$f":"_xlfn.IFS(M1879>70,\"Serviceable\",M1879>30, \"Limited Life\",M1879<=30, \"Unserviceable\")","v":"Serviceable"}]
[null,2969,1935,"Wood Untreated Dressed","Serviceable","Class 1",2016,100,88.76,9,{"$f":"INDEX(Lists!$B$32:$B$40, MATCH(2020-C1880, Lists!$C$32:$C$40,1))","v":"81-90"},{"$f":"SUMPRODUCT((Data!$B$17:$B$19=Model!$F1880)*(Data!$C$16:$K$16=Model!$K1880)*(Data!$C$17:$K$19))","v":2.81},74.710000000000008,{"$f":"_xlfn.IFS(M1880>70,\"Serviceable\",M1880>30, \"Limited Life\",M1880<=30, \"Unserviceable\")","v":"Serviceable"}]
[null,2971,1994,"Wood Untreated Dressed","Serviceable","Class 1",2018,150,146.08000000000001,7,{"$f":"INDEX(Lists!$B$32:$B$40, MATCH(2020-C1881, Lists!$C$32:$C$40,1))","v":"21-30"},{"$f":"SUMPRODUCT((Data!$B$17:$B$19=Model!$F1881)*(Data!$C$16:$K$16=Model!$K1881)*(Data!$C$17:$K$19))","v":1.96},136.28,{"$f":"_xlfn.IFS(M1881>70,\"Serviceable\",M1881>30, \"Limited Life\",M1881<=30, \"Unserviceable\")","v":"Serviceable"}]
[null,2973,1986,"Wood Untreated Dressed","Limited Life","Class 1",2016,80,69.92,9,{"$f":"INDEX(Lists!$B$32:$B$40, MATCH(2020-C1882, Lists!$C$32:$C$40,1))","v":"31-40"},{"$f":"SUMPRODUCT((Data!$B$17:$B$19=Model!$F1882)*(Data!$C$16:$K$16=Model!$K1882)*(Data!$C$17:$K$19))","v":2.52},57.32,{"$f":"_xlfn.IFS(M1882>70,\"Serviceable\",M1882>30, \"Limited Life\",M1882<=30, \"Unserviceable\")","v":"Limited Life"}]
[null,2974,1980,"Wood Untreated Dressed","Serviceable","Class 1",2019,120,117.48,6,{"$f":"INDEX(Lists!$B$32:$B$40, MATCH(2020-C1883, Lists!$C$32:$C$40,1))","v":"31-40"},{"$f":"SUMPRODUCT((Data!$B$17:$B$19=Model!$F1883)*(Data!$C$16:$K$16=Model!$K1883)*(Data!$C$17:$K$19))","v":2.52},104.88,{"$f":"_xlfn.IFS(M1883>70,\"Serviceable\",M1883>30, \"Limited Life\",M1883<=30, \"Unserviceable\")","v":"Serviceable"}]
[null,2976,1960,"Wood Creos Impregnated","Serviceable","Class 3",2016,90,79.08,9,{"$f":"INDEX(Lists!$B$32:$B$40, MATCH(2020-C1884, Lists!$C$32:$C$40,1))","v":"51-60"},{"$f":"SUMPRODUCT((Data!$B$17:$B$19=Model!$F1884)*(Data!$C$16:$K$16=Model!$K1884)*(Data!$C$17:$K$19))","v":2.73},65.430000000000007,{"$f":"_xlfn.IFS(M1884>70,\"Serviceable\",M1884>30, \"Limited Life\",M1884<=30, \"Unserviceable\")","v":"Limited Life"}]
[null,2977,1935,"Wood Untreated Dressed","Serviceable","Class 1",2016,110,98.76,9,{"$f":"INDEX(Lists!$B$32:$B$40, MATCH(2020-C1885, Lists!$C$32:$C$40,1))","v":"81-90"},{"$f":"SUMPRODUCT((Data!$B$17:$B$19=Model!$F1885)*(Data!$C$16:$K$16=Model!$K1885)*(Data!$C$17:$K$19))","v":2.81},84.710000000000008,{"$f":"_xlfn.IFS(M1885>70,\"Serviceable\",M1885>30, \"Limited Life\",M1885<=30, \"Unserviceable\")","v":"Serviceable"}]
[null,2980,1955,"Wood Untreated Round","Serviceable","Class 1",2017,100,93.91,8,{"$f":"INDEX(Lists!$B$32:$B$40, MATCH(2020-C1886, Lists!$C$32:$C$40,1))","v":"61-70"},{"$f":"SUMPRODUCT((Data!$B$17:$B$19=Model!$F1886)*(Data!$C$16:$K$16=Model!$K1886)*(Data!$C$17:$K$19))","v":2.0299999999999998},83.76,{"$f":"_xlfn.IFS(M1886>70,\"Serviceable\",M1886>30, \"Limited Life\",M1886<=30, \"Unserviceable\")","v":"Serviceable"}]
[null,2981,1958,"Wood Untreated Round","Serviceable","Class 2",2020,100,100,5,{"$f":"INDEX(Lists!$B$32:$B$40, MATCH(2020-C1887, Lists!$C$32:$C$40,1))","v":"61-70"},{"$f":"SUMPRODUCT((Data!$B$17:$B$19=Model!$F1887)*(Data!$C$16:$K$16=Model!$K1887)*(Data!$C$17:$K$19))","v":2.23},88.85,{"$f":"_xlfn.IFS(M1887>70,\"Serviceable\",M1887>30, \"Limited Life\",M1887<=30, \"Unserviceable\")","v":"Serviceable"}]
[null,2984,1958,"Wood Untreated Round","Serviceable","Class 1",2020,100,100,5,{"$f":"INDEX(Lists!$B$32:$B$40, MATCH(2020-C1888, Lists!$C$32:$C$40,1))","v":"61-70"},{"$f":"SUMPRODUCT((Data!$B$17:$B$19=Model!$F1888)*(Data!$C$16:$K$16=Model!$K1888)*(Data!$C$17:$K$19))","v":2.0299999999999998},89.85,{"$f":"_xlfn.IFS(M1888>70,\"Serviceable\",M1888>30, \"Limited Life\",M1888<=30, \"Unserviceable\")","v":"Serviceable"}]
[null,2985,1980,"Wood Creos Impregnated","Limited Life","Class 3",2016,80,67.12,9,{"$f":"INDEX(Lists!$B$32:$B$40, MATCH(2020-C1889, Lists!$C$32:$C$40,1))","v":"31-40"},{"$f":"SUMPRODUCT((Data!$B$17:$B$19=Model!$F1889)*(Data!$C$16:$K$16=Model!$K1889)*(Data!$C$17:$K$19))","v":3.22},51.019999999999996,{"$f":"_xlfn.IFS(M1889>70,\"Serviceable\",M1889>30, \"Limited Life\",M1889<=30, \"Unserviceable\")","v":"Limited Life"}]
[null,2988,1985,"Wood Untreated Dressed","Serviceable","Class 1",2016,100,89.92,9,{"$f":"INDEX(Lists!$B$32:$B$40, MATCH(2020-C1890, Lists!$C$32:$C$40,1))","v":"31-40"},{"$f":"SUMPRODUCT((Data!$B$17:$B$19=Model!$F1890)*(Data!$C$16:$K$16=Model!$K1890)*(Data!$C$17:$K$19))","v":2.52},77.319999999999993,{"$f":"_xlfn.IFS(M1890>70,\"Serviceable\",M1890>30, \"Limited Life\",M1890<=30, \"Unserviceable\")","v":"Serviceable"}]
[null,2989,1994,"Wood Untreated Dressed","Serviceable","Class 1",2018,150,146.08000000000001,7,{"$f":"INDEX(Lists!$B$32:$B$40, MATCH(2020-C1891, Lists!$C$32:$C$40,1))","v":"21-30"},{"$f":"SUMPRODUCT((Data!$B$17:$B$19=Model!$F1891)*(Data!$C$16:$K$16=Model!$K1891)*(Data!$C$17:$K$19))","v":1.96},136.28,{"$f":"_xlfn.IFS(M1891>70,\"Serviceable\",M1891>30, \"Limited Life\",M1891<=30, \"Unserviceable\")","v":"Serviceable"}]
[null,2990,1983,"Wood Untreated Dressed","Serviceable","Class 1",2017,120,112.44,8,{"$f":"INDEX(Lists!$B$32:$B$40, MATCH(2020-C1892, Lists!$C$32:$C$40,1))","v":"31-40"},{"$f":"SUMPRODUCT((Data!$B$17:$B$19=Model!$F1892)*(Data!$C$16:$K$16=Model!$K1892)*(Data!$C$17:$K$19))","v":2.52},99.84,{"$f":"_xlfn.IFS(M1892>70,\"Serviceable\",M1892>30, \"Limited Life\",M1892<=30, \"Unserviceable\")","v":"Serviceable"}]
[null,2991,1974,"Wood Creos Impregnated","Serviceable","Class 3",2016,110,94.88,9,{"$f":"INDEX(Lists!$B$32:$B$40, MATCH(2020-C1893, Lists!$C$32:$C$40,1))","v":"41-50"},{"$f":"SUMPRODUCT((Data!$B$17:$B$19=Model!$F1893)*(Data!$C$16:$K$16=Model!$K1893)*(Data!$C$17:$K$19))","v":3.78},75.98,{"$f":"_xlfn.IFS(M1893>70,\"Serviceable\",M1893>30, \"Limited Life\",M1893<=30, \"Unserviceable\")","v":"Serviceable"}]
[null,2992,1994,"Wood Untreated Dressed","Serviceable","Class 1",2018,150,146.08000000000001,7,{"$f":"INDEX(Lists!$B$32:$B$40, MATCH(2020-C1894, Lists!$C$32:$C$40,1))","v":"21-30"},{"$f":"SUMPRODUCT((Data!$B$17:$B$19=Model!$F1894)*(Data!$C$16:$K$16=Model!$K1894)*(Data!$C$17:$K$19))","v":1.96},136.28,{"$f":"_xlfn.IFS(M1894>70,\"Serviceable\",M1894>30, \"Limited Life\",M1894<=30, \"Unserviceable\")","v":"Serviceable"}]
[null,2993,1997,"CCA Treated Pole","Serviceable","Class 1",2016,150,142.16,9,{"$f":"INDEX(Lists!$B$32:$B$40, MATCH(2020-C1895, Lists!$C$32:$C$40,1))","v":"21-30"},{"$f":"SUMPRODUCT((Data!$B$17:$B$19=Model!$F1895)*(Data!$C$16:$K$16=Model!$K1895)*(Data!$C$17:$K$19))","v":1.96},132.36000000000001,{"$f":"_xlfn.IFS(M1895>70,\"Serviceable\",M1895>30, \"Limited Life\",M1895<=30, \"Unserviceable\")","v":"Serviceable"}]
[null,2995,1982,"Wood Untreated Dressed","Serviceable","Class 1",2017,100,92.44,8,{"$f":"INDEX(Lists!$B$32:$B$40, MATCH(2020-C1896, Lists!$C$32:$C$40,1))","v":"31-40"},{"$f":"SUMPRODUCT((Data!$B$17:$B$19=Model!$F1896)*(Data!$C$16:$K$16=Model!$K1896)*(Data!$C$17:$K$19))","v":2.52},79.84,{"$f":"_xlfn.IFS(M1896>70,\"Serviceable\",M1896>30, \"Limited Life\",M1896<=30, \"Unserviceable\")","v":"Serviceable"}]
[null,2999,1976,"Wood Creos Impregnated","Serviceable","Class 3",2017,130,118.66,8,{"$f":"INDEX(Lists!$B$32:$B$40, MATCH(2020-C1897, Lists!$C$32:$C$40,1))","v":"41-50"},{"$f":"SUMPRODUCT((Data!$B$17:$B$19=Model!$F1897)*(Data!$C$16:$K$16=Model!$K1897)*(Data!$C$17:$K$19))","v":3.78},99.76,{"$f":"_xlfn.IFS(M1897>70,\"Serviceable\",M1897>30, \"Limited Life\",M1897<=30, \"Unserviceable\")","v":"Serviceable"}]
[null,3000,1994,"Wood Untreated Dressed","Serviceable","Class 1",2018,150,146.08000000000001,7,{"$f":"INDEX(Lists!$B$32:$B$40, MATCH(2020-C1898, Lists!$C$32:$C$40,1))","v":"21-30"},{"$f":"SUMPRODUCT((Data!$B$17:$B$19=Model!$F1898)*(Data!$C$16:$K$16=Model!$K1898)*(Data!$C$17:$K$19))","v":1.96},136.28,{"$f":"_xlfn.IFS(M1898>70,\"Serviceable\",M1898>30, \"Limited Life\",M1898<=30, \"Unserviceable\")","v":"Serviceable"}]
[null,3001,1983,"Wood Untreated Dressed","Serviceable","Class 1",2017,130,122.44,8,{"$f":"INDEX(Lists!$B$32:$B$40, MATCH(2020-C1899, Lists!$C$32:$C$40,1))","v":"31-40"},{"$f":"SUMPRODUCT((Data!$B$17:$B$19=Model!$F1899)*(Data!$C$16:$K$16=Model!$K1899)*(Data!$C$17:$K$19))","v":2.52},109.84,{"$f":"_xlfn.IFS(M1899>70,\"Serviceable\",M1899>30, \"Limited Life\",M1899<=30, \"Unserviceable\")","v":"Serviceable"}]
[null,3003,1994,"Wood Untreated Dressed","Serviceable","Class 1",2018,150,146.08000000000001,7,{"$f":"INDEX(Lists!$B$32:$B$40, MATCH(2020-C1900, Lists!$C$32:$C$40,1))","v":"21-30"},{"$f":"SUMPRODUCT((Data!$B$17:$B$19=Model!$F1900)*(Data!$C$16:$K$16=Model!$K1900)*(Data!$C$17:$K$19))","v":1.96},136.28,{"$f":"_xlfn.IFS(M1900>70,\"Serviceable\",M1900>30, \"Limited Life\",M1900<=30, \"Unserviceable\")","v":"Serviceable"}]
[null,3005,1982,"Wood Creos Impregnated","Serviceable","Class 3",2017,100,90.34,8,{"$f":"INDEX(Lists!$B$32:$B$40, MATCH(2020-C1901, Lists!$C$32:$C$40,1))","v":"31-40"},{"$f":"SUMPRODUCT((Data!$B$17:$B$19=Model!$F1901)*(Data!$C$16:$K$16=Model!$K1901)*(Data!$C$17:$K$19))","v":3.22},74.239999999999995,{"$f":"_xlfn.IFS(M1901>70,\"Serviceable\",M1901>30, \"Limited Life\",M1901<=30, \"Unserviceable\")","v":"Serviceable"}]
[null,3006,1962,"Wood Creos Impregnated","Serviceable","Class 3",2018,100,94.54,7,{"$f":"INDEX(Lists!$B$32:$B$40, MATCH(2020-C1902, Lists!$C$32:$C$40,1))","v":"51-60"},{"$f":"SUMPRODUCT((Data!$B$17:$B$19=Model!$F1902)*(Data!$C$16:$K$16=Model!$K1902)*(Data!$C$17:$K$19))","v":2.73},80.89,{"$f":"_xlfn.IFS(M1902>70,\"Serviceable\",M1902>30, \"Limited Life\",M1902<=30, \"Unserviceable\")","v":"Serviceable"}]
[null,3007,1989,"Wood Untreated Dressed","Serviceable","Class 1",2017,120,112.44,8,{"$f":"INDEX(Lists!$B$32:$B$40, MATCH(2020-C1903, Lists!$C$32:$C$40,1))","v":"31-40"},{"$f":"SUMPRODUCT((Data!$B$17:$B$19=Model!$F1903)*(Data!$C$16:$K$16=Model!$K1903)*(Data!$C$17:$K$19))","v":2.52},99.84,{"$f":"_xlfn.IFS(M1903>70,\"Serviceable\",M1903>30, \"Limited Life\",M1903<=30, \"Unserviceable\")","v":"Serviceable"}]
[null,3008,1975,"Wood Creos Impregnated","Serviceable","Class 1",2017,130,124.75,8,{"$f":"INDEX(Lists!$B$32:$B$40, MATCH(2020-C1904, Lists!$C$32:$C$40,1))","v":"41-50"},{"$f":"SUMPRODUCT((Data!$B$17:$B$19=Model!$F1904)*(Data!$C$16:$K$16=Model!$K1904)*(Data!$C$17:$K$19))","v":1.75},116,{"$f":"_xlfn.IFS(M1904>70,\"Serviceable\",M1904>30, \"Limited Life\",M1904<=30, \"Unserviceable\")","v":"Serviceable"}]
[null,3009,1959,"Wood Creos Impregnated","Serviceable","Class 3",2019,80,77.98,6,{"$f":"INDEX(Lists!$B$32:$B$40, MATCH(2020-C1905, Lists!$C$32:$C$40,1))","v":"61-70"},{"$f":"SUMPRODUCT((Data!$B$17:$B$19=Model!$F1905)*(Data!$C$16:$K$16=Model!$K1905)*(Data!$C$17:$K$19))","v":2.02},67.88,{"$f":"_xlfn.IFS(M1905>70,\"Serviceable\",M1905>30, \"Limited Life\",M1905<=30, \"Unserviceable\")","v":"Limited Life"}]
[null,3010,1980,"Wood Untreated Dressed","Serviceable","Class 1",2017,150,142.44,8,{"$f":"INDEX(Lists!$B$32:$B$40, MATCH(2020-C1906, Lists!$C$32:$C$40,1))","v":"31-40"},{"$f":"SUMPRODUCT((Data!$B$17:$B$19=Model!$F1906)*(Data!$C$16:$K$16=Model!$K1906)*(Data!$C$17:$K$19))","v":2.52},129.84,{"$f":"_xlfn.IFS(M1906>70,\"Serviceable\",M1906>30, \"Limited Life\",M1906<=30, \"Unserviceable\")","v":"Serviceable"}]
[null,3011,1959,"Wood Creos Impregnated","Serviceable","Class 3",2017,120,113.94,8,{"$f":"INDEX(Lists!$B$32:$B$40, MATCH(2020-C1907, Lists!$C$32:$C$40,1))","v":"61-70"},{"$f":"SUMPRODUCT((Data!$B$17:$B$19=Model!$F1907)*(Data!$C$16:$K$16=Model!$K1907)*(Data!$C$17:$K$19))","v":2.02},103.84,{"$f":"_xlfn.IFS(M1907>70,\"Serviceable\",M1907>30, \"Limited Life\",M1907<=30, \"Unserviceable\")","v":"Serviceable"}]
[null,3014,1971,"Wood Creos Impregnated","Serviceable","Class 2",2017,140,130.16,8,{"$f":"INDEX(Lists!$B$32:$B$40, MATCH(2020-C1908, Lists!$C$32:$C$40,1))","v":"41-50"},{"$f":"SUMPRODUCT((Data!$B$17:$B$19=Model!$F1908)*(Data!$C$16:$K$16=Model!$K1908)*(Data!$C$17:$K$19))","v":3.28},113.76,{"$f":"_xlfn.IFS(M1908>70,\"Serviceable\",M1908>30, \"Limited Life\",M1908<=30, \"Unserviceable\")","v":"Serviceable"}]
[null,3015,1958,"Wood Creos Impregnated","Serviceable","Class 3",2019,90,87.98,6,{"$f":"INDEX(Lists!$B$32:$B$40, MATCH(2020-C1909, Lists!$C$32:$C$40,1))","v":"61-70"},{"$f":"SUMPRODUCT((Data!$B$17:$B$19=Model!$F1909)*(Data!$C$16:$K$16=Model!$K1909)*(Data!$C$17:$K$19))","v":2.02},77.88,{"$f":"_xlfn.IFS(M1909>70,\"Serviceable\",M1909>30, \"Limited Life\",M1909<=30, \"Unserviceable\")","v":"Serviceable"}]
[null,3016,1967,"Wood Creos Impregnated","Serviceable","Class 3",2017,100,91.81,8,{"$f":"INDEX(Lists!$B$32:$B$40, MATCH(2020-C1910, Lists!$C$32:$C$40,1))","v":"51-60"},{"$f":"SUMPRODUCT((Data!$B$17:$B$19=Model!$F1910)*(Data!$C$16:$K$16=Model!$K1910)*(Data!$C$17:$K$19))","v":2.73},78.16,{"$f":"_xlfn.IFS(M1910>70,\"Serviceable\",M1910>30, \"Limited Life\",M1910<=30, \"Unserviceable\")","v":"Serviceable"}]
[null,3018,2010,"CCA Treated Pole","Serviceable","Class 2",2019,100,98.78,6,{"$f":"INDEX(Lists!$B$32:$B$40, MATCH(2020-C1911, Lists!$C$32:$C$40,1))","v":"0-20"},{"$f":"SUMPRODUCT((Data!$B$17:$B$19=Model!$F1911)*(Data!$C$16:$K$16=Model!$K1911)*(Data!$C$17:$K$19))","v":1.22},92.68,{"$f":"_xlfn.IFS(M1911>70,\"Serviceable\",M1911>30, \"Limited Life\",M1911<=30, \"Unserviceable\")","v":"Serviceable"}]
[null,3019,1938,"Wood Untreated Dressed","Serviceable","Class 1",2017,90,81.569999999999993,8,{"$f":"INDEX(Lists!$B$32:$B$40, MATCH(2020-C1912, Lists!$C$32:$C$40,1))","v":"81-90"},{"$f":"SUMPRODUCT((Data!$B$17:$B$19=Model!$F1912)*(Data!$C$16:$K$16=Model!$K1912)*(Data!$C$17:$K$19))","v":2.81},67.52,{"$f":"_xlfn.IFS(M1912>70,\"Serviceable\",M1912>30, \"Limited Life\",M1912<=30, \"Unserviceable\")","v":"Limited Life"}]
[null,3021,1982,"Wood Creos Impregnated","Serviceable","Class 1",2017,130,122.44,8,{"$f":"INDEX(Lists!$B$32:$B$40, MATCH(2020-C1913, Lists!$C$32:$C$40,1))","v":"31-40"},{"$f":"SUMPRODUCT((Data!$B$17:$B$19=Model!$F1913)*(Data!$C$16:$K$16=Model!$K1913)*(Data!$C$17:$K$19))","v":2.52},109.84,{"$f":"_xlfn.IFS(M1913>70,\"Serviceable\",M1913>30, \"Limited Life\",M1913<=30, \"Unserviceable\")","v":"Serviceable"}]
[null,3022,1988,"Wood Untreated Dressed","Serviceable","Class 1",2017,120,112.44,8,{"$f":"INDEX(Lists!$B$32:$B$40, MATCH(2020-C1914, Lists!$C$32:$C$40,1))","v":"31-40"},{"$f":"SUMPRODUCT((Data!$B$17:$B$19=Model!$F1914)*(Data!$C$16:$K$16=Model!$K1914)*(Data!$C$17:$K$19))","v":2.52},99.84,{"$f":"_xlfn.IFS(M1914>70,\"Serviceable\",M1914>30, \"Limited Life\",M1914<=30, \"Unserviceable\")","v":"Serviceable"}]
[null,3024,1959,"Wood Creos Impregnated","Limited Life","Class 3",2020,40,40,5,{"$f":"INDEX(Lists!$B$32:$B$40, MATCH(2020-C1915, Lists!$C$32:$C$40,1))","v":"61-70"},{"$f":"SUMPRODUCT((Data!$B$17:$B$19=Model!$F1915)*(Data!$C$16:$K$16=Model!$K1915)*(Data!$C$17:$K$19))","v":2.02},29.9,{"$f":"_xlfn.IFS(M1915>70,\"Serviceable\",M1915>30, \"Limited Life\",M1915<=30, \"Unserviceable\")","v":"Unserviceable"}]
[null,3025,1989,"Wood Untreated Dressed","Serviceable","Class 1",2017,120,112.44,8,{"$f":"INDEX(Lists!$B$32:$B$40, MATCH(2020-C1916, Lists!$C$32:$C$40,1))","v":"31-40"},{"$f":"SUMPRODUCT((Data!$B$17:$B$19=Model!$F1916)*(Data!$C$16:$K$16=Model!$K1916)*(Data!$C$17:$K$19))","v":2.52},99.84,{"$f":"_xlfn.IFS(M1916>70,\"Serviceable\",M1916>30, \"Limited Life\",M1916<=30, \"Unserviceable\")","v":"Serviceable"}]
[null,3026,1972,"Wood Untreated Dressed","Serviceable","Class 2",2019,110,106.72,6,{"$f":"INDEX(Lists!$B$32:$B$40, MATCH(2020-C1917, Lists!$C$32:$C$40,1))","v":"41-50"},{"$f":"SUMPRODUCT((Data!$B$17:$B$19=Model!$F1917)*(Data!$C$16:$K$16=Model!$K1917)*(Data!$C$17:$K$19))","v":3.28},90.32,{"$f":"_xlfn.IFS(M1917>70,\"Serviceable\",M1917>30, \"Limited Life\",M1917<=30, \"Unserviceable\")","v":"Serviceable"}]
[null,3027,2010,"CCA Treated Pole","Serviceable","Class 1",2017,150,146.82,8,{"$f":"INDEX(Lists!$B$32:$B$40, MATCH(2020-C1918, Lists!$C$32:$C$40,1))","v":"0-20"},{"$f":"SUMPRODUCT((Data!$B$17:$B$19=Model!$F1918)*(Data!$C$16:$K$16=Model!$K1918)*(Data!$C$17:$K$19))","v":1.06},141.52000000000001,{"$f":"_xlfn.IFS(M1918>70,\"Serviceable\",M1918>30, \"Limited Life\",M1918<=30, \"Unserviceable\")","v":"Serviceable"}]
[null,3029,1980,"Wood Untreated Round","Serviceable","Class 1",2019,100,97.48,6,{"$f":"INDEX(Lists!$B$32:$B$40, MATCH(2020-C1919, Lists!$C$32:$C$40,1))","v":"31-40"},{"$f":"SUMPRODUCT((Data!$B$17:$B$19=Model!$F1919)*(Data!$C$16:$K$16=Model!$K1919)*(Data!$C$17:$K$19))","v":2.52},84.88,{"$f":"_xlfn.IFS(M1919>70,\"Serviceable\",M1919>30, \"Limited Life\",M1919<=30, \"Unserviceable\")","v":"Serviceable"}]
[null,3030,2010,"CCA Treated Pole","Limited Life","Class 1",2017,70,66.819999999999993,8,{"$f":"INDEX(Lists!$B$32:$B$40, MATCH(2020-C1920, Lists!$C$32:$C$40,1))","v":"0-20"},{"$f":"SUMPRODUCT((Data!$B$17:$B$19=Model!$F1920)*(Data!$C$16:$K$16=Model!$K1920)*(Data!$C$17:$K$19))","v":1.06},61.519999999999996,{"$f":"_xlfn.IFS(M1920>70,\"Serviceable\",M1920>30, \"Limited Life\",M1920<=30, \"Unserviceable\")","v":"Limited Life"}]
[null,3033,1981,"Wood Untreated Dressed","Serviceable","Class 1",2019,120,117.48,6,{"$f":"INDEX(Lists!$B$32:$B$40, MATCH(2020-C1921, Lists!$C$32:$C$40,1))","v":"31-40"},{"$f":"SUMPRODUCT((Data!$B$17:$B$19=Model!$F1921)*(Data!$C$16:$K$16=Model!$K1921)*(Data!$C$17:$K$19))","v":2.52},104.88,{"$f":"_xlfn.IFS(M1921>70,\"Serviceable\",M1921>30, \"Limited Life\",M1921<=30, \"Unserviceable\")","v":"Serviceable"}]
[null,3034,1982,"Wood Creos Impregnated","Serviceable","Class 3",2017,100,90.34,8,{"$f":"INDEX(Lists!$B$32:$B$40, MATCH(2020-C1922, Lists!$C$32:$C$40,1))","v":"31-40"},{"$f":"SUMPRODUCT((Data!$B$17:$B$19=Model!$F1922)*(Data!$C$16:$K$16=Model!$K1922)*(Data!$C$17:$K$19))","v":3.22},74.239999999999995,{"$f":"_xlfn.IFS(M1922>70,\"Serviceable\",M1922>30, \"Limited Life\",M1922<=30, \"Unserviceable\")","v":"Serviceable"}]
[null,3036,1955,"Wood Untreated Round","Serviceable","Class 1",2019,90,87.97,6,{"$f":"INDEX(Lists!$B$32:$B$40, MATCH(2020-C1923, Lists!$C$32:$C$40,1))","v":"61-70"},{"$f":"SUMPRODUCT((Data!$B$17:$B$19=Model!$F1923)*(Data!$C$16:$K$16=Model!$K1923)*(Data!$C$17:$K$19))","v":2.0299999999999998},77.819999999999993,{"$f":"_xlfn.IFS(M1923>70,\"Serviceable\",M1923>30, \"Limited Life\",M1923<=30, \"Unserviceable\")","v":"Serviceable"}]
[null,3037,1958,"Wood Creos Impregnated","Serviceable","Class 3",2017,80,73.94,8,{"$f":"INDEX(Lists!$B$32:$B$40, MATCH(2020-C1924, Lists!$C$32:$C$40,1))","v":"61-70"},{"$f":"SUMPRODUCT((Data!$B$17:$B$19=Model!$F1924)*(Data!$C$16:$K$16=Model!$K1924)*(Data!$C$17:$K$19))","v":2.02},63.84,{"$f":"_xlfn.IFS(M1924>70,\"Serviceable\",M1924>30, \"Limited Life\",M1924<=30, \"Unserviceable\")","v":"Limited Life"}]
[null,3038,1937,"Wood Untreated Round","Serviceable","Class 1",2017,100,91.57,8,{"$f":"INDEX(Lists!$B$32:$B$40, MATCH(2020-C1925, Lists!$C$32:$C$40,1))","v":"81-90"},{"$f":"SUMPRODUCT((Data!$B$17:$B$19=Model!$F1925)*(Data!$C$16:$K$16=Model!$K1925)*(Data!$C$17:$K$19))","v":2.81},77.52,{"$f":"_xlfn.IFS(M1925>70,\"Serviceable\",M1925>30, \"Limited Life\",M1925<=30, \"Unserviceable\")","v":"Serviceable"}]
[null,3039,1977,"Wood Untreated Dressed","Serviceable","Class 1",2019,100,98.25,6,{"$f":"INDEX(Lists!$B$32:$B$40, MATCH(2020-C1926, Lists!$C$32:$C$40,1))","v":"41-50"},{"$f":"SUMPRODUCT((Data!$B$17:$B$19=Model!$F1926)*(Data!$C$16:$K$16=Model!$K1926)*(Data!$C$17:$K$19))","v":1.75},89.5,{"$f":"_xlfn.IFS(M1926>70,\"Serviceable\",M1926>30, \"Limited Life\",M1926<=30, \"Unserviceable\")","v":"Serviceable"}]
[null,3041,1979,"Wood Untreated Dressed","Serviceable","Class 1",2017,110,104.75,8,{"$f":"INDEX(Lists!$B$32:$B$40, MATCH(2020-C1927, Lists!$C$32:$C$40,1))","v":"41-50"},{"$f":"SUMPRODUCT((Data!$B$17:$B$19=Model!$F1927)*(Data!$C$16:$K$16=Model!$K1927)*(Data!$C$17:$K$19))","v":1.75},96,{"$f":"_xlfn.IFS(M1927>70,\"Serviceable\",M1927>30, \"Limited Life\",M1927<=30, \"Unserviceable\")","v":"Serviceable"}]
[null,3042,1974,"Wood Untreated Round","Serviceable","Class 1",2019,100,98.25,{"$f":"2025-G1928","v":6},{"$f":"INDEX(Lists!$B$32:$B$40, MATCH(2020-C1928, Lists!$C$32:$C$40,1))","v":"41-50"},{"$f":"SUMPRODUCT((Data!$B$17:$B$19=Model!$F1928)*(Data!$C$16:$K$16=Model!$K1928)*(Data!$C$17:$K$19))","v":1.75},{"$f":"IF(IF(H1928>=700,999,(H1928-L1928*J1928))<0,0,IF(H1928>=700,999,(H1928-L1928*J1928)))","v":89.5},{"$f":"_xlfn.IFS(M1928>70,\"Serviceable\",M1928>30, \"Limited Life\",M1928<=30, \"Unserviceable\")","v":"Serviceable"}]
[null,3044,1974,"Wood Untreated Dressed","Serviceable","Class 1",2019,90,88.25,6,{"$f":"INDEX(Lists!$B$32:$B$40, MATCH(2020-C1929, Lists!$C$32:$C$40,1))","v":"41-50"},{"$f":"SUMPRODUCT((Data!$B$17:$B$19=Model!$F1929)*(Data!$C$16:$K$16=Model!$K1929)*(Data!$C$17:$K$19))","v":1.75},79.5,{"$f":"_xlfn.IFS(M1929>70,\"Serviceable\",M1929>30, \"Limited Life\",M1929<=30, \"Unserviceable\")","v":"Serviceable"}]
[null,3045,1987,"Wood Untreated Dressed","Serviceable","Class 1",2017,130,122.44,8,{"$f":"INDEX(Lists!$B$32:$B$40, MATCH(2020-C1930, Lists!$C$32:$C$40,1))","v":"31-40"},{"$f":"SUMPRODUCT((Data!$B$17:$B$19=Model!$F1930)*(Data!$C$16:$K$16=Model!$K1930)*(Data!$C$17:$K$19))","v":2.52},109.84,{"$f":"_xlfn.IFS(M1930>70,\"Serviceable\",M1930>30, \"Limited Life\",M1930<=30, \"Unserviceable\")","v":"Serviceable"}]
[null,3046,1994,"Wood Untreated Dressed","Serviceable","Class 1",2017,140,134.12,8,{"$f":"INDEX(Lists!$B$32:$B$40, MATCH(2020-C1931, Lists!$C$32:$C$40,1))","v":"21-30"},{"$f":"SUMPRODUCT((Data!$B$17:$B$19=Model!$F1931)*(Data!$C$16:$K$16=Model!$K1931)*(Data!$C$17:$K$19))","v":1.96},124.32,{"$f":"_xlfn.IFS(M1931>70,\"Serviceable\",M1931>30, \"Limited Life\",M1931<=30, \"Unserviceable\")","v":"Serviceable"}]
[null,3047,1975,"Wood Creos Impregnated","Serviceable","Class 1",2020,120,120,5,{"$f":"INDEX(Lists!$B$32:$B$40, MATCH(2020-C1932, Lists!$C$32:$C$40,1))","v":"41-50"},{"$f":"SUMPRODUCT((Data!$B$17:$B$19=Model!$F1932)*(Data!$C$16:$K$16=Model!$K1932)*(Data!$C$17:$K$19))","v":1.75},111.25,{"$f":"_xlfn.IFS(M1932>70,\"Serviceable\",M1932>30, \"Limited Life\",M1932<=30, \"Unserviceable\")","v":"Serviceable"}]
[null,3049,1976,"Wood Creos Impregnated","Serviceable","Class 1",2017,140,134.75,8,{"$f":"INDEX(Lists!$B$32:$B$40, MATCH(2020-C1933, Lists!$C$32:$C$40,1))","v":"41-50"},{"$f":"SUMPRODUCT((Data!$B$17:$B$19=Model!$F1933)*(Data!$C$16:$K$16=Model!$K1933)*(Data!$C$17:$K$19))","v":1.75},126,{"$f":"_xlfn.IFS(M1933>70,\"Serviceable\",M1933>30, \"Limited Life\",M1933<=30, \"Unserviceable\")","v":"Serviceable"}]
[null,3051,2000,"CCA Treated Pole","Serviceable","Class 2",2017,162.49719689682513,158.83719689682513,8,{"$f":"INDEX(Lists!$B$32:$B$40, MATCH(2020-C1934, Lists!$C$32:$C$40,1))","v":"0-20"},{"$f":"SUMPRODUCT((Data!$B$17:$B$19=Model!$F1934)*(Data!$C$16:$K$16=Model!$K1934)*(Data!$C$17:$K$19))","v":1.22},152.73719689682514,{"$f":"_xlfn.IFS(M1934>70,\"Serviceable\",M1934>30, \"Limited Life\",M1934<=30, \"Unserviceable\")","v":"Serviceable"}]
[null,3052,1977,"Wood Creos Impregnated","Serviceable","Class 1",2017,130,124.75,8,{"$f":"INDEX(Lists!$B$32:$B$40, MATCH(2020-C1935, Lists!$C$32:$C$40,1))","v":"41-50"},{"$f":"SUMPRODUCT((Data!$B$17:$B$19=Model!$F1935)*(Data!$C$16:$K$16=Model!$K1935)*(Data!$C$17:$K$19))","v":1.75},116,{"$f":"_xlfn.IFS(M1935>70,\"Serviceable\",M1935>30, \"Limited Life\",M1935<=30, \"Unserviceable\")","v":"Serviceable"}]
[null,3053,1984,"Wood Untreated Dressed","Serviceable","Class 1",2018,100,94.96,7,{"$f":"INDEX(Lists!$B$32:$B$40, MATCH(2020-C1936, Lists!$C$32:$C$40,1))","v":"31-40"},{"$f":"SUMPRODUCT((Data!$B$17:$B$19=Model!$F1936)*(Data!$C$16:$K$16=Model!$K1936)*(Data!$C$17:$K$19))","v":2.52},82.36,{"$f":"_xlfn.IFS(M1936>70,\"Serviceable\",M1936>30, \"Limited Life\",M1936<=30, \"Unserviceable\")","v":"Serviceable"}]
[null,3054,1988,"Wood Untreated Dressed","Serviceable","Class 1",2017,150,142.44,8,{"$f":"INDEX(Lists!$B$32:$B$40, MATCH(2020-C1937, Lists!$C$32:$C$40,1))","v":"31-40"},{"$f":"SUMPRODUCT((Data!$B$17:$B$19=Model!$F1937)*(Data!$C$16:$K$16=Model!$K1937)*(Data!$C$17:$K$19))","v":2.52},129.84,{"$f":"_xlfn.IFS(M1937>70,\"Serviceable\",M1937>30, \"Limited Life\",M1937<=30, \"Unserviceable\")","v":"Serviceable"}]
[null,3055,1979,"Wood Creos Impregnated","Serviceable","Class 3",2017,100,88.66,8,{"$f":"INDEX(Lists!$B$32:$B$40, MATCH(2020-C1938, Lists!$C$32:$C$40,1))","v":"41-50"},{"$f":"SUMPRODUCT((Data!$B$17:$B$19=Model!$F1938)*(Data!$C$16:$K$16=Model!$K1938)*(Data!$C$17:$K$19))","v":3.78},69.760000000000005,{"$f":"_xlfn.IFS(M1938>70,\"Serviceable\",M1938>30, \"Limited Life\",M1938<=30, \"Unserviceable\")","v":"Limited Life"}]
[null,3056,1970,"Wood Creos Impregnated","Serviceable","Class 2",2018,100,93.44,7,{"$f":"INDEX(Lists!$B$32:$B$40, MATCH(2020-C1939, Lists!$C$32:$C$40,1))","v":"41-50"},{"$f":"SUMPRODUCT((Data!$B$17:$B$19=Model!$F1939)*(Data!$C$16:$K$16=Model!$K1939)*(Data!$C$17:$K$19))","v":3.28},77.040000000000006,{"$f":"_xlfn.IFS(M1939>70,\"Serviceable\",M1939>30, \"Limited Life\",M1939<=30, \"Unserviceable\")","v":"Serviceable"}]
[null,3060,2000,"CCA Treated Pole","Serviceable","Class 1",2018,166.31691553103065,164.19691553103064,7,{"$f":"INDEX(Lists!$B$32:$B$40, MATCH(2020-C1940, Lists!$C$32:$C$40,1))","v":"0-20"},{"$f":"SUMPRODUCT((Data!$B$17:$B$19=Model!$F1940)*(Data!$C$16:$K$16=Model!$K1940)*(Data!$C$17:$K$19))","v":1.06},158.89691553103066,{"$f":"_xlfn.IFS(M1940>70,\"Serviceable\",M1940>30, \"Limited Life\",M1940<=30, \"Unserviceable\")","v":"Serviceable"}]
[null,3061,1976,"Wood Creos Impregnated","Serviceable","Class 3",2017,100,88.66,8,{"$f":"INDEX(Lists!$B$32:$B$40, MATCH(2020-C1941, Lists!$C$32:$C$40,1))","v":"41-50"},{"$f":"SUMPRODUCT((Data!$B$17:$B$19=Model!$F1941)*(Data!$C$16:$K$16=Model!$K1941)*(Data!$C$17:$K$19))","v":3.78},69.760000000000005,{"$f":"_xlfn.IFS(M1941>70,\"Serviceable\",M1941>30, \"Limited Life\",M1941<=30, \"Unserviceable\")","v":"Limited Life"}]
[null,3062,1970,"Wood Creos Impregnated","Serviceable","Class 3",2018,90,82.44,7,{"$f":"INDEX(Lists!$B$32:$B$40, MATCH(2020-C1942, Lists!$C$32:$C$40,1))","v":"41-50"},{"$f":"SUMPRODUCT((Data!$B$17:$B$19=Model!$F1942)*(Data!$C$16:$K$16=Model!$K1942)*(Data!$C$17:$K$19))","v":3.78},63.540000000000006,{"$f":"_xlfn.IFS(M1942>70,\"Serviceable\",M1942>30, \"Limited Life\",M1942<=30, \"Unserviceable\")","v":"Limited Life"}]
[null,3064,1959,"Wood Creos Impregnated","Serviceable","Class 3",2017,80,73.94,8,{"$f":"INDEX(Lists!$B$32:$B$40, MATCH(2020-C1943, Lists!$C$32:$C$40,1))","v":"61-70"},{"$f":"SUMPRODUCT((Data!$B$17:$B$19=Model!$F1943)*(Data!$C$16:$K$16=Model!$K1943)*(Data!$C$17:$K$19))","v":2.02},63.84,{"$f":"_xlfn.IFS(M1943>70,\"Serviceable\",M1943>30, \"Limited Life\",M1943<=30, \"Unserviceable\")","v":"Limited Life"}]
[null,3066,1967,"Wood Creos Impregnated","Serviceable","Class 3",2018,100,94.54,7,{"$f":"INDEX(Lists!$B$32:$B$40, MATCH(2020-C1944, Lists!$C$32:$C$40,1))","v":"51-60"},{"$f":"SUMPRODUCT((Data!$B$17:$B$19=Model!$F1944)*(Data!$C$16:$K$16=Model!$K1944)*(Data!$C$17:$K$19))","v":2.73},80.89,{"$f":"_xlfn.IFS(M1944>70,\"Serviceable\",M1944>30, \"Limited Life\",M1944<=30, \"Unserviceable\")","v":"Serviceable"}]
[null,3067,1979,"Wood Creos Impregnated","Serviceable","Class 3",2016,120,104.88,9,{"$f":"INDEX(Lists!$B$32:$B$40, MATCH(2020-C1945, Lists!$C$32:$C$40,1))","v":"41-50"},{"$f":"SUMPRODUCT((Data!$B$17:$B$19=Model!$F1945)*(Data!$C$16:$K$16=Model!$K1945)*(Data!$C$17:$K$19))","v":3.78},85.98,{"$f":"_xlfn.IFS(M1945>70,\"Serviceable\",M1945>30, \"Limited Life\",M1945<=30, \"Unserviceable\")","v":"Serviceable"}]
[null,3068,2005,"CCA Treated Pole","Serviceable","Class 2",2016,160,155.12,9,{"$f":"INDEX(Lists!$B$32:$B$40, MATCH(2020-C1946, Lists!$C$32:$C$40,1))","v":"0-20"},{"$f":"SUMPRODUCT((Data!$B$17:$B$19=Model!$F1946)*(Data!$C$16:$K$16=Model!$K1946)*(Data!$C$17:$K$19))","v":1.22},149.02000000000001,{"$f":"_xlfn.IFS(M1946>70,\"Serviceable\",M1946>30, \"Limited Life\",M1946<=30, \"Unserviceable\")","v":"Serviceable"}]
[null,3070,1960,"Wood Creos Impregnated","Limited Life","Class 3",2016,80,69.08,9,{"$f":"INDEX(Lists!$B$32:$B$40, MATCH(2020-C1947, Lists!$C$32:$C$40,1))","v":"51-60"},{"$f":"SUMPRODUCT((Data!$B$17:$B$19=Model!$F1947)*(Data!$C$16:$K$16=Model!$K1947)*(Data!$C$17:$K$19))","v":2.73},55.43,{"$f":"_xlfn.IFS(M1947>70,\"Serviceable\",M1947>30, \"Limited Life\",M1947<=30, \"Unserviceable\")","v":"Limited Life"}]
[null,3071,1970,"Wood Creos Impregnated","Serviceable","Class 3",2018,110,102.44,7,{"$f":"INDEX(Lists!$B$32:$B$40, MATCH(2020-C1948, Lists!$C$32:$C$40,1))","v":"41-50"},{"$f":"SUMPRODUCT((Data!$B$17:$B$19=Model!$F1948)*(Data!$C$16:$K$16=Model!$K1948)*(Data!$C$17:$K$19))","v":3.78},83.54,{"$f":"_xlfn.IFS(M1948>70,\"Serviceable\",M1948>30, \"Limited Life\",M1948<=30, \"Unserviceable\")","v":"Serviceable"}]
[null,3072,1971,"Wood Creos Impregnated","Serviceable","Class 3",2016,120,104.88,9,{"$f":"INDEX(Lists!$B$32:$B$40, MATCH(2020-C1949, Lists!$C$32:$C$40,1))","v":"41-50"},{"$f":"SUMPRODUCT((Data!$B$17:$B$19=Model!$F1949)*(Data!$C$16:$K$16=Model!$K1949)*(Data!$C$17:$K$19))","v":3.78},85.98,{"$f":"_xlfn.IFS(M1949>70,\"Serviceable\",M1949>30, \"Limited Life\",M1949<=30, \"Unserviceable\")","v":"Serviceable"}]
[null,3073,1958,"Wood Creos Impregnated","Serviceable","Class 3",2018,80,75.959999999999994,7,{"$f":"INDEX(Lists!$B$32:$B$40, MATCH(2020-C1950, Lists!$C$32:$C$40,1))","v":"61-70"},{"$f":"SUMPRODUCT((Data!$B$17:$B$19=Model!$F1950)*(Data!$C$16:$K$16=Model!$K1950)*(Data!$C$17:$K$19))","v":2.02},65.86,{"$f":"_xlfn.IFS(M1950>70,\"Serviceable\",M1950>30, \"Limited Life\",M1950<=30, \"Unserviceable\")","v":"Limited Life"}]
[null,3075,1971,"Wood Creos Impregnated","Limited Life","Class 2",2016,80,66.88,9,{"$f":"INDEX(Lists!$B$32:$B$40, MATCH(2020-C1951, Lists!$C$32:$C$40,1))","v":"41-50"},{"$f":"SUMPRODUCT((Data!$B$17:$B$19=Model!$F1951)*(Data!$C$16:$K$16=Model!$K1951)*(Data!$C$17:$K$19))","v":3.28},50.480000000000004,{"$f":"_xlfn.IFS(M1951>70,\"Serviceable\",M1951>30, \"Limited Life\",M1951<=30, \"Unserviceable\")","v":"Limited Life"}]
[null,3076,1979,"Wood Creos Impregnated","Serviceable","Class 1",2017,140,134.75,8,{"$f":"INDEX(Lists!$B$32:$B$40, MATCH(2020-C1952, Lists!$C$32:$C$40,1))","v":"41-50"},{"$f":"SUMPRODUCT((Data!$B$17:$B$19=Model!$F1952)*(Data!$C$16:$K$16=Model!$K1952)*(Data!$C$17:$K$19))","v":1.75},126,{"$f":"_xlfn.IFS(M1952>70,\"Serviceable\",M1952>30, \"Limited Life\",M1952<=30, \"Unserviceable\")","v":"Serviceable"}]
[null,3077,1990,"Wood Untreated Dressed","Serviceable","Class 1",2016,150,142.16,9,{"$f":"INDEX(Lists!$B$32:$B$40, MATCH(2020-C1953, Lists!$C$32:$C$40,1))","v":"21-30"},{"$f":"SUMPRODUCT((Data!$B$17:$B$19=Model!$F1953)*(Data!$C$16:$K$16=Model!$K1953)*(Data!$C$17:$K$19))","v":1.96},132.36000000000001,{"$f":"_xlfn.IFS(M1953>70,\"Serviceable\",M1953>30, \"Limited Life\",M1953<=30, \"Unserviceable\")","v":"Serviceable"}]
[null,3079,1977,"Wood Creos Impregnated","Serviceable","Class 1",2017,140,134.75,8,{"$f":"INDEX(Lists!$B$32:$B$40, MATCH(2020-C1954, Lists!$C$32:$C$40,1))","v":"41-50"},{"$f":"SUMPRODUCT((Data!$B$17:$B$19=Model!$F1954)*(Data!$C$16:$K$16=Model!$K1954)*(Data!$C$17:$K$19))","v":1.75},126,{"$f":"_xlfn.IFS(M1954>70,\"Serviceable\",M1954>30, \"Limited Life\",M1954<=30, \"Unserviceable\")","v":"Serviceable"}]
[null,3081,1941,"Wood Untreated Dressed","Serviceable","Class 1",2018,110,105.7,7,{"$f":"INDEX(Lists!$B$32:$B$40, MATCH(2020-C1955, Lists!$C$32:$C$40,1))","v":"71-80"},{"$f":"SUMPRODUCT((Data!$B$17:$B$19=Model!$F1955)*(Data!$C$16:$K$16=Model!$K1955)*(Data!$C$17:$K$19))","v":2.15},94.95,{"$f":"_xlfn.IFS(M1955>70,\"Serviceable\",M1955>30, \"Limited Life\",M1955<=30, \"Unserviceable\")","v":"Serviceable"}]
[null,3082,1959,"Wood Creos Impregnated","Serviceable","Class 3",2017,90,83.94,8,{"$f":"INDEX(Lists!$B$32:$B$40, MATCH(2020-C1956, Lists!$C$32:$C$40,1))","v":"61-70"},{"$f":"SUMPRODUCT((Data!$B$17:$B$19=Model!$F1956)*(Data!$C$16:$K$16=Model!$K1956)*(Data!$C$17:$K$19))","v":2.02},73.84,{"$f":"_xlfn.IFS(M1956>70,\"Serviceable\",M1956>30, \"Limited Life\",M1956<=30, \"Unserviceable\")","v":"Serviceable"}]
[null,3084,1936,"Wood Untreated Dressed","Serviceable","Class 1",2016,120,108.76,9,{"$f":"INDEX(Lists!$B$32:$B$40, MATCH(2020-C1957, Lists!$C$32:$C$40,1))","v":"81-90"},{"$f":"SUMPRODUCT((Data!$B$17:$B$19=Model!$F1957)*(Data!$C$16:$K$16=Model!$K1957)*(Data!$C$17:$K$19))","v":2.81},94.710000000000008,{"$f":"_xlfn.IFS(M1957>70,\"Serviceable\",M1957>30, \"Limited Life\",M1957<=30, \"Unserviceable\")","v":"Serviceable"}]
[null,3085,1982,"Wood Creos Impregnated","Serviceable","Class 3",2017,100,90.34,8,{"$f":"INDEX(Lists!$B$32:$B$40, MATCH(2020-C1958, Lists!$C$32:$C$40,1))","v":"31-40"},{"$f":"SUMPRODUCT((Data!$B$17:$B$19=Model!$F1958)*(Data!$C$16:$K$16=Model!$K1958)*(Data!$C$17:$K$19))","v":3.22},74.239999999999995,{"$f":"_xlfn.IFS(M1958>70,\"Serviceable\",M1958>30, \"Limited Life\",M1958<=30, \"Unserviceable\")","v":"Serviceable"}]
[null,3087,1969,"Wood Creos Impregnated","Limited Life","Class 3",2016,70,59.08,9,{"$f":"INDEX(Lists!$B$32:$B$40, MATCH(2020-C1959, Lists!$C$32:$C$40,1))","v":"51-60"},{"$f":"SUMPRODUCT((Data!$B$17:$B$19=Model!$F1959)*(Data!$C$16:$K$16=Model!$K1959)*(Data!$C$17:$K$19))","v":2.73},45.43,{"$f":"_xlfn.IFS(M1959>70,\"Serviceable\",M1959>30, \"Limited Life\",M1959<=30, \"Unserviceable\")","v":"Limited Life"}]
[null,3088,1985,"Wood Untreated Dressed","Serviceable","Class 1",2017,100,92.44,8,{"$f":"INDEX(Lists!$B$32:$B$40, MATCH(2020-C1960, Lists!$C$32:$C$40,1))","v":"31-40"},{"$f":"SUMPRODUCT((Data!$B$17:$B$19=Model!$F1960)*(Data!$C$16:$K$16=Model!$K1960)*(Data!$C$17:$K$19))","v":2.52},79.84,{"$f":"_xlfn.IFS(M1960>70,\"Serviceable\",M1960>30, \"Limited Life\",M1960<=30, \"Unserviceable\")","v":"Serviceable"}]
[null,3092,1958,"Wood Untreated Round","Serviceable","Class 2",2018,80,75.540000000000006,7,{"$f":"INDEX(Lists!$B$32:$B$40, MATCH(2020-C1961, Lists!$C$32:$C$40,1))","v":"61-70"},{"$f":"SUMPRODUCT((Data!$B$17:$B$19=Model!$F1961)*(Data!$C$16:$K$16=Model!$K1961)*(Data!$C$17:$K$19))","v":2.23},64.39,{"$f":"_xlfn.IFS(M1961>70,\"Serviceable\",M1961>30, \"Limited Life\",M1961<=30, \"Unserviceable\")","v":"Limited Life"}]
[null,3093,1983,"Wood Untreated Dressed","Serviceable","Class 1",2016,140,129.91999999999999,9,{"$f":"INDEX(Lists!$B$32:$B$40, MATCH(2020-C1962, Lists!$C$32:$C$40,1))","v":"31-40"},{"$f":"SUMPRODUCT((Data!$B$17:$B$19=Model!$F1962)*(Data!$C$16:$K$16=Model!$K1962)*(Data!$C$17:$K$19))","v":2.52},117.32,{"$f":"_xlfn.IFS(M1962>70,\"Serviceable\",M1962>30, \"Limited Life\",M1962<=30, \"Unserviceable\")","v":"Serviceable"}]
[null,3094,1986,"Wood Untreated Dressed","Serviceable","Class 1",2017,100,92.44,8,{"$f":"INDEX(Lists!$B$32:$B$40, MATCH(2020-C1963, Lists!$C$32:$C$40,1))","v":"31-40"},{"$f":"SUMPRODUCT((Data!$B$17:$B$19=Model!$F1963)*(Data!$C$16:$K$16=Model!$K1963)*(Data!$C$17:$K$19))","v":2.52},79.84,{"$f":"_xlfn.IFS(M1963>70,\"Serviceable\",M1963>30, \"Limited Life\",M1963<=30, \"Unserviceable\")","v":"Serviceable"}]
[null,3095,1946,"Wood Untreated Dressed","Serviceable","Class 1",2018,110,105.7,7,{"$f":"INDEX(Lists!$B$32:$B$40, MATCH(2020-C1964, Lists!$C$32:$C$40,1))","v":"71-80"},{"$f":"SUMPRODUCT((Data!$B$17:$B$19=Model!$F1964)*(Data!$C$16:$K$16=Model!$K1964)*(Data!$C$17:$K$19))","v":2.15},94.95,{"$f":"_xlfn.IFS(M1964>70,\"Serviceable\",M1964>30, \"Limited Life\",M1964<=30, \"Unserviceable\")","v":"Serviceable"}]
[null,3098,1986,"Wood Untreated Dressed","Serviceable","Class 1",2018,120,114.96,7,{"$f":"INDEX(Lists!$B$32:$B$40, MATCH(2020-C1965, Lists!$C$32:$C$40,1))","v":"31-40"},{"$f":"SUMPRODUCT((Data!$B$17:$B$19=Model!$F1965)*(Data!$C$16:$K$16=Model!$K1965)*(Data!$C$17:$K$19))","v":2.52},102.36,{"$f":"_xlfn.IFS(M1965>70,\"Serviceable\",M1965>30, \"Limited Life\",M1965<=30, \"Unserviceable\")","v":"Serviceable"}]
[null,3101,1973,"Wood Creos Impregnated","Limited Life","Class 3",2018,70,62.44,7,{"$f":"INDEX(Lists!$B$32:$B$40, MATCH(2020-C1966, Lists!$C$32:$C$40,1))","v":"41-50"},{"$f":"SUMPRODUCT((Data!$B$17:$B$19=Model!$F1966)*(Data!$C$16:$K$16=Model!$K1966)*(Data!$C$17:$K$19))","v":3.78},43.540000000000006,{"$f":"_xlfn.IFS(M1966>70,\"Serviceable\",M1966>30, \"Limited Life\",M1966<=30, \"Unserviceable\")","v":"Limited Life"}]
[null,3106,1975,"Wood Untreated Dressed","Serviceable","Class 1",2018,120,116.5,7,{"$f":"INDEX(Lists!$B$32:$B$40, MATCH(2020-C1967, Lists!$C$32:$C$40,1))","v":"41-50"},{"$f":"SUMPRODUCT((Data!$B$17:$B$19=Model!$F1967)*(Data!$C$16:$K$16=Model!$K1967)*(Data!$C$17:$K$19))","v":1.75},107.75,{"$f":"_xlfn.IFS(M1967>70,\"Serviceable\",M1967>30, \"Limited Life\",M1967<=30, \"Unserviceable\")","v":"Serviceable"}]
[null,3108,1978,"Wood Untreated Dressed","Serviceable","Class 1",2016,130,123,9,{"$f":"INDEX(Lists!$B$32:$B$40, MATCH(2020-C1968, Lists!$C$32:$C$40,1))","v":"41-50"},{"$f":"SUMPRODUCT((Data!$B$17:$B$19=Model!$F1968)*(Data!$C$16:$K$16=Model!$K1968)*(Data!$C$17:$K$19))","v":1.75},114.25,{"$f":"_xlfn.IFS(M1968>70,\"Serviceable\",M1968>30, \"Limited Life\",M1968<=30, \"Unserviceable\")","v":"Serviceable"}]
[null,3109,1975,"Wood Creos Impregnated","Serviceable","Class 3",2018,110,102.44,7,{"$f":"INDEX(Lists!$B$32:$B$40, MATCH(2020-C1969, Lists!$C$32:$C$40,1))","v":"41-50"},{"$f":"SUMPRODUCT((Data!$B$17:$B$19=Model!$F1969)*(Data!$C$16:$K$16=Model!$K1969)*(Data!$C$17:$K$19))","v":3.78},83.54,{"$f":"_xlfn.IFS(M1969>70,\"Serviceable\",M1969>30, \"Limited Life\",M1969<=30, \"Unserviceable\")","v":"Serviceable"}]
[null,3110,1971,"Wood Creos Impregnated","Serviceable","Class 3",2016,100,84.88,9,{"$f":"INDEX(Lists!$B$32:$B$40, MATCH(2020-C1970, Lists!$C$32:$C$40,1))","v":"41-50"},{"$f":"SUMPRODUCT((Data!$B$17:$B$19=Model!$F1970)*(Data!$C$16:$K$16=Model!$K1970)*(Data!$C$17:$K$19))","v":3.78},65.98,{"$f":"_xlfn.IFS(M1970>70,\"Serviceable\",M1970>30, \"Limited Life\",M1970<=30, \"Unserviceable\")","v":"Limited Life"}]
[null,3111,1978,"Wood Untreated Dressed","Serviceable","Class 1",2016,140,133,9,{"$f":"INDEX(Lists!$B$32:$B$40, MATCH(2020-C1971, Lists!$C$32:$C$40,1))","v":"41-50"},{"$f":"SUMPRODUCT((Data!$B$17:$B$19=Model!$F1971)*(Data!$C$16:$K$16=Model!$K1971)*(Data!$C$17:$K$19))","v":1.75},124.25,{"$f":"_xlfn.IFS(M1971>70,\"Serviceable\",M1971>30, \"Limited Life\",M1971<=30, \"Unserviceable\")","v":"Serviceable"}]
[null,3113,1971,"Wood Creos Impregnated","Serviceable","Class 2",2016,100,86.88,9,{"$f":"INDEX(Lists!$B$32:$B$40, MATCH(2020-C1972, Lists!$C$32:$C$40,1))","v":"41-50"},{"$f":"SUMPRODUCT((Data!$B$17:$B$19=Model!$F1972)*(Data!$C$16:$K$16=Model!$K1972)*(Data!$C$17:$K$19))","v":3.28},70.48,{"$f":"_xlfn.IFS(M1972>70,\"Serviceable\",M1972>30, \"Limited Life\",M1972<=30, \"Unserviceable\")","v":"Serviceable"}]
[null,3114,1978,"Wood Untreated Dressed","Serviceable","Class 1",2016,140,133,9,{"$f":"INDEX(Lists!$B$32:$B$40, MATCH(2020-C1973, Lists!$C$32:$C$40,1))","v":"41-50"},{"$f":"SUMPRODUCT((Data!$B$17:$B$19=Model!$F1973)*(Data!$C$16:$K$16=Model!$K1973)*(Data!$C$17:$K$19))","v":1.75},124.25,{"$f":"_xlfn.IFS(M1973>70,\"Serviceable\",M1973>30, \"Limited Life\",M1973<=30, \"Unserviceable\")","v":"Serviceable"}]
[null,3115,1937,"Wood Untreated Dressed","Serviceable","Class 1",2020,100,100,5,{"$f":"INDEX(Lists!$B$32:$B$40, MATCH(2020-C1974, Lists!$C$32:$C$40,1))","v":"81-90"},{"$f":"SUMPRODUCT((Data!$B$17:$B$19=Model!$F1974)*(Data!$C$16:$K$16=Model!$K1974)*(Data!$C$17:$K$19))","v":2.81},85.95,{"$f":"_xlfn.IFS(M1974>70,\"Serviceable\",M1974>30, \"Limited Life\",M1974<=30, \"Unserviceable\")","v":"Serviceable"}]
[null,3120,1989,"Wood Untreated Dressed","Serviceable","Class 1",2016,130,119.92,9,{"$f":"INDEX(Lists!$B$32:$B$40, MATCH(2020-C1975, Lists!$C$32:$C$40,1))","v":"31-40"},{"$f":"SUMPRODUCT((Data!$B$17:$B$19=Model!$F1975)*(Data!$C$16:$K$16=Model!$K1975)*(Data!$C$17:$K$19))","v":2.52},107.32,{"$f":"_xlfn.IFS(M1975>70,\"Serviceable\",M1975>30, \"Limited Life\",M1975<=30, \"Unserviceable\")","v":"Serviceable"}]
[null,3121,1982,"Wood Untreated Dressed","Serviceable","Class 1",2020,140,140,5,{"$f":"INDEX(Lists!$B$32:$B$40, MATCH(2020-C1976, Lists!$C$32:$C$40,1))","v":"31-40"},{"$f":"SUMPRODUCT((Data!$B$17:$B$19=Model!$F1976)*(Data!$C$16:$K$16=Model!$K1976)*(Data!$C$17:$K$19))","v":2.52},127.4,{"$f":"_xlfn.IFS(M1976>70,\"Serviceable\",M1976>30, \"Limited Life\",M1976<=30, \"Unserviceable\")","v":"Serviceable"}]
[null,3122,1978,"Wood Untreated Dressed","Serviceable","Class 1",2016,140,133,9,{"$f":"INDEX(Lists!$B$32:$B$40, MATCH(2020-C1977, Lists!$C$32:$C$40,1))","v":"41-50"},{"$f":"SUMPRODUCT((Data!$B$17:$B$19=Model!$F1977)*(Data!$C$16:$K$16=Model!$K1977)*(Data!$C$17:$K$19))","v":1.75},124.25,{"$f":"_xlfn.IFS(M1977>70,\"Serviceable\",M1977>30, \"Limited Life\",M1977<=30, \"Unserviceable\")","v":"Serviceable"}]
[null,3123,1986,"Wood Untreated Dressed","Serviceable","Class 1",2016,130,119.92,9,{"$f":"INDEX(Lists!$B$32:$B$40, MATCH(2020-C1978, Lists!$C$32:$C$40,1))","v":"31-40"},{"$f":"SUMPRODUCT((Data!$B$17:$B$19=Model!$F1978)*(Data!$C$16:$K$16=Model!$K1978)*(Data!$C$17:$K$19))","v":2.52},107.32,{"$f":"_xlfn.IFS(M1978>70,\"Serviceable\",M1978>30, \"Limited Life\",M1978<=30, \"Unserviceable\")","v":"Serviceable"}]
[null,3124,1968,"Wood Creos Impregnated","Serviceable","Class 3",2020,100,100,5,{"$f":"INDEX(Lists!$B$32:$B$40, MATCH(2020-C1979, Lists!$C$32:$C$40,1))","v":"51-60"},{"$f":"SUMPRODUCT((Data!$B$17:$B$19=Model!$F1979)*(Data!$C$16:$K$16=Model!$K1979)*(Data!$C$17:$K$19))","v":2.73},86.35,{"$f":"_xlfn.IFS(M1979>70,\"Serviceable\",M1979>30, \"Limited Life\",M1979<=30, \"Unserviceable\")","v":"Serviceable"}]
[null,3128,1977,"Wood Untreated Dressed","Serviceable","Class 1",2016,140,133,9,{"$f":"INDEX(Lists!$B$32:$B$40, MATCH(2020-C1980, Lists!$C$32:$C$40,1))","v":"41-50"},{"$f":"SUMPRODUCT((Data!$B$17:$B$19=Model!$F1980)*(Data!$C$16:$K$16=Model!$K1980)*(Data!$C$17:$K$19))","v":1.75},124.25,{"$f":"_xlfn.IFS(M1980>70,\"Serviceable\",M1980>30, \"Limited Life\",M1980<=30, \"Unserviceable\")","v":"Serviceable"}]
[null,3129,1985,"Wood Untreated Dressed","Serviceable","Class 1",2016,130,119.92,9,{"$f":"INDEX(Lists!$B$32:$B$40, MATCH(2020-C1981, Lists!$C$32:$C$40,1))","v":"31-40"},{"$f":"SUMPRODUCT((Data!$B$17:$B$19=Model!$F1981)*(Data!$C$16:$K$16=Model!$K1981)*(Data!$C$17:$K$19))","v":2.52},107.32,{"$f":"_xlfn.IFS(M1981>70,\"Serviceable\",M1981>30, \"Limited Life\",M1981<=30, \"Unserviceable\")","v":"Serviceable"}]
[null,3130,1997,"CCA Treated Pole","Serviceable","Class 1",2018,130,126.08,7,{"$f":"INDEX(Lists!$B$32:$B$40, MATCH(2020-C1982, Lists!$C$32:$C$40,1))","v":"21-30"},{"$f":"SUMPRODUCT((Data!$B$17:$B$19=Model!$F1982)*(Data!$C$16:$K$16=Model!$K1982)*(Data!$C$17:$K$19))","v":1.96},116.28,{"$f":"_xlfn.IFS(M1982>70,\"Serviceable\",M1982>30, \"Limited Life\",M1982<=30, \"Unserviceable\")","v":"Serviceable"}]
[null,3133,1979,"Wood Untreated Dressed","Serviceable","Class 1",2018,130,126.5,7,{"$f":"INDEX(Lists!$B$32:$B$40, MATCH(2020-C1983, Lists!$C$32:$C$40,1))","v":"41-50"},{"$f":"SUMPRODUCT((Data!$B$17:$B$19=Model!$F1983)*(Data!$C$16:$K$16=Model!$K1983)*(Data!$C$17:$K$19))","v":1.75},117.75,{"$f":"_xlfn.IFS(M1983>70,\"Serviceable\",M1983>30, \"Limited Life\",M1983<=30, \"Unserviceable\")","v":"Serviceable"}]
[null,3134,1983,"Wood Untreated Dressed","Serviceable","Class 1",2016,130,119.92,9,{"$f":"INDEX(Lists!$B$32:$B$40, MATCH(2020-C1984, Lists!$C$32:$C$40,1))","v":"31-40"},{"$f":"SUMPRODUCT((Data!$B$17:$B$19=Model!$F1984)*(Data!$C$16:$K$16=Model!$K1984)*(Data!$C$17:$K$19))","v":2.52},107.32,{"$f":"_xlfn.IFS(M1984>70,\"Serviceable\",M1984>30, \"Limited Life\",M1984<=30, \"Unserviceable\")","v":"Serviceable"}]
[null,3135,1964,"Wood Creos Impregnated","Serviceable","Class 3",2017,90,81.81,8,{"$f":"INDEX(Lists!$B$32:$B$40, MATCH(2020-C1985, Lists!$C$32:$C$40,1))","v":"51-60"},{"$f":"SUMPRODUCT((Data!$B$17:$B$19=Model!$F1985)*(Data!$C$16:$K$16=Model!$K1985)*(Data!$C$17:$K$19))","v":2.73},68.16,{"$f":"_xlfn.IFS(M1985>70,\"Serviceable\",M1985>30, \"Limited Life\",M1985<=30, \"Unserviceable\")","v":"Limited Life"}]
[null,3137,1959,"Wood Creos Impregnated","Serviceable","Class 3",2016,100,91.92,9,{"$f":"INDEX(Lists!$B$32:$B$40, MATCH(2020-C1986, Lists!$C$32:$C$40,1))","v":"61-70"},{"$f":"SUMPRODUCT((Data!$B$17:$B$19=Model!$F1986)*(Data!$C$16:$K$16=Model!$K1986)*(Data!$C$17:$K$19))","v":2.02},81.819999999999993,{"$f":"_xlfn.IFS(M1986>70,\"Serviceable\",M1986>30, \"Limited Life\",M1986<=30, \"Unserviceable\")","v":"Serviceable"}]
[null,3138,1959,"Wood Creos Impregnated","Serviceable","Class 3",2017,90,83.94,8,{"$f":"INDEX(Lists!$B$32:$B$40, MATCH(2020-C1987, Lists!$C$32:$C$40,1))","v":"61-70"},{"$f":"SUMPRODUCT((Data!$B$17:$B$19=Model!$F1987)*(Data!$C$16:$K$16=Model!$K1987)*(Data!$C$17:$K$19))","v":2.02},73.84,{"$f":"_xlfn.IFS(M1987>70,\"Serviceable\",M1987>30, \"Limited Life\",M1987<=30, \"Unserviceable\")","v":"Serviceable"}]
[null,3141,2010,"CCA Treated Pole","Serviceable","Class 1",2017,150,146.82,8,{"$f":"INDEX(Lists!$B$32:$B$40, MATCH(2020-C1988, Lists!$C$32:$C$40,1))","v":"0-20"},{"$f":"SUMPRODUCT((Data!$B$17:$B$19=Model!$F1988)*(Data!$C$16:$K$16=Model!$K1988)*(Data!$C$17:$K$19))","v":1.06},141.52000000000001,{"$f":"_xlfn.IFS(M1988>70,\"Serviceable\",M1988>30, \"Limited Life\",M1988<=30, \"Unserviceable\")","v":"Serviceable"}]
[null,3142,1979,"Wood Untreated Dressed","Serviceable","Class 1",2018,150,146.5,7,{"$f":"INDEX(Lists!$B$32:$B$40, MATCH(2020-C1989, Lists!$C$32:$C$40,1))","v":"41-50"},{"$f":"SUMPRODUCT((Data!$B$17:$B$19=Model!$F1989)*(Data!$C$16:$K$16=Model!$K1989)*(Data!$C$17:$K$19))","v":1.75},137.75,{"$f":"_xlfn.IFS(M1989>70,\"Serviceable\",M1989>30, \"Limited Life\",M1989<=30, \"Unserviceable\")","v":"Serviceable"}]
[null,3144,2003,"CCA Treated Pole","Serviceable","Class 1",2016,150,145.76,9,{"$f":"INDEX(Lists!$B$32:$B$40, MATCH(2020-C1990, Lists!$C$32:$C$40,1))","v":"0-20"},{"$f":"SUMPRODUCT((Data!$B$17:$B$19=Model!$F1990)*(Data!$C$16:$K$16=Model!$K1990)*(Data!$C$17:$K$19))","v":1.06},140.46,{"$f":"_xlfn.IFS(M1990>70,\"Serviceable\",M1990>30, \"Limited Life\",M1990<=30, \"Unserviceable\")","v":"Serviceable"}]
[null,3147,1979,"Wood Creos Impregnated","Serviceable","Class 3",2016,100,84.88,9,{"$f":"INDEX(Lists!$B$32:$B$40, MATCH(2020-C1991, Lists!$C$32:$C$40,1))","v":"41-50"},{"$f":"SUMPRODUCT((Data!$B$17:$B$19=Model!$F1991)*(Data!$C$16:$K$16=Model!$K1991)*(Data!$C$17:$K$19))","v":3.78},65.98,{"$f":"_xlfn.IFS(M1991>70,\"Serviceable\",M1991>30, \"Limited Life\",M1991<=30, \"Unserviceable\")","v":"Limited Life"}]
[null,3149,2005,"CCA Treated Pole","Serviceable","Class 2",2016,160,155.12,{"$f":"2025-G1992","v":9},{"$f":"INDEX(Lists!$B$32:$B$40, MATCH(2020-C1992, Lists!$C$32:$C$40,1))","v":"0-20"},{"$f":"SUMPRODUCT((Data!$B$17:$B$19=Model!$F1992)*(Data!$C$16:$K$16=Model!$K1992)*(Data!$C$17:$K$19))","v":1.22},{"$f":"IF(IF(H1992>=700,999,(H1992-L1992*J1992))<0,0,IF(H1992>=700,999,(H1992-L1992*J1992)))","v":149.02000000000001},{"$f":"_xlfn.IFS(M1992>70,\"Serviceable\",M1992>30, \"Limited Life\",M1992<=30, \"Unserviceable\")","v":"Serviceable"}]
[null,3150,1982,"Wood Creos Impregnated","Serviceable","Class 3",2016,100,87.12,9,{"$f":"INDEX(Lists!$B$32:$B$40, MATCH(2020-C1993, Lists!$C$32:$C$40,1))","v":"31-40"},{"$f":"SUMPRODUCT((Data!$B$17:$B$19=Model!$F1993)*(Data!$C$16:$K$16=Model!$K1993)*(Data!$C$17:$K$19))","v":3.22},71.02,{"$f":"_xlfn.IFS(M1993>70,\"Serviceable\",M1993>30, \"Limited Life\",M1993<=30, \"Unserviceable\")","v":"Serviceable"}]
[null,3154,1958,"Wood Untreated Round","Serviceable","Class 1",2018,110,105.94,7,{"$f":"INDEX(Lists!$B$32:$B$40, MATCH(2020-C1994, Lists!$C$32:$C$40,1))","v":"61-70"},{"$f":"SUMPRODUCT((Data!$B$17:$B$19=Model!$F1994)*(Data!$C$16:$K$16=Model!$K1994)*(Data!$C$17:$K$19))","v":2.0299999999999998},95.79,{"$f":"_xlfn.IFS(M1994>70,\"Serviceable\",M1994>30, \"Limited Life\",M1994<=30, \"Unserviceable\")","v":"Serviceable"}]
[null,3157,1981,"Wood Untreated Dressed","Serviceable","Class 1",2020,130,130,5,{"$f":"INDEX(Lists!$B$32:$B$40, MATCH(2020-C1995, Lists!$C$32:$C$40,1))","v":"31-40"},{"$f":"SUMPRODUCT((Data!$B$17:$B$19=Model!$F1995)*(Data!$C$16:$K$16=Model!$K1995)*(Data!$C$17:$K$19))","v":2.52},117.4,{"$f":"_xlfn.IFS(M1995>70,\"Serviceable\",M1995>30, \"Limited Life\",M1995<=30, \"Unserviceable\")","v":"Serviceable"}]
[null,3158,1959,"Wood Creos Impregnated","Serviceable","Class 3",2016,90,81.92,9,{"$f":"INDEX(Lists!$B$32:$B$40, MATCH(2020-C1996, Lists!$C$32:$C$40,1))","v":"61-70"},{"$f":"SUMPRODUCT((Data!$B$17:$B$19=Model!$F1996)*(Data!$C$16:$K$16=Model!$K1996)*(Data!$C$17:$K$19))","v":2.02},71.819999999999993,{"$f":"_xlfn.IFS(M1996>70,\"Serviceable\",M1996>30, \"Limited Life\",M1996<=30, \"Unserviceable\")","v":"Serviceable"}]
[null,3159,1975,"Wood Creos Impregnated","Limited Life","Class 3",2016,80,64.88,9,{"$f":"INDEX(Lists!$B$32:$B$40, MATCH(2020-C1997, Lists!$C$32:$C$40,1))","v":"41-50"},{"$f":"SUMPRODUCT((Data!$B$17:$B$19=Model!$F1997)*(Data!$C$16:$K$16=Model!$K1997)*(Data!$C$17:$K$19))","v":3.78},45.980000000000004,{"$f":"_xlfn.IFS(M1997>70,\"Serviceable\",M1997>30, \"Limited Life\",M1997<=30, \"Unserviceable\")","v":"Limited Life"}]
[null,3160,1970,"Wood Creos Impregnated","Serviceable","Class 3",2020,90,90,5,{"$f":"INDEX(Lists!$B$32:$B$40, MATCH(2020-C1998, Lists!$C$32:$C$40,1))","v":"41-50"},{"$f":"SUMPRODUCT((Data!$B$17:$B$19=Model!$F1998)*(Data!$C$16:$K$16=Model!$K1998)*(Data!$C$17:$K$19))","v":3.78},71.099999999999994,{"$f":"_xlfn.IFS(M1998>70,\"Serviceable\",M1998>30, \"Limited Life\",M1998<=30, \"Unserviceable\")","v":"Serviceable"}]
[null,3162,1964,"Wood Creos Impregnated","Serviceable","Class 3",2016,110,99.08,9,{"$f":"INDEX(Lists!$B$32:$B$40, MATCH(2020-C1999, Lists!$C$32:$C$40,1))","v":"51-60"},{"$f":"SUMPRODUCT((Data!$B$17:$B$19=Model!$F1999)*(Data!$C$16:$K$16=Model!$K1999)*(Data!$C$17:$K$19))","v":2.73},85.43,{"$f":"_xlfn.IFS(M1999>70,\"Serviceable\",M1999>30, \"Limited Life\",M1999<=30, \"Unserviceable\")","v":"Serviceable"}]
[null,3164,1976,"Wood Untreated Dressed","Serviceable","Class 3",2020,120,120,5,{"$f":"INDEX(Lists!$B$32:$B$40, MATCH(2020-C2000, Lists!$C$32:$C$40,1))","v":"41-50"},{"$f":"SUMPRODUCT((Data!$B$17:$B$19=Model!$F2000)*(Data!$C$16:$K$16=Model!$K2000)*(Data!$C$17:$K$19))","v":3.78},101.1,{"$f":"_xlfn.IFS(M2000>70,\"Serviceable\",M2000>30, \"Limited Life\",M2000<=30, \"Unserviceable\")","v":"Serviceable"}]
[null,3193,1960,"Wood Creos Impregnated","Serviceable","Class 3",2017,90,81.81,8,{"$f":"INDEX(Lists!$B$32:$B$40, MATCH(2020-C2018, Lists!$C$32:$C$40,1))","v":"51-60"},{"$f":"SUMPRODUCT((Data!$B$17:$B$19=Model!$F2018)*(Data!$C$16:$K$16=Model!$K2018)*(Data!$C$17:$K$19))","v":2.73},68.16,{"$f":"_xlfn.IFS(M2018>70,\"Serviceable\",M2018>30, \"Limited Life\",M2018<=30, \"Unserviceable\")","v":"Limited Life"}]
[null,3308,1984,"Wood Untreated Dressed","Serviceable","Class 1",2020,130,130,5,{"$f":"INDEX(Lists!$B$32:$B$40, MATCH(2020-C2106, Lists!$C$32:$C$40,1))","v":"31-40"},{"$f":"SUMPRODUCT((Data!$B$17:$B$19=Model!$F2106)*(Data!$C$16:$K$16=Model!$K2106)*(Data!$C$17:$K$19))","v":2.52},117.4,{"$f":"_xlfn.IFS(M2106>70,\"Serviceable\",M2106>30, \"Limited Life\",M2106<=30, \"Unserviceable\")","v":"Serviceable"}]
[null,3359,1929,"Wood Untreated Dressed","Serviceable","Class 1",2018,120,115.82,7,{"$f":"INDEX(Lists!$B$32:$B$40, MATCH(2020-C2146, Lists!$C$32:$C$40,1))","v":"90+"},{"$f":"SUMPRODUCT((Data!$B$17:$B$19=Model!$F2146)*(Data!$C$16:$K$16=Model!$K2146)*(Data!$C$17:$K$19))","v":2.09},105.37,{"$f":"_xlfn.IFS(M2146>70,\"Serviceable\",M2146>30, \"Limited Life\",M2146<=30, \"Unserviceable\")","v":"Serviceable"}]
[null,3553,1961,"Wood Creos Impregnated","Serviceable","Class 3",2017,100,91.81,8,{"$f":"INDEX(Lists!$B$32:$B$40, MATCH(2020-C2259, Lists!$C$32:$C$40,1))","v":"51-60"},{"$f":"SUMPRODUCT((Data!$B$17:$B$19=Model!$F2259)*(Data!$C$16:$K$16=Model!$K2259)*(Data!$C$17:$K$19))","v":2.73},78.16,{"$f":"_xlfn.IFS(M2259>70,\"Serviceable\",M2259>30, \"Limited Life\",M2259<=30, \"Unserviceable\")","v":"Serviceable"}]
[null,3588,1968,"Wood Creos Impregnated","Serviceable","Class 3",2018,100,94.54,7,{"$f":"INDEX(Lists!$B$32:$B$40, MATCH(2020-C2276, Lists!$C$32:$C$40,1))","v":"51-60"},{"$f":"SUMPRODUCT((Data!$B$17:$B$19=Model!$F2276)*(Data!$C$16:$K$16=Model!$K2276)*(Data!$C$17:$K$19))","v":2.73},80.89,{"$f":"_xlfn.IFS(M2276>70,\"Serviceable\",M2276>30, \"Limited Life\",M2276<=30, \"Unserviceable\")","v":"Serviceable"}]
[null,3783,1989,"Wood Untreated Dressed","Serviceable","Class 1",2015,150,137.4,10,{"$f":"INDEX(Lists!$B$32:$B$40, MATCH(2020-C2389, Lists!$C$32:$C$40,1))","v":"31-40"},{"$f":"SUMPRODUCT((Data!$B$17:$B$19=Model!$F2389)*(Data!$C$16:$K$16=Model!$K2389)*(Data!$C$17:$K$19))","v":2.52},124.8,{"$f":"_xlfn.IFS(M2389>70,\"Serviceable\",M2389>30, \"Limited Life\",M2389<=30, \"Unserviceable\")","v":"Serviceable"}]
[null,3842,1933,"Wood Untreated Dressed","Serviceable","Class 1",2019,80,77.19,6,{"$f":"INDEX(Lists!$B$32:$B$40, MATCH(2020-C2429, Lists!$C$32:$C$40,1))","v":"81-90"},{"$f":"SUMPRODUCT((Data!$B$17:$B$19=Model!$F2429)*(Data!$C$16:$K$16=Model!$K2429)*(Data!$C$17:$K$19))","v":2.81},63.14,{"$f":"_xlfn.IFS(M2429>70,\"Serviceable\",M2429>30, \"Limited Life\",M2429<=30, \"Unserviceable\")","v":"Limited Life"}]
[null,3998,1970,"Wood Creos Impregnated","Serviceable","Class 3",2017,100,88.66,8,{"$f":"INDEX(Lists!$B$32:$B$40, MATCH(2020-C2517, Lists!$C$32:$C$40,1))","v":"41-50"},{"$f":"SUMPRODUCT((Data!$B$17:$B$19=Model!$F2517)*(Data!$C$16:$K$16=Model!$K2517)*(Data!$C$17:$K$19))","v":3.78},69.760000000000005,{"$f":"_xlfn.IFS(M2517>70,\"Serviceable\",M2517>30, \"Limited Life\",M2517<=30, \"Unserviceable\")","v":"Limited Life"}]
[null,4100,1967,"CCA Treated Pole","Serviceable","Class 3",2018,171.56902865306319,166.10902865306318,7,{"$f":"INDEX(Lists!$B$32:$B$40, MATCH(2020-C2582, Lists!$C$32:$C$40,1))","v":"51-60"},{"$f":"SUMPRODUCT((Data!$B$17:$B$19=Model!$F2582)*(Data!$C$16:$K$16=Model!$K2582)*(Data!$C$17:$K$19))","v":2.73},152.45902865306317,{"$f":"_xlfn.IFS(M2582>70,\"Serviceable\",M2582>30, \"Limited Life\",M2582<=30, \"Unserviceable\")","v":"Serviceable"}]
[null,4238,1973,"Wood Untreated Dressed","Serviceable","Class 1",2018,120,116.5,7,{"$f":"INDEX(Lists!$B$32:$B$40, MATCH(2020-C2667, Lists!$C$32:$C$40,1))","v":"41-50"},{"$f":"SUMPRODUCT((Data!$B$17:$B$19=Model!$F2667)*(Data!$C$16:$K$16=Model!$K2667)*(Data!$C$17:$K$19))","v":1.75},107.75,{"$f":"_xlfn.IFS(M2667>70,\"Serviceable\",M2667>30, \"Limited Life\",M2667<=30, \"Unserviceable\")","v":"Serviceable"}]
[null,4281,1965,"Wood Creos Impregnated","Serviceable","Class 3",2018,90,84.54,7,{"$f":"INDEX(Lists!$B$32:$B$40, MATCH(2020-C2693, Lists!$C$32:$C$40,1))","v":"51-60"},{"$f":"SUMPRODUCT((Data!$B$17:$B$19=Model!$F2693)*(Data!$C$16:$K$16=Model!$K2693)*(Data!$C$17:$K$19))","v":2.73},70.89,{"$f":"_xlfn.IFS(M2693>70,\"Serviceable\",M2693>30, \"Limited Life\",M2693<=30, \"Unserviceable\")","v":"Serviceable"}]
[null,4359,1973,"Wood Creos Impregnated","Serviceable","Class 1",2018,120,116.5,7,{"$f":"INDEX(Lists!$B$32:$B$40, MATCH(2020-C2752, Lists!$C$32:$C$40,1))","v":"41-50"},{"$f":"SUMPRODUCT((Data!$B$17:$B$19=Model!$F2752)*(Data!$C$16:$K$16=Model!$K2752)*(Data!$C$17:$K$19))","v":1.75},107.75,{"$f":"_xlfn.IFS(M2752>70,\"Serviceable\",M2752>30, \"Limited Life\",M2752<=30, \"Unserviceable\")","v":"Serviceable"}]
[null,4471,1972,"Wood Creos Impregnated","Serviceable","Class 3",2017,110,98.66,8,{"$f":"INDEX(Lists!$B$32:$B$40, MATCH(2020-C2821, Lists!$C$32:$C$40,1))","v":"41-50"},{"$f":"SUMPRODUCT((Data!$B$17:$B$19=Model!$F2821)*(Data!$C$16:$K$16=Model!$K2821)*(Data!$C$17:$K$19))","v":3.78},79.760000000000005,{"$f":"_xlfn.IFS(M2821>70,\"Serviceable\",M2821>30, \"Limited Life\",M2821<=30, \"Unserviceable\")","v":"Serviceable"}]
[null,4620,1986,"Wood Untreated Dressed","Serviceable","Class 1",2017,130,122.44,8,{"$f":"INDEX(Lists!$B$32:$B$40, MATCH(2020-C2921, Lists!$C$32:$C$40,1))","v":"31-40"},{"$f":"SUMPRODUCT((Data!$B$17:$B$19=Model!$F2921)*(Data!$C$16:$K$16=Model!$K2921)*(Data!$C$17:$K$19))","v":2.52},109.84,{"$f":"_xlfn.IFS(M2921>70,\"Serviceable\",M2921>30, \"Limited Life\",M2921<=30, \"Unserviceable\")","v":"Serviceable"}]
[null,4723,1985,"Wood Untreated Dressed","Serviceable","Class 1",2017,150,142.44,8,{"$f":"INDEX(Lists!$B$32:$B$40, MATCH(2020-C2990, Lists!$C$32:$C$40,1))","v":"31-40"},{"$f":"SUMPRODUCT((Data!$B$17:$B$19=Model!$F2990)*(Data!$C$16:$K$16=Model!$K2990)*(Data!$C$17:$K$19))","v":2.52},129.84,{"$f":"_xlfn.IFS(M2990>70,\"Serviceable\",M2990>30, \"Limited Life\",M2990<=30, \"Unserviceable\")","v":"Serviceable"}]
[null,4864,1980,"Wood Untreated Dressed","Serviceable","Class 1",2015,90,77.400000000000006,10,{"$f":"INDEX(Lists!$B$32:$B$40, MATCH(2020-C3064, Lists!$C$32:$C$40,1))","v":"31-40"},{"$f":"SUMPRODUCT((Data!$B$17:$B$19=Model!$F3064)*(Data!$C$16:$K$16=Model!$K3064)*(Data!$C$17:$K$19))","v":2.52},64.8,{"$f":"_xlfn.IFS(M3064>70,\"Serviceable\",M3064>30, \"Limited Life\",M3064<=30, \"Unserviceable\")","v":"Limited Life"}]
[null,5034,1935,"Wood Untreated Round","Serviceable","Class 1",2017,90,81.569999999999993,8,{"$f":"INDEX(Lists!$B$32:$B$40, MATCH(2020-C3143, Lists!$C$32:$C$40,1))","v":"81-90"},{"$f":"SUMPRODUCT((Data!$B$17:$B$19=Model!$F3143)*(Data!$C$16:$K$16=Model!$K3143)*(Data!$C$17:$K$19))","v":2.81},67.52,{"$f":"_xlfn.IFS(M3143>70,\"Serviceable\",M3143>30, \"Limited Life\",M3143<=30, \"Unserviceable\")","v":"Limited Life"}]
[null,5066,1953,"Wood Creos Impregnated","Serviceable","Class 3",2018,80,75.959999999999994,7,{"$f":"INDEX(Lists!$B$32:$B$40, MATCH(2020-C3160, Lists!$C$32:$C$40,1))","v":"61-70"},{"$f":"SUMPRODUCT((Data!$B$17:$B$19=Model!$F3160)*(Data!$C$16:$K$16=Model!$K3160)*(Data!$C$17:$K$19))","v":2.02},65.86,{"$f":"_xlfn.IFS(M3160>70,\"Serviceable\",M3160>30, \"Limited Life\",M3160<=30, \"Unserviceable\")","v":"Limited Life"}]
[null,5267,1933,"Wood Untreated Dressed","Serviceable","Class 1",2015,100,85.95,10,{"$f":"INDEX(Lists!$B$32:$B$40, MATCH(2020-C3240, Lists!$C$32:$C$40,1))","v":"81-90"},{"$f":"SUMPRODUCT((Data!$B$17:$B$19=Model!$F3240)*(Data!$C$16:$K$16=Model!$K3240)*(Data!$C$17:$K$19))","v":2.81},71.900000000000006,{"$f":"_xlfn.IFS(M3240>70,\"Serviceable\",M3240>30, \"Limited Life\",M3240<=30, \"Unserviceable\")","v":"Serviceable"}]
[null,5402,2004,"CCA Treated Pole","Serviceable","Class 2",2015,162.49719689682513,156.39719689682514,10,{"$f":"INDEX(Lists!$B$32:$B$40, MATCH(2020-C3313, Lists!$C$32:$C$40,1))","v":"0-20"},{"$f":"SUMPRODUCT((Data!$B$17:$B$19=Model!$F3313)*(Data!$C$16:$K$16=Model!$K3313)*(Data!$C$17:$K$19))","v":1.22},150.29719689682514,{"$f":"_xlfn.IFS(M3313>70,\"Serviceable\",M3313>30, \"Limited Life\",M3313<=30, \"Unserviceable\")","v":"Serviceable"}]
[null,5504,1998,"CCA Treated Pole","Serviceable","Class 1",2017,166.31691553103065,160.43691553103065,8,{"$f":"INDEX(Lists!$B$32:$B$40, MATCH(2020-C3368, Lists!$C$32:$C$40,1))","v":"21-30"},{"$f":"SUMPRODUCT((Data!$B$17:$B$19=Model!$F3368)*(Data!$C$16:$K$16=Model!$K3368)*(Data!$C$17:$K$19))","v":1.96},150.63691553103064,{"$f":"_xlfn.IFS(M3368>70,\"Serviceable\",M3368>30, \"Limited Life\",M3368<=30, \"Unserviceable\")","v":"Serviceable"}]
[null,5717,1984,"Wood Untreated Dressed","Limited Life","Class 1",2018,70,64.959999999999994,7,{"$f":"INDEX(Lists!$B$32:$B$40, MATCH(2020-C3466, Lists!$C$32:$C$40,1))","v":"31-40"},{"$f":"SUMPRODUCT((Data!$B$17:$B$19=Model!$F3466)*(Data!$C$16:$K$16=Model!$K3466)*(Data!$C$17:$K$19))","v":2.52},52.36,{"$f":"_xlfn.IFS(M3466>70,\"Serviceable\",M3466>30, \"Limited Life\",M3466<=30, \"Unserviceable\")","v":"Limited Life"}]
[null,5864,1969,"Wood Creos Impregnated","Serviceable","Class 3",2017,120,111.81,8,{"$f":"INDEX(Lists!$B$32:$B$40, MATCH(2020-C3551, Lists!$C$32:$C$40,1))","v":"51-60"},{"$f":"SUMPRODUCT((Data!$B$17:$B$19=Model!$F3551)*(Data!$C$16:$K$16=Model!$K3551)*(Data!$C$17:$K$19))","v":2.73},98.16,{"$f":"_xlfn.IFS(M3551>70,\"Serviceable\",M3551>30, \"Limited Life\",M3551<=30, \"Unserviceable\")","v":"Serviceable"}]
[null,5976,1967,"Wood Creos Impregnated","Serviceable","Class 3",2017,120,111.81,8,{"$f":"INDEX(Lists!$B$32:$B$40, MATCH(2020-C3611, Lists!$C$32:$C$40,1))","v":"51-60"},{"$f":"SUMPRODUCT((Data!$B$17:$B$19=Model!$F3611)*(Data!$C$16:$K$16=Model!$K3611)*(Data!$C$17:$K$19))","v":2.73},98.16,{"$f":"_xlfn.IFS(M3611>70,\"Serviceable\",M3611>30, \"Limited Life\",M3611<=30, \"Unserviceable\")","v":"Serviceable"}]
[null,6020,1972,"Wood Creos Impregnated","Serviceable","Class 3",2020,100,100,5,{"$f":"INDEX(Lists!$B$32:$B$40, MATCH(2020-C3636, Lists!$C$32:$C$40,1))","v":"41-50"},{"$f":"SUMPRODUCT((Data!$B$17:$B$19=Model!$F3636)*(Data!$C$16:$K$16=Model!$K3636)*(Data!$C$17:$K$19))","v":3.78},81.099999999999994,{"$f":"_xlfn.IFS(M3636>70,\"Serviceable\",M3636>30, \"Limited Life\",M3636<=30, \"Unserviceable\")","v":"Serviceable"}]
[null,6231,1966,"Wood Creos Impregnated","Serviceable","Class 3",2016,120,109.08,9,{"$f":"INDEX(Lists!$B$32:$B$40, MATCH(2020-C3739, Lists!$C$32:$C$40,1))","v":"51-60"},{"$f":"SUMPRODUCT((Data!$B$17:$B$19=Model!$F3739)*(Data!$C$16:$K$16=Model!$K3739)*(Data!$C$17:$K$19))","v":2.73},95.43,{"$f":"_xlfn.IFS(M3739>70,\"Serviceable\",M3739>30, \"Limited Life\",M3739<=30, \"Unserviceable\")","v":"Serviceable"}]
[null,6334,1968,"Wood Creos Impregnated","Serviceable","Class 3",2016,100,89.08,9,{"$f":"INDEX(Lists!$B$32:$B$40, MATCH(2020-C3805, Lists!$C$32:$C$40,1))","v":"51-60"},{"$f":"SUMPRODUCT((Data!$B$17:$B$19=Model!$F3805)*(Data!$C$16:$K$16=Model!$K3805)*(Data!$C$17:$K$19))","v":2.73},75.430000000000007,{"$f":"_xlfn.IFS(M3805>70,\"Serviceable\",M3805>30, \"Limited Life\",M3805<=30, \"Unserviceable\")","v":"Serviceable"}]
[null,6443,1993,"Wood Untreated Dressed","Serviceable","Class 1",2019,150,148.04,6,{"$f":"INDEX(Lists!$B$32:$B$40, MATCH(2020-C3874, Lists!$C$32:$C$40,1))","v":"21-30"},{"$f":"SUMPRODUCT((Data!$B$17:$B$19=Model!$F3874)*(Data!$C$16:$K$16=Model!$K3874)*(Data!$C$17:$K$19))","v":1.96},138.24,{"$f":"_xlfn.IFS(M3874>70,\"Serviceable\",M3874>30, \"Limited Life\",M3874<=30, \"Unserviceable\")","v":"Serviceable"}]
[null,6512,1969,"Wood Creos Impregnated","Limited Life","Class 3",2019,70,67.27,6,{"$f":"INDEX(Lists!$B$32:$B$40, MATCH(2020-C3915, Lists!$C$32:$C$40,1))","v":"51-60"},{"$f":"SUMPRODUCT((Data!$B$17:$B$19=Model!$F3915)*(Data!$C$16:$K$16=Model!$K3915)*(Data!$C$17:$K$19))","v":2.73},53.620000000000005,{"$f":"_xlfn.IFS(M3915>70,\"Serviceable\",M3915>30, \"Limited Life\",M3915<=30, \"Unserviceable\")","v":"Limited Life"}]
[null,6707,1936,"Wood Untreated Dressed","Serviceable","Class 1",2019,100,97.19,6,{"$f":"INDEX(Lists!$B$32:$B$40, MATCH(2020-C4027, Lists!$C$32:$C$40,1))","v":"81-90"},{"$f":"SUMPRODUCT((Data!$B$17:$B$19=Model!$F4027)*(Data!$C$16:$K$16=Model!$K4027)*(Data!$C$17:$K$19))","v":2.81},83.14,{"$f":"_xlfn.IFS(M4027>70,\"Serviceable\",M4027>30, \"Limited Life\",M4027<=30, \"Unserviceable\")","v":"Serviceable"}]
[null,6732,1973,"Wood Creos Impregnated","Serviceable","Class 3",2016,130,114.88,9,{"$f":"INDEX(Lists!$B$32:$B$40, MATCH(2020-C4044, Lists!$C$32:$C$40,1))","v":"41-50"},{"$f":"SUMPRODUCT((Data!$B$17:$B$19=Model!$F4044)*(Data!$C$16:$K$16=Model!$K4044)*(Data!$C$17:$K$19))","v":3.78},95.98,{"$f":"_xlfn.IFS(M4044>70,\"Serviceable\",M4044>30, \"Limited Life\",M4044<=30, \"Unserviceable\")","v":"Serviceable"}]
[null,6888,1935,"Wood Untreated Dressed","Limited Life","Class 1",2016,70,58.76,9,{"$f":"INDEX(Lists!$B$32:$B$40, MATCH(2020-C4158, Lists!$C$32:$C$40,1))","v":"81-90"},{"$f":"SUMPRODUCT((Data!$B$17:$B$19=Model!$F4158)*(Data!$C$16:$K$16=Model!$K4158)*(Data!$C$17:$K$19))","v":2.81},44.71,{"$f":"_xlfn.IFS(M4158>70,\"Serviceable\",M4158>30, \"Limited Life\",M4158<=30, \"Unserviceable\")","v":"Limited Life"}]
[null,6951,1965,"Wood Creos Impregnated","Serviceable","Class 3",2017,120,111.81,8,{"$f":"INDEX(Lists!$B$32:$B$40, MATCH(2020-C4197, Lists!$C$32:$C$40,1))","v":"51-60"},{"$f":"SUMPRODUCT((Data!$B$17:$B$19=Model!$F4197)*(Data!$C$16:$K$16=Model!$K4197)*(Data!$C$17:$K$19))","v":2.73},98.16,{"$f":"_xlfn.IFS(M4197>70,\"Serviceable\",M4197>30, \"Limited Life\",M4197<=30, \"Unserviceable\")","v":"Serviceable"}]
[null,7105,2000,"CCA Treated Pole","Serviceable","Class 2",2019,150,148.78,6,{"$f":"INDEX(Lists!$B$32:$B$40, MATCH(2020-C4286, Lists!$C$32:$C$40,1))","v":"0-20"},{"$f":"SUMPRODUCT((Data!$B$17:$B$19=Model!$F4286)*(Data!$C$16:$K$16=Model!$K4286)*(Data!$C$17:$K$19))","v":1.22},142.68,{"$f":"_xlfn.IFS(M4286>70,\"Serviceable\",M4286>30, \"Limited Life\",M4286<=30, \"Unserviceable\")","v":"Serviceable"}]
[null,7242,2007,"CCA Treated Pole","Serviceable","Class 2",2016,150,145.12,9,{"$f":"INDEX(Lists!$B$32:$B$40, MATCH(2020-C4366, Lists!$C$32:$C$40,1))","v":"0-20"},{"$f":"SUMPRODUCT((Data!$B$17:$B$19=Model!$F4366)*(Data!$C$16:$K$16=Model!$K4366)*(Data!$C$17:$K$19))","v":1.22},139.02000000000001,{"$f":"_xlfn.IFS(M4366>70,\"Serviceable\",M4366>30, \"Limited Life\",M4366<=30, \"Unserviceable\")","v":"Serviceable"}]
[null,7244,1992,"Wood Untreated Dressed","Serviceable","Class 1",2019,120,118.04,6,{"$f":"INDEX(Lists!$B$32:$B$40, MATCH(2020-C4367, Lists!$C$32:$C$40,1))","v":"21-30"},{"$f":"SUMPRODUCT((Data!$B$17:$B$19=Model!$F4367)*(Data!$C$16:$K$16=Model!$K4367)*(Data!$C$17:$K$19))","v":1.96},108.24,{"$f":"_xlfn.IFS(M4367>70,\"Serviceable\",M4367>30, \"Limited Life\",M4367<=30, \"Unserviceable\")","v":"Serviceable"}]
[null,7393,1972,"Wood Creos Impregnated","Serviceable","Class 3",2019,90,86.22,6,{"$f":"INDEX(Lists!$B$32:$B$40, MATCH(2020-C4462, Lists!$C$32:$C$40,1))","v":"41-50"},{"$f":"SUMPRODUCT((Data!$B$17:$B$19=Model!$F4462)*(Data!$C$16:$K$16=Model!$K4462)*(Data!$C$17:$K$19))","v":3.78},67.319999999999993,{"$f":"_xlfn.IFS(M4462>70,\"Serviceable\",M4462>30, \"Limited Life\",M4462<=30, \"Unserviceable\")","v":"Limited Life"}]
[null,7470,1964,"Wood Creos Impregnated","Serviceable","Class 3",2017,110,101.81,8,{"$f":"INDEX(Lists!$B$32:$B$40, MATCH(2020-C4520, Lists!$C$32:$C$40,1))","v":"51-60"},{"$f":"SUMPRODUCT((Data!$B$17:$B$19=Model!$F4520)*(Data!$C$16:$K$16=Model!$K4520)*(Data!$C$17:$K$19))","v":2.73},88.16,{"$f":"_xlfn.IFS(M4520>70,\"Serviceable\",M4520>30, \"Limited Life\",M4520<=30, \"Unserviceable\")","v":"Serviceable"}]
[null,7566,1970,"Wood Creos Impregnated","Serviceable","Class 3",2017,100,88.66,8,{"$f":"INDEX(Lists!$B$32:$B$40, MATCH(2020-C4590, Lists!$C$32:$C$40,1))","v":"41-50"},{"$f":"SUMPRODUCT((Data!$B$17:$B$19=Model!$F4590)*(Data!$C$16:$K$16=Model!$K4590)*(Data!$C$17:$K$19))","v":3.78},69.760000000000005,{"$f":"_xlfn.IFS(M4590>70,\"Serviceable\",M4590>30, \"Limited Life\",M4590<=30, \"Unserviceable\")","v":"Limited Life"}]
[null,7712,1979,"Wood Untreated Dressed","Serviceable","Class 1",2019,120,118.25,6,{"$f":"INDEX(Lists!$B$32:$B$40, MATCH(2020-C4689, Lists!$C$32:$C$40,1))","v":"41-50"},{"$f":"SUMPRODUCT((Data!$B$17:$B$19=Model!$F4689)*(Data!$C$16:$K$16=Model!$K4689)*(Data!$C$17:$K$19))","v":1.75},109.5,{"$f":"_xlfn.IFS(M4689>70,\"Serviceable\",M4689>30, \"Limited Life\",M4689<=30, \"Unserviceable\")","v":"Serviceable"}]
[null,7815,1975,"Wood Creos Impregnated","Serviceable","Class 1",2016,150,143,9,{"$f":"INDEX(Lists!$B$32:$B$40, MATCH(2020-C4758, Lists!$C$32:$C$40,1))","v":"41-50"},{"$f":"SUMPRODUCT((Data!$B$17:$B$19=Model!$F4758)*(Data!$C$16:$K$16=Model!$K4758)*(Data!$C$17:$K$19))","v":1.75},134.25,{"$f":"_xlfn.IFS(M4758>70,\"Serviceable\",M4758>30, \"Limited Life\",M4758<=30, \"Unserviceable\")","v":"Serviceable"}]
[null,7922,2005,"CCA Treated Pole","Serviceable","Class 2",2020,160,160,5,{"$f":"INDEX(Lists!$B$32:$B$40, MATCH(2020-C4833, Lists!$C$32:$C$40,1))","v":"0-20"},{"$f":"SUMPRODUCT((Data!$B$17:$B$19=Model!$F4833)*(Data!$C$16:$K$16=Model!$K4833)*(Data!$C$17:$K$19))","v":1.22},153.9,{"$f":"_xlfn.IFS(M4833>70,\"Serviceable\",M4833>30, \"Limited Life\",M4833<=30, \"Unserviceable\")","v":"Serviceable"}]
[null,7935,1969,"Wood Creos Impregnated","Serviceable","Class 3",2016,130,119.08,9,{"$f":"INDEX(Lists!$B$32:$B$40, MATCH(2020-C4843, Lists!$C$32:$C$40,1))","v":"51-60"},{"$f":"SUMPRODUCT((Data!$B$17:$B$19=Model!$F4843)*(Data!$C$16:$K$16=Model!$K4843)*(Data!$C$17:$K$19))","v":2.73},105.43,{"$f":"_xlfn.IFS(M4843>70,\"Serviceable\",M4843>30, \"Limited Life\",M4843<=30, \"Unserviceable\")","v":"Serviceable"}]
[null,8129,1997,"CCA Treated Pole","Serviceable","Class 1",2016,150,142.16,9,{"$f":"INDEX(Lists!$B$32:$B$40, MATCH(2020-C4961, Lists!$C$32:$C$40,1))","v":"21-30"},{"$f":"SUMPRODUCT((Data!$B$17:$B$19=Model!$F4961)*(Data!$C$16:$K$16=Model!$K4961)*(Data!$C$17:$K$19))","v":1.96},132.36000000000001,{"$f":"_xlfn.IFS(M4961>70,\"Serviceable\",M4961>30, \"Limited Life\",M4961<=30, \"Unserviceable\")","v":"Serviceable"}]
[null,8208,1975,"Wood Creos Impregnated","Limited Life","Class 2",2016,80,66.88,9,{"$f":"INDEX(Lists!$B$32:$B$40, MATCH(2020-C5012, Lists!$C$32:$C$40,1))","v":"41-50"},{"$f":"SUMPRODUCT((Data!$B$17:$B$19=Model!$F5012)*(Data!$C$16:$K$16=Model!$K5012)*(Data!$C$17:$K$19))","v":3.28},50.480000000000004,{"$f":"_xlfn.IFS(M5012>70,\"Serviceable\",M5012>30, \"Limited Life\",M5012<=30, \"Unserviceable\")","v":"Limited Life"}]
[null,8306,1933,"Wood Untreated Dressed","Serviceable","Class 1",2016,100,88.76,9,{"$f":"INDEX(Lists!$B$32:$B$40, MATCH(2020-C5081, Lists!$C$32:$C$40,1))","v":"81-90"},{"$f":"SUMPRODUCT((Data!$B$17:$B$19=Model!$F5081)*(Data!$C$16:$K$16=Model!$K5081)*(Data!$C$17:$K$19))","v":2.81},74.710000000000008,{"$f":"_xlfn.IFS(M5081>70,\"Serviceable\",M5081>30, \"Limited Life\",M5081<=30, \"Unserviceable\")","v":"Serviceable"}]
[null,8386,1980,"Wood Untreated Round","Serviceable","Class 1",2017,130,122.44,8,{"$f":"INDEX(Lists!$B$32:$B$40, MATCH(2020-C5137, Lists!$C$32:$C$40,1))","v":"31-40"},{"$f":"SUMPRODUCT((Data!$B$17:$B$19=Model!$F5137)*(Data!$C$16:$K$16=Model!$K5137)*(Data!$C$17:$K$19))","v":2.52},109.84,{"$f":"_xlfn.IFS(M5137>70,\"Serviceable\",M5137>30, \"Limited Life\",M5137<=30, \"Unserviceable\")","v":"Serviceable"}]
[null,8440,1984,"Wood Untreated Dressed","Serviceable","Class 1",2020,140,140,5,{"$f":"INDEX(Lists!$B$32:$B$40, MATCH(2020-C5182, Lists!$C$32:$C$40,1))","v":"31-40"},{"$f":"SUMPRODUCT((Data!$B$17:$B$19=Model!$F5182)*(Data!$C$16:$K$16=Model!$K5182)*(Data!$C$17:$K$19))","v":2.52},127.4,{"$f":"_xlfn.IFS(M5182>70,\"Serviceable\",M5182>30, \"Limited Life\",M5182<=30, \"Unserviceable\")","v":"Serviceable"}]
[null,8532,1968,"Wood Creos Impregnated","Serviceable","Class 3",2017,100,91.81,8,{"$f":"INDEX(Lists!$B$32:$B$40, MATCH(2020-C5251, Lists!$C$32:$C$40,1))","v":"51-60"},{"$f":"SUMPRODUCT((Data!$B$17:$B$19=Model!$F5251)*(Data!$C$16:$K$16=Model!$K5251)*(Data!$C$17:$K$19))","v":2.73},78.16,{"$f":"_xlfn.IFS(M5251>70,\"Serviceable\",M5251>30, \"Limited Life\",M5251<=30, \"Unserviceable\")","v":"Serviceable"}]
[null,8710,1977,"Wood Creos Impregnated","Serviceable","Class 1",2020,90,90,5,{"$f":"INDEX(Lists!$B$32:$B$40, MATCH(2020-C5380, Lists!$C$32:$C$40,1))","v":"41-50"},{"$f":"SUMPRODUCT((Data!$B$17:$B$19=Model!$F5380)*(Data!$C$16:$K$16=Model!$K5380)*(Data!$C$17:$K$19))","v":1.75},81.25,{"$f":"_xlfn.IFS(M5380>70,\"Serviceable\",M5380>30, \"Limited Life\",M5380<=30, \"Unserviceable\")","v":"Serviceable"}]
[null,8765,1969,"Wood Creos Impregnated","Limited Life","Class 3",2015,80,66.349999999999994,10,{"$f":"INDEX(Lists!$B$32:$B$40, MATCH(2020-C5404, Lists!$C$32:$C$40,1))","v":"51-60"},{"$f":"SUMPRODUCT((Data!$B$17:$B$19=Model!$F5404)*(Data!$C$16:$K$16=Model!$K5404)*(Data!$C$17:$K$19))","v":2.73},52.7,{"$f":"_xlfn.IFS(M5404>70,\"Serviceable\",M5404>30, \"Limited Life\",M5404<=30, \"Unserviceable\")","v":"Limited Life"}]
[null,8916,1968,"Wood Creos Impregnated","Serviceable","Class 3",2017,100,91.81,8,{"$f":"INDEX(Lists!$B$32:$B$40, MATCH(2020-C5508, Lists!$C$32:$C$40,1))","v":"51-60"},{"$f":"SUMPRODUCT((Data!$B$17:$B$19=Model!$F5508)*(Data!$C$16:$K$16=Model!$K5508)*(Data!$C$17:$K$19))","v":2.73},78.16,{"$f":"_xlfn.IFS(M5508>70,\"Serviceable\",M5508>30, \"Limited Life\",M5508<=30, \"Unserviceable\")","v":"Serviceable"}]
[null,9010,1970,"Wood Creos Impregnated","Limited Life","Class 3",2017,80,68.66,8,{"$f":"INDEX(Lists!$B$32:$B$40, MATCH(2020-C5573, Lists!$C$32:$C$40,1))","v":"41-50"},{"$f":"SUMPRODUCT((Data!$B$17:$B$19=Model!$F5573)*(Data!$C$16:$K$16=Model!$K5573)*(Data!$C$17:$K$19))","v":3.78},49.760000000000005,{"$f":"_xlfn.IFS(M5573>70,\"Serviceable\",M5573>30, \"Limited Life\",M5573<=30, \"Unserviceable\")","v":"Limited Life"}]
[null,9126,1977,"Wood Creos Impregnated","Serviceable","Class 1",2017,100,94.75,8,{"$f":"INDEX(Lists!$B$32:$B$40, MATCH(2020-C5642, Lists!$C$32:$C$40,1))","v":"41-50"},{"$f":"SUMPRODUCT((Data!$B$17:$B$19=Model!$F5642)*(Data!$C$16:$K$16=Model!$K5642)*(Data!$C$17:$K$19))","v":1.75},86,{"$f":"_xlfn.IFS(M5642>70,\"Serviceable\",M5642>30, \"Limited Life\",M5642<=30, \"Unserviceable\")","v":"Serviceable"}]
[null,9211,1972,"Wood Creos Impregnated","Serviceable","Class 1",2017,150,144.75,8,{"$f":"INDEX(Lists!$B$32:$B$40, MATCH(2020-C5684, Lists!$C$32:$C$40,1))","v":"41-50"},{"$f":"SUMPRODUCT((Data!$B$17:$B$19=Model!$F5684)*(Data!$C$16:$K$16=Model!$K5684)*(Data!$C$17:$K$19))","v":1.75},136,{"$f":"_xlfn.IFS(M5684>70,\"Serviceable\",M5684>30, \"Limited Life\",M5684<=30, \"Unserviceable\")","v":"Serviceable"}]
[null,9283,1968,"Wood Creos Impregnated","Serviceable","Class 1",2015,120,111.75,10,{"$f":"INDEX(Lists!$B$32:$B$40, MATCH(2020-C5727, Lists!$C$32:$C$40,1))","v":"51-60"},{"$f":"SUMPRODUCT((Data!$B$17:$B$19=Model!$F5727)*(Data!$C$16:$K$16=Model!$K5727)*(Data!$C$17:$K$19))","v":1.65},103.5,{"$f":"_xlfn.IFS(M5727>70,\"Serviceable\",M5727>30, \"Limited Life\",M5727<=30, \"Unserviceable\")","v":"Serviceable"}]
[null,9437,1964,"Wood Creos Impregnated","Serviceable","Class 3",2017,80,71.81,8,{"$f":"INDEX(Lists!$B$32:$B$40, MATCH(2020-C5812, Lists!$C$32:$C$40,1))","v":"51-60"},{"$f":"SUMPRODUCT((Data!$B$17:$B$19=Model!$F5812)*(Data!$C$16:$K$16=Model!$K5812)*(Data!$C$17:$K$19))","v":2.73},58.16,{"$f":"_xlfn.IFS(M5812>70,\"Serviceable\",M5812>30, \"Limited Life\",M5812<=30, \"Unserviceable\")","v":"Limited Life"}]
[null,9574,1978,"Wood Untreated Dressed","Serviceable","Class 1",2016,120,113,{"$f":"2025-G5896","v":9},{"$f":"INDEX(Lists!$B$32:$B$40, MATCH(2020-C5896, Lists!$C$32:$C$40,1))","v":"41-50"},{"$f":"SUMPRODUCT((Data!$B$17:$B$19=Model!$F5896)*(Data!$C$16:$K$16=Model!$K5896)*(Data!$C$17:$K$19))","v":1.75},{"$f":"IF(IF(H5896>=700,999,(H5896-L5896*J5896))<0,0,IF(H5896>=700,999,(H5896-L5896*J5896)))","v":104.25},{"$f":"_xlfn.IFS(M5896>70,\"Serviceable\",M5896>30, \"Limited Life\",M5896<=30, \"Unserviceable\")","v":"Serviceable"}]
[null,9653,1984,"Wood Untreated Dressed","Serviceable","Class 1",2020,150,150,5,{"$f":"INDEX(Lists!$B$32:$B$40, MATCH(2020-C5965, Lists!$C$32:$C$40,1))","v":"31-40"},{"$f":"SUMPRODUCT((Data!$B$17:$B$19=Model!$F5965)*(Data!$C$16:$K$16=Model!$K5965)*(Data!$C$17:$K$19))","v":2.52},137.4,{"$f":"_xlfn.IFS(M5965>70,\"Serviceable\",M5965>30, \"Limited Life\",M5965<=30, \"Unserviceable\")","v":"Serviceable"}]
[null,9790,1962,"Wood Creos Impregnated","Serviceable","Class 3",2016,100,89.08,9,{"$f":"INDEX(Lists!$B$32:$B$40, MATCH(2020-C6055, Lists!$C$32:$C$40,1))","v":"51-60"},{"$f":"SUMPRODUCT((Data!$B$17:$B$19=Model!$F6055)*(Data!$C$16:$K$16=Model!$K6055)*(Data!$C$17:$K$19))","v":2.73},75.430000000000007,{"$f":"_xlfn.IFS(M6055>70,\"Serviceable\",M6055>30, \"Limited Life\",M6055<=30, \"Unserviceable\")","v":"Serviceable"}]
[null,9803,1967,"Wood Creos Impregnated","Serviceable","Class 3",2019,90,87.27,6,{"$f":"INDEX(Lists!$B$32:$B$40, MATCH(2020-C6066, Lists!$C$32:$C$40,1))","v":"51-60"},{"$f":"SUMPRODUCT((Data!$B$17:$B$19=Model!$F6066)*(Data!$C$16:$K$16=Model!$K6066)*(Data!$C$17:$K$19))","v":2.73},73.62,{"$f":"_xlfn.IFS(M6066>70,\"Serviceable\",M6066>30, \"Limited Life\",M6066<=30, \"Unserviceable\")","v":"Serviceable"}]
[null,9913,1988,"Wood Untreated Dressed","Serviceable","Class 1",2017,140,132.44,8,{"$f":"INDEX(Lists!$B$32:$B$40, MATCH(2020-C6135, Lists!$C$32:$C$40,1))","v":"31-40"},{"$f":"SUMPRODUCT((Data!$B$17:$B$19=Model!$F6135)*(Data!$C$16:$K$16=Model!$K6135)*(Data!$C$17:$K$19))","v":2.52},119.84,{"$f":"_xlfn.IFS(M6135>70,\"Serviceable\",M6135>30, \"Limited Life\",M6135<=30, \"Unserviceable\")","v":"Serviceable"}]
[null,10057,1990,"Wood Untreated Dressed","Serviceable","Class 1",2020,130,130,5,{"$f":"INDEX(Lists!$B$32:$B$40, MATCH(2020-C6231, Lists!$C$32:$C$40,1))","v":"21-30"},{"$f":"SUMPRODUCT((Data!$B$17:$B$19=Model!$F6231)*(Data!$C$16:$K$16=Model!$K6231)*(Data!$C$17:$K$19))","v":1.96},120.2,{"$f":"_xlfn.IFS(M6231>70,\"Serviceable\",M6231>30, \"Limited Life\",M6231<=30, \"Unserviceable\")","v":"Serviceable"}]
[null,10148,1983,"Wood Creos Impregnated","Serviceable","Class 3",2018,100,93.56,7,{"$f":"INDEX(Lists!$B$32:$B$40, MATCH(2020-C6288, Lists!$C$32:$C$40,1))","v":"31-40"},{"$f":"SUMPRODUCT((Data!$B$17:$B$19=Model!$F6288)*(Data!$C$16:$K$16=Model!$K6288)*(Data!$C$17:$K$19))","v":3.22},77.459999999999994,{"$f":"_xlfn.IFS(M6288>70,\"Serviceable\",M6288>30, \"Limited Life\",M6288<=30, \"Unserviceable\")","v":"Serviceable"}]
[null,10281,1959,"Wood Creos Impregnated","Serviceable","Class 3",2017,85,78.94,8,{"$f":"INDEX(Lists!$B$32:$B$40, MATCH(2020-C6359, Lists!$C$32:$C$40,1))","v":"61-70"},{"$f":"SUMPRODUCT((Data!$B$17:$B$19=Model!$F6359)*(Data!$C$16:$K$16=Model!$K6359)*(Data!$C$17:$K$19))","v":2.02},68.84,{"$f":"_xlfn.IFS(M6359>70,\"Serviceable\",M6359>30, \"Limited Life\",M6359<=30, \"Unserviceable\")","v":"Limited Life"}]
[null,10420,2007,"CCA Treated Pole","Serviceable","Class 2",2017,100,96.34,8,{"$f":"INDEX(Lists!$B$32:$B$40, MATCH(2020-C6457, Lists!$C$32:$C$40,1))","v":"0-20"},{"$f":"SUMPRODUCT((Data!$B$17:$B$19=Model!$F6457)*(Data!$C$16:$K$16=Model!$K6457)*(Data!$C$17:$K$19))","v":1.22},90.24,{"$f":"_xlfn.IFS(M6457>70,\"Serviceable\",M6457>30, \"Limited Life\",M6457<=30, \"Unserviceable\")","v":"Serviceable"}]
[null,10518,1959,"Wood Creos Impregnated","Serviceable","Class 3",2020,100,100,5,{"$f":"INDEX(Lists!$B$32:$B$40, MATCH(2020-C6526, Lists!$C$32:$C$40,1))","v":"61-70"},{"$f":"SUMPRODUCT((Data!$B$17:$B$19=Model!$F6526)*(Data!$C$16:$K$16=Model!$K6526)*(Data!$C$17:$K$19))","v":2.02},89.9,{"$f":"_xlfn.IFS(M6526>70,\"Serviceable\",M6526>30, \"Limited Life\",M6526<=30, \"Unserviceable\")","v":"Serviceable"}]
[null,10534,2007,"CCA Treated Pole","Serviceable","Class 1",2015,150,144.69999999999999,10,{"$f":"INDEX(Lists!$B$32:$B$40, MATCH(2020-C6535, Lists!$C$32:$C$40,1))","v":"0-20"},{"$f":"SUMPRODUCT((Data!$B$17:$B$19=Model!$F6535)*(Data!$C$16:$K$16=Model!$K6535)*(Data!$C$17:$K$19))","v":1.06},139.4,{"$f":"_xlfn.IFS(M6535>70,\"Serviceable\",M6535>30, \"Limited Life\",M6535<=30, \"Unserviceable\")","v":"Serviceable"}]
[null,10658,1989,"Wood Untreated Dressed","Serviceable","Class 1",2015,150,137.4,10,{"$f":"INDEX(Lists!$B$32:$B$40, MATCH(2020-C6627, Lists!$C$32:$C$40,1))","v":"31-40"},{"$f":"SUMPRODUCT((Data!$B$17:$B$19=Model!$F6627)*(Data!$C$16:$K$16=Model!$K6627)*(Data!$C$17:$K$19))","v":2.52},124.8,{"$f":"_xlfn.IFS(M6627>70,\"Serviceable\",M6627>30, \"Limited Life\",M6627<=30, \"Unserviceable\")","v":"Serviceable"}]
[null,10812,1980,"Wood Untreated Dressed","Serviceable","Class 1",2020,100,100,5,{"$f":"INDEX(Lists!$B$32:$B$40, MATCH(2020-C6730, Lists!$C$32:$C$40,1))","v":"31-40"},{"$f":"SUMPRODUCT((Data!$B$17:$B$19=Model!$F6730)*(Data!$C$16:$K$16=Model!$K6730)*(Data!$C$17:$K$19))","v":2.52},87.4,{"$f":"_xlfn.IFS(M6730>70,\"Serviceable\",M6730>30, \"Limited Life\",M6730<=30, \"Unserviceable\")","v":"Serviceable"}]
[null,10894,2007,"CCA Treated Pole","Serviceable","Class 2",2020,160,160,5,{"$f":"INDEX(Lists!$B$32:$B$40, MATCH(2020-C6780, Lists!$C$32:$C$40,1))","v":"0-20"},{"$f":"SUMPRODUCT((Data!$B$17:$B$19=Model!$F6780)*(Data!$C$16:$K$16=Model!$K6780)*(Data!$C$17:$K$19))","v":1.22},153.9,{"$f":"_xlfn.IFS(M6780>70,\"Serviceable\",M6780>30, \"Limited Life\",M6780<=30, \"Unserviceable\")","v":"Serviceable"}]
[null,10989,1978,"Wood Creos Impregnated","Serviceable","Class 3",2017,100,88.66,8,{"$f":"INDEX(Lists!$B$32:$B$40, MATCH(2020-C6849, Lists!$C$32:$C$40,1))","v":"41-50"},{"$f":"SUMPRODUCT((Data!$B$17:$B$19=Model!$F6849)*(Data!$C$16:$K$16=Model!$K6849)*(Data!$C$17:$K$19))","v":3.78},69.760000000000005,{"$f":"_xlfn.IFS(M6849>70,\"Serviceable\",M6849>30, \"Limited Life\",M6849<=30, \"Unserviceable\")","v":"Limited Life"}]
[null,11098,1999,"CCA Treated Pole","Serviceable","Class 1",2020,150,150,5,{"$f":"INDEX(Lists!$B$32:$B$40, MATCH(2020-C6906, Lists!$C$32:$C$40,1))","v":"21-30"},{"$f":"SUMPRODUCT((Data!$B$17:$B$19=Model!$F6906)*(Data!$C$16:$K$16=Model!$K6906)*(Data!$C$17:$K$19))","v":1.96},140.19999999999999,{"$f":"_xlfn.IFS(M6906>70,\"Serviceable\",M6906>30, \"Limited Life\",M6906<=30, \"Unserviceable\")","v":"Serviceable"}]
[null,11170,2006,"CCA Treated Pole","Serviceable","Class 2",2015,150,143.9,10,{"$f":"INDEX(Lists!$B$32:$B$40, MATCH(2020-C6950, Lists!$C$32:$C$40,1))","v":"0-20"},{"$f":"SUMPRODUCT((Data!$B$17:$B$19=Model!$F6950)*(Data!$C$16:$K$16=Model!$K6950)*(Data!$C$17:$K$19))","v":1.22},137.80000000000001,{"$f":"_xlfn.IFS(M6950>70,\"Serviceable\",M6950>30, \"Limited Life\",M6950<=30, \"Unserviceable\")","v":"Serviceable"}]
[null,11330,1972,"Wood Creos Impregnated","Serviceable","Class 3",2017,100,88.66,8,{"$f":"INDEX(Lists!$B$32:$B$40, MATCH(2020-C7034, Lists!$C$32:$C$40,1))","v":"41-50"},{"$f":"SUMPRODUCT((Data!$B$17:$B$19=Model!$F7034)*(Data!$C$16:$K$16=Model!$K7034)*(Data!$C$17:$K$19))","v":3.78},69.760000000000005,{"$f":"_xlfn.IFS(M7034>70,\"Serviceable\",M7034>30, \"Limited Life\",M7034<=30, \"Unserviceable\")","v":"Limited Life"}]
[null,11443,1993,"Wood Untreated Dressed","Serviceable","Class 1",2016,130,122.16,9,{"$f":"INDEX(Lists!$B$32:$B$40, MATCH(2020-C7103, Lists!$C$32:$C$40,1))","v":"21-30"},{"$f":"SUMPRODUCT((Data!$B$17:$B$19=Model!$F7103)*(Data!$C$16:$K$16=Model!$K7103)*(Data!$C$17:$K$19))","v":1.96},112.36,{"$f":"_xlfn.IFS(M7103>70,\"Serviceable\",M7103>30, \"Limited Life\",M7103<=30, \"Unserviceable\")","v":"Serviceable"}]
[null,11541,1955,"Wood Untreated Round","Serviceable","Class 1",2018,100,95.94,7,{"$f":"INDEX(Lists!$B$32:$B$40, MATCH(2020-C7172, Lists!$C$32:$C$40,1))","v":"61-70"},{"$f":"SUMPRODUCT((Data!$B$17:$B$19=Model!$F7172)*(Data!$C$16:$K$16=Model!$K7172)*(Data!$C$17:$K$19))","v":2.0299999999999998},85.79,{"$f":"_xlfn.IFS(M7172>70,\"Serviceable\",M7172>30, \"Limited Life\",M7172<=30, \"Unserviceable\")","v":"Serviceable"}]
[null,11600,1979,"Wood Untreated Dressed","Serviceable","Class 1",2017,120,114.75,8,{"$f":"INDEX(Lists!$B$32:$B$40, MATCH(2020-C7210, Lists!$C$32:$C$40,1))","v":"41-50"},{"$f":"SUMPRODUCT((Data!$B$17:$B$19=Model!$F7210)*(Data!$C$16:$K$16=Model!$K7210)*(Data!$C$17:$K$19))","v":1.75},106,{"$f":"_xlfn.IFS(M7210>70,\"Serviceable\",M7210>30, \"Limited Life\",M7210<=30, \"Unserviceable\")","v":"Serviceable"}]
[null,11803,1964,"Wood Creos Impregnated","Serviceable","Class 3",2016,90,79.08,9,{"$f":"INDEX(Lists!$B$32:$B$40, MATCH(2020-C7341, Lists!$C$32:$C$40,1))","v":"51-60"},{"$f":"SUMPRODUCT((Data!$B$17:$B$19=Model!$F7341)*(Data!$C$16:$K$16=Model!$K7341)*(Data!$C$17:$K$19))","v":2.73},65.430000000000007,{"$f":"_xlfn.IFS(M7341>70,\"Serviceable\",M7341>30, \"Limited Life\",M7341<=30, \"Unserviceable\")","v":"Limited Life"}]
[null,11806,1941,"Wood Untreated Dressed","Serviceable","Class 1",2016,100,91.4,9,{"$f":"INDEX(Lists!$B$32:$B$40, MATCH(2020-C7342, Lists!$C$32:$C$40,1))","v":"71-80"},{"$f":"SUMPRODUCT((Data!$B$17:$B$19=Model!$F7342)*(Data!$C$16:$K$16=Model!$K7342)*(Data!$C$17:$K$19))","v":2.15},80.650000000000006,{"$f":"_xlfn.IFS(M7342>70,\"Serviceable\",M7342>30, \"Limited Life\",M7342<=30, \"Unserviceable\")","v":"Serviceable"}]
[null,11972,1966,"Wood Creos Impregnated","Serviceable","Class 3",2017,100,91.81,8,{"$f":"INDEX(Lists!$B$32:$B$40, MATCH(2020-C7453, Lists!$C$32:$C$40,1))","v":"51-60"},{"$f":"SUMPRODUCT((Data!$B$17:$B$19=Model!$F7453)*(Data!$C$16:$K$16=Model!$K7453)*(Data!$C$17:$K$19))","v":2.73},78.16,{"$f":"_xlfn.IFS(M7453>70,\"Serviceable\",M7453>30, \"Limited Life\",M7453<=30, \"Unserviceable\")","v":"Serviceable"}]
[null,12067,1972,"Wood Creos Impregnated","Serviceable","Class 2",2016,90,76.88,9,{"$f":"INDEX(Lists!$B$32:$B$40, MATCH(2020-C7511, Lists!$C$32:$C$40,1))","v":"41-50"},{"$f":"SUMPRODUCT((Data!$B$17:$B$19=Model!$F7511)*(Data!$C$16:$K$16=Model!$K7511)*(Data!$C$17:$K$19))","v":3.28},60.480000000000004,{"$f":"_xlfn.IFS(M7511>70,\"Serviceable\",M7511>30, \"Limited Life\",M7511<=30, \"Unserviceable\")","v":"Limited Life"}]
[null,12173,1983,"Wood Creos Impregnated","Serviceable","Class 3",2016,100,87.12,9,{"$f":"INDEX(Lists!$B$32:$B$40, MATCH(2020-C7581, Lists!$C$32:$C$40,1))","v":"31-40"},{"$f":"SUMPRODUCT((Data!$B$17:$B$19=Model!$F7581)*(Data!$C$16:$K$16=Model!$K7581)*(Data!$C$17:$K$19))","v":3.22},71.02,{"$f":"_xlfn.IFS(M7581>70,\"Serviceable\",M7581>30, \"Limited Life\",M7581<=30, \"Unserviceable\")","v":"Serviceable"}]
[null,12316,1995,"Wood Untreated Dressed","Serviceable","Class 1",2016,150,142.16,9,{"$f":"INDEX(Lists!$B$32:$B$40, MATCH(2020-C7664, Lists!$C$32:$C$40,1))","v":"21-30"},{"$f":"SUMPRODUCT((Data!$B$17:$B$19=Model!$F7664)*(Data!$C$16:$K$16=Model!$K7664)*(Data!$C$17:$K$19))","v":1.96},132.36000000000001,{"$f":"_xlfn.IFS(M7664>70,\"Serviceable\",M7664>30, \"Limited Life\",M7664<=30, \"Unserviceable\")","v":"Serviceable"}]
[null,12431,1958,"Wood Untreated Round","Serviceable","Class 3",2016,90,81.92,9,{"$f":"INDEX(Lists!$B$32:$B$40, MATCH(2020-C7733, Lists!$C$32:$C$40,1))","v":"61-70"},{"$f":"SUMPRODUCT((Data!$B$17:$B$19=Model!$F7733)*(Data!$C$16:$K$16=Model!$K7733)*(Data!$C$17:$K$19))","v":2.02},71.819999999999993,{"$f":"_xlfn.IFS(M7733>70,\"Serviceable\",M7733>30, \"Limited Life\",M7733<=30, \"Unserviceable\")","v":"Serviceable"}]
[null,12480,1986,"Wood Untreated Dressed","Serviceable","Class 1",2020,140,140,5,{"$f":"INDEX(Lists!$B$32:$B$40, MATCH(2020-C7757, Lists!$C$32:$C$40,1))","v":"31-40"},{"$f":"SUMPRODUCT((Data!$B$17:$B$19=Model!$F7757)*(Data!$C$16:$K$16=Model!$K7757)*(Data!$C$17:$K$19))","v":2.52},127.4,{"$f":"_xlfn.IFS(M7757>70,\"Serviceable\",M7757>30, \"Limited Life\",M7757<=30, \"Unserviceable\")","v":"Serviceable"}]
[null,12604,1961,"Wood Creos Impregnated","Serviceable","Class 3",2016,90,79.08,9,{"$f":"INDEX(Lists!$B$32:$B$40, MATCH(2020-C7834, Lists!$C$32:$C$40,1))","v":"51-60"},{"$f":"SUMPRODUCT((Data!$B$17:$B$19=Model!$F7834)*(Data!$C$16:$K$16=Model!$K7834)*(Data!$C$17:$K$19))","v":2.73},65.430000000000007,{"$f":"_xlfn.IFS(M7834>70,\"Serviceable\",M7834>30, \"Limited Life\",M7834<=30, \"Unserviceable\")","v":"Limited Life"}]
[null,12714,1930,"Wood Untreated Round","Limited Life","Class 1",2017,70,61.57,8,{"$f":"INDEX(Lists!$B$32:$B$40, MATCH(2020-C7885, Lists!$C$32:$C$40,1))","v":"81-90"},{"$f":"SUMPRODUCT((Data!$B$17:$B$19=Model!$F7885)*(Data!$C$16:$K$16=Model!$K7885)*(Data!$C$17:$K$19))","v":2.81},47.519999999999996,{"$f":"_xlfn.IFS(M7885>70,\"Serviceable\",M7885>30, \"Limited Life\",M7885<=30, \"Unserviceable\")","v":"Limited Life"}]
[null,12849,1965,"Wood Creos Impregnated","Serviceable","Class 3",2015,110,96.35,10,{"$f":"INDEX(Lists!$B$32:$B$40, MATCH(2020-C7987, Lists!$C$32:$C$40,1))","v":"51-60"},{"$f":"SUMPRODUCT((Data!$B$17:$B$19=Model!$F7987)*(Data!$C$16:$K$16=Model!$K7987)*(Data!$C$17:$K$19))","v":2.73},82.7,{"$f":"_xlfn.IFS(M7987>70,\"Serviceable\",M7987>30, \"Limited Life\",M7987<=30, \"Unserviceable\")","v":"Serviceable"}]
[null,12982,1964,"Wood Creos Impregnated","Serviceable","Class 3",2016,110,99.08,{"$f":"2025-G8072","v":9},{"$f":"INDEX(Lists!$B$32:$B$40, MATCH(2020-C8072, Lists!$C$32:$C$40,1))","v":"51-60"},{"$f":"SUMPRODUCT((Data!$B$17:$B$19=Model!$F8072)*(Data!$C$16:$K$16=Model!$K8072)*(Data!$C$17:$K$19))","v":2.73},{"$f":"IF(IF(H8072>=700,999,(H8072-L8072*J8072))<0,0,IF(H8072>=700,999,(H8072-L8072*J8072)))","v":85.43},{"$f":"_xlfn.IFS(M8072>70,\"Serviceable\",M8072>30, \"Limited Life\",M8072<=30, \"Unserviceable\")","v":"Serviceable"}]
[null,13065,2001,"CCA Treated Pole","Serviceable","Class 1",2020,150,150,5,{"$f":"INDEX(Lists!$B$32:$B$40, MATCH(2020-C8128, Lists!$C$32:$C$40,1))","v":"0-20"},{"$f":"SUMPRODUCT((Data!$B$17:$B$19=Model!$F8128)*(Data!$C$16:$K$16=Model!$K8128)*(Data!$C$17:$K$19))","v":1.06},144.69999999999999,{"$f":"_xlfn.IFS(M8128>70,\"Serviceable\",M8128>30, \"Limited Life\",M8128<=30, \"Unserviceable\")","v":"Serviceable"}]
[null,13119,1976,"Wood Creos Impregnated","Serviceable","Class 3",2018,130,122.44,7,{"$f":"INDEX(Lists!$B$32:$B$40, MATCH(2020-C8157, Lists!$C$32:$C$40,1))","v":"41-50"},{"$f":"SUMPRODUCT((Data!$B$17:$B$19=Model!$F8157)*(Data!$C$16:$K$16=Model!$K8157)*(Data!$C$17:$K$19))","v":3.78},103.54,{"$f":"_xlfn.IFS(M8157>70,\"Serviceable\",M8157>30, \"Limited Life\",M8157<=30, \"Unserviceable\")","v":"Serviceable"}]
[null,13236,2010,"CCA Treated Pole","Serviceable","Class 3",2015,171.56902865306319,164.71902865306319,10,{"$f":"INDEX(Lists!$B$32:$B$40, MATCH(2020-C8226, Lists!$C$32:$C$40,1))","v":"0-20"},{"$f":"SUMPRODUCT((Data!$B$17:$B$19=Model!$F8226)*(Data!$C$16:$K$16=Model!$K8226)*(Data!$C$17:$K$19))","v":1.37},157.8690286530632,{"$f":"_xlfn.IFS(M8226>70,\"Serviceable\",M8226>30, \"Limited Life\",M8226<=30, \"Unserviceable\")","v":"Serviceable"}]
[null,13371,1990,"Wood Untreated Dressed","Serviceable","Class 1",2016,130,122.16,9,{"$f":"INDEX(Lists!$B$32:$B$40, MATCH(2020-C8304, Lists!$C$32:$C$40,1))","v":"21-30"},{"$f":"SUMPRODUCT((Data!$B$17:$B$19=Model!$F8304)*(Data!$C$16:$K$16=Model!$K8304)*(Data!$C$17:$K$19))","v":1.96},112.36,{"$f":"_xlfn.IFS(M8304>70,\"Serviceable\",M8304>30, \"Limited Life\",M8304<=30, \"Unserviceable\")","v":"Serviceable"}]
[null,13544,1966,"Wood Untreated Round","Serviceable","Class 3",2016,100,89.08,9,{"$f":"INDEX(Lists!$B$32:$B$40, MATCH(2020-C8395, Lists!$C$32:$C$40,1))","v":"51-60"},{"$f":"SUMPRODUCT((Data!$B$17:$B$19=Model!$F8395)*(Data!$C$16:$K$16=Model!$K8395)*(Data!$C$17:$K$19))","v":2.73},75.430000000000007,{"$f":"_xlfn.IFS(M8395>70,\"Serviceable\",M8395>30, \"Limited Life\",M8395<=30, \"Unserviceable\")","v":"Serviceable"}]
[null,13613,1968,"Wood Creos Impregnated","Serviceable","Class 2",2018,100,94.86,7,{"$f":"INDEX(Lists!$B$32:$B$40, MATCH(2020-C8432, Lists!$C$32:$C$40,1))","v":"51-60"},{"$f":"SUMPRODUCT((Data!$B$17:$B$19=Model!$F8432)*(Data!$C$16:$K$16=Model!$K8432)*(Data!$C$17:$K$19))","v":2.57},82.01,{"$f":"_xlfn.IFS(M8432>70,\"Serviceable\",M8432>30, \"Limited Life\",M8432<=30, \"Unserviceable\")","v":"Serviceable"}]
[null,13830,1997,"Wood Penta Impregnated","Serviceable","Class 3",2016,100,92.64,9,{"$f":"INDEX(Lists!$B$32:$B$40, MATCH(2020-C8548, Lists!$C$32:$C$40,1))","v":"21-30"},{"$f":"SUMPRODUCT((Data!$B$17:$B$19=Model!$F8548)*(Data!$C$16:$K$16=Model!$K8548)*(Data!$C$17:$K$19))","v":1.84},83.44,{"$f":"_xlfn.IFS(M8548>70,\"Serviceable\",M8548>30, \"Limited Life\",M8548<=30, \"Unserviceable\")","v":"Serviceable"}]
[null,13940,2002,"CCA Treated Pole","Serviceable","Class 2",2017,162.49719689682513,158.83719689682513,8,{"$f":"INDEX(Lists!$B$32:$B$40, MATCH(2020-C8617, Lists!$C$32:$C$40,1))","v":"0-20"},{"$f":"SUMPRODUCT((Data!$B$17:$B$19=Model!$F8617)*(Data!$C$16:$K$16=Model!$K8617)*(Data!$C$17:$K$19))","v":1.22},152.73719689682514,{"$f":"_xlfn.IFS(M8617>70,\"Serviceable\",M8617>30, \"Limited Life\",M8617<=30, \"Unserviceable\")","v":"Serviceable"}]
[null,14015,1950,"Wood Untreated Round","Serviceable","Class 2",2019,80,77.77,6,{"$f":"INDEX(Lists!$B$32:$B$40, MATCH(2020-C8675, Lists!$C$32:$C$40,1))","v":"61-70"},{"$f":"SUMPRODUCT((Data!$B$17:$B$19=Model!$F8675)*(Data!$C$16:$K$16=Model!$K8675)*(Data!$C$17:$K$19))","v":2.23},66.62,{"$f":"_xlfn.IFS(M8675>70,\"Serviceable\",M8675>30, \"Limited Life\",M8675<=30, \"Unserviceable\")","v":"Limited Life"}]
[null,14069,2004,"CCA Treated Pole","Serviceable","Class 1",2016,150,145.76,9,{"$f":"INDEX(Lists!$B$32:$B$40, MATCH(2020-C8718, Lists!$C$32:$C$40,1))","v":"0-20"},{"$f":"SUMPRODUCT((Data!$B$17:$B$19=Model!$F8718)*(Data!$C$16:$K$16=Model!$K8718)*(Data!$C$17:$K$19))","v":1.06},140.46,{"$f":"_xlfn.IFS(M8718>70,\"Serviceable\",M8718>30, \"Limited Life\",M8718<=30, \"Unserviceable\")","v":"Serviceable"}]
[null,14203,1984,"Wood Untreated Dressed","Serviceable","Class 1",2016,140,129.91999999999999,9,{"$f":"INDEX(Lists!$B$32:$B$40, MATCH(2020-C8803, Lists!$C$32:$C$40,1))","v":"31-40"},{"$f":"SUMPRODUCT((Data!$B$17:$B$19=Model!$F8803)*(Data!$C$16:$K$16=Model!$K8803)*(Data!$C$17:$K$19))","v":2.52},117.32,{"$f":"_xlfn.IFS(M8803>70,\"Serviceable\",M8803>30, \"Limited Life\",M8803<=30, \"Unserviceable\")","v":"Serviceable"}]
[null,14317,1963,"Wood Creos Impregnated","Serviceable","Class 3",2020,100,100,5,{"$f":"INDEX(Lists!$B$32:$B$40, MATCH(2020-C8871, Lists!$C$32:$C$40,1))","v":"51-60"},{"$f":"SUMPRODUCT((Data!$B$17:$B$19=Model!$F8871)*(Data!$C$16:$K$16=Model!$K8871)*(Data!$C$17:$K$19))","v":2.73},86.35,{"$f":"_xlfn.IFS(M8871>70,\"Serviceable\",M8871>30, \"Limited Life\",M8871<=30, \"Unserviceable\")","v":"Serviceable"}]
[null,14437,1974,"Wood Creos Impregnated","Serviceable","Class 3",2017,120,108.66,8,{"$f":"INDEX(Lists!$B$32:$B$40, MATCH(2020-C8956, Lists!$C$32:$C$40,1))","v":"41-50"},{"$f":"SUMPRODUCT((Data!$B$17:$B$19=Model!$F8956)*(Data!$C$16:$K$16=Model!$K8956)*(Data!$C$17:$K$19))","v":3.78},89.76,{"$f":"_xlfn.IFS(M8956>70,\"Serviceable\",M8956>30, \"Limited Life\",M8956<=30, \"Unserviceable\")","v":"Serviceable"}]
[null,14475,1972,"Wood Creos Impregnated","Serviceable","Class 2",2019,90,86.72,6,{"$f":"INDEX(Lists!$B$32:$B$40, MATCH(2020-C8979, Lists!$C$32:$C$40,1))","v":"41-50"},{"$f":"SUMPRODUCT((Data!$B$17:$B$19=Model!$F8979)*(Data!$C$16:$K$16=Model!$K8979)*(Data!$C$17:$K$19))","v":3.28},70.319999999999993,{"$f":"_xlfn.IFS(M8979>70,\"Serviceable\",M8979>30, \"Limited Life\",M8979<=30, \"Unserviceable\")","v":"Serviceable"}]
[null,14577,1988,"Wood Untreated Dressed","Serviceable","Class 1",2018,140,134.96,7,{"$f":"INDEX(Lists!$B$32:$B$40, MATCH(2020-C9041, Lists!$C$32:$C$40,1))","v":"31-40"},{"$f":"SUMPRODUCT((Data!$B$17:$B$19=Model!$F9041)*(Data!$C$16:$K$16=Model!$K9041)*(Data!$C$17:$K$19))","v":2.52},122.36,{"$f":"_xlfn.IFS(M9041>70,\"Serviceable\",M9041>30, \"Limited Life\",M9041<=30, \"Unserviceable\")","v":"Serviceable"}]
[null,14688,1967,"Wood Creos Impregnated","Serviceable","Class 3",2020,100,100,5,{"$f":"INDEX(Lists!$B$32:$B$40, MATCH(2020-C9107, Lists!$C$32:$C$40,1))","v":"51-60"},{"$f":"SUMPRODUCT((Data!$B$17:$B$19=Model!$F9107)*(Data!$C$16:$K$16=Model!$K9107)*(Data!$C$17:$K$19))","v":2.73},86.35,{"$f":"_xlfn.IFS(M9107>70,\"Serviceable\",M9107>30, \"Limited Life\",M9107<=30, \"Unserviceable\")","v":"Serviceable"}]
[null,14822,2009,"CCA Treated Pole","Serviceable","Class 2",2016,162.49719689682513,157.61719689682513,9,{"$f":"INDEX(Lists!$B$32:$B$40, MATCH(2020-C9194, Lists!$C$32:$C$40,1))","v":"0-20"},{"$f":"SUMPRODUCT((Data!$B$17:$B$19=Model!$F9194)*(Data!$C$16:$K$16=Model!$K9194)*(Data!$C$17:$K$19))","v":1.22},151.51719689682514,{"$f":"_xlfn.IFS(M9194>70,\"Serviceable\",M9194>30, \"Limited Life\",M9194<=30, \"Unserviceable\")","v":"Serviceable"}]
[null,14966,1970,"Wood Creos Impregnated","Serviceable","Class 3",2018,130,122.44,7,{"$f":"INDEX(Lists!$B$32:$B$40, MATCH(2020-C9279, Lists!$C$32:$C$40,1))","v":"41-50"},{"$f":"SUMPRODUCT((Data!$B$17:$B$19=Model!$F9279)*(Data!$C$16:$K$16=Model!$K9279)*(Data!$C$17:$K$19))","v":3.78},103.54,{"$f":"_xlfn.IFS(M9279>70,\"Serviceable\",M9279>30, \"Limited Life\",M9279<=30, \"Unserviceable\")","v":"Serviceable"}]
[null,15127,1999,"CCA Treated Pole","Serviceable","Class 2",2018,162.49719689682513,158.71719689682513,7,{"$f":"INDEX(Lists!$B$32:$B$40, MATCH(2020-C9350, Lists!$C$32:$C$40,1))","v":"21-30"},{"$f":"SUMPRODUCT((Data!$B$17:$B$19=Model!$F9350)*(Data!$C$16:$K$16=Model!$K9350)*(Data!$C$17:$K$19))","v":1.89},149.26719689682514,{"$f":"_xlfn.IFS(M9350>70,\"Serviceable\",M9350>30, \"Limited Life\",M9350<=30, \"Unserviceable\")","v":"Serviceable"}]
[null,15337,2008,"CCA Treated Pole","Serviceable","Class 2",2018,140,137.56,7,{"$f":"INDEX(Lists!$B$32:$B$40, MATCH(2020-C9432, Lists!$C$32:$C$40,1))","v":"0-20"},{"$f":"SUMPRODUCT((Data!$B$17:$B$19=Model!$F9432)*(Data!$C$16:$K$16=Model!$K9432)*(Data!$C$17:$K$19))","v":1.22},131.46,{"$f":"_xlfn.IFS(M9432>70,\"Serviceable\",M9432>30, \"Limited Life\",M9432<=30, \"Unserviceable\")","v":"Serviceable"}]
[null,15443,1985,"Wood Untreated Dressed","Serviceable","Class 1",2017,130,122.44,8,{"$f":"INDEX(Lists!$B$32:$B$40, MATCH(2020-C9501, Lists!$C$32:$C$40,1))","v":"31-40"},{"$f":"SUMPRODUCT((Data!$B$17:$B$19=Model!$F9501)*(Data!$C$16:$K$16=Model!$K9501)*(Data!$C$17:$K$19))","v":2.52},109.84,{"$f":"_xlfn.IFS(M9501>70,\"Serviceable\",M9501>30, \"Limited Life\",M9501<=30, \"Unserviceable\")","v":"Serviceable"}]
[null,15478,1966,"Wood Creos Impregnated","Serviceable","Class 3",2018,100,94.54,7,{"$f":"INDEX(Lists!$B$32:$B$40, MATCH(2020-C9526, Lists!$C$32:$C$40,1))","v":"51-60"},{"$f":"SUMPRODUCT((Data!$B$17:$B$19=Model!$F9526)*(Data!$C$16:$K$16=Model!$K9526)*(Data!$C$17:$K$19))","v":2.73},80.89,{"$f":"_xlfn.IFS(M9526>70,\"Serviceable\",M9526>30, \"Limited Life\",M9526<=30, \"Unserviceable\")","v":"Serviceable"}]
[null,15595,1964,"Wood Creos Impregnated","Serviceable","Class 3",2018,110,104.54,7,{"$f":"INDEX(Lists!$B$32:$B$40, MATCH(2020-C9602, Lists!$C$32:$C$40,1))","v":"51-60"},{"$f":"SUMPRODUCT((Data!$B$17:$B$19=Model!$F9602)*(Data!$C$16:$K$16=Model!$K9602)*(Data!$C$17:$K$19))","v":2.73},90.89,{"$f":"_xlfn.IFS(M9602>70,\"Serviceable\",M9602>30, \"Limited Life\",M9602<=30, \"Unserviceable\")","v":"Serviceable"}]
[null,15680,1932,"Wood Untreated Round","Serviceable","Class 1",2018,100,94.38,7,{"$f":"INDEX(Lists!$B$32:$B$40, MATCH(2020-C9654, Lists!$C$32:$C$40,1))","v":"81-90"},{"$f":"SUMPRODUCT((Data!$B$17:$B$19=Model!$F9654)*(Data!$C$16:$K$16=Model!$K9654)*(Data!$C$17:$K$19))","v":2.81},80.33,{"$f":"_xlfn.IFS(M9654>70,\"Serviceable\",M9654>30, \"Limited Life\",M9654<=30, \"Unserviceable\")","v":"Serviceable"}]
[null,15824,1969,"Wood Creos Impregnated","Serviceable","Class 3",2017,90,81.81,8,{"$f":"INDEX(Lists!$B$32:$B$40, MATCH(2020-C9755, Lists!$C$32:$C$40,1))","v":"51-60"},{"$f":"SUMPRODUCT((Data!$B$17:$B$19=Model!$F9755)*(Data!$C$16:$K$16=Model!$K9755)*(Data!$C$17:$K$19))","v":2.73},68.16,{"$f":"_xlfn.IFS(M9755>70,\"Serviceable\",M9755>30, \"Limited Life\",M9755<=30, \"Unserviceable\")","v":"Limited Life"}]
[null,15960,1967,"Wood Creos Impregnated","Serviceable","Class 3",2018,80,74.540000000000006,7,{"$f":"INDEX(Lists!$B$32:$B$40, MATCH(2020-C9840, Lists!$C$32:$C$40,1))","v":"51-60"},{"$f":"SUMPRODUCT((Data!$B$17:$B$19=Model!$F9840)*(Data!$C$16:$K$16=Model!$K9840)*(Data!$C$17:$K$19))","v":2.73},60.89,{"$f":"_xlfn.IFS(M9840>70,\"Serviceable\",M9840>30, \"Limited Life\",M9840<=30, \"Unserviceable\")","v":"Limited Life"}]
[null,16041,1989,"Wood Untreated Dressed","Serviceable","Class 1",2017,130,122.44,8,{"$f":"INDEX(Lists!$B$32:$B$40, MATCH(2020-C9897, Lists!$C$32:$C$40,1))","v":"31-40"},{"$f":"SUMPRODUCT((Data!$B$17:$B$19=Model!$F9897)*(Data!$C$16:$K$16=Model!$K9897)*(Data!$C$17:$K$19))","v":2.52},109.84,{"$f":"_xlfn.IFS(M9897>70,\"Serviceable\",M9897>30, \"Limited Life\",M9897<=30, \"Unserviceable\")","v":"Serviceable"}]
[null,16084,1937,"Wood Untreated Round","Serviceable","Class 1",2017,110,101.57,8,{"$f":"INDEX(Lists!$B$32:$B$40, MATCH(2020-C9925, Lists!$C$32:$C$40,1))","v":"81-90"},{"$f":"SUMPRODUCT((Data!$B$17:$B$19=Model!$F9925)*(Data!$C$16:$K$16=Model!$K9925)*(Data!$C$17:$K$19))","v":2.81},87.52,{"$f":"_xlfn.IFS(M9925>70,\"Serviceable\",M9925>30, \"Limited Life\",M9925<=30, \"Unserviceable\")","v":"Serviceable"}]
[null,16299,2005,"CCA Treated Pole","Serviceable","Class 2",2018,150,147.56,7,{"$f":"INDEX(Lists!$B$32:$B$40, MATCH(2020-C10025, Lists!$C$32:$C$40,1))","v":"0-20"},{"$f":"SUMPRODUCT((Data!$B$17:$B$19=Model!$F10025)*(Data!$C$16:$K$16=Model!$K10025)*(Data!$C$17:$K$19))","v":1.22},141.46,{"$f":"_xlfn.IFS(M10025>70,\"Serviceable\",M10025>30, \"Limited Life\",M10025<=30, \"Unserviceable\")","v":"Serviceable"}]
[null,16384,1976,"Wood Creos Impregnated","Serviceable","Class 1",2018,150,146.5,7,{"$f":"INDEX(Lists!$B$32:$B$40, MATCH(2020-C10078, Lists!$C$32:$C$40,1))","v":"41-50"},{"$f":"SUMPRODUCT((Data!$B$17:$B$19=Model!$F10078)*(Data!$C$16:$K$16=Model!$K10078)*(Data!$C$17:$K$19))","v":1.75},137.75,{"$f":"_xlfn.IFS(M10078>70,\"Serviceable\",M10078>30, \"Limited Life\",M10078<=30, \"Unserviceable\")","v":"Serviceable"}]
[null,16565,1976,"Wood Creos Impregnated","Serviceable","Class 1",2018,80,76.5,7,{"$f":"INDEX(Lists!$B$32:$B$40, MATCH(2020-C10163, Lists!$C$32:$C$40,1))","v":"41-50"},{"$f":"SUMPRODUCT((Data!$B$17:$B$19=Model!$F10163)*(Data!$C$16:$K$16=Model!$K10163)*(Data!$C$17:$K$19))","v":1.75},67.75,{"$f":"_xlfn.IFS(M10163>70,\"Serviceable\",M10163>30, \"Limited Life\",M10163<=30, \"Unserviceable\")","v":"Limited Life"}]
[null,16661,1989,"Wood Untreated Dressed","Serviceable","Class 1",2016,130,119.92,9,{"$f":"INDEX(Lists!$B$32:$B$40, MATCH(2020-C10201, Lists!$C$32:$C$40,1))","v":"31-40"},{"$f":"SUMPRODUCT((Data!$B$17:$B$19=Model!$F10201)*(Data!$C$16:$K$16=Model!$K10201)*(Data!$C$17:$K$19))","v":2.52},107.32,{"$f":"_xlfn.IFS(M10201>70,\"Serviceable\",M10201>30, \"Limited Life\",M10201<=30, \"Unserviceable\")","v":"Serviceable"}]
[null,16852,1967,"Wood Creos Impregnated","Serviceable","Class 3",2019,100,97.27,6,{"$f":"INDEX(Lists!$B$32:$B$40, MATCH(2020-C10316, Lists!$C$32:$C$40,1))","v":"51-60"},{"$f":"SUMPRODUCT((Data!$B$17:$B$19=Model!$F10316)*(Data!$C$16:$K$16=Model!$K10316)*(Data!$C$17:$K$19))","v":2.73},83.62,{"$f":"_xlfn.IFS(M10316>70,\"Serviceable\",M10316>30, \"Limited Life\",M10316<=30, \"Unserviceable\")","v":"Serviceable"}]
[null,16880,1967,"Wood Creos Impregnated","Serviceable","Class 3",2016,100,89.08,9,{"$f":"INDEX(Lists!$B$32:$B$40, MATCH(2020-C10333, Lists!$C$32:$C$40,1))","v":"51-60"},{"$f":"SUMPRODUCT((Data!$B$17:$B$19=Model!$F10333)*(Data!$C$16:$K$16=Model!$K10333)*(Data!$C$17:$K$19))","v":2.73},75.430000000000007,{"$f":"_xlfn.IFS(M10333>70,\"Serviceable\",M10333>30, \"Limited Life\",M10333<=30, \"Unserviceable\")","v":"Serviceable"}]
[null,17070,1955,"Wood Untreated Round","Serviceable","Class 2",2018,100,95.54,7,{"$f":"INDEX(Lists!$B$32:$B$40, MATCH(2020-C10444, Lists!$C$32:$C$40,1))","v":"61-70"},{"$f":"SUMPRODUCT((Data!$B$17:$B$19=Model!$F10444)*(Data!$C$16:$K$16=Model!$K10444)*(Data!$C$17:$K$19))","v":2.23},84.39,{"$f":"_xlfn.IFS(M10444>70,\"Serviceable\",M10444>30, \"Limited Life\",M10444<=30, \"Unserviceable\")","v":"Serviceable"}]
[null,17138,1985,"Wood Untreated Dressed","Serviceable","Class 1",2018,130,124.96,7,{"$f":"INDEX(Lists!$B$32:$B$40, MATCH(2020-C10486, Lists!$C$32:$C$40,1))","v":"31-40"},{"$f":"SUMPRODUCT((Data!$B$17:$B$19=Model!$F10486)*(Data!$C$16:$K$16=Model!$K10486)*(Data!$C$17:$K$19))","v":2.52},112.36,{"$f":"_xlfn.IFS(M10486>70,\"Serviceable\",M10486>30, \"Limited Life\",M10486<=30, \"Unserviceable\")","v":"Serviceable"}]
[null,17284,1967,"Wood Creos Impregnated","Serviceable","Class 3",2017,100,91.81,8,{"$f":"INDEX(Lists!$B$32:$B$40, MATCH(2020-C10572, Lists!$C$32:$C$40,1))","v":"51-60"},{"$f":"SUMPRODUCT((Data!$B$17:$B$19=Model!$F10572)*(Data!$C$16:$K$16=Model!$K10572)*(Data!$C$17:$K$19))","v":2.73},78.16,{"$f":"_xlfn.IFS(M10572>70,\"Serviceable\",M10572>30, \"Limited Life\",M10572<=30, \"Unserviceable\")","v":"Serviceable"}]
[null,17388,1973,"Wood Creos Impregnated","Serviceable","Class 3",2018,100,92.44,7,{"$f":"INDEX(Lists!$B$32:$B$40, MATCH(2020-C10639, Lists!$C$32:$C$40,1))","v":"41-50"},{"$f":"SUMPRODUCT((Data!$B$17:$B$19=Model!$F10639)*(Data!$C$16:$K$16=Model!$K10639)*(Data!$C$17:$K$19))","v":3.78},73.540000000000006,{"$f":"_xlfn.IFS(M10639>70,\"Serviceable\",M10639>30, \"Limited Life\",M10639<=30, \"Unserviceable\")","v":"Serviceable"}]
[null,17410,1967,"Wood Creos Impregnated","Serviceable","Class 3",2018,90,84.54,7,{"$f":"INDEX(Lists!$B$32:$B$40, MATCH(2020-C10656, Lists!$C$32:$C$40,1))","v":"51-60"},{"$f":"SUMPRODUCT((Data!$B$17:$B$19=Model!$F10656)*(Data!$C$16:$K$16=Model!$K10656)*(Data!$C$17:$K$19))","v":2.73},70.89,{"$f":"_xlfn.IFS(M10656>70,\"Serviceable\",M10656>30, \"Limited Life\",M10656<=30, \"Unserviceable\")","v":"Serviceable"}]
[null,17550,1962,"Wood Creos Impregnated","Serviceable","Class 3",2018,100,94.54,7,{"$f":"INDEX(Lists!$B$32:$B$40, MATCH(2020-C10748, Lists!$C$32:$C$40,1))","v":"51-60"},{"$f":"SUMPRODUCT((Data!$B$17:$B$19=Model!$F10748)*(Data!$C$16:$K$16=Model!$K10748)*(Data!$C$17:$K$19))","v":2.73},80.89,{"$f":"_xlfn.IFS(M10748>70,\"Serviceable\",M10748>30, \"Limited Life\",M10748<=30, \"Unserviceable\")","v":"Serviceable"}]
[null,17666,1978,"Wood Creos Impregnated","Serviceable","Class 1",2018,100,96.5,7,{"$f":"INDEX(Lists!$B$32:$B$40, MATCH(2020-C10809, Lists!$C$32:$C$40,1))","v":"41-50"},{"$f":"SUMPRODUCT((Data!$B$17:$B$19=Model!$F10809)*(Data!$C$16:$K$16=Model!$K10809)*(Data!$C$17:$K$19))","v":1.75},87.75,{"$f":"_xlfn.IFS(M10809>70,\"Serviceable\",M10809>30, \"Limited Life\",M10809<=30, \"Unserviceable\")","v":"Serviceable"}]
[null,17781,1933,"Wood Untreated Dressed","Serviceable","Class 1",2017,90,81.569999999999993,8,{"$f":"INDEX(Lists!$B$32:$B$40, MATCH(2020-C10876, Lists!$C$32:$C$40,1))","v":"81-90"},{"$f":"SUMPRODUCT((Data!$B$17:$B$19=Model!$F10876)*(Data!$C$16:$K$16=Model!$K10876)*(Data!$C$17:$K$19))","v":2.81},67.52,{"$f":"_xlfn.IFS(M10876>70,\"Serviceable\",M10876>30, \"Limited Life\",M10876<=30, \"Unserviceable\")","v":"Limited Life"}]
[null,17974,1984,"Wood Untreated Dressed","Serviceable","Class 1",2017,140,132.44,8,{"$f":"INDEX(Lists!$B$32:$B$40, MATCH(2020-C10962, Lists!$C$32:$C$40,1))","v":"31-40"},{"$f":"SUMPRODUCT((Data!$B$17:$B$19=Model!$F10962)*(Data!$C$16:$K$16=Model!$K10962)*(Data!$C$17:$K$19))","v":2.52},119.84,{"$f":"_xlfn.IFS(M10962>70,\"Serviceable\",M10962>30, \"Limited Life\",M10962<=30, \"Unserviceable\")","v":"Serviceable"}]
[null,18119,2006,"CCA Treated Pole","Serviceable","Class 2",2018,150,147.56,7,{"$f":"INDEX(Lists!$B$32:$B$40, MATCH(2020-C11047, Lists!$C$32:$C$40,1))","v":"0-20"},{"$f":"SUMPRODUCT((Data!$B$17:$B$19=Model!$F11047)*(Data!$C$16:$K$16=Model!$K11047)*(Data!$C$17:$K$19))","v":1.22},141.46,{"$f":"_xlfn.IFS(M11047>70,\"Serviceable\",M11047>30, \"Limited Life\",M11047<=30, \"Unserviceable\")","v":"Serviceable"}]
[null,18267,1997,"CCA Treated Pole","Serviceable","Class 1",2017,130,124.12,8,{"$f":"INDEX(Lists!$B$32:$B$40, MATCH(2020-C11119, Lists!$C$32:$C$40,1))","v":"21-30"},{"$f":"SUMPRODUCT((Data!$B$17:$B$19=Model!$F11119)*(Data!$C$16:$K$16=Model!$K11119)*(Data!$C$17:$K$19))","v":1.96},114.32,{"$f":"_xlfn.IFS(M11119>70,\"Serviceable\",M11119>30, \"Limited Life\",M11119<=30, \"Unserviceable\")","v":"Serviceable"}]
[null,18295,1986,"Wood Untreated Dressed","Serviceable","Class 1",2020,150,150,5,{"$f":"INDEX(Lists!$B$32:$B$40, MATCH(2020-C11132, Lists!$C$32:$C$40,1))","v":"31-40"},{"$f":"SUMPRODUCT((Data!$B$17:$B$19=Model!$F11132)*(Data!$C$16:$K$16=Model!$K11132)*(Data!$C$17:$K$19))","v":2.52},137.4,{"$f":"_xlfn.IFS(M11132>70,\"Serviceable\",M11132>30, \"Limited Life\",M11132<=30, \"Unserviceable\")","v":"Serviceable"}]
[null,18457,1960,"Wood Creos Impregnated","Serviceable","Class 3",2015,100,86.35,10,{"$f":"INDEX(Lists!$B$32:$B$40, MATCH(2020-C11214, Lists!$C$32:$C$40,1))","v":"51-60"},{"$f":"SUMPRODUCT((Data!$B$17:$B$19=Model!$F11214)*(Data!$C$16:$K$16=Model!$K11214)*(Data!$C$17:$K$19))","v":2.73},72.7,{"$f":"_xlfn.IFS(M11214>70,\"Serviceable\",M11214>30, \"Limited Life\",M11214<=30, \"Unserviceable\")","v":"Serviceable"}]
[null,18578,2008,"CCA Treated Pole","Serviceable","Class 2",2017,100,96.34,8,{"$f":"INDEX(Lists!$B$32:$B$40, MATCH(2020-C11285, Lists!$C$32:$C$40,1))","v":"0-20"},{"$f":"SUMPRODUCT((Data!$B$17:$B$19=Model!$F11285)*(Data!$C$16:$K$16=Model!$K11285)*(Data!$C$17:$K$19))","v":1.22},90.24,{"$f":"_xlfn.IFS(M11285>70,\"Serviceable\",M11285>30, \"Limited Life\",M11285<=30, \"Unserviceable\")","v":"Serviceable"}]
[null,18712,1966,"Wood Creos Impregnated","Limited Life","Class 3",2019,70,67.27,6,{"$f":"INDEX(Lists!$B$32:$B$40, MATCH(2020-C11370, Lists!$C$32:$C$40,1))","v":"51-60"},{"$f":"SUMPRODUCT((Data!$B$17:$B$19=Model!$F11370)*(Data!$C$16:$K$16=Model!$K11370)*(Data!$C$17:$K$19))","v":2.73},53.620000000000005,{"$f":"_xlfn.IFS(M11370>70,\"Serviceable\",M11370>30, \"Limited Life\",M11370<=30, \"Unserviceable\")","v":"Limited Life"}]
[null,18788,1959,"Wood Creos Impregnated","Limited Life","Class 3",2011,70,51.82,14,{"$f":"INDEX(Lists!$B$32:$B$40, MATCH(2020-C11423, Lists!$C$32:$C$40,1))","v":"61-70"},{"$f":"SUMPRODUCT((Data!$B$17:$B$19=Model!$F11423)*(Data!$C$16:$K$16=Model!$K11423)*(Data!$C$17:$K$19))","v":2.02},41.72,{"$f":"_xlfn.IFS(M11423>70,\"Serviceable\",M11423>30, \"Limited Life\",M11423<=30, \"Unserviceable\")","v":"Limited Life"}]
[null,18967,1956,"Wood Untreated Round","Serviceable","Class 1",2016,110,101.88,9,{"$f":"INDEX(Lists!$B$32:$B$40, MATCH(2020-C11523, Lists!$C$32:$C$40,1))","v":"61-70"},{"$f":"SUMPRODUCT((Data!$B$17:$B$19=Model!$F11523)*(Data!$C$16:$K$16=Model!$K11523)*(Data!$C$17:$K$19))","v":2.0299999999999998},91.73,{"$f":"_xlfn.IFS(M11523>70,\"Serviceable\",M11523>30, \"Limited Life\",M11523<=30, \"Unserviceable\")","v":"Serviceable"}]
[null,18998,1947,"Wood Untreated Dressed","Serviceable","Class 1",2016,80,71.400000000000006,9,{"$f":"INDEX(Lists!$B$32:$B$40, MATCH(2020-C11540, Lists!$C$32:$C$40,1))","v":"71-80"},{"$f":"SUMPRODUCT((Data!$B$17:$B$19=Model!$F11540)*(Data!$C$16:$K$16=Model!$K11540)*(Data!$C$17:$K$19))","v":2.15},60.650000000000006,{"$f":"_xlfn.IFS(M11540>70,\"Serviceable\",M11540>30, \"Limited Life\",M11540<=30, \"Unserviceable\")","v":"Limited Life"}]
[null,19260,1972,"Wood Creos Impregnated","Serviceable","Class 3",2016,90,74.88,9,{"$f":"INDEX(Lists!$B$32:$B$40, MATCH(2020-C11666, Lists!$C$32:$C$40,1))","v":"41-50"},{"$f":"SUMPRODUCT((Data!$B$17:$B$19=Model!$F11666)*(Data!$C$16:$K$16=Model!$K11666)*(Data!$C$17:$K$19))","v":3.78},55.980000000000004,{"$f":"_xlfn.IFS(M11666>70,\"Serviceable\",M11666>30, \"Limited Life\",M11666<=30, \"Unserviceable\")","v":"Limited Life"}]
[null,19304,1967,"Wood Creos Impregnated","Limited Life","Class 3",2020,60,60,5,{"$f":"INDEX(Lists!$B$32:$B$40, MATCH(2020-C11693, Lists!$C$32:$C$40,1))","v":"51-60"},{"$f":"SUMPRODUCT((Data!$B$17:$B$19=Model!$F11693)*(Data!$C$16:$K$16=Model!$K11693)*(Data!$C$17:$K$19))","v":2.73},46.35,{"$f":"_xlfn.IFS(M11693>70,\"Serviceable\",M11693>30, \"Limited Life\",M11693<=30, \"Unserviceable\")","v":"Limited Life"}]
[null,19483,1967,"Wood Creos Impregnated","Serviceable","Class 3",2018,100,94.54,7,{"$f":"INDEX(Lists!$B$32:$B$40, MATCH(2020-C11794, Lists!$C$32:$C$40,1))","v":"51-60"},{"$f":"SUMPRODUCT((Data!$B$17:$B$19=Model!$F11794)*(Data!$C$16:$K$16=Model!$K11794)*(Data!$C$17:$K$19))","v":2.73},80.89,{"$f":"_xlfn.IFS(M11794>70,\"Serviceable\",M11794>30, \"Limited Life\",M11794<=30, \"Unserviceable\")","v":"Serviceable"}]
[null,19569,1932,"Wood Untreated Dressed","Serviceable","Class 1",2020,100,100,5,{"$f":"INDEX(Lists!$B$32:$B$40, MATCH(2020-C11846, Lists!$C$32:$C$40,1))","v":"81-90"},{"$f":"SUMPRODUCT((Data!$B$17:$B$19=Model!$F11846)*(Data!$C$16:$K$16=Model!$K11846)*(Data!$C$17:$K$19))","v":2.81},85.95,{"$f":"_xlfn.IFS(M11846>70,\"Serviceable\",M11846>30, \"Limited Life\",M11846<=30, \"Unserviceable\")","v":"Serviceable"}]
[null,19708,2000,"CCA Treated Pole","Serviceable","Class 1",2017,150,146.82,8,{"$f":"INDEX(Lists!$B$32:$B$40, MATCH(2020-C11931, Lists!$C$32:$C$40,1))","v":"0-20"},{"$f":"SUMPRODUCT((Data!$B$17:$B$19=Model!$F11931)*(Data!$C$16:$K$16=Model!$K11931)*(Data!$C$17:$K$19))","v":1.06},141.52000000000001,{"$f":"_xlfn.IFS(M11931>70,\"Serviceable\",M11931>30, \"Limited Life\",M11931<=30, \"Unserviceable\")","v":"Serviceable"}]
[null,19776,1967,"Wood Creos Impregnated","Serviceable","Class 3",2017,85,76.81,8,{"$f":"INDEX(Lists!$B$32:$B$40, MATCH(2020-C11970, Lists!$C$32:$C$40,1))","v":"51-60"},{"$f":"SUMPRODUCT((Data!$B$17:$B$19=Model!$F11970)*(Data!$C$16:$K$16=Model!$K11970)*(Data!$C$17:$K$19))","v":2.73},63.16,{"$f":"_xlfn.IFS(M11970>70,\"Serviceable\",M11970>30, \"Limited Life\",M11970<=30, \"Unserviceable\")","v":"Limited Life"}]
[null,19858,1985,"Wood Untreated Dressed","Serviceable","Class 1",2018,150,144.96,7,{"$f":"INDEX(Lists!$B$32:$B$40, MATCH(2020-C12016, Lists!$C$32:$C$40,1))","v":"31-40"},{"$f":"SUMPRODUCT((Data!$B$17:$B$19=Model!$F12016)*(Data!$C$16:$K$16=Model!$K12016)*(Data!$C$17:$K$19))","v":2.52},132.36000000000001,{"$f":"_xlfn.IFS(M12016>70,\"Serviceable\",M12016>30, \"Limited Life\",M12016<=30, \"Unserviceable\")","v":"Serviceable"}]
[null,20046,1979,"Wood Untreated Dressed","Serviceable","Class 1",2017,110,104.75,8,{"$f":"INDEX(Lists!$B$32:$B$40, MATCH(2020-C12132, Lists!$C$32:$C$40,1))","v":"41-50"},{"$f":"SUMPRODUCT((Data!$B$17:$B$19=Model!$F12132)*(Data!$C$16:$K$16=Model!$K12132)*(Data!$C$17:$K$19))","v":1.75},96,{"$f":"_xlfn.IFS(M12132>70,\"Serviceable\",M12132>30, \"Limited Life\",M12132<=30, \"Unserviceable\")","v":"Serviceable"}]
[null,20104,1967,"Wood Creos Impregnated","Serviceable","Class 3",2016,120,109.08,9,{"$f":"INDEX(Lists!$B$32:$B$40, MATCH(2020-C12169, Lists!$C$32:$C$40,1))","v":"51-60"},{"$f":"SUMPRODUCT((Data!$B$17:$B$19=Model!$F12169)*(Data!$C$16:$K$16=Model!$K12169)*(Data!$C$17:$K$19))","v":2.73},95.43,{"$f":"_xlfn.IFS(M12169>70,\"Serviceable\",M12169>30, \"Limited Life\",M12169<=30, \"Unserviceable\")","v":"Serviceable"}]
[null,20228,1965,"Wood Creos Impregnated","Serviceable","Class 3",2016,100,89.08,9,{"$f":"INDEX(Lists!$B$32:$B$40, MATCH(2020-C12254, Lists!$C$32:$C$40,1))","v":"51-60"},{"$f":"SUMPRODUCT((Data!$B$17:$B$19=Model!$F12254)*(Data!$C$16:$K$16=Model!$K12254)*(Data!$C$17:$K$19))","v":2.73},75.430000000000007,{"$f":"_xlfn.IFS(M12254>70,\"Serviceable\",M12254>30, \"Limited Life\",M12254<=30, \"Unserviceable\")","v":"Serviceable"}]
[null,20397,1990,"Wood Untreated Dressed","Serviceable","Class 1",2017,150,144.12,8,{"$f":"INDEX(Lists!$B$32:$B$40, MATCH(2020-C12341, Lists!$C$32:$C$40,1))","v":"21-30"},{"$f":"SUMPRODUCT((Data!$B$17:$B$19=Model!$F12341)*(Data!$C$16:$K$16=Model!$K12341)*(Data!$C$17:$K$19))","v":1.96},134.32,{"$f":"_xlfn.IFS(M12341>70,\"Serviceable\",M12341>30, \"Limited Life\",M12341<=30, \"Unserviceable\")","v":"Serviceable"}]
[null,20500,1933,"Wood Untreated Dressed","Serviceable","Class 1",2016,100,88.76,9,{"$f":"INDEX(Lists!$B$32:$B$40, MATCH(2020-C12407, Lists!$C$32:$C$40,1))","v":"81-90"},{"$f":"SUMPRODUCT((Data!$B$17:$B$19=Model!$F12407)*(Data!$C$16:$K$16=Model!$K12407)*(Data!$C$17:$K$19))","v":2.81},74.710000000000008,{"$f":"_xlfn.IFS(M12407>70,\"Serviceable\",M12407>30, \"Limited Life\",M12407<=30, \"Unserviceable\")","v":"Serviceable"}]
[null,20530,1993,"Wood Untreated Dressed","Serviceable","Class 1",2017,140,134.12,{"$f":"2025-G12424","v":8},{"$f":"INDEX(Lists!$B$32:$B$40, MATCH(2020-C12424, Lists!$C$32:$C$40,1))","v":"21-30"},{"$f":"SUMPRODUCT((Data!$B$17:$B$19=Model!$F12424)*(Data!$C$16:$K$16=Model!$K12424)*(Data!$C$17:$K$19))","v":1.96},{"$f":"IF(IF(H12424>=700,999,(H12424-L12424*J12424))<0,0,IF(H12424>=700,999,(H12424-L12424*J12424)))","v":124.32},{"$f":"_xlfn.IFS(M12424>70,\"Serviceable\",M12424>30, \"Limited Life\",M12424<=30, \"Unserviceable\")","v":"Serviceable"}]
[null,20713,1968,"Wood Creos Impregnated","Serviceable","Class 3",2017,100,91.81,8,{"$f":"INDEX(Lists!$B$32:$B$40, MATCH(2020-C12517, Lists!$C$32:$C$40,1))","v":"51-60"},{"$f":"SUMPRODUCT((Data!$B$17:$B$19=Model!$F12517)*(Data!$C$16:$K$16=Model!$K12517)*(Data!$C$17:$K$19))","v":2.73},78.16,{"$f":"_xlfn.IFS(M12517>70,\"Serviceable\",M12517>30, \"Limited Life\",M12517<=30, \"Unserviceable\")","v":"Serviceable"}]
[null,20808,2010,"CCA Treated Pole","Serviceable","Class 1",2016,166.31691553103065,162.07691553103064,9,{"$f":"INDEX(Lists!$B$32:$B$40, MATCH(2020-C12577, Lists!$C$32:$C$40,1))","v":"0-20"},{"$f":"SUMPRODUCT((Data!$B$17:$B$19=Model!$F12577)*(Data!$C$16:$K$16=Model!$K12577)*(Data!$C$17:$K$19))","v":1.06},156.77691553103065,{"$f":"_xlfn.IFS(M12577>70,\"Serviceable\",M12577>30, \"Limited Life\",M12577<=30, \"Unserviceable\")","v":"Serviceable"}]
[null,21010,1958,"Wood Untreated Round","Serviceable","Class 1",2017,110,103.91,8,{"$f":"INDEX(Lists!$B$32:$B$40, MATCH(2020-C12679, Lists!$C$32:$C$40,1))","v":"61-70"},{"$f":"SUMPRODUCT((Data!$B$17:$B$19=Model!$F12679)*(Data!$C$16:$K$16=Model!$K12679)*(Data!$C$17:$K$19))","v":2.0299999999999998},93.76,{"$f":"_xlfn.IFS(M12679>70,\"Serviceable\",M12679>30, \"Limited Life\",M12679<=30, \"Unserviceable\")","v":"Serviceable"}]
[null,21154,1970,"Wood Creos Impregnated","Serviceable","Class 3",2016,120,104.88,9,{"$f":"INDEX(Lists!$B$32:$B$40, MATCH(2020-C12730, Lists!$C$32:$C$40,1))","v":"41-50"},{"$f":"SUMPRODUCT((Data!$B$17:$B$19=Model!$F12730)*(Data!$C$16:$K$16=Model!$K12730)*(Data!$C$17:$K$19))","v":3.78},85.98,{"$f":"_xlfn.IFS(M12730>70,\"Serviceable\",M12730>30, \"Limited Life\",M12730<=30, \"Unserviceable\")","v":"Serviceable"}]
[null,21306,2002,"CCA Treated Pole","Serviceable","Class 2",2017,150,146.34,8,{"$f":"INDEX(Lists!$B$32:$B$40, MATCH(2020-C12815, Lists!$C$32:$C$40,1))","v":"0-20"},{"$f":"SUMPRODUCT((Data!$B$17:$B$19=Model!$F12815)*(Data!$C$16:$K$16=Model!$K12815)*(Data!$C$17:$K$19))","v":1.22},140.24,{"$f":"_xlfn.IFS(M12815>70,\"Serviceable\",M12815>30, \"Limited Life\",M12815<=30, \"Unserviceable\")","v":"Serviceable"}]
[null,21317,1958,"Wood Creos Impregnated","Serviceable","Class 3",2016,80,71.92,9,{"$f":"INDEX(Lists!$B$32:$B$40, MATCH(2020-C12821, Lists!$C$32:$C$40,1))","v":"61-70"},{"$f":"SUMPRODUCT((Data!$B$17:$B$19=Model!$F12821)*(Data!$C$16:$K$16=Model!$K12821)*(Data!$C$17:$K$19))","v":2.02},61.82,{"$f":"_xlfn.IFS(M12821>70,\"Serviceable\",M12821>30, \"Limited Life\",M12821<=30, \"Unserviceable\")","v":"Limited Life"}]
[null,21480,1987,"Wood Untreated Dressed","Serviceable","Class 1",2019,100,97.48,6,{"$f":"INDEX(Lists!$B$32:$B$40, MATCH(2020-C12900, Lists!$C$32:$C$40,1))","v":"31-40"},{"$f":"SUMPRODUCT((Data!$B$17:$B$19=Model!$F12900)*(Data!$C$16:$K$16=Model!$K12900)*(Data!$C$17:$K$19))","v":2.52},84.88,{"$f":"_xlfn.IFS(M12900>70,\"Serviceable\",M12900>30, \"Limited Life\",M12900<=30, \"Unserviceable\")","v":"Serviceable"}]
[null,21618,2008,"CCA Treated Pole","Serviceable","Class 2",2017,100,96.34,8,{"$f":"INDEX(Lists!$B$32:$B$40, MATCH(2020-C12983, Lists!$C$32:$C$40,1))","v":"0-20"},{"$f":"SUMPRODUCT((Data!$B$17:$B$19=Model!$F12983)*(Data!$C$16:$K$16=Model!$K12983)*(Data!$C$17:$K$19))","v":1.22},90.24,{"$f":"_xlfn.IFS(M12983>70,\"Serviceable\",M12983>30, \"Limited Life\",M12983<=30, \"Unserviceable\")","v":"Serviceable"}]
[null,21728,1984,"Wood Untreated Dressed","Serviceable","Class 1",2018,110,104.96,7,{"$f":"INDEX(Lists!$B$32:$B$40, MATCH(2020-C13053, Lists!$C$32:$C$40,1))","v":"31-40"},{"$f":"SUMPRODUCT((Data!$B$17:$B$19=Model!$F13053)*(Data!$C$16:$K$16=Model!$K13053)*(Data!$C$17:$K$19))","v":2.52},92.36,{"$f":"_xlfn.IFS(M13053>70,\"Serviceable\",M13053>30, \"Limited Life\",M13053<=30, \"Unserviceable\")","v":"Serviceable"}]
[null,21880,1986,"Wood Untreated Dressed","Serviceable","Class 1",2018,120,114.96,7,{"$f":"INDEX(Lists!$B$32:$B$40, MATCH(2020-C13138, Lists!$C$32:$C$40,1))","v":"31-40"},{"$f":"SUMPRODUCT((Data!$B$17:$B$19=Model!$F13138)*(Data!$C$16:$K$16=Model!$K13138)*(Data!$C$17:$K$19))","v":2.52},102.36,{"$f":"_xlfn.IFS(M13138>70,\"Serviceable\",M13138>30, \"Limited Life\",M13138<=30, \"Unserviceable\")","v":"Serviceable"}]
[null,21957,1984,"Wood Untreated Dressed","Serviceable","Class 1",2017,130,122.44,{"$f":"2025-G13192","v":8},{"$f":"INDEX(Lists!$B$32:$B$40, MATCH(2020-C13192, Lists!$C$32:$C$40,1))","v":"31-40"},{"$f":"SUMPRODUCT((Data!$B$17:$B$19=Model!$F13192)*(Data!$C$16:$K$16=Model!$K13192)*(Data!$C$17:$K$19))","v":2.52},{"$f":"IF(IF(H13192>=700,999,(H13192-L13192*J13192))<0,0,IF(H13192>=700,999,(H13192-L13192*J13192)))","v":109.84},{"$f":"_xlfn.IFS(M13192>70,\"Serviceable\",M13192>30, \"Limited Life\",M13192<=30, \"Unserviceable\")","v":"Serviceable"}]
[null,22086,1962,"Wood Creos Impregnated","Serviceable","Class 3",2018,80,74.540000000000006,7,{"$f":"INDEX(Lists!$B$32:$B$40, MATCH(2020-C13291, Lists!$C$32:$C$40,1))","v":"51-60"},{"$f":"SUMPRODUCT((Data!$B$17:$B$19=Model!$F13291)*(Data!$C$16:$K$16=Model!$K13291)*(Data!$C$17:$K$19))","v":2.73},60.89,{"$f":"_xlfn.IFS(M13291>70,\"Serviceable\",M13291>30, \"Limited Life\",M13291<=30, \"Unserviceable\")","v":"Limited Life"}]
[null,22176,1959,"Wood Creos Impregnated","Serviceable","Class 3",2017,100,93.94,8,{"$f":"INDEX(Lists!$B$32:$B$40, MATCH(2020-C13354, Lists!$C$32:$C$40,1))","v":"61-70"},{"$f":"SUMPRODUCT((Data!$B$17:$B$19=Model!$F13354)*(Data!$C$16:$K$16=Model!$K13354)*(Data!$C$17:$K$19))","v":2.02},83.84,{"$f":"_xlfn.IFS(M13354>70,\"Serviceable\",M13354>30, \"Limited Life\",M13354<=30, \"Unserviceable\")","v":"Serviceable"}]
[null,22226,1965,"Wood Creos Impregnated","Serviceable","Class 3",2018,90,84.54,7,{"$f":"INDEX(Lists!$B$32:$B$40, MATCH(2020-C13376, Lists!$C$32:$C$40,1))","v":"51-60"},{"$f":"SUMPRODUCT((Data!$B$17:$B$19=Model!$F13376)*(Data!$C$16:$K$16=Model!$K13376)*(Data!$C$17:$K$19))","v":2.73},70.89,{"$f":"_xlfn.IFS(M13376>70,\"Serviceable\",M13376>30, \"Limited Life\",M13376<=30, \"Unserviceable\")","v":"Serviceable"}]
[null,22381,1986,"Wood Untreated Dressed","Serviceable","Class 1",2017,120,112.44,8,{"$f":"INDEX(Lists!$B$32:$B$40, MATCH(2020-C13461, Lists!$C$32:$C$40,1))","v":"31-40"},{"$f":"SUMPRODUCT((Data!$B$17:$B$19=Model!$F13461)*(Data!$C$16:$K$16=Model!$K13461)*(Data!$C$17:$K$19))","v":2.52},99.84,{"$f":"_xlfn.IFS(M13461>70,\"Serviceable\",M13461>30, \"Limited Life\",M13461<=30, \"Unserviceable\")","v":"Serviceable"}]
[null,22485,1965,"Wood Creos Impregnated","Serviceable","Class 3",2018,90,84.54,7,{"$f":"INDEX(Lists!$B$32:$B$40, MATCH(2020-C13530, Lists!$C$32:$C$40,1))","v":"51-60"},{"$f":"SUMPRODUCT((Data!$B$17:$B$19=Model!$F13530)*(Data!$C$16:$K$16=Model!$K13530)*(Data!$C$17:$K$19))","v":2.73},70.89,{"$f":"_xlfn.IFS(M13530>70,\"Serviceable\",M13530>30, \"Limited Life\",M13530<=30, \"Unserviceable\")","v":"Serviceable"}]
[null,22611,1999,"CCA Treated Pole","Serviceable","Class 2",2017,162.49719689682513,156.82719689682514,8,{"$f":"INDEX(Lists!$B$32:$B$40, MATCH(2020-C13614, Lists!$C$32:$C$40,1))","v":"21-30"},{"$f":"SUMPRODUCT((Data!$B$17:$B$19=Model!$F13614)*(Data!$C$16:$K$16=Model!$K13614)*(Data!$C$17:$K$19))","v":1.89},147.37719689682513,{"$f":"_xlfn.IFS(M13614>70,\"Serviceable\",M13614>30, \"Limited Life\",M13614<=30, \"Unserviceable\")","v":"Serviceable"}]
[null,22648,1976,"Wood Creos Impregnated","Serviceable","Class 3",2018,110,102.44,7,{"$f":"INDEX(Lists!$B$32:$B$40, MATCH(2020-C13631, Lists!$C$32:$C$40,1))","v":"41-50"},{"$f":"SUMPRODUCT((Data!$B$17:$B$19=Model!$F13631)*(Data!$C$16:$K$16=Model!$K13631)*(Data!$C$17:$K$19))","v":3.78},83.54,{"$f":"_xlfn.IFS(M13631>70,\"Serviceable\",M13631>30, \"Limited Life\",M13631<=30, \"Unserviceable\")","v":"Serviceable"}]
[null,22871,1981,"Wood Untreated Dressed","Serviceable","Class 1",2018,120,114.96,7,{"$f":"INDEX(Lists!$B$32:$B$40, MATCH(2020-C13739, Lists!$C$32:$C$40,1))","v":"31-40"},{"$f":"SUMPRODUCT((Data!$B$17:$B$19=Model!$F13739)*(Data!$C$16:$K$16=Model!$K13739)*(Data!$C$17:$K$19))","v":2.52},102.36,{"$f":"_xlfn.IFS(M13739>70,\"Serviceable\",M13739>30, \"Limited Life\",M13739<=30, \"Unserviceable\")","v":"Serviceable"}]
[null,22950,1975,"Wood Creos Impregnated","Serviceable","Class 1",2019,100,98.25,6,{"$f":"INDEX(Lists!$B$32:$B$40, MATCH(2020-C13784, Lists!$C$32:$C$40,1))","v":"41-50"},{"$f":"SUMPRODUCT((Data!$B$17:$B$19=Model!$F13784)*(Data!$C$16:$K$16=Model!$K13784)*(Data!$C$17:$K$19))","v":1.75},89.5,{"$f":"_xlfn.IFS(M13784>70,\"Serviceable\",M13784>30, \"Limited Life\",M13784<=30, \"Unserviceable\")","v":"Serviceable"}]
[null,23037,1948,"Wood Untreated Round","Serviceable","Class 1",2015,100,89.25,10,{"$f":"INDEX(Lists!$B$32:$B$40, MATCH(2020-C13834, Lists!$C$32:$C$40,1))","v":"71-80"},{"$f":"SUMPRODUCT((Data!$B$17:$B$19=Model!$F13834)*(Data!$C$16:$K$16=Model!$K13834)*(Data!$C$17:$K$19))","v":2.15},78.5,{"$f":"_xlfn.IFS(M13834>70,\"Serviceable\",M13834>30, \"Limited Life\",M13834<=30, \"Unserviceable\")","v":"Serviceable"}]
[null,23224,1964,"Wood Creos Impregnated","Serviceable","Class 3",2017,110,101.81,8,{"$f":"INDEX(Lists!$B$32:$B$40, MATCH(2020-C13937, Lists!$C$32:$C$40,1))","v":"51-60"},{"$f":"SUMPRODUCT((Data!$B$17:$B$19=Model!$F13937)*(Data!$C$16:$K$16=Model!$K13937)*(Data!$C$17:$K$19))","v":2.73},88.16,{"$f":"_xlfn.IFS(M13937>70,\"Serviceable\",M13937>30, \"Limited Life\",M13937<=30, \"Unserviceable\")","v":"Serviceable"}]
[null,23335,2001,"CCA Treated Pole","Serviceable","Class 2",2018,150,147.56,7,{"$f":"INDEX(Lists!$B$32:$B$40, MATCH(2020-C14022, Lists!$C$32:$C$40,1))","v":"0-20"},{"$f":"SUMPRODUCT((Data!$B$17:$B$19=Model!$F14022)*(Data!$C$16:$K$16=Model!$K14022)*(Data!$C$17:$K$19))","v":1.22},141.46,{"$f":"_xlfn.IFS(M14022>70,\"Serviceable\",M14022>30, \"Limited Life\",M14022<=30, \"Unserviceable\")","v":"Serviceable"}]
[null,23436,1957,"Wood Creos Impregnated","Serviceable","Class 3",2019,100,97.98,6,{"$f":"INDEX(Lists!$B$32:$B$40, MATCH(2020-C14077, Lists!$C$32:$C$40,1))","v":"61-70"},{"$f":"SUMPRODUCT((Data!$B$17:$B$19=Model!$F14077)*(Data!$C$16:$K$16=Model!$K14077)*(Data!$C$17:$K$19))","v":2.02},87.88,{"$f":"_xlfn.IFS(M14077>70,\"Serviceable\",M14077>30, \"Limited Life\",M14077<=30, \"Unserviceable\")","v":"Serviceable"}]
[null,23491,1979,"Wood Untreated Dressed","Serviceable","Class 1",2015,120,111.25,10,{"$f":"INDEX(Lists!$B$32:$B$40, MATCH(2020-C14107, Lists!$C$32:$C$40,1))","v":"41-50"},{"$f":"SUMPRODUCT((Data!$B$17:$B$19=Model!$F14107)*(Data!$C$16:$K$16=Model!$K14107)*(Data!$C$17:$K$19))","v":1.75},102.5,{"$f":"_xlfn.IFS(M14107>70,\"Serviceable\",M14107>30, \"Limited Life\",M14107<=30, \"Unserviceable\")","v":"Serviceable"}]
[null,23629,1962,"Wood Creos Impregnated","Serviceable","Class 3",2018,80,74.540000000000006,7,{"$f":"INDEX(Lists!$B$32:$B$40, MATCH(2020-C14205, Lists!$C$32:$C$40,1))","v":"51-60"},{"$f":"SUMPRODUCT((Data!$B$17:$B$19=Model!$F14205)*(Data!$C$16:$K$16=Model!$K14205)*(Data!$C$17:$K$19))","v":2.73},60.89,{"$f":"_xlfn.IFS(M14205>70,\"Serviceable\",M14205>30, \"Limited Life\",M14205<=30, \"Unserviceable\")","v":"Limited Life"}]
[null,23724,1986,"Wood Untreated Round","Serviceable","Class 1",2017,130,122.44,8,{"$f":"INDEX(Lists!$B$32:$B$40, MATCH(2020-C14260, Lists!$C$32:$C$40,1))","v":"31-40"},{"$f":"SUMPRODUCT((Data!$B$17:$B$19=Model!$F14260)*(Data!$C$16:$K$16=Model!$K14260)*(Data!$C$17:$K$19))","v":2.52},109.84,{"$f":"_xlfn.IFS(M14260>70,\"Serviceable\",M14260>30, \"Limited Life\",M14260<=30, \"Unserviceable\")","v":"Serviceable"}]
[null,23861,2000,"CCA Treated Pole","Serviceable","Class 1",2017,150,146.82,8,{"$f":"INDEX(Lists!$B$32:$B$40, MATCH(2020-C14345, Lists!$C$32:$C$40,1))","v":"0-20"},{"$f":"SUMPRODUCT((Data!$B$17:$B$19=Model!$F14345)*(Data!$C$16:$K$16=Model!$K14345)*(Data!$C$17:$K$19))","v":1.06},141.52000000000001,{"$f":"_xlfn.IFS(M14345>70,\"Serviceable\",M14345>30, \"Limited Life\",M14345<=30, \"Unserviceable\")","v":"Serviceable"}]
[null,23925,2009,"CCA Treated Pole","Serviceable","Class 2",2018,100,97.56,7,{"$f":"INDEX(Lists!$B$32:$B$40, MATCH(2020-C14381, Lists!$C$32:$C$40,1))","v":"0-20"},{"$f":"SUMPRODUCT((Data!$B$17:$B$19=Model!$F14381)*(Data!$C$16:$K$16=Model!$K14381)*(Data!$C$17:$K$19))","v":1.22},91.460000000000008,{"$f":"_xlfn.IFS(M14381>70,\"Serviceable\",M14381>30, \"Limited Life\",M14381<=30, \"Unserviceable\")","v":"Serviceable"}]
[null,24131,1961,"Wood Creos Impregnated","Serviceable","Class 3",2018,80,74.540000000000006,7,{"$f":"INDEX(Lists!$B$32:$B$40, MATCH(2020-C14498, Lists!$C$32:$C$40,1))","v":"51-60"},{"$f":"SUMPRODUCT((Data!$B$17:$B$19=Model!$F14498)*(Data!$C$16:$K$16=Model!$K14498)*(Data!$C$17:$K$19))","v":2.73},60.89,{"$f":"_xlfn.IFS(M14498>70,\"Serviceable\",M14498>30, \"Limited Life\",M14498<=30, \"Unserviceable\")","v":"Limited Life"}]
[null,24163,1976,"Wood Creos Impregnated","Serviceable","Class 1",2018,90,86.5,7,{"$f":"INDEX(Lists!$B$32:$B$40, MATCH(2020-C14515, Lists!$C$32:$C$40,1))","v":"41-50"},{"$f":"SUMPRODUCT((Data!$B$17:$B$19=Model!$F14515)*(Data!$C$16:$K$16=Model!$K14515)*(Data!$C$17:$K$19))","v":1.75},77.75,{"$f":"_xlfn.IFS(M14515>70,\"Serviceable\",M14515>30, \"Limited Life\",M14515<=30, \"Unserviceable\")","v":"Serviceable"}]
[null,24282,1976,"Wood Creos Impregnated","Serviceable","Class 1",2015,100,91.25,10,{"$f":"INDEX(Lists!$B$32:$B$40, MATCH(2020-C14590, Lists!$C$32:$C$40,1))","v":"41-50"},{"$f":"SUMPRODUCT((Data!$B$17:$B$19=Model!$F14590)*(Data!$C$16:$K$16=Model!$K14590)*(Data!$C$17:$K$19))","v":1.75},82.5,{"$f":"_xlfn.IFS(M14590>70,\"Serviceable\",M14590>30, \"Limited Life\",M14590<=30, \"Unserviceable\")","v":"Serviceable"}]
[null,24429,1962,"Wood Creos Impregnated","Serviceable","Class 3",2018,80,74.540000000000006,7,{"$f":"INDEX(Lists!$B$32:$B$40, MATCH(2020-C14668, Lists!$C$32:$C$40,1))","v":"51-60"},{"$f":"SUMPRODUCT((Data!$B$17:$B$19=Model!$F14668)*(Data!$C$16:$K$16=Model!$K14668)*(Data!$C$17:$K$19))","v":2.73},60.89,{"$f":"_xlfn.IFS(M14668>70,\"Serviceable\",M14668>30, \"Limited Life\",M14668<=30, \"Unserviceable\")","v":"Limited Life"}]
[null,24632,1971,"Wood Creos Impregnated","Serviceable","Class 3",2019,90,86.22,6,{"$f":"INDEX(Lists!$B$32:$B$40, MATCH(2020-C14752, Lists!$C$32:$C$40,1))","v":"41-50"},{"$f":"SUMPRODUCT((Data!$B$17:$B$19=Model!$F14752)*(Data!$C$16:$K$16=Model!$K14752)*(Data!$C$17:$K$19))","v":3.78},67.319999999999993,{"$f":"_xlfn.IFS(M14752>70,\"Serviceable\",M14752>30, \"Limited Life\",M14752<=30, \"Unserviceable\")","v":"Limited Life"}]
[null,24754,1973,"Wood Creos Impregnated","Serviceable","Class 3",2018,90,82.44,7,{"$f":"INDEX(Lists!$B$32:$B$40, MATCH(2020-C14821, Lists!$C$32:$C$40,1))","v":"41-50"},{"$f":"SUMPRODUCT((Data!$B$17:$B$19=Model!$F14821)*(Data!$C$16:$K$16=Model!$K14821)*(Data!$C$17:$K$19))","v":3.78},63.540000000000006,{"$f":"_xlfn.IFS(M14821>70,\"Serviceable\",M14821>30, \"Limited Life\",M14821<=30, \"Unserviceable\")","v":"Limited Life"}]
[null,24930,1974,"Wood Creos Impregnated","Serviceable","Class 3",2018,90,82.44,7,{"$f":"INDEX(Lists!$B$32:$B$40, MATCH(2020-C14906, Lists!$C$32:$C$40,1))","v":"41-50"},{"$f":"SUMPRODUCT((Data!$B$17:$B$19=Model!$F14906)*(Data!$C$16:$K$16=Model!$K14906)*(Data!$C$17:$K$19))","v":3.78},63.540000000000006,{"$f":"_xlfn.IFS(M14906>70,\"Serviceable\",M14906>30, \"Limited Life\",M14906<=30, \"Unserviceable\")","v":"Limited Life"}]
[null,24969,1969,"Wood Creos Impregnated","Serviceable","Class 3",2019,100,97.27,6,{"$f":"INDEX(Lists!$B$32:$B$40, MATCH(2020-C14928, Lists!$C$32:$C$40,1))","v":"51-60"},{"$f":"SUMPRODUCT((Data!$B$17:$B$19=Model!$F14928)*(Data!$C$16:$K$16=Model!$K14928)*(Data!$C$17:$K$19))","v":2.73},83.62,{"$f":"_xlfn.IFS(M14928>70,\"Serviceable\",M14928>30, \"Limited Life\",M14928<=30, \"Unserviceable\")","v":"Serviceable"}]
[null,25107,1965,"Wood Creos Impregnated","Serviceable","Class 3",2017,90,81.81,8,{"$f":"INDEX(Lists!$B$32:$B$40, MATCH(2020-C14991, Lists!$C$32:$C$40,1))","v":"51-60"},{"$f":"SUMPRODUCT((Data!$B$17:$B$19=Model!$F14991)*(Data!$C$16:$K$16=Model!$K14991)*(Data!$C$17:$K$19))","v":2.73},68.16,{"$f":"_xlfn.IFS(M14991>70,\"Serviceable\",M14991>30, \"Limited Life\",M14991<=30, \"Unserviceable\")","v":"Limited Life"}]
[null,25213,1969,"Wood Creos Impregnated","Serviceable","Class 3",2020,80,80,5,{"$f":"INDEX(Lists!$B$32:$B$40, MATCH(2020-C15056, Lists!$C$32:$C$40,1))","v":"51-60"},{"$f":"SUMPRODUCT((Data!$B$17:$B$19=Model!$F15056)*(Data!$C$16:$K$16=Model!$K15056)*(Data!$C$17:$K$19))","v":2.73},66.349999999999994,{"$f":"_xlfn.IFS(M15056>70,\"Serviceable\",M15056>30, \"Limited Life\",M15056<=30, \"Unserviceable\")","v":"Limited Life"}]
[null,25387,1984,"Wood Untreated Dressed","Serviceable","Class 1",2020,100,100,5,{"$f":"INDEX(Lists!$B$32:$B$40, MATCH(2020-C15144, Lists!$C$32:$C$40,1))","v":"31-40"},{"$f":"SUMPRODUCT((Data!$B$17:$B$19=Model!$F15144)*(Data!$C$16:$K$16=Model!$K15144)*(Data!$C$17:$K$19))","v":2.52},87.4,{"$f":"_xlfn.IFS(M15144>70,\"Serviceable\",M15144>30, \"Limited Life\",M15144<=30, \"Unserviceable\")","v":"Serviceable"}]
[null,25530,1981,"Wood Untreated Dressed","Serviceable","Class 1",2018,100,94.96,7,{"$f":"INDEX(Lists!$B$32:$B$40, MATCH(2020-C15229, Lists!$C$32:$C$40,1))","v":"31-40"},{"$f":"SUMPRODUCT((Data!$B$17:$B$19=Model!$F15229)*(Data!$C$16:$K$16=Model!$K15229)*(Data!$C$17:$K$19))","v":2.52},82.36,{"$f":"_xlfn.IFS(M15229>70,\"Serviceable\",M15229>30, \"Limited Life\",M15229<=30, \"Unserviceable\")","v":"Serviceable"}]
[null,25627,1967,"Wood Creos Impregnated","Serviceable","Class 3",2018,100,94.54,7,{"$f":"INDEX(Lists!$B$32:$B$40, MATCH(2020-C15299, Lists!$C$32:$C$40,1))","v":"51-60"},{"$f":"SUMPRODUCT((Data!$B$17:$B$19=Model!$F15299)*(Data!$C$16:$K$16=Model!$K15299)*(Data!$C$17:$K$19))","v":2.73},80.89,{"$f":"_xlfn.IFS(M15299>70,\"Serviceable\",M15299>30, \"Limited Life\",M15299<=30, \"Unserviceable\")","v":"Serviceable"}]
[null,25733,1988,"Wood Untreated Dressed","Serviceable","Class 1",2018,150,144.96,7,{"$f":"INDEX(Lists!$B$32:$B$40, MATCH(2020-C15382, Lists!$C$32:$C$40,1))","v":"31-40"},{"$f":"SUMPRODUCT((Data!$B$17:$B$19=Model!$F15382)*(Data!$C$16:$K$16=Model!$K15382)*(Data!$C$17:$K$19))","v":2.52},132.36000000000001,{"$f":"_xlfn.IFS(M15382>70,\"Serviceable\",M15382>30, \"Limited Life\",M15382<=30, \"Unserviceable\")","v":"Serviceable"}]
[null,25798,1969,"Wood Creos Impregnated","Serviceable","Class 3",2018,80,74.540000000000006,7,{"$f":"INDEX(Lists!$B$32:$B$40, MATCH(2020-C15427, Lists!$C$32:$C$40,1))","v":"51-60"},{"$f":"SUMPRODUCT((Data!$B$17:$B$19=Model!$F15427)*(Data!$C$16:$K$16=Model!$K15427)*(Data!$C$17:$K$19))","v":2.73},60.89,{"$f":"_xlfn.IFS(M15427>70,\"Serviceable\",M15427>30, \"Limited Life\",M15427<=30, \"Unserviceable\")","v":"Limited Life"}]
[null,25860,1985,"Wood Untreated Dressed","Serviceable","Class 1",2019,100,97.48,6,{"$f":"INDEX(Lists!$B$32:$B$40, MATCH(2020-C15467, Lists!$C$32:$C$40,1))","v":"31-40"},{"$f":"SUMPRODUCT((Data!$B$17:$B$19=Model!$F15467)*(Data!$C$16:$K$16=Model!$K15467)*(Data!$C$17:$K$19))","v":2.52},84.88,{"$f":"_xlfn.IFS(M15467>70,\"Serviceable\",M15467>30, \"Limited Life\",M15467<=30, \"Unserviceable\")","v":"Serviceable"}]
[null,25988,1970,"Wood Creos Impregnated","Serviceable","Class 3",2018,100,92.44,7,{"$f":"INDEX(Lists!$B$32:$B$40, MATCH(2020-C15552, Lists!$C$32:$C$40,1))","v":"41-50"},{"$f":"SUMPRODUCT((Data!$B$17:$B$19=Model!$F15552)*(Data!$C$16:$K$16=Model!$K15552)*(Data!$C$17:$K$19))","v":3.78},73.540000000000006,{"$f":"_xlfn.IFS(M15552>70,\"Serviceable\",M15552>30, \"Limited Life\",M15552<=30, \"Unserviceable\")","v":"Serviceable"}]
[null,26067,1964,"Wood Creos Impregnated","Serviceable","Class 3",2020,100,100,5,{"$f":"INDEX(Lists!$B$32:$B$40, MATCH(2020-C15603, Lists!$C$32:$C$40,1))","v":"51-60"},{"$f":"SUMPRODUCT((Data!$B$17:$B$19=Model!$F15603)*(Data!$C$16:$K$16=Model!$K15603)*(Data!$C$17:$K$19))","v":2.73},86.35,{"$f":"_xlfn.IFS(M15603>70,\"Serviceable\",M15603>30, \"Limited Life\",M15603<=30, \"Unserviceable\")","v":"Serviceable"}]
[null,26213,1961,"Wood Creos Impregnated","Serviceable","Class 3",2018,80,74.540000000000006,7,{"$f":"INDEX(Lists!$B$32:$B$40, MATCH(2020-C15705, Lists!$C$32:$C$40,1))","v":"51-60"},{"$f":"SUMPRODUCT((Data!$B$17:$B$19=Model!$F15705)*(Data!$C$16:$K$16=Model!$K15705)*(Data!$C$17:$K$19))","v":2.73},60.89,{"$f":"_xlfn.IFS(M15705>70,\"Serviceable\",M15705>30, \"Limited Life\",M15705<=30, \"Unserviceable\")","v":"Limited Life"}]
[null,26365,1971,"Wood Creos Impregnated","Serviceable","Class 3",2018,120,112.44,7,{"$f":"INDEX(Lists!$B$32:$B$40, MATCH(2020-C15790, Lists!$C$32:$C$40,1))","v":"41-50"},{"$f":"SUMPRODUCT((Data!$B$17:$B$19=Model!$F15790)*(Data!$C$16:$K$16=Model!$K15790)*(Data!$C$17:$K$19))","v":3.78},93.54,{"$f":"_xlfn.IFS(M15790>70,\"Serviceable\",M15790>30, \"Limited Life\",M15790<=30, \"Unserviceable\")","v":"Serviceable"}]
[null,26471,1960,"Wood Creos Impregnated","Limited Life","Class 3",2018,70,64.540000000000006,7,{"$f":"INDEX(Lists!$B$32:$B$40, MATCH(2020-C15846, Lists!$C$32:$C$40,1))","v":"51-60"},{"$f":"SUMPRODUCT((Data!$B$17:$B$19=Model!$F15846)*(Data!$C$16:$K$16=Model!$K15846)*(Data!$C$17:$K$19))","v":2.73},50.89,{"$f":"_xlfn.IFS(M15846>70,\"Serviceable\",M15846>30, \"Limited Life\",M15846<=30, \"Unserviceable\")","v":"Limited Life"}]
[null,26532,2006,"CCA Treated Pole","Serviceable","Class 2",2017,150,146.34,8,{"$f":"INDEX(Lists!$B$32:$B$40, MATCH(2020-C15875, Lists!$C$32:$C$40,1))","v":"0-20"},{"$f":"SUMPRODUCT((Data!$B$17:$B$19=Model!$F15875)*(Data!$C$16:$K$16=Model!$K15875)*(Data!$C$17:$K$19))","v":1.22},140.24,{"$f":"_xlfn.IFS(M15875>70,\"Serviceable\",M15875>30, \"Limited Life\",M15875<=30, \"Unserviceable\")","v":"Serviceable"}]
[null,26696,1980,"Wood Untreated Round","Serviceable","Class 1",2018,120,114.96,7,{"$f":"INDEX(Lists!$B$32:$B$40, MATCH(2020-C15974, Lists!$C$32:$C$40,1))","v":"31-40"},{"$f":"SUMPRODUCT((Data!$B$17:$B$19=Model!$F15974)*(Data!$C$16:$K$16=Model!$K15974)*(Data!$C$17:$K$19))","v":2.52},102.36,{"$f":"_xlfn.IFS(M15974>70,\"Serviceable\",M15974>30, \"Limited Life\",M15974<=30, \"Unserviceable\")","v":"Serviceable"}]
[null,26812,2008,"CCA Treated Pole","Serviceable","Class 2",2018,90,87.56,7,{"$f":"INDEX(Lists!$B$32:$B$40, MATCH(2020-C16028, Lists!$C$32:$C$40,1))","v":"0-20"},{"$f":"SUMPRODUCT((Data!$B$17:$B$19=Model!$F16028)*(Data!$C$16:$K$16=Model!$K16028)*(Data!$C$17:$K$19))","v":1.22},81.460000000000008,{"$f":"_xlfn.IFS(M16028>70,\"Serviceable\",M16028>30, \"Limited Life\",M16028<=30, \"Unserviceable\")","v":"Serviceable"}]
[null,26962,1982,"Wood Creos Impregnated","Serviceable","Class 3",2020,90,90,5,{"$f":"INDEX(Lists!$B$32:$B$40, MATCH(2020-C16113, Lists!$C$32:$C$40,1))","v":"31-40"},{"$f":"SUMPRODUCT((Data!$B$17:$B$19=Model!$F16113)*(Data!$C$16:$K$16=Model!$K16113)*(Data!$C$17:$K$19))","v":3.22},73.900000000000006,{"$f":"_xlfn.IFS(M16113>70,\"Serviceable\",M16113>30, \"Limited Life\",M16113<=30, \"Unserviceable\")","v":"Serviceable"}]
[null,27039,1967,"Wood Creos Impregnated","Limited Life","Class 3",2017,70,61.81,8,{"$f":"INDEX(Lists!$B$32:$B$40, MATCH(2020-C16150, Lists!$C$32:$C$40,1))","v":"51-60"},{"$f":"SUMPRODUCT((Data!$B$17:$B$19=Model!$F16150)*(Data!$C$16:$K$16=Model!$K16150)*(Data!$C$17:$K$19))","v":2.73},48.16,{"$f":"_xlfn.IFS(M16150>70,\"Serviceable\",M16150>30, \"Limited Life\",M16150<=30, \"Unserviceable\")","v":"Limited Life"}]
[null,27234,1939,"Wood Untreated Dressed","Serviceable","Class 1",2017,100,91.57,8,{"$f":"INDEX(Lists!$B$32:$B$40, MATCH(2020-C16266, Lists!$C$32:$C$40,1))","v":"81-90"},{"$f":"SUMPRODUCT((Data!$B$17:$B$19=Model!$F16266)*(Data!$C$16:$K$16=Model!$K16266)*(Data!$C$17:$K$19))","v":2.81},77.52,{"$f":"_xlfn.IFS(M16266>70,\"Serviceable\",M16266>30, \"Limited Life\",M16266<=30, \"Unserviceable\")","v":"Serviceable"}]
[null,27251,2006,"CCA Treated Pole","Serviceable","Class 1",2017,166.31691553103065,163.13691553103064,8,{"$f":"INDEX(Lists!$B$32:$B$40, MATCH(2020-C16278, Lists!$C$32:$C$40,1))","v":"0-20"},{"$f":"SUMPRODUCT((Data!$B$17:$B$19=Model!$F16278)*(Data!$C$16:$K$16=Model!$K16278)*(Data!$C$17:$K$19))","v":1.06},157.83691553103066,{"$f":"_xlfn.IFS(M16278>70,\"Serviceable\",M16278>30, \"Limited Life\",M16278<=30, \"Unserviceable\")","v":"Serviceable"}]
[null,27409,1981,"Wood Creos Impregnated","Serviceable","Class 2",2018,130,125.34,7,{"$f":"INDEX(Lists!$B$32:$B$40, MATCH(2020-C16367, Lists!$C$32:$C$40,1))","v":"31-40"},{"$f":"SUMPRODUCT((Data!$B$17:$B$19=Model!$F16367)*(Data!$C$16:$K$16=Model!$K16367)*(Data!$C$17:$K$19))","v":2.33},113.69,{"$f":"_xlfn.IFS(M16367>70,\"Serviceable\",M16367>30, \"Limited Life\",M16367<=30, \"Unserviceable\")","v":"Serviceable"}]
[null,27528,2005,"CCA Treated Pole","Serviceable","Class 2",2018,150,147.56,7,{"$f":"INDEX(Lists!$B$32:$B$40, MATCH(2020-C16436, Lists!$C$32:$C$40,1))","v":"0-20"},{"$f":"SUMPRODUCT((Data!$B$17:$B$19=Model!$F16436)*(Data!$C$16:$K$16=Model!$K16436)*(Data!$C$17:$K$19))","v":1.22},141.46,{"$f":"_xlfn.IFS(M16436>70,\"Serviceable\",M16436>30, \"Limited Life\",M16436<=30, \"Unserviceable\")","v":"Serviceable"}]
[null,27657,1999,"CCA Treated Pole","Serviceable","Class 2",2018,150,146.22,7,{"$f":"INDEX(Lists!$B$32:$B$40, MATCH(2020-C16521, Lists!$C$32:$C$40,1))","v":"21-30"},{"$f":"SUMPRODUCT((Data!$B$17:$B$19=Model!$F16521)*(Data!$C$16:$K$16=Model!$K16521)*(Data!$C$17:$K$19))","v":1.89},136.77000000000001,{"$f":"_xlfn.IFS(M16521>70,\"Serviceable\",M16521>30, \"Limited Life\",M16521<=30, \"Unserviceable\")","v":"Serviceable"}]
[null,27766,1967,"Wood Creos Impregnated","Serviceable","Class 3",2018,80,74.540000000000006,7,{"$f":"INDEX(Lists!$B$32:$B$40, MATCH(2020-C16589, Lists!$C$32:$C$40,1))","v":"51-60"},{"$f":"SUMPRODUCT((Data!$B$17:$B$19=Model!$F16589)*(Data!$C$16:$K$16=Model!$K16589)*(Data!$C$17:$K$19))","v":2.73},60.89,{"$f":"_xlfn.IFS(M16589>70,\"Serviceable\",M16589>30, \"Limited Life\",M16589<=30, \"Unserviceable\")","v":"Limited Life"}]
[null,27786,1997,"CCA Treated Pole","Serviceable","Class 1",2018,130,126.08,7,{"$f":"INDEX(Lists!$B$32:$B$40, MATCH(2020-C16606, Lists!$C$32:$C$40,1))","v":"21-30"},{"$f":"SUMPRODUCT((Data!$B$17:$B$19=Model!$F16606)*(Data!$C$16:$K$16=Model!$K16606)*(Data!$C$17:$K$19))","v":1.96},116.28,{"$f":"_xlfn.IFS(M16606>70,\"Serviceable\",M16606>30, \"Limited Life\",M16606<=30, \"Unserviceable\")","v":"Serviceable"}]
[null,27926,1965,"Wood Creos Impregnated","Serviceable","Class 3",2019,100,97.27,6,{"$f":"INDEX(Lists!$B$32:$B$40, MATCH(2020-C16697, Lists!$C$32:$C$40,1))","v":"51-60"},{"$f":"SUMPRODUCT((Data!$B$17:$B$19=Model!$F16697)*(Data!$C$16:$K$16=Model!$K16697)*(Data!$C$17:$K$19))","v":2.73},83.62,{"$f":"_xlfn.IFS(M16697>70,\"Serviceable\",M16697>30, \"Limited Life\",M16697<=30, \"Unserviceable\")","v":"Serviceable"}]
[null,28030,1993,"Wood Untreated Dressed","Serviceable","Class 1",2018,130,126.08,7,{"$f":"INDEX(Lists!$B$32:$B$40, MATCH(2020-C16759, Lists!$C$32:$C$40,1))","v":"21-30"},{"$f":"SUMPRODUCT((Data!$B$17:$B$19=Model!$F16759)*(Data!$C$16:$K$16=Model!$K16759)*(Data!$C$17:$K$19))","v":1.96},116.28,{"$f":"_xlfn.IFS(M16759>70,\"Serviceable\",M16759>30, \"Limited Life\",M16759<=30, \"Unserviceable\")","v":"Serviceable"}]
[null,28131,1975,"Wood Creos Impregnated","Serviceable","Class 1",2018,100,96.5,7,{"$f":"INDEX(Lists!$B$32:$B$40, MATCH(2020-C16825, Lists!$C$32:$C$40,1))","v":"41-50"},{"$f":"SUMPRODUCT((Data!$B$17:$B$19=Model!$F16825)*(Data!$C$16:$K$16=Model!$K16825)*(Data!$C$17:$K$19))","v":1.75},87.75,{"$f":"_xlfn.IFS(M16825>70,\"Serviceable\",M16825>30, \"Limited Life\",M16825<=30, \"Unserviceable\")","v":"Serviceable"}]
[null,28253,1934,"Wood Untreated Dressed","Serviceable","Class 1",2018,100,94.38,7,{"$f":"INDEX(Lists!$B$32:$B$40, MATCH(2020-C16912, Lists!$C$32:$C$40,1))","v":"81-90"},{"$f":"SUMPRODUCT((Data!$B$17:$B$19=Model!$F16912)*(Data!$C$16:$K$16=Model!$K16912)*(Data!$C$17:$K$19))","v":2.81},80.33,{"$f":"_xlfn.IFS(M16912>70,\"Serviceable\",M16912>30, \"Limited Life\",M16912<=30, \"Unserviceable\")","v":"Serviceable"}]
[null,28381,1971,"Wood Creos Impregnated","Serviceable","Class 3",2019,100,96.22,6,{"$f":"INDEX(Lists!$B$32:$B$40, MATCH(2020-C16997, Lists!$C$32:$C$40,1))","v":"41-50"},{"$f":"SUMPRODUCT((Data!$B$17:$B$19=Model!$F16997)*(Data!$C$16:$K$16=Model!$K16997)*(Data!$C$17:$K$19))","v":3.78},77.319999999999993,{"$f":"_xlfn.IFS(M16997>70,\"Serviceable\",M16997>30, \"Limited Life\",M16997<=30, \"Unserviceable\")","v":"Serviceable"}]
[null,28502,1968,"Wood Creos Impregnated","Serviceable","Class 3",2018,100,94.54,7,{"$f":"INDEX(Lists!$B$32:$B$40, MATCH(2020-C17068, Lists!$C$32:$C$40,1))","v":"51-60"},{"$f":"SUMPRODUCT((Data!$B$17:$B$19=Model!$F17068)*(Data!$C$16:$K$16=Model!$K17068)*(Data!$C$17:$K$19))","v":2.73},80.89,{"$f":"_xlfn.IFS(M17068>70,\"Serviceable\",M17068>30, \"Limited Life\",M17068<=30, \"Unserviceable\")","v":"Serviceable"}]
[null,28537,1985,"Wood Untreated Dressed","Serviceable","Class 1",2018,100,94.96,7,{"$f":"INDEX(Lists!$B$32:$B$40, MATCH(2020-C17082, Lists!$C$32:$C$40,1))","v":"31-40"},{"$f":"SUMPRODUCT((Data!$B$17:$B$19=Model!$F17082)*(Data!$C$16:$K$16=Model!$K17082)*(Data!$C$17:$K$19))","v":2.52},82.36,{"$f":"_xlfn.IFS(M17082>70,\"Serviceable\",M17082>30, \"Limited Life\",M17082<=30, \"Unserviceable\")","v":"Serviceable"}]
[null,28715,1964,"Wood Creos Impregnated","Serviceable","Class 3",2019,90,87.27,6,{"$f":"INDEX(Lists!$B$32:$B$40, MATCH(2020-C17196, Lists!$C$32:$C$40,1))","v":"51-60"},{"$f":"SUMPRODUCT((Data!$B$17:$B$19=Model!$F17196)*(Data!$C$16:$K$16=Model!$K17196)*(Data!$C$17:$K$19))","v":2.73},73.62,{"$f":"_xlfn.IFS(M17196>70,\"Serviceable\",M17196>30, \"Limited Life\",M17196<=30, \"Unserviceable\")","v":"Serviceable"}]
[null,28802,1966,"Wood Creos Impregnated","Serviceable","Class 3",2018,100,94.54,7,{"$f":"INDEX(Lists!$B$32:$B$40, MATCH(2020-C17251, Lists!$C$32:$C$40,1))","v":"51-60"},{"$f":"SUMPRODUCT((Data!$B$17:$B$19=Model!$F17251)*(Data!$C$16:$K$16=Model!$K17251)*(Data!$C$17:$K$19))","v":2.73},80.89,{"$f":"_xlfn.IFS(M17251>70,\"Serviceable\",M17251>30, \"Limited Life\",M17251<=30, \"Unserviceable\")","v":"Serviceable"}]
[null,28897,1986,"Wood Untreated Dressed","Serviceable","Class 1",2017,150,142.44,8,{"$f":"INDEX(Lists!$B$32:$B$40, MATCH(2020-C17320, Lists!$C$32:$C$40,1))","v":"31-40"},{"$f":"SUMPRODUCT((Data!$B$17:$B$19=Model!$F17320)*(Data!$C$16:$K$16=Model!$K17320)*(Data!$C$17:$K$19))","v":2.52},129.84,{"$f":"_xlfn.IFS(M17320>70,\"Serviceable\",M17320>30, \"Limited Life\",M17320<=30, \"Unserviceable\")","v":"Serviceable"}]
[null,28997,1988,"Wood Untreated Dressed","Serviceable","Class 1",2018,120,114.96,7,{"$f":"INDEX(Lists!$B$32:$B$40, MATCH(2020-C17372, Lists!$C$32:$C$40,1))","v":"31-40"},{"$f":"SUMPRODUCT((Data!$B$17:$B$19=Model!$F17372)*(Data!$C$16:$K$16=Model!$K17372)*(Data!$C$17:$K$19))","v":2.52},102.36,{"$f":"_xlfn.IFS(M17372>70,\"Serviceable\",M17372>30, \"Limited Life\",M17372<=30, \"Unserviceable\")","v":"Serviceable"}]
[null,29152,1982,"Wood Untreated Dressed","Serviceable","Class 2",2018,110,105.34,7,{"$f":"INDEX(Lists!$B$32:$B$40, MATCH(2020-C17473, Lists!$C$32:$C$40,1))","v":"31-40"},{"$f":"SUMPRODUCT((Data!$B$17:$B$19=Model!$F17473)*(Data!$C$16:$K$16=Model!$K17473)*(Data!$C$17:$K$19))","v":2.33},93.69,{"$f":"_xlfn.IFS(M17473>70,\"Serviceable\",M17473>30, \"Limited Life\",M17473<=30, \"Unserviceable\")","v":"Serviceable"}]
[null,29201,1961,"Wood Creos Impregnated","Serviceable","Class 3",2017,90,81.81,8,{"$f":"INDEX(Lists!$B$32:$B$40, MATCH(2020-C17500, Lists!$C$32:$C$40,1))","v":"51-60"},{"$f":"SUMPRODUCT((Data!$B$17:$B$19=Model!$F17500)*(Data!$C$16:$K$16=Model!$K17500)*(Data!$C$17:$K$19))","v":2.73},68.16,{"$f":"_xlfn.IFS(M17500>70,\"Serviceable\",M17500>30, \"Limited Life\",M17500<=30, \"Unserviceable\")","v":"Limited Life"}]
[null,29331,1973,"Wood Creos Impregnated","Serviceable","Class 1",2016,140,133,9,{"$f":"INDEX(Lists!$B$32:$B$40, MATCH(2020-C17574, Lists!$C$32:$C$40,1))","v":"41-50"},{"$f":"SUMPRODUCT((Data!$B$17:$B$19=Model!$F17574)*(Data!$C$16:$K$16=Model!$K17574)*(Data!$C$17:$K$19))","v":1.75},124.25,{"$f":"_xlfn.IFS(M17574>70,\"Serviceable\",M17574>30, \"Limited Life\",M17574<=30, \"Unserviceable\")","v":"Serviceable"}]
[null,29438,1998,"CCA Treated Pole","Serviceable","Class 1",2019,150,148.04,6,{"$f":"INDEX(Lists!$B$32:$B$40, MATCH(2020-C17643, Lists!$C$32:$C$40,1))","v":"21-30"},{"$f":"SUMPRODUCT((Data!$B$17:$B$19=Model!$F17643)*(Data!$C$16:$K$16=Model!$K17643)*(Data!$C$17:$K$19))","v":1.96},138.24,{"$f":"_xlfn.IFS(M17643>70,\"Serviceable\",M17643>30, \"Limited Life\",M17643<=30, \"Unserviceable\")","v":"Serviceable"}]
[null,29574,1973,"Wood Untreated Round","Serviceable","Class 1",2017,110,104.75,8,{"$f":"INDEX(Lists!$B$32:$B$40, MATCH(2020-C17743, Lists!$C$32:$C$40,1))","v":"41-50"},{"$f":"SUMPRODUCT((Data!$B$17:$B$19=Model!$F17743)*(Data!$C$16:$K$16=Model!$K17743)*(Data!$C$17:$K$19))","v":1.75},96,{"$f":"_xlfn.IFS(M17743>70,\"Serviceable\",M17743>30, \"Limited Life\",M17743<=30, \"Unserviceable\")","v":"Serviceable"}]
[null,29691,2008,"CCA Treated Pole","Serviceable","Class 2",2020,150,150,5,{"$f":"INDEX(Lists!$B$32:$B$40, MATCH(2020-C17812, Lists!$C$32:$C$40,1))","v":"0-20"},{"$f":"SUMPRODUCT((Data!$B$17:$B$19=Model!$F17812)*(Data!$C$16:$K$16=Model!$K17812)*(Data!$C$17:$K$19))","v":1.22},143.9,{"$f":"_xlfn.IFS(M17812>70,\"Serviceable\",M17812>30, \"Limited Life\",M17812<=30, \"Unserviceable\")","v":"Serviceable"}]
[null,29805,1958,"Wood Creos Impregnated","Serviceable","Class 3",2018,90,85.96,7,{"$f":"INDEX(Lists!$B$32:$B$40, MATCH(2020-C17881, Lists!$C$32:$C$40,1))","v":"61-70"},{"$f":"SUMPRODUCT((Data!$B$17:$B$19=Model!$F17881)*(Data!$C$16:$K$16=Model!$K17881)*(Data!$C$17:$K$19))","v":2.02},75.86,{"$f":"_xlfn.IFS(M17881>70,\"Serviceable\",M17881>30, \"Limited Life\",M17881<=30, \"Unserviceable\")","v":"Serviceable"}]
[null,29862,2004,"CCA Treated Pole","Serviceable","Class 2",2018,150,147.56,7,{"$f":"INDEX(Lists!$B$32:$B$40, MATCH(2020-C17919, Lists!$C$32:$C$40,1))","v":"0-20"},{"$f":"SUMPRODUCT((Data!$B$17:$B$19=Model!$F17919)*(Data!$C$16:$K$16=Model!$K17919)*(Data!$C$17:$K$19))","v":1.22},141.46,{"$f":"_xlfn.IFS(M17919>70,\"Serviceable\",M17919>30, \"Limited Life\",M17919<=30, \"Unserviceable\")","v":"Serviceable"}]
[null,29931,1973,"Wood Creos Impregnated","Serviceable","Class 1",2016,120,113,9,{"$f":"INDEX(Lists!$B$32:$B$40, MATCH(2020-C17966, Lists!$C$32:$C$40,1))","v":"41-50"},{"$f":"SUMPRODUCT((Data!$B$17:$B$19=Model!$F17966)*(Data!$C$16:$K$16=Model!$K17966)*(Data!$C$17:$K$19))","v":1.75},104.25,{"$f":"_xlfn.IFS(M17966>70,\"Serviceable\",M17966>30, \"Limited Life\",M17966<=30, \"Unserviceable\")","v":"Serviceable"}]
[null,30059,1971,"Wood Creos Impregnated","Serviceable","Class 3",2019,100,96.22,6,{"$f":"INDEX(Lists!$B$32:$B$40, MATCH(2020-C18047, Lists!$C$32:$C$40,1))","v":"41-50"},{"$f":"SUMPRODUCT((Data!$B$17:$B$19=Model!$F18047)*(Data!$C$16:$K$16=Model!$K18047)*(Data!$C$17:$K$19))","v":3.78},77.319999999999993,{"$f":"_xlfn.IFS(M18047>70,\"Serviceable\",M18047>30, \"Limited Life\",M18047<=30, \"Unserviceable\")","v":"Serviceable"}]
[null,30194,1961,"Wood Creos Impregnated","Serviceable","Class 3",2018,100,94.54,7,{"$f":"INDEX(Lists!$B$32:$B$40, MATCH(2020-C18135, Lists!$C$32:$C$40,1))","v":"51-60"},{"$f":"SUMPRODUCT((Data!$B$17:$B$19=Model!$F18135)*(Data!$C$16:$K$16=Model!$K18135)*(Data!$C$17:$K$19))","v":2.73},80.89,{"$f":"_xlfn.IFS(M18135>70,\"Serviceable\",M18135>30, \"Limited Life\",M18135<=30, \"Unserviceable\")","v":"Serviceable"}]
[null,30300,1957,"Wood Creos Impregnated","Serviceable","Class 3",2018,110,105.96,7,{"$f":"INDEX(Lists!$B$32:$B$40, MATCH(2020-C18204, Lists!$C$32:$C$40,1))","v":"61-70"},{"$f":"SUMPRODUCT((Data!$B$17:$B$19=Model!$F18204)*(Data!$C$16:$K$16=Model!$K18204)*(Data!$C$17:$K$19))","v":2.02},95.86,{"$f":"_xlfn.IFS(M18204>70,\"Serviceable\",M18204>30, \"Limited Life\",M18204<=30, \"Unserviceable\")","v":"Serviceable"}]
[null,30432,1971,"Wood Creos Impregnated","Serviceable","Class 2",2020,130,130,5,{"$f":"INDEX(Lists!$B$32:$B$40, MATCH(2020-C18290, Lists!$C$32:$C$40,1))","v":"41-50"},{"$f":"SUMPRODUCT((Data!$B$17:$B$19=Model!$F18290)*(Data!$C$16:$K$16=Model!$K18290)*(Data!$C$17:$K$19))","v":3.28},113.6,{"$f":"_xlfn.IFS(M18290>70,\"Serviceable\",M18290>30, \"Limited Life\",M18290<=30, \"Unserviceable\")","v":"Serviceable"}]
[null,30546,1970,"Wood Creos Impregnated","Serviceable","Class 3",2018,110,102.44,7,{"$f":"INDEX(Lists!$B$32:$B$40, MATCH(2020-C18357, Lists!$C$32:$C$40,1))","v":"41-50"},{"$f":"SUMPRODUCT((Data!$B$17:$B$19=Model!$F18357)*(Data!$C$16:$K$16=Model!$K18357)*(Data!$C$17:$K$19))","v":3.78},83.54,{"$f":"_xlfn.IFS(M18357>70,\"Serviceable\",M18357>30, \"Limited Life\",M18357<=30, \"Unserviceable\")","v":"Serviceable"}]
[null,30654,1965,"Wood Creos Impregnated","Serviceable","Class 3",2018,90,84.54,7,{"$f":"INDEX(Lists!$B$32:$B$40, MATCH(2020-C18418, Lists!$C$32:$C$40,1))","v":"51-60"},{"$f":"SUMPRODUCT((Data!$B$17:$B$19=Model!$F18418)*(Data!$C$16:$K$16=Model!$K18418)*(Data!$C$17:$K$19))","v":2.73},70.89,{"$f":"_xlfn.IFS(M18418>70,\"Serviceable\",M18418>30, \"Limited Life\",M18418<=30, \"Unserviceable\")","v":"Serviceable"}]
[null,30715,1973,"Wood Creos Impregnated","Serviceable","Class 1",2019,120,118.25,6,{"$f":"INDEX(Lists!$B$32:$B$40, MATCH(2020-C18458, Lists!$C$32:$C$40,1))","v":"41-50"},{"$f":"SUMPRODUCT((Data!$B$17:$B$19=Model!$F18458)*(Data!$C$16:$K$16=Model!$K18458)*(Data!$C$17:$K$19))","v":1.75},109.5,{"$f":"_xlfn.IFS(M18458>70,\"Serviceable\",M18458>30, \"Limited Life\",M18458<=30, \"Unserviceable\")","v":"Serviceable"}]
[null,30818,1962,"Wood Creos Impregnated","Serviceable","Class 3",2019,110,107.27,6,{"$f":"INDEX(Lists!$B$32:$B$40, MATCH(2020-C18527, Lists!$C$32:$C$40,1))","v":"51-60"},{"$f":"SUMPRODUCT((Data!$B$17:$B$19=Model!$F18527)*(Data!$C$16:$K$16=Model!$K18527)*(Data!$C$17:$K$19))","v":2.73},93.62,{"$f":"_xlfn.IFS(M18527>70,\"Serviceable\",M18527>30, \"Limited Life\",M18527<=30, \"Unserviceable\")","v":"Serviceable"}]
[null,30913,1971,"Wood Creos Impregnated","Serviceable","Class 3",2018,90,82.44,7,{"$f":"INDEX(Lists!$B$32:$B$40, MATCH(2020-C18594, Lists!$C$32:$C$40,1))","v":"41-50"},{"$f":"SUMPRODUCT((Data!$B$17:$B$19=Model!$F18594)*(Data!$C$16:$K$16=Model!$K18594)*(Data!$C$17:$K$19))","v":3.78},63.540000000000006,{"$f":"_xlfn.IFS(M18594>70,\"Serviceable\",M18594>30, \"Limited Life\",M18594<=30, \"Unserviceable\")","v":"Limited Life"}]
[null,31077,1981,"Wood Creos Impregnated","Serviceable","Class 3",2018,100,93.56,{"$f":"2025-G18696","v":7},{"$f":"INDEX(Lists!$B$32:$B$40, MATCH(2020-C18696, Lists!$C$32:$C$40,1))","v":"31-40"},{"$f":"SUMPRODUCT((Data!$B$17:$B$19=Model!$F18696)*(Data!$C$16:$K$16=Model!$K18696)*(Data!$C$17:$K$19))","v":3.22},{"$f":"IF(IF(H18696>=700,999,(H18696-L18696*J18696))<0,0,IF(H18696>=700,999,(H18696-L18696*J18696)))","v":77.459999999999994},{"$f":"_xlfn.IFS(M18696>70,\"Serviceable\",M18696>30, \"Limited Life\",M18696<=30, \"Unserviceable\")","v":"Serviceable"}]
[null,31205,1968,"Wood Creos Impregnated","Serviceable","Class 3",2019,100,97.27,6,{"$f":"INDEX(Lists!$B$32:$B$40, MATCH(2020-C18765, Lists!$C$32:$C$40,1))","v":"51-60"},{"$f":"SUMPRODUCT((Data!$B$17:$B$19=Model!$F18765)*(Data!$C$16:$K$16=Model!$K18765)*(Data!$C$17:$K$19))","v":2.73},83.62,{"$f":"_xlfn.IFS(M18765>70,\"Serviceable\",M18765>30, \"Limited Life\",M18765<=30, \"Unserviceable\")","v":"Serviceable"}]
[null,31215,1972,"Wood Creos Impregnated","Serviceable","Class 1",2017,120,114.75,8,{"$f":"INDEX(Lists!$B$32:$B$40, MATCH(2020-C18770, Lists!$C$32:$C$40,1))","v":"41-50"},{"$f":"SUMPRODUCT((Data!$B$17:$B$19=Model!$F18770)*(Data!$C$16:$K$16=Model!$K18770)*(Data!$C$17:$K$19))","v":1.75},106,{"$f":"_xlfn.IFS(M18770>70,\"Serviceable\",M18770>30, \"Limited Life\",M18770<=30, \"Unserviceable\")","v":"Serviceable"}]
[null,31341,1972,"Wood Creos Impregnated","Limited Life","Class 3",2017,80,68.66,8,{"$f":"INDEX(Lists!$B$32:$B$40, MATCH(2020-C18850, Lists!$C$32:$C$40,1))","v":"41-50"},{"$f":"SUMPRODUCT((Data!$B$17:$B$19=Model!$F18850)*(Data!$C$16:$K$16=Model!$K18850)*(Data!$C$17:$K$19))","v":3.78},49.760000000000005,{"$f":"_xlfn.IFS(M18850>70,\"Serviceable\",M18850>30, \"Limited Life\",M18850<=30, \"Unserviceable\")","v":"Limited Life"}]
[null,31505,1962,"Wood Salt Impregnated (Green)","Serviceable","Class 3",2018,171.56902865306319,166.10902865306318,7,{"$f":"INDEX(Lists!$B$32:$B$40, MATCH(2020-C18965, Lists!$C$32:$C$40,1))","v":"51-60"},{"$f":"SUMPRODUCT((Data!$B$17:$B$19=Model!$F18965)*(Data!$C$16:$K$16=Model!$K18965)*(Data!$C$17:$K$19))","v":2.73},152.45902865306317,{"$f":"_xlfn.IFS(M18965>70,\"Serviceable\",M18965>30, \"Limited Life\",M18965<=30, \"Unserviceable\")","v":"Serviceable"}]
[null,31582,2000,"CCA Treated Pole","Serviceable","Class 1",2018,150,147.88,7,{"$f":"INDEX(Lists!$B$32:$B$40, MATCH(2020-C19019, Lists!$C$32:$C$40,1))","v":"0-20"},{"$f":"SUMPRODUCT((Data!$B$17:$B$19=Model!$F19019)*(Data!$C$16:$K$16=Model!$K19019)*(Data!$C$17:$K$19))","v":1.06},142.58000000000001,{"$f":"_xlfn.IFS(M19019>70,\"Serviceable\",M19019>30, \"Limited Life\",M19019<=30, \"Unserviceable\")","v":"Serviceable"}]
[null,31686,1960,"Wood Creos Impregnated","Serviceable","Class 3",2018,100,94.54,7,{"$f":"INDEX(Lists!$B$32:$B$40, MATCH(2020-C19088, Lists!$C$32:$C$40,1))","v":"51-60"},{"$f":"SUMPRODUCT((Data!$B$17:$B$19=Model!$F19088)*(Data!$C$16:$K$16=Model!$K19088)*(Data!$C$17:$K$19))","v":2.73},80.89,{"$f":"_xlfn.IFS(M19088>70,\"Serviceable\",M19088>30, \"Limited Life\",M19088<=30, \"Unserviceable\")","v":"Serviceable"}]
[null,31774,1972,"Wood Creos Impregnated","Serviceable","Class 3",2018,130,122.44,7,{"$f":"INDEX(Lists!$B$32:$B$40, MATCH(2020-C19141, Lists!$C$32:$C$40,1))","v":"41-50"},{"$f":"SUMPRODUCT((Data!$B$17:$B$19=Model!$F19141)*(Data!$C$16:$K$16=Model!$K19141)*(Data!$C$17:$K$19))","v":3.78},103.54,{"$f":"_xlfn.IFS(M19141>70,\"Serviceable\",M19141>30, \"Limited Life\",M19141<=30, \"Unserviceable\")","v":"Serviceable"}]
[null,31928,1956,"Wood Untreated Round","Serviceable","Class 1",2020,120,120,5,{"$f":"INDEX(Lists!$B$32:$B$40, MATCH(2020-C19241, Lists!$C$32:$C$40,1))","v":"61-70"},{"$f":"SUMPRODUCT((Data!$B$17:$B$19=Model!$F19241)*(Data!$C$16:$K$16=Model!$K19241)*(Data!$C$17:$K$19))","v":2.0299999999999998},109.85,{"$f":"_xlfn.IFS(M19241>70,\"Serviceable\",M19241>30, \"Limited Life\",M19241<=30, \"Unserviceable\")","v":"Serviceable"}]
[null,31964,1971,"Wood Creos Impregnated","Serviceable","Class 3",2017,100,88.66,8,{"$f":"INDEX(Lists!$B$32:$B$40, MATCH(2020-C19269, Lists!$C$32:$C$40,1))","v":"41-50"},{"$f":"SUMPRODUCT((Data!$B$17:$B$19=Model!$F19269)*(Data!$C$16:$K$16=Model!$K19269)*(Data!$C$17:$K$19))","v":3.78},69.760000000000005,{"$f":"_xlfn.IFS(M19269>70,\"Serviceable\",M19269>30, \"Limited Life\",M19269<=30, \"Unserviceable\")","v":"Limited Life"}]
[null,32091,1983,"Wood Creos Impregnated","Serviceable","Class 3",2020,100,100,5,{"$f":"INDEX(Lists!$B$32:$B$40, MATCH(2020-C19342, Lists!$C$32:$C$40,1))","v":"31-40"},{"$f":"SUMPRODUCT((Data!$B$17:$B$19=Model!$F19342)*(Data!$C$16:$K$16=Model!$K19342)*(Data!$C$17:$K$19))","v":3.22},83.9,{"$f":"_xlfn.IFS(M19342>70,\"Serviceable\",M19342>30, \"Limited Life\",M19342<=30, \"Unserviceable\")","v":"Serviceable"}]
[null,32218,2005,"CCA Treated Pole","Serviceable","Class 2",2017,150,146.34,8,{"$f":"INDEX(Lists!$B$32:$B$40, MATCH(2020-C19411, Lists!$C$32:$C$40,1))","v":"0-20"},{"$f":"SUMPRODUCT((Data!$B$17:$B$19=Model!$F19411)*(Data!$C$16:$K$16=Model!$K19411)*(Data!$C$17:$K$19))","v":1.22},140.24,{"$f":"_xlfn.IFS(M19411>70,\"Serviceable\",M19411>30, \"Limited Life\",M19411<=30, \"Unserviceable\")","v":"Serviceable"}]
[null,32278,1979,"Wood Untreated Round","Serviceable","Class 1",2018,110,106.5,7,{"$f":"INDEX(Lists!$B$32:$B$40, MATCH(2020-C19445, Lists!$C$32:$C$40,1))","v":"41-50"},{"$f":"SUMPRODUCT((Data!$B$17:$B$19=Model!$F19445)*(Data!$C$16:$K$16=Model!$K19445)*(Data!$C$17:$K$19))","v":1.75},97.75,{"$f":"_xlfn.IFS(M19445>70,\"Serviceable\",M19445>30, \"Limited Life\",M19445<=30, \"Unserviceable\")","v":"Serviceable"}]
[null,32380,1964,"Wood Creos Impregnated","Limited Life","Class 3",2018,60,54.54,7,{"$f":"INDEX(Lists!$B$32:$B$40, MATCH(2020-C19512, Lists!$C$32:$C$40,1))","v":"51-60"},{"$f":"SUMPRODUCT((Data!$B$17:$B$19=Model!$F19512)*(Data!$C$16:$K$16=Model!$K19512)*(Data!$C$17:$K$19))","v":2.73},40.89,{"$f":"_xlfn.IFS(M19512>70,\"Serviceable\",M19512>30, \"Limited Life\",M19512<=30, \"Unserviceable\")","v":"Limited Life"}]
[null,32633,1942,"Wood Untreated Dressed","Serviceable","Class 1",2018,100,95.7,7,{"$f":"INDEX(Lists!$B$32:$B$40, MATCH(2020-C19640, Lists!$C$32:$C$40,1))","v":"71-80"},{"$f":"SUMPRODUCT((Data!$B$17:$B$19=Model!$F19640)*(Data!$C$16:$K$16=Model!$K19640)*(Data!$C$17:$K$19))","v":2.15},84.95,{"$f":"_xlfn.IFS(M19640>70,\"Serviceable\",M19640>30, \"Limited Life\",M19640<=30, \"Unserviceable\")","v":"Serviceable"}]
[null,32683,2008,"CCA Treated Pole","Serviceable","Class 2",2019,160,158.78,6,{"$f":"INDEX(Lists!$B$32:$B$40, MATCH(2020-C19665, Lists!$C$32:$C$40,1))","v":"0-20"},{"$f":"SUMPRODUCT((Data!$B$17:$B$19=Model!$F19665)*(Data!$C$16:$K$16=Model!$K19665)*(Data!$C$17:$K$19))","v":1.22},152.68,{"$f":"_xlfn.IFS(M19665>70,\"Serviceable\",M19665>30, \"Limited Life\",M19665<=30, \"Unserviceable\")","v":"Serviceable"}]
[null,32787,1988,"Wood Untreated Dressed","Serviceable","Class 1",2018,140,134.96,7,{"$f":"INDEX(Lists!$B$32:$B$40, MATCH(2020-C19734, Lists!$C$32:$C$40,1))","v":"31-40"},{"$f":"SUMPRODUCT((Data!$B$17:$B$19=Model!$F19734)*(Data!$C$16:$K$16=Model!$K19734)*(Data!$C$17:$K$19))","v":2.52},122.36,{"$f":"_xlfn.IFS(M19734>70,\"Serviceable\",M19734>30, \"Limited Life\",M19734<=30, \"Unserviceable\")","v":"Serviceable"}]
[null,32971,2002,"CCA Treated Pole","Serviceable","Class 2",2015,150,143.9,10,{"$f":"INDEX(Lists!$B$32:$B$40, MATCH(2020-C19816, Lists!$C$32:$C$40,1))","v":"0-20"},{"$f":"SUMPRODUCT((Data!$B$17:$B$19=Model!$F19816)*(Data!$C$16:$K$16=Model!$K19816)*(Data!$C$17:$K$19))","v":1.22},137.80000000000001,{"$f":"_xlfn.IFS(M19816>70,\"Serviceable\",M19816>30, \"Limited Life\",M19816<=30, \"Unserviceable\")","v":"Serviceable"}]
[null,33113,2006,"CCA Treated Pole","Serviceable","Class 2",2017,162.49719689682513,158.83719689682513,8,{"$f":"INDEX(Lists!$B$32:$B$40, MATCH(2020-C19903, Lists!$C$32:$C$40,1))","v":"0-20"},{"$f":"SUMPRODUCT((Data!$B$17:$B$19=Model!$F19903)*(Data!$C$16:$K$16=Model!$K19903)*(Data!$C$17:$K$19))","v":1.22},152.73719689682514,{"$f":"_xlfn.IFS(M19903>70,\"Serviceable\",M19903>30, \"Limited Life\",M19903<=30, \"Unserviceable\")","v":"Serviceable"}]
[null,33214,1999,"Wood Creos Impregnated","Serviceable","Class 3",2018,100,96.32,7,{"$f":"INDEX(Lists!$B$32:$B$40, MATCH(2020-C19972, Lists!$C$32:$C$40,1))","v":"21-30"},{"$f":"SUMPRODUCT((Data!$B$17:$B$19=Model!$F19972)*(Data!$C$16:$K$16=Model!$K19972)*(Data!$C$17:$K$19))","v":1.84},87.12,{"$f":"_xlfn.IFS(M19972>70,\"Serviceable\",M19972>30, \"Limited Life\",M19972<=30, \"Unserviceable\")","v":"Serviceable"}]
[null,33249,1985,"Wood Untreated Dressed","Serviceable","Class 1",2017,120,112.44,8,{"$f":"INDEX(Lists!$B$32:$B$40, MATCH(2020-C19992, Lists!$C$32:$C$40,1))","v":"31-40"},{"$f":"SUMPRODUCT((Data!$B$17:$B$19=Model!$F19992)*(Data!$C$16:$K$16=Model!$K19992)*(Data!$C$17:$K$19))","v":2.52},99.84,{"$f":"_xlfn.IFS(M19992>70,\"Serviceable\",M19992>30, \"Limited Life\",M19992<=30, \"Unserviceable\")","v":"Serviceable"}]
[null,33411,1961,"Wood Creos Impregnated","Serviceable","Class 3",2018,100,94.54,7,{"$f":"INDEX(Lists!$B$32:$B$40, MATCH(2020-C20073, Lists!$C$32:$C$40,1))","v":"51-60"},{"$f":"SUMPRODUCT((Data!$B$17:$B$19=Model!$F20073)*(Data!$C$16:$K$16=Model!$K20073)*(Data!$C$17:$K$19))","v":2.73},80.89,{"$f":"_xlfn.IFS(M20073>70,\"Serviceable\",M20073>30, \"Limited Life\",M20073<=30, \"Unserviceable\")","v":"Serviceable"}]
[null,33643,1962,"Wood Creos Impregnated","Serviceable","Class 3",2017,100,91.81,8,{"$f":"INDEX(Lists!$B$32:$B$40, MATCH(2020-C20187, Lists!$C$32:$C$40,1))","v":"51-60"},{"$f":"SUMPRODUCT((Data!$B$17:$B$19=Model!$F20187)*(Data!$C$16:$K$16=Model!$K20187)*(Data!$C$17:$K$19))","v":2.73},78.16,{"$f":"_xlfn.IFS(M20187>70,\"Serviceable\",M20187>30, \"Limited Life\",M20187<=30, \"Unserviceable\")","v":"Serviceable"}]
[null,33707,1969,"Wood Creos Impregnated","Serviceable","Class 3",2019,100,97.27,6,{"$f":"INDEX(Lists!$B$32:$B$40, MATCH(2020-C20226, Lists!$C$32:$C$40,1))","v":"51-60"},{"$f":"SUMPRODUCT((Data!$B$17:$B$19=Model!$F20226)*(Data!$C$16:$K$16=Model!$K20226)*(Data!$C$17:$K$19))","v":2.73},83.62,{"$f":"_xlfn.IFS(M20226>70,\"Serviceable\",M20226>30, \"Limited Life\",M20226<=30, \"Unserviceable\")","v":"Serviceable"}]
[null,33843,1970,"Wood Creos Impregnated","Serviceable","Class 3",2018,90,82.44,7,{"$f":"INDEX(Lists!$B$32:$B$40, MATCH(2020-C20295, Lists!$C$32:$C$40,1))","v":"41-50"},{"$f":"SUMPRODUCT((Data!$B$17:$B$19=Model!$F20295)*(Data!$C$16:$K$16=Model!$K20295)*(Data!$C$17:$K$19))","v":3.78},63.540000000000006,{"$f":"_xlfn.IFS(M20295>70,\"Serviceable\",M20295>30, \"Limited Life\",M20295<=30, \"Unserviceable\")","v":"Limited Life"}]
[null,33999,1964,"Wood Creos Impregnated","Serviceable","Class 3",2016,110,99.08,9,{"$f":"INDEX(Lists!$B$32:$B$40, MATCH(2020-C20363, Lists!$C$32:$C$40,1))","v":"51-60"},{"$f":"SUMPRODUCT((Data!$B$17:$B$19=Model!$F20363)*(Data!$C$16:$K$16=Model!$K20363)*(Data!$C$17:$K$19))","v":2.73},85.43,{"$f":"_xlfn.IFS(M20363>70,\"Serviceable\",M20363>30, \"Limited Life\",M20363<=30, \"Unserviceable\")","v":"Serviceable"}]
[null,34050,1981,"Wood Creos Impregnated","Serviceable","Class 3",2019,120,116.78,6,{"$f":"INDEX(Lists!$B$32:$B$40, MATCH(2020-C20396, Lists!$C$32:$C$40,1))","v":"31-40"},{"$f":"SUMPRODUCT((Data!$B$17:$B$19=Model!$F20396)*(Data!$C$16:$K$16=Model!$K20396)*(Data!$C$17:$K$19))","v":3.22},100.68,{"$f":"_xlfn.IFS(M20396>70,\"Serviceable\",M20396>30, \"Limited Life\",M20396<=30, \"Unserviceable\")","v":"Serviceable"}]
[null,34238,1975,"Wood Creos Impregnated","Serviceable","Class 2",2017,90,80.16,8,{"$f":"INDEX(Lists!$B$32:$B$40, MATCH(2020-C20491, Lists!$C$32:$C$40,1))","v":"41-50"},{"$f":"SUMPRODUCT((Data!$B$17:$B$19=Model!$F20491)*(Data!$C$16:$K$16=Model!$K20491)*(Data!$C$17:$K$19))","v":3.28},63.760000000000005,{"$f":"_xlfn.IFS(M20491>70,\"Serviceable\",M20491>30, \"Limited Life\",M20491<=30, \"Unserviceable\")","v":"Limited Life"}]
[null,34337,1972,"Wood Creos Impregnated","Serviceable","Class 1",2019,100,98.25,6,{"$f":"INDEX(Lists!$B$32:$B$40, MATCH(2020-C20549, Lists!$C$32:$C$40,1))","v":"41-50"},{"$f":"SUMPRODUCT((Data!$B$17:$B$19=Model!$F20549)*(Data!$C$16:$K$16=Model!$K20549)*(Data!$C$17:$K$19))","v":1.75},89.5,{"$f":"_xlfn.IFS(M20549>70,\"Serviceable\",M20549>30, \"Limited Life\",M20549<=30, \"Unserviceable\")","v":"Serviceable"}]
[null,34482,1966,"Wood Creos Impregnated","Serviceable","Class 3",2018,90,84.54,7,{"$f":"INDEX(Lists!$B$32:$B$40, MATCH(2020-C20618, Lists!$C$32:$C$40,1))","v":"51-60"},{"$f":"SUMPRODUCT((Data!$B$17:$B$19=Model!$F20618)*(Data!$C$16:$K$16=Model!$K20618)*(Data!$C$17:$K$19))","v":2.73},70.89,{"$f":"_xlfn.IFS(M20618>70,\"Serviceable\",M20618>30, \"Limited Life\",M20618<=30, \"Unserviceable\")","v":"Serviceable"}]
[null,34547,1969,"Wood Creos Impregnated","Serviceable","Class 3",2020,120,120,5,{"$f":"INDEX(Lists!$B$32:$B$40, MATCH(2020-C20667, Lists!$C$32:$C$40,1))","v":"51-60"},{"$f":"SUMPRODUCT((Data!$B$17:$B$19=Model!$F20667)*(Data!$C$16:$K$16=Model!$K20667)*(Data!$C$17:$K$19))","v":2.73},106.35,{"$f":"_xlfn.IFS(M20667>70,\"Serviceable\",M20667>30, \"Limited Life\",M20667<=30, \"Unserviceable\")","v":"Serviceable"}]
[null,34758,1984,"Wood Untreated Dressed","Serviceable","Class 1",2017,140,132.44,8,{"$f":"INDEX(Lists!$B$32:$B$40, MATCH(2020-C20787, Lists!$C$32:$C$40,1))","v":"31-40"},{"$f":"SUMPRODUCT((Data!$B$17:$B$19=Model!$F20787)*(Data!$C$16:$K$16=Model!$K20787)*(Data!$C$17:$K$19))","v":2.52},119.84,{"$f":"_xlfn.IFS(M20787>70,\"Serviceable\",M20787>30, \"Limited Life\",M20787<=30, \"Unserviceable\")","v":"Serviceable"}]
[null,34879,1986,"Wood Untreated Dressed","Serviceable","Class 1",2018,100,94.96,7,{"$f":"INDEX(Lists!$B$32:$B$40, MATCH(2020-C20856, Lists!$C$32:$C$40,1))","v":"31-40"},{"$f":"SUMPRODUCT((Data!$B$17:$B$19=Model!$F20856)*(Data!$C$16:$K$16=Model!$K20856)*(Data!$C$17:$K$19))","v":2.52},82.36,{"$f":"_xlfn.IFS(M20856>70,\"Serviceable\",M20856>30, \"Limited Life\",M20856<=30, \"Unserviceable\")","v":"Serviceable"}]
[null,34988,2003,"CCA Treated Pole","Serviceable","Class 1",2017,160,156.82,8,{"$f":"INDEX(Lists!$B$32:$B$40, MATCH(2020-C20910, Lists!$C$32:$C$40,1))","v":"0-20"},{"$f":"SUMPRODUCT((Data!$B$17:$B$19=Model!$F20910)*(Data!$C$16:$K$16=Model!$K20910)*(Data!$C$17:$K$19))","v":1.06},151.52000000000001,{"$f":"_xlfn.IFS(M20910>70,\"Serviceable\",M20910>30, \"Limited Life\",M20910<=30, \"Unserviceable\")","v":"Serviceable"}]
[null,35076,1972,"Wood Creos Impregnated","Serviceable","Class 2",2017,120,110.16,8,{"$f":"INDEX(Lists!$B$32:$B$40, MATCH(2020-C20957, Lists!$C$32:$C$40,1))","v":"41-50"},{"$f":"SUMPRODUCT((Data!$B$17:$B$19=Model!$F20957)*(Data!$C$16:$K$16=Model!$K20957)*(Data!$C$17:$K$19))","v":3.28},93.76,{"$f":"_xlfn.IFS(M20957>70,\"Serviceable\",M20957>30, \"Limited Life\",M20957<=30, \"Unserviceable\")","v":"Serviceable"}]
[null,35207,1951,"Wood Untreated Round","Serviceable","Class 1",2018,100,95.94,7,{"$f":"INDEX(Lists!$B$32:$B$40, MATCH(2020-C21038, Lists!$C$32:$C$40,1))","v":"61-70"},{"$f":"SUMPRODUCT((Data!$B$17:$B$19=Model!$F21038)*(Data!$C$16:$K$16=Model!$K21038)*(Data!$C$17:$K$19))","v":2.0299999999999998},85.79,{"$f":"_xlfn.IFS(M21038>70,\"Serviceable\",M21038>30, \"Limited Life\",M21038<=30, \"Unserviceable\")","v":"Serviceable"}]
[null,35307,1960,"Wood Creos Impregnated","Serviceable","Class 3",2018,100,94.54,7,{"$f":"INDEX(Lists!$B$32:$B$40, MATCH(2020-C21110, Lists!$C$32:$C$40,1))","v":"51-60"},{"$f":"SUMPRODUCT((Data!$B$17:$B$19=Model!$F21110)*(Data!$C$16:$K$16=Model!$K21110)*(Data!$C$17:$K$19))","v":2.73},80.89,{"$f":"_xlfn.IFS(M21110>70,\"Serviceable\",M21110>30, \"Limited Life\",M21110<=30, \"Unserviceable\")","v":"Serviceable"}]
[null,35438,1977,"Wood Untreated Dressed","Serviceable","Class 1",2017,130,124.75,8,{"$f":"INDEX(Lists!$B$32:$B$40, MATCH(2020-C21179, Lists!$C$32:$C$40,1))","v":"41-50"},{"$f":"SUMPRODUCT((Data!$B$17:$B$19=Model!$F21179)*(Data!$C$16:$K$16=Model!$K21179)*(Data!$C$17:$K$19))","v":1.75},116,{"$f":"_xlfn.IFS(M21179>70,\"Serviceable\",M21179>30, \"Limited Life\",M21179<=30, \"Unserviceable\")","v":"Serviceable"}]
[null,35507,1975,"Wood Creos Impregnated","Serviceable","Class 1",2019,120,118.25,6,{"$f":"INDEX(Lists!$B$32:$B$40, MATCH(2020-C21214, Lists!$C$32:$C$40,1))","v":"41-50"},{"$f":"SUMPRODUCT((Data!$B$17:$B$19=Model!$F21214)*(Data!$C$16:$K$16=Model!$K21214)*(Data!$C$17:$K$19))","v":1.75},109.5,{"$f":"_xlfn.IFS(M21214>70,\"Serviceable\",M21214>30, \"Limited Life\",M21214<=30, \"Unserviceable\")","v":"Serviceable"}]
[null,35618,1983,"Wood Creos Impregnated","Serviceable","Class 3",2020,80,80,5,{"$f":"INDEX(Lists!$B$32:$B$40, MATCH(2020-C21280, Lists!$C$32:$C$40,1))","v":"31-40"},{"$f":"SUMPRODUCT((Data!$B$17:$B$19=Model!$F21280)*(Data!$C$16:$K$16=Model!$K21280)*(Data!$C$17:$K$19))","v":3.22},63.9,{"$f":"_xlfn.IFS(M21280>70,\"Serviceable\",M21280>30, \"Limited Life\",M21280<=30, \"Unserviceable\")","v":"Limited Life"}]
[null,35716,1957,"Wood Untreated Round","Serviceable","Class 1",2020,90,90,5,{"$f":"INDEX(Lists!$B$32:$B$40, MATCH(2020-C21342, Lists!$C$32:$C$40,1))","v":"61-70"},{"$f":"SUMPRODUCT((Data!$B$17:$B$19=Model!$F21342)*(Data!$C$16:$K$16=Model!$K21342)*(Data!$C$17:$K$19))","v":2.0299999999999998},79.849999999999994,{"$f":"_xlfn.IFS(M21342>70,\"Serviceable\",M21342>30, \"Limited Life\",M21342<=30, \"Unserviceable\")","v":"Serviceable"}]
[null,35893,1965,"Wood Creos Impregnated","Serviceable","Class 3",2017,90,81.81,8,{"$f":"INDEX(Lists!$B$32:$B$40, MATCH(2020-C21433, Lists!$C$32:$C$40,1))","v":"51-60"},{"$f":"SUMPRODUCT((Data!$B$17:$B$19=Model!$F21433)*(Data!$C$16:$K$16=Model!$K21433)*(Data!$C$17:$K$19))","v":2.73},68.16,{"$f":"_xlfn.IFS(M21433>70,\"Serviceable\",M21433>30, \"Limited Life\",M21433<=30, \"Unserviceable\")","v":"Limited Life"}]
[null,36008,1983,"Wood Creos Impregnated","Serviceable","Class 3",2020,100,100,5,{"$f":"INDEX(Lists!$B$32:$B$40, MATCH(2020-C21502, Lists!$C$32:$C$40,1))","v":"31-40"},{"$f":"SUMPRODUCT((Data!$B$17:$B$19=Model!$F21502)*(Data!$C$16:$K$16=Model!$K21502)*(Data!$C$17:$K$19))","v":3.22},83.9,{"$f":"_xlfn.IFS(M21502>70,\"Serviceable\",M21502>30, \"Limited Life\",M21502<=30, \"Unserviceable\")","v":"Serviceable"}]
[null,36182,1985,"Wood Untreated Dressed","Serviceable","Class 1",2017,120,112.44,8,{"$f":"INDEX(Lists!$B$32:$B$40, MATCH(2020-C21585, Lists!$C$32:$C$40,1))","v":"31-40"},{"$f":"SUMPRODUCT((Data!$B$17:$B$19=Model!$F21585)*(Data!$C$16:$K$16=Model!$K21585)*(Data!$C$17:$K$19))","v":2.52},99.84,{"$f":"_xlfn.IFS(M21585>70,\"Serviceable\",M21585>30, \"Limited Life\",M21585<=30, \"Unserviceable\")","v":"Serviceable"}]
[null,36327,1985,"Wood Untreated Dressed","Serviceable","Class 1",2018,120,114.96,7,{"$f":"INDEX(Lists!$B$32:$B$40, MATCH(2020-C21671, Lists!$C$32:$C$40,1))","v":"31-40"},{"$f":"SUMPRODUCT((Data!$B$17:$B$19=Model!$F21671)*(Data!$C$16:$K$16=Model!$K21671)*(Data!$C$17:$K$19))","v":2.52},102.36,{"$f":"_xlfn.IFS(M21671>70,\"Serviceable\",M21671>30, \"Limited Life\",M21671<=30, \"Unserviceable\")","v":"Serviceable"}]
[null,36398,1971,"Wood Creos Impregnated","Serviceable","Class 2",2017,100,90.16,8,{"$f":"INDEX(Lists!$B$32:$B$40, MATCH(2020-C21713, Lists!$C$32:$C$40,1))","v":"41-50"},{"$f":"SUMPRODUCT((Data!$B$17:$B$19=Model!$F21713)*(Data!$C$16:$K$16=Model!$K21713)*(Data!$C$17:$K$19))","v":3.28},73.760000000000005,{"$f":"_xlfn.IFS(M21713>70,\"Serviceable\",M21713>30, \"Limited Life\",M21713<=30, \"Unserviceable\")","v":"Serviceable"}]
[null,36457,1967,"Wood Creos Impregnated","Serviceable","Class 2",2017,100,92.29,8,{"$f":"INDEX(Lists!$B$32:$B$40, MATCH(2020-C21756, Lists!$C$32:$C$40,1))","v":"51-60"},{"$f":"SUMPRODUCT((Data!$B$17:$B$19=Model!$F21756)*(Data!$C$16:$K$16=Model!$K21756)*(Data!$C$17:$K$19))","v":2.57},79.44,{"$f":"_xlfn.IFS(M21756>70,\"Serviceable\",M21756>30, \"Limited Life\",M21756<=30, \"Unserviceable\")","v":"Serviceable"}]
[null,36593,1969,"Wood Creos Impregnated","Serviceable","Class 3",2018,90,84.54,7,{"$f":"INDEX(Lists!$B$32:$B$40, MATCH(2020-C21841, Lists!$C$32:$C$40,1))","v":"51-60"},{"$f":"SUMPRODUCT((Data!$B$17:$B$19=Model!$F21841)*(Data!$C$16:$K$16=Model!$K21841)*(Data!$C$17:$K$19))","v":2.73},70.89,{"$f":"_xlfn.IFS(M21841>70,\"Serviceable\",M21841>30, \"Limited Life\",M21841<=30, \"Unserviceable\")","v":"Serviceable"}]
[null,36681,1973,"Wood Creos Impregnated","Serviceable","Class 3",2020,90,90,5,{"$f":"INDEX(Lists!$B$32:$B$40, MATCH(2020-C21889, Lists!$C$32:$C$40,1))","v":"41-50"},{"$f":"SUMPRODUCT((Data!$B$17:$B$19=Model!$F21889)*(Data!$C$16:$K$16=Model!$K21889)*(Data!$C$17:$K$19))","v":3.78},71.099999999999994,{"$f":"_xlfn.IFS(M21889>70,\"Serviceable\",M21889>30, \"Limited Life\",M21889<=30, \"Unserviceable\")","v":"Serviceable"}]
[null,36823,1984,"Wood Creos Impregnated","Serviceable","Class 3",2018,90,83.56,7,{"$f":"INDEX(Lists!$B$32:$B$40, MATCH(2020-C21994, Lists!$C$32:$C$40,1))","v":"31-40"},{"$f":"SUMPRODUCT((Data!$B$17:$B$19=Model!$F21994)*(Data!$C$16:$K$16=Model!$K21994)*(Data!$C$17:$K$19))","v":3.22},67.459999999999994,{"$f":"_xlfn.IFS(M21994>70,\"Serviceable\",M21994>30, \"Limited Life\",M21994<=30, \"Unserviceable\")","v":"Limited Life"}]
[null,36938,1984,"Wood Creos Impregnated","Serviceable","Class 3",2018,110,103.56,7,{"$f":"INDEX(Lists!$B$32:$B$40, MATCH(2020-C22063, Lists!$C$32:$C$40,1))","v":"31-40"},{"$f":"SUMPRODUCT((Data!$B$17:$B$19=Model!$F22063)*(Data!$C$16:$K$16=Model!$K22063)*(Data!$C$17:$K$19))","v":3.22},87.46,{"$f":"_xlfn.IFS(M22063>70,\"Serviceable\",M22063>30, \"Limited Life\",M22063<=30, \"Unserviceable\")","v":"Serviceable"}]
[null,37042,2000,"CCA Treated Pole","Serviceable","Class 1",2020,150,150,5,{"$f":"INDEX(Lists!$B$32:$B$40, MATCH(2020-C22132, Lists!$C$32:$C$40,1))","v":"0-20"},{"$f":"SUMPRODUCT((Data!$B$17:$B$19=Model!$F22132)*(Data!$C$16:$K$16=Model!$K22132)*(Data!$C$17:$K$19))","v":1.06},144.69999999999999,{"$f":"_xlfn.IFS(M22132>70,\"Serviceable\",M22132>30, \"Limited Life\",M22132<=30, \"Unserviceable\")","v":"Serviceable"}]
[null,37089,1971,"Wood Creos Impregnated","Serviceable","Class 3",2019,100,96.22,6,{"$f":"INDEX(Lists!$B$32:$B$40, MATCH(2020-C22164, Lists!$C$32:$C$40,1))","v":"41-50"},{"$f":"SUMPRODUCT((Data!$B$17:$B$19=Model!$F22164)*(Data!$C$16:$K$16=Model!$K22164)*(Data!$C$17:$K$19))","v":3.78},77.319999999999993,{"$f":"_xlfn.IFS(M22164>70,\"Serviceable\",M22164>30, \"Limited Life\",M22164<=30, \"Unserviceable\")","v":"Serviceable"}]
[null,37240,1975,"Wood Creos Impregnated","Serviceable","Class 3",2018,90,82.44,7,{"$f":"INDEX(Lists!$B$32:$B$40, MATCH(2020-C22260, Lists!$C$32:$C$40,1))","v":"41-50"},{"$f":"SUMPRODUCT((Data!$B$17:$B$19=Model!$F22260)*(Data!$C$16:$K$16=Model!$K22260)*(Data!$C$17:$K$19))","v":3.78},63.540000000000006,{"$f":"_xlfn.IFS(M22260>70,\"Serviceable\",M22260>30, \"Limited Life\",M22260<=30, \"Unserviceable\")","v":"Limited Life"}]
[null,37321,1947,"Wood Untreated Round","Limited Life","Class 2",2020,70,70,5,{"$f":"INDEX(Lists!$B$32:$B$40, MATCH(2020-C22317, Lists!$C$32:$C$40,1))","v":"71-80"},{"$f":"SUMPRODUCT((Data!$B$17:$B$19=Model!$F22317)*(Data!$C$16:$K$16=Model!$K22317)*(Data!$C$17:$K$19))","v":3.53},52.35,{"$f":"_xlfn.IFS(M22317>70,\"Serviceable\",M22317>30, \"Limited Life\",M22317<=30, \"Unserviceable\")","v":"Limited Life"}]
[null,37425,1965,"Wood Creos Impregnated","Serviceable","Class 3",2019,100,97.27,6,{"$f":"INDEX(Lists!$B$32:$B$40, MATCH(2020-C22402, Lists!$C$32:$C$40,1))","v":"51-60"},{"$f":"SUMPRODUCT((Data!$B$17:$B$19=Model!$F22402)*(Data!$C$16:$K$16=Model!$K22402)*(Data!$C$17:$K$19))","v":2.73},83.62,{"$f":"_xlfn.IFS(M22402>70,\"Serviceable\",M22402>30, \"Limited Life\",M22402<=30, \"Unserviceable\")","v":"Serviceable"}]
[null,37471,1973,"Wood Untreated Dressed","Serviceable","Class 1",2018,110,106.5,7,{"$f":"INDEX(Lists!$B$32:$B$40, MATCH(2020-C22436, Lists!$C$32:$C$40,1))","v":"41-50"},{"$f":"SUMPRODUCT((Data!$B$17:$B$19=Model!$F22436)*(Data!$C$16:$K$16=Model!$K22436)*(Data!$C$17:$K$19))","v":1.75},97.75,{"$f":"_xlfn.IFS(M22436>70,\"Serviceable\",M22436>30, \"Limited Life\",M22436<=30, \"Unserviceable\")","v":"Serviceable"}]
[null,37544,2010,"CCA Treated Pole","Serviceable","Class 2",2019,162.49719689682513,161.27719689682513,6,{"$f":"INDEX(Lists!$B$32:$B$40, MATCH(2020-C22487, Lists!$C$32:$C$40,1))","v":"0-20"},{"$f":"SUMPRODUCT((Data!$B$17:$B$19=Model!$F22487)*(Data!$C$16:$K$16=Model!$K22487)*(Data!$C$17:$K$19))","v":1.22},155.17719689682514,{"$f":"_xlfn.IFS(M22487>70,\"Serviceable\",M22487>30, \"Limited Life\",M22487<=30, \"Unserviceable\")","v":"Serviceable"}]
[null,37659,1972,"Wood Creos Impregnated","Serviceable","Class 2",2020,90,90,5,{"$f":"INDEX(Lists!$B$32:$B$40, MATCH(2020-C22564, Lists!$C$32:$C$40,1))","v":"41-50"},{"$f":"SUMPRODUCT((Data!$B$17:$B$19=Model!$F22564)*(Data!$C$16:$K$16=Model!$K22564)*(Data!$C$17:$K$19))","v":3.28},73.599999999999994,{"$f":"_xlfn.IFS(M22564>70,\"Serviceable\",M22564>30, \"Limited Life\",M22564<=30, \"Unserviceable\")","v":"Serviceable"}]
[null,37768,1961,"Wood Creos Impregnated","Serviceable","Class 3",2018,100,94.54,7,{"$f":"INDEX(Lists!$B$32:$B$40, MATCH(2020-C22640, Lists!$C$32:$C$40,1))","v":"51-60"},{"$f":"SUMPRODUCT((Data!$B$17:$B$19=Model!$F22640)*(Data!$C$16:$K$16=Model!$K22640)*(Data!$C$17:$K$19))","v":2.73},80.89,{"$f":"_xlfn.IFS(M22640>70,\"Serviceable\",M22640>30, \"Limited Life\",M22640<=30, \"Unserviceable\")","v":"Serviceable"}]
[null,37895,1957,"Wood Untreated Round","Serviceable","Class 1",2018,100,95.94,7,{"$f":"INDEX(Lists!$B$32:$B$40, MATCH(2020-C22725, Lists!$C$32:$C$40,1))","v":"61-70"},{"$f":"SUMPRODUCT((Data!$B$17:$B$19=Model!$F22725)*(Data!$C$16:$K$16=Model!$K22725)*(Data!$C$17:$K$19))","v":2.0299999999999998},85.79,{"$f":"_xlfn.IFS(M22725>70,\"Serviceable\",M22725>30, \"Limited Life\",M22725<=30, \"Unserviceable\")","v":"Serviceable"}]
[null,38025,1972,"Wood Creos Impregnated","Serviceable","Class 3",2017,100,88.66,8,{"$f":"INDEX(Lists!$B$32:$B$40, MATCH(2020-C22807, Lists!$C$32:$C$40,1))","v":"41-50"},{"$f":"SUMPRODUCT((Data!$B$17:$B$19=Model!$F22807)*(Data!$C$16:$K$16=Model!$K22807)*(Data!$C$17:$K$19))","v":3.78},69.760000000000005,{"$f":"_xlfn.IFS(M22807>70,\"Serviceable\",M22807>30, \"Limited Life\",M22807<=30, \"Unserviceable\")","v":"Limited Life"}]
[null,38121,1985,"Wood Creos Impregnated","Serviceable","Class 3",2018,100,93.56,7,{"$f":"INDEX(Lists!$B$32:$B$40, MATCH(2020-C22878, Lists!$C$32:$C$40,1))","v":"31-40"},{"$f":"SUMPRODUCT((Data!$B$17:$B$19=Model!$F22878)*(Data!$C$16:$K$16=Model!$K22878)*(Data!$C$17:$K$19))","v":3.22},77.459999999999994,{"$f":"_xlfn.IFS(M22878>70,\"Serviceable\",M22878>30, \"Limited Life\",M22878<=30, \"Unserviceable\")","v":"Serviceable"}]
[null,38238,2005,"CCA Treated Pole","Serviceable","Class 2",2016,150,145.12,9,{"$f":"INDEX(Lists!$B$32:$B$40, MATCH(2020-C22947, Lists!$C$32:$C$40,1))","v":"0-20"},{"$f":"SUMPRODUCT((Data!$B$17:$B$19=Model!$F22947)*(Data!$C$16:$K$16=Model!$K22947)*(Data!$C$17:$K$19))","v":1.22},139.02000000000001,{"$f":"_xlfn.IFS(M22947>70,\"Serviceable\",M22947>30, \"Limited Life\",M22947<=30, \"Unserviceable\")","v":"Serviceable"}]
[null,38306,1957,"Wood Untreated Dressed","Serviceable","Class 1",2016,110,101.88,9,{"$f":"INDEX(Lists!$B$32:$B$40, MATCH(2020-C22983, Lists!$C$32:$C$40,1))","v":"61-70"},{"$f":"SUMPRODUCT((Data!$B$17:$B$19=Model!$F22983)*(Data!$C$16:$K$16=Model!$K22983)*(Data!$C$17:$K$19))","v":2.0299999999999998},91.73,{"$f":"_xlfn.IFS(M22983>70,\"Serviceable\",M22983>30, \"Limited Life\",M22983<=30, \"Unserviceable\")","v":"Serviceable"}]
[null,38399,2005,"CCA Treated Pole","Serviceable","Class 2",2020,150,150,{"$f":"2025-G23048","v":5},{"$f":"INDEX(Lists!$B$32:$B$40, MATCH(2020-C23048, Lists!$C$32:$C$40,1))","v":"0-20"},{"$f":"SUMPRODUCT((Data!$B$17:$B$19=Model!$F23048)*(Data!$C$16:$K$16=Model!$K23048)*(Data!$C$17:$K$19))","v":1.22},{"$f":"IF(IF(H23048>=700,999,(H23048-L23048*J23048))<0,0,IF(H23048>=700,999,(H23048-L23048*J23048)))","v":143.9},{"$f":"_xlfn.IFS(M23048>70,\"Serviceable\",M23048>30, \"Limited Life\",M23048<=30, \"Unserviceable\")","v":"Serviceable"}]
[null,38493,1959,"Wood Creos Impregnated","Serviceable","Class 3",2018,80,75.959999999999994,7,{"$f":"INDEX(Lists!$B$32:$B$40, MATCH(2020-C23111, Lists!$C$32:$C$40,1))","v":"61-70"},{"$f":"SUMPRODUCT((Data!$B$17:$B$19=Model!$F23111)*(Data!$C$16:$K$16=Model!$K23111)*(Data!$C$17:$K$19))","v":2.02},65.86,{"$f":"_xlfn.IFS(M23111>70,\"Serviceable\",M23111>30, \"Limited Life\",M23111<=30, \"Unserviceable\")","v":"Limited Life"}]
[null,38654,1963,"Wood Creos Impregnated","Serviceable","Class 3",2020,100,100,5,{"$f":"INDEX(Lists!$B$32:$B$40, MATCH(2020-C23201, Lists!$C$32:$C$40,1))","v":"51-60"},{"$f":"SUMPRODUCT((Data!$B$17:$B$19=Model!$F23201)*(Data!$C$16:$K$16=Model!$K23201)*(Data!$C$17:$K$19))","v":2.73},86.35,{"$f":"_xlfn.IFS(M23201>70,\"Serviceable\",M23201>30, \"Limited Life\",M23201<=30, \"Unserviceable\")","v":"Serviceable"}]
[null,38777,1956,"Wood Untreated Dressed","Serviceable","Class 2",2019,80,77.77,6,{"$f":"INDEX(Lists!$B$32:$B$40, MATCH(2020-C23286, Lists!$C$32:$C$40,1))","v":"61-70"},{"$f":"SUMPRODUCT((Data!$B$17:$B$19=Model!$F23286)*(Data!$C$16:$K$16=Model!$K23286)*(Data!$C$17:$K$19))","v":2.23},66.62,{"$f":"_xlfn.IFS(M23286>70,\"Serviceable\",M23286>30, \"Limited Life\",M23286<=30, \"Unserviceable\")","v":"Limited Life"}]
[null,38877,1969,"Wood Creos Impregnated","Serviceable","Class 3",2018,100,94.54,7,{"$f":"INDEX(Lists!$B$32:$B$40, MATCH(2020-C23354, Lists!$C$32:$C$40,1))","v":"51-60"},{"$f":"SUMPRODUCT((Data!$B$17:$B$19=Model!$F23354)*(Data!$C$16:$K$16=Model!$K23354)*(Data!$C$17:$K$19))","v":2.73},80.89,{"$f":"_xlfn.IFS(M23354>70,\"Serviceable\",M23354>30, \"Limited Life\",M23354<=30, \"Unserviceable\")","v":"Serviceable"}]
[null,38903,1958,"Wood Creos Impregnated","Serviceable","Class 3",2019,100,97.98,6,{"$f":"INDEX(Lists!$B$32:$B$40, MATCH(2020-C23371, Lists!$C$32:$C$40,1))","v":"61-70"},{"$f":"SUMPRODUCT((Data!$B$17:$B$19=Model!$F23371)*(Data!$C$16:$K$16=Model!$K23371)*(Data!$C$17:$K$19))","v":2.02},87.88,{"$f":"_xlfn.IFS(M23371>70,\"Serviceable\",M23371>30, \"Limited Life\",M23371<=30, \"Unserviceable\")","v":"Serviceable"}]
[null,39101,1975,"Wood Untreated Dressed","Serviceable","Class 1",2017,110,104.75,8,{"$f":"INDEX(Lists!$B$32:$B$40, MATCH(2020-C23482, Lists!$C$32:$C$40,1))","v":"41-50"},{"$f":"SUMPRODUCT((Data!$B$17:$B$19=Model!$F23482)*(Data!$C$16:$K$16=Model!$K23482)*(Data!$C$17:$K$19))","v":1.75},96,{"$f":"_xlfn.IFS(M23482>70,\"Serviceable\",M23482>30, \"Limited Life\",M23482<=30, \"Unserviceable\")","v":"Serviceable"}]
[null,39151,1971,"Wood Creos Impregnated","Serviceable","Class 2",2018,100,93.44,7,{"$f":"INDEX(Lists!$B$32:$B$40, MATCH(2020-C23524, Lists!$C$32:$C$40,1))","v":"41-50"},{"$f":"SUMPRODUCT((Data!$B$17:$B$19=Model!$F23524)*(Data!$C$16:$K$16=Model!$K23524)*(Data!$C$17:$K$19))","v":3.28},77.040000000000006,{"$f":"_xlfn.IFS(M23524>70,\"Serviceable\",M23524>30, \"Limited Life\",M23524<=30, \"Unserviceable\")","v":"Serviceable"}]
[null,39268,1984,"Wood Untreated Dressed","Serviceable","Class 1",2018,110,104.96,7,{"$f":"INDEX(Lists!$B$32:$B$40, MATCH(2020-C23609, Lists!$C$32:$C$40,1))","v":"31-40"},{"$f":"SUMPRODUCT((Data!$B$17:$B$19=Model!$F23609)*(Data!$C$16:$K$16=Model!$K23609)*(Data!$C$17:$K$19))","v":2.52},92.36,{"$f":"_xlfn.IFS(M23609>70,\"Serviceable\",M23609>30, \"Limited Life\",M23609<=30, \"Unserviceable\")","v":"Serviceable"}]
[null,39329,1977,"Wood Creos Impregnated","Serviceable","Class 1",2017,120,114.75,8,{"$f":"INDEX(Lists!$B$32:$B$40, MATCH(2020-C23658, Lists!$C$32:$C$40,1))","v":"41-50"},{"$f":"SUMPRODUCT((Data!$B$17:$B$19=Model!$F23658)*(Data!$C$16:$K$16=Model!$K23658)*(Data!$C$17:$K$19))","v":1.75},106,{"$f":"_xlfn.IFS(M23658>70,\"Serviceable\",M23658>30, \"Limited Life\",M23658<=30, \"Unserviceable\")","v":"Serviceable"}]
[null,39493,1970,"Wood Creos Impregnated","Serviceable","Class 3",2018,100,92.44,7,{"$f":"INDEX(Lists!$B$32:$B$40, MATCH(2020-C23762, Lists!$C$32:$C$40,1))","v":"41-50"},{"$f":"SUMPRODUCT((Data!$B$17:$B$19=Model!$F23762)*(Data!$C$16:$K$16=Model!$K23762)*(Data!$C$17:$K$19))","v":3.78},73.540000000000006,{"$f":"_xlfn.IFS(M23762>70,\"Serviceable\",M23762>30, \"Limited Life\",M23762<=30, \"Unserviceable\")","v":"Serviceable"}]
[null,39611,1985,"Wood Untreated Dressed","Serviceable","Class 1",2018,130,124.96,7,{"$f":"INDEX(Lists!$B$32:$B$40, MATCH(2020-C23820, Lists!$C$32:$C$40,1))","v":"31-40"},{"$f":"SUMPRODUCT((Data!$B$17:$B$19=Model!$F23820)*(Data!$C$16:$K$16=Model!$K23820)*(Data!$C$17:$K$19))","v":2.52},112.36,{"$f":"_xlfn.IFS(M23820>70,\"Serviceable\",M23820>30, \"Limited Life\",M23820<=30, \"Unserviceable\")","v":"Serviceable"}]
[null,39660,1973,"Wood Untreated Dressed","Serviceable","Class 3",2018,100,92.44,7,{"$f":"INDEX(Lists!$B$32:$B$40, MATCH(2020-C23847, Lists!$C$32:$C$40,1))","v":"41-50"},{"$f":"SUMPRODUCT((Data!$B$17:$B$19=Model!$F23847)*(Data!$C$16:$K$16=Model!$K23847)*(Data!$C$17:$K$19))","v":3.78},73.540000000000006,{"$f":"_xlfn.IFS(M23847>70,\"Serviceable\",M23847>30, \"Limited Life\",M23847<=30, \"Unserviceable\")","v":"Serviceable"}]
[null,39802,1964,"Wood Creos Impregnated","Serviceable","Class 3",2016,130,119.08,9,{"$f":"INDEX(Lists!$B$32:$B$40, MATCH(2020-C23932, Lists!$C$32:$C$40,1))","v":"51-60"},{"$f":"SUMPRODUCT((Data!$B$17:$B$19=Model!$F23932)*(Data!$C$16:$K$16=Model!$K23932)*(Data!$C$17:$K$19))","v":2.73},105.43,{"$f":"_xlfn.IFS(M23932>70,\"Serviceable\",M23932>30, \"Limited Life\",M23932<=30, \"Unserviceable\")","v":"Serviceable"}]
[null,39976,1984,"Wood Untreated Dressed","Serviceable","Class 1",2016,130,119.92,9,{"$f":"INDEX(Lists!$B$32:$B$40, MATCH(2020-C24029, Lists!$C$32:$C$40,1))","v":"31-40"},{"$f":"SUMPRODUCT((Data!$B$17:$B$19=Model!$F24029)*(Data!$C$16:$K$16=Model!$K24029)*(Data!$C$17:$K$19))","v":2.52},107.32,{"$f":"_xlfn.IFS(M24029>70,\"Serviceable\",M24029>30, \"Limited Life\",M24029<=30, \"Unserviceable\")","v":"Serviceable"}]
[null,40094,1968,"Wood Creos Impregnated","Serviceable","Class 3",2017,100,91.81,8,{"$f":"INDEX(Lists!$B$32:$B$40, MATCH(2020-C24085, Lists!$C$32:$C$40,1))","v":"51-60"},{"$f":"SUMPRODUCT((Data!$B$17:$B$19=Model!$F24085)*(Data!$C$16:$K$16=Model!$K24085)*(Data!$C$17:$K$19))","v":2.73},78.16,{"$f":"_xlfn.IFS(M24085>70,\"Serviceable\",M24085>30, \"Limited Life\",M24085<=30, \"Unserviceable\")","v":"Serviceable"}]
[null,40329,1982,"Wood Creos Impregnated","Serviceable","Class 3",2018,100,93.56,7,{"$f":"INDEX(Lists!$B$32:$B$40, MATCH(2020-C24170, Lists!$C$32:$C$40,1))","v":"31-40"},{"$f":"SUMPRODUCT((Data!$B$17:$B$19=Model!$F24170)*(Data!$C$16:$K$16=Model!$K24170)*(Data!$C$17:$K$19))","v":3.22},77.459999999999994,{"$f":"_xlfn.IFS(M24170>70,\"Serviceable\",M24170>30, \"Limited Life\",M24170<=30, \"Unserviceable\")","v":"Serviceable"}]
[null,40371,1968,"Wood Creos Impregnated","Serviceable","Class 3",2018,90,84.54,7,{"$f":"INDEX(Lists!$B$32:$B$40, MATCH(2020-C24205, Lists!$C$32:$C$40,1))","v":"51-60"},{"$f":"SUMPRODUCT((Data!$B$17:$B$19=Model!$F24205)*(Data!$C$16:$K$16=Model!$K24205)*(Data!$C$17:$K$19))","v":2.73},70.89,{"$f":"_xlfn.IFS(M24205>70,\"Serviceable\",M24205>30, \"Limited Life\",M24205<=30, \"Unserviceable\")","v":"Serviceable"}]
[null,40444,1973,"Wood Creos Impregnated","Serviceable","Class 1",2018,100,96.5,7,{"$f":"INDEX(Lists!$B$32:$B$40, MATCH(2020-C24255, Lists!$C$32:$C$40,1))","v":"41-50"},{"$f":"SUMPRODUCT((Data!$B$17:$B$19=Model!$F24255)*(Data!$C$16:$K$16=Model!$K24255)*(Data!$C$17:$K$19))","v":1.75},87.75,{"$f":"_xlfn.IFS(M24255>70,\"Serviceable\",M24255>30, \"Limited Life\",M24255<=30, \"Unserviceable\")","v":"Serviceable"}]
[null,40556,1973,"Wood Creos Impregnated","Limited Life","Class 3",2017,80,68.66,8,{"$f":"INDEX(Lists!$B$32:$B$40, MATCH(2020-C24333, Lists!$C$32:$C$40,1))","v":"41-50"},{"$f":"SUMPRODUCT((Data!$B$17:$B$19=Model!$F24333)*(Data!$C$16:$K$16=Model!$K24333)*(Data!$C$17:$K$19))","v":3.78},49.760000000000005,{"$f":"_xlfn.IFS(M24333>70,\"Serviceable\",M24333>30, \"Limited Life\",M24333<=30, \"Unserviceable\")","v":"Limited Life"}]
[null,40660,1974,"Wood Creos Impregnated","Serviceable","Class 1",2016,100,93,9,{"$f":"INDEX(Lists!$B$32:$B$40, MATCH(2020-C24408, Lists!$C$32:$C$40,1))","v":"41-50"},{"$f":"SUMPRODUCT((Data!$B$17:$B$19=Model!$F24408)*(Data!$C$16:$K$16=Model!$K24408)*(Data!$C$17:$K$19))","v":1.75},84.25,{"$f":"_xlfn.IFS(M24408>70,\"Serviceable\",M24408>30, \"Limited Life\",M24408<=30, \"Unserviceable\")","v":"Serviceable"}]
[null,40785,1976,"Wood Untreated Round","Serviceable","Class 1",2016,100,93,9,{"$f":"INDEX(Lists!$B$32:$B$40, MATCH(2020-C24493, Lists!$C$32:$C$40,1))","v":"41-50"},{"$f":"SUMPRODUCT((Data!$B$17:$B$19=Model!$F24493)*(Data!$C$16:$K$16=Model!$K24493)*(Data!$C$17:$K$19))","v":1.75},84.25,{"$f":"_xlfn.IFS(M24493>70,\"Serviceable\",M24493>30, \"Limited Life\",M24493<=30, \"Unserviceable\")","v":"Serviceable"}]
[null,40927,1960,"Wood Creos Impregnated","Serviceable","Class 3",2016,90,79.08,9,{"$f":"INDEX(Lists!$B$32:$B$40, MATCH(2020-C24576, Lists!$C$32:$C$40,1))","v":"51-60"},{"$f":"SUMPRODUCT((Data!$B$17:$B$19=Model!$F24576)*(Data!$C$16:$K$16=Model!$K24576)*(Data!$C$17:$K$19))","v":2.73},65.430000000000007,{"$f":"_xlfn.IFS(M24576>70,\"Serviceable\",M24576>30, \"Limited Life\",M24576<=30, \"Unserviceable\")","v":"Limited Life"}]
[null,41042,1986,"Wood Untreated Dressed","Serviceable","Class 1",2018,100,94.96,7,{"$f":"INDEX(Lists!$B$32:$B$40, MATCH(2020-C24646, Lists!$C$32:$C$40,1))","v":"31-40"},{"$f":"SUMPRODUCT((Data!$B$17:$B$19=Model!$F24646)*(Data!$C$16:$K$16=Model!$K24646)*(Data!$C$17:$K$19))","v":2.52},82.36,{"$f":"_xlfn.IFS(M24646>70,\"Serviceable\",M24646>30, \"Limited Life\",M24646<=30, \"Unserviceable\")","v":"Serviceable"}]
[null,41083,1980,"Wood Creos Impregnated","Serviceable","Class 1",2018,100,94.96,7,{"$f":"INDEX(Lists!$B$32:$B$40, MATCH(2020-C24671, Lists!$C$32:$C$40,1))","v":"31-40"},{"$f":"SUMPRODUCT((Data!$B$17:$B$19=Model!$F24671)*(Data!$C$16:$K$16=Model!$K24671)*(Data!$C$17:$K$19))","v":2.52},82.36,{"$f":"_xlfn.IFS(M24671>70,\"Serviceable\",M24671>30, \"Limited Life\",M24671<=30, \"Unserviceable\")","v":"Serviceable"}]
[null,41192,1997,"CCA Treated Pole","Serviceable","Class 2",2017,130,124.33,8,{"$f":"INDEX(Lists!$B$32:$B$40, MATCH(2020-C24731, Lists!$C$32:$C$40,1))","v":"21-30"},{"$f":"SUMPRODUCT((Data!$B$17:$B$19=Model!$F24731)*(Data!$C$16:$K$16=Model!$K24731)*(Data!$C$17:$K$19))","v":1.89},114.88,{"$f":"_xlfn.IFS(M24731>70,\"Serviceable\",M24731>30, \"Limited Life\",M24731<=30, \"Unserviceable\")","v":"Serviceable"}]
[null,41330,1974,"Wood Creos Impregnated","Limited Life","Class 3",2017,80,68.66,8,{"$f":"INDEX(Lists!$B$32:$B$40, MATCH(2020-C24816, Lists!$C$32:$C$40,1))","v":"41-50"},{"$f":"SUMPRODUCT((Data!$B$17:$B$19=Model!$F24816)*(Data!$C$16:$K$16=Model!$K24816)*(Data!$C$17:$K$19))","v":3.78},49.760000000000005,{"$f":"_xlfn.IFS(M24816>70,\"Serviceable\",M24816>30, \"Limited Life\",M24816<=30, \"Unserviceable\")","v":"Limited Life"}]
[null,41520,1977,"Wood Untreated Round","Serviceable","Class 1",2016,130,123,9,{"$f":"INDEX(Lists!$B$32:$B$40, MATCH(2020-C24880, Lists!$C$32:$C$40,1))","v":"41-50"},{"$f":"SUMPRODUCT((Data!$B$17:$B$19=Model!$F24880)*(Data!$C$16:$K$16=Model!$K24880)*(Data!$C$17:$K$19))","v":1.75},114.25,{"$f":"_xlfn.IFS(M24880>70,\"Serviceable\",M24880>30, \"Limited Life\",M24880<=30, \"Unserviceable\")","v":"Serviceable"}]
[null,41728,1966,"Wood Creos Impregnated","Serviceable","Class 3",2018,90,84.54,7,{"$f":"INDEX(Lists!$B$32:$B$40, MATCH(2020-C24969, Lists!$C$32:$C$40,1))","v":"51-60"},{"$f":"SUMPRODUCT((Data!$B$17:$B$19=Model!$F24969)*(Data!$C$16:$K$16=Model!$K24969)*(Data!$C$17:$K$19))","v":2.73},70.89,{"$f":"_xlfn.IFS(M24969>70,\"Serviceable\",M24969>30, \"Limited Life\",M24969<=30, \"Unserviceable\")","v":"Serviceable"}]
[null,41875,1957,"Wood Creos Impregnated","Serviceable","Class 3",2018,80,75.959999999999994,7,{"$f":"INDEX(Lists!$B$32:$B$40, MATCH(2020-C25054, Lists!$C$32:$C$40,1))","v":"61-70"},{"$f":"SUMPRODUCT((Data!$B$17:$B$19=Model!$F25054)*(Data!$C$16:$K$16=Model!$K25054)*(Data!$C$17:$K$19))","v":2.02},65.86,{"$f":"_xlfn.IFS(M25054>70,\"Serviceable\",M25054>30, \"Limited Life\",M25054<=30, \"Unserviceable\")","v":"Limited Life"}]
[null,41984,1949,"Wood Untreated Round","Serviceable","Class 1",2018,150,145.69999999999999,7,{"$f":"INDEX(Lists!$B$32:$B$40, MATCH(2020-C25123, Lists!$C$32:$C$40,1))","v":"71-80"},{"$f":"SUMPRODUCT((Data!$B$17:$B$19=Model!$F25123)*(Data!$C$16:$K$16=Model!$K25123)*(Data!$C$17:$K$19))","v":2.15},134.94999999999999,{"$f":"_xlfn.IFS(M25123>70,\"Serviceable\",M25123>30, \"Limited Life\",M25123<=30, \"Unserviceable\")","v":"Serviceable"}]
[null,42019,1949,"Wood Untreated Dressed","Serviceable","Class 1",2018,100,95.7,7,{"$f":"INDEX(Lists!$B$32:$B$40, MATCH(2020-C25139, Lists!$C$32:$C$40,1))","v":"71-80"},{"$f":"SUMPRODUCT((Data!$B$17:$B$19=Model!$F25139)*(Data!$C$16:$K$16=Model!$K25139)*(Data!$C$17:$K$19))","v":2.15},84.95,{"$f":"_xlfn.IFS(M25139>70,\"Serviceable\",M25139>30, \"Limited Life\",M25139<=30, \"Unserviceable\")","v":"Serviceable"}]
[null,42194,1986,"Wood Untreated Dressed","Serviceable","Class 1",2018,80,74.959999999999994,7,{"$f":"INDEX(Lists!$B$32:$B$40, MATCH(2020-C25251, Lists!$C$32:$C$40,1))","v":"31-40"},{"$f":"SUMPRODUCT((Data!$B$17:$B$19=Model!$F25251)*(Data!$C$16:$K$16=Model!$K25251)*(Data!$C$17:$K$19))","v":2.52},62.36,{"$f":"_xlfn.IFS(M25251>70,\"Serviceable\",M25251>30, \"Limited Life\",M25251<=30, \"Unserviceable\")","v":"Limited Life"}]
[null,42244,1980,"Wood Untreated Dressed","Serviceable","Class 1",2018,100,94.96,7,{"$f":"INDEX(Lists!$B$32:$B$40, MATCH(2020-C25292, Lists!$C$32:$C$40,1))","v":"31-40"},{"$f":"SUMPRODUCT((Data!$B$17:$B$19=Model!$F25292)*(Data!$C$16:$K$16=Model!$K25292)*(Data!$C$17:$K$19))","v":2.52},82.36,{"$f":"_xlfn.IFS(M25292>70,\"Serviceable\",M25292>30, \"Limited Life\",M25292<=30, \"Unserviceable\")","v":"Serviceable"}]
[null,42386,2009,"CCA Treated Pole","Serviceable","Class 3",2019,171.56902865306319,170.19902865306318,6,{"$f":"INDEX(Lists!$B$32:$B$40, MATCH(2020-C25377, Lists!$C$32:$C$40,1))","v":"0-20"},{"$f":"SUMPRODUCT((Data!$B$17:$B$19=Model!$F25377)*(Data!$C$16:$K$16=Model!$K25377)*(Data!$C$17:$K$19))","v":1.37},163.34902865306319,{"$f":"_xlfn.IFS(M25377>70,\"Serviceable\",M25377>30, \"Limited Life\",M25377<=30, \"Unserviceable\")","v":"Serviceable"}]
[null,42462,1986,"Wood Untreated Dressed","Serviceable","Class 1",2018,130,124.96,7,{"$f":"INDEX(Lists!$B$32:$B$40, MATCH(2020-C25427, Lists!$C$32:$C$40,1))","v":"31-40"},{"$f":"SUMPRODUCT((Data!$B$17:$B$19=Model!$F25427)*(Data!$C$16:$K$16=Model!$K25427)*(Data!$C$17:$K$19))","v":2.52},112.36,{"$f":"_xlfn.IFS(M25427>70,\"Serviceable\",M25427>30, \"Limited Life\",M25427<=30, \"Unserviceable\")","v":"Serviceable"}]
[null,42515,1972,"Wood Creos Impregnated","Serviceable","Class 3",2018,90,82.44,7,{"$f":"INDEX(Lists!$B$32:$B$40, MATCH(2020-C25462, Lists!$C$32:$C$40,1))","v":"41-50"},{"$f":"SUMPRODUCT((Data!$B$17:$B$19=Model!$F25462)*(Data!$C$16:$K$16=Model!$K25462)*(Data!$C$17:$K$19))","v":3.78},63.540000000000006,{"$f":"_xlfn.IFS(M25462>70,\"Serviceable\",M25462>30, \"Limited Life\",M25462<=30, \"Unserviceable\")","v":"Limited Life"}]
[null,42695,1970,"Wood Untreated Round","Serviceable","Class 1",2019,100,98.25,6,{"$f":"INDEX(Lists!$B$32:$B$40, MATCH(2020-C25589, Lists!$C$32:$C$40,1))","v":"41-50"},{"$f":"SUMPRODUCT((Data!$B$17:$B$19=Model!$F25589)*(Data!$C$16:$K$16=Model!$K25589)*(Data!$C$17:$K$19))","v":1.75},89.5,{"$f":"_xlfn.IFS(M25589>70,\"Serviceable\",M25589>30, \"Limited Life\",M25589<=30, \"Unserviceable\")","v":"Serviceable"}]
[null,42737,1986,"Wood Untreated Dressed","Serviceable","Class 1",2020,120,120,5,{"$f":"INDEX(Lists!$B$32:$B$40, MATCH(2020-C25615, Lists!$C$32:$C$40,1))","v":"31-40"},{"$f":"SUMPRODUCT((Data!$B$17:$B$19=Model!$F25615)*(Data!$C$16:$K$16=Model!$K25615)*(Data!$C$17:$K$19))","v":2.52},107.4,{"$f":"_xlfn.IFS(M25615>70,\"Serviceable\",M25615>30, \"Limited Life\",M25615<=30, \"Unserviceable\")","v":"Serviceable"}]
[null,42860,1962,"Wood Creos Impregnated","Serviceable","Class 3",2020,90,90,5,{"$f":"INDEX(Lists!$B$32:$B$40, MATCH(2020-C25700, Lists!$C$32:$C$40,1))","v":"51-60"},{"$f":"SUMPRODUCT((Data!$B$17:$B$19=Model!$F25700)*(Data!$C$16:$K$16=Model!$K25700)*(Data!$C$17:$K$19))","v":2.73},76.349999999999994,{"$f":"_xlfn.IFS(M25700>70,\"Serviceable\",M25700>30, \"Limited Life\",M25700<=30, \"Unserviceable\")","v":"Serviceable"}]
[null,43000,1985,"Wood Untreated Dressed","Serviceable","Class 1",2019,110,107.48,6,{"$f":"INDEX(Lists!$B$32:$B$40, MATCH(2020-C25798, Lists!$C$32:$C$40,1))","v":"31-40"},{"$f":"SUMPRODUCT((Data!$B$17:$B$19=Model!$F25798)*(Data!$C$16:$K$16=Model!$K25798)*(Data!$C$17:$K$19))","v":2.52},94.88,{"$f":"_xlfn.IFS(M25798>70,\"Serviceable\",M25798>30, \"Limited Life\",M25798<=30, \"Unserviceable\")","v":"Serviceable"}]
[null,43078,1984,"Wood Untreated Dressed","Serviceable","Class 3",2019,120,116.78,6,{"$f":"INDEX(Lists!$B$32:$B$40, MATCH(2020-C25853, Lists!$C$32:$C$40,1))","v":"31-40"},{"$f":"SUMPRODUCT((Data!$B$17:$B$19=Model!$F25853)*(Data!$C$16:$K$16=Model!$K25853)*(Data!$C$17:$K$19))","v":3.22},100.68,{"$f":"_xlfn.IFS(M25853>70,\"Serviceable\",M25853>30, \"Limited Life\",M25853<=30, \"Unserviceable\")","v":"Serviceable"}]
[null,43102,1939,"Wood Untreated Dressed","Serviceable","Class 1",2019,90,87.19,6,{"$f":"INDEX(Lists!$B$32:$B$40, MATCH(2020-C25870, Lists!$C$32:$C$40,1))","v":"81-90"},{"$f":"SUMPRODUCT((Data!$B$17:$B$19=Model!$F25870)*(Data!$C$16:$K$16=Model!$K25870)*(Data!$C$17:$K$19))","v":2.81},73.14,{"$f":"_xlfn.IFS(M25870>70,\"Serviceable\",M25870>30, \"Limited Life\",M25870<=30, \"Unserviceable\")","v":"Serviceable"}]
[null,43252,1968,"Wood Creos Impregnated","Serviceable","Class 3",2019,80,77.27,6,{"$f":"INDEX(Lists!$B$32:$B$40, MATCH(2020-C25974, Lists!$C$32:$C$40,1))","v":"51-60"},{"$f":"SUMPRODUCT((Data!$B$17:$B$19=Model!$F25974)*(Data!$C$16:$K$16=Model!$K25974)*(Data!$C$17:$K$19))","v":2.73},63.620000000000005,{"$f":"_xlfn.IFS(M25974>70,\"Serviceable\",M25974>30, \"Limited Life\",M25974<=30, \"Unserviceable\")","v":"Limited Life"}]
[null,43337,1973,"Wood Creos Impregnated","Serviceable","Class 3",2018,100,92.44,7,{"$f":"INDEX(Lists!$B$32:$B$40, MATCH(2020-C26023, Lists!$C$32:$C$40,1))","v":"41-50"},{"$f":"SUMPRODUCT((Data!$B$17:$B$19=Model!$F26023)*(Data!$C$16:$K$16=Model!$K26023)*(Data!$C$17:$K$19))","v":3.78},73.540000000000006,{"$f":"_xlfn.IFS(M26023>70,\"Serviceable\",M26023>30, \"Limited Life\",M26023<=30, \"Unserviceable\")","v":"Serviceable"}]
[null,43522,1959,"Wood Creos Impregnated","Serviceable","Class 3",2018,100,95.96,7,{"$f":"INDEX(Lists!$B$32:$B$40, MATCH(2020-C26136, Lists!$C$32:$C$40,1))","v":"61-70"},{"$f":"SUMPRODUCT((Data!$B$17:$B$19=Model!$F26136)*(Data!$C$16:$K$16=Model!$K26136)*(Data!$C$17:$K$19))","v":2.02},85.86,{"$f":"_xlfn.IFS(M26136>70,\"Serviceable\",M26136>30, \"Limited Life\",M26136<=30, \"Unserviceable\")","v":"Serviceable"}]
[null,43575,1983,"Wood Untreated Round","Serviceable","Class 1",2018,100,94.96,7,{"$f":"INDEX(Lists!$B$32:$B$40, MATCH(2020-C26176, Lists!$C$32:$C$40,1))","v":"31-40"},{"$f":"SUMPRODUCT((Data!$B$17:$B$19=Model!$F26176)*(Data!$C$16:$K$16=Model!$K26176)*(Data!$C$17:$K$19))","v":2.52},82.36,{"$f":"_xlfn.IFS(M26176>70,\"Serviceable\",M26176>30, \"Limited Life\",M26176<=30, \"Unserviceable\")","v":"Serviceable"}]
[null,43689,1982,"Wood Untreated Dressed","Serviceable","Class 1",2019,130,127.48,6,{"$f":"INDEX(Lists!$B$32:$B$40, MATCH(2020-C26261, Lists!$C$32:$C$40,1))","v":"31-40"},{"$f":"SUMPRODUCT((Data!$B$17:$B$19=Model!$F26261)*(Data!$C$16:$K$16=Model!$K26261)*(Data!$C$17:$K$19))","v":2.52},114.88,{"$f":"_xlfn.IFS(M26261>70,\"Serviceable\",M26261>30, \"Limited Life\",M26261<=30, \"Unserviceable\")","v":"Serviceable"}]
[null,43711,1968,"Wood Creos Impregnated","Serviceable","Class 3",2020,100,100,5,{"$f":"INDEX(Lists!$B$32:$B$40, MATCH(2020-C26278, Lists!$C$32:$C$40,1))","v":"51-60"},{"$f":"SUMPRODUCT((Data!$B$17:$B$19=Model!$F26278)*(Data!$C$16:$K$16=Model!$K26278)*(Data!$C$17:$K$19))","v":2.73},86.35,{"$f":"_xlfn.IFS(M26278>70,\"Serviceable\",M26278>30, \"Limited Life\",M26278<=30, \"Unserviceable\")","v":"Serviceable"}]
[null,43811,1965,"Wood Creos Impregnated","Serviceable","Class 3",2019,100,97.27,6,{"$f":"INDEX(Lists!$B$32:$B$40, MATCH(2020-C26346, Lists!$C$32:$C$40,1))","v":"51-60"},{"$f":"SUMPRODUCT((Data!$B$17:$B$19=Model!$F26346)*(Data!$C$16:$K$16=Model!$K26346)*(Data!$C$17:$K$19))","v":2.73},83.62,{"$f":"_xlfn.IFS(M26346>70,\"Serviceable\",M26346>30, \"Limited Life\",M26346<=30, \"Unserviceable\")","v":"Serviceable"}]
[null,43966,1935,"Wood Untreated Dressed","Serviceable","Class 1",2018,110,104.38,{"$f":"2025-G26440","v":7},{"$f":"INDEX(Lists!$B$32:$B$40, MATCH(2020-C26440, Lists!$C$32:$C$40,1))","v":"81-90"},{"$f":"SUMPRODUCT((Data!$B$17:$B$19=Model!$F26440)*(Data!$C$16:$K$16=Model!$K26440)*(Data!$C$17:$K$19))","v":2.81},{"$f":"IF(IF(H26440>=700,999,(H26440-L26440*J26440))<0,0,IF(H26440>=700,999,(H26440-L26440*J26440)))","v":90.33},{"$f":"_xlfn.IFS(M26440>70,\"Serviceable\",M26440>30, \"Limited Life\",M26440<=30, \"Unserviceable\")","v":"Serviceable"}]
[null,44060,1979,"Wood Untreated Dressed","Serviceable","Class 1",2018,140,136.5,7,{"$f":"INDEX(Lists!$B$32:$B$40, MATCH(2020-C26499, Lists!$C$32:$C$40,1))","v":"41-50"},{"$f":"SUMPRODUCT((Data!$B$17:$B$19=Model!$F26499)*(Data!$C$16:$K$16=Model!$K26499)*(Data!$C$17:$K$19))","v":1.75},127.75,{"$f":"_xlfn.IFS(M26499>70,\"Serviceable\",M26499>30, \"Limited Life\",M26499<=30, \"Unserviceable\")","v":"Serviceable"}]
[null,44178,1999,"CCA Treated Pole","Serviceable","Class 1",2018,150,146.08000000000001,7,{"$f":"INDEX(Lists!$B$32:$B$40, MATCH(2020-C26584, Lists!$C$32:$C$40,1))","v":"21-30"},{"$f":"SUMPRODUCT((Data!$B$17:$B$19=Model!$F26584)*(Data!$C$16:$K$16=Model!$K26584)*(Data!$C$17:$K$19))","v":1.96},136.28,{"$f":"_xlfn.IFS(M26584>70,\"Serviceable\",M26584>30, \"Limited Life\",M26584<=30, \"Unserviceable\")","v":"Serviceable"}]
[null,44280,1951,"Wood Untreated Round","Serviceable","Class 1",2018,100,95.94,7,{"$f":"INDEX(Lists!$B$32:$B$40, MATCH(2020-C26649, Lists!$C$32:$C$40,1))","v":"61-70"},{"$f":"SUMPRODUCT((Data!$B$17:$B$19=Model!$F26649)*(Data!$C$16:$K$16=Model!$K26649)*(Data!$C$17:$K$19))","v":2.0299999999999998},85.79,{"$f":"_xlfn.IFS(M26649>70,\"Serviceable\",M26649>30, \"Limited Life\",M26649<=30, \"Unserviceable\")","v":"Serviceable"}]
[null,44406,2002,"CCA Treated Pole","Serviceable","Class 2",2018,150,147.56,7,{"$f":"INDEX(Lists!$B$32:$B$40, MATCH(2020-C26737, Lists!$C$32:$C$40,1))","v":"0-20"},{"$f":"SUMPRODUCT((Data!$B$17:$B$19=Model!$F26737)*(Data!$C$16:$K$16=Model!$K26737)*(Data!$C$17:$K$19))","v":1.22},141.46,{"$f":"_xlfn.IFS(M26737>70,\"Serviceable\",M26737>30, \"Limited Life\",M26737<=30, \"Unserviceable\")","v":"Serviceable"}]
[null,44503,1963,"Wood Creos Impregnated","Serviceable","Class 3",2019,110,107.27,6,{"$f":"INDEX(Lists!$B$32:$B$40, MATCH(2020-C26811, Lists!$C$32:$C$40,1))","v":"51-60"},{"$f":"SUMPRODUCT((Data!$B$17:$B$19=Model!$F26811)*(Data!$C$16:$K$16=Model!$K26811)*(Data!$C$17:$K$19))","v":2.73},93.62,{"$f":"_xlfn.IFS(M26811>70,\"Serviceable\",M26811>30, \"Limited Life\",M26811<=30, \"Unserviceable\")","v":"Serviceable"}]
[null,44520,1969,"Wood Creos Impregnated","Serviceable","Class 3",2018,80,74.540000000000006,7,{"$f":"INDEX(Lists!$B$32:$B$40, MATCH(2020-C26822, Lists!$C$32:$C$40,1))","v":"51-60"},{"$f":"SUMPRODUCT((Data!$B$17:$B$19=Model!$F26822)*(Data!$C$16:$K$16=Model!$K26822)*(Data!$C$17:$K$19))","v":2.73},60.89,{"$f":"_xlfn.IFS(M26822>70,\"Serviceable\",M26822>30, \"Limited Life\",M26822<=30, \"Unserviceable\")","v":"Limited Life"}]
[null,44651,1965,"Wood Creos Impregnated","Serviceable","Class 3",2018,90,84.54,7,{"$f":"INDEX(Lists!$B$32:$B$40, MATCH(2020-C26907, Lists!$C$32:$C$40,1))","v":"51-60"},{"$f":"SUMPRODUCT((Data!$B$17:$B$19=Model!$F26907)*(Data!$C$16:$K$16=Model!$K26907)*(Data!$C$17:$K$19))","v":2.73},70.89,{"$f":"_xlfn.IFS(M26907>70,\"Serviceable\",M26907>30, \"Limited Life\",M26907<=30, \"Unserviceable\")","v":"Serviceable"}]
[null,44776,1960,"Wood Creos Impregnated","Serviceable","Class 3",2020,100,100,5,{"$f":"INDEX(Lists!$B$32:$B$40, MATCH(2020-C26987, Lists!$C$32:$C$40,1))","v":"51-60"},{"$f":"SUMPRODUCT((Data!$B$17:$B$19=Model!$F26987)*(Data!$C$16:$K$16=Model!$K26987)*(Data!$C$17:$K$19))","v":2.73},86.35,{"$f":"_xlfn.IFS(M26987>70,\"Serviceable\",M26987>30, \"Limited Life\",M26987<=30, \"Unserviceable\")","v":"Serviceable"}]
[null,44896,1970,"Wood Creos Impregnated","Serviceable","Class 3",2017,130,118.66,8,{"$f":"INDEX(Lists!$B$32:$B$40, MATCH(2020-C27060, Lists!$C$32:$C$40,1))","v":"41-50"},{"$f":"SUMPRODUCT((Data!$B$17:$B$19=Model!$F27060)*(Data!$C$16:$K$16=Model!$K27060)*(Data!$C$17:$K$19))","v":3.78},99.76,{"$f":"_xlfn.IFS(M27060>70,\"Serviceable\",M27060>30, \"Limited Life\",M27060<=30, \"Unserviceable\")","v":"Serviceable"}]
[null,45037,2011,"CCA Treated Pole","Serviceable","Class 1",2019,120,118.94,6,{"$f":"INDEX(Lists!$B$32:$B$40, MATCH(2020-C27145, Lists!$C$32:$C$40,1))","v":"0-20"},{"$f":"SUMPRODUCT((Data!$B$17:$B$19=Model!$F27145)*(Data!$C$16:$K$16=Model!$K27145)*(Data!$C$17:$K$19))","v":1.06},113.64,{"$f":"_xlfn.IFS(M27145>70,\"Serviceable\",M27145>30, \"Limited Life\",M27145<=30, \"Unserviceable\")","v":"Serviceable"}]
[null,45114,1976,"Wood Creos Impregnated","Serviceable","Class 3",2017,100,88.66,8,{"$f":"INDEX(Lists!$B$32:$B$40, MATCH(2020-C27196, Lists!$C$32:$C$40,1))","v":"41-50"},{"$f":"SUMPRODUCT((Data!$B$17:$B$19=Model!$F27196)*(Data!$C$16:$K$16=Model!$K27196)*(Data!$C$17:$K$19))","v":3.78},69.760000000000005,{"$f":"_xlfn.IFS(M27196>70,\"Serviceable\",M27196>30, \"Limited Life\",M27196<=30, \"Unserviceable\")","v":"Limited Life"}]
[null,45172,1967,"Wood Creos Impregnated","Serviceable","Class 3",2020,80,80,5,{"$f":"INDEX(Lists!$B$32:$B$40, MATCH(2020-C27230, Lists!$C$32:$C$40,1))","v":"51-60"},{"$f":"SUMPRODUCT((Data!$B$17:$B$19=Model!$F27230)*(Data!$C$16:$K$16=Model!$K27230)*(Data!$C$17:$K$19))","v":2.73},66.349999999999994,{"$f":"_xlfn.IFS(M27230>70,\"Serviceable\",M27230>30, \"Limited Life\",M27230<=30, \"Unserviceable\")","v":"Limited Life"}]
[null,45267,1968,"Wood Creos Impregnated","Serviceable","Class 3",2018,130,124.54,7,{"$f":"INDEX(Lists!$B$32:$B$40, MATCH(2020-C27291, Lists!$C$32:$C$40,1))","v":"51-60"},{"$f":"SUMPRODUCT((Data!$B$17:$B$19=Model!$F27291)*(Data!$C$16:$K$16=Model!$K27291)*(Data!$C$17:$K$19))","v":2.73},110.89,{"$f":"_xlfn.IFS(M27291>70,\"Serviceable\",M27291>30, \"Limited Life\",M27291<=30, \"Unserviceable\")","v":"Serviceable"}]
[null,45418,2006,"CCA Treated Pole","Serviceable","Class 2",2017,160,156.34,8,{"$f":"INDEX(Lists!$B$32:$B$40, MATCH(2020-C27383, Lists!$C$32:$C$40,1))","v":"0-20"},{"$f":"SUMPRODUCT((Data!$B$17:$B$19=Model!$F27383)*(Data!$C$16:$K$16=Model!$K27383)*(Data!$C$17:$K$19))","v":1.22},150.24,{"$f":"_xlfn.IFS(M27383>70,\"Serviceable\",M27383>30, \"Limited Life\",M27383<=30, \"Unserviceable\")","v":"Serviceable"}]
[null,45544,2008,"CCA Treated Pole","Serviceable","Class 1",2018,166.31691553103065,164.19691553103064,7,{"$f":"INDEX(Lists!$B$32:$B$40, MATCH(2020-C27468, Lists!$C$32:$C$40,1))","v":"0-20"},{"$f":"SUMPRODUCT((Data!$B$17:$B$19=Model!$F27468)*(Data!$C$16:$K$16=Model!$K27468)*(Data!$C$17:$K$19))","v":1.06},158.89691553103066,{"$f":"_xlfn.IFS(M27468>70,\"Serviceable\",M27468>30, \"Limited Life\",M27468<=30, \"Unserviceable\")","v":"Serviceable"}]
[null,45592,1970,"Wood Creos Impregnated","Serviceable","Class 3",2019,100,96.22,6,{"$f":"INDEX(Lists!$B$32:$B$40, MATCH(2020-C27500, Lists!$C$32:$C$40,1))","v":"41-50"},{"$f":"SUMPRODUCT((Data!$B$17:$B$19=Model!$F27500)*(Data!$C$16:$K$16=Model!$K27500)*(Data!$C$17:$K$19))","v":3.78},77.319999999999993,{"$f":"_xlfn.IFS(M27500>70,\"Serviceable\",M27500>30, \"Limited Life\",M27500<=30, \"Unserviceable\")","v":"Serviceable"}]
[null,45768,1985,"Wood Untreated Dressed","Serviceable","Class 1",2020,120,120,5,{"$f":"INDEX(Lists!$B$32:$B$40, MATCH(2020-C27621, Lists!$C$32:$C$40,1))","v":"31-40"},{"$f":"SUMPRODUCT((Data!$B$17:$B$19=Model!$F27621)*(Data!$C$16:$K$16=Model!$K27621)*(Data!$C$17:$K$19))","v":2.52},107.4,{"$f":"_xlfn.IFS(M27621>70,\"Serviceable\",M27621>30, \"Limited Life\",M27621<=30, \"Unserviceable\")","v":"Serviceable"}]
[null,45826,1963,"Wood Creos Impregnated","Serviceable","Class 3",2018,100,94.54,7,{"$f":"INDEX(Lists!$B$32:$B$40, MATCH(2020-C27662, Lists!$C$32:$C$40,1))","v":"51-60"},{"$f":"SUMPRODUCT((Data!$B$17:$B$19=Model!$F27662)*(Data!$C$16:$K$16=Model!$K27662)*(Data!$C$17:$K$19))","v":2.73},80.89,{"$f":"_xlfn.IFS(M27662>70,\"Serviceable\",M27662>30, \"Limited Life\",M27662<=30, \"Unserviceable\")","v":"Serviceable"}]
[null,45886,1970,"Wood Creos Impregnated","Serviceable","Class 3",2018,100,92.44,7,{"$f":"INDEX(Lists!$B$32:$B$40, MATCH(2020-C27706, Lists!$C$32:$C$40,1))","v":"41-50"},{"$f":"SUMPRODUCT((Data!$B$17:$B$19=Model!$F27706)*(Data!$C$16:$K$16=Model!$K27706)*(Data!$C$17:$K$19))","v":3.78},73.540000000000006,{"$f":"_xlfn.IFS(M27706>70,\"Serviceable\",M27706>30, \"Limited Life\",M27706<=30, \"Unserviceable\")","v":"Serviceable"}]
[null,46017,1976,"Wood Untreated Dressed","Serviceable","Class 1",2019,90,88.25,6,{"$f":"INDEX(Lists!$B$32:$B$40, MATCH(2020-C27791, Lists!$C$32:$C$40,1))","v":"41-50"},{"$f":"SUMPRODUCT((Data!$B$17:$B$19=Model!$F27791)*(Data!$C$16:$K$16=Model!$K27791)*(Data!$C$17:$K$19))","v":1.75},79.5,{"$f":"_xlfn.IFS(M27791>70,\"Serviceable\",M27791>30, \"Limited Life\",M27791<=30, \"Unserviceable\")","v":"Serviceable"}]
[null,46097,1969,"Wood Creos Impregnated","Serviceable","Class 2",2018,120,114.86,7,{"$f":"INDEX(Lists!$B$32:$B$40, MATCH(2020-C27838, Lists!$C$32:$C$40,1))","v":"51-60"},{"$f":"SUMPRODUCT((Data!$B$17:$B$19=Model!$F27838)*(Data!$C$16:$K$16=Model!$K27838)*(Data!$C$17:$K$19))","v":2.57},102.01,{"$f":"_xlfn.IFS(M27838>70,\"Serviceable\",M27838>30, \"Limited Life\",M27838<=30, \"Unserviceable\")","v":"Serviceable"}]
[null,46248,1967,"Wood Salt Impregnated (Green)","Serviceable","Class 3",2018,140,134.54,7,{"$f":"INDEX(Lists!$B$32:$B$40, MATCH(2020-C27944, Lists!$C$32:$C$40,1))","v":"51-60"},{"$f":"SUMPRODUCT((Data!$B$17:$B$19=Model!$F27944)*(Data!$C$16:$K$16=Model!$K27944)*(Data!$C$17:$K$19))","v":2.73},120.89,{"$f":"_xlfn.IFS(M27944>70,\"Serviceable\",M27944>30, \"Limited Life\",M27944<=30, \"Unserviceable\")","v":"Serviceable"}]
[null,46372,1987,"Wood Untreated Dressed","Serviceable","Class 1",2019,120,117.48,6,{"$f":"INDEX(Lists!$B$32:$B$40, MATCH(2020-C28029, Lists!$C$32:$C$40,1))","v":"31-40"},{"$f":"SUMPRODUCT((Data!$B$17:$B$19=Model!$F28029)*(Data!$C$16:$K$16=Model!$K28029)*(Data!$C$17:$K$19))","v":2.52},104.88,{"$f":"_xlfn.IFS(M28029>70,\"Serviceable\",M28029>30, \"Limited Life\",M28029<=30, \"Unserviceable\")","v":"Serviceable"}]
[null,46399,1950,"Wood Untreated Round","Serviceable","Class 1",2019,100,97.97,6,{"$f":"INDEX(Lists!$B$32:$B$40, MATCH(2020-C28047, Lists!$C$32:$C$40,1))","v":"61-70"},{"$f":"SUMPRODUCT((Data!$B$17:$B$19=Model!$F28047)*(Data!$C$16:$K$16=Model!$K28047)*(Data!$C$17:$K$19))","v":2.0299999999999998},87.82,{"$f":"_xlfn.IFS(M28047>70,\"Serviceable\",M28047>30, \"Limited Life\",M28047<=30, \"Unserviceable\")","v":"Serviceable"}]
[null,46502,2002,"CCA Treated Pole","Serviceable","Class 1",2019,150,148.94,6,{"$f":"INDEX(Lists!$B$32:$B$40, MATCH(2020-C28114, Lists!$C$32:$C$40,1))","v":"0-20"},{"$f":"SUMPRODUCT((Data!$B$17:$B$19=Model!$F28114)*(Data!$C$16:$K$16=Model!$K28114)*(Data!$C$17:$K$19))","v":1.06},143.63999999999999,{"$f":"_xlfn.IFS(M28114>70,\"Serviceable\",M28114>30, \"Limited Life\",M28114<=30, \"Unserviceable\")","v":"Serviceable"}]
[null,46657,1969,"Wood Creos Impregnated","Serviceable","Class 3",2018,100,94.54,7,{"$f":"INDEX(Lists!$B$32:$B$40, MATCH(2020-C28209, Lists!$C$32:$C$40,1))","v":"51-60"},{"$f":"SUMPRODUCT((Data!$B$17:$B$19=Model!$F28209)*(Data!$C$16:$K$16=Model!$K28209)*(Data!$C$17:$K$19))","v":2.73},80.89,{"$f":"_xlfn.IFS(M28209>70,\"Serviceable\",M28209>30, \"Limited Life\",M28209<=30, \"Unserviceable\")","v":"Serviceable"}]
[null,46740,1986,"Wood Untreated Dressed","Serviceable","Class 1",2018,100,94.96,7,{"$f":"INDEX(Lists!$B$32:$B$40, MATCH(2020-C28267, Lists!$C$32:$C$40,1))","v":"31-40"},{"$f":"SUMPRODUCT((Data!$B$17:$B$19=Model!$F28267)*(Data!$C$16:$K$16=Model!$K28267)*(Data!$C$17:$K$19))","v":2.52},82.36,{"$f":"_xlfn.IFS(M28267>70,\"Serviceable\",M28267>30, \"Limited Life\",M28267<=30, \"Unserviceable\")","v":"Serviceable"}]
[null,46861,1969,"Wood Creos Impregnated","Serviceable","Class 3",2018,100,94.54,7,{"$f":"INDEX(Lists!$B$32:$B$40, MATCH(2020-C28352, Lists!$C$32:$C$40,1))","v":"51-60"},{"$f":"SUMPRODUCT((Data!$B$17:$B$19=Model!$F28352)*(Data!$C$16:$K$16=Model!$K28352)*(Data!$C$17:$K$19))","v":2.73},80.89,{"$f":"_xlfn.IFS(M28352>70,\"Serviceable\",M28352>30, \"Limited Life\",M28352<=30, \"Unserviceable\")","v":"Serviceable"}]
[null,46902,1984,"Wood Untreated Dressed","Serviceable","Class 1",2019,110,107.48,6,{"$f":"INDEX(Lists!$B$32:$B$40, MATCH(2020-C28385, Lists!$C$32:$C$40,1))","v":"31-40"},{"$f":"SUMPRODUCT((Data!$B$17:$B$19=Model!$F28385)*(Data!$C$16:$K$16=Model!$K28385)*(Data!$C$17:$K$19))","v":2.52},94.88,{"$f":"_xlfn.IFS(M28385>70,\"Serviceable\",M28385>30, \"Limited Life\",M28385<=30, \"Unserviceable\")","v":"Serviceable"}]
[null,46993,1976,"Wood Creos Impregnated","Serviceable","Class 1",2019,120,118.25,6,{"$f":"INDEX(Lists!$B$32:$B$40, MATCH(2020-C28437, Lists!$C$32:$C$40,1))","v":"41-50"},{"$f":"SUMPRODUCT((Data!$B$17:$B$19=Model!$F28437)*(Data!$C$16:$K$16=Model!$K28437)*(Data!$C$17:$K$19))","v":1.75},109.5,{"$f":"_xlfn.IFS(M28437>70,\"Serviceable\",M28437>30, \"Limited Life\",M28437<=30, \"Unserviceable\")","v":"Serviceable"}]
[null,47105,1968,"Wood Creos Impregnated","Serviceable","Class 3",2018,100,94.54,7,{"$f":"INDEX(Lists!$B$32:$B$40, MATCH(2020-C28513, Lists!$C$32:$C$40,1))","v":"51-60"},{"$f":"SUMPRODUCT((Data!$B$17:$B$19=Model!$F28513)*(Data!$C$16:$K$16=Model!$K28513)*(Data!$C$17:$K$19))","v":2.73},80.89,{"$f":"_xlfn.IFS(M28513>70,\"Serviceable\",M28513>30, \"Limited Life\",M28513<=30, \"Unserviceable\")","v":"Serviceable"}]
[null,47214,1973,"Wood Creos Impregnated","Serviceable","Class 1",2018,100,96.5,7,{"$f":"INDEX(Lists!$B$32:$B$40, MATCH(2020-C28590, Lists!$C$32:$C$40,1))","v":"41-50"},{"$f":"SUMPRODUCT((Data!$B$17:$B$19=Model!$F28590)*(Data!$C$16:$K$16=Model!$K28590)*(Data!$C$17:$K$19))","v":1.75},87.75,{"$f":"_xlfn.IFS(M28590>70,\"Serviceable\",M28590>30, \"Limited Life\",M28590<=30, \"Unserviceable\")","v":"Serviceable"}]
[null,47338,1988,"Wood Untreated Dressed","Serviceable","Class 1",2019,120,117.48,6,{"$f":"INDEX(Lists!$B$32:$B$40, MATCH(2020-C28675, Lists!$C$32:$C$40,1))","v":"31-40"},{"$f":"SUMPRODUCT((Data!$B$17:$B$19=Model!$F28675)*(Data!$C$16:$K$16=Model!$K28675)*(Data!$C$17:$K$19))","v":2.52},104.88,{"$f":"_xlfn.IFS(M28675>70,\"Serviceable\",M28675>30, \"Limited Life\",M28675<=30, \"Unserviceable\")","v":"Serviceable"}]
[null,47451,1950,"Wood Untreated Round","Serviceable","Class 1",2018,100,95.94,7,{"$f":"INDEX(Lists!$B$32:$B$40, MATCH(2020-C28756, Lists!$C$32:$C$40,1))","v":"61-70"},{"$f":"SUMPRODUCT((Data!$B$17:$B$19=Model!$F28756)*(Data!$C$16:$K$16=Model!$K28756)*(Data!$C$17:$K$19))","v":2.0299999999999998},85.79,{"$f":"_xlfn.IFS(M28756>70,\"Serviceable\",M28756>30, \"Limited Life\",M28756<=30, \"Unserviceable\")","v":"Serviceable"}]
[null,47569,1965,"Wood Other","Serviceable","Class 3",2018,90,84.54,7,{"$f":"INDEX(Lists!$B$32:$B$40, MATCH(2020-C28828, Lists!$C$32:$C$40,1))","v":"51-60"},{"$f":"SUMPRODUCT((Data!$B$17:$B$19=Model!$F28828)*(Data!$C$16:$K$16=Model!$K28828)*(Data!$C$17:$K$19))","v":2.73},70.89,{"$f":"_xlfn.IFS(M28828>70,\"Serviceable\",M28828>30, \"Limited Life\",M28828<=30, \"Unserviceable\")","v":"Serviceable"}]
[null,47647,1960,"Wood Creos Impregnated","Serviceable","Class 3",2019,100,97.27,6,{"$f":"INDEX(Lists!$B$32:$B$40, MATCH(2020-C28884, Lists!$C$32:$C$40,1))","v":"51-60"},{"$f":"SUMPRODUCT((Data!$B$17:$B$19=Model!$F28884)*(Data!$C$16:$K$16=Model!$K28884)*(Data!$C$17:$K$19))","v":2.73},83.62,{"$f":"_xlfn.IFS(M28884>70,\"Serviceable\",M28884>30, \"Limited Life\",M28884<=30, \"Unserviceable\")","v":"Serviceable"}]
[null,47692,1976,"Wood Creos Impregnated","Serviceable","Class 1",2019,110,108.25,6,{"$f":"INDEX(Lists!$B$32:$B$40, MATCH(2020-C28913, Lists!$C$32:$C$40,1))","v":"41-50"},{"$f":"SUMPRODUCT((Data!$B$17:$B$19=Model!$F28913)*(Data!$C$16:$K$16=Model!$K28913)*(Data!$C$17:$K$19))","v":1.75},99.5,{"$f":"_xlfn.IFS(M28913>70,\"Serviceable\",M28913>30, \"Limited Life\",M28913<=30, \"Unserviceable\")","v":"Serviceable"}]
[null,47831,1970,"Wood Creos Impregnated","Serviceable","Class 3",2018,100,92.44,7,{"$f":"INDEX(Lists!$B$32:$B$40, MATCH(2020-C28998, Lists!$C$32:$C$40,1))","v":"41-50"},{"$f":"SUMPRODUCT((Data!$B$17:$B$19=Model!$F28998)*(Data!$C$16:$K$16=Model!$K28998)*(Data!$C$17:$K$19))","v":3.78},73.540000000000006,{"$f":"_xlfn.IFS(M28998>70,\"Serviceable\",M28998>30, \"Limited Life\",M28998<=30, \"Unserviceable\")","v":"Serviceable"}]
[null,47933,1950,"Wood Untreated Round","Limited Life","Class 1",2019,65,62.97,6,{"$f":"INDEX(Lists!$B$32:$B$40, MATCH(2020-C29060, Lists!$C$32:$C$40,1))","v":"61-70"},{"$f":"SUMPRODUCT((Data!$B$17:$B$19=Model!$F29060)*(Data!$C$16:$K$16=Model!$K29060)*(Data!$C$17:$K$19))","v":2.0299999999999998},52.82,{"$f":"_xlfn.IFS(M29060>70,\"Serviceable\",M29060>30, \"Limited Life\",M29060<=30, \"Unserviceable\")","v":"Limited Life"}]
[null,48066,1971,"Wood Creos Impregnated","Serviceable","Class 3",2018,100,92.44,7,{"$f":"INDEX(Lists!$B$32:$B$40, MATCH(2020-C29151, Lists!$C$32:$C$40,1))","v":"41-50"},{"$f":"SUMPRODUCT((Data!$B$17:$B$19=Model!$F29151)*(Data!$C$16:$K$16=Model!$K29151)*(Data!$C$17:$K$19))","v":3.78},73.540000000000006,{"$f":"_xlfn.IFS(M29151>70,\"Serviceable\",M29151>30, \"Limited Life\",M29151<=30, \"Unserviceable\")","v":"Serviceable"}]
[null,48201,1983,"Wood Creos Impregnated","Serviceable","Class 3",2018,100,93.56,7,{"$f":"INDEX(Lists!$B$32:$B$40, MATCH(2020-C29236, Lists!$C$32:$C$40,1))","v":"31-40"},{"$f":"SUMPRODUCT((Data!$B$17:$B$19=Model!$F29236)*(Data!$C$16:$K$16=Model!$K29236)*(Data!$C$17:$K$19))","v":3.22},77.459999999999994,{"$f":"_xlfn.IFS(M29236>70,\"Serviceable\",M29236>30, \"Limited Life\",M29236<=30, \"Unserviceable\")","v":"Serviceable"}]
[null,48302,1965,"Wood Creos Impregnated","Serviceable","Class 3",2019,100,97.27,6,{"$f":"INDEX(Lists!$B$32:$B$40, MATCH(2020-C29303, Lists!$C$32:$C$40,1))","v":"51-60"},{"$f":"SUMPRODUCT((Data!$B$17:$B$19=Model!$F29303)*(Data!$C$16:$K$16=Model!$K29303)*(Data!$C$17:$K$19))","v":2.73},83.62,{"$f":"_xlfn.IFS(M29303>70,\"Serviceable\",M29303>30, \"Limited Life\",M29303<=30, \"Unserviceable\")","v":"Serviceable"}]
[null,48329,1965,"Wood Creos Impregnated","Serviceable","Class 3",2019,90,87.27,6,{"$f":"INDEX(Lists!$B$32:$B$40, MATCH(2020-C29321, Lists!$C$32:$C$40,1))","v":"51-60"},{"$f":"SUMPRODUCT((Data!$B$17:$B$19=Model!$F29321)*(Data!$C$16:$K$16=Model!$K29321)*(Data!$C$17:$K$19))","v":2.73},73.62,{"$f":"_xlfn.IFS(M29321>70,\"Serviceable\",M29321>30, \"Limited Life\",M29321<=30, \"Unserviceable\")","v":"Serviceable"}]
[null,48479,1965,"Wood Creos Impregnated","Serviceable","Class 3",2020,100,100,5,{"$f":"INDEX(Lists!$B$32:$B$40, MATCH(2020-C29431, Lists!$C$32:$C$40,1))","v":"51-60"},{"$f":"SUMPRODUCT((Data!$B$17:$B$19=Model!$F29431)*(Data!$C$16:$K$16=Model!$K29431)*(Data!$C$17:$K$19))","v":2.73},86.35,{"$f":"_xlfn.IFS(M29431>70,\"Serviceable\",M29431>30, \"Limited Life\",M29431<=30, \"Unserviceable\")","v":"Serviceable"}]
[null,48541,2001,"CCA Treated Pole","Serviceable","Class 1",2019,150,148.94,6,{"$f":"INDEX(Lists!$B$32:$B$40, MATCH(2020-C29474, Lists!$C$32:$C$40,1))","v":"0-20"},{"$f":"SUMPRODUCT((Data!$B$17:$B$19=Model!$F29474)*(Data!$C$16:$K$16=Model!$K29474)*(Data!$C$17:$K$19))","v":1.06},143.63999999999999,{"$f":"_xlfn.IFS(M29474>70,\"Serviceable\",M29474>30, \"Limited Life\",M29474<=30, \"Unserviceable\")","v":"Serviceable"}]
[null,48667,1965,"Wood Creos Impregnated","Serviceable","Class 3",2019,80,77.27,6,{"$f":"INDEX(Lists!$B$32:$B$40, MATCH(2020-C29559, Lists!$C$32:$C$40,1))","v":"51-60"},{"$f":"SUMPRODUCT((Data!$B$17:$B$19=Model!$F29559)*(Data!$C$16:$K$16=Model!$K29559)*(Data!$C$17:$K$19))","v":2.73},63.620000000000005,{"$f":"_xlfn.IFS(M29559>70,\"Serviceable\",M29559>30, \"Limited Life\",M29559<=30, \"Unserviceable\")","v":"Limited Life"}]
[null,48743,1950,"Wood Untreated Round","Serviceable","Class 1",2020,100,100,5,{"$f":"INDEX(Lists!$B$32:$B$40, MATCH(2020-C29607, Lists!$C$32:$C$40,1))","v":"61-70"},{"$f":"SUMPRODUCT((Data!$B$17:$B$19=Model!$F29607)*(Data!$C$16:$K$16=Model!$K29607)*(Data!$C$17:$K$19))","v":2.0299999999999998},89.85,{"$f":"_xlfn.IFS(M29607>70,\"Serviceable\",M29607>30, \"Limited Life\",M29607<=30, \"Unserviceable\")","v":"Serviceable"}]
[null,48887,1967,"Wood Creos Impregnated","Serviceable","Class 3",2018,100,94.54,7,{"$f":"INDEX(Lists!$B$32:$B$40, MATCH(2020-C29712, Lists!$C$32:$C$40,1))","v":"51-60"},{"$f":"SUMPRODUCT((Data!$B$17:$B$19=Model!$F29712)*(Data!$C$16:$K$16=Model!$K29712)*(Data!$C$17:$K$19))","v":2.73},80.89,{"$f":"_xlfn.IFS(M29712>70,\"Serviceable\",M29712>30, \"Limited Life\",M29712<=30, \"Unserviceable\")","v":"Serviceable"}]
[null,48921,1954,"Wood Untreated Round","Serviceable","Class 1",2019,120,117.97,6,{"$f":"INDEX(Lists!$B$32:$B$40, MATCH(2020-C29735, Lists!$C$32:$C$40,1))","v":"61-70"},{"$f":"SUMPRODUCT((Data!$B$17:$B$19=Model!$F29735)*(Data!$C$16:$K$16=Model!$K29735)*(Data!$C$17:$K$19))","v":2.0299999999999998},107.82,{"$f":"_xlfn.IFS(M29735>70,\"Serviceable\",M29735>30, \"Limited Life\",M29735<=30, \"Unserviceable\")","v":"Serviceable"}]
[null,49024,1958,"Wood Untreated Round","Serviceable","Class 1",2018,110,105.94,7,{"$f":"INDEX(Lists!$B$32:$B$40, MATCH(2020-C29813, Lists!$C$32:$C$40,1))","v":"61-70"},{"$f":"SUMPRODUCT((Data!$B$17:$B$19=Model!$F29813)*(Data!$C$16:$K$16=Model!$K29813)*(Data!$C$17:$K$19))","v":2.0299999999999998},95.79,{"$f":"_xlfn.IFS(M29813>70,\"Serviceable\",M29813>30, \"Limited Life\",M29813<=30, \"Unserviceable\")","v":"Serviceable"}]
[null,49123,1966,"Wood Creos Impregnated","Serviceable","Class 3",2018,120,114.54,7,{"$f":"INDEX(Lists!$B$32:$B$40, MATCH(2020-C29882, Lists!$C$32:$C$40,1))","v":"51-60"},{"$f":"SUMPRODUCT((Data!$B$17:$B$19=Model!$F29882)*(Data!$C$16:$K$16=Model!$K29882)*(Data!$C$17:$K$19))","v":2.73},100.89,{"$f":"_xlfn.IFS(M29882>70,\"Serviceable\",M29882>30, \"Limited Life\",M29882<=30, \"Unserviceable\")","v":"Serviceable"}]
[null,49263,1977,"Wood Untreated Dressed","Serviceable","Class 1",2019,100,98.25,6,{"$f":"INDEX(Lists!$B$32:$B$40, MATCH(2020-C29978, Lists!$C$32:$C$40,1))","v":"41-50"},{"$f":"SUMPRODUCT((Data!$B$17:$B$19=Model!$F29978)*(Data!$C$16:$K$16=Model!$K29978)*(Data!$C$17:$K$19))","v":1.75},89.5,{"$f":"_xlfn.IFS(M29978>70,\"Serviceable\",M29978>30, \"Limited Life\",M29978<=30, \"Unserviceable\")","v":"Serviceable"}]
[null,49354,1972,"Wood Creos Impregnated","Serviceable","Class 3",2018,120,112.44,7,{"$f":"INDEX(Lists!$B$32:$B$40, MATCH(2020-C30035, Lists!$C$32:$C$40,1))","v":"41-50"},{"$f":"SUMPRODUCT((Data!$B$17:$B$19=Model!$F30035)*(Data!$C$16:$K$16=Model!$K30035)*(Data!$C$17:$K$19))","v":3.78},93.54,{"$f":"_xlfn.IFS(M30035>70,\"Serviceable\",M30035>30, \"Limited Life\",M30035<=30, \"Unserviceable\")","v":"Serviceable"}]
[null,49473,1968,"Wood Creos Impregnated","Serviceable","Class 3",2018,100,94.54,7,{"$f":"INDEX(Lists!$B$32:$B$40, MATCH(2020-C30120, Lists!$C$32:$C$40,1))","v":"51-60"},{"$f":"SUMPRODUCT((Data!$B$17:$B$19=Model!$F30120)*(Data!$C$16:$K$16=Model!$K30120)*(Data!$C$17:$K$19))","v":2.73},80.89,{"$f":"_xlfn.IFS(M30120>70,\"Serviceable\",M30120>30, \"Limited Life\",M30120<=30, \"Unserviceable\")","v":"Serviceable"}]
[null,49516,1972,"Wood Creos Impregnated","Serviceable","Class 1",2018,120,116.5,7,{"$f":"INDEX(Lists!$B$32:$B$40, MATCH(2020-C30154, Lists!$C$32:$C$40,1))","v":"41-50"},{"$f":"SUMPRODUCT((Data!$B$17:$B$19=Model!$F30154)*(Data!$C$16:$K$16=Model!$K30154)*(Data!$C$17:$K$19))","v":1.75},107.75,{"$f":"_xlfn.IFS(M30154>70,\"Serviceable\",M30154>30, \"Limited Life\",M30154<=30, \"Unserviceable\")","v":"Serviceable"}]
[null,49599,1984,"Wood Untreated Dressed","Serviceable","Class 1",2018,130,124.96,7,{"$f":"INDEX(Lists!$B$32:$B$40, MATCH(2020-C30205, Lists!$C$32:$C$40,1))","v":"31-40"},{"$f":"SUMPRODUCT((Data!$B$17:$B$19=Model!$F30205)*(Data!$C$16:$K$16=Model!$K30205)*(Data!$C$17:$K$19))","v":2.52},112.36,{"$f":"_xlfn.IFS(M30205>70,\"Serviceable\",M30205>30, \"Limited Life\",M30205<=30, \"Unserviceable\")","v":"Serviceable"}]
[null,49718,1960,"Wood Creos Impregnated","Serviceable","Class 3",2019,100,97.27,6,{"$f":"INDEX(Lists!$B$32:$B$40, MATCH(2020-C30282, Lists!$C$32:$C$40,1))","v":"51-60"},{"$f":"SUMPRODUCT((Data!$B$17:$B$19=Model!$F30282)*(Data!$C$16:$K$16=Model!$K30282)*(Data!$C$17:$K$19))","v":2.73},83.62,{"$f":"_xlfn.IFS(M30282>70,\"Serviceable\",M30282>30, \"Limited Life\",M30282<=30, \"Unserviceable\")","v":"Serviceable"}]
[null,49841,2001,"CCA Treated Pole","Serviceable","Class 1",2017,140,136.82,8,{"$f":"INDEX(Lists!$B$32:$B$40, MATCH(2020-C30358, Lists!$C$32:$C$40,1))","v":"0-20"},{"$f":"SUMPRODUCT((Data!$B$17:$B$19=Model!$F30358)*(Data!$C$16:$K$16=Model!$K30358)*(Data!$C$17:$K$19))","v":1.06},131.52000000000001,{"$f":"_xlfn.IFS(M30358>70,\"Serviceable\",M30358>30, \"Limited Life\",M30358<=30, \"Unserviceable\")","v":"Serviceable"}]
[null,49971,1973,"Wood Creos Impregnated","Serviceable","Class 3",2018,90,82.44,7,{"$f":"INDEX(Lists!$B$32:$B$40, MATCH(2020-C30443, Lists!$C$32:$C$40,1))","v":"41-50"},{"$f":"SUMPRODUCT((Data!$B$17:$B$19=Model!$F30443)*(Data!$C$16:$K$16=Model!$K30443)*(Data!$C$17:$K$19))","v":3.78},63.540000000000006,{"$f":"_xlfn.IFS(M30443>70,\"Serviceable\",M30443>30, \"Limited Life\",M30443<=30, \"Unserviceable\")","v":"Limited Life"}]
[null,50103,2012,"CCA Treated Pole","Serviceable","Class 2",2018,150,147.56,7,{"$f":"INDEX(Lists!$B$32:$B$40, MATCH(2020-C30525, Lists!$C$32:$C$40,1))","v":"0-20"},{"$f":"SUMPRODUCT((Data!$B$17:$B$19=Model!$F30525)*(Data!$C$16:$K$16=Model!$K30525)*(Data!$C$17:$K$19))","v":1.22},141.46,{"$f":"_xlfn.IFS(M30525>70,\"Serviceable\",M30525>30, \"Limited Life\",M30525<=30, \"Unserviceable\")","v":"Serviceable"}]
[null,50212,1969,"Wood Creos Impregnated","Serviceable","Class 2",2017,110,102.29,8,{"$f":"INDEX(Lists!$B$32:$B$40, MATCH(2020-C30596, Lists!$C$32:$C$40,1))","v":"51-60"},{"$f":"SUMPRODUCT((Data!$B$17:$B$19=Model!$F30596)*(Data!$C$16:$K$16=Model!$K30596)*(Data!$C$17:$K$19))","v":2.57},89.44,{"$f":"_xlfn.IFS(M30596>70,\"Serviceable\",M30596>30, \"Limited Life\",M30596<=30, \"Unserviceable\")","v":"Serviceable"}]
[null,50298,1964,"Wood Creos Impregnated","Serviceable","Class 3",2018,120,114.54,7,{"$f":"INDEX(Lists!$B$32:$B$40, MATCH(2020-C30653, Lists!$C$32:$C$40,1))","v":"51-60"},{"$f":"SUMPRODUCT((Data!$B$17:$B$19=Model!$F30653)*(Data!$C$16:$K$16=Model!$K30653)*(Data!$C$17:$K$19))","v":2.73},100.89,{"$f":"_xlfn.IFS(M30653>70,\"Serviceable\",M30653>30, \"Limited Life\",M30653<=30, \"Unserviceable\")","v":"Serviceable"}]
[null,50371,1967,"Wood Creos Impregnated","Serviceable","Class 3",2018,100,94.54,7,{"$f":"INDEX(Lists!$B$32:$B$40, MATCH(2020-C30697, Lists!$C$32:$C$40,1))","v":"51-60"},{"$f":"SUMPRODUCT((Data!$B$17:$B$19=Model!$F30697)*(Data!$C$16:$K$16=Model!$K30697)*(Data!$C$17:$K$19))","v":2.73},80.89,{"$f":"_xlfn.IFS(M30697>70,\"Serviceable\",M30697>30, \"Limited Life\",M30697<=30, \"Unserviceable\")","v":"Serviceable"}]
[null,50461,1960,"Wood Creos Impregnated","Serviceable","Class 3",2020,80,80,5,{"$f":"INDEX(Lists!$B$32:$B$40, MATCH(2020-C30766, Lists!$C$32:$C$40,1))","v":"51-60"},{"$f":"SUMPRODUCT((Data!$B$17:$B$19=Model!$F30766)*(Data!$C$16:$K$16=Model!$K30766)*(Data!$C$17:$K$19))","v":2.73},66.349999999999994,{"$f":"_xlfn.IFS(M30766>70,\"Serviceable\",M30766>30, \"Limited Life\",M30766<=30, \"Unserviceable\")","v":"Limited Life"}]
[null,50553,1971,"Wood Creos Impregnated","Serviceable","Class 3",2019,100,96.22,6,{"$f":"INDEX(Lists!$B$32:$B$40, MATCH(2020-C30829, Lists!$C$32:$C$40,1))","v":"41-50"},{"$f":"SUMPRODUCT((Data!$B$17:$B$19=Model!$F30829)*(Data!$C$16:$K$16=Model!$K30829)*(Data!$C$17:$K$19))","v":3.78},77.319999999999993,{"$f":"_xlfn.IFS(M30829>70,\"Serviceable\",M30829>30, \"Limited Life\",M30829<=30, \"Unserviceable\")","v":"Serviceable"}]
[null,50701,1969,"Wood Creos Impregnated","Serviceable","Class 3",2018,100,94.54,7,{"$f":"INDEX(Lists!$B$32:$B$40, MATCH(2020-C30919, Lists!$C$32:$C$40,1))","v":"51-60"},{"$f":"SUMPRODUCT((Data!$B$17:$B$19=Model!$F30919)*(Data!$C$16:$K$16=Model!$K30919)*(Data!$C$17:$K$19))","v":2.73},80.89,{"$f":"_xlfn.IFS(M30919>70,\"Serviceable\",M30919>30, \"Limited Life\",M30919<=30, \"Unserviceable\")","v":"Serviceable"}]
[null,50758,1968,"Wood Creos Impregnated","Serviceable","Class 3",2017,100,91.81,8,{"$f":"INDEX(Lists!$B$32:$B$40, MATCH(2020-C30957, Lists!$C$32:$C$40,1))","v":"51-60"},{"$f":"SUMPRODUCT((Data!$B$17:$B$19=Model!$F30957)*(Data!$C$16:$K$16=Model!$K30957)*(Data!$C$17:$K$19))","v":2.73},78.16,{"$f":"_xlfn.IFS(M30957>70,\"Serviceable\",M30957>30, \"Limited Life\",M30957<=30, \"Unserviceable\")","v":"Serviceable"}]
[null,50849,1968,"Wood Creos Impregnated","Serviceable","Class 3",2018,100,94.54,7,{"$f":"INDEX(Lists!$B$32:$B$40, MATCH(2020-C31020, Lists!$C$32:$C$40,1))","v":"51-60"},{"$f":"SUMPRODUCT((Data!$B$17:$B$19=Model!$F31020)*(Data!$C$16:$K$16=Model!$K31020)*(Data!$C$17:$K$19))","v":2.73},80.89,{"$f":"_xlfn.IFS(M31020>70,\"Serviceable\",M31020>30, \"Limited Life\",M31020<=30, \"Unserviceable\")","v":"Serviceable"}]
[null,50949,1996,"CCA Treated Pole","Serviceable","Class 1",2018,150,146.08000000000001,7,{"$f":"INDEX(Lists!$B$32:$B$40, MATCH(2020-C31089, Lists!$C$32:$C$40,1))","v":"21-30"},{"$f":"SUMPRODUCT((Data!$B$17:$B$19=Model!$F31089)*(Data!$C$16:$K$16=Model!$K31089)*(Data!$C$17:$K$19))","v":1.96},136.28,{"$f":"_xlfn.IFS(M31089>70,\"Serviceable\",M31089>30, \"Limited Life\",M31089<=30, \"Unserviceable\")","v":"Serviceable"}]
[null,51108,1981,"Wood Untreated Dressed","Serviceable","Class 1",2020,100,100,5,{"$f":"INDEX(Lists!$B$32:$B$40, MATCH(2020-C31200, Lists!$C$32:$C$40,1))","v":"31-40"},{"$f":"SUMPRODUCT((Data!$B$17:$B$19=Model!$F31200)*(Data!$C$16:$K$16=Model!$K31200)*(Data!$C$17:$K$19))","v":2.52},87.4,{"$f":"_xlfn.IFS(M31200>70,\"Serviceable\",M31200>30, \"Limited Life\",M31200<=30, \"Unserviceable\")","v":"Serviceable"}]
[null,51166,1984,"Wood Untreated Dressed","Serviceable","Class 1",2018,150,144.96,7,{"$f":"INDEX(Lists!$B$32:$B$40, MATCH(2020-C31242, Lists!$C$32:$C$40,1))","v":"31-40"},{"$f":"SUMPRODUCT((Data!$B$17:$B$19=Model!$F31242)*(Data!$C$16:$K$16=Model!$K31242)*(Data!$C$17:$K$19))","v":2.52},132.36000000000001,{"$f":"_xlfn.IFS(M31242>70,\"Serviceable\",M31242>30, \"Limited Life\",M31242<=30, \"Unserviceable\")","v":"Serviceable"}]
[null,51306,1969,"Wood Creos Impregnated","Serviceable","Class 3",2017,100,91.81,8,{"$f":"INDEX(Lists!$B$32:$B$40, MATCH(2020-C31327, Lists!$C$32:$C$40,1))","v":"51-60"},{"$f":"SUMPRODUCT((Data!$B$17:$B$19=Model!$F31327)*(Data!$C$16:$K$16=Model!$K31327)*(Data!$C$17:$K$19))","v":2.73},78.16,{"$f":"_xlfn.IFS(M31327>70,\"Serviceable\",M31327>30, \"Limited Life\",M31327<=30, \"Unserviceable\")","v":"Serviceable"}]
[null,51383,1956,"Wood Untreated Dressed","Serviceable","Class 3",2018,80,75.959999999999994,7,{"$f":"INDEX(Lists!$B$32:$B$40, MATCH(2020-C31376, Lists!$C$32:$C$40,1))","v":"61-70"},{"$f":"SUMPRODUCT((Data!$B$17:$B$19=Model!$F31376)*(Data!$C$16:$K$16=Model!$K31376)*(Data!$C$17:$K$19))","v":2.02},65.86,{"$f":"_xlfn.IFS(M31376>70,\"Serviceable\",M31376>30, \"Limited Life\",M31376<=30, \"Unserviceable\")","v":"Limited Life"}]
[null,51447,1958,"Wood Creos Impregnated","Serviceable","Class 3",2019,90,87.98,6,{"$f":"INDEX(Lists!$B$32:$B$40, MATCH(2020-C31412, Lists!$C$32:$C$40,1))","v":"61-70"},{"$f":"SUMPRODUCT((Data!$B$17:$B$19=Model!$F31412)*(Data!$C$16:$K$16=Model!$K31412)*(Data!$C$17:$K$19))","v":2.02},77.88,{"$f":"_xlfn.IFS(M31412>70,\"Serviceable\",M31412>30, \"Limited Life\",M31412<=30, \"Unserviceable\")","v":"Serviceable"}]
[null,51584,1986,"Wood Untreated Dressed","Serviceable","Class 1",2018,150,144.96,7,{"$f":"INDEX(Lists!$B$32:$B$40, MATCH(2020-C31504, Lists!$C$32:$C$40,1))","v":"31-40"},{"$f":"SUMPRODUCT((Data!$B$17:$B$19=Model!$F31504)*(Data!$C$16:$K$16=Model!$K31504)*(Data!$C$17:$K$19))","v":2.52},132.36000000000001,{"$f":"_xlfn.IFS(M31504>70,\"Serviceable\",M31504>30, \"Limited Life\",M31504<=30, \"Unserviceable\")","v":"Serviceable"}]
[null,51690,1964,"Wood Untreated Round","Serviceable","Class 1",2018,100,96.7,7,{"$f":"INDEX(Lists!$B$32:$B$40, MATCH(2020-C31581, Lists!$C$32:$C$40,1))","v":"51-60"},{"$f":"SUMPRODUCT((Data!$B$17:$B$19=Model!$F31581)*(Data!$C$16:$K$16=Model!$K31581)*(Data!$C$17:$K$19))","v":1.65},88.45,{"$f":"_xlfn.IFS(M31581>70,\"Serviceable\",M31581>30, \"Limited Life\",M31581<=30, \"Unserviceable\")","v":"Serviceable"}]
[null,51783,1968,"Wood Creos Impregnated","Serviceable","Class 3",2018,120,114.54,7,{"$f":"INDEX(Lists!$B$32:$B$40, MATCH(2020-C31650, Lists!$C$32:$C$40,1))","v":"51-60"},{"$f":"SUMPRODUCT((Data!$B$17:$B$19=Model!$F31650)*(Data!$C$16:$K$16=Model!$K31650)*(Data!$C$17:$K$19))","v":2.73},100.89,{"$f":"_xlfn.IFS(M31650>70,\"Serviceable\",M31650>30, \"Limited Life\",M31650<=30, \"Unserviceable\")","v":"Serviceable"}]
[null,51933,1972,"Wood Creos Impregnated","Serviceable","Class 3",2017,100,88.66,8,{"$f":"INDEX(Lists!$B$32:$B$40, MATCH(2020-C31747, Lists!$C$32:$C$40,1))","v":"41-50"},{"$f":"SUMPRODUCT((Data!$B$17:$B$19=Model!$F31747)*(Data!$C$16:$K$16=Model!$K31747)*(Data!$C$17:$K$19))","v":3.78},69.760000000000005,{"$f":"_xlfn.IFS(M31747>70,\"Serviceable\",M31747>30, \"Limited Life\",M31747<=30, \"Unserviceable\")","v":"Limited Life"}]
[null,52003,1970,"Wood Creos Impregnated","Serviceable","Class 3",2019,90,86.22,6,{"$f":"INDEX(Lists!$B$32:$B$40, MATCH(2020-C31803, Lists!$C$32:$C$40,1))","v":"41-50"},{"$f":"SUMPRODUCT((Data!$B$17:$B$19=Model!$F31803)*(Data!$C$16:$K$16=Model!$K31803)*(Data!$C$17:$K$19))","v":3.78},67.319999999999993,{"$f":"_xlfn.IFS(M31803>70,\"Serviceable\",M31803>30, \"Limited Life\",M31803<=30, \"Unserviceable\")","v":"Limited Life"}]
[null,52096,1955,"Wood Untreated Round","Serviceable","Class 1",2018,110,105.94,7,{"$f":"INDEX(Lists!$B$32:$B$40, MATCH(2020-C31875, Lists!$C$32:$C$40,1))","v":"61-70"},{"$f":"SUMPRODUCT((Data!$B$17:$B$19=Model!$F31875)*(Data!$C$16:$K$16=Model!$K31875)*(Data!$C$17:$K$19))","v":2.0299999999999998},95.79,{"$f":"_xlfn.IFS(M31875>70,\"Serviceable\",M31875>30, \"Limited Life\",M31875<=30, \"Unserviceable\")","v":"Serviceable"}]
[null,52152,1936,"Wood Untreated Dressed","Serviceable","Class 1",2019,90,87.19,6,{"$f":"INDEX(Lists!$B$32:$B$40, MATCH(2020-C31904, Lists!$C$32:$C$40,1))","v":"81-90"},{"$f":"SUMPRODUCT((Data!$B$17:$B$19=Model!$F31904)*(Data!$C$16:$K$16=Model!$K31904)*(Data!$C$17:$K$19))","v":2.81},73.14,{"$f":"_xlfn.IFS(M31904>70,\"Serviceable\",M31904>30, \"Limited Life\",M31904<=30, \"Unserviceable\")","v":"Serviceable"}]
[null,52250,1936,"Wood Untreated Dressed","Serviceable","Class 1",2020,120,120,5,{"$f":"INDEX(Lists!$B$32:$B$40, MATCH(2020-C31973, Lists!$C$32:$C$40,1))","v":"81-90"},{"$f":"SUMPRODUCT((Data!$B$17:$B$19=Model!$F31973)*(Data!$C$16:$K$16=Model!$K31973)*(Data!$C$17:$K$19))","v":2.81},105.95,{"$f":"_xlfn.IFS(M31973>70,\"Serviceable\",M31973>30, \"Limited Life\",M31973<=30, \"Unserviceable\")","v":"Serviceable"}]
[null,52388,1964,"Wood Creos Impregnated","Serviceable","Class 3",2020,100,100,5,{"$f":"INDEX(Lists!$B$32:$B$40, MATCH(2020-C32051, Lists!$C$32:$C$40,1))","v":"51-60"},{"$f":"SUMPRODUCT((Data!$B$17:$B$19=Model!$F32051)*(Data!$C$16:$K$16=Model!$K32051)*(Data!$C$17:$K$19))","v":2.73},86.35,{"$f":"_xlfn.IFS(M32051>70,\"Serviceable\",M32051>30, \"Limited Life\",M32051<=30, \"Unserviceable\")","v":"Serviceable"}]
[null,52529,2006,"CCA Treated Pole","Serviceable","Class 2",2017,162.49719689682513,158.83719689682513,8,{"$f":"INDEX(Lists!$B$32:$B$40, MATCH(2020-C32142, Lists!$C$32:$C$40,1))","v":"0-20"},{"$f":"SUMPRODUCT((Data!$B$17:$B$19=Model!$F32142)*(Data!$C$16:$K$16=Model!$K32142)*(Data!$C$17:$K$19))","v":1.22},152.73719689682514,{"$f":"_xlfn.IFS(M32142>70,\"Serviceable\",M32142>30, \"Limited Life\",M32142<=30, \"Unserviceable\")","v":"Serviceable"}]
[null,52659,1968,"Wood Creos Impregnated","Serviceable","Class 3",2017,100,91.81,8,{"$f":"INDEX(Lists!$B$32:$B$40, MATCH(2020-C32211, Lists!$C$32:$C$40,1))","v":"51-60"},{"$f":"SUMPRODUCT((Data!$B$17:$B$19=Model!$F32211)*(Data!$C$16:$K$16=Model!$K32211)*(Data!$C$17:$K$19))","v":2.73},78.16,{"$f":"_xlfn.IFS(M32211>70,\"Serviceable\",M32211>30, \"Limited Life\",M32211<=30, \"Unserviceable\")","v":"Serviceable"}]
[null,52683,1976,"Wood Creos Impregnated","Serviceable","Class 1",2018,150,146.5,7,{"$f":"INDEX(Lists!$B$32:$B$40, MATCH(2020-C32227, Lists!$C$32:$C$40,1))","v":"41-50"},{"$f":"SUMPRODUCT((Data!$B$17:$B$19=Model!$F32227)*(Data!$C$16:$K$16=Model!$K32227)*(Data!$C$17:$K$19))","v":1.75},137.75,{"$f":"_xlfn.IFS(M32227>70,\"Serviceable\",M32227>30, \"Limited Life\",M32227<=30, \"Unserviceable\")","v":"Serviceable"}]
[null,52797,1939,"Wood Untreated Dressed","Serviceable","Class 1",2019,90,87.19,6,{"$f":"INDEX(Lists!$B$32:$B$40, MATCH(2020-C32296, Lists!$C$32:$C$40,1))","v":"81-90"},{"$f":"SUMPRODUCT((Data!$B$17:$B$19=Model!$F32296)*(Data!$C$16:$K$16=Model!$K32296)*(Data!$C$17:$K$19))","v":2.81},73.14,{"$f":"_xlfn.IFS(M32296>70,\"Serviceable\",M32296>30, \"Limited Life\",M32296<=30, \"Unserviceable\")","v":"Serviceable"}]
[null,53080,1969,"Wood Creos Impregnated","Serviceable","Class 3",2018,90,84.54,7,{"$f":"INDEX(Lists!$B$32:$B$40, MATCH(2020-C32422, Lists!$C$32:$C$40,1))","v":"51-60"},{"$f":"SUMPRODUCT((Data!$B$17:$B$19=Model!$F32422)*(Data!$C$16:$K$16=Model!$K32422)*(Data!$C$17:$K$19))","v":2.73},70.89,{"$f":"_xlfn.IFS(M32422>70,\"Serviceable\",M32422>30, \"Limited Life\",M32422<=30, \"Unserviceable\")","v":"Serviceable"}]
[null,53170,1981,"Wood Untreated Dressed","Serviceable","Class 1",2018,130,124.96,7,{"$f":"INDEX(Lists!$B$32:$B$40, MATCH(2020-C32465, Lists!$C$32:$C$40,1))","v":"31-40"},{"$f":"SUMPRODUCT((Data!$B$17:$B$19=Model!$F32465)*(Data!$C$16:$K$16=Model!$K32465)*(Data!$C$17:$K$19))","v":2.52},112.36,{"$f":"_xlfn.IFS(M32465>70,\"Serviceable\",M32465>30, \"Limited Life\",M32465<=30, \"Unserviceable\")","v":"Serviceable"}]
[null,53324,1941,"Wood Untreated Dressed","Serviceable","Class 1",2018,80,75.7,7,{"$f":"INDEX(Lists!$B$32:$B$40, MATCH(2020-C32534, Lists!$C$32:$C$40,1))","v":"71-80"},{"$f":"SUMPRODUCT((Data!$B$17:$B$19=Model!$F32534)*(Data!$C$16:$K$16=Model!$K32534)*(Data!$C$17:$K$19))","v":2.15},64.95,{"$f":"_xlfn.IFS(M32534>70,\"Serviceable\",M32534>30, \"Limited Life\",M32534<=30, \"Unserviceable\")","v":"Limited Life"}]
[null,53445,1968,"Wood Creos Impregnated","Serviceable","Class 3",2018,100,94.54,7,{"$f":"INDEX(Lists!$B$32:$B$40, MATCH(2020-C32598, Lists!$C$32:$C$40,1))","v":"51-60"},{"$f":"SUMPRODUCT((Data!$B$17:$B$19=Model!$F32598)*(Data!$C$16:$K$16=Model!$K32598)*(Data!$C$17:$K$19))","v":2.73},80.89,{"$f":"_xlfn.IFS(M32598>70,\"Serviceable\",M32598>30, \"Limited Life\",M32598<=30, \"Unserviceable\")","v":"Serviceable"}]
[null,53600,1986,"Wood Untreated Dressed","Serviceable","Class 1",2018,150,144.96,7,{"$f":"INDEX(Lists!$B$32:$B$40, MATCH(2020-C32687, Lists!$C$32:$C$40,1))","v":"31-40"},{"$f":"SUMPRODUCT((Data!$B$17:$B$19=Model!$F32687)*(Data!$C$16:$K$16=Model!$K32687)*(Data!$C$17:$K$19))","v":2.52},132.36000000000001,{"$f":"_xlfn.IFS(M32687>70,\"Serviceable\",M32687>30, \"Limited Life\",M32687<=30, \"Unserviceable\")","v":"Serviceable"}]
[null,53671,1986,"Wood Untreated Dressed","Serviceable","Class 1",2018,100,94.96,7,{"$f":"INDEX(Lists!$B$32:$B$40, MATCH(2020-C32726, Lists!$C$32:$C$40,1))","v":"31-40"},{"$f":"SUMPRODUCT((Data!$B$17:$B$19=Model!$F32726)*(Data!$C$16:$K$16=Model!$K32726)*(Data!$C$17:$K$19))","v":2.52},82.36,{"$f":"_xlfn.IFS(M32726>70,\"Serviceable\",M32726>30, \"Limited Life\",M32726<=30, \"Unserviceable\")","v":"Serviceable"}]
[null,53790,1978,"Wood Untreated Dressed","Serviceable","Class 1",2018,110,106.5,7,{"$f":"INDEX(Lists!$B$32:$B$40, MATCH(2020-C32788, Lists!$C$32:$C$40,1))","v":"41-50"},{"$f":"SUMPRODUCT((Data!$B$17:$B$19=Model!$F32788)*(Data!$C$16:$K$16=Model!$K32788)*(Data!$C$17:$K$19))","v":1.75},97.75,{"$f":"_xlfn.IFS(M32788>70,\"Serviceable\",M32788>30, \"Limited Life\",M32788<=30, \"Unserviceable\")","v":"Serviceable"}]
[null,53925,1993,"Wood Untreated Dressed","Serviceable","Class 1",2019,150,148.04,6,{"$f":"INDEX(Lists!$B$32:$B$40, MATCH(2020-C32857, Lists!$C$32:$C$40,1))","v":"21-30"},{"$f":"SUMPRODUCT((Data!$B$17:$B$19=Model!$F32857)*(Data!$C$16:$K$16=Model!$K32857)*(Data!$C$17:$K$19))","v":1.96},138.24,{"$f":"_xlfn.IFS(M32857>70,\"Serviceable\",M32857>30, \"Limited Life\",M32857<=30, \"Unserviceable\")","v":"Serviceable"}]
[null,54007,1963,"Wood Salt Impregnated (Green)","Serviceable","Class 3",2019,100,97.27,6,{"$f":"INDEX(Lists!$B$32:$B$40, MATCH(2020-C32902, Lists!$C$32:$C$40,1))","v":"51-60"},{"$f":"SUMPRODUCT((Data!$B$17:$B$19=Model!$F32902)*(Data!$C$16:$K$16=Model!$K32902)*(Data!$C$17:$K$19))","v":2.73},83.62,{"$f":"_xlfn.IFS(M32902>70,\"Serviceable\",M32902>30, \"Limited Life\",M32902<=30, \"Unserviceable\")","v":"Serviceable"}]
[null,54188,1975,"Wood Creos Impregnated","Serviceable","Class 2",2019,110,106.72,6,{"$f":"INDEX(Lists!$B$32:$B$40, MATCH(2020-C33026, Lists!$C$32:$C$40,1))","v":"41-50"},{"$f":"SUMPRODUCT((Data!$B$17:$B$19=Model!$F33026)*(Data!$C$16:$K$16=Model!$K33026)*(Data!$C$17:$K$19))","v":3.28},90.32,{"$f":"_xlfn.IFS(M33026>70,\"Serviceable\",M33026>30, \"Limited Life\",M33026<=30, \"Unserviceable\")","v":"Serviceable"}]
[null,54300,1963,"Wood Creos Impregnated","Serviceable","Class 3",2019,120,117.27,6,{"$f":"INDEX(Lists!$B$32:$B$40, MATCH(2020-C33097, Lists!$C$32:$C$40,1))","v":"51-60"},{"$f":"SUMPRODUCT((Data!$B$17:$B$19=Model!$F33097)*(Data!$C$16:$K$16=Model!$K33097)*(Data!$C$17:$K$19))","v":2.73},103.62,{"$f":"_xlfn.IFS(M33097>70,\"Serviceable\",M33097>30, \"Limited Life\",M33097<=30, \"Unserviceable\")","v":"Serviceable"}]
[null,54319,1933,"Wood Untreated Round","Serviceable","Class 1",2020,100,100,5,{"$f":"INDEX(Lists!$B$32:$B$40, MATCH(2020-C33111, Lists!$C$32:$C$40,1))","v":"81-90"},{"$f":"SUMPRODUCT((Data!$B$17:$B$19=Model!$F33111)*(Data!$C$16:$K$16=Model!$K33111)*(Data!$C$17:$K$19))","v":2.81},85.95,{"$f":"_xlfn.IFS(M33111>70,\"Serviceable\",M33111>30, \"Limited Life\",M33111<=30, \"Unserviceable\")","v":"Serviceable"}]
[null,54426,1967,"Wood Creos Impregnated","Serviceable","Class 3",2018,80,74.540000000000006,7,{"$f":"INDEX(Lists!$B$32:$B$40, MATCH(2020-C33180, Lists!$C$32:$C$40,1))","v":"51-60"},{"$f":"SUMPRODUCT((Data!$B$17:$B$19=Model!$F33180)*(Data!$C$16:$K$16=Model!$K33180)*(Data!$C$17:$K$19))","v":2.73},60.89,{"$f":"_xlfn.IFS(M33180>70,\"Serviceable\",M33180>30, \"Limited Life\",M33180<=30, \"Unserviceable\")","v":"Limited Life"}]
[null,54587,1983,"Wood Untreated Round","Serviceable","Class 1",2019,120,117.48,6,{"$f":"INDEX(Lists!$B$32:$B$40, MATCH(2020-C33273, Lists!$C$32:$C$40,1))","v":"31-40"},{"$f":"SUMPRODUCT((Data!$B$17:$B$19=Model!$F33273)*(Data!$C$16:$K$16=Model!$K33273)*(Data!$C$17:$K$19))","v":2.52},104.88,{"$f":"_xlfn.IFS(M33273>70,\"Serviceable\",M33273>30, \"Limited Life\",M33273<=30, \"Unserviceable\")","v":"Serviceable"}]
[null,54705,1972,"Wood Creos Impregnated","Serviceable","Class 1",2019,110,108.25,6,{"$f":"INDEX(Lists!$B$32:$B$40, MATCH(2020-C33349, Lists!$C$32:$C$40,1))","v":"41-50"},{"$f":"SUMPRODUCT((Data!$B$17:$B$19=Model!$F33349)*(Data!$C$16:$K$16=Model!$K33349)*(Data!$C$17:$K$19))","v":1.75},99.5,{"$f":"_xlfn.IFS(M33349>70,\"Serviceable\",M33349>30, \"Limited Life\",M33349<=30, \"Unserviceable\")","v":"Serviceable"}]
[null,54812,1972,"Wood Creos Impregnated","Serviceable","Class 3",2019,80,76.22,6,{"$f":"INDEX(Lists!$B$32:$B$40, MATCH(2020-C33418, Lists!$C$32:$C$40,1))","v":"41-50"},{"$f":"SUMPRODUCT((Data!$B$17:$B$19=Model!$F33418)*(Data!$C$16:$K$16=Model!$K33418)*(Data!$C$17:$K$19))","v":3.78},57.32,{"$f":"_xlfn.IFS(M33418>70,\"Serviceable\",M33418>30, \"Limited Life\",M33418<=30, \"Unserviceable\")","v":"Limited Life"}]
[null,54849,1947,"Wood Untreated Round","Serviceable","Class 1",2018,90,85.7,7,{"$f":"INDEX(Lists!$B$32:$B$40, MATCH(2020-C33449, Lists!$C$32:$C$40,1))","v":"71-80"},{"$f":"SUMPRODUCT((Data!$B$17:$B$19=Model!$F33449)*(Data!$C$16:$K$16=Model!$K33449)*(Data!$C$17:$K$19))","v":2.15},74.95,{"$f":"_xlfn.IFS(M33449>70,\"Serviceable\",M33449>30, \"Limited Life\",M33449<=30, \"Unserviceable\")","v":"Serviceable"}]
[null,54957,1970,"Wood Creos Impregnated","Serviceable","Class 3",2019,80,76.22,6,{"$f":"INDEX(Lists!$B$32:$B$40, MATCH(2020-C33519, Lists!$C$32:$C$40,1))","v":"41-50"},{"$f":"SUMPRODUCT((Data!$B$17:$B$19=Model!$F33519)*(Data!$C$16:$K$16=Model!$K33519)*(Data!$C$17:$K$19))","v":3.78},57.32,{"$f":"_xlfn.IFS(M33519>70,\"Serviceable\",M33519>30, \"Limited Life\",M33519<=30, \"Unserviceable\")","v":"Limited Life"}]
[null,55048,1970,"Wood Creos Impregnated","Serviceable","Class 3",2019,90,86.22,6,{"$f":"INDEX(Lists!$B$32:$B$40, MATCH(2020-C33577, Lists!$C$32:$C$40,1))","v":"41-50"},{"$f":"SUMPRODUCT((Data!$B$17:$B$19=Model!$F33577)*(Data!$C$16:$K$16=Model!$K33577)*(Data!$C$17:$K$19))","v":3.78},67.319999999999993,{"$f":"_xlfn.IFS(M33577>70,\"Serviceable\",M33577>30, \"Limited Life\",M33577<=30, \"Unserviceable\")","v":"Limited Life"}]
[null,55232,1983,"Wood Creos Impregnated","Serviceable","Class 3",2018,100,93.56,{"$f":"2025-G33672","v":7},{"$f":"INDEX(Lists!$B$32:$B$40, MATCH(2020-C33672, Lists!$C$32:$C$40,1))","v":"31-40"},{"$f":"SUMPRODUCT((Data!$B$17:$B$19=Model!$F33672)*(Data!$C$16:$K$16=Model!$K33672)*(Data!$C$17:$K$19))","v":3.22},{"$f":"IF(IF(H33672>=700,999,(H33672-L33672*J33672))<0,0,IF(H33672>=700,999,(H33672-L33672*J33672)))","v":77.459999999999994},{"$f":"_xlfn.IFS(M33672>70,\"Serviceable\",M33672>30, \"Limited Life\",M33672<=30, \"Unserviceable\")","v":"Serviceable"}]
[null,55367,2008,"CCA Treated Pole","Serviceable","Class 1",2020,166.31691553103065,166.31691553103065,5,{"$f":"INDEX(Lists!$B$32:$B$40, MATCH(2020-C33741, Lists!$C$32:$C$40,1))","v":"0-20"},{"$f":"SUMPRODUCT((Data!$B$17:$B$19=Model!$F33741)*(Data!$C$16:$K$16=Model!$K33741)*(Data!$C$17:$K$19))","v":1.06},161.01691553103063,{"$f":"_xlfn.IFS(M33741>70,\"Serviceable\",M33741>30, \"Limited Life\",M33741<=30, \"Unserviceable\")","v":"Serviceable"}]
[null,55503,1976,"Wood Creos Impregnated","Serviceable","Class 3",2018,130,122.44,7,{"$f":"INDEX(Lists!$B$32:$B$40, MATCH(2020-C33820, Lists!$C$32:$C$40,1))","v":"41-50"},{"$f":"SUMPRODUCT((Data!$B$17:$B$19=Model!$F33820)*(Data!$C$16:$K$16=Model!$K33820)*(Data!$C$17:$K$19))","v":3.78},103.54,{"$f":"_xlfn.IFS(M33820>70,\"Serviceable\",M33820>30, \"Limited Life\",M33820<=30, \"Unserviceable\")","v":"Serviceable"}]
[null,55645,1971,"Wood Creos Impregnated","Serviceable","Class 3",2020,100,100,5,{"$f":"INDEX(Lists!$B$32:$B$40, MATCH(2020-C33910, Lists!$C$32:$C$40,1))","v":"41-50"},{"$f":"SUMPRODUCT((Data!$B$17:$B$19=Model!$F33910)*(Data!$C$16:$K$16=Model!$K33910)*(Data!$C$17:$K$19))","v":3.78},81.099999999999994,{"$f":"_xlfn.IFS(M33910>70,\"Serviceable\",M33910>30, \"Limited Life\",M33910<=30, \"Unserviceable\")","v":"Serviceable"}]
[null,55707,2005,"CCA Treated Pole","Serviceable","Class 1",2016,160,155.76,9,{"$f":"INDEX(Lists!$B$32:$B$40, MATCH(2020-C33948, Lists!$C$32:$C$40,1))","v":"0-20"},{"$f":"SUMPRODUCT((Data!$B$17:$B$19=Model!$F33948)*(Data!$C$16:$K$16=Model!$K33948)*(Data!$C$17:$K$19))","v":1.06},150.46,{"$f":"_xlfn.IFS(M33948>70,\"Serviceable\",M33948>30, \"Limited Life\",M33948<=30, \"Unserviceable\")","v":"Serviceable"}]
[null,55779,1939,"Wood Untreated Dressed","Serviceable","Class 1",2019,100,97.19,6,{"$f":"INDEX(Lists!$B$32:$B$40, MATCH(2020-C33995, Lists!$C$32:$C$40,1))","v":"81-90"},{"$f":"SUMPRODUCT((Data!$B$17:$B$19=Model!$F33995)*(Data!$C$16:$K$16=Model!$K33995)*(Data!$C$17:$K$19))","v":2.81},83.14,{"$f":"_xlfn.IFS(M33995>70,\"Serviceable\",M33995>30, \"Limited Life\",M33995<=30, \"Unserviceable\")","v":"Serviceable"}]
[null,55934,1960,"Wood Creos Impregnated","Serviceable","Class 3",2020,100,100,5,{"$f":"INDEX(Lists!$B$32:$B$40, MATCH(2020-C34064, Lists!$C$32:$C$40,1))","v":"51-60"},{"$f":"SUMPRODUCT((Data!$B$17:$B$19=Model!$F34064)*(Data!$C$16:$K$16=Model!$K34064)*(Data!$C$17:$K$19))","v":2.73},86.35,{"$f":"_xlfn.IFS(M34064>70,\"Serviceable\",M34064>30, \"Limited Life\",M34064<=30, \"Unserviceable\")","v":"Serviceable"}]
[null,56054,1974,"Wood Creos Impregnated","Serviceable","Class 3",2016,120,104.88,9,{"$f":"INDEX(Lists!$B$32:$B$40, MATCH(2020-C34124, Lists!$C$32:$C$40,1))","v":"41-50"},{"$f":"SUMPRODUCT((Data!$B$17:$B$19=Model!$F34124)*(Data!$C$16:$K$16=Model!$K34124)*(Data!$C$17:$K$19))","v":3.78},85.98,{"$f":"_xlfn.IFS(M34124>70,\"Serviceable\",M34124>30, \"Limited Life\",M34124<=30, \"Unserviceable\")","v":"Serviceable"}]
[null,56213,1969,"Wood Creos Impregnated","Serviceable","Class 3",2020,90,90,5,{"$f":"INDEX(Lists!$B$32:$B$40, MATCH(2020-C34233, Lists!$C$32:$C$40,1))","v":"51-60"},{"$f":"SUMPRODUCT((Data!$B$17:$B$19=Model!$F34233)*(Data!$C$16:$K$16=Model!$K34233)*(Data!$C$17:$K$19))","v":2.73},76.349999999999994,{"$f":"_xlfn.IFS(M34233>70,\"Serviceable\",M34233>30, \"Limited Life\",M34233<=30, \"Unserviceable\")","v":"Serviceable"}]
[null,56340,2009,"CCA Treated Pole","Serviceable","Class 2",2020,162.49719689682513,162.49719689682513,5,{"$f":"INDEX(Lists!$B$32:$B$40, MATCH(2020-C34302, Lists!$C$32:$C$40,1))","v":"0-20"},{"$f":"SUMPRODUCT((Data!$B$17:$B$19=Model!$F34302)*(Data!$C$16:$K$16=Model!$K34302)*(Data!$C$17:$K$19))","v":1.22},156.39719689682514,{"$f":"_xlfn.IFS(M34302>70,\"Serviceable\",M34302>30, \"Limited Life\",M34302<=30, \"Unserviceable\")","v":"Serviceable"}]
[null,56446,1936,"Wood Untreated Round","Serviceable","Class 1",2015,130,115.95,10,{"$f":"INDEX(Lists!$B$32:$B$40, MATCH(2020-C34367, Lists!$C$32:$C$40,1))","v":"81-90"},{"$f":"SUMPRODUCT((Data!$B$17:$B$19=Model!$F34367)*(Data!$C$16:$K$16=Model!$K34367)*(Data!$C$17:$K$19))","v":2.81},101.9,{"$f":"_xlfn.IFS(M34367>70,\"Serviceable\",M34367>30, \"Limited Life\",M34367<=30, \"Unserviceable\")","v":"Serviceable"}]
[null,56499,1961,"Wood Creos Impregnated","Limited Life","Class 3",2015,80,66.349999999999994,10,{"$f":"INDEX(Lists!$B$32:$B$40, MATCH(2020-C34403, Lists!$C$32:$C$40,1))","v":"51-60"},{"$f":"SUMPRODUCT((Data!$B$17:$B$19=Model!$F34403)*(Data!$C$16:$K$16=Model!$K34403)*(Data!$C$17:$K$19))","v":2.73},52.7,{"$f":"_xlfn.IFS(M34403>70,\"Serviceable\",M34403>30, \"Limited Life\",M34403<=30, \"Unserviceable\")","v":"Limited Life"}]
[null,56634,1980,"Wood Untreated Dressed","Serviceable","Class 1",2020,120,120,5,{"$f":"INDEX(Lists!$B$32:$B$40, MATCH(2020-C34495, Lists!$C$32:$C$40,1))","v":"31-40"},{"$f":"SUMPRODUCT((Data!$B$17:$B$19=Model!$F34495)*(Data!$C$16:$K$16=Model!$K34495)*(Data!$C$17:$K$19))","v":2.52},107.4,{"$f":"_xlfn.IFS(M34495>70,\"Serviceable\",M34495>30, \"Limited Life\",M34495<=30, \"Unserviceable\")","v":"Serviceable"}]
[null,56716,1970,"Wood Creos Impregnated","Serviceable","Class 3",2020,90,90,5,{"$f":"INDEX(Lists!$B$32:$B$40, MATCH(2020-C34556, Lists!$C$32:$C$40,1))","v":"41-50"},{"$f":"SUMPRODUCT((Data!$B$17:$B$19=Model!$F34556)*(Data!$C$16:$K$16=Model!$K34556)*(Data!$C$17:$K$19))","v":3.78},71.099999999999994,{"$f":"_xlfn.IFS(M34556>70,\"Serviceable\",M34556>30, \"Limited Life\",M34556<=30, \"Unserviceable\")","v":"Serviceable"}]
[null,56831,1997,"CCA Treated Pole","Serviceable","Class 2",2020,150,150,5,{"$f":"INDEX(Lists!$B$32:$B$40, MATCH(2020-C34625, Lists!$C$32:$C$40,1))","v":"21-30"},{"$f":"SUMPRODUCT((Data!$B$17:$B$19=Model!$F34625)*(Data!$C$16:$K$16=Model!$K34625)*(Data!$C$17:$K$19))","v":1.89},140.55000000000001,{"$f":"_xlfn.IFS(M34625>70,\"Serviceable\",M34625>30, \"Limited Life\",M34625<=30, \"Unserviceable\")","v":"Serviceable"}]
[null,56928,1966,"Wood Salt Impregnated (Green)","Serviceable","Class 2",2020,100,100,5,{"$f":"INDEX(Lists!$B$32:$B$40, MATCH(2020-C34671, Lists!$C$32:$C$40,1))","v":"51-60"},{"$f":"SUMPRODUCT((Data!$B$17:$B$19=Model!$F34671)*(Data!$C$16:$K$16=Model!$K34671)*(Data!$C$17:$K$19))","v":2.57},87.15,{"$f":"_xlfn.IFS(M34671>70,\"Serviceable\",M34671>30, \"Limited Life\",M34671<=30, \"Unserviceable\")","v":"Serviceable"}]
[null,57021,1964,"Wood Creos Impregnated","Serviceable","Class 3",2019,100,97.27,6,{"$f":"INDEX(Lists!$B$32:$B$40, MATCH(2020-C34726, Lists!$C$32:$C$40,1))","v":"51-60"},{"$f":"SUMPRODUCT((Data!$B$17:$B$19=Model!$F34726)*(Data!$C$16:$K$16=Model!$K34726)*(Data!$C$17:$K$19))","v":2.73},83.62,{"$f":"_xlfn.IFS(M34726>70,\"Serviceable\",M34726>30, \"Limited Life\",M34726<=30, \"Unserviceable\")","v":"Serviceable"}]
[null,57145,1966,"Wood Creos Impregnated","Serviceable","Class 3",2017,90,81.81,8,{"$f":"INDEX(Lists!$B$32:$B$40, MATCH(2020-C34799, Lists!$C$32:$C$40,1))","v":"51-60"},{"$f":"SUMPRODUCT((Data!$B$17:$B$19=Model!$F34799)*(Data!$C$16:$K$16=Model!$K34799)*(Data!$C$17:$K$19))","v":2.73},68.16,{"$f":"_xlfn.IFS(M34799>70,\"Serviceable\",M34799>30, \"Limited Life\",M34799<=30, \"Unserviceable\")","v":"Limited Life"}]
[null,57255,1982,"Wood Untreated Dressed","Serviceable","Class 1",2017,150,142.44,8,{"$f":"INDEX(Lists!$B$32:$B$40, MATCH(2020-C34879, Lists!$C$32:$C$40,1))","v":"31-40"},{"$f":"SUMPRODUCT((Data!$B$17:$B$19=Model!$F34879)*(Data!$C$16:$K$16=Model!$K34879)*(Data!$C$17:$K$19))","v":2.52},129.84,{"$f":"_xlfn.IFS(M34879>70,\"Serviceable\",M34879>30, \"Limited Life\",M34879<=30, \"Unserviceable\")","v":"Serviceable"}]
[null,57371,1972,"Wood Creos Impregnated","Limited Life","Class 3",2015,70,51.1,10,{"$f":"INDEX(Lists!$B$32:$B$40, MATCH(2020-C34948, Lists!$C$32:$C$40,1))","v":"41-50"},{"$f":"SUMPRODUCT((Data!$B$17:$B$19=Model!$F34948)*(Data!$C$16:$K$16=Model!$K34948)*(Data!$C$17:$K$19))","v":3.78},32.200000000000003,{"$f":"_xlfn.IFS(M34948>70,\"Serviceable\",M34948>30, \"Limited Life\",M34948<=30, \"Unserviceable\")","v":"Limited Life"}]
[null,57506,1973,"Wood Creos Impregnated","Serviceable","Class 3",2017,100,88.66,8,{"$f":"INDEX(Lists!$B$32:$B$40, MATCH(2020-C35042, Lists!$C$32:$C$40,1))","v":"41-50"},{"$f":"SUMPRODUCT((Data!$B$17:$B$19=Model!$F35042)*(Data!$C$16:$K$16=Model!$K35042)*(Data!$C$17:$K$19))","v":3.78},69.760000000000005,{"$f":"_xlfn.IFS(M35042>70,\"Serviceable\",M35042>30, \"Limited Life\",M35042<=30, \"Unserviceable\")","v":"Limited Life"}]
[null,57631,2006,"CCA Treated Pole","Serviceable","Class 2",2017,150,146.34,8,{"$f":"INDEX(Lists!$B$32:$B$40, MATCH(2020-C35117, Lists!$C$32:$C$40,1))","v":"0-20"},{"$f":"SUMPRODUCT((Data!$B$17:$B$19=Model!$F35117)*(Data!$C$16:$K$16=Model!$K35117)*(Data!$C$17:$K$19))","v":1.22},140.24,{"$f":"_xlfn.IFS(M35117>70,\"Serviceable\",M35117>30, \"Limited Life\",M35117<=30, \"Unserviceable\")","v":"Serviceable"}]
[null,57712,2007,"CCA Treated Pole","Serviceable","Class 2",2016,150,145.12,9,{"$f":"INDEX(Lists!$B$32:$B$40, MATCH(2020-C35170, Lists!$C$32:$C$40,1))","v":"0-20"},{"$f":"SUMPRODUCT((Data!$B$17:$B$19=Model!$F35170)*(Data!$C$16:$K$16=Model!$K35170)*(Data!$C$17:$K$19))","v":1.22},139.02000000000001,{"$f":"_xlfn.IFS(M35170>70,\"Serviceable\",M35170>30, \"Limited Life\",M35170<=30, \"Unserviceable\")","v":"Serviceable"}]
[null,57753,2007,"CCA Treated Pole","Serviceable","Class 1",2016,150,145.76,9,{"$f":"INDEX(Lists!$B$32:$B$40, MATCH(2020-C35202, Lists!$C$32:$C$40,1))","v":"0-20"},{"$f":"SUMPRODUCT((Data!$B$17:$B$19=Model!$F35202)*(Data!$C$16:$K$16=Model!$K35202)*(Data!$C$17:$K$19))","v":1.06},140.46,{"$f":"_xlfn.IFS(M35202>70,\"Serviceable\",M35202>30, \"Limited Life\",M35202<=30, \"Unserviceable\")","v":"Serviceable"}]
[null,57891,2009,"CCA Treated Pole","Serviceable","Class 2",2018,100,97.56,7,{"$f":"INDEX(Lists!$B$32:$B$40, MATCH(2020-C35287, Lists!$C$32:$C$40,1))","v":"0-20"},{"$f":"SUMPRODUCT((Data!$B$17:$B$19=Model!$F35287)*(Data!$C$16:$K$16=Model!$K35287)*(Data!$C$17:$K$19))","v":1.22},91.460000000000008,{"$f":"_xlfn.IFS(M35287>70,\"Serviceable\",M35287>30, \"Limited Life\",M35287<=30, \"Unserviceable\")","v":"Serviceable"}]
[null,57975,1991,"Wood Untreated Dressed","Serviceable","Class 1",2019,150,148.04,6,{"$f":"INDEX(Lists!$B$32:$B$40, MATCH(2020-C35346, Lists!$C$32:$C$40,1))","v":"21-30"},{"$f":"SUMPRODUCT((Data!$B$17:$B$19=Model!$F35346)*(Data!$C$16:$K$16=Model!$K35346)*(Data!$C$17:$K$19))","v":1.96},138.24,{"$f":"_xlfn.IFS(M35346>70,\"Serviceable\",M35346>30, \"Limited Life\",M35346<=30, \"Unserviceable\")","v":"Serviceable"}]
[null,58100,1969,"Wood Creos Impregnated","Serviceable","Class 3",2019,100,97.27,6,{"$f":"INDEX(Lists!$B$32:$B$40, MATCH(2020-C35440, Lists!$C$32:$C$40,1))","v":"51-60"},{"$f":"SUMPRODUCT((Data!$B$17:$B$19=Model!$F35440)*(Data!$C$16:$K$16=Model!$K35440)*(Data!$C$17:$K$19))","v":2.73},83.62,{"$f":"_xlfn.IFS(M35440>70,\"Serviceable\",M35440>30, \"Limited Life\",M35440<=30, \"Unserviceable\")","v":"Serviceable"}]
[null,58217,1968,"Wood Creos Impregnated","Serviceable","Class 3",2019,100,97.27,6,{"$f":"INDEX(Lists!$B$32:$B$40, MATCH(2020-C35509, Lists!$C$32:$C$40,1))","v":"51-60"},{"$f":"SUMPRODUCT((Data!$B$17:$B$19=Model!$F35509)*(Data!$C$16:$K$16=Model!$K35509)*(Data!$C$17:$K$19))","v":2.73},83.62,{"$f":"_xlfn.IFS(M35509>70,\"Serviceable\",M35509>30, \"Limited Life\",M35509<=30, \"Unserviceable\")","v":"Serviceable"}]
[null,58350,1982,"Wood Untreated Dressed","Serviceable","Class 1",2019,140,137.47999999999999,6,{"$f":"INDEX(Lists!$B$32:$B$40, MATCH(2020-C35589, Lists!$C$32:$C$40,1))","v":"31-40"},{"$f":"SUMPRODUCT((Data!$B$17:$B$19=Model!$F35589)*(Data!$C$16:$K$16=Model!$K35589)*(Data!$C$17:$K$19))","v":2.52},124.88,{"$f":"_xlfn.IFS(M35589>70,\"Serviceable\",M35589>30, \"Limited Life\",M35589<=30, \"Unserviceable\")","v":"Serviceable"}]
[null,58384,1983,"Wood Untreated Dressed","Serviceable","Class 1",2019,120,117.48,6,{"$f":"INDEX(Lists!$B$32:$B$40, MATCH(2020-C35610, Lists!$C$32:$C$40,1))","v":"31-40"},{"$f":"SUMPRODUCT((Data!$B$17:$B$19=Model!$F35610)*(Data!$C$16:$K$16=Model!$K35610)*(Data!$C$17:$K$19))","v":2.52},104.88,{"$f":"_xlfn.IFS(M35610>70,\"Serviceable\",M35610>30, \"Limited Life\",M35610<=30, \"Unserviceable\")","v":"Serviceable"}]
[null,58564,2001,"CCA Treated Pole","Serviceable","Class 1",2019,150,148.94,6,{"$f":"INDEX(Lists!$B$32:$B$40, MATCH(2020-C35717, Lists!$C$32:$C$40,1))","v":"0-20"},{"$f":"SUMPRODUCT((Data!$B$17:$B$19=Model!$F35717)*(Data!$C$16:$K$16=Model!$K35717)*(Data!$C$17:$K$19))","v":1.06},143.63999999999999,{"$f":"_xlfn.IFS(M35717>70,\"Serviceable\",M35717>30, \"Limited Life\",M35717<=30, \"Unserviceable\")","v":"Serviceable"}]
[null,58622,1999,"CCA Treated Pole","Serviceable","Class 1",2016,150,142.16,9,{"$f":"INDEX(Lists!$B$32:$B$40, MATCH(2020-C35763, Lists!$C$32:$C$40,1))","v":"21-30"},{"$f":"SUMPRODUCT((Data!$B$17:$B$19=Model!$F35763)*(Data!$C$16:$K$16=Model!$K35763)*(Data!$C$17:$K$19))","v":1.96},132.36000000000001,{"$f":"_xlfn.IFS(M35763>70,\"Serviceable\",M35763>30, \"Limited Life\",M35763<=30, \"Unserviceable\")","v":"Serviceable"}]
[null,58750,1987,"Wood Untreated Dressed","Serviceable","Class 1",2020,150,150,{"$f":"2025-G35848","v":5},{"$f":"INDEX(Lists!$B$32:$B$40, MATCH(2020-C35848, Lists!$C$32:$C$40,1))","v":"31-40"},{"$f":"SUMPRODUCT((Data!$B$17:$B$19=Model!$F35848)*(Data!$C$16:$K$16=Model!$K35848)*(Data!$C$17:$K$19))","v":2.52},{"$f":"IF(IF(H35848>=700,999,(H35848-L35848*J35848))<0,0,IF(H35848>=700,999,(H35848-L35848*J35848)))","v":137.4},{"$f":"_xlfn.IFS(M35848>70,\"Serviceable\",M35848>30, \"Limited Life\",M35848<=30, \"Unserviceable\")","v":"Serviceable"}]
[null,58829,1938,"CCA Treated Pole","Serviceable","Class 2",2020,120,120,5,{"$f":"INDEX(Lists!$B$32:$B$40, MATCH(2020-C35893, Lists!$C$32:$C$40,1))","v":"81-90"},{"$f":"SUMPRODUCT((Data!$B$17:$B$19=Model!$F35893)*(Data!$C$16:$K$16=Model!$K35893)*(Data!$C$17:$K$19))","v":3.75},101.25,{"$f":"_xlfn.IFS(M35893>70,\"Serviceable\",M35893>30, \"Limited Life\",M35893<=30, \"Unserviceable\")","v":"Serviceable"}]
[null,59017,1972,"Wood Creos Impregnated","Serviceable","Class 1",2019,90,88.25,6,{"$f":"INDEX(Lists!$B$32:$B$40, MATCH(2020-C36001, Lists!$C$32:$C$40,1))","v":"41-50"},{"$f":"SUMPRODUCT((Data!$B$17:$B$19=Model!$F36001)*(Data!$C$16:$K$16=Model!$K36001)*(Data!$C$17:$K$19))","v":1.75},79.5,{"$f":"_xlfn.IFS(M36001>70,\"Serviceable\",M36001>30, \"Limited Life\",M36001<=30, \"Unserviceable\")","v":"Serviceable"}]
[null,59046,1963,"Wood Creos Impregnated","Serviceable","Class 3",2019,80,77.27,6,{"$f":"INDEX(Lists!$B$32:$B$40, MATCH(2020-C36021, Lists!$C$32:$C$40,1))","v":"51-60"},{"$f":"SUMPRODUCT((Data!$B$17:$B$19=Model!$F36021)*(Data!$C$16:$K$16=Model!$K36021)*(Data!$C$17:$K$19))","v":2.73},63.620000000000005,{"$f":"_xlfn.IFS(M36021>70,\"Serviceable\",M36021>30, \"Limited Life\",M36021<=30, \"Unserviceable\")","v":"Limited Life"}]
[null,59133,1965,"Wood Creos Impregnated","Serviceable","Class 3",2019,80,77.27,6,{"$f":"INDEX(Lists!$B$32:$B$40, MATCH(2020-C36086, Lists!$C$32:$C$40,1))","v":"51-60"},{"$f":"SUMPRODUCT((Data!$B$17:$B$19=Model!$F36086)*(Data!$C$16:$K$16=Model!$K36086)*(Data!$C$17:$K$19))","v":2.73},63.620000000000005,{"$f":"_xlfn.IFS(M36086>70,\"Serviceable\",M36086>30, \"Limited Life\",M36086<=30, \"Unserviceable\")","v":"Limited Life"}]
[null,59247,1981,"Wood Untreated Dressed","Serviceable","Class 1",2017,150,142.44,8,{"$f":"INDEX(Lists!$B$32:$B$40, MATCH(2020-C36171, Lists!$C$32:$C$40,1))","v":"31-40"},{"$f":"SUMPRODUCT((Data!$B$17:$B$19=Model!$F36171)*(Data!$C$16:$K$16=Model!$K36171)*(Data!$C$17:$K$19))","v":2.52},129.84,{"$f":"_xlfn.IFS(M36171>70,\"Serviceable\",M36171>30, \"Limited Life\",M36171<=30, \"Unserviceable\")","v":"Serviceable"}]
[null,59392,1939,"Wood Untreated Dressed","Serviceable","Class 1",2020,120,120,5,{"$f":"INDEX(Lists!$B$32:$B$40, MATCH(2020-C36264, Lists!$C$32:$C$40,1))","v":"81-90"},{"$f":"SUMPRODUCT((Data!$B$17:$B$19=Model!$F36264)*(Data!$C$16:$K$16=Model!$K36264)*(Data!$C$17:$K$19))","v":2.81},105.95,{"$f":"_xlfn.IFS(M36264>70,\"Serviceable\",M36264>30, \"Limited Life\",M36264<=30, \"Unserviceable\")","v":"Serviceable"}]
[null,59474,1977,"Wood Untreated Dressed","Serviceable","Class 1",2020,110,110,5,{"$f":"INDEX(Lists!$B$32:$B$40, MATCH(2020-C36324, Lists!$C$32:$C$40,1))","v":"41-50"},{"$f":"SUMPRODUCT((Data!$B$17:$B$19=Model!$F36324)*(Data!$C$16:$K$16=Model!$K36324)*(Data!$C$17:$K$19))","v":1.75},101.25,{"$f":"_xlfn.IFS(M36324>70,\"Serviceable\",M36324>30, \"Limited Life\",M36324<=30, \"Unserviceable\")","v":"Serviceable"}]
[null,59574,1971,"Wood Creos Impregnated","Serviceable","Class 3",2020,100,100,5,{"$f":"INDEX(Lists!$B$32:$B$40, MATCH(2020-C36393, Lists!$C$32:$C$40,1))","v":"41-50"},{"$f":"SUMPRODUCT((Data!$B$17:$B$19=Model!$F36393)*(Data!$C$16:$K$16=Model!$K36393)*(Data!$C$17:$K$19))","v":3.78},81.099999999999994,{"$f":"_xlfn.IFS(M36393>70,\"Serviceable\",M36393>30, \"Limited Life\",M36393<=30, \"Unserviceable\")","v":"Serviceable"}]
[null,59646,1977,"Wood Untreated Dressed","Serviceable","Class 1",2020,150,150,5,{"$f":"INDEX(Lists!$B$32:$B$40, MATCH(2020-C36440, Lists!$C$32:$C$40,1))","v":"41-50"},{"$f":"SUMPRODUCT((Data!$B$17:$B$19=Model!$F36440)*(Data!$C$16:$K$16=Model!$K36440)*(Data!$C$17:$K$19))","v":1.75},141.25,{"$f":"_xlfn.IFS(M36440>70,\"Serviceable\",M36440>30, \"Limited Life\",M36440<=30, \"Unserviceable\")","v":"Serviceable"}]
[null,59728,1946,"Wood Untreated Dressed","Serviceable","Class 1",2020,110,110,5,{"$f":"INDEX(Lists!$B$32:$B$40, MATCH(2020-C36494, Lists!$C$32:$C$40,1))","v":"71-80"},{"$f":"SUMPRODUCT((Data!$B$17:$B$19=Model!$F36494)*(Data!$C$16:$K$16=Model!$K36494)*(Data!$C$17:$K$19))","v":2.15},99.25,{"$f":"_xlfn.IFS(M36494>70,\"Serviceable\",M36494>30, \"Limited Life\",M36494<=30, \"Unserviceable\")","v":"Serviceable"}]
[null,59829,1964,"Wood Creos Impregnated","Serviceable","Class 3",2020,110,110,5,{"$f":"INDEX(Lists!$B$32:$B$40, MATCH(2020-C36568, Lists!$C$32:$C$40,1))","v":"51-60"},{"$f":"SUMPRODUCT((Data!$B$17:$B$19=Model!$F36568)*(Data!$C$16:$K$16=Model!$K36568)*(Data!$C$17:$K$19))","v":2.73},96.35,{"$f":"_xlfn.IFS(M36568>70,\"Serviceable\",M36568>30, \"Limited Life\",M36568<=30, \"Unserviceable\")","v":"Serviceable"}]
[null,59932,1966,"Wood Untreated Round","Serviceable","Class 1",2019,100,98.35,6,{"$f":"INDEX(Lists!$B$32:$B$40, MATCH(2020-C36647, Lists!$C$32:$C$40,1))","v":"51-60"},{"$f":"SUMPRODUCT((Data!$B$17:$B$19=Model!$F36647)*(Data!$C$16:$K$16=Model!$K36647)*(Data!$C$17:$K$19))","v":1.65},90.1,{"$f":"_xlfn.IFS(M36647>70,\"Serviceable\",M36647>30, \"Limited Life\",M36647<=30, \"Unserviceable\")","v":"Serviceable"}]
[null,60067,1961,"Wood Creos Impregnated","Serviceable","Class 3",2019,100,97.27,6,{"$f":"INDEX(Lists!$B$32:$B$40, MATCH(2020-C36732, Lists!$C$32:$C$40,1))","v":"51-60"},{"$f":"SUMPRODUCT((Data!$B$17:$B$19=Model!$F36732)*(Data!$C$16:$K$16=Model!$K36732)*(Data!$C$17:$K$19))","v":2.73},83.62,{"$f":"_xlfn.IFS(M36732>70,\"Serviceable\",M36732>30, \"Limited Life\",M36732<=30, \"Unserviceable\")","v":"Serviceable"}]
[null,60187,1979,"Wood Untreated Dressed","Serviceable","Class 1",2019,120,118.25,6,{"$f":"INDEX(Lists!$B$32:$B$40, MATCH(2020-C36811, Lists!$C$32:$C$40,1))","v":"41-50"},{"$f":"SUMPRODUCT((Data!$B$17:$B$19=Model!$F36811)*(Data!$C$16:$K$16=Model!$K36811)*(Data!$C$17:$K$19))","v":1.75},109.5,{"$f":"_xlfn.IFS(M36811>70,\"Serviceable\",M36811>30, \"Limited Life\",M36811<=30, \"Unserviceable\")","v":"Serviceable"}]
[null,60307,1961,"Wood Creos Impregnated","Serviceable","Class 3",2019,80,77.27,6,{"$f":"INDEX(Lists!$B$32:$B$40, MATCH(2020-C36885, Lists!$C$32:$C$40,1))","v":"51-60"},{"$f":"SUMPRODUCT((Data!$B$17:$B$19=Model!$F36885)*(Data!$C$16:$K$16=Model!$K36885)*(Data!$C$17:$K$19))","v":2.73},63.620000000000005,{"$f":"_xlfn.IFS(M36885>70,\"Serviceable\",M36885>30, \"Limited Life\",M36885<=30, \"Unserviceable\")","v":"Limited Life"}]
[null,60396,1978,"Wood Untreated Dressed","Serviceable","Class 1",2018,150,146.5,7,{"$f":"INDEX(Lists!$B$32:$B$40, MATCH(2020-C36939, Lists!$C$32:$C$40,1))","v":"41-50"},{"$f":"SUMPRODUCT((Data!$B$17:$B$19=Model!$F36939)*(Data!$C$16:$K$16=Model!$K36939)*(Data!$C$17:$K$19))","v":1.75},137.75,{"$f":"_xlfn.IFS(M36939>70,\"Serviceable\",M36939>30, \"Limited Life\",M36939<=30, \"Unserviceable\")","v":"Serviceable"}]
[null,60447,1964,"Wood Creos Impregnated","Serviceable","Class 3",2019,80,77.27,6,{"$f":"INDEX(Lists!$B$32:$B$40, MATCH(2020-C36970, Lists!$C$32:$C$40,1))","v":"51-60"},{"$f":"SUMPRODUCT((Data!$B$17:$B$19=Model!$F36970)*(Data!$C$16:$K$16=Model!$K36970)*(Data!$C$17:$K$19))","v":2.73},63.620000000000005,{"$f":"_xlfn.IFS(M36970>70,\"Serviceable\",M36970>30, \"Limited Life\",M36970<=30, \"Unserviceable\")","v":"Limited Life"}]
[null,60567,1981,"Wood Untreated Dressed","Serviceable","Class 1",2019,120,117.48,6,{"$f":"INDEX(Lists!$B$32:$B$40, MATCH(2020-C37055, Lists!$C$32:$C$40,1))","v":"31-40"},{"$f":"SUMPRODUCT((Data!$B$17:$B$19=Model!$F37055)*(Data!$C$16:$K$16=Model!$K37055)*(Data!$C$17:$K$19))","v":2.52},104.88,{"$f":"_xlfn.IFS(M37055>70,\"Serviceable\",M37055>30, \"Limited Life\",M37055<=30, \"Unserviceable\")","v":"Serviceable"}]
[null,60657,1975,"Wood Untreated Dressed","Serviceable","Class 1",2020,100,100,5,{"$f":"INDEX(Lists!$B$32:$B$40, MATCH(2020-C37115, Lists!$C$32:$C$40,1))","v":"41-50"},{"$f":"SUMPRODUCT((Data!$B$17:$B$19=Model!$F37115)*(Data!$C$16:$K$16=Model!$K37115)*(Data!$C$17:$K$19))","v":1.75},91.25,{"$f":"_xlfn.IFS(M37115>70,\"Serviceable\",M37115>30, \"Limited Life\",M37115<=30, \"Unserviceable\")","v":"Serviceable"}]
[null,60805,1996,"Wood Untreated Dressed","Serviceable","Class 1",2016,150,142.16,9,{"$f":"INDEX(Lists!$B$32:$B$40, MATCH(2020-C37208, Lists!$C$32:$C$40,1))","v":"21-30"},{"$f":"SUMPRODUCT((Data!$B$17:$B$19=Model!$F37208)*(Data!$C$16:$K$16=Model!$K37208)*(Data!$C$17:$K$19))","v":1.96},132.36000000000001,{"$f":"_xlfn.IFS(M37208>70,\"Serviceable\",M37208>30, \"Limited Life\",M37208<=30, \"Unserviceable\")","v":"Serviceable"}]
[null,60861,1938,"Wood Untreated Round","Serviceable","Class 1",2016,120,108.76,9,{"$f":"INDEX(Lists!$B$32:$B$40, MATCH(2020-C37243, Lists!$C$32:$C$40,1))","v":"81-90"},{"$f":"SUMPRODUCT((Data!$B$17:$B$19=Model!$F37243)*(Data!$C$16:$K$16=Model!$K37243)*(Data!$C$17:$K$19))","v":2.81},94.710000000000008,{"$f":"_xlfn.IFS(M37243>70,\"Serviceable\",M37243>30, \"Limited Life\",M37243<=30, \"Unserviceable\")","v":"Serviceable"}]
[null,61057,1967,"Wood Creos Impregnated","Serviceable","Class 3",2015,120,106.35,10,{"$f":"INDEX(Lists!$B$32:$B$40, MATCH(2020-C37361, Lists!$C$32:$C$40,1))","v":"51-60"},{"$f":"SUMPRODUCT((Data!$B$17:$B$19=Model!$F37361)*(Data!$C$16:$K$16=Model!$K37361)*(Data!$C$17:$K$19))","v":2.73},92.7,{"$f":"_xlfn.IFS(M37361>70,\"Serviceable\",M37361>30, \"Limited Life\",M37361<=30, \"Unserviceable\")","v":"Serviceable"}]
[null,61080,1968,"Wood Creos Impregnated","Serviceable","Class 3",2019,120,117.27,6,{"$f":"INDEX(Lists!$B$32:$B$40, MATCH(2020-C37378, Lists!$C$32:$C$40,1))","v":"51-60"},{"$f":"SUMPRODUCT((Data!$B$17:$B$19=Model!$F37378)*(Data!$C$16:$K$16=Model!$K37378)*(Data!$C$17:$K$19))","v":2.73},103.62,{"$f":"_xlfn.IFS(M37378>70,\"Serviceable\",M37378>30, \"Limited Life\",M37378<=30, \"Unserviceable\")","v":"Serviceable"}]
[null,61243,1984,"Wood Untreated Dressed","Serviceable","Class 1",2016,140,129.91999999999999,9,{"$f":"INDEX(Lists!$B$32:$B$40, MATCH(2020-C37486, Lists!$C$32:$C$40,1))","v":"31-40"},{"$f":"SUMPRODUCT((Data!$B$17:$B$19=Model!$F37486)*(Data!$C$16:$K$16=Model!$K37486)*(Data!$C$17:$K$19))","v":2.52},117.32,{"$f":"_xlfn.IFS(M37486>70,\"Serviceable\",M37486>30, \"Limited Life\",M37486<=30, \"Unserviceable\")","v":"Serviceable"}]
[null,61324,1971,"Wood Creos Impregnated","Serviceable","Class 3",2015,100,81.099999999999994,10,{"$f":"INDEX(Lists!$B$32:$B$40, MATCH(2020-C37531, Lists!$C$32:$C$40,1))","v":"41-50"},{"$f":"SUMPRODUCT((Data!$B$17:$B$19=Model!$F37531)*(Data!$C$16:$K$16=Model!$K37531)*(Data!$C$17:$K$19))","v":3.78},62.2,{"$f":"_xlfn.IFS(M37531>70,\"Serviceable\",M37531>30, \"Limited Life\",M37531<=30, \"Unserviceable\")","v":"Limited Life"}]
[null,61463,1981,"Wood Untreated Dressed","Serviceable","Class 1",2017,120,112.44,8,{"$f":"INDEX(Lists!$B$32:$B$40, MATCH(2020-C37616, Lists!$C$32:$C$40,1))","v":"31-40"},{"$f":"SUMPRODUCT((Data!$B$17:$B$19=Model!$F37616)*(Data!$C$16:$K$16=Model!$K37616)*(Data!$C$17:$K$19))","v":2.52},99.84,{"$f":"_xlfn.IFS(M37616>70,\"Serviceable\",M37616>30, \"Limited Life\",M37616<=30, \"Unserviceable\")","v":"Serviceable"}]
[null,61524,1987,"Wood Untreated Dressed","Serviceable","Class 1",2017,150,142.44,8,{"$f":"INDEX(Lists!$B$32:$B$40, MATCH(2020-C37662, Lists!$C$32:$C$40,1))","v":"31-40"},{"$f":"SUMPRODUCT((Data!$B$17:$B$19=Model!$F37662)*(Data!$C$16:$K$16=Model!$K37662)*(Data!$C$17:$K$19))","v":2.52},129.84,{"$f":"_xlfn.IFS(M37662>70,\"Serviceable\",M37662>30, \"Limited Life\",M37662<=30, \"Unserviceable\")","v":"Serviceable"}]
[null,61582,1987,"CCA Treated Pole","Serviceable","Class 2",2017,150,143.01,8,{"$f":"INDEX(Lists!$B$32:$B$40, MATCH(2020-C37701, Lists!$C$32:$C$40,1))","v":"31-40"},{"$f":"SUMPRODUCT((Data!$B$17:$B$19=Model!$F37701)*(Data!$C$16:$K$16=Model!$K37701)*(Data!$C$17:$K$19))","v":2.33},131.36000000000001,{"$f":"_xlfn.IFS(M37701>70,\"Serviceable\",M37701>30, \"Limited Life\",M37701<=30, \"Unserviceable\")","v":"Serviceable"}]
[null,61709,1985,"Wood Untreated Dressed","Serviceable","Class 1",2017,130,122.44,8,{"$f":"INDEX(Lists!$B$32:$B$40, MATCH(2020-C37790, Lists!$C$32:$C$40,1))","v":"31-40"},{"$f":"SUMPRODUCT((Data!$B$17:$B$19=Model!$F37790)*(Data!$C$16:$K$16=Model!$K37790)*(Data!$C$17:$K$19))","v":2.52},109.84,{"$f":"_xlfn.IFS(M37790>70,\"Serviceable\",M37790>30, \"Limited Life\",M37790<=30, \"Unserviceable\")","v":"Serviceable"}]
[null,61806,1965,"Wood Creos Impregnated","Serviceable","Class 3",2017,110,101.81,8,{"$f":"INDEX(Lists!$B$32:$B$40, MATCH(2020-C37854, Lists!$C$32:$C$40,1))","v":"51-60"},{"$f":"SUMPRODUCT((Data!$B$17:$B$19=Model!$F37854)*(Data!$C$16:$K$16=Model!$K37854)*(Data!$C$17:$K$19))","v":2.73},88.16,{"$f":"_xlfn.IFS(M37854>70,\"Serviceable\",M37854>30, \"Limited Life\",M37854<=30, \"Unserviceable\")","v":"Serviceable"}]
[null,61934,1986,"Wood Untreated Dressed","Serviceable","Class 2",2017,150,143.01,8,{"$f":"INDEX(Lists!$B$32:$B$40, MATCH(2020-C37939, Lists!$C$32:$C$40,1))","v":"31-40"},{"$f":"SUMPRODUCT((Data!$B$17:$B$19=Model!$F37939)*(Data!$C$16:$K$16=Model!$K37939)*(Data!$C$17:$K$19))","v":2.33},131.36000000000001,{"$f":"_xlfn.IFS(M37939>70,\"Serviceable\",M37939>30, \"Limited Life\",M37939<=30, \"Unserviceable\")","v":"Serviceable"}]
[null,62088,1968,"Wood Creos Impregnated","Serviceable","Class 3",2015,100,86.35,10,{"$f":"INDEX(Lists!$B$32:$B$40, MATCH(2020-C38033, Lists!$C$32:$C$40,1))","v":"51-60"},{"$f":"SUMPRODUCT((Data!$B$17:$B$19=Model!$F38033)*(Data!$C$16:$K$16=Model!$K38033)*(Data!$C$17:$K$19))","v":2.73},72.7,{"$f":"_xlfn.IFS(M38033>70,\"Serviceable\",M38033>30, \"Limited Life\",M38033<=30, \"Unserviceable\")","v":"Serviceable"}]
[null,62185,1965,"Wood Creos Impregnated","Serviceable","Class 3",2017,100,91.81,8,{"$f":"INDEX(Lists!$B$32:$B$40, MATCH(2020-C38092, Lists!$C$32:$C$40,1))","v":"51-60"},{"$f":"SUMPRODUCT((Data!$B$17:$B$19=Model!$F38092)*(Data!$C$16:$K$16=Model!$K38092)*(Data!$C$17:$K$19))","v":2.73},78.16,{"$f":"_xlfn.IFS(M38092>70,\"Serviceable\",M38092>30, \"Limited Life\",M38092<=30, \"Unserviceable\")","v":"Serviceable"}]
[null,62235,1975,"Wood Creos Impregnated","Serviceable","Class 1",2017,80,74.75,8,{"$f":"INDEX(Lists!$B$32:$B$40, MATCH(2020-C38128, Lists!$C$32:$C$40,1))","v":"41-50"},{"$f":"SUMPRODUCT((Data!$B$17:$B$19=Model!$F38128)*(Data!$C$16:$K$16=Model!$K38128)*(Data!$C$17:$K$19))","v":1.75},66,{"$f":"_xlfn.IFS(M38128>70,\"Serviceable\",M38128>30, \"Limited Life\",M38128<=30, \"Unserviceable\")","v":"Limited Life"}]
[null,62317,2001,"CCA Treated Pole","Serviceable","Class 2",2020,160,160,5,{"$f":"INDEX(Lists!$B$32:$B$40, MATCH(2020-C38177, Lists!$C$32:$C$40,1))","v":"0-20"},{"$f":"SUMPRODUCT((Data!$B$17:$B$19=Model!$F38177)*(Data!$C$16:$K$16=Model!$K38177)*(Data!$C$17:$K$19))","v":1.22},153.9,{"$f":"_xlfn.IFS(M38177>70,\"Serviceable\",M38177>30, \"Limited Life\",M38177<=30, \"Unserviceable\")","v":"Serviceable"}]
[null,62437,1966,"Wood Creos Impregnated","Serviceable","Class 3",2018,80,74.540000000000006,7,{"$f":"INDEX(Lists!$B$32:$B$40, MATCH(2020-C38262, Lists!$C$32:$C$40,1))","v":"51-60"},{"$f":"SUMPRODUCT((Data!$B$17:$B$19=Model!$F38262)*(Data!$C$16:$K$16=Model!$K38262)*(Data!$C$17:$K$19))","v":2.73},60.89,{"$f":"_xlfn.IFS(M38262>70,\"Serviceable\",M38262>30, \"Limited Life\",M38262<=30, \"Unserviceable\")","v":"Limited Life"}]
[null,62553,2008,"CCA Treated Pole","Serviceable","Class 1",2020,160,160,5,{"$f":"INDEX(Lists!$B$32:$B$40, MATCH(2020-C38337, Lists!$C$32:$C$40,1))","v":"0-20"},{"$f":"SUMPRODUCT((Data!$B$17:$B$19=Model!$F38337)*(Data!$C$16:$K$16=Model!$K38337)*(Data!$C$17:$K$19))","v":1.06},154.69999999999999,{"$f":"_xlfn.IFS(M38337>70,\"Serviceable\",M38337>30, \"Limited Life\",M38337<=30, \"Unserviceable\")","v":"Serviceable"}]
[null,62661,2000,"CCA Treated Pole","Serviceable","Class 2",2017,150,146.34,8,{"$f":"INDEX(Lists!$B$32:$B$40, MATCH(2020-C38415, Lists!$C$32:$C$40,1))","v":"0-20"},{"$f":"SUMPRODUCT((Data!$B$17:$B$19=Model!$F38415)*(Data!$C$16:$K$16=Model!$K38415)*(Data!$C$17:$K$19))","v":1.22},140.24,{"$f":"_xlfn.IFS(M38415>70,\"Serviceable\",M38415>30, \"Limited Life\",M38415<=30, \"Unserviceable\")","v":"Serviceable"}]
[null,62795,1965,"Wood Creos Impregnated","Limited Life","Class 3",2019,70,67.27,6,{"$f":"INDEX(Lists!$B$32:$B$40, MATCH(2020-C38500, Lists!$C$32:$C$40,1))","v":"51-60"},{"$f":"SUMPRODUCT((Data!$B$17:$B$19=Model!$F38500)*(Data!$C$16:$K$16=Model!$K38500)*(Data!$C$17:$K$19))","v":2.73},53.620000000000005,{"$f":"_xlfn.IFS(M38500>70,\"Serviceable\",M38500>30, \"Limited Life\",M38500<=30, \"Unserviceable\")","v":"Limited Life"}]
[null,62812,1994,"Wood Untreated Dressed","Serviceable","Class 1",2015,150,140.19999999999999,10,{"$f":"INDEX(Lists!$B$32:$B$40, MATCH(2020-C38513, Lists!$C$32:$C$40,1))","v":"21-30"},{"$f":"SUMPRODUCT((Data!$B$17:$B$19=Model!$F38513)*(Data!$C$16:$K$16=Model!$K38513)*(Data!$C$17:$K$19))","v":1.96},130.4,{"$f":"_xlfn.IFS(M38513>70,\"Serviceable\",M38513>30, \"Limited Life\",M38513<=30, \"Unserviceable\")","v":"Serviceable"}]
[null,62920,1977,"Wood Creos Impregnated","Serviceable","Class 1",2019,120,118.25,6,{"$f":"INDEX(Lists!$B$32:$B$40, MATCH(2020-C38585, Lists!$C$32:$C$40,1))","v":"41-50"},{"$f":"SUMPRODUCT((Data!$B$17:$B$19=Model!$F38585)*(Data!$C$16:$K$16=Model!$K38585)*(Data!$C$17:$K$19))","v":1.75},109.5,{"$f":"_xlfn.IFS(M38585>70,\"Serviceable\",M38585>30, \"Limited Life\",M38585<=30, \"Unserviceable\")","v":"Serviceable"}]
[null,63100,1995,"Wood Untreated Dressed","Serviceable","Class 1",2019,150,148.04,6,{"$f":"INDEX(Lists!$B$32:$B$40, MATCH(2020-C38708, Lists!$C$32:$C$40,1))","v":"21-30"},{"$f":"SUMPRODUCT((Data!$B$17:$B$19=Model!$F38708)*(Data!$C$16:$K$16=Model!$K38708)*(Data!$C$17:$K$19))","v":1.96},138.24,{"$f":"_xlfn.IFS(M38708>70,\"Serviceable\",M38708>30, \"Limited Life\",M38708<=30, \"Unserviceable\")","v":"Serviceable"}]
[null,63137,2007,"CCA Treated Pole","Serviceable","Class 2",2019,150,148.78,6,{"$f":"INDEX(Lists!$B$32:$B$40, MATCH(2020-C38738, Lists!$C$32:$C$40,1))","v":"0-20"},{"$f":"SUMPRODUCT((Data!$B$17:$B$19=Model!$F38738)*(Data!$C$16:$K$16=Model!$K38738)*(Data!$C$17:$K$19))","v":1.22},142.68,{"$f":"_xlfn.IFS(M38738>70,\"Serviceable\",M38738>30, \"Limited Life\",M38738<=30, \"Unserviceable\")","v":"Serviceable"}]
[null,63280,1999,"CCA Treated Pole","Serviceable","Class 1",2019,150,148.04,6,{"$f":"INDEX(Lists!$B$32:$B$40, MATCH(2020-C38823, Lists!$C$32:$C$40,1))","v":"21-30"},{"$f":"SUMPRODUCT((Data!$B$17:$B$19=Model!$F38823)*(Data!$C$16:$K$16=Model!$K38823)*(Data!$C$17:$K$19))","v":1.96},138.24,{"$f":"_xlfn.IFS(M38823>70,\"Serviceable\",M38823>30, \"Limited Life\",M38823<=30, \"Unserviceable\")","v":"Serviceable"}]
[null,63370,1983,"Wood Untreated Dressed","Serviceable","Class 1",2018,140,134.96,7,{"$f":"INDEX(Lists!$B$32:$B$40, MATCH(2020-C38884, Lists!$C$32:$C$40,1))","v":"31-40"},{"$f":"SUMPRODUCT((Data!$B$17:$B$19=Model!$F38884)*(Data!$C$16:$K$16=Model!$K38884)*(Data!$C$17:$K$19))","v":2.52},122.36,{"$f":"_xlfn.IFS(M38884>70,\"Serviceable\",M38884>30, \"Limited Life\",M38884<=30, \"Unserviceable\")","v":"Serviceable"}]
[null,63521,1968,"Wood Creos Impregnated","Serviceable","Class 3",2019,100,97.27,6,{"$f":"INDEX(Lists!$B$32:$B$40, MATCH(2020-C38976, Lists!$C$32:$C$40,1))","v":"51-60"},{"$f":"SUMPRODUCT((Data!$B$17:$B$19=Model!$F38976)*(Data!$C$16:$K$16=Model!$K38976)*(Data!$C$17:$K$19))","v":2.73},83.62,{"$f":"_xlfn.IFS(M38976>70,\"Serviceable\",M38976>30, \"Limited Life\",M38976<=30, \"Unserviceable\")","v":"Serviceable"}]
[null,63642,2005,"CCA Treated Pole","Serviceable","Class 1",2019,166.31691553103065,165.25691553103064,6,{"$f":"INDEX(Lists!$B$32:$B$40, MATCH(2020-C39046, Lists!$C$32:$C$40,1))","v":"0-20"},{"$f":"SUMPRODUCT((Data!$B$17:$B$19=Model!$F39046)*(Data!$C$16:$K$16=Model!$K39046)*(Data!$C$17:$K$19))","v":1.06},159.95691553103063,{"$f":"_xlfn.IFS(M39046>70,\"Serviceable\",M39046>30, \"Limited Life\",M39046<=30, \"Unserviceable\")","v":"Serviceable"}]
[null,63664,1964,"Wood Creos Impregnated","Serviceable","Class 3",2019,90,87.27,6,{"$f":"INDEX(Lists!$B$32:$B$40, MATCH(2020-C39061, Lists!$C$32:$C$40,1))","v":"51-60"},{"$f":"SUMPRODUCT((Data!$B$17:$B$19=Model!$F39061)*(Data!$C$16:$K$16=Model!$K39061)*(Data!$C$17:$K$19))","v":2.73},73.62,{"$f":"_xlfn.IFS(M39061>70,\"Serviceable\",M39061>30, \"Limited Life\",M39061<=30, \"Unserviceable\")","v":"Serviceable"}]
[null,63796,1981,"Wood Untreated Dressed","Serviceable","Class 1",2019,130,127.48,6,{"$f":"INDEX(Lists!$B$32:$B$40, MATCH(2020-C39146, Lists!$C$32:$C$40,1))","v":"31-40"},{"$f":"SUMPRODUCT((Data!$B$17:$B$19=Model!$F39146)*(Data!$C$16:$K$16=Model!$K39146)*(Data!$C$17:$K$19))","v":2.52},114.88,{"$f":"_xlfn.IFS(M39146>70,\"Serviceable\",M39146>30, \"Limited Life\",M39146<=30, \"Unserviceable\")","v":"Serviceable"}]
[null,63868,1985,"Wood Untreated Dressed","Serviceable","Class 1",2018,150,144.96,7,{"$f":"INDEX(Lists!$B$32:$B$40, MATCH(2020-C39188, Lists!$C$32:$C$40,1))","v":"31-40"},{"$f":"SUMPRODUCT((Data!$B$17:$B$19=Model!$F39188)*(Data!$C$16:$K$16=Model!$K39188)*(Data!$C$17:$K$19))","v":2.52},132.36000000000001,{"$f":"_xlfn.IFS(M39188>70,\"Serviceable\",M39188>30, \"Limited Life\",M39188<=30, \"Unserviceable\")","v":"Serviceable"}]
[null,64018,1964,"Wood Creos Impregnated","Serviceable","Class 3",2020,120,120,5,{"$f":"INDEX(Lists!$B$32:$B$40, MATCH(2020-C39299, Lists!$C$32:$C$40,1))","v":"51-60"},{"$f":"SUMPRODUCT((Data!$B$17:$B$19=Model!$F39299)*(Data!$C$16:$K$16=Model!$K39299)*(Data!$C$17:$K$19))","v":2.73},106.35,{"$f":"_xlfn.IFS(M39299>70,\"Serviceable\",M39299>30, \"Limited Life\",M39299<=30, \"Unserviceable\")","v":"Serviceable"}]
[null,64107,2004,"CCA Treated Pole","Serviceable","Class 2",2019,160,158.78,6,{"$f":"INDEX(Lists!$B$32:$B$40, MATCH(2020-C39350, Lists!$C$32:$C$40,1))","v":"0-20"},{"$f":"SUMPRODUCT((Data!$B$17:$B$19=Model!$F39350)*(Data!$C$16:$K$16=Model!$K39350)*(Data!$C$17:$K$19))","v":1.22},152.68,{"$f":"_xlfn.IFS(M39350>70,\"Serviceable\",M39350>30, \"Limited Life\",M39350<=30, \"Unserviceable\")","v":"Serviceable"}]
[null,64286,1959,"Wood Creos Impregnated","Serviceable","Class 3",2019,120,117.98,6,{"$f":"INDEX(Lists!$B$32:$B$40, MATCH(2020-C39452, Lists!$C$32:$C$40,1))","v":"61-70"},{"$f":"SUMPRODUCT((Data!$B$17:$B$19=Model!$F39452)*(Data!$C$16:$K$16=Model!$K39452)*(Data!$C$17:$K$19))","v":2.02},107.88,{"$f":"_xlfn.IFS(M39452>70,\"Serviceable\",M39452>30, \"Limited Life\",M39452<=30, \"Unserviceable\")","v":"Serviceable"}]
[null,64316,1969,"Wood Creos Impregnated","Serviceable","Class 3",2019,90,87.27,6,{"$f":"INDEX(Lists!$B$32:$B$40, MATCH(2020-C39469, Lists!$C$32:$C$40,1))","v":"51-60"},{"$f":"SUMPRODUCT((Data!$B$17:$B$19=Model!$F39469)*(Data!$C$16:$K$16=Model!$K39469)*(Data!$C$17:$K$19))","v":2.73},73.62,{"$f":"_xlfn.IFS(M39469>70,\"Serviceable\",M39469>30, \"Limited Life\",M39469<=30, \"Unserviceable\")","v":"Serviceable"}]
[null,64409,1972,"Wood Creos Impregnated","Serviceable","Class 3",2018,100,92.44,7,{"$f":"INDEX(Lists!$B$32:$B$40, MATCH(2020-C39526, Lists!$C$32:$C$40,1))","v":"41-50"},{"$f":"SUMPRODUCT((Data!$B$17:$B$19=Model!$F39526)*(Data!$C$16:$K$16=Model!$K39526)*(Data!$C$17:$K$19))","v":3.78},73.540000000000006,{"$f":"_xlfn.IFS(M39526>70,\"Serviceable\",M39526>30, \"Limited Life\",M39526<=30, \"Unserviceable\")","v":"Serviceable"}]
[null,64572,1965,"Wood Creos Impregnated","Serviceable","Class 3",2019,100,97.27,6,{"$f":"INDEX(Lists!$B$32:$B$40, MATCH(2020-C39622, Lists!$C$32:$C$40,1))","v":"51-60"},{"$f":"SUMPRODUCT((Data!$B$17:$B$19=Model!$F39622)*(Data!$C$16:$K$16=Model!$K39622)*(Data!$C$17:$K$19))","v":2.73},83.62,{"$f":"_xlfn.IFS(M39622>70,\"Serviceable\",M39622>30, \"Limited Life\",M39622<=30, \"Unserviceable\")","v":"Serviceable"}]
[null,64692,1962,"Wood Creos Impregnated","Serviceable","Class 3",2019,100,97.27,6,{"$f":"INDEX(Lists!$B$32:$B$40, MATCH(2020-C39707, Lists!$C$32:$C$40,1))","v":"51-60"},{"$f":"SUMPRODUCT((Data!$B$17:$B$19=Model!$F39707)*(Data!$C$16:$K$16=Model!$K39707)*(Data!$C$17:$K$19))","v":2.73},83.62,{"$f":"_xlfn.IFS(M39707>70,\"Serviceable\",M39707>30, \"Limited Life\",M39707<=30, \"Unserviceable\")","v":"Serviceable"}]
[null,64734,1982,"Wood Untreated Dressed","Serviceable","Class 1",2018,150,144.96,7,{"$f":"INDEX(Lists!$B$32:$B$40, MATCH(2020-C39735, Lists!$C$32:$C$40,1))","v":"31-40"},{"$f":"SUMPRODUCT((Data!$B$17:$B$19=Model!$F39735)*(Data!$C$16:$K$16=Model!$K39735)*(Data!$C$17:$K$19))","v":2.52},132.36000000000001,{"$f":"_xlfn.IFS(M39735>70,\"Serviceable\",M39735>30, \"Limited Life\",M39735<=30, \"Unserviceable\")","v":"Serviceable"}]
[null,64939,1962,"Wood Creos Impregnated","Serviceable","Class 3",2018,120,114.54,7,{"$f":"INDEX(Lists!$B$32:$B$40, MATCH(2020-C39860, Lists!$C$32:$C$40,1))","v":"51-60"},{"$f":"SUMPRODUCT((Data!$B$17:$B$19=Model!$F39860)*(Data!$C$16:$K$16=Model!$K39860)*(Data!$C$17:$K$19))","v":2.73},100.89,{"$f":"_xlfn.IFS(M39860>70,\"Serviceable\",M39860>30, \"Limited Life\",M39860<=30, \"Unserviceable\")","v":"Serviceable"}]
[null,64996,1980,"Wood Untreated Dressed","Serviceable","Class 1",2019,90,87.48,6,{"$f":"INDEX(Lists!$B$32:$B$40, MATCH(2020-C39897, Lists!$C$32:$C$40,1))","v":"31-40"},{"$f":"SUMPRODUCT((Data!$B$17:$B$19=Model!$F39897)*(Data!$C$16:$K$16=Model!$K39897)*(Data!$C$17:$K$19))","v":2.52},74.88,{"$f":"_xlfn.IFS(M39897>70,\"Serviceable\",M39897>30, \"Limited Life\",M39897<=30, \"Unserviceable\")","v":"Serviceable"}]
[null,65074,1967,"Wood Creos Impregnated","Serviceable","Class 3",2020,90,90,5,{"$f":"INDEX(Lists!$B$32:$B$40, MATCH(2020-C39945, Lists!$C$32:$C$40,1))","v":"51-60"},{"$f":"SUMPRODUCT((Data!$B$17:$B$19=Model!$F39945)*(Data!$C$16:$K$16=Model!$K39945)*(Data!$C$17:$K$19))","v":2.73},76.349999999999994,{"$f":"_xlfn.IFS(M39945>70,\"Serviceable\",M39945>30, \"Limited Life\",M39945<=30, \"Unserviceable\")","v":"Serviceable"}]
[null,65213,1997,"Wood Untreated Round","Serviceable","Class 2",2017,150,144.33000000000001,8,{"$f":"INDEX(Lists!$B$32:$B$40, MATCH(2020-C40030, Lists!$C$32:$C$40,1))","v":"21-30"},{"$f":"SUMPRODUCT((Data!$B$17:$B$19=Model!$F40030)*(Data!$C$16:$K$16=Model!$K40030)*(Data!$C$17:$K$19))","v":1.89},134.88,{"$f":"_xlfn.IFS(M40030>70,\"Serviceable\",M40030>30, \"Limited Life\",M40030<=30, \"Unserviceable\")","v":"Serviceable"}]
[null,65314,1962,"Wood Creos Impregnated","Serviceable","Class 3",2017,100,91.81,8,{"$f":"INDEX(Lists!$B$32:$B$40, MATCH(2020-C40106, Lists!$C$32:$C$40,1))","v":"51-60"},{"$f":"SUMPRODUCT((Data!$B$17:$B$19=Model!$F40106)*(Data!$C$16:$K$16=Model!$K40106)*(Data!$C$17:$K$19))","v":2.73},78.16,{"$f":"_xlfn.IFS(M40106>70,\"Serviceable\",M40106>30, \"Limited Life\",M40106<=30, \"Unserviceable\")","v":"Serviceable"}]
[null,65430,1968,"Wood Creos Impregnated","Serviceable","Class 3",2019,90,87.27,6,{"$f":"INDEX(Lists!$B$32:$B$40, MATCH(2020-C40183, Lists!$C$32:$C$40,1))","v":"51-60"},{"$f":"SUMPRODUCT((Data!$B$17:$B$19=Model!$F40183)*(Data!$C$16:$K$16=Model!$K40183)*(Data!$C$17:$K$19))","v":2.73},73.62,{"$f":"_xlfn.IFS(M40183>70,\"Serviceable\",M40183>30, \"Limited Life\",M40183<=30, \"Unserviceable\")","v":"Serviceable"}]
[null,65576,1966,"Wood Creos Impregnated","Serviceable","Class 3",2019,90,87.27,6,{"$f":"INDEX(Lists!$B$32:$B$40, MATCH(2020-C40268, Lists!$C$32:$C$40,1))","v":"51-60"},{"$f":"SUMPRODUCT((Data!$B$17:$B$19=Model!$F40268)*(Data!$C$16:$K$16=Model!$K40268)*(Data!$C$17:$K$19))","v":2.73},73.62,{"$f":"_xlfn.IFS(M40268>70,\"Serviceable\",M40268>30, \"Limited Life\",M40268<=30, \"Unserviceable\")","v":"Serviceable"}]
[null,65683,1982,"Wood Creos Impregnated","Serviceable","Class 3",2019,100,96.78,6,{"$f":"INDEX(Lists!$B$32:$B$40, MATCH(2020-C40336, Lists!$C$32:$C$40,1))","v":"31-40"},{"$f":"SUMPRODUCT((Data!$B$17:$B$19=Model!$F40336)*(Data!$C$16:$K$16=Model!$K40336)*(Data!$C$17:$K$19))","v":3.22},80.680000000000007,{"$f":"_xlfn.IFS(M40336>70,\"Serviceable\",M40336>30, \"Limited Life\",M40336<=30, \"Unserviceable\")","v":"Serviceable"}]
[null,65709,1979,"Wood Untreated Dressed","Serviceable","Class 1",2018,120,116.5,7,{"$f":"INDEX(Lists!$B$32:$B$40, MATCH(2020-C40353, Lists!$C$32:$C$40,1))","v":"41-50"},{"$f":"SUMPRODUCT((Data!$B$17:$B$19=Model!$F40353)*(Data!$C$16:$K$16=Model!$K40353)*(Data!$C$17:$K$19))","v":1.75},107.75,{"$f":"_xlfn.IFS(M40353>70,\"Serviceable\",M40353>30, \"Limited Life\",M40353<=30, \"Unserviceable\")","v":"Serviceable"}]
[null,65820,1973,"Wood Creos Impregnated","Serviceable","Class 3",2017,100,88.66,8,{"$f":"INDEX(Lists!$B$32:$B$40, MATCH(2020-C40444, Lists!$C$32:$C$40,1))","v":"41-50"},{"$f":"SUMPRODUCT((Data!$B$17:$B$19=Model!$F40444)*(Data!$C$16:$K$16=Model!$K40444)*(Data!$C$17:$K$19))","v":3.78},69.760000000000005,{"$f":"_xlfn.IFS(M40444>70,\"Serviceable\",M40444>30, \"Limited Life\",M40444<=30, \"Unserviceable\")","v":"Limited Life"}]
[null,65917,1982,"Wood Creos Impregnated","Serviceable","Class 3",2020,120,120,5,{"$f":"INDEX(Lists!$B$32:$B$40, MATCH(2020-C40506, Lists!$C$32:$C$40,1))","v":"31-40"},{"$f":"SUMPRODUCT((Data!$B$17:$B$19=Model!$F40506)*(Data!$C$16:$K$16=Model!$K40506)*(Data!$C$17:$K$19))","v":3.22},103.9,{"$f":"_xlfn.IFS(M40506>70,\"Serviceable\",M40506>30, \"Limited Life\",M40506<=30, \"Unserviceable\")","v":"Serviceable"}]
[null,66060,1982,"Wood Untreated Dressed","Serviceable","Class 1",2019,100,97.48,6,{"$f":"INDEX(Lists!$B$32:$B$40, MATCH(2020-C40591, Lists!$C$32:$C$40,1))","v":"31-40"},{"$f":"SUMPRODUCT((Data!$B$17:$B$19=Model!$F40591)*(Data!$C$16:$K$16=Model!$K40591)*(Data!$C$17:$K$19))","v":2.52},84.88,{"$f":"_xlfn.IFS(M40591>70,\"Serviceable\",M40591>30, \"Limited Life\",M40591<=30, \"Unserviceable\")","v":"Serviceable"}]
[null,66160,1949,"Wood Untreated Round","Serviceable","Class 1",2017,80,73.55,8,{"$f":"INDEX(Lists!$B$32:$B$40, MATCH(2020-C40653, Lists!$C$32:$C$40,1))","v":"71-80"},{"$f":"SUMPRODUCT((Data!$B$17:$B$19=Model!$F40653)*(Data!$C$16:$K$16=Model!$K40653)*(Data!$C$17:$K$19))","v":2.15},62.8,{"$f":"_xlfn.IFS(M40653>70,\"Serviceable\",M40653>30, \"Limited Life\",M40653<=30, \"Unserviceable\")","v":"Limited Life"}]
[null,66195,1968,"Wood Creos Impregnated","Serviceable","Class 3",2016,130,119.08,9,{"$f":"INDEX(Lists!$B$32:$B$40, MATCH(2020-C40676, Lists!$C$32:$C$40,1))","v":"51-60"},{"$f":"SUMPRODUCT((Data!$B$17:$B$19=Model!$F40676)*(Data!$C$16:$K$16=Model!$K40676)*(Data!$C$17:$K$19))","v":2.73},105.43,{"$f":"_xlfn.IFS(M40676>70,\"Serviceable\",M40676>30, \"Limited Life\",M40676<=30, \"Unserviceable\")","v":"Serviceable"}]
[null,66303,1976,"Wood Untreated Dressed","Serviceable","Class 1",2019,100,98.25,6,{"$f":"INDEX(Lists!$B$32:$B$40, MATCH(2020-C40748, Lists!$C$32:$C$40,1))","v":"41-50"},{"$f":"SUMPRODUCT((Data!$B$17:$B$19=Model!$F40748)*(Data!$C$16:$K$16=Model!$K40748)*(Data!$C$17:$K$19))","v":1.75},89.5,{"$f":"_xlfn.IFS(M40748>70,\"Serviceable\",M40748>30, \"Limited Life\",M40748<=30, \"Unserviceable\")","v":"Serviceable"}]
[null,66422,1969,"CCA Treated Pole","Serviceable","Class 3",2019,100,97.27,6,{"$f":"INDEX(Lists!$B$32:$B$40, MATCH(2020-C40829, Lists!$C$32:$C$40,1))","v":"51-60"},{"$f":"SUMPRODUCT((Data!$B$17:$B$19=Model!$F40829)*(Data!$C$16:$K$16=Model!$K40829)*(Data!$C$17:$K$19))","v":2.73},83.62,{"$f":"_xlfn.IFS(M40829>70,\"Serviceable\",M40829>30, \"Limited Life\",M40829<=30, \"Unserviceable\")","v":"Serviceable"}]
[null,66561,1972,"Wood Creos Impregnated","Serviceable","Class 3",2019,100,96.22,6,{"$f":"INDEX(Lists!$B$32:$B$40, MATCH(2020-C40914, Lists!$C$32:$C$40,1))","v":"41-50"},{"$f":"SUMPRODUCT((Data!$B$17:$B$19=Model!$F40914)*(Data!$C$16:$K$16=Model!$K40914)*(Data!$C$17:$K$19))","v":3.78},77.319999999999993,{"$f":"_xlfn.IFS(M40914>70,\"Serviceable\",M40914>30, \"Limited Life\",M40914<=30, \"Unserviceable\")","v":"Serviceable"}]
[null,66640,2003,"CCA Treated Pole","Serviceable","Class 2",2017,162.49719689682513,158.83719689682513,8,{"$f":"INDEX(Lists!$B$32:$B$40, MATCH(2020-C40957, Lists!$C$32:$C$40,1))","v":"0-20"},{"$f":"SUMPRODUCT((Data!$B$17:$B$19=Model!$F40957)*(Data!$C$16:$K$16=Model!$K40957)*(Data!$C$17:$K$19))","v":1.22},152.73719689682514,{"$f":"_xlfn.IFS(M40957>70,\"Serviceable\",M40957>30, \"Limited Life\",M40957<=30, \"Unserviceable\")","v":"Serviceable"}]
[null,66829,1980,"Wood Creos Impregnated","Serviceable","Class 3",2018,100,93.56,7,{"$f":"INDEX(Lists!$B$32:$B$40, MATCH(2020-C41067, Lists!$C$32:$C$40,1))","v":"31-40"},{"$f":"SUMPRODUCT((Data!$B$17:$B$19=Model!$F41067)*(Data!$C$16:$K$16=Model!$K41067)*(Data!$C$17:$K$19))","v":3.22},77.459999999999994,{"$f":"_xlfn.IFS(M41067>70,\"Serviceable\",M41067>30, \"Limited Life\",M41067<=30, \"Unserviceable\")","v":"Serviceable"}]
[null,66924,1974,"Wood Creos Impregnated","Serviceable","Class 1",2020,130,130,5,{"$f":"INDEX(Lists!$B$32:$B$40, MATCH(2020-C41119, Lists!$C$32:$C$40,1))","v":"41-50"},{"$f":"SUMPRODUCT((Data!$B$17:$B$19=Model!$F41119)*(Data!$C$16:$K$16=Model!$K41119)*(Data!$C$17:$K$19))","v":1.75},121.25,{"$f":"_xlfn.IFS(M41119>70,\"Serviceable\",M41119>30, \"Limited Life\",M41119<=30, \"Unserviceable\")","v":"Serviceable"}]
[null,66978,1979,"Wood Untreated Dressed","Serviceable","Class 1",2018,100,96.5,7,{"$f":"INDEX(Lists!$B$32:$B$40, MATCH(2020-C41152, Lists!$C$32:$C$40,1))","v":"41-50"},{"$f":"SUMPRODUCT((Data!$B$17:$B$19=Model!$F41152)*(Data!$C$16:$K$16=Model!$K41152)*(Data!$C$17:$K$19))","v":1.75},87.75,{"$f":"_xlfn.IFS(M41152>70,\"Serviceable\",M41152>30, \"Limited Life\",M41152<=30, \"Unserviceable\")","v":"Serviceable"}]
[null,67095,1986,"Wood Untreated Dressed","Serviceable","Class 1",2018,100,94.96,7,{"$f":"INDEX(Lists!$B$32:$B$40, MATCH(2020-C41237, Lists!$C$32:$C$40,1))","v":"31-40"},{"$f":"SUMPRODUCT((Data!$B$17:$B$19=Model!$F41237)*(Data!$C$16:$K$16=Model!$K41237)*(Data!$C$17:$K$19))","v":2.52},82.36,{"$f":"_xlfn.IFS(M41237>70,\"Serviceable\",M41237>30, \"Limited Life\",M41237<=30, \"Unserviceable\")","v":"Serviceable"}]
[null,67179,1967,"Wood Creos Impregnated","Serviceable","Class 3",2017,100,91.81,8,{"$f":"INDEX(Lists!$B$32:$B$40, MATCH(2020-C41295, Lists!$C$32:$C$40,1))","v":"51-60"},{"$f":"SUMPRODUCT((Data!$B$17:$B$19=Model!$F41295)*(Data!$C$16:$K$16=Model!$K41295)*(Data!$C$17:$K$19))","v":2.73},78.16,{"$f":"_xlfn.IFS(M41295>70,\"Serviceable\",M41295>30, \"Limited Life\",M41295<=30, \"Unserviceable\")","v":"Serviceable"}]
[null,67321,1986,"Wood Untreated Dressed","Serviceable","Class 1",2018,140,134.96,7,{"$f":"INDEX(Lists!$B$32:$B$40, MATCH(2020-C41390, Lists!$C$32:$C$40,1))","v":"31-40"},{"$f":"SUMPRODUCT((Data!$B$17:$B$19=Model!$F41390)*(Data!$C$16:$K$16=Model!$K41390)*(Data!$C$17:$K$19))","v":2.52},122.36,{"$f":"_xlfn.IFS(M41390>70,\"Serviceable\",M41390>30, \"Limited Life\",M41390<=30, \"Unserviceable\")","v":"Serviceable"}]
[null,67365,1986,"Wood Untreated Dressed","Serviceable","Class 1",2019,100,97.48,6,{"$f":"INDEX(Lists!$B$32:$B$40, MATCH(2020-C41423, Lists!$C$32:$C$40,1))","v":"31-40"},{"$f":"SUMPRODUCT((Data!$B$17:$B$19=Model!$F41423)*(Data!$C$16:$K$16=Model!$K41423)*(Data!$C$17:$K$19))","v":2.52},84.88,{"$f":"_xlfn.IFS(M41423>70,\"Serviceable\",M41423>30, \"Limited Life\",M41423<=30, \"Unserviceable\")","v":"Serviceable"}]
[null,67531,1971,"Wood Creos Impregnated","Limited Life","Class 2",2015,80,63.6,10,{"$f":"INDEX(Lists!$B$32:$B$40, MATCH(2020-C41543, Lists!$C$32:$C$40,1))","v":"41-50"},{"$f":"SUMPRODUCT((Data!$B$17:$B$19=Model!$F41543)*(Data!$C$16:$K$16=Model!$K41543)*(Data!$C$17:$K$19))","v":3.28},47.2,{"$f":"_xlfn.IFS(M41543>70,\"Serviceable\",M41543>30, \"Limited Life\",M41543<=30, \"Unserviceable\")","v":"Limited Life"}]
[null,67559,1971,"Wood Creos Impregnated","Serviceable","Class 3",2017,120,108.66,8,{"$f":"INDEX(Lists!$B$32:$B$40, MATCH(2020-C41560, Lists!$C$32:$C$40,1))","v":"41-50"},{"$f":"SUMPRODUCT((Data!$B$17:$B$19=Model!$F41560)*(Data!$C$16:$K$16=Model!$K41560)*(Data!$C$17:$K$19))","v":3.78},89.76,{"$f":"_xlfn.IFS(M41560>70,\"Serviceable\",M41560>30, \"Limited Life\",M41560<=30, \"Unserviceable\")","v":"Serviceable"}]
[null,67719,1981,"Wood Creos Impregnated","Serviceable","Class 2",2020,100,100,5,{"$f":"INDEX(Lists!$B$32:$B$40, MATCH(2020-C41666, Lists!$C$32:$C$40,1))","v":"31-40"},{"$f":"SUMPRODUCT((Data!$B$17:$B$19=Model!$F41666)*(Data!$C$16:$K$16=Model!$K41666)*(Data!$C$17:$K$19))","v":2.33},88.35,{"$f":"_xlfn.IFS(M41666>70,\"Serviceable\",M41666>30, \"Limited Life\",M41666<=30, \"Unserviceable\")","v":"Serviceable"}]
[null,67816,1968,"Wood Creos Impregnated","Serviceable","Class 3",2019,90,87.27,6,{"$f":"INDEX(Lists!$B$32:$B$40, MATCH(2020-C41713, Lists!$C$32:$C$40,1))","v":"51-60"},{"$f":"SUMPRODUCT((Data!$B$17:$B$19=Model!$F41713)*(Data!$C$16:$K$16=Model!$K41713)*(Data!$C$17:$K$19))","v":2.73},73.62,{"$f":"_xlfn.IFS(M41713>70,\"Serviceable\",M41713>30, \"Limited Life\",M41713<=30, \"Unserviceable\")","v":"Serviceable"}]
[null,67974,1982,"Wood Untreated Dressed","Serviceable","Class 1",2018,110,104.96,7,{"$f":"INDEX(Lists!$B$32:$B$40, MATCH(2020-C41798, Lists!$C$32:$C$40,1))","v":"31-40"},{"$f":"SUMPRODUCT((Data!$B$17:$B$19=Model!$F41798)*(Data!$C$16:$K$16=Model!$K41798)*(Data!$C$17:$K$19))","v":2.52},92.36,{"$f":"_xlfn.IFS(M41798>70,\"Serviceable\",M41798>30, \"Limited Life\",M41798<=30, \"Unserviceable\")","v":"Serviceable"}]
[null,68027,1973,"Wood Creos Impregnated","Serviceable","Class 1",2015,100,91.25,10,{"$f":"INDEX(Lists!$B$32:$B$40, MATCH(2020-C41842, Lists!$C$32:$C$40,1))","v":"41-50"},{"$f":"SUMPRODUCT((Data!$B$17:$B$19=Model!$F41842)*(Data!$C$16:$K$16=Model!$K41842)*(Data!$C$17:$K$19))","v":1.75},82.5,{"$f":"_xlfn.IFS(M41842>70,\"Serviceable\",M41842>30, \"Limited Life\",M41842<=30, \"Unserviceable\")","v":"Serviceable"}]
[null,68179,1983,"Wood Untreated Dressed","Serviceable","Class 1",2017,150,142.44,8,{"$f":"INDEX(Lists!$B$32:$B$40, MATCH(2020-C41951, Lists!$C$32:$C$40,1))","v":"31-40"},{"$f":"SUMPRODUCT((Data!$B$17:$B$19=Model!$F41951)*(Data!$C$16:$K$16=Model!$K41951)*(Data!$C$17:$K$19))","v":2.52},129.84,{"$f":"_xlfn.IFS(M41951>70,\"Serviceable\",M41951>30, \"Limited Life\",M41951<=30, \"Unserviceable\")","v":"Serviceable"}]
[null,68220,1939,"Wood Untreated Round","Serviceable","Class 1",2019,120,117.19,6,{"$f":"INDEX(Lists!$B$32:$B$40, MATCH(2020-C41970, Lists!$C$32:$C$40,1))","v":"81-90"},{"$f":"SUMPRODUCT((Data!$B$17:$B$19=Model!$F41970)*(Data!$C$16:$K$16=Model!$K41970)*(Data!$C$17:$K$19))","v":2.81},103.14,{"$f":"_xlfn.IFS(M41970>70,\"Serviceable\",M41970>30, \"Limited Life\",M41970<=30, \"Unserviceable\")","v":"Serviceable"}]
[null,68316,1970,"Wood Creos Impregnated","Serviceable","Class 2",2017,100,90.16,8,{"$f":"INDEX(Lists!$B$32:$B$40, MATCH(2020-C42036, Lists!$C$32:$C$40,1))","v":"41-50"},{"$f":"SUMPRODUCT((Data!$B$17:$B$19=Model!$F42036)*(Data!$C$16:$K$16=Model!$K42036)*(Data!$C$17:$K$19))","v":3.28},73.760000000000005,{"$f":"_xlfn.IFS(M42036>70,\"Serviceable\",M42036>30, \"Limited Life\",M42036<=30, \"Unserviceable\")","v":"Serviceable"}]
[null,68453,1970,"Wood Creos Impregnated","Serviceable","Class 3",2016,120,104.88,9,{"$f":"INDEX(Lists!$B$32:$B$40, MATCH(2020-C42121, Lists!$C$32:$C$40,1))","v":"41-50"},{"$f":"SUMPRODUCT((Data!$B$17:$B$19=Model!$F42121)*(Data!$C$16:$K$16=Model!$K42121)*(Data!$C$17:$K$19))","v":3.78},85.98,{"$f":"_xlfn.IFS(M42121>70,\"Serviceable\",M42121>30, \"Limited Life\",M42121<=30, \"Unserviceable\")","v":"Serviceable"}]
[null,68581,1940,"Wood Untreated Round","Serviceable","Class 1",2019,100,97.85,6,{"$f":"INDEX(Lists!$B$32:$B$40, MATCH(2020-C42213, Lists!$C$32:$C$40,1))","v":"71-80"},{"$f":"SUMPRODUCT((Data!$B$17:$B$19=Model!$F42213)*(Data!$C$16:$K$16=Model!$K42213)*(Data!$C$17:$K$19))","v":2.15},87.1,{"$f":"_xlfn.IFS(M42213>70,\"Serviceable\",M42213>30, \"Limited Life\",M42213<=30, \"Unserviceable\")","v":"Serviceable"}]
[null,68669,1966,"Wood Creos Impregnated","Serviceable","Class 3",2019,120,117.27,6,{"$f":"INDEX(Lists!$B$32:$B$40, MATCH(2020-C42274, Lists!$C$32:$C$40,1))","v":"51-60"},{"$f":"SUMPRODUCT((Data!$B$17:$B$19=Model!$F42274)*(Data!$C$16:$K$16=Model!$K42274)*(Data!$C$17:$K$19))","v":2.73},103.62,{"$f":"_xlfn.IFS(M42274>70,\"Serviceable\",M42274>30, \"Limited Life\",M42274<=30, \"Unserviceable\")","v":"Serviceable"}]
[null,68766,1939,"Wood Untreated Dressed","Serviceable","Class 1",2018,80,74.38,7,{"$f":"INDEX(Lists!$B$32:$B$40, MATCH(2020-C42341, Lists!$C$32:$C$40,1))","v":"81-90"},{"$f":"SUMPRODUCT((Data!$B$17:$B$19=Model!$F42341)*(Data!$C$16:$K$16=Model!$K42341)*(Data!$C$17:$K$19))","v":2.81},60.33,{"$f":"_xlfn.IFS(M42341>70,\"Serviceable\",M42341>30, \"Limited Life\",M42341<=30, \"Unserviceable\")","v":"Limited Life"}]
[null,68908,1975,"Wood Creos Impregnated","Serviceable","Class 3",2018,100,92.44,7,{"$f":"INDEX(Lists!$B$32:$B$40, MATCH(2020-C42427, Lists!$C$32:$C$40,1))","v":"41-50"},{"$f":"SUMPRODUCT((Data!$B$17:$B$19=Model!$F42427)*(Data!$C$16:$K$16=Model!$K42427)*(Data!$C$17:$K$19))","v":3.78},73.540000000000006,{"$f":"_xlfn.IFS(M42427>70,\"Serviceable\",M42427>30, \"Limited Life\",M42427<=30, \"Unserviceable\")","v":"Serviceable"}]
[null,68944,1976,"Wood Untreated Dressed","Serviceable","Class 1",2019,100,98.25,6,{"$f":"INDEX(Lists!$B$32:$B$40, MATCH(2020-C42444, Lists!$C$32:$C$40,1))","v":"41-50"},{"$f":"SUMPRODUCT((Data!$B$17:$B$19=Model!$F42444)*(Data!$C$16:$K$16=Model!$K42444)*(Data!$C$17:$K$19))","v":1.75},89.5,{"$f":"_xlfn.IFS(M42444>70,\"Serviceable\",M42444>30, \"Limited Life\",M42444<=30, \"Unserviceable\")","v":"Serviceable"}]
[null,69062,2006,"CCA Treated Pole","Serviceable","Class 1",2020,166.31691553103065,166.31691553103065,5,{"$f":"INDEX(Lists!$B$32:$B$40, MATCH(2020-C42517, Lists!$C$32:$C$40,1))","v":"0-20"},{"$f":"SUMPRODUCT((Data!$B$17:$B$19=Model!$F42517)*(Data!$C$16:$K$16=Model!$K42517)*(Data!$C$17:$K$19))","v":1.06},161.01691553103063,{"$f":"_xlfn.IFS(M42517>70,\"Serviceable\",M42517>30, \"Limited Life\",M42517<=30, \"Unserviceable\")","v":"Serviceable"}]
[null,69176,1989,"Wood Untreated Dressed","Serviceable","Class 1",2018,120,114.96,7,{"$f":"INDEX(Lists!$B$32:$B$40, MATCH(2020-C42597, Lists!$C$32:$C$40,1))","v":"31-40"},{"$f":"SUMPRODUCT((Data!$B$17:$B$19=Model!$F42597)*(Data!$C$16:$K$16=Model!$K42597)*(Data!$C$17:$K$19))","v":2.52},102.36,{"$f":"_xlfn.IFS(M42597>70,\"Serviceable\",M42597>30, \"Limited Life\",M42597<=30, \"Unserviceable\")","v":"Serviceable"}]
[null,69327,2008,"CCA Treated Pole","Serviceable","Class 1",2018,150,147.88,7,{"$f":"INDEX(Lists!$B$32:$B$40, MATCH(2020-C42682, Lists!$C$32:$C$40,1))","v":"0-20"},{"$f":"SUMPRODUCT((Data!$B$17:$B$19=Model!$F42682)*(Data!$C$16:$K$16=Model!$K42682)*(Data!$C$17:$K$19))","v":1.06},142.58000000000001,{"$f":"_xlfn.IFS(M42682>70,\"Serviceable\",M42682>30, \"Limited Life\",M42682<=30, \"Unserviceable\")","v":"Serviceable"}]
[null,69452,1989,"Wood Untreated Dressed","Serviceable","Class 1",2019,150,147.47999999999999,{"$f":"2025-G42760","v":6},{"$f":"INDEX(Lists!$B$32:$B$40, MATCH(2020-C42760, Lists!$C$32:$C$40,1))","v":"31-40"},{"$f":"SUMPRODUCT((Data!$B$17:$B$19=Model!$F42760)*(Data!$C$16:$K$16=Model!$K42760)*(Data!$C$17:$K$19))","v":2.52},{"$f":"IF(IF(H42760>=700,999,(H42760-L42760*J42760))<0,0,IF(H42760>=700,999,(H42760-L42760*J42760)))","v":134.88},{"$f":"_xlfn.IFS(M42760>70,\"Serviceable\",M42760>30, \"Limited Life\",M42760<=30, \"Unserviceable\")","v":"Serviceable"}]
[null,69565,1973,"Wood Creos Impregnated","Serviceable","Class 3",2016,90,74.88,9,{"$f":"INDEX(Lists!$B$32:$B$40, MATCH(2020-C42835, Lists!$C$32:$C$40,1))","v":"41-50"},{"$f":"SUMPRODUCT((Data!$B$17:$B$19=Model!$F42835)*(Data!$C$16:$K$16=Model!$K42835)*(Data!$C$17:$K$19))","v":3.78},55.980000000000004,{"$f":"_xlfn.IFS(M42835>70,\"Serviceable\",M42835>30, \"Limited Life\",M42835<=30, \"Unserviceable\")","v":"Limited Life"}]
[null,69634,1968,"Wood Creos Impregnated","Serviceable","Class 3",2017,100,91.81,{"$f":"2025-G42888","v":8},{"$f":"INDEX(Lists!$B$32:$B$40, MATCH(2020-C42888, Lists!$C$32:$C$40,1))","v":"51-60"},{"$f":"SUMPRODUCT((Data!$B$17:$B$19=Model!$F42888)*(Data!$C$16:$K$16=Model!$K42888)*(Data!$C$17:$K$19))","v":2.73},{"$f":"IF(IF(H42888>=700,999,(H42888-L42888*J42888))<0,0,IF(H42888>=700,999,(H42888-L42888*J42888)))","v":78.16},{"$f":"_xlfn.IFS(M42888>70,\"Serviceable\",M42888>30, \"Limited Life\",M42888<=30, \"Unserviceable\")","v":"Serviceable"}]
[null,69684,1958,"Wood Creos Impregnated","Serviceable","Class 3",2020,80,80,5,{"$f":"INDEX(Lists!$B$32:$B$40, MATCH(2020-C42920, Lists!$C$32:$C$40,1))","v":"61-70"},{"$f":"SUMPRODUCT((Data!$B$17:$B$19=Model!$F42920)*(Data!$C$16:$K$16=Model!$K42920)*(Data!$C$17:$K$19))","v":2.02},69.900000000000006,{"$f":"_xlfn.IFS(M42920>70,\"Serviceable\",M42920>30, \"Limited Life\",M42920<=30, \"Unserviceable\")","v":"Limited Life"}]
[null,69846,1981,"Wood Creos Impregnated","Serviceable","Class 3",2019,100,96.78,6,{"$f":"INDEX(Lists!$B$32:$B$40, MATCH(2020-C43005, Lists!$C$32:$C$40,1))","v":"31-40"},{"$f":"SUMPRODUCT((Data!$B$17:$B$19=Model!$F43005)*(Data!$C$16:$K$16=Model!$K43005)*(Data!$C$17:$K$19))","v":3.22},80.680000000000007,{"$f":"_xlfn.IFS(M43005>70,\"Serviceable\",M43005>30, \"Limited Life\",M43005<=30, \"Unserviceable\")","v":"Serviceable"}]
[null,69952,1961,"Wood Creos Impregnated","Serviceable","Class 3",2020,90,90,5,{"$f":"INDEX(Lists!$B$32:$B$40, MATCH(2020-C43064, Lists!$C$32:$C$40,1))","v":"51-60"},{"$f":"SUMPRODUCT((Data!$B$17:$B$19=Model!$F43064)*(Data!$C$16:$K$16=Model!$K43064)*(Data!$C$17:$K$19))","v":2.73},76.349999999999994,{"$f":"_xlfn.IFS(M43064>70,\"Serviceable\",M43064>30, \"Limited Life\",M43064<=30, \"Unserviceable\")","v":"Serviceable"}]
[null,70089,1981,"Wood Creos Impregnated","Serviceable","Class 3",2017,100,90.34,8,{"$f":"INDEX(Lists!$B$32:$B$40, MATCH(2020-C43158, Lists!$C$32:$C$40,1))","v":"31-40"},{"$f":"SUMPRODUCT((Data!$B$17:$B$19=Model!$F43158)*(Data!$C$16:$K$16=Model!$K43158)*(Data!$C$17:$K$19))","v":3.22},74.239999999999995,{"$f":"_xlfn.IFS(M43158>70,\"Serviceable\",M43158>30, \"Limited Life\",M43158<=30, \"Unserviceable\")","v":"Serviceable"}]
[null,70133,1959,"Wood Creos Impregnated","Serviceable","Class 3",2017,80,73.94,8,{"$f":"INDEX(Lists!$B$32:$B$40, MATCH(2020-C43192, Lists!$C$32:$C$40,1))","v":"61-70"},{"$f":"SUMPRODUCT((Data!$B$17:$B$19=Model!$F43192)*(Data!$C$16:$K$16=Model!$K43192)*(Data!$C$17:$K$19))","v":2.02},63.84,{"$f":"_xlfn.IFS(M43192>70,\"Serviceable\",M43192>30, \"Limited Life\",M43192<=30, \"Unserviceable\")","v":"Limited Life"}]
[null,70239,1961,"Wood Creos Impregnated","Serviceable","Class 3",2018,100,94.54,7,{"$f":"INDEX(Lists!$B$32:$B$40, MATCH(2020-C43259, Lists!$C$32:$C$40,1))","v":"51-60"},{"$f":"SUMPRODUCT((Data!$B$17:$B$19=Model!$F43259)*(Data!$C$16:$K$16=Model!$K43259)*(Data!$C$17:$K$19))","v":2.73},80.89,{"$f":"_xlfn.IFS(M43259>70,\"Serviceable\",M43259>30, \"Limited Life\",M43259<=30, \"Unserviceable\")","v":"Serviceable"}]
[null,70346,2005,"CCA Treated Pole","Serviceable","Class 2",2018,150,147.56,7,{"$f":"INDEX(Lists!$B$32:$B$40, MATCH(2020-C43328, Lists!$C$32:$C$40,1))","v":"0-20"},{"$f":"SUMPRODUCT((Data!$B$17:$B$19=Model!$F43328)*(Data!$C$16:$K$16=Model!$K43328)*(Data!$C$17:$K$19))","v":1.22},141.46,{"$f":"_xlfn.IFS(M43328>70,\"Serviceable\",M43328>30, \"Limited Life\",M43328<=30, \"Unserviceable\")","v":"Serviceable"}]
[null,70524,1964,"Wood Creos Impregnated","Serviceable","Class 3",2017,100,91.81,8,{"$f":"INDEX(Lists!$B$32:$B$40, MATCH(2020-C43435, Lists!$C$32:$C$40,1))","v":"51-60"},{"$f":"SUMPRODUCT((Data!$B$17:$B$19=Model!$F43435)*(Data!$C$16:$K$16=Model!$K43435)*(Data!$C$17:$K$19))","v":2.73},78.16,{"$f":"_xlfn.IFS(M43435>70,\"Serviceable\",M43435>30, \"Limited Life\",M43435<=30, \"Unserviceable\")","v":"Serviceable"}]
[null,70621,1971,"Wood Creos Impregnated","Serviceable","Class 3",2020,110,110,5,{"$f":"INDEX(Lists!$B$32:$B$40, MATCH(2020-C43481, Lists!$C$32:$C$40,1))","v":"41-50"},{"$f":"SUMPRODUCT((Data!$B$17:$B$19=Model!$F43481)*(Data!$C$16:$K$16=Model!$K43481)*(Data!$C$17:$K$19))","v":3.78},91.1,{"$f":"_xlfn.IFS(M43481>70,\"Serviceable\",M43481>30, \"Limited Life\",M43481<=30, \"Unserviceable\")","v":"Serviceable"}]
[null,70783,1962,"Wood Creos Impregnated","Serviceable","Class 3",2020,100,100,5,{"$f":"INDEX(Lists!$B$32:$B$40, MATCH(2020-C43563, Lists!$C$32:$C$40,1))","v":"51-60"},{"$f":"SUMPRODUCT((Data!$B$17:$B$19=Model!$F43563)*(Data!$C$16:$K$16=Model!$K43563)*(Data!$C$17:$K$19))","v":2.73},86.35,{"$f":"_xlfn.IFS(M43563>70,\"Serviceable\",M43563>30, \"Limited Life\",M43563<=30, \"Unserviceable\")","v":"Serviceable"}]
[null,70808,1940,"Wood Untreated Round","Serviceable","Class 1",2019,100,97.85,6,{"$f":"INDEX(Lists!$B$32:$B$40, MATCH(2020-C43582, Lists!$C$32:$C$40,1))","v":"71-80"},{"$f":"SUMPRODUCT((Data!$B$17:$B$19=Model!$F43582)*(Data!$C$16:$K$16=Model!$K43582)*(Data!$C$17:$K$19))","v":2.15},87.1,{"$f":"_xlfn.IFS(M43582>70,\"Serviceable\",M43582>30, \"Limited Life\",M43582<=30, \"Unserviceable\")","v":"Serviceable"}]
[null,70962,1939,"Wood Untreated Dressed","Serviceable","Class 1",2019,100,97.19,6,{"$f":"INDEX(Lists!$B$32:$B$40, MATCH(2020-C43651, Lists!$C$32:$C$40,1))","v":"81-90"},{"$f":"SUMPRODUCT((Data!$B$17:$B$19=Model!$F43651)*(Data!$C$16:$K$16=Model!$K43651)*(Data!$C$17:$K$19))","v":2.81},83.14,{"$f":"_xlfn.IFS(M43651>70,\"Serviceable\",M43651>30, \"Limited Life\",M43651<=30, \"Unserviceable\")","v":"Serviceable"}]
[null,71110,1986,"Wood Untreated Dressed","Serviceable","Class 1",2020,120,120,5,{"$f":"INDEX(Lists!$B$32:$B$40, MATCH(2020-C43739, Lists!$C$32:$C$40,1))","v":"31-40"},{"$f":"SUMPRODUCT((Data!$B$17:$B$19=Model!$F43739)*(Data!$C$16:$K$16=Model!$K43739)*(Data!$C$17:$K$19))","v":2.52},107.4,{"$f":"_xlfn.IFS(M43739>70,\"Serviceable\",M43739>30, \"Limited Life\",M43739<=30, \"Unserviceable\")","v":"Serviceable"}]
[null,71239,1967,"Wood Creos Impregnated","Serviceable","Class 3",2020,100,100,5,{"$f":"INDEX(Lists!$B$32:$B$40, MATCH(2020-C43804, Lists!$C$32:$C$40,1))","v":"51-60"},{"$f":"SUMPRODUCT((Data!$B$17:$B$19=Model!$F43804)*(Data!$C$16:$K$16=Model!$K43804)*(Data!$C$17:$K$19))","v":2.73},86.35,{"$f":"_xlfn.IFS(M43804>70,\"Serviceable\",M43804>30, \"Limited Life\",M43804<=30, \"Unserviceable\")","v":"Serviceable"}]
[null,71374,1985,"Wood Untreated Dressed","Serviceable","Class 1",2020,150,150,5,{"$f":"INDEX(Lists!$B$32:$B$40, MATCH(2020-C43889, Lists!$C$32:$C$40,1))","v":"31-40"},{"$f":"SUMPRODUCT((Data!$B$17:$B$19=Model!$F43889)*(Data!$C$16:$K$16=Model!$K43889)*(Data!$C$17:$K$19))","v":2.52},137.4,{"$f":"_xlfn.IFS(M43889>70,\"Serviceable\",M43889>30, \"Limited Life\",M43889<=30, \"Unserviceable\")","v":"Serviceable"}]
[null,71496,1967,"Wood Creos Impregnated","Serviceable","Class 3",2017,100,91.81,8,{"$f":"INDEX(Lists!$B$32:$B$40, MATCH(2020-C43982, Lists!$C$32:$C$40,1))","v":"51-60"},{"$f":"SUMPRODUCT((Data!$B$17:$B$19=Model!$F43982)*(Data!$C$16:$K$16=Model!$K43982)*(Data!$C$17:$K$19))","v":2.73},78.16,{"$f":"_xlfn.IFS(M43982>70,\"Serviceable\",M43982>30, \"Limited Life\",M43982<=30, \"Unserviceable\")","v":"Serviceable"}]
[null,71578,1974,"Wood Creos Impregnated","Serviceable","Class 1",2017,150,144.75,8,{"$f":"INDEX(Lists!$B$32:$B$40, MATCH(2020-C44042, Lists!$C$32:$C$40,1))","v":"41-50"},{"$f":"SUMPRODUCT((Data!$B$17:$B$19=Model!$F44042)*(Data!$C$16:$K$16=Model!$K44042)*(Data!$C$17:$K$19))","v":1.75},136,{"$f":"_xlfn.IFS(M44042>70,\"Serviceable\",M44042>30, \"Limited Life\",M44042<=30, \"Unserviceable\")","v":"Serviceable"}]
[null,71711,1970,"Wood Untreated Round","Serviceable","Class 3",2019,80,76.22,6,{"$f":"INDEX(Lists!$B$32:$B$40, MATCH(2020-C44110, Lists!$C$32:$C$40,1))","v":"41-50"},{"$f":"SUMPRODUCT((Data!$B$17:$B$19=Model!$F44110)*(Data!$C$16:$K$16=Model!$K44110)*(Data!$C$17:$K$19))","v":3.78},57.32,{"$f":"_xlfn.IFS(M44110>70,\"Serviceable\",M44110>30, \"Limited Life\",M44110<=30, \"Unserviceable\")","v":"Limited Life"}]
[null,71775,2003,"CCA Treated Pole","Serviceable","Class 2",2020,150,150,5,{"$f":"INDEX(Lists!$B$32:$B$40, MATCH(2020-C44143, Lists!$C$32:$C$40,1))","v":"0-20"},{"$f":"SUMPRODUCT((Data!$B$17:$B$19=Model!$F44143)*(Data!$C$16:$K$16=Model!$K44143)*(Data!$C$17:$K$19))","v":1.22},143.9,{"$f":"_xlfn.IFS(M44143>70,\"Serviceable\",M44143>30, \"Limited Life\",M44143<=30, \"Unserviceable\")","v":"Serviceable"}]
[null,71895,1941,"Wood Untreated Dressed","Serviceable","Class 1",2020,100,100,5,{"$f":"INDEX(Lists!$B$32:$B$40, MATCH(2020-C44212, Lists!$C$32:$C$40,1))","v":"71-80"},{"$f":"SUMPRODUCT((Data!$B$17:$B$19=Model!$F44212)*(Data!$C$16:$K$16=Model!$K44212)*(Data!$C$17:$K$19))","v":2.15},89.25,{"$f":"_xlfn.IFS(M44212>70,\"Serviceable\",M44212>30, \"Limited Life\",M44212<=30, \"Unserviceable\")","v":"Serviceable"}]
[null,72030,1967,"Wood Creos Impregnated","Serviceable","Class 3",2017,100,91.81,8,{"$f":"INDEX(Lists!$B$32:$B$40, MATCH(2020-C44286, Lists!$C$32:$C$40,1))","v":"51-60"},{"$f":"SUMPRODUCT((Data!$B$17:$B$19=Model!$F44286)*(Data!$C$16:$K$16=Model!$K44286)*(Data!$C$17:$K$19))","v":2.73},78.16,{"$f":"_xlfn.IFS(M44286>70,\"Serviceable\",M44286>30, \"Limited Life\",M44286<=30, \"Unserviceable\")","v":"Serviceable"}]
[null,72187,1967,"Wood Creos Impregnated","Serviceable","Class 3",2020,90,90,5,{"$f":"INDEX(Lists!$B$32:$B$40, MATCH(2020-C44365, Lists!$C$32:$C$40,1))","v":"51-60"},{"$f":"SUMPRODUCT((Data!$B$17:$B$19=Model!$F44365)*(Data!$C$16:$K$16=Model!$K44365)*(Data!$C$17:$K$19))","v":2.73},76.349999999999994,{"$f":"_xlfn.IFS(M44365>70,\"Serviceable\",M44365>30, \"Limited Life\",M44365<=30, \"Unserviceable\")","v":"Serviceable"}]
[null,72276,2010,"CCA Treated Pole","Serviceable","Class 2",2017,130,126.34,8,{"$f":"INDEX(Lists!$B$32:$B$40, MATCH(2020-C44414, Lists!$C$32:$C$40,1))","v":"0-20"},{"$f":"SUMPRODUCT((Data!$B$17:$B$19=Model!$F44414)*(Data!$C$16:$K$16=Model!$K44414)*(Data!$C$17:$K$19))","v":1.22},120.24,{"$f":"_xlfn.IFS(M44414>70,\"Serviceable\",M44414>30, \"Limited Life\",M44414<=30, \"Unserviceable\")","v":"Serviceable"}]
[null,72381,1959,"Wood Creos Impregnated","Serviceable","Class 3",2020,100,100,5,{"$f":"INDEX(Lists!$B$32:$B$40, MATCH(2020-C44466, Lists!$C$32:$C$40,1))","v":"61-70"},{"$f":"SUMPRODUCT((Data!$B$17:$B$19=Model!$F44466)*(Data!$C$16:$K$16=Model!$K44466)*(Data!$C$17:$K$19))","v":2.02},89.9,{"$f":"_xlfn.IFS(M44466>70,\"Serviceable\",M44466>30, \"Limited Life\",M44466<=30, \"Unserviceable\")","v":"Serviceable"}]
[null,72534,1988,"Wood Untreated Dressed","Serviceable","Class 1",2019,150,147.47999999999999,6,{"$f":"INDEX(Lists!$B$32:$B$40, MATCH(2020-C44535, Lists!$C$32:$C$40,1))","v":"31-40"},{"$f":"SUMPRODUCT((Data!$B$17:$B$19=Model!$F44535)*(Data!$C$16:$K$16=Model!$K44535)*(Data!$C$17:$K$19))","v":2.52},134.88,{"$f":"_xlfn.IFS(M44535>70,\"Serviceable\",M44535>30, \"Limited Life\",M44535<=30, \"Unserviceable\")","v":"Serviceable"}]
[null,72745,1938,"Wood Untreated Dressed","Serviceable","Class 1",2018,100,94.38,7,{"$f":"INDEX(Lists!$B$32:$B$40, MATCH(2020-C44657, Lists!$C$32:$C$40,1))","v":"81-90"},{"$f":"SUMPRODUCT((Data!$B$17:$B$19=Model!$F44657)*(Data!$C$16:$K$16=Model!$K44657)*(Data!$C$17:$K$19))","v":2.81},80.33,{"$f":"_xlfn.IFS(M44657>70,\"Serviceable\",M44657>30, \"Limited Life\",M44657<=30, \"Unserviceable\")","v":"Serviceable"}]
[null,72791,1961,"Wood Creos Impregnated","Serviceable","Class 3",2018,120,114.54,7,{"$f":"INDEX(Lists!$B$32:$B$40, MATCH(2020-C44688, Lists!$C$32:$C$40,1))","v":"51-60"},{"$f":"SUMPRODUCT((Data!$B$17:$B$19=Model!$F44688)*(Data!$C$16:$K$16=Model!$K44688)*(Data!$C$17:$K$19))","v":2.73},100.89,{"$f":"_xlfn.IFS(M44688>70,\"Serviceable\",M44688>30, \"Limited Life\",M44688<=30, \"Unserviceable\")","v":"Serviceable"}]
[null,72918,1997,"CCA Treated Pole","Serviceable","Class 1",2018,150,146.08000000000001,7,{"$f":"INDEX(Lists!$B$32:$B$40, MATCH(2020-C44773, Lists!$C$32:$C$40,1))","v":"21-30"},{"$f":"SUMPRODUCT((Data!$B$17:$B$19=Model!$F44773)*(Data!$C$16:$K$16=Model!$K44773)*(Data!$C$17:$K$19))","v":1.96},136.28,{"$f":"_xlfn.IFS(M44773>70,\"Serviceable\",M44773>30, \"Limited Life\",M44773<=30, \"Unserviceable\")","v":"Serviceable"}]
[null,73000,1972,"Wood Creos Impregnated","Serviceable","Class 3",2017,100,88.66,8,{"$f":"INDEX(Lists!$B$32:$B$40, MATCH(2020-C44833, Lists!$C$32:$C$40,1))","v":"41-50"},{"$f":"SUMPRODUCT((Data!$B$17:$B$19=Model!$F44833)*(Data!$C$16:$K$16=Model!$K44833)*(Data!$C$17:$K$19))","v":3.78},69.760000000000005,{"$f":"_xlfn.IFS(M44833>70,\"Serviceable\",M44833>30, \"Limited Life\",M44833<=30, \"Unserviceable\")","v":"Limited Life"}]
[null,73150,2005,"CCA Treated Pole","Serviceable","Class 2",2020,162.49719689682513,162.49719689682513,5,{"$f":"INDEX(Lists!$B$32:$B$40, MATCH(2020-C44926, Lists!$C$32:$C$40,1))","v":"0-20"},{"$f":"SUMPRODUCT((Data!$B$17:$B$19=Model!$F44926)*(Data!$C$16:$K$16=Model!$K44926)*(Data!$C$17:$K$19))","v":1.22},156.39719689682514,{"$f":"_xlfn.IFS(M44926>70,\"Serviceable\",M44926>30, \"Limited Life\",M44926<=30, \"Unserviceable\")","v":"Serviceable"}]
[null,73202,1976,"Wood Untreated Round","Serviceable","Class 1",2017,100,94.75,8,{"$f":"INDEX(Lists!$B$32:$B$40, MATCH(2020-C44961, Lists!$C$32:$C$40,1))","v":"41-50"},{"$f":"SUMPRODUCT((Data!$B$17:$B$19=Model!$F44961)*(Data!$C$16:$K$16=Model!$K44961)*(Data!$C$17:$K$19))","v":1.75},86,{"$f":"_xlfn.IFS(M44961>70,\"Serviceable\",M44961>30, \"Limited Life\",M44961<=30, \"Unserviceable\")","v":"Serviceable"}]
[null,73299,1985,"Wood Untreated Dressed","Serviceable","Class 1",2019,150,147.47999999999999,6,{"$f":"INDEX(Lists!$B$32:$B$40, MATCH(2020-C45027, Lists!$C$32:$C$40,1))","v":"31-40"},{"$f":"SUMPRODUCT((Data!$B$17:$B$19=Model!$F45027)*(Data!$C$16:$K$16=Model!$K45027)*(Data!$C$17:$K$19))","v":2.52},134.88,{"$f":"_xlfn.IFS(M45027>70,\"Serviceable\",M45027>30, \"Limited Life\",M45027<=30, \"Unserviceable\")","v":"Serviceable"}]
[null,73419,1998,"CCA Treated Pole","Serviceable","Class 2",2017,150,144.33000000000001,8,{"$f":"INDEX(Lists!$B$32:$B$40, MATCH(2020-C45096, Lists!$C$32:$C$40,1))","v":"21-30"},{"$f":"SUMPRODUCT((Data!$B$17:$B$19=Model!$F45096)*(Data!$C$16:$K$16=Model!$K45096)*(Data!$C$17:$K$19))","v":1.89},134.88,{"$f":"_xlfn.IFS(M45096>70,\"Serviceable\",M45096>30, \"Limited Life\",M45096<=30, \"Unserviceable\")","v":"Serviceable"}]
[null,73584,1965,"Wood Creos Impregnated","Serviceable","Class 3",2017,100,91.81,8,{"$f":"INDEX(Lists!$B$32:$B$40, MATCH(2020-C45204, Lists!$C$32:$C$40,1))","v":"51-60"},{"$f":"SUMPRODUCT((Data!$B$17:$B$19=Model!$F45204)*(Data!$C$16:$K$16=Model!$K45204)*(Data!$C$17:$K$19))","v":2.73},78.16,{"$f":"_xlfn.IFS(M45204>70,\"Serviceable\",M45204>30, \"Limited Life\",M45204<=30, \"Unserviceable\")","v":"Serviceable"}]
[null,73652,1969,"Wood Creos Impregnated","Serviceable","Class 3",2019,110,107.27,6,{"$f":"INDEX(Lists!$B$32:$B$40, MATCH(2020-C45249, Lists!$C$32:$C$40,1))","v":"51-60"},{"$f":"SUMPRODUCT((Data!$B$17:$B$19=Model!$F45249)*(Data!$C$16:$K$16=Model!$K45249)*(Data!$C$17:$K$19))","v":2.73},93.62,{"$f":"_xlfn.IFS(M45249>70,\"Serviceable\",M45249>30, \"Limited Life\",M45249<=30, \"Unserviceable\")","v":"Serviceable"}]
[null,73804,1935,"Wood Untreated Dressed","Serviceable","Class 1",2019,80,77.19,6,{"$f":"INDEX(Lists!$B$32:$B$40, MATCH(2020-C45332, Lists!$C$32:$C$40,1))","v":"81-90"},{"$f":"SUMPRODUCT((Data!$B$17:$B$19=Model!$F45332)*(Data!$C$16:$K$16=Model!$K45332)*(Data!$C$17:$K$19))","v":2.81},63.14,{"$f":"_xlfn.IFS(M45332>70,\"Serviceable\",M45332>30, \"Limited Life\",M45332<=30, \"Unserviceable\")","v":"Limited Life"}]
[null,73826,1969,"Wood Creos Impregnated","Serviceable","Class 2",2017,100,92.29,8,{"$f":"INDEX(Lists!$B$32:$B$40, MATCH(2020-C45350, Lists!$C$32:$C$40,1))","v":"51-60"},{"$f":"SUMPRODUCT((Data!$B$17:$B$19=Model!$F45350)*(Data!$C$16:$K$16=Model!$K45350)*(Data!$C$17:$K$19))","v":2.57},79.44,{"$f":"_xlfn.IFS(M45350>70,\"Serviceable\",M45350>30, \"Limited Life\",M45350<=30, \"Unserviceable\")","v":"Serviceable"}]
[null,73934,1969,"Wood Salt Impregnated (Green)","Serviceable","Class 3",2018,171.56902865306319,166.10902865306318,7,{"$f":"INDEX(Lists!$B$32:$B$40, MATCH(2020-C45419, Lists!$C$32:$C$40,1))","v":"51-60"},{"$f":"SUMPRODUCT((Data!$B$17:$B$19=Model!$F45419)*(Data!$C$16:$K$16=Model!$K45419)*(Data!$C$17:$K$19))","v":2.73},152.45902865306317,{"$f":"_xlfn.IFS(M45419>70,\"Serviceable\",M45419>30, \"Limited Life\",M45419<=30, \"Unserviceable\")","v":"Serviceable"}]
[null,74077,2004,"CCA Treated Pole","Serviceable","Class 1",2019,166.31691553103065,165.25691553103064,6,{"$f":"INDEX(Lists!$B$32:$B$40, MATCH(2020-C45508, Lists!$C$32:$C$40,1))","v":"0-20"},{"$f":"SUMPRODUCT((Data!$B$17:$B$19=Model!$F45508)*(Data!$C$16:$K$16=Model!$K45508)*(Data!$C$17:$K$19))","v":1.06},159.95691553103063,{"$f":"_xlfn.IFS(M45508>70,\"Serviceable\",M45508>30, \"Limited Life\",M45508<=30, \"Unserviceable\")","v":"Serviceable"}]
[null,74205,1975,"Wood Creos Impregnated","Serviceable","Class 3",2017,130,118.66,8,{"$f":"INDEX(Lists!$B$32:$B$40, MATCH(2020-C45588, Lists!$C$32:$C$40,1))","v":"41-50"},{"$f":"SUMPRODUCT((Data!$B$17:$B$19=Model!$F45588)*(Data!$C$16:$K$16=Model!$K45588)*(Data!$C$17:$K$19))","v":3.78},99.76,{"$f":"_xlfn.IFS(M45588>70,\"Serviceable\",M45588>30, \"Limited Life\",M45588<=30, \"Unserviceable\")","v":"Serviceable"}]
[null,74294,1986,"Wood Untreated Dressed","Serviceable","Class 1",2020,100,100,5,{"$f":"INDEX(Lists!$B$32:$B$40, MATCH(2020-C45636, Lists!$C$32:$C$40,1))","v":"31-40"},{"$f":"SUMPRODUCT((Data!$B$17:$B$19=Model!$F45636)*(Data!$C$16:$K$16=Model!$K45636)*(Data!$C$17:$K$19))","v":2.52},87.4,{"$f":"_xlfn.IFS(M45636>70,\"Serviceable\",M45636>30, \"Limited Life\",M45636<=30, \"Unserviceable\")","v":"Serviceable"}]
[null,74457,1966,"Wood Salt Impregnated (Green)","Serviceable","Class 3",2017,171.56902865306319,163.37902865306319,8,{"$f":"INDEX(Lists!$B$32:$B$40, MATCH(2020-C45741, Lists!$C$32:$C$40,1))","v":"51-60"},{"$f":"SUMPRODUCT((Data!$B$17:$B$19=Model!$F45741)*(Data!$C$16:$K$16=Model!$K45741)*(Data!$C$17:$K$19))","v":2.73},149.72902865306318,{"$f":"_xlfn.IFS(M45741>70,\"Serviceable\",M45741>30, \"Limited Life\",M45741<=30, \"Unserviceable\")","v":"Serviceable"}]
[null,74562,2007,"CCA Treated Pole","Serviceable","Class 1",2017,130,126.82,8,{"$f":"INDEX(Lists!$B$32:$B$40, MATCH(2020-C45810, Lists!$C$32:$C$40,1))","v":"0-20"},{"$f":"SUMPRODUCT((Data!$B$17:$B$19=Model!$F45810)*(Data!$C$16:$K$16=Model!$K45810)*(Data!$C$17:$K$19))","v":1.06},121.52,{"$f":"_xlfn.IFS(M45810>70,\"Serviceable\",M45810>30, \"Limited Life\",M45810<=30, \"Unserviceable\")","v":"Serviceable"}]
[null,74668,2001,"CCA Treated Pole","Serviceable","Class 1",2019,150,148.94,6,{"$f":"INDEX(Lists!$B$32:$B$40, MATCH(2020-C45879, Lists!$C$32:$C$40,1))","v":"0-20"},{"$f":"SUMPRODUCT((Data!$B$17:$B$19=Model!$F45879)*(Data!$C$16:$K$16=Model!$K45879)*(Data!$C$17:$K$19))","v":1.06},143.63999999999999,{"$f":"_xlfn.IFS(M45879>70,\"Serviceable\",M45879>30, \"Limited Life\",M45879<=30, \"Unserviceable\")","v":"Serviceable"}]
[null,74735,1950,"Wood Untreated Round","Serviceable","Class 1",2019,100,97.97,6,{"$f":"INDEX(Lists!$B$32:$B$40, MATCH(2020-C45911, Lists!$C$32:$C$40,1))","v":"61-70"},{"$f":"SUMPRODUCT((Data!$B$17:$B$19=Model!$F45911)*(Data!$C$16:$K$16=Model!$K45911)*(Data!$C$17:$K$19))","v":2.0299999999999998},87.82,{"$f":"_xlfn.IFS(M45911>70,\"Serviceable\",M45911>30, \"Limited Life\",M45911<=30, \"Unserviceable\")","v":"Serviceable"}]
[null,74858,1966,"Wood Creos Impregnated","Serviceable","Class 3",2019,100,97.27,6,{"$f":"INDEX(Lists!$B$32:$B$40, MATCH(2020-C45980, Lists!$C$32:$C$40,1))","v":"51-60"},{"$f":"SUMPRODUCT((Data!$B$17:$B$19=Model!$F45980)*(Data!$C$16:$K$16=Model!$K45980)*(Data!$C$17:$K$19))","v":2.73},83.62,{"$f":"_xlfn.IFS(M45980>70,\"Serviceable\",M45980>30, \"Limited Life\",M45980<=30, \"Unserviceable\")","v":"Serviceable"}]
[null,74983,1987,"Wood Untreated Dressed","Serviceable","Class 1",2020,100,100,5,{"$f":"INDEX(Lists!$B$32:$B$40, MATCH(2020-C46055, Lists!$C$32:$C$40,1))","v":"31-40"},{"$f":"SUMPRODUCT((Data!$B$17:$B$19=Model!$F46055)*(Data!$C$16:$K$16=Model!$K46055)*(Data!$C$17:$K$19))","v":2.52},87.4,{"$f":"_xlfn.IFS(M46055>70,\"Serviceable\",M46055>30, \"Limited Life\",M46055<=30, \"Unserviceable\")","v":"Serviceable"}]
[null,75128,1983,"Wood Untreated Dressed","Serviceable","Class 1",2019,100,97.48,6,{"$f":"INDEX(Lists!$B$32:$B$40, MATCH(2020-C46133, Lists!$C$32:$C$40,1))","v":"31-40"},{"$f":"SUMPRODUCT((Data!$B$17:$B$19=Model!$F46133)*(Data!$C$16:$K$16=Model!$K46133)*(Data!$C$17:$K$19))","v":2.52},84.88,{"$f":"_xlfn.IFS(M46133>70,\"Serviceable\",M46133>30, \"Limited Life\",M46133<=30, \"Unserviceable\")","v":"Serviceable"}]
[null,75205,1961,"Wood Creos Impregnated","Serviceable","Class 3",2017,100,91.81,8,{"$f":"INDEX(Lists!$B$32:$B$40, MATCH(2020-C46183, Lists!$C$32:$C$40,1))","v":"51-60"},{"$f":"SUMPRODUCT((Data!$B$17:$B$19=Model!$F46183)*(Data!$C$16:$K$16=Model!$K46183)*(Data!$C$17:$K$19))","v":2.73},78.16,{"$f":"_xlfn.IFS(M46183>70,\"Serviceable\",M46183>30, \"Limited Life\",M46183<=30, \"Unserviceable\")","v":"Serviceable"}]
[null,75282,1964,"Wood Creos Impregnated","Serviceable","Class 3",2019,100,97.27,6,{"$f":"INDEX(Lists!$B$32:$B$40, MATCH(2020-C46234, Lists!$C$32:$C$40,1))","v":"51-60"},{"$f":"SUMPRODUCT((Data!$B$17:$B$19=Model!$F46234)*(Data!$C$16:$K$16=Model!$K46234)*(Data!$C$17:$K$19))","v":2.73},83.62,{"$f":"_xlfn.IFS(M46234>70,\"Serviceable\",M46234>30, \"Limited Life\",M46234<=30, \"Unserviceable\")","v":"Serviceable"}]
[null,75389,1978,"Wood Creos Impregnated","Serviceable","Class 3",2018,100,92.44,7,{"$f":"INDEX(Lists!$B$32:$B$40, MATCH(2020-C46303, Lists!$C$32:$C$40,1))","v":"41-50"},{"$f":"SUMPRODUCT((Data!$B$17:$B$19=Model!$F46303)*(Data!$C$16:$K$16=Model!$K46303)*(Data!$C$17:$K$19))","v":3.78},73.540000000000006,{"$f":"_xlfn.IFS(M46303>70,\"Serviceable\",M46303>30, \"Limited Life\",M46303<=30, \"Unserviceable\")","v":"Serviceable"}]
[null,75496,1964,"Wood Creos Impregnated","Serviceable","Class 3",2019,90,87.27,6,{"$f":"INDEX(Lists!$B$32:$B$40, MATCH(2020-C46359, Lists!$C$32:$C$40,1))","v":"51-60"},{"$f":"SUMPRODUCT((Data!$B$17:$B$19=Model!$F46359)*(Data!$C$16:$K$16=Model!$K46359)*(Data!$C$17:$K$19))","v":2.73},73.62,{"$f":"_xlfn.IFS(M46359>70,\"Serviceable\",M46359>30, \"Limited Life\",M46359<=30, \"Unserviceable\")","v":"Serviceable"}]
[null,75651,1969,"Wood Creos Impregnated","Serviceable","Class 2",2017,130,122.29,{"$f":"2025-G46472","v":8},{"$f":"INDEX(Lists!$B$32:$B$40, MATCH(2020-C46472, Lists!$C$32:$C$40,1))","v":"51-60"},{"$f":"SUMPRODUCT((Data!$B$17:$B$19=Model!$F46472)*(Data!$C$16:$K$16=Model!$K46472)*(Data!$C$17:$K$19))","v":2.57},{"$f":"IF(IF(H46472>=700,999,(H46472-L46472*J46472))<0,0,IF(H46472>=700,999,(H46472-L46472*J46472)))","v":109.44},{"$f":"_xlfn.IFS(M46472>70,\"Serviceable\",M46472>30, \"Limited Life\",M46472<=30, \"Unserviceable\")","v":"Serviceable"}]
[null,75790,2011,"CCA Treated Pole","Serviceable","Class 2",2019,100,98.78,6,{"$f":"INDEX(Lists!$B$32:$B$40, MATCH(2020-C46554, Lists!$C$32:$C$40,1))","v":"0-20"},{"$f":"SUMPRODUCT((Data!$B$17:$B$19=Model!$F46554)*(Data!$C$16:$K$16=Model!$K46554)*(Data!$C$17:$K$19))","v":1.22},92.68,{"$f":"_xlfn.IFS(M46554>70,\"Serviceable\",M46554>30, \"Limited Life\",M46554<=30, \"Unserviceable\")","v":"Serviceable"}]
[null,75798,1967,"Wood Creos Impregnated","Serviceable","Class 3",2016,100,89.08,9,{"$f":"INDEX(Lists!$B$32:$B$40, MATCH(2020-C46557, Lists!$C$32:$C$40,1))","v":"51-60"},{"$f":"SUMPRODUCT((Data!$B$17:$B$19=Model!$F46557)*(Data!$C$16:$K$16=Model!$K46557)*(Data!$C$17:$K$19))","v":2.73},75.430000000000007,{"$f":"_xlfn.IFS(M46557>70,\"Serviceable\",M46557>30, \"Limited Life\",M46557<=30, \"Unserviceable\")","v":"Serviceable"}]
[null,75907,1939,"Wood Untreated Dressed","Serviceable","Class 1",2019,120,117.19,6,{"$f":"INDEX(Lists!$B$32:$B$40, MATCH(2020-C46626, Lists!$C$32:$C$40,1))","v":"81-90"},{"$f":"SUMPRODUCT((Data!$B$17:$B$19=Model!$F46626)*(Data!$C$16:$K$16=Model!$K46626)*(Data!$C$17:$K$19))","v":2.81},103.14,{"$f":"_xlfn.IFS(M46626>70,\"Serviceable\",M46626>30, \"Limited Life\",M46626<=30, \"Unserviceable\")","v":"Serviceable"}]
[null,76088,1986,"Wood Untreated Dressed","Serviceable","Class 1",2017,120,112.44,8,{"$f":"INDEX(Lists!$B$32:$B$40, MATCH(2020-C46730, Lists!$C$32:$C$40,1))","v":"31-40"},{"$f":"SUMPRODUCT((Data!$B$17:$B$19=Model!$F46730)*(Data!$C$16:$K$16=Model!$K46730)*(Data!$C$17:$K$19))","v":2.52},99.84,{"$f":"_xlfn.IFS(M46730>70,\"Serviceable\",M46730>30, \"Limited Life\",M46730<=30, \"Unserviceable\")","v":"Serviceable"}]
[null,76201,1967,"Wood Creos Impregnated","Serviceable","Class 3",2019,100,97.27,6,{"$f":"INDEX(Lists!$B$32:$B$40, MATCH(2020-C46795, Lists!$C$32:$C$40,1))","v":"51-60"},{"$f":"SUMPRODUCT((Data!$B$17:$B$19=Model!$F46795)*(Data!$C$16:$K$16=Model!$K46795)*(Data!$C$17:$K$19))","v":2.73},83.62,{"$f":"_xlfn.IFS(M46795>70,\"Serviceable\",M46795>30, \"Limited Life\",M46795<=30, \"Unserviceable\")","v":"Serviceable"}]
[null,76295,1987,"Wood Untreated Dressed","Serviceable","Class 1",2019,150,147.47999999999999,6,{"$f":"INDEX(Lists!$B$32:$B$40, MATCH(2020-C46864, Lists!$C$32:$C$40,1))","v":"31-40"},{"$f":"SUMPRODUCT((Data!$B$17:$B$19=Model!$F46864)*(Data!$C$16:$K$16=Model!$K46864)*(Data!$C$17:$K$19))","v":2.52},134.88,{"$f":"_xlfn.IFS(M46864>70,\"Serviceable\",M46864>30, \"Limited Life\",M46864<=30, \"Unserviceable\")","v":"Serviceable"}]
[null,76364,1970,"Wood Creos Impregnated","Serviceable","Class 3",2019,100,96.22,6,{"$f":"INDEX(Lists!$B$32:$B$40, MATCH(2020-C46906, Lists!$C$32:$C$40,1))","v":"41-50"},{"$f":"SUMPRODUCT((Data!$B$17:$B$19=Model!$F46906)*(Data!$C$16:$K$16=Model!$K46906)*(Data!$C$17:$K$19))","v":3.78},77.319999999999993,{"$f":"_xlfn.IFS(M46906>70,\"Serviceable\",M46906>30, \"Limited Life\",M46906<=30, \"Unserviceable\")","v":"Serviceable"}]
[null,76540,1964,"Wood Creos Impregnated","Serviceable","Class 3",2019,100,97.27,6,{"$f":"INDEX(Lists!$B$32:$B$40, MATCH(2020-C47017, Lists!$C$32:$C$40,1))","v":"51-60"},{"$f":"SUMPRODUCT((Data!$B$17:$B$19=Model!$F47017)*(Data!$C$16:$K$16=Model!$K47017)*(Data!$C$17:$K$19))","v":2.73},83.62,{"$f":"_xlfn.IFS(M47017>70,\"Serviceable\",M47017>30, \"Limited Life\",M47017<=30, \"Unserviceable\")","v":"Serviceable"}]
[null,76566,1957,"Wood Untreated Round","Limited Life","Class 2",2017,70,63.31,8,{"$f":"INDEX(Lists!$B$32:$B$40, MATCH(2020-C47034, Lists!$C$32:$C$40,1))","v":"61-70"},{"$f":"SUMPRODUCT((Data!$B$17:$B$19=Model!$F47034)*(Data!$C$16:$K$16=Model!$K47034)*(Data!$C$17:$K$19))","v":2.23},52.16,{"$f":"_xlfn.IFS(M47034>70,\"Serviceable\",M47034>30, \"Limited Life\",M47034<=30, \"Unserviceable\")","v":"Limited Life"}]
[null,76684,1968,"Wood Creos Impregnated","Serviceable","Class 3",2015,90,76.349999999999994,10,{"$f":"INDEX(Lists!$B$32:$B$40, MATCH(2020-C47118, Lists!$C$32:$C$40,1))","v":"51-60"},{"$f":"SUMPRODUCT((Data!$B$17:$B$19=Model!$F47118)*(Data!$C$16:$K$16=Model!$K47118)*(Data!$C$17:$K$19))","v":2.73},62.7,{"$f":"_xlfn.IFS(M47118>70,\"Serviceable\",M47118>30, \"Limited Life\",M47118<=30, \"Unserviceable\")","v":"Limited Life"}]
[null,76786,1975,"Wood Creos Impregnated","Serviceable","Class 3",2018,85,77.44,7,{"$f":"INDEX(Lists!$B$32:$B$40, MATCH(2020-C47187, Lists!$C$32:$C$40,1))","v":"41-50"},{"$f":"SUMPRODUCT((Data!$B$17:$B$19=Model!$F47187)*(Data!$C$16:$K$16=Model!$K47187)*(Data!$C$17:$K$19))","v":3.78},58.540000000000006,{"$f":"_xlfn.IFS(M47187>70,\"Serviceable\",M47187>30, \"Limited Life\",M47187<=30, \"Unserviceable\")","v":"Limited Life"}]
[null,76909,1985,"Wood Untreated Dressed","Serviceable","Class 1",2018,150,144.96,7,{"$f":"INDEX(Lists!$B$32:$B$40, MATCH(2020-C47277, Lists!$C$32:$C$40,1))","v":"31-40"},{"$f":"SUMPRODUCT((Data!$B$17:$B$19=Model!$F47277)*(Data!$C$16:$K$16=Model!$K47277)*(Data!$C$17:$K$19))","v":2.52},132.36000000000001,{"$f":"_xlfn.IFS(M47277>70,\"Serviceable\",M47277>30, \"Limited Life\",M47277<=30, \"Unserviceable\")","v":"Serviceable"}]
[null,77025,1965,"Wood Creos Impregnated","Serviceable","Class 3",2019,100,97.27,6,{"$f":"INDEX(Lists!$B$32:$B$40, MATCH(2020-C47356, Lists!$C$32:$C$40,1))","v":"51-60"},{"$f":"SUMPRODUCT((Data!$B$17:$B$19=Model!$F47356)*(Data!$C$16:$K$16=Model!$K47356)*(Data!$C$17:$K$19))","v":2.73},83.62,{"$f":"_xlfn.IFS(M47356>70,\"Serviceable\",M47356>30, \"Limited Life\",M47356<=30, \"Unserviceable\")","v":"Serviceable"}]
[null,77095,2004,"CCA Treated Pole","Serviceable","Class 2",2020,150,150,5,{"$f":"INDEX(Lists!$B$32:$B$40, MATCH(2020-C47405, Lists!$C$32:$C$40,1))","v":"0-20"},{"$f":"SUMPRODUCT((Data!$B$17:$B$19=Model!$F47405)*(Data!$C$16:$K$16=Model!$K47405)*(Data!$C$17:$K$19))","v":1.22},143.9,{"$f":"_xlfn.IFS(M47405>70,\"Serviceable\",M47405>30, \"Limited Life\",M47405<=30, \"Unserviceable\")","v":"Serviceable"}]
[null,77151,1934,"Wood Untreated Dressed","Serviceable","Class 1",2019,120,117.19,6,{"$f":"INDEX(Lists!$B$32:$B$40, MATCH(2020-C47441, Lists!$C$32:$C$40,1))","v":"81-90"},{"$f":"SUMPRODUCT((Data!$B$17:$B$19=Model!$F47441)*(Data!$C$16:$K$16=Model!$K47441)*(Data!$C$17:$K$19))","v":2.81},103.14,{"$f":"_xlfn.IFS(M47441>70,\"Serviceable\",M47441>30, \"Limited Life\",M47441<=30, \"Unserviceable\")","v":"Serviceable"}]
[null,77262,1974,"Wood Creos Impregnated","Limited Life","Class 3",2017,80,68.66,8,{"$f":"INDEX(Lists!$B$32:$B$40, MATCH(2020-C47510, Lists!$C$32:$C$40,1))","v":"41-50"},{"$f":"SUMPRODUCT((Data!$B$17:$B$19=Model!$F47510)*(Data!$C$16:$K$16=Model!$K47510)*(Data!$C$17:$K$19))","v":3.78},49.760000000000005,{"$f":"_xlfn.IFS(M47510>70,\"Serviceable\",M47510>30, \"Limited Life\",M47510<=30, \"Unserviceable\")","v":"Limited Life"}]
[null,77397,1969,"Wood Creos Impregnated","Serviceable","Class 3",2019,100,97.27,6,{"$f":"INDEX(Lists!$B$32:$B$40, MATCH(2020-C47581, Lists!$C$32:$C$40,1))","v":"51-60"},{"$f":"SUMPRODUCT((Data!$B$17:$B$19=Model!$F47581)*(Data!$C$16:$K$16=Model!$K47581)*(Data!$C$17:$K$19))","v":2.73},83.62,{"$f":"_xlfn.IFS(M47581>70,\"Serviceable\",M47581>30, \"Limited Life\",M47581<=30, \"Unserviceable\")","v":"Serviceable"}]
[null,77544,1960,"Wood Creos Impregnated","Serviceable","Class 3",2018,100,94.54,7,{"$f":"INDEX(Lists!$B$32:$B$40, MATCH(2020-C47679, Lists!$C$32:$C$40,1))","v":"51-60"},{"$f":"SUMPRODUCT((Data!$B$17:$B$19=Model!$F47679)*(Data!$C$16:$K$16=Model!$K47679)*(Data!$C$17:$K$19))","v":2.73},80.89,{"$f":"_xlfn.IFS(M47679>70,\"Serviceable\",M47679>30, \"Limited Life\",M47679<=30, \"Unserviceable\")","v":"Serviceable"}]
[null,77660,1966,"Wood Creos Impregnated","Serviceable","Class 3",2020,90,90,5,{"$f":"INDEX(Lists!$B$32:$B$40, MATCH(2020-C47748, Lists!$C$32:$C$40,1))","v":"51-60"},{"$f":"SUMPRODUCT((Data!$B$17:$B$19=Model!$F47748)*(Data!$C$16:$K$16=Model!$K47748)*(Data!$C$17:$K$19))","v":2.73},76.349999999999994,{"$f":"_xlfn.IFS(M47748>70,\"Serviceable\",M47748>30, \"Limited Life\",M47748<=30, \"Unserviceable\")","v":"Serviceable"}]
[null,77782,1975,"Wood Creos Impregnated","Serviceable","Class 3",2016,100,84.88,9,{"$f":"INDEX(Lists!$B$32:$B$40, MATCH(2020-C47824, Lists!$C$32:$C$40,1))","v":"41-50"},{"$f":"SUMPRODUCT((Data!$B$17:$B$19=Model!$F47824)*(Data!$C$16:$K$16=Model!$K47824)*(Data!$C$17:$K$19))","v":3.78},65.98,{"$f":"_xlfn.IFS(M47824>70,\"Serviceable\",M47824>30, \"Limited Life\",M47824<=30, \"Unserviceable\")","v":"Limited Life"}]
[null,77815,1962,"Wood Creos Impregnated","Serviceable","Class 3",2020,100,100,5,{"$f":"INDEX(Lists!$B$32:$B$40, MATCH(2020-C47849, Lists!$C$32:$C$40,1))","v":"51-60"},{"$f":"SUMPRODUCT((Data!$B$17:$B$19=Model!$F47849)*(Data!$C$16:$K$16=Model!$K47849)*(Data!$C$17:$K$19))","v":2.73},86.35,{"$f":"_xlfn.IFS(M47849>70,\"Serviceable\",M47849>30, \"Limited Life\",M47849<=30, \"Unserviceable\")","v":"Serviceable"}]
[null,77967,2008,"CCA Treated Pole","Serviceable","Class 2",2019,150,148.78,6,{"$f":"INDEX(Lists!$B$32:$B$40, MATCH(2020-C47952, Lists!$C$32:$C$40,1))","v":"0-20"},{"$f":"SUMPRODUCT((Data!$B$17:$B$19=Model!$F47952)*(Data!$C$16:$K$16=Model!$K47952)*(Data!$C$17:$K$19))","v":1.22},142.68,{"$f":"_xlfn.IFS(M47952>70,\"Serviceable\",M47952>30, \"Limited Life\",M47952<=30, \"Unserviceable\")","v":"Serviceable"}]
[null,78079,1985,"Wood Untreated Dressed","Serviceable","Class 1",2018,130,124.96,7,{"$f":"INDEX(Lists!$B$32:$B$40, MATCH(2020-C48002, Lists!$C$32:$C$40,1))","v":"31-40"},{"$f":"SUMPRODUCT((Data!$B$17:$B$19=Model!$F48002)*(Data!$C$16:$K$16=Model!$K48002)*(Data!$C$17:$K$19))","v":2.52},112.36,{"$f":"_xlfn.IFS(M48002>70,\"Serviceable\",M48002>30, \"Limited Life\",M48002<=30, \"Unserviceable\")","v":"Serviceable"}]
[null,78187,1964,"Wood Creos Impregnated","Serviceable","Class 3",2018,80,74.540000000000006,7,{"$f":"INDEX(Lists!$B$32:$B$40, MATCH(2020-C48071, Lists!$C$32:$C$40,1))","v":"51-60"},{"$f":"SUMPRODUCT((Data!$B$17:$B$19=Model!$F48071)*(Data!$C$16:$K$16=Model!$K48071)*(Data!$C$17:$K$19))","v":2.73},60.89,{"$f":"_xlfn.IFS(M48071>70,\"Serviceable\",M48071>30, \"Limited Life\",M48071<=30, \"Unserviceable\")","v":"Limited Life"}]
[null,78273,1983,"Wood Untreated Dressed","Serviceable","Class 1",2020,100,100,5,{"$f":"INDEX(Lists!$B$32:$B$40, MATCH(2020-C48128, Lists!$C$32:$C$40,1))","v":"31-40"},{"$f":"SUMPRODUCT((Data!$B$17:$B$19=Model!$F48128)*(Data!$C$16:$K$16=Model!$K48128)*(Data!$C$17:$K$19))","v":2.52},87.4,{"$f":"_xlfn.IFS(M48128>70,\"Serviceable\",M48128>30, \"Limited Life\",M48128<=30, \"Unserviceable\")","v":"Serviceable"}]
[null,78438,1957,"Wood Creos Impregnated","Serviceable","Class 3",2018,80,75.959999999999994,7,{"$f":"INDEX(Lists!$B$32:$B$40, MATCH(2020-C48240, Lists!$C$32:$C$40,1))","v":"61-70"},{"$f":"SUMPRODUCT((Data!$B$17:$B$19=Model!$F48240)*(Data!$C$16:$K$16=Model!$K48240)*(Data!$C$17:$K$19))","v":2.02},65.86,{"$f":"_xlfn.IFS(M48240>70,\"Serviceable\",M48240>30, \"Limited Life\",M48240<=30, \"Unserviceable\")","v":"Limited Life"}]
[null,78468,1987,"Wood Untreated Dressed","Serviceable","Class 1",2019,100,97.48,6,{"$f":"INDEX(Lists!$B$32:$B$40, MATCH(2020-C48256, Lists!$C$32:$C$40,1))","v":"31-40"},{"$f":"SUMPRODUCT((Data!$B$17:$B$19=Model!$F48256)*(Data!$C$16:$K$16=Model!$K48256)*(Data!$C$17:$K$19))","v":2.52},84.88,{"$f":"_xlfn.IFS(M48256>70,\"Serviceable\",M48256>30, \"Limited Life\",M48256<=30, \"Unserviceable\")","v":"Serviceable"}]
[null,78566,1937,"Wood Untreated Dressed","Serviceable","Class 1",2019,100,97.19,6,{"$f":"INDEX(Lists!$B$32:$B$40, MATCH(2020-C48325, Lists!$C$32:$C$40,1))","v":"81-90"},{"$f":"SUMPRODUCT((Data!$B$17:$B$19=Model!$F48325)*(Data!$C$16:$K$16=Model!$K48325)*(Data!$C$17:$K$19))","v":2.81},83.14,{"$f":"_xlfn.IFS(M48325>70,\"Serviceable\",M48325>30, \"Limited Life\",M48325<=30, \"Unserviceable\")","v":"Serviceable"}]
[null,78671,1985,"Wood Untreated Dressed","Serviceable","Class 1",2018,150,144.96,7,{"$f":"INDEX(Lists!$B$32:$B$40, MATCH(2020-C48394, Lists!$C$32:$C$40,1))","v":"31-40"},{"$f":"SUMPRODUCT((Data!$B$17:$B$19=Model!$F48394)*(Data!$C$16:$K$16=Model!$K48394)*(Data!$C$17:$K$19))","v":2.52},132.36000000000001,{"$f":"_xlfn.IFS(M48394>70,\"Serviceable\",M48394>30, \"Limited Life\",M48394<=30, \"Unserviceable\")","v":"Serviceable"}]
[null,78834,1970,"Wood Creos Impregnated","Serviceable","Class 3",2019,100,96.22,6,{"$f":"INDEX(Lists!$B$32:$B$40, MATCH(2020-C48499, Lists!$C$32:$C$40,1))","v":"41-50"},{"$f":"SUMPRODUCT((Data!$B$17:$B$19=Model!$F48499)*(Data!$C$16:$K$16=Model!$K48499)*(Data!$C$17:$K$19))","v":3.78},77.319999999999993,{"$f":"_xlfn.IFS(M48499>70,\"Serviceable\",M48499>30, \"Limited Life\",M48499<=30, \"Unserviceable\")","v":"Serviceable"}]
[null,78933,1967,"Wood Creos Impregnated","Serviceable","Class 3",2018,100,94.54,7,{"$f":"INDEX(Lists!$B$32:$B$40, MATCH(2020-C48563, Lists!$C$32:$C$40,1))","v":"51-60"},{"$f":"SUMPRODUCT((Data!$B$17:$B$19=Model!$F48563)*(Data!$C$16:$K$16=Model!$K48563)*(Data!$C$17:$K$19))","v":2.73},80.89,{"$f":"_xlfn.IFS(M48563>70,\"Serviceable\",M48563>30, \"Limited Life\",M48563<=30, \"Unserviceable\")","v":"Serviceable"}]
[null,79018,1985,"Wood Untreated Dressed","Serviceable","Class 1",2019,120,117.48,6,{"$f":"INDEX(Lists!$B$32:$B$40, MATCH(2020-C48627, Lists!$C$32:$C$40,1))","v":"31-40"},{"$f":"SUMPRODUCT((Data!$B$17:$B$19=Model!$F48627)*(Data!$C$16:$K$16=Model!$K48627)*(Data!$C$17:$K$19))","v":2.52},104.88,{"$f":"_xlfn.IFS(M48627>70,\"Serviceable\",M48627>30, \"Limited Life\",M48627<=30, \"Unserviceable\")","v":"Serviceable"}]
[null,79157,1960,"Wood Untreated Dressed","Serviceable","Class 1",2018,130,126.7,7,{"$f":"INDEX(Lists!$B$32:$B$40, MATCH(2020-C48716, Lists!$C$32:$C$40,1))","v":"51-60"},{"$f":"SUMPRODUCT((Data!$B$17:$B$19=Model!$F48716)*(Data!$C$16:$K$16=Model!$K48716)*(Data!$C$17:$K$19))","v":1.65},118.45,{"$f":"_xlfn.IFS(M48716>70,\"Serviceable\",M48716>30, \"Limited Life\",M48716<=30, \"Unserviceable\")","v":"Serviceable"}]
[null,79185,1978,"Wood Untreated Dressed","Serviceable","Class 1",2018,100,96.5,7,{"$f":"INDEX(Lists!$B$32:$B$40, MATCH(2020-C48733, Lists!$C$32:$C$40,1))","v":"41-50"},{"$f":"SUMPRODUCT((Data!$B$17:$B$19=Model!$F48733)*(Data!$C$16:$K$16=Model!$K48733)*(Data!$C$17:$K$19))","v":1.75},87.75,{"$f":"_xlfn.IFS(M48733>70,\"Serviceable\",M48733>30, \"Limited Life\",M48733<=30, \"Unserviceable\")","v":"Serviceable"}]
[null,79295,1969,"Wood Creos Impregnated","Serviceable","Class 3",2018,100,94.54,7,{"$f":"INDEX(Lists!$B$32:$B$40, MATCH(2020-C48803, Lists!$C$32:$C$40,1))","v":"51-60"},{"$f":"SUMPRODUCT((Data!$B$17:$B$19=Model!$F48803)*(Data!$C$16:$K$16=Model!$K48803)*(Data!$C$17:$K$19))","v":2.73},80.89,{"$f":"_xlfn.IFS(M48803>70,\"Serviceable\",M48803>30, \"Limited Life\",M48803<=30, \"Unserviceable\")","v":"Serviceable"}]
[null,79448,1985,"Wood Untreated Dressed","Serviceable","Class 1",2018,120,114.96,7,{"$f":"INDEX(Lists!$B$32:$B$40, MATCH(2020-C48886, Lists!$C$32:$C$40,1))","v":"31-40"},{"$f":"SUMPRODUCT((Data!$B$17:$B$19=Model!$F48886)*(Data!$C$16:$K$16=Model!$K48886)*(Data!$C$17:$K$19))","v":2.52},102.36,{"$f":"_xlfn.IFS(M48886>70,\"Serviceable\",M48886>30, \"Limited Life\",M48886<=30, \"Unserviceable\")","v":"Serviceable"}]
[null,79564,1974,"Wood Creos Impregnated","Serviceable","Class 3",2018,90,82.44,7,{"$f":"INDEX(Lists!$B$32:$B$40, MATCH(2020-C48955, Lists!$C$32:$C$40,1))","v":"41-50"},{"$f":"SUMPRODUCT((Data!$B$17:$B$19=Model!$F48955)*(Data!$C$16:$K$16=Model!$K48955)*(Data!$C$17:$K$19))","v":3.78},63.540000000000006,{"$f":"_xlfn.IFS(M48955>70,\"Serviceable\",M48955>30, \"Limited Life\",M48955<=30, \"Unserviceable\")","v":"Limited Life"}]
[null,79702,1981,"Wood Untreated Dressed","Serviceable","Class 1",2019,110,107.48,6,{"$f":"INDEX(Lists!$B$32:$B$40, MATCH(2020-C49046, Lists!$C$32:$C$40,1))","v":"31-40"},{"$f":"SUMPRODUCT((Data!$B$17:$B$19=Model!$F49046)*(Data!$C$16:$K$16=Model!$K49046)*(Data!$C$17:$K$19))","v":2.52},94.88,{"$f":"_xlfn.IFS(M49046>70,\"Serviceable\",M49046>30, \"Limited Life\",M49046<=30, \"Unserviceable\")","v":"Serviceable"}]
[null,79835,2011,"CCA Treated Pole","Serviceable","Class 2",2020,162.49719689682513,162.49719689682513,5,{"$f":"INDEX(Lists!$B$32:$B$40, MATCH(2020-C49124, Lists!$C$32:$C$40,1))","v":"0-20"},{"$f":"SUMPRODUCT((Data!$B$17:$B$19=Model!$F49124)*(Data!$C$16:$K$16=Model!$K49124)*(Data!$C$17:$K$19))","v":1.22},156.39719689682514,{"$f":"_xlfn.IFS(M49124>70,\"Serviceable\",M49124>30, \"Limited Life\",M49124<=30, \"Unserviceable\")","v":"Serviceable"}]
[null,79905,1985,"Wood Untreated Dressed","Serviceable","Class 1",2019,120,117.48,6,{"$f":"INDEX(Lists!$B$32:$B$40, MATCH(2020-C49174, Lists!$C$32:$C$40,1))","v":"31-40"},{"$f":"SUMPRODUCT((Data!$B$17:$B$19=Model!$F49174)*(Data!$C$16:$K$16=Model!$K49174)*(Data!$C$17:$K$19))","v":2.52},104.88,{"$f":"_xlfn.IFS(M49174>70,\"Serviceable\",M49174>30, \"Limited Life\",M49174<=30, \"Unserviceable\")","v":"Serviceable"}]
[null,79962,2004,"CCA Treated Pole","Serviceable","Class 1",2018,150,147.88,7,{"$f":"INDEX(Lists!$B$32:$B$40, MATCH(2020-C49209, Lists!$C$32:$C$40,1))","v":"0-20"},{"$f":"SUMPRODUCT((Data!$B$17:$B$19=Model!$F49209)*(Data!$C$16:$K$16=Model!$K49209)*(Data!$C$17:$K$19))","v":1.06},142.58000000000001,{"$f":"_xlfn.IFS(M49209>70,\"Serviceable\",M49209>30, \"Limited Life\",M49209<=30, \"Unserviceable\")","v":"Serviceable"}]
[null,80100,1976,"Wood Untreated Dressed","Serviceable","Class 1",2018,130,126.5,7,{"$f":"INDEX(Lists!$B$32:$B$40, MATCH(2020-C49294, Lists!$C$32:$C$40,1))","v":"41-50"},{"$f":"SUMPRODUCT((Data!$B$17:$B$19=Model!$F49294)*(Data!$C$16:$K$16=Model!$K49294)*(Data!$C$17:$K$19))","v":1.75},117.75,{"$f":"_xlfn.IFS(M49294>70,\"Serviceable\",M49294>30, \"Limited Life\",M49294<=30, \"Unserviceable\")","v":"Serviceable"}]
[null,80195,1961,"Wood Creos Impregnated","Serviceable","Class 3",2018,80,74.540000000000006,7,{"$f":"INDEX(Lists!$B$32:$B$40, MATCH(2020-C49350, Lists!$C$32:$C$40,1))","v":"51-60"},{"$f":"SUMPRODUCT((Data!$B$17:$B$19=Model!$F49350)*(Data!$C$16:$K$16=Model!$K49350)*(Data!$C$17:$K$19))","v":2.73},60.89,{"$f":"_xlfn.IFS(M49350>70,\"Serviceable\",M49350>30, \"Limited Life\",M49350<=30, \"Unserviceable\")","v":"Limited Life"}]
[null,80363,2009,"CCA Treated Pole","Serviceable","Class 1",2020,150,150,5,{"$f":"INDEX(Lists!$B$32:$B$40, MATCH(2020-C49447, Lists!$C$32:$C$40,1))","v":"0-20"},{"$f":"SUMPRODUCT((Data!$B$17:$B$19=Model!$F49447)*(Data!$C$16:$K$16=Model!$K49447)*(Data!$C$17:$K$19))","v":1.06},144.69999999999999,{"$f":"_xlfn.IFS(M49447>70,\"Serviceable\",M49447>30, \"Limited Life\",M49447<=30, \"Unserviceable\")","v":"Serviceable"}]
[null,80411,1977,"Wood Untreated Round","Serviceable","Class 1",2019,90,88.25,6,{"$f":"INDEX(Lists!$B$32:$B$40, MATCH(2020-C49478, Lists!$C$32:$C$40,1))","v":"41-50"},{"$f":"SUMPRODUCT((Data!$B$17:$B$19=Model!$F49478)*(Data!$C$16:$K$16=Model!$K49478)*(Data!$C$17:$K$19))","v":1.75},79.5,{"$f":"_xlfn.IFS(M49478>70,\"Serviceable\",M49478>30, \"Limited Life\",M49478<=30, \"Unserviceable\")","v":"Serviceable"}]
[null,80507,1986,"Wood Untreated Dressed","Serviceable","Class 1",2019,150,147.47999999999999,6,{"$f":"INDEX(Lists!$B$32:$B$40, MATCH(2020-C49532, Lists!$C$32:$C$40,1))","v":"31-40"},{"$f":"SUMPRODUCT((Data!$B$17:$B$19=Model!$F49532)*(Data!$C$16:$K$16=Model!$K49532)*(Data!$C$17:$K$19))","v":2.52},134.88,{"$f":"_xlfn.IFS(M49532>70,\"Serviceable\",M49532>30, \"Limited Life\",M49532<=30, \"Unserviceable\")","v":"Serviceable"}]
[null,80630,1985,"Wood Untreated Dressed","Serviceable","Class 1",2018,110,104.96,7,{"$f":"INDEX(Lists!$B$32:$B$40, MATCH(2020-C49617, Lists!$C$32:$C$40,1))","v":"31-40"},{"$f":"SUMPRODUCT((Data!$B$17:$B$19=Model!$F49617)*(Data!$C$16:$K$16=Model!$K49617)*(Data!$C$17:$K$19))","v":2.52},92.36,{"$f":"_xlfn.IFS(M49617>70,\"Serviceable\",M49617>30, \"Limited Life\",M49617<=30, \"Unserviceable\")","v":"Serviceable"}]
[null,80771,2004,"CCA Treated Pole","Serviceable","Class 1",2018,150,147.88,7,{"$f":"INDEX(Lists!$B$32:$B$40, MATCH(2020-C49721, Lists!$C$32:$C$40,1))","v":"0-20"},{"$f":"SUMPRODUCT((Data!$B$17:$B$19=Model!$F49721)*(Data!$C$16:$K$16=Model!$K49721)*(Data!$C$17:$K$19))","v":1.06},142.58000000000001,{"$f":"_xlfn.IFS(M49721>70,\"Serviceable\",M49721>30, \"Limited Life\",M49721<=30, \"Unserviceable\")","v":"Serviceable"}]
[null,80843,1955,"Wood Untreated Round","Serviceable","Class 2",2018,80,75.540000000000006,7,{"$f":"INDEX(Lists!$B$32:$B$40, MATCH(2020-C49770, Lists!$C$32:$C$40,1))","v":"61-70"},{"$f":"SUMPRODUCT((Data!$B$17:$B$19=Model!$F49770)*(Data!$C$16:$K$16=Model!$K49770)*(Data!$C$17:$K$19))","v":2.23},64.39,{"$f":"_xlfn.IFS(M49770>70,\"Serviceable\",M49770>30, \"Limited Life\",M49770<=30, \"Unserviceable\")","v":"Limited Life"}]
[null,80968,1980,"Wood Untreated Dressed","Serviceable","Class 1",2019,90,87.48,6,{"$f":"INDEX(Lists!$B$32:$B$40, MATCH(2020-C49839, Lists!$C$32:$C$40,1))","v":"31-40"},{"$f":"SUMPRODUCT((Data!$B$17:$B$19=Model!$F49839)*(Data!$C$16:$K$16=Model!$K49839)*(Data!$C$17:$K$19))","v":2.52},74.88,{"$f":"_xlfn.IFS(M49839>70,\"Serviceable\",M49839>30, \"Limited Life\",M49839<=30, \"Unserviceable\")","v":"Serviceable"}]
[null,81057,1985,"Wood Untreated Dressed","Serviceable","Class 1",2018,130,124.96,7,{"$f":"INDEX(Lists!$B$32:$B$40, MATCH(2020-C49897, Lists!$C$32:$C$40,1))","v":"31-40"},{"$f":"SUMPRODUCT((Data!$B$17:$B$19=Model!$F49897)*(Data!$C$16:$K$16=Model!$K49897)*(Data!$C$17:$K$19))","v":2.52},112.36,{"$f":"_xlfn.IFS(M49897>70,\"Serviceable\",M49897>30, \"Limited Life\",M49897<=30, \"Unserviceable\")","v":"Serviceable"}]
[null,81121,1984,"Wood Untreated Dressed","Serviceable","Class 1",2018,130,124.96,7,{"$f":"INDEX(Lists!$B$32:$B$40, MATCH(2020-C49940, Lists!$C$32:$C$40,1))","v":"31-40"},{"$f":"SUMPRODUCT((Data!$B$17:$B$19=Model!$F49940)*(Data!$C$16:$K$16=Model!$K49940)*(Data!$C$17:$K$19))","v":2.52},112.36,{"$f":"_xlfn.IFS(M49940>70,\"Serviceable\",M49940>30, \"Limited Life\",M49940<=30, \"Unserviceable\")","v":"Serviceable"}]
[null,81265,1960,"Wood Creos Impregnated","Serviceable","Class 3",2019,90,87.27,6,{"$f":"INDEX(Lists!$B$32:$B$40, MATCH(2020-C50025, Lists!$C$32:$C$40,1))","v":"51-60"},{"$f":"SUMPRODUCT((Data!$B$17:$B$19=Model!$F50025)*(Data!$C$16:$K$16=Model!$K50025)*(Data!$C$17:$K$19))","v":2.73},73.62,{"$f":"_xlfn.IFS(M50025>70,\"Serviceable\",M50025>30, \"Limited Life\",M50025<=30, \"Unserviceable\")","v":"Serviceable"}]
[null,81376,2003,"CCA Treated Pole","Serviceable","Class 2",2018,150,147.56,7,{"$f":"INDEX(Lists!$B$32:$B$40, MATCH(2020-C50093, Lists!$C$32:$C$40,1))","v":"0-20"},{"$f":"SUMPRODUCT((Data!$B$17:$B$19=Model!$F50093)*(Data!$C$16:$K$16=Model!$K50093)*(Data!$C$17:$K$19))","v":1.22},141.46,{"$f":"_xlfn.IFS(M50093>70,\"Serviceable\",M50093>30, \"Limited Life\",M50093<=30, \"Unserviceable\")","v":"Serviceable"}]
[null,81525,1961,"Wood Creos Impregnated","Serviceable","Class 3",2018,90,84.54,7,{"$f":"INDEX(Lists!$B$32:$B$40, MATCH(2020-C50178, Lists!$C$32:$C$40,1))","v":"51-60"},{"$f":"SUMPRODUCT((Data!$B$17:$B$19=Model!$F50178)*(Data!$C$16:$K$16=Model!$K50178)*(Data!$C$17:$K$19))","v":2.73},70.89,{"$f":"_xlfn.IFS(M50178>70,\"Serviceable\",M50178>30, \"Limited Life\",M50178<=30, \"Unserviceable\")","v":"Serviceable"}]
[null,81668,1980,"Wood Creos Impregnated","Serviceable","Class 3",2018,120,113.56,7,{"$f":"INDEX(Lists!$B$32:$B$40, MATCH(2020-C50268, Lists!$C$32:$C$40,1))","v":"31-40"},{"$f":"SUMPRODUCT((Data!$B$17:$B$19=Model!$F50268)*(Data!$C$16:$K$16=Model!$K50268)*(Data!$C$17:$K$19))","v":3.22},97.46,{"$f":"_xlfn.IFS(M50268>70,\"Serviceable\",M50268>30, \"Limited Life\",M50268<=30, \"Unserviceable\")","v":"Serviceable"}]
[null,81766,1962,"Wood Creos Impregnated","Serviceable","Class 3",2018,80,74.540000000000006,7,{"$f":"INDEX(Lists!$B$32:$B$40, MATCH(2020-C50331, Lists!$C$32:$C$40,1))","v":"51-60"},{"$f":"SUMPRODUCT((Data!$B$17:$B$19=Model!$F50331)*(Data!$C$16:$K$16=Model!$K50331)*(Data!$C$17:$K$19))","v":2.73},60.89,{"$f":"_xlfn.IFS(M50331>70,\"Serviceable\",M50331>30, \"Limited Life\",M50331<=30, \"Unserviceable\")","v":"Limited Life"}]
[null,81870,1964,"Wood Creos Impregnated","Serviceable","Class 3",2016,100,89.08,9,{"$f":"INDEX(Lists!$B$32:$B$40, MATCH(2020-C50396, Lists!$C$32:$C$40,1))","v":"51-60"},{"$f":"SUMPRODUCT((Data!$B$17:$B$19=Model!$F50396)*(Data!$C$16:$K$16=Model!$K50396)*(Data!$C$17:$K$19))","v":2.73},75.430000000000007,{"$f":"_xlfn.IFS(M50396>70,\"Serviceable\",M50396>30, \"Limited Life\",M50396<=30, \"Unserviceable\")","v":"Serviceable"}]
[null,81902,1961,"Wood Creos Impregnated","Serviceable","Class 3",2018,110,104.54,7,{"$f":"INDEX(Lists!$B$32:$B$40, MATCH(2020-C50416, Lists!$C$32:$C$40,1))","v":"51-60"},{"$f":"SUMPRODUCT((Data!$B$17:$B$19=Model!$F50416)*(Data!$C$16:$K$16=Model!$K50416)*(Data!$C$17:$K$19))","v":2.73},90.89,{"$f":"_xlfn.IFS(M50416>70,\"Serviceable\",M50416>30, \"Limited Life\",M50416<=30, \"Unserviceable\")","v":"Serviceable"}]
[null,82037,1975,"Wood Creos Impregnated","Serviceable","Class 1",2019,120,118.25,6,{"$f":"INDEX(Lists!$B$32:$B$40, MATCH(2020-C50501, Lists!$C$32:$C$40,1))","v":"41-50"},{"$f":"SUMPRODUCT((Data!$B$17:$B$19=Model!$F50501)*(Data!$C$16:$K$16=Model!$K50501)*(Data!$C$17:$K$19))","v":1.75},109.5,{"$f":"_xlfn.IFS(M50501>70,\"Serviceable\",M50501>30, \"Limited Life\",M50501<=30, \"Unserviceable\")","v":"Serviceable"}]
[null,82127,1968,"Wood Creos Impregnated","Serviceable","Class 3",2019,100,97.27,6,{"$f":"INDEX(Lists!$B$32:$B$40, MATCH(2020-C50572, Lists!$C$32:$C$40,1))","v":"51-60"},{"$f":"SUMPRODUCT((Data!$B$17:$B$19=Model!$F50572)*(Data!$C$16:$K$16=Model!$K50572)*(Data!$C$17:$K$19))","v":2.73},83.62,{"$f":"_xlfn.IFS(M50572>70,\"Serviceable\",M50572>30, \"Limited Life\",M50572<=30, \"Unserviceable\")","v":"Serviceable"}]
[null,82263,1962,"Wood Creos Impregnated","Serviceable","Class 3",2019,100,97.27,6,{"$f":"INDEX(Lists!$B$32:$B$40, MATCH(2020-C50654, Lists!$C$32:$C$40,1))","v":"51-60"},{"$f":"SUMPRODUCT((Data!$B$17:$B$19=Model!$F50654)*(Data!$C$16:$K$16=Model!$K50654)*(Data!$C$17:$K$19))","v":2.73},83.62,{"$f":"_xlfn.IFS(M50654>70,\"Serviceable\",M50654>30, \"Limited Life\",M50654<=30, \"Unserviceable\")","v":"Serviceable"}]
[null,82352,1962,"Wood Creos Impregnated","Serviceable","Class 3",2020,80,80,5,{"$f":"INDEX(Lists!$B$32:$B$40, MATCH(2020-C50700, Lists!$C$32:$C$40,1))","v":"51-60"},{"$f":"SUMPRODUCT((Data!$B$17:$B$19=Model!$F50700)*(Data!$C$16:$K$16=Model!$K50700)*(Data!$C$17:$K$19))","v":2.73},66.349999999999994,{"$f":"_xlfn.IFS(M50700>70,\"Serviceable\",M50700>30, \"Limited Life\",M50700<=30, \"Unserviceable\")","v":"Limited Life"}]
[null,82541,1966,"Wood Creos Impregnated","Serviceable","Class 3",2019,120,117.27,6,{"$f":"INDEX(Lists!$B$32:$B$40, MATCH(2020-C50807, Lists!$C$32:$C$40,1))","v":"51-60"},{"$f":"SUMPRODUCT((Data!$B$17:$B$19=Model!$F50807)*(Data!$C$16:$K$16=Model!$K50807)*(Data!$C$17:$K$19))","v":2.73},103.62,{"$f":"_xlfn.IFS(M50807>70,\"Serviceable\",M50807>30, \"Limited Life\",M50807<=30, \"Unserviceable\")","v":"Serviceable"}]
[null,82568,2001,"CCA Treated Pole","Serviceable","Class 2",2019,150,148.78,{"$f":"2025-G50824","v":6},{"$f":"INDEX(Lists!$B$32:$B$40, MATCH(2020-C50824, Lists!$C$32:$C$40,1))","v":"0-20"},{"$f":"SUMPRODUCT((Data!$B$17:$B$19=Model!$F50824)*(Data!$C$16:$K$16=Model!$K50824)*(Data!$C$17:$K$19))","v":1.22},{"$f":"IF(IF(H50824>=700,999,(H50824-L50824*J50824))<0,0,IF(H50824>=700,999,(H50824-L50824*J50824)))","v":142.68},{"$f":"_xlfn.IFS(M50824>70,\"Serviceable\",M50824>30, \"Limited Life\",M50824<=30, \"Unserviceable\")","v":"Serviceable"}]
[null,82754,1967,"Wood Creos Impregnated","Serviceable","Class 3",2017,110,101.81,8,{"$f":"INDEX(Lists!$B$32:$B$40, MATCH(2020-C50943, Lists!$C$32:$C$40,1))","v":"51-60"},{"$f":"SUMPRODUCT((Data!$B$17:$B$19=Model!$F50943)*(Data!$C$16:$K$16=Model!$K50943)*(Data!$C$17:$K$19))","v":2.73},88.16,{"$f":"_xlfn.IFS(M50943>70,\"Serviceable\",M50943>30, \"Limited Life\",M50943<=30, \"Unserviceable\")","v":"Serviceable"}]
[null,82817,1990,"Wood Creos Impregnated","Serviceable","Class 3",2019,100,98.16,6,{"$f":"INDEX(Lists!$B$32:$B$40, MATCH(2020-C50977, Lists!$C$32:$C$40,1))","v":"21-30"},{"$f":"SUMPRODUCT((Data!$B$17:$B$19=Model!$F50977)*(Data!$C$16:$K$16=Model!$K50977)*(Data!$C$17:$K$19))","v":1.84},88.96,{"$f":"_xlfn.IFS(M50977>70,\"Serviceable\",M50977>30, \"Limited Life\",M50977<=30, \"Unserviceable\")","v":"Serviceable"}]
[null,82958,1962,"Wood Creos Impregnated","Serviceable","Class 3",2020,100,100,5,{"$f":"INDEX(Lists!$B$32:$B$40, MATCH(2020-C51062, Lists!$C$32:$C$40,1))","v":"51-60"},{"$f":"SUMPRODUCT((Data!$B$17:$B$19=Model!$F51062)*(Data!$C$16:$K$16=Model!$K51062)*(Data!$C$17:$K$19))","v":2.73},86.35,{"$f":"_xlfn.IFS(M51062>70,\"Serviceable\",M51062>30, \"Limited Life\",M51062<=30, \"Unserviceable\")","v":"Serviceable"}]
[null,83040,1976,"Wood Creos Impregnated","Serviceable","Class 3",2020,171.56902865306319,171.56902865306319,5,{"$f":"INDEX(Lists!$B$32:$B$40, MATCH(2020-C51119, Lists!$C$32:$C$40,1))","v":"41-50"},{"$f":"SUMPRODUCT((Data!$B$17:$B$19=Model!$F51119)*(Data!$C$16:$K$16=Model!$K51119)*(Data!$C$17:$K$19))","v":3.78},152.66902865306318,{"$f":"_xlfn.IFS(M51119>70,\"Serviceable\",M51119>30, \"Limited Life\",M51119<=30, \"Unserviceable\")","v":"Serviceable"}]
[null,83202,1970,"Wood Creos Impregnated","Serviceable","Class 3",2020,110,110,5,{"$f":"INDEX(Lists!$B$32:$B$40, MATCH(2020-C51215, Lists!$C$32:$C$40,1))","v":"41-50"},{"$f":"SUMPRODUCT((Data!$B$17:$B$19=Model!$F51215)*(Data!$C$16:$K$16=Model!$K51215)*(Data!$C$17:$K$19))","v":3.78},91.1,{"$f":"_xlfn.IFS(M51215>70,\"Serviceable\",M51215>30, \"Limited Life\",M51215<=30, \"Unserviceable\")","v":"Serviceable"}]
[null,83255,1969,"Wood Creos Impregnated","Serviceable","Class 3",2015,100,86.35,10,{"$f":"INDEX(Lists!$B$32:$B$40, MATCH(2020-C51247, Lists!$C$32:$C$40,1))","v":"51-60"},{"$f":"SUMPRODUCT((Data!$B$17:$B$19=Model!$F51247)*(Data!$C$16:$K$16=Model!$K51247)*(Data!$C$17:$K$19))","v":2.73},72.7,{"$f":"_xlfn.IFS(M51247>70,\"Serviceable\",M51247>30, \"Limited Life\",M51247<=30, \"Unserviceable\")","v":"Serviceable"}]
[null,83344,1965,"Wood Creos Impregnated","Serviceable","Class 3",2019,110,107.27,6,{"$f":"INDEX(Lists!$B$32:$B$40, MATCH(2020-C51300, Lists!$C$32:$C$40,1))","v":"51-60"},{"$f":"SUMPRODUCT((Data!$B$17:$B$19=Model!$F51300)*(Data!$C$16:$K$16=Model!$K51300)*(Data!$C$17:$K$19))","v":2.73},93.62,{"$f":"_xlfn.IFS(M51300>70,\"Serviceable\",M51300>30, \"Limited Life\",M51300<=30, \"Unserviceable\")","v":"Serviceable"}]
[null,83483,1966,"Wood Creos Impregnated","Serviceable","Class 3",2019,100,97.27,6,{"$f":"INDEX(Lists!$B$32:$B$40, MATCH(2020-C51385, Lists!$C$32:$C$40,1))","v":"51-60"},{"$f":"SUMPRODUCT((Data!$B$17:$B$19=Model!$F51385)*(Data!$C$16:$K$16=Model!$K51385)*(Data!$C$17:$K$19))","v":2.73},83.62,{"$f":"_xlfn.IFS(M51385>70,\"Serviceable\",M51385>30, \"Limited Life\",M51385<=30, \"Unserviceable\")","v":"Serviceable"}]
[null,83629,1940,"Wood Untreated Dressed","Serviceable","Class 1",2018,90,85.7,7,{"$f":"INDEX(Lists!$B$32:$B$40, MATCH(2020-C51490, Lists!$C$32:$C$40,1))","v":"71-80"},{"$f":"SUMPRODUCT((Data!$B$17:$B$19=Model!$F51490)*(Data!$C$16:$K$16=Model!$K51490)*(Data!$C$17:$K$19))","v":2.15},74.95,{"$f":"_xlfn.IFS(M51490>70,\"Serviceable\",M51490>30, \"Limited Life\",M51490<=30, \"Unserviceable\")","v":"Serviceable"}]
[null,83694,1940,"Wood Untreated Dressed","Serviceable","Class 1",2018,90,85.7,7,{"$f":"INDEX(Lists!$B$32:$B$40, MATCH(2020-C51538, Lists!$C$32:$C$40,1))","v":"71-80"},{"$f":"SUMPRODUCT((Data!$B$17:$B$19=Model!$F51538)*(Data!$C$16:$K$16=Model!$K51538)*(Data!$C$17:$K$19))","v":2.15},74.95,{"$f":"_xlfn.IFS(M51538>70,\"Serviceable\",M51538>30, \"Limited Life\",M51538<=30, \"Unserviceable\")","v":"Serviceable"}]
[null,83762,1947,"Wood Untreated Dressed","Serviceable","Class 1",2020,100,100,5,{"$f":"INDEX(Lists!$B$32:$B$40, MATCH(2020-C51585, Lists!$C$32:$C$40,1))","v":"71-80"},{"$f":"SUMPRODUCT((Data!$B$17:$B$19=Model!$F51585)*(Data!$C$16:$K$16=Model!$K51585)*(Data!$C$17:$K$19))","v":2.15},89.25,{"$f":"_xlfn.IFS(M51585>70,\"Serviceable\",M51585>30, \"Limited Life\",M51585<=30, \"Unserviceable\")","v":"Serviceable"}]
[null,83930,1999,"CCA Treated Pole","Serviceable","Class 1",2018,150,146.08000000000001,7,{"$f":"INDEX(Lists!$B$32:$B$40, MATCH(2020-C51691, Lists!$C$32:$C$40,1))","v":"21-30"},{"$f":"SUMPRODUCT((Data!$B$17:$B$19=Model!$F51691)*(Data!$C$16:$K$16=Model!$K51691)*(Data!$C$17:$K$19))","v":1.96},136.28,{"$f":"_xlfn.IFS(M51691>70,\"Serviceable\",M51691>30, \"Limited Life\",M51691<=30, \"Unserviceable\")","v":"Serviceable"}]
[null,83955,1965,"Wood Creos Impregnated","Serviceable","Class 3",2018,100,94.54,7,{"$f":"INDEX(Lists!$B$32:$B$40, MATCH(2020-C51708, Lists!$C$32:$C$40,1))","v":"51-60"},{"$f":"SUMPRODUCT((Data!$B$17:$B$19=Model!$F51708)*(Data!$C$16:$K$16=Model!$K51708)*(Data!$C$17:$K$19))","v":2.73},80.89,{"$f":"_xlfn.IFS(M51708>70,\"Serviceable\",M51708>30, \"Limited Life\",M51708<=30, \"Unserviceable\")","v":"Serviceable"}]
[null,84098,2009,"CCA Treated Pole","Serviceable","Class 1",2020,150,150,5,{"$f":"INDEX(Lists!$B$32:$B$40, MATCH(2020-C51794, Lists!$C$32:$C$40,1))","v":"0-20"},{"$f":"SUMPRODUCT((Data!$B$17:$B$19=Model!$F51794)*(Data!$C$16:$K$16=Model!$K51794)*(Data!$C$17:$K$19))","v":1.06},144.69999999999999,{"$f":"_xlfn.IFS(M51794>70,\"Serviceable\",M51794>30, \"Limited Life\",M51794<=30, \"Unserviceable\")","v":"Serviceable"}]
[null,84211,1967,"Wood Creos Impregnated","Serviceable","Class 3",2018,100,94.54,7,{"$f":"INDEX(Lists!$B$32:$B$40, MATCH(2020-C51861, Lists!$C$32:$C$40,1))","v":"51-60"},{"$f":"SUMPRODUCT((Data!$B$17:$B$19=Model!$F51861)*(Data!$C$16:$K$16=Model!$K51861)*(Data!$C$17:$K$19))","v":2.73},80.89,{"$f":"_xlfn.IFS(M51861>70,\"Serviceable\",M51861>30, \"Limited Life\",M51861<=30, \"Unserviceable\")","v":"Serviceable"}]
[null,84352,1966,"Wood Creos Impregnated","Serviceable","Class 3",2019,100,97.27,6,{"$f":"INDEX(Lists!$B$32:$B$40, MATCH(2020-C51946, Lists!$C$32:$C$40,1))","v":"51-60"},{"$f":"SUMPRODUCT((Data!$B$17:$B$19=Model!$F51946)*(Data!$C$16:$K$16=Model!$K51946)*(Data!$C$17:$K$19))","v":2.73},83.62,{"$f":"_xlfn.IFS(M51946>70,\"Serviceable\",M51946>30, \"Limited Life\",M51946<=30, \"Unserviceable\")","v":"Serviceable"}]
[null,84391,1973,"Wood Creos Impregnated","Serviceable","Class 1",2019,100,98.25,6,{"$f":"INDEX(Lists!$B$32:$B$40, MATCH(2020-C51970, Lists!$C$32:$C$40,1))","v":"41-50"},{"$f":"SUMPRODUCT((Data!$B$17:$B$19=Model!$F51970)*(Data!$C$16:$K$16=Model!$K51970)*(Data!$C$17:$K$19))","v":1.75},89.5,{"$f":"_xlfn.IFS(M51970>70,\"Serviceable\",M51970>30, \"Limited Life\",M51970<=30, \"Unserviceable\")","v":"Serviceable"}]
[null,84585,2009,"CCA Treated Pole","Serviceable","Class 1",2019,150,148.94,6,{"$f":"INDEX(Lists!$B$32:$B$40, MATCH(2020-C52099, Lists!$C$32:$C$40,1))","v":"0-20"},{"$f":"SUMPRODUCT((Data!$B$17:$B$19=Model!$F52099)*(Data!$C$16:$K$16=Model!$K52099)*(Data!$C$17:$K$19))","v":1.06},143.63999999999999,{"$f":"_xlfn.IFS(M52099>70,\"Serviceable\",M52099>30, \"Limited Life\",M52099<=30, \"Unserviceable\")","v":"Serviceable"}]
[null,84691,1968,"Wood Creos Impregnated","Serviceable","Class 3",2017,100,91.81,8,{"$f":"INDEX(Lists!$B$32:$B$40, MATCH(2020-C52165, Lists!$C$32:$C$40,1))","v":"51-60"},{"$f":"SUMPRODUCT((Data!$B$17:$B$19=Model!$F52165)*(Data!$C$16:$K$16=Model!$K52165)*(Data!$C$17:$K$19))","v":2.73},78.16,{"$f":"_xlfn.IFS(M52165>70,\"Serviceable\",M52165>30, \"Limited Life\",M52165<=30, \"Unserviceable\")","v":"Serviceable"}]
[null,84717,1969,"Wood Creos Impregnated","Limited Life","Class 3",2017,70,61.81,8,{"$f":"INDEX(Lists!$B$32:$B$40, MATCH(2020-C52184, Lists!$C$32:$C$40,1))","v":"51-60"},{"$f":"SUMPRODUCT((Data!$B$17:$B$19=Model!$F52184)*(Data!$C$16:$K$16=Model!$K52184)*(Data!$C$17:$K$19))","v":2.73},48.16,{"$f":"_xlfn.IFS(M52184>70,\"Serviceable\",M52184>30, \"Limited Life\",M52184<=30, \"Unserviceable\")","v":"Limited Life"}]
[null,84847,1972,"Wood Creos Impregnated","Serviceable","Class 3",2018,100,92.44,7,{"$f":"INDEX(Lists!$B$32:$B$40, MATCH(2020-C52269, Lists!$C$32:$C$40,1))","v":"41-50"},{"$f":"SUMPRODUCT((Data!$B$17:$B$19=Model!$F52269)*(Data!$C$16:$K$16=Model!$K52269)*(Data!$C$17:$K$19))","v":3.78},73.540000000000006,{"$f":"_xlfn.IFS(M52269>70,\"Serviceable\",M52269>30, \"Limited Life\",M52269<=30, \"Unserviceable\")","v":"Serviceable"}]
[null,84977,1967,"Wood Creos Impregnated","Serviceable","Class 3",2017,100,91.81,8,{"$f":"INDEX(Lists!$B$32:$B$40, MATCH(2020-C52341, Lists!$C$32:$C$40,1))","v":"51-60"},{"$f":"SUMPRODUCT((Data!$B$17:$B$19=Model!$F52341)*(Data!$C$16:$K$16=Model!$K52341)*(Data!$C$17:$K$19))","v":2.73},78.16,{"$f":"_xlfn.IFS(M52341>70,\"Serviceable\",M52341>30, \"Limited Life\",M52341<=30, \"Unserviceable\")","v":"Serviceable"}]
[null,85093,2000,"CCA Treated Pole","Serviceable","Class 2",2017,162.49719689682513,158.83719689682513,8,{"$f":"INDEX(Lists!$B$32:$B$40, MATCH(2020-C52422, Lists!$C$32:$C$40,1))","v":"0-20"},{"$f":"SUMPRODUCT((Data!$B$17:$B$19=Model!$F52422)*(Data!$C$16:$K$16=Model!$K52422)*(Data!$C$17:$K$19))","v":1.22},152.73719689682514,{"$f":"_xlfn.IFS(M52422>70,\"Serviceable\",M52422>30, \"Limited Life\",M52422<=30, \"Unserviceable\")","v":"Serviceable"}]
[null,85219,1976,"Wood Creos Impregnated","Serviceable","Class 1",2018,150,146.5,7,{"$f":"INDEX(Lists!$B$32:$B$40, MATCH(2020-C52503, Lists!$C$32:$C$40,1))","v":"41-50"},{"$f":"SUMPRODUCT((Data!$B$17:$B$19=Model!$F52503)*(Data!$C$16:$K$16=Model!$K52503)*(Data!$C$17:$K$19))","v":1.75},137.75,{"$f":"_xlfn.IFS(M52503>70,\"Serviceable\",M52503>30, \"Limited Life\",M52503<=30, \"Unserviceable\")","v":"Serviceable"}]
[null,85224,1968,"Wood Creos Impregnated","Serviceable","Class 3",2017,100,91.81,8,{"$f":"INDEX(Lists!$B$32:$B$40, MATCH(2020-C52507, Lists!$C$32:$C$40,1))","v":"51-60"},{"$f":"SUMPRODUCT((Data!$B$17:$B$19=Model!$F52507)*(Data!$C$16:$K$16=Model!$K52507)*(Data!$C$17:$K$19))","v":2.73},78.16,{"$f":"_xlfn.IFS(M52507>70,\"Serviceable\",M52507>30, \"Limited Life\",M52507<=30, \"Unserviceable\")","v":"Serviceable"}]
[null,85373,1976,"Wood Creos Impregnated","Serviceable","Class 1",2018,110,106.5,7,{"$f":"INDEX(Lists!$B$32:$B$40, MATCH(2020-C52592, Lists!$C$32:$C$40,1))","v":"41-50"},{"$f":"SUMPRODUCT((Data!$B$17:$B$19=Model!$F52592)*(Data!$C$16:$K$16=Model!$K52592)*(Data!$C$17:$K$19))","v":1.75},97.75,{"$f":"_xlfn.IFS(M52592>70,\"Serviceable\",M52592>30, \"Limited Life\",M52592<=30, \"Unserviceable\")","v":"Serviceable"}]
[null,85453,1973,"Wood Creos Impregnated","Serviceable","Class 1",2018,140,136.5,7,{"$f":"INDEX(Lists!$B$32:$B$40, MATCH(2020-C52645, Lists!$C$32:$C$40,1))","v":"41-50"},{"$f":"SUMPRODUCT((Data!$B$17:$B$19=Model!$F52645)*(Data!$C$16:$K$16=Model!$K52645)*(Data!$C$17:$K$19))","v":1.75},127.75,{"$f":"_xlfn.IFS(M52645>70,\"Serviceable\",M52645>30, \"Limited Life\",M52645<=30, \"Unserviceable\")","v":"Serviceable"}]
[null,85602,1967,"Wood Creos Impregnated","Serviceable","Class 3",2018,100,94.54,7,{"$f":"INDEX(Lists!$B$32:$B$40, MATCH(2020-C52745, Lists!$C$32:$C$40,1))","v":"51-60"},{"$f":"SUMPRODUCT((Data!$B$17:$B$19=Model!$F52745)*(Data!$C$16:$K$16=Model!$K52745)*(Data!$C$17:$K$19))","v":2.73},80.89,{"$f":"_xlfn.IFS(M52745>70,\"Serviceable\",M52745>30, \"Limited Life\",M52745<=30, \"Unserviceable\")","v":"Serviceable"}]
[null,85699,1980,"Wood Creos Impregnated","Serviceable","Class 3",2018,110,103.56,7,{"$f":"INDEX(Lists!$B$32:$B$40, MATCH(2020-C52807, Lists!$C$32:$C$40,1))","v":"31-40"},{"$f":"SUMPRODUCT((Data!$B$17:$B$19=Model!$F52807)*(Data!$C$16:$K$16=Model!$K52807)*(Data!$C$17:$K$19))","v":3.22},87.46,{"$f":"_xlfn.IFS(M52807>70,\"Serviceable\",M52807>30, \"Limited Life\",M52807<=30, \"Unserviceable\")","v":"Serviceable"}]
[null,85882,1960,"Wood Creos Impregnated","Serviceable","Class 3",2019,120,117.27,6,{"$f":"INDEX(Lists!$B$32:$B$40, MATCH(2020-C52898, Lists!$C$32:$C$40,1))","v":"51-60"},{"$f":"SUMPRODUCT((Data!$B$17:$B$19=Model!$F52898)*(Data!$C$16:$K$16=Model!$K52898)*(Data!$C$17:$K$19))","v":2.73},103.62,{"$f":"_xlfn.IFS(M52898>70,\"Serviceable\",M52898>30, \"Limited Life\",M52898<=30, \"Unserviceable\")","v":"Serviceable"}]
[null,85904,1966,"Wood Creos Impregnated","Serviceable","Class 2",2016,130,119.72,9,{"$f":"INDEX(Lists!$B$32:$B$40, MATCH(2020-C52915, Lists!$C$32:$C$40,1))","v":"51-60"},{"$f":"SUMPRODUCT((Data!$B$17:$B$19=Model!$F52915)*(Data!$C$16:$K$16=Model!$K52915)*(Data!$C$17:$K$19))","v":2.57},106.87,{"$f":"_xlfn.IFS(M52915>70,\"Serviceable\",M52915>30, \"Limited Life\",M52915<=30, \"Unserviceable\")","v":"Serviceable"}]
[null,86080,1989,"Wood Untreated Dressed","Serviceable","Class 1",2016,100,89.92,9,{"$f":"INDEX(Lists!$B$32:$B$40, MATCH(2020-C53016, Lists!$C$32:$C$40,1))","v":"31-40"},{"$f":"SUMPRODUCT((Data!$B$17:$B$19=Model!$F53016)*(Data!$C$16:$K$16=Model!$K53016)*(Data!$C$17:$K$19))","v":2.52},77.319999999999993,{"$f":"_xlfn.IFS(M53016>70,\"Serviceable\",M53016>30, \"Limited Life\",M53016<=30, \"Unserviceable\")","v":"Serviceable"}]
[null,86182,2004,"CCA Treated Pole","Serviceable","Class 1",2016,166.31691553103065,162.07691553103064,9,{"$f":"INDEX(Lists!$B$32:$B$40, MATCH(2020-C53068, Lists!$C$32:$C$40,1))","v":"0-20"},{"$f":"SUMPRODUCT((Data!$B$17:$B$19=Model!$F53068)*(Data!$C$16:$K$16=Model!$K53068)*(Data!$C$17:$K$19))","v":1.06},156.77691553103065,{"$f":"_xlfn.IFS(M53068>70,\"Serviceable\",M53068>30, \"Limited Life\",M53068<=30, \"Unserviceable\")","v":"Serviceable"}]
[null,86348,1966,"Wood Creos Impregnated","Serviceable","Class 3",2020,100,100,5,{"$f":"INDEX(Lists!$B$32:$B$40, MATCH(2020-C53153, Lists!$C$32:$C$40,1))","v":"51-60"},{"$f":"SUMPRODUCT((Data!$B$17:$B$19=Model!$F53153)*(Data!$C$16:$K$16=Model!$K53153)*(Data!$C$17:$K$19))","v":2.73},86.35,{"$f":"_xlfn.IFS(M53153>70,\"Serviceable\",M53153>30, \"Limited Life\",M53153<=30, \"Unserviceable\")","v":"Serviceable"}]
[null,86403,1948,"Wood Untreated Round","Serviceable","Class 1",2020,100,100,{"$f":"2025-G53192","v":5},{"$f":"INDEX(Lists!$B$32:$B$40, MATCH(2020-C53192, Lists!$C$32:$C$40,1))","v":"71-80"},{"$f":"SUMPRODUCT((Data!$B$17:$B$19=Model!$F53192)*(Data!$C$16:$K$16=Model!$K53192)*(Data!$C$17:$K$19))","v":2.15},{"$f":"IF(IF(H53192>=700,999,(H53192-L53192*J53192))<0,0,IF(H53192>=700,999,(H53192-L53192*J53192)))","v":89.25},{"$f":"_xlfn.IFS(M53192>70,\"Serviceable\",M53192>30, \"Limited Life\",M53192<=30, \"Unserviceable\")","v":"Serviceable"}]
[null,86574,1965,"Wood Creos Impregnated","Serviceable","Class 3",2020,100,100,5,{"$f":"INDEX(Lists!$B$32:$B$40, MATCH(2020-C53306, Lists!$C$32:$C$40,1))","v":"51-60"},{"$f":"SUMPRODUCT((Data!$B$17:$B$19=Model!$F53306)*(Data!$C$16:$K$16=Model!$K53306)*(Data!$C$17:$K$19))","v":2.73},86.35,{"$f":"_xlfn.IFS(M53306>70,\"Serviceable\",M53306>30, \"Limited Life\",M53306<=30, \"Unserviceable\")","v":"Serviceable"}]
[null,86650,1984,"Wood Untreated Dressed","Serviceable","Class 1",2020,100,100,5,{"$f":"INDEX(Lists!$B$32:$B$40, MATCH(2020-C53354, Lists!$C$32:$C$40,1))","v":"31-40"},{"$f":"SUMPRODUCT((Data!$B$17:$B$19=Model!$F53354)*(Data!$C$16:$K$16=Model!$K53354)*(Data!$C$17:$K$19))","v":2.52},87.4,{"$f":"_xlfn.IFS(M53354>70,\"Serviceable\",M53354>30, \"Limited Life\",M53354<=30, \"Unserviceable\")","v":"Serviceable"}]
[null,86702,1977,"Wood Creos Impregnated","Serviceable","Class 3",2020,100,100,5,{"$f":"INDEX(Lists!$B$32:$B$40, MATCH(2020-C53391, Lists!$C$32:$C$40,1))","v":"41-50"},{"$f":"SUMPRODUCT((Data!$B$17:$B$19=Model!$F53391)*(Data!$C$16:$K$16=Model!$K53391)*(Data!$C$17:$K$19))","v":3.78},81.099999999999994,{"$f":"_xlfn.IFS(M53391>70,\"Serviceable\",M53391>30, \"Limited Life\",M53391<=30, \"Unserviceable\")","v":"Serviceable"}]
[null,86841,1981,"Wood Creos Impregnated","Serviceable","Class 1",2019,130,127.48,6,{"$f":"INDEX(Lists!$B$32:$B$40, MATCH(2020-C53476, Lists!$C$32:$C$40,1))","v":"31-40"},{"$f":"SUMPRODUCT((Data!$B$17:$B$19=Model!$F53476)*(Data!$C$16:$K$16=Model!$K53476)*(Data!$C$17:$K$19))","v":2.52},114.88,{"$f":"_xlfn.IFS(M53476>70,\"Serviceable\",M53476>30, \"Limited Life\",M53476<=30, \"Unserviceable\")","v":"Serviceable"}]
[null,86986,1967,"Wood Creos Impregnated","Serviceable","Class 3",2016,120,109.08,9,{"$f":"INDEX(Lists!$B$32:$B$40, MATCH(2020-C53563, Lists!$C$32:$C$40,1))","v":"51-60"},{"$f":"SUMPRODUCT((Data!$B$17:$B$19=Model!$F53563)*(Data!$C$16:$K$16=Model!$K53563)*(Data!$C$17:$K$19))","v":2.73},95.43,{"$f":"_xlfn.IFS(M53563>70,\"Serviceable\",M53563>30, \"Limited Life\",M53563<=30, \"Unserviceable\")","v":"Serviceable"}]
[null,87098,1980,"Wood Creos Impregnated","Serviceable","Class 3",2016,100,87.12,9,{"$f":"INDEX(Lists!$B$32:$B$40, MATCH(2020-C53629, Lists!$C$32:$C$40,1))","v":"31-40"},{"$f":"SUMPRODUCT((Data!$B$17:$B$19=Model!$F53629)*(Data!$C$16:$K$16=Model!$K53629)*(Data!$C$17:$K$19))","v":3.22},71.02,{"$f":"_xlfn.IFS(M53629>70,\"Serviceable\",M53629>30, \"Limited Life\",M53629<=30, \"Unserviceable\")","v":"Serviceable"}]
[null,87151,1962,"Wood Creos Impregnated","Serviceable","Class 3",2016,120,109.08,9,{"$f":"INDEX(Lists!$B$32:$B$40, MATCH(2020-C53658, Lists!$C$32:$C$40,1))","v":"51-60"},{"$f":"SUMPRODUCT((Data!$B$17:$B$19=Model!$F53658)*(Data!$C$16:$K$16=Model!$K53658)*(Data!$C$17:$K$19))","v":2.73},95.43,{"$f":"_xlfn.IFS(M53658>70,\"Serviceable\",M53658>30, \"Limited Life\",M53658<=30, \"Unserviceable\")","v":"Serviceable"}]
[null,87336,1964,"Wood Creos Impregnated","Serviceable","Class 2",2020,100,100,5,{"$f":"INDEX(Lists!$B$32:$B$40, MATCH(2020-C53782, Lists!$C$32:$C$40,1))","v":"51-60"},{"$f":"SUMPRODUCT((Data!$B$17:$B$19=Model!$F53782)*(Data!$C$16:$K$16=Model!$K53782)*(Data!$C$17:$K$19))","v":2.57},87.15,{"$f":"_xlfn.IFS(M53782>70,\"Serviceable\",M53782>30, \"Limited Life\",M53782<=30, \"Unserviceable\")","v":"Serviceable"}]
[null,87363,1971,"Wood Creos Impregnated","Serviceable","Class 3",2020,100,100,5,{"$f":"INDEX(Lists!$B$32:$B$40, MATCH(2020-C53799, Lists!$C$32:$C$40,1))","v":"41-50"},{"$f":"SUMPRODUCT((Data!$B$17:$B$19=Model!$F53799)*(Data!$C$16:$K$16=Model!$K53799)*(Data!$C$17:$K$19))","v":3.78},81.099999999999994,{"$f":"_xlfn.IFS(M53799>70,\"Serviceable\",M53799>30, \"Limited Life\",M53799<=30, \"Unserviceable\")","v":"Serviceable"}]
[null,87505,1968,"Wood Creos Impregnated","Serviceable","Class 2",2019,100,97.43,6,{"$f":"INDEX(Lists!$B$32:$B$40, MATCH(2020-C53901, Lists!$C$32:$C$40,1))","v":"51-60"},{"$f":"SUMPRODUCT((Data!$B$17:$B$19=Model!$F53901)*(Data!$C$16:$K$16=Model!$K53901)*(Data!$C$17:$K$19))","v":2.57},84.58,{"$f":"_xlfn.IFS(M53901>70,\"Serviceable\",M53901>30, \"Limited Life\",M53901<=30, \"Unserviceable\")","v":"Serviceable"}]
[null,87573,1959,"Wood Creos Impregnated","Serviceable","Class 3",2019,100,97.98,6,{"$f":"INDEX(Lists!$B$32:$B$40, MATCH(2020-C53952, Lists!$C$32:$C$40,1))","v":"61-70"},{"$f":"SUMPRODUCT((Data!$B$17:$B$19=Model!$F53952)*(Data!$C$16:$K$16=Model!$K53952)*(Data!$C$17:$K$19))","v":2.02},87.88,{"$f":"_xlfn.IFS(M53952>70,\"Serviceable\",M53952>30, \"Limited Life\",M53952<=30, \"Unserviceable\")","v":"Serviceable"}]
[null,87693,1980,"Wood Creos Impregnated","Serviceable","Class 1",2016,120,109.92,9,{"$f":"INDEX(Lists!$B$32:$B$40, MATCH(2020-C54037, Lists!$C$32:$C$40,1))","v":"31-40"},{"$f":"SUMPRODUCT((Data!$B$17:$B$19=Model!$F54037)*(Data!$C$16:$K$16=Model!$K54037)*(Data!$C$17:$K$19))","v":2.52},97.32,{"$f":"_xlfn.IFS(M54037>70,\"Serviceable\",M54037>30, \"Limited Life\",M54037<=30, \"Unserviceable\")","v":"Serviceable"}]
[null,87802,1969,"Wood Creos Impregnated","Serviceable","Class 3",2019,100,97.27,6,{"$f":"INDEX(Lists!$B$32:$B$40, MATCH(2020-C54110, Lists!$C$32:$C$40,1))","v":"51-60"},{"$f":"SUMPRODUCT((Data!$B$17:$B$19=Model!$F54110)*(Data!$C$16:$K$16=Model!$K54110)*(Data!$C$17:$K$19))","v":2.73},83.62,{"$f":"_xlfn.IFS(M54110>70,\"Serviceable\",M54110>30, \"Limited Life\",M54110<=30, \"Unserviceable\")","v":"Serviceable"}]
[null,87937,1976,"Wood Creos Impregnated","Serviceable","Class 1",2019,100,98.25,6,{"$f":"INDEX(Lists!$B$32:$B$40, MATCH(2020-C54190, Lists!$C$32:$C$40,1))","v":"41-50"},{"$f":"SUMPRODUCT((Data!$B$17:$B$19=Model!$F54190)*(Data!$C$16:$K$16=Model!$K54190)*(Data!$C$17:$K$19))","v":1.75},89.5,{"$f":"_xlfn.IFS(M54190>70,\"Serviceable\",M54190>30, \"Limited Life\",M54190<=30, \"Unserviceable\")","v":"Serviceable"}]
[null,87972,1975,"Wood Creos Impregnated","Serviceable","Class 3",2019,100,96.22,6,{"$f":"INDEX(Lists!$B$32:$B$40, MATCH(2020-C54205, Lists!$C$32:$C$40,1))","v":"41-50"},{"$f":"SUMPRODUCT((Data!$B$17:$B$19=Model!$F54205)*(Data!$C$16:$K$16=Model!$K54205)*(Data!$C$17:$K$19))","v":3.78},77.319999999999993,{"$f":"_xlfn.IFS(M54205>70,\"Serviceable\",M54205>30, \"Limited Life\",M54205<=30, \"Unserviceable\")","v":"Serviceable"}]
[null,88100,1981,"Wood Creos Impregnated","Serviceable","Class 2",2017,120,113.01,8,{"$f":"INDEX(Lists!$B$32:$B$40, MATCH(2020-C54275, Lists!$C$32:$C$40,1))","v":"31-40"},{"$f":"SUMPRODUCT((Data!$B$17:$B$19=Model!$F54275)*(Data!$C$16:$K$16=Model!$K54275)*(Data!$C$17:$K$19))","v":2.33},101.36,{"$f":"_xlfn.IFS(M54275>70,\"Serviceable\",M54275>30, \"Limited Life\",M54275<=30, \"Unserviceable\")","v":"Serviceable"}]
[null,88242,1961,"Wood Creos Impregnated","Serviceable","Class 3",2017,120,111.81,8,{"$f":"INDEX(Lists!$B$32:$B$40, MATCH(2020-C54360, Lists!$C$32:$C$40,1))","v":"51-60"},{"$f":"SUMPRODUCT((Data!$B$17:$B$19=Model!$F54360)*(Data!$C$16:$K$16=Model!$K54360)*(Data!$C$17:$K$19))","v":2.73},98.16,{"$f":"_xlfn.IFS(M54360>70,\"Serviceable\",M54360>30, \"Limited Life\",M54360<=30, \"Unserviceable\")","v":"Serviceable"}]
[null,88324,1961,"Wood Creos Impregnated","Serviceable","Class 3",2019,100,97.27,6,{"$f":"INDEX(Lists!$B$32:$B$40, MATCH(2020-C54414, Lists!$C$32:$C$40,1))","v":"51-60"},{"$f":"SUMPRODUCT((Data!$B$17:$B$19=Model!$F54414)*(Data!$C$16:$K$16=Model!$K54414)*(Data!$C$17:$K$19))","v":2.73},83.62,{"$f":"_xlfn.IFS(M54414>70,\"Serviceable\",M54414>30, \"Limited Life\",M54414<=30, \"Unserviceable\")","v":"Serviceable"}]
[null,88464,1963,"Wood Creos Impregnated","Serviceable","Class 3",2017,100,91.81,8,{"$f":"INDEX(Lists!$B$32:$B$40, MATCH(2020-C54513, Lists!$C$32:$C$40,1))","v":"51-60"},{"$f":"SUMPRODUCT((Data!$B$17:$B$19=Model!$F54513)*(Data!$C$16:$K$16=Model!$K54513)*(Data!$C$17:$K$19))","v":2.73},78.16,{"$f":"_xlfn.IFS(M54513>70,\"Serviceable\",M54513>30, \"Limited Life\",M54513<=30, \"Unserviceable\")","v":"Serviceable"}]
[null,88545,1970,"Wood Creos Impregnated","Serviceable","Class 3",2018,100,92.44,7,{"$f":"INDEX(Lists!$B$32:$B$40, MATCH(2020-C54576, Lists!$C$32:$C$40,1))","v":"41-50"},{"$f":"SUMPRODUCT((Data!$B$17:$B$19=Model!$F54576)*(Data!$C$16:$K$16=Model!$K54576)*(Data!$C$17:$K$19))","v":3.78},73.540000000000006,{"$f":"_xlfn.IFS(M54576>70,\"Serviceable\",M54576>30, \"Limited Life\",M54576<=30, \"Unserviceable\")","v":"Serviceable"}]
[null,88699,2001,"CCA Treated Pole","Serviceable","Class 1",2016,166.31691553103065,162.07691553103064,9,{"$f":"INDEX(Lists!$B$32:$B$40, MATCH(2020-C54666, Lists!$C$32:$C$40,1))","v":"0-20"},{"$f":"SUMPRODUCT((Data!$B$17:$B$19=Model!$F54666)*(Data!$C$16:$K$16=Model!$K54666)*(Data!$C$17:$K$19))","v":1.06},156.77691553103065,{"$f":"_xlfn.IFS(M54666>70,\"Serviceable\",M54666>30, \"Limited Life\",M54666<=30, \"Unserviceable\")","v":"Serviceable"}]
[null,88721,1934,"Wood Untreated Dressed","Serviceable","Class 1",2018,100,94.38,7,{"$f":"INDEX(Lists!$B$32:$B$40, MATCH(2020-C54683, Lists!$C$32:$C$40,1))","v":"81-90"},{"$f":"SUMPRODUCT((Data!$B$17:$B$19=Model!$F54683)*(Data!$C$16:$K$16=Model!$K54683)*(Data!$C$17:$K$19))","v":2.81},80.33,{"$f":"_xlfn.IFS(M54683>70,\"Serviceable\",M54683>30, \"Limited Life\",M54683<=30, \"Unserviceable\")","v":"Serviceable"}]
[null,88859,1976,"Wood Creos Impregnated","Serviceable","Class 1",2019,100,98.25,6,{"$f":"INDEX(Lists!$B$32:$B$40, MATCH(2020-C54752, Lists!$C$32:$C$40,1))","v":"41-50"},{"$f":"SUMPRODUCT((Data!$B$17:$B$19=Model!$F54752)*(Data!$C$16:$K$16=Model!$K54752)*(Data!$C$17:$K$19))","v":1.75},89.5,{"$f":"_xlfn.IFS(M54752>70,\"Serviceable\",M54752>30, \"Limited Life\",M54752<=30, \"Unserviceable\")","v":"Serviceable"}]
[null,89011,1967,"Wood Creos Impregnated","Serviceable","Class 3",2019,100,97.27,6,{"$f":"INDEX(Lists!$B$32:$B$40, MATCH(2020-C54836, Lists!$C$32:$C$40,1))","v":"51-60"},{"$f":"SUMPRODUCT((Data!$B$17:$B$19=Model!$F54836)*(Data!$C$16:$K$16=Model!$K54836)*(Data!$C$17:$K$19))","v":2.73},83.62,{"$f":"_xlfn.IFS(M54836>70,\"Serviceable\",M54836>30, \"Limited Life\",M54836<=30, \"Unserviceable\")","v":"Serviceable"}]
[null,89060,1967,"Wood Creos Impregnated","Serviceable","Class 3",2019,120,117.27,6,{"$f":"INDEX(Lists!$B$32:$B$40, MATCH(2020-C54880, Lists!$C$32:$C$40,1))","v":"51-60"},{"$f":"SUMPRODUCT((Data!$B$17:$B$19=Model!$F54880)*(Data!$C$16:$K$16=Model!$K54880)*(Data!$C$17:$K$19))","v":2.73},103.62,{"$f":"_xlfn.IFS(M54880>70,\"Serviceable\",M54880>30, \"Limited Life\",M54880<=30, \"Unserviceable\")","v":"Serviceable"}]
[null,89224,1976,"Wood Creos Impregnated","Serviceable","Class 1",2019,90,88.25,6,{"$f":"INDEX(Lists!$B$32:$B$40, MATCH(2020-C54989, Lists!$C$32:$C$40,1))","v":"41-50"},{"$f":"SUMPRODUCT((Data!$B$17:$B$19=Model!$F54989)*(Data!$C$16:$K$16=Model!$K54989)*(Data!$C$17:$K$19))","v":1.75},79.5,{"$f":"_xlfn.IFS(M54989>70,\"Serviceable\",M54989>30, \"Limited Life\",M54989<=30, \"Unserviceable\")","v":"Serviceable"}]
[null,89328,1986,"Wood Untreated Dressed","Serviceable","Class 1",2018,100,94.96,7,{"$f":"INDEX(Lists!$B$32:$B$40, MATCH(2020-C55074, Lists!$C$32:$C$40,1))","v":"31-40"},{"$f":"SUMPRODUCT((Data!$B$17:$B$19=Model!$F55074)*(Data!$C$16:$K$16=Model!$K55074)*(Data!$C$17:$K$19))","v":2.52},82.36,{"$f":"_xlfn.IFS(M55074>70,\"Serviceable\",M55074>30, \"Limited Life\",M55074<=30, \"Unserviceable\")","v":"Serviceable"}]
[null,89396,1999,"CCA Treated Pole","Serviceable","Class 1",2017,150,144.12,8,{"$f":"INDEX(Lists!$B$32:$B$40, MATCH(2020-C55123, Lists!$C$32:$C$40,1))","v":"21-30"},{"$f":"SUMPRODUCT((Data!$B$17:$B$19=Model!$F55123)*(Data!$C$16:$K$16=Model!$K55123)*(Data!$C$17:$K$19))","v":1.96},134.32,{"$f":"_xlfn.IFS(M55123>70,\"Serviceable\",M55123>30, \"Limited Life\",M55123<=30, \"Unserviceable\")","v":"Serviceable"}]
[null,89462,1967,"Wood Creos Impregnated","Serviceable","Class 3",2017,100,91.81,8,{"$f":"INDEX(Lists!$B$32:$B$40, MATCH(2020-C55159, Lists!$C$32:$C$40,1))","v":"51-60"},{"$f":"SUMPRODUCT((Data!$B$17:$B$19=Model!$F55159)*(Data!$C$16:$K$16=Model!$K55159)*(Data!$C$17:$K$19))","v":2.73},78.16,{"$f":"_xlfn.IFS(M55159>70,\"Serviceable\",M55159>30, \"Limited Life\",M55159<=30, \"Unserviceable\")","v":"Serviceable"}]
[null,89572,1985,"Wood Untreated Dressed","Serviceable","Class 1",2019,100,97.48,6,{"$f":"INDEX(Lists!$B$32:$B$40, MATCH(2020-C55244, Lists!$C$32:$C$40,1))","v":"31-40"},{"$f":"SUMPRODUCT((Data!$B$17:$B$19=Model!$F55244)*(Data!$C$16:$K$16=Model!$K55244)*(Data!$C$17:$K$19))","v":2.52},84.88,{"$f":"_xlfn.IFS(M55244>70,\"Serviceable\",M55244>30, \"Limited Life\",M55244<=30, \"Unserviceable\")","v":"Serviceable"}]
[null,89673,1980,"Wood Creos Impregnated","Serviceable","Class 1",2016,110,99.92,9,{"$f":"INDEX(Lists!$B$32:$B$40, MATCH(2020-C55299, Lists!$C$32:$C$40,1))","v":"31-40"},{"$f":"SUMPRODUCT((Data!$B$17:$B$19=Model!$F55299)*(Data!$C$16:$K$16=Model!$K55299)*(Data!$C$17:$K$19))","v":2.52},87.32,{"$f":"_xlfn.IFS(M55299>70,\"Serviceable\",M55299>30, \"Limited Life\",M55299<=30, \"Unserviceable\")","v":"Serviceable"}]
[null,89816,1962,"Wood Creos Impregnated","Serviceable","Class 3",2019,80,77.27,6,{"$f":"INDEX(Lists!$B$32:$B$40, MATCH(2020-C55397, Lists!$C$32:$C$40,1))","v":"51-60"},{"$f":"SUMPRODUCT((Data!$B$17:$B$19=Model!$F55397)*(Data!$C$16:$K$16=Model!$K55397)*(Data!$C$17:$K$19))","v":2.73},63.620000000000005,{"$f":"_xlfn.IFS(M55397>70,\"Serviceable\",M55397>30, \"Limited Life\",M55397<=30, \"Unserviceable\")","v":"Limited Life"}]
[null,89853,1976,"Wood Creos Impregnated","Serviceable","Class 1",2016,130,123,9,{"$f":"INDEX(Lists!$B$32:$B$40, MATCH(2020-C55427, Lists!$C$32:$C$40,1))","v":"41-50"},{"$f":"SUMPRODUCT((Data!$B$17:$B$19=Model!$F55427)*(Data!$C$16:$K$16=Model!$K55427)*(Data!$C$17:$K$19))","v":1.75},114.25,{"$f":"_xlfn.IFS(M55427>70,\"Serviceable\",M55427>30, \"Limited Life\",M55427<=30, \"Unserviceable\")","v":"Serviceable"}]
[null,89936,1977,"Wood Creos Impregnated","Serviceable","Class 3",2016,130,114.88,9,{"$f":"INDEX(Lists!$B$32:$B$40, MATCH(2020-C55482, Lists!$C$32:$C$40,1))","v":"41-50"},{"$f":"SUMPRODUCT((Data!$B$17:$B$19=Model!$F55482)*(Data!$C$16:$K$16=Model!$K55482)*(Data!$C$17:$K$19))","v":3.78},95.98,{"$f":"_xlfn.IFS(M55482>70,\"Serviceable\",M55482>30, \"Limited Life\",M55482<=30, \"Unserviceable\")","v":"Serviceable"}]
[null,90072,1976,"Wood Creos Impregnated","Serviceable","Class 1",2016,150,143,9,{"$f":"INDEX(Lists!$B$32:$B$40, MATCH(2020-C55567, Lists!$C$32:$C$40,1))","v":"41-50"},{"$f":"SUMPRODUCT((Data!$B$17:$B$19=Model!$F55567)*(Data!$C$16:$K$16=Model!$K55567)*(Data!$C$17:$K$19))","v":1.75},134.25,{"$f":"_xlfn.IFS(M55567>70,\"Serviceable\",M55567>30, \"Limited Life\",M55567<=30, \"Unserviceable\")","v":"Serviceable"}]
[null,90232,1981,"Wood Creos Impregnated","Serviceable","Class 3",2018,100,93.56,7,{"$f":"INDEX(Lists!$B$32:$B$40, MATCH(2020-C55670, Lists!$C$32:$C$40,1))","v":"31-40"},{"$f":"SUMPRODUCT((Data!$B$17:$B$19=Model!$F55670)*(Data!$C$16:$K$16=Model!$K55670)*(Data!$C$17:$K$19))","v":3.22},77.459999999999994,{"$f":"_xlfn.IFS(M55670>70,\"Serviceable\",M55670>30, \"Limited Life\",M55670<=30, \"Unserviceable\")","v":"Serviceable"}]
[null,90326,1941,"Wood Untreated Dressed","Serviceable","Class 1",2018,100,95.7,7,{"$f":"INDEX(Lists!$B$32:$B$40, MATCH(2020-C55720, Lists!$C$32:$C$40,1))","v":"71-80"},{"$f":"SUMPRODUCT((Data!$B$17:$B$19=Model!$F55720)*(Data!$C$16:$K$16=Model!$K55720)*(Data!$C$17:$K$19))","v":2.15},84.95,{"$f":"_xlfn.IFS(M55720>70,\"Serviceable\",M55720>30, \"Limited Life\",M55720<=30, \"Unserviceable\")","v":"Serviceable"}]
[null,90460,2003,"CCA Treated Pole","Serviceable","Class 2",2018,150,147.56,7,{"$f":"INDEX(Lists!$B$32:$B$40, MATCH(2020-C55798, Lists!$C$32:$C$40,1))","v":"0-20"},{"$f":"SUMPRODUCT((Data!$B$17:$B$19=Model!$F55798)*(Data!$C$16:$K$16=Model!$K55798)*(Data!$C$17:$K$19))","v":1.22},141.46,{"$f":"_xlfn.IFS(M55798>70,\"Serviceable\",M55798>30, \"Limited Life\",M55798<=30, \"Unserviceable\")","v":"Serviceable"}]
[null,90591,1973,"Wood Creos Impregnated","Serviceable","Class 1",2018,130,126.5,7,{"$f":"INDEX(Lists!$B$32:$B$40, MATCH(2020-C55873, Lists!$C$32:$C$40,1))","v":"41-50"},{"$f":"SUMPRODUCT((Data!$B$17:$B$19=Model!$F55873)*(Data!$C$16:$K$16=Model!$K55873)*(Data!$C$17:$K$19))","v":1.75},117.75,{"$f":"_xlfn.IFS(M55873>70,\"Serviceable\",M55873>30, \"Limited Life\",M55873<=30, \"Unserviceable\")","v":"Serviceable"}]
[null,90630,1986,"Wood Untreated Dressed","Serviceable","Class 1",2018,130,124.96,7,{"$f":"INDEX(Lists!$B$32:$B$40, MATCH(2020-C55890, Lists!$C$32:$C$40,1))","v":"31-40"},{"$f":"SUMPRODUCT((Data!$B$17:$B$19=Model!$F55890)*(Data!$C$16:$K$16=Model!$K55890)*(Data!$C$17:$K$19))","v":2.52},112.36,{"$f":"_xlfn.IFS(M55890>70,\"Serviceable\",M55890>30, \"Limited Life\",M55890<=30, \"Unserviceable\")","v":"Serviceable"}]
[null,90755,1963,"Wood Creos Impregnated","Serviceable","Class 3",2018,100,94.54,7,{"$f":"INDEX(Lists!$B$32:$B$40, MATCH(2020-C55974, Lists!$C$32:$C$40,1))","v":"51-60"},{"$f":"SUMPRODUCT((Data!$B$17:$B$19=Model!$F55974)*(Data!$C$16:$K$16=Model!$K55974)*(Data!$C$17:$K$19))","v":2.73},80.89,{"$f":"_xlfn.IFS(M55974>70,\"Serviceable\",M55974>30, \"Limited Life\",M55974<=30, \"Unserviceable\")","v":"Serviceable"}]
[null,90850,1990,"Wood Untreated Dressed","Serviceable","Class 1",2018,130,126.08,7,{"$f":"INDEX(Lists!$B$32:$B$40, MATCH(2020-C56043, Lists!$C$32:$C$40,1))","v":"21-30"},{"$f":"SUMPRODUCT((Data!$B$17:$B$19=Model!$F56043)*(Data!$C$16:$K$16=Model!$K56043)*(Data!$C$17:$K$19))","v":1.96},116.28,{"$f":"_xlfn.IFS(M56043>70,\"Serviceable\",M56043>30, \"Limited Life\",M56043<=30, \"Unserviceable\")","v":"Serviceable"}]
[null,90990,1969,"Wood Salt Impregnated (Green)","Serviceable","Class 3",2017,171.56902865306319,163.37902865306319,8,{"$f":"INDEX(Lists!$B$32:$B$40, MATCH(2020-C56128, Lists!$C$32:$C$40,1))","v":"51-60"},{"$f":"SUMPRODUCT((Data!$B$17:$B$19=Model!$F56128)*(Data!$C$16:$K$16=Model!$K56128)*(Data!$C$17:$K$19))","v":2.73},149.72902865306318,{"$f":"_xlfn.IFS(M56128>70,\"Serviceable\",M56128>30, \"Limited Life\",M56128<=30, \"Unserviceable\")","v":"Serviceable"}]
[null,91107,1973,"Wood Creos Impregnated","Serviceable","Class 3",2019,90,86.22,6,{"$f":"INDEX(Lists!$B$32:$B$40, MATCH(2020-C56217, Lists!$C$32:$C$40,1))","v":"41-50"},{"$f":"SUMPRODUCT((Data!$B$17:$B$19=Model!$F56217)*(Data!$C$16:$K$16=Model!$K56217)*(Data!$C$17:$K$19))","v":3.78},67.319999999999993,{"$f":"_xlfn.IFS(M56217>70,\"Serviceable\",M56217>30, \"Limited Life\",M56217<=30, \"Unserviceable\")","v":"Limited Life"}]
[null,91195,1969,"Wood Creos Impregnated","Serviceable","Class 3",2019,100,97.27,6,{"$f":"INDEX(Lists!$B$32:$B$40, MATCH(2020-C56281, Lists!$C$32:$C$40,1))","v":"51-60"},{"$f":"SUMPRODUCT((Data!$B$17:$B$19=Model!$F56281)*(Data!$C$16:$K$16=Model!$K56281)*(Data!$C$17:$K$19))","v":2.73},83.62,{"$f":"_xlfn.IFS(M56281>70,\"Serviceable\",M56281>30, \"Limited Life\",M56281<=30, \"Unserviceable\")","v":"Serviceable"}]
[null,91293,2010,"CCA Treated Pole","Serviceable","Class 2",2019,150,148.78,6,{"$f":"INDEX(Lists!$B$32:$B$40, MATCH(2020-C56345, Lists!$C$32:$C$40,1))","v":"0-20"},{"$f":"SUMPRODUCT((Data!$B$17:$B$19=Model!$F56345)*(Data!$C$16:$K$16=Model!$K56345)*(Data!$C$17:$K$19))","v":1.22},142.68,{"$f":"_xlfn.IFS(M56345>70,\"Serviceable\",M56345>30, \"Limited Life\",M56345<=30, \"Unserviceable\")","v":"Serviceable"}]
[null,91315,1986,"Wood Untreated Dressed","Serviceable","Class 1",2019,110,107.48,6,{"$f":"INDEX(Lists!$B$32:$B$40, MATCH(2020-C56366, Lists!$C$32:$C$40,1))","v":"31-40"},{"$f":"SUMPRODUCT((Data!$B$17:$B$19=Model!$F56366)*(Data!$C$16:$K$16=Model!$K56366)*(Data!$C$17:$K$19))","v":2.52},94.88,{"$f":"_xlfn.IFS(M56366>70,\"Serviceable\",M56366>30, \"Limited Life\",M56366<=30, \"Unserviceable\")","v":"Serviceable"}]
[null,91460,1983,"Wood Creos Impregnated","Serviceable","Class 3",2016,100,87.12,9,{"$f":"INDEX(Lists!$B$32:$B$40, MATCH(2020-C56451, Lists!$C$32:$C$40,1))","v":"31-40"},{"$f":"SUMPRODUCT((Data!$B$17:$B$19=Model!$F56451)*(Data!$C$16:$K$16=Model!$K56451)*(Data!$C$17:$K$19))","v":3.22},71.02,{"$f":"_xlfn.IFS(M56451>70,\"Serviceable\",M56451>30, \"Limited Life\",M56451<=30, \"Unserviceable\")","v":"Serviceable"}]
[null,91604,1966,"Wood Creos Impregnated","Serviceable","Class 3",2018,100,94.54,7,{"$f":"INDEX(Lists!$B$32:$B$40, MATCH(2020-C56521, Lists!$C$32:$C$40,1))","v":"51-60"},{"$f":"SUMPRODUCT((Data!$B$17:$B$19=Model!$F56521)*(Data!$C$16:$K$16=Model!$K56521)*(Data!$C$17:$K$19))","v":2.73},80.89,{"$f":"_xlfn.IFS(M56521>70,\"Serviceable\",M56521>30, \"Limited Life\",M56521<=30, \"Unserviceable\")","v":"Serviceable"}]
[null,91736,2011,"CCA Treated Pole","Serviceable","Class 1",2016,150,145.76,9,{"$f":"INDEX(Lists!$B$32:$B$40, MATCH(2020-C56604, Lists!$C$32:$C$40,1))","v":"0-20"},{"$f":"SUMPRODUCT((Data!$B$17:$B$19=Model!$F56604)*(Data!$C$16:$K$16=Model!$K56604)*(Data!$C$17:$K$19))","v":1.06},140.46,{"$f":"_xlfn.IFS(M56604>70,\"Serviceable\",M56604>30, \"Limited Life\",M56604<=30, \"Unserviceable\")","v":"Serviceable"}]
[null,91801,2009,"CCA Treated Pole","Serviceable","Class 2",2017,100,96.34,8,{"$f":"INDEX(Lists!$B$32:$B$40, MATCH(2020-C56649, Lists!$C$32:$C$40,1))","v":"0-20"},{"$f":"SUMPRODUCT((Data!$B$17:$B$19=Model!$F56649)*(Data!$C$16:$K$16=Model!$K56649)*(Data!$C$17:$K$19))","v":1.22},90.24,{"$f":"_xlfn.IFS(M56649>70,\"Serviceable\",M56649>30, \"Limited Life\",M56649<=30, \"Unserviceable\")","v":"Serviceable"}]
[null,91991,1970,"Wood Creos Impregnated","Serviceable","Class 3",2015,100,81.099999999999994,10,{"$f":"INDEX(Lists!$B$32:$B$40, MATCH(2020-C56757, Lists!$C$32:$C$40,1))","v":"41-50"},{"$f":"SUMPRODUCT((Data!$B$17:$B$19=Model!$F56757)*(Data!$C$16:$K$16=Model!$K56757)*(Data!$C$17:$K$19))","v":3.78},62.2,{"$f":"_xlfn.IFS(M56757>70,\"Serviceable\",M56757>30, \"Limited Life\",M56757<=30, \"Unserviceable\")","v":"Limited Life"}]
[null,92015,1940,"Wood Untreated Dressed","Serviceable","Class 1",2017,80,73.55,8,{"$f":"INDEX(Lists!$B$32:$B$40, MATCH(2020-C56774, Lists!$C$32:$C$40,1))","v":"71-80"},{"$f":"SUMPRODUCT((Data!$B$17:$B$19=Model!$F56774)*(Data!$C$16:$K$16=Model!$K56774)*(Data!$C$17:$K$19))","v":2.15},62.8,{"$f":"_xlfn.IFS(M56774>70,\"Serviceable\",M56774>30, \"Limited Life\",M56774<=30, \"Unserviceable\")","v":"Limited Life"}]
[null,92221,1938,"Wood Untreated Round","Serviceable","Class 1",2016,130,118.76,9,{"$f":"INDEX(Lists!$B$32:$B$40, MATCH(2020-C56892, Lists!$C$32:$C$40,1))","v":"81-90"},{"$f":"SUMPRODUCT((Data!$B$17:$B$19=Model!$F56892)*(Data!$C$16:$K$16=Model!$K56892)*(Data!$C$17:$K$19))","v":2.81},104.71000000000001,{"$f":"_xlfn.IFS(M56892>70,\"Serviceable\",M56892>30, \"Limited Life\",M56892<=30, \"Unserviceable\")","v":"Serviceable"}]
[null,92274,1976,"Wood Creos Impregnated","Serviceable","Class 3",2016,130,114.88,9,{"$f":"INDEX(Lists!$B$32:$B$40, MATCH(2020-C56927, Lists!$C$32:$C$40,1))","v":"41-50"},{"$f":"SUMPRODUCT((Data!$B$17:$B$19=Model!$F56927)*(Data!$C$16:$K$16=Model!$K56927)*(Data!$C$17:$K$19))","v":3.78},95.98,{"$f":"_xlfn.IFS(M56927>70,\"Serviceable\",M56927>30, \"Limited Life\",M56927<=30, \"Unserviceable\")","v":"Serviceable"}]
[null,92424,1933,"Wood Untreated Dressed","Serviceable","Class 1",2017,120,111.57,8,{"$f":"INDEX(Lists!$B$32:$B$40, MATCH(2020-C57020, Lists!$C$32:$C$40,1))","v":"81-90"},{"$f":"SUMPRODUCT((Data!$B$17:$B$19=Model!$F57020)*(Data!$C$16:$K$16=Model!$K57020)*(Data!$C$17:$K$19))","v":2.81},97.52,{"$f":"_xlfn.IFS(M57020>70,\"Serviceable\",M57020>30, \"Limited Life\",M57020<=30, \"Unserviceable\")","v":"Serviceable"}]
[null,92543,1959,"Wood Creos Impregnated","Serviceable","Class 3",2017,90,83.94,{"$f":"2025-G57096","v":8},{"$f":"INDEX(Lists!$B$32:$B$40, MATCH(2020-C57096, Lists!$C$32:$C$40,1))","v":"61-70"},{"$f":"SUMPRODUCT((Data!$B$17:$B$19=Model!$F57096)*(Data!$C$16:$K$16=Model!$K57096)*(Data!$C$17:$K$19))","v":2.02},{"$f":"IF(IF(H57096>=700,999,(H57096-L57096*J57096))<0,0,IF(H57096>=700,999,(H57096-L57096*J57096)))","v":73.84},{"$f":"_xlfn.IFS(M57096>70,\"Serviceable\",M57096>30, \"Limited Life\",M57096<=30, \"Unserviceable\")","v":"Serviceable"}]
[null,92645,1933,"Wood Untreated Dressed","Serviceable","Class 1",2017,100,91.57,8,{"$f":"INDEX(Lists!$B$32:$B$40, MATCH(2020-C57165, Lists!$C$32:$C$40,1))","v":"81-90"},{"$f":"SUMPRODUCT((Data!$B$17:$B$19=Model!$F57165)*(Data!$C$16:$K$16=Model!$K57165)*(Data!$C$17:$K$19))","v":2.81},77.52,{"$f":"_xlfn.IFS(M57165>70,\"Serviceable\",M57165>30, \"Limited Life\",M57165<=30, \"Unserviceable\")","v":"Serviceable"}]
[null,92683,2000,"CCA Treated Pole","Serviceable","Class 1",2016,150,145.76,9,{"$f":"INDEX(Lists!$B$32:$B$40, MATCH(2020-C57196, Lists!$C$32:$C$40,1))","v":"0-20"},{"$f":"SUMPRODUCT((Data!$B$17:$B$19=Model!$F57196)*(Data!$C$16:$K$16=Model!$K57196)*(Data!$C$17:$K$19))","v":1.06},140.46,{"$f":"_xlfn.IFS(M57196>70,\"Serviceable\",M57196>30, \"Limited Life\",M57196<=30, \"Unserviceable\")","v":"Serviceable"}]
[null,92763,1937,"Wood Untreated Dressed","Limited Life","Class 1",2016,70,58.76,9,{"$f":"INDEX(Lists!$B$32:$B$40, MATCH(2020-C57250, Lists!$C$32:$C$40,1))","v":"81-90"},{"$f":"SUMPRODUCT((Data!$B$17:$B$19=Model!$F57250)*(Data!$C$16:$K$16=Model!$K57250)*(Data!$C$17:$K$19))","v":2.81},44.71,{"$f":"_xlfn.IFS(M57250>70,\"Serviceable\",M57250>30, \"Limited Life\",M57250<=30, \"Unserviceable\")","v":"Limited Life"}]
[null,92882,1973,"Wood Creos Impregnated","Serviceable","Class 3",2016,90,74.88,9,{"$f":"INDEX(Lists!$B$32:$B$40, MATCH(2020-C57335, Lists!$C$32:$C$40,1))","v":"41-50"},{"$f":"SUMPRODUCT((Data!$B$17:$B$19=Model!$F57335)*(Data!$C$16:$K$16=Model!$K57335)*(Data!$C$17:$K$19))","v":3.78},55.980000000000004,{"$f":"_xlfn.IFS(M57335>70,\"Serviceable\",M57335>30, \"Limited Life\",M57335<=30, \"Unserviceable\")","v":"Limited Life"}]
[null,93027,1979,"Wood Creos Impregnated","Limited Life","Class 3",2016,70,54.88,9,{"$f":"INDEX(Lists!$B$32:$B$40, MATCH(2020-C57439, Lists!$C$32:$C$40,1))","v":"41-50"},{"$f":"SUMPRODUCT((Data!$B$17:$B$19=Model!$F57439)*(Data!$C$16:$K$16=Model!$K57439)*(Data!$C$17:$K$19))","v":3.78},35.980000000000004,{"$f":"_xlfn.IFS(M57439>70,\"Serviceable\",M57439>30, \"Limited Life\",M57439<=30, \"Unserviceable\")","v":"Limited Life"}]
[null,93102,1983,"Wood Creos Impregnated","Serviceable","Class 3",2016,130,117.12,9,{"$f":"INDEX(Lists!$B$32:$B$40, MATCH(2020-C57488, Lists!$C$32:$C$40,1))","v":"31-40"},{"$f":"SUMPRODUCT((Data!$B$17:$B$19=Model!$F57488)*(Data!$C$16:$K$16=Model!$K57488)*(Data!$C$17:$K$19))","v":3.22},101.02,{"$f":"_xlfn.IFS(M57488>70,\"Serviceable\",M57488>30, \"Limited Life\",M57488<=30, \"Unserviceable\")","v":"Serviceable"}]
[null,93213,1978,"Wood Other","Serviceable","Class 3",2016,100,84.88,9,{"$f":"INDEX(Lists!$B$32:$B$40, MATCH(2020-C57567, Lists!$C$32:$C$40,1))","v":"41-50"},{"$f":"SUMPRODUCT((Data!$B$17:$B$19=Model!$F57567)*(Data!$C$16:$K$16=Model!$K57567)*(Data!$C$17:$K$19))","v":3.78},65.98,{"$f":"_xlfn.IFS(M57567>70,\"Serviceable\",M57567>30, \"Limited Life\",M57567<=30, \"Unserviceable\")","v":"Limited Life"}]
[null,93252,1980,"Wood Untreated Dressed","Serviceable","Class 1",2017,100,92.44,8,{"$f":"INDEX(Lists!$B$32:$B$40, MATCH(2020-C57589, Lists!$C$32:$C$40,1))","v":"31-40"},{"$f":"SUMPRODUCT((Data!$B$17:$B$19=Model!$F57589)*(Data!$C$16:$K$16=Model!$K57589)*(Data!$C$17:$K$19))","v":2.52},79.84,{"$f":"_xlfn.IFS(M57589>70,\"Serviceable\",M57589>30, \"Limited Life\",M57589<=30, \"Unserviceable\")","v":"Serviceable"}]
[null,93339,1963,"Wood Creos Impregnated","Serviceable","Class 3",2016,100,89.08,9,{"$f":"INDEX(Lists!$B$32:$B$40, MATCH(2020-C57658, Lists!$C$32:$C$40,1))","v":"51-60"},{"$f":"SUMPRODUCT((Data!$B$17:$B$19=Model!$F57658)*(Data!$C$16:$K$16=Model!$K57658)*(Data!$C$17:$K$19))","v":2.73},75.430000000000007,{"$f":"_xlfn.IFS(M57658>70,\"Serviceable\",M57658>30, \"Limited Life\",M57658<=30, \"Unserviceable\")","v":"Serviceable"}]
[null,93467,1975,"Wood Creos Impregnated","Serviceable","Class 1",2015,100,91.25,10,{"$f":"INDEX(Lists!$B$32:$B$40, MATCH(2020-C57743, Lists!$C$32:$C$40,1))","v":"41-50"},{"$f":"SUMPRODUCT((Data!$B$17:$B$19=Model!$F57743)*(Data!$C$16:$K$16=Model!$K57743)*(Data!$C$17:$K$19))","v":1.75},82.5,{"$f":"_xlfn.IFS(M57743>70,\"Serviceable\",M57743>30, \"Limited Life\",M57743<=30, \"Unserviceable\")","v":"Serviceable"}]
[null,93562,1959,"Wood Creos Impregnated","Serviceable","Class 3",2015,100,89.9,10,{"$f":"INDEX(Lists!$B$32:$B$40, MATCH(2020-C57811, Lists!$C$32:$C$40,1))","v":"61-70"},{"$f":"SUMPRODUCT((Data!$B$17:$B$19=Model!$F57811)*(Data!$C$16:$K$16=Model!$K57811)*(Data!$C$17:$K$19))","v":2.02},79.8,{"$f":"_xlfn.IFS(M57811>70,\"Serviceable\",M57811>30, \"Limited Life\",M57811<=30, \"Unserviceable\")","v":"Serviceable"}]
[null,93660,1963,"Wood Creos Impregnated","Serviceable","Class 3",2020,100,100,5,{"$f":"INDEX(Lists!$B$32:$B$40, MATCH(2020-C57871, Lists!$C$32:$C$40,1))","v":"51-60"},{"$f":"SUMPRODUCT((Data!$B$17:$B$19=Model!$F57871)*(Data!$C$16:$K$16=Model!$K57871)*(Data!$C$17:$K$19))","v":2.73},86.35,{"$f":"_xlfn.IFS(M57871>70,\"Serviceable\",M57871>30, \"Limited Life\",M57871<=30, \"Unserviceable\")","v":"Serviceable"}]
[null,93841,2010,"CCA Treated Pole","Serviceable","Class 2",2020,150,150,5,{"$f":"INDEX(Lists!$B$32:$B$40, MATCH(2020-C57980, Lists!$C$32:$C$40,1))","v":"0-20"},{"$f":"SUMPRODUCT((Data!$B$17:$B$19=Model!$F57980)*(Data!$C$16:$K$16=Model!$K57980)*(Data!$C$17:$K$19))","v":1.22},143.9,{"$f":"_xlfn.IFS(M57980>70,\"Serviceable\",M57980>30, \"Limited Life\",M57980<=30, \"Unserviceable\")","v":"Serviceable"}]
[null,93933,1964,"Wood Creos Impregnated","Serviceable","Class 3",2020,90,90,5,{"$f":"INDEX(Lists!$B$32:$B$40, MATCH(2020-C58049, Lists!$C$32:$C$40,1))","v":"51-60"},{"$f":"SUMPRODUCT((Data!$B$17:$B$19=Model!$F58049)*(Data!$C$16:$K$16=Model!$K58049)*(Data!$C$17:$K$19))","v":2.73},76.349999999999994,{"$f":"_xlfn.IFS(M58049>70,\"Serviceable\",M58049>30, \"Limited Life\",M58049<=30, \"Unserviceable\")","v":"Serviceable"}]
[null,94043,1989,"Wood Untreated Dressed","Serviceable","Class 1",2020,120,120,5,{"$f":"INDEX(Lists!$B$32:$B$40, MATCH(2020-C58114, Lists!$C$32:$C$40,1))","v":"31-40"},{"$f":"SUMPRODUCT((Data!$B$17:$B$19=Model!$F58114)*(Data!$C$16:$K$16=Model!$K58114)*(Data!$C$17:$K$19))","v":2.52},107.4,{"$f":"_xlfn.IFS(M58114>70,\"Serviceable\",M58114>30, \"Limited Life\",M58114<=30, \"Unserviceable\")","v":"Serviceable"}]
[null,94068,1970,"Wood Creos Impregnated","Serviceable","Class 3",2019,100,96.22,6,{"$f":"INDEX(Lists!$B$32:$B$40, MATCH(2020-C58134, Lists!$C$32:$C$40,1))","v":"41-50"},{"$f":"SUMPRODUCT((Data!$B$17:$B$19=Model!$F58134)*(Data!$C$16:$K$16=Model!$K58134)*(Data!$C$17:$K$19))","v":3.78},77.319999999999993,{"$f":"_xlfn.IFS(M58134>70,\"Serviceable\",M58134>30, \"Limited Life\",M58134<=30, \"Unserviceable\")","v":"Serviceable"}]
[null,94189,1936,"Wood Untreated Dressed","Serviceable","Class 3",2020,120,120,5,{"$f":"INDEX(Lists!$B$32:$B$40, MATCH(2020-C58219, Lists!$C$32:$C$40,1))","v":"81-90"},{"$f":"SUMPRODUCT((Data!$B$17:$B$19=Model!$F58219)*(Data!$C$16:$K$16=Model!$K58219)*(Data!$C$17:$K$19))","v":2.88},105.6,{"$f":"_xlfn.IFS(M58219>70,\"Serviceable\",M58219>30, \"Limited Life\",M58219<=30, \"Unserviceable\")","v":"Serviceable"}]
[null,94301,2010,"CCA Treated Pole","Serviceable","Class 1",2020,150,150,5,{"$f":"INDEX(Lists!$B$32:$B$40, MATCH(2020-C58290, Lists!$C$32:$C$40,1))","v":"0-20"},{"$f":"SUMPRODUCT((Data!$B$17:$B$19=Model!$F58290)*(Data!$C$16:$K$16=Model!$K58290)*(Data!$C$17:$K$19))","v":1.06},144.69999999999999,{"$f":"_xlfn.IFS(M58290>70,\"Serviceable\",M58290>30, \"Limited Life\",M58290<=30, \"Unserviceable\")","v":"Serviceable"}]
[null,94416,1973,"Wood Creos Impregnated","Serviceable","Class 2",2020,80,80,5,{"$f":"INDEX(Lists!$B$32:$B$40, MATCH(2020-C58372, Lists!$C$32:$C$40,1))","v":"41-50"},{"$f":"SUMPRODUCT((Data!$B$17:$B$19=Model!$F58372)*(Data!$C$16:$K$16=Model!$K58372)*(Data!$C$17:$K$19))","v":3.28},63.6,{"$f":"_xlfn.IFS(M58372>70,\"Serviceable\",M58372>30, \"Limited Life\",M58372<=30, \"Unserviceable\")","v":"Limited Life"}]
[null,94476,1974,"Wood Creos Impregnated","Serviceable","Class 1",2018,90,86.5,7,{"$f":"INDEX(Lists!$B$32:$B$40, MATCH(2020-C58418, Lists!$C$32:$C$40,1))","v":"41-50"},{"$f":"SUMPRODUCT((Data!$B$17:$B$19=Model!$F58418)*(Data!$C$16:$K$16=Model!$K58418)*(Data!$C$17:$K$19))","v":1.75},77.75,{"$f":"_xlfn.IFS(M58418>70,\"Serviceable\",M58418>30, \"Limited Life\",M58418<=30, \"Unserviceable\")","v":"Serviceable"}]
[null,94555,1960,"Wood Creos Impregnated","Serviceable","Class 3",2020,90,90,5,{"$f":"INDEX(Lists!$B$32:$B$40, MATCH(2020-C58473, Lists!$C$32:$C$40,1))","v":"51-60"},{"$f":"SUMPRODUCT((Data!$B$17:$B$19=Model!$F58473)*(Data!$C$16:$K$16=Model!$K58473)*(Data!$C$17:$K$19))","v":2.73},76.349999999999994,{"$f":"_xlfn.IFS(M58473>70,\"Serviceable\",M58473>30, \"Limited Life\",M58473<=30, \"Unserviceable\")","v":"Serviceable"}]
[null,94651,1977,"Wood Creos Impregnated","Serviceable","Class 1",2018,100,96.5,7,{"$f":"INDEX(Lists!$B$32:$B$40, MATCH(2020-C58542, Lists!$C$32:$C$40,1))","v":"41-50"},{"$f":"SUMPRODUCT((Data!$B$17:$B$19=Model!$F58542)*(Data!$C$16:$K$16=Model!$K58542)*(Data!$C$17:$K$19))","v":1.75},87.75,{"$f":"_xlfn.IFS(M58542>70,\"Serviceable\",M58542>30, \"Limited Life\",M58542<=30, \"Unserviceable\")","v":"Serviceable"}]
[null,94747,1981,"Wood Creos Impregnated","Serviceable","Class 3",2020,120,120,5,{"$f":"INDEX(Lists!$B$32:$B$40, MATCH(2020-C58594, Lists!$C$32:$C$40,1))","v":"31-40"},{"$f":"SUMPRODUCT((Data!$B$17:$B$19=Model!$F58594)*(Data!$C$16:$K$16=Model!$K58594)*(Data!$C$17:$K$19))","v":3.22},103.9,{"$f":"_xlfn.IFS(M58594>70,\"Serviceable\",M58594>30, \"Limited Life\",M58594<=30, \"Unserviceable\")","v":"Serviceable"}]
[null,94908,1974,"Wood Creos Impregnated","Serviceable","Class 3",2016,100,84.88,9,{"$f":"INDEX(Lists!$B$32:$B$40, MATCH(2020-C58695, Lists!$C$32:$C$40,1))","v":"41-50"},{"$f":"SUMPRODUCT((Data!$B$17:$B$19=Model!$F58695)*(Data!$C$16:$K$16=Model!$K58695)*(Data!$C$17:$K$19))","v":3.78},65.98,{"$f":"_xlfn.IFS(M58695>70,\"Serviceable\",M58695>30, \"Limited Life\",M58695<=30, \"Unserviceable\")","v":"Limited Life"}]
[null,95053,1975,"Wood Creos Impregnated","Serviceable","Class 1",2016,100,93,9,{"$f":"INDEX(Lists!$B$32:$B$40, MATCH(2020-C58789, Lists!$C$32:$C$40,1))","v":"41-50"},{"$f":"SUMPRODUCT((Data!$B$17:$B$19=Model!$F58789)*(Data!$C$16:$K$16=Model!$K58789)*(Data!$C$17:$K$19))","v":1.75},84.25,{"$f":"_xlfn.IFS(M58789>70,\"Serviceable\",M58789>30, \"Limited Life\",M58789<=30, \"Unserviceable\")","v":"Serviceable"}]
[null,95065,1982,"Wood Creos Impregnated","Serviceable","Class 3",2016,100,87.12,9,{"$f":"INDEX(Lists!$B$32:$B$40, MATCH(2020-C58796, Lists!$C$32:$C$40,1))","v":"31-40"},{"$f":"SUMPRODUCT((Data!$B$17:$B$19=Model!$F58796)*(Data!$C$16:$K$16=Model!$K58796)*(Data!$C$17:$K$19))","v":3.22},71.02,{"$f":"_xlfn.IFS(M58796>70,\"Serviceable\",M58796>30, \"Limited Life\",M58796<=30, \"Unserviceable\")","v":"Serviceable"}]
[null,95199,1967,"Wood Creos Impregnated","Serviceable","Class 3",2018,90,84.54,7,{"$f":"INDEX(Lists!$B$32:$B$40, MATCH(2020-C58865, Lists!$C$32:$C$40,1))","v":"51-60"},{"$f":"SUMPRODUCT((Data!$B$17:$B$19=Model!$F58865)*(Data!$C$16:$K$16=Model!$K58865)*(Data!$C$17:$K$19))","v":2.73},70.89,{"$f":"_xlfn.IFS(M58865>70,\"Serviceable\",M58865>30, \"Limited Life\",M58865<=30, \"Unserviceable\")","v":"Serviceable"}]
[null,95352,1966,"Wood Creos Impregnated","Serviceable","Class 3",2018,100,94.54,7,{"$f":"INDEX(Lists!$B$32:$B$40, MATCH(2020-C58965, Lists!$C$32:$C$40,1))","v":"51-60"},{"$f":"SUMPRODUCT((Data!$B$17:$B$19=Model!$F58965)*(Data!$C$16:$K$16=Model!$K58965)*(Data!$C$17:$K$19))","v":2.73},80.89,{"$f":"_xlfn.IFS(M58965>70,\"Serviceable\",M58965>30, \"Limited Life\",M58965<=30, \"Unserviceable\")","v":"Serviceable"}]
[null,95460,1969,"Wood Creos Impregnated","Serviceable","Class 3",2018,100,94.54,7,{"$f":"INDEX(Lists!$B$32:$B$40, MATCH(2020-C59034, Lists!$C$32:$C$40,1))","v":"51-60"},{"$f":"SUMPRODUCT((Data!$B$17:$B$19=Model!$F59034)*(Data!$C$16:$K$16=Model!$K59034)*(Data!$C$17:$K$19))","v":2.73},80.89,{"$f":"_xlfn.IFS(M59034>70,\"Serviceable\",M59034>30, \"Limited Life\",M59034<=30, \"Unserviceable\")","v":"Serviceable"}]
[null,95549,1983,"Wood Untreated Dressed","Serviceable","Class 1",2020,110,110,5,{"$f":"INDEX(Lists!$B$32:$B$40, MATCH(2020-C59093, Lists!$C$32:$C$40,1))","v":"31-40"},{"$f":"SUMPRODUCT((Data!$B$17:$B$19=Model!$F59093)*(Data!$C$16:$K$16=Model!$K59093)*(Data!$C$17:$K$19))","v":2.52},97.4,{"$f":"_xlfn.IFS(M59093>70,\"Serviceable\",M59093>30, \"Limited Life\",M59093<=30, \"Unserviceable\")","v":"Serviceable"}]
[null,95680,1975,"Wood Creos Impregnated","Serviceable","Class 1",2016,100,93,9,{"$f":"INDEX(Lists!$B$32:$B$40, MATCH(2020-C59187, Lists!$C$32:$C$40,1))","v":"41-50"},{"$f":"SUMPRODUCT((Data!$B$17:$B$19=Model!$F59187)*(Data!$C$16:$K$16=Model!$K59187)*(Data!$C$17:$K$19))","v":1.75},84.25,{"$f":"_xlfn.IFS(M59187>70,\"Serviceable\",M59187>30, \"Limited Life\",M59187<=30, \"Unserviceable\")","v":"Serviceable"}]
[null,95788,2008,"CCA Treated Pole","Serviceable","Class 2",2020,162.49719689682513,162.49719689682513,5,{"$f":"INDEX(Lists!$B$32:$B$40, MATCH(2020-C59256, Lists!$C$32:$C$40,1))","v":"0-20"},{"$f":"SUMPRODUCT((Data!$B$17:$B$19=Model!$F59256)*(Data!$C$16:$K$16=Model!$K59256)*(Data!$C$17:$K$19))","v":1.22},156.39719689682514,{"$f":"_xlfn.IFS(M59256>70,\"Serviceable\",M59256>30, \"Limited Life\",M59256<=30, \"Unserviceable\")","v":"Serviceable"}]
[null,95815,1974,"Wood Creos Impregnated","Serviceable","Class 1",2020,100,100,5,{"$f":"INDEX(Lists!$B$32:$B$40, MATCH(2020-C59269, Lists!$C$32:$C$40,1))","v":"41-50"},{"$f":"SUMPRODUCT((Data!$B$17:$B$19=Model!$F59269)*(Data!$C$16:$K$16=Model!$K59269)*(Data!$C$17:$K$19))","v":1.75},91.25,{"$f":"_xlfn.IFS(M59269>70,\"Serviceable\",M59269>30, \"Limited Life\",M59269<=30, \"Unserviceable\")","v":"Serviceable"}]
[null,95964,2011,"CCA Treated Pole","Serviceable","Class 1",2019,150,148.94,6,{"$f":"INDEX(Lists!$B$32:$B$40, MATCH(2020-C59357, Lists!$C$32:$C$40,1))","v":"0-20"},{"$f":"SUMPRODUCT((Data!$B$17:$B$19=Model!$F59357)*(Data!$C$16:$K$16=Model!$K59357)*(Data!$C$17:$K$19))","v":1.06},143.63999999999999,{"$f":"_xlfn.IFS(M59357>70,\"Serviceable\",M59357>30, \"Limited Life\",M59357<=30, \"Unserviceable\")","v":"Serviceable"}]
[null,96088,1975,"Wood Creos Impregnated","Serviceable","Class 3",2020,100,100,5,{"$f":"INDEX(Lists!$B$32:$B$40, MATCH(2020-C59426, Lists!$C$32:$C$40,1))","v":"41-50"},{"$f":"SUMPRODUCT((Data!$B$17:$B$19=Model!$F59426)*(Data!$C$16:$K$16=Model!$K59426)*(Data!$C$17:$K$19))","v":3.78},81.099999999999994,{"$f":"_xlfn.IFS(M59426>70,\"Serviceable\",M59426>30, \"Limited Life\",M59426<=30, \"Unserviceable\")","v":"Serviceable"}]
[null,96202,1967,"Wood Creos Impregnated","Serviceable","Class 3",2019,100,97.27,6,{"$f":"INDEX(Lists!$B$32:$B$40, MATCH(2020-C59512, Lists!$C$32:$C$40,1))","v":"51-60"},{"$f":"SUMPRODUCT((Data!$B$17:$B$19=Model!$F59512)*(Data!$C$16:$K$16=Model!$K59512)*(Data!$C$17:$K$19))","v":2.73},83.62,{"$f":"_xlfn.IFS(M59512>70,\"Serviceable\",M59512>30, \"Limited Life\",M59512<=30, \"Unserviceable\")","v":"Serviceable"}]
[null,96311,1981,"Wood Creos Impregnated","Serviceable","Class 3",2016,130,117.12,9,{"$f":"INDEX(Lists!$B$32:$B$40, MATCH(2020-C59579, Lists!$C$32:$C$40,1))","v":"31-40"},{"$f":"SUMPRODUCT((Data!$B$17:$B$19=Model!$F59579)*(Data!$C$16:$K$16=Model!$K59579)*(Data!$C$17:$K$19))","v":3.22},101.02,{"$f":"_xlfn.IFS(M59579>70,\"Serviceable\",M59579>30, \"Limited Life\",M59579<=30, \"Unserviceable\")","v":"Serviceable"}]
[null,96417,1973,"Wood Creos Impregnated","Serviceable","Class 1",2019,110,108.25,6,{"$f":"INDEX(Lists!$B$32:$B$40, MATCH(2020-C59640, Lists!$C$32:$C$40,1))","v":"41-50"},{"$f":"SUMPRODUCT((Data!$B$17:$B$19=Model!$F59640)*(Data!$C$16:$K$16=Model!$K59640)*(Data!$C$17:$K$19))","v":1.75},99.5,{"$f":"_xlfn.IFS(M59640>70,\"Serviceable\",M59640>30, \"Limited Life\",M59640<=30, \"Unserviceable\")","v":"Serviceable"}]
[null,96481,1957,"Wood Creos Impregnated","Serviceable","Class 3",2019,100,97.98,6,{"$f":"INDEX(Lists!$B$32:$B$40, MATCH(2020-C59680, Lists!$C$32:$C$40,1))","v":"61-70"},{"$f":"SUMPRODUCT((Data!$B$17:$B$19=Model!$F59680)*(Data!$C$16:$K$16=Model!$K59680)*(Data!$C$17:$K$19))","v":2.02},87.88,{"$f":"_xlfn.IFS(M59680>70,\"Serviceable\",M59680>30, \"Limited Life\",M59680<=30, \"Unserviceable\")","v":"Serviceable"}]
[null,96589,2000,"CCA Treated Pole","Serviceable","Class 1",2018,150,147.88,7,{"$f":"INDEX(Lists!$B$32:$B$40, MATCH(2020-C59749, Lists!$C$32:$C$40,1))","v":"0-20"},{"$f":"SUMPRODUCT((Data!$B$17:$B$19=Model!$F59749)*(Data!$C$16:$K$16=Model!$K59749)*(Data!$C$17:$K$19))","v":1.06},142.58000000000001,{"$f":"_xlfn.IFS(M59749>70,\"Serviceable\",M59749>30, \"Limited Life\",M59749<=30, \"Unserviceable\")","v":"Serviceable"}]
[null,96720,1968,"Wood Creos Impregnated","Serviceable","Class 3",2020,100,100,5,{"$f":"INDEX(Lists!$B$32:$B$40, MATCH(2020-C59816, Lists!$C$32:$C$40,1))","v":"51-60"},{"$f":"SUMPRODUCT((Data!$B$17:$B$19=Model!$F59816)*(Data!$C$16:$K$16=Model!$K59816)*(Data!$C$17:$K$19))","v":2.73},86.35,{"$f":"_xlfn.IFS(M59816>70,\"Serviceable\",M59816>30, \"Limited Life\",M59816<=30, \"Unserviceable\")","v":"Serviceable"}]
[null,96900,1984,"Wood Untreated Dressed","Serviceable","Class 1",2018,150,144.96,7,{"$f":"INDEX(Lists!$B$32:$B$40, MATCH(2020-C59918, Lists!$C$32:$C$40,1))","v":"31-40"},{"$f":"SUMPRODUCT((Data!$B$17:$B$19=Model!$F59918)*(Data!$C$16:$K$16=Model!$K59918)*(Data!$C$17:$K$19))","v":2.52},132.36000000000001,{"$f":"_xlfn.IFS(M59918>70,\"Serviceable\",M59918>30, \"Limited Life\",M59918<=30, \"Unserviceable\")","v":"Serviceable"}]
[null,97044,1986,"Wood Untreated Dressed","Serviceable","Class 1",2019,150,147.47999999999999,6,{"$f":"INDEX(Lists!$B$32:$B$40, MATCH(2020-C60011, Lists!$C$32:$C$40,1))","v":"31-40"},{"$f":"SUMPRODUCT((Data!$B$17:$B$19=Model!$F60011)*(Data!$C$16:$K$16=Model!$K60011)*(Data!$C$17:$K$19))","v":2.52},134.88,{"$f":"_xlfn.IFS(M60011>70,\"Serviceable\",M60011>30, \"Limited Life\",M60011<=30, \"Unserviceable\")","v":"Serviceable"}]
[null,97122,1961,"Wood Creos Impregnated","Serviceable","Class 3",2018,100,94.54,7,{"$f":"INDEX(Lists!$B$32:$B$40, MATCH(2020-C60071, Lists!$C$32:$C$40,1))","v":"51-60"},{"$f":"SUMPRODUCT((Data!$B$17:$B$19=Model!$F60071)*(Data!$C$16:$K$16=Model!$K60071)*(Data!$C$17:$K$19))","v":2.73},80.89,{"$f":"_xlfn.IFS(M60071>70,\"Serviceable\",M60071>30, \"Limited Life\",M60071<=30, \"Unserviceable\")","v":"Serviceable"}]
[null,97213,1981,"Wood Creos Impregnated","Serviceable","Class 2",2019,100,97.67,6,{"$f":"INDEX(Lists!$B$32:$B$40, MATCH(2020-C60140, Lists!$C$32:$C$40,1))","v":"31-40"},{"$f":"SUMPRODUCT((Data!$B$17:$B$19=Model!$F60140)*(Data!$C$16:$K$16=Model!$K60140)*(Data!$C$17:$K$19))","v":2.33},86.02,{"$f":"_xlfn.IFS(M60140>70,\"Serviceable\",M60140>30, \"Limited Life\",M60140<=30, \"Unserviceable\")","v":"Serviceable"}]
[null,97291,1963,"Wood Creos Impregnated","Serviceable","Class 3",2018,100,94.54,7,{"$f":"INDEX(Lists!$B$32:$B$40, MATCH(2020-C60187, Lists!$C$32:$C$40,1))","v":"51-60"},{"$f":"SUMPRODUCT((Data!$B$17:$B$19=Model!$F60187)*(Data!$C$16:$K$16=Model!$K60187)*(Data!$C$17:$K$19))","v":2.73},80.89,{"$f":"_xlfn.IFS(M60187>70,\"Serviceable\",M60187>30, \"Limited Life\",M60187<=30, \"Unserviceable\")","v":"Serviceable"}]
[null,97365,1964,"Wood Creos Impregnated","Serviceable","Class 3",2018,100,94.54,7,{"$f":"INDEX(Lists!$B$32:$B$40, MATCH(2020-C60241, Lists!$C$32:$C$40,1))","v":"51-60"},{"$f":"SUMPRODUCT((Data!$B$17:$B$19=Model!$F60241)*(Data!$C$16:$K$16=Model!$K60241)*(Data!$C$17:$K$19))","v":2.73},80.89,{"$f":"_xlfn.IFS(M60241>70,\"Serviceable\",M60241>30, \"Limited Life\",M60241<=30, \"Unserviceable\")","v":"Serviceable"}]
[null,97466,1969,"Wood Creos Impregnated","Serviceable","Class 2",2020,100,100,5,{"$f":"INDEX(Lists!$B$32:$B$40, MATCH(2020-C60310, Lists!$C$32:$C$40,1))","v":"51-60"},{"$f":"SUMPRODUCT((Data!$B$17:$B$19=Model!$F60310)*(Data!$C$16:$K$16=Model!$K60310)*(Data!$C$17:$K$19))","v":2.57},87.15,{"$f":"_xlfn.IFS(M60310>70,\"Serviceable\",M60310>30, \"Limited Life\",M60310<=30, \"Unserviceable\")","v":"Serviceable"}]
[null,97562,1967,"Wood Creos Impregnated","Serviceable","Class 3",2019,90,87.27,6,{"$f":"INDEX(Lists!$B$32:$B$40, MATCH(2020-C60363, Lists!$C$32:$C$40,1))","v":"51-60"},{"$f":"SUMPRODUCT((Data!$B$17:$B$19=Model!$F60363)*(Data!$C$16:$K$16=Model!$K60363)*(Data!$C$17:$K$19))","v":2.73},73.62,{"$f":"_xlfn.IFS(M60363>70,\"Serviceable\",M60363>30, \"Limited Life\",M60363<=30, \"Unserviceable\")","v":"Serviceable"}]
[null,97709,1930,"Wood Untreated Round","Serviceable","Class 1",2018,120,114.38,7,{"$f":"INDEX(Lists!$B$32:$B$40, MATCH(2020-C60463, Lists!$C$32:$C$40,1))","v":"81-90"},{"$f":"SUMPRODUCT((Data!$B$17:$B$19=Model!$F60463)*(Data!$C$16:$K$16=Model!$K60463)*(Data!$C$17:$K$19))","v":2.81},100.33,{"$f":"_xlfn.IFS(M60463>70,\"Serviceable\",M60463>30, \"Limited Life\",M60463<=30, \"Unserviceable\")","v":"Serviceable"}]
[null,97757,1965,"Wood Creos Impregnated","Serviceable","Class 3",2018,100,94.54,7,{"$f":"INDEX(Lists!$B$32:$B$40, MATCH(2020-C60491, Lists!$C$32:$C$40,1))","v":"51-60"},{"$f":"SUMPRODUCT((Data!$B$17:$B$19=Model!$F60491)*(Data!$C$16:$K$16=Model!$K60491)*(Data!$C$17:$K$19))","v":2.73},80.89,{"$f":"_xlfn.IFS(M60491>70,\"Serviceable\",M60491>30, \"Limited Life\",M60491<=30, \"Unserviceable\")","v":"Serviceable"}]
[null,97883,1980,"Wood Creos Impregnated","Serviceable","Class 3",2018,100,93.56,7,{"$f":"INDEX(Lists!$B$32:$B$40, MATCH(2020-C60564, Lists!$C$32:$C$40,1))","v":"31-40"},{"$f":"SUMPRODUCT((Data!$B$17:$B$19=Model!$F60564)*(Data!$C$16:$K$16=Model!$K60564)*(Data!$C$17:$K$19))","v":3.22},77.459999999999994,{"$f":"_xlfn.IFS(M60564>70,\"Serviceable\",M60564>30, \"Limited Life\",M60564<=30, \"Unserviceable\")","v":"Serviceable"}]
[null,97993,1972,"Wood Creos Impregnated","Limited Life","Class 3",2017,80,68.66,8,{"$f":"INDEX(Lists!$B$32:$B$40, MATCH(2020-C60633, Lists!$C$32:$C$40,1))","v":"41-50"},{"$f":"SUMPRODUCT((Data!$B$17:$B$19=Model!$F60633)*(Data!$C$16:$K$16=Model!$K60633)*(Data!$C$17:$K$19))","v":3.78},49.760000000000005,{"$f":"_xlfn.IFS(M60633>70,\"Serviceable\",M60633>30, \"Limited Life\",M60633<=30, \"Unserviceable\")","v":"Limited Life"}]
[null,98176,1965,"Wood Creos Impregnated","Serviceable","Class 3",2017,100,91.81,8,{"$f":"INDEX(Lists!$B$32:$B$40, MATCH(2020-C60734, Lists!$C$32:$C$40,1))","v":"51-60"},{"$f":"SUMPRODUCT((Data!$B$17:$B$19=Model!$F60734)*(Data!$C$16:$K$16=Model!$K60734)*(Data!$C$17:$K$19))","v":2.73},78.16,{"$f":"_xlfn.IFS(M60734>70,\"Serviceable\",M60734>30, \"Limited Life\",M60734<=30, \"Unserviceable\")","v":"Serviceable"}]
[null,98277,1956,"Wood Untreated Round","Serviceable","Class 1",2017,120,113.91,8,{"$f":"INDEX(Lists!$B$32:$B$40, MATCH(2020-C60802, Lists!$C$32:$C$40,1))","v":"61-70"},{"$f":"SUMPRODUCT((Data!$B$17:$B$19=Model!$F60802)*(Data!$C$16:$K$16=Model!$K60802)*(Data!$C$17:$K$19))","v":2.0299999999999998},103.76,{"$f":"_xlfn.IFS(M60802>70,\"Serviceable\",M60802>30, \"Limited Life\",M60802<=30, \"Unserviceable\")","v":"Serviceable"}]
[null,98396,1964,"Wood Creos Impregnated","Serviceable","Class 3",2017,100,91.81,8,{"$f":"INDEX(Lists!$B$32:$B$40, MATCH(2020-C60862, Lists!$C$32:$C$40,1))","v":"51-60"},{"$f":"SUMPRODUCT((Data!$B$17:$B$19=Model!$F60862)*(Data!$C$16:$K$16=Model!$K60862)*(Data!$C$17:$K$19))","v":2.73},78.16,{"$f":"_xlfn.IFS(M60862>70,\"Serviceable\",M60862>30, \"Limited Life\",M60862<=30, \"Unserviceable\")","v":"Serviceable"}]
[null,98569,1981,"Wood Untreated Round","Limited Life","Class 1",2019,70,67.48,6,{"$f":"INDEX(Lists!$B$32:$B$40, MATCH(2020-C60955, Lists!$C$32:$C$40,1))","v":"31-40"},{"$f":"SUMPRODUCT((Data!$B$17:$B$19=Model!$F60955)*(Data!$C$16:$K$16=Model!$K60955)*(Data!$C$17:$K$19))","v":2.52},54.879999999999995,{"$f":"_xlfn.IFS(M60955>70,\"Serviceable\",M60955>30, \"Limited Life\",M60955<=30, \"Unserviceable\")","v":"Limited Life"}]
[null,98666,1962,"Wood Creos Impregnated","Serviceable","Class 3",2017,100,91.81,8,{"$f":"INDEX(Lists!$B$32:$B$40, MATCH(2020-C61024, Lists!$C$32:$C$40,1))","v":"51-60"},{"$f":"SUMPRODUCT((Data!$B$17:$B$19=Model!$F61024)*(Data!$C$16:$K$16=Model!$K61024)*(Data!$C$17:$K$19))","v":2.73},78.16,{"$f":"_xlfn.IFS(M61024>70,\"Serviceable\",M61024>30, \"Limited Life\",M61024<=30, \"Unserviceable\")","v":"Serviceable"}]
[null,98689,1981,"Wood Creos Impregnated","Serviceable","Class 3",2019,100,96.78,6,{"$f":"INDEX(Lists!$B$32:$B$40, MATCH(2020-C61038, Lists!$C$32:$C$40,1))","v":"31-40"},{"$f":"SUMPRODUCT((Data!$B$17:$B$19=Model!$F61038)*(Data!$C$16:$K$16=Model!$K61038)*(Data!$C$17:$K$19))","v":3.22},80.680000000000007,{"$f":"_xlfn.IFS(M61038>70,\"Serviceable\",M61038>30, \"Limited Life\",M61038<=30, \"Unserviceable\")","v":"Serviceable"}]
[null,98858,1967,"Wood Creos Impregnated","Serviceable","Class 3",2018,110,104.54,7,{"$f":"INDEX(Lists!$B$32:$B$40, MATCH(2020-C61125, Lists!$C$32:$C$40,1))","v":"51-60"},{"$f":"SUMPRODUCT((Data!$B$17:$B$19=Model!$F61125)*(Data!$C$16:$K$16=Model!$K61125)*(Data!$C$17:$K$19))","v":2.73},90.89,{"$f":"_xlfn.IFS(M61125>70,\"Serviceable\",M61125>30, \"Limited Life\",M61125<=30, \"Unserviceable\")","v":"Serviceable"}]
[null,98923,1965,"Wood Creos Impregnated","Serviceable","Class 3",2020,100,100,5,{"$f":"INDEX(Lists!$B$32:$B$40, MATCH(2020-C61166, Lists!$C$32:$C$40,1))","v":"51-60"},{"$f":"SUMPRODUCT((Data!$B$17:$B$19=Model!$F61166)*(Data!$C$16:$K$16=Model!$K61166)*(Data!$C$17:$K$19))","v":2.73},86.35,{"$f":"_xlfn.IFS(M61166>70,\"Serviceable\",M61166>30, \"Limited Life\",M61166<=30, \"Unserviceable\")","v":"Serviceable"}]
[null,99073,1970,"Wood Creos Impregnated","Serviceable","Class 3",2017,110,98.66,8,{"$f":"INDEX(Lists!$B$32:$B$40, MATCH(2020-C61278, Lists!$C$32:$C$40,1))","v":"41-50"},{"$f":"SUMPRODUCT((Data!$B$17:$B$19=Model!$F61278)*(Data!$C$16:$K$16=Model!$K61278)*(Data!$C$17:$K$19))","v":3.78},79.760000000000005,{"$f":"_xlfn.IFS(M61278>70,\"Serviceable\",M61278>30, \"Limited Life\",M61278<=30, \"Unserviceable\")","v":"Serviceable"}]
[null,99226,1974,"Wood Creos Impregnated","Serviceable","Class 3",2018,90,82.44,7,{"$f":"INDEX(Lists!$B$32:$B$40, MATCH(2020-C61363, Lists!$C$32:$C$40,1))","v":"41-50"},{"$f":"SUMPRODUCT((Data!$B$17:$B$19=Model!$F61363)*(Data!$C$16:$K$16=Model!$K61363)*(Data!$C$17:$K$19))","v":3.78},63.540000000000006,{"$f":"_xlfn.IFS(M61363>70,\"Serviceable\",M61363>30, \"Limited Life\",M61363<=30, \"Unserviceable\")","v":"Limited Life"}]
[null,99300,1981,"Wood Creos Impregnated","Serviceable","Class 3",2018,100,93.56,7,{"$f":"INDEX(Lists!$B$32:$B$40, MATCH(2020-C61409, Lists!$C$32:$C$40,1))","v":"31-40"},{"$f":"SUMPRODUCT((Data!$B$17:$B$19=Model!$F61409)*(Data!$C$16:$K$16=Model!$K61409)*(Data!$C$17:$K$19))","v":3.22},77.459999999999994,{"$f":"_xlfn.IFS(M61409>70,\"Serviceable\",M61409>30, \"Limited Life\",M61409<=30, \"Unserviceable\")","v":"Serviceable"}]
[null,99368,1967,"Wood Creos Impregnated","Serviceable","Class 3",2017,100,91.81,{"$f":"2025-G61448","v":8},{"$f":"INDEX(Lists!$B$32:$B$40, MATCH(2020-C61448, Lists!$C$32:$C$40,1))","v":"51-60"},{"$f":"SUMPRODUCT((Data!$B$17:$B$19=Model!$F61448)*(Data!$C$16:$K$16=Model!$K61448)*(Data!$C$17:$K$19))","v":2.73},{"$f":"IF(IF(H61448>=700,999,(H61448-L61448*J61448))<0,0,IF(H61448>=700,999,(H61448-L61448*J61448)))","v":78.16},{"$f":"_xlfn.IFS(M61448>70,\"Serviceable\",M61448>30, \"Limited Life\",M61448<=30, \"Unserviceable\")","v":"Serviceable"}]
[null,99480,1986,"Wood Untreated Dressed","Serviceable","Class 1",2017,130,122.44,8,{"$f":"INDEX(Lists!$B$32:$B$40, MATCH(2020-C61517, Lists!$C$32:$C$40,1))","v":"31-40"},{"$f":"SUMPRODUCT((Data!$B$17:$B$19=Model!$F61517)*(Data!$C$16:$K$16=Model!$K61517)*(Data!$C$17:$K$19))","v":2.52},109.84,{"$f":"_xlfn.IFS(M61517>70,\"Serviceable\",M61517>30, \"Limited Life\",M61517<=30, \"Unserviceable\")","v":"Serviceable"}]
[null,99595,1969,"Wood Creos Impregnated","Serviceable","Class 3",2019,100,97.27,6,{"$f":"INDEX(Lists!$B$32:$B$40, MATCH(2020-C61585, Lists!$C$32:$C$40,1))","v":"51-60"},{"$f":"SUMPRODUCT((Data!$B$17:$B$19=Model!$F61585)*(Data!$C$16:$K$16=Model!$K61585)*(Data!$C$17:$K$19))","v":2.73},83.62,{"$f":"_xlfn.IFS(M61585>70,\"Serviceable\",M61585>30, \"Limited Life\",M61585<=30, \"Unserviceable\")","v":"Serviceable"}]
[null,99764,1976,"Wood Creos Impregnated","Serviceable","Class 1",2017,130,124.75,8,{"$f":"INDEX(Lists!$B$32:$B$40, MATCH(2020-C61686, Lists!$C$32:$C$40,1))","v":"41-50"},{"$f":"SUMPRODUCT((Data!$B$17:$B$19=Model!$F61686)*(Data!$C$16:$K$16=Model!$K61686)*(Data!$C$17:$K$19))","v":1.75},116,{"$f":"_xlfn.IFS(M61686>70,\"Serviceable\",M61686>30, \"Limited Life\",M61686<=30, \"Unserviceable\")","v":"Serviceable"}]
[null,99818,2005,"CCA Treated Pole","Serviceable","Class 2",2019,150,148.78,6,{"$f":"INDEX(Lists!$B$32:$B$40, MATCH(2020-C61713, Lists!$C$32:$C$40,1))","v":"0-20"},{"$f":"SUMPRODUCT((Data!$B$17:$B$19=Model!$F61713)*(Data!$C$16:$K$16=Model!$K61713)*(Data!$C$17:$K$19))","v":1.22},142.68,{"$f":"_xlfn.IFS(M61713>70,\"Serviceable\",M61713>30, \"Limited Life\",M61713<=30, \"Unserviceable\")","v":"Serviceable"}]
[null,99891,1968,"Wood Creos Impregnated","Serviceable","Class 3",2018,80,74.540000000000006,7,{"$f":"INDEX(Lists!$B$32:$B$40, MATCH(2020-C61771, Lists!$C$32:$C$40,1))","v":"51-60"},{"$f":"SUMPRODUCT((Data!$B$17:$B$19=Model!$F61771)*(Data!$C$16:$K$16=Model!$K61771)*(Data!$C$17:$K$19))","v":2.73},60.89,{"$f":"_xlfn.IFS(M61771>70,\"Serviceable\",M61771>30, \"Limited Life\",M61771<=30, \"Unserviceable\")","v":"Limited Life"}]
[null,99986,1980,"Wood Creos Impregnated","Serviceable","Class 2",2019,100,97.67,6,{"$f":"INDEX(Lists!$B$32:$B$40, MATCH(2020-C61840, Lists!$C$32:$C$40,1))","v":"31-40"},{"$f":"SUMPRODUCT((Data!$B$17:$B$19=Model!$F61840)*(Data!$C$16:$K$16=Model!$K61840)*(Data!$C$17:$K$19))","v":2.33},86.02,{"$f":"_xlfn.IFS(M61840>70,\"Serviceable\",M61840>30, \"Limited Life\",M61840<=30, \"Unserviceable\")","v":"Serviceable"}]
[null,100158,1980,"Wood Creos Impregnated","Serviceable","Class 3",2019,90,86.78,6,{"$f":"INDEX(Lists!$B$32:$B$40, MATCH(2020-C61956, Lists!$C$32:$C$40,1))","v":"31-40"},{"$f":"SUMPRODUCT((Data!$B$17:$B$19=Model!$F61956)*(Data!$C$16:$K$16=Model!$K61956)*(Data!$C$17:$K$19))","v":3.22},70.680000000000007,{"$f":"_xlfn.IFS(M61956>70,\"Serviceable\",M61956>30, \"Limited Life\",M61956<=30, \"Unserviceable\")","v":"Serviceable"}]
[null,100238,1968,"Wood Creos Impregnated","Serviceable","Class 3",2017,120,111.81,8,{"$f":"INDEX(Lists!$B$32:$B$40, MATCH(2020-C62009, Lists!$C$32:$C$40,1))","v":"51-60"},{"$f":"SUMPRODUCT((Data!$B$17:$B$19=Model!$F62009)*(Data!$C$16:$K$16=Model!$K62009)*(Data!$C$17:$K$19))","v":2.73},98.16,{"$f":"_xlfn.IFS(M62009>70,\"Serviceable\",M62009>30, \"Limited Life\",M62009<=30, \"Unserviceable\")","v":"Serviceable"}]
[null,100341,2003,"CCA Treated Pole","Serviceable","Class 2",2017,162.49719689682513,158.83719689682513,8,{"$f":"INDEX(Lists!$B$32:$B$40, MATCH(2020-C62084, Lists!$C$32:$C$40,1))","v":"0-20"},{"$f":"SUMPRODUCT((Data!$B$17:$B$19=Model!$F62084)*(Data!$C$16:$K$16=Model!$K62084)*(Data!$C$17:$K$19))","v":1.22},152.73719689682514,{"$f":"_xlfn.IFS(M62084>70,\"Serviceable\",M62084>30, \"Limited Life\",M62084<=30, \"Unserviceable\")","v":"Serviceable"}]
[null,100440,1971,"Wood Creos Impregnated","Serviceable","Class 2",2018,120,113.44,7,{"$f":"INDEX(Lists!$B$32:$B$40, MATCH(2020-C62162, Lists!$C$32:$C$40,1))","v":"41-50"},{"$f":"SUMPRODUCT((Data!$B$17:$B$19=Model!$F62162)*(Data!$C$16:$K$16=Model!$K62162)*(Data!$C$17:$K$19))","v":3.28},97.04,{"$f":"_xlfn.IFS(M62162>70,\"Serviceable\",M62162>30, \"Limited Life\",M62162<=30, \"Unserviceable\")","v":"Serviceable"}]
[null,100463,1969,"Wood Creos Impregnated","Serviceable","Class 3",2016,100,89.08,9,{"$f":"INDEX(Lists!$B$32:$B$40, MATCH(2020-C62179, Lists!$C$32:$C$40,1))","v":"51-60"},{"$f":"SUMPRODUCT((Data!$B$17:$B$19=Model!$F62179)*(Data!$C$16:$K$16=Model!$K62179)*(Data!$C$17:$K$19))","v":2.73},75.430000000000007,{"$f":"_xlfn.IFS(M62179>70,\"Serviceable\",M62179>30, \"Limited Life\",M62179<=30, \"Unserviceable\")","v":"Serviceable"}]
[null,100573,1953,"Wood Untreated Round","Serviceable","Class 1",2017,100,93.91,8,{"$f":"INDEX(Lists!$B$32:$B$40, MATCH(2020-C62260, Lists!$C$32:$C$40,1))","v":"61-70"},{"$f":"SUMPRODUCT((Data!$B$17:$B$19=Model!$F62260)*(Data!$C$16:$K$16=Model!$K62260)*(Data!$C$17:$K$19))","v":2.0299999999999998},83.76,{"$f":"_xlfn.IFS(M62260>70,\"Serviceable\",M62260>30, \"Limited Life\",M62260<=30, \"Unserviceable\")","v":"Serviceable"}]
[null,100680,1975,"Wood Creos Impregnated","Serviceable","Class 1",2019,130,128.25,6,{"$f":"INDEX(Lists!$B$32:$B$40, MATCH(2020-C62332, Lists!$C$32:$C$40,1))","v":"41-50"},{"$f":"SUMPRODUCT((Data!$B$17:$B$19=Model!$F62332)*(Data!$C$16:$K$16=Model!$K62332)*(Data!$C$17:$K$19))","v":1.75},119.5,{"$f":"_xlfn.IFS(M62332>70,\"Serviceable\",M62332>30, \"Limited Life\",M62332<=30, \"Unserviceable\")","v":"Serviceable"}]
[null,100782,1969,"Wood Creos Impregnated","Serviceable","Class 3",2017,120,111.81,8,{"$f":"INDEX(Lists!$B$32:$B$40, MATCH(2020-C62401, Lists!$C$32:$C$40,1))","v":"51-60"},{"$f":"SUMPRODUCT((Data!$B$17:$B$19=Model!$F62401)*(Data!$C$16:$K$16=Model!$K62401)*(Data!$C$17:$K$19))","v":2.73},98.16,{"$f":"_xlfn.IFS(M62401>70,\"Serviceable\",M62401>30, \"Limited Life\",M62401<=30, \"Unserviceable\")","v":"Serviceable"}]
[null,100937,1967,"Wood Creos Impregnated","Serviceable","Class 3",2017,120,111.81,8,{"$f":"INDEX(Lists!$B$32:$B$40, MATCH(2020-C62503, Lists!$C$32:$C$40,1))","v":"51-60"},{"$f":"SUMPRODUCT((Data!$B$17:$B$19=Model!$F62503)*(Data!$C$16:$K$16=Model!$K62503)*(Data!$C$17:$K$19))","v":2.73},98.16,{"$f":"_xlfn.IFS(M62503>70,\"Serviceable\",M62503>30, \"Limited Life\",M62503<=30, \"Unserviceable\")","v":"Serviceable"}]
[null,101024,1976,"Wood Creos Impregnated","Serviceable","Class 3",2018,120,112.44,7,{"$f":"INDEX(Lists!$B$32:$B$40, MATCH(2020-C62570, Lists!$C$32:$C$40,1))","v":"41-50"},{"$f":"SUMPRODUCT((Data!$B$17:$B$19=Model!$F62570)*(Data!$C$16:$K$16=Model!$K62570)*(Data!$C$17:$K$19))","v":3.78},93.54,{"$f":"_xlfn.IFS(M62570>70,\"Serviceable\",M62570>30, \"Limited Life\",M62570<=30, \"Unserviceable\")","v":"Serviceable"}]
[null,101112,1971,"Wood Creos Impregnated","Serviceable","Class 3",2018,90,82.44,7,{"$f":"INDEX(Lists!$B$32:$B$40, MATCH(2020-C62631, Lists!$C$32:$C$40,1))","v":"41-50"},{"$f":"SUMPRODUCT((Data!$B$17:$B$19=Model!$F62631)*(Data!$C$16:$K$16=Model!$K62631)*(Data!$C$17:$K$19))","v":3.78},63.540000000000006,{"$f":"_xlfn.IFS(M62631>70,\"Serviceable\",M62631>30, \"Limited Life\",M62631<=30, \"Unserviceable\")","v":"Limited Life"}]
[null,101139,1982,"Wood Creos Impregnated","Serviceable","Class 2",2018,100,95.34,7,{"$f":"INDEX(Lists!$B$32:$B$40, MATCH(2020-C62655, Lists!$C$32:$C$40,1))","v":"31-40"},{"$f":"SUMPRODUCT((Data!$B$17:$B$19=Model!$F62655)*(Data!$C$16:$K$16=Model!$K62655)*(Data!$C$17:$K$19))","v":2.33},83.69,{"$f":"_xlfn.IFS(M62655>70,\"Serviceable\",M62655>30, \"Limited Life\",M62655<=30, \"Unserviceable\")","v":"Serviceable"}]
[null,101238,1976,"Wood Creos Impregnated","Serviceable","Class 3",2019,100,96.22,6,{"$f":"INDEX(Lists!$B$32:$B$40, MATCH(2020-C62724, Lists!$C$32:$C$40,1))","v":"41-50"},{"$f":"SUMPRODUCT((Data!$B$17:$B$19=Model!$F62724)*(Data!$C$16:$K$16=Model!$K62724)*(Data!$C$17:$K$19))","v":3.78},77.319999999999993,{"$f":"_xlfn.IFS(M62724>70,\"Serviceable\",M62724>30, \"Limited Life\",M62724<=30, \"Unserviceable\")","v":"Serviceable"}]
[null,101367,1982,"Wood Creos Impregnated","Serviceable","Class 3",2019,100,96.78,6,{"$f":"INDEX(Lists!$B$32:$B$40, MATCH(2020-C62807, Lists!$C$32:$C$40,1))","v":"31-40"},{"$f":"SUMPRODUCT((Data!$B$17:$B$19=Model!$F62807)*(Data!$C$16:$K$16=Model!$K62807)*(Data!$C$17:$K$19))","v":3.22},80.680000000000007,{"$f":"_xlfn.IFS(M62807>70,\"Serviceable\",M62807>30, \"Limited Life\",M62807<=30, \"Unserviceable\")","v":"Serviceable"}]
[null,101499,1972,"Wood Creos Impregnated","Serviceable","Class 1",2019,120,118.25,6,{"$f":"INDEX(Lists!$B$32:$B$40, MATCH(2020-C62893, Lists!$C$32:$C$40,1))","v":"41-50"},{"$f":"SUMPRODUCT((Data!$B$17:$B$19=Model!$F62893)*(Data!$C$16:$K$16=Model!$K62893)*(Data!$C$17:$K$19))","v":1.75},109.5,{"$f":"_xlfn.IFS(M62893>70,\"Serviceable\",M62893>30, \"Limited Life\",M62893<=30, \"Unserviceable\")","v":"Serviceable"}]
[null,101566,1971,"Wood Creos Impregnated","Serviceable","Class 3",2017,100,88.66,8,{"$f":"INDEX(Lists!$B$32:$B$40, MATCH(2020-C62935, Lists!$C$32:$C$40,1))","v":"41-50"},{"$f":"SUMPRODUCT((Data!$B$17:$B$19=Model!$F62935)*(Data!$C$16:$K$16=Model!$K62935)*(Data!$C$17:$K$19))","v":3.78},69.760000000000005,{"$f":"_xlfn.IFS(M62935>70,\"Serviceable\",M62935>30, \"Limited Life\",M62935<=30, \"Unserviceable\")","v":"Limited Life"}]
[null,101729,1961,"Wood Creos Impregnated","Serviceable","Class 3",2019,100,97.27,6,{"$f":"INDEX(Lists!$B$32:$B$40, MATCH(2020-C63046, Lists!$C$32:$C$40,1))","v":"51-60"},{"$f":"SUMPRODUCT((Data!$B$17:$B$19=Model!$F63046)*(Data!$C$16:$K$16=Model!$K63046)*(Data!$C$17:$K$19))","v":2.73},83.62,{"$f":"_xlfn.IFS(M63046>70,\"Serviceable\",M63046>30, \"Limited Life\",M63046<=30, \"Unserviceable\")","v":"Serviceable"}]
[null,101755,1956,"Wood Untreated Round","Serviceable","Class 1",2019,100,97.97,6,{"$f":"INDEX(Lists!$B$32:$B$40, MATCH(2020-C63063, Lists!$C$32:$C$40,1))","v":"61-70"},{"$f":"SUMPRODUCT((Data!$B$17:$B$19=Model!$F63063)*(Data!$C$16:$K$16=Model!$K63063)*(Data!$C$17:$K$19))","v":2.0299999999999998},87.82,{"$f":"_xlfn.IFS(M63063>70,\"Serviceable\",M63063>30, \"Limited Life\",M63063<=30, \"Unserviceable\")","v":"Serviceable"}]
[null,101880,1974,"Wood Creos Impregnated","Serviceable","Class 3",2017,110,98.66,8,{"$f":"INDEX(Lists!$B$32:$B$40, MATCH(2020-C63178, Lists!$C$32:$C$40,1))","v":"41-50"},{"$f":"SUMPRODUCT((Data!$B$17:$B$19=Model!$F63178)*(Data!$C$16:$K$16=Model!$K63178)*(Data!$C$17:$K$19))","v":3.78},79.760000000000005,{"$f":"_xlfn.IFS(M63178>70,\"Serviceable\",M63178>30, \"Limited Life\",M63178<=30, \"Unserviceable\")","v":"Serviceable"}]
[null,101945,1959,"Wood Creos Impregnated","Serviceable","Class 3",2019,100,97.98,6,{"$f":"INDEX(Lists!$B$32:$B$40, MATCH(2020-C63216, Lists!$C$32:$C$40,1))","v":"61-70"},{"$f":"SUMPRODUCT((Data!$B$17:$B$19=Model!$F63216)*(Data!$C$16:$K$16=Model!$K63216)*(Data!$C$17:$K$19))","v":2.02},87.88,{"$f":"_xlfn.IFS(M63216>70,\"Serviceable\",M63216>30, \"Limited Life\",M63216<=30, \"Unserviceable\")","v":"Serviceable"}]
[null,102064,1976,"Wood Creos Impregnated","Serviceable","Class 1",2019,130,128.25,6,{"$f":"INDEX(Lists!$B$32:$B$40, MATCH(2020-C63306, Lists!$C$32:$C$40,1))","v":"41-50"},{"$f":"SUMPRODUCT((Data!$B$17:$B$19=Model!$F63306)*(Data!$C$16:$K$16=Model!$K63306)*(Data!$C$17:$K$19))","v":1.75},119.5,{"$f":"_xlfn.IFS(M63306>70,\"Serviceable\",M63306>30, \"Limited Life\",M63306<=30, \"Unserviceable\")","v":"Serviceable"}]
[null,102149,2007,"CCA Treated Pole","Serviceable","Class 1",2018,166.31691553103065,164.19691553103064,7,{"$f":"INDEX(Lists!$B$32:$B$40, MATCH(2020-C63369, Lists!$C$32:$C$40,1))","v":"0-20"},{"$f":"SUMPRODUCT((Data!$B$17:$B$19=Model!$F63369)*(Data!$C$16:$K$16=Model!$K63369)*(Data!$C$17:$K$19))","v":1.06},158.89691553103066,{"$f":"_xlfn.IFS(M63369>70,\"Serviceable\",M63369>30, \"Limited Life\",M63369<=30, \"Unserviceable\")","v":"Serviceable"}]
[null,102345,1969,"Wood Creos Impregnated","Serviceable","Class 3",2017,100,91.81,8,{"$f":"INDEX(Lists!$B$32:$B$40, MATCH(2020-C63454, Lists!$C$32:$C$40,1))","v":"51-60"},{"$f":"SUMPRODUCT((Data!$B$17:$B$19=Model!$F63454)*(Data!$C$16:$K$16=Model!$K63454)*(Data!$C$17:$K$19))","v":2.73},78.16,{"$f":"_xlfn.IFS(M63454>70,\"Serviceable\",M63454>30, \"Limited Life\",M63454<=30, \"Unserviceable\")","v":"Serviceable"}]
[null,102382,1975,"Wood Creos Impregnated","Serviceable","Class 3",2020,90,90,5,{"$f":"INDEX(Lists!$B$32:$B$40, MATCH(2020-C63482, Lists!$C$32:$C$40,1))","v":"41-50"},{"$f":"SUMPRODUCT((Data!$B$17:$B$19=Model!$F63482)*(Data!$C$16:$K$16=Model!$K63482)*(Data!$C$17:$K$19))","v":3.78},71.099999999999994,{"$f":"_xlfn.IFS(M63482>70,\"Serviceable\",M63482>30, \"Limited Life\",M63482<=30, \"Unserviceable\")","v":"Serviceable"}]
[null,102466,1963,"Wood Creos Impregnated","Serviceable","Class 3",2017,120,111.81,8,{"$f":"INDEX(Lists!$B$32:$B$40, MATCH(2020-C63539, Lists!$C$32:$C$40,1))","v":"51-60"},{"$f":"SUMPRODUCT((Data!$B$17:$B$19=Model!$F63539)*(Data!$C$16:$K$16=Model!$K63539)*(Data!$C$17:$K$19))","v":2.73},98.16,{"$f":"_xlfn.IFS(M63539>70,\"Serviceable\",M63539>30, \"Limited Life\",M63539<=30, \"Unserviceable\")","v":"Serviceable"}]
[null,102574,1986,"Wood Untreated Dressed","Serviceable","Class 1",2017,150,142.44,{"$f":"2025-G63624","v":8},{"$f":"INDEX(Lists!$B$32:$B$40, MATCH(2020-C63624, Lists!$C$32:$C$40,1))","v":"31-40"},{"$f":"SUMPRODUCT((Data!$B$17:$B$19=Model!$F63624)*(Data!$C$16:$K$16=Model!$K63624)*(Data!$C$17:$K$19))","v":2.52},{"$f":"IF(IF(H63624>=700,999,(H63624-L63624*J63624))<0,0,IF(H63624>=700,999,(H63624-L63624*J63624)))","v":129.84},{"$f":"_xlfn.IFS(M63624>70,\"Serviceable\",M63624>30, \"Limited Life\",M63624<=30, \"Unserviceable\")","v":"Serviceable"}]
[null,102720,1983,"Wood Creos Impregnated","Serviceable","Class 3",2019,100,96.78,6,{"$f":"INDEX(Lists!$B$32:$B$40, MATCH(2020-C63725, Lists!$C$32:$C$40,1))","v":"31-40"},{"$f":"SUMPRODUCT((Data!$B$17:$B$19=Model!$F63725)*(Data!$C$16:$K$16=Model!$K63725)*(Data!$C$17:$K$19))","v":3.22},80.680000000000007,{"$f":"_xlfn.IFS(M63725>70,\"Serviceable\",M63725>30, \"Limited Life\",M63725<=30, \"Unserviceable\")","v":"Serviceable"}]
[null,102788,1977,"Wood Creos Impregnated","Serviceable","Class 1",2016,120,113,9,{"$f":"INDEX(Lists!$B$32:$B$40, MATCH(2020-C63777, Lists!$C$32:$C$40,1))","v":"41-50"},{"$f":"SUMPRODUCT((Data!$B$17:$B$19=Model!$F63777)*(Data!$C$16:$K$16=Model!$K63777)*(Data!$C$17:$K$19))","v":1.75},104.25,{"$f":"_xlfn.IFS(M63777>70,\"Serviceable\",M63777>30, \"Limited Life\",M63777<=30, \"Unserviceable\")","v":"Serviceable"}]
[null,102907,1966,"Wood Creos Impregnated","Serviceable","Class 3",2019,100,97.27,6,{"$f":"INDEX(Lists!$B$32:$B$40, MATCH(2020-C63853, Lists!$C$32:$C$40,1))","v":"51-60"},{"$f":"SUMPRODUCT((Data!$B$17:$B$19=Model!$F63853)*(Data!$C$16:$K$16=Model!$K63853)*(Data!$C$17:$K$19))","v":2.73},83.62,{"$f":"_xlfn.IFS(M63853>70,\"Serviceable\",M63853>30, \"Limited Life\",M63853<=30, \"Unserviceable\")","v":"Serviceable"}]
[null,103042,1962,"Wood Creos Impregnated","Serviceable","Class 3",2016,90,79.08,9,{"$f":"INDEX(Lists!$B$32:$B$40, MATCH(2020-C63930, Lists!$C$32:$C$40,1))","v":"51-60"},{"$f":"SUMPRODUCT((Data!$B$17:$B$19=Model!$F63930)*(Data!$C$16:$K$16=Model!$K63930)*(Data!$C$17:$K$19))","v":2.73},65.430000000000007,{"$f":"_xlfn.IFS(M63930>70,\"Serviceable\",M63930>30, \"Limited Life\",M63930<=30, \"Unserviceable\")","v":"Limited Life"}]
[null,103079,1966,"Wood Creos Impregnated","Serviceable","Class 3",2018,100,94.54,7,{"$f":"INDEX(Lists!$B$32:$B$40, MATCH(2020-C63947, Lists!$C$32:$C$40,1))","v":"51-60"},{"$f":"SUMPRODUCT((Data!$B$17:$B$19=Model!$F63947)*(Data!$C$16:$K$16=Model!$K63947)*(Data!$C$17:$K$19))","v":2.73},80.89,{"$f":"_xlfn.IFS(M63947>70,\"Serviceable\",M63947>30, \"Limited Life\",M63947<=30, \"Unserviceable\")","v":"Serviceable"}]
[null,103233,2003,"CCA Treated Pole","Serviceable","Class 1",2016,150,145.76,9,{"$f":"INDEX(Lists!$B$32:$B$40, MATCH(2020-C64029, Lists!$C$32:$C$40,1))","v":"0-20"},{"$f":"SUMPRODUCT((Data!$B$17:$B$19=Model!$F64029)*(Data!$C$16:$K$16=Model!$K64029)*(Data!$C$17:$K$19))","v":1.06},140.46,{"$f":"_xlfn.IFS(M64029>70,\"Serviceable\",M64029>30, \"Limited Life\",M64029<=30, \"Unserviceable\")","v":"Serviceable"}]
[null,103341,1960,"Wood Creos Impregnated","Serviceable","Class 3",2020,110,110,5,{"$f":"INDEX(Lists!$B$32:$B$40, MATCH(2020-C64100, Lists!$C$32:$C$40,1))","v":"51-60"},{"$f":"SUMPRODUCT((Data!$B$17:$B$19=Model!$F64100)*(Data!$C$16:$K$16=Model!$K64100)*(Data!$C$17:$K$19))","v":2.73},96.35,{"$f":"_xlfn.IFS(M64100>70,\"Serviceable\",M64100>30, \"Limited Life\",M64100<=30, \"Unserviceable\")","v":"Serviceable"}]
[null,103436,1981,"Wood Creos Impregnated","Serviceable","Class 3",2018,100,93.56,7,{"$f":"INDEX(Lists!$B$32:$B$40, MATCH(2020-C64157, Lists!$C$32:$C$40,1))","v":"31-40"},{"$f":"SUMPRODUCT((Data!$B$17:$B$19=Model!$F64157)*(Data!$C$16:$K$16=Model!$K64157)*(Data!$C$17:$K$19))","v":3.22},77.459999999999994,{"$f":"_xlfn.IFS(M64157>70,\"Serviceable\",M64157>30, \"Limited Life\",M64157<=30, \"Unserviceable\")","v":"Serviceable"}]
[null,103577,1976,"Wood Creos Impregnated","Serviceable","Class 1",2017,100,94.75,8,{"$f":"INDEX(Lists!$B$32:$B$40, MATCH(2020-C64253, Lists!$C$32:$C$40,1))","v":"41-50"},{"$f":"SUMPRODUCT((Data!$B$17:$B$19=Model!$F64253)*(Data!$C$16:$K$16=Model!$K64253)*(Data!$C$17:$K$19))","v":1.75},86,{"$f":"_xlfn.IFS(M64253>70,\"Serviceable\",M64253>30, \"Limited Life\",M64253<=30, \"Unserviceable\")","v":"Serviceable"}]
[null,103702,1984,"Wood Untreated Dressed","Serviceable","Class 1",2016,130,119.92,9,{"$f":"INDEX(Lists!$B$32:$B$40, MATCH(2020-C64338, Lists!$C$32:$C$40,1))","v":"31-40"},{"$f":"SUMPRODUCT((Data!$B$17:$B$19=Model!$F64338)*(Data!$C$16:$K$16=Model!$K64338)*(Data!$C$17:$K$19))","v":2.52},107.32,{"$f":"_xlfn.IFS(M64338>70,\"Serviceable\",M64338>30, \"Limited Life\",M64338<=30, \"Unserviceable\")","v":"Serviceable"}]
[null,103792,2007,"CCA Treated Pole","Serviceable","Class 2",2017,120,116.34,8,{"$f":"INDEX(Lists!$B$32:$B$40, MATCH(2020-C64400, Lists!$C$32:$C$40,1))","v":"0-20"},{"$f":"SUMPRODUCT((Data!$B$17:$B$19=Model!$F64400)*(Data!$C$16:$K$16=Model!$K64400)*(Data!$C$17:$K$19))","v":1.22},110.24,{"$f":"_xlfn.IFS(M64400>70,\"Serviceable\",M64400>30, \"Limited Life\",M64400<=30, \"Unserviceable\")","v":"Serviceable"}]
[null,103827,1965,"Wood Creos Impregnated","Serviceable","Class 3",2017,90,81.81,8,{"$f":"INDEX(Lists!$B$32:$B$40, MATCH(2020-C64423, Lists!$C$32:$C$40,1))","v":"51-60"},{"$f":"SUMPRODUCT((Data!$B$17:$B$19=Model!$F64423)*(Data!$C$16:$K$16=Model!$K64423)*(Data!$C$17:$K$19))","v":2.73},68.16,{"$f":"_xlfn.IFS(M64423>70,\"Serviceable\",M64423>30, \"Limited Life\",M64423<=30, \"Unserviceable\")","v":"Limited Life"}]
[null,103983,1985,"Wood Untreated Dressed","Serviceable","Class 1",2019,130,127.48,6,{"$f":"INDEX(Lists!$B$32:$B$40, MATCH(2020-C64508, Lists!$C$32:$C$40,1))","v":"31-40"},{"$f":"SUMPRODUCT((Data!$B$17:$B$19=Model!$F64508)*(Data!$C$16:$K$16=Model!$K64508)*(Data!$C$17:$K$19))","v":2.52},114.88,{"$f":"_xlfn.IFS(M64508>70,\"Serviceable\",M64508>30, \"Limited Life\",M64508<=30, \"Unserviceable\")","v":"Serviceable"}]
[null,104096,1972,"Wood Creos Impregnated","Serviceable","Class 1",2019,130,128.25,6,{"$f":"INDEX(Lists!$B$32:$B$40, MATCH(2020-C64576, Lists!$C$32:$C$40,1))","v":"41-50"},{"$f":"SUMPRODUCT((Data!$B$17:$B$19=Model!$F64576)*(Data!$C$16:$K$16=Model!$K64576)*(Data!$C$17:$K$19))","v":1.75},119.5,{"$f":"_xlfn.IFS(M64576>70,\"Serviceable\",M64576>30, \"Limited Life\",M64576<=30, \"Unserviceable\")","v":"Serviceable"}]
[null,104216,1970,"Wood Creos Impregnated","Serviceable","Class 3",2017,120,108.66,8,{"$f":"INDEX(Lists!$B$32:$B$40, MATCH(2020-C64661, Lists!$C$32:$C$40,1))","v":"41-50"},{"$f":"SUMPRODUCT((Data!$B$17:$B$19=Model!$F64661)*(Data!$C$16:$K$16=Model!$K64661)*(Data!$C$17:$K$19))","v":3.78},89.76,{"$f":"_xlfn.IFS(M64661>70,\"Serviceable\",M64661>30, \"Limited Life\",M64661<=30, \"Unserviceable\")","v":"Serviceable"}]
[null,104277,1977,"Wood Creos Impregnated","Serviceable","Class 3",2019,100,96.22,6,{"$f":"INDEX(Lists!$B$32:$B$40, MATCH(2020-C64704, Lists!$C$32:$C$40,1))","v":"41-50"},{"$f":"SUMPRODUCT((Data!$B$17:$B$19=Model!$F64704)*(Data!$C$16:$K$16=Model!$K64704)*(Data!$C$17:$K$19))","v":3.78},77.319999999999993,{"$f":"_xlfn.IFS(M64704>70,\"Serviceable\",M64704>30, \"Limited Life\",M64704<=30, \"Unserviceable\")","v":"Serviceable"}]
[null,104358,1940,"Wood Untreated Dressed","Serviceable","Class 1",2018,100,95.7,7,{"$f":"INDEX(Lists!$B$32:$B$40, MATCH(2020-C64746, Lists!$C$32:$C$40,1))","v":"71-80"},{"$f":"SUMPRODUCT((Data!$B$17:$B$19=Model!$F64746)*(Data!$C$16:$K$16=Model!$K64746)*(Data!$C$17:$K$19))","v":2.15},84.95,{"$f":"_xlfn.IFS(M64746>70,\"Serviceable\",M64746>30, \"Limited Life\",M64746<=30, \"Unserviceable\")","v":"Serviceable"}]
[null,104510,1987,"Wood Untreated Dressed","Serviceable","Class 1",2018,110,104.96,7,{"$f":"INDEX(Lists!$B$32:$B$40, MATCH(2020-C64831, Lists!$C$32:$C$40,1))","v":"31-40"},{"$f":"SUMPRODUCT((Data!$B$17:$B$19=Model!$F64831)*(Data!$C$16:$K$16=Model!$K64831)*(Data!$C$17:$K$19))","v":2.52},92.36,{"$f":"_xlfn.IFS(M64831>70,\"Serviceable\",M64831>30, \"Limited Life\",M64831<=30, \"Unserviceable\")","v":"Serviceable"}]
[null,104740,1974,"Wood Creos Impregnated","Serviceable","Class 3",2020,100,100,5,{"$f":"INDEX(Lists!$B$32:$B$40, MATCH(2020-C64947, Lists!$C$32:$C$40,1))","v":"41-50"},{"$f":"SUMPRODUCT((Data!$B$17:$B$19=Model!$F64947)*(Data!$C$16:$K$16=Model!$K64947)*(Data!$C$17:$K$19))","v":3.78},81.099999999999994,{"$f":"_xlfn.IFS(M64947>70,\"Serviceable\",M64947>30, \"Limited Life\",M64947<=30, \"Unserviceable\")","v":"Serviceable"}]
[null,104797,1957,"Wood Creos Impregnated","Serviceable","Class 3",2016,100,91.92,9,{"$f":"INDEX(Lists!$B$32:$B$40, MATCH(2020-C64984, Lists!$C$32:$C$40,1))","v":"61-70"},{"$f":"SUMPRODUCT((Data!$B$17:$B$19=Model!$F64984)*(Data!$C$16:$K$16=Model!$K64984)*(Data!$C$17:$K$19))","v":2.02},81.819999999999993,{"$f":"_xlfn.IFS(M64984>70,\"Serviceable\",M64984>30, \"Limited Life\",M64984<=30, \"Unserviceable\")","v":"Serviceable"}]
[null,104888,1962,"Wood Salt Impregnated (Green)","Serviceable","Class 3",2017,100,91.81,8,{"$f":"INDEX(Lists!$B$32:$B$40, MATCH(2020-C65042, Lists!$C$32:$C$40,1))","v":"51-60"},{"$f":"SUMPRODUCT((Data!$B$17:$B$19=Model!$F65042)*(Data!$C$16:$K$16=Model!$K65042)*(Data!$C$17:$K$19))","v":2.73},78.16,{"$f":"_xlfn.IFS(M65042>70,\"Serviceable\",M65042>30, \"Limited Life\",M65042<=30, \"Unserviceable\")","v":"Serviceable"}]
[null,105040,1966,"Wood Creos Impregnated","Serviceable","Class 3",2017,90,81.81,8,{"$f":"INDEX(Lists!$B$32:$B$40, MATCH(2020-C65137, Lists!$C$32:$C$40,1))","v":"51-60"},{"$f":"SUMPRODUCT((Data!$B$17:$B$19=Model!$F65137)*(Data!$C$16:$K$16=Model!$K65137)*(Data!$C$17:$K$19))","v":2.73},68.16,{"$f":"_xlfn.IFS(M65137>70,\"Serviceable\",M65137>30, \"Limited Life\",M65137<=30, \"Unserviceable\")","v":"Limited Life"}]
[null,105072,1989,"Wood Untreated Dressed","Serviceable","Class 1",2018,100,94.96,7,{"$f":"INDEX(Lists!$B$32:$B$40, MATCH(2020-C65154, Lists!$C$32:$C$40,1))","v":"31-40"},{"$f":"SUMPRODUCT((Data!$B$17:$B$19=Model!$F65154)*(Data!$C$16:$K$16=Model!$K65154)*(Data!$C$17:$K$19))","v":2.52},82.36,{"$f":"_xlfn.IFS(M65154>70,\"Serviceable\",M65154>30, \"Limited Life\",M65154<=30, \"Unserviceable\")","v":"Serviceable"}]
[null,105293,1970,"Wood Creos Impregnated","Serviceable","Class 3",2019,100,96.22,6,{"$f":"INDEX(Lists!$B$32:$B$40, MATCH(2020-C65251, Lists!$C$32:$C$40,1))","v":"41-50"},{"$f":"SUMPRODUCT((Data!$B$17:$B$19=Model!$F65251)*(Data!$C$16:$K$16=Model!$K65251)*(Data!$C$17:$K$19))","v":3.78},77.319999999999993,{"$f":"_xlfn.IFS(M65251>70,\"Serviceable\",M65251>30, \"Limited Life\",M65251<=30, \"Unserviceable\")","v":"Serviceable"}]
[null,105414,1958,"Wood Creos Impregnated","Serviceable","Class 3",2020,100,100,5,{"$f":"INDEX(Lists!$B$32:$B$40, MATCH(2020-C65307, Lists!$C$32:$C$40,1))","v":"61-70"},{"$f":"SUMPRODUCT((Data!$B$17:$B$19=Model!$F65307)*(Data!$C$16:$K$16=Model!$K65307)*(Data!$C$17:$K$19))","v":2.02},89.9,{"$f":"_xlfn.IFS(M65307>70,\"Serviceable\",M65307>30, \"Limited Life\",M65307<=30, \"Unserviceable\")","v":"Serviceable"}]
[null,105661,1968,"Wood Creos Impregnated","Serviceable","Class 3",2019,100,97.27,6,{"$f":"INDEX(Lists!$B$32:$B$40, MATCH(2020-C65413, Lists!$C$32:$C$40,1))","v":"51-60"},{"$f":"SUMPRODUCT((Data!$B$17:$B$19=Model!$F65413)*(Data!$C$16:$K$16=Model!$K65413)*(Data!$C$17:$K$19))","v":2.73},83.62,{"$f":"_xlfn.IFS(M65413>70,\"Serviceable\",M65413>30, \"Limited Life\",M65413<=30, \"Unserviceable\")","v":"Serviceable"}]
[null,105753,1997,"CCA Treated Pole","Serviceable","Class 1",2020,150,150,5,{"$f":"INDEX(Lists!$B$32:$B$40, MATCH(2020-C65460, Lists!$C$32:$C$40,1))","v":"21-30"},{"$f":"SUMPRODUCT((Data!$B$17:$B$19=Model!$F65460)*(Data!$C$16:$K$16=Model!$K65460)*(Data!$C$17:$K$19))","v":1.96},140.19999999999999,{"$f":"_xlfn.IFS(M65460>70,\"Serviceable\",M65460>30, \"Limited Life\",M65460<=30, \"Unserviceable\")","v":"Serviceable"}]
[null,105922,1988,"Wood Untreated Dressed","Serviceable","Class 1",2019,150,147.47999999999999,6,{"$f":"INDEX(Lists!$B$32:$B$40, MATCH(2020-C65545, Lists!$C$32:$C$40,1))","v":"31-40"},{"$f":"SUMPRODUCT((Data!$B$17:$B$19=Model!$F65545)*(Data!$C$16:$K$16=Model!$K65545)*(Data!$C$17:$K$19))","v":2.52},134.88,{"$f":"_xlfn.IFS(M65545>70,\"Serviceable\",M65545>30, \"Limited Life\",M65545<=30, \"Unserviceable\")","v":"Serviceable"}]
[null,106059,1977,"Wood Creos Impregnated","Serviceable","Class 3",2015,100,81.099999999999994,10,{"$f":"INDEX(Lists!$B$32:$B$40, MATCH(2020-C65622, Lists!$C$32:$C$40,1))","v":"41-50"},{"$f":"SUMPRODUCT((Data!$B$17:$B$19=Model!$F65622)*(Data!$C$16:$K$16=Model!$K65622)*(Data!$C$17:$K$19))","v":3.78},62.2,{"$f":"_xlfn.IFS(M65622>70,\"Serviceable\",M65622>30, \"Limited Life\",M65622<=30, \"Unserviceable\")","v":"Limited Life"}]
[null,106100,2002,"CCA Treated Pole","Serviceable","Class 2",2016,150,145.12,9,{"$f":"INDEX(Lists!$B$32:$B$40, MATCH(2020-C65630, Lists!$C$32:$C$40,1))","v":"0-20"},{"$f":"SUMPRODUCT((Data!$B$17:$B$19=Model!$F65630)*(Data!$C$16:$K$16=Model!$K65630)*(Data!$C$17:$K$19))","v":1.22},139.02000000000001,{"$f":"_xlfn.IFS(M65630>70,\"Serviceable\",M65630>30, \"Limited Life\",M65630<=30, \"Unserviceable\")","v":"Serviceable"}]
[null,106360,1966,"Wood Creos Impregnated","Serviceable","Class 3",2019,100,97.27,6,{"$f":"INDEX(Lists!$B$32:$B$40, MATCH(2020-C65715, Lists!$C$32:$C$40,1))","v":"51-60"},{"$f":"SUMPRODUCT((Data!$B$17:$B$19=Model!$F65715)*(Data!$C$16:$K$16=Model!$K65715)*(Data!$C$17:$K$19))","v":2.73},83.62,{"$f":"_xlfn.IFS(M65715>70,\"Serviceable\",M65715>30, \"Limited Life\",M65715<=30, \"Unserviceable\")","v":"Serviceable"}]
[null,106591,1970,"Wood Creos Impregnated","Serviceable","Class 3",2016,100,84.88,9,{"$f":"INDEX(Lists!$B$32:$B$40, MATCH(2020-C65798, Lists!$C$32:$C$40,1))","v":"41-50"},{"$f":"SUMPRODUCT((Data!$B$17:$B$19=Model!$F65798)*(Data!$C$16:$K$16=Model!$K65798)*(Data!$C$17:$K$19))","v":3.78},65.98,{"$f":"_xlfn.IFS(M65798>70,\"Serviceable\",M65798>30, \"Limited Life\",M65798<=30, \"Unserviceable\")","v":"Limited Life"}]
[null,106769,1939,"Wood Untreated Round","Serviceable","Class 1",2019,80,77.19,6,{"$f":"INDEX(Lists!$B$32:$B$40, MATCH(2020-C65868, Lists!$C$32:$C$40,1))","v":"81-90"},{"$f":"SUMPRODUCT((Data!$B$17:$B$19=Model!$F65868)*(Data!$C$16:$K$16=Model!$K65868)*(Data!$C$17:$K$19))","v":2.81},63.14,{"$f":"_xlfn.IFS(M65868>70,\"Serviceable\",M65868>30, \"Limited Life\",M65868<=30, \"Unserviceable\")","v":"Limited Life"}]
[null,106965,1969,"Wood Creos Impregnated","Serviceable","Class 3",2020,100,100,5,{"$f":"INDEX(Lists!$B$32:$B$40, MATCH(2020-C65960, Lists!$C$32:$C$40,1))","v":"51-60"},{"$f":"SUMPRODUCT((Data!$B$17:$B$19=Model!$F65960)*(Data!$C$16:$K$16=Model!$K65960)*(Data!$C$17:$K$19))","v":2.73},86.35,{"$f":"_xlfn.IFS(M65960>70,\"Serviceable\",M65960>30, \"Limited Life\",M65960<=30, \"Unserviceable\")","v":"Serviceable"}]
[null,107115,2011,"CCA Treated Pole","Serviceable","Class 2",2015,150,143.9,10,{"$f":"INDEX(Lists!$B$32:$B$40, MATCH(2020-C66021, Lists!$C$32:$C$40,1))","v":"0-20"},{"$f":"SUMPRODUCT((Data!$B$17:$B$19=Model!$F66021)*(Data!$C$16:$K$16=Model!$K66021)*(Data!$C$17:$K$19))","v":1.22},137.80000000000001,{"$f":"_xlfn.IFS(M66021>70,\"Serviceable\",M66021>30, \"Limited Life\",M66021<=30, \"Unserviceable\")","v":"Serviceable"}]
[null,107151,1938,"Wood Untreated Dressed","Serviceable","Class 1",2015,100,85.95,10,{"$f":"INDEX(Lists!$B$32:$B$40, MATCH(2020-C66038, Lists!$C$32:$C$40,1))","v":"81-90"},{"$f":"SUMPRODUCT((Data!$B$17:$B$19=Model!$F66038)*(Data!$C$16:$K$16=Model!$K66038)*(Data!$C$17:$K$19))","v":2.81},71.900000000000006,{"$f":"_xlfn.IFS(M66038>70,\"Serviceable\",M66038>30, \"Limited Life\",M66038<=30, \"Unserviceable\")","v":"Serviceable"}]
[null,107339,2009,"CCA Treated Pole","Serviceable","Class 2",2020,162.49719689682513,162.49719689682513,5,{"$f":"INDEX(Lists!$B$32:$B$40, MATCH(2020-C66102, Lists!$C$32:$C$40,1))","v":"0-20"},{"$f":"SUMPRODUCT((Data!$B$17:$B$19=Model!$F66102)*(Data!$C$16:$K$16=Model!$K66102)*(Data!$C$17:$K$19))","v":1.22},156.39719689682514,{"$f":"_xlfn.IFS(M66102>70,\"Serviceable\",M66102>30, \"Limited Life\",M66102<=30, \"Unserviceable\")","v":"Serviceable"}]
[null,107641,1974,"Wood Creos Impregnated","Serviceable","Class 1",2017,120,114.75,8,{"$f":"INDEX(Lists!$B$32:$B$40, MATCH(2020-C66191, Lists!$C$32:$C$40,1))","v":"41-50"},{"$f":"SUMPRODUCT((Data!$B$17:$B$19=Model!$F66191)*(Data!$C$16:$K$16=Model!$K66191)*(Data!$C$17:$K$19))","v":1.75},106,{"$f":"_xlfn.IFS(M66191>70,\"Serviceable\",M66191>30, \"Limited Life\",M66191<=30, \"Unserviceable\")","v":"Serviceable"}]
[null,107869,1965,"Wood Creos Impregnated","Serviceable","Class 3",2019,100,97.27,6,{"$f":"INDEX(Lists!$B$32:$B$40, MATCH(2020-C66264, Lists!$C$32:$C$40,1))","v":"51-60"},{"$f":"SUMPRODUCT((Data!$B$17:$B$19=Model!$F66264)*(Data!$C$16:$K$16=Model!$K66264)*(Data!$C$17:$K$19))","v":2.73},83.62,{"$f":"_xlfn.IFS(M66264>70,\"Serviceable\",M66264>30, \"Limited Life\",M66264<=30, \"Unserviceable\")","v":"Serviceable"}]
[null,108045,1965,"Wood Creos Impregnated","Serviceable","Class 3",2017,100,91.81,8,{"$f":"INDEX(Lists!$B$32:$B$40, MATCH(2020-C66344, Lists!$C$32:$C$40,1))","v":"51-60"},{"$f":"SUMPRODUCT((Data!$B$17:$B$19=Model!$F66344)*(Data!$C$16:$K$16=Model!$K66344)*(Data!$C$17:$K$19))","v":2.73},78.16,{"$f":"_xlfn.IFS(M66344>70,\"Serviceable\",M66344>30, \"Limited Life\",M66344<=30, \"Unserviceable\")","v":"Serviceable"}]
[null,108283,1966,"Wood Creos Impregnated","Serviceable","Class 3",2018,100,94.54,7,{"$f":"INDEX(Lists!$B$32:$B$40, MATCH(2020-C66429, Lists!$C$32:$C$40,1))","v":"51-60"},{"$f":"SUMPRODUCT((Data!$B$17:$B$19=Model!$F66429)*(Data!$C$16:$K$16=Model!$K66429)*(Data!$C$17:$K$19))","v":2.73},80.89,{"$f":"_xlfn.IFS(M66429>70,\"Serviceable\",M66429>30, \"Limited Life\",M66429<=30, \"Unserviceable\")","v":"Serviceable"}]
[null,108380,1974,"Wood Creos Impregnated","Serviceable","Class 1",2018,100,96.5,7,{"$f":"INDEX(Lists!$B$32:$B$40, MATCH(2020-C66473, Lists!$C$32:$C$40,1))","v":"41-50"},{"$f":"SUMPRODUCT((Data!$B$17:$B$19=Model!$F66473)*(Data!$C$16:$K$16=Model!$K66473)*(Data!$C$17:$K$19))","v":1.75},87.75,{"$f":"_xlfn.IFS(M66473>70,\"Serviceable\",M66473>30, \"Limited Life\",M66473<=30, \"Unserviceable\")","v":"Serviceable"}]
[null,108499,1969,"Wood Creos Impregnated","Serviceable","Class 3",2015,100,86.35,10,{"$f":"INDEX(Lists!$B$32:$B$40, MATCH(2020-C66514, Lists!$C$32:$C$40,1))","v":"51-60"},{"$f":"SUMPRODUCT((Data!$B$17:$B$19=Model!$F66514)*(Data!$C$16:$K$16=Model!$K66514)*(Data!$C$17:$K$19))","v":2.73},72.7,{"$f":"_xlfn.IFS(M66514>70,\"Serviceable\",M66514>30, \"Limited Life\",M66514<=30, \"Unserviceable\")","v":"Serviceable"}]
[null,108849,1960,"Wood Creos Impregnated","Limited Life","Class 3",2020,70,70,5,{"$f":"INDEX(Lists!$B$32:$B$40, MATCH(2020-C66599, Lists!$C$32:$C$40,1))","v":"51-60"},{"$f":"SUMPRODUCT((Data!$B$17:$B$19=Model!$F66599)*(Data!$C$16:$K$16=Model!$K66599)*(Data!$C$17:$K$19))","v":2.73},56.35,{"$f":"_xlfn.IFS(M66599>70,\"Serviceable\",M66599>30, \"Limited Life\",M66599<=30, \"Unserviceable\")","v":"Limited Life"}]
[null,108986,2009,"CCA Treated Pole","Serviceable","Class 2",2019,162.49719689682513,161.27719689682513,6,{"$f":"INDEX(Lists!$B$32:$B$40, MATCH(2020-C66649, Lists!$C$32:$C$40,1))","v":"0-20"},{"$f":"SUMPRODUCT((Data!$B$17:$B$19=Model!$F66649)*(Data!$C$16:$K$16=Model!$K66649)*(Data!$C$17:$K$19))","v":1.22},155.17719689682514,{"$f":"_xlfn.IFS(M66649>70,\"Serviceable\",M66649>30, \"Limited Life\",M66649<=30, \"Unserviceable\")","v":"Serviceable"}]
[null,109213,1970,"Wood Creos Impregnated","Serviceable","Class 3",2016,120,104.88,9,{"$f":"INDEX(Lists!$B$32:$B$40, MATCH(2020-C66752, Lists!$C$32:$C$40,1))","v":"41-50"},{"$f":"SUMPRODUCT((Data!$B$17:$B$19=Model!$F66752)*(Data!$C$16:$K$16=Model!$K66752)*(Data!$C$17:$K$19))","v":3.78},85.98,{"$f":"_xlfn.IFS(M66752>70,\"Serviceable\",M66752>30, \"Limited Life\",M66752<=30, \"Unserviceable\")","v":"Serviceable"}]
[null,109308,1968,"Wood Creos Impregnated","Limited Life","Class 3",2016,70,59.08,9,{"$f":"INDEX(Lists!$B$32:$B$40, MATCH(2020-C66811, Lists!$C$32:$C$40,1))","v":"51-60"},{"$f":"SUMPRODUCT((Data!$B$17:$B$19=Model!$F66811)*(Data!$C$16:$K$16=Model!$K66811)*(Data!$C$17:$K$19))","v":2.73},45.43,{"$f":"_xlfn.IFS(M66811>70,\"Serviceable\",M66811>30, \"Limited Life\",M66811<=30, \"Unserviceable\")","v":"Limited Life"}]
[null,109448,1954,"Wood Untreated Round","Serviceable","Class 1",2019,80,77.97,6,{"$f":"INDEX(Lists!$B$32:$B$40, MATCH(2020-C66905, Lists!$C$32:$C$40,1))","v":"61-70"},{"$f":"SUMPRODUCT((Data!$B$17:$B$19=Model!$F66905)*(Data!$C$16:$K$16=Model!$K66905)*(Data!$C$17:$K$19))","v":2.0299999999999998},67.819999999999993,{"$f":"_xlfn.IFS(M66905>70,\"Serviceable\",M66905>30, \"Limited Life\",M66905<=30, \"Unserviceable\")","v":"Limited Life"}]
[null,109472,1970,"Wood Creos Impregnated","Serviceable","Class 2",2019,80,76.72,6,{"$f":"INDEX(Lists!$B$32:$B$40, MATCH(2020-C66922, Lists!$C$32:$C$40,1))","v":"41-50"},{"$f":"SUMPRODUCT((Data!$B$17:$B$19=Model!$F66922)*(Data!$C$16:$K$16=Model!$K66922)*(Data!$C$17:$K$19))","v":3.28},60.32,{"$f":"_xlfn.IFS(M66922>70,\"Serviceable\",M66922>30, \"Limited Life\",M66922<=30, \"Unserviceable\")","v":"Limited Life"}]
[null,109610,1970,"Wood Creos Impregnated","Serviceable","Class 3",2019,100,96.22,6,{"$f":"INDEX(Lists!$B$32:$B$40, MATCH(2020-C67020, Lists!$C$32:$C$40,1))","v":"41-50"},{"$f":"SUMPRODUCT((Data!$B$17:$B$19=Model!$F67020)*(Data!$C$16:$K$16=Model!$K67020)*(Data!$C$17:$K$19))","v":3.78},77.319999999999993,{"$f":"_xlfn.IFS(M67020>70,\"Serviceable\",M67020>30, \"Limited Life\",M67020<=30, \"Unserviceable\")","v":"Serviceable"}]
[null,109681,1960,"Wood Creos Impregnated","Serviceable","Class 3",2020,100,100,5,{"$f":"INDEX(Lists!$B$32:$B$40, MATCH(2020-C67075, Lists!$C$32:$C$40,1))","v":"51-60"},{"$f":"SUMPRODUCT((Data!$B$17:$B$19=Model!$F67075)*(Data!$C$16:$K$16=Model!$K67075)*(Data!$C$17:$K$19))","v":2.73},86.35,{"$f":"_xlfn.IFS(M67075>70,\"Serviceable\",M67075>30, \"Limited Life\",M67075<=30, \"Unserviceable\")","v":"Serviceable"}]
[null,109745,1959,"Wood Creos Impregnated","Serviceable","Class 3",2020,120,120,5,{"$f":"INDEX(Lists!$B$32:$B$40, MATCH(2020-C67115, Lists!$C$32:$C$40,1))","v":"61-70"},{"$f":"SUMPRODUCT((Data!$B$17:$B$19=Model!$F67115)*(Data!$C$16:$K$16=Model!$K67115)*(Data!$C$17:$K$19))","v":2.02},109.9,{"$f":"_xlfn.IFS(M67115>70,\"Serviceable\",M67115>30, \"Limited Life\",M67115<=30, \"Unserviceable\")","v":"Serviceable"}]
[null,109919,1937,"Wood Untreated Round","Serviceable","Class 1",2019,120,117.19,6,{"$f":"INDEX(Lists!$B$32:$B$40, MATCH(2020-C67228, Lists!$C$32:$C$40,1))","v":"81-90"},{"$f":"SUMPRODUCT((Data!$B$17:$B$19=Model!$F67228)*(Data!$C$16:$K$16=Model!$K67228)*(Data!$C$17:$K$19))","v":2.81},103.14,{"$f":"_xlfn.IFS(M67228>70,\"Serviceable\",M67228>30, \"Limited Life\",M67228<=30, \"Unserviceable\")","v":"Serviceable"}]
[null,110022,1966,"Wood Creos Impregnated","Serviceable","Class 3",2020,120,120,5,{"$f":"INDEX(Lists!$B$32:$B$40, MATCH(2020-C67313, Lists!$C$32:$C$40,1))","v":"51-60"},{"$f":"SUMPRODUCT((Data!$B$17:$B$19=Model!$F67313)*(Data!$C$16:$K$16=Model!$K67313)*(Data!$C$17:$K$19))","v":2.73},106.35,{"$f":"_xlfn.IFS(M67313>70,\"Serviceable\",M67313>30, \"Limited Life\",M67313<=30, \"Unserviceable\")","v":"Serviceable"}]
[null,110083,2002,"CCA Treated Pole","Serviceable","Class 2",2019,150,148.78,6,{"$f":"INDEX(Lists!$B$32:$B$40, MATCH(2020-C67358, Lists!$C$32:$C$40,1))","v":"0-20"},{"$f":"SUMPRODUCT((Data!$B$17:$B$19=Model!$F67358)*(Data!$C$16:$K$16=Model!$K67358)*(Data!$C$17:$K$19))","v":1.22},142.68,{"$f":"_xlfn.IFS(M67358>70,\"Serviceable\",M67358>30, \"Limited Life\",M67358<=30, \"Unserviceable\")","v":"Serviceable"}]
[null,110144,1937,"Wood Untreated Dressed","Serviceable","Class 1",2020,100,100,5,{"$f":"INDEX(Lists!$B$32:$B$40, MATCH(2020-C67398, Lists!$C$32:$C$40,1))","v":"81-90"},{"$f":"SUMPRODUCT((Data!$B$17:$B$19=Model!$F67398)*(Data!$C$16:$K$16=Model!$K67398)*(Data!$C$17:$K$19))","v":2.81},85.95,{"$f":"_xlfn.IFS(M67398>70,\"Serviceable\",M67398>30, \"Limited Life\",M67398<=30, \"Unserviceable\")","v":"Serviceable"}]
[null,110259,1937,"Wood Untreated Dressed","Serviceable","Class 1",2020,120,120,5,{"$f":"INDEX(Lists!$B$32:$B$40, MATCH(2020-C67486, Lists!$C$32:$C$40,1))","v":"81-90"},{"$f":"SUMPRODUCT((Data!$B$17:$B$19=Model!$F67486)*(Data!$C$16:$K$16=Model!$K67486)*(Data!$C$17:$K$19))","v":2.81},105.95,{"$f":"_xlfn.IFS(M67486>70,\"Serviceable\",M67486>30, \"Limited Life\",M67486<=30, \"Unserviceable\")","v":"Serviceable"}]
[null,110347,2004,"CCA Treated Pole","Serviceable","Class 1",2020,150,150,5,{"$f":"INDEX(Lists!$B$32:$B$40, MATCH(2020-C67551, Lists!$C$32:$C$40,1))","v":"0-20"},{"$f":"SUMPRODUCT((Data!$B$17:$B$19=Model!$F67551)*(Data!$C$16:$K$16=Model!$K67551)*(Data!$C$17:$K$19))","v":1.06},144.69999999999999,{"$f":"_xlfn.IFS(M67551>70,\"Serviceable\",M67551>30, \"Limited Life\",M67551<=30, \"Unserviceable\")","v":"Serviceable"}]
[null,110462,1979,"Wood Creos Impregnated","Serviceable","Class 3",2018,100,92.44,7,{"$f":"INDEX(Lists!$B$32:$B$40, MATCH(2020-C67636, Lists!$C$32:$C$40,1))","v":"41-50"},{"$f":"SUMPRODUCT((Data!$B$17:$B$19=Model!$F67636)*(Data!$C$16:$K$16=Model!$K67636)*(Data!$C$17:$K$19))","v":3.78},73.540000000000006,{"$f":"_xlfn.IFS(M67636>70,\"Serviceable\",M67636>30, \"Limited Life\",M67636<=30, \"Unserviceable\")","v":"Serviceable"}]
[null,110497,2009,"CCA Treated Pole","Serviceable","Class 2",2020,100,100,5,{"$f":"INDEX(Lists!$B$32:$B$40, MATCH(2020-C67662, Lists!$C$32:$C$40,1))","v":"0-20"},{"$f":"SUMPRODUCT((Data!$B$17:$B$19=Model!$F67662)*(Data!$C$16:$K$16=Model!$K67662)*(Data!$C$17:$K$19))","v":1.22},93.9,{"$f":"_xlfn.IFS(M67662>70,\"Serviceable\",M67662>30, \"Limited Life\",M67662<=30, \"Unserviceable\")","v":"Serviceable"}]
[null,110577,1981,"Wood Creos Impregnated","Serviceable","Class 1",2019,100,97.48,6,{"$f":"INDEX(Lists!$B$32:$B$40, MATCH(2020-C67721, Lists!$C$32:$C$40,1))","v":"31-40"},{"$f":"SUMPRODUCT((Data!$B$17:$B$19=Model!$F67721)*(Data!$C$16:$K$16=Model!$K67721)*(Data!$C$17:$K$19))","v":2.52},84.88,{"$f":"_xlfn.IFS(M67721>70,\"Serviceable\",M67721>30, \"Limited Life\",M67721<=30, \"Unserviceable\")","v":"Serviceable"}]
[null,110706,1984,"Wood Untreated Dressed","Serviceable","Class 1",2019,100,97.48,6,{"$f":"INDEX(Lists!$B$32:$B$40, MATCH(2020-C67806, Lists!$C$32:$C$40,1))","v":"31-40"},{"$f":"SUMPRODUCT((Data!$B$17:$B$19=Model!$F67806)*(Data!$C$16:$K$16=Model!$K67806)*(Data!$C$17:$K$19))","v":2.52},84.88,{"$f":"_xlfn.IFS(M67806>70,\"Serviceable\",M67806>30, \"Limited Life\",M67806<=30, \"Unserviceable\")","v":"Serviceable"}]
[null,110816,1968,"Wood Creos Impregnated","Serviceable","Class 3",2015,90,76.349999999999994,10,{"$f":"INDEX(Lists!$B$32:$B$40, MATCH(2020-C67871, Lists!$C$32:$C$40,1))","v":"51-60"},{"$f":"SUMPRODUCT((Data!$B$17:$B$19=Model!$F67871)*(Data!$C$16:$K$16=Model!$K67871)*(Data!$C$17:$K$19))","v":2.73},62.7,{"$f":"_xlfn.IFS(M67871>70,\"Serviceable\",M67871>30, \"Limited Life\",M67871<=30, \"Unserviceable\")","v":"Limited Life"}]
[null,110984,1976,"Wood Creos Impregnated","Serviceable","Class 3",2015,100,81.099999999999994,10,{"$f":"INDEX(Lists!$B$32:$B$40, MATCH(2020-C67959, Lists!$C$32:$C$40,1))","v":"41-50"},{"$f":"SUMPRODUCT((Data!$B$17:$B$19=Model!$F67959)*(Data!$C$16:$K$16=Model!$K67959)*(Data!$C$17:$K$19))","v":3.78},62.2,{"$f":"_xlfn.IFS(M67959>70,\"Serviceable\",M67959>30, \"Limited Life\",M67959<=30, \"Unserviceable\")","v":"Limited Life"}]
[null,111099,1927,"Wood Untreated Round","Serviceable","Class 1",2015,90,79.55,10,{"$f":"INDEX(Lists!$B$32:$B$40, MATCH(2020-C68033, Lists!$C$32:$C$40,1))","v":"90+"},{"$f":"SUMPRODUCT((Data!$B$17:$B$19=Model!$F68033)*(Data!$C$16:$K$16=Model!$K68033)*(Data!$C$17:$K$19))","v":2.09},69.099999999999994,{"$f":"_xlfn.IFS(M68033>70,\"Serviceable\",M68033>30, \"Limited Life\",M68033<=30, \"Unserviceable\")","v":"Limited Life"}]
[null,111224,1966,"Wood Creos Impregnated","Serviceable","Class 3",2020,100,100,5,{"$f":"INDEX(Lists!$B$32:$B$40, MATCH(2020-C68112, Lists!$C$32:$C$40,1))","v":"51-60"},{"$f":"SUMPRODUCT((Data!$B$17:$B$19=Model!$F68112)*(Data!$C$16:$K$16=Model!$K68112)*(Data!$C$17:$K$19))","v":2.73},86.35,{"$f":"_xlfn.IFS(M68112>70,\"Serviceable\",M68112>30, \"Limited Life\",M68112<=30, \"Unserviceable\")","v":"Serviceable"}]
[null,111253,1960,"Wood Creos Impregnated","Limited Life","Class 3",2015,80,66.349999999999994,10,{"$f":"INDEX(Lists!$B$32:$B$40, MATCH(2020-C68129, Lists!$C$32:$C$40,1))","v":"51-60"},{"$f":"SUMPRODUCT((Data!$B$17:$B$19=Model!$F68129)*(Data!$C$16:$K$16=Model!$K68129)*(Data!$C$17:$K$19))","v":2.73},52.7,{"$f":"_xlfn.IFS(M68129>70,\"Serviceable\",M68129>30, \"Limited Life\",M68129<=30, \"Unserviceable\")","v":"Limited Life"}]
[null,111368,1965,"Wood Creos Impregnated","Serviceable","Class 3",2016,90,79.08,9,{"$f":"INDEX(Lists!$B$32:$B$40, MATCH(2020-C68209, Lists!$C$32:$C$40,1))","v":"51-60"},{"$f":"SUMPRODUCT((Data!$B$17:$B$19=Model!$F68209)*(Data!$C$16:$K$16=Model!$K68209)*(Data!$C$17:$K$19))","v":2.73},65.430000000000007,{"$f":"_xlfn.IFS(M68209>70,\"Serviceable\",M68209>30, \"Limited Life\",M68209<=30, \"Unserviceable\")","v":"Limited Life"}]
[null,111489,1959,"Wood Creos Impregnated","Serviceable","Class 3",2016,100,91.92,9,{"$f":"INDEX(Lists!$B$32:$B$40, MATCH(2020-C68282, Lists!$C$32:$C$40,1))","v":"61-70"},{"$f":"SUMPRODUCT((Data!$B$17:$B$19=Model!$F68282)*(Data!$C$16:$K$16=Model!$K68282)*(Data!$C$17:$K$19))","v":2.02},81.819999999999993,{"$f":"_xlfn.IFS(M68282>70,\"Serviceable\",M68282>30, \"Limited Life\",M68282<=30, \"Unserviceable\")","v":"Serviceable"}]
[null,111591,1968,"Wood Creos Impregnated","Serviceable","Class 3",2015,90,76.349999999999994,10,{"$f":"INDEX(Lists!$B$32:$B$40, MATCH(2020-C68337, Lists!$C$32:$C$40,1))","v":"51-60"},{"$f":"SUMPRODUCT((Data!$B$17:$B$19=Model!$F68337)*(Data!$C$16:$K$16=Model!$K68337)*(Data!$C$17:$K$19))","v":2.73},62.7,{"$f":"_xlfn.IFS(M68337>70,\"Serviceable\",M68337>30, \"Limited Life\",M68337<=30, \"Unserviceable\")","v":"Limited Life"}]
[null,111719,1973,"Wood Creos Impregnated","Serviceable","Class 3",2020,100,100,5,{"$f":"INDEX(Lists!$B$32:$B$40, MATCH(2020-C68435, Lists!$C$32:$C$40,1))","v":"41-50"},{"$f":"SUMPRODUCT((Data!$B$17:$B$19=Model!$F68435)*(Data!$C$16:$K$16=Model!$K68435)*(Data!$C$17:$K$19))","v":3.78},81.099999999999994,{"$f":"_xlfn.IFS(M68435>70,\"Serviceable\",M68435>30, \"Limited Life\",M68435<=30, \"Unserviceable\")","v":"Serviceable"}]
[null,111845,1973,"Wood Creos Impregnated","Serviceable","Class 2",2015,100,83.6,10,{"$f":"INDEX(Lists!$B$32:$B$40, MATCH(2020-C68520, Lists!$C$32:$C$40,1))","v":"41-50"},{"$f":"SUMPRODUCT((Data!$B$17:$B$19=Model!$F68520)*(Data!$C$16:$K$16=Model!$K68520)*(Data!$C$17:$K$19))","v":3.28},67.2,{"$f":"_xlfn.IFS(M68520>70,\"Serviceable\",M68520>30, \"Limited Life\",M68520<=30, \"Unserviceable\")","v":"Limited Life"}]
[null,111921,1971,"Wood Creos Impregnated","Serviceable","Class 2",2016,120,106.88,9,{"$f":"INDEX(Lists!$B$32:$B$40, MATCH(2020-C68580, Lists!$C$32:$C$40,1))","v":"41-50"},{"$f":"SUMPRODUCT((Data!$B$17:$B$19=Model!$F68580)*(Data!$C$16:$K$16=Model!$K68580)*(Data!$C$17:$K$19))","v":3.28},90.48,{"$f":"_xlfn.IFS(M68580>70,\"Serviceable\",M68580>30, \"Limited Life\",M68580<=30, \"Unserviceable\")","v":"Serviceable"}]
[null,111952,1980,"Wood Creos Impregnated","Serviceable","Class 2",2016,100,90.68,9,{"$f":"INDEX(Lists!$B$32:$B$40, MATCH(2020-C68605, Lists!$C$32:$C$40,1))","v":"31-40"},{"$f":"SUMPRODUCT((Data!$B$17:$B$19=Model!$F68605)*(Data!$C$16:$K$16=Model!$K68605)*(Data!$C$17:$K$19))","v":2.33},79.03,{"$f":"_xlfn.IFS(M68605>70,\"Serviceable\",M68605>30, \"Limited Life\",M68605<=30, \"Unserviceable\")","v":"Serviceable"}]
[null,112059,1958,"Wood Creos Impregnated","Serviceable","Class 3",2016,100,91.92,9,{"$f":"INDEX(Lists!$B$32:$B$40, MATCH(2020-C68690, Lists!$C$32:$C$40,1))","v":"61-70"},{"$f":"SUMPRODUCT((Data!$B$17:$B$19=Model!$F68690)*(Data!$C$16:$K$16=Model!$K68690)*(Data!$C$17:$K$19))","v":2.02},81.819999999999993,{"$f":"_xlfn.IFS(M68690>70,\"Serviceable\",M68690>30, \"Limited Life\",M68690<=30, \"Unserviceable\")","v":"Serviceable"}]
[null,112203,1967,"Wood Creos Impregnated","Serviceable","Class 3",2018,90,84.54,7,{"$f":"INDEX(Lists!$B$32:$B$40, MATCH(2020-C68789, Lists!$C$32:$C$40,1))","v":"51-60"},{"$f":"SUMPRODUCT((Data!$B$17:$B$19=Model!$F68789)*(Data!$C$16:$K$16=Model!$K68789)*(Data!$C$17:$K$19))","v":2.73},70.89,{"$f":"_xlfn.IFS(M68789>70,\"Serviceable\",M68789>30, \"Limited Life\",M68789<=30, \"Unserviceable\")","v":"Serviceable"}]
[null,112305,1968,"Wood Creos Impregnated","Serviceable","Class 3",2018,100,94.54,7,{"$f":"INDEX(Lists!$B$32:$B$40, MATCH(2020-C68843, Lists!$C$32:$C$40,1))","v":"51-60"},{"$f":"SUMPRODUCT((Data!$B$17:$B$19=Model!$F68843)*(Data!$C$16:$K$16=Model!$K68843)*(Data!$C$17:$K$19))","v":2.73},80.89,{"$f":"_xlfn.IFS(M68843>70,\"Serviceable\",M68843>30, \"Limited Life\",M68843<=30, \"Unserviceable\")","v":"Serviceable"}]
[null,112364,1982,"Wood Untreated Dressed","Serviceable","Class 1",2018,100,94.96,7,{"$f":"INDEX(Lists!$B$32:$B$40, MATCH(2020-C68884, Lists!$C$32:$C$40,1))","v":"31-40"},{"$f":"SUMPRODUCT((Data!$B$17:$B$19=Model!$F68884)*(Data!$C$16:$K$16=Model!$K68884)*(Data!$C$17:$K$19))","v":2.52},82.36,{"$f":"_xlfn.IFS(M68884>70,\"Serviceable\",M68884>30, \"Limited Life\",M68884<=30, \"Unserviceable\")","v":"Serviceable"}]
[null,112509,1968,"Wood Creos Impregnated","Serviceable","Class 3",2018,100,94.54,7,{"$f":"INDEX(Lists!$B$32:$B$40, MATCH(2020-C68996, Lists!$C$32:$C$40,1))","v":"51-60"},{"$f":"SUMPRODUCT((Data!$B$17:$B$19=Model!$F68996)*(Data!$C$16:$K$16=Model!$K68996)*(Data!$C$17:$K$19))","v":2.73},80.89,{"$f":"_xlfn.IFS(M68996>70,\"Serviceable\",M68996>30, \"Limited Life\",M68996<=30, \"Unserviceable\")","v":"Serviceable"}]
[null,112536,1972,"Wood Creos Impregnated","Serviceable","Class 3",2018,100,92.44,7,{"$f":"INDEX(Lists!$B$32:$B$40, MATCH(2020-C69013, Lists!$C$32:$C$40,1))","v":"41-50"},{"$f":"SUMPRODUCT((Data!$B$17:$B$19=Model!$F69013)*(Data!$C$16:$K$16=Model!$K69013)*(Data!$C$17:$K$19))","v":3.78},73.540000000000006,{"$f":"_xlfn.IFS(M69013>70,\"Serviceable\",M69013>30, \"Limited Life\",M69013<=30, \"Unserviceable\")","v":"Serviceable"}]
[null,112675,1972,"Wood Creos Impregnated","Serviceable","Class 1",2018,120,116.5,7,{"$f":"INDEX(Lists!$B$32:$B$40, MATCH(2020-C69127, Lists!$C$32:$C$40,1))","v":"41-50"},{"$f":"SUMPRODUCT((Data!$B$17:$B$19=Model!$F69127)*(Data!$C$16:$K$16=Model!$K69127)*(Data!$C$17:$K$19))","v":1.75},107.75,{"$f":"_xlfn.IFS(M69127>70,\"Serviceable\",M69127>30, \"Limited Life\",M69127<=30, \"Unserviceable\")","v":"Serviceable"}]
[null,112726,1976,"Wood Creos Impregnated","Serviceable","Class 3",2018,130,122.44,7,{"$f":"INDEX(Lists!$B$32:$B$40, MATCH(2020-C69166, Lists!$C$32:$C$40,1))","v":"41-50"},{"$f":"SUMPRODUCT((Data!$B$17:$B$19=Model!$F69166)*(Data!$C$16:$K$16=Model!$K69166)*(Data!$C$17:$K$19))","v":3.78},103.54,{"$f":"_xlfn.IFS(M69166>70,\"Serviceable\",M69166>30, \"Limited Life\",M69166<=30, \"Unserviceable\")","v":"Serviceable"}]
[null,112857,1969,"Wood Creos Impregnated","Serviceable","Class 3",2018,120,114.54,7,{"$f":"INDEX(Lists!$B$32:$B$40, MATCH(2020-C69255, Lists!$C$32:$C$40,1))","v":"51-60"},{"$f":"SUMPRODUCT((Data!$B$17:$B$19=Model!$F69255)*(Data!$C$16:$K$16=Model!$K69255)*(Data!$C$17:$K$19))","v":2.73},100.89,{"$f":"_xlfn.IFS(M69255>70,\"Serviceable\",M69255>30, \"Limited Life\",M69255<=30, \"Unserviceable\")","v":"Serviceable"}]
[null,112958,1961,"Wood Creos Impregnated","Serviceable","Class 3",2020,100,100,5,{"$f":"INDEX(Lists!$B$32:$B$40, MATCH(2020-C69319, Lists!$C$32:$C$40,1))","v":"51-60"},{"$f":"SUMPRODUCT((Data!$B$17:$B$19=Model!$F69319)*(Data!$C$16:$K$16=Model!$K69319)*(Data!$C$17:$K$19))","v":2.73},86.35,{"$f":"_xlfn.IFS(M69319>70,\"Serviceable\",M69319>30, \"Limited Life\",M69319<=30, \"Unserviceable\")","v":"Serviceable"}]
[null,113095,1966,"Wood Creos Impregnated","Serviceable","Class 3",2020,100,100,5,{"$f":"INDEX(Lists!$B$32:$B$40, MATCH(2020-C69404, Lists!$C$32:$C$40,1))","v":"51-60"},{"$f":"SUMPRODUCT((Data!$B$17:$B$19=Model!$F69404)*(Data!$C$16:$K$16=Model!$K69404)*(Data!$C$17:$K$19))","v":2.73},86.35,{"$f":"_xlfn.IFS(M69404>70,\"Serviceable\",M69404>30, \"Limited Life\",M69404<=30, \"Unserviceable\")","v":"Serviceable"}]
[null,113126,1972,"Wood Creos Impregnated","Serviceable","Class 3",2019,100,96.22,6,{"$f":"INDEX(Lists!$B$32:$B$40, MATCH(2020-C69431, Lists!$C$32:$C$40,1))","v":"41-50"},{"$f":"SUMPRODUCT((Data!$B$17:$B$19=Model!$F69431)*(Data!$C$16:$K$16=Model!$K69431)*(Data!$C$17:$K$19))","v":3.78},77.319999999999993,{"$f":"_xlfn.IFS(M69431>70,\"Serviceable\",M69431>30, \"Limited Life\",M69431<=30, \"Unserviceable\")","v":"Serviceable"}]
[null,113224,1976,"Wood Creos Impregnated","Serviceable","Class 1",2020,130,130,5,{"$f":"INDEX(Lists!$B$32:$B$40, MATCH(2020-C69489, Lists!$C$32:$C$40,1))","v":"41-50"},{"$f":"SUMPRODUCT((Data!$B$17:$B$19=Model!$F69489)*(Data!$C$16:$K$16=Model!$K69489)*(Data!$C$17:$K$19))","v":1.75},121.25,{"$f":"_xlfn.IFS(M69489>70,\"Serviceable\",M69489>30, \"Limited Life\",M69489<=30, \"Unserviceable\")","v":"Serviceable"}]
[null,113385,1962,"Wood Creos Impregnated","Serviceable","Class 3",2019,100,97.27,6,{"$f":"INDEX(Lists!$B$32:$B$40, MATCH(2020-C69574, Lists!$C$32:$C$40,1))","v":"51-60"},{"$f":"SUMPRODUCT((Data!$B$17:$B$19=Model!$F69574)*(Data!$C$16:$K$16=Model!$K69574)*(Data!$C$17:$K$19))","v":2.73},83.62,{"$f":"_xlfn.IFS(M69574>70,\"Serviceable\",M69574>30, \"Limited Life\",M69574<=30, \"Unserviceable\")","v":"Serviceable"}]
[null,113522,1975,"Wood Creos Impregnated","Serviceable","Class 3",2016,100,84.88,9,{"$f":"INDEX(Lists!$B$32:$B$40, MATCH(2020-C69674, Lists!$C$32:$C$40,1))","v":"41-50"},{"$f":"SUMPRODUCT((Data!$B$17:$B$19=Model!$F69674)*(Data!$C$16:$K$16=Model!$K69674)*(Data!$C$17:$K$19))","v":3.78},65.98,{"$f":"_xlfn.IFS(M69674>70,\"Serviceable\",M69674>30, \"Limited Life\",M69674<=30, \"Unserviceable\")","v":"Limited Life"}]
[null,113601,1988,"Wood Untreated Dressed","Serviceable","Class 1",2015,140,127.4,10,{"$f":"INDEX(Lists!$B$32:$B$40, MATCH(2020-C69727, Lists!$C$32:$C$40,1))","v":"31-40"},{"$f":"SUMPRODUCT((Data!$B$17:$B$19=Model!$F69727)*(Data!$C$16:$K$16=Model!$K69727)*(Data!$C$17:$K$19))","v":2.52},114.8,{"$f":"_xlfn.IFS(M69727>70,\"Serviceable\",M69727>30, \"Limited Life\",M69727<=30, \"Unserviceable\")","v":"Serviceable"}]
[null,113721,1974,"Wood Creos Impregnated","Serviceable","Class 3",2015,100,81.099999999999994,10,{"$f":"INDEX(Lists!$B$32:$B$40, MATCH(2020-C69802, Lists!$C$32:$C$40,1))","v":"41-50"},{"$f":"SUMPRODUCT((Data!$B$17:$B$19=Model!$F69802)*(Data!$C$16:$K$16=Model!$K69802)*(Data!$C$17:$K$19))","v":3.78},62.2,{"$f":"_xlfn.IFS(M69802>70,\"Serviceable\",M69802>30, \"Limited Life\",M69802<=30, \"Unserviceable\")","v":"Limited Life"}]
[null,113826,1973,"Wood Creos Impregnated","Serviceable","Class 3",2019,90,86.22,6,{"$f":"INDEX(Lists!$B$32:$B$40, MATCH(2020-C69880, Lists!$C$32:$C$40,1))","v":"41-50"},{"$f":"SUMPRODUCT((Data!$B$17:$B$19=Model!$F69880)*(Data!$C$16:$K$16=Model!$K69880)*(Data!$C$17:$K$19))","v":3.78},67.319999999999993,{"$f":"_xlfn.IFS(M69880>70,\"Serviceable\",M69880>30, \"Limited Life\",M69880<=30, \"Unserviceable\")","v":"Limited Life"}]
[null,113858,1966,"Wood Creos Impregnated","Serviceable","Class 3",2020,120,120,5,{"$f":"INDEX(Lists!$B$32:$B$40, MATCH(2020-C69897, Lists!$C$32:$C$40,1))","v":"51-60"},{"$f":"SUMPRODUCT((Data!$B$17:$B$19=Model!$F69897)*(Data!$C$16:$K$16=Model!$K69897)*(Data!$C$17:$K$19))","v":2.73},106.35,{"$f":"_xlfn.IFS(M69897>70,\"Serviceable\",M69897>30, \"Limited Life\",M69897<=30, \"Unserviceable\")","v":"Serviceable"}]
[null,114080,1980,"Wood Creos Impregnated","Serviceable","Class 3",2020,100,100,5,{"$f":"INDEX(Lists!$B$32:$B$40, MATCH(2020-C69978, Lists!$C$32:$C$40,1))","v":"31-40"},{"$f":"SUMPRODUCT((Data!$B$17:$B$19=Model!$F69978)*(Data!$C$16:$K$16=Model!$K69978)*(Data!$C$17:$K$19))","v":3.22},83.9,{"$f":"_xlfn.IFS(M69978>70,\"Serviceable\",M69978>30, \"Limited Life\",M69978<=30, \"Unserviceable\")","v":"Serviceable"}]
[null,114247,1989,"Wood Untreated Dressed","Serviceable","Class 1",2020,100,100,5,{"$f":"INDEX(Lists!$B$32:$B$40, MATCH(2020-C70050, Lists!$C$32:$C$40,1))","v":"31-40"},{"$f":"SUMPRODUCT((Data!$B$17:$B$19=Model!$F70050)*(Data!$C$16:$K$16=Model!$K70050)*(Data!$C$17:$K$19))","v":2.52},87.4,{"$f":"_xlfn.IFS(M70050>70,\"Serviceable\",M70050>30, \"Limited Life\",M70050<=30, \"Unserviceable\")","v":"Serviceable"}]
[null,114446,2003,"CCA Treated Pole","Serviceable","Class 2",2018,150,147.56,7,{"$f":"INDEX(Lists!$B$32:$B$40, MATCH(2020-C70106, Lists!$C$32:$C$40,1))","v":"0-20"},{"$f":"SUMPRODUCT((Data!$B$17:$B$19=Model!$F70106)*(Data!$C$16:$K$16=Model!$K70106)*(Data!$C$17:$K$19))","v":1.22},141.46,{"$f":"_xlfn.IFS(M70106>70,\"Serviceable\",M70106>30, \"Limited Life\",M70106<=30, \"Unserviceable\")","v":"Serviceable"}]
[null,114738,1965,"Wood Creos Impregnated","Serviceable","Class 3",2019,120,117.27,6,{"$f":"INDEX(Lists!$B$32:$B$40, MATCH(2020-C70203, Lists!$C$32:$C$40,1))","v":"51-60"},{"$f":"SUMPRODUCT((Data!$B$17:$B$19=Model!$F70203)*(Data!$C$16:$K$16=Model!$K70203)*(Data!$C$17:$K$19))","v":2.73},103.62,{"$f":"_xlfn.IFS(M70203>70,\"Serviceable\",M70203>30, \"Limited Life\",M70203<=30, \"Unserviceable\")","v":"Serviceable"}]
[null,114980,1969,"Wood Creos Impregnated","Serviceable","Class 3",2020,100,100,5,{"$f":"INDEX(Lists!$B$32:$B$40, MATCH(2020-C70288, Lists!$C$32:$C$40,1))","v":"51-60"},{"$f":"SUMPRODUCT((Data!$B$17:$B$19=Model!$F70288)*(Data!$C$16:$K$16=Model!$K70288)*(Data!$C$17:$K$19))","v":2.73},86.35,{"$f":"_xlfn.IFS(M70288>70,\"Serviceable\",M70288>30, \"Limited Life\",M70288<=30, \"Unserviceable\")","v":"Serviceable"}]
[null,115115,1968,"Wood Creos Impregnated","Serviceable","Class 3",2018,100,94.54,7,{"$f":"INDEX(Lists!$B$32:$B$40, MATCH(2020-C70349, Lists!$C$32:$C$40,1))","v":"51-60"},{"$f":"SUMPRODUCT((Data!$B$17:$B$19=Model!$F70349)*(Data!$C$16:$K$16=Model!$K70349)*(Data!$C$17:$K$19))","v":2.73},80.89,{"$f":"_xlfn.IFS(M70349>70,\"Serviceable\",M70349>30, \"Limited Life\",M70349<=30, \"Unserviceable\")","v":"Serviceable"}]
[null,115169,1958,"Wood Creos Impregnated","Serviceable","Class 3",2018,100,95.96,7,{"$f":"INDEX(Lists!$B$32:$B$40, MATCH(2020-C70373, Lists!$C$32:$C$40,1))","v":"61-70"},{"$f":"SUMPRODUCT((Data!$B$17:$B$19=Model!$F70373)*(Data!$C$16:$K$16=Model!$K70373)*(Data!$C$17:$K$19))","v":2.02},85.86,{"$f":"_xlfn.IFS(M70373>70,\"Serviceable\",M70373>30, \"Limited Life\",M70373<=30, \"Unserviceable\")","v":"Serviceable"}]
[null,115487,1973,"Wood Creos Impregnated","Serviceable","Class 3",2019,171.56902865306319,167.78902865306318,6,{"$f":"INDEX(Lists!$B$32:$B$40, MATCH(2020-C70477, Lists!$C$32:$C$40,1))","v":"41-50"},{"$f":"SUMPRODUCT((Data!$B$17:$B$19=Model!$F70477)*(Data!$C$16:$K$16=Model!$K70477)*(Data!$C$17:$K$19))","v":3.78},148.88902865306318,{"$f":"_xlfn.IFS(M70477>70,\"Serviceable\",M70477>30, \"Limited Life\",M70477<=30, \"Unserviceable\")","v":"Serviceable"}]
[null,115623,1984,"Wood Untreated Dressed","Serviceable","Class 1",2020,100,100,5,{"$f":"INDEX(Lists!$B$32:$B$40, MATCH(2020-C70542, Lists!$C$32:$C$40,1))","v":"31-40"},{"$f":"SUMPRODUCT((Data!$B$17:$B$19=Model!$F70542)*(Data!$C$16:$K$16=Model!$K70542)*(Data!$C$17:$K$19))","v":2.52},87.4,{"$f":"_xlfn.IFS(M70542>70,\"Serviceable\",M70542>30, \"Limited Life\",M70542<=30, \"Unserviceable\")","v":"Serviceable"}]
[null,115881,1981,"Wood Creos Impregnated","Serviceable","Class 1",2019,100,97.48,6,{"$f":"INDEX(Lists!$B$32:$B$40, MATCH(2020-C70611, Lists!$C$32:$C$40,1))","v":"31-40"},{"$f":"SUMPRODUCT((Data!$B$17:$B$19=Model!$F70611)*(Data!$C$16:$K$16=Model!$K70611)*(Data!$C$17:$K$19))","v":2.52},84.88,{"$f":"_xlfn.IFS(M70611>70,\"Serviceable\",M70611>30, \"Limited Life\",M70611<=30, \"Unserviceable\")","v":"Serviceable"}]
[null,115970,1993,"Wood Untreated Dressed","Serviceable","Class 1",2018,150,146.08000000000001,7,{"$f":"INDEX(Lists!$B$32:$B$40, MATCH(2020-C70653, Lists!$C$32:$C$40,1))","v":"21-30"},{"$f":"SUMPRODUCT((Data!$B$17:$B$19=Model!$F70653)*(Data!$C$16:$K$16=Model!$K70653)*(Data!$C$17:$K$19))","v":1.96},136.28,{"$f":"_xlfn.IFS(M70653>70,\"Serviceable\",M70653>30, \"Limited Life\",M70653<=30, \"Unserviceable\")","v":"Serviceable"}]
[null,116100,1980,"Wood Creos Impregnated","Serviceable","Class 3",2018,100,93.56,7,{"$f":"INDEX(Lists!$B$32:$B$40, MATCH(2020-C70696, Lists!$C$32:$C$40,1))","v":"31-40"},{"$f":"SUMPRODUCT((Data!$B$17:$B$19=Model!$F70696)*(Data!$C$16:$K$16=Model!$K70696)*(Data!$C$17:$K$19))","v":3.22},77.459999999999994,{"$f":"_xlfn.IFS(M70696>70,\"Serviceable\",M70696>30, \"Limited Life\",M70696<=30, \"Unserviceable\")","v":"Serviceable"}]
[null,116261,1980,"Wood Creos Impregnated","Serviceable","Class 3",2018,100,93.56,7,{"$f":"INDEX(Lists!$B$32:$B$40, MATCH(2020-C70781, Lists!$C$32:$C$40,1))","v":"31-40"},{"$f":"SUMPRODUCT((Data!$B$17:$B$19=Model!$F70781)*(Data!$C$16:$K$16=Model!$K70781)*(Data!$C$17:$K$19))","v":3.22},77.459999999999994,{"$f":"_xlfn.IFS(M70781>70,\"Serviceable\",M70781>30, \"Limited Life\",M70781<=30, \"Unserviceable\")","v":"Serviceable"}]
[null,116516,1964,"Wood Creos Impregnated","Serviceable","Class 3",2019,100,97.27,6,{"$f":"INDEX(Lists!$B$32:$B$40, MATCH(2020-C70896, Lists!$C$32:$C$40,1))","v":"51-60"},{"$f":"SUMPRODUCT((Data!$B$17:$B$19=Model!$F70896)*(Data!$C$16:$K$16=Model!$K70896)*(Data!$C$17:$K$19))","v":2.73},83.62,{"$f":"_xlfn.IFS(M70896>70,\"Serviceable\",M70896>30, \"Limited Life\",M70896<=30, \"Unserviceable\")","v":"Serviceable"}]
[null,116634,1965,"Wood Creos Impregnated","Serviceable","Class 3",2019,100,97.27,6,{"$f":"INDEX(Lists!$B$32:$B$40, MATCH(2020-C70934, Lists!$C$32:$C$40,1))","v":"51-60"},{"$f":"SUMPRODUCT((Data!$B$17:$B$19=Model!$F70934)*(Data!$C$16:$K$16=Model!$K70934)*(Data!$C$17:$K$19))","v":2.73},83.62,{"$f":"_xlfn.IFS(M70934>70,\"Serviceable\",M70934>30, \"Limited Life\",M70934<=30, \"Unserviceable\")","v":"Serviceable"}]
[null,116937,1979,"Wood Creos Impregnated","Serviceable","Class 3",2019,120,116.22,6,{"$f":"INDEX(Lists!$B$32:$B$40, MATCH(2020-C71024, Lists!$C$32:$C$40,1))","v":"41-50"},{"$f":"SUMPRODUCT((Data!$B$17:$B$19=Model!$F71024)*(Data!$C$16:$K$16=Model!$K71024)*(Data!$C$17:$K$19))","v":3.78},97.32,{"$f":"_xlfn.IFS(M71024>70,\"Serviceable\",M71024>30, \"Limited Life\",M71024<=30, \"Unserviceable\")","v":"Serviceable"}]
[null,116968,1957,"Wood Creos Impregnated","Serviceable","Class 3",2019,100,97.98,6,{"$f":"INDEX(Lists!$B$32:$B$40, MATCH(2020-C71035, Lists!$C$32:$C$40,1))","v":"61-70"},{"$f":"SUMPRODUCT((Data!$B$17:$B$19=Model!$F71035)*(Data!$C$16:$K$16=Model!$K71035)*(Data!$C$17:$K$19))","v":2.02},87.88,{"$f":"_xlfn.IFS(M71035>70,\"Serviceable\",M71035>30, \"Limited Life\",M71035<=30, \"Unserviceable\")","v":"Serviceable"}]
[null,117140,1976,"Wood Creos Impregnated","Serviceable","Class 1",2019,120,118.25,6,{"$f":"INDEX(Lists!$B$32:$B$40, MATCH(2020-C71104, Lists!$C$32:$C$40,1))","v":"41-50"},{"$f":"SUMPRODUCT((Data!$B$17:$B$19=Model!$F71104)*(Data!$C$16:$K$16=Model!$K71104)*(Data!$C$17:$K$19))","v":1.75},109.5,{"$f":"_xlfn.IFS(M71104>70,\"Serviceable\",M71104>30, \"Limited Life\",M71104<=30, \"Unserviceable\")","v":"Serviceable"}]
[null,117448,2009,"CCA Treated Pole","Serviceable","Class 2",2018,120,117.56,7,{"$f":"INDEX(Lists!$B$32:$B$40, MATCH(2020-C71200, Lists!$C$32:$C$40,1))","v":"0-20"},{"$f":"SUMPRODUCT((Data!$B$17:$B$19=Model!$F71200)*(Data!$C$16:$K$16=Model!$K71200)*(Data!$C$17:$K$19))","v":1.22},111.46000000000001,{"$f":"_xlfn.IFS(M71200>70,\"Serviceable\",M71200>30, \"Limited Life\",M71200<=30, \"Unserviceable\")","v":"Serviceable"}]
[null,117619,1984,"Wood Untreated Dressed","Serviceable","Class 1",2019,100,97.48,6,{"$f":"INDEX(Lists!$B$32:$B$40, MATCH(2020-C71257, Lists!$C$32:$C$40,1))","v":"31-40"},{"$f":"SUMPRODUCT((Data!$B$17:$B$19=Model!$F71257)*(Data!$C$16:$K$16=Model!$K71257)*(Data!$C$17:$K$19))","v":2.52},84.88,{"$f":"_xlfn.IFS(M71257>70,\"Serviceable\",M71257>30, \"Limited Life\",M71257<=30, \"Unserviceable\")","v":"Serviceable"}]
[null,117922,1984,"Wood Creos Impregnated","Serviceable","Class 3",2019,100,96.78,6,{"$f":"INDEX(Lists!$B$32:$B$40, MATCH(2020-C71328, Lists!$C$32:$C$40,1))","v":"31-40"},{"$f":"SUMPRODUCT((Data!$B$17:$B$19=Model!$F71328)*(Data!$C$16:$K$16=Model!$K71328)*(Data!$C$17:$K$19))","v":3.22},80.680000000000007,{"$f":"_xlfn.IFS(M71328>70,\"Serviceable\",M71328>30, \"Limited Life\",M71328<=30, \"Unserviceable\")","v":"Serviceable"}]
[null,118391,1965,"Wood Creos Impregnated","Serviceable","Class 3",2018,130,124.54,7,{"$f":"INDEX(Lists!$B$32:$B$40, MATCH(2020-C71426, Lists!$C$32:$C$40,1))","v":"51-60"},{"$f":"SUMPRODUCT((Data!$B$17:$B$19=Model!$F71426)*(Data!$C$16:$K$16=Model!$K71426)*(Data!$C$17:$K$19))","v":2.73},110.89,{"$f":"_xlfn.IFS(M71426>70,\"Serviceable\",M71426>30, \"Limited Life\",M71426<=30, \"Unserviceable\")","v":"Serviceable"}]
[null,118539,2006,"CCA Treated Pole","Serviceable","Class 2",2020,160,160,5,{"$f":"INDEX(Lists!$B$32:$B$40, MATCH(2020-C71495, Lists!$C$32:$C$40,1))","v":"0-20"},{"$f":"SUMPRODUCT((Data!$B$17:$B$19=Model!$F71495)*(Data!$C$16:$K$16=Model!$K71495)*(Data!$C$17:$K$19))","v":1.22},153.9,{"$f":"_xlfn.IFS(M71495>70,\"Serviceable\",M71495>30, \"Limited Life\",M71495<=30, \"Unserviceable\")","v":"Serviceable"}]
[null,118714,1965,"Wood Creos Impregnated","Serviceable","Class 3",2019,90,87.27,6,{"$f":"INDEX(Lists!$B$32:$B$40, MATCH(2020-C71571, Lists!$C$32:$C$40,1))","v":"51-60"},{"$f":"SUMPRODUCT((Data!$B$17:$B$19=Model!$F71571)*(Data!$C$16:$K$16=Model!$K71571)*(Data!$C$17:$K$19))","v":2.73},73.62,{"$f":"_xlfn.IFS(M71571>70,\"Serviceable\",M71571>30, \"Limited Life\",M71571<=30, \"Unserviceable\")","v":"Serviceable"}]
[null,118731,1981,"Wood Creos Impregnated","Serviceable","Class 2",2019,100,97.67,6,{"$f":"INDEX(Lists!$B$32:$B$40, MATCH(2020-C71580, Lists!$C$32:$C$40,1))","v":"31-40"},{"$f":"SUMPRODUCT((Data!$B$17:$B$19=Model!$F71580)*(Data!$C$16:$K$16=Model!$K71580)*(Data!$C$17:$K$19))","v":2.33},86.02,{"$f":"_xlfn.IFS(M71580>70,\"Serviceable\",M71580>30, \"Limited Life\",M71580<=30, \"Unserviceable\")","v":"Serviceable"}]
[null,118947,1987,"Wood Untreated Dressed","Serviceable","Class 1",2015,130,117.4,10,{"$f":"INDEX(Lists!$B$32:$B$40, MATCH(2020-C71665, Lists!$C$32:$C$40,1))","v":"31-40"},{"$f":"SUMPRODUCT((Data!$B$17:$B$19=Model!$F71665)*(Data!$C$16:$K$16=Model!$K71665)*(Data!$C$17:$K$19))","v":2.52},104.8,{"$f":"_xlfn.IFS(M71665>70,\"Serviceable\",M71665>30, \"Limited Life\",M71665<=30, \"Unserviceable\")","v":"Serviceable"}]
[null,119164,1983,"Wood Creos Impregnated","Serviceable","Class 3",2020,120,120,5,{"$f":"INDEX(Lists!$B$32:$B$40, MATCH(2020-C71747, Lists!$C$32:$C$40,1))","v":"31-40"},{"$f":"SUMPRODUCT((Data!$B$17:$B$19=Model!$F71747)*(Data!$C$16:$K$16=Model!$K71747)*(Data!$C$17:$K$19))","v":3.22},103.9,{"$f":"_xlfn.IFS(M71747>70,\"Serviceable\",M71747>30, \"Limited Life\",M71747<=30, \"Unserviceable\")","v":"Serviceable"}]
[null,119327,1976,"Wood Creos Impregnated","Serviceable","Class 3",2019,100,96.22,6,{"$f":"INDEX(Lists!$B$32:$B$40, MATCH(2020-C71818, Lists!$C$32:$C$40,1))","v":"41-50"},{"$f":"SUMPRODUCT((Data!$B$17:$B$19=Model!$F71818)*(Data!$C$16:$K$16=Model!$K71818)*(Data!$C$17:$K$19))","v":3.78},77.319999999999993,{"$f":"_xlfn.IFS(M71818>70,\"Serviceable\",M71818>30, \"Limited Life\",M71818<=30, \"Unserviceable\")","v":"Serviceable"}]
[null,119442,1977,"Wood Untreated Round","Serviceable","Class 1",2017,140,134.75,8,{"$f":"INDEX(Lists!$B$32:$B$40, MATCH(2020-C71875, Lists!$C$32:$C$40,1))","v":"41-50"},{"$f":"SUMPRODUCT((Data!$B$17:$B$19=Model!$F71875)*(Data!$C$16:$K$16=Model!$K71875)*(Data!$C$17:$K$19))","v":1.75},126,{"$f":"_xlfn.IFS(M71875>70,\"Serviceable\",M71875>30, \"Limited Life\",M71875<=30, \"Unserviceable\")","v":"Serviceable"}]
[null,119546,1972,"Wood Creos Impregnated","Serviceable","Class 3",2017,100,88.66,8,{"$f":"INDEX(Lists!$B$32:$B$40, MATCH(2020-C71919, Lists!$C$32:$C$40,1))","v":"41-50"},{"$f":"SUMPRODUCT((Data!$B$17:$B$19=Model!$F71919)*(Data!$C$16:$K$16=Model!$K71919)*(Data!$C$17:$K$19))","v":3.78},69.760000000000005,{"$f":"_xlfn.IFS(M71919>70,\"Serviceable\",M71919>30, \"Limited Life\",M71919<=30, \"Unserviceable\")","v":"Limited Life"}]
[null,119677,1976,"Wood Creos Impregnated","Serviceable","Class 3",2020,100,100,5,{"$f":"INDEX(Lists!$B$32:$B$40, MATCH(2020-C71988, Lists!$C$32:$C$40,1))","v":"41-50"},{"$f":"SUMPRODUCT((Data!$B$17:$B$19=Model!$F71988)*(Data!$C$16:$K$16=Model!$K71988)*(Data!$C$17:$K$19))","v":3.78},81.099999999999994,{"$f":"_xlfn.IFS(M71988>70,\"Serviceable\",M71988>30, \"Limited Life\",M71988<=30, \"Unserviceable\")","v":"Serviceable"}]
[null,119815,1963,"Wood Creos Impregnated","Serviceable","Class 3",2020,100,100,5,{"$f":"INDEX(Lists!$B$32:$B$40, MATCH(2020-C72051, Lists!$C$32:$C$40,1))","v":"51-60"},{"$f":"SUMPRODUCT((Data!$B$17:$B$19=Model!$F72051)*(Data!$C$16:$K$16=Model!$K72051)*(Data!$C$17:$K$19))","v":2.73},86.35,{"$f":"_xlfn.IFS(M72051>70,\"Serviceable\",M72051>30, \"Limited Life\",M72051<=30, \"Unserviceable\")","v":"Serviceable"}]
[null,120026,1971,"Wood Creos Impregnated","Serviceable","Class 3",2017,100,88.66,8,{"$f":"INDEX(Lists!$B$32:$B$40, MATCH(2020-C72141, Lists!$C$32:$C$40,1))","v":"41-50"},{"$f":"SUMPRODUCT((Data!$B$17:$B$19=Model!$F72141)*(Data!$C$16:$K$16=Model!$K72141)*(Data!$C$17:$K$19))","v":3.78},69.760000000000005,{"$f":"_xlfn.IFS(M72141>70,\"Serviceable\",M72141>30, \"Limited Life\",M72141<=30, \"Unserviceable\")","v":"Limited Life"}]
[null,120267,1970,"Wood Creos Impregnated","Serviceable","Class 3",2016,120,104.88,9,{"$f":"INDEX(Lists!$B$32:$B$40, MATCH(2020-C72246, Lists!$C$32:$C$40,1))","v":"41-50"},{"$f":"SUMPRODUCT((Data!$B$17:$B$19=Model!$F72246)*(Data!$C$16:$K$16=Model!$K72246)*(Data!$C$17:$K$19))","v":3.78},85.98,{"$f":"_xlfn.IFS(M72246>70,\"Serviceable\",M72246>30, \"Limited Life\",M72246<=30, \"Unserviceable\")","v":"Serviceable"}]
[null,120426,1978,"Wood Creos Impregnated","Serviceable","Class 2",2017,100,90.16,8,{"$f":"INDEX(Lists!$B$32:$B$40, MATCH(2020-C72310, Lists!$C$32:$C$40,1))","v":"41-50"},{"$f":"SUMPRODUCT((Data!$B$17:$B$19=Model!$F72310)*(Data!$C$16:$K$16=Model!$K72310)*(Data!$C$17:$K$19))","v":3.28},73.760000000000005,{"$f":"_xlfn.IFS(M72310>70,\"Serviceable\",M72310>30, \"Limited Life\",M72310<=30, \"Unserviceable\")","v":"Serviceable"}]
[null,120625,1969,"Wood Creos Impregnated","Serviceable","Class 3",2017,100,91.81,8,{"$f":"INDEX(Lists!$B$32:$B$40, MATCH(2020-C72379, Lists!$C$32:$C$40,1))","v":"51-60"},{"$f":"SUMPRODUCT((Data!$B$17:$B$19=Model!$F72379)*(Data!$C$16:$K$16=Model!$K72379)*(Data!$C$17:$K$19))","v":2.73},78.16,{"$f":"_xlfn.IFS(M72379>70,\"Serviceable\",M72379>30, \"Limited Life\",M72379<=30, \"Unserviceable\")","v":"Serviceable"}]
[null,120714,1966,"Wood Creos Impregnated","Serviceable","Class 3",2016,100,89.08,9,{"$f":"INDEX(Lists!$B$32:$B$40, MATCH(2020-C72422, Lists!$C$32:$C$40,1))","v":"51-60"},{"$f":"SUMPRODUCT((Data!$B$17:$B$19=Model!$F72422)*(Data!$C$16:$K$16=Model!$K72422)*(Data!$C$17:$K$19))","v":2.73},75.430000000000007,{"$f":"_xlfn.IFS(M72422>70,\"Serviceable\",M72422>30, \"Limited Life\",M72422<=30, \"Unserviceable\")","v":"Serviceable"}]
[null,120808,1966,"Wood Creos Impregnated","Serviceable","Class 3",2018,90,84.54,7,{"$f":"INDEX(Lists!$B$32:$B$40, MATCH(2020-C72464, Lists!$C$32:$C$40,1))","v":"51-60"},{"$f":"SUMPRODUCT((Data!$B$17:$B$19=Model!$F72464)*(Data!$C$16:$K$16=Model!$K72464)*(Data!$C$17:$K$19))","v":2.73},70.89,{"$f":"_xlfn.IFS(M72464>70,\"Serviceable\",M72464>30, \"Limited Life\",M72464<=30, \"Unserviceable\")","v":"Serviceable"}]
[null,121016,1963,"Wood Creos Impregnated","Serviceable","Class 3",2018,100,94.54,7,{"$f":"INDEX(Lists!$B$32:$B$40, MATCH(2020-C72550, Lists!$C$32:$C$40,1))","v":"51-60"},{"$f":"SUMPRODUCT((Data!$B$17:$B$19=Model!$F72550)*(Data!$C$16:$K$16=Model!$K72550)*(Data!$C$17:$K$19))","v":2.73},80.89,{"$f":"_xlfn.IFS(M72550>70,\"Serviceable\",M72550>30, \"Limited Life\",M72550<=30, \"Unserviceable\")","v":"Serviceable"}]
[null,121267,1966,"Wood Creos Impregnated","Serviceable","Class 3",2018,100,94.54,7,{"$f":"INDEX(Lists!$B$32:$B$40, MATCH(2020-C72633, Lists!$C$32:$C$40,1))","v":"51-60"},{"$f":"SUMPRODUCT((Data!$B$17:$B$19=Model!$F72633)*(Data!$C$16:$K$16=Model!$K72633)*(Data!$C$17:$K$19))","v":2.73},80.89,{"$f":"_xlfn.IFS(M72633>70,\"Serviceable\",M72633>30, \"Limited Life\",M72633<=30, \"Unserviceable\")","v":"Serviceable"}]
[null,121464,1978,"Wood Creos Impregnated","Serviceable","Class 1",2018,120,116.5,7,{"$f":"INDEX(Lists!$B$32:$B$40, MATCH(2020-C72702, Lists!$C$32:$C$40,1))","v":"41-50"},{"$f":"SUMPRODUCT((Data!$B$17:$B$19=Model!$F72702)*(Data!$C$16:$K$16=Model!$K72702)*(Data!$C$17:$K$19))","v":1.75},107.75,{"$f":"_xlfn.IFS(M72702>70,\"Serviceable\",M72702>30, \"Limited Life\",M72702<=30, \"Unserviceable\")","v":"Serviceable"}]
[null,121555,1964,"Wood Untreated Round","Serviceable","Class 1",2018,100,96.7,7,{"$f":"INDEX(Lists!$B$32:$B$40, MATCH(2020-C72726, Lists!$C$32:$C$40,1))","v":"51-60"},{"$f":"SUMPRODUCT((Data!$B$17:$B$19=Model!$F72726)*(Data!$C$16:$K$16=Model!$K72726)*(Data!$C$17:$K$19))","v":1.65},88.45,{"$f":"_xlfn.IFS(M72726>70,\"Serviceable\",M72726>30, \"Limited Life\",M72726<=30, \"Unserviceable\")","v":"Serviceable"}]
[null,121744,1968,"Wood Creos Impregnated","Serviceable","Class 3",2018,100,94.54,7,{"$f":"INDEX(Lists!$B$32:$B$40, MATCH(2020-C72803, Lists!$C$32:$C$40,1))","v":"51-60"},{"$f":"SUMPRODUCT((Data!$B$17:$B$19=Model!$F72803)*(Data!$C$16:$K$16=Model!$K72803)*(Data!$C$17:$K$19))","v":2.73},80.89,{"$f":"_xlfn.IFS(M72803>70,\"Serviceable\",M72803>30, \"Limited Life\",M72803<=30, \"Unserviceable\")","v":"Serviceable"}]
[null,121899,1968,"Wood Creos Impregnated","Serviceable","Class 3",2018,100,94.54,7,{"$f":"INDEX(Lists!$B$32:$B$40, MATCH(2020-C72872, Lists!$C$32:$C$40,1))","v":"51-60"},{"$f":"SUMPRODUCT((Data!$B$17:$B$19=Model!$F72872)*(Data!$C$16:$K$16=Model!$K72872)*(Data!$C$17:$K$19))","v":2.73},80.89,{"$f":"_xlfn.IFS(M72872>70,\"Serviceable\",M72872>30, \"Limited Life\",M72872<=30, \"Unserviceable\")","v":"Serviceable"}]
[null,122113,1965,"Wood Creos Impregnated","Serviceable","Class 3",2018,80,74.540000000000006,7,{"$f":"INDEX(Lists!$B$32:$B$40, MATCH(2020-C72969, Lists!$C$32:$C$40,1))","v":"51-60"},{"$f":"SUMPRODUCT((Data!$B$17:$B$19=Model!$F72969)*(Data!$C$16:$K$16=Model!$K72969)*(Data!$C$17:$K$19))","v":2.73},60.89,{"$f":"_xlfn.IFS(M72969>70,\"Serviceable\",M72969>30, \"Limited Life\",M72969<=30, \"Unserviceable\")","v":"Limited Life"}]
[null,122271,1961,"Wood Creos Impregnated","Serviceable","Class 3",2019,90,87.27,6,{"$f":"INDEX(Lists!$B$32:$B$40, MATCH(2020-C73025, Lists!$C$32:$C$40,1))","v":"51-60"},{"$f":"SUMPRODUCT((Data!$B$17:$B$19=Model!$F73025)*(Data!$C$16:$K$16=Model!$K73025)*(Data!$C$17:$K$19))","v":2.73},73.62,{"$f":"_xlfn.IFS(M73025>70,\"Serviceable\",M73025>30, \"Limited Life\",M73025<=30, \"Unserviceable\")","v":"Serviceable"}]
[null,122508,1974,"Wood Creos Impregnated","Serviceable","Class 3",2018,110,102.44,7,{"$f":"INDEX(Lists!$B$32:$B$40, MATCH(2020-C73097, Lists!$C$32:$C$40,1))","v":"41-50"},{"$f":"SUMPRODUCT((Data!$B$17:$B$19=Model!$F73097)*(Data!$C$16:$K$16=Model!$K73097)*(Data!$C$17:$K$19))","v":3.78},83.54,{"$f":"_xlfn.IFS(M73097>70,\"Serviceable\",M73097>30, \"Limited Life\",M73097<=30, \"Unserviceable\")","v":"Serviceable"}]
[null,122762,1968,"Wood Creos Impregnated","Serviceable","Class 3",2019,100,97.27,6,{"$f":"INDEX(Lists!$B$32:$B$40, MATCH(2020-C73194, Lists!$C$32:$C$40,1))","v":"51-60"},{"$f":"SUMPRODUCT((Data!$B$17:$B$19=Model!$F73194)*(Data!$C$16:$K$16=Model!$K73194)*(Data!$C$17:$K$19))","v":2.73},83.62,{"$f":"_xlfn.IFS(M73194>70,\"Serviceable\",M73194>30, \"Limited Life\",M73194<=30, \"Unserviceable\")","v":"Serviceable"}]
[null,122905,1964,"Wood Creos Impregnated","Limited Life","Class 3",2020,70,70,5,{"$f":"INDEX(Lists!$B$32:$B$40, MATCH(2020-C73263, Lists!$C$32:$C$40,1))","v":"51-60"},{"$f":"SUMPRODUCT((Data!$B$17:$B$19=Model!$F73263)*(Data!$C$16:$K$16=Model!$K73263)*(Data!$C$17:$K$19))","v":2.73},56.35,{"$f":"_xlfn.IFS(M73263>70,\"Serviceable\",M73263>30, \"Limited Life\",M73263<=30, \"Unserviceable\")","v":"Limited Life"}]
[null,122922,1970,"Wood Creos Impregnated","Serviceable","Class 3",2019,100,96.22,6,{"$f":"INDEX(Lists!$B$32:$B$40, MATCH(2020-C73273, Lists!$C$32:$C$40,1))","v":"41-50"},{"$f":"SUMPRODUCT((Data!$B$17:$B$19=Model!$F73273)*(Data!$C$16:$K$16=Model!$K73273)*(Data!$C$17:$K$19))","v":3.78},77.319999999999993,{"$f":"_xlfn.IFS(M73273>70,\"Serviceable\",M73273>30, \"Limited Life\",M73273<=30, \"Unserviceable\")","v":"Serviceable"}]
[null,123129,1980,"Wood Untreated Dressed","Serviceable","Class 3",2017,150,140.34,8,{"$f":"INDEX(Lists!$B$32:$B$40, MATCH(2020-C73364, Lists!$C$32:$C$40,1))","v":"31-40"},{"$f":"SUMPRODUCT((Data!$B$17:$B$19=Model!$F73364)*(Data!$C$16:$K$16=Model!$K73364)*(Data!$C$17:$K$19))","v":3.22},124.24,{"$f":"_xlfn.IFS(M73364>70,\"Serviceable\",M73364>30, \"Limited Life\",M73364<=30, \"Unserviceable\")","v":"Serviceable"}]
[null,123214,1962,"Wood Creos Impregnated","Serviceable","Class 3",2017,90,81.81,8,{"$f":"INDEX(Lists!$B$32:$B$40, MATCH(2020-C73401, Lists!$C$32:$C$40,1))","v":"51-60"},{"$f":"SUMPRODUCT((Data!$B$17:$B$19=Model!$F73401)*(Data!$C$16:$K$16=Model!$K73401)*(Data!$C$17:$K$19))","v":2.73},68.16,{"$f":"_xlfn.IFS(M73401>70,\"Serviceable\",M73401>30, \"Limited Life\",M73401<=30, \"Unserviceable\")","v":"Limited Life"}]
[null,123453,1935,"Wood Untreated Dressed","Serviceable","Class 1",2017,100,91.57,8,{"$f":"INDEX(Lists!$B$32:$B$40, MATCH(2020-C73517, Lists!$C$32:$C$40,1))","v":"81-90"},{"$f":"SUMPRODUCT((Data!$B$17:$B$19=Model!$F73517)*(Data!$C$16:$K$16=Model!$K73517)*(Data!$C$17:$K$19))","v":2.81},77.52,{"$f":"_xlfn.IFS(M73517>70,\"Serviceable\",M73517>30, \"Limited Life\",M73517<=30, \"Unserviceable\")","v":"Serviceable"}]
[null,123634,1976,"Wood Creos Impregnated","Serviceable","Class 3",2018,130,122.44,7,{"$f":"INDEX(Lists!$B$32:$B$40, MATCH(2020-C73586, Lists!$C$32:$C$40,1))","v":"41-50"},{"$f":"SUMPRODUCT((Data!$B$17:$B$19=Model!$F73586)*(Data!$C$16:$K$16=Model!$K73586)*(Data!$C$17:$K$19))","v":3.78},103.54,{"$f":"_xlfn.IFS(M73586>70,\"Serviceable\",M73586>30, \"Limited Life\",M73586<=30, \"Unserviceable\")","v":"Serviceable"}]
[null,123767,1971,"Wood Creos Impregnated","Serviceable","Class 3",2020,100,100,5,{"$f":"INDEX(Lists!$B$32:$B$40, MATCH(2020-C73644, Lists!$C$32:$C$40,1))","v":"41-50"},{"$f":"SUMPRODUCT((Data!$B$17:$B$19=Model!$F73644)*(Data!$C$16:$K$16=Model!$K73644)*(Data!$C$17:$K$19))","v":3.78},81.099999999999994,{"$f":"_xlfn.IFS(M73644>70,\"Serviceable\",M73644>30, \"Limited Life\",M73644<=30, \"Unserviceable\")","v":"Serviceable"}]
[null,123859,1973,"Wood Creos Impregnated","Serviceable","Class 3",2019,90,86.22,6,{"$f":"INDEX(Lists!$B$32:$B$40, MATCH(2020-C73687, Lists!$C$32:$C$40,1))","v":"41-50"},{"$f":"SUMPRODUCT((Data!$B$17:$B$19=Model!$F73687)*(Data!$C$16:$K$16=Model!$K73687)*(Data!$C$17:$K$19))","v":3.78},67.319999999999993,{"$f":"_xlfn.IFS(M73687>70,\"Serviceable\",M73687>30, \"Limited Life\",M73687<=30, \"Unserviceable\")","v":"Limited Life"}]
[null,123993,1960,"Wood Creos Impregnated","Serviceable","Class 3",2018,100,94.54,7,{"$f":"INDEX(Lists!$B$32:$B$40, MATCH(2020-C73756, Lists!$C$32:$C$40,1))","v":"51-60"},{"$f":"SUMPRODUCT((Data!$B$17:$B$19=Model!$F73756)*(Data!$C$16:$K$16=Model!$K73756)*(Data!$C$17:$K$19))","v":2.73},80.89,{"$f":"_xlfn.IFS(M73756>70,\"Serviceable\",M73756>30, \"Limited Life\",M73756<=30, \"Unserviceable\")","v":"Serviceable"}]
[null,124147,1966,"Wood Creos Impregnated","Serviceable","Class 3",2019,120,117.27,6,{"$f":"INDEX(Lists!$B$32:$B$40, MATCH(2020-C73820, Lists!$C$32:$C$40,1))","v":"51-60"},{"$f":"SUMPRODUCT((Data!$B$17:$B$19=Model!$F73820)*(Data!$C$16:$K$16=Model!$K73820)*(Data!$C$17:$K$19))","v":2.73},103.62,{"$f":"_xlfn.IFS(M73820>70,\"Serviceable\",M73820>30, \"Limited Life\",M73820<=30, \"Unserviceable\")","v":"Serviceable"}]
[null,124391,1965,"Wood Creos Impregnated","Limited Life","Class 3",2020,70,70,5,{"$f":"INDEX(Lists!$B$32:$B$40, MATCH(2020-C73909, Lists!$C$32:$C$40,1))","v":"51-60"},{"$f":"SUMPRODUCT((Data!$B$17:$B$19=Model!$F73909)*(Data!$C$16:$K$16=Model!$K73909)*(Data!$C$17:$K$19))","v":2.73},56.35,{"$f":"_xlfn.IFS(M73909>70,\"Serviceable\",M73909>30, \"Limited Life\",M73909<=30, \"Unserviceable\")","v":"Limited Life"}]
[null,124494,1983,"Wood Creos Impregnated","Serviceable","Class 3",2020,100,100,5,{"$f":"INDEX(Lists!$B$32:$B$40, MATCH(2020-C73948, Lists!$C$32:$C$40,1))","v":"31-40"},{"$f":"SUMPRODUCT((Data!$B$17:$B$19=Model!$F73948)*(Data!$C$16:$K$16=Model!$K73948)*(Data!$C$17:$K$19))","v":3.22},83.9,{"$f":"_xlfn.IFS(M73948>70,\"Serviceable\",M73948>30, \"Limited Life\",M73948<=30, \"Unserviceable\")","v":"Serviceable"}]
[null,124743,1976,"Wood Creos Impregnated","Serviceable","Class 3",2020,100,100,5,{"$f":"INDEX(Lists!$B$32:$B$40, MATCH(2020-C74010, Lists!$C$32:$C$40,1))","v":"41-50"},{"$f":"SUMPRODUCT((Data!$B$17:$B$19=Model!$F74010)*(Data!$C$16:$K$16=Model!$K74010)*(Data!$C$17:$K$19))","v":3.78},81.099999999999994,{"$f":"_xlfn.IFS(M74010>70,\"Serviceable\",M74010>30, \"Limited Life\",M74010<=30, \"Unserviceable\")","v":"Serviceable"}]
[null,124947,1958,"Wood Creos Impregnated","Serviceable","Class 3",2020,100,100,5,{"$f":"INDEX(Lists!$B$32:$B$40, MATCH(2020-C74079, Lists!$C$32:$C$40,1))","v":"61-70"},{"$f":"SUMPRODUCT((Data!$B$17:$B$19=Model!$F74079)*(Data!$C$16:$K$16=Model!$K74079)*(Data!$C$17:$K$19))","v":2.02},89.9,{"$f":"_xlfn.IFS(M74079>70,\"Serviceable\",M74079>30, \"Limited Life\",M74079<=30, \"Unserviceable\")","v":"Serviceable"}]
[null,125240,1961,"Wood Creos Impregnated","Serviceable","Class 3",2017,100,91.81,8,{"$f":"INDEX(Lists!$B$32:$B$40, MATCH(2020-C74191, Lists!$C$32:$C$40,1))","v":"51-60"},{"$f":"SUMPRODUCT((Data!$B$17:$B$19=Model!$F74191)*(Data!$C$16:$K$16=Model!$K74191)*(Data!$C$17:$K$19))","v":2.73},78.16,{"$f":"_xlfn.IFS(M74191>70,\"Serviceable\",M74191>30, \"Limited Life\",M74191<=30, \"Unserviceable\")","v":"Serviceable"}]
[null,125356,1961,"Wood Creos Impregnated","Serviceable","Class 3",2017,120,111.81,{"$f":"2025-G74248","v":8},{"$f":"INDEX(Lists!$B$32:$B$40, MATCH(2020-C74248, Lists!$C$32:$C$40,1))","v":"51-60"},{"$f":"SUMPRODUCT((Data!$B$17:$B$19=Model!$F74248)*(Data!$C$16:$K$16=Model!$K74248)*(Data!$C$17:$K$19))","v":2.73},{"$f":"IF(IF(H74248>=700,999,(H74248-L74248*J74248))<0,0,IF(H74248>=700,999,(H74248-L74248*J74248)))","v":98.16},{"$f":"_xlfn.IFS(M74248>70,\"Serviceable\",M74248>30, \"Limited Life\",M74248<=30, \"Unserviceable\")","v":"Serviceable"}]
[null,125491,1968,"Wood Creos Impregnated","Serviceable","Class 3",2017,100,91.81,8,{"$f":"INDEX(Lists!$B$32:$B$40, MATCH(2020-C74319, Lists!$C$32:$C$40,1))","v":"51-60"},{"$f":"SUMPRODUCT((Data!$B$17:$B$19=Model!$F74319)*(Data!$C$16:$K$16=Model!$K74319)*(Data!$C$17:$K$19))","v":2.73},78.16,{"$f":"_xlfn.IFS(M74319>70,\"Serviceable\",M74319>30, \"Limited Life\",M74319<=30, \"Unserviceable\")","v":"Serviceable"}]
[null,125736,2009,"CCA Treated Pole","Serviceable","Class 2",2017,150,146.34,8,{"$f":"INDEX(Lists!$B$32:$B$40, MATCH(2020-C74401, Lists!$C$32:$C$40,1))","v":"0-20"},{"$f":"SUMPRODUCT((Data!$B$17:$B$19=Model!$F74401)*(Data!$C$16:$K$16=Model!$K74401)*(Data!$C$17:$K$19))","v":1.22},140.24,{"$f":"_xlfn.IFS(M74401>70,\"Serviceable\",M74401>30, \"Limited Life\",M74401<=30, \"Unserviceable\")","v":"Serviceable"}]
[null,125935,1967,"Wood Creos Impregnated","Serviceable","Class 3",2019,110,107.27,6,{"$f":"INDEX(Lists!$B$32:$B$40, MATCH(2020-C74470, Lists!$C$32:$C$40,1))","v":"51-60"},{"$f":"SUMPRODUCT((Data!$B$17:$B$19=Model!$F74470)*(Data!$C$16:$K$16=Model!$K74470)*(Data!$C$17:$K$19))","v":2.73},93.62,{"$f":"_xlfn.IFS(M74470>70,\"Serviceable\",M74470>30, \"Limited Life\",M74470<=30, \"Unserviceable\")","v":"Serviceable"}]
[null,126008,1967,"Wood Creos Impregnated","Serviceable","Class 3",2017,100,91.81,8,{"$f":"INDEX(Lists!$B$32:$B$40, MATCH(2020-C74495, Lists!$C$32:$C$40,1))","v":"51-60"},{"$f":"SUMPRODUCT((Data!$B$17:$B$19=Model!$F74495)*(Data!$C$16:$K$16=Model!$K74495)*(Data!$C$17:$K$19))","v":2.73},78.16,{"$f":"_xlfn.IFS(M74495>70,\"Serviceable\",M74495>30, \"Limited Life\",M74495<=30, \"Unserviceable\")","v":"Serviceable"}]
[null,126208,1965,"Wood Creos Impregnated","Serviceable","Class 3",2017,100,91.81,8,{"$f":"INDEX(Lists!$B$32:$B$40, MATCH(2020-C74571, Lists!$C$32:$C$40,1))","v":"51-60"},{"$f":"SUMPRODUCT((Data!$B$17:$B$19=Model!$F74571)*(Data!$C$16:$K$16=Model!$K74571)*(Data!$C$17:$K$19))","v":2.73},78.16,{"$f":"_xlfn.IFS(M74571>70,\"Serviceable\",M74571>30, \"Limited Life\",M74571<=30, \"Unserviceable\")","v":"Serviceable"}]
[null,126325,1972,"Wood Creos Impregnated","Serviceable","Class 3",2019,120,116.22,6,{"$f":"INDEX(Lists!$B$32:$B$40, MATCH(2020-C74623, Lists!$C$32:$C$40,1))","v":"41-50"},{"$f":"SUMPRODUCT((Data!$B$17:$B$19=Model!$F74623)*(Data!$C$16:$K$16=Model!$K74623)*(Data!$C$17:$K$19))","v":3.78},97.32,{"$f":"_xlfn.IFS(M74623>70,\"Serviceable\",M74623>30, \"Limited Life\",M74623<=30, \"Unserviceable\")","v":"Serviceable"}]
[null,126572,2008,"CCA Treated Pole","Serviceable","Class 1",2018,100,97.88,7,{"$f":"INDEX(Lists!$B$32:$B$40, MATCH(2020-C74724, Lists!$C$32:$C$40,1))","v":"0-20"},{"$f":"SUMPRODUCT((Data!$B$17:$B$19=Model!$F74724)*(Data!$C$16:$K$16=Model!$K74724)*(Data!$C$17:$K$19))","v":1.06},92.58,{"$f":"_xlfn.IFS(M74724>70,\"Serviceable\",M74724>30, \"Limited Life\",M74724<=30, \"Unserviceable\")","v":"Serviceable"}]
[null,126712,2004,"CCA Treated Pole","Serviceable","Class 1",2020,150,150,5,{"$f":"INDEX(Lists!$B$32:$B$40, MATCH(2020-C74809, Lists!$C$32:$C$40,1))","v":"0-20"},{"$f":"SUMPRODUCT((Data!$B$17:$B$19=Model!$F74809)*(Data!$C$16:$K$16=Model!$K74809)*(Data!$C$17:$K$19))","v":1.06},144.69999999999999,{"$f":"_xlfn.IFS(M74809>70,\"Serviceable\",M74809>30, \"Limited Life\",M74809<=30, \"Unserviceable\")","v":"Serviceable"}]
[null,126843,1950,"Wood Untreated Round","Serviceable","Class 2",2020,90,90,5,{"$f":"INDEX(Lists!$B$32:$B$40, MATCH(2020-C74866, Lists!$C$32:$C$40,1))","v":"61-70"},{"$f":"SUMPRODUCT((Data!$B$17:$B$19=Model!$F74866)*(Data!$C$16:$K$16=Model!$K74866)*(Data!$C$17:$K$19))","v":2.23},78.849999999999994,{"$f":"_xlfn.IFS(M74866>70,\"Serviceable\",M74866>30, \"Limited Life\",M74866<=30, \"Unserviceable\")","v":"Serviceable"}]
[null,126922,1966,"Wood Creos Impregnated","Serviceable","Class 3",2016,120,109.08,9,{"$f":"INDEX(Lists!$B$32:$B$40, MATCH(2020-C74894, Lists!$C$32:$C$40,1))","v":"51-60"},{"$f":"SUMPRODUCT((Data!$B$17:$B$19=Model!$F74894)*(Data!$C$16:$K$16=Model!$K74894)*(Data!$C$17:$K$19))","v":2.73},95.43,{"$f":"_xlfn.IFS(M74894>70,\"Serviceable\",M74894>30, \"Limited Life\",M74894<=30, \"Unserviceable\")","v":"Serviceable"}]
[null,127091,1975,"Wood Creos Impregnated","Serviceable","Class 3",2020,100,100,5,{"$f":"INDEX(Lists!$B$32:$B$40, MATCH(2020-C74963, Lists!$C$32:$C$40,1))","v":"41-50"},{"$f":"SUMPRODUCT((Data!$B$17:$B$19=Model!$F74963)*(Data!$C$16:$K$16=Model!$K74963)*(Data!$C$17:$K$19))","v":3.78},81.099999999999994,{"$f":"_xlfn.IFS(M74963>70,\"Serviceable\",M74963>30, \"Limited Life\",M74963<=30, \"Unserviceable\")","v":"Serviceable"}]
[null,127277,1983,"Wood Creos Impregnated","Serviceable","Class 3",2020,100,100,5,{"$f":"INDEX(Lists!$B$32:$B$40, MATCH(2020-C75042, Lists!$C$32:$C$40,1))","v":"31-40"},{"$f":"SUMPRODUCT((Data!$B$17:$B$19=Model!$F75042)*(Data!$C$16:$K$16=Model!$K75042)*(Data!$C$17:$K$19))","v":3.22},83.9,{"$f":"_xlfn.IFS(M75042>70,\"Serviceable\",M75042>30, \"Limited Life\",M75042<=30, \"Unserviceable\")","v":"Serviceable"}]
[null,127520,1958,"Wood Creos Impregnated","Serviceable","Class 3",2018,90,85.96,7,{"$f":"INDEX(Lists!$B$32:$B$40, MATCH(2020-C75132, Lists!$C$32:$C$40,1))","v":"61-70"},{"$f":"SUMPRODUCT((Data!$B$17:$B$19=Model!$F75132)*(Data!$C$16:$K$16=Model!$K75132)*(Data!$C$17:$K$19))","v":2.02},75.86,{"$f":"_xlfn.IFS(M75132>70,\"Serviceable\",M75132>30, \"Limited Life\",M75132<=30, \"Unserviceable\")","v":"Serviceable"}]
[null,127594,1979,"Wood Creos Impregnated","Serviceable","Class 3",2020,80,80,5,{"$f":"INDEX(Lists!$B$32:$B$40, MATCH(2020-C75170, Lists!$C$32:$C$40,1))","v":"41-50"},{"$f":"SUMPRODUCT((Data!$B$17:$B$19=Model!$F75170)*(Data!$C$16:$K$16=Model!$K75170)*(Data!$C$17:$K$19))","v":3.78},61.1,{"$f":"_xlfn.IFS(M75170>70,\"Serviceable\",M75170>30, \"Limited Life\",M75170<=30, \"Unserviceable\")","v":"Limited Life"}]
[null,127825,1976,"Wood Creos Impregnated","Serviceable","Class 3",2020,120,120,5,{"$f":"INDEX(Lists!$B$32:$B$40, MATCH(2020-C75285, Lists!$C$32:$C$40,1))","v":"41-50"},{"$f":"SUMPRODUCT((Data!$B$17:$B$19=Model!$F75285)*(Data!$C$16:$K$16=Model!$K75285)*(Data!$C$17:$K$19))","v":3.78},101.1,{"$f":"_xlfn.IFS(M75285>70,\"Serviceable\",M75285>30, \"Limited Life\",M75285<=30, \"Unserviceable\")","v":"Serviceable"}]
[null,127956,1960,"Wood Creos Impregnated","Serviceable","Class 3",2020,90,90,5,{"$f":"INDEX(Lists!$B$32:$B$40, MATCH(2020-C75354, Lists!$C$32:$C$40,1))","v":"51-60"},{"$f":"SUMPRODUCT((Data!$B$17:$B$19=Model!$F75354)*(Data!$C$16:$K$16=Model!$K75354)*(Data!$C$17:$K$19))","v":2.73},76.349999999999994,{"$f":"_xlfn.IFS(M75354>70,\"Serviceable\",M75354>30, \"Limited Life\",M75354<=30, \"Unserviceable\")","v":"Serviceable"}]
[null,128078,1965,"Wood Creos Impregnated","Serviceable","Class 3",2018,100,94.54,7,{"$f":"INDEX(Lists!$B$32:$B$40, MATCH(2020-C75413, Lists!$C$32:$C$40,1))","v":"51-60"},{"$f":"SUMPRODUCT((Data!$B$17:$B$19=Model!$F75413)*(Data!$C$16:$K$16=Model!$K75413)*(Data!$C$17:$K$19))","v":2.73},80.89,{"$f":"_xlfn.IFS(M75413>70,\"Serviceable\",M75413>30, \"Limited Life\",M75413<=30, \"Unserviceable\")","v":"Serviceable"}]
[null,128156,1959,"Wood Creos Impregnated","Serviceable","Class 3",2018,90,85.96,7,{"$f":"INDEX(Lists!$B$32:$B$40, MATCH(2020-C75455, Lists!$C$32:$C$40,1))","v":"61-70"},{"$f":"SUMPRODUCT((Data!$B$17:$B$19=Model!$F75455)*(Data!$C$16:$K$16=Model!$K75455)*(Data!$C$17:$K$19))","v":2.02},75.86,{"$f":"_xlfn.IFS(M75455>70,\"Serviceable\",M75455>30, \"Limited Life\",M75455<=30, \"Unserviceable\")","v":"Serviceable"}]
[null,128325,1963,"Wood Creos Impregnated","Serviceable","Class 3",2018,90,84.54,7,{"$f":"INDEX(Lists!$B$32:$B$40, MATCH(2020-C75541, Lists!$C$32:$C$40,1))","v":"51-60"},{"$f":"SUMPRODUCT((Data!$B$17:$B$19=Model!$F75541)*(Data!$C$16:$K$16=Model!$K75541)*(Data!$C$17:$K$19))","v":2.73},70.89,{"$f":"_xlfn.IFS(M75541>70,\"Serviceable\",M75541>30, \"Limited Life\",M75541<=30, \"Unserviceable\")","v":"Serviceable"}]
[null,128482,1967,"Wood Creos Impregnated","Serviceable","Class 3",2019,100,97.27,6,{"$f":"INDEX(Lists!$B$32:$B$40, MATCH(2020-C75608, Lists!$C$32:$C$40,1))","v":"51-60"},{"$f":"SUMPRODUCT((Data!$B$17:$B$19=Model!$F75608)*(Data!$C$16:$K$16=Model!$K75608)*(Data!$C$17:$K$19))","v":2.73},83.62,{"$f":"_xlfn.IFS(M75608>70,\"Serviceable\",M75608>30, \"Limited Life\",M75608<=30, \"Unserviceable\")","v":"Serviceable"}]
[null,128635,1968,"Wood Creos Impregnated","Serviceable","Class 3",2019,100,97.27,6,{"$f":"INDEX(Lists!$B$32:$B$40, MATCH(2020-C75693, Lists!$C$32:$C$40,1))","v":"51-60"},{"$f":"SUMPRODUCT((Data!$B$17:$B$19=Model!$F75693)*(Data!$C$16:$K$16=Model!$K75693)*(Data!$C$17:$K$19))","v":2.73},83.62,{"$f":"_xlfn.IFS(M75693>70,\"Serviceable\",M75693>30, \"Limited Life\",M75693<=30, \"Unserviceable\")","v":"Serviceable"}]
[null,128673,1986,"Wood Untreated Dressed","Serviceable","Class 1",2019,100,97.48,6,{"$f":"INDEX(Lists!$B$32:$B$40, MATCH(2020-C75717, Lists!$C$32:$C$40,1))","v":"31-40"},{"$f":"SUMPRODUCT((Data!$B$17:$B$19=Model!$F75717)*(Data!$C$16:$K$16=Model!$K75717)*(Data!$C$17:$K$19))","v":2.52},84.88,{"$f":"_xlfn.IFS(M75717>70,\"Serviceable\",M75717>30, \"Limited Life\",M75717<=30, \"Unserviceable\")","v":"Serviceable"}]
[null,128801,1965,"Wood Creos Impregnated","Serviceable","Class 3",2016,110,99.08,9,{"$f":"INDEX(Lists!$B$32:$B$40, MATCH(2020-C75778, Lists!$C$32:$C$40,1))","v":"51-60"},{"$f":"SUMPRODUCT((Data!$B$17:$B$19=Model!$F75778)*(Data!$C$16:$K$16=Model!$K75778)*(Data!$C$17:$K$19))","v":2.73},85.43,{"$f":"_xlfn.IFS(M75778>70,\"Serviceable\",M75778>30, \"Limited Life\",M75778<=30, \"Unserviceable\")","v":"Serviceable"}]
[null,128950,1999,"CCA Treated Pole","Serviceable","Class 2",2018,150,146.22,7,{"$f":"INDEX(Lists!$B$32:$B$40, MATCH(2020-C75847, Lists!$C$32:$C$40,1))","v":"21-30"},{"$f":"SUMPRODUCT((Data!$B$17:$B$19=Model!$F75847)*(Data!$C$16:$K$16=Model!$K75847)*(Data!$C$17:$K$19))","v":1.89},136.77000000000001,{"$f":"_xlfn.IFS(M75847>70,\"Serviceable\",M75847>30, \"Limited Life\",M75847<=30, \"Unserviceable\")","v":"Serviceable"}]
[null,129223,1990,"Wood Untreated Dressed","Serviceable","Class 1",2018,150,146.08000000000001,7,{"$f":"INDEX(Lists!$B$32:$B$40, MATCH(2020-C75960, Lists!$C$32:$C$40,1))","v":"21-30"},{"$f":"SUMPRODUCT((Data!$B$17:$B$19=Model!$F75960)*(Data!$C$16:$K$16=Model!$K75960)*(Data!$C$17:$K$19))","v":1.96},136.28,{"$f":"_xlfn.IFS(M75960>70,\"Serviceable\",M75960>30, \"Limited Life\",M75960<=30, \"Unserviceable\")","v":"Serviceable"}]
[null,129363,1963,"Wood Creos Impregnated","Limited Life","Class 3",2019,70,67.27,6,{"$f":"INDEX(Lists!$B$32:$B$40, MATCH(2020-C76016, Lists!$C$32:$C$40,1))","v":"51-60"},{"$f":"SUMPRODUCT((Data!$B$17:$B$19=Model!$F76016)*(Data!$C$16:$K$16=Model!$K76016)*(Data!$C$17:$K$19))","v":2.73},53.620000000000005,{"$f":"_xlfn.IFS(M76016>70,\"Serviceable\",M76016>30, \"Limited Life\",M76016<=30, \"Unserviceable\")","v":"Limited Life"}]
[null,129562,1985,"Wood Untreated Dressed","Serviceable","Class 1",2018,140,134.96,7,{"$f":"INDEX(Lists!$B$32:$B$40, MATCH(2020-C76088, Lists!$C$32:$C$40,1))","v":"31-40"},{"$f":"SUMPRODUCT((Data!$B$17:$B$19=Model!$F76088)*(Data!$C$16:$K$16=Model!$K76088)*(Data!$C$17:$K$19))","v":2.52},122.36,{"$f":"_xlfn.IFS(M76088>70,\"Serviceable\",M76088>30, \"Limited Life\",M76088<=30, \"Unserviceable\")","v":"Serviceable"}]
[null,129767,1984,"Wood Untreated Dressed","Serviceable","Class 1",2018,130,124.96,7,{"$f":"INDEX(Lists!$B$32:$B$40, MATCH(2020-C76169, Lists!$C$32:$C$40,1))","v":"31-40"},{"$f":"SUMPRODUCT((Data!$B$17:$B$19=Model!$F76169)*(Data!$C$16:$K$16=Model!$K76169)*(Data!$C$17:$K$19))","v":2.52},112.36,{"$f":"_xlfn.IFS(M76169>70,\"Serviceable\",M76169>30, \"Limited Life\",M76169<=30, \"Unserviceable\")","v":"Serviceable"}]
[null,130007,1969,"Wood Creos Impregnated","Serviceable","Class 2",2019,80,77.430000000000007,6,{"$f":"INDEX(Lists!$B$32:$B$40, MATCH(2020-C76238, Lists!$C$32:$C$40,1))","v":"51-60"},{"$f":"SUMPRODUCT((Data!$B$17:$B$19=Model!$F76238)*(Data!$C$16:$K$16=Model!$K76238)*(Data!$C$17:$K$19))","v":2.57},64.58,{"$f":"_xlfn.IFS(M76238>70,\"Serviceable\",M76238>30, \"Limited Life\",M76238<=30, \"Unserviceable\")","v":"Limited Life"}]
[null,130070,1997,"CCA Treated Pole","Serviceable","Class 2",2017,150,144.33000000000001,8,{"$f":"INDEX(Lists!$B$32:$B$40, MATCH(2020-C76264, Lists!$C$32:$C$40,1))","v":"21-30"},{"$f":"SUMPRODUCT((Data!$B$17:$B$19=Model!$F76264)*(Data!$C$16:$K$16=Model!$K76264)*(Data!$C$17:$K$19))","v":1.89},134.88,{"$f":"_xlfn.IFS(M76264>70,\"Serviceable\",M76264>30, \"Limited Life\",M76264<=30, \"Unserviceable\")","v":"Serviceable"}]
[null,130317,2003,"CCA Treated Pole","Serviceable","Class 1",2018,150,147.88,7,{"$f":"INDEX(Lists!$B$32:$B$40, MATCH(2020-C76339, Lists!$C$32:$C$40,1))","v":"0-20"},{"$f":"SUMPRODUCT((Data!$B$17:$B$19=Model!$F76339)*(Data!$C$16:$K$16=Model!$K76339)*(Data!$C$17:$K$19))","v":1.06},142.58000000000001,{"$f":"_xlfn.IFS(M76339>70,\"Serviceable\",M76339>30, \"Limited Life\",M76339<=30, \"Unserviceable\")","v":"Serviceable"}]
[null,130411,2005,"CCA Treated Pole","Serviceable","Class 1",2020,150,150,5,{"$f":"INDEX(Lists!$B$32:$B$40, MATCH(2020-C76392, Lists!$C$32:$C$40,1))","v":"0-20"},{"$f":"SUMPRODUCT((Data!$B$17:$B$19=Model!$F76392)*(Data!$C$16:$K$16=Model!$K76392)*(Data!$C$17:$K$19))","v":1.06},144.69999999999999,{"$f":"_xlfn.IFS(M76392>70,\"Serviceable\",M76392>30, \"Limited Life\",M76392<=30, \"Unserviceable\")","v":"Serviceable"}]
[null,130711,1981,"Wood Creos Impregnated","Serviceable","Class 3",2019,120,116.78,6,{"$f":"INDEX(Lists!$B$32:$B$40, MATCH(2020-C76492, Lists!$C$32:$C$40,1))","v":"31-40"},{"$f":"SUMPRODUCT((Data!$B$17:$B$19=Model!$F76492)*(Data!$C$16:$K$16=Model!$K76492)*(Data!$C$17:$K$19))","v":3.22},100.68,{"$f":"_xlfn.IFS(M76492>70,\"Serviceable\",M76492>30, \"Limited Life\",M76492<=30, \"Unserviceable\")","v":"Serviceable"}]
[null,130930,1971,"Wood Creos Impregnated","Serviceable","Class 1",2018,100,96.5,7,{"$f":"INDEX(Lists!$B$32:$B$40, MATCH(2020-C76577, Lists!$C$32:$C$40,1))","v":"41-50"},{"$f":"SUMPRODUCT((Data!$B$17:$B$19=Model!$F76577)*(Data!$C$16:$K$16=Model!$K76577)*(Data!$C$17:$K$19))","v":1.75},87.75,{"$f":"_xlfn.IFS(M76577>70,\"Serviceable\",M76577>30, \"Limited Life\",M76577<=30, \"Unserviceable\")","v":"Serviceable"}]
[null,131057,1989,"Wood Creos Impregnated","Serviceable","Class 2",2016,162.49719689682513,153.17719689682514,9,{"$f":"INDEX(Lists!$B$32:$B$40, MATCH(2020-C76635, Lists!$C$32:$C$40,1))","v":"31-40"},{"$f":"SUMPRODUCT((Data!$B$17:$B$19=Model!$F76635)*(Data!$C$16:$K$16=Model!$K76635)*(Data!$C$17:$K$19))","v":2.33},141.52719689682513,{"$f":"_xlfn.IFS(M76635>70,\"Serviceable\",M76635>30, \"Limited Life\",M76635<=30, \"Unserviceable\")","v":"Serviceable"}]
[null,131124,1954,"Wood Creos Impregnated","Limited Life","Class 2",2020,50,50,5,{"$f":"INDEX(Lists!$B$32:$B$40, MATCH(2020-C76662, Lists!$C$32:$C$40,1))","v":"61-70"},{"$f":"SUMPRODUCT((Data!$B$17:$B$19=Model!$F76662)*(Data!$C$16:$K$16=Model!$K76662)*(Data!$C$17:$K$19))","v":2.23},38.85,{"$f":"_xlfn.IFS(M76662>70,\"Serviceable\",M76662>30, \"Limited Life\",M76662<=30, \"Unserviceable\")","v":"Limited Life"}]
[null,131389,1968,"Wood Creos Impregnated","Serviceable","Class 3",2018,120,114.54,7,{"$f":"INDEX(Lists!$B$32:$B$40, MATCH(2020-C76763, Lists!$C$32:$C$40,1))","v":"51-60"},{"$f":"SUMPRODUCT((Data!$B$17:$B$19=Model!$F76763)*(Data!$C$16:$K$16=Model!$K76763)*(Data!$C$17:$K$19))","v":2.73},100.89,{"$f":"_xlfn.IFS(M76763>70,\"Serviceable\",M76763>30, \"Limited Life\",M76763<=30, \"Unserviceable\")","v":"Serviceable"}]
[null,131553,1960,"Wood Creos Impregnated","Serviceable","Class 3",2018,100,94.54,7,{"$f":"INDEX(Lists!$B$32:$B$40, MATCH(2020-C76815, Lists!$C$32:$C$40,1))","v":"51-60"},{"$f":"SUMPRODUCT((Data!$B$17:$B$19=Model!$F76815)*(Data!$C$16:$K$16=Model!$K76815)*(Data!$C$17:$K$19))","v":2.73},80.89,{"$f":"_xlfn.IFS(M76815>70,\"Serviceable\",M76815>30, \"Limited Life\",M76815<=30, \"Unserviceable\")","v":"Serviceable"}]
[null,131853,1969,"Wood Creos Impregnated","Serviceable","Class 2",2020,100,100,5,{"$f":"INDEX(Lists!$B$32:$B$40, MATCH(2020-C76900, Lists!$C$32:$C$40,1))","v":"51-60"},{"$f":"SUMPRODUCT((Data!$B$17:$B$19=Model!$F76900)*(Data!$C$16:$K$16=Model!$K76900)*(Data!$C$17:$K$19))","v":2.57},87.15,{"$f":"_xlfn.IFS(M76900>70,\"Serviceable\",M76900>30, \"Limited Life\",M76900<=30, \"Unserviceable\")","v":"Serviceable"}]
[null,131930,1975,"Wood Untreated Dressed","Serviceable","Class 1",2020,90,90,5,{"$f":"INDEX(Lists!$B$32:$B$40, MATCH(2020-C76939, Lists!$C$32:$C$40,1))","v":"41-50"},{"$f":"SUMPRODUCT((Data!$B$17:$B$19=Model!$F76939)*(Data!$C$16:$K$16=Model!$K76939)*(Data!$C$17:$K$19))","v":1.75},81.25,{"$f":"_xlfn.IFS(M76939>70,\"Serviceable\",M76939>30, \"Limited Life\",M76939<=30, \"Unserviceable\")","v":"Serviceable"}]
[null,132020,1986,"Wood Untreated Dressed","Serviceable","Class 1",2019,150,147.47999999999999,6,{"$f":"INDEX(Lists!$B$32:$B$40, MATCH(2020-C76985, Lists!$C$32:$C$40,1))","v":"31-40"},{"$f":"SUMPRODUCT((Data!$B$17:$B$19=Model!$F76985)*(Data!$C$16:$K$16=Model!$K76985)*(Data!$C$17:$K$19))","v":2.52},134.88,{"$f":"_xlfn.IFS(M76985>70,\"Serviceable\",M76985>30, \"Limited Life\",M76985<=30, \"Unserviceable\")","v":"Serviceable"}]
[null,132165,1980,"Wood Untreated Dressed","Serviceable","Class 3",2020,110,110,5,{"$f":"INDEX(Lists!$B$32:$B$40, MATCH(2020-C77070, Lists!$C$32:$C$40,1))","v":"31-40"},{"$f":"SUMPRODUCT((Data!$B$17:$B$19=Model!$F77070)*(Data!$C$16:$K$16=Model!$K77070)*(Data!$C$17:$K$19))","v":3.22},93.9,{"$f":"_xlfn.IFS(M77070>70,\"Serviceable\",M77070>30, \"Limited Life\",M77070<=30, \"Unserviceable\")","v":"Serviceable"}]
[null,132373,1979,"Wood Creos Impregnated","Serviceable","Class 3",2017,100,88.66,8,{"$f":"INDEX(Lists!$B$32:$B$40, MATCH(2020-C77182, Lists!$C$32:$C$40,1))","v":"41-50"},{"$f":"SUMPRODUCT((Data!$B$17:$B$19=Model!$F77182)*(Data!$C$16:$K$16=Model!$K77182)*(Data!$C$17:$K$19))","v":3.78},69.760000000000005,{"$f":"_xlfn.IFS(M77182>70,\"Serviceable\",M77182>30, \"Limited Life\",M77182<=30, \"Unserviceable\")","v":"Limited Life"}]
[null,132434,1962,"Wood Creos Impregnated","Serviceable","Class 3",2017,100,91.81,8,{"$f":"INDEX(Lists!$B$32:$B$40, MATCH(2020-C77223, Lists!$C$32:$C$40,1))","v":"51-60"},{"$f":"SUMPRODUCT((Data!$B$17:$B$19=Model!$F77223)*(Data!$C$16:$K$16=Model!$K77223)*(Data!$C$17:$K$19))","v":2.73},78.16,{"$f":"_xlfn.IFS(M77223>70,\"Serviceable\",M77223>30, \"Limited Life\",M77223<=30, \"Unserviceable\")","v":"Serviceable"}]
[null,132662,1983,"Wood Untreated Dressed","Serviceable","Class 1",2020,140,140,5,{"$f":"INDEX(Lists!$B$32:$B$40, MATCH(2020-C77310, Lists!$C$32:$C$40,1))","v":"31-40"},{"$f":"SUMPRODUCT((Data!$B$17:$B$19=Model!$F77310)*(Data!$C$16:$K$16=Model!$K77310)*(Data!$C$17:$K$19))","v":2.52},127.4,{"$f":"_xlfn.IFS(M77310>70,\"Serviceable\",M77310>30, \"Limited Life\",M77310<=30, \"Unserviceable\")","v":"Serviceable"}]
[null,132790,1986,"Wood Untreated Dressed","Serviceable","Class 1",2019,140,137.47999999999999,6,{"$f":"INDEX(Lists!$B$32:$B$40, MATCH(2020-C77376, Lists!$C$32:$C$40,1))","v":"31-40"},{"$f":"SUMPRODUCT((Data!$B$17:$B$19=Model!$F77376)*(Data!$C$16:$K$16=Model!$K77376)*(Data!$C$17:$K$19))","v":2.52},124.88,{"$f":"_xlfn.IFS(M77376>70,\"Serviceable\",M77376>30, \"Limited Life\",M77376<=30, \"Unserviceable\")","v":"Serviceable"}]
[null,132834,2001,"CCA Treated Pole","Serviceable","Class 2",2016,150,145.12,9,{"$f":"INDEX(Lists!$B$32:$B$40, MATCH(2020-C77393, Lists!$C$32:$C$40,1))","v":"0-20"},{"$f":"SUMPRODUCT((Data!$B$17:$B$19=Model!$F77393)*(Data!$C$16:$K$16=Model!$K77393)*(Data!$C$17:$K$19))","v":1.22},139.02000000000001,{"$f":"_xlfn.IFS(M77393>70,\"Serviceable\",M77393>30, \"Limited Life\",M77393<=30, \"Unserviceable\")","v":"Serviceable"}]
[null,133067,1984,"Wood Untreated Dressed","Serviceable","Class 1",2020,150,150,5,{"$f":"INDEX(Lists!$B$32:$B$40, MATCH(2020-C77486, Lists!$C$32:$C$40,1))","v":"31-40"},{"$f":"SUMPRODUCT((Data!$B$17:$B$19=Model!$F77486)*(Data!$C$16:$K$16=Model!$K77486)*(Data!$C$17:$K$19))","v":2.52},137.4,{"$f":"_xlfn.IFS(M77486>70,\"Serviceable\",M77486>30, \"Limited Life\",M77486<=30, \"Unserviceable\")","v":"Serviceable"}]
[null,133205,1948,"Wood Untreated Dressed","Serviceable","Class 2",2018,100,92.94,7,{"$f":"INDEX(Lists!$B$32:$B$40, MATCH(2020-C77546, Lists!$C$32:$C$40,1))","v":"71-80"},{"$f":"SUMPRODUCT((Data!$B$17:$B$19=Model!$F77546)*(Data!$C$16:$K$16=Model!$K77546)*(Data!$C$17:$K$19))","v":3.53},75.290000000000006,{"$f":"_xlfn.IFS(M77546>70,\"Serviceable\",M77546>30, \"Limited Life\",M77546<=30, \"Unserviceable\")","v":"Serviceable"}]
[null,133357,1969,"Wood Creos Impregnated","Serviceable","Class 3",2017,100,91.81,8,{"$f":"INDEX(Lists!$B$32:$B$40, MATCH(2020-C77614, Lists!$C$32:$C$40,1))","v":"51-60"},{"$f":"SUMPRODUCT((Data!$B$17:$B$19=Model!$F77614)*(Data!$C$16:$K$16=Model!$K77614)*(Data!$C$17:$K$19))","v":2.73},78.16,{"$f":"_xlfn.IFS(M77614>70,\"Serviceable\",M77614>30, \"Limited Life\",M77614<=30, \"Unserviceable\")","v":"Serviceable"}]
[null,133527,1967,"Wood Creos Impregnated","Serviceable","Class 3",2015,90,76.349999999999994,10,{"$f":"INDEX(Lists!$B$32:$B$40, MATCH(2020-C77699, Lists!$C$32:$C$40,1))","v":"51-60"},{"$f":"SUMPRODUCT((Data!$B$17:$B$19=Model!$F77699)*(Data!$C$16:$K$16=Model!$K77699)*(Data!$C$17:$K$19))","v":2.73},62.7,{"$f":"_xlfn.IFS(M77699>70,\"Serviceable\",M77699>30, \"Limited Life\",M77699<=30, \"Unserviceable\")","v":"Limited Life"}]
[null,133749,1959,"Wood Creos Impregnated","Serviceable","Class 3",2017,90,83.94,8,{"$f":"INDEX(Lists!$B$32:$B$40, MATCH(2020-C77784, Lists!$C$32:$C$40,1))","v":"61-70"},{"$f":"SUMPRODUCT((Data!$B$17:$B$19=Model!$F77784)*(Data!$C$16:$K$16=Model!$K77784)*(Data!$C$17:$K$19))","v":2.02},73.84,{"$f":"_xlfn.IFS(M77784>70,\"Serviceable\",M77784>30, \"Limited Life\",M77784<=30, \"Unserviceable\")","v":"Serviceable"}]
[null,133965,1961,"Wood Creos Impregnated","Serviceable","Class 3",2018,100,94.54,7,{"$f":"INDEX(Lists!$B$32:$B$40, MATCH(2020-C77857, Lists!$C$32:$C$40,1))","v":"51-60"},{"$f":"SUMPRODUCT((Data!$B$17:$B$19=Model!$F77857)*(Data!$C$16:$K$16=Model!$K77857)*(Data!$C$17:$K$19))","v":2.73},80.89,{"$f":"_xlfn.IFS(M77857>70,\"Serviceable\",M77857>30, \"Limited Life\",M77857<=30, \"Unserviceable\")","v":"Serviceable"}]
[null,133991,1958,"Wood Creos Impregnated","Serviceable","Class 3",2018,120,115.96,7,{"$f":"INDEX(Lists!$B$32:$B$40, MATCH(2020-C77869, Lists!$C$32:$C$40,1))","v":"61-70"},{"$f":"SUMPRODUCT((Data!$B$17:$B$19=Model!$F77869)*(Data!$C$16:$K$16=Model!$K77869)*(Data!$C$17:$K$19))","v":2.02},105.86,{"$f":"_xlfn.IFS(M77869>70,\"Serviceable\",M77869>30, \"Limited Life\",M77869<=30, \"Unserviceable\")","v":"Serviceable"}]
[null,134253,1983,"Wood Untreated Dressed","Serviceable","Class 1",2019,120,117.48,6,{"$f":"INDEX(Lists!$B$32:$B$40, MATCH(2020-C77954, Lists!$C$32:$C$40,1))","v":"31-40"},{"$f":"SUMPRODUCT((Data!$B$17:$B$19=Model!$F77954)*(Data!$C$16:$K$16=Model!$K77954)*(Data!$C$17:$K$19))","v":2.52},104.88,{"$f":"_xlfn.IFS(M77954>70,\"Serviceable\",M77954>30, \"Limited Life\",M77954<=30, \"Unserviceable\")","v":"Serviceable"}]
[null,134539,1975,"Wood Untreated Dressed","Serviceable","Class 1",2016,150,143,9,{"$f":"INDEX(Lists!$B$32:$B$40, MATCH(2020-C78033, Lists!$C$32:$C$40,1))","v":"41-50"},{"$f":"SUMPRODUCT((Data!$B$17:$B$19=Model!$F78033)*(Data!$C$16:$K$16=Model!$K78033)*(Data!$C$17:$K$19))","v":1.75},134.25,{"$f":"_xlfn.IFS(M78033>70,\"Serviceable\",M78033>30, \"Limited Life\",M78033<=30, \"Unserviceable\")","v":"Serviceable"}]
[null,134696,1965,"Wood Creos Impregnated","Serviceable","Class 3",2019,90,87.27,6,{"$f":"INDEX(Lists!$B$32:$B$40, MATCH(2020-C78107, Lists!$C$32:$C$40,1))","v":"51-60"},{"$f":"SUMPRODUCT((Data!$B$17:$B$19=Model!$F78107)*(Data!$C$16:$K$16=Model!$K78107)*(Data!$C$17:$K$19))","v":2.73},73.62,{"$f":"_xlfn.IFS(M78107>70,\"Serviceable\",M78107>30, \"Limited Life\",M78107<=30, \"Unserviceable\")","v":"Serviceable"}]
[null,134859,1979,"Wood Creos Impregnated","Serviceable","Class 3",2019,90,86.22,6,{"$f":"INDEX(Lists!$B$32:$B$40, MATCH(2020-C78161, Lists!$C$32:$C$40,1))","v":"41-50"},{"$f":"SUMPRODUCT((Data!$B$17:$B$19=Model!$F78161)*(Data!$C$16:$K$16=Model!$K78161)*(Data!$C$17:$K$19))","v":3.78},67.319999999999993,{"$f":"_xlfn.IFS(M78161>70,\"Serviceable\",M78161>30, \"Limited Life\",M78161<=30, \"Unserviceable\")","v":"Limited Life"}]
[null,135181,1977,"Wood Creos Impregnated","Serviceable","Class 3",2018,100,92.44,7,{"$f":"INDEX(Lists!$B$32:$B$40, MATCH(2020-C78260, Lists!$C$32:$C$40,1))","v":"41-50"},{"$f":"SUMPRODUCT((Data!$B$17:$B$19=Model!$F78260)*(Data!$C$16:$K$16=Model!$K78260)*(Data!$C$17:$K$19))","v":3.78},73.540000000000006,{"$f":"_xlfn.IFS(M78260>70,\"Serviceable\",M78260>30, \"Limited Life\",M78260<=30, \"Unserviceable\")","v":"Serviceable"}]
[null,135233,1958,"Wood Creos Impregnated","Serviceable","Class 3",2017,80,73.94,8,{"$f":"INDEX(Lists!$B$32:$B$40, MATCH(2020-C78277, Lists!$C$32:$C$40,1))","v":"61-70"},{"$f":"SUMPRODUCT((Data!$B$17:$B$19=Model!$F78277)*(Data!$C$16:$K$16=Model!$K78277)*(Data!$C$17:$K$19))","v":2.02},63.84,{"$f":"_xlfn.IFS(M78277>70,\"Serviceable\",M78277>30, \"Limited Life\",M78277<=30, \"Unserviceable\")","v":"Limited Life"}]
[null,135382,1956,"Wood Untreated Round","Serviceable","Class 1",2019,100,97.97,6,{"$f":"INDEX(Lists!$B$32:$B$40, MATCH(2020-C78337, Lists!$C$32:$C$40,1))","v":"61-70"},{"$f":"SUMPRODUCT((Data!$B$17:$B$19=Model!$F78337)*(Data!$C$16:$K$16=Model!$K78337)*(Data!$C$17:$K$19))","v":2.0299999999999998},87.82,{"$f":"_xlfn.IFS(M78337>70,\"Serviceable\",M78337>30, \"Limited Life\",M78337<=30, \"Unserviceable\")","v":"Serviceable"}]
[null,135675,1982,"Wood Untreated Dressed","Serviceable","Class 1",2019,100,97.48,6,{"$f":"INDEX(Lists!$B$32:$B$40, MATCH(2020-C78430, Lists!$C$32:$C$40,1))","v":"31-40"},{"$f":"SUMPRODUCT((Data!$B$17:$B$19=Model!$F78430)*(Data!$C$16:$K$16=Model!$K78430)*(Data!$C$17:$K$19))","v":2.52},84.88,{"$f":"_xlfn.IFS(M78430>70,\"Serviceable\",M78430>30, \"Limited Life\",M78430<=30, \"Unserviceable\")","v":"Serviceable"}]
[null,136065,1970,"Wood Untreated Round","Serviceable","Class 1",2018,130,126.5,7,{"$f":"INDEX(Lists!$B$32:$B$40, MATCH(2020-C78532, Lists!$C$32:$C$40,1))","v":"41-50"},{"$f":"SUMPRODUCT((Data!$B$17:$B$19=Model!$F78532)*(Data!$C$16:$K$16=Model!$K78532)*(Data!$C$17:$K$19))","v":1.75},117.75,{"$f":"_xlfn.IFS(M78532>70,\"Serviceable\",M78532>30, \"Limited Life\",M78532<=30, \"Unserviceable\")","v":"Serviceable"}]
[null,136244,1984,"Wood Untreated Dressed","Serviceable","Class 1",2018,140,134.96,7,{"$f":"INDEX(Lists!$B$32:$B$40, MATCH(2020-C78583, Lists!$C$32:$C$40,1))","v":"31-40"},{"$f":"SUMPRODUCT((Data!$B$17:$B$19=Model!$F78583)*(Data!$C$16:$K$16=Model!$K78583)*(Data!$C$17:$K$19))","v":2.52},122.36,{"$f":"_xlfn.IFS(M78583>70,\"Serviceable\",M78583>30, \"Limited Life\",M78583<=30, \"Unserviceable\")","v":"Serviceable"}]
[null,136613,1972,"Wood Creos Impregnated","Limited Life","Class 3",2019,60,56.22,6,{"$f":"INDEX(Lists!$B$32:$B$40, MATCH(2020-C78668, Lists!$C$32:$C$40,1))","v":"41-50"},{"$f":"SUMPRODUCT((Data!$B$17:$B$19=Model!$F78668)*(Data!$C$16:$K$16=Model!$K78668)*(Data!$C$17:$K$19))","v":3.78},37.32,{"$f":"_xlfn.IFS(M78668>70,\"Serviceable\",M78668>30, \"Limited Life\",M78668<=30, \"Unserviceable\")","v":"Limited Life"}]
[null,136751,1975,"Wood Creos Impregnated","Serviceable","Class 3",2019,100,96.22,6,{"$f":"INDEX(Lists!$B$32:$B$40, MATCH(2020-C78708, Lists!$C$32:$C$40,1))","v":"41-50"},{"$f":"SUMPRODUCT((Data!$B$17:$B$19=Model!$F78708)*(Data!$C$16:$K$16=Model!$K78708)*(Data!$C$17:$K$19))","v":3.78},77.319999999999993,{"$f":"_xlfn.IFS(M78708>70,\"Serviceable\",M78708>30, \"Limited Life\",M78708<=30, \"Unserviceable\")","v":"Serviceable"}]
[null,136938,1948,"Wood Untreated Dressed","Serviceable","Class 1",2018,120,115.7,7,{"$f":"INDEX(Lists!$B$32:$B$40, MATCH(2020-C78753, Lists!$C$32:$C$40,1))","v":"71-80"},{"$f":"SUMPRODUCT((Data!$B$17:$B$19=Model!$F78753)*(Data!$C$16:$K$16=Model!$K78753)*(Data!$C$17:$K$19))","v":2.15},104.95,{"$f":"_xlfn.IFS(M78753>70,\"Serviceable\",M78753>30, \"Limited Life\",M78753<=30, \"Unserviceable\")","v":"Serviceable"}]
[null,137337,1982,"Wood Untreated Round","Serviceable","Class 1",2019,100,97.48,6,{"$f":"INDEX(Lists!$B$32:$B$40, MATCH(2020-C78870, Lists!$C$32:$C$40,1))","v":"31-40"},{"$f":"SUMPRODUCT((Data!$B$17:$B$19=Model!$F78870)*(Data!$C$16:$K$16=Model!$K78870)*(Data!$C$17:$K$19))","v":2.52},84.88,{"$f":"_xlfn.IFS(M78870>70,\"Serviceable\",M78870>30, \"Limited Life\",M78870<=30, \"Unserviceable\")","v":"Serviceable"}]
[null,137556,1990,"Wood Untreated Dressed","Serviceable","Class 1",2015,140,130.19999999999999,10,{"$f":"INDEX(Lists!$B$32:$B$40, MATCH(2020-C78906, Lists!$C$32:$C$40,1))","v":"21-30"},{"$f":"SUMPRODUCT((Data!$B$17:$B$19=Model!$F78906)*(Data!$C$16:$K$16=Model!$K78906)*(Data!$C$17:$K$19))","v":1.96},120.4,{"$f":"_xlfn.IFS(M78906>70,\"Serviceable\",M78906>30, \"Limited Life\",M78906<=30, \"Unserviceable\")","v":"Serviceable"}]
[null,137880,1963,"Wood Creos Impregnated","Serviceable","Class 3",2019,100,97.27,6,{"$f":"INDEX(Lists!$B$32:$B$40, MATCH(2020-C78991, Lists!$C$32:$C$40,1))","v":"51-60"},{"$f":"SUMPRODUCT((Data!$B$17:$B$19=Model!$F78991)*(Data!$C$16:$K$16=Model!$K78991)*(Data!$C$17:$K$19))","v":2.73},83.62,{"$f":"_xlfn.IFS(M78991>70,\"Serviceable\",M78991>30, \"Limited Life\",M78991<=30, \"Unserviceable\")","v":"Serviceable"}]
[null,137931,1963,"Wood Creos Impregnated","Serviceable","Class 3",2020,120,120,5,{"$f":"INDEX(Lists!$B$32:$B$40, MATCH(2020-C79012, Lists!$C$32:$C$40,1))","v":"51-60"},{"$f":"SUMPRODUCT((Data!$B$17:$B$19=Model!$F79012)*(Data!$C$16:$K$16=Model!$K79012)*(Data!$C$17:$K$19))","v":2.73},106.35,{"$f":"_xlfn.IFS(M79012>70,\"Serviceable\",M79012>30, \"Limited Life\",M79012<=30, \"Unserviceable\")","v":"Serviceable"}]
[null,138642,2004,"CCA Treated Pole","Serviceable","Class 2",2018,162.49719689682513,160.05719689682513,7,{"$f":"INDEX(Lists!$B$32:$B$40, MATCH(2020-C79144, Lists!$C$32:$C$40,1))","v":"0-20"},{"$f":"SUMPRODUCT((Data!$B$17:$B$19=Model!$F79144)*(Data!$C$16:$K$16=Model!$K79144)*(Data!$C$17:$K$19))","v":1.22},153.95719689682514,{"$f":"_xlfn.IFS(M79144>70,\"Serviceable\",M79144>30, \"Limited Life\",M79144<=30, \"Unserviceable\")","v":"Serviceable"}]
[null,138725,1970,"Wood Creos Impregnated","Serviceable","Class 3",2019,80,76.22,6,{"$f":"INDEX(Lists!$B$32:$B$40, MATCH(2020-C79161, Lists!$C$32:$C$40,1))","v":"41-50"},{"$f":"SUMPRODUCT((Data!$B$17:$B$19=Model!$F79161)*(Data!$C$16:$K$16=Model!$K79161)*(Data!$C$17:$K$19))","v":3.78},57.32,{"$f":"_xlfn.IFS(M79161>70,\"Serviceable\",M79161>30, \"Limited Life\",M79161<=30, \"Unserviceable\")","v":"Limited Life"}]
[null,139374,1999,"CCA Treated Pole","Serviceable","Class 1",2019,150,148.04,6,{"$f":"INDEX(Lists!$B$32:$B$40, MATCH(2020-C79255, Lists!$C$32:$C$40,1))","v":"21-30"},{"$f":"SUMPRODUCT((Data!$B$17:$B$19=Model!$F79255)*(Data!$C$16:$K$16=Model!$K79255)*(Data!$C$17:$K$19))","v":1.96},138.24,{"$f":"_xlfn.IFS(M79255>70,\"Serviceable\",M79255>30, \"Limited Life\",M79255<=30, \"Unserviceable\")","v":"Serviceable"}]
[null,139738,1965,"Wood Creos Impregnated","Serviceable","Class 3",2019,100,97.27,6,{"$f":"INDEX(Lists!$B$32:$B$40, MATCH(2020-C79314, Lists!$C$32:$C$40,1))","v":"51-60"},{"$f":"SUMPRODUCT((Data!$B$17:$B$19=Model!$F79314)*(Data!$C$16:$K$16=Model!$K79314)*(Data!$C$17:$K$19))","v":2.73},83.62,{"$f":"_xlfn.IFS(M79314>70,\"Serviceable\",M79314>30, \"Limited Life\",M79314<=30, \"Unserviceable\")","v":"Serviceable"}]
[null,139933,1998,"CCA Treated Pole","Serviceable","Class 1",2019,120,118.04,6,{"$f":"INDEX(Lists!$B$32:$B$40, MATCH(2020-C79350, Lists!$C$32:$C$40,1))","v":"21-30"},{"$f":"SUMPRODUCT((Data!$B$17:$B$19=Model!$F79350)*(Data!$C$16:$K$16=Model!$K79350)*(Data!$C$17:$K$19))","v":1.96},108.24,{"$f":"_xlfn.IFS(M79350>70,\"Serviceable\",M79350>30, \"Limited Life\",M79350<=30, \"Unserviceable\")","v":"Serviceable"}]
[null,140353,1972,"Wood Creos Impregnated","Serviceable","Class 3",2019,100,96.22,6,{"$f":"INDEX(Lists!$B$32:$B$40, MATCH(2020-C79467, Lists!$C$32:$C$40,1))","v":"41-50"},{"$f":"SUMPRODUCT((Data!$B$17:$B$19=Model!$F79467)*(Data!$C$16:$K$16=Model!$K79467)*(Data!$C$17:$K$19))","v":3.78},77.319999999999993,{"$f":"_xlfn.IFS(M79467>70,\"Serviceable\",M79467>30, \"Limited Life\",M79467<=30, \"Unserviceable\")","v":"Serviceable"}]
[null,140656,1969,"Wood Creos Impregnated","Serviceable","Class 3",2018,100,94.54,7,{"$f":"INDEX(Lists!$B$32:$B$40, MATCH(2020-C79552, Lists!$C$32:$C$40,1))","v":"51-60"},{"$f":"SUMPRODUCT((Data!$B$17:$B$19=Model!$F79552)*(Data!$C$16:$K$16=Model!$K79552)*(Data!$C$17:$K$19))","v":2.73},80.89,{"$f":"_xlfn.IFS(M79552>70,\"Serviceable\",M79552>30, \"Limited Life\",M79552<=30, \"Unserviceable\")","v":"Serviceable"}]
[null,140685,1971,"Wood Creos Impregnated","Serviceable","Class 3",2018,120,112.44,7,{"$f":"INDEX(Lists!$B$32:$B$40, MATCH(2020-C79559, Lists!$C$32:$C$40,1))","v":"41-50"},{"$f":"SUMPRODUCT((Data!$B$17:$B$19=Model!$F79559)*(Data!$C$16:$K$16=Model!$K79559)*(Data!$C$17:$K$19))","v":3.78},93.54,{"$f":"_xlfn.IFS(M79559>70,\"Serviceable\",M79559>30, \"Limited Life\",M79559<=30, \"Unserviceable\")","v":"Serviceable"}]
[null,141050,2000,"CCA Treated Pole","Serviceable","Class 2",2019,150,148.78,6,{"$f":"INDEX(Lists!$B$32:$B$40, MATCH(2020-C79637, Lists!$C$32:$C$40,1))","v":"0-20"},{"$f":"SUMPRODUCT((Data!$B$17:$B$19=Model!$F79637)*(Data!$C$16:$K$16=Model!$K79637)*(Data!$C$17:$K$19))","v":1.22},142.68,{"$f":"_xlfn.IFS(M79637>70,\"Serviceable\",M79637>30, \"Limited Life\",M79637<=30, \"Unserviceable\")","v":"Serviceable"}]
[null,141337,1999,"CCA Treated Pole","Serviceable","Class 1",2019,150,148.04,6,{"$f":"INDEX(Lists!$B$32:$B$40, MATCH(2020-C79721, Lists!$C$32:$C$40,1))","v":"21-30"},{"$f":"SUMPRODUCT((Data!$B$17:$B$19=Model!$F79721)*(Data!$C$16:$K$16=Model!$K79721)*(Data!$C$17:$K$19))","v":1.96},138.24,{"$f":"_xlfn.IFS(M79721>70,\"Serviceable\",M79721>30, \"Limited Life\",M79721<=30, \"Unserviceable\")","v":"Serviceable"}]
[null,141517,1990,"Wood Untreated Dressed","Serviceable","Class 1",2019,100,98.04,6,{"$f":"INDEX(Lists!$B$32:$B$40, MATCH(2020-C79790, Lists!$C$32:$C$40,1))","v":"21-30"},{"$f":"SUMPRODUCT((Data!$B$17:$B$19=Model!$F79790)*(Data!$C$16:$K$16=Model!$K79790)*(Data!$C$17:$K$19))","v":1.96},88.24,{"$f":"_xlfn.IFS(M79790>70,\"Serviceable\",M79790>30, \"Limited Life\",M79790<=30, \"Unserviceable\")","v":"Serviceable"}]
[null,141832,1966,"Wood Creos Impregnated","Serviceable","Class 3",2015,90,76.349999999999994,10,{"$f":"INDEX(Lists!$B$32:$B$40, MATCH(2020-C79875, Lists!$C$32:$C$40,1))","v":"51-60"},{"$f":"SUMPRODUCT((Data!$B$17:$B$19=Model!$F79875)*(Data!$C$16:$K$16=Model!$K79875)*(Data!$C$17:$K$19))","v":2.73},62.7,{"$f":"_xlfn.IFS(M79875>70,\"Serviceable\",M79875>30, \"Limited Life\",M79875<=30, \"Unserviceable\")","v":"Limited Life"}]
[null,142036,1943,"Wood Untreated Round","Serviceable","Class 1",2020,90,90,5,{"$f":"INDEX(Lists!$B$32:$B$40, MATCH(2020-C79930, Lists!$C$32:$C$40,1))","v":"71-80"},{"$f":"SUMPRODUCT((Data!$B$17:$B$19=Model!$F79930)*(Data!$C$16:$K$16=Model!$K79930)*(Data!$C$17:$K$19))","v":2.15},79.25,{"$f":"_xlfn.IFS(M79930>70,\"Serviceable\",M79930>30, \"Limited Life\",M79930<=30, \"Unserviceable\")","v":"Serviceable"}]
[null,142136,1999,"CCA Treated Pole","Serviceable","Class 1",2017,150,144.12,8,{"$f":"INDEX(Lists!$B$32:$B$40, MATCH(2020-C79960, Lists!$C$32:$C$40,1))","v":"21-30"},{"$f":"SUMPRODUCT((Data!$B$17:$B$19=Model!$F79960)*(Data!$C$16:$K$16=Model!$K79960)*(Data!$C$17:$K$19))","v":1.96},134.32,{"$f":"_xlfn.IFS(M79960>70,\"Serviceable\",M79960>30, \"Limited Life\",M79960<=30, \"Unserviceable\")","v":"Serviceable"}]
[null,142364,1959,"Wood Creos Impregnated","Serviceable","Class 3",2017,90,83.94,8,{"$f":"INDEX(Lists!$B$32:$B$40, MATCH(2020-C80045, Lists!$C$32:$C$40,1))","v":"61-70"},{"$f":"SUMPRODUCT((Data!$B$17:$B$19=Model!$F80045)*(Data!$C$16:$K$16=Model!$K80045)*(Data!$C$17:$K$19))","v":2.02},73.84,{"$f":"_xlfn.IFS(M80045>70,\"Serviceable\",M80045>30, \"Limited Life\",M80045<=30, \"Unserviceable\")","v":"Serviceable"}]
[null,142536,1947,"Wood Untreated Dressed","Serviceable","Class 1",2018,100,95.7,7,{"$f":"INDEX(Lists!$B$32:$B$40, MATCH(2020-C80106, Lists!$C$32:$C$40,1))","v":"71-80"},{"$f":"SUMPRODUCT((Data!$B$17:$B$19=Model!$F80106)*(Data!$C$16:$K$16=Model!$K80106)*(Data!$C$17:$K$19))","v":2.15},84.95,{"$f":"_xlfn.IFS(M80106>70,\"Serviceable\",M80106>30, \"Limited Life\",M80106<=30, \"Unserviceable\")","v":"Serviceable"}]
[null,142904,1983,"Wood Untreated Dressed","Serviceable","Class 1",2017,100,92.44,8,{"$f":"INDEX(Lists!$B$32:$B$40, MATCH(2020-C80198, Lists!$C$32:$C$40,1))","v":"31-40"},{"$f":"SUMPRODUCT((Data!$B$17:$B$19=Model!$F80198)*(Data!$C$16:$K$16=Model!$K80198)*(Data!$C$17:$K$19))","v":2.52},79.84,{"$f":"_xlfn.IFS(M80198>70,\"Serviceable\",M80198>30, \"Limited Life\",M80198<=30, \"Unserviceable\")","v":"Serviceable"}]
[null,143273,1974,"Wood Creos Impregnated","Serviceable","Class 1",2018,120,116.5,7,{"$f":"INDEX(Lists!$B$32:$B$40, MATCH(2020-C80268, Lists!$C$32:$C$40,1))","v":"41-50"},{"$f":"SUMPRODUCT((Data!$B$17:$B$19=Model!$F80268)*(Data!$C$16:$K$16=Model!$K80268)*(Data!$C$17:$K$19))","v":1.75},107.75,{"$f":"_xlfn.IFS(M80268>70,\"Serviceable\",M80268>30, \"Limited Life\",M80268<=30, \"Unserviceable\")","v":"Serviceable"}]
[null,143676,1962,"Wood Creos Impregnated","Serviceable","Class 3",2018,100,94.54,7,{"$f":"INDEX(Lists!$B$32:$B$40, MATCH(2020-C80351, Lists!$C$32:$C$40,1))","v":"51-60"},{"$f":"SUMPRODUCT((Data!$B$17:$B$19=Model!$F80351)*(Data!$C$16:$K$16=Model!$K80351)*(Data!$C$17:$K$19))","v":2.73},80.89,{"$f":"_xlfn.IFS(M80351>70,\"Serviceable\",M80351>30, \"Limited Life\",M80351<=30, \"Unserviceable\")","v":"Serviceable"}]
[null,143765,1990,"Wood Untreated Dressed","Serviceable","Class 1",2017,100,94.12,8,{"$f":"INDEX(Lists!$B$32:$B$40, MATCH(2020-C80368, Lists!$C$32:$C$40,1))","v":"21-30"},{"$f":"SUMPRODUCT((Data!$B$17:$B$19=Model!$F80368)*(Data!$C$16:$K$16=Model!$K80368)*(Data!$C$17:$K$19))","v":1.96},84.32,{"$f":"_xlfn.IFS(M80368>70,\"Serviceable\",M80368>30, \"Limited Life\",M80368<=30, \"Unserviceable\")","v":"Serviceable"}]
[null,144174,1960,"Wood Creos Impregnated","Serviceable","Class 3",2018,90,84.54,7,{"$f":"INDEX(Lists!$B$32:$B$40, MATCH(2020-C80477, Lists!$C$32:$C$40,1))","v":"51-60"},{"$f":"SUMPRODUCT((Data!$B$17:$B$19=Model!$F80477)*(Data!$C$16:$K$16=Model!$K80477)*(Data!$C$17:$K$19))","v":2.73},70.89,{"$f":"_xlfn.IFS(M80477>70,\"Serviceable\",M80477>30, \"Limited Life\",M80477<=30, \"Unserviceable\")","v":"Serviceable"}]
[null,144343,1976,"Wood Creos Impregnated","Serviceable","Class 3",2018,100,92.44,7,{"$f":"INDEX(Lists!$B$32:$B$40, MATCH(2020-C80521, Lists!$C$32:$C$40,1))","v":"41-50"},{"$f":"SUMPRODUCT((Data!$B$17:$B$19=Model!$F80521)*(Data!$C$16:$K$16=Model!$K80521)*(Data!$C$17:$K$19))","v":3.78},73.540000000000006,{"$f":"_xlfn.IFS(M80521>70,\"Serviceable\",M80521>30, \"Limited Life\",M80521<=30, \"Unserviceable\")","v":"Serviceable"}]
[null,144519,2010,"CCA Treated Pole","Serviceable","Class 2",2015,162.49719689682513,156.39719689682514,10,{"$f":"INDEX(Lists!$B$32:$B$40, MATCH(2020-C80572, Lists!$C$32:$C$40,1))","v":"0-20"},{"$f":"SUMPRODUCT((Data!$B$17:$B$19=Model!$F80572)*(Data!$C$16:$K$16=Model!$K80572)*(Data!$C$17:$K$19))","v":1.22},150.29719689682514,{"$f":"_xlfn.IFS(M80572>70,\"Serviceable\",M80572>30, \"Limited Life\",M80572<=30, \"Unserviceable\")","v":"Serviceable"}]
[null,145005,1965,"Wood Creos Impregnated","Serviceable","Class 3",2018,100,94.54,7,{"$f":"INDEX(Lists!$B$32:$B$40, MATCH(2020-C80674, Lists!$C$32:$C$40,1))","v":"51-60"},{"$f":"SUMPRODUCT((Data!$B$17:$B$19=Model!$F80674)*(Data!$C$16:$K$16=Model!$K80674)*(Data!$C$17:$K$19))","v":2.73},80.89,{"$f":"_xlfn.IFS(M80674>70,\"Serviceable\",M80674>30, \"Limited Life\",M80674<=30, \"Unserviceable\")","v":"Serviceable"}]
[null,145362,1979,"Wood Creos Impregnated","Serviceable","Class 1",2018,100,96.5,7,{"$f":"INDEX(Lists!$B$32:$B$40, MATCH(2020-C80759, Lists!$C$32:$C$40,1))","v":"41-50"},{"$f":"SUMPRODUCT((Data!$B$17:$B$19=Model!$F80759)*(Data!$C$16:$K$16=Model!$K80759)*(Data!$C$17:$K$19))","v":1.75},87.75,{"$f":"_xlfn.IFS(M80759>70,\"Serviceable\",M80759>30, \"Limited Life\",M80759<=30, \"Unserviceable\")","v":"Serviceable"}]
[null,146203,2001,"CCA Treated Pole","Serviceable","Class 2",2020,150,150,5,{"$f":"INDEX(Lists!$B$32:$B$40, MATCH(2020-C80815, Lists!$C$32:$C$40,1))","v":"0-20"},{"$f":"SUMPRODUCT((Data!$B$17:$B$19=Model!$F80815)*(Data!$C$16:$K$16=Model!$K80815)*(Data!$C$17:$K$19))","v":1.22},143.9,{"$f":"_xlfn.IFS(M80815>70,\"Serviceable\",M80815>30, \"Limited Life\",M80815<=30, \"Unserviceable\")","v":"Serviceable"}]
[null,146470,1965,"Wood Creos Impregnated","Serviceable","Class 3",2019,100,97.27,6,{"$f":"INDEX(Lists!$B$32:$B$40, MATCH(2020-C80844, Lists!$C$32:$C$40,1))","v":"51-60"},{"$f":"SUMPRODUCT((Data!$B$17:$B$19=Model!$F80844)*(Data!$C$16:$K$16=Model!$K80844)*(Data!$C$17:$K$19))","v":2.73},83.62,{"$f":"_xlfn.IFS(M80844>70,\"Serviceable\",M80844>30, \"Limited Life\",M80844<=30, \"Unserviceable\")","v":"Serviceable"}]
[null,146796,1975,"Wood Creos Impregnated","Serviceable","Class 3",2019,100,96.22,6,{"$f":"INDEX(Lists!$B$32:$B$40, MATCH(2020-C80943, Lists!$C$32:$C$40,1))","v":"41-50"},{"$f":"SUMPRODUCT((Data!$B$17:$B$19=Model!$F80943)*(Data!$C$16:$K$16=Model!$K80943)*(Data!$C$17:$K$19))","v":3.78},77.319999999999993,{"$f":"_xlfn.IFS(M80943>70,\"Serviceable\",M80943>30, \"Limited Life\",M80943<=30, \"Unserviceable\")","v":"Serviceable"}]
[null,146902,1978,"Wood Creos Impregnated","Serviceable","Class 1",2017,130,124.75,8,{"$f":"INDEX(Lists!$B$32:$B$40, MATCH(2020-C80997, Lists!$C$32:$C$40,1))","v":"41-50"},{"$f":"SUMPRODUCT((Data!$B$17:$B$19=Model!$F80997)*(Data!$C$16:$K$16=Model!$K80997)*(Data!$C$17:$K$19))","v":1.75},116,{"$f":"_xlfn.IFS(M80997>70,\"Serviceable\",M80997>30, \"Limited Life\",M80997<=30, \"Unserviceable\")","v":"Serviceable"}]
[null,147697,1964,"Wood Creos Impregnated","Serviceable","Class 3",2017,130,121.81,8,{"$f":"INDEX(Lists!$B$32:$B$40, MATCH(2020-C81082, Lists!$C$32:$C$40,1))","v":"51-60"},{"$f":"SUMPRODUCT((Data!$B$17:$B$19=Model!$F81082)*(Data!$C$16:$K$16=Model!$K81082)*(Data!$C$17:$K$19))","v":2.73},108.16,{"$f":"_xlfn.IFS(M81082>70,\"Serviceable\",M81082>30, \"Limited Life\",M81082<=30, \"Unserviceable\")","v":"Serviceable"}]
[null,148007,1961,"Wood Creos Impregnated","Serviceable","Class 3",2018,90,84.54,7,{"$f":"INDEX(Lists!$B$32:$B$40, MATCH(2020-C81119, Lists!$C$32:$C$40,1))","v":"51-60"},{"$f":"SUMPRODUCT((Data!$B$17:$B$19=Model!$F81119)*(Data!$C$16:$K$16=Model!$K81119)*(Data!$C$17:$K$19))","v":2.73},70.89,{"$f":"_xlfn.IFS(M81119>70,\"Serviceable\",M81119>30, \"Limited Life\",M81119<=30, \"Unserviceable\")","v":"Serviceable"}]
[null,148767,1980,"Wood Creos Impregnated","Serviceable","Class 3",2020,100,100,5,{"$f":"INDEX(Lists!$B$32:$B$40, MATCH(2020-C81235, Lists!$C$32:$C$40,1))","v":"31-40"},{"$f":"SUMPRODUCT((Data!$B$17:$B$19=Model!$F81235)*(Data!$C$16:$K$16=Model!$K81235)*(Data!$C$17:$K$19))","v":3.22},83.9,{"$f":"_xlfn.IFS(M81235>70,\"Serviceable\",M81235>30, \"Limited Life\",M81235<=30, \"Unserviceable\")","v":"Serviceable"}]
[null,148993,1975,"Wood Creos Impregnated","Serviceable","Class 3",2016,100,84.88,9,{"$f":"INDEX(Lists!$B$32:$B$40, MATCH(2020-C81252, Lists!$C$32:$C$40,1))","v":"41-50"},{"$f":"SUMPRODUCT((Data!$B$17:$B$19=Model!$F81252)*(Data!$C$16:$K$16=Model!$K81252)*(Data!$C$17:$K$19))","v":3.78},65.98,{"$f":"_xlfn.IFS(M81252>70,\"Serviceable\",M81252>30, \"Limited Life\",M81252<=30, \"Unserviceable\")","v":"Limited Life"}]
[null,149561,1962,"Wood Creos Impregnated","Serviceable","Class 3",2016,100,89.08,9,{"$f":"INDEX(Lists!$B$32:$B$40, MATCH(2020-C81328, Lists!$C$32:$C$40,1))","v":"51-60"},{"$f":"SUMPRODUCT((Data!$B$17:$B$19=Model!$F81328)*(Data!$C$16:$K$16=Model!$K81328)*(Data!$C$17:$K$19))","v":2.73},75.430000000000007,{"$f":"_xlfn.IFS(M81328>70,\"Serviceable\",M81328>30, \"Limited Life\",M81328<=30, \"Unserviceable\")","v":"Serviceable"}]
[null,151268,1976,"Wood Creos Impregnated","Serviceable","Class 1",2017,150,144.75,8,{"$f":"INDEX(Lists!$B$32:$B$40, MATCH(2020-C81405, Lists!$C$32:$C$40,1))","v":"41-50"},{"$f":"SUMPRODUCT((Data!$B$17:$B$19=Model!$F81405)*(Data!$C$16:$K$16=Model!$K81405)*(Data!$C$17:$K$19))","v":1.75},136,{"$f":"_xlfn.IFS(M81405>70,\"Serviceable\",M81405>30, \"Limited Life\",M81405<=30, \"Unserviceable\")","v":"Serviceable"}]
[null,152957,1971,"Wood Creos Impregnated","Serviceable","Class 3",2018,100,92.44,7,{"$f":"INDEX(Lists!$B$32:$B$40, MATCH(2020-C81490, Lists!$C$32:$C$40,1))","v":"41-50"},{"$f":"SUMPRODUCT((Data!$B$17:$B$19=Model!$F81490)*(Data!$C$16:$K$16=Model!$K81490)*(Data!$C$17:$K$19))","v":3.78},73.540000000000006,{"$f":"_xlfn.IFS(M81490>70,\"Serviceable\",M81490>30, \"Limited Life\",M81490<=30, \"Unserviceable\")","v":"Serviceable"}]
[null,153881,1969,"Wood Creos Impregnated","Serviceable","Class 3",2020,100,100,5,{"$f":"INDEX(Lists!$B$32:$B$40, MATCH(2020-C81558, Lists!$C$32:$C$40,1))","v":"51-60"},{"$f":"SUMPRODUCT((Data!$B$17:$B$19=Model!$F81558)*(Data!$C$16:$K$16=Model!$K81558)*(Data!$C$17:$K$19))","v":2.73},86.35,{"$f":"_xlfn.IFS(M81558>70,\"Serviceable\",M81558>30, \"Limited Life\",M81558<=30, \"Unserviceable\")","v":"Serviceable"}]
[null,154453,1964,"Wood Creos Impregnated","Serviceable","Class 3",2019,100,97.27,6,{"$f":"INDEX(Lists!$B$32:$B$40, MATCH(2020-C81643, Lists!$C$32:$C$40,1))","v":"51-60"},{"$f":"SUMPRODUCT((Data!$B$17:$B$19=Model!$F81643)*(Data!$C$16:$K$16=Model!$K81643)*(Data!$C$17:$K$19))","v":2.73},83.62,{"$f":"_xlfn.IFS(M81643>70,\"Serviceable\",M81643>30, \"Limited Life\",M81643<=30, \"Unserviceable\")","v":"Serviceable"}]
[null,154555,1975,"Wood Creos Impregnated","Serviceable","Class 1",2019,120,118.25,6,{"$f":"INDEX(Lists!$B$32:$B$40, MATCH(2020-C81666, Lists!$C$32:$C$40,1))","v":"41-50"},{"$f":"SUMPRODUCT((Data!$B$17:$B$19=Model!$F81666)*(Data!$C$16:$K$16=Model!$K81666)*(Data!$C$17:$K$19))","v":1.75},109.5,{"$f":"_xlfn.IFS(M81666>70,\"Serviceable\",M81666>30, \"Limited Life\",M81666<=30, \"Unserviceable\")","v":"Serviceable"}]
[null,155579,1937,"Wood Untreated Dressed","Serviceable","Class 1",2019,130,127.19,6,{"$f":"INDEX(Lists!$B$32:$B$40, MATCH(2020-C81728, Lists!$C$32:$C$40,1))","v":"81-90"},{"$f":"SUMPRODUCT((Data!$B$17:$B$19=Model!$F81728)*(Data!$C$16:$K$16=Model!$K81728)*(Data!$C$17:$K$19))","v":2.81},113.14,{"$f":"_xlfn.IFS(M81728>70,\"Serviceable\",M81728>30, \"Limited Life\",M81728<=30, \"Unserviceable\")","v":"Serviceable"}]
[null,165241,1967,"Wood Untreated Dressed","Serviceable","Class 3",2019,100,97.27,6,{"$f":"INDEX(Lists!$B$32:$B$40, MATCH(2020-C81794, Lists!$C$32:$C$40,1))","v":"51-60"},{"$f":"SUMPRODUCT((Data!$B$17:$B$19=Model!$F81794)*(Data!$C$16:$K$16=Model!$K81794)*(Data!$C$17:$K$19))","v":2.73},83.62,{"$f":"_xlfn.IFS(M81794>70,\"Serviceable\",M81794>30, \"Limited Life\",M81794<=30, \"Unserviceable\")","v":"Serviceable"}]
[null,165365,1974,"Wood Creos Impregnated","Limited Life","Class 3",2017,80,68.66,8,{"$f":"INDEX(Lists!$B$32:$B$40, MATCH(2020-C81881, Lists!$C$32:$C$40,1))","v":"41-50"},{"$f":"SUMPRODUCT((Data!$B$17:$B$19=Model!$F81881)*(Data!$C$16:$K$16=Model!$K81881)*(Data!$C$17:$K$19))","v":3.78},49.760000000000005,{"$f":"_xlfn.IFS(M81881>70,\"Serviceable\",M81881>30, \"Limited Life\",M81881<=30, \"Unserviceable\")","v":"Limited Life"}]
[null,165492,1976,"Wood Creos Impregnated","Serviceable","Class 3",2017,110,98.66,8,{"$f":"INDEX(Lists!$B$32:$B$40, MATCH(2020-C81966, Lists!$C$32:$C$40,1))","v":"41-50"},{"$f":"SUMPRODUCT((Data!$B$17:$B$19=Model!$F81966)*(Data!$C$16:$K$16=Model!$K81966)*(Data!$C$17:$K$19))","v":3.78},79.760000000000005,{"$f":"_xlfn.IFS(M81966>70,\"Serviceable\",M81966>30, \"Limited Life\",M81966<=30, \"Unserviceable\")","v":"Serviceable"}]
[null,165585,1972,"Wood Creos Impregnated","Limited Life","Class 3",2017,70,58.66,8,{"$f":"INDEX(Lists!$B$32:$B$40, MATCH(2020-C82037, Lists!$C$32:$C$40,1))","v":"41-50"},{"$f":"SUMPRODUCT((Data!$B$17:$B$19=Model!$F82037)*(Data!$C$16:$K$16=Model!$K82037)*(Data!$C$17:$K$19))","v":3.78},39.760000000000005,{"$f":"_xlfn.IFS(M82037>70,\"Serviceable\",M82037>30, \"Limited Life\",M82037<=30, \"Unserviceable\")","v":"Limited Life"}]
[null,165744,1971,"Wood Creos Impregnated","Serviceable","Class 3",2019,80,76.22,6,{"$f":"INDEX(Lists!$B$32:$B$40, MATCH(2020-C82119, Lists!$C$32:$C$40,1))","v":"41-50"},{"$f":"SUMPRODUCT((Data!$B$17:$B$19=Model!$F82119)*(Data!$C$16:$K$16=Model!$K82119)*(Data!$C$17:$K$19))","v":3.78},57.32,{"$f":"_xlfn.IFS(M82119>70,\"Serviceable\",M82119>30, \"Limited Life\",M82119<=30, \"Unserviceable\")","v":"Limited Life"}]
[null,165774,1973,"Wood Creos Impregnated","Serviceable","Class 3",2019,100,96.22,6,{"$f":"INDEX(Lists!$B$32:$B$40, MATCH(2020-C82136, Lists!$C$32:$C$40,1))","v":"41-50"},{"$f":"SUMPRODUCT((Data!$B$17:$B$19=Model!$F82136)*(Data!$C$16:$K$16=Model!$K82136)*(Data!$C$17:$K$19))","v":3.78},77.319999999999993,{"$f":"_xlfn.IFS(M82136>70,\"Serviceable\",M82136>30, \"Limited Life\",M82136<=30, \"Unserviceable\")","v":"Serviceable"}]
[null,165940,1978,"Wood Creos Impregnated","Serviceable","Class 2",2018,140,133.44,7,{"$f":"INDEX(Lists!$B$32:$B$40, MATCH(2020-C82246, Lists!$C$32:$C$40,1))","v":"41-50"},{"$f":"SUMPRODUCT((Data!$B$17:$B$19=Model!$F82246)*(Data!$C$16:$K$16=Model!$K82246)*(Data!$C$17:$K$19))","v":3.28},117.04,{"$f":"_xlfn.IFS(M82246>70,\"Serviceable\",M82246>30, \"Limited Life\",M82246<=30, \"Unserviceable\")","v":"Serviceable"}]
[null,166016,1985,"Wood Untreated Dressed","Serviceable","Class 1",2019,120,117.48,6,{"$f":"INDEX(Lists!$B$32:$B$40, MATCH(2020-C82289, Lists!$C$32:$C$40,1))","v":"31-40"},{"$f":"SUMPRODUCT((Data!$B$17:$B$19=Model!$F82289)*(Data!$C$16:$K$16=Model!$K82289)*(Data!$C$17:$K$19))","v":2.52},104.88,{"$f":"_xlfn.IFS(M82289>70,\"Serviceable\",M82289>30, \"Limited Life\",M82289<=30, \"Unserviceable\")","v":"Serviceable"}]
[null,166107,1968,"Wood Creos Impregnated","Serviceable","Class 3",2019,90,87.27,6,{"$f":"INDEX(Lists!$B$32:$B$40, MATCH(2020-C82341, Lists!$C$32:$C$40,1))","v":"51-60"},{"$f":"SUMPRODUCT((Data!$B$17:$B$19=Model!$F82341)*(Data!$C$16:$K$16=Model!$K82341)*(Data!$C$17:$K$19))","v":2.73},73.62,{"$f":"_xlfn.IFS(M82341>70,\"Serviceable\",M82341>30, \"Limited Life\",M82341<=30, \"Unserviceable\")","v":"Serviceable"}]
[null,166271,2011,"CCA Treated Pole","Serviceable","Class 2",2015,120,113.9,10,{"$f":"INDEX(Lists!$B$32:$B$40, MATCH(2020-C82442, Lists!$C$32:$C$40,1))","v":"0-20"},{"$f":"SUMPRODUCT((Data!$B$17:$B$19=Model!$F82442)*(Data!$C$16:$K$16=Model!$K82442)*(Data!$C$17:$K$19))","v":1.22},107.8,{"$f":"_xlfn.IFS(M82442>70,\"Serviceable\",M82442>30, \"Limited Life\",M82442<=30, \"Unserviceable\")","v":"Serviceable"}]
[null,166415,1979,"Wood Creos Impregnated","Serviceable","Class 1",2019,110,108.25,6,{"$f":"INDEX(Lists!$B$32:$B$40, MATCH(2020-C82527, Lists!$C$32:$C$40,1))","v":"41-50"},{"$f":"SUMPRODUCT((Data!$B$17:$B$19=Model!$F82527)*(Data!$C$16:$K$16=Model!$K82527)*(Data!$C$17:$K$19))","v":1.75},99.5,{"$f":"_xlfn.IFS(M82527>70,\"Serviceable\",M82527>30, \"Limited Life\",M82527<=30, \"Unserviceable\")","v":"Serviceable"}]
[null,166507,1973,"Wood Creos Impregnated","Serviceable","Class 3",2020,100,100,5,{"$f":"INDEX(Lists!$B$32:$B$40, MATCH(2020-C82584, Lists!$C$32:$C$40,1))","v":"41-50"},{"$f":"SUMPRODUCT((Data!$B$17:$B$19=Model!$F82584)*(Data!$C$16:$K$16=Model!$K82584)*(Data!$C$17:$K$19))","v":3.78},81.099999999999994,{"$f":"_xlfn.IFS(M82584>70,\"Serviceable\",M82584>30, \"Limited Life\",M82584<=30, \"Unserviceable\")","v":"Serviceable"}]
[null,166555,1969,"Wood Creos Impregnated","Serviceable","Class 3",2017,110,101.81,8,{"$f":"INDEX(Lists!$B$32:$B$40, MATCH(2020-C82612, Lists!$C$32:$C$40,1))","v":"51-60"},{"$f":"SUMPRODUCT((Data!$B$17:$B$19=Model!$F82612)*(Data!$C$16:$K$16=Model!$K82612)*(Data!$C$17:$K$19))","v":2.73},88.16,{"$f":"_xlfn.IFS(M82612>70,\"Serviceable\",M82612>30, \"Limited Life\",M82612<=30, \"Unserviceable\")","v":"Serviceable"}]
[null,166731,1969,"Wood Creos Impregnated","Serviceable","Class 3",2017,120,111.81,8,{"$f":"INDEX(Lists!$B$32:$B$40, MATCH(2020-C82712, Lists!$C$32:$C$40,1))","v":"51-60"},{"$f":"SUMPRODUCT((Data!$B$17:$B$19=Model!$F82712)*(Data!$C$16:$K$16=Model!$K82712)*(Data!$C$17:$K$19))","v":2.73},98.16,{"$f":"_xlfn.IFS(M82712>70,\"Serviceable\",M82712>30, \"Limited Life\",M82712<=30, \"Unserviceable\")","v":"Serviceable"}]
[null,166812,1979,"Wood Untreated Dressed","Serviceable","Class 1",2019,130,128.25,6,{"$f":"INDEX(Lists!$B$32:$B$40, MATCH(2020-C82765, Lists!$C$32:$C$40,1))","v":"41-50"},{"$f":"SUMPRODUCT((Data!$B$17:$B$19=Model!$F82765)*(Data!$C$16:$K$16=Model!$K82765)*(Data!$C$17:$K$19))","v":1.75},119.5,{"$f":"_xlfn.IFS(M82765>70,\"Serviceable\",M82765>30, \"Limited Life\",M82765<=30, \"Unserviceable\")","v":"Serviceable"}]
[null,166960,1996,"Wood Untreated Dressed","Serviceable","Class 1",2019,120,118.04,6,{"$f":"INDEX(Lists!$B$32:$B$40, MATCH(2020-C82850, Lists!$C$32:$C$40,1))","v":"21-30"},{"$f":"SUMPRODUCT((Data!$B$17:$B$19=Model!$F82850)*(Data!$C$16:$K$16=Model!$K82850)*(Data!$C$17:$K$19))","v":1.96},108.24,{"$f":"_xlfn.IFS(M82850>70,\"Serviceable\",M82850>30, \"Limited Life\",M82850<=30, \"Unserviceable\")","v":"Serviceable"}]
[null,167019,1983,"Wood Untreated Dressed","Serviceable","Class 1",2017,150,142.44,{"$f":"2025-G82888","v":8},{"$f":"INDEX(Lists!$B$32:$B$40, MATCH(2020-C82888, Lists!$C$32:$C$40,1))","v":"31-40"},{"$f":"SUMPRODUCT((Data!$B$17:$B$19=Model!$F82888)*(Data!$C$16:$K$16=Model!$K82888)*(Data!$C$17:$K$19))","v":2.52},{"$f":"IF(IF(H82888>=700,999,(H82888-L82888*J82888))<0,0,IF(H82888>=700,999,(H82888-L82888*J82888)))","v":129.84},{"$f":"_xlfn.IFS(M82888>70,\"Serviceable\",M82888>30, \"Limited Life\",M82888<=30, \"Unserviceable\")","v":"Serviceable"}]
[null,167108,1974,"Wood Creos Impregnated","Serviceable","Class 3",2020,90,90,5,{"$f":"INDEX(Lists!$B$32:$B$40, MATCH(2020-C82935, Lists!$C$32:$C$40,1))","v":"41-50"},{"$f":"SUMPRODUCT((Data!$B$17:$B$19=Model!$F82935)*(Data!$C$16:$K$16=Model!$K82935)*(Data!$C$17:$K$19))","v":3.78},71.099999999999994,{"$f":"_xlfn.IFS(M82935>70,\"Serviceable\",M82935>30, \"Limited Life\",M82935<=30, \"Unserviceable\")","v":"Serviceable"}]
[null,167224,1981,"Wood Untreated Dressed","Serviceable","Class 1",2019,120,117.48,{"$f":"2025-G83016","v":6},{"$f":"INDEX(Lists!$B$32:$B$40, MATCH(2020-C83016, Lists!$C$32:$C$40,1))","v":"31-40"},{"$f":"SUMPRODUCT((Data!$B$17:$B$19=Model!$F83016)*(Data!$C$16:$K$16=Model!$K83016)*(Data!$C$17:$K$19))","v":2.52},{"$f":"IF(IF(H83016>=700,999,(H83016-L83016*J83016))<0,0,IF(H83016>=700,999,(H83016-L83016*J83016)))","v":104.88},{"$f":"_xlfn.IFS(M83016>70,\"Serviceable\",M83016>30, \"Limited Life\",M83016<=30, \"Unserviceable\")","v":"Serviceable"}]
[null,167404,1975,"Wood Untreated Dressed","Serviceable","Class 1",2020,100,100,5,{"$f":"INDEX(Lists!$B$32:$B$40, MATCH(2020-C83104, Lists!$C$32:$C$40,1))","v":"41-50"},{"$f":"SUMPRODUCT((Data!$B$17:$B$19=Model!$F83104)*(Data!$C$16:$K$16=Model!$K83104)*(Data!$C$17:$K$19))","v":1.75},91.25,{"$f":"_xlfn.IFS(M83104>70,\"Serviceable\",M83104>30, \"Limited Life\",M83104<=30, \"Unserviceable\")","v":"Serviceable"}]
[null,167521,1975,"Wood Creos Impregnated","Serviceable","Class 3",2019,90,86.22,6,{"$f":"INDEX(Lists!$B$32:$B$40, MATCH(2020-C83173, Lists!$C$32:$C$40,1))","v":"41-50"},{"$f":"SUMPRODUCT((Data!$B$17:$B$19=Model!$F83173)*(Data!$C$16:$K$16=Model!$K83173)*(Data!$C$17:$K$19))","v":3.78},67.319999999999993,{"$f":"_xlfn.IFS(M83173>70,\"Serviceable\",M83173>30, \"Limited Life\",M83173<=30, \"Unserviceable\")","v":"Limited Life"}]
[null,167705,2003,"CCA Treated Pole","Serviceable","Class 1",2017,150,146.82,8,{"$f":"INDEX(Lists!$B$32:$B$40, MATCH(2020-C83259, Lists!$C$32:$C$40,1))","v":"0-20"},{"$f":"SUMPRODUCT((Data!$B$17:$B$19=Model!$F83259)*(Data!$C$16:$K$16=Model!$K83259)*(Data!$C$17:$K$19))","v":1.06},141.52000000000001,{"$f":"_xlfn.IFS(M83259>70,\"Serviceable\",M83259>30, \"Limited Life\",M83259<=30, \"Unserviceable\")","v":"Serviceable"}]
[null,167828,1974,"Wood Untreated Dressed","Serviceable","Class 1",2016,100,93,9,{"$f":"INDEX(Lists!$B$32:$B$40, MATCH(2020-C83326, Lists!$C$32:$C$40,1))","v":"41-50"},{"$f":"SUMPRODUCT((Data!$B$17:$B$19=Model!$F83326)*(Data!$C$16:$K$16=Model!$K83326)*(Data!$C$17:$K$19))","v":1.75},84.25,{"$f":"_xlfn.IFS(M83326>70,\"Serviceable\",M83326>30, \"Limited Life\",M83326<=30, \"Unserviceable\")","v":"Serviceable"}]
[null,167864,1974,"Wood Untreated Dressed","Serviceable","Class 1",2017,90,84.75,8,{"$f":"INDEX(Lists!$B$32:$B$40, MATCH(2020-C83343, Lists!$C$32:$C$40,1))","v":"41-50"},{"$f":"SUMPRODUCT((Data!$B$17:$B$19=Model!$F83343)*(Data!$C$16:$K$16=Model!$K83343)*(Data!$C$17:$K$19))","v":1.75},76,{"$f":"_xlfn.IFS(M83343>70,\"Serviceable\",M83343>30, \"Limited Life\",M83343<=30, \"Unserviceable\")","v":"Serviceable"}]
[null,167989,1967,"Wood Creos Impregnated","Serviceable","Class 3",2017,120,111.81,8,{"$f":"INDEX(Lists!$B$32:$B$40, MATCH(2020-C83435, Lists!$C$32:$C$40,1))","v":"51-60"},{"$f":"SUMPRODUCT((Data!$B$17:$B$19=Model!$F83435)*(Data!$C$16:$K$16=Model!$K83435)*(Data!$C$17:$K$19))","v":2.73},98.16,{"$f":"_xlfn.IFS(M83435>70,\"Serviceable\",M83435>30, \"Limited Life\",M83435<=30, \"Unserviceable\")","v":"Serviceable"}]
[null,168078,1982,"Wood Untreated Dressed","Serviceable","Class 3",2019,80,76.78,6,{"$f":"INDEX(Lists!$B$32:$B$40, MATCH(2020-C83496, Lists!$C$32:$C$40,1))","v":"31-40"},{"$f":"SUMPRODUCT((Data!$B$17:$B$19=Model!$F83496)*(Data!$C$16:$K$16=Model!$K83496)*(Data!$C$17:$K$19))","v":3.22},60.68,{"$f":"_xlfn.IFS(M83496>70,\"Serviceable\",M83496>30, \"Limited Life\",M83496<=30, \"Unserviceable\")","v":"Limited Life"}]
[null,168196,1975,"Wood Untreated Dressed","Serviceable","Class 1",2015,120,111.25,10,{"$f":"INDEX(Lists!$B$32:$B$40, MATCH(2020-C83563, Lists!$C$32:$C$40,1))","v":"41-50"},{"$f":"SUMPRODUCT((Data!$B$17:$B$19=Model!$F83563)*(Data!$C$16:$K$16=Model!$K83563)*(Data!$C$17:$K$19))","v":1.75},102.5,{"$f":"_xlfn.IFS(M83563>70,\"Serviceable\",M83563>30, \"Limited Life\",M83563<=30, \"Unserviceable\")","v":"Serviceable"}]
[null,168303,1986,"Wood Untreated Dressed","Serviceable","Class 2",2019,162.49719689682513,160.16719689682512,6,{"$f":"INDEX(Lists!$B$32:$B$40, MATCH(2020-C83649, Lists!$C$32:$C$40,1))","v":"31-40"},{"$f":"SUMPRODUCT((Data!$B$17:$B$19=Model!$F83649)*(Data!$C$16:$K$16=Model!$K83649)*(Data!$C$17:$K$19))","v":2.33},148.51719689682514,{"$f":"_xlfn.IFS(M83649>70,\"Serviceable\",M83649>30, \"Limited Life\",M83649<=30, \"Unserviceable\")","v":"Serviceable"}]
[null,168445,1975,"Wood Creos Impregnated","Serviceable","Class 3",2015,100,81.099999999999994,10,{"$f":"INDEX(Lists!$B$32:$B$40, MATCH(2020-C83734, Lists!$C$32:$C$40,1))","v":"41-50"},{"$f":"SUMPRODUCT((Data!$B$17:$B$19=Model!$F83734)*(Data!$C$16:$K$16=Model!$K83734)*(Data!$C$17:$K$19))","v":3.78},62.2,{"$f":"_xlfn.IFS(M83734>70,\"Serviceable\",M83734>30, \"Limited Life\",M83734<=30, \"Unserviceable\")","v":"Limited Life"}]
[null,168602,1970,"Wood Creos Impregnated","Serviceable","Class 3",2019,90,86.22,6,{"$f":"INDEX(Lists!$B$32:$B$40, MATCH(2020-C83806, Lists!$C$32:$C$40,1))","v":"41-50"},{"$f":"SUMPRODUCT((Data!$B$17:$B$19=Model!$F83806)*(Data!$C$16:$K$16=Model!$K83806)*(Data!$C$17:$K$19))","v":3.78},67.319999999999993,{"$f":"_xlfn.IFS(M83806>70,\"Serviceable\",M83806>30, \"Limited Life\",M83806<=30, \"Unserviceable\")","v":"Limited Life"}]
[null,168621,1977,"Wood Creos Impregnated","Serviceable","Class 2",2019,100,96.72,6,{"$f":"INDEX(Lists!$B$32:$B$40, MATCH(2020-C83819, Lists!$C$32:$C$40,1))","v":"41-50"},{"$f":"SUMPRODUCT((Data!$B$17:$B$19=Model!$F83819)*(Data!$C$16:$K$16=Model!$K83819)*(Data!$C$17:$K$19))","v":3.28},80.319999999999993,{"$f":"_xlfn.IFS(M83819>70,\"Serviceable\",M83819>30, \"Limited Life\",M83819<=30, \"Unserviceable\")","v":"Serviceable"}]
[null,168873,1982,"Wood Untreated Dressed","Serviceable","Class 1",2019,100,97.48,6,{"$f":"INDEX(Lists!$B$32:$B$40, MATCH(2020-C83934, Lists!$C$32:$C$40,1))","v":"31-40"},{"$f":"SUMPRODUCT((Data!$B$17:$B$19=Model!$F83934)*(Data!$C$16:$K$16=Model!$K83934)*(Data!$C$17:$K$19))","v":2.52},84.88,{"$f":"_xlfn.IFS(M83934>70,\"Serviceable\",M83934>30, \"Limited Life\",M83934<=30, \"Unserviceable\")","v":"Serviceable"}]
[null,168976,1982,"Wood Untreated Dressed","Serviceable","Class 1",2019,140,137.47999999999999,6,{"$f":"INDEX(Lists!$B$32:$B$40, MATCH(2020-C83988, Lists!$C$32:$C$40,1))","v":"31-40"},{"$f":"SUMPRODUCT((Data!$B$17:$B$19=Model!$F83988)*(Data!$C$16:$K$16=Model!$K83988)*(Data!$C$17:$K$19))","v":2.52},124.88,{"$f":"_xlfn.IFS(M83988>70,\"Serviceable\",M83988>30, \"Limited Life\",M83988<=30, \"Unserviceable\")","v":"Serviceable"}]
[null,169123,1972,"Wood Creos Impregnated","Serviceable","Class 3",2019,100,96.22,6,{"$f":"INDEX(Lists!$B$32:$B$40, MATCH(2020-C84057, Lists!$C$32:$C$40,1))","v":"41-50"},{"$f":"SUMPRODUCT((Data!$B$17:$B$19=Model!$F84057)*(Data!$C$16:$K$16=Model!$K84057)*(Data!$C$17:$K$19))","v":3.78},77.319999999999993,{"$f":"_xlfn.IFS(M84057>70,\"Serviceable\",M84057>30, \"Limited Life\",M84057<=30, \"Unserviceable\")","v":"Serviceable"}]
[null,169203,1978,"Wood Creos Impregnated","Limited Life","Class 3",2017,70,58.66,8,{"$f":"INDEX(Lists!$B$32:$B$40, MATCH(2020-C84110, Lists!$C$32:$C$40,1))","v":"41-50"},{"$f":"SUMPRODUCT((Data!$B$17:$B$19=Model!$F84110)*(Data!$C$16:$K$16=Model!$K84110)*(Data!$C$17:$K$19))","v":3.78},39.760000000000005,{"$f":"_xlfn.IFS(M84110>70,\"Serviceable\",M84110>30, \"Limited Life\",M84110<=30, \"Unserviceable\")","v":"Limited Life"}]
[null,169385,1987,"Wood Untreated Dressed","Serviceable","Class 1",2016,120,109.92,9,{"$f":"INDEX(Lists!$B$32:$B$40, MATCH(2020-C84210, Lists!$C$32:$C$40,1))","v":"31-40"},{"$f":"SUMPRODUCT((Data!$B$17:$B$19=Model!$F84210)*(Data!$C$16:$K$16=Model!$K84210)*(Data!$C$17:$K$19))","v":2.52},97.32,{"$f":"_xlfn.IFS(M84210>70,\"Serviceable\",M84210>30, \"Limited Life\",M84210<=30, \"Unserviceable\")","v":"Serviceable"}]
[null,169422,1976,"Wood Creos Impregnated","Serviceable","Class 3",2020,100,100,5,{"$f":"INDEX(Lists!$B$32:$B$40, MATCH(2020-C84227, Lists!$C$32:$C$40,1))","v":"41-50"},{"$f":"SUMPRODUCT((Data!$B$17:$B$19=Model!$F84227)*(Data!$C$16:$K$16=Model!$K84227)*(Data!$C$17:$K$19))","v":3.78},81.099999999999994,{"$f":"_xlfn.IFS(M84227>70,\"Serviceable\",M84227>30, \"Limited Life\",M84227<=30, \"Unserviceable\")","v":"Serviceable"}]
[null,169540,2002,"CCA Treated Pole","Serviceable","Class 2",2016,150,145.12,9,{"$f":"INDEX(Lists!$B$32:$B$40, MATCH(2020-C84286, Lists!$C$32:$C$40,1))","v":"0-20"},{"$f":"SUMPRODUCT((Data!$B$17:$B$19=Model!$F84286)*(Data!$C$16:$K$16=Model!$K84286)*(Data!$C$17:$K$19))","v":1.22},139.02000000000001,{"$f":"_xlfn.IFS(M84286>70,\"Serviceable\",M84286>30, \"Limited Life\",M84286<=30, \"Unserviceable\")","v":"Serviceable"}]
[null,169722,1977,"Wood Untreated Dressed","Serviceable","Class 1",2017,80,74.75,8,{"$f":"INDEX(Lists!$B$32:$B$40, MATCH(2020-C84380, Lists!$C$32:$C$40,1))","v":"41-50"},{"$f":"SUMPRODUCT((Data!$B$17:$B$19=Model!$F84380)*(Data!$C$16:$K$16=Model!$K84380)*(Data!$C$17:$K$19))","v":1.75},66,{"$f":"_xlfn.IFS(M84380>70,\"Serviceable\",M84380>30, \"Limited Life\",M84380<=30, \"Unserviceable\")","v":"Limited Life"}]
[null,169922,1975,"Wood Untreated Dressed","Serviceable","Class 3",2020,120,120,5,{"$f":"INDEX(Lists!$B$32:$B$40, MATCH(2020-C84481, Lists!$C$32:$C$40,1))","v":"41-50"},{"$f":"SUMPRODUCT((Data!$B$17:$B$19=Model!$F84481)*(Data!$C$16:$K$16=Model!$K84481)*(Data!$C$17:$K$19))","v":3.78},101.1,{"$f":"_xlfn.IFS(M84481>70,\"Serviceable\",M84481>30, \"Limited Life\",M84481<=30, \"Unserviceable\")","v":"Serviceable"}]
[null,170043,1977,"Wood Untreated Dressed","Serviceable","Class 1",2016,130,123,9,{"$f":"INDEX(Lists!$B$32:$B$40, MATCH(2020-C84549, Lists!$C$32:$C$40,1))","v":"41-50"},{"$f":"SUMPRODUCT((Data!$B$17:$B$19=Model!$F84549)*(Data!$C$16:$K$16=Model!$K84549)*(Data!$C$17:$K$19))","v":1.75},114.25,{"$f":"_xlfn.IFS(M84549>70,\"Serviceable\",M84549>30, \"Limited Life\",M84549<=30, \"Unserviceable\")","v":"Serviceable"}]
[null,170177,1981,"Wood Untreated Dressed","Serviceable","Class 1",2019,130,127.48,6,{"$f":"INDEX(Lists!$B$32:$B$40, MATCH(2020-C84618, Lists!$C$32:$C$40,1))","v":"31-40"},{"$f":"SUMPRODUCT((Data!$B$17:$B$19=Model!$F84618)*(Data!$C$16:$K$16=Model!$K84618)*(Data!$C$17:$K$19))","v":2.52},114.88,{"$f":"_xlfn.IFS(M84618>70,\"Serviceable\",M84618>30, \"Limited Life\",M84618<=30, \"Unserviceable\")","v":"Serviceable"}]
[null,170232,1977,"Wood Untreated Dressed","Serviceable","Class 1",2016,90,83,9,{"$f":"INDEX(Lists!$B$32:$B$40, MATCH(2020-C84657, Lists!$C$32:$C$40,1))","v":"41-50"},{"$f":"SUMPRODUCT((Data!$B$17:$B$19=Model!$F84657)*(Data!$C$16:$K$16=Model!$K84657)*(Data!$C$17:$K$19))","v":1.75},74.25,{"$f":"_xlfn.IFS(M84657>70,\"Serviceable\",M84657>30, \"Limited Life\",M84657<=30, \"Unserviceable\")","v":"Serviceable"}]
[null,170313,1972,"Wood Creos Impregnated","Serviceable","Class 3",2019,100,96.22,6,{"$f":"INDEX(Lists!$B$32:$B$40, MATCH(2020-C84703, Lists!$C$32:$C$40,1))","v":"41-50"},{"$f":"SUMPRODUCT((Data!$B$17:$B$19=Model!$F84703)*(Data!$C$16:$K$16=Model!$K84703)*(Data!$C$17:$K$19))","v":3.78},77.319999999999993,{"$f":"_xlfn.IFS(M84703>70,\"Serviceable\",M84703>30, \"Limited Life\",M84703<=30, \"Unserviceable\")","v":"Serviceable"}]
[null,170538,1971,"Wood Creos Impregnated","Serviceable","Class 3",2019,80,76.22,6,{"$f":"INDEX(Lists!$B$32:$B$40, MATCH(2020-C84785, Lists!$C$32:$C$40,1))","v":"41-50"},{"$f":"SUMPRODUCT((Data!$B$17:$B$19=Model!$F84785)*(Data!$C$16:$K$16=Model!$K84785)*(Data!$C$17:$K$19))","v":3.78},57.32,{"$f":"_xlfn.IFS(M84785>70,\"Serviceable\",M84785>30, \"Limited Life\",M84785<=30, \"Unserviceable\")","v":"Limited Life"}]
[null,170686,1977,"Wood Untreated Dressed","Serviceable","Class 1",2016,100,93,{"$f":"2025-G84872","v":9},{"$f":"INDEX(Lists!$B$32:$B$40, MATCH(2020-C84872, Lists!$C$32:$C$40,1))","v":"41-50"},{"$f":"SUMPRODUCT((Data!$B$17:$B$19=Model!$F84872)*(Data!$C$16:$K$16=Model!$K84872)*(Data!$C$17:$K$19))","v":1.75},{"$f":"IF(IF(H84872>=700,999,(H84872-L84872*J84872))<0,0,IF(H84872>=700,999,(H84872-L84872*J84872)))","v":84.25},{"$f":"_xlfn.IFS(M84872>70,\"Serviceable\",M84872>30, \"Limited Life\",M84872<=30, \"Unserviceable\")","v":"Serviceable"}]
[null,170832,1978,"Wood Untreated Dressed","Serviceable","Class 1",2017,100,94.75,8,{"$f":"INDEX(Lists!$B$32:$B$40, MATCH(2020-C84941, Lists!$C$32:$C$40,1))","v":"41-50"},{"$f":"SUMPRODUCT((Data!$B$17:$B$19=Model!$F84941)*(Data!$C$16:$K$16=Model!$K84941)*(Data!$C$17:$K$19))","v":1.75},86,{"$f":"_xlfn.IFS(M84941>70,\"Serviceable\",M84941>30, \"Limited Life\",M84941<=30, \"Unserviceable\")","v":"Serviceable"}]
[null,171017,2010,"CCA Treated Pole","Serviceable","Class 1",2016,160,155.76,9,{"$f":"INDEX(Lists!$B$32:$B$40, MATCH(2020-C85028, Lists!$C$32:$C$40,1))","v":"0-20"},{"$f":"SUMPRODUCT((Data!$B$17:$B$19=Model!$F85028)*(Data!$C$16:$K$16=Model!$K85028)*(Data!$C$17:$K$19))","v":1.06},150.46,{"$f":"_xlfn.IFS(M85028>70,\"Serviceable\",M85028>30, \"Limited Life\",M85028<=30, \"Unserviceable\")","v":"Serviceable"}]
[null,171159,1981,"Wood Untreated Dressed","Serviceable","Class 1",2019,100,97.48,6,{"$f":"INDEX(Lists!$B$32:$B$40, MATCH(2020-C85094, Lists!$C$32:$C$40,1))","v":"31-40"},{"$f":"SUMPRODUCT((Data!$B$17:$B$19=Model!$F85094)*(Data!$C$16:$K$16=Model!$K85094)*(Data!$C$17:$K$19))","v":2.52},84.88,{"$f":"_xlfn.IFS(M85094>70,\"Serviceable\",M85094>30, \"Limited Life\",M85094<=30, \"Unserviceable\")","v":"Serviceable"}]
[null,171289,1980,"Wood Untreated Dressed","Serviceable","Class 1",2016,140,129.91999999999999,9,{"$f":"INDEX(Lists!$B$32:$B$40, MATCH(2020-C85156, Lists!$C$32:$C$40,1))","v":"31-40"},{"$f":"SUMPRODUCT((Data!$B$17:$B$19=Model!$F85156)*(Data!$C$16:$K$16=Model!$K85156)*(Data!$C$17:$K$19))","v":2.52},117.32,{"$f":"_xlfn.IFS(M85156>70,\"Serviceable\",M85156>30, \"Limited Life\",M85156<=30, \"Unserviceable\")","v":"Serviceable"}]
[null,171380,1975,"Wood Creos Impregnated","Serviceable","Class 3",2019,80,76.22,6,{"$f":"INDEX(Lists!$B$32:$B$40, MATCH(2020-C85195, Lists!$C$32:$C$40,1))","v":"41-50"},{"$f":"SUMPRODUCT((Data!$B$17:$B$19=Model!$F85195)*(Data!$C$16:$K$16=Model!$K85195)*(Data!$C$17:$K$19))","v":3.78},57.32,{"$f":"_xlfn.IFS(M85195>70,\"Serviceable\",M85195>30, \"Limited Life\",M85195<=30, \"Unserviceable\")","v":"Limited Life"}]
[null,171506,2004,"CCA Treated Pole","Serviceable","Class 2",2019,150,148.78,6,{"$f":"INDEX(Lists!$B$32:$B$40, MATCH(2020-C85264, Lists!$C$32:$C$40,1))","v":"0-20"},{"$f":"SUMPRODUCT((Data!$B$17:$B$19=Model!$F85264)*(Data!$C$16:$K$16=Model!$K85264)*(Data!$C$17:$K$19))","v":1.22},142.68,{"$f":"_xlfn.IFS(M85264>70,\"Serviceable\",M85264>30, \"Limited Life\",M85264<=30, \"Unserviceable\")","v":"Serviceable"}]
[null,171631,1950,"Wood Creos Impregnated","Serviceable","Class 3",2019,120,117.98,6,{"$f":"INDEX(Lists!$B$32:$B$40, MATCH(2020-C85332, Lists!$C$32:$C$40,1))","v":"61-70"},{"$f":"SUMPRODUCT((Data!$B$17:$B$19=Model!$F85332)*(Data!$C$16:$K$16=Model!$K85332)*(Data!$C$17:$K$19))","v":2.02},107.88,{"$f":"_xlfn.IFS(M85332>70,\"Serviceable\",M85332>30, \"Limited Life\",M85332<=30, \"Unserviceable\")","v":"Serviceable"}]
[null,171771,1974,"Wood Creos Impregnated","Serviceable","Class 3",2020,90,90,5,{"$f":"INDEX(Lists!$B$32:$B$40, MATCH(2020-C85433, Lists!$C$32:$C$40,1))","v":"41-50"},{"$f":"SUMPRODUCT((Data!$B$17:$B$19=Model!$F85433)*(Data!$C$16:$K$16=Model!$K85433)*(Data!$C$17:$K$19))","v":3.78},71.099999999999994,{"$f":"_xlfn.IFS(M85433>70,\"Serviceable\",M85433>30, \"Limited Life\",M85433<=30, \"Unserviceable\")","v":"Serviceable"}]
[null,171864,1974,"Wood Creos Impregnated","Limited Life","Class 3",2019,70,66.22,6,{"$f":"INDEX(Lists!$B$32:$B$40, MATCH(2020-C85502, Lists!$C$32:$C$40,1))","v":"41-50"},{"$f":"SUMPRODUCT((Data!$B$17:$B$19=Model!$F85502)*(Data!$C$16:$K$16=Model!$K85502)*(Data!$C$17:$K$19))","v":3.78},47.32,{"$f":"_xlfn.IFS(M85502>70,\"Serviceable\",M85502>30, \"Limited Life\",M85502<=30, \"Unserviceable\")","v":"Limited Life"}]
[null,171871,1979,"Wood Untreated Dressed","Serviceable","Class 1",2016,110,103,9,{"$f":"INDEX(Lists!$B$32:$B$40, MATCH(2020-C85508, Lists!$C$32:$C$40,1))","v":"41-50"},{"$f":"SUMPRODUCT((Data!$B$17:$B$19=Model!$F85508)*(Data!$C$16:$K$16=Model!$K85508)*(Data!$C$17:$K$19))","v":1.75},94.25,{"$f":"_xlfn.IFS(M85508>70,\"Serviceable\",M85508>30, \"Limited Life\",M85508<=30, \"Unserviceable\")","v":"Serviceable"}]
[null,171985,1974,"Wood Creos Impregnated","Serviceable","Class 3",2019,100,96.22,6,{"$f":"INDEX(Lists!$B$32:$B$40, MATCH(2020-C85587, Lists!$C$32:$C$40,1))","v":"41-50"},{"$f":"SUMPRODUCT((Data!$B$17:$B$19=Model!$F85587)*(Data!$C$16:$K$16=Model!$K85587)*(Data!$C$17:$K$19))","v":3.78},77.319999999999993,{"$f":"_xlfn.IFS(M85587>70,\"Serviceable\",M85587>30, \"Limited Life\",M85587<=30, \"Unserviceable\")","v":"Serviceable"}]
[null,172167,1982,"Wood Untreated Dressed","Serviceable","Class 1",2019,130,127.48,6,{"$f":"INDEX(Lists!$B$32:$B$40, MATCH(2020-C85703, Lists!$C$32:$C$40,1))","v":"31-40"},{"$f":"SUMPRODUCT((Data!$B$17:$B$19=Model!$F85703)*(Data!$C$16:$K$16=Model!$K85703)*(Data!$C$17:$K$19))","v":2.52},114.88,{"$f":"_xlfn.IFS(M85703>70,\"Serviceable\",M85703>30, \"Limited Life\",M85703<=30, \"Unserviceable\")","v":"Serviceable"}]
[null,172252,1966,"Wood Creos Impregnated","Serviceable","Class 3",2017,100,91.81,8,{"$f":"INDEX(Lists!$B$32:$B$40, MATCH(2020-C85756, Lists!$C$32:$C$40,1))","v":"51-60"},{"$f":"SUMPRODUCT((Data!$B$17:$B$19=Model!$F85756)*(Data!$C$16:$K$16=Model!$K85756)*(Data!$C$17:$K$19))","v":2.73},78.16,{"$f":"_xlfn.IFS(M85756>70,\"Serviceable\",M85756>30, \"Limited Life\",M85756<=30, \"Unserviceable\")","v":"Serviceable"}]
[null,172348,1981,"Wood Untreated Dressed","Serviceable","Class 1",2019,120,117.48,6,{"$f":"INDEX(Lists!$B$32:$B$40, MATCH(2020-C85825, Lists!$C$32:$C$40,1))","v":"31-40"},{"$f":"SUMPRODUCT((Data!$B$17:$B$19=Model!$F85825)*(Data!$C$16:$K$16=Model!$K85825)*(Data!$C$17:$K$19))","v":2.52},104.88,{"$f":"_xlfn.IFS(M85825>70,\"Serviceable\",M85825>30, \"Limited Life\",M85825<=30, \"Unserviceable\")","v":"Serviceable"}]
[null,172425,1976,"Wood Creos Impregnated","Serviceable","Class 3",2016,110,94.88,9,{"$f":"INDEX(Lists!$B$32:$B$40, MATCH(2020-C85879, Lists!$C$32:$C$40,1))","v":"41-50"},{"$f":"SUMPRODUCT((Data!$B$17:$B$19=Model!$F85879)*(Data!$C$16:$K$16=Model!$K85879)*(Data!$C$17:$K$19))","v":3.78},75.98,{"$f":"_xlfn.IFS(M85879>70,\"Serviceable\",M85879>30, \"Limited Life\",M85879<=30, \"Unserviceable\")","v":"Serviceable"}]
[null,172472,1980,"Wood Untreated Dressed","Serviceable","Class 1",2019,90,87.48,6,{"$f":"INDEX(Lists!$B$32:$B$40, MATCH(2020-C85910, Lists!$C$32:$C$40,1))","v":"31-40"},{"$f":"SUMPRODUCT((Data!$B$17:$B$19=Model!$F85910)*(Data!$C$16:$K$16=Model!$K85910)*(Data!$C$17:$K$19))","v":2.52},74.88,{"$f":"_xlfn.IFS(M85910>70,\"Serviceable\",M85910>30, \"Limited Life\",M85910<=30, \"Unserviceable\")","v":"Serviceable"}]
[null,172642,1973,"Wood Creos Impregnated","Serviceable","Class 3",2019,90,86.22,6,{"$f":"INDEX(Lists!$B$32:$B$40, MATCH(2020-C86007, Lists!$C$32:$C$40,1))","v":"41-50"},{"$f":"SUMPRODUCT((Data!$B$17:$B$19=Model!$F86007)*(Data!$C$16:$K$16=Model!$K86007)*(Data!$C$17:$K$19))","v":3.78},67.319999999999993,{"$f":"_xlfn.IFS(M86007>70,\"Serviceable\",M86007>30, \"Limited Life\",M86007<=30, \"Unserviceable\")","v":"Limited Life"}]
[null,172772,1975,"Wood Untreated Dressed","Serviceable","Class 2",2016,120,106.88,9,{"$f":"INDEX(Lists!$B$32:$B$40, MATCH(2020-C86079, Lists!$C$32:$C$40,1))","v":"41-50"},{"$f":"SUMPRODUCT((Data!$B$17:$B$19=Model!$F86079)*(Data!$C$16:$K$16=Model!$K86079)*(Data!$C$17:$K$19))","v":3.28},90.48,{"$f":"_xlfn.IFS(M86079>70,\"Serviceable\",M86079>30, \"Limited Life\",M86079<=30, \"Unserviceable\")","v":"Serviceable"}]
[null,172880,1979,"Wood Untreated Dressed","Serviceable","Class 2",2017,100,90.16,8,{"$f":"INDEX(Lists!$B$32:$B$40, MATCH(2020-C86148, Lists!$C$32:$C$40,1))","v":"41-50"},{"$f":"SUMPRODUCT((Data!$B$17:$B$19=Model!$F86148)*(Data!$C$16:$K$16=Model!$K86148)*(Data!$C$17:$K$19))","v":3.28},73.760000000000005,{"$f":"_xlfn.IFS(M86148>70,\"Serviceable\",M86148>30, \"Limited Life\",M86148<=30, \"Unserviceable\")","v":"Serviceable"}]
[null,172945,1981,"Wood Untreated Dressed","Serviceable","Class 3",2020,130,130,5,{"$f":"INDEX(Lists!$B$32:$B$40, MATCH(2020-C86183, Lists!$C$32:$C$40,1))","v":"31-40"},{"$f":"SUMPRODUCT((Data!$B$17:$B$19=Model!$F86183)*(Data!$C$16:$K$16=Model!$K86183)*(Data!$C$17:$K$19))","v":3.22},113.9,{"$f":"_xlfn.IFS(M86183>70,\"Serviceable\",M86183>30, \"Limited Life\",M86183<=30, \"Unserviceable\")","v":"Serviceable"}]
[null,173097,1979,"Wood Untreated Dressed","Serviceable","Class 1",2016,90,83,9,{"$f":"INDEX(Lists!$B$32:$B$40, MATCH(2020-C86249, Lists!$C$32:$C$40,1))","v":"41-50"},{"$f":"SUMPRODUCT((Data!$B$17:$B$19=Model!$F86249)*(Data!$C$16:$K$16=Model!$K86249)*(Data!$C$17:$K$19))","v":1.75},74.25,{"$f":"_xlfn.IFS(M86249>70,\"Serviceable\",M86249>30, \"Limited Life\",M86249<=30, \"Unserviceable\")","v":"Serviceable"}]
[null,173220,1979,"Wood Untreated Dressed","Serviceable","Class 2",2019,120,116.72,6,{"$f":"INDEX(Lists!$B$32:$B$40, MATCH(2020-C86318, Lists!$C$32:$C$40,1))","v":"41-50"},{"$f":"SUMPRODUCT((Data!$B$17:$B$19=Model!$F86318)*(Data!$C$16:$K$16=Model!$K86318)*(Data!$C$17:$K$19))","v":3.28},100.32,{"$f":"_xlfn.IFS(M86318>70,\"Serviceable\",M86318>30, \"Limited Life\",M86318<=30, \"Unserviceable\")","v":"Serviceable"}]
[null,173391,1973,"Wood Creos Impregnated","Serviceable","Class 3",2019,90,86.22,6,{"$f":"INDEX(Lists!$B$32:$B$40, MATCH(2020-C86426, Lists!$C$32:$C$40,1))","v":"41-50"},{"$f":"SUMPRODUCT((Data!$B$17:$B$19=Model!$F86426)*(Data!$C$16:$K$16=Model!$K86426)*(Data!$C$17:$K$19))","v":3.78},67.319999999999993,{"$f":"_xlfn.IFS(M86426>70,\"Serviceable\",M86426>30, \"Limited Life\",M86426<=30, \"Unserviceable\")","v":"Limited Life"}]
[null,173473,1991,"Wood Untreated Dressed","Serviceable","Class 1",2019,130,128.04,6,{"$f":"INDEX(Lists!$B$32:$B$40, MATCH(2020-C86471, Lists!$C$32:$C$40,1))","v":"21-30"},{"$f":"SUMPRODUCT((Data!$B$17:$B$19=Model!$F86471)*(Data!$C$16:$K$16=Model!$K86471)*(Data!$C$17:$K$19))","v":1.96},118.24,{"$f":"_xlfn.IFS(M86471>70,\"Serviceable\",M86471>30, \"Limited Life\",M86471<=30, \"Unserviceable\")","v":"Serviceable"}]
[null,173640,1981,"Wood Untreated Dressed","Serviceable","Class 1",2016,90,79.92,9,{"$f":"INDEX(Lists!$B$32:$B$40, MATCH(2020-C86554, Lists!$C$32:$C$40,1))","v":"31-40"},{"$f":"SUMPRODUCT((Data!$B$17:$B$19=Model!$F86554)*(Data!$C$16:$K$16=Model!$K86554)*(Data!$C$17:$K$19))","v":2.52},67.319999999999993,{"$f":"_xlfn.IFS(M86554>70,\"Serviceable\",M86554>30, \"Limited Life\",M86554<=30, \"Unserviceable\")","v":"Limited Life"}]
[null,173794,1985,"Wood Untreated Dressed","Serviceable","Class 1",2016,90,79.92,9,{"$f":"INDEX(Lists!$B$32:$B$40, MATCH(2020-C86640, Lists!$C$32:$C$40,1))","v":"31-40"},{"$f":"SUMPRODUCT((Data!$B$17:$B$19=Model!$F86640)*(Data!$C$16:$K$16=Model!$K86640)*(Data!$C$17:$K$19))","v":2.52},67.319999999999993,{"$f":"_xlfn.IFS(M86640>70,\"Serviceable\",M86640>30, \"Limited Life\",M86640<=30, \"Unserviceable\")","v":"Limited Life"}]
[null,173909,1978,"Wood Untreated Dressed","Serviceable","Class 1",2016,100,93,9,{"$f":"INDEX(Lists!$B$32:$B$40, MATCH(2020-C86709, Lists!$C$32:$C$40,1))","v":"41-50"},{"$f":"SUMPRODUCT((Data!$B$17:$B$19=Model!$F86709)*(Data!$C$16:$K$16=Model!$K86709)*(Data!$C$17:$K$19))","v":1.75},84.25,{"$f":"_xlfn.IFS(M86709>70,\"Serviceable\",M86709>30, \"Limited Life\",M86709<=30, \"Unserviceable\")","v":"Serviceable"}]
[null,173951,1998,"CCA Treated Pole","Serviceable","Class 1",2019,150,148.04,6,{"$f":"INDEX(Lists!$B$32:$B$40, MATCH(2020-C86730, Lists!$C$32:$C$40,1))","v":"21-30"},{"$f":"SUMPRODUCT((Data!$B$17:$B$19=Model!$F86730)*(Data!$C$16:$K$16=Model!$K86730)*(Data!$C$17:$K$19))","v":1.96},138.24,{"$f":"_xlfn.IFS(M86730>70,\"Serviceable\",M86730>30, \"Limited Life\",M86730<=30, \"Unserviceable\")","v":"Serviceable"}]
[null,174097,1984,"Wood Untreated Round","Serviceable","Class 3",2019,130,126.78,6,{"$f":"INDEX(Lists!$B$32:$B$40, MATCH(2020-C86810, Lists!$C$32:$C$40,1))","v":"31-40"},{"$f":"SUMPRODUCT((Data!$B$17:$B$19=Model!$F86810)*(Data!$C$16:$K$16=Model!$K86810)*(Data!$C$17:$K$19))","v":3.22},110.68,{"$f":"_xlfn.IFS(M86810>70,\"Serviceable\",M86810>30, \"Limited Life\",M86810<=30, \"Unserviceable\")","v":"Serviceable"}]
[null,174181,1981,"Wood Untreated Dressed","Serviceable","Class 1",2016,100,89.92,9,{"$f":"INDEX(Lists!$B$32:$B$40, MATCH(2020-C86858, Lists!$C$32:$C$40,1))","v":"31-40"},{"$f":"SUMPRODUCT((Data!$B$17:$B$19=Model!$F86858)*(Data!$C$16:$K$16=Model!$K86858)*(Data!$C$17:$K$19))","v":2.52},77.319999999999993,{"$f":"_xlfn.IFS(M86858>70,\"Serviceable\",M86858>30, \"Limited Life\",M86858<=30, \"Unserviceable\")","v":"Serviceable"}]
[null,174417,1980,"Wood Untreated Dressed","Serviceable","Class 1",2016,100,89.92,9,{"$f":"INDEX(Lists!$B$32:$B$40, MATCH(2020-C86963, Lists!$C$32:$C$40,1))","v":"31-40"},{"$f":"SUMPRODUCT((Data!$B$17:$B$19=Model!$F86963)*(Data!$C$16:$K$16=Model!$K86963)*(Data!$C$17:$K$19))","v":2.52},77.319999999999993,{"$f":"_xlfn.IFS(M86963>70,\"Serviceable\",M86963>30, \"Limited Life\",M86963<=30, \"Unserviceable\")","v":"Serviceable"}]
[null,174541,1986,"Wood Untreated Dressed","Serviceable","Class 1",2016,120,109.92,9,{"$f":"INDEX(Lists!$B$32:$B$40, MATCH(2020-C87032, Lists!$C$32:$C$40,1))","v":"31-40"},{"$f":"SUMPRODUCT((Data!$B$17:$B$19=Model!$F87032)*(Data!$C$16:$K$16=Model!$K87032)*(Data!$C$17:$K$19))","v":2.52},97.32,{"$f":"_xlfn.IFS(M87032>70,\"Serviceable\",M87032>30, \"Limited Life\",M87032<=30, \"Unserviceable\")","v":"Serviceable"}]
[null,174680,1980,"Wood Untreated Dressed","Serviceable","Class 3",2020,140,140,5,{"$f":"INDEX(Lists!$B$32:$B$40, MATCH(2020-C87101, Lists!$C$32:$C$40,1))","v":"31-40"},{"$f":"SUMPRODUCT((Data!$B$17:$B$19=Model!$F87101)*(Data!$C$16:$K$16=Model!$K87101)*(Data!$C$17:$K$19))","v":3.22},123.9,{"$f":"_xlfn.IFS(M87101>70,\"Serviceable\",M87101>30, \"Limited Life\",M87101<=30, \"Unserviceable\")","v":"Serviceable"}]
[null,174749,1980,"Wood Untreated Dressed","Serviceable","Class 1",2016,140,129.91999999999999,9,{"$f":"INDEX(Lists!$B$32:$B$40, MATCH(2020-C87133, Lists!$C$32:$C$40,1))","v":"31-40"},{"$f":"SUMPRODUCT((Data!$B$17:$B$19=Model!$F87133)*(Data!$C$16:$K$16=Model!$K87133)*(Data!$C$17:$K$19))","v":2.52},117.32,{"$f":"_xlfn.IFS(M87133>70,\"Serviceable\",M87133>30, \"Limited Life\",M87133<=30, \"Unserviceable\")","v":"Serviceable"}]
[null,174943,1981,"Wood Untreated Dressed","Serviceable","Class 1",2017,130,122.44,8,{"$f":"INDEX(Lists!$B$32:$B$40, MATCH(2020-C87229, Lists!$C$32:$C$40,1))","v":"31-40"},{"$f":"SUMPRODUCT((Data!$B$17:$B$19=Model!$F87229)*(Data!$C$16:$K$16=Model!$K87229)*(Data!$C$17:$K$19))","v":2.52},109.84,{"$f":"_xlfn.IFS(M87229>70,\"Serviceable\",M87229>30, \"Limited Life\",M87229<=30, \"Unserviceable\")","v":"Serviceable"}]
[null,175053,1997,"CCA Treated Pole","Serviceable","Class 3",2020,140,140,5,{"$f":"INDEX(Lists!$B$32:$B$40, MATCH(2020-C87286, Lists!$C$32:$C$40,1))","v":"21-30"},{"$f":"SUMPRODUCT((Data!$B$17:$B$19=Model!$F87286)*(Data!$C$16:$K$16=Model!$K87286)*(Data!$C$17:$K$19))","v":1.84},130.80000000000001,{"$f":"_xlfn.IFS(M87286>70,\"Serviceable\",M87286>30, \"Limited Life\",M87286<=30, \"Unserviceable\")","v":"Serviceable"}]
[null,175186,1980,"Wood Untreated Dressed","Serviceable","Class 1",2016,120,109.92,9,{"$f":"INDEX(Lists!$B$32:$B$40, MATCH(2020-C87355, Lists!$C$32:$C$40,1))","v":"31-40"},{"$f":"SUMPRODUCT((Data!$B$17:$B$19=Model!$F87355)*(Data!$C$16:$K$16=Model!$K87355)*(Data!$C$17:$K$19))","v":2.52},97.32,{"$f":"_xlfn.IFS(M87355>70,\"Serviceable\",M87355>30, \"Limited Life\",M87355<=30, \"Unserviceable\")","v":"Serviceable"}]
[null,175252,1981,"Wood Untreated Dressed","Serviceable","Class 1",2019,100,97.48,6,{"$f":"INDEX(Lists!$B$32:$B$40, MATCH(2020-C87405, Lists!$C$32:$C$40,1))","v":"31-40"},{"$f":"SUMPRODUCT((Data!$B$17:$B$19=Model!$F87405)*(Data!$C$16:$K$16=Model!$K87405)*(Data!$C$17:$K$19))","v":2.52},84.88,{"$f":"_xlfn.IFS(M87405>70,\"Serviceable\",M87405>30, \"Limited Life\",M87405<=30, \"Unserviceable\")","v":"Serviceable"}]
[null,175453,1982,"Wood Untreated Dressed","Serviceable","Class 1",2015,130,117.4,10,{"$f":"INDEX(Lists!$B$32:$B$40, MATCH(2020-C87524, Lists!$C$32:$C$40,1))","v":"31-40"},{"$f":"SUMPRODUCT((Data!$B$17:$B$19=Model!$F87524)*(Data!$C$16:$K$16=Model!$K87524)*(Data!$C$17:$K$19))","v":2.52},104.8,{"$f":"_xlfn.IFS(M87524>70,\"Serviceable\",M87524>30, \"Limited Life\",M87524<=30, \"Unserviceable\")","v":"Serviceable"}]
[null,175589,1990,"Wood Untreated Dressed","Serviceable","Class 1",2019,110,108.04,6,{"$f":"INDEX(Lists!$B$32:$B$40, MATCH(2020-C87593, Lists!$C$32:$C$40,1))","v":"21-30"},{"$f":"SUMPRODUCT((Data!$B$17:$B$19=Model!$F87593)*(Data!$C$16:$K$16=Model!$K87593)*(Data!$C$17:$K$19))","v":1.96},98.24,{"$f":"_xlfn.IFS(M87593>70,\"Serviceable\",M87593>30, \"Limited Life\",M87593<=30, \"Unserviceable\")","v":"Serviceable"}]
[null,175671,1966,"Wood Creos Impregnated","Serviceable","Class 3",2016,90,79.08,9,{"$f":"INDEX(Lists!$B$32:$B$40, MATCH(2020-C87648, Lists!$C$32:$C$40,1))","v":"51-60"},{"$f":"SUMPRODUCT((Data!$B$17:$B$19=Model!$F87648)*(Data!$C$16:$K$16=Model!$K87648)*(Data!$C$17:$K$19))","v":2.73},65.430000000000007,{"$f":"_xlfn.IFS(M87648>70,\"Serviceable\",M87648>30, \"Limited Life\",M87648<=30, \"Unserviceable\")","v":"Limited Life"}]
[null,175746,1974,"Wood Untreated Dressed","Serviceable","Class 1",2018,110,106.5,7,{"$f":"INDEX(Lists!$B$32:$B$40, MATCH(2020-C87694, Lists!$C$32:$C$40,1))","v":"41-50"},{"$f":"SUMPRODUCT((Data!$B$17:$B$19=Model!$F87694)*(Data!$C$16:$K$16=Model!$K87694)*(Data!$C$17:$K$19))","v":1.75},97.75,{"$f":"_xlfn.IFS(M87694>70,\"Serviceable\",M87694>30, \"Limited Life\",M87694<=30, \"Unserviceable\")","v":"Serviceable"}]
[null,175891,1974,"Wood Creos Impregnated","Serviceable","Class 3",2019,100,96.22,6,{"$f":"INDEX(Lists!$B$32:$B$40, MATCH(2020-C87776, Lists!$C$32:$C$40,1))","v":"41-50"},{"$f":"SUMPRODUCT((Data!$B$17:$B$19=Model!$F87776)*(Data!$C$16:$K$16=Model!$K87776)*(Data!$C$17:$K$19))","v":3.78},77.319999999999993,{"$f":"_xlfn.IFS(M87776>70,\"Serviceable\",M87776>30, \"Limited Life\",M87776<=30, \"Unserviceable\")","v":"Serviceable"}]
[null,176030,1972,"Wood Creos Impregnated","Serviceable","Class 3",2020,100,100,5,{"$f":"INDEX(Lists!$B$32:$B$40, MATCH(2020-C87847, Lists!$C$32:$C$40,1))","v":"41-50"},{"$f":"SUMPRODUCT((Data!$B$17:$B$19=Model!$F87847)*(Data!$C$16:$K$16=Model!$K87847)*(Data!$C$17:$K$19))","v":3.78},81.099999999999994,{"$f":"_xlfn.IFS(M87847>70,\"Serviceable\",M87847>30, \"Limited Life\",M87847<=30, \"Unserviceable\")","v":"Serviceable"}]
[null,176157,1973,"Wood Creos Impregnated","Serviceable","Class 3",2019,130,126.22,6,{"$f":"INDEX(Lists!$B$32:$B$40, MATCH(2020-C87916, Lists!$C$32:$C$40,1))","v":"41-50"},{"$f":"SUMPRODUCT((Data!$B$17:$B$19=Model!$F87916)*(Data!$C$16:$K$16=Model!$K87916)*(Data!$C$17:$K$19))","v":3.78},107.32,{"$f":"_xlfn.IFS(M87916>70,\"Serviceable\",M87916>30, \"Limited Life\",M87916<=30, \"Unserviceable\")","v":"Serviceable"}]
[null,176225,1989,"Wood Untreated Round","Serviceable","Class 1",2019,100,97.48,6,{"$f":"INDEX(Lists!$B$32:$B$40, MATCH(2020-C87952, Lists!$C$32:$C$40,1))","v":"31-40"},{"$f":"SUMPRODUCT((Data!$B$17:$B$19=Model!$F87952)*(Data!$C$16:$K$16=Model!$K87952)*(Data!$C$17:$K$19))","v":2.52},84.88,{"$f":"_xlfn.IFS(M87952>70,\"Serviceable\",M87952>30, \"Limited Life\",M87952<=30, \"Unserviceable\")","v":"Serviceable"}]
[null,176318,1970,"Wood Creos Impregnated","Serviceable","Class 3",2019,100,96.22,6,{"$f":"INDEX(Lists!$B$32:$B$40, MATCH(2020-C88017, Lists!$C$32:$C$40,1))","v":"41-50"},{"$f":"SUMPRODUCT((Data!$B$17:$B$19=Model!$F88017)*(Data!$C$16:$K$16=Model!$K88017)*(Data!$C$17:$K$19))","v":3.78},77.319999999999993,{"$f":"_xlfn.IFS(M88017>70,\"Serviceable\",M88017>30, \"Limited Life\",M88017<=30, \"Unserviceable\")","v":"Serviceable"}]
[null,176443,1987,"Wood Untreated Dressed","Serviceable","Class 1",2019,110,107.48,6,{"$f":"INDEX(Lists!$B$32:$B$40, MATCH(2020-C88080, Lists!$C$32:$C$40,1))","v":"31-40"},{"$f":"SUMPRODUCT((Data!$B$17:$B$19=Model!$F88080)*(Data!$C$16:$K$16=Model!$K88080)*(Data!$C$17:$K$19))","v":2.52},94.88,{"$f":"_xlfn.IFS(M88080>70,\"Serviceable\",M88080>30, \"Limited Life\",M88080<=30, \"Unserviceable\")","v":"Serviceable"}]
[null,176612,1971,"Wood Creos Impregnated","Serviceable","Class 3",2019,120,116.22,6,{"$f":"INDEX(Lists!$B$32:$B$40, MATCH(2020-C88170, Lists!$C$32:$C$40,1))","v":"41-50"},{"$f":"SUMPRODUCT((Data!$B$17:$B$19=Model!$F88170)*(Data!$C$16:$K$16=Model!$K88170)*(Data!$C$17:$K$19))","v":3.78},97.32,{"$f":"_xlfn.IFS(M88170>70,\"Serviceable\",M88170>30, \"Limited Life\",M88170<=30, \"Unserviceable\")","v":"Serviceable"}]
[null,176743,1970,"Wood Creos Impregnated","Serviceable","Class 3",2019,120,116.22,6,{"$f":"INDEX(Lists!$B$32:$B$40, MATCH(2020-C88239, Lists!$C$32:$C$40,1))","v":"41-50"},{"$f":"SUMPRODUCT((Data!$B$17:$B$19=Model!$F88239)*(Data!$C$16:$K$16=Model!$K88239)*(Data!$C$17:$K$19))","v":3.78},97.32,{"$f":"_xlfn.IFS(M88239>70,\"Serviceable\",M88239>30, \"Limited Life\",M88239<=30, \"Unserviceable\")","v":"Serviceable"}]
[null,176928,2003,"CCA Treated Pole","Serviceable","Class 2",2019,150,148.78,6,{"$f":"INDEX(Lists!$B$32:$B$40, MATCH(2020-C88323, Lists!$C$32:$C$40,1))","v":"0-20"},{"$f":"SUMPRODUCT((Data!$B$17:$B$19=Model!$F88323)*(Data!$C$16:$K$16=Model!$K88323)*(Data!$C$17:$K$19))","v":1.22},142.68,{"$f":"_xlfn.IFS(M88323>70,\"Serviceable\",M88323>30, \"Limited Life\",M88323<=30, \"Unserviceable\")","v":"Serviceable"}]
[null,177049,1976,"Wood Creos Impregnated","Serviceable","Class 3",2017,100,88.66,8,{"$f":"INDEX(Lists!$B$32:$B$40, MATCH(2020-C88408, Lists!$C$32:$C$40,1))","v":"41-50"},{"$f":"SUMPRODUCT((Data!$B$17:$B$19=Model!$F88408)*(Data!$C$16:$K$16=Model!$K88408)*(Data!$C$17:$K$19))","v":3.78},69.760000000000005,{"$f":"_xlfn.IFS(M88408>70,\"Serviceable\",M88408>30, \"Limited Life\",M88408<=30, \"Unserviceable\")","v":"Limited Life"}]
[null,177138,1950,"Wood Untreated Dressed","Serviceable","Class 3",2020,140,140,5,{"$f":"INDEX(Lists!$B$32:$B$40, MATCH(2020-C88477, Lists!$C$32:$C$40,1))","v":"61-70"},{"$f":"SUMPRODUCT((Data!$B$17:$B$19=Model!$F88477)*(Data!$C$16:$K$16=Model!$K88477)*(Data!$C$17:$K$19))","v":2.02},129.9,{"$f":"_xlfn.IFS(M88477>70,\"Serviceable\",M88477>30, \"Limited Life\",M88477<=30, \"Unserviceable\")","v":"Serviceable"}]
[null,177176,1987,"Wood Untreated Dressed","Serviceable","Class 3",2017,130,120.34,8,{"$f":"INDEX(Lists!$B$32:$B$40, MATCH(2020-C88499, Lists!$C$32:$C$40,1))","v":"31-40"},{"$f":"SUMPRODUCT((Data!$B$17:$B$19=Model!$F88499)*(Data!$C$16:$K$16=Model!$K88499)*(Data!$C$17:$K$19))","v":3.22},104.24,{"$f":"_xlfn.IFS(M88499>70,\"Serviceable\",M88499>30, \"Limited Life\",M88499<=30, \"Unserviceable\")","v":"Serviceable"}]
[null,177306,1987,"Wood Untreated Dressed","Serviceable","Class 1",2018,110,104.96,7,{"$f":"INDEX(Lists!$B$32:$B$40, MATCH(2020-C88578, Lists!$C$32:$C$40,1))","v":"31-40"},{"$f":"SUMPRODUCT((Data!$B$17:$B$19=Model!$F88578)*(Data!$C$16:$K$16=Model!$K88578)*(Data!$C$17:$K$19))","v":2.52},92.36,{"$f":"_xlfn.IFS(M88578>70,\"Serviceable\",M88578>30, \"Limited Life\",M88578<=30, \"Unserviceable\")","v":"Serviceable"}]
[null,177386,1989,"Wood Untreated Dressed","Serviceable","Class 1",2019,150,147.47999999999999,6,{"$f":"INDEX(Lists!$B$32:$B$40, MATCH(2020-C88627, Lists!$C$32:$C$40,1))","v":"31-40"},{"$f":"SUMPRODUCT((Data!$B$17:$B$19=Model!$F88627)*(Data!$C$16:$K$16=Model!$K88627)*(Data!$C$17:$K$19))","v":2.52},134.88,{"$f":"_xlfn.IFS(M88627>70,\"Serviceable\",M88627>30, \"Limited Life\",M88627<=30, \"Unserviceable\")","v":"Serviceable"}]
[null,177518,2002,"CCA Treated Pole","Serviceable","Class 2",2020,162.49719689682513,162.49719689682513,5,{"$f":"INDEX(Lists!$B$32:$B$40, MATCH(2020-C88731, Lists!$C$32:$C$40,1))","v":"0-20"},{"$f":"SUMPRODUCT((Data!$B$17:$B$19=Model!$F88731)*(Data!$C$16:$K$16=Model!$K88731)*(Data!$C$17:$K$19))","v":1.22},156.39719689682514,{"$f":"_xlfn.IFS(M88731>70,\"Serviceable\",M88731>30, \"Limited Life\",M88731<=30, \"Unserviceable\")","v":"Serviceable"}]
[null,177613,1989,"Wood Untreated Dressed","Serviceable","Class 1",2020,110,110,5,{"$f":"INDEX(Lists!$B$32:$B$40, MATCH(2020-C88800, Lists!$C$32:$C$40,1))","v":"31-40"},{"$f":"SUMPRODUCT((Data!$B$17:$B$19=Model!$F88800)*(Data!$C$16:$K$16=Model!$K88800)*(Data!$C$17:$K$19))","v":2.52},97.4,{"$f":"_xlfn.IFS(M88800>70,\"Serviceable\",M88800>30, \"Limited Life\",M88800<=30, \"Unserviceable\")","v":"Serviceable"}]
[null,177708,1992,"Wood Untreated Dressed","Serviceable","Class 1",2020,120,120,5,{"$f":"INDEX(Lists!$B$32:$B$40, MATCH(2020-C88870, Lists!$C$32:$C$40,1))","v":"21-30"},{"$f":"SUMPRODUCT((Data!$B$17:$B$19=Model!$F88870)*(Data!$C$16:$K$16=Model!$K88870)*(Data!$C$17:$K$19))","v":1.96},110.2,{"$f":"_xlfn.IFS(M88870>70,\"Serviceable\",M88870>30, \"Limited Life\",M88870<=30, \"Unserviceable\")","v":"Serviceable"}]
[null,177785,1969,"Wood Creos Impregnated","Serviceable","Class 3",2020,100,100,5,{"$f":"INDEX(Lists!$B$32:$B$40, MATCH(2020-C88901, Lists!$C$32:$C$40,1))","v":"51-60"},{"$f":"SUMPRODUCT((Data!$B$17:$B$19=Model!$F88901)*(Data!$C$16:$K$16=Model!$K88901)*(Data!$C$17:$K$19))","v":2.73},86.35,{"$f":"_xlfn.IFS(M88901>70,\"Serviceable\",M88901>30, \"Limited Life\",M88901<=30, \"Unserviceable\")","v":"Serviceable"}]
[null,177967,1978,"Wood Untreated Dressed","Serviceable","Class 1",2019,100,98.25,6,{"$f":"INDEX(Lists!$B$32:$B$40, MATCH(2020-C88998, Lists!$C$32:$C$40,1))","v":"41-50"},{"$f":"SUMPRODUCT((Data!$B$17:$B$19=Model!$F88998)*(Data!$C$16:$K$16=Model!$K88998)*(Data!$C$17:$K$19))","v":1.75},89.5,{"$f":"_xlfn.IFS(M88998>70,\"Serviceable\",M88998>30, \"Limited Life\",M88998<=30, \"Unserviceable\")","v":"Serviceable"}]
[null,178085,1987,"Wood Untreated Dressed","Serviceable","Class 1",2019,110,107.48,6,{"$f":"INDEX(Lists!$B$32:$B$40, MATCH(2020-C89054, Lists!$C$32:$C$40,1))","v":"31-40"},{"$f":"SUMPRODUCT((Data!$B$17:$B$19=Model!$F89054)*(Data!$C$16:$K$16=Model!$K89054)*(Data!$C$17:$K$19))","v":2.52},94.88,{"$f":"_xlfn.IFS(M89054>70,\"Serviceable\",M89054>30, \"Limited Life\",M89054<=30, \"Unserviceable\")","v":"Serviceable"}]
[null,178244,1972,"Wood Creos Impregnated","Serviceable","Class 3",2019,90,86.22,6,{"$f":"INDEX(Lists!$B$32:$B$40, MATCH(2020-C89139, Lists!$C$32:$C$40,1))","v":"41-50"},{"$f":"SUMPRODUCT((Data!$B$17:$B$19=Model!$F89139)*(Data!$C$16:$K$16=Model!$K89139)*(Data!$C$17:$K$19))","v":3.78},67.319999999999993,{"$f":"_xlfn.IFS(M89139>70,\"Serviceable\",M89139>30, \"Limited Life\",M89139<=30, \"Unserviceable\")","v":"Limited Life"}]
[null,178292,1980,"Wood Untreated Dressed","Serviceable","Class 3",2020,120,120,5,{"$f":"INDEX(Lists!$B$32:$B$40, MATCH(2020-C89174, Lists!$C$32:$C$40,1))","v":"31-40"},{"$f":"SUMPRODUCT((Data!$B$17:$B$19=Model!$F89174)*(Data!$C$16:$K$16=Model!$K89174)*(Data!$C$17:$K$19))","v":3.22},103.9,{"$f":"_xlfn.IFS(M89174>70,\"Serviceable\",M89174>30, \"Limited Life\",M89174<=30, \"Unserviceable\")","v":"Serviceable"}]
[null,178376,1973,"Wood Creos Impregnated","Serviceable","Class 3",2019,100,96.22,{"$f":"2025-G89224","v":6},{"$f":"INDEX(Lists!$B$32:$B$40, MATCH(2020-C89224, Lists!$C$32:$C$40,1))","v":"41-50"},{"$f":"SUMPRODUCT((Data!$B$17:$B$19=Model!$F89224)*(Data!$C$16:$K$16=Model!$K89224)*(Data!$C$17:$K$19))","v":3.78},{"$f":"IF(IF(H89224>=700,999,(H89224-L89224*J89224))<0,0,IF(H89224>=700,999,(H89224-L89224*J89224)))","v":77.319999999999993},{"$f":"_xlfn.IFS(M89224>70,\"Serviceable\",M89224>30, \"Limited Life\",M89224<=30, \"Unserviceable\")","v":"Serviceable"}]
[null,178495,1971,"Wood Creos Impregnated","Serviceable","Class 3",2020,90,90,5,{"$f":"INDEX(Lists!$B$32:$B$40, MATCH(2020-C89302, Lists!$C$32:$C$40,1))","v":"41-50"},{"$f":"SUMPRODUCT((Data!$B$17:$B$19=Model!$F89302)*(Data!$C$16:$K$16=Model!$K89302)*(Data!$C$17:$K$19))","v":3.78},71.099999999999994,{"$f":"_xlfn.IFS(M89302>70,\"Serviceable\",M89302>30, \"Limited Life\",M89302<=30, \"Unserviceable\")","v":"Serviceable"}]
[null,178618,1976,"Wood Creos Impregnated","Serviceable","Class 1",2020,130,130,5,{"$f":"INDEX(Lists!$B$32:$B$40, MATCH(2020-C89377, Lists!$C$32:$C$40,1))","v":"41-50"},{"$f":"SUMPRODUCT((Data!$B$17:$B$19=Model!$F89377)*(Data!$C$16:$K$16=Model!$K89377)*(Data!$C$17:$K$19))","v":1.75},121.25,{"$f":"_xlfn.IFS(M89377>70,\"Serviceable\",M89377>30, \"Limited Life\",M89377<=30, \"Unserviceable\")","v":"Serviceable"}]
[null,178790,1997,"CCA Treated Pole","Serviceable","Class 1",2019,130,128.04,6,{"$f":"INDEX(Lists!$B$32:$B$40, MATCH(2020-C89462, Lists!$C$32:$C$40,1))","v":"21-30"},{"$f":"SUMPRODUCT((Data!$B$17:$B$19=Model!$F89462)*(Data!$C$16:$K$16=Model!$K89462)*(Data!$C$17:$K$19))","v":1.96},118.24,{"$f":"_xlfn.IFS(M89462>70,\"Serviceable\",M89462>30, \"Limited Life\",M89462<=30, \"Unserviceable\")","v":"Serviceable"}]
[null,178937,1980,"Wood Untreated Dressed","Serviceable","Class 1",2020,110,110,5,{"$f":"INDEX(Lists!$B$32:$B$40, MATCH(2020-C89545, Lists!$C$32:$C$40,1))","v":"31-40"},{"$f":"SUMPRODUCT((Data!$B$17:$B$19=Model!$F89545)*(Data!$C$16:$K$16=Model!$K89545)*(Data!$C$17:$K$19))","v":2.52},97.4,{"$f":"_xlfn.IFS(M89545>70,\"Serviceable\",M89545>30, \"Limited Life\",M89545<=30, \"Unserviceable\")","v":"Serviceable"}]
[null,179037,1975,"Wood Creos Impregnated","Serviceable","Class 3",2020,80,80,5,{"$f":"INDEX(Lists!$B$32:$B$40, MATCH(2020-C89615, Lists!$C$32:$C$40,1))","v":"41-50"},{"$f":"SUMPRODUCT((Data!$B$17:$B$19=Model!$F89615)*(Data!$C$16:$K$16=Model!$K89615)*(Data!$C$17:$K$19))","v":3.78},61.1,{"$f":"_xlfn.IFS(M89615>70,\"Serviceable\",M89615>30, \"Limited Life\",M89615<=30, \"Unserviceable\")","v":"Limited Life"}]
[null,179124,1972,"Wood Creos Impregnated","Serviceable","Class 3",2020,120,120,5,{"$f":"INDEX(Lists!$B$32:$B$40, MATCH(2020-C89684, Lists!$C$32:$C$40,1))","v":"41-50"},{"$f":"SUMPRODUCT((Data!$B$17:$B$19=Model!$F89684)*(Data!$C$16:$K$16=Model!$K89684)*(Data!$C$17:$K$19))","v":3.78},101.1,{"$f":"_xlfn.IFS(M89684>70,\"Serviceable\",M89684>30, \"Limited Life\",M89684<=30, \"Unserviceable\")","v":"Serviceable"}]
[null,179172,2004,"CCA Treated Pole","Serviceable","Class 2",2020,162.49719689682513,162.49719689682513,5,{"$f":"INDEX(Lists!$B$32:$B$40, MATCH(2020-C89721, Lists!$C$32:$C$40,1))","v":"0-20"},{"$f":"SUMPRODUCT((Data!$B$17:$B$19=Model!$F89721)*(Data!$C$16:$K$16=Model!$K89721)*(Data!$C$17:$K$19))","v":1.22},156.39719689682514,{"$f":"_xlfn.IFS(M89721>70,\"Serviceable\",M89721>30, \"Limited Life\",M89721<=30, \"Unserviceable\")","v":"Serviceable"}]
[null,179272,1981,"Wood Untreated Dressed","Serviceable","Class 3",2020,100,100,5,{"$f":"INDEX(Lists!$B$32:$B$40, MATCH(2020-C89785, Lists!$C$32:$C$40,1))","v":"31-40"},{"$f":"SUMPRODUCT((Data!$B$17:$B$19=Model!$F89785)*(Data!$C$16:$K$16=Model!$K89785)*(Data!$C$17:$K$19))","v":3.22},83.9,{"$f":"_xlfn.IFS(M89785>70,\"Serviceable\",M89785>30, \"Limited Life\",M89785<=30, \"Unserviceable\")","v":"Serviceable"}]
[null,179374,1967,"Wood Creos Impregnated","Serviceable","Class 3",2015,120,106.35,10,{"$f":"INDEX(Lists!$B$32:$B$40, MATCH(2020-C89849, Lists!$C$32:$C$40,1))","v":"51-60"},{"$f":"SUMPRODUCT((Data!$B$17:$B$19=Model!$F89849)*(Data!$C$16:$K$16=Model!$K89849)*(Data!$C$17:$K$19))","v":2.73},92.7,{"$f":"_xlfn.IFS(M89849>70,\"Serviceable\",M89849>30, \"Limited Life\",M89849<=30, \"Unserviceable\")","v":"Serviceable"}]
[null,179529,1979,"Wood Creos Impregnated","Serviceable","Class 2",2020,120,120,5,{"$f":"INDEX(Lists!$B$32:$B$40, MATCH(2020-C89938, Lists!$C$32:$C$40,1))","v":"41-50"},{"$f":"SUMPRODUCT((Data!$B$17:$B$19=Model!$F89938)*(Data!$C$16:$K$16=Model!$K89938)*(Data!$C$17:$K$19))","v":3.28},103.6,{"$f":"_xlfn.IFS(M89938>70,\"Serviceable\",M89938>30, \"Limited Life\",M89938<=30, \"Unserviceable\")","v":"Serviceable"}]
[null,179673,1973,"Wood Creos Impregnated","Serviceable","Class 3",2020,120,120,5,{"$f":"INDEX(Lists!$B$32:$B$40, MATCH(2020-C90023, Lists!$C$32:$C$40,1))","v":"41-50"},{"$f":"SUMPRODUCT((Data!$B$17:$B$19=Model!$F90023)*(Data!$C$16:$K$16=Model!$K90023)*(Data!$C$17:$K$19))","v":3.78},101.1,{"$f":"_xlfn.IFS(M90023>70,\"Serviceable\",M90023>30, \"Limited Life\",M90023<=30, \"Unserviceable\")","v":"Serviceable"}]
[null,179768,1976,"Wood Creos Impregnated","Serviceable","Class 2",2015,120,103.6,10,{"$f":"INDEX(Lists!$B$32:$B$40, MATCH(2020-C90092, Lists!$C$32:$C$40,1))","v":"41-50"},{"$f":"SUMPRODUCT((Data!$B$17:$B$19=Model!$F90092)*(Data!$C$16:$K$16=Model!$K90092)*(Data!$C$17:$K$19))","v":3.28},87.2,{"$f":"_xlfn.IFS(M90092>70,\"Serviceable\",M90092>30, \"Limited Life\",M90092<=30, \"Unserviceable\")","v":"Serviceable"}]
[null,179800,1973,"Wood Creos Impregnated","Serviceable","Class 3",2020,120,120,5,{"$f":"INDEX(Lists!$B$32:$B$40, MATCH(2020-C90108, Lists!$C$32:$C$40,1))","v":"41-50"},{"$f":"SUMPRODUCT((Data!$B$17:$B$19=Model!$F90108)*(Data!$C$16:$K$16=Model!$K90108)*(Data!$C$17:$K$19))","v":3.78},101.1,{"$f":"_xlfn.IFS(M90108>70,\"Serviceable\",M90108>30, \"Limited Life\",M90108<=30, \"Unserviceable\")","v":"Serviceable"}]
[null,179963,2002,"CCA Treated Pole","Serviceable","Class 1",2019,166.31691553103065,165.25691553103064,6,{"$f":"INDEX(Lists!$B$32:$B$40, MATCH(2020-C90220, Lists!$C$32:$C$40,1))","v":"0-20"},{"$f":"SUMPRODUCT((Data!$B$17:$B$19=Model!$F90220)*(Data!$C$16:$K$16=Model!$K90220)*(Data!$C$17:$K$19))","v":1.06},159.95691553103063,{"$f":"_xlfn.IFS(M90220>70,\"Serviceable\",M90220>30, \"Limited Life\",M90220<=30, \"Unserviceable\")","v":"Serviceable"}]
[null,180014,1974,"Wood Creos Impregnated","Serviceable","Class 3",2020,130,130,5,{"$f":"INDEX(Lists!$B$32:$B$40, MATCH(2020-C90261, Lists!$C$32:$C$40,1))","v":"41-50"},{"$f":"SUMPRODUCT((Data!$B$17:$B$19=Model!$F90261)*(Data!$C$16:$K$16=Model!$K90261)*(Data!$C$17:$K$19))","v":3.78},111.1,{"$f":"_xlfn.IFS(M90261>70,\"Serviceable\",M90261>30, \"Limited Life\",M90261<=30, \"Unserviceable\")","v":"Serviceable"}]
[null,180166,1973,"Wood Creos Impregnated","Serviceable","Class 3",2020,90,90,5,{"$f":"INDEX(Lists!$B$32:$B$40, MATCH(2020-C90346, Lists!$C$32:$C$40,1))","v":"41-50"},{"$f":"SUMPRODUCT((Data!$B$17:$B$19=Model!$F90346)*(Data!$C$16:$K$16=Model!$K90346)*(Data!$C$17:$K$19))","v":3.78},71.099999999999994,{"$f":"_xlfn.IFS(M90346>70,\"Serviceable\",M90346>30, \"Limited Life\",M90346<=30, \"Unserviceable\")","v":"Serviceable"}]
[null,180286,1980,"Wood Creos Impregnated","Serviceable","Class 3",2016,100,87.12,9,{"$f":"INDEX(Lists!$B$32:$B$40, MATCH(2020-C90396, Lists!$C$32:$C$40,1))","v":"31-40"},{"$f":"SUMPRODUCT((Data!$B$17:$B$19=Model!$F90396)*(Data!$C$16:$K$16=Model!$K90396)*(Data!$C$17:$K$19))","v":3.22},71.02,{"$f":"_xlfn.IFS(M90396>70,\"Serviceable\",M90396>30, \"Limited Life\",M90396<=30, \"Unserviceable\")","v":"Serviceable"}]
[null,180457,1968,"Wood Creos Impregnated","Serviceable","Class 3",2019,100,97.27,6,{"$f":"INDEX(Lists!$B$32:$B$40, MATCH(2020-C90499, Lists!$C$32:$C$40,1))","v":"51-60"},{"$f":"SUMPRODUCT((Data!$B$17:$B$19=Model!$F90499)*(Data!$C$16:$K$16=Model!$K90499)*(Data!$C$17:$K$19))","v":2.73},83.62,{"$f":"_xlfn.IFS(M90499>70,\"Serviceable\",M90499>30, \"Limited Life\",M90499<=30, \"Unserviceable\")","v":"Serviceable"}]
[null,180479,1980,"Wood Untreated Dressed","Serviceable","Class 1",2019,130,127.48,6,{"$f":"INDEX(Lists!$B$32:$B$40, MATCH(2020-C90516, Lists!$C$32:$C$40,1))","v":"31-40"},{"$f":"SUMPRODUCT((Data!$B$17:$B$19=Model!$F90516)*(Data!$C$16:$K$16=Model!$K90516)*(Data!$C$17:$K$19))","v":2.52},114.88,{"$f":"_xlfn.IFS(M90516>70,\"Serviceable\",M90516>30, \"Limited Life\",M90516<=30, \"Unserviceable\")","v":"Serviceable"}]
[null,180678,1950,"Wood Creos Impregnated","Serviceable","Class 3",2020,110,110,5,{"$f":"INDEX(Lists!$B$32:$B$40, MATCH(2020-C90639, Lists!$C$32:$C$40,1))","v":"61-70"},{"$f":"SUMPRODUCT((Data!$B$17:$B$19=Model!$F90639)*(Data!$C$16:$K$16=Model!$K90639)*(Data!$C$17:$K$19))","v":2.02},99.9,{"$f":"_xlfn.IFS(M90639>70,\"Serviceable\",M90639>30, \"Limited Life\",M90639<=30, \"Unserviceable\")","v":"Serviceable"}]
[null,180735,1976,"Wood Creos Impregnated","Serviceable","Class 3",2016,100,84.88,9,{"$f":"INDEX(Lists!$B$32:$B$40, MATCH(2020-C90669, Lists!$C$32:$C$40,1))","v":"41-50"},{"$f":"SUMPRODUCT((Data!$B$17:$B$19=Model!$F90669)*(Data!$C$16:$K$16=Model!$K90669)*(Data!$C$17:$K$19))","v":3.78},65.98,{"$f":"_xlfn.IFS(M90669>70,\"Serviceable\",M90669>30, \"Limited Life\",M90669<=30, \"Unserviceable\")","v":"Limited Life"}]
[null,180944,1950,"Wood Creos Impregnated","Serviceable","Class 3",2020,110,110,5,{"$f":"INDEX(Lists!$B$32:$B$40, MATCH(2020-C90767, Lists!$C$32:$C$40,1))","v":"61-70"},{"$f":"SUMPRODUCT((Data!$B$17:$B$19=Model!$F90767)*(Data!$C$16:$K$16=Model!$K90767)*(Data!$C$17:$K$19))","v":2.02},99.9,{"$f":"_xlfn.IFS(M90767>70,\"Serviceable\",M90767>30, \"Limited Life\",M90767<=30, \"Unserviceable\")","v":"Serviceable"}]
[null,181041,1987,"Wood Untreated Dressed","Serviceable","Class 1",2020,120,120,5,{"$f":"INDEX(Lists!$B$32:$B$40, MATCH(2020-C90822, Lists!$C$32:$C$40,1))","v":"31-40"},{"$f":"SUMPRODUCT((Data!$B$17:$B$19=Model!$F90822)*(Data!$C$16:$K$16=Model!$K90822)*(Data!$C$17:$K$19))","v":2.52},107.4,{"$f":"_xlfn.IFS(M90822>70,\"Serviceable\",M90822>30, \"Limited Life\",M90822<=30, \"Unserviceable\")","v":"Serviceable"}]
[null,181160,1975,"Wood Creos Impregnated","Serviceable","Class 3",2020,100,100,5,{"$f":"INDEX(Lists!$B$32:$B$40, MATCH(2020-C90907, Lists!$C$32:$C$40,1))","v":"41-50"},{"$f":"SUMPRODUCT((Data!$B$17:$B$19=Model!$F90907)*(Data!$C$16:$K$16=Model!$K90907)*(Data!$C$17:$K$19))","v":3.78},81.099999999999994,{"$f":"_xlfn.IFS(M90907>70,\"Serviceable\",M90907>30, \"Limited Life\",M90907<=30, \"Unserviceable\")","v":"Serviceable"}]
[null,181214,2010,"CCA Treated Pole","Serviceable","Class 2",2018,100,97.56,7,{"$f":"INDEX(Lists!$B$32:$B$40, MATCH(2020-C90943, Lists!$C$32:$C$40,1))","v":"0-20"},{"$f":"SUMPRODUCT((Data!$B$17:$B$19=Model!$F90943)*(Data!$C$16:$K$16=Model!$K90943)*(Data!$C$17:$K$19))","v":1.22},91.460000000000008,{"$f":"_xlfn.IFS(M90943>70,\"Serviceable\",M90943>30, \"Limited Life\",M90943<=30, \"Unserviceable\")","v":"Serviceable"}]
[null,181290,2010,"CCA Treated Pole","Serviceable","Class 2",2019,150,148.78,6,{"$f":"INDEX(Lists!$B$32:$B$40, MATCH(2020-C90992, Lists!$C$32:$C$40,1))","v":"0-20"},{"$f":"SUMPRODUCT((Data!$B$17:$B$19=Model!$F90992)*(Data!$C$16:$K$16=Model!$K90992)*(Data!$C$17:$K$19))","v":1.22},142.68,{"$f":"_xlfn.IFS(M90992>70,\"Serviceable\",M90992>30, \"Limited Life\",M90992<=30, \"Unserviceable\")","v":"Serviceable"}]
[null,181444,1936,"Wood Untreated Dressed","Serviceable","Class 1",2017,110,101.57,8,{"$f":"INDEX(Lists!$B$32:$B$40, MATCH(2020-C91071, Lists!$C$32:$C$40,1))","v":"81-90"},{"$f":"SUMPRODUCT((Data!$B$17:$B$19=Model!$F91071)*(Data!$C$16:$K$16=Model!$K91071)*(Data!$C$17:$K$19))","v":2.81},87.52,{"$f":"_xlfn.IFS(M91071>70,\"Serviceable\",M91071>30, \"Limited Life\",M91071<=30, \"Unserviceable\")","v":"Serviceable"}]
[null,181561,1939,"CCA Treated Pole","Serviceable","Class 1",2016,100,88.76,9,{"$f":"INDEX(Lists!$B$32:$B$40, MATCH(2020-C91145, Lists!$C$32:$C$40,1))","v":"81-90"},{"$f":"SUMPRODUCT((Data!$B$17:$B$19=Model!$F91145)*(Data!$C$16:$K$16=Model!$K91145)*(Data!$C$17:$K$19))","v":2.81},74.710000000000008,{"$f":"_xlfn.IFS(M91145>70,\"Serviceable\",M91145>30, \"Limited Life\",M91145<=30, \"Unserviceable\")","v":"Serviceable"}]
[null,181679,1950,"Wood Untreated Dressed","Serviceable","Class 1",2016,110,101.88,9,{"$f":"INDEX(Lists!$B$32:$B$40, MATCH(2020-C91230, Lists!$C$32:$C$40,1))","v":"61-70"},{"$f":"SUMPRODUCT((Data!$B$17:$B$19=Model!$F91230)*(Data!$C$16:$K$16=Model!$K91230)*(Data!$C$17:$K$19))","v":2.0299999999999998},91.73,{"$f":"_xlfn.IFS(M91230>70,\"Serviceable\",M91230>30, \"Limited Life\",M91230<=30, \"Unserviceable\")","v":"Serviceable"}]
[null,181791,1956,"Wood Untreated Dressed","Serviceable","Class 2",2015,110,98.85,10,{"$f":"INDEX(Lists!$B$32:$B$40, MATCH(2020-C91314, Lists!$C$32:$C$40,1))","v":"61-70"},{"$f":"SUMPRODUCT((Data!$B$17:$B$19=Model!$F91314)*(Data!$C$16:$K$16=Model!$K91314)*(Data!$C$17:$K$19))","v":2.23},87.7,{"$f":"_xlfn.IFS(M91314>70,\"Serviceable\",M91314>30, \"Limited Life\",M91314<=30, \"Unserviceable\")","v":"Serviceable"}]
[null,181893,1947,"Wood Untreated Dressed","Limited Life","Class 2",2017,80,69.41,8,{"$f":"INDEX(Lists!$B$32:$B$40, MATCH(2020-C91383, Lists!$C$32:$C$40,1))","v":"71-80"},{"$f":"SUMPRODUCT((Data!$B$17:$B$19=Model!$F91383)*(Data!$C$16:$K$16=Model!$K91383)*(Data!$C$17:$K$19))","v":3.53},51.760000000000005,{"$f":"_xlfn.IFS(M91383>70,\"Serviceable\",M91383>30, \"Limited Life\",M91383<=30, \"Unserviceable\")","v":"Limited Life"}]
[null,181925,1950,"Wood Untreated Dressed","Serviceable","Class 1",2016,90,81.88,9,{"$f":"INDEX(Lists!$B$32:$B$40, MATCH(2020-C91409, Lists!$C$32:$C$40,1))","v":"61-70"},{"$f":"SUMPRODUCT((Data!$B$17:$B$19=Model!$F91409)*(Data!$C$16:$K$16=Model!$K91409)*(Data!$C$17:$K$19))","v":2.0299999999999998},71.73,{"$f":"_xlfn.IFS(M91409>70,\"Serviceable\",M91409>30, \"Limited Life\",M91409<=30, \"Unserviceable\")","v":"Serviceable"}]
[null,182013,1958,"Wood Untreated Dressed","Serviceable","Class 2",2020,100,100,5,{"$f":"INDEX(Lists!$B$32:$B$40, MATCH(2020-C91468, Lists!$C$32:$C$40,1))","v":"61-70"},{"$f":"SUMPRODUCT((Data!$B$17:$B$19=Model!$F91468)*(Data!$C$16:$K$16=Model!$K91468)*(Data!$C$17:$K$19))","v":2.23},88.85,{"$f":"_xlfn.IFS(M91468>70,\"Serviceable\",M91468>30, \"Limited Life\",M91468<=30, \"Unserviceable\")","v":"Serviceable"}]
[null,182128,1959,"Wood Creos Impregnated","Serviceable","Class 3",2017,100,93.94,8,{"$f":"INDEX(Lists!$B$32:$B$40, MATCH(2020-C91553, Lists!$C$32:$C$40,1))","v":"61-70"},{"$f":"SUMPRODUCT((Data!$B$17:$B$19=Model!$F91553)*(Data!$C$16:$K$16=Model!$K91553)*(Data!$C$17:$K$19))","v":2.02},83.84,{"$f":"_xlfn.IFS(M91553>70,\"Serviceable\",M91553>30, \"Limited Life\",M91553<=30, \"Unserviceable\")","v":"Serviceable"}]
[null,182238,1959,"Wood Creos Impregnated","Serviceable","Class 2",2017,80,73.31,8,{"$f":"INDEX(Lists!$B$32:$B$40, MATCH(2020-C91618, Lists!$C$32:$C$40,1))","v":"61-70"},{"$f":"SUMPRODUCT((Data!$B$17:$B$19=Model!$F91618)*(Data!$C$16:$K$16=Model!$K91618)*(Data!$C$17:$K$19))","v":2.23},62.16,{"$f":"_xlfn.IFS(M91618>70,\"Serviceable\",M91618>30, \"Limited Life\",M91618<=30, \"Unserviceable\")","v":"Limited Life"}]
[null,182441,1974,"Wood Creos Impregnated","Serviceable","Class 2",2016,120,106.88,9,{"$f":"INDEX(Lists!$B$32:$B$40, MATCH(2020-C91706, Lists!$C$32:$C$40,1))","v":"41-50"},{"$f":"SUMPRODUCT((Data!$B$17:$B$19=Model!$F91706)*(Data!$C$16:$K$16=Model!$K91706)*(Data!$C$17:$K$19))","v":3.28},90.48,{"$f":"_xlfn.IFS(M91706>70,\"Serviceable\",M91706>30, \"Limited Life\",M91706<=30, \"Unserviceable\")","v":"Serviceable"}]
[null,182477,1960,"Wood Creos Impregnated","Serviceable","Class 3",2016,120,109.08,9,{"$f":"INDEX(Lists!$B$32:$B$40, MATCH(2020-C91723, Lists!$C$32:$C$40,1))","v":"51-60"},{"$f":"SUMPRODUCT((Data!$B$17:$B$19=Model!$F91723)*(Data!$C$16:$K$16=Model!$K91723)*(Data!$C$17:$K$19))","v":2.73},95.43,{"$f":"_xlfn.IFS(M91723>70,\"Serviceable\",M91723>30, \"Limited Life\",M91723<=30, \"Unserviceable\")","v":"Serviceable"}]
[null,182643,1960,"Wood Creos Impregnated","Serviceable","Class 3",2020,100,100,5,{"$f":"INDEX(Lists!$B$32:$B$40, MATCH(2020-C91794, Lists!$C$32:$C$40,1))","v":"51-60"},{"$f":"SUMPRODUCT((Data!$B$17:$B$19=Model!$F91794)*(Data!$C$16:$K$16=Model!$K91794)*(Data!$C$17:$K$19))","v":2.73},86.35,{"$f":"_xlfn.IFS(M91794>70,\"Serviceable\",M91794>30, \"Limited Life\",M91794<=30, \"Unserviceable\")","v":"Serviceable"}]
[null,182856,1960,"Wood Creos Impregnated","Serviceable","Class 3",2020,80,80,5,{"$f":"INDEX(Lists!$B$32:$B$40, MATCH(2020-C91876, Lists!$C$32:$C$40,1))","v":"51-60"},{"$f":"SUMPRODUCT((Data!$B$17:$B$19=Model!$F91876)*(Data!$C$16:$K$16=Model!$K91876)*(Data!$C$17:$K$19))","v":2.73},66.349999999999994,{"$f":"_xlfn.IFS(M91876>70,\"Serviceable\",M91876>30, \"Limited Life\",M91876<=30, \"Unserviceable\")","v":"Limited Life"}]
[null,183113,1986,"Wood Untreated Dressed","Serviceable","Class 1",2017,110,102.44,8,{"$f":"INDEX(Lists!$B$32:$B$40, MATCH(2020-C91989, Lists!$C$32:$C$40,1))","v":"31-40"},{"$f":"SUMPRODUCT((Data!$B$17:$B$19=Model!$F91989)*(Data!$C$16:$K$16=Model!$K91989)*(Data!$C$17:$K$19))","v":2.52},89.84,{"$f":"_xlfn.IFS(M91989>70,\"Serviceable\",M91989>30, \"Limited Life\",M91989<=30, \"Unserviceable\")","v":"Serviceable"}]
[null,183172,1961,"Wood Creos Impregnated","Serviceable","Class 3",2019,110,107.27,6,{"$f":"INDEX(Lists!$B$32:$B$40, MATCH(2020-C92029, Lists!$C$32:$C$40,1))","v":"51-60"},{"$f":"SUMPRODUCT((Data!$B$17:$B$19=Model!$F92029)*(Data!$C$16:$K$16=Model!$K92029)*(Data!$C$17:$K$19))","v":2.73},93.62,{"$f":"_xlfn.IFS(M92029>70,\"Serviceable\",M92029>30, \"Limited Life\",M92029<=30, \"Unserviceable\")","v":"Serviceable"}]
[null,183326,1962,"Wood Creos Impregnated","Limited Life","Class 3",2016,60,49.08,9,{"$f":"INDEX(Lists!$B$32:$B$40, MATCH(2020-C92114, Lists!$C$32:$C$40,1))","v":"51-60"},{"$f":"SUMPRODUCT((Data!$B$17:$B$19=Model!$F92114)*(Data!$C$16:$K$16=Model!$K92114)*(Data!$C$17:$K$19))","v":2.73},35.43,{"$f":"_xlfn.IFS(M92114>70,\"Serviceable\",M92114>30, \"Limited Life\",M92114<=30, \"Unserviceable\")","v":"Limited Life"}]
[null,183433,2000,"CCA Treated Pole","Serviceable","Class 2",2016,150,145.12,9,{"$f":"INDEX(Lists!$B$32:$B$40, MATCH(2020-C92165, Lists!$C$32:$C$40,1))","v":"0-20"},{"$f":"SUMPRODUCT((Data!$B$17:$B$19=Model!$F92165)*(Data!$C$16:$K$16=Model!$K92165)*(Data!$C$17:$K$19))","v":1.22},139.02000000000001,{"$f":"_xlfn.IFS(M92165>70,\"Serviceable\",M92165>30, \"Limited Life\",M92165<=30, \"Unserviceable\")","v":"Serviceable"}]
[null,183476,1962,"Wood Creos Impregnated","Serviceable","Class 3",2015,100,86.35,10,{"$f":"INDEX(Lists!$B$32:$B$40, MATCH(2020-C92199, Lists!$C$32:$C$40,1))","v":"51-60"},{"$f":"SUMPRODUCT((Data!$B$17:$B$19=Model!$F92199)*(Data!$C$16:$K$16=Model!$K92199)*(Data!$C$17:$K$19))","v":2.73},72.7,{"$f":"_xlfn.IFS(M92199>70,\"Serviceable\",M92199>30, \"Limited Life\",M92199<=30, \"Unserviceable\")","v":"Serviceable"}]
[null,183634,1986,"Wood Untreated Dressed","Serviceable","Class 1",2020,120,120,5,{"$f":"INDEX(Lists!$B$32:$B$40, MATCH(2020-C92327, Lists!$C$32:$C$40,1))","v":"31-40"},{"$f":"SUMPRODUCT((Data!$B$17:$B$19=Model!$F92327)*(Data!$C$16:$K$16=Model!$K92327)*(Data!$C$17:$K$19))","v":2.52},107.4,{"$f":"_xlfn.IFS(M92327>70,\"Serviceable\",M92327>30, \"Limited Life\",M92327<=30, \"Unserviceable\")","v":"Serviceable"}]
[null,183664,2005,"CCA Treated Pole","Serviceable","Class 2",2020,162.49719689682513,162.49719689682513,5,{"$f":"INDEX(Lists!$B$32:$B$40, MATCH(2020-C92352, Lists!$C$32:$C$40,1))","v":"0-20"},{"$f":"SUMPRODUCT((Data!$B$17:$B$19=Model!$F92352)*(Data!$C$16:$K$16=Model!$K92352)*(Data!$C$17:$K$19))","v":1.22},156.39719689682514,{"$f":"_xlfn.IFS(M92352>70,\"Serviceable\",M92352>30, \"Limited Life\",M92352<=30, \"Unserviceable\")","v":"Serviceable"}]
[null,183759,1972,"Wood Creos Impregnated","Serviceable","Class 3",2016,120,104.88,9,{"$f":"INDEX(Lists!$B$32:$B$40, MATCH(2020-C92437, Lists!$C$32:$C$40,1))","v":"41-50"},{"$f":"SUMPRODUCT((Data!$B$17:$B$19=Model!$F92437)*(Data!$C$16:$K$16=Model!$K92437)*(Data!$C$17:$K$19))","v":3.78},85.98,{"$f":"_xlfn.IFS(M92437>70,\"Serviceable\",M92437>30, \"Limited Life\",M92437<=30, \"Unserviceable\")","v":"Serviceable"}]
[null,183798,1986,"Wood Untreated Dressed","Serviceable","Class 1",2015,110,97.4,10,{"$f":"INDEX(Lists!$B$32:$B$40, MATCH(2020-C92469, Lists!$C$32:$C$40,1))","v":"31-40"},{"$f":"SUMPRODUCT((Data!$B$17:$B$19=Model!$F92469)*(Data!$C$16:$K$16=Model!$K92469)*(Data!$C$17:$K$19))","v":2.52},84.8,{"$f":"_xlfn.IFS(M92469>70,\"Serviceable\",M92469>30, \"Limited Life\",M92469<=30, \"Unserviceable\")","v":"Serviceable"}]
[null,183950,1963,"Wood Creos Impregnated","Serviceable","Class 3",2016,120,109.08,9,{"$f":"INDEX(Lists!$B$32:$B$40, MATCH(2020-C92590, Lists!$C$32:$C$40,1))","v":"51-60"},{"$f":"SUMPRODUCT((Data!$B$17:$B$19=Model!$F92590)*(Data!$C$16:$K$16=Model!$K92590)*(Data!$C$17:$K$19))","v":2.73},95.43,{"$f":"_xlfn.IFS(M92590>70,\"Serviceable\",M92590>30, \"Limited Life\",M92590<=30, \"Unserviceable\")","v":"Serviceable"}]
[null,183971,1987,"Wood Untreated Dressed","Serviceable","Class 1",2016,110,99.92,9,{"$f":"INDEX(Lists!$B$32:$B$40, MATCH(2020-C92607, Lists!$C$32:$C$40,1))","v":"31-40"},{"$f":"SUMPRODUCT((Data!$B$17:$B$19=Model!$F92607)*(Data!$C$16:$K$16=Model!$K92607)*(Data!$C$17:$K$19))","v":2.52},87.32,{"$f":"_xlfn.IFS(M92607>70,\"Serviceable\",M92607>30, \"Limited Life\",M92607<=30, \"Unserviceable\")","v":"Serviceable"}]
[null,184088,1981,"Wood Untreated Dressed","Serviceable","Class 1",2016,150,139.91999999999999,9,{"$f":"INDEX(Lists!$B$32:$B$40, MATCH(2020-C92712, Lists!$C$32:$C$40,1))","v":"31-40"},{"$f":"SUMPRODUCT((Data!$B$17:$B$19=Model!$F92712)*(Data!$C$16:$K$16=Model!$K92712)*(Data!$C$17:$K$19))","v":2.52},127.32,{"$f":"_xlfn.IFS(M92712>70,\"Serviceable\",M92712>30, \"Limited Life\",M92712<=30, \"Unserviceable\")","v":"Serviceable"}]
[null,184139,1988,"Wood Untreated Dressed","Serviceable","Class 1",2016,150,139.91999999999999,9,{"$f":"INDEX(Lists!$B$32:$B$40, MATCH(2020-C92760, Lists!$C$32:$C$40,1))","v":"31-40"},{"$f":"SUMPRODUCT((Data!$B$17:$B$19=Model!$F92760)*(Data!$C$16:$K$16=Model!$K92760)*(Data!$C$17:$K$19))","v":2.52},127.32,{"$f":"_xlfn.IFS(M92760>70,\"Serviceable\",M92760>30, \"Limited Life\",M92760<=30, \"Unserviceable\")","v":"Serviceable"}]
[null,184191,1987,"Wood Untreated Dressed","Serviceable","Class 1",2016,130,119.92,9,{"$f":"INDEX(Lists!$B$32:$B$40, MATCH(2020-C92807, Lists!$C$32:$C$40,1))","v":"31-40"},{"$f":"SUMPRODUCT((Data!$B$17:$B$19=Model!$F92807)*(Data!$C$16:$K$16=Model!$K92807)*(Data!$C$17:$K$19))","v":2.52},107.32,{"$f":"_xlfn.IFS(M92807>70,\"Serviceable\",M92807>30, \"Limited Life\",M92807<=30, \"Unserviceable\")","v":"Serviceable"}]
[null,184310,1988,"Wood Untreated Dressed","Serviceable","Class 1",2015,150,137.4,10,{"$f":"INDEX(Lists!$B$32:$B$40, MATCH(2020-C92913, Lists!$C$32:$C$40,1))","v":"31-40"},{"$f":"SUMPRODUCT((Data!$B$17:$B$19=Model!$F92913)*(Data!$C$16:$K$16=Model!$K92913)*(Data!$C$17:$K$19))","v":2.52},124.8,{"$f":"_xlfn.IFS(M92913>70,\"Serviceable\",M92913>30, \"Limited Life\",M92913<=30, \"Unserviceable\")","v":"Serviceable"}]
[null,184411,1988,"Wood Untreated Dressed","Serviceable","Class 2",2017,130,123.01,8,{"$f":"INDEX(Lists!$B$32:$B$40, MATCH(2020-C92998, Lists!$C$32:$C$40,1))","v":"31-40"},{"$f":"SUMPRODUCT((Data!$B$17:$B$19=Model!$F92998)*(Data!$C$16:$K$16=Model!$K92998)*(Data!$C$17:$K$19))","v":2.33},111.36,{"$f":"_xlfn.IFS(M92998>70,\"Serviceable\",M92998>30, \"Limited Life\",M92998<=30, \"Unserviceable\")","v":"Serviceable"}]
[null,184431,1988,"Wood Untreated Dressed","Serviceable","Class 1",2016,120,109.92,9,{"$f":"INDEX(Lists!$B$32:$B$40, MATCH(2020-C93016, Lists!$C$32:$C$40,1))","v":"31-40"},{"$f":"SUMPRODUCT((Data!$B$17:$B$19=Model!$F93016)*(Data!$C$16:$K$16=Model!$K93016)*(Data!$C$17:$K$19))","v":2.52},97.32,{"$f":"_xlfn.IFS(M93016>70,\"Serviceable\",M93016>30, \"Limited Life\",M93016<=30, \"Unserviceable\")","v":"Serviceable"}]
[null,184507,1964,"Wood Creos Impregnated","Serviceable","Class 3",2016,90,79.08,9,{"$f":"INDEX(Lists!$B$32:$B$40, MATCH(2020-C93083, Lists!$C$32:$C$40,1))","v":"51-60"},{"$f":"SUMPRODUCT((Data!$B$17:$B$19=Model!$F93083)*(Data!$C$16:$K$16=Model!$K93083)*(Data!$C$17:$K$19))","v":2.73},65.430000000000007,{"$f":"_xlfn.IFS(M93083>70,\"Serviceable\",M93083>30, \"Limited Life\",M93083<=30, \"Unserviceable\")","v":"Limited Life"}]
[null,184614,1988,"Wood Untreated Dressed","Serviceable","Class 1",2015,140,127.4,10,{"$f":"INDEX(Lists!$B$32:$B$40, MATCH(2020-C93178, Lists!$C$32:$C$40,1))","v":"31-40"},{"$f":"SUMPRODUCT((Data!$B$17:$B$19=Model!$F93178)*(Data!$C$16:$K$16=Model!$K93178)*(Data!$C$17:$K$19))","v":2.52},114.8,{"$f":"_xlfn.IFS(M93178>70,\"Serviceable\",M93178>30, \"Limited Life\",M93178<=30, \"Unserviceable\")","v":"Serviceable"}]
[null,184691,1961,"Wood Untreated Dressed","Serviceable","Class 1",2019,150,148.35,6,{"$f":"INDEX(Lists!$B$32:$B$40, MATCH(2020-C93236, Lists!$C$32:$C$40,1))","v":"51-60"},{"$f":"SUMPRODUCT((Data!$B$17:$B$19=Model!$F93236)*(Data!$C$16:$K$16=Model!$K93236)*(Data!$C$17:$K$19))","v":1.65},140.1,{"$f":"_xlfn.IFS(M93236>70,\"Serviceable\",M93236>30, \"Limited Life\",M93236<=30, \"Unserviceable\")","v":"Serviceable"}]
[null,184794,2001,"CCA Treated Pole","Serviceable","Class 2",2016,150,145.12,9,{"$f":"INDEX(Lists!$B$32:$B$40, MATCH(2020-C93321, Lists!$C$32:$C$40,1))","v":"0-20"},{"$f":"SUMPRODUCT((Data!$B$17:$B$19=Model!$F93321)*(Data!$C$16:$K$16=Model!$K93321)*(Data!$C$17:$K$19))","v":1.22},139.02000000000001,{"$f":"_xlfn.IFS(M93321>70,\"Serviceable\",M93321>30, \"Limited Life\",M93321<=30, \"Unserviceable\")","v":"Serviceable"}]
[null,184874,1965,"Wood Creos Impregnated","Serviceable","Class 3",2020,100,100,5,{"$f":"INDEX(Lists!$B$32:$B$40, MATCH(2020-C93387, Lists!$C$32:$C$40,1))","v":"51-60"},{"$f":"SUMPRODUCT((Data!$B$17:$B$19=Model!$F93387)*(Data!$C$16:$K$16=Model!$K93387)*(Data!$C$17:$K$19))","v":2.73},86.35,{"$f":"_xlfn.IFS(M93387>70,\"Serviceable\",M93387>30, \"Limited Life\",M93387<=30, \"Unserviceable\")","v":"Serviceable"}]
[null,184976,1989,"Wood Untreated Dressed","Serviceable","Class 1",2016,110,99.92,9,{"$f":"INDEX(Lists!$B$32:$B$40, MATCH(2020-C93474, Lists!$C$32:$C$40,1))","v":"31-40"},{"$f":"SUMPRODUCT((Data!$B$17:$B$19=Model!$F93474)*(Data!$C$16:$K$16=Model!$K93474)*(Data!$C$17:$K$19))","v":2.52},87.32,{"$f":"_xlfn.IFS(M93474>70,\"Serviceable\",M93474>30, \"Limited Life\",M93474<=30, \"Unserviceable\")","v":"Serviceable"}]
[null,184995,1989,"Wood Untreated Dressed","Serviceable","Class 1",2016,120,109.92,9,{"$f":"INDEX(Lists!$B$32:$B$40, MATCH(2020-C93491, Lists!$C$32:$C$40,1))","v":"31-40"},{"$f":"SUMPRODUCT((Data!$B$17:$B$19=Model!$F93491)*(Data!$C$16:$K$16=Model!$K93491)*(Data!$C$17:$K$19))","v":2.52},97.32,{"$f":"_xlfn.IFS(M93491>70,\"Serviceable\",M93491>30, \"Limited Life\",M93491<=30, \"Unserviceable\")","v":"Serviceable"}]
[null,185084,1997,"CCA Treated Pole","Serviceable","Class 2",2016,160,152.44,9,{"$f":"INDEX(Lists!$B$32:$B$40, MATCH(2020-C93563, Lists!$C$32:$C$40,1))","v":"21-30"},{"$f":"SUMPRODUCT((Data!$B$17:$B$19=Model!$F93563)*(Data!$C$16:$K$16=Model!$K93563)*(Data!$C$17:$K$19))","v":1.89},142.99,{"$f":"_xlfn.IFS(M93563>70,\"Serviceable\",M93563>30, \"Limited Life\",M93563<=30, \"Unserviceable\")","v":"Serviceable"}]
[null,185225,2002,"CCA Treated Pole","Serviceable","Class 2",2015,160,153.9,10,{"$f":"INDEX(Lists!$B$32:$B$40, MATCH(2020-C93644, Lists!$C$32:$C$40,1))","v":"0-20"},{"$f":"SUMPRODUCT((Data!$B$17:$B$19=Model!$F93644)*(Data!$C$16:$K$16=Model!$K93644)*(Data!$C$17:$K$19))","v":1.22},147.80000000000001,{"$f":"_xlfn.IFS(M93644>70,\"Serviceable\",M93644>30, \"Limited Life\",M93644<=30, \"Unserviceable\")","v":"Serviceable"}]
[null,185426,1966,"Wood Creos Impregnated","Serviceable","Class 3",2016,120,109.08,9,{"$f":"INDEX(Lists!$B$32:$B$40, MATCH(2020-C93725, Lists!$C$32:$C$40,1))","v":"51-60"},{"$f":"SUMPRODUCT((Data!$B$17:$B$19=Model!$F93725)*(Data!$C$16:$K$16=Model!$K93725)*(Data!$C$17:$K$19))","v":2.73},95.43,{"$f":"_xlfn.IFS(M93725>70,\"Serviceable\",M93725>30, \"Limited Life\",M93725<=30, \"Unserviceable\")","v":"Serviceable"}]
[null,185597,1966,"Wood Creos Impregnated","Serviceable","Class 3",2020,110,110,5,{"$f":"INDEX(Lists!$B$32:$B$40, MATCH(2020-C93797, Lists!$C$32:$C$40,1))","v":"51-60"},{"$f":"SUMPRODUCT((Data!$B$17:$B$19=Model!$F93797)*(Data!$C$16:$K$16=Model!$K93797)*(Data!$C$17:$K$19))","v":2.73},96.35,{"$f":"_xlfn.IFS(M93797>70,\"Serviceable\",M93797>30, \"Limited Life\",M93797<=30, \"Unserviceable\")","v":"Serviceable"}]
[null,185799,2010,"CCA Treated Pole","Serviceable","Class 1",2015,160,154.69999999999999,10,{"$f":"INDEX(Lists!$B$32:$B$40, MATCH(2020-C93882, Lists!$C$32:$C$40,1))","v":"0-20"},{"$f":"SUMPRODUCT((Data!$B$17:$B$19=Model!$F93882)*(Data!$C$16:$K$16=Model!$K93882)*(Data!$C$17:$K$19))","v":1.06},149.4,{"$f":"_xlfn.IFS(M93882>70,\"Serviceable\",M93882>30, \"Limited Life\",M93882<=30, \"Unserviceable\")","v":"Serviceable"}]
[null,185923,1970,"Wood Creos Impregnated","Serviceable","Class 3",2020,90,90,5,{"$f":"INDEX(Lists!$B$32:$B$40, MATCH(2020-C93934, Lists!$C$32:$C$40,1))","v":"41-50"},{"$f":"SUMPRODUCT((Data!$B$17:$B$19=Model!$F93934)*(Data!$C$16:$K$16=Model!$K93934)*(Data!$C$17:$K$19))","v":3.78},71.099999999999994,{"$f":"_xlfn.IFS(M93934>70,\"Serviceable\",M93934>30, \"Limited Life\",M93934<=30, \"Unserviceable\")","v":"Serviceable"}]
[null,186014,1967,"Wood Creos Impregnated","Serviceable","Class 3",2016,90,79.08,9,{"$f":"INDEX(Lists!$B$32:$B$40, MATCH(2020-C93967, Lists!$C$32:$C$40,1))","v":"51-60"},{"$f":"SUMPRODUCT((Data!$B$17:$B$19=Model!$F93967)*(Data!$C$16:$K$16=Model!$K93967)*(Data!$C$17:$K$19))","v":2.73},65.430000000000007,{"$f":"_xlfn.IFS(M93967>70,\"Serviceable\",M93967>30, \"Limited Life\",M93967<=30, \"Unserviceable\")","v":"Limited Life"}]
[null,186149,1971,"Wood Creos Impregnated","Limited Life","Class 3",2016,80,64.88,9,{"$f":"INDEX(Lists!$B$32:$B$40, MATCH(2020-C94029, Lists!$C$32:$C$40,1))","v":"41-50"},{"$f":"SUMPRODUCT((Data!$B$17:$B$19=Model!$F94029)*(Data!$C$16:$K$16=Model!$K94029)*(Data!$C$17:$K$19))","v":3.78},45.980000000000004,{"$f":"_xlfn.IFS(M94029>70,\"Serviceable\",M94029>30, \"Limited Life\",M94029<=30, \"Unserviceable\")","v":"Limited Life"}]
[null,186380,1967,"Wood Creos Impregnated","Limited Life","Class 3",2020,70,70,5,{"$f":"INDEX(Lists!$B$32:$B$40, MATCH(2020-C94120, Lists!$C$32:$C$40,1))","v":"51-60"},{"$f":"SUMPRODUCT((Data!$B$17:$B$19=Model!$F94120)*(Data!$C$16:$K$16=Model!$K94120)*(Data!$C$17:$K$19))","v":2.73},56.35,{"$f":"_xlfn.IFS(M94120>70,\"Serviceable\",M94120>30, \"Limited Life\",M94120<=30, \"Unserviceable\")","v":"Limited Life"}]
[null,186575,1967,"Wood Creos Impregnated","Limited Life","Class 3",2020,60,60,5,{"$f":"INDEX(Lists!$B$32:$B$40, MATCH(2020-C94205, Lists!$C$32:$C$40,1))","v":"51-60"},{"$f":"SUMPRODUCT((Data!$B$17:$B$19=Model!$F94205)*(Data!$C$16:$K$16=Model!$K94205)*(Data!$C$17:$K$19))","v":2.73},46.35,{"$f":"_xlfn.IFS(M94205>70,\"Serviceable\",M94205>30, \"Limited Life\",M94205<=30, \"Unserviceable\")","v":"Limited Life"}]
[null,186656,1968,"Wood Creos Impregnated","Serviceable","Class 3",2016,90,79.08,9,{"$f":"INDEX(Lists!$B$32:$B$40, MATCH(2020-C94238, Lists!$C$32:$C$40,1))","v":"51-60"},{"$f":"SUMPRODUCT((Data!$B$17:$B$19=Model!$F94238)*(Data!$C$16:$K$16=Model!$K94238)*(Data!$C$17:$K$19))","v":2.73},65.430000000000007,{"$f":"_xlfn.IFS(M94238>70,\"Serviceable\",M94238>30, \"Limited Life\",M94238<=30, \"Unserviceable\")","v":"Limited Life"}]
[null,186876,1968,"Wood Creos Impregnated","Serviceable","Class 3",2020,90,90,5,{"$f":"INDEX(Lists!$B$32:$B$40, MATCH(2020-C94358, Lists!$C$32:$C$40,1))","v":"51-60"},{"$f":"SUMPRODUCT((Data!$B$17:$B$19=Model!$F94358)*(Data!$C$16:$K$16=Model!$K94358)*(Data!$C$17:$K$19))","v":2.73},76.349999999999994,{"$f":"_xlfn.IFS(M94358>70,\"Serviceable\",M94358>30, \"Limited Life\",M94358<=30, \"Unserviceable\")","v":"Serviceable"}]
[null,186928,1990,"Wood Untreated Dressed","Serviceable","Class 1",2015,110,100.2,10,{"$f":"INDEX(Lists!$B$32:$B$40, MATCH(2020-C94400, Lists!$C$32:$C$40,1))","v":"21-30"},{"$f":"SUMPRODUCT((Data!$B$17:$B$19=Model!$F94400)*(Data!$C$16:$K$16=Model!$K94400)*(Data!$C$17:$K$19))","v":1.96},90.4,{"$f":"_xlfn.IFS(M94400>70,\"Serviceable\",M94400>30, \"Limited Life\",M94400<=30, \"Unserviceable\")","v":"Serviceable"}]
[null,186983,1990,"Wood Untreated Dressed","Serviceable","Class 1",2017,110,104.12,8,{"$f":"INDEX(Lists!$B$32:$B$40, MATCH(2020-C94443, Lists!$C$32:$C$40,1))","v":"21-30"},{"$f":"SUMPRODUCT((Data!$B$17:$B$19=Model!$F94443)*(Data!$C$16:$K$16=Model!$K94443)*(Data!$C$17:$K$19))","v":1.96},94.32,{"$f":"_xlfn.IFS(M94443>70,\"Serviceable\",M94443>30, \"Limited Life\",M94443<=30, \"Unserviceable\")","v":"Serviceable"}]
[null,187090,1968,"Wood Creos Impregnated","Serviceable","Class 3",2019,120,117.27,6,{"$f":"INDEX(Lists!$B$32:$B$40, MATCH(2020-C94528, Lists!$C$32:$C$40,1))","v":"51-60"},{"$f":"SUMPRODUCT((Data!$B$17:$B$19=Model!$F94528)*(Data!$C$16:$K$16=Model!$K94528)*(Data!$C$17:$K$19))","v":2.73},103.62,{"$f":"_xlfn.IFS(M94528>70,\"Serviceable\",M94528>30, \"Limited Life\",M94528<=30, \"Unserviceable\")","v":"Serviceable"}]
[null,187146,1990,"Wood Untreated Dressed","Serviceable","Class 1",2020,100,100,5,{"$f":"INDEX(Lists!$B$32:$B$40, MATCH(2020-C94576, Lists!$C$32:$C$40,1))","v":"21-30"},{"$f":"SUMPRODUCT((Data!$B$17:$B$19=Model!$F94576)*(Data!$C$16:$K$16=Model!$K94576)*(Data!$C$17:$K$19))","v":1.96},90.2,{"$f":"_xlfn.IFS(M94576>70,\"Serviceable\",M94576>30, \"Limited Life\",M94576<=30, \"Unserviceable\")","v":"Serviceable"}]
[null,187266,1980,"Wood Untreated Dressed","Serviceable","Class 1",2016,110,99.92,9,{"$f":"INDEX(Lists!$B$32:$B$40, MATCH(2020-C94681, Lists!$C$32:$C$40,1))","v":"31-40"},{"$f":"SUMPRODUCT((Data!$B$17:$B$19=Model!$F94681)*(Data!$C$16:$K$16=Model!$K94681)*(Data!$C$17:$K$19))","v":2.52},87.32,{"$f":"_xlfn.IFS(M94681>70,\"Serviceable\",M94681>30, \"Limited Life\",M94681<=30, \"Unserviceable\")","v":"Serviceable"}]
[null,187290,1968,"Wood Untreated Dressed","Serviceable","Class 3",2015,90,76.349999999999994,10,{"$f":"INDEX(Lists!$B$32:$B$40, MATCH(2020-C94698, Lists!$C$32:$C$40,1))","v":"51-60"},{"$f":"SUMPRODUCT((Data!$B$17:$B$19=Model!$F94698)*(Data!$C$16:$K$16=Model!$K94698)*(Data!$C$17:$K$19))","v":2.73},62.7,{"$f":"_xlfn.IFS(M94698>70,\"Serviceable\",M94698>30, \"Limited Life\",M94698<=30, \"Unserviceable\")","v":"Limited Life"}]
[null,187396,1970,"Wood Creos Impregnated","Serviceable","Class 3",2015,100,81.099999999999994,10,{"$f":"INDEX(Lists!$B$32:$B$40, MATCH(2020-C94785, Lists!$C$32:$C$40,1))","v":"41-50"},{"$f":"SUMPRODUCT((Data!$B$17:$B$19=Model!$F94785)*(Data!$C$16:$K$16=Model!$K94785)*(Data!$C$17:$K$19))","v":3.78},62.2,{"$f":"_xlfn.IFS(M94785>70,\"Serviceable\",M94785>30, \"Limited Life\",M94785<=30, \"Unserviceable\")","v":"Limited Life"}]
[null,187480,1957,"Wood Creos Impregnated","Serviceable","Class 3",2016,100,91.92,9,{"$f":"INDEX(Lists!$B$32:$B$40, MATCH(2020-C94851, Lists!$C$32:$C$40,1))","v":"61-70"},{"$f":"SUMPRODUCT((Data!$B$17:$B$19=Model!$F94851)*(Data!$C$16:$K$16=Model!$K94851)*(Data!$C$17:$K$19))","v":2.02},81.819999999999993,{"$f":"_xlfn.IFS(M94851>70,\"Serviceable\",M94851>30, \"Limited Life\",M94851<=30, \"Unserviceable\")","v":"Serviceable"}]
[null,187602,1991,"Wood Untreated Dressed","Serviceable","Class 1",2017,120,114.12,8,{"$f":"INDEX(Lists!$B$32:$B$40, MATCH(2020-C94947, Lists!$C$32:$C$40,1))","v":"21-30"},{"$f":"SUMPRODUCT((Data!$B$17:$B$19=Model!$F94947)*(Data!$C$16:$K$16=Model!$K94947)*(Data!$C$17:$K$19))","v":1.96},104.32,{"$f":"_xlfn.IFS(M94947>70,\"Serviceable\",M94947>30, \"Limited Life\",M94947<=30, \"Unserviceable\")","v":"Serviceable"}]
[null,187672,1969,"Wood Creos Impregnated","Serviceable","Class 3",2020,110,110,5,{"$f":"INDEX(Lists!$B$32:$B$40, MATCH(2020-C95004, Lists!$C$32:$C$40,1))","v":"51-60"},{"$f":"SUMPRODUCT((Data!$B$17:$B$19=Model!$F95004)*(Data!$C$16:$K$16=Model!$K95004)*(Data!$C$17:$K$19))","v":2.73},96.35,{"$f":"_xlfn.IFS(M95004>70,\"Serviceable\",M95004>30, \"Limited Life\",M95004<=30, \"Unserviceable\")","v":"Serviceable"}]
[null,187770,2010,"CCA Treated Pole","Serviceable","Class 2",2016,162.49719689682513,157.61719689682513,9,{"$f":"INDEX(Lists!$B$32:$B$40, MATCH(2020-C95089, Lists!$C$32:$C$40,1))","v":"0-20"},{"$f":"SUMPRODUCT((Data!$B$17:$B$19=Model!$F95089)*(Data!$C$16:$K$16=Model!$K95089)*(Data!$C$17:$K$19))","v":1.22},151.51719689682514,{"$f":"_xlfn.IFS(M95089>70,\"Serviceable\",M95089>30, \"Limited Life\",M95089<=30, \"Unserviceable\")","v":"Serviceable"}]
[null,187807,2004,"CCA Treated Pole","Serviceable","Class 1",2020,150,150,5,{"$f":"INDEX(Lists!$B$32:$B$40, MATCH(2020-C95123, Lists!$C$32:$C$40,1))","v":"0-20"},{"$f":"SUMPRODUCT((Data!$B$17:$B$19=Model!$F95123)*(Data!$C$16:$K$16=Model!$K95123)*(Data!$C$17:$K$19))","v":1.06},144.69999999999999,{"$f":"_xlfn.IFS(M95123>70,\"Serviceable\",M95123>30, \"Limited Life\",M95123<=30, \"Unserviceable\")","v":"Serviceable"}]
[null,187870,1969,"Wood Creos Impregnated","Serviceable","Class 3",2015,110,96.35,10,{"$f":"INDEX(Lists!$B$32:$B$40, MATCH(2020-C95174, Lists!$C$32:$C$40,1))","v":"51-60"},{"$f":"SUMPRODUCT((Data!$B$17:$B$19=Model!$F95174)*(Data!$C$16:$K$16=Model!$K95174)*(Data!$C$17:$K$19))","v":2.73},82.7,{"$f":"_xlfn.IFS(M95174>70,\"Serviceable\",M95174>30, \"Limited Life\",M95174<=30, \"Unserviceable\")","v":"Serviceable"}]
[null,187964,1969,"Wood Creos Impregnated","Serviceable","Class 3",2016,140,129.08000000000001,9,{"$f":"INDEX(Lists!$B$32:$B$40, MATCH(2020-C95251, Lists!$C$32:$C$40,1))","v":"51-60"},{"$f":"SUMPRODUCT((Data!$B$17:$B$19=Model!$F95251)*(Data!$C$16:$K$16=Model!$K95251)*(Data!$C$17:$K$19))","v":2.73},115.43,{"$f":"_xlfn.IFS(M95251>70,\"Serviceable\",M95251>30, \"Limited Life\",M95251<=30, \"Unserviceable\")","v":"Serviceable"}]
[null,188055,1992,"Wood Untreated Dressed","Serviceable","Class 1",2020,130,130,5,{"$f":"INDEX(Lists!$B$32:$B$40, MATCH(2020-C95327, Lists!$C$32:$C$40,1))","v":"21-30"},{"$f":"SUMPRODUCT((Data!$B$17:$B$19=Model!$F95327)*(Data!$C$16:$K$16=Model!$K95327)*(Data!$C$17:$K$19))","v":1.96},120.2,{"$f":"_xlfn.IFS(M95327>70,\"Serviceable\",M95327>30, \"Limited Life\",M95327<=30, \"Unserviceable\")","v":"Serviceable"}]
[null,188233,1969,"Wood Creos Impregnated","Serviceable","Class 3",2020,100,100,5,{"$f":"INDEX(Lists!$B$32:$B$40, MATCH(2020-C95412, Lists!$C$32:$C$40,1))","v":"51-60"},{"$f":"SUMPRODUCT((Data!$B$17:$B$19=Model!$F95412)*(Data!$C$16:$K$16=Model!$K95412)*(Data!$C$17:$K$19))","v":2.73},86.35,{"$f":"_xlfn.IFS(M95412>70,\"Serviceable\",M95412>30, \"Limited Life\",M95412<=30, \"Unserviceable\")","v":"Serviceable"}]
[null,188354,1970,"Wood Creos Impregnated","Serviceable","Class 3",2015,90,71.099999999999994,10,{"$f":"INDEX(Lists!$B$32:$B$40, MATCH(2020-C95494, Lists!$C$32:$C$40,1))","v":"41-50"},{"$f":"SUMPRODUCT((Data!$B$17:$B$19=Model!$F95494)*(Data!$C$16:$K$16=Model!$K95494)*(Data!$C$17:$K$19))","v":3.78},52.2,{"$f":"_xlfn.IFS(M95494>70,\"Serviceable\",M95494>30, \"Limited Life\",M95494<=30, \"Unserviceable\")","v":"Limited Life"}]
[null,188438,1970,"Wood Creos Impregnated","Serviceable","Class 3",2016,100,84.88,9,{"$f":"INDEX(Lists!$B$32:$B$40, MATCH(2020-C95565, Lists!$C$32:$C$40,1))","v":"41-50"},{"$f":"SUMPRODUCT((Data!$B$17:$B$19=Model!$F95565)*(Data!$C$16:$K$16=Model!$K95565)*(Data!$C$17:$K$19))","v":3.78},65.98,{"$f":"_xlfn.IFS(M95565>70,\"Serviceable\",M95565>30, \"Limited Life\",M95565<=30, \"Unserviceable\")","v":"Limited Life"}]
[null,188459,1993,"Wood Untreated Dressed","Serviceable","Class 1",2016,150,142.16,9,{"$f":"INDEX(Lists!$B$32:$B$40, MATCH(2020-C95582, Lists!$C$32:$C$40,1))","v":"21-30"},{"$f":"SUMPRODUCT((Data!$B$17:$B$19=Model!$F95582)*(Data!$C$16:$K$16=Model!$K95582)*(Data!$C$17:$K$19))","v":1.96},132.36000000000001,{"$f":"_xlfn.IFS(M95582>70,\"Serviceable\",M95582>30, \"Limited Life\",M95582<=30, \"Unserviceable\")","v":"Serviceable"}]
[null,188680,1971,"Wood Creos Impregnated","Limited Life","Class 3",2016,80,64.88,9,{"$f":"INDEX(Lists!$B$32:$B$40, MATCH(2020-C95703, Lists!$C$32:$C$40,1))","v":"41-50"},{"$f":"SUMPRODUCT((Data!$B$17:$B$19=Model!$F95703)*(Data!$C$16:$K$16=Model!$K95703)*(Data!$C$17:$K$19))","v":3.78},45.980000000000004,{"$f":"_xlfn.IFS(M95703>70,\"Serviceable\",M95703>30, \"Limited Life\",M95703<=30, \"Unserviceable\")","v":"Limited Life"}]
[null,188765,1970,"Wood Creos Impregnated","Serviceable","Class 3",2016,100,84.88,9,{"$f":"INDEX(Lists!$B$32:$B$40, MATCH(2020-C95735, Lists!$C$32:$C$40,1))","v":"41-50"},{"$f":"SUMPRODUCT((Data!$B$17:$B$19=Model!$F95735)*(Data!$C$16:$K$16=Model!$K95735)*(Data!$C$17:$K$19))","v":3.78},65.98,{"$f":"_xlfn.IFS(M95735>70,\"Serviceable\",M95735>30, \"Limited Life\",M95735<=30, \"Unserviceable\")","v":"Limited Life"}]
[null,188938,2005,"CCA Treated Pole","Serviceable","Class 1",2016,160,155.76,9,{"$f":"INDEX(Lists!$B$32:$B$40, MATCH(2020-C95798, Lists!$C$32:$C$40,1))","v":"0-20"},{"$f":"SUMPRODUCT((Data!$B$17:$B$19=Model!$F95798)*(Data!$C$16:$K$16=Model!$K95798)*(Data!$C$17:$K$19))","v":1.06},150.46,{"$f":"_xlfn.IFS(M95798>70,\"Serviceable\",M95798>30, \"Limited Life\",M95798<=30, \"Unserviceable\")","v":"Serviceable"}]
[null,189139,2008,"CCA Treated Pole","Serviceable","Class 2",2016,162.49719689682513,157.61719689682513,9,{"$f":"INDEX(Lists!$B$32:$B$40, MATCH(2020-C95888, Lists!$C$32:$C$40,1))","v":"0-20"},{"$f":"SUMPRODUCT((Data!$B$17:$B$19=Model!$F95888)*(Data!$C$16:$K$16=Model!$K95888)*(Data!$C$17:$K$19))","v":1.22},151.51719689682514,{"$f":"_xlfn.IFS(M95888>70,\"Serviceable\",M95888>30, \"Limited Life\",M95888<=30, \"Unserviceable\")","v":"Serviceable"}]
[null,189337,2008,"CCA Treated Pole","Serviceable","Class 1",2016,166.31691553103065,162.07691553103064,9,{"$f":"INDEX(Lists!$B$32:$B$40, MATCH(2020-C95973, Lists!$C$32:$C$40,1))","v":"0-20"},{"$f":"SUMPRODUCT((Data!$B$17:$B$19=Model!$F95973)*(Data!$C$16:$K$16=Model!$K95973)*(Data!$C$17:$K$19))","v":1.06},156.77691553103065,{"$f":"_xlfn.IFS(M95973>70,\"Serviceable\",M95973>30, \"Limited Life\",M95973<=30, \"Unserviceable\")","v":"Serviceable"}]
[null,189520,1972,"Wood Creos Impregnated","Serviceable","Class 3",2016,100,84.88,9,{"$f":"INDEX(Lists!$B$32:$B$40, MATCH(2020-C96041, Lists!$C$32:$C$40,1))","v":"41-50"},{"$f":"SUMPRODUCT((Data!$B$17:$B$19=Model!$F96041)*(Data!$C$16:$K$16=Model!$K96041)*(Data!$C$17:$K$19))","v":3.78},65.98,{"$f":"_xlfn.IFS(M96041>70,\"Serviceable\",M96041>30, \"Limited Life\",M96041<=30, \"Unserviceable\")","v":"Limited Life"}]
[null,189565,1972,"Wood Creos Impregnated","Serviceable","Class 3",2020,120,120,5,{"$f":"INDEX(Lists!$B$32:$B$40, MATCH(2020-C96058, Lists!$C$32:$C$40,1))","v":"41-50"},{"$f":"SUMPRODUCT((Data!$B$17:$B$19=Model!$F96058)*(Data!$C$16:$K$16=Model!$K96058)*(Data!$C$17:$K$19))","v":3.78},101.1,{"$f":"_xlfn.IFS(M96058>70,\"Serviceable\",M96058>30, \"Limited Life\",M96058<=30, \"Unserviceable\")","v":"Serviceable"}]
[null,189852,1972,"Wood Creos Impregnated","Serviceable","Class 3",2019,80,76.22,6,{"$f":"INDEX(Lists!$B$32:$B$40, MATCH(2020-C96169, Lists!$C$32:$C$40,1))","v":"41-50"},{"$f":"SUMPRODUCT((Data!$B$17:$B$19=Model!$F96169)*(Data!$C$16:$K$16=Model!$K96169)*(Data!$C$17:$K$19))","v":3.78},57.32,{"$f":"_xlfn.IFS(M96169>70,\"Serviceable\",M96169>30, \"Limited Life\",M96169<=30, \"Unserviceable\")","v":"Limited Life"}]
[null,189943,1973,"Wood Untreated Dressed","Serviceable","Class 1",2020,110,110,5,{"$f":"INDEX(Lists!$B$32:$B$40, MATCH(2020-C96211, Lists!$C$32:$C$40,1))","v":"41-50"},{"$f":"SUMPRODUCT((Data!$B$17:$B$19=Model!$F96211)*(Data!$C$16:$K$16=Model!$K96211)*(Data!$C$17:$K$19))","v":1.75},101.25,{"$f":"_xlfn.IFS(M96211>70,\"Serviceable\",M96211>30, \"Limited Life\",M96211<=30, \"Unserviceable\")","v":"Serviceable"}]
[null,190153,1973,"Wood Untreated Dressed","Serviceable","Class 1",2017,120,114.75,8,{"$f":"INDEX(Lists!$B$32:$B$40, MATCH(2020-C96296, Lists!$C$32:$C$40,1))","v":"41-50"},{"$f":"SUMPRODUCT((Data!$B$17:$B$19=Model!$F96296)*(Data!$C$16:$K$16=Model!$K96296)*(Data!$C$17:$K$19))","v":1.75},106,{"$f":"_xlfn.IFS(M96296>70,\"Serviceable\",M96296>30, \"Limited Life\",M96296<=30, \"Unserviceable\")","v":"Serviceable"}]
[null,190211,1966,"Wood Creos Impregnated","Serviceable","Class 3",2020,100,100,5,{"$f":"INDEX(Lists!$B$32:$B$40, MATCH(2020-C96345, Lists!$C$32:$C$40,1))","v":"51-60"},{"$f":"SUMPRODUCT((Data!$B$17:$B$19=Model!$F96345)*(Data!$C$16:$K$16=Model!$K96345)*(Data!$C$17:$K$19))","v":2.73},86.35,{"$f":"_xlfn.IFS(M96345>70,\"Serviceable\",M96345>30, \"Limited Life\",M96345<=30, \"Unserviceable\")","v":"Serviceable"}]
[null,190419,1983,"Wood Untreated Dressed","Serviceable","Class 2",2017,100,93.01,8,{"$f":"INDEX(Lists!$B$32:$B$40, MATCH(2020-C96449, Lists!$C$32:$C$40,1))","v":"31-40"},{"$f":"SUMPRODUCT((Data!$B$17:$B$19=Model!$F96449)*(Data!$C$16:$K$16=Model!$K96449)*(Data!$C$17:$K$19))","v":2.33},81.36,{"$f":"_xlfn.IFS(M96449>70,\"Serviceable\",M96449>30, \"Limited Life\",M96449<=30, \"Unserviceable\")","v":"Serviceable"}]
[null,190479,1973,"Wood Untreated Dressed","Serviceable","Class 1",2020,120,120,5,{"$f":"INDEX(Lists!$B$32:$B$40, MATCH(2020-C96473, Lists!$C$32:$C$40,1))","v":"41-50"},{"$f":"SUMPRODUCT((Data!$B$17:$B$19=Model!$F96473)*(Data!$C$16:$K$16=Model!$K96473)*(Data!$C$17:$K$19))","v":1.75},111.25,{"$f":"_xlfn.IFS(M96473>70,\"Serviceable\",M96473>30, \"Limited Life\",M96473<=30, \"Unserviceable\")","v":"Serviceable"}]
[null,190640,1973,"Wood Untreated Dressed","Serviceable","Class 1",2020,100,100,5,{"$f":"INDEX(Lists!$B$32:$B$40, MATCH(2020-C96550, Lists!$C$32:$C$40,1))","v":"41-50"},{"$f":"SUMPRODUCT((Data!$B$17:$B$19=Model!$F96550)*(Data!$C$16:$K$16=Model!$K96550)*(Data!$C$17:$K$19))","v":1.75},91.25,{"$f":"_xlfn.IFS(M96550>70,\"Serviceable\",M96550>30, \"Limited Life\",M96550<=30, \"Unserviceable\")","v":"Serviceable"}]
[null,190738,2002,"Wood Untreated Dressed","Serviceable","Class 1",2017,160,156.82,8,{"$f":"INDEX(Lists!$B$32:$B$40, MATCH(2020-C96619, Lists!$C$32:$C$40,1))","v":"0-20"},{"$f":"SUMPRODUCT((Data!$B$17:$B$19=Model!$F96619)*(Data!$C$16:$K$16=Model!$K96619)*(Data!$C$17:$K$19))","v":1.06},151.52000000000001,{"$f":"_xlfn.IFS(M96619>70,\"Serviceable\",M96619>30, \"Limited Life\",M96619<=30, \"Unserviceable\")","v":"Serviceable"}]
[null,190886,2005,"CCA Treated Pole","Serviceable","Class 2",2016,150,145.12,9,{"$f":"INDEX(Lists!$B$32:$B$40, MATCH(2020-C96716, Lists!$C$32:$C$40,1))","v":"0-20"},{"$f":"SUMPRODUCT((Data!$B$17:$B$19=Model!$F96716)*(Data!$C$16:$K$16=Model!$K96716)*(Data!$C$17:$K$19))","v":1.22},139.02000000000001,{"$f":"_xlfn.IFS(M96716>70,\"Serviceable\",M96716>30, \"Limited Life\",M96716<=30, \"Unserviceable\")","v":"Serviceable"}]
[null,190956,1973,"Wood Untreated Dressed","Serviceable","Class 1",2020,140,140,5,{"$f":"INDEX(Lists!$B$32:$B$40, MATCH(2020-C96772, Lists!$C$32:$C$40,1))","v":"41-50"},{"$f":"SUMPRODUCT((Data!$B$17:$B$19=Model!$F96772)*(Data!$C$16:$K$16=Model!$K96772)*(Data!$C$17:$K$19))","v":1.75},131.25,{"$f":"_xlfn.IFS(M96772>70,\"Serviceable\",M96772>30, \"Limited Life\",M96772<=30, \"Unserviceable\")","v":"Serviceable"}]
[null,191109,1982,"Wood Untreated Dressed","Serviceable","Class 1",2020,140,140,5,{"$f":"INDEX(Lists!$B$32:$B$40, MATCH(2020-C96857, Lists!$C$32:$C$40,1))","v":"31-40"},{"$f":"SUMPRODUCT((Data!$B$17:$B$19=Model!$F96857)*(Data!$C$16:$K$16=Model!$K96857)*(Data!$C$17:$K$19))","v":2.52},127.4,{"$f":"_xlfn.IFS(M96857>70,\"Serviceable\",M96857>30, \"Limited Life\",M96857<=30, \"Unserviceable\")","v":"Serviceable"}]
[null,191249,1982,"Wood Untreated Dressed","Serviceable","Class 1",2016,120,109.92,9,{"$f":"INDEX(Lists!$B$32:$B$40, MATCH(2020-C96892, Lists!$C$32:$C$40,1))","v":"31-40"},{"$f":"SUMPRODUCT((Data!$B$17:$B$19=Model!$F96892)*(Data!$C$16:$K$16=Model!$K96892)*(Data!$C$17:$K$19))","v":2.52},97.32,{"$f":"_xlfn.IFS(M96892>70,\"Serviceable\",M96892>30, \"Limited Life\",M96892<=30, \"Unserviceable\")","v":"Serviceable"}]
[null,191577,2003,"CCA Treated Pole","Serviceable","Class 2",2017,160,156.34,8,{"$f":"INDEX(Lists!$B$32:$B$40, MATCH(2020-C96942, Lists!$C$32:$C$40,1))","v":"0-20"},{"$f":"SUMPRODUCT((Data!$B$17:$B$19=Model!$F96942)*(Data!$C$16:$K$16=Model!$K96942)*(Data!$C$17:$K$19))","v":1.22},150.24,{"$f":"_xlfn.IFS(M96942>70,\"Serviceable\",M96942>30, \"Limited Life\",M96942<=30, \"Unserviceable\")","v":"Serviceable"}]
[null,192093,1970,"Wood Creos Impregnated","Limited Life","Class 3",2019,70,66.22,6,{"$f":"INDEX(Lists!$B$32:$B$40, MATCH(2020-C97020, Lists!$C$32:$C$40,1))","v":"41-50"},{"$f":"SUMPRODUCT((Data!$B$17:$B$19=Model!$F97020)*(Data!$C$16:$K$16=Model!$K97020)*(Data!$C$17:$K$19))","v":3.78},47.32,{"$f":"_xlfn.IFS(M97020>70,\"Serviceable\",M97020>30, \"Limited Life\",M97020<=30, \"Unserviceable\")","v":"Limited Life"}]
[null,192212,1973,"Wood Creos Impregnated","Serviceable","Class 3",2019,110,106.22,6,{"$f":"INDEX(Lists!$B$32:$B$40, MATCH(2020-C97095, Lists!$C$32:$C$40,1))","v":"41-50"},{"$f":"SUMPRODUCT((Data!$B$17:$B$19=Model!$F97095)*(Data!$C$16:$K$16=Model!$K97095)*(Data!$C$17:$K$19))","v":3.78},87.32,{"$f":"_xlfn.IFS(M97095>70,\"Serviceable\",M97095>30, \"Limited Life\",M97095<=30, \"Unserviceable\")","v":"Serviceable"}]
[null,192346,1970,"Wood Creos Impregnated","Serviceable","Class 3",2019,90,86.22,6,{"$f":"INDEX(Lists!$B$32:$B$40, MATCH(2020-C97180, Lists!$C$32:$C$40,1))","v":"41-50"},{"$f":"SUMPRODUCT((Data!$B$17:$B$19=Model!$F97180)*(Data!$C$16:$K$16=Model!$K97180)*(Data!$C$17:$K$19))","v":3.78},67.319999999999993,{"$f":"_xlfn.IFS(M97180>70,\"Serviceable\",M97180>30, \"Limited Life\",M97180<=30, \"Unserviceable\")","v":"Limited Life"}]
[null,192474,1987,"Wood Untreated Dressed","Serviceable","Class 1",2020,140,140,5,{"$f":"INDEX(Lists!$B$32:$B$40, MATCH(2020-C97263, Lists!$C$32:$C$40,1))","v":"31-40"},{"$f":"SUMPRODUCT((Data!$B$17:$B$19=Model!$F97263)*(Data!$C$16:$K$16=Model!$K97263)*(Data!$C$17:$K$19))","v":2.52},127.4,{"$f":"_xlfn.IFS(M97263>70,\"Serviceable\",M97263>30, \"Limited Life\",M97263<=30, \"Unserviceable\")","v":"Serviceable"}]
[null,192587,1991,"Wood Untreated Dressed","Serviceable","Class 1",2019,140,138.04,6,{"$f":"INDEX(Lists!$B$32:$B$40, MATCH(2020-C97333, Lists!$C$32:$C$40,1))","v":"21-30"},{"$f":"SUMPRODUCT((Data!$B$17:$B$19=Model!$F97333)*(Data!$C$16:$K$16=Model!$K97333)*(Data!$C$17:$K$19))","v":1.96},128.24,{"$f":"_xlfn.IFS(M97333>70,\"Serviceable\",M97333>30, \"Limited Life\",M97333<=30, \"Unserviceable\")","v":"Serviceable"}]
[null,192725,2006,"CCA Treated Pole","Serviceable","Class 2",2016,150,145.12,9,{"$f":"INDEX(Lists!$B$32:$B$40, MATCH(2020-C97391, Lists!$C$32:$C$40,1))","v":"0-20"},{"$f":"SUMPRODUCT((Data!$B$17:$B$19=Model!$F97391)*(Data!$C$16:$K$16=Model!$K97391)*(Data!$C$17:$K$19))","v":1.22},139.02000000000001,{"$f":"_xlfn.IFS(M97391>70,\"Serviceable\",M97391>30, \"Limited Life\",M97391<=30, \"Unserviceable\")","v":"Serviceable"}]
[null,192779,1968,"Wood Creos Impregnated","Serviceable","Class 3",2019,80,77.27,6,{"$f":"INDEX(Lists!$B$32:$B$40, MATCH(2020-C97434, Lists!$C$32:$C$40,1))","v":"51-60"},{"$f":"SUMPRODUCT((Data!$B$17:$B$19=Model!$F97434)*(Data!$C$16:$K$16=Model!$K97434)*(Data!$C$17:$K$19))","v":2.73},63.620000000000005,{"$f":"_xlfn.IFS(M97434>70,\"Serviceable\",M97434>30, \"Limited Life\",M97434<=30, \"Unserviceable\")","v":"Limited Life"}]
[null,192908,1999,"Wood Creos Impregnated","Serviceable","Class 3",2017,110,104.48,8,{"$f":"INDEX(Lists!$B$32:$B$40, MATCH(2020-C97503, Lists!$C$32:$C$40,1))","v":"21-30"},{"$f":"SUMPRODUCT((Data!$B$17:$B$19=Model!$F97503)*(Data!$C$16:$K$16=Model!$K97503)*(Data!$C$17:$K$19))","v":1.84},95.28,{"$f":"_xlfn.IFS(M97503>70,\"Serviceable\",M97503>30, \"Limited Life\",M97503<=30, \"Unserviceable\")","v":"Serviceable"}]
[null,193052,2003,"CCA Treated Pole","Serviceable","Class 1",2016,150,145.76,9,{"$f":"INDEX(Lists!$B$32:$B$40, MATCH(2020-C97567, Lists!$C$32:$C$40,1))","v":"0-20"},{"$f":"SUMPRODUCT((Data!$B$17:$B$19=Model!$F97567)*(Data!$C$16:$K$16=Model!$K97567)*(Data!$C$17:$K$19))","v":1.06},140.46,{"$f":"_xlfn.IFS(M97567>70,\"Serviceable\",M97567>30, \"Limited Life\",M97567<=30, \"Unserviceable\")","v":"Serviceable"}]
[null,193173,1983,"Wood Untreated Dressed","Serviceable","Class 1",2020,110,110,5,{"$f":"INDEX(Lists!$B$32:$B$40, MATCH(2020-C97656, Lists!$C$32:$C$40,1))","v":"31-40"},{"$f":"SUMPRODUCT((Data!$B$17:$B$19=Model!$F97656)*(Data!$C$16:$K$16=Model!$K97656)*(Data!$C$17:$K$19))","v":2.52},97.4,{"$f":"_xlfn.IFS(M97656>70,\"Serviceable\",M97656>30, \"Limited Life\",M97656<=30, \"Unserviceable\")","v":"Serviceable"}]
[null,193191,1981,"Wood Untreated Dressed","Serviceable","Class 1",2020,120,120,5,{"$f":"INDEX(Lists!$B$32:$B$40, MATCH(2020-C97673, Lists!$C$32:$C$40,1))","v":"31-40"},{"$f":"SUMPRODUCT((Data!$B$17:$B$19=Model!$F97673)*(Data!$C$16:$K$16=Model!$K97673)*(Data!$C$17:$K$19))","v":2.52},107.4,{"$f":"_xlfn.IFS(M97673>70,\"Serviceable\",M97673>30, \"Limited Life\",M97673<=30, \"Unserviceable\")","v":"Serviceable"}]
[null,193266,1982,"Wood Untreated Dressed","Serviceable","Class 1",2016,100,89.92,9,{"$f":"INDEX(Lists!$B$32:$B$40, MATCH(2020-C97743, Lists!$C$32:$C$40,1))","v":"31-40"},{"$f":"SUMPRODUCT((Data!$B$17:$B$19=Model!$F97743)*(Data!$C$16:$K$16=Model!$K97743)*(Data!$C$17:$K$19))","v":2.52},77.319999999999993,{"$f":"_xlfn.IFS(M97743>70,\"Serviceable\",M97743>30, \"Limited Life\",M97743<=30, \"Unserviceable\")","v":"Serviceable"}]
[null,193370,1979,"Wood Untreated Dressed","Serviceable","Class 1",2016,100,93,9,{"$f":"INDEX(Lists!$B$32:$B$40, MATCH(2020-C97826, Lists!$C$32:$C$40,1))","v":"41-50"},{"$f":"SUMPRODUCT((Data!$B$17:$B$19=Model!$F97826)*(Data!$C$16:$K$16=Model!$K97826)*(Data!$C$17:$K$19))","v":1.75},84.25,{"$f":"_xlfn.IFS(M97826>70,\"Serviceable\",M97826>30, \"Limited Life\",M97826<=30, \"Unserviceable\")","v":"Serviceable"}]
[null,193506,1982,"Wood Untreated Dressed","Serviceable","Class 1",2015,90,77.400000000000006,10,{"$f":"INDEX(Lists!$B$32:$B$40, MATCH(2020-C97938, Lists!$C$32:$C$40,1))","v":"31-40"},{"$f":"SUMPRODUCT((Data!$B$17:$B$19=Model!$F97938)*(Data!$C$16:$K$16=Model!$K97938)*(Data!$C$17:$K$19))","v":2.52},64.8,{"$f":"_xlfn.IFS(M97938>70,\"Serviceable\",M97938>30, \"Limited Life\",M97938<=30, \"Unserviceable\")","v":"Limited Life"}]
[null,193555,1982,"Wood Untreated Dressed","Serviceable","Class 1",2016,140,129.91999999999999,9,{"$f":"INDEX(Lists!$B$32:$B$40, MATCH(2020-C97979, Lists!$C$32:$C$40,1))","v":"31-40"},{"$f":"SUMPRODUCT((Data!$B$17:$B$19=Model!$F97979)*(Data!$C$16:$K$16=Model!$K97979)*(Data!$C$17:$K$19))","v":2.52},117.32,{"$f":"_xlfn.IFS(M97979>70,\"Serviceable\",M97979>30, \"Limited Life\",M97979<=30, \"Unserviceable\")","v":"Serviceable"}]
[null,193648,1982,"Wood Untreated Dressed","Serviceable","Class 1",2020,120,120,5,{"$f":"INDEX(Lists!$B$32:$B$40, MATCH(2020-C98064, Lists!$C$32:$C$40,1))","v":"31-40"},{"$f":"SUMPRODUCT((Data!$B$17:$B$19=Model!$F98064)*(Data!$C$16:$K$16=Model!$K98064)*(Data!$C$17:$K$19))","v":2.52},107.4,{"$f":"_xlfn.IFS(M98064>70,\"Serviceable\",M98064>30, \"Limited Life\",M98064<=30, \"Unserviceable\")","v":"Serviceable"}]
[null,193708,1982,"Wood Untreated Dressed","Serviceable","Class 1",2016,120,109.92,9,{"$f":"INDEX(Lists!$B$32:$B$40, MATCH(2020-C98114, Lists!$C$32:$C$40,1))","v":"31-40"},{"$f":"SUMPRODUCT((Data!$B$17:$B$19=Model!$F98114)*(Data!$C$16:$K$16=Model!$K98114)*(Data!$C$17:$K$19))","v":2.52},97.32,{"$f":"_xlfn.IFS(M98114>70,\"Serviceable\",M98114>30, \"Limited Life\",M98114<=30, \"Unserviceable\")","v":"Serviceable"}]
[null,193757,1982,"Wood Untreated Dressed","Serviceable","Class 1",2016,120,109.92,9,{"$f":"INDEX(Lists!$B$32:$B$40, MATCH(2020-C98149, Lists!$C$32:$C$40,1))","v":"31-40"},{"$f":"SUMPRODUCT((Data!$B$17:$B$19=Model!$F98149)*(Data!$C$16:$K$16=Model!$K98149)*(Data!$C$17:$K$19))","v":2.52},97.32,{"$f":"_xlfn.IFS(M98149>70,\"Serviceable\",M98149>30, \"Limited Life\",M98149<=30, \"Unserviceable\")","v":"Serviceable"}]
[null,193862,1982,"Wood Untreated Dressed","Serviceable","Class 1",2016,110,99.92,9,{"$f":"INDEX(Lists!$B$32:$B$40, MATCH(2020-C98242, Lists!$C$32:$C$40,1))","v":"31-40"},{"$f":"SUMPRODUCT((Data!$B$17:$B$19=Model!$F98242)*(Data!$C$16:$K$16=Model!$K98242)*(Data!$C$17:$K$19))","v":2.52},87.32,{"$f":"_xlfn.IFS(M98242>70,\"Serviceable\",M98242>30, \"Limited Life\",M98242<=30, \"Unserviceable\")","v":"Serviceable"}]
[null,193944,1982,"Wood Untreated Dressed","Serviceable","Class 1",2017,140,132.44,8,{"$f":"INDEX(Lists!$B$32:$B$40, MATCH(2020-C98318, Lists!$C$32:$C$40,1))","v":"31-40"},{"$f":"SUMPRODUCT((Data!$B$17:$B$19=Model!$F98318)*(Data!$C$16:$K$16=Model!$K98318)*(Data!$C$17:$K$19))","v":2.52},119.84,{"$f":"_xlfn.IFS(M98318>70,\"Serviceable\",M98318>30, \"Limited Life\",M98318<=30, \"Unserviceable\")","v":"Serviceable"}]
[null,194049,1983,"Wood Untreated Dressed","Serviceable","Class 1",2017,100,92.44,8,{"$f":"INDEX(Lists!$B$32:$B$40, MATCH(2020-C98387, Lists!$C$32:$C$40,1))","v":"31-40"},{"$f":"SUMPRODUCT((Data!$B$17:$B$19=Model!$F98387)*(Data!$C$16:$K$16=Model!$K98387)*(Data!$C$17:$K$19))","v":2.52},79.84,{"$f":"_xlfn.IFS(M98387>70,\"Serviceable\",M98387>30, \"Limited Life\",M98387<=30, \"Unserviceable\")","v":"Serviceable"}]
[null,194084,1983,"Wood Untreated Dressed","Serviceable","Class 1",2016,150,139.91999999999999,9,{"$f":"INDEX(Lists!$B$32:$B$40, MATCH(2020-C98418, Lists!$C$32:$C$40,1))","v":"31-40"},{"$f":"SUMPRODUCT((Data!$B$17:$B$19=Model!$F98418)*(Data!$C$16:$K$16=Model!$K98418)*(Data!$C$17:$K$19))","v":2.52},127.32,{"$f":"_xlfn.IFS(M98418>70,\"Serviceable\",M98418>30, \"Limited Life\",M98418<=30, \"Unserviceable\")","v":"Serviceable"}]
[null,194225,1983,"Wood Untreated Dressed","Serviceable","Class 1",2017,130,122.44,8,{"$f":"INDEX(Lists!$B$32:$B$40, MATCH(2020-C98540, Lists!$C$32:$C$40,1))","v":"31-40"},{"$f":"SUMPRODUCT((Data!$B$17:$B$19=Model!$F98540)*(Data!$C$16:$K$16=Model!$K98540)*(Data!$C$17:$K$19))","v":2.52},109.84,{"$f":"_xlfn.IFS(M98540>70,\"Serviceable\",M98540>30, \"Limited Life\",M98540<=30, \"Unserviceable\")","v":"Serviceable"}]
[null,194311,1983,"Wood Untreated Dressed","Serviceable","Class 1",2020,100,100,5,{"$f":"INDEX(Lists!$B$32:$B$40, MATCH(2020-C98613, Lists!$C$32:$C$40,1))","v":"31-40"},{"$f":"SUMPRODUCT((Data!$B$17:$B$19=Model!$F98613)*(Data!$C$16:$K$16=Model!$K98613)*(Data!$C$17:$K$19))","v":2.52},87.4,{"$f":"_xlfn.IFS(M98613>70,\"Serviceable\",M98613>30, \"Limited Life\",M98613<=30, \"Unserviceable\")","v":"Serviceable"}]
[null,194342,1983,"Wood Untreated Dressed","Serviceable","Class 1",2020,100,100,5,{"$f":"INDEX(Lists!$B$32:$B$40, MATCH(2020-C98641, Lists!$C$32:$C$40,1))","v":"31-40"},{"$f":"SUMPRODUCT((Data!$B$17:$B$19=Model!$F98641)*(Data!$C$16:$K$16=Model!$K98641)*(Data!$C$17:$K$19))","v":2.52},87.4,{"$f":"_xlfn.IFS(M98641>70,\"Serviceable\",M98641>30, \"Limited Life\",M98641<=30, \"Unserviceable\")","v":"Serviceable"}]
[null,194420,1983,"Wood Untreated Dressed","Serviceable","Class 1",2020,100,100,5,{"$f":"INDEX(Lists!$B$32:$B$40, MATCH(2020-C98710, Lists!$C$32:$C$40,1))","v":"31-40"},{"$f":"SUMPRODUCT((Data!$B$17:$B$19=Model!$F98710)*(Data!$C$16:$K$16=Model!$K98710)*(Data!$C$17:$K$19))","v":2.52},87.4,{"$f":"_xlfn.IFS(M98710>70,\"Serviceable\",M98710>30, \"Limited Life\",M98710<=30, \"Unserviceable\")","v":"Serviceable"}]
[null,194507,1999,"Wood Untreated Dressed","Serviceable","Class 1",2016,100,92.16,9,{"$f":"INDEX(Lists!$B$32:$B$40, MATCH(2020-C98789, Lists!$C$32:$C$40,1))","v":"21-30"},{"$f":"SUMPRODUCT((Data!$B$17:$B$19=Model!$F98789)*(Data!$C$16:$K$16=Model!$K98789)*(Data!$C$17:$K$19))","v":1.96},82.36,{"$f":"_xlfn.IFS(M98789>70,\"Serviceable\",M98789>30, \"Limited Life\",M98789<=30, \"Unserviceable\")","v":"Serviceable"}]
[null,194607,1984,"Wood Untreated Dressed","Serviceable","Class 1",2015,100,87.4,10,{"$f":"INDEX(Lists!$B$32:$B$40, MATCH(2020-C98879, Lists!$C$32:$C$40,1))","v":"31-40"},{"$f":"SUMPRODUCT((Data!$B$17:$B$19=Model!$F98879)*(Data!$C$16:$K$16=Model!$K98879)*(Data!$C$17:$K$19))","v":2.52},74.8,{"$f":"_xlfn.IFS(M98879>70,\"Serviceable\",M98879>30, \"Limited Life\",M98879<=30, \"Unserviceable\")","v":"Serviceable"}]
[null,194686,1983,"Wood Untreated Dressed","Serviceable","Class 1",2017,100,92.44,8,{"$f":"INDEX(Lists!$B$32:$B$40, MATCH(2020-C98948, Lists!$C$32:$C$40,1))","v":"31-40"},{"$f":"SUMPRODUCT((Data!$B$17:$B$19=Model!$F98948)*(Data!$C$16:$K$16=Model!$K98948)*(Data!$C$17:$K$19))","v":2.52},79.84,{"$f":"_xlfn.IFS(M98948>70,\"Serviceable\",M98948>30, \"Limited Life\",M98948<=30, \"Unserviceable\")","v":"Serviceable"}]
[null,194704,1984,"Wood Untreated Dressed","Serviceable","Class 1",2016,100,89.92,9,{"$f":"INDEX(Lists!$B$32:$B$40, MATCH(2020-C98965, Lists!$C$32:$C$40,1))","v":"31-40"},{"$f":"SUMPRODUCT((Data!$B$17:$B$19=Model!$F98965)*(Data!$C$16:$K$16=Model!$K98965)*(Data!$C$17:$K$19))","v":2.52},77.319999999999993,{"$f":"_xlfn.IFS(M98965>70,\"Serviceable\",M98965>30, \"Limited Life\",M98965<=30, \"Unserviceable\")","v":"Serviceable"}]
[null,194788,1984,"Wood Untreated Dressed","Serviceable","Class 1",2016,140,129.91999999999999,9,{"$f":"INDEX(Lists!$B$32:$B$40, MATCH(2020-C99033, Lists!$C$32:$C$40,1))","v":"31-40"},{"$f":"SUMPRODUCT((Data!$B$17:$B$19=Model!$F99033)*(Data!$C$16:$K$16=Model!$K99033)*(Data!$C$17:$K$19))","v":2.52},117.32,{"$f":"_xlfn.IFS(M99033>70,\"Serviceable\",M99033>30, \"Limited Life\",M99033<=30, \"Unserviceable\")","v":"Serviceable"}]
[null,194861,1984,"Wood Untreated Dressed","Serviceable","Class 1",2016,140,129.91999999999999,9,{"$f":"INDEX(Lists!$B$32:$B$40, MATCH(2020-C99093, Lists!$C$32:$C$40,1))","v":"31-40"},{"$f":"SUMPRODUCT((Data!$B$17:$B$19=Model!$F99093)*(Data!$C$16:$K$16=Model!$K99093)*(Data!$C$17:$K$19))","v":2.52},117.32,{"$f":"_xlfn.IFS(M99093>70,\"Serviceable\",M99093>30, \"Limited Life\",M99093<=30, \"Unserviceable\")","v":"Serviceable"}]
[null,194996,1984,"Wood Untreated Dressed","Serviceable","Class 1",2020,130,130,5,{"$f":"INDEX(Lists!$B$32:$B$40, MATCH(2020-C99202, Lists!$C$32:$C$40,1))","v":"31-40"},{"$f":"SUMPRODUCT((Data!$B$17:$B$19=Model!$F99202)*(Data!$C$16:$K$16=Model!$K99202)*(Data!$C$17:$K$19))","v":2.52},117.4,{"$f":"_xlfn.IFS(M99202>70,\"Serviceable\",M99202>30, \"Limited Life\",M99202<=30, \"Unserviceable\")","v":"Serviceable"}]
[null,195068,1984,"Wood Untreated Dressed","Serviceable","Class 1",2016,140,129.91999999999999,9,{"$f":"INDEX(Lists!$B$32:$B$40, MATCH(2020-C99271, Lists!$C$32:$C$40,1))","v":"31-40"},{"$f":"SUMPRODUCT((Data!$B$17:$B$19=Model!$F99271)*(Data!$C$16:$K$16=Model!$K99271)*(Data!$C$17:$K$19))","v":2.52},117.32,{"$f":"_xlfn.IFS(M99271>70,\"Serviceable\",M99271>30, \"Limited Life\",M99271<=30, \"Unserviceable\")","v":"Serviceable"}]
[null,195137,1984,"Wood Untreated Dressed","Serviceable","Class 1",2015,130,117.4,{"$f":"2025-G99336","v":10},{"$f":"INDEX(Lists!$B$32:$B$40, MATCH(2020-C99336, Lists!$C$32:$C$40,1))","v":"31-40"},{"$f":"SUMPRODUCT((Data!$B$17:$B$19=Model!$F99336)*(Data!$C$16:$K$16=Model!$K99336)*(Data!$C$17:$K$19))","v":2.52},{"$f":"IF(IF(H99336>=700,999,(H99336-L99336*J99336))<0,0,IF(H99336>=700,999,(H99336-L99336*J99336)))","v":104.8},{"$f":"_xlfn.IFS(M99336>70,\"Serviceable\",M99336>30, \"Limited Life\",M99336<=30, \"Unserviceable\")","v":"Serviceable"}]
[null,195273,1985,"Wood Untreated Dressed","Serviceable","Class 1",2015,100,87.4,10,{"$f":"INDEX(Lists!$B$32:$B$40, MATCH(2020-C99424, Lists!$C$32:$C$40,1))","v":"31-40"},{"$f":"SUMPRODUCT((Data!$B$17:$B$19=Model!$F99424)*(Data!$C$16:$K$16=Model!$K99424)*(Data!$C$17:$K$19))","v":2.52},74.8,{"$f":"_xlfn.IFS(M99424>70,\"Serviceable\",M99424>30, \"Limited Life\",M99424<=30, \"Unserviceable\")","v":"Serviceable"}]
[null,195314,1985,"Wood Untreated Dressed","Serviceable","Class 1",2016,110,99.92,{"$f":"2025-G99464","v":9},{"$f":"INDEX(Lists!$B$32:$B$40, MATCH(2020-C99464, Lists!$C$32:$C$40,1))","v":"31-40"},{"$f":"SUMPRODUCT((Data!$B$17:$B$19=Model!$F99464)*(Data!$C$16:$K$16=Model!$K99464)*(Data!$C$17:$K$19))","v":2.52},{"$f":"IF(IF(H99464>=700,999,(H99464-L99464*J99464))<0,0,IF(H99464>=700,999,(H99464-L99464*J99464)))","v":87.32},{"$f":"_xlfn.IFS(M99464>70,\"Serviceable\",M99464>30, \"Limited Life\",M99464<=30, \"Unserviceable\")","v":"Serviceable"}]
[null,195384,1985,"Wood Untreated Dressed","Serviceable","Class 1",2020,150,150,5,{"$f":"INDEX(Lists!$B$32:$B$40, MATCH(2020-C99525, Lists!$C$32:$C$40,1))","v":"31-40"},{"$f":"SUMPRODUCT((Data!$B$17:$B$19=Model!$F99525)*(Data!$C$16:$K$16=Model!$K99525)*(Data!$C$17:$K$19))","v":2.52},137.4,{"$f":"_xlfn.IFS(M99525>70,\"Serviceable\",M99525>30, \"Limited Life\",M99525<=30, \"Unserviceable\")","v":"Serviceable"}]
[null,195455,1985,"Wood Untreated Dressed","Serviceable","Class 1",2020,130,130,5,{"$f":"INDEX(Lists!$B$32:$B$40, MATCH(2020-C99594, Lists!$C$32:$C$40,1))","v":"31-40"},{"$f":"SUMPRODUCT((Data!$B$17:$B$19=Model!$F99594)*(Data!$C$16:$K$16=Model!$K99594)*(Data!$C$17:$K$19))","v":2.52},117.4,{"$f":"_xlfn.IFS(M99594>70,\"Serviceable\",M99594>30, \"Limited Life\",M99594<=30, \"Unserviceable\")","v":"Serviceable"}]
[null,195509,1985,"Wood Untreated Dressed","Serviceable","Class 1",2020,140,140,5,{"$f":"INDEX(Lists!$B$32:$B$40, MATCH(2020-C99640, Lists!$C$32:$C$40,1))","v":"31-40"},{"$f":"SUMPRODUCT((Data!$B$17:$B$19=Model!$F99640)*(Data!$C$16:$K$16=Model!$K99640)*(Data!$C$17:$K$19))","v":2.52},127.4,{"$f":"_xlfn.IFS(M99640>70,\"Serviceable\",M99640>30, \"Limited Life\",M99640<=30, \"Unserviceable\")","v":"Serviceable"}]
[null,195650,1980,"Wood Untreated Dressed","Serviceable","Class 1",2016,100,89.92,9,{"$f":"INDEX(Lists!$B$32:$B$40, MATCH(2020-C99763, Lists!$C$32:$C$40,1))","v":"31-40"},{"$f":"SUMPRODUCT((Data!$B$17:$B$19=Model!$F99763)*(Data!$C$16:$K$16=Model!$K99763)*(Data!$C$17:$K$19))","v":2.52},77.319999999999993,{"$f":"_xlfn.IFS(M99763>70,\"Serviceable\",M99763>30, \"Limited Life\",M99763<=30, \"Unserviceable\")","v":"Serviceable"}]
[null,195915,1967,"Wood Creos Impregnated","Serviceable","Class 3",2016,120,109.08,9,{"$f":"INDEX(Lists!$B$32:$B$40, MATCH(2020-C99832, Lists!$C$32:$C$40,1))","v":"51-60"},{"$f":"SUMPRODUCT((Data!$B$17:$B$19=Model!$F99832)*(Data!$C$16:$K$16=Model!$K99832)*(Data!$C$17:$K$19))","v":2.73},95.43,{"$f":"_xlfn.IFS(M99832>70,\"Serviceable\",M99832>30, \"Limited Life\",M99832<=30, \"Unserviceable\")","v":"Serviceable"}]
[null,196015,1967,"Wood Creos Impregnated","Serviceable","Class 3",2017,120,111.81,8,{"$f":"INDEX(Lists!$B$32:$B$40, MATCH(2020-C99883, Lists!$C$32:$C$40,1))","v":"51-60"},{"$f":"SUMPRODUCT((Data!$B$17:$B$19=Model!$F99883)*(Data!$C$16:$K$16=Model!$K99883)*(Data!$C$17:$K$19))","v":2.73},98.16,{"$f":"_xlfn.IFS(M99883>70,\"Serviceable\",M99883>30, \"Limited Life\",M99883<=30, \"Unserviceable\")","v":"Serviceable"}]
[null,196059,2004,"CCA Treated Pole","Serviceable","Class 2",2018,162.49719689682513,160.05719689682513,7,{"$f":"INDEX(Lists!$B$32:$B$40, MATCH(2020-C99917, Lists!$C$32:$C$40,1))","v":"0-20"},{"$f":"SUMPRODUCT((Data!$B$17:$B$19=Model!$F99917)*(Data!$C$16:$K$16=Model!$K99917)*(Data!$C$17:$K$19))","v":1.22},153.95719689682514,{"$f":"_xlfn.IFS(M99917>70,\"Serviceable\",M99917>30, \"Limited Life\",M99917<=30, \"Unserviceable\")","v":"Serviceable"}]
[null,196197,2003,"CCA Treated Pole","Serviceable","Class 1",2018,150,147.88,7,{"$f":"INDEX(Lists!$B$32:$B$40, MATCH(2020-C100011, Lists!$C$32:$C$40,1))","v":"0-20"},{"$f":"SUMPRODUCT((Data!$B$17:$B$19=Model!$F100011)*(Data!$C$16:$K$16=Model!$K100011)*(Data!$C$17:$K$19))","v":1.06},142.58000000000001,{"$f":"_xlfn.IFS(M100011>70,\"Serviceable\",M100011>30, \"Limited Life\",M100011<=30, \"Unserviceable\")","v":"Serviceable"}]
[null,196310,1961,"Wood Creos Impregnated","Serviceable","Class 3",2018,100,94.54,7,{"$f":"INDEX(Lists!$B$32:$B$40, MATCH(2020-C100086, Lists!$C$32:$C$40,1))","v":"51-60"},{"$f":"SUMPRODUCT((Data!$B$17:$B$19=Model!$F100086)*(Data!$C$16:$K$16=Model!$K100086)*(Data!$C$17:$K$19))","v":2.73},80.89,{"$f":"_xlfn.IFS(M100086>70,\"Serviceable\",M100086>30, \"Limited Life\",M100086<=30, \"Unserviceable\")","v":"Serviceable"}]
[null,196404,1981,"Wood Creos Impregnated","Serviceable","Class 1",2018,140,134.96,7,{"$f":"INDEX(Lists!$B$32:$B$40, MATCH(2020-C100155, Lists!$C$32:$C$40,1))","v":"31-40"},{"$f":"SUMPRODUCT((Data!$B$17:$B$19=Model!$F100155)*(Data!$C$16:$K$16=Model!$K100155)*(Data!$C$17:$K$19))","v":2.52},122.36,{"$f":"_xlfn.IFS(M100155>70,\"Serviceable\",M100155>30, \"Limited Life\",M100155<=30, \"Unserviceable\")","v":"Serviceable"}]
[null,196464,1976,"Wood Creos Impregnated","Serviceable","Class 1",2018,100,96.5,7,{"$f":"INDEX(Lists!$B$32:$B$40, MATCH(2020-C100187, Lists!$C$32:$C$40,1))","v":"41-50"},{"$f":"SUMPRODUCT((Data!$B$17:$B$19=Model!$F100187)*(Data!$C$16:$K$16=Model!$K100187)*(Data!$C$17:$K$19))","v":1.75},87.75,{"$f":"_xlfn.IFS(M100187>70,\"Serviceable\",M100187>30, \"Limited Life\",M100187<=30, \"Unserviceable\")","v":"Serviceable"}]
[null,196585,1954,"Wood Untreated Round","Serviceable","Class 1",2019,100,97.97,6,{"$f":"INDEX(Lists!$B$32:$B$40, MATCH(2020-C100256, Lists!$C$32:$C$40,1))","v":"61-70"},{"$f":"SUMPRODUCT((Data!$B$17:$B$19=Model!$F100256)*(Data!$C$16:$K$16=Model!$K100256)*(Data!$C$17:$K$19))","v":2.0299999999999998},87.82,{"$f":"_xlfn.IFS(M100256>70,\"Serviceable\",M100256>30, \"Limited Life\",M100256<=30, \"Unserviceable\")","v":"Serviceable"}]
[null,196667,1971,"Wood Creos Impregnated","Serviceable","Class 3",2019,80,76.22,6,{"$f":"INDEX(Lists!$B$32:$B$40, MATCH(2020-C100315, Lists!$C$32:$C$40,1))","v":"41-50"},{"$f":"SUMPRODUCT((Data!$B$17:$B$19=Model!$F100315)*(Data!$C$16:$K$16=Model!$K100315)*(Data!$C$17:$K$19))","v":3.78},57.32,{"$f":"_xlfn.IFS(M100315>70,\"Serviceable\",M100315>30, \"Limited Life\",M100315<=30, \"Unserviceable\")","v":"Limited Life"}]
[null,196812,1985,"Wood Untreated Dressed","Serviceable","Class 1",2017,120,112.44,8,{"$f":"INDEX(Lists!$B$32:$B$40, MATCH(2020-C100409, Lists!$C$32:$C$40,1))","v":"31-40"},{"$f":"SUMPRODUCT((Data!$B$17:$B$19=Model!$F100409)*(Data!$C$16:$K$16=Model!$K100409)*(Data!$C$17:$K$19))","v":2.52},99.84,{"$f":"_xlfn.IFS(M100409>70,\"Serviceable\",M100409>30, \"Limited Life\",M100409<=30, \"Unserviceable\")","v":"Serviceable"}]
[null,196920,1955,"Wood Creos Impregnated","Serviceable","Class 2",2018,80,75.540000000000006,7,{"$f":"INDEX(Lists!$B$32:$B$40, MATCH(2020-C100478, Lists!$C$32:$C$40,1))","v":"61-70"},{"$f":"SUMPRODUCT((Data!$B$17:$B$19=Model!$F100478)*(Data!$C$16:$K$16=Model!$K100478)*(Data!$C$17:$K$19))","v":2.23},64.39,{"$f":"_xlfn.IFS(M100478>70,\"Serviceable\",M100478>30, \"Limited Life\",M100478<=30, \"Unserviceable\")","v":"Limited Life"}]
[null,197057,1962,"Wood Creos Impregnated","Serviceable","Class 3",2015,100,86.35,10,{"$f":"INDEX(Lists!$B$32:$B$40, MATCH(2020-C100558, Lists!$C$32:$C$40,1))","v":"51-60"},{"$f":"SUMPRODUCT((Data!$B$17:$B$19=Model!$F100558)*(Data!$C$16:$K$16=Model!$K100558)*(Data!$C$17:$K$19))","v":2.73},72.7,{"$f":"_xlfn.IFS(M100558>70,\"Serviceable\",M100558>30, \"Limited Life\",M100558<=30, \"Unserviceable\")","v":"Serviceable"}]
[null,197229,2008,"CCA Treated Pole","Serviceable","Class 2",2019,100,98.78,6,{"$f":"INDEX(Lists!$B$32:$B$40, MATCH(2020-C100647, Lists!$C$32:$C$40,1))","v":"0-20"},{"$f":"SUMPRODUCT((Data!$B$17:$B$19=Model!$F100647)*(Data!$C$16:$K$16=Model!$K100647)*(Data!$C$17:$K$19))","v":1.22},92.68,{"$f":"_xlfn.IFS(M100647>70,\"Serviceable\",M100647>30, \"Limited Life\",M100647<=30, \"Unserviceable\")","v":"Serviceable"}]
[null,197291,1931,"Wood Untreated Dressed","Serviceable","Class 1",2017,90,81.569999999999993,8,{"$f":"INDEX(Lists!$B$32:$B$40, MATCH(2020-C100686, Lists!$C$32:$C$40,1))","v":"81-90"},{"$f":"SUMPRODUCT((Data!$B$17:$B$19=Model!$F100686)*(Data!$C$16:$K$16=Model!$K100686)*(Data!$C$17:$K$19))","v":2.81},67.52,{"$f":"_xlfn.IFS(M100686>70,\"Serviceable\",M100686>30, \"Limited Life\",M100686<=30, \"Unserviceable\")","v":"Limited Life"}]
[null,197373,1960,"Wood Creos Impregnated","Serviceable","Class 3",2018,90,84.54,7,{"$f":"INDEX(Lists!$B$32:$B$40, MATCH(2020-C100732, Lists!$C$32:$C$40,1))","v":"51-60"},{"$f":"SUMPRODUCT((Data!$B$17:$B$19=Model!$F100732)*(Data!$C$16:$K$16=Model!$K100732)*(Data!$C$17:$K$19))","v":2.73},70.89,{"$f":"_xlfn.IFS(M100732>70,\"Serviceable\",M100732>30, \"Limited Life\",M100732<=30, \"Unserviceable\")","v":"Serviceable"}]
[null,197481,1979,"Wood Untreated Dressed","Serviceable","Class 1",2020,120,120,5,{"$f":"INDEX(Lists!$B$32:$B$40, MATCH(2020-C100801, Lists!$C$32:$C$40,1))","v":"41-50"},{"$f":"SUMPRODUCT((Data!$B$17:$B$19=Model!$F100801)*(Data!$C$16:$K$16=Model!$K100801)*(Data!$C$17:$K$19))","v":1.75},111.25,{"$f":"_xlfn.IFS(M100801>70,\"Serviceable\",M100801>30, \"Limited Life\",M100801<=30, \"Unserviceable\")","v":"Serviceable"}]
[null,197576,1972,"Wood Creos Impregnated","Serviceable","Class 3",2020,120,120,5,{"$f":"INDEX(Lists!$B$32:$B$40, MATCH(2020-C100862, Lists!$C$32:$C$40,1))","v":"41-50"},{"$f":"SUMPRODUCT((Data!$B$17:$B$19=Model!$F100862)*(Data!$C$16:$K$16=Model!$K100862)*(Data!$C$17:$K$19))","v":3.78},101.1,{"$f":"_xlfn.IFS(M100862>70,\"Serviceable\",M100862>30, \"Limited Life\",M100862<=30, \"Unserviceable\")","v":"Serviceable"}]
[null,197744,1936,"Wood Untreated Dressed","Serviceable","Class 1",2020,100,100,5,{"$f":"INDEX(Lists!$B$32:$B$40, MATCH(2020-C100970, Lists!$C$32:$C$40,1))","v":"81-90"},{"$f":"SUMPRODUCT((Data!$B$17:$B$19=Model!$F100970)*(Data!$C$16:$K$16=Model!$K100970)*(Data!$C$17:$K$19))","v":2.81},85.95,{"$f":"_xlfn.IFS(M100970>70,\"Serviceable\",M100970>30, \"Limited Life\",M100970<=30, \"Unserviceable\")","v":"Serviceable"}]
[null,197853,1971,"Wood Creos Impregnated","Serviceable","Class 3",2020,120,120,5,{"$f":"INDEX(Lists!$B$32:$B$40, MATCH(2020-C101039, Lists!$C$32:$C$40,1))","v":"41-50"},{"$f":"SUMPRODUCT((Data!$B$17:$B$19=Model!$F101039)*(Data!$C$16:$K$16=Model!$K101039)*(Data!$C$17:$K$19))","v":3.78},101.1,{"$f":"_xlfn.IFS(M101039>70,\"Serviceable\",M101039>30, \"Limited Life\",M101039<=30, \"Unserviceable\")","v":"Serviceable"}]
[null,197957,1975,"Wood Creos Impregnated","Serviceable","Class 3",2015,90,71.099999999999994,10,{"$f":"INDEX(Lists!$B$32:$B$40, MATCH(2020-C101105, Lists!$C$32:$C$40,1))","v":"41-50"},{"$f":"SUMPRODUCT((Data!$B$17:$B$19=Model!$F101105)*(Data!$C$16:$K$16=Model!$K101105)*(Data!$C$17:$K$19))","v":3.78},52.2,{"$f":"_xlfn.IFS(M101105>70,\"Serviceable\",M101105>30, \"Limited Life\",M101105<=30, \"Unserviceable\")","v":"Limited Life"}]
[null,198009,1968,"Wood Creos Impregnated","Serviceable","Class 3",2020,100,100,5,{"$f":"INDEX(Lists!$B$32:$B$40, MATCH(2020-C101140, Lists!$C$32:$C$40,1))","v":"51-60"},{"$f":"SUMPRODUCT((Data!$B$17:$B$19=Model!$F101140)*(Data!$C$16:$K$16=Model!$K101140)*(Data!$C$17:$K$19))","v":2.73},86.35,{"$f":"_xlfn.IFS(M101140>70,\"Serviceable\",M101140>30, \"Limited Life\",M101140<=30, \"Unserviceable\")","v":"Serviceable"}]
[null,198140,1995,"Wood Untreated Dressed","Serviceable","Class 1",2015,150,140.19999999999999,10,{"$f":"INDEX(Lists!$B$32:$B$40, MATCH(2020-C101233, Lists!$C$32:$C$40,1))","v":"21-30"},{"$f":"SUMPRODUCT((Data!$B$17:$B$19=Model!$F101233)*(Data!$C$16:$K$16=Model!$K101233)*(Data!$C$17:$K$19))","v":1.96},130.4,{"$f":"_xlfn.IFS(M101233>70,\"Serviceable\",M101233>30, \"Limited Life\",M101233<=30, \"Unserviceable\")","v":"Serviceable"}]
[null,198215,1971,"Wood Creos Impregnated","Limited Life","Class 3",2019,40,36.22,6,{"$f":"INDEX(Lists!$B$32:$B$40, MATCH(2020-C101293, Lists!$C$32:$C$40,1))","v":"41-50"},{"$f":"SUMPRODUCT((Data!$B$17:$B$19=Model!$F101293)*(Data!$C$16:$K$16=Model!$K101293)*(Data!$C$17:$K$19))","v":3.78},17.32,{"$f":"_xlfn.IFS(M101293>70,\"Serviceable\",M101293>30, \"Limited Life\",M101293<=30, \"Unserviceable\")","v":"Unserviceable"}]
[null,198328,1940,"Wood Untreated Dressed","Serviceable","Class 1",2020,100,100,5,{"$f":"INDEX(Lists!$B$32:$B$40, MATCH(2020-C101362, Lists!$C$32:$C$40,1))","v":"71-80"},{"$f":"SUMPRODUCT((Data!$B$17:$B$19=Model!$F101362)*(Data!$C$16:$K$16=Model!$K101362)*(Data!$C$17:$K$19))","v":2.15},89.25,{"$f":"_xlfn.IFS(M101362>70,\"Serviceable\",M101362>30, \"Limited Life\",M101362<=30, \"Unserviceable\")","v":"Serviceable"}]
[null,198417,1969,"Wood Creos Impregnated","Serviceable","Class 3",2020,100,100,5,{"$f":"INDEX(Lists!$B$32:$B$40, MATCH(2020-C101409, Lists!$C$32:$C$40,1))","v":"51-60"},{"$f":"SUMPRODUCT((Data!$B$17:$B$19=Model!$F101409)*(Data!$C$16:$K$16=Model!$K101409)*(Data!$C$17:$K$19))","v":2.73},86.35,{"$f":"_xlfn.IFS(M101409>70,\"Serviceable\",M101409>30, \"Limited Life\",M101409<=30, \"Unserviceable\")","v":"Serviceable"}]
[null,198504,2002,"CCA Treated Pole","Serviceable","Class 2",2019,160,158.78,6,{"$f":"INDEX(Lists!$B$32:$B$40, MATCH(2020-C101463, Lists!$C$32:$C$40,1))","v":"0-20"},{"$f":"SUMPRODUCT((Data!$B$17:$B$19=Model!$F101463)*(Data!$C$16:$K$16=Model!$K101463)*(Data!$C$17:$K$19))","v":1.22},152.68,{"$f":"_xlfn.IFS(M101463>70,\"Serviceable\",M101463>30, \"Limited Life\",M101463<=30, \"Unserviceable\")","v":"Serviceable"}]
[null,198636,1994,"Wood Untreated Dressed","Serviceable","Class 1",2020,110,110,5,{"$f":"INDEX(Lists!$B$32:$B$40, MATCH(2020-C101537, Lists!$C$32:$C$40,1))","v":"21-30"},{"$f":"SUMPRODUCT((Data!$B$17:$B$19=Model!$F101537)*(Data!$C$16:$K$16=Model!$K101537)*(Data!$C$17:$K$19))","v":1.96},100.2,{"$f":"_xlfn.IFS(M101537>70,\"Serviceable\",M101537>30, \"Limited Life\",M101537<=30, \"Unserviceable\")","v":"Serviceable"}]
[null,198767,1961,"Wood Creos Impregnated","Serviceable","Class 3",2015,90,76.349999999999994,10,{"$f":"INDEX(Lists!$B$32:$B$40, MATCH(2020-C101616, Lists!$C$32:$C$40,1))","v":"51-60"},{"$f":"SUMPRODUCT((Data!$B$17:$B$19=Model!$F101616)*(Data!$C$16:$K$16=Model!$K101616)*(Data!$C$17:$K$19))","v":2.73},62.7,{"$f":"_xlfn.IFS(M101616>70,\"Serviceable\",M101616>30, \"Limited Life\",M101616<=30, \"Unserviceable\")","v":"Limited Life"}]
[null,198867,1940,"Wood Other","Limited Life","Class 1",2015,80,69.25,10,{"$f":"INDEX(Lists!$B$32:$B$40, MATCH(2020-C101685, Lists!$C$32:$C$40,1))","v":"71-80"},{"$f":"SUMPRODUCT((Data!$B$17:$B$19=Model!$F101685)*(Data!$C$16:$K$16=Model!$K101685)*(Data!$C$17:$K$19))","v":2.15},58.5,{"$f":"_xlfn.IFS(M101685>70,\"Serviceable\",M101685>30, \"Limited Life\",M101685<=30, \"Unserviceable\")","v":"Limited Life"}]
[null,199011,2001,"CCA Treated Pole","Serviceable","Class 1",2016,160,155.76,9,{"$f":"INDEX(Lists!$B$32:$B$40, MATCH(2020-C101780, Lists!$C$32:$C$40,1))","v":"0-20"},{"$f":"SUMPRODUCT((Data!$B$17:$B$19=Model!$F101780)*(Data!$C$16:$K$16=Model!$K101780)*(Data!$C$17:$K$19))","v":1.06},150.46,{"$f":"_xlfn.IFS(M101780>70,\"Serviceable\",M101780>30, \"Limited Life\",M101780<=30, \"Unserviceable\")","v":"Serviceable"}]
[null,199132,1956,"Wood Untreated Dressed","Serviceable","Class 1",2016,120,111.88,9,{"$f":"INDEX(Lists!$B$32:$B$40, MATCH(2020-C101854, Lists!$C$32:$C$40,1))","v":"61-70"},{"$f":"SUMPRODUCT((Data!$B$17:$B$19=Model!$F101854)*(Data!$C$16:$K$16=Model!$K101854)*(Data!$C$17:$K$19))","v":2.0299999999999998},101.73,{"$f":"_xlfn.IFS(M101854>70,\"Serviceable\",M101854>30, \"Limited Life\",M101854<=30, \"Unserviceable\")","v":"Serviceable"}]
[null,199261,2007,"CCA Treated Pole","Serviceable","Class 2",2016,150,145.12,9,{"$f":"INDEX(Lists!$B$32:$B$40, MATCH(2020-C101923, Lists!$C$32:$C$40,1))","v":"0-20"},{"$f":"SUMPRODUCT((Data!$B$17:$B$19=Model!$F101923)*(Data!$C$16:$K$16=Model!$K101923)*(Data!$C$17:$K$19))","v":1.22},139.02000000000001,{"$f":"_xlfn.IFS(M101923>70,\"Serviceable\",M101923>30, \"Limited Life\",M101923<=30, \"Unserviceable\")","v":"Serviceable"}]
[null,199342,1983,"Wood Creos Impregnated","Serviceable","Class 3",2018,100,93.56,7,{"$f":"INDEX(Lists!$B$32:$B$40, MATCH(2020-C101956, Lists!$C$32:$C$40,1))","v":"31-40"},{"$f":"SUMPRODUCT((Data!$B$17:$B$19=Model!$F101956)*(Data!$C$16:$K$16=Model!$K101956)*(Data!$C$17:$K$19))","v":3.22},77.459999999999994,{"$f":"_xlfn.IFS(M101956>70,\"Serviceable\",M101956>30, \"Limited Life\",M101956<=30, \"Unserviceable\")","v":"Serviceable"}]
[null,199487,1967,"Wood Creos Impregnated","Serviceable","Class 3",2019,100,97.27,{"$f":"2025-G102024","v":6},{"$f":"INDEX(Lists!$B$32:$B$40, MATCH(2020-C102024, Lists!$C$32:$C$40,1))","v":"51-60"},{"$f":"SUMPRODUCT((Data!$B$17:$B$19=Model!$F102024)*(Data!$C$16:$K$16=Model!$K102024)*(Data!$C$17:$K$19))","v":2.73},{"$f":"IF(IF(H102024>=700,999,(H102024-L102024*J102024))<0,0,IF(H102024>=700,999,(H102024-L102024*J102024)))","v":83.62},{"$f":"_xlfn.IFS(M102024>70,\"Serviceable\",M102024>30, \"Limited Life\",M102024<=30, \"Unserviceable\")","v":"Serviceable"}]
[null,199601,1976,"Wood Creos Impregnated","Serviceable","Class 3",2020,80,80,5,{"$f":"INDEX(Lists!$B$32:$B$40, MATCH(2020-C102084, Lists!$C$32:$C$40,1))","v":"41-50"},{"$f":"SUMPRODUCT((Data!$B$17:$B$19=Model!$F102084)*(Data!$C$16:$K$16=Model!$K102084)*(Data!$C$17:$K$19))","v":3.78},61.1,{"$f":"_xlfn.IFS(M102084>70,\"Serviceable\",M102084>30, \"Limited Life\",M102084<=30, \"Unserviceable\")","v":"Limited Life"}]
[null,199831,1938,"Wood Untreated Dressed","Serviceable","Class 1",2015,100,85.95,10,{"$f":"INDEX(Lists!$B$32:$B$40, MATCH(2020-C102177, Lists!$C$32:$C$40,1))","v":"81-90"},{"$f":"SUMPRODUCT((Data!$B$17:$B$19=Model!$F102177)*(Data!$C$16:$K$16=Model!$K102177)*(Data!$C$17:$K$19))","v":2.81},71.900000000000006,{"$f":"_xlfn.IFS(M102177>70,\"Serviceable\",M102177>30, \"Limited Life\",M102177<=30, \"Unserviceable\")","v":"Serviceable"}]
[null,199950,1998,"CCA Treated Pole","Serviceable","Class 2",2015,150,140.55000000000001,10,{"$f":"INDEX(Lists!$B$32:$B$40, MATCH(2020-C102246, Lists!$C$32:$C$40,1))","v":"21-30"},{"$f":"SUMPRODUCT((Data!$B$17:$B$19=Model!$F102246)*(Data!$C$16:$K$16=Model!$K102246)*(Data!$C$17:$K$19))","v":1.89},131.1,{"$f":"_xlfn.IFS(M102246>70,\"Serviceable\",M102246>30, \"Limited Life\",M102246<=30, \"Unserviceable\")","v":"Serviceable"}]
[null,200101,1969,"Wood Creos Impregnated","Serviceable","Class 3",2016,100,89.08,9,{"$f":"INDEX(Lists!$B$32:$B$40, MATCH(2020-C102327, Lists!$C$32:$C$40,1))","v":"51-60"},{"$f":"SUMPRODUCT((Data!$B$17:$B$19=Model!$F102327)*(Data!$C$16:$K$16=Model!$K102327)*(Data!$C$17:$K$19))","v":2.73},75.430000000000007,{"$f":"_xlfn.IFS(M102327>70,\"Serviceable\",M102327>30, \"Limited Life\",M102327<=30, \"Unserviceable\")","v":"Serviceable"}]
[null,200136,1970,"Wood Creos Impregnated","Serviceable","Class 3",2017,120,108.66,8,{"$f":"INDEX(Lists!$B$32:$B$40, MATCH(2020-C102347, Lists!$C$32:$C$40,1))","v":"41-50"},{"$f":"SUMPRODUCT((Data!$B$17:$B$19=Model!$F102347)*(Data!$C$16:$K$16=Model!$K102347)*(Data!$C$17:$K$19))","v":3.78},89.76,{"$f":"_xlfn.IFS(M102347>70,\"Serviceable\",M102347>30, \"Limited Life\",M102347<=30, \"Unserviceable\")","v":"Serviceable"}]
[null,200336,1969,"Wood Creos Impregnated","Serviceable","Class 3",2016,110,99.08,9,{"$f":"INDEX(Lists!$B$32:$B$40, MATCH(2020-C102455, Lists!$C$32:$C$40,1))","v":"51-60"},{"$f":"SUMPRODUCT((Data!$B$17:$B$19=Model!$F102455)*(Data!$C$16:$K$16=Model!$K102455)*(Data!$C$17:$K$19))","v":2.73},85.43,{"$f":"_xlfn.IFS(M102455>70,\"Serviceable\",M102455>30, \"Limited Life\",M102455<=30, \"Unserviceable\")","v":"Serviceable"}]
[null,200410,1967,"Wood Creos Impregnated","Serviceable","Class 3",2016,100,89.08,9,{"$f":"INDEX(Lists!$B$32:$B$40, MATCH(2020-C102500, Lists!$C$32:$C$40,1))","v":"51-60"},{"$f":"SUMPRODUCT((Data!$B$17:$B$19=Model!$F102500)*(Data!$C$16:$K$16=Model!$K102500)*(Data!$C$17:$K$19))","v":2.73},75.430000000000007,{"$f":"_xlfn.IFS(M102500>70,\"Serviceable\",M102500>30, \"Limited Life\",M102500<=30, \"Unserviceable\")","v":"Serviceable"}]
[null,200540,1958,"Wood Creos Impregnated","Serviceable","Class 3",2016,100,91.92,9,{"$f":"INDEX(Lists!$B$32:$B$40, MATCH(2020-C102585, Lists!$C$32:$C$40,1))","v":"61-70"},{"$f":"SUMPRODUCT((Data!$B$17:$B$19=Model!$F102585)*(Data!$C$16:$K$16=Model!$K102585)*(Data!$C$17:$K$19))","v":2.02},81.819999999999993,{"$f":"_xlfn.IFS(M102585>70,\"Serviceable\",M102585>30, \"Limited Life\",M102585<=30, \"Unserviceable\")","v":"Serviceable"}]
[null,200614,1943,"Wood Untreated Dressed","Serviceable","Class 1",2017,130,123.55,8,{"$f":"INDEX(Lists!$B$32:$B$40, MATCH(2020-C102631, Lists!$C$32:$C$40,1))","v":"71-80"},{"$f":"SUMPRODUCT((Data!$B$17:$B$19=Model!$F102631)*(Data!$C$16:$K$16=Model!$K102631)*(Data!$C$17:$K$19))","v":2.15},112.8,{"$f":"_xlfn.IFS(M102631>70,\"Serviceable\",M102631>30, \"Limited Life\",M102631<=30, \"Unserviceable\")","v":"Serviceable"}]
[null,200789,1934,"Wood Untreated Dressed","Serviceable","Class 1",2016,100,88.76,9,{"$f":"INDEX(Lists!$B$32:$B$40, MATCH(2020-C102738, Lists!$C$32:$C$40,1))","v":"81-90"},{"$f":"SUMPRODUCT((Data!$B$17:$B$19=Model!$F102738)*(Data!$C$16:$K$16=Model!$K102738)*(Data!$C$17:$K$19))","v":2.81},74.710000000000008,{"$f":"_xlfn.IFS(M102738>70,\"Serviceable\",M102738>30, \"Limited Life\",M102738<=30, \"Unserviceable\")","v":"Serviceable"}]
[null,200822,1952,"Wood Untreated Round","Serviceable","Class 1",2017,100,93.91,8,{"$f":"INDEX(Lists!$B$32:$B$40, MATCH(2020-C102759, Lists!$C$32:$C$40,1))","v":"61-70"},{"$f":"SUMPRODUCT((Data!$B$17:$B$19=Model!$F102759)*(Data!$C$16:$K$16=Model!$K102759)*(Data!$C$17:$K$19))","v":2.0299999999999998},83.76,{"$f":"_xlfn.IFS(M102759>70,\"Serviceable\",M102759>30, \"Limited Life\",M102759<=30, \"Unserviceable\")","v":"Serviceable"}]
[null,200943,1958,"Wood Creos Impregnated","Serviceable","Class 3",2016,100,91.92,9,{"$f":"INDEX(Lists!$B$32:$B$40, MATCH(2020-C102823, Lists!$C$32:$C$40,1))","v":"61-70"},{"$f":"SUMPRODUCT((Data!$B$17:$B$19=Model!$F102823)*(Data!$C$16:$K$16=Model!$K102823)*(Data!$C$17:$K$19))","v":2.02},81.819999999999993,{"$f":"_xlfn.IFS(M102823>70,\"Serviceable\",M102823>30, \"Limited Life\",M102823<=30, \"Unserviceable\")","v":"Serviceable"}]
[null,201102,1973,"Wood Creos Impregnated","Serviceable","Class 3",2018,100,92.44,7,{"$f":"INDEX(Lists!$B$32:$B$40, MATCH(2020-C102908, Lists!$C$32:$C$40,1))","v":"41-50"},{"$f":"SUMPRODUCT((Data!$B$17:$B$19=Model!$F102908)*(Data!$C$16:$K$16=Model!$K102908)*(Data!$C$17:$K$19))","v":3.78},73.540000000000006,{"$f":"_xlfn.IFS(M102908>70,\"Serviceable\",M102908>30, \"Limited Life\",M102908<=30, \"Unserviceable\")","v":"Serviceable"}]
[null,201251,1966,"Wood Creos Impregnated","Serviceable","Class 3",2017,120,111.81,8,{"$f":"INDEX(Lists!$B$32:$B$40, MATCH(2020-C103002, Lists!$C$32:$C$40,1))","v":"51-60"},{"$f":"SUMPRODUCT((Data!$B$17:$B$19=Model!$F103002)*(Data!$C$16:$K$16=Model!$K103002)*(Data!$C$17:$K$19))","v":2.73},98.16,{"$f":"_xlfn.IFS(M103002>70,\"Serviceable\",M103002>30, \"Limited Life\",M103002<=30, \"Unserviceable\")","v":"Serviceable"}]
[null,201368,1935,"Wood Untreated Dressed","Serviceable","Class 1",2017,90,81.569999999999993,8,{"$f":"INDEX(Lists!$B$32:$B$40, MATCH(2020-C103061, Lists!$C$32:$C$40,1))","v":"81-90"},{"$f":"SUMPRODUCT((Data!$B$17:$B$19=Model!$F103061)*(Data!$C$16:$K$16=Model!$K103061)*(Data!$C$17:$K$19))","v":2.81},67.52,{"$f":"_xlfn.IFS(M103061>70,\"Serviceable\",M103061>30, \"Limited Life\",M103061<=30, \"Unserviceable\")","v":"Limited Life"}]
[null,201520,1981,"Wood Untreated Dressed","Serviceable","Class 1",2018,100,94.96,7,{"$f":"INDEX(Lists!$B$32:$B$40, MATCH(2020-C103130, Lists!$C$32:$C$40,1))","v":"31-40"},{"$f":"SUMPRODUCT((Data!$B$17:$B$19=Model!$F103130)*(Data!$C$16:$K$16=Model!$K103130)*(Data!$C$17:$K$19))","v":2.52},82.36,{"$f":"_xlfn.IFS(M103130>70,\"Serviceable\",M103130>30, \"Limited Life\",M103130<=30, \"Unserviceable\")","v":"Serviceable"}]
[null,201630,1932,"Wood Untreated Round","Limited Life","Class 1",2019,60,57.19,6,{"$f":"INDEX(Lists!$B$32:$B$40, MATCH(2020-C103178, Lists!$C$32:$C$40,1))","v":"81-90"},{"$f":"SUMPRODUCT((Data!$B$17:$B$19=Model!$F103178)*(Data!$C$16:$K$16=Model!$K103178)*(Data!$C$17:$K$19))","v":2.81},43.14,{"$f":"_xlfn.IFS(M103178>70,\"Serviceable\",M103178>30, \"Limited Life\",M103178<=30, \"Unserviceable\")","v":"Limited Life"}]
[null,201762,1983,"Wood Untreated Dressed","Serviceable","Class 1",2020,150,150,5,{"$f":"INDEX(Lists!$B$32:$B$40, MATCH(2020-C103231, Lists!$C$32:$C$40,1))","v":"31-40"},{"$f":"SUMPRODUCT((Data!$B$17:$B$19=Model!$F103231)*(Data!$C$16:$K$16=Model!$K103231)*(Data!$C$17:$K$19))","v":2.52},137.4,{"$f":"_xlfn.IFS(M103231>70,\"Serviceable\",M103231>30, \"Limited Life\",M103231<=30, \"Unserviceable\")","v":"Serviceable"}]
[null,202164,1981,"Wood Creos Impregnated","Serviceable","Class 1",2019,100,97.48,6,{"$f":"INDEX(Lists!$B$32:$B$40, MATCH(2020-C103306, Lists!$C$32:$C$40,1))","v":"31-40"},{"$f":"SUMPRODUCT((Data!$B$17:$B$19=Model!$F103306)*(Data!$C$16:$K$16=Model!$K103306)*(Data!$C$17:$K$19))","v":2.52},84.88,{"$f":"_xlfn.IFS(M103306>70,\"Serviceable\",M103306>30, \"Limited Life\",M103306<=30, \"Unserviceable\")","v":"Serviceable"}]
[null,202697,1938,"Wood Creos Impregnated","Serviceable","Class 1",2020,80,80,5,{"$f":"INDEX(Lists!$B$32:$B$40, MATCH(2020-C103384, Lists!$C$32:$C$40,1))","v":"81-90"},{"$f":"SUMPRODUCT((Data!$B$17:$B$19=Model!$F103384)*(Data!$C$16:$K$16=Model!$K103384)*(Data!$C$17:$K$19))","v":2.81},65.95,{"$f":"_xlfn.IFS(M103384>70,\"Serviceable\",M103384>30, \"Limited Life\",M103384<=30, \"Unserviceable\")","v":"Limited Life"}]
[null,203074,2000,"CCA Treated Pole","Serviceable","Class 1",2019,150,148.94,6,{"$f":"INDEX(Lists!$B$32:$B$40, MATCH(2020-C103469, Lists!$C$32:$C$40,1))","v":"0-20"},{"$f":"SUMPRODUCT((Data!$B$17:$B$19=Model!$F103469)*(Data!$C$16:$K$16=Model!$K103469)*(Data!$C$17:$K$19))","v":1.06},143.63999999999999,{"$f":"_xlfn.IFS(M103469>70,\"Serviceable\",M103469>30, \"Limited Life\",M103469<=30, \"Unserviceable\")","v":"Serviceable"}]
[null,205841,1995,"Wood Creos Impregnated","Serviceable","Class 3",2019,90,88.16,6,{"$f":"INDEX(Lists!$B$32:$B$40, MATCH(2020-C103549, Lists!$C$32:$C$40,1))","v":"21-30"},{"$f":"SUMPRODUCT((Data!$B$17:$B$19=Model!$F103549)*(Data!$C$16:$K$16=Model!$K103549)*(Data!$C$17:$K$19))","v":1.84},78.959999999999994,{"$f":"_xlfn.IFS(M103549>70,\"Serviceable\",M103549>30, \"Limited Life\",M103549<=30, \"Unserviceable\")","v":"Serviceable"}]
[null,208660,1990,"Wood Untreated Dressed","Serviceable","Class 1",2018,120,116.08,7,{"$f":"INDEX(Lists!$B$32:$B$40, MATCH(2020-C103622, Lists!$C$32:$C$40,1))","v":"21-30"},{"$f":"SUMPRODUCT((Data!$B$17:$B$19=Model!$F103622)*(Data!$C$16:$K$16=Model!$K103622)*(Data!$C$17:$K$19))","v":1.96},106.28,{"$f":"_xlfn.IFS(M103622>70,\"Serviceable\",M103622>30, \"Limited Life\",M103622<=30, \"Unserviceable\")","v":"Serviceable"}]
[null,208766,1970,"Wood Creos Impregnated","Serviceable","Class 3",2018,100,92.44,7,{"$f":"INDEX(Lists!$B$32:$B$40, MATCH(2020-C103677, Lists!$C$32:$C$40,1))","v":"41-50"},{"$f":"SUMPRODUCT((Data!$B$17:$B$19=Model!$F103677)*(Data!$C$16:$K$16=Model!$K103677)*(Data!$C$17:$K$19))","v":3.78},73.540000000000006,{"$f":"_xlfn.IFS(M103677>70,\"Serviceable\",M103677>30, \"Limited Life\",M103677<=30, \"Unserviceable\")","v":"Serviceable"}]
[null,208816,1941,"Wood Untreated Dressed","Serviceable","Class 1",2018,100,95.7,7,{"$f":"INDEX(Lists!$B$32:$B$40, MATCH(2020-C103707, Lists!$C$32:$C$40,1))","v":"71-80"},{"$f":"SUMPRODUCT((Data!$B$17:$B$19=Model!$F103707)*(Data!$C$16:$K$16=Model!$K103707)*(Data!$C$17:$K$19))","v":2.15},84.95,{"$f":"_xlfn.IFS(M103707>70,\"Serviceable\",M103707>30, \"Limited Life\",M103707<=30, \"Unserviceable\")","v":"Serviceable"}]
[null,208962,1956,"Wood Untreated Round","Serviceable","Class 1",2020,100,100,5,{"$f":"INDEX(Lists!$B$32:$B$40, MATCH(2020-C103792, Lists!$C$32:$C$40,1))","v":"61-70"},{"$f":"SUMPRODUCT((Data!$B$17:$B$19=Model!$F103792)*(Data!$C$16:$K$16=Model!$K103792)*(Data!$C$17:$K$19))","v":2.0299999999999998},89.85,{"$f":"_xlfn.IFS(M103792>70,\"Serviceable\",M103792>30, \"Limited Life\",M103792<=30, \"Unserviceable\")","v":"Serviceable"}]
[null,209063,1985,"Wood Untreated Dressed","Serviceable","Class 1",2019,120,117.48,6,{"$f":"INDEX(Lists!$B$32:$B$40, MATCH(2020-C103853, Lists!$C$32:$C$40,1))","v":"31-40"},{"$f":"SUMPRODUCT((Data!$B$17:$B$19=Model!$F103853)*(Data!$C$16:$K$16=Model!$K103853)*(Data!$C$17:$K$19))","v":2.52},104.88,{"$f":"_xlfn.IFS(M103853>70,\"Serviceable\",M103853>30, \"Limited Life\",M103853<=30, \"Unserviceable\")","v":"Serviceable"}]
[null,209246,1979,"Wood Untreated Dressed","Serviceable","Class 1",2015,100,91.25,10,{"$f":"INDEX(Lists!$B$32:$B$40, MATCH(2020-C103945, Lists!$C$32:$C$40,1))","v":"41-50"},{"$f":"SUMPRODUCT((Data!$B$17:$B$19=Model!$F103945)*(Data!$C$16:$K$16=Model!$K103945)*(Data!$C$17:$K$19))","v":1.75},82.5,{"$f":"_xlfn.IFS(M103945>70,\"Serviceable\",M103945>30, \"Limited Life\",M103945<=30, \"Unserviceable\")","v":"Serviceable"}]
[null,209490,1977,"Wood Creos Impregnated","Serviceable","Class 1",2017,110,104.75,8,{"$f":"INDEX(Lists!$B$32:$B$40, MATCH(2020-C104014, Lists!$C$32:$C$40,1))","v":"41-50"},{"$f":"SUMPRODUCT((Data!$B$17:$B$19=Model!$F104014)*(Data!$C$16:$K$16=Model!$K104014)*(Data!$C$17:$K$19))","v":1.75},96,{"$f":"_xlfn.IFS(M104014>70,\"Serviceable\",M104014>30, \"Limited Life\",M104014<=30, \"Unserviceable\")","v":"Serviceable"}]
[null,209508,1980,"Wood Creos Impregnated","Serviceable","Class 3",2017,100,90.34,8,{"$f":"INDEX(Lists!$B$32:$B$40, MATCH(2020-C104029, Lists!$C$32:$C$40,1))","v":"31-40"},{"$f":"SUMPRODUCT((Data!$B$17:$B$19=Model!$F104029)*(Data!$C$16:$K$16=Model!$K104029)*(Data!$C$17:$K$19))","v":3.22},74.239999999999995,{"$f":"_xlfn.IFS(M104029>70,\"Serviceable\",M104029>30, \"Limited Life\",M104029<=30, \"Unserviceable\")","v":"Serviceable"}]
[null,209679,1955,"Wood Untreated Round","Serviceable","Class 1",2020,90,90,5,{"$f":"INDEX(Lists!$B$32:$B$40, MATCH(2020-C104115, Lists!$C$32:$C$40,1))","v":"61-70"},{"$f":"SUMPRODUCT((Data!$B$17:$B$19=Model!$F104115)*(Data!$C$16:$K$16=Model!$K104115)*(Data!$C$17:$K$19))","v":2.0299999999999998},79.849999999999994,{"$f":"_xlfn.IFS(M104115>70,\"Serviceable\",M104115>30, \"Limited Life\",M104115<=30, \"Unserviceable\")","v":"Serviceable"}]
[null,209915,1965,"Wood Creos Impregnated","Serviceable","Class 3",2015,100,86.35,10,{"$f":"INDEX(Lists!$B$32:$B$40, MATCH(2020-C104224, Lists!$C$32:$C$40,1))","v":"51-60"},{"$f":"SUMPRODUCT((Data!$B$17:$B$19=Model!$F104224)*(Data!$C$16:$K$16=Model!$K104224)*(Data!$C$17:$K$19))","v":2.73},72.7,{"$f":"_xlfn.IFS(M104224>70,\"Serviceable\",M104224>30, \"Limited Life\",M104224<=30, \"Unserviceable\")","v":"Serviceable"}]
[null,210017,1972,"Wood Creos Impregnated","Serviceable","Class 3",2020,100,100,5,{"$f":"INDEX(Lists!$B$32:$B$40, MATCH(2020-C104268, Lists!$C$32:$C$40,1))","v":"41-50"},{"$f":"SUMPRODUCT((Data!$B$17:$B$19=Model!$F104268)*(Data!$C$16:$K$16=Model!$K104268)*(Data!$C$17:$K$19))","v":3.78},81.099999999999994,{"$f":"_xlfn.IFS(M104268>70,\"Serviceable\",M104268>30, \"Limited Life\",M104268<=30, \"Unserviceable\")","v":"Serviceable"}]
[null,210227,1980,"Wood Creos Impregnated","Serviceable","Class 3",2016,100,87.12,9,{"$f":"INDEX(Lists!$B$32:$B$40, MATCH(2020-C104353, Lists!$C$32:$C$40,1))","v":"31-40"},{"$f":"SUMPRODUCT((Data!$B$17:$B$19=Model!$F104353)*(Data!$C$16:$K$16=Model!$K104353)*(Data!$C$17:$K$19))","v":3.22},71.02,{"$f":"_xlfn.IFS(M104353>70,\"Serviceable\",M104353>30, \"Limited Life\",M104353<=30, \"Unserviceable\")","v":"Serviceable"}]
[null,210317,2001,"CCA Treated Pole","Serviceable","Class 2",2017,162.49719689682513,158.83719689682513,8,{"$f":"INDEX(Lists!$B$32:$B$40, MATCH(2020-C104400, Lists!$C$32:$C$40,1))","v":"0-20"},{"$f":"SUMPRODUCT((Data!$B$17:$B$19=Model!$F104400)*(Data!$C$16:$K$16=Model!$K104400)*(Data!$C$17:$K$19))","v":1.22},152.73719689682514,{"$f":"_xlfn.IFS(M104400>70,\"Serviceable\",M104400>30, \"Limited Life\",M104400<=30, \"Unserviceable\")","v":"Serviceable"}]
[null,210414,1990,"Wood Untreated Dressed","Serviceable","Class 1",2018,100,96.08,7,{"$f":"INDEX(Lists!$B$32:$B$40, MATCH(2020-C104438, Lists!$C$32:$C$40,1))","v":"21-30"},{"$f":"SUMPRODUCT((Data!$B$17:$B$19=Model!$F104438)*(Data!$C$16:$K$16=Model!$K104438)*(Data!$C$17:$K$19))","v":1.96},86.28,{"$f":"_xlfn.IFS(M104438>70,\"Serviceable\",M104438>30, \"Limited Life\",M104438<=30, \"Unserviceable\")","v":"Serviceable"}]
[null,210589,1965,"Wood Creos Impregnated","Serviceable","Class 3",2020,100,100,5,{"$f":"INDEX(Lists!$B$32:$B$40, MATCH(2020-C104528, Lists!$C$32:$C$40,1))","v":"51-60"},{"$f":"SUMPRODUCT((Data!$B$17:$B$19=Model!$F104528)*(Data!$C$16:$K$16=Model!$K104528)*(Data!$C$17:$K$19))","v":2.73},86.35,{"$f":"_xlfn.IFS(M104528>70,\"Serviceable\",M104528>30, \"Limited Life\",M104528<=30, \"Unserviceable\")","v":"Serviceable"}]
[null,210721,1972,"Wood Creos Impregnated","Serviceable","Class 3",2018,100,92.44,7,{"$f":"INDEX(Lists!$B$32:$B$40, MATCH(2020-C104591, Lists!$C$32:$C$40,1))","v":"41-50"},{"$f":"SUMPRODUCT((Data!$B$17:$B$19=Model!$F104591)*(Data!$C$16:$K$16=Model!$K104591)*(Data!$C$17:$K$19))","v":3.78},73.540000000000006,{"$f":"_xlfn.IFS(M104591>70,\"Serviceable\",M104591>30, \"Limited Life\",M104591<=30, \"Unserviceable\")","v":"Serviceable"}]
[null,210865,1969,"Wood Untreated Round","Serviceable","Class 3",2019,100,97.27,6,{"$f":"INDEX(Lists!$B$32:$B$40, MATCH(2020-C104676, Lists!$C$32:$C$40,1))","v":"51-60"},{"$f":"SUMPRODUCT((Data!$B$17:$B$19=Model!$F104676)*(Data!$C$16:$K$16=Model!$K104676)*(Data!$C$17:$K$19))","v":2.73},83.62,{"$f":"_xlfn.IFS(M104676>70,\"Serviceable\",M104676>30, \"Limited Life\",M104676<=30, \"Unserviceable\")","v":"Serviceable"}]
[null,210995,1962,"Wood Creos Impregnated","Serviceable","Class 3",2018,120,114.54,7,{"$f":"INDEX(Lists!$B$32:$B$40, MATCH(2020-C104771, Lists!$C$32:$C$40,1))","v":"51-60"},{"$f":"SUMPRODUCT((Data!$B$17:$B$19=Model!$F104771)*(Data!$C$16:$K$16=Model!$K104771)*(Data!$C$17:$K$19))","v":2.73},100.89,{"$f":"_xlfn.IFS(M104771>70,\"Serviceable\",M104771>30, \"Limited Life\",M104771<=30, \"Unserviceable\")","v":"Serviceable"}]
[null,211071,1961,"Wood Creos Impregnated","Serviceable","Class 3",2017,100,91.81,8,{"$f":"INDEX(Lists!$B$32:$B$40, MATCH(2020-C104829, Lists!$C$32:$C$40,1))","v":"51-60"},{"$f":"SUMPRODUCT((Data!$B$17:$B$19=Model!$F104829)*(Data!$C$16:$K$16=Model!$K104829)*(Data!$C$17:$K$19))","v":2.73},78.16,{"$f":"_xlfn.IFS(M104829>70,\"Serviceable\",M104829>30, \"Limited Life\",M104829<=30, \"Unserviceable\")","v":"Serviceable"}]
[null,211121,1965,"Wood Creos Impregnated","Serviceable","Class 3",2017,100,91.81,8,{"$f":"INDEX(Lists!$B$32:$B$40, MATCH(2020-C104866, Lists!$C$32:$C$40,1))","v":"51-60"},{"$f":"SUMPRODUCT((Data!$B$17:$B$19=Model!$F104866)*(Data!$C$16:$K$16=Model!$K104866)*(Data!$C$17:$K$19))","v":2.73},78.16,{"$f":"_xlfn.IFS(M104866>70,\"Serviceable\",M104866>30, \"Limited Life\",M104866<=30, \"Unserviceable\")","v":"Serviceable"}]
[null,211184,1976,"Wood Creos Impregnated","Serviceable","Class 1",2019,150,148.25,6,{"$f":"INDEX(Lists!$B$32:$B$40, MATCH(2020-C104914, Lists!$C$32:$C$40,1))","v":"41-50"},{"$f":"SUMPRODUCT((Data!$B$17:$B$19=Model!$F104914)*(Data!$C$16:$K$16=Model!$K104914)*(Data!$C$17:$K$19))","v":1.75},139.5,{"$f":"_xlfn.IFS(M104914>70,\"Serviceable\",M104914>30, \"Limited Life\",M104914<=30, \"Unserviceable\")","v":"Serviceable"}]
[null,211311,1998,"CCA Treated Pole","Serviceable","Class 2",2017,140,134.33000000000001,8,{"$f":"INDEX(Lists!$B$32:$B$40, MATCH(2020-C104999, Lists!$C$32:$C$40,1))","v":"21-30"},{"$f":"SUMPRODUCT((Data!$B$17:$B$19=Model!$F104999)*(Data!$C$16:$K$16=Model!$K104999)*(Data!$C$17:$K$19))","v":1.89},124.88,{"$f":"_xlfn.IFS(M104999>70,\"Serviceable\",M104999>30, \"Limited Life\",M104999<=30, \"Unserviceable\")","v":"Serviceable"}]
[null,211489,1982,"Wood Untreated Dressed","Serviceable","Class 1",2019,150,147.47999999999999,6,{"$f":"INDEX(Lists!$B$32:$B$40, MATCH(2020-C105075, Lists!$C$32:$C$40,1))","v":"31-40"},{"$f":"SUMPRODUCT((Data!$B$17:$B$19=Model!$F105075)*(Data!$C$16:$K$16=Model!$K105075)*(Data!$C$17:$K$19))","v":2.52},134.88,{"$f":"_xlfn.IFS(M105075>70,\"Serviceable\",M105075>30, \"Limited Life\",M105075<=30, \"Unserviceable\")","v":"Serviceable"}]
[null,211830,2003,"CCA Treated Pole","Serviceable","Class 2",2018,160,157.56,7,{"$f":"INDEX(Lists!$B$32:$B$40, MATCH(2020-C105152, Lists!$C$32:$C$40,1))","v":"0-20"},{"$f":"SUMPRODUCT((Data!$B$17:$B$19=Model!$F105152)*(Data!$C$16:$K$16=Model!$K105152)*(Data!$C$17:$K$19))","v":1.22},151.46,{"$f":"_xlfn.IFS(M105152>70,\"Serviceable\",M105152>30, \"Limited Life\",M105152<=30, \"Unserviceable\")","v":"Serviceable"}]
[null,212301,1997,"Wood Untreated Dressed","Serviceable","Class 1",2016,166.31691553103065,158.47691553103064,9,{"$f":"INDEX(Lists!$B$32:$B$40, MATCH(2020-C105237, Lists!$C$32:$C$40,1))","v":"21-30"},{"$f":"SUMPRODUCT((Data!$B$17:$B$19=Model!$F105237)*(Data!$C$16:$K$16=Model!$K105237)*(Data!$C$17:$K$19))","v":1.96},148.67691553103066,{"$f":"_xlfn.IFS(M105237>70,\"Serviceable\",M105237>30, \"Limited Life\",M105237<=30, \"Unserviceable\")","v":"Serviceable"}]
[null,212367,1977,"Wood Creos Impregnated","Serviceable","Class 1",2020,140,140,5,{"$f":"INDEX(Lists!$B$32:$B$40, MATCH(2020-C105251, Lists!$C$32:$C$40,1))","v":"41-50"},{"$f":"SUMPRODUCT((Data!$B$17:$B$19=Model!$F105251)*(Data!$C$16:$K$16=Model!$K105251)*(Data!$C$17:$K$19))","v":1.75},131.25,{"$f":"_xlfn.IFS(M105251>70,\"Serviceable\",M105251>30, \"Limited Life\",M105251<=30, \"Unserviceable\")","v":"Serviceable"}]
[null,213006,1997,"CCA Treated Pole","Serviceable","Class 1",2018,150,146.08000000000001,7,{"$f":"INDEX(Lists!$B$32:$B$40, MATCH(2020-C105322, Lists!$C$32:$C$40,1))","v":"21-30"},{"$f":"SUMPRODUCT((Data!$B$17:$B$19=Model!$F105322)*(Data!$C$16:$K$16=Model!$K105322)*(Data!$C$17:$K$19))","v":1.96},136.28,{"$f":"_xlfn.IFS(M105322>70,\"Serviceable\",M105322>30, \"Limited Life\",M105322<=30, \"Unserviceable\")","v":"Serviceable"}]
[null,213995,1980,"Wood Untreated Round","Serviceable","Class 1",2017,110,102.44,8,{"$f":"INDEX(Lists!$B$32:$B$40, MATCH(2020-C105446, Lists!$C$32:$C$40,1))","v":"31-40"},{"$f":"SUMPRODUCT((Data!$B$17:$B$19=Model!$F105446)*(Data!$C$16:$K$16=Model!$K105446)*(Data!$C$17:$K$19))","v":2.52},89.84,{"$f":"_xlfn.IFS(M105446>70,\"Serviceable\",M105446>30, \"Limited Life\",M105446<=30, \"Unserviceable\")","v":"Serviceable"}]
[null,214125,2007,"CCA Treated Pole","Serviceable","Class 1",2019,166.31691553103065,165.25691553103064,6,{"$f":"INDEX(Lists!$B$32:$B$40, MATCH(2020-C105475, Lists!$C$32:$C$40,1))","v":"0-20"},{"$f":"SUMPRODUCT((Data!$B$17:$B$19=Model!$F105475)*(Data!$C$16:$K$16=Model!$K105475)*(Data!$C$17:$K$19))","v":1.06},159.95691553103063,{"$f":"_xlfn.IFS(M105475>70,\"Serviceable\",M105475>30, \"Limited Life\",M105475<=30, \"Unserviceable\")","v":"Serviceable"}]
[null,214529,1963,"Wood Creos Impregnated","Serviceable","Class 3",2017,90,81.81,8,{"$f":"INDEX(Lists!$B$32:$B$40, MATCH(2020-C105560, Lists!$C$32:$C$40,1))","v":"51-60"},{"$f":"SUMPRODUCT((Data!$B$17:$B$19=Model!$F105560)*(Data!$C$16:$K$16=Model!$K105560)*(Data!$C$17:$K$19))","v":2.73},68.16,{"$f":"_xlfn.IFS(M105560>70,\"Serviceable\",M105560>30, \"Limited Life\",M105560<=30, \"Unserviceable\")","v":"Limited Life"}]
[null,214809,1987,"Wood Untreated Dressed","Serviceable","Class 1",2019,120,117.48,6,{"$f":"INDEX(Lists!$B$32:$B$40, MATCH(2020-C105622, Lists!$C$32:$C$40,1))","v":"31-40"},{"$f":"SUMPRODUCT((Data!$B$17:$B$19=Model!$F105622)*(Data!$C$16:$K$16=Model!$K105622)*(Data!$C$17:$K$19))","v":2.52},104.88,{"$f":"_xlfn.IFS(M105622>70,\"Serviceable\",M105622>30, \"Limited Life\",M105622<=30, \"Unserviceable\")","v":"Serviceable"}]
[null,215542,1947,"Wood Untreated Round","Serviceable","Class 1",2018,130,125.7,7,{"$f":"INDEX(Lists!$B$32:$B$40, MATCH(2020-C105713, Lists!$C$32:$C$40,1))","v":"71-80"},{"$f":"SUMPRODUCT((Data!$B$17:$B$19=Model!$F105713)*(Data!$C$16:$K$16=Model!$K105713)*(Data!$C$17:$K$19))","v":2.15},114.95,{"$f":"_xlfn.IFS(M105713>70,\"Serviceable\",M105713>30, \"Limited Life\",M105713<=30, \"Unserviceable\")","v":"Serviceable"}]
[null,215979,1972,"Wood Creos Impregnated","Serviceable","Class 3",2019,100,96.22,6,{"$f":"INDEX(Lists!$B$32:$B$40, MATCH(2020-C105784, Lists!$C$32:$C$40,1))","v":"41-50"},{"$f":"SUMPRODUCT((Data!$B$17:$B$19=Model!$F105784)*(Data!$C$16:$K$16=Model!$K105784)*(Data!$C$17:$K$19))","v":3.78},77.319999999999993,{"$f":"_xlfn.IFS(M105784>70,\"Serviceable\",M105784>30, \"Limited Life\",M105784<=30, \"Unserviceable\")","v":"Serviceable"}]
[null,216104,2004,"CCA Treated Pole","Serviceable","Class 1",2017,100,96.82,8,{"$f":"INDEX(Lists!$B$32:$B$40, MATCH(2020-C105798, Lists!$C$32:$C$40,1))","v":"0-20"},{"$f":"SUMPRODUCT((Data!$B$17:$B$19=Model!$F105798)*(Data!$C$16:$K$16=Model!$K105798)*(Data!$C$17:$K$19))","v":1.06},91.52,{"$f":"_xlfn.IFS(M105798>70,\"Serviceable\",M105798>30, \"Limited Life\",M105798<=30, \"Unserviceable\")","v":"Serviceable"}]
[null,216504,1957,"Wood Creos Impregnated","Serviceable","Class 2",2017,90,83.31,8,{"$f":"INDEX(Lists!$B$32:$B$40, MATCH(2020-C105883, Lists!$C$32:$C$40,1))","v":"61-70"},{"$f":"SUMPRODUCT((Data!$B$17:$B$19=Model!$F105883)*(Data!$C$16:$K$16=Model!$K105883)*(Data!$C$17:$K$19))","v":2.23},72.16,{"$f":"_xlfn.IFS(M105883>70,\"Serviceable\",M105883>30, \"Limited Life\",M105883<=30, \"Unserviceable\")","v":"Serviceable"}]
[null,216658,1985,"Wood Untreated Dressed","Serviceable","Class 1",2020,150,150,5,{"$f":"INDEX(Lists!$B$32:$B$40, MATCH(2020-C105926, Lists!$C$32:$C$40,1))","v":"31-40"},{"$f":"SUMPRODUCT((Data!$B$17:$B$19=Model!$F105926)*(Data!$C$16:$K$16=Model!$K105926)*(Data!$C$17:$K$19))","v":2.52},137.4,{"$f":"_xlfn.IFS(M105926>70,\"Serviceable\",M105926>30, \"Limited Life\",M105926<=30, \"Unserviceable\")","v":"Serviceable"}]
[null,216966,1985,"Wood Untreated Dressed","Serviceable","Class 1",2020,150,150,5,{"$f":"INDEX(Lists!$B$32:$B$40, MATCH(2020-C106036, Lists!$C$32:$C$40,1))","v":"31-40"},{"$f":"SUMPRODUCT((Data!$B$17:$B$19=Model!$F106036)*(Data!$C$16:$K$16=Model!$K106036)*(Data!$C$17:$K$19))","v":2.52},137.4,{"$f":"_xlfn.IFS(M106036>70,\"Serviceable\",M106036>30, \"Limited Life\",M106036<=30, \"Unserviceable\")","v":"Serviceable"}]
[null,217062,1991,"Wood Untreated Dressed","Serviceable","Class 1",2020,150,150,5,{"$f":"INDEX(Lists!$B$32:$B$40, MATCH(2020-C106121, Lists!$C$32:$C$40,1))","v":"21-30"},{"$f":"SUMPRODUCT((Data!$B$17:$B$19=Model!$F106121)*(Data!$C$16:$K$16=Model!$K106121)*(Data!$C$17:$K$19))","v":1.96},140.19999999999999,{"$f":"_xlfn.IFS(M106121>70,\"Serviceable\",M106121>30, \"Limited Life\",M106121<=30, \"Unserviceable\")","v":"Serviceable"}]
[null,217243,1976,"Wood Creos Impregnated","Serviceable","Class 1",2018,120,116.5,7,{"$f":"INDEX(Lists!$B$32:$B$40, MATCH(2020-C106169, Lists!$C$32:$C$40,1))","v":"41-50"},{"$f":"SUMPRODUCT((Data!$B$17:$B$19=Model!$F106169)*(Data!$C$16:$K$16=Model!$K106169)*(Data!$C$17:$K$19))","v":1.75},107.75,{"$f":"_xlfn.IFS(M106169>70,\"Serviceable\",M106169>30, \"Limited Life\",M106169<=30, \"Unserviceable\")","v":"Serviceable"}]
[null,217395,1976,"Wood Creos Impregnated","Serviceable","Class 3",2018,110,102.44,7,{"$f":"INDEX(Lists!$B$32:$B$40, MATCH(2020-C106206, Lists!$C$32:$C$40,1))","v":"41-50"},{"$f":"SUMPRODUCT((Data!$B$17:$B$19=Model!$F106206)*(Data!$C$16:$K$16=Model!$K106206)*(Data!$C$17:$K$19))","v":3.78},83.54,{"$f":"_xlfn.IFS(M106206>70,\"Serviceable\",M106206>30, \"Limited Life\",M106206<=30, \"Unserviceable\")","v":"Serviceable"}]
[null,217641,1978,"Wood Untreated Dressed","Serviceable","Class 1",2020,110,110,5,{"$f":"INDEX(Lists!$B$32:$B$40, MATCH(2020-C106264, Lists!$C$32:$C$40,1))","v":"41-50"},{"$f":"SUMPRODUCT((Data!$B$17:$B$19=Model!$F106264)*(Data!$C$16:$K$16=Model!$K106264)*(Data!$C$17:$K$19))","v":1.75},101.25,{"$f":"_xlfn.IFS(M106264>70,\"Serviceable\",M106264>30, \"Limited Life\",M106264<=30, \"Unserviceable\")","v":"Serviceable"}]
[null,217964,1982,"Wood Untreated Dressed","Serviceable","Class 1",2018,80,74.959999999999994,7,{"$f":"INDEX(Lists!$B$32:$B$40, MATCH(2020-C106359, Lists!$C$32:$C$40,1))","v":"31-40"},{"$f":"SUMPRODUCT((Data!$B$17:$B$19=Model!$F106359)*(Data!$C$16:$K$16=Model!$K106359)*(Data!$C$17:$K$19))","v":2.52},62.36,{"$f":"_xlfn.IFS(M106359>70,\"Serviceable\",M106359>30, \"Limited Life\",M106359<=30, \"Unserviceable\")","v":"Limited Life"}]
[null,218162,1967,"Wood Creos Impregnated","Serviceable","Class 3",2018,80,74.540000000000006,7,{"$f":"INDEX(Lists!$B$32:$B$40, MATCH(2020-C106444, Lists!$C$32:$C$40,1))","v":"51-60"},{"$f":"SUMPRODUCT((Data!$B$17:$B$19=Model!$F106444)*(Data!$C$16:$K$16=Model!$K106444)*(Data!$C$17:$K$19))","v":2.73},60.89,{"$f":"_xlfn.IFS(M106444>70,\"Serviceable\",M106444>30, \"Limited Life\",M106444<=30, \"Unserviceable\")","v":"Limited Life"}]
[null,218324,1997,"CCA Treated Pole","Serviceable","Class 2",2017,150,144.33000000000001,8,{"$f":"INDEX(Lists!$B$32:$B$40, MATCH(2020-C106473, Lists!$C$32:$C$40,1))","v":"21-30"},{"$f":"SUMPRODUCT((Data!$B$17:$B$19=Model!$F106473)*(Data!$C$16:$K$16=Model!$K106473)*(Data!$C$17:$K$19))","v":1.89},134.88,{"$f":"_xlfn.IFS(M106473>70,\"Serviceable\",M106473>30, \"Limited Life\",M106473<=30, \"Unserviceable\")","v":"Serviceable"}]
[null,218871,2008,"CCA Treated Pole","Serviceable","Class 1",2017,160,156.82,8,{"$f":"INDEX(Lists!$B$32:$B$40, MATCH(2020-C106597, Lists!$C$32:$C$40,1))","v":"0-20"},{"$f":"SUMPRODUCT((Data!$B$17:$B$19=Model!$F106597)*(Data!$C$16:$K$16=Model!$K106597)*(Data!$C$17:$K$19))","v":1.06},151.52000000000001,{"$f":"_xlfn.IFS(M106597>70,\"Serviceable\",M106597>30, \"Limited Life\",M106597<=30, \"Unserviceable\")","v":"Serviceable"}]
[null,219003,2000,"CCA Treated Pole","Serviceable","Class 1",2016,150,145.76,9,{"$f":"INDEX(Lists!$B$32:$B$40, MATCH(2020-C106635, Lists!$C$32:$C$40,1))","v":"0-20"},{"$f":"SUMPRODUCT((Data!$B$17:$B$19=Model!$F106635)*(Data!$C$16:$K$16=Model!$K106635)*(Data!$C$17:$K$19))","v":1.06},140.46,{"$f":"_xlfn.IFS(M106635>70,\"Serviceable\",M106635>30, \"Limited Life\",M106635<=30, \"Unserviceable\")","v":"Serviceable"}]
[null,219505,1999,"CCA Treated Pole","Serviceable","Class 1",2017,150,144.12,8,{"$f":"INDEX(Lists!$B$32:$B$40, MATCH(2020-C106682, Lists!$C$32:$C$40,1))","v":"21-30"},{"$f":"SUMPRODUCT((Data!$B$17:$B$19=Model!$F106682)*(Data!$C$16:$K$16=Model!$K106682)*(Data!$C$17:$K$19))","v":1.96},134.32,{"$f":"_xlfn.IFS(M106682>70,\"Serviceable\",M106682>30, \"Limited Life\",M106682<=30, \"Unserviceable\")","v":"Serviceable"}]
[null,219855,1999,"Wood Creos Impregnated","Serviceable","Class 3",2016,100,92.64,9,{"$f":"INDEX(Lists!$B$32:$B$40, MATCH(2020-C106767, Lists!$C$32:$C$40,1))","v":"21-30"},{"$f":"SUMPRODUCT((Data!$B$17:$B$19=Model!$F106767)*(Data!$C$16:$K$16=Model!$K106767)*(Data!$C$17:$K$19))","v":1.84},83.44,{"$f":"_xlfn.IFS(M106767>70,\"Serviceable\",M106767>30, \"Limited Life\",M106767<=30, \"Unserviceable\")","v":"Serviceable"}]
[null,220324,1972,"Wood Creos Impregnated","Serviceable","Class 3",2018,95,87.44,7,{"$f":"INDEX(Lists!$B$32:$B$40, MATCH(2020-C106844, Lists!$C$32:$C$40,1))","v":"41-50"},{"$f":"SUMPRODUCT((Data!$B$17:$B$19=Model!$F106844)*(Data!$C$16:$K$16=Model!$K106844)*(Data!$C$17:$K$19))","v":3.78},68.540000000000006,{"$f":"_xlfn.IFS(M106844>70,\"Serviceable\",M106844>30, \"Limited Life\",M106844<=30, \"Unserviceable\")","v":"Limited Life"}]
[null,220597,2010,"CCA Treated Pole","Serviceable","Class 1",2018,166.31691553103065,164.19691553103064,7,{"$f":"INDEX(Lists!$B$32:$B$40, MATCH(2020-C106920, Lists!$C$32:$C$40,1))","v":"0-20"},{"$f":"SUMPRODUCT((Data!$B$17:$B$19=Model!$F106920)*(Data!$C$16:$K$16=Model!$K106920)*(Data!$C$17:$K$19))","v":1.06},158.89691553103066,{"$f":"_xlfn.IFS(M106920>70,\"Serviceable\",M106920>30, \"Limited Life\",M106920<=30, \"Unserviceable\")","v":"Serviceable"}]
[null,220804,1973,"Wood Creos Impregnated","Serviceable","Class 1",2018,100,96.5,7,{"$f":"INDEX(Lists!$B$32:$B$40, MATCH(2020-C106939, Lists!$C$32:$C$40,1))","v":"41-50"},{"$f":"SUMPRODUCT((Data!$B$17:$B$19=Model!$F106939)*(Data!$C$16:$K$16=Model!$K106939)*(Data!$C$17:$K$19))","v":1.75},87.75,{"$f":"_xlfn.IFS(M106939>70,\"Serviceable\",M106939>30, \"Limited Life\",M106939<=30, \"Unserviceable\")","v":"Serviceable"}]
[null,221046,1971,"Wood Creos Impregnated","Serviceable","Class 3",2019,90,86.22,6,{"$f":"INDEX(Lists!$B$32:$B$40, MATCH(2020-C107005, Lists!$C$32:$C$40,1))","v":"41-50"},{"$f":"SUMPRODUCT((Data!$B$17:$B$19=Model!$F107005)*(Data!$C$16:$K$16=Model!$K107005)*(Data!$C$17:$K$19))","v":3.78},67.319999999999993,{"$f":"_xlfn.IFS(M107005>70,\"Serviceable\",M107005>30, \"Limited Life\",M107005<=30, \"Unserviceable\")","v":"Limited Life"}]
[null,221419,1995,"Wood Untreated Dressed","Serviceable","Class 1",2019,150,148.04,6,{"$f":"INDEX(Lists!$B$32:$B$40, MATCH(2020-C107090, Lists!$C$32:$C$40,1))","v":"21-30"},{"$f":"SUMPRODUCT((Data!$B$17:$B$19=Model!$F107090)*(Data!$C$16:$K$16=Model!$K107090)*(Data!$C$17:$K$19))","v":1.96},138.24,{"$f":"_xlfn.IFS(M107090>70,\"Serviceable\",M107090>30, \"Limited Life\",M107090<=30, \"Unserviceable\")","v":"Serviceable"}]
[null,221835,1976,"Wood Creos Impregnated","Serviceable","Class 3",2019,120,116.22,6,{"$f":"INDEX(Lists!$B$32:$B$40, MATCH(2020-C107182, Lists!$C$32:$C$40,1))","v":"41-50"},{"$f":"SUMPRODUCT((Data!$B$17:$B$19=Model!$F107182)*(Data!$C$16:$K$16=Model!$K107182)*(Data!$C$17:$K$19))","v":3.78},97.32,{"$f":"_xlfn.IFS(M107182>70,\"Serviceable\",M107182>30, \"Limited Life\",M107182<=30, \"Unserviceable\")","v":"Serviceable"}]
[null,222232,1970,"Wood Creos Impregnated","Serviceable","Class 3",2019,100,96.22,6,{"$f":"INDEX(Lists!$B$32:$B$40, MATCH(2020-C107243, Lists!$C$32:$C$40,1))","v":"41-50"},{"$f":"SUMPRODUCT((Data!$B$17:$B$19=Model!$F107243)*(Data!$C$16:$K$16=Model!$K107243)*(Data!$C$17:$K$19))","v":3.78},77.319999999999993,{"$f":"_xlfn.IFS(M107243>70,\"Serviceable\",M107243>30, \"Limited Life\",M107243<=30, \"Unserviceable\")","v":"Serviceable"}]
[null,222630,1975,"Wood Creos Impregnated","Serviceable","Class 1",2020,130,130,5,{"$f":"INDEX(Lists!$B$32:$B$40, MATCH(2020-C107328, Lists!$C$32:$C$40,1))","v":"41-50"},{"$f":"SUMPRODUCT((Data!$B$17:$B$19=Model!$F107328)*(Data!$C$16:$K$16=Model!$K107328)*(Data!$C$17:$K$19))","v":1.75},121.25,{"$f":"_xlfn.IFS(M107328>70,\"Serviceable\",M107328>30, \"Limited Life\",M107328<=30, \"Unserviceable\")","v":"Serviceable"}]
[null,222822,1999,"CCA Treated Pole","Serviceable","Class 2",2020,150,150,5,{"$f":"INDEX(Lists!$B$32:$B$40, MATCH(2020-C107391, Lists!$C$32:$C$40,1))","v":"21-30"},{"$f":"SUMPRODUCT((Data!$B$17:$B$19=Model!$F107391)*(Data!$C$16:$K$16=Model!$K107391)*(Data!$C$17:$K$19))","v":1.89},140.55000000000001,{"$f":"_xlfn.IFS(M107391>70,\"Serviceable\",M107391>30, \"Limited Life\",M107391<=30, \"Unserviceable\")","v":"Serviceable"}]
[null,222919,2000,"CCA Treated Pole","Serviceable","Class 2",2016,150,145.12,9,{"$f":"INDEX(Lists!$B$32:$B$40, MATCH(2020-C107413, Lists!$C$32:$C$40,1))","v":"0-20"},{"$f":"SUMPRODUCT((Data!$B$17:$B$19=Model!$F107413)*(Data!$C$16:$K$16=Model!$K107413)*(Data!$C$17:$K$19))","v":1.22},139.02000000000001,{"$f":"_xlfn.IFS(M107413>70,\"Serviceable\",M107413>30, \"Limited Life\",M107413<=30, \"Unserviceable\")","v":"Serviceable"}]
[null,223035,2000,"CCA Treated Pole","Serviceable","Class 1",2019,150,148.94,6,{"$f":"INDEX(Lists!$B$32:$B$40, MATCH(2020-C107486, Lists!$C$32:$C$40,1))","v":"0-20"},{"$f":"SUMPRODUCT((Data!$B$17:$B$19=Model!$F107486)*(Data!$C$16:$K$16=Model!$K107486)*(Data!$C$17:$K$19))","v":1.06},143.63999999999999,{"$f":"_xlfn.IFS(M107486>70,\"Serviceable\",M107486>30, \"Limited Life\",M107486<=30, \"Unserviceable\")","v":"Serviceable"}]
[null,223319,2000,"CCA Treated Pole","Serviceable","Class 2",2020,150,150,5,{"$f":"INDEX(Lists!$B$32:$B$40, MATCH(2020-C107566, Lists!$C$32:$C$40,1))","v":"0-20"},{"$f":"SUMPRODUCT((Data!$B$17:$B$19=Model!$F107566)*(Data!$C$16:$K$16=Model!$K107566)*(Data!$C$17:$K$19))","v":1.22},143.9,{"$f":"_xlfn.IFS(M107566>70,\"Serviceable\",M107566>30, \"Limited Life\",M107566<=30, \"Unserviceable\")","v":"Serviceable"}]
[null,223622,1964,"Wood Creos Impregnated","Serviceable","Class 3",2020,90,90,5,{"$f":"INDEX(Lists!$B$32:$B$40, MATCH(2020-C107651, Lists!$C$32:$C$40,1))","v":"51-60"},{"$f":"SUMPRODUCT((Data!$B$17:$B$19=Model!$F107651)*(Data!$C$16:$K$16=Model!$K107651)*(Data!$C$17:$K$19))","v":2.73},76.349999999999994,{"$f":"_xlfn.IFS(M107651>70,\"Serviceable\",M107651>30, \"Limited Life\",M107651<=30, \"Unserviceable\")","v":"Serviceable"}]
[null,223791,1999,"CCA Treated Pole","Serviceable","Class 2",2019,162.49719689682513,160.60719689682514,6,{"$f":"INDEX(Lists!$B$32:$B$40, MATCH(2020-C107695, Lists!$C$32:$C$40,1))","v":"21-30"},{"$f":"SUMPRODUCT((Data!$B$17:$B$19=Model!$F107695)*(Data!$C$16:$K$16=Model!$K107695)*(Data!$C$17:$K$19))","v":1.89},151.15719689682513,{"$f":"_xlfn.IFS(M107695>70,\"Serviceable\",M107695>30, \"Limited Life\",M107695<=30, \"Unserviceable\")","v":"Serviceable"}]
[null,224065,2001,"CCA Treated Pole","Serviceable","Class 1",2018,150,147.88,7,{"$f":"INDEX(Lists!$B$32:$B$40, MATCH(2020-C107804, Lists!$C$32:$C$40,1))","v":"0-20"},{"$f":"SUMPRODUCT((Data!$B$17:$B$19=Model!$F107804)*(Data!$C$16:$K$16=Model!$K107804)*(Data!$C$17:$K$19))","v":1.06},142.58000000000001,{"$f":"_xlfn.IFS(M107804>70,\"Serviceable\",M107804>30, \"Limited Life\",M107804<=30, \"Unserviceable\")","v":"Serviceable"}]
[null,224248,2000,"CCA Treated Pole","Serviceable","Class 1",2018,150,147.88,7,{"$f":"INDEX(Lists!$B$32:$B$40, MATCH(2020-C107857, Lists!$C$32:$C$40,1))","v":"0-20"},{"$f":"SUMPRODUCT((Data!$B$17:$B$19=Model!$F107857)*(Data!$C$16:$K$16=Model!$K107857)*(Data!$C$17:$K$19))","v":1.06},142.58000000000001,{"$f":"_xlfn.IFS(M107857>70,\"Serviceable\",M107857>30, \"Limited Life\",M107857<=30, \"Unserviceable\")","v":"Serviceable"}]
[null,224504,2001,"Wood Untreated Dressed","Serviceable","Class 1",2020,100,100,5,{"$f":"INDEX(Lists!$B$32:$B$40, MATCH(2020-C107889, Lists!$C$32:$C$40,1))","v":"0-20"},{"$f":"SUMPRODUCT((Data!$B$17:$B$19=Model!$F107889)*(Data!$C$16:$K$16=Model!$K107889)*(Data!$C$17:$K$19))","v":1.06},94.7,{"$f":"_xlfn.IFS(M107889>70,\"Serviceable\",M107889>30, \"Limited Life\",M107889<=30, \"Unserviceable\")","v":"Serviceable"}]
[null,224837,2001,"CCA Treated Pole","Serviceable","Class 2",2020,150,150,5,{"$f":"INDEX(Lists!$B$32:$B$40, MATCH(2020-C107974, Lists!$C$32:$C$40,1))","v":"0-20"},{"$f":"SUMPRODUCT((Data!$B$17:$B$19=Model!$F107974)*(Data!$C$16:$K$16=Model!$K107974)*(Data!$C$17:$K$19))","v":1.22},143.9,{"$f":"_xlfn.IFS(M107974>70,\"Serviceable\",M107974>30, \"Limited Life\",M107974<=30, \"Unserviceable\")","v":"Serviceable"}]
[null,225040,2001,"CCA Treated Pole","Serviceable","Class 2",2019,160,158.78,6,{"$f":"INDEX(Lists!$B$32:$B$40, MATCH(2020-C108033, Lists!$C$32:$C$40,1))","v":"0-20"},{"$f":"SUMPRODUCT((Data!$B$17:$B$19=Model!$F108033)*(Data!$C$16:$K$16=Model!$K108033)*(Data!$C$17:$K$19))","v":1.22},152.68,{"$f":"_xlfn.IFS(M108033>70,\"Serviceable\",M108033>30, \"Limited Life\",M108033<=30, \"Unserviceable\")","v":"Serviceable"}]
[null,225906,2010,"CCA Treated Pole","Serviceable","Class 1",2018,150,147.88,7,{"$f":"INDEX(Lists!$B$32:$B$40, MATCH(2020-C108127, Lists!$C$32:$C$40,1))","v":"0-20"},{"$f":"SUMPRODUCT((Data!$B$17:$B$19=Model!$F108127)*(Data!$C$16:$K$16=Model!$K108127)*(Data!$C$17:$K$19))","v":1.06},142.58000000000001,{"$f":"_xlfn.IFS(M108127>70,\"Serviceable\",M108127>30, \"Limited Life\",M108127<=30, \"Unserviceable\")","v":"Serviceable"}]
[null,226515,1999,"CCA Treated Pole","Serviceable","Class 2",2017,160,154.33000000000001,8,{"$f":"INDEX(Lists!$B$32:$B$40, MATCH(2020-C108212, Lists!$C$32:$C$40,1))","v":"21-30"},{"$f":"SUMPRODUCT((Data!$B$17:$B$19=Model!$F108212)*(Data!$C$16:$K$16=Model!$K108212)*(Data!$C$17:$K$19))","v":1.89},144.88,{"$f":"_xlfn.IFS(M108212>70,\"Serviceable\",M108212>30, \"Limited Life\",M108212<=30, \"Unserviceable\")","v":"Serviceable"}]
[null,226781,1997,"CCA Treated Pole","Serviceable","Class 1",2017,140,134.12,8,{"$f":"INDEX(Lists!$B$32:$B$40, MATCH(2020-C108242, Lists!$C$32:$C$40,1))","v":"21-30"},{"$f":"SUMPRODUCT((Data!$B$17:$B$19=Model!$F108242)*(Data!$C$16:$K$16=Model!$K108242)*(Data!$C$17:$K$19))","v":1.96},124.32,{"$f":"_xlfn.IFS(M108242>70,\"Serviceable\",M108242>30, \"Limited Life\",M108242<=30, \"Unserviceable\")","v":"Serviceable"}]
[null,227063,2001,"CCA Treated Pole","Serviceable","Class 1",2017,150,146.82,8,{"$f":"INDEX(Lists!$B$32:$B$40, MATCH(2020-C108297, Lists!$C$32:$C$40,1))","v":"0-20"},{"$f":"SUMPRODUCT((Data!$B$17:$B$19=Model!$F108297)*(Data!$C$16:$K$16=Model!$K108297)*(Data!$C$17:$K$19))","v":1.06},141.52000000000001,{"$f":"_xlfn.IFS(M108297>70,\"Serviceable\",M108297>30, \"Limited Life\",M108297<=30, \"Unserviceable\")","v":"Serviceable"}]
[null,227501,2001,"CCA Treated Pole","Serviceable","Class 1",2018,150,147.88,7,{"$f":"INDEX(Lists!$B$32:$B$40, MATCH(2020-C108404, Lists!$C$32:$C$40,1))","v":"0-20"},{"$f":"SUMPRODUCT((Data!$B$17:$B$19=Model!$F108404)*(Data!$C$16:$K$16=Model!$K108404)*(Data!$C$17:$K$19))","v":1.06},142.58000000000001,{"$f":"_xlfn.IFS(M108404>70,\"Serviceable\",M108404>30, \"Limited Life\",M108404<=30, \"Unserviceable\")","v":"Serviceable"}]
[null,227656,2001,"CCA Treated Pole","Serviceable","Class 2",2019,150,148.78,6,{"$f":"INDEX(Lists!$B$32:$B$40, MATCH(2020-C108450, Lists!$C$32:$C$40,1))","v":"0-20"},{"$f":"SUMPRODUCT((Data!$B$17:$B$19=Model!$F108450)*(Data!$C$16:$K$16=Model!$K108450)*(Data!$C$17:$K$19))","v":1.22},142.68,{"$f":"_xlfn.IFS(M108450>70,\"Serviceable\",M108450>30, \"Limited Life\",M108450<=30, \"Unserviceable\")","v":"Serviceable"}]
[null,228241,2002,"CCA Treated Pole","Serviceable","Class 2",2017,150,146.34,8,{"$f":"INDEX(Lists!$B$32:$B$40, MATCH(2020-C108535, Lists!$C$32:$C$40,1))","v":"0-20"},{"$f":"SUMPRODUCT((Data!$B$17:$B$19=Model!$F108535)*(Data!$C$16:$K$16=Model!$K108535)*(Data!$C$17:$K$19))","v":1.22},140.24,{"$f":"_xlfn.IFS(M108535>70,\"Serviceable\",M108535>30, \"Limited Life\",M108535<=30, \"Unserviceable\")","v":"Serviceable"}]
[null,228556,1999,"CCA Treated Pole","Serviceable","Class 2",2019,150,148.11000000000001,6,{"$f":"INDEX(Lists!$B$32:$B$40, MATCH(2020-C108580, Lists!$C$32:$C$40,1))","v":"21-30"},{"$f":"SUMPRODUCT((Data!$B$17:$B$19=Model!$F108580)*(Data!$C$16:$K$16=Model!$K108580)*(Data!$C$17:$K$19))","v":1.89},138.66,{"$f":"_xlfn.IFS(M108580>70,\"Serviceable\",M108580>30, \"Limited Life\",M108580<=30, \"Unserviceable\")","v":"Serviceable"}]
[null,229817,2001,"CCA Treated Pole","Serviceable","Class 1",2019,150,148.94,6,{"$f":"INDEX(Lists!$B$32:$B$40, MATCH(2020-C108688, Lists!$C$32:$C$40,1))","v":"0-20"},{"$f":"SUMPRODUCT((Data!$B$17:$B$19=Model!$F108688)*(Data!$C$16:$K$16=Model!$K108688)*(Data!$C$17:$K$19))","v":1.06},143.63999999999999,{"$f":"_xlfn.IFS(M108688>70,\"Serviceable\",M108688>30, \"Limited Life\",M108688<=30, \"Unserviceable\")","v":"Serviceable"}]
[null,230449,2002,"CCA Treated Pole","Serviceable","Class 2",2019,160,158.78,6,{"$f":"INDEX(Lists!$B$32:$B$40, MATCH(2020-C108708, Lists!$C$32:$C$40,1))","v":"0-20"},{"$f":"SUMPRODUCT((Data!$B$17:$B$19=Model!$F108708)*(Data!$C$16:$K$16=Model!$K108708)*(Data!$C$17:$K$19))","v":1.22},152.68,{"$f":"_xlfn.IFS(M108708>70,\"Serviceable\",M108708>30, \"Limited Life\",M108708<=30, \"Unserviceable\")","v":"Serviceable"}]
[null,230711,2003,"CCA Treated Pole","Serviceable","Class 1",2018,150,147.88,7,{"$f":"INDEX(Lists!$B$32:$B$40, MATCH(2020-C108773, Lists!$C$32:$C$40,1))","v":"0-20"},{"$f":"SUMPRODUCT((Data!$B$17:$B$19=Model!$F108773)*(Data!$C$16:$K$16=Model!$K108773)*(Data!$C$17:$K$19))","v":1.06},142.58000000000001,{"$f":"_xlfn.IFS(M108773>70,\"Serviceable\",M108773>30, \"Limited Life\",M108773<=30, \"Unserviceable\")","v":"Serviceable"}]
[null,231300,1971,"Wood Creos Impregnated","Serviceable","Class 2",2017,100,90.16,8,{"$f":"INDEX(Lists!$B$32:$B$40, MATCH(2020-C108858, Lists!$C$32:$C$40,1))","v":"41-50"},{"$f":"SUMPRODUCT((Data!$B$17:$B$19=Model!$F108858)*(Data!$C$16:$K$16=Model!$K108858)*(Data!$C$17:$K$19))","v":3.28},73.760000000000005,{"$f":"_xlfn.IFS(M108858>70,\"Serviceable\",M108858>30, \"Limited Life\",M108858<=30, \"Unserviceable\")","v":"Serviceable"}]
[null,231635,2003,"CCA Treated Pole","Serviceable","Class 1",2016,150,145.76,9,{"$f":"INDEX(Lists!$B$32:$B$40, MATCH(2020-C108951, Lists!$C$32:$C$40,1))","v":"0-20"},{"$f":"SUMPRODUCT((Data!$B$17:$B$19=Model!$F108951)*(Data!$C$16:$K$16=Model!$K108951)*(Data!$C$17:$K$19))","v":1.06},140.46,{"$f":"_xlfn.IFS(M108951>70,\"Serviceable\",M108951>30, \"Limited Life\",M108951<=30, \"Unserviceable\")","v":"Serviceable"}]
[null,231872,2003,"CCA Treated Pole","Serviceable","Class 2",2018,150,147.56,7,{"$f":"INDEX(Lists!$B$32:$B$40, MATCH(2020-C109011, Lists!$C$32:$C$40,1))","v":"0-20"},{"$f":"SUMPRODUCT((Data!$B$17:$B$19=Model!$F109011)*(Data!$C$16:$K$16=Model!$K109011)*(Data!$C$17:$K$19))","v":1.22},141.46,{"$f":"_xlfn.IFS(M109011>70,\"Serviceable\",M109011>30, \"Limited Life\",M109011<=30, \"Unserviceable\")","v":"Serviceable"}]
[null,232390,2003,"CCA Treated Pole","Serviceable","Class 2",2017,162.49719689682513,158.83719689682513,8,{"$f":"INDEX(Lists!$B$32:$B$40, MATCH(2020-C109079, Lists!$C$32:$C$40,1))","v":"0-20"},{"$f":"SUMPRODUCT((Data!$B$17:$B$19=Model!$F109079)*(Data!$C$16:$K$16=Model!$K109079)*(Data!$C$17:$K$19))","v":1.22},152.73719689682514,{"$f":"_xlfn.IFS(M109079>70,\"Serviceable\",M109079>30, \"Limited Life\",M109079<=30, \"Unserviceable\")","v":"Serviceable"}]
[null,232592,2003,"CCA Treated Pole","Serviceable","Class 2",2017,162.49719689682513,158.83719689682513,8,{"$f":"INDEX(Lists!$B$32:$B$40, MATCH(2020-C109164, Lists!$C$32:$C$40,1))","v":"0-20"},{"$f":"SUMPRODUCT((Data!$B$17:$B$19=Model!$F109164)*(Data!$C$16:$K$16=Model!$K109164)*(Data!$C$17:$K$19))","v":1.22},152.73719689682514,{"$f":"_xlfn.IFS(M109164>70,\"Serviceable\",M109164>30, \"Limited Life\",M109164<=30, \"Unserviceable\")","v":"Serviceable"}]
[null,232708,1973,"Wood Creos Impregnated","Serviceable","Class 1",2018,100,96.5,7,{"$f":"INDEX(Lists!$B$32:$B$40, MATCH(2020-C109181, Lists!$C$32:$C$40,1))","v":"41-50"},{"$f":"SUMPRODUCT((Data!$B$17:$B$19=Model!$F109181)*(Data!$C$16:$K$16=Model!$K109181)*(Data!$C$17:$K$19))","v":1.75},87.75,{"$f":"_xlfn.IFS(M109181>70,\"Serviceable\",M109181>30, \"Limited Life\",M109181<=30, \"Unserviceable\")","v":"Serviceable"}]
[null,233239,2003,"CCA Treated Pole","Serviceable","Class 2",2017,162.49719689682513,158.83719689682513,8,{"$f":"INDEX(Lists!$B$32:$B$40, MATCH(2020-C109255, Lists!$C$32:$C$40,1))","v":"0-20"},{"$f":"SUMPRODUCT((Data!$B$17:$B$19=Model!$F109255)*(Data!$C$16:$K$16=Model!$K109255)*(Data!$C$17:$K$19))","v":1.22},152.73719689682514,{"$f":"_xlfn.IFS(M109255>70,\"Serviceable\",M109255>30, \"Limited Life\",M109255<=30, \"Unserviceable\")","v":"Serviceable"}]
[null,233386,2003,"CCA Treated Pole","Serviceable","Class 2",2018,150,147.56,7,{"$f":"INDEX(Lists!$B$32:$B$40, MATCH(2020-C109334, Lists!$C$32:$C$40,1))","v":"0-20"},{"$f":"SUMPRODUCT((Data!$B$17:$B$19=Model!$F109334)*(Data!$C$16:$K$16=Model!$K109334)*(Data!$C$17:$K$19))","v":1.22},141.46,{"$f":"_xlfn.IFS(M109334>70,\"Serviceable\",M109334>30, \"Limited Life\",M109334<=30, \"Unserviceable\")","v":"Serviceable"}]
[null,233902,2004,"CCA Treated Pole","Serviceable","Class 1",2018,150,147.88,7,{"$f":"INDEX(Lists!$B$32:$B$40, MATCH(2020-C109419, Lists!$C$32:$C$40,1))","v":"0-20"},{"$f":"SUMPRODUCT((Data!$B$17:$B$19=Model!$F109419)*(Data!$C$16:$K$16=Model!$K109419)*(Data!$C$17:$K$19))","v":1.06},142.58000000000001,{"$f":"_xlfn.IFS(M109419>70,\"Serviceable\",M109419>30, \"Limited Life\",M109419<=30, \"Unserviceable\")","v":"Serviceable"}]
[null,234079,2004,"CCA Treated Pole","Serviceable","Class 1",2020,166.31691553103065,166.31691553103065,5,{"$f":"INDEX(Lists!$B$32:$B$40, MATCH(2020-C109498, Lists!$C$32:$C$40,1))","v":"0-20"},{"$f":"SUMPRODUCT((Data!$B$17:$B$19=Model!$F109498)*(Data!$C$16:$K$16=Model!$K109498)*(Data!$C$17:$K$19))","v":1.06},161.01691553103063,{"$f":"_xlfn.IFS(M109498>70,\"Serviceable\",M109498>30, \"Limited Life\",M109498<=30, \"Unserviceable\")","v":"Serviceable"}]
[null,234546,2005,"CCA Treated Pole","Serviceable","Class 2",2020,162.49719689682513,162.49719689682513,5,{"$f":"INDEX(Lists!$B$32:$B$40, MATCH(2020-C109572, Lists!$C$32:$C$40,1))","v":"0-20"},{"$f":"SUMPRODUCT((Data!$B$17:$B$19=Model!$F109572)*(Data!$C$16:$K$16=Model!$K109572)*(Data!$C$17:$K$19))","v":1.22},156.39719689682514,{"$f":"_xlfn.IFS(M109572>70,\"Serviceable\",M109572>30, \"Limited Life\",M109572<=30, \"Unserviceable\")","v":"Serviceable"}]
[null,234649,2004,"CCA Treated Pole","Serviceable","Class 2",2019,162.49719689682513,161.27719689682513,6,{"$f":"INDEX(Lists!$B$32:$B$40, MATCH(2020-C109626, Lists!$C$32:$C$40,1))","v":"0-20"},{"$f":"SUMPRODUCT((Data!$B$17:$B$19=Model!$F109626)*(Data!$C$16:$K$16=Model!$K109626)*(Data!$C$17:$K$19))","v":1.22},155.17719689682514,{"$f":"_xlfn.IFS(M109626>70,\"Serviceable\",M109626>30, \"Limited Life\",M109626<=30, \"Unserviceable\")","v":"Serviceable"}]
[null,234756,2004,"CCA Treated Pole","Serviceable","Class 1",2018,160,157.88,7,{"$f":"INDEX(Lists!$B$32:$B$40, MATCH(2020-C109657, Lists!$C$32:$C$40,1))","v":"0-20"},{"$f":"SUMPRODUCT((Data!$B$17:$B$19=Model!$F109657)*(Data!$C$16:$K$16=Model!$K109657)*(Data!$C$17:$K$19))","v":1.06},152.58000000000001,{"$f":"_xlfn.IFS(M109657>70,\"Serviceable\",M109657>30, \"Limited Life\",M109657<=30, \"Unserviceable\")","v":"Serviceable"}]
[null,235071,2004,"CCA Treated Pole","Serviceable","Class 2",2018,150,147.56,7,{"$f":"INDEX(Lists!$B$32:$B$40, MATCH(2020-C109742, Lists!$C$32:$C$40,1))","v":"0-20"},{"$f":"SUMPRODUCT((Data!$B$17:$B$19=Model!$F109742)*(Data!$C$16:$K$16=Model!$K109742)*(Data!$C$17:$K$19))","v":1.22},141.46,{"$f":"_xlfn.IFS(M109742>70,\"Serviceable\",M109742>30, \"Limited Life\",M109742<=30, \"Unserviceable\")","v":"Serviceable"}]
[null,235453,2005,"CCA Treated Pole","Serviceable","Class 2",2018,150,147.56,7,{"$f":"INDEX(Lists!$B$32:$B$40, MATCH(2020-C109802, Lists!$C$32:$C$40,1))","v":"0-20"},{"$f":"SUMPRODUCT((Data!$B$17:$B$19=Model!$F109802)*(Data!$C$16:$K$16=Model!$K109802)*(Data!$C$17:$K$19))","v":1.22},141.46,{"$f":"_xlfn.IFS(M109802>70,\"Serviceable\",M109802>30, \"Limited Life\",M109802<=30, \"Unserviceable\")","v":"Serviceable"}]
[null,236040,2006,"CCA Treated Pole","Serviceable","Class 2",2015,150,143.9,10,{"$f":"INDEX(Lists!$B$32:$B$40, MATCH(2020-C109895, Lists!$C$32:$C$40,1))","v":"0-20"},{"$f":"SUMPRODUCT((Data!$B$17:$B$19=Model!$F109895)*(Data!$C$16:$K$16=Model!$K109895)*(Data!$C$17:$K$19))","v":1.22},137.80000000000001,{"$f":"_xlfn.IFS(M109895>70,\"Serviceable\",M109895>30, \"Limited Life\",M109895<=30, \"Unserviceable\")","v":"Serviceable"}]
[null,236332,2002,"CCA Treated Pole","Serviceable","Class 2",2015,150,143.9,10,{"$f":"INDEX(Lists!$B$32:$B$40, MATCH(2020-C109930, Lists!$C$32:$C$40,1))","v":"0-20"},{"$f":"SUMPRODUCT((Data!$B$17:$B$19=Model!$F109930)*(Data!$C$16:$K$16=Model!$K109930)*(Data!$C$17:$K$19))","v":1.22},137.80000000000001,{"$f":"_xlfn.IFS(M109930>70,\"Serviceable\",M109930>30, \"Limited Life\",M109930<=30, \"Unserviceable\")","v":"Serviceable"}]
[null,236671,1999,"CCA Treated Pole","Serviceable","Class 2",2018,150,146.22,7,{"$f":"INDEX(Lists!$B$32:$B$40, MATCH(2020-C109996, Lists!$C$32:$C$40,1))","v":"21-30"},{"$f":"SUMPRODUCT((Data!$B$17:$B$19=Model!$F109996)*(Data!$C$16:$K$16=Model!$K109996)*(Data!$C$17:$K$19))","v":1.89},136.77000000000001,{"$f":"_xlfn.IFS(M109996>70,\"Serviceable\",M109996>30, \"Limited Life\",M109996<=30, \"Unserviceable\")","v":"Serviceable"}]
[null,237019,2006,"CCA Treated Pole","Serviceable","Class 2",2016,162.49719689682513,157.61719689682513,9,{"$f":"INDEX(Lists!$B$32:$B$40, MATCH(2020-C110065, Lists!$C$32:$C$40,1))","v":"0-20"},{"$f":"SUMPRODUCT((Data!$B$17:$B$19=Model!$F110065)*(Data!$C$16:$K$16=Model!$K110065)*(Data!$C$17:$K$19))","v":1.22},151.51719689682514,{"$f":"_xlfn.IFS(M110065>70,\"Serviceable\",M110065>30, \"Limited Life\",M110065<=30, \"Unserviceable\")","v":"Serviceable"}]
[null,237674,2006,"CCA Treated Pole","Serviceable","Class 2",2015,160,153.9,10,{"$f":"INDEX(Lists!$B$32:$B$40, MATCH(2020-C110173, Lists!$C$32:$C$40,1))","v":"0-20"},{"$f":"SUMPRODUCT((Data!$B$17:$B$19=Model!$F110173)*(Data!$C$16:$K$16=Model!$K110173)*(Data!$C$17:$K$19))","v":1.22},147.80000000000001,{"$f":"_xlfn.IFS(M110173>70,\"Serviceable\",M110173>30, \"Limited Life\",M110173<=30, \"Unserviceable\")","v":"Serviceable"}]
[null,237926,2005,"CCA Treated Pole","Serviceable","Class 2",2016,100,95.12,9,{"$f":"INDEX(Lists!$B$32:$B$40, MATCH(2020-C110218, Lists!$C$32:$C$40,1))","v":"0-20"},{"$f":"SUMPRODUCT((Data!$B$17:$B$19=Model!$F110218)*(Data!$C$16:$K$16=Model!$K110218)*(Data!$C$17:$K$19))","v":1.22},89.02,{"$f":"_xlfn.IFS(M110218>70,\"Serviceable\",M110218>30, \"Limited Life\",M110218<=30, \"Unserviceable\")","v":"Serviceable"}]
[null,239902,2007,"CCA Treated Pole","Serviceable","Class 3",2016,171.56902865306319,166.0890286530632,9,{"$f":"INDEX(Lists!$B$32:$B$40, MATCH(2020-C110303, Lists!$C$32:$C$40,1))","v":"0-20"},{"$f":"SUMPRODUCT((Data!$B$17:$B$19=Model!$F110303)*(Data!$C$16:$K$16=Model!$K110303)*(Data!$C$17:$K$19))","v":1.37},159.23902865306317,{"$f":"_xlfn.IFS(M110303>70,\"Serviceable\",M110303>30, \"Limited Life\",M110303<=30, \"Unserviceable\")","v":"Serviceable"}]
[null,240690,2007,"Wood Salt Impregnated (Green)","Serviceable","Class 3",2020,100,100,5,{"$f":"INDEX(Lists!$B$32:$B$40, MATCH(2020-C110349, Lists!$C$32:$C$40,1))","v":"0-20"},{"$f":"SUMPRODUCT((Data!$B$17:$B$19=Model!$F110349)*(Data!$C$16:$K$16=Model!$K110349)*(Data!$C$17:$K$19))","v":1.37},93.15,{"$f":"_xlfn.IFS(M110349>70,\"Serviceable\",M110349>30, \"Limited Life\",M110349<=30, \"Unserviceable\")","v":"Serviceable"}]
[null,241126,2014,"CCA Treated Pole","Serviceable","Class 1",2020,166.31691553103065,166.31691553103065,5,{"$f":"INDEX(Lists!$B$32:$B$40, MATCH(2020-C110388, Lists!$C$32:$C$40,1))","v":"0-20"},{"$f":"SUMPRODUCT((Data!$B$17:$B$19=Model!$F110388)*(Data!$C$16:$K$16=Model!$K110388)*(Data!$C$17:$K$19))","v":1.06},161.01691553103063,{"$f":"_xlfn.IFS(M110388>70,\"Serviceable\",M110388>30, \"Limited Life\",M110388<=30, \"Unserviceable\")","v":"Serviceable"}]
[null,241811,2009,"CCA Treated Pole","Serviceable","Class 1",2018,166.31691553103065,164.19691553103064,7,{"$f":"INDEX(Lists!$B$32:$B$40, MATCH(2020-C110477, Lists!$C$32:$C$40,1))","v":"0-20"},{"$f":"SUMPRODUCT((Data!$B$17:$B$19=Model!$F110477)*(Data!$C$16:$K$16=Model!$K110477)*(Data!$C$17:$K$19))","v":1.06},158.89691553103066,{"$f":"_xlfn.IFS(M110477>70,\"Serviceable\",M110477>30, \"Limited Life\",M110477<=30, \"Unserviceable\")","v":"Serviceable"}]
[null,242262,2008,"CCA Treated Pole","Serviceable","Class 1",2018,166.31691553103065,164.19691553103064,7,{"$f":"INDEX(Lists!$B$32:$B$40, MATCH(2020-C110541, Lists!$C$32:$C$40,1))","v":"0-20"},{"$f":"SUMPRODUCT((Data!$B$17:$B$19=Model!$F110541)*(Data!$C$16:$K$16=Model!$K110541)*(Data!$C$17:$K$19))","v":1.06},158.89691553103066,{"$f":"_xlfn.IFS(M110541>70,\"Serviceable\",M110541>30, \"Limited Life\",M110541<=30, \"Unserviceable\")","v":"Serviceable"}]
[null,243136,2008,"CCA Treated Pole","Serviceable","Class 2",2018,162.49719689682513,160.05719689682513,7,{"$f":"INDEX(Lists!$B$32:$B$40, MATCH(2020-C110626, Lists!$C$32:$C$40,1))","v":"0-20"},{"$f":"SUMPRODUCT((Data!$B$17:$B$19=Model!$F110626)*(Data!$C$16:$K$16=Model!$K110626)*(Data!$C$17:$K$19))","v":1.22},153.95719689682514,{"$f":"_xlfn.IFS(M110626>70,\"Serviceable\",M110626>30, \"Limited Life\",M110626<=30, \"Unserviceable\")","v":"Serviceable"}]
[null,244070,2010,"CCA Treated Pole","Serviceable","Class 1",2019,166.31691553103065,165.25691553103064,6,{"$f":"INDEX(Lists!$B$32:$B$40, MATCH(2020-C110720, Lists!$C$32:$C$40,1))","v":"0-20"},{"$f":"SUMPRODUCT((Data!$B$17:$B$19=Model!$F110720)*(Data!$C$16:$K$16=Model!$K110720)*(Data!$C$17:$K$19))","v":1.06},159.95691553103063,{"$f":"_xlfn.IFS(M110720>70,\"Serviceable\",M110720>30, \"Limited Life\",M110720<=30, \"Unserviceable\")","v":"Serviceable"}]
[null,244282,2009,"CCA Treated Pole","Serviceable","Class 2",2019,160,158.78,6,{"$f":"INDEX(Lists!$B$32:$B$40, MATCH(2020-C110779, Lists!$C$32:$C$40,1))","v":"0-20"},{"$f":"SUMPRODUCT((Data!$B$17:$B$19=Model!$F110779)*(Data!$C$16:$K$16=Model!$K110779)*(Data!$C$17:$K$19))","v":1.22},152.68,{"$f":"_xlfn.IFS(M110779>70,\"Serviceable\",M110779>30, \"Limited Life\",M110779<=30, \"Unserviceable\")","v":"Serviceable"}]
[null,244518,2009,"CCA Treated Pole","Serviceable","Class 1",2017,166.31691553103065,163.13691553103064,8,{"$f":"INDEX(Lists!$B$32:$B$40, MATCH(2020-C110848, Lists!$C$32:$C$40,1))","v":"0-20"},{"$f":"SUMPRODUCT((Data!$B$17:$B$19=Model!$F110848)*(Data!$C$16:$K$16=Model!$K110848)*(Data!$C$17:$K$19))","v":1.06},157.83691553103066,{"$f":"_xlfn.IFS(M110848>70,\"Serviceable\",M110848>30, \"Limited Life\",M110848<=30, \"Unserviceable\")","v":"Serviceable"}]
[null,244553,2009,"CCA Treated Pole","Serviceable","Class 1",2018,150,147.88,7,{"$f":"INDEX(Lists!$B$32:$B$40, MATCH(2020-C110880, Lists!$C$32:$C$40,1))","v":"0-20"},{"$f":"SUMPRODUCT((Data!$B$17:$B$19=Model!$F110880)*(Data!$C$16:$K$16=Model!$K110880)*(Data!$C$17:$K$19))","v":1.06},142.58000000000001,{"$f":"_xlfn.IFS(M110880>70,\"Serviceable\",M110880>30, \"Limited Life\",M110880<=30, \"Unserviceable\")","v":"Serviceable"}]
[null,245288,2009,"CCA Treated Pole","Serviceable","Class 2",2018,162.49719689682513,160.05719689682513,7,{"$f":"INDEX(Lists!$B$32:$B$40, MATCH(2020-C110949, Lists!$C$32:$C$40,1))","v":"0-20"},{"$f":"SUMPRODUCT((Data!$B$17:$B$19=Model!$F110949)*(Data!$C$16:$K$16=Model!$K110949)*(Data!$C$17:$K$19))","v":1.22},153.95719689682514,{"$f":"_xlfn.IFS(M110949>70,\"Serviceable\",M110949>30, \"Limited Life\",M110949<=30, \"Unserviceable\")","v":"Serviceable"}]
[null,245874,2009,"CCA Treated Pole","Serviceable","Class 2",2017,150,146.34,8,{"$f":"INDEX(Lists!$B$32:$B$40, MATCH(2020-C111024, Lists!$C$32:$C$40,1))","v":"0-20"},{"$f":"SUMPRODUCT((Data!$B$17:$B$19=Model!$F111024)*(Data!$C$16:$K$16=Model!$K111024)*(Data!$C$17:$K$19))","v":1.22},140.24,{"$f":"_xlfn.IFS(M111024>70,\"Serviceable\",M111024>30, \"Limited Life\",M111024<=30, \"Unserviceable\")","v":"Serviceable"}]
[null,246317,2013,"CCA Treated Pole","Serviceable","Class 2",2019,162.49719689682513,161.27719689682513,6,{"$f":"INDEX(Lists!$B$32:$B$40, MATCH(2020-C111102, Lists!$C$32:$C$40,1))","v":"0-20"},{"$f":"SUMPRODUCT((Data!$B$17:$B$19=Model!$F111102)*(Data!$C$16:$K$16=Model!$K111102)*(Data!$C$17:$K$19))","v":1.22},155.17719689682514,{"$f":"_xlfn.IFS(M111102>70,\"Serviceable\",M111102>30, \"Limited Life\",M111102<=30, \"Unserviceable\")","v":"Serviceable"}]
[null,246579,2009,"CCA Treated Pole","Serviceable","Class 1",2016,150,145.76,9,{"$f":"INDEX(Lists!$B$32:$B$40, MATCH(2020-C111152, Lists!$C$32:$C$40,1))","v":"0-20"},{"$f":"SUMPRODUCT((Data!$B$17:$B$19=Model!$F111152)*(Data!$C$16:$K$16=Model!$K111152)*(Data!$C$17:$K$19))","v":1.06},140.46,{"$f":"_xlfn.IFS(M111152>70,\"Serviceable\",M111152>30, \"Limited Life\",M111152<=30, \"Unserviceable\")","v":"Serviceable"}]
[null,246922,2010,"CCA Treated Pole","Serviceable","Class 2",2019,162.49719689682513,161.27719689682513,6,{"$f":"INDEX(Lists!$B$32:$B$40, MATCH(2020-C111203, Lists!$C$32:$C$40,1))","v":"0-20"},{"$f":"SUMPRODUCT((Data!$B$17:$B$19=Model!$F111203)*(Data!$C$16:$K$16=Model!$K111203)*(Data!$C$17:$K$19))","v":1.22},155.17719689682514,{"$f":"_xlfn.IFS(M111203>70,\"Serviceable\",M111203>30, \"Limited Life\",M111203<=30, \"Unserviceable\")","v":"Serviceable"}]
[null,247347,2013,"CCA Treated Pole","Serviceable","Class 2",2017,162.49719689682513,158.83719689682513,8,{"$f":"INDEX(Lists!$B$32:$B$40, MATCH(2020-C111272, Lists!$C$32:$C$40,1))","v":"0-20"},{"$f":"SUMPRODUCT((Data!$B$17:$B$19=Model!$F111272)*(Data!$C$16:$K$16=Model!$K111272)*(Data!$C$17:$K$19))","v":1.22},152.73719689682514,{"$f":"_xlfn.IFS(M111272>70,\"Serviceable\",M111272>30, \"Limited Life\",M111272<=30, \"Unserviceable\")","v":"Serviceable"}]
[null,248316,2010,"CCA Treated Pole","Serviceable","Class 2",2020,162.49719689682513,162.49719689682513,5,{"$f":"INDEX(Lists!$B$32:$B$40, MATCH(2020-C111395, Lists!$C$32:$C$40,1))","v":"0-20"},{"$f":"SUMPRODUCT((Data!$B$17:$B$19=Model!$F111395)*(Data!$C$16:$K$16=Model!$K111395)*(Data!$C$17:$K$19))","v":1.22},156.39719689682514,{"$f":"_xlfn.IFS(M111395>70,\"Serviceable\",M111395>30, \"Limited Life\",M111395<=30, \"Unserviceable\")","v":"Serviceable"}]
[null,248578,2010,"CCA Treated Pole","Serviceable","Class 3",2020,171.56902865306319,171.56902865306319,5,{"$f":"INDEX(Lists!$B$32:$B$40, MATCH(2020-C111425, Lists!$C$32:$C$40,1))","v":"0-20"},{"$f":"SUMPRODUCT((Data!$B$17:$B$19=Model!$F111425)*(Data!$C$16:$K$16=Model!$K111425)*(Data!$C$17:$K$19))","v":1.37},164.71902865306319,{"$f":"_xlfn.IFS(M111425>70,\"Serviceable\",M111425>30, \"Limited Life\",M111425<=30, \"Unserviceable\")","v":"Serviceable"}]
[null,249374,2011,"CCA Treated Pole","Serviceable","Class 2",2020,162.49719689682513,162.49719689682513,5,{"$f":"INDEX(Lists!$B$32:$B$40, MATCH(2020-C111510, Lists!$C$32:$C$40,1))","v":"0-20"},{"$f":"SUMPRODUCT((Data!$B$17:$B$19=Model!$F111510)*(Data!$C$16:$K$16=Model!$K111510)*(Data!$C$17:$K$19))","v":1.22},156.39719689682514,{"$f":"_xlfn.IFS(M111510>70,\"Serviceable\",M111510>30, \"Limited Life\",M111510<=30, \"Unserviceable\")","v":"Serviceable"}]
[null,249925,2012,"Wood Other","Serviceable","Class 2",2016,162.49719689682513,157.61719689682513,9,{"$f":"INDEX(Lists!$B$32:$B$40, MATCH(2020-C111571, Lists!$C$32:$C$40,1))","v":"0-20"},{"$f":"SUMPRODUCT((Data!$B$17:$B$19=Model!$F111571)*(Data!$C$16:$K$16=Model!$K111571)*(Data!$C$17:$K$19))","v":1.22},151.51719689682514,{"$f":"_xlfn.IFS(M111571>70,\"Serviceable\",M111571>30, \"Limited Life\",M111571<=30, \"Unserviceable\")","v":"Serviceable"}]
[null,252075,2012,"Wood Untreated Dressed","Serviceable","Class 1",2017,110,106.82,8,{"$f":"INDEX(Lists!$B$32:$B$40, MATCH(2020-C111663, Lists!$C$32:$C$40,1))","v":"0-20"},{"$f":"SUMPRODUCT((Data!$B$17:$B$19=Model!$F111663)*(Data!$C$16:$K$16=Model!$K111663)*(Data!$C$17:$K$19))","v":1.06},101.52,{"$f":"_xlfn.IFS(M111663>70,\"Serviceable\",M111663>30, \"Limited Life\",M111663<=30, \"Unserviceable\")","v":"Serviceable"}]
[null,252166,2012,"Wood Creos Impregnated","Serviceable","Class 3",2017,171.56902865306319,167.45902865306317,8,{"$f":"INDEX(Lists!$B$32:$B$40, MATCH(2020-C111699, Lists!$C$32:$C$40,1))","v":"0-20"},{"$f":"SUMPRODUCT((Data!$B$17:$B$19=Model!$F111699)*(Data!$C$16:$K$16=Model!$K111699)*(Data!$C$17:$K$19))","v":1.37},160.60902865306318,{"$f":"_xlfn.IFS(M111699>70,\"Serviceable\",M111699>30, \"Limited Life\",M111699<=30, \"Unserviceable\")","v":"Serviceable"}]
[null,252271,2011,"CCA Treated Pole","Serviceable","Class 2",2018,162.49719689682513,160.05719689682513,7,{"$f":"INDEX(Lists!$B$32:$B$40, MATCH(2020-C111764, Lists!$C$32:$C$40,1))","v":"0-20"},{"$f":"SUMPRODUCT((Data!$B$17:$B$19=Model!$F111764)*(Data!$C$16:$K$16=Model!$K111764)*(Data!$C$17:$K$19))","v":1.22},153.95719689682514,{"$f":"_xlfn.IFS(M111764>70,\"Serviceable\",M111764>30, \"Limited Life\",M111764<=30, \"Unserviceable\")","v":"Serviceable"}]
[null,252391,2012,"CCA Treated Pole","Serviceable","Class 1",2016,166.31691553103065,162.07691553103064,9,{"$f":"INDEX(Lists!$B$32:$B$40, MATCH(2020-C111833, Lists!$C$32:$C$40,1))","v":"0-20"},{"$f":"SUMPRODUCT((Data!$B$17:$B$19=Model!$F111833)*(Data!$C$16:$K$16=Model!$K111833)*(Data!$C$17:$K$19))","v":1.06},156.77691553103065,{"$f":"_xlfn.IFS(M111833>70,\"Serviceable\",M111833>30, \"Limited Life\",M111833<=30, \"Unserviceable\")","v":"Serviceable"}]
[null,252468,2012,"CCA Treated Pole","Serviceable","Class 2",2015,162.49719689682513,156.39719689682514,10,{"$f":"INDEX(Lists!$B$32:$B$40, MATCH(2020-C111875, Lists!$C$32:$C$40,1))","v":"0-20"},{"$f":"SUMPRODUCT((Data!$B$17:$B$19=Model!$F111875)*(Data!$C$16:$K$16=Model!$K111875)*(Data!$C$17:$K$19))","v":1.22},150.29719689682514,{"$f":"_xlfn.IFS(M111875>70,\"Serviceable\",M111875>30, \"Limited Life\",M111875<=30, \"Unserviceable\")","v":"Serviceable"}]
[null,252630,2011,"CCA Treated Pole","Serviceable","Class 2",2018,162.49719689682513,160.05719689682513,7,{"$f":"INDEX(Lists!$B$32:$B$40, MATCH(2020-C111986, Lists!$C$32:$C$40,1))","v":"0-20"},{"$f":"SUMPRODUCT((Data!$B$17:$B$19=Model!$F111986)*(Data!$C$16:$K$16=Model!$K111986)*(Data!$C$17:$K$19))","v":1.22},153.95719689682514,{"$f":"_xlfn.IFS(M111986>70,\"Serviceable\",M111986>30, \"Limited Life\",M111986<=30, \"Unserviceable\")","v":"Serviceable"}]
[null,252753,2012,"CCA Treated Pole","Serviceable","Class 2",2017,162.49719689682513,158.83719689682513,8,{"$f":"INDEX(Lists!$B$32:$B$40, MATCH(2020-C112070, Lists!$C$32:$C$40,1))","v":"0-20"},{"$f":"SUMPRODUCT((Data!$B$17:$B$19=Model!$F112070)*(Data!$C$16:$K$16=Model!$K112070)*(Data!$C$17:$K$19))","v":1.22},152.73719689682514,{"$f":"_xlfn.IFS(M112070>70,\"Serviceable\",M112070>30, \"Limited Life\",M112070<=30, \"Unserviceable\")","v":"Serviceable"}]
[null,252777,2012,"CCA Treated Pole","Serviceable","Class 1",2017,166.31691553103065,163.13691553103064,8,{"$f":"INDEX(Lists!$B$32:$B$40, MATCH(2020-C112087, Lists!$C$32:$C$40,1))","v":"0-20"},{"$f":"SUMPRODUCT((Data!$B$17:$B$19=Model!$F112087)*(Data!$C$16:$K$16=Model!$K112087)*(Data!$C$17:$K$19))","v":1.06},157.83691553103066,{"$f":"_xlfn.IFS(M112087>70,\"Serviceable\",M112087>30, \"Limited Life\",M112087<=30, \"Unserviceable\")","v":"Serviceable"}]
[null,254091,2012,"CCA Treated Pole","Serviceable","Class 2",2017,162.49719689682513,158.83719689682513,8,{"$f":"INDEX(Lists!$B$32:$B$40, MATCH(2020-C112156, Lists!$C$32:$C$40,1))","v":"0-20"},{"$f":"SUMPRODUCT((Data!$B$17:$B$19=Model!$F112156)*(Data!$C$16:$K$16=Model!$K112156)*(Data!$C$17:$K$19))","v":1.22},152.73719689682514,{"$f":"_xlfn.IFS(M112156>70,\"Serviceable\",M112156>30, \"Limited Life\",M112156<=30, \"Unserviceable\")","v":"Serviceable"}]
[null,257154,2012,"CCA Treated Pole","Serviceable","Class 2",2017,162.49719689682513,158.83719689682513,8,{"$f":"INDEX(Lists!$B$32:$B$40, MATCH(2020-C112246, Lists!$C$32:$C$40,1))","v":"0-20"},{"$f":"SUMPRODUCT((Data!$B$17:$B$19=Model!$F112246)*(Data!$C$16:$K$16=Model!$K112246)*(Data!$C$17:$K$19))","v":1.22},152.73719689682514,{"$f":"_xlfn.IFS(M112246>70,\"Serviceable\",M112246>30, \"Limited Life\",M112246<=30, \"Unserviceable\")","v":"Serviceable"}]
[null,257245,2012,"CCA Treated Pole","Serviceable","Class 2",2018,162.49719689682513,160.05719689682513,7,{"$f":"INDEX(Lists!$B$32:$B$40, MATCH(2020-C112325, Lists!$C$32:$C$40,1))","v":"0-20"},{"$f":"SUMPRODUCT((Data!$B$17:$B$19=Model!$F112325)*(Data!$C$16:$K$16=Model!$K112325)*(Data!$C$17:$K$19))","v":1.22},153.95719689682514,{"$f":"_xlfn.IFS(M112325>70,\"Serviceable\",M112325>30, \"Limited Life\",M112325<=30, \"Unserviceable\")","v":"Serviceable"}]
[null,257342,2012,"CCA Treated Pole","Serviceable","Class 2",2020,162.49719689682513,162.49719689682513,5,{"$f":"INDEX(Lists!$B$32:$B$40, MATCH(2020-C112394, Lists!$C$32:$C$40,1))","v":"0-20"},{"$f":"SUMPRODUCT((Data!$B$17:$B$19=Model!$F112394)*(Data!$C$16:$K$16=Model!$K112394)*(Data!$C$17:$K$19))","v":1.22},156.39719689682514,{"$f":"_xlfn.IFS(M112394>70,\"Serviceable\",M112394>30, \"Limited Life\",M112394<=30, \"Unserviceable\")","v":"Serviceable"}]
[null,257380,2012,"CCA Treated Pole","Serviceable","Class 2",2016,162.49719689682513,157.61719689682513,9,{"$f":"INDEX(Lists!$B$32:$B$40, MATCH(2020-C112422, Lists!$C$32:$C$40,1))","v":"0-20"},{"$f":"SUMPRODUCT((Data!$B$17:$B$19=Model!$F112422)*(Data!$C$16:$K$16=Model!$K112422)*(Data!$C$17:$K$19))","v":1.22},151.51719689682514,{"$f":"_xlfn.IFS(M112422>70,\"Serviceable\",M112422>30, \"Limited Life\",M112422<=30, \"Unserviceable\")","v":"Serviceable"}]
[null,258277,2012,"CCA Treated Pole","Serviceable","Class 2",2018,160,157.56,7,{"$f":"INDEX(Lists!$B$32:$B$40, MATCH(2020-C112547, Lists!$C$32:$C$40,1))","v":"0-20"},{"$f":"SUMPRODUCT((Data!$B$17:$B$19=Model!$F112547)*(Data!$C$16:$K$16=Model!$K112547)*(Data!$C$17:$K$19))","v":1.22},151.46,{"$f":"_xlfn.IFS(M112547>70,\"Serviceable\",M112547>30, \"Limited Life\",M112547<=30, \"Unserviceable\")","v":"Serviceable"}]
[null,258280,2012,"CCA Treated Pole","Serviceable","Class 2",2017,162.49719689682513,158.83719689682513,8,{"$f":"INDEX(Lists!$B$32:$B$40, MATCH(2020-C112550, Lists!$C$32:$C$40,1))","v":"0-20"},{"$f":"SUMPRODUCT((Data!$B$17:$B$19=Model!$F112550)*(Data!$C$16:$K$16=Model!$K112550)*(Data!$C$17:$K$19))","v":1.22},152.73719689682514,{"$f":"_xlfn.IFS(M112550>70,\"Serviceable\",M112550>30, \"Limited Life\",M112550<=30, \"Unserviceable\")","v":"Serviceable"}]
[null,258386,2013,"CCA Treated Pole","Serviceable","Class 2",2019,162.49719689682513,161.27719689682513,{"$f":"2025-G112648","v":6},{"$f":"INDEX(Lists!$B$32:$B$40, MATCH(2020-C112648, Lists!$C$32:$C$40,1))","v":"0-20"},{"$f":"SUMPRODUCT((Data!$B$17:$B$19=Model!$F112648)*(Data!$C$16:$K$16=Model!$K112648)*(Data!$C$17:$K$19))","v":1.22},{"$f":"IF(IF(H112648>=700,999,(H112648-L112648*J112648))<0,0,IF(H112648>=700,999,(H112648-L112648*J112648)))","v":155.17719689682514},{"$f":"_xlfn.IFS(M112648>70,\"Serviceable\",M112648>30, \"Limited Life\",M112648<=30, \"Unserviceable\")","v":"Serviceable"}]
[null,258502,2010,"CCA Treated Pole","Serviceable","Class 2",2019,162.49719689682513,161.27719689682513,6,{"$f":"INDEX(Lists!$B$32:$B$40, MATCH(2020-C112717, Lists!$C$32:$C$40,1))","v":"0-20"},{"$f":"SUMPRODUCT((Data!$B$17:$B$19=Model!$F112717)*(Data!$C$16:$K$16=Model!$K112717)*(Data!$C$17:$K$19))","v":1.22},155.17719689682514,{"$f":"_xlfn.IFS(M112717>70,\"Serviceable\",M112717>30, \"Limited Life\",M112717<=30, \"Unserviceable\")","v":"Serviceable"}]
[null,258611,2012,"CCA Treated Pole","Serviceable","Class 2",2020,162.49719689682513,162.49719689682513,5,{"$f":"INDEX(Lists!$B$32:$B$40, MATCH(2020-C112793, Lists!$C$32:$C$40,1))","v":"0-20"},{"$f":"SUMPRODUCT((Data!$B$17:$B$19=Model!$F112793)*(Data!$C$16:$K$16=Model!$K112793)*(Data!$C$17:$K$19))","v":1.22},156.39719689682514,{"$f":"_xlfn.IFS(M112793>70,\"Serviceable\",M112793>30, \"Limited Life\",M112793<=30, \"Unserviceable\")","v":"Serviceable"}]
[null,258746,2013,"CCA Treated Pole","Serviceable","Class 2",2018,162.49719689682513,160.05719689682513,7,{"$f":"INDEX(Lists!$B$32:$B$40, MATCH(2020-C112870, Lists!$C$32:$C$40,1))","v":"0-20"},{"$f":"SUMPRODUCT((Data!$B$17:$B$19=Model!$F112870)*(Data!$C$16:$K$16=Model!$K112870)*(Data!$C$17:$K$19))","v":1.22},153.95719689682514,{"$f":"_xlfn.IFS(M112870>70,\"Serviceable\",M112870>30, \"Limited Life\",M112870<=30, \"Unserviceable\")","v":"Serviceable"}]
[null,259132,2011,"CCA Treated Pole","Serviceable","Class 2",2020,162.49719689682513,162.49719689682513,5,{"$f":"INDEX(Lists!$B$32:$B$40, MATCH(2020-C112921, Lists!$C$32:$C$40,1))","v":"0-20"},{"$f":"SUMPRODUCT((Data!$B$17:$B$19=Model!$F112921)*(Data!$C$16:$K$16=Model!$K112921)*(Data!$C$17:$K$19))","v":1.22},156.39719689682514,{"$f":"_xlfn.IFS(M112921>70,\"Serviceable\",M112921>30, \"Limited Life\",M112921<=30, \"Unserviceable\")","v":"Serviceable"}]
[null,259185,2011,"CCA Treated Pole","Serviceable","Class 1",2016,166.31691553103065,162.07691553103064,9,{"$f":"INDEX(Lists!$B$32:$B$40, MATCH(2020-C112971, Lists!$C$32:$C$40,1))","v":"0-20"},{"$f":"SUMPRODUCT((Data!$B$17:$B$19=Model!$F112971)*(Data!$C$16:$K$16=Model!$K112971)*(Data!$C$17:$K$19))","v":1.06},156.77691553103065,{"$f":"_xlfn.IFS(M112971>70,\"Serviceable\",M112971>30, \"Limited Life\",M112971<=30, \"Unserviceable\")","v":"Serviceable"}]
[null,260167,2012,"CCA Treated Pole","Serviceable","Class 2",2017,162.49719689682513,158.83719689682513,8,{"$f":"INDEX(Lists!$B$32:$B$40, MATCH(2020-C113040, Lists!$C$32:$C$40,1))","v":"0-20"},{"$f":"SUMPRODUCT((Data!$B$17:$B$19=Model!$F113040)*(Data!$C$16:$K$16=Model!$K113040)*(Data!$C$17:$K$19))","v":1.22},152.73719689682514,{"$f":"_xlfn.IFS(M113040>70,\"Serviceable\",M113040>30, \"Limited Life\",M113040<=30, \"Unserviceable\")","v":"Serviceable"}]
[null,260284,2012,"CCA Treated Pole","Serviceable","Class 2",2018,162.49719689682513,160.05719689682513,7,{"$f":"INDEX(Lists!$B$32:$B$40, MATCH(2020-C113097, Lists!$C$32:$C$40,1))","v":"0-20"},{"$f":"SUMPRODUCT((Data!$B$17:$B$19=Model!$F113097)*(Data!$C$16:$K$16=Model!$K113097)*(Data!$C$17:$K$19))","v":1.22},153.95719689682514,{"$f":"_xlfn.IFS(M113097>70,\"Serviceable\",M113097>30, \"Limited Life\",M113097<=30, \"Unserviceable\")","v":"Serviceable"}]
[null,260513,2012,"CCA Treated Pole","Serviceable","Class 2",2017,162.49719689682513,158.83719689682513,8,{"$f":"INDEX(Lists!$B$32:$B$40, MATCH(2020-C113209, Lists!$C$32:$C$40,1))","v":"0-20"},{"$f":"SUMPRODUCT((Data!$B$17:$B$19=Model!$F113209)*(Data!$C$16:$K$16=Model!$K113209)*(Data!$C$17:$K$19))","v":1.22},152.73719689682514,{"$f":"_xlfn.IFS(M113209>70,\"Serviceable\",M113209>30, \"Limited Life\",M113209<=30, \"Unserviceable\")","v":"Serviceable"}]
[null,260529,2012,"CCA Treated Pole","Serviceable","Class 2",2017,162.49719689682513,158.83719689682513,8,{"$f":"INDEX(Lists!$B$32:$B$40, MATCH(2020-C113225, Lists!$C$32:$C$40,1))","v":"0-20"},{"$f":"SUMPRODUCT((Data!$B$17:$B$19=Model!$F113225)*(Data!$C$16:$K$16=Model!$K113225)*(Data!$C$17:$K$19))","v":1.22},152.73719689682514,{"$f":"_xlfn.IFS(M113225>70,\"Serviceable\",M113225>30, \"Limited Life\",M113225<=30, \"Unserviceable\")","v":"Serviceable"}]
[null,260641,2013,"CCA Treated Pole","Serviceable","Class 2",2018,162.49719689682513,160.05719689682513,7,{"$f":"INDEX(Lists!$B$32:$B$40, MATCH(2020-C113294, Lists!$C$32:$C$40,1))","v":"0-20"},{"$f":"SUMPRODUCT((Data!$B$17:$B$19=Model!$F113294)*(Data!$C$16:$K$16=Model!$K113294)*(Data!$C$17:$K$19))","v":1.22},153.95719689682514,{"$f":"_xlfn.IFS(M113294>70,\"Serviceable\",M113294>30, \"Limited Life\",M113294<=30, \"Unserviceable\")","v":"Serviceable"}]
[null,260721,2012,"CCA Treated Pole","Serviceable","Class 3",2016,171.56902865306319,166.0890286530632,9,{"$f":"INDEX(Lists!$B$32:$B$40, MATCH(2020-C113363, Lists!$C$32:$C$40,1))","v":"0-20"},{"$f":"SUMPRODUCT((Data!$B$17:$B$19=Model!$F113363)*(Data!$C$16:$K$16=Model!$K113363)*(Data!$C$17:$K$19))","v":1.37},159.23902865306317,{"$f":"_xlfn.IFS(M113363>70,\"Serviceable\",M113363>30, \"Limited Life\",M113363<=30, \"Unserviceable\")","v":"Serviceable"}]
[null,260880,2012,"CCA Treated Pole","Serviceable","Class 2",2016,162.49719689682513,157.61719689682513,9,{"$f":"INDEX(Lists!$B$32:$B$40, MATCH(2020-C113468, Lists!$C$32:$C$40,1))","v":"0-20"},{"$f":"SUMPRODUCT((Data!$B$17:$B$19=Model!$F113468)*(Data!$C$16:$K$16=Model!$K113468)*(Data!$C$17:$K$19))","v":1.22},151.51719689682514,{"$f":"_xlfn.IFS(M113468>70,\"Serviceable\",M113468>30, \"Limited Life\",M113468<=30, \"Unserviceable\")","v":"Serviceable"}]
[null,261087,2012,"CCA Treated Pole","Serviceable","Class 2",2020,162.49719689682513,162.49719689682513,5,{"$f":"INDEX(Lists!$B$32:$B$40, MATCH(2020-C113532, Lists!$C$32:$C$40,1))","v":"0-20"},{"$f":"SUMPRODUCT((Data!$B$17:$B$19=Model!$F113532)*(Data!$C$16:$K$16=Model!$K113532)*(Data!$C$17:$K$19))","v":1.22},156.39719689682514,{"$f":"_xlfn.IFS(M113532>70,\"Serviceable\",M113532>30, \"Limited Life\",M113532<=30, \"Unserviceable\")","v":"Serviceable"}]
[null,262169,2012,"CCA Treated Pole","Serviceable","Class 2",2016,162.49719689682513,157.61719689682513,9,{"$f":"INDEX(Lists!$B$32:$B$40, MATCH(2020-C113601, Lists!$C$32:$C$40,1))","v":"0-20"},{"$f":"SUMPRODUCT((Data!$B$17:$B$19=Model!$F113601)*(Data!$C$16:$K$16=Model!$K113601)*(Data!$C$17:$K$19))","v":1.22},151.51719689682514,{"$f":"_xlfn.IFS(M113601>70,\"Serviceable\",M113601>30, \"Limited Life\",M113601<=30, \"Unserviceable\")","v":"Serviceable"}]
[null,262271,2014,"CCA Treated Pole","Serviceable","Class 1",2019,166.31691553103065,165.25691553103064,6,{"$f":"INDEX(Lists!$B$32:$B$40, MATCH(2020-C113644, Lists!$C$32:$C$40,1))","v":"0-20"},{"$f":"SUMPRODUCT((Data!$B$17:$B$19=Model!$F113644)*(Data!$C$16:$K$16=Model!$K113644)*(Data!$C$17:$K$19))","v":1.06},159.95691553103063,{"$f":"_xlfn.IFS(M113644>70,\"Serviceable\",M113644>30, \"Limited Life\",M113644<=30, \"Unserviceable\")","v":"Serviceable"}]
[null,262411,2013,"CCA Treated Pole","Serviceable","Class 2",2018,162.49719689682513,160.05719689682513,7,{"$f":"INDEX(Lists!$B$32:$B$40, MATCH(2020-C113754, Lists!$C$32:$C$40,1))","v":"0-20"},{"$f":"SUMPRODUCT((Data!$B$17:$B$19=Model!$F113754)*(Data!$C$16:$K$16=Model!$K113754)*(Data!$C$17:$K$19))","v":1.22},153.95719689682514,{"$f":"_xlfn.IFS(M113754>70,\"Serviceable\",M113754>30, \"Limited Life\",M113754<=30, \"Unserviceable\")","v":"Serviceable"}]
[null,262430,2013,"CCA Treated Pole","Serviceable","Class 2",2018,162.49719689682513,160.05719689682513,7,{"$f":"INDEX(Lists!$B$32:$B$40, MATCH(2020-C113772, Lists!$C$32:$C$40,1))","v":"0-20"},{"$f":"SUMPRODUCT((Data!$B$17:$B$19=Model!$F113772)*(Data!$C$16:$K$16=Model!$K113772)*(Data!$C$17:$K$19))","v":1.22},153.95719689682514,{"$f":"_xlfn.IFS(M113772>70,\"Serviceable\",M113772>30, \"Limited Life\",M113772<=30, \"Unserviceable\")","v":"Serviceable"}]
[null,265071,2013,"CCA Treated Pole","Serviceable","Class 1",2018,166.31691553103065,164.19691553103064,7,{"$f":"INDEX(Lists!$B$32:$B$40, MATCH(2020-C113855, Lists!$C$32:$C$40,1))","v":"0-20"},{"$f":"SUMPRODUCT((Data!$B$17:$B$19=Model!$F113855)*(Data!$C$16:$K$16=Model!$K113855)*(Data!$C$17:$K$19))","v":1.06},158.89691553103066,{"$f":"_xlfn.IFS(M113855>70,\"Serviceable\",M113855>30, \"Limited Life\",M113855<=30, \"Unserviceable\")","v":"Serviceable"}]
[null,266155,2014,"CCA Treated Pole","Serviceable","Class 1",2019,166.31691553103065,165.25691553103064,6,{"$f":"INDEX(Lists!$B$32:$B$40, MATCH(2020-C113924, Lists!$C$32:$C$40,1))","v":"0-20"},{"$f":"SUMPRODUCT((Data!$B$17:$B$19=Model!$F113924)*(Data!$C$16:$K$16=Model!$K113924)*(Data!$C$17:$K$19))","v":1.06},159.95691553103063,{"$f":"_xlfn.IFS(M113924>70,\"Serviceable\",M113924>30, \"Limited Life\",M113924<=30, \"Unserviceable\")","v":"Serviceable"}]
[null,266316,2013,"CCA Treated Pole","Serviceable","Class 2",2017,162.49719689682513,158.83719689682513,8,{"$f":"INDEX(Lists!$B$32:$B$40, MATCH(2020-C114015, Lists!$C$32:$C$40,1))","v":"0-20"},{"$f":"SUMPRODUCT((Data!$B$17:$B$19=Model!$F114015)*(Data!$C$16:$K$16=Model!$K114015)*(Data!$C$17:$K$19))","v":1.22},152.73719689682514,{"$f":"_xlfn.IFS(M114015>70,\"Serviceable\",M114015>30, \"Limited Life\",M114015<=30, \"Unserviceable\")","v":"Serviceable"}]
[null,266445,2014,"CCA Treated Pole","Serviceable","Class 2",2016,162.49719689682513,157.61719689682513,9,{"$f":"INDEX(Lists!$B$32:$B$40, MATCH(2020-C114093, Lists!$C$32:$C$40,1))","v":"0-20"},{"$f":"SUMPRODUCT((Data!$B$17:$B$19=Model!$F114093)*(Data!$C$16:$K$16=Model!$K114093)*(Data!$C$17:$K$19))","v":1.22},151.51719689682514,{"$f":"_xlfn.IFS(M114093>70,\"Serviceable\",M114093>30, \"Limited Life\",M114093<=30, \"Unserviceable\")","v":"Serviceable"}]
[null,266549,2014,"Wood Other","Serviceable","Class 2",2017,162.49719689682513,158.83719689682513,8,{"$f":"INDEX(Lists!$B$32:$B$40, MATCH(2020-C114143, Lists!$C$32:$C$40,1))","v":"0-20"},{"$f":"SUMPRODUCT((Data!$B$17:$B$19=Model!$F114143)*(Data!$C$16:$K$16=Model!$K114143)*(Data!$C$17:$K$19))","v":1.22},152.73719689682514,{"$f":"_xlfn.IFS(M114143>70,\"Serviceable\",M114143>30, \"Limited Life\",M114143<=30, \"Unserviceable\")","v":"Serviceable"}]
[null,267119,2013,"CCA Treated Pole","Serviceable","Class 2",2017,162.49719689682513,158.83719689682513,8,{"$f":"INDEX(Lists!$B$32:$B$40, MATCH(2020-C114178, Lists!$C$32:$C$40,1))","v":"0-20"},{"$f":"SUMPRODUCT((Data!$B$17:$B$19=Model!$F114178)*(Data!$C$16:$K$16=Model!$K114178)*(Data!$C$17:$K$19))","v":1.22},152.73719689682514,{"$f":"_xlfn.IFS(M114178>70,\"Serviceable\",M114178>30, \"Limited Life\",M114178<=30, \"Unserviceable\")","v":"Serviceable"}]
[null,267215,2012,"CCA Treated Pole","Serviceable","Class 2",2017,162.49719689682513,158.83719689682513,8,{"$f":"INDEX(Lists!$B$32:$B$40, MATCH(2020-C114247, Lists!$C$32:$C$40,1))","v":"0-20"},{"$f":"SUMPRODUCT((Data!$B$17:$B$19=Model!$F114247)*(Data!$C$16:$K$16=Model!$K114247)*(Data!$C$17:$K$19))","v":1.22},152.73719689682514,{"$f":"_xlfn.IFS(M114247>70,\"Serviceable\",M114247>30, \"Limited Life\",M114247<=30, \"Unserviceable\")","v":"Serviceable"}]
[null,267378,2014,"CCA Treated Pole","Serviceable","Class 2",2020,162.49719689682513,162.49719689682513,5,{"$f":"INDEX(Lists!$B$32:$B$40, MATCH(2020-C114319, Lists!$C$32:$C$40,1))","v":"0-20"},{"$f":"SUMPRODUCT((Data!$B$17:$B$19=Model!$F114319)*(Data!$C$16:$K$16=Model!$K114319)*(Data!$C$17:$K$19))","v":1.22},156.39719689682514,{"$f":"_xlfn.IFS(M114319>70,\"Serviceable\",M114319>30, \"Limited Life\",M114319<=30, \"Unserviceable\")","v":"Serviceable"}]
[null,269197,2014,"CCA Treated Pole","Serviceable","Class 2",2020,162.49719689682513,162.49719689682513,5,{"$f":"INDEX(Lists!$B$32:$B$40, MATCH(2020-C114416, Lists!$C$32:$C$40,1))","v":"0-20"},{"$f":"SUMPRODUCT((Data!$B$17:$B$19=Model!$F114416)*(Data!$C$16:$K$16=Model!$K114416)*(Data!$C$17:$K$19))","v":1.22},156.39719689682514,{"$f":"_xlfn.IFS(M114416>70,\"Serviceable\",M114416>30, \"Limited Life\",M114416<=30, \"Unserviceable\")","v":"Serviceable"}]
[null,269271,2014,"CCA Treated Pole","Serviceable","Class 2",2019,162.49719689682513,161.27719689682513,6,{"$f":"INDEX(Lists!$B$32:$B$40, MATCH(2020-C114485, Lists!$C$32:$C$40,1))","v":"0-20"},{"$f":"SUMPRODUCT((Data!$B$17:$B$19=Model!$F114485)*(Data!$C$16:$K$16=Model!$K114485)*(Data!$C$17:$K$19))","v":1.22},155.17719689682514,{"$f":"_xlfn.IFS(M114485>70,\"Serviceable\",M114485>30, \"Limited Life\",M114485<=30, \"Unserviceable\")","v":"Serviceable"}]
[null,269353,2013,"CCA Treated Pole","Serviceable","Class 2",2018,162.49719689682513,160.05719689682513,7,{"$f":"INDEX(Lists!$B$32:$B$40, MATCH(2020-C114562, Lists!$C$32:$C$40,1))","v":"0-20"},{"$f":"SUMPRODUCT((Data!$B$17:$B$19=Model!$F114562)*(Data!$C$16:$K$16=Model!$K114562)*(Data!$C$17:$K$19))","v":1.22},153.95719689682514,{"$f":"_xlfn.IFS(M114562>70,\"Serviceable\",M114562>30, \"Limited Life\",M114562<=30, \"Unserviceable\")","v":"Serviceable"}]
[null,270167,2014,"CCA Treated Pole","Serviceable","Class 2",2018,162.49719689682513,160.05719689682513,7,{"$f":"INDEX(Lists!$B$32:$B$40, MATCH(2020-C114586, Lists!$C$32:$C$40,1))","v":"0-20"},{"$f":"SUMPRODUCT((Data!$B$17:$B$19=Model!$F114586)*(Data!$C$16:$K$16=Model!$K114586)*(Data!$C$17:$K$19))","v":1.22},153.95719689682514,{"$f":"_xlfn.IFS(M114586>70,\"Serviceable\",M114586>30, \"Limited Life\",M114586<=30, \"Unserviceable\")","v":"Serviceable"}]
[null,270344,2014,"CCA Treated Pole","Serviceable","Class 2",2018,162.49719689682513,160.05719689682513,7,{"$f":"INDEX(Lists!$B$32:$B$40, MATCH(2020-C114690, Lists!$C$32:$C$40,1))","v":"0-20"},{"$f":"SUMPRODUCT((Data!$B$17:$B$19=Model!$F114690)*(Data!$C$16:$K$16=Model!$K114690)*(Data!$C$17:$K$19))","v":1.22},153.95719689682514,{"$f":"_xlfn.IFS(M114690>70,\"Serviceable\",M114690>30, \"Limited Life\",M114690<=30, \"Unserviceable\")","v":"Serviceable"}]
[null,271072,2014,"Wood Creos Impregnated","Serviceable","Class 1",2019,120,118.94,6,{"$f":"INDEX(Lists!$B$32:$B$40, MATCH(2020-C114739, Lists!$C$32:$C$40,1))","v":"0-20"},{"$f":"SUMPRODUCT((Data!$B$17:$B$19=Model!$F114739)*(Data!$C$16:$K$16=Model!$K114739)*(Data!$C$17:$K$19))","v":1.06},113.64,{"$f":"_xlfn.IFS(M114739>70,\"Serviceable\",M114739>30, \"Limited Life\",M114739<=30, \"Unserviceable\")","v":"Serviceable"}]
[null,274176,2014,"CCA Treated Pole","Serviceable","Class 1",2018,166.31691553103065,164.19691553103064,7,{"$f":"INDEX(Lists!$B$32:$B$40, MATCH(2020-C114808, Lists!$C$32:$C$40,1))","v":"0-20"},{"$f":"SUMPRODUCT((Data!$B$17:$B$19=Model!$F114808)*(Data!$C$16:$K$16=Model!$K114808)*(Data!$C$17:$K$19))","v":1.06},158.89691553103066,{"$f":"_xlfn.IFS(M114808>70,\"Serviceable\",M114808>30, \"Limited Life\",M114808<=30, \"Unserviceable\")","v":"Serviceable"}]
[null,278101,2014,"CCA Treated Pole","Serviceable","Class 2",2019,162.49719689682513,161.27719689682513,6,{"$f":"INDEX(Lists!$B$32:$B$40, MATCH(2020-C114866, Lists!$C$32:$C$40,1))","v":"0-20"},{"$f":"SUMPRODUCT((Data!$B$17:$B$19=Model!$F114866)*(Data!$C$16:$K$16=Model!$K114866)*(Data!$C$17:$K$19))","v":1.22},155.17719689682514,{"$f":"_xlfn.IFS(M114866>70,\"Serviceable\",M114866>30, \"Limited Life\",M114866<=30, \"Unserviceable\")","v":"Serviceable"}]
[null,283074,2014,"CCA Treated Pole","Serviceable","Class 2",2019,162.49719689682513,161.27719689682513,6,{"$f":"INDEX(Lists!$B$32:$B$40, MATCH(2020-C114977, Lists!$C$32:$C$40,1))","v":"0-20"},{"$f":"SUMPRODUCT((Data!$B$17:$B$19=Model!$F114977)*(Data!$C$16:$K$16=Model!$K114977)*(Data!$C$17:$K$19))","v":1.22},155.17719689682514,{"$f":"_xlfn.IFS(M114977>70,\"Serviceable\",M114977>30, \"Limited Life\",M114977<=30, \"Unserviceable\")","v":"Serviceable"}]
[null,287075,2014,"Wood Other","Serviceable","Class 1",2018,166.31691553103065,164.19691553103064,7,{"$f":"INDEX(Lists!$B$32:$B$40, MATCH(2020-C114994, Lists!$C$32:$C$40,1))","v":"0-20"},{"$f":"SUMPRODUCT((Data!$B$17:$B$19=Model!$F114994)*(Data!$C$16:$K$16=Model!$K114994)*(Data!$C$17:$K$19))","v":1.06},158.89691553103066,{"$f":"_xlfn.IFS(M114994>70,\"Serviceable\",M114994>30, \"Limited Life\",M114994<=30, \"Unserviceable\")","v":"Serviceable"}]
[null,288079,2014,"CCA Treated Pole","Serviceable","Class 1",2019,166.31691553103065,165.25691553103064,6,{"$f":"INDEX(Lists!$B$32:$B$40, MATCH(2020-C115062, Lists!$C$32:$C$40,1))","v":"0-20"},{"$f":"SUMPRODUCT((Data!$B$17:$B$19=Model!$F115062)*(Data!$C$16:$K$16=Model!$K115062)*(Data!$C$17:$K$19))","v":1.06},159.95691553103063,{"$f":"_xlfn.IFS(M115062>70,\"Serviceable\",M115062>30, \"Limited Life\",M115062<=30, \"Unserviceable\")","v":"Serviceable"}]
[null,292076,2014,"CCA Treated Pole","Serviceable","Class 2",2019,162.49719689682513,161.27719689682513,6,{"$f":"INDEX(Lists!$B$32:$B$40, MATCH(2020-C115131, Lists!$C$32:$C$40,1))","v":"0-20"},{"$f":"SUMPRODUCT((Data!$B$17:$B$19=Model!$F115131)*(Data!$C$16:$K$16=Model!$K115131)*(Data!$C$17:$K$19))","v":1.22},155.17719689682514,{"$f":"_xlfn.IFS(M115131>70,\"Serviceable\",M115131>30, \"Limited Life\",M115131<=30, \"Unserviceable\")","v":"Serviceable"}]
[null,301080,2014,"CCA Treated Pole","Serviceable","Class 2",2020,162.49719689682513,162.49719689682513,5,{"$f":"INDEX(Lists!$B$32:$B$40, MATCH(2020-C115237, Lists!$C$32:$C$40,1))","v":"0-20"},{"$f":"SUMPRODUCT((Data!$B$17:$B$19=Model!$F115237)*(Data!$C$16:$K$16=Model!$K115237)*(Data!$C$17:$K$19))","v":1.22},156.39719689682514,{"$f":"_xlfn.IFS(M115237>70,\"Serviceable\",M115237>30, \"Limited Life\",M115237<=30, \"Unserviceable\")","v":"Serviceable"}]
[null,305081,2014,"CCA Treated Pole","Serviceable","Class 2",2019,162.49719689682513,161.27719689682513,6,{"$f":"INDEX(Lists!$B$32:$B$40, MATCH(2020-C115300, Lists!$C$32:$C$40,1))","v":"0-20"},{"$f":"SUMPRODUCT((Data!$B$17:$B$19=Model!$F115300)*(Data!$C$16:$K$16=Model!$K115300)*(Data!$C$17:$K$19))","v":1.22},155.17719689682514,{"$f":"_xlfn.IFS(M115300>70,\"Serviceable\",M115300>30, \"Limited Life\",M115300<=30, \"Unserviceable\")","v":"Serviceable"}]
[null,306107,2014,"CCA Treated Pole","Serviceable","Class 2",2019,162.49719689682513,161.27719689682513,6,{"$f":"INDEX(Lists!$B$32:$B$40, MATCH(2020-C115369, Lists!$C$32:$C$40,1))","v":"0-20"},{"$f":"SUMPRODUCT((Data!$B$17:$B$19=Model!$F115369)*(Data!$C$16:$K$16=Model!$K115369)*(Data!$C$17:$K$19))","v":1.22},155.17719689682514,{"$f":"_xlfn.IFS(M115369>70,\"Serviceable\",M115369>30, \"Limited Life\",M115369<=30, \"Unserviceable\")","v":"Serviceable"}]
[null,308079,2013,"CCA Treated Pole","Serviceable","Class 2",2016,162.49719689682513,157.61719689682513,9,{"$f":"INDEX(Lists!$B$32:$B$40, MATCH(2020-C115413, Lists!$C$32:$C$40,1))","v":"0-20"},{"$f":"SUMPRODUCT((Data!$B$17:$B$19=Model!$F115413)*(Data!$C$16:$K$16=Model!$K115413)*(Data!$C$17:$K$19))","v":1.22},151.51719689682514,{"$f":"_xlfn.IFS(M115413>70,\"Serviceable\",M115413>30, \"Limited Life\",M115413<=30, \"Unserviceable\")","v":"Serviceable"}]
[null,308154,2014,"CCA Treated Pole","Serviceable","Class 2",2019,162.49719689682513,161.27719689682513,6,{"$f":"INDEX(Lists!$B$32:$B$40, MATCH(2020-C115470, Lists!$C$32:$C$40,1))","v":"0-20"},{"$f":"SUMPRODUCT((Data!$B$17:$B$19=Model!$F115470)*(Data!$C$16:$K$16=Model!$K115470)*(Data!$C$17:$K$19))","v":1.22},155.17719689682514,{"$f":"_xlfn.IFS(M115470>70,\"Serviceable\",M115470>30, \"Limited Life\",M115470<=30, \"Unserviceable\")","v":"Serviceable"}]
[null,311113,2014,"CCA Treated Pole","Serviceable","Class 2",2019,162.49719689682513,161.27719689682513,6,{"$f":"INDEX(Lists!$B$32:$B$40, MATCH(2020-C115541, Lists!$C$32:$C$40,1))","v":"0-20"},{"$f":"SUMPRODUCT((Data!$B$17:$B$19=Model!$F115541)*(Data!$C$16:$K$16=Model!$K115541)*(Data!$C$17:$K$19))","v":1.22},155.17719689682514,{"$f":"_xlfn.IFS(M115541>70,\"Serviceable\",M115541>30, \"Limited Life\",M115541<=30, \"Unserviceable\")","v":"Serviceable"}]
[null,317086,2014,"CCA Treated Pole","Serviceable","Class 1",2020,166.31691553103065,166.31691553103065,5,{"$f":"INDEX(Lists!$B$32:$B$40, MATCH(2020-C115623, Lists!$C$32:$C$40,1))","v":"0-20"},{"$f":"SUMPRODUCT((Data!$B$17:$B$19=Model!$F115623)*(Data!$C$16:$K$16=Model!$K115623)*(Data!$C$17:$K$19))","v":1.06},161.01691553103063,{"$f":"_xlfn.IFS(M115623>70,\"Serviceable\",M115623>30, \"Limited Life\",M115623<=30, \"Unserviceable\")","v":"Serviceable"}]
[null,320092,2015,"CCA Treated Pole","Serviceable","Class 1",2018,166.31691553103065,164.19691553103064,7,{"$f":"INDEX(Lists!$B$32:$B$40, MATCH(2020-C115692, Lists!$C$32:$C$40,1))","v":"0-20"},{"$f":"SUMPRODUCT((Data!$B$17:$B$19=Model!$F115692)*(Data!$C$16:$K$16=Model!$K115692)*(Data!$C$17:$K$19))","v":1.06},158.89691553103066,{"$f":"_xlfn.IFS(M115692>70,\"Serviceable\",M115692>30, \"Limited Life\",M115692<=30, \"Unserviceable\")","v":"Serviceable"}]
[null,323085,2015,"CCA Treated Pole","Serviceable","Class 1",2020,166.31691553103065,166.31691553103065,{"$f":"2025-G115784","v":5},{"$f":"INDEX(Lists!$B$32:$B$40, MATCH(2020-C115784, Lists!$C$32:$C$40,1))","v":"0-20"},{"$f":"SUMPRODUCT((Data!$B$17:$B$19=Model!$F115784)*(Data!$C$16:$K$16=Model!$K115784)*(Data!$C$17:$K$19))","v":1.06},{"$f":"IF(IF(H115784>=700,999,(H115784-L115784*J115784))<0,0,IF(H115784>=700,999,(H115784-L115784*J115784)))","v":161.01691553103063},{"$f":"_xlfn.IFS(M115784>70,\"Serviceable\",M115784>30, \"Limited Life\",M115784<=30, \"Unserviceable\")","v":"Serviceable"}]
[null,323121,2015,"CCA Treated Pole","Serviceable","Class 2",2019,162.49719689682513,161.27719689682513,6,{"$f":"INDEX(Lists!$B$32:$B$40, MATCH(2020-C115793, Lists!$C$32:$C$40,1))","v":"0-20"},{"$f":"SUMPRODUCT((Data!$B$17:$B$19=Model!$F115793)*(Data!$C$16:$K$16=Model!$K115793)*(Data!$C$17:$K$19))","v":1.22},155.17719689682514,{"$f":"_xlfn.IFS(M115793>70,\"Serviceable\",M115793>30, \"Limited Life\",M115793<=30, \"Unserviceable\")","v":"Serviceable"}]
[null,334071,2015,"CCA Treated Pole","Serviceable","Class 2",2020,162.49719689682513,162.49719689682513,{"$f":"2025-G115912","v":5},{"$f":"INDEX(Lists!$B$32:$B$40, MATCH(2020-C115912, Lists!$C$32:$C$40,1))","v":"0-20"},{"$f":"SUMPRODUCT((Data!$B$17:$B$19=Model!$F115912)*(Data!$C$16:$K$16=Model!$K115912)*(Data!$C$17:$K$19))","v":1.22},{"$f":"IF(IF(H115912>=700,999,(H115912-L115912*J115912))<0,0,IF(H115912>=700,999,(H115912-L115912*J115912)))","v":156.39719689682514},{"$f":"_xlfn.IFS(M115912>70,\"Serviceable\",M115912>30, \"Limited Life\",M115912<=30, \"Unserviceable\")","v":"Serviceable"}]
[null,335100,2015,"CCA Treated Pole","Serviceable","Class 2",2020,162.49719689682513,162.49719689682513,5,{"$f":"INDEX(Lists!$B$32:$B$40, MATCH(2020-C115946, Lists!$C$32:$C$40,1))","v":"0-20"},{"$f":"SUMPRODUCT((Data!$B$17:$B$19=Model!$F115946)*(Data!$C$16:$K$16=Model!$K115946)*(Data!$C$17:$K$19))","v":1.22},156.39719689682514,{"$f":"_xlfn.IFS(M115946>70,\"Serviceable\",M115946>30, \"Limited Life\",M115946<=30, \"Unserviceable\")","v":"Serviceable"}]
[null,340075,2014,"CCA Treated Pole","Serviceable","Class 2",2019,162.49719689682513,161.27719689682513,6,{"$f":"INDEX(Lists!$B$32:$B$40, MATCH(2020-C116031, Lists!$C$32:$C$40,1))","v":"0-20"},{"$f":"SUMPRODUCT((Data!$B$17:$B$19=Model!$F116031)*(Data!$C$16:$K$16=Model!$K116031)*(Data!$C$17:$K$19))","v":1.22},155.17719689682514,{"$f":"_xlfn.IFS(M116031>70,\"Serviceable\",M116031>30, \"Limited Life\",M116031<=30, \"Unserviceable\")","v":"Serviceable"}]
[null,344084,2015,"CCA Treated Pole","Serviceable","Class 1",2020,166.31691553103065,166.31691553103065,5,{"$f":"INDEX(Lists!$B$32:$B$40, MATCH(2020-C116088, Lists!$C$32:$C$40,1))","v":"0-20"},{"$f":"SUMPRODUCT((Data!$B$17:$B$19=Model!$F116088)*(Data!$C$16:$K$16=Model!$K116088)*(Data!$C$17:$K$19))","v":1.06},161.01691553103063,{"$f":"_xlfn.IFS(M116088>70,\"Serviceable\",M116088>30, \"Limited Life\",M116088<=30, \"Unserviceable\")","v":"Serviceable"}]
[null,344190,2015,"CCA Treated Pole","Serviceable","Class 3",2020,171.56902865306319,171.56902865306319,5,{"$f":"INDEX(Lists!$B$32:$B$40, MATCH(2020-C116184, Lists!$C$32:$C$40,1))","v":"0-20"},{"$f":"SUMPRODUCT((Data!$B$17:$B$19=Model!$F116184)*(Data!$C$16:$K$16=Model!$K116184)*(Data!$C$17:$K$19))","v":1.37},164.71902865306319,{"$f":"_xlfn.IFS(M116184>70,\"Serviceable\",M116184>30, \"Limited Life\",M116184<=30, \"Unserviceable\")","v":"Serviceable"}]
[null,344224,2015,"CCA Treated Pole","Serviceable","Class 1",2020,166.31691553103065,166.31691553103065,5,{"$f":"INDEX(Lists!$B$32:$B$40, MATCH(2020-C116216, Lists!$C$32:$C$40,1))","v":"0-20"},{"$f":"SUMPRODUCT((Data!$B$17:$B$19=Model!$F116216)*(Data!$C$16:$K$16=Model!$K116216)*(Data!$C$17:$K$19))","v":1.06},161.01691553103063,{"$f":"_xlfn.IFS(M116216>70,\"Serviceable\",M116216>30, \"Limited Life\",M116216<=30, \"Unserviceable\")","v":"Serviceable"}]
[null,347082,2015,"CCA Treated Pole","Serviceable","Class 1",2019,166.31691553103065,165.25691553103064,6,{"$f":"INDEX(Lists!$B$32:$B$40, MATCH(2020-C116269, Lists!$C$32:$C$40,1))","v":"0-20"},{"$f":"SUMPRODUCT((Data!$B$17:$B$19=Model!$F116269)*(Data!$C$16:$K$16=Model!$K116269)*(Data!$C$17:$K$19))","v":1.06},159.95691553103063,{"$f":"_xlfn.IFS(M116269>70,\"Serviceable\",M116269>30, \"Limited Life\",M116269<=30, \"Unserviceable\")","v":"Serviceable"}]
[null,347188,2015,"Wood Salt Impregnated (Green)","Serviceable","Class 1",2020,166.31691553103065,166.31691553103065,5,{"$f":"INDEX(Lists!$B$32:$B$40, MATCH(2020-C116354, Lists!$C$32:$C$40,1))","v":"0-20"},{"$f":"SUMPRODUCT((Data!$B$17:$B$19=Model!$F116354)*(Data!$C$16:$K$16=Model!$K116354)*(Data!$C$17:$K$19))","v":1.06},161.01691553103063,{"$f":"_xlfn.IFS(M116354>70,\"Serviceable\",M116354>30, \"Limited Life\",M116354<=30, \"Unserviceable\")","v":"Serviceable"}]
[null,351075,2015,"CCA Treated Pole","Serviceable","Class 1",2018,166.31691553103065,164.19691553103064,7,{"$f":"INDEX(Lists!$B$32:$B$40, MATCH(2020-C116459, Lists!$C$32:$C$40,1))","v":"0-20"},{"$f":"SUMPRODUCT((Data!$B$17:$B$19=Model!$F116459)*(Data!$C$16:$K$16=Model!$K116459)*(Data!$C$17:$K$19))","v":1.06},158.89691553103066,{"$f":"_xlfn.IFS(M116459>70,\"Serviceable\",M116459>30, \"Limited Life\",M116459<=30, \"Unserviceable\")","v":"Serviceable"}]
[null,354071,2015,"CCA Treated Pole","Serviceable","Class 2",2020,162.49719689682513,162.49719689682513,5,{"$f":"INDEX(Lists!$B$32:$B$40, MATCH(2020-C116507, Lists!$C$32:$C$40,1))","v":"0-20"},{"$f":"SUMPRODUCT((Data!$B$17:$B$19=Model!$F116507)*(Data!$C$16:$K$16=Model!$K116507)*(Data!$C$17:$K$19))","v":1.22},156.39719689682514,{"$f":"_xlfn.IFS(M116507>70,\"Serviceable\",M116507>30, \"Limited Life\",M116507<=30, \"Unserviceable\")","v":"Serviceable"}]
[null,358073,2015,"CCA Treated Pole","Serviceable","Class 1",2020,166.31691553103065,166.31691553103065,5,{"$f":"INDEX(Lists!$B$32:$B$40, MATCH(2020-C116576, Lists!$C$32:$C$40,1))","v":"0-20"},{"$f":"SUMPRODUCT((Data!$B$17:$B$19=Model!$F116576)*(Data!$C$16:$K$16=Model!$K116576)*(Data!$C$17:$K$19))","v":1.06},161.01691553103063,{"$f":"_xlfn.IFS(M116576>70,\"Serviceable\",M116576>30, \"Limited Life\",M116576<=30, \"Unserviceable\")","v":"Serviceable"}]
[null,359137,2015,"CCA Treated Pole","Serviceable","Class 1",2018,166.31691553103065,164.19691553103064,7,{"$f":"INDEX(Lists!$B$32:$B$40, MATCH(2020-C116635, Lists!$C$32:$C$40,1))","v":"0-20"},{"$f":"SUMPRODUCT((Data!$B$17:$B$19=Model!$F116635)*(Data!$C$16:$K$16=Model!$K116635)*(Data!$C$17:$K$19))","v":1.06},158.89691553103066,{"$f":"_xlfn.IFS(M116635>70,\"Serviceable\",M116635>30, \"Limited Life\",M116635<=30, \"Unserviceable\")","v":"Serviceable"}]
[null,360082,2015,"CCA Treated Pole","Serviceable","Class 1",2018,166.31691553103065,164.19691553103064,7,{"$f":"INDEX(Lists!$B$32:$B$40, MATCH(2020-C116677, Lists!$C$32:$C$40,1))","v":"0-20"},{"$f":"SUMPRODUCT((Data!$B$17:$B$19=Model!$F116677)*(Data!$C$16:$K$16=Model!$K116677)*(Data!$C$17:$K$19))","v":1.06},158.89691553103066,{"$f":"_xlfn.IFS(M116677>70,\"Serviceable\",M116677>30, \"Limited Life\",M116677<=30, \"Unserviceable\")","v":"Serviceable"}]
[null,361135,2015,"CCA Treated Pole","Serviceable","Class 2",2020,162.49719689682513,162.49719689682513,5,{"$f":"INDEX(Lists!$B$32:$B$40, MATCH(2020-C116763, Lists!$C$32:$C$40,1))","v":"0-20"},{"$f":"SUMPRODUCT((Data!$B$17:$B$19=Model!$F116763)*(Data!$C$16:$K$16=Model!$K116763)*(Data!$C$17:$K$19))","v":1.22},156.39719689682514,{"$f":"_xlfn.IFS(M116763>70,\"Serviceable\",M116763>30, \"Limited Life\",M116763<=30, \"Unserviceable\")","v":"Serviceable"}]
[null,361266,2015,"CCA Treated Pole","Serviceable","Class 2",2020,162.49719689682513,162.49719689682513,5,{"$f":"INDEX(Lists!$B$32:$B$40, MATCH(2020-C116830, Lists!$C$32:$C$40,1))","v":"0-20"},{"$f":"SUMPRODUCT((Data!$B$17:$B$19=Model!$F116830)*(Data!$C$16:$K$16=Model!$K116830)*(Data!$C$17:$K$19))","v":1.22},156.39719689682514,{"$f":"_xlfn.IFS(M116830>70,\"Serviceable\",M116830>30, \"Limited Life\",M116830<=30, \"Unserviceable\")","v":"Serviceable"}]
[null,367118,2016,"CCA Treated Pole","Serviceable","Class 1",2017,166.31691553103065,163.13691553103064,8,{"$f":"INDEX(Lists!$B$32:$B$40, MATCH(2020-C116915, Lists!$C$32:$C$40,1))","v":"0-20"},{"$f":"SUMPRODUCT((Data!$B$17:$B$19=Model!$F116915)*(Data!$C$16:$K$16=Model!$K116915)*(Data!$C$17:$K$19))","v":1.06},157.83691553103066,{"$f":"_xlfn.IFS(M116915>70,\"Serviceable\",M116915>30, \"Limited Life\",M116915<=30, \"Unserviceable\")","v":"Serviceable"}]
[null,375271,2016,"CCA Treated Pole","Serviceable","Class 1",2020,166.31691553103065,166.31691553103065,5,{"$f":"INDEX(Lists!$B$32:$B$40, MATCH(2020-C117006, Lists!$C$32:$C$40,1))","v":"0-20"},{"$f":"SUMPRODUCT((Data!$B$17:$B$19=Model!$F117006)*(Data!$C$16:$K$16=Model!$K117006)*(Data!$C$17:$K$19))","v":1.06},161.01691553103063,{"$f":"_xlfn.IFS(M117006>70,\"Serviceable\",M117006>30, \"Limited Life\",M117006<=30, \"Unserviceable\")","v":"Serviceable"}]
[null,379080,2016,"Wood Creos Impregnated","Serviceable","Class 3",2016,100,94.52,9,{"$f":"INDEX(Lists!$B$32:$B$40, MATCH(2020-C117068, Lists!$C$32:$C$40,1))","v":"0-20"},{"$f":"SUMPRODUCT((Data!$B$17:$B$19=Model!$F117068)*(Data!$C$16:$K$16=Model!$K117068)*(Data!$C$17:$K$19))","v":1.37},87.67,{"$f":"_xlfn.IFS(M117068>70,\"Serviceable\",M117068>30, \"Limited Life\",M117068<=30, \"Unserviceable\")","v":"Serviceable"}]
[null,387085,2016,"CCA Treated Pole","Serviceable","Class 1",2020,166.31691553103065,166.31691553103065,5,{"$f":"INDEX(Lists!$B$32:$B$40, MATCH(2020-C117134, Lists!$C$32:$C$40,1))","v":"0-20"},{"$f":"SUMPRODUCT((Data!$B$17:$B$19=Model!$F117134)*(Data!$C$16:$K$16=Model!$K117134)*(Data!$C$17:$K$19))","v":1.06},161.01691553103063,{"$f":"_xlfn.IFS(M117134>70,\"Serviceable\",M117134>30, \"Limited Life\",M117134<=30, \"Unserviceable\")","v":"Serviceable"}]
[null,389087,2015,"Wood Salt Impregnated (Green)","Serviceable","Class 1",2020,166.31691553103065,166.31691553103065,5,{"$f":"INDEX(Lists!$B$32:$B$40, MATCH(2020-C117153, Lists!$C$32:$C$40,1))","v":"0-20"},{"$f":"SUMPRODUCT((Data!$B$17:$B$19=Model!$F117153)*(Data!$C$16:$K$16=Model!$K117153)*(Data!$C$17:$K$19))","v":1.06},161.01691553103063,{"$f":"_xlfn.IFS(M117153>70,\"Serviceable\",M117153>30, \"Limited Life\",M117153<=30, \"Unserviceable\")","v":"Serviceable"}]
[null,394152,2016,"CCA Treated Pole","Serviceable","Class 1",2020,166.31691553103065,166.31691553103065,5,{"$f":"INDEX(Lists!$B$32:$B$40, MATCH(2020-C117238, Lists!$C$32:$C$40,1))","v":"0-20"},{"$f":"SUMPRODUCT((Data!$B$17:$B$19=Model!$F117238)*(Data!$C$16:$K$16=Model!$K117238)*(Data!$C$17:$K$19))","v":1.06},161.01691553103063,{"$f":"_xlfn.IFS(M117238>70,\"Serviceable\",M117238>30, \"Limited Life\",M117238<=30, \"Unserviceable\")","v":"Serviceable"}]
[null,395189,2016,"CCA Treated Pole","Serviceable","Class 1",2019,166.31691553103065,165.25691553103064,6,{"$f":"INDEX(Lists!$B$32:$B$40, MATCH(2020-C117310, Lists!$C$32:$C$40,1))","v":"0-20"},{"$f":"SUMPRODUCT((Data!$B$17:$B$19=Model!$F117310)*(Data!$C$16:$K$16=Model!$K117310)*(Data!$C$17:$K$19))","v":1.06},159.95691553103063,{"$f":"_xlfn.IFS(M117310>70,\"Serviceable\",M117310>30, \"Limited Life\",M117310<=30, \"Unserviceable\")","v":"Serviceable"}]
[null,399173,2016,"CCA Treated Pole","Serviceable","Class 1",2018,166.31691553103065,164.19691553103064,7,{"$f":"INDEX(Lists!$B$32:$B$40, MATCH(2020-C117391, Lists!$C$32:$C$40,1))","v":"0-20"},{"$f":"SUMPRODUCT((Data!$B$17:$B$19=Model!$F117391)*(Data!$C$16:$K$16=Model!$K117391)*(Data!$C$17:$K$19))","v":1.06},158.89691553103066,{"$f":"_xlfn.IFS(M117391>70,\"Serviceable\",M117391>30, \"Limited Life\",M117391<=30, \"Unserviceable\")","v":"Serviceable"}]
[null,401074,2016,"CCA Treated Pole","Serviceable","Class 2",2019,162.49719689682513,161.27719689682513,6,{"$f":"INDEX(Lists!$B$32:$B$40, MATCH(2020-C117460, Lists!$C$32:$C$40,1))","v":"0-20"},{"$f":"SUMPRODUCT((Data!$B$17:$B$19=Model!$F117460)*(Data!$C$16:$K$16=Model!$K117460)*(Data!$C$17:$K$19))","v":1.22},155.17719689682514,{"$f":"_xlfn.IFS(M117460>70,\"Serviceable\",M117460>30, \"Limited Life\",M117460<=30, \"Unserviceable\")","v":"Serviceable"}]
[null,401155,2016,"CCA Treated Pole","Serviceable","Class 1",2018,166.31691553103065,164.19691553103064,7,{"$f":"INDEX(Lists!$B$32:$B$40, MATCH(2020-C117486, Lists!$C$32:$C$40,1))","v":"0-20"},{"$f":"SUMPRODUCT((Data!$B$17:$B$19=Model!$F117486)*(Data!$C$16:$K$16=Model!$K117486)*(Data!$C$17:$K$19))","v":1.06},158.89691553103066,{"$f":"_xlfn.IFS(M117486>70,\"Serviceable\",M117486>30, \"Limited Life\",M117486<=30, \"Unserviceable\")","v":"Serviceable"}]
[null,405194,2016,"CCA Treated Pole","Serviceable","Class 1",2018,166.31691553103065,164.19691553103064,7,{"$f":"INDEX(Lists!$B$32:$B$40, MATCH(2020-C117561, Lists!$C$32:$C$40,1))","v":"0-20"},{"$f":"SUMPRODUCT((Data!$B$17:$B$19=Model!$F117561)*(Data!$C$16:$K$16=Model!$K117561)*(Data!$C$17:$K$19))","v":1.06},158.89691553103066,{"$f":"_xlfn.IFS(M117561>70,\"Serviceable\",M117561>30, \"Limited Life\",M117561<=30, \"Unserviceable\")","v":"Serviceable"}]
[null,416098,2017,"CCA Treated Pole","Serviceable","Class 1",2018,166.31691553103065,164.19691553103064,7,{"$f":"INDEX(Lists!$B$32:$B$40, MATCH(2020-C117681, Lists!$C$32:$C$40,1))","v":"0-20"},{"$f":"SUMPRODUCT((Data!$B$17:$B$19=Model!$F117681)*(Data!$C$16:$K$16=Model!$K117681)*(Data!$C$17:$K$19))","v":1.06},158.89691553103066,{"$f":"_xlfn.IFS(M117681>70,\"Serviceable\",M117681>30, \"Limited Life\",M117681<=30, \"Unserviceable\")","v":"Serviceable"}]
[null,417162,2017,"CCA Treated Pole","Serviceable","Class 1",2020,166.31691553103065,166.31691553103065,5,{"$f":"INDEX(Lists!$B$32:$B$40, MATCH(2020-C117714, Lists!$C$32:$C$40,1))","v":"0-20"},{"$f":"SUMPRODUCT((Data!$B$17:$B$19=Model!$F117714)*(Data!$C$16:$K$16=Model!$K117714)*(Data!$C$17:$K$19))","v":1.06},161.01691553103063,{"$f":"_xlfn.IFS(M117714>70,\"Serviceable\",M117714>30, \"Limited Life\",M117714<=30, \"Unserviceable\")","v":"Serviceable"}]
[null,418168,2017,"CCA Treated Pole","Serviceable","Class 1",2020,166.31691553103065,166.31691553103065,5,{"$f":"INDEX(Lists!$B$32:$B$40, MATCH(2020-C117799, Lists!$C$32:$C$40,1))","v":"0-20"},{"$f":"SUMPRODUCT((Data!$B$17:$B$19=Model!$F117799)*(Data!$C$16:$K$16=Model!$K117799)*(Data!$C$17:$K$19))","v":1.06},161.01691553103063,{"$f":"_xlfn.IFS(M117799>70,\"Serviceable\",M117799>30, \"Limited Life\",M117799<=30, \"Unserviceable\")","v":"Serviceable"}]
[null,419121,2017,"CCA Treated Pole","Serviceable","Class 1",2019,166.31691553103065,165.25691553103064,6,{"$f":"INDEX(Lists!$B$32:$B$40, MATCH(2020-C117857, Lists!$C$32:$C$40,1))","v":"0-20"},{"$f":"SUMPRODUCT((Data!$B$17:$B$19=Model!$F117857)*(Data!$C$16:$K$16=Model!$K117857)*(Data!$C$17:$K$19))","v":1.06},159.95691553103063,{"$f":"_xlfn.IFS(M117857>70,\"Serviceable\",M117857>30, \"Limited Life\",M117857<=30, \"Unserviceable\")","v":"Serviceable"}]
[null,419645,2017,"CCA Treated Pole","Serviceable","Class 2",2020,162.49719689682513,162.49719689682513,5,{"$f":"INDEX(Lists!$B$32:$B$40, MATCH(2020-C117952, Lists!$C$32:$C$40,1))","v":"0-20"},{"$f":"SUMPRODUCT((Data!$B$17:$B$19=Model!$F117952)*(Data!$C$16:$K$16=Model!$K117952)*(Data!$C$17:$K$19))","v":1.22},156.39719689682514,{"$f":"_xlfn.IFS(M117952>70,\"Serviceable\",M117952>30, \"Limited Life\",M117952<=30, \"Unserviceable\")","v":"Serviceable"}]
[null,419819,2017,"CCA Treated Pole","Serviceable","Class 1",2020,166.31691553103065,166.31691553103065,5,{"$f":"INDEX(Lists!$B$32:$B$40, MATCH(2020-C117985, Lists!$C$32:$C$40,1))","v":"0-20"},{"$f":"SUMPRODUCT((Data!$B$17:$B$19=Model!$F117985)*(Data!$C$16:$K$16=Model!$K117985)*(Data!$C$17:$K$19))","v":1.06},161.01691553103063,{"$f":"_xlfn.IFS(M117985>70,\"Serviceable\",M117985>30, \"Limited Life\",M117985<=30, \"Unserviceable\")","v":"Serviceable"}]
[null,423148,2018,"CCA Treated Pole","Serviceable","Class 1",2020,166.31691553103065,166.31691553103065,5,{"$f":"INDEX(Lists!$B$32:$B$40, MATCH(2020-C118037, Lists!$C$32:$C$40,1))","v":"0-20"},{"$f":"SUMPRODUCT((Data!$B$17:$B$19=Model!$F118037)*(Data!$C$16:$K$16=Model!$K118037)*(Data!$C$17:$K$19))","v":1.06},161.01691553103063,{"$f":"_xlfn.IFS(M118037>70,\"Serviceable\",M118037>30, \"Limited Life\",M118037<=30, \"Unserviceable\")","v":"Serviceable"}]
[null,435863,2018,"CCA Treated Pole","Serviceable","Class 1",2020,166.31691553103065,166.31691553103065,5,{"$f":"INDEX(Lists!$B$32:$B$40, MATCH(2020-C118122, Lists!$C$32:$C$40,1))","v":"0-20"},{"$f":"SUMPRODUCT((Data!$B$17:$B$19=Model!$F118122)*(Data!$C$16:$K$16=Model!$K118122)*(Data!$C$17:$K$19))","v":1.06},161.01691553103063,{"$f":"_xlfn.IFS(M118122>70,\"Serviceable\",M118122>30, \"Limited Life\",M118122<=30, \"Unserviceable\")","v":"Serviceable"}]
[null,440095,2019,"CCA Treated Pole","Serviceable","Class 2",2020,162.49719689682513,162.49719689682513,5,{"$f":"INDEX(Lists!$B$32:$B$40, MATCH(2020-C118161, Lists!$C$32:$C$40,1))","v":"0-20"},{"$f":"SUMPRODUCT((Data!$B$17:$B$19=Model!$F118161)*(Data!$C$16:$K$16=Model!$K118161)*(Data!$C$17:$K$19))","v":1.22},156.39719689682514,{"$f":"_xlfn.IFS(M118161>70,\"Serviceable\",M118161>30, \"Limited Life\",M118161<=30, \"Unserviceable\")","v":"Serviceable"}]
[null,285,1962,"Wood Creos Impregnated","Serviceable","Class 3",2017,100,91.81,8,{"$f":"INDEX(Lists!$B$32:$B$40, MATCH(2020-C118275, Lists!$C$32:$C$40,1))","v":"51-60"},{"$f":"SUMPRODUCT((Data!$B$17:$B$19=Model!$F118275)*(Data!$C$16:$K$16=Model!$K118275)*(Data!$C$17:$K$19))","v":2.73},78.16,{"$f":"_xlfn.IFS(M118275>70,\"Serviceable\",M118275>30, \"Limited Life\",M118275<=30, \"Unserviceable\")","v":"Serviceable"}]
[null,744,2014,"Wood Creos Impregnated","Limited Life","Class 3",2018,70,67.260000000000005,7,{"$f":"INDEX(Lists!$B$32:$B$40, MATCH(2020-C118323, Lists!$C$32:$C$40,1))","v":"0-20"},{"$f":"SUMPRODUCT((Data!$B$17:$B$19=Model!$F118323)*(Data!$C$16:$K$16=Model!$K118323)*(Data!$C$17:$K$19))","v":1.37},60.41,{"$f":"_xlfn.IFS(M118323>70,\"Serviceable\",M118323>30, \"Limited Life\",M118323<=30, \"Unserviceable\")","v":"Limited Life"}]
[null,1444,1938,"Wood Untreated Dressed","Serviceable","Class 1",2018,100,94.38,7,{"$f":"INDEX(Lists!$B$32:$B$40, MATCH(2020-C118428, Lists!$C$32:$C$40,1))","v":"81-90"},{"$f":"SUMPRODUCT((Data!$B$17:$B$19=Model!$F118428)*(Data!$C$16:$K$16=Model!$K118428)*(Data!$C$17:$K$19))","v":2.81},80.33,{"$f":"_xlfn.IFS(M118428>70,\"Serviceable\",M118428>30, \"Limited Life\",M118428<=30, \"Unserviceable\")","v":"Serviceable"}]
[null,1612,1961,"Wood Creos Impregnated","Serviceable","Class 3",2020,100,100,5,{"$f":"INDEX(Lists!$B$32:$B$40, MATCH(2020-C118445, Lists!$C$32:$C$40,1))","v":"51-60"},{"$f":"SUMPRODUCT((Data!$B$17:$B$19=Model!$F118445)*(Data!$C$16:$K$16=Model!$K118445)*(Data!$C$17:$K$19))","v":2.73},86.35,{"$f":"_xlfn.IFS(M118445>70,\"Serviceable\",M118445>30, \"Limited Life\",M118445<=30, \"Unserviceable\")","v":"Serviceable"}]
[null,2279,1938,"Wood Untreated Dressed","Serviceable","Class 1",2018,100,94.38,7,{"$f":"INDEX(Lists!$B$32:$B$40, MATCH(2020-C118532, Lists!$C$32:$C$40,1))","v":"81-90"},{"$f":"SUMPRODUCT((Data!$B$17:$B$19=Model!$F118532)*(Data!$C$16:$K$16=Model!$K118532)*(Data!$C$17:$K$19))","v":2.81},80.33,{"$f":"_xlfn.IFS(M118532>70,\"Serviceable\",M118532>30, \"Limited Life\",M118532<=30, \"Unserviceable\")","v":"Serviceable"}]
[null,2904,1969,"Wood Creos Impregnated","Serviceable","Class 2",2017,100,92.29,8,{"$f":"INDEX(Lists!$B$32:$B$40, MATCH(2020-C118598, Lists!$C$32:$C$40,1))","v":"51-60"},{"$f":"SUMPRODUCT((Data!$B$17:$B$19=Model!$F118598)*(Data!$C$16:$K$16=Model!$K118598)*(Data!$C$17:$K$19))","v":2.57},79.44,{"$f":"_xlfn.IFS(M118598>70,\"Serviceable\",M118598>30, \"Limited Life\",M118598<=30, \"Unserviceable\")","v":"Serviceable"}]
[null,3566,1934,"Wood Untreated Dressed","Serviceable","Class 1",2017,100,91.57,8,{"$f":"INDEX(Lists!$B$32:$B$40, MATCH(2020-C118683, Lists!$C$32:$C$40,1))","v":"81-90"},{"$f":"SUMPRODUCT((Data!$B$17:$B$19=Model!$F118683)*(Data!$C$16:$K$16=Model!$K118683)*(Data!$C$17:$K$19))","v":2.81},77.52,{"$f":"_xlfn.IFS(M118683>70,\"Serviceable\",M118683>30, \"Limited Life\",M118683<=30, \"Unserviceable\")","v":"Serviceable"}]
[null,3732,2014,"Wood Creos Impregnated","Serviceable","Class 3",2019,100,98.63,6,{"$f":"INDEX(Lists!$B$32:$B$40, MATCH(2020-C118708, Lists!$C$32:$C$40,1))","v":"0-20"},{"$f":"SUMPRODUCT((Data!$B$17:$B$19=Model!$F118708)*(Data!$C$16:$K$16=Model!$K118708)*(Data!$C$17:$K$19))","v":1.37},91.78,{"$f":"_xlfn.IFS(M118708>70,\"Serviceable\",M118708>30, \"Limited Life\",M118708<=30, \"Unserviceable\")","v":"Serviceable"}]
[null,4326,1966,"Wood Creos Impregnated","Serviceable","Class 3",2019,120,117.27,6,{"$f":"INDEX(Lists!$B$32:$B$40, MATCH(2020-C118768, Lists!$C$32:$C$40,1))","v":"51-60"},{"$f":"SUMPRODUCT((Data!$B$17:$B$19=Model!$F118768)*(Data!$C$16:$K$16=Model!$K118768)*(Data!$C$17:$K$19))","v":2.73},103.62,{"$f":"_xlfn.IFS(M118768>70,\"Serviceable\",M118768>30, \"Limited Life\",M118768<=30, \"Unserviceable\")","v":"Serviceable"}]
[null,4817,1991,"Wood Creos Impregnated","Serviceable","Class 3",2019,90,88.16,6,{"$f":"INDEX(Lists!$B$32:$B$40, MATCH(2020-C118836, Lists!$C$32:$C$40,1))","v":"21-30"},{"$f":"SUMPRODUCT((Data!$B$17:$B$19=Model!$F118836)*(Data!$C$16:$K$16=Model!$K118836)*(Data!$C$17:$K$19))","v":1.84},78.959999999999994,{"$f":"_xlfn.IFS(M118836>70,\"Serviceable\",M118836>30, \"Limited Life\",M118836<=30, \"Unserviceable\")","v":"Serviceable"}]
[null,6099,1974,"Wood Creos Impregnated","Serviceable","Class 3",2017,90,78.66,8,{"$f":"INDEX(Lists!$B$32:$B$40, MATCH(2020-C118921, Lists!$C$32:$C$40,1))","v":"41-50"},{"$f":"SUMPRODUCT((Data!$B$17:$B$19=Model!$F118921)*(Data!$C$16:$K$16=Model!$K118921)*(Data!$C$17:$K$19))","v":3.78},59.760000000000005,{"$f":"_xlfn.IFS(M118921>70,\"Serviceable\",M118921>30, \"Limited Life\",M118921<=30, \"Unserviceable\")","v":"Limited Life"}]
[null,6722,1996,"Wood Untreated Dressed","Serviceable","Class 1",2015,100,90.2,10,{"$f":"INDEX(Lists!$B$32:$B$40, MATCH(2020-C119006, Lists!$C$32:$C$40,1))","v":"21-30"},{"$f":"SUMPRODUCT((Data!$B$17:$B$19=Model!$F119006)*(Data!$C$16:$K$16=Model!$K119006)*(Data!$C$17:$K$19))","v":1.96},80.400000000000006,{"$f":"_xlfn.IFS(M119006>70,\"Serviceable\",M119006>30, \"Limited Life\",M119006<=30, \"Unserviceable\")","v":"Serviceable"}]
[null,7351,1990,"Wood Creos Impregnated","Limited Life","Class 3",2020,40,40,5,{"$f":"INDEX(Lists!$B$32:$B$40, MATCH(2020-C119079, Lists!$C$32:$C$40,1))","v":"21-30"},{"$f":"SUMPRODUCT((Data!$B$17:$B$19=Model!$F119079)*(Data!$C$16:$K$16=Model!$K119079)*(Data!$C$17:$K$19))","v":1.84},30.799999999999997,{"$f":"_xlfn.IFS(M119079>70,\"Serviceable\",M119079>30, \"Limited Life\",M119079<=30, \"Unserviceable\")","v":"Limited Life"}]
[null,7917,1966,"Wood Creos Impregnated","Serviceable","Class 3",2020,100,100,5,{"$f":"INDEX(Lists!$B$32:$B$40, MATCH(2020-C119159, Lists!$C$32:$C$40,1))","v":"51-60"},{"$f":"SUMPRODUCT((Data!$B$17:$B$19=Model!$F119159)*(Data!$C$16:$K$16=Model!$K119159)*(Data!$C$17:$K$19))","v":2.73},86.35,{"$f":"_xlfn.IFS(M119159>70,\"Serviceable\",M119159>30, \"Limited Life\",M119159<=30, \"Unserviceable\")","v":"Serviceable"}]
[null,7993,1990,"Wood Creos Impregnated","Limited Life","Class 3",2020,50,50,5,{"$f":"INDEX(Lists!$B$32:$B$40, MATCH(2020-C119174, Lists!$C$32:$C$40,1))","v":"21-30"},{"$f":"SUMPRODUCT((Data!$B$17:$B$19=Model!$F119174)*(Data!$C$16:$K$16=Model!$K119174)*(Data!$C$17:$K$19))","v":1.84},40.799999999999997,{"$f":"_xlfn.IFS(M119174>70,\"Serviceable\",M119174>30, \"Limited Life\",M119174<=30, \"Unserviceable\")","v":"Limited Life"}]
[null,8524,1997,"Wood Untreated Dressed","Serviceable","Class 1",2020,130,130,5,{"$f":"INDEX(Lists!$B$32:$B$40, MATCH(2020-C119244, Lists!$C$32:$C$40,1))","v":"21-30"},{"$f":"SUMPRODUCT((Data!$B$17:$B$19=Model!$F119244)*(Data!$C$16:$K$16=Model!$K119244)*(Data!$C$17:$K$19))","v":1.96},120.2,{"$f":"_xlfn.IFS(M119244>70,\"Serviceable\",M119244>30, \"Limited Life\",M119244<=30, \"Unserviceable\")","v":"Serviceable"}]
[null,9173,1993,"Wood Creos Impregnated","Limited Life","Class 3",2020,35,35,5,{"$f":"INDEX(Lists!$B$32:$B$40, MATCH(2020-C119329, Lists!$C$32:$C$40,1))","v":"21-30"},{"$f":"SUMPRODUCT((Data!$B$17:$B$19=Model!$F119329)*(Data!$C$16:$K$16=Model!$K119329)*(Data!$C$17:$K$19))","v":1.84},25.799999999999997,{"$f":"_xlfn.IFS(M119329>70,\"Serviceable\",M119329>30, \"Limited Life\",M119329<=30, \"Unserviceable\")","v":"Unserviceable"}]
[null,9745,1962,"Wood Creos Impregnated","Serviceable","Class 3",2020,100,100,5,{"$f":"INDEX(Lists!$B$32:$B$40, MATCH(2020-C119383, Lists!$C$32:$C$40,1))","v":"51-60"},{"$f":"SUMPRODUCT((Data!$B$17:$B$19=Model!$F119383)*(Data!$C$16:$K$16=Model!$K119383)*(Data!$C$17:$K$19))","v":2.73},86.35,{"$f":"_xlfn.IFS(M119383>70,\"Serviceable\",M119383>30, \"Limited Life\",M119383<=30, \"Unserviceable\")","v":"Serviceable"}]
[null,10685,2007,"Wood Creos Impregnated","Serviceable","Class 3",2017,90,85.89,8,{"$f":"INDEX(Lists!$B$32:$B$40, MATCH(2020-C119482, Lists!$C$32:$C$40,1))","v":"0-20"},{"$f":"SUMPRODUCT((Data!$B$17:$B$19=Model!$F119482)*(Data!$C$16:$K$16=Model!$K119482)*(Data!$C$17:$K$19))","v":1.37},79.039999999999992,{"$f":"_xlfn.IFS(M119482>70,\"Serviceable\",M119482>30, \"Limited Life\",M119482<=30, \"Unserviceable\")","v":"Serviceable"}]
[null,11403,2009,"Wood Untreated Round","Serviceable","Class 2",2019,90,88.78,6,{"$f":"INDEX(Lists!$B$32:$B$40, MATCH(2020-C119567, Lists!$C$32:$C$40,1))","v":"0-20"},{"$f":"SUMPRODUCT((Data!$B$17:$B$19=Model!$F119567)*(Data!$C$16:$K$16=Model!$K119567)*(Data!$C$17:$K$19))","v":1.22},82.68,{"$f":"_xlfn.IFS(M119567>70,\"Serviceable\",M119567>30, \"Limited Life\",M119567<=30, \"Unserviceable\")","v":"Serviceable"}]
[null,11783,1992,"Wood Untreated Round","Serviceable","Class 2",2018,100,96.22,7,{"$f":"INDEX(Lists!$B$32:$B$40, MATCH(2020-C119626, Lists!$C$32:$C$40,1))","v":"21-30"},{"$f":"SUMPRODUCT((Data!$B$17:$B$19=Model!$F119626)*(Data!$C$16:$K$16=Model!$K119626)*(Data!$C$17:$K$19))","v":1.89},86.77,{"$f":"_xlfn.IFS(M119626>70,\"Serviceable\",M119626>30, \"Limited Life\",M119626<=30, \"Unserviceable\")","v":"Serviceable"}]
[null,12002,1960,"Wood Creos Impregnated","Serviceable","Class 3",2019,100,97.27,6,{"$f":"INDEX(Lists!$B$32:$B$40, MATCH(2020-C119652, Lists!$C$32:$C$40,1))","v":"51-60"},{"$f":"SUMPRODUCT((Data!$B$17:$B$19=Model!$F119652)*(Data!$C$16:$K$16=Model!$K119652)*(Data!$C$17:$K$19))","v":2.73},83.62,{"$f":"_xlfn.IFS(M119652>70,\"Serviceable\",M119652>30, \"Limited Life\",M119652<=30, \"Unserviceable\")","v":"Serviceable"}]
[null,12994,2012,"Wood Untreated Dressed","Serviceable","Class 1",2016,100,95.76,9,{"$f":"INDEX(Lists!$B$32:$B$40, MATCH(2020-C119754, Lists!$C$32:$C$40,1))","v":"0-20"},{"$f":"SUMPRODUCT((Data!$B$17:$B$19=Model!$F119754)*(Data!$C$16:$K$16=Model!$K119754)*(Data!$C$17:$K$19))","v":1.06},90.46,{"$f":"_xlfn.IFS(M119754>70,\"Serviceable\",M119754>30, \"Limited Life\",M119754<=30, \"Unserviceable\")","v":"Serviceable"}]
[null,13481,2001,"Wood Creos Impregnated","Serviceable","Class 3",2020,100,100,5,{"$f":"INDEX(Lists!$B$32:$B$40, MATCH(2020-C119805, Lists!$C$32:$C$40,1))","v":"0-20"},{"$f":"SUMPRODUCT((Data!$B$17:$B$19=Model!$F119805)*(Data!$C$16:$K$16=Model!$K119805)*(Data!$C$17:$K$19))","v":1.37},93.15,{"$f":"_xlfn.IFS(M119805>70,\"Serviceable\",M119805>30, \"Limited Life\",M119805<=30, \"Unserviceable\")","v":"Serviceable"}]
[null,14161,1974,"Wood Untreated Dressed","Serviceable","Class 1",2015,100,91.25,10,{"$f":"INDEX(Lists!$B$32:$B$40, MATCH(2020-C119890, Lists!$C$32:$C$40,1))","v":"41-50"},{"$f":"SUMPRODUCT((Data!$B$17:$B$19=Model!$F119890)*(Data!$C$16:$K$16=Model!$K119890)*(Data!$C$17:$K$19))","v":1.75},82.5,{"$f":"_xlfn.IFS(M119890>70,\"Serviceable\",M119890>30, \"Limited Life\",M119890<=30, \"Unserviceable\")","v":"Serviceable"}]
[null,14435,2002,"Wood Untreated Dressed","Serviceable","Class 1",2016,100,95.76,9,{"$f":"INDEX(Lists!$B$32:$B$40, MATCH(2020-C119930, Lists!$C$32:$C$40,1))","v":"0-20"},{"$f":"SUMPRODUCT((Data!$B$17:$B$19=Model!$F119930)*(Data!$C$16:$K$16=Model!$K119930)*(Data!$C$17:$K$19))","v":1.06},90.46,{"$f":"_xlfn.IFS(M119930>70,\"Serviceable\",M119930>30, \"Limited Life\",M119930<=30, \"Unserviceable\")","v":"Serviceable"}]
[null,15427,1989,"Wood Creos Impregnated","Serviceable","Class 3",2018,100,93.56,7,{"$f":"INDEX(Lists!$B$32:$B$40, MATCH(2020-C120043, Lists!$C$32:$C$40,1))","v":"31-40"},{"$f":"SUMPRODUCT((Data!$B$17:$B$19=Model!$F120043)*(Data!$C$16:$K$16=Model!$K120043)*(Data!$C$17:$K$19))","v":3.22},77.459999999999994,{"$f":"_xlfn.IFS(M120043>70,\"Serviceable\",M120043>30, \"Limited Life\",M120043<=30, \"Unserviceable\")","v":"Serviceable"}]
[null,15742,2009,"Wood Creos Impregnated","Serviceable","Class 3",2019,100,98.63,6,{"$f":"INDEX(Lists!$B$32:$B$40, MATCH(2020-C120092, Lists!$C$32:$C$40,1))","v":"0-20"},{"$f":"SUMPRODUCT((Data!$B$17:$B$19=Model!$F120092)*(Data!$C$16:$K$16=Model!$K120092)*(Data!$C$17:$K$19))","v":1.37},91.78,{"$f":"_xlfn.IFS(M120092>70,\"Serviceable\",M120092>30, \"Limited Life\",M120092<=30, \"Unserviceable\")","v":"Serviceable"}]
[null,16057,1989,"CCA Treated Pole","Unserviceable","Class 2",2017,0,0,8,{"$f":"INDEX(Lists!$B$32:$B$40, MATCH(2020-C120128, Lists!$C$32:$C$40,1))","v":"31-40"},{"$f":"SUMPRODUCT((Data!$B$17:$B$19=Model!$F120128)*(Data!$C$16:$K$16=Model!$K120128)*(Data!$C$17:$K$19))","v":2.33},0,{"$f":"_xlfn.IFS(M120128>70,\"Serviceable\",M120128>30, \"Limited Life\",M120128<=30, \"Unserviceable\")","v":"Unserviceable"}]
[null,16697,1990,"Wood Creos Impregnated","Serviceable","Class 3",2018,90,86.32,7,{"$f":"INDEX(Lists!$B$32:$B$40, MATCH(2020-C120213, Lists!$C$32:$C$40,1))","v":"21-30"},{"$f":"SUMPRODUCT((Data!$B$17:$B$19=Model!$F120213)*(Data!$C$16:$K$16=Model!$K120213)*(Data!$C$17:$K$19))","v":1.84},77.12,{"$f":"_xlfn.IFS(M120213>70,\"Serviceable\",M120213>30, \"Limited Life\",M120213<=30, \"Unserviceable\")","v":"Serviceable"}]
[null,17368,1966,"Wood Creos Impregnated","Serviceable","Class 3",2017,90,81.81,8,{"$f":"INDEX(Lists!$B$32:$B$40, MATCH(2020-C120301, Lists!$C$32:$C$40,1))","v":"51-60"},{"$f":"SUMPRODUCT((Data!$B$17:$B$19=Model!$F120301)*(Data!$C$16:$K$16=Model!$K120301)*(Data!$C$17:$K$19))","v":2.73},68.16,{"$f":"_xlfn.IFS(M120301>70,\"Serviceable\",M120301>30, \"Limited Life\",M120301<=30, \"Unserviceable\")","v":"Limited Life"}]
[null,18430,2013,"Wood Untreated Dressed","Serviceable","Class 1",2018,90,87.88,7,{"$f":"INDEX(Lists!$B$32:$B$40, MATCH(2020-C120366, Lists!$C$32:$C$40,1))","v":"0-20"},{"$f":"SUMPRODUCT((Data!$B$17:$B$19=Model!$F120366)*(Data!$C$16:$K$16=Model!$K120366)*(Data!$C$17:$K$19))","v":1.06},82.58,{"$f":"_xlfn.IFS(M120366>70,\"Serviceable\",M120366>30, \"Limited Life\",M120366<=30, \"Unserviceable\")","v":"Serviceable"}]
[null,18769,2012,"Wood Untreated Round","Serviceable","Class 1",2019,100,98.94,6,{"$f":"INDEX(Lists!$B$32:$B$40, MATCH(2020-C120396, Lists!$C$32:$C$40,1))","v":"0-20"},{"$f":"SUMPRODUCT((Data!$B$17:$B$19=Model!$F120396)*(Data!$C$16:$K$16=Model!$K120396)*(Data!$C$17:$K$19))","v":1.06},93.64,{"$f":"_xlfn.IFS(M120396>70,\"Serviceable\",M120396>30, \"Limited Life\",M120396<=30, \"Unserviceable\")","v":"Serviceable"}]
[null,20268,1998,"Wood Untreated Dressed","Serviceable","Class 1",2018,99,95.08,7,{"$f":"INDEX(Lists!$B$32:$B$40, MATCH(2020-C120519, Lists!$C$32:$C$40,1))","v":"21-30"},{"$f":"SUMPRODUCT((Data!$B$17:$B$19=Model!$F120519)*(Data!$C$16:$K$16=Model!$K120519)*(Data!$C$17:$K$19))","v":1.96},85.28,{"$f":"_xlfn.IFS(M120519>70,\"Serviceable\",M120519>30, \"Limited Life\",M120519<=30, \"Unserviceable\")","v":"Serviceable"}]
[null,20450,1993,"Wood Creos Impregnated","Serviceable","Class 3",2016,100,92.64,9,{"$f":"INDEX(Lists!$B$32:$B$40, MATCH(2020-C120536, Lists!$C$32:$C$40,1))","v":"21-30"},{"$f":"SUMPRODUCT((Data!$B$17:$B$19=Model!$F120536)*(Data!$C$16:$K$16=Model!$K120536)*(Data!$C$17:$K$19))","v":1.84},83.44,{"$f":"_xlfn.IFS(M120536>70,\"Serviceable\",M120536>30, \"Limited Life\",M120536<=30, \"Unserviceable\")","v":"Serviceable"}]
[null,21973,1989,"Wood Creos Impregnated","Serviceable","Class 3",2018,100,93.56,7,{"$f":"INDEX(Lists!$B$32:$B$40, MATCH(2020-C120639, Lists!$C$32:$C$40,1))","v":"31-40"},{"$f":"SUMPRODUCT((Data!$B$17:$B$19=Model!$F120639)*(Data!$C$16:$K$16=Model!$K120639)*(Data!$C$17:$K$19))","v":3.22},77.459999999999994,{"$f":"_xlfn.IFS(M120639>70,\"Serviceable\",M120639>30, \"Limited Life\",M120639<=30, \"Unserviceable\")","v":"Serviceable"}]
[null,22312,1993,"Wood Creos Impregnated","Serviceable","Class 3",2016,100,92.64,9,{"$f":"INDEX(Lists!$B$32:$B$40, MATCH(2020-C120689, Lists!$C$32:$C$40,1))","v":"21-30"},{"$f":"SUMPRODUCT((Data!$B$17:$B$19=Model!$F120689)*(Data!$C$16:$K$16=Model!$K120689)*(Data!$C$17:$K$19))","v":1.84},83.44,{"$f":"_xlfn.IFS(M120689>70,\"Serviceable\",M120689>30, \"Limited Life\",M120689<=30, \"Unserviceable\")","v":"Serviceable"}]
[null,22997,2013,"Wood Untreated Dressed","Serviceable","Class 1",2019,100,98.94,6,{"$f":"INDEX(Lists!$B$32:$B$40, MATCH(2020-C120774, Lists!$C$32:$C$40,1))","v":"0-20"},{"$f":"SUMPRODUCT((Data!$B$17:$B$19=Model!$F120774)*(Data!$C$16:$K$16=Model!$K120774)*(Data!$C$17:$K$19))","v":1.06},93.64,{"$f":"_xlfn.IFS(M120774>70,\"Serviceable\",M120774>30, \"Limited Life\",M120774<=30, \"Unserviceable\")","v":"Serviceable"}]
[null,23619,1993,"Wood Creos Impregnated","Serviceable","Class 3",2017,100,94.48,8,{"$f":"INDEX(Lists!$B$32:$B$40, MATCH(2020-C120848, Lists!$C$32:$C$40,1))","v":"21-30"},{"$f":"SUMPRODUCT((Data!$B$17:$B$19=Model!$F120848)*(Data!$C$16:$K$16=Model!$K120848)*(Data!$C$17:$K$19))","v":1.84},85.28,{"$f":"_xlfn.IFS(M120848>70,\"Serviceable\",M120848>30, \"Limited Life\",M120848<=30, \"Unserviceable\")","v":"Serviceable"}]
[null,24228,1949,"Wood Untreated Round","Serviceable","Class 1",2019,100,97.85,6,{"$f":"INDEX(Lists!$B$32:$B$40, MATCH(2020-C120927, Lists!$C$32:$C$40,1))","v":"71-80"},{"$f":"SUMPRODUCT((Data!$B$17:$B$19=Model!$F120927)*(Data!$C$16:$K$16=Model!$K120927)*(Data!$C$17:$K$19))","v":2.15},87.1,{"$f":"_xlfn.IFS(M120927>70,\"Serviceable\",M120927>30, \"Limited Life\",M120927<=30, \"Unserviceable\")","v":"Serviceable"}]
[null,24374,1993,"Wood Creos Impregnated","Serviceable","Class 3",2019,90,88.16,6,{"$f":"INDEX(Lists!$B$32:$B$40, MATCH(2020-C120943, Lists!$C$32:$C$40,1))","v":"21-30"},{"$f":"SUMPRODUCT((Data!$B$17:$B$19=Model!$F120943)*(Data!$C$16:$K$16=Model!$K120943)*(Data!$C$17:$K$19))","v":1.84},78.959999999999994,{"$f":"_xlfn.IFS(M120943>70,\"Serviceable\",M120943>30, \"Limited Life\",M120943<=30, \"Unserviceable\")","v":"Serviceable"}]
[null,25192,1989,"Wood Creos Impregnated","Serviceable","Class 3",2018,100,93.56,7,{"$f":"INDEX(Lists!$B$32:$B$40, MATCH(2020-C121012, Lists!$C$32:$C$40,1))","v":"31-40"},{"$f":"SUMPRODUCT((Data!$B$17:$B$19=Model!$F121012)*(Data!$C$16:$K$16=Model!$K121012)*(Data!$C$17:$K$19))","v":3.22},77.459999999999994,{"$f":"_xlfn.IFS(M121012>70,\"Serviceable\",M121012>30, \"Limited Life\",M121012<=30, \"Unserviceable\")","v":"Serviceable"}]
[null,25773,1993,"Wood Creos Impregnated","Serviceable","Class 3",2019,100,98.16,6,{"$f":"INDEX(Lists!$B$32:$B$40, MATCH(2020-C121097, Lists!$C$32:$C$40,1))","v":"21-30"},{"$f":"SUMPRODUCT((Data!$B$17:$B$19=Model!$F121097)*(Data!$C$16:$K$16=Model!$K121097)*(Data!$C$17:$K$19))","v":1.84},88.96,{"$f":"_xlfn.IFS(M121097>70,\"Serviceable\",M121097>30, \"Limited Life\",M121097<=30, \"Unserviceable\")","v":"Serviceable"}]
[null,26116,1970,"Wood Creos Impregnated","Serviceable","Class 3",2019,110,106.22,6,{"$f":"INDEX(Lists!$B$32:$B$40, MATCH(2020-C121152, Lists!$C$32:$C$40,1))","v":"41-50"},{"$f":"SUMPRODUCT((Data!$B$17:$B$19=Model!$F121152)*(Data!$C$16:$K$16=Model!$K121152)*(Data!$C$17:$K$19))","v":3.78},87.32,{"$f":"_xlfn.IFS(M121152>70,\"Serviceable\",M121152>30, \"Limited Life\",M121152<=30, \"Unserviceable\")","v":"Serviceable"}]
[null,26717,1970,"Wood Creos Impregnated","Serviceable","Class 3",2016,100,84.88,9,{"$f":"INDEX(Lists!$B$32:$B$40, MATCH(2020-C121250, Lists!$C$32:$C$40,1))","v":"41-50"},{"$f":"SUMPRODUCT((Data!$B$17:$B$19=Model!$F121250)*(Data!$C$16:$K$16=Model!$K121250)*(Data!$C$17:$K$19))","v":3.78},65.98,{"$f":"_xlfn.IFS(M121250>70,\"Serviceable\",M121250>30, \"Limited Life\",M121250<=30, \"Unserviceable\")","v":"Limited Life"}]
[null,27223,2002,"Wood Creos Impregnated","Serviceable","Class 3",2017,100,95.89,8,{"$f":"INDEX(Lists!$B$32:$B$40, MATCH(2020-C121314, Lists!$C$32:$C$40,1))","v":"0-20"},{"$f":"SUMPRODUCT((Data!$B$17:$B$19=Model!$F121314)*(Data!$C$16:$K$16=Model!$K121314)*(Data!$C$17:$K$19))","v":1.37},89.039999999999992,{"$f":"_xlfn.IFS(M121314>70,\"Serviceable\",M121314>30, \"Limited Life\",M121314<=30, \"Unserviceable\")","v":"Serviceable"}]
[null,27843,1963,"Wood Creos Impregnated","Serviceable","Class 3",2018,80,74.540000000000006,7,{"$f":"INDEX(Lists!$B$32:$B$40, MATCH(2020-C121403, Lists!$C$32:$C$40,1))","v":"51-60"},{"$f":"SUMPRODUCT((Data!$B$17:$B$19=Model!$F121403)*(Data!$C$16:$K$16=Model!$K121403)*(Data!$C$17:$K$19))","v":2.73},60.89,{"$f":"_xlfn.IFS(M121403>70,\"Serviceable\",M121403>30, \"Limited Life\",M121403<=30, \"Unserviceable\")","v":"Limited Life"}]
[null,28020,1989,"Wood Untreated Round","Serviceable","Class 2",2018,100,95.34,7,{"$f":"INDEX(Lists!$B$32:$B$40, MATCH(2020-C121420, Lists!$C$32:$C$40,1))","v":"31-40"},{"$f":"SUMPRODUCT((Data!$B$17:$B$19=Model!$F121420)*(Data!$C$16:$K$16=Model!$K121420)*(Data!$C$17:$K$19))","v":2.33},83.69,{"$f":"_xlfn.IFS(M121420>70,\"Serviceable\",M121420>30, \"Limited Life\",M121420<=30, \"Unserviceable\")","v":"Serviceable"}]
[null,28546,1989,"Wood Creos Impregnated","Serviceable","Class 3",2018,100,93.56,7,{"$f":"INDEX(Lists!$B$32:$B$40, MATCH(2020-C121490, Lists!$C$32:$C$40,1))","v":"31-40"},{"$f":"SUMPRODUCT((Data!$B$17:$B$19=Model!$F121490)*(Data!$C$16:$K$16=Model!$K121490)*(Data!$C$17:$K$19))","v":3.22},77.459999999999994,{"$f":"_xlfn.IFS(M121490>70,\"Serviceable\",M121490>30, \"Limited Life\",M121490<=30, \"Unserviceable\")","v":"Serviceable"}]
[null,29082,1967,"Wood Creos Impregnated","Serviceable","Class 3",2017,100,91.81,8,{"$f":"INDEX(Lists!$B$32:$B$40, MATCH(2020-C121573, Lists!$C$32:$C$40,1))","v":"51-60"},{"$f":"SUMPRODUCT((Data!$B$17:$B$19=Model!$F121573)*(Data!$C$16:$K$16=Model!$K121573)*(Data!$C$17:$K$19))","v":2.73},78.16,{"$f":"_xlfn.IFS(M121573>70,\"Serviceable\",M121573>30, \"Limited Life\",M121573<=30, \"Unserviceable\")","v":"Serviceable"}]
[null,29797,1992,"Wood Creos Impregnated","Serviceable","Class 3",2017,110,104.48,8,{"$f":"INDEX(Lists!$B$32:$B$40, MATCH(2020-C121658, Lists!$C$32:$C$40,1))","v":"21-30"},{"$f":"SUMPRODUCT((Data!$B$17:$B$19=Model!$F121658)*(Data!$C$16:$K$16=Model!$K121658)*(Data!$C$17:$K$19))","v":1.84},95.28,{"$f":"_xlfn.IFS(M121658>70,\"Serviceable\",M121658>30, \"Limited Life\",M121658<=30, \"Unserviceable\")","v":"Serviceable"}]
[null,30160,1993,"Wood Creos Impregnated","Serviceable","Class 3",2019,100,98.16,6,{"$f":"INDEX(Lists!$B$32:$B$40, MATCH(2020-C121699, Lists!$C$32:$C$40,1))","v":"21-30"},{"$f":"SUMPRODUCT((Data!$B$17:$B$19=Model!$F121699)*(Data!$C$16:$K$16=Model!$K121699)*(Data!$C$17:$K$19))","v":1.84},88.96,{"$f":"_xlfn.IFS(M121699>70,\"Serviceable\",M121699>30, \"Limited Life\",M121699<=30, \"Unserviceable\")","v":"Serviceable"}]
[null,30485,2006,"Wood Creos Impregnated","Serviceable","Class 3",2019,100,98.63,6,{"$f":"INDEX(Lists!$B$32:$B$40, MATCH(2020-C121743, Lists!$C$32:$C$40,1))","v":"0-20"},{"$f":"SUMPRODUCT((Data!$B$17:$B$19=Model!$F121743)*(Data!$C$16:$K$16=Model!$K121743)*(Data!$C$17:$K$19))","v":1.37},91.78,{"$f":"_xlfn.IFS(M121743>70,\"Serviceable\",M121743>30, \"Limited Life\",M121743<=30, \"Unserviceable\")","v":"Serviceable"}]
[null,31612,2014,"Wood Creos Impregnated","Serviceable","Class 3",2018,100,97.26,7,{"$f":"INDEX(Lists!$B$32:$B$40, MATCH(2020-C121861, Lists!$C$32:$C$40,1))","v":"0-20"},{"$f":"SUMPRODUCT((Data!$B$17:$B$19=Model!$F121861)*(Data!$C$16:$K$16=Model!$K121861)*(Data!$C$17:$K$19))","v":1.37},90.41,{"$f":"_xlfn.IFS(M121861>70,\"Serviceable\",M121861>30, \"Limited Life\",M121861<=30, \"Unserviceable\")","v":"Serviceable"}]
[null,31980,2014,"Wood Untreated Round","Serviceable","Class 2",2018,100,97.56,7,{"$f":"INDEX(Lists!$B$32:$B$40, MATCH(2020-C121896, Lists!$C$32:$C$40,1))","v":"0-20"},{"$f":"SUMPRODUCT((Data!$B$17:$B$19=Model!$F121896)*(Data!$C$16:$K$16=Model!$K121896)*(Data!$C$17:$K$19))","v":1.22},91.460000000000008,{"$f":"_xlfn.IFS(M121896>70,\"Serviceable\",M121896>30, \"Limited Life\",M121896<=30, \"Unserviceable\")","v":"Serviceable"}]
[null,32799,1959,"Wood Creos Impregnated","Serviceable","Class 3",2018,90,85.96,7,{"$f":"INDEX(Lists!$B$32:$B$40, MATCH(2020-C121981, Lists!$C$32:$C$40,1))","v":"61-70"},{"$f":"SUMPRODUCT((Data!$B$17:$B$19=Model!$F121981)*(Data!$C$16:$K$16=Model!$K121981)*(Data!$C$17:$K$19))","v":2.02},75.86,{"$f":"_xlfn.IFS(M121981>70,\"Serviceable\",M121981>30, \"Limited Life\",M121981<=30, \"Unserviceable\")","v":"Serviceable"}]
[null,33502,1999,"Wood Creos Impregnated","Serviceable","Class 3",2017,100,94.48,8,{"$f":"INDEX(Lists!$B$32:$B$40, MATCH(2020-C122037, Lists!$C$32:$C$40,1))","v":"21-30"},{"$f":"SUMPRODUCT((Data!$B$17:$B$19=Model!$F122037)*(Data!$C$16:$K$16=Model!$K122037)*(Data!$C$17:$K$19))","v":1.84},85.28,{"$f":"_xlfn.IFS(M122037>70,\"Serviceable\",M122037>30, \"Limited Life\",M122037<=30, \"Unserviceable\")","v":"Serviceable"}]
[null,34668,1967,"Wood Creos Impregnated","Serviceable","Class 3",2020,80,80,5,{"$f":"INDEX(Lists!$B$32:$B$40, MATCH(2020-C122134, Lists!$C$32:$C$40,1))","v":"51-60"},{"$f":"SUMPRODUCT((Data!$B$17:$B$19=Model!$F122134)*(Data!$C$16:$K$16=Model!$K122134)*(Data!$C$17:$K$19))","v":2.73},66.349999999999994,{"$f":"_xlfn.IFS(M122134>70,\"Serviceable\",M122134>30, \"Limited Life\",M122134<=30, \"Unserviceable\")","v":"Limited Life"}]
[null,35070,1971,"Wood Creos Impregnated","Serviceable","Class 2",2020,90,90,5,{"$f":"INDEX(Lists!$B$32:$B$40, MATCH(2020-C122165, Lists!$C$32:$C$40,1))","v":"41-50"},{"$f":"SUMPRODUCT((Data!$B$17:$B$19=Model!$F122165)*(Data!$C$16:$K$16=Model!$K122165)*(Data!$C$17:$K$19))","v":3.28},73.599999999999994,{"$f":"_xlfn.IFS(M122165>70,\"Serviceable\",M122165>30, \"Limited Life\",M122165<=30, \"Unserviceable\")","v":"Serviceable"}]
[null,35748,1959,"Wood Creos Impregnated","Serviceable","Class 3",2018,100,95.96,7,{"$f":"INDEX(Lists!$B$32:$B$40, MATCH(2020-C122219, Lists!$C$32:$C$40,1))","v":"61-70"},{"$f":"SUMPRODUCT((Data!$B$17:$B$19=Model!$F122219)*(Data!$C$16:$K$16=Model!$K122219)*(Data!$C$17:$K$19))","v":2.02},85.86,{"$f":"_xlfn.IFS(M122219>70,\"Serviceable\",M122219>30, \"Limited Life\",M122219<=30, \"Unserviceable\")","v":"Serviceable"}]
[null,36767,1961,"Wood Creos Impregnated","Serviceable","Class 3",2018,100,94.54,7,{"$f":"INDEX(Lists!$B$32:$B$40, MATCH(2020-C122304, Lists!$C$32:$C$40,1))","v":"51-60"},{"$f":"SUMPRODUCT((Data!$B$17:$B$19=Model!$F122304)*(Data!$C$16:$K$16=Model!$K122304)*(Data!$C$17:$K$19))","v":2.73},80.89,{"$f":"_xlfn.IFS(M122304>70,\"Serviceable\",M122304>30, \"Limited Life\",M122304<=30, \"Unserviceable\")","v":"Serviceable"}]
[null,37778,2002,"Wood Creos Impregnated","Serviceable","Class 3",2020,90,90,5,{"$f":"INDEX(Lists!$B$32:$B$40, MATCH(2020-C122408, Lists!$C$32:$C$40,1))","v":"0-20"},{"$f":"SUMPRODUCT((Data!$B$17:$B$19=Model!$F122408)*(Data!$C$16:$K$16=Model!$K122408)*(Data!$C$17:$K$19))","v":1.37},83.15,{"$f":"_xlfn.IFS(M122408>70,\"Serviceable\",M122408>30, \"Limited Life\",M122408<=30, \"Unserviceable\")","v":"Serviceable"}]
[null,38128,1995,"Wood Untreated Round","Serviceable","Class 2",2018,90,86.22,7,{"$f":"INDEX(Lists!$B$32:$B$40, MATCH(2020-C122457, Lists!$C$32:$C$40,1))","v":"21-30"},{"$f":"SUMPRODUCT((Data!$B$17:$B$19=Model!$F122457)*(Data!$C$16:$K$16=Model!$K122457)*(Data!$C$17:$K$19))","v":1.89},76.77,{"$f":"_xlfn.IFS(M122457>70,\"Serviceable\",M122457>30, \"Limited Life\",M122457<=30, \"Unserviceable\")","v":"Serviceable"}]
[null,38627,1986,"Wood Creos Impregnated","Serviceable","Class 3",2018,100,93.56,7,{"$f":"INDEX(Lists!$B$32:$B$40, MATCH(2020-C122536, Lists!$C$32:$C$40,1))","v":"31-40"},{"$f":"SUMPRODUCT((Data!$B$17:$B$19=Model!$F122536)*(Data!$C$16:$K$16=Model!$K122536)*(Data!$C$17:$K$19))","v":3.22},77.459999999999994,{"$f":"_xlfn.IFS(M122536>70,\"Serviceable\",M122536>30, \"Limited Life\",M122536<=30, \"Unserviceable\")","v":"Serviceable"}]
[null,39098,1986,"Wood Creos Impregnated","Serviceable","Class 3",2018,90,83.56,7,{"$f":"INDEX(Lists!$B$32:$B$40, MATCH(2020-C122610, Lists!$C$32:$C$40,1))","v":"31-40"},{"$f":"SUMPRODUCT((Data!$B$17:$B$19=Model!$F122610)*(Data!$C$16:$K$16=Model!$K122610)*(Data!$C$17:$K$19))","v":3.22},67.459999999999994,{"$f":"_xlfn.IFS(M122610>70,\"Serviceable\",M122610>30, \"Limited Life\",M122610<=30, \"Unserviceable\")","v":"Limited Life"}]
[null,39251,1992,"Wood Creos Impregnated","Serviceable","Class 3",2018,120,116.32,7,{"$f":"INDEX(Lists!$B$32:$B$40, MATCH(2020-C122627, Lists!$C$32:$C$40,1))","v":"21-30"},{"$f":"SUMPRODUCT((Data!$B$17:$B$19=Model!$F122627)*(Data!$C$16:$K$16=Model!$K122627)*(Data!$C$17:$K$19))","v":1.84},107.12,{"$f":"_xlfn.IFS(M122627>70,\"Serviceable\",M122627>30, \"Limited Life\",M122627<=30, \"Unserviceable\")","v":"Serviceable"}]
[null,39973,1974,"Wood Creos Impregnated","Serviceable","Class 3",2017,90,78.66,8,{"$f":"INDEX(Lists!$B$32:$B$40, MATCH(2020-C122712, Lists!$C$32:$C$40,1))","v":"41-50"},{"$f":"SUMPRODUCT((Data!$B$17:$B$19=Model!$F122712)*(Data!$C$16:$K$16=Model!$K122712)*(Data!$C$17:$K$19))","v":3.78},59.760000000000005,{"$f":"_xlfn.IFS(M122712>70,\"Serviceable\",M122712>30, \"Limited Life\",M122712<=30, \"Unserviceable\")","v":"Limited Life"}]
[null,40904,2008,"Wood Creos Impregnated","Serviceable","Class 3",2016,100,94.52,9,{"$f":"INDEX(Lists!$B$32:$B$40, MATCH(2020-C122780, Lists!$C$32:$C$40,1))","v":"0-20"},{"$f":"SUMPRODUCT((Data!$B$17:$B$19=Model!$F122780)*(Data!$C$16:$K$16=Model!$K122780)*(Data!$C$17:$K$19))","v":1.37},87.67,{"$f":"_xlfn.IFS(M122780>70,\"Serviceable\",M122780>30, \"Limited Life\",M122780<=30, \"Unserviceable\")","v":"Serviceable"}]
[null,42010,1949,"Wood Untreated Round","Serviceable","Class 1",2017,110,103.55,8,{"$f":"INDEX(Lists!$B$32:$B$40, MATCH(2020-C122865, Lists!$C$32:$C$40,1))","v":"71-80"},{"$f":"SUMPRODUCT((Data!$B$17:$B$19=Model!$F122865)*(Data!$C$16:$K$16=Model!$K122865)*(Data!$C$17:$K$19))","v":2.15},92.8,{"$f":"_xlfn.IFS(M122865>70,\"Serviceable\",M122865>30, \"Limited Life\",M122865<=30, \"Unserviceable\")","v":"Serviceable"}]
[null,42574,1990,"Wood Untreated Round","Serviceable","Class 2",2018,140,136.22,7,{"$f":"INDEX(Lists!$B$32:$B$40, MATCH(2020-C122955, Lists!$C$32:$C$40,1))","v":"21-30"},{"$f":"SUMPRODUCT((Data!$B$17:$B$19=Model!$F122955)*(Data!$C$16:$K$16=Model!$K122955)*(Data!$C$17:$K$19))","v":1.89},126.77,{"$f":"_xlfn.IFS(M122955>70,\"Serviceable\",M122955>30, \"Limited Life\",M122955<=30, \"Unserviceable\")","v":"Serviceable"}]
[null,43062,2002,"Wood Creos Impregnated","Serviceable","Class 3",2019,100,98.63,6,{"$f":"INDEX(Lists!$B$32:$B$40, MATCH(2020-C123018, Lists!$C$32:$C$40,1))","v":"0-20"},{"$f":"SUMPRODUCT((Data!$B$17:$B$19=Model!$F123018)*(Data!$C$16:$K$16=Model!$K123018)*(Data!$C$17:$K$19))","v":1.37},91.78,{"$f":"_xlfn.IFS(M123018>70,\"Serviceable\",M123018>30, \"Limited Life\",M123018<=30, \"Unserviceable\")","v":"Serviceable"}]
[null,43631,1965,"Wood Creos Impregnated","Serviceable","Class 3",2018,80,74.540000000000006,7,{"$f":"INDEX(Lists!$B$32:$B$40, MATCH(2020-C123083, Lists!$C$32:$C$40,1))","v":"51-60"},{"$f":"SUMPRODUCT((Data!$B$17:$B$19=Model!$F123083)*(Data!$C$16:$K$16=Model!$K123083)*(Data!$C$17:$K$19))","v":2.73},60.89,{"$f":"_xlfn.IFS(M123083>70,\"Serviceable\",M123083>30, \"Limited Life\",M123083<=30, \"Unserviceable\")","v":"Limited Life"}]
[null,43800,1990,"Wood Creos Impregnated","Serviceable","Class 3",2017,120,114.48,8,{"$f":"INDEX(Lists!$B$32:$B$40, MATCH(2020-C123103, Lists!$C$32:$C$40,1))","v":"21-30"},{"$f":"SUMPRODUCT((Data!$B$17:$B$19=Model!$F123103)*(Data!$C$16:$K$16=Model!$K123103)*(Data!$C$17:$K$19))","v":1.84},105.28,{"$f":"_xlfn.IFS(M123103>70,\"Serviceable\",M123103>30, \"Limited Life\",M123103<=30, \"Unserviceable\")","v":"Serviceable"}]
[null,44299,2014,"Wood Untreated Round","Serviceable","Class 1",2019,120,118.94,6,{"$f":"INDEX(Lists!$B$32:$B$40, MATCH(2020-C123188, Lists!$C$32:$C$40,1))","v":"0-20"},{"$f":"SUMPRODUCT((Data!$B$17:$B$19=Model!$F123188)*(Data!$C$16:$K$16=Model!$K123188)*(Data!$C$17:$K$19))","v":1.06},113.64,{"$f":"_xlfn.IFS(M123188>70,\"Serviceable\",M123188>30, \"Limited Life\",M123188<=30, \"Unserviceable\")","v":"Serviceable"}]
[null,44747,2014,"Wood Creos Impregnated","Serviceable","Class 3",2018,100,97.26,7,{"$f":"INDEX(Lists!$B$32:$B$40, MATCH(2020-C123259, Lists!$C$32:$C$40,1))","v":"0-20"},{"$f":"SUMPRODUCT((Data!$B$17:$B$19=Model!$F123259)*(Data!$C$16:$K$16=Model!$K123259)*(Data!$C$17:$K$19))","v":1.37},90.41,{"$f":"_xlfn.IFS(M123259>70,\"Serviceable\",M123259>30, \"Limited Life\",M123259<=30, \"Unserviceable\")","v":"Serviceable"}]
[null,45311,1965,"Wood Creos Impregnated","Serviceable","Class 3",2018,90,84.54,7,{"$f":"INDEX(Lists!$B$32:$B$40, MATCH(2020-C123341, Lists!$C$32:$C$40,1))","v":"51-60"},{"$f":"SUMPRODUCT((Data!$B$17:$B$19=Model!$F123341)*(Data!$C$16:$K$16=Model!$K123341)*(Data!$C$17:$K$19))","v":2.73},70.89,{"$f":"_xlfn.IFS(M123341>70,\"Serviceable\",M123341>30, \"Limited Life\",M123341<=30, \"Unserviceable\")","v":"Serviceable"}]
[null,45587,1995,"Wood Creos Impregnated","Serviceable","Class 3",2018,90,86.32,7,{"$f":"INDEX(Lists!$B$32:$B$40, MATCH(2020-C123387, Lists!$C$32:$C$40,1))","v":"21-30"},{"$f":"SUMPRODUCT((Data!$B$17:$B$19=Model!$F123387)*(Data!$C$16:$K$16=Model!$K123387)*(Data!$C$17:$K$19))","v":1.84},77.12,{"$f":"_xlfn.IFS(M123387>70,\"Serviceable\",M123387>30, \"Limited Life\",M123387<=30, \"Unserviceable\")","v":"Serviceable"}]
[null,46227,1970,"Wood Creos Impregnated","Serviceable","Class 2",2018,100,93.44,7,{"$f":"INDEX(Lists!$B$32:$B$40, MATCH(2020-C123494, Lists!$C$32:$C$40,1))","v":"41-50"},{"$f":"SUMPRODUCT((Data!$B$17:$B$19=Model!$F123494)*(Data!$C$16:$K$16=Model!$K123494)*(Data!$C$17:$K$19))","v":3.28},77.040000000000006,{"$f":"_xlfn.IFS(M123494>70,\"Serviceable\",M123494>30, \"Limited Life\",M123494<=30, \"Unserviceable\")","v":"Serviceable"}]
[null,46343,1991,"Wood Creos Impregnated","Serviceable","Class 3",2019,90,88.16,6,{"$f":"INDEX(Lists!$B$32:$B$40, MATCH(2020-C123511, Lists!$C$32:$C$40,1))","v":"21-30"},{"$f":"SUMPRODUCT((Data!$B$17:$B$19=Model!$F123511)*(Data!$C$16:$K$16=Model!$K123511)*(Data!$C$17:$K$19))","v":1.84},78.959999999999994,{"$f":"_xlfn.IFS(M123511>70,\"Serviceable\",M123511>30, \"Limited Life\",M123511<=30, \"Unserviceable\")","v":"Serviceable"}]
[null,46964,1989,"Wood Creos Impregnated","Serviceable","Class 3",2019,100,96.78,6,{"$f":"INDEX(Lists!$B$32:$B$40, MATCH(2020-C123630, Lists!$C$32:$C$40,1))","v":"31-40"},{"$f":"SUMPRODUCT((Data!$B$17:$B$19=Model!$F123630)*(Data!$C$16:$K$16=Model!$K123630)*(Data!$C$17:$K$19))","v":3.22},80.680000000000007,{"$f":"_xlfn.IFS(M123630>70,\"Serviceable\",M123630>30, \"Limited Life\",M123630<=30, \"Unserviceable\")","v":"Serviceable"}]
[null,47206,1989,"Wood Creos Impregnated","Serviceable","Class 3",2019,100,96.78,6,{"$f":"INDEX(Lists!$B$32:$B$40, MATCH(2020-C123664, Lists!$C$32:$C$40,1))","v":"31-40"},{"$f":"SUMPRODUCT((Data!$B$17:$B$19=Model!$F123664)*(Data!$C$16:$K$16=Model!$K123664)*(Data!$C$17:$K$19))","v":3.22},80.680000000000007,{"$f":"_xlfn.IFS(M123664>70,\"Serviceable\",M123664>30, \"Limited Life\",M123664<=30, \"Unserviceable\")","v":"Serviceable"}]
[null,47801,2000,"Wood Untreated Round","Serviceable","Class 2",2019,80,78.78,6,{"$f":"INDEX(Lists!$B$32:$B$40, MATCH(2020-C123749, Lists!$C$32:$C$40,1))","v":"0-20"},{"$f":"SUMPRODUCT((Data!$B$17:$B$19=Model!$F123749)*(Data!$C$16:$K$16=Model!$K123749)*(Data!$C$17:$K$19))","v":1.22},72.680000000000007,{"$f":"_xlfn.IFS(M123749>70,\"Serviceable\",M123749>30, \"Limited Life\",M123749<=30, \"Unserviceable\")","v":"Serviceable"}]
[null,48133,1992,"Wood Creos Impregnated","Serviceable","Class 3",2018,100,96.32,7,{"$f":"INDEX(Lists!$B$32:$B$40, MATCH(2020-C123806, Lists!$C$32:$C$40,1))","v":"21-30"},{"$f":"SUMPRODUCT((Data!$B$17:$B$19=Model!$F123806)*(Data!$C$16:$K$16=Model!$K123806)*(Data!$C$17:$K$19))","v":1.84},87.12,{"$f":"_xlfn.IFS(M123806>70,\"Serviceable\",M123806>30, \"Limited Life\",M123806<=30, \"Unserviceable\")","v":"Serviceable"}]
[null,48813,1990,"Wood Creos Impregnated","Serviceable","Class 3",2018,100,96.32,7,{"$f":"INDEX(Lists!$B$32:$B$40, MATCH(2020-C123902, Lists!$C$32:$C$40,1))","v":"21-30"},{"$f":"SUMPRODUCT((Data!$B$17:$B$19=Model!$F123902)*(Data!$C$16:$K$16=Model!$K123902)*(Data!$C$17:$K$19))","v":1.84},87.12,{"$f":"_xlfn.IFS(M123902>70,\"Serviceable\",M123902>30, \"Limited Life\",M123902<=30, \"Unserviceable\")","v":"Serviceable"}]
[null,49016,2013,"Wood Creos Impregnated","Serviceable","Class 3",2018,100,97.26,7,{"$f":"INDEX(Lists!$B$32:$B$40, MATCH(2020-C123934, Lists!$C$32:$C$40,1))","v":"0-20"},{"$f":"SUMPRODUCT((Data!$B$17:$B$19=Model!$F123934)*(Data!$C$16:$K$16=Model!$K123934)*(Data!$C$17:$K$19))","v":1.37},90.41,{"$f":"_xlfn.IFS(M123934>70,\"Serviceable\",M123934>30, \"Limited Life\",M123934<=30, \"Unserviceable\")","v":"Serviceable"}]
[null,49289,1961,"Wood Creos Impregnated","Serviceable","Class 3",2019,100,97.27,6,{"$f":"INDEX(Lists!$B$32:$B$40, MATCH(2020-C123987, Lists!$C$32:$C$40,1))","v":"51-60"},{"$f":"SUMPRODUCT((Data!$B$17:$B$19=Model!$F123987)*(Data!$C$16:$K$16=Model!$K123987)*(Data!$C$17:$K$19))","v":2.73},83.62,{"$f":"_xlfn.IFS(M123987>70,\"Serviceable\",M123987>30, \"Limited Life\",M123987<=30, \"Unserviceable\")","v":"Serviceable"}]
[null,49872,1968,"Wood Creos Impregnated","Serviceable","Class 3",2019,100,97.27,6,{"$f":"INDEX(Lists!$B$32:$B$40, MATCH(2020-C124072, Lists!$C$32:$C$40,1))","v":"51-60"},{"$f":"SUMPRODUCT((Data!$B$17:$B$19=Model!$F124072)*(Data!$C$16:$K$16=Model!$K124072)*(Data!$C$17:$K$19))","v":2.73},83.62,{"$f":"_xlfn.IFS(M124072>70,\"Serviceable\",M124072>30, \"Limited Life\",M124072<=30, \"Unserviceable\")","v":"Serviceable"}]
[null,50130,1993,"Wood Creos Impregnated","Serviceable","Class 3",2019,80,78.16,6,{"$f":"INDEX(Lists!$B$32:$B$40, MATCH(2020-C124110, Lists!$C$32:$C$40,1))","v":"21-30"},{"$f":"SUMPRODUCT((Data!$B$17:$B$19=Model!$F124110)*(Data!$C$16:$K$16=Model!$K124110)*(Data!$C$17:$K$19))","v":1.84},68.959999999999994,{"$f":"_xlfn.IFS(M124110>70,\"Serviceable\",M124110>30, \"Limited Life\",M124110<=30, \"Unserviceable\")","v":"Limited Life"}]
[null,50850,1975,"Wood Creos Impregnated","Serviceable","Class 3",2020,100,100,5,{"$f":"INDEX(Lists!$B$32:$B$40, MATCH(2020-C124225, Lists!$C$32:$C$40,1))","v":"41-50"},{"$f":"SUMPRODUCT((Data!$B$17:$B$19=Model!$F124225)*(Data!$C$16:$K$16=Model!$K124225)*(Data!$C$17:$K$19))","v":3.78},81.099999999999994,{"$f":"_xlfn.IFS(M124225>70,\"Serviceable\",M124225>30, \"Limited Life\",M124225<=30, \"Unserviceable\")","v":"Serviceable"}]
[null,51442,2013,"Wood Creos Impregnated","Serviceable","Class 2",2018,100,97.56,7,{"$f":"INDEX(Lists!$B$32:$B$40, MATCH(2020-C124305, Lists!$C$32:$C$40,1))","v":"0-20"},{"$f":"SUMPRODUCT((Data!$B$17:$B$19=Model!$F124305)*(Data!$C$16:$K$16=Model!$K124305)*(Data!$C$17:$K$19))","v":1.22},91.460000000000008,{"$f":"_xlfn.IFS(M124305>70,\"Serviceable\",M124305>30, \"Limited Life\",M124305<=30, \"Unserviceable\")","v":"Serviceable"}]
[null,51580,1990,"Wood Creos Impregnated","Serviceable","Class 3",2018,100,96.32,7,{"$f":"INDEX(Lists!$B$32:$B$40, MATCH(2020-C124326, Lists!$C$32:$C$40,1))","v":"21-30"},{"$f":"SUMPRODUCT((Data!$B$17:$B$19=Model!$F124326)*(Data!$C$16:$K$16=Model!$K124326)*(Data!$C$17:$K$19))","v":1.84},87.12,{"$f":"_xlfn.IFS(M124326>70,\"Serviceable\",M124326>30, \"Limited Life\",M124326<=30, \"Unserviceable\")","v":"Serviceable"}]
[null,52082,1990,"Wood Untreated Round","Serviceable","Class 2",2018,90,86.22,7,{"$f":"INDEX(Lists!$B$32:$B$40, MATCH(2020-C124395, Lists!$C$32:$C$40,1))","v":"21-30"},{"$f":"SUMPRODUCT((Data!$B$17:$B$19=Model!$F124395)*(Data!$C$16:$K$16=Model!$K124395)*(Data!$C$17:$K$19))","v":1.89},76.77,{"$f":"_xlfn.IFS(M124395>70,\"Serviceable\",M124395>30, \"Limited Life\",M124395<=30, \"Unserviceable\")","v":"Serviceable"}]
[null,52694,2007,"Wood Creos Impregnated","Serviceable","Class 3",2019,100,98.63,6,{"$f":"INDEX(Lists!$B$32:$B$40, MATCH(2020-C124481, Lists!$C$32:$C$40,1))","v":"0-20"},{"$f":"SUMPRODUCT((Data!$B$17:$B$19=Model!$F124481)*(Data!$C$16:$K$16=Model!$K124481)*(Data!$C$17:$K$19))","v":1.37},91.78,{"$f":"_xlfn.IFS(M124481>70,\"Serviceable\",M124481>30, \"Limited Life\",M124481<=30, \"Unserviceable\")","v":"Serviceable"}]
[null,53549,2013,"Wood Creos Impregnated","Serviceable","Class 3",2018,100,97.26,7,{"$f":"INDEX(Lists!$B$32:$B$40, MATCH(2020-C124548, Lists!$C$32:$C$40,1))","v":"0-20"},{"$f":"SUMPRODUCT((Data!$B$17:$B$19=Model!$F124548)*(Data!$C$16:$K$16=Model!$K124548)*(Data!$C$17:$K$19))","v":1.37},90.41,{"$f":"_xlfn.IFS(M124548>70,\"Serviceable\",M124548>30, \"Limited Life\",M124548<=30, \"Unserviceable\")","v":"Serviceable"}]
[null,54424,1990,"Wood Creos Impregnated","Serviceable","Class 3",2018,100,96.32,7,{"$f":"INDEX(Lists!$B$32:$B$40, MATCH(2020-C124609, Lists!$C$32:$C$40,1))","v":"21-30"},{"$f":"SUMPRODUCT((Data!$B$17:$B$19=Model!$F124609)*(Data!$C$16:$K$16=Model!$K124609)*(Data!$C$17:$K$19))","v":1.84},87.12,{"$f":"_xlfn.IFS(M124609>70,\"Serviceable\",M124609>30, \"Limited Life\",M124609<=30, \"Unserviceable\")","v":"Serviceable"}]
[null,55178,2000,"Wood Untreated Dressed","Serviceable","Class 1",2019,100,98.94,6,{"$f":"INDEX(Lists!$B$32:$B$40, MATCH(2020-C124717, Lists!$C$32:$C$40,1))","v":"0-20"},{"$f":"SUMPRODUCT((Data!$B$17:$B$19=Model!$F124717)*(Data!$C$16:$K$16=Model!$K124717)*(Data!$C$17:$K$19))","v":1.06},93.64,{"$f":"_xlfn.IFS(M124717>70,\"Serviceable\",M124717>30, \"Limited Life\",M124717<=30, \"Unserviceable\")","v":"Serviceable"}]
[null,55180,2000,"Wood Untreated Dressed","Serviceable","Class 1",2019,100,98.94,6,{"$f":"INDEX(Lists!$B$32:$B$40, MATCH(2020-C124718, Lists!$C$32:$C$40,1))","v":"0-20"},{"$f":"SUMPRODUCT((Data!$B$17:$B$19=Model!$F124718)*(Data!$C$16:$K$16=Model!$K124718)*(Data!$C$17:$K$19))","v":1.06},93.64,{"$f":"_xlfn.IFS(M124718>70,\"Serviceable\",M124718>30, \"Limited Life\",M124718<=30, \"Unserviceable\")","v":"Serviceable"}]
[null,56397,1986,"Wood Creos Impregnated","Limited Life","Class 3",2019,50,46.78,6,{"$f":"INDEX(Lists!$B$32:$B$40, MATCH(2020-C124852, Lists!$C$32:$C$40,1))","v":"31-40"},{"$f":"SUMPRODUCT((Data!$B$17:$B$19=Model!$F124852)*(Data!$C$16:$K$16=Model!$K124852)*(Data!$C$17:$K$19))","v":3.22},30.68,{"$f":"_xlfn.IFS(M124852>70,\"Serviceable\",M124852>30, \"Limited Life\",M124852<=30, \"Unserviceable\")","v":"Limited Life"}]
[null,56506,1993,"Wood Creos Impregnated","Serviceable","Class 3",2017,100,94.48,8,{"$f":"INDEX(Lists!$B$32:$B$40, MATCH(2020-C124871, Lists!$C$32:$C$40,1))","v":"21-30"},{"$f":"SUMPRODUCT((Data!$B$17:$B$19=Model!$F124871)*(Data!$C$16:$K$16=Model!$K124871)*(Data!$C$17:$K$19))","v":1.84},85.28,{"$f":"_xlfn.IFS(M124871>70,\"Serviceable\",M124871>30, \"Limited Life\",M124871<=30, \"Unserviceable\")","v":"Serviceable"}]
[null,57042,1963,"Wood Creos Impregnated","Serviceable","Class 3",2020,80,80,5,{"$f":"INDEX(Lists!$B$32:$B$40, MATCH(2020-C124956, Lists!$C$32:$C$40,1))","v":"51-60"},{"$f":"SUMPRODUCT((Data!$B$17:$B$19=Model!$F124956)*(Data!$C$16:$K$16=Model!$K124956)*(Data!$C$17:$K$19))","v":2.73},66.349999999999994,{"$f":"_xlfn.IFS(M124956>70,\"Serviceable\",M124956>30, \"Limited Life\",M124956<=30, \"Unserviceable\")","v":"Limited Life"}]
[null,57541,2000,"Wood Creos Impregnated","Serviceable","Class 3",2020,90,90,5,{"$f":"INDEX(Lists!$B$32:$B$40, MATCH(2020-C125028, Lists!$C$32:$C$40,1))","v":"0-20"},{"$f":"SUMPRODUCT((Data!$B$17:$B$19=Model!$F125028)*(Data!$C$16:$K$16=Model!$K125028)*(Data!$C$17:$K$19))","v":1.37},83.15,{"$f":"_xlfn.IFS(M125028>70,\"Serviceable\",M125028>30, \"Limited Life\",M125028<=30, \"Unserviceable\")","v":"Serviceable"}]
[null,58102,1973,"Wood Creos Impregnated","Serviceable","Class 2",2019,110,106.72,6,{"$f":"INDEX(Lists!$B$32:$B$40, MATCH(2020-C125109, Lists!$C$32:$C$40,1))","v":"41-50"},{"$f":"SUMPRODUCT((Data!$B$17:$B$19=Model!$F125109)*(Data!$C$16:$K$16=Model!$K125109)*(Data!$C$17:$K$19))","v":3.28},90.32,{"$f":"_xlfn.IFS(M125109>70,\"Serviceable\",M125109>30, \"Limited Life\",M125109<=30, \"Unserviceable\")","v":"Serviceable"}]
[null,58347,1958,"Wood Creos Impregnated","Serviceable","Class 3",2018,90,85.96,7,{"$f":"INDEX(Lists!$B$32:$B$40, MATCH(2020-C125156, Lists!$C$32:$C$40,1))","v":"61-70"},{"$f":"SUMPRODUCT((Data!$B$17:$B$19=Model!$F125156)*(Data!$C$16:$K$16=Model!$K125156)*(Data!$C$17:$K$19))","v":2.02},75.86,{"$f":"_xlfn.IFS(M125156>70,\"Serviceable\",M125156>30, \"Limited Life\",M125156<=30, \"Unserviceable\")","v":"Serviceable"}]
[null,58743,1992,"Wood Untreated Round","Serviceable","Class 2",2019,90,88.11,6,{"$f":"INDEX(Lists!$B$32:$B$40, MATCH(2020-C125210, Lists!$C$32:$C$40,1))","v":"21-30"},{"$f":"SUMPRODUCT((Data!$B$17:$B$19=Model!$F125210)*(Data!$C$16:$K$16=Model!$K125210)*(Data!$C$17:$K$19))","v":1.89},78.66,{"$f":"_xlfn.IFS(M125210>70,\"Serviceable\",M125210>30, \"Limited Life\",M125210<=30, \"Unserviceable\")","v":"Serviceable"}]
[null,59319,2010,"Wood Creos Impregnated","Serviceable","Class 2",2019,80,78.78,6,{"$f":"INDEX(Lists!$B$32:$B$40, MATCH(2020-C125279, Lists!$C$32:$C$40,1))","v":"0-20"},{"$f":"SUMPRODUCT((Data!$B$17:$B$19=Model!$F125279)*(Data!$C$16:$K$16=Model!$K125279)*(Data!$C$17:$K$19))","v":1.22},72.680000000000007,{"$f":"_xlfn.IFS(M125279>70,\"Serviceable\",M125279>30, \"Limited Life\",M125279<=30, \"Unserviceable\")","v":"Serviceable"}]
[null,59594,1992,"Wood Creos Impregnated","Serviceable","Class 3",2019,100,98.16,6,{"$f":"INDEX(Lists!$B$32:$B$40, MATCH(2020-C125332, Lists!$C$32:$C$40,1))","v":"21-30"},{"$f":"SUMPRODUCT((Data!$B$17:$B$19=Model!$F125332)*(Data!$C$16:$K$16=Model!$K125332)*(Data!$C$17:$K$19))","v":1.84},88.96,{"$f":"_xlfn.IFS(M125332>70,\"Serviceable\",M125332>30, \"Limited Life\",M125332<=30, \"Unserviceable\")","v":"Serviceable"}]
[null,60222,1964,"Wood Creos Impregnated","Serviceable","Class 3",2019,120,117.27,6,{"$f":"INDEX(Lists!$B$32:$B$40, MATCH(2020-C125432, Lists!$C$32:$C$40,1))","v":"51-60"},{"$f":"SUMPRODUCT((Data!$B$17:$B$19=Model!$F125432)*(Data!$C$16:$K$16=Model!$K125432)*(Data!$C$17:$K$19))","v":2.73},103.62,{"$f":"_xlfn.IFS(M125432>70,\"Serviceable\",M125432>30, \"Limited Life\",M125432<=30, \"Unserviceable\")","v":"Serviceable"}]
[null,60806,2006,"Wood Creos Impregnated","Serviceable","Class 3",2017,100,95.89,8,{"$f":"INDEX(Lists!$B$32:$B$40, MATCH(2020-C125527, Lists!$C$32:$C$40,1))","v":"0-20"},{"$f":"SUMPRODUCT((Data!$B$17:$B$19=Model!$F125527)*(Data!$C$16:$K$16=Model!$K125527)*(Data!$C$17:$K$19))","v":1.37},89.039999999999992,{"$f":"_xlfn.IFS(M125527>70,\"Serviceable\",M125527>30, \"Limited Life\",M125527<=30, \"Unserviceable\")","v":"Serviceable"}]
[null,60874,1992,"Wood Creos Impregnated","Serviceable","Class 3",2019,90,88.16,6,{"$f":"INDEX(Lists!$B$32:$B$40, MATCH(2020-C125533, Lists!$C$32:$C$40,1))","v":"21-30"},{"$f":"SUMPRODUCT((Data!$B$17:$B$19=Model!$F125533)*(Data!$C$16:$K$16=Model!$K125533)*(Data!$C$17:$K$19))","v":1.84},78.959999999999994,{"$f":"_xlfn.IFS(M125533>70,\"Serviceable\",M125533>30, \"Limited Life\",M125533<=30, \"Unserviceable\")","v":"Serviceable"}]
[null,61443,1986,"Wood Untreated Dressed","Serviceable","Class 1",2017,140,132.44,8,{"$f":"INDEX(Lists!$B$32:$B$40, MATCH(2020-C125602, Lists!$C$32:$C$40,1))","v":"31-40"},{"$f":"SUMPRODUCT((Data!$B$17:$B$19=Model!$F125602)*(Data!$C$16:$K$16=Model!$K125602)*(Data!$C$17:$K$19))","v":2.52},119.84,{"$f":"_xlfn.IFS(M125602>70,\"Serviceable\",M125602>30, \"Limited Life\",M125602<=30, \"Unserviceable\")","v":"Serviceable"}]
[null,62164,2012,"Wood Untreated Dressed","Serviceable","Class 1",2020,166.31691553103065,166.31691553103065,5,{"$f":"INDEX(Lists!$B$32:$B$40, MATCH(2020-C125703, Lists!$C$32:$C$40,1))","v":"0-20"},{"$f":"SUMPRODUCT((Data!$B$17:$B$19=Model!$F125703)*(Data!$C$16:$K$16=Model!$K125703)*(Data!$C$17:$K$19))","v":1.06},161.01691553103063,{"$f":"_xlfn.IFS(M125703>70,\"Serviceable\",M125703>30, \"Limited Life\",M125703<=30, \"Unserviceable\")","v":"Serviceable"}]
[null,62758,2006,"Wood Untreated Round","Serviceable","Class 1",2019,120,118.94,6,{"$f":"INDEX(Lists!$B$32:$B$40, MATCH(2020-C125771, Lists!$C$32:$C$40,1))","v":"0-20"},{"$f":"SUMPRODUCT((Data!$B$17:$B$19=Model!$F125771)*(Data!$C$16:$K$16=Model!$K125771)*(Data!$C$17:$K$19))","v":1.06},113.64,{"$f":"_xlfn.IFS(M125771>70,\"Serviceable\",M125771>30, \"Limited Life\",M125771<=30, \"Unserviceable\")","v":"Serviceable"}]
[null,63457,1989,"Wood Creos Impregnated","Serviceable","Class 3",2019,100,96.78,6,{"$f":"INDEX(Lists!$B$32:$B$40, MATCH(2020-C125840, Lists!$C$32:$C$40,1))","v":"31-40"},{"$f":"SUMPRODUCT((Data!$B$17:$B$19=Model!$F125840)*(Data!$C$16:$K$16=Model!$K125840)*(Data!$C$17:$K$19))","v":3.22},80.680000000000007,{"$f":"_xlfn.IFS(M125840>70,\"Serviceable\",M125840>30, \"Limited Life\",M125840<=30, \"Unserviceable\")","v":"Serviceable"}]
[null,63856,2006,"Wood Creos Impregnated","Serviceable","Class 3",2019,90,88.63,6,{"$f":"INDEX(Lists!$B$32:$B$40, MATCH(2020-C125879, Lists!$C$32:$C$40,1))","v":"0-20"},{"$f":"SUMPRODUCT((Data!$B$17:$B$19=Model!$F125879)*(Data!$C$16:$K$16=Model!$K125879)*(Data!$C$17:$K$19))","v":1.37},81.78,{"$f":"_xlfn.IFS(M125879>70,\"Serviceable\",M125879>30, \"Limited Life\",M125879<=30, \"Unserviceable\")","v":"Serviceable"}]
[null,64893,2010,"Wood Creos Impregnated","Serviceable","Class 3",2018,100,97.26,7,{"$f":"INDEX(Lists!$B$32:$B$40, MATCH(2020-C125993, Lists!$C$32:$C$40,1))","v":"0-20"},{"$f":"SUMPRODUCT((Data!$B$17:$B$19=Model!$F125993)*(Data!$C$16:$K$16=Model!$K125993)*(Data!$C$17:$K$19))","v":1.37},90.41,{"$f":"_xlfn.IFS(M125993>70,\"Serviceable\",M125993>30, \"Limited Life\",M125993<=30, \"Unserviceable\")","v":"Serviceable"}]
[null,64979,2014,"Wood Creos Impregnated","Serviceable","Class 3",2020,100,100,5,{"$f":"INDEX(Lists!$B$32:$B$40, MATCH(2020-C126007, Lists!$C$32:$C$40,1))","v":"0-20"},{"$f":"SUMPRODUCT((Data!$B$17:$B$19=Model!$F126007)*(Data!$C$16:$K$16=Model!$K126007)*(Data!$C$17:$K$19))","v":1.37},93.15,{"$f":"_xlfn.IFS(M126007>70,\"Serviceable\",M126007>30, \"Limited Life\",M126007<=30, \"Unserviceable\")","v":"Serviceable"}]
[null,65672,1949,"Wood Untreated Round","Serviceable","Class 1",2017,140,133.55000000000001,8,{"$f":"INDEX(Lists!$B$32:$B$40, MATCH(2020-C126094, Lists!$C$32:$C$40,1))","v":"71-80"},{"$f":"SUMPRODUCT((Data!$B$17:$B$19=Model!$F126094)*(Data!$C$16:$K$16=Model!$K126094)*(Data!$C$17:$K$19))","v":2.15},122.8,{"$f":"_xlfn.IFS(M126094>70,\"Serviceable\",M126094>30, \"Limited Life\",M126094<=30, \"Unserviceable\")","v":"Serviceable"}]
[null,66163,2013,"Wood Untreated Dressed","Serviceable","Class 1",2018,100,97.88,7,{"$f":"INDEX(Lists!$B$32:$B$40, MATCH(2020-C126163, Lists!$C$32:$C$40,1))","v":"0-20"},{"$f":"SUMPRODUCT((Data!$B$17:$B$19=Model!$F126163)*(Data!$C$16:$K$16=Model!$K126163)*(Data!$C$17:$K$19))","v":1.06},92.58,{"$f":"_xlfn.IFS(M126163>70,\"Serviceable\",M126163>30, \"Limited Life\",M126163<=30, \"Unserviceable\")","v":"Serviceable"}]
[null,66851,1991,"Wood Creos Impregnated","Serviceable","Class 3",2019,100,98.16,6,{"$f":"INDEX(Lists!$B$32:$B$40, MATCH(2020-C126250, Lists!$C$32:$C$40,1))","v":"21-30"},{"$f":"SUMPRODUCT((Data!$B$17:$B$19=Model!$F126250)*(Data!$C$16:$K$16=Model!$K126250)*(Data!$C$17:$K$19))","v":1.84},88.96,{"$f":"_xlfn.IFS(M126250>70,\"Serviceable\",M126250>30, \"Limited Life\",M126250<=30, \"Unserviceable\")","v":"Serviceable"}]
[null,67335,1991,"Wood Creos Impregnated","Serviceable","Class 3",2019,100,98.16,6,{"$f":"INDEX(Lists!$B$32:$B$40, MATCH(2020-C126316, Lists!$C$32:$C$40,1))","v":"21-30"},{"$f":"SUMPRODUCT((Data!$B$17:$B$19=Model!$F126316)*(Data!$C$16:$K$16=Model!$K126316)*(Data!$C$17:$K$19))","v":1.84},88.96,{"$f":"_xlfn.IFS(M126316>70,\"Serviceable\",M126316>30, \"Limited Life\",M126316<=30, \"Unserviceable\")","v":"Serviceable"}]
[null,68061,1989,"Wood Creos Impregnated","Serviceable","Class 3",2019,100,96.78,6,{"$f":"INDEX(Lists!$B$32:$B$40, MATCH(2020-C126378, Lists!$C$32:$C$40,1))","v":"31-40"},{"$f":"SUMPRODUCT((Data!$B$17:$B$19=Model!$F126378)*(Data!$C$16:$K$16=Model!$K126378)*(Data!$C$17:$K$19))","v":3.22},80.680000000000007,{"$f":"_xlfn.IFS(M126378>70,\"Serviceable\",M126378>30, \"Limited Life\",M126378<=30, \"Unserviceable\")","v":"Serviceable"}]
[null,68399,1994,"Wood Creos Impregnated","Serviceable","Class 3",2019,100,98.16,6,{"$f":"INDEX(Lists!$B$32:$B$40, MATCH(2020-C126417, Lists!$C$32:$C$40,1))","v":"21-30"},{"$f":"SUMPRODUCT((Data!$B$17:$B$19=Model!$F126417)*(Data!$C$16:$K$16=Model!$K126417)*(Data!$C$17:$K$19))","v":1.84},88.96,{"$f":"_xlfn.IFS(M126417>70,\"Serviceable\",M126417>30, \"Limited Life\",M126417<=30, \"Unserviceable\")","v":"Serviceable"}]
[null,69105,1967,"Wood Creos Impregnated","Serviceable","Class 3",2020,120,120,5,{"$f":"INDEX(Lists!$B$32:$B$40, MATCH(2020-C126486, Lists!$C$32:$C$40,1))","v":"51-60"},{"$f":"SUMPRODUCT((Data!$B$17:$B$19=Model!$F126486)*(Data!$C$16:$K$16=Model!$K126486)*(Data!$C$17:$K$19))","v":2.73},106.35,{"$f":"_xlfn.IFS(M126486>70,\"Serviceable\",M126486>30, \"Limited Life\",M126486<=30, \"Unserviceable\")","v":"Serviceable"}]
[null,69686,1991,"Wood Creos Impregnated","Serviceable","Class 3",2019,100,98.16,6,{"$f":"INDEX(Lists!$B$32:$B$40, MATCH(2020-C126554, Lists!$C$32:$C$40,1))","v":"21-30"},{"$f":"SUMPRODUCT((Data!$B$17:$B$19=Model!$F126554)*(Data!$C$16:$K$16=Model!$K126554)*(Data!$C$17:$K$19))","v":1.84},88.96,{"$f":"_xlfn.IFS(M126554>70,\"Serviceable\",M126554>30, \"Limited Life\",M126554<=30, \"Unserviceable\")","v":"Serviceable"}]
[null,70608,2009,"Wood Creos Impregnated","Limited Life","Class 3",2019,40,38.630000000000003,6,{"$f":"INDEX(Lists!$B$32:$B$40, MATCH(2020-C126655, Lists!$C$32:$C$40,1))","v":"0-20"},{"$f":"SUMPRODUCT((Data!$B$17:$B$19=Model!$F126655)*(Data!$C$16:$K$16=Model!$K126655)*(Data!$C$17:$K$19))","v":1.37},31.78,{"$f":"_xlfn.IFS(M126655>70,\"Serviceable\",M126655>30, \"Limited Life\",M126655<=30, \"Unserviceable\")","v":"Limited Life"}]
[null,70851,1976,"Wood Untreated Dressed","Serviceable","Class 1",2018,100,96.5,7,{"$f":"INDEX(Lists!$B$32:$B$40, MATCH(2020-C126682, Lists!$C$32:$C$40,1))","v":"41-50"},{"$f":"SUMPRODUCT((Data!$B$17:$B$19=Model!$F126682)*(Data!$C$16:$K$16=Model!$K126682)*(Data!$C$17:$K$19))","v":1.75},87.75,{"$f":"_xlfn.IFS(M126682>70,\"Serviceable\",M126682>30, \"Limited Life\",M126682<=30, \"Unserviceable\")","v":"Serviceable"}]
[null,72180,1989,"Wood Creos Impregnated","Serviceable","Class 3",2019,100,96.78,6,{"$f":"INDEX(Lists!$B$32:$B$40, MATCH(2020-C126808, Lists!$C$32:$C$40,1))","v":"31-40"},{"$f":"SUMPRODUCT((Data!$B$17:$B$19=Model!$F126808)*(Data!$C$16:$K$16=Model!$K126808)*(Data!$C$17:$K$19))","v":3.22},80.680000000000007,{"$f":"_xlfn.IFS(M126808>70,\"Serviceable\",M126808>30, \"Limited Life\",M126808<=30, \"Unserviceable\")","v":"Serviceable"}]
[null,72917,1991,"Wood Salt Impregnated (Green)","Serviceable","Class 1",2019,100,98.04,6,{"$f":"INDEX(Lists!$B$32:$B$40, MATCH(2020-C126877, Lists!$C$32:$C$40,1))","v":"21-30"},{"$f":"SUMPRODUCT((Data!$B$17:$B$19=Model!$F126877)*(Data!$C$16:$K$16=Model!$K126877)*(Data!$C$17:$K$19))","v":1.96},88.24,{"$f":"_xlfn.IFS(M126877>70,\"Serviceable\",M126877>30, \"Limited Life\",M126877<=30, \"Unserviceable\")","v":"Serviceable"}]
[null,73457,2008,"Wood Untreated Round","Serviceable","Class 1",2020,100,100,5,{"$f":"INDEX(Lists!$B$32:$B$40, MATCH(2020-C126925, Lists!$C$32:$C$40,1))","v":"0-20"},{"$f":"SUMPRODUCT((Data!$B$17:$B$19=Model!$F126925)*(Data!$C$16:$K$16=Model!$K126925)*(Data!$C$17:$K$19))","v":1.06},94.7,{"$f":"_xlfn.IFS(M126925>70,\"Serviceable\",M126925>30, \"Limited Life\",M126925<=30, \"Unserviceable\")","v":"Serviceable"}]
[null,73964,1957,"Wood Untreated Round","Serviceable","Class 2",2018,100,95.54,7,{"$f":"INDEX(Lists!$B$32:$B$40, MATCH(2020-C126978, Lists!$C$32:$C$40,1))","v":"61-70"},{"$f":"SUMPRODUCT((Data!$B$17:$B$19=Model!$F126978)*(Data!$C$16:$K$16=Model!$K126978)*(Data!$C$17:$K$19))","v":2.23},84.39,{"$f":"_xlfn.IFS(M126978>70,\"Serviceable\",M126978>30, \"Limited Life\",M126978<=30, \"Unserviceable\")","v":"Serviceable"}]
[null,74693,1932,"Wood Untreated Round","Serviceable","Class 1",2018,90,84.38,7,{"$f":"INDEX(Lists!$B$32:$B$40, MATCH(2020-C127047, Lists!$C$32:$C$40,1))","v":"81-90"},{"$f":"SUMPRODUCT((Data!$B$17:$B$19=Model!$F127047)*(Data!$C$16:$K$16=Model!$K127047)*(Data!$C$17:$K$19))","v":2.81},70.33,{"$f":"_xlfn.IFS(M127047>70,\"Serviceable\",M127047>30, \"Limited Life\",M127047<=30, \"Unserviceable\")","v":"Serviceable"}]
[null,75190,1960,"Wood Creos Impregnated","Serviceable","Class 3",2019,90,87.27,6,{"$f":"INDEX(Lists!$B$32:$B$40, MATCH(2020-C127101, Lists!$C$32:$C$40,1))","v":"51-60"},{"$f":"SUMPRODUCT((Data!$B$17:$B$19=Model!$F127101)*(Data!$C$16:$K$16=Model!$K127101)*(Data!$C$17:$K$19))","v":2.73},73.62,{"$f":"_xlfn.IFS(M127101>70,\"Serviceable\",M127101>30, \"Limited Life\",M127101<=30, \"Unserviceable\")","v":"Serviceable"}]
[null,76338,2004,"Wood Untreated Dressed","Serviceable","Class 1",2019,100,98.94,6,{"$f":"INDEX(Lists!$B$32:$B$40, MATCH(2020-C127200, Lists!$C$32:$C$40,1))","v":"0-20"},{"$f":"SUMPRODUCT((Data!$B$17:$B$19=Model!$F127200)*(Data!$C$16:$K$16=Model!$K127200)*(Data!$C$17:$K$19))","v":1.06},93.64,{"$f":"_xlfn.IFS(M127200>70,\"Serviceable\",M127200>30, \"Limited Life\",M127200<=30, \"Unserviceable\")","v":"Serviceable"}]
[null,76538,2006,"Wood Creos Impregnated","Serviceable","Class 3",2016,100,94.52,9,{"$f":"INDEX(Lists!$B$32:$B$40, MATCH(2020-C127229, Lists!$C$32:$C$40,1))","v":"0-20"},{"$f":"SUMPRODUCT((Data!$B$17:$B$19=Model!$F127229)*(Data!$C$16:$K$16=Model!$K127229)*(Data!$C$17:$K$19))","v":1.37},87.67,{"$f":"_xlfn.IFS(M127229>70,\"Serviceable\",M127229>30, \"Limited Life\",M127229<=30, \"Unserviceable\")","v":"Serviceable"}]
[null,77214,1958,"Wood Creos Impregnated","Limited Life","Class 3",2020,50,50,5,{"$f":"INDEX(Lists!$B$32:$B$40, MATCH(2020-C127301, Lists!$C$32:$C$40,1))","v":"61-70"},{"$f":"SUMPRODUCT((Data!$B$17:$B$19=Model!$F127301)*(Data!$C$16:$K$16=Model!$K127301)*(Data!$C$17:$K$19))","v":2.02},39.9,{"$f":"_xlfn.IFS(M127301>70,\"Serviceable\",M127301>30, \"Limited Life\",M127301<=30, \"Unserviceable\")","v":"Limited Life"}]
[null,77726,1999,"Wood Creos Impregnated","Serviceable","Class 3",2018,100,96.32,7,{"$f":"INDEX(Lists!$B$32:$B$40, MATCH(2020-C127370, Lists!$C$32:$C$40,1))","v":"21-30"},{"$f":"SUMPRODUCT((Data!$B$17:$B$19=Model!$F127370)*(Data!$C$16:$K$16=Model!$K127370)*(Data!$C$17:$K$19))","v":1.84},87.12,{"$f":"_xlfn.IFS(M127370>70,\"Serviceable\",M127370>30, \"Limited Life\",M127370<=30, \"Unserviceable\")","v":"Serviceable"}]
[null,78779,1983,"Wood Untreated Dressed","Serviceable","Class 1",2018,100,94.96,7,{"$f":"INDEX(Lists!$B$32:$B$40, MATCH(2020-C127472, Lists!$C$32:$C$40,1))","v":"31-40"},{"$f":"SUMPRODUCT((Data!$B$17:$B$19=Model!$F127472)*(Data!$C$16:$K$16=Model!$K127472)*(Data!$C$17:$K$19))","v":2.52},82.36,{"$f":"_xlfn.IFS(M127472>70,\"Serviceable\",M127472>30, \"Limited Life\",M127472<=30, \"Unserviceable\")","v":"Serviceable"}]
[null,79304,1987,"Wood Creos Impregnated","Serviceable","Class 3",2018,90,83.56,7,{"$f":"INDEX(Lists!$B$32:$B$40, MATCH(2020-C127539, Lists!$C$32:$C$40,1))","v":"31-40"},{"$f":"SUMPRODUCT((Data!$B$17:$B$19=Model!$F127539)*(Data!$C$16:$K$16=Model!$K127539)*(Data!$C$17:$K$19))","v":3.22},67.459999999999994,{"$f":"_xlfn.IFS(M127539>70,\"Serviceable\",M127539>30, \"Limited Life\",M127539<=30, \"Unserviceable\")","v":"Limited Life"}]
[null,79823,1992,"Wood Creos Impregnated","Serviceable","Class 3",2019,80,78.16,6,{"$f":"INDEX(Lists!$B$32:$B$40, MATCH(2020-C127600, Lists!$C$32:$C$40,1))","v":"21-30"},{"$f":"SUMPRODUCT((Data!$B$17:$B$19=Model!$F127600)*(Data!$C$16:$K$16=Model!$K127600)*(Data!$C$17:$K$19))","v":1.84},68.959999999999994,{"$f":"_xlfn.IFS(M127600>70,\"Serviceable\",M127600>30, \"Limited Life\",M127600<=30, \"Unserviceable\")","v":"Limited Life"}]
[null,80498,1989,"Wood Creos Impregnated","Serviceable","Class 2",2018,80,75.34,7,{"$f":"INDEX(Lists!$B$32:$B$40, MATCH(2020-C127692, Lists!$C$32:$C$40,1))","v":"31-40"},{"$f":"SUMPRODUCT((Data!$B$17:$B$19=Model!$F127692)*(Data!$C$16:$K$16=Model!$K127692)*(Data!$C$17:$K$19))","v":2.33},63.69,{"$f":"_xlfn.IFS(M127692>70,\"Serviceable\",M127692>30, \"Limited Life\",M127692<=30, \"Unserviceable\")","v":"Limited Life"}]
[null,80502,1999,"CCA Treated Pole","Serviceable","Class 2",2018,100,96.22,7,{"$f":"INDEX(Lists!$B$32:$B$40, MATCH(2020-C127693, Lists!$C$32:$C$40,1))","v":"21-30"},{"$f":"SUMPRODUCT((Data!$B$17:$B$19=Model!$F127693)*(Data!$C$16:$K$16=Model!$K127693)*(Data!$C$17:$K$19))","v":1.89},86.77,{"$f":"_xlfn.IFS(M127693>70,\"Serviceable\",M127693>30, \"Limited Life\",M127693<=30, \"Unserviceable\")","v":"Serviceable"}]
[null,81152,1996,"Wood Untreated Dressed","Serviceable","Class 1",2018,100,96.08,7,{"$f":"INDEX(Lists!$B$32:$B$40, MATCH(2020-C127776, Lists!$C$32:$C$40,1))","v":"21-30"},{"$f":"SUMPRODUCT((Data!$B$17:$B$19=Model!$F127776)*(Data!$C$16:$K$16=Model!$K127776)*(Data!$C$17:$K$19))","v":1.96},86.28,{"$f":"_xlfn.IFS(M127776>70,\"Serviceable\",M127776>30, \"Limited Life\",M127776<=30, \"Unserviceable\")","v":"Serviceable"}]
[null,81744,2004,"Wood Creos Impregnated","Serviceable","Class 3",2018,100,97.26,7,{"$f":"INDEX(Lists!$B$32:$B$40, MATCH(2020-C127862, Lists!$C$32:$C$40,1))","v":"0-20"},{"$f":"SUMPRODUCT((Data!$B$17:$B$19=Model!$F127862)*(Data!$C$16:$K$16=Model!$K127862)*(Data!$C$17:$K$19))","v":1.37},90.41,{"$f":"_xlfn.IFS(M127862>70,\"Serviceable\",M127862>30, \"Limited Life\",M127862<=30, \"Unserviceable\")","v":"Serviceable"}]
[null,82163,2013,"Wood Creos Impregnated","Serviceable","Class 3",2018,100,97.26,7,{"$f":"INDEX(Lists!$B$32:$B$40, MATCH(2020-C127931, Lists!$C$32:$C$40,1))","v":"0-20"},{"$f":"SUMPRODUCT((Data!$B$17:$B$19=Model!$F127931)*(Data!$C$16:$K$16=Model!$K127931)*(Data!$C$17:$K$19))","v":1.37},90.41,{"$f":"_xlfn.IFS(M127931>70,\"Serviceable\",M127931>30, \"Limited Life\",M127931<=30, \"Unserviceable\")","v":"Serviceable"}]
[null,82711,1966,"Wood Creos Impregnated","Serviceable","Class 3",2017,90,81.81,8,{"$f":"INDEX(Lists!$B$32:$B$40, MATCH(2020-C128019, Lists!$C$32:$C$40,1))","v":"51-60"},{"$f":"SUMPRODUCT((Data!$B$17:$B$19=Model!$F128019)*(Data!$C$16:$K$16=Model!$K128019)*(Data!$C$17:$K$19))","v":2.73},68.16,{"$f":"_xlfn.IFS(M128019>70,\"Serviceable\",M128019>30, \"Limited Life\",M128019<=30, \"Unserviceable\")","v":"Limited Life"}]
[null,82764,1995,"Wood Creos Impregnated","Serviceable","Class 3",2019,100,98.16,6,{"$f":"INDEX(Lists!$B$32:$B$40, MATCH(2020-C128032, Lists!$C$32:$C$40,1))","v":"21-30"},{"$f":"SUMPRODUCT((Data!$B$17:$B$19=Model!$F128032)*(Data!$C$16:$K$16=Model!$K128032)*(Data!$C$17:$K$19))","v":1.84},88.96,{"$f":"_xlfn.IFS(M128032>70,\"Serviceable\",M128032>30, \"Limited Life\",M128032<=30, \"Unserviceable\")","v":"Serviceable"}]
[null,83395,2005,"Wood Creos Impregnated","Serviceable","Class 3",2020,90,90,5,{"$f":"INDEX(Lists!$B$32:$B$40, MATCH(2020-C128147, Lists!$C$32:$C$40,1))","v":"0-20"},{"$f":"SUMPRODUCT((Data!$B$17:$B$19=Model!$F128147)*(Data!$C$16:$K$16=Model!$K128147)*(Data!$C$17:$K$19))","v":1.37},83.15,{"$f":"_xlfn.IFS(M128147>70,\"Serviceable\",M128147>30, \"Limited Life\",M128147<=30, \"Unserviceable\")","v":"Serviceable"}]
[null,83758,1976,"Wood Untreated Dressed","Serviceable","Class 1",2020,100,100,5,{"$f":"INDEX(Lists!$B$32:$B$40, MATCH(2020-C128185, Lists!$C$32:$C$40,1))","v":"41-50"},{"$f":"SUMPRODUCT((Data!$B$17:$B$19=Model!$F128185)*(Data!$C$16:$K$16=Model!$K128185)*(Data!$C$17:$K$19))","v":1.75},91.25,{"$f":"_xlfn.IFS(M128185>70,\"Serviceable\",M128185>30, \"Limited Life\",M128185<=30, \"Unserviceable\")","v":"Serviceable"}]
[null,84214,1969,"Wood Creos Impregnated","Serviceable","Class 3",2018,110,104.54,7,{"$f":"INDEX(Lists!$B$32:$B$40, MATCH(2020-C128254, Lists!$C$32:$C$40,1))","v":"51-60"},{"$f":"SUMPRODUCT((Data!$B$17:$B$19=Model!$F128254)*(Data!$C$16:$K$16=Model!$K128254)*(Data!$C$17:$K$19))","v":2.73},90.89,{"$f":"_xlfn.IFS(M128254>70,\"Serviceable\",M128254>30, \"Limited Life\",M128254<=30, \"Unserviceable\")","v":"Serviceable"}]
[null,84663,2004,"Wood Untreated Round","Serviceable","Class 1",2017,100,96.82,8,{"$f":"INDEX(Lists!$B$32:$B$40, MATCH(2020-C128323, Lists!$C$32:$C$40,1))","v":"0-20"},{"$f":"SUMPRODUCT((Data!$B$17:$B$19=Model!$F128323)*(Data!$C$16:$K$16=Model!$K128323)*(Data!$C$17:$K$19))","v":1.06},91.52,{"$f":"_xlfn.IFS(M128323>70,\"Serviceable\",M128323>30, \"Limited Life\",M128323<=30, \"Unserviceable\")","v":"Serviceable"}]
[null,85428,2014,"Wood Untreated Round","Serviceable","Class 1",2018,100,97.88,7,{"$f":"INDEX(Lists!$B$32:$B$40, MATCH(2020-C128423, Lists!$C$32:$C$40,1))","v":"0-20"},{"$f":"SUMPRODUCT((Data!$B$17:$B$19=Model!$F128423)*(Data!$C$16:$K$16=Model!$K128423)*(Data!$C$17:$K$19))","v":1.06},92.58,{"$f":"_xlfn.IFS(M128423>70,\"Serviceable\",M128423>30, \"Limited Life\",M128423<=30, \"Unserviceable\")","v":"Serviceable"}]
[null,85676,1980,"Wood Creos Impregnated","Serviceable","Class 3",2018,100,93.56,7,{"$f":"INDEX(Lists!$B$32:$B$40, MATCH(2020-C128451, Lists!$C$32:$C$40,1))","v":"31-40"},{"$f":"SUMPRODUCT((Data!$B$17:$B$19=Model!$F128451)*(Data!$C$16:$K$16=Model!$K128451)*(Data!$C$17:$K$19))","v":3.22},77.459999999999994,{"$f":"_xlfn.IFS(M128451>70,\"Serviceable\",M128451>30, \"Limited Life\",M128451<=30, \"Unserviceable\")","v":"Serviceable"}]
[null,86305,2013,"Wood Creos Impregnated","Serviceable","Class 3",2018,100,97.26,7,{"$f":"INDEX(Lists!$B$32:$B$40, MATCH(2020-C128508, Lists!$C$32:$C$40,1))","v":"0-20"},{"$f":"SUMPRODUCT((Data!$B$17:$B$19=Model!$F128508)*(Data!$C$16:$K$16=Model!$K128508)*(Data!$C$17:$K$19))","v":1.37},90.41,{"$f":"_xlfn.IFS(M128508>70,\"Serviceable\",M128508>30, \"Limited Life\",M128508<=30, \"Unserviceable\")","v":"Serviceable"}]
[null,86769,2005,"Wood Creos Impregnated","Serviceable","Class 3",2019,100,98.63,6,{"$f":"INDEX(Lists!$B$32:$B$40, MATCH(2020-C128577, Lists!$C$32:$C$40,1))","v":"0-20"},{"$f":"SUMPRODUCT((Data!$B$17:$B$19=Model!$F128577)*(Data!$C$16:$K$16=Model!$K128577)*(Data!$C$17:$K$19))","v":1.37},91.78,{"$f":"_xlfn.IFS(M128577>70,\"Serviceable\",M128577>30, \"Limited Life\",M128577<=30, \"Unserviceable\")","v":"Serviceable"}]
[null,87562,1948,"Wood Untreated Round","Serviceable","Class 3",2019,120,117.84,6,{"$f":"INDEX(Lists!$B$32:$B$40, MATCH(2020-C128694, Lists!$C$32:$C$40,1))","v":"71-80"},{"$f":"SUMPRODUCT((Data!$B$17:$B$19=Model!$F128694)*(Data!$C$16:$K$16=Model!$K128694)*(Data!$C$17:$K$19))","v":2.16},107.03999999999999,{"$f":"_xlfn.IFS(M128694>70,\"Serviceable\",M128694>30, \"Limited Life\",M128694<=30, \"Unserviceable\")","v":"Serviceable"}]
[null,87926,2005,"Wood Creos Impregnated","Serviceable","Class 3",2019,100,98.63,6,{"$f":"INDEX(Lists!$B$32:$B$40, MATCH(2020-C128746, Lists!$C$32:$C$40,1))","v":"0-20"},{"$f":"SUMPRODUCT((Data!$B$17:$B$19=Model!$F128746)*(Data!$C$16:$K$16=Model!$K128746)*(Data!$C$17:$K$19))","v":1.37},91.78,{"$f":"_xlfn.IFS(M128746>70,\"Serviceable\",M128746>30, \"Limited Life\",M128746<=30, \"Unserviceable\")","v":"Serviceable"}]
[null,88628,1990,"Wood Creos Impregnated","Serviceable","Class 3",2018,80,76.319999999999993,7,{"$f":"INDEX(Lists!$B$32:$B$40, MATCH(2020-C128822, Lists!$C$32:$C$40,1))","v":"21-30"},{"$f":"SUMPRODUCT((Data!$B$17:$B$19=Model!$F128822)*(Data!$C$16:$K$16=Model!$K128822)*(Data!$C$17:$K$19))","v":1.84},67.12,{"$f":"_xlfn.IFS(M128822>70,\"Serviceable\",M128822>30, \"Limited Life\",M128822<=30, \"Unserviceable\")","v":"Limited Life"}]
[null,89556,1971,"Wood Creos Impregnated","Serviceable","Class 3",2020,80,80,5,{"$f":"INDEX(Lists!$B$32:$B$40, MATCH(2020-C128899, Lists!$C$32:$C$40,1))","v":"41-50"},{"$f":"SUMPRODUCT((Data!$B$17:$B$19=Model!$F128899)*(Data!$C$16:$K$16=Model!$K128899)*(Data!$C$17:$K$19))","v":3.78},61.1,{"$f":"_xlfn.IFS(M128899>70,\"Serviceable\",M128899>30, \"Limited Life\",M128899<=30, \"Unserviceable\")","v":"Limited Life"}]
[null,89792,2004,"Wood Creos Impregnated","Serviceable","Class 3",2016,100,94.52,9,{"$f":"INDEX(Lists!$B$32:$B$40, MATCH(2020-C128916, Lists!$C$32:$C$40,1))","v":"0-20"},{"$f":"SUMPRODUCT((Data!$B$17:$B$19=Model!$F128916)*(Data!$C$16:$K$16=Model!$K128916)*(Data!$C$17:$K$19))","v":1.37},87.67,{"$f":"_xlfn.IFS(M128916>70,\"Serviceable\",M128916>30, \"Limited Life\",M128916<=30, \"Unserviceable\")","v":"Serviceable"}]
[null,90537,2008,"Wood Creos Impregnated","Serviceable","Class 3",2018,100,97.26,7,{"$f":"INDEX(Lists!$B$32:$B$40, MATCH(2020-C128998, Lists!$C$32:$C$40,1))","v":"0-20"},{"$f":"SUMPRODUCT((Data!$B$17:$B$19=Model!$F128998)*(Data!$C$16:$K$16=Model!$K128998)*(Data!$C$17:$K$19))","v":1.37},90.41,{"$f":"_xlfn.IFS(M128998>70,\"Serviceable\",M128998>30, \"Limited Life\",M128998<=30, \"Unserviceable\")","v":"Serviceable"}]
[null,91203,1970,"Wood Creos Impregnated","Serviceable","Class 3",2019,100,96.22,6,{"$f":"INDEX(Lists!$B$32:$B$40, MATCH(2020-C129069, Lists!$C$32:$C$40,1))","v":"41-50"},{"$f":"SUMPRODUCT((Data!$B$17:$B$19=Model!$F129069)*(Data!$C$16:$K$16=Model!$K129069)*(Data!$C$17:$K$19))","v":3.78},77.319999999999993,{"$f":"_xlfn.IFS(M129069>70,\"Serviceable\",M129069>30, \"Limited Life\",M129069<=30, \"Unserviceable\")","v":"Serviceable"}]
[null,91823,2002,"Wood Creos Impregnated","Serviceable","Class 3",2019,100,98.63,6,{"$f":"INDEX(Lists!$B$32:$B$40, MATCH(2020-C129138, Lists!$C$32:$C$40,1))","v":"0-20"},{"$f":"SUMPRODUCT((Data!$B$17:$B$19=Model!$F129138)*(Data!$C$16:$K$16=Model!$K129138)*(Data!$C$17:$K$19))","v":1.37},91.78,{"$f":"_xlfn.IFS(M129138>70,\"Serviceable\",M129138>30, \"Limited Life\",M129138<=30, \"Unserviceable\")","v":"Serviceable"}]
[null,92760,2011,"Wood Creos Impregnated","Serviceable","Class 3",2016,120,114.52,9,{"$f":"INDEX(Lists!$B$32:$B$40, MATCH(2020-C129241, Lists!$C$32:$C$40,1))","v":"0-20"},{"$f":"SUMPRODUCT((Data!$B$17:$B$19=Model!$F129241)*(Data!$C$16:$K$16=Model!$K129241)*(Data!$C$17:$K$19))","v":1.37},107.67,{"$f":"_xlfn.IFS(M129241>70,\"Serviceable\",M129241>30, \"Limited Life\",M129241<=30, \"Unserviceable\")","v":"Serviceable"}]
[null,93423,1947,"Wood Untreated Round","Serviceable","Class 2",2016,100,85.88,9,{"$f":"INDEX(Lists!$B$32:$B$40, MATCH(2020-C129307, Lists!$C$32:$C$40,1))","v":"71-80"},{"$f":"SUMPRODUCT((Data!$B$17:$B$19=Model!$F129307)*(Data!$C$16:$K$16=Model!$K129307)*(Data!$C$17:$K$19))","v":3.53},68.23,{"$f":"_xlfn.IFS(M129307>70,\"Serviceable\",M129307>30, \"Limited Life\",M129307<=30, \"Unserviceable\")","v":"Limited Life"}]
[null,94062,2004,"Wood Untreated Dressed","Limited Life","Class 2",2020,40,40,5,{"$f":"INDEX(Lists!$B$32:$B$40, MATCH(2020-C129369, Lists!$C$32:$C$40,1))","v":"0-20"},{"$f":"SUMPRODUCT((Data!$B$17:$B$19=Model!$F129369)*(Data!$C$16:$K$16=Model!$K129369)*(Data!$C$17:$K$19))","v":1.22},33.9,{"$f":"_xlfn.IFS(M129369>70,\"Serviceable\",M129369>30, \"Limited Life\",M129369<=30, \"Unserviceable\")","v":"Limited Life"}]
[null,94365,1966,"Wood Creos Impregnated","Serviceable","Class 3",2020,100,100,5,{"$f":"INDEX(Lists!$B$32:$B$40, MATCH(2020-C129392, Lists!$C$32:$C$40,1))","v":"51-60"},{"$f":"SUMPRODUCT((Data!$B$17:$B$19=Model!$F129392)*(Data!$C$16:$K$16=Model!$K129392)*(Data!$C$17:$K$19))","v":2.73},86.35,{"$f":"_xlfn.IFS(M129392>70,\"Serviceable\",M129392>30, \"Limited Life\",M129392<=30, \"Unserviceable\")","v":"Serviceable"}]
[null,95106,2005,"Wood Creos Impregnated","Serviceable","Class 3",2018,100,97.26,7,{"$f":"INDEX(Lists!$B$32:$B$40, MATCH(2020-C129461, Lists!$C$32:$C$40,1))","v":"0-20"},{"$f":"SUMPRODUCT((Data!$B$17:$B$19=Model!$F129461)*(Data!$C$16:$K$16=Model!$K129461)*(Data!$C$17:$K$19))","v":1.37},90.41,{"$f":"_xlfn.IFS(M129461>70,\"Serviceable\",M129461>30, \"Limited Life\",M129461<=30, \"Unserviceable\")","v":"Serviceable"}]
[null,96036,2013,"Wood Untreated Round","Serviceable","Class 2",2017,100,96.34,8,{"$f":"INDEX(Lists!$B$32:$B$40, MATCH(2020-C129545, Lists!$C$32:$C$40,1))","v":"0-20"},{"$f":"SUMPRODUCT((Data!$B$17:$B$19=Model!$F129545)*(Data!$C$16:$K$16=Model!$K129545)*(Data!$C$17:$K$19))","v":1.22},90.24,{"$f":"_xlfn.IFS(M129545>70,\"Serviceable\",M129545>30, \"Limited Life\",M129545<=30, \"Unserviceable\")","v":"Serviceable"}]
[null,97039,1990,"Wood Creos Impregnated","Serviceable","Class 3",2019,90,88.16,6,{"$f":"INDEX(Lists!$B$32:$B$40, MATCH(2020-C129630, Lists!$C$32:$C$40,1))","v":"21-30"},{"$f":"SUMPRODUCT((Data!$B$17:$B$19=Model!$F129630)*(Data!$C$16:$K$16=Model!$K129630)*(Data!$C$17:$K$19))","v":1.84},78.959999999999994,{"$f":"_xlfn.IFS(M129630>70,\"Serviceable\",M129630>30, \"Limited Life\",M129630<=30, \"Unserviceable\")","v":"Serviceable"}]
[null,97540,2014,"Wood Creos Impregnated","Serviceable","Class 3",2017,171.56902865306319,167.45902865306317,8,{"$f":"INDEX(Lists!$B$32:$B$40, MATCH(2020-C129673, Lists!$C$32:$C$40,1))","v":"0-20"},{"$f":"SUMPRODUCT((Data!$B$17:$B$19=Model!$F129673)*(Data!$C$16:$K$16=Model!$K129673)*(Data!$C$17:$K$19))","v":1.37},160.60902865306318,{"$f":"_xlfn.IFS(M129673>70,\"Serviceable\",M129673>30, \"Limited Life\",M129673<=30, \"Unserviceable\")","v":"Serviceable"}]
[null,98746,1964,"Wood Creos Impregnated","Serviceable","Class 3",2020,171.56902865306319,171.56902865306319,5,{"$f":"INDEX(Lists!$B$32:$B$40, MATCH(2020-C129783, Lists!$C$32:$C$40,1))","v":"51-60"},{"$f":"SUMPRODUCT((Data!$B$17:$B$19=Model!$F129783)*(Data!$C$16:$K$16=Model!$K129783)*(Data!$C$17:$K$19))","v":2.73},157.91902865306318,{"$f":"_xlfn.IFS(M129783>70,\"Serviceable\",M129783>30, \"Limited Life\",M129783<=30, \"Unserviceable\")","v":"Serviceable"}]
[null,98952,2009,"Wood Creos Impregnated","Serviceable","Class 3",2019,100,98.63,{"$f":"2025-G129800","v":6},{"$f":"INDEX(Lists!$B$32:$B$40, MATCH(2020-C129800, Lists!$C$32:$C$40,1))","v":"0-20"},{"$f":"SUMPRODUCT((Data!$B$17:$B$19=Model!$F129800)*(Data!$C$16:$K$16=Model!$K129800)*(Data!$C$17:$K$19))","v":1.37},{"$f":"IF(IF(H129800>=700,999,(H129800-L129800*J129800))<0,0,IF(H129800>=700,999,(H129800-L129800*J129800)))","v":91.78},{"$f":"_xlfn.IFS(M129800>70,\"Serviceable\",M129800>30, \"Limited Life\",M129800<=30, \"Unserviceable\")","v":"Serviceable"}]
[null,100022,2002,"Wood Creos Impregnated","Limited Life","Class 3",2020,35,35,5,{"$f":"INDEX(Lists!$B$32:$B$40, MATCH(2020-C129916, Lists!$C$32:$C$40,1))","v":"0-20"},{"$f":"SUMPRODUCT((Data!$B$17:$B$19=Model!$F129916)*(Data!$C$16:$K$16=Model!$K129916)*(Data!$C$17:$K$19))","v":1.37},28.15,{"$f":"_xlfn.IFS(M129916>70,\"Serviceable\",M129916>30, \"Limited Life\",M129916<=30, \"Unserviceable\")","v":"Unserviceable"}]
[null,100525,2006,"Wood Untreated Round","Serviceable","Class 2",2019,100,98.78,6,{"$f":"INDEX(Lists!$B$32:$B$40, MATCH(2020-C129953, Lists!$C$32:$C$40,1))","v":"0-20"},{"$f":"SUMPRODUCT((Data!$B$17:$B$19=Model!$F129953)*(Data!$C$16:$K$16=Model!$K129953)*(Data!$C$17:$K$19))","v":1.22},92.68,{"$f":"_xlfn.IFS(M129953>70,\"Serviceable\",M129953>30, \"Limited Life\",M129953<=30, \"Unserviceable\")","v":"Serviceable"}]
[null,101066,2001,"Wood Creos Impregnated","Serviceable","Class 3",2019,100,98.63,6,{"$f":"INDEX(Lists!$B$32:$B$40, MATCH(2020-C130022, Lists!$C$32:$C$40,1))","v":"0-20"},{"$f":"SUMPRODUCT((Data!$B$17:$B$19=Model!$F130022)*(Data!$C$16:$K$16=Model!$K130022)*(Data!$C$17:$K$19))","v":1.37},91.78,{"$f":"_xlfn.IFS(M130022>70,\"Serviceable\",M130022>30, \"Limited Life\",M130022<=30, \"Unserviceable\")","v":"Serviceable"}]
[null,101735,2013,"Wood Creos Impregnated","Serviceable","Class 3",2017,100,95.89,8,{"$f":"INDEX(Lists!$B$32:$B$40, MATCH(2020-C130092, Lists!$C$32:$C$40,1))","v":"0-20"},{"$f":"SUMPRODUCT((Data!$B$17:$B$19=Model!$F130092)*(Data!$C$16:$K$16=Model!$K130092)*(Data!$C$17:$K$19))","v":1.37},89.039999999999992,{"$f":"_xlfn.IFS(M130092>70,\"Serviceable\",M130092>30, \"Limited Life\",M130092<=30, \"Unserviceable\")","v":"Serviceable"}]
[null,102886,1997,"Wood Creos Impregnated","Serviceable","Class 3",2019,100,98.16,6,{"$f":"INDEX(Lists!$B$32:$B$40, MATCH(2020-C130191, Lists!$C$32:$C$40,1))","v":"21-30"},{"$f":"SUMPRODUCT((Data!$B$17:$B$19=Model!$F130191)*(Data!$C$16:$K$16=Model!$K130191)*(Data!$C$17:$K$19))","v":1.84},88.96,{"$f":"_xlfn.IFS(M130191>70,\"Serviceable\",M130191>30, \"Limited Life\",M130191<=30, \"Unserviceable\")","v":"Serviceable"}]
[null,103189,1991,"Wood Creos Impregnated","Serviceable","Class 3",2016,100,92.64,9,{"$f":"INDEX(Lists!$B$32:$B$40, MATCH(2020-C130220, Lists!$C$32:$C$40,1))","v":"21-30"},{"$f":"SUMPRODUCT((Data!$B$17:$B$19=Model!$F130220)*(Data!$C$16:$K$16=Model!$K130220)*(Data!$C$17:$K$19))","v":1.84},83.44,{"$f":"_xlfn.IFS(M130220>70,\"Serviceable\",M130220>30, \"Limited Life\",M130220<=30, \"Unserviceable\")","v":"Serviceable"}]
[null,103854,1996,"CCA Treated Pole","Serviceable","Class 1",2017,80,74.12,8,{"$f":"INDEX(Lists!$B$32:$B$40, MATCH(2020-C130276, Lists!$C$32:$C$40,1))","v":"21-30"},{"$f":"SUMPRODUCT((Data!$B$17:$B$19=Model!$F130276)*(Data!$C$16:$K$16=Model!$K130276)*(Data!$C$17:$K$19))","v":1.96},64.319999999999993,{"$f":"_xlfn.IFS(M130276>70,\"Serviceable\",M130276>30, \"Limited Life\",M130276<=30, \"Unserviceable\")","v":"Limited Life"}]
[null,105143,2013,"Wood Creos Impregnated","Serviceable","Class 3",2017,100,95.89,8,{"$f":"INDEX(Lists!$B$32:$B$40, MATCH(2020-C130361, Lists!$C$32:$C$40,1))","v":"0-20"},{"$f":"SUMPRODUCT((Data!$B$17:$B$19=Model!$F130361)*(Data!$C$16:$K$16=Model!$K130361)*(Data!$C$17:$K$19))","v":1.37},89.039999999999992,{"$f":"_xlfn.IFS(M130361>70,\"Serviceable\",M130361>30, \"Limited Life\",M130361<=30, \"Unserviceable\")","v":"Serviceable"}]
[null,106627,1949,"Wood Creos Impregnated","Limited Life","Class 2",2016,70,55.88,9,{"$f":"INDEX(Lists!$B$32:$B$40, MATCH(2020-C130463, Lists!$C$32:$C$40,1))","v":"71-80"},{"$f":"SUMPRODUCT((Data!$B$17:$B$19=Model!$F130463)*(Data!$C$16:$K$16=Model!$K130463)*(Data!$C$17:$K$19))","v":3.53},38.230000000000004,{"$f":"_xlfn.IFS(M130463>70,\"Serviceable\",M130463>30, \"Limited Life\",M130463<=30, \"Unserviceable\")","v":"Limited Life"}]
[null,107213,1997,"Wood Untreated Dressed","Serviceable","Class 1",2016,80,72.16,9,{"$f":"INDEX(Lists!$B$32:$B$40, MATCH(2020-C130514, Lists!$C$32:$C$40,1))","v":"21-30"},{"$f":"SUMPRODUCT((Data!$B$17:$B$19=Model!$F130514)*(Data!$C$16:$K$16=Model!$K130514)*(Data!$C$17:$K$19))","v":1.96},62.36,{"$f":"_xlfn.IFS(M130514>70,\"Serviceable\",M130514>30, \"Limited Life\",M130514<=30, \"Unserviceable\")","v":"Limited Life"}]
[null,108855,2003,"Wood Creos Impregnated","Serviceable","Class 3",2019,90,88.63,6,{"$f":"INDEX(Lists!$B$32:$B$40, MATCH(2020-C130591, Lists!$C$32:$C$40,1))","v":"0-20"},{"$f":"SUMPRODUCT((Data!$B$17:$B$19=Model!$F130591)*(Data!$C$16:$K$16=Model!$K130591)*(Data!$C$17:$K$19))","v":1.37},81.78,{"$f":"_xlfn.IFS(M130591>70,\"Serviceable\",M130591>30, \"Limited Life\",M130591<=30, \"Unserviceable\")","v":"Serviceable"}]
[null,109692,1966,"Wood Creos Impregnated","Serviceable","Class 3",2015,100,86.35,10,{"$f":"INDEX(Lists!$B$32:$B$40, MATCH(2020-C130667, Lists!$C$32:$C$40,1))","v":"51-60"},{"$f":"SUMPRODUCT((Data!$B$17:$B$19=Model!$F130667)*(Data!$C$16:$K$16=Model!$K130667)*(Data!$C$17:$K$19))","v":2.73},72.7,{"$f":"_xlfn.IFS(M130667>70,\"Serviceable\",M130667>30, \"Limited Life\",M130667<=30, \"Unserviceable\")","v":"Serviceable"}]
[null,109759,2011,"Wood Creos Impregnated","Serviceable","Class 3",2015,90,83.15,10,{"$f":"INDEX(Lists!$B$32:$B$40, MATCH(2020-C130684, Lists!$C$32:$C$40,1))","v":"0-20"},{"$f":"SUMPRODUCT((Data!$B$17:$B$19=Model!$F130684)*(Data!$C$16:$K$16=Model!$K130684)*(Data!$C$17:$K$19))","v":1.37},76.3,{"$f":"_xlfn.IFS(M130684>70,\"Serviceable\",M130684>30, \"Limited Life\",M130684<=30, \"Unserviceable\")","v":"Serviceable"}]
[null,110925,1997,"Wood Untreated Round","Limited Life","Class 2",2020,70,70,5,{"$f":"INDEX(Lists!$B$32:$B$40, MATCH(2020-C130767, Lists!$C$32:$C$40,1))","v":"21-30"},{"$f":"SUMPRODUCT((Data!$B$17:$B$19=Model!$F130767)*(Data!$C$16:$K$16=Model!$K130767)*(Data!$C$17:$K$19))","v":1.89},60.55,{"$f":"_xlfn.IFS(M130767>70,\"Serviceable\",M130767>30, \"Limited Life\",M130767<=30, \"Unserviceable\")","v":"Limited Life"}]
[null,111412,2011,"Wood Creos Impregnated","Serviceable","Class 3",2015,100,93.15,10,{"$f":"INDEX(Lists!$B$32:$B$40, MATCH(2020-C130837, Lists!$C$32:$C$40,1))","v":"0-20"},{"$f":"SUMPRODUCT((Data!$B$17:$B$19=Model!$F130837)*(Data!$C$16:$K$16=Model!$K130837)*(Data!$C$17:$K$19))","v":1.37},86.3,{"$f":"_xlfn.IFS(M130837>70,\"Serviceable\",M130837>30, \"Limited Life\",M130837<=30, \"Unserviceable\")","v":"Serviceable"}]
[null,111792,2007,"Wood Creos Impregnated","Serviceable","Class 3",2020,90,90,5,{"$f":"INDEX(Lists!$B$32:$B$40, MATCH(2020-C130895, Lists!$C$32:$C$40,1))","v":"0-20"},{"$f":"SUMPRODUCT((Data!$B$17:$B$19=Model!$F130895)*(Data!$C$16:$K$16=Model!$K130895)*(Data!$C$17:$K$19))","v":1.37},83.15,{"$f":"_xlfn.IFS(M130895>70,\"Serviceable\",M130895>30, \"Limited Life\",M130895<=30, \"Unserviceable\")","v":"Serviceable"}]
[null,112914,1993,"Wood Untreated Round","Serviceable","Class 2",2015,80,70.55,10,{"$f":"INDEX(Lists!$B$32:$B$40, MATCH(2020-C130990, Lists!$C$32:$C$40,1))","v":"21-30"},{"$f":"SUMPRODUCT((Data!$B$17:$B$19=Model!$F130990)*(Data!$C$16:$K$16=Model!$K130990)*(Data!$C$17:$K$19))","v":1.89},61.1,{"$f":"_xlfn.IFS(M130990>70,\"Serviceable\",M130990>30, \"Limited Life\",M130990<=30, \"Unserviceable\")","v":"Limited Life"}]
[null,113127,1995,"Wood Creos Impregnated","Serviceable","Class 3",2019,100,98.16,6,{"$f":"INDEX(Lists!$B$32:$B$40, MATCH(2020-C131007, Lists!$C$32:$C$40,1))","v":"21-30"},{"$f":"SUMPRODUCT((Data!$B$17:$B$19=Model!$F131007)*(Data!$C$16:$K$16=Model!$K131007)*(Data!$C$17:$K$19))","v":1.84},88.96,{"$f":"_xlfn.IFS(M131007>70,\"Serviceable\",M131007>30, \"Limited Life\",M131007<=30, \"Unserviceable\")","v":"Serviceable"}]
[null,116020,1963,"Wood Creos Impregnated","Serviceable","Class 3",2018,100,94.54,7,{"$f":"INDEX(Lists!$B$32:$B$40, MATCH(2020-C131138, Lists!$C$32:$C$40,1))","v":"51-60"},{"$f":"SUMPRODUCT((Data!$B$17:$B$19=Model!$F131138)*(Data!$C$16:$K$16=Model!$K131138)*(Data!$C$17:$K$19))","v":2.73},80.89,{"$f":"_xlfn.IFS(M131138>70,\"Serviceable\",M131138>30, \"Limited Life\",M131138<=30, \"Unserviceable\")","v":"Serviceable"}]
[null,116658,2013,"Wood Creos Impregnated","Serviceable","Class 3",2019,100,98.63,6,{"$f":"INDEX(Lists!$B$32:$B$40, MATCH(2020-C131160, Lists!$C$32:$C$40,1))","v":"0-20"},{"$f":"SUMPRODUCT((Data!$B$17:$B$19=Model!$F131160)*(Data!$C$16:$K$16=Model!$K131160)*(Data!$C$17:$K$19))","v":1.37},91.78,{"$f":"_xlfn.IFS(M131160>70,\"Serviceable\",M131160>30, \"Limited Life\",M131160<=30, \"Unserviceable\")","v":"Serviceable"}]
[null,118890,2002,"Wood Untreated Round","Serviceable","Class 1",2020,100,100,5,{"$f":"INDEX(Lists!$B$32:$B$40, MATCH(2020-C131245, Lists!$C$32:$C$40,1))","v":"0-20"},{"$f":"SUMPRODUCT((Data!$B$17:$B$19=Model!$F131245)*(Data!$C$16:$K$16=Model!$K131245)*(Data!$C$17:$K$19))","v":1.06},94.7,{"$f":"_xlfn.IFS(M131245>70,\"Serviceable\",M131245>30, \"Limited Life\",M131245<=30, \"Unserviceable\")","v":"Serviceable"}]
[null,120013,2007,"Wood Creos Impregnated","Serviceable","Class 3",2017,100,95.89,8,{"$f":"INDEX(Lists!$B$32:$B$40, MATCH(2020-C131314, Lists!$C$32:$C$40,1))","v":"0-20"},{"$f":"SUMPRODUCT((Data!$B$17:$B$19=Model!$F131314)*(Data!$C$16:$K$16=Model!$K131314)*(Data!$C$17:$K$19))","v":1.37},89.039999999999992,{"$f":"_xlfn.IFS(M131314>70,\"Serviceable\",M131314>30, \"Limited Life\",M131314<=30, \"Unserviceable\")","v":"Serviceable"}]
[null,121655,1995,"Wood Creos Impregnated","Serviceable","Class 3",2018,90,86.32,7,{"$f":"INDEX(Lists!$B$32:$B$40, MATCH(2020-C131398, Lists!$C$32:$C$40,1))","v":"21-30"},{"$f":"SUMPRODUCT((Data!$B$17:$B$19=Model!$F131398)*(Data!$C$16:$K$16=Model!$K131398)*(Data!$C$17:$K$19))","v":1.84},77.12,{"$f":"_xlfn.IFS(M131398>70,\"Serviceable\",M131398>30, \"Limited Life\",M131398<=30, \"Unserviceable\")","v":"Serviceable"}]
[null,122466,1990,"Wood Creos Impregnated","Serviceable","Class 3",2018,100,96.32,7,{"$f":"INDEX(Lists!$B$32:$B$40, MATCH(2020-C131442, Lists!$C$32:$C$40,1))","v":"21-30"},{"$f":"SUMPRODUCT((Data!$B$17:$B$19=Model!$F131442)*(Data!$C$16:$K$16=Model!$K131442)*(Data!$C$17:$K$19))","v":1.84},87.12,{"$f":"_xlfn.IFS(M131442>70,\"Serviceable\",M131442>30, \"Limited Life\",M131442<=30, \"Unserviceable\")","v":"Serviceable"}]
[null,122923,1992,"Wood Creos Impregnated","Serviceable","Class 3",2020,100,100,5,{"$f":"INDEX(Lists!$B$32:$B$40, MATCH(2020-C131483, Lists!$C$32:$C$40,1))","v":"21-30"},{"$f":"SUMPRODUCT((Data!$B$17:$B$19=Model!$F131483)*(Data!$C$16:$K$16=Model!$K131483)*(Data!$C$17:$K$19))","v":1.84},90.8,{"$f":"_xlfn.IFS(M131483>70,\"Serviceable\",M131483>30, \"Limited Life\",M131483<=30, \"Unserviceable\")","v":"Serviceable"}]
[null,124080,2005,"Wood Untreated Round","Serviceable","Class 2",2020,100,100,5,{"$f":"INDEX(Lists!$B$32:$B$40, MATCH(2020-C131568, Lists!$C$32:$C$40,1))","v":"0-20"},{"$f":"SUMPRODUCT((Data!$B$17:$B$19=Model!$F131568)*(Data!$C$16:$K$16=Model!$K131568)*(Data!$C$17:$K$19))","v":1.22},93.9,{"$f":"_xlfn.IFS(M131568>70,\"Serviceable\",M131568>30, \"Limited Life\",M131568<=30, \"Unserviceable\")","v":"Serviceable"}]
[null,124934,2012,"Wood Creos Impregnated","Serviceable","Class 3",2017,100,95.89,8,{"$f":"INDEX(Lists!$B$32:$B$40, MATCH(2020-C131618, Lists!$C$32:$C$40,1))","v":"0-20"},{"$f":"SUMPRODUCT((Data!$B$17:$B$19=Model!$F131618)*(Data!$C$16:$K$16=Model!$K131618)*(Data!$C$17:$K$19))","v":1.37},89.039999999999992,{"$f":"_xlfn.IFS(M131618>70,\"Serviceable\",M131618>30, \"Limited Life\",M131618<=30, \"Unserviceable\")","v":"Serviceable"}]
[null,126717,2005,"Wood Creos Impregnated","Serviceable","Class 3",2018,100,97.26,7,{"$f":"INDEX(Lists!$B$32:$B$40, MATCH(2020-C131721, Lists!$C$32:$C$40,1))","v":"0-20"},{"$f":"SUMPRODUCT((Data!$B$17:$B$19=Model!$F131721)*(Data!$C$16:$K$16=Model!$K131721)*(Data!$C$17:$K$19))","v":1.37},90.41,{"$f":"_xlfn.IFS(M131721>70,\"Serviceable\",M131721>30, \"Limited Life\",M131721<=30, \"Unserviceable\")","v":"Serviceable"}]
[null,127305,1994,"CCA Treated Pole","Serviceable","Class 1",2019,166.31691553103065,164.35691553103064,6,{"$f":"INDEX(Lists!$B$32:$B$40, MATCH(2020-C131780, Lists!$C$32:$C$40,1))","v":"21-30"},{"$f":"SUMPRODUCT((Data!$B$17:$B$19=Model!$F131780)*(Data!$C$16:$K$16=Model!$K131780)*(Data!$C$17:$K$19))","v":1.96},154.55691553103065,{"$f":"_xlfn.IFS(M131780>70,\"Serviceable\",M131780>30, \"Limited Life\",M131780<=30, \"Unserviceable\")","v":"Serviceable"}]
[null,128461,1997,"Wood Creos Impregnated","Serviceable","Class 3",2019,100,98.16,6,{"$f":"INDEX(Lists!$B$32:$B$40, MATCH(2020-C131874, Lists!$C$32:$C$40,1))","v":"21-30"},{"$f":"SUMPRODUCT((Data!$B$17:$B$19=Model!$F131874)*(Data!$C$16:$K$16=Model!$K131874)*(Data!$C$17:$K$19))","v":1.84},88.96,{"$f":"_xlfn.IFS(M131874>70,\"Serviceable\",M131874>30, \"Limited Life\",M131874<=30, \"Unserviceable\")","v":"Serviceable"}]
[null,128714,1959,"Wood Creos Impregnated","Serviceable","Class 3",2019,100,97.98,6,{"$f":"INDEX(Lists!$B$32:$B$40, MATCH(2020-C131891, Lists!$C$32:$C$40,1))","v":"61-70"},{"$f":"SUMPRODUCT((Data!$B$17:$B$19=Model!$F131891)*(Data!$C$16:$K$16=Model!$K131891)*(Data!$C$17:$K$19))","v":2.02},87.88,{"$f":"_xlfn.IFS(M131891>70,\"Serviceable\",M131891>30, \"Limited Life\",M131891<=30, \"Unserviceable\")","v":"Serviceable"}]
[null,130316,1976,"Wood Untreated Dressed","Serviceable","Class 1",2018,120,116.5,7,{"$f":"INDEX(Lists!$B$32:$B$40, MATCH(2020-C131989, Lists!$C$32:$C$40,1))","v":"41-50"},{"$f":"SUMPRODUCT((Data!$B$17:$B$19=Model!$F131989)*(Data!$C$16:$K$16=Model!$K131989)*(Data!$C$17:$K$19))","v":1.75},107.75,{"$f":"_xlfn.IFS(M131989>70,\"Serviceable\",M131989>30, \"Limited Life\",M131989<=30, \"Unserviceable\")","v":"Serviceable"}]
[null,131353,1958,"Wood Creos Impregnated","Serviceable","Class 3",2019,120,117.98,6,{"$f":"INDEX(Lists!$B$32:$B$40, MATCH(2020-C132044, Lists!$C$32:$C$40,1))","v":"61-70"},{"$f":"SUMPRODUCT((Data!$B$17:$B$19=Model!$F132044)*(Data!$C$16:$K$16=Model!$K132044)*(Data!$C$17:$K$19))","v":2.02},107.88,{"$f":"_xlfn.IFS(M132044>70,\"Serviceable\",M132044>30, \"Limited Life\",M132044<=30, \"Unserviceable\")","v":"Serviceable"}]
[null,132274,1965,"Wood Creos Impregnated","Serviceable","Class 3",2018,100,94.54,7,{"$f":"INDEX(Lists!$B$32:$B$40, MATCH(2020-C132129, Lists!$C$32:$C$40,1))","v":"51-60"},{"$f":"SUMPRODUCT((Data!$B$17:$B$19=Model!$F132129)*(Data!$C$16:$K$16=Model!$K132129)*(Data!$C$17:$K$19))","v":2.73},80.89,{"$f":"_xlfn.IFS(M132129>70,\"Serviceable\",M132129>30, \"Limited Life\",M132129<=30, \"Unserviceable\")","v":"Serviceable"}]
[null,132684,1967,"Wood Creos Impregnated","Serviceable","Class 3",2020,80,80,5,{"$f":"INDEX(Lists!$B$32:$B$40, MATCH(2020-C132165, Lists!$C$32:$C$40,1))","v":"51-60"},{"$f":"SUMPRODUCT((Data!$B$17:$B$19=Model!$F132165)*(Data!$C$16:$K$16=Model!$K132165)*(Data!$C$17:$K$19))","v":2.73},66.349999999999994,{"$f":"_xlfn.IFS(M132165>70,\"Serviceable\",M132165>30, \"Limited Life\",M132165<=30, \"Unserviceable\")","v":"Limited Life"}]
[null,134451,2008,"Wood Creos Impregnated","Serviceable","Class 3",2018,100,97.26,7,{"$f":"INDEX(Lists!$B$32:$B$40, MATCH(2020-C132282, Lists!$C$32:$C$40,1))","v":"0-20"},{"$f":"SUMPRODUCT((Data!$B$17:$B$19=Model!$F132282)*(Data!$C$16:$K$16=Model!$K132282)*(Data!$C$17:$K$19))","v":1.37},90.41,{"$f":"_xlfn.IFS(M132282>70,\"Serviceable\",M132282>30, \"Limited Life\",M132282<=30, \"Unserviceable\")","v":"Serviceable"}]
[null,134575,1993,"Wood Creos Impregnated","Serviceable","Class 3",2016,100,92.64,9,{"$f":"INDEX(Lists!$B$32:$B$40, MATCH(2020-C132293, Lists!$C$32:$C$40,1))","v":"21-30"},{"$f":"SUMPRODUCT((Data!$B$17:$B$19=Model!$F132293)*(Data!$C$16:$K$16=Model!$K132293)*(Data!$C$17:$K$19))","v":1.84},83.44,{"$f":"_xlfn.IFS(M132293>70,\"Serviceable\",M132293>30, \"Limited Life\",M132293<=30, \"Unserviceable\")","v":"Serviceable"}]
[null,135744,1964,"Wood Creos Impregnated","Serviceable","Class 3",2017,100,91.81,8,{"$f":"INDEX(Lists!$B$32:$B$40, MATCH(2020-C132367, Lists!$C$32:$C$40,1))","v":"51-60"},{"$f":"SUMPRODUCT((Data!$B$17:$B$19=Model!$F132367)*(Data!$C$16:$K$16=Model!$K132367)*(Data!$C$17:$K$19))","v":2.73},78.16,{"$f":"_xlfn.IFS(M132367>70,\"Serviceable\",M132367>30, \"Limited Life\",M132367<=30, \"Unserviceable\")","v":"Serviceable"}]
[null,137712,1994,"Wood Creos Impregnated","Serviceable","Class 3",2018,100,96.32,7,{"$f":"INDEX(Lists!$B$32:$B$40, MATCH(2020-C132452, Lists!$C$32:$C$40,1))","v":"21-30"},{"$f":"SUMPRODUCT((Data!$B$17:$B$19=Model!$F132452)*(Data!$C$16:$K$16=Model!$K132452)*(Data!$C$17:$K$19))","v":1.84},87.12,{"$f":"_xlfn.IFS(M132452>70,\"Serviceable\",M132452>30, \"Limited Life\",M132452<=30, \"Unserviceable\")","v":"Serviceable"}]
[null,140069,1990,"Wood Creos Impregnated","Serviceable","Class 3",2019,100,98.16,6,{"$f":"INDEX(Lists!$B$32:$B$40, MATCH(2020-C132536, Lists!$C$32:$C$40,1))","v":"21-30"},{"$f":"SUMPRODUCT((Data!$B$17:$B$19=Model!$F132536)*(Data!$C$16:$K$16=Model!$K132536)*(Data!$C$17:$K$19))","v":1.84},88.96,{"$f":"_xlfn.IFS(M132536>70,\"Serviceable\",M132536>30, \"Limited Life\",M132536<=30, \"Unserviceable\")","v":"Serviceable"}]
[null,141259,1999,"Wood Untreated Round","Limited Life","Class 3",2019,70,68.16,6,{"$f":"INDEX(Lists!$B$32:$B$40, MATCH(2020-C132605, Lists!$C$32:$C$40,1))","v":"21-30"},{"$f":"SUMPRODUCT((Data!$B$17:$B$19=Model!$F132605)*(Data!$C$16:$K$16=Model!$K132605)*(Data!$C$17:$K$19))","v":1.84},58.96,{"$f":"_xlfn.IFS(M132605>70,\"Serviceable\",M132605>30, \"Limited Life\",M132605<=30, \"Unserviceable\")","v":"Limited Life"}]
[null,141821,1992,"Wood Creos Impregnated","Serviceable","Class 3",2015,80,70.8,10,{"$f":"INDEX(Lists!$B$32:$B$40, MATCH(2020-C132631, Lists!$C$32:$C$40,1))","v":"21-30"},{"$f":"SUMPRODUCT((Data!$B$17:$B$19=Model!$F132631)*(Data!$C$16:$K$16=Model!$K132631)*(Data!$C$17:$K$19))","v":1.84},61.599999999999994,{"$f":"_xlfn.IFS(M132631>70,\"Serviceable\",M132631>30, \"Limited Life\",M132631<=30, \"Unserviceable\")","v":"Limited Life"}]
[null,144258,2013,"Wood Untreated Round","Serviceable","Class 1",2018,100,97.88,7,{"$f":"INDEX(Lists!$B$32:$B$40, MATCH(2020-C132758, Lists!$C$32:$C$40,1))","v":"0-20"},{"$f":"SUMPRODUCT((Data!$B$17:$B$19=Model!$F132758)*(Data!$C$16:$K$16=Model!$K132758)*(Data!$C$17:$K$19))","v":1.06},92.58,{"$f":"_xlfn.IFS(M132758>70,\"Serviceable\",M132758>30, \"Limited Life\",M132758<=30, \"Unserviceable\")","v":"Serviceable"}]
[null,144514,1983,"Wood Creos Impregnated","Serviceable","Class 2",2018,100,95.34,7,{"$f":"INDEX(Lists!$B$32:$B$40, MATCH(2020-C132775, Lists!$C$32:$C$40,1))","v":"31-40"},{"$f":"SUMPRODUCT((Data!$B$17:$B$19=Model!$F132775)*(Data!$C$16:$K$16=Model!$K132775)*(Data!$C$17:$K$19))","v":2.33},83.69,{"$f":"_xlfn.IFS(M132775>70,\"Serviceable\",M132775>30, \"Limited Life\",M132775<=30, \"Unserviceable\")","v":"Serviceable"}]
[null,146588,1967,"Wood Creos Impregnated","Serviceable","Class 3",2017,90,81.81,8,{"$f":"INDEX(Lists!$B$32:$B$40, MATCH(2020-C132840, Lists!$C$32:$C$40,1))","v":"51-60"},{"$f":"SUMPRODUCT((Data!$B$17:$B$19=Model!$F132840)*(Data!$C$16:$K$16=Model!$K132840)*(Data!$C$17:$K$19))","v":2.73},68.16,{"$f":"_xlfn.IFS(M132840>70,\"Serviceable\",M132840>30, \"Limited Life\",M132840<=30, \"Unserviceable\")","v":"Limited Life"}]
[null,152208,1969,"Wood Creos Impregnated","Serviceable","Class 3",2017,120,111.81,8,{"$f":"INDEX(Lists!$B$32:$B$40, MATCH(2020-C132928, Lists!$C$32:$C$40,1))","v":"51-60"},{"$f":"SUMPRODUCT((Data!$B$17:$B$19=Model!$F132928)*(Data!$C$16:$K$16=Model!$K132928)*(Data!$C$17:$K$19))","v":2.73},98.16,{"$f":"_xlfn.IFS(M132928>70,\"Serviceable\",M132928>30, \"Limited Life\",M132928<=30, \"Unserviceable\")","v":"Serviceable"}]
[null,165638,1971,"Wood Creos Impregnated","Serviceable","Class 3",2019,100,96.22,6,{"$f":"INDEX(Lists!$B$32:$B$40, MATCH(2020-C133002, Lists!$C$32:$C$40,1))","v":"41-50"},{"$f":"SUMPRODUCT((Data!$B$17:$B$19=Model!$F133002)*(Data!$C$16:$K$16=Model!$K133002)*(Data!$C$17:$K$19))","v":3.78},77.319999999999993,{"$f":"_xlfn.IFS(M133002>70,\"Serviceable\",M133002>30, \"Limited Life\",M133002<=30, \"Unserviceable\")","v":"Serviceable"}]
[null,166109,1975,"Wood Creos Impregnated","Limited Life","Class 3",2017,80,68.66,8,{"$f":"INDEX(Lists!$B$32:$B$40, MATCH(2020-C133081, Lists!$C$32:$C$40,1))","v":"41-50"},{"$f":"SUMPRODUCT((Data!$B$17:$B$19=Model!$F133081)*(Data!$C$16:$K$16=Model!$K133081)*(Data!$C$17:$K$19))","v":3.78},49.760000000000005,{"$f":"_xlfn.IFS(M133081>70,\"Serviceable\",M133081>30, \"Limited Life\",M133081<=30, \"Unserviceable\")","v":"Limited Life"}]
[null,166679,1975,"Wood Untreated Dressed","Serviceable","Class 1",2016,100,93,9,{"$f":"INDEX(Lists!$B$32:$B$40, MATCH(2020-C133166, Lists!$C$32:$C$40,1))","v":"41-50"},{"$f":"SUMPRODUCT((Data!$B$17:$B$19=Model!$F133166)*(Data!$C$16:$K$16=Model!$K133166)*(Data!$C$17:$K$19))","v":1.75},84.25,{"$f":"_xlfn.IFS(M133166>70,\"Serviceable\",M133166>30, \"Limited Life\",M133166<=30, \"Unserviceable\")","v":"Serviceable"}]
[null,167042,1982,"Wood Untreated Dressed","Serviceable","Class 1",2019,90,87.48,6,{"$f":"INDEX(Lists!$B$32:$B$40, MATCH(2020-C133211, Lists!$C$32:$C$40,1))","v":"31-40"},{"$f":"SUMPRODUCT((Data!$B$17:$B$19=Model!$F133211)*(Data!$C$16:$K$16=Model!$K133211)*(Data!$C$17:$K$19))","v":2.52},74.88,{"$f":"_xlfn.IFS(M133211>70,\"Serviceable\",M133211>30, \"Limited Life\",M133211<=30, \"Unserviceable\")","v":"Serviceable"}]
[null,167266,1998,"Wood Creos Impregnated","Serviceable","Class 3",2020,90,90,5,{"$f":"INDEX(Lists!$B$32:$B$40, MATCH(2020-C133251, Lists!$C$32:$C$40,1))","v":"21-30"},{"$f":"SUMPRODUCT((Data!$B$17:$B$19=Model!$F133251)*(Data!$C$16:$K$16=Model!$K133251)*(Data!$C$17:$K$19))","v":1.84},80.8,{"$f":"_xlfn.IFS(M133251>70,\"Serviceable\",M133251>30, \"Limited Life\",M133251<=30, \"Unserviceable\")","v":"Serviceable"}]
[null,167721,2002,"Wood Untreated Dressed","Serviceable","Class 1",2016,100,95.76,9,{"$f":"INDEX(Lists!$B$32:$B$40, MATCH(2020-C133336, Lists!$C$32:$C$40,1))","v":"0-20"},{"$f":"SUMPRODUCT((Data!$B$17:$B$19=Model!$F133336)*(Data!$C$16:$K$16=Model!$K133336)*(Data!$C$17:$K$19))","v":1.06},90.46,{"$f":"_xlfn.IFS(M133336>70,\"Serviceable\",M133336>30, \"Limited Life\",M133336<=30, \"Unserviceable\")","v":"Serviceable"}]
[null,168160,1973,"Wood Creos Impregnated","Limited Life","Class 3",2019,70,66.22,6,{"$f":"INDEX(Lists!$B$32:$B$40, MATCH(2020-C133387, Lists!$C$32:$C$40,1))","v":"41-50"},{"$f":"SUMPRODUCT((Data!$B$17:$B$19=Model!$F133387)*(Data!$C$16:$K$16=Model!$K133387)*(Data!$C$17:$K$19))","v":3.78},47.32,{"$f":"_xlfn.IFS(M133387>70,\"Serviceable\",M133387>30, \"Limited Life\",M133387<=30, \"Unserviceable\")","v":"Limited Life"}]
[null,169003,2002,"Wood Creos Impregnated","Unserviceable","Class 3",2020,20,20,5,{"$f":"INDEX(Lists!$B$32:$B$40, MATCH(2020-C133489, Lists!$C$32:$C$40,1))","v":"0-20"},{"$f":"SUMPRODUCT((Data!$B$17:$B$19=Model!$F133489)*(Data!$C$16:$K$16=Model!$K133489)*(Data!$C$17:$K$19))","v":1.37},13.149999999999999,{"$f":"_xlfn.IFS(M133489>70,\"Serviceable\",M133489>30, \"Limited Life\",M133489<=30, \"Unserviceable\")","v":"Unserviceable"}]
[null,169619,2001,"Wood Untreated Dressed","Serviceable","Class 3",2020,100,100,5,{"$f":"INDEX(Lists!$B$32:$B$40, MATCH(2020-C133549, Lists!$C$32:$C$40,1))","v":"0-20"},{"$f":"SUMPRODUCT((Data!$B$17:$B$19=Model!$F133549)*(Data!$C$16:$K$16=Model!$K133549)*(Data!$C$17:$K$19))","v":1.37},93.15,{"$f":"_xlfn.IFS(M133549>70,\"Serviceable\",M133549>30, \"Limited Life\",M133549<=30, \"Unserviceable\")","v":"Serviceable"}]
[null,170236,1950,"Wood Creos Impregnated","Serviceable","Class 3",2019,100,97.98,6,{"$f":"INDEX(Lists!$B$32:$B$40, MATCH(2020-C133642, Lists!$C$32:$C$40,1))","v":"61-70"},{"$f":"SUMPRODUCT((Data!$B$17:$B$19=Model!$F133642)*(Data!$C$16:$K$16=Model!$K133642)*(Data!$C$17:$K$19))","v":2.02},87.88,{"$f":"_xlfn.IFS(M133642>70,\"Serviceable\",M133642>30, \"Limited Life\",M133642<=30, \"Unserviceable\")","v":"Serviceable"}]
[null,170335,2010,"Wood Creos Impregnated","Serviceable","Class 3",2019,100,98.63,6,{"$f":"INDEX(Lists!$B$32:$B$40, MATCH(2020-C133659, Lists!$C$32:$C$40,1))","v":"0-20"},{"$f":"SUMPRODUCT((Data!$B$17:$B$19=Model!$F133659)*(Data!$C$16:$K$16=Model!$K133659)*(Data!$C$17:$K$19))","v":1.37},91.78,{"$f":"_xlfn.IFS(M133659>70,\"Serviceable\",M133659>30, \"Limited Life\",M133659<=30, \"Unserviceable\")","v":"Serviceable"}]
[null,170959,1979,"Wood Untreated Dressed","Serviceable","Class 1",2017,100,94.75,8,{"$f":"INDEX(Lists!$B$32:$B$40, MATCH(2020-C133758, Lists!$C$32:$C$40,1))","v":"41-50"},{"$f":"SUMPRODUCT((Data!$B$17:$B$19=Model!$F133758)*(Data!$C$16:$K$16=Model!$K133758)*(Data!$C$17:$K$19))","v":1.75},86,{"$f":"_xlfn.IFS(M133758>70,\"Serviceable\",M133758>30, \"Limited Life\",M133758<=30, \"Unserviceable\")","v":"Serviceable"}]
[null,171396,1997,"Wood Untreated Dressed","Serviceable","Class 1",2016,100,92.16,9,{"$f":"INDEX(Lists!$B$32:$B$40, MATCH(2020-C133812, Lists!$C$32:$C$40,1))","v":"21-30"},{"$f":"SUMPRODUCT((Data!$B$17:$B$19=Model!$F133812)*(Data!$C$16:$K$16=Model!$K133812)*(Data!$C$17:$K$19))","v":1.96},82.36,{"$f":"_xlfn.IFS(M133812>70,\"Serviceable\",M133812>30, \"Limited Life\",M133812<=30, \"Unserviceable\")","v":"Serviceable"}]
[null,171636,2004,"Wood Creos Impregnated","Serviceable","Class 3",2019,90,88.63,6,{"$f":"INDEX(Lists!$B$32:$B$40, MATCH(2020-C133853, Lists!$C$32:$C$40,1))","v":"0-20"},{"$f":"SUMPRODUCT((Data!$B$17:$B$19=Model!$F133853)*(Data!$C$16:$K$16=Model!$K133853)*(Data!$C$17:$K$19))","v":1.37},81.78,{"$f":"_xlfn.IFS(M133853>70,\"Serviceable\",M133853>30, \"Limited Life\",M133853<=30, \"Unserviceable\")","v":"Serviceable"}]
[null,172478,1971,"Wood Creos Impregnated","Serviceable","Class 3",2019,100,96.22,6,{"$f":"INDEX(Lists!$B$32:$B$40, MATCH(2020-C133965, Lists!$C$32:$C$40,1))","v":"41-50"},{"$f":"SUMPRODUCT((Data!$B$17:$B$19=Model!$F133965)*(Data!$C$16:$K$16=Model!$K133965)*(Data!$C$17:$K$19))","v":3.78},77.319999999999993,{"$f":"_xlfn.IFS(M133965>70,\"Serviceable\",M133965>30, \"Limited Life\",M133965<=30, \"Unserviceable\")","v":"Serviceable"}]
[null,172600,2002,"CCA Treated Pole","Serviceable","Class 1",2017,200,196.82,8,{"$f":"INDEX(Lists!$B$32:$B$40, MATCH(2020-C133982, Lists!$C$32:$C$40,1))","v":"0-20"},{"$f":"SUMPRODUCT((Data!$B$17:$B$19=Model!$F133982)*(Data!$C$16:$K$16=Model!$K133982)*(Data!$C$17:$K$19))","v":1.06},191.52,{"$f":"_xlfn.IFS(M133982>70,\"Serviceable\",M133982>30, \"Limited Life\",M133982<=30, \"Unserviceable\")","v":"Serviceable"}]
[null,173574,2002,"Wood Untreated Dressed","Serviceable","Class 1",2016,100,95.76,9,{"$f":"INDEX(Lists!$B$32:$B$40, MATCH(2020-C134096, Lists!$C$32:$C$40,1))","v":"0-20"},{"$f":"SUMPRODUCT((Data!$B$17:$B$19=Model!$F134096)*(Data!$C$16:$K$16=Model!$K134096)*(Data!$C$17:$K$19))","v":1.06},90.46,{"$f":"_xlfn.IFS(M134096>70,\"Serviceable\",M134096>30, \"Limited Life\",M134096<=30, \"Unserviceable\")","v":"Serviceable"}]
[null,174141,1997,"Wood Untreated Dressed","Serviceable","Class 2",2017,100,94.33,8,{"$f":"INDEX(Lists!$B$32:$B$40, MATCH(2020-C134135, Lists!$C$32:$C$40,1))","v":"21-30"},{"$f":"SUMPRODUCT((Data!$B$17:$B$19=Model!$F134135)*(Data!$C$16:$K$16=Model!$K134135)*(Data!$C$17:$K$19))","v":1.89},84.88,{"$f":"_xlfn.IFS(M134135>70,\"Serviceable\",M134135>30, \"Limited Life\",M134135<=30, \"Unserviceable\")","v":"Serviceable"}]
[null,174896,2007,"Wood Untreated Dressed","Serviceable","Class 2",2016,100,95.12,9,{"$f":"INDEX(Lists!$B$32:$B$40, MATCH(2020-C134220, Lists!$C$32:$C$40,1))","v":"0-20"},{"$f":"SUMPRODUCT((Data!$B$17:$B$19=Model!$F134220)*(Data!$C$16:$K$16=Model!$K134220)*(Data!$C$17:$K$19))","v":1.22},89.02,{"$f":"_xlfn.IFS(M134220>70,\"Serviceable\",M134220>30, \"Limited Life\",M134220<=30, \"Unserviceable\")","v":"Serviceable"}]
[null,175644,2004,"Wood Creos Impregnated","Serviceable","Class 3",2020,100,100,5,{"$f":"INDEX(Lists!$B$32:$B$40, MATCH(2020-C134305, Lists!$C$32:$C$40,1))","v":"0-20"},{"$f":"SUMPRODUCT((Data!$B$17:$B$19=Model!$F134305)*(Data!$C$16:$K$16=Model!$K134305)*(Data!$C$17:$K$19))","v":1.37},93.15,{"$f":"_xlfn.IFS(M134305>70,\"Serviceable\",M134305>30, \"Limited Life\",M134305<=30, \"Unserviceable\")","v":"Serviceable"}]
[null,176123,1985,"Wood Untreated Dressed","Serviceable","Class 3",2019,100,96.78,6,{"$f":"INDEX(Lists!$B$32:$B$40, MATCH(2020-C134373, Lists!$C$32:$C$40,1))","v":"31-40"},{"$f":"SUMPRODUCT((Data!$B$17:$B$19=Model!$F134373)*(Data!$C$16:$K$16=Model!$K134373)*(Data!$C$17:$K$19))","v":3.22},80.680000000000007,{"$f":"_xlfn.IFS(M134373>70,\"Serviceable\",M134373>30, \"Limited Life\",M134373<=30, \"Unserviceable\")","v":"Serviceable"}]
[null,176314,1970,"Wood Creos Impregnated","Serviceable","Class 3",2019,100,96.22,6,{"$f":"INDEX(Lists!$B$32:$B$40, MATCH(2020-C134400, Lists!$C$32:$C$40,1))","v":"41-50"},{"$f":"SUMPRODUCT((Data!$B$17:$B$19=Model!$F134400)*(Data!$C$16:$K$16=Model!$K134400)*(Data!$C$17:$K$19))","v":3.78},77.319999999999993,{"$f":"_xlfn.IFS(M134400>70,\"Serviceable\",M134400>30, \"Limited Life\",M134400<=30, \"Unserviceable\")","v":"Serviceable"}]
[null,176575,2006,"Wood Creos Impregnated","Serviceable","Class 3",2019,100,98.63,6,{"$f":"INDEX(Lists!$B$32:$B$40, MATCH(2020-C134458, Lists!$C$32:$C$40,1))","v":"0-20"},{"$f":"SUMPRODUCT((Data!$B$17:$B$19=Model!$F134458)*(Data!$C$16:$K$16=Model!$K134458)*(Data!$C$17:$K$19))","v":1.37},91.78,{"$f":"_xlfn.IFS(M134458>70,\"Serviceable\",M134458>30, \"Limited Life\",M134458<=30, \"Unserviceable\")","v":"Serviceable"}]
[null,177228,2004,"Wood Untreated Dressed","Serviceable","Class 1",2019,100,98.94,6,{"$f":"INDEX(Lists!$B$32:$B$40, MATCH(2020-C134543, Lists!$C$32:$C$40,1))","v":"0-20"},{"$f":"SUMPRODUCT((Data!$B$17:$B$19=Model!$F134543)*(Data!$C$16:$K$16=Model!$K134543)*(Data!$C$17:$K$19))","v":1.06},93.64,{"$f":"_xlfn.IFS(M134543>70,\"Serviceable\",M134543>30, \"Limited Life\",M134543<=30, \"Unserviceable\")","v":"Serviceable"}]
[null,177869,1986,"Wood Untreated Dressed","Serviceable","Class 1",2019,166.31691553103065,163.79691553103063,6,{"$f":"INDEX(Lists!$B$32:$B$40, MATCH(2020-C134609, Lists!$C$32:$C$40,1))","v":"31-40"},{"$f":"SUMPRODUCT((Data!$B$17:$B$19=Model!$F134609)*(Data!$C$16:$K$16=Model!$K134609)*(Data!$C$17:$K$19))","v":2.52},151.19691553103064,{"$f":"_xlfn.IFS(M134609>70,\"Serviceable\",M134609>30, \"Limited Life\",M134609<=30, \"Unserviceable\")","v":"Serviceable"}]
[null,178504,2013,"Wood Creos Impregnated","Serviceable","Class 3",2020,100,100,5,{"$f":"INDEX(Lists!$B$32:$B$40, MATCH(2020-C134696, Lists!$C$32:$C$40,1))","v":"0-20"},{"$f":"SUMPRODUCT((Data!$B$17:$B$19=Model!$F134696)*(Data!$C$16:$K$16=Model!$K134696)*(Data!$C$17:$K$19))","v":1.37},93.15,{"$f":"_xlfn.IFS(M134696>70,\"Serviceable\",M134696>30, \"Limited Life\",M134696<=30, \"Unserviceable\")","v":"Serviceable"}]
[null,179182,2002,"Wood Creos Impregnated","Limited Life","Class 3",2020,70,70,5,{"$f":"INDEX(Lists!$B$32:$B$40, MATCH(2020-C134771, Lists!$C$32:$C$40,1))","v":"0-20"},{"$f":"SUMPRODUCT((Data!$B$17:$B$19=Model!$F134771)*(Data!$C$16:$K$16=Model!$K134771)*(Data!$C$17:$K$19))","v":1.37},63.15,{"$f":"_xlfn.IFS(M134771>70,\"Serviceable\",M134771>30, \"Limited Life\",M134771<=30, \"Unserviceable\")","v":"Limited Life"}]
[null,179767,1974,"Wood Creos Impregnated","Serviceable","Class 3",2015,100,81.099999999999994,10,{"$f":"INDEX(Lists!$B$32:$B$40, MATCH(2020-C134849, Lists!$C$32:$C$40,1))","v":"41-50"},{"$f":"SUMPRODUCT((Data!$B$17:$B$19=Model!$F134849)*(Data!$C$16:$K$16=Model!$K134849)*(Data!$C$17:$K$19))","v":3.78},62.2,{"$f":"_xlfn.IFS(M134849>70,\"Serviceable\",M134849>30, \"Limited Life\",M134849<=30, \"Unserviceable\")","v":"Limited Life"}]
[null,179905,1970,"Wood Untreated Dressed","Serviceable","Class 1",2020,100,100,5,{"$f":"INDEX(Lists!$B$32:$B$40, MATCH(2020-C134866, Lists!$C$32:$C$40,1))","v":"41-50"},{"$f":"SUMPRODUCT((Data!$B$17:$B$19=Model!$F134866)*(Data!$C$16:$K$16=Model!$K134866)*(Data!$C$17:$K$19))","v":1.75},91.25,{"$f":"_xlfn.IFS(M134866>70,\"Serviceable\",M134866>30, \"Limited Life\",M134866<=30, \"Unserviceable\")","v":"Serviceable"}]
[null,180462,2004,"Wood Creos Impregnated","Serviceable","Class 3",2019,100,98.63,6,{"$f":"INDEX(Lists!$B$32:$B$40, MATCH(2020-C134947, Lists!$C$32:$C$40,1))","v":"0-20"},{"$f":"SUMPRODUCT((Data!$B$17:$B$19=Model!$F134947)*(Data!$C$16:$K$16=Model!$K134947)*(Data!$C$17:$K$19))","v":1.37},91.78,{"$f":"_xlfn.IFS(M134947>70,\"Serviceable\",M134947>30, \"Limited Life\",M134947<=30, \"Unserviceable\")","v":"Serviceable"}]
[null,181208,2013,"Wood Creos Impregnated","Serviceable","Class 3",2020,100,100,5,{"$f":"INDEX(Lists!$B$32:$B$40, MATCH(2020-C135019, Lists!$C$32:$C$40,1))","v":"0-20"},{"$f":"SUMPRODUCT((Data!$B$17:$B$19=Model!$F135019)*(Data!$C$16:$K$16=Model!$K135019)*(Data!$C$17:$K$19))","v":1.37},93.15,{"$f":"_xlfn.IFS(M135019>70,\"Serviceable\",M135019>30, \"Limited Life\",M135019<=30, \"Unserviceable\")","v":"Serviceable"}]
[null,181532,2011,"Wood Creos Impregnated","Serviceable","Class 3",2016,130,124.52,9,{"$f":"INDEX(Lists!$B$32:$B$40, MATCH(2020-C135075, Lists!$C$32:$C$40,1))","v":"0-20"},{"$f":"SUMPRODUCT((Data!$B$17:$B$19=Model!$F135075)*(Data!$C$16:$K$16=Model!$K135075)*(Data!$C$17:$K$19))","v":1.37},117.67,{"$f":"_xlfn.IFS(M135075>70,\"Serviceable\",M135075>30, \"Limited Life\",M135075<=30, \"Unserviceable\")","v":"Serviceable"}]
[null,182183,1959,"Wood Creos Impregnated","Serviceable","Class 3",2020,100,100,5,{"$f":"INDEX(Lists!$B$32:$B$40, MATCH(2020-C135172, Lists!$C$32:$C$40,1))","v":"61-70"},{"$f":"SUMPRODUCT((Data!$B$17:$B$19=Model!$F135172)*(Data!$C$16:$K$16=Model!$K135172)*(Data!$C$17:$K$19))","v":2.02},89.9,{"$f":"_xlfn.IFS(M135172>70,\"Serviceable\",M135172>30, \"Limited Life\",M135172<=30, \"Unserviceable\")","v":"Serviceable"}]
[null,183527,1986,"Wood Untreated Dressed","Serviceable","Class 1",2020,140,140,5,{"$f":"INDEX(Lists!$B$32:$B$40, MATCH(2020-C135257, Lists!$C$32:$C$40,1))","v":"31-40"},{"$f":"SUMPRODUCT((Data!$B$17:$B$19=Model!$F135257)*(Data!$C$16:$K$16=Model!$K135257)*(Data!$C$17:$K$19))","v":2.52},127.4,{"$f":"_xlfn.IFS(M135257>70,\"Serviceable\",M135257>30, \"Limited Life\",M135257<=30, \"Unserviceable\")","v":"Serviceable"}]
[null,184703,2008,"Wood Untreated Round","Serviceable","Class 3",2017,100,95.89,8,{"$f":"INDEX(Lists!$B$32:$B$40, MATCH(2020-C135318, Lists!$C$32:$C$40,1))","v":"0-20"},{"$f":"SUMPRODUCT((Data!$B$17:$B$19=Model!$F135318)*(Data!$C$16:$K$16=Model!$K135318)*(Data!$C$17:$K$19))","v":1.37},89.039999999999992,{"$f":"_xlfn.IFS(M135318>70,\"Serviceable\",M135318>30, \"Limited Life\",M135318<=30, \"Unserviceable\")","v":"Serviceable"}]
[null,185144,1997,"Wood Creos Impregnated","Serviceable","Class 3",2015,80,70.8,10,{"$f":"INDEX(Lists!$B$32:$B$40, MATCH(2020-C135342, Lists!$C$32:$C$40,1))","v":"21-30"},{"$f":"SUMPRODUCT((Data!$B$17:$B$19=Model!$F135342)*(Data!$C$16:$K$16=Model!$K135342)*(Data!$C$17:$K$19))","v":1.84},61.599999999999994,{"$f":"_xlfn.IFS(M135342>70,\"Serviceable\",M135342>30, \"Limited Life\",M135342<=30, \"Unserviceable\")","v":"Limited Life"}]
[null,186549,2002,"Wood Creos Impregnated","Serviceable","Class 3",2017,90,85.89,8,{"$f":"INDEX(Lists!$B$32:$B$40, MATCH(2020-C135427, Lists!$C$32:$C$40,1))","v":"0-20"},{"$f":"SUMPRODUCT((Data!$B$17:$B$19=Model!$F135427)*(Data!$C$16:$K$16=Model!$K135427)*(Data!$C$17:$K$19))","v":1.37},79.039999999999992,{"$f":"_xlfn.IFS(M135427>70,\"Serviceable\",M135427>30, \"Limited Life\",M135427<=30, \"Unserviceable\")","v":"Serviceable"}]
[null,187684,1969,"Wood Untreated Round","Serviceable","Class 3",2020,90,90,5,{"$f":"INDEX(Lists!$B$32:$B$40, MATCH(2020-C135527, Lists!$C$32:$C$40,1))","v":"51-60"},{"$f":"SUMPRODUCT((Data!$B$17:$B$19=Model!$F135527)*(Data!$C$16:$K$16=Model!$K135527)*(Data!$C$17:$K$19))","v":2.73},76.349999999999994,{"$f":"_xlfn.IFS(M135527>70,\"Serviceable\",M135527>30, \"Limited Life\",M135527<=30, \"Unserviceable\")","v":"Serviceable"}]
[null,188474,2003,"Wood Creos Impregnated","Serviceable","Class 3",2018,90,87.26,7,{"$f":"INDEX(Lists!$B$32:$B$40, MATCH(2020-C135580, Lists!$C$32:$C$40,1))","v":"0-20"},{"$f":"SUMPRODUCT((Data!$B$17:$B$19=Model!$F135580)*(Data!$C$16:$K$16=Model!$K135580)*(Data!$C$17:$K$19))","v":1.37},80.41,{"$f":"_xlfn.IFS(M135580>70,\"Serviceable\",M135580>30, \"Limited Life\",M135580<=30, \"Unserviceable\")","v":"Serviceable"}]
[null,188834,2002,"Wood Creos Impregnated","Serviceable","Class 3",2016,80,74.52,9,{"$f":"INDEX(Lists!$B$32:$B$40, MATCH(2020-C135622, Lists!$C$32:$C$40,1))","v":"0-20"},{"$f":"SUMPRODUCT((Data!$B$17:$B$19=Model!$F135622)*(Data!$C$16:$K$16=Model!$K135622)*(Data!$C$17:$K$19))","v":1.37},67.67,{"$f":"_xlfn.IFS(M135622>70,\"Serviceable\",M135622>30, \"Limited Life\",M135622<=30, \"Unserviceable\")","v":"Limited Life"}]
[null,190313,1973,"Wood Untreated Dressed","Serviceable","Class 1",2020,100,100,5,{"$f":"INDEX(Lists!$B$32:$B$40, MATCH(2020-C135733, Lists!$C$32:$C$40,1))","v":"41-50"},{"$f":"SUMPRODUCT((Data!$B$17:$B$19=Model!$F135733)*(Data!$C$16:$K$16=Model!$K135733)*(Data!$C$17:$K$19))","v":1.75},91.25,{"$f":"_xlfn.IFS(M135733>70,\"Serviceable\",M135733>30, \"Limited Life\",M135733<=30, \"Unserviceable\")","v":"Serviceable"}]
[null,190537,2011,"Wood Untreated Dressed","Serviceable","Class 1",2020,100,100,5,{"$f":"INDEX(Lists!$B$32:$B$40, MATCH(2020-C135750, Lists!$C$32:$C$40,1))","v":"0-20"},{"$f":"SUMPRODUCT((Data!$B$17:$B$19=Model!$F135750)*(Data!$C$16:$K$16=Model!$K135750)*(Data!$C$17:$K$19))","v":1.06},94.7,{"$f":"_xlfn.IFS(M135750>70,\"Serviceable\",M135750>30, \"Limited Life\",M135750<=30, \"Unserviceable\")","v":"Serviceable"}]
[null,192490,2008,"Wood Untreated Dressed","Serviceable","Class 1",2018,110,107.88,7,{"$f":"INDEX(Lists!$B$32:$B$40, MATCH(2020-C135865, Lists!$C$32:$C$40,1))","v":"0-20"},{"$f":"SUMPRODUCT((Data!$B$17:$B$19=Model!$F135865)*(Data!$C$16:$K$16=Model!$K135865)*(Data!$C$17:$K$19))","v":1.06},102.58,{"$f":"_xlfn.IFS(M135865>70,\"Serviceable\",M135865>30, \"Limited Life\",M135865<=30, \"Unserviceable\")","v":"Serviceable"}]
[null,192867,2002,"Wood Creos Impregnated","Serviceable","Class 3",2018,100,97.26,7,{"$f":"INDEX(Lists!$B$32:$B$40, MATCH(2020-C135903, Lists!$C$32:$C$40,1))","v":"0-20"},{"$f":"SUMPRODUCT((Data!$B$17:$B$19=Model!$F135903)*(Data!$C$16:$K$16=Model!$K135903)*(Data!$C$17:$K$19))","v":1.37},90.41,{"$f":"_xlfn.IFS(M135903>70,\"Serviceable\",M135903>30, \"Limited Life\",M135903<=30, \"Unserviceable\")","v":"Serviceable"}]
[null,193975,1982,"Wood Untreated Dressed","Serviceable","Class 1",2016,100,89.92,9,{"$f":"INDEX(Lists!$B$32:$B$40, MATCH(2020-C135993, Lists!$C$32:$C$40,1))","v":"31-40"},{"$f":"SUMPRODUCT((Data!$B$17:$B$19=Model!$F135993)*(Data!$C$16:$K$16=Model!$K135993)*(Data!$C$17:$K$19))","v":2.52},77.319999999999993,{"$f":"_xlfn.IFS(M135993>70,\"Serviceable\",M135993>30, \"Limited Life\",M135993<=30, \"Unserviceable\")","v":"Serviceable"}]
[null,195543,2014,"Wood Untreated Dressed","Serviceable","Class 1",2020,100,100,5,{"$f":"INDEX(Lists!$B$32:$B$40, MATCH(2020-C136056, Lists!$C$32:$C$40,1))","v":"0-20"},{"$f":"SUMPRODUCT((Data!$B$17:$B$19=Model!$F136056)*(Data!$C$16:$K$16=Model!$K136056)*(Data!$C$17:$K$19))","v":1.06},94.7,{"$f":"_xlfn.IFS(M136056>70,\"Serviceable\",M136056>30, \"Limited Life\",M136056<=30, \"Unserviceable\")","v":"Serviceable"}]
[null,196505,2014,"Wood Creos Impregnated","Serviceable","Class 3",2018,90,87.26,7,{"$f":"INDEX(Lists!$B$32:$B$40, MATCH(2020-C136141, Lists!$C$32:$C$40,1))","v":"0-20"},{"$f":"SUMPRODUCT((Data!$B$17:$B$19=Model!$F136141)*(Data!$C$16:$K$16=Model!$K136141)*(Data!$C$17:$K$19))","v":1.37},80.41,{"$f":"_xlfn.IFS(M136141>70,\"Serviceable\",M136141>30, \"Limited Life\",M136141<=30, \"Unserviceable\")","v":"Serviceable"}]
[null,196628,1997,"Wood Creos Impregnated","Limited Life","Class 3",2019,70,68.16,6,{"$f":"INDEX(Lists!$B$32:$B$40, MATCH(2020-C136169, Lists!$C$32:$C$40,1))","v":"21-30"},{"$f":"SUMPRODUCT((Data!$B$17:$B$19=Model!$F136169)*(Data!$C$16:$K$16=Model!$K136169)*(Data!$C$17:$K$19))","v":1.84},58.96,{"$f":"_xlfn.IFS(M136169>70,\"Serviceable\",M136169>30, \"Limited Life\",M136169<=30, \"Unserviceable\")","v":"Limited Life"}]
[null,196891,1996,"Wood Creos Impregnated","Limited Life","Class 3",2019,70,68.16,6,{"$f":"INDEX(Lists!$B$32:$B$40, MATCH(2020-C136226, Lists!$C$32:$C$40,1))","v":"21-30"},{"$f":"SUMPRODUCT((Data!$B$17:$B$19=Model!$F136226)*(Data!$C$16:$K$16=Model!$K136226)*(Data!$C$17:$K$19))","v":1.84},58.96,{"$f":"_xlfn.IFS(M136226>70,\"Serviceable\",M136226>30, \"Limited Life\",M136226<=30, \"Unserviceable\")","v":"Limited Life"}]
[null,197294,2013,"Wood Untreated Dressed","Serviceable","Class 1",2017,100,96.82,8,{"$f":"INDEX(Lists!$B$32:$B$40, MATCH(2020-C136311, Lists!$C$32:$C$40,1))","v":"0-20"},{"$f":"SUMPRODUCT((Data!$B$17:$B$19=Model!$F136311)*(Data!$C$16:$K$16=Model!$K136311)*(Data!$C$17:$K$19))","v":1.06},91.52,{"$f":"_xlfn.IFS(M136311>70,\"Serviceable\",M136311>30, \"Limited Life\",M136311<=30, \"Unserviceable\")","v":"Serviceable"}]
[null,197691,1970,"Wood Creos Impregnated","Serviceable","Class 3",2015,120,101.1,10,{"$f":"INDEX(Lists!$B$32:$B$40, MATCH(2020-C136412, Lists!$C$32:$C$40,1))","v":"41-50"},{"$f":"SUMPRODUCT((Data!$B$17:$B$19=Model!$F136412)*(Data!$C$16:$K$16=Model!$K136412)*(Data!$C$17:$K$19))","v":3.78},82.2,{"$f":"_xlfn.IFS(M136412>70,\"Serviceable\",M136412>30, \"Limited Life\",M136412<=30, \"Unserviceable\")","v":"Serviceable"}]
[null,197946,2008,"Wood Creos Impregnated","Serviceable","Class 3",2015,100,93.15,10,{"$f":"INDEX(Lists!$B$32:$B$40, MATCH(2020-C136464, Lists!$C$32:$C$40,1))","v":"0-20"},{"$f":"SUMPRODUCT((Data!$B$17:$B$19=Model!$F136464)*(Data!$C$16:$K$16=Model!$K136464)*(Data!$C$17:$K$19))","v":1.37},86.3,{"$f":"_xlfn.IFS(M136464>70,\"Serviceable\",M136464>30, \"Limited Life\",M136464<=30, \"Unserviceable\")","v":"Serviceable"}]
[null,198339,1969,"Wood Untreated Round","Serviceable","Class 2",2020,90,90,5,{"$f":"INDEX(Lists!$B$32:$B$40, MATCH(2020-C136540, Lists!$C$32:$C$40,1))","v":"51-60"},{"$f":"SUMPRODUCT((Data!$B$17:$B$19=Model!$F136540)*(Data!$C$16:$K$16=Model!$K136540)*(Data!$C$17:$K$19))","v":2.57},77.150000000000006,{"$f":"_xlfn.IFS(M136540>70,\"Serviceable\",M136540>30, \"Limited Life\",M136540<=30, \"Unserviceable\")","v":"Serviceable"}]
[null,198623,1996,"Wood Creos Impregnated","Serviceable","Class 3",2019,90,88.16,6,{"$f":"INDEX(Lists!$B$32:$B$40, MATCH(2020-C136617, Lists!$C$32:$C$40,1))","v":"21-30"},{"$f":"SUMPRODUCT((Data!$B$17:$B$19=Model!$F136617)*(Data!$C$16:$K$16=Model!$K136617)*(Data!$C$17:$K$19))","v":1.84},78.959999999999994,{"$f":"_xlfn.IFS(M136617>70,\"Serviceable\",M136617>30, \"Limited Life\",M136617<=30, \"Unserviceable\")","v":"Serviceable"}]
[null,198727,1936,"Wood Untreated Dressed","Serviceable","Class 1",2015,100,85.95,10,{"$f":"INDEX(Lists!$B$32:$B$40, MATCH(2020-C136634, Lists!$C$32:$C$40,1))","v":"81-90"},{"$f":"SUMPRODUCT((Data!$B$17:$B$19=Model!$F136634)*(Data!$C$16:$K$16=Model!$K136634)*(Data!$C$17:$K$19))","v":2.81},71.900000000000006,{"$f":"_xlfn.IFS(M136634>70,\"Serviceable\",M136634>30, \"Limited Life\",M136634<=30, \"Unserviceable\")","v":"Serviceable"}]
[null,199524,2007,"Wood Untreated Round","Serviceable","Class 1",2016,100,95.76,9,{"$f":"INDEX(Lists!$B$32:$B$40, MATCH(2020-C136716, Lists!$C$32:$C$40,1))","v":"0-20"},{"$f":"SUMPRODUCT((Data!$B$17:$B$19=Model!$F136716)*(Data!$C$16:$K$16=Model!$K136716)*(Data!$C$17:$K$19))","v":1.06},90.46,{"$f":"_xlfn.IFS(M136716>70,\"Serviceable\",M136716>30, \"Limited Life\",M136716<=30, \"Unserviceable\")","v":"Serviceable"}]
[null,200174,1990,"Wood Creos Impregnated","Serviceable","Class 3",2016,100,92.64,9,{"$f":"INDEX(Lists!$B$32:$B$40, MATCH(2020-C136787, Lists!$C$32:$C$40,1))","v":"21-30"},{"$f":"SUMPRODUCT((Data!$B$17:$B$19=Model!$F136787)*(Data!$C$16:$K$16=Model!$K136787)*(Data!$C$17:$K$19))","v":1.84},83.44,{"$f":"_xlfn.IFS(M136787>70,\"Serviceable\",M136787>30, \"Limited Life\",M136787<=30, \"Unserviceable\")","v":"Serviceable"}]
[null,200845,1997,"Wood Untreated Dressed","Serviceable","Class 1",2016,120,112.16,9,{"$f":"INDEX(Lists!$B$32:$B$40, MATCH(2020-C136844, Lists!$C$32:$C$40,1))","v":"21-30"},{"$f":"SUMPRODUCT((Data!$B$17:$B$19=Model!$F136844)*(Data!$C$16:$K$16=Model!$K136844)*(Data!$C$17:$K$19))","v":1.96},102.36,{"$f":"_xlfn.IFS(M136844>70,\"Serviceable\",M136844>30, \"Limited Life\",M136844<=30, \"Unserviceable\")","v":"Serviceable"}]
[null,201584,1941,"Wood Untreated Round","Serviceable","Class 1",2019,100,97.85,6,{"$f":"INDEX(Lists!$B$32:$B$40, MATCH(2020-C136940, Lists!$C$32:$C$40,1))","v":"71-80"},{"$f":"SUMPRODUCT((Data!$B$17:$B$19=Model!$F136940)*(Data!$C$16:$K$16=Model!$K136940)*(Data!$C$17:$K$19))","v":2.15},87.1,{"$f":"_xlfn.IFS(M136940>70,\"Serviceable\",M136940>30, \"Limited Life\",M136940<=30, \"Unserviceable\")","v":"Serviceable"}]
[null,201655,1998,"Wood Untreated Dressed","Serviceable","Class 1",2018,100,96.08,7,{"$f":"INDEX(Lists!$B$32:$B$40, MATCH(2020-C136957, Lists!$C$32:$C$40,1))","v":"21-30"},{"$f":"SUMPRODUCT((Data!$B$17:$B$19=Model!$F136957)*(Data!$C$16:$K$16=Model!$K136957)*(Data!$C$17:$K$19))","v":1.96},86.28,{"$f":"_xlfn.IFS(M136957>70,\"Serviceable\",M136957>30, \"Limited Life\",M136957<=30, \"Unserviceable\")","v":"Serviceable"}]
[null,208656,2009,"Wood Untreated Dressed","Serviceable","Class 1",2018,80,77.88,7,{"$f":"INDEX(Lists!$B$32:$B$40, MATCH(2020-C137087, Lists!$C$32:$C$40,1))","v":"0-20"},{"$f":"SUMPRODUCT((Data!$B$17:$B$19=Model!$F137087)*(Data!$C$16:$K$16=Model!$K137087)*(Data!$C$17:$K$19))","v":1.06},72.58,{"$f":"_xlfn.IFS(M137087>70,\"Serviceable\",M137087>30, \"Limited Life\",M137087<=30, \"Unserviceable\")","v":"Serviceable"}]
[null,208812,1962,"Wood Creos Impregnated","Serviceable","Class 3",2018,90,84.54,7,{"$f":"INDEX(Lists!$B$32:$B$40, MATCH(2020-C137110, Lists!$C$32:$C$40,1))","v":"51-60"},{"$f":"SUMPRODUCT((Data!$B$17:$B$19=Model!$F137110)*(Data!$C$16:$K$16=Model!$K137110)*(Data!$C$17:$K$19))","v":2.73},70.89,{"$f":"_xlfn.IFS(M137110>70,\"Serviceable\",M137110>30, \"Limited Life\",M137110<=30, \"Unserviceable\")","v":"Serviceable"}]
[null,209910,1970,"Wood Untreated Dressed","Limited Life","Class 2",2015,80,63.6,10,{"$f":"INDEX(Lists!$B$32:$B$40, MATCH(2020-C137195, Lists!$C$32:$C$40,1))","v":"41-50"},{"$f":"SUMPRODUCT((Data!$B$17:$B$19=Model!$F137195)*(Data!$C$16:$K$16=Model!$K137195)*(Data!$C$17:$K$19))","v":3.28},47.2,{"$f":"_xlfn.IFS(M137195>70,\"Serviceable\",M137195>30, \"Limited Life\",M137195<=30, \"Unserviceable\")","v":"Limited Life"}]
[null,210231,1965,"Wood Creos Impregnated","Serviceable","Class 3",2017,100,91.81,8,{"$f":"INDEX(Lists!$B$32:$B$40, MATCH(2020-C137227, Lists!$C$32:$C$40,1))","v":"51-60"},{"$f":"SUMPRODUCT((Data!$B$17:$B$19=Model!$F137227)*(Data!$C$16:$K$16=Model!$K137227)*(Data!$C$17:$K$19))","v":2.73},78.16,{"$f":"_xlfn.IFS(M137227>70,\"Serviceable\",M137227>30, \"Limited Life\",M137227<=30, \"Unserviceable\")","v":"Serviceable"}]
[null,210236,1970,"Wood Creos Impregnated","Serviceable","Class 3",2017,100,88.66,8,{"$f":"INDEX(Lists!$B$32:$B$40, MATCH(2020-C137228, Lists!$C$32:$C$40,1))","v":"41-50"},{"$f":"SUMPRODUCT((Data!$B$17:$B$19=Model!$F137228)*(Data!$C$16:$K$16=Model!$K137228)*(Data!$C$17:$K$19))","v":3.78},69.760000000000005,{"$f":"_xlfn.IFS(M137228>70,\"Serviceable\",M137228>30, \"Limited Life\",M137228<=30, \"Unserviceable\")","v":"Limited Life"}]
[null,210237,1998,"Wood Creos Impregnated","Serviceable","Class 3",2017,100,94.48,8,{"$f":"INDEX(Lists!$B$32:$B$40, MATCH(2020-C137229, Lists!$C$32:$C$40,1))","v":"21-30"},{"$f":"SUMPRODUCT((Data!$B$17:$B$19=Model!$F137229)*(Data!$C$16:$K$16=Model!$K137229)*(Data!$C$17:$K$19))","v":1.84},85.28,{"$f":"_xlfn.IFS(M137229>70,\"Serviceable\",M137229>30, \"Limited Life\",M137229<=30, \"Unserviceable\")","v":"Serviceable"}]
[null,210254,1998,"Wood Untreated Dressed","Serviceable","Class 1",2015,100,90.2,10,{"$f":"INDEX(Lists!$B$32:$B$40, MATCH(2020-C137230, Lists!$C$32:$C$40,1))","v":"21-30"},{"$f":"SUMPRODUCT((Data!$B$17:$B$19=Model!$F137230)*(Data!$C$16:$K$16=Model!$K137230)*(Data!$C$17:$K$19))","v":1.96},80.400000000000006,{"$f":"_xlfn.IFS(M137230>70,\"Serviceable\",M137230>30, \"Limited Life\",M137230<=30, \"Unserviceable\")","v":"Serviceable"}]
[null,210262,2008,"Wood Creos Impregnated","Serviceable","Class 3",2020,100,100,5,{"$f":"INDEX(Lists!$B$32:$B$40, MATCH(2020-C137231, Lists!$C$32:$C$40,1))","v":"0-20"},{"$f":"SUMPRODUCT((Data!$B$17:$B$19=Model!$F137231)*(Data!$C$16:$K$16=Model!$K137231)*(Data!$C$17:$K$19))","v":1.37},93.15,{"$f":"_xlfn.IFS(M137231>70,\"Serviceable\",M137231>30, \"Limited Life\",M137231<=30, \"Unserviceable\")","v":"Serviceable"}]
[null,210270,2010,"Wood Untreated Round","Serviceable","Class 3",2020,100,100,5,{"$f":"INDEX(Lists!$B$32:$B$40, MATCH(2020-C137232, Lists!$C$32:$C$40,1))","v":"0-20"},{"$f":"SUMPRODUCT((Data!$B$17:$B$19=Model!$F137232)*(Data!$C$16:$K$16=Model!$K137232)*(Data!$C$17:$K$19))","v":1.37},93.15,{"$f":"_xlfn.IFS(M137232>70,\"Serviceable\",M137232>30, \"Limited Life\",M137232<=30, \"Unserviceable\")","v":"Serviceable"}]
[null,210300,2003,"Wood Creos Impregnated","Serviceable","Class 3",2016,100,94.52,9,{"$f":"INDEX(Lists!$B$32:$B$40, MATCH(2020-C137233, Lists!$C$32:$C$40,1))","v":"0-20"},{"$f":"SUMPRODUCT((Data!$B$17:$B$19=Model!$F137233)*(Data!$C$16:$K$16=Model!$K137233)*(Data!$C$17:$K$19))","v":1.37},87.67,{"$f":"_xlfn.IFS(M137233>70,\"Serviceable\",M137233>30, \"Limited Life\",M137233<=30, \"Unserviceable\")","v":"Serviceable"}]
[null,210301,1969,"Wood Creos Impregnated","Serviceable","Class 3",2020,100,100,5,{"$f":"INDEX(Lists!$B$32:$B$40, MATCH(2020-C137234, Lists!$C$32:$C$40,1))","v":"51-60"},{"$f":"SUMPRODUCT((Data!$B$17:$B$19=Model!$F137234)*(Data!$C$16:$K$16=Model!$K137234)*(Data!$C$17:$K$19))","v":2.73},86.35,{"$f":"_xlfn.IFS(M137234>70,\"Serviceable\",M137234>30, \"Limited Life\",M137234<=30, \"Unserviceable\")","v":"Serviceable"}]
[null,210356,2014,"Wood Creos Impregnated","Serviceable","Class 3",2020,100,100,5,{"$f":"INDEX(Lists!$B$32:$B$40, MATCH(2020-C137235, Lists!$C$32:$C$40,1))","v":"0-20"},{"$f":"SUMPRODUCT((Data!$B$17:$B$19=Model!$F137235)*(Data!$C$16:$K$16=Model!$K137235)*(Data!$C$17:$K$19))","v":1.37},93.15,{"$f":"_xlfn.IFS(M137235>70,\"Serviceable\",M137235>30, \"Limited Life\",M137235<=30, \"Unserviceable\")","v":"Serviceable"}]
[null,210482,2005,"Wood Untreated Round","Serviceable","Class 2",2020,80,80,5,{"$f":"INDEX(Lists!$B$32:$B$40, MATCH(2020-C137236, Lists!$C$32:$C$40,1))","v":"0-20"},{"$f":"SUMPRODUCT((Data!$B$17:$B$19=Model!$F137236)*(Data!$C$16:$K$16=Model!$K137236)*(Data!$C$17:$K$19))","v":1.22},73.900000000000006,{"$f":"_xlfn.IFS(M137236>70,\"Serviceable\",M137236>30, \"Limited Life\",M137236<=30, \"Unserviceable\")","v":"Serviceable"}]
[null,210496,1965,"Wood Creos Impregnated","Serviceable","Class 3",2019,100,97.27,6,{"$f":"INDEX(Lists!$B$32:$B$40, MATCH(2020-C137237, Lists!$C$32:$C$40,1))","v":"51-60"},{"$f":"SUMPRODUCT((Data!$B$17:$B$19=Model!$F137237)*(Data!$C$16:$K$16=Model!$K137237)*(Data!$C$17:$K$19))","v":2.73},83.62,{"$f":"_xlfn.IFS(M137237>70,\"Serviceable\",M137237>30, \"Limited Life\",M137237<=30, \"Unserviceable\")","v":"Serviceable"}]
[null,210505,1990,"Wood Untreated Dressed","Serviceable","Class 2",2017,80,74.33,8,{"$f":"INDEX(Lists!$B$32:$B$40, MATCH(2020-C137238, Lists!$C$32:$C$40,1))","v":"21-30"},{"$f":"SUMPRODUCT((Data!$B$17:$B$19=Model!$F137238)*(Data!$C$16:$K$16=Model!$K137238)*(Data!$C$17:$K$19))","v":1.89},64.88,{"$f":"_xlfn.IFS(M137238>70,\"Serviceable\",M137238>30, \"Limited Life\",M137238<=30, \"Unserviceable\")","v":"Limited Life"}]
[null,210506,1966,"Wood Creos Impregnated","Serviceable","Class 3",2019,90,87.27,6,{"$f":"INDEX(Lists!$B$32:$B$40, MATCH(2020-C137239, Lists!$C$32:$C$40,1))","v":"51-60"},{"$f":"SUMPRODUCT((Data!$B$17:$B$19=Model!$F137239)*(Data!$C$16:$K$16=Model!$K137239)*(Data!$C$17:$K$19))","v":2.73},73.62,{"$f":"_xlfn.IFS(M137239>70,\"Serviceable\",M137239>30, \"Limited Life\",M137239<=30, \"Unserviceable\")","v":"Serviceable"}]
[null,210510,1965,"Wood Creos Impregnated","Serviceable","Class 3",2019,100,97.27,6,{"$f":"INDEX(Lists!$B$32:$B$40, MATCH(2020-C137240, Lists!$C$32:$C$40,1))","v":"51-60"},{"$f":"SUMPRODUCT((Data!$B$17:$B$19=Model!$F137240)*(Data!$C$16:$K$16=Model!$K137240)*(Data!$C$17:$K$19))","v":2.73},83.62,{"$f":"_xlfn.IFS(M137240>70,\"Serviceable\",M137240>30, \"Limited Life\",M137240<=30, \"Unserviceable\")","v":"Serviceable"}]
[null,210537,2007,"Wood Untreated Round","Limited Life","Class 2",2020,50,50,5,{"$f":"INDEX(Lists!$B$32:$B$40, MATCH(2020-C137241, Lists!$C$32:$C$40,1))","v":"0-20"},{"$f":"SUMPRODUCT((Data!$B$17:$B$19=Model!$F137241)*(Data!$C$16:$K$16=Model!$K137241)*(Data!$C$17:$K$19))","v":1.22},43.9,{"$f":"_xlfn.IFS(M137241>70,\"Serviceable\",M137241>30, \"Limited Life\",M137241<=30, \"Unserviceable\")","v":"Limited Life"}]
[null,210560,2004,"Wood Creos Impregnated","Serviceable","Class 3",2019,100,98.63,6,{"$f":"INDEX(Lists!$B$32:$B$40, MATCH(2020-C137242, Lists!$C$32:$C$40,1))","v":"0-20"},{"$f":"SUMPRODUCT((Data!$B$17:$B$19=Model!$F137242)*(Data!$C$16:$K$16=Model!$K137242)*(Data!$C$17:$K$19))","v":1.37},91.78,{"$f":"_xlfn.IFS(M137242>70,\"Serviceable\",M137242>30, \"Limited Life\",M137242<=30, \"Unserviceable\")","v":"Serviceable"}]
[null,210577,1958,"Wood Creos Impregnated","Serviceable","Class 3",2020,90,90,5,{"$f":"INDEX(Lists!$B$32:$B$40, MATCH(2020-C137243, Lists!$C$32:$C$40,1))","v":"61-70"},{"$f":"SUMPRODUCT((Data!$B$17:$B$19=Model!$F137243)*(Data!$C$16:$K$16=Model!$K137243)*(Data!$C$17:$K$19))","v":2.02},79.900000000000006,{"$f":"_xlfn.IFS(M137243>70,\"Serviceable\",M137243>30, \"Limited Life\",M137243<=30, \"Unserviceable\")","v":"Serviceable"}]
[null,210579,2011,"Wood Creos Impregnated","Serviceable","Class 3",2020,100,100,5,{"$f":"INDEX(Lists!$B$32:$B$40, MATCH(2020-C137244, Lists!$C$32:$C$40,1))","v":"0-20"},{"$f":"SUMPRODUCT((Data!$B$17:$B$19=Model!$F137244)*(Data!$C$16:$K$16=Model!$K137244)*(Data!$C$17:$K$19))","v":1.37},93.15,{"$f":"_xlfn.IFS(M137244>70,\"Serviceable\",M137244>30, \"Limited Life\",M137244<=30, \"Unserviceable\")","v":"Serviceable"}]
[null,210586,2007,"Wood Creos Impregnated","Serviceable","Class 2",2020,90,90,5,{"$f":"INDEX(Lists!$B$32:$B$40, MATCH(2020-C137245, Lists!$C$32:$C$40,1))","v":"0-20"},{"$f":"SUMPRODUCT((Data!$B$17:$B$19=Model!$F137245)*(Data!$C$16:$K$16=Model!$K137245)*(Data!$C$17:$K$19))","v":1.22},83.9,{"$f":"_xlfn.IFS(M137245>70,\"Serviceable\",M137245>30, \"Limited Life\",M137245<=30, \"Unserviceable\")","v":"Serviceable"}]
[null,210620,2008,"Wood Creos Impregnated","Limited Life","Class 2",2016,70,65.12,9,{"$f":"INDEX(Lists!$B$32:$B$40, MATCH(2020-C137246, Lists!$C$32:$C$40,1))","v":"0-20"},{"$f":"SUMPRODUCT((Data!$B$17:$B$19=Model!$F137246)*(Data!$C$16:$K$16=Model!$K137246)*(Data!$C$17:$K$19))","v":1.22},59.019999999999996,{"$f":"_xlfn.IFS(M137246>70,\"Serviceable\",M137246>30, \"Limited Life\",M137246<=30, \"Unserviceable\")","v":"Limited Life"}]
[null,210634,2007,"Wood Creos Impregnated","Serviceable","Class 3",2019,100,98.63,6,{"$f":"INDEX(Lists!$B$32:$B$40, MATCH(2020-C137247, Lists!$C$32:$C$40,1))","v":"0-20"},{"$f":"SUMPRODUCT((Data!$B$17:$B$19=Model!$F137247)*(Data!$C$16:$K$16=Model!$K137247)*(Data!$C$17:$K$19))","v":1.37},91.78,{"$f":"_xlfn.IFS(M137247>70,\"Serviceable\",M137247>30, \"Limited Life\",M137247<=30, \"Unserviceable\")","v":"Serviceable"}]
[null,210636,1974,"Wood Creos Impregnated","Serviceable","Class 3",2019,90,86.22,6,{"$f":"INDEX(Lists!$B$32:$B$40, MATCH(2020-C137248, Lists!$C$32:$C$40,1))","v":"41-50"},{"$f":"SUMPRODUCT((Data!$B$17:$B$19=Model!$F137248)*(Data!$C$16:$K$16=Model!$K137248)*(Data!$C$17:$K$19))","v":3.78},67.319999999999993,{"$f":"_xlfn.IFS(M137248>70,\"Serviceable\",M137248>30, \"Limited Life\",M137248<=30, \"Unserviceable\")","v":"Limited Life"}]
[null,210659,2012,"Wood Creos Impregnated","Serviceable","Class 3",2017,90,85.89,8,{"$f":"INDEX(Lists!$B$32:$B$40, MATCH(2020-C137249, Lists!$C$32:$C$40,1))","v":"0-20"},{"$f":"SUMPRODUCT((Data!$B$17:$B$19=Model!$F137249)*(Data!$C$16:$K$16=Model!$K137249)*(Data!$C$17:$K$19))","v":1.37},79.039999999999992,{"$f":"_xlfn.IFS(M137249>70,\"Serviceable\",M137249>30, \"Limited Life\",M137249<=30, \"Unserviceable\")","v":"Serviceable"}]
[null,210660,2014,"Wood Creos Impregnated","Serviceable","Class 3",2019,100,98.63,6,{"$f":"INDEX(Lists!$B$32:$B$40, MATCH(2020-C137250, Lists!$C$32:$C$40,1))","v":"0-20"},{"$f":"SUMPRODUCT((Data!$B$17:$B$19=Model!$F137250)*(Data!$C$16:$K$16=Model!$K137250)*(Data!$C$17:$K$19))","v":1.37},91.78,{"$f":"_xlfn.IFS(M137250>70,\"Serviceable\",M137250>30, \"Limited Life\",M137250<=30, \"Unserviceable\")","v":"Serviceable"}]
[null,210668,1993,"Wood Creos Impregnated","Serviceable","Class 3",2019,100,98.16,6,{"$f":"INDEX(Lists!$B$32:$B$40, MATCH(2020-C137251, Lists!$C$32:$C$40,1))","v":"21-30"},{"$f":"SUMPRODUCT((Data!$B$17:$B$19=Model!$F137251)*(Data!$C$16:$K$16=Model!$K137251)*(Data!$C$17:$K$19))","v":1.84},88.96,{"$f":"_xlfn.IFS(M137251>70,\"Serviceable\",M137251>30, \"Limited Life\",M137251<=30, \"Unserviceable\")","v":"Serviceable"}]
[null,210670,1961,"Wood Creos Impregnated","Serviceable","Class 3",2020,90,90,5,{"$f":"INDEX(Lists!$B$32:$B$40, MATCH(2020-C137252, Lists!$C$32:$C$40,1))","v":"51-60"},{"$f":"SUMPRODUCT((Data!$B$17:$B$19=Model!$F137252)*(Data!$C$16:$K$16=Model!$K137252)*(Data!$C$17:$K$19))","v":2.73},76.349999999999994,{"$f":"_xlfn.IFS(M137252>70,\"Serviceable\",M137252>30, \"Limited Life\",M137252<=30, \"Unserviceable\")","v":"Serviceable"}]
[null,210671,1959,"Wood Creos Impregnated","Serviceable","Class 3",2020,100,100,5,{"$f":"INDEX(Lists!$B$32:$B$40, MATCH(2020-C137253, Lists!$C$32:$C$40,1))","v":"61-70"},{"$f":"SUMPRODUCT((Data!$B$17:$B$19=Model!$F137253)*(Data!$C$16:$K$16=Model!$K137253)*(Data!$C$17:$K$19))","v":2.02},89.9,{"$f":"_xlfn.IFS(M137253>70,\"Serviceable\",M137253>30, \"Limited Life\",M137253<=30, \"Unserviceable\")","v":"Serviceable"}]
[null,210688,2007,"Wood Untreated Round","Serviceable","Class 2",2015,100,93.9,10,{"$f":"INDEX(Lists!$B$32:$B$40, MATCH(2020-C137254, Lists!$C$32:$C$40,1))","v":"0-20"},{"$f":"SUMPRODUCT((Data!$B$17:$B$19=Model!$F137254)*(Data!$C$16:$K$16=Model!$K137254)*(Data!$C$17:$K$19))","v":1.22},87.8,{"$f":"_xlfn.IFS(M137254>70,\"Serviceable\",M137254>30, \"Limited Life\",M137254<=30, \"Unserviceable\")","v":"Serviceable"}]
[null,210692,1957,"Wood Creos Impregnated","Serviceable","Class 3",2015,120,109.9,10,{"$f":"INDEX(Lists!$B$32:$B$40, MATCH(2020-C137255, Lists!$C$32:$C$40,1))","v":"61-70"},{"$f":"SUMPRODUCT((Data!$B$17:$B$19=Model!$F137255)*(Data!$C$16:$K$16=Model!$K137255)*(Data!$C$17:$K$19))","v":2.02},99.8,{"$f":"_xlfn.IFS(M137255>70,\"Serviceable\",M137255>30, \"Limited Life\",M137255<=30, \"Unserviceable\")","v":"Serviceable"}]
[null,210695,2011,"Wood Creos Impregnated","Serviceable","Class 3",2015,100,93.15,10,{"$f":"INDEX(Lists!$B$32:$B$40, MATCH(2020-C137256, Lists!$C$32:$C$40,1))","v":"0-20"},{"$f":"SUMPRODUCT((Data!$B$17:$B$19=Model!$F137256)*(Data!$C$16:$K$16=Model!$K137256)*(Data!$C$17:$K$19))","v":1.37},86.3,{"$f":"_xlfn.IFS(M137256>70,\"Serviceable\",M137256>30, \"Limited Life\",M137256<=30, \"Unserviceable\")","v":"Serviceable"}]
[null,210759,1985,"Wood Untreated Dressed","Serviceable","Class 1",2020,150,150,5,{"$f":"INDEX(Lists!$B$32:$B$40, MATCH(2020-C137257, Lists!$C$32:$C$40,1))","v":"31-40"},{"$f":"SUMPRODUCT((Data!$B$17:$B$19=Model!$F137257)*(Data!$C$16:$K$16=Model!$K137257)*(Data!$C$17:$K$19))","v":2.52},137.4,{"$f":"_xlfn.IFS(M137257>70,\"Serviceable\",M137257>30, \"Limited Life\",M137257<=30, \"Unserviceable\")","v":"Serviceable"}]
[null,210767,1957,"Wood Creos Impregnated","Serviceable","Class 3",2020,120,120,5,{"$f":"INDEX(Lists!$B$32:$B$40, MATCH(2020-C137258, Lists!$C$32:$C$40,1))","v":"61-70"},{"$f":"SUMPRODUCT((Data!$B$17:$B$19=Model!$F137258)*(Data!$C$16:$K$16=Model!$K137258)*(Data!$C$17:$K$19))","v":2.02},109.9,{"$f":"_xlfn.IFS(M137258>70,\"Serviceable\",M137258>30, \"Limited Life\",M137258<=30, \"Unserviceable\")","v":"Serviceable"}]
[null,210773,1980,"Wood Untreated Round","Serviceable","Class 1",2020,100,100,5,{"$f":"INDEX(Lists!$B$32:$B$40, MATCH(2020-C137259, Lists!$C$32:$C$40,1))","v":"31-40"},{"$f":"SUMPRODUCT((Data!$B$17:$B$19=Model!$F137259)*(Data!$C$16:$K$16=Model!$K137259)*(Data!$C$17:$K$19))","v":2.52},87.4,{"$f":"_xlfn.IFS(M137259>70,\"Serviceable\",M137259>30, \"Limited Life\",M137259<=30, \"Unserviceable\")","v":"Serviceable"}]
[null,210800,1961,"Wood Untreated Round","Serviceable","Class 2",2020,100,100,5,{"$f":"INDEX(Lists!$B$32:$B$40, MATCH(2020-C137260, Lists!$C$32:$C$40,1))","v":"51-60"},{"$f":"SUMPRODUCT((Data!$B$17:$B$19=Model!$F137260)*(Data!$C$16:$K$16=Model!$K137260)*(Data!$C$17:$K$19))","v":2.57},87.15,{"$f":"_xlfn.IFS(M137260>70,\"Serviceable\",M137260>30, \"Limited Life\",M137260<=30, \"Unserviceable\")","v":"Serviceable"}]
[null,210808,1991,"Wood Creos Impregnated","Limited Life","Class 3",2019,60,58.16,6,{"$f":"INDEX(Lists!$B$32:$B$40, MATCH(2020-C137261, Lists!$C$32:$C$40,1))","v":"21-30"},{"$f":"SUMPRODUCT((Data!$B$17:$B$19=Model!$F137261)*(Data!$C$16:$K$16=Model!$K137261)*(Data!$C$17:$K$19))","v":1.84},48.96,{"$f":"_xlfn.IFS(M137261>70,\"Serviceable\",M137261>30, \"Limited Life\",M137261<=30, \"Unserviceable\")","v":"Limited Life"}]
[null,210813,1974,"Wood Untreated Round","Serviceable","Class 1",2019,100,98.25,6,{"$f":"INDEX(Lists!$B$32:$B$40, MATCH(2020-C137262, Lists!$C$32:$C$40,1))","v":"41-50"},{"$f":"SUMPRODUCT((Data!$B$17:$B$19=Model!$F137262)*(Data!$C$16:$K$16=Model!$K137262)*(Data!$C$17:$K$19))","v":1.75},89.5,{"$f":"_xlfn.IFS(M137262>70,\"Serviceable\",M137262>30, \"Limited Life\",M137262<=30, \"Unserviceable\")","v":"Serviceable"}]
[null,210814,1961,"Wood Creos Impregnated","Serviceable","Class 3",2019,100,97.27,6,{"$f":"INDEX(Lists!$B$32:$B$40, MATCH(2020-C137263, Lists!$C$32:$C$40,1))","v":"51-60"},{"$f":"SUMPRODUCT((Data!$B$17:$B$19=Model!$F137263)*(Data!$C$16:$K$16=Model!$K137263)*(Data!$C$17:$K$19))","v":2.73},83.62,{"$f":"_xlfn.IFS(M137263>70,\"Serviceable\",M137263>30, \"Limited Life\",M137263<=30, \"Unserviceable\")","v":"Serviceable"}]
[null,210815,1932,"Wood Untreated Dressed","Serviceable","Class 1",2019,100,97.19,6,{"$f":"INDEX(Lists!$B$32:$B$40, MATCH(2020-C137264, Lists!$C$32:$C$40,1))","v":"81-90"},{"$f":"SUMPRODUCT((Data!$B$17:$B$19=Model!$F137264)*(Data!$C$16:$K$16=Model!$K137264)*(Data!$C$17:$K$19))","v":2.81},83.14,{"$f":"_xlfn.IFS(M137264>70,\"Serviceable\",M137264>30, \"Limited Life\",M137264<=30, \"Unserviceable\")","v":"Serviceable"}]
[null,210819,2000,"Wood Untreated Round","Serviceable","Class 1",2019,100,98.94,6,{"$f":"INDEX(Lists!$B$32:$B$40, MATCH(2020-C137265, Lists!$C$32:$C$40,1))","v":"0-20"},{"$f":"SUMPRODUCT((Data!$B$17:$B$19=Model!$F137265)*(Data!$C$16:$K$16=Model!$K137265)*(Data!$C$17:$K$19))","v":1.06},93.64,{"$f":"_xlfn.IFS(M137265>70,\"Serviceable\",M137265>30, \"Limited Life\",M137265<=30, \"Unserviceable\")","v":"Serviceable"}]
[null,210833,2006,"Wood Untreated Dressed","Serviceable","Class 3",2020,90,90,5,{"$f":"INDEX(Lists!$B$32:$B$40, MATCH(2020-C137266, Lists!$C$32:$C$40,1))","v":"0-20"},{"$f":"SUMPRODUCT((Data!$B$17:$B$19=Model!$F137266)*(Data!$C$16:$K$16=Model!$K137266)*(Data!$C$17:$K$19))","v":1.37},83.15,{"$f":"_xlfn.IFS(M137266>70,\"Serviceable\",M137266>30, \"Limited Life\",M137266<=30, \"Unserviceable\")","v":"Serviceable"}]
[null,210836,1990,"Wood Untreated Dressed","Serviceable","Class 2",2017,90,84.33,8,{"$f":"INDEX(Lists!$B$32:$B$40, MATCH(2020-C137267, Lists!$C$32:$C$40,1))","v":"21-30"},{"$f":"SUMPRODUCT((Data!$B$17:$B$19=Model!$F137267)*(Data!$C$16:$K$16=Model!$K137267)*(Data!$C$17:$K$19))","v":1.89},74.88,{"$f":"_xlfn.IFS(M137267>70,\"Serviceable\",M137267>30, \"Limited Life\",M137267<=30, \"Unserviceable\")","v":"Serviceable"}]
[null,210849,1998,"Wood Creos Impregnated","Serviceable","Class 3",2020,100,100,5,{"$f":"INDEX(Lists!$B$32:$B$40, MATCH(2020-C137268, Lists!$C$32:$C$40,1))","v":"21-30"},{"$f":"SUMPRODUCT((Data!$B$17:$B$19=Model!$F137268)*(Data!$C$16:$K$16=Model!$K137268)*(Data!$C$17:$K$19))","v":1.84},90.8,{"$f":"_xlfn.IFS(M137268>70,\"Serviceable\",M137268>30, \"Limited Life\",M137268<=30, \"Unserviceable\")","v":"Serviceable"}]
[null,210850,1930,"Wood Untreated Round","Serviceable","Class 1",2016,100,88.76,9,{"$f":"INDEX(Lists!$B$32:$B$40, MATCH(2020-C137269, Lists!$C$32:$C$40,1))","v":"81-90"},{"$f":"SUMPRODUCT((Data!$B$17:$B$19=Model!$F137269)*(Data!$C$16:$K$16=Model!$K137269)*(Data!$C$17:$K$19))","v":2.81},74.710000000000008,{"$f":"_xlfn.IFS(M137269>70,\"Serviceable\",M137269>30, \"Limited Life\",M137269<=30, \"Unserviceable\")","v":"Serviceable"}]
[null,210851,2014,"Wood Untreated Round","Serviceable","Class 1",2019,100,98.94,6,{"$f":"INDEX(Lists!$B$32:$B$40, MATCH(2020-C137270, Lists!$C$32:$C$40,1))","v":"0-20"},{"$f":"SUMPRODUCT((Data!$B$17:$B$19=Model!$F137270)*(Data!$C$16:$K$16=Model!$K137270)*(Data!$C$17:$K$19))","v":1.06},93.64,{"$f":"_xlfn.IFS(M137270>70,\"Serviceable\",M137270>30, \"Limited Life\",M137270<=30, \"Unserviceable\")","v":"Serviceable"}]
[null,210858,1966,"Wood Creos Impregnated","Serviceable","Class 3",2019,120,117.27,6,{"$f":"INDEX(Lists!$B$32:$B$40, MATCH(2020-C137271, Lists!$C$32:$C$40,1))","v":"51-60"},{"$f":"SUMPRODUCT((Data!$B$17:$B$19=Model!$F137271)*(Data!$C$16:$K$16=Model!$K137271)*(Data!$C$17:$K$19))","v":2.73},103.62,{"$f":"_xlfn.IFS(M137271>70,\"Serviceable\",M137271>30, \"Limited Life\",M137271<=30, \"Unserviceable\")","v":"Serviceable"}]
[null,210889,1965,"Wood Creos Impregnated","Serviceable","Class 3",2018,100,94.54,7,{"$f":"INDEX(Lists!$B$32:$B$40, MATCH(2020-C137272, Lists!$C$32:$C$40,1))","v":"51-60"},{"$f":"SUMPRODUCT((Data!$B$17:$B$19=Model!$F137272)*(Data!$C$16:$K$16=Model!$K137272)*(Data!$C$17:$K$19))","v":2.73},80.89,{"$f":"_xlfn.IFS(M137272>70,\"Serviceable\",M137272>30, \"Limited Life\",M137272<=30, \"Unserviceable\")","v":"Serviceable"}]
[null,210922,2013,"Wood Untreated Round","Serviceable","Class 1",2016,100,95.76,9,{"$f":"INDEX(Lists!$B$32:$B$40, MATCH(2020-C137273, Lists!$C$32:$C$40,1))","v":"0-20"},{"$f":"SUMPRODUCT((Data!$B$17:$B$19=Model!$F137273)*(Data!$C$16:$K$16=Model!$K137273)*(Data!$C$17:$K$19))","v":1.06},90.46,{"$f":"_xlfn.IFS(M137273>70,\"Serviceable\",M137273>30, \"Limited Life\",M137273<=30, \"Unserviceable\")","v":"Serviceable"}]
[null,210939,2006,"Wood Untreated Round","Serviceable","Class 2",2016,90,85.12,9,{"$f":"INDEX(Lists!$B$32:$B$40, MATCH(2020-C137274, Lists!$C$32:$C$40,1))","v":"0-20"},{"$f":"SUMPRODUCT((Data!$B$17:$B$19=Model!$F137274)*(Data!$C$16:$K$16=Model!$K137274)*(Data!$C$17:$K$19))","v":1.22},79.02,{"$f":"_xlfn.IFS(M137274>70,\"Serviceable\",M137274>30, \"Limited Life\",M137274<=30, \"Unserviceable\")","v":"Serviceable"}]
[null,210941,2013,"Wood Untreated Round","Serviceable","Class 1",2016,100,95.76,9,{"$f":"INDEX(Lists!$B$32:$B$40, MATCH(2020-C137275, Lists!$C$32:$C$40,1))","v":"0-20"},{"$f":"SUMPRODUCT((Data!$B$17:$B$19=Model!$F137275)*(Data!$C$16:$K$16=Model!$K137275)*(Data!$C$17:$K$19))","v":1.06},90.46,{"$f":"_xlfn.IFS(M137275>70,\"Serviceable\",M137275>30, \"Limited Life\",M137275<=30, \"Unserviceable\")","v":"Serviceable"}]
[null,210942,2013,"Wood Untreated Round","Serviceable","Class 2",2016,100,95.12,9,{"$f":"INDEX(Lists!$B$32:$B$40, MATCH(2020-C137276, Lists!$C$32:$C$40,1))","v":"0-20"},{"$f":"SUMPRODUCT((Data!$B$17:$B$19=Model!$F137276)*(Data!$C$16:$K$16=Model!$K137276)*(Data!$C$17:$K$19))","v":1.22},89.02,{"$f":"_xlfn.IFS(M137276>70,\"Serviceable\",M137276>30, \"Limited Life\",M137276<=30, \"Unserviceable\")","v":"Serviceable"}]
[null,210948,1998,"Wood Creos Impregnated","Serviceable","Class 3",2016,90,82.64,9,{"$f":"INDEX(Lists!$B$32:$B$40, MATCH(2020-C137277, Lists!$C$32:$C$40,1))","v":"21-30"},{"$f":"SUMPRODUCT((Data!$B$17:$B$19=Model!$F137277)*(Data!$C$16:$K$16=Model!$K137277)*(Data!$C$17:$K$19))","v":1.84},73.44,{"$f":"_xlfn.IFS(M137277>70,\"Serviceable\",M137277>30, \"Limited Life\",M137277<=30, \"Unserviceable\")","v":"Serviceable"}]
[null,210964,2007,"Wood Salt Impregnated (Green)","Serviceable","Class 3",2016,100,94.52,9,{"$f":"INDEX(Lists!$B$32:$B$40, MATCH(2020-C137278, Lists!$C$32:$C$40,1))","v":"0-20"},{"$f":"SUMPRODUCT((Data!$B$17:$B$19=Model!$F137278)*(Data!$C$16:$K$16=Model!$K137278)*(Data!$C$17:$K$19))","v":1.37},87.67,{"$f":"_xlfn.IFS(M137278>70,\"Serviceable\",M137278>30, \"Limited Life\",M137278<=30, \"Unserviceable\")","v":"Serviceable"}]
[null,210984,2013,"Wood Creos Impregnated","Limited Life","Class 3",2016,70,64.52,9,{"$f":"INDEX(Lists!$B$32:$B$40, MATCH(2020-C137279, Lists!$C$32:$C$40,1))","v":"0-20"},{"$f":"SUMPRODUCT((Data!$B$17:$B$19=Model!$F137279)*(Data!$C$16:$K$16=Model!$K137279)*(Data!$C$17:$K$19))","v":1.37},57.67,{"$f":"_xlfn.IFS(M137279>70,\"Serviceable\",M137279>30, \"Limited Life\",M137279<=30, \"Unserviceable\")","v":"Limited Life"}]
[null,211006,1957,"Wood Creos Impregnated","Serviceable","Class 3",2017,100,93.94,8,{"$f":"INDEX(Lists!$B$32:$B$40, MATCH(2020-C137280, Lists!$C$32:$C$40,1))","v":"61-70"},{"$f":"SUMPRODUCT((Data!$B$17:$B$19=Model!$F137280)*(Data!$C$16:$K$16=Model!$K137280)*(Data!$C$17:$K$19))","v":2.02},83.84,{"$f":"_xlfn.IFS(M137280>70,\"Serviceable\",M137280>30, \"Limited Life\",M137280<=30, \"Unserviceable\")","v":"Serviceable"}]
[null,211027,2006,"Wood Creos Impregnated","Serviceable","Class 3",2016,100,94.52,9,{"$f":"INDEX(Lists!$B$32:$B$40, MATCH(2020-C137281, Lists!$C$32:$C$40,1))","v":"0-20"},{"$f":"SUMPRODUCT((Data!$B$17:$B$19=Model!$F137281)*(Data!$C$16:$K$16=Model!$K137281)*(Data!$C$17:$K$19))","v":1.37},87.67,{"$f":"_xlfn.IFS(M137281>70,\"Serviceable\",M137281>30, \"Limited Life\",M137281<=30, \"Unserviceable\")","v":"Serviceable"}]
[null,211030,2011,"Wood Untreated Round","Serviceable","Class 2",2016,100,95.12,9,{"$f":"INDEX(Lists!$B$32:$B$40, MATCH(2020-C137282, Lists!$C$32:$C$40,1))","v":"0-20"},{"$f":"SUMPRODUCT((Data!$B$17:$B$19=Model!$F137282)*(Data!$C$16:$K$16=Model!$K137282)*(Data!$C$17:$K$19))","v":1.22},89.02,{"$f":"_xlfn.IFS(M137282>70,\"Serviceable\",M137282>30, \"Limited Life\",M137282<=30, \"Unserviceable\")","v":"Serviceable"}]
[null,211033,1957,"Wood Creos Impregnated","Serviceable","Class 3",2016,100,91.92,9,{"$f":"INDEX(Lists!$B$32:$B$40, MATCH(2020-C137283, Lists!$C$32:$C$40,1))","v":"61-70"},{"$f":"SUMPRODUCT((Data!$B$17:$B$19=Model!$F137283)*(Data!$C$16:$K$16=Model!$K137283)*(Data!$C$17:$K$19))","v":2.02},81.819999999999993,{"$f":"_xlfn.IFS(M137283>70,\"Serviceable\",M137283>30, \"Limited Life\",M137283<=30, \"Unserviceable\")","v":"Serviceable"}]
[null,211044,2005,"Wood Untreated Dressed","Serviceable","Class 1",2018,100,97.88,7,{"$f":"INDEX(Lists!$B$32:$B$40, MATCH(2020-C137284, Lists!$C$32:$C$40,1))","v":"0-20"},{"$f":"SUMPRODUCT((Data!$B$17:$B$19=Model!$F137284)*(Data!$C$16:$K$16=Model!$K137284)*(Data!$C$17:$K$19))","v":1.06},92.58,{"$f":"_xlfn.IFS(M137284>70,\"Serviceable\",M137284>30, \"Limited Life\",M137284<=30, \"Unserviceable\")","v":"Serviceable"}]
[null,211045,2009,"Wood Untreated Round","Serviceable","Class 2",2018,100,97.56,7,{"$f":"INDEX(Lists!$B$32:$B$40, MATCH(2020-C137285, Lists!$C$32:$C$40,1))","v":"0-20"},{"$f":"SUMPRODUCT((Data!$B$17:$B$19=Model!$F137285)*(Data!$C$16:$K$16=Model!$K137285)*(Data!$C$17:$K$19))","v":1.22},91.460000000000008,{"$f":"_xlfn.IFS(M137285>70,\"Serviceable\",M137285>30, \"Limited Life\",M137285<=30, \"Unserviceable\")","v":"Serviceable"}]
[null,211049,1959,"Wood Untreated Round","Serviceable","Class 1",2019,100,97.97,6,{"$f":"INDEX(Lists!$B$32:$B$40, MATCH(2020-C137286, Lists!$C$32:$C$40,1))","v":"61-70"},{"$f":"SUMPRODUCT((Data!$B$17:$B$19=Model!$F137286)*(Data!$C$16:$K$16=Model!$K137286)*(Data!$C$17:$K$19))","v":2.0299999999999998},87.82,{"$f":"_xlfn.IFS(M137286>70,\"Serviceable\",M137286>30, \"Limited Life\",M137286<=30, \"Unserviceable\")","v":"Serviceable"}]
[null,211056,2000,"Wood Untreated Round","Serviceable","Class 2",2017,100,96.34,8,{"$f":"INDEX(Lists!$B$32:$B$40, MATCH(2020-C137287, Lists!$C$32:$C$40,1))","v":"0-20"},{"$f":"SUMPRODUCT((Data!$B$17:$B$19=Model!$F137287)*(Data!$C$16:$K$16=Model!$K137287)*(Data!$C$17:$K$19))","v":1.22},90.24,{"$f":"_xlfn.IFS(M137287>70,\"Serviceable\",M137287>30, \"Limited Life\",M137287<=30, \"Unserviceable\")","v":"Serviceable"}]
[null,211081,1997,"Wood Untreated Round","Serviceable","Class 2",2017,90,84.33,{"$f":"2025-G137288","v":8},{"$f":"INDEX(Lists!$B$32:$B$40, MATCH(2020-C137288, Lists!$C$32:$C$40,1))","v":"21-30"},{"$f":"SUMPRODUCT((Data!$B$17:$B$19=Model!$F137288)*(Data!$C$16:$K$16=Model!$K137288)*(Data!$C$17:$K$19))","v":1.89},{"$f":"IF(IF(H137288>=700,999,(H137288-L137288*J137288))<0,0,IF(H137288>=700,999,(H137288-L137288*J137288)))","v":74.88},{"$f":"_xlfn.IFS(M137288>70,\"Serviceable\",M137288>30, \"Limited Life\",M137288<=30, \"Unserviceable\")","v":"Serviceable"}]
[null,211093,2003,"Wood Untreated Round","Serviceable","Class 2",2017,100,96.34,8,{"$f":"INDEX(Lists!$B$32:$B$40, MATCH(2020-C137289, Lists!$C$32:$C$40,1))","v":"0-20"},{"$f":"SUMPRODUCT((Data!$B$17:$B$19=Model!$F137289)*(Data!$C$16:$K$16=Model!$K137289)*(Data!$C$17:$K$19))","v":1.22},90.24,{"$f":"_xlfn.IFS(M137289>70,\"Serviceable\",M137289>30, \"Limited Life\",M137289<=30, \"Unserviceable\")","v":"Serviceable"}]
[null,211106,2004,"Wood Creos Impregnated","Serviceable","Class 3",2017,100,95.89,8,{"$f":"INDEX(Lists!$B$32:$B$40, MATCH(2020-C137290, Lists!$C$32:$C$40,1))","v":"0-20"},{"$f":"SUMPRODUCT((Data!$B$17:$B$19=Model!$F137290)*(Data!$C$16:$K$16=Model!$K137290)*(Data!$C$17:$K$19))","v":1.37},89.039999999999992,{"$f":"_xlfn.IFS(M137290>70,\"Serviceable\",M137290>30, \"Limited Life\",M137290<=30, \"Unserviceable\")","v":"Serviceable"}]
[null,211134,2003,"Wood Creos Impregnated","Serviceable","Class 3",2017,100,95.89,8,{"$f":"INDEX(Lists!$B$32:$B$40, MATCH(2020-C137291, Lists!$C$32:$C$40,1))","v":"0-20"},{"$f":"SUMPRODUCT((Data!$B$17:$B$19=Model!$F137291)*(Data!$C$16:$K$16=Model!$K137291)*(Data!$C$17:$K$19))","v":1.37},89.039999999999992,{"$f":"_xlfn.IFS(M137291>70,\"Serviceable\",M137291>30, \"Limited Life\",M137291<=30, \"Unserviceable\")","v":"Serviceable"}]
[null,211156,1969,"Wood Untreated Round","Serviceable","Class 2",2017,100,92.29,8,{"$f":"INDEX(Lists!$B$32:$B$40, MATCH(2020-C137292, Lists!$C$32:$C$40,1))","v":"51-60"},{"$f":"SUMPRODUCT((Data!$B$17:$B$19=Model!$F137292)*(Data!$C$16:$K$16=Model!$K137292)*(Data!$C$17:$K$19))","v":2.57},79.44,{"$f":"_xlfn.IFS(M137292>70,\"Serviceable\",M137292>30, \"Limited Life\",M137292<=30, \"Unserviceable\")","v":"Serviceable"}]
[null,211161,1994,"Wood Untreated Round","Serviceable","Class 2",2019,100,98.11,6,{"$f":"INDEX(Lists!$B$32:$B$40, MATCH(2020-C137293, Lists!$C$32:$C$40,1))","v":"21-30"},{"$f":"SUMPRODUCT((Data!$B$17:$B$19=Model!$F137293)*(Data!$C$16:$K$16=Model!$K137293)*(Data!$C$17:$K$19))","v":1.89},88.66,{"$f":"_xlfn.IFS(M137293>70,\"Serviceable\",M137293>30, \"Limited Life\",M137293<=30, \"Unserviceable\")","v":"Serviceable"}]
[null,211163,2007,"Wood Untreated Round","Serviceable","Class 2",2018,80,77.56,7,{"$f":"INDEX(Lists!$B$32:$B$40, MATCH(2020-C137294, Lists!$C$32:$C$40,1))","v":"0-20"},{"$f":"SUMPRODUCT((Data!$B$17:$B$19=Model!$F137294)*(Data!$C$16:$K$16=Model!$K137294)*(Data!$C$17:$K$19))","v":1.22},71.460000000000008,{"$f":"_xlfn.IFS(M137294>70,\"Serviceable\",M137294>30, \"Limited Life\",M137294<=30, \"Unserviceable\")","v":"Serviceable"}]
[null,211169,2011,"Wood Creos Impregnated","Serviceable","Class 3",2016,100,94.52,9,{"$f":"INDEX(Lists!$B$32:$B$40, MATCH(2020-C137295, Lists!$C$32:$C$40,1))","v":"0-20"},{"$f":"SUMPRODUCT((Data!$B$17:$B$19=Model!$F137295)*(Data!$C$16:$K$16=Model!$K137295)*(Data!$C$17:$K$19))","v":1.37},87.67,{"$f":"_xlfn.IFS(M137295>70,\"Serviceable\",M137295>30, \"Limited Life\",M137295<=30, \"Unserviceable\")","v":"Serviceable"}]
[null,211170,2007,"Wood Untreated Round","Serviceable","Class 2",2019,100,98.78,6,{"$f":"INDEX(Lists!$B$32:$B$40, MATCH(2020-C137296, Lists!$C$32:$C$40,1))","v":"0-20"},{"$f":"SUMPRODUCT((Data!$B$17:$B$19=Model!$F137296)*(Data!$C$16:$K$16=Model!$K137296)*(Data!$C$17:$K$19))","v":1.22},92.68,{"$f":"_xlfn.IFS(M137296>70,\"Serviceable\",M137296>30, \"Limited Life\",M137296<=30, \"Unserviceable\")","v":"Serviceable"}]
[null,211174,1993,"Wood Untreated Round","Serviceable","Class 2",2020,100,100,5,{"$f":"INDEX(Lists!$B$32:$B$40, MATCH(2020-C137297, Lists!$C$32:$C$40,1))","v":"21-30"},{"$f":"SUMPRODUCT((Data!$B$17:$B$19=Model!$F137297)*(Data!$C$16:$K$16=Model!$K137297)*(Data!$C$17:$K$19))","v":1.89},90.55,{"$f":"_xlfn.IFS(M137297>70,\"Serviceable\",M137297>30, \"Limited Life\",M137297<=30, \"Unserviceable\")","v":"Serviceable"}]
[null,211177,2006,"Wood Untreated Round","Serviceable","Class 2",2017,100,96.34,8,{"$f":"INDEX(Lists!$B$32:$B$40, MATCH(2020-C137298, Lists!$C$32:$C$40,1))","v":"0-20"},{"$f":"SUMPRODUCT((Data!$B$17:$B$19=Model!$F137298)*(Data!$C$16:$K$16=Model!$K137298)*(Data!$C$17:$K$19))","v":1.22},90.24,{"$f":"_xlfn.IFS(M137298>70,\"Serviceable\",M137298>30, \"Limited Life\",M137298<=30, \"Unserviceable\")","v":"Serviceable"}]
[null,211216,2011,"Wood Creos Impregnated","Serviceable","Class 3",2017,80,75.89,8,{"$f":"INDEX(Lists!$B$32:$B$40, MATCH(2020-C137299, Lists!$C$32:$C$40,1))","v":"0-20"},{"$f":"SUMPRODUCT((Data!$B$17:$B$19=Model!$F137299)*(Data!$C$16:$K$16=Model!$K137299)*(Data!$C$17:$K$19))","v":1.37},69.039999999999992,{"$f":"_xlfn.IFS(M137299>70,\"Serviceable\",M137299>30, \"Limited Life\",M137299<=30, \"Unserviceable\")","v":"Limited Life"}]
[null,211224,1965,"Wood Creos Impregnated","Serviceable","Class 3",2017,100,91.81,8,{"$f":"INDEX(Lists!$B$32:$B$40, MATCH(2020-C137300, Lists!$C$32:$C$40,1))","v":"51-60"},{"$f":"SUMPRODUCT((Data!$B$17:$B$19=Model!$F137300)*(Data!$C$16:$K$16=Model!$K137300)*(Data!$C$17:$K$19))","v":2.73},78.16,{"$f":"_xlfn.IFS(M137300>70,\"Serviceable\",M137300>30, \"Limited Life\",M137300<=30, \"Unserviceable\")","v":"Serviceable"}]
[null,211251,1950,"Wood Untreated Round","Serviceable","Class 1",2020,100,100,5,{"$f":"INDEX(Lists!$B$32:$B$40, MATCH(2020-C137301, Lists!$C$32:$C$40,1))","v":"61-70"},{"$f":"SUMPRODUCT((Data!$B$17:$B$19=Model!$F137301)*(Data!$C$16:$K$16=Model!$K137301)*(Data!$C$17:$K$19))","v":2.0299999999999998},89.85,{"$f":"_xlfn.IFS(M137301>70,\"Serviceable\",M137301>30, \"Limited Life\",M137301<=30, \"Unserviceable\")","v":"Serviceable"}]
[null,211300,2009,"Wood Untreated Round","Serviceable","Class 2",2019,100,98.78,6,{"$f":"INDEX(Lists!$B$32:$B$40, MATCH(2020-C137302, Lists!$C$32:$C$40,1))","v":"0-20"},{"$f":"SUMPRODUCT((Data!$B$17:$B$19=Model!$F137302)*(Data!$C$16:$K$16=Model!$K137302)*(Data!$C$17:$K$19))","v":1.22},92.68,{"$f":"_xlfn.IFS(M137302>70,\"Serviceable\",M137302>30, \"Limited Life\",M137302<=30, \"Unserviceable\")","v":"Serviceable"}]
[null,211304,2001,"Wood Untreated Round","Limited Life","Class 2",2017,70,66.34,8,{"$f":"INDEX(Lists!$B$32:$B$40, MATCH(2020-C137303, Lists!$C$32:$C$40,1))","v":"0-20"},{"$f":"SUMPRODUCT((Data!$B$17:$B$19=Model!$F137303)*(Data!$C$16:$K$16=Model!$K137303)*(Data!$C$17:$K$19))","v":1.22},60.24,{"$f":"_xlfn.IFS(M137303>70,\"Serviceable\",M137303>30, \"Limited Life\",M137303<=30, \"Unserviceable\")","v":"Limited Life"}]
[null,211324,2004,"Wood Creos Impregnated","Serviceable","Class 3",2017,100,95.89,8,{"$f":"INDEX(Lists!$B$32:$B$40, MATCH(2020-C137304, Lists!$C$32:$C$40,1))","v":"0-20"},{"$f":"SUMPRODUCT((Data!$B$17:$B$19=Model!$F137304)*(Data!$C$16:$K$16=Model!$K137304)*(Data!$C$17:$K$19))","v":1.37},89.039999999999992,{"$f":"_xlfn.IFS(M137304>70,\"Serviceable\",M137304>30, \"Limited Life\",M137304<=30, \"Unserviceable\")","v":"Serviceable"}]
[null,211325,1958,"Wood Creos Impregnated","Limited Life","Class 3",2018,50,45.96,7,{"$f":"INDEX(Lists!$B$32:$B$40, MATCH(2020-C137305, Lists!$C$32:$C$40,1))","v":"61-70"},{"$f":"SUMPRODUCT((Data!$B$17:$B$19=Model!$F137305)*(Data!$C$16:$K$16=Model!$K137305)*(Data!$C$17:$K$19))","v":2.02},35.86,{"$f":"_xlfn.IFS(M137305>70,\"Serviceable\",M137305>30, \"Limited Life\",M137305<=30, \"Unserviceable\")","v":"Limited Life"}]
[null,211358,1970,"Wood Untreated Round","Unserviceable","Class 2",2017,20,10.16,8,{"$f":"INDEX(Lists!$B$32:$B$40, MATCH(2020-C137306, Lists!$C$32:$C$40,1))","v":"41-50"},{"$f":"SUMPRODUCT((Data!$B$17:$B$19=Model!$F137306)*(Data!$C$16:$K$16=Model!$K137306)*(Data!$C$17:$K$19))","v":3.28},0,{"$f":"_xlfn.IFS(M137306>70,\"Serviceable\",M137306>30, \"Limited Life\",M137306<=30, \"Unserviceable\")","v":"Unserviceable"}]
[null,211364,2004,"Wood Creos Impregnated","Serviceable","Class 3",2017,90,85.89,8,{"$f":"INDEX(Lists!$B$32:$B$40, MATCH(2020-C137307, Lists!$C$32:$C$40,1))","v":"0-20"},{"$f":"SUMPRODUCT((Data!$B$17:$B$19=Model!$F137307)*(Data!$C$16:$K$16=Model!$K137307)*(Data!$C$17:$K$19))","v":1.37},79.039999999999992,{"$f":"_xlfn.IFS(M137307>70,\"Serviceable\",M137307>30, \"Limited Life\",M137307<=30, \"Unserviceable\")","v":"Serviceable"}]
[null,211371,2013,"Wood Creos Impregnated","Serviceable","Class 3",2019,100,98.63,6,{"$f":"INDEX(Lists!$B$32:$B$40, MATCH(2020-C137308, Lists!$C$32:$C$40,1))","v":"0-20"},{"$f":"SUMPRODUCT((Data!$B$17:$B$19=Model!$F137308)*(Data!$C$16:$K$16=Model!$K137308)*(Data!$C$17:$K$19))","v":1.37},91.78,{"$f":"_xlfn.IFS(M137308>70,\"Serviceable\",M137308>30, \"Limited Life\",M137308<=30, \"Unserviceable\")","v":"Serviceable"}]
[null,211388,2011,"Wood Creos Impregnated","Serviceable","Class 3",2020,90,90,5,{"$f":"INDEX(Lists!$B$32:$B$40, MATCH(2020-C137309, Lists!$C$32:$C$40,1))","v":"0-20"},{"$f":"SUMPRODUCT((Data!$B$17:$B$19=Model!$F137309)*(Data!$C$16:$K$16=Model!$K137309)*(Data!$C$17:$K$19))","v":1.37},83.15,{"$f":"_xlfn.IFS(M137309>70,\"Serviceable\",M137309>30, \"Limited Life\",M137309<=30, \"Unserviceable\")","v":"Serviceable"}]
[null,211403,2013,"Wood Creos Impregnated","Serviceable","Class 3",2019,90,88.63,6,{"$f":"INDEX(Lists!$B$32:$B$40, MATCH(2020-C137310, Lists!$C$32:$C$40,1))","v":"0-20"},{"$f":"SUMPRODUCT((Data!$B$17:$B$19=Model!$F137310)*(Data!$C$16:$K$16=Model!$K137310)*(Data!$C$17:$K$19))","v":1.37},81.78,{"$f":"_xlfn.IFS(M137310>70,\"Serviceable\",M137310>30, \"Limited Life\",M137310<=30, \"Unserviceable\")","v":"Serviceable"}]
[null,211415,1974,"Wood Creos Impregnated","Serviceable","Class 3",2017,100,88.66,8,{"$f":"INDEX(Lists!$B$32:$B$40, MATCH(2020-C137311, Lists!$C$32:$C$40,1))","v":"41-50"},{"$f":"SUMPRODUCT((Data!$B$17:$B$19=Model!$F137311)*(Data!$C$16:$K$16=Model!$K137311)*(Data!$C$17:$K$19))","v":3.78},69.760000000000005,{"$f":"_xlfn.IFS(M137311>70,\"Serviceable\",M137311>30, \"Limited Life\",M137311<=30, \"Unserviceable\")","v":"Limited Life"}]
[null,211418,2004,"CCA Treated Pole","Serviceable","Class 1",2017,100,96.82,8,{"$f":"INDEX(Lists!$B$32:$B$40, MATCH(2020-C137312, Lists!$C$32:$C$40,1))","v":"0-20"},{"$f":"SUMPRODUCT((Data!$B$17:$B$19=Model!$F137312)*(Data!$C$16:$K$16=Model!$K137312)*(Data!$C$17:$K$19))","v":1.06},91.52,{"$f":"_xlfn.IFS(M137312>70,\"Serviceable\",M137312>30, \"Limited Life\",M137312<=30, \"Unserviceable\")","v":"Serviceable"}]
[null,211419,1964,"Wood Creos Impregnated","Serviceable","Class 3",2017,100,91.81,8,{"$f":"INDEX(Lists!$B$32:$B$40, MATCH(2020-C137313, Lists!$C$32:$C$40,1))","v":"51-60"},{"$f":"SUMPRODUCT((Data!$B$17:$B$19=Model!$F137313)*(Data!$C$16:$K$16=Model!$K137313)*(Data!$C$17:$K$19))","v":2.73},78.16,{"$f":"_xlfn.IFS(M137313>70,\"Serviceable\",M137313>30, \"Limited Life\",M137313<=30, \"Unserviceable\")","v":"Serviceable"}]
[null,211425,2011,"Wood Creos Impregnated","Serviceable","Class 3",2020,171.56902865306319,171.56902865306319,5,{"$f":"INDEX(Lists!$B$32:$B$40, MATCH(2020-C137314, Lists!$C$32:$C$40,1))","v":"0-20"},{"$f":"SUMPRODUCT((Data!$B$17:$B$19=Model!$F137314)*(Data!$C$16:$K$16=Model!$K137314)*(Data!$C$17:$K$19))","v":1.37},164.71902865306319,{"$f":"_xlfn.IFS(M137314>70,\"Serviceable\",M137314>30, \"Limited Life\",M137314<=30, \"Unserviceable\")","v":"Serviceable"}]
[null,211502,2000,"Wood Untreated Dressed","Serviceable","Class 2",2015,100,93.9,10,{"$f":"INDEX(Lists!$B$32:$B$40, MATCH(2020-C137315, Lists!$C$32:$C$40,1))","v":"0-20"},{"$f":"SUMPRODUCT((Data!$B$17:$B$19=Model!$F137315)*(Data!$C$16:$K$16=Model!$K137315)*(Data!$C$17:$K$19))","v":1.22},87.8,{"$f":"_xlfn.IFS(M137315>70,\"Serviceable\",M137315>30, \"Limited Life\",M137315<=30, \"Unserviceable\")","v":"Serviceable"}]
[null,211527,1970,"Wood Untreated Round","Serviceable","Class 1",2017,100,94.75,8,{"$f":"INDEX(Lists!$B$32:$B$40, MATCH(2020-C137316, Lists!$C$32:$C$40,1))","v":"41-50"},{"$f":"SUMPRODUCT((Data!$B$17:$B$19=Model!$F137316)*(Data!$C$16:$K$16=Model!$K137316)*(Data!$C$17:$K$19))","v":1.75},86,{"$f":"_xlfn.IFS(M137316>70,\"Serviceable\",M137316>30, \"Limited Life\",M137316<=30, \"Unserviceable\")","v":"Serviceable"}]
[null,211640,2006,"Wood Salt Impregnated (Green)","Serviceable","Class 2",2019,100,98.78,6,{"$f":"INDEX(Lists!$B$32:$B$40, MATCH(2020-C137317, Lists!$C$32:$C$40,1))","v":"0-20"},{"$f":"SUMPRODUCT((Data!$B$17:$B$19=Model!$F137317)*(Data!$C$16:$K$16=Model!$K137317)*(Data!$C$17:$K$19))","v":1.22},92.68,{"$f":"_xlfn.IFS(M137317>70,\"Serviceable\",M137317>30, \"Limited Life\",M137317<=30, \"Unserviceable\")","v":"Serviceable"}]
[null,211734,2000,"Wood Creos Impregnated","Serviceable","Class 3",2019,110,108.63,6,{"$f":"INDEX(Lists!$B$32:$B$40, MATCH(2020-C137318, Lists!$C$32:$C$40,1))","v":"0-20"},{"$f":"SUMPRODUCT((Data!$B$17:$B$19=Model!$F137318)*(Data!$C$16:$K$16=Model!$K137318)*(Data!$C$17:$K$19))","v":1.37},101.78,{"$f":"_xlfn.IFS(M137318>70,\"Serviceable\",M137318>30, \"Limited Life\",M137318<=30, \"Unserviceable\")","v":"Serviceable"}]
[null,211769,2007,"Wood Creos Impregnated","Serviceable","Class 3",2015,100,93.15,10,{"$f":"INDEX(Lists!$B$32:$B$40, MATCH(2020-C137319, Lists!$C$32:$C$40,1))","v":"0-20"},{"$f":"SUMPRODUCT((Data!$B$17:$B$19=Model!$F137319)*(Data!$C$16:$K$16=Model!$K137319)*(Data!$C$17:$K$19))","v":1.37},86.3,{"$f":"_xlfn.IFS(M137319>70,\"Serviceable\",M137319>30, \"Limited Life\",M137319<=30, \"Unserviceable\")","v":"Serviceable"}]
[null,211968,2006,"Wood Untreated Dressed","Serviceable","Class 1",2016,100,95.76,9,{"$f":"INDEX(Lists!$B$32:$B$40, MATCH(2020-C137320, Lists!$C$32:$C$40,1))","v":"0-20"},{"$f":"SUMPRODUCT((Data!$B$17:$B$19=Model!$F137320)*(Data!$C$16:$K$16=Model!$K137320)*(Data!$C$17:$K$19))","v":1.06},90.46,{"$f":"_xlfn.IFS(M137320>70,\"Serviceable\",M137320>30, \"Limited Life\",M137320<=30, \"Unserviceable\")","v":"Serviceable"}]
[null,211970,2013,"Wood Creos Impregnated","Serviceable","Class 3",2017,100,95.89,8,{"$f":"INDEX(Lists!$B$32:$B$40, MATCH(2020-C137321, Lists!$C$32:$C$40,1))","v":"0-20"},{"$f":"SUMPRODUCT((Data!$B$17:$B$19=Model!$F137321)*(Data!$C$16:$K$16=Model!$K137321)*(Data!$C$17:$K$19))","v":1.37},89.039999999999992,{"$f":"_xlfn.IFS(M137321>70,\"Serviceable\",M137321>30, \"Limited Life\",M137321<=30, \"Unserviceable\")","v":"Serviceable"}]
[null,211975,1964,"Wood Creos Impregnated","Limited Life","Class 3",2020,35,35,5,{"$f":"INDEX(Lists!$B$32:$B$40, MATCH(2020-C137322, Lists!$C$32:$C$40,1))","v":"51-60"},{"$f":"SUMPRODUCT((Data!$B$17:$B$19=Model!$F137322)*(Data!$C$16:$K$16=Model!$K137322)*(Data!$C$17:$K$19))","v":2.73},21.35,{"$f":"_xlfn.IFS(M137322>70,\"Serviceable\",M137322>30, \"Limited Life\",M137322<=30, \"Unserviceable\")","v":"Unserviceable"}]
[null,212141,2002,"Wood Creos Impregnated","Serviceable","Class 3",2016,110,104.52,9,{"$f":"INDEX(Lists!$B$32:$B$40, MATCH(2020-C137323, Lists!$C$32:$C$40,1))","v":"0-20"},{"$f":"SUMPRODUCT((Data!$B$17:$B$19=Model!$F137323)*(Data!$C$16:$K$16=Model!$K137323)*(Data!$C$17:$K$19))","v":1.37},97.67,{"$f":"_xlfn.IFS(M137323>70,\"Serviceable\",M137323>30, \"Limited Life\",M137323<=30, \"Unserviceable\")","v":"Serviceable"}]
[null,212188,2012,"Wood Creos Impregnated","Serviceable","Class 3",2018,100,97.26,7,{"$f":"INDEX(Lists!$B$32:$B$40, MATCH(2020-C137324, Lists!$C$32:$C$40,1))","v":"0-20"},{"$f":"SUMPRODUCT((Data!$B$17:$B$19=Model!$F137324)*(Data!$C$16:$K$16=Model!$K137324)*(Data!$C$17:$K$19))","v":1.37},90.41,{"$f":"_xlfn.IFS(M137324>70,\"Serviceable\",M137324>30, \"Limited Life\",M137324<=30, \"Unserviceable\")","v":"Serviceable"}]
[null,212236,2002,"Wood Creos Impregnated","Serviceable","Class 3",2015,125,118.15,10,{"$f":"INDEX(Lists!$B$32:$B$40, MATCH(2020-C137325, Lists!$C$32:$C$40,1))","v":"0-20"},{"$f":"SUMPRODUCT((Data!$B$17:$B$19=Model!$F137325)*(Data!$C$16:$K$16=Model!$K137325)*(Data!$C$17:$K$19))","v":1.37},111.3,{"$f":"_xlfn.IFS(M137325>70,\"Serviceable\",M137325>30, \"Limited Life\",M137325<=30, \"Unserviceable\")","v":"Serviceable"}]
[null,212296,1986,"Wood Untreated Dressed","Serviceable","Class 1",2015,100,87.4,10,{"$f":"INDEX(Lists!$B$32:$B$40, MATCH(2020-C137326, Lists!$C$32:$C$40,1))","v":"31-40"},{"$f":"SUMPRODUCT((Data!$B$17:$B$19=Model!$F137326)*(Data!$C$16:$K$16=Model!$K137326)*(Data!$C$17:$K$19))","v":2.52},74.8,{"$f":"_xlfn.IFS(M137326>70,\"Serviceable\",M137326>30, \"Limited Life\",M137326<=30, \"Unserviceable\")","v":"Serviceable"}]
[null,212305,1987,"Wood Creos Impregnated","Serviceable","Class 3",2018,90,83.56,7,{"$f":"INDEX(Lists!$B$32:$B$40, MATCH(2020-C137327, Lists!$C$32:$C$40,1))","v":"31-40"},{"$f":"SUMPRODUCT((Data!$B$17:$B$19=Model!$F137327)*(Data!$C$16:$K$16=Model!$K137327)*(Data!$C$17:$K$19))","v":3.22},67.459999999999994,{"$f":"_xlfn.IFS(M137327>70,\"Serviceable\",M137327>30, \"Limited Life\",M137327<=30, \"Unserviceable\")","v":"Limited Life"}]
[null,212334,1997,"Wood Creos Impregnated","Serviceable","Class 3",2016,100,92.64,9,{"$f":"INDEX(Lists!$B$32:$B$40, MATCH(2020-C137328, Lists!$C$32:$C$40,1))","v":"21-30"},{"$f":"SUMPRODUCT((Data!$B$17:$B$19=Model!$F137328)*(Data!$C$16:$K$16=Model!$K137328)*(Data!$C$17:$K$19))","v":1.84},83.44,{"$f":"_xlfn.IFS(M137328>70,\"Serviceable\",M137328>30, \"Limited Life\",M137328<=30, \"Unserviceable\")","v":"Serviceable"}]
[null,212401,2001,"Wood Untreated Dressed","Serviceable","Class 1",2016,100,95.76,9,{"$f":"INDEX(Lists!$B$32:$B$40, MATCH(2020-C137329, Lists!$C$32:$C$40,1))","v":"0-20"},{"$f":"SUMPRODUCT((Data!$B$17:$B$19=Model!$F137329)*(Data!$C$16:$K$16=Model!$K137329)*(Data!$C$17:$K$19))","v":1.06},90.46,{"$f":"_xlfn.IFS(M137329>70,\"Serviceable\",M137329>30, \"Limited Life\",M137329<=30, \"Unserviceable\")","v":"Serviceable"}]
[null,212402,2001,"Wood Untreated Dressed","Serviceable","Class 1",2016,100,95.76,9,{"$f":"INDEX(Lists!$B$32:$B$40, MATCH(2020-C137330, Lists!$C$32:$C$40,1))","v":"0-20"},{"$f":"SUMPRODUCT((Data!$B$17:$B$19=Model!$F137330)*(Data!$C$16:$K$16=Model!$K137330)*(Data!$C$17:$K$19))","v":1.06},90.46,{"$f":"_xlfn.IFS(M137330>70,\"Serviceable\",M137330>30, \"Limited Life\",M137330<=30, \"Unserviceable\")","v":"Serviceable"}]
[null,212422,1997,"Wood Creos Impregnated","Serviceable","Class 3",2016,90,82.64,9,{"$f":"INDEX(Lists!$B$32:$B$40, MATCH(2020-C137331, Lists!$C$32:$C$40,1))","v":"21-30"},{"$f":"SUMPRODUCT((Data!$B$17:$B$19=Model!$F137331)*(Data!$C$16:$K$16=Model!$K137331)*(Data!$C$17:$K$19))","v":1.84},73.44,{"$f":"_xlfn.IFS(M137331>70,\"Serviceable\",M137331>30, \"Limited Life\",M137331<=30, \"Unserviceable\")","v":"Serviceable"}]
[null,212425,1970,"Wood Creos Impregnated","Serviceable","Class 2",2016,100,86.88,9,{"$f":"INDEX(Lists!$B$32:$B$40, MATCH(2020-C137332, Lists!$C$32:$C$40,1))","v":"41-50"},{"$f":"SUMPRODUCT((Data!$B$17:$B$19=Model!$F137332)*(Data!$C$16:$K$16=Model!$K137332)*(Data!$C$17:$K$19))","v":3.28},70.48,{"$f":"_xlfn.IFS(M137332>70,\"Serviceable\",M137332>30, \"Limited Life\",M137332<=30, \"Unserviceable\")","v":"Serviceable"}]
[null,212443,2006,"Wood Untreated Dressed","Serviceable","Class 1",2016,100,95.76,9,{"$f":"INDEX(Lists!$B$32:$B$40, MATCH(2020-C137333, Lists!$C$32:$C$40,1))","v":"0-20"},{"$f":"SUMPRODUCT((Data!$B$17:$B$19=Model!$F137333)*(Data!$C$16:$K$16=Model!$K137333)*(Data!$C$17:$K$19))","v":1.06},90.46,{"$f":"_xlfn.IFS(M137333>70,\"Serviceable\",M137333>30, \"Limited Life\",M137333<=30, \"Unserviceable\")","v":"Serviceable"}]
[null,212462,2006,"Wood Creos Impregnated","Serviceable","Class 3",2015,80,73.150000000000006,10,{"$f":"INDEX(Lists!$B$32:$B$40, MATCH(2020-C137334, Lists!$C$32:$C$40,1))","v":"0-20"},{"$f":"SUMPRODUCT((Data!$B$17:$B$19=Model!$F137334)*(Data!$C$16:$K$16=Model!$K137334)*(Data!$C$17:$K$19))","v":1.37},66.3,{"$f":"_xlfn.IFS(M137334>70,\"Serviceable\",M137334>30, \"Limited Life\",M137334<=30, \"Unserviceable\")","v":"Limited Life"}]
[null,212494,1974,"Wood Untreated Dressed","Serviceable","Class 3",2020,100,100,5,{"$f":"INDEX(Lists!$B$32:$B$40, MATCH(2020-C137335, Lists!$C$32:$C$40,1))","v":"41-50"},{"$f":"SUMPRODUCT((Data!$B$17:$B$19=Model!$F137335)*(Data!$C$16:$K$16=Model!$K137335)*(Data!$C$17:$K$19))","v":3.78},81.099999999999994,{"$f":"_xlfn.IFS(M137335>70,\"Serviceable\",M137335>30, \"Limited Life\",M137335<=30, \"Unserviceable\")","v":"Serviceable"}]
[null,212557,2012,"Wood Creos Impregnated","Serviceable","Class 3",2015,100,93.15,10,{"$f":"INDEX(Lists!$B$32:$B$40, MATCH(2020-C137336, Lists!$C$32:$C$40,1))","v":"0-20"},{"$f":"SUMPRODUCT((Data!$B$17:$B$19=Model!$F137336)*(Data!$C$16:$K$16=Model!$K137336)*(Data!$C$17:$K$19))","v":1.37},86.3,{"$f":"_xlfn.IFS(M137336>70,\"Serviceable\",M137336>30, \"Limited Life\",M137336<=30, \"Unserviceable\")","v":"Serviceable"}]
[null,212561,2001,"Wood Untreated Dressed","Serviceable","Class 2",2016,90,85.12,9,{"$f":"INDEX(Lists!$B$32:$B$40, MATCH(2020-C137337, Lists!$C$32:$C$40,1))","v":"0-20"},{"$f":"SUMPRODUCT((Data!$B$17:$B$19=Model!$F137337)*(Data!$C$16:$K$16=Model!$K137337)*(Data!$C$17:$K$19))","v":1.22},79.02,{"$f":"_xlfn.IFS(M137337>70,\"Serviceable\",M137337>30, \"Limited Life\",M137337<=30, \"Unserviceable\")","v":"Serviceable"}]
[null,212572,1997,"Wood Untreated Dressed","Serviceable","Class 1",2016,100,92.16,9,{"$f":"INDEX(Lists!$B$32:$B$40, MATCH(2020-C137338, Lists!$C$32:$C$40,1))","v":"21-30"},{"$f":"SUMPRODUCT((Data!$B$17:$B$19=Model!$F137338)*(Data!$C$16:$K$16=Model!$K137338)*(Data!$C$17:$K$19))","v":1.96},82.36,{"$f":"_xlfn.IFS(M137338>70,\"Serviceable\",M137338>30, \"Limited Life\",M137338<=30, \"Unserviceable\")","v":"Serviceable"}]
[null,213110,1987,"Wood Untreated Dressed","Serviceable","Class 1",2016,100,89.92,9,{"$f":"INDEX(Lists!$B$32:$B$40, MATCH(2020-C137339, Lists!$C$32:$C$40,1))","v":"31-40"},{"$f":"SUMPRODUCT((Data!$B$17:$B$19=Model!$F137339)*(Data!$C$16:$K$16=Model!$K137339)*(Data!$C$17:$K$19))","v":2.52},77.319999999999993,{"$f":"_xlfn.IFS(M137339>70,\"Serviceable\",M137339>30, \"Limited Life\",M137339<=30, \"Unserviceable\")","v":"Serviceable"}]
[null,213383,1980,"Wood Untreated Dressed","Serviceable","Class 1",2017,100,92.44,8,{"$f":"INDEX(Lists!$B$32:$B$40, MATCH(2020-C137340, Lists!$C$32:$C$40,1))","v":"31-40"},{"$f":"SUMPRODUCT((Data!$B$17:$B$19=Model!$F137340)*(Data!$C$16:$K$16=Model!$K137340)*(Data!$C$17:$K$19))","v":2.52},79.84,{"$f":"_xlfn.IFS(M137340>70,\"Serviceable\",M137340>30, \"Limited Life\",M137340<=30, \"Unserviceable\")","v":"Serviceable"}]
[null,213430,2005,"Wood Untreated Dressed","Serviceable","Class 1",2020,100,100,5,{"$f":"INDEX(Lists!$B$32:$B$40, MATCH(2020-C137341, Lists!$C$32:$C$40,1))","v":"0-20"},{"$f":"SUMPRODUCT((Data!$B$17:$B$19=Model!$F137341)*(Data!$C$16:$K$16=Model!$K137341)*(Data!$C$17:$K$19))","v":1.06},94.7,{"$f":"_xlfn.IFS(M137341>70,\"Serviceable\",M137341>30, \"Limited Life\",M137341<=30, \"Unserviceable\")","v":"Serviceable"}]
[null,213556,1973,"Wood Creos Impregnated","Serviceable","Class 3",2015,90,71.099999999999994,10,{"$f":"INDEX(Lists!$B$32:$B$40, MATCH(2020-C137342, Lists!$C$32:$C$40,1))","v":"41-50"},{"$f":"SUMPRODUCT((Data!$B$17:$B$19=Model!$F137342)*(Data!$C$16:$K$16=Model!$K137342)*(Data!$C$17:$K$19))","v":3.78},52.2,{"$f":"_xlfn.IFS(M137342>70,\"Serviceable\",M137342>30, \"Limited Life\",M137342<=30, \"Unserviceable\")","v":"Limited Life"}]
[null,213595,2003,"Wood Creos Impregnated","Serviceable","Class 3",2016,100,94.52,9,{"$f":"INDEX(Lists!$B$32:$B$40, MATCH(2020-C137343, Lists!$C$32:$C$40,1))","v":"0-20"},{"$f":"SUMPRODUCT((Data!$B$17:$B$19=Model!$F137343)*(Data!$C$16:$K$16=Model!$K137343)*(Data!$C$17:$K$19))","v":1.37},87.67,{"$f":"_xlfn.IFS(M137343>70,\"Serviceable\",M137343>30, \"Limited Life\",M137343<=30, \"Unserviceable\")","v":"Serviceable"}]
[null,213694,2003,"Wood Untreated Dressed","Serviceable","Class 1",2016,140,135.76,9,{"$f":"INDEX(Lists!$B$32:$B$40, MATCH(2020-C137344, Lists!$C$32:$C$40,1))","v":"0-20"},{"$f":"SUMPRODUCT((Data!$B$17:$B$19=Model!$F137344)*(Data!$C$16:$K$16=Model!$K137344)*(Data!$C$17:$K$19))","v":1.06},130.46,{"$f":"_xlfn.IFS(M137344>70,\"Serviceable\",M137344>30, \"Limited Life\",M137344<=30, \"Unserviceable\")","v":"Serviceable"}]
[null,213733,2000,"Wood Creos Impregnated","Serviceable","Class 3",2019,100,98.63,6,{"$f":"INDEX(Lists!$B$32:$B$40, MATCH(2020-C137345, Lists!$C$32:$C$40,1))","v":"0-20"},{"$f":"SUMPRODUCT((Data!$B$17:$B$19=Model!$F137345)*(Data!$C$16:$K$16=Model!$K137345)*(Data!$C$17:$K$19))","v":1.37},91.78,{"$f":"_xlfn.IFS(M137345>70,\"Serviceable\",M137345>30, \"Limited Life\",M137345<=30, \"Unserviceable\")","v":"Serviceable"}]
[null,213736,1960,"Wood Creos Impregnated","Serviceable","Class 3",2020,90,90,5,{"$f":"INDEX(Lists!$B$32:$B$40, MATCH(2020-C137346, Lists!$C$32:$C$40,1))","v":"51-60"},{"$f":"SUMPRODUCT((Data!$B$17:$B$19=Model!$F137346)*(Data!$C$16:$K$16=Model!$K137346)*(Data!$C$17:$K$19))","v":2.73},76.349999999999994,{"$f":"_xlfn.IFS(M137346>70,\"Serviceable\",M137346>30, \"Limited Life\",M137346<=30, \"Unserviceable\")","v":"Serviceable"}]
[null,213756,1975,"Wood Creos Impregnated","Serviceable","Class 3",2018,130,122.44,7,{"$f":"INDEX(Lists!$B$32:$B$40, MATCH(2020-C137347, Lists!$C$32:$C$40,1))","v":"41-50"},{"$f":"SUMPRODUCT((Data!$B$17:$B$19=Model!$F137347)*(Data!$C$16:$K$16=Model!$K137347)*(Data!$C$17:$K$19))","v":3.78},103.54,{"$f":"_xlfn.IFS(M137347>70,\"Serviceable\",M137347>30, \"Limited Life\",M137347<=30, \"Unserviceable\")","v":"Serviceable"}]
[null,213785,2010,"Wood Untreated Dressed","Serviceable","Class 1",2018,100,97.88,7,{"$f":"INDEX(Lists!$B$32:$B$40, MATCH(2020-C137348, Lists!$C$32:$C$40,1))","v":"0-20"},{"$f":"SUMPRODUCT((Data!$B$17:$B$19=Model!$F137348)*(Data!$C$16:$K$16=Model!$K137348)*(Data!$C$17:$K$19))","v":1.06},92.58,{"$f":"_xlfn.IFS(M137348>70,\"Serviceable\",M137348>30, \"Limited Life\",M137348<=30, \"Unserviceable\")","v":"Serviceable"}]
[null,213804,1984,"Wood Untreated Dressed","Serviceable","Class 1",2015,140,127.4,10,{"$f":"INDEX(Lists!$B$32:$B$40, MATCH(2020-C137349, Lists!$C$32:$C$40,1))","v":"31-40"},{"$f":"SUMPRODUCT((Data!$B$17:$B$19=Model!$F137349)*(Data!$C$16:$K$16=Model!$K137349)*(Data!$C$17:$K$19))","v":2.52},114.8,{"$f":"_xlfn.IFS(M137349>70,\"Serviceable\",M137349>30, \"Limited Life\",M137349<=30, \"Unserviceable\")","v":"Serviceable"}]
[null,213815,1997,"Wood Untreated Dressed","Serviceable","Class 1",2016,100,92.16,9,{"$f":"INDEX(Lists!$B$32:$B$40, MATCH(2020-C137350, Lists!$C$32:$C$40,1))","v":"21-30"},{"$f":"SUMPRODUCT((Data!$B$17:$B$19=Model!$F137350)*(Data!$C$16:$K$16=Model!$K137350)*(Data!$C$17:$K$19))","v":1.96},82.36,{"$f":"_xlfn.IFS(M137350>70,\"Serviceable\",M137350>30, \"Limited Life\",M137350<=30, \"Unserviceable\")","v":"Serviceable"}]
[null,213816,1965,"Wood Creos Impregnated","Unserviceable","Class 3",2020,0,0,5,{"$f":"INDEX(Lists!$B$32:$B$40, MATCH(2020-C137351, Lists!$C$32:$C$40,1))","v":"51-60"},{"$f":"SUMPRODUCT((Data!$B$17:$B$19=Model!$F137351)*(Data!$C$16:$K$16=Model!$K137351)*(Data!$C$17:$K$19))","v":2.73},0,{"$f":"_xlfn.IFS(M137351>70,\"Serviceable\",M137351>30, \"Limited Life\",M137351<=30, \"Unserviceable\")","v":"Unserviceable"}]
[null,213824,1994,"Wood Untreated Dressed","Serviceable","Class 1",2020,120,120,{"$f":"2025-G137352","v":5},{"$f":"INDEX(Lists!$B$32:$B$40, MATCH(2020-C137352, Lists!$C$32:$C$40,1))","v":"21-30"},{"$f":"SUMPRODUCT((Data!$B$17:$B$19=Model!$F137352)*(Data!$C$16:$K$16=Model!$K137352)*(Data!$C$17:$K$19))","v":1.96},{"$f":"IF(IF(H137352>=700,999,(H137352-L137352*J137352))<0,0,IF(H137352>=700,999,(H137352-L137352*J137352)))","v":110.2},{"$f":"_xlfn.IFS(M137352>70,\"Serviceable\",M137352>30, \"Limited Life\",M137352<=30, \"Unserviceable\")","v":"Serviceable"}]
[null,213825,1994,"Wood Untreated Dressed","Serviceable","Class 1",2020,100,100,5,{"$f":"INDEX(Lists!$B$32:$B$40, MATCH(2020-C137353, Lists!$C$32:$C$40,1))","v":"21-30"},{"$f":"SUMPRODUCT((Data!$B$17:$B$19=Model!$F137353)*(Data!$C$16:$K$16=Model!$K137353)*(Data!$C$17:$K$19))","v":1.96},90.2,{"$f":"_xlfn.IFS(M137353>70,\"Serviceable\",M137353>30, \"Limited Life\",M137353<=30, \"Unserviceable\")","v":"Serviceable"}]
[null,213848,1978,"Wood Creos Impregnated","Serviceable","Class 2",2020,80,80,5,{"$f":"INDEX(Lists!$B$32:$B$40, MATCH(2020-C137354, Lists!$C$32:$C$40,1))","v":"41-50"},{"$f":"SUMPRODUCT((Data!$B$17:$B$19=Model!$F137354)*(Data!$C$16:$K$16=Model!$K137354)*(Data!$C$17:$K$19))","v":3.28},63.6,{"$f":"_xlfn.IFS(M137354>70,\"Serviceable\",M137354>30, \"Limited Life\",M137354<=30, \"Unserviceable\")","v":"Limited Life"}]
[null,213994,2013,"Wood Creos Impregnated","Serviceable","Class 3",2018,100,97.26,7,{"$f":"INDEX(Lists!$B$32:$B$40, MATCH(2020-C137355, Lists!$C$32:$C$40,1))","v":"0-20"},{"$f":"SUMPRODUCT((Data!$B$17:$B$19=Model!$F137355)*(Data!$C$16:$K$16=Model!$K137355)*(Data!$C$17:$K$19))","v":1.37},90.41,{"$f":"_xlfn.IFS(M137355>70,\"Serviceable\",M137355>30, \"Limited Life\",M137355<=30, \"Unserviceable\")","v":"Serviceable"}]
[null,214021,1978,"Wood Creos Impregnated","Serviceable","Class 3",2016,100,84.88,9,{"$f":"INDEX(Lists!$B$32:$B$40, MATCH(2020-C137356, Lists!$C$32:$C$40,1))","v":"41-50"},{"$f":"SUMPRODUCT((Data!$B$17:$B$19=Model!$F137356)*(Data!$C$16:$K$16=Model!$K137356)*(Data!$C$17:$K$19))","v":3.78},65.98,{"$f":"_xlfn.IFS(M137356>70,\"Serviceable\",M137356>30, \"Limited Life\",M137356<=30, \"Unserviceable\")","v":"Limited Life"}]
[null,214118,2000,"Wood Untreated Dressed","Serviceable","Class 3",2017,100,95.89,8,{"$f":"INDEX(Lists!$B$32:$B$40, MATCH(2020-C137357, Lists!$C$32:$C$40,1))","v":"0-20"},{"$f":"SUMPRODUCT((Data!$B$17:$B$19=Model!$F137357)*(Data!$C$16:$K$16=Model!$K137357)*(Data!$C$17:$K$19))","v":1.37},89.039999999999992,{"$f":"_xlfn.IFS(M137357>70,\"Serviceable\",M137357>30, \"Limited Life\",M137357<=30, \"Unserviceable\")","v":"Serviceable"}]
[null,214119,1950,"Wood Untreated Dressed","Serviceable","Class 1",2017,100,93.91,8,{"$f":"INDEX(Lists!$B$32:$B$40, MATCH(2020-C137358, Lists!$C$32:$C$40,1))","v":"61-70"},{"$f":"SUMPRODUCT((Data!$B$17:$B$19=Model!$F137358)*(Data!$C$16:$K$16=Model!$K137358)*(Data!$C$17:$K$19))","v":2.0299999999999998},83.76,{"$f":"_xlfn.IFS(M137358>70,\"Serviceable\",M137358>30, \"Limited Life\",M137358<=30, \"Unserviceable\")","v":"Serviceable"}]
[null,214140,2005,"Wood Creos Impregnated","Serviceable","Class 3",2017,100,95.89,8,{"$f":"INDEX(Lists!$B$32:$B$40, MATCH(2020-C137359, Lists!$C$32:$C$40,1))","v":"0-20"},{"$f":"SUMPRODUCT((Data!$B$17:$B$19=Model!$F137359)*(Data!$C$16:$K$16=Model!$K137359)*(Data!$C$17:$K$19))","v":1.37},89.039999999999992,{"$f":"_xlfn.IFS(M137359>70,\"Serviceable\",M137359>30, \"Limited Life\",M137359<=30, \"Unserviceable\")","v":"Serviceable"}]
[null,214149,1959,"Wood Creos Impregnated","Serviceable","Class 3",2016,100,91.92,9,{"$f":"INDEX(Lists!$B$32:$B$40, MATCH(2020-C137360, Lists!$C$32:$C$40,1))","v":"61-70"},{"$f":"SUMPRODUCT((Data!$B$17:$B$19=Model!$F137360)*(Data!$C$16:$K$16=Model!$K137360)*(Data!$C$17:$K$19))","v":2.02},81.819999999999993,{"$f":"_xlfn.IFS(M137360>70,\"Serviceable\",M137360>30, \"Limited Life\",M137360<=30, \"Unserviceable\")","v":"Serviceable"}]
[null,214157,1970,"Wood Creos Impregnated","Serviceable","Class 3",2018,100,92.44,7,{"$f":"INDEX(Lists!$B$32:$B$40, MATCH(2020-C137361, Lists!$C$32:$C$40,1))","v":"41-50"},{"$f":"SUMPRODUCT((Data!$B$17:$B$19=Model!$F137361)*(Data!$C$16:$K$16=Model!$K137361)*(Data!$C$17:$K$19))","v":3.78},73.540000000000006,{"$f":"_xlfn.IFS(M137361>70,\"Serviceable\",M137361>30, \"Limited Life\",M137361<=30, \"Unserviceable\")","v":"Serviceable"}]
[null,214239,1977,"Wood Untreated Dressed","Serviceable","Class 1",2016,100,93,9,{"$f":"INDEX(Lists!$B$32:$B$40, MATCH(2020-C137362, Lists!$C$32:$C$40,1))","v":"41-50"},{"$f":"SUMPRODUCT((Data!$B$17:$B$19=Model!$F137362)*(Data!$C$16:$K$16=Model!$K137362)*(Data!$C$17:$K$19))","v":1.75},84.25,{"$f":"_xlfn.IFS(M137362>70,\"Serviceable\",M137362>30, \"Limited Life\",M137362<=30, \"Unserviceable\")","v":"Serviceable"}]
[null,214243,1998,"Wood Untreated Dressed","Serviceable","Class 2",2017,90,84.33,8,{"$f":"INDEX(Lists!$B$32:$B$40, MATCH(2020-C137363, Lists!$C$32:$C$40,1))","v":"21-30"},{"$f":"SUMPRODUCT((Data!$B$17:$B$19=Model!$F137363)*(Data!$C$16:$K$16=Model!$K137363)*(Data!$C$17:$K$19))","v":1.89},74.88,{"$f":"_xlfn.IFS(M137363>70,\"Serviceable\",M137363>30, \"Limited Life\",M137363<=30, \"Unserviceable\")","v":"Serviceable"}]
[null,214366,2004,"Wood Untreated Dressed","Serviceable","Class 1",2016,100,95.76,9,{"$f":"INDEX(Lists!$B$32:$B$40, MATCH(2020-C137364, Lists!$C$32:$C$40,1))","v":"0-20"},{"$f":"SUMPRODUCT((Data!$B$17:$B$19=Model!$F137364)*(Data!$C$16:$K$16=Model!$K137364)*(Data!$C$17:$K$19))","v":1.06},90.46,{"$f":"_xlfn.IFS(M137364>70,\"Serviceable\",M137364>30, \"Limited Life\",M137364<=30, \"Unserviceable\")","v":"Serviceable"}]
[null,214583,1958,"Wood Creos Impregnated","Serviceable","Class 2",2018,80,75.540000000000006,7,{"$f":"INDEX(Lists!$B$32:$B$40, MATCH(2020-C137365, Lists!$C$32:$C$40,1))","v":"61-70"},{"$f":"SUMPRODUCT((Data!$B$17:$B$19=Model!$F137365)*(Data!$C$16:$K$16=Model!$K137365)*(Data!$C$17:$K$19))","v":2.23},64.39,{"$f":"_xlfn.IFS(M137365>70,\"Serviceable\",M137365>30, \"Limited Life\",M137365<=30, \"Unserviceable\")","v":"Limited Life"}]
[null,214596,1978,"Wood Other","Limited Life","Class 3",2019,60,56.22,6,{"$f":"INDEX(Lists!$B$32:$B$40, MATCH(2020-C137366, Lists!$C$32:$C$40,1))","v":"41-50"},{"$f":"SUMPRODUCT((Data!$B$17:$B$19=Model!$F137366)*(Data!$C$16:$K$16=Model!$K137366)*(Data!$C$17:$K$19))","v":3.78},37.32,{"$f":"_xlfn.IFS(M137366>70,\"Serviceable\",M137366>30, \"Limited Life\",M137366<=30, \"Unserviceable\")","v":"Limited Life"}]
[null,214597,2007,"Wood Creos Impregnated","Serviceable","Class 3",2017,90,85.89,8,{"$f":"INDEX(Lists!$B$32:$B$40, MATCH(2020-C137367, Lists!$C$32:$C$40,1))","v":"0-20"},{"$f":"SUMPRODUCT((Data!$B$17:$B$19=Model!$F137367)*(Data!$C$16:$K$16=Model!$K137367)*(Data!$C$17:$K$19))","v":1.37},79.039999999999992,{"$f":"_xlfn.IFS(M137367>70,\"Serviceable\",M137367>30, \"Limited Life\",M137367<=30, \"Unserviceable\")","v":"Serviceable"}]
[null,214615,2014,"Wood Creos Impregnated","Serviceable","Class 3",2017,100,95.89,8,{"$f":"INDEX(Lists!$B$32:$B$40, MATCH(2020-C137368, Lists!$C$32:$C$40,1))","v":"0-20"},{"$f":"SUMPRODUCT((Data!$B$17:$B$19=Model!$F137368)*(Data!$C$16:$K$16=Model!$K137368)*(Data!$C$17:$K$19))","v":1.37},89.039999999999992,{"$f":"_xlfn.IFS(M137368>70,\"Serviceable\",M137368>30, \"Limited Life\",M137368<=30, \"Unserviceable\")","v":"Serviceable"}]
[null,214642,1965,"Wood Creos Impregnated","Serviceable","Class 3",2018,90,84.54,7,{"$f":"INDEX(Lists!$B$32:$B$40, MATCH(2020-C137369, Lists!$C$32:$C$40,1))","v":"51-60"},{"$f":"SUMPRODUCT((Data!$B$17:$B$19=Model!$F137369)*(Data!$C$16:$K$16=Model!$K137369)*(Data!$C$17:$K$19))","v":2.73},70.89,{"$f":"_xlfn.IFS(M137369>70,\"Serviceable\",M137369>30, \"Limited Life\",M137369<=30, \"Unserviceable\")","v":"Serviceable"}]
[null,214653,2002,"Wood Creos Impregnated","Serviceable","Class 3",2016,80,74.52,9,{"$f":"INDEX(Lists!$B$32:$B$40, MATCH(2020-C137370, Lists!$C$32:$C$40,1))","v":"0-20"},{"$f":"SUMPRODUCT((Data!$B$17:$B$19=Model!$F137370)*(Data!$C$16:$K$16=Model!$K137370)*(Data!$C$17:$K$19))","v":1.37},67.67,{"$f":"_xlfn.IFS(M137370>70,\"Serviceable\",M137370>30, \"Limited Life\",M137370<=30, \"Unserviceable\")","v":"Limited Life"}]
[null,214708,1998,"Wood Other","Serviceable","Class 3",2017,100,94.48,8,{"$f":"INDEX(Lists!$B$32:$B$40, MATCH(2020-C137371, Lists!$C$32:$C$40,1))","v":"21-30"},{"$f":"SUMPRODUCT((Data!$B$17:$B$19=Model!$F137371)*(Data!$C$16:$K$16=Model!$K137371)*(Data!$C$17:$K$19))","v":1.84},85.28,{"$f":"_xlfn.IFS(M137371>70,\"Serviceable\",M137371>30, \"Limited Life\",M137371<=30, \"Unserviceable\")","v":"Serviceable"}]
[null,214811,2008,"Wood Creos Impregnated","Serviceable","Class 3",2020,80,80,5,{"$f":"INDEX(Lists!$B$32:$B$40, MATCH(2020-C137372, Lists!$C$32:$C$40,1))","v":"0-20"},{"$f":"SUMPRODUCT((Data!$B$17:$B$19=Model!$F137372)*(Data!$C$16:$K$16=Model!$K137372)*(Data!$C$17:$K$19))","v":1.37},73.150000000000006,{"$f":"_xlfn.IFS(M137372>70,\"Serviceable\",M137372>30, \"Limited Life\",M137372<=30, \"Unserviceable\")","v":"Serviceable"}]
[null,214896,1977,"Wood Untreated Dressed","Serviceable","Class 1",2019,100,98.25,6,{"$f":"INDEX(Lists!$B$32:$B$40, MATCH(2020-C137373, Lists!$C$32:$C$40,1))","v":"41-50"},{"$f":"SUMPRODUCT((Data!$B$17:$B$19=Model!$F137373)*(Data!$C$16:$K$16=Model!$K137373)*(Data!$C$17:$K$19))","v":1.75},89.5,{"$f":"_xlfn.IFS(M137373>70,\"Serviceable\",M137373>30, \"Limited Life\",M137373<=30, \"Unserviceable\")","v":"Serviceable"}]
[null,215024,1959,"Wood Creos Impregnated","Serviceable","Class 3",2019,80,77.98,6,{"$f":"INDEX(Lists!$B$32:$B$40, MATCH(2020-C137374, Lists!$C$32:$C$40,1))","v":"61-70"},{"$f":"SUMPRODUCT((Data!$B$17:$B$19=Model!$F137374)*(Data!$C$16:$K$16=Model!$K137374)*(Data!$C$17:$K$19))","v":2.02},67.88,{"$f":"_xlfn.IFS(M137374>70,\"Serviceable\",M137374>30, \"Limited Life\",M137374<=30, \"Unserviceable\")","v":"Limited Life"}]
[null,215096,1938,"Wood Creos Impregnated","Serviceable","Class 1",2018,100,94.38,7,{"$f":"INDEX(Lists!$B$32:$B$40, MATCH(2020-C137375, Lists!$C$32:$C$40,1))","v":"81-90"},{"$f":"SUMPRODUCT((Data!$B$17:$B$19=Model!$F137375)*(Data!$C$16:$K$16=Model!$K137375)*(Data!$C$17:$K$19))","v":2.81},80.33,{"$f":"_xlfn.IFS(M137375>70,\"Serviceable\",M137375>30, \"Limited Life\",M137375<=30, \"Unserviceable\")","v":"Serviceable"}]
[null,215289,2004,"Wood Untreated Round","Serviceable","Class 3",2019,100,98.63,6,{"$f":"INDEX(Lists!$B$32:$B$40, MATCH(2020-C137376, Lists!$C$32:$C$40,1))","v":"0-20"},{"$f":"SUMPRODUCT((Data!$B$17:$B$19=Model!$F137376)*(Data!$C$16:$K$16=Model!$K137376)*(Data!$C$17:$K$19))","v":1.37},91.78,{"$f":"_xlfn.IFS(M137376>70,\"Serviceable\",M137376>30, \"Limited Life\",M137376<=30, \"Unserviceable\")","v":"Serviceable"}]
[null,215301,2009,"Wood Untreated Dressed","Serviceable","Class 1",2018,100,97.88,7,{"$f":"INDEX(Lists!$B$32:$B$40, MATCH(2020-C137377, Lists!$C$32:$C$40,1))","v":"0-20"},{"$f":"SUMPRODUCT((Data!$B$17:$B$19=Model!$F137377)*(Data!$C$16:$K$16=Model!$K137377)*(Data!$C$17:$K$19))","v":1.06},92.58,{"$f":"_xlfn.IFS(M137377>70,\"Serviceable\",M137377>30, \"Limited Life\",M137377<=30, \"Unserviceable\")","v":"Serviceable"}]
[null,215434,1963,"Wood Untreated Round","Serviceable","Class 3",2018,100,94.54,7,{"$f":"INDEX(Lists!$B$32:$B$40, MATCH(2020-C137378, Lists!$C$32:$C$40,1))","v":"51-60"},{"$f":"SUMPRODUCT((Data!$B$17:$B$19=Model!$F137378)*(Data!$C$16:$K$16=Model!$K137378)*(Data!$C$17:$K$19))","v":2.73},80.89,{"$f":"_xlfn.IFS(M137378>70,\"Serviceable\",M137378>30, \"Limited Life\",M137378<=30, \"Unserviceable\")","v":"Serviceable"}]
[null,215553,1967,"Wood Creos Impregnated","Serviceable","Class 3",2018,100,94.54,7,{"$f":"INDEX(Lists!$B$32:$B$40, MATCH(2020-C137379, Lists!$C$32:$C$40,1))","v":"51-60"},{"$f":"SUMPRODUCT((Data!$B$17:$B$19=Model!$F137379)*(Data!$C$16:$K$16=Model!$K137379)*(Data!$C$17:$K$19))","v":2.73},80.89,{"$f":"_xlfn.IFS(M137379>70,\"Serviceable\",M137379>30, \"Limited Life\",M137379<=30, \"Unserviceable\")","v":"Serviceable"}]
[null,215559,1998,"Wood Creos Impregnated","Serviceable","Class 3",2016,120,112.64,9,{"$f":"INDEX(Lists!$B$32:$B$40, MATCH(2020-C137380, Lists!$C$32:$C$40,1))","v":"21-30"},{"$f":"SUMPRODUCT((Data!$B$17:$B$19=Model!$F137380)*(Data!$C$16:$K$16=Model!$K137380)*(Data!$C$17:$K$19))","v":1.84},103.44,{"$f":"_xlfn.IFS(M137380>70,\"Serviceable\",M137380>30, \"Limited Life\",M137380<=30, \"Unserviceable\")","v":"Serviceable"}]
[null,215708,1980,"Wood Untreated Dressed","Serviceable","Class 2",2017,120,113.01,8,{"$f":"INDEX(Lists!$B$32:$B$40, MATCH(2020-C137381, Lists!$C$32:$C$40,1))","v":"31-40"},{"$f":"SUMPRODUCT((Data!$B$17:$B$19=Model!$F137381)*(Data!$C$16:$K$16=Model!$K137381)*(Data!$C$17:$K$19))","v":2.33},101.36,{"$f":"_xlfn.IFS(M137381>70,\"Serviceable\",M137381>30, \"Limited Life\",M137381<=30, \"Unserviceable\")","v":"Serviceable"}]
[null,215719,2011,"Wood Creos Impregnated","Serviceable","Class 3",2020,90,90,5,{"$f":"INDEX(Lists!$B$32:$B$40, MATCH(2020-C137382, Lists!$C$32:$C$40,1))","v":"0-20"},{"$f":"SUMPRODUCT((Data!$B$17:$B$19=Model!$F137382)*(Data!$C$16:$K$16=Model!$K137382)*(Data!$C$17:$K$19))","v":1.37},83.15,{"$f":"_xlfn.IFS(M137382>70,\"Serviceable\",M137382>30, \"Limited Life\",M137382<=30, \"Unserviceable\")","v":"Serviceable"}]
[null,215721,1975,"Wood Creos Impregnated","Limited Life","Class 3",2020,50,50,5,{"$f":"INDEX(Lists!$B$32:$B$40, MATCH(2020-C137383, Lists!$C$32:$C$40,1))","v":"41-50"},{"$f":"SUMPRODUCT((Data!$B$17:$B$19=Model!$F137383)*(Data!$C$16:$K$16=Model!$K137383)*(Data!$C$17:$K$19))","v":3.78},31.1,{"$f":"_xlfn.IFS(M137383>70,\"Serviceable\",M137383>30, \"Limited Life\",M137383<=30, \"Unserviceable\")","v":"Limited Life"}]
[null,215735,1976,"Wood Untreated Dressed","Serviceable","Class 1",2018,120,116.5,7,{"$f":"INDEX(Lists!$B$32:$B$40, MATCH(2020-C137384, Lists!$C$32:$C$40,1))","v":"41-50"},{"$f":"SUMPRODUCT((Data!$B$17:$B$19=Model!$F137384)*(Data!$C$16:$K$16=Model!$K137384)*(Data!$C$17:$K$19))","v":1.75},107.75,{"$f":"_xlfn.IFS(M137384>70,\"Serviceable\",M137384>30, \"Limited Life\",M137384<=30, \"Unserviceable\")","v":"Serviceable"}]
[null,215952,2013,"Wood Creos Impregnated","Serviceable","Class 3",2020,90,90,5,{"$f":"INDEX(Lists!$B$32:$B$40, MATCH(2020-C137385, Lists!$C$32:$C$40,1))","v":"0-20"},{"$f":"SUMPRODUCT((Data!$B$17:$B$19=Model!$F137385)*(Data!$C$16:$K$16=Model!$K137385)*(Data!$C$17:$K$19))","v":1.37},83.15,{"$f":"_xlfn.IFS(M137385>70,\"Serviceable\",M137385>30, \"Limited Life\",M137385<=30, \"Unserviceable\")","v":"Serviceable"}]
[null,216085,2011,"Wood Creos Impregnated","Serviceable","Class 3",2017,100,95.89,8,{"$f":"INDEX(Lists!$B$32:$B$40, MATCH(2020-C137386, Lists!$C$32:$C$40,1))","v":"0-20"},{"$f":"SUMPRODUCT((Data!$B$17:$B$19=Model!$F137386)*(Data!$C$16:$K$16=Model!$K137386)*(Data!$C$17:$K$19))","v":1.37},89.039999999999992,{"$f":"_xlfn.IFS(M137386>70,\"Serviceable\",M137386>30, \"Limited Life\",M137386<=30, \"Unserviceable\")","v":"Serviceable"}]
[null,216131,1980,"Wood Untreated Dressed","Serviceable","Class 1",2020,100,100,5,{"$f":"INDEX(Lists!$B$32:$B$40, MATCH(2020-C137387, Lists!$C$32:$C$40,1))","v":"31-40"},{"$f":"SUMPRODUCT((Data!$B$17:$B$19=Model!$F137387)*(Data!$C$16:$K$16=Model!$K137387)*(Data!$C$17:$K$19))","v":2.52},87.4,{"$f":"_xlfn.IFS(M137387>70,\"Serviceable\",M137387>30, \"Limited Life\",M137387<=30, \"Unserviceable\")","v":"Serviceable"}]
[null,216139,1998,"Wood Untreated Dressed","Serviceable","Class 3",2020,100,100,5,{"$f":"INDEX(Lists!$B$32:$B$40, MATCH(2020-C137388, Lists!$C$32:$C$40,1))","v":"21-30"},{"$f":"SUMPRODUCT((Data!$B$17:$B$19=Model!$F137388)*(Data!$C$16:$K$16=Model!$K137388)*(Data!$C$17:$K$19))","v":1.84},90.8,{"$f":"_xlfn.IFS(M137388>70,\"Serviceable\",M137388>30, \"Limited Life\",M137388<=30, \"Unserviceable\")","v":"Serviceable"}]
[null,216241,1966,"Wood Creos Impregnated","Serviceable","Class 3",2017,120,111.81,8,{"$f":"INDEX(Lists!$B$32:$B$40, MATCH(2020-C137389, Lists!$C$32:$C$40,1))","v":"51-60"},{"$f":"SUMPRODUCT((Data!$B$17:$B$19=Model!$F137389)*(Data!$C$16:$K$16=Model!$K137389)*(Data!$C$17:$K$19))","v":2.73},98.16,{"$f":"_xlfn.IFS(M137389>70,\"Serviceable\",M137389>30, \"Limited Life\",M137389<=30, \"Unserviceable\")","v":"Serviceable"}]
[null,216306,1966,"Wood Creos Impregnated","Serviceable","Class 3",2017,100,91.81,8,{"$f":"INDEX(Lists!$B$32:$B$40, MATCH(2020-C137390, Lists!$C$32:$C$40,1))","v":"51-60"},{"$f":"SUMPRODUCT((Data!$B$17:$B$19=Model!$F137390)*(Data!$C$16:$K$16=Model!$K137390)*(Data!$C$17:$K$19))","v":2.73},78.16,{"$f":"_xlfn.IFS(M137390>70,\"Serviceable\",M137390>30, \"Limited Life\",M137390<=30, \"Unserviceable\")","v":"Serviceable"}]
[null,216324,1958,"Wood Creos Impregnated","Serviceable","Class 3",2017,100,93.94,8,{"$f":"INDEX(Lists!$B$32:$B$40, MATCH(2020-C137391, Lists!$C$32:$C$40,1))","v":"61-70"},{"$f":"SUMPRODUCT((Data!$B$17:$B$19=Model!$F137391)*(Data!$C$16:$K$16=Model!$K137391)*(Data!$C$17:$K$19))","v":2.02},83.84,{"$f":"_xlfn.IFS(M137391>70,\"Serviceable\",M137391>30, \"Limited Life\",M137391<=30, \"Unserviceable\")","v":"Serviceable"}]
[null,216404,2014,"Wood Creos Impregnated","Serviceable","Class 3",2019,100,98.63,6,{"$f":"INDEX(Lists!$B$32:$B$40, MATCH(2020-C137392, Lists!$C$32:$C$40,1))","v":"0-20"},{"$f":"SUMPRODUCT((Data!$B$17:$B$19=Model!$F137392)*(Data!$C$16:$K$16=Model!$K137392)*(Data!$C$17:$K$19))","v":1.37},91.78,{"$f":"_xlfn.IFS(M137392>70,\"Serviceable\",M137392>30, \"Limited Life\",M137392<=30, \"Unserviceable\")","v":"Serviceable"}]
[null,216501,1973,"Wood Untreated Round","Serviceable","Class 1",2018,100,96.5,7,{"$f":"INDEX(Lists!$B$32:$B$40, MATCH(2020-C137393, Lists!$C$32:$C$40,1))","v":"41-50"},{"$f":"SUMPRODUCT((Data!$B$17:$B$19=Model!$F137393)*(Data!$C$16:$K$16=Model!$K137393)*(Data!$C$17:$K$19))","v":1.75},87.75,{"$f":"_xlfn.IFS(M137393>70,\"Serviceable\",M137393>30, \"Limited Life\",M137393<=30, \"Unserviceable\")","v":"Serviceable"}]
[null,216543,2008,"Wood Creos Impregnated","Serviceable","Class 3",2017,100,95.89,8,{"$f":"INDEX(Lists!$B$32:$B$40, MATCH(2020-C137394, Lists!$C$32:$C$40,1))","v":"0-20"},{"$f":"SUMPRODUCT((Data!$B$17:$B$19=Model!$F137394)*(Data!$C$16:$K$16=Model!$K137394)*(Data!$C$17:$K$19))","v":1.37},89.039999999999992,{"$f":"_xlfn.IFS(M137394>70,\"Serviceable\",M137394>30, \"Limited Life\",M137394<=30, \"Unserviceable\")","v":"Serviceable"}]
[null,216610,1989,"Wood Creos Impregnated","Serviceable","Class 3",2018,100,93.56,7,{"$f":"INDEX(Lists!$B$32:$B$40, MATCH(2020-C137395, Lists!$C$32:$C$40,1))","v":"31-40"},{"$f":"SUMPRODUCT((Data!$B$17:$B$19=Model!$F137395)*(Data!$C$16:$K$16=Model!$K137395)*(Data!$C$17:$K$19))","v":3.22},77.459999999999994,{"$f":"_xlfn.IFS(M137395>70,\"Serviceable\",M137395>30, \"Limited Life\",M137395<=30, \"Unserviceable\")","v":"Serviceable"}]
[null,216662,1976,"Wood Creos Impregnated","Serviceable","Class 3",2020,80,80,5,{"$f":"INDEX(Lists!$B$32:$B$40, MATCH(2020-C137396, Lists!$C$32:$C$40,1))","v":"41-50"},{"$f":"SUMPRODUCT((Data!$B$17:$B$19=Model!$F137396)*(Data!$C$16:$K$16=Model!$K137396)*(Data!$C$17:$K$19))","v":3.78},61.1,{"$f":"_xlfn.IFS(M137396>70,\"Serviceable\",M137396>30, \"Limited Life\",M137396<=30, \"Unserviceable\")","v":"Limited Life"}]
[null,216678,2004,"Wood Untreated Dressed","Serviceable","Class 2",2020,90,90,5,{"$f":"INDEX(Lists!$B$32:$B$40, MATCH(2020-C137397, Lists!$C$32:$C$40,1))","v":"0-20"},{"$f":"SUMPRODUCT((Data!$B$17:$B$19=Model!$F137397)*(Data!$C$16:$K$16=Model!$K137397)*(Data!$C$17:$K$19))","v":1.22},83.9,{"$f":"_xlfn.IFS(M137397>70,\"Serviceable\",M137397>30, \"Limited Life\",M137397<=30, \"Unserviceable\")","v":"Serviceable"}]
[null,216701,2006,"Wood Untreated Dressed","Serviceable","Class 1",2020,100,100,5,{"$f":"INDEX(Lists!$B$32:$B$40, MATCH(2020-C137398, Lists!$C$32:$C$40,1))","v":"0-20"},{"$f":"SUMPRODUCT((Data!$B$17:$B$19=Model!$F137398)*(Data!$C$16:$K$16=Model!$K137398)*(Data!$C$17:$K$19))","v":1.06},94.7,{"$f":"_xlfn.IFS(M137398>70,\"Serviceable\",M137398>30, \"Limited Life\",M137398<=30, \"Unserviceable\")","v":"Serviceable"}]
[null,216771,1975,"Wood Other","Serviceable","Class 3",2020,100,100,5,{"$f":"INDEX(Lists!$B$32:$B$40, MATCH(2020-C137399, Lists!$C$32:$C$40,1))","v":"41-50"},{"$f":"SUMPRODUCT((Data!$B$17:$B$19=Model!$F137399)*(Data!$C$16:$K$16=Model!$K137399)*(Data!$C$17:$K$19))","v":3.78},81.099999999999994,{"$f":"_xlfn.IFS(M137399>70,\"Serviceable\",M137399>30, \"Limited Life\",M137399<=30, \"Unserviceable\")","v":"Serviceable"}]
[null,216774,1975,"Wood Creos Impregnated","Serviceable","Class 1",2020,166.31691553103065,166.31691553103065,5,{"$f":"INDEX(Lists!$B$32:$B$40, MATCH(2020-C137400, Lists!$C$32:$C$40,1))","v":"41-50"},{"$f":"SUMPRODUCT((Data!$B$17:$B$19=Model!$F137400)*(Data!$C$16:$K$16=Model!$K137400)*(Data!$C$17:$K$19))","v":1.75},157.56691553103065,{"$f":"_xlfn.IFS(M137400>70,\"Serviceable\",M137400>30, \"Limited Life\",M137400<=30, \"Unserviceable\")","v":"Serviceable"}]
[null,216775,1978,"Wood Creos Impregnated","Serviceable","Class 3",2020,120,120,5,{"$f":"INDEX(Lists!$B$32:$B$40, MATCH(2020-C137401, Lists!$C$32:$C$40,1))","v":"41-50"},{"$f":"SUMPRODUCT((Data!$B$17:$B$19=Model!$F137401)*(Data!$C$16:$K$16=Model!$K137401)*(Data!$C$17:$K$19))","v":3.78},101.1,{"$f":"_xlfn.IFS(M137401>70,\"Serviceable\",M137401>30, \"Limited Life\",M137401<=30, \"Unserviceable\")","v":"Serviceable"}]
[null,216776,1976,"Wood Creos Impregnated","Serviceable","Class 3",2020,100,100,5,{"$f":"INDEX(Lists!$B$32:$B$40, MATCH(2020-C137402, Lists!$C$32:$C$40,1))","v":"41-50"},{"$f":"SUMPRODUCT((Data!$B$17:$B$19=Model!$F137402)*(Data!$C$16:$K$16=Model!$K137402)*(Data!$C$17:$K$19))","v":3.78},81.099999999999994,{"$f":"_xlfn.IFS(M137402>70,\"Serviceable\",M137402>30, \"Limited Life\",M137402<=30, \"Unserviceable\")","v":"Serviceable"}]
[null,216777,1976,"Wood Creos Impregnated","Serviceable","Class 3",2020,100,100,5,{"$f":"INDEX(Lists!$B$32:$B$40, MATCH(2020-C137403, Lists!$C$32:$C$40,1))","v":"41-50"},{"$f":"SUMPRODUCT((Data!$B$17:$B$19=Model!$F137403)*(Data!$C$16:$K$16=Model!$K137403)*(Data!$C$17:$K$19))","v":3.78},81.099999999999994,{"$f":"_xlfn.IFS(M137403>70,\"Serviceable\",M137403>30, \"Limited Life\",M137403<=30, \"Unserviceable\")","v":"Serviceable"}]
[null,216780,1978,"Wood Creos Impregnated","Serviceable","Class 3",2020,90,90,5,{"$f":"INDEX(Lists!$B$32:$B$40, MATCH(2020-C137404, Lists!$C$32:$C$40,1))","v":"41-50"},{"$f":"SUMPRODUCT((Data!$B$17:$B$19=Model!$F137404)*(Data!$C$16:$K$16=Model!$K137404)*(Data!$C$17:$K$19))","v":3.78},71.099999999999994,{"$f":"_xlfn.IFS(M137404>70,\"Serviceable\",M137404>30, \"Limited Life\",M137404<=30, \"Unserviceable\")","v":"Serviceable"}]
[null,216896,1966,"Wood Creos Impregnated","Serviceable","Class 3",2020,110,110,5,{"$f":"INDEX(Lists!$B$32:$B$40, MATCH(2020-C137405, Lists!$C$32:$C$40,1))","v":"51-60"},{"$f":"SUMPRODUCT((Data!$B$17:$B$19=Model!$F137405)*(Data!$C$16:$K$16=Model!$K137405)*(Data!$C$17:$K$19))","v":2.73},96.35,{"$f":"_xlfn.IFS(M137405>70,\"Serviceable\",M137405>30, \"Limited Life\",M137405<=30, \"Unserviceable\")","v":"Serviceable"}]
[null,216909,1965,"Wood Creos Impregnated","Serviceable","Class 3",2020,100,100,5,{"$f":"INDEX(Lists!$B$32:$B$40, MATCH(2020-C137406, Lists!$C$32:$C$40,1))","v":"51-60"},{"$f":"SUMPRODUCT((Data!$B$17:$B$19=Model!$F137406)*(Data!$C$16:$K$16=Model!$K137406)*(Data!$C$17:$K$19))","v":2.73},86.35,{"$f":"_xlfn.IFS(M137406>70,\"Serviceable\",M137406>30, \"Limited Life\",M137406<=30, \"Unserviceable\")","v":"Serviceable"}]
[null,216913,1965,"Wood Creos Impregnated","Serviceable","Class 3",2020,80,80,5,{"$f":"INDEX(Lists!$B$32:$B$40, MATCH(2020-C137407, Lists!$C$32:$C$40,1))","v":"51-60"},{"$f":"SUMPRODUCT((Data!$B$17:$B$19=Model!$F137407)*(Data!$C$16:$K$16=Model!$K137407)*(Data!$C$17:$K$19))","v":2.73},66.349999999999994,{"$f":"_xlfn.IFS(M137407>70,\"Serviceable\",M137407>30, \"Limited Life\",M137407<=30, \"Unserviceable\")","v":"Limited Life"}]
[null,216927,2005,"Wood Creos Impregnated","Serviceable","Class 3",2016,100,94.52,9,{"$f":"INDEX(Lists!$B$32:$B$40, MATCH(2020-C137408, Lists!$C$32:$C$40,1))","v":"0-20"},{"$f":"SUMPRODUCT((Data!$B$17:$B$19=Model!$F137408)*(Data!$C$16:$K$16=Model!$K137408)*(Data!$C$17:$K$19))","v":1.37},87.67,{"$f":"_xlfn.IFS(M137408>70,\"Serviceable\",M137408>30, \"Limited Life\",M137408<=30, \"Unserviceable\")","v":"Serviceable"}]
[null,216931,2012,"Wood Creos Impregnated","Serviceable","Class 3",2016,100,94.52,9,{"$f":"INDEX(Lists!$B$32:$B$40, MATCH(2020-C137409, Lists!$C$32:$C$40,1))","v":"0-20"},{"$f":"SUMPRODUCT((Data!$B$17:$B$19=Model!$F137409)*(Data!$C$16:$K$16=Model!$K137409)*(Data!$C$17:$K$19))","v":1.37},87.67,{"$f":"_xlfn.IFS(M137409>70,\"Serviceable\",M137409>30, \"Limited Life\",M137409<=30, \"Unserviceable\")","v":"Serviceable"}]
[null,216951,2000,"Wood Creos Impregnated","Limited Life","Class 3",2020,50,50,5,{"$f":"INDEX(Lists!$B$32:$B$40, MATCH(2020-C137410, Lists!$C$32:$C$40,1))","v":"0-20"},{"$f":"SUMPRODUCT((Data!$B$17:$B$19=Model!$F137410)*(Data!$C$16:$K$16=Model!$K137410)*(Data!$C$17:$K$19))","v":1.37},43.15,{"$f":"_xlfn.IFS(M137410>70,\"Serviceable\",M137410>30, \"Limited Life\",M137410<=30, \"Unserviceable\")","v":"Limited Life"}]
[null,216953,1961,"Wood Creos Impregnated","Serviceable","Class 3",2020,100,100,5,{"$f":"INDEX(Lists!$B$32:$B$40, MATCH(2020-C137411, Lists!$C$32:$C$40,1))","v":"51-60"},{"$f":"SUMPRODUCT((Data!$B$17:$B$19=Model!$F137411)*(Data!$C$16:$K$16=Model!$K137411)*(Data!$C$17:$K$19))","v":2.73},86.35,{"$f":"_xlfn.IFS(M137411>70,\"Serviceable\",M137411>30, \"Limited Life\",M137411<=30, \"Unserviceable\")","v":"Serviceable"}]
[null,216962,2001,"Wood Creos Impregnated","Serviceable","Class 3",2020,100,100,5,{"$f":"INDEX(Lists!$B$32:$B$40, MATCH(2020-C137412, Lists!$C$32:$C$40,1))","v":"0-20"},{"$f":"SUMPRODUCT((Data!$B$17:$B$19=Model!$F137412)*(Data!$C$16:$K$16=Model!$K137412)*(Data!$C$17:$K$19))","v":1.37},93.15,{"$f":"_xlfn.IFS(M137412>70,\"Serviceable\",M137412>30, \"Limited Life\",M137412<=30, \"Unserviceable\")","v":"Serviceable"}]
[null,216967,2006,"Wood Creos Impregnated","Serviceable","Class 3",2020,100,100,5,{"$f":"INDEX(Lists!$B$32:$B$40, MATCH(2020-C137413, Lists!$C$32:$C$40,1))","v":"0-20"},{"$f":"SUMPRODUCT((Data!$B$17:$B$19=Model!$F137413)*(Data!$C$16:$K$16=Model!$K137413)*(Data!$C$17:$K$19))","v":1.37},93.15,{"$f":"_xlfn.IFS(M137413>70,\"Serviceable\",M137413>30, \"Limited Life\",M137413<=30, \"Unserviceable\")","v":"Serviceable"}]
[null,216972,2005,"CCA Treated Pole","Serviceable","Class 2",2020,100,100,5,{"$f":"INDEX(Lists!$B$32:$B$40, MATCH(2020-C137414, Lists!$C$32:$C$40,1))","v":"0-20"},{"$f":"SUMPRODUCT((Data!$B$17:$B$19=Model!$F137414)*(Data!$C$16:$K$16=Model!$K137414)*(Data!$C$17:$K$19))","v":1.22},93.9,{"$f":"_xlfn.IFS(M137414>70,\"Serviceable\",M137414>30, \"Limited Life\",M137414<=30, \"Unserviceable\")","v":"Serviceable"}]
[null,216982,1961,"Wood Creos Impregnated","Serviceable","Class 3",2020,100,100,5,{"$f":"INDEX(Lists!$B$32:$B$40, MATCH(2020-C137415, Lists!$C$32:$C$40,1))","v":"51-60"},{"$f":"SUMPRODUCT((Data!$B$17:$B$19=Model!$F137415)*(Data!$C$16:$K$16=Model!$K137415)*(Data!$C$17:$K$19))","v":2.73},86.35,{"$f":"_xlfn.IFS(M137415>70,\"Serviceable\",M137415>30, \"Limited Life\",M137415<=30, \"Unserviceable\")","v":"Serviceable"}]
[null,217001,1998,"Wood Untreated Dressed","Serviceable","Class 1",2020,100,100,{"$f":"2025-G137416","v":5},{"$f":"INDEX(Lists!$B$32:$B$40, MATCH(2020-C137416, Lists!$C$32:$C$40,1))","v":"21-30"},{"$f":"SUMPRODUCT((Data!$B$17:$B$19=Model!$F137416)*(Data!$C$16:$K$16=Model!$K137416)*(Data!$C$17:$K$19))","v":1.96},{"$f":"IF(IF(H137416>=700,999,(H137416-L137416*J137416))<0,0,IF(H137416>=700,999,(H137416-L137416*J137416)))","v":90.2},{"$f":"_xlfn.IFS(M137416>70,\"Serviceable\",M137416>30, \"Limited Life\",M137416<=30, \"Unserviceable\")","v":"Serviceable"}]
[null,217015,2013,"Wood Creos Impregnated","Serviceable","Class 3",2020,100,100,5,{"$f":"INDEX(Lists!$B$32:$B$40, MATCH(2020-C137417, Lists!$C$32:$C$40,1))","v":"0-20"},{"$f":"SUMPRODUCT((Data!$B$17:$B$19=Model!$F137417)*(Data!$C$16:$K$16=Model!$K137417)*(Data!$C$17:$K$19))","v":1.37},93.15,{"$f":"_xlfn.IFS(M137417>70,\"Serviceable\",M137417>30, \"Limited Life\",M137417<=30, \"Unserviceable\")","v":"Serviceable"}]
[null,217030,2013,"Wood Creos Impregnated","Serviceable","Class 3",2020,100,100,5,{"$f":"INDEX(Lists!$B$32:$B$40, MATCH(2020-C137418, Lists!$C$32:$C$40,1))","v":"0-20"},{"$f":"SUMPRODUCT((Data!$B$17:$B$19=Model!$F137418)*(Data!$C$16:$K$16=Model!$K137418)*(Data!$C$17:$K$19))","v":1.37},93.15,{"$f":"_xlfn.IFS(M137418>70,\"Serviceable\",M137418>30, \"Limited Life\",M137418<=30, \"Unserviceable\")","v":"Serviceable"}]
[null,217043,1948,"Wood Untreated Dressed","Serviceable","Class 2",2020,100,100,5,{"$f":"INDEX(Lists!$B$32:$B$40, MATCH(2020-C137419, Lists!$C$32:$C$40,1))","v":"71-80"},{"$f":"SUMPRODUCT((Data!$B$17:$B$19=Model!$F137419)*(Data!$C$16:$K$16=Model!$K137419)*(Data!$C$17:$K$19))","v":3.53},82.35,{"$f":"_xlfn.IFS(M137419>70,\"Serviceable\",M137419>30, \"Limited Life\",M137419<=30, \"Unserviceable\")","v":"Serviceable"}]
[null,217046,2010,"Wood Creos Impregnated","Serviceable","Class 3",2020,100,100,5,{"$f":"INDEX(Lists!$B$32:$B$40, MATCH(2020-C137420, Lists!$C$32:$C$40,1))","v":"0-20"},{"$f":"SUMPRODUCT((Data!$B$17:$B$19=Model!$F137420)*(Data!$C$16:$K$16=Model!$K137420)*(Data!$C$17:$K$19))","v":1.37},93.15,{"$f":"_xlfn.IFS(M137420>70,\"Serviceable\",M137420>30, \"Limited Life\",M137420<=30, \"Unserviceable\")","v":"Serviceable"}]
[null,217064,1967,"Wood Creos Impregnated","Serviceable","Class 3",2020,80,80,5,{"$f":"INDEX(Lists!$B$32:$B$40, MATCH(2020-C137421, Lists!$C$32:$C$40,1))","v":"51-60"},{"$f":"SUMPRODUCT((Data!$B$17:$B$19=Model!$F137421)*(Data!$C$16:$K$16=Model!$K137421)*(Data!$C$17:$K$19))","v":2.73},66.349999999999994,{"$f":"_xlfn.IFS(M137421>70,\"Serviceable\",M137421>30, \"Limited Life\",M137421<=30, \"Unserviceable\")","v":"Limited Life"}]
[null,217251,1965,"Wood Creos Impregnated","Serviceable","Class 3",2018,110,104.54,7,{"$f":"INDEX(Lists!$B$32:$B$40, MATCH(2020-C137422, Lists!$C$32:$C$40,1))","v":"51-60"},{"$f":"SUMPRODUCT((Data!$B$17:$B$19=Model!$F137422)*(Data!$C$16:$K$16=Model!$K137422)*(Data!$C$17:$K$19))","v":2.73},90.89,{"$f":"_xlfn.IFS(M137422>70,\"Serviceable\",M137422>30, \"Limited Life\",M137422<=30, \"Unserviceable\")","v":"Serviceable"}]
[null,217294,2011,"Wood Creos Impregnated","Serviceable","Class 3",2016,100,94.52,9,{"$f":"INDEX(Lists!$B$32:$B$40, MATCH(2020-C137423, Lists!$C$32:$C$40,1))","v":"0-20"},{"$f":"SUMPRODUCT((Data!$B$17:$B$19=Model!$F137423)*(Data!$C$16:$K$16=Model!$K137423)*(Data!$C$17:$K$19))","v":1.37},87.67,{"$f":"_xlfn.IFS(M137423>70,\"Serviceable\",M137423>30, \"Limited Life\",M137423<=30, \"Unserviceable\")","v":"Serviceable"}]
[null,217357,2004,"Wood Creos Impregnated","Serviceable","Class 3",2018,90,87.26,7,{"$f":"INDEX(Lists!$B$32:$B$40, MATCH(2020-C137424, Lists!$C$32:$C$40,1))","v":"0-20"},{"$f":"SUMPRODUCT((Data!$B$17:$B$19=Model!$F137424)*(Data!$C$16:$K$16=Model!$K137424)*(Data!$C$17:$K$19))","v":1.37},80.41,{"$f":"_xlfn.IFS(M137424>70,\"Serviceable\",M137424>30, \"Limited Life\",M137424<=30, \"Unserviceable\")","v":"Serviceable"}]
[null,217403,2009,"Wood Creos Impregnated","Serviceable","Class 3",2017,100,95.89,8,{"$f":"INDEX(Lists!$B$32:$B$40, MATCH(2020-C137425, Lists!$C$32:$C$40,1))","v":"0-20"},{"$f":"SUMPRODUCT((Data!$B$17:$B$19=Model!$F137425)*(Data!$C$16:$K$16=Model!$K137425)*(Data!$C$17:$K$19))","v":1.37},89.039999999999992,{"$f":"_xlfn.IFS(M137425>70,\"Serviceable\",M137425>30, \"Limited Life\",M137425<=30, \"Unserviceable\")","v":"Serviceable"}]
[null,217404,1939,"Wood Untreated Dressed","Serviceable","Class 1",2017,80,71.569999999999993,8,{"$f":"INDEX(Lists!$B$32:$B$40, MATCH(2020-C137426, Lists!$C$32:$C$40,1))","v":"81-90"},{"$f":"SUMPRODUCT((Data!$B$17:$B$19=Model!$F137426)*(Data!$C$16:$K$16=Model!$K137426)*(Data!$C$17:$K$19))","v":2.81},57.519999999999996,{"$f":"_xlfn.IFS(M137426>70,\"Serviceable\",M137426>30, \"Limited Life\",M137426<=30, \"Unserviceable\")","v":"Limited Life"}]
[null,217419,1982,"Wood Untreated Dressed","Serviceable","Class 3",2020,100,100,5,{"$f":"INDEX(Lists!$B$32:$B$40, MATCH(2020-C137427, Lists!$C$32:$C$40,1))","v":"31-40"},{"$f":"SUMPRODUCT((Data!$B$17:$B$19=Model!$F137427)*(Data!$C$16:$K$16=Model!$K137427)*(Data!$C$17:$K$19))","v":3.22},83.9,{"$f":"_xlfn.IFS(M137427>70,\"Serviceable\",M137427>30, \"Limited Life\",M137427<=30, \"Unserviceable\")","v":"Serviceable"}]
[null,217615,2003,"Wood Creos Impregnated","Serviceable","Class 3",2018,100,97.26,7,{"$f":"INDEX(Lists!$B$32:$B$40, MATCH(2020-C137428, Lists!$C$32:$C$40,1))","v":"0-20"},{"$f":"SUMPRODUCT((Data!$B$17:$B$19=Model!$F137428)*(Data!$C$16:$K$16=Model!$K137428)*(Data!$C$17:$K$19))","v":1.37},90.41,{"$f":"_xlfn.IFS(M137428>70,\"Serviceable\",M137428>30, \"Limited Life\",M137428<=30, \"Unserviceable\")","v":"Serviceable"}]
[null,217659,2010,"Wood Creos Impregnated","Serviceable","Class 3",2020,90,90,5,{"$f":"INDEX(Lists!$B$32:$B$40, MATCH(2020-C137429, Lists!$C$32:$C$40,1))","v":"0-20"},{"$f":"SUMPRODUCT((Data!$B$17:$B$19=Model!$F137429)*(Data!$C$16:$K$16=Model!$K137429)*(Data!$C$17:$K$19))","v":1.37},83.15,{"$f":"_xlfn.IFS(M137429>70,\"Serviceable\",M137429>30, \"Limited Life\",M137429<=30, \"Unserviceable\")","v":"Serviceable"}]
[null,217661,2003,"Wood Creos Impregnated","Serviceable","Class 3",2017,100,95.89,8,{"$f":"INDEX(Lists!$B$32:$B$40, MATCH(2020-C137430, Lists!$C$32:$C$40,1))","v":"0-20"},{"$f":"SUMPRODUCT((Data!$B$17:$B$19=Model!$F137430)*(Data!$C$16:$K$16=Model!$K137430)*(Data!$C$17:$K$19))","v":1.37},89.039999999999992,{"$f":"_xlfn.IFS(M137430>70,\"Serviceable\",M137430>30, \"Limited Life\",M137430<=30, \"Unserviceable\")","v":"Serviceable"}]
[null,217692,2013,"Wood Creos Impregnated","Serviceable","Class 3",2018,90,87.26,7,{"$f":"INDEX(Lists!$B$32:$B$40, MATCH(2020-C137431, Lists!$C$32:$C$40,1))","v":"0-20"},{"$f":"SUMPRODUCT((Data!$B$17:$B$19=Model!$F137431)*(Data!$C$16:$K$16=Model!$K137431)*(Data!$C$17:$K$19))","v":1.37},80.41,{"$f":"_xlfn.IFS(M137431>70,\"Serviceable\",M137431>30, \"Limited Life\",M137431<=30, \"Unserviceable\")","v":"Serviceable"}]
[null,217713,1998,"Wood Creos Impregnated","Serviceable","Class 3",2018,100,96.32,7,{"$f":"INDEX(Lists!$B$32:$B$40, MATCH(2020-C137432, Lists!$C$32:$C$40,1))","v":"21-30"},{"$f":"SUMPRODUCT((Data!$B$17:$B$19=Model!$F137432)*(Data!$C$16:$K$16=Model!$K137432)*(Data!$C$17:$K$19))","v":1.84},87.12,{"$f":"_xlfn.IFS(M137432>70,\"Serviceable\",M137432>30, \"Limited Life\",M137432<=30, \"Unserviceable\")","v":"Serviceable"}]
[null,217732,2001,"Wood Creos Impregnated","Serviceable","Class 3",2020,100,100,5,{"$f":"INDEX(Lists!$B$32:$B$40, MATCH(2020-C137433, Lists!$C$32:$C$40,1))","v":"0-20"},{"$f":"SUMPRODUCT((Data!$B$17:$B$19=Model!$F137433)*(Data!$C$16:$K$16=Model!$K137433)*(Data!$C$17:$K$19))","v":1.37},93.15,{"$f":"_xlfn.IFS(M137433>70,\"Serviceable\",M137433>30, \"Limited Life\",M137433<=30, \"Unserviceable\")","v":"Serviceable"}]
[null,217869,1957,"Wood Untreated Round","Serviceable","Class 2",2018,100,95.54,7,{"$f":"INDEX(Lists!$B$32:$B$40, MATCH(2020-C137434, Lists!$C$32:$C$40,1))","v":"61-70"},{"$f":"SUMPRODUCT((Data!$B$17:$B$19=Model!$F137434)*(Data!$C$16:$K$16=Model!$K137434)*(Data!$C$17:$K$19))","v":2.23},84.39,{"$f":"_xlfn.IFS(M137434>70,\"Serviceable\",M137434>30, \"Limited Life\",M137434<=30, \"Unserviceable\")","v":"Serviceable"}]
[null,217885,2005,"Wood Untreated Round","Serviceable","Class 1",2017,100,96.82,8,{"$f":"INDEX(Lists!$B$32:$B$40, MATCH(2020-C137435, Lists!$C$32:$C$40,1))","v":"0-20"},{"$f":"SUMPRODUCT((Data!$B$17:$B$19=Model!$F137435)*(Data!$C$16:$K$16=Model!$K137435)*(Data!$C$17:$K$19))","v":1.06},91.52,{"$f":"_xlfn.IFS(M137435>70,\"Serviceable\",M137435>30, \"Limited Life\",M137435<=30, \"Unserviceable\")","v":"Serviceable"}]
[null,217933,1975,"Wood Creos Impregnated","Serviceable","Class 3",2018,100,92.44,7,{"$f":"INDEX(Lists!$B$32:$B$40, MATCH(2020-C137436, Lists!$C$32:$C$40,1))","v":"41-50"},{"$f":"SUMPRODUCT((Data!$B$17:$B$19=Model!$F137436)*(Data!$C$16:$K$16=Model!$K137436)*(Data!$C$17:$K$19))","v":3.78},73.540000000000006,{"$f":"_xlfn.IFS(M137436>70,\"Serviceable\",M137436>30, \"Limited Life\",M137436<=30, \"Unserviceable\")","v":"Serviceable"}]
[null,217945,2009,"Wood Untreated Dressed","Serviceable","Class 1",2019,100,98.94,6,{"$f":"INDEX(Lists!$B$32:$B$40, MATCH(2020-C137437, Lists!$C$32:$C$40,1))","v":"0-20"},{"$f":"SUMPRODUCT((Data!$B$17:$B$19=Model!$F137437)*(Data!$C$16:$K$16=Model!$K137437)*(Data!$C$17:$K$19))","v":1.06},93.64,{"$f":"_xlfn.IFS(M137437>70,\"Serviceable\",M137437>30, \"Limited Life\",M137437<=30, \"Unserviceable\")","v":"Serviceable"}]
[null,217948,2013,"Wood Untreated Dressed","Serviceable","Class 1",2018,100,97.88,7,{"$f":"INDEX(Lists!$B$32:$B$40, MATCH(2020-C137438, Lists!$C$32:$C$40,1))","v":"0-20"},{"$f":"SUMPRODUCT((Data!$B$17:$B$19=Model!$F137438)*(Data!$C$16:$K$16=Model!$K137438)*(Data!$C$17:$K$19))","v":1.06},92.58,{"$f":"_xlfn.IFS(M137438>70,\"Serviceable\",M137438>30, \"Limited Life\",M137438<=30, \"Unserviceable\")","v":"Serviceable"}]
[null,217951,2013,"Wood Untreated Dressed","Serviceable","Class 1",2018,100,97.88,7,{"$f":"INDEX(Lists!$B$32:$B$40, MATCH(2020-C137439, Lists!$C$32:$C$40,1))","v":"0-20"},{"$f":"SUMPRODUCT((Data!$B$17:$B$19=Model!$F137439)*(Data!$C$16:$K$16=Model!$K137439)*(Data!$C$17:$K$19))","v":1.06},92.58,{"$f":"_xlfn.IFS(M137439>70,\"Serviceable\",M137439>30, \"Limited Life\",M137439<=30, \"Unserviceable\")","v":"Serviceable"}]
[null,217960,1960,"Wood Untreated Dressed","Serviceable","Class 1",2019,100,98.35,6,{"$f":"INDEX(Lists!$B$32:$B$40, MATCH(2020-C137440, Lists!$C$32:$C$40,1))","v":"51-60"},{"$f":"SUMPRODUCT((Data!$B$17:$B$19=Model!$F137440)*(Data!$C$16:$K$16=Model!$K137440)*(Data!$C$17:$K$19))","v":1.65},90.1,{"$f":"_xlfn.IFS(M137440>70,\"Serviceable\",M137440>30, \"Limited Life\",M137440<=30, \"Unserviceable\")","v":"Serviceable"}]
[null,218035,1965,"Wood Creos Impregnated","Unserviceable","Class 3",2018,0,0,7,{"$f":"INDEX(Lists!$B$32:$B$40, MATCH(2020-C137441, Lists!$C$32:$C$40,1))","v":"51-60"},{"$f":"SUMPRODUCT((Data!$B$17:$B$19=Model!$F137441)*(Data!$C$16:$K$16=Model!$K137441)*(Data!$C$17:$K$19))","v":2.73},0,{"$f":"_xlfn.IFS(M137441>70,\"Serviceable\",M137441>30, \"Limited Life\",M137441<=30, \"Unserviceable\")","v":"Unserviceable"}]
[null,218054,1958,"Wood Creos Impregnated","Serviceable","Class 3",2019,100,97.98,6,{"$f":"INDEX(Lists!$B$32:$B$40, MATCH(2020-C137442, Lists!$C$32:$C$40,1))","v":"61-70"},{"$f":"SUMPRODUCT((Data!$B$17:$B$19=Model!$F137442)*(Data!$C$16:$K$16=Model!$K137442)*(Data!$C$17:$K$19))","v":2.02},87.88,{"$f":"_xlfn.IFS(M137442>70,\"Serviceable\",M137442>30, \"Limited Life\",M137442<=30, \"Unserviceable\")","v":"Serviceable"}]
[null,218059,1972,"Wood Untreated Dressed","Serviceable","Class 2",2018,100,93.44,7,{"$f":"INDEX(Lists!$B$32:$B$40, MATCH(2020-C137443, Lists!$C$32:$C$40,1))","v":"41-50"},{"$f":"SUMPRODUCT((Data!$B$17:$B$19=Model!$F137443)*(Data!$C$16:$K$16=Model!$K137443)*(Data!$C$17:$K$19))","v":3.28},77.040000000000006,{"$f":"_xlfn.IFS(M137443>70,\"Serviceable\",M137443>30, \"Limited Life\",M137443<=30, \"Unserviceable\")","v":"Serviceable"}]
[null,218078,1950,"Wood Untreated Dressed","Serviceable","Class 1",2017,100,93.91,8,{"$f":"INDEX(Lists!$B$32:$B$40, MATCH(2020-C137444, Lists!$C$32:$C$40,1))","v":"61-70"},{"$f":"SUMPRODUCT((Data!$B$17:$B$19=Model!$F137444)*(Data!$C$16:$K$16=Model!$K137444)*(Data!$C$17:$K$19))","v":2.0299999999999998},83.76,{"$f":"_xlfn.IFS(M137444>70,\"Serviceable\",M137444>30, \"Limited Life\",M137444<=30, \"Unserviceable\")","v":"Serviceable"}]
[null,218092,1968,"Wood Creos Impregnated","Serviceable","Class 3",2018,120,114.54,7,{"$f":"INDEX(Lists!$B$32:$B$40, MATCH(2020-C137445, Lists!$C$32:$C$40,1))","v":"51-60"},{"$f":"SUMPRODUCT((Data!$B$17:$B$19=Model!$F137445)*(Data!$C$16:$K$16=Model!$K137445)*(Data!$C$17:$K$19))","v":2.73},100.89,{"$f":"_xlfn.IFS(M137445>70,\"Serviceable\",M137445>30, \"Limited Life\",M137445<=30, \"Unserviceable\")","v":"Serviceable"}]
[null,218176,1972,"Wood Creos Impregnated","Serviceable","Class 3",2018,100,92.44,7,{"$f":"INDEX(Lists!$B$32:$B$40, MATCH(2020-C137446, Lists!$C$32:$C$40,1))","v":"41-50"},{"$f":"SUMPRODUCT((Data!$B$17:$B$19=Model!$F137446)*(Data!$C$16:$K$16=Model!$K137446)*(Data!$C$17:$K$19))","v":3.78},73.540000000000006,{"$f":"_xlfn.IFS(M137446>70,\"Serviceable\",M137446>30, \"Limited Life\",M137446<=30, \"Unserviceable\")","v":"Serviceable"}]
[null,218178,1972,"Wood Creos Impregnated","Serviceable","Class 3",2018,100,92.44,7,{"$f":"INDEX(Lists!$B$32:$B$40, MATCH(2020-C137447, Lists!$C$32:$C$40,1))","v":"41-50"},{"$f":"SUMPRODUCT((Data!$B$17:$B$19=Model!$F137447)*(Data!$C$16:$K$16=Model!$K137447)*(Data!$C$17:$K$19))","v":3.78},73.540000000000006,{"$f":"_xlfn.IFS(M137447>70,\"Serviceable\",M137447>30, \"Limited Life\",M137447<=30, \"Unserviceable\")","v":"Serviceable"}]
[null,218189,2005,"Wood Creos Impregnated","Serviceable","Class 3",2017,90,85.89,8,{"$f":"INDEX(Lists!$B$32:$B$40, MATCH(2020-C137448, Lists!$C$32:$C$40,1))","v":"0-20"},{"$f":"SUMPRODUCT((Data!$B$17:$B$19=Model!$F137448)*(Data!$C$16:$K$16=Model!$K137448)*(Data!$C$17:$K$19))","v":1.37},79.039999999999992,{"$f":"_xlfn.IFS(M137448>70,\"Serviceable\",M137448>30, \"Limited Life\",M137448<=30, \"Unserviceable\")","v":"Serviceable"}]
[null,218190,2007,"Wood Creos Impregnated","Serviceable","Class 3",2017,80,75.89,8,{"$f":"INDEX(Lists!$B$32:$B$40, MATCH(2020-C137449, Lists!$C$32:$C$40,1))","v":"0-20"},{"$f":"SUMPRODUCT((Data!$B$17:$B$19=Model!$F137449)*(Data!$C$16:$K$16=Model!$K137449)*(Data!$C$17:$K$19))","v":1.37},69.039999999999992,{"$f":"_xlfn.IFS(M137449>70,\"Serviceable\",M137449>30, \"Limited Life\",M137449<=30, \"Unserviceable\")","v":"Limited Life"}]
[null,218196,1968,"Wood Creos Impregnated","Serviceable","Class 3",2018,100,94.54,7,{"$f":"INDEX(Lists!$B$32:$B$40, MATCH(2020-C137450, Lists!$C$32:$C$40,1))","v":"51-60"},{"$f":"SUMPRODUCT((Data!$B$17:$B$19=Model!$F137450)*(Data!$C$16:$K$16=Model!$K137450)*(Data!$C$17:$K$19))","v":2.73},80.89,{"$f":"_xlfn.IFS(M137450>70,\"Serviceable\",M137450>30, \"Limited Life\",M137450<=30, \"Unserviceable\")","v":"Serviceable"}]
[null,218414,2005,"Wood Creos Impregnated","Serviceable","Class 3",2018,120,117.26,7,{"$f":"INDEX(Lists!$B$32:$B$40, MATCH(2020-C137451, Lists!$C$32:$C$40,1))","v":"0-20"},{"$f":"SUMPRODUCT((Data!$B$17:$B$19=Model!$F137451)*(Data!$C$16:$K$16=Model!$K137451)*(Data!$C$17:$K$19))","v":1.37},110.41,{"$f":"_xlfn.IFS(M137451>70,\"Serviceable\",M137451>30, \"Limited Life\",M137451<=30, \"Unserviceable\")","v":"Serviceable"}]
[null,218418,1999,"Wood Untreated Dressed","Serviceable","Class 1",2018,100,96.08,7,{"$f":"INDEX(Lists!$B$32:$B$40, MATCH(2020-C137452, Lists!$C$32:$C$40,1))","v":"21-30"},{"$f":"SUMPRODUCT((Data!$B$17:$B$19=Model!$F137452)*(Data!$C$16:$K$16=Model!$K137452)*(Data!$C$17:$K$19))","v":1.96},86.28,{"$f":"_xlfn.IFS(M137452>70,\"Serviceable\",M137452>30, \"Limited Life\",M137452<=30, \"Unserviceable\")","v":"Serviceable"}]
[null,218480,2003,"Wood Creos Impregnated","Serviceable","Class 3",2018,100,97.26,7,{"$f":"INDEX(Lists!$B$32:$B$40, MATCH(2020-C137453, Lists!$C$32:$C$40,1))","v":"0-20"},{"$f":"SUMPRODUCT((Data!$B$17:$B$19=Model!$F137453)*(Data!$C$16:$K$16=Model!$K137453)*(Data!$C$17:$K$19))","v":1.37},90.41,{"$f":"_xlfn.IFS(M137453>70,\"Serviceable\",M137453>30, \"Limited Life\",M137453<=30, \"Unserviceable\")","v":"Serviceable"}]
[null,218494,2008,"Wood Creos Impregnated","Serviceable","Class 3",2017,100,95.89,8,{"$f":"INDEX(Lists!$B$32:$B$40, MATCH(2020-C137454, Lists!$C$32:$C$40,1))","v":"0-20"},{"$f":"SUMPRODUCT((Data!$B$17:$B$19=Model!$F137454)*(Data!$C$16:$K$16=Model!$K137454)*(Data!$C$17:$K$19))","v":1.37},89.039999999999992,{"$f":"_xlfn.IFS(M137454>70,\"Serviceable\",M137454>30, \"Limited Life\",M137454<=30, \"Unserviceable\")","v":"Serviceable"}]
[null,218495,1980,"Wood Untreated Dressed","Serviceable","Class 1",2017,120,112.44,8,{"$f":"INDEX(Lists!$B$32:$B$40, MATCH(2020-C137455, Lists!$C$32:$C$40,1))","v":"31-40"},{"$f":"SUMPRODUCT((Data!$B$17:$B$19=Model!$F137455)*(Data!$C$16:$K$16=Model!$K137455)*(Data!$C$17:$K$19))","v":2.52},99.84,{"$f":"_xlfn.IFS(M137455>70,\"Serviceable\",M137455>30, \"Limited Life\",M137455<=30, \"Unserviceable\")","v":"Serviceable"}]
[null,218575,1999,"Wood Creos Impregnated","Serviceable","Class 3",2017,90,84.48,8,{"$f":"INDEX(Lists!$B$32:$B$40, MATCH(2020-C137456, Lists!$C$32:$C$40,1))","v":"21-30"},{"$f":"SUMPRODUCT((Data!$B$17:$B$19=Model!$F137456)*(Data!$C$16:$K$16=Model!$K137456)*(Data!$C$17:$K$19))","v":1.84},75.28,{"$f":"_xlfn.IFS(M137456>70,\"Serviceable\",M137456>30, \"Limited Life\",M137456<=30, \"Unserviceable\")","v":"Serviceable"}]
[null,218647,2004,"Wood Untreated Dressed","Limited Life","Class 2",2019,70,68.78,6,{"$f":"INDEX(Lists!$B$32:$B$40, MATCH(2020-C137457, Lists!$C$32:$C$40,1))","v":"0-20"},{"$f":"SUMPRODUCT((Data!$B$17:$B$19=Model!$F137457)*(Data!$C$16:$K$16=Model!$K137457)*(Data!$C$17:$K$19))","v":1.22},62.68,{"$f":"_xlfn.IFS(M137457>70,\"Serviceable\",M137457>30, \"Limited Life\",M137457<=30, \"Unserviceable\")","v":"Limited Life"}]
[null,218656,1989,"Wood Creos Impregnated","Serviceable","Class 3",2018,100,93.56,7,{"$f":"INDEX(Lists!$B$32:$B$40, MATCH(2020-C137458, Lists!$C$32:$C$40,1))","v":"31-40"},{"$f":"SUMPRODUCT((Data!$B$17:$B$19=Model!$F137458)*(Data!$C$16:$K$16=Model!$K137458)*(Data!$C$17:$K$19))","v":3.22},77.459999999999994,{"$f":"_xlfn.IFS(M137458>70,\"Serviceable\",M137458>30, \"Limited Life\",M137458<=30, \"Unserviceable\")","v":"Serviceable"}]
[null,218677,1969,"Wood Creos Impregnated","Serviceable","Class 3",2016,100,89.08,9,{"$f":"INDEX(Lists!$B$32:$B$40, MATCH(2020-C137459, Lists!$C$32:$C$40,1))","v":"51-60"},{"$f":"SUMPRODUCT((Data!$B$17:$B$19=Model!$F137459)*(Data!$C$16:$K$16=Model!$K137459)*(Data!$C$17:$K$19))","v":2.73},75.430000000000007,{"$f":"_xlfn.IFS(M137459>70,\"Serviceable\",M137459>30, \"Limited Life\",M137459<=30, \"Unserviceable\")","v":"Serviceable"}]
[null,218758,2013,"Wood Untreated Dressed","Serviceable","Class 3",2019,100,98.63,6,{"$f":"INDEX(Lists!$B$32:$B$40, MATCH(2020-C137460, Lists!$C$32:$C$40,1))","v":"0-20"},{"$f":"SUMPRODUCT((Data!$B$17:$B$19=Model!$F137460)*(Data!$C$16:$K$16=Model!$K137460)*(Data!$C$17:$K$19))","v":1.37},91.78,{"$f":"_xlfn.IFS(M137460>70,\"Serviceable\",M137460>30, \"Limited Life\",M137460<=30, \"Unserviceable\")","v":"Serviceable"}]
[null,218915,1971,"Wood Creos Impregnated","Serviceable","Class 3",2020,100,100,5,{"$f":"INDEX(Lists!$B$32:$B$40, MATCH(2020-C137461, Lists!$C$32:$C$40,1))","v":"41-50"},{"$f":"SUMPRODUCT((Data!$B$17:$B$19=Model!$F137461)*(Data!$C$16:$K$16=Model!$K137461)*(Data!$C$17:$K$19))","v":3.78},81.099999999999994,{"$f":"_xlfn.IFS(M137461>70,\"Serviceable\",M137461>30, \"Limited Life\",M137461<=30, \"Unserviceable\")","v":"Serviceable"}]
[null,218947,1989,"CCA Treated Pole","Serviceable","Class 1",2019,166.31691553103065,163.79691553103063,6,{"$f":"INDEX(Lists!$B$32:$B$40, MATCH(2020-C137462, Lists!$C$32:$C$40,1))","v":"31-40"},{"$f":"SUMPRODUCT((Data!$B$17:$B$19=Model!$F137462)*(Data!$C$16:$K$16=Model!$K137462)*(Data!$C$17:$K$19))","v":2.52},151.19691553103064,{"$f":"_xlfn.IFS(M137462>70,\"Serviceable\",M137462>30, \"Limited Life\",M137462<=30, \"Unserviceable\")","v":"Serviceable"}]
[null,219085,1968,"Wood Creos Impregnated","Serviceable","Class 1",2018,100,96.7,7,{"$f":"INDEX(Lists!$B$32:$B$40, MATCH(2020-C137463, Lists!$C$32:$C$40,1))","v":"51-60"},{"$f":"SUMPRODUCT((Data!$B$17:$B$19=Model!$F137463)*(Data!$C$16:$K$16=Model!$K137463)*(Data!$C$17:$K$19))","v":1.65},88.45,{"$f":"_xlfn.IFS(M137463>70,\"Serviceable\",M137463>30, \"Limited Life\",M137463<=30, \"Unserviceable\")","v":"Serviceable"}]
[null,219313,2000,"Wood Creos Impregnated","Serviceable","Class 3",2019,100,98.63,6,{"$f":"INDEX(Lists!$B$32:$B$40, MATCH(2020-C137464, Lists!$C$32:$C$40,1))","v":"0-20"},{"$f":"SUMPRODUCT((Data!$B$17:$B$19=Model!$F137464)*(Data!$C$16:$K$16=Model!$K137464)*(Data!$C$17:$K$19))","v":1.37},91.78,{"$f":"_xlfn.IFS(M137464>70,\"Serviceable\",M137464>30, \"Limited Life\",M137464<=30, \"Unserviceable\")","v":"Serviceable"}]
[null,219374,2003,"CCA Treated Pole","Serviceable","Class 1",2019,166.31691553103065,165.25691553103064,6,{"$f":"INDEX(Lists!$B$32:$B$40, MATCH(2020-C137465, Lists!$C$32:$C$40,1))","v":"0-20"},{"$f":"SUMPRODUCT((Data!$B$17:$B$19=Model!$F137465)*(Data!$C$16:$K$16=Model!$K137465)*(Data!$C$17:$K$19))","v":1.06},159.95691553103063,{"$f":"_xlfn.IFS(M137465>70,\"Serviceable\",M137465>30, \"Limited Life\",M137465<=30, \"Unserviceable\")","v":"Serviceable"}]
[null,219429,1992,"Wood Untreated Dressed","Serviceable","Class 1",2018,120,116.08,7,{"$f":"INDEX(Lists!$B$32:$B$40, MATCH(2020-C137466, Lists!$C$32:$C$40,1))","v":"21-30"},{"$f":"SUMPRODUCT((Data!$B$17:$B$19=Model!$F137466)*(Data!$C$16:$K$16=Model!$K137466)*(Data!$C$17:$K$19))","v":1.96},106.28,{"$f":"_xlfn.IFS(M137466>70,\"Serviceable\",M137466>30, \"Limited Life\",M137466<=30, \"Unserviceable\")","v":"Serviceable"}]
[null,219551,1983,"Wood Untreated Dressed","Serviceable","Class 1",2018,110,104.96,7,{"$f":"INDEX(Lists!$B$32:$B$40, MATCH(2020-C137467, Lists!$C$32:$C$40,1))","v":"31-40"},{"$f":"SUMPRODUCT((Data!$B$17:$B$19=Model!$F137467)*(Data!$C$16:$K$16=Model!$K137467)*(Data!$C$17:$K$19))","v":2.52},92.36,{"$f":"_xlfn.IFS(M137467>70,\"Serviceable\",M137467>30, \"Limited Life\",M137467<=30, \"Unserviceable\")","v":"Serviceable"}]
[null,219634,2007,"Wood Creos Impregnated","Serviceable","Class 3",2017,100,95.89,8,{"$f":"INDEX(Lists!$B$32:$B$40, MATCH(2020-C137468, Lists!$C$32:$C$40,1))","v":"0-20"},{"$f":"SUMPRODUCT((Data!$B$17:$B$19=Model!$F137468)*(Data!$C$16:$K$16=Model!$K137468)*(Data!$C$17:$K$19))","v":1.37},89.039999999999992,{"$f":"_xlfn.IFS(M137468>70,\"Serviceable\",M137468>30, \"Limited Life\",M137468<=30, \"Unserviceable\")","v":"Serviceable"}]
[null,219637,1999,"Wood Creos Impregnated","Serviceable","Class 3",2017,100,94.48,8,{"$f":"INDEX(Lists!$B$32:$B$40, MATCH(2020-C137469, Lists!$C$32:$C$40,1))","v":"21-30"},{"$f":"SUMPRODUCT((Data!$B$17:$B$19=Model!$F137469)*(Data!$C$16:$K$16=Model!$K137469)*(Data!$C$17:$K$19))","v":1.84},85.28,{"$f":"_xlfn.IFS(M137469>70,\"Serviceable\",M137469>30, \"Limited Life\",M137469<=30, \"Unserviceable\")","v":"Serviceable"}]
[null,219682,1999,"Wood Creos Impregnated","Serviceable","Class 3",2019,120,118.16,6,{"$f":"INDEX(Lists!$B$32:$B$40, MATCH(2020-C137470, Lists!$C$32:$C$40,1))","v":"21-30"},{"$f":"SUMPRODUCT((Data!$B$17:$B$19=Model!$F137470)*(Data!$C$16:$K$16=Model!$K137470)*(Data!$C$17:$K$19))","v":1.84},108.96,{"$f":"_xlfn.IFS(M137470>70,\"Serviceable\",M137470>30, \"Limited Life\",M137470<=30, \"Unserviceable\")","v":"Serviceable"}]
[null,219686,1999,"Wood Creos Impregnated","Serviceable","Class 3",2017,110,104.48,8,{"$f":"INDEX(Lists!$B$32:$B$40, MATCH(2020-C137471, Lists!$C$32:$C$40,1))","v":"21-30"},{"$f":"SUMPRODUCT((Data!$B$17:$B$19=Model!$F137471)*(Data!$C$16:$K$16=Model!$K137471)*(Data!$C$17:$K$19))","v":1.84},95.28,{"$f":"_xlfn.IFS(M137471>70,\"Serviceable\",M137471>30, \"Limited Life\",M137471<=30, \"Unserviceable\")","v":"Serviceable"}]
[null,219761,1999,"Wood Untreated Round","Limited Life","Class 2",2020,35,35,5,{"$f":"INDEX(Lists!$B$32:$B$40, MATCH(2020-C137472, Lists!$C$32:$C$40,1))","v":"21-30"},{"$f":"SUMPRODUCT((Data!$B$17:$B$19=Model!$F137472)*(Data!$C$16:$K$16=Model!$K137472)*(Data!$C$17:$K$19))","v":1.89},25.55,{"$f":"_xlfn.IFS(M137472>70,\"Serviceable\",M137472>30, \"Limited Life\",M137472<=30, \"Unserviceable\")","v":"Unserviceable"}]
[null,219790,1968,"Wood Creos Impregnated","Serviceable","Class 3",2018,100,94.54,7,{"$f":"INDEX(Lists!$B$32:$B$40, MATCH(2020-C137473, Lists!$C$32:$C$40,1))","v":"51-60"},{"$f":"SUMPRODUCT((Data!$B$17:$B$19=Model!$F137473)*(Data!$C$16:$K$16=Model!$K137473)*(Data!$C$17:$K$19))","v":2.73},80.89,{"$f":"_xlfn.IFS(M137473>70,\"Serviceable\",M137473>30, \"Limited Life\",M137473<=30, \"Unserviceable\")","v":"Serviceable"}]
[null,219818,1999,"Wood Creos Impregnated","Serviceable","Class 3",2018,80,76.319999999999993,7,{"$f":"INDEX(Lists!$B$32:$B$40, MATCH(2020-C137474, Lists!$C$32:$C$40,1))","v":"21-30"},{"$f":"SUMPRODUCT((Data!$B$17:$B$19=Model!$F137474)*(Data!$C$16:$K$16=Model!$K137474)*(Data!$C$17:$K$19))","v":1.84},67.12,{"$f":"_xlfn.IFS(M137474>70,\"Serviceable\",M137474>30, \"Limited Life\",M137474<=30, \"Unserviceable\")","v":"Limited Life"}]
[null,219826,1999,"Wood Creos Impregnated","Serviceable","Class 3",2018,100,96.32,7,{"$f":"INDEX(Lists!$B$32:$B$40, MATCH(2020-C137475, Lists!$C$32:$C$40,1))","v":"21-30"},{"$f":"SUMPRODUCT((Data!$B$17:$B$19=Model!$F137475)*(Data!$C$16:$K$16=Model!$K137475)*(Data!$C$17:$K$19))","v":1.84},87.12,{"$f":"_xlfn.IFS(M137475>70,\"Serviceable\",M137475>30, \"Limited Life\",M137475<=30, \"Unserviceable\")","v":"Serviceable"}]
[null,219830,1999,"CCA Treated Pole","Serviceable","Class 2",2017,100,94.33,8,{"$f":"INDEX(Lists!$B$32:$B$40, MATCH(2020-C137476, Lists!$C$32:$C$40,1))","v":"21-30"},{"$f":"SUMPRODUCT((Data!$B$17:$B$19=Model!$F137476)*(Data!$C$16:$K$16=Model!$K137476)*(Data!$C$17:$K$19))","v":1.89},84.88,{"$f":"_xlfn.IFS(M137476>70,\"Serviceable\",M137476>30, \"Limited Life\",M137476<=30, \"Unserviceable\")","v":"Serviceable"}]
[null,219967,2002,"Wood Creos Impregnated","Serviceable","Class 3",2016,100,94.52,9,{"$f":"INDEX(Lists!$B$32:$B$40, MATCH(2020-C137477, Lists!$C$32:$C$40,1))","v":"0-20"},{"$f":"SUMPRODUCT((Data!$B$17:$B$19=Model!$F137477)*(Data!$C$16:$K$16=Model!$K137477)*(Data!$C$17:$K$19))","v":1.37},87.67,{"$f":"_xlfn.IFS(M137477>70,\"Serviceable\",M137477>30, \"Limited Life\",M137477<=30, \"Unserviceable\")","v":"Serviceable"}]
[null,219977,1999,"Wood Creos Impregnated","Serviceable","Class 3",2019,90,88.16,6,{"$f":"INDEX(Lists!$B$32:$B$40, MATCH(2020-C137478, Lists!$C$32:$C$40,1))","v":"21-30"},{"$f":"SUMPRODUCT((Data!$B$17:$B$19=Model!$F137478)*(Data!$C$16:$K$16=Model!$K137478)*(Data!$C$17:$K$19))","v":1.84},78.959999999999994,{"$f":"_xlfn.IFS(M137478>70,\"Serviceable\",M137478>30, \"Limited Life\",M137478<=30, \"Unserviceable\")","v":"Serviceable"}]
[null,220315,2010,"Wood Creos Impregnated","Serviceable","Class 3",2018,100,97.26,7,{"$f":"INDEX(Lists!$B$32:$B$40, MATCH(2020-C137479, Lists!$C$32:$C$40,1))","v":"0-20"},{"$f":"SUMPRODUCT((Data!$B$17:$B$19=Model!$F137479)*(Data!$C$16:$K$16=Model!$K137479)*(Data!$C$17:$K$19))","v":1.37},90.41,{"$f":"_xlfn.IFS(M137479>70,\"Serviceable\",M137479>30, \"Limited Life\",M137479<=30, \"Unserviceable\")","v":"Serviceable"}]
[null,220328,2004,"Wood Creos Impregnated","Serviceable","Class 3",2018,100,97.26,{"$f":"2025-G137480","v":7},{"$f":"INDEX(Lists!$B$32:$B$40, MATCH(2020-C137480, Lists!$C$32:$C$40,1))","v":"0-20"},{"$f":"SUMPRODUCT((Data!$B$17:$B$19=Model!$F137480)*(Data!$C$16:$K$16=Model!$K137480)*(Data!$C$17:$K$19))","v":1.37},{"$f":"IF(IF(H137480>=700,999,(H137480-L137480*J137480))<0,0,IF(H137480>=700,999,(H137480-L137480*J137480)))","v":90.41},{"$f":"_xlfn.IFS(M137480>70,\"Serviceable\",M137480>30, \"Limited Life\",M137480<=30, \"Unserviceable\")","v":"Serviceable"}]
[null,220413,2003,"CCA Treated Pole","Serviceable","Class 2",2017,150,146.34,8,{"$f":"INDEX(Lists!$B$32:$B$40, MATCH(2020-C137481, Lists!$C$32:$C$40,1))","v":"0-20"},{"$f":"SUMPRODUCT((Data!$B$17:$B$19=Model!$F137481)*(Data!$C$16:$K$16=Model!$K137481)*(Data!$C$17:$K$19))","v":1.22},140.24,{"$f":"_xlfn.IFS(M137481>70,\"Serviceable\",M137481>30, \"Limited Life\",M137481<=30, \"Unserviceable\")","v":"Serviceable"}]
[null,220472,2004,"Wood Untreated Dressed","Limited Life","Class 1",2018,70,67.88,7,{"$f":"INDEX(Lists!$B$32:$B$40, MATCH(2020-C137482, Lists!$C$32:$C$40,1))","v":"0-20"},{"$f":"SUMPRODUCT((Data!$B$17:$B$19=Model!$F137482)*(Data!$C$16:$K$16=Model!$K137482)*(Data!$C$17:$K$19))","v":1.06},62.58,{"$f":"_xlfn.IFS(M137482>70,\"Serviceable\",M137482>30, \"Limited Life\",M137482<=30, \"Unserviceable\")","v":"Limited Life"}]
[null,220753,1999,"Wood Untreated Round","Serviceable","Class 1",2018,100,96.08,7,{"$f":"INDEX(Lists!$B$32:$B$40, MATCH(2020-C137483, Lists!$C$32:$C$40,1))","v":"21-30"},{"$f":"SUMPRODUCT((Data!$B$17:$B$19=Model!$F137483)*(Data!$C$16:$K$16=Model!$K137483)*(Data!$C$17:$K$19))","v":1.96},86.28,{"$f":"_xlfn.IFS(M137483>70,\"Serviceable\",M137483>30, \"Limited Life\",M137483<=30, \"Unserviceable\")","v":"Serviceable"}]
[null,220762,1989,"Wood Untreated Dressed","Serviceable","Class 1",2019,166.31691553103065,163.79691553103063,6,{"$f":"INDEX(Lists!$B$32:$B$40, MATCH(2020-C137484, Lists!$C$32:$C$40,1))","v":"31-40"},{"$f":"SUMPRODUCT((Data!$B$17:$B$19=Model!$F137484)*(Data!$C$16:$K$16=Model!$K137484)*(Data!$C$17:$K$19))","v":2.52},151.19691553103064,{"$f":"_xlfn.IFS(M137484>70,\"Serviceable\",M137484>30, \"Limited Life\",M137484<=30, \"Unserviceable\")","v":"Serviceable"}]
[null,220799,1999,"Wood Creos Impregnated","Serviceable","Class 3",2018,120,116.32,7,{"$f":"INDEX(Lists!$B$32:$B$40, MATCH(2020-C137485, Lists!$C$32:$C$40,1))","v":"21-30"},{"$f":"SUMPRODUCT((Data!$B$17:$B$19=Model!$F137485)*(Data!$C$16:$K$16=Model!$K137485)*(Data!$C$17:$K$19))","v":1.84},107.12,{"$f":"_xlfn.IFS(M137485>70,\"Serviceable\",M137485>30, \"Limited Life\",M137485<=30, \"Unserviceable\")","v":"Serviceable"}]
[null,220806,1960,"Wood Creos Impregnated","Serviceable","Class 3",2018,120,114.54,7,{"$f":"INDEX(Lists!$B$32:$B$40, MATCH(2020-C137486, Lists!$C$32:$C$40,1))","v":"51-60"},{"$f":"SUMPRODUCT((Data!$B$17:$B$19=Model!$F137486)*(Data!$C$16:$K$16=Model!$K137486)*(Data!$C$17:$K$19))","v":2.73},100.89,{"$f":"_xlfn.IFS(M137486>70,\"Serviceable\",M137486>30, \"Limited Life\",M137486<=30, \"Unserviceable\")","v":"Serviceable"}]
[null,220828,2005,"Wood Creos Impregnated","Serviceable","Class 3",2018,110,107.26,7,{"$f":"INDEX(Lists!$B$32:$B$40, MATCH(2020-C137487, Lists!$C$32:$C$40,1))","v":"0-20"},{"$f":"SUMPRODUCT((Data!$B$17:$B$19=Model!$F137487)*(Data!$C$16:$K$16=Model!$K137487)*(Data!$C$17:$K$19))","v":1.37},100.41,{"$f":"_xlfn.IFS(M137487>70,\"Serviceable\",M137487>30, \"Limited Life\",M137487<=30, \"Unserviceable\")","v":"Serviceable"}]
[null,220905,2010,"Wood Untreated Round","Serviceable","Class 2",2019,100,98.78,6,{"$f":"INDEX(Lists!$B$32:$B$40, MATCH(2020-C137488, Lists!$C$32:$C$40,1))","v":"0-20"},{"$f":"SUMPRODUCT((Data!$B$17:$B$19=Model!$F137488)*(Data!$C$16:$K$16=Model!$K137488)*(Data!$C$17:$K$19))","v":1.22},92.68,{"$f":"_xlfn.IFS(M137488>70,\"Serviceable\",M137488>30, \"Limited Life\",M137488<=30, \"Unserviceable\")","v":"Serviceable"}]
[null,220951,2014,"Wood Creos Impregnated","Serviceable","Class 3",2019,100,98.63,6,{"$f":"INDEX(Lists!$B$32:$B$40, MATCH(2020-C137489, Lists!$C$32:$C$40,1))","v":"0-20"},{"$f":"SUMPRODUCT((Data!$B$17:$B$19=Model!$F137489)*(Data!$C$16:$K$16=Model!$K137489)*(Data!$C$17:$K$19))","v":1.37},91.78,{"$f":"_xlfn.IFS(M137489>70,\"Serviceable\",M137489>30, \"Limited Life\",M137489<=30, \"Unserviceable\")","v":"Serviceable"}]
[null,221081,2011,"Wood Creos Impregnated","Serviceable","Class 3",2020,100,100,5,{"$f":"INDEX(Lists!$B$32:$B$40, MATCH(2020-C137490, Lists!$C$32:$C$40,1))","v":"0-20"},{"$f":"SUMPRODUCT((Data!$B$17:$B$19=Model!$F137490)*(Data!$C$16:$K$16=Model!$K137490)*(Data!$C$17:$K$19))","v":1.37},93.15,{"$f":"_xlfn.IFS(M137490>70,\"Serviceable\",M137490>30, \"Limited Life\",M137490<=30, \"Unserviceable\")","v":"Serviceable"}]
[null,221144,1960,"CCA Treated Pole","Serviceable","Class 1",2019,100,98.35,6,{"$f":"INDEX(Lists!$B$32:$B$40, MATCH(2020-C137491, Lists!$C$32:$C$40,1))","v":"51-60"},{"$f":"SUMPRODUCT((Data!$B$17:$B$19=Model!$F137491)*(Data!$C$16:$K$16=Model!$K137491)*(Data!$C$17:$K$19))","v":1.65},90.1,{"$f":"_xlfn.IFS(M137491>70,\"Serviceable\",M137491>30, \"Limited Life\",M137491<=30, \"Unserviceable\")","v":"Serviceable"}]
[null,221243,1965,"Wood Creos Impregnated","Limited Life","Class 3",2016,70,59.08,9,{"$f":"INDEX(Lists!$B$32:$B$40, MATCH(2020-C137492, Lists!$C$32:$C$40,1))","v":"51-60"},{"$f":"SUMPRODUCT((Data!$B$17:$B$19=Model!$F137492)*(Data!$C$16:$K$16=Model!$K137492)*(Data!$C$17:$K$19))","v":2.73},45.43,{"$f":"_xlfn.IFS(M137492>70,\"Serviceable\",M137492>30, \"Limited Life\",M137492<=30, \"Unserviceable\")","v":"Limited Life"}]
[null,221410,1996,"Wood Creos Impregnated","Serviceable","Class 3",2019,75,73.16,6,{"$f":"INDEX(Lists!$B$32:$B$40, MATCH(2020-C137493, Lists!$C$32:$C$40,1))","v":"21-30"},{"$f":"SUMPRODUCT((Data!$B$17:$B$19=Model!$F137493)*(Data!$C$16:$K$16=Model!$K137493)*(Data!$C$17:$K$19))","v":1.84},63.96,{"$f":"_xlfn.IFS(M137493>70,\"Serviceable\",M137493>30, \"Limited Life\",M137493<=30, \"Unserviceable\")","v":"Limited Life"}]
[null,222254,1948,"Wood Untreated Round","Serviceable","Class 1",2020,100,100,5,{"$f":"INDEX(Lists!$B$32:$B$40, MATCH(2020-C137494, Lists!$C$32:$C$40,1))","v":"71-80"},{"$f":"SUMPRODUCT((Data!$B$17:$B$19=Model!$F137494)*(Data!$C$16:$K$16=Model!$K137494)*(Data!$C$17:$K$19))","v":2.15},89.25,{"$f":"_xlfn.IFS(M137494>70,\"Serviceable\",M137494>30, \"Limited Life\",M137494<=30, \"Unserviceable\")","v":"Serviceable"}]
[null,222585,2009,"Wood Untreated Round","Serviceable","Class 1",2018,110,107.88,7,{"$f":"INDEX(Lists!$B$32:$B$40, MATCH(2020-C137495, Lists!$C$32:$C$40,1))","v":"0-20"},{"$f":"SUMPRODUCT((Data!$B$17:$B$19=Model!$F137495)*(Data!$C$16:$K$16=Model!$K137495)*(Data!$C$17:$K$19))","v":1.06},102.58,{"$f":"_xlfn.IFS(M137495>70,\"Serviceable\",M137495>30, \"Limited Life\",M137495<=30, \"Unserviceable\")","v":"Serviceable"}]
[null,222590,1942,"Wood Untreated Dressed","Serviceable","Class 1",2019,100,97.85,6,{"$f":"INDEX(Lists!$B$32:$B$40, MATCH(2020-C137496, Lists!$C$32:$C$40,1))","v":"71-80"},{"$f":"SUMPRODUCT((Data!$B$17:$B$19=Model!$F137496)*(Data!$C$16:$K$16=Model!$K137496)*(Data!$C$17:$K$19))","v":2.15},87.1,{"$f":"_xlfn.IFS(M137496>70,\"Serviceable\",M137496>30, \"Limited Life\",M137496<=30, \"Unserviceable\")","v":"Serviceable"}]
[null,222872,1994,"Wood Creos Impregnated","Serviceable","Class 3",2020,100,100,5,{"$f":"INDEX(Lists!$B$32:$B$40, MATCH(2020-C137497, Lists!$C$32:$C$40,1))","v":"21-30"},{"$f":"SUMPRODUCT((Data!$B$17:$B$19=Model!$F137497)*(Data!$C$16:$K$16=Model!$K137497)*(Data!$C$17:$K$19))","v":1.84},90.8,{"$f":"_xlfn.IFS(M137497>70,\"Serviceable\",M137497>30, \"Limited Life\",M137497<=30, \"Unserviceable\")","v":"Serviceable"}]
[null,223103,2009,"Wood Creos Impregnated","Serviceable","Class 3",2019,100,98.63,6,{"$f":"INDEX(Lists!$B$32:$B$40, MATCH(2020-C137498, Lists!$C$32:$C$40,1))","v":"0-20"},{"$f":"SUMPRODUCT((Data!$B$17:$B$19=Model!$F137498)*(Data!$C$16:$K$16=Model!$K137498)*(Data!$C$17:$K$19))","v":1.37},91.78,{"$f":"_xlfn.IFS(M137498>70,\"Serviceable\",M137498>30, \"Limited Life\",M137498<=30, \"Unserviceable\")","v":"Serviceable"}]
[null,223180,1965,"Wood Creos Impregnated","Serviceable","Class 3",2020,100,100,5,{"$f":"INDEX(Lists!$B$32:$B$40, MATCH(2020-C137499, Lists!$C$32:$C$40,1))","v":"51-60"},{"$f":"SUMPRODUCT((Data!$B$17:$B$19=Model!$F137499)*(Data!$C$16:$K$16=Model!$K137499)*(Data!$C$17:$K$19))","v":2.73},86.35,{"$f":"_xlfn.IFS(M137499>70,\"Serviceable\",M137499>30, \"Limited Life\",M137499<=30, \"Unserviceable\")","v":"Serviceable"}]
[null,223190,1975,"Wood Untreated Round","Serviceable","Class 1",2020,100,100,5,{"$f":"INDEX(Lists!$B$32:$B$40, MATCH(2020-C137500, Lists!$C$32:$C$40,1))","v":"41-50"},{"$f":"SUMPRODUCT((Data!$B$17:$B$19=Model!$F137500)*(Data!$C$16:$K$16=Model!$K137500)*(Data!$C$17:$K$19))","v":1.75},91.25,{"$f":"_xlfn.IFS(M137500>70,\"Serviceable\",M137500>30, \"Limited Life\",M137500<=30, \"Unserviceable\")","v":"Serviceable"}]
[null,223195,1966,"Wood Creos Impregnated","Serviceable","Class 3",2020,90,90,5,{"$f":"INDEX(Lists!$B$32:$B$40, MATCH(2020-C137501, Lists!$C$32:$C$40,1))","v":"51-60"},{"$f":"SUMPRODUCT((Data!$B$17:$B$19=Model!$F137501)*(Data!$C$16:$K$16=Model!$K137501)*(Data!$C$17:$K$19))","v":2.73},76.349999999999994,{"$f":"_xlfn.IFS(M137501>70,\"Serviceable\",M137501>30, \"Limited Life\",M137501<=30, \"Unserviceable\")","v":"Serviceable"}]
[null,223229,2014,"Wood Creos Impregnated","Serviceable","Class 3",2020,80,80,5,{"$f":"INDEX(Lists!$B$32:$B$40, MATCH(2020-C137502, Lists!$C$32:$C$40,1))","v":"0-20"},{"$f":"SUMPRODUCT((Data!$B$17:$B$19=Model!$F137502)*(Data!$C$16:$K$16=Model!$K137502)*(Data!$C$17:$K$19))","v":1.37},73.150000000000006,{"$f":"_xlfn.IFS(M137502>70,\"Serviceable\",M137502>30, \"Limited Life\",M137502<=30, \"Unserviceable\")","v":"Serviceable"}]
[null,223326,1965,"Wood Creos Impregnated","Serviceable","Class 3",2016,100,89.08,9,{"$f":"INDEX(Lists!$B$32:$B$40, MATCH(2020-C137503, Lists!$C$32:$C$40,1))","v":"51-60"},{"$f":"SUMPRODUCT((Data!$B$17:$B$19=Model!$F137503)*(Data!$C$16:$K$16=Model!$K137503)*(Data!$C$17:$K$19))","v":2.73},75.430000000000007,{"$f":"_xlfn.IFS(M137503>70,\"Serviceable\",M137503>30, \"Limited Life\",M137503<=30, \"Unserviceable\")","v":"Serviceable"}]
[null,223361,1995,"Wood Creos Impregnated","Serviceable","Class 3",2020,100,100,5,{"$f":"INDEX(Lists!$B$32:$B$40, MATCH(2020-C137504, Lists!$C$32:$C$40,1))","v":"21-30"},{"$f":"SUMPRODUCT((Data!$B$17:$B$19=Model!$F137504)*(Data!$C$16:$K$16=Model!$K137504)*(Data!$C$17:$K$19))","v":1.84},90.8,{"$f":"_xlfn.IFS(M137504>70,\"Serviceable\",M137504>30, \"Limited Life\",M137504<=30, \"Unserviceable\")","v":"Serviceable"}]
[null,223384,2000,"Wood Creos Impregnated","Limited Life","Class 3",2020,70,70,5,{"$f":"INDEX(Lists!$B$32:$B$40, MATCH(2020-C137505, Lists!$C$32:$C$40,1))","v":"0-20"},{"$f":"SUMPRODUCT((Data!$B$17:$B$19=Model!$F137505)*(Data!$C$16:$K$16=Model!$K137505)*(Data!$C$17:$K$19))","v":1.37},63.15,{"$f":"_xlfn.IFS(M137505>70,\"Serviceable\",M137505>30, \"Limited Life\",M137505<=30, \"Unserviceable\")","v":"Limited Life"}]
[null,223509,2002,"Wood Untreated Dressed","Serviceable","Class 1",2020,100,100,5,{"$f":"INDEX(Lists!$B$32:$B$40, MATCH(2020-C137506, Lists!$C$32:$C$40,1))","v":"0-20"},{"$f":"SUMPRODUCT((Data!$B$17:$B$19=Model!$F137506)*(Data!$C$16:$K$16=Model!$K137506)*(Data!$C$17:$K$19))","v":1.06},94.7,{"$f":"_xlfn.IFS(M137506>70,\"Serviceable\",M137506>30, \"Limited Life\",M137506<=30, \"Unserviceable\")","v":"Serviceable"}]
[null,223599,2001,"Wood Creos Impregnated","Serviceable","Class 3",2020,100,100,5,{"$f":"INDEX(Lists!$B$32:$B$40, MATCH(2020-C137507, Lists!$C$32:$C$40,1))","v":"0-20"},{"$f":"SUMPRODUCT((Data!$B$17:$B$19=Model!$F137507)*(Data!$C$16:$K$16=Model!$K137507)*(Data!$C$17:$K$19))","v":1.37},93.15,{"$f":"_xlfn.IFS(M137507>70,\"Serviceable\",M137507>30, \"Limited Life\",M137507<=30, \"Unserviceable\")","v":"Serviceable"}]
[null,223675,2001,"Wood Untreated Dressed","Serviceable","Class 1",2020,100,100,5,{"$f":"INDEX(Lists!$B$32:$B$40, MATCH(2020-C137508, Lists!$C$32:$C$40,1))","v":"0-20"},{"$f":"SUMPRODUCT((Data!$B$17:$B$19=Model!$F137508)*(Data!$C$16:$K$16=Model!$K137508)*(Data!$C$17:$K$19))","v":1.06},94.7,{"$f":"_xlfn.IFS(M137508>70,\"Serviceable\",M137508>30, \"Limited Life\",M137508<=30, \"Unserviceable\")","v":"Serviceable"}]
[null,223764,1959,"Wood Creos Impregnated","Serviceable","Class 3",2020,171.56902865306319,171.56902865306319,5,{"$f":"INDEX(Lists!$B$32:$B$40, MATCH(2020-C137509, Lists!$C$32:$C$40,1))","v":"61-70"},{"$f":"SUMPRODUCT((Data!$B$17:$B$19=Model!$F137509)*(Data!$C$16:$K$16=Model!$K137509)*(Data!$C$17:$K$19))","v":2.02},161.46902865306319,{"$f":"_xlfn.IFS(M137509>70,\"Serviceable\",M137509>30, \"Limited Life\",M137509<=30, \"Unserviceable\")","v":"Serviceable"}]
[null,223831,2001,"Wood Creos Impregnated","Serviceable","Class 3",2020,90,90,5,{"$f":"INDEX(Lists!$B$32:$B$40, MATCH(2020-C137510, Lists!$C$32:$C$40,1))","v":"0-20"},{"$f":"SUMPRODUCT((Data!$B$17:$B$19=Model!$F137510)*(Data!$C$16:$K$16=Model!$K137510)*(Data!$C$17:$K$19))","v":1.37},83.15,{"$f":"_xlfn.IFS(M137510>70,\"Serviceable\",M137510>30, \"Limited Life\",M137510<=30, \"Unserviceable\")","v":"Serviceable"}]
[null,223835,2001,"Wood Creos Impregnated","Serviceable","Class 3",2020,90,90,5,{"$f":"INDEX(Lists!$B$32:$B$40, MATCH(2020-C137511, Lists!$C$32:$C$40,1))","v":"0-20"},{"$f":"SUMPRODUCT((Data!$B$17:$B$19=Model!$F137511)*(Data!$C$16:$K$16=Model!$K137511)*(Data!$C$17:$K$19))","v":1.37},83.15,{"$f":"_xlfn.IFS(M137511>70,\"Serviceable\",M137511>30, \"Limited Life\",M137511<=30, \"Unserviceable\")","v":"Serviceable"}]
[null,223868,1981,"Wood Untreated Dressed","Serviceable","Class 1",2020,100,100,5,{"$f":"INDEX(Lists!$B$32:$B$40, MATCH(2020-C137512, Lists!$C$32:$C$40,1))","v":"31-40"},{"$f":"SUMPRODUCT((Data!$B$17:$B$19=Model!$F137512)*(Data!$C$16:$K$16=Model!$K137512)*(Data!$C$17:$K$19))","v":2.52},87.4,{"$f":"_xlfn.IFS(M137512>70,\"Serviceable\",M137512>30, \"Limited Life\",M137512<=30, \"Unserviceable\")","v":"Serviceable"}]
[null,223871,2012,"Wood Creos Impregnated","Serviceable","Class 3",2020,100,100,5,{"$f":"INDEX(Lists!$B$32:$B$40, MATCH(2020-C137513, Lists!$C$32:$C$40,1))","v":"0-20"},{"$f":"SUMPRODUCT((Data!$B$17:$B$19=Model!$F137513)*(Data!$C$16:$K$16=Model!$K137513)*(Data!$C$17:$K$19))","v":1.37},93.15,{"$f":"_xlfn.IFS(M137513>70,\"Serviceable\",M137513>30, \"Limited Life\",M137513<=30, \"Unserviceable\")","v":"Serviceable"}]
[null,223878,2006,"Wood Creos Impregnated","Serviceable","Class 3",2020,100,100,5,{"$f":"INDEX(Lists!$B$32:$B$40, MATCH(2020-C137514, Lists!$C$32:$C$40,1))","v":"0-20"},{"$f":"SUMPRODUCT((Data!$B$17:$B$19=Model!$F137514)*(Data!$C$16:$K$16=Model!$K137514)*(Data!$C$17:$K$19))","v":1.37},93.15,{"$f":"_xlfn.IFS(M137514>70,\"Serviceable\",M137514>30, \"Limited Life\",M137514<=30, \"Unserviceable\")","v":"Serviceable"}]
[null,223881,2012,"Wood Creos Impregnated","Serviceable","Class 3",2020,100,100,5,{"$f":"INDEX(Lists!$B$32:$B$40, MATCH(2020-C137515, Lists!$C$32:$C$40,1))","v":"0-20"},{"$f":"SUMPRODUCT((Data!$B$17:$B$19=Model!$F137515)*(Data!$C$16:$K$16=Model!$K137515)*(Data!$C$17:$K$19))","v":1.37},93.15,{"$f":"_xlfn.IFS(M137515>70,\"Serviceable\",M137515>30, \"Limited Life\",M137515<=30, \"Unserviceable\")","v":"Serviceable"}]
[null,223959,1976,"Wood Untreated Dressed","Serviceable","Class 1",2020,90,90,5,{"$f":"INDEX(Lists!$B$32:$B$40, MATCH(2020-C137516, Lists!$C$32:$C$40,1))","v":"41-50"},{"$f":"SUMPRODUCT((Data!$B$17:$B$19=Model!$F137516)*(Data!$C$16:$K$16=Model!$K137516)*(Data!$C$17:$K$19))","v":1.75},81.25,{"$f":"_xlfn.IFS(M137516>70,\"Serviceable\",M137516>30, \"Limited Life\",M137516<=30, \"Unserviceable\")","v":"Serviceable"}]
[null,223961,2011,"Wood Creos Impregnated","Serviceable","Class 3",2020,90,90,5,{"$f":"INDEX(Lists!$B$32:$B$40, MATCH(2020-C137517, Lists!$C$32:$C$40,1))","v":"0-20"},{"$f":"SUMPRODUCT((Data!$B$17:$B$19=Model!$F137517)*(Data!$C$16:$K$16=Model!$K137517)*(Data!$C$17:$K$19))","v":1.37},83.15,{"$f":"_xlfn.IFS(M137517>70,\"Serviceable\",M137517>30, \"Limited Life\",M137517<=30, \"Unserviceable\")","v":"Serviceable"}]
[null,224284,2001,"Wood Untreated Dressed","Serviceable","Class 1",2020,100,100,5,{"$f":"INDEX(Lists!$B$32:$B$40, MATCH(2020-C137518, Lists!$C$32:$C$40,1))","v":"0-20"},{"$f":"SUMPRODUCT((Data!$B$17:$B$19=Model!$F137518)*(Data!$C$16:$K$16=Model!$K137518)*(Data!$C$17:$K$19))","v":1.06},94.7,{"$f":"_xlfn.IFS(M137518>70,\"Serviceable\",M137518>30, \"Limited Life\",M137518<=30, \"Unserviceable\")","v":"Serviceable"}]
[null,224468,2006,"Wood Creos Impregnated","Serviceable","Class 2",2015,80,73.900000000000006,10,{"$f":"INDEX(Lists!$B$32:$B$40, MATCH(2020-C137519, Lists!$C$32:$C$40,1))","v":"0-20"},{"$f":"SUMPRODUCT((Data!$B$17:$B$19=Model!$F137519)*(Data!$C$16:$K$16=Model!$K137519)*(Data!$C$17:$K$19))","v":1.22},67.8,{"$f":"_xlfn.IFS(M137519>70,\"Serviceable\",M137519>30, \"Limited Life\",M137519<=30, \"Unserviceable\")","v":"Limited Life"}]
[null,224469,2001,"Wood Creos Impregnated","Serviceable","Class 3",2015,100,93.15,10,{"$f":"INDEX(Lists!$B$32:$B$40, MATCH(2020-C137520, Lists!$C$32:$C$40,1))","v":"0-20"},{"$f":"SUMPRODUCT((Data!$B$17:$B$19=Model!$F137520)*(Data!$C$16:$K$16=Model!$K137520)*(Data!$C$17:$K$19))","v":1.37},86.3,{"$f":"_xlfn.IFS(M137520>70,\"Serviceable\",M137520>30, \"Limited Life\",M137520<=30, \"Unserviceable\")","v":"Serviceable"}]
[null,224491,2012,"Wood Creos Impregnated","Serviceable","Class 3",2017,100,95.89,8,{"$f":"INDEX(Lists!$B$32:$B$40, MATCH(2020-C137521, Lists!$C$32:$C$40,1))","v":"0-20"},{"$f":"SUMPRODUCT((Data!$B$17:$B$19=Model!$F137521)*(Data!$C$16:$K$16=Model!$K137521)*(Data!$C$17:$K$19))","v":1.37},89.039999999999992,{"$f":"_xlfn.IFS(M137521>70,\"Serviceable\",M137521>30, \"Limited Life\",M137521<=30, \"Unserviceable\")","v":"Serviceable"}]
[null,224512,2012,"Wood Creos Impregnated","Serviceable","Class 3",2015,100,93.15,10,{"$f":"INDEX(Lists!$B$32:$B$40, MATCH(2020-C137522, Lists!$C$32:$C$40,1))","v":"0-20"},{"$f":"SUMPRODUCT((Data!$B$17:$B$19=Model!$F137522)*(Data!$C$16:$K$16=Model!$K137522)*(Data!$C$17:$K$19))","v":1.37},86.3,{"$f":"_xlfn.IFS(M137522>70,\"Serviceable\",M137522>30, \"Limited Life\",M137522<=30, \"Unserviceable\")","v":"Serviceable"}]
[null,224513,2001,"Wood Creos Impregnated","Serviceable","Class 3",2015,100,93.15,10,{"$f":"INDEX(Lists!$B$32:$B$40, MATCH(2020-C137523, Lists!$C$32:$C$40,1))","v":"0-20"},{"$f":"SUMPRODUCT((Data!$B$17:$B$19=Model!$F137523)*(Data!$C$16:$K$16=Model!$K137523)*(Data!$C$17:$K$19))","v":1.37},86.3,{"$f":"_xlfn.IFS(M137523>70,\"Serviceable\",M137523>30, \"Limited Life\",M137523<=30, \"Unserviceable\")","v":"Serviceable"}]
[null,224642,2012,"Wood Untreated Dressed","Serviceable","Class 1",2020,90,90,5,{"$f":"INDEX(Lists!$B$32:$B$40, MATCH(2020-C137524, Lists!$C$32:$C$40,1))","v":"0-20"},{"$f":"SUMPRODUCT((Data!$B$17:$B$19=Model!$F137524)*(Data!$C$16:$K$16=Model!$K137524)*(Data!$C$17:$K$19))","v":1.06},84.7,{"$f":"_xlfn.IFS(M137524>70,\"Serviceable\",M137524>30, \"Limited Life\",M137524<=30, \"Unserviceable\")","v":"Serviceable"}]
[null,224650,2012,"Wood Creos Impregnated","Serviceable","Class 3",2020,100,100,5,{"$f":"INDEX(Lists!$B$32:$B$40, MATCH(2020-C137525, Lists!$C$32:$C$40,1))","v":"0-20"},{"$f":"SUMPRODUCT((Data!$B$17:$B$19=Model!$F137525)*(Data!$C$16:$K$16=Model!$K137525)*(Data!$C$17:$K$19))","v":1.37},93.15,{"$f":"_xlfn.IFS(M137525>70,\"Serviceable\",M137525>30, \"Limited Life\",M137525<=30, \"Unserviceable\")","v":"Serviceable"}]
[null,225235,2001,"Wood Untreated Dressed","Serviceable","Class 1",2020,110,110,5,{"$f":"INDEX(Lists!$B$32:$B$40, MATCH(2020-C137526, Lists!$C$32:$C$40,1))","v":"0-20"},{"$f":"SUMPRODUCT((Data!$B$17:$B$19=Model!$F137526)*(Data!$C$16:$K$16=Model!$K137526)*(Data!$C$17:$K$19))","v":1.06},104.7,{"$f":"_xlfn.IFS(M137526>70,\"Serviceable\",M137526>30, \"Limited Life\",M137526<=30, \"Unserviceable\")","v":"Serviceable"}]
[null,225240,2007,"Wood Creos Impregnated","Limited Life","Class 2",2020,70,70,5,{"$f":"INDEX(Lists!$B$32:$B$40, MATCH(2020-C137527, Lists!$C$32:$C$40,1))","v":"0-20"},{"$f":"SUMPRODUCT((Data!$B$17:$B$19=Model!$F137527)*(Data!$C$16:$K$16=Model!$K137527)*(Data!$C$17:$K$19))","v":1.22},63.9,{"$f":"_xlfn.IFS(M137527>70,\"Serviceable\",M137527>30, \"Limited Life\",M137527<=30, \"Unserviceable\")","v":"Limited Life"}]
[null,225241,1961,"Wood Creos Impregnated","Serviceable","Class 3",2020,100,100,5,{"$f":"INDEX(Lists!$B$32:$B$40, MATCH(2020-C137528, Lists!$C$32:$C$40,1))","v":"51-60"},{"$f":"SUMPRODUCT((Data!$B$17:$B$19=Model!$F137528)*(Data!$C$16:$K$16=Model!$K137528)*(Data!$C$17:$K$19))","v":2.73},86.35,{"$f":"_xlfn.IFS(M137528>70,\"Serviceable\",M137528>30, \"Limited Life\",M137528<=30, \"Unserviceable\")","v":"Serviceable"}]
[null,225317,2001,"Wood Salt Impregnated (Green)","Serviceable","Class 3",2020,100,100,5,{"$f":"INDEX(Lists!$B$32:$B$40, MATCH(2020-C137529, Lists!$C$32:$C$40,1))","v":"0-20"},{"$f":"SUMPRODUCT((Data!$B$17:$B$19=Model!$F137529)*(Data!$C$16:$K$16=Model!$K137529)*(Data!$C$17:$K$19))","v":1.37},93.15,{"$f":"_xlfn.IFS(M137529>70,\"Serviceable\",M137529>30, \"Limited Life\",M137529<=30, \"Unserviceable\")","v":"Serviceable"}]
[null,225580,2011,"Wood Untreated Round","Serviceable","Class 1",2020,80,80,5,{"$f":"INDEX(Lists!$B$32:$B$40, MATCH(2020-C137530, Lists!$C$32:$C$40,1))","v":"0-20"},{"$f":"SUMPRODUCT((Data!$B$17:$B$19=Model!$F137530)*(Data!$C$16:$K$16=Model!$K137530)*(Data!$C$17:$K$19))","v":1.06},74.7,{"$f":"_xlfn.IFS(M137530>70,\"Serviceable\",M137530>30, \"Limited Life\",M137530<=30, \"Unserviceable\")","v":"Serviceable"}]
[null,226618,2001,"Wood Creos Impregnated","Serviceable","Class 3",2016,90,84.52,9,{"$f":"INDEX(Lists!$B$32:$B$40, MATCH(2020-C137531, Lists!$C$32:$C$40,1))","v":"0-20"},{"$f":"SUMPRODUCT((Data!$B$17:$B$19=Model!$F137531)*(Data!$C$16:$K$16=Model!$K137531)*(Data!$C$17:$K$19))","v":1.37},77.67,{"$f":"_xlfn.IFS(M137531>70,\"Serviceable\",M137531>30, \"Limited Life\",M137531<=30, \"Unserviceable\")","v":"Serviceable"}]
[null,227438,2011,"Wood Untreated Dressed","Serviceable","Class 1",2018,100,97.88,7,{"$f":"INDEX(Lists!$B$32:$B$40, MATCH(2020-C137532, Lists!$C$32:$C$40,1))","v":"0-20"},{"$f":"SUMPRODUCT((Data!$B$17:$B$19=Model!$F137532)*(Data!$C$16:$K$16=Model!$K137532)*(Data!$C$17:$K$19))","v":1.06},92.58,{"$f":"_xlfn.IFS(M137532>70,\"Serviceable\",M137532>30, \"Limited Life\",M137532<=30, \"Unserviceable\")","v":"Serviceable"}]
[null,228418,2002,"Wood Creos Impregnated","Serviceable","Class 3",2020,100,100,5,{"$f":"INDEX(Lists!$B$32:$B$40, MATCH(2020-C137533, Lists!$C$32:$C$40,1))","v":"0-20"},{"$f":"SUMPRODUCT((Data!$B$17:$B$19=Model!$F137533)*(Data!$C$16:$K$16=Model!$K137533)*(Data!$C$17:$K$19))","v":1.37},93.15,{"$f":"_xlfn.IFS(M137533>70,\"Serviceable\",M137533>30, \"Limited Life\",M137533<=30, \"Unserviceable\")","v":"Serviceable"}]
[null,228446,2013,"Wood Creos Impregnated","Serviceable","Class 3",2018,100,97.26,7,{"$f":"INDEX(Lists!$B$32:$B$40, MATCH(2020-C137534, Lists!$C$32:$C$40,1))","v":"0-20"},{"$f":"SUMPRODUCT((Data!$B$17:$B$19=Model!$F137534)*(Data!$C$16:$K$16=Model!$K137534)*(Data!$C$17:$K$19))","v":1.37},90.41,{"$f":"_xlfn.IFS(M137534>70,\"Serviceable\",M137534>30, \"Limited Life\",M137534<=30, \"Unserviceable\")","v":"Serviceable"}]
[null,228543,2006,"Wood Untreated Dressed","Serviceable","Class 1",2015,100,94.7,10,{"$f":"INDEX(Lists!$B$32:$B$40, MATCH(2020-C137535, Lists!$C$32:$C$40,1))","v":"0-20"},{"$f":"SUMPRODUCT((Data!$B$17:$B$19=Model!$F137535)*(Data!$C$16:$K$16=Model!$K137535)*(Data!$C$17:$K$19))","v":1.06},89.4,{"$f":"_xlfn.IFS(M137535>70,\"Serviceable\",M137535>30, \"Limited Life\",M137535<=30, \"Unserviceable\")","v":"Serviceable"}]
[null,229118,2010,"Wood Untreated Dressed","Serviceable","Class 3",2020,100,100,5,{"$f":"INDEX(Lists!$B$32:$B$40, MATCH(2020-C137536, Lists!$C$32:$C$40,1))","v":"0-20"},{"$f":"SUMPRODUCT((Data!$B$17:$B$19=Model!$F137536)*(Data!$C$16:$K$16=Model!$K137536)*(Data!$C$17:$K$19))","v":1.37},93.15,{"$f":"_xlfn.IFS(M137536>70,\"Serviceable\",M137536>30, \"Limited Life\",M137536<=30, \"Unserviceable\")","v":"Serviceable"}]
[null,229273,2012,"Wood Creos Impregnated","Serviceable","Class 3",2017,100,95.89,8,{"$f":"INDEX(Lists!$B$32:$B$40, MATCH(2020-C137537, Lists!$C$32:$C$40,1))","v":"0-20"},{"$f":"SUMPRODUCT((Data!$B$17:$B$19=Model!$F137537)*(Data!$C$16:$K$16=Model!$K137537)*(Data!$C$17:$K$19))","v":1.37},89.039999999999992,{"$f":"_xlfn.IFS(M137537>70,\"Serviceable\",M137537>30, \"Limited Life\",M137537<=30, \"Unserviceable\")","v":"Serviceable"}]
[null,229306,1954,"Wood Untreated Round","Serviceable","Class 2",2017,90,83.31,8,{"$f":"INDEX(Lists!$B$32:$B$40, MATCH(2020-C137538, Lists!$C$32:$C$40,1))","v":"61-70"},{"$f":"SUMPRODUCT((Data!$B$17:$B$19=Model!$F137538)*(Data!$C$16:$K$16=Model!$K137538)*(Data!$C$17:$K$19))","v":2.23},72.16,{"$f":"_xlfn.IFS(M137538>70,\"Serviceable\",M137538>30, \"Limited Life\",M137538<=30, \"Unserviceable\")","v":"Serviceable"}]
[null,229750,2003,"CCA Treated Pole","Serviceable","Class 1",2017,100,96.82,8,{"$f":"INDEX(Lists!$B$32:$B$40, MATCH(2020-C137539, Lists!$C$32:$C$40,1))","v":"0-20"},{"$f":"SUMPRODUCT((Data!$B$17:$B$19=Model!$F137539)*(Data!$C$16:$K$16=Model!$K137539)*(Data!$C$17:$K$19))","v":1.06},91.52,{"$f":"_xlfn.IFS(M137539>70,\"Serviceable\",M137539>30, \"Limited Life\",M137539<=30, \"Unserviceable\")","v":"Serviceable"}]
[null,229776,2002,"Wood Creos Impregnated","Serviceable","Class 3",2017,100,95.89,8,{"$f":"INDEX(Lists!$B$32:$B$40, MATCH(2020-C137540, Lists!$C$32:$C$40,1))","v":"0-20"},{"$f":"SUMPRODUCT((Data!$B$17:$B$19=Model!$F137540)*(Data!$C$16:$K$16=Model!$K137540)*(Data!$C$17:$K$19))","v":1.37},89.039999999999992,{"$f":"_xlfn.IFS(M137540>70,\"Serviceable\",M137540>30, \"Limited Life\",M137540<=30, \"Unserviceable\")","v":"Serviceable"}]
[null,229921,1976,"Wood Untreated Dressed","Serviceable","Class 1",2017,150,144.75,8,{"$f":"INDEX(Lists!$B$32:$B$40, MATCH(2020-C137541, Lists!$C$32:$C$40,1))","v":"41-50"},{"$f":"SUMPRODUCT((Data!$B$17:$B$19=Model!$F137541)*(Data!$C$16:$K$16=Model!$K137541)*(Data!$C$17:$K$19))","v":1.75},136,{"$f":"_xlfn.IFS(M137541>70,\"Serviceable\",M137541>30, \"Limited Life\",M137541<=30, \"Unserviceable\")","v":"Serviceable"}]
[null,230437,1963,"Wood Creos Impregnated","Serviceable","Class 2",2017,100,92.29,8,{"$f":"INDEX(Lists!$B$32:$B$40, MATCH(2020-C137542, Lists!$C$32:$C$40,1))","v":"51-60"},{"$f":"SUMPRODUCT((Data!$B$17:$B$19=Model!$F137542)*(Data!$C$16:$K$16=Model!$K137542)*(Data!$C$17:$K$19))","v":2.57},79.44,{"$f":"_xlfn.IFS(M137542>70,\"Serviceable\",M137542>30, \"Limited Life\",M137542<=30, \"Unserviceable\")","v":"Serviceable"}]
[null,230487,1998,"CCA Treated Pole","Serviceable","Class 1",2020,166.31691553103065,166.31691553103065,5,{"$f":"INDEX(Lists!$B$32:$B$40, MATCH(2020-C137543, Lists!$C$32:$C$40,1))","v":"21-30"},{"$f":"SUMPRODUCT((Data!$B$17:$B$19=Model!$F137543)*(Data!$C$16:$K$16=Model!$K137543)*(Data!$C$17:$K$19))","v":1.96},156.51691553103063,{"$f":"_xlfn.IFS(M137543>70,\"Serviceable\",M137543>30, \"Limited Life\",M137543<=30, \"Unserviceable\")","v":"Serviceable"}]
[null,230785,2014,"Wood Untreated Dressed","Serviceable","Class 1",2019,100,98.94,{"$f":"2025-G137544","v":6},{"$f":"INDEX(Lists!$B$32:$B$40, MATCH(2020-C137544, Lists!$C$32:$C$40,1))","v":"0-20"},{"$f":"SUMPRODUCT((Data!$B$17:$B$19=Model!$F137544)*(Data!$C$16:$K$16=Model!$K137544)*(Data!$C$17:$K$19))","v":1.06},{"$f":"IF(IF(H137544>=700,999,(H137544-L137544*J137544))<0,0,IF(H137544>=700,999,(H137544-L137544*J137544)))","v":93.64},{"$f":"_xlfn.IFS(M137544>70,\"Serviceable\",M137544>30, \"Limited Life\",M137544<=30, \"Unserviceable\")","v":"Serviceable"}]
[null,231182,1966,"Wood Creos Impregnated","Serviceable","Class 3",2018,100,94.54,7,{"$f":"INDEX(Lists!$B$32:$B$40, MATCH(2020-C137545, Lists!$C$32:$C$40,1))","v":"51-60"},{"$f":"SUMPRODUCT((Data!$B$17:$B$19=Model!$F137545)*(Data!$C$16:$K$16=Model!$K137545)*(Data!$C$17:$K$19))","v":2.73},80.89,{"$f":"_xlfn.IFS(M137545>70,\"Serviceable\",M137545>30, \"Limited Life\",M137545<=30, \"Unserviceable\")","v":"Serviceable"}]
[null,231284,2014,"Wood Creos Impregnated","Serviceable","Class 3",2018,80,77.260000000000005,7,{"$f":"INDEX(Lists!$B$32:$B$40, MATCH(2020-C137546, Lists!$C$32:$C$40,1))","v":"0-20"},{"$f":"SUMPRODUCT((Data!$B$17:$B$19=Model!$F137546)*(Data!$C$16:$K$16=Model!$K137546)*(Data!$C$17:$K$19))","v":1.37},70.41,{"$f":"_xlfn.IFS(M137546>70,\"Serviceable\",M137546>30, \"Limited Life\",M137546<=30, \"Unserviceable\")","v":"Serviceable"}]
[null,231660,2004,"Wood Creos Impregnated","Serviceable","Class 3",2018,100,97.26,7,{"$f":"INDEX(Lists!$B$32:$B$40, MATCH(2020-C137547, Lists!$C$32:$C$40,1))","v":"0-20"},{"$f":"SUMPRODUCT((Data!$B$17:$B$19=Model!$F137547)*(Data!$C$16:$K$16=Model!$K137547)*(Data!$C$17:$K$19))","v":1.37},90.41,{"$f":"_xlfn.IFS(M137547>70,\"Serviceable\",M137547>30, \"Limited Life\",M137547<=30, \"Unserviceable\")","v":"Serviceable"}]
[null,235338,1932,"Wood Untreated Round","Serviceable","Class 1",2020,100,100,5,{"$f":"INDEX(Lists!$B$32:$B$40, MATCH(2020-C137548, Lists!$C$32:$C$40,1))","v":"81-90"},{"$f":"SUMPRODUCT((Data!$B$17:$B$19=Model!$F137548)*(Data!$C$16:$K$16=Model!$K137548)*(Data!$C$17:$K$19))","v":2.81},85.95,{"$f":"_xlfn.IFS(M137548>70,\"Serviceable\",M137548>30, \"Limited Life\",M137548<=30, \"Unserviceable\")","v":"Serviceable"}]
[null,236617,1966,"Wood Creos Impregnated","Serviceable","Class 3",2019,120,117.27,6,{"$f":"INDEX(Lists!$B$32:$B$40, MATCH(2020-C137549, Lists!$C$32:$C$40,1))","v":"51-60"},{"$f":"SUMPRODUCT((Data!$B$17:$B$19=Model!$F137549)*(Data!$C$16:$K$16=Model!$K137549)*(Data!$C$17:$K$19))","v":2.73},103.62,{"$f":"_xlfn.IFS(M137549>70,\"Serviceable\",M137549>30, \"Limited Life\",M137549<=30, \"Unserviceable\")","v":"Serviceable"}]
[null,236735,2011,"Wood Untreated Round","Serviceable","Class 3",2016,100,94.52,9,{"$f":"INDEX(Lists!$B$32:$B$40, MATCH(2020-C137550, Lists!$C$32:$C$40,1))","v":"0-20"},{"$f":"SUMPRODUCT((Data!$B$17:$B$19=Model!$F137550)*(Data!$C$16:$K$16=Model!$K137550)*(Data!$C$17:$K$19))","v":1.37},87.67,{"$f":"_xlfn.IFS(M137550>70,\"Serviceable\",M137550>30, \"Limited Life\",M137550<=30, \"Unserviceable\")","v":"Serviceable"}]
[null,237487,2007,"Wood Creos Impregnated","Serviceable","Class 3",2018,100,97.26,7,{"$f":"INDEX(Lists!$B$32:$B$40, MATCH(2020-C137551, Lists!$C$32:$C$40,1))","v":"0-20"},{"$f":"SUMPRODUCT((Data!$B$17:$B$19=Model!$F137551)*(Data!$C$16:$K$16=Model!$K137551)*(Data!$C$17:$K$19))","v":1.37},90.41,{"$f":"_xlfn.IFS(M137551>70,\"Serviceable\",M137551>30, \"Limited Life\",M137551<=30, \"Unserviceable\")","v":"Serviceable"}]
[null,237664,2011,"Wood Creos Impregnated","Serviceable","Class 3",2015,100,93.15,10,{"$f":"INDEX(Lists!$B$32:$B$40, MATCH(2020-C137552, Lists!$C$32:$C$40,1))","v":"0-20"},{"$f":"SUMPRODUCT((Data!$B$17:$B$19=Model!$F137552)*(Data!$C$16:$K$16=Model!$K137552)*(Data!$C$17:$K$19))","v":1.37},86.3,{"$f":"_xlfn.IFS(M137552>70,\"Serviceable\",M137552>30, \"Limited Life\",M137552<=30, \"Unserviceable\")","v":"Serviceable"}]
[null,238367,2011,"Wood Creos Impregnated","Serviceable","Class 3",2020,100,100,5,{"$f":"INDEX(Lists!$B$32:$B$40, MATCH(2020-C137553, Lists!$C$32:$C$40,1))","v":"0-20"},{"$f":"SUMPRODUCT((Data!$B$17:$B$19=Model!$F137553)*(Data!$C$16:$K$16=Model!$K137553)*(Data!$C$17:$K$19))","v":1.37},93.15,{"$f":"_xlfn.IFS(M137553>70,\"Serviceable\",M137553>30, \"Limited Life\",M137553<=30, \"Unserviceable\")","v":"Serviceable"}]
[null,238553,2013,"Wood Creos Impregnated","Serviceable","Class 3",2018,100,97.26,7,{"$f":"INDEX(Lists!$B$32:$B$40, MATCH(2020-C137554, Lists!$C$32:$C$40,1))","v":"0-20"},{"$f":"SUMPRODUCT((Data!$B$17:$B$19=Model!$F137554)*(Data!$C$16:$K$16=Model!$K137554)*(Data!$C$17:$K$19))","v":1.37},90.41,{"$f":"_xlfn.IFS(M137554>70,\"Serviceable\",M137554>30, \"Limited Life\",M137554<=30, \"Unserviceable\")","v":"Serviceable"}]
[null,238653,2007,"Wood Creos Impregnated","Serviceable","Class 3",2018,100,97.26,7,{"$f":"INDEX(Lists!$B$32:$B$40, MATCH(2020-C137555, Lists!$C$32:$C$40,1))","v":"0-20"},{"$f":"SUMPRODUCT((Data!$B$17:$B$19=Model!$F137555)*(Data!$C$16:$K$16=Model!$K137555)*(Data!$C$17:$K$19))","v":1.37},90.41,{"$f":"_xlfn.IFS(M137555>70,\"Serviceable\",M137555>30, \"Limited Life\",M137555<=30, \"Unserviceable\")","v":"Serviceable"}]
[null,238843,2014,"Wood Untreated Round","Serviceable","Class 2",2018,100,97.56,7,{"$f":"INDEX(Lists!$B$32:$B$40, MATCH(2020-C137556, Lists!$C$32:$C$40,1))","v":"0-20"},{"$f":"SUMPRODUCT((Data!$B$17:$B$19=Model!$F137556)*(Data!$C$16:$K$16=Model!$K137556)*(Data!$C$17:$K$19))","v":1.22},91.460000000000008,{"$f":"_xlfn.IFS(M137556>70,\"Serviceable\",M137556>30, \"Limited Life\",M137556<=30, \"Unserviceable\")","v":"Serviceable"}]
[null,239445,2009,"Wood Creos Impregnated","Limited Life","Class 3",2018,70,67.260000000000005,7,{"$f":"INDEX(Lists!$B$32:$B$40, MATCH(2020-C137557, Lists!$C$32:$C$40,1))","v":"0-20"},{"$f":"SUMPRODUCT((Data!$B$17:$B$19=Model!$F137557)*(Data!$C$16:$K$16=Model!$K137557)*(Data!$C$17:$K$19))","v":1.37},60.41,{"$f":"_xlfn.IFS(M137557>70,\"Serviceable\",M137557>30, \"Limited Life\",M137557<=30, \"Unserviceable\")","v":"Limited Life"}]
[null,239768,2007,"Wood Creos Impregnated","Serviceable","Class 3",2016,100,94.52,9,{"$f":"INDEX(Lists!$B$32:$B$40, MATCH(2020-C137558, Lists!$C$32:$C$40,1))","v":"0-20"},{"$f":"SUMPRODUCT((Data!$B$17:$B$19=Model!$F137558)*(Data!$C$16:$K$16=Model!$K137558)*(Data!$C$17:$K$19))","v":1.37},87.67,{"$f":"_xlfn.IFS(M137558>70,\"Serviceable\",M137558>30, \"Limited Life\",M137558<=30, \"Unserviceable\")","v":"Serviceable"}]
[null,240212,2009,"Wood Untreated Round","Serviceable","Class 3",2020,100,100,5,{"$f":"INDEX(Lists!$B$32:$B$40, MATCH(2020-C137559, Lists!$C$32:$C$40,1))","v":"0-20"},{"$f":"SUMPRODUCT((Data!$B$17:$B$19=Model!$F137559)*(Data!$C$16:$K$16=Model!$K137559)*(Data!$C$17:$K$19))","v":1.37},93.15,{"$f":"_xlfn.IFS(M137559>70,\"Serviceable\",M137559>30, \"Limited Life\",M137559<=30, \"Unserviceable\")","v":"Serviceable"}]
[null,241005,2007,"Wood Untreated Dressed","Serviceable","Class 1",2017,100,96.82,8,{"$f":"INDEX(Lists!$B$32:$B$40, MATCH(2020-C137560, Lists!$C$32:$C$40,1))","v":"0-20"},{"$f":"SUMPRODUCT((Data!$B$17:$B$19=Model!$F137560)*(Data!$C$16:$K$16=Model!$K137560)*(Data!$C$17:$K$19))","v":1.06},91.52,{"$f":"_xlfn.IFS(M137560>70,\"Serviceable\",M137560>30, \"Limited Life\",M137560<=30, \"Unserviceable\")","v":"Serviceable"}]
[null,241459,2014,"CCA Treated Pole","Serviceable","Class 1",2017,166.31691553103065,163.13691553103064,8,{"$f":"INDEX(Lists!$B$32:$B$40, MATCH(2020-C137561, Lists!$C$32:$C$40,1))","v":"0-20"},{"$f":"SUMPRODUCT((Data!$B$17:$B$19=Model!$F137561)*(Data!$C$16:$K$16=Model!$K137561)*(Data!$C$17:$K$19))","v":1.06},157.83691553103066,{"$f":"_xlfn.IFS(M137561>70,\"Serviceable\",M137561>30, \"Limited Life\",M137561<=30, \"Unserviceable\")","v":"Serviceable"}]
[null,241598,2014,"CCA Treated Pole","Serviceable","Class 2",2017,162.49719689682513,158.83719689682513,8,{"$f":"INDEX(Lists!$B$32:$B$40, MATCH(2020-C137562, Lists!$C$32:$C$40,1))","v":"0-20"},{"$f":"SUMPRODUCT((Data!$B$17:$B$19=Model!$F137562)*(Data!$C$16:$K$16=Model!$K137562)*(Data!$C$17:$K$19))","v":1.22},152.73719689682514,{"$f":"_xlfn.IFS(M137562>70,\"Serviceable\",M137562>30, \"Limited Life\",M137562<=30, \"Unserviceable\")","v":"Serviceable"}]
[null,242341,1967,"Wood Creos Impregnated","Serviceable","Class 3",2019,100,97.27,6,{"$f":"INDEX(Lists!$B$32:$B$40, MATCH(2020-C137563, Lists!$C$32:$C$40,1))","v":"51-60"},{"$f":"SUMPRODUCT((Data!$B$17:$B$19=Model!$F137563)*(Data!$C$16:$K$16=Model!$K137563)*(Data!$C$17:$K$19))","v":2.73},83.62,{"$f":"_xlfn.IFS(M137563>70,\"Serviceable\",M137563>30, \"Limited Life\",M137563<=30, \"Unserviceable\")","v":"Serviceable"}]
[null,242825,1966,"Wood Creos Impregnated","Serviceable","Class 3",2020,90,90,5,{"$f":"INDEX(Lists!$B$32:$B$40, MATCH(2020-C137564, Lists!$C$32:$C$40,1))","v":"51-60"},{"$f":"SUMPRODUCT((Data!$B$17:$B$19=Model!$F137564)*(Data!$C$16:$K$16=Model!$K137564)*(Data!$C$17:$K$19))","v":2.73},76.349999999999994,{"$f":"_xlfn.IFS(M137564>70,\"Serviceable\",M137564>30, \"Limited Life\",M137564<=30, \"Unserviceable\")","v":"Serviceable"}]
[null,243479,2011,"Wood Creos Impregnated","Serviceable","Class 3",2016,100,94.52,9,{"$f":"INDEX(Lists!$B$32:$B$40, MATCH(2020-C137565, Lists!$C$32:$C$40,1))","v":"0-20"},{"$f":"SUMPRODUCT((Data!$B$17:$B$19=Model!$F137565)*(Data!$C$16:$K$16=Model!$K137565)*(Data!$C$17:$K$19))","v":1.37},87.67,{"$f":"_xlfn.IFS(M137565>70,\"Serviceable\",M137565>30, \"Limited Life\",M137565<=30, \"Unserviceable\")","v":"Serviceable"}]
[null,244125,1960,"Wood Creos Impregnated","Serviceable","Class 3",2017,100,91.81,8,{"$f":"INDEX(Lists!$B$32:$B$40, MATCH(2020-C137566, Lists!$C$32:$C$40,1))","v":"51-60"},{"$f":"SUMPRODUCT((Data!$B$17:$B$19=Model!$F137566)*(Data!$C$16:$K$16=Model!$K137566)*(Data!$C$17:$K$19))","v":2.73},78.16,{"$f":"_xlfn.IFS(M137566>70,\"Serviceable\",M137566>30, \"Limited Life\",M137566<=30, \"Unserviceable\")","v":"Serviceable"}]
[null,246760,2010,"Wood Untreated Round","Serviceable","Class 2",2019,90,88.78,6,{"$f":"INDEX(Lists!$B$32:$B$40, MATCH(2020-C137567, Lists!$C$32:$C$40,1))","v":"0-20"},{"$f":"SUMPRODUCT((Data!$B$17:$B$19=Model!$F137567)*(Data!$C$16:$K$16=Model!$K137567)*(Data!$C$17:$K$19))","v":1.22},82.68,{"$f":"_xlfn.IFS(M137567>70,\"Serviceable\",M137567>30, \"Limited Life\",M137567<=30, \"Unserviceable\")","v":"Serviceable"}]
[null,247103,2014,"Wood Untreated Dressed","Serviceable","Class 2",2019,80,78.78,6,{"$f":"INDEX(Lists!$B$32:$B$40, MATCH(2020-C137568, Lists!$C$32:$C$40,1))","v":"0-20"},{"$f":"SUMPRODUCT((Data!$B$17:$B$19=Model!$F137568)*(Data!$C$16:$K$16=Model!$K137568)*(Data!$C$17:$K$19))","v":1.22},72.680000000000007,{"$f":"_xlfn.IFS(M137568>70,\"Serviceable\",M137568>30, \"Limited Life\",M137568<=30, \"Unserviceable\")","v":"Serviceable"}]
[null,247302,2010,"Wood Untreated Dressed","Serviceable","Class 1",2020,100,100,5,{"$f":"INDEX(Lists!$B$32:$B$40, MATCH(2020-C137569, Lists!$C$32:$C$40,1))","v":"0-20"},{"$f":"SUMPRODUCT((Data!$B$17:$B$19=Model!$F137569)*(Data!$C$16:$K$16=Model!$K137569)*(Data!$C$17:$K$19))","v":1.06},94.7,{"$f":"_xlfn.IFS(M137569>70,\"Serviceable\",M137569>30, \"Limited Life\",M137569<=30, \"Unserviceable\")","v":"Serviceable"}]
[null,247925,2010,"Wood Untreated Round","Serviceable","Class 3",2019,90,88.63,6,{"$f":"INDEX(Lists!$B$32:$B$40, MATCH(2020-C137570, Lists!$C$32:$C$40,1))","v":"0-20"},{"$f":"SUMPRODUCT((Data!$B$17:$B$19=Model!$F137570)*(Data!$C$16:$K$16=Model!$K137570)*(Data!$C$17:$K$19))","v":1.37},81.78,{"$f":"_xlfn.IFS(M137570>70,\"Serviceable\",M137570>30, \"Limited Life\",M137570<=30, \"Unserviceable\")","v":"Serviceable"}]
[null,248320,2010,"Wood Creos Impregnated","Serviceable","Class 3",2020,100,100,5,{"$f":"INDEX(Lists!$B$32:$B$40, MATCH(2020-C137571, Lists!$C$32:$C$40,1))","v":"0-20"},{"$f":"SUMPRODUCT((Data!$B$17:$B$19=Model!$F137571)*(Data!$C$16:$K$16=Model!$K137571)*(Data!$C$17:$K$19))","v":1.37},93.15,{"$f":"_xlfn.IFS(M137571>70,\"Serviceable\",M137571>30, \"Limited Life\",M137571<=30, \"Unserviceable\")","v":"Serviceable"}]
[null,248453,2014,"Wood Creos Impregnated","Serviceable","Class 3",2020,100,100,5,{"$f":"INDEX(Lists!$B$32:$B$40, MATCH(2020-C137572, Lists!$C$32:$C$40,1))","v":"0-20"},{"$f":"SUMPRODUCT((Data!$B$17:$B$19=Model!$F137572)*(Data!$C$16:$K$16=Model!$K137572)*(Data!$C$17:$K$19))","v":1.37},93.15,{"$f":"_xlfn.IFS(M137572>70,\"Serviceable\",M137572>30, \"Limited Life\",M137572<=30, \"Unserviceable\")","v":"Serviceable"}]
[null,248586,2013,"Wood Creos Impregnated","Serviceable","Class 3",2020,100,100,5,{"$f":"INDEX(Lists!$B$32:$B$40, MATCH(2020-C137573, Lists!$C$32:$C$40,1))","v":"0-20"},{"$f":"SUMPRODUCT((Data!$B$17:$B$19=Model!$F137573)*(Data!$C$16:$K$16=Model!$K137573)*(Data!$C$17:$K$19))","v":1.37},93.15,{"$f":"_xlfn.IFS(M137573>70,\"Serviceable\",M137573>30, \"Limited Life\",M137573<=30, \"Unserviceable\")","v":"Serviceable"}]
[null,249654,2011,"Wood Untreated Dressed","Serviceable","Class 1",2017,100,96.82,8,{"$f":"INDEX(Lists!$B$32:$B$40, MATCH(2020-C137574, Lists!$C$32:$C$40,1))","v":"0-20"},{"$f":"SUMPRODUCT((Data!$B$17:$B$19=Model!$F137574)*(Data!$C$16:$K$16=Model!$K137574)*(Data!$C$17:$K$19))","v":1.06},91.52,{"$f":"_xlfn.IFS(M137574>70,\"Serviceable\",M137574>30, \"Limited Life\",M137574<=30, \"Unserviceable\")","v":"Serviceable"}]
[null,249680,2011,"Wood Creos Impregnated","Serviceable","Class 3",2017,100,95.89,8,{"$f":"INDEX(Lists!$B$32:$B$40, MATCH(2020-C137575, Lists!$C$32:$C$40,1))","v":"0-20"},{"$f":"SUMPRODUCT((Data!$B$17:$B$19=Model!$F137575)*(Data!$C$16:$K$16=Model!$K137575)*(Data!$C$17:$K$19))","v":1.37},89.039999999999992,{"$f":"_xlfn.IFS(M137575>70,\"Serviceable\",M137575>30, \"Limited Life\",M137575<=30, \"Unserviceable\")","v":"Serviceable"}]
[null,249956,2011,"Wood Other","Serviceable","Class 3",2017,120,115.89,8,{"$f":"INDEX(Lists!$B$32:$B$40, MATCH(2020-C137576, Lists!$C$32:$C$40,1))","v":"0-20"},{"$f":"SUMPRODUCT((Data!$B$17:$B$19=Model!$F137576)*(Data!$C$16:$K$16=Model!$K137576)*(Data!$C$17:$K$19))","v":1.37},109.03999999999999,{"$f":"_xlfn.IFS(M137576>70,\"Serviceable\",M137576>30, \"Limited Life\",M137576<=30, \"Unserviceable\")","v":"Serviceable"}]
[null,252327,2011,"Wood Creos Impregnated","Serviceable","Class 3",2016,171.56902865306319,166.0890286530632,9,{"$f":"INDEX(Lists!$B$32:$B$40, MATCH(2020-C137577, Lists!$C$32:$C$40,1))","v":"0-20"},{"$f":"SUMPRODUCT((Data!$B$17:$B$19=Model!$F137577)*(Data!$C$16:$K$16=Model!$K137577)*(Data!$C$17:$K$19))","v":1.37},159.23902865306317,{"$f":"_xlfn.IFS(M137577>70,\"Serviceable\",M137577>30, \"Limited Life\",M137577<=30, \"Unserviceable\")","v":"Serviceable"}]
[null,252374,1989,"Wood Untreated Round","Serviceable","Class 3",2017,80,70.34,8,{"$f":"INDEX(Lists!$B$32:$B$40, MATCH(2020-C137578, Lists!$C$32:$C$40,1))","v":"31-40"},{"$f":"SUMPRODUCT((Data!$B$17:$B$19=Model!$F137578)*(Data!$C$16:$K$16=Model!$K137578)*(Data!$C$17:$K$19))","v":3.22},54.239999999999995,{"$f":"_xlfn.IFS(M137578>70,\"Serviceable\",M137578>30, \"Limited Life\",M137578<=30, \"Unserviceable\")","v":"Limited Life"}]
[null,254084,1986,"CCA Treated Pole","Serviceable","Class 2",2017,162.49719689682513,155.50719689682512,8,{"$f":"INDEX(Lists!$B$32:$B$40, MATCH(2020-C137579, Lists!$C$32:$C$40,1))","v":"31-40"},{"$f":"SUMPRODUCT((Data!$B$17:$B$19=Model!$F137579)*(Data!$C$16:$K$16=Model!$K137579)*(Data!$C$17:$K$19))","v":2.33},143.85719689682514,{"$f":"_xlfn.IFS(M137579>70,\"Serviceable\",M137579>30, \"Limited Life\",M137579<=30, \"Unserviceable\")","v":"Serviceable"}]
[null,258536,2008,"CCA Treated Pole","Serviceable","Class 2",2017,162.49719689682513,158.83719689682513,8,{"$f":"INDEX(Lists!$B$32:$B$40, MATCH(2020-C137580, Lists!$C$32:$C$40,1))","v":"0-20"},{"$f":"SUMPRODUCT((Data!$B$17:$B$19=Model!$F137580)*(Data!$C$16:$K$16=Model!$K137580)*(Data!$C$17:$K$19))","v":1.22},152.73719689682514,{"$f":"_xlfn.IFS(M137580>70,\"Serviceable\",M137580>30, \"Limited Life\",M137580<=30, \"Unserviceable\")","v":"Serviceable"}]
[null,258704,1990,"CCA Treated Pole","Serviceable","Class 2",2017,162.49719689682513,156.82719689682514,8,{"$f":"INDEX(Lists!$B$32:$B$40, MATCH(2020-C137581, Lists!$C$32:$C$40,1))","v":"21-30"},{"$f":"SUMPRODUCT((Data!$B$17:$B$19=Model!$F137581)*(Data!$C$16:$K$16=Model!$K137581)*(Data!$C$17:$K$19))","v":1.89},147.37719689682513,{"$f":"_xlfn.IFS(M137581>70,\"Serviceable\",M137581>30, \"Limited Life\",M137581<=30, \"Unserviceable\")","v":"Serviceable"}]
[null,260157,2011,"CCA Treated Pole","Serviceable","Class 1",2015,100,94.7,10,{"$f":"INDEX(Lists!$B$32:$B$40, MATCH(2020-C137582, Lists!$C$32:$C$40,1))","v":"0-20"},{"$f":"SUMPRODUCT((Data!$B$17:$B$19=Model!$F137582)*(Data!$C$16:$K$16=Model!$K137582)*(Data!$C$17:$K$19))","v":1.06},89.4,{"$f":"_xlfn.IFS(M137582>70,\"Serviceable\",M137582>30, \"Limited Life\",M137582<=30, \"Unserviceable\")","v":"Serviceable"}]
[null,260178,1993,"CCA Treated Pole","Serviceable","Class 2",2017,162.49719689682513,156.82719689682514,8,{"$f":"INDEX(Lists!$B$32:$B$40, MATCH(2020-C137583, Lists!$C$32:$C$40,1))","v":"21-30"},{"$f":"SUMPRODUCT((Data!$B$17:$B$19=Model!$F137583)*(Data!$C$16:$K$16=Model!$K137583)*(Data!$C$17:$K$19))","v":1.89},147.37719689682513,{"$f":"_xlfn.IFS(M137583>70,\"Serviceable\",M137583>30, \"Limited Life\",M137583<=30, \"Unserviceable\")","v":"Serviceable"}]
[null,260227,1994,"CCA Treated Pole","Serviceable","Class 2",2020,162.49719689682513,162.49719689682513,5,{"$f":"INDEX(Lists!$B$32:$B$40, MATCH(2020-C137584, Lists!$C$32:$C$40,1))","v":"21-30"},{"$f":"SUMPRODUCT((Data!$B$17:$B$19=Model!$F137584)*(Data!$C$16:$K$16=Model!$K137584)*(Data!$C$17:$K$19))","v":1.89},153.04719689682514,{"$f":"_xlfn.IFS(M137584>70,\"Serviceable\",M137584>30, \"Limited Life\",M137584<=30, \"Unserviceable\")","v":"Serviceable"}]
[null,260286,1996,"CCA Treated Pole","Serviceable","Class 2",2017,162.49719689682513,156.82719689682514,8,{"$f":"INDEX(Lists!$B$32:$B$40, MATCH(2020-C137585, Lists!$C$32:$C$40,1))","v":"21-30"},{"$f":"SUMPRODUCT((Data!$B$17:$B$19=Model!$F137585)*(Data!$C$16:$K$16=Model!$K137585)*(Data!$C$17:$K$19))","v":1.89},147.37719689682513,{"$f":"_xlfn.IFS(M137585>70,\"Serviceable\",M137585>30, \"Limited Life\",M137585<=30, \"Unserviceable\")","v":"Serviceable"}]
[null,260757,2004,"CCA Treated Pole","Serviceable","Class 2",2017,162.49719689682513,158.83719689682513,8,{"$f":"INDEX(Lists!$B$32:$B$40, MATCH(2020-C137586, Lists!$C$32:$C$40,1))","v":"0-20"},{"$f":"SUMPRODUCT((Data!$B$17:$B$19=Model!$F137586)*(Data!$C$16:$K$16=Model!$K137586)*(Data!$C$17:$K$19))","v":1.22},152.73719689682514,{"$f":"_xlfn.IFS(M137586>70,\"Serviceable\",M137586>30, \"Limited Life\",M137586<=30, \"Unserviceable\")","v":"Serviceable"}]
[null,260924,2014,"Wood Creos Impregnated","Serviceable","Class 3",2016,90,84.52,9,{"$f":"INDEX(Lists!$B$32:$B$40, MATCH(2020-C137587, Lists!$C$32:$C$40,1))","v":"0-20"},{"$f":"SUMPRODUCT((Data!$B$17:$B$19=Model!$F137587)*(Data!$C$16:$K$16=Model!$K137587)*(Data!$C$17:$K$19))","v":1.37},77.67,{"$f":"_xlfn.IFS(M137587>70,\"Serviceable\",M137587>30, \"Limited Life\",M137587<=30, \"Unserviceable\")","v":"Serviceable"}]
[null,262082,2013,"Wood Other","Limited Life","Class 2",2020,70,70,5,{"$f":"INDEX(Lists!$B$32:$B$40, MATCH(2020-C137588, Lists!$C$32:$C$40,1))","v":"0-20"},{"$f":"SUMPRODUCT((Data!$B$17:$B$19=Model!$F137588)*(Data!$C$16:$K$16=Model!$K137588)*(Data!$C$17:$K$19))","v":1.22},63.9,{"$f":"_xlfn.IFS(M137588>70,\"Serviceable\",M137588>30, \"Limited Life\",M137588<=30, \"Unserviceable\")","v":"Limited Life"}]
[null,262289,1992,"CCA Treated Pole","Serviceable","Class 2",2019,162.49719689682513,160.60719689682514,6,{"$f":"INDEX(Lists!$B$32:$B$40, MATCH(2020-C137589, Lists!$C$32:$C$40,1))","v":"21-30"},{"$f":"SUMPRODUCT((Data!$B$17:$B$19=Model!$F137589)*(Data!$C$16:$K$16=Model!$K137589)*(Data!$C$17:$K$19))","v":1.89},151.15719689682513,{"$f":"_xlfn.IFS(M137589>70,\"Serviceable\",M137589>30, \"Limited Life\",M137589<=30, \"Unserviceable\")","v":"Serviceable"}]
[null,266293,1989,"CCA Treated Pole","Serviceable","Class 2",2018,162.49719689682513,157.83719689682513,7,{"$f":"INDEX(Lists!$B$32:$B$40, MATCH(2020-C137590, Lists!$C$32:$C$40,1))","v":"31-40"},{"$f":"SUMPRODUCT((Data!$B$17:$B$19=Model!$F137590)*(Data!$C$16:$K$16=Model!$K137590)*(Data!$C$17:$K$19))","v":2.33},146.18719689682513,{"$f":"_xlfn.IFS(M137590>70,\"Serviceable\",M137590>30, \"Limited Life\",M137590<=30, \"Unserviceable\")","v":"Serviceable"}]
[null,266295,2001,"CCA Treated Pole","Serviceable","Class 2",2017,162.49719689682513,158.83719689682513,8,{"$f":"INDEX(Lists!$B$32:$B$40, MATCH(2020-C137591, Lists!$C$32:$C$40,1))","v":"0-20"},{"$f":"SUMPRODUCT((Data!$B$17:$B$19=Model!$F137591)*(Data!$C$16:$K$16=Model!$K137591)*(Data!$C$17:$K$19))","v":1.22},152.73719689682514,{"$f":"_xlfn.IFS(M137591>70,\"Serviceable\",M137591>30, \"Limited Life\",M137591<=30, \"Unserviceable\")","v":"Serviceable"}]
[null,266298,1999,"CCA Treated Pole","Serviceable","Class 2",2017,162.49719689682513,156.82719689682514,8,{"$f":"INDEX(Lists!$B$32:$B$40, MATCH(2020-C137592, Lists!$C$32:$C$40,1))","v":"21-30"},{"$f":"SUMPRODUCT((Data!$B$17:$B$19=Model!$F137592)*(Data!$C$16:$K$16=Model!$K137592)*(Data!$C$17:$K$19))","v":1.89},147.37719689682513,{"$f":"_xlfn.IFS(M137592>70,\"Serviceable\",M137592>30, \"Limited Life\",M137592<=30, \"Unserviceable\")","v":"Serviceable"}]
[null,266305,1994,"CCA Treated Pole","Serviceable","Class 2",2019,162.49719689682513,160.60719689682514,6,{"$f":"INDEX(Lists!$B$32:$B$40, MATCH(2020-C137593, Lists!$C$32:$C$40,1))","v":"21-30"},{"$f":"SUMPRODUCT((Data!$B$17:$B$19=Model!$F137593)*(Data!$C$16:$K$16=Model!$K137593)*(Data!$C$17:$K$19))","v":1.89},151.15719689682513,{"$f":"_xlfn.IFS(M137593>70,\"Serviceable\",M137593>30, \"Limited Life\",M137593<=30, \"Unserviceable\")","v":"Serviceable"}]
[null,266309,2007,"CCA Treated Pole","Serviceable","Class 1",2019,166.31691553103065,165.25691553103064,6,{"$f":"INDEX(Lists!$B$32:$B$40, MATCH(2020-C137594, Lists!$C$32:$C$40,1))","v":"0-20"},{"$f":"SUMPRODUCT((Data!$B$17:$B$19=Model!$F137594)*(Data!$C$16:$K$16=Model!$K137594)*(Data!$C$17:$K$19))","v":1.06},159.95691553103063,{"$f":"_xlfn.IFS(M137594>70,\"Serviceable\",M137594>30, \"Limited Life\",M137594<=30, \"Unserviceable\")","v":"Serviceable"}]
[null,266310,1991,"CCA Treated Pole","Serviceable","Class 2",2018,162.49719689682513,158.71719689682513,7,{"$f":"INDEX(Lists!$B$32:$B$40, MATCH(2020-C137595, Lists!$C$32:$C$40,1))","v":"21-30"},{"$f":"SUMPRODUCT((Data!$B$17:$B$19=Model!$F137595)*(Data!$C$16:$K$16=Model!$K137595)*(Data!$C$17:$K$19))","v":1.89},149.26719689682514,{"$f":"_xlfn.IFS(M137595>70,\"Serviceable\",M137595>30, \"Limited Life\",M137595<=30, \"Unserviceable\")","v":"Serviceable"}]
[null,266320,2011,"CCA Treated Pole","Serviceable","Class 1",2017,166.31691553103065,163.13691553103064,8,{"$f":"INDEX(Lists!$B$32:$B$40, MATCH(2020-C137596, Lists!$C$32:$C$40,1))","v":"0-20"},{"$f":"SUMPRODUCT((Data!$B$17:$B$19=Model!$F137596)*(Data!$C$16:$K$16=Model!$K137596)*(Data!$C$17:$K$19))","v":1.06},157.83691553103066,{"$f":"_xlfn.IFS(M137596>70,\"Serviceable\",M137596>30, \"Limited Life\",M137596<=30, \"Unserviceable\")","v":"Serviceable"}]
[null,266329,1991,"CCA Treated Pole","Serviceable","Class 2",2019,162.49719689682513,160.60719689682514,6,{"$f":"INDEX(Lists!$B$32:$B$40, MATCH(2020-C137597, Lists!$C$32:$C$40,1))","v":"21-30"},{"$f":"SUMPRODUCT((Data!$B$17:$B$19=Model!$F137597)*(Data!$C$16:$K$16=Model!$K137597)*(Data!$C$17:$K$19))","v":1.89},151.15719689682513,{"$f":"_xlfn.IFS(M137597>70,\"Serviceable\",M137597>30, \"Limited Life\",M137597<=30, \"Unserviceable\")","v":"Serviceable"}]
[null,266332,1990,"CCA Treated Pole","Serviceable","Class 2",2018,162.49719689682513,158.71719689682513,7,{"$f":"INDEX(Lists!$B$32:$B$40, MATCH(2020-C137598, Lists!$C$32:$C$40,1))","v":"21-30"},{"$f":"SUMPRODUCT((Data!$B$17:$B$19=Model!$F137598)*(Data!$C$16:$K$16=Model!$K137598)*(Data!$C$17:$K$19))","v":1.89},149.26719689682514,{"$f":"_xlfn.IFS(M137598>70,\"Serviceable\",M137598>30, \"Limited Life\",M137598<=30, \"Unserviceable\")","v":"Serviceable"}]
[null,266336,1986,"CCA Treated Pole","Serviceable","Class 2",2018,162.49719689682513,157.83719689682513,7,{"$f":"INDEX(Lists!$B$32:$B$40, MATCH(2020-C137599, Lists!$C$32:$C$40,1))","v":"31-40"},{"$f":"SUMPRODUCT((Data!$B$17:$B$19=Model!$F137599)*(Data!$C$16:$K$16=Model!$K137599)*(Data!$C$17:$K$19))","v":2.33},146.18719689682513,{"$f":"_xlfn.IFS(M137599>70,\"Serviceable\",M137599>30, \"Limited Life\",M137599<=30, \"Unserviceable\")","v":"Serviceable"}]
[null,266343,1986,"CCA Treated Pole","Serviceable","Class 2",2018,162.49719689682513,157.83719689682513,7,{"$f":"INDEX(Lists!$B$32:$B$40, MATCH(2020-C137600, Lists!$C$32:$C$40,1))","v":"31-40"},{"$f":"SUMPRODUCT((Data!$B$17:$B$19=Model!$F137600)*(Data!$C$16:$K$16=Model!$K137600)*(Data!$C$17:$K$19))","v":2.33},146.18719689682513,{"$f":"_xlfn.IFS(M137600>70,\"Serviceable\",M137600>30, \"Limited Life\",M137600<=30, \"Unserviceable\")","v":"Serviceable"}]
[null,266346,2004,"CCA Treated Pole","Serviceable","Class 2",2018,162.49719689682513,160.05719689682513,7,{"$f":"INDEX(Lists!$B$32:$B$40, MATCH(2020-C137601, Lists!$C$32:$C$40,1))","v":"0-20"},{"$f":"SUMPRODUCT((Data!$B$17:$B$19=Model!$F137601)*(Data!$C$16:$K$16=Model!$K137601)*(Data!$C$17:$K$19))","v":1.22},153.95719689682514,{"$f":"_xlfn.IFS(M137601>70,\"Serviceable\",M137601>30, \"Limited Life\",M137601<=30, \"Unserviceable\")","v":"Serviceable"}]
[null,266387,2008,"CCA Treated Pole","Serviceable","Class 2",2018,162.49719689682513,160.05719689682513,7,{"$f":"INDEX(Lists!$B$32:$B$40, MATCH(2020-C137602, Lists!$C$32:$C$40,1))","v":"0-20"},{"$f":"SUMPRODUCT((Data!$B$17:$B$19=Model!$F137602)*(Data!$C$16:$K$16=Model!$K137602)*(Data!$C$17:$K$19))","v":1.22},153.95719689682514,{"$f":"_xlfn.IFS(M137602>70,\"Serviceable\",M137602>30, \"Limited Life\",M137602<=30, \"Unserviceable\")","v":"Serviceable"}]
[null,267222,2010,"Wood Creos Impregnated","Serviceable","Class 3",2020,90,90,5,{"$f":"INDEX(Lists!$B$32:$B$40, MATCH(2020-C137603, Lists!$C$32:$C$40,1))","v":"0-20"},{"$f":"SUMPRODUCT((Data!$B$17:$B$19=Model!$F137603)*(Data!$C$16:$K$16=Model!$K137603)*(Data!$C$17:$K$19))","v":1.37},83.15,{"$f":"_xlfn.IFS(M137603>70,\"Serviceable\",M137603>30, \"Limited Life\",M137603<=30, \"Unserviceable\")","v":"Serviceable"}]
[null,267315,2005,"CCA Treated Pole","Serviceable","Class 2",2017,162.49719689682513,158.83719689682513,8,{"$f":"INDEX(Lists!$B$32:$B$40, MATCH(2020-C137604, Lists!$C$32:$C$40,1))","v":"0-20"},{"$f":"SUMPRODUCT((Data!$B$17:$B$19=Model!$F137604)*(Data!$C$16:$K$16=Model!$K137604)*(Data!$C$17:$K$19))","v":1.22},152.73719689682514,{"$f":"_xlfn.IFS(M137604>70,\"Serviceable\",M137604>30, \"Limited Life\",M137604<=30, \"Unserviceable\")","v":"Serviceable"}]
[null,268094,2014,"Wood Creos Impregnated","Serviceable","Class 3",2016,100,94.52,9,{"$f":"INDEX(Lists!$B$32:$B$40, MATCH(2020-C137605, Lists!$C$32:$C$40,1))","v":"0-20"},{"$f":"SUMPRODUCT((Data!$B$17:$B$19=Model!$F137605)*(Data!$C$16:$K$16=Model!$K137605)*(Data!$C$17:$K$19))","v":1.37},87.67,{"$f":"_xlfn.IFS(M137605>70,\"Serviceable\",M137605>30, \"Limited Life\",M137605<=30, \"Unserviceable\")","v":"Serviceable"}]
[null,269110,1986,"CCA Treated Pole","Serviceable","Class 2",2018,162.49719689682513,157.83719689682513,7,{"$f":"INDEX(Lists!$B$32:$B$40, MATCH(2020-C137606, Lists!$C$32:$C$40,1))","v":"31-40"},{"$f":"SUMPRODUCT((Data!$B$17:$B$19=Model!$F137606)*(Data!$C$16:$K$16=Model!$K137606)*(Data!$C$17:$K$19))","v":2.33},146.18719689682513,{"$f":"_xlfn.IFS(M137606>70,\"Serviceable\",M137606>30, \"Limited Life\",M137606<=30, \"Unserviceable\")","v":"Serviceable"}]
[null,269111,1996,"CCA Treated Pole","Serviceable","Class 2",2018,162.49719689682513,158.71719689682513,7,{"$f":"INDEX(Lists!$B$32:$B$40, MATCH(2020-C137607, Lists!$C$32:$C$40,1))","v":"21-30"},{"$f":"SUMPRODUCT((Data!$B$17:$B$19=Model!$F137607)*(Data!$C$16:$K$16=Model!$K137607)*(Data!$C$17:$K$19))","v":1.89},149.26719689682514,{"$f":"_xlfn.IFS(M137607>70,\"Serviceable\",M137607>30, \"Limited Life\",M137607<=30, \"Unserviceable\")","v":"Serviceable"}]
[null,269112,2003,"CCA Treated Pole","Serviceable","Class 2",2018,162.49719689682513,160.05719689682513,{"$f":"2025-G137608","v":7},{"$f":"INDEX(Lists!$B$32:$B$40, MATCH(2020-C137608, Lists!$C$32:$C$40,1))","v":"0-20"},{"$f":"SUMPRODUCT((Data!$B$17:$B$19=Model!$F137608)*(Data!$C$16:$K$16=Model!$K137608)*(Data!$C$17:$K$19))","v":1.22},{"$f":"IF(IF(H137608>=700,999,(H137608-L137608*J137608))<0,0,IF(H137608>=700,999,(H137608-L137608*J137608)))","v":153.95719689682514},{"$f":"_xlfn.IFS(M137608>70,\"Serviceable\",M137608>30, \"Limited Life\",M137608<=30, \"Unserviceable\")","v":"Serviceable"}]
[null,269113,1986,"CCA Treated Pole","Serviceable","Class 2",2018,162.49719689682513,157.83719689682513,7,{"$f":"INDEX(Lists!$B$32:$B$40, MATCH(2020-C137609, Lists!$C$32:$C$40,1))","v":"31-40"},{"$f":"SUMPRODUCT((Data!$B$17:$B$19=Model!$F137609)*(Data!$C$16:$K$16=Model!$K137609)*(Data!$C$17:$K$19))","v":2.33},146.18719689682513,{"$f":"_xlfn.IFS(M137609>70,\"Serviceable\",M137609>30, \"Limited Life\",M137609<=30, \"Unserviceable\")","v":"Serviceable"}]
[null,269114,1986,"CCA Treated Pole","Serviceable","Class 1",2018,166.31691553103065,161.27691553103065,7,{"$f":"INDEX(Lists!$B$32:$B$40, MATCH(2020-C137610, Lists!$C$32:$C$40,1))","v":"31-40"},{"$f":"SUMPRODUCT((Data!$B$17:$B$19=Model!$F137610)*(Data!$C$16:$K$16=Model!$K137610)*(Data!$C$17:$K$19))","v":2.52},148.67691553103066,{"$f":"_xlfn.IFS(M137610>70,\"Serviceable\",M137610>30, \"Limited Life\",M137610<=30, \"Unserviceable\")","v":"Serviceable"}]
[null,269115,1999,"CCA Treated Pole","Serviceable","Class 2",2018,162.49719689682513,158.71719689682513,7,{"$f":"INDEX(Lists!$B$32:$B$40, MATCH(2020-C137611, Lists!$C$32:$C$40,1))","v":"21-30"},{"$f":"SUMPRODUCT((Data!$B$17:$B$19=Model!$F137611)*(Data!$C$16:$K$16=Model!$K137611)*(Data!$C$17:$K$19))","v":1.89},149.26719689682514,{"$f":"_xlfn.IFS(M137611>70,\"Serviceable\",M137611>30, \"Limited Life\",M137611<=30, \"Unserviceable\")","v":"Serviceable"}]
[null,269127,1999,"CCA Treated Pole","Serviceable","Class 2",2017,162.49719689682513,156.82719689682514,8,{"$f":"INDEX(Lists!$B$32:$B$40, MATCH(2020-C137612, Lists!$C$32:$C$40,1))","v":"21-30"},{"$f":"SUMPRODUCT((Data!$B$17:$B$19=Model!$F137612)*(Data!$C$16:$K$16=Model!$K137612)*(Data!$C$17:$K$19))","v":1.89},147.37719689682513,{"$f":"_xlfn.IFS(M137612>70,\"Serviceable\",M137612>30, \"Limited Life\",M137612<=30, \"Unserviceable\")","v":"Serviceable"}]
[null,269128,2003,"CCA Treated Pole","Serviceable","Class 2",2018,162.49719689682513,160.05719689682513,7,{"$f":"INDEX(Lists!$B$32:$B$40, MATCH(2020-C137613, Lists!$C$32:$C$40,1))","v":"0-20"},{"$f":"SUMPRODUCT((Data!$B$17:$B$19=Model!$F137613)*(Data!$C$16:$K$16=Model!$K137613)*(Data!$C$17:$K$19))","v":1.22},153.95719689682514,{"$f":"_xlfn.IFS(M137613>70,\"Serviceable\",M137613>30, \"Limited Life\",M137613<=30, \"Unserviceable\")","v":"Serviceable"}]
[null,269129,1990,"CCA Treated Pole","Serviceable","Class 2",2017,162.49719689682513,156.82719689682514,8,{"$f":"INDEX(Lists!$B$32:$B$40, MATCH(2020-C137614, Lists!$C$32:$C$40,1))","v":"21-30"},{"$f":"SUMPRODUCT((Data!$B$17:$B$19=Model!$F137614)*(Data!$C$16:$K$16=Model!$K137614)*(Data!$C$17:$K$19))","v":1.89},147.37719689682513,{"$f":"_xlfn.IFS(M137614>70,\"Serviceable\",M137614>30, \"Limited Life\",M137614<=30, \"Unserviceable\")","v":"Serviceable"}]
[null,269142,2012,"CCA Treated Pole","Serviceable","Class 2",2017,162.49719689682513,158.83719689682513,8,{"$f":"INDEX(Lists!$B$32:$B$40, MATCH(2020-C137615, Lists!$C$32:$C$40,1))","v":"0-20"},{"$f":"SUMPRODUCT((Data!$B$17:$B$19=Model!$F137615)*(Data!$C$16:$K$16=Model!$K137615)*(Data!$C$17:$K$19))","v":1.22},152.73719689682514,{"$f":"_xlfn.IFS(M137615>70,\"Serviceable\",M137615>30, \"Limited Life\",M137615<=30, \"Unserviceable\")","v":"Serviceable"}]
[null,269144,1994,"CCA Treated Pole","Serviceable","Class 1",2018,166.31691553103065,162.39691553103066,7,{"$f":"INDEX(Lists!$B$32:$B$40, MATCH(2020-C137616, Lists!$C$32:$C$40,1))","v":"21-30"},{"$f":"SUMPRODUCT((Data!$B$17:$B$19=Model!$F137616)*(Data!$C$16:$K$16=Model!$K137616)*(Data!$C$17:$K$19))","v":1.96},152.59691553103065,{"$f":"_xlfn.IFS(M137616>70,\"Serviceable\",M137616>30, \"Limited Life\",M137616<=30, \"Unserviceable\")","v":"Serviceable"}]
[null,269148,1989,"CCA Treated Pole","Serviceable","Class 2",2017,162.49719689682513,155.50719689682512,8,{"$f":"INDEX(Lists!$B$32:$B$40, MATCH(2020-C137617, Lists!$C$32:$C$40,1))","v":"31-40"},{"$f":"SUMPRODUCT((Data!$B$17:$B$19=Model!$F137617)*(Data!$C$16:$K$16=Model!$K137617)*(Data!$C$17:$K$19))","v":2.33},143.85719689682514,{"$f":"_xlfn.IFS(M137617>70,\"Serviceable\",M137617>30, \"Limited Life\",M137617<=30, \"Unserviceable\")","v":"Serviceable"}]
[null,269151,2001,"CCA Treated Pole","Serviceable","Class 2",2018,162.49719689682513,160.05719689682513,7,{"$f":"INDEX(Lists!$B$32:$B$40, MATCH(2020-C137618, Lists!$C$32:$C$40,1))","v":"0-20"},{"$f":"SUMPRODUCT((Data!$B$17:$B$19=Model!$F137618)*(Data!$C$16:$K$16=Model!$K137618)*(Data!$C$17:$K$19))","v":1.22},153.95719689682514,{"$f":"_xlfn.IFS(M137618>70,\"Serviceable\",M137618>30, \"Limited Life\",M137618<=30, \"Unserviceable\")","v":"Serviceable"}]
[null,269152,2000,"CCA Treated Pole","Serviceable","Class 2",2018,162.49719689682513,160.05719689682513,7,{"$f":"INDEX(Lists!$B$32:$B$40, MATCH(2020-C137619, Lists!$C$32:$C$40,1))","v":"0-20"},{"$f":"SUMPRODUCT((Data!$B$17:$B$19=Model!$F137619)*(Data!$C$16:$K$16=Model!$K137619)*(Data!$C$17:$K$19))","v":1.22},153.95719689682514,{"$f":"_xlfn.IFS(M137619>70,\"Serviceable\",M137619>30, \"Limited Life\",M137619<=30, \"Unserviceable\")","v":"Serviceable"}]
[null,269163,1990,"CCA Treated Pole","Serviceable","Class 1",2019,166.31691553103065,164.35691553103064,6,{"$f":"INDEX(Lists!$B$32:$B$40, MATCH(2020-C137620, Lists!$C$32:$C$40,1))","v":"21-30"},{"$f":"SUMPRODUCT((Data!$B$17:$B$19=Model!$F137620)*(Data!$C$16:$K$16=Model!$K137620)*(Data!$C$17:$K$19))","v":1.96},154.55691553103065,{"$f":"_xlfn.IFS(M137620>70,\"Serviceable\",M137620>30, \"Limited Life\",M137620<=30, \"Unserviceable\")","v":"Serviceable"}]
[null,269291,1990,"CCA Treated Pole","Serviceable","Class 2",2018,162.49719689682513,158.71719689682513,7,{"$f":"INDEX(Lists!$B$32:$B$40, MATCH(2020-C137621, Lists!$C$32:$C$40,1))","v":"21-30"},{"$f":"SUMPRODUCT((Data!$B$17:$B$19=Model!$F137621)*(Data!$C$16:$K$16=Model!$K137621)*(Data!$C$17:$K$19))","v":1.89},149.26719689682514,{"$f":"_xlfn.IFS(M137621>70,\"Serviceable\",M137621>30, \"Limited Life\",M137621<=30, \"Unserviceable\")","v":"Serviceable"}]
[null,270152,1992,"CCA Treated Pole","Serviceable","Class 2",2019,162.49719689682513,160.60719689682514,6,{"$f":"INDEX(Lists!$B$32:$B$40, MATCH(2020-C137622, Lists!$C$32:$C$40,1))","v":"21-30"},{"$f":"SUMPRODUCT((Data!$B$17:$B$19=Model!$F137622)*(Data!$C$16:$K$16=Model!$K137622)*(Data!$C$17:$K$19))","v":1.89},151.15719689682513,{"$f":"_xlfn.IFS(M137622>70,\"Serviceable\",M137622>30, \"Limited Life\",M137622<=30, \"Unserviceable\")","v":"Serviceable"}]
[null,270155,2004,"CCA Treated Pole","Serviceable","Class 1",2019,166.31691553103065,165.25691553103064,6,{"$f":"INDEX(Lists!$B$32:$B$40, MATCH(2020-C137623, Lists!$C$32:$C$40,1))","v":"0-20"},{"$f":"SUMPRODUCT((Data!$B$17:$B$19=Model!$F137623)*(Data!$C$16:$K$16=Model!$K137623)*(Data!$C$17:$K$19))","v":1.06},159.95691553103063,{"$f":"_xlfn.IFS(M137623>70,\"Serviceable\",M137623>30, \"Limited Life\",M137623<=30, \"Unserviceable\")","v":"Serviceable"}]
[null,270157,1989,"CCA Treated Pole","Serviceable","Class 1",2018,166.31691553103065,161.27691553103065,7,{"$f":"INDEX(Lists!$B$32:$B$40, MATCH(2020-C137624, Lists!$C$32:$C$40,1))","v":"31-40"},{"$f":"SUMPRODUCT((Data!$B$17:$B$19=Model!$F137624)*(Data!$C$16:$K$16=Model!$K137624)*(Data!$C$17:$K$19))","v":2.52},148.67691553103066,{"$f":"_xlfn.IFS(M137624>70,\"Serviceable\",M137624>30, \"Limited Life\",M137624<=30, \"Unserviceable\")","v":"Serviceable"}]
[null,270160,2005,"CCA Treated Pole","Serviceable","Class 2",2018,162.49719689682513,160.05719689682513,7,{"$f":"INDEX(Lists!$B$32:$B$40, MATCH(2020-C137625, Lists!$C$32:$C$40,1))","v":"0-20"},{"$f":"SUMPRODUCT((Data!$B$17:$B$19=Model!$F137625)*(Data!$C$16:$K$16=Model!$K137625)*(Data!$C$17:$K$19))","v":1.22},153.95719689682514,{"$f":"_xlfn.IFS(M137625>70,\"Serviceable\",M137625>30, \"Limited Life\",M137625<=30, \"Unserviceable\")","v":"Serviceable"}]
[null,270163,1990,"CCA Treated Pole","Serviceable","Class 2",2018,162.49719689682513,158.71719689682513,7,{"$f":"INDEX(Lists!$B$32:$B$40, MATCH(2020-C137626, Lists!$C$32:$C$40,1))","v":"21-30"},{"$f":"SUMPRODUCT((Data!$B$17:$B$19=Model!$F137626)*(Data!$C$16:$K$16=Model!$K137626)*(Data!$C$17:$K$19))","v":1.89},149.26719689682514,{"$f":"_xlfn.IFS(M137626>70,\"Serviceable\",M137626>30, \"Limited Life\",M137626<=30, \"Unserviceable\")","v":"Serviceable"}]
[null,270164,1986,"CCA Treated Pole","Serviceable","Class 2",2018,162.49719689682513,157.83719689682513,7,{"$f":"INDEX(Lists!$B$32:$B$40, MATCH(2020-C137627, Lists!$C$32:$C$40,1))","v":"31-40"},{"$f":"SUMPRODUCT((Data!$B$17:$B$19=Model!$F137627)*(Data!$C$16:$K$16=Model!$K137627)*(Data!$C$17:$K$19))","v":2.33},146.18719689682513,{"$f":"_xlfn.IFS(M137627>70,\"Serviceable\",M137627>30, \"Limited Life\",M137627<=30, \"Unserviceable\")","v":"Serviceable"}]
[null,270166,1998,"CCA Treated Pole","Serviceable","Class 2",2017,162.49719689682513,156.82719689682514,8,{"$f":"INDEX(Lists!$B$32:$B$40, MATCH(2020-C137628, Lists!$C$32:$C$40,1))","v":"21-30"},{"$f":"SUMPRODUCT((Data!$B$17:$B$19=Model!$F137628)*(Data!$C$16:$K$16=Model!$K137628)*(Data!$C$17:$K$19))","v":1.89},147.37719689682513,{"$f":"_xlfn.IFS(M137628>70,\"Serviceable\",M137628>30, \"Limited Life\",M137628<=30, \"Unserviceable\")","v":"Serviceable"}]
[null,270169,2010,"CCA Treated Pole","Serviceable","Class 2",2020,162.49719689682513,162.49719689682513,5,{"$f":"INDEX(Lists!$B$32:$B$40, MATCH(2020-C137629, Lists!$C$32:$C$40,1))","v":"0-20"},{"$f":"SUMPRODUCT((Data!$B$17:$B$19=Model!$F137629)*(Data!$C$16:$K$16=Model!$K137629)*(Data!$C$17:$K$19))","v":1.22},156.39719689682514,{"$f":"_xlfn.IFS(M137629>70,\"Serviceable\",M137629>30, \"Limited Life\",M137629<=30, \"Unserviceable\")","v":"Serviceable"}]
[null,270175,1997,"CCA Treated Pole","Serviceable","Class 1",2018,166.31691553103065,162.39691553103066,7,{"$f":"INDEX(Lists!$B$32:$B$40, MATCH(2020-C137630, Lists!$C$32:$C$40,1))","v":"21-30"},{"$f":"SUMPRODUCT((Data!$B$17:$B$19=Model!$F137630)*(Data!$C$16:$K$16=Model!$K137630)*(Data!$C$17:$K$19))","v":1.96},152.59691553103065,{"$f":"_xlfn.IFS(M137630>70,\"Serviceable\",M137630>30, \"Limited Life\",M137630<=30, \"Unserviceable\")","v":"Serviceable"}]
[null,270176,2002,"CCA Treated Pole","Serviceable","Class 2",2016,162.49719689682513,157.61719689682513,9,{"$f":"INDEX(Lists!$B$32:$B$40, MATCH(2020-C137631, Lists!$C$32:$C$40,1))","v":"0-20"},{"$f":"SUMPRODUCT((Data!$B$17:$B$19=Model!$F137631)*(Data!$C$16:$K$16=Model!$K137631)*(Data!$C$17:$K$19))","v":1.22},151.51719689682514,{"$f":"_xlfn.IFS(M137631>70,\"Serviceable\",M137631>30, \"Limited Life\",M137631<=30, \"Unserviceable\")","v":"Serviceable"}]
[null,270177,1990,"CCA Treated Pole","Serviceable","Class 2",2018,162.49719689682513,158.71719689682513,7,{"$f":"INDEX(Lists!$B$32:$B$40, MATCH(2020-C137632, Lists!$C$32:$C$40,1))","v":"21-30"},{"$f":"SUMPRODUCT((Data!$B$17:$B$19=Model!$F137632)*(Data!$C$16:$K$16=Model!$K137632)*(Data!$C$17:$K$19))","v":1.89},149.26719689682514,{"$f":"_xlfn.IFS(M137632>70,\"Serviceable\",M137632>30, \"Limited Life\",M137632<=30, \"Unserviceable\")","v":"Serviceable"}]
[null,270181,1990,"CCA Treated Pole","Serviceable","Class 2",2018,162.49719689682513,158.71719689682513,7,{"$f":"INDEX(Lists!$B$32:$B$40, MATCH(2020-C137633, Lists!$C$32:$C$40,1))","v":"21-30"},{"$f":"SUMPRODUCT((Data!$B$17:$B$19=Model!$F137633)*(Data!$C$16:$K$16=Model!$K137633)*(Data!$C$17:$K$19))","v":1.89},149.26719689682514,{"$f":"_xlfn.IFS(M137633>70,\"Serviceable\",M137633>30, \"Limited Life\",M137633<=30, \"Unserviceable\")","v":"Serviceable"}]
[null,270185,1986,"CCA Treated Pole","Serviceable","Class 2",2018,162.49719689682513,157.83719689682513,7,{"$f":"INDEX(Lists!$B$32:$B$40, MATCH(2020-C137634, Lists!$C$32:$C$40,1))","v":"31-40"},{"$f":"SUMPRODUCT((Data!$B$17:$B$19=Model!$F137634)*(Data!$C$16:$K$16=Model!$K137634)*(Data!$C$17:$K$19))","v":2.33},146.18719689682513,{"$f":"_xlfn.IFS(M137634>70,\"Serviceable\",M137634>30, \"Limited Life\",M137634<=30, \"Unserviceable\")","v":"Serviceable"}]
[null,270189,1990,"CCA Treated Pole","Serviceable","Class 2",2018,162.49719689682513,158.71719689682513,7,{"$f":"INDEX(Lists!$B$32:$B$40, MATCH(2020-C137635, Lists!$C$32:$C$40,1))","v":"21-30"},{"$f":"SUMPRODUCT((Data!$B$17:$B$19=Model!$F137635)*(Data!$C$16:$K$16=Model!$K137635)*(Data!$C$17:$K$19))","v":1.89},149.26719689682514,{"$f":"_xlfn.IFS(M137635>70,\"Serviceable\",M137635>30, \"Limited Life\",M137635<=30, \"Unserviceable\")","v":"Serviceable"}]
[null,270192,2011,"CCA Treated Pole","Serviceable","Class 2",2020,162.49719689682513,162.49719689682513,5,{"$f":"INDEX(Lists!$B$32:$B$40, MATCH(2020-C137636, Lists!$C$32:$C$40,1))","v":"0-20"},{"$f":"SUMPRODUCT((Data!$B$17:$B$19=Model!$F137636)*(Data!$C$16:$K$16=Model!$K137636)*(Data!$C$17:$K$19))","v":1.22},156.39719689682514,{"$f":"_xlfn.IFS(M137636>70,\"Serviceable\",M137636>30, \"Limited Life\",M137636<=30, \"Unserviceable\")","v":"Serviceable"}]
[null,270197,2003,"CCA Treated Pole","Serviceable","Class 2",2018,162.49719689682513,160.05719689682513,7,{"$f":"INDEX(Lists!$B$32:$B$40, MATCH(2020-C137637, Lists!$C$32:$C$40,1))","v":"0-20"},{"$f":"SUMPRODUCT((Data!$B$17:$B$19=Model!$F137637)*(Data!$C$16:$K$16=Model!$K137637)*(Data!$C$17:$K$19))","v":1.22},153.95719689682514,{"$f":"_xlfn.IFS(M137637>70,\"Serviceable\",M137637>30, \"Limited Life\",M137637<=30, \"Unserviceable\")","v":"Serviceable"}]
[null,270201,2004,"CCA Treated Pole","Serviceable","Class 2",2018,162.49719689682513,160.05719689682513,7,{"$f":"INDEX(Lists!$B$32:$B$40, MATCH(2020-C137638, Lists!$C$32:$C$40,1))","v":"0-20"},{"$f":"SUMPRODUCT((Data!$B$17:$B$19=Model!$F137638)*(Data!$C$16:$K$16=Model!$K137638)*(Data!$C$17:$K$19))","v":1.22},153.95719689682514,{"$f":"_xlfn.IFS(M137638>70,\"Serviceable\",M137638>30, \"Limited Life\",M137638<=30, \"Unserviceable\")","v":"Serviceable"}]
[null,270202,1990,"CCA Treated Pole","Serviceable","Class 2",2018,162.49719689682513,158.71719689682513,7,{"$f":"INDEX(Lists!$B$32:$B$40, MATCH(2020-C137639, Lists!$C$32:$C$40,1))","v":"21-30"},{"$f":"SUMPRODUCT((Data!$B$17:$B$19=Model!$F137639)*(Data!$C$16:$K$16=Model!$K137639)*(Data!$C$17:$K$19))","v":1.89},149.26719689682514,{"$f":"_xlfn.IFS(M137639>70,\"Serviceable\",M137639>30, \"Limited Life\",M137639<=30, \"Unserviceable\")","v":"Serviceable"}]
[null,270207,1992,"CCA Treated Pole","Serviceable","Class 1",2018,166.31691553103065,162.39691553103066,7,{"$f":"INDEX(Lists!$B$32:$B$40, MATCH(2020-C137640, Lists!$C$32:$C$40,1))","v":"21-30"},{"$f":"SUMPRODUCT((Data!$B$17:$B$19=Model!$F137640)*(Data!$C$16:$K$16=Model!$K137640)*(Data!$C$17:$K$19))","v":1.96},152.59691553103065,{"$f":"_xlfn.IFS(M137640>70,\"Serviceable\",M137640>30, \"Limited Life\",M137640<=30, \"Unserviceable\")","v":"Serviceable"}]
[null,270215,2002,"CCA Treated Pole","Serviceable","Class 2",2016,162.49719689682513,157.61719689682513,9,{"$f":"INDEX(Lists!$B$32:$B$40, MATCH(2020-C137641, Lists!$C$32:$C$40,1))","v":"0-20"},{"$f":"SUMPRODUCT((Data!$B$17:$B$19=Model!$F137641)*(Data!$C$16:$K$16=Model!$K137641)*(Data!$C$17:$K$19))","v":1.22},151.51719689682514,{"$f":"_xlfn.IFS(M137641>70,\"Serviceable\",M137641>30, \"Limited Life\",M137641<=30, \"Unserviceable\")","v":"Serviceable"}]
[null,270216,1990,"CCA Treated Pole","Serviceable","Class 2",2018,162.49719689682513,158.71719689682513,7,{"$f":"INDEX(Lists!$B$32:$B$40, MATCH(2020-C137642, Lists!$C$32:$C$40,1))","v":"21-30"},{"$f":"SUMPRODUCT((Data!$B$17:$B$19=Model!$F137642)*(Data!$C$16:$K$16=Model!$K137642)*(Data!$C$17:$K$19))","v":1.89},149.26719689682514,{"$f":"_xlfn.IFS(M137642>70,\"Serviceable\",M137642>30, \"Limited Life\",M137642<=30, \"Unserviceable\")","v":"Serviceable"}]
[null,270232,1993,"CCA Treated Pole","Serviceable","Class 2",2018,162.49719689682513,158.71719689682513,7,{"$f":"INDEX(Lists!$B$32:$B$40, MATCH(2020-C137643, Lists!$C$32:$C$40,1))","v":"21-30"},{"$f":"SUMPRODUCT((Data!$B$17:$B$19=Model!$F137643)*(Data!$C$16:$K$16=Model!$K137643)*(Data!$C$17:$K$19))","v":1.89},149.26719689682514,{"$f":"_xlfn.IFS(M137643>70,\"Serviceable\",M137643>30, \"Limited Life\",M137643<=30, \"Unserviceable\")","v":"Serviceable"}]
[null,270243,2005,"CCA Treated Pole","Serviceable","Class 2",2018,162.49719689682513,160.05719689682513,7,{"$f":"INDEX(Lists!$B$32:$B$40, MATCH(2020-C137644, Lists!$C$32:$C$40,1))","v":"0-20"},{"$f":"SUMPRODUCT((Data!$B$17:$B$19=Model!$F137644)*(Data!$C$16:$K$16=Model!$K137644)*(Data!$C$17:$K$19))","v":1.22},153.95719689682514,{"$f":"_xlfn.IFS(M137644>70,\"Serviceable\",M137644>30, \"Limited Life\",M137644<=30, \"Unserviceable\")","v":"Serviceable"}]
[null,270245,1992,"CCA Treated Pole","Serviceable","Class 2",2018,162.49719689682513,158.71719689682513,7,{"$f":"INDEX(Lists!$B$32:$B$40, MATCH(2020-C137645, Lists!$C$32:$C$40,1))","v":"21-30"},{"$f":"SUMPRODUCT((Data!$B$17:$B$19=Model!$F137645)*(Data!$C$16:$K$16=Model!$K137645)*(Data!$C$17:$K$19))","v":1.89},149.26719689682514,{"$f":"_xlfn.IFS(M137645>70,\"Serviceable\",M137645>30, \"Limited Life\",M137645<=30, \"Unserviceable\")","v":"Serviceable"}]
[null,270246,1992,"CCA Treated Pole","Serviceable","Class 1",2018,166.31691553103065,162.39691553103066,7,{"$f":"INDEX(Lists!$B$32:$B$40, MATCH(2020-C137646, Lists!$C$32:$C$40,1))","v":"21-30"},{"$f":"SUMPRODUCT((Data!$B$17:$B$19=Model!$F137646)*(Data!$C$16:$K$16=Model!$K137646)*(Data!$C$17:$K$19))","v":1.96},152.59691553103065,{"$f":"_xlfn.IFS(M137646>70,\"Serviceable\",M137646>30, \"Limited Life\",M137646<=30, \"Unserviceable\")","v":"Serviceable"}]
[null,270251,2006,"CCA Treated Pole","Serviceable","Class 2",2016,162.49719689682513,157.61719689682513,9,{"$f":"INDEX(Lists!$B$32:$B$40, MATCH(2020-C137647, Lists!$C$32:$C$40,1))","v":"0-20"},{"$f":"SUMPRODUCT((Data!$B$17:$B$19=Model!$F137647)*(Data!$C$16:$K$16=Model!$K137647)*(Data!$C$17:$K$19))","v":1.22},151.51719689682514,{"$f":"_xlfn.IFS(M137647>70,\"Serviceable\",M137647>30, \"Limited Life\",M137647<=30, \"Unserviceable\")","v":"Serviceable"}]
[null,270254,1992,"CCA Treated Pole","Serviceable","Class 2",2018,162.49719689682513,158.71719689682513,7,{"$f":"INDEX(Lists!$B$32:$B$40, MATCH(2020-C137648, Lists!$C$32:$C$40,1))","v":"21-30"},{"$f":"SUMPRODUCT((Data!$B$17:$B$19=Model!$F137648)*(Data!$C$16:$K$16=Model!$K137648)*(Data!$C$17:$K$19))","v":1.89},149.26719689682514,{"$f":"_xlfn.IFS(M137648>70,\"Serviceable\",M137648>30, \"Limited Life\",M137648<=30, \"Unserviceable\")","v":"Serviceable"}]
[null,270257,2013,"CCA Treated Pole","Serviceable","Class 2",2018,162.49719689682513,160.05719689682513,7,{"$f":"INDEX(Lists!$B$32:$B$40, MATCH(2020-C137649, Lists!$C$32:$C$40,1))","v":"0-20"},{"$f":"SUMPRODUCT((Data!$B$17:$B$19=Model!$F137649)*(Data!$C$16:$K$16=Model!$K137649)*(Data!$C$17:$K$19))","v":1.22},153.95719689682514,{"$f":"_xlfn.IFS(M137649>70,\"Serviceable\",M137649>30, \"Limited Life\",M137649<=30, \"Unserviceable\")","v":"Serviceable"}]
[null,270267,1999,"CCA Treated Pole","Serviceable","Class 2",2018,162.49719689682513,158.71719689682513,7,{"$f":"INDEX(Lists!$B$32:$B$40, MATCH(2020-C137650, Lists!$C$32:$C$40,1))","v":"21-30"},{"$f":"SUMPRODUCT((Data!$B$17:$B$19=Model!$F137650)*(Data!$C$16:$K$16=Model!$K137650)*(Data!$C$17:$K$19))","v":1.89},149.26719689682514,{"$f":"_xlfn.IFS(M137650>70,\"Serviceable\",M137650>30, \"Limited Life\",M137650<=30, \"Unserviceable\")","v":"Serviceable"}]
[null,270285,2000,"CCA Treated Pole","Serviceable","Class 1",2018,166.31691553103065,164.19691553103064,7,{"$f":"INDEX(Lists!$B$32:$B$40, MATCH(2020-C137651, Lists!$C$32:$C$40,1))","v":"0-20"},{"$f":"SUMPRODUCT((Data!$B$17:$B$19=Model!$F137651)*(Data!$C$16:$K$16=Model!$K137651)*(Data!$C$17:$K$19))","v":1.06},158.89691553103066,{"$f":"_xlfn.IFS(M137651>70,\"Serviceable\",M137651>30, \"Limited Life\",M137651<=30, \"Unserviceable\")","v":"Serviceable"}]
[null,270329,1990,"CCA Treated Pole","Serviceable","Class 2",2018,162.49719689682513,158.71719689682513,7,{"$f":"INDEX(Lists!$B$32:$B$40, MATCH(2020-C137652, Lists!$C$32:$C$40,1))","v":"21-30"},{"$f":"SUMPRODUCT((Data!$B$17:$B$19=Model!$F137652)*(Data!$C$16:$K$16=Model!$K137652)*(Data!$C$17:$K$19))","v":1.89},149.26719689682514,{"$f":"_xlfn.IFS(M137652>70,\"Serviceable\",M137652>30, \"Limited Life\",M137652<=30, \"Unserviceable\")","v":"Serviceable"}]
[null,270332,2004,"CCA Treated Pole","Serviceable","Class 2",2019,162.49719689682513,161.27719689682513,6,{"$f":"INDEX(Lists!$B$32:$B$40, MATCH(2020-C137653, Lists!$C$32:$C$40,1))","v":"0-20"},{"$f":"SUMPRODUCT((Data!$B$17:$B$19=Model!$F137653)*(Data!$C$16:$K$16=Model!$K137653)*(Data!$C$17:$K$19))","v":1.22},155.17719689682514,{"$f":"_xlfn.IFS(M137653>70,\"Serviceable\",M137653>30, \"Limited Life\",M137653<=30, \"Unserviceable\")","v":"Serviceable"}]
[null,270333,1989,"CCA Treated Pole","Serviceable","Class 2",2018,162.49719689682513,157.83719689682513,7,{"$f":"INDEX(Lists!$B$32:$B$40, MATCH(2020-C137654, Lists!$C$32:$C$40,1))","v":"31-40"},{"$f":"SUMPRODUCT((Data!$B$17:$B$19=Model!$F137654)*(Data!$C$16:$K$16=Model!$K137654)*(Data!$C$17:$K$19))","v":2.33},146.18719689682513,{"$f":"_xlfn.IFS(M137654>70,\"Serviceable\",M137654>30, \"Limited Life\",M137654<=30, \"Unserviceable\")","v":"Serviceable"}]
[null,270340,2011,"CCA Treated Pole","Serviceable","Class 1",2019,166.31691553103065,165.25691553103064,6,{"$f":"INDEX(Lists!$B$32:$B$40, MATCH(2020-C137655, Lists!$C$32:$C$40,1))","v":"0-20"},{"$f":"SUMPRODUCT((Data!$B$17:$B$19=Model!$F137655)*(Data!$C$16:$K$16=Model!$K137655)*(Data!$C$17:$K$19))","v":1.06},159.95691553103063,{"$f":"_xlfn.IFS(M137655>70,\"Serviceable\",M137655>30, \"Limited Life\",M137655<=30, \"Unserviceable\")","v":"Serviceable"}]
[null,270342,1999,"CCA Treated Pole","Serviceable","Class 2",2018,162.49719689682513,158.71719689682513,7,{"$f":"INDEX(Lists!$B$32:$B$40, MATCH(2020-C137656, Lists!$C$32:$C$40,1))","v":"21-30"},{"$f":"SUMPRODUCT((Data!$B$17:$B$19=Model!$F137656)*(Data!$C$16:$K$16=Model!$K137656)*(Data!$C$17:$K$19))","v":1.89},149.26719689682514,{"$f":"_xlfn.IFS(M137656>70,\"Serviceable\",M137656>30, \"Limited Life\",M137656<=30, \"Unserviceable\")","v":"Serviceable"}]
[null,270345,2012,"CCA Treated Pole","Serviceable","Class 2",2018,162.49719689682513,160.05719689682513,7,{"$f":"INDEX(Lists!$B$32:$B$40, MATCH(2020-C137657, Lists!$C$32:$C$40,1))","v":"0-20"},{"$f":"SUMPRODUCT((Data!$B$17:$B$19=Model!$F137657)*(Data!$C$16:$K$16=Model!$K137657)*(Data!$C$17:$K$19))","v":1.22},153.95719689682514,{"$f":"_xlfn.IFS(M137657>70,\"Serviceable\",M137657>30, \"Limited Life\",M137657<=30, \"Unserviceable\")","v":"Serviceable"}]
[null,270347,1994,"CCA Treated Pole","Serviceable","Class 1",2018,166.31691553103065,162.39691553103066,7,{"$f":"INDEX(Lists!$B$32:$B$40, MATCH(2020-C137658, Lists!$C$32:$C$40,1))","v":"21-30"},{"$f":"SUMPRODUCT((Data!$B$17:$B$19=Model!$F137658)*(Data!$C$16:$K$16=Model!$K137658)*(Data!$C$17:$K$19))","v":1.96},152.59691553103065,{"$f":"_xlfn.IFS(M137658>70,\"Serviceable\",M137658>30, \"Limited Life\",M137658<=30, \"Unserviceable\")","v":"Serviceable"}]
[null,270348,1991,"CCA Treated Pole","Serviceable","Class 1",2018,166.31691553103065,162.39691553103066,7,{"$f":"INDEX(Lists!$B$32:$B$40, MATCH(2020-C137659, Lists!$C$32:$C$40,1))","v":"21-30"},{"$f":"SUMPRODUCT((Data!$B$17:$B$19=Model!$F137659)*(Data!$C$16:$K$16=Model!$K137659)*(Data!$C$17:$K$19))","v":1.96},152.59691553103065,{"$f":"_xlfn.IFS(M137659>70,\"Serviceable\",M137659>30, \"Limited Life\",M137659<=30, \"Unserviceable\")","v":"Serviceable"}]
[null,270353,2010,"CCA Treated Pole","Serviceable","Class 2",2018,162.49719689682513,160.05719689682513,7,{"$f":"INDEX(Lists!$B$32:$B$40, MATCH(2020-C137660, Lists!$C$32:$C$40,1))","v":"0-20"},{"$f":"SUMPRODUCT((Data!$B$17:$B$19=Model!$F137660)*(Data!$C$16:$K$16=Model!$K137660)*(Data!$C$17:$K$19))","v":1.22},153.95719689682514,{"$f":"_xlfn.IFS(M137660>70,\"Serviceable\",M137660>30, \"Limited Life\",M137660<=30, \"Unserviceable\")","v":"Serviceable"}]
[null,270354,1991,"CCA Treated Pole","Serviceable","Class 2",2018,162.49719689682513,158.71719689682513,7,{"$f":"INDEX(Lists!$B$32:$B$40, MATCH(2020-C137661, Lists!$C$32:$C$40,1))","v":"21-30"},{"$f":"SUMPRODUCT((Data!$B$17:$B$19=Model!$F137661)*(Data!$C$16:$K$16=Model!$K137661)*(Data!$C$17:$K$19))","v":1.89},149.26719689682514,{"$f":"_xlfn.IFS(M137661>70,\"Serviceable\",M137661>30, \"Limited Life\",M137661<=30, \"Unserviceable\")","v":"Serviceable"}]
[null,270357,1999,"CCA Treated Pole","Serviceable","Class 1",2018,166.31691553103065,162.39691553103066,7,{"$f":"INDEX(Lists!$B$32:$B$40, MATCH(2020-C137662, Lists!$C$32:$C$40,1))","v":"21-30"},{"$f":"SUMPRODUCT((Data!$B$17:$B$19=Model!$F137662)*(Data!$C$16:$K$16=Model!$K137662)*(Data!$C$17:$K$19))","v":1.96},152.59691553103065,{"$f":"_xlfn.IFS(M137662>70,\"Serviceable\",M137662>30, \"Limited Life\",M137662<=30, \"Unserviceable\")","v":"Serviceable"}]
[null,270358,1990,"CCA Treated Pole","Serviceable","Class 2",2019,162.49719689682513,160.60719689682514,6,{"$f":"INDEX(Lists!$B$32:$B$40, MATCH(2020-C137663, Lists!$C$32:$C$40,1))","v":"21-30"},{"$f":"SUMPRODUCT((Data!$B$17:$B$19=Model!$F137663)*(Data!$C$16:$K$16=Model!$K137663)*(Data!$C$17:$K$19))","v":1.89},151.15719689682513,{"$f":"_xlfn.IFS(M137663>70,\"Serviceable\",M137663>30, \"Limited Life\",M137663<=30, \"Unserviceable\")","v":"Serviceable"}]
[null,270359,1998,"CCA Treated Pole","Serviceable","Class 1",2018,166.31691553103065,162.39691553103066,7,{"$f":"INDEX(Lists!$B$32:$B$40, MATCH(2020-C137664, Lists!$C$32:$C$40,1))","v":"21-30"},{"$f":"SUMPRODUCT((Data!$B$17:$B$19=Model!$F137664)*(Data!$C$16:$K$16=Model!$K137664)*(Data!$C$17:$K$19))","v":1.96},152.59691553103065,{"$f":"_xlfn.IFS(M137664>70,\"Serviceable\",M137664>30, \"Limited Life\",M137664<=30, \"Unserviceable\")","v":"Serviceable"}]
[null,270370,1986,"CCA Treated Pole","Serviceable","Class 2",2018,162.49719689682513,157.83719689682513,7,{"$f":"INDEX(Lists!$B$32:$B$40, MATCH(2020-C137665, Lists!$C$32:$C$40,1))","v":"31-40"},{"$f":"SUMPRODUCT((Data!$B$17:$B$19=Model!$F137665)*(Data!$C$16:$K$16=Model!$K137665)*(Data!$C$17:$K$19))","v":2.33},146.18719689682513,{"$f":"_xlfn.IFS(M137665>70,\"Serviceable\",M137665>30, \"Limited Life\",M137665<=30, \"Unserviceable\")","v":"Serviceable"}]
[null,270376,1986,"CCA Treated Pole","Serviceable","Class 2",2019,162.49719689682513,160.16719689682512,6,{"$f":"INDEX(Lists!$B$32:$B$40, MATCH(2020-C137666, Lists!$C$32:$C$40,1))","v":"31-40"},{"$f":"SUMPRODUCT((Data!$B$17:$B$19=Model!$F137666)*(Data!$C$16:$K$16=Model!$K137666)*(Data!$C$17:$K$19))","v":2.33},148.51719689682514,{"$f":"_xlfn.IFS(M137666>70,\"Serviceable\",M137666>30, \"Limited Life\",M137666<=30, \"Unserviceable\")","v":"Serviceable"}]
[null,270377,1989,"CCA Treated Pole","Serviceable","Class 2",2019,162.49719689682513,160.16719689682512,6,{"$f":"INDEX(Lists!$B$32:$B$40, MATCH(2020-C137667, Lists!$C$32:$C$40,1))","v":"31-40"},{"$f":"SUMPRODUCT((Data!$B$17:$B$19=Model!$F137667)*(Data!$C$16:$K$16=Model!$K137667)*(Data!$C$17:$K$19))","v":2.33},148.51719689682514,{"$f":"_xlfn.IFS(M137667>70,\"Serviceable\",M137667>30, \"Limited Life\",M137667<=30, \"Unserviceable\")","v":"Serviceable"}]
[null,270385,1994,"CCA Treated Pole","Serviceable","Class 2",2020,162.49719689682513,162.49719689682513,5,{"$f":"INDEX(Lists!$B$32:$B$40, MATCH(2020-C137668, Lists!$C$32:$C$40,1))","v":"21-30"},{"$f":"SUMPRODUCT((Data!$B$17:$B$19=Model!$F137668)*(Data!$C$16:$K$16=Model!$K137668)*(Data!$C$17:$K$19))","v":1.89},153.04719689682514,{"$f":"_xlfn.IFS(M137668>70,\"Serviceable\",M137668>30, \"Limited Life\",M137668<=30, \"Unserviceable\")","v":"Serviceable"}]
[null,270387,1989,"CCA Treated Pole","Serviceable","Class 2",2018,162.49719689682513,157.83719689682513,7,{"$f":"INDEX(Lists!$B$32:$B$40, MATCH(2020-C137669, Lists!$C$32:$C$40,1))","v":"31-40"},{"$f":"SUMPRODUCT((Data!$B$17:$B$19=Model!$F137669)*(Data!$C$16:$K$16=Model!$K137669)*(Data!$C$17:$K$19))","v":2.33},146.18719689682513,{"$f":"_xlfn.IFS(M137669>70,\"Serviceable\",M137669>30, \"Limited Life\",M137669<=30, \"Unserviceable\")","v":"Serviceable"}]
[null,270406,2003,"CCA Treated Pole","Serviceable","Class 2",2019,162.49719689682513,161.27719689682513,6,{"$f":"INDEX(Lists!$B$32:$B$40, MATCH(2020-C137670, Lists!$C$32:$C$40,1))","v":"0-20"},{"$f":"SUMPRODUCT((Data!$B$17:$B$19=Model!$F137670)*(Data!$C$16:$K$16=Model!$K137670)*(Data!$C$17:$K$19))","v":1.22},155.17719689682514,{"$f":"_xlfn.IFS(M137670>70,\"Serviceable\",M137670>30, \"Limited Life\",M137670<=30, \"Unserviceable\")","v":"Serviceable"}]
[null,272073,2014,"Wood Creos Impregnated","Serviceable","Class 3",2016,100,94.52,9,{"$f":"INDEX(Lists!$B$32:$B$40, MATCH(2020-C137671, Lists!$C$32:$C$40,1))","v":"0-20"},{"$f":"SUMPRODUCT((Data!$B$17:$B$19=Model!$F137671)*(Data!$C$16:$K$16=Model!$K137671)*(Data!$C$17:$K$19))","v":1.37},87.67,{"$f":"_xlfn.IFS(M137671>70,\"Serviceable\",M137671>30, \"Limited Life\",M137671<=30, \"Unserviceable\")","v":"Serviceable"}]
[null,273103,2002,"CCA Treated Pole","Serviceable","Class 1",2019,166.31691553103065,165.25691553103064,{"$f":"2025-G137672","v":6},{"$f":"INDEX(Lists!$B$32:$B$40, MATCH(2020-C137672, Lists!$C$32:$C$40,1))","v":"0-20"},{"$f":"SUMPRODUCT((Data!$B$17:$B$19=Model!$F137672)*(Data!$C$16:$K$16=Model!$K137672)*(Data!$C$17:$K$19))","v":1.06},{"$f":"IF(IF(H137672>=700,999,(H137672-L137672*J137672))<0,0,IF(H137672>=700,999,(H137672-L137672*J137672)))","v":159.95691553103063},{"$f":"_xlfn.IFS(M137672>70,\"Serviceable\",M137672>30, \"Limited Life\",M137672<=30, \"Unserviceable\")","v":"Serviceable"}]
[null,273107,2005,"CCA Treated Pole","Serviceable","Class 1",2018,166.31691553103065,164.19691553103064,7,{"$f":"INDEX(Lists!$B$32:$B$40, MATCH(2020-C137673, Lists!$C$32:$C$40,1))","v":"0-20"},{"$f":"SUMPRODUCT((Data!$B$17:$B$19=Model!$F137673)*(Data!$C$16:$K$16=Model!$K137673)*(Data!$C$17:$K$19))","v":1.06},158.89691553103066,{"$f":"_xlfn.IFS(M137673>70,\"Serviceable\",M137673>30, \"Limited Life\",M137673<=30, \"Unserviceable\")","v":"Serviceable"}]
[null,273109,1999,"CCA Treated Pole","Serviceable","Class 1",2019,166.31691553103065,164.35691553103064,6,{"$f":"INDEX(Lists!$B$32:$B$40, MATCH(2020-C137674, Lists!$C$32:$C$40,1))","v":"21-30"},{"$f":"SUMPRODUCT((Data!$B$17:$B$19=Model!$F137674)*(Data!$C$16:$K$16=Model!$K137674)*(Data!$C$17:$K$19))","v":1.96},154.55691553103065,{"$f":"_xlfn.IFS(M137674>70,\"Serviceable\",M137674>30, \"Limited Life\",M137674<=30, \"Unserviceable\")","v":"Serviceable"}]
[null,273119,1991,"CCA Treated Pole","Serviceable","Class 2",2019,162.49719689682513,160.60719689682514,6,{"$f":"INDEX(Lists!$B$32:$B$40, MATCH(2020-C137675, Lists!$C$32:$C$40,1))","v":"21-30"},{"$f":"SUMPRODUCT((Data!$B$17:$B$19=Model!$F137675)*(Data!$C$16:$K$16=Model!$K137675)*(Data!$C$17:$K$19))","v":1.89},151.15719689682513,{"$f":"_xlfn.IFS(M137675>70,\"Serviceable\",M137675>30, \"Limited Life\",M137675<=30, \"Unserviceable\")","v":"Serviceable"}]
[null,274173,1993,"CCA Treated Pole","Serviceable","Class 2",2018,162.49719689682513,158.71719689682513,7,{"$f":"INDEX(Lists!$B$32:$B$40, MATCH(2020-C137676, Lists!$C$32:$C$40,1))","v":"21-30"},{"$f":"SUMPRODUCT((Data!$B$17:$B$19=Model!$F137676)*(Data!$C$16:$K$16=Model!$K137676)*(Data!$C$17:$K$19))","v":1.89},149.26719689682514,{"$f":"_xlfn.IFS(M137676>70,\"Serviceable\",M137676>30, \"Limited Life\",M137676<=30, \"Unserviceable\")","v":"Serviceable"}]
[null,274177,1995,"CCA Treated Pole","Serviceable","Class 2",2020,162.49719689682513,162.49719689682513,5,{"$f":"INDEX(Lists!$B$32:$B$40, MATCH(2020-C137677, Lists!$C$32:$C$40,1))","v":"21-30"},{"$f":"SUMPRODUCT((Data!$B$17:$B$19=Model!$F137677)*(Data!$C$16:$K$16=Model!$K137677)*(Data!$C$17:$K$19))","v":1.89},153.04719689682514,{"$f":"_xlfn.IFS(M137677>70,\"Serviceable\",M137677>30, \"Limited Life\",M137677<=30, \"Unserviceable\")","v":"Serviceable"}]
[null,279117,2014,"Wood Creos Impregnated","Serviceable","Class 3",2019,90,88.63,6,{"$f":"INDEX(Lists!$B$32:$B$40, MATCH(2020-C137678, Lists!$C$32:$C$40,1))","v":"0-20"},{"$f":"SUMPRODUCT((Data!$B$17:$B$19=Model!$F137678)*(Data!$C$16:$K$16=Model!$K137678)*(Data!$C$17:$K$19))","v":1.37},81.78,{"$f":"_xlfn.IFS(M137678>70,\"Serviceable\",M137678>30, \"Limited Life\",M137678<=30, \"Unserviceable\")","v":"Serviceable"}]
[null,288085,1990,"CCA Treated Pole","Serviceable","Class 2",2020,162.49719689682513,162.49719689682513,5,{"$f":"INDEX(Lists!$B$32:$B$40, MATCH(2020-C137679, Lists!$C$32:$C$40,1))","v":"21-30"},{"$f":"SUMPRODUCT((Data!$B$17:$B$19=Model!$F137679)*(Data!$C$16:$K$16=Model!$K137679)*(Data!$C$17:$K$19))","v":1.89},153.04719689682514,{"$f":"_xlfn.IFS(M137679>70,\"Serviceable\",M137679>30, \"Limited Life\",M137679<=30, \"Unserviceable\")","v":"Serviceable"}]
[null,289101,2004,"CCA Treated Pole","Serviceable","Class 2",2019,162.49719689682513,161.27719689682513,6,{"$f":"INDEX(Lists!$B$32:$B$40, MATCH(2020-C137680, Lists!$C$32:$C$40,1))","v":"0-20"},{"$f":"SUMPRODUCT((Data!$B$17:$B$19=Model!$F137680)*(Data!$C$16:$K$16=Model!$K137680)*(Data!$C$17:$K$19))","v":1.22},155.17719689682514,{"$f":"_xlfn.IFS(M137680>70,\"Serviceable\",M137680>30, \"Limited Life\",M137680<=30, \"Unserviceable\")","v":"Serviceable"}]
[null,289112,2007,"CCA Treated Pole","Serviceable","Class 2",2020,162.49719689682513,162.49719689682513,5,{"$f":"INDEX(Lists!$B$32:$B$40, MATCH(2020-C137681, Lists!$C$32:$C$40,1))","v":"0-20"},{"$f":"SUMPRODUCT((Data!$B$17:$B$19=Model!$F137681)*(Data!$C$16:$K$16=Model!$K137681)*(Data!$C$17:$K$19))","v":1.22},156.39719689682514,{"$f":"_xlfn.IFS(M137681>70,\"Serviceable\",M137681>30, \"Limited Life\",M137681<=30, \"Unserviceable\")","v":"Serviceable"}]
[null,290071,1986,"CCA Treated Pole","Serviceable","Class 2",2019,162.49719689682513,160.16719689682512,6,{"$f":"INDEX(Lists!$B$32:$B$40, MATCH(2020-C137682, Lists!$C$32:$C$40,1))","v":"31-40"},{"$f":"SUMPRODUCT((Data!$B$17:$B$19=Model!$F137682)*(Data!$C$16:$K$16=Model!$K137682)*(Data!$C$17:$K$19))","v":2.33},148.51719689682514,{"$f":"_xlfn.IFS(M137682>70,\"Serviceable\",M137682>30, \"Limited Life\",M137682<=30, \"Unserviceable\")","v":"Serviceable"}]
[null,290074,1995,"CCA Treated Pole","Serviceable","Class 2",2020,162.49719689682513,162.49719689682513,5,{"$f":"INDEX(Lists!$B$32:$B$40, MATCH(2020-C137683, Lists!$C$32:$C$40,1))","v":"21-30"},{"$f":"SUMPRODUCT((Data!$B$17:$B$19=Model!$F137683)*(Data!$C$16:$K$16=Model!$K137683)*(Data!$C$17:$K$19))","v":1.89},153.04719689682514,{"$f":"_xlfn.IFS(M137683>70,\"Serviceable\",M137683>30, \"Limited Life\",M137683<=30, \"Unserviceable\")","v":"Serviceable"}]
[null,290076,1990,"CCA Treated Pole","Serviceable","Class 1",2020,166.31691553103065,166.31691553103065,5,{"$f":"INDEX(Lists!$B$32:$B$40, MATCH(2020-C137684, Lists!$C$32:$C$40,1))","v":"21-30"},{"$f":"SUMPRODUCT((Data!$B$17:$B$19=Model!$F137684)*(Data!$C$16:$K$16=Model!$K137684)*(Data!$C$17:$K$19))","v":1.96},156.51691553103063,{"$f":"_xlfn.IFS(M137684>70,\"Serviceable\",M137684>30, \"Limited Life\",M137684<=30, \"Unserviceable\")","v":"Serviceable"}]
[null,290078,1998,"CCA Treated Pole","Serviceable","Class 2",2019,162.49719689682513,160.60719689682514,6,{"$f":"INDEX(Lists!$B$32:$B$40, MATCH(2020-C137685, Lists!$C$32:$C$40,1))","v":"21-30"},{"$f":"SUMPRODUCT((Data!$B$17:$B$19=Model!$F137685)*(Data!$C$16:$K$16=Model!$K137685)*(Data!$C$17:$K$19))","v":1.89},151.15719689682513,{"$f":"_xlfn.IFS(M137685>70,\"Serviceable\",M137685>30, \"Limited Life\",M137685<=30, \"Unserviceable\")","v":"Serviceable"}]
[null,290082,1990,"CCA Treated Pole","Serviceable","Class 2",2020,162.49719689682513,162.49719689682513,5,{"$f":"INDEX(Lists!$B$32:$B$40, MATCH(2020-C137686, Lists!$C$32:$C$40,1))","v":"21-30"},{"$f":"SUMPRODUCT((Data!$B$17:$B$19=Model!$F137686)*(Data!$C$16:$K$16=Model!$K137686)*(Data!$C$17:$K$19))","v":1.89},153.04719689682514,{"$f":"_xlfn.IFS(M137686>70,\"Serviceable\",M137686>30, \"Limited Life\",M137686<=30, \"Unserviceable\")","v":"Serviceable"}]
[null,290085,1990,"CCA Treated Pole","Serviceable","Class 2",2017,162.49719689682513,156.82719689682514,8,{"$f":"INDEX(Lists!$B$32:$B$40, MATCH(2020-C137687, Lists!$C$32:$C$40,1))","v":"21-30"},{"$f":"SUMPRODUCT((Data!$B$17:$B$19=Model!$F137687)*(Data!$C$16:$K$16=Model!$K137687)*(Data!$C$17:$K$19))","v":1.89},147.37719689682513,{"$f":"_xlfn.IFS(M137687>70,\"Serviceable\",M137687>30, \"Limited Life\",M137687<=30, \"Unserviceable\")","v":"Serviceable"}]
[null,290088,1995,"CCA Treated Pole","Serviceable","Class 2",2020,162.49719689682513,162.49719689682513,5,{"$f":"INDEX(Lists!$B$32:$B$40, MATCH(2020-C137688, Lists!$C$32:$C$40,1))","v":"21-30"},{"$f":"SUMPRODUCT((Data!$B$17:$B$19=Model!$F137688)*(Data!$C$16:$K$16=Model!$K137688)*(Data!$C$17:$K$19))","v":1.89},153.04719689682514,{"$f":"_xlfn.IFS(M137688>70,\"Serviceable\",M137688>30, \"Limited Life\",M137688<=30, \"Unserviceable\")","v":"Serviceable"}]
[null,290092,1994,"CCA Treated Pole","Serviceable","Class 2",2018,162.49719689682513,158.71719689682513,7,{"$f":"INDEX(Lists!$B$32:$B$40, MATCH(2020-C137689, Lists!$C$32:$C$40,1))","v":"21-30"},{"$f":"SUMPRODUCT((Data!$B$17:$B$19=Model!$F137689)*(Data!$C$16:$K$16=Model!$K137689)*(Data!$C$17:$K$19))","v":1.89},149.26719689682514,{"$f":"_xlfn.IFS(M137689>70,\"Serviceable\",M137689>30, \"Limited Life\",M137689<=30, \"Unserviceable\")","v":"Serviceable"}]
[null,290094,1999,"CCA Treated Pole","Serviceable","Class 1",2018,166.31691553103065,162.39691553103066,7,{"$f":"INDEX(Lists!$B$32:$B$40, MATCH(2020-C137690, Lists!$C$32:$C$40,1))","v":"21-30"},{"$f":"SUMPRODUCT((Data!$B$17:$B$19=Model!$F137690)*(Data!$C$16:$K$16=Model!$K137690)*(Data!$C$17:$K$19))","v":1.96},152.59691553103065,{"$f":"_xlfn.IFS(M137690>70,\"Serviceable\",M137690>30, \"Limited Life\",M137690<=30, \"Unserviceable\")","v":"Serviceable"}]
[null,292102,1990,"CCA Treated Pole","Serviceable","Class 2",2019,162.49719689682513,160.60719689682514,6,{"$f":"INDEX(Lists!$B$32:$B$40, MATCH(2020-C137691, Lists!$C$32:$C$40,1))","v":"21-30"},{"$f":"SUMPRODUCT((Data!$B$17:$B$19=Model!$F137691)*(Data!$C$16:$K$16=Model!$K137691)*(Data!$C$17:$K$19))","v":1.89},151.15719689682513,{"$f":"_xlfn.IFS(M137691>70,\"Serviceable\",M137691>30, \"Limited Life\",M137691<=30, \"Unserviceable\")","v":"Serviceable"}]
[null,292107,1989,"CCA Treated Pole","Serviceable","Class 2",2019,162.49719689682513,160.16719689682512,6,{"$f":"INDEX(Lists!$B$32:$B$40, MATCH(2020-C137692, Lists!$C$32:$C$40,1))","v":"31-40"},{"$f":"SUMPRODUCT((Data!$B$17:$B$19=Model!$F137692)*(Data!$C$16:$K$16=Model!$K137692)*(Data!$C$17:$K$19))","v":2.33},148.51719689682514,{"$f":"_xlfn.IFS(M137692>70,\"Serviceable\",M137692>30, \"Limited Life\",M137692<=30, \"Unserviceable\")","v":"Serviceable"}]
[null,292108,2006,"CCA Treated Pole","Serviceable","Class 2",2019,162.49719689682513,161.27719689682513,6,{"$f":"INDEX(Lists!$B$32:$B$40, MATCH(2020-C137693, Lists!$C$32:$C$40,1))","v":"0-20"},{"$f":"SUMPRODUCT((Data!$B$17:$B$19=Model!$F137693)*(Data!$C$16:$K$16=Model!$K137693)*(Data!$C$17:$K$19))","v":1.22},155.17719689682514,{"$f":"_xlfn.IFS(M137693>70,\"Serviceable\",M137693>30, \"Limited Life\",M137693<=30, \"Unserviceable\")","v":"Serviceable"}]
[null,292111,1990,"CCA Treated Pole","Serviceable","Class 1",2019,166.31691553103065,164.35691553103064,6,{"$f":"INDEX(Lists!$B$32:$B$40, MATCH(2020-C137694, Lists!$C$32:$C$40,1))","v":"21-30"},{"$f":"SUMPRODUCT((Data!$B$17:$B$19=Model!$F137694)*(Data!$C$16:$K$16=Model!$K137694)*(Data!$C$17:$K$19))","v":1.96},154.55691553103065,{"$f":"_xlfn.IFS(M137694>70,\"Serviceable\",M137694>30, \"Limited Life\",M137694<=30, \"Unserviceable\")","v":"Serviceable"}]
[null,292113,2009,"CCA Treated Pole","Serviceable","Class 2",2019,162.49719689682513,161.27719689682513,6,{"$f":"INDEX(Lists!$B$32:$B$40, MATCH(2020-C137695, Lists!$C$32:$C$40,1))","v":"0-20"},{"$f":"SUMPRODUCT((Data!$B$17:$B$19=Model!$F137695)*(Data!$C$16:$K$16=Model!$K137695)*(Data!$C$17:$K$19))","v":1.22},155.17719689682514,{"$f":"_xlfn.IFS(M137695>70,\"Serviceable\",M137695>30, \"Limited Life\",M137695<=30, \"Unserviceable\")","v":"Serviceable"}]
[null,294074,1999,"CCA Treated Pole","Serviceable","Class 2",2020,162.49719689682513,162.49719689682513,5,{"$f":"INDEX(Lists!$B$32:$B$40, MATCH(2020-C137696, Lists!$C$32:$C$40,1))","v":"21-30"},{"$f":"SUMPRODUCT((Data!$B$17:$B$19=Model!$F137696)*(Data!$C$16:$K$16=Model!$K137696)*(Data!$C$17:$K$19))","v":1.89},153.04719689682514,{"$f":"_xlfn.IFS(M137696>70,\"Serviceable\",M137696>30, \"Limited Life\",M137696<=30, \"Unserviceable\")","v":"Serviceable"}]
[null,294075,1994,"CCA Treated Pole","Serviceable","Class 2",2020,162.49719689682513,162.49719689682513,5,{"$f":"INDEX(Lists!$B$32:$B$40, MATCH(2020-C137697, Lists!$C$32:$C$40,1))","v":"21-30"},{"$f":"SUMPRODUCT((Data!$B$17:$B$19=Model!$F137697)*(Data!$C$16:$K$16=Model!$K137697)*(Data!$C$17:$K$19))","v":1.89},153.04719689682514,{"$f":"_xlfn.IFS(M137697>70,\"Serviceable\",M137697>30, \"Limited Life\",M137697<=30, \"Unserviceable\")","v":"Serviceable"}]
[null,294076,2007,"CCA Treated Pole","Serviceable","Class 1",2020,166.31691553103065,166.31691553103065,5,{"$f":"INDEX(Lists!$B$32:$B$40, MATCH(2020-C137698, Lists!$C$32:$C$40,1))","v":"0-20"},{"$f":"SUMPRODUCT((Data!$B$17:$B$19=Model!$F137698)*(Data!$C$16:$K$16=Model!$K137698)*(Data!$C$17:$K$19))","v":1.06},161.01691553103063,{"$f":"_xlfn.IFS(M137698>70,\"Serviceable\",M137698>30, \"Limited Life\",M137698<=30, \"Unserviceable\")","v":"Serviceable"}]
[null,303073,2014,"CCA Treated Pole","Serviceable","Class 2",2019,162.49719689682513,161.27719689682513,6,{"$f":"INDEX(Lists!$B$32:$B$40, MATCH(2020-C137699, Lists!$C$32:$C$40,1))","v":"0-20"},{"$f":"SUMPRODUCT((Data!$B$17:$B$19=Model!$F137699)*(Data!$C$16:$K$16=Model!$K137699)*(Data!$C$17:$K$19))","v":1.22},155.17719689682514,{"$f":"_xlfn.IFS(M137699>70,\"Serviceable\",M137699>30, \"Limited Life\",M137699<=30, \"Unserviceable\")","v":"Serviceable"}]
[null,303076,2014,"CCA Treated Pole","Serviceable","Class 2",2019,162.49719689682513,161.27719689682513,6,{"$f":"INDEX(Lists!$B$32:$B$40, MATCH(2020-C137700, Lists!$C$32:$C$40,1))","v":"0-20"},{"$f":"SUMPRODUCT((Data!$B$17:$B$19=Model!$F137700)*(Data!$C$16:$K$16=Model!$K137700)*(Data!$C$17:$K$19))","v":1.22},155.17719689682514,{"$f":"_xlfn.IFS(M137700>70,\"Serviceable\",M137700>30, \"Limited Life\",M137700<=30, \"Unserviceable\")","v":"Serviceable"}]
[null,303080,2014,"CCA Treated Pole","Serviceable","Class 2",2019,162.49719689682513,161.27719689682513,6,{"$f":"INDEX(Lists!$B$32:$B$40, MATCH(2020-C137701, Lists!$C$32:$C$40,1))","v":"0-20"},{"$f":"SUMPRODUCT((Data!$B$17:$B$19=Model!$F137701)*(Data!$C$16:$K$16=Model!$K137701)*(Data!$C$17:$K$19))","v":1.22},155.17719689682514,{"$f":"_xlfn.IFS(M137701>70,\"Serviceable\",M137701>30, \"Limited Life\",M137701<=30, \"Unserviceable\")","v":"Serviceable"}]
[null,303087,2014,"CCA Treated Pole","Serviceable","Class 2",2018,162.49719689682513,160.05719689682513,7,{"$f":"INDEX(Lists!$B$32:$B$40, MATCH(2020-C137702, Lists!$C$32:$C$40,1))","v":"0-20"},{"$f":"SUMPRODUCT((Data!$B$17:$B$19=Model!$F137702)*(Data!$C$16:$K$16=Model!$K137702)*(Data!$C$17:$K$19))","v":1.22},153.95719689682514,{"$f":"_xlfn.IFS(M137702>70,\"Serviceable\",M137702>30, \"Limited Life\",M137702<=30, \"Unserviceable\")","v":"Serviceable"}]
[null,303091,2014,"CCA Treated Pole","Serviceable","Class 2",2020,162.49719689682513,162.49719689682513,5,{"$f":"INDEX(Lists!$B$32:$B$40, MATCH(2020-C137703, Lists!$C$32:$C$40,1))","v":"0-20"},{"$f":"SUMPRODUCT((Data!$B$17:$B$19=Model!$F137703)*(Data!$C$16:$K$16=Model!$K137703)*(Data!$C$17:$K$19))","v":1.22},156.39719689682514,{"$f":"_xlfn.IFS(M137703>70,\"Serviceable\",M137703>30, \"Limited Life\",M137703<=30, \"Unserviceable\")","v":"Serviceable"}]
[null,307087,2014,"CCA Treated Pole","Serviceable","Class 2",2020,162.49719689682513,162.49719689682513,5,{"$f":"INDEX(Lists!$B$32:$B$40, MATCH(2020-C137704, Lists!$C$32:$C$40,1))","v":"0-20"},{"$f":"SUMPRODUCT((Data!$B$17:$B$19=Model!$F137704)*(Data!$C$16:$K$16=Model!$K137704)*(Data!$C$17:$K$19))","v":1.22},156.39719689682514,{"$f":"_xlfn.IFS(M137704>70,\"Serviceable\",M137704>30, \"Limited Life\",M137704<=30, \"Unserviceable\")","v":"Serviceable"}]
[null,307088,2013,"CCA Treated Pole","Serviceable","Class 2",2020,162.49719689682513,162.49719689682513,5,{"$f":"INDEX(Lists!$B$32:$B$40, MATCH(2020-C137705, Lists!$C$32:$C$40,1))","v":"0-20"},{"$f":"SUMPRODUCT((Data!$B$17:$B$19=Model!$F137705)*(Data!$C$16:$K$16=Model!$K137705)*(Data!$C$17:$K$19))","v":1.22},156.39719689682514,{"$f":"_xlfn.IFS(M137705>70,\"Serviceable\",M137705>30, \"Limited Life\",M137705<=30, \"Unserviceable\")","v":"Serviceable"}]
[null,308091,2014,"CCA Treated Pole","Serviceable","Class 2",2019,162.49719689682513,161.27719689682513,6,{"$f":"INDEX(Lists!$B$32:$B$40, MATCH(2020-C137706, Lists!$C$32:$C$40,1))","v":"0-20"},{"$f":"SUMPRODUCT((Data!$B$17:$B$19=Model!$F137706)*(Data!$C$16:$K$16=Model!$K137706)*(Data!$C$17:$K$19))","v":1.22},155.17719689682514,{"$f":"_xlfn.IFS(M137706>70,\"Serviceable\",M137706>30, \"Limited Life\",M137706<=30, \"Unserviceable\")","v":"Serviceable"}]
[null,309082,2013,"CCA Treated Pole","Serviceable","Class 2",2019,162.49719689682513,161.27719689682513,6,{"$f":"INDEX(Lists!$B$32:$B$40, MATCH(2020-C137707, Lists!$C$32:$C$40,1))","v":"0-20"},{"$f":"SUMPRODUCT((Data!$B$17:$B$19=Model!$F137707)*(Data!$C$16:$K$16=Model!$K137707)*(Data!$C$17:$K$19))","v":1.22},155.17719689682514,{"$f":"_xlfn.IFS(M137707>70,\"Serviceable\",M137707>30, \"Limited Life\",M137707<=30, \"Unserviceable\")","v":"Serviceable"}]
[null,309083,2014,"CCA Treated Pole","Serviceable","Class 2",2016,162.49719689682513,157.61719689682513,9,{"$f":"INDEX(Lists!$B$32:$B$40, MATCH(2020-C137708, Lists!$C$32:$C$40,1))","v":"0-20"},{"$f":"SUMPRODUCT((Data!$B$17:$B$19=Model!$F137708)*(Data!$C$16:$K$16=Model!$K137708)*(Data!$C$17:$K$19))","v":1.22},151.51719689682514,{"$f":"_xlfn.IFS(M137708>70,\"Serviceable\",M137708>30, \"Limited Life\",M137708<=30, \"Unserviceable\")","v":"Serviceable"}]
[null,309084,2013,"CCA Treated Pole","Serviceable","Class 2",2019,162.49719689682513,161.27719689682513,6,{"$f":"INDEX(Lists!$B$32:$B$40, MATCH(2020-C137709, Lists!$C$32:$C$40,1))","v":"0-20"},{"$f":"SUMPRODUCT((Data!$B$17:$B$19=Model!$F137709)*(Data!$C$16:$K$16=Model!$K137709)*(Data!$C$17:$K$19))","v":1.22},155.17719689682514,{"$f":"_xlfn.IFS(M137709>70,\"Serviceable\",M137709>30, \"Limited Life\",M137709<=30, \"Unserviceable\")","v":"Serviceable"}]
[null,309086,2014,"CCA Treated Pole","Serviceable","Class 2",2017,162.49719689682513,158.83719689682513,8,{"$f":"INDEX(Lists!$B$32:$B$40, MATCH(2020-C137710, Lists!$C$32:$C$40,1))","v":"0-20"},{"$f":"SUMPRODUCT((Data!$B$17:$B$19=Model!$F137710)*(Data!$C$16:$K$16=Model!$K137710)*(Data!$C$17:$K$19))","v":1.22},152.73719689682514,{"$f":"_xlfn.IFS(M137710>70,\"Serviceable\",M137710>30, \"Limited Life\",M137710<=30, \"Unserviceable\")","v":"Serviceable"}]
[null,309087,2014,"CCA Treated Pole","Serviceable","Class 2",2017,162.49719689682513,158.83719689682513,8,{"$f":"INDEX(Lists!$B$32:$B$40, MATCH(2020-C137711, Lists!$C$32:$C$40,1))","v":"0-20"},{"$f":"SUMPRODUCT((Data!$B$17:$B$19=Model!$F137711)*(Data!$C$16:$K$16=Model!$K137711)*(Data!$C$17:$K$19))","v":1.22},152.73719689682514,{"$f":"_xlfn.IFS(M137711>70,\"Serviceable\",M137711>30, \"Limited Life\",M137711<=30, \"Unserviceable\")","v":"Serviceable"}]
[null,309092,2014,"CCA Treated Pole","Serviceable","Class 2",2017,162.49719689682513,158.83719689682513,8,{"$f":"INDEX(Lists!$B$32:$B$40, MATCH(2020-C137712, Lists!$C$32:$C$40,1))","v":"0-20"},{"$f":"SUMPRODUCT((Data!$B$17:$B$19=Model!$F137712)*(Data!$C$16:$K$16=Model!$K137712)*(Data!$C$17:$K$19))","v":1.22},152.73719689682514,{"$f":"_xlfn.IFS(M137712>70,\"Serviceable\",M137712>30, \"Limited Life\",M137712<=30, \"Unserviceable\")","v":"Serviceable"}]
[null,311094,2014,"CCA Treated Pole","Serviceable","Class 2",2020,162.49719689682513,162.49719689682513,5,{"$f":"INDEX(Lists!$B$32:$B$40, MATCH(2020-C137713, Lists!$C$32:$C$40,1))","v":"0-20"},{"$f":"SUMPRODUCT((Data!$B$17:$B$19=Model!$F137713)*(Data!$C$16:$K$16=Model!$K137713)*(Data!$C$17:$K$19))","v":1.22},156.39719689682514,{"$f":"_xlfn.IFS(M137713>70,\"Serviceable\",M137713>30, \"Limited Life\",M137713<=30, \"Unserviceable\")","v":"Serviceable"}]
[null,311097,2015,"CCA Treated Pole","Serviceable","Class 1",2019,166.31691553103065,165.25691553103064,6,{"$f":"INDEX(Lists!$B$32:$B$40, MATCH(2020-C137714, Lists!$C$32:$C$40,1))","v":"0-20"},{"$f":"SUMPRODUCT((Data!$B$17:$B$19=Model!$F137714)*(Data!$C$16:$K$16=Model!$K137714)*(Data!$C$17:$K$19))","v":1.06},159.95691553103063,{"$f":"_xlfn.IFS(M137714>70,\"Serviceable\",M137714>30, \"Limited Life\",M137714<=30, \"Unserviceable\")","v":"Serviceable"}]
[null,311101,2015,"CCA Treated Pole","Serviceable","Class 2",2019,162.49719689682513,161.27719689682513,6,{"$f":"INDEX(Lists!$B$32:$B$40, MATCH(2020-C137715, Lists!$C$32:$C$40,1))","v":"0-20"},{"$f":"SUMPRODUCT((Data!$B$17:$B$19=Model!$F137715)*(Data!$C$16:$K$16=Model!$K137715)*(Data!$C$17:$K$19))","v":1.22},155.17719689682514,{"$f":"_xlfn.IFS(M137715>70,\"Serviceable\",M137715>30, \"Limited Life\",M137715<=30, \"Unserviceable\")","v":"Serviceable"}]
[null,311103,2015,"CCA Treated Pole","Serviceable","Class 2",2019,162.49719689682513,161.27719689682513,6,{"$f":"INDEX(Lists!$B$32:$B$40, MATCH(2020-C137716, Lists!$C$32:$C$40,1))","v":"0-20"},{"$f":"SUMPRODUCT((Data!$B$17:$B$19=Model!$F137716)*(Data!$C$16:$K$16=Model!$K137716)*(Data!$C$17:$K$19))","v":1.22},155.17719689682514,{"$f":"_xlfn.IFS(M137716>70,\"Serviceable\",M137716>30, \"Limited Life\",M137716<=30, \"Unserviceable\")","v":"Serviceable"}]
[null,311104,2015,"CCA Treated Pole","Serviceable","Class 2",2019,162.49719689682513,161.27719689682513,6,{"$f":"INDEX(Lists!$B$32:$B$40, MATCH(2020-C137717, Lists!$C$32:$C$40,1))","v":"0-20"},{"$f":"SUMPRODUCT((Data!$B$17:$B$19=Model!$F137717)*(Data!$C$16:$K$16=Model!$K137717)*(Data!$C$17:$K$19))","v":1.22},155.17719689682514,{"$f":"_xlfn.IFS(M137717>70,\"Serviceable\",M137717>30, \"Limited Life\",M137717<=30, \"Unserviceable\")","v":"Serviceable"}]
[null,311106,2015,"CCA Treated Pole","Serviceable","Class 1",2017,166.31691553103065,163.13691553103064,8,{"$f":"INDEX(Lists!$B$32:$B$40, MATCH(2020-C137718, Lists!$C$32:$C$40,1))","v":"0-20"},{"$f":"SUMPRODUCT((Data!$B$17:$B$19=Model!$F137718)*(Data!$C$16:$K$16=Model!$K137718)*(Data!$C$17:$K$19))","v":1.06},157.83691553103066,{"$f":"_xlfn.IFS(M137718>70,\"Serviceable\",M137718>30, \"Limited Life\",M137718<=30, \"Unserviceable\")","v":"Serviceable"}]
[null,311107,2014,"CCA Treated Pole","Serviceable","Class 2",2019,162.49719689682513,161.27719689682513,6,{"$f":"INDEX(Lists!$B$32:$B$40, MATCH(2020-C137719, Lists!$C$32:$C$40,1))","v":"0-20"},{"$f":"SUMPRODUCT((Data!$B$17:$B$19=Model!$F137719)*(Data!$C$16:$K$16=Model!$K137719)*(Data!$C$17:$K$19))","v":1.22},155.17719689682514,{"$f":"_xlfn.IFS(M137719>70,\"Serviceable\",M137719>30, \"Limited Life\",M137719<=30, \"Unserviceable\")","v":"Serviceable"}]
[null,322071,2014,"CCA Treated Pole","Serviceable","Class 2",2019,162.49719689682513,161.27719689682513,6,{"$f":"INDEX(Lists!$B$32:$B$40, MATCH(2020-C137720, Lists!$C$32:$C$40,1))","v":"0-20"},{"$f":"SUMPRODUCT((Data!$B$17:$B$19=Model!$F137720)*(Data!$C$16:$K$16=Model!$K137720)*(Data!$C$17:$K$19))","v":1.22},155.17719689682514,{"$f":"_xlfn.IFS(M137720>70,\"Serviceable\",M137720>30, \"Limited Life\",M137720<=30, \"Unserviceable\")","v":"Serviceable"}]
[null,322080,2015,"Wood Creos Impregnated","Serviceable","Class 3",2020,100,100,5,{"$f":"INDEX(Lists!$B$32:$B$40, MATCH(2020-C137721, Lists!$C$32:$C$40,1))","v":"0-20"},{"$f":"SUMPRODUCT((Data!$B$17:$B$19=Model!$F137721)*(Data!$C$16:$K$16=Model!$K137721)*(Data!$C$17:$K$19))","v":1.37},93.15,{"$f":"_xlfn.IFS(M137721>70,\"Serviceable\",M137721>30, \"Limited Life\",M137721<=30, \"Unserviceable\")","v":"Serviceable"}]
[null,322081,2015,"CCA Treated Pole","Serviceable","Class 1",2019,166.31691553103065,165.25691553103064,6,{"$f":"INDEX(Lists!$B$32:$B$40, MATCH(2020-C137722, Lists!$C$32:$C$40,1))","v":"0-20"},{"$f":"SUMPRODUCT((Data!$B$17:$B$19=Model!$F137722)*(Data!$C$16:$K$16=Model!$K137722)*(Data!$C$17:$K$19))","v":1.06},159.95691553103063,{"$f":"_xlfn.IFS(M137722>70,\"Serviceable\",M137722>30, \"Limited Life\",M137722<=30, \"Unserviceable\")","v":"Serviceable"}]
[null,335139,2015,"CCA Treated Pole","Serviceable","Class 2",2018,162.49719689682513,160.05719689682513,7,{"$f":"INDEX(Lists!$B$32:$B$40, MATCH(2020-C137723, Lists!$C$32:$C$40,1))","v":"0-20"},{"$f":"SUMPRODUCT((Data!$B$17:$B$19=Model!$F137723)*(Data!$C$16:$K$16=Model!$K137723)*(Data!$C$17:$K$19))","v":1.22},153.95719689682514,{"$f":"_xlfn.IFS(M137723>70,\"Serviceable\",M137723>30, \"Limited Life\",M137723<=30, \"Unserviceable\")","v":"Serviceable"}]
[null,359152,2015,"Wood Salt Impregnated (Green)","Serviceable","Class 2",2020,162.49719689682513,162.49719689682513,5,{"$f":"INDEX(Lists!$B$32:$B$40, MATCH(2020-C137724, Lists!$C$32:$C$40,1))","v":"0-20"},{"$f":"SUMPRODUCT((Data!$B$17:$B$19=Model!$F137724)*(Data!$C$16:$K$16=Model!$K137724)*(Data!$C$17:$K$19))","v":1.22},156.39719689682514,{"$f":"_xlfn.IFS(M137724>70,\"Serviceable\",M137724>30, \"Limited Life\",M137724<=30, \"Unserviceable\")","v":"Serviceable"}]
[null,420077,2017,"CCA Treated Pole","Serviceable","Class 1",2020,166.31691553103065,166.31691553103065,5,{"$f":"INDEX(Lists!$B$32:$B$40, MATCH(2020-C137725, Lists!$C$32:$C$40,1))","v":"0-20"},{"$f":"SUMPRODUCT((Data!$B$17:$B$19=Model!$F137725)*(Data!$C$16:$K$16=Model!$K137725)*(Data!$C$17:$K$19))","v":1.06},161.01691553103063,{"$f":"_xlfn.IFS(M137725>70,\"Serviceable\",M137725>30, \"Limited Life\",M137725<=30, \"Unserviceable\")","v":"Serviceable"}]
[null,423133,2017,"CCA Treated Pole","Serviceable","Class 1",2020,166.31691553103065,166.31691553103065,5,{"$f":"INDEX(Lists!$B$32:$B$40, MATCH(2020-C137726, Lists!$C$32:$C$40,1))","v":"0-20"},{"$f":"SUMPRODUCT((Data!$B$17:$B$19=Model!$F137726)*(Data!$C$16:$K$16=Model!$K137726)*(Data!$C$17:$K$19))","v":1.06},161.01691553103063,{"$f":"_xlfn.IFS(M137726>70,\"Serviceable\",M137726>30, \"Limited Life\",M137726<=30, \"Unserviceable\")","v":"Serviceable"}]

{"sheet":"Data","index":3,"n_rows":47,"n_cols":12,"rows_kept":47,"cut":false,"hidden":false,"merged":[]}
["United Energy"]
["Data"]
[]
[]
[null,"Forecast end year",2025]
[null,"Current year",2020]
[]
[]
[]
[null,"Intervention ratio"]
[null,"Serviceable",0]
[null,"Limited Life",0.69399999999999995]
[null,"Unserviceable",1]
[]
[null,"SWT annual reduction in mm"]
[null,"Age group","0-20","21-30","31-40","41-50","51-60","61-70","71-80","81-90","90+","Ave"]
[null,{"$f":"C24","v":"Class 1"},1.06,1.96,2.52,1.75,1.65,2.0299999999999998,2.15,2.81,2.09,1.81]
[null,{"$f":"C30","v":"Class 2"},1.22,1.89,2.33,3.28,2.57,2.23,3.53,3.75,2.79,1.95]
[null,{"$f":"C36","v":"Class 3"},1.37,1.84,3.22,3.78,2.73,2.02,2.16,2.88,2.59,2.2799999999999998]
[]
[]
[]
[null,"Aggregated","Class","Treatment"]
[null,{"$f":"_xlfn.CONCAT(C24,D24)","v":"Class 1Wood Untreated Dressed"},"Class 1","Wood Untreated Dressed"]
[null,"Class 1Wood Creos Impregnated","Class 1","Wood Creos Impregnated"]
[null,"Class 1Wood Other","Class 1","Wood Other"]
[null,"Class 1Wood Untreated Round","Class 1","Wood Untreated Round"]
[null,"Class 1Wood Salt Impregnated (Green)","Class 1","Wood Salt Impregnated (Green)"]
[null,"Class 1Wood Penta Impregnated","Class 1","Wood Penta Impregnated"]
[null,"Class 2Wood Untreated Dressed","Class 2","Wood Untreated Dressed"]
[null,"Class 2Wood Creos Impregnated","Class 2","Wood Creos Impregnated"]
[null,"Class 2Wood Other","Class 2","Wood Other"]
[null,"Class 2Wood Untreated Round","Class 2","Wood Untreated Round"]
[null,"Class 2Wood Salt Impregnated (Green)","Class 2","Wood Salt Impregnated (Green)"]
[null,"Class 2Wood Penta Impregnated","Class 2","Wood Penta Impregnated"]
[null,"Class 3Wood Untreated Dressed","Class 3","Wood Untreated Dressed"]
[null,"Class 3Wood Creos Impregnated","Class 3","Wood Creos Impregnated"]
[null,"Class 3Wood Other","Class 3","Wood Other"]
[null,"Class 3Wood Untreated Round","Class 3","Wood Untreated Round"]
[null,"Class 3Wood Salt Impregnated (Green)","Class 3","Wood Salt Impregnated (Green)"]
[null,"Class 3Wood Penta Impregnated","Class 3","Wood Penta Impregnated"]
[null,"UnknownWood Untreated Dressed","Unknown","Wood Untreated Dressed"]
[null,"UnknownWood Creos Impregnated","Unknown","Wood Creos Impregnated"]
[null,"UnknownWood Other","Unknown","Wood Other"]
[null,"UnknownWood Untreated Round","Unknown","Wood Untreated Round"]
[null,"UnknownWood Salt Impregnated (Green)","Unknown","Wood Salt Impregnated (Green)"]
[null,"UnknownWood Penta Impregnated","Unknown","Wood Penta Impregnated"]

{"sheet":"Lists","index":4,"n_rows":40,"n_cols":4,"rows_kept":40,"cut":false,"hidden":false,"merged":[]}
["United Energy"]
["Lists"]
[]
[]
[null,"Pole condition"]
[null,"Serviceable",1,{"$f":"B6","v":"Serviceable"}]
[null,"Limited Life",2,{"$f":"B7","v":"Limited Life"}]
[null,"Unserviceable",3,{"$f":"B8","v":"Unserviceable"}]
[]
[]
[null,"GIS Classification","Voltage"]
[null,"lv/hv/sub-transmission","Sub-T"]
[null,"lv/hv","HV"]
[null,"lv/sub-transmission","Sub-T"]
[null,"sub-transmission","Sub-T"]
[null,"lv/future hv/sub-transmission","Sub-T"]
[null,"hv/sub-transmission","Sub-T"]
[null,"lv","LV"]
[null,"lv/future hv","LV"]
[null,"lv/hv/future sub-transmission","HV"]
[null,"hv","HV"]
[null,"stay","LV"]
[null,"pl","LV"]
[null,"hv/future sub-transmission","HV"]
[null,"future hv/sub-transmission","Sub-T"]
[null,"lv/pl","LV"]
[]
[]
[]
[]
[null,"Age group","Min age"]
[null,"0-20",0]
[null,"21-30",21]
[null,"31-40",{"$f":"C33+10","v":31}]
[null,"41-50",41]
[null,"51-60",51]
[null,"61-70",61]
[null,"71-80",71]
[null,"81-90",81]
[null,"90+",91]