{"text_format":"1","workbook":"xlsx","n_sheets":35,"sheets":["Cover","Contents","1. Income","6a. Capex 1A","6b. Capex 1B ","6c. Capex 2A","6d. Capex 2B ","9. Capex Tax","10. AMI","11a. Maintenance A ","11b. Maintenance B ","12a. Operating A ","12b. Operating B ","13. Labour","15. Total Overheads","16. Provisions","17. Shared Cost Allocation","18. Avoided Cost Payments","19. Alt Control&Others  ","20. Demand and Revenue","21. EBSS","22. Juris Scheme","23. DMIS-DMIA","24. Self Insurance","25. CHAP","26. Related Party","27. Safety and Bushfire "," 29. Unmetered supply","30. Actual t-2 Distr Tariff ","31. Actual t-2 Trans Tariff","32. TUoS cost audit (t-2)","33. Actual t-2 Juris Revenu","34. Juris cost audit templa","Income Workpaper","Services Fee Workpaper "],"not_rendered":{"charts":0,"images":2,"macros":0,"external_links":66,"defined_names":3422,"comments":0,"pivot_tables":0},"unopened":[],"bounds":{"document_bytes":16777216,"sheet_cells":100000,"rows_first":2000,"rows_last":500,"rows_between":2000,"halvings":0,"cell_chars":16384,"cell_head_chars":4096},"cells_cut":0,"cells_raw":0,"read":"whole","date_system":"1900"}

{"sheet":"Cover","index":0,"n_rows":42,"n_cols":6,"rows_kept":42,"cut":false,"hidden":false,"merged":[[34,1,34,2],[34,3,34,6],[16,0,16,8],[41,1,41,5],[35,1,35,2],[35,3,35,6],[39,1,39,5],[40,1,40,5],[12,0,12,8],[15,0,15,8],[14,0,14,8],[31,1,31,2],[30,1,30,2],[30,3,30,6],[21,2,21,4],[24,2,24,4],[25,2,25,4],[23,2,23,4],[31,3,31,6]]}
[]
[]
[]
[]
[]
[]
[]
["Distribution Network Service Provider"]
["Annual reporting template"]
[]
["This template is to be used by a DNSP to fulfil its annual reporting obligations to the AER. "]
[]
["Colour coding of input sheets:"]
["Dark blue = AER instructions/headings"]
["Yellow = Input cells"]
["Grey - Not applicable/No inputs required"]
[]
["Leave coloured cells blank if no information exists - PLEASE DO NOT ENTER TEXT unless specifically requested to do so."]
["All dollar amounts are to be unrounded, and in nominal terms."]
[]
[]
["DNSP - trading name:",null,"Powercor Australia Ltd"]
[]
["DNSP - Australian business number: ",null,"ACN 064 651 109"]
[]
["Reporting year:",null,2013]
[]
[]
[]
[]
["Business address","Address",null,"40 Market Street"]
[null,"Suburb",null,"Melbourne"]
[null,null,"State","VIC","Postcode",3000]
[]
["Postal address","Address",null,"Locked Bag 14090"]
[null,"Suburb",null,"Melbourne"]
[null,null,null,"VIC","Postcode",8001]
[]
[]
["Contact name/s","Hannah Williams"]
["Contact phone/s","9683 4088"]
["Contact email address/s","hwilliams@powercor.com.au"]

{"sheet":"Contents","index":1,"n_rows":52,"n_cols":16,"rows_kept":52,"cut":false,"hidden":false,"merged":[[16,2,16,4],[2,4,2,10]]}
[" "]
[]
[null,null,null,null,"Electricity Distribution Network Service Provider Annual Reporting Template"]
[null,null,null,null,null,null,null,"Table of contents"]
[]
[]
[null,null,null,null,null,null,null,null,null,null,null,null,null,null,null,"Tariff templates"]
[null,null,"Cover sheet",null,null,null,"9. Additions by Tax   ",null,null,null,"19. Alternative Control and Other Services",null,null,null,"29. Unmetered Supply"]
[]
[]
[]
[null,null,"1. Income Statement",null,null,null,"10. Advanced Metering Infrastructure",null,null,null,"20. Demand and Revenue",null,null,null,"30. Actual t-2 Distribution Tariff"]
[]
[]
[]
[null,null,"2. Balance Sheet",null,null,null,"11. Maintenance",null,null,null,"21. EBSS",null,null,null,"31. Actual t-2 Transmission Tariff"]
[]
[]
[]
[]
[null,null,"3. Cashflows Statement",null,null,null,null,null,null,null,"22. Jurisdictional Scheme",null,null,null,"32. Actual t-2 TUoS Cost Audit "]
[null,null,"Powercor"]
[]
[null,null,null,null,null,null,"12. Activities"]
[null,null,"4. Changes in Equity",null,null,null,null,null,null,null,"23. DMIS-DMIA",null,null,null,"33. Actual t-2 Jurisdictional Scheme Revenue"]
[]
[]
[]
[null,null,"5. Fixed Assets",null,null,null,null,null,null,null,"24. Self Insurance",null,null,null,"34. Actual t-2 Jurisdictional Scheme Cost Audit "]
[]
[null,null,null,null,null,null,"13. Labour"]
[]
[null,null,"6. Additions by Reason",null,null,null,null,null,null,null,"25. Change of Accounting Policy"]
[]
[null,null,null,null,null,null,"14. Opex Step Change"]
[]
[null,null,null,null,null,null,null,null,null,null,"26. Related Party Transactions"]
[]
[null,null,null,null,null,null,"15. Total Overheads"]
[]
[null,null,null,null,null,null,null,null,null,null,"27. Safety and Bushfire"]
[]
[null,null,null,null,null,null,"16. Provisions"]
[]
[]
[null,null,null,null,null,null,null,null,null,null,"28. Cost of Debt"]
[null,null,null,null,null,null,"17. Shared Cost Allocation"]
[null,null,"7. Depreciation"]
[]
[]
[null,null,null,null,null,null,"18. Avoided Cost Payments"]
[null,null,"8. Written Down Value "]

{"sheet":"1. Income","index":2,"n_rows":44,"n_cols":15,"rows_kept":44,"cut":false,"hidden":false,"merged":[[1,1,1,3],[5,10,5,11],[5,8,5,9]]}
[null,{"$f":"Cover!C22","v":"Powercor Australia Ltd"}]
[null,"Income Statement"]
[null,{"$f":"Cover!C26","v":2013}]
[]
[]
[null,"Statutory Account code or reference to account code","Description","Audited Statutory Financial Statements","Adjustments","Powercor","Standard Control Services","AMI","Public Lighting - Alternative Control",null,"Other Alternative Control Services",null,"Negotiated Services","Unregulated Services","Standard Control Services Prior Year"]
[null,null,null,null,null,null,null,null,"Energy efficient","Non energy efficient","Fee based service","Quoted service"]
[]
[null,null,null,"$'000 nominal","$'000 nominal","$'000 nominal","$'000 nominal","$'000 nominal","$'000 nominal","$'000 nominal","$'000 nominal","$'000 nominal","$'000 nominal","$'000 nominal","$'000 nominal"]
[null,"Note 4","Distribution Revenue",666002.5203640752,0,666002.5203640752,532720.12591149588,100707.07425903923,595.95110280956578,8736.7860071904342,16527.244020960781,3491.1207499999996,0,3224.2185099999997,466182.63967109431]
[null,"Note 4","Designated Pricing Proposal Charges",162752.48502000002,-162752.48502000002,0,0,0,0,0,0,0,0,0,0]
[null,"Note 4","Jurisdictional Scheme Amounts",30342.862190000003,-30342.862190000003,0,0,0,0,0,0,0,0,0,0]
[null,"Note 5","Profit from sale of Fixed Assets",-446.54830000000004,0,-446.54830000000004,-446.54830000000044,0,0,0,0,0,0,0,28.760339999999992]
[null,"Note 4","Customer Contributions",43017.98446,-43017.98446,0,0,0,0,0,0,0,0,0,0]
[null,"Note 4","Other Revenue ",318077.89078999998,-224318.64906,93759.24172999998,93207.707861182207,-455.39906779186094,0.23444000559616263,33.479921284410338,0,0,973.19191396559404,2.6661354036096152E-2,88561.218050042546]
[]
[null,null,"Total revenue",{"$f":"SUM(D10:D16)","v":1219747.1945240751},{"$f":"SUM(E10:E16)","v":-460431.98073000007},{"$f":"SUM(F10:F16)","v":759315.21379407519},625481.28547267802,100251.67519124737,596.18554281516197,8770.2659284748443,16527.244020960781,3491.1207499999996,973.19191396559404,3224.2451713540358,554772.6180611368]
[]
[null,"Note 6","Designated Pricing Approval Charges",162752.48502000002,-162752.48502000002,0,0,0,0,0,0,0,0,0,0]
[null,"Note 6","Jurisdictional Scheme Amounts",30342.862190000003,-30342.862190000003,0,0,0,0,0,0,0,0,0,0]
[null,"Note 6","Maintenance",151198.24964992702,0,151198.24964992702,138746.12826522859,2130.1179999999995,356.62562363153182,5990.0068846518134,2744.4794283212441,1230.8914480938499,0,0,124012.97587239642]
[null,"Note 6","Operating Expenses",303329.02463414811,-216018.79303878098,87310.231595367135,49549.507230144583,22037.845366570102,10.570595494920973,179.31885422088453,12209.507839562957,3323.3376856878972,0.1384995566030818,5.5241291306671689E-3,47749.642269871249]
[null,"Note 6","Depreciation ",188457.59508999999,-30207.708600000071,158249.88648999992,113899.57517999997,41578.934780000025,2.1298867574929492,2723.0320067657394,0,0,32.940690776297565,13.40194570046944,103932.58260999998]
[null,"Note 6","Finance Charges",14594.969300000001,-224.95205999999999,14370.017240000001,12631.774479250706,1609.8298762384127,0.51341244794190477,118.69918802481008,0,0,8.8474007133726253,0.35288332475672124,10591.671193343593]
[null,"Note 5","Loss from sale of Fixed Assets",0,0,0,0,0,0,0,0,0,0,0,0]
[null,null,"Impairment Losses (Nature: )",0,0,0,0,0,0,0,0,0,0,0,0]
[null,null,"Other ",0,0,0,0,0,0,0,0,0,0,0,0]
[]
[null,null,"Profit before Tax (PBT)",{"$f":"D17-SUM(D19:D27)","v":369072.00864000001},-20885.179821219004,348186.82881878113,310654.30031805416,32894.947168438841,226.34602448327433,-240.79100518840278,1573.2567530765809,-1063.1083837817473,931.26532291932074,3210.484818199679,268485.7461155256]
[]
[null,null,"Income Tax Expenses /(Benefit)",104456.00864,-5910.9942579827666,98545.014382017238,87922.431174475452,9310.039247626617,64.061217690763925,-68.149485004504612,445.26844936810761,-300.88453180387631,263.56986262775098,908.64227591847964,77214.655809092816]
[]
[null,null,"Profit after tax",{"$f":"D29-D31","v":264616},{"$f":"E29-E31","v":-14974.185563236239},249641.81443676387,222731.86914357869,23584.907920812224,162.28480679251041,-172.64152018389817,1127.9883037084733,-762.22385197787094,667.69546029156982,2301.8425422811993,191271.0903064328]
[]
[]
[null,"Note:"]
[null,"Balancing is required at Powercor distribution business level"]
[null,"In addition it is mandatory to produce for each cost or revenue item that has been allocated to the distribution services/AMI a supporting "]
[null,"workpaper that includes the following:"]
[null,"a) the amounts that have been directly attributed to each distribution service "]
[null,"b) the amounts that have been allocated to each distribution service"]
[null,"c) a description of the allocation basis "]
[null,"d) the numeric quantity of each allocator."]
[null,"Designated pricing approval charges include SPI connection fees, AEMO shared transmission charges, net cross boundary charges, avoided TUoS/avoided transmission costs."]

{"sheet":"6a. Capex 1A","index":3,"n_rows":88,"n_cols":7,"rows_kept":88,"cut":false,"hidden":false,"merged":[[6,1,6,6]]}
[null,{"$f":"Cover!C22","v":"Powercor Australia Ltd"}]
[null,"Additions by Reasons"]
[null,"(Net of Customer Contributions)"]
[null,{"$f":"Cover!C26","v":2013}]
[]
[null,"Instructions:"]
[null,"Reported expenditure is to be entered INCLUSIVE of any profit margins or management fees paid directly or indirectly to related party contractors (which is not an actual incurred cost of the related party contractor) for the regulatory reporting period.  "]
[null,"If allocating based on assumptions then provide method.  "]
[]
[null,"Table 1 Standard Control Service "]
[]
[null,"$'000 nominal","Total",null,"VOLTAGE"]
[null,null,null,"Subtransmission","HV","LV","Other "]
[null,"Demand Related"]
[null,"Reinforcement",{"$f":"SUM(D15:G15)","v":29498.885980000003},11261.266014582203,12791.569510246203,5069.6716573149388,376.37879785665712]
[null,"New customer connection",{"$f":"SUM(D16:G16)","v":98387.093609999982},37559.49408716656,42663.487281407317,16908.782937036474,1255.3293043896222]
[null,"Non Demand Related"]
[null,"Reliability & quality maintained",{"$f":"SUM(D18:G18)","v":56129.751241110818},21427.658674535291,24339.482347919398,9646.4459434883865,716.16427516773956]
[null,"Environmental, safety & legal",81841.716068889189,31243.259029053948,35488.933400495473,14065.298215728213,1044.2254236115518]
[null,"Total Across Voltage Levels",265857.44689999998,{"$f":"SUM(D15:D16,D18:D19)","v":101491.67780533801},{"$f":"SUM(E15:E16,E18:E19)","v":115283.4725400684},{"$f":"SUM(F15:F16,F18:F19)","v":45690.198753568009},{"$f":"SUM(G15:G16,G18:G19)","v":3392.0978010255708}]
[null,"SCADA/Network control",3021.1681599999997,0,0,0,3021.1681599999997]
[null,"Non network general - IT",13385.487870000001,0,0,0,13385.487870000001]
[null,"Non network general - other",11026.780979999998,0,0,0,11026.780979999998]
[null,"Metering - Non AMI",0,0,0,0,0]
[null,"Standard Control -  Total Additions",293290.88390999998,{"$f":"SUM(D20:D24)","v":101491.67780533801},{"$f":"SUM(E20:E24)","v":115283.4725400684},{"$f":"SUM(F20:F24)","v":45690.198753568009},{"$f":"SUM(G20:G24)","v":30825.534811025565}]
[]
[null,"Table 2 AMI"]
[]
[null,"$'000 nominal","Total",null,"VOLTAGE"]
[null,null,null,"Subtransmission","HV","LV","Other "]
[null,"Accumulation Meters",{"$f":"SUM(D31:G31)","v":94.385840000000002},0,0,0,94.385840000000002]
[null,"Manually read interval meters",119.60911000000002,0,0,0,119.60911000000002]
[null,"Remotely read interval meters & transformers",72813.007111382743,0,0,0,72813.007111382743]
[null,"AMI communication",4114.8198866793855,0,0,0,4114.8198866793855]
[null,"Metering data services (IT)",6387.4566100000002,0,0,0,6387.4566100000002]
[null,"Metering data services (other)",37.731840000000005,0,0,0,37.731840000000005]
[null,"Balancing is required at Powercor distribution business level",83567.010398062106,{"$f":"SUM(D31:D36)","v":0},{"$f":"SUM(E31:E36)","v":0},{"$f":"SUM(F31:F36)","v":0},{"$f":"SUM(G31:G36)","v":83567.010398062106}]
[]
[null,"Table 3 Public lighting - Alternative Control "]
[]
[null,"$'000 nominal","Total",null,"VOLTAGE"]
[null,null,null,"Subtransmission","HV","LV","Other "]
[null,"Public lighting - energy efficient ",{"$f":"SUM(D43:G43)","v":63.984589431389061},0,0,0,63.984589431389061]
[null,"Public lighting - non energy efficient ",{"$f":"SUM(D44:G44)","v":2881.8355572681926},0,0,0,2881.8355572681926]
[]
[null,"Public Lighting - Total Additions",{"$f":"SUM(D46:G46)","v":2945.8201466995815},{"$f":"SUM(D43:D44)","v":0},{"$f":"SUM(E43:E44)","v":0},{"$f":"SUM(F43:F44)","v":0},{"$f":"SUM(G43:G44)","v":2945.8201466995815}]
[]
[null,"Table 4 Alternative control - fee, quoted services"]
[]
[null,"$'000 nominal","Total",null,"VOLTAGE"]
[null,null,null,"Subtransmission","HV","LV","Other "]
[null,"Other - fee based services",{"$f":"SUM(D52:G52)","v":0},0,0,0,0]
[null,"Other - quoted services",{"$f":"SUM(D53:G53)","v":0},0,0,0,0]
[]
[null,"Other Alternative Control - Total Additions",{"$f":"SUM(D55:G55)","v":0},{"$f":"SUM(D52:D53)","v":0},{"$f":"SUM(E52:E53)","v":0},{"$f":"SUM(F52:F53)","v":0},{"$f":"SUM(G52:G53)","v":0}]
[]
[null,"Table 5  Negotiated"]
[]
[null,"$'000 nominal","Total",null,"VOLTAGE"]
[null,null,null,"Subtransmission","HV","LV","Other "]
[null,"Negotiated services",{"$f":"SUM(D61:G61)","v":989.58152000000018},0,0,0,989.58152000000018]
[]
[null,"Negotiated - Total Additions",{"$f":"SUM(D63:G63)","v":989.58152000000018},{"$f":"D61","v":0},{"$f":"E61","v":0},{"$f":"F61","v":0},{"$f":"G61","v":989.58152000000018}]
[]
[null,"Table 6  Unregulated"]
[]
[null,"$'000 nominal","Total",null,"VOLTAGE"]
[null,null,null,"Subtransmission","HV","LV","Other "]
[null,"Unregulated ",{"$f":"SUM(D69:G69)","v":109.38983330041846},0,0,0,109.38983330041846]
[]
[null,"Unregulated - Total Additions",{"$f":"SUM(D71:G71)","v":109.38983330041846},{"$f":"D69","v":0},{"$f":"E69","v":0},{"$f":"F69","v":0},{"$f":"G69","v":109.38983330041846}]
[]
[null,"Table 7 Total all additions"]
[]
[null,"$'000 nominal","Total",null,"VOLTAGE"]
[null,null,null,"Subtransmission","HV","LV","Other "]
[null,"Total Additions (Net of Customer Contributions) $'000 nominal",{"$f":"SUM(D77:G77)","v":380902.68580806209},{"$f":"D25+D37+D46+D55+D63+D71","v":101491.67780533801},{"$f":"E25+E37+E46+E55+E63+E71","v":115283.4725400684},{"$f":"F25+F37+F46+F55+F63+F71","v":45690.198753568009},{"$f":"G25+G37+G46+G55+G63+G71","v":118437.33670908767}]
[]
[null,"Table 8 Customer Contributions"]
[]
[null,"$'000 nominal"]
[null,"Standard control services",39204.768249999994]
[null,"AMI",0]
[null,"Public lighting",65.106999999999999]
[null,"Alternative control fee and quoted services",0]
[null,"Negotiated",3765.6962100000001]
[null,"Unregulated",0]
[null,"Total Customer Contributions",{"$f":"SUM(C82:C87)","v":43035.571459999999}]

{"sheet":"6b. Capex 1B ","index":4,"n_rows":89,"n_cols":7,"rows_kept":89,"cut":false,"hidden":false,"merged":[[6,1,6,6]]}
[null,{"$f":"Cover!C22","v":"Powercor Australia Ltd"}]
[null,"Additions by Reasons"]
[null,"(Net of Customer Contributions)"]
[null,{"$f":"Cover!C26","v":2013}]
[]
[null,"Instructions:"]
[null,"Reported expenditure is to be entered EXCLUSIVE of any profit margins or management fees paid directly or indirectly to related party contractors (which is not an actual incurred cost of the related party contractor) for the regulatory reporting period."]
[null,"If allocating based on assumptions then provide method.  "]
[]
[null,"Table 1 Standard Control Service "]
[]
[null,"$'000 nominal","Total",null,"VOLTAGE"]
[null,null,null,"Subtransmission","HV","LV","Other "]
[null,"Demand Related"]
[null,"Reinforcement",{"$f":"SUM(D15:G15)","v":28621.945200147002},10926.491901157877,12411.302643576579,4918.9608196318268,365.18983578072215]
[null,"New customer connection",{"$f":"SUM(D16:G16)","v":94575.431022856297},36104.383328721044,41010.64022250109,16253.711494732132,1206.6959769020355]
[null,"Non Demand Related"]
[null,"Reliability & quality maintained",{"$f":"SUM(D18:G18)","v":54377.181292272537},20758.61115808292,23579.517366959346,9345.2496812596619,693.80308597060571]
[null,"Environmental, safety & legal",78900.308036496455,30120.369902574352,34213.453867815566,13559.788518021998,1006.6957480845342]
[null,"Total Across Voltage Levels",256474.86555177229,{"$f":"SUM(D19,D18,D15,D16)","v":97909.85629053619},{"$f":"SUM(E19,E18,E15,E16)","v":111214.91410085259},{"$f":"SUM(F19,F18,F15,F16)","v":44077.710513645623},{"$f":"SUM(G19,G18,G15,G16)","v":3272.3846467378976}]
[null,"SCADA/Network control",2951.9299007947106,0,0,0,2951.9299007947106]
[null,"Non network general - IT",11564.722185939245,0,0,0,11564.722185939245]
[null,"Non network general - other",11026.780979999998,0,0,0,11026.780979999998]
[null,"Metering - Non AMI",0,0,0,0,0]
[null,"Standard Control -  Total Additions",282018.29861850623,{"$f":"SUM(D20:D24)","v":97909.85629053619},{"$f":"SUM(E20:E24)","v":111214.91410085259},{"$f":"SUM(F20:F24)","v":44077.710513645623},{"$f":"SUM(G20:G24)","v":28815.81771347185}]
[]
[null,"Table 2 AMI"]
[]
[null,"$'000 nominal","Total",null,"VOLTAGE"]
[null,null,null,"Subtransmission","HV","LV","Other "]
[null,"Accumulation Meters",{"$f":"SUM(D31:G31)","v":91.478330615093938},0,0,0,91.478330615093938]
[null,"Manually read interval meters",115.92991056171972,0,0,0,115.92991056171972]
[null,"Remotely read interval meters & transformers",71346.870640093359,0,0,0,71346.870640093359]
[null,"AMI communication",3713.0558366793857,0,0,0,3713.0558366793857]
[null,"Metering data services (IT)",5600.8323399999999,0,0,0,5600.8323399999999]
[null,"Metering data services (other)",37.731840000000005,0,0,0,37.731840000000005]
[]
[null,"AMI - Total Additions",{"$f":"SUM(D38:G38)","v":80905.898897949548},{"$f":"SUM(D31:D36)","v":0},{"$f":"SUM(E31:E36)","v":0},{"$f":"SUM(F31:F36)","v":0},{"$f":"SUM(G31:G36)","v":80905.898897949548}]
[]
[null,"Table 3 Public lighting - Alternative Control "]
[]
[null,"$'000 nominal","Total",null,"VOLTAGE"]
[null,null,null,"Subtransmission","HV","LV","Other "]
[null,"Public lighting - energy efficient ",{"$f":"SUM(D44:G44)","v":61.751176697911291},0,0,0,61.751176697911291]
[null,"Public lighting - non energy efficient ",{"$f":"SUM(D45:G45)","v":2780.1888286823309},0,0,0,2780.1888286823309]
[]
[null,"Public Lighting - Total Additions",{"$f":"SUM(D47:G47)","v":2841.9400053802424},{"$f":"SUM(D44:D45)","v":0},{"$f":"SUM(E44:E45)","v":0},{"$f":"SUM(F44:F45)","v":0},{"$f":"SUM(G44:G45)","v":2841.9400053802424}]
[]
[null,"Table 4 Alternative control - fee, quoted services"]
[]
[null,"$'000 nominal","Total",null,"VOLTAGE"]
[null,null,null,"Subtransmission","HV","LV","Other "]
[null,"Other - fee based services",{"$f":"SUM(D53:G53)","v":0},0,0,0,0]
[null,"Other - quoted services",{"$f":"SUM(D54:G54)","v":0},0,0,0,0]
[]
[null,"Other Alternative Control - Total Additions",{"$f":"SUM(D56:G56)","v":0},{"$f":"SUM(D53:D54)","v":0},{"$f":"SUM(E53:E54)","v":0},{"$f":"SUM(F53:F54)","v":0},{"$f":"SUM(G53:G54)","v":0}]
[]
[null,"Table 5  Negotiated"]
[]
[null,null,"Total",null,"VOLTAGE"]
[null,null,null,"Subtransmission","HV","LV","Other "]
[null,"Negotiated services",{"$f":"SUM(D62:G62)","v":837.93124467029429},0,0,0,837.93124467029429]
[]
[null,"Negotiated - Total Additions",{"$f":"SUM(D64:G64)","v":837.93124467029429},{"$f":"D62","v":0},{"$f":"E62","v":0},{"$f":"F62","v":0},{"$f":"G62","v":837.93124467029429}]
[]
[null,"Table 6  Unregulated"]
[]
[null,"$'000 nominal","Total",null,"VOLTAGE"]
[null,null,null,"Subtransmission","HV","LV","Other "]
[null,"Unregulated ",{"$f":"SUM(D70:G70)","v":105.57152878713964},0,0,0,105.57152878713964]
[]
[null,"Unregulated - Total Additions",{"$f":"SUM(D72:G72)","v":105.57152878713964},{"$f":"D70","v":0},{"$f":"E70","v":0},{"$f":"F70","v":0},{"$f":"G70","v":105.57152878713964}]
[]
[null,"Table 7 Total all additions"]
[]
[null,"$'000 nominal","Total",null,"VOLTAGE"]
[null,null,null,"Subtransmission","HV","LV","Other "]
[null,"Total Additions (Net of Customer Contributions) $'000 nominal",{"$f":"SUM(D78:G78)","v":366709.64029529347},{"$f":"D25+D38+D47+D56+D64+D72","v":97909.85629053619},{"$f":"E25+E38+E47+E56+E64+E72","v":111214.91410085259},{"$f":"F25+F38+F47+F56+F64+F72","v":44077.710513645623},{"$f":"G25+G38+G47+G56+G64+G72","v":113507.15939025908}]
[]
[null,"Table 8 Customer Contributions"]
[]
[null,"$'000 nominal"]
[null,"Standard control services",39204.768249999994]
[null,"AMI",0]
[null,"Public lighting",65.106999999999999]
[null,"Alternative control fee and quoted services",0]
[null,"Negotiated",3765.6962100000001]
[null,"Unregulated",0]
[null,"Total Customer Contributions",{"$f":"SUM(C83:C88)","v":43035.571459999999}]

{"sheet":"6c. Capex 2A","index":5,"n_rows":96,"n_cols":17,"rows_kept":96,"cut":false,"hidden":false,"merged":[[82,3,82,4],[82,8,82,9],[82,13,82,14],[73,3,73,4],[73,8,73,9],[73,13,73,14],[81,2,81,6],[81,7,81,11],[81,12,81,16],[72,2,72,6],[72,7,72,11],[72,12,72,16],[53,2,53,6],[53,7,53,11],[53,12,53,16],[64,3,64,4],[64,8,64,9],[6,1,6,6],[12,3,12,4],[11,2,11,6],[64,13,64,14],[54,3,54,4],[54,8,54,9],[54,13,54,14],[63,2,63,6],[29,12,29,16],[30,13,30,14],[30,8,30,9],[44,3,44,4],[44,8,44,9],[44,13,44,14],[63,7,63,11],[63,12,63,16],[43,12,43,16],[11,12,11,16],[12,13,12,14],[11,7,11,11],[12,8,12,9],[43,2,43,6],[43,7,43,11],[29,2,29,6],[29,7,29,11],[30,3,30,4]]}
[null,{"$f":"Cover!C22","v":"Powercor Australia Ltd"}]
[null,"Additions by Reason - Overheads"]
[null,"(Net of Customer Contributions)"]
[null,{"$f":"Cover!C26","v":2013}]
[]
[null,"Instructions:"]
[null,"Reported expenditure is to be entered INCLUSIVE of any profit margins or management fees paid directly or indirectly to related party contractors (which is not an actual incurred cost of the related party contractor) for the regulatory reporting period."]
[null,"If allocating based on assumptions then provide method.  "]
[]
[null,"Table 1 Standard Control Service "]
[]
[null,"$'000 nominal","DIRECT",null,null,null,null,"INDIRECT",null,null,null,null,"TOTAL OVERHEADS"]
[null,null,null,"Voltage",null,null,null,null,"Voltage",null,null,null,null,"Voltage"]
[null,null,"Subtransmission","HV","LV","Other ","Subtotal","Subtransmission","HV","LV","Other ","Subtotal","Subtransmission","HV","LV","Other ","TOTAL"]
[null,"Demand Related"]
[null,"Reinforcement",1158.9109813035946,1316.3964295254732,521.72625596961814,38.733613201313631,{"$f":"SUM(C16:F16)","v":3035.7672799999996},1087.3108926627094,1235.0665408962814,489.49285169927236,36.340564741736301,{"$f":"SUM(H16:K16)","v":2848.210849999999},{"$f":"SUM(C16,H16)","v":2246.221873966304},{"$f":"SUM(D16,I16)","v":2551.4629704217546},{"$f":"SUM(E16,J16)","v":1011.2191076688905},{"$f":"SUM(F16,K16)","v":75.074177943049932},{"$f":"SUM(M16:P16)","v":5883.9781299999995}]
[null,"New customer connection",4618.5553394064655,5246.174949107477,2079.2119706265744,154.36331085948004,{"$f":"SUM(C17:F17)","v":12098.305569999999},4243.4354457249365,4820.0796780704513,1910.3380011608242,141.82589504378507,{"$f":"SUM(H17:K17)","v":11115.679019999996},{"$f":"SUM(C17,H17)","v":8861.9907851314019},10066.254627177928,3989.5499717873986,296.18920590326513,{"$f":"SUM(M17:P17)","v":23213.984589999993}]
[null,"Non Demand Related"]
[null,"Reliability & quality maintained",2235.486449178627,2539.2686991723435,1006.3861627136032,74.715374033184531,{"$f":"SUM(C19:F19)","v":5855.8566850977577},2087.6184024877875,2371.3067315622238,939.81794166631084,69.77326560746728,{"$f":"SUM(H19:K19)","v":5468.5163413237897},{"$f":"SUM(C19,H19)","v":4323.1048516664141},{"$f":"SUM(D19,I19)","v":4910.5754307345669},1946.204104379914,144.4886396406518,{"$f":"SUM(M19:P19)","v":11324.373026421546}]
[null,"Environmental, safety & legal",3396.1984764298027,3857.7109203876498,1528.923225530529,113.50918255425684,8896.3418049022384,3064.9320605563421,3481.428415421648,1379.7915064680969,102.43745623012184,8028.5894386762084,{"$f":"SUM(C20,H20)","v":6461.1305369861448},7339.1393358092973,2908.7147319986261,215.94663878437868,16924.931243578445]
[null,"Total Across Voltage Levels",{"$f":"SUM(C16:C17,C19:C20)","v":11409.15124631849},{"$f":"SUM(D16:D17,D19:D20)","v":12959.550998192944},{"$f":"SUM(E16:E17,E19:E20)","v":5136.2476148403248},{"$f":"SUM(F16:F17,F19:F20)","v":381.32148064823502},29886.271339999996,{"$f":"SUM(H16:H17,H19:H20)","v":10483.296801431776},{"$f":"SUM(I16:I17,I19:I20)","v":11907.881365950605},{"$f":"SUM(J16:J17,J19:J20)","v":4719.4403009945036},{"$f":"SUM(K16:K17,K19:K20)","v":350.37718162311046},27460.99564999999,{"$f":"SUM(M16:M17,M19:M20)","v":21892.448047750266},{"$f":"SUM(N16:N17,N19:N20)","v":24867.432364143548},{"$f":"SUM(O16:O17,O19:O20)","v":9855.6879158348311},{"$f":"SUM(P16:P17,P19:P20)","v":731.6986622713456},57347.266989999989]
[null,"SCADA/Network control",0,0,0,287.91856999999999,287.91856999999999,0,0,0,287.0804,287.0804,{"$f":"SUM(C22,H22)","v":0},0,0,574.99896999999999,574.99896999999999]
[null,"Non network general - IT",0,0,0,1.5934300000000001,1.5934300000000001,0,0,0,2.41289,2.41289,0,0,0,4.0063200000000005,4.0063200000000005]
[null,"Non network general - other",0,0,0,-1.0000000000000001E-5,{"$f":"SUM(C24:F24)","v":-1.0000000000000001E-5},0,0,0,0,{"$f":"SUM(H24:K24)","v":0},{"$f":"SUM(C24,H24)","v":0},0,0,-1.0000000000000001E-5,{"$f":"SUM(M24:P24)","v":-1.0000000000000001E-5}]
[null,"Metering - Non AMI",0,0,0,0,{"$f":"SUM(C25:F25)","v":0},0,0,0,0,{"$f":"SUM(H25:K25)","v":0},0,0,0,0,{"$f":"SUM(M25:P25)","v":0}]
[null,"Standard Control -  Total Additions",{"$f":"SUM(C21:C24)","v":11409.15124631849},{"$f":"SUM(D21:D24)","v":12959.550998192944},{"$f":"SUM(E21:E24)","v":5136.2476148403248},{"$f":"SUM(F21:F24)","v":670.83347064823499},30175.783329999995,{"$f":"SUM(H21:H24)","v":10483.296801431776},{"$f":"SUM(I21:I24)","v":11907.881365950605},{"$f":"SUM(J21:J24)","v":4719.4403009945036},{"$f":"SUM(K21:K24)","v":639.87047162311035},27750.488939999992,{"$f":"SUM(M21:M24)","v":21892.448047750266},{"$f":"SUM(N21:N24)","v":24867.432364143548},{"$f":"SUM(O21:O24)","v":9855.6879158348311},{"$f":"SUM(P21:P24)","v":1310.7039422713456},57926.272269999987]
[]
[null,"Table 2 AMI"]
[]
[null,"$'000 nominal","DIRECT",null,null,null,null,"INDIRECT",null,null,null,null,"TOTAL OVERHEADS"]
[null,null,null,"Voltage",null,null,null,null,"Voltage",null,null,null,null,"Voltage"]
[null,null,"Subtransmission","HV","LV","Other ","Subtotal","Subtransmission","HV","LV","Other ","Subtotal","Subtransmission","HV","LV","Other ","TOTAL"]
[null,"Accumulation Meters",0,0,0,3.4478300000000002,{"$f":"SUM(C33:F33)","v":3.4478300000000002},0,0,0,9.9138099999999998,{"$f":"SUM(H33:K33)","v":9.9138099999999998},{"$f":"SUM(C33,H33)","v":0},0,0,13.36164,{"$f":"SUM(M33:P33)","v":13.36164}]
[null,"Manually read interval meters",0,0,0,4.3336000000000006,4.3336000000000006,0,0,0,12.45753,12.45753,0,0,0,16.791130000000003,16.791130000000003]
[null,"Remotely read interval meters & transformers",0,0,0,335.73665483607908,335.73665483607908,0,0,0,843.26115592913277,843.26115592913277,0,0,0,1178.9978107652119,1178.9978107652119]
[null,"AMI communication",0,0,0,0,0,0,0,0,0,0,0,0,0,0,0]
[null,"Metering data services (IT)",0,0,0,0,0,0,0,0,0,0,0,0,0,0,0]
[null,"Metering data services (other)",0,0,0,0,0,0,0,0,0,0,0,0,0,0,0]
[]
[null,"AMI - Total Additions",{"$f":"SUM(C33:C38)","v":0},{"$f":"SUM(D33:D38)","v":0},{"$f":"SUM(E33:E38)","v":0},{"$f":"SUM(F33:F38)","v":343.51808483607908},{"$f":"SUM(C40:F40)","v":343.51808483607908},{"$f":"SUM(H33:H38)","v":0},{"$f":"SUM(I33:I38)","v":0},{"$f":"SUM(J33:J38)","v":0},{"$f":"SUM(K33:K38)","v":865.6324959291328},{"$f":"SUM(H40:K40)","v":865.6324959291328},{"$f":"SUM(M33:M38)","v":0},{"$f":"SUM(N33:N38)","v":0},{"$f":"SUM(O33:O38)","v":0},{"$f":"SUM(P33:P38)","v":1209.1505807652118},{"$f":"SUM(M40:P40)","v":1209.1505807652118}]
[]
[null,"Table 3 Public lighting - Alternative Control "]
[]
[null,"$'000 nominal","DIRECT",null,null,null,null,"INDIRECT",null,null,null,null,"TOTAL OVERHEADS"]
[null,null,null,"Voltage",null,null,null,null,"Voltage",null,null,null,null,"Voltage"]
[null,null,"Subtransmission","HV","LV","Other ","Subtotal","Subtransmission","HV","LV","Other ","Subtotal","Subtransmission","HV","LV","Other ","TOTAL"]
[null,"Public lighting - energy efficient ",0,0,0,7.1171295222877111,{"$f":"SUM(C47:F47)","v":7.1171295222877111},0,0,0,6.2973500808838541,{"$f":"SUM(H47:K47)","v":6.2973500808838541},{"$f":"SUM(C47,H47)","v":0},{"$f":"SUM(D47,I47)","v":0},{"$f":"SUM(E47,J47)","v":0},13.414479603171564,{"$f":"SUM(M47:P47)","v":13.414479603171564}]
[null,"Public lighting - non energy efficient ",0,0,0,323.91367794160794,{"$f":"SUM(C48:F48)","v":323.91367794160794},0,0,0,286.60400511150237,{"$f":"SUM(H48:K48)","v":286.60400511150237},{"$f":"SUM(C48,H48)","v":0},0,0,610.51768305311032,{"$f":"SUM(M48:P48)","v":610.51768305311032}]
[]
[null,"Public Lighting - Total Additions",{"$f":"SUM(C47:C48)","v":0},{"$f":"SUM(D47:D48)","v":0},{"$f":"SUM(E47:E48)","v":0},{"$f":"SUM(F47:F48)","v":331.03080746389566},{"$f":"SUM(C50:F50)","v":331.03080746389566},{"$f":"SUM(H47:H48)","v":0},{"$f":"SUM(I47:I48)","v":0},{"$f":"SUM(J47:J48)","v":0},{"$f":"SUM(K47:K48)","v":292.90135519238623},{"$f":"SUM(H50:K50)","v":292.90135519238623},{"$f":"SUM(M47:M48)","v":0},{"$f":"SUM(N47:N48)","v":0},{"$f":"SUM(O47:O48)","v":0},{"$f":"SUM(P47:P48)","v":623.93216265628189},{"$f":"SUM(M50:P50)","v":623.93216265628189}]
[]
[null,"Table 4 Alternative control - fee, quoted services"]
[]
[null,"$'000 nominal","DIRECT",null,null,null,null,"INDIRECT",null,null,null,null,"TOTAL OVERHEADS"]
[null,null,null,"Voltage",null,null,null,null,"Voltage",null,null,null,null,"Voltage"]
[null,null,"Subtransmission","HV","LV","Other ","Subtotal","Subtransmission","HV","LV","Other ","Subtotal","Subtransmission","HV","LV","Other ","TOTAL"]
[null,"Other - fee based services",0,0,0,0,{"$f":"SUM(C57:F57)","v":0},0,0,0,0,{"$f":"SUM(H57:K57)","v":0},{"$f":"SUM(C57,H57)","v":0},0,0,0,{"$f":"SUM(M57:P57)","v":0}]
[null,"Other - quoted services",0,0,0,0,{"$f":"SUM(C58:F58)","v":0},0,0,0,0,{"$f":"SUM(H58:K58)","v":0},0,0,0,0,{"$f":"SUM(M58:P58)","v":0}]
[]
[null,"Other Alternative Control - Total Additions",{"$f":"SUM(C57:C58)","v":0},{"$f":"SUM(D57:D58)","v":0},{"$f":"SUM(E57:E58)","v":0},{"$f":"SUM(F57:F58)","v":0},{"$f":"SUM(C60:F60)","v":0},{"$f":"SUM(H57:H58)","v":0},{"$f":"SUM(I57:I58)","v":0},{"$f":"SUM(J57:J58)","v":0},{"$f":"SUM(K57:K58)","v":0},{"$f":"SUM(H60:K60)","v":0},{"$f":"SUM(M57:M58)","v":0},{"$f":"SUM(N57:N58)","v":0},{"$f":"SUM(O57:O58)","v":0},{"$f":"SUM(P57:P58)","v":0},{"$f":"SUM(M60:P60)","v":0}]
[]
[null,"Table 5  Negotiated"]
[]
[null,"$'000 nominal","DIRECT",null,null,null,null,"INDIRECT",null,null,null,null,"TOTAL OVERHEADS"]
[null,null,null,"Voltage",null,null,null,null,"Voltage",null,null,null,null,"Voltage"]
[null,null,"Subtransmission","HV","LV","Other ","Subtotal","Subtransmission","HV","LV","Other ","Subtotal","Subtransmission","HV","LV","Other ","TOTAL"]
[null,"Negotiated services",0,0,0,457.64469000000003,{"$f":"SUM(C67:F67)","v":457.64469000000003},0,0,0,395.08076999999997,{"$f":"SUM(H67:K67)","v":395.08076999999997},{"$f":"SUM(C67,H67)","v":0},{"$f":"SUM(D67,I67)","v":0},{"$f":"SUM(E67,J67)","v":0},{"$f":"SUM(F67,K67)","v":852.72546},{"$f":"SUM(M67:P67)","v":852.72546}]
[]
[null,"Negotiated - Total Additions",{"$f":"SUM(C67)","v":0},{"$f":"SUM(D67)","v":0},{"$f":"SUM(E67)","v":0},{"$f":"SUM(F67)","v":457.64469000000003},{"$f":"SUM(C69:F69)","v":457.64469000000003},{"$f":"SUM(H67)","v":0},{"$f":"SUM(I67)","v":0},{"$f":"SUM(J67)","v":0},{"$f":"SUM(K67)","v":395.08076999999997},{"$f":"SUM(H69:K69)","v":395.08076999999997},{"$f":"SUM(M67)","v":0},{"$f":"SUM(N67)","v":0},{"$f":"SUM(O67)","v":0},{"$f":"SUM(P67)","v":852.72546},{"$f":"SUM(M69:P69)","v":852.72546}]
[]
[null,"Table 6  Unregulated"]
[]
[null,"$'000 nominal","DIRECT",null,null,null,null,"INDIRECT",null,null,null,null,"TOTAL OVERHEADS"]
[null,null,null,"Voltage",null,null,null,null,"Voltage",null,null,null,null,"Voltage"]
[null,null,"Subtransmission","HV","LV","Other ","Subtotal","Subtransmission","HV","LV","Other ","Subtotal","Subtransmission","HV","LV","Other ","TOTAL"]
[null,"Unregulated ",0,0,0,12.167642536104307,{"$f":"SUM(C76:F76)","v":12.167642536104307},0,0,0,10.766124807613799,{"$f":"SUM(H76:K76)","v":10.766124807613799},{"$f":"SUM(C76,H76)","v":0},{"$f":"SUM(D76,I76)","v":0},{"$f":"SUM(E76,J76)","v":0},{"$f":"SUM(F76,K76)","v":22.933767343718106},{"$f":"SUM(M76:P76)","v":22.933767343718106}]
[]
[null,"Unregulated - Total Additions",{"$f":"SUM(C76)","v":0},{"$f":"SUM(D76)","v":0},{"$f":"SUM(E76)","v":0},{"$f":"SUM(F76)","v":12.167642536104307},{"$f":"SUM(C78:F78)","v":12.167642536104307},{"$f":"SUM(H76)","v":0},{"$f":"SUM(I76)","v":0},{"$f":"SUM(J76)","v":0},{"$f":"SUM(K76)","v":10.766124807613799},{"$f":"SUM(H78:K78)","v":10.766124807613799},{"$f":"SUM(M76)","v":0},{"$f":"SUM(N76)","v":0},{"$f":"SUM(O76)","v":0},{"$f":"SUM(P76)","v":22.933767343718106},{"$f":"SUM(M78:P78)","v":22.933767343718106}]
[]
[null,"Table 7 Total all additions"]
[]
[null,"$'000 nominal","DIRECT",null,null,null,null,"INDIRECT",null,null,null,null,"TOTAL OVERHEADS"]
[null,null,null,"Voltage",null,null,null,null,"Voltage",null,null,null,null,"Voltage"]
[null,null,"Subtransmission","HV","LV","Other ","Subtotal","Subtransmission","HV","LV","Other ","Subtotal","Subtransmission","HV","LV","Other ","TOTAL"]
[null,"Total Additions (Net of Customer Contributions) $'000 nominal",{"$f":"C26+C40+C50+C60+C69+C78","v":11409.15124631849},{"$f":"D26+D40+D50+D60+D69+D78","v":12959.550998192944},{"$f":"E26+E40+E50+E60+E69+E78","v":5136.2476148403248},{"$f":"F26+F40+F50+F60+F69+F78","v":1815.194695484314},{"$f":"SUM(C85:F85)","v":31320.144554836075},{"$f":"H26+H40+H50+H60+H69+H78","v":10483.296801431776},{"$f":"I26+I40+I50+I60+I69+I78","v":11907.881365950605},{"$f":"J26+J40+J50+J60+J69+J78","v":4719.4403009945036},{"$f":"K26+K40+K50+K60+K69+K78","v":2204.2512175522434},{"$f":"SUM(H85:K85)","v":29314.869685929123},{"$f":"M26+M40+M50+M60+M69+M78","v":21892.448047750266},{"$f":"N26+N40+N50+N60+N69+N78","v":24867.432364143548},{"$f":"O26+O40+O50+O60+O69+O78","v":9855.6879158348311},{"$f":"P26+P40+P50+P60+P69+P78","v":4019.4459130365572},{"$f":"SUM(M85:P85)","v":60635.014240765202}]
[]
[null,"Table 8 Customer Contributions"]
[]
[null,"$'000 nominal"]
[null,"Standard control services",0]
[null,"AMI",0]
[null,"Public lighting",0]
[null,"Alternative control fee and quoted services",0]
[null,"Negotiated",0]
[null,"Unregulated",0]
[null,"Total Customer Contributions",{"$f":"SUM(C90:C95)","v":0}]

{"sheet":"6d. Capex 2B ","index":6,"n_rows":96,"n_cols":17,"rows_kept":96,"cut":false,"hidden":false,"merged":[[82,3,82,4],[82,8,82,9],[82,13,82,14],[73,3,73,4],[73,8,73,9],[73,13,73,14],[81,2,81,6],[81,7,81,11],[81,12,81,16],[53,12,53,16],[54,3,54,4],[54,8,54,9],[54,13,54,14],[72,2,72,6],[72,7,72,11],[53,2,53,6],[53,7,53,11],[63,12,63,16],[63,2,63,6],[63,7,63,11],[64,3,64,4],[64,8,64,9],[64,13,64,14],[72,12,72,16],[43,2,43,6],[43,7,43,11],[43,12,43,16],[44,3,44,4],[44,8,44,9],[44,13,44,14],[29,2,29,6],[29,7,29,11],[29,12,29,16],[30,3,30,4],[30,8,30,9],[30,13,30,14],[12,3,12,4],[12,8,12,9],[12,13,12,14],[6,1,6,6],[11,2,11,6],[11,7,11,11],[11,12,11,16]]}
[null,{"$f":"Cover!C22","v":"Powercor Australia Ltd"}]
[null,"Additions by Reason - Overheads"]
[null,"(Net of Customer Contributions)"]
[null,{"$f":"Cover!C26","v":2013}]
[]
[null,"Instructions:"]
[null,"Reported expenditure is to be entered EXCLUSIVE of any profit margins or management fees paid directly or indirectly to related party contractors (which is not an actual incurred cost of the related party contractor) for the regulatory reporting period."]
[null,"If allocating based on assumptions then provide method.  "]
[]
[null,"Table 1 Standard Control Service "]
[]
[null,"$'000 nominal","DIRECT",null,null,null,null,"INDIRECT",null,null,null,null,"TOTAL OVERHEADS"]
[null,null,null,"Voltage",null,null,null,null,"Voltage",null,null,null,null,"Voltage"]
[null,null,"Subtransmission","HV","LV","Other ","Subtotal","Subtransmission","HV","LV","Other ","Subtotal","Subtransmission","HV","LV","Other ","TOTAL"]
[null,"Demand Related"]
[null,"Reinforcement",1158.9109813035946,1316.3964295254732,521.72625596961814,38.733613201313631,{"$f":"SUM(C16:F16)","v":3035.7672799999996},1025.0244534209094,1164.315941800628,461.45232808049548,34.258801013373635,{"$f":"SUM(H16:K16)","v":2685.0515243154068},{"$f":"SUM(C16,H16)","v":2183.9354347245039},{"$f":"SUM(D16,I16)","v":2480.7123713261012},983.17858405011361,72.992414214687273,{"$f":"SUM(M16:P16)","v":5720.8188043154059}]
[null,"New customer connection",4618.5553394064655,5246.174949107477,2079.2119706265744,154.36331085948004,{"$f":"SUM(C17:F17)","v":12098.305569999999},4000.3508911138961,4543.9621462451705,1800.9045790884893,133.70142020023272,{"$f":"SUM(H17:K17)","v":10478.919036647789},{"$f":"SUM(C17,H17)","v":8618.9062305203624},9790.1370953526475,3880.1165497150637,288.06473105971276,{"$f":"SUM(M17:P17)","v":22577.224606647789}]
[null,"Non Demand Related"]
[null,"Reliability & quality maintained",2235.486449178627,2539.2686991723435,1006.3861627136032,74.715374033184531,{"$f":"SUM(C19:F19)","v":5855.8566850977577},1968.0294995676777,2235.4667858246994,885.98061370705636,65.776314690955473,{"$f":"SUM(H19:K19)","v":5155.2532137903891},{"$f":"SUM(C19,H19)","v":4203.5159487463043},{"$f":"SUM(D19,I19)","v":4774.7354849970434},1892.3667764206596,140.49168872414,{"$f":"SUM(M19:P19)","v":11011.109898888148}]
[null,"Environmental, safety & legal",3396.1984764298027,3857.7109203876498,1528.923225530529,113.50918255425684,8896.3418049022384,2889.3578932612968,3281.9953177352963,1300.75035971428,96.569342117940963,7568.6729128288143,{"$f":"SUM(C20,H20)","v":6285.5563696910995},7139.7062381229462,2829.6735852448091,210.0785246721978,16465.014717731054]
[null,"Total Across Voltage Levels",{"$f":"SUM(C16:C17,C19:C20)","v":11409.15124631849},{"$f":"SUM(D16:D17,D19:D20)","v":12959.550998192944},{"$f":"SUM(E16:E17,E19:E20)","v":5136.2476148403248},{"$f":"SUM(F16:F17,F19:F20)","v":381.32148064823502},29886.271339999996,{"$f":"SUM(H16:H17,H19:H20)","v":9882.7627373637806},{"$f":"SUM(I16:I17,I19:I20)","v":11225.740191605793},{"$f":"SUM(J16:J17,J19:J20)","v":4449.0878805903212},{"$f":"SUM(K16:K17,K19:K20)","v":330.30587802250278},25887.896687582397,{"$f":"SUM(M16:M17,M19:M20)","v":21291.913983682272},{"$f":"SUM(N16:N17,N19:N20)","v":24185.291189798736},{"$f":"SUM(O16:O17,O19:O20)","v":9585.3354954306451},{"$f":"SUM(P16:P17,P19:P20)","v":711.62735867073775},55774.168027582389]
[null,"SCADA/Network control",0,0,0,287.91856999999999,287.91856999999999,0,0,0,270.63504291512572,270.63504291512572,{"$f":"SUM(C22,H22)","v":0},{"$f":"SUM(D22,I22)","v":0},0,558.55361291512577,558.55361291512577]
[null,"Non network general - IT",0,0,0,1.5934300000000001,1.5934300000000001,0,0,0,2.2746679630496462,2.2746679630496462,{"$f":"SUM(C23,H23)","v":0},0,0,3.8680979630496464,3.8680979630496464]
[null,"Non network general - other",0,0,0,-1.0000000000000001E-5,null,0,0,0,0,null,null,null,null,-1.0000000000000001E-5]
[null,"Metering - Non AMI",0,0,0,0,0,0,0,0,0,0,{"$f":"SUM(C25,H25)","v":0},0,0,0,0]
[null,"Standard Control -  Total Additions",{"$f":"SUM(C21:C25)","v":11409.15124631849},{"$f":"SUM(D21:D25)","v":12959.550998192944},{"$f":"SUM(E21:E25)","v":5136.2476148403248},{"$f":"SUM(F21:F25)","v":670.83347064823499},30175.783329999995,{"$f":"SUM(H21:H25)","v":9882.7627373637806},{"$f":"SUM(I21:I25)","v":11225.740191605793},{"$f":"SUM(J21:J25)","v":4449.0878805903212},{"$f":"SUM(K21:K25)","v":603.2155889006782},26160.806398460572,{"$f":"SUM(M21:M25)","v":21291.913983682272},{"$f":"SUM(N21:N25)","v":24185.291189798736},{"$f":"SUM(O21:O25)","v":9585.3354954306451},{"$f":"SUM(P21:P25)","v":1274.0490595489132},56336.58972846056]
[]
[null,"Table 2 AMI"]
[]
[null,"$'000 nominal","DIRECT",null,null,null,null,"INDIRECT",null,null,null,null,"TOTAL OVERHEADS"]
[null,null,null,"Voltage",null,null,null,null,"Voltage",null,null,null,null,"Voltage"]
[null,null,"Subtransmission","HV","LV","Other ","Subtotal","Subtransmission","HV","LV","Other ","Subtotal","Subtransmission","HV","LV","Other ","TOTAL"]
[null,"Accumulation Meters",0,0,0,3.4478300000000002,{"$f":"SUM(C33:F33)","v":3.4478300000000002},0,0,0,9.3458989008041033,{"$f":"SUM(H33:K33)","v":9.3458989008041033},{"$f":"SUM(C33,H33)","v":0},{"$f":"SUM(D33,I33)","v":0},0,12.793728900804103,{"$f":"SUM(M33:P33)","v":12.793728900804103}]
[null,"Manually read interval meters",0,0,0,4.3336000000000006,4.3336000000000006,0,0,0,11.743902287186675,11.743902287186675,0,0,0,16.077502287186675,16.077502287186675]
[null,"Remotely read interval meters & transformers",0,0,0,335.73665483607908,335.73665483607908,0,0,0,794.95506876658715,794.95506876658715,0,0,0,1130.6917236026661,1130.6917236026661]
[null,"AMI communication",0,0,0,0,0,0,0,0,0,0,0,0,0,0,0]
[null,"Metering data services (IT)",0,0,0,0,0,0,0,0,0,0,0,0,0,0,0]
[null,"Metering data services (other)",0,0,0,0,0,0,0,0,0,0,0,0,0,0,0]
[]
[null,"AMI - Total Additions",{"$f":"SUM(C33:C38)","v":0},{"$f":"SUM(D33:D38)","v":0},{"$f":"SUM(E33:E38)","v":0},{"$f":"SUM(F33:F38)","v":343.51808483607908},{"$f":"SUM(C40:F40)","v":343.51808483607908},{"$f":"SUM(H33:H38)","v":0},{"$f":"SUM(I33:I38)","v":0},{"$f":"SUM(J33:J38)","v":0},{"$f":"SUM(K33:K38)","v":816.04486995457796},{"$f":"SUM(H40:K40)","v":816.04486995457796},{"$f":"SUM(M33:M38)","v":0},{"$f":"SUM(N33:N38)","v":0},{"$f":"SUM(O33:O38)","v":0},{"$f":"SUM(P33:P38)","v":1159.5629547906569},{"$f":"SUM(M40:P40)","v":1159.5629547906569}]
[]
[null,"Table 3 Public lighting - Alternative Control "]
[]
[null,"$'000 nominal","DIRECT",null,null,null,null,"INDIRECT",null,null,null,null,"TOTAL OVERHEADS"]
[null,null,null,"Voltage",null,null,null,null,"Voltage",null,null,null,null,"Voltage"]
[null,null,"Subtransmission","HV","LV","Other ","Subtotal","Subtransmission","HV","LV","Other ","Subtotal","Subtransmission","HV","LV","Other ","TOTAL"]
[null,"Public lighting - energy efficient ",0,0,0,7.1171295222877111,{"$f":"SUM(C47:F47)","v":7.1171295222877111},0,0,0,5.9366073385419984,{"$f":"SUM(H47:K47)","v":5.9366073385419984},{"$f":"SUM(C47,H47)","v":0},{"$f":"SUM(D47,I47)","v":0},0,13.053736860829709,{"$f":"SUM(M47:P47)","v":13.053736860829709}]
[null,"Public lighting - non energy efficient ",0,0,0,323.91367794160794,{"$f":"SUM(C48:F48)","v":323.91367794160794},0,0,0,270.18593823541539,{"$f":"SUM(H48:K48)","v":270.18593823541539},{"$f":"SUM(C48,H48)","v":0},0,0,594.09961617702334,{"$f":"SUM(M48:P48)","v":594.09961617702334}]
[]
[null,"Public Lighting - Total Additions",{"$f":"SUM(C47:C48)","v":0},{"$f":"SUM(D47:D48)","v":0},{"$f":"SUM(E47:E48)","v":0},{"$f":"SUM(F47:F48)","v":331.03080746389566},{"$f":"SUM(C50:F50)","v":331.03080746389566},{"$f":"SUM(H47:H48)","v":0},{"$f":"SUM(I47:I48)","v":0},{"$f":"SUM(J47:J48)","v":0},{"$f":"SUM(K47:K48)","v":276.12254557395738},{"$f":"SUM(H50:K50)","v":276.12254557395738},{"$f":"SUM(M47:M48)","v":0},{"$f":"SUM(N47:N48)","v":0},{"$f":"SUM(O47:O48)","v":0},{"$f":"SUM(P47:P48)","v":607.15335303785309},{"$f":"SUM(M50:P50)","v":607.15335303785309}]
[]
[null,"Table 4 Alternative control - fee, quoted services"]
[]
[null,"$'000 nominal","DIRECT",null,null,null,null,"INDIRECT",null,null,null,null,"TOTAL OVERHEADS"]
[null,null,null,"Voltage",null,null,null,null,"Voltage",null,null,null,null,"Voltage"]
[null,null,"Subtransmission","HV","LV","Other ","Subtotal","Subtransmission","HV","LV","Other ","Subtotal","Subtransmission","HV","LV","Other ","TOTAL"]
[null,"Other - fee based services",0,0,0,0,{"$f":"SUM(C57:F57)","v":0},0,0,0,0,{"$f":"SUM(H57:K57)","v":0},{"$f":"SUM(C57,H57)","v":0},{"$f":"SUM(D57,I57)","v":0},0,0,{"$f":"SUM(M57:P57)","v":0}]
[null,"Other - quoted services",0,0,0,0,{"$f":"SUM(C58:F58)","v":0},0,0,0,0,{"$f":"SUM(H58:K58)","v":0},{"$f":"SUM(C58,H58)","v":0},0,0,0,{"$f":"SUM(M58:P58)","v":0}]
[]
[null,"Note: Balancing is required at Powercor distribution business level",{"$f":"SUM(C57:C58)","v":0},{"$f":"SUM(D57:D58)","v":0},{"$f":"SUM(E57:E58)","v":0},{"$f":"SUM(F57:F58)","v":0},{"$f":"SUM(C60:F60)","v":0},{"$f":"SUM(H57:H58)","v":0},{"$f":"SUM(I57:I58)","v":0},{"$f":"SUM(J57:J58)","v":0},{"$f":"SUM(K57:K58)","v":0},{"$f":"SUM(H60:K60)","v":0},{"$f":"SUM(M57:M58)","v":0},{"$f":"SUM(N57:N58)","v":0},{"$f":"SUM(O57:O58)","v":0},{"$f":"SUM(P57:P58)","v":0},{"$f":"SUM(M60:P60)","v":0}]
[]
[null,"Table 5  Negotiated"]
[]
[null,"$'000 nominal","DIRECT",null,null,null,null,"INDIRECT",null,null,null,null,"TOTAL OVERHEADS"]
[null,null,null,"Voltage",null,null,null,null,"Voltage",null,null,null,null,"Voltage"]
[null,null,"Subtransmission","HV","LV","Other ","Subtotal","Subtransmission","HV","LV","Other ","Subtotal","Subtransmission","HV","LV","Other ","TOTAL"]
[null,"Negotiated services",0,0,0,457.64469000000003,{"$f":"SUM(C67:F67)","v":457.64469000000003},0,0,0,372.4486281330627,{"$f":"SUM(H67:K67)","v":372.4486281330627},{"$f":"SUM(C67,H67)","v":0},{"$f":"SUM(D67,I67)","v":0},{"$f":"SUM(E67,J67)","v":0},{"$f":"SUM(F67,K67)","v":830.09331813306267},{"$f":"SUM(M67:P67)","v":830.09331813306267}]
[]
[null,"Negotiated - Total Additions",{"$f":"C67","v":0},{"$f":"D67","v":0},{"$f":"E67","v":0},{"$f":"F67","v":457.64469000000003},{"$f":"SUM(C69:F69)","v":457.64469000000003},{"$f":"H67","v":0},{"$f":"I67","v":0},{"$f":"J67","v":0},{"$f":"K67","v":372.4486281330627},{"$f":"SUM(H69:K69)","v":372.4486281330627},{"$f":"M67","v":0},{"$f":"N67","v":0},{"$f":"O67","v":0},{"$f":"P67","v":830.09331813306267},{"$f":"SUM(M69:P69)","v":830.09331813306267}]
[]
[null,"Table 6  Unregulated"]
[]
[null,"$'000 nominal","DIRECT",null,null,null,null,"INDIRECT",null,null,null,null,"TOTAL OVERHEADS"]
[null,null,null,"Voltage",null,null,null,null,"Voltage",null,null,null,null,"Voltage"]
[null,null,"Subtransmission","HV","LV","Other ","Subtotal","Subtransmission","HV","LV","Other ","Subtotal","Subtransmission","HV","LV","Other ","TOTAL"]
[null,"Unregulated ",0,0,0,12.167642536104307,{"$f":"SUM(C76:F76)","v":12.167642536104307},0,0,0,10.149388984194534,{"$f":"SUM(H76:K76)","v":10.149388984194534},{"$f":"SUM(C76,H76)","v":0},{"$f":"SUM(D76,I76)","v":0},{"$f":"SUM(E76,J76)","v":0},{"$f":"SUM(F76,K76)","v":22.317031520298841},{"$f":"SUM(M76:P76)","v":22.317031520298841}]
[]
[null,"Unregulated - Total Additions",{"$f":"C76","v":0},{"$f":"D76","v":0},{"$f":"E76","v":0},{"$f":"F76","v":12.167642536104307},{"$f":"SUM(C78:F78)","v":12.167642536104307},{"$f":"H76","v":0},{"$f":"I76","v":0},{"$f":"J76","v":0},{"$f":"K76","v":10.149388984194534},{"$f":"SUM(H78:K78)","v":10.149388984194534},{"$f":"M76","v":0},{"$f":"N76","v":0},{"$f":"O76","v":0},{"$f":"P76","v":22.317031520298841},{"$f":"SUM(M78:P78)","v":22.317031520298841}]
[]
[null,"Table 7 Total all additions"]
[]
[null,"$'000 nominal","DIRECT",null,null,null,null,"INDIRECT",null,null,null,null,"TOTAL OVERHEADS"]
[null,null,null,"Voltage",null,null,null,null,"Voltage",null,null,null,null,"Voltage"]
[null,null,"Subtransmission","HV","LV","Other ","Subtotal","Subtransmission","HV","LV","Other ","Subtotal","Subtransmission","HV","LV","Other ","TOTAL"]
[null,"Total Additions (Net of Customer Contributions) $'000 nominal",{"$f":"C26+C40+C50+C60+C69+C78","v":11409.15124631849},{"$f":"D26+D40+D50+D60+D69+D78","v":12959.550998192944},{"$f":"E26+E40+E50+E60+E69+E78","v":5136.2476148403248},{"$f":"F26+F40+F50+F60+F69+F78","v":1815.194695484314},{"$f":"SUM(C85:F85)","v":31320.144554836075},{"$f":"H26+H40+H50+H60+H69+H78","v":9882.7627373637806},{"$f":"I26+I40+I50+I60+I69+I78","v":11225.740191605793},{"$f":"J26+J40+J50+J60+J69+J78","v":4449.0878805903212},{"$f":"K26+K40+K50+K60+K69+K78","v":2077.9810215464709},{"$f":"SUM(H85:K85)","v":27635.571831106365},{"$f":"M26+M40+M50+M60+M69+M78","v":21291.913983682272},{"$f":"N26+N40+N50+N60+N69+N78","v":24185.291189798736},{"$f":"O26+O40+O50+O60+O69+O78","v":9585.3354954306451},{"$f":"P26+P40+P50+P60+P69+P78","v":3893.1757170307847},{"$f":"SUM(M85:P85)","v":58955.716385942433}]
[]
[null,"Table 8 Customer Contributions"]
[]
[null,"$'000 nominal"]
[null,"Standard control services",0]
[null,"AMI",0]
[null,"Public lighting",0]
[null,"Alternative control fee and quoted services",0]
[null,"Negotiated",0]
[null,"Unregulated",0]
[null,"Total Customer Contributions",{"$f":"SUM(C90:C95)","v":0}]

{"sheet":"9. Capex Tax","index":7,"n_rows":32,"n_cols":5,"rows_kept":32,"cut":false,"hidden":false,"merged":[]}
[null,{"$f":"Cover!C22","v":"Powercor Australia Ltd"}]
[null,"Additions by Tax"]
[null,{"$f":"Cover!C26","v":2013}]
[]
[null,"Table 1 Standard Control Services - excl metering"]
[]
[null,"Asset Class","Tax Depreciation - Rate (Post Ralph 10 May 2006 onwards)","Additions per Taxation Category Exclusive of Related Party Margin","Additions per Taxation Category Inclusive of Related Party Margin"]
[null,null,null,"$'000 nominal","$'000 nominal"]
[null,"Demand related capital expenditure",0.04,162410.87447300329,167099.47783999998]
[null,"Replacement expenditure (Group 1)",1,36351.156093534904,37644.444581110816]
[null,"Replacement expenditure (Group 2)",0.1,1400.272188213673,1439.56997]
[null,"Replacement expenditure (Group 3)",0.04,16625.753010523957,17045.736690000002]
[null,"Environment, safety & legal",0.1,78900.308036496455,81841.716068889189]
[null,"SCADA/Network control",0.1,2951.9299007947106,3021.1681599999997]
[null,"Non-network general assets - IT",0.4,11564.722185939245,13385.487870000001]
[null,"Non-network general assets - Other",0.1764705882352941,11026.780979999998,11026.780979999998]
[null,"RBPC - Excl Metering - TOTAL ADDITIONS",null,{"$f":"SUM(D9:D16)","v":321231.79686850624},{"$f":"SUM(E9:E16)","v":332504.38215999998}]
[]
[null,"Capitalised Finance Charges Included in above Total",null,"Nil","Nil"]
[]
[null,"Table 2 Metering"]
[]
[null,"Asset Class","Tax Depreciation - Rate (Post Ralph 10 May 2006)","Additions per Taxation Category Exclusive of Related Party Margin","Additions per Taxation Category Inclusive of Related Party Margin"]
[null,null,null,"$'000 nominal","$'000 nominal"]
[null,"Meters and transformers (Group 1) (Unit cost < $1,000)",0.375,70657.25887673386,72099.747518838136]
[null,"Meters and transformers (Group 2) (Unit cost => $1,000)",0.06,897.0200045363116,927.25454254459999]
[null,"IT",0.4,5600.8323399999999,6387.4566100000002]
[null,"Communications",0.21428571428571427,3713.0558366793857,4114.8198866793855]
[null,"Other",0.1764705882352941,37.731840000000005,37.731840000000005]
[null,"Metering - TOTAL ADDITIONS",null,{"$f":"SUM(D25:D29)","v":80905.898897949548},{"$f":"SUM(E25:E29)","v":83567.010398062106}]
[]
[null,"Capitalised Finance Charges Included in above Total",null,"Nil","Nil"]

{"sheet":"10. AMI","index":8,"n_rows":85,"n_cols":7,"rows_kept":85,"cut":false,"hidden":false,"merged":[]}
[null,{"$f":"Cover!C22","v":"Powercor Australia Ltd"}]
[null,"Advanced Metering Infrastructure"]
[null,{"$f":"Cover!C26","v":2013}]
[]
[null,"Table 1 Standard control asset base - metering"]
[]
[null,null,"Opening value\n","Actual capital expenditure –\nas incurred \n","Actual asset disposals –\nas incurred\n","Actual capital contributions – \nas incurred \n","Actual net capital expenditure – \nas incurred \n"]
[null,null,"$'000 nominal","$'000 nominal","$'000 nominal","$'000 nominal","$'000 nominal"]
[null,"Accumulation meters ",0,94.385840000000002,0,0,{"$f":"D9-E9-F9","v":94.385840000000002}]
[null,"Manually read interval meters",0,119.60911000000002,0,0,119.60911000000002]
[null,"Remotely read interval meters and transformers",0,72813.007111382743,0,0,72813.007111382743]
[null,"IT",0,6387.4566100000002,0,0,6387.4566100000002]
[null,"Communications",0,4114.8198866793855,0,0,4114.8198866793855]
[null,"Other",0,37.731840000000005,0,0,37.731840000000005]
[null,"Total",{"$f":"SUM(C9:C14)","v":0},{"$f":"SUM(D9:D14)","v":83567.010398062106},{"$f":"SUM(E9:E14)","v":0},{"$f":"SUM(F9:F14)","v":0},83567.010398062106]
[]
[null,"Table 2a Number of meters installed"]
[null,null,"Current Year","Prior Year"]
[null,"Accumulation meters"]
[null,"Single phase non off peak",4,83]
[null,"Single phase off peak",24,31]
[null,"Multi phase direct connect",12,47]
[null,"Multi phase current transformers",0,1]
[null,"Total accumulation meters installed",{"$f":"SUM(C20:C23)","v":40},{"$f":"SUM(D20:D23)","v":162}]
[null,"MRIM meters"]
[null,"Single phase non off peak",1,28]
[null,"Single phase off peak",189,165]
[null,"Multi phase direct connect",1,22]
[null,"Multi phase current transformers",0,186]
[null,"Total MRIM meters installed",{"$f":"SUM(C26:C29)","v":191},{"$f":"SUM(D26:D29)","v":401}]
[null,"AMI meters"]
[null,"Single phase single element",65600,107400]
[null,"Single phase single element with contactor",15904,22785]
[null,"Single phase two element with contactor",55813,81508]
[null,"Three phase",40580,36917]
[null,"Three phase direct connected meter",8341,6643]
[null,"Three phase direct connected meter with contactor",0,0]
[null,"Three phase Current transformer connected meter",2361,2312]
[null,"Total AMI meters installed",{"$f":"SUM(C32:C38)","v":188599},{"$f":"SUM(D32:D38)","v":257565}]
[]
[null,"Total meters installed",{"$f":"SUM(C24,C30,C39)","v":188830},{"$f":"SUM(D24,D30,D39)","v":258128}]
[]
[null,"Table 2b Cumulative number of meters"]
[null,null,"Current Year","Prior Year"]
[null,"Accumulation meters"]
[null,"Single phase non off peak",13767,70107.711337755536]
[null,"Single phase off peak",17124,101329.09307011387]
[null,"Multi phase direct connect",12017,52482.884664146157]
[null,"Multi phase current transformers",203,1679.7113490751851]
[null,"Total accumulation meters",{"$f":"SUM(C46:C49)","v":43111},{"$f":"SUM(D46:D49)","v":225599.40042109077}]
[null,"MRIM meters"]
[null,"Single phase non off peak",129,1070.5630164587626]
[null,"Single phase off peak",998,9468.1078875280164]
[null,"Multi phase direct connect",1029,5324.4826017070027]
[null,"Multi phase current transformers",67,603.07708677639175]
[null,"Total MRIM meters",{"$f":"SUM(C52:C55)","v":2223},{"$f":"SUM(D52:D55)","v":16466.230592470172}]
[null,"AMI meters"]
[null,"Single phase single element",415710,352858.10559369274]
[null,"Single phase single element with contactor",52612,37344.722234448811]
[null,"Single phase two element with contactor",191437,137177.07867544398]
[null,"Three phase",104146,64599.466744369071]
[null,"Three phase direct connected meter",17805,9705.8262823097339]
[null,"Three phase direct connected meter with contactor",0,0]
[null,"Three phase Current transformer connected meter",4503,2268.8944556048727]
[null,"Total AMI meters",{"$f":"SUM(C58:C64)","v":786213},{"$f":"SUM(D58:D64)","v":603954.09398586908}]
[]
[null,"Total meters",{"$f":"SUM(C50,C56,C65)","v":831547},{"$f":"SUM(D50,D56,D65)","v":846019.72499943001}]
[]
[null,"Table 3 AMI meter reconciliation"]
[null,null,"Current Year","Prior Year"]
[null,"Opening number of meters",603954.09398586908,355667]
[null,"Installs",{"$f":"C39","v":188599},{"$f":"D39","v":257565}]
[null,"Abolishments",1550,893]
[null,"AMI meter for AMI meter replacements",4790,8370]
[null,"Closing number of meters",{"$f":"(C71+C72)-(C73+C74)","v":786213.09398586908},{"$f":"(D71+D72)-(D73+D74)","v":603969}]
[]
[]
[null,"Table 4 Number of  meter read quantity - end of year"]
[]
[null,"Number of meters read monthly - accumulation",715]
[null,"Number of meters read quarterly - accumulation",58841]
[null,"Number of meters read monthly - interval",189]
[null,"Number of meters read quarterly - interval",13894]
[null,"Number of meters read remotely",757908]
[null,"Total",{"$f":"SUM(C80:C84)","v":831547}]

{"sheet":"11a. Maintenance A ","index":9,"n_rows":37,"n_cols":19,"rows_kept":37,"cut":false,"hidden":false,"merged":[[5,1,6,18],[8,6,8,10],[10,6,10,10],[9,6,9,10],[8,14,8,15],[8,12,8,13]]}
[null,{"$f":"Cover!C22","v":"Powercor Australia Ltd"}]
[null,"Maintenance Costs Exclusive of Margin"]
[null,{"$f":"Cover!C26","v":2013}]
[]
[null,"Instructions:"]
[null,"Reported expenditure is to be entered EXCLUSIVE of any profit margins or management fees paid directly or indirectly to related party contractors (which is not an actual incurred cost of the related party contractor) for the reporting period."]
[]
[]
[null,"Statutory Account code or reference to account code","Description","Audited Statutory Financial Statements","Adjustments","Powercor","Standard Control Services",null,null,null,null,"AMI","Public Lighting - Alternative Control ",null,"Other Alternative Control Services",null,"Negotiated Services","Unregulated Services","Standard Control Services Prior Year"]
[null,null,null,null,null,null,null,null,null,null,null,null,"Energy efficient","Non energy efficient","Fee based service","Quoted service"]
[null,null,null,"$'000 nominal","$'000 nominal","$'000 nominal","$'000 nominal",null,null,null,null,"$'000 nominal","$'000 nominal","$'000 nominal","$'000 nominal","$'000 nominal","$'000 nominal","$'000 nominal","$'000 nominal"]
[null,null,"Routine",68345.395196578989,-384.66915993118891,67960.7260366478,67960.7260366478,null,null,null,null,0,0,0,0,0,0,0,42435.070482165858]
[null,null,"Condition based",38600.321509282607,-1369.6987329781987,37230.622776304408,37230.622776304408,null,null,null,null,0,0,0,0,0,0,0,31335.798266615115]
[null,null,"Emergency",27139.067273820539,-1160.8227646267478,25978.244509193792,25978.244509193792,null,null,null,null,0,0,0,0,0,0,0,23634.646318257692]
[null,null,"SCADA/Network Control",696.81480999999997,-28.483019130888579,668.33179086911139,668.33179086911139,null,null,null,null,0,0,0,0,0,0,0,965.56397323632086]
[null,null,"Other - Standard Control Services (a)",3964.5294755236946,-114.518977893189,3850.0104976305056,3850.0104976305056,null,null,null,null,0,0,0,0,0,0,0,4030.427315757217]
[null,null,"AMI",2130.1179999999995,-65.605710843230554,2064.5122891567689,3.5527136788005009E-15,null,null,null,null,2064.5122891567689,0,0,0,0,0,0,0]
[null,null,"Public Lighting",6346.6325082833455,-205.57380134149207,6141.0587069418534,0,null,null,null,null,0,345.0741614962925,5795.9845454455608,0,0,0,0,0]
[null,null,"Alternative control -other",3975.3708764150942,-118.99258295678601,3856.3782934583082,0,null,null,null,null,0,0,0,2666.4827368341953,1189.8955566241129,0,0,0]
[null,null,"Negotiated services",0,0,0,0,null,null,null,null,0,0,0,0,0,0,0,0]
[null,null,"Sub Total",{"$f":"SUM(D12:D20)","v":151198.24964990426},{"$f":"SUM(E12:E20)","v":-3448.3647497017214},{"$f":"SUM(F12:F20)","v":147749.88490020254},{"$f":"SUM(G12:K20)","v":135687.93561064563},null,null,null,null,{"$f":"SUM(L12:L20)","v":2064.5122891567689},345.0741614962925,5795.9845454455608,2666.4827368341953,1189.8955566241129,0,0,102401.50635603222]
[null,null,"Unregulated services",0,0,0,0,null,null,null,null,0,0,0,0,0,0,0,0]
[null,null,"Total",{"$f":"SUM(D21:D22)","v":151198.24964990426},{"$f":"SUM(E21:E22)","v":-3448.3647497017214},{"$f":"SUM(F21:F22)","v":147749.88490020254},{"$f":"SUM(G21:K22)","v":135687.93561064563},null,null,null,null,{"$f":"SUM(L21:L22)","v":2064.5122891567689},345.0741614962925,5795.9845454455608,2666.4827368341953,1189.8955566241129,0,0,102401.50635603222]
[]
[]
[null,"a. Please list any cost item which is more than 5% of the total standard control maintenance cost in the table below:"]
[]
[null,"Statutory Account code or reference to account code","Description","Audited statutory financial statements","Adjustments","Powercor","Standard Control Services"]
[]
[]
[]
[]
[]
[]
[]
[]
[null,"Balancing is required at Powercor distribution business level"]

{"sheet":"11b. Maintenance B ","index":10,"n_rows":37,"n_cols":19,"rows_kept":37,"cut":false,"hidden":false,"merged":[[9,6,9,10],[10,6,10,10],[5,1,6,18],[8,12,8,13],[8,14,8,15],[8,6,8,10]]}
[null,{"$f":"Cover!C22","v":"Powercor Australia Ltd"}]
[null,"Maintenance Costs Inclusive of Margin"]
[null,{"$f":"Cover!C26","v":2013}]
[]
[null,"Instructions:"]
[null,"Reported expenditure is to be entered INCLUSIVE of any profit margins or management fees paid directly or indirectly to related party contractors (which is not an actual incurred cost of the related party contractor) for the reporting period."]
[]
[]
[null,"Statutory Account code or reference to account code","Description","Audited Statutory Financial Statements","Adjustments","Powercor","Standard Control Services",null,null,null,null,"AMI","Public Lighting - Alternative Control ",null,"Other Alternative Control Services",null,"Negotiated Services","Unregulated Services","Standard Control Services Prior Year"]
[null,null,null,null,null,null,null,null,null,null,null,null,"Energy efficient","Non energy efficient","Fee based service","Quoted service"]
[null,null,null,"$'000 nominal","$'000 nominal","$'000 nominal","$'000 nominal",null,null,null,null,"$'000 nominal","$'000 nominal","$'000 nominal","$'000 nominal","$'000 nominal","$'000 nominal","$'000 nominal","$'000 nominal"]
[null,null,"Routine",68345.395196578989,0,68345.395196578989,68345.395196578989,null,null,null,null,0,0,0,0,0,0,0,42312.005681495]
[null,null,"Condition based",38600.321509282607,0,38600.321509282607,38600.321509282607,null,null,null,null,0,0,0,0,0,0,0,32271.916255988006]
[null,null,"Emergency",27139.067273820539,0,27139.067273820539,27139.067273820539,null,null,null,null,0,0,0,0,0,0,0,24505.139560000003]
[null,null,"SCADA/Network Control",696.81480999999997,0,696.81480999999997,696.81480999999997,null,null,null,null,0,0,0,0,0,0,0,1001.7586199999997]
[null,null,"Other - Standard Control Services (a)",3964.5294755236946,0,3964.5294755236946,3964.5294755236946,null,null,null,null,0,0,0,0,0,0,0,4135.2155599999996]
[null,null,"AMI",2130.1179999999995,0,2130.1179999999995,0,null,null,null,null,2130.1179999999995,0,0,0,0,0,0,0]
[null,null,"Public Lighting",6346.6325082833455,0,6346.6325082833455,0,null,null,null,null,0,356.62562363153182,5990.0068846518134,0,0,0,0,0]
[null,null,"Alternative control -other",3975.3708764150942,0,3975.3708764150942,0,null,null,null,null,0,0,0,2744.4794283212441,1230.8914480938499,0,0,0]
[null,null,"Negotiated services",0,0,0,0,null,null,null,null,0,0,0,0,0,0,0,0]
[null,null,"Sub Total",{"$f":"SUM(D12:D20)","v":151198.24964990426},{"$f":"SUM(E12:E20)","v":0},{"$f":"SUM(F12:F20)","v":151198.24964990426},{"$f":"SUM(G12:K20)","v":138746.12826520583},null,null,null,null,{"$f":"SUM(L12:L20)","v":2130.1179999999995},356.62562363153182,5990.0068846518134,2744.4794283212441,1230.8914480938499,0,0,104226.03567748301]
[null,null,"Unregulated services",0,0,0,0,null,null,null,null,0,0,0,0,0,0,0,0]
[null,null,"Total",{"$f":"SUM(D21:D22)","v":151198.24964990426},{"$f":"SUM(E21:E22)","v":0},{"$f":"SUM(F21:F22)","v":151198.24964990426},{"$f":"SUM(G21:K22)","v":138746.12826520583},null,null,null,null,{"$f":"SUM(L21:L22)","v":2130.1179999999995},356.62562363153182,5990.0068846518134,2744.4794283212441,1230.8914480938499,0,0,104226.03567748301]
[]
[]
[null,"a. Please list any cost item which is more than 5% of the total standard control maintenance cost in the table below:"]
[]
[null,"Statutory Account code or reference to account code","Description","Audited statutory financial statements","Adjustments","Powercor","Standard Control Services"]
[]
[]
[]
[]
[]
[]
[]
[]
[null,"Balancing is required at Powercor distribution business level"]

{"sheet":"12a. Operating A ","index":11,"n_rows":70,"n_cols":15,"rows_kept":70,"cut":false,"hidden":false,"merged":[[59,1,59,4],[1,1,1,3],[5,1,6,14],[10,10,10,11],[10,8,10,9]]}
[null,{"$f":"Cover!C22","v":"Powercor Australia Ltd"}]
[null,"Operating Expenditures Exclusive of Margin"]
[null,{"$f":"Cover!C26","v":2013}]
[]
[null,"Instructions:"]
[null,"Reported expenditure is to be entered EXCLUSIVE of any profit margins or management fees paid directly or indirectly to related party contractors (which is not an actual incurred cost of the related party contractor) for the reporting period."]
[]
[]
[null,"Table 1 Operating Expenditure"]
[]
[null,"Account code or reference to account code","Description","Audited Statutory Financial Statements","Adjustments","Powercor","Standard Control Services","AMI","Public Lighting - Alternative Control ",null,"Other Alternative Control Services",null,"Negotiated Services","Unregulated Services","Standard Control Services Prior Year"]
[null,null,null,null,null,null,null,null,"Energy efficient","Non-energy efficient","Fee based service","Quoted service"]
[null,null,"Designated Pricing Proposal Charges:","$'000 nominal","$'000 nominal","$'000 nominal","$'000 nominal","$'000 nominal","$'000 nominal","$'000 nominal","$'000 nominal","$'000 nominal","$'000 nominal","$'000 nominal","$'000 nominal"]
[null,null,"Transmission Connection Fee",27012.911749999999,-27012.911749999999,0,0,0,0,0,0,0,0,0,0]
[null,null,"Avoided TUoS charges/transmission costs",2861.8479499999999,-2861.8479499999999,0,0,0,0,0,0,0,0,0,0]
[null,null,"AEMO shared TUOS Charges",126867.80795000002,-126867.80795000002,0,0,0,0,0,0,0,0,0,0]
[null,null,"Net Cross Boundary Network Charges",6009.9173700000001,-6009.9173700000001,0,0,0,0,0,0,0,0,0,0]
[null,null,"Jurisdictional Scheme Amounts:"]
[null,null,"Premium Feed In Tariff",30342.862190000003,-30342.862190000003,0,0,0,0,0,0,0,0,0,0]
[null,null,"Transitional Feed In Tariff ",0,0,0,0,0,0,0,0,0,0,0,0]
[null,null,"<insert future jurisdictional scheme payment>",0,0,0,0,0,0,0,0,0,0,0,0]
[null,null,"Sub Total ",{"$f":"SUM(D14:D21)","v":193095.34721000004},-193095.34721000004,0,0,0,0,0,0,0,0,0,0]
[null,null,"Operating Costs"]
[null,null,"Network Operating Costs",24519.663352280804,-2861.4316027760528,21658.23174950475,21658.231749504757,0,0,0,0,0,0,0,16253.120203942108]
[null,null,"Billing & Revenue Collection",5737.7205742421365,-1331.452771451879,4406.2678027902575,4406.2678027902566,0,0,0,0,0,0,0,3874.2300450361122]
[null,null,"Advertising/Marketing",11.696692074210318,7.2722231020589376,18.968915176269256,18.968915176269256,0,0,0,0,0,0,0,233.01498326054869]
[null,null,"Customer Service",7317.9446515326999,-1464.7683371854664,5853.1763143472335,5853.1763143472335,0,0,0,0,0,0,0,4104.260047134555]
[null,null,"Regulatory",0,0,0,0,0,0,0,0,0,0,0,0]
[null,null,"Regulatory Reset",280.38179000000002,0,280.38179000000002,280.38179000000002,0,0,0,0,0,0,0,0]
[null,null,"IT",0,0,0,0,0,0,0,0,0,0,0,0]
[null,null,"Licence fee",49.986750000000001,0,49.986750000000001,49.986750000000001,0,0,0,0,0,0,0,37.295999999999999]
[null,null,"GSL payments",1040.4841000000001,0,1040.4841000000001,1040.4841000000001,0,0,0,0,0,0,0,3691.9829726770668]
[null,null,"Non-network alternatives costs",0,0,0,0,0,0,0,0,0,0,0,0]
[null,null,"Debt raising costs",0,197.74114693844817,197.74114693844817,197.74114693844817,0,0,0,0,0,0,0,201.98176354433804]
[null,null,"Other - Standard Control Services (a, b)",226597.47208742372,-214587.13069780282,12010.341389620909,12010.341389620913,0,0,0,0,0,0,0,2994.2060338134047]
[null,null,"AMI",22012.644662850598,-2508.6246233232864,19504.020039527313,0,19504.020039527313,0,0,0,0,0,0,0]
[null,null,"Public Lighting",188.02326405948943,-35.883966016558844,152.13929804293059,0,0,8.449910144303951,143.68938789862665,0,0,0,0,0]
[null,null,"Alternative control -other",15573.006709684396,-1204.7129556570917,14368.293754027305,0,0,0,0,11202.443017055075,3165.8507369722306,0,0,0]
[null,null,"Negotiated services",0,0,0,0,0,0,0,0,0,0.1384995566030818,0,0]
[null,null,"Sub Total",{"$f":"SUM(D24:D39)","v":303329.02463414805},-223788.99158417265,79540.033049975405,45515.579958377872,19504.020039527313,8.449910144303951,143.68938789862665,11202.443017055075,3165.8507369722306,0.1384995566030818,0,31390.092049408129]
[null,null,"Unregulated services",0,0,0,0,0,0,0,0,0,0,0,0]
[null,null,"Total",{"$f":"SUM(D22, D40:D41)","v":496424.37184414809},-416884.33879417268,79540.033049975405,45515.579958377872,19504.020039527313,8.449910144303951,143.68938789862665,11202.443017055075,3165.8507369722306,0.1384995566030818,0,31390.092049408129]
[]
[]
[null,"a. Please list any cost item which is more than 5% of standard control operating costs in the Table 2:"]
[]
[]
[null,"Table 2 Operating Expenditure - Other Costs"]
[]
[null,"Statutory Account code or reference to account code","Description","Audited Statutory Financial Statements","Adjustments","Powercor","Standard Control Services"]
[]
[]
[]
[]
[]
[]
[]
[]
[]
[null,"Table 3 Operating Expenditure - Non-Recurrent Network Operating Costs"]
[]
[null,"Statutory Account code or reference to account code","Description","Audited Statutory Financial Statements","Adjustments","Powercor","Standard Control Services"]
[]
[]
[]
[]
[]
[]
[]
[null,"b. Please identify any non recurrent cost which is more than 5% of the total standard control operating costs in the Table 3:"]

{"sheet":"12b. Operating B ","index":12,"n_rows":71,"n_cols":15,"rows_kept":71,"cut":false,"hidden":false,"merged":[[5,1,6,14],[10,8,10,9],[10,10,10,11]]}
[null,{"$f":"Cover!C22","v":"Powercor Australia Ltd"}]
[null,"ACTIVITIES B: Operating Expenditures Inclusive of Margin"]
[null,{"$f":"Cover!C26","v":2013}]
[]
[null,"Instructions:"]
[null,"Reported expenditure is to be entered INCLUSIVE of any profit margins or management fees paid directly or indirectly to related party contractors (which is not an actual incurred cost of the related party contractor) for the reporting period."]
[]
[]
[null,"Table 1 Operating Expenditure"]
[]
[null,"Account code or reference to account code","Description","Audited Statutory Financial Statements","Adjustments","Powercor","Standard Control Services","AMI","Public Lighting - Alternative Control ",null,"Other Alternative Control Services",null,"Negotiated Services","Unregulated Services","Standard Control Services Prior Year"]
[null,null,null,null,null,null,null,null,"Energy efficient","Non efficient","Fee based service","Quoted service"]
[null,null,"Designated Pricing Proposal Charges:","$'000 nominal","$'000 nominal","$'000 nominal","$'000 nominal","$'000 nominal","$'000 nominal","$'000 nominal","$'000 nominal","$'000 nominal","$'000 nominal","$'000 nominal","$'000 nominal"]
[null,null,"Transmission Connection Fee",27012.911749999999,-27012.911749999999,0,0,0,0,0,0,0,0,0,0]
[null,null,"Avoided TUoS charges/transmission costs",2861.8479499999999,-2861.8479499999999,0,0,0,0,0,0,0,0,0,0]
[null,null,"AEMO shared TUOS Charges",126867.80795000002,-126867.80795000002,0,0,0,0,0,0,0,0,0,0]
[null,null,"Net Cross Boundary Network Charges",6009.9173700000001,-6009.9173700000001,0,0,0,0,0,0,0,0,0,0]
[null,null,"Jurisdictional Scheme Amounts:"]
[null,null,"Premium Feed In Tariff",30342.862190000003,-30342.862190000003,0,0,0,0,0,0,0,0,0,0]
[null,null,"Transitional Feed In Tariff ",0,0,0,0,0,0,0,0,0,0,0,0]
[null,null,"<insert future jurisdictional scheme payment>"]
[null,null,"Sub Total ",{"$f":"SUM(D14:D21)","v":193095.34721000004},-193095.34721000004,0,0,0,0,0,0,0,0,0,0]
[null,null,"Operating Costs"]
[null,null,"Network Operating Costs",24519.663352280804,-2305.5430121329941,22214.120340147809,22214.120340147816,0,0,0,0,0,0,0,16649.456199298329]
[null,null,"Billing & Revenue Collection",5737.7205742421365,0,5737.7205742421365,5737.7205742421356,0,0,0,0,0,0,0,4587.1166493783494]
[null,null,"Advertising/Marketing",11.696692074210318,0,11.696692074210318,11.696692074210318,0,0,0,0,0,0,0,100.91273575249471]
[null,null,"Customer Service",7317.9446515326999,0,7317.9446515326999,7317.9446515326999,0,0,0,0,0,0,0,6698.3012622056021]
[null,null,"Regulatory",0,0,0,0,0,0,0,0,0,0,0,0]
[null,null,"Regulatory Reset",280.38179000000002,0,280.38179000000002,280.38179000000002,0,0,0,0,0,0,0,0]
[null,null,"IT",0,0,0,0,0,0,0,0,0,0,0,0]
[null,null,"Licence fee",49.986750000000001,0,49.986750000000001,49.986750000000001,0,0,0,0,0,0,0,37.295999999999999]
[null,null,"GSL payments",1040.4841000000001,0,1040.4841000000001,1040.4841000000001,0,0,0,0,0,0,0,3691.9829726770668]
[null,null,"Non-network alternatives costs",0,0,0,0,0,0,0,0,0,0,0,0]
[null,null,"Debt raising costs",0,197.74114693844817,197.74114693844817,197.74114693844817,0,0,0,0,0,0,0,201.96988312840685]
[null,null,"Other - Standard Control Services (a,b)",226597.47208742372,-213898.04090221444,12699.43118520928,12699.43118520928,0,0,0,0,0,0,0,4250.4289838961959]
[null,null,"AMI",22012.644662850598,25.200703719502005,22037.845366570102,0,22037.845366570102,0,0,0,0,0,0,0]
[null,null,"Public Lighting",188.02326405948943,1.8661856563160626,189.88944971580548,0,0,10.570595494920973,179.31885422088453,0,0,0,0,0]
[null,null,"Alternative control -other",15573.006709684396,-40.161184433542985,15532.845525250854,0,0,0,0,12209.507839562957,3323.3376856878972,0,0,0]
[null,null,"Negotiated services",0,0.1384995566030818,0.1384995566030818,0,0,0,0,0,0,0.1384995566030818,0,0]
[null,null,"Sub Total",{"$f":"SUM(D24:D39)","v":303329.02463414805},-216018.79856291012,87310.22607123795,49549.507230144583,22037.845366570102,10.570595494920973,179.31885422088453,12209.507839562957,3323.3376856878972,0.1384995566030818,0,36217.464686336447]
[null,null,"Unregulated services",0,5.5241291306671689E-3,0,0,0,0,0,0,0,0,5.5241291306671689E-3,0]
[null,null,"Total",{"$f":"SUM(D22, D40:D41)","v":496424.37184414809},-409114.14024878101,87310.22607123795,49549.507230144583,22037.845366570102,10.570595494920973,179.31885422088453,12209.507839562957,3323.3376856878972,0.1384995566030818,5.5241291306671689E-3,36217.464686336447]
[]
[]
[null,"a. Please list any cost item which is more than 5% of standard control operating costs in the Table 2:"]
[]
[]
[null,"Table 2 Operating Expenditure - Other Costs"]
[]
[null,"Statutory Account code or reference to account code","Description","Audited Statutory Financial Statements","Adjustments","Powercor","Standard Control Services"]
[]
[]
[]
[]
[]
[]
[]
[]
[]
[null,"Table 3 Operating Expenditure - Non-Recurrent Network Operating Costs"]
[]
[null,"Statutory Account code or reference to account code","Description","Audited Statutory Financial Statements","Adjustments","Powercor","Standard Control Services"]
[]
[]
[]
[]
[]
[]
[]
[]
[null,"b. Please identify any non recurrent cost which is more than 5% of the total standard control operating costs in the Table 3:"]

{"sheet":"13. Labour","index":13,"n_rows":11,"n_cols":6,"rows_kept":11,"cut":false,"hidden":false,"merged":[[1,1,1,2]]}
[null,{"$f":"Cover!C22","v":"Powercor Australia Ltd"}]
[null,"Labour and Non-Labour Costs"]
[null,{"$f":"Cover!C26","v":2013}]
[]
[null,"Account code or reference to account code","Description","Labour Costs","Non-Labour Costs","Total"]
[]
[null,null,null,"$'000 nominal","$'000 nominal","$'000 nominal"]
[null,null,"Operating Expenditure",26227.153619871307,58176.357598142116,{"$f":"SUM(D8:E8)","v":84403.511218013417}]
[null,null,"Maintenance Expenditure",18802.921039999997,132395.32860992703,{"$f":"SUM(D9:E9)","v":151198.24964992702}]
[null,null,"Capital Expenditure",70421.43385999999,327931.4434080621,{"$f":"SUM(D10:E10)","v":398352.87726806209}]
[null,null,"Total ",{"$f":"SUM(D8:D10)","v":115451.50851987129},{"$f":"SUM(E8:E10)","v":518503.12961613125},{"$f":"SUM(F8:F10)","v":633954.63813600247}]

{"sheet":"15. Total Overheads","index":14,"n_rows":38,"n_cols":6,"rows_kept":38,"cut":false,"hidden":false,"merged":[[1,1,1,2]]}
[null,{"$f":"Cover!C22","v":"Powercor Australia Ltd"}]
[null,"Total Overheads"]
[null,{"$f":"Cover!C26","v":2013}]
[]
[null,"Statutory Account code or reference to account code",null,"Gross Capex","Opex","Total"]
[null,null,"Direct overheads","$'000 nominal","$'000 nominal","$'000 nominal"]
[null,null,"Standard Control ",30175.783329999995,12222.289910628779,{"$f":"SUM(D7:E7)","v":42398.073240628772}]
[null,null,"AMI ",343.51808483607908,89.047039999999996,{"$f":"SUM(D8:E8)","v":432.56512483607906}]
[null,null,"Public lighting - energy efficient",7.1171295222877111,36.679176939537676,43.796306461825388]
[null,null,"Public lighting - energy non efficient",323.91367794160794,616.07609726382736,939.98977520543531]
[null,null,"Alternative control - fee based",0,459.50742609212182,459.50742609212182]
[null,null,"Alternative control - quoted",0,267.03215423965491,267.03215423965491]
[null,null,"Negotiated services",457.64469000000003,0,457.64469000000003]
[null,null,"Unregulated",12.167642536104307,0,12.167642536104307]
[null,null,"Subtotal",{"$f":"SUM(D7:D14)","v":31320.144554836075},{"$f":"SUM(E7:E14)","v":13690.631805163917},{"$f":"SUM(F7:F14)","v":45010.776360000003}]
[null,null,"Indirect overheads","$'000 nominal","$'000 nominal","$'000 nominal"]
[null,null,"Standard Control ",27750.488939999992,14121.358401095398,{"$f":"SUM(D17:E17)","v":41871.847341095388}]
[null,null,"AMI ",865.6324959291328,255.19484,{"$f":"SUM(D18:E18)","v":1120.8273359291329}]
[null,null,"Public lighting - energy efficient",6.2973500808838541,35.082118372559947,41.379468453443799]
[null,null,"Public lighting - energy non efficient",286.60400511150237,589.25135115059572,875.8553562620981]
[null,null,"Alternative control - fee based",0,1011.4624351516399,1011.4624351516399]
[null,null,"Alternative control - quoted",0,291.71990822767771,291.71990822767771]
[null,null,"Negotiated services",395.08076999999997,0,395.08076999999997]
[null,null,"Unregulated",10.766124807613799,0,10.766124807613799]
[null,null,"Subtotal",{"$f":"SUM(D17:D24)","v":29314.869685929127},{"$f":"SUM(E17:E24)","v":16304.069053997871},{"$f":"SUM(F17:F24)","v":45618.938739926991}]
[null,null,"Total overheads","$'000 nominal","$'000 nominal","$'000 nominal"]
[null,null,"Standard Control ",{"$f":"D7+D17","v":57926.272269999987},26343.648311724177,84269.92058172416]
[null,null,"AMI ",1209.150580765212,344.24187999999998,1553.392460765212]
[null,null,"Public lighting - energy efficient",13.414479603171564,71.761295312097616,85.175774915269187]
[null,null,"Public lighting - energy non efficient",610.51768305311032,1205.3274484144231,1815.8451314675335]
[null,null,"Alternative control - fee based",0,1470.9698612437617,1470.9698612437617]
[null,null,"Alternative control - quoted",0,558.75206246733262,558.75206246733262]
[null,null,"Negotiated services",{"$f":"D13+D23","v":852.72546},0,852.72546]
[null,null,"Unregulated",22.933767343718106,0,22.933767343718106]
[null,null,"Total Overheads",{"$f":"SUM(D27:D34)","v":60635.014240765202},{"$f":"SUM(E27:E34)","v":29994.700859161796},{"$f":"SUM(F27:F34)","v":90629.715099926994}]
[]
[null,"Note: (a) Provide direct overheads where applicable"]
[null,"         (b) The allocation of overheads is to be consistent with the approved Cost Allocation Method"]

{"sheet":"16. Provisions","index":15,"n_rows":204,"n_cols":14,"rows_kept":204,"cut":false,"hidden":false,"merged":[[190,8,190,9],[190,10,190,11],[143,8,143,9],[143,10,143,11],[157,8,157,9],[157,10,157,11],[176,8,176,9],[176,10,176,11],[87,8,87,9],[87,10,87,11],[106,8,106,9],[106,10,106,11],[120,8,120,9],[120,10,120,11],[40,8,40,9],[40,10,40,11],[54,8,54,9],[54,10,54,11],[73,8,73,9],[73,10,73,11],[23,8,23,9],[23,10,23,11],[1,1,1,2],[9,10,9,11],[9,8,9,9],[5,1,7,13]]}
[null,{"$f":"Cover!C22","v":"Powercor Australia Ltd"}]
[null,"Provisions"]
[null,{"$f":"Cover!C26","v":2013}]
[]
[null,"Instructions"]
[null,"Fill out separate tables for each provision\nIn addition it is mandatory to produce for each provision that has been allocated to the Regulated Business Segments a supporting \n- written explanation of the need for the provision\n- written explanation of the movements in the provision."]
[]
[]
[]
[null,"Account code or reference to account code","Provision for Stock Write Down","Audited Statutory Financial Statements","Adjustments","Powercor","Standard Control Services","AMI","Public Lighting",null,"Other Alternative Control Services",null,"Negotiated Services","Unregulated Services"]
[null,null,null,null,null,null,null,null,"Energy efficient","Non efficient","Fee based service","Quoted service"]
[null,null,null,"$'000 nominal","$'000 nominal","$'000 nominal","$'000 nominal","$'000 nominal","$'000 nominal","$'000 nominal","$'000 nominal","$'000 nominal","$'000 nominal","$'000 nominal"]
[null,null,"Opening Balance",-31.83689,11.333349999999996,-20.503540000000005,-20.503540000000005,0,0,0,0,0,0,0]
[null,null,"Liabilities paid from provision charged to opex",0,0,0,0,0,0,0,0,0,0,0]
[null,null,"Liabilities paid from provision charged to capex",0,0,0,0,0,0,0,0,0,0,0]
[null,null,"Increase /decrease in provision charged to opex",0,0,0,0,0,0,0,0,0,0,0]
[null,null,"Increase/decrease in provision charged to capex",0,0,0,0,0,0,0,0,0,0,0]
[null,null,"Other adjustments (a)",0,0,0,0,0,0,0,0,0,0,0]
[null,null,null,0,0,0,0,0,0,0,0,0,0,0]
[null,null,"Closing Balance",{"$f":"SUM(D13:D19)","v":-31.83689},{"$f":"SUM(E13:E19)","v":11.333349999999996},-20.503540000000005,-20.503540000000005,0,0,0,0,0,0,0]
[]
[null,"a: Please explain other adjustments in the table below:"]
[]
[null,"Account code or reference to account code","Provision for Stock Write Down","Audited Statutory Financial Statements","Adjustments","Powercor","Standard Control Services","AMI","Public Lighting",null,"Other Alternative Control Services",null,"Negotiated Services","Unregulated Services"]
[null,null,null,null,null,null,null,null,"Energy efficient","Non efficient","Fee based service","Quoted service"]
[null,null,null,"$'000 nominal","$'000 nominal","$'000 nominal","$'000 nominal","$'000 nominal","$'000 nominal","$'000 nominal","$'000 nominal","$'000 nominal","$'000 nominal","$'000 nominal"]
[]
[]
[]
[]
[null,null,"Explanation of the need for the provision"]
[]
[null,null,"Relates to materials and or stock held for maintenance and repair of Network Assets."]
[]
[null,null,"Explanation of the movements in the provision"]
[]
[]
[]
[]
[]
[null,"Account code or reference to account code","Provision for Uninsured Loss","Audited Statutory Financial Statements","Adjustments","Powercor","Standard Control Services","AMI","Public Lighting",null,"Other Alternative Control Services",null,"Negotiated Services","Unregulated Services"]
[null,null,null,null,null,null,null,null,"Energy efficient","Non efficient","Fee based service","Quoted service"]
[null,null,null,"$'000 nominal","$'000 nominal","$'000 nominal","$'000 nominal","$'000 nominal","$'000 nominal","$'000 nominal","$'000 nominal","$'000 nominal","$'000 nominal","$'000 nominal"]
[null,null,"Opening Balance",-1582.6407300000001,0,-1582.6407300000001,-1582.6407300000001,0,0,0,0,0,0,0]
[null,null,"Liabilities paid from provision charged to opex",856.99823000000004,0,856.99823000000004,856.99823000000004,0,0,0,0,0,0,0]
[null,null,"Liabilities paid from provision charged to capex",0,0,0,0,0,0,0,0,0,0,0]
[null,null,"Increase /decrease in provision charged to opex",36.922310000000152,0,36.922310000000152,36.922310000000152,0,0,0,0,0,0,0]
[null,null,"Increase/decrease in provision charged to capex",0,0,0,0,0,0,0,0,0,0,0]
[null,null,"Other adjustments (a)",0,0,0,0,0,0,0,0,0,0,0]
[null,null,null,0,0,0,0,0,0,0,0,0,0,0]
[null,null,"Closing Balance",{"$f":"SUM(D44:D50)","v":-688.72018999999989},0,-688.72018999999989,-688.72018999999989,0,0,0,0,0,0,0]
[]
[null,"a: Please explain other adjustments in the table below:"]
[]
[null,"Account code or reference to account code","Provision for Uninsured Loss","Audited Statutory Financial Statements","Adjustments","Powercor","Standard Control Services","AMI","Public Lighting",null,"Other Alternative Control Services",null,"Negotiated Services","Unregulated Services"]
[null,null,null,null,null,null,null,null,"Energy efficient","Non efficient","Fee based service","Quoted service"]
[null,null,null,"$'000 nominal","$'000 nominal","$'000 nominal","$'000 nominal","$'000 nominal","$'000 nominal","$'000 nominal","$'000 nominal","$'000 nominal","$'000 nominal","$'000 nominal"]
[]
[]
[]
[]
[null,null,"Explanation of the need for the provision"]
[]
[null,null,"Provision for claims relating to damages sustained from Network assets."]
[]
[null,null,"Explanation of the movements in the provision"]
[]
[null,null,"Decrease in provision charged to profit due to a reassessment of likely claims."]
[]
[]
[]
[]
[]
[null,"Account code or reference to account code","Provision for Doubtful Debt","Audited Statutory Financial Statements","Adjustments","Powercor","Standard Control Services","AMI","Public Lighting",null,"Other Alternative Control Services",null,"Negotiated Services","Unregulated Services"]
[null,null,null,null,null,null,null,null,"Energy efficient","Non efficient","Fee based service","Quoted service"]
[null,null,null,"$'000 nominal","$'000 nominal","$'000 nominal","$'000 nominal","$'000 nominal","$'000 nominal","$'000 nominal","$'000 nominal","$'000 nominal","$'000 nominal","$'000 nominal"]
[null,null,"Opening Balance",-1560.9930800000002,257,-1303.9930800000002,-1180.9930800000002,0,0,-123,0,0,0,0]
[null,null,"Liabilities paid from provision charged to opex",0,0,0,0,0,0,0,0,0,0,0]
[null,null,"Liabilities paid from provision charged to capex",0,0,0,0,0,0,0,0,0,0,0]
[null,null,"Increase /decrease in provision charged to opex",9,-176,-167,-139.5,0,0,-27.5,0,0,0,0]
[null,null,"Increase/decrease in provision charged to capex",0,0,0,0,0,0,0,0,0,0,0]
[null,null,"Other adjustments (a)",0,0,0,0,0,0,0,0,0,0,0]
[null,null,null,0,0,0,0,0,0,0,0,0,0,0]
[null,null,"Closing Balance",{"$f":"SUM(D77:D83)","v":-1551.9930800000002},81,-1470.9930800000002,-1320.4930800000002,0,0,-150.5,0,0,0,0]
[]
[null,"a: Please explain other adjustments in the table below:"]
[]
[null,"Account code or reference to account code","Provision for Doubtful Debt","Audited Statutory Financial Statements","Adjustments","Powercor","Standard Control Services","AMI","Public Lighting",null,"Other Alternative Control Services",null,"Negotiated Services","Unregulated Services"]
[null,null,null,null,null,null,null,null,"Energy efficient","Non efficient","Fee based service","Quoted service"]
[null,null,null,"$'000 nominal","$'000 nominal","$'000 nominal","$'000 nominal","$'000 nominal","$'000 nominal","$'000 nominal","$'000 nominal","$'000 nominal","$'000 nominal","$'000 nominal"]
[]
[]
[]
[]
[null,null,"Explanation of the need for the provision"]
[]
[null,null,"Provision against doubtful tariff and non-tariff receivables."]
[]
[null,null,"Explanation of the movements in the provision"]
[]
[null,null,"Movement based on remeasurement of debts considered to be doubtful."]
[]
[]
[]
[]
[]
[null,"Account code or reference to account code","Provision for Employee Entitlements","Audited Statutory Financial Statements","Adjustments","Powercor","Standard Control Services","AMI","Public Lighting",null,"Other Alternative Control Services",null,"Negotiated Services","Unregulated Services"]
[null,null,null,null,null,null,null,null,"Energy efficient","Non efficient","Fee based service","Quoted service"]
[null,null,null,"$'000 nominal","$'000 nominal","$'000 nominal","$'000 nominal","$'000 nominal","$'000 nominal","$'000 nominal","$'000 nominal","$'000 nominal","$'000 nominal","$'000 nominal"]
[null,null,"Opening Balance",-56648.846650000007,2555.5553068400004,-54093.291343160003,-54093.291343160003,0,0,0,0,0,0,0]
[null,null,"Liabilities paid from provision charged to opex",7969.93697997864,-387.06387999999941,7582.8730999786403,7582.8730999786403,0,0,0,0,0,0,0]
[null,null,"Liabilities paid from provision charged to capex",12463.989770021357,0,12463.989770021357,12463.989770021357,0,0,0,0,0,0,0]
[null,null,"Increase /decrease in provision charged to opex",-6095.3329094743331,946.18673000000013,-5149.1461794743327,-5149.1461794743327,0,0,0,0,0,0,0]
[null,null,"Increase/decrease in provision charged to capex",-14786.052270525659,0,-14786.052270525659,-14786.052270525659,0,0,0,0,0,0,0]
[null,null,"Other adjustments (a)",0,0,0,0,0,0,0,0,0,0,0]
[null,null,null,0,0,0,0,0,0,0,0,0,0,0]
[null,null,"Closing Balance",{"$f":"SUM(D110:D116)","v":-57096.305080000006},3114.6781568400011,-53981.626923159994,-53981.626923159994,0,0,0,0,0,0,0]
[]
[null,"a: Please explain other adjustments in the table below:"]
[]
[null,"Account code or reference to account code","Provision for Employee Entitlements","Audited Statutory Financial Statements","Adjustments","Powercor","Standard Control Services","AMI","Public Lighting",null,"Other Alternative Control Services",null,"Negotiated Services","Unregulated Services"]
[null,null,null,null,null,null,null,null,"Energy efficient","Non efficient","Fee based service","Quoted service"]
[null,null,null,"$'000 nominal","$'000 nominal","$'000 nominal","$'000 nominal","$'000 nominal","$'000 nominal","$'000 nominal","$'000 nominal","$'000 nominal","$'000 nominal","$'000 nominal"]
[]
[]
[]
[]
[null,null,"Explanation of the need for the provision"]
[]
[null,null,"Annual Leave (\"AL\") is provided for all employees."]
[]
[null,null,"Long service leave (\"LSL\") is provided to meet the likely future entitlement of employees for LSL."]
[]
[null,null,"Explanation of the movements in the provision"]
[]
[null,null,"Decrease in provision due to AL and LSL paid to employees in respect of leave taken."]
[]
[null,null,"Increase in provision made to meet the future AL and LSL entitlements of employees."]
[]
[]
[]
[]
[]
[null,"Account code or reference to account code","Provision for Transmission Fees","Audited Statutory Financial Statements","Adjustments","Powercor","Standard Control Services","AMI","Public Lighting",null,"Other Alternative Control Services",null,"Negotiated Services","Unregulated Services"]
[null,null,null,null,null,null,null,null,"Energy efficient","Non efficient","Fee based service","Quoted service"]
[null,null,null,"$'000 nominal","$'000 nominal","$'000 nominal","$'000 nominal","$'000 nominal","$'000 nominal","$'000 nominal","$'000 nominal","$'000 nominal","$'000 nominal","$'000 nominal"]
[null,null,"Opening Balance",-17454.606739999999,17454.606739999999,0,0,0,0,0,0,0,0,0]
[null,null,"Liabilities paid from provision charged to opex",0,0,0,0,0,0,0,0,0,0,0]
[null,null,"Liabilities paid from provision charged to capex",0,0,0,0,0,0,0,0,0,0,0]
[null,null,"Increase /decrease in provision charged to opex",18384.026320000004,-18384.026320000004,0,0,0,0,0,0,0,0,0]
[null,null,"Increase/decrease in provision charged to capex",0,0,0,0,0,0,0,0,0,0,0]
[null,null,"Other adjustments (a)",-929.41954000000328,929.41954000000328,0,0,0,0,0,0,0,0,0]
[null,null,null,0,0,0,0,0,0,0,0,0,0,0]
[null,null,"Closing Balance",{"$f":"SUM(D147:D153)","v":4.0000001945372787E-5},-4.0000001945372787E-5,0,0,0,0,0,0,0,0,0]
[]
[null,"a: Please explain other adjustments in the table below:"]
[]
[null,"Account code or reference to account code","Provision for Transmission Fees","Audited Statutory Financial Statements","Adjustments","Powercor","Standard Control Services","AMI","Public Lighting",null,"Other Alternative Control Services",null,"Negotiated Services","Unregulated Services"]
[null,null,null,null,null,null,null,null,"Energy efficient","Non efficient","Fee based service","Quoted service"]
[null,null,null,"$'000 nominal","$'000 nominal","$'000 nominal","$'000 nominal","$'000 nominal","$'000 nominal","$'000 nominal","$'000 nominal","$'000 nominal","$'000 nominal","$'000 nominal"]
[]
[]
[]
[]
[null,null,"Explanation of the need for the provision"]
[]
[null,null,"Represents over/under collection of transmission charges included in network tariffs that will be adjusted for in future years."]
[]
[null,null,"Explanation of the movements in the provision"]
[]
[null,null,"The increase in the provision charged to profit represents the over collection of transmission charges in network tariffs."]
[]
[]
[]
[]
[]
[null,"Account code or reference to account code","Provision for Restorations","Audited Statutory Financial Statements","Adjustments","Powercor","Standard Control Services","AMI","Public Lighting",null,"Other Alternative Control Services",null,"Negotiated Services","Unregulated Services"]
[null,null,null,null,null,null,null,null,"Energy efficient","Non efficient","Fee based service","Quoted service"]
[null,null,null,"$'000 nominal","$'000 nominal","$'000 nominal","$'000 nominal","$'000 nominal","$'000 nominal","$'000 nominal","$'000 nominal","$'000 nominal","$'000 nominal","$'000 nominal"]
[null,null,"Opening Balance",-311.07056,311.07056,0,0,0,0,0,0,0,0,0]
[null,null,"Liabilities paid from provision charged to opex",0,0,0,0,0,0,0,0,0,0,0]
[null,null,"Liabilities paid from provision charged to capex",0,0,0,0,0,0,0,0,0,0,0]
[null,null,"Increase /decrease in provision charged to opex",205.17,-205.17,0,0,0,0,0,0,0,0,0]
[null,null,"Increase/decrease in provision charged to capex",0,0,0,0,0,0,0,0,0,0,0]
[null,null,"Other adjustments (a)",0,0,0,0,0,0,0,0,0,0,0]
[null,null,null,0,0,0,0,0,0,0,0,0,0,0]
[null,null,"Closing Balance",{"$f":"SUM(D180:D186)","v":-105.90056000000001},105.90056000000001,0,0,0,0,0,0,0,0,0]
[]
[null,"a: Please explain other adjustments in the table below:"]
[]
[null,"Account code or reference to account code","Provision for Restorations","Audited Statutory Financial Statements","Adjustments","Powercor","Standard Control Services","AMI","Public Lighting",null,"Other Alternative Control Services",null,"Negotiated Services","Unregulated Services"]
[null,null,null,null,null,null,null,null,"Energy efficient","Non efficient","Fee based service","Quoted service"]
[null,null,null,"$'000 nominal","$'000 nominal","$'000 nominal","$'000 nominal","$'000 nominal","$'000 nominal","$'000 nominal","$'000 nominal","$'000 nominal","$'000 nominal","$'000 nominal"]
[]
[]
[]
[]
[null,null,"Explanation of the need for the provision"]
[]
[null,null,"Provision represents the best estimate of costs that will be required to settle claims in respect of failure to meet agreed service levels for external projects."]
[]
[null,null,"Explanation of the movements in the provision"]
[]
[null,null,"Decrease in provision represents a re-measurement of the adequacy of restorations likely to occur."]

{"sheet":"17. Shared Cost Allocation","index":16,"n_rows":70,"n_cols":14,"rows_kept":70,"cut":false,"hidden":false,"merged":[[58,8,58,9],[58,10,58,11],[6,1,7,13],[10,8,10,9],[10,10,10,11],[26,8,26,9],[26,10,26,11],[42,8,42,9],[42,10,42,11]]}
[null,{"$f":"Cover!C22","v":"Powercor Australia Ltd"}]
[null,"Shared Cost Allocations"]
[null,{"$f":"Cover!C26","v":2013}]
[]
[null,"Instructions"]
[null,"1. For shared cost allocation within distribution services, please state that all items have been allocated in accordance with the approved Cost Allocation Model (CAM)"]
[null,"2. For cost allocation between distribution and non-distribution business, please provide work paper to demonstrate costs have been allocated from statutory accounts to distribution business in accordance with the cost allocations principles set out in Appendix A of the RIN. "]
[]
[]
[null,"Billing & Revenue Collection - Allocated"]
[null,"Statutory Account code or reference to account code","Statutory Accounts","Audited Statutory Financial Statements","Adjustments","Powercor","Standard Control Services","AMI","Public Lighting",null,"Other Alternative Control Services",null,"Negotiated Services","Unregulated Services"]
[null,null,null,null,null,null,null,null,"Energy efficient","Non efficient","Fee based service","Quoted service"]
[null,null,"$'000 nominal","$'000 nominal","$'000 nominal","$'000 nominal","$'000 nominal","$'000 nominal","$'000 nominal","$'000 nominal","$'000 nominal","$'000 nominal","$'000 nominal","$'000 nominal"]
[null,null,5351.4416041468667,5351.4416041468667,0,5351.4416041468667,4781.2058630570655,274.45493421063401,4.1699614643610108,70.059191721362978,169.83315980117365,51.718493892269485,0,0]
[null,null,null,null,null,0]
[null,"Note: please provide the following:"]
[]
[null,"Basis of allocation:"]
[null,"Allocation based on Expenditure Split"]
[]
[null,"Reason for choosing this basis:"]
[null,"Reflective of the costs incurred in providing different categories of distribution services"]
[]
[]
[]
[null,"Advertising/Marketing - Allocated"]
[null,"Statutory Account code or reference to account code","Statutory Accounts","Audited Statutory Financial Statements","Adjustments","Powercor","Standard Control Services","AMI","Public Lighting",null,"Other Alternative Control Services",null,"Negotiated Services","Unregulated Services"]
[null,null,null,null,null,null,null,null,"Energy efficient","Non efficient","Fee based service","Quoted service"]
[null,null,"$'000 nominal","$'000 nominal","$'000 nominal","$'000 nominal","$'000 nominal","$'000 nominal","$'000 nominal","$'000 nominal","$'000 nominal","$'000 nominal","$'000 nominal","$'000 nominal"]
[null,null,13.091710833969779,13.091710833969779,0,13.091710833969779,11.696692074210318,0.67142368382708606,1.0201350162899634E-2,0.17139207472001439,0.41547806789359587,0.12652358315586359,0,0]
[null,null,null,null,null,0]
[null,"Note: please provide the following:"]
[]
[null,"Basis of allocation:"]
[null,"Allocation based on Expenditure Split"]
[]
[null,"Reason for choosing this basis:"]
[null,"Reflective of the costs incurred in providing different categories of distribution services"]
[]
[]
[]
[null,"Customer Service - Allocated"]
[null,"Statutory Account code or reference to account code","Statutory Accounts","Audited Statutory Financial Statements","Adjustments","Powercor","Standard Control Services","AMI","Public Lighting",null,"Other Alternative Control Services",null,"Negotiated Services","Unregulated Services"]
[null,null,null,null,null,null,null,null,"Energy efficient","Non efficient","Fee based service","Quoted service"]
[null,null,"$'000 nominal","$'000 nominal","$'000 nominal","$'000 nominal","$'000 nominal","$'000 nominal","$'000 nominal","$'000 nominal","$'000 nominal","$'000 nominal","$'000 nominal","$'000 nominal"]
[null,null,8190.7273158107746,8190.7273158107746,0,8190.7273158107746,7317.9446515326999,420.07101878045546,6.3823955858087071,107.23012186307382,259.94062983626509,79.158498212471315,0,0]
[null,null,null,null,null,0]
[null,"Note: please provide the following:"]
[]
[null,"Basis of allocation:"]
[null,"Allocation based on Expenditure Split"]
[]
[null,"Reason for choosing this basis:"]
[null,"Reflective of the costs incurred in providing different categories of distribution services"]
[]
[]
[]
[null,"Debt Raising Costs - Allocated"]
[null,"Statutory Account code or reference to account code","Statutory Accounts","Audited Statutory Financial Statements","Adjustments","Powercor","Standard Control Services","AMI","Public Lighting",null,"Other Alternative Control Services",null,"Negotiated Services","Unregulated Services"]
[null,null,null,null,null,null,null,null,"Energy efficient","Non efficient","Fee based service","Quoted service"]
[null,null,"$'000 nominal","$'000 nominal","$'000 nominal","$'000 nominal","$'000 nominal","$'000 nominal","$'000 nominal","$'000 nominal","$'000 nominal","$'000 nominal","$'000 nominal","$'000 nominal"]
[null,null,0,0,224.95205999999999,224.95205999999999,197.74114693844817,25.200703719502005,8.0370945883551509E-3,1.8581485617277074,0,0,0.1384995566030818,5.5241291306671689E-3]
[null,null,null,null,null,0]
[null,"Note: please provide the following:"]
[]
[null,"Basis of allocation:"]
[null,"Allocation based on Fixed Assets"]
[]
[null,"Reason for choosing this basis:"]
[null,"Reflective of the costs incurred in providing different categories of distribution services"]

{"sheet":"18. Avoided Cost Payments","index":17,"n_rows":19,"n_cols":5,"rows_kept":19,"cut":false,"hidden":false,"merged":[[1,1,1,2]]}
[null,{"$f":"Cover!C22","v":"Powercor Australia Ltd"}]
[null,"Avoided Cost Payments"]
[null,{"$f":"Cover!C26","v":2013}]
[]
[]
[null,"Statutory Account code or reference to account code","Description","Avoided Cost Payment ","Number of Projects "]
[null,null,"Deferral of Augmentation to Transmission Networks","$'000 nominal"]
[null,null,"Embedded generators",2861.8479499999999,13]
[null,null,"Related party embedded generators",0,0]
[null,null,"Customers",0,0]
[null,null,"Avoided TUOS",0,0]
[null,null,"Sub Total ",{"$f":"SUM(D8:D11)","v":2861.8479499999999},{"$f":"SUM(E8:E11)","v":13}]
[null,null,"Deferral of Augmentation to Distribution Networks"]
[null,null,"Embedded generators",0,0]
[null,null,"Related party embedded generators",0,0]
[null,null,"Customers",0,0]
[null,null,"Sub Total ",{"$f":"SUM(D14:D16)","v":0},{"$f":"SUM(E14:E16)","v":0}]
[]
[null,null,"TOTAL",{"$f":"D17+D12","v":2861.8479499999999},{"$f":"E17+E12","v":13}]

{"sheet":"19. Alt Control&Others  ","index":18,"n_rows":56,"n_cols":8,"rows_kept":56,"cut":false,"hidden":false,"merged":[[1,1,1,3]]}
[null,{"$f":"Cover!C22","v":"Powercor Australia Ltd"}]
[null,"Alternative Control Services and Other Services"]
[null,{"$f":"Cover!C26","v":2013}]
[]
[]
[null,"Statutory Account code or reference to account code","Description","Direct O&M Costs ","Indirect O&M costs","Direct Capex","Indirect Capex","Revenue"]
[]
[null,null,"Alternative Control Services - Fee Based","$'000 nominal","$'000 nominal","$'000 nominal","$'000 nominal","$'000 nominal"]
[null,null,"Meter investigation",69.915311450128655,10.335550036345762,0,0,-150.09814999999963]
[null,null,"Meter Testing ",240.76502854987132,35.592189292533455,0,0,-168.25213000000011]
[null,null,"De-energisation of existing connections",1422.6536973790101,44.834145552852306,0,0,-1596.7643233112615]
[null,null,"Energisation of existing connections",2247.2074640392393,70.819502114821461,0,0,-2599.7340639425443]
[null,null,"Special meter reading",232.16742235166197,7.3166280912366499,0,0,-206.74260370697357]
[null,null,"Re-test of type 5 and 6 metering installations for first tier customers with annual consumption greater than 160 MWh",0,0,0,0,0]
[null,null,"Operation, repair, replacement and maintenance of DNSP public lighting assets",0,0,0,0,0]
[null,null,"Fault response - not DNSP fault",0,0,0,0,0]
[null,null,"Temporary disconnect/reconnect services",0,0,0,0,0]
[null,null,"Wasted attendance - not DNSP fault",140.58718567725649,20.796815923448936,0,0,-174.52392000000006]
[null,null,"Service truck visits",2651.6912451740659,391.52070875589976,0,0,-2871.6521999999513]
[null,null,"Reserve feeder",208.62570193878778,6.5747237743253173,0,0,-87.346559999999997]
[null,null,"PV installation",2206.2920625801394,69.530075835080822,0,0,-2847.4032399999996]
[null,null,"Routine connections - customers below 100 amps",4230.6361084672071,646.12570348042766,0,0,-5824.7268299999987]
[null,null,"Temporary supply services",0,0,0,0,0]
[null,null,"Remote meter re-configuration",0,0,0,0,0]
[null,null,"Remote de-energisation",0,0,0,0,0]
[null,null,"Remote re-energisation",0,0,0,0,0]
[null,null,"Total fee based alternative control services",{"$f":"SUM(D9:D26)","v":13650.541227607366},{"$f":"SUM(E9:E26)","v":1303.4460428569723},{"$f":"SUM(F9:F26)","v":0},{"$f":"SUM(G9:G26)","v":0},{"$f":"SUM(H9:H26)","v":-16527.24402096073}]
[]
[null,null,"Alternative Control Services - Quoted","$'000 nominal","$'000 nominal","$'000 nominal","$'000 nominal","$'000 nominal"]
[null,null,"Rearrangement of network assets at customer request, excluding alteration and relocation of existing public lighting assets",0,0,0,0,0]
[null,null,"Supply enhancement at customer request",0,0,0,0,0]
[null,null,"Supply abolishment",666.0635929220856,99.208925594942997,0,0,-636.32016999999644]
[null,null,"Emergency recoverable works (that is, emergency works where customer is at fault and immediate action needs to be taken by the DNSP)",1494.5091800000002,212.64646151502927,0,0,-1400.6984700000003]
[null,null,"Auditing of design and construction",821.89818637714552,108.33186227731582,0,0,-421.06099999999998]
[null,null,"Specification and design enquiry fees",574.10329362285449,75.670782547712761,0,0,-533.29174999999987]
[null,null,"Elective underground service where an existing overhead service exists",0,0,0,0,0]
[null,null,"Damage to overhead service cables pulled down by high load vehicles",0,0,0,0,0]
[null,null,"High load escorts—lifting overhead lines",128.37329036458067,21.355242631841186,0,0,-120.92417000000002]
[null,null,"Covering of low voltage mains for safety reasons",304.9138148032751,43.202689042673597,0,0,-369.98713000000009]
[null,null,"Routine connections, for customers > 100amps",0,0,0,0,0]
[null,null,"After hours truck by appointment",3.4386917762307765,0.51312030605872394,0,0,-7.8830800000000005]
[null,null,"Total quoted alternative control services",{"$f":"SUM(D30:D41)","v":3993.3000498661722},{"$f":"SUM(E30:E41)","v":560.92908391557432},{"$f":"SUM(F30:F41)","v":0},{"$f":"SUM(G30:G41)","v":0},{"$f":"SUM(H30:H41)","v":-3490.1657699999969}]
[]
[null,null,"Public Lighting  ","$'000 nominal","$'000 nominal","$'000 nominal","$'000 nominal","$'000 nominal"]
[null,null,"Efficient",321.54350525897183,45.647392746794758,57.687239350505209,6.2973500808838541,-595.95110280956351]
[null,null,"Non-energy efficient",5400.7555335012175,766.7093408358503,2625.4525521566902,286.60400511150237,-8736.7860071903942]
[null,null,"Total public lighting",{"$f":"SUM(D45:D46)","v":5722.2990387601894},{"$f":"SUM(E45:E46)","v":812.35673358264501},{"$f":"SUM(F45:F46)","v":2683.1397915071952},{"$f":"SUM(G45:G46)","v":292.90135519238623},{"$f":"SUM(H45:H46)","v":-9332.7371099999582}]
[]
[null,null,"Other Activities - Non Regulated","$'000 nominal","$'000 nominal","$'000 nominal","$'000 nominal","$'000 nominal"]
[null,null,"Pole, Duct & Fibre Rental",0,0,0,0,-3224.2185100000002]
[null,null,"Public Lighting",0,0,98.623708492804667,10.766124807613799,-137.27068]
[null,null,"Total non - regulated",{"$f":"SUM(D50:D51)","v":0},{"$f":"SUM(E50:E51)","v":0},{"$f":"SUM(F50:F51)","v":98.623708492804667},{"$f":"SUM(G50:G51)","v":10.766124807613799},{"$f":"SUM(H50:H51)","v":-3361.4891900000002}]
[]
[null,null,"TOTAL",{"$f":"SUM(D27,D42,D47,D52)","v":23366.140316233726},{"$f":"SUM(E27,E42,E47,E52)","v":2676.7318603551917},{"$f":"SUM(F27,F42,F47,F52)","v":2781.7635},{"$f":"SUM(G27,G42,G47,G52)","v":303.66748000000001},{"$f":"SUM(H27,H42,H47,H52)","v":-32711.636090960685}]
[]
[null,"Note: Services classes are those used in the 2010 Distribution Determination Other alternative control services. "]

{"sheet":"20. Demand and Revenue","index":19,"n_rows":160,"n_cols":5,"rows_kept":160,"cut":false,"hidden":false,"merged":[]}
[null,"Powercor"]
[null,"Total Revenue and Demand"]
[null,{"$f":"Cover!C26","v":2013}]
[]
[null,"Table 1 Standard Control Services Revenue - Current Year"]
[null,"Note: insert additional rows as necessary"]
[]
[null,"Statutory Account code or reference to account code","Distribution Category","Amount of Electricity Distributed","Distribution Revenue"]
[null,null,"Tariff categories","GWh","$'000 nominal"]
[null,null,"D1 - Small Single Rate",2107.6856540473063,163620.86250077642]
[null,null,"D1CS - Climate Saver",26.695090308396846,1398.3500575919506]
[null,null,"D3CS - ClimateSaver Interval",7.929719450981132,406.42117862907213]
[null,null,"D2 - Small Two Rate",341.06700734805486,20107.199645964283]
[null,null,"D2DK - Small Two Rate DK",3.9834162438429881,271.29464361467086]
[null,null,"D3 - Residential Interval",509.7918554272232,37228.211922222028]
[null,null,"DD1 - Dedicated Circuit",365.50085580856546,1162.2214514881105]
[null,null,"D3HW - Hot Water Interval",11.671669593273073,36.976799193577364]
[null,null,"P13R - Residential - Flexible Pricing",0.12110194101886231,5.7278567624219372]
[null,null,"P13RDK - Residential Docklands  - Flexible Pricing",0,0]
[null,null,"P13RCS - Climate Saver - Flexible Pricing",0,0]
[null,null,"ND1 - Medium single rate",264.51233010859647,23097.764162359825]
[null,null,"ND1R - Medium single rate",0,0]
[null,null,"ND2 - Medium Two Rate - 5d",1168.6978996068899,86656.91902857543]
[null,null,"ND2BS - Medium Two Rate - 5d",0,0]
[null,null,"ND3 - Medium Two Rate - 7d",176.33752204885599,14052.074640697139]
[null,null,"ND5 - Non Residential Interval",375.96444719243215,29682.168036800671]
[null,null,"PL2 - Unmetered Supplies",104.62214583387082,5163.4222758711776]
[null,null,"DL - Large Tariff (kW)",1144.6502178198364,51413.661701166311]
[null,null,"DLA - Large Tariff A (kW)",3.2986799253399393E-3,5.3647999931165084E-2]
[null,null,"DLC - Large Tariff C (kW)",612.65320175933743,25548.286235824129]
[null,null,"DLCXX - Large Tariff CXX (kW)",417.22293961120471,22637.476523716679]
[null,null,"DLS - Large Tariff S (kW)",25.607362437313437,1418.1440039611923]
[null,null,"DLDK - Large Tariff DK (kW)",6.4183114232358012,232.39251771218011]
[null,null,"DL.R - Large Tariff R (kW)",0,0]
[null,null,"DL.NR - Large Tariff NR (kW)",52.466921255769869,2531.9064207665911]
[null,null,"DL.CXXR - Large Tariff CXXR (kW)",1.5897204151283182,95.199466682366676]
[null,null,"DL.CXXNR - Large Tariff CXXNR (kW)",3.5437414360522768,165.05967405231834]
[null,null,"DH - High Voltage (kW)",935.56760795265632,25379.690177996799]
[null,null,"DHA - High Voltage A (kW)",12.740033065924864,191.73155965843304]
[null,null,"DHC - High Voltage C (kW)",447.93326257606066,11237.54124342974]
[null,null,"DHD1 - High Voltage D1 (kW)",163.79958049742606,1291.1093956433369]
[null,null,"DHD2 - High Voltage D2 (kW)",76.107080978581862,704.15784834580234]
[null,null,"DHD3 - High Voltage D3 (kW)",33.209973018555708,768.9809624967786]
[null,null,"DHD4 - High Voltage D4 (kW)",4.9453640092643267,12.733329753082669]
[null,null,"DHDK - High Voltage DK (kW)",2.0984731513899901,49.029069139138855]
[null,null,"DHD5 - High Voltage D5 (kW)",0,0]
[null,null,"DHR - High Voltage R (kW)",0,0]
[null,null,"DHNR - High Voltage NR (kW)",0,0]
[null,null,"DSA - Subtransmission A",181.04562577113288,1058.7715243208092]
[null,null,"DSG - Subtransmission G",606.42926131801505,3423.9694178342688]
[null,null,"DSS - Subtransmission S",363.26804085909623,1670.6104604434422]
[]
[]
[]
[]
[null,null,"Total ",{"$f":"SUM(D10:D52)","v":10555.880732995214},{"$f":"SUM(E10:E52)","v":532720.11938149028}]
[]
[null,"Table 2 Standard Control Revenue - Prior Year"]
[null,"Note: insert additional rows as necessary"]
[]
[null,"Statutory Account code or reference to account code","Distribution Category","Amount of Electricity Distributed","Distribution Revenue"]
[null,null,"Tariff categories","GWh","$'000 nominal"]
[null,null,"D1 - Small Single Rate",2231.0898166788434,148710.30652343656]
[null,null,"D1CS - Climate Saver",30.78645606451817,1248.9763950680624]
[null,null,"D3CS - ClimateSaver Interval",9.2380856262118964,366.38819685419435]
[null,null,"D2 - Small Two Rate",369.05076041851834,18226.649498409148]
[null,null,"D2DK - Small Two Rate DK",4.2880432432800646,246.98952669688475]
[null,null,"D3 - Residential Interval",406.30387927517938,24763.778945983548]
[null,null,"DD1 - Dedicated Circuit",403.4875745868552,1138.0146473902066]
[null,null,"D3HW - Hot Water Interval",12.185449833548232,33.638118240119375]
[null,null,"ND1 - Medium single rate",275.49506028410741,20841.776805931597]
[null,null,"ND1R - Medium single rate",0,0]
[null,null,"ND2 - Medium Two Rate - 5d",1214.8243080096879,79026.860584437469]
[null,null,"ND2BS - Medium Two Rate - 5d",0,0]
[null,null,"ND3 - Medium Two Rate - 7d",187.34699221035922,12920.948815880498]
[null,null,"ND5 - Non Residential Interval",332.74716552442561,23002.0164664886]
[null,null,"PL2 - Unmetered Supplies",102.92059101364656,4462.9935551475774]
[null,null,"DL - Large Tariff (kW)",1078.0523566349948,43104.819431921678]
[null,null,"DLA - Large Tariff A (kW)",1.009623655170286,29.225328707428449]
[null,null,"DLC - Large Tariff C (kW)",652.55621200823532,24023.568597375503]
[null,null,"DLCXX - Large Tariff CXX (kW)",400.04165497066873,19193.1907976765]
[null,null,"DLS - Large Tariff S (kW)",26.291424971176806,1311.4817560482775]
[null,null,"DLDK - Large Tariff DK (kW)",6.6736522758820387,223.70739766969095]
[null,null,"DL.R - Large Tariff R (kW)",0,0]
[null,null,"DL.NR - Large Tariff NR (kW)",49.873282455686194,2084.0057779491649]
[null,null,"DL.CXXR - Large Tariff CXXR (kW)",1.2904552296833991,73.917182924321907]
[null,null,"DL.CXXNR - Large Tariff CXXNR (kW)",0.51145670696292933,26.201751215584544]
[null,null,"DH - High Voltage (kW)",969.02606556787907,22582.274116818222]
[null,null,"DHA - High Voltage A (kW)",13.903093651116352,178.61530232262382]
[null,null,"DHC - High Voltage C (kW)",443.0187124652324,10011.937043662458]
[null,null,"DHD1 - High Voltage D1 (kW)",174.71239987745878,1151.7848851324654]
[null,null,"DHD2 - High Voltage D2 (kW)",75.536371403398633,580.71202989995504]
[null,null,"DHD3 - High Voltage D3 (kW)",32.5485157612639,694.78152781996414]
[null,null,"DHD4 - High Voltage D4 (kW)",53.504235453659149,233.35773466457195]
[null,null,"DHDK - High Voltage DK (kW)",2.0775865871826475,43.534803904830596]
[null,null,"DHD5 - High Voltage D5 (kW)",0,0]
[null,null,"DHR - High Voltage R (kW)",0,0]
[null,null,"DHNR - High Voltage NR (kW)",0,0]
[null,null,"DSA - Subtransmission A",189.04435013432914,934.53516767602571]
[null,null,"DSG - Subtransmission G",624.0489833377967,3020.4127276333752]
[null,null,"DSS - Subtransmission S",370.32152110672337,1691.2382301072125]
[]
[null,null,"Total ",{"$f":"SUM(D63:D102)","v":10743.806137023681},{"$f":"SUM(E63:E102)","v":466182.63967109425}]
[]
[null,"Table 3 AMI - Current Year"]
[null,"Note: Number of Meters\\NMIs refers to end of year figures"]
[]
[null,"Statutory Account code or reference to account code","Distribution Category","Number of Meters","Metering Revenue"]
[null,null,"Tariff categories",null,"$'000 nominal"]
[null,null,"MP - Single phase non-off peak meter",365042.96691517864,46639.105043393458]
[null,null,"MP - Single phase off peak meter",249035.79180983422,31817.642048921705]
[null,null,"MP - Two or threee phase direct connet",120029.41443916701,20227.075106458255]
[null,null,"MP - Two or threee phase current transformer connet",4497.188873986448,1004.1928696497829]
[null,null,null,0,0]
[null,null,null,0,0]
[null,null,null,0,0]
[null,null,"Total ",{"$f":"SUM(D110:D116)","v":738605.36203816638},{"$f":"SUM(E110:E116)","v":99688.015068423207}]
[]
[]
[null,"Table 4 AMI - Prior Year"]
[null,"Note: Number of Meters\\NMIs refers to end of year figures"]
[]
[null,"Statutory Account code or reference to account code","Distribution Category","Number of Meters","Metering Revenue"]
[null,null,"Tariff categories",null,"$'000 nominal"]
[null,null,"MP - Single phase non-off peak meter",367804.65401214041,37875.975436762594]
[null,null,"MP - Single phase off peak meter",240580.07300252074,24774.577581384423]
[null,null,"MP - Two or threee phase direct connet",115402.85076859697,15663.307446670333]
[null,null,"MP - Two or threee phase current transformer connet",4309.5118872904059,775.59112900148637]
[null,null,null,0,0]
[null,null,null,0,0]
[null,null,null,0,0]
[null,null,"Total ",{"$f":"SUM(D125:D131)","v":728097.08967054856},{"$f":"SUM(E125:E131)","v":79089.451593818842}]
[]
[]
[null,"Table 5 Public lighting- Current Year"]
[]
[null,"Statutory Account code or reference to account code","Distribution Category","Number of Lights","Metering Revenue"]
[null,null,"Tariff categories",null,"$'000 nominal"]
[null,null,"MDs - Unmetered Supplies",177718,224.03038157681274]
[]
[]
[]
[]
[]
[]
[null,null,"Total ",{"$f":"SUM(D139:D145)","v":177718},{"$f":"SUM(E139:E145)","v":224.03038157681274}]
[]
[]
[null,"Table 6 Public lighting - Prior Year"]
[]
[null,"Statutory Account code or reference to account code","Distribution Category","Number of Lights","Metering Revenue"]
[null,null,"Tariff categories",null,"$'000 nominal"]
[null,null,"MDs - Unmetered Supplies",173703,211.99919793116123]
[]
[]
[]
[]
[]
[]
[null,null,"Total ",{"$f":"SUM(D153:D159)","v":173703},{"$f":"SUM(E153:E159)","v":211.99919793116123}]

{"sheet":"21. EBSS","index":20,"n_rows":31,"n_cols":11,"rows_kept":31,"cut":false,"hidden":false,"merged":[[25,3,25,10]]}
[null,{"$f":"Cover!C22","v":"Powercor Australia Ltd"}]
[null,"Efficiency Benefits Sharing Schemes"]
[null,{"$f":"Cover!C26","v":2013}]
[]
[null,"Table 1 Opex for EBSS Purposes"]
[]
[null,"Note: a) Only superannuation costs related to defined benefit schemes are to be reported"]
[null,"          b) Only self insurance cost categories approved in the AER's determination are to be reported"]
[]
[null,null,"$'000 nominal"]
[null,"Total Actual Opex",181203.51556904524]
[null,"Debt raising costs",197.74114693844817]
[null,"Self insurance",0]
[null,"Superannuation defined benefit schemes",7544]
[null,"Non network alternatives costs",0]
[null,"DMIA costs",189.852]
[null,"Pass through event costs",3263.4760000000001]
[null,"GSL payments",1040.4841000000001]
[null,"Total opex adjustment for EBSS purposes",12235.553246938447]
[null,"Total opex for EBSS purposes",{"$f":"C11-C19","v":168967.96232210679}]
[]
[null,"Table 2 Explanation of Capitalisation Policy Changes"]
[]
[null,"Note: this should include a description of any items that have previously been considered as opex items, but are now being considered capex items."]
[]
[null,"Capitalisation Policy Change","  Impact on forecast opex\n ($'000 nominal)","Description"]
[null,0,0,0,0,0,0,0,0,0,0]
[null,0,0,0,0,0,0,0,0,0,0]
[null,0,0,0,0,0,0,0,0,0,0]
[null,0,0,0,0,0,0,0,0,0,0]
[null,"Total",{"$f":"SUM(C27:C30)","v":0}]

{"sheet":"22. Juris Scheme","index":21,"n_rows":11,"n_cols":6,"rows_kept":11,"cut":false,"hidden":false,"merged":[]}
[null,{"$f":"Cover!C22","v":"Powercor Australia Ltd"}]
[null,"Jurisdictional Scheme Payments "]
[null,{"$f":"Cover!C26","v":2013}]
[]
[]
[null,"Scheme Payment Name","Description","Date DNSP Became Subject to Scheme","Description of Cost Recovery Method","Total Scheme Payments\n ($'000 nominal)"]
[null,"Premium Solar Feed-in Tariff &\nTransitional feed-in tariff payments","Credit per kWh paid for excess electricity fed back into the grid","1 November 2009","Appendix F3 of the Final Decision Distribution determination 2011-2015",45813.217320000003]
[null,0,0,0,0,0]
[null,0,0,0,0,0]
[null,0,0,0,0,0]
[null,"Total jurisdictional scheme payments",null,"Total jurisdictional scheme payments",null,{"$f":"SUM(F7:F10)","v":45813.217320000003}]

{"sheet":"23. DMIS-DMIA","index":22,"n_rows":62,"n_cols":6,"rows_kept":62,"cut":false,"hidden":false,"merged":[[6,1,6,7],[29,1,31,1],[29,2,29,4],[29,5,31,7],[30,2,30,4],[8,1,8,7],[52,1,54,1],[52,2,52,4],[53,2,53,5],[32,5,32,7],[33,5,33,7],[34,5,34,7],[42,1,44,1],[42,2,42,4],[43,2,43,4],[35,5,35,7],[36,5,36,7],[37,5,37,7]]}
[null,{"$f":"Cover!C22","v":"Powercor Australia Ltd"}]
[null,"Demand management incentive scheme"]
[null,{"$f":"Cover!C26","v":2013}]
[]
[null,"Instructions:"]
[]
[null,"Enter all demand management innovation allowance information for the relevant regulatory year in the tables below. The information should be provided in accordance with the AER's Final demand management incentive scheme for Victorian DNSPs, April 2009."]
[]
[null,"Table 1 provide the following for each demand management incentive allowance project submitted for approval:"]
[null,"   a) the name of each project"]
[null,"   b) operating expenditure ($ nominal)"]
[null,"   c) capital expenditure ($ nominal)"]
[]
[null,"Table 2 provide information on the total amount of DMIA spent in the previous regulatory year"]
[null,"   a) the name of each project"]
[null,"   b) operating expenditure ($ nominal)"]
[null,"   c) capital expenditure ($ nominal)"]
[]
[null,"Table 3 provide the following for each demand management program or project for which forgone revenue is claimed:"]
[null,"a)  the name of the project"]
[null,"b)  forecast demand (MW) without the implementation of the non-tariff demand management program"]
[null,"c)  actual demand (MW) with the implementation of the non-tariff demand management program "]
[null,"d)  price applicable to forgone quantities  "]
[]
[]
[]
[]
[null,"Table 1  DMIA projects submitted for approval"]
[]
[null,"Name of project"]
[null,null,{"$f":"B3","v":2013}]
[null,null,"Operating expenditure\n($ nominal)","Capital expenditure\n($ nominal)","Total expenditure ($ nominal)"]
[null,"BBD21 Generation 2012/2013 Summer",189852,0,{"$f":"SUM(C33:D33)","v":189852}]
[null,0,0,0,0]
[null,0,0,0,0]
[null,0,0,0,0]
[null,0,0,0,0]
[null,0,0,0,0]
[null,"Total",{"$f":"SUM(C33:C38)","v":189852},{"$f":"SUM(D33:D38)","v":0},{"$f":"SUM(E33:E38)","v":189852}]
[]
[null,"Table 2  DMIA expenditure in the regulatory reporting year"]
[]
[null,"Name of project","Total amount of the DMIA spent in previous regulatory year"]
[]
[null,null,"Operating expenditure\n($ nominal)","Capital expenditure\n($ nominal)","Total expenditure ($ nominal)"]
[null,"Water Treatment Business DM Program Stage 1",19180,0,{"$f":"SUM(C46:D46)","v":19180}]
[null,0,0,0,{"$f":"SUM(C47:D47)","v":0}]
[null,0,0,0,{"$f":"SUM(C48:D48)","v":0}]
[null,"Total",{"$f":"SUM(C46:C48)","v":19180},{"$f":"SUM(D46:D48)","v":0},{"$f":"SUM(E46:E48)","v":19180}]
[]
[null,"Table 3  Foregone revenue in the regulatory reporting year"]
[]
[null,"Name of project"]
[null,null,{"$f":"B39","v":"Total"}]
[null,null,"Forecast quantity ","Actual quantity","Forgone quantity","Price "]
[null,0,0,0,{"$f":"C56-D56","v":0},0]
[null,0,0,0,{"$f":"C57-D57","v":0},0]
[null,0,0,0,0,0]
[null,0,0,0,0,0]
[null,0,0,0,0,0]
[null,0,0,0,0,0]
[null,"Total",{"$f":"SUM(C56:C61)","v":0},{"$f":"SUM(D56:D61)","v":0},0]

{"sheet":"24. Self Insurance","index":23,"n_rows":26,"n_cols":19,"rows_kept":26,"cut":false,"hidden":false,"merged":[[27,16,27,17],[27,8,27,9],[27,10,27,11],[27,12,27,13],[27,14,27,15],[25,1,25,2],[6,3,6,7],[6,8,6,9],[20,16,20,17],[19,2,19,4],[19,5,19,8],[19,9,19,11],[19,16,19,17],[15,3,15,7],[15,8,15,9],[15,18,15,19],[6,10,6,11],[6,12,6,13],[6,14,6,15],[6,16,6,17],[6,18,6,19],[15,10,15,11],[15,12,15,13],[15,14,15,15],[15,16,15,17]]}
[null,"Powercor"]
[null,"Self Insurance"]
[null,{"$f":"Cover!C26","v":2013}]
[]
[null,"Table 1 Self Insurance Events with an Incurred Cost of Greater than $100 000 per Event. "]
[]
[null,"Type of Self Insurance Event","Date of Event","Description of Event",null,null,null,null,"Cost of the Event that Relates to Regulated Assets ($'000 nominal)",null,"Other Costs (eg Costs Related to Non-regulated Assets) ($'000 nominal)",null,"Total Cost of Self Insurance Event ($'000 nominal) ",null,"Costs Covered by External Funding ($'000 nominal) ",null,"Costs to be passed through ($'000 nominal) ",null,"Independently verifiable information attached?"]
[]
[]
[]
[]
[]
[]
[]
[]
[null,null,null,"Total actual cost of self insurance",null,null,null,null,{"$f":"SUM(I8:J15)","v":0},null,{"$f":"SUM(K8:L15)","v":0},null,{"$f":"SUM(M8:N15)","v":0},null,{"$f":"SUM(O8:P15)","v":0},null,{"$f":"SUM(Q8:R15)","v":0}]
[]
[null,"Table 2 Self insurance events with an incurred cost of less than $100 000 per event "]
[]
[null,"Number of events","Costs of the events that relate to regulated assets",null,null,"Costs covered by external funding",null,null,null,"Costs that do not relate to regulated assets"]
[]
[]
[]
[null,"Table 3 Total self insurance that relate to regulated assets"]
[]
[null,"Total self insurance",null,{"$f":"I16+C21+C22","v":0}]

{"sheet":"25. CHAP","index":24,"n_rows":18,"n_cols":6,"rows_kept":18,"cut":false,"hidden":false,"merged":[]}
[null,{"$f":"Cover!C22","v":"Powercor Australia Ltd"}]
[null,"Change of Accounting Policy"]
[null,{"$f":"Cover!C26","v":2013}]
[]
[null,"Please state the nature and reason for the change:"]
[]
[]
[]
[]
[null,"Table 1 The aggregate effect of the change in accounting policy on the balance sheet and income statements"]
[]
[null,"Statutory Account code or reference to account code","Powercor Category","Previously Stated","Adjustment","Restated"]
[null,null,"Balance Sheet","$'000 nominal","$'000 nominal","$'000 nominal"]
[null,null,"Item"]
[]
[]
[null,null,"Income Statement"]
[null,null,"Item"]

{"sheet":"26. Related Party","index":25,"n_rows":46,"n_cols":12,"rows_kept":46,"cut":false,"hidden":false,"merged":[[1,1,1,2],[7,3,7,4],[7,5,7,6],[7,7,7,8],[20,5,20,6],[20,3,20,4],[19,3,19,6]]}
[null,{"$f":"Cover!C22","v":"Powercor Australia Ltd"}]
[null,"Related Party Transactions"]
[null,{"$f":"Cover!C26","v":2013}]
[]
[null,"Table 1. Payments made by Powercor to Related Party under CONTROL or INFLUENCING Ownership"]
[null,"Note: for transactions with a Related Party that is related to the provision of standard control services, alternative control services, Advanced Metering Infrastructure or negotiated distribution services and greater than $500,000 "]
[]
[null,"Name of related party","Services Provided","Contract Charge ($'000 nominal)",null,"Actual Cost ($'000 nominal)",null,"Margin ($'000 nominal)",null,"Description of how this transaction amount was determined","Description of how this amount is reflected in the Regulatory Accounting Statements, including the asset class or cost category","Where the related party costs have been allocated to different asset classes or cost categories, the description of the basis of allocation and the quantum of the allocator"]
[null,null,null,"Capex","Opex","Capex","Opex","Capex","Opex"]
[null,"CHED Services","Corporate Services - management, administration, back office and other business functions",null,null,null,null,null,null,"The services fee amount is based on an arms length negotiated price. The actual incurred cost of the individual services was determined by the related party.","The contract price / actual cost is included in operating expenses, maintenance and capital expenditure, allocated between Standard Control, AMI and ACS.","Refer to the Services Fee Allocation workpaper for details of the amount and the method of its allocation."]
[null,"Powercor Network Services","Network Services - construction, maintenance, faults, emergency and related services",null,null,null,null,null,null,"The fee amount is based on an arms length negotiated price and the actual cost incurred was determined by the related party.","The contract price /actual cost is directly attributable to Standard Control and AMI  capital, maintenance and operating expenditure.","No costs are allocated"]
[null,"CHED Services","Infill Insurance Premium",null,null,null,null,null,null,"The fee amount is in accordance with external assessment and advice for these services.  The actual cost is based on actual administrative costs and the acturial cost of providing the infill insurance services.","The contract price / actual cost is included in Operating Expenses as a directly attributable cost to Standard Control","No costs are allocated"]
[null,"CHED Services","AMI Project Services",null,null,null,null,null,null,"The fee amount is based on an arms length negotiated price. The actual incurred cost was determined by the related party.  ","The contract price actual cost has been directly attributed to AMI capital and operating expenses","No costs are allocated"]
[null,"CHED Services","Metering and Servicing Activities",null,null,null,null,null,null,"The fee amount is based on an arms length negotiated price. The actual incurred cost was determined by the related party.  ","The contract price / actual cost is included in operating, maintenance and capital expenditure as a directly attributable cost to AMI and ACS.","No costs are allocated"]
[null,"CHED Services","IT AMI Support Services",null,null,null,null,null,null,"The fee amount is based on an arms length negotiated price. The actual incurred cost was determined by the related party","The contract price / actual cost is included in operating expenses as an ACS.","No costs are allocated"]
[null,"CHED Services","IT System Enhancements",null,null,null,null,null,null,"The fee amount is based on an arms length negotiated price. The actual incurred cost was determined by the related party","The contract price / actual cost is included in capital expenses and is allocated directly to Standard Control","No costs are allocated"]
[]
[null,"Table 2. Composition of margins in relation to table 1."]
[]
[null,"Name of related party","Services Provided","Margins ($'000 nominal)",null,null,null,"Total \n($'000 nominal)"]
[null,null,null,"Overhead",null,"Residual"]
[null,"CHED Services","Corporate Services - management, administration, back office and other business functions",0,0]
[null,"Powercor Network Services","Network Services - construction, maintenance, faults, emergency and related services",0,0]
[null,"CHED Services","Infill Insurance Premium",0,0]
[null,"CHED Services","AMI Project Services",0,0]
[null,"CHED Services","Metering and Servicing Activities",0,0]
[null,"CHED Services","IT AMI Support Services",0,0]
[null,"CHED Services","IT System Enhancements",0,0]
[]
[null,"Note: Provide, if separately identifiable the proportion of margins related to overhead costs and the proportion if any, that is related to assets used but not in the Distribution Businesses regulatory asset base.  "]
[]
[]
[]
[]
[]
[]
[]
[]
[]
[null,null,null,null,null,null,null,0,{"$f":"SUM(H22:H28)-SUM(H10:I16)","v":0}]
[null,null,null,null,null,null,null,0]
[null,null,null,null,null,null,null,0]
[null,null,null,null,null,null,null,0]
[null,null,null,null,null,null,null,0]
[null,null,null,null,null,null,null,0]
[null,null,null,null,null,null,null,0]

{"sheet":"27. Safety and Bushfire ","index":26,"n_rows":169,"n_cols":8,"rows_kept":169,"cut":false,"hidden":false,"merged":[[25,3,25,6],[26,3,26,6],[21,3,21,6],[22,3,22,6],[13,1,13,6],[16,1,17,6],[7,1,7,6],[9,1,9,6],[11,1,11,6],[52,1,53,6],[18,3,18,6],[10,1,10,6],[12,1,12,6],[8,1,8,6],[19,3,19,6],[20,3,20,6],[29,3,29,6],[33,1,34,6],[27,3,27,6],[28,3,28,6],[23,3,23,6],[24,3,24,6],[19,7,24,7],[25,7,26,7],[158,6,161,6],[173,1,174,6],[171,1,172,6],[122,1,123,6],[137,1,137,6],[139,1,140,6],[155,1,156,6],[68,1,69,6],[86,1,86,5],[120,1,120,5],[154,1,154,5],[105,1,106,6],[88,1,89,6],[103,1,103,6]]}
[null,"Powercor"]
[null,"Safety and Bushfire Related Expenditure"]
[null,{"$f":"Cover!C26","v":2013}]
[]
[null,"Instructions"]
[null,"Please populate table 1 where the asset categories definitions differ from the \"Asset Installation\"' worksheet. "]
[null,"The definitions in table 1 are not limited or restricted. Please include additional definitions where necessary."]
[null,"Median unit costs should be used. Where unit costs are not recorded at the asset category level - provide the best estimates of the unit cost using the cost allocation method outlined in table 1. \nAs a transitional measure, the unit cost may be based on a"]
[null,"Provide basis of allocation where applicable "]
[null,"AER expected expenditure ($2010) means ESL and non ESL, ESMS related expected expenditure as approved under the AER Determination for 2011-15"]
[null,"AER expected expenditure ($2010) means bushfire related expenditure as approved under the pass through application"]
[null,"AER expected volumes means the bushfire related expenditure volumes approved under pass through applications."]
[null,"AER expected volumes means the ESL and non ESL and ESMS related volumes as approved under the AER Determination for 2011-15"]
[null,"Replacement information to be reported concern the asset that has replaced an existing asset for bushfire and safety purposes."]
[null,"CPI applied to convert expenditure in real $2010 to nominal based on lagged September CPI index",1.0853807258645405]
[]
[null,"Table 1   Asset groups: Definitions, cost-allocation basis and methodology"]
[]
[null,"Asset group ","Category                          i.e., bushfire, ESMS, ESL or non-ESL","Definitions",null,null,null,"Basis for allocation of cost to asset group or category"]
[null,"Pole replacements (FC148) - subtransmission","ESL",null,null,null,null,"Actual costs are captured at a composite project level including these and other physicals.  Costs are allocated to function codes for settlement based on allocation rules. Allocation to voltages for poles is based on actual physicals completed."]
[null,"Pole replacements (FC148) - HV","ESL"]
[null,"Pole replacements (FC148) - LV","ESL"]
[null,"Pole replacements (FC148) - pole and stay","ESL"]
[null,"Pole replacements (FC149) - staked","ESL"]
[null,"Crossarm replacements (FC155)","ESL"]
[null,"HV overhead conductor replacements","ESL",null,null,null,null,"Actual costs are captured at a function code level.   Allocation to voltages is based on value of asset additions to various voltages"]
[null,"LV overhead conductor replacements","ESL"]
[null,"Replacement of SWER with ABC/underground cabling",null,null,null,null,null,0]
[null,"Replacement of 22kV distribution feeders with ABC/underground cabling"]
[null,"<DNSP to input as appropriate>"]
[]
[]
[]
[null,"Table 2   Bushfire-related expenditure - approved under pass-through applications (volumes)"]
[]
[null,"Asset group","Units","As approved under pass through applications ","Actual Units ","Variance","Reasons for variance"]
[null,"Pole replacements (FC148) - subtransmission","no. of poles",null,null,{"$f":"E37-D37","v":0}]
[null,"Pole replacements (FC148) - HV","no. of poles",null,null,0]
[null,"Pole replacements (FC148) - LV","no. of poles",null,null,0]
[null,"Pole replacements (FC148) - pole and stay","no. of poles",null,null,0]
[null,"Pole replacements (FC149) - staked","no. of poles",null,null,0]
[null,"Crossarm replacements (FC155)","no. of crossarms",null,null,0]
[null,"HV overhead conductor replacements","no. of km",null,null,0]
[null,"LV overhead conductor replacements","no. of km",null,null,0]
[null,"Replacement of SWER with ABC/underground cabling","no. of km",null,null,0]
[null,"Replacement of 22kV distribution feeders with ABC/underground cabling","no. of feeders",null,null,0]
[null,"VBRC Armour Rods and Dampers and Armour Rods (FC 167) ","Non compliant poles","44801",34992,-9809,"Resource ramp up  program has different profile to original plan."]
[null,"VBRC SWER ACR (FC 167) Not Approved by pass through ","SWER ACRs",0,10,10,"Stage 1 SWER ACR Program finalisation (not pass through)"]
[null,"VBRC  Spacers - Lidar Conductor Clearance Survey","Kms","500","37",-463,"Program changed to suit successful tenderer availability to be completed 2014"]
[null,"<DNSP to input as appropriate>","<DNSP to input as appropriate>",null,null,0]
[]
[]
[null,"Table 3   Safety related other - ESL, non ESL and ESMS (volumes)  - approved under AER determination for 2011-15"]
[]
[null,"Asset group","Units","AER expected volumes","Actual Units ","Variance","Reasons for variance"]
[null,"Pole replacements (FC148) - subtransmission","no. of poles",67.2,48,{"$f":"E56-D56","v":-19.200000000000003},"Actuals driven by the Asset Inspection Program - EPDR values are estimates only"]
[null,"Pole replacements (FC148) - HV","no. of poles",662.4,1046,{"$f":"E57-D57","v":383.6},"Actuals driven by the Asset Inspection Program - EPDR values are estimates only"]
[null,"Pole replacements (FC148) - LV","no. of poles",211.2,319,107.80000000000001,"Actuals driven by the Asset Inspection Program - EPDR values are estimates only"]
[null,"Pole replacements (FC148) - pole and stay","no. of poles",19.2,16,-3.1999999999999993,"Actuals driven by the Asset Inspection Program - EPDR values are estimates only"]
[null,"Pole replacements (FC149) - staked","no. of poles",952,1286,334,"Actuals driven by the Asset Inspection Program - EPDR values are estimates only"]
[null,"Crossarm replacements (FC155)","no. of crossarms",3200,8653,5453,"Actuals driven by the Asset Inspection Program - EPDR values are estimates only"]
[null,"HV overhead conductor replacements","no. of km",480,155.30000000000001,-324.7,"The replacement of HV overhead conductor program is being reviewed in light of the Victorian Government’s Powerline Relocation Program outcomes.  Further some of the expenditure originally assigned to this project has been redirected to install 189 SWER ACRs in accordance with ESV directives."]
[null,"LV overhead conductor replacements","no. of km",4,4.5999999999999996,0.59999999999999964,"Actuals driven by the Asset Inspection Program - EPDR values are estimates only"]
[null,"Replacement of SWER with ABC/underground cabling","no. of km",null,null,0,"Not Applicable"]
[null,"Replacement of 22kV distribution feeders with ABC/underground cabling","no. of feeders",null,null,0,"Not Applicable"]
[null,"<DNSP to input as appropriate>","<DNSP to input as appropriate>",null,null,0]
[]
[]
[null,"Table 4    Bushfire-related expenditure pass-through applications ($ nominal - excluding margins and overheads) "]
[]
[null,"Asset group","As approved pass through  ($'000 nominal)","Actual ($'000 nominal)","Variance\n ($'000 nominal)","Reasons for variance"]
[null,"Pole replacements (FC148) - subtransmission",null,null,{"$f":"C72-D72","v":0}]
[null,"Pole replacements (FC148) - HV",null,null,0]
[null,"Pole replacements (FC148) - LV",null,null,0]
[null,"Pole replacements (FC148) - pole and stay",null,null,0]
[null,"Pole replacements (FC149) - staked",null,null,0]
[null,"Crossarm replacements (FC155)",null,null,0]
[null,"HV overhead conductor replacements",null,null,0]
[null,"LV overhead conductor replacements",null,null,0]
[null,"Replacement of SWER with ABC/underground cabling",null,null,0]
[null,"Replacement of 22kV distribution feeders with ABC/underground cabling",null,null,0]
[null,"Armour Rods & Dampers Retrofit (pass through)",14108.657085323131,16840.922210000019,-2732.2651246768874,0]
[null,"VBRC SWER ACR (FC 167) Not Approved by pass through ",0,515.85494277978103,-515.85494277978103,"Not pass through"]
[null,"VBRC  Spacers - Lidar Conductor Clearance Survey",1170,19.706317220219269,1150.2936827797807,"Program changed to suit successful tenderer availability to be completed 2014"]
[null,"<DNSP to input as appropriate>",null,null,0,0]
[]
[null,"Note - Reported expenditure is to be entered EXCLUDING any overheads, profit margins or management fees paid directly or indirectly to related party contractors for the report period.                                                                        "]
[]
[null,"Table 5   Safety related other - ESL, non ESL and ESMS ($ nominal - excluding margins and overheads)"]
[]
[null,"Asset group","Category                          i.e., ESMS, ESL or non-ESL","AER expected expenditure ($ 2010)","Actual\n ($'000 nominal)","Variance\n ($'000 nominal)","Reasons for variance"]
[null,"Pole replacements (FC148) - subtransmission","ESL",554.29542629927164,527.89472347095864,{"$f":"D92*$C$15-E92","v":73.726848669139713},"As per reasons provided in Tables 3 and 9"]
[null,"Pole replacements (FC148) - HV","ESL",5463.7692020928198,11503.705848971307,-5573.4360664474816,"As per reasons provided in Tables 3 and 9"]
[null,"Pole replacements (FC148) - LV","ESL",1742.0713397977106,3508.3003497340792,-1617.4896944366276,"As per reasons provided in Tables 3 and 9"]
[null,"Pole replacements (FC148) - pole and stay","ESL",158.37012179979189,175.96490782365288,-4.0730300693390689,"As per reasons provided in Tables 3 and 9"]
[null,"Pole replacements (FC149) - staked","ESL",1070.051937279618,1025.2224000000001,136.19134839730941,"As per reasons provided in Tables 3 and 9"]
[null,"Crossarm replacements (FC155)","ESL",6687.0372132633902,11822.646550000001,-4564.665245584989,"As per reasons provided in Tables 3 and 9"]
[null,"HV overhead conductor replacements","ESL",22184.008800556378,5298.2702241626948,18779.825350370542,"As per reasons provided in Tables 3 and 9"]
[null,"LV overhead conductor replacements","ESL",184.86674000463648,2099.8588458373069,-1899.2080493828632,"As per reasons provided in Tables 3 and 9"]
[null,"Replacement of SWER with ABC/underground cabling",null,0,0,0,"Not Applicable"]
[null,"Replacement of 22kV distribution feeders with ABC/underground cabling",null,0,0,0,"Not Applicable"]
[null,"<DNSP to input as appropriate>","<DNSP to input as appropriate>",null,null,0]
[]
[null,"Note - Reported expenditure is to be entered EXCLUDING any overheads, profit margins or management fees paid directly or indirectly to related party contractors for the report period.                                                                        "]
[]
[null,"Table 6    Bushfire-related expenditure pass-through applications ($ nominal - margins and overheads)"]
[]
[null,"Asset group","As approved under pass through ($'000 nominal)","Actual\n ($'000 nominal)","Variance\n ($'000 nominal)","Reasons for variance"]
[null,"Pole replacements (FC148) - subtransmission",null,null,{"$f":"C109-D109","v":0}]
[null,"Pole replacements (FC148) - HV",null,null,0]
[null,"Pole replacements (FC148) - LV",null,null,0]
[null,"Pole replacements (FC148) - pole and stay",null,null,0]
[null,"Pole replacements (FC149) - staked",null,null,0]
[null,"Crossarm replacements (FC155)",null,null,0]
[null,"HV overhead conductor replacements",null,null,0]
[null,"Armour Rods & Dampers Retrofit (pass through)",0,5700.6696599999977,-5700.6696599999977]
[null,"VBRC SWER ACR (FC 167) Not Approved by pass through ",0,57.243717220219224,-57.243717220219224]
[null,"VBRC  Spacers - Lidar Conductor Clearance Survey",0,6.6542727797807286,-6.6542727797807286]
[null,"<DNSP to input as appropriate>",null,null,0]
[]
[null,"Note -Reported expenditure to be entered is the sum of overheads, profit margins or management fees paid directly or indirectly to related party contractors for the report period.                                                                 "]
[]
[null,"Table 7   Safety related other - ESL, non ESL and ESMS ($ nominal - margins and overheads)"]
[]
[null,"Asset group","Category                          i.e., ESMS, ESL or non-ESL","AER expected expenditure ($'000 2010)","Actual\n ($'000 nominal)","Variance\n ($'000 nominal)","Reasons for variance"]
[null,"Pole replacements (FC148) - subtransmission","ESL",90.913874944082806,142.45753897830647,{"$f":"D126*$C$15-E126","v":-43.781371400339822},"As per reasons provided in Tables 3 and 9"]
[null,"Pole replacements (FC148) - HV","ESL",896.1510530202446,3104.3872035689292,-2131.722123157544,"As per reasons provided in Tables 3 and 9"]
[null,"Pole replacements (FC148) - LV","ESL",285.72932125283165,946.7490611266619,-636.62396302448099,"As per reasons provided in Tables 3 and 9"]
[null,"Pole replacements (FC148) - pole and stay","ESL",25.975392841166514,47.485846326102163,-19.292655589540264,"As per reasons provided in Tables 3 and 9"]
[null,"Pole replacements (FC149) - staked","ESL",192.29674939149623,284.25329999999997,-75.538114564066149,"As per reasons provided in Tables 3 and 9"]
[null,"Crossarm replacements (FC155)","ESL",1049.3419754564916,3168.7872699999998,-2029.8517149989023,"As per reasons provided in Tables 3 and 9"]
[null,"HV overhead conductor replacements","ESL",3939.6156269913804,1411.5245990514352,2864.4582697997566,"As per reasons provided in Tables 3 and 9"]
[null,"LV overhead conductor replacements","ESL",32.830130224928169,559.42832094856522,-523.79513037480524,"As per reasons provided in Tables 3 and 9"]
[null,"Replacement of SWER with ABC/underground cabling",null,0,0,0,"Not Applicable"]
[null,"Replacement of 22kV distribution feeders with ABC/underground cabling",null,0,0,0,"Not Applicable"]
[null,"<DNSP to input as appropriate>","<DNSP to input as appropriate>",null,null,0]
[]
[null,"Note -Reported expenditure to be entered is the sum of overheads, profit margins or management fees paid directly or indirectly to related party contractors for the report period.                                                                 "]
[]
[null,"Table 8   Bushfire-related expenditure including approved pass-through applications ($ unit cost) "]
[]
[null,"Asset group","As approved under pass through applications ($'000 nominal)","Actual\n ($'000 nominal)","Variance\n ($'000 nominal)","Reasons for variance"]
[null,"Pole replacements (FC148) - subtransmission",null,null,{"$f":"C143-D143","v":0}]
[null,"Pole replacements (FC148) - HV",null,null,0]
[null,"Pole replacements (FC148) - LV",null,null,0]
[null,"Pole replacements (FC148) - pole and stay",null,null,0]
[null,"Pole replacements (FC149) - staked",null,null,0]
[null,"Crossarm replacements (FC155)",null,null,0]
[null,"HV overhead conductor replacements",null,null,0]
[null,"Armour Rods & Dampers Retrofit (pass through)",0.31491835194132123,0.64419272605166944,-0.32927437411034821]
[null,"VBRC SWER ACR (FC 167) Not Approved by pass through ",0,57.309866000000021,-57.309866000000021]
[null,"VBRC  Spacers - Lidar Conductor Clearance Survey",2.34,0.71244837837837838,1.6275516216216215]
[null,"<DNSP to input as appropriate>",null,null,0]
[]
[null,"Note - Where applicable, provide allocation assumptions and methods."]
[null,"Table 9   Safety related other - ESL, non ESL and ESMS ($ unit cost)"]
[]
[null,"Asset group","Category                          i.e., ESMS, ESL or non-ESL","AER expected expenditure ($ 2010)","Actual\n ($'000 nominal)","Variance\n ($'000 nominal)","Reasons for variance"]
[null,"Pole replacements (FC148) - subtransmission","ESL",8.2484438437391603,10.997806738978305,{"$f":"D159*$C$15-E159","v":-2.0451047726077949},"Average actual  cost is derived from settlment rules applied to actual costs of composite maintenance packages including items in addition to poles.  Average cost varies with mix of pole types, locations and acess conditions."]
[null,"Pole replacements (FC148) - HV","ESL",8.2484438437391603,10.997806738978305,-2.0451047726077949]
[null,"Pole replacements (FC148) - LV","ESL",8.2484438437391603,10.997806738978305,-2.0451047726077949]
[null,"Pole replacements (FC148) - pole and stay","ESL",8.2484438437391621,10.997806738978305,-2.0451047726077931]
[null,"Pole replacements (FC149) - staked","ESL",1.124004135797918,0.79721804043545885,0.42275438435163093,"No material variance"]
[null,"Crossarm replacements (FC155)","ESL",2.0896991291448095,1.3663060845949384,0.90181307303475311,"Average actual  cost is derived from settlment rules applied to actual costs of composite maintenance packages including items in addition to cross arms  Average cost varies with mix of cross arm types, locations and acess conditions."]
[null,"HV overhead conductor replacements","ESL",46.216685001159121,null,50.162699113610905,"Refer comments in table 3"]
[null,"LV overhead conductor replacements","ESL",46.216685001159121,null,50.162699113610905,"Refer comments in table 3"]
[null,"Replacement of SWER with ABC/underground cabling",null,null,null,0,"Not Applicable"]
[null,"Replacement of 22kV distribution feeders with ABC/underground cabling",null,null,null,0,"Not Applicable"]
[null,"<DNSP to input as appropriate>","<DNSP to input as appropriate>",null,null,0]

{"sheet":" 29. Unmetered supply","index":27,"n_rows":9,"n_cols":6,"rows_kept":9,"cut":false,"hidden":false,"merged":[]}
[null,"Powercor"]
[null,"Unmetered Supply Tariff Quantity Data Template (Actual t-2) "]
[null,0]
[]
[]
[null,null,null,"Qt-2"]
[null,null,null,"NMIs","Meters","Lights"]
[null,"Proposed tariff",null,"ActVolComp1","ActVolComp2","ActVolComp3"]
[null,"metering data services - unmetered supplies",null,null,null,177718]

{"sheet":"30. Actual t-2 Distr Tariff ","index":28,"n_rows":67,"n_cols":70,"rows_kept":67,"cut":false,"hidden":false,"merged":[]}
[null,"Powercor"]
[null,"Tariff Quantity Data Template (Actual t-2) Distribution Tariff Revenue"]
[null,0]
[]
[null,null,null,"Distribution Tariffs (Pt-2)",null,null,null,null,null,null,null,null,null,null,null,null,null,null,null,null,null,null,null,null,null,"Actual Quantities (Qt-2) (INCLUDING boundary load adjustment)",null,null,null,null,null,null,null,null,null,null,null,null,null,null,null,null,null,null,null,null,null,null,"Actual Revenue (P-2)*(Qt-2)"]
[null,"Tariffs t-2",null,"(t-2)Tar\nFixed","(t-2)Tar\nPkBlk1","(t-2)Tar\nPkBlk2","(t-2)Tar\nPkBlk3","(t-2)Tar\nPkBlk4","(t-2)Tar\nOPkBlk1","(t-2)Tar\nOPkBlk2","(t-2)Tar\nOPkBlk3","(t-2)Tar\nOPkBlk4","(t-2)Tar\nDemBlk1","(t-2)Tar\nDemBlk2","(t-2)Tar\nDemBlk3","(t-2)Tar\nDemBlk4","(t-2)Tar\nSumBlk1","(t-2)Tar\nSumBlk2","(t-2)Tar\nSumBlk3","(t-2)Tar\nSumBlk4","(t-2)Tar\nWtrBlk1","(t-2)Tar\nWtrBlk2","(t-2)Tar\nWtrBlk3","(t-2)Tar\nWtrBlk4",null,"ActVol\nFixed","ActVol\nPkBlk1","ActVol\nPkBlk2","ActVol\nPkBlk3","ActVol\nPkBlk4","ActVol\nOPkBlk1","ActVol\nOPkBlk2","ActVol\nOPkBlk3","ActVol\nOPkBlk4","ActVol\nDemBlk1","ActVol\nDemBlk2","ActVol\nDemBlk3","ActVol\nDemBlk4","ActVol\nSumBlk1","ActVol\nSumBlk2","ActVol\nSumBlk3","ActVol\nSumBlk4","ActVol\nWtrBlk1","ActVol\nWtrBlk2","ActVol\nWtrBlk3","ActVol\nWtrBlk4",null,null,"ActRev\nFixed","ActRev\nPkBlk1","ActRev\nPkBlk2","ActRev\nPkBlk3","ActRev\nPkBlk4","ActRev\nOPkBlk1","ActRev\nOPkBlk2","ActRev\nOPkBlk3","ActRev\nOPkBlk4","ActRev\nDemBlk1","ActRev\nDemBlk2","ActRev\nDemBlk3","ActRev\nDemBlk4","ActRev\nSumBlk1","ActRev\nSumBlk2","ActRev\nSumBlk3","ActRev\nSumBlk4","ActRev\nWtrBlk1","ActRev\nWtrBlk2","ActRev\nWtrBlk3","ActRev\nWtrBlk4","ActRev\nTotal"]
[]
["D1","Residential Single Rate",null,28.520099999999999,6.5053000000000001,7.9191000000000003,9.1318000000000001,10.0732,0,0,0,0,0,0,0,0,0,0,0,0,0,0,0,0,null,488961.58333333331,1498750537.0514977,590221441.0879811,15881114.578418186,2832561.329409725,0,0,0,0,0,0,0,0,0,0,0,0,0,0,0,null,null,null,13972391.05494567,97435154.544149354,46840098.693478137,1463449.6888221789,290777.83767010999,0,0,0,0,0,0,0,0,0,0,0,0,0,0,0,0,{"$f":"SUM(AW8:BQ8)","v":160001871.81906545}]
["D1CS","Climate Saver",null,0,7.2618999999999998,8.5762,9.8892000000000007,11.203200000000001,3.4373,0,0,0,0,0,0,0,0,0,0,0,0,0,0,0,null,17268,8769848.4658359531,2193024.65089717,43145.043766115268,304.12811541708618,15688768.019782195,0,0,0,0,0,0,0,0,0,0,0,0,0,0,null,null,null,0,627065.44645827322,186176.4850798882,4281.9646766728902,34.076472579214411,546901.47123745678,0,0,0,0,0,0,0,0,0,0,0,0,0,0,0,{"$f":"SUM(AW9:BQ9)","v":1364459.4439248703}]
["D3CS","Climate Saver Interval",null,0,7.2618999999999998,8.5762,9.8892000000000007,11.203200000000001,3.4373,0,0,0,0,0,0,0,0,0,0,0,0,0,0,0,null,4679.5,2464608.9245477351,575760.98578017356,14761.155590061742,0,4874588.3850631602,0,0,0,0,0,0,0,0,0,0,0,0,0,0,null,null,null,0,175942.0234165627,48448.197850047116,1434.362156876751,0,170757.73852473201,0,0,0,0,0,0,0,0,0,0,0,0,0,0,0,396582.32194821857]
["P13R","Residential - Flexible Pricing",null,23.191600000000001,0,0,0,0,0,0,0,0,0,0,0,0,11.100199999999999,4.1055999999999999,1.1055999999999999,0,11.100199999999999,4.1055999999999999,1.1055999999999999,0,null,72.833333333333329,0,0,0,0,0,0,0,0,0,0,0,0,18861.705578623769,42220.725879131081,29107.936206219056,0,6218.5269182604297,13889.746364341252,10803.300072286718,null,null,null,68.973806666666633,0,0,0,0,0,0,0,0,0,0,0,0,2085.2395967524212,1733.72809092594,322.00284165969896,0,690.38263107960711,570.19707852364593,119.51901506387384,0,5590.0430606718528]
["P13RDK","Residential Docklands  - Flexible Pricing",null,30.901599999999998,0,0,0,0,0,0,0,0,0,0,0,0,10.545299999999999,4.0505000000000004,1.0505,0,10.545299999999999,4.0505000000000004,1.0505,0,null,0,0,0,0,0,0,0,0,0,0,0,0,0,0,0,0,0,0,0,0,null,null,null,0,0,0,0,0,0,0,0,0,0,0,0,0,0,0,0,0,0,0,0,0,0]
["P13RCS","Climate Saver - Flexible Pricing",null,0,0,0,0,0,0,0,0,0,0,0,0,0,7.2618999999999998,0,0,0,3.4373,0,0,0,null,0,0,0,0,0,0,0,0,0,0,0,0,0,0,0,0,0,0,0,0,null,null,null,0,0,0,0,0,0,0,0,0,0,0,0,0,0,0,0,0,0,0,0,0,0]
["D2","Residential Two Rate 5d",null,35.2179,11.7126,13.19,14.0542,14.148400000000001,1.0992999999999999,0,0,0,0,0,0,0,0,0,0,0,0,0,0,0,null,46082.083333333336,109136399.21670401,21382485.997353297,734743.50953401753,165087.6166135112,209648291.00784996,0,0,0,0,0,0,0,0,0,0,0,0,0,0,null,null,null,1632097.7694443329,12753488.931704635,2833345.8664950114,104751.49156547195,23783.747235084826,2310433.494485572,0,0,0,0,0,0,0,0,0,0,0,0,0,0,0,19657901.300930109]
["D2DK","Docklands Two Rate 5d",null,37.616799999999998,10.646699999999999,12.092000000000001,13.0602,14.151400000000001,1.1288,0,0,0,0,0,0,0,0,0,0,0,0,0,0,0,null,584.5,1674534.0424530392,271304.99987747573,71272.375862394198,507.8640477187015,1965796.9616023598,0,0,0,0,0,0,0,0,0,0,0,0,0,0,null,null,null,22118.120028000001,178468.95577679723,33040.443656612748,9311.5938901198551,71.867965902984366,22249.759138911944,0,0,0,0,0,0,0,0,0,0,0,0,0,0,0,265260.74045634479]
["D3","Residential Interval",null,35.2179,11.7126,13.19,14.0542,14.148400000000001,1.0992999999999999,0,0,0,0,0,0,0,0,0,0,0,0,0,0,0,null,104338.66666666667,214269263.86322933,34321900.608364023,1498328.9414507253,76651.828453452879,259625710.18572563,0,0,0,0,0,0,0,0,0,0,0,0,0,0,null,null,null,3719499.9453346673,25071847.240962669,4536648.1734386422,210741.68171479023,10908.874057024987,2863446.5782137625,0,0,0,0,0,0,0,0,0,0,0,0,0,0,0,36413092.49372156]
["D2OP","Residential Two Rate 5d - controlled load",null,0,0,0,0,0,1.0992999999999999,0,0,0,0,0,0,0,0,0,0,0,0,0,0,0,null,0.25,0,0,0,0,579.2136788772566,0,0,0,0,0,0,0,0,0,0,0,0,0,0,null,null,null,0,0,0,0,0,6.3707217793976803,0,0,0,0,0,0,0,0,0,0,0,0,0,0,0,6.3707217793976803]
["D2DKOP","Docklands Two Rate 5d - controlled load",null,0,0,0,0,0,1.1288,0,0,0,0,0,0,0,0,0,0,0,0,0,0,0,null,0,0,0,0,0,0,0,0,0,0,0,0,0,0,0,0,0,0,0,0,null,null,null,0,0,0,0,0,0,0,0,0,0,0,0,0,0,0,0,0,0,0,0,0,0]
["DD1","Dedicated circuit",null,0,0,0,0,0,0.30980000000000002,0,0,0,0,0,0,0,0,0,0,0,0,0,0,0,null,162826.33333333334,0,0,0,0,365500855.80856544,0,0,0,0,0,0,0,0,0,0,0,0,0,0,null,null,null,0,0,0,0,0,1131500.8016483879,0,0,0,0,0,0,0,0,0,0,0,0,0,0,0,1131500.8016483879]
["D3HW","Hot Water Interval",null,0,0,0,0,0,0.30980000000000002,0,0,0,0,0,0,0,0,0,0,0,0,0,0,0,null,5575.333333333333,0,0,0,0,11671669.593273073,0,0,0,0,0,0,0,0,0,0,0,0,0,0,null,null,null,0,0,0,0,0,36000.245514860158,0,0,0,0,0,0,0,0,0,0,0,0,0,0,0,36000.245514860158]
["ND1","Non-Residential Single Rate",null,27.9834,6.6993999999999998,7.9405999999999999,9.4036000000000008,10.6525,0,0,0,0,0,0,0,0,0,0,0,0,0,0,0,0,null,41827.833333333336,84144870.112621099,104346063.44343682,57036153.673812583,18985242.87872602,0,0,0,0,0,0,0,0,0,0,0,0,0,0,0,null,null,null,1171043.6523186662,5694949.9686760623,8301259.9878657525,5372958.1555695934,2029877.8845160911,0,0,0,0,0,0,0,0,0,0,0,0,0,0,0,0,22570089.648946166]
["ND2","Non-Residential Two Rate 5d",null,35.578600000000002,10.925599999999999,11.7704,12.421799999999999,13.978999999999999,0.97609999999999997,0,0,0,0,0,0,0,0,0,0,0,0,0,0,0,null,31830.333333333332,89083892.828474566,202019807.40182403,210235747.02855182,131164324.98695816,536194127.36108124,0,0,0,0,0,0,0,0,0,0,0,0,0,0,null,null,null,1136269.4040270003,9763839.6331928372,23839163.906171516,26193287.558312632,18414457.288119681,5242421.3527784441,0,0,0,0,0,0,0,0,0,0,0,0,0,0,0,84589439.142602116]
["ND5","Non-Residential Interval",null,35.578600000000002,10.925599999999999,11.7704,12.421799999999999,13.978999999999999,0.97609999999999997,0,0,0,0,0,0,0,0,0,0,0,0,0,0,0,null,14428.416666666666,36959982.527946778,73426742.338167235,72932371.969577193,37183735.403125435,155461614.95361549,0,0,0,0,0,0,0,0,0,0,0,0,0,0,null,null,null,514931.47872899991,4040920.1751888306,8647963.5593521912,9057552.3075076211,5197919.9950466538,1515227.5049434709,0,0,0,0,0,0,0,0,0,0,0,0,0,0,0,28974515.020767767]
["ND3","Non-Residential Two Rate 7d",null,37.4833,8.5196000000000005,9.2578999999999994,10.6244,11.7943,1.079,0,0,0,0,0,0,0,0,0,0,0,0,0,0,0,null,8718.75,21349877.604943216,40452162.334419437,34917345.658719122,30049831.004481304,49568305.446292914,0,0,0,0,0,0,0,0,0,0,0,0,0,0,null,null,null,328332.72521099995,1822368.8846002694,3754858.7471393049,3720334.077167605,3556367.9330777158,539024.46446258947,0,0,0,0,0,0,0,0,0,0,0,0,0,0,0,13721286.831658483]
["PL2","Public Lighting",null,0,10.371499999999999,0,0,0,2.6208,0,0,0,0,0,0,0,0,0,0,0,0,0,0,0,null,6357,29770081.690637168,0,0,0,74852064.143233642,0,0,0,0,0,0,0,0,0,0,0,0,0,0,null,null,null,0,3169173.8767356519,0,0,0,1868610.138328583,0,0,0,0,0,0,0,0,0,0,0,0,0,0,0,5037784.0150642348]
["DL","Large Low Voltage Demand",null,0,2.2805,0,0,0,1.3916999999999999,0,0,0,71.876400000000004,0,0,0,0,0,0,0,0,0,0,0,null,864.83333333333337,641046469.8324039,0,0,0,503603747.9874326,0,0,0,417063.69716666668,0,0,0,0,0,0,0,0,0,0,null,null,null,0,14609025.17252372,0,0,0,7003016.4678363847,0,0,0,29270650.462641317,0,0,0,0,0,0,0,0,0,0,0,50882692.103001423]
["DLA","Large Low Voltage Demand A",null,0,2.2805,0,0,0,1.3916999999999999,0,0,0,71.876400000000004,0,0,0,0,0,0,0,0,0,0,0,null,0,1554.5092916446004,0,0,0,1744.1706336953393,0,0,0,0,0,0,0,0,0,0,0,0,0,0,null,null,null,0,36.254265699735377,0,0,0,24.296296927376076,0,0,0,0,0,0,0,0,0,0,0,0,0,0,0,60.550562627111454]
["DLC","Large Low Voltage Demand C",null,0,2.2894000000000001,0,0,0,1.294,0,0,0,68.552700000000002,0,0,0,0,0,0,0,0,0,0,0,null,445,356472619.12129748,0,0,0,256180582.6380398,0,0,0,208522.86541666664,0,0,0,0,0,0,0,0,0,0,null,null,null,0,8156724.4149627164,0,0,0,3313499.6551616946,0,0,0,13797348.954902625,0,0,0,0,0,0,0,0,0,0,0,25267573.025027037]
["DLS","Large Low Voltage Demand S",null,0,2.5543,0,0,0,1.5269999999999999,0,0,0,74.532200000000003,0,0,0,0,0,0,0,0,0,0,0,null,48.833333333333336,15026429.069111744,0,0,0,10580933.368201699,0,0,0,11972.554333333333,0,0,0,0,0,0,0,0,0,0,null,null,null,0,383812.51440690883,0,0,0,161551.28339405428,0,0,0,859372.0505458666,0,0,0,0,0,0,0,0,0,0,0,1404735.8483468296]
["DLDK","Large Low Voltage Demand Docklands",null,0,1.5319,0,0,0,1.3219000000000001,0,0,0,60.9467,0,0,0,0,0,0,0,0,0,0,0,null,7.916666666666667,3117592.1884788931,0,0,0,3300719.2347569088,0,0,0,1597.1666666666667,0,0,0,0,0,0,0,0,0,0,null,null,null,0,47747.075197420323,0,0,0,43634.454024837331,0,0,0,138782.35123133333,0,0,0,0,0,0,0,0,0,0,0,230163.880453591]
["DLCXX","Large Low Voltage Demand CXX",null,0,2.6669,0,0,0,1.5936999999999999,0,0,0,81.551900000000003,0,0,0,0,0,0,0,0,0,0,0,null,1019.5833333333334,239036380.75753805,0,0,0,178186558.85366672,0,0,0,165242.83691666668,0,0,0,0,0,0,0,0,0,0,null,null,null,0,6376047.8936369959,0,0,0,2839948.0173402028,0,0,0,13194735.904458549,0,0,0,0,0,0,0,0,0,0,0,22410731.815435749]
["DL.R","Large Low Voltage Demand EN.R",null,0,2.5247999999999999,0,0,0,1.5549999999999999,0,0,0,78.591399999999993,0,0,0,0,0,0,0,0,0,0,0,null,0,0,0,0,0,0,0,0,0,0,0,0,0,0,0,0,0,0,0,0,null,null,null,0,0,0,0,0,0,0,0,0,0,0,0,0,0,0,0,0,0,0,0,0,0]
["DL.NR","Large Low Voltage Demand EN.NR",null,0,2.5247999999999999,0,0,0,1.5549999999999999,0,0,0,78.591399999999993,0,0,0,0,0,0,0,0,0,0,0,null,23,31922766.459963351,0,0,0,20544154.795806531,0,0,0,18204.641333333329,0,0,0,0,0,0,0,0,0,0,null,null,null,0,805959.90009752603,0,0,0,319407.20542236522,0,0,0,1378860.8780059335,0,0,0,0,0,0,0,0,0,0,0,2504227.9835258247]
["DL.CXXR","Large Low Voltage Demand EN.R CXX",null,0,2.5247999999999999,0,0,0,2.0478000000000001,0,0,0,82.480500000000006,0,0,0,0,0,0,0,0,0,0,0,null,3,1116066.4909219791,0,0,0,473653.9242063394,0,0,0,683.48633333333328,0,0,0,0,0,0,0,0,0,0,null,null,null,0,28179.036807459859,0,0,0,9699.368569149261,0,0,0,56386.927373999992,0,0,0,0,0,0,0,0,0,0,0,94265.332750609115]
["DL.CXXNR","Large Low Voltage Demand EN.NRCXX",null,0,2.5247999999999999,0,0,0,2.0478000000000001,0,0,0,82.480500000000006,0,0,0,0,0,0,0,0,0,0,0,null,4.583333333333333,2118570.8445641398,0,0,0,1425170.5914881371,0,0,0,1135.359666666667,0,0,0,0,0,0,0,0,0,0,null,null,null,0,53498.596144504882,0,0,0,29141.722163552964,0,0,0,80357.502780999988,0,0,0,0,0,0,0,0,0,0,0,162997.82108905783]
["DH","High Voltage Demand",null,0,1.4733000000000001,0,0,0,0.39,0,0,0,61.535400000000003,0,0,0,0,0,0,0,0,0,0,0,null,111.25,491638563.58667469,0,0,0,443929044.36598158,0,0,0,271005.88533333334,0,0,0,0,0,0,0,0,0,0,null,null,null,0,7219591.5577905057,0,0,0,1728235.8666645137,0,0,0,16212436.439162204,0,0,0,0,0,0,0,0,0,0,0,25160263.863617223]
["DHA","High Voltage Demand A",null,0,0.85189999999999999,0,0,0,0.25130000000000002,0,0,0,33.191699999999997,0,0,0,0,0,0,0,0,0,0,0,null,3,6374933.4749410069,0,0,0,6365099.5909838574,0,0,0,3962.6666666666665,0,0,0,0,0,0,0,0,0,0,null,null,null,0,54241.652510711036,0,0,0,15998.778982720831,0,0,0,119801.55754200002,0,0,0,0,0,0,0,0,0,0,0,190041.98903543188]
["DHC","High Voltage Demand C",null,0,1.4437,0,0,0,0.38469999999999999,0,0,0,59.690300000000001,0,0,0,0,0,0,0,0,0,0,0,null,41,241115145.22130281,0,0,0,206818117.35475788,0,0,0,118039.12633333333,0,0,0,0,0,0,0,0,0,0,null,null,null,0,3479999.2591235009,0,0,0,795631.6247563595,0,0,0,6857154.2665703679,0,0,0,0,0,0,0,0,0,0,0,11132785.15045023]
["DHD1","High Voltage Demand D1",null,0,0.3654,0,0,0,0.11409999999999999,0,0,0,38.387,0,0,0,0,0,0,0,0,0,0,0,null,1,77353440.377569363,0,0,0,86446140.119856685,0,0,0,23472.002069530485,0,0,0,0,0,0,0,0,0,0,null,null,null,0,282479.73660657066,0,0,0,98939.649105631092,0,0,0,900991.43636963377,0,0,0,0,0,0,0,0,0,0,0,1282410.8220818355]
["DHD2","High Voltage Demand D2",null,0,0.20269999999999999,0,0,0,0.20150000000000001,0,0,0,43.871299999999998,0,0,0,0,0,0,0,0,0,0,0,null,1,36506880.517023303,0,0,0,39600200.461558543,0,0,0,12488.576999999999,0,0,0,0,0,0,0,0,0,0,null,null,null,0,72868.741058965024,0,0,0,79827.602325807544,0,0,0,547900.1606078,0,0,0,0,0,0,0,0,0,0,0,700596.50399257254]
["DHDK","High Voltage Demand Docklands",null,0,0.98019999999999996,0,0,0,0.4844,0,0,0,31.1187,0,0,0,0,0,0,0,0,0,0,0,null,1,1480164.2260221706,0,0,0,618308.9253678188,0,0,0,1000,0,0,0,0,0,0,0,0,0,0,null,null,null,0,14493.2904499387,0,0,0,2995.0807399636751,0,0,0,31115.72993400001,0,0,0,0,0,0,0,0,0,0,0,48604.101123902386]
["DHD3","High Voltage Demand D3",null,0,1.0293000000000001,0,0,0,0.12870000000000001,0,0,0,42.948700000000002,0,0,0,0,0,0,0,0,0,0,0,null,1,15667468.263018163,0,0,0,17542504.75553754,0,0,0,13522,0,0,0,0,0,0,0,0,0,0,null,null,null,0,161666.24095931294,0,0,0,22391.070179914932,0,0,0,580380.27956900001,0,0,0,0,0,0,0,0,0,0,0,764437.59070822783]
["DHD4","High Voltage Demand D4",null,0,0.38109999999999999,0,0,0,0.11559999999999999,0,0,0,15.5398,0,0,0,0,0,0,0,0,0,0,0,null,0.16666666666666666,2117199.3593292213,0,0,0,2828164.6499351049,0,0,0,916.66666666666663,0,0,0,0,0,0,0,0,0,0,null,null,null,0,9313.7921752764869,0,0,0,3795.9575641082538,0,0,0,-401.15651299999081,0,0,0,0,0,0,0,0,0,0,0,12708.59322638475]
["DSA","Subtransmission Demand A",null,0,0.74160000000000004,0,0,0,3.4000000000000002E-2,0,0,0,5.6881000000000004,0,0,0,0,0,0,0,0,0,0,0,null,3,101590056.05735144,0,0,0,79455569.713781476,0,0,0,51000.30733333333,0,0,0,0,0,0,0,0,0,0,null,null,null,0,752173.68712431926,0,0,0,27952.829215639347,0,0,0,260691.06469639996,0,0,0,0,0,0,0,0,0,0,0,1040817.5810363586]
["DSG","Subtransmission Demand G",null,0,0.74780000000000002,0,0,0,3.4000000000000002E-2,0,0,0,5.6881000000000004,0,0,0,0,0,0,0,0,0,0,0,null,8,289961259.51271242,0,0,0,316468001.80530274,0,0,0,199917.58685221951,0,0,0,0,0,0,0,0,0,0,null,null,null,0,2164324.5547666396,0,0,0,109229.54504231668,0,0,0,1098105.2913937108,0,0,0,0,0,0,0,0,0,0,0,3371659.3912026673]
["DSS","Subtransmission Demand S",null,0,0.74409999999999998,0,0,0,3.2800000000000003E-2,0,0,0,5.7245999999999997,0,0,0,0,0,0,0,0,0,0,0,null,2,151344015.13090643,0,0,0,211924025.72818986,0,0,0,109485.29598685588,0,0,0,0,0,0,0,0,0,0,null,null,null,0,1111044.2677736008,0,0,0,67578.921758829412,0,0,0,464561.99413169292,0,0,0,0,0,0,0,0,0,0,0,1643185.1836641231]
[null,null,null,null,null,null,null,null,null,null,null,null,null,null,null,null,null,null,null,null,null,null,null,null,null,null,null,null,null,null,null,null,null,null,null,null,null,null,null,null,null,null,null,null,null,null,null,null,null,null,null,null,null,null,null,null,null,null,null,null,null,null,null,null,null,null,null,null,null,0]
[null,null,null,null,null,null,null,null,null,null,null,null,null,null,null,null,null,null,null,null,null,null,null,null,null,null,null,null,null,null,null,null,null,null,null,null,null,null,null,null,null,null,null,null,null,null,null,null,null,null,null,null,null,null,null,null,null,null,null,null,null,null,null,null,null,null,null,null,null,0]
[null,null,null,null,null,null,null,null,null,null,null,null,null,null,null,null,null,null,null,null,null,null,null,null,null,null,null,null,null,null,null,null,null,null,null,null,null,null,null,null,null,null,null,null,null,null,null,null,null,null,null,null,null,null,null,null,null,null,null,null,null,null,null,null,null,null,null,null,null,0]
[null,null,null,null,null,null,null,null,null,null,null,null,null,null,null,null,null,null,null,null,null,null,null,null,null,null,null,null,null,null,null,null,null,null,null,null,null,null,null,null,null,null,null,null,null,null,null,null,null,null,null,null,null,null,null,null,null,null,null,null,null,null,null,null,null,null,null,null,null,0]
[null,null,null,null,null,null,null,null,null,null,null,null,null,null,null,null,null,null,null,null,null,null,null,null,null,null,null,null,null,null,null,null,null,null,null,null,null,null,null,null,null,null,null,null,null,null,null,null,null,null,null,null,null,null,null,null,null,null,null,null,null,null,null,null,null,null,null,null,null,0]
[null,null,null,null,null,null,null,null,null,null,null,null,null,null,null,null,null,null,null,null,null,null,null,null,null,null,null,null,null,null,null,null,null,null,null,null,null,null,null,null,null,null,null,null,null,null,null,null,null,null,null,null,null,null,null,null,null,null,null,null,null,null,null,null,null,null,null,null,null,0]
[null,null,null,null,null,null,null,null,null,null,null,null,null,null,null,null,null,null,null,null,null,null,null,null,null,null,null,null,null,null,null,null,null,null,null,null,null,null,null,null,null,null,null,null,null,null,null,null,null,null,null,null,null,null,null,null,null,null,null,null,null,null,null,null,null,null,null,null,null,0]
[null,null,null,null,null,null,null,null,null,null,null,null,null,null,null,null,null,null,null,null,null,null,null,null,null,null,null,null,null,null,null,null,null,null,null,null,null,null,null,null,null,null,null,null,null,null,null,null,null,null,null,null,null,null,null,null,null,null,null,null,null,null,null,null,null,null,null,null,null,0]
[null,null,null,null,null,null,null,null,null,null,null,null,null,null,null,null,null,null,null,null,null,null,null,null,null,null,null,null,null,null,null,null,null,null,null,null,null,null,null,null,null,null,null,null,null,null,null,null,null,null,null,null,null,null,null,null,null,null,null,null,null,null,null,null,null,null,null,null,null,0]
[null,null,null,null,null,null,null,null,null,null,null,null,null,null,null,null,null,null,null,null,null,null,null,null,null,null,null,null,null,null,null,null,null,null,null,null,null,null,null,null,null,null,null,null,null,null,null,null,null,null,null,null,null,null,null,null,null,null,null,null,null,null,null,null,null,null,null,null,null,0]
[null,null,null,null,null,null,null,null,null,null,null,null,null,null,null,null,null,null,null,null,null,null,null,null,null,null,null,null,null,null,null,null,null,null,null,null,null,null,null,null,null,null,null,null,null,null,null,null,null,null,null,null,null,null,null,null,null,null,null,null,null,null,null,null,null,null,null,null,null,0]
[null,null,null,null,null,null,null,null,null,null,null,null,null,null,null,null,null,null,null,null,null,null,null,null,null,null,null,null,null,null,null,null,null,null,null,null,null,null,null,null,null,null,null,null,null,null,null,null,null,null,null,null,null,null,null,null,null,null,null,null,null,null,null,null,null,null,null,null,null,0]
[null,null,null,null,null,null,null,null,null,null,null,null,null,null,null,null,null,null,null,null,null,null,null,null,null,null,null,null,null,null,null,null,null,null,null,null,null,null,null,null,null,null,null,null,null,null,null,null,null,null,null,null,null,null,null,null,null,null,null,null,null,null,null,null,null,null,null,null,null,0]
[null,null,null,null,null,null,null,null,null,null,null,null,null,null,null,null,null,null,null,null,null,null,null,null,null,null,null,null,null,null,null,null,null,null,null,null,null,null,null,null,null,null,null,null,null,null,null,null,null,null,null,null,null,null,null,null,null,null,null,null,null,null,null,null,null,null,null,null,null,0]
[null,null,null,null,null,null,null,null,null,null,null,null,null,null,null,null,null,null,null,null,null,null,null,null,null,null,null,null,null,null,null,null,null,null,null,null,null,null,null,null,null,null,null,null,null,null,null,null,null,null,null,null,null,null,null,null,null,null,null,null,null,null,null,null,null,null,null,null,null,0]
[null,null,null,null,null,null,null,null,null,null,null,null,null,null,null,null,null,null,null,null,null,null,null,null,null,null,null,null,null,null,null,null,null,null,null,null,null,null,null,null,null,null,null,null,null,null,null,null,null,null,null,null,null,null,null,null,null,null,null,null,null,null,null,null,null,null,null,null,null,0]
[null,null,null,null,null,null,null,null,null,null,null,null,null,null,null,null,null,null,null,null,null,null,null,null,null,null,null,null,null,null,null,null,null,null,null,null,null,null,null,null,null,null,null,null,null,null,null,null,null,null,null,null,null,null,null,null,null,null,null,null,null,null,null,null,null,null,null,null,null,0]
[null,null,null,null,null,null,null,null,null,null,null,null,null,null,null,null,null,null,null,null,null,null,null,null,null,null,null,null,null,null,null,null,null,null,null,null,null,null,null,null,null,null,null,null,null,null,null,null,null,null,null,null,null,null,null,null,null,null,null,null,null,null,null,null,null,null,null,null,null,0]
[null,null,null,null,null,null,null,null,null,null,null,null,null,null,null,null,null,null,null,null,null,null,null,null,null,null,null,null,null,null,null,null,null,null,null,null,null,null,null,null,null,null,null,null,null,null,null,null,null,null,null,null,null,null,null,null,null,null,null,null,null,null,null,null,null,null,null,null,null,0]
[null,null,null,null,null,null,null,null,null,null,null,null,null,null,null,null,null,null,null,null,null,null,null,null,null,null,null,null,null,null,null,null,null,null,null,null,null,null,null,null,null,null,null,null,null,null,null,null,null,null,null,null,null,null,null,null,null,null,null,null,null,null,null,null,null,null,null,null,null,{"$f":"SUM(AW66:BQ66)","v":0}]
[null,null,null,null,null,null,null,null,null,null,null,null,null,null,null,null,null,null,null,null,null,null,null,null,null,{"$f":"SUM(Z7:Z66)","v":936140.58333333349},4801381471.3293114,1069210693.8481007,393364983.93528223,220458247.03993076,4071344814.1152492,0,0,0,1629232.7220752728,0,0,0,18861.705578623769,42220.725879131081,29107.936206219056,0,6218.5269182604297,13889.746364341252,10803.300072286718,0,null,null,{"$f":"SUM(AW7:AW66)","v":22496753.123845},206516447.31924424,99021004.060527116,46138102.881383568,29524199.504160844,32919079.316543519,0,0,0,85849232.095404446,0,0,0,2085.2395967524212,1733.72809092594,322.00284165969896,0,690.38263107960711,570.19707852364593,119.51901506387384,0,{"$f":"SUM(AW67:BQ67)","v":522470339.37036264}]

{"sheet":"31. Actual t-2 Trans Tariff","index":29,"n_rows":67,"n_cols":70,"rows_kept":67,"cut":false,"hidden":false,"merged":[]}
[null,"Powercor"]
[null,"Tariff Quantity Data Template (Actual t-2) Transmission Tariff Revenue"]
[null,0]
[]
[null,null,null,"Transmission Tariffs (Pt-2)",null,null,null,null,null,null,null,null,null,null,null,null,null,null,null,null,null,null,null,null,null,"Actual Quantities (Qt-2) (INCLUDING boundary load adjustment)",null,null,null,null,null,null,null,null,null,null,null,null,null,null,null,null,null,null,null,null,null,null,"Actual Revenue (P-2)*(Qt-2)"]
[null,"Tariffs t-2",null,"(t-2)Tar\nFixed","(t-2)Tar\nPkBlk1","(t-2)Tar\nPkBlk2","(t-2)Tar\nPkBlk3","(t-2)Tar\nPkBlk4","(t-2)Tar\nOPkBlk1","(t-2)Tar\nOPkBlk2","(t-2)Tar\nOPkBlk3","(t-2)Tar\nOPkBlk4","(t-2)Tar\nDemBlk1","(t-2)Tar\nDemBlk2","(t-2)Tar\nDemBlk3","(t-2)Tar\nDemBlk4","(t-2)Tar\nSumBlk1","(t-2)Tar\nSumBlk2","(t-2)Tar\nSumBlk3","(t-2)Tar\nSumBlk4","(t-2)Tar\nWtrBlk1","(t-2)Tar\nWtrBlk2","(t-2)Tar\nWtrBlk3","(t-2)Tar\nWtrBlk4",null,"ActVol\nFixed","ActVol\nPkBlk1","ActVol\nPkBlk2","ActVol\nPkBlk3","ActVol\nPkBlk4","ActVol\nOPkBlk1","ActVol\nOPkBlk2","ActVol\nOPkBlk3","ActVol\nOPkBlk4","ActVol\nDemBlk1","ActVol\nDemBlk2","ActVol\nDemBlk3","ActVol\nDemBlk4","ActVol\nSumBlk1","ActVol\nSumBlk2","ActVol\nSumBlk3","ActVol\nSumBlk4","ActVol\nWtrBlk1","ActVol\nWtrBlk2","ActVol\nWtrBlk3","ActVol\nWtrBlk4",null,null,"ActRev\nFixed","ActRev\nPkBlk1","ActRev\nPkBlk2","ActRev\nPkBlk3","ActRev\nPkBlk4","ActRev\nOPkBlk1","ActRev\nOPkBlk2","ActRev\nOPkBlk3","ActRev\nOPkBlk4","ActRev\nDemBlk1","ActRev\nDemBlk2","ActRev\nDemBlk3","ActRev\nDemBlk4","ActRev\nSumBlk1","ActRev\nSumBlk2","ActRev\nSumBlk3","ActRev\nSumBlk4","ActRev\nWtrBlk1","ActRev\nWtrBlk2","ActRev\nWtrBlk3","ActRev\nWtrBlk4","ActRev\nTotal"]
[]
["D1","Residential Single Rate",null,12.1684,1.0208999999999999,1.0208999999999999,1.0208999999999999,1.0208999999999999,0,0,0,0,0,0,0,0,0,0,0,0,0,0,0,null,null,488961.58333333331,1498750537.0514977,590221441.0879811,15881114.578418186,2832561.329409725,0,0,0,0,0,0,0,0,0,0,0,0,0,0,0,null,null,null,5949880.1306333328,15300744.232758738,6025570.6920671985,162130.29873107126,28917.618611943883,0,0,0,0,0,0,0,0,0,0,0,0,0,0,0,0,{"$f":"SUM(AW8:BQ8)","v":27467242.972802281}]
["D1CS","Climate Saver",null,0,1.0525,1.0525,1.0525,1.0525,0.55700000000000005,0,0,0,0,0,0,0,0,0,0,0,0,0,0,null,null,17268,8769848.4658359531,2193024.65089717,43145.043766115268,304.12811541708618,15688768.019782195,0,0,0,0,0,0,0,0,0,0,0,0,0,0,null,null,null,0,92302.655102923411,23081.584450692713,454.10158563836319,3.2009484147648317,87386.437870186826,0,0,0,0,0,0,0,0,0,0,0,0,0,0,0,203227.97995785606]
["D3CS","Climate Saver Interval",null,0,1.0525,1.0525,1.0525,1.0525,0.55700000000000005,0,0,0,0,0,0,0,0,0,0,0,0,0,0,null,null,4679.5,2464608.9245477351,575760.98578017356,14761.155590061742,0,4874588.3850631602,0,0,0,0,0,0,0,0,0,0,0,0,0,0,null,null,null,0,25940.008930864911,6059.8843753363262,155.36116258539982,0,27151.457304801803,0,0,0,0,0,0,0,0,0,0,0,0,0,0,0,59306.711773588439]
["P13R","Residential - Flexible Pricing",null,14.4877,0,0,0,0,0,0,0,0,0,0,0,0,1.1982999999999999,0.89359999999999995,0.50029999999999997,0,1.1982999999999999,0.89359999999999995,0.50029999999999997,null,null,72.833333333333329,0,0,0,0,0,0,0,0,0,0,0,0,18861.705578623769,42220.725879131081,29107.936206219056,0,6218.5269182604297,13889.746364341252,10803.300072286718,null,null,null,1055.1874833333334,0,0,0,0,0,0,0,0,0,0,0,0,226.01981794864861,377.2844064559153,145.62700483971392,0,74.516608061514717,124.11877351175342,54.048910261650448,0,2056.8030044125298]
["P13RDK","Residential Docklands  - Flexible Pricing",null,14.7166,0,0,0,0,0,0,0,0,0,0,0,0,1.1168,0.84360000000000002,0.49969999999999998,0,1.1168,0.84360000000000002,0.49969999999999998,null,null,0,0,0,0,0,0,0,0,0,0,0,0,0,0,0,0,0,0,0,0,null,null,null,0,0,0,0,0,0,0,0,0,0,0,0,0,0,0,0,0,0,0,0,0,0]
["P13RCS","Climate Saver - Flexible Pricing",null,0,0,0,0,0,0,0,0,0,0,0,0,0,1.1693,0,0,0,0.55700000000000005,0,0,null,null,0,0,0,0,0,0,0,0,0,0,0,0,0,0,0,0,0,0,0,0,null,null,null,0,0,0,0,0,0,0,0,0,0,0,0,0,0,0,0,0,0,0,0,0,0]
["D2","Residential Two Rate 5d",null,14.4884,0.74939999999999996,0.74939999999999996,0.74939999999999996,0.74939999999999996,0.62690000000000001,0,0,0,0,0,0,0,0,0,0,0,0,0,0,null,null,46082.083333333336,109136399.21670401,21382485.997353297,734743.50953401753,165087.6166135112,209648291.00784996,0,0,0,0,0,0,0,0,0,0,0,0,0,0,null,null,null,667655.65616666677,817868.17572997988,160240.3500641656,5506.1678604479275,1237.1665989016528,1314285.1363282115,0,0,0,0,0,0,0,0,0,0,0,0,0,0,0,2966792.6527483733]
["D2DK","Docklands Two Rate 5d",null,14.7174,1.0419,1.0419,1.0419,1.0419,0.69630000000000003,0,0,0,0,0,0,0,0,0,0,0,0,0,0,null,null,584.5,1674534.0424530392,271304.99987747573,71272.375862394198,507.8640477187015,1965796.9616023598,0,0,0,0,0,0,0,0,0,0,0,0,0,0,null,null,null,8602.3202999999994,17446.970188318217,2826.7267937234201,742.58688411028527,5.2914355131811517,13687.844243637232,0,0,0,0,0,0,0,0,0,0,0,0,0,0,0,43311.739845302334]
["D3","Residential Interval",null,14.4884,0.74939999999999996,0.74939999999999996,0.74939999999999996,0.74939999999999996,0.62690000000000001,0,0,0,0,0,0,0,0,0,0,0,0,0,0,null,null,104338.66666666667,214269263.86322933,34321900.608364023,1498328.9414507253,76651.828453452879,259625710.18572563,0,0,0,0,0,0,0,0,0,0,0,0,0,0,null,null,null,1511700.3381333335,1605733.8633910406,257208.32315907997,11228.477087231735,574.42880243017589,1627593.5771543141,0,0,0,0,0,0,0,0,0,0,0,0,0,0,0,5014039.0077274302]
["D2OP","Residential Two Rate 5d - controlled load",null,0,0,0,0,0,0.62690000000000001,0,0,0,0,0,0,0,0,0,0,0,0,0,0,null,null,0.25,0,0,0,0,579.2136788772566,0,0,0,0,0,0,0,0,0,0,0,0,0,0,null,null,null,0,0,0,0,0,3.6310905528815218,0,0,0,0,0,0,0,0,0,0,0,0,0,0,0,3.6310905528815218]
["D2DKOP","Docklands Two Rate 5d - controlled load",null,0,0,0,0,0,0.69630000000000003,0,0,0,0,0,0,0,0,0,0,0,0,0,0,null,null,0,0,0,0,0,0,0,0,0,0,0,0,0,0,0,0,0,0,0,0,null,null,null,0,0,0,0,0,0,0,0,0,0,0,0,0,0,0,0,0,0,0,0,0,0]
["DD1","Dedicated circuit",null,0,0,0,0,0,1.8969,0,0,0,0,0,0,0,0,0,0,0,0,0,0,null,null,162826.33333333334,0,0,0,0,365500855.80856544,0,0,0,0,0,0,0,0,0,0,0,0,0,0,null,null,null,0,0,0,0,0,6933185.7338326778,0,0,0,0,0,0,0,0,0,0,0,0,0,0,0,6933185.7338326778]
["D3HW","Hot Water Interval",null,0,0,0,0,0,1.8969,0,0,0,0,0,0,0,0,0,0,0,0,0,0,null,null,5575.333333333333,0,0,0,0,11671669.593273073,0,0,0,0,0,0,0,0,0,0,0,0,0,0,null,null,null,0,0,0,0,0,221399.90051479693,0,0,0,0,0,0,0,0,0,0,0,0,0,0,0,221399.90051479693]
["ND1","Non-Residential Single Rate",null,11.9278,0.88880000000000003,0.88880000000000003,0.88880000000000003,0.88880000000000003,0,0,0,0,0,0,0,0,0,0,0,0,0,0,0,null,null,41827.833333333336,84144870.112621099,104346063.44343682,57036153.673812583,18985242.87872602,0,0,0,0,0,0,0,0,0,0,0,0,0,0,0,null,null,null,498914.03043333336,747879.60556097631,927427.81188526645,506937.33385284623,168740.83870611686,0,0,0,0,0,0,0,0,0,0,0,0,0,0,0,0,2849899.620438539]
["ND2","Non-Residential Two Rate 5d",null,14.2029,0.70230000000000004,0.70230000000000004,0.70230000000000004,0.70230000000000004,0.62690000000000001,0,0,0,0,0,0,0,0,0,0,0,0,0,0,null,null,31830.333333333332,89083892.828474566,202019807.40182403,210235747.02855182,131164324.98695816,536194127.36108124,0,0,0,0,0,0,0,0,0,0,0,0,0,0,null,null,null,452083.04129999998,625636.17933437694,1418785.1073830102,1476485.6513815196,921167.05438340723,3361400.9844266186,0,0,0,0,0,0,0,0,0,0,0,0,0,0,0,8255558.0182089321]
["ND5","Non-Residential Interval",null,14.2029,0.70230000000000004,0.70230000000000004,0.70230000000000004,0.70230000000000004,0.62690000000000001,0,0,0,0,0,0,0,0,0,0,0,0,0,0,null,null,14428.416666666666,36959982.527946778,73426742.338167235,72932371.969577193,37183735.403125435,155461614.95361549,0,0,0,0,0,0,0,0,0,0,0,0,0,0,null,null,null,204925.35907499999,259569.95729377025,515676.01144094852,512204.04834234068,261141.37373614995,974588.86414421548,0,0,0,0,0,0,0,0,0,0,0,0,0,0,0,2728105.6140324245]
["ND3","Non-Residential Two Rate 7d",null,15.8467,1.0281,1.0281,1.0281,1.0281,0.66080000000000005,0,0,0,0,0,0,0,0,0,0,0,0,0,0,null,null,8718.75,21349877.604943216,40452162.334419437,34917345.658719122,30049831.004481304,49568305.446292914,0,0,0,0,0,0,0,0,0,0,0,0,0,0,null,null,null,138163.41562499999,219498.09165642119,415888.68096016621,358985.2307172913,308942.31255707232,327547.36238910357,0,0,0,0,0,0,0,0,0,0,0,0,0,0,0,1769025.0939050547]
["PL2","Public Lighting",null,0,1.288,0,0,0,0.498,0,0,0,0,0,0,0,0,0,0,0,0,0,0,null,null,6357,29770081.690637168,0,0,0,74852064.143233642,0,0,0,0,0,0,0,0,0,0,0,0,0,0,null,null,null,0,383438.65217540675,0,0,0,372763.27943330351,0,0,0,0,0,0,0,0,0,0,0,0,0,0,0,756201.93160871021]
["DL","Large Low Voltage Demand",null,0,1.2588999999999999,0,0,0,0.5333,0,0,0,40.360700000000001,0,0,0,0,0,0,0,0,0,0,null,null,864.83333333333337,641046469.8324039,0,0,0,503603747.9874326,0,0,0,417063.69716666668,0,0,0,0,0,0,0,0,0,0,null,null,null,0,8070134.0087201325,0,0,0,2685718.7880169782,0,0,0,16832982.762234684,0,0,0,0,0,0,0,0,0,0,0,27588835.558971792]
["DLA","Large Low Voltage Demand A",null,0,1.2588999999999999,0,0,0,0.5333,0,0,0,40.360700000000001,0,0,0,0,0,0,0,0,0,0,null,null,0,1554.5092916446004,0,0,0,1744.1706336953393,0,0,0,0,0,0,0,0,0,0,0,0,0,0,null,null,null,0,19.569717472513872,0,0,0,9.3016619894972443,0,0,0,0,0,0,0,0,0,0,0,0,0,0,0,28.871379462011117]
["DLC","Large Low Voltage Demand C",null,0,1.2645999999999999,0,0,0,0.5333,0,0,0,40.514099999999999,0,0,0,0,0,0,0,0,0,0,null,null,445,356472619.12129748,0,0,0,256180582.6380398,0,0,0,208522.86541666664,0,0,0,0,0,0,0,0,0,0,null,null,null,0,4507952.7414079281,0,0,0,1366211.0472086663,0,0,0,8448116.2217773739,0,0,0,0,0,0,0,0,0,0,0,14322280.010393968]
["DLS","Large Low Voltage Demand S",null,0,1.204,0,0,0,0.5333,0,0,0,38.591799999999999,0,0,0,0,0,0,0,0,0,0,null,null,48.833333333333336,15026429.069111744,0,0,0,10580933.368201699,0,0,0,11972.554333333333,0,0,0,0,0,0,0,0,0,0,null,null,null,0,180918.20599210539,0,0,0,56428.117652619665,0,0,0,462042.42232113332,0,0,0,0,0,0,0,0,0,0,0,699388.74596585834]
["DLDK","Large Low Voltage Demand Docklands",null,0,1.1561999999999999,0,0,0,0.50129999999999997,0,0,0,41.149000000000001,0,0,0,0,0,0,0,0,0,0,null,null,7.916666666666667,3117592.1884788931,0,0,0,3300719.2347569088,0,0,0,1597.1666666666667,0,0,0,0,0,0,0,0,0,0,null,null,null,0,36045.600883192958,0,0,0,16546.505523836386,0,0,0,65721.811166666666,0,0,0,0,0,0,0,0,0,0,0,118313.917573696]
["DLCXX","Large Low Voltage Demand CXX",null,0,1.2522,0,0,0,0.5333,0,0,0,40.105800000000002,0,0,0,0,0,0,0,0,0,0,null,null,1019.5833333333334,239036380.75753805,0,0,0,178186558.85366672,0,0,0,165242.83691666668,0,0,0,0,0,0,0,0,0,0,null,null,null,0,2993213.5598458913,0,0,0,950268.9183666046,0,0,0,6627196.168812451,0,0,0,0,0,0,0,0,0,0,0,10570678.647024946]
["DL.R","Large Low Voltage Demand EN.R",null,0,1.2454000000000001,0,0,0,0.52629999999999999,0,0,0,39.384799999999998,0,0,0,0,0,0,0,0,0,0,null,null,0,0,0,0,0,0,0,0,0,0,0,0,0,0,0,0,0,0,0,0,null,null,null,0,0,0,0,0,0,0,0,0,0,0,0,0,0,0,0,0,0,0,0,0,0]
["DL.NR","Large Low Voltage Demand EN.NR",null,0,1.2454000000000001,0,0,0,0.52629999999999999,0,0,0,39.384799999999998,0,0,0,0,0,0,0,0,0,0,null,null,23,31922766.459963351,0,0,0,20544154.795806531,0,0,0,18204.641333333329,0,0,0,0,0,0,0,0,0,0,null,null,null,0,397566.13349238358,0,0,0,108123.88669032977,0,0,0,716986.15798506653,0,0,0,0,0,0,0,0,0,0,0,1222676.1781677799]
["DL.CXXR","Large Low Voltage Demand EN.R CXX",null,0,1.2376,0,0,0,0.52629999999999999,0,0,0,41.097000000000001,0,0,0,0,0,0,0,0,0,0,null,null,3,1116066.4909219791,0,0,0,473653.9242063394,0,0,0,683.48633333333328,0,0,0,0,0,0,0,0,0,0,null,null,null,0,13812.438891650412,0,0,0,2492.8406030979645,0,0,0,28089.237840999998,0,0,0,0,0,0,0,0,0,0,0,44394.517335748373]
["DL.CXXNR","Large Low Voltage Demand EN.NRCXX",null,0,1.2376,0,0,0,0.52629999999999999,0,0,0,41.097000000000001,0,0,0,0,0,0,0,0,0,0,null,null,4.583333333333333,2118570.8445641398,0,0,0,1425170.5914881371,0,0,0,1135.359666666667,0,0,0,0,0,0,0,0,0,0,null,null,null,0,26219.432772325796,0,0,0,7500.6728230020663,0,0,0,46659.876221000013,0,0,0,0,0,0,0,0,0,0,0,80379.981816327869]
["DH","High Voltage Demand",null,0,1.1839,0,0,0,0.48980000000000001,0,0,0,33.509399999999999,0,0,0,0,0,0,0,0,0,0,null,null,111.25,491638563.58667469,0,0,0,443929044.36598158,0,0,0,271005.88533333334,0,0,0,0,0,0,0,0,0,0,null,null,null,0,5820508.9543026406,0,0,0,2174364.4593045781,0,0,0,9081244.6139888,0,0,0,0,0,0,0,0,0,0,0,17076118.027596019]
["DHA","High Voltage Demand A",null,0,1.3351,0,0,0,0.47670000000000001,0,0,0,37.818899999999999,0,0,0,0,0,0,0,0,0,0,null,null,3,6374933.4749410069,0,0,0,6365099.5909838574,0,0,0,3962.6666666666665,0,0,0,0,0,0,0,0,0,0,null,null,null,0,85111.73682393739,0,0,0,30342.42975022005,0,0,0,149863.69439999998,0,0,0,0,0,0,0,0,0,0,0,265317.8609741574]
["DHC","High Voltage Demand C",null,0,1.2051000000000001,0,0,0,0.48980000000000001,0,0,0,34.143099999999997,0,0,0,0,0,0,0,0,0,0,null,null,41,241115145.22130281,0,0,0,206818117.35475788,0,0,0,118039.12633333333,0,0,0,0,0,0,0,0,0,0,null,null,null,0,2905678.6150619201,0,0,0,1012995.1388036042,0,0,0,4030221.6943116328,0,0,0,0,0,0,0,0,0,0,0,7948895.448177157]
["DHD1","High Voltage Demand D1",null,0,1.3351,0,0,0,0.47670000000000001,0,0,0,37.818899999999999,0,0,0,0,0,0,0,0,0,0,null,null,1,77353440.377569363,0,0,0,86446140.119856685,0,0,0,23472.002069530485,0,0,0,0,0,0,0,0,0,0,null,null,null,0,1032745.7824809286,0,0,0,412088.74995135685,0,0,0,887685.2990673664,0,0,0,0,0,0,0,0,0,0,0,2332519.831499652]
["DHD2","High Voltage Demand D2",null,0,1.3161,0,0,0,0,0,0,0,37.810600000000001,0,0,0,0,0,0,0,0,0,0,null,null,1,36506880.517023303,0,0,0,39600200.461558543,0,0,0,12488.576999999999,0,0,0,0,0,0,0,0,0,0,null,null,null,0,480467.05448454374,0,0,0,0,0,0,0,472200.58951620001,0,0,0,0,0,0,0,0,0,0,0,952667.64400074375]
["DHDK","High Voltage Demand Docklands",null,0,1.2783,0,0,0,0.50129999999999997,0,0,0,40.283900000000003,0,0,0,0,0,0,0,0,0,0,null,null,1,1480164.2260221706,0,0,0,618308.9253678188,0,0,0,1000,0,0,0,0,0,0,0,0,0,0,null,null,null,0,18920.939301241408,0,0,0,3099.5826428688756,0,0,0,40283.9,0,0,0,0,0,0,0,0,0,0,0,62304.421944110283]
["DHD3","High Voltage Demand D3",null,0,0.13109999999999999,0,0,0,0.48380000000000001,0,0,0,30.826000000000001,0,0,0,0,0,0,0,0,0,0,null,null,1,15667468.263018163,0,0,0,17542504.75553754,0,0,0,13522,0,0,0,0,0,0,0,0,0,0,null,null,null,0,20540.050892816809,0,0,0,84870.638007290618,0,0,0,416829.17200000002,0,0,0,0,0,0,0,0,0,0,0,522239.86090010742]
["DHD4","High Voltage Demand D4",null,0,1.34,0,0,0,0.49880000000000002,0,0,0,32.885100000000001,0,0,0,0,0,0,0,0,0,0,null,null,0.16666666666666666,2117199.3593292213,0,0,0,2828164.6499351049,0,0,0,916.66666666666663,0,0,0,0,0,0,0,0,0,0,null,null,null,0,28370.471415011565,0,0,0,14106.885273876303,0,0,0,30144.674999999999,0,0,0,0,0,0,0,0,0,0,0,72622.031688887873]
["DSA","Subtransmission Demand A",null,0,2.0615999999999999,0,0,0,0.5333,0,0,0,14.2134,0,0,0,0,0,0,0,0,0,0,null,null,3,101590056.05735144,0,0,0,79455569.713781476,0,0,0,51000.30733333333,0,0,0,0,0,0,0,0,0,0,null,null,null,0,2094380.5956783572,0,0,0,423736.55328359664,0,0,0,724887.76825159998,0,0,0,0,0,0,0,0,0,0,0,3243004.9172135536]
["DSG","Subtransmission Demand G",null,0,2.0649999999999999,0,0,0,0.5333,0,0,0,14.2347,0,0,0,0,0,0,0,0,0,0,null,null,8,289961259.51271242,0,0,0,316468001.80530274,0,0,0,199917.58685221951,0,0,0,0,0,0,0,0,0,0,null,null,null,0,5987700.0089375107,0,0,0,1687723.8536276796,0,0,0,2845766.8735652892,0,0,0,0,0,0,0,0,0,0,0,10521190.73613048]
["DSS","Subtransmission Demand S",null,0,2.0503999999999998,0,0,0,0.5333,0,0,0,14.1427,0,0,0,0,0,0,0,0,0,0,null,null,2,151344015.13090643,0,0,0,211924025.72818986,0,0,0,109485.29598685588,0,0,0,0,0,0,0,0,0,0,null,null,null,0,3103157.686244105,0,0,0,1130190.8292084364,0,0,0,1548417.6955533067,0,0,0,0,0,0,0,0,0,0,0,5781766.2110058479]
[null,null,null,null,null,null,null,null,null,null,null,null,null,null,null,null,null,null,null,null,null,null,null,null,null,null,null,null,null,null,null,null,null,null,null,null,null,null,null,null,null,null,null,null,null,null,null,null,{"$f":"D47*Z47","v":0},{"$f":"E47/100*AA47","v":0},0,0,0,0,0,0,0,{"$f":"M47*AI47","v":0},0,0,0,{"$f":"Q47/100*AM47","v":0},0,0,0,0,0,0,0,0]
[null,null,null,null,null,null,null,null,null,null,null,null,null,null,null,null,null,null,null,null,null,null,null,null,null,null,null,null,null,null,null,null,null,null,null,null,null,null,null,null,null,null,null,null,null,null,null,null,0,0,0,0,0,0,0,0,0,0,0,0,0,0,0,0,0,0,0,0,0,0]
[null,null,null,null,null,null,null,null,null,null,null,null,null,null,null,null,null,null,null,null,null,null,null,null,null,null,null,null,null,null,null,null,null,null,null,null,null,null,null,null,null,null,null,null,null,null,null,null,0,0,0,0,0,0,0,0,0,0,0,0,0,0,0,0,0,0,0,0,0,0]
[null,null,null,null,null,null,null,null,null,null,null,null,null,null,null,null,null,null,null,null,null,null,null,null,null,null,null,null,null,null,null,null,null,null,null,null,null,null,null,null,null,null,null,null,null,null,null,null,0,0,0,0,0,0,0,0,0,0,0,0,0,0,0,0,0,0,0,0,0,0]
[null,null,null,null,null,null,null,null,null,null,null,null,null,null,null,null,null,null,null,null,null,null,null,null,null,null,null,null,null,null,null,null,null,null,null,null,null,null,null,null,null,null,null,null,null,null,null,null,0,0,0,0,0,0,0,0,0,0,0,0,0,0,0,0,0,0,0,0,0,0]
[null,null,null,null,null,null,null,null,null,null,null,null,null,null,null,null,null,null,null,null,null,null,null,null,null,null,null,null,null,null,null,null,null,null,null,null,null,null,null,null,null,null,null,null,null,null,null,null,0,0,0,0,0,0,0,0,0,0,0,0,0,0,0,0,0,0,0,0,0,0]
[null,null,null,null,null,null,null,null,null,null,null,null,null,null,null,null,null,null,null,null,null,null,null,null,null,null,null,null,null,null,null,null,null,null,null,null,null,null,null,null,null,null,null,null,null,null,null,null,0,0,0,0,0,0,0,0,0,0,0,0,0,0,0,0,0,0,0,0,0,0]
[null,null,null,null,null,null,null,null,null,null,null,null,null,null,null,null,null,null,null,null,null,null,null,null,null,null,null,null,null,null,null,null,null,null,null,null,null,null,null,null,null,null,null,null,null,null,null,null,0,0,0,0,0,0,0,0,0,0,0,0,0,0,0,0,0,0,0,0,0,0]
[null,null,null,null,null,null,null,null,null,null,null,null,null,null,null,null,null,null,null,null,null,null,null,null,null,null,null,null,null,null,null,null,null,null,null,null,null,null,null,null,null,null,null,null,null,null,null,null,0,0,0,0,0,0,0,0,0,0,0,0,0,0,0,0,0,0,0,0,0,0]
[null,null,null,null,null,null,null,null,null,null,null,null,null,null,null,null,null,null,null,null,null,null,null,null,null,null,null,null,null,null,null,null,null,null,null,null,null,null,null,null,null,null,null,null,null,null,null,null,0,0,0,0,0,0,0,0,0,0,0,0,0,{"$f":"Q56/100*AM56","v":0},0,0,0,0,0,0,0,0]
[null,null,null,null,null,null,null,null,null,null,null,null,null,null,null,null,null,null,null,null,null,null,null,null,null,null,null,null,null,null,null,null,null,null,null,null,null,null,null,null,null,null,null,null,null,null,null,null,0,0,0,0,0,0,0,0,0,0,0,0,0,0,0,0,0,0,0,0,0,0]
[null,null,null,null,null,null,null,null,null,null,null,null,null,null,null,null,null,null,null,null,null,null,null,null,null,null,null,null,null,null,null,null,null,null,null,null,null,null,null,null,null,null,null,null,null,null,null,null,0,0,0,0,0,0,0,0,0,0,0,0,0,0,0,0,0,0,0,0,0,0]
[null,null,null,null,null,null,null,null,null,null,null,null,null,null,null,null,null,null,null,null,null,null,null,null,null,null,null,null,null,null,null,null,null,null,null,null,null,null,null,null,null,null,null,null,null,null,null,null,0,0,0,0,0,0,0,0,0,0,0,0,0,0,0,0,0,0,0,0,0,0]
[null,null,null,null,null,null,null,null,null,null,null,null,null,null,null,null,null,null,null,null,null,null,null,null,null,null,null,null,null,null,null,null,null,null,null,null,null,null,null,null,null,null,null,null,null,null,null,null,0,0,0,0,0,0,0,0,0,0,0,0,0,0,0,0,0,0,0,0,0,0]
[null,null,null,null,null,null,null,null,null,null,null,null,null,null,null,null,null,null,null,null,null,null,null,null,null,null,null,null,null,null,null,null,null,null,null,null,null,null,null,null,null,null,null,null,null,null,null,null,0,0,0,0,0,0,0,0,0,0,0,0,0,0,0,0,0,0,0,0,0,0]
[null,null,null,null,null,null,null,null,null,null,null,null,null,null,null,null,null,null,null,null,null,null,null,null,null,null,null,null,null,null,null,null,null,null,null,null,null,null,null,null,null,null,null,null,null,null,null,null,0,0,0,0,0,0,0,0,0,0,0,0,0,0,0,0,0,0,0,0,0,0]
[null,null,null,null,null,null,null,null,null,null,null,null,null,null,null,null,null,null,null,null,null,null,null,null,null,null,null,null,null,null,null,null,null,null,null,null,null,null,null,null,null,null,null,null,null,null,null,null,0,0,0,0,0,0,0,0,0,0,0,0,0,0,0,0,0,0,0,0,0,0]
[null,null,null,null,null,null,null,null,null,null,null,null,null,null,null,null,null,null,null,null,null,null,null,null,null,null,null,null,null,null,null,null,null,null,null,null,null,null,null,null,null,null,null,null,null,null,null,null,0,0,0,0,0,0,0,0,0,0,0,0,0,0,0,0,0,0,0,0,0,0]
[null,null,null,null,null,null,null,null,null,null,null,null,null,null,null,null,null,null,null,null,null,null,null,null,null,null,null,null,null,null,null,null,null,null,null,null,null,null,null,null,null,null,null,null,null,null,null,null,0,0,0,0,0,0,0,0,0,0,0,0,0,0,0,0,0,0,0,0,0,0]
[null,null,null,null,null,null,null,null,null,null,null,null,null,null,null,null,null,null,null,null,null,null,null,null,null,null,null,null,null,null,null,null,null,null,null,null,null,null,null,null,null,null,null,null,null,null,null,null,0,0,0,0,0,0,0,0,0,0,0,0,0,0,0,0,0,0,0,0,0,0]
[null,null,null,null,null,null,null,null,null,null,null,null,null,null,null,null,null,null,null,null,null,null,null,null,null,{"$f":"SUM(Z7:Z66)","v":936140.58333333349},4801381471.3293114,1069210693.8481007,393364983.93528223,220458247.03993076,4071344814.1152492,0,0,0,1629232.7220752728,0,0,0,{"$f":"SUM(AM7:AM66)","v":18861.705578623769},42220.725879131081,29107.936206219056,0,6218.5269182604297,13889.746364341252,10803.300072286718,0,null,null,{"$f":"SUM(AW7:AW66)","v":9432979.479150001},57899521.979468912,9752765.1725795865,3034829.2576050824,1690729.28577995,27427813.407133054,0,0,0,53455340.634013556,0,0,0,226.01981794864861,377.2844064559153,145.62700483971392,0,74.516608061514717,124.11877351175342,54.048910261650448,0,{"$f":"SUM(AW67:BQ67)","v":162694980.8312512}]

{"sheet":"32. TUoS cost audit (t-2)","index":30,"n_rows":50,"n_cols":6,"rows_kept":50,"cut":false,"hidden":false,"merged":[[9,1,9,3],[4,1,4,3],[5,1,5,3],[6,1,6,3],[7,1,7,3],[8,1,8,3],[34,1,34,3],[11,1,11,3],[12,1,12,3],[13,1,13,3],[14,1,14,3],[15,1,15,3],[16,1,16,3],[19,1,20,1],[19,2,19,5],[28,1,28,3],[29,1,29,3],[30,1,30,3],[44,1,44,3],[35,1,35,4],[36,1,36,3],[37,1,37,3],[38,1,38,3],[42,1,42,3],[43,1,43,4]]}
[null,"Powercor"]
[null,"TUoS cost audit template (t-2)"]
[null,0]
[]
[null,"TUOS charges (AEMO)",null,null,null,"t-2 actual"]
[]
[null,"AEMO (TUOS Usage)",null,null,null,58252535.583333328]
[null,"AEMO (TUOS General and Common Service)",null,null,null,79133343.559999987]
[null,"Grid equalisation",null,null,null,-7604400]
[null,null,null,null,"Total",{"$f":"SUM(F6:F9)","v":129781479.14333332}]
[]
[null,"Transmission connection fees (SPI Powernet)",null,null,null,"t-2 actual"]
[]
[null,"SP Connection",null,null,null,15880342.170000006]
[null,"SP Augmentation",null,null,null,11728443.75]
[]
[null,null,null,null,"Total",{"$f":"SUM(F13:F16)","v":27608785.920000006}]
[]
[null,"Cross boundary network charges (internetwork charges)",null,null,null,"t-2 actual"]
[null,"Distribution Business","Amount (payable)/receivable"]
[null,null,"HV crossings","Subtransmission crossings","TUoS Adjustment","Total"]
[]
[null,"Jemena",null,-5391747.0999999996,null,{"$f":"SUM(C23:E23)","v":-5391747.0999999996}]
[null,"ETSA",-620671.48,null,null,{"$f":"SUM(C24:E24)","v":-620671.48}]
[null,null,null,null,null,{"$f":"SUM(C25:E25)","v":0}]
[null,null,null,null,null,{"$f":"SUM(C26:E26)","v":0}]
[null,"Total",null,null,null,{"$f":"SUM(F22:F26)","v":-6012418.5800000001}]
[]
[null,"Payments to embedded generators",null,null,null,"t-2 actual"]
[null,"Avoided transmission costs"]
[]
[null,"Avoided Transmission cost",null,null,null,3555654.3432610394]
[]
[]
[]
[null,"Total",null,null,null,{"$f":"SUM(F31:F35)","v":3555654.3432610394}]
[]
[null,"Avoided TUoS usage charges"]
[]
[]
[]
[]
[]
[null,"Total",null,null,null,{"$f":"SUM(F39:F43)","v":0}]
[null,"Total payments to embedded generators",null,null,null,{"$f":"F44+F36","v":3555654.3432610394}]
[]
[null,"Where the following definitions apply"]
[null,"HV Crossings","Payments/Receipts for energy transferred utilising the distributor’s HV and LV line assets."]
[null,"Sub-transmission Crossings","Payments/Receipts for the Sub-transmission assets in shared loops that support each distributor’s Zone Substation capacity to ensure N-1 reliability is maintained."]
[null,"TuoS Adjustment ","Payments/Receipts for the adjustment of TuoS paid by a distributor for energy delivered to another distribution business through a shared loop."]

{"sheet":"33. Actual t-2 Juris Revenu","index":31,"n_rows":67,"n_cols":70,"rows_kept":67,"cut":false,"hidden":false,"merged":[]}
[null,"Powercor"]
[null,"Tariff Quantity Data Template (Actual t-2) Jurisdictional Scheme Tariff Revenue "]
[null,0]
[]
[null,null,null,"Jurisdictional Scheme Tariffs (Pt-2)",null,null,null,null,null,null,null,null,null,null,null,null,null,null,null,null,null,null,null,null,null,"Actual Quantities (Qt-2) (INCLUDING boundary load adjustment)",null,null,null,null,null,null,null,null,null,null,null,null,null,null,null,null,null,null,null,null,null,null,"Actual Revenue (P-2)*(Qt-2)"]
[null,"Tariff (t-2)",null,"(t-2)Tar\nFixed","(t-2)Tar\nPkBlk1","(t-2)Tar\nPkBlk2","(t-2)Tar\nPkBlk3","(t-2)Tar\nPkBlk4","(t-2)Tar\nOPkBlk1","(t-2)Tar\nOPkBlk2","(t-2)Tar\nOPkBlk3","(t-2)Tar\nOPkBlk4","(t-2)Tar\nDemBlk1","(t-2)Tar\nDemBlk2","(t-2)Tar\nDemBlk3","(t-2)Tar\nDemBlk4","(t-2)Tar\nSumBlk1","(t-2)Tar\nSumBlk2","(t-2)Tar\nSumBlk3","(t-2)Tar\nSumBlk4","(t-2)Tar\nWtrBlk1","(t-2)Tar\nWtrBlk2","(t-2)Tar\nWtrBlk3","(t-2)Tar\nWtrBlk4",null,"ActVol\nFixed","ActVol\nPkBlk1","ActVol\nPkBlk2","ActVol\nPkBlk3","ActVol\nPkBlk4","ActVol\nOPkBlk1","ActVol\nOPkBlk2","ActVol\nOPkBlk3","ActVol\nOPkBlk4","ActVol\nDemBlk1","ActVol\nDemBlk2","ActVol\nDemBlk3","ActVol\nDemBlk4","ActVol\nSumBlk1","ActVol\nSumBlk2","ActVol\nSumBlk3","ActVol\nSumBlk4","ActVol\nWtrBlk1","ActVol\nWtrBlk2","ActVol\nWtrBlk3","ActVol\nWtrBlk4",null,null,"ActRev\nFixed","ActRev\nPkBlk1","ActRev\nPkBlk2","ActRev\nPkBlk3","ActRev\nPkBlk4","ActRev\nOPkBlk1","ActRev\nOPkBlk2","ActRev\nOPkBlk3","ActRev\nOPkBlk4","ActRev\nDemBlk1","ActRev\nDemBlk2","ActRev\nDemBlk3","ActRev\nDemBlk4","ActRev\nSumBlk1","ActRev\nSumBlk2","ActRev\nSumBlk3","ActRev\nSumBlk4","ActRev\nWtrBlk1","ActRev\nWtrBlk2","ActRev\nWtrBlk3","ActRev\nWtrBlk4","ActRev\nTotal"]
[]
["D1","Residential Single Rate",null,0,0.36359999999999998,0.36359999999999998,0.36359999999999998,0.36359999999999998,0,0,0,0,0,0,0,0,0,0,0,0,0,0,0,null,null,488961.58333333331,1498750537.0514977,590221441.0879811,15881114.578418186,2832561.329409725,0,0,0,0,0,0,0,0,0,0,0,0,0,0,0,0,null,null,0,5449456.9527192451,2146045.1597958994,57743.732607128521,10299.192993733759,0,0,0,0,0,0,0,0,0,0,0,0,0,0,0,0,{"$f":"SUM(AW8:BQ8)","v":7663545.0381160062}]
["D1CS","Climate Saver",null,0,0.36359999999999998,0.36359999999999998,0.36359999999999998,0.36359999999999998,0.32319999999999999,0,0,0,0,0,0,0,0,0,0,0,0,0,0,null,null,17268,8769848.4658359531,2193024.65089717,43145.043766115268,304.12811541708618,15688768.019782195,0,0,0,0,0,0,0,0,0,0,0,0,0,0,0,null,null,0,31887.169021779526,7973.8376306621094,156.87537913359512,1.1058098276565254,50706.098239936058,0,0,0,0,0,0,0,0,0,0,0,0,0,0,0,{"$f":"SUM(AW9:BQ9)","v":90725.086081338944}]
["D3CS","Climate Saver Interval",null,0,0.36359999999999998,0.36359999999999998,0.36359999999999998,0.36359999999999998,0.32319999999999999,0,0,0,0,0,0,0,0,0,0,0,0,0,0,null,null,4679.5,2464608.9245477351,575760.98578017356,14761.155590061742,0,4874588.3850631602,0,0,0,0,0,0,0,0,0,0,0,0,0,0,0,null,null,0,8961.3180496555651,2093.4669442967111,53.671561725464493,0,15754.669660524134,0,0,0,0,0,0,0,0,0,0,0,0,0,0,0,26863.126216201876]
["P13R","Residential - Flexible Pricing",null,0,0,0,0,0,0,0,0,0,0,0,0,0,0.69030000000000002,0.58679999999999999,0.29759999999999998,0,0.69030000000000002,0.58679999999999999,0.29759999999999998,null,null,72.833333333333329,0,0,0,0,0,0,0,0,0,0,0,0,18861.705578623769,42220.725879131081,29107.936206219056,0,6218.5269182604297,13889.746364341252,10803.300072286718,0,null,null,0,0,0,0,0,0,0,0,0,0,0,0,0,130.20235360923988,247.75121945874119,86.625218149707905,0,42.926491316751751,81.505031665954462,32.150621015125274,0,621.16093521552045]
["P13RDK","Residential Docklands  - Flexible Pricing",null,0,0,0,0,0,0,0,0,0,0,0,0,0,0.62129999999999996,0.52810000000000001,0.27610000000000001,0,0.62129999999999996,0.52810000000000001,0.27610000000000001,null,null,0,0,0,0,0,0,0,0,0,0,0,0,0,0,0,0,0,0,0,0,0,null,null,0,0,0,0,0,0,0,0,0,0,0,0,0,0,0,0,0,0,0,0,0,0]
["P13RCS","Climate Saver - Flexible Pricing",null,0,0,0,0,0,0,0,0,0,0,0,0,0,0.46010000000000001,0,0,0,0.46010000000000001,0,0,null,null,0,0,0,0,0,0,0,0,0,0,0,0,0,0,0,0,0,0,0,0,0,null,null,0,0,0,0,0,0,0,0,0,0,0,0,0,0,0,0,0,0,0,0,0,0]
["D2","Residential Two Rate 5d",null,0,0.5454,0.5454,0.5454,0.5454,0.32319999999999999,0,0,0,0,0,0,0,0,0,0,0,0,0,0,null,null,46082.083333333336,109136399.21670401,21382485.997353297,734743.50953401753,165087.6166135112,209648291.00784996,0,0,0,0,0,0,0,0,0,0,0,0,0,0,0,null,null,0,595229.92132790363,116620.07862956487,4007.2911009985314,900.38786101008998,677583.2765373711,0,0,0,0,0,0,0,0,0,0,0,0,0,0,0,1394340.9554568483]
["D2DK","Docklands Two Rate 5d",null,0,0.5454,0.5454,0.5454,0.5454,0.32319999999999999,0,0,0,0,0,0,0,0,0,0,0,0,0,0,null,null,584.5,1674534.0424530392,271304.99987747573,71272.375862394198,507.8640477187015,1965796.9616023598,0,0,0,0,0,0,0,0,0,0,0,0,0,0,0,null,null,0,9132.9086675388753,1479.6974693317525,388.71953795349793,2.7698905162577976,6353.4557798988271,0,0,0,0,0,0,0,0,0,0,0,0,0,0,0,17357.551345239212]
["D3","Residential Interval",null,0,0.5454,0.5454,0.5454,0.5454,0.32319999999999999,0,0,0,0,0,0,0,0,0,0,0,0,0,0,null,null,104338.66666666667,214269263.86322933,34321900.608364023,1498328.9414507253,76651.828453452879,259625710.18572563,0,0,0,0,0,0,0,0,0,0,0,0,0,0,0,null,null,0,1168624.5651100527,187191.64591801737,8171.8860466722554,418.05907238513197,839110.29532026523,0,0,0,0,0,0,0,0,0,0,0,0,0,0,0,2203516.451467393]
["D2OP","Residential Two Rate 5d - controlled load",null,0,0,0,0,0,0.32319999999999999,0,0,0,0,0,0,0,0,0,0,0,0,0,0,null,null,0.25,0,0,0,0,579.2136788772566,0,0,0,0,0,0,0,0,0,0,0,0,0,0,0,null,null,0,0,0,0,0,1.8720186101312934,0,0,0,0,0,0,0,0,0,0,0,0,0,0,0,1.8720186101312934]
["D2DKOP","Docklands Two Rate 5d - controlled load",null,0,0,0,0,0,0.32319999999999999,0,0,0,0,0,0,0,0,0,0,0,0,0,0,null,null,0,0,0,0,0,0,0,0,0,0,0,0,0,0,0,0,0,0,0,0,0,null,null,0,0,0,0,0,0,0,0,0,0,0,0,0,0,0,0,0,0,0,0,0,0]
["DD1","Dedicated circuit",null,0,0,0,0,0,2.4199999999999999E-2,0,0,0,0,0,0,0,0,0,0,0,0,0,0,null,null,162826.33333333334,0,0,0,0,365500855.80856544,0,0,0,0,0,0,0,0,0,0,0,0,0,0,0,null,null,0,0,0,0,0,88451.207105672831,0,0,0,0,0,0,0,0,0,0,0,0,0,0,0,88451.207105672831]
["D3HW","Hot Water Interval",null,0,0,0,0,0,2.4199999999999999E-2,0,0,0,0,0,0,0,0,0,0,0,0,0,0,null,null,5575.333333333333,0,0,0,0,11671669.593273073,0,0,0,0,0,0,0,0,0,0,0,0,0,0,0,null,null,0,0,0,0,0,2824.5440415720836,0,0,0,0,0,0,0,0,0,0,0,0,0,0,0,2824.5440415720836]
["ND1","Non-Residential Single Rate",null,0,0.32319999999999999,0.32319999999999999,0.32319999999999999,0.32319999999999999,0,0,0,0,0,0,0,0,0,0,0,0,0,0,0,null,null,41827.833333333336,84144870.112621099,104346063.44343682,57036153.673812583,18985242.87872602,0,0,0,0,0,0,0,0,0,0,0,0,0,0,0,0,null,null,0,271956.2202039914,337246.47704918782,184340.84867376226,61360.304984042501,0,0,0,0,0,0,0,0,0,0,0,0,0,0,0,0,854903.8509109841]
["ND2","Non-Residential Two Rate 5d",null,0,0.48480000000000001,0.48480000000000001,0.48480000000000001,0.48480000000000001,0.48470000000000002,0,0,0,0,0,0,0,0,0,0,0,0,0,0,null,null,31830.333333333332,89083892.828474566,202019807.40182403,210235747.02855182,131164324.98695816,536194127.36108124,0,0,0,0,0,0,0,0,0,0,0,0,0,0,0,null,null,0,431878.71243244468,979392.02628404286,1019222.9015944191,635884.64753677312,2598932.935319161,0,0,0,0,0,0,0,0,0,0,0,0,0,0,0,5665311.2231668411]
["ND5","Non-Residential Interval",null,0,0.48480000000000001,0.48480000000000001,0.48480000000000001,0.48480000000000001,0.48470000000000002,0,0,0,0,0,0,0,0,0,0,0,0,0,0,null,null,14428.416666666666,36959982.527946778,73426742.338167235,72932371.969577193,37183735.403125435,155461614.95361549,0,0,0,0,0,0,0,0,0,0,0,0,0,0,0,null,null,0,179181.99529548598,355972.84685543476,353576.13930851023,180266.74923435212,753522.44768017437,0,0,0,0,0,0,0,0,0,0,0,0,0,0,0,1822520.1783739575]
["ND3","Non-Residential Two Rate 7d",null,0,0.48480000000000001,0.48480000000000001,0.48480000000000001,0.48480000000000001,0.48470000000000002,0,0,0,0,0,0,0,0,0,0,0,0,0,0,null,null,8718.75,21349877.604943216,40452162.334419437,34917345.658719122,30049831.004481304,49568305.446292914,0,0,0,0,0,0,0,0,0,0,0,0,0,0,0,null,null,0,103504.2066287647,196112.08299726542,169279.29175347032,145681.58070972536,240257.57649818179,0,0,0,0,0,0,0,0,0,0,0,0,0,0,0,854834.73858740763]
["PL2","Public Lighting",null,0,0.38379999999999997,0,0,0,0.48470000000000002,0,0,0,0,0,0,0,0,0,0,0,0,0,0,null,null,6357,29770081.690637168,0,0,0,74852064.143233642,0,0,0,0,0,0,0,0,0,0,0,0,0,0,0,null,null,0,114257.57352866544,0,0,0,362807.95490225352,0,0,0,0,0,0,0,0,0,0,0,0,0,0,0,477065.52843091893]
["DL","Large Low Voltage Demand",null,0,0.40389999999999998,0,0,0,0.40389999999999998,0,0,0,0,0,0,0,0,0,0,0,0,0,0,null,null,864.83333333333337,641046469.8324039,0,0,0,503603747.9874326,0,0,0,417063.69716666668,0,0,0,0,0,0,0,0,0,0,0,null,null,0,2589186.6916530794,0,0,0,2034055.5381212402,0,0,0,0,0,0,0,0,0,0,0,0,0,0,0,4623242.2297743196]
["DLA","Large Low Voltage Demand A",null,0,0.40389999999999998,0,0,0,0.40389999999999998,0,0,0,0,0,0,0,0,0,0,0,0,0,0,null,null,0,1554.5092916446004,0,0,0,1744.1706336953393,0,0,0,0,0,0,0,0,0,0,0,0,0,0,0,null,null,0,6.2786630289525407,0,0,0,7.0447051894954758,0,0,0,0,0,0,0,0,0,0,0,0,0,0,0,13.323368218448017]
["DLC","Large Low Voltage Demand C",null,0,0.40389999999999998,0,0,0,0.40389999999999998,0,0,0,0,0,0,0,0,0,0,0,0,0,0,null,null,445,356472619.12129748,0,0,0,256180582.6380398,0,0,0,208522.86541666664,0,0,0,0,0,0,0,0,0,0,0,null,null,0,1439792.9086309206,0,0,0,1034713.3732750427,0,0,0,0,0,0,0,0,0,0,0,0,0,0,0,2474506.2819059631]
["DLS","Large Low Voltage Demand S",null,0,0.40389999999999998,0,0,0,0.40389999999999998,0,0,0,0,0,0,0,0,0,0,0,0,0,0,null,null,48.833333333333336,15026429.069111744,0,0,0,10580933.368201699,0,0,0,11972.554333333333,0,0,0,0,0,0,0,0,0,0,0,null,null,0,60691.747010142331,0,0,0,42736.389874166664,0,0,0,0,0,0,0,0,0,0,0,0,0,0,0,103428.136884309]
["DLDK","Large Low Voltage Demand Docklands",null,0,0.40389999999999998,0,0,0,0.40389999999999998,0,0,0,0,0,0,0,0,0,0,0,0,0,0,null,null,7.916666666666667,3117592.1884788931,0,0,0,3300719.2347569088,0,0,0,1597.1666666666667,0,0,0,0,0,0,0,0,0,0,0,null,null,0,12591.954849266249,0,0,0,13331.604989183155,0,0,0,0,0,0,0,0,0,0,0,0,0,0,0,25923.559838449404]
["DLCXX","Large Low Voltage Demand CXX",null,0,0.40389999999999998,0,0,0,0.40389999999999998,0,0,0,0,0,0,0,0,0,0,0,0,0,0,null,null,1019.5833333333334,239036380.75753805,0,0,0,178186558.85366672,0,0,0,165242.83691666668,0,0,0,0,0,0,0,0,0,0,0,null,null,0,965467.94187969621,0,0,0,719695.51120995986,0,0,0,0,0,0,0,0,0,0,0,0,0,0,0,1685163.4530896561]
["DL.R","Large Low Voltage Demand EN.R",null,0,0.40389999999999998,0,0,0,0.40389999999999998,0,0,0,0,0,0,0,0,0,0,0,0,0,0,null,null,0,0,0,0,0,0,0,0,0,0,0,0,0,0,0,0,0,0,0,0,0,null,null,0,0,0,0,0,0,0,0,0,0,0,0,0,0,0,0,0,0,0,0,0,0]
["DL.NR","Large Low Voltage Demand EN.NR",null,0,0.40389999999999998,0,0,0,0.40389999999999998,0,0,0,0,0,0,0,0,0,0,0,0,0,0,null,null,23,31922766.459963351,0,0,0,20544154.795806531,0,0,0,18204.641333333329,0,0,0,0,0,0,0,0,0,0,0,null,null,0,128936.05373179198,0,0,0,82977.841220262577,0,0,0,0,0,0,0,0,0,0,0,0,0,0,0,211913.89495205454]
["DL.CXXR","Large Low Voltage Demand EN.R CXX",null,0,0.40389999999999998,0,0,0,0.40389999999999998,0,0,0,0,0,0,0,0,0,0,0,0,0,0,null,null,3,1116066.4909219791,0,0,0,473653.9242063394,0,0,0,683.48633333333328,0,0,0,0,0,0,0,0,0,0,0,null,null,0,4507.7925568338733,0,0,0,1913.0881998694049,0,0,0,0,0,0,0,0,0,0,0,0,0,0,0,6420.8807567032782]
["DL.CXXNR","Large Low Voltage Demand EN.NRCXX",null,0,0.40389999999999998,0,0,0,0.40389999999999998,0,0,0,0,0,0,0,0,0,0,0,0,0,0,null,null,4.583333333333333,2118570.8445641398,0,0,0,1425170.5914881371,0,0,0,1135.359666666667,0,0,0,0,0,0,0,0,0,0,0,null,null,0,8556.9076411945607,0,0,0,5756.2640190205857,0,0,0,0,0,0,0,0,0,0,0,0,0,0,0,14313.171660215146]
["DH","High Voltage Demand",null,0,0,0,0,0,0,0,0,0,0,0,0,0,0,0,0,0,0,0,0,null,null,111.25,491638563.58667469,0,0,0,443929044.36598158,0,0,0,271005.88533333334,0,0,0,0,0,0,0,0,0,0,0,null,null,0,0,0,0,0,0,0,0,0,0,0,0,0,0,0,0,0,0,0,0,0,0]
["DHA","High Voltage Demand A",null,0,0,0,0,0,0,0,0,0,0,0,0,0,0,0,0,0,0,0,0,null,null,3,6374933.4749410069,0,0,0,6365099.5909838574,0,0,0,3962.6666666666665,0,0,0,0,0,0,0,0,0,0,0,null,null,0,0,0,0,0,0,0,0,0,0,0,0,0,0,0,0,0,0,0,0,0,0]
["DHC","High Voltage Demand C",null,0,0,0,0,0,0,0,0,0,0,0,0,0,0,0,0,0,0,0,0,null,null,41,241115145.22130281,0,0,0,206818117.35475788,0,0,0,118039.12633333333,0,0,0,0,0,0,0,0,0,0,0,null,null,0,0,0,0,0,0,0,0,0,0,0,0,0,0,0,0,0,0,0,0,0,0]
["DHD1","High Voltage Demand D1",null,0,0,0,0,0,0,0,0,0,0,0,0,0,0,0,0,0,0,0,0,null,null,1,77353440.377569363,0,0,0,86446140.119856685,0,0,0,23472.002069530485,0,0,0,0,0,0,0,0,0,0,0,null,null,0,0,0,0,0,0,0,0,0,0,0,0,0,0,0,0,0,0,0,0,0,0]
["DHD2","High Voltage Demand D2",null,0,0,0,0,0,0,0,0,0,0,0,0,0,0,0,0,0,0,0,0,null,null,1,36506880.517023303,0,0,0,39600200.461558543,0,0,0,12488.576999999999,0,0,0,0,0,0,0,0,0,0,0,null,null,0,0,0,0,0,0,0,0,0,0,0,0,0,0,0,0,0,0,0,0,0,0]
["DHDK","High Voltage Demand Docklands",null,0,0,0,0,0,0,0,0,0,0,0,0,0,0,0,0,0,0,0,0,null,null,1,1480164.2260221706,0,0,0,618308.9253678188,0,0,0,1000,0,0,0,0,0,0,0,0,0,0,0,null,null,0,0,0,0,0,0,0,0,0,0,0,0,0,0,0,0,0,0,0,0,0,0]
["DHD3","High Voltage Demand D3",null,0,0,0,0,0,0,0,0,0,0,0,0,0,0,0,0,0,0,0,0,null,null,1,15667468.263018163,0,0,0,17542504.75553754,0,0,0,13522,0,0,0,0,0,0,0,0,0,0,0,null,null,0,0,0,0,0,0,0,0,0,0,0,0,0,0,0,0,0,0,0,0,0,0]
["DHD4","High Voltage Demand D4",null,0,0,0,0,0,0,0,0,0,0,0,0,0,0,0,0,0,0,0,0,null,null,0.16666666666666666,2117199.3593292213,0,0,0,2828164.6499351049,0,0,0,916.66666666666663,0,0,0,0,0,0,0,0,0,0,0,null,null,0,0,0,0,0,0,0,0,0,0,0,0,0,0,0,0,0,0,0,0,0,0]
["DSA","Subtransmission Demand A",null,0,0,0,0,0,0,0,0,0,0,0,0,0,0,0,0,0,0,0,0,null,null,3,101590056.05735144,0,0,0,79455569.713781476,0,0,0,51000.30733333333,0,0,0,0,0,0,0,0,0,0,0,null,null,0,0,0,0,0,0,0,0,0,0,0,0,0,0,0,0,0,0,0,0,0,0]
["DSG","Subtransmission Demand G",null,0,0,0,0,0,0,0,0,0,0,0,0,0,0,0,0,0,0,0,0,null,null,8,289961259.51271242,0,0,0,316468001.80530274,0,0,0,199917.58685221951,0,0,0,0,0,0,0,0,0,0,0,null,null,0,0,0,0,0,0,0,0,0,0,0,0,0,0,0,0,0,0,0,0,0,0]
["DSS","Subtransmission Demand S",null,0,0,0,0,0,0,0,0,0,0,0,0,0,0,0,0,0,0,0,0,null,null,2,151344015.13090643,0,0,0,211924025.72818986,0,0,0,109485.29598685588,0,0,0,0,0,0,0,0,0,0,0,null,null,0,0,0,0,0,0,0,0,0,0,0,0,0,0,0,0,0,0,0,0,0,0]
[null,null,null,null,null,null,null,null,null,null,null,null,null,null,null,null,null,null,null,null,null,null,null,null,null,null,null,null,null,null,null,null,null,null,null,null,null,null,null,null,null,null,null,null,null,null,null,null,null,null,null,null,null,null,null,null,null,null,null,null,null,null,null,null,null,null,null,null,null,0]
[null,null,null,null,null,null,null,null,null,null,null,null,null,null,null,null,null,null,null,null,null,null,null,null,null,null,null,null,null,null,null,null,null,null,null,null,null,null,null,null,null,null,null,null,null,null,null,null,null,null,null,null,null,null,null,null,null,null,null,null,null,null,null,null,null,null,null,null,null,0]
[null,null,null,null,null,null,null,null,null,null,null,null,null,null,null,null,null,null,null,null,null,null,null,null,null,null,null,null,null,null,null,null,null,null,null,null,null,null,null,null,null,null,null,null,null,null,null,null,null,null,null,null,null,null,null,null,null,null,null,null,null,null,null,null,null,null,null,null,null,0]
[null,null,null,null,null,null,null,null,null,null,null,null,null,null,null,null,null,null,null,null,null,null,null,null,null,null,null,null,null,null,null,null,null,null,null,null,null,null,null,null,null,null,null,null,null,null,null,null,null,null,null,null,null,null,null,null,null,null,null,null,null,null,null,null,null,null,null,null,null,0]
[null,null,null,null,null,null,null,null,null,null,null,null,null,null,null,null,null,null,null,null,null,null,null,null,null,null,null,null,null,null,null,null,null,null,null,null,null,null,null,null,null,null,null,null,null,null,null,null,null,null,null,null,null,null,null,null,null,null,null,null,null,null,null,null,null,null,null,null,null,0]
[null,null,null,null,null,null,null,null,null,null,null,null,null,null,null,null,null,null,null,null,null,null,null,null,null,null,null,null,null,null,null,null,null,null,null,null,null,null,null,null,null,null,null,null,null,null,null,null,null,null,null,null,null,null,null,null,null,null,null,null,null,null,null,null,null,null,null,null,null,0]
[null,null,null,null,null,null,null,null,null,null,null,null,null,null,null,null,null,null,null,null,null,null,null,null,null,null,null,null,null,null,null,null,null,null,null,null,null,null,null,null,null,null,null,null,null,null,null,null,null,null,null,null,null,null,null,null,null,null,null,null,null,null,null,null,null,null,null,null,null,0]
[null,null,null,null,null,null,null,null,null,null,null,null,null,null,null,null,null,null,null,null,null,null,null,null,null,null,null,null,null,null,null,null,null,null,null,null,null,null,null,null,null,null,null,null,null,null,null,null,null,null,null,null,null,null,null,null,null,null,null,null,null,null,null,null,null,null,null,null,null,0]
[null,null,null,null,null,null,null,null,null,null,null,null,null,null,null,null,null,null,null,null,null,null,null,null,null,null,null,null,null,null,null,null,null,null,null,null,null,null,null,null,null,null,null,null,null,null,null,null,null,null,null,null,null,null,null,null,null,null,null,null,null,null,null,null,null,null,null,null,null,0]
[null,null,null,null,null,null,null,null,null,null,null,null,null,null,null,null,null,null,null,null,null,null,null,null,null,null,null,null,null,null,null,null,null,null,null,null,null,null,null,null,null,null,null,null,null,null,null,null,null,null,null,null,null,null,null,null,null,null,null,null,null,null,null,null,null,null,null,null,null,0]
[null,null,null,null,null,null,null,null,null,null,null,null,null,null,null,null,null,null,null,null,null,null,null,null,null,null,null,null,null,null,null,null,null,null,null,null,null,null,null,null,null,null,null,null,null,null,null,null,null,null,null,null,null,null,null,null,null,null,null,null,null,null,null,null,null,null,null,null,null,0]
[null,null,null,null,null,null,null,null,null,null,null,null,null,null,null,null,null,null,null,null,null,null,null,null,null,null,null,null,null,null,null,null,null,null,null,null,null,null,null,null,null,null,null,null,null,null,null,null,null,null,null,null,null,null,null,null,null,null,null,null,null,null,null,null,null,null,null,null,null,0]
[null,null,null,null,null,null,null,null,null,null,null,null,null,null,null,null,null,null,null,null,null,null,null,null,null,null,null,null,null,null,null,null,null,null,null,null,null,null,null,null,null,null,null,null,null,null,null,null,null,null,null,null,null,null,null,null,null,null,null,null,null,null,null,null,null,null,null,null,null,0]
[null,null,null,null,null,null,null,null,null,null,null,null,null,null,null,null,null,null,null,null,null,null,null,null,null,null,null,null,null,null,null,null,null,null,null,null,null,null,null,null,null,null,null,null,null,null,null,null,null,null,null,null,null,null,null,null,null,null,null,null,null,null,null,null,null,null,null,null,null,0]
[null,null,null,null,null,null,null,null,null,null,null,null,null,null,null,null,null,null,null,null,null,null,null,null,null,null,null,null,null,null,null,null,null,null,null,null,null,null,null,null,null,null,null,null,null,null,null,null,null,null,null,null,null,null,null,null,null,null,null,null,null,null,null,null,null,null,null,null,null,0]
[null,null,null,null,null,null,null,null,null,null,null,null,null,null,null,null,null,null,null,null,null,null,null,null,null,null,null,null,null,null,null,null,null,null,null,null,null,null,null,null,null,null,null,null,null,null,null,null,null,null,null,null,null,null,null,null,null,null,null,null,null,null,null,null,null,null,null,null,null,0]
[null,null,null,null,null,null,null,null,null,null,null,null,null,null,null,null,null,null,null,null,null,null,null,null,null,null,null,null,null,null,null,null,null,null,null,null,null,null,null,null,null,null,null,null,null,null,null,null,null,null,null,null,null,null,null,null,null,null,null,null,null,null,null,null,null,null,null,null,null,0]
[null,null,null,null,null,null,null,null,null,null,null,null,null,null,null,null,null,null,null,null,null,null,null,null,null,null,null,null,null,null,null,null,null,null,null,null,null,null,null,null,null,null,null,null,null,null,null,null,null,null,null,null,null,null,null,null,null,null,null,null,null,null,null,null,null,null,null,null,null,0]
[null,null,null,null,null,null,null,null,null,null,null,null,null,null,null,null,null,null,null,null,null,null,null,null,null,null,null,null,null,null,null,null,null,null,null,null,null,null,null,null,null,null,null,null,null,null,null,null,null,null,null,null,null,null,null,null,null,null,null,null,null,null,null,null,null,null,null,null,null,0]
[null,null,null,null,null,null,null,null,null,null,null,null,null,null,null,null,null,null,null,null,null,null,null,null,null,null,null,null,null,null,null,null,null,null,null,null,null,null,null,null,null,null,null,null,null,null,null,null,null,null,null,null,null,null,null,null,null,null,null,null,null,null,null,null,null,null,null,null,null,0]
[null,null,null,null,null,null,null,null,null,null,null,null,null,null,null,null,null,null,null,null,null,null,null,null,null,{"$f":"SUM(Z7:Z66)","v":936140.58333333349},4801381471.3293114,1069210693.8481007,393364983.93528223,220458247.03993076,4071344814.1152492,0,0,0,1629232.7220752728,0,0,0,{"$f":"SUM(AM7:AM66)","v":18861.705578623769},42220.725879131081,29107.936206219056,0,6218.5269182604297,13889.746364341252,10803.300072286718,0,null,null,{"$f":"SUM(AW7:AW66)","v":0},13573809.81960148,4330127.3195737032,1796941.3575637741,1034814.7980923661,9571492.9887175541,0,0,0,0,0,0,0,130.20235360923988,247.75121945874119,86.625218149707905,0,42.926491316751751,81.505031665954462,32.150621015125274,0,{"$f":"SUM(AW67:BQ67)","v":30307807.444484092}]

{"sheet":"34. Juris cost audit templa","index":32,"n_rows":15,"n_cols":6,"rows_kept":15,"cut":false,"hidden":false,"merged":[[9,1,9,3],[4,1,4,3],[5,1,5,3],[6,1,6,3],[7,1,7,3],[8,1,8,3]]}
[null,"Powercor"]
[null,"Jurisdictional amount cost audit template"]
[null,0]
[]
[null,"Jurisdictional scheme amounts",null,null,null,"t-2 actual"]
[]
[null,"PFIT",null,null,null,29694812.580000002]
[null,"TFIT",null,null,null,14091730.360000001]
[null,"<DNSP to insert for future schemes>"]
[null,null,null,null,"Total",{"$f":"SUM(F6:F9)","v":43786542.940000005}]
[]
[]
[null,"Where the following definitions apply"]
[null,"PFIT","Premium feed-in tariff payments"]
[null,"TFIT","Transitional feed-in tariff payments"]

{"sheet":"Income Workpaper","index":33,"n_rows":36,"n_cols":29,"rows_kept":36,"cut":false,"hidden":false,"merged":[[5,3,5,10],[5,11,5,18],[5,19,5,26]]}
[null,{"$f":"Cover!C22","v":"Powercor Australia Ltd"}]
[null,"Income Statement Workpaper"]
[null,{"$f":"Cover!C26","v":2013}]
[]
[]
[null,null,null,"Directly Attributed ($'000 nominal)",null,null,null,null,null,null,null,"Allocated ($'000 nominal)",null,null,null,null,null,null,null,"Numeric QTY of each allocator (%)",null,null,null,null,null,null,null,"Description of Allocation Basis","Reason for choosing this basis"]
[null,"INCOME WORKPAPER","Powercor","SCS","AMI","PL (EF)","PL (NE)","ACS (F)","ACS (Q)","Neg'd","Un'reg","SCS","AMI","PL (EF)","PL (NE)","ACS (F)","ACS (Q)","Neg'd","Un'reg","SCS","AMI","PL (EF)","PL (NE)","ACS (F)","ACS (Q)","Neg'd","Un'reg"]
[]
[null,"Distribution Revenue",666002.5203640752,532720.12591149588,100707.07425903923,595.95110280956578,8736.7860071904342,16527.244020960781,3491.1207499999996,0,3224.2185099999997,0,0,0,0,0,0,0,0]
[null,"Designated Pricing Proposal Charges",0,0,0,0,0,0,0,0,0,0,0,0,0,0,0,0,0]
[null,"Jurisdictional Scheme Amounts",0,0,0,0,0,0,0,0,0,0,0,0,0,0,0,0,0]
[null,"Profit from sale of Fixed Assets",-446.54830000000004,-446.54830000000044,0,0,0,0,0,0,0,0,0,0,0,0,0,0,0]
[null,"Customer Contributions",0,0,0,0,0,0,0,0,0,0,0,0,0,0,0,0,0]
[null,"Other Revenue ",93759.24172999998,3003.1984200000006,-1922.56459,0,0,0,0,0,0,90204.509441182207,1467.165522208139,0.23444000559616263,33.479921284410338,0,0,973.19191396559404,2.6661354036096152E-2,0.97330453580520637,1.5830681485755671E-2,2.5296021477698815E-6,3.6124756341328633E-4,0,0,1.0500717868093855E-2,2.8767538313548792E-7,"Allocation based on Fixed Assets","Most appropriate allocator"]
[]
[null,"Total Revenue",{"$f":"SUM(C9:C14)","v":759315.21379407519},535276.77603149589,98784.509669039238,595.95110280956578,8736.7860071904342,16527.244020960781,3491.1207499999996,0,3224.2185099999997,90204.509441182207,1467.165522208139,0.23444000559616263,33.479921284410338,0,0,973.19191396559404,2.6661354036096152E-2]
[]
[null,"Designated Pricing Proposal Charges",0,0,0,0,0,0,0,0,0,0,0,0,0,0,0,0,0]
[null,"Jurisdictional Scheme Amounts",0,0,0,0,0,0,0,0,0,0,0,0,0,0,0,0,0]
[null,"Maintenance",151198.24964992702,138746.12826522859,2130.1179999999995,356.62562363153182,5990.0068846518134,2744.4794283212441,1230.8914480938499,0,0,0,0,0,0,0,0,0,0]
[null,"Operating Expenses (Billing & Revenue Collection - Allocated)",5351.4416041468667,0,0,0,0,0,0,0,0,4781.2058630570655,274.45493421063401,4.1699614643610108,70.059191721362978,169.83315980117365,51.718493892269485,0,0,0.89344259299252715,5.1286168197735189E-2,7.7922208122941684E-4,1.3091648363886406E-2,3.1735964318393914E-2,9.6644040462279344E-3,0,0,"Allocation based on Expenditure Split","Reflective of the costs incurred in providing different categories of distribution services"]
[null,"Operating Expenses (Advertising/Marketing - Allocated)",13.091710833969778,0,0,0,0,0,0,0,0,11.696692074210318,0.67142368382708606,1.0201350162899634E-2,0.17139207472001439,0.41547806789359587,0.12652358315586359,0,0,0.89344259299252715,5.1286168197735189E-2,7.7922208122941684E-4,1.3091648363886406E-2,3.1735964318393914E-2,9.6644040462279344E-3,0,0,"Allocation based on Expenditure Split","Reflective of the costs incurred in providing different categories of distribution services"]
[null,"Operating Expenses (Customer Service - Allocated)",8190.7273158107746,0,0,0,0,0,0,0,0,7317.9446515326999,420.07101878045546,6.3823955858087071,107.23012186307382,259.94062983626509,79.158498212471315,0,0,0.89344259299252715,5.1286168197735189E-2,7.7922208122941684E-4,1.3091648363886406E-2,3.1735964318393914E-2,9.6644040462279344E-3,0,0,"Allocation based on Expenditure Split","Reflective of the costs incurred in providing different categories of distribution services"]
[null,"Operating Expenses (Debt Raising Costs - Allocated)",224.95205999999999,0,0,0,0,0,0,0,0,197.74114693844817,25.200703719502005,8.0370945883551509E-3,1.8581485617277074,0,0,0.1384995566030818,5.5241291306671689E-3,0.8790368353970538,0.112026996861029,3.5728032845554524E-5,8.2601980249823338E-3,0,0,6.1568476680356609E-4,2.4556917285697093E-5,"Allocation based on Fixed Assets (Regulatory)","Reflective of the costs incurred in providing different categories of distribution services"]
[null,"Operating Expenses (Directly Attributable)",73530.018904575525,37240.918876542157,21317.447286175684,0,0,11779.318571857624,3192.3341700000005,0,0,0,0,0,0,0,0,0,0]
[null,"Depreciation ",158249.88648999995,113899.57517999997,41578.934780000025,2.1298867574929492,2723.0320067657394,0,0,32.940690776297565,13.40194570046944,0,0,0,0,0,0,0,0]
[null,"Finance Charges",14370.017240000001,0,0,0,0,0,0,0,0,12631.774479250706,1609.8298762384127,0.51341244794190477,118.69918802481008,0,0,8.8474007133726253,0.35288332475672124,0.87903683539705391,0.11202699686102902,3.5728032845554524E-5,8.2601980249823338E-3,0,0,6.156847668035662E-4,2.4556917285697096E-5,"Allocation based on Fixed Assets (Regulatory)","Most appropriate allocator"]
[null,"Loss from sale of Fixed Assets",0,0,0,0,0,0,0,0,0,0,0,0,0,0,0,0,0]
[null,"Impairment Losses (Nature:          )",0,0,0,0,0,0,0,0,0,0,0,0,0,0,0,0,0]
[null,"Other",0,0,0,0,0,0,0,0,0,0,0,0,0,0,0,0,0]
[]
[null,"Profit before Tax (PBT)",{"$f":"C16-SUM(C18:C30)","v":348186.82881878101},{"$f":"D16-SUM(D18:D30)","v":245390.15370972519},33758.009602863531,237.195592420541,23.747115772881443,2003.4460207819138,-932.10486809385065,-32.940690776297565,3210.8165642995305,65264.146608329072,-863.06243442469213,-10.849567937266714,-264.53812096128428,-430.18926770533233,-131.00351568789665,964.20601369561837,-0.33174609985129228]
[]
[null,"Income Tax Expense / (Benefit)",98545.014382017238,0,0,0,0,0,0,0,0,87922.431174475452,9310.039247626617,64.061217690763925,-68.149485004504612,445.26844936810761,-300.88453180387631,263.56986262775098,908.64227591847964,0.89220610497584441,9.4475024670480426E-2,6.5007084941116715E-4,-6.9155715736885198E-4,4.5184286145477301E-3,-3.0532710774966655E-3,2.6746148551951374E-3,9.2205842693868154E-3,"Allocated based on Proportion of Profit/Loss in each segment","Most appropriate allocator"]
[]
[null,"Profit after Tax",{"$f":"C32-C34","v":249641.81443676376},{"$f":"D32-D34","v":245390.15370972519},33758.009602863531,237.195592420541,23.747115772881443,2003.4460207819138,-932.10486809385065,-32.940690776297565,3210.8165642995305,-22658.28456614638,-10173.101682051309,-74.910785628030638,-196.38863595677967,-875.45771707343988,169.88101611597966,700.63615106786733,-908.97402201833097]

{"sheet":"Services Fee Workpaper ","index":34,"n_rows":19,"n_cols":24,"rows_kept":19,"cut":false,"hidden":false,"merged":[[5,14,5,21],[5,5,5,13]]}
[null,{"$f":"Cover!C22","v":"Powercor Australia Ltd"}]
[null,"Corporate Services Fee Allocations Workpaper"]
[null,{"$f":"Cover!C26","v":2013}]
[]
[]
[null,null,null,null,null,"'Numeric QTY of each allocator (%)",null,null,null,null,null,null,null,null,"($'000 nominal)",null,null,null,null,null,null,null,null,"Basis of allocation"]
[null,"Services Fee","Statutory\n$000's","Amount Capitalised","Powercor $000","SCS","AMI","PL (EF)","PL (NE)","ACS (F)","ACS (Q)","Neg'd","Un'reg","Total %","SCS","AMI","PL (EF)","PL (NE)","ACS (F)","ACS (Q)","Neg'd","Un'reg","Total $"]
[]
[null,"Maintenance",14811.435859927004,0,14811.435859927004,null,null,null,null,null,null,null,null,null,13560.266974656764,221.13777464955669,35.08211837255994,589.25135115059572,283.16688652398847,125.24669457353627,0,0,14814.151799927,"Directly attributable"]
[null,"Network operating costs",398.13612052897349,0,398.13612052897349,null,null,null,null,null,null,null,null,null,0,398.13612052897349,0,0,0,0,0,0,398.13612052897349,"Directly attributable"]
[null,"Meter data services",0,0,0,null,null,null,null,null,null,null,null,null,0,0,0,0,0,0,0,0,0,"Directly attributable to AMI"]
[null,"Billing and revenue collection - CIS",643.18661118507066,0,643.18661118507066,null,null,null,null,null,null,null,null,null,643.18661118507066,0,0,0,0,0,0,0,643.18661118507066,"Directly attributable to SCS"]
[null,"Billing and revenue collection",5351.4416041468667,0,5351.4416041468667,0.89344259299252715,5.1286168197735189E-2,7.7922208122941684E-4,1.3091648363886406E-2,3.1735964318393914E-2,9.6644040462279344E-3,0,0,1,4781.2058630570655,274.45493421063401,4.1699614643610108,70.059191721362978,169.83315980117365,51.718493892269485,0,0,5351.4416041468667,"Allocation based on expenditure split"]
[null,"Advertising & Marketing",13.091710833969778,0,13.091710833969778,0.89344259299252715,5.1286168197735189E-2,7.7922208122941684E-4,1.3091648363886406E-2,3.1735964318393914E-2,9.6644040462279344E-3,0,0,1,11.696692074210318,0.67142368382708606,1.0201350162899634E-2,0.17139207472001439,0.41547806789359587,0.12652358315586359,0,0,13.091710833969779,"Allocation based on expenditure split"]
[null,"Customer Service",8190.7273158107746,0,8190.7273158107746,0.89344259299252715,5.1286168197735189E-2,7.7922208122941684E-4,1.3091648363886406E-2,3.1735964318393914E-2,9.6644040462279344E-3,0,0,1,7317.9446515326999,420.07101878045546,6.3823955858087071,107.23012186307382,259.94062983626509,79.158498212471315,0,0,8190.7273158107746,"Allocation based on expenditure split"]
[null,"Regulatory",4364.763155232692,4364.763155232692,0,null,null,null,null,null,null,null,null,null,0,0,0,0,0,0,0,0,0,"Directly attributable"]
[null,"Other",30667.524850124646,24845.218131387992,5822.3067187366541,null,null,null,null,null,null,null,null,null,4861.2250753573426,0,0,0,961.0816433793176,0,0,0,5822.3067187366605,"Directly attributable"]
[]
[null,"TOTAL",{"$f":"SUM(C9:C18)","v":64440.307227789999},{"$f":"SUM(D9:D18)","v":29209.981286620685},{"$f":"SUM(E9:E18)","v":35230.325941169314},null,null,null,null,null,null,null,null,null,{"$f":"SUM(O9:O18)","v":31175.525867863151},1314.471271853447,45.644676772892559,766.71205680975243,1674.4377976086384,256.25021026143293,0,0,35233.041881169316]