Workbook
Name _00EGRDCB: [1]Rates!$H$497
Name _00EGRDCT: [1]Rates!$H$498
Name _00EGRDGE: [1]Rates!$H$495
Name _00EGRDSD: [1]Rates!$H$496
Name _00EGRROI: [1]Rates!$H$499
Name _022TF000: [2]Rates!$H$743
Name _022TF001: [2]Rates!$H$744
Name _022TF002: [2]Rates!$H$745
Name _022TFSTR: [2]Rates!$H$746
Name _066AISLD: [2]Rates!$H$656
Name _066BTPRO: [2]Rates!$H$655
Name _066BUPRO: [2]Rates!$H$654
Name _066BUS40: [2]Rates!$H$253
Name _066BUSBT: [2]Rates!$H$254
Name _066BYBTI: [2]Rates!$H$117
Name _066BYBVT: [2]Rates!$H$118
Name _066BYCB1: [2]Rates!$H$119
Name _066BYCB2: [2]Rates!$H$120
Name _066BYCB3: [2]Rates!$H$121
Name _066BYFDR: [2]Rates!$H$114
Name _066BYTF1: [2]Rates!$H$115
Name _066BYTF2: [2]Rates!$H$116
Name _066CBK25: [2]Rates!$H$400
Name _066CBK50: [2]Rates!$H$401
Name _066CT3P2: [2]Rates!$H$168
Name _066CT3P4: [2]Rates!$H$172
Name _066DIFPR: [2]Rates!$H$652
Name _066DISC3: [2]Rates!$H$191
Name _066DISCO: [2]Rates!$H$190
Name _066DISPR: [2]Rates!$H$653
Name _066DTCB3: [2]Rates!$H$143
Name _066DTCB4: [2]Rates!$H$145
Name _066EARSW: [2]Rates!$H$193
Name _066EGRID: [2]Rates!$H$495
Name _066EX150: [2]Rates!$H$313
Name _066EX225: [2]Rates!$H$314
Name _066EXFDR: [2]Rates!$H$312
Name _066FRCR4: [2]Rates!$H$410
Name _066FRCR6: [2]Rates!$H$411
Name _066HVCON: [2]Rates!$H$337
Name _066LTCB3: [2]Rates!$H$139
Name _066LTCB4: [2]Rates!$H$142
Name _066LTCBC: [2]Rates!$H$138
Name _066MVT1P: [2]Rates!$H$228
Name _066NERCR: [2]Rates!$H$418
Name _066OHEXT: [2]Rates!$H$349
Name _066PIN1P: [2]Rates!$H$360
Name _066PIN3P: [2]Rates!$H$361
Name _066QMA1P: [2]Rates!$H$479
Name _066QUEXT: [2]Rates!$H$351
Name _066SAR1P: [2]Rates!$H$245
Name _066SDROP: [2]Rates!$H$324
Name _066STR3P: [2]Rates!$H$476
Name _066SVE1P: [2]Rates!$H$336
Name _066TDROP: [2]Rates!$H$323
Name _066TFCAB: [2]Rates!$H$487
Name _066TFRC1: [2]Rates!$H$413
Name _066TFRC2: [2]Rates!$H$414
Name _066TPA1P: [2]Rates!$H$478
Name _066TPA3P: [2]Rates!$H$477

Sheet TRR Summary
B5: UST Removal, Validation, Environmental sampling and report | C5: C-I-C
B6: Bund Cleaning | C6: C-I-C | D6: Opex
B7: Bund Integrity Check | C7: C-I-C
B8: Holding tank clean out and liquid disposal (150kL liquid, 10kL sludge) | C8: C-I-C
B9: GAC system fit out and annual carbon filter change (1 year) | C9: C-I-C
B10: Septic Tank Service | C10: C-I-C
B11: Puraceptor Service | C11: C-I-C
B12: Install Puraceptor | C12: C-I-C
B13: Install Hardstand (not transformer bund) | C13: C-I-C | D13: 5122679.5
B16: Instal Holding Tank Alarm | C16: C-I-C
B17: Cranbourne CBTS Drainage Reconfiguration | C17: C-I-C
B18: Hazelwood Drainage Reconfiguration | C18: C-I-C
B19: Install shut off valve | C19: C-I-C
B20: Decommission and remove holding tank | C20: C-I-C
B21: Install new/ temporary holding tank | C21: C-I-C | D21: 10269083
C25: 15391762
C28: RY28 | D28: RY29 | E28: RY30 | F28: RY31 | G28: RY32
B29: Environmental | C29: =$D13/5 -> 1024535.9 | D29: =$D13/5 -> 1024535.9 | E29: =$D13/5 -> 1024535.9 | F29: =$D13/5 -> 1024535.9 | G29: =$D13/5 -> 1024535.9
B30: PRA-BlueSphere Estimate (Rework) | C30: =$D21/5 -> 2053816.5 | D30: =$D21/5 -> 2053816.5 | E30: =$D21/5 -> 2053816.5 | F30: =$D21/5 -> 2053816.5 | G30: =$D21/5 -> 2053816.5

Sheet Environmental Scope Items
E3: Total Cost for Environmental Scope Items | F3: C-I-C
A5: UST Removal, Validation, Environmental sampling and report
A6: UST Removal, Validation, Environmental sampling and report | B6: 1 | C6: C-I-C | E6: Cost provided by Consultant
A7: Number of Sites | C7: C-I-C | E7: Assumptions: | F7: C-I-C
C8: C-I-C
A9: Design | B9: 0.05 | C9: C-I-C
A10: SPA Internal Costs | B10: 0.05 | C10: C-I-C
A11: Sub-Contractor Indirect Costs | B11: 0.05 | C11: C-I-C
C12: C-I-C
A13: Nominal Risk Allowance | B13: 0.075 | C13: C-I-C
A14: DIRECT COSTS SUB-TOTAL | C14: C-I-C
A18: Bund Cleaning
A19: Bund Cleaning | B19: 1 | C19: C-I-C | E19: Cost provided by Consultant
A20: Number of Sites | B20: 1 | C20: C-I-C | E20: Assumptions: | F20: C-I-C
C21: C-I-C | F21: C-I-C
A22: Design | B22: 0.05 | C22: C-I-C
A23: SPA Internal Costs | B23: 0.05 | C23: C-I-C
A24: Sub-Contractor Indirect Costs | B24: 0.05 | C24: C-I-C
C25: C-I-C
A26: Nominal Risk Allowance | B26: 0.075 | C26: C-I-C
A27: DIRECT COSTS SUB-TOTAL | C27: C-I-C
A30: Bund Integrity Check
A31: Bund Integrity Check | C31: C-I-C | E31: Cost provided by Consultant
A32: Number of Sites | C32: C-I-C | E32: Assumptions: | F32: C-I-C
C33: C-I-C | F33: C-I-C
A34: Design | B34: 0.05 | C34: C-I-C
A35: SPA Internal Costs | B35: 0.05 | C35: C-I-C
A36: Sub-Contractor Indirect Costs | B36: 0.05 | C36: C-I-C
C37: C-I-C
A38: Nominal Risk Allowance | B38: 0.075 | C38: C-I-C
A39: DIRECT COSTS SUB-TOTAL | C39: C-I-C
A42: Holding tank clean out and liquid disposal (150kL liquid, 10kL sludge)
A43: Holding tank clean out and liquid disposal (150kL liquid, 10kL sludge) | C43: C-I-C | E43: Cost provided by Consultant
A44: Number of Sites | C44: C-I-C | E44: Assumptions: | F44: C-I-C
C45: C-I-C | F45: C-I-C
A46: Design | B46: 0.05 | C46: C-I-C
A47: SPA Internal Costs | B47: 0.05 | C47: C-I-C
A48: Sub-Contractor Indirect Costs | B48: 0.05 | C48: C-I-C
C49: C-I-C
A50: Nominal Risk Allowance | B50: 0.075 | C50: C-I-C
...

Sheet Sheet1
A1: 66kV Feeder X & Y Protection Scheme "X" Prot Type Siemens 7SL87 & Y Prot GE Multilin L90 - Line Current Differential Relay
A2: Materials
A3: Materials for 66kV Feeder X & Y Protection Scheme, | B3: 1 | C3: Each | D3: 82645.38 | E3: =D3*B3 -> 82645.38
A5: Cabling
A6: Secondary Cables for 66kV Feeder X & Y Protection Scheme | B6: 1 | C6: Each | D6: 49152.031 | E6: =D6*B6 -> 49152.031
A8: Earthing
A9: Cubicle Earthing | B9: 1 | C9: Each | D9: 1961.6918 | E9: =D9*B9 -> 1961.6918
A11: Installation
A12: Protection Cabinet Installation | B12: 1 | C12: Each | D12: 29639.925 | E12: =D12*B12 -> 29639.925
A14: Testing
A15: System Pre-test | B15: 64 | C15: Hour | D15: 271.91 | E15: =D15*B15 -> 17402.24
A16: System Commission | B16: 96 | C16: Hour | D16: 271.91 | E16: =D16*B16 -> 26103.36
E17: =SUM(E3:E16) -> 206904.63
A18: Cost Structure for 66kV Bus Tie X & Y Protection Scheme, "X" Prot / "Y" Prot, Protection & control Panel Layout
A19: Materials
A20: Materials for 66kV Bus Tie X & Y Protection Scheme, "X" Prot P145 / "Y" Prot SEL 351-6, Protection & control Panel Layout (Drawing No.T14/119/51/2 rev A dated 04/06/08) | B20: 1 | C20: Each | D20: 49760.188 | E20: =B20*D20 -> 49760.188
E21: =B21*D21 -> 0
A22: Cabling | E22: =B22*D22 -> 0
A23: Secondary Cables for 66kV Bus Tie X & Y Protection Scheme, "X" Prot P145 / "Y" Prot SEL 351-6, Protection & control Panel Layout (Drawing No.T14/119/51/16 rev A dated 04/06/08) | B23: 1 | C23: Each | D23: 29639.925 | E23: =B23*D23 -> 29639.925
E24: =B24*D24 -> 0
A25: Earthing | E25: =B25*D25 -> 0
A26: Install | B26: 4 | C26: Each | D26: 1453.105 | E26: =B26*D26 -> 5812.42
E27: =B27*D27 -> 0
A28: Installation | E28: =B28*D28 -> 0
A29: Labour | B29: 1 | C29: Each | D29: 8518.4 | E29: =B29*D29 -> 8518.4
E30: =B30*D30 -> 0
A31: Testing | E31: =B31*D31 -> 0
A32: Tester Field Services - Secondary Tester NSG PD | B32: 48 | C32: Hour | D32: 271.91 | E32: =B32*D32 -> 13051.68
A33: Commissioning | B33: 64 | C33: Hour | D33: 271.91 | E33: =B33*D33 -> 17402.24
E34: =SUM(E20:E33) -> 124184.85
A36: Anti-Islanding Scheme Based on SMTS T2/752/786/2 | B36: 0 | D36: 0 | E36: 0
B37: 0 | D37: 0 | E37: 0
A38: Materials | B38: 0 | D38: 0 | E38: 0
A39: Material Anti-Islanding Scheme Based on SMTS T2/752/786/2 | B39: 1 | C39: Each | D39: 42209.312 | E39: =B39*D39 -> 42209.312
B40: 0 | D40: 0 | E40: =B40*D40 -> 0
A41: Installation | B41: 0 | D41: 0 | E41: =B41*D41 -> 0
A42: Prot Cabinet Installation | B42: 1 | C42: Each | D42: 29639.925 | E42: =B42*D42 -> 29639.925
B43: 0 | D43: 0 | E43: =B43*D43 -> 0
A44: Cabling | B44: 0 | D44: 0 | E44: =B44*D44 -> 0
B45: 0 | D45: 0 | E45: =B45*D45 -> 0
...

Sheet PRA-BlueSphere Estimate
A3: Instal Holding Tank Alarm | E3: Total Cost | F3: 10269083
A4: Install Hardstand | C4: C-I-C
A5: Number of Sites | C5: C-I-C | E5: Assumptions: This is a high level scope
C6: C-I-C | E6: Install a holding tank alarm
A7: Design | B7: 0.15 | C7: C-I-C | E7: Connect to secondary system
A8: SPA Internal Costs | B8: 0.15 | C8: C-I-C
A9: Sub-Contractor Indirect Costs | B9: 0.15 | C9: C-I-C
C10: C-I-C
A11: Nominal Risk Allowance | B11: 0.075 | C11: C-I-C
A12: DIRECT COSTS SUB-TOTAL | C12: C-I-C
A18: Cranbourne CBTS Drainage Reconfiguration
A19: Cranbourne CBTS Drainage Reconfiguration | B19: 1 | C19: C-I-C | E19: Assumptions: This is a high level scope
C20: C-I-C | E20: Service and repair leaking transformers
A21: Design | B21: 0.25 | C21: C-I-C | E21: Clean bund surfaces and check bund integrity;
A22: SPA Internal Costs | B22: 0.15 | C22: C-I-C | E22: Clean out oil and sediment from the puraceptor, and clean internal filters
A23: Sub-Contractor Indirect Costs | B23: 0.15 | C23: C-I-C | E23: Review, reconfigure and update drainage at the site to rectify apparent design limitations resulting in overflow events.
C24: C-I-C
A25: Nominal Risk Allowance | B25: 0.075 | C25: C-I-C
A26: DIRECT COSTS SUB-TOTAL | C26: C-I-C
A30: Hazelwood Drainage Reconfiguration
A31: Hazelwood CBTS Drainage Reconfiguration | B31: 1 | C31: C-I-C | E31: Assumptions: This is a high level scope
C32: C-I-C | E32: Service and repair leaking transformers
A33: Design | B33: 0.25 | C33: C-I-C | E33: Clean bund surfaces and check bund integrity;
A34: SPA Internal Costs | B34: 0.15 | C34: C-I-C | E34: Clean out oil and sediment from the puraceptor, and clean internal filters
A35: Sub-Contractor Indirect Costs | B35: 0.15 | C35: C-I-C | E35: Reconfigure and resolve drainage from transformer bunds and holding tank areas;
C36: C-I-C | E36: Installation of granulated activated carbon (GAC) scrubbers to treat filtered water exiting a puraceptor.
A37: Nominal Risk Allowance | B37: 0.075 | C37: C-I-C
A38: DIRECT COSTS SUB-TOTAL | C38: C-I-C
A42: Install shut off valve
A43: Install shut off valve | C43: C-I-C | E43: Assumptions:
A44: Number of Sites | C44: C-I-C | E44: Install a shut off valve
C45: C-I-C | E45: Testing & Commissoning
A46: Design | B46: 0.15 | C46: C-I-C
A47: SPA Internal Costs | B47: 0.15 | C47: C-I-C
A48: Sub-Contractor Indirect Costs | B48: 0.15 | C48: C-I-C
C49: C-I-C
A50: Nominal Risk Allowance | B50: 0.075 | C50: C-I-C
A51: DIRECT COSTS SUB-TOTAL | C51: C-I-C
A54: Decommission and remove holding tank
A55: Decommission and remove holding tank | C55: C-I-C | E55: Assumptions:
...

Sheet Master All_TRR_TS
A1: Site Details | M1: Status Tracking | Q1: Knowledge Base Relevant documentation | AA1: Likelihood of Contamination (drivers of likelihood rating highlighted in bold) | AI1: Oil Filled Equipment | AT1: Site Hazards | BM1: Consequence of Contamination | BX1: Duty to Manage | CA1: Duty to Notify | CC1: Future Actions | CK1: Knowledge Base - Relevant Documentation | CO1: Oil Filled Equipment | CU1: Historical Parameters - Retained for Information Purposes Only
AI2: Note: Numbers in red reflect sites where controls are not applicable or not known | AN2: Note: Where there is a leak score above 2.9, the maximum of the leak, and bunding rating is adopted (i.e. what is the measure of control if there is a leak). If below 2.9 the leak score is adopted (i.e. there must be a leak for there to be a risk). | BM2: Impact Factor | BO2: Drivers | CR2: Note: Where there is a leak score above 2.9, the maximum of the leak, and bunding rating is adopted (i.e. what is the measure of control if there is a leak). If below 2.9 the leak score is adopted (i.e. there must be a leak for there to be a risk). | ED2: Denotes cost not assigned to item | EE2: Denotes cost pending
Z3: 1 Low - 5 High | AA3: Legacy / Known Issues | AG3: Current Activities | AJ3: 1 Low - 5 High | AK3: 1 Low - 5 High | AL3: 1 Low - 5 High | BM3: 0.8 | BO3: 0.2 | CN3: Note: Numbers in red reflect sites where controls are not applicable or not known
A4: Site Type | B4: Site Name | C4: Site Number | D4: Region | E4: Site Address | F4: Special Parcel Identifier | G4: Latitude | H4: Longitude | I4: Site Owner | J4: Site Occupier | K4: Property Type | L4: Property Status | M4: Last AusNet Site Environmental Assessment Date | N4: Added to Enablon / Sharepoint | O4: AusNet: Date Last Assessed | P4: AusNet: Audit Lead | Q4: Environmental Site Inspection | R4: PSI: Preliminary Site Investigation (or initial consulting reports) | S4: DSI: Detailed Site Investigation | T4: Site Environmental Management Plan | U4: Site Specific Risk Assessment or Audit | V4: EPA Report/Investigation | W4: Relevant Documents: Soft Copy | X4: Relevant Documents: Hard Copy | Y4: Last Enviromental Assessment Date | Z4: Confidence Factor | AA4: Asset Age - oldest asset (years) | AB4: Past Incidents | AC4: Former Land Uses (i.e. on-site landfill & historic filling activities) and existing impacts | AD4: Status of Existing Controls relating to former land uses and existing issues | AE4: Status of existing controls relating to former land uses - Comments | AF4: Infrastructure Risk Classicatiion (GeoEng 2002) - Prior to Upgrade program | AG4: Potential Contaminating Activities (i.e. ASTs, USTs, transformers, generators etc.) Needs correcting for other land uses also | AH4: Potential Contaminating Activities - Comments | AI4: 1) No. Of Transformers or other oil filled equipment | AJ4: 2) Oil Leak Condition | AK4: 3) Bunding Rating | AL4: 3b) Oil/water separator and shut off valve | AM4: Control Score (Max of bunding and oil/water score) | AN4: DB: Oil Filled Equipment Score | AO4: Status of Existing Controls relating to current activities | AP4: EDPR:Oil Filled Equipment Score | AQ4: Comment | AR4: Likelihood of Contamination (Adopt highest) | AS4: PCB Oil (> LOR) | AT4: Mineral and/or hydraulic oil | AU4: Batteries | AV4: Fuel Storage / Generators | AW4: Chemicals (i.e. herbicides, pesticides, solvents etc.) | AX4: SF6 Gas Cylinders | AY4: LPG Gas Assets / Cylinders | AZ4: Stockpiles | BA4: On-site Septic Systems | BB4: UST | BC4: Landfilling | BD4: Asbestos (in soil) | BE4: On-Site Containment | BF4: Default | BG4: Mercury | BH4: NAPL | BI4: HIL/HSL Exceedances | BJ4: Lead Paint | BK4: Deluge Systems | BL4: Firefighting Foams | BM4: Environmental Impacts | BN4: Human Health and Wellbeing | BO4: Surrounding Land Users | BP4: Off-site Drainage Discharge (Y/N) | BQ4: Surrounding Groundwater Users | BR4: Existing GW Users within 500m | BS4: Surrounding Ecosystems (currently from site factor but can be refined based on each location) | BT4: Inherent Consequence of Contamination | BU4: Updated Risk (based on findings from DtM and WQIP programs completed to date) | BV4: Previous Risk Assessment (All factors) MANUAL INPUT Reference Purposes Only | BW4: Column1 | BX4: Management Driver | BY4: Comments | BZ4: Potential Notification Trigger | CA4: Notification Driver | CB4: Potential Stockpile Sampling | CC4: Potential Drainage Assessment | CD4: Recommended Actions | CE4: Upgrades | CF4: Upgrade - Comments | CG4: Rebuild | CH4: Rebuild - Comments | CI4: Further Work Required | CJ4: Site Environmental Management Plan2 | CK4: Soft Copy Documents | CL4: Hard copy documents | CM4: EPA | CN4: 1) No. Of Transformers or other oil filled equipment | CO4: 2) Oil Leak Condition | CP4: 3) Bunding Rating | CQ4: 3b) Oil/water separator and shut off valve | CR4: Site Condition Score | CS4: Site Condition Score (Rounded) LIKELIHOOD | CT4: 4) Current Use of Surrounding Land | CU4: 5) Site Factor and Waterways | CV4: Relative Criticality Score (Average) | CW4: Relative Criticality Score (Rounded) CONSEQUENCE | CX4: LAND CONTAMINATION RISK RATING | CY4: ZSS RATING 2018 | CZ4: Other notes | DA4: Transformer details (Red < 1990) Station Service | DB4: Incidents | DC4: Enablon/IMS Incidents | DD4: Site Activity | DE4: SF6 sources | DF4: Gas cylinders | DG4: Dust | DH4: Spoil Stockpiles | DI4: Noise | DJ4: Visual | DK4: Odours | DL4: Diesel Generators | DM4: Waste | DN4: Weeds | DO4: Batteries | DP4: Chemicals | DQ4: CO2 emissions | DR4: Site information (from 2002) | DS4: Buildings 2002 | DT4: PROJECTS (From Electricity Networks Works Program FY18-FY22) | DU4: Asset Type | DV4: Region | DW4: Assessed by | DX4: Site Environmental Risk Rating | DY4: Condition Assessment (AusNet, Nov 2024) | DZ4: Condition Assessment (AusNet, Nov 2024) | EA4: Remote site? (how to define) - outside of Greater Melbourne or regional centre | EB4: Step 1: Validate Risk Ratings (is risk being driven by lack of information) | EC4: Step 2: Identify the risk drivers that are resulting in the risk ratings (for example, condition of oil filled equipment, presence/ absence/ type of oil filled equipment bunding, type of technology being used) | ED4: Step 3: Possible upgrades/ improvements to remove risk drivers/ reduce risk rating, description | EE4: UST removal, validation, environmental sampling and report. | EF4: Bund cleaning (per site) | EG4: Bund integrity check (per site) | EH4: Transformer/ circuit breaker service, leak repair. Not Calculating. | EI4: Holding tank clean out and liquid disposal (150kL liquid, 10kL sludge) | EJ4: GAC system fit out and annual carbon filter change (1 year). | EK4: Septic tank service | EL4: Replace bunds from brick to concrete | EM4: Decommission and remove holding tank | EN4: Install new/ temporary holding tank | EO4: Install shut off valve. | EP4: Hardstand install (not transformer bund) | EQ4: Drainage reconfiguration | ER4: Puraceptor service | ES4: Containnated Soil | ET4: Holding tank alarm | EU4: Install puraceptor | EV4: Cost (approx, ex GST)
A5: Depot, Office and Warehouse Storage | B5: Alexandra Depot | C5: TBC Alex Depot | E5: 2 Bayley St, Alexandra, Victoria 3714 | F5: 1\LP26252 | G5: -37.191028 | H5: 145.70783 | I5: AusNet Services | J5: Downer | K5: Leased | L5: Active | M5: DOWNER REMOVE | N5: No assessment needed | Q5: N/A | Z5: =IF(OR(U5<>"",T5<>""),5,IF(S5<>"",4,IF(R5<>"",3,IF(Q5="Yes",2,1)))) -> 1 | AG5: 2 | AI5: 1 | AJ5: 1 | AK5: 4 | AL5: 5 | AM5: =MAX(AK5,AL5) -> 5 | AN5: {=IF(OR(AJ5="0",AM5="0"),"",INDEX('[3]Oil Matrix'!$D$6:$H$10,'Master All_TRR_TS'!AM5,'Master All_TRR_TS'!AJ5))} -> 3 | AO5: =CS5 -> 0 | AR5: =MAX(Risk_Assessment6[[#This Row],[2) Oil Leak Condition]:[3b) Oil/water separator and shut off valve]]) -> 5 | AS5: None | BF5: Yes | BM5: {=MAX(IF(ISBLANK(AS5:BL5),"",VLOOKUP(AS5:BL5,'[3]Impact Factor'!B:D,2,FALSE)))} -> 2 | BN5: {=MAX(IF(ISBLANK(AS5:BL5),"",VLOOKUP(AS5:BL5,'[3]Impact Factor'!B:D,3,FALSE)))} -> 2 | BT5: {=IF(SUM(BM5:BS5)=0,"N/A",_xlfn.IFS(AND((SUM(BM5:BN5)>0),(SUM(BO5:BS5)>0)),ROUND((($BM$3*MAX(BM5:BN5))+($BO$3*MAX(BO5:BS5))),0),AND(OR(BM5:BN5=0,ISERROR(BM5:BN5)),(SUM(BO5:BS5)>0)), MAX(BO5:BS5),AND((SUM(BO5:BS5)=0),(SUM(BM5:BN5)>0)),MAX(BM5:BN5)))} -> 2 | BU5: {=IF(OR(AR5="N/A", BT5="N/A"), "", INDEX([3]Methodology!$D$3:$H$7,'Master All_TRR_TS'!AR45,'Master All_TRR_TS'!BT45))} -> C | BV5: D | BW5: =IF(AND(AR5>2,BT5>2),"Yes", "No") -> No | BZ5: =IF(COUNT(AR5,BT5)=2,(IF(AND(AR5>=3,#REF!>=3),"Y","")),"") -> #REF! | CB5: =IF(Risk_Assessment6[[#This Row],[Stockpiles]]="Spoil / Waste", "Y", "") | CC5: =IF(Risk_Assessment6[[#This Row],[Off-site Drainage Discharge (Y/N)]]="Yes", "Y", "") | CN5: 0 | CO5: 0 | CP5: 0 | CQ5: 0 | CS5: =ROUND(CR5,0) -> 0 | CT5: 0 | CU5: 0 | CV5: =AVERAGE(CT5:CU5) -> 0 | CW5: =ROUND(CV5,0) -> 0 | CX5: 1 Rare: E | CY5: N/A | CZ5: Site located on farmland. Shared site AST/APA. Cattle onsite around compound. | DA5: N/A | DB5: No | DD5: City Gate | DE5: No | DF5: Yes | DG5: No | DH5: No | DI5: No | DJ5: No | DK5: No | DL5: No | DM5: No | DN5: No | DO5: Yes | DP5: No | DQ5: Yes | DU5: N/A | DV5: West | DW5: TBC | DX5: TBC
A6: City Gate | B6: Allansford City Gate | C6: ALLA | E6: Government Rd, Allansford, Victoria 3277 | F6: None | G6: -38.385468 | H6: 142.59085 | I6: TBC | J6: TBC | K6: FREEHOLD | L6: ACTIVE | M6: Done | N6: Yes / Yes | O6: 44151 | P6: Tony W. | Q6: Yes | Z6: =IF(OR(U6<>"",T6<>""),5,IF(S6<>"",4,IF(R6<>"",3,IF(Q6="Yes",2,1)))) -> 2 | AG6: 2 | AI6: 1 | AJ6: 1 | AK6: 4 | AL6: 5 | AM6: =MAX(AK6,AL6) -> 5 | AN6: {=IF(OR(AJ6="0",AM6="0"),"",INDEX('[3]Oil Matrix'!$D$6:$H$10,'Master All_TRR_TS'!AM6,'Master All_TRR_TS'!AJ6))} -> 3 | AO6: =CS6 -> 1 | AQ6: Routine inspections and reporting | AR6: =MAX(Risk_Assessment6[[#This Row],[2) Oil Leak Condition]:[3b) Oil/water separator and shut off valve]]) -> 5 | AS6: None | AT6: None | AU6: Yes | AV6: None | AW6: None | AX6: Yes - Small Volume | AY6: None | AZ6: None | BF6: No | BM6: {=MAX(IF(ISBLANK(AS6:BL6),"",VLOOKUP(AS6:BL6,'[3]Impact Factor'!B:D,2,FALSE)))} -> 2 | BN6: {=MAX(IF(ISBLANK(AS6:BL6),"",VLOOKUP(AS6:BL6,'[3]Impact Factor'!B:D,3,FALSE)))} -> 2 | BT6: {=IF(SUM(BM6:BS6)=0,"N/A",_xlfn.IFS(AND((SUM(BM6:BN6)>0),(SUM(BO6:BS6)>0)),ROUND((($BM$3*MAX(BM6:BN6))+($BO$3*MAX(BO6:BS6))),0),AND(OR(BM6:BN6=0,ISERROR(BM6:BN6)),(SUM(BO6:BS6)>0)), MAX(BO6:BS6),AND((SUM(BO6:BS6)=0),(SUM(BM6:BN6)>0)),MAX(BM6:BN6)))} -> 2 | BU6: {=IF(OR(AR6="N/A", BT6="N/A"), "", INDEX([3]Methodology!$D$3:$H$7,'Master All_TRR_TS'!AR75,'Master All_TRR_TS'!BT75))} -> C | BV6: D | BW6: =IF(AND(AR6>2,BT6>2),"Yes", "No") -> No | BZ6: =IF(COUNT(AR6,BT6)=2,(IF(AND(AR6>=3,#REF!>=3),"Y","")),"") -> #REF! | CB6: =IF(Risk_Assessment6[[#This Row],[Stockpiles]]="Spoil / Waste", "Y", "") | CC6: =IF(Risk_Assessment6[[#This Row],[Off-site Drainage Discharge (Y/N)]]="Yes", "Y", "") | CN6: 1 | CO6: 1 | CP6: 1 | CQ6: 1 | CR6: =IF(CO6>2.9,MAX(CO6,CP6),CO6) -> 1 | CS6: =ROUND(CR6,0) -> 1 | CT6: 3 | CU6: 1 | CV6: =AVERAGE(CT6:CU6) -> 2 | CW6: =ROUND(CV6,0) -> 2 | CX6: 2 Rare: E | CY6: N/A | CZ6: Shared site AST/APA | DA6: N/A | DB6: No | DD6: City Gate | DE6: No | DF6: No | DG6: No | DH6: No | DI6: No | DJ6: No | DK6: No | DL6: No | DM6: No | DN6: No | DO6: Yes | DP6: No | DQ6: Yes | DU6: N/A | DV6: West | DW6: TBC | DX6: TBC
A7: Terminal Station | B7: Altona TS (ATS) | C7: TS-ATSX | D7: Central | E7: 130 Cherry Lane, Laverton North, Victoria, 3026 | F7: 1\TP758680 | G7: -37.839576 | H7: 144.78964 | I7: TBC | J7: TBC | K7: Freehold | L7: Active | M7: 44001 | N7: Yes / Yes | O7: 44001 | P7: A Ryan | Q7: Yes | R7: Yes | T7: AusNet, Transmission Sites, Portfolio EMP | X7: SKM - Groundwater Assessment (2001). GeoEng - Environmental Risk Audit for Bunding and Stormwater System Compliance (2002). GHD - Environmental Inspections, Maintenance and Tests (2003) | Z7: =IF(OR(U7<>"",T7<>""),5,IF(S7<>"",4,IF(R7<>"",3,IF(Q7="Yes",2,1)))) -> 5 | AA7: 13 | AC7: 3 | AE7: Richmond material transported to site. Also stockpiles on northern boundary of site - contamination status unknown. | AF7: Medium Risk | AG7: 5 | AI7: 1 | AJ7: 1 | AK7: 1 | AL7: 1 | AM7: =MAX(AK7,AL7) -> 1 | AN7: {=IF(OR(AJ7="0",AM7="0"),"",INDEX('[3]Oil Matrix'!$D$6:$H$10,'Master All_TRR_TS'!AM7,'Master All_TRR_TS'!AJ7))} -> 1 | AO7: =CS7 -> 1 | AQ7: Fully compliant sealed bund with puraceptor oil/water separator + shut off valve | AR7: =MAX(Risk_Assessment6[[#This Row],[2) Oil Leak Condition]:[3b) Oil/water separator and shut off valve]]) -> 1 | AS7: <10 kg or <50 mg/kg | AT7: Large | AU7: Yes | AV7: None | AW7: Default Chemicals | AX7: Yes - Small Volume | AY7: Yes - LPG | AZ7: Spoil / Waste | BA7: Yes - Septic | BF7: No | BM7: {=MAX(IF(ISBLANK(AS7:BL7),"",VLOOKUP(AS7:BL7,'[3]Impact Factor'!B:D,2,FALSE)))} -> 4 | BN7: {=MAX(IF(ISBLANK(AS7:BL7),"",VLOOKUP(AS7:BL7,'[3]Impact Factor'!B:D,3,FALSE)))} -> 4 | BO7: 4 | BP7: Yes | BQ7: 4 | BR7: No | BS7: 2 | BT7: {=IF(SUM(BM7:BS7)=0,"N/A",_xlfn.IFS(AND((SUM(BM7:BN7)>0),(SUM(BO7:BS7)>0)),ROUND((($BM$3*MAX(BM7:BN7))+($BO$3*MAX(BO7:BS7))),0),AND(OR(BM7:BN7=0,ISERROR(BM7:BN7)),(SUM(BO7:BS7)>0)), MAX(BO7:BS7),AND((SUM(BO7:BS7)=0),(SUM(BM7:BN7)>0)),MAX(BM7:BN7)))} -> 4 | BU7: {=IF(OR(AR7="N/A", BT7="N/A"), "", INDEX([3]Methodology!$D$3:$H$7,'Master All_TRR_TS'!AR11,'Master All_TRR_TS'!BT11))} -> C | BV7: D | BW7: =IF(AND(AR7>2,BT7>2),"Yes", "No") -> No | BX7: Potential contaminating activities. | BZ7: =IF(COUNT(AR7,BT7)=2,(IF(AND(AR7>=3,#REF!>=3),"Y","")),"") -> #REF! | CA7: Operational areas are sealed and stockpiles comprise clean fill imported from Richmond. Therefore no Duty to Notify. | CB7: =IF(Risk_Assessment6[[#This Row],[Stockpiles]]="Spoil / Waste", "Y", "") -> Y | CC7: =IF(Risk_Assessment6[[#This Row],[Off-site Drainage Discharge (Y/N)]]="Yes", "Y", "") -> Y | CD7: PSI with limited soil sampling program. GME from existing wells. | CJ7: AusNet, Transmission Sites, Portfolio EMP | CL7: SKM - Groundwater Assessment (2001). GeoEng - Environmental Risk Audit for Bunding and Stormwater System Compliance (2002). GHD - Environmental Inspections, Maintenance and Tests (2003) | CN7: 1 | CO7: 1 | CP7: 1 | CQ7: 1 | CR7: =IF(CO7>2.9,MAX(CO7,CP7),CO7) -> 1 | CS7: =ROUND(CR7,0) -> 1 | CT7: 3 | CU7: 1 | CV7: =AVERAGE(CT7:CU7) -> 2 | CW7: =ROUND(CV7,0) -> 2 | CX7: 2 Rare: E | CY7: N/A | CZ7: Shared site AST/APA | DA7: N/A | DB7: No | DD7: City Gate | DE7: No | DF7: No | DG7: No | DH7: No | DI7: No | DJ7: No | DK7: No | DL7: No | DM7: No | DN7: No | DO7: Yes | DP7: No | DQ7: Yes | DU7: N/A | DV7: West | DW7: TBC | DX7: TBC | DY7: C2 | DZ7: Enviro - one above ground stormwater isolation valve in place | EA7: N | EB7: Confidence 5/5. Soil classification works completed in 2022 and 2023. | EC7: Risk driven by current chemicals and storage of materials on site (results in a higher consequence of contamination). Bund is fully compliant and sealed. Consequence of contamination is high - mainly driven by proximity to environmental receptors. | ED7: 1. Site inspection to confirm bund and leak status, storage of chemicals and other potential environmental hazards. | EV7: C-I-C
A8: City Gate | B8: Ararat City Gate | C8: ARAR | E8: 5818 Pyrenees Hwy, Ararat VIC 3377 | F8: None | G8: -37.260078 | H8: 142.96614 | I8: TBC | J8: TBC | K8: TBC | L8: TBC | M8: Uploaded 14/03 | N8: Yes / Yes | O8: 44252 | P8: Tony W. | Q8: Yes | Z8: =IF(OR(U8<>"",T8<>""),5,IF(S8<>"",4,IF(R8<>"",3,IF(Q8="Yes",2,1)))) -> 2 | AG8: 2 | AI8: 1 | AJ8: 1 | AK8: 4 | AL8: 5 | AM8: =MAX(AK8,AL8) -> 5 | AN8: {=IF(OR(AJ8="0",AM8="0"),"",INDEX('[3]Oil Matrix'!$D$6:$H$10,'Master All_TRR_TS'!AM8,'Master All_TRR_TS'!AJ8))} -> 3 | AO8: =CS8 -> 1 | AQ8: Routine inspections and reporting | AR8: =MAX(Risk_Assessment6[[#This Row],[2) Oil Leak Condition]:[3b) Oil/water separator and shut off valve]]) -> 5 | AS8: None | AT8: None | AU8: Yes | AV8: None | AW8: None | AX8: None | AY8: None | AZ8: None | BA8: None | BF8: No | BM8: {=MAX(IF(ISBLANK(AS8:BL8),"",VLOOKUP(AS8:BL8,'[3]Impact Factor'!B:D,2,FALSE)))} -> 2 | BN8: {=MAX(IF(ISBLANK(AS8:BL8),"",VLOOKUP(AS8:BL8,'[3]Impact Factor'!B:D,3,FALSE)))} -> 2 | BO8: 3 | BS8: 1 | BT8: {=IF(SUM(BM8:BS8)=0,"N/A",_xlfn.IFS(AND((SUM(BM8:BN8)>0),(SUM(BO8:BS8)>0)),ROUND((($BM$3*MAX(BM8:BN8))+($BO$3*MAX(BO8:BS8))),0),AND(OR(BM8:BN8=0,ISERROR(BM8:BN8)),(SUM(BO8:BS8)>0)), MAX(BO8:BS8),AND((SUM(BO8:BS8)=0),(SUM(BM8:BN8)>0)),MAX(BM8:BN8)))} -> 2 | BU8: {=IF(OR(AR8="N/A", BT8="N/A"), "", INDEX([3]Methodology!$D$3:$H$7,'Master All_TRR_TS'!AR221,'Master All_TRR_TS'!BT221))} -> C | BV8: D | BW8: =IF(AND(AR8>2,BT8>2),"Yes", "No") -> No | BZ8: =IF(COUNT(AR8,BT8)=2,(IF(AND(AR8>=3,#REF!>=3),"Y","")),"") -> #REF! | CB8: =IF(Risk_Assessment6[[#This Row],[Stockpiles]]="Spoil / Waste", "Y", "") | CC8: =IF(Risk_Assessment6[[#This Row],[Off-site Drainage Discharge (Y/N)]]="Yes", "Y", "") | CN8: 1 | CO8: 1 | CP8: 1 | CQ8: 1 | CR8: =IF(CO8>2.9,MAX(CO8,CP8),CO8) -> 1 | CS8: =ROUND(CR8,0) -> 1 | CT8: 3 | CU8: 2 | CV8: =AVERAGE(CT8:CU8) -> 2.5 | CW8: =ROUND(CV8,0) -> 3 | CX8: 3 Rare: D | CY8: N/A | CZ8: Spoon drain crossing front of compound on roadway. Shared compound AST/APA | DA8: N/A | DB8: No | DD8: City Gate | DE8: No | DF8: No | DG8: No | DH8: No | DI8: No | DJ8: No | DK8: No | DL8: No | DM8: No | DN8: No | DO8: Yes | DP8: No | DQ8: Yes | DU8: N/A | DV8: West | DW8: TBC | DX8: TBC | EV8: C-I-C
A9: Ex Gas Works Site | B9: Ararat Former Gas Works Site | C9: TBC - Ararat | E9: 26-28 Grano Street, Ararat, Victoria, 3377 | F9: 2~55\PP5017 & 3~55\PP5017 | G9: -37.280103 | H9: 142.94688 | I9: AusNet Services | M9: Documentation to Dan/Will. Not in Sharepoint list | N9: assessment complete - to do | Q9: Yes | T9: AusNet - Ararat Site Management Plan (SMP) | U9: Yes | V9: Pollution Abatement Notice / Clean Up Notice and associated correspondence (2006) | W9: Coffey - Environmental Audit Report: Former Ararat Gasworks (2012) | Z9: =IF(OR(U9<>"",T9<>""),5,IF(S9<>"",4,IF(R9<>"",3,IF(Q9="Yes",2,1)))) -> 5 | AC9: 5 | AD9: 2 | AE9: CUTEP Complete | AG9: 1 | AI9: 1 | AJ9: 1 | AK9: 4 | AL9: 5 | AM9: =MAX(AK9,AL9) -> 5 | AN9: {=IF(OR(AJ9="0",AM9="0"),"",INDEX('[3]Oil Matrix'!$D$6:$H$10,'Master All_TRR_TS'!AM9,'Master All_TRR_TS'!AJ9))} -> 3 | AO9: =CS9 -> 1 | AR9: =MAX(Risk_Assessment6[[#This Row],[2) Oil Leak Condition]:[3b) Oil/water separator and shut off valve]]) -> 5 | AS9: None | AT9: Oil Default | BF9: No | BM9: {=MAX(IF(ISBLANK(AS9:BL9),"",VLOOKUP(AS9:BL9,'[3]Impact Factor'!B:D,2,FALSE)))} -> 3 | BN9: {=MAX(IF(ISBLANK(AS9:BL9),"",VLOOKUP(AS9:BL9,'[3]Impact Factor'!B:D,3,FALSE)))} -> 2 | BT9: {=IF(SUM(BM9:BS9)=0,"N/A",_xlfn.IFS(AND((SUM(BM9:BN9)>0),(SUM(BO9:BS9)>0)),ROUND((($BM$3*MAX(BM9:BN9))+($BO$3*MAX(BO9:BS9))),0),AND(OR(BM9:BN9=0,ISERROR(BM9:BN9)),(SUM(BO9:BS9)>0)), MAX(BO9:BS9),AND((SUM(BO9:BS9)=0),(SUM(BM9:BN9)>0)),MAX(BM9:BN9)))} -> 3 | BU9: {=IF(OR(AR9="N/A", BT9="N/A"), "", INDEX([3]Methodology!$D$3:$H$7,'Master All_TRR_TS'!AR125,'Master All_TRR_TS'!BT125))} -> C | BV9: D | BW9: =IF(AND(AR9>2,BT9>2),"Yes", "No") -> Yes | BZ9: =IF(COUNT(AR9,BT9)=2,(IF(AND(AR9>=3,#REF!>=3),"Y","")),"") -> #REF! | CB9: =IF(Risk_Assessment6[[#This Row],[Stockpiles]]="Spoil / Waste", "Y", "") | CC9: =IF(Risk_Assessment6[[#This Row],[Off-site Drainage Discharge (Y/N)]]="Yes", "Y", "") | CJ9: AusNet - Ararat Site Management Plan (SMP) | CK9: Coffey - Environmental Audit Report: Former Ararat Gasworks (2012) | CM9: Pollution Abatement Notice / Clean Up Notice and associated correspondence (2006) | CN9: 1 | CO9: 1 | CP9: 2 | CQ9: 3 | CR9: =IF(CO9>2.9,MAX(CO9,CP9),CO9) -> 1 | CS9: =ROUND(CR9,0) -> 1 | CT9: 2 | CU9: 4 | CV9: =AVERAGE(CT9:CU9) -> 3 | CW9: =ROUND(CV9,0) -> 3 | CX9: 3 Rare: D | CY9: N/A | CZ9: Shared site AST/APA | DA9: N/A | DB9: No | DD9: City Gate | DE9: No | DF9: No | DG9: No | DH9: No | DI9: No | DJ9: No | DK9: No | DL9: No | DM9: No | DN9: No | DO9: Yes | DP9: No | DQ9: Yes | DU9: N/A | DV9: West | DW9: TBC | DX9: TBC | EV9: C-I-C
A10: Comms Site | B10: Arthurs Seat Comms Site (ASET) | C10: TC-ASETXXXX | E10: 27 Steane Ave, Dromana, Victoria 3926 | F10: 27\LP13438 | G10: -38.35425 | H10: 144.95086 | I10: TBC | J10: TBC | K10: Freehold | L10: Active | M10: Done | N10: Yes / Yes | O10: 43992 | P10: A Ryan | Q10: Yes | Z10: =IF(OR(U10<>"",T10<>""),5,IF(S10<>"",4,IF(R10<>"",3,IF(Q10="Yes",2,1)))) -> 2 | AG10: 2 | AJ10: 3 | AK10: 4 | AL10: 5 | AM10: =MAX(AK10,AL10) -> 5 | AN10: {=IF(OR(AJ10="0",AM10="0"),"",INDEX('[3]Oil Matrix'!$D$6:$H$10,'Master All_TRR_TS'!AM10,'Master All_TRR_TS'!AJ10))} -> 4 | AO10: =CS10 -> 5 | AQ10: 6 or 12 monthly inspection program | AR10: =MAX(Risk_Assessment6[[#This Row],[2) Oil Leak Condition]:[3b) Oil/water separator and shut off valve]]) -> 5 | AS10: None | AT10: None | AU10: Yes | AV10: None | AW10: None | AX10: None | AY10: None | AZ10: None | BF10: No | BM10: {=MAX(IF(ISBLANK(AS10:BL10),"",VLOOKUP(AS10:BL10,'[3]Impact Factor'!B:D,2,FALSE)))} -> 2 | BN10: {=MAX(IF(ISBLANK(AS10:BL10),"",VLOOKUP(AS10:BL10,'[3]Impact Factor'!B:D,3,FALSE)))} -> 2 | BO10: 5 | BS10: 4 | BT10: {=IF(SUM(BM10:BS10)=0,"N/A",_xlfn.IFS(AND((SUM(BM10:BN10)>0),(SUM(BO10:BS10)>0)),ROUND((($BM$3*MAX(BM10:BN10))+($BO$3*MAX(BO10:BS10))),0),AND(OR(BM10:BN10=0,ISERROR(BM10:BN10)),(SUM(BO10:BS10)>0)), MAX(BO10:BS10),AND((SUM(BO10:BS10)=0),(SUM(BM10:BN10)>0)),MAX(BM10:BN10)))} -> 3 | BU10: {=IF(OR(AR10="N/A", BT10="N/A"), "", INDEX([3]Methodology!$D$3:$H$7,'Master All_TRR_TS'!AR203,'Master All_TRR_TS'!BT203))} -> C | BV10: D | BW10: =IF(AND(AR10>2,BT10>2),"Yes", "No") -> Yes | BZ10: =IF(COUNT(AR10,BT10)=2,(IF(AND(AR10>=3,#REF!>=3),"Y","")),"") -> #REF! | CB10: =IF(Risk_Assessment6[[#This Row],[Stockpiles]]="Spoil / Waste", "Y", "") | CC10: =IF(Risk_Assessment6[[#This Row],[Off-site Drainage Discharge (Y/N)]]="Yes", "Y", "") | CN10: 2 | CO10: 5 | CP10: 1 | CQ10: 3 | CR10: =IF(CO10>2.9,MAX(CO10,CP10),CO10) -> 5 | CS10: =ROUND(CR10,0) -> 5 | CT10: 3 | CU10: 1 | CV10: =AVERAGE(CT10:CU10) -> 2 | CW10: =ROUND(CV10,0) -> 2 | CX10: 2 Rare: E | CY10: N/A | CZ10: Shared site AST/APA | DA10: N/A | DB10: No | DD10: City Gate | DE10: No | DF10: No | DG10: No | DH10: No | DI10: No | DJ10: No | DK10: No | DL10: No | DM10: No | DN10: No | DO10: Yes | DP10: No | DQ10: Yes | DU10: N/A | DV10: West | DW10: TBC | DX10: TBC | EV10: C-I-C
A11: Depot, Office and Warehouse Storage | B11: Auburn Laboratory and Office | C11: TBC Auburn Depot | E11: 28 Raglan Road, Auburn NSW 2144 | F11: None | G11: -33.873869 | H11: 151.02164 | I11: TBC | J11: TBC | K11: Leased | L11: Active | M11: Interstate | N11: No assessment needed | Q11: N/A | Z11: =IF(OR(U11<>"",T11<>""),5,IF(S11<>"",4,IF(R11<>"",3,IF(Q11="Yes",2,1)))) -> 1 | AG11: 2 | AJ11: 1 | AK11: 4 | AL11: 5 | AM11: =MAX(AK11,AL11) -> 5 | AN11: {=IF(OR(AJ11="0",AM11="0"),"",INDEX('[3]Oil Matrix'!$D$6:$H$10,'Master All_TRR_TS'!AM11,'Master All_TRR_TS'!AJ11))} -> 3 | AO11: =CS11 -> 1 | AR11: =MAX(Risk_Assessment6[[#This Row],[2) Oil Leak Condition]:[3b) Oil/water separator and shut off valve]]) -> 5 | AS11: None | BF11: Yes | BM11: {=MAX(IF(ISBLANK(AS11:BL11),"",VLOOKUP(AS11:BL11,'[3]Impact Factor'!B:D,2,FALSE)))} -> 2 | BN11: {=MAX(IF(ISBLANK(AS11:BL11),"",VLOOKUP(AS11:BL11,'[3]Impact Factor'!B:D,3,FALSE)))} -> 2 | BT11: {=IF(SUM(BM11:BS11)=0,"N/A",_xlfn.IFS(AND((SUM(BM11:BN11)>0),(SUM(BO11:BS11)>0)),ROUND((($BM$3*MAX(BM11:BN11))+($BO$3*MAX(BO11:BS11))),0),AND(OR(BM11:BN11=0,ISERROR(BM11:BN11)),(SUM(BO11:BS11)>0)), MAX(BO11:BS11),AND((SUM(BO11:BS11)=0),(SUM(BM11:BN11)>0)),MAX(BM11:BN11)))} -> 2 | BU11: {=IF(OR(AR11="N/A", BT11="N/A"), "", INDEX([3]Methodology!$D$3:$H$7,'Master All_TRR_TS'!AR53,'Master All_TRR_TS'!BT53))} -> C | BV11: D | BW11: =IF(AND(AR11>2,BT11>2),"Yes", "No") -> No | BZ11: =IF(COUNT(AR11,BT11)=2,(IF(AND(AR11>=3,#REF!>=3),"Y","")),"") -> #REF! | CB11: =IF(Risk_Assessment6[[#This Row],[Stockpiles]]="Spoil / Waste", "Y", "") | CC11: =IF(Risk_Assessment6[[#This Row],[Off-site Drainage Discharge (Y/N)]]="Yes", "Y", "") | CN11: 1 | CO11: 1 | CP11: 5 | CQ11: 1 | CR11: =IF(CO11>2.9,MAX(CO11,CP11),CO11) -> 1 | CS11: =ROUND(CR11,0) -> 1 | CT11: 2 | CU11: 4 | CV11: =AVERAGE(CT11:CU11) -> 3 | CW11: =ROUND(CV11,0) -> 3 | CX11: 3 Rare: D | CY11: N/A | CZ11: Shared site AST/APA | DA11: N/A | DB11: No | DD11: City Gate | DE11: No | DF11: Yes | DG11: No | DH11: No | DI11: No | DJ11: No | DK11: No | DL11: No | DM11: No | DN11: No | DO11: Yes | DP11: No | DQ11: Yes | DU11: N/A | DV11: West | DW11: TBC | DX11: TBC | EV11: C-I-C
A12: City Gate | B12: Avalon City Gate | C12: AVAL | E12: Beach Rd, Avalon VIC 3212 | F12: None | G12: -38.0173 | H12: 144.47585 | I12: TBC | J12: TBC | K12: Licensed | L12: Active | M12: Done | N12: Yes / Yes | O12: 44151 | P12: Tony W. | Q12: Yes | Z12: =IF(OR(U12<>"",T12<>""),5,IF(S12<>"",4,IF(R12<>"",3,IF(Q12="Yes",2,1)))) -> 2 | AG12: 2 | AI12: Check | AJ12: 4 | AK12: 4 | AL12: 5 | AM12: =MAX(AK12,AL12) -> 5 | AN12: {=IF(OR(AJ12="0",AM12="0"),"",INDEX('[3]Oil Matrix'!$D$6:$H$10,'Master All_TRR_TS'!AM12,'Master All_TRR_TS'!AJ12))} -> 5 | AO12: =CS12 -> 1 | AQ12: Routine inspections and reporting | AR12: =MAX(Risk_Assessment6[[#This Row],[2) Oil Leak Condition]:[3b) Oil/water separator and shut off valve]]) -> 5 | AS12: None | AT12: None | AU12: Yes | AV12: None | AW12: None | AX12: None | AY12: None | AZ12: None | BF12: No | BM12: {=MAX(IF(ISBLANK(AS12:BL12),"",VLOOKUP(AS12:BL12,'[3]Impact Factor'!B:D,2,FALSE)))} -> 2 | BN12: {=MAX(IF(ISBLANK(AS12:BL12),"",VLOOKUP(AS12:BL12,'[3]Impact Factor'!B:D,3,FALSE)))} -> 2 | BO12: 3 | BS12: 1 | BT12: {=IF(SUM(BM12:BS12)=0,"N/A",_xlfn.IFS(AND((SUM(BM12:BN12)>0),(SUM(BO12:BS12)>0)),ROUND((($BM$3*MAX(BM12:BN12))+($BO$3*MAX(BO12:BS12))),0),AND(OR(BM12:BN12=0,ISERROR(BM12:BN12)),(SUM(BO12:BS12)>0)), MAX(BO12:BS12),AND((SUM(BO12:BS12)=0),(SUM(BM12:BN12)>0)),MAX(BM12:BN12)))} -> 2 | BU12: {=IF(OR(AR12="N/A", BT12="N/A"), "", INDEX([3]Methodology!$D$3:$H$7,'Master All_TRR_TS'!AR193,'Master All_TRR_TS'!BT193))} -> A | BV12: E | BW12: =IF(AND(AR12>2,BT12>2),"Yes", "No") -> No | BZ12: =IF(COUNT(AR12,BT12)=2,(IF(AND(AR12>=3,#REF!>=3),"Y","")),"") -> #REF! | CB12: =IF(Risk_Assessment6[[#This Row],[Stockpiles]]="Spoil / Waste", "Y", "") | CC12: =IF(Risk_Assessment6[[#This Row],[Off-site Drainage Discharge (Y/N)]]="Yes", "Y", "") | CN12: 1 | CO12: 1 | CP12: 2 | CQ12: 3 | CR12: =IF(CO12>2.9,MAX(CO12,CP12),CO12) -> 1 | CS12: =ROUND(CR12,0) -> 1 | CT12: 4 | CU12: 1 | CV12: =AVERAGE(CT12:CU12) -> 2.5 | CW12: =ROUND(CV12,0) -> 3 | CX12: 3 Rare: D | CY12: N/A | CZ12: Shared site AST/APA | DA12: N/A | DB12: No | DD12: City Gate | DE12: No | DF12: No | DG12: No | DH12: No | DI12: No | DJ12: No | DK12: No | DL12: No | DM12: No | DN12: No | DO12: Yes | DP12: No | DQ12: Yes | DU12: N/A | DV12: West | DW12: TBC | DX12: TBC | EV12: C-I-C
A13: City Gate | B13: Avoca City Gate | C13: AVOC | E13: Greenhill Ct Bulleen VIC 3105 | F13: None | G13: -37.768507 | H13: 145.0879 | I13: TBC | J13: TBC | K13: TBC | L13: TBC | M13: Complete | N13: Yes / Yes | O13: 44314 | P13: Tony W. | Q13: Yes | Z13: =IF(OR(U13<>"",T13<>""),5,IF(S13<>"",4,IF(R13<>"",3,IF(Q13="Yes",2,1)))) -> 2 | AG13: 2 | AI13: Check | AJ13: 3 | AK13: 4 | AL13: 5 | AM13: =MAX(AK13,AL13) -> 5 | AN13: {=IF(OR(AJ13="0",AM13="0"),"",INDEX('[3]Oil Matrix'!$D$6:$H$10,'Master All_TRR_TS'!AM13,'Master All_TRR_TS'!AJ13))} -> 4 | AO13: =CS13 -> 1 | AQ13: Routine inspections and reporting | AR13: =MAX(Risk_Assessment6[[#This Row],[2) Oil Leak Condition]:[3b) Oil/water separator and shut off valve]]) -> 5 | AS13: None | AT13: None | AU13: Yes | AV13: None | AW13: None | AX13: None | AY13: None | AZ13: None | BA13: None | BF13: No | BM13: {=MAX(IF(ISBLANK(AS13:BL13),"",VLOOKUP(AS13:BL13,'[3]Impact Factor'!B:D,2,FALSE)))} -> 2 | BN13: {=MAX(IF(ISBLANK(AS13:BL13),"",VLOOKUP(AS13:BL13,'[3]Impact Factor'!B:D,3,FALSE)))} -> 2 | BT13: {=IF(SUM(BM13:BS13)=0,"N/A",_xlfn.IFS(AND((SUM(BM13:BN13)>0),(SUM(BO13:BS13)>0)),ROUND((($BM$3*MAX(BM13:BN13))+($BO$3*MAX(BO13:BS13))),0),AND(OR(BM13:BN13=0,ISERROR(BM13:BN13)),(SUM(BO13:BS13)>0)), MAX(BO13:BS13),AND((SUM(BO13:BS13)=0),(SUM(BM13:BN13)>0)),MAX(BM13:BN13)))} -> 2 | BU13: {=IF(OR(AR13="N/A", BT13="N/A"), "", INDEX([3]Methodology!$D$3:$H$7,'Master All_TRR_TS'!AR207,'Master All_TRR_TS'!BT207))} -> D | BV13: E | BW13: =IF(AND(AR13>2,BT13>2),"Yes", "No") -> No | BZ13: =IF(COUNT(AR13,BT13)=2,(IF(AND(AR13>=3,#REF!>=3),"Y","")),"") -> #REF! | CB13: =IF(Risk_Assessment6[[#This Row],[Stockpiles]]="Spoil / Waste", "Y", "") | CC13: =IF(Risk_Assessment6[[#This Row],[Off-site Drainage Discharge (Y/N)]]="Yes", "Y", "") | CN13: 1 | CO13: 1 | CP13: 1 | CQ13: 1 | CR13: =IF(CO13>2.9,MAX(CO13,CP13),CO13) -> 1 | CS13: =ROUND(CR13,0) -> 1 | CT13: 4 | CU13: 1 | CV13: =AVERAGE(CT13:CU13) -> 2.5 | CW13: =ROUND(CV13,0) -> 3 | CX13: 3 Rare: D | CY13: N/A | CZ13: Shared site AST/APA | DA13: N/A | DB13: No | DD13: City Gate | DE13: No | DF13: No | DG13: No | DH13: No | DI13: No | DJ13: No | DK13: No | DL13: No | DM13: No | DN13: No | DO13: Yes | DP13: No | DQ13: Yes | DU13: N/A | DV13: West | DW13: TBC | DX13: TBC | EV13: C-I-C
A14: City Gate | B14: Bacchus Marsh City Gate | C14: BACC | E14: Rowsley Station Road, Bacchus Marsh, Victoria, 3340 | F14: None | G14: -37.71188 | H14: 144.42628 | I14: TBC | J14: TBC | K14: FREEHOLD | L14: ACTIVE | M14: Done | N14: Yes / Yes | O14: 44153 | P14: Tony W. | Q14: Yes | Z14: =IF(OR(U14<>"",T14<>""),5,IF(S14<>"",4,IF(R14<>"",3,IF(Q14="Yes",2,1)))) -> 2 | AG14: 2 | AI14: 3 | AJ14: 5 | AK14: 4 | AL14: 5 | AM14: =MAX(AK14,AL14) -> 5 | AN14: {=IF(OR(AJ14="0",AM14="0"),"",INDEX('[3]Oil Matrix'!$D$6:$H$10,'Master All_TRR_TS'!AM14,'Master All_TRR_TS'!AJ14))} -> 5 | AO14: =CS14 -> 1 | AQ14: Routine inspections and reporting | AR14: =MAX(Risk_Assessment6[[#This Row],[2) Oil Leak Condition]:[3b) Oil/water separator and shut off valve]]) -> 5 | AS14: None | AT14: None | AU14: Yes | AV14: None | AW14: None | AX14: None | AY14: None | AZ14: None | BF14: No | BM14: {=MAX(IF(ISBLANK(AS14:BL14),"",VLOOKUP(AS14:BL14,'[3]Impact Factor'!B:D,2,FALSE)))} -> 2 | BN14: {=MAX(IF(ISBLANK(AS14:BL14),"",VLOOKUP(AS14:BL14,'[3]Impact Factor'!B:D,3,FALSE)))} -> 2 | BO14: 3 | BS14: 1 | BT14: {=IF(SUM(BM14:BS14)=0,"N/A",_xlfn.IFS(AND((SUM(BM14:BN14)>0),(SUM(BO14:BS14)>0)),ROUND((($BM$3*MAX(BM14:BN14))+($BO$3*MAX(BO14:BS14))),0),AND(OR(BM14:BN14=0,ISERROR(BM14:BN14)),(SUM(BO14:BS14)>0)), MAX(BO14:BS14),AND((SUM(BO14:BS14)=0),(SUM(BM14:BN14)>0)),MAX(BM14:BN14)))} -> 2 | BU14: {=IF(OR(AR14="N/A", BT14="N/A"), "", INDEX([3]Methodology!$D$3:$H$7,'Master All_TRR_TS'!AR194,'Master All_TRR_TS'!BT194))} -> C | BV14: E | BW14: =IF(AND(AR14>2,BT14>2),"Yes", "No") -> No | BZ14: =IF(COUNT(AR14,BT14)=2,(IF(AND(AR14>=3,#REF!>=3),"Y","")),"") -> #REF! | CB14: =IF(Risk_Assessment6[[#This Row],[Stockpiles]]="Spoil / Waste", "Y", "") | CC14: =IF(Risk_Assessment6[[#This Row],[Off-site Drainage Discharge (Y/N)]]="Yes", "Y", "") | CN14: 1 | CO14: 1 | CP14: 2 | CQ14: 1 | CR14: =IF(CO14>2.9,MAX(CO14,CP14),CO14) -> 1 | CS14: =ROUND(CR14,0) -> 1 | CT14: 3 | CU14: 1 | CV14: =AVERAGE(CT14:CU14) -> 2 | CW14: =ROUND(CV14,0) -> 2 | CX14: 2 Rare: E | CY14: N/A | CZ14: Odour: possible natural gas. CO2 emissions from Water Bath Heater Shared site AusNet Services and APA. Water tank onsite to capture rain water for heater top up Site located in Parkland beside freeway ramp. | DA14: N/A | DB14: No | DD14: City Gate | DE14: No | DF14: No | DG14: No | DH14: No | DI14: No | DJ14: No | DK14: Yes | DL14: No | DM14: No | DN14: No | DO14: Yes | DP14: No | DQ14: Yes | DU14: N/A | DV14: West | DW14: TBC | DX14: TBC | EV14: C-I-C
A15: Depot, Office and Warehouse Storage | B15: Bairnsdale Depot | C15: WH-0010 | E15: 28 McMillan Street (8 Meringo Place), Bairnsdale VIC 3875 | F15: 1\PS442908 | G15: -37.822673 | H15: 147.65185 | I15: Downer | J15: Downer | K15: Leased | L15: Active | M15: Sharepoint updated. Downer received lease - don't do | N15: No assessment needed | Q15: N/A | Z15: =IF(OR(U15<>"",T15<>""),5,IF(S15<>"",4,IF(R15<>"",3,IF(Q15="Yes",2,1)))) -> 1 | AG15: 2 | AI15: 1 | AJ15: 1 | AK15: 4 | AL15: 5 | AM15: =MAX(AK15,AL15) -> 5 | AN15: {=IF(OR(AJ15="0",AM15="0"),"",INDEX('[3]Oil Matrix'!$D$6:$H$10,'Master All_TRR_TS'!AM15,'Master All_TRR_TS'!AJ15))} -> 3 | AO15: =CS15 -> 1 | AR15: =MAX(Risk_Assessment6[[#This Row],[2) Oil Leak Condition]:[3b) Oil/water separator and shut off valve]]) -> 5 | AS15: None | BF15: Yes | BM15: {=MAX(IF(ISBLANK(AS15:BL15),"",VLOOKUP(AS15:BL15,'[3]Impact Factor'!B:D,2,FALSE)))} -> 2 | BN15: {=MAX(IF(ISBLANK(AS15:BL15),"",VLOOKUP(AS15:BL15,'[3]Impact Factor'!B:D,3,FALSE)))} -> 2 | BT15: {=IF(SUM(BM15:BS15)=0,"N/A",_xlfn.IFS(AND((SUM(BM15:BN15)>0),(SUM(BO15:BS15)>0)),ROUND((($BM$3*MAX(BM15:BN15))+($BO$3*MAX(BO15:BS15))),0),AND(OR(BM15:BN15=0,ISERROR(BM15:BN15)),(SUM(BO15:BS15)>0)), MAX(BO15:BS15),AND((SUM(BO15:BS15)=0),(SUM(BM15:BN15)>0)),MAX(BM15:BN15)))} -> 2 | BU15: {=IF(OR(AR15="N/A", BT15="N/A"), "", INDEX([3]Methodology!$D$3:$H$7,'Master All_TRR_TS'!AR48,'Master All_TRR_TS'!BT48))} -> B | BV15: D | BW15: =IF(AND(AR15>2,BT15>2),"Yes", "No") -> No | BZ15: =IF(COUNT(AR15,BT15)=2,(IF(AND(AR15>=3,#REF!>=3),"Y","")),"") -> #REF! | CB15: =IF(Risk_Assessment6[[#This Row],[Stockpiles]]="Spoil / Waste", "Y", "") | CC15: =IF(Risk_Assessment6[[#This Row],[Off-site Drainage Discharge (Y/N)]]="Yes", "Y", "") | CN15: 1 | CO15: 1 | CP15: 4 | CQ15: 2 | CR15: =IF(CO15>2.9,MAX(CO15,CP15),CO15) -> 1 | CS15: =ROUND(CR15,0) -> 1 | CT15: 4 | CU15: 1 | CV15: =AVERAGE(CT15:CU15) -> 2.5 | CW15: =ROUND(CV15,0) -> 3 | CX15: 3 Rare: D | CY15: N/A | CZ15: Shared site AST/APA | DA15: N/A | DB15: No | DD15: City Gate | DE15: No | DF15: No | DG15: No | DH15: No | DI15: No | DJ15: No | DK15: No | DL15: No | DM15: No | DN15: No | DO15: Yes | DP15: No | DQ15: Yes | DU15: N/A | DV15: West | DW15: TBC | DX15: TBC | EV15: C-I-C
A16: Switchyard | B16: Bairnsdale Switching Station (BDSS) | C16: TBC SS-BDSS | E16: Princes Highway/Mittons Lane (25 Power Station Road), Bairnsdale, Victoria 3875 | F16: 1\PS445149 | G16: -37.844556 | H16: 147.5645 | I16: TBC | J16: TBC | K16: Freehold | L16: Active | M16: Done | N16: Yes / Yes | O16: 44070 | P16: M Snell | Q16: Yes | Z16: =IF(OR(U16<>"",T16<>""),5,IF(S16<>"",4,IF(R16<>"",3,IF(Q16="Yes",2,1)))) -> 2 | AG16: 3 | AH16: Oil containing equipment and batteries | AI16: 1 | AJ16: 1 | AK16: 1 | AL16: 3 | AM16: =MAX(AK16,AL16) -> 3 | AN16: {=IF(OR(AJ16="0",AM16="0"),"",INDEX('[3]Oil Matrix'!$D$6:$H$10,'Master All_TRR_TS'!AM16,'Master All_TRR_TS'!AJ16))} -> 1 | AO16: =CS16 -> 1 | AQ16: Fully compliant sealed bund and basic oil/water separator - no shut off valve | AR16: =MAX(Risk_Assessment6[[#This Row],[2) Oil Leak Condition]:[3b) Oil/water separator and shut off valve]]) -> 3 | AS16: None | AT16: None | AU16: Yes | AV16: None | AW16: None | AX16: Yes - Small Volume | AY16: Yes - LPG | AZ16: None | BA16: None | BF16: No | BM16: {=MAX(IF(ISBLANK(AS16:BL16),"",VLOOKUP(AS16:BL16,'[3]Impact Factor'!B:D,2,FALSE)))} -> 2 | BN16: {=MAX(IF(ISBLANK(AS16:BL16),"",VLOOKUP(AS16:BL16,'[3]Impact Factor'!B:D,3,FALSE)))} -> 2 | BO16: 3 | BS16: 1 | BT16: {=IF(SUM(BM16:BS16)=0,"N/A",_xlfn.IFS(AND((SUM(BM16:BN16)>0),(SUM(BO16:BS16)>0)),ROUND((($BM$3*MAX(BM16:BN16))+($BO$3*MAX(BO16:BS16))),0),AND(OR(BM16:BN16=0,ISERROR(BM16:BN16)),(SUM(BO16:BS16)>0)), MAX(BO16:BS16),AND((SUM(BO16:BS16)=0),(SUM(BM16:BN16)>0)),MAX(BM16:BN16)))} -> 2 | BU16: {=IF(OR(AR16="N/A", BT16="N/A"), "", INDEX([3]Methodology!$D$3:$H$7,'Master All_TRR_TS'!AR191,'Master All_TRR_TS'!BT191))} -> C | BV16: D | BW16: =IF(AND(AR16>2,BT16>2),"Yes", "No") -> No | BZ16: =IF(COUNT(AR16,BT16)=2,(IF(AND(AR16>=3,#REF!>=3),"Y","")),"") -> #REF! | CB16: =IF(Risk_Assessment6[[#This Row],[Stockpiles]]="Spoil / Waste", "Y", "") | CC16: =IF(Risk_Assessment6[[#This Row],[Off-site Drainage Discharge (Y/N)]]="Yes", "Y", "") | CN16: 1 | CO16: 1 | CP16: 1 | CQ16: 1 | CR16: =IF(CO16>2.9,MAX(CO16,CP16),CO16) -> 1 | CS16: =ROUND(CR16,0) -> 1 | CT16: 3 | CU16: 1 | CV16: =AVERAGE(CT16:CU16) -> 2 | CW16: =ROUND(CV16,0) -> 2 | CX16: 2 Rare: E | CY16: N/A | CZ16: Shared site AST/APA | DA16: N/A | DB16: No | DD16: City Gate | DE16: No | DF16: No | DG16: No | DH16: No | DI16: No | DJ16: No | DK16: No | DL16: No | DM16: No | DN16: No | DO16: Yes | DP16: No | DQ16: Yes | DU16: N/A | DV16: West | DW16: TBC | DX16: TBC | EV16: C-I-C
A17: Sub Station | B17: Bairnsdale ZSS (BDL) | C17: DS-BDL | D17: East | E17: 125 Great Alpine Road, Lucknow, Victoria, 3875 | F17: 1\TP245562 & 1\TP246430 | G17: -37.808417 | H17: 147.64817 | I17: TBC | J17: TBC | K17: Freehold | L17: Active | M17: Uploaded 17/03 | N17: Yes / Yes | O17: 44196 | P17: M Snell | Q17: Yes | R17: WSP(2023) | T17: AusNet, Distribution Sites, Portfolio EMP | W17: PSI-WSP (2023), Surface water sampling report-WSP (2024) | Y17: 45292 | Z17: =IF(OR(U17<>"",T17<>""),5,IF(S17<>"",4,IF(R17<>"",3,IF(Q17="Yes",2,1)))) -> 5 | AA17: 5 | AC17: 4 | AD17: 3 | AE17: Concreted over former leaks (2020), oil coming back up | AG17: 5 | AH17: Oil containing equipment and batteries, AusNet has indicated that historical leakage is known to have occurred in 2020 within the transformer area prior to the construction of concrete bunding beneath transformers (previously gravel). It is understood that the contaminated material may have been left in situ beneath the current hardstand area. | AI17: 6 | AJ17: 4 | AK17: 4 | AL17: 5 | AM17: =MAX(AK17,AL17) -> 5 | AN17: {=IF(OR(AJ17="0",AM17="0"),"",INDEX('[3]Oil Matrix'!$D$6:$H$10,'Master All_TRR_TS'!AM17,'Master All_TRR_TS'!AJ17))} -> 5 | AO17: =CS17 -> 1 | AQ17: Brick bund with gravel floor | AR17: =MAX(Risk_Assessment6[[#This Row],[2) Oil Leak Condition]:[3b) Oil/water separator and shut off valve]]) -> 5 | AS17: <10 kg or <50 mg/kg | AT17: Large | AU17: Yes | AV17: None | AW17: None | AX17: None | AY17: None | AZ17: None | BA17: None | BC17: None | BF17: No | BH17: None | BM17: {=MAX(IF(ISBLANK(AS17:BL17),"",VLOOKUP(AS17:BL17,'[3]Impact Factor'!B:D,2,FALSE)))} -> 3 | BN17: {=MAX(IF(ISBLANK(AS17:BL17),"",VLOOKUP(AS17:BL17,'[3]Impact Factor'!B:D,3,FALSE)))} -> 2 | BO17: 3 | BP17: Yes | BR17: No | BS17: 3 | BT17: {=IF(SUM(BM17:BS17)=0,"N/A",_xlfn.IFS(AND((SUM(BM17:BN17)>0),(SUM(BO17:BS17)>0)),ROUND((($BM$3*MAX(BM17:BN17))+($BO$3*MAX(BO17:BS17))),0),AND(OR(BM17:BN17=0,ISERROR(BM17:BN17)),(SUM(BO17:BS17)>0)), MAX(BO17:BS17),AND((SUM(BO17:BS17)=0),(SUM(BM17:BN17)>0)),MAX(BM17:BN17)))} -> 3 | BU17: {=IF(OR(AR17="N/A", BT17="N/A"), "", INDEX([3]Methodology!$D$3:$H$7,'Master All_TRR_TS'!AR47,'Master All_TRR_TS'!BT47))} -> C | BV17: E | BW17: =IF(AND(AR17>2,BT17>2),"Yes", "No") -> Yes | BX17: Historical leakage | BY17: Investigate leakage and condition of hardstand, likely needs targeted sampling in accordance with Duty to Manage. No Duty to Notify | BZ17: =IF(COUNT(AR17,BT17)=2,(IF(AND(AR17>=3,#REF!>=3),"Y","")),"") -> #REF! | CA17: Historical leakages, concreted over former leaks, oil coming back up, however, as sealed exposure not likely, no Duty to Notify | CB17: =IF(Risk_Assessment6[[#This Row],[Stockpiles]]="Spoil / Waste", "Y", "") | CC17: =IF(Risk_Assessment6[[#This Row],[Off-site Drainage Discharge (Y/N)]]="Yes", "Y", "") -> Y | CD17: PSI with limited soil sampling program. | CE17: Yes | CF17: Stage 2 - due 2018 | CJ17: AusNet, Distribution Sites, Portfolio EMP | CN17: 1 | CO17: 1 | CP17: 1 | CQ17: 1 | CR17: =IF(CO17>2.9,MAX(CO17,CP17),CO17) -> 1 | CS17: =ROUND(CR17,0) -> 1 | CT17: 3 | CU17: 1 | CV17: =AVERAGE(CT17:CU17) -> 2 | CW17: =ROUND(CV17,0) -> 2 | CX17: 2 Rare: E | CY17: N/A | CZ17: Shared site AST/APA | DA17: N/A | DB17: No | DD17: City Gate | DE17: No | DF17: No | DG17: No | DH17: No | DI17: No | DJ17: No | DK17: No | DL17: No | DM17: No | DN17: No | DO17: Yes | DP17: No | DQ17: Yes | DU17: N/A | DV17: West | DW17: TBC | DX17: TBC | EV17: C-I-C
A18: City Gate | B18: Ballan City Gate | C18: BALN | E18: Denholmes Rd, Ballan VIC 3342 | F18: None | G18: -37.605583 | H18: 144.22392 | I18: TBC | J18: TBC | K18: FREEHOLD | L18: ACTIVE | M18: Done | N18: Yes / Yes | O18: 44257 | P18: Tony W. | Q18: Yes | Z18: =IF(OR(U18<>"",T18<>""),5,IF(S18<>"",4,IF(R18<>"",3,IF(Q18="Yes",2,1)))) -> 2 | AG18: 2 | AI18: 3 | AJ18: 4 | AK18: 4 | AL18: 5 | AM18: =MAX(AK18,AL18) -> 5 | AN18: {=IF(OR(AJ18="0",AM18="0"),"",INDEX('[3]Oil Matrix'!$D$6:$H$10,'Master All_TRR_TS'!AM18,'Master All_TRR_TS'!AJ18))} -> 5 | AO18: =CS18 -> 1 | AQ18: Routine inspections and reporting | AR18: =MAX(Risk_Assessment6[[#This Row],[2) Oil Leak Condition]:[3b) Oil/water separator and shut off valve]]) -> 5 | AS18: None | AT18: None | AU18: Yes | AV18: None | AW18: None | AX18: None | AY18: None | AZ18: None | BA18: None | BF18: No | BM18: {=MAX(IF(ISBLANK(AS18:BL18),"",VLOOKUP(AS18:BL18,'[3]Impact Factor'!B:D,2,FALSE)))} -> 2 | BN18: {=MAX(IF(ISBLANK(AS18:BL18),"",VLOOKUP(AS18:BL18,'[3]Impact Factor'!B:D,3,FALSE)))} -> 2 | BO18: 4 | BT18: {=IF(SUM(BM18:BS18)=0,"N/A",_xlfn.IFS(AND((SUM(BM18:BN18)>0),(SUM(BO18:BS18)>0)),ROUND((($BM$3*MAX(BM18:BN18))+($BO$3*MAX(BO18:BS18))),0),AND(OR(BM18:BN18=0,ISERROR(BM18:BN18)),(SUM(BO18:BS18)>0)), MAX(BO18:BS18),AND((SUM(BO18:BS18)=0),(SUM(BM18:BN18)>0)),MAX(BM18:BN18)))} -> 2 | BU18: {=IF(OR(AR18="N/A", BT18="N/A"), "", INDEX([3]Methodology!$D$3:$H$7,'Master All_TRR_TS'!AR208,'Master All_TRR_TS'!BT208))} -> C | BV18: E | BW18: =IF(AND(AR18>2,BT18>2),"Yes", "No") -> No | BZ18: =IF(COUNT(AR18,BT18)=2,(IF(AND(AR18>=3,#REF!>=3),"Y","")),"") -> #REF! | CB18: =IF(Risk_Assessment6[[#This Row],[Stockpiles]]="Spoil / Waste", "Y", "") | CC18: =IF(Risk_Assessment6[[#This Row],[Off-site Drainage Discharge (Y/N)]]="Yes", "Y", "") | CN18: 1 | CO18: 1 | CP18: 1 | CQ18: 1 | CR18: =IF(CO18>2.9,MAX(CO18,CP18),CO18) -> 1 | CS18: =ROUND(CR18,0) -> 1 | CT18: 2 | CU18: 1 | CV18: =AVERAGE(CT18:CU18) -> 1.5 | CW18: =ROUND(CV18,0) -> 2 | CX18: 2 Rare: E | CY18: N/A | CZ18: Shared site AST/APA | DA18: N/A | DB18: No | DD18: City Gate | DE18: No | DF18: No | DG18: No | DH18: No | DI18: No | DJ18: No | DK18: No | DL18: No | DM18: No | DN18: No | DO18: Yes | DP18: No | DQ18: Yes | DU18: N/A | DV18: West | DW18: TBC | DX18: TBC | EV18: C-I-C
A19: City Gate | B19: Ballarat City Gate | C19: BALR | E19: Clarks Road, Ballarat, Victoria 3353 | F19: None | G19: -37.567694 | H19: 143.93278 | I19: TBC | J19: TBC | K19: FREEHOLD | L19: ACTIVE | M19: Done | N19: Yes / Yes | O19: 44153 | P19: Tony W. | Q19: Yes | Z19: =IF(OR(U19<>"",T19<>""),5,IF(S19<>"",4,IF(R19<>"",3,IF(Q19="Yes",2,1)))) -> 2 | AG19: 2 | AI19: Check | AJ19: 5 | AK19: 1 | AL19: 1 | AM19: =MAX(AK19,AL19) -> 1 | AN19: {=IF(OR(AJ19="0",AM19="0"),"",INDEX('[3]Oil Matrix'!$D$6:$H$10,'Master All_TRR_TS'!AM19,'Master All_TRR_TS'!AJ19))} -> 3 | AO19: =CS19 -> 1 | AQ19: Routine inspections and reporting | AR19: =MAX(Risk_Assessment6[[#This Row],[2) Oil Leak Condition]:[3b) Oil/water separator and shut off valve]]) -> 5 | AS19: None | AT19: None | AU19: Yes | AV19: None | AW19: None | AX19: None | AY19: None | AZ19: None | BF19: No | BM19: {=MAX(IF(ISBLANK(AS19:BL19),"",VLOOKUP(AS19:BL19,'[3]Impact Factor'!B:D,2,FALSE)))} -> 2 | BN19: {=MAX(IF(ISBLANK(AS19:BL19),"",VLOOKUP(AS19:BL19,'[3]Impact Factor'!B:D,3,FALSE)))} -> 2 | BO19: 3 | BS19: 2 | BT19: {=IF(SUM(BM19:BS19)=0,"N/A",_xlfn.IFS(AND((SUM(BM19:BN19)>0),(SUM(BO19:BS19)>0)),ROUND((($BM$3*MAX(BM19:BN19))+($BO$3*MAX(BO19:BS19))),0),AND(OR(BM19:BN19=0,ISERROR(BM19:BN19)),(SUM(BO19:BS19)>0)), MAX(BO19:BS19),AND((SUM(BO19:BS19)=0),(SUM(BM19:BN19)>0)),MAX(BM19:BN19)))} -> 2 | BU19: {=IF(OR(AR19="N/A", BT19="N/A"), "", INDEX([3]Methodology!$D$3:$H$7,'Master All_TRR_TS'!AR195,'Master All_TRR_TS'!BT195))} -> C | BV19: D | BW19: =IF(AND(AR19>2,BT19>2),"Yes", "No") -> No | BZ19: =IF(COUNT(AR19,BT19)=2,(IF(AND(AR19>=3,#REF!>=3),"Y","")),"") -> #REF! | CB19: =IF(Risk_Assessment6[[#This Row],[Stockpiles]]="Spoil / Waste", "Y", "") | CC19: =IF(Risk_Assessment6[[#This Row],[Off-site Drainage Discharge (Y/N)]]="Yes", "Y", "") | CN19: 1 | CO19: 1 | CP19: 1 | CQ19: 1 | CR19: =IF(CO19>2.9,MAX(CO19,CP19),CO19) -> 1 | CS19: =ROUND(CR19,0) -> 1 | CT19: 2 | CU19: 1 | CV19: =AVERAGE(CT19:CU19) -> 1.5 | CW19: =ROUND(CV19,0) -> 2 | CX19: 2 Rare: E | CY19: N/A | CZ19: Shared site AST/APA | DA19: N/A | DB19: No | DD19: City Gate | DE19: No | DF19: No | DG19: No | DH19: No | DI19: No | DJ19: No | DK19: No | DL19: No | DM19: No | DN19: No | DO19: Yes | DP19: No | DQ19: Yes | DU19: N/A | DV19: West | DW19: TBC | DX19: TBC | EV19: C-I-C
A20: Terminal Station | B20: Ballarat TS (BATS) | C20: TS-BATS | D20: West | E20: yackandandah Road, Dederang, Victoria 3691 (0.5kms from Kiewa Valley) | F20: None | G20: -37.566722 | H20: 143.92167 | I20: TBC | J20: TBC | K20: Freehold | L20: Active | M20: 44026 | N20: Yes / Yes | O20: 44026 | P20: A Ryan | Q20: Yes | R20: Yes | X20: SKM - Groundwater Assessment (2001). GeoEng - Environmental Risk Audit for Bunding and Stormwater System Compliance (2002). GHD - Environmental Inspections, Maintenance and Tests (2003) | Z20: =IF(OR(U20<>"",T20<>""),5,IF(S20<>"",4,IF(R20<>"",3,IF(Q20="Yes",2,1)))) -> 3 | AA20: 6 | AF20: Medium Risk | AG20: 5 | AH20: Oil filled equipment plus battery farm | AI20: 1 | AJ20: 1 | AK20: 1 | AL20: 1 | AM20: =MAX(AK20,AL20) -> 1 | AN20: {=IF(OR(AJ20="0",AM20="0"),"",INDEX('[3]Oil Matrix'!$D$6:$H$10,'Master All_TRR_TS'!AM20,'Master All_TRR_TS'!AJ20))} -> 1 | AO20: =CS20 -> 1 | AQ20: Fully compliant sealed bund with puraceptor oil/water separator + shut off valve, batteries in containment system | AR20: =MAX(Risk_Assessment6[[#This Row],[2) Oil Leak Condition]:[3b) Oil/water separator and shut off valve]]) -> 1 | AS20: >10 kg or >50 mg/kg | AT20: Large | AU20: Yes | AV20: None | AW20: Default Chemicals | AZ20: Spoil / Waste | BF20: No | BM20: {=MAX(IF(ISBLANK(AS20:BL20),"",VLOOKUP(AS20:BL20,'[3]Impact Factor'!B:D,2,FALSE)))} -> 4 | BN20: {=MAX(IF(ISBLANK(AS20:BL20),"",VLOOKUP(AS20:BL20,'[3]Impact Factor'!B:D,3,FALSE)))} -> 4 | BO20: 4 | BS20: 2 | BT20: {=IF(SUM(BM20:BS20)=0,"N/A",_xlfn.IFS(AND((SUM(BM20:BN20)>0),(SUM(BO20:BS20)>0)),ROUND((($BM$3*MAX(BM20:BN20))+($BO$3*MAX(BO20:BS20))),0),AND(OR(BM20:BN20=0,ISERROR(BM20:BN20)),(SUM(BO20:BS20)>0)), MAX(BO20:BS20),AND((SUM(BO20:BS20)=0),(SUM(BM20:BN20)>0)),MAX(BM20:BN20)))} -> 4 | BU20: {=IF(OR(AR20="N/A", BT20="N/A"), "", INDEX([3]Methodology!$D$3:$H$7,'Master All_TRR_TS'!AR14,'Master All_TRR_TS'!BT14))} -> C | BV20: C | BW20: =IF(AND(AR20>2,BT20>2),"Yes", "No") -> No | BZ20: =IF(COUNT(AR20,BT20)=2,(IF(AND(AR20>=3,#REF!>=3),"Y","")),"") -> #REF! | CA20: Stockpiles | CB20: =IF(Risk_Assessment6[[#This Row],[Stockpiles]]="Spoil / Waste", "Y", "") -> Y | CC20: =IF(Risk_Assessment6[[#This Row],[Off-site Drainage Discharge (Y/N)]]="Yes", "Y", "") | CL20: SKM - Groundwater Assessment (2001). GeoEng - Environmental Risk Audit for Bunding and Stormwater System Compliance (2002). GHD - Environmental Inspections, Maintenance and Tests (2003) | CN20: 1 | CO20: 1 | CP20: 1 | CQ20: 1 | CR20: =IF(CO20>2.9,MAX(CO20,CP20),CO20) -> 1 | CS20: =ROUND(CR20,0) -> 1 | CT20: 4 | CU20: 1 | CV20: =AVERAGE(CT20:CU20) -> 2.5 | CW20: =ROUND(CV20,0) -> 3 | CX20: 3 Rare: D | CY20: N/A | CZ20: Shared site AST/APA | DA20: N/A | DB20: No | DD20: City Gate | DE20: No | DF20: No | DG20: No | DH20: No | DI20: No | DJ20: No | DK20: No | DL20: No | DM20: No | DN20: No | DO20: Yes | DP20: No | DQ20: Yes | DU20: N/A | DV20: West | DW20: TBC | DX20: TBC | DY20: C3 | DZ20: Enviro - one above ground system, was an issue of ground water seeping into holding tank, stormwater isolation valves fitted | EA20: N | EB20: Confidence 3/5. Cell DZ20L: Is groundwater shallow or is it perched around the holding tank? | EC20: Risk driven by presence of oil filled equipment and battery farm. Site has fully compliant sealed bund with puraceptor oil/water separator + shut off valve, batteries in containment system. Site inspection photos show staining under transformers. Stockpiles present on site. It is unknown if erosion controls need to be applied to the stockpiles. | ED20: 1. Replace the above ground holding tank that is subject to leaks (per cell DZ20). Includes decommission, removal and installation of new holding tank. 2. Confirm the contamination status of stockpiles of soil on site as indicated in the PRA. Apply erosion controls if required, confirm origin of materials. 3. Service transformers and repair leaks. 4. Decommission and remove damaged holding tank. | EH20: x | EM20: C-I-C | EN20: C-I-C | ES20: C-I-C | EV20: C-I-C
