Workbook
Name CRCP_final_year: '[1]AER ETL'!$C$47
Name CRCP_y1: '[2]AER lookups'!$G$38
Name CRCP_y1: '[3]AER lookups'!$G$40
Name CRCP_y10: '[1]AER lookups'!$G$47
Name CRCP_y11: '[1]AER lookups'!$G$48
Name CRCP_y12: '[1]AER lookups'!$G$49
Name CRCP_y13: '[1]AER lookups'!$G$50
Name CRCP_y14: '[1]AER lookups'!$G$51
Name CRCP_y15: '[1]AER lookups'!$G$52
Name CRCP_y2: '[2]AER lookups'!$G$39
Name CRCP_y2: '[3]AER lookups'!$G$41
Name CRCP_y3: '[2]AER lookups'!$G$40
Name CRCP_y3: '[3]AER lookups'!$G$42
Name CRCP_y4: '[1]AER lookups'!$G$41
Name CRCP_y4: '[3]AER lookups'!$G$43
Name CRCP_y5: '[1]AER lookups'!$G$42
Name CRCP_y6: '[1]AER lookups'!$G$43
Name CRCP_y7: '[1]AER lookups'!$G$44
Name CRCP_y8: '[1]AER lookups'!$G$45
Name CRCP_y9: '[1]AER lookups'!$G$46
Name dms_060301_checkvalue: '[1]AER ETL'!$C$90
Name dms_060301_LastRow: '[1]AER ETL'!$C$92
Name dms_060701_ARR_MaxRows: '[1]AER ETL'!$C$100
Name dms_060701_Reset_MaxRows: '[1]AER ETL'!$C$99
Name dms_060701_StartDateTxt: '[1]AER ETL'!$C$106
Name dms_0608_LastRow: '[1]AER ETL'!$C$112
Name dms_0608_OffsetRows: '[1]AER ETL'!$C$111
Name dms_070901_01_Cap_Values: #REF!
Name dms_070901_01_Collar_Values: #REF!
Name dms_070901_01_Rows: #REF!
Name dms_070901_01_Target_Values: #REF!
Name dms_070901_01_Values: #REF!
Name dms_070901_02_Cap_Values: #REF!
Name dms_070901_02_Collar_Values: #REF!
Name dms_070901_02_Rows: #REF!
Name dms_070901_02_Target_Values: #REF!
Name dms_070901_02_Values: #REF!
Name dms_070901_03_Cap_Values: #REF!
Name dms_070901_03_Collar_Values: #REF!
Name dms_070901_03_Rows: #REF!
Name dms_070901_03_Target_Values: #REF!
Name dms_070901_03_Values: #REF!
Name dms_070901_04_Cap_Values: #REF!
Name dms_070901_04_Collar_Values: #REF!
Name dms_070901_04_Rows: #REF!
Name dms_070901_04_Target_Values: #REF!
Name dms_070901_04_Values: #REF!
Name dms_663_List: '[1]AER lookups'!$N$16:$N$17
Name dms_ABN_List: '[1]AER lookups'!$D$16:$D$17
Name dms_Addr1_List: '[1]AER lookups'!$P$16:$P$17
Name dms_Addr2_List: '[1]AER lookups'!$Q$16:$Q$17
Name dms_Amendment_Text: '[1]Business & other details'!$AL$70
Name dms_BaseStepTrend: '[1]2.16 Opex Summary'!$M$7
Name dms_BaseYear_Choice: '[1]2.16 Opex Summary'!$M$9
Name dms_BaseYear_List: '[1]2.16 Opex Summary'!$C$13:$G$13
Name dms_Cal_Year_B4_CRY: '[1]AER ETL'!$C$29
Name dms_CBD_flag: '[1]AER lookups'!$Z$16:$Z$17
Name dms_CF_8.1_Neg: '[1]AER CF'!$U$7:$U$34
Name dms_CF_TradingName: '[1]AER CF'!$B$7:$B$34
Name dms_Confid_status_List: '[1]AER NRs'!$D$6:$D$8

Sheet Draft Decision
A1: Draft Decision - Powerlink - SERVICE COMPONENT
A3: AER's input data and target calculations:
A4: 7.9.1 - Historical performance and proposed floor, caps and targets for the service component of the STPIS
A5: Parameter | B5: Performance Actuals by compliance year | G5: Floor (95th Percentile) | H5: Target = Average of performance | I5: Cap (5th Percentile) | J5: REU Distribution
B6: 2020 | C6: 2021 | D6: 2022 | E6: 2023 | F6: 2024
A7: Unplanned outage circuit event rate (percentage):
A8: Lines event rate – fault | B8: =27/298 -> 0.090604027 | C8: =34/297 -> 0.11447811 | D8: =23/301 -> 0.07641196 | E8: =23/305 -> 0.075409836 | F8: =33/307 -> 0.10749186 | G8: ='@Risk simulation'!M4 -> 0.1204 | H8: =+AVERAGE(B8:F8) -> 0.092879159 | I8: ='@Risk simulation'!K4 -> 0.0684 | J8: ='@Risk simulation'!B4 -> Gamma
A9: Transformer event rate – fault | B9: =20/172 -> 0.11627907 | C9: =20/171 -> 0.11695906 | D9: =24/171 -> 0.14035088 | E9: =18/170 -> 0.10588235 | F9: =24/168 -> 0.14285714 | G9: ='@Risk simulation'!M5 -> 0.1526 | H9: =+AVERAGE(B9:F9) -> 0.1244657 | I9: ='@Risk simulation'!K5 -> 0.0994 | J9: ='@Risk simulation'!B5 -> LogLogistic
A10: Reactive plant event rate – fault | B10: =30/133 -> 0.22556391 | C10: =31/133 -> 0.23308271 | D10: =22/133 -> 0.16541353 | E10: =30/133 -> 0.22556391 | F10: =25/134 -> 0.18656716 | G10: 0.2427 | H10: =+AVERAGE(B10:F10) -> 0.20723824 | I10: 0.1645 | J10: ='@Risk simulation'!B6 -> Weibull
A11: Lines event rate – forced | B11: =54/298 -> 0.18120805 | C11: =40/297 -> 0.13468013 | D11: =33/301 -> 0.10963455 | E11: =36/305 -> 0.11803279 | F11: =32/307 -> 0.10423453 | G11: 0.1761 | H11: =+AVERAGE(B11:F11) -> 0.12955801 | I11: 0.0934 | J11: ='@Risk simulation'!B7 -> Pearson5
A12: Transformer event rate – forced | B12: =32/172 -> 0.18604651 | C12: =25/171 -> 0.14619883 | D12: =19/171 -> 0.11111111 | E12: =22/170 -> 0.12941176 | F12: =14/168 -> 0.083333333 | G12: 0.1931 | H12: =+AVERAGE(B12:F12) -> 0.13122031 | I12: 0.0798 | J12: ='@Risk simulation'!B8 -> Gamma
A13: Reactive plant event rate – forced | B13: =27/133 -> 0.20300752 | C13: =34/133 -> 0.2556391 | D13: =29/133 -> 0.21804511 | E13: =36/133 -> 0.27067669 | F13: =26/134 -> 0.19402985 | G13: 0.2791 | H13: =+AVERAGE(B13:F13) -> 0.22827965 | I13: 0.1818 | J13: ='@Risk simulation'!B9 -> Gamma
A14: Loss of supply event frequency (number of events)
A15: Loss of supply events > 0.05 system (x) minutes | B15: 0 | C15: 3 | D15: =1+1 -> 2 | E15: 2 | F15: 0 | G15: ='@Risk simulation'!M24 -> 3 | H15: =+AVERAGE(B15:F15) -> 1.4 | I15: ='@Risk simulation'!K24 -> 0 | J15: ='@Risk simulation'!B24 -> IntUniform
A16: Loss of supply events > 0.40 system (y) minutes | B16: 0 | C16: 1 | D16: =1 -> 1 | E16: 1 | F16: 0 | G16: ='@Risk simulation'!M27 -> 1 | H16: =+AVERAGE(B16:F16) -> 0.6 | I16: ='@Risk simulation'!K27 -> 0 | J16: ='@Risk simulation'!B27 -> Bimomial
A17: Average outage duration (minutes)
A18: Average Outage Duration (aggreggate LOS minutes / number of LOS events) | B18: =229.63/4 -> 57.4075 | C18: =358/8 -> 44.75 | D18: =1222/2 -> 611 | E18: =171/5 -> 34.2 | F18: =175/3 -> 58.333333 | G18: 297.35 | H18: =+AVERAGE(B18:F18) -> 161.13817 | I18: 13.19 | J18: ='@Risk simulation'!B10 -> LogLogistic
A19: Proper operation of equipment (number of events):
A20: Failure of protection system | B20: 21 | C20: 29 | D20: =9+13 -> 22 | E20: 20 | F20: 21 | G20: 31 | H20: =+AVERAGE(B20:F20) -> 22.6 | I20: 15 | J20: ='@Risk simulation'!B28 -> Poisson
A21: Material failure of SCADA | B21: 0 | C21: 0 | D21: 0 | E21: 0 | F21: 0 | G21: 0 | H21: =+AVERAGE(B21:F21) -> 0 | I21: 0 | J21: ='@Risk simulation'!B29 -> Can't fit distribution - 5 years of zeros
A22: Incorrect operational isolation of primary or secondary equipment | B22: 9 | C22: 11 | D22: =1+1 -> 2 | E22: 2 | F22: 5 | G22: 18 | H22: =+AVERAGE(B22:F22) -> 5.8 | I22: 0 | J22: ='@Risk simulation'!B30 -> Geomet

Sheet @Risk simulation
A1: Powerlink - distributions selected based on mechanical selection of lowest K-S distance statistic, 2020-2024 underlying input data. Calendar year data
B2: Distribution | C2: KS Distance Statistic | D2: Mean of sample | E2: Mean of fitted distribution | F2: SD of fitted distribution | G2: Cap at 1SD | H2: Cap at 2SD | I2: Collar at 1SD | J2: Collar at 2SD | K2: 5th percentile of fitted distribution | L2: 50th percentile of fitted distribution | M2: 95th percentile of fitted distribution
A3: Lines event rate - fault | B3: Weibull (skew of opp sign to input data) | C3: 0.2421 | D3: 0.0929 | E3: 0.093 | F3: 0.0165 | G3: =E3+F3 -> 0.1095 | H3: =E3+2*F3 -> 0.126 | I3: =E3-F3 -> 0.0765 | J3: =E3-2*F3 -> 0.06 | K3: 0.0637 | L3: 0.0943 | M3: 0.1177
B4: Gamma | C4: 0.2532 | D4: 0.0929 | E4: 0.0929 | F4: 0.0159 | G4: =E4+F4 -> 0.1088 | H4: =E4+2*F4 -> 0.1247 | I4: =E4-F4 -> 0.077 | J4: =E4-2*F4 -> 0.0611 | K4: 0.0684 | L4: 0.092 | M4: 0.1204
A5: Transformer event rate - fault | B5: LogLogistic | C5: 0.269 | D5: 0.1245 | E5: 0.1242 | F5: 0.0166 | G5: =E5+F5 -> 0.1408 | H5: =E5+2*F5 -> 0.1574 | I5: =E5-F5 -> 0.1076 | J5: =E5-2*F5 -> 0.091 | K5: 0.0994 | L5: 0.1231 | M5: 0.1526
A6: Reactive plant event rate – fault | B6: Weibull | C6: 0.3521 | D6: 0.2072 | E6: 0.2083 | F6: 0.024 | G6: =E6+F6 -> 0.2323 | H6: =E6+2*F6 -> 0.2563 | I6: =E6-F6 -> 0.1843 | J6: =E6-2*F6 -> 0.1603 | K6: 0.1645 | L6: 0.211 | M6: 0.2427
A7: Lines event rate - forced | B7: Pearson5 | C7: 0.2364 | D7: 0.1296 | E7: 0.1293 | F7: 0.0257 | G7: =E7+F7 -> 0.155 | H7: =E7+2*F7 -> 0.1807 | I7: =E7-F7 -> 0.1036 | J7: =E7-2*F7 -> 0.0779 | K7: 0.0934 | L7: 0.1261 | M7: 0.1761
A8: Transformer event rate - forced | B8: Gamma | C8: 0.1337 | D8: 0.1312 | E8: 0.1312 | F8: 0.0347 | G8: =E8+F8 -> 0.1659 | H8: =E8+2*F8 -> 0.2006 | I8: =E8-F8 -> 0.0965 | J8: =E8-2*F8 -> 0.0618 | K8: 0.0798 | L8: 0.1282 | M8: 0.1931
A9: Reactive plant event rate - forced | B9: Gamma | C9: 0.2243 | D9: 0.2283 | E9: 0.2283 | F9: 0.0296 | G9: =E9+F9 -> 0.2579 | H9: =E9+2*F9 -> 0.2875 | I9: =E9-F9 -> 0.1987 | J9: =E9-2*F9 -> 0.1691 | K9: 0.1818 | L9: 0.227 | M9: 0.2791
A10: Average outage duration | B10: LogLogistic | C10: 0.3335 | D10: 161.14 | E10: 104.52 | F10: N/A | K10: 13.19 | L10: 62.63 | M10: 297.35
A15: Distributions fitted setting: lower limit with fixed bound of zero; unsure upper limit; no change to default "suppress questionable fits" setting
A16: While @Risk allows beta general to be a candidate distribution, we have not included it as a candidate distribution as it uses 4 parameters and we only have 5 data points.
A20: Powerlink - distributions selected based on mechanical selection of lowest AIC, 2020-2024 underlying input data.
B21: Distribution | C21: AIC | D21: Mean of sample | E21: Mean of fitted distribution | F21: SD of fitted distribution | G21: Cap at 1SD | H21: Cap at 2SD | I21: Collar at 1SD | J21: Collar at 2SD | K21: 5th percentile of fitted distribution | L21: 50th percentile of fitted distribution | M21: 95th percentile of fitted distribution
A22: Number of events > (x) system minutes | B22: Poisson (skew of opposite sign to input data) | C22: 18.9788 | D22: 1.4 | E22: 1.4 | F22: 1.1832 | G22: =E22+F22 -> 2.5832 | H22: =E22+2*F22 -> 3.7664 | I22: =E22-F22 -> 0.2168 | J22: =E22-2*F22 -> -0.9664 | K22: 0 | L22: 1 | M22: 4
B23: Geomet (skew of opposite sign to input data) | C23: 19.634 | D23: 1.4 | E23: 1.4 | F23: 1.833 | G23: =E23+F23 -> 3.233 | H23: =E23+2*F23 -> 5.066 | I23: =E23-F23 -> -0.433 | J23: =E23-2*F23 -> -2.266 | K23: 0 | L23: 1 | M23: 5
B24: IntUniform | C24: 23.8629 | D24: 1.4 | E24: 1.5 | F24: 1.118 | G24: =E24+F24 -> 2.618 | H24: =E24+2*F24 -> 3.736 | I24: =E24-F24 -> 0.382 | J24: =E24-2*F24 -> -0.736 | K24: 0 | L24: 1 | M24: 3
A25: Number of events > (y) system minutes | B25: Poisson (skew of opposite sign to input data) | C25: 12.3983 | D25: 0.6 | E25: 0.6 | F25: 0.7746 | G25: =E25+F25 -> 1.3746 | H25: =E25+2*F25 -> 2.1492 | I25: =E25-F25 -> -0.1746 | J25: =E25-2*F25 -> -0.9492 | K25: 0 | L25: 0 | M25: 2
B26: Geomet (skew of opposite sign to input data) | C26: 13.9183 | D26: 0.6 | E26: 0.6 | F26: 0.9798 | G26: =E26+F26 -> 1.5798 | H26: =E26+2*F26 -> 2.5596 | I26: =E26-F26 -> -0.3798 | J26: =E26-2*F26 -> -1.3596 | K26: 0 | L26: 0 | M26: 3
B27: Bimomial | C27: 16.7301 | D27: 0.6 | E27: 0.6 | F27: 0.4899 | G27: =E27+F27 -> 1.0899 | H27: =E27+2*F27 -> 1.5798 | I27: =E27-F27 -> 0.1101 | J27: =E27-2*F27 -> -0.3798 | K27: 0 | L27: 1 | M27: 1
A28: Failure of protection system | B28: Poisson | C28: 30.3249 | D28: 22.6 | E28: 22.6 | F28: 4.754 | G28: =E28+F28 -> 27.354 | H28: =E28+2*F28 -> 32.108 | I28: =E28-F28 -> 17.846 | J28: =E28-2*F28 -> 13.092 | K28: 15 | L28: 22 | M28: 31
A29: Material failure of SCADA | B29: Can't fit distribution - 5 years of zeros
A30: Incorrect operational isolation of primary or secondary equipment | B30: Geomet | C30: 31.7823 | D30: 5.8 | E30: 5.8 | F30: 6.28 | G30: =E30+F30 -> 12.08 | H30: =E30+2*F30 -> 18.36 | I30: =E30-F30 -> -0.48 | J30: =E30-2*F30 -> -6.76 | K30: 0 | L30: 4 | M30: 18
