Workbook
Name CRCP_final_year: '[1]AER ETL'!$C$47
Name CRCP_y1: '[2]AER lookups'!$G$40
Name CRCP_y10: '[1]AER lookups'!$G$47
Name CRCP_y11: '[1]AER lookups'!$G$48
Name CRCP_y12: '[1]AER lookups'!$G$49
Name CRCP_y13: '[1]AER lookups'!$G$50
Name CRCP_y14: '[1]AER lookups'!$G$51
Name CRCP_y15: '[1]AER lookups'!$G$52
Name CRCP_y2: '[2]AER lookups'!$G$41
Name CRCP_y3: '[2]AER lookups'!$G$42
Name CRCP_y4: '[2]AER lookups'!$G$43
Name CRCP_y5: '[1]AER lookups'!$G$42
Name CRCP_y6: '[1]AER lookups'!$G$43
Name CRCP_y7: '[1]AER lookups'!$G$44
Name CRCP_y8: '[1]AER lookups'!$G$45
Name CRCP_y9: '[1]AER lookups'!$G$46
Name dms_060301_checkvalue: '[1]AER ETL'!$C$90
Name dms_060301_LastRow: '[1]AER ETL'!$C$92
Name dms_060701_ARR_MaxRows: '[1]AER ETL'!$C$100
Name dms_060701_Reset_MaxRows: '[1]AER ETL'!$C$99
Name dms_060701_StartDateTxt: '[1]AER ETL'!$C$106
Name dms_0608_LastRow: '[1]AER ETL'!$C$112
Name dms_0608_OffsetRows: '[1]AER ETL'!$C$111
Name dms_070901_01_Cap_Values: #REF!
Name dms_070901_01_Collar_Values: #REF!
Name dms_070901_01_Rows: #REF!
Name dms_070901_01_Target_Values: #REF!
Name dms_070901_01_Values: #REF!
Name dms_070901_02_Cap_Values: #REF!
Name dms_070901_02_Collar_Values: #REF!
Name dms_070901_02_Rows: #REF!
Name dms_070901_02_Target_Values: #REF!
Name dms_070901_02_Values: #REF!
Name dms_070901_03_Cap_Values: #REF!
Name dms_070901_03_Collar_Values: #REF!
Name dms_070901_03_Rows: #REF!
Name dms_070901_03_Target_Values: #REF!
Name dms_070901_03_Values: #REF!
Name dms_070901_04_Cap_Values: #REF!
Name dms_070901_04_Collar_Values: #REF!
Name dms_070901_04_Rows: #REF!
Name dms_070901_04_Target_Values: #REF!
Name dms_070901_04_Values: #REF!
Name dms_663_List: '[1]AER lookups'!$N$16:$N$17
Name dms_ABN_List: '[1]AER lookups'!$D$16:$D$17
Name dms_Addr1_List: '[1]AER lookups'!$P$16:$P$17
Name dms_Addr2_List: '[1]AER lookups'!$Q$16:$Q$17
Name dms_Amendment_Text: '[1]Business & other details'!$AL$70
Name dms_BaseStepTrend: '[1]2.16 Opex Summary'!$M$7
Name dms_BaseYear_Choice: '[1]2.16 Opex Summary'!$M$9
Name dms_BaseYear_List: '[1]2.16 Opex Summary'!$C$13:$G$13
Name dms_Cal_Year_B4_CRY: '[1]AER ETL'!$C$29
Name dms_CBD_flag: '[1]AER lookups'!$Z$16:$Z$17
Name dms_CF_8.1_Neg: '[1]AER CF'!$U$7:$U$34
Name dms_CF_TradingName: '[1]AER CF'!$B$7:$B$34
Name dms_Confid_status_List: '[1]AER NRs'!$D$6:$D$8
Name dms_CRCP_start_row: '[1]AER ETL'!$C$40
Name dms_CRCPlength_List: '[1]AER lookups'!$K$16:$K$17
Name dms_CRCPlength_Num: '[1]AER ETL'!$C$69
Name dms_CRY_RYE: '[1]AER ETL'!$C$53

Sheet _@RISKFitInformation
A1: Created By Version | B1: 8.13.1
A2: Required Version | B2: 5.0.0
A3: Recommended Version | B3: 5.0.0
A4: Modified By Version | B4: 8.13.1
A9: Count | B9: 13
A10: GUID | B10: Name | C10: Range | D10: CRC | E10: Options | F10: Comp. Graph Serialization | G10: PP Graph Serialization | H10: QQ Graph Serialization | I10: Unsued | J10: Fixed Params | K10: Bootstrap Options | L10: BootstrapParamGraphSerialization | M10: BatchFit Options | N10: BootstrapGOFGraphSerialization | O10: FitSelector
A11: FIT_AFD62_509D | B11: Dataset 1 | C11: ='Line outage - Fault'!$A$3:$E$3 -> 0.053030303 | D11: 0 | E11: F1 0 0 -1E+300 1E+300 1 0 0 0 0 1 25 BetaGeneral Binomial Expon ExtValue Gamma Geomet IntUniform InvGauss Logistic LogLogistic Lognorm NegBin Normal Pareto Pearson5 Pearson6 Pert Poisson Triang Uniform Weibull ExtValueMin Laplace Levy Kumaraswamy 0 1 -1 1 0 1 0 0 0 | F11: GF1_rK0qDwEAEwBpAQwjACcANQByAIYAhwCVAKMAQwFlAV8BKwD//wAAAAAAAAEEAAAAAAAAAAABHEZpdCBDb21wYXJpc29uIGZvciBEYXRhc2V0IDEBG1Jpc2tQYXJldG8oMS44MzgyLDAuMDQzODAwKQEBEAACAAEKU3RhdGlzdGljcwMBAQD/AQEBAQEAAQEBAAQAAAABAQEBAQABAQEABAAAAArCAAHWAADrAAD2AAABAQAMAQAXAQAiAQAtAQA4AQASAAVJbnB1dAAAAP8AAP8BAQACABMABlBhcmV0bwABAP/cFDwBAAACAAkAAAACTwEAAAIACQAAAAOMAQAAAgAJAAAABEwBAAACAAkAAAAFOQEAAAIACQAAAAZOAQAAAgAJAAAAByMBAAACAAkAAAAIKQEAAAIACQAAAAlgAQAAAgBLAVUBAQEDAZqZmZmZmak/AABmZmZmZmbuPwAABQABAQEAAQEBAA== | J11: 0 8 | K11: F1 FALSE 1000 .95 | O11: 4 | P11: TRUE
A12: FIT_7FF61_39DB5 | B12: Dataset 2 | C12: ='Line outage - Fault'!$A$3:$E$3 -> 0.053030303 | D12: 0 | E12: F1 0 0 -1E+300 1E+300 1 0 0 0 0 1 25 BetaGeneral Binomial Expon ExtValue Gamma Geomet IntUniform InvGauss Logistic LogLogistic Lognorm NegBin Normal Pareto Pearson5 Pearson6 Pert Poisson Triang Uniform Weibull ExtValueMin Laplace Levy Kumaraswamy 0 1 -1 1 0 1 0 0 0 | F12: GF1_rK0qDwEAEwCDAQwjACcANQCKAJ4AnwCtALsAXQF/AXkBKwD//wAAAAAAAAEEAAAAAAAAAAABHEZpdCBDb21wYXJpc29uIGZvciBEYXRhc2V0IDIBM1Jpc2tJbnZHYXVzcygwLjA0Njk2NSwwLjAxNzQxMixSaXNrU2hpZnQoMC4wMzk3ODkpKQEBEAACAAEKU3RhdGlzdGljcwMBAQD/AQEBAQEAAQEBAAQAAAABAQEBAQABAQEABAAAAAraAAHuAAAFAQAQAQAbAQAmAQAxAQA8AQBHAQBSAQASAAVJbnB1dAAAAP8AAP8BAQACABUACEludkdhdXNzAAEA/9wUPAEAAAIACQAAAAJPAQAAAgAJAAAAA4wBAAACAAkAAAAETAEAAAIACQAAAAU5AQAAAgAJAAAABk4BAAACAAkAAAAHIwEAAAIACQAAAAgpAQAAAgAJAAAACWABAAACAGUBbwEBAQMBmpmZmZmZqT8AAGZmZmZmZu4/AAAFAAEBAQABAQEA | J12: 0 8 | K12: F1 FALSE 1000 .95 | O12: 1 | P12: TRUE
A13: FIT_1C4E7_58DE4 | B13: Dataset 3 | C13: ='Transformer Outage - fault'!$A$3:$E$3 -> 0.048 | D13: 0 | E13: F1 0 0 -1E+300 1E+300 1 0 0 0 0 1 25 BetaGeneral Binomial Expon ExtValue Gamma Geomet IntUniform InvGauss Logistic LogLogistic Lognorm NegBin Normal Pareto Pearson5 Pearson6 Pert Poisson Triang Uniform Weibull ExtValueMin Laplace Levy Kumaraswamy 0 1 -1 1 0 1 0 0 0 | F13: GF1_rK0qDwEAEwCLAQwjACcANQCKAJ4AnwCtALsAZQGHAYEBKwD//wAAAAAAAAEEAAAAAAAAAAABHEZpdCBDb21wYXJpc29uIGZvciBEYXRhc2V0IDMBM1Jpc2tJbnZHYXVzcygwLjA1MTU1NywwLjAzMjQ4NixSaXNrU2hpZnQoMC4wNDEyMzkpKQEBEAACAAEKU3RhdGlzdGljcwMBAQD/AQEBAQEAAQEBAAQAAAABAQEBAQABAQEABAAAAAraAAHuAAAFAQAYAQAjAQAuAQA5AQBEAQBPAQBaAQASAAVJbnB1dAAAAP8AAP8BAQACABUACEludkdhdXNzAAEA/9wUPAEAAAIAEQAISW52R2F1c3MAAk8BAAACAAkAAAADjAEAAAIACQAAAARMAQAAAgAJAAAABTkBAAACAAkAAAAGTgEAAAIACQAAAAcjAQAAAgAJAAAACCkBAAACAAkAAAAJYAEAAAIAbQF3AQEBAwGamZmZmZmpPwAAZmZmZmZm7j8AAAUAAQEBAAEBAQA= | J13: 0 8 | K13: F1 FALSE 1000 .95 | O13: 1 | P13: TRUE
A14: FIT_2539C_98FA7 | B14: Dataset 4 | C14: ='Reactive plant - fault'!$A$3:$E$3 -> 0.12328767 | D14: 0 | E14: F1 0 0 -1E+300 1E+300 1 0 0 0 0 1 25 BetaGeneral Binomial Expon ExtValue Gamma Geomet IntUniform InvGauss Logistic LogLogistic Lognorm NegBin Normal Pareto Pearson5 Pearson6 Pert Poisson Triang Uniform Weibull ExtValueMin Laplace Levy Kumaraswamy 0 1 -1 1 0 1 0 0 0 | F14: GF1_rK0qDwEAEwBzAQwjACcANQB6AI4AjwCdAKsATQFvAWkBKwD//wAAAAAAAAEEAAAAAAAAAAABHEZpdCBDb21wYXJpc29uIGZvciBEYXRhc2V0IDQBI1Jpc2tQZXJ0KDAuMDQxNjMyLDAuMDQxNjMyLDAuNDM2NzUpAQEQAAIAAQpTdGF0aXN0aWNzAwEBAP8BAQEBAQABAQEABAAAAAEBAQEBAAEBAQAEAAAACsoAAd4AAPEAAAABAAsBABYBACEBACwBADcBAEIBABIABUlucHV0AAAA/wAA/wEBAAIAEQAEUGVydAABAP/cFDwBAAACAA0ABExldnkAAk8BAAACAAkAAAADjAEAAAIACQAAAARMAQAAAgAJAAAABTkBAAACAAkAAAAGTgEAAAIACQAAAAcjAQAAAgAJAAAACCkBAAACAAkAAAAJYAEAAAIAVQFfAQEBAwGamZmZmZmpPwAAZmZmZmZm7j8AAAUAAQEBAAEBAQA= | J14: 0 8 | K14: F1 FALSE 1000 .95 | O14: 1 | P14: TRUE
A15: FIT_5B17A_89CBF | B15: Dataset 5 | C15: ='Line Outage forced'!$A$3:$E$3 -> 0.022727273 | D15: 0 | E15: F1 0 0 -1E+300 1E+300 1 0 0 0 0 1 25 BetaGeneral Binomial Expon ExtValue Gamma Geomet IntUniform InvGauss Logistic LogLogistic Lognorm NegBin Normal Pareto Pearson5 Pearson6 Pert Poisson Triang Uniform Weibull ExtValueMin Laplace Levy Kumaraswamy 0 1 -1 1 0 1 0 0 0 | F15: GF1_rK0qDwEAEwCEAQwjACcANQCLAJ8AoACuALwAXgGAAXoBKwD//wAAAAAAAAEEAAAAAAAAAAABHEZpdCBDb21wYXJpc29uIGZvciBEYXRhc2V0IDUBNFJpc2tJbnZHYXVzcygwLjA3NTAyMCwwLjAyNTMwOCxSaXNrU2hpZnQoMC4wMDE3MDU1KSkBARAAAgABClN0YXRpc3RpY3MDAQEA/wEBAQEBAAEBAQAEAAAAAQEBAQEAAQEBAAQAAAAK2wAB7wAABgEAEQEAHAEAJwEAMgEAPQEASAEAUwEAEgAFSW5wdXQAAAD/AAD/AQEAAgAVAAhJbnZHYXVzcwABAP/cFDwBAAACAAkAAAACTwEAAAIACQAAAAOMAQAAAgAJAAAABEwBAAACAAkAAAAFOQEAAAIACQAAAAZOAQAAAgAJAAAAByMBAAACAAkAAAAIKQEAAAIACQAAAAlgAQAAAgBmAXABAQEDAZqZmZmZmak/AABmZmZmZmbuPwAABQABAQEAAQEBAA== | J15: 0 8 | K15: F1 FALSE 1000 .95 | O15: 1 | P15: TRUE
A16: FIT_D82DF_A4C70 | B16: Dataset 6 | C16: ='Transformer Outage - forced'!$A$3:$E$3 -> 0.056 | D16: 0 | E16: F1 0 0 -1E+300 1E+300 1 0 0 0 0 1 25 BetaGeneral Binomial Expon ExtValue Gamma Geomet IntUniform InvGauss Logistic LogLogistic Lognorm NegBin Normal Pareto Pearson5 Pearson6 Pert Poisson Triang Uniform Weibull ExtValueMin Laplace Levy Kumaraswamy 0 1 -1 1 0 1 0 0 0 | F16: GF1_rK0qDwEAEwCSAQwjACcANQCLAJ8AoACuALwAbAGOAYgBKwD//wAAAAAAAAEEAAAAAAAAAAABHEZpdCBDb21wYXJpc29uIGZvciBEYXRhc2V0IDYBNFJpc2tMb2dub3JtKDAuMDg0MDQxLDAuMDM3NzUxLFJpc2tTaGlmdCgtMC4wMDgyMTQwKSkBARAAAgABClN0YXRpc3RpY3MDAQEA/wEBAQEBAAEBAQAEAAAAAQEBAQEAAQEBAAQAAAAK2wAB7wAABQEAFwEAKgEANQEAQAEASwEAVgEAYQEAEgAFSW5wdXQAAAD/AAD/AQEAAgAUAAdMb2dub3JtAAEA/9wUPAEAAAIAEAAHTG9nbm9ybQACTwEAAAIAEQAISW52R2F1c3MAA4wBAAACAAkAAAAETAEAAAIACQAAAAU5AQAAAgAJAAAABk4BAAACAAkAAAAHIwEAAAIACQAAAAgpAQAAAgAJAAAACWABAAACAHQBfgEBAQMBmpmZmZmZqT8AAGZmZmZmZu4/AAAFAAEBAQABAQEA | J16: 0 8 | K16: F1 FALSE 1000 .95 | O16: 1 | P16: TRUE
A17: FIT_B3BB9_31149 | B17: Dataset 7 | C17: ='Reactive plant - forced'!$A$3:$E$3 -> 0.068493151 | D17: 0 | E17: F1 0 0 -1E+300 1E+300 1 0 0 0 0 1 25 BetaGeneral Binomial Expon ExtValue Gamma Geomet IntUniform InvGauss Logistic LogLogistic Lognorm NegBin Normal Pareto Pearson5 Pearson6 Pert Poisson Triang Uniform Weibull ExtValueMin Laplace Levy Kumaraswamy 0 1 -1 1 0 1 0 0 0 | F17: GF1_rK0qDwEAEwCLAQwjACcANQCLAKAAoQCvAL0AZQGHAYEBKwD//wAAAAAAAAEEAAAAAAAAAAABHEZpdCBDb21wYXJpc29uIGZvciBEYXRhc2V0IDcBNFJpc2tJbnZHYXVzcygwLjA1NTk4NywwLjIyMDk2OCxSaXNrU2hpZnQoMC4wMDIxMzA2KSkBAREAAQABC1N0YXRzTGVnZW5kAwEBAP8BAQEBAQABAQEABAAAAAEBAQEBAAEBAQAEAAAACtwAAfAAAAcBABgBACMBAC4BADkBAEQBAE8BAFoBABIABUlucHV0AAAA/wAA/wEBAAIAFQAISW52R2F1c3MAAQD/3BQ8AQAAAgAPAAZOb3JtYWwAAk8BAAACAAkAAAADjAEAAAIACQAAAARMAQAAAgAJAAAABTkBAAACAAkAAAAGTgEAAAIACQAAAAcjAQAAAgAJAAAACCkBAAACAAkAAAAJYAEAAAIAbQF3AQEBAwGamZmZmZmpPwAAZmZmZmZm7j8AAAUAAQEBAAEBAQA= | J17: 0 8 | K17: F1 FALSE 1000 .95 | O17: 1 | P17: TRUE
A18: FIT_BBFF_35926 | B18: Dataset 8 | C18: ='Active Outage Duration'!$A$3:$E$3 -> 47.85 | D18: 0 | E18: F1 0 0 -1E+300 1E+300 1 0 0 0 0 1 25 BetaGeneral Binomial Expon ExtValue Gamma Geomet IntUniform InvGauss Logistic LogLogistic Lognorm NegBin Normal Pareto Pearson5 Pearson6 Pert Poisson Triang Uniform Weibull ExtValueMin Laplace Levy Kumaraswamy 0 1 -1 1 0 1 0 0 0 | F18: GF1_rK0qDwEAEwCEAQwjACcANQCEAJgAmQCnALUAXgGAAXoBKwD//wAAAAAAAAEEAAAAAAAAAAABHEZpdCBDb21wYXJpc29uIGZvciBEYXRhc2V0IDgBLVJpc2tMb2dub3JtKDkzLjM5MCw2OS45NzQsUmlza1NoaWZ0KC0yMy42NjYpKQEBEAACAAEKU3RhdGlzdGljcwMBAQD/AQEBAQEAAQEBAAQAAAABAQEBAQABAQEABAAAAArUAAHoAAD+AAARAQAcAQAnAQAyAQA9AQBIAQBTAQASAAVJbnB1dAAAAP8AAP8BAQACABQAB0xvZ25vcm0AAQD/3BQ8AQAAAgARAAhJbnZHYXVzcwACTwEAAAIACQAAAAOMAQAAAgAJAAAABEwBAAACAAkAAAAFOQEAAAIACQAAAAZOAQAAAgAJAAAAByMBAAACAAkAAAAIKQEAAAIACQAAAAlgAQAAAgBmAXABAQEDAZqZmZmZmak/AABmZmZmZmbuPwAABQABAQEAAQEBAA== | J18: 0 8 | K18: F1 FALSE 1000 .95 | O18: 2 | P18: TRUE
A19: FIT_3E521_6A73C | B19: Dataset 9 | C19: ='LOS >0.05 system minutes'!$A$3:$E$3 -> 0 | D19: 0 | E19: F1 1 0 -1E+300 1E+300 1 0 0 0 0 1 25 BetaGeneral Binomial Expon ExtValue Gamma Geomet IntUniform InvGauss Logistic LogLogistic Lognorm NegBin Normal Pareto Pearson5 Pearson6 Pert Poisson Triang Uniform Weibull ExtValueMin Laplace Levy Kumaraswamy 0 1 -1 1 0 1 0 0 0 | F19: GF1_rK0qDwEAEwBjAQwjACcANQBrAH8AgACOAJwAPQFfAVkBKwD//wAAAAAAAAEEAAAAAAAAAAABHEZpdCBDb21wYXJpc29uIGZvciBEYXRhc2V0IDkBFFJpc2tQb2lzc29uKDAuNjAwMDApAQEQAAIAAQpTdGF0aXN0aWNzAwEBAP8BAQEBAQABAQEABAAAAAEBAQEBAAEBAQAEAAAACrsAAc8AAOUAAPAAAPsAAAYBABEBABwBACcBADIBABIABUlucHV0AAAA/wAA/wEBAAIAFAAHUG9pc3NvbgABAP/cFDwBAAACAAkAAAACTwEAAAIACQAAAAOMAQAAAgAJAAAABEwBAAACAAkAAAAFOQEAAAIACQAAAAZOAQAAAgAJAAAAByMBAAACAAkAAAAIKQEAAAIACQAAAAlgAQAAAgBFAU8BAQEDAZqZmZmZmak/AABmZmZmZmbuPwAABQABAQEAAQEBAA== | J19: 0 8 | K19: F1 FALSE 1000 .95 | O19: 4 | P19: TRUE
A20: FIT_3A696_9FF64 | B20: Dataset 10 | C20: ='Failure of protection systems'!$A$3:$E$3 -> 1 | D20: 0 | E20: F1 1 0 -1E+300 1E+300 1 0 0 0 0 1 25 BetaGeneral Binomial Expon ExtValue Gamma Geomet IntUniform InvGauss Logistic LogLogistic Lognorm NegBin Normal Pareto Pearson5 Pearson6 Pert Poisson Triang Uniform Weibull ExtValueMin Laplace Levy Kumaraswamy 0 1 -1 1 0 1 0 0 0 | F20: GF1_rK0qDwEAEwBiAQwjACcANQBrAH8AgACOAJwAPAFeAVgBKwD//wAAAAAAAAEEAAAAAAAAAAABHUZpdCBDb21wYXJpc29uIGZvciBEYXRhc2V0IDEwARNSaXNrR2VvbWV0KDAuMTcyNDEpAQEQAAIAAQpTdGF0aXN0aWNzAwEBAP8BAQEBAQABAQEABAAAAAEBAQEBAAEBAQAEAAAACrsAAc8AAOQAAO8AAPoAAAUBABABABsBACYBADEBABIABUlucHV0AAAA/wAA/wEBAAIAEwAGR2VvbWV0AAEA/9wUPAEAAAIACQAAAAJPAQAAAgAJAAAAA4wBAAACAAkAAAAETAEAAAIACQAAAAU5AQAAAgAJAAAABk4BAAACAAkAAAAHIwEAAAIACQAAAAgpAQAAAgAJAAAACWABAAACAEQBTgEBAQMBmpmZmZmZqT8AAGZmZmZmZu4/AAAFAAEBAQABAQEA | J20: 0 8 | K20: F1 FALSE 1000 .95 | O20: 4 | P20: TRUE
A21: FIT_48236_2414B | B21: Dataset 11 | C21: ='Material failure of SCADA'!$A$3:$E$3 -> 1 | D21: 0 | E21: F1 1 0 -1E+300 1E+300 1 0 0 0 0 1 25 BetaGeneral Binomial Expon ExtValue Gamma Geomet IntUniform InvGauss Logistic LogLogistic Lognorm NegBin Normal Pareto Pearson5 Pearson6 Pert Poisson Triang Uniform Weibull ExtValueMin Laplace Levy Kumaraswamy 0 1 -1 1 0 1 0 0 0 | F21: GF1_rK0qDwEAEwBeAQwjACcANQBmAHoAewCJAJcAOAFaAVQBKwD//wAAAAAAAAEEAAAAAAAAAAABHUZpdCBDb21wYXJpc29uIGZvciBEYXRhc2V0IDExAQ5SaXNrUG9pc3NvbigyKQEBEAACAAEKU3RhdGlzdGljcwMBAQD/AQEBAQEAAQEBAAQAAAABAQEBAQABAQEABAAAAAq2AAHKAADgAADrAAD2AAABAQAMAQAXAQAiAQAtAQASAAVJbnB1dAAAAP8AAP8BAQACABQAB1BvaXNzb24AAQD/3BQ8AQAAAgAJAAAAAk8BAAACAAkAAAADjAEAAAIACQAAAARMAQAAAgAJAAAABTkBAAACAAkAAAAGTgEAAAIACQAAAAcjAQAAAgAJAAAACCkBAAACAAkAAAAJYAEAAAIAQAFKAQEBAwGamZmZmZmpPwAAZmZmZmZm7j8AAAUAAQEBAAEBAQA= | J21: 0 8 | K21: F1 FALSE 1000 .95 | O21: 4 | P21: TRUE
A22: FIT_EA1F5_578DD | B22: Dataset 12 | C22: ='Incorrect operation isolation'!$A$3:$E$3 -> 1 | D22: 0 | E22: F1 1 0 -1E+300 1E+300 1 0 0 0 0 1 25 BetaGeneral Binomial Expon ExtValue Gamma Geomet IntUniform InvGauss Logistic LogLogistic Lognorm NegBin Normal Pareto Pearson5 Pearson6 Pert Poisson Triang Uniform Weibull ExtValueMin Laplace Levy Kumaraswamy 0 1 -1 1 0 1 0 0 0 | F22: GF1_rK0qDwEAEwBhAQwjACcANQBrAH8AgACOAJwAPAFdAVcBKwD//wAAAAAAAAEEAAAAAAAAAAABHUZpdCBDb21wYXJpc29uIGZvciBEYXRhc2V0IDEyARNSaXNrR2VvbWV0KDAuNDE2NjcpAQEQAAIAAQpTdGF0aXN0aWNzAwEBAP8BAQEBAQABAQEABAAAAAEBAQEBAAEBAQAEAAAACrsAAc8AAOQAAO8AAPoAAAUBABABABsBACYBADEBABIABUlucHV0AAAA/wAA/wEBAAIAEwAGR2VvbWV0AAEA/9wUPAEAAAIACQAAAAJPAQAAAgAJAAAAA4wBAAACAAkAAAAETAEAAAIACQAAAAU5AQAAAgAJAAAABk4BAAACAAkAAAAHIwEAAAIACQAAAAgpAQAAAgAJAAAACWABAAACAEQBTgEBAQMBmpmZmZmZqT8AAAAAAAAAAAhAAQUAAQEBAAEBAQA= | J22: 0 8 | K22: F1 FALSE 1000 .95 | O22: 4 | P22: TRUE
A23: FIT_DBC5D_3FF71 | B23: Uniform | C23: ='Transformer Outage - forced'!$S$6:$S$40 -> 0.03604 | D23: 0 | E23: F1 0 0 -1E+300 1E+300 1 0 0 0 0 1 25 BetaGeneral Binomial Expon ExtValue Gamma Geomet IntUniform InvGauss Logistic LogLogistic Lognorm NegBin Normal Pareto Pearson5 Pearson6 Pert Poisson Triang Uniform Weibull ExtValueMin Laplace Levy Kumaraswamy 0 1 -1 1 0 1 0 0 0 | F23: GF1_rK0qDwEAEwB/AQwjACcANQCGAJoAmwCpALcAWQF7AXUBKwD//wAAAAAAAAEEAAAAAAAAAAABGkZpdCBDb21wYXJpc29uIGZvciBVbmlmb3JtATFSaXNrUGVhcnNvbjUoMS43NjQxLDAuMTUyMDYsUmlza1NoaWZ0KC0wLjAyNzU4NCkpAQEQAAIAAQpTdGF0aXN0aWNzAwEBAP8BAQEBAQABAQEABAAAAAEBAQEBAAEBAQAEAAAACtYAAeoAAAEBAAwBABcBACIBAC0BADgBAEMBAE4BABIABUlucHV0AAAA/wAA/wEBAAIAFQAIUGVhcnNvbjUAAQD/3BQ8AQAAAgAJAAAAAk8BAAACAAkAAAADjAEAAAIACQAAAARMAQAAAgAJAAAABTkBAAACAAkAAAAGTgEAAAIACQAAAAcjAQAAAgAJAAAACCkBAAACAAkAAAAJYAEAAAIAYQFrAQEBAwGamZmZmZmpPwAAZmZmZmZm7j8AAAUAAQEBAAEBAQA= | J23: 0 8 | K23: F1 FALSE 1000 .95 | O23: 1 | P23: TRUE

Sheet T Historical SC performance
A1: Performance against the STPIS in 2021-25
C3: 23 | D3: 46 | E3: 28 | F3: 33
C4: 2 | D4: 0 | E4: 0 | F4: 2
C5: 6 | D5: 12 | E5: 7 | F5: 1
A6: Parameter | B6: Sub-parameter | C6: 2021 | D6: 2022 | E6: 2023 | F6: 2024 | G6: 2025 | H6: 2021-25 average
A7: Unplanned outage circuit event rate | B7: Lines event rate - fault | C7: ='2020-25 actual performance data'!D23 -> 0.18253968 | D7: ='2020-25 actual performance data'!E23 -> 0.063492063 | E7: ='2020-25 actual performance data'!F23 -> 0.053030303 | F7: ='2020-25 actual performance data'!G23 -> 0.090909091 | G7: ='2020-25 actual performance data'!H23 -> 0.0438 | H7: =AVERAGE(C7:G7) -> 0.086754228
B8: Transformer event rate - fault | C8: ='2020-25 actual performance data'!D24 -> 0.1984127 | D8: ='2020-25 actual performance data'!E24 -> 0.071428571 | E8: ='2020-25 actual performance data'!F24 -> 0.048 | F8: ='2020-25 actual performance data'!G24 -> 0.076335878 | G8: ='2020-25 actual performance data'!H24 -> 0.0698 | H8: =AVERAGE(C8:G8) -> 0.09279543
B9: Reactive plant event rate - fault | C9: ='2020-25 actual performance data'!D25 -> 0.21428571 | D9: ='2020-25 actual performance data'!E25 -> 0.041666667 | E9: ='2020-25 actual performance data'!F25 -> 0.12328767 | F9: ='2020-25 actual performance data'!G25 -> 0.054054054 | G9: ='2020-25 actual performance data'!H25 -> 0.1039 | H9: =AVERAGE(C9:G9) -> 0.10743882
B10: Lines event rate - forced | C10: ='2020-25 actual performance data'!D26 -> 0.25396825 | D10: ='2020-25 actual performance data'!E26 -> 0.055555556 | E10: ='2020-25 actual performance data'!F26 -> 0.022727273 | F10: ='2020-25 actual performance data'!G26 -> 0.0075757576 | G10: ='2020-25 actual performance data'!H26 -> 0.0438 | H10: =AVERAGE(C10:G10) -> 0.076725368
B11: Transformer event rate - forced | C11: ='2020-25 actual performance data'!D27 -> 0.13492063 | D11: ='2020-25 actual performance data'!E27 -> 0.087301587 | E11: ='2020-25 actual performance data'!F27 -> 0.056 | F11: ='2020-25 actual performance data'!G27 -> 0.06870229 | G11: ='2020-25 actual performance data'!H27 -> 0.031 | H11: =AVERAGE(C11:G11) -> 0.075584902
B12: Reactive plant event rate - forced | C12: ='2020-25 actual performance data'!D28 -> 0.1 | D12: ='2020-25 actual performance data'!E28 -> 0.055555556 | E12: ='2020-25 actual performance data'!F28 -> 0.068493151 | F12: ='2020-25 actual performance data'!G28 -> 0.040540541 | G12: ='2020-25 actual performance data'!H28 -> 0.026 | H12: =AVERAGE(C12:G12) -> 0.058117849
A13: Loss of supply event frequency | B13: Number of events greater than 0.05 minutes per annum | C13: ='2020-25 actual performance data'!D29 -> 0 | D13: ='2020-25 actual performance data'!E29 -> 2 | E13: ='2020-25 actual performance data'!F29 -> 0 | F13: ='2020-25 actual performance data'!G29 -> 1 | G13: ='2020-25 actual performance data'!H29 -> 0 | H13: =AVERAGE(C13:G13) -> 0.6
B14: Number of events greater than 0.30 minutes per annum | C14: ='2020-25 actual performance data'!D30 -> 0 | D14: ='2020-25 actual performance data'!E30 -> 0 | E14: ='2020-25 actual performance data'!F30 -> 0 | F14: ='2020-25 actual performance data'!G30 -> 0 | G14: ='2020-25 actual performance data'!H30 -> 0 | H14: =AVERAGE(C14:G14) -> 0
A15: Average outage duration | B15: Average outage duration | C15: ='2020-25 actual performance data'!D31 -> 37 | D15: ='2020-25 actual performance data'!E31 -> 2 | E15: ='2020-25 actual performance data'!F31 -> 47.85 | F15: ='2020-25 actual performance data'!G31 -> 169.5 | G15: ='2020-25 actual performance data'!H31 -> 84.75 | H15: =AVERAGE(C15:G15) -> 68.22
A16: Proper operation of equipment | B16: Failure of protection system | C16: ='2020-25 actual performance data'!D32 -> 16 | D16: ='2020-25 actual performance data'!E32 -> 6 | E16: ='2020-25 actual performance data'!F32 -> 1 | F16: ='2020-25 actual performance data'!G32 -> 0 | G16: ='2020-25 actual performance data'!H32 -> 1 | H16: =AVERAGE(C16:G16) -> 4.8
B17: Material failure of SCADA | C17: ='2020-25 actual performance data'!D33 -> 3 | D17: ='2020-25 actual performance data'!E33 -> 2 | E17: ='2020-25 actual performance data'!F33 -> 1 | F17: ='2020-25 actual performance data'!G33 -> 4 | G17: ='2020-25 actual performance data'!H33 -> 0 | H17: =AVERAGE(C17:G17) -> 2
B18: Incorrect operation isolation of primary or secondary equipment | C18: ='2020-25 actual performance data'!D34 -> 3 | D18: ='2020-25 actual performance data'!E34 -> 0 | E18: ='2020-25 actual performance data'!F34 -> 1 | F18: ='2020-25 actual performance data'!G34 -> 0 | G18: ='2020-25 actual performance data'!H34 -> 3 | H18: =AVERAGE(C18:G18) -> 1.4

Sheet T Prop SC target cap & colla
C3: 30 | D3: 23 | E3: =#REF! -> #REF! | F3: 28
C4: 0 | D4: 2 | E4: 0 | F4: 0
C5: 5 | D5: 6 | E5: 12 | F5: 7
A6: Parameter | B6: Sub-parameter | C6: Preferred distribution | D6: Target | E6: Floor | F6: Cap | G6: Weighting
A7: Unplanned outage curcuit event rate | B7: Lines event rate - fault | C7: ='Line outage - Fault'!I3 -> InvGauss | D7: ='Line outage - Fault'!F3 -> 0.086754228 | E7: ='Line outage - Fault'!H3 -> 0.21926 | F7: ='Line outage - Fault'!G3 -> 0.0437 | G7: 0.2
B8: Transformer event rate - fault | C8: ='Transformer Outage - fault'!I3 -> InvGauss | D8: ='Transformer Outage - fault'!F3 -> 0.09279543 | E8: ='Transformer Outage - fault'!H3 -> 0.21337 | F8: ='Transformer Outage - fault'!G3 -> 0.04792 | G8: 0.2
B9: Reactive plant event rate - fault | C9: ='Reactive plant - fault'!I3 -> Pert | D9: ='Reactive plant - fault'!F3 -> 0.10743882 | E9: ='Reactive plant - fault'!H3 -> 0.21972 | F9: ='Reactive plant - fault'!G3 -> 0.04566 | G9: 0.1
B10: Lines event rate - forced | C10: ='Line Outage forced'!I3 -> InvGauss | D10: ='Line Outage forced'!F3 -> 0.076725368 | E10: ='Line Outage forced'!H3 -> 0.29442 | F10: ='Line Outage forced'!G3 -> 0.00746 | G10: 0.1
B11: Transformer event rate - forced | C11: ='Transformer Outage - forced'!I3 -> Lognorm | D11: ='Transformer Outage - forced'!F3 -> 0.075584902 | E11: ='Transformer Outage - forced'!H3 -> 0.14697 | F11: ='Transformer Outage - forced'!G3 -> 0.02966 | G11: 0.1
B12: Reactive plant event rate - forced | C12: ='Reactive plant - forced'!I3 -> Lognorm | D12: ='Reactive plant - forced'!F3 -> 0.058117849 | E12: ='Reactive plant - forced'!H3 -> 0.11187 | F12: ='Reactive plant - forced'!G3 -> 0.02477 | G12: 0.05
A13: Loss of supply event frequency | B13: Number of events greater than 0.05 minutes per annum | C13: ='LOS >0.05 system minutes'!I3 -> Poisson | D13: ='LOS >0.05 system minutes'!F3 -> 0.6 | E13: ='LOS >0.05 system minutes'!H3 -> 2 | F13: ='LOS >0.05 system minutes'!G3 -> 0 | G13: 0.15
B14: Number of events greater than 0.30 minutes per annum | C14: ='LOS > 0.3 system minutes'!I3 -> Poisson | D14: ='LOS > 0.3 system minutes'!F3 -> 0 | E14: ='LOS > 0.3 system minutes'!H3 -> 0 | F14: ='LOS > 0.3 system minutes'!G3 -> 0 | G14: 0.15
A15: Average outage duration | B15: Average outage duration | C15: ='Active Outage Duration'!I3 -> Lognorm | D15: ='Active Outage Duration'!F3 -> 68.22 | E15: ='Active Outage Duration'!H3 -> 200.41 | F15: ='Active Outage Duration'!G3 -> 1.26 | G15: 0.2
A16: Proper operation of equipment | B16: Failure of protection system | C16: ='Failure of protection systems'!I3 -> Geomet | D16: ='Failure of protection systems'!F3 -> 4.8 | E16: ='Failure of protection systems'!H3 -> 15 | F16: ='Failure of protection systems'!G3 -> 0 | G16: 0
B17: Material failure of SCADA | C17: ='Material failure of SCADA'!I3 -> Poisson | D17: ='Material failure of SCADA'!F3 -> 2 | E17: ='Material failure of SCADA'!H3 -> 5 | F17: ='Material failure of SCADA'!G3 -> 0 | G17: 0
B18: Incorrect operation isolation of primary or secondary equipment | C18: ='Incorrect operation isolation'!I3 -> Geomet | D18: ='Incorrect operation isolation'!F3 -> 1.4 | E18: ='Incorrect operation isolation'!H3 -> 5 | F18: ='Incorrect operation isolation'!G3 -> 0 | G18: 0

Sheet Line outage - Fault
A1: Data in current Transmission reset | F1: Target | G1: KS | H1: KS | I1: KS
A2: Y2021 | B2: Y2022 | C2: Y2023 | D2: Y2024 | E2: Y2025 | G2: Cap | H2: Floor | I2: Distribution
A3: ='2020-25 actual performance data'!D23 -> 0.18253968 | B3: ='2020-25 actual performance data'!E23 -> 0.063492063 | C3: ='2020-25 actual performance data'!F23 -> 0.053030303 | D3: ='2020-25 actual performance data'!G23 -> 0.090909091 | E3: ='2020-25 actual performance data'!H23 -> 0.0438 | F3: =AVERAGE(A3:E3) -> 0.086754228 | G3: =T23 -> 0.0437 | H3: =T39 -> 0.21926 | I3: InvGauss
S6: Input | T6: InvGauss
R7: Minimum | S7: 0.0438 | T7: 0.03979
R8: Maximum | S8: 0.18254 | T8: {=+∞} -> #NAME?
R9: Mean | S9: 0.08675 | T9: 0.08675
R10: Mode | S10: ≈0.04727 | T10: 0.04551
R11: Median | S11: 0.06349 | T11: 0.06051
R12: Std Dev | S12: 0.05638 | T12: 0.07713
R13: Skewness | S13: 1.7405 | T13: 4.9269
R14: Kurtosis | S14: 6.0298 | T14: 43.458
R15: Left X | S15: 0.0438 | T15: 0.0438
R16: Left P | S16: 0.05 | T16: 0.053
R17: Right X | S17: 0.1825 | T17: 0.1825
R18: Right P | S18: 0.95 | T18: 0.928
R19: Dif. X | S19: 0.13874 | T19: 0.13874
R20: Dif. P | S20: 0.9 | T20: 0.875
R21: 0.01 | S21: 0.0438 | T21: 0.04218
R22: 0.025 | S22: 0.0438 | T22: 0.04287
R23: 0.05 | S23: 0.0438 | T23: 0.0437
R24: 0.1 | S24: 0.0438 | T24: 0.0451
R25: 0.2 | S25: 0.0438 | T25: 0.04782
R26: 0.25 | S26: 0.05303 | T26: 0.04933
R27: 0.3 | S27: 0.05303 | T27: 0.051
R28: 0.35 | S28: 0.05303 | T28: 0.05288
R29: 0.4 | S29: 0.05303 | T29: 0.05504
R30: 0.45 | S30: 0.06349 | T30: 0.05755
R31: 0.5 | S31: 0.06349 | T31: 0.06051
R32: 0.55 | S32: 0.06349 | T32: 0.06407
... R41: 0.99 | S41: 0.18254 | T41: 0.42421

Sheet Transformer Outage - fault
A1: Data in current Transmission reset | F1: Target | G1: KS | H1: KS | I1: KS
A2: Y2021 | B2: Y2022 | C2: Y2023 | D2: Y2024 | E2: Y2025 | G2: Cap | H2: Floor | I2: Distribution
A3: ='2020-25 actual performance data'!D24 -> 0.1984127 | B3: ='2020-25 actual performance data'!E24 -> 0.071428571 | C3: ='2020-25 actual performance data'!F24 -> 0.048 | D3: ='2020-25 actual performance data'!G24 -> 0.076335878 | E3: ='2020-25 actual performance data'!H24 -> 0.0698 | F3: =AVERAGE(A3:E3) -> 0.09279543 | G3: =R22 -> 0.04792 | H3: =R38 -> 0.21337 | I3: InvGauss
Q5: Input | R5: InvGauss
P6: Minimum | Q6: 0.048 | R6: 0.04124
P7: Maximum | Q7: 0.19841 | R7: {=+∞} -> #NAME?
P8: Mean | Q8: 0.0928 | R8: 0.0928
P9: Mode | Q9: ≈0.07432 | R9: 0.05163
P10: Median | Q10: 0.07143 | R10: 0.07064
P11: Std Dev | Q11: 0.06004 | R11: 0.06495
P12: Skewness | Q12: 2.0446 | R12: 3.7793
P13: Kurtosis | Q13: 7.4134 | R13: 26.8057
P14: Left X | Q14: 0.048 | R14: 0.048
P15: Left P | Q15: 0.05 | R15: 0.052
P16: Right X | Q16: 0.1984 | R16: 0.1984
P17: Right P | Q17: 0.95 | R17: 0.94
P18: Dif. X | Q18: 0.15041 | R18: 0.15041
P19: Dif. P | Q19: 0.9 | R19: 0.888
P20: 0.01 | Q20: 0.048 | R20: 0.04544
P21: 0.025 | Q21: 0.048 | R21: 0.04658
P22: 0.05 | Q22: 0.048 | R22: 0.04792
P23: 0.1 | Q23: 0.048 | R23: 0.05009
P24: 0.2 | Q24: 0.048 | R24: 0.05412
P25: 0.25 | Q25: 0.0698 | R25: 0.05625
P26: 0.3 | Q26: 0.0698 | R26: 0.05855
P27: 0.35 | Q27: 0.0698 | R27: 0.06106
P28: 0.4 | Q28: 0.0698 | R28: 0.06387
P29: 0.45 | Q29: 0.07143 | R29: 0.06703
P30: 0.5 | Q30: 0.07143 | R30: 0.07064
P31: 0.55 | Q31: 0.07143 | R31: 0.07484
... P40: 0.99 | Q40: 0.19841 | R40: 0.36496

Sheet Reactive plant - fault
A1: Data in current Transmission reset | F1: Target | G1: KS | H1: KS | I1: KS
A2: Y2021 | B2: Y2022 | C2: Y2023 | D2: Y2024 | E2: Y2025 | G2: Cap | H2: Floor | I2: Distribution
A3: ='2020-25 actual performance data'!D25 -> 0.21428571 | B3: ='2020-25 actual performance data'!E25 -> 0.041666667 | C3: ='2020-25 actual performance data'!F25 -> 0.12328767 | D3: ='2020-25 actual performance data'!G25 -> 0.054054054 | E3: ='2020-25 actual performance data'!H25 -> 0.1039 | F3: =AVERAGE(A3:E3) -> 0.10743882 | G3: =R22 -> 0.04566 | H3: =R38 -> 0.21972 | I3: Pert
Q5: Input | R5: Pert
P6: Minimum | Q6: 0.04167 | R6: 0.04163
P7: Maximum | Q7: 0.21429 | R7: 0.43675
P8: Mean | Q8: 0.10744 | R8: 0.10749
P9: Mode | Q9: ≈0.04598 | R9: 0.04163
P10: Median | Q10: 0.1039 | R10: 0.09278
P11: Std Dev | Q11: 0.06866 | R11: 0.05566
P12: Skewness | Q12: 1.0132 | R12: 1.1832
P13: Kurtosis | Q13: 3.8445 | R13: 4.2
P14: Left X | Q14: 0.0417 | R14: 0.0417
P15: Left P | Q15: 0.05 | R15: 0
P16: Right X | Q16: 0.2143 | R16: 0.2143
P17: Right P | Q17: 0.95 | R17: 0.943
P18: Dif. X | Q18: 0.17262 | R18: 0.17262
P19: Dif. P | Q19: 0.9 | R19: 0.943
P20: 0.01 | Q20: 0.04167 | R20: 0.04243
P21: 0.025 | Q21: 0.04167 | R21: 0.04363
P22: 0.05 | Q22: 0.04167 | R22: 0.04566
P23: 0.1 | Q23: 0.04167 | R23: 0.04987
P24: 0.2 | Q24: 0.04167 | R24: 0.05888
P25: 0.25 | Q25: 0.05405 | R25: 0.06372
P26: 0.3 | Q26: 0.05405 | R26: 0.06884
P27: 0.35 | Q27: 0.05405 | R27: 0.07425
P28: 0.4 | Q28: 0.05405 | R28: 0.08001
P29: 0.45 | Q29: 0.1039 | R29: 0.08616
P30: 0.5 | Q30: 0.1039 | R30: 0.09278
P31: 0.55 | Q31: 0.1039 | R31: 0.09995
... P40: 0.99 | Q40: 0.21429 | R40: 0.27945

Sheet Line Outage forced
A1: Data in current Transmission reset | F1: Target | G1: KS | H1: KS | I1: KS
A2: Y2021 | B2: Y2022 | C2: Y2023 | D2: Y2024 | E2: Y2025 | G2: Cap | H2: Floor | I2: Distribution
A3: ='[5]2020-25 actual performance data'!D26 -> 0.25396825 | B3: ='[5]2020-25 actual performance data'!E26 -> 0.055555556 | C3: ='[5]2020-25 actual performance data'!F26 -> 0.022727273 | D3: ='[5]2020-25 actual performance data'!G26 -> 0.0075757576 | E3: ='[5]2020-25 actual performance data'!H26 -> 0.0438 | F3: =AVERAGE(A3:E3) -> 0.076725368 | G3: =S22 -> 0.00746 | H3: =S38 -> 0.29442 | I3: InvGauss
R5: Input | S5: InvGauss
Q6: Minimum | R6: 0.00758 | S6: 0.00171
Q7: Maximum | R7: 0.25397 | S7: {=+∞} -> #NAME?
Q8: Mean | R8: 0.07673 | S8: 0.07673
Q9: Mode | R9: ≈0.01374 | S9: 0.01004
Q10: Median | R10: 0.0438 | S10: 0.03311
Q11: Std Dev | R11: 0.1008 | S11: 0.12916
Q12: Skewness | R12: 2.0481 | S12: 5.1651
Q13: Kurtosis | R13: 7.3444 | S13: 47.4633
Q14: Left X | R14: 0.008 | S14: 0.008
Q15: Left P | R15: 0.05 | S15: 0.053
Q16: Right X | R16: 0.254 | S16: 0.254
Q17: Right P | R17: 0.95 | S17: 0.937
Q18: Dif. X | R18: 0.24639 | S18: 0.24639
Q19: Dif. P | R19: 0.9 | S19: 0.884
Q20: 0.01 | R20: 0.00758 | S20: 0.00521
Q21: 0.025 | R21: 0.00758 | S21: 0.00623
Q22: 0.05 | R22: 0.00758 | S22: 0.00746
Q23: 0.1 | R23: 0.00758 | S23: 0.00954
Q24: 0.2 | R24: 0.00758 | S24: 0.01363
Q25: 0.25 | R25: 0.02273 | S25: 0.01591
Q26: 0.3 | R26: 0.02273 | S26: 0.01845
Q27: 0.35 | R27: 0.02273 | S27: 0.02133
Q28: 0.4 | R28: 0.02273 | S28: 0.02464
Q29: 0.45 | R29: 0.0438 | S29: 0.02852
Q30: 0.5 | R30: 0.0438 | S30: 0.03311
Q31: 0.55 | R31: 0.0438 | S31: 0.03865
... Q40: 0.99 | R40: 0.25397 | S40: 0.64491

Sheet Transformer Outage - forced
A1: Data in current Transmission reset | F1: Target | G1: KS | H1: KS | I1: KS
A2: Y2021 | B2: Y2022 | C2: Y2023 | D2: Y2024 | E2: Y2025 | G2: Cap | H2: Floor | I2: Distribution
A3: ='[5]2020-25 actual performance data'!D27 -> 0.13492063 | B3: ='[5]2020-25 actual performance data'!E27 -> 0.087301587 | C3: ='[5]2020-25 actual performance data'!F27 -> 0.056 | D3: ='[5]2020-25 actual performance data'!G27 -> 0.06870229 | E3: ='[5]2020-25 actual performance data'!H27 -> 0.031 | F3: =AVERAGE(A3:E3) -> 0.075584902 | G3: =S22 -> 0.02966 | H3: =S38 -> 0.14697 | I3: Lognorm
R5: Input | S5: Lognorm
Q6: Minimum | R6: 0.031 | S6: -0.00821
Q7: Maximum | R7: 0.13492 | S7: {=+∞} -> #NAME?
Q8: Mean | R8: 0.07558 | S8: 0.07583
Q9: Mode | R9: ≈0.03360 | S9: 0.05558
Q10: Median | R10: 0.0687 | S10: 0.06845
Q11: Std Dev | R11: 0.03898 | S11: 0.03775
Q12: Skewness | R12: 0.8025 | S12: 1.4382
Q13: Kurtosis | R13: 3.9447 | S13: 6.8901
Q14: Left X | R14: 0.031 | S14: 0.031
Q15: Left P | R15: 0.05 | S15: 0.059
Q16: Right X | R16: 0.1349 | S16: 0.1349
Q17: Right P | R17: 0.95 | S17: 0.927
Q18: Dif. X | R18: 0.10392 | S18: 0.10392
Q19: Dif. P | R19: 0.9 | S19: 0.868
Q20: 0.01 | R20: 0.031 | S20: 0.02006
Q21: 0.025 | R21: 0.031 | S21: 0.02487
Q22: 0.05 | R22: 0.031 | S22: 0.02966
Q23: 0.1 | R23: 0.031 | S23: 0.03604
Q24: 0.2 | R24: 0.031 | S24: 0.04523
Q25: 0.25 | R25: 0.056 | S25: 0.0492
Q26: 0.3 | R26: 0.056 | S26: 0.05301
Q27: 0.35 | R27: 0.056 | S27: 0.05677
Q28: 0.4 | R28: 0.056 | S28: 0.06056
Q29: 0.45 | R29: 0.0687 | S29: 0.06443
Q30: 0.5 | R30: 0.0687 | S30: 0.06845
Q31: 0.55 | R31: 0.0687 | S31: 0.07269
... Q40: 0.99 | R40: 0.13492 | S40: 0.19962

Sheet Reactive plant - forced
A1: Data in current Transmission reset | F1: Target | G1: KS | H1: KS | I1: KS
A2: Y2021 | B2: Y2022 | C2: Y2023 | D2: Y2024 | E2: Y2025 | G2: Cap | H2: Floor | I2: Distribution
A3: ='[5]2020-25 actual performance data'!D28 -> 0.1 | B3: ='[5]2020-25 actual performance data'!E28 -> 0.055555556 | C3: ='[5]2020-25 actual performance data'!F28 -> 0.068493151 | D3: ='[5]2020-25 actual performance data'!G28 -> 0.040540541 | E3: ='[5]2020-25 actual performance data'!H28 -> 0.026 | F3: =AVERAGE(A3:E3) -> 0.058117849 | G3: =T22 -> 0.02477 | H3: =T38 -> 0.11187 | I3: Lognorm
S5: Input | T5: Lognorm
R6: Minimum | S6: 0.026 | T6: 0.00045
R7: Maximum | S7: 0.1 | T7: {=+∞} -> #NAME?
R8: Mean | S8: 0.058118 | T8: 0.05839
R9: Mode | S9: ≈0.027850 | T9: 0.04248
R10: Median | S10: 0.055556 | T10: 0.05251
R11: Std Dev | S11: 0.028323 | T11: 0.0283
R12: Skewness | S12: 0.6602 | T12: 1.5821
R13: Kurtosis | S13: 3.2514 | T13: 7.757
R14: Left X | S14: 0.026 | T14: 0.026
R15: Left P | S15: 0.05 | T15: 0.062
R16: Right X | S16: 0.1 | T16: 0.1
R17: Right P | S17: 0.95 | T17: 0.919
R18: Dif. X | S18: 0.074 | T18: 0.074
R19: Dif. P | S19: 0.9 | T19: 0.857
R20: 0.01 | S20: 0.026 | T20: 0.0182
R21: 0.025 | S21: 0.026 | T21: 0.02147
R22: 0.05 | S22: 0.026 | T22: 0.02477
R23: 0.1 | S23: 0.026 | T23: 0.02923
R24: 0.2 | S24: 0.026 | T24: 0.03572
R25: 0.25 | S25: 0.040541 | T25: 0.03855
R26: 0.3 | S26: 0.040541 | T26: 0.04129
R27: 0.35 | S27: 0.040541 | T27: 0.04401
R28: 0.4 | S28: 0.040541 | T28: 0.04675
R29: 0.45 | S29: 0.055556 | T29: 0.04957
R30: 0.5 | S30: 0.055556 | T30: 0.05251
R31: 0.55 | S31: 0.055556 | T31: 0.05562
... R40: 0.99 | S40: 0.1 | T40: 0.15316

Sheet Active Outage Duration
A1: Data in current Transmission reset | F1: Target | G1: KS | H1: KS | I1: KS
A2: Y2021 | B2: Y2022 | C2: Y2023 | D2: Y2024 | E2: Y2025 | G2: Cap | H2: Floor | I2: Distribution
A3: ='[5]2020-25 actual performance data'!D31 -> 37 | B3: ='[5]2020-25 actual performance data'!E31 -> 2 | C3: ='[5]2020-25 actual performance data'!F31 -> 47.85 | D3: ='[5]2020-25 actual performance data'!G31 -> 169.5 | E3: ='[5]2020-25 actual performance data'!H31 -> 84.75 | F3: =AVERAGE(A3:E3) -> 68.22 | G3: =S22 -> 1.26 | H3: =S38 -> 200.41 | I3: Lognorm
R5: Input | S5: LogNorm
Q6: Minimum | R6: 2 | S6: -23.67
Q7: Maximum | R7: 169.5 | S7: {=+∞} -> #NAME?
Q8: Mean | R8: 68.22 | S8: 69.72
Q9: Mode | R9: ≈6.19 | S9: 24.2
Q10: Median | R10: 47.85 | S10: 51.07
Q11: Std Dev | R11: 63.85 | S11: 69.97
Q12: Skewness | R12: 1.1433 | S12: 2.6684
Q13: Kurtosis | R13: 4.4515 | S13: 17.8705
Q14: Left X | R14: 2 | S14: 2
Q15: Left P | R15: 0.05 | S15: 0.055
Q16: Right X | R16: 169.5 | S16: 169.5
Q17: Right P | R17: 0.95 | S17: 0.923
Q18: Dif. X | R18: 167.5 | S18: 167.5
Q19: Dif. P | R19: 0.9 | S19: 0.868
Q20: 0.01 | R20: 2 | S20: -7.85
Q21: 0.025 | R21: 2 | S21: -3.47
Q22: 0.05 | R22: 2 | S22: 1.26
Q23: 0.1 | R23: 2 | S23: 8.1
Q24: 0.2 | R24: 2 | S24: 18.95
Q25: 0.25 | R25: 37 | S25: 23.98
Q26: 0.3 | R26: 37 | S26: 29
Q27: 0.35 | R27: 37 | S27: 34.12
Q28: 0.4 | R28: 37 | S28: 39.44
Q29: 0.45 | R29: 47.85 | S29: 45.06
Q30: 0.5 | R30: 47.85 | S30: 51.07
Q31: 0.55 | R31: 47.85 | S31: 57.61
... Q40: 0.99 | R40: 169.5 | S40: 329.48

Sheet LOS >0.05 system minutes
A1: Data in current Transmission reset | F1: Target | G1: AIC | H1: AIC | I1: Chosen
A2: Y2021 | B2: Y2022 | C2: Y2023 | D2: Y2024 | E2: Y2025 | G2: Cap | H2: Floor | I2: Preferred distribution
A3: ='[5]2020-25 actual performance data'!D29 -> 0 | B3: ='[5]2020-25 actual performance data'!E29 -> 2 | C3: ='[5]2020-25 actual performance data'!F29 -> 0 | D3: ='[5]2020-25 actual performance data'!G29 -> 1 | E3: ='[5]2020-25 actual performance data'!H29 -> 0 | F3: =AVERAGE(A3:E3) -> 0.6 | G3: =MAX(R22,0) -> 0 | H3: =R38 -> 2 | I3: Poisson
Q5: Input | R5: Poisson
P6: Minimum | Q6: 0 | R6: 0
P7: Maximum | Q7: 2 | R7: {=+∞} -> #NAME?
P8: Mean | Q8: 0.6 | R8: 0.6
P9: Mode | Q9: 0 | R9: 0
P10: Median | Q10: 0 | R10: 0
P11: Std Dev | Q11: 0.8944 | R11: 0.7746
P12: Skewness | Q12: 1.2578 | R12: 1.291
P13: Kurtosis | Q13: 3.3125 | R13: 4.6667
P14: Left X | Q14: 0 | R14: 0
P15: Left P | Q15: 0.05 | R15: 0.549
P16: Right X | Q16: 2 | R16: 2
P17: Right P | Q17: 0.95 | R17: 0.977
P18: Dif. X | Q18: 2 | R18: 2
P19: Dif. P | Q19: 0.9 | R19: 0.428
P20: 0.01 | Q20: 0 | R20: 0
P21: 0.025 | Q21: 0 | R21: 0
P22: 0.05 | Q22: 0 | R22: 0
P23: 0.1 | Q23: 0 | R23: 0
P24: 0.2 | Q24: 0 | R24: 0
P25: 0.25 | Q25: 0 | R25: 0
P26: 0.3 | Q26: 0 | R26: 0
P27: 0.35 | Q27: 0 | R27: 0
P28: 0.4 | Q28: 0 | R28: 0
P29: 0.45 | Q29: 0 | R29: 0
P30: 0.5 | Q30: 0 | R30: 0
P31: 0.55 | Q31: 0 | R31: 1
... P40: 0.99 | Q40: 2 | R40: 3

Sheet LOS > 0.3 system minutes
A1: Data in current Transmission reset | F1: Target | G1: AIC | H1: AIC | I1: Chosen
A2: Y2021 | B2: Y2022 | C2: Y2023 | D2: Y2024 | E2: Y2025 | G2: Cap | H2: Floor | I2: Preferred distribution
A3: ='[5]2020-25 actual performance data'!D30 -> 0 | B3: ='[5]2020-25 actual performance data'!E30 -> 0 | C3: ='[5]2020-25 actual performance data'!F30 -> 0 | D3: ='[5]2020-25 actual performance data'!G30 -> 0 | E3: ='[5]2020-25 actual performance data'!H30 -> 0 | F3: =AVERAGE(A3:E3) -> 0 | G3: =AH36 -> 0 | H3: =AH52 -> 0 | I3: Poisson
A6: Zero distribution: no chart available

Sheet Failure of protection systems
A1: Data in current Transmission reset | F1: Target | G1: AIC | H1: AIC
A2: Y2021 | B2: Y2022 | C2: Y2023 | D2: Y2024 | E2: Y2025 | G2: Cap | H2: Floor
A3: ='[5]2020-25 actual performance data'!D32 -> 16 | B3: ='[5]2020-25 actual performance data'!E32 -> 6 | C3: ='[5]2020-25 actual performance data'!F32 -> 1 | D3: ='[5]2020-25 actual performance data'!G32 -> 0 | E3: ='[5]2020-25 actual performance data'!H32 -> 1 | F3: =AVERAGE(A3:E3) -> 4.8 | G3: =MAX(0,R21) -> 0 | H3: =R37 -> 15 | I3: Geomet
Q4: Input | R4: Geomet
P5: Minimum | Q5: 0 | R5: 0
P6: Maximum | Q6: 16 | R6: {=+∞} -> #NAME?
P7: Mean | Q7: 4.8 | R7: 4.8
P8: Mode | Q8: 1 | R8: 0
P9: Median | Q9: 1 | R9: 3
P10: Std Dev | Q10: 6.686 | R10: 5.276
P11: Skewness | Q11: 1.654 | R11: 2.009
P12: Kurtosis | Q12: 5.4382 | R12: 9.0359
P13: Left X | Q13: 0 | R13: 0
P14: Left P | Q14: 0.05 | R14: 0.172
P15: Right X | Q15: 16 | R15: 16
P16: Right P | Q16: 0.95 | R16: 0.96
P17: Dif. X | Q17: 16 | R17: 16
P18: Dif. P | Q18: 0.9 | R18: 0.788
P19: 0.01 | Q19: 0 | R19: 0
P20: 0.025 | Q20: 0 | R20: 0
P21: 0.05 | Q21: 0 | R21: 0
P22: 0.1 | Q22: 0 | R22: 0
P23: 0.2 | Q23: 0 | R23: 1
P24: 0.25 | Q24: 1 | R24: 1
P25: 0.3 | Q25: 1 | R25: 1
P26: 0.35 | Q26: 1 | R26: 2
P27: 0.4 | Q27: 1 | R27: 2
P28: 0.45 | Q28: 1 | R28: 3
P29: 0.5 | Q29: 1 | R29: 3
P30: 0.55 | Q30: 1 | R30: 4
... P39: 0.99 | Q39: 16 | R39: 24

Sheet Material failure of SCADA
A1: Data in current Transmission reset | F1: Target | G1: AIC | H1: AIC
A2: Y2021 | B2: Y2022 | C2: Y2023 | D2: Y2024 | E2: Y2025 | G2: Cap | H2: Floor
A3: ='[5]2020-25 actual performance data'!D33 -> 3 | B3: ='[5]2020-25 actual performance data'!E33 -> 2 | C3: ='[5]2020-25 actual performance data'!F33 -> 1 | D3: ='[5]2020-25 actual performance data'!G33 -> 4 | E3: ='[5]2020-25 actual performance data'!H33 -> 0 | F3: =AVERAGE(A3:E3) -> 2 | G3: =S22 -> 0 | H3: =S38 -> 5 | I3: Poisson
R5: Input | S5: Poisson
Q6: Minimum | R6: 0 | S6: 0
Q7: Maximum | R7: 4 | S7: {=+∞} -> #NAME?
Q8: Mean | R8: 2 | S8: 2
Q9: Mode | R9: N/A | S9: N/A
Q10: Median | R10: 2 | S10: 2
Q11: Std Dev | R11: 1.5811 | S11: 1.4142
Q12: Skewness | R12: 0 | S12: 0.7071
Q13: Kurtosis | R13: 1.8 | S13: 3.5
Q14: Left X | R14: 0 | S14: 0
Q15: Left P | R15: 0.05 | S15: 0.135
Q16: Right X | R16: 4 | S16: 4
Q17: Right P | R17: 0.95 | S17: 0.947
Q18: Dif. X | R18: 4 | S18: 4
Q19: Dif. P | R19: 0.9 | S19: 0.812
Q20: 0.01 | R20: 0 | S20: 0
Q21: 0.025 | R21: 0 | S21: 0
Q22: 0.05 | R22: 0 | S22: 0
Q23: 0.1 | R23: 0 | S23: 0
Q24: 0.2 | R24: 0 | S24: 1
Q25: 0.25 | R25: 1 | S25: 1
Q26: 0.3 | R26: 1 | S26: 1
Q27: 0.35 | R27: 1 | S27: 1
Q28: 0.4 | R28: 1 | S28: 1
Q29: 0.45 | R29: 2 | S29: 2
Q30: 0.5 | R30: 2 | S30: 2
Q31: 0.55 | R31: 2 | S31: 2
... Q40: 0.99 | R40: 4 | S40: 6

Sheet Incorrect operation isolation
A1: Data in current Transmission reset | F1: Target | G1: AIC | H1: AIC
A2: Y2021 | B2: Y2022 | C2: Y2023 | D2: Y2024 | E2: Y2025 | G2: Cap | H2: Floor
A3: ='[5]2020-25 actual performance data'!D34 -> 3 | B3: ='[5]2020-25 actual performance data'!E34 -> 0 | C3: ='[5]2020-25 actual performance data'!F34 -> 1 | D3: ='[5]2020-25 actual performance data'!G34 -> 0 | E3: ='[5]2020-25 actual performance data'!H34 -> 3 | F3: =AVERAGE(A3:E3) -> 1.4 | G3: =R22 -> 0 | H3: =R38 -> 5 | I3: Geomet
Q5: Input | R5: Geomet
P6: Minimum | Q6: 0 | R6: 0
P7: Maximum | Q7: 3 | R7: {=+∞} -> #NAME?
P8: Mean | Q8: 1.4 | R8: 1.4
P9: Mode | Q9: N/A | R9: 0
P10: Median | Q10: 1 | R10: 1
P11: Std Dev | Q11: 1.5166 | R11: 1.833
P12: Skewness | Q12: 0.3154 | R12: 2.0731
P13: Kurtosis | Q13: -0.0813 | R13: 9.2976
P14: Left X | Q14: 0 | R14: 0
P15: Left P | Q15: 0.05 | R15: 0.417
P16: Right X | Q16: 3 | R16: 3
P17: Right P | Q17: 1 | R17: 0.884
P18: Dif. X | Q18: 3 | R18: 3
P19: Dif. P | Q19: 0.95 | R19: 0.468
P20: 0.01 | Q20: 0 | R20: 0
P21: 0.025 | Q21: 0 | R21: 0
P22: 0.05 | Q22: 0 | R22: 0
P23: 0.1 | Q23: 0 | R23: 0
P24: 0.2 | Q24: 0 | R24: 0
P25: 0.25 | Q25: 0 | R25: 0
P26: 0.3 | Q26: 0 | R26: 0
P27: 0.35 | Q27: 0 | R27: 0
P28: 0.4 | Q28: 0 | R28: 0
P29: 0.45 | Q29: 1 | R29: 1
P30: 0.5 | Q30: 1 | R30: 1
P31: 0.55 | Q31: 1 | R31: 1
... P40: 0.99 | Q40: 3 | R40: 8

Sheet 2020-25 actual performance data
A1: Table 1: Raw data transferand outage rate calculation
C2: 2020 | D2: 2020 | E2: 2021 | F2: 2021 | G2: 2022 | H2: 2022 | I2: 2023 | J2: 2023 | K2: 2024 | L2: 2024 | M2: 2025 | N2: 2025
B3: Lines | C3: ='[5]2020'!O3 -> 125 | E3: ='[5]2021'!O3 -> 126 | G3: ='[5]2022 Q2-4'!O3 -> 126 | I3: ='[5]2023'!P9 -> 132 | K3: ='[5]2024'!P9 -> 132 | M3: 137
B4: Transformers | C4: ='[5]2020'!O4 -> 128 | E4: ='[5]2021'!O4 -> 126 | G4: ='[5]2022 Q2-4'!O4 -> 126 | I4: ='[5]2023'!P10 -> 125 | K4: ='[5]2024'!P10 -> 131 | M4: 129
B5: Reactive Plant | C5: ='[5]2020'!O5 -> 71 | E5: ='[5]2021'!O5 -> 70 | G5: ='[5]2022 Q2-4'!O5 -> 72 | I5: ='[5]2023'!P11 -> 73 | K5: ='[5]2024'!P11 -> 74 | M5: 77
A6: S | B6: Performance parameter | C6: No. of Outages | D6: Outage Rate | E6: No. of Outages | F6: Outage Rate | G6: No. of Outages | H6: Outage Rate | I6: No. of Outages | J6: Outage Rate | K6: No. of Outages | L6: Outage Rate | M6: No. of Outages | N6: Outage Rate
A7: S1 | B7: line outage - fault | C7: ='[5]2020'!M3 -> 22 | D7: =C7/$C$3 -> 0.176 | E7: ='[5]2021'!M3 -> 23 | F7: =E7/$E$3 -> 0.18253968 | G7: ='[5]2022 Q1'!M3+'[5]2022 Q2-4'!M3 -> 8 | H7: =G7/$G$3 -> 0.063492063 | I7: ='[5]2023'!N9 -> 7 | J7: =I7/$I$3 -> 0.053030303 | K7: ='[5]2024'!N9 -> 12 | L7: =K7/$K$3 -> 0.090909091 | M7: 6 | N7: 0.0438
A8: S2 | B8: transformer outage - fault | C8: ='[5]2020'!M4 -> 20 | D8: =C8/$C$4 -> 0.15625 | E8: ='[5]2021'!M4 -> 25 | F8: =E8/$E$4 -> 0.1984127 | G8: ='[5]2022 Q1'!M4+'[5]2022 Q2-4'!M4 -> 9 | H8: =G8/$G$4 -> 0.071428571 | I8: ='[5]2023'!N10 -> 6 | J8: =I8/$I$4 -> 0.048 | K8: ='[5]2024'!N10 -> 10 | L8: =K8/$K$4 -> 0.076335878 | M8: 9 | N8: 0.0698
A9: S3 | B9: reactive plant - fault | C9: ='[5]2020'!M5 -> 16 | D9: =C9/$C$5 -> 0.22535211 | E9: ='[5]2021'!M5 -> 15 | F9: =E9/$E$5 -> 0.21428571 | G9: ='[5]2022 Q1'!M5+'[5]2022 Q2-4'!M5 -> 3 | H9: =G9/$G$5 -> 0.041666667 | I9: ='[5]2023'!N11 -> 9 | J9: =I9/$I$5 -> 0.12328767 | K9: ='[5]2024'!N11 -> 4 | L9: =K9/$K$5 -> 0.054054054 | M9: 8 | N9: 0.1039
A10: S4 | B10: line outage - forced | C10: ='[5]2020'!M6 -> 9 | D10: =C10/$C$3 -> 0.072 | E10: ='[5]2021'!M6 -> 32 | F10: =E10/$E$3 -> 0.25396825 | G10: ='[5]2022 Q1'!M6+'[5]2022 Q2-4'!M6 -> 7 | H10: =G10/$G$3 -> 0.055555556 | I10: ='[5]2023'!N12 -> 3 | J10: =I10/$I$3 -> 0.022727273 | K10: ='[5]2024'!N12 -> 1 | L10: =K10/$K$3 -> 0.0075757576 | M10: 6 | N10: 0.0438
A11: S5 | B11: transformer outage - forced | C11: ='[5]2020'!M7 -> 15 | D11: =C11/$C$4 -> 0.1171875 | E11: ='[5]2021'!M7 -> 17 | F11: =E11/$E$4 -> 0.13492063 | G11: ='[5]2022 Q1'!M7+'[5]2022 Q2-4'!M7 -> 11 | H11: =G11/$G$4 -> 0.087301587 | I11: ='[5]2023'!N13 -> 7 | J11: =I11/$I$4 -> 0.056 | K11: ='[5]2024'!N13 -> 9 | L11: =K11/$K$4 -> 0.06870229 | M11: 4 | N11: 0.031
A12: S6 | B12: reactive plant - forced | C12: ='[5]2020'!M8 -> 14 | D12: =C12/$C$5 -> 0.1971831 | E12: ='[5]2021'!M8 -> 7 | F12: =E12/$E$5 -> 0.1 | G12: ='[5]2022 Q1'!M8+'[5]2022 Q2-4'!M8 -> 4 | H12: =G12/$G$5 -> 0.055555556 | I12: ='[5]2023'!N14 -> 5 | J12: =I12/$I$5 -> 0.068493151 | K12: ='[5]2024'!N14 -> 3 | L12: =K12/$K$5 -> 0.040540541 | M12: 2 | N12: 0.026
A13: S7 | B13: LOS >0.05 system minutes | D13: ='[5]2020'!J10 -> 3 | F13: ='[5]2021'!J10 -> 0 | H13: ='[5]2022 Q1'!J10+'[5]2022 Q2-4'!J10 -> 2 | J13: ='[5]2023'!N17 -> 0 | L13: ='[5]2024'!N17 -> 1 | N13: 0
A14: S8 | B14: LOS >0.3 system minutes | D14: ='[5]2020'!J11 -> 1 | F14: ='[5]2021'!J11 -> 0 | H14: ='[5]2022 Q1'!J11+'[5]2022 Q2-4'!J11 -> 0 | J14: ='[5]2023'!N18 -> 0 | L14: ='[5]2024'!N18 -> 0 | N14: 0
A15: S9 | B15: Average outage duration | D15: ='[5]2020'!N15/'[5]2020'!N14 -> 57.6 | F15: ='[5]2021'!M15/'[5]2021'!M14 -> 37 | H15: =('[5]2022 Q1'!N15+'[5]2022 Q2-4'!N15)/('[5]2022 Q1'!N14+'[5]2022 Q2-4'!N14) -> 2 | J15: ='[5]2023'!N24/'[5]2023'!N22 -> 47.85 | L15: ='[5]2024'!N24/'[5]2024'!N22 -> 169.5 | N15: 84.75
A16: S10 | B16: Failure of protection system | D16: ='[5]2020'!J17 -> 23 | F16: ='[5]2021'!J17 -> 16 | H16: ='[5]2022 Q1'!I17+'[5]2022 Q2-4'!I17 -> 6 | J16: ='[5]2023'!N27 -> 1 | L16: ='[5]2024'!N27 -> 0 | N16: 1
A17: S11 | B17: Material failure of SCADA | D17: ='[5]2020'!J18 -> 0 | F17: ='[5]2021'!J18 -> 3 | H17: ='[5]2022 Q1'!I18+'[5]2022 Q2-4'!I18 -> 2 | J17: ='[5]2023'!N28 -> 1 | L17: ='[5]2024'!N28 -> 4 | N17: 0
A18: S12 | B18: Incorrect operational isolation of primary or secondary equipment | D18: ='[5]2020'!J19 -> 6 | F18: ='[5]2021'!J19 -> 3 | H18: ='[5]2022 Q1'!I19+'[5]2022 Q2-4'!I19 -> 0 | J18: ='[5]2023'!N29 -> 1 | L18: ='[5]2024'!N29 -> 0 | N18: 3
A21: Table 2: STPIS SC Yearly Outage Rates Summary 2020-2024 (Calendar Years)
A22: S | B22: Performance parameter | C22: 2020 | D22: 2021 | E22: 2022 | F22: 2023 | G22: 2024 | H22: 2025
A23: S1 | B23: line outage - fault | C23: =D7 -> 0.176 | D23: =F7 -> 0.18253968 | E23: =H7 -> 0.063492063 | F23: =J7 -> 0.053030303 | G23: =L7 -> 0.090909091 | H23: =N7 -> 0.0438
A24: S2 | B24: transformer outage - fault | C24: =D8 -> 0.15625 | D24: =F8 -> 0.1984127 | E24: =H8 -> 0.071428571 | F24: =J8 -> 0.048 | G24: =L8 -> 0.076335878 | H24: =N8 -> 0.0698
A25: S3 | B25: reactive plant - fault | C25: =D9 -> 0.22535211 | D25: =F9 -> 0.21428571 | E25: =H9 -> 0.041666667 | F25: =J9 -> 0.12328767 | G25: =L9 -> 0.054054054 | H25: =N9 -> 0.1039
A26: S4 | B26: line outage - forced | C26: =D10 -> 0.072 | D26: =F10 -> 0.25396825 | E26: =H10 -> 0.055555556 | F26: =J10 -> 0.022727273 | G26: =L10 -> 0.0075757576 | H26: =N10 -> 0.0438
A27: S5 | B27: transformer outage - forced | C27: =D11 -> 0.1171875 | D27: =F11 -> 0.13492063 | E27: =H11 -> 0.087301587 | F27: =J11 -> 0.056 | G27: =L11 -> 0.06870229 | H27: =N11 -> 0.031
A28: S6 | B28: reactive plant - forced | C28: =D12 -> 0.1971831 | D28: =F12 -> 0.1 | E28: =H12 -> 0.055555556 | F28: =J12 -> 0.068493151 | G28: =L12 -> 0.040540541 | H28: =N12 -> 0.026
A29: S7 | B29: LOS >0.05 system minutes | C29: =D13 -> 3 | D29: =F13 -> 0 | E29: =H13 -> 2 | F29: =J13 -> 0 | G29: =L13 -> 1 | H29: =N13 -> 0
A30: S8 | B30: LOS >0.3 system minutes | C30: =D14 -> 1 | D30: =F14 -> 0 | E30: =H14 -> 0 | F30: =J14 -> 0 | G30: =L14 -> 0 | H30: =N14 -> 0
A31: S9 | B31: Average outage duration | C31: =D15 -> 57.6 | D31: =F15 -> 37 | E31: =H15 -> 2 | F31: =J15 -> 47.85 | G31: =L15 -> 169.5 | H31: =N15 -> 84.75
A32: S10 | B32: Failure of protection system | C32: =D16 -> 23 | D32: =F16 -> 16 | E32: =H16 -> 6 | F32: =J16 -> 1 | G32: =L16 -> 0 | H32: =N16 -> 1
A33: S11 | B33: Material failure of SCADA | C33: =D17 -> 0 | D33: =F17 -> 3 | E33: =H17 -> 2 | F33: =J17 -> 1 | G33: =L17 -> 4 | H33: =N17 -> 0
A34: S12 | B34: Incorrect operational isolation of primary or secondary equipment | C34: =D18 -> 6 | D34: =F18 -> 3 | E34: =H18 -> 0 | F34: =J18 -> 1 | G34: =L18 -> 0 | H34: =N18 -> 3
