{"text_format":"1","workbook":"xlsx","n_sheets":20,"sheets":["AER Changes","Instructions","Opt 1-replace all MV ","All MV replaced with MV","DNSP Inputs General","DNSP Inputs O & M","DNSP Inputs Capex","PL Tariffs","PL Tariff Components","Cashflow Summary","Charges Summary","O & M 2022-2026","Capex 2022-2026","WACC","Depn & WACC Post 2004 Central","Depn & WACC Post 2004 N & E","Total RAB","RAB 2001 to 2004 Central","RAB 2001 to 2004 N & E","Inputs PL Final Decision 2004"],"not_rendered":{"charts":0,"images":0,"macros":0,"external_links":0,"defined_names":1,"comments":1,"pivot_tables":0},"unopened":[],"bounds":{"document_bytes":16777216,"sheet_cells":100000,"rows_first":2000,"rows_last":500,"rows_between":2000,"halvings":0,"cell_chars":16384,"cell_head_chars":4096},"cells_cut":0,"cells_raw":0,"read":"whole","date_system":"1900"}

{"sheet":"AER Changes","index":0,"n_rows":80,"n_cols":3,"rows_kept":80,"cut":false,"hidden":false,"merged":[]}
[]
[]
[]
["Issues","Location","Comment"]
[]
[{"$f":"A3+1","v":1},"DNSP Inputs General'!J20:N20","Actual O & M not consistent with Annual RIN Data"]
[]
[{"$f":"A6+1","v":2},"DNSP Inputs General'!D31:D35","Update for AER Draft Decision CPI Forecast"]
[]
[{"$f":"A8+1","v":3},"DNSP Inputs General'!B26:F26","Update for AER Draft Decision Real Pre Tax WACC"]
[]
[]
[{"$f":"A10+1","v":4},"DNSP Inputs General'!E72:E75","Prices from  \"2020 AusNet  Public Lighting Prices\""]
[null,"DNSP Inputs General'!E116:E119"]
[]
[]
[{"$f":"A13+1","v":5},"DNSP Inputs General'!Q128:U128","AER Draft Decision Real Labour Escalator"]
[]
[{"$f":"A17+1","v":6},"WACC!C14:D14","Update for CPI to be applied to prices in 2021/22"]
[]
[]
[{"$f":"A19+1","v":7},"DNSP Inputs O & M'!D284:H284","Error in failure rates corrected (as per AusNet Info Request 58)"]
[null,"DNSP Inputs O & M'!D330:H330"]
[]
[]
[{"$f":"A22+1","v":8},"DNSP Inputs O & M'!E12:H13","Applied AER real labour escalation from 2022/23 onwards"]
[]
[{"$f":"A26+1","v":9},"DNSP Inputs O & M'!D14:H16","AER Draft Decision Elevated platform and Patrol vehicle costs"]
[]
[]
[{"$f":"A28+1","v":10},"DNSP Inputs O & M'!D34:H36","AER Draft Decision Bulk lamp changes in a day"]
[null,"DNSP Inputs O & M'!D193:H195"]
[null,"DNSP Inputs O & M'!D242:H244"]
[]
[]
[{"$f":"A31+1","v":11},"DNSP Inputs O & M'!D37:H39","AER Draft Decision Repairs in a day"]
[null,"DNSP Inputs O & M'!D196:H198"]
[null,"DNSP Inputs O & M'!D245:H247"]
[]
[]
[{"$f":"A36+1","v":12},"DNSP Inputs O & M'!D294:H294","AER Draft Decision  P LED Repairs in a day"]
[null,"DNSP Inputs O & M'!D340:H340"]
[]
[]
[{"$f":"A41+1","v":13},"DNSP Inputs O & M'!D286:H286","AER Draft Decision P LED Luminaire cost"]
[null,"DNSP Inputs O & M'!D332:H332"]
[]
[]
[{"$f":"A45+1","v":14},"DNSP Inputs O & M'!D378:H378","AER Draft Decision V LED Luminaire cost"]
[null,"DNSP Inputs O & M'!D424:H424"]
[null,"DNSP Inputs O & M'!D470:H470"]
[]
[]
[{"$f":"A49+1","v":15},"DNSP Inputs General'!Q42:U42","MV Lights replaced with MV Lights"]
[null,"DNSP Inputs General'!Q45:U48"]
[null,"DNSP Inputs General'!Q52:U53"]
[null,"DNSP Inputs General'!Q71:U71"]
[null,"DNSP Inputs General'!Q73:U75"]
[null,"DNSP Inputs General'!Q86:U86"]
[null,"DNSP Inputs General'!Q89:U92"]
[null,"DNSP Inputs General'!Q96:U97"]
[null,"DNSP Inputs General'!Q115:U115"]
[null,"DNSP Inputs General'!Q117:U119"]
[]
[null,"DNSP Inputs O & M'!D46:H46"]
[null,"DNSP Inputs O & M'!D53:H53"]
[null,"DNSP Inputs O & M'!D300:H300"]
[null,"DNSP Inputs O & M'!D307:H307"]
[null,"DNSP Inputs O & M'!D392:H392"]
[null,"DNSP Inputs O & M'!D399:H399"]
[null,"DNSP Inputs O & M'!D438:H438"]
[null,"DNSP Inputs O & M'!D445:H445"]
[null,"DNSP Inputs O & M'!D484:H484"]
[null,"DNSP Inputs O & M'!D491:H491"]
[]
[null,"DNSP Inputs Capex'!D31:H33"]
[null,"DNSP Inputs Capex'!D154:H156"]
[null,"DNSP Inputs Capex'!D188:H190"]
[null,"DNSP Inputs Capex'!D205:H207"]
[null,"DNSP Inputs Capex'!D222:H224"]

{"sheet":"Instructions","index":1,"n_rows":70,"n_cols":12,"rows_kept":70,"cut":false,"hidden":false,"merged":[]}
[{"$f":"'DNSP Inputs O & M'!$A$3","v":"AusNet"}]
[]
["Instructions"]
[]
["This model is to be used for the setting of Public Lighting Tariffs for the Regulatory Period 2016 to 2020 based on forecast inflation rates and Real Pre Tax WACC."]
[]
["Distributor data input fields are shaded",null,"      and located in tabs \"DNSP Inputs General\" , \"DNSP Inputs O & M\" and  \"DNSP Inputs Capex\""]
["NOTE : All Distributor data input fields have been populated with AER Preliminary Decision data in this model."]
[]
[]
[]
["This model will also to be used for the annual Public Lighting Tariff Approvals in the Regulatory Period 2016 to 2020 based on actual inflation rates and Real Pre Tax WACC."]
[]
[]
[]
[]
[]
[]
[]
[]
[]
[]
[]
[]
[]
[]
[]
[]
[]
[]
[]
[]
[]
[]
[]
[]
[]
[]
[]
[]
[]
[]
[]
[]
[]
[]
[]
[]
[]
[]
[]
[]
[]
[]
[]
[]
[]
[]
[]
[]
[]
[]
[]
[]
[]
[]
[]
[]
[]
[null,null,null,null,null,null,null,{"$f":"G70","v":0},{"$f":"H70","v":0},{"$f":"I70","v":0},{"$f":"J70","v":0},{"$f":"K70","v":0}]

{"sheet":"Opt 1-replace all MV ","index":2,"n_rows":112,"n_cols":39,"rows_kept":112,"cut":false,"hidden":false,"merged":[[21,1,21,3],[57,1,57,3]]}
["Option 1"]
[]
["Table of requested volumes",null,null,null,null,null,null,null,null,null,null,null,null,"Table of change in volumes"]
[null,null,"2021-06-01","FY22","FY23","FY24","FY25 ","FY26",null,null,null,null,null,null,"2021-06-01","FY22","FY23","FY24","FY25 ","FY26",null,"Comments"]
[1,"MV 80W",{"$f":"G25+G61","v":22963.375427299998},{"$f":"I25+I61","v":16402.411019499996},{"$f":"K25+K61","v":9841.4466116999993},{"$f":"M25+M61","v":3280.9822038999996},{"$f":"O25+O61","v":1},{"$f":"Q25+Q61","v":1},null,null,"rows 23 and 59",null,null,"MV 80W",null,{"$f":"D5-C5","v":-6560.9644078000019},{"$f":"E5-D5","v":-6560.9644077999965},-6560.4644078000001,-3279.9822038999996,0,null,"Minamata bulk changes and failed light replacements"]
[2,"MV 50W",{"$f":"G28+G64","v":103.38482798874998},{"$f":"I28+I64","v":73.846305706249993},{"$f":"K28+K64","v":44.307783423749996},{"$f":"M28+M64","v":14.769261141249999},{"$f":"O28+O64","v":0},{"$f":"Q28+Q64","v":0},null,null,"rows 26 and 62",null,null,"MV 50W",null,{"$f":"D6-C6","v":-29.538522282499983},-29.538522282499997,-29.538522282499997,-14.769261141249999,0,null,"Minamata bulk changes and failed light replacements"]
[3,"MV 125W",{"$f":"G29+G65","v":282.29278461999996},{"$f":"I29+I65","v":201.63770329999997},{"$f":"K29+K65","v":120.98262197999999},{"$f":"M29+M65","v":40.327540659999997},{"$f":"O29+O65","v":0},{"$f":"Q29+Q65","v":0},null,null,null,null,null,"MV 125W",null,-80.655081319999994,-80.655081319999979,-80.655081319999994,-40.327540659999997,0,null,"Minamata bulk changes and failed light replacements"]
[4,"MV 250W",{"$f":"G30+G66","v":1260.2579683925001},900.1842631374999,540.11055788249996,180.0368526275,0,0,null,null,null,null,null,"MV 250W",null,-360.07370525500016,-360.07370525499994,-360.07370525499994,-180.0368526275,0,null,"Minamata bulk changes and failed light replacements"]
[5,"MV 400W",{"$f":"G31+G67","v":302.015846055},215.72560432499998,129.43536259499999,43.145120864999996,0,0,null,null,null,null,null,"MV 400W",null,-86.29024173000002,-86.290241729999991,-86.290241729999991,-43.145120864999996,0,null,"Minamata bulk changes and failed light replacements"]
[6,"LED 14W",{"$f":"G47+G83","v":25},{"$f":"I47+I83","v":25},{"$f":"K47+K83","v":25},{"$f":"M47+M83","v":25},{"$f":"O47+O83","v":25},{"$f":"Q47+Q83","v":25},null,null,"rows 45 and 81",null,null,"LED 14W",null,0,0,0,0,0]
[7,"LED 18W",{"$f":"G46+G82","v":61000.21593652109},{"$f":"I46+I82","v":70731.891435073092},{"$f":"K46+K82","v":80544.229141452204},{"$f":"M46+M82","v":90439.384256853766},{"$f":"O46+O82","v":97091.407043033862},{"$f":"Q46+Q82","v":100458.3428411519},null,null,"rows 44 and 80",null,null,"LED 18W",null,9731.675498552002,9812.3377063791122,9895.1551154015615,6652.0227861800959,3366.9357981180365,null,"Minamata bulk changes, failed light replacements of other light types and new lights"]
[8,"LED 70-125W",{"$f":"G48+G84","v":2716.4788031052099},{"$f":"I48+I84","v":3497.7943203757204},{"$f":"K48+K84","v":4487.3050289650755},{"$f":"M48+M84","v":5496.8382201771601},{"$f":"O48+O84","v":6318.5692626111331},{"$f":"Q48+Q84","v":7131.0503231412085},null,null,"rows 46 and 82",null,null,"LED 70-125W",null,781.31551727051055,989.51070858935509,1009.5331912120846,821.73104243397302,812.48106053007541,null,"Minamata bulk changes, failed light replacements of other light types (inc /poor condition&aged) and new lights"]
[9,"LED 155W-250W",{"$f":"G49+G85","v":2964.7765752601872},{"$f":"I49+I85","v":5471.2581374569636},{"$f":"K49+K85","v":7884.7222872053453},{"$f":"M49+M85","v":10205.830779025468},{"$f":"O49+O85","v":12435.250360538503},{"$f":"Q49+Q85","v":14618.992823538149},null,null,"rows 47 and 83",null,null,"LED 155W-250W",null,2506.4815621967764,2413.4641497483817,2321.1084918201223,2229.4195815130352,2183.7424629996458,null,"Minamata bulk changes, failed light replacements of other light types (inc /poor condition&aged) and new lights"]
[10,"LED 275W-400W",170.57495056385733,299.97535676375043,430.18046038252777,561.2112685871848,649.94422155734014,695.9611468823249,null,null,"rows 48 and 84",null,null,"LED 275W-400W",null,129.4004061998931,130.20510361877734,131.03080820465703,88.732952970155338,46.016925324984754,null,"Minamata bulk changes, failed light replacements of other light types (inc /poor condition&aged) and new lights"]
[]
[]
["Additional data "]
[]
[]
[]
["Note H1 is an average of H2 from that year and the previous year's H2"]
["Number Of Lights","Central",null,null,null,null,"Jun","Dec","Jun","Dec","Jun","Dec","Jun","Dec","Jun","Dec","Jun",null,null,null,null,"Mapping of replacements"]
[null,null,null,null,null,null,2021,2021,2022,2022,2023,2023,2024,2024,2025,2025,2026]
["Existing Lights",null,null,"Price Factor",null,null,null,null,null,null,null,null,null,null,null,null,null,null,null,null,null,"In Summary, under a Minamata bulk replacement:"]
["Mercury Vapour 80W",null,null,1,null,null,15128.279512499999,12967.096724999999,10805.9139375,8644.7311499999996,6483.5483624999997,4322.3655749999998,2161.1827874999999,0,0,0,0,null,null,null,null,"all MV50 and MV80 are replaced by LED 18W"]
["HP Sodium 150W",null,null,1,null,null,17694.26007585504,17402.52015171008,17117.042599715605,16831.565047721127,16552.2046308709,16272.84421402067,15999.460708530594,15726.077203040519,15458.533184307216,15190.989165573912,14923.445146840608,null,null,null,null,"all MV125 and MH100 are replaced by LED 70W-125W (L1)"]
["HP Sodium 250W",null,null,1,null,null,12121.614935370566,11911.229870741134,11700.98367068886,11490.737470636588,11285.348225085549,11079.958979534509,10879.328984869875,10678.698990205241,10482.726395723632,10286.753801242023,10090.781206760414,null,null,null,null,"all MV250 and MH150 are replaced by LED 155W-250W (L2)"]
["Mercury Vapour 50W",null,null,1.53,null,null,21.487812499999997,18.418124999999996,15.348437499999998,12.278749999999999,9.2090624999999982,6.1393749999999994,3.0696874999999997,0,0,0,0,null,null,null,null,"all MV400 are replaced by LED 275W-400W (L4)"]
["Mercury Vapour 125W",null,null,1.47,null,null,255.27521249999998,218.80732499999999,182.33943749999997,145.87154999999998,109.4036625,72.935774999999992,36.467887499999996,0,0,0,0,null,null,null,null,"No lights are replace with LED 14W unless specifically requested by the Local Gov Organisation (LGA)"]
["Mercury Vapour 250W",null,null,1.05,null,null,890.45494999999994,763.24709999999993,636.03924999999992,508.83139999999997,381.62354999999997,254.41569999999999,127.20784999999999,0,0,0,0]
["Mercury Vapour 400W",null,null,1.0900000000000001,null,null,177.059575,151.76534999999998,126.47112499999999,101.17689999999999,75.882674999999992,50.588449999999995,25.294224999999997,0,0,0,0,null,null,null,null,"Light type","Minamata replacement for"]
["HP Sodium 100W",null,null,1.07,null,null,2481.4589410036815,2465.9178820073626,2450.3768230110436,2434.8357640147251,2419.2947050184066,2403.7536460220877,2388.2125870257687,2372.6715280294502,2357.1304690331317,2341.5894100368128,2326.0483510404938,null,null,null,null,"LED 18W","MV80 and MV50"]
["HP Sodium 400W",null,null,1.42,null,null,440.24281572472199,437.48563144944399,434.72844717416598,431.97126289888797,429.21407862360996,426.45689434833196,423.69971007305395,420.94252579777594,418.18534152249794,415.42815724721993,412.67097297194192,null,null,null,null,"LED 70W-125W (L1)","MV 125 and MH100"]
["Metal Halide 70W",null,null,4.3651056775797761,null,null,27.125,23.25,19.375,15.5,11.625,7.75,3.875,0,0,0,0,null,null,null,null,"LED 155W-250W (L2)","MV250 and MH150"]
["Metal Halide 100W",null,null,2.3876890876224905,null,null,29.75,25.5,21.25,17,12.75,8.5,4.25,0,0,0,0,null,null,null,null,"LED 275W-400W (L4)","MV400"]
["Metal Halide 150W",null,null,2.7125868138140996,null,null,28.875,24.75,20.625,16.5,12.375,8.25,4.125,0,0,0,0,null,null,null,null,"All MV and MH lights","Replaced by LED lights as part of bulk replacement as above"]
["HP Sodium 50W",null,null,0.44334506707259064,null,null,0,0,0,0,0,0,0,0,0,0,0,null,null,null,null,"All HPS lights","No bulk exchange"]
[null,null,null,null,null,null,null,null,null,null,null,null,null,null,null,null,null,null,null,null,null,"All T5 lights","No bulk exchange"]
[null,null,null,null,null,null,null,null,null,null,null,null,null,null,null,null,null,null,null,null,null,"Compact Fluorescent lights","No bulk exchange"]
[]
["Total Existing Lights",null,null,null,null,null,"Jun","Dec","Jun","Dec","Jun","Dec","Jun","Dec","Jun","Dec","Jun"]
[null,null,null,null,null,null,2021,2021,2022,2022,2023,2023,2024,2024,2025,2025,2026]
["Energy Efficient Lights",null,null,"Price Factor"]
["T5 2X14W",null,null,1,null,null,20924,20924,20924,20924,20924,20924,20924,20924,20924,20924,20924]
["T5 2X24W",null,null,1,null,null,1649,1649,1649,1649,1649,1649,1649,1649,1649,1649,1649]
["LED 18W",null,null,1,null,null,36672.695838916436,39997.875011042262,43354.224222095567,46710.573433148871,50098.963006431135,53487.352579713392,56908.677139511099,60330.001699308814,61591.876545916828,62853.751392524842,64115.626239132856]
["LED 14W",null,null,1,null,null,14,14,14,14,14,14,14,14,14,14,14]
["LED 70W-125W (L1)",null,null,1,null,null,2130.1291267230199,2426.8364741760756,2731.279310486726,3035.7221467973764,3536.812426485214,4037.9027061730521,4358.4705170915304,4679.0383280100086,4988.3417956554476,5297.6452633008857,5606.9487309463238]
["LED 155W-250W (L2)",null,null,1,null,null,1905.8937346925409,2681.2039834709226,3425.8068672412273,4170.4097510115325,4884.5288404024996,5598.6479297934657,6282.5097426611155,6966.3715555287654,7620.2057106787252,8274.0398658286849,8927.8740209786447]
["LED 275W-400W (L4)",null,null,1,null,null,85.476996957146611,123.09782430727812,160.98584694553452,198.87386958379093,237.03654808106984,275.19922657834871,313.64422981804637,352.08923305774408,365.53021905221362,378.97120504668317,392.41219104115271]
["Compact Fluorescent 32W",null,null,0.87960989252886512,null,null,2849,2849,2849,2849,2849,2849,2849,2849,2849,2849,2849]
["Compact Fluorescent 42W",null,null,0.87960989252886512,null,null,1361,1361,1361,1361,1361,1361,1361,1361,1361,1361,1361]
["Total Energy Efficient Lights",null,null,null,null,null,{"$f":"SUM(G44:G52)","v":67591.195697289135},{"$f":"SUM(H44:H52)","v":72026.013292996533},76469.296246769067,80912.579200541586,85554.340821399921,90196.102442258256,94660.30162908179,99124.500815905325,101362.95427130323,103601.40772670109,105839.86118209899]
[]
["Total Number of Lights",null,null,null,null,null,{"$f":"SUM(G44:G52,G25:G37)","v":116887.07952774315},{"$f":"SUM(H44:H52,H25:H37)","v":118436.00145390454},119999.78997485875,121563.57849581292,123336.81977349838,125110.06105118386,126716.47605708109,128322.89106297831,130079.52966188971,131836.16826080106,133592.80685971244]
[]
[]
["Number Of Lights","North & East",null,null,null,null,"Jun","Dec","Jun","Dec","Jun","Dec","Jun","Dec","Jun","Dec","Jun"]
[null,null,null,null,null,null,2021,2021,2022,2022,2023,2023,2024,2024,2025,2025,2026]
["Existing Lights",null,null,"Price Factor",null,null,"Forecast Volumes"]
["Mercury Vapour 80W",null,null,1,null,null,7835.0959147999984,6715.7964983999982,5596.497081999998,4477.1976655999988,3357.8982491999991,2238.5988327999994,1119.7994163999997,1,1,1,1]
["HP Sodium 150W",null,null,1,null,null,9297.2697753674529,9120.5395507349058,8948.0090404512121,8775.4785301675183,8607.0691531530229,8438.6597761385274,8274.2961551308763,8109.9325341232261,7949.5413241626939,7789.1501142021625,7628.7589042416312]
["HP Sodium 250W",null,null,1,null,null,8256.695220330259,8113.3904406605188,7977.4135297923895,7841.4366189242601,7708.3972363737903,7575.3578538233205,7445.1945817966043,7315.0313097698881,7187.6800997694872,7060.3288897690863,6932.9776797686854]
["Mercury Vapour 50W",null,null,1.48,null,null,81.897015488749986,70.197441847499988,58.49786820624999,46.798294564999992,35.098720923749994,23.399147282499996,11.699573641249998,0,0,0,0]
["Mercury Vapour 125W",null,null,1.48,null,null,27.017572119999997,23.157918959999996,19.298265799999996,15.438612639999999,11.578959479999998,7.7193063199999994,3.8596531599999997,0,0,0,0]
["Mercury Vapour 250W",null,null,1.04,null,null,369.80301839250001,316.97401576499999,264.14501313749997,211.31601050999998,158.4870078825,105.65800525499999,52.829002627499996,0,0,0,0]
["Mercury Vapour 400W",null,null,1.07,null,null,124.95627105499999,107.10537518999999,89.254479324999991,71.403583459999993,53.552687594999995,35.701791729999997,17.850895864999998,0,0,0,0]
["HP Sodium 100W",null,null,1.07,null,null,773.15781181452303,768.31562362904606,763.47343544356909,758.63124725809212,753.78905907261515,748.94687088713818,744.1046827016612,739.26249451618423,734.42030633070726,729.57811814523029,724.73592995975332]
["HP Sodium 400W",null,null,1.42,null,null,513.78224769679741,510.56449539359488,507.34674309039235,504.12899078718976,500.91123848398718,497.69348618078465,494.47573387758212,491.25798157437953,488.04022927117694,484.82247696797441,481.60472466477188]
["Metal Halide 70W",null,null,3.8044420368364027,null,null,0,0,0,0,0,0,0,0,0,0,0]
["Metal Halide 100W",null,null,2.1180491097797653,null,null,0,0,0,0,0,0,0,0,0,0,0]
["Metal Halide 150W",null,null,2.4062948274407225,null,null,0,0,0,0,0,0,0,0,0,0,0]
[{"$f":"A37","v":"HP Sodium 50W"},null,null,0.45472955868703063,null,null,0,0,0,0,0,0,0,0,0,0,0]
[]
[]
[]
["Total Existing Lights"]
[]
["Energy Efficient Lights",null,null,"Price Factor"]
["T5 2X14W",null,null,1,null,null,7921,7921,7921,7921,7921,7921,7921,7921,7921,7921,7921]
["T5 2X24W",null,null,1,null,null,1150,1150,1150,1150,1150,1150,1150,1150,1150,1150,1150]
["LED 18W",null,null,1,null,null,24327.520097604654,25848.278945932194,27377.667212977522,28907.055480022849,30445.266135021062,31983.476790019275,33530.707117342667,35077.937444666051,35499.530497117041,35921.123549568038,36342.716602019034]
["LED 14W",null,null,1,null,null,11,11,11,11,11,11,11,11,11,11,11]
["LED 70W-125W (L1)",null,null,1,null,null,586.34967638218995,675.48981665343842,766.5150098889942,857.54020312455009,950.49260247986149,1043.4450018351729,1138.3677030856293,1233.2904043360857,1330.2274669556853,1427.1645295752849,1524.1015921948845]
["LED 155W-250W (L2)",null,null,1,null,null,1058.8828405676463,1560.1501460445704,2045.4512702157358,2530.752394386901,3000.1934468028458,3469.6344992187906,3923.3210363643525,4377.0075735099144,4815.0446498597776,5253.0817262096407,5691.1188025595038]
["LED 275W-400W (L4)",null,null,1,null,null,85.097953606710718,111.97874673468911,138.98950981821591,166.0002729017427,193.14391230145793,220.28755170117316,247.56703876913843,274.84652583710368,284.41400250512652,293.98147917314935,303.54895584117219]
["Compact Fluorescent 32W",null,null,0.87960989252886512,null,null,671,671,671,671,671,671,671,671,671,671,671]
["Compact Fluorescent 42W",null,null,0.87960989252886512,null,null,3295,3295,3295,3295,3295,3295,3295,3295,3295,3295,3295]
["Total Energy Efficient Lights",null,null,null,null,null,{"$f":"AVERAGE(G80:G88)","v":4345.0945075734671},{"$f":"AVERAGE(H80:H88)","v":4582.6552950405439},{"$f":"AVERAGE(I80:I88)","v":4819.6247781000529},5056.5942611595601,5293.0106774005808,5529.4270936416005,5765.3292106179761,6001.2313275943507,6108.5796240486261,6215.9279205029006,6323.276216957177]
[]
["Total Number of Lights",null,null,null,null,null,{"$f":"SUM(G80:G88,G61:G73)","v":66385.525415226482},66989.939015945478,67600.558460146785,68211.177904348093,68823.878408769902,69436.578913191668,70052.072590762255,70667.566268332826,71337.898575971703,72008.230883610566,72678.563191249428]
[]
[]
[]
[]
[null,null,null,null,null,null,"Jun","Dec","Jun","Dec","Jun","Dec","Jun","Dec","Jun","Dec","Jun"]
[null,null,null,null,null,null,2021,2021,2022,2022,2023,2023,2024,2024,2025,2025,2026]
["LED 18W","Replacements across East and Central - financial year",null,null,null,null,null,7293.813775581827,null,7224.7146807696163,null,7156.0082604122963,null,7087.7050063185889,null,472.66041723604076,{"$f":"P98/2","v":236.33020861802038}]
["LED 18W","Replacements across East and Central - biannual",null,null,null,null,{"$f":"H99","v":3646.9068877909135},{"$f":"H98/2","v":3646.9068877909135},{"$f":"J99","v":3612.3573403848081},{"$f":"J98/2","v":3612.3573403848081},{"$f":"L99","v":3578.0041302061481},{"$f":"L98/2","v":3578.0041302061481},{"$f":"N99","v":3543.8525031592944},{"$f":"N98/2","v":3543.8525031592944},{"$f":"P99","v":236.33020861802038},{"$f":"P98/2","v":236.33020861802038},{"$f":"Q98","v":236.33020861802038},null,null,null,"For copying into the CAPX sheet of the model",null,null,null,null,null,null,null,"Jun","Dec","Jun","Dec","Jun","Dec","Jun","Dec","Jun","Dec","Jun"]
["T5 2X14W","Replacements across East and Central - financial year",null,null,null,null,null,432.62921125395025,null,432.62921125395025,null,432.62921125395025,null,432.62921125395025,null,432.62921125395025,{"$f":"P100/2","v":216.31460562697512},null,null,null,null,null,2021,2022,2023,2024,2025,null,2021,2021,2022,2022,2023,2023,2024,2024,2025,2025,2026]
["T5 2X14W","Replacements across East and Central - biannual",null,null,null,null,{"$f":"H101","v":216.31460562697512},{"$f":"H100/2","v":216.31460562697512},{"$f":"J101","v":216.31460562697512},{"$f":"J100/2","v":216.31460562697512},{"$f":"L101","v":216.31460562697512},{"$f":"L100/2","v":216.31460562697512},{"$f":"N101","v":216.31460562697512},{"$f":"N100/2","v":216.31460562697512},{"$f":"P101","v":216.31460562697512},{"$f":"P100/2","v":216.31460562697512},{"$f":"Q100","v":216.31460562697512},null,null,null,"LED 18W","Number of luminaires replaced per year - urban",5603.7308610813006,5550.6430332335049,5497.856891448575,5445.3804964302972,363.13811242951317,null,{"$f":"W101/2","v":2801.8654305406503},{"$f":"W101/2","v":2801.8654305406503},2775.3215166167524,{"$f":"X101/2","v":2775.3215166167524},2748.9284457242875,{"$f":"Y101/2","v":2748.9284457242875},2722.6902482151486,{"$f":"Z101/2","v":2722.6902482151486},181.56905621475659,{"$f":"AA101/2","v":181.56905621475659},{"$f":"AL101","v":181.56905621475659}]
["T5 2X24W","Replacements across East and Central - financial year",null,null,null,null,null,46.645063165185832,null,46.645063165185832,null,46.645063165185832,null,46.645063165185832,null,46.645063165185832,{"$f":"P102/2","v":23.322531582592916},null,null,null,null,"Number of luminaires replaced per year - rural",1415.3902252318351,1401.9813027697626,1388.6485801672225,1375.3940933966101,91.72141694233575,null,707.69511261591754,707.69511261591754,700.99065138488129,700.99065138488129,694.32429008361123,694.32429008361123,687.69704669830503,687.69704669830503,45.860708471167875,45.860708471167875,45.860708471167875]
["T5 2X24W","Replacements across East and Central - biannual",null,null,null,null,{"$f":"H103","v":23.322531582592916},{"$f":"H102/2","v":23.322531582592916},{"$f":"J103","v":23.322531582592916},{"$f":"J102/2","v":23.322531582592916},{"$f":"L103","v":23.322531582592916},{"$f":"L102/2","v":23.322531582592916},{"$f":"N103","v":23.322531582592916},{"$f":"N102/2","v":23.322531582592916},{"$f":"P103","v":23.322531582592916},{"$f":"P102/2","v":23.322531582592916},{"$f":"Q102","v":23.322531582592916},null,null,null,null,"Number of luminaires replaced per year - remote",274.6926892686912,272.09034476634827,269.50278879649875,266.93041649168123,17.800887864191822,null,137.3463446343456,137.3463446343456,136.04517238317413,136.04517238317413,134.75139439824937,134.75139439824937,133.46520824584061,133.46520824584061,8.9004439320959108,8.9004439320959108,8.9004439320959108]
[null,null,null,null,null,null,null,null,null,null,null,null,null,null,null,null,null,null,null,null,"LED 70W (L1)","Number of luminaires replaced per year - urban",80.086037736918499,83.047369930531787,87.494649995441733,90.612219967052383,25.171089559691605,null,40.043018868459249,40.043018868459249,41.523684965265893,41.523684965265893,43.747324997720867,43.747324997720867,45.306109983526191,45.306109983526191,12.585544779845803,12.585544779845803,12.585544779845803]
["LED 70W (L1)","Replacements across East and Central - financial year",null,null,null,null,null,104.2399536591212,null,108.09442241990011,null,113.88300031656439,null,117.94082810469021,null,32.762679780351945,{"$f":"P105/2","v":16.381339890175973},null,null,null,null,"Number of luminaires replaced per year - rural",20.228129758628278,20.97610298296971,22.099396889973544,22.886832649056828,6.3577132814597723,null,10.114064879314139,10.114064879314139,10.488051491484855,10.488051491484855,11.049698444986772,11.049698444986772,11.443416324528414,11.443416324528414,3.1788566407298862,3.1788566407298862,3.1788566407298862]
["LED 70W (L1)","Replacements across East and Central - biannual",null,null,null,null,{"$f":"H106","v":52.119976829560599},{"$f":"H105/2","v":52.119976829560599},{"$f":"J106","v":54.047211209950056},{"$f":"J105/2","v":54.047211209950056},{"$f":"L106","v":56.941500158282196},{"$f":"L105/2","v":56.941500158282196},{"$f":"N106","v":58.970414052345106},{"$f":"N105/2","v":58.970414052345106},{"$f":"P106","v":16.381339890175973},{"$f":"P105/2","v":16.381339890175973},{"$f":"Q105","v":16.381339890175973},null,null,null,null,"Number of luminaires replaced per year - remote",3.9257861635744358,4.0709495063986161,4.2889534311491042,4.4417754885809986,1.2338769392005686,null,1.9628930817872179,1.9628930817872179,2.035474753199308,2.035474753199308,2.1444767155745521,2.1444767155745521,2.2208877442904993,2.2208877442904993,0.61693846960028431,0.61693846960028431,0.61693846960028431]
["LED 155W (L2)","Replacements across East and Central - financial year",null,null,null,null,null,1672.9532565971601,null,1663.588516766891,null,1638.7869416440728,null,1614.1962583394984,null,1581.5783130089378,{"$f":"P107/2","v":790.78915650446891},null,null,null,"LED 155W (L2)","Number of luminaires replaced per year - urban",1285.3056139882244,1278.1108208104004,1259.0561319747128,1240.1634682505244,1215.1035760599887,null,642.65280699411221,642.65280699411221,639.05541040520018,639.05541040520018,629.5280659873564,629.5280659873564,620.08173412526219,620.08173412526219,607.55178802999433,607.55178802999433,607.55178802999433]
["LED 155W (L2)","Replacements across East and Central - biannual",null,null,null,null,{"$f":"H108","v":836.47662829858007},{"$f":"H107/2","v":836.47662829858007},{"$f":"J108","v":831.79425838344548},{"$f":"J107/2","v":831.79425838344548},{"$f":"L108","v":819.39347082203642},{"$f":"L107/2","v":819.39347082203642},{"$f":"N108","v":807.0981291697492},{"$f":"N107/2","v":807.0981291697492},{"$f":"P108","v":790.78915650446891},{"$f":"P107/2","v":790.78915650446891},{"$f":"Q107","v":790.78915650446891},null,null,null,null,"Number of luminaires replaced per year - rural",324.64246545265007,322.82520474029462,318.01237182746229,313.2404632139482,306.91083616169476,null,162.32123272632504,162.32123272632504,161.41260237014731,161.41260237014731,159.00618591373114,159.00618591373114,156.6202316069741,156.6202316069741,153.45541808084738,153.45541808084738,153.45541808084738]
["LED 275W (L4)","Replacements across East and Central - financial year",null,null,null,null,null,99.365030279840227,null,100.24407705096176,null,101.13324104229281,null,102.03249776310841,null,16.248837226144598,{"$f":"P109/2","v":8.1244186130722991},null,null,null,null,"Number of luminaires replaced per year - remote",63.005177156285512,62.652491216196097,61.718437841897682,60.792326875025701,59.563900787254347,null,31.502588578142756,31.502588578142756,31.326245608098048,31.326245608098048,30.859218920948841,30.859218920948841,30.39616343751285,30.39616343751285,29.781950393627174,29.781950393627174,29.781950393627174]
["LED 275W (L4)","Replacements across East and Central - biannual",null,null,null,null,{"$f":"H110","v":49.682515139920113},{"$f":"H109/2","v":49.682515139920113},{"$f":"J110","v":50.122038525480882},{"$f":"J109/2","v":50.122038525480882},{"$f":"L110","v":50.566620521146405},{"$f":"L109/2","v":50.566620521146405},{"$f":"N110","v":51.016248881554205},{"$f":"N109/2","v":51.016248881554205},{"$f":"P110","v":8.1244186130722991},{"$f":"P109/2","v":8.1244186130722991},{"$f":"Q109","v":8.1244186130722991},null,null,null,"LED 275W (L4)","Number of luminaires replaced per year - urban",76.340705126791022,77.016063954316706,77.699195694732794,78.39008153217209,12.48374491348592,null,{"$f":"W110/2","v":38.170352563395511},{"$f":"W110/2","v":38.170352563395511},{"$f":"X110/2","v":38.508031977158353},{"$f":"X110/2","v":38.508031977158353},{"$f":"Y110/2","v":38.849597847366397},{"$f":"Y110/2","v":38.849597847366397},{"$f":"Z110/2","v":39.195040766086045},{"$f":"Z110/2","v":39.195040766086045},{"$f":"AA110/2","v":6.2418724567429598},{"$f":"AA110/2","v":6.2418724567429598},6.2418724567429598]
[null,null,null,null,null,null,null,null,null,null,null,null,null,null,null,null,null,null,null,null,null,"Number of luminaires replaced per year - rural",19.282133725265329,19.452715843982471,19.625261244877041,19.799765175437688,3.1531440325858391,null,{"$f":"W111/2","v":9.6410668626326643},{"$f":"W111/2","v":9.6410668626326643},9.7263579219912355,{"$f":"X111/2","v":9.7263579219912355},9.8126306224385207,{"$f":"Y111/2","v":9.8126306224385207},9.8998825877188441,{"$f":"Z111/2","v":9.8998825877188441},1.5765720162929195,{"$f":"AA111/2","v":1.5765720162929195},1.5765720162929195]
[null,null,null,null,null,null,null,null,null,null,null,null,null,null,null,null,null,null,null,null,null,"Number of luminaires replaced per year - remote",3.7421914277838737,3.7752972526625834,3.8087841026829801,3.8426510554986315,0.61194828007283908,null,1.8710957138919369,1.8710957138919369,1.8876486263312917,1.8876486263312917,1.90439205134149,1.90439205134149,1.9213255277493158,1.9213255277493158,0.30597414003641954,0.30597414003641954,{"$f":"AL112","v":0.30597414003641954}]

{"sheet":"All MV replaced with MV","index":3,"n_rows":116,"n_cols":26,"rows_kept":116,"cut":false,"hidden":false,"merged":[[0,1,0,12],[0,14,0,25]]}
[null,"Replace All MV Lights with LED Lights",null,null,null,null,null,null,null,null,null,null,null,null,"Replace All MV Lights with MV Lights"]
["Volumes for Pricing",null,null,null,null,null,null,null,"Change in Volumes",null,null,null,null,null,null,null,null,null,null,null,null,"Change in Volumes"]
[{"$f":"'Opt 1-replace all MV '!B22","v":"Central"},"HY2021","2022-06-30","2023-06-30","2024-06-30","2025-06-30","2026-06-30",null,{"$f":"C3","v":"2022-06-30"},{"$f":"D3","v":"2023-06-30"},"2024-06-30","2025-06-30","2026-06-30",null,{"$f":"B3","v":"HY2021"},"2022-06-30","2023-06-30","2024-06-30","2025-06-30","2026-06-30",null,{"$f":"P3","v":"2022-06-30"},{"$f":"Q3","v":"2023-06-30"},"2024-06-30","2025-06-30","2026-06-30"]
[{"$f":"'Opt 1-replace all MV '!A25","v":"Mercury Vapour 80W"},{"$f":"'Opt 1-replace all MV '!G25","v":15128.279512499999},{"$f":"'Opt 1-replace all MV '!I25","v":10805.9139375},{"$f":"'Opt 1-replace all MV '!K25","v":6483.5483624999997},{"$f":"'Opt 1-replace all MV '!M25","v":2161.1827874999999},{"$f":"'Opt 1-replace all MV '!O25","v":0},{"$f":"'Opt 1-replace all MV '!Q25","v":0},null,{"$f":"C4-B4","v":-4322.3655749999998},{"$f":"D4-C4","v":-4322.3655749999998},-4322.3655749999998,-2161.1827874999999,0,null,{"$f":"B4","v":15128.279512499999},{"$f":"O4","v":15128.279512499999},{"$f":"P4","v":15128.279512499999},15128.279512499999,15128.279512499999,15128.279512499999,null,{"$f":"P4-O4","v":0},{"$f":"Q4-P4","v":0},0,0,0]
[{"$f":"'Opt 1-replace all MV '!A28","v":"Mercury Vapour 50W"},{"$f":"'Opt 1-replace all MV '!G28","v":21.487812499999997},{"$f":"'Opt 1-replace all MV '!I28","v":15.348437499999998},{"$f":"'Opt 1-replace all MV '!K28","v":9.2090624999999982},{"$f":"'Opt 1-replace all MV '!M28","v":3.0696874999999997},{"$f":"'Opt 1-replace all MV '!O28","v":0},{"$f":"'Opt 1-replace all MV '!Q28","v":0},null,{"$f":"C5-B5","v":-6.1393749999999994},-6.1393749999999994,-6.1393749999999985,-3.0696874999999997,0,null,{"$f":"B5","v":21.487812499999997},{"$f":"O5","v":21.487812499999997},21.487812499999997,21.487812499999997,21.487812499999997,21.487812499999997,null,{"$f":"P5-O5","v":0},0,0,0,0]
[{"$f":"'Opt 1-replace all MV '!A29","v":"Mercury Vapour 125W"},{"$f":"'Opt 1-replace all MV '!G29","v":255.27521249999998},{"$f":"'Opt 1-replace all MV '!I29","v":182.33943749999997},{"$f":"'Opt 1-replace all MV '!K29","v":109.4036625},{"$f":"'Opt 1-replace all MV '!M29","v":36.467887499999996},{"$f":"'Opt 1-replace all MV '!O29","v":0},{"$f":"'Opt 1-replace all MV '!Q29","v":0},null,-72.935775000000007,-72.935774999999978,-72.935775000000007,-36.467887499999996,0,null,{"$f":"B6","v":255.27521249999998},255.27521249999998,255.27521249999998,255.27521249999998,255.27521249999998,255.27521249999998,null,0,0,0,0,0]
[{"$f":"'Opt 1-replace all MV '!A30","v":"Mercury Vapour 250W"},{"$f":"'Opt 1-replace all MV '!G30","v":890.45494999999994},{"$f":"'Opt 1-replace all MV '!I30","v":636.03924999999992},{"$f":"'Opt 1-replace all MV '!K30","v":381.62354999999997},{"$f":"'Opt 1-replace all MV '!M30","v":127.20784999999999},{"$f":"'Opt 1-replace all MV '!O30","v":0},{"$f":"'Opt 1-replace all MV '!Q30","v":0},null,-254.41570000000002,-254.41569999999996,-254.41569999999996,-127.20784999999999,0,null,{"$f":"B7","v":890.45494999999994},890.45494999999994,890.45494999999994,890.45494999999994,890.45494999999994,890.45494999999994,null,0,0,0,0,0]
[{"$f":"'Opt 1-replace all MV '!A31","v":"Mercury Vapour 400W"},{"$f":"'Opt 1-replace all MV '!G31","v":177.059575},{"$f":"'Opt 1-replace all MV '!I31","v":126.47112499999999},{"$f":"'Opt 1-replace all MV '!K31","v":75.882674999999992},{"$f":"'Opt 1-replace all MV '!M31","v":25.294224999999997},{"$f":"'Opt 1-replace all MV '!O31","v":0},{"$f":"'Opt 1-replace all MV '!Q31","v":0},null,-50.588450000000009,-50.588449999999995,-50.588449999999995,-25.294224999999997,0,null,{"$f":"B8","v":177.059575},177.059575,177.059575,177.059575,177.059575,177.059575,null,0,0,0,0,0]
[null,{"$f":"SUM(B4:B8)","v":16472.5570625},{"$f":"SUM(C4:C8)","v":11766.112187500001},7059.6673124999998,2353.2224374999996,0,0,null,{"$f":"SUM(I4:I8)","v":-4706.4448750000001},-4706.4448749999992,-4706.4448749999992,-2353.2224374999996,0,null,{"$f":"SUM(O4:O8)","v":16472.5570625},{"$f":"SUM(P4:P8)","v":16472.5570625},16472.5570625,16472.5570625,16472.5570625,16472.5570625,null,{"$f":"SUM(V4:V8)","v":0},0,0,0,0]
[]
[{"$f":"'Opt 1-replace all MV '!A35","v":"Metal Halide 100W"},{"$f":"'Opt 1-replace all MV '!G35","v":29.75},{"$f":"'Opt 1-replace all MV '!I35","v":21.25},{"$f":"'Opt 1-replace all MV '!K35","v":12.75},{"$f":"'Opt 1-replace all MV '!M35","v":4.25},{"$f":"'Opt 1-replace all MV '!O35","v":0},{"$f":"'Opt 1-replace all MV '!Q35","v":0},null,{"$f":"C11-B11","v":-8.5},-8.5,-8.5,-4.25,0,null,{"$f":"B11","v":29.75},{"$f":"O11","v":29.75},29.75,29.75,29.75,29.75,null,{"$f":"P11-O11","v":0},0,0,0,0]
[{"$f":"'Opt 1-replace all MV '!A36","v":"Metal Halide 150W"},{"$f":"'Opt 1-replace all MV '!G36","v":28.875},{"$f":"'Opt 1-replace all MV '!I36","v":20.625},{"$f":"'Opt 1-replace all MV '!K36","v":12.375},{"$f":"'Opt 1-replace all MV '!M36","v":4.125},{"$f":"'Opt 1-replace all MV '!O36","v":0},{"$f":"'Opt 1-replace all MV '!Q36","v":0},null,-8.25,-8.25,-8.25,-4.125,0,null,28.875,28.875,28.875,28.875,28.875,28.875,null,0,0,0,0,0]
[null,{"$f":"SUM(B11:B12)","v":58.625},41.875,25.125,8.375,0,0,null,{"$f":"SUM(I11:I12)","v":-16.75},{"$f":"SUM(J11:J12)","v":-16.75},{"$f":"SUM(K11:K12)","v":-16.75},{"$f":"SUM(L11:L12)","v":-8.375},{"$f":"SUM(M11:M12)","v":0},null,{"$f":"SUM(O11:O12)","v":58.625},58.625,58.625,58.625,58.625,58.625,null,{"$f":"SUM(V11:V12)","v":0},{"$f":"SUM(W11:W12)","v":0},{"$f":"SUM(X11:X12)","v":0},{"$f":"SUM(Y11:Y12)","v":0},{"$f":"SUM(Z11:Z12)","v":0}]
[]
["Total ",{"$f":"SUM(B9,B13)","v":16531.1820625},11807.987187500001,7084.7923124999998,2361.5974374999996,0,0,null,{"$f":"C15-B15","v":-4723.1948749999992},-4723.194875000001,-4723.1948750000001,-2361.5974374999996,0,null,{"$f":"SUM(O9,O13)","v":16531.1820625},16531.1820625,16531.1820625,16531.1820625,16531.1820625,16531.1820625,null,{"$f":"P15-O15","v":0},0,0,0,0]
[]
[{"$f":"'Opt 1-replace all MV '!A46","v":"LED 18W"},{"$f":"'Opt 1-replace all MV '!G46","v":36672.695838916436},{"$f":"'Opt 1-replace all MV '!I46","v":43354.224222095567},{"$f":"'Opt 1-replace all MV '!K46","v":50098.963006431135},{"$f":"'Opt 1-replace all MV '!M46","v":56908.677139511099},{"$f":"'Opt 1-replace all MV '!O46","v":61591.876545916828},{"$f":"'Opt 1-replace all MV '!Q46","v":64115.626239132856},null,{"$f":"C17-B17","v":6681.5283831791312},6744.7387843355682,6809.7141330799641,4683.199406405729,2523.7496932160284,null,{"$f":"B17","v":36672.695838916436},{"$f":"C17+SUM($I4:I5)","v":39025.719272095565},{"$f":"D17+SUM($I4:J5)","v":41441.95310643113},{"$f":"E17+SUM($I4:K5)","v":43923.1622895111},{"$f":"F17+SUM($I4:L5)","v":46442.109220916827},{"$f":"G17+SUM($I4:M5)","v":48965.858914132856},null,{"$f":"P17-O17","v":2353.0234331791289},2416.2338343355659,2481.2091830799691,2518.9469314057278,2523.7496932160284]
[{"$f":"'Opt 1-replace all MV '!A48","v":"LED 70W-125W (L1)"},{"$f":"'Opt 1-replace all MV '!G48","v":2130.1291267230199},{"$f":"'Opt 1-replace all MV '!I48","v":2731.279310486726},{"$f":"'Opt 1-replace all MV '!K48","v":3536.812426485214},{"$f":"'Opt 1-replace all MV '!M48","v":4358.4705170915304},{"$f":"'Opt 1-replace all MV '!O48","v":4988.3417956554476},{"$f":"'Opt 1-replace all MV '!Q48","v":5606.9487309463238},null,601.15018376370608,805.53311599848803,821.65809060631636,629.87127856391726,618.60693529087621,null,{"$f":"B18","v":2130.1291267230199},{"$f":"C18+SUM($I6:I6,$I11:I11)","v":2649.8435354867261},{"$f":"D18+SUM($I6:J6,$I11:J11)","v":3373.9408764852142},{"$f":"E18+SUM($I6:K6,$I11:K11)","v":4114.1631920915306},{"$f":"F18+SUM($I6:L6,$I11:L11)","v":4703.3165831554479},{"$f":"G18+SUM($I6:M6,$I11:M11)","v":5321.9235184463241},null,519.71440876370616,724.09734099848811,740.22231560631644,589.1533910639173,618.60693529087621]
[{"$f":"'Opt 1-replace all MV '!A49","v":"LED 155W-250W (L2)"},{"$f":"'Opt 1-replace all MV '!G49","v":1905.8937346925409},{"$f":"'Opt 1-replace all MV '!I49","v":3425.8068672412273},{"$f":"'Opt 1-replace all MV '!K49","v":4884.5288404024996},{"$f":"'Opt 1-replace all MV '!M49","v":6282.5097426611155},{"$f":"'Opt 1-replace all MV '!O49","v":7620.2057106787252},{"$f":"'Opt 1-replace all MV '!Q49","v":8927.8740209786447},null,1519.9131325486865,1458.7219731612722,1397.980902258616,1337.6959680176096,1307.6683102999195,null,1905.8937346925409,{"$f":"C19+SUM($I7:I7,$I12:I12)","v":3163.1411672412273},{"$f":"D19+SUM($I7:J7,$I12:J12)","v":4359.1974404024995},{"$f":"E19+SUM($I7:K7,$I12:K12)","v":5494.5126426611159},{"$f":"F19+SUM($I7:L7,$I12:L12)","v":6700.8757606787249},{"$f":"G19+SUM($I7:M7,$I12:M12)","v":8008.5440709786444},null,1257.2474325486864,1196.0562731612722,1135.3152022586164,1206.3631180176089,1307.6683102999195]
[{"$f":"'Opt 1-replace all MV '!A50","v":"LED 275W-400W (L4)"},{"$f":"'Opt 1-replace all MV '!G50","v":85.476996957146611},{"$f":"'Opt 1-replace all MV '!I50","v":160.98584694553452},{"$f":"'Opt 1-replace all MV '!K50","v":237.03654808106984},{"$f":"'Opt 1-replace all MV '!M50","v":313.64422981804637},{"$f":"'Opt 1-replace all MV '!O50","v":365.53021905221362},{"$f":"'Opt 1-replace all MV '!Q50","v":392.41219104115271},null,75.508849988387908,76.05070113553532,76.607681736976531,51.885989234167255,26.881971988939085,null,85.476996957146611,{"$f":"C20+SUM($I8:I8)","v":110.39739694553451},{"$f":"D20+SUM($I8:J8)","v":135.85964808106985},{"$f":"E20+SUM($I8:K8)","v":161.87887981804636},{"$f":"F20+SUM($I8:L8)","v":188.47064405221363},{"$f":"G20+SUM($I8:M8)","v":215.35261604115271},null,24.920399988387899,25.46225113553534,26.019231736976508,26.591764234167272,26.881971988939085]
[null,{"$f":"SUM(B17:B20)","v":40794.195697289142},49672.296246769052,58757.340821399921,67863.30162908179,74565.954271303213,79042.861182098975,null,{"$f":"SUM(I17:I20)","v":8878.1005494799119},{"$f":"SUM(J17:J20)","v":9085.0445746308633},{"$f":"SUM(K17:K20)","v":9105.9608076818731},{"$f":"SUM(L17:L20)","v":6702.6526422214229},{"$f":"SUM(M17:M20)","v":4476.906910795763},null,{"$f":"SUM(O17:O20)","v":40794.195697289142},44949.101371769051,49310.951071399912,53693.717004081795,58034.772208803217,62511.679119598972,null,{"$f":"SUM(V17:V20)","v":4154.9056744799091},{"$f":"SUM(W17:W20)","v":4361.8496996308622},{"$f":"SUM(X17:X20)","v":4382.7659326818784},{"$f":"SUM(Y17:Y20)","v":4341.0552047214214},{"$f":"SUM(Z17:Z20)","v":4476.906910795763}]
["Check",{"$f":"SUM(B15,B21)-SUM(O15,O21)","v":0},{"$f":"SUM(C15,C21)-SUM(P15,P21)","v":0},0,0,0,0]
[{"$f":"'Opt 1-replace all MV '!B58","v":"North & East"},{"$f":"B$3","v":"HY2021"},{"$f":"C$3","v":"2022-06-30"},"2023-06-30","2024-06-30","2025-06-30","2026-06-30",null,{"$f":"I$3","v":"2022-06-30"},"2023-06-30","2024-06-30","2025-06-30","2026-06-30",null,{"$f":"O$3","v":"HY2021"},{"$f":"P$3","v":"2022-06-30"},"2023-06-30","2024-06-30","2025-06-30","2026-06-30",null,{"$f":"V$3","v":"2022-06-30"},"2023-06-30","2024-06-30","2025-06-30","2026-06-30"]
[{"$f":"'Opt 1-replace all MV '!A61","v":"Mercury Vapour 80W"},{"$f":"'Opt 1-replace all MV '!G61","v":7835.0959147999984},{"$f":"'Opt 1-replace all MV '!I61","v":5596.497081999998},{"$f":"'Opt 1-replace all MV '!K61","v":3357.8982491999991},{"$f":"'Opt 1-replace all MV '!M61","v":1119.7994163999997},{"$f":"'Opt 1-replace all MV '!O61","v":1},{"$f":"'Opt 1-replace all MV '!Q61","v":1},null,{"$f":"C24-B24","v":-2238.5988328000003},{"$f":"D24-C24","v":-2238.5988327999989},-2238.0988327999994,-1118.7994163999997,0,null,{"$f":"B24","v":7835.0959147999984},{"$f":"O24","v":7835.0959147999984},{"$f":"P24","v":7835.0959147999984},7835.0959147999984,7835.0959147999984,7835.0959147999984,null,{"$f":"P24-O24","v":0},{"$f":"Q24-P24","v":0},0,0,0]
[{"$f":"'Opt 1-replace all MV '!A64","v":"Mercury Vapour 50W"},{"$f":"'Opt 1-replace all MV '!G64","v":81.897015488749986},{"$f":"'Opt 1-replace all MV '!I64","v":58.49786820624999},{"$f":"'Opt 1-replace all MV '!K64","v":35.098720923749994},{"$f":"'Opt 1-replace all MV '!M64","v":11.699573641249998},{"$f":"'Opt 1-replace all MV '!O64","v":0},{"$f":"'Opt 1-replace all MV '!Q64","v":0},null,{"$f":"C25-B25","v":-23.399147282499996},-23.399147282499996,-23.399147282499996,-11.699573641249998,0,null,81.897015488749986,{"$f":"O25","v":81.897015488749986},81.897015488749986,81.897015488749986,81.897015488749986,81.897015488749986,null,{"$f":"P25-O25","v":0},0,0,0,0]
[{"$f":"'Opt 1-replace all MV '!A65","v":"Mercury Vapour 125W"},{"$f":"'Opt 1-replace all MV '!G65","v":27.017572119999997},{"$f":"'Opt 1-replace all MV '!I65","v":19.298265799999996},{"$f":"'Opt 1-replace all MV '!K65","v":11.578959479999998},{"$f":"'Opt 1-replace all MV '!M65","v":3.8596531599999997},{"$f":"'Opt 1-replace all MV '!O65","v":0},{"$f":"'Opt 1-replace all MV '!Q65","v":0},null,-7.7193063200000012,-7.7193063199999976,-7.7193063199999985,-3.8596531599999997,0,null,27.017572119999997,27.017572119999997,27.017572119999997,27.017572119999997,27.017572119999997,27.017572119999997,null,0,0,0,0,0]
[{"$f":"'Opt 1-replace all MV '!A66","v":"Mercury Vapour 250W"},{"$f":"'Opt 1-replace all MV '!G66","v":369.80301839250001},{"$f":"'Opt 1-replace all MV '!I66","v":264.14501313749997},{"$f":"'Opt 1-replace all MV '!K66","v":158.4870078825},{"$f":"'Opt 1-replace all MV '!M66","v":52.829002627499996},{"$f":"'Opt 1-replace all MV '!O66","v":0},{"$f":"'Opt 1-replace all MV '!Q66","v":0},null,-105.65800525500003,-105.65800525499998,-105.65800525500001,-52.829002627499996,0,null,369.80301839250001,369.80301839250001,369.80301839250001,369.80301839250001,369.80301839250001,369.80301839250001,null,0,0,0,0,0]
[{"$f":"'Opt 1-replace all MV '!A67","v":"Mercury Vapour 400W"},{"$f":"'Opt 1-replace all MV '!G67","v":124.95627105499999},{"$f":"'Opt 1-replace all MV '!I67","v":89.254479324999991},{"$f":"'Opt 1-replace all MV '!K67","v":53.552687594999995},{"$f":"'Opt 1-replace all MV '!M67","v":17.850895864999998},{"$f":"'Opt 1-replace all MV '!O67","v":0},{"$f":"'Opt 1-replace all MV '!Q67","v":0},null,-35.701791729999997,-35.701791729999997,-35.701791729999997,-17.850895864999998,0,null,124.95627105499999,124.95627105499999,124.95627105499999,124.95627105499999,124.95627105499999,124.95627105499999,null,0,0,0,0,0]
[null,{"$f":"SUM(B24:B28)","v":8438.769791856248},{"$f":"SUM(C24:C28)","v":6027.6927084687486},3616.6156250812492,1206.0385416937497,1,1,null,{"$f":"SUM(I24:I28)","v":-2411.0770833875004},-2411.077083387499,-2410.5770833874994,-1205.0385416937497,0,null,{"$f":"SUM(O24:O28)","v":8438.769791856248},{"$f":"SUM(P24:P28)","v":8438.769791856248},8438.769791856248,8438.769791856248,8438.769791856248,8438.769791856248,null,{"$f":"SUM(V24:V28)","v":0},0,0,0,0]
[]
[{"$f":"'Opt 1-replace all MV '!A71","v":"Metal Halide 100W"},{"$f":"'Opt 1-replace all MV '!G71","v":0},{"$f":"'Opt 1-replace all MV '!I71","v":0},{"$f":"'Opt 1-replace all MV '!K71","v":0},{"$f":"'Opt 1-replace all MV '!M71","v":0},{"$f":"'Opt 1-replace all MV '!O71","v":0},{"$f":"'Opt 1-replace all MV '!Q71","v":0},null,{"$f":"C31-B31","v":0},0,0,0,0,null,{"$f":"B31","v":0},{"$f":"O31","v":0},0,0,0,0,null,{"$f":"P31-O31","v":0},0,0,0,0]
[{"$f":"'Opt 1-replace all MV '!A72","v":"Metal Halide 150W"},{"$f":"'Opt 1-replace all MV '!G72","v":0},{"$f":"'Opt 1-replace all MV '!I72","v":0},{"$f":"'Opt 1-replace all MV '!K72","v":0},{"$f":"'Opt 1-replace all MV '!M72","v":0},{"$f":"'Opt 1-replace all MV '!O72","v":0},{"$f":"'Opt 1-replace all MV '!Q72","v":0},null,0,0,0,0,0,null,0,0,0,0,0,0,null,0,0,0,0,0]
[null,{"$f":"SUM(B31:B32)","v":0},0,0,0,0,0,null,{"$f":"SUM(I31:I32)","v":0},{"$f":"SUM(J31:J32)","v":0},{"$f":"SUM(K31:K32)","v":0},{"$f":"SUM(L31:L32)","v":0},{"$f":"SUM(M31:M32)","v":0},null,{"$f":"SUM(O31:O32)","v":0},0,0,0,0,0,null,{"$f":"SUM(V31:V32)","v":0},{"$f":"SUM(W31:W32)","v":0},{"$f":"SUM(X31:X32)","v":0},{"$f":"SUM(Y31:Y32)","v":0},{"$f":"SUM(Z31:Z32)","v":0}]
[]
["Total ",{"$f":"SUM(B29,B33)","v":8438.769791856248},6027.6927084687486,3616.6156250812492,1206.0385416937497,1,1,null,{"$f":"C35-B35","v":-2411.0770833874994},-2411.0770833874994,-2410.5770833874994,-1205.0385416937497,0,null,{"$f":"SUM(O29,O33)","v":8438.769791856248},8438.769791856248,8438.769791856248,8438.769791856248,8438.769791856248,8438.769791856248,null,{"$f":"P35-O35","v":0},0,0,0,0]
[]
[{"$f":"'Opt 1-replace all MV '!A82","v":"LED 18W"},{"$f":"'Opt 1-replace all MV '!G82","v":24327.520097604654},{"$f":"'Opt 1-replace all MV '!I82","v":27377.667212977522},{"$f":"'Opt 1-replace all MV '!K82","v":30445.266135021062},{"$f":"'Opt 1-replace all MV '!M82","v":33530.707117342667},{"$f":"'Opt 1-replace all MV '!O82","v":35499.530497117041},{"$f":"'Opt 1-replace all MV '!Q82","v":36342.716602019034},null,{"$f":"C37-B37","v":3050.1471153728671},{"$f":"D37-C37","v":3067.5989220435404},3085.4409823216047,1968.8233797743742,843.18610490199353,null,{"$f":"B37","v":24327.520097604654},{"$f":"C37+SUM($I24:I25)","v":25115.669232895023},{"$f":"D37+SUM($I24:J25)","v":25921.270174856065},{"$f":"E37+SUM($I24:K25)","v":26745.213177095167},{"$f":"F37+SUM($I24:L25)","v":27583.537566828294},{"$f":"G37+SUM($I24:M25)","v":28426.723671730288},null,{"$f":"P37-O37","v":788.14913529036858},{"$f":"Q37-P37","v":805.60094196104183},823.9430022391025,838.32438973312674,843.18610490199353]
[{"$f":"'Opt 1-replace all MV '!A84","v":"LED 70W-125W (L1)"},{"$f":"'Opt 1-replace all MV '!G84","v":586.34967638218995},{"$f":"'Opt 1-replace all MV '!I84","v":766.5150098889942},{"$f":"'Opt 1-replace all MV '!K84","v":950.49260247986149},{"$f":"'Opt 1-replace all MV '!M84","v":1138.3677030856293},{"$f":"'Opt 1-replace all MV '!O84","v":1330.2274669556853},{"$f":"'Opt 1-replace all MV '!Q84","v":1524.1015921948845},null,{"$f":"C38-B38","v":180.16533350680425},183.97759259086729,187.87510060576778,191.85976387005599,193.8741252391992,null,{"$f":"B38","v":586.34967638218995},{"$f":"C38+SUM($I26:I26,$I31:I31)","v":758.79570356899421},{"$f":"D38+SUM($I26:J26,$I31:J31)","v":935.05398983986152},{"$f":"E38+SUM($I26:K26,$I31:K31)","v":1115.2097841256293},{"$f":"F38+SUM($I26:L26,$I31:L31)","v":1303.2098948356852},{"$f":"G38+SUM($I26:M26,$I31:M31)","v":1497.0840200748844},null,{"$f":"P38-O38","v":172.44602718680426},176.2582862708673,180.1557942857678,188.00011071005588,193.8741252391992]
[{"$f":"'Opt 1-replace all MV '!A85","v":"LED 155W-250W (L2)"},{"$f":"'Opt 1-replace all MV '!G85","v":1058.8828405676463},{"$f":"'Opt 1-replace all MV '!I85","v":2045.4512702157358},{"$f":"'Opt 1-replace all MV '!K85","v":3000.1934468028458},{"$f":"'Opt 1-replace all MV '!M85","v":3923.3210363643525},{"$f":"'Opt 1-replace all MV '!O85","v":4815.0446498597776},{"$f":"'Opt 1-replace all MV '!Q85","v":5691.1188025595038},null,986.56842964808948,954.74217658710995,923.12758956150674,891.72361349542507,876.07415269972626,null,1058.8828405676463,{"$f":"C39+SUM($I27:I27,$I32:I32)","v":1939.7932649607358},{"$f":"D39+SUM($I27:J27,$I32:J32)","v":2788.8774362928457},{"$f":"E39+SUM($I27:K27,$I32:K32)","v":3606.3470205993526},{"$f":"F39+SUM($I27:L27,$I32:L32)","v":4445.2416314672773},{"$f":"G39+SUM($I27:M27,$I32:M32)","v":5321.3157841670036},null,880.91042439308944,849.08417133210992,817.46958430650693,838.89461086792471,876.07415269972626]
[{"$f":"'Opt 1-replace all MV '!A86","v":"LED 275W-400W (L4)"},{"$f":"'Opt 1-replace all MV '!G86","v":85.097953606710718},{"$f":"'Opt 1-replace all MV '!I86","v":138.98950981821591},{"$f":"'Opt 1-replace all MV '!K86","v":193.14391230145793},{"$f":"'Opt 1-replace all MV '!M86","v":247.56703876913843},{"$f":"'Opt 1-replace all MV '!O86","v":284.41400250512652},{"$f":"'Opt 1-replace all MV '!Q86","v":303.54895584117219},null,53.89155621150519,54.154402483242023,54.423126467680504,36.846963735988083,19.134953336045669,null,85.097953606710718,{"$f":"C40+SUM($I28:I28)","v":103.28771808821591},{"$f":"D40+SUM($I28:J28)","v":121.74032884145794},{"$f":"E40+SUM($I28:K28)","v":140.46166357913845},{"$f":"F40+SUM($I28:L28)","v":159.45773145012652},{"$f":"G40+SUM($I28:M28)","v":178.59268478617219},null,18.189764481505193,18.452610753242027,18.721334737680507,18.996067870988071,19.134953336045669]
[null,{"$f":"SUM(B37:B40)","v":26057.8505681612},{"$f":"SUM(C37:C40)","v":30328.623002900469},34589.09609660523,38839.962895561781,41929.216616437632,43861.485952614596,null,{"$f":"SUM(I37:I40)","v":4270.7724347392659},{"$f":"SUM(J37:J40)","v":4260.4730937047589},4250.8667989565602,3089.2537208758431,1932.2693361769648,null,{"$f":"SUM(O37:O40)","v":26057.8505681612},{"$f":"SUM(P37:P40)","v":27917.54591951297},29766.941929830227,31607.23164539929,33491.446824581384,35423.716160758348,null,{"$f":"SUM(V37:V40)","v":1859.6953513517674},{"$f":"SUM(W37:W40)","v":1849.396010317261},1840.2897155690578,1884.2151791820954,1932.2693361769648]
["Check",{"$f":"SUM(B35,B41)-SUM(O35,O41)","v":0},{"$f":"SUM(C35,C41)-SUM(P35,P41)","v":0},0,0,0,0]
[]
["Total",{"$f":"B$3","v":"HY2021"},{"$f":"C$3","v":"2022-06-30"},"2023-06-30","2024-06-30","2025-06-30","2026-06-30",null,{"$f":"I$3","v":"2022-06-30"},"2023-06-30","2024-06-30","2025-06-30","2026-06-30",null,{"$f":"O$3","v":"HY2021"},{"$f":"P$3","v":"2022-06-30"},"2023-06-30","2024-06-30","2025-06-30","2026-06-30",null,{"$f":"V$3","v":"2022-06-30"},"2023-06-30","2024-06-30","2025-06-30","2026-06-30"]
[{"$f":"A24","v":"Mercury Vapour 80W"},{"$f":"SUM(B4,B24)","v":22963.375427299998},16402.411019499996,9841.4466116999993,3280.9822038999996,1,1,null,{"$f":"C45-B45","v":-6560.9644078000019},{"$f":"D45-C45","v":-6560.9644077999965},-6560.4644078000001,-3279.9822038999996,0,null,{"$f":"B45","v":22963.375427299998},{"$f":"O45","v":22963.375427299998},{"$f":"P45","v":22963.375427299998},22963.375427299998,22963.375427299998,22963.375427299998,null,{"$f":"P45-O45","v":0},{"$f":"Q45-P45","v":0},0,0,0]
[{"$f":"A25","v":"Mercury Vapour 50W"},103.38482798874998,73.846305706249993,44.307783423749996,14.769261141249999,0,0,null,{"$f":"C46-B46","v":-29.538522282499983},-29.538522282499997,-29.538522282499997,-14.769261141249999,0,null,{"$f":"B46","v":103.38482798874998},{"$f":"O46","v":103.38482798874998},103.38482798874998,103.38482798874998,103.38482798874998,103.38482798874998,null,{"$f":"P46-O46","v":0},0,0,0,0]
[{"$f":"A26","v":"Mercury Vapour 125W"},282.29278461999996,201.63770329999997,120.98262197999999,40.327540659999997,0,0,null,-80.655081319999994,-80.655081319999979,-80.655081319999994,-40.327540659999997,0,null,282.29278461999996,282.29278461999996,282.29278461999996,282.29278461999996,282.29278461999996,282.29278461999996,null,0,0,0,0,0]
[{"$f":"A27","v":"Mercury Vapour 250W"},1260.2579683925001,900.1842631374999,540.11055788249996,180.0368526275,0,0,null,-360.07370525500016,-360.07370525499994,-360.07370525499994,-180.0368526275,0,null,1260.2579683925001,1260.2579683925001,1260.2579683925001,1260.2579683925001,1260.2579683925001,1260.2579683925001,null,0,0,0,0,0]
[{"$f":"A28","v":"Mercury Vapour 400W"},302.015846055,215.72560432499998,129.43536259499999,43.145120864999996,0,0,null,-86.29024173000002,-86.290241729999991,-86.290241729999991,-43.145120864999996,0,null,302.015846055,302.015846055,302.015846055,302.015846055,302.015846055,302.015846055,null,0,0,0,0,0]
[null,{"$f":"SUM(B45:B49)","v":24911.326854356248},{"$f":"SUM(C45:C49)","v":17793.804895968748},10676.282937581249,3559.2609791937498,1,1,null,{"$f":"SUM(I45:I49)","v":-7117.5219583875023},-7117.5219583874969,-7117.0219583875005,-3558.2609791937498,0,null,{"$f":"SUM(O45:O49)","v":24911.326854356248},{"$f":"SUM(P45:P49)","v":24911.326854356248},24911.326854356248,24911.326854356248,24911.326854356248,24911.326854356248,null,{"$f":"SUM(V45:V49)","v":0},0,0,0,0]
[]
[{"$f":"A11","v":"Metal Halide 100W"},{"$f":"SUM(B11,B31)","v":29.75},21.25,12.75,4.25,0,0,null,{"$f":"C52-B52","v":-8.5},-8.5,-8.5,-4.25,0,null,{"$f":"SUM(O11,O31)","v":29.75},29.75,29.75,29.75,29.75,29.75,null,{"$f":"P52-O52","v":0},0,0,0,0]
[{"$f":"A12","v":"Metal Halide 150W"},28.875,20.625,12.375,4.125,0,0,null,-8.25,-8.25,-8.25,-4.125,0,null,28.875,28.875,28.875,28.875,28.875,28.875,null,0,0,0,0,0]
[null,{"$f":"SUM(B52:B53)","v":58.625},41.875,25.125,8.375,0,0,null,{"$f":"SUM(I52:I53)","v":-16.75},{"$f":"SUM(J52:J53)","v":-16.75},{"$f":"SUM(K52:K53)","v":-16.75},{"$f":"SUM(L52:L53)","v":-8.375},{"$f":"SUM(M52:M53)","v":0},null,{"$f":"SUM(O52:O53)","v":58.625},58.625,58.625,58.625,58.625,58.625,null,{"$f":"SUM(V52:V53)","v":0},{"$f":"SUM(W52:W53)","v":0},{"$f":"SUM(X52:X53)","v":0},{"$f":"SUM(Y52:Y53)","v":0},{"$f":"SUM(Z52:Z53)","v":0}]
[]
["Total ",{"$f":"SUM(B50,B54)","v":24969.951854356248},17835.679895968748,10701.407937581249,3567.6359791937498,1,1,null,{"$f":"C56-B56","v":-7134.2719583875005},-7134.2719583874987,-7133.7719583874987,-3566.6359791937498,0,null,{"$f":"SUM(O50,O54)","v":24969.951854356248},24969.951854356248,24969.951854356248,24969.951854356248,24969.951854356248,24969.951854356248,null,{"$f":"P56-O56","v":0},0,0,0,0]
[]
[{"$f":"A37","v":"LED 18W"},{"$f":"SUM(B17,B37)","v":61000.21593652109},70731.891435073092,80544.229141452204,90439.384256853766,97091.407043033862,100458.3428411519,null,{"$f":"C58-B58","v":9731.675498552002},{"$f":"D58-C58","v":9812.3377063791122},9895.1551154015615,6652.0227861800959,3366.9357981180365,null,{"$f":"SUM(O17,O37)","v":61000.21593652109},64141.388504990588,67363.223281287195,70668.37546660626,74025.646787745121,77392.582585863143,null,{"$f":"P58-O58","v":3141.1725684694975},{"$f":"Q58-P58","v":3221.8347762966077},3305.1521853190643,3357.2713211388618,3366.9357981180219]
[{"$f":"A38","v":"LED 70W-125W (L1)"},2716.4788031052099,3497.7943203757204,4487.3050289650755,5496.8382201771601,6318.5692626111331,7131.0503231412085,null,{"$f":"C59-B59","v":781.31551727051055},989.51070858935509,1009.5331912120846,821.73104243397302,812.48106053007541,null,2716.4788031052099,3408.6392390557203,4308.9948663250761,5229.3729762171597,6006.5264779911331,6819.0075385212085,null,{"$f":"P59-O59","v":692.16043595051042},900.35562726935586,920.37810989208356,777.1535017739734,812.48106053007541]
[{"$f":"A39","v":"LED 155W-250W (L2)"},2964.7765752601872,5471.2581374569636,7884.7222872053453,10205.830779025468,12435.250360538503,14618.992823538149,null,2506.4815621967764,2413.4641497483817,2321.1084918201223,2229.4195815130352,2183.7424629996458,null,2964.7765752601872,5102.9344322019633,7148.0748766953457,9100.8596632604676,11146.117392146003,13329.859855145649,null,2138.1578569417761,2045.1404444933823,1952.784786565122,2045.2577288855355,2183.7424629996458]
[{"$f":"A40","v":"LED 275W-400W (L4)"},170.57495056385733,299.97535676375043,430.18046038252777,561.2112685871848,649.94422155734014,695.9611468823249,null,129.4004061998931,130.20510361877734,131.03080820465703,88.732952970155338,46.016925324984754,null,170.57495056385733,213.68511503375044,257.59997692252779,302.34054339718477,347.92837550234015,393.9453008273249,null,43.110164469893107,43.914861888777352,44.740566474656987,45.587832105155371,46.016925324984754]
[null,{"$f":"SUM(B58:B61)","v":66852.046265450335},{"$f":"SUM(C58:C61)","v":80000.919249669532},93346.436918005144,106703.26452464357,116495.17088774082,122904.34713471359,null,{"$f":"SUM(I58:I61)","v":13148.872984219182},{"$f":"SUM(J58:J61)","v":13345.517668335626},13356.827606638428,9791.9063630972578,6409.1762469727428,null,{"$f":"SUM(O58:O61)","v":66852.046265450335},{"$f":"SUM(P58:P61)","v":72866.647291282017},79077.893001230143,85300.948649481055,91526.219033384594,97935.395280357334,null,{"$f":"SUM(V58:V61)","v":6014.6010258316774},{"$f":"SUM(W58:W61)","v":6211.2457099481235},6223.0556482509264,6225.2703839035257,6409.1762469727282]
["Check",{"$f":"SUM(B56,B62)-SUM(O56,O62)","v":0},{"$f":"SUM(C56,C62)-SUM(P56,P62)","v":0},0,0,0,0]
[]
["Total Lights",{"$f":"SUM(B41,B35,B21,B15)","v":91821.998119806594},97836.599145638262,104047.8448555864,110270.90050383731,116496.17088774085,122905.34713471358,null,{"$f":"I62+I56","v":6014.6010258316819},{"$f":"J62+J56","v":6211.2457099481271},{"$f":"K62+K56","v":6223.0556482509292},{"$f":"L62+L56","v":6225.2703839035075},{"$f":"M62+M56","v":6409.1762469727428},null,{"$f":"SUM(O41,O35,O21,O15)","v":91821.998119806594},97836.599145638262,104047.84485558637,110270.90050383733,116496.17088774084,122905.34713471356,null,{"$f":"V62+V56","v":6014.6010258316774},{"$f":"W62+W56","v":6211.2457099481235},{"$f":"X62+X56","v":6223.0556482509264},{"$f":"Y62+Y56","v":6225.2703839035257},{"$f":"Z62+Z56","v":6409.1762469727282}]
[]
[]
[]
["Capex Volumes"]
["Forecast Quantities to be replaced",null,null,null,null,null,null,null,{"$f":"I$3","v":"2022-06-30"},"2023-06-30","2024-06-30","2025-06-30","2026-06-30",null,null,null,null,null,null,null,null,{"$f":"V$3","v":"2022-06-30"},"2023-06-30","2024-06-30","2025-06-30","2026-06-30"]
["Inputs - MV80",null,null,null,null,null,null,null,{"$f":"I83","v":0},{"$f":"J83","v":0},0,0,0,null,null,null,null,null,null,null,null,{"$f":"-SUM(I50,I52,I53)","v":7134.2719583875023},{"$f":"-SUM(J50,J52,J53)","v":7134.2719583874969},{"$f":"-SUM(K50,K52,K53)","v":7133.7719583875005},{"$f":"-SUM(L50,L52,L53)","v":3566.6359791937498},{"$f":"-SUM(M50,M52,M53)","v":0}]
["Inputs - LED 18W",null,null,null,null,null,null,null,{"$f":"I89","v":7259.2642281757207},{"$f":"J89","v":7190.3614705909558},7121.8566333654417,3780.1827117773146,472.66041723604076,null,null,null,null,null,null,null,null,{"$f":"I72+SUM(I45:I46)","v":668.76129809321901},{"$f":"J72+SUM(J45:J46)","v":599.85854050845955},{"$f":"K72+SUM(K45:K46)","v":531.85370328294175},{"$f":"L72+SUM(L45:L46)","v":485.43124673606508},{"$f":"M72+SUM(M45:M46)","v":472.66041723604076}]
["Inputs - LED 70W (L1)",null,null,null,null,null,null,null,{"$f":"I95","v":106.16718803951066},{"$f":"J95","v":110.98871136823226},115.91191421062729,75.351753942521071,32.762679780351945,null,null,null,null,null,null,null,null,{"$f":"I73+I47+I52","v":17.012106719510669},21.83363004823228,26.756832890627294,30.774213282521075,32.762679780351945]
["Inputs - LED 155W (L2)",null,null,null,null,null,null,null,{"$f":"I101","v":1668.2708866820255},{"$f":"J101","v":1651.1877292054819},1626.4915999917855,1597.887285674218,1581.5783130089378,null,null,null,null,null,null,null,null,1299.9471814270255,1282.8640239504821,1258.1678947367855,1413.7254330467181,1581.5783130089378]
["Inputs - LED 275W (L4)",null,null,null,null,null,null,null,{"$f":"I106","v":99.804553665401002},{"$f":"J106","v":100.68865904662729},101.58286940270061,59.140667494626506,16.248837226144598,null,null,null,null,null,null,null,null,{"$f":"I75+I49","v":13.514311935400983},{"$f":"J75+J49","v":14.398417316627302},{"$f":"K75+K49","v":15.292627672700618},{"$f":"L75+L49","v":15.99554662962651},{"$f":"M75+M49","v":16.248837226144598}]
[null,null,null,null,null,null,null,null,{"$f":"SUM(I71:I75)","v":9133.506856562657},{"$f":"SUM(J71:J75)","v":9053.2265702112982},{"$f":"SUM(K71:K75)","v":8965.8430169705553},{"$f":"SUM(L71:L75)","v":5512.5624188886804},{"$f":"SUM(M71:M75)","v":2103.2502472514752},null,null,null,null,null,null,null,null,{"$f":"SUM(V71:V75)","v":9133.5068565626589},{"$f":"SUM(W71:W75)","v":9053.2265702113},{"$f":"SUM(X71:X75)","v":8965.8430169705571},{"$f":"SUM(Y71:Y75)","v":5512.5624188886813},{"$f":"SUM(Z71:Z75)","v":2103.2502472514752}]
["Check",null,null,null,null,null,null,null,{"$f":"I76-V76","v":0},{"$f":"J76-W76","v":0},0,0,0]
[]
[{"$f":"A$71","v":"Inputs - MV80"}]
["Number of luminaires replaced per year - urban",null,null,null,null,null,null,null,0,0,0,0,0,null,null,null,null,null,null,null,null,{"$f":"V$71*I86/I$89","v":5481.1572072765039},{"$f":"W$71*J86/J$89","v":5481.1572072765002},5480.7730645609417,2740.1944609226907,0]
["Number of luminaires replaced per year - rural",null,null,null,null,null,null,null,0,0,0,0,0,null,null,null,null,null,null,null,null,{"$f":"V$71*I87/I$89","v":1384.4305742837194},1384.4305742837184,1384.3335475245517,692.11826038269191,0]
["Number of luminaires replaced per year - remote",null,null,null,null,null,null,null,0,0,0,0,0,null,null,null,null,null,null,null,null,{"$f":"V$71*I88/I$89","v":268.6841768272796},268.68417682727937,268.66534630200698,134.32325788836718,0]
[null,null,null,null,null,null,null,null,{"$f":"SUM(I80:I82)","v":0},{"$f":"SUM(J80:J82)","v":0},0,0,0,null,null,null,null,null,null,null,null,{"$f":"SUM(V80:V82)","v":7134.2719583875032},{"$f":"SUM(W80:W82)","v":7134.2719583874987},7133.7719583875005,3566.6359791937498,0]
[]
[{"$f":"A$72","v":"Inputs - LED 18W"}]
[{"$f":"A$80","v":"Number of luminaires replaced per year - urban"},null,null,null,null,null,null,null,{"$f":"SUM('Opt 1-replace all MV '!AD$101:AE$101)","v":5577.1869471574028},{"$f":"SUM('Opt 1-replace all MV '!AF$101:AG$101)","v":5524.2499623410404},{"$f":"SUM('Opt 1-replace all MV '!AH$101:AI$101)","v":5471.6186939394356},{"$f":"SUM('Opt 1-replace all MV '!AJ$101:AK$101)","v":2904.2593044299051},{"$f":"SUM('Opt 1-replace all MV '!AL$101:AM$101)","v":363.13811242951317},null,null,null,null,null,null,null,null,{"$f":"V$72*I86/I$89","v":513.79956222186661},{"$f":"W$72*J86/J$89","v":460.86257740550832},408.6154517194613,372.94975467769837,363.13811242951317]
[{"$f":"A$81","v":"Number of luminaires replaced per year - rural"},null,null,null,null,null,null,null,{"$f":"SUM('Opt 1-replace all MV '!AD$102:AE$102)","v":1408.6857640007988},{"$f":"SUM('Opt 1-replace all MV '!AF$102:AG$102)","v":1395.3149414684926},{"$f":"SUM('Opt 1-replace all MV '!AH$102:AI$102)","v":1382.0213367819163},{"$f":"SUM('Opt 1-replace all MV '!AJ$102:AK$102)","v":733.5577551694729},{"$f":"SUM('Opt 1-replace all MV '!AL$102:AM$102)","v":91.72141694233575},null,null,null,null,null,null,null,null,{"$f":"V$72*I87/I$89","v":129.77548282126091},116.40466028895577,103.20808236154608,94.1996413388717,91.72141694233575]
[{"$f":"A$82","v":"Number of luminaires replaced per year - remote"},null,null,null,null,null,null,null,{"$f":"SUM('Opt 1-replace all MV '!AD$103:AE$103)","v":273.39151701751973},{"$f":"SUM('Opt 1-replace all MV '!AF$103:AG$103)","v":270.79656678142351},{"$f":"SUM('Opt 1-replace all MV '!AH$103:AI$103)","v":268.21660264409002},{"$f":"SUM('Opt 1-replace all MV '!AJ$103:AK$103)","v":142.36565217793651},{"$f":"SUM('Opt 1-replace all MV '!AL$103:AM$103)","v":17.800887864191822},null,null,null,null,null,null,null,null,25.186253050091501,22.591302813995505,20.030169201934381,18.281850719495015,17.800887864191822]
[null,null,null,null,null,null,null,null,{"$f":"SUM(I86:I88)","v":7259.2642281757207},{"$f":"SUM(J86:J88)","v":7190.3614705909558},7121.8566333654417,3780.1827117773146,472.66041723604076,null,null,null,null,null,null,null,null,{"$f":"SUM(V86:V88)","v":668.76129809321901},{"$f":"SUM(W86:W88)","v":599.85854050845955},531.85370328294175,485.43124673606508,472.66041723604076]
[]
[{"$f":"A$73","v":"Inputs - LED 70W (L1)"}]
[{"$f":"A$80","v":"Number of luminaires replaced per year - urban"},null,null,null,null,null,null,null,{"$f":"SUM('Opt 1-replace all MV '!AD$104:AE$104)","v":81.566703833725143},{"$f":"SUM('Opt 1-replace all MV '!AF$104:AG$104)","v":85.271009962986767},{"$f":"SUM('Opt 1-replace all MV '!AH$104:AI$104)","v":89.053434981247051},{"$f":"SUM('Opt 1-replace all MV '!AJ$104:AK$104)","v":57.891654763371996},{"$f":"SUM('Opt 1-replace all MV '!AL$104:AM$104)","v":25.171089559691605},null,null,null,null,null,null,null,null,{"$f":"V$73*I92/I$95","v":13.070153745257356},{"$f":"W$73*J92/J$95","v":16.774459874518993},20.556884892779266,23.6433797191381,25.171089559691605]
[{"$f":"A$81","v":"Number of luminaires replaced per year - rural"},null,null,null,null,null,null,null,{"$f":"SUM('Opt 1-replace all MV '!AD$105:AE$105)","v":20.602116370798996},{"$f":"SUM('Opt 1-replace all MV '!AF$105:AG$105)","v":21.537749936471627},{"$f":"SUM('Opt 1-replace all MV '!AH$105:AI$105)","v":22.493114769515188},{"$f":"SUM('Opt 1-replace all MV '!AJ$105:AK$105)","v":14.622272965258301},{"$f":"SUM('Opt 1-replace all MV '!AL$105:AM$105)","v":6.3577132814597723},null,null,null,null,null,null,null,null,{"$f":"V$73*I93/I$95","v":3.3012591632112871},4.236892728883924,5.1922575619274776,5.9718443614644459,6.3577132814597723]
[{"$f":"A$82","v":"Number of luminaires replaced per year - remote"},null,null,null,null,null,null,null,{"$f":"SUM('Opt 1-replace all MV '!AD$106:AE$106)","v":3.9983678349865261},{"$f":"SUM('Opt 1-replace all MV '!AF$106:AG$106)","v":4.1799514687738597},{"$f":"SUM('Opt 1-replace all MV '!AH$106:AI$106)","v":4.3653644598650514},{"$f":"SUM('Opt 1-replace all MV '!AJ$106:AK$106)","v":2.8378262138907835},{"$f":"SUM('Opt 1-replace all MV '!AL$106:AM$106)","v":1.2338769392005686},null,null,null,null,null,null,null,null,0.64069381104202716,0.82227744482936205,1.0076904359205521,1.1589892019185339,1.2338769392005686]
[null,null,null,null,null,null,null,null,{"$f":"SUM(I92:I94)","v":106.16718803951066},{"$f":"SUM(J92:J94)","v":110.98871136823226},115.91191421062729,75.351753942521071,32.762679780351945,null,null,null,null,null,null,null,null,{"$f":"SUM(V92:V94)","v":17.012106719510669},{"$f":"SUM(W92:W94)","v":21.833630048232276},26.756832890627294,30.774213282521078,32.762679780351945]
[]
[{"$f":"A$74","v":"Inputs - LED 155W (L2)"}]
[{"$f":"A$80","v":"Number of luminaires replaced per year - urban"},null,null,null,null,null,null,null,{"$f":"SUM('Opt 1-replace all MV '!AD$107:AE$107)","v":1281.7082173993124},{"$f":"SUM('Opt 1-replace all MV '!AF$107:AG$107)","v":1268.5834763925566},{"$f":"SUM('Opt 1-replace all MV '!AH$107:AI$107)","v":1249.6098001126186},{"$f":"SUM('Opt 1-replace all MV '!AJ$107:AK$107)","v":1227.6335221552565},{"$f":"SUM('Opt 1-replace all MV '!AL$107:AM$107)","v":1215.1035760599887},null,null,null,null,null,null,null,null,{"$f":"V$74*I98/I$101","v":998.73048071578808},{"$f":"W$74*J98/J$101","v":985.60573970903238},966.63206342909427,1086.1446538134944,1215.1035760599887]
[{"$f":"A$81","v":"Number of luminaires replaced per year - rural"},null,null,null,null,null,null,null,{"$f":"SUM('Opt 1-replace all MV '!AD$108:AE$108)","v":323.73383509647238},{"$f":"SUM('Opt 1-replace all MV '!AF$108:AG$108)","v":320.41878828387848},{"$f":"SUM('Opt 1-replace all MV '!AH$108:AI$108)","v":315.62641752070522},{"$f":"SUM('Opt 1-replace all MV '!AJ$108:AK$108)","v":310.07564968782151},{"$f":"SUM('Opt 1-replace all MV '!AL$108:AM$108)","v":306.91083616169476},null,null,null,null,null,null,null,null,{"$f":"V$74*I99/I$101","v":252.25932420556154},248.94427739296771,244.15190662979441,274.33839424236612,306.91083616169476]
[{"$f":"A$82","v":"Number of luminaires replaced per year - remote"},null,null,null,null,null,null,null,{"$f":"SUM('Opt 1-replace all MV '!AD$109:AE$109)","v":62.828834186240805},{"$f":"SUM('Opt 1-replace all MV '!AF$109:AG$109)","v":62.185464529046889},{"$f":"SUM('Opt 1-replace all MV '!AH$109:AI$109)","v":61.255382358461688},{"$f":"SUM('Opt 1-replace all MV '!AJ$109:AK$109)","v":60.178113831140024},{"$f":"SUM('Opt 1-replace all MV '!AL$109:AM$109)","v":59.563900787254347},null,null,null,null,null,null,null,null,48.957376505675889,48.314006848481988,47.383924677896765,53.242384990857566,59.563900787254347]
[null,null,null,null,null,null,null,null,{"$f":"SUM(I98:I100)","v":1668.2708866820255},{"$f":"SUM(J98:J100)","v":1651.1877292054819},1626.4915999917855,1597.887285674218,1581.5783130089378,null,null,null,null,null,null,null,null,{"$f":"SUM(V98:V100)","v":1299.9471814270255},{"$f":"SUM(W98:W100)","v":1282.8640239504821},1258.1678947367855,1413.7254330467181,1581.5783130089378]
[{"$f":"A$75","v":"Inputs - LED 275W (L4)"}]
[{"$f":"A$80","v":"Number of luminaires replaced per year - urban"},null,null,null,null,null,null,null,{"$f":"SUM('Opt 1-replace all MV '!AD$110:AE$110)","v":76.678384540553864},{"$f":"SUM('Opt 1-replace all MV '!AF$110:AG$110)","v":77.35762982452475},{"$f":"SUM('Opt 1-replace all MV '!AH$110:AI$110)","v":78.044638613452435},{"$f":"SUM('Opt 1-replace all MV '!AJ$110:AK$110)","v":45.436913222829006},{"$f":"SUM('Opt 1-replace all MV '!AL$110:AM$110)","v":12.48374491348592},null,null,null,null,null,null,null,null,{"$f":"V$75*I103/I$106","v":10.382848971578634},{"$f":"W$75*J103/J$106","v":11.062094255549539},11.749103044477225,12.289145438341398,12.48374491348592]
[{"$f":"A$81","v":"Number of luminaires replaced per year - rural"},null,null,null,null,null,null,null,{"$f":"SUM('Opt 1-replace all MV '!AD$111:AE$111)","v":19.3674247846239},{"$f":"SUM('Opt 1-replace all MV '!AF$111:AG$111)","v":19.538988544429756},{"$f":"SUM('Opt 1-replace all MV '!AH$111:AI$111)","v":19.712513210157365},{"$f":"SUM('Opt 1-replace all MV '!AJ$111:AK$111)","v":11.476454604011764},{"$f":"SUM('Opt 1-replace all MV '!AL$111:AM$111)","v":3.1531440325858391},null,null,null,null,null,null,null,null,{"$f":"V$75*I104/I$106","v":2.6224997789410431},2.7940635387469035,2.9675882044745108,3.1039921011703373,3.1531440325858391]
[{"$f":"A$82","v":"Number of luminaires replaced per year - remote"},null,null,null,null,null,null,null,{"$f":"SUM('Opt 1-replace all MV '!AD$112:AE$112)","v":3.7587443402232283},{"$f":"SUM('Opt 1-replace all MV '!AF$112:AG$112)","v":3.792040677672782},{"$f":"SUM('Opt 1-replace all MV '!AH$112:AI$112)","v":3.8257175790908056},{"$f":"SUM('Opt 1-replace all MV '!AJ$112:AK$112)","v":2.2272996677857355},{"$f":"SUM('Opt 1-replace all MV '!AL$112:AM$112)","v":0.61194828007283908},null,null,null,null,null,null,null,null,0.50896318488130554,0.54225952233085972,0.57593642374888343,0.60240909011477439,0.61194828007283908]
[null,null,null,null,null,null,null,null,{"$f":"SUM(I103:I105)","v":99.804553665401002},{"$f":"SUM(J103:J105)","v":100.68865904662729},101.58286940270061,59.140667494626506,16.248837226144598,null,null,null,null,null,null,null,null,{"$f":"SUM(V103:V105)","v":13.514311935400983},{"$f":"SUM(W103:W105)","v":14.398417316627302},15.29262767270062,15.99554662962651,16.248837226144598]
["Total"]
[{"$f":"A$80","v":"Number of luminaires replaced per year - urban"},null,null,null,null,null,null,null,{"$f":"SUM(I80,I86,I92,I98,I103)","v":7017.1402529309935},{"$f":"SUM(J80,J86,J92,J98,J103)","v":6955.4620785211082},6888.3265676467536,4235.2213945713629,1615.8965229626795,null,null,null,null,null,null,null,null,{"$f":"SUM(V80,V86,V92,V98,V103)","v":7017.1402529309944},{"$f":"SUM(W80,W86,W92,W98,W103)","v":6955.46207852111},6888.3265676467536,4235.2213945713629,1615.8965229626795]
[{"$f":"A$81","v":"Number of luminaires replaced per year - rural"},null,null,null,null,null,null,null,{"$f":"SUM(I81,I87,I93,I99,I104)","v":1772.389140252694},1756.8104682332723,1739.853382282294,1069.7321324265642,408.14311041807611,null,null,null,null,null,null,null,null,{"$f":"SUM(V81,V87,V93,V99,V104)","v":1772.3891402526945},1756.8104682332728,1739.8533822822944,1069.7321324265647,408.14311041807611]
[{"$f":"A$82","v":"Number of luminaires replaced per year - remote"},null,null,null,null,null,null,null,343.9774633789703,340.95402345691707,337.66306704150759,207.60889189075306,79.21061387071957,null,null,null,null,null,null,null,null,343.9774633789703,340.95402345691713,337.66306704150753,207.60889189075309,79.21061387071957]
[null,null,null,null,null,null,null,null,{"$f":"SUM(I108:I110)","v":9133.5068565626589},{"$f":"SUM(J108:J110)","v":9053.2265702112982},8965.8430169705553,5512.5624188886795,2103.2502472514752,null,null,null,null,null,null,null,null,{"$f":"SUM(V108:V110)","v":9133.5068565626607},{"$f":"SUM(W108:W110)","v":9053.2265702113},8965.8430169705553,5512.5624188886813,2103.2502472514752]
["Check"]
[{"$f":"A$80","v":"Number of luminaires replaced per year - urban"},null,null,null,null,null,null,null,{"$f":"V108-I108","v":0},0,0,0,0]
[{"$f":"A$81","v":"Number of luminaires replaced per year - rural"},null,null,null,null,null,null,null,0,0,0,0,0]
[{"$f":"A$82","v":"Number of luminaires replaced per year - remote"},null,null,null,null,null,null,null,0,0,0,0,0]
[null,null,null,null,null,null,null,null,0,0,0,0,0]

{"sheet":"DNSP Inputs General","index":4,"n_rows":128,"n_cols":21,"rows_kept":128,"cut":false,"hidden":false,"merged":[[83,15,83,20],[2,15,2,20],[17,15,17,20],[39,15,39,20],[38,1,38,3],[82,1,82,3],[17,5,17,8],[83,5,83,8],[39,5,39,8],[2,3,2,8],[2,9,2,14],[17,9,17,14]]}
[{"$f":"'DNSP Inputs O & M'!$A$3","v":"AusNet"}]
[null,null,null,2009,2010,2011,2012,2013,2014,2015,2016,2017,2018,2019,2020,"HY2021","2022-06-30","2023-06-30","2024-06-30","2025-06-30","2026-06-30"]
["Capital Expenditure",null,null,"Nominal $ - Actual",null,null,null,null,null,"Nominal $",null,null,null,null,null,"Real 2021 $ - Forecast"]
["(Net of customer contributions)"]
[null,null,null,null,null,null,null,null,null,null,null,null,null,2137181.560228786,2137492.9594749101]
["Poles and Brackets",null,null,945891.23557411402,957809.46514234785,880178.8893283339,925158.84987236292,998447.23143259203,775787.61765560566,1086336.9712855413,1960186,3550606.6064872313,4528111,{"$f":"N5*L$31","v":2280467.5760703757},{"$f":"O5*M$31","v":2317131.1779765785},1181527.8287529736,{"$f":"'Capex 2022-2026'!B28","v":2313667.6977823633},{"$f":"'Capex 2022-2026'!C28","v":2312042.5937329293},{"$f":"'Capex 2022-2026'!D28","v":2311823.9554761378},{"$f":"'Capex 2022-2026'!E28","v":2315083.6450304938},{"$f":"'Capex 2022-2026'!F28","v":2323347.6902474426}]
[]
["Existing Lights",null,null,null,null,null,null,null,null,null,null,null,null,722257.85149069619,407937.5559544377]
["Luminaires",null,null,448491.44047919766,418018.41375785205,-892269.53277506784,258757.31488222803,398955.56933179055,829176.38234439434,1161608.1294883217,3323078,3418777,1644455,{"$f":"N8*L$31","v":770681.18242161151},{"$f":"O8*M$31","v":442221.25990150566},0,{"$f":"'Capex 2022-2026'!B13-'Capex 2022-2026'!B42","v":1840623.5877024084},{"$f":"'Capex 2022-2026'!C13-'Capex 2022-2026'!C42","v":1838637.8411982269},{"$f":"'Capex 2022-2026'!D13-'Capex 2022-2026'!D42","v":1837933.0371918278},{"$f":"'Capex 2022-2026'!E13-'Capex 2022-2026'!E42","v":920357.15201862995},{"$f":"'Capex 2022-2026'!F13-'Capex 2022-2026'!F42","v":0}]
[]
["Energy Efficient Lights",null,null,null,null,null,null,null,null,null,null,null,null,328475.50206811854,590393.0974752116]
["Luminaires",null,null,0,1941138.4570565673,0,0,0,0,0,0,0,483844,{"$f":"N11*L$31","v":350497.938939541},{"$f":"O11*M$31","v":640010.64768795366},2682244.4062899249,{"$f":"'Capex 2022-2026'!B23","v":1184247.0621680547},{"$f":"'Capex 2022-2026'!C23","v":1153341.8908229282},{"$f":"'Capex 2022-2026'!D23","v":1119305.7714110713},{"$f":"'Capex 2022-2026'!E23","v":1195724.8053162114},{"$f":"'Capex 2022-2026'!F23","v":1291162.363080957}]
[]
["Total Net Capex",null,null,{"$f":"SUM(D6,D9,D12)","v":1394382.6760533117},3316966.3359567672,-12090.643446733942,1183916.164754591,1397402.8007643826,1604964,2247945.100773863,5283264,6969383.6064872313,6656410,3401646.6974315285,3399363.0855660383,3863772.2350428985,5338538.3476528265,5304022.3257540846,5269062.7640790371,4431165.6023653354,3614510.0533283995]
[]
[]
[null,null,null,null,null,2011,2012,2013,2014,2015,2016,2017,2018,2019,2020,2015,2016,2017,2018,2019,2020]
["Operating and Maintenance Expenditure",null,null,null,null,"Nominal $ - Actual",null,null,null,"Nominal $",null,null,null,null,null,{"$f":"P3","v":"Real 2021 $ - Forecast"}]
[null,null,null,null,null,null,null,null,null,null,null,null,null,null,7852450.9411685374]
["Total O & M",null,null,null,null,2283204.04,2209782.2600000012,2391738.6399999983,1580678,1063000,1946538.3028133116,2338331,2966870.8600000003,2955471.78,{"$f":"O19*M$31","v":8512383.0788115971},3926225.4705842687,{"$f":"'Cashflow Summary'!K13","v":6720633.569420171},{"$f":"'Cashflow Summary'!L13","v":6675615.7365751276},{"$f":"'Cashflow Summary'!M13","v":6639160.7512733703},{"$f":"'Cashflow Summary'!N13","v":6623048.4610822778},{"$f":"'Cashflow Summary'!O13","v":6636187.1179985702}]
[]
[]
[]
["WACC"]
["Regulatory Period",{"$f":"Q2","v":"2022-06-30"},{"$f":"R2","v":"2023-06-30"},"2024-06-30","2025-06-30","2026-06-30"]
["Real Pre Tax WACC",2.3872199540309946E-2,2.3872199540309946E-2,2.3872199540309946E-2,2.3872199540309946E-2,2.3872199540309946E-2]
[]
[]
["CPI Index","CPI Index","Actual CPI","F'cast CPI",null,null,null,{"$f":"J2","v":2015},2016,2017,2018,2019,2020]
["2019-12-31",116.2,null,null,null,null,null,"Actual CPI",1.5108593012275628E-2,1.0232558139534831E-2,1.9337016574585641E-2,2.0776874435411097E-2,1.5929203539823078E-2]
["2020-12-31",null,{"$f":"IF(B31=\"\",\"\",B31/B30-1)","v":""},2.3743086789108414E-2,null,null,null,1,{"$f":"H31*(1+I30)","v":1.0151085930122756},{"$f":"I31*(1+J30)","v":1.0254957507082152},1.0453257790368271,1.0670443814919734,1.0840415486307837]
["2021-12-31",null,{"$f":"IF(B32=\"\",\"\",B32/107.5-1)","v":""},2.3743086789108414E-2]
["2022-12-31",null,{"$f":"IF(B33=\"\",\"\",B33/B32-1)","v":""},2.3743086789108414E-2]
["2023-12-31",null,{"$f":"IF(B34=\"\",\"\",B34/B33-1)","v":""},2.3743086789108414E-2]
["2024-12-31",null,"",2.3743086789108414E-2]
[]
[]
[]
["Number Of Lights","Central",null,null,{"$f":"P$2","v":"HY2021"},{"$f":"F$2","v":2011},2012,2013,2014,{"$f":"J$2","v":2015},{"$f":"K$2","v":2016},2017,2018,2019,2020,"HY2021","2022-06-30","2023-06-30","2024-06-30","2025-06-30","2026-06-30"]
[null,null,null,null,"Actual Prices","Actual Volumes",null,null,null,null,null,null,null,null,null,"Forecast Volumes"]
["Existing Lights","Reference Light",null,"Price Factor"]
["Mercury Vapour 80W",{"$f":"A$42","v":"Mercury Vapour 80W"},null,1,43.97,59322.500000000007,58866.850000000006,58715.366666666669,56826.283333333333,48843.369902977167,33071,19501,17601,17601,17289.462299999999,15128.279512499999,{"$f":"'All MV replaced with MV'!P4","v":15128.279512499999},{"$f":"'All MV replaced with MV'!Q4","v":15128.279512499999},{"$f":"'All MV replaced with MV'!R4","v":15128.279512499999},{"$f":"'All MV replaced with MV'!S4","v":15128.279512499999},{"$f":"'All MV replaced with MV'!T4","v":15128.279512499999}]
["HP Sodium 150W",{"$f":"A$43","v":"HP Sodium 150W"},null,1,104.07,12679.833333333334,13325.133333333331,13781.75,14149.800000000001,14308.290313255447,15306,14457,17986,17986,17986,17694.26007585504,17117.042599715605,16552.2046308709,15999.460708530594,15458.533184307216,14923.445146840608]
["HP Sodium 250W",{"$f":"A$44","v":"HP Sodium 250W"},null,1,105.12,6080.2666666666664,6156.5333333333338,6248.6333333333341,6374.1833333333343,6445.579841640706,6810,7048,12332,12332,12332,12121.614935370566,11700.98367068886,11285.348225085549,10879.328984869875,10482.726395723632,10090.781206760414]
["Mercury Vapour 50W",{"$f":"A$42","v":"Mercury Vapour 80W"},null,1.53,67.27,324,322.33333333333331,319.58333333333331,270.16666666666669,273.19277301666312,75,71,25,25,24.557499999999997,21.487812499999997,{"$f":"'All MV replaced with MV'!P5","v":21.487812499999997},{"$f":"'All MV replaced with MV'!Q5","v":21.487812499999997},{"$f":"'All MV replaced with MV'!R5","v":21.487812499999997},{"$f":"'All MV replaced with MV'!S5","v":21.487812499999997},{"$f":"'All MV replaced with MV'!T5","v":21.487812499999997}]
["Mercury Vapour 125W",{"$f":"A$42","v":"Mercury Vapour 80W"},null,1.47,64.63,855.25,848.08333333333337,839.5,803.65,812.65159297288574,425,332,297,297,291.74309999999997,255.27521249999998,{"$f":"'All MV replaced with MV'!P6","v":255.27521249999998},{"$f":"'All MV replaced with MV'!Q6","v":255.27521249999998},{"$f":"'All MV replaced with MV'!R6","v":255.27521249999998},{"$f":"'All MV replaced with MV'!S6","v":255.27521249999998},{"$f":"'All MV replaced with MV'!T6","v":255.27521249999998}]
["Mercury Vapour 250W",{"$f":"A$44","v":"HP Sodium 250W"},null,1.05,110.37,875.86666666666633,850.08333333333337,817.78333333333319,791.59999999999991,800.46662228250648,702,668,1036,1036,1017.6627999999999,890.45494999999994,{"$f":"'All MV replaced with MV'!P7","v":890.45494999999994},{"$f":"'All MV replaced with MV'!Q7","v":890.45494999999994},{"$f":"'All MV replaced with MV'!R7","v":890.45494999999994},{"$f":"'All MV replaced with MV'!S7","v":890.45494999999994},{"$f":"'All MV replaced with MV'!T7","v":890.45494999999994}]
["Mercury Vapour 400W",{"$f":"A$44","v":"HP Sodium 250W"},null,1.0900000000000001,114.58,151.16666666666666,146.86666666666667,148,147.91666666666666,149.57346456032604,143,141,206,206,202.35379999999998,177.059575,{"$f":"'All MV replaced with MV'!P8","v":177.059575},{"$f":"'All MV replaced with MV'!Q8","v":177.059575},{"$f":"'All MV replaced with MV'!R8","v":177.059575},{"$f":"'All MV replaced with MV'!S8","v":177.059575},{"$f":"'All MV replaced with MV'!T8","v":177.059575}]
["HP Sodium 100W",{"$f":"A$43","v":"HP Sodium 150W"},null,1.07,111.36,2304.1666666666665,2478.2000000000003,2612.4166666666665,2729.4833333333331,2760.0559681780319,2851,2465,2497,2497,2497,2481.4589410036815,2450.3768230110436,2419.2947050184066,2388.2125870257687,2357.1304690331317,2326.0483510404938]
["HP Sodium 400W",{"$f":"A$44","v":"HP Sodium 250W"},null,1.42,149.26,289.5,283.55,275.25,267.91666666666669,270.91757102053424,282,281,443,443,443,440.24281572472199,434.72844717416598,429.21407862360996,423.69971007305395,418.18534152249794,412.67097297194192]
["Metal Halide 70W",{"$f":"A$42","v":"Mercury Vapour 80W"},null,4.3651056775797761,191.93,31,31,31,31,31.347227502220445,31,31,31,31,31,27.125,19.375,11.625,3.875,0,0]
["Metal Halide 100W","HP Sodium 150W",null,2.3876890876224905,248.49,34,34,34,34,34.380830163725648,34,34,34,34,34,29.75,{"$f":"'All MV replaced with MV'!P11","v":29.75},{"$f":"'All MV replaced with MV'!Q11","v":29.75},{"$f":"'All MV replaced with MV'!R11","v":29.75},{"$f":"'All MV replaced with MV'!S11","v":29.75},{"$f":"'All MV replaced with MV'!T11","v":29.75}]
["Metal Halide 150W","HP Sodium 150W",null,2.7125868138140996,282.31,32,32,32,32.166666666666664,32.526961870583577,33,33,33,33,33,28.875,{"$f":"'All MV replaced with MV'!P12","v":28.875},{"$f":"'All MV replaced with MV'!Q12","v":28.875},{"$f":"'All MV replaced with MV'!R12","v":28.875},{"$f":"'All MV replaced with MV'!S12","v":28.875},{"$f":"'All MV replaced with MV'!T12","v":28.875}]
["HP Sodium 50W",{"$f":"A$43","v":"HP Sodium 150W"},null,0.44334506707259064,46.14,94,95,95,95,96.064084280998131,0,0,0,0,0,0,0,0,0,0,0]
[]
[]
[]
[]
[]
[]
[]
[]
[]
[]
[]
["Total Existing Lights",null,null,null,null,{"$f":"SUM(F42:F65)","v":83073.550000000017},83469.633333333331,83950.28333333334,82553.166666666686,74858.417153721792,59763,45062,52521,52521,52181.779499999997,49295.883830454004,48253.688603089671,47228.868702098473,46225.759052999289,45247.757453086473,44284.127740113465]
[]
["Energy Efficient Lights","Reference Light",null,"Price Factor"]
["T5 2X14W",{"$f":"A$69","v":"T5 2X14W"},null,1,35.6,3208.75,5202.25,6045.833333333333,8439.5833333333339,11516.802884651741,21929,21271,20924,20924,20924,20924,20924,20924,20924,20924,20924]
["T5 2X24W",{"$f":"A$70","v":"T5 2X24W"},null,1,42.08,105.16666666666667,277,352.41666666666669,542.91666666666663,932.74932484535293,1690,1584,1649,1649,1649,1649,1649,1649,1649,1649,1649]
["LED 18W",{"$f":"A$71","v":"LED 18W"},null,1,16.27,0,0,0,0,2982.68873065342,12368,23946,28428,30858.258660569121,33347.516666790616,36672.695838916436,{"$f":"'All MV replaced with MV'!P17","v":39025.719272095565},{"$f":"'All MV replaced with MV'!Q17","v":41441.95310643113},{"$f":"'All MV replaced with MV'!R17","v":43923.1622895111},{"$f":"'All MV replaced with MV'!S17","v":46442.109220916827},{"$f":"'All MV replaced with MV'!T17","v":48965.858914132856}]
["LED 14W",{"$f":"A72","v":"LED 14W"},null,1,16.27,null,null,null,null,null,0,0,14,14,14,14,14,14,14,14,14]
["LED 70W-125W (L1)",{"$f":"A73","v":"LED 70W-125W (L1)"},null,1,23.59,null,null,null,null,null,0,0,770,1294.3899366204362,1833.4217792699637,2130.1291267230199,{"$f":"'All MV replaced with MV'!P18","v":2649.8435354867261},{"$f":"'All MV replaced with MV'!Q18","v":3373.9408764852142},{"$f":"'All MV replaced with MV'!R18","v":4114.1631920915306},{"$f":"'All MV replaced with MV'!S18","v":4703.3165831554479},{"$f":"'All MV replaced with MV'!T18","v":5321.9235184463241}]
["LED 155W-250W (L2)","LED 155W-250W (L2)",null,1,24.3,null,null,null,null,null,0,0,301,710.46574866489652,1130.5834859141589,1905.8937346925409,{"$f":"'All MV replaced with MV'!P19","v":3163.1411672412273},{"$f":"'All MV replaced with MV'!Q19","v":4359.1974404024995},{"$f":"'All MV replaced with MV'!R19","v":5494.5126426611159},{"$f":"'All MV replaced with MV'!S19","v":6700.8757606787249},{"$f":"'All MV replaced with MV'!T19","v":8008.5440709786444}]
["LED 275W-400W (L4)","LED 275W-400W (L4)",null,1,25.83,null,null,null,null,null,0,0,0,23.675208199833047,47.85616960701509,85.476996957146611,{"$f":"'All MV replaced with MV'!P20","v":110.39739694553451},{"$f":"'All MV replaced with MV'!Q20","v":135.85964808106985},{"$f":"'All MV replaced with MV'!R20","v":161.87887981804636},{"$f":"'All MV replaced with MV'!S20","v":188.47064405221363},{"$f":"'All MV replaced with MV'!T20","v":215.35261604115271}]
["Compact Fluorescent 32W",{"$f":"A$69","v":"T5 2X14W"},null,0.87960989252886512,31.59,1978.9333333333332,2125.0833333333335,2279.5,2420.8333333333335,4159.0741192260184,2908,2707,2849,2849,2849,2849,2849,2849,2849,2849,2849]
["Compact Fluorescent 42W","T5 2X14W",null,0.87960989252886512,31.59,245.5,366.33333333333331,572.16666666666663,791.08333333333337,1359.1081106303818,1570,1336,1361,1361,1361,1361,1361,1361,1361,1361,1361]
["Total Energy Efficient Lights",null,null,null,null,{"$f":"SUM(F69:F77)","v":5538.3499999999995},7970.666666666667,9249.9166666666661,12194.416666666668,{"$f":"SUM(J69:J77)","v":20950.423170006914},40465,50844,56296,59683.789554054281,63156.378101581759,67591.195697289135,71746.101371769051,76107.951071399904,80490.717004081773,84831.772208803217,89308.679119598979]
[]
["Total Number of Lights",null,null,null,null,{"$f":"SUM(F66,F78)","v":88611.900000000023},91440.3,93200.200000000012,94747.583333333358,{"$f":"SUM(J66,J78)","v":95808.840323728713},100228,95906,108817,112204.78955405428,115338.15760158176,116887.07952774313,119999.78997485872,123336.81977349837,126716.47605708106,130079.52966188968,133592.80685971244]
[]
[]
["Number Of Lights","North & East",null,null,"HY2021",{"$f":"F$2","v":2011},2012,2013,2014,{"$f":"J$2","v":2015},{"$f":"K$2","v":2016},2017,2018,2019,2020,"HY2021","2022-06-30","2023-06-30","2024-06-30","2025-06-30","2026-06-30"]
[null,null,null,null,"Actual Prices","Actual Volumes",null,null,null,null,null,null,null,null,null,"Forecast Volumes"]
["Existing Lights","Reference Light",null,"Price Factor"]
["Mercury Vapour 80W",{"$f":"A$86","v":"Mercury Vapour 80W"},null,1,49.95,28734.833333333339,28906.483333333334,28889.050000000003,26233.916666666668,22548.595836149958,6984,8177,9280,9115.7439999999988,8954.3953311999976,7835.0959147999984,{"$f":"'All MV replaced with MV'!P24","v":7835.0959147999984},{"$f":"'All MV replaced with MV'!Q24","v":7835.0959147999984},{"$f":"'All MV replaced with MV'!R24","v":7835.0959147999984},{"$f":"'All MV replaced with MV'!S24","v":7835.0959147999984},{"$f":"'All MV replaced with MV'!T24","v":7835.0959147999984}]
["HP Sodium 150W",{"$f":"A$87","v":"HP Sodium 150W"},null,1,118.4,4571.583333333333,4712.166666666667,4750.25,4824.416666666667,4878.4544134033549,5333,7159,9474,9474,9474,9297.2697753674529,8948.0090404512121,8607.0691531530229,8274.2961551308763,7949.5413241626939,7628.7589042416312]
["HP Sodium 250W",{"$f":"A$88","v":"HP Sodium 250W"},null,1,117.12,4504.6999999999989,4586.8666666666677,4654.6166666666659,4713.4833333333327,4766.2785283201401,5034,5363,8400,8400,8400,8256.695220330259,7977.4135297923895,7708.3972363737903,7445.1945817966043,7187.6800997694872,6932.9776797686854]
["Mercury Vapour 50W",{"$f":"A$86","v":"Mercury Vapour 80W"},null,1.48,73.930000000000007,376.74999999999994,367.75,363.16666666666669,289.41666666666669,292.65839009465481,146,128,97,95.28309999999999,93.596589129999984,81.897015488749986,{"$f":"'All MV replaced with MV'!P25","v":81.897015488749986},{"$f":"'All MV replaced with MV'!Q25","v":81.897015488749986},{"$f":"'All MV replaced with MV'!R25","v":81.897015488749986},{"$f":"'All MV replaced with MV'!S25","v":81.897015488749986},{"$f":"'All MV replaced with MV'!T25","v":81.897015488749986}]
["Mercury Vapour 125W",{"$f":"A$86","v":"Mercury Vapour 80W"},null,1.48,73.930000000000007,62,62.083333333333336,60.333333333333336,54.583333333333336,55.194715091275249,26,21,32,31.433599999999998,30.877225279999998,27.017572119999997,{"$f":"'All MV replaced with MV'!P26","v":27.017572119999997},{"$f":"'All MV replaced with MV'!Q26","v":27.017572119999997},{"$f":"'All MV replaced with MV'!R26","v":27.017572119999997},{"$f":"'All MV replaced with MV'!S26","v":27.017572119999997},{"$f":"'All MV replaced with MV'!T26","v":27.017572119999997}]
["Mercury Vapour 250W",{"$f":"A$88","v":"HP Sodium 250W"},null,1.04,121.81,433.84999999999997,433.2833333333333,427.8,417.68333333333339,422.36175722212187,277,275,438,430.24739999999997,422.63202101999997,369.80301839250001,{"$f":"'All MV replaced with MV'!P27","v":369.80301839250001},{"$f":"'All MV replaced with MV'!Q27","v":369.80301839250001},{"$f":"'All MV replaced with MV'!R27","v":369.80301839250001},{"$f":"'All MV replaced with MV'!S27","v":369.80301839250001},{"$f":"'All MV replaced with MV'!T27","v":369.80301839250001}]
["Mercury Vapour 400W",{"$f":"A$88","v":"HP Sodium 250W"},null,1.07,125.32,132,131.33333333333334,127.66666666666667,123.16666666666669,124.54624260290812,92,91,148,145.38039999999998,142.80716691999999,124.95627105499999,{"$f":"'All MV replaced with MV'!P28","v":124.95627105499999},{"$f":"'All MV replaced with MV'!Q28","v":124.95627105499999},{"$f":"'All MV replaced with MV'!R28","v":124.95627105499999},{"$f":"'All MV replaced with MV'!S28","v":124.95627105499999},{"$f":"'All MV replaced with MV'!T28","v":124.95627105499999}]
["HP Sodium 100W",{"$f":"A$87","v":"HP Sodium 150W"},null,1.07,126.69,143.91666666666666,196.83333333333334,222.91666666666666,248.50000000000003,251.28342046134776,244,729,778,778,778,773.15781181452303,763.47343544356909,753.78905907261515,744.1046827016612,734.42030633070726,724.73592995975332]
["HP Sodium 400W",{"$f":"A$88","v":"HP Sodium 250W"},null,1.42,166.31,299.08333333333331,310.41666666666669,321.49999999999994,330.08333333333331,333.78055950616977,349,361,517,517,517,513.78224769679741,507.34674309039235,500.91123848398718,494.47573387758212,488.04022927117694,481.60472466477188]
["Metal Halide 70W",{"$f":"A$86","v":"Mercury Vapour 80W"},null,3.8044420368364027,190.05,0,0,0,0,0,0,0,0,0,0,0,0,0,0,0,0]
["Metal Halide 100W",{"$f":"A$87","v":"HP Sodium 150W"},null,2.1180491097797653,250.78,0,0,0,0,0,0,0,0,0,0,0,{"$f":"'All MV replaced with MV'!P31","v":0},{"$f":"'All MV replaced with MV'!Q31","v":0},{"$f":"'All MV replaced with MV'!R31","v":0},{"$f":"'All MV replaced with MV'!S31","v":0},{"$f":"'All MV replaced with MV'!T31","v":0}]
["Metal Halide 150W",{"$f":"A$87","v":"HP Sodium 150W"},null,2.4062948274407225,284.91000000000003,0,0,0,0,0,0,0,0,0,0,0,{"$f":"'All MV replaced with MV'!P32","v":0},{"$f":"'All MV replaced with MV'!Q32","v":0},{"$f":"'All MV replaced with MV'!R32","v":0},{"$f":"'All MV replaced with MV'!S32","v":0},{"$f":"'All MV replaced with MV'!T32","v":0}]
[{"$f":"A54","v":"HP Sodium 50W"},{"$f":"A$87","v":"HP Sodium 150W"},null,0.45472955868703063,53.84,0,0,0,0,0,0,0,0,0,0,0,0,0,0,0,0]
[]
[]
[]
[]
[]
[]
[]
[]
[]
[]
[]
["Total Existing Lights",null,null,null,null,{"$f":"SUM(F86:F109)","v":39258.716666666667},39707.216666666674,39817.300000000003,37235.25,{"$f":"SUM(J86:J109)","v":33673.153862851934},18485,22304,29164,28987.088499999998,28813.308333549998,27279.674847065282,26635.012540633812,26008.936478939668,25396.840945362972,24798.451751390316,24206.847030491092]
[]
["Energy Efficient Lights","Reference Light",null,"Price Factor"]
["T5 2X14W",{"$f":"A$113","v":"T5 2X14W"},null,1,40.6,64.75,140,249.58333333333334,3014.5833333333335,5220.5984078107704,7036,8015,7921,7921,7921,7921,7921,7921,7921,7921,7921]
["T5 2X24W",{"$f":"A$114","v":"T5 2X24W"},null,1,47.91,36.5,44.333333333333336,64.416666666666671,93.5,128.23440738477976,1002,1159,1150,1150,1150,1150,1150,1150,1150,1150,1150]
["LED 18W",{"$f":"A$115","v":"LED 18W"},null,1,16.739999999999998,0,0,0,0,33.687124434534233,14920,19876,20779,21786.75378999711,22806.761249277115,24327.520097604654,{"$f":"'All MV replaced with MV'!P37","v":25115.669232895023},{"$f":"'All MV replaced with MV'!Q37","v":25921.270174856065},{"$f":"'All MV replaced with MV'!R37","v":26745.213177095167},{"$f":"'All MV replaced with MV'!S37","v":27583.537566828294},{"$f":"'All MV replaced with MV'!T37","v":28426.723671730288}]
["LED 14W",{"$f":"A116","v":"LED 14W"},null,1,16.739999999999998,null,null,null,null,null,0,0,11,11,11,11,11,11,11,11,11]
["LED 70W-125W (L1)",{"$f":"A117","v":"LED 70W-125W (L1)"},null,1,24.09,null,null,null,null,null,0,0,171,332.30127556175705,497.20953611094137,586.34967638218995,{"$f":"'All MV replaced with MV'!P38","v":758.79570356899421},{"$f":"'All MV replaced with MV'!Q38","v":935.05398983986152},{"$f":"'All MV replaced with MV'!R38","v":1115.2097841256293},{"$f":"'All MV replaced with MV'!S38","v":1303.2098948356852},{"$f":"'All MV replaced with MV'!T38","v":1497.0840200748844}]
["LED 155W-250W (L2)","LED 155W-250W (L2)",null,1,24.89,null,null,null,null,null,0,0,239,390.80214393717665,557.61553509072212,1058.8828405676463,{"$f":"'All MV replaced with MV'!P39","v":1939.7932649607358},{"$f":"'All MV replaced with MV'!Q39","v":2788.8774362928457},{"$f":"'All MV replaced with MV'!R39","v":3606.3470205993526},{"$f":"'All MV replaced with MV'!S39","v":4445.2416314672773},{"$f":"'All MV replaced with MV'!T39","v":5321.3157841670036}]
["LED 275W-400W (L4)","LED 275W-400W (L4)",null,1,26.37,null,null,null,null,null,0,0,15,46.847124888767837,58.217160478732332,85.097953606710718,{"$f":"'All MV replaced with MV'!P40","v":103.28771808821591},{"$f":"'All MV replaced with MV'!Q40","v":121.74032884145794},{"$f":"'All MV replaced with MV'!R40","v":140.46166357913845},{"$f":"'All MV replaced with MV'!S40","v":159.45773145012652},{"$f":"'All MV replaced with MV'!T40","v":178.59268478617219}]
["Compact Fluorescent 32W",{"$f":"A$113","v":"T5 2X14W"},null,0.87960989252886512,36.130000000000003,180.58333333333334,291.75,405.75,536.58333333333337,929.24486932670493,640,718,671,671,671,671,671,671,671,671,671]
["Compact Fluorescent 42W","T5 2X14W",null,0.87960989252886512,36.130000000000003,709.16666666666663,1220.0833333333333,1602.3333333333333,1877.5,3251.4189945536045,2614,3222,3295,3295,3295,3295,3295,3295,3295,3295,3295]
["Total Energy Efficient Lights",null,null,null,null,{"$f":"SUM(F113:F121)","v":991},1696.1666666666665,2322.083333333333,5522.166666666667,{"$f":"SUM(J113:J121)","v":9563.1838035103938},26212,32990,34252,35604.704334384813,36967.803480957511,39105.8505681612,40965.545919512973,42814.941929830231,44655.23164539929,46539.446824581384,48471.716160758348]
[]
["Total Number of Lights",null,null,null,null,{"$f":"SUM(F110,F122)","v":40249.716666666667},41403.383333333339,42139.383333333339,42757.416666666664,{"$f":"SUM(J110,J122)","v":43236.337666362328},44697,55294,63416,64591.792834384811,65781.111814507516,66385.525415226482,67600.558460146785,68823.878408769902,70052.072590762255,71337.898575971703,72678.563191249443]
[]
[]
[null,null,null,null,null,null,null,null,null,null,null,null,null,null,null,null,{"$f":"Q2","v":"2022-06-30"},{"$f":"R2","v":"2023-06-30"},"2024-06-30","2025-06-30","2026-06-30"]
[null,null,null,null,null,null,null,null,null,null,null,null,null,null,null,"Real Labour Escalation",2.3867759115823129E-3,-2.4977364300287118E-3,-7.2630656307249176E-4,3.67274824937613E-3,9.9659336093870197E-3]

{"sheet":"DNSP Inputs O & M","index":5,"n_rows":506,"n_cols":16,"rows_kept":506,"cut":false,"hidden":false,"merged":[[4,2,4,7],[2,2,2,7]]}
["Public Lighting Cost Build-up Model"]
[]
["AusNet",null,"O & M Data Inputs"]
[]
[null,null,"Real 2021 $ "]
[]
["Input parameters",null,{"$f":"'DNSP Inputs General'!P2","v":"HY2021"},{"$f":"'DNSP Inputs General'!Q2","v":"2022-06-30"},{"$f":"'DNSP Inputs General'!R2","v":"2023-06-30"},{"$f":"'DNSP Inputs General'!S2","v":"2024-06-30"},{"$f":"'DNSP Inputs General'!T2","v":"2025-06-30"},{"$f":"'DNSP Inputs General'!U2","v":"2026-06-30"}]
[]
["Inputs - all lamps"]
[]
["Material premium for rural areas",null,0.05,0.05,0.05,0.05,0.05,0.05]
["Labour rate (per hour)",null,105.14613928035978,111.36223236834823,{"$f":"D12*(1+'DNSP Inputs General'!R$128)","v":111.08407886363248},{"$f":"E12*(1+'DNSP Inputs General'!S$128)","v":111.00339776810097},{"$f":"F12*(1+'DNSP Inputs General'!T$128)","v":111.41108530292857},{"$f":"G12*(1+'DNSP Inputs General'!U$128)","v":112.5214007824073},null,null,null,111.36223236834823,111.36223236834823,111.36223236834823,111.36223236834823]
["Labour rate for night patrols (per hour)",null,131.42923029921559,143.47813587064053,{"$f":"D13*(1+'DNSP Inputs General'!R$128)","v":143.11976530376381},{"$f":"E13*(1+'DNSP Inputs General'!S$128)","v":143.01581647891828},{"$f":"F13*(1+'DNSP Inputs General'!T$128)","v":143.54107756852432},{"$f":"G13*(1+'DNSP Inputs General'!U$128)","v":144.97159841779208},null,null,null,143.47813587064053,143.47813587064053,143.47813587064053,143.47813587064053]
["Elevated platform vehicle (per hour) - urban MV,urban T5",null,49.790457219554725,50.18,50.18,50.18,50.18,50.18,null,null,72.594359962228481,72.594359962228481,72.594359962228481,72.594359962228481,72.594359962228481]
["Elevated platform vehicle (per hour) - rural MV, rural T5, S-HP",null,89.971356195735396,63.64,63.64,63.64,63.64,63.64,null,null,103.71675920679887,103.71675920679887,103.71675920679887,103.71675920679887,103.71675920679887]
["Patrol vehicle (per hour)",null,34.106463195394987,34.369999999999997,34.369999999999997,34.369999999999997,34.369999999999997,34.369999999999997,null,null,39.540632294617566,39.540632294617566,39.540632294617566,39.540632294617566,39.540632294617566]
["Number of hours in a day",null,8,7.5,7.5,7.5,7.5,7.5]
["Indirect overheads",null,0.25,0.25,0.25,0.25,0.25,0.25]
[]
[]
[]
["Inputs - MV80"]
[]
["Depreciation period","years",20,{"$f":"C24","v":20},{"$f":"D24","v":20},{"$f":"E24","v":20},{"$f":"F24","v":20},{"$f":"G24","v":20}]
["Lamps - bulk change","years",4,4,4,4,4,4]
["PE cells - bulk change","years",8,8,8,8,8,8]
["Proportion of lamps that fail between bulk change",null,0.107,0.19416850184289608,0.19416850184289608,0.19416850184289608,0.19416850184289608,0.19416850184289608]
["Unit cost - lamp",null,6.111746931067044,4.71,4.71,4.71,4.71,4.71]
["Unit cost - PE cell",null,24.673806764877483,15.120000000000001,15.120000000000001,15.120000000000001,15.120000000000001,15.120000000000001]
["Unit cost - luminaire",null,212.03482530689328,116.85,116.85,116.85,116.85,116.85]
["Unit cost - miscellaneous materials (bulk lamp)",null,1.3373336999933596,1.3476456706921032,1.3476456706921032,1.3476456706921032,1.3476456706921032,1.3476456706921032]
["Unit cost - miscellaneous materials (repair)",null,13.373336999933597,13.476456706921033,13.476456706921033,13.476456706921033,13.476456706921033,13.476456706921033]
["Number of men in crew",null,2,2,2,2,2,2]
["Number of bulk lamp changes in 1 day - urban",null,85,86,86,86,86,86,null,null,66,66,66,66,66]
["Number of bulk lamp changes in 1 day - rural",null,70,72,72,72,72,72,null,null,54,54,54,54,54]
["Number of bulk lamp changes in 1 day - remote",null,50,60,60,60,60,60,null,null,37,37,37,37,37]
["Number of repairs in 1 day - urban",null,20,28.8,28.8,28.8,28.8,28.8,null,null,18,18,18,18,18]
["Number of repairs in 1 day - rural",null,15,24,24,24,24,24,null,null,14,14,14,14,14]
["Number of repairs in 1 day - remote",null,10,19.2,19.2,19.2,19.2,19.2,null,null,10,10,10,10,10]
["   % of repairs - lamps",null,0.6,0.6,0.6,0.6,0.6,0.6]
["   % of repairs - PE cells",null,0.5,0.5,0.5,0.5,0.5,0.5]
["   % of repairs - luminaires",null,0.15,0.15,0.15,0.15,0.15,0.15]
["   % of repairs - other",null,0.1,0.1,0.1,0.1,0.1,0.1]
[]
["Other Maintenance and Repair costs"]
["Traffic control costs",null,6771.1475260162197,{"$f":"D49*D50-D47","v":48223.088397330001},{"$f":"E49*E50-E47","v":48223.088397330001},48223.088397330001,48223.088397330001,48223.088397330001]
["Other costs : Describe…………………………………….",null,0,0,0,0,0,0]
[null,null,{"$f":"SUM(C46:C47)","v":6771.1475260162197},48223.088397330001,48223.088397330001,48223.088397330001,48223.088397330001,48223.088397330001]
["Number of Lights",null,{"$f":"C48/C50","v":34321.640010886862},{"$f":"SUM('DNSP Inputs General'!Q42,'DNSP Inputs General'!Q86)","v":22963.375427299998},{"$f":"SUM('DNSP Inputs General'!R42,'DNSP Inputs General'!R86)","v":22963.375427299998},{"$f":"SUM('DNSP Inputs General'!S42,'DNSP Inputs General'!S86)","v":22963.375427299998},{"$f":"SUM('DNSP Inputs General'!T42,'DNSP Inputs General'!T86)","v":22963.375427299998},{"$f":"SUM('DNSP Inputs General'!U42,'DNSP Inputs General'!U86)","v":22963.375427299998}]
["Unit Cost",null,0.1972850808955634,2.1,2.1,2.1,2.1,2.1,null,null,2.1,2.1,2.1,2.1,2.1]
[]
["Other O & M costs specific to North/East zone"]
["Other N\\E O & M costs : Describe…………………………………….",null,2873.4725549580835,{"$f":"D54*D55","v":7678.3939965039981},{"$f":"E54*E55","v":7678.3939965039981},7678.393996503999,7678.3939965039981,7678.3939965039981]
["Number of Lights",null,{"$f":"C53/C55","v":10840.222439976529},{"$f":"'DNSP Inputs General'!Q86","v":7835.0959147999984},{"$f":"'DNSP Inputs General'!R86","v":7835.0959147999984},{"$f":"'DNSP Inputs General'!S86","v":7835.0959147999984},{"$f":"'DNSP Inputs General'!T86","v":7835.0959147999984},{"$f":"'DNSP Inputs General'!U86","v":7835.0959147999984}]
["Unit Cost",null,0.26507505458202618,0.98,0.98,0.98000000000000009,0.98,0.98,null,null,0.98,0.98,0.98000000000000009,0.98,0.98]
[]
["Location of selected public lighting assets within distributors' areas (%)"]
["SP AusNet - Central"]
["Urban",null,0.96,0.96,0.96,0.96,0.96,0.96]
["Rural",null,0.04,0.04,0.04,0.04,0.04,0.04]
["Remote",null,0,0,0,0,0,0]
[]
["SP AusNet - North/East"]
["Urban",null,0.35,0.35,0.35,0.35,0.35,0.35]
["Rural",null,0.53,0.53,0.53,0.53,0.53,0.53]
["Remote",null,0.12,0.12,0.12,0.12,0.12,0.12]
[]
[]
[]
["Inputs - S-HP150"]
[]
["Depreciation period ","years",20,{"$f":"C72","v":20},{"$f":"D72","v":20},{"$f":"E72","v":20},{"$f":"F72","v":20},{"$f":"G72","v":20}]
["Number of patrols per year",null,3,3,3,3,3,3]
["Lamps - frequency of replacement","years",5,5,5,5,5,5]
["PE cells - frequency of replacement","years",10,10,10,10,10,10]
["Unit cost - lamp",null,44.197695939565627,19.329999999999998,19.329999999999998,19.329999999999998,19.329999999999998,19.329999999999998]
["Unit cost - PE cell",null,24.005139914880804,15.120000000000001,15.120000000000001,15.120000000000001,15.120000000000001,15.120000000000001]
["Unit cost - miscellaneous materials",null,2.6746673999867192,2.6952913413842063,2.6952913413842063,2.6952913413842063,2.6952913413842063,2.6952913413842063]
["Number of men in crew - road patrols",null,2,2,2,2,2,2]
["Number of men in crew - repairs",null,2,2,2,2,2,2]
["Number of lamps patrolled in 1 day - urban",null,3000,3000,3000,3000,3000,3000]
["Number of lamps patrolled in 1 day - rural",null,2000,2000,2000,2000,2000,2000]
["Number of lamps patrolled in 1 day - remote",null,1000,1000,1000,1000,1000,1000]
["Number of repairs in 1 day - urban",null,15,15,15,15,15,15]
["Number of repairs in 1 day - rural",null,12,11,11,11,11,11]
["Number of repairs in 1 day - remote",null,9,9,9,9,9,9]
[]
["Other Maintenance and Repair costs"]
["Traffic control costs",null,4101.2817430757059,54736.60844435032,52834.474946450238,50974.889413689089,49156.956467786811,47359.628507272704]
["Other costs : Describe…………………………………….",null,995.80914439109449,0,0,0,0,0]
[null,null,{"$f":"SUM(C89:C90)","v":5097.0908874668003},54736.60844435032,52834.474946450238,50974.889413689089,49156.956467786811,47359.628507272704]
["Number of Lights",null,{"$f":"C91/C93","v":20788.605628252233},{"$f":"SUM('DNSP Inputs General'!Q43,'DNSP Inputs General'!Q87)","v":26065.051640166817},{"$f":"SUM('DNSP Inputs General'!R43,'DNSP Inputs General'!R87)","v":25159.273784023921},{"$f":"SUM('DNSP Inputs General'!S43,'DNSP Inputs General'!S87)","v":24273.756863661471},{"$f":"SUM('DNSP Inputs General'!T43,'DNSP Inputs General'!T87)","v":23408.074508469908},{"$f":"SUM('DNSP Inputs General'!U43,'DNSP Inputs General'!U87)","v":22552.204051082241}]
["Unit Cost",null,0.24518676137372708,{"$f":"D91/D92","v":2.1},{"$f":"E91/E92","v":2.1},{"$f":"F91/F92","v":2.1},{"$f":"G91/G92","v":2.1},{"$f":"H91/H92","v":2.1}]
[]
["Other O & M costs specific to North/East zone"]
["Other N\\E O & M costs : Describe…………………………………….",null,1401.1194879799334,8769.0488596421874,8434.927770089962,8108.8102320282587,7790.55049767944,7476.183726156798]
["Number of Lights",null,{"$f":"C96/C98","v":5285.746296230087},{"$f":"'DNSP Inputs General'!Q87","v":8948.0090404512121},{"$f":"'DNSP Inputs General'!R87","v":8607.0691531530229},{"$f":"'DNSP Inputs General'!S87","v":8274.2961551308763},{"$f":"'DNSP Inputs General'!T87","v":7949.5413241626939},{"$f":"'DNSP Inputs General'!U87","v":7628.7589042416312}]
["Unit Cost",null,0.26507505458202624,{"$f":"D96/D97","v":0.98},{"$f":"E96/E97","v":0.98},{"$f":"F96/F97","v":0.98},{"$f":"G96/G97","v":0.98},{"$f":"H96/H97","v":0.98}]
[]
["Location of selected public lighting assets within distributors' areas (%)"]
["SP AusNet - Central"]
["Urban",null,0.94,0.94,0.94,0.94,0.94,0.94]
["Rural",null,0.06,0.06,0.06,0.06,0.06,0.06]
["Remote",null,0,0,0,0,0,0]
[]
["SP AusNet - North/East"]
["Urban",null,0.3,0.3,0.3,0.3,0.3,0.3]
["Rural",null,0.63,0.63,0.63,0.63,0.63,0.63]
["Remote",null,7.0000000000000007E-2,7.0000000000000007E-2,7.0000000000000007E-2,7.0000000000000007E-2,7.0000000000000007E-2,7.0000000000000007E-2]
[]
[]
[]
["Inputs - S-HP250"]
[]
["Depreciation period ","years",{"$f":"C72","v":20},{"$f":"D72","v":20},20,20,20,20]
["Number of patrols per year",null,{"$f":"C73","v":3},3,3,3,3,3]
["Lamps - frequency of replacement","years",{"$f":"C74","v":5},5,5,5,5,5]
["PE cells - frequency of replacement","years",{"$f":"C75","v":10},10,10,10,10,10]
["Unit cost - lamp",null,44.417148253068923,21.28,21.28,21.28,21.28,21.28]
["Unit cost - PE cell",null,24.005139914880804,15.120000000000001,15.120000000000001,15.120000000000001,15.120000000000001,15.120000000000001]
["Unit cost - miscellaneous materials",null,2.6746673999867192,2.548069545426245,2.548069545426245,2.548069545426245,2.548069545426245,2.548069545426245]
["Number of men in crew - road patrols",null,{"$f":"C79","v":2},2,2,2,2,2]
["Number of men in crew - repairs",null,{"$f":"C80","v":2},2,2,2,2,2]
["Number of lamps patrolled in 1 day - urban",null,{"$f":"C81","v":3000},3000,3000,3000,3000,3000]
["Number of lamps patrolled in 1 day - rural",null,{"$f":"C82","v":2000},2000,2000,2000,2000,2000]
["Number of lamps patrolled in 1 day - remote",null,{"$f":"C83","v":1000},1000,1000,1000,1000,1000]
["Number of repairs in 1 day - urban",null,{"$f":"C84","v":15},15,15,15,15,15]
["Number of repairs in 1 day - rural",null,{"$f":"C85","v":12},11,11,11,11,11]
["Number of repairs in 1 day - remote",null,{"$f":"C86","v":9},9,9,9,9,9]
[]
["Other Maintenance and Repair costs"]
["Traffic control costs",null,2396.6019610809972,41324.634121010626,39886.865469064607,38481.499489999609,37107.853640535555,35749.89366171111]
["Other costs : Describe…………………………………….",null,995.80914439109449,0,0,0,0,0]
[null,null,{"$f":"SUM(C132:C133)","v":3392.4111054720915},41324.634121010626,39886.865469064607,38481.499489999609,37107.853640535555,35749.89366171111]
["Number of Lights",null,{"$f":"C134/C136","v":12147.912808215253},{"$f":"SUM('DNSP Inputs General'!Q44,'DNSP Inputs General'!Q88)","v":19678.397200481249},{"$f":"SUM('DNSP Inputs General'!R44,'DNSP Inputs General'!R88)","v":18993.745461459337},{"$f":"SUM('DNSP Inputs General'!S44,'DNSP Inputs General'!S88)","v":18324.523566666481},{"$f":"SUM('DNSP Inputs General'!T44,'DNSP Inputs General'!T88)","v":17670.40649549312},{"$f":"SUM('DNSP Inputs General'!U44,'DNSP Inputs General'!U88)","v":17023.7588865291}]
["Unit Cost",null,0.2792587631331952,{"$f":"D134/D135","v":2.1},{"$f":"E134/E135","v":2.1},{"$f":"F134/F135","v":2.1},{"$f":"G134/G135","v":2.1},{"$f":"H134/H135","v":2.1}]
[]
["Other O & M costs specific to North/East zone"]
["Other N\\E O & M costs : Describe…………………………………….",null,1368.9019441940025,7817.865259196542,7554.2292916463148,7296.2906901606721,7043.9264977740977,6794.3181261733116]
["Number of Lights",null,{"$f":"C139/C141","v":5164.2050827925132},{"$f":"'DNSP Inputs General'!Q88","v":7977.4135297923895},{"$f":"'DNSP Inputs General'!R88","v":7708.3972363737903},{"$f":"'DNSP Inputs General'!S88","v":7445.1945817966043},{"$f":"'DNSP Inputs General'!T88","v":7187.6800997694872},{"$f":"'DNSP Inputs General'!U88","v":6932.9776797686854}]
["Unit Cost",null,0.26507505458202618,{"$f":"D139/D140","v":0.98},{"$f":"E139/E140","v":0.98000000000000009},{"$f":"F139/F140","v":0.98},{"$f":"G139/G140","v":0.98},{"$f":"H139/H140","v":0.98}]
[]
["Location of selected public lighting assets within distributors' areas (%)"]
["SP AusNet - Central"]
["Urban",null,0.9,0.9,0.9,0.9,0.9,0.9]
["Rural",null,0.1,0.1,0.1,0.1,0.1,0.1]
["Remote",null,0,0,0,0,0,0]
[]
["SP AusNet - North/East"]
["Urban",null,0.37,0.37,0.37,0.37,0.37,0.37]
["Rural",null,0.56999999999999995,0.56999999999999995,0.56999999999999995,0.56999999999999995,0.56999999999999995,0.56999999999999995]
["Remote",null,0.06,0.06,0.06,0.06,0.06,0.06]
[]
[]
[]
["Dedicated street lighting poles"]
[]
["Period of inspection","years",5,5,5,5,5,5]
["Pole inspection rate","per day",75,75,75,75,75,75]
["Depreciation of dedicated street lighting pole & bracket","years",35,{"$f":"C160","v":35},{"$f":"D160","v":35},{"$f":"E160","v":35},{"$f":"F160","v":35},{"$f":"G160","v":35}]
["Proportion of lights on dedicated poles"]
["SP AusNet - Central",null,0.38119062500000001,0.38119062500000001,0.38119062500000001,0.38119062500000001,0.38119062500000001,0.38119062500000001]
["SP AusNet - North/East",null,0.38296744016378254,0.38296744016378254,0.38296744016378254,0.38296744016378254,0.38296744016378254,0.38296744016378254]
[]
[]
[]
["Other direct costs"]
["Call centre"]
["Number of calls",null,4000,4000,4000,4000,4000,4000]
["Average cost per call $",null,16.030991501416427,15.61,16.61,17.61,18.61,19.61]
[null,null,{"$f":"C169*C170","v":64123.966005665709},62440,66440,70440,74440,78440]
[]
["GIS and other",null,124476.14304888682,118584.41510767433,118584.41510767433,118584.41510767433,118584.41510767433,118584.41510767433]
["Complaints handling",null,37342.842914666042,35575.3245323023,35575.3245323023,35575.3245323023,35575.3245323023,35575.3245323023]
[]
[]
[]
["ENERGY EFFICIENT LIGHTS"]
[]
["Inputs - T5 (2 X 14W)"]
[]
["Depreciation period","years",20,{"$f":"C182","v":20},{"$f":"D182","v":20},{"$f":"E182","v":20},{"$f":"F182","v":20},{"$f":"G182","v":20}]
["Lamps - bulk change","years",4,4,4,4,4,4]
["PE cells - bulk change","years",8,8,8,8,8,8]
["Ballast unit life","years",20,{"$f":"C185","v":20},{"$f":"D185","v":20},{"$f":"E185","v":20},{"$f":"F185","v":20},{"$f":"G185","v":20}]
["Proportion of luminaires that fail between bulk change",null,0.114,0.41565636121546606,0.41565636121546606,0.41565636121546606,0.41565636121546606,0.41565636121546606]
["Unit cost - lamp",null,10.698300283286118,8.1,8.1,8.1,8.1,8.1]
["Unit cost - PE cell",null,18.05400494991035,15.120000000000001,15.120000000000001,15.120000000000001,15.120000000000001,15.120000000000001]
["Unit cost - luminaire",null,258.10883852691217,260.27999999999997,260.27999999999997,260.27999999999997,260.27999999999997,260.27999999999997]
["Unit cost - miscellaneous materials (bulk lamp)",null,1.3373336999933596,1.3476456706921032,1.3476456706921032,1.3476456706921032,1.3476456706921032,1.3476456706921032]
["Unit cost - miscellaneous materials (repair)",null,13.373336999933597,13.476456706921033,13.476456706921033,13.476456706921033,13.476456706921033,13.476456706921033]
["Number of men in crew",null,2,2,2,2,2,2]
["Number of bulk lamp changes in 1 day - urban",null,85,{"$f":"D34","v":86},{"$f":"E34","v":86},86,86,86,null,null,null,66,66,66,66,66]
["Number of bulk lamp changes in 1 day - rural",null,70,{"$f":"D35","v":72},72,72,72,72,null,null,null,54,54,54,54,54]
["Number of bulk lamp changes in 1 day - remote",null,50,{"$f":"D36","v":60},60,60,60,60,null,null,null,37,37,37,37,37]
["Number of repairs in 1 day - urban",null,20,{"$f":"D37","v":28.8},28.8,28.8,28.8,28.8,null,null,null,18,18,18,18,18]
["Number of repairs in 1 day - rural",null,15,{"$f":"D38","v":24},24,24,24,24,null,null,null,14,14,14,14,14]
["Number of repairs in 1 day - remote",null,10,{"$f":"D39","v":19.2},19.2,19.2,19.2,19.2,null,null,null,10,10,10,10,10]
["   % of repairs - lamps",null,0.6,0.6,0.6,0.6,0.6,0.6]
["   % of repairs - PE cells",null,0.5,0.5,0.5,0.5,0.5,0.5]
["   % of repairs - luminaires",null,0.15,0,0,0,0,0]
["   % of repairs - other",null,0.1,0.1,0.1,0.1,0.1,0.1]
[]
["Other Maintenance and Repair costs"]
["Traffic control costs",null,7051.2759824612167,30287.25,30287.25,30287.25,30287.25,30287.25]
["Other costs : Describe…………………………………….",null,0,0,0,0,0,0]
[null,null,{"$f":"SUM(C205:C206)","v":7051.2759824612167},30287.25,30287.25,30287.25,30287.25,30287.25]
["Number of Lights",null,{"$f":"C207/C209","v":35741.557093178999},{"$f":"SUM('DNSP Inputs General'!Q69,'DNSP Inputs General'!Q113)","v":28845},{"$f":"SUM('DNSP Inputs General'!R69,'DNSP Inputs General'!R113)","v":28845},{"$f":"SUM('DNSP Inputs General'!S69,'DNSP Inputs General'!S113)","v":28845},{"$f":"SUM('DNSP Inputs General'!T69,'DNSP Inputs General'!T113)","v":28845},{"$f":"SUM('DNSP Inputs General'!U69,'DNSP Inputs General'!U113)","v":28845}]
["Unit Cost",null,0.1972850808955634,{"$f":"D207/D208","v":1.05},{"$f":"E207/E208","v":1.05},{"$f":"F207/F208","v":1.05},{"$f":"G207/G208","v":1.05},{"$f":"H207/H208","v":1.05}]
[]
["Other O & M costs specific to North/East zone"]
["Other N\\E O & M costs : Describe…………………………………….",null,3466.0715928848704,7762.58,7762.58,7762.58,7762.58,7762.58]
["Number of Lights",null,{"$f":"C212/C214","v":13075.812050101122},{"$f":"'DNSP Inputs General'!Q113","v":7921},{"$f":"'DNSP Inputs General'!R113","v":7921},{"$f":"'DNSP Inputs General'!S113","v":7921},{"$f":"'DNSP Inputs General'!T113","v":7921},{"$f":"'DNSP Inputs General'!U113","v":7921}]
["Unit Cost",null,0.26507505458202618,{"$f":"D212/D213","v":0.98},{"$f":"E212/E213","v":0.98},{"$f":"F212/F213","v":0.98},{"$f":"G212/G213","v":0.98},{"$f":"H212/H213","v":0.98}]
[]
["Location of selected public lighting assets within distributors' areas (%)"]
["SP AusNet - Central"]
["Urban",null,0.96,0.96,0.96,0.96,0.96,0.96]
["Rural",null,0.04,0.04,0.04,0.04,0.04,0.04]
["Remote",null,0,0,0,0,0,0]
[]
["SP AusNet - North/East"]
["Urban",null,0.35,0.35,0.35,0.35,0.35,0.35]
["Rural",null,0.53,0.53,0.53,0.53,0.53,0.53]
["Remote",null,0.12,0.12,0.12,0.12,0.12,0.12]
[]
[]
[]
["Inputs - T5 (2 x 24W)"]
[]
["Depreciation period","years",20,{"$f":"C231","v":20},{"$f":"D231","v":20},{"$f":"E231","v":20},{"$f":"F231","v":20},{"$f":"G231","v":20}]
["Lamps - bulk change","years",4,4,4,4,4,4]
["PE cells - bulk change","years",8,8,8,8,8,8]
["Ballast unit life",null,20,{"$f":"C234","v":20},{"$f":"D234","v":20},20,20,20]
["Proportion of luminaires that fail between bulk change",null,0.114,0.41565636121546606,0.41565636121546606,0.41565636121546606,0.41565636121546606,0.41565636121546606]
["Unit cost - lamp",null,18.455939565627951,8.1,8.1,8.1,8.1,8.1]
["Unit cost - PE cell",null,23.403339749883791,15.120000000000001,15.120000000000001,15.120000000000001,15.120000000000001,15.120000000000001]
["Unit cost - luminaire",null,286.18776203966002,267.33,267.33,267.33,267.33,267.33]
["Unit cost - miscellaneous materials (bulk lamp)",null,1.3373336999933596,1.3476456706921032,1.3476456706921032,1.3476456706921032,1.3476456706921032,1.3476456706921032]
["Unit cost - miscellaneous materials (repair)",null,13.373336999933597,13.476456706921033,13.476456706921033,13.476456706921033,13.476456706921033,13.476456706921033]
["Number of men in crew",null,2,2,2,2,2,2]
["Number of bulk lamp changes in 1 day - urban",null,85,{"$f":"D193","v":86},{"$f":"E193","v":86},86,86,86,null,null,null,66,66,66,66,66]
["Number of bulk lamp changes in 1 day - rural",null,70,{"$f":"D194","v":72},72,72,72,72,null,null,null,54,54,54,54,54]
["Number of bulk lamp changes in 1 day - remote",null,50,{"$f":"D195","v":60},60,60,60,60,null,null,null,37,37,37,37,37]
["Number of repairs in 1 day - urban",null,20,{"$f":"D196","v":28.8},28.8,28.8,28.8,28.8,null,null,null,20,20,20,20,20]
["Number of repairs in 1 day - rural",null,15,{"$f":"D197","v":24},24,24,24,24,null,null,null,15,15,15,15,15]
["Number of repairs in 1 day - remote",null,10,{"$f":"D198","v":19.2},19.2,19.2,19.2,19.2,null,null,null,10,10,10,10,10]
["   % of repairs - lamps",null,0.6,0.6,0.6,0.6,0.6,0.6]
["   % of repairs - PE cells",null,0.5,0.5,0.5,0.5,0.5,0.5]
["   % of repairs - luminaires",null,0.15,0,0,0,0,0]
["   % of repairs - other",null,0.1,0.1,0.1,0.1,0.1,0.1]
[]
["Other Maintenance and Repair costs"]
["Traffic control costs",null,508.07466243803941,2938.9500000000003,2938.9500000000003,2938.9500000000003,2938.9500000000003,2938.9500000000003]
["Other costs : Describe…………………………………….",null,0,0,0,0,0,0]
[null,null,{"$f":"SUM(C254:C255)","v":508.07466243803941},{"$f":"SUM(D254:D255)","v":2938.9500000000003},2938.9500000000003,2938.9500000000003,2938.9500000000003,2938.9500000000003]
["Number of Lights",null,{"$f":"C256/C258","v":2575.3324079634708},{"$f":"SUM('DNSP Inputs General'!Q70,'DNSP Inputs General'!Q114)","v":2799},{"$f":"SUM('DNSP Inputs General'!R70,'DNSP Inputs General'!R114)","v":2799},{"$f":"SUM('DNSP Inputs General'!S70,'DNSP Inputs General'!S114)","v":2799},{"$f":"SUM('DNSP Inputs General'!T70,'DNSP Inputs General'!T114)","v":2799},{"$f":"SUM('DNSP Inputs General'!U70,'DNSP Inputs General'!U114)","v":2799}]
["Unit Cost",null,0.1972850808955634,{"$f":"D256/D257","v":1.05},{"$f":"E256/E257","v":1.05},{"$f":"F256/F257","v":1.05},{"$f":"G256/G257","v":1.05},{"$f":"H256/H257","v":1.05}]
[]
["Other O & M costs specific to North/East zone"]
["Other N\\E O & M costs : Describe…………………………………….",null,67.3289113720313,1127,1127,1127,1127,1127]
["Number of Lights",null,{"$f":"C261/C263","v":253.9994247221656},{"$f":"'DNSP Inputs General'!Q114","v":1150},{"$f":"'DNSP Inputs General'!R114","v":1150},{"$f":"'DNSP Inputs General'!S114","v":1150},{"$f":"'DNSP Inputs General'!T114","v":1150},{"$f":"'DNSP Inputs General'!U114","v":1150}]
["Unit Cost",null,0.26507505458202618,{"$f":"D261/D262","v":0.98},{"$f":"E261/E262","v":0.98},{"$f":"F261/F262","v":0.98},{"$f":"G261/G262","v":0.98},{"$f":"H261/H262","v":0.98}]
[]
["Location of selected public lighting assets within distributors' areas (%)"]
["SP AusNet - Central"]
["Urban",null,0.96,0.96,0.96,0.96,0.96,0.96]
["Rural",null,0.04,0.04,0.04,0.04,0.04,0.04]
["Remote",null,0,0,0,0,0,0]
[]
["SP AusNet - North/East"]
["Urban",null,0.35,0.35,0.35,0.35,0.35,0.35]
["Rural",null,0.53,0.53,0.53,0.53,0.53,0.53]
["Remote",null,0.12,0.12,0.12,0.12,0.12,0.12]
[]
[]
[]
[]
[]
["Inputs - LED 18W"]
[]
["Depreciation period","years",20,{"$f":"C282","v":20},{"$f":"D282","v":20},{"$f":"E282","v":20},{"$f":"F282","v":20},{"$f":"G282","v":20}]
["PE cells - bulk change","years",20,8,8,8,8,8]
["Proportion of PE cells that fail between PE cell bulk change",null,0.05,4.2746393209543501E-2,4.2746393209543501E-2,4.2746393209543501E-2,4.2746393209543501E-2,4.2746393209543501E-2]
["Unit cost - PE cell",null,39.290404590687878,15.120000000000001,15.120000000000001,15.120000000000001,15.120000000000001,15.120000000000001]
["Unit cost - luminaire",null,391.14159061523941,205,205,205,205,205,null,null,null,379.79,379.79,379.79,379.79,379.79]
["Unit cost - miscellaneous materials (repair)",null,23.011004175291369,23.188438424353883,23.188438424353883,23.188438424353883,23.188438424353883,23.188438424353883]
["Number of men in crew",null,2,2,2,2,2,2]
["Number of bulk PE cells changes in 1 day - urban",null,0,73.92,73.92,73.92,73.92,73.92,null,null,null,66,66,66,66,66]
["Number of bulk PE cells changes in 1 day - rural",null,0,61.44,61.44,61.44,61.44,61.44,null,null,null,54,54,54,54,54]
["Number of bulk PE cells changes in 1 day - remote",null,0,48.96,48.96,48.96,48.96,48.96,null,null,null,37,37,37,37,37]
["Number of repairs in 1 day - urban",null,20,24.96,24.96,24.96,24.96,24.96,null,null,null,18,18,18,18,18]
["Number of repairs in 1 day - rural",null,15,20.16,20.16,20.16,20.16,20.16,null,null,null,14,14,14,14,14]
["Number of repairs in 1 day - remote",null,10,16.32,16.32,16.32,16.32,16.32,null,null,null,10,10,10,10,10]
["   % of repairs - PE cells",null,0.5,0.9,0.9,0.9,0.9,0.9]
["   % of repairs - luminaires",null,0.15,0,0,0,0,0]
["   % of repairs - other",null,0.1,0.1,0.1,0.1,0.1,0.1]
[]
["Other Maintenance and Repair costs"]
["Traffic control costs",null,3120.1721052807725,{"$f":"D303*D304-D301","v":67348.457930240125},{"$f":"E303*E304-E301","v":70731.384445351563},74201.794239936571,77726.929127132375,81262.2117151563]
["Other costs : Describe…………………………………….",null,0,0,0,0,0,0]
[null,null,{"$f":"SUM(C300:C301)","v":3120.1721052807725},67348.457930240125,70731.384445351563,74201.794239936571,77726.929127132375,81262.2117151563]
["Number of Lights",null,{"$f":"C302/C304","v":13570.694263197212},{"$f":"SUM('DNSP Inputs General'!Q71,'DNSP Inputs General'!Q115)","v":64141.388504990588},{"$f":"SUM('DNSP Inputs General'!R71,'DNSP Inputs General'!R115)","v":67363.223281287195},{"$f":"SUM('DNSP Inputs General'!S71,'DNSP Inputs General'!S115)","v":70668.37546660626},{"$f":"SUM('DNSP Inputs General'!T71,'DNSP Inputs General'!T115)","v":74025.646787745121},{"$f":"SUM('DNSP Inputs General'!U71,'DNSP Inputs General'!U115)","v":77392.582585863143}]
["Unit Cost",null,0.22991985853977009,1.05,1.05,1.05,1.05,1.05,null,null,null,1.05,1.05,1.05,1.05,1.05]
[]
["Other O & M costs specific to North/East zone"]
["Other N\\E O & M costs : Describe…………………………………….",null,40.174401059670821,{"$f":"D308*D309","v":24613.355848237123},{"$f":"E308*E309","v":25402.844771358945},26210.308913553268,27031.866815491732,27858.189198295677]
["Number of Lights",null,{"$f":"C307/C309","v":151.55858827613312},{"$f":"'DNSP Inputs General'!Q115","v":25115.669232895023},{"$f":"'DNSP Inputs General'!R115","v":25921.270174856065},{"$f":"'DNSP Inputs General'!S115","v":26745.213177095167},{"$f":"'DNSP Inputs General'!T115","v":27583.537566828294},{"$f":"'DNSP Inputs General'!U115","v":28426.723671730288}]
["Unit Cost",null,0.26507505458202618,0.98,0.98,0.98000000000000009,0.98000000000000009,0.97999999999999987,null,null,null,0.98,0.98,0.98000000000000009,0.98000000000000009,0.97999999999999987]
[]
[]
[]
["Location of selected public lighting assets within distributors' areas (%)"]
["SP AusNet - Central"]
["Urban",null,0.96,0.96,0.96,0.96,0.96,0.96]
["Rural",null,0.04,0.04,0.04,0.04,0.04,0.04]
["Remote",null,0,0,0,0,0,0]
[]
["SP AusNet - North/East"]
["Urban",null,0.35,0.35,0.35,0.35,0.35,0.35]
["Rural",null,0.53,0.53,0.53,0.53,0.53,0.53]
["Remote",null,0.12,0.12,0.12,0.12,0.12,0.12]
[]
[]
[]
["Inputs - LED 14W"]
[]
["Depreciation period",null,null,20,20,20,20,20]
["PE cells - bulk change",null,null,8,8,8,8,8]
["Proportion of PE cells that fail between PE cell bulk change",null,null,4.2746393209543501E-2,4.2746393209543501E-2,4.2746393209543501E-2,4.2746393209543501E-2,4.2746393209543501E-2]
["Unit cost - PE cell",null,null,15.120000000000001,15.120000000000001,15.120000000000001,15.120000000000001,15.120000000000001]
["Unit cost - luminaire",null,null,205,205,205,205,205,null,null,null,379.79,379.79,379.79,379.79,379.79]
["Unit cost - miscellaneous materials (repair)",null,null,23.188438424353883,23.188438424353883,23.188438424353883,23.188438424353883,23.188438424353883]
["Number of men in crew",null,null,2,2,2,2,2]
["Number of bulk PE cells changes in 1 day - urban",null,null,{"$f":"D289","v":73.92},{"$f":"E289","v":73.92},73.92,73.92,73.92,null,null,null,66,66,66,66,66]
["Number of bulk PE cells changes in 1 day - rural",null,null,{"$f":"D290","v":61.44},61.44,61.44,61.44,61.44,null,null,null,54,54,54,54,54]
["Number of bulk PE cells changes in 1 day - remote",null,null,{"$f":"D291","v":48.96},48.96,48.96,48.96,48.96,null,null,null,37,37,37,37,37]
["Number of repairs in 1 day - urban",null,null,{"$f":"D292","v":24.96},24.96,24.96,24.96,24.96,null,null,null,18,18,18,18,18]
["Number of repairs in 1 day - rural",null,null,{"$f":"D293","v":20.16},20.16,20.16,20.16,20.16,null,null,null,14,14,14,14,14]
["Number of repairs in 1 day - remote",null,null,{"$f":"D294","v":16.32},16.32,16.32,16.32,16.32,null,null,null,10,10,10,10,10]
["   % of repairs - PE cells",null,null,0.9,0.9,0.9,0.9,0.9]
["   % of repairs - luminaires",null,null,0,0,0,0,0]
["   % of repairs - other",null,null,0.1,0.1,0.1,0.1,0.1]
[]
["Other Maintenance and Repair costs"]
["Traffic control costs",null,null,26.25,26.25,26.25,26.25,26.25]
["Other costs : Describe…………………………………….",null,null,0,0,0,0,0]
[null,null,null,{"$f":"SUM(D346:D347)","v":26.25},{"$f":"SUM(E346:E347)","v":26.25},26.25,26.25,26.25]
["Number of Lights",null,null,{"$f":"SUM('DNSP Inputs General'!Q72,'DNSP Inputs General'!Q116)","v":25},{"$f":"SUM('DNSP Inputs General'!R72,'DNSP Inputs General'!R116)","v":25},{"$f":"SUM('DNSP Inputs General'!S72,'DNSP Inputs General'!S116)","v":25},{"$f":"SUM('DNSP Inputs General'!T72,'DNSP Inputs General'!T116)","v":25},{"$f":"SUM('DNSP Inputs General'!U72,'DNSP Inputs General'!U116)","v":25}]
["Unit Cost",null,null,{"$f":"D348/D349","v":1.05},{"$f":"E348/E349","v":1.05},{"$f":"F348/F349","v":1.05},{"$f":"G348/G349","v":1.05},{"$f":"H348/H349","v":1.05}]
[]
["Other O & M costs specific to North/East zone"]
["Other N\\E O & M costs: additional travel related expenses.",null,null,10.78,10.78,10.78,10.78,10.78]
["Number of Lights",null,null,{"$f":"'DNSP Inputs General'!Q116","v":11},{"$f":"'DNSP Inputs General'!R116","v":11},{"$f":"'DNSP Inputs General'!S116","v":11},{"$f":"'DNSP Inputs General'!T116","v":11},{"$f":"'DNSP Inputs General'!U116","v":11}]
["Unit Cost",null,null,{"$f":"D353/D354","v":0.98},{"$f":"E353/E354","v":0.98},0.98,0.98,0.98]
[]
[]
[]
["Location of selected public lighting assets within distributors' areas (%)"]
["SP AusNet - Central"]
["Urban",null,null,0.96,0.96,0.96,0.96,0.96]
["Rural",null,null,0.04,0.04,0.04,0.04,0.04]
["Remote",null,null,0,0,0,0,0]
[]
["SP AusNet - North/East"]
["Urban",null,null,0.35,0.35,0.35,0.35,0.35]
["Rural",null,null,0.53,0.53,0.53,0.53,0.53]
["Remote",null,null,0.12,0.12,0.12,0.12,0.12]
[]
[]
[]
["Inputs - LED 70W (L1)"]
[]
["Depreciation period",null,null,20,20,20,20,20]
["Number of patrols per year",null,null,3,3,3,3,3]
["PE cells - frequency of replacement",null,null,20,20,20,20,20]
["Unit cost - PE cell",null,null,15.120000000000001,15.120000000000001,15.120000000000001,15.120000000000001,15.120000000000001]
["Unit cost - luminaire",null,null,402,402,402,402,402,null,null,null,779.38,779.38,779.38,779.38,779.38]
["Unit cost - miscellaneous materials (repair)",null,null,23.188438424353883,23.188438424353883,23.188438424353883,23.188438424353883,23.188438424353883]
["Number of men in crew",null,null,2,2,2,2,2]
["Number of lamps patrolled in 1 day - urban",null,null,3000,3000,3000,3000,3000]
["Number of lamps patrolled in 1 day - rural",null,null,2000,2000,2000,2000,2000]
["Number of lamps patrolled in 1 day - remote",null,null,1000,1000,1000,1000,1000]
["Number of repairs in 1 day - urban",null,null,15,15,15,15,15]
["Number of repairs in 1 day - rural",null,null,11,11,11,11,11]
["Number of repairs in 1 day - remote",null,null,9,9,9,9,9]
["   % of repairs - PE cells",null,null,0.9,0.9,0.9,0.9,0.9]
["   % of repairs - luminaires",null,null,0,0,0,0,0]
["   % of repairs - other",null,null,0.1,0.1,0.1,0.1,0.1]
[]
["Other Maintenance and Repair costs"]
["Traffic control costs",null,null,{"$f":"D395*D396-D393","v":7158.1424020170125},{"$f":"E395*E396-E393","v":9048.8892192826606},10981.683250056036,12613.70560378138,14319.915830894539]
["Other costs : Describe…………………………………….",null,null,0,0,0,0,0]
[null,null,null,{"$f":"SUM(D392:D393)","v":7158.1424020170125},{"$f":"SUM(E392:E393)","v":9048.8892192826606},10981.683250056036,12613.70560378138,14319.915830894539]
["Number of Lights",null,null,{"$f":"SUM('DNSP Inputs General'!Q73,'DNSP Inputs General'!Q117)","v":3408.6392390557203},{"$f":"SUM('DNSP Inputs General'!R73,'DNSP Inputs General'!R117)","v":4308.9948663250761},{"$f":"SUM('DNSP Inputs General'!S73,'DNSP Inputs General'!S117)","v":5229.3729762171597},{"$f":"SUM('DNSP Inputs General'!T73,'DNSP Inputs General'!T117)","v":6006.5264779911331},{"$f":"SUM('DNSP Inputs General'!U73,'DNSP Inputs General'!U117)","v":6819.0075385212085}]
["Unit Cost",null,null,2.1,2.1,2.1,2.1,2.1,null,null,null,2.1,2.1,2.1,2.1,2.1]
[]
["Other O & M costs specific to North/East zone"]
["Other N\\E O & M costs: additional travel related expenses.",null,null,{"$f":"D400*D401","v":743.61978949761431},{"$f":"E400*E401","v":916.3529100430643},1092.9055884431166,1277.1456969389717,1467.1423396733869]
["Number of Lights",null,null,{"$f":"'DNSP Inputs General'!Q117","v":758.79570356899421},{"$f":"'DNSP Inputs General'!R117","v":935.05398983986152},{"$f":"'DNSP Inputs General'!S117","v":1115.2097841256293},{"$f":"'DNSP Inputs General'!T117","v":1303.2098948356852},{"$f":"'DNSP Inputs General'!U117","v":1497.0840200748844}]
["Unit Cost",null,null,0.98,0.98,0.97999999999999987,0.98000000000000009,0.98000000000000009,null,null,null,0.98,0.98,0.97999999999999987,0.98000000000000009,0.98000000000000009]
[]
[]
[]
["Location of selected public lighting assets within distributors' areas (%)"]
["SP AusNet - Central"]
["Urban",null,null,0.96,0.96,0.96,0.96,0.96]
["Rural",null,null,0.04,0.04,0.04,0.04,0.04]
["Remote",null,null,0,0,0,0,0]
[]
["SP AusNet - North/East"]
["Urban",null,null,0.35,0.35,0.35,0.35,0.35]
["Rural",null,null,0.53,0.53,0.53,0.53,0.53]
["Remote",null,null,0.12,0.12,0.12,0.12,0.12]
[]
[]
[]
["Inputs - LED 155W (L2)"]
[]
["Depreciation period",null,null,20,20,20,20,20]
["Number of patrols per year",null,null,3,3,3,3,3]
["PE cells - frequency of replacement",null,null,20,20,20,20,20]
["Unit cost - PE cell",null,null,15.120000000000001,15.120000000000001,15.120000000000001,15.120000000000001,15.120000000000001]
["Unit cost - luminaire",null,null,427,427,427,427,427,null,null,null,886.88,886.88,886.88,886.88,886.88]
["Unit cost - miscellaneous materials (repair)",null,null,23.188438424353883,23.188438424353883,23.188438424353883,23.188438424353883,23.188438424353883]
["Number of men in crew",null,null,2,2,2,2,2]
["Number of lamps patrolled in 1 day - urban",null,null,3000,3000,3000,3000,3000]
["Number of lamps patrolled in 1 day - rural",null,null,2000,2000,2000,2000,2000]
["Number of lamps patrolled in 1 day - remote",null,null,1000,1000,1000,1000,1000]
["Number of repairs in 1 day - urban",null,null,15,15,15,15,15]
["Number of repairs in 1 day - rural",null,null,11,11,11,11,11]
["Number of repairs in 1 day - remote",null,null,9,9,9,9,9]
["   % of repairs - PE cells",null,null,0.9,0.9,0.9,0.9,0.9]
["   % of repairs - luminaires",null,null,0,0,0,0,0]
["   % of repairs - other",null,null,0.1,0.1,0.1,0.1,0.1]
[]
["Other Maintenance and Repair costs"]
["Traffic control costs",null,null,{"$f":"D441*D442-D439","v":10716.162307624123},{"$f":"E441*E442-E439","v":15010.957241060227},19111.805292846984,23406.846523506607,27992.705695805864]
["Other costs : Describe…………………………………….",null,null,0,0,0,0,0]
[null,null,null,{"$f":"SUM(D438:D439)","v":10716.162307624123},{"$f":"SUM(E438:E439)","v":15010.957241060227},19111.805292846984,23406.846523506607,27992.705695805864]
["Number of Lights",null,null,{"$f":"SUM('DNSP Inputs General'!Q74,'DNSP Inputs General'!Q118)","v":5102.9344322019633},{"$f":"SUM('DNSP Inputs General'!R74,'DNSP Inputs General'!R118)","v":7148.0748766953457},{"$f":"SUM('DNSP Inputs General'!S74,'DNSP Inputs General'!S118)","v":9100.8596632604676},{"$f":"SUM('DNSP Inputs General'!T74,'DNSP Inputs General'!T118)","v":11146.117392146003},{"$f":"SUM('DNSP Inputs General'!U74,'DNSP Inputs General'!U118)","v":13329.859855145649}]
["Unit Cost",null,null,2.1,2.1,2.1,2.1,2.1,null,null,null,2.1,2.1,2.1,2.1,2.1]
[]
["Other O & M costs specific to North/East zone"]
["Other N\\E O & M costs: additional travel related expenses.",null,null,{"$f":"D446*D447","v":1900.9973996615211},{"$f":"E446*E447","v":2733.0998875669884},3534.2200801873655,4356.3367988379314,5214.8894684836632]
["Number of Lights",null,null,{"$f":"'DNSP Inputs General'!Q118","v":1939.7932649607358},{"$f":"'DNSP Inputs General'!R118","v":2788.8774362928457},{"$f":"'DNSP Inputs General'!S118","v":3606.3470205993526},{"$f":"'DNSP Inputs General'!T118","v":4445.2416314672773},{"$f":"'DNSP Inputs General'!U118","v":5321.3157841670036}]
["Unit Cost",null,null,0.98,0.97999999999999987,0.98,0.98,0.98,null,null,null,0.98,0.97999999999999987,0.98,0.98,0.98]
[]
[]
[]
["Location of selected public lighting assets within distributors' areas (%)"]
["SP AusNet - Central"]
["Urban",null,null,0.96,0.96,0.96,0.96,0.96]
["Rural",null,null,0.04,0.04,0.04,0.04,0.04]
["Remote",null,null,0,0,0,0,0]
[]
["SP AusNet - North/East"]
["Urban",null,null,0.35,0.35,0.35,0.35,0.35]
["Rural",null,null,0.53,0.53,0.53,0.53,0.53]
["Remote",null,null,0.12,0.12,0.12,0.12,0.12]
[]
[]
[]
["Inputs - LED 275W (L4)"]
[]
["Depreciation period",null,null,20,20,20,20,20]
["Number of patrols per year",null,null,3,3,3,3,3]
["PE cells - frequency of replacement",null,null,10,10,10,10,10]
["Unit cost - PE cell",null,null,15.120000000000001,15.120000000000001,15.120000000000001,15.120000000000001,15.120000000000001]
["Unit cost - luminaire",null,null,650.88,650.88,650.88,650.88,650.88,null,null,null,994.38,994.38,994.38,994.38,994.38]
["Unit cost - miscellaneous materials (repair)",null,null,23.188438424353883,23.188438424353883,23.188438424353883,23.188438424353883,23.188438424353883]
["Number of men in crew",null,null,2,2,2,2,2]
["Number of lamps patrolled in 1 day - urban",null,null,3000,3000,3000,3000,3000]
["Number of lamps patrolled in 1 day - rural",null,null,2000,2000,2000,2000,2000]
["Number of lamps patrolled in 1 day - remote",null,null,1000,1000,1000,1000,1000]
["Number of repairs in 1 day - urban",null,null,15,15,15,15,15]
["Number of repairs in 1 day - rural",null,null,11,11,11,11,11]
["Number of repairs in 1 day - remote",null,null,9,9,9,9,9]
["   % of repairs - PE cells",null,null,0.9,0.9,0.9,0.9,0.9]
["   % of repairs - luminaires",null,null,0,0,0,0,0]
["   % of repairs - other",null,null,0.1,0.1,0.1,0.1,0.1]
[]
["Other Maintenance and Repair costs"]
["Traffic control costs",null,null,{"$f":"D487*D488-D485","v":448.73874157087596},{"$f":"E487*E488-E485","v":540.95995153730837},634.915141134088,730.64958855491432,827.28513173738236]
["Other costs : Describe…………………………………….",null,null,0,0,0,0,0]
[null,null,null,{"$f":"SUM(D484:D485)","v":448.73874157087596},{"$f":"SUM(E484:E485)","v":540.95995153730837},634.915141134088,730.64958855491432,827.28513173738236]
["Number of Lights",null,null,{"$f":"SUM('DNSP Inputs General'!Q75,'DNSP Inputs General'!Q119)","v":213.68511503375044},{"$f":"SUM('DNSP Inputs General'!R75,'DNSP Inputs General'!R119)","v":257.59997692252779},{"$f":"SUM('DNSP Inputs General'!S75,'DNSP Inputs General'!S119)","v":302.34054339718477},{"$f":"SUM('DNSP Inputs General'!T75,'DNSP Inputs General'!T119)","v":347.92837550234015},{"$f":"SUM('DNSP Inputs General'!U75,'DNSP Inputs General'!U119)","v":393.9453008273249}]
["Unit Cost",null,null,2.1,2.1,2.1,2.1,2.1,null,null,null,2.1,2.1,2.1,2.1,2.1]
[]
["Other O & M costs specific to North/East zone"]
["Other N\\E O & M costs: additional travel related expenses.",null,null,{"$f":"D492*D493","v":101.22196372645159},{"$f":"E492*E493","v":119.30552226462876},137.65243030755568,156.26857682112399,175.02083109044875]
["Number of Lights",null,null,{"$f":"'DNSP Inputs General'!Q119","v":103.28771808821591},{"$f":"'DNSP Inputs General'!R119","v":121.74032884145794},{"$f":"'DNSP Inputs General'!S119","v":140.46166357913845},{"$f":"'DNSP Inputs General'!T119","v":159.45773145012652},{"$f":"'DNSP Inputs General'!U119","v":178.59268478617219}]
["Unit Cost",null,null,0.98,0.97999999999999987,0.98,0.98,0.98,null,null,null,0.98,0.97999999999999987,0.98,0.98,0.98]
[]
[]
[]
["Location of selected public lighting assets within distributors' areas (%)"]
["SP AusNet - Central"]
["Urban",null,null,0.96,0.96,0.96,0.96,0.96]
["Rural",null,null,0.04,0.04,0.04,0.04,0.04]
["Remote",null,null,0,0,0,0,0]
[]
["SP AusNet - North/East"]
["Urban",null,null,0.35,0.35,0.35,0.35,0.35]
["Rural",null,null,0.53,0.53,0.53,0.53,0.53]
["Remote",null,null,0.12,0.12,0.12,0.12,0.12]

{"sheet":"DNSP Inputs Capex","index":6,"n_rows":224,"n_cols":8,"rows_kept":224,"cut":false,"hidden":false,"merged":[[4,2,4,7],[2,2,2,7]]}
["Public Lighting Cost Build-up Model"]
[]
[{"$f":"'DNSP Inputs O & M'!$A$3","v":"AusNet"},null,"Capex Data Inputs"]
[]
[null,null,"Real 2021 $ "]
[]
["Input parameters",null,{"$f":"'DNSP Inputs General'!P2","v":"HY2021"},{"$f":"'DNSP Inputs General'!Q2","v":"2022-06-30"},{"$f":"'DNSP Inputs General'!R2","v":"2023-06-30"},{"$f":"'DNSP Inputs General'!S2","v":"2024-06-30"},{"$f":"'DNSP Inputs General'!T2","v":"2025-06-30"},{"$f":"'DNSP Inputs General'!U2","v":"2026-06-30"}]
[]
["Inputs - all lamps"]
[]
["Material premium for rural areas",null,{"$f":"'DNSP Inputs O & M'!C11","v":0.05},{"$f":"'DNSP Inputs O & M'!D11","v":0.05},{"$f":"'DNSP Inputs O & M'!E11","v":0.05},{"$f":"'DNSP Inputs O & M'!F11","v":0.05},{"$f":"'DNSP Inputs O & M'!G11","v":0.05},{"$f":"'DNSP Inputs O & M'!H11","v":0.05}]
["Labour rate (per hour)",null,{"$f":"'DNSP Inputs O & M'!C12","v":105.14613928035978},{"$f":"'DNSP Inputs O & M'!D12","v":111.36223236834823},{"$f":"'DNSP Inputs O & M'!E12","v":111.08407886363248},{"$f":"'DNSP Inputs O & M'!F12","v":111.00339776810097},{"$f":"'DNSP Inputs O & M'!G12","v":111.41108530292857},{"$f":"'DNSP Inputs O & M'!H12","v":112.5214007824073}]
["Elevated platform vehicle (per hour) - urban MV,urban T5",null,{"$f":"'DNSP Inputs O & M'!C14","v":49.790457219554725},{"$f":"'DNSP Inputs O & M'!D14","v":50.18},{"$f":"'DNSP Inputs O & M'!E14","v":50.18},{"$f":"'DNSP Inputs O & M'!F14","v":50.18},{"$f":"'DNSP Inputs O & M'!G14","v":50.18},{"$f":"'DNSP Inputs O & M'!H14","v":50.18}]
["Elevated platform vehicle (per hour) - rural MV, rural T5, S-HP",null,{"$f":"'DNSP Inputs O & M'!C15","v":89.971356195735396},{"$f":"'DNSP Inputs O & M'!D15","v":63.64},{"$f":"'DNSP Inputs O & M'!E15","v":63.64},{"$f":"'DNSP Inputs O & M'!F15","v":63.64},{"$f":"'DNSP Inputs O & M'!G15","v":63.64},{"$f":"'DNSP Inputs O & M'!H15","v":63.64}]
["Number of hours in a day",null,{"$f":"'DNSP Inputs O & M'!C17","v":8},{"$f":"'DNSP Inputs O & M'!D17","v":7.5},{"$f":"'DNSP Inputs O & M'!E17","v":7.5},{"$f":"'DNSP Inputs O & M'!F17","v":7.5},{"$f":"'DNSP Inputs O & M'!G17","v":7.5},{"$f":"'DNSP Inputs O & M'!H17","v":7.5}]
[]
[]
[]
["Inputs - MV80"]
[]
["Unit cost - luminaire",null,{"$f":"'DNSP Inputs O & M'!C30","v":212.03482530689328},{"$f":"'DNSP Inputs O & M'!D30","v":116.85},{"$f":"'DNSP Inputs O & M'!E30","v":116.85},{"$f":"'DNSP Inputs O & M'!F30","v":116.85},{"$f":"'DNSP Inputs O & M'!G30","v":116.85},{"$f":"'DNSP Inputs O & M'!H30","v":116.85}]
["Unit cost - miscellaneous materials (bulk lamp)",null,{"$f":"'DNSP Inputs O & M'!C31","v":1.3373336999933596},{"$f":"'DNSP Inputs O & M'!D31","v":1.3476456706921032},{"$f":"'DNSP Inputs O & M'!E31","v":1.3476456706921032},{"$f":"'DNSP Inputs O & M'!F31","v":1.3476456706921032},{"$f":"'DNSP Inputs O & M'!G31","v":1.3476456706921032},{"$f":"'DNSP Inputs O & M'!H31","v":1.3476456706921032}]
["Number of men in crew",null,{"$f":"'DNSP Inputs O & M'!C33","v":2},{"$f":"'DNSP Inputs O & M'!D33","v":2},{"$f":"'DNSP Inputs O & M'!E33","v":2},{"$f":"'DNSP Inputs O & M'!F33","v":2},{"$f":"'DNSP Inputs O & M'!G33","v":2},{"$f":"'DNSP Inputs O & M'!H33","v":2}]
["Number of luminaires replaced per day - urban",null,16,16,16,16,16,16]
["Number of luminaires replaced per day - rural",null,13,13,13,13,13,13]
["Number of luminaires replaced per day - remote",null,10,10,10,10,10,10]
[]
["Other Capex unit costs Describe :………………………",null,0,0,0,0,0,0]
[]
["Forecast Quantities to be replaced"]
["Number of luminaires replaced per year - urban",null,749.91144070326982,{"$f":"'All MV replaced with MV'!V80","v":5481.1572072765039},{"$f":"'All MV replaced with MV'!W80","v":5481.1572072765002},{"$f":"'All MV replaced with MV'!X80","v":5480.7730645609417},{"$f":"'All MV replaced with MV'!Y80","v":2740.1944609226907},{"$f":"'All MV replaced with MV'!Z80","v":0}]
["Number of luminaires replaced per year - rural",null,189.40010790269483,{"$f":"'All MV replaced with MV'!V81","v":1384.4305742837194},{"$f":"'All MV replaced with MV'!W81","v":1384.4305742837184},{"$f":"'All MV replaced with MV'!X81","v":1384.3335475245517},{"$f":"'All MV replaced with MV'!Y81","v":692.11826038269191},{"$f":"'All MV replaced with MV'!Z81","v":0}]
["Number of luminaires replaced per year - remote",null,36.821579456375801,{"$f":"'All MV replaced with MV'!V82","v":268.6841768272796},{"$f":"'All MV replaced with MV'!W82","v":268.68417682727937},{"$f":"'All MV replaced with MV'!X82","v":268.66534630200698},{"$f":"'All MV replaced with MV'!Y82","v":134.32325788836718},{"$f":"'All MV replaced with MV'!Z82","v":0}]
[]
["MV80 Lights replaced with T5 Energy Efficient Lights"]
["Number of Lights MV80 replaced with T5 per year"]
["SP AusNet - Central",null,1500,0,0,0,0,0]
["SP AusNet - North/East",null,500,0,0,0,0,0]
[]
[]
[]
["Inputs - S-HP150"]
[]
["Unit cost - luminaire",null,264.8350519357885,234.07,234.07,234.07,234.07,234.07]
["Unit cost - miscellaneous materials",null,{"$f":"'DNSP Inputs O & M'!C78","v":2.6746673999867192},{"$f":"'DNSP Inputs O & M'!D78","v":2.6952913413842063},{"$f":"'DNSP Inputs O & M'!E78","v":2.6952913413842063},{"$f":"'DNSP Inputs O & M'!F78","v":2.6952913413842063},{"$f":"'DNSP Inputs O & M'!G78","v":2.6952913413842063},{"$f":"'DNSP Inputs O & M'!H78","v":2.6952913413842063}]
["Number of men in crew",null,{"$f":"'DNSP Inputs O & M'!C80","v":2},{"$f":"'DNSP Inputs O & M'!D80","v":2},{"$f":"'DNSP Inputs O & M'!E80","v":2},{"$f":"'DNSP Inputs O & M'!F80","v":2},{"$f":"'DNSP Inputs O & M'!G80","v":2},{"$f":"'DNSP Inputs O & M'!H80","v":2}]
["Number of luminaires replaced per day - urban",null,16,16,16,16,16,16]
["Number of luminaires replaced per day - rural",null,13,13,13,13,13,13]
["Number of luminaires replaced per day - remote",null,10,10,10,10,10,10]
[]
["Other Capex unit costs Describe :………………………",null,0,0,0,0,0,0]
[]
["Forecast Quantities to be replaced"]
["Number of luminaires replaced per year - urban",null,335.20457322655596,0,0,0,0,0]
["Number of luminaires replaced per year - rural",null,94.522512308131667,0,0,0,0,0]
["Number of luminaires replaced per day - remote",null,8.3798713032454337,0,0,0,0,0]
[]
[]
[]
["Inputs - S-HP250"]
[]
["Unit cost - luminaire",null,271.7697450424929,240.18,240.18,240.18,240.18,240.18]
["Unit cost - miscellaneous materials",null,{"$f":"'DNSP Inputs O & M'!C121","v":2.6746673999867192},{"$f":"'DNSP Inputs O & M'!D121","v":2.548069545426245},{"$f":"'DNSP Inputs O & M'!E121","v":2.548069545426245},{"$f":"'DNSP Inputs O & M'!F121","v":2.548069545426245},{"$f":"'DNSP Inputs O & M'!G121","v":2.548069545426245},{"$f":"'DNSP Inputs O & M'!H121","v":2.548069545426245}]
["Number of men in crew",null,{"$f":"'DNSP Inputs O & M'!C123","v":2},{"$f":"'DNSP Inputs O & M'!D123","v":2},{"$f":"'DNSP Inputs O & M'!E123","v":2},{"$f":"'DNSP Inputs O & M'!F123","v":2},{"$f":"'DNSP Inputs O & M'!G123","v":2},{"$f":"'DNSP Inputs O & M'!H123","v":2}]
["Number of luminaires replaced per day - urban",null,16,16,16,16,16,16]
["Number of luminaires replaced per day - rural",null,13,13,13,13,13,13]
["Number of luminaires replaced per day - remote",null,10,10,10,10,10,10]
[]
["Other Capex unit costs Describe :………………………",null,0,0,0,0,0,0]
[]
["Forecast Quantities to be replaced"]
["Number of luminaires replaced per year - urban",null,212.04613872600592,0,0,0,0,0]
["Number of luminaires replaced per year - rural",null,61.664737064759379,0,0,0,0,0]
["Number of luminaires replaced per day - remote",null,5.2325760941721828,0,0,0,0,0]
[]
[]
[]
["Dedicated street lighting poles"]
[]
["Cost of pole & bracket",null,945.46640226628881,1223.6275383044774,1223.6275383044774,1223.6275383044774,1223.6275383044774,1223.6275383044774]
["Number of men in crew",null,null,4,4,4,4,4]
["Number of poles & brackets replaced per day",null,4,4,4,4,4,4]
["Cost of bracket on non-dedicated poles",null,47.994220963172801,48.364296883852695,48.364296883852695,48.364296883852695,48.364296883852695,48.364296883852695]
["Number of brackets replaced per day",null,20,20,20,20,20,20]
["Plant costs (including truck mounted crane & auger, and tipper truck)",null,null,387.05857996198068,387.05857996198068,387.05857996198068,387.05857996198068,387.05857996198068]
["Other poles & brackets Capex unit costs Describe :…………………",null,22.049013744793783,20.530171694670301,20.9657602949029,21.401348895135499,21.836937495368101,22.2725260956007]
[]
[]
["Forecast Quantities to be replaced"]
["Number of poles & brackets replaced per year - urban",null,598.73311242994885,598.73311242994885,598.73311242994885,598.73311242994885,598.73311242994885,598.73311242994885]
["Number of poles & brackets replaced per year - rural",null,203.06238738354998,203.06238738354998,203.06238738354998,203.06238738354998,203.06238738354998,203.06238738354998]
["Number of poles & brackets replaced per year - remote",null,15.489433285991614,15.489433285991614,15.489433285991614,15.489433285991614,15.489433285991614,15.489433285991614]
[]
["Brackets on non-dedicated poles :"]
["Number of brackets replaced per year - urban",null,970.79642797264523,970.79642797264523,970.79642797264523,970.79642797264523,970.79642797264523,970.79642797264523]
["Number of brackets replaced per year - rural",null,327.85222323621383,327.85222323621383,327.85222323621383,327.85222323621383,327.85222323621383,327.85222323621383]
["Number of brackets replaced per year - remote",null,24.956389678402683,24.956389678402683,24.956389678402683,24.956389678402683,24.956389678402683,24.956389678402683]
[]
[]
[]
["Luminaire Replacements - Other Light types (excluding T5s)"]
["Number of luminaires replaced per year",null,129.54063428776064]
["Forecast Capex",null,41924.26816304175]
[]
[]
[]
["Inputs - T5 (2 X 14W)"]
[]
["Unit cost - luminaire",null,{"$f":"'DNSP Inputs O & M'!C189","v":258.10883852691217},{"$f":"'DNSP Inputs O & M'!D189","v":260.27999999999997},{"$f":"'DNSP Inputs O & M'!E189","v":260.27999999999997},{"$f":"'DNSP Inputs O & M'!F189","v":260.27999999999997},{"$f":"'DNSP Inputs O & M'!G189","v":260.27999999999997},{"$f":"'DNSP Inputs O & M'!H189","v":260.27999999999997}]
["Unit cost - miscellaneous materials (bulk lamp)",null,{"$f":"'DNSP Inputs O & M'!C190","v":1.3373336999933596},{"$f":"'DNSP Inputs O & M'!D190","v":1.3476456706921032},{"$f":"'DNSP Inputs O & M'!E190","v":1.3476456706921032},{"$f":"'DNSP Inputs O & M'!F190","v":1.3476456706921032},{"$f":"'DNSP Inputs O & M'!G190","v":1.3476456706921032},{"$f":"'DNSP Inputs O & M'!H190","v":1.3476456706921032}]
["Number of men in crew",null,{"$f":"'DNSP Inputs O & M'!C192","v":2},{"$f":"'DNSP Inputs O & M'!D192","v":2},{"$f":"'DNSP Inputs O & M'!E192","v":2},{"$f":"'DNSP Inputs O & M'!F192","v":2},{"$f":"'DNSP Inputs O & M'!G192","v":2},{"$f":"'DNSP Inputs O & M'!H192","v":2}]
["Number of luminaires replaced per day - urban",null,0,16,16,16,16,16]
["Number of luminaires replaced per day - rural",null,0,13,13,13,13,13]
["Number of luminaires replaced per day - remote",null,0,10,10,10,10,10]
[]
["Other Capex unit costs Describe :………………………",null,0,0,0,0,0,0]
[]
["Forecast Quantities to be replaced"]
["Number of luminaires replaced per year - urban",null,0,332.31684954821867,332.31684954821867,332.31684954821867,332.31684954821867,332.31684954821867]
["Number of luminaires replaced per year - rural",null,0,83.93658299992417,83.93658299992417,83.93658299992417,83.93658299992417,83.93658299992417]
["Number of luminaires replaced per year - remote",null,0,16.290041644520521,16.290041644520521,16.290041644520521,16.290041644520521,16.290041644520521]
[]
[]
[]
["Inputs - T5 (2x24W)"]
[]
["Unit cost - luminaire",null,{"$f":"'DNSP Inputs O & M'!C238","v":286.18776203966002},{"$f":"'DNSP Inputs O & M'!D238","v":267.33},{"$f":"'DNSP Inputs O & M'!E238","v":267.33},{"$f":"'DNSP Inputs O & M'!F238","v":267.33},{"$f":"'DNSP Inputs O & M'!G238","v":267.33},{"$f":"'DNSP Inputs O & M'!H238","v":267.33}]
["Unit cost - miscellaneous materials (bulk lamp)",null,{"$f":"'DNSP Inputs O & M'!C239","v":1.3373336999933596},{"$f":"'DNSP Inputs O & M'!D239","v":1.3476456706921032},{"$f":"'DNSP Inputs O & M'!E239","v":1.3476456706921032},{"$f":"'DNSP Inputs O & M'!F239","v":1.3476456706921032},{"$f":"'DNSP Inputs O & M'!G239","v":1.3476456706921032},{"$f":"'DNSP Inputs O & M'!H239","v":1.3476456706921032}]
["Number of men in crew",null,{"$f":"'DNSP Inputs O & M'!C241","v":2},{"$f":"'DNSP Inputs O & M'!D241","v":2},{"$f":"'DNSP Inputs O & M'!E241","v":2},{"$f":"'DNSP Inputs O & M'!F241","v":2},{"$f":"'DNSP Inputs O & M'!G241","v":2},{"$f":"'DNSP Inputs O & M'!H241","v":2}]
["Number of luminaires replaced per day - urban",null,0,16,16,16,16,16]
["Number of luminaires replaced per day - rural",null,0,13,13,13,13,13]
["Number of luminaires replaced per day - remote",null,0,10,10,10,10,10]
[]
["Other Capex unit costs Describe :………………………",null,0,0,0,0,0,0]
[]
["Forecast Quantities to be replaced"]
["Number of luminaires replaced per year - urban",null,0,35.829620457443582,35.829620457443582,35.829620457443582,35.829620457443582,35.829620457443582]
["Number of luminaires replaced per year - rural",null,0,9.049844795623649,9.049844795623649,9.049844795623649,9.049844795623649,9.049844795623649]
["Number of luminaires replaced per year - remote",null,0,1.7563539439923321,1.7563539439923321,1.7563539439923321,1.7563539439923321,1.7563539439923321]
[]
[]
[]
["Inputs - LED 18W"]
[]
["Unit cost - luminaire",null,{"$f":"'DNSP Inputs O & M'!C286","v":391.14159061523941},{"$f":"'DNSP Inputs O & M'!D286","v":205},{"$f":"'DNSP Inputs O & M'!E286","v":205},{"$f":"'DNSP Inputs O & M'!F286","v":205},{"$f":"'DNSP Inputs O & M'!G286","v":205},{"$f":"'DNSP Inputs O & M'!H286","v":205}]
["Number of men in crew",null,{"$f":"'DNSP Inputs O & M'!C288","v":2},{"$f":"'DNSP Inputs O & M'!D288","v":2},{"$f":"'DNSP Inputs O & M'!E288","v":2},{"$f":"'DNSP Inputs O & M'!F288","v":2},{"$f":"'DNSP Inputs O & M'!G288","v":2},{"$f":"'DNSP Inputs O & M'!H288","v":2}]
["Number of luminaires replaced per day - urban",null,0,16,16,16,16,16]
["Number of luminaires replaced per day - rural",null,0,13,13,13,13,13]
["Number of luminaires replaced per day - remote",null,0,10,10,10,10,10]
[]
["Other Capex unit costs Describe :………………………",null,0,0,0,0,0,0]
[]
["Forecast Quantities to be replaced"]
["Number of luminaires replaced per year - urban",null,0,{"$f":"'All MV replaced with MV'!V86","v":513.79956222186661},{"$f":"'All MV replaced with MV'!W86","v":460.86257740550832},{"$f":"'All MV replaced with MV'!X86","v":408.6154517194613},{"$f":"'All MV replaced with MV'!Y86","v":372.94975467769837},{"$f":"'All MV replaced with MV'!Z86","v":363.13811242951317}]
["Number of luminaires replaced per year - rural",null,0,{"$f":"'All MV replaced with MV'!V87","v":129.77548282126091},{"$f":"'All MV replaced with MV'!W87","v":116.40466028895577},{"$f":"'All MV replaced with MV'!X87","v":103.20808236154608},{"$f":"'All MV replaced with MV'!Y87","v":94.1996413388717},{"$f":"'All MV replaced with MV'!Z87","v":91.72141694233575}]
["Number of luminaires replaced per year - remote",null,0,{"$f":"'All MV replaced with MV'!V88","v":25.186253050091501},{"$f":"'All MV replaced with MV'!W88","v":22.591302813995505},{"$f":"'All MV replaced with MV'!X88","v":20.030169201934381},{"$f":"'All MV replaced with MV'!Y88","v":18.281850719495015},{"$f":"'All MV replaced with MV'!Z88","v":17.800887864191822}]
[]
[]
["NEW"]
["Inputs - LED 14W"]
[]
["Unit cost - luminaire",null,null,{"$f":"'DNSP Inputs O & M'!D332","v":205},{"$f":"'DNSP Inputs O & M'!E332","v":205},{"$f":"'DNSP Inputs O & M'!F332","v":205},{"$f":"'DNSP Inputs O & M'!G332","v":205},{"$f":"'DNSP Inputs O & M'!H332","v":205}]
["Number of men in crew",null,null,{"$f":"'DNSP Inputs O & M'!D334","v":2},{"$f":"'DNSP Inputs O & M'!E334","v":2},{"$f":"'DNSP Inputs O & M'!F334","v":2},{"$f":"'DNSP Inputs O & M'!G334","v":2},{"$f":"'DNSP Inputs O & M'!H334","v":2}]
["Number of luminaires replaced per day - urban",null,null,16,16,16,16,16]
["Number of luminaires replaced per day - rural",null,null,13,13,13,13,13]
["Number of luminaires replaced per day - remote",null,null,10,10,10,10,10]
[]
["Other Capex unit costs Describe :………………………",null,null,0,0,0,0,0]
[]
["Forecast Quantities to be replaced"]
["Number of luminaires replaced per year - urban",null,null,0,0,1,0,1]
["Number of luminaires replaced per year - rural",null,null,0,0,0,1,0]
["Number of luminaires replaced per year - remote",null,null,0,0,0,0,0]
[]
[]
["NEW"]
["Inputs - LED 70W (L1)"]
[]
["Unit cost - luminaire",null,null,{"$f":"'DNSP Inputs O & M'!D378","v":402},{"$f":"'DNSP Inputs O & M'!E378","v":402},{"$f":"'DNSP Inputs O & M'!F378","v":402},{"$f":"'DNSP Inputs O & M'!G378","v":402},{"$f":"'DNSP Inputs O & M'!H378","v":402}]
["Number of men in crew",null,null,{"$f":"'DNSP Inputs O & M'!D380","v":2},{"$f":"'DNSP Inputs O & M'!E380","v":2},{"$f":"'DNSP Inputs O & M'!F380","v":2},{"$f":"'DNSP Inputs O & M'!G380","v":2},{"$f":"'DNSP Inputs O & M'!H380","v":2}]
["Number of luminaires replaced per day - urban",null,null,16,16,16,16,16]
["Number of luminaires replaced per day - rural",null,null,13,13,13,13,13]
["Number of luminaires replaced per day - remote",null,null,10,10,10,10,10]
[]
["Other Capex unit costs Describe :………………………",null,null,0,0,0,0,0]
[]
["Forecast Quantities to be replaced"]
["Number of luminaires replaced per year - urban",null,null,{"$f":"'All MV replaced with MV'!V92","v":13.070153745257356},{"$f":"'All MV replaced with MV'!W92","v":16.774459874518993},{"$f":"'All MV replaced with MV'!X92","v":20.556884892779266},{"$f":"'All MV replaced with MV'!Y92","v":23.6433797191381},{"$f":"'All MV replaced with MV'!Z92","v":25.171089559691605}]
["Number of luminaires replaced per year - rural",null,null,{"$f":"'All MV replaced with MV'!V93","v":3.3012591632112871},{"$f":"'All MV replaced with MV'!W93","v":4.236892728883924},{"$f":"'All MV replaced with MV'!X93","v":5.1922575619274776},{"$f":"'All MV replaced with MV'!Y93","v":5.9718443614644459},{"$f":"'All MV replaced with MV'!Z93","v":6.3577132814597723}]
["Number of luminaires replaced per year - remote",null,null,{"$f":"'All MV replaced with MV'!V94","v":0.64069381104202716},{"$f":"'All MV replaced with MV'!W94","v":0.82227744482936205},{"$f":"'All MV replaced with MV'!X94","v":1.0076904359205521},{"$f":"'All MV replaced with MV'!Y94","v":1.1589892019185339},{"$f":"'All MV replaced with MV'!Z94","v":1.2338769392005686}]
[]
[]
["NEW"]
["Inputs - LED 155W (L2)"]
[]
["Unit cost - luminaire",null,null,{"$f":"'DNSP Inputs O & M'!D424","v":427},{"$f":"'DNSP Inputs O & M'!E424","v":427},{"$f":"'DNSP Inputs O & M'!F424","v":427},{"$f":"'DNSP Inputs O & M'!G424","v":427},{"$f":"'DNSP Inputs O & M'!H424","v":427}]
["Number of men in crew",null,null,{"$f":"'DNSP Inputs O & M'!D426","v":2},{"$f":"'DNSP Inputs O & M'!E426","v":2},{"$f":"'DNSP Inputs O & M'!F426","v":2},{"$f":"'DNSP Inputs O & M'!G426","v":2},{"$f":"'DNSP Inputs O & M'!H426","v":2}]
["Number of luminaires replaced per day - urban",null,null,16,16,16,16,16]
["Number of luminaires replaced per day - rural",null,null,13,13,13,13,13]
["Number of luminaires replaced per day - remote",null,null,10,10,10,10,10]
[]
["Other Capex unit costs Describe :………………………",null,null,0,0,0,0,0]
[]
["Forecast Quantities to be replaced"]
["Number of luminaires replaced per year - urban",null,null,{"$f":"'All MV replaced with MV'!V98","v":998.73048071578808},{"$f":"'All MV replaced with MV'!W98","v":985.60573970903238},{"$f":"'All MV replaced with MV'!X98","v":966.63206342909427},{"$f":"'All MV replaced with MV'!Y98","v":1086.1446538134944},{"$f":"'All MV replaced with MV'!Z98","v":1215.1035760599887}]
["Number of luminaires replaced per year - rural",null,null,{"$f":"'All MV replaced with MV'!V99","v":252.25932420556154},{"$f":"'All MV replaced with MV'!W99","v":248.94427739296771},{"$f":"'All MV replaced with MV'!X99","v":244.15190662979441},{"$f":"'All MV replaced with MV'!Y99","v":274.33839424236612},{"$f":"'All MV replaced with MV'!Z99","v":306.91083616169476}]
["Number of luminaires replaced per year - remote",null,null,{"$f":"'All MV replaced with MV'!V100","v":48.957376505675889},{"$f":"'All MV replaced with MV'!W100","v":48.314006848481988},{"$f":"'All MV replaced with MV'!X100","v":47.383924677896765},{"$f":"'All MV replaced with MV'!Y100","v":53.242384990857566},{"$f":"'All MV replaced with MV'!Z100","v":59.563900787254347}]
[]
[]
["NEW"]
["Inputs - LED 275W (L4)"]
[]
["Unit cost - luminaire",null,null,{"$f":"'DNSP Inputs O & M'!D470","v":650.88},{"$f":"'DNSP Inputs O & M'!E470","v":650.88},{"$f":"'DNSP Inputs O & M'!F470","v":650.88},{"$f":"'DNSP Inputs O & M'!G470","v":650.88},{"$f":"'DNSP Inputs O & M'!H470","v":650.88}]
["Number of men in crew",null,null,{"$f":"'DNSP Inputs O & M'!D472","v":2},{"$f":"'DNSP Inputs O & M'!E472","v":2},{"$f":"'DNSP Inputs O & M'!F472","v":2},{"$f":"'DNSP Inputs O & M'!G472","v":2},{"$f":"'DNSP Inputs O & M'!H472","v":2}]
["Number of luminaires replaced per day - urban",null,null,16,16,16,16,16]
["Number of luminaires replaced per day - rural",null,null,13,13,13,13,13]
["Number of luminaires replaced per day - remote",null,null,10,10,10,10,10]
[]
["Other Capex unit costs Describe :………………………",null,null,0,0,0,0,0]
[]
["Forecast Quantities to be replaced"]
["Number of luminaires replaced per year - urban",null,null,{"$f":"'All MV replaced with MV'!V103","v":10.382848971578634},{"$f":"'All MV replaced with MV'!W103","v":11.062094255549539},{"$f":"'All MV replaced with MV'!X103","v":11.749103044477225},{"$f":"'All MV replaced with MV'!Y103","v":12.289145438341398},{"$f":"'All MV replaced with MV'!Z103","v":12.48374491348592}]
["Number of luminaires replaced per year - rural",null,null,{"$f":"'All MV replaced with MV'!V104","v":2.6224997789410431},{"$f":"'All MV replaced with MV'!W104","v":2.7940635387469035},{"$f":"'All MV replaced with MV'!X104","v":2.9675882044745108},{"$f":"'All MV replaced with MV'!Y104","v":3.1039921011703373},{"$f":"'All MV replaced with MV'!Z104","v":3.1531440325858391}]
["Number of luminaires replaced per year - remote",null,null,{"$f":"'All MV replaced with MV'!V105","v":0.50896318488130554},{"$f":"'All MV replaced with MV'!W105","v":0.54225952233085972},{"$f":"'All MV replaced with MV'!X105","v":0.57593642374888343},{"$f":"'All MV replaced with MV'!Y105","v":0.60240909011477439},{"$f":"'All MV replaced with MV'!Z105","v":0.61194828007283908}]

{"sheet":"PL Tariffs","index":7,"n_rows":66,"n_cols":35,"rows_kept":66,"cut":false,"hidden":false,"merged":[[3,30,3,34],[37,24,37,28],[37,30,37,34],[36,3,36,4],[37,2,37,7],[37,9,37,13],[37,15,37,19],[2,3,2,4],[3,2,3,7],[3,9,3,13],[3,15,3,19],[3,24,3,28]]}
[{"$f":"'DNSP Inputs O & M'!$A$3","v":"AusNet"},null,null,null,"Global Check",{"$f":"IF(SUM('Total RAB'!F1,'Depn & WACC Post 2004 N & E'!F1,'Depn & WACC Post 2004 Central'!F1,'Cashflow Summary'!F1,'PL Tariff Components'!W1)<1,\"Ok\",\"Error\")","v":"Ok"}]
[]
[null,null,null,{"$f":"'DNSP Inputs General'!$B$39","v":"Central"},null,null,null,null,null,null,null,null,null,null,null,null,null,null,null,null,null,"Average"]
["Public Lighting Tariffs",null,"Nominal Prices",null,null,null,null,null,null,"Nominal Price Movement",null,null,null,null,null,"Real Price Movement (Implied X Factor)",null,null,null,null,null,"Nubmer","% of ",null,"Submission Model",null,null,null,null,null,"Difference"]
[null,null,"Actual",null,null,null,null,null,null,null,null,null,null,null,null,null,null,null,null,null,null,"of Lights","Total Lights"]
[{"$f":"'DNSP Inputs General'!A$41","v":"Existing Lights"},null,{"$f":"'DNSP Inputs General'!P$2","v":"HY2021"},{"$f":"'DNSP Inputs General'!Q$2","v":"2022-06-30"},{"$f":"'DNSP Inputs General'!R$2","v":"2023-06-30"},{"$f":"'DNSP Inputs General'!S$2","v":"2024-06-30"},{"$f":"'DNSP Inputs General'!T$2","v":"2025-06-30"},{"$f":"'DNSP Inputs General'!U$2","v":"2026-06-30"},null,{"$f":"D6","v":"2022-06-30"},{"$f":"E6","v":"2023-06-30"},"2024-06-30","2025-06-30","2026-06-30",null,{"$f":"J6","v":"2022-06-30"},{"$f":"K6","v":"2023-06-30"},"2024-06-30","2025-06-30","2026-06-30",null,"2022-26","2022-26",null,{"$f":"P6","v":"2022-06-30"},{"$f":"Q6","v":"2023-06-30"},"2024-06-30","2025-06-30","2026-06-30",null,{"$f":"Y6","v":"2022-06-30"},{"$f":"Z6","v":"2023-06-30"},"2024-06-30","2025-06-30","2026-06-30"]
[{"$f":"'DNSP Inputs General'!A42","v":"Mercury Vapour 80W"},null,{"$f":"'DNSP Inputs General'!E42","v":43.97},{"$f":"'Charges Summary'!D$31","v":52.211438947216152},{"$f":"'Charges Summary'!E$31","v":53.594455932499407},{"$f":"'Charges Summary'!F$31","v":49.739822958516342},{"$f":"'Charges Summary'!G$31","v":52.011860158173704},{"$f":"'Charges Summary'!H$31","v":53.565859463300434},null,{"$f":"IF(C7=0,\"\",D7/C7-1)","v":0.18743322599991252},{"$f":"IF(D7=0,\"\",E7/D7-1)","v":2.648877359387547E-2},{"$f":"IF(E7=0,\"\",F7/E7-1)","v":-7.192223350187299E-2},{"$f":"IF(F7=0,\"\",G7/F7-1)","v":4.5678433587354572E-2},{"$f":"IF(G7=0,\"\",H7/G7-1)","v":2.9877787496944919E-2},null,{"$f":"IF(C7=0,\"\",(D7/'Charges Summary'!D$4)/C7-1)","v":0.15989376760941632},{"$f":"IF(D7=0,\"\",(E7/'Charges Summary'!E$4)/(D7/'Charges Summary'!D$4)-1)","v":2.6820076640308166E-3},{"$f":"IF(E7=0,\"\",(F7/'Charges Summary'!F$4)/(E7/'Charges Summary'!E$4)-1)","v":-9.3446609335383513E-2},{"$f":"IF(F7=0,\"\",(G7/'Charges Summary'!G$4)/(F7/'Charges Summary'!F$4)-1)","v":2.1426612869293704E-2},{"$f":"IF(G7=0,\"\",(H7/'Charges Summary'!H$4)/(G7/'Charges Summary'!G$4)-1)","v":5.9924221096110397E-3},null,{"$f":"SUM('DNSP Inputs General'!Q42:U42)/5","v":15128.279512500001},{"$f":"V7/V$32","v":0.1193598913623265},null,62.919309027542511,45.99390141073345,47.258531913169037,48.65384015331027,49.790467151001877,null,{"$f":"D7-Y7","v":-10.707870080326359},7.6005545217659574,2.4812910453473052,3.3580200048634339,3.7753923122985569]
[{"$f":"'DNSP Inputs General'!A43","v":"HP Sodium 150W"},null,{"$f":"'DNSP Inputs General'!E43","v":104.07},{"$f":"'Charges Summary'!D$55","v":103.05110454537413},{"$f":"'Charges Summary'!E$55","v":105.54292224447397},{"$f":"'Charges Summary'!F$55","v":111.52469838681276},{"$f":"'Charges Summary'!G$55","v":116.29589118002724},{"$f":"'Charges Summary'!H$55","v":119.83352283294967},null,-9.7904819316408931E-3,2.4180407479307275E-2,5.6676241429841401E-2,4.2781490219019114E-2,3.0419231642897282E-2,null,{"$f":"IF(C8=0,\"\",(D8/'Charges Summary'!D$4)/C8-1)","v":-3.275584387673347E-2},{"$f":"IF(D8=0,\"\",(E8/'Charges Summary'!E$4)/(D8/'Charges Summary'!D$4)-1)","v":4.2717816202353376E-4},{"$f":"IF(E8=0,\"\",(F8/'Charges Summary'!F$4)/(E8/'Charges Summary'!E$4)-1)","v":3.2169354856427246E-2},{"$f":"IF(F8=0,\"\",(G8/'Charges Summary'!G$4)/(F8/'Charges Summary'!F$4)-1)","v":1.8596856648500637E-2},{"$f":"IF(G8=0,\"\",(H8/'Charges Summary'!H$4)/(G8/'Charges Summary'!G$4)-1)","v":6.5213088517432904E-3},null,{"$f":"SUM('DNSP Inputs General'!Q43:U43)/5","v":16010.137254052985},{"$f":"V8/V$32","v":0.1263176187193481},null,114.85511571839709,95.555099233100549,97.801619027960655,100.42937920146909,102.98074823699302,null,{"$f":"D8-Y8","v":-11.804011173022957},{"$f":"E8-Z8","v":9.9878230113734219},{"$f":"F8-AA8","v":13.723079358852104},{"$f":"G8-AB8","v":15.866511978558151},{"$f":"H8-AC8","v":16.852774595956646}]
[{"$f":"'DNSP Inputs General'!A44","v":"HP Sodium 250W"},null,{"$f":"'DNSP Inputs General'!E44","v":105.12},{"$f":"'Charges Summary'!D$71","v":104.79383115964997},{"$f":"'Charges Summary'!E$71","v":107.32436487542103},{"$f":"'Charges Summary'!F$71","v":113.5614142931606},{"$f":"'Charges Summary'!G$71","v":118.43018341688948},{"$f":"'Charges Summary'!H$71","v":122.02954768440451},null,-3.10282382372562E-3,2.4147735489466582E-2,5.8114011901951201E-2,4.2873445650827069E-2,3.0392288212919505E-2,null,{"$f":"IF(C9=0,\"\",(D9/'Charges Summary'!D$4)/C9-1)","v":-2.6223288791169419E-2},{"$f":"IF(D9=0,\"\",(E9/'Charges Summary'!E$4)/(D9/'Charges Summary'!D$4)-1)","v":3.952639149216175E-4},{"$f":"IF(E9=0,\"\",(F9/'Charges Summary'!F$4)/(E9/'Charges Summary'!E$4)-1)","v":3.3573779941845183E-2},{"$f":"IF(F9=0,\"\",(G9/'Charges Summary'!G$4)/(F9/'Charges Summary'!F$4)-1)","v":1.8686679410670815E-2},{"$f":"IF(G9=0,\"\",(H9/'Charges Summary'!H$4)/(G9/'Charges Summary'!G$4)-1)","v":6.4949903052979874E-3},null,{"$f":"SUM('DNSP Inputs General'!Q44:U44)/5","v":10887.833696625665},8.5903400061224697E-2,null,116.74692118147475,97.044747627044075,99.159287217872745,101.68341986229356,104.2655128940077,null,-11.953090021824778,10.279617248376951,14.402127075287851,16.746763554595915,17.764034790396806]
[{"$f":"'DNSP Inputs General'!A45","v":"Mercury Vapour 50W"},null,{"$f":"'DNSP Inputs General'!E45","v":67.27},{"$f":"IF('DNSP Inputs General'!$B45='DNSP Inputs General'!$A$42,D$7,IF('DNSP Inputs General'!$B45='DNSP Inputs General'!$A$43,D$8,D$9))*'DNSP Inputs General'!$D45","v":79.883501589240709},{"$f":"IF('DNSP Inputs General'!$B45='DNSP Inputs General'!$A$42,E$7,IF('DNSP Inputs General'!$B45='DNSP Inputs General'!$A$43,E$8,E$9))*'DNSP Inputs General'!$D45","v":81.999517576724088},{"$f":"IF('DNSP Inputs General'!$B45='DNSP Inputs General'!$A$42,F$7,IF('DNSP Inputs General'!$B45='DNSP Inputs General'!$A$43,F$8,F$9))*'DNSP Inputs General'!$D45","v":76.10192912653001},{"$f":"IF('DNSP Inputs General'!$B45='DNSP Inputs General'!$A$42,G$7,IF('DNSP Inputs General'!$B45='DNSP Inputs General'!$A$43,G$8,G$9))*'DNSP Inputs General'!$D45","v":79.57814604200577},{"$f":"IF('DNSP Inputs General'!$B45='DNSP Inputs General'!$A$42,H$7,IF('DNSP Inputs General'!$B45='DNSP Inputs General'!$A$43,H$8,H$9))*'DNSP Inputs General'!$D45","v":81.955764978849672},null,0.18750559817512591,2.6488773593875248E-2,-7.1922233501872879E-2,4.5678433587354572E-2,2.9877787496944919E-2,null,{"$f":"IF(C10=0,\"\",(D10/'Charges Summary'!D$4)/C10-1)","v":0.15996446129824027},{"$f":"IF(D10=0,\"\",(E10/'Charges Summary'!E$4)/(D10/'Charges Summary'!D$4)-1)","v":2.6820076640308166E-3},{"$f":"IF(E10=0,\"\",(F10/'Charges Summary'!F$4)/(E10/'Charges Summary'!E$4)-1)","v":-9.3446609335383402E-2},{"$f":"IF(F10=0,\"\",(G10/'Charges Summary'!G$4)/(F10/'Charges Summary'!F$4)-1)","v":2.1426612869293704E-2},{"$f":"IF(G10=0,\"\",(H10/'Charges Summary'!H$4)/(G10/'Charges Summary'!G$4)-1)","v":5.9924221096112618E-3},null,{"$f":"SUM('DNSP Inputs General'!Q45:U45)/5","v":21.487812499999997},1.6953566752219543E-4,null,96.266542812140045,70.370669158422174,72.305553827148628,74.440375434564714,76.179414741032872,null,-16.383041222899337,11.628848418301914,3.7963752993813813,5.1377706074410554,5.7763502378167999]
[{"$f":"'DNSP Inputs General'!A46","v":"Mercury Vapour 125W"},null,{"$f":"'DNSP Inputs General'!E46","v":64.63},{"$f":"IF('DNSP Inputs General'!$B46='DNSP Inputs General'!$A$42,D$7,IF('DNSP Inputs General'!$B46='DNSP Inputs General'!$A$43,D$8,D$9))*'DNSP Inputs General'!$D46","v":76.750815252407747},{"$f":"IF('DNSP Inputs General'!$B46='DNSP Inputs General'!$A$42,E$7,IF('DNSP Inputs General'!$B46='DNSP Inputs General'!$A$43,E$8,E$9))*'DNSP Inputs General'!$D46","v":78.783850220774127},{"$f":"IF('DNSP Inputs General'!$B46='DNSP Inputs General'!$A$42,F$7,IF('DNSP Inputs General'!$B46='DNSP Inputs General'!$A$43,F$8,F$9))*'DNSP Inputs General'!$D46","v":73.117539749019016},{"$f":"IF('DNSP Inputs General'!$B46='DNSP Inputs General'!$A$42,G$7,IF('DNSP Inputs General'!$B46='DNSP Inputs General'!$A$43,G$8,G$9))*'DNSP Inputs General'!$D46","v":76.457434432515342},{"$f":"IF('DNSP Inputs General'!$B46='DNSP Inputs General'!$A$42,H$7,IF('DNSP Inputs General'!$B46='DNSP Inputs General'!$A$43,H$8,H$9))*'DNSP Inputs General'!$D46","v":78.741813411051638},null,0.18754162544341257,2.6488773593875248E-2,-7.1922233501873101E-2,4.5678433587354572E-2,2.9877787496944919E-2,null,{"$f":"IF(C11=0,\"\",(D11/'Charges Summary'!D$4)/C11-1)","v":0.15999965300673802},{"$f":"IF(D11=0,\"\",(E11/'Charges Summary'!E$4)/(D11/'Charges Summary'!D$4)-1)","v":2.6820076640305945E-3},{"$f":"IF(E11=0,\"\",(F11/'Charges Summary'!F$4)/(E11/'Charges Summary'!E$4)-1)","v":-9.3446609335383624E-2},{"$f":"IF(F11=0,\"\",(G11/'Charges Summary'!G$4)/(F11/'Charges Summary'!F$4)-1)","v":2.1426612869293926E-2},{"$f":"IF(G11=0,\"\",(H11/'Charges Summary'!H$4)/(G11/'Charges Summary'!G$4)-1)","v":5.9924221096110397E-3},null,{"$f":"SUM('DNSP Inputs General'!Q46:U46)/5","v":255.27521250000001},2.014083730163682E-3,null,92.491384270487487,67.611035073778169,69.470041912358482,71.521145025366096,73.19198671197276,null,-15.740569018079739,11.172815146995958,3.6474978366605342,4.9362894071492462,5.5498266990788778]
[{"$f":"'DNSP Inputs General'!A47","v":"Mercury Vapour 250W"},null,{"$f":"'DNSP Inputs General'!E47","v":110.37},{"$f":"IF('DNSP Inputs General'!$B47='DNSP Inputs General'!$A$42,D$7,IF('DNSP Inputs General'!$B47='DNSP Inputs General'!$A$43,D$8,D$9))*'DNSP Inputs General'!$D47","v":110.03352271763247},{"$f":"IF('DNSP Inputs General'!$B47='DNSP Inputs General'!$A$42,E$7,IF('DNSP Inputs General'!$B47='DNSP Inputs General'!$A$43,E$8,E$9))*'DNSP Inputs General'!$D47","v":112.69058311919208},{"$f":"IF('DNSP Inputs General'!$B47='DNSP Inputs General'!$A$42,F$7,IF('DNSP Inputs General'!$B47='DNSP Inputs General'!$A$43,F$8,F$9))*'DNSP Inputs General'!$D47","v":119.23948500781863},{"$f":"IF('DNSP Inputs General'!$B47='DNSP Inputs General'!$A$42,G$7,IF('DNSP Inputs General'!$B47='DNSP Inputs General'!$A$43,G$8,G$9))*'DNSP Inputs General'!$D47","v":124.35169258773395},{"$f":"IF('DNSP Inputs General'!$B47='DNSP Inputs General'!$A$42,H$7,IF('DNSP Inputs General'!$B47='DNSP Inputs General'!$A$43,H$8,H$9))*'DNSP Inputs General'!$D47","v":128.13102506862472},null,-3.0486299027592256E-3,2.4147735489466804E-2,5.8114011901951201E-2,4.2873445650827069E-2,3.0392288212919505E-2,null,{"$f":"IF(C12=0,\"\",(D12/'Charges Summary'!D$4)/C12-1)","v":-2.6170351758757926E-2},{"$f":"IF(D12=0,\"\",(E12/'Charges Summary'!E$4)/(D12/'Charges Summary'!D$4)-1)","v":3.952639149216175E-4},{"$f":"IF(E12=0,\"\",(F12/'Charges Summary'!F$4)/(E12/'Charges Summary'!E$4)-1)","v":3.3573779941845183E-2},{"$f":"IF(F12=0,\"\",(G12/'Charges Summary'!G$4)/(F12/'Charges Summary'!F$4)-1)","v":1.8686679410670815E-2},{"$f":"IF(G12=0,\"\",(H12/'Charges Summary'!H$4)/(G12/'Charges Summary'!G$4)-1)","v":6.4949903052979874E-3},null,{"$f":"SUM('DNSP Inputs General'!Q47:U47)/5","v":890.45494999999994},7.0255580621197793E-3,null,122.58426724054848,101.89698500839629,104.11725157876639,106.76759085540824,109.47878853870809,null,-12.55074452291602,10.793598110795799,15.122233429052244,17.584101732325706,18.652236529916635]
[{"$f":"'DNSP Inputs General'!A48","v":"Mercury Vapour 400W"},null,{"$f":"'DNSP Inputs General'!E48","v":114.58},{"$f":"IF('DNSP Inputs General'!$B48='DNSP Inputs General'!$A$42,D$7,IF('DNSP Inputs General'!$B48='DNSP Inputs General'!$A$43,D$8,D$9))*'DNSP Inputs General'!$D48","v":114.22527596401848},{"$f":"IF('DNSP Inputs General'!$B48='DNSP Inputs General'!$A$42,E$7,IF('DNSP Inputs General'!$B48='DNSP Inputs General'!$A$43,E$8,E$9))*'DNSP Inputs General'!$D48","v":116.98355771420893},{"$f":"IF('DNSP Inputs General'!$B48='DNSP Inputs General'!$A$42,F$7,IF('DNSP Inputs General'!$B48='DNSP Inputs General'!$A$43,F$8,F$9))*'DNSP Inputs General'!$D48","v":123.78194157954506},{"$f":"IF('DNSP Inputs General'!$B48='DNSP Inputs General'!$A$42,G$7,IF('DNSP Inputs General'!$B48='DNSP Inputs General'!$A$43,G$8,G$9))*'DNSP Inputs General'!$D48","v":129.08889992440953},{"$f":"IF('DNSP Inputs General'!$B48='DNSP Inputs General'!$A$42,H$7,IF('DNSP Inputs General'!$B48='DNSP Inputs General'!$A$43,H$8,H$9))*'DNSP Inputs General'!$D48","v":133.01220697600093},null,-3.0958634664123297E-3,2.4147735489466582E-2,5.8114011901951201E-2,4.2873445650827069E-2,3.0392288212919727E-2,null,{"$f":"IF(C13=0,\"\",(D13/'Charges Summary'!D$4)/C13-1)","v":-2.6216489861434877E-2},{"$f":"IF(D13=0,\"\",(E13/'Charges Summary'!E$4)/(D13/'Charges Summary'!D$4)-1)","v":3.9526391492183954E-4},{"$f":"IF(E13=0,\"\",(F13/'Charges Summary'!F$4)/(E13/'Charges Summary'!E$4)-1)","v":3.3573779941844961E-2},{"$f":"IF(F13=0,\"\",(G13/'Charges Summary'!G$4)/(F13/'Charges Summary'!F$4)-1)","v":1.8686679410670815E-2},{"$f":"IF(G13=0,\"\",(H13/'Charges Summary'!H$4)/(G13/'Charges Summary'!G$4)-1)","v":6.4949903052979874E-3},null,{"$f":"SUM('DNSP Inputs General'!Q48:U48)/5","v":177.059575},1.3969739003828906E-3,null,127.25414408780749,105.77877491347805,108.0836230674813,110.8349276499,113.64940905446841,null,-13.02886812378901,11.204782800730882,15.698318512063764,18.253972274509536,19.362797921532518]
[{"$f":"'DNSP Inputs General'!A49","v":"HP Sodium 100W"},null,{"$f":"'DNSP Inputs General'!E49","v":111.36},{"$f":"IF('DNSP Inputs General'!$B49='DNSP Inputs General'!$A$42,D$7,IF('DNSP Inputs General'!$B49='DNSP Inputs General'!$A$43,D$8,D$9))*'DNSP Inputs General'!$D49","v":110.26468186355032},{"$f":"IF('DNSP Inputs General'!$B49='DNSP Inputs General'!$A$42,E$7,IF('DNSP Inputs General'!$B49='DNSP Inputs General'!$A$43,E$8,E$9))*'DNSP Inputs General'!$D49","v":112.93092680158716},{"$f":"IF('DNSP Inputs General'!$B49='DNSP Inputs General'!$A$42,F$7,IF('DNSP Inputs General'!$B49='DNSP Inputs General'!$A$43,F$8,F$9))*'DNSP Inputs General'!$D49","v":119.33142727388966},{"$f":"IF('DNSP Inputs General'!$B49='DNSP Inputs General'!$A$42,G$7,IF('DNSP Inputs General'!$B49='DNSP Inputs General'!$A$43,G$8,G$9))*'DNSP Inputs General'!$D49","v":124.43660356262916},{"$f":"IF('DNSP Inputs General'!$B49='DNSP Inputs General'!$A$42,H$7,IF('DNSP Inputs General'!$B49='DNSP Inputs General'!$A$43,H$8,H$9))*'DNSP Inputs General'!$D49","v":128.22186943125615},null,-9.8358309666817245E-3,2.4180407479307275E-2,5.6676241429841401E-2,4.2781490219019114E-2,3.0419231642897282E-2,null,{"$f":"IF(C14=0,\"\",(D14/'Charges Summary'!D$4)/C14-1)","v":-3.2800141157590446E-2},{"$f":"IF(D14=0,\"\",(E14/'Charges Summary'!E$4)/(D14/'Charges Summary'!D$4)-1)","v":4.271781620237558E-4},{"$f":"IF(E14=0,\"\",(F14/'Charges Summary'!F$4)/(E14/'Charges Summary'!E$4)-1)","v":3.2169354856427024E-2},{"$f":"IF(F14=0,\"\",(G14/'Charges Summary'!G$4)/(F14/'Charges Summary'!F$4)-1)","v":1.8596856648500637E-2},{"$f":"IF(G14=0,\"\",(H14/'Charges Summary'!H$4)/(G14/'Charges Summary'!G$4)-1)","v":6.5213088517432904E-3},null,{"$f":"SUM('DNSP Inputs General'!Q49:U49)/5","v":2388.2125870257687},1.8842644644554814E-2,null,122.89497381868489,102.24395617941759,104.64773235991791,107.45943574557194,110.18940061358254,null,-12.630291955134567,10.686970622169568,14.683694913971749,16.977167817057222,18.032468817673617]
[{"$f":"'DNSP Inputs General'!A50","v":"HP Sodium 400W"},null,{"$f":"'DNSP Inputs General'!E50","v":149.26},{"$f":"IF('DNSP Inputs General'!$B50='DNSP Inputs General'!$A$42,D$7,IF('DNSP Inputs General'!$B50='DNSP Inputs General'!$A$43,D$8,D$9))*'DNSP Inputs General'!$D50","v":148.80724024670295},{"$f":"IF('DNSP Inputs General'!$B50='DNSP Inputs General'!$A$42,E$7,IF('DNSP Inputs General'!$B50='DNSP Inputs General'!$A$43,E$8,E$9))*'DNSP Inputs General'!$D50","v":152.40059812309784},{"$f":"IF('DNSP Inputs General'!$B50='DNSP Inputs General'!$A$42,F$7,IF('DNSP Inputs General'!$B50='DNSP Inputs General'!$A$43,F$8,F$9))*'DNSP Inputs General'!$D50","v":161.25720829628804},{"$f":"IF('DNSP Inputs General'!$B50='DNSP Inputs General'!$A$42,G$7,IF('DNSP Inputs General'!$B50='DNSP Inputs General'!$A$43,G$8,G$9))*'DNSP Inputs General'!$D50","v":168.17086045198306},{"$f":"IF('DNSP Inputs General'!$B50='DNSP Inputs General'!$A$42,H$7,IF('DNSP Inputs General'!$B50='DNSP Inputs General'!$A$43,H$8,H$9))*'DNSP Inputs General'!$D50","v":173.2819577118544},null,-3.0333629458464406E-3,2.4147735489466582E-2,5.8114011901951201E-2,4.2873445650827069E-2,3.0392288212919505E-2,null,{"$f":"IF(C15=0,\"\",(D15/'Charges Summary'!D$4)/C15-1)","v":-2.6155438879628679E-2},{"$f":"IF(D15=0,\"\",(E15/'Charges Summary'!E$4)/(D15/'Charges Summary'!D$4)-1)","v":3.952639149216175E-4},{"$f":"IF(E15=0,\"\",(F15/'Charges Summary'!F$4)/(E15/'Charges Summary'!E$4)-1)","v":3.3573779941845183E-2},{"$f":"IF(F15=0,\"\",(G15/'Charges Summary'!G$4)/(F15/'Charges Summary'!F$4)-1)","v":1.8686679410670815E-2},{"$f":"IF(G15=0,\"\",(H15/'Charges Summary'!H$4)/(G15/'Charges Summary'!G$4)-1)","v":6.4949903052979874E-3},null,{"$f":"SUM('DNSP Inputs General'!Q50:U50)/5","v":423.69971007305395},3.3429281447888604E-3,null,165.78062807769413,137.80354163040258,140.80618784937928,144.39045620445685,148.05702830949093,null,-16.973387830991186,14.597056492695259,20.451020446908757,23.780404247526207,25.224929402363472]
[{"$f":"'DNSP Inputs General'!A51","v":"Metal Halide 70W"},null,{"$f":"'DNSP Inputs General'!E51","v":191.93},{"$f":"IF('DNSP Inputs General'!$B51='DNSP Inputs General'!$A$42,D$7,IF('DNSP Inputs General'!$B51='DNSP Inputs General'!$A$43,D$8,D$9))*'DNSP Inputs General'!$D51","v":227.90844858310308},{"$f":"IF('DNSP Inputs General'!$B51='DNSP Inputs General'!$A$42,E$7,IF('DNSP Inputs General'!$B51='DNSP Inputs General'!$A$43,E$8,E$9))*'DNSP Inputs General'!$D51","v":233.94546387775227},{"$f":"IF('DNSP Inputs General'!$B51='DNSP Inputs General'!$A$42,F$7,IF('DNSP Inputs General'!$B51='DNSP Inputs General'!$A$43,F$8,F$9))*'DNSP Inputs General'!$D51","v":217.11958359803259},{"$f":"IF('DNSP Inputs General'!$B51='DNSP Inputs General'!$A$42,G$7,IF('DNSP Inputs General'!$B51='DNSP Inputs General'!$A$43,G$8,G$9))*'DNSP Inputs General'!$D51","v":227.03726607792939},{"$f":"IF('DNSP Inputs General'!$B51='DNSP Inputs General'!$A$42,H$7,IF('DNSP Inputs General'!$B51='DNSP Inputs General'!$A$43,H$8,H$9))*'DNSP Inputs General'!$D51","v":233.82063726769312},null,{"$f":"IF(C16=0,\"\",D16/C16-1)","v":0.18745609640547634},{"$f":"IF(D16=0,\"\",E16/D16-1)","v":2.6488773593875248E-2},{"$f":"IF(E16=0,\"\",F16/E16-1)","v":-7.192223350187299E-2},{"$f":"IF(F16=0,\"\",G16/F16-1)","v":4.5678433587354572E-2},{"$f":"IF(G16=0,\"\",H16/G16-1)","v":2.9877787496944919E-2},null,{"$f":"IF(C16=0,\"\",(D16/'Charges Summary'!D$4)/C16-1)","v":0.15991610759476882},{"$f":"IF(D16=0,\"\",(E16/'Charges Summary'!E$4)/(D16/'Charges Summary'!D$4)-1)","v":2.6820076640308166E-3},{"$f":"IF(E16=0,\"\",(F16/'Charges Summary'!F$4)/(E16/'Charges Summary'!E$4)-1)","v":-9.3446609335383402E-2},{"$f":"IF(F16=0,\"\",(G16/'Charges Summary'!G$4)/(F16/'Charges Summary'!F$4)-1)","v":2.1426612869293704E-2},{"$f":"IF(G16=0,\"\",(H16/'Charges Summary'!H$4)/(G16/'Charges Summary'!G$4)-1)","v":5.9924221096110397E-3},null,{"$f":"SUM('DNSP Inputs General'!Q51:U51)/5","v":6.9749999999999996},5.5031720002550896E-5,null,274.64943306552226,200.76824018203706,206.28848596825921,212.37915388927354,217.34065085018764,null,-46.740984482419179,33.177223695715213,10.831097629773382,14.658112188655849,16.479986417505472]
[{"$f":"'DNSP Inputs General'!A52","v":"Metal Halide 100W"},null,{"$f":"'DNSP Inputs General'!E52","v":248.49},{"$f":"IF('DNSP Inputs General'!$B52='DNSP Inputs General'!$A$42,D$7,IF('DNSP Inputs General'!$B52='DNSP Inputs General'!$A$43,D$8,D$9))*'DNSP Inputs General'!$D52","v":246.05399779043424},{"$f":"IF('DNSP Inputs General'!$B52='DNSP Inputs General'!$A$42,E$7,IF('DNSP Inputs General'!$B52='DNSP Inputs General'!$A$43,E$8,E$9))*'DNSP Inputs General'!$D52","v":252.00368371891952},{"$f":"IF('DNSP Inputs General'!$B52='DNSP Inputs General'!$A$42,F$7,IF('DNSP Inputs General'!$B52='DNSP Inputs General'!$A$43,F$8,F$9))*'DNSP Inputs General'!$D52","v":266.28630533858239},{"$f":"IF('DNSP Inputs General'!$B52='DNSP Inputs General'!$A$42,G$7,IF('DNSP Inputs General'!$B52='DNSP Inputs General'!$A$43,G$8,G$9))*'DNSP Inputs General'!$D52","v":277.67843030588369},{"$f":"IF('DNSP Inputs General'!$B52='DNSP Inputs General'!$A$42,H$7,IF('DNSP Inputs General'!$B52='DNSP Inputs General'!$A$43,H$8,H$9))*'DNSP Inputs General'!$D52","v":286.12519479959451},null,-9.8032202888075348E-3,2.4180407479307275E-2,5.6676241429841401E-2,4.2781490219019114E-2,3.0419231642897504E-2,null,{"$f":"IF(C17=0,\"\",(D17/'Charges Summary'!D$4)/C17-1)","v":-3.2768286800481716E-2},{"$f":"IF(D17=0,\"\",(E17/'Charges Summary'!E$4)/(D17/'Charges Summary'!D$4)-1)","v":4.2717816202353376E-4},{"$f":"IF(E17=0,\"\",(F17/'Charges Summary'!F$4)/(E17/'Charges Summary'!E$4)-1)","v":3.2169354856427246E-2},{"$f":"IF(F17=0,\"\",(G17/'Charges Summary'!G$4)/(F17/'Charges Summary'!F$4)-1)","v":1.8596856648500859E-2},{"$f":"IF(G17=0,\"\",(H17/'Charges Summary'!H$4)/(G17/'Charges Summary'!G$4)-1)","v":6.5213088517432904E-3},null,{"$f":"SUM('DNSP Inputs General'!Q52:U52)/5","v":29.75},2.3472310682091604E-4,null,274.23830645843509,228.15586770555839,233.51985850487378,239.79413279604887,245.88600880066727,null,-28.184308668000853,23.847816013361125,32.766446833708613,37.884297509834823,40.23918599892724]
[{"$f":"'DNSP Inputs General'!A53","v":"Metal Halide 150W"},null,{"$f":"'DNSP Inputs General'!E53","v":282.31},{"$f":"IF('DNSP Inputs General'!$B53='DNSP Inputs General'!$A$42,D$7,IF('DNSP Inputs General'!$B53='DNSP Inputs General'!$A$43,D$8,D$9))*'DNSP Inputs General'!$D53","v":279.53506733876009},{"$f":"IF('DNSP Inputs General'!$B53='DNSP Inputs General'!$A$42,E$7,IF('DNSP Inputs General'!$B53='DNSP Inputs General'!$A$43,E$8,E$9))*'DNSP Inputs General'!$D53","v":286.29433917176692},{"$f":"IF('DNSP Inputs General'!$B53='DNSP Inputs General'!$A$42,F$7,IF('DNSP Inputs General'!$B53='DNSP Inputs General'!$A$43,F$8,F$9))*'DNSP Inputs General'!$D53","v":302.52042625866289},{"$f":"IF('DNSP Inputs General'!$B53='DNSP Inputs General'!$A$42,G$7,IF('DNSP Inputs General'!$B53='DNSP Inputs General'!$A$43,G$8,G$9))*'DNSP Inputs General'!$D53","v":315.46270091570136},{"$f":"IF('DNSP Inputs General'!$B53='DNSP Inputs General'!$A$42,H$7,IF('DNSP Inputs General'!$B53='DNSP Inputs General'!$A$43,H$8,H$9))*'DNSP Inputs General'!$D53","v":325.0588338895501},null,-9.8293813936449759E-3,2.4180407479307275E-2,5.6676241429841401E-2,4.2781490219019114E-2,3.0419231642897282E-2,null,{"$f":"IF(C18=0,\"\",(D18/'Charges Summary'!D$4)/C18-1)","v":-3.2793841165805415E-2},{"$f":"IF(D18=0,\"\",(E18/'Charges Summary'!E$4)/(D18/'Charges Summary'!D$4)-1)","v":4.2717816202353376E-4},{"$f":"IF(E18=0,\"\",(F18/'Charges Summary'!F$4)/(E18/'Charges Summary'!E$4)-1)","v":3.2169354856427246E-2},{"$f":"IF(F18=0,\"\",(G18/'Charges Summary'!G$4)/(F18/'Charges Summary'!F$4)-1)","v":1.8596856648500637E-2},{"$f":"IF(G18=0,\"\",(H18/'Charges Summary'!H$4)/(G18/'Charges Summary'!G$4)-1)","v":6.5213088517432904E-3},null,{"$f":"SUM('DNSP Inputs General'!Q53:U53)/5","v":28.875},2.2781948603206557E-4,null,311.55447239681649,259.20150217240632,265.29538214491623,272.42340974144105,279.34421974437686,null,-32.019405058056407,27.0928369993606,37.225044113746662,43.039291174260313,45.714614145173243]
[{"$f":"'DNSP Inputs General'!A54","v":"HP Sodium 50W"},null,{"$f":"'DNSP Inputs General'!E54","v":46.14},{"$f":"IF('DNSP Inputs General'!$B54='DNSP Inputs General'!$A$42,D$7,IF('DNSP Inputs General'!$B54='DNSP Inputs General'!$A$43,D$8,D$9))*'DNSP Inputs General'!$D54","v":45.687198856573445},{"$f":"IF('DNSP Inputs General'!$B54='DNSP Inputs General'!$A$42,E$7,IF('DNSP Inputs General'!$B54='DNSP Inputs General'!$A$43,E$8,E$9))*'DNSP Inputs General'!$D54","v":46.791933941513534},{"$f":"IF('DNSP Inputs General'!$B54='DNSP Inputs General'!$A$42,F$7,IF('DNSP Inputs General'!$B54='DNSP Inputs General'!$A$43,F$8,F$9))*'DNSP Inputs General'!$D54","v":49.44392488655194},{"$f":"IF('DNSP Inputs General'!$B54='DNSP Inputs General'!$A$42,G$7,IF('DNSP Inputs General'!$B54='DNSP Inputs General'!$A$43,G$8,G$9))*'DNSP Inputs General'!$D54","v":51.559209675475877},{"$f":"IF('DNSP Inputs General'!$B54='DNSP Inputs General'!$A$42,H$7,IF('DNSP Inputs General'!$B54='DNSP Inputs General'!$A$43,H$8,H$9))*'DNSP Inputs General'!$D54","v":53.127601217918894},null,-9.8136355315681101E-3,2.4180407479307275E-2,5.6676241429841401E-2,4.2781490219019114E-2,3.0419231642897282E-2,null,{"$f":"IF(C19=0,\"\",(D19/'Charges Summary'!D$4)/C19-1)","v":-3.2778460488485095E-2},{"$f":"IF(D19=0,\"\",(E19/'Charges Summary'!E$4)/(D19/'Charges Summary'!D$4)-1)","v":4.2717816202353376E-4},{"$f":"IF(E19=0,\"\",(F19/'Charges Summary'!F$4)/(E19/'Charges Summary'!E$4)-1)","v":3.2169354856427246E-2},{"$f":"IF(F19=0,\"\",(G19/'Charges Summary'!G$4)/(F19/'Charges Summary'!F$4)-1)","v":1.8596856648500637E-2},{"$f":"IF(G19=0,\"\",(H19/'Charges Summary'!H$4)/(G19/'Charges Summary'!G$4)-1)","v":6.5213088517435125E-3},null,{"$f":"SUM('DNSP Inputs General'!Q54:U54)/5","v":0},0,null,50.920448981802913,42.363881878627019,43.359865347759175,44.524869858133954,45.656006734315241,null,-5.2332501252294676,4.4280520628865148,6.084059538792765,7.0343398173419232,7.4715944836036527]
[]
[]
[{"$f":"'DNSP Inputs General'!A$68","v":"Energy Efficient Lights"}]
[{"$f":"'DNSP Inputs General'!A69","v":"T5 2X14W"},null,{"$f":"'DNSP Inputs General'!E69","v":35.6},{"$f":"'Charges Summary'!D$89","v":45.862031652642571},{"$f":"'Charges Summary'!E$89","v":47.51958221149895},{"$f":"'Charges Summary'!F$89","v":49.109241124704781},{"$f":"'Charges Summary'!G$89","v":50.740963996647409},{"$f":"'Charges Summary'!H$89","v":52.487179283869708},null,{"$f":"IF(C23=0,\"\",D23/C23-1)","v":0.2882593160854654},3.6142109259585498E-2,3.3452712318273736E-2,3.3226391501329333E-2,3.44143104442729E-2,null,{"$f":"IF(C23=0,\"\",(D23/'Charges Summary'!D$4)/C23-1)","v":0.25838145596273754},{"$f":"IF(D23=0,\"\",(E23/'Charges Summary'!E$4)/(D23/'Charges Summary'!D$4)-1)","v":1.2111459047177142E-2},{"$f":"IF(E23=0,\"\",(F23/'Charges Summary'!F$4)/(E23/'Charges Summary'!E$4)-1)","v":9.4844357480536878E-3},{"$f":"IF(F23=0,\"\",(G23/'Charges Summary'!G$4)/(F23/'Charges Summary'!F$4)-1)","v":9.2633638601307133E-3},{"$f":"IF(G23=0,\"\",(H23/'Charges Summary'!H$4)/(G23/'Charges Summary'!G$4)-1)","v":1.0423732079729131E-2},null,{"$f":"SUM('DNSP Inputs General'!Q69:U69)/5","v":20924},{"$f":"V23/V$32","v":0.1650872701553226},null,58.184389158354833,64.747848345155461,64.573928759095949,67.134779632039553,69.068560546071552,null,{"$f":"D23-Y23","v":-12.322357505712262},{"$f":"E23-Z23","v":-17.228266133656511},{"$f":"F23-AA23","v":-15.464687634391169},{"$f":"G23-AB23","v":-16.393815635392144},{"$f":"H23-AC23","v":-16.581381262201845}]
[{"$f":"'DNSP Inputs General'!A70","v":"T5 2X24W"},null,{"$f":"'DNSP Inputs General'!E70","v":42.08},{"$f":"'Charges Summary'!D$105","v":48.929410930041833},{"$f":"'Charges Summary'!E$105","v":50.665749091814533},{"$f":"'Charges Summary'!F$105","v":52.336586494717551},{"$f":"'Charges Summary'!G$105","v":54.059055119004015},{"$f":"'Charges Summary'!H$105","v":55.911309403370161},null,0.16277117229186877,3.548659443816482E-2,3.2977651230917226E-2,3.2911367355995091E-2,3.4263534208813784E-2,null,{"$f":"IF(C24=0,\"\",(D24/'Charges Summary'!D$4)/C24-1)","v":0.13580368678123267},{"$f":"IF(D24=0,\"\",(E24/'Charges Summary'!E$4)/(D24/'Charges Summary'!D$4)-1)","v":1.147114720538811E-2},{"$f":"IF(E24=0,\"\",(F24/'Charges Summary'!F$4)/(E24/'Charges Summary'!E$4)-1)","v":9.0203924802778612E-3},{"$f":"IF(F24=0,\"\",(G24/'Charges Summary'!G$4)/(F24/'Charges Summary'!F$4)-1)","v":8.955645889284769E-3},{"$f":"IF(G24=0,\"\",(H24/'Charges Summary'!H$4)/(G24/'Charges Summary'!G$4)-1)","v":1.0276452711101447E-2},null,{"$f":"SUM('DNSP Inputs General'!Q70:U70)/5","v":1649},1.3010366492359345E-2,null,60.559927050505244,64.216704015867208,67.34804031847402,69.791186603171639,70.696514531213069,null,-11.630516120463412,-13.550954924052675,-15.011453823756469,-15.732131484167624,-14.785205127842907]
[{"$f":"'DNSP Inputs General'!A71","v":"LED 18W"},null,{"$f":"'DNSP Inputs General'!E71","v":16.27},{"$f":"'Charges Summary'!D$121","v":26.769047141543808},{"$f":"'Charges Summary'!E$121","v":27.917477316138172},{"$f":"'Charges Summary'!F$121","v":28.988226835046845},{"$f":"'Charges Summary'!G$121","v":30.045444762434713},{"$f":"'Charges Summary'!H$121","v":31.125411638908716},null,{"$f":"IF(C25=0,\"\",D25/C25-1)","v":0.64530099210472081},{"$f":"IF(D25=0,\"\",E25/D25-1)","v":4.2901421500807668E-2},{"$f":"IF(E25=0,\"\",F25/E25-1)","v":3.8354092914036686E-2},{"$f":"IF(F25=0,\"\",G25/F25-1)","v":3.6470596611645423E-2},{"$f":"IF(G25=0,\"\",H25/G25-1)","v":3.5944446321668932E-2},null,{"$f":"IF(C25=0,\"\",(D25/'Charges Summary'!D$4)/C25-1)","v":0.60714246898123725},{"$f":"IF(D25=0,\"\",(E25/'Charges Summary'!E$4)/(D25/'Charges Summary'!D$4)-1)","v":1.8714006432793751E-2},{"$f":"IF(E25=0,\"\",(F25/'Charges Summary'!F$4)/(E25/'Charges Summary'!E$4)-1)","v":1.4272141432236207E-2},{"$f":"IF(F25=0,\"\",(G25/'Charges Summary'!G$4)/(F25/'Charges Summary'!F$4)-1)","v":1.2432327980309799E-2},{"$f":"IF(G25=0,\"\",(H25/'Charges Summary'!H$4)/(G25/'Charges Summary'!G$4)-1)","v":1.191838039251536E-2},null,{"$f":"SUM('DNSP Inputs General'!Q71:U71)/5","v":43959.760560617506},0.3468360192904778,null,33.944591687068417,37.765556768040383,40.769821424363457,43.17447711209541,44.612203661364305,null,-7.175544545524609,-9.8480794519022119,-11.781594589316612,-13.129032349660697,-13.486792022455589]
[{"$f":"'DNSP Inputs General'!A72","v":"LED 14W"},null,{"$f":"'DNSP Inputs General'!E72","v":16.27},{"$f":"'Charges Summary'!D$137","v":27.954492656466854},{"$f":"'Charges Summary'!E$137","v":29.128599443450089},{"$f":"'Charges Summary'!F$137","v":30.227371423786213},{"$f":"'Charges Summary'!G$137","v":31.317803950434264},{"$f":"'Charges Summary'!H$137","v":32.438557206888717},null,{"$f":"IF(C26=0,\"\",D26/C26-1)","v":0.71816181047737282},{"$f":"IF(D26=0,\"\",E26/D26-1)","v":4.2000647316760453E-2},{"$f":"IF(E26=0,\"\",F26/E26-1)","v":3.772141473774826E-2},{"$f":"IF(F26=0,\"\",G26/F26-1)","v":3.6074341740148119E-2},{"$f":"IF(G26=0,\"\",H26/G26-1)","v":3.5786457384695103E-2},null,{"$f":"IF(C26=0,\"\",(D26/'Charges Summary'!D$4)/C26-1)","v":0.67831346814390248},{"$f":"IF(D26=0,\"\",(E26/'Charges Summary'!E$4)/(D26/'Charges Summary'!D$4)-1)","v":1.7834123388237533E-2},{"$f":"IF(E26=0,\"\",(F26/'Charges Summary'!F$4)/(E26/'Charges Summary'!E$4)-1)","v":1.3654136598354905E-2},{"$f":"IF(F26=0,\"\",(G26/'Charges Summary'!G$4)/(F26/'Charges Summary'!F$4)-1)","v":1.2045263220986202E-2},{"$f":"IF(G26=0,\"\",(H26/'Charges Summary'!H$4)/(G26/'Charges Summary'!G$4)-1)","v":1.1764055602426327E-2},null,{"$f":"SUM('DNSP Inputs General'!Q72:U72)/5","v":14},1.1045793262160755E-4,null,36.123522382862546,39.997871265881471,43.051569793191618,45.512128315959863,47.007127319723438,null,-8.1690297263956921,-10.869271822431383,-12.824198369405405,-14.194324365525599,-14.56857011283472]
[{"$f":"'DNSP Inputs General'!A73","v":"LED 70W-125W (L1)"},null,{"$f":"'DNSP Inputs General'!E73","v":23.59},{"$f":"'Charges Summary'!D$153","v":36.554849904111308},{"$f":"'Charges Summary'!E$153","v":38.222802851775192},{"$f":"'Charges Summary'!F$153","v":39.755105155663259},{"$f":"'Charges Summary'!G$153","v":41.277108956905366},{"$f":"'Charges Summary'!H$153","v":42.868566641964094},null,0.54959092429467171,4.5628772981948229E-2,4.0088695479245873E-2,3.8284486867349976E-2,3.8555454228159869E-2,null,{"$f":"IF(C27=0,\"\",(D27/'Charges Summary'!D$4)/C27-1)","v":0.51365214993035502},{"$f":"IF(D27=0,\"\",(E27/'Charges Summary'!E$4)/(D27/'Charges Summary'!D$4)-1)","v":2.1378104013852317E-2},{"$f":"IF(E27=0,\"\",(F27/'Charges Summary'!F$4)/(E27/'Charges Summary'!E$4)-1)","v":1.5966514354108119E-2},{"$f":"IF(F27=0,\"\",(G27/'Charges Summary'!G$4)/(F27/'Charges Summary'!F$4)-1)","v":1.4204149718704873E-2},{"$f":"IF(G27=0,\"\",(H27/'Charges Summary'!H$4)/(G27/'Charges Summary'!G$4)-1)","v":1.4468832688784294E-2},null,{"$f":"SUM('DNSP Inputs General'!Q73:U73)/5","v":4032.6375411330491},3.1816914700417101E-2,null,45.577948771021894,52.584258902743116,58.021617954856495,62.22835877035623,64.437080132334799,null,-9.0230988669105869,-14.361456050967924,-18.266512799193237,-20.951249813450865,-21.568513490370705]
[{"$f":"'DNSP Inputs General'!A74","v":"LED 155W-250W (L2)"},null,{"$f":"'DNSP Inputs General'!E74","v":24.3},{"$f":"'Charges Summary'!D$169","v":37.102068395345377},{"$f":"'Charges Summary'!E$169","v":38.8211787723572},{"$f":"'Charges Summary'!F$169","v":40.395721283895575},{"$f":"'Charges Summary'!G$169","v":41.956833251206703},{"$f":"'Charges Summary'!H$169","v":43.58812731369391},null,0.52683409034343121,4.6334623684416876E-2,4.0558853732167943E-2,3.8645478226266849E-2,3.8880295200550918E-2,null,{"$f":"IF(C28=0,\"\",(D28/'Charges Summary'!D$4)/C28-1)","v":0.4914231021888793},{"$f":"IF(D28=0,\"\",(E28/'Charges Summary'!E$4)/(D28/'Charges Summary'!D$4)-1)","v":2.2067584325443423E-2},{"$f":"IF(E28=0,\"\",(F28/'Charges Summary'!F$4)/(E28/'Charges Summary'!E$4)-1)","v":1.6425768496079352E-2},{"$f":"IF(F28=0,\"\",(G28/'Charges Summary'!G$4)/(F28/'Charges Summary'!F$4)-1)","v":1.455676881188861E-2},{"$f":"IF(G28=0,\"\",(H28/'Charges Summary'!H$4)/(G28/'Charges Summary'!G$4)-1)","v":1.4786139810642362E-2},null,{"$f":"SUM('DNSP Inputs General'!Q74:U74)/5","v":5545.2542163924427},4.3751236900282972E-2,null,47.635444969793198,55.472426624661466,61.541688363375883,66.205769360109088,68.593768112009968,null,-10.533376574447821,-16.651247852304266,-21.145967079480307,-24.248936108902384,-25.005640798316058]
[{"$f":"'DNSP Inputs General'!A75","v":"LED 275W-400W (L4)"},null,{"$f":"'DNSP Inputs General'!E75","v":25.83},{"$f":"'Charges Summary'!D$185","v":50.883751953721479},{"$f":"'Charges Summary'!E$185","v":53.253370277446571},{"$f":"'Charges Summary'!F$185","v":55.41612889763806},{"$f":"'Charges Summary'!G$185","v":57.576277799841421},{"$f":"'Charges Summary'!H$185","v":59.869811232582123},null,0.96994781082932557,4.6569253106182984E-2,4.0612614918523526E-2,3.8980508836939487E-2,3.9834694432904438E-2,null,{"$f":"IF(C29=0,\"\",(D29/'Charges Summary'!D$4)/C29-1)","v":0.92425994006749845},{"$f":"IF(D29=0,\"\",(E29/'Charges Summary'!E$4)/(D29/'Charges Summary'!D$4)-1)","v":2.2296772121477293E-2},{"$f":"IF(E29=0,\"\",(F29/'Charges Summary'!F$4)/(E29/'Charges Summary'!E$4)-1)","v":1.6478282830046043E-2},{"$f":"IF(F29=0,\"\",(G29/'Charges Summary'!G$4)/(F29/'Charges Summary'!F$4)-1)","v":1.4884029249586428E-2},{"$f":"IF(G29=0,\"\",(H29/'Charges Summary'!H$4)/(G29/'Charges Summary'!G$4)-1)","v":1.5718404208487691E-2},null,{"$f":"SUM('DNSP Inputs General'!Q75:U75)/5","v":162.39183698760343},1.2812476134482697E-3,null,59.339631780794107,68.243628878809034,75.129882655381081,80.497972868493179,83.317961436822799,null,-8.4558798270726285,-14.990258601362463,-19.713753757743021,-22.921695068651758,-23.448150204240676]
[{"$f":"'DNSP Inputs General'!A76","v":"Compact Fluorescent 32W"},null,{"$f":"'DNSP Inputs General'!E76","v":31.59},{"$f":"IF('DNSP Inputs General'!$B76='DNSP Inputs General'!$A$69,D$23,D$24)*'DNSP Inputs General'!$D76","v":40.34069673313634},{"$f":"IF('DNSP Inputs General'!$B76='DNSP Inputs General'!$A$69,E$23,E$24)*'DNSP Inputs General'!$D76","v":41.798694602073162},{"$f":"IF('DNSP Inputs General'!$B76='DNSP Inputs General'!$A$69,F$23,F$24)*'DNSP Inputs General'!$D76","v":43.196974307875692},{"$f":"IF('DNSP Inputs General'!$B76='DNSP Inputs General'!$A$69,G$23,G$24)*'DNSP Inputs General'!$D76","v":44.632253887902039},{"$f":"IF('DNSP Inputs General'!$B76='DNSP Inputs General'!$A$69,H$23,H$24)*'DNSP Inputs General'!$D76","v":46.168242129027909},null,0.27700844359405963,3.6142109259585498E-2,3.3452712318273514E-2,3.3226391501329333E-2,3.44143104442729E-2,null,{"$f":"IF(C30=0,\"\",(D30/'Charges Summary'!D$4)/C30-1)","v":0.24739151851007701},{"$f":"IF(D30=0,\"\",(E30/'Charges Summary'!E$4)/(D30/'Charges Summary'!D$4)-1)","v":1.2111459047177364E-2},{"$f":"IF(E30=0,\"\",(F30/'Charges Summary'!F$4)/(E30/'Charges Summary'!E$4)-1)","v":9.4844357480534658E-3},{"$f":"IF(F30=0,\"\",(G30/'Charges Summary'!G$4)/(F30/'Charges Summary'!F$4)-1)","v":9.2633638601309354E-3},{"$f":"IF(G30=0,\"\",(H30/'Charges Summary'!H$4)/(G30/'Charges Summary'!G$4)-1)","v":1.0423732079729131E-2},null,{"$f":"SUM('DNSP Inputs General'!Q76:U76)/5","v":2849},2.2478189288497135E-2,null,51.179564294438158,56.952847924357449,56.799866535954983,59.052416297087355,60.753389119053409,null,-10.838867561301818,-15.154153322284287,-13.602892228079291,-14.420162409185316,-14.5851469900255]
[{"$f":"'DNSP Inputs General'!A77","v":"Compact Fluorescent 42W"},null,{"$f":"'DNSP Inputs General'!E77","v":31.59},{"$f":"IF('DNSP Inputs General'!$B77='DNSP Inputs General'!$A$69,D$23,D$24)*'DNSP Inputs General'!$D77","v":40.34069673313634},{"$f":"IF('DNSP Inputs General'!$B77='DNSP Inputs General'!$A$69,E$23,E$24)*'DNSP Inputs General'!$D77","v":41.798694602073162},{"$f":"IF('DNSP Inputs General'!$B77='DNSP Inputs General'!$A$69,F$23,F$24)*'DNSP Inputs General'!$D77","v":43.196974307875692},{"$f":"IF('DNSP Inputs General'!$B77='DNSP Inputs General'!$A$69,G$23,G$24)*'DNSP Inputs General'!$D77","v":44.632253887902039},{"$f":"IF('DNSP Inputs General'!$B77='DNSP Inputs General'!$A$69,H$23,H$24)*'DNSP Inputs General'!$D77","v":46.168242129027909},null,0.27700844359405963,3.6142109259585498E-2,3.3452712318273514E-2,3.3226391501329333E-2,3.44143104442729E-2,null,{"$f":"IF(C31=0,\"\",(D31/'Charges Summary'!D$4)/C31-1)","v":0.24739151851007701},{"$f":"IF(D31=0,\"\",(E31/'Charges Summary'!E$4)/(D31/'Charges Summary'!D$4)-1)","v":1.2111459047177364E-2},{"$f":"IF(E31=0,\"\",(F31/'Charges Summary'!F$4)/(E31/'Charges Summary'!E$4)-1)","v":9.4844357480534658E-3},{"$f":"IF(F31=0,\"\",(G31/'Charges Summary'!G$4)/(F31/'Charges Summary'!F$4)-1)","v":9.2633638601309354E-3},{"$f":"IF(G31=0,\"\",(H31/'Charges Summary'!H$4)/(G31/'Charges Summary'!G$4)-1)","v":1.0423732079729131E-2},null,{"$f":"SUM('DNSP Inputs General'!Q77:U77)/5","v":1361},1.0738089021286276E-2,null,51.179564294438158,56.952847924357449,56.799866535954983,59.052416297087355,60.753389119053409,null,-10.838867561301818,-15.154153322284287,-13.602892228079291,-14.420162409185316,-14.5851469900255]
[null,null,null,null,null,null,null,null,null,null,null,null,null,null,null,null,null,null,null,null,null,{"$f":"SUM(V7:V31)","v":126745.08446540806},1]
[]
["Total Revenue - Nominal ($,000)",null,null,{"$f":"'Cashflow Summary'!D7/10^3","v":10984.432721852854},{"$f":"'Cashflow Summary'!E7/10^3","v":11338.271751536995},{"$f":"'Cashflow Summary'!F7/10^3","v":11707.049818261474},{"$f":"'Cashflow Summary'!G7/10^3","v":12202.626553381693},{"$f":"'Cashflow Summary'!H7/10^3","v":12645.766932304836},null,null,null,null,null,null,null,null,null,null,null,null,null,null,null,null,12794.253156382092,12078.653815947924,12537.747041801893,13222.25621114846,13800.660847177885,null,{"$f":"D34-Y34","v":-1809.8204345292379},{"$f":"E34-Z34","v":-740.38206441092916},-830.69722354041915,-1019.6296577667672,-1154.8939148730497]
[]
[null,null,null,null,null,null,null,null,null,null,null,null,null,null,null,null,null,null,null,null,null,null,null,null,null,null,null,null,null,null,null,null,null,null,{"$f":"SUM(AE34:AI34)/SUM(Y34:AC34)","v":-8.6219391578857177E-2}]
[null,null,null,{"$f":"'DNSP Inputs General'!$B$83","v":"North & East"},null,null,null,null,null,null,null,null,null,null,null,null,null,null,null,null,null,"Average"]
["Public Lighting Tariffs",null,"Nominal Prices",null,null,null,null,null,null,"Nominal Price Movement",null,null,null,null,null,"Real Price Movement (Implied X Factor)",null,null,null,null,null,"Nubmer","% of ",null,"Submission Model",null,null,null,null,null,"Difference"]
[null,null,"Actual",null,null,null,null,null,null,null,null,null,null,null,null,null,null,null,null,null,null,"of Lights","Total Lights"]
[{"$f":"'DNSP Inputs General'!A$85","v":"Existing Lights"},null,{"$f":"'DNSP Inputs General'!P$2","v":"HY2021"},{"$f":"'DNSP Inputs General'!Q$2","v":"2022-06-30"},{"$f":"'DNSP Inputs General'!R$2","v":"2023-06-30"},{"$f":"'DNSP Inputs General'!S$2","v":"2024-06-30"},{"$f":"'DNSP Inputs General'!T$2","v":"2025-06-30"},{"$f":"'DNSP Inputs General'!U$2","v":"2026-06-30"},null,{"$f":"D40","v":"2022-06-30"},{"$f":"E40","v":"2023-06-30"},"2024-06-30","2025-06-30","2026-06-30",null,{"$f":"J40","v":"2022-06-30"},{"$f":"K40","v":"2023-06-30"},"2024-06-30","2025-06-30","2026-06-30",null,"2022-26","2022-26",null,{"$f":"P40","v":"2022-06-30"},{"$f":"Q40","v":"2023-06-30"},{"$f":"R40","v":"2024-06-30"},{"$f":"S40","v":"2025-06-30"},{"$f":"T40","v":"2026-06-30"},null,{"$f":"Y40","v":"2022-06-30"},{"$f":"Z40","v":"2023-06-30"},{"$f":"AA40","v":"2024-06-30"},{"$f":"AB40","v":"2025-06-30"},{"$f":"AC40","v":"2026-06-30"}]
[{"$f":"'DNSP Inputs General'!A86","v":"Mercury Vapour 80W"},null,{"$f":"'DNSP Inputs General'!E86","v":49.95},{"$f":"'Charges Summary'!K$31","v":57.63853987319014},{"$f":"'Charges Summary'!L$31","v":59.139989813476816},{"$f":"'Charges Summary'!M$31","v":53.687930303254731},{"$f":"'Charges Summary'!N$31","v":56.058933552189409},{"$f":"'Charges Summary'!O$31","v":57.72709766440267},null,{"$f":"IF(C41=0,\"\",D41/C41-1)","v":0.15392472218598874},{"$f":"IF(D41=0,\"\",E41/D41-1)","v":2.604940971075953E-2},{"$f":"IF(E41=0,\"\",F41/E41-1)","v":-9.2189050546296669E-2},{"$f":"IF(F41=0,\"\",G41/F41-1)","v":4.416268676296764E-2},{"$f":"IF(G41=0,\"\",H41/G41-1)","v":2.9757328698738927E-2},null,{"$f":"IF(C41=0,\"\",(D41/'Charges Summary'!K$4)/C41-1)","v":0.12716240732348694},{"$f":"IF(D41=0,\"\",(E41/'Charges Summary'!L$4)/(D41/'Charges Summary'!K$4)-1)","v":2.2528336956928463E-3},{"$f":"IF(E41=0,\"\",(F41/'Charges Summary'!M$4)/(E41/'Charges Summary'!L$4)-1)","v":-0.11324338970533843},{"$f":"IF(F41=0,\"\",(G41/'Charges Summary'!N$4)/(F41/'Charges Summary'!M$4)-1)","v":1.9946019892455258E-2},{"$f":"IF(G41=0,\"\",(H41/'Charges Summary'!O$4)/(G41/'Charges Summary'!N$4)-1)","v":5.8747570432866603E-3},null,{"$f":"SUM('DNSP Inputs General'!Q86:U86)/5","v":7835.0959147999984},{"$f":"V41/V$32","v":6.1817749760057911E-2},null,72.150958073261464,51.458834572111577,52.849885920819972,54.287737722297216,55.655342773430476,null,{"$f":"D41-Y41","v":-14.512418200071323},{"$f":"E41-Z41","v":7.6811552413652393},{"$f":"F41-AA41","v":0.83804438243475943},{"$f":"G41-AB41","v":1.7711958298921928},{"$f":"H41-AC41","v":2.0717548909721941}]
[{"$f":"'DNSP Inputs General'!A87","v":"HP Sodium 150W"},null,{"$f":"'DNSP Inputs General'!E87","v":118.4},{"$f":"'Charges Summary'!K$55","v":121.12923907901242},{"$f":"'Charges Summary'!L$55","v":124.01368064851816},{"$f":"'Charges Summary'!M$55","v":128.83548846949304},{"$f":"'Charges Summary'!N$55","v":134.06360996665103},{"$f":"'Charges Summary'!O$55","v":138.15462878388973},null,2.3051005734902263E-2,2.3812925693557974E-2,3.888125725935776E-2,4.0579824388960573E-2,3.0515505425046774E-2,null,{"$f":"IF(C42=0,\"\",(D42/'Charges Summary'!K$4)/C42-1)","v":-6.7603001489069392E-4},{"$f":"IF(D42=0,\"\",(E42/'Charges Summary'!L$4)/(D42/'Charges Summary'!K$4)-1)","v":6.821917075772177E-5},{"$f":"IF(E42=0,\"\",(F42/'Charges Summary'!M$4)/(E42/'Charges Summary'!L$4)-1)","v":1.4787079556970895E-2},{"$f":"IF(F42=0,\"\",(G42/'Charges Summary'!N$4)/(F42/'Charges Summary'!M$4)-1)","v":1.6446252792445382E-2},{"$f":"IF(G42=0,\"\",(H42/'Charges Summary'!O$4)/(G42/'Charges Summary'!N$4)-1)","v":6.6153498112300202E-3},null,{"$f":"SUM('DNSP Inputs General'!Q87:U87)/5","v":8281.5349154278865},{"$f":"V42/V$32","v":6.534008754941599E-2},null,135.05698931445664,114.55424193331076,114.35671890621603,118.92635339261454,121.93092167965322,null,-13.927750235444222,9.4594387152073978,14.478769563277012,15.137256574036485,16.22370710423651]
[{"$f":"'DNSP Inputs General'!A88","v":"HP Sodium 250W"},null,{"$f":"'DNSP Inputs General'!E88","v":117.12},{"$f":"'Charges Summary'!K$71","v":120.01767712092358},{"$f":"'Charges Summary'!L$71","v":122.99396231576304},{"$f":"'Charges Summary'!M$71","v":128.26090658191023},{"$f":"'Charges Summary'!N$71","v":133.51662090621585},{"$f":"'Charges Summary'!O$71","v":137.58345230911758},null,2.4741095636301003E-2,2.4798723540039092E-2,4.2822787126943096E-2,4.0976743922741532E-2,3.045936434953922E-2,null,{"$f":"IF(C43=0,\"\",(D43/'Charges Summary'!K$4)/C43-1)","v":9.7486259987622503E-4},{"$f":"IF(D43=0,\"\",(E43/'Charges Summary'!L$4)/(D43/'Charges Summary'!K$4)-1)","v":1.0311539726648444E-3},{"$f":"IF(E43=0,\"\",(F43/'Charges Summary'!M$4)/(E43/'Charges Summary'!L$4)-1)","v":1.8637195780903282E-2},{"$f":"IF(F43=0,\"\",(G43/'Charges Summary'!N$4)/(F43/'Charges Summary'!M$4)-1)","v":1.683396679892124E-2},{"$f":"IF(G43=0,\"\",(H43/'Charges Summary'!O$4)/(G43/'Charges Summary'!N$4)-1)","v":6.5605107835167153E-3},null,{"$f":"SUM('DNSP Inputs General'!Q88:U88)/5","v":7450.3326255001912},5.8782024225433181E-2,null,133.73657821158511,113.02441385636021,113.10232124352335,115.96431559036517,118.89631395124876,null,-13.718901090661532,9.9695484594028301,15.158585338386885,17.552305315850674,18.687138357868818]
[{"$f":"'DNSP Inputs General'!A89","v":"Mercury Vapour 50W"},null,{"$f":"'DNSP Inputs General'!E89","v":73.930000000000007},{"$f":"IF('DNSP Inputs General'!$B89='DNSP Inputs General'!$A$86,D$41,IF('DNSP Inputs General'!$B89='DNSP Inputs General'!$A$87,D$42,D$43))*'DNSP Inputs General'!$D89","v":85.305039012321402},{"$f":"IF('DNSP Inputs General'!$B89='DNSP Inputs General'!$A$86,E$41,IF('DNSP Inputs General'!$B89='DNSP Inputs General'!$A$87,E$42,E$43))*'DNSP Inputs General'!$D89","v":87.527184923945683},{"$f":"IF('DNSP Inputs General'!$B89='DNSP Inputs General'!$A$86,F$41,IF('DNSP Inputs General'!$B89='DNSP Inputs General'!$A$87,F$42,F$43))*'DNSP Inputs General'!$D89","v":79.458136848817006},{"$f":"IF('DNSP Inputs General'!$B89='DNSP Inputs General'!$A$86,G$41,IF('DNSP Inputs General'!$B89='DNSP Inputs General'!$A$87,G$42,G$43))*'DNSP Inputs General'!$D89","v":82.96722165724033},{"$f":"IF('DNSP Inputs General'!$B89='DNSP Inputs General'!$A$86,H$41,IF('DNSP Inputs General'!$B89='DNSP Inputs General'!$A$87,H$42,H$43))*'DNSP Inputs General'!$D89","v":85.436104543315949},null,0.15386228881809005,2.604940971075953E-2,-9.2189050546296558E-2,4.416268676296764E-2,2.9757328698738705E-2,null,{"$f":"IF(C44=0,\"\",(D44/'Charges Summary'!K$4)/C44-1)","v":0.12710142193691443},{"$f":"IF(D44=0,\"\",(E44/'Charges Summary'!L$4)/(D44/'Charges Summary'!K$4)-1)","v":2.2528336956928463E-3},{"$f":"IF(E44=0,\"\",(F44/'Charges Summary'!M$4)/(E44/'Charges Summary'!L$4)-1)","v":-0.11324338970533843},{"$f":"IF(F44=0,\"\",(G44/'Charges Summary'!N$4)/(F44/'Charges Summary'!M$4)-1)","v":1.994601989245548E-2},{"$f":"IF(G44=0,\"\",(H44/'Charges Summary'!O$4)/(G44/'Charges Summary'!N$4)-1)","v":5.8747570432866603E-3},null,{"$f":"SUM('DNSP Inputs General'!Q89:U89)/5","v":81.897015488749986},6.4615535848336391E-4,null,106.78341794842696,76.159075166725131,78.217831162813553,80.345851828999884,82.369907304677099,null,-21.478378936105557,11.368109757220552,1.2403056860034525,2.6213698282404465,3.0661972386388499]
[{"$f":"'DNSP Inputs General'!A90","v":"Mercury Vapour 125W"},null,{"$f":"'DNSP Inputs General'!E90","v":73.930000000000007},{"$f":"IF('DNSP Inputs General'!$B90='DNSP Inputs General'!$A$86,D$41,IF('DNSP Inputs General'!$B90='DNSP Inputs General'!$A$87,D$42,D$43))*'DNSP Inputs General'!$D90","v":85.305039012321402},{"$f":"IF('DNSP Inputs General'!$B90='DNSP Inputs General'!$A$86,E$41,IF('DNSP Inputs General'!$B90='DNSP Inputs General'!$A$87,E$42,E$43))*'DNSP Inputs General'!$D90","v":87.527184923945683},{"$f":"IF('DNSP Inputs General'!$B90='DNSP Inputs General'!$A$86,F$41,IF('DNSP Inputs General'!$B90='DNSP Inputs General'!$A$87,F$42,F$43))*'DNSP Inputs General'!$D90","v":79.458136848817006},{"$f":"IF('DNSP Inputs General'!$B90='DNSP Inputs General'!$A$86,G$41,IF('DNSP Inputs General'!$B90='DNSP Inputs General'!$A$87,G$42,G$43))*'DNSP Inputs General'!$D90","v":82.96722165724033},{"$f":"IF('DNSP Inputs General'!$B90='DNSP Inputs General'!$A$86,H$41,IF('DNSP Inputs General'!$B90='DNSP Inputs General'!$A$87,H$42,H$43))*'DNSP Inputs General'!$D90","v":85.436104543315949},null,0.15386228881809005,2.604940971075953E-2,-9.2189050546296558E-2,4.416268676296764E-2,2.9757328698738705E-2,null,{"$f":"IF(C45=0,\"\",(D45/'Charges Summary'!K$4)/C45-1)","v":0.12710142193691443},{"$f":"IF(D45=0,\"\",(E45/'Charges Summary'!L$4)/(D45/'Charges Summary'!K$4)-1)","v":2.2528336956928463E-3},{"$f":"IF(E45=0,\"\",(F45/'Charges Summary'!M$4)/(E45/'Charges Summary'!L$4)-1)","v":-0.11324338970533843},{"$f":"IF(F45=0,\"\",(G45/'Charges Summary'!N$4)/(F45/'Charges Summary'!M$4)-1)","v":1.994601989245548E-2},{"$f":"IF(G45=0,\"\",(H45/'Charges Summary'!O$4)/(G45/'Charges Summary'!N$4)-1)","v":5.8747570432866603E-3},null,{"$f":"SUM('DNSP Inputs General'!Q90:U90)/5","v":27.017572120000001},2.1316465434502733E-4,null,106.78341794842696,76.159075166725131,78.217831162813553,80.345851828999884,82.369907304677099,null,-21.478378936105557,11.368109757220552,1.2403056860034525,2.6213698282404465,3.0661972386388499]
[{"$f":"'DNSP Inputs General'!A91","v":"Mercury Vapour 250W"},null,{"$f":"'DNSP Inputs General'!E91","v":121.81},{"$f":"IF('DNSP Inputs General'!$B91='DNSP Inputs General'!$A$86,D$41,IF('DNSP Inputs General'!$B91='DNSP Inputs General'!$A$87,D$42,D$43))*'DNSP Inputs General'!$D91","v":124.81838420576052},{"$f":"IF('DNSP Inputs General'!$B91='DNSP Inputs General'!$A$86,E$41,IF('DNSP Inputs General'!$B91='DNSP Inputs General'!$A$87,E$42,E$43))*'DNSP Inputs General'!$D91","v":127.91372080839356},{"$f":"IF('DNSP Inputs General'!$B91='DNSP Inputs General'!$A$86,F$41,IF('DNSP Inputs General'!$B91='DNSP Inputs General'!$A$87,F$42,F$43))*'DNSP Inputs General'!$D91","v":133.39134284518664},{"$f":"IF('DNSP Inputs General'!$B91='DNSP Inputs General'!$A$86,G$41,IF('DNSP Inputs General'!$B91='DNSP Inputs General'!$A$87,G$42,G$43))*'DNSP Inputs General'!$D91","v":138.85728574246448},{"$f":"IF('DNSP Inputs General'!$B91='DNSP Inputs General'!$A$86,H$41,IF('DNSP Inputs General'!$B91='DNSP Inputs General'!$A$87,H$42,H$43))*'DNSP Inputs General'!$D91","v":143.08679040148229},null,2.4697350018557662E-2,2.4798723540039092E-2,4.2822787126943096E-2,4.0976743922741532E-2,3.045936434953922E-2,null,{"$f":"IF(C46=0,\"\",(D46/'Charges Summary'!K$4)/C46-1)","v":9.3213154917837215E-4},{"$f":"IF(D46=0,\"\",(E46/'Charges Summary'!L$4)/(D46/'Charges Summary'!K$4)-1)","v":1.0311539726648444E-3},{"$f":"IF(E46=0,\"\",(F46/'Charges Summary'!M$4)/(E46/'Charges Summary'!L$4)-1)","v":1.863719578090306E-2},{"$f":"IF(F46=0,\"\",(G46/'Charges Summary'!N$4)/(F46/'Charges Summary'!M$4)-1)","v":1.6833966798921463E-2},{"$f":"IF(G46=0,\"\",(H46/'Charges Summary'!O$4)/(G46/'Charges Summary'!N$4)-1)","v":6.5605107835169374E-3},null,{"$f":"SUM('DNSP Inputs General'!Q91:U91)/5","v":369.80301839250001},2.9176912063475615E-3,null,139.08604134004852,117.54539041061463,117.62641409326429,120.60288821397978,123.65216650929871,null,-14.267657134288001,10.368330397778934,15.764928751922355,18.254397528484702,19.434623892183581]
[{"$f":"'DNSP Inputs General'!A92","v":"Mercury Vapour 400W"},null,{"$f":"'DNSP Inputs General'!E92","v":125.32},{"$f":"IF('DNSP Inputs General'!$B92='DNSP Inputs General'!$A$86,D$41,IF('DNSP Inputs General'!$B92='DNSP Inputs General'!$A$87,D$42,D$43))*'DNSP Inputs General'!$D92","v":128.41891451938824},{"$f":"IF('DNSP Inputs General'!$B92='DNSP Inputs General'!$A$86,E$41,IF('DNSP Inputs General'!$B92='DNSP Inputs General'!$A$87,E$42,E$43))*'DNSP Inputs General'!$D92","v":131.60353967786645},{"$f":"IF('DNSP Inputs General'!$B92='DNSP Inputs General'!$A$86,F$41,IF('DNSP Inputs General'!$B92='DNSP Inputs General'!$A$87,F$42,F$43))*'DNSP Inputs General'!$D92","v":137.23917004264396},{"$f":"IF('DNSP Inputs General'!$B92='DNSP Inputs General'!$A$86,G$41,IF('DNSP Inputs General'!$B92='DNSP Inputs General'!$A$87,G$42,G$43))*'DNSP Inputs General'!$D92","v":142.86278436965097},{"$f":"IF('DNSP Inputs General'!$B92='DNSP Inputs General'!$A$86,H$41,IF('DNSP Inputs General'!$B92='DNSP Inputs General'!$A$87,H$42,H$43))*'DNSP Inputs General'!$D92","v":147.21429397075582},null,2.4728012443251179E-2,2.4798723540039092E-2,4.2822787126943318E-2,4.0976743922741532E-2,3.045936434953922E-2,null,{"$f":"IF(C47=0,\"\",(D47/'Charges Summary'!K$4)/C47-1)","v":9.6208283782606152E-4},{"$f":"IF(D47=0,\"\",(E47/'Charges Summary'!L$4)/(D47/'Charges Summary'!K$4)-1)","v":1.0311539726648444E-3},{"$f":"IF(E47=0,\"\",(F47/'Charges Summary'!M$4)/(E47/'Charges Summary'!L$4)-1)","v":1.8637195780903282E-2},{"$f":"IF(F47=0,\"\",(G47/'Charges Summary'!N$4)/(F47/'Charges Summary'!M$4)-1)","v":1.683396679892124E-2},{"$f":"IF(G47=0,\"\",(H47/'Charges Summary'!O$4)/(G47/'Charges Summary'!N$4)-1)","v":6.5605107835167153E-3},null,{"$f":"SUM('DNSP Inputs General'!Q92:U92)/5","v":124.95627105499997},9.8588652634575111E-4,null,143.09813868639608,120.93612282630544,121.01948373056999,124.08181768169075,127.21905592783618,null,-14.679224167007845,10.667416851561015,16.219686312073975,18.780966687960216,19.995238042919638]
[{"$f":"'DNSP Inputs General'!A93","v":"HP Sodium 100W"},null,{"$f":"'DNSP Inputs General'!E93","v":126.69},{"$f":"IF('DNSP Inputs General'!$B93='DNSP Inputs General'!$A$86,D$41,IF('DNSP Inputs General'!$B93='DNSP Inputs General'!$A$87,D$42,D$43))*'DNSP Inputs General'!$D93","v":129.60828581454331},{"$f":"IF('DNSP Inputs General'!$B93='DNSP Inputs General'!$A$86,E$41,IF('DNSP Inputs General'!$B93='DNSP Inputs General'!$A$87,E$42,E$43))*'DNSP Inputs General'!$D93","v":132.69463829391444},{"$f":"IF('DNSP Inputs General'!$B93='DNSP Inputs General'!$A$86,F$41,IF('DNSP Inputs General'!$B93='DNSP Inputs General'!$A$87,F$42,F$43))*'DNSP Inputs General'!$D93","v":137.85397266235756},{"$f":"IF('DNSP Inputs General'!$B93='DNSP Inputs General'!$A$86,G$41,IF('DNSP Inputs General'!$B93='DNSP Inputs General'!$A$87,G$42,G$43))*'DNSP Inputs General'!$D93","v":143.44806266431661},{"$f":"IF('DNSP Inputs General'!$B93='DNSP Inputs General'!$A$86,H$41,IF('DNSP Inputs General'!$B93='DNSP Inputs General'!$A$87,H$42,H$43))*'DNSP Inputs General'!$D93","v":147.82545279876203},null,2.3034855273054822E-2,2.3812925693557752E-2,3.888125725935776E-2,4.0579824388960573E-2,3.0515505425046996E-2,null,{"$f":"IF(C48=0,\"\",(D48/'Charges Summary'!K$4)/C48-1)","v":-6.9180590833095579E-4},{"$f":"IF(D48=0,\"\",(E48/'Charges Summary'!L$4)/(D48/'Charges Summary'!K$4)-1)","v":6.8219170757499725E-5},{"$f":"IF(E48=0,\"\",(F48/'Charges Summary'!M$4)/(E48/'Charges Summary'!L$4)-1)","v":1.4787079556970895E-2},{"$f":"IF(F48=0,\"\",(G48/'Charges Summary'!N$4)/(F48/'Charges Summary'!M$4)-1)","v":1.6446252792445382E-2},{"$f":"IF(G48=0,\"\",(H48/'Charges Summary'!O$4)/(G48/'Charges Summary'!N$4)-1)","v":6.6153498112300202E-3},null,{"$f":"SUM('DNSP Inputs General'!Q93:U93)/5","v":744.1046827016612},5.8708760646630541E-3,null,144.51097856646862,122.57303886864253,122.36168922965116,127.25119813009756,130.46608619722895,null,-14.902692751925315,10.12159942527191,15.492283432706401,16.196864534219046,17.359366601533083]
[{"$f":"'DNSP Inputs General'!A94","v":"HP Sodium 400W"},null,{"$f":"'DNSP Inputs General'!E94","v":166.31},{"$f":"IF('DNSP Inputs General'!$B94='DNSP Inputs General'!$A$86,D$41,IF('DNSP Inputs General'!$B94='DNSP Inputs General'!$A$87,D$42,D$43))*'DNSP Inputs General'!$D94","v":170.42510151171146},{"$f":"IF('DNSP Inputs General'!$B94='DNSP Inputs General'!$A$86,E$41,IF('DNSP Inputs General'!$B94='DNSP Inputs General'!$A$87,E$42,E$43))*'DNSP Inputs General'!$D94","v":174.65142648838352},{"$f":"IF('DNSP Inputs General'!$B94='DNSP Inputs General'!$A$86,F$41,IF('DNSP Inputs General'!$B94='DNSP Inputs General'!$A$87,F$42,F$43))*'DNSP Inputs General'!$D94","v":182.13048734631252},{"$f":"IF('DNSP Inputs General'!$B94='DNSP Inputs General'!$A$86,G$41,IF('DNSP Inputs General'!$B94='DNSP Inputs General'!$A$87,G$42,G$43))*'DNSP Inputs General'!$D94","v":189.5936016868265},{"$f":"IF('DNSP Inputs General'!$B94='DNSP Inputs General'!$A$86,H$41,IF('DNSP Inputs General'!$B94='DNSP Inputs General'!$A$87,H$42,H$43))*'DNSP Inputs General'!$D94","v":195.36850227894695},null,2.4743560289287814E-2,2.4798723540039314E-2,4.2822787126943096E-2,4.0976743922741532E-2,3.045936434953922E-2,null,{"$f":"IF(C49=0,\"\",(D49/'Charges Summary'!K$4)/C49-1)","v":9.7727009157866362E-4},{"$f":"IF(D49=0,\"\",(E49/'Charges Summary'!L$4)/(D49/'Charges Summary'!K$4)-1)","v":1.0311539726648444E-3},{"$f":"IF(E49=0,\"\",(F49/'Charges Summary'!M$4)/(E49/'Charges Summary'!L$4)-1)","v":1.863719578090306E-2},{"$f":"IF(F49=0,\"\",(G49/'Charges Summary'!N$4)/(F49/'Charges Summary'!M$4)-1)","v":1.6833966798921463E-2},{"$f":"IF(G49=0,\"\",(H49/'Charges Summary'!O$4)/(G49/'Charges Summary'!N$4)-1)","v":6.5605107835169374E-3},null,{"$f":"SUM('DNSP Inputs General'!Q94:U94)/5","v":494.47573387758212},3.9013405211192789E-3,null,189.90594106045086,160.4946676760315,160.60529616580314,164.66932813831855,168.83276581077322,null,-19.480839548739397,14.156758812352024,21.525191180509381,24.924273548507955,26.535736468173724]
[{"$f":"'DNSP Inputs General'!A95","v":"Metal Halide 70W"},null,{"$f":"'DNSP Inputs General'!E95","v":190.05},{"$f":"IF('DNSP Inputs General'!$B95='DNSP Inputs General'!$A$86,D$41,IF('DNSP Inputs General'!$B95='DNSP Inputs General'!$A$87,D$42,D$43))*'DNSP Inputs General'!$D95","v":219.28248403543571},{"$f":"IF('DNSP Inputs General'!$B95='DNSP Inputs General'!$A$86,E$41,IF('DNSP Inputs General'!$B95='DNSP Inputs General'!$A$87,E$42,E$43))*'DNSP Inputs General'!$D95","v":224.99466330446785},{"$f":"IF('DNSP Inputs General'!$B95='DNSP Inputs General'!$A$86,F$41,IF('DNSP Inputs General'!$B95='DNSP Inputs General'!$A$87,F$42,F$43))*'DNSP Inputs General'!$D95","v":204.25261891644524},{"$f":"IF('DNSP Inputs General'!$B95='DNSP Inputs General'!$A$86,G$41,IF('DNSP Inputs General'!$B95='DNSP Inputs General'!$A$87,G$42,G$43))*'DNSP Inputs General'!$D95","v":213.27296334616804},{"$f":"IF('DNSP Inputs General'!$B95='DNSP Inputs General'!$A$86,H$41,IF('DNSP Inputs General'!$B95='DNSP Inputs General'!$A$87,H$42,H$43))*'DNSP Inputs General'!$D95","v":219.61939701901403},null,{"$f":"IF(C50=0,\"\",D50/C50-1)","v":0.15381470158082444},{"$f":"IF(D50=0,\"\",E50/D50-1)","v":2.604940971075953E-2},{"$f":"IF(E50=0,\"\",F50/E50-1)","v":-9.218905054629678E-2},{"$f":"IF(F50=0,\"\",G50/F50-1)","v":4.4162686762967862E-2},{"$f":"IF(G50=0,\"\",H50/G50-1)","v":2.9757328698738705E-2},null,{"$f":"IF(C50=0,\"\",(D50/'Charges Summary'!K$4)/C50-1)","v":0.1270549383631745},{"$f":"IF(D50=0,\"\",(E50/'Charges Summary'!L$4)/(D50/'Charges Summary'!K$4)-1)","v":2.2528336956928463E-3},{"$f":"IF(E50=0,\"\",(F50/'Charges Summary'!M$4)/(E50/'Charges Summary'!L$4)-1)","v":-0.11324338970533843},{"$f":"IF(F50=0,\"\",(G50/'Charges Summary'!N$4)/(F50/'Charges Summary'!M$4)-1)","v":1.994601989245548E-2},{"$f":"IF(G50=0,\"\",(H50/'Charges Summary'!O$4)/(G50/'Charges Summary'!N$4)-1)","v":5.8747570432866603E-3},null,{"$f":"SUM('DNSP Inputs General'!Q95:U95)/5","v":0},0,null,274.49413789193676,195.77215341275166,201.06432763917584,206.53455147545682,211.73752562177802,null,-55.211653856501044,29.222509891716186,3.1882912772693999,6.7384118707112179,7.8818713972360115]
[{"$f":"'DNSP Inputs General'!A96","v":"Metal Halide 100W"},null,{"$f":"'DNSP Inputs General'!E96","v":250.78},{"$f":"IF('DNSP Inputs General'!$B96='DNSP Inputs General'!$A$86,D$41,IF('DNSP Inputs General'!$B96='DNSP Inputs General'!$A$87,D$42,D$43))*'DNSP Inputs General'!$D96","v":256.55767699960262},{"$f":"IF('DNSP Inputs General'!$B96='DNSP Inputs General'!$A$86,E$41,IF('DNSP Inputs General'!$B96='DNSP Inputs General'!$A$87,E$42,E$43))*'DNSP Inputs General'!$D96","v":262.66706589810599},{"$f":"IF('DNSP Inputs General'!$B96='DNSP Inputs General'!$A$86,F$41,IF('DNSP Inputs General'!$B96='DNSP Inputs General'!$A$87,F$42,F$43))*'DNSP Inputs General'!$D96","v":272.87989166085094},{"$f":"IF('DNSP Inputs General'!$B96='DNSP Inputs General'!$A$86,G$41,IF('DNSP Inputs General'!$B96='DNSP Inputs General'!$A$87,G$42,G$43))*'DNSP Inputs General'!$D96","v":283.95330974372689},{"$f":"IF('DNSP Inputs General'!$B96='DNSP Inputs General'!$A$86,H$41,IF('DNSP Inputs General'!$B96='DNSP Inputs General'!$A$87,H$42,H$43))*'DNSP Inputs General'!$D96","v":292.61828850767159},null,2.3038826858611694E-2,2.3812925693557974E-2,3.888125725935776E-2,4.0579824388960573E-2,3.0515505425046774E-2,null,{"$f":"IF(C51=0,\"\",(D51/'Charges Summary'!K$4)/C51-1)","v":-6.8792643348214444E-4},{"$f":"IF(D51=0,\"\",(E51/'Charges Summary'!L$4)/(D51/'Charges Summary'!K$4)-1)","v":6.8219170757499725E-5},{"$f":"IF(E51=0,\"\",(F51/'Charges Summary'!M$4)/(E51/'Charges Summary'!L$4)-1)","v":1.4787079556970895E-2},{"$f":"IF(F51=0,\"\",(G51/'Charges Summary'!N$4)/(F51/'Charges Summary'!M$4)-1)","v":1.6446252792445604E-2},{"$f":"IF(G51=0,\"\",(H51/'Charges Summary'!O$4)/(G51/'Charges Summary'!N$4)-1)","v":6.6153498112300202E-3},null,{"$f":"SUM('DNSP Inputs General'!Q96:U96)/5","v":0},0,null,286.05733598702017,242.63151014834472,242.21314667664572,251.89185693258102,258.25568011821582,null,-29.499658987417547,20.035555749761272,30.666744984205224,32.06145281114587,34.362608389455772]
[{"$f":"'DNSP Inputs General'!A97","v":"Metal Halide 150W"},null,{"$f":"'DNSP Inputs General'!E97","v":284.91000000000003},{"$f":"IF('DNSP Inputs General'!$B97='DNSP Inputs General'!$A$86,D$41,IF('DNSP Inputs General'!$B97='DNSP Inputs General'!$A$87,D$42,D$43))*'DNSP Inputs General'!$D97","v":291.4726614476582},{"$f":"IF('DNSP Inputs General'!$B97='DNSP Inputs General'!$A$86,E$41,IF('DNSP Inputs General'!$B97='DNSP Inputs General'!$A$87,E$42,E$43))*'DNSP Inputs General'!$D97","v":298.41347827641488},{"$f":"IF('DNSP Inputs General'!$B97='DNSP Inputs General'!$A$86,F$41,IF('DNSP Inputs General'!$B97='DNSP Inputs General'!$A$87,F$42,F$43))*'DNSP Inputs General'!$D97","v":310.01616949493996},{"$f":"IF('DNSP Inputs General'!$B97='DNSP Inputs General'!$A$86,G$41,IF('DNSP Inputs General'!$B97='DNSP Inputs General'!$A$87,G$42,G$43))*'DNSP Inputs General'!$D97","v":322.59657121078288},{"$f":"IF('DNSP Inputs General'!$B97='DNSP Inputs General'!$A$86,H$41,IF('DNSP Inputs General'!$B97='DNSP Inputs General'!$A$87,H$42,H$43))*'DNSP Inputs General'!$D97","v":332.44076862966705},null,2.3034156216553248E-2,2.3812925693557974E-2,3.888125725935776E-2,4.0579824388960573E-2,3.0515505425046774E-2,null,{"$f":"IF(C52=0,\"\",(D52/'Charges Summary'!K$4)/C52-1)","v":-6.9248875201555204E-4},{"$f":"IF(D52=0,\"\",(E52/'Charges Summary'!L$4)/(D52/'Charges Summary'!K$4)-1)","v":6.821917075772177E-5},{"$f":"IF(E52=0,\"\",(F52/'Charges Summary'!M$4)/(E52/'Charges Summary'!L$4)-1)","v":1.4787079556970895E-2},{"$f":"IF(F52=0,\"\",(G52/'Charges Summary'!N$4)/(F52/'Charges Summary'!M$4)-1)","v":1.6446252792445604E-2},{"$f":"IF(G52=0,\"\",(H52/'Charges Summary'!O$4)/(G52/'Charges Summary'!N$4)-1)","v":6.6153498112300202E-3},null,{"$f":"SUM('DNSP Inputs General'!Q97:U97)/5","v":0},0,null,324.98693479709397,275.65127982551883,275.17598118712033,286.17186901503578,293.40174614282938,null,-33.514273349435769,22.762198450896051,34.840188307819631,36.424702195747102,39.039022486837666]
[{"$f":"'DNSP Inputs General'!A98","v":"HP Sodium 50W"},null,{"$f":"'DNSP Inputs General'!E98","v":53.84},{"$f":"IF('DNSP Inputs General'!$B98='DNSP Inputs General'!$A$86,D$41,IF('DNSP Inputs General'!$B98='DNSP Inputs General'!$A$87,D$42,D$43))*'DNSP Inputs General'!$D98","v":55.081045430495145},{"$f":"IF('DNSP Inputs General'!$B98='DNSP Inputs General'!$A$86,E$41,IF('DNSP Inputs General'!$B98='DNSP Inputs General'!$A$87,E$42,E$43))*'DNSP Inputs General'!$D98","v":56.392686272455016},{"$f":"IF('DNSP Inputs General'!$B98='DNSP Inputs General'!$A$86,F$41,IF('DNSP Inputs General'!$B98='DNSP Inputs General'!$A$87,F$42,F$43))*'DNSP Inputs General'!$D98","v":58.585304814960594},{"$f":"IF('DNSP Inputs General'!$B98='DNSP Inputs General'!$A$86,G$41,IF('DNSP Inputs General'!$B98='DNSP Inputs General'!$A$87,G$42,G$43))*'DNSP Inputs General'!$D98","v":60.962686196125425},{"$f":"IF('DNSP Inputs General'!$B98='DNSP Inputs General'!$A$86,H$41,IF('DNSP Inputs General'!$B98='DNSP Inputs General'!$A$87,H$42,H$43))*'DNSP Inputs General'!$D98","v":62.82299337746872},null,2.3050620923015241E-2,2.3812925693557974E-2,3.888125725935776E-2,4.0579824388960573E-2,3.0515505425046774E-2,null,{"$f":"IF(C53=0,\"\",(D53/'Charges Summary'!K$4)/C53-1)","v":-6.764059020559765E-4},{"$f":"IF(D53=0,\"\",(E53/'Charges Summary'!L$4)/(D53/'Charges Summary'!K$4)-1)","v":6.8219170757499725E-5},{"$f":"IF(E53=0,\"\",(F53/'Charges Summary'!M$4)/(E53/'Charges Summary'!L$4)-1)","v":1.4787079556970673E-2},{"$f":"IF(F53=0,\"\",(G53/'Charges Summary'!N$4)/(F53/'Charges Summary'!M$4)-1)","v":1.6446252792445604E-2},{"$f":"IF(G53=0,\"\",(H53/'Charges Summary'!O$4)/(G53/'Charges Summary'!N$4)-1)","v":6.6153498112300202E-3},null,{"$f":"SUM('DNSP Inputs General'!Q98:U98)/5","v":0},0,null,61.414405148561883,52.091199880061744,52.001380321120429,54.079328194481462,55.445594205691606,null,-6.3333597180667383,4.3014863923932722,6.5839244938401649,6.8833580016439626,7.3773991717771139]
[]
[]
[{"$f":"'DNSP Inputs General'!A$112","v":"Energy Efficient Lights"}]
[{"$f":"'DNSP Inputs General'!A113","v":"T5 2X14W"},null,{"$f":"'DNSP Inputs General'!E113","v":40.6},{"$f":"'Charges Summary'!K$89","v":50.652414968428332},{"$f":"'Charges Summary'!L$89","v":52.415434301208563},{"$f":"'Charges Summary'!M$89","v":54.117116393935902},{"$f":"'Charges Summary'!N$89","v":55.875518105221481},{"$f":"'Charges Summary'!O$89","v":57.76882978131804},null,{"$f":"IF(C57=0,\"\",D57/C57-1)","v":0.2475964277938012},3.4806224616913628E-2,3.2465286521304426E-2,3.2492524148655777E-2,3.3884458530320627E-2,null,{"$f":"IF(C57=0,\"\",(D57/'Charges Summary'!K$4)/C57-1)","v":0.21866163873867173},{"$f":"IF(D57=0,\"\",(E57/'Charges Summary'!L$4)/(D57/'Charges Summary'!K$4)-1)","v":1.0806556811537416E-2},{"$f":"IF(E57=0,\"\",(F57/'Charges Summary'!M$4)/(E57/'Charges Summary'!L$4)-1)","v":8.5199107517810457E-3},{"$f":"IF(F57=0,\"\",(G57/'Charges Summary'!N$4)/(F57/'Charges Summary'!M$4)-1)","v":8.5465166724487673E-3},{"$f":"IF(G57=0,\"\",(H57/'Charges Summary'!O$4)/(G57/'Charges Summary'!N$4)-1)","v":9.906168717602748E-3},null,{"$f":"SUM('DNSP Inputs General'!Q113:U113)/5","v":7921},{"$f":"V57/V$32","v":6.2495520306839525E-2},null,68.486194148089666,73.047444262225483,72.621414027113616,75.100197652476211,77.229154691840591,null,{"$f":"D57-Y57","v":-17.833779179661335},{"$f":"E57-Z57","v":-20.632009961016919},{"$f":"F57-AA57","v":-18.504297633177714},{"$f":"G57-AB57","v":-19.22467954725473},{"$f":"H57-AC57","v":-19.460324910522552}]
[{"$f":"'DNSP Inputs General'!A114","v":"T5 2X24W"},null,{"$f":"'DNSP Inputs General'!E114","v":47.91},{"$f":"'Charges Summary'!K$105","v":54.159959540232364},{"$f":"'Charges Summary'!L$105","v":56.011515309097618},{"$f":"'Charges Summary'!M$105","v":57.80484977051357},{"$f":"'Charges Summary'!N$105","v":59.666006698295909},{"$f":"'Charges Summary'!O$105","v":61.679580332320725},null,0.13045208808667019,3.4186801182704674E-2,3.201724594522215E-2,3.2197245303312361E-2,3.3747417423233061E-2,null,{"$f":"IF(C58=0,\"\",(D58/'Charges Summary'!K$4)/C58-1)","v":0.10423416057660151},{"$f":"IF(D58=0,\"\",(E58/'Charges Summary'!L$4)/(D58/'Charges Summary'!K$4)-1)","v":1.0201499310097617E-2},{"$f":"IF(E58=0,\"\",(F58/'Charges Summary'!M$4)/(E58/'Charges Summary'!L$4)-1)","v":8.0822613240447705E-3},{"$f":"IF(F58=0,\"\",(G58/'Charges Summary'!N$4)/(F58/'Charges Summary'!M$4)-1)","v":8.258086060165315E-3},{"$f":"IF(G58=0,\"\",(H58/'Charges Summary'!O$4)/(G58/'Charges Summary'!N$4)-1)","v":9.7723059263850054E-3},null,{"$f":"SUM('DNSP Inputs General'!Q114:U114)/5","v":1150},9.0733301796320481E-3,null,72.049101215623821,75.901225911970769,76.299196654420385,78.772450326015189,80.076421025846798,null,-17.889141675391457,-19.889710602873151,-18.494346883906815,-19.10644362771928,-18.396840693526073]
[{"$f":"'DNSP Inputs General'!A115","v":"LED 18W"},null,{"$f":"'DNSP Inputs General'!E115","v":16.739999999999998},{"$f":"'Charges Summary'!K$121","v":28.898152109910715},{"$f":"'Charges Summary'!L$121","v":30.093092077871013},{"$f":"'Charges Summary'!M$121","v":31.212533429919084},{"$f":"'Charges Summary'!N$121","v":32.323845000223024},{"$f":"'Charges Summary'!O$121","v":33.464986461812373},null,{"$f":"IF(C59=0,\"\",D59/C59-1)","v":0.72629343547853753},{"$f":"IF(D59=0,\"\",E59/D59-1)","v":4.135004769216688E-2},{"$f":"IF(E59=0,\"\",F59/E59-1)","v":3.7199279793227236E-2},{"$f":"IF(F59=0,\"\",G59/F59-1)","v":3.5604657750680335E-2},{"$f":"IF(G59=0,\"\",H59/G59-1)","v":3.530339480286071E-2},null,{"$f":"IF(C59=0,\"\",(D59/'Charges Summary'!K$4)/C59-1)","v":0.68625650102597935},{"$f":"IF(D59=0,\"\",(E59/'Charges Summary'!L$4)/(D59/'Charges Summary'!K$4)-1)","v":1.7198612747931996E-2},{"$f":"IF(E59=0,\"\",(F59/'Charges Summary'!M$4)/(E59/'Charges Summary'!L$4)-1)","v":1.3144111230409372E-2},{"$f":"IF(F59=0,\"\",(G59/'Charges Summary'!N$4)/(F59/'Charges Summary'!M$4)-1)","v":1.1586472343148913E-2},{"$f":"IF(G59=0,\"\",(H59/'Charges Summary'!O$4)/(G59/'Charges Summary'!N$4)-1)","v":1.1292196414249167E-2},null,{"$f":"SUM('DNSP Inputs General'!Q115:U115)/5","v":26758.482764680964},0.21112047759125549,null,37.198773021016628,41.092163195886563,43.482729926360804,45.950109241184265,47.455862161447527,null,-8.3006209111059128,-10.99907111801555,-12.27019649644172,-13.626264240961241,-13.990875699635154]
[{"$f":"'DNSP Inputs General'!A116","v":"LED 14W"},null,{"$f":"'DNSP Inputs General'!E116","v":16.739999999999998},{"$f":"'Charges Summary'!K$137","v":30.013340018288957},{"$f":"'Charges Summary'!L$137","v":31.232499318329808},{"$f":"'Charges Summary'!M$137","v":32.378323010831252},{"$f":"'Charges Summary'!N$137","v":33.520783612097588},{"$f":"'Charges Summary'!O$137","v":34.700017684254455},null,{"$f":"IF(C60=0,\"\",D60/C60-1)","v":0.79291159010089363},{"$f":"IF(D60=0,\"\",E60/D60-1)","v":4.0620580691717256E-2},{"$f":"IF(E60=0,\"\",F60/E60-1)","v":3.6686903626344858E-2},{"$f":"IF(F60=0,\"\",G60/F60-1)","v":3.5284736670400108E-2},{"$f":"IF(G60=0,\"\",H60/G60-1)","v":3.5179191686058431E-2},null,{"$f":"IF(C60=0,\"\",(D60/'Charges Summary'!K$4)/C60-1)","v":0.75132961896155348},{"$f":"IF(D60=0,\"\",(E60/'Charges Summary'!L$4)/(D60/'Charges Summary'!K$4)-1)","v":1.6486063857626299E-2},{"$f":"IF(E60=0,\"\",(F60/'Charges Summary'!M$4)/(E60/'Charges Summary'!L$4)-1)","v":1.264361831036509E-2},{"$f":"IF(F60=0,\"\",(G60/'Charges Summary'!N$4)/(F60/'Charges Summary'!M$4)-1)","v":1.1273971009163164E-2},{"$f":"IF(G60=0,\"\",(H60/'Charges Summary'!O$4)/(G60/'Charges Summary'!N$4)-1)","v":1.1170873869164266E-2},null,{"$f":"SUM('DNSP Inputs General'!Q116:U116)/5","v":11},8.678837563126307E-5,null,39.061176381231462,43.000195438426658,45.370709146598116,47.884343952317387,49.437485623003425,null,-9.0478363629425047,-11.767696120096851,-12.992386135766864,-14.363560340219799,-14.737467938748971]
[{"$f":"'DNSP Inputs General'!A117","v":"LED 70W-125W (L1)"},null,{"$f":"'DNSP Inputs General'!E117","v":24.09},{"$f":"'Charges Summary'!K$153","v":41.484386324989984},{"$f":"'Charges Summary'!L$153","v":43.259681185162925},{"$f":"'Charges Summary'!M$153","v":44.906930200098842},{"$f":"'Charges Summary'!N$153","v":46.561228509735045},{"$f":"'Charges Summary'!O$153","v":48.30946159675613},null,0.72205837795724293,4.2794290031560989E-2,3.8078158918584126E-2,3.6838374439421395E-2,3.754697079471514E-2,null,{"$f":"IF(C61=0,\"\",(D61/'Charges Summary'!K$4)/C61-1)","v":0.6821196647670138},{"$f":"IF(D61=0,\"\",(E61/'Charges Summary'!L$4)/(D61/'Charges Summary'!K$4)-1)","v":1.8609359602324904E-2},{"$f":"IF(E61=0,\"\",(F61/'Charges Summary'!M$4)/(E61/'Charges Summary'!L$4)-1)","v":1.400260701582523E-2},{"$f":"IF(F61=0,\"\",(G61/'Charges Summary'!N$4)/(F61/'Charges Summary'!M$4)-1)","v":1.2791576147669348E-2},{"$f":"IF(G61=0,\"\",(H61/'Charges Summary'!O$4)/(G61/'Charges Summary'!N$4)-1)","v":1.3483738433732961E-2},null,{"$f":"SUM('DNSP Inputs General'!Q117:U117)/5","v":1121.870678489011},8.851393986764022E-3,null,51.214509034741511,58.351612544140096,63.014835577323467,67.340167593366232,69.674151655340225,null,-9.7301227097515266,-15.09193135897717,-18.107905377224625,-20.778939083631187,-21.364690058584095]
[{"$f":"'DNSP Inputs General'!A118","v":"LED 155W-250W (L2)"},null,{"$f":"'DNSP Inputs General'!E118","v":24.89},{"$f":"'Charges Summary'!K$169","v":42.031604816224046},{"$f":"'Charges Summary'!L$169","v":43.858057105744933},{"$f":"'Charges Summary'!M$169","v":45.547546328331165},{"$f":"'Charges Summary'!N$169","v":47.24095280403639},{"$f":"'Charges Summary'!O$169","v":49.029022268485946},null,0.68869444822113479,4.3454260133695577E-2,3.8521752537116649E-2,3.717887377507112E-2,3.7849987316445066E-2,null,{"$f":"IF(C62=0,\"\",(D62/'Charges Summary'!K$4)/C62-1)","v":0.64952952553515675},{"$f":"IF(D62=0,\"\",(E62/'Charges Summary'!L$4)/(D62/'Charges Summary'!K$4)-1)","v":1.9254023396054976E-2},{"$f":"IF(E62=0,\"\",(F62/'Charges Summary'!M$4)/(E62/'Charges Summary'!L$4)-1)","v":1.4435912621749925E-2},{"$f":"IF(F62=0,\"\",(G62/'Charges Summary'!N$4)/(F62/'Charges Summary'!M$4)-1)","v":1.3124178477339266E-2},{"$f":"IF(G62=0,\"\",(H62/'Charges Summary'!O$4)/(G62/'Charges Summary'!N$4)-1)","v":1.3779727266908237E-2},null,{"$f":"SUM('DNSP Inputs General'!Q118:U118)/5","v":3620.3150274974432},2.8563750955450416E-2,null,53.272005233512814,61.239780266058446,66.534905985842855,71.317578183119082,73.819710135395908,null,-11.240400417288768,-17.381723160313513,-20.987359657511689,-24.076625379082692,-24.790687866909963]
[{"$f":"'DNSP Inputs General'!A119","v":"LED 275W-400W (L4)"},null,{"$f":"'DNSP Inputs General'!E119","v":26.37},{"$f":"'Charges Summary'!K$185","v":58.441259214170799},{"$f":"'Charges Summary'!L$185","v":60.975911537491299},{"$f":"'Charges Summary'!M$185","v":63.315985944648943},{"$f":"'Charges Summary'!N$185","v":65.680902102211093},{"$f":"'Charges Summary'!O$185","v":68.218325267808723},null,1.2162024730440195,4.3370939596488078E-2,3.8377030341216534E-2,3.7351012106635606E-2,3.8632587013633701E-2,null,{"$f":"IF(C63=0,\"\",(D63/'Charges Summary'!K$4)/C63-1)","v":1.1648033590096989},{"$f":"IF(D63=0,\"\",(E63/'Charges Summary'!L$4)/(D63/'Charges Summary'!K$4)-1)","v":1.917263526432289E-2},{"$f":"IF(E63=0,\"\",(F63/'Charges Summary'!M$4)/(E63/'Charges Summary'!L$4)-1)","v":1.4294546884811243E-2},{"$f":"IF(F63=0,\"\",(G63/'Charges Summary'!N$4)/(F63/'Charges Summary'!M$4)-1)","v":1.3292324503218156E-2},{"$f":"IF(G63=0,\"\",(H63/'Charges Summary'!O$4)/(G63/'Charges Summary'!N$4)-1)","v":1.4544176577763412E-2},null,{"$f":"SUM('DNSP Inputs General'!Q119:U119)/5","v":140.70802534902219},1.1101655416658385E-3,null,68.282312845980741,77.398103281308977,82.685239330634772,88.23469315108315,91.244254750167912,null,-9.8410536318099417,-16.422191743817677,-19.369253385985829,-22.553791048872057,-23.025929482359189]
[{"$f":"'DNSP Inputs General'!A120","v":"Compact Fluorescent 32W"},null,{"$f":"'DNSP Inputs General'!E120","v":36.130000000000003},{"$f":"IF('DNSP Inputs General'!$B120='DNSP Inputs General'!$A$113,D$57,D$58)*'DNSP Inputs General'!$D120","v":44.554365286706727},{"$f":"IF('DNSP Inputs General'!$B120='DNSP Inputs General'!$A$113,E$57,E$58)*'DNSP Inputs General'!$D120","v":46.105134532539857},{"$f":"IF('DNSP Inputs General'!$B120='DNSP Inputs General'!$A$113,F$57,F$58)*'DNSP Inputs General'!$D120","v":47.601950935242044},{"$f":"IF('DNSP Inputs General'!$B120='DNSP Inputs General'!$A$113,G$57,G$58)*'DNSP Inputs General'!$D120","v":49.148658475528521},{"$f":"IF('DNSP Inputs General'!$B120='DNSP Inputs General'!$A$113,H$57,H$58)*'DNSP Inputs General'!$D120","v":50.814034155463467},null,0.233168150753023,3.4806224616913628E-2,3.2465286521304204E-2,3.2492524148655777E-2,3.3884458530320849E-2,null,{"$f":"IF(C64=0,\"\",(D64/'Charges Summary'!K$4)/C64-1)","v":0.20456798845964386},{"$f":"IF(D64=0,\"\",(E64/'Charges Summary'!L$4)/(D64/'Charges Summary'!K$4)-1)","v":1.0806556811537416E-2},{"$f":"IF(E64=0,\"\",(F64/'Charges Summary'!M$4)/(E64/'Charges Summary'!L$4)-1)","v":8.5199107517808237E-3},{"$f":"IF(F64=0,\"\",(G64/'Charges Summary'!N$4)/(F64/'Charges Summary'!M$4)-1)","v":8.5465166724487673E-3},{"$f":"IF(G64=0,\"\",(H64/'Charges Summary'!O$4)/(G64/'Charges Summary'!N$4)-1)","v":9.906168717602748E-3},null,{"$f":"SUM('DNSP Inputs General'!Q120:U120)/5","v":671},5.2940909135070473E-3,null,60.241133874312141,64.253254597004428,63.878514187683628,66.058876785991131,67.931528458585007,null,-15.686768587605414,-18.148120064464571,-16.276563252441584,-16.910218310462611,-17.117494303121539]
[{"$f":"'DNSP Inputs General'!A121","v":"Compact Fluorescent 42W"},null,{"$f":"'DNSP Inputs General'!E121","v":36.130000000000003},{"$f":"IF('DNSP Inputs General'!$B121='DNSP Inputs General'!$A$113,D$57,D$58)*'DNSP Inputs General'!$D121","v":44.554365286706727},{"$f":"IF('DNSP Inputs General'!$B121='DNSP Inputs General'!$A$113,E$57,E$58)*'DNSP Inputs General'!$D121","v":46.105134532539857},{"$f":"IF('DNSP Inputs General'!$B121='DNSP Inputs General'!$A$113,F$57,F$58)*'DNSP Inputs General'!$D121","v":47.601950935242044},{"$f":"IF('DNSP Inputs General'!$B121='DNSP Inputs General'!$A$113,G$57,G$58)*'DNSP Inputs General'!$D121","v":49.148658475528521},{"$f":"IF('DNSP Inputs General'!$B121='DNSP Inputs General'!$A$113,H$57,H$58)*'DNSP Inputs General'!$D121","v":50.814034155463467},null,0.233168150753023,3.4806224616913628E-2,3.2465286521304204E-2,3.2492524148655777E-2,3.3884458530320849E-2,null,{"$f":"IF(C65=0,\"\",(D65/'Charges Summary'!K$4)/C65-1)","v":0.20456798845964386},{"$f":"IF(D65=0,\"\",(E65/'Charges Summary'!L$4)/(D65/'Charges Summary'!K$4)-1)","v":1.0806556811537416E-2},{"$f":"IF(E65=0,\"\",(F65/'Charges Summary'!M$4)/(E65/'Charges Summary'!L$4)-1)","v":8.5199107517808237E-3},{"$f":"IF(F65=0,\"\",(G65/'Charges Summary'!N$4)/(F65/'Charges Summary'!M$4)-1)","v":8.5465166724487673E-3},{"$f":"IF(G65=0,\"\",(H65/'Charges Summary'!O$4)/(G65/'Charges Summary'!N$4)-1)","v":9.906168717602748E-3},null,{"$f":"SUM('DNSP Inputs General'!Q121:U121)/5","v":3295},2.5997063427728347E-2,null,60.241133874312141,64.253254597004428,63.878514187683628,66.058876785991131,67.931528458585007,null,-15.686768587605414,-18.148120064464571,-16.276563252441584,-16.910218310462611,-17.117494303121539]
[null,null,null,null,null,null,null,null,null,null,null,null,null,null,null,null,null,null,null,null,null,{"$f":"SUM(V41:V65)","v":70098.594245380009},0.55306755714468514]

{"sheet":"PL Tariff Components","index":8,"n_rows":62,"n_cols":26,"rows_kept":62,"cut":false,"hidden":false,"merged":[[3,21,3,25],[34,21,34,25],[2,3,2,4],[3,2,3,7],[3,9,3,13],[3,15,3,19],[33,3,33,4],[34,2,34,7],[34,9,34,13],[34,15,34,19]]}
[{"$f":"'DNSP Inputs O & M'!$A$3","v":"AusNet"},null,null,null,"Global Check",{"$f":"IF(SUM('Total RAB'!F1,'Depn & WACC Post 2004 N & E'!F1,'Depn & WACC Post 2004 Central'!F1,'Cashflow Summary'!F1,W1)<1,\"Ok\",\"Error\")","v":"Ok"},null,null,null,null,null,null,null,null,null,null,null,null,null,null,null,"Check",{"$f":"SUM(V7:Z31,V38:Z62)","v":1.5116796703296131E-12}]
[]
[null,null,null,{"$f":"'DNSP Inputs General'!$B$39","v":"Central"}]
["Public Lighting Tariffs",null,"Total Tariff",null,null,null,null,null,null,"Operations, maintenance and repair Tariff",null,null,null,null,null,"Replacement Tariff",null,null,null,null,null,"Check"]
[null,null,"Actual"]
[{"$f":"'DNSP Inputs General'!A$41","v":"Existing Lights"},null,{"$f":"'DNSP Inputs General'!P$2","v":"HY2021"},{"$f":"'DNSP Inputs General'!Q$2","v":"2022-06-30"},{"$f":"'DNSP Inputs General'!R$2","v":"2023-06-30"},{"$f":"'DNSP Inputs General'!S$2","v":"2024-06-30"},{"$f":"'DNSP Inputs General'!T$2","v":"2025-06-30"},{"$f":"'DNSP Inputs General'!U$2","v":"2026-06-30"},null,{"$f":"D6","v":"2022-06-30"},{"$f":"E6","v":"2023-06-30"},"2024-06-30","2025-06-30","2026-06-30",null,{"$f":"J6","v":"2022-06-30"},{"$f":"K6","v":"2023-06-30"},"2024-06-30","2025-06-30","2026-06-30",null,{"$f":"P6","v":"2022-06-30"},{"$f":"Q6","v":"2023-06-30"},"2024-06-30","2025-06-30","2026-06-30"]
[{"$f":"'DNSP Inputs General'!A42","v":"Mercury Vapour 80W"},null,{"$f":"'DNSP Inputs General'!E42","v":43.97},{"$f":"'Charges Summary'!D$31","v":52.211438947216152},{"$f":"'Charges Summary'!E$31","v":53.594455932499407},{"$f":"'Charges Summary'!F$31","v":49.739822958516342},{"$f":"'Charges Summary'!G$31","v":52.011860158173704},{"$f":"'Charges Summary'!H$31","v":53.565859463300434},null,{"$f":"SUM('Charges Summary'!D25,'Charges Summary'!D8)","v":24.779152657148156},{"$f":"SUM('Charges Summary'!E25,'Charges Summary'!E8)","v":25.329304970174405},{"$f":"SUM('Charges Summary'!F25,'Charges Summary'!F8)","v":25.914379319455918},{"$f":"SUM('Charges Summary'!G25,'Charges Summary'!G8)","v":26.570592534216622},{"$f":"SUM('Charges Summary'!H25,'Charges Summary'!H8)","v":27.32720359840949},null,{"$f":"SUM('Charges Summary'!D27,'Charges Summary'!D11)","v":27.432286290067999},{"$f":"SUM('Charges Summary'!E27,'Charges Summary'!E11)","v":28.265150962325006},{"$f":"SUM('Charges Summary'!F27,'Charges Summary'!F11)","v":23.825443639060424},{"$f":"SUM('Charges Summary'!G27,'Charges Summary'!G11)","v":25.441267623957081},{"$f":"SUM('Charges Summary'!H27,'Charges Summary'!H11)","v":26.238655864890944},null,{"$f":"ABS(D7-J7-P7)","v":3.5527136788005009E-15},{"$f":"ABS(E7-K7-Q7)","v":3.5527136788005009E-15},0,0,0]
[{"$f":"'DNSP Inputs General'!A43","v":"HP Sodium 150W"},null,{"$f":"'DNSP Inputs General'!E43","v":104.07},{"$f":"'Charges Summary'!D$55","v":103.05110454537413},{"$f":"'Charges Summary'!E$55","v":105.54292224447397},{"$f":"'Charges Summary'!F$55","v":111.52469838681276},{"$f":"'Charges Summary'!G$55","v":116.29589118002724},{"$f":"'Charges Summary'!H$55","v":119.83352283294967},null,{"$f":"SUM('Charges Summary'!D49,'Charges Summary'!D8)","v":72.229703579767772},{"$f":"SUM('Charges Summary'!E49,'Charges Summary'!E8)","v":73.816022384959069},{"$f":"SUM('Charges Summary'!F49,'Charges Summary'!F8)","v":75.525460463200716},{"$f":"SUM('Charges Summary'!G49,'Charges Summary'!G8)","v":77.498545150359732},{"$f":"SUM('Charges Summary'!H49,'Charges Summary'!H8)","v":79.851754466116347},null,{"$f":"SUM('Charges Summary'!D51,'Charges Summary'!D11)","v":30.821400965606351},{"$f":"SUM('Charges Summary'!E51,'Charges Summary'!E11)","v":31.726899859514898},{"$f":"SUM('Charges Summary'!F51,'Charges Summary'!F11)","v":35.999237923612043},{"$f":"SUM('Charges Summary'!G51,'Charges Summary'!G11)","v":38.797346029667509},{"$f":"SUM('Charges Summary'!H51,'Charges Summary'!H11)","v":39.981768366833315},null,{"$f":"ABS(D8-J8-P8)","v":7.1054273576010019E-15},3.5527136788005009E-15,0,0,7.1054273576010019E-15]
[{"$f":"'DNSP Inputs General'!A44","v":"HP Sodium 250W"},null,{"$f":"'DNSP Inputs General'!E44","v":105.12},{"$f":"'Charges Summary'!D$71","v":104.79383115964997},{"$f":"'Charges Summary'!E$71","v":107.32436487542103},{"$f":"'Charges Summary'!F$71","v":113.5614142931606},{"$f":"'Charges Summary'!G$71","v":118.43018341688948},{"$f":"'Charges Summary'!H$71","v":122.02954768440451},null,{"$f":"SUM('Charges Summary'!D65,'Charges Summary'!D8)","v":73.569766224942057},{"$f":"SUM('Charges Summary'!E65,'Charges Summary'!E8)","v":75.18617130518092},{"$f":"SUM('Charges Summary'!F65,'Charges Summary'!F8)","v":76.927626948983715},{"$f":"SUM('Charges Summary'!G65,'Charges Summary'!G8)","v":78.936662339799256},{"$f":"SUM('Charges Summary'!H65,'Charges Summary'!H8)","v":81.331430423296595},null,{"$f":"SUM('Charges Summary'!D67,'Charges Summary'!D11)","v":31.224064934707908},{"$f":"SUM('Charges Summary'!E67,'Charges Summary'!E11)","v":32.138193570240105},{"$f":"SUM('Charges Summary'!F67,'Charges Summary'!F11)","v":36.633787344176881},{"$f":"SUM('Charges Summary'!G67,'Charges Summary'!G11)","v":39.493521077090222},{"$f":"SUM('Charges Summary'!H67,'Charges Summary'!H11)","v":40.698117261107903},null,{"$f":"ABS(D9-J9-P9)","v":3.5527136788005009E-15},{"$f":"ABS(E9-K9-Q9)","v":0},{"$f":"ABS(F9-L9-R9)","v":0},{"$f":"ABS(G9-M9-S9)","v":0},{"$f":"ABS(H9-N9-T9)","v":7.1054273576010019E-15}]
[{"$f":"'DNSP Inputs General'!A45","v":"Mercury Vapour 50W"},null,{"$f":"'DNSP Inputs General'!E45","v":67.27},{"$f":"IF('DNSP Inputs General'!$B45='DNSP Inputs General'!$A$42,D$7,IF('DNSP Inputs General'!$B45='DNSP Inputs General'!$A$43,D$8,D$9))*'DNSP Inputs General'!$D45","v":79.883501589240709},{"$f":"IF('DNSP Inputs General'!$B45='DNSP Inputs General'!$A$42,E$7,IF('DNSP Inputs General'!$B45='DNSP Inputs General'!$A$43,E$8,E$9))*'DNSP Inputs General'!$D45","v":81.999517576724088},{"$f":"IF('DNSP Inputs General'!$B45='DNSP Inputs General'!$A$42,F$7,IF('DNSP Inputs General'!$B45='DNSP Inputs General'!$A$43,F$8,F$9))*'DNSP Inputs General'!$D45","v":76.10192912653001},{"$f":"IF('DNSP Inputs General'!$B45='DNSP Inputs General'!$A$42,G$7,IF('DNSP Inputs General'!$B45='DNSP Inputs General'!$A$43,G$8,G$9))*'DNSP Inputs General'!$D45","v":79.57814604200577},{"$f":"IF('DNSP Inputs General'!$B45='DNSP Inputs General'!$A$42,H$7,IF('DNSP Inputs General'!$B45='DNSP Inputs General'!$A$43,H$8,H$9))*'DNSP Inputs General'!$D45","v":81.955764978849672},null,{"$f":"IF('DNSP Inputs General'!$B45='DNSP Inputs General'!$A$42,J$7,IF('DNSP Inputs General'!$B45='DNSP Inputs General'!$A$43,J$8,J$9))*'DNSP Inputs General'!$D45","v":37.912103565436681},{"$f":"IF('DNSP Inputs General'!$B45='DNSP Inputs General'!$A$42,K$7,IF('DNSP Inputs General'!$B45='DNSP Inputs General'!$A$43,K$8,K$9))*'DNSP Inputs General'!$D45","v":38.753836604366839},{"$f":"IF('DNSP Inputs General'!$B45='DNSP Inputs General'!$A$42,L$7,IF('DNSP Inputs General'!$B45='DNSP Inputs General'!$A$43,L$8,L$9))*'DNSP Inputs General'!$D45","v":39.649000358767552},{"$f":"IF('DNSP Inputs General'!$B45='DNSP Inputs General'!$A$42,M$7,IF('DNSP Inputs General'!$B45='DNSP Inputs General'!$A$43,M$8,M$9))*'DNSP Inputs General'!$D45","v":40.653006577351434},{"$f":"IF('DNSP Inputs General'!$B45='DNSP Inputs General'!$A$42,N$7,IF('DNSP Inputs General'!$B45='DNSP Inputs General'!$A$43,N$8,N$9))*'DNSP Inputs General'!$D45","v":41.810621505566523},null,{"$f":"IF('DNSP Inputs General'!$B45='DNSP Inputs General'!$A$42,P$7,IF('DNSP Inputs General'!$B45='DNSP Inputs General'!$A$43,P$8,P$9))*'DNSP Inputs General'!$D45","v":41.971398023804042},{"$f":"IF('DNSP Inputs General'!$B45='DNSP Inputs General'!$A$42,Q$7,IF('DNSP Inputs General'!$B45='DNSP Inputs General'!$A$43,Q$8,Q$9))*'DNSP Inputs General'!$D45","v":43.245680972357256},{"$f":"IF('DNSP Inputs General'!$B45='DNSP Inputs General'!$A$42,R$7,IF('DNSP Inputs General'!$B45='DNSP Inputs General'!$A$43,R$8,R$9))*'DNSP Inputs General'!$D45","v":36.452928767762451},{"$f":"IF('DNSP Inputs General'!$B45='DNSP Inputs General'!$A$42,S$7,IF('DNSP Inputs General'!$B45='DNSP Inputs General'!$A$43,S$8,S$9))*'DNSP Inputs General'!$D45","v":38.925139464654336},{"$f":"IF('DNSP Inputs General'!$B45='DNSP Inputs General'!$A$42,T$7,IF('DNSP Inputs General'!$B45='DNSP Inputs General'!$A$43,T$8,T$9))*'DNSP Inputs General'!$D45","v":40.145143473283149},null,1.4210854715202004E-14,7.1054273576010019E-15,7.1054273576010019E-15,0,0]
[{"$f":"'DNSP Inputs General'!A46","v":"Mercury Vapour 125W"},null,{"$f":"'DNSP Inputs General'!E46","v":64.63},{"$f":"IF('DNSP Inputs General'!$B46='DNSP Inputs General'!$A$42,D$7,IF('DNSP Inputs General'!$B46='DNSP Inputs General'!$A$43,D$8,D$9))*'DNSP Inputs General'!$D46","v":76.750815252407747},{"$f":"IF('DNSP Inputs General'!$B46='DNSP Inputs General'!$A$42,E$7,IF('DNSP Inputs General'!$B46='DNSP Inputs General'!$A$43,E$8,E$9))*'DNSP Inputs General'!$D46","v":78.783850220774127},{"$f":"IF('DNSP Inputs General'!$B46='DNSP Inputs General'!$A$42,F$7,IF('DNSP Inputs General'!$B46='DNSP Inputs General'!$A$43,F$8,F$9))*'DNSP Inputs General'!$D46","v":73.117539749019016},{"$f":"IF('DNSP Inputs General'!$B46='DNSP Inputs General'!$A$42,G$7,IF('DNSP Inputs General'!$B46='DNSP Inputs General'!$A$43,G$8,G$9))*'DNSP Inputs General'!$D46","v":76.457434432515342},{"$f":"IF('DNSP Inputs General'!$B46='DNSP Inputs General'!$A$42,H$7,IF('DNSP Inputs General'!$B46='DNSP Inputs General'!$A$43,H$8,H$9))*'DNSP Inputs General'!$D46","v":78.741813411051638},null,{"$f":"IF('DNSP Inputs General'!$B46='DNSP Inputs General'!$A$42,J$7,IF('DNSP Inputs General'!$B46='DNSP Inputs General'!$A$43,J$8,J$9))*'DNSP Inputs General'!$D46","v":36.425354406007791},{"$f":"IF('DNSP Inputs General'!$B46='DNSP Inputs General'!$A$42,K$7,IF('DNSP Inputs General'!$B46='DNSP Inputs General'!$A$43,K$8,K$9))*'DNSP Inputs General'!$D46","v":37.234078306156377},{"$f":"IF('DNSP Inputs General'!$B46='DNSP Inputs General'!$A$42,L$7,IF('DNSP Inputs General'!$B46='DNSP Inputs General'!$A$43,L$8,L$9))*'DNSP Inputs General'!$D46","v":38.094137599600202},{"$f":"IF('DNSP Inputs General'!$B46='DNSP Inputs General'!$A$42,M$7,IF('DNSP Inputs General'!$B46='DNSP Inputs General'!$A$43,M$8,M$9))*'DNSP Inputs General'!$D46","v":39.058771025298434},{"$f":"IF('DNSP Inputs General'!$B46='DNSP Inputs General'!$A$42,N$7,IF('DNSP Inputs General'!$B46='DNSP Inputs General'!$A$43,N$8,N$9))*'DNSP Inputs General'!$D46","v":40.170989289661946},null,{"$f":"IF('DNSP Inputs General'!$B46='DNSP Inputs General'!$A$42,P$7,IF('DNSP Inputs General'!$B46='DNSP Inputs General'!$A$43,P$8,P$9))*'DNSP Inputs General'!$D46","v":40.325460846399956},{"$f":"IF('DNSP Inputs General'!$B46='DNSP Inputs General'!$A$42,Q$7,IF('DNSP Inputs General'!$B46='DNSP Inputs General'!$A$43,Q$8,Q$9))*'DNSP Inputs General'!$D46","v":41.549771914617757},{"$f":"IF('DNSP Inputs General'!$B46='DNSP Inputs General'!$A$42,R$7,IF('DNSP Inputs General'!$B46='DNSP Inputs General'!$A$43,R$8,R$9))*'DNSP Inputs General'!$D46","v":35.023402149418821},{"$f":"IF('DNSP Inputs General'!$B46='DNSP Inputs General'!$A$42,S$7,IF('DNSP Inputs General'!$B46='DNSP Inputs General'!$A$43,S$8,S$9))*'DNSP Inputs General'!$D46","v":37.398663407216908},{"$f":"IF('DNSP Inputs General'!$B46='DNSP Inputs General'!$A$42,T$7,IF('DNSP Inputs General'!$B46='DNSP Inputs General'!$A$43,T$8,T$9))*'DNSP Inputs General'!$D46","v":38.570824121389684},null,0,7.1054273576010019E-15,7.1054273576010019E-15,0,7.1054273576010019E-15]
[{"$f":"'DNSP Inputs General'!A47","v":"Mercury Vapour 250W"},null,{"$f":"'DNSP Inputs General'!E47","v":110.37},{"$f":"IF('DNSP Inputs General'!$B47='DNSP Inputs General'!$A$42,D$7,IF('DNSP Inputs General'!$B47='DNSP Inputs General'!$A$43,D$8,D$9))*'DNSP Inputs General'!$D47","v":110.03352271763247},{"$f":"IF('DNSP Inputs General'!$B47='DNSP Inputs General'!$A$42,E$7,IF('DNSP Inputs General'!$B47='DNSP Inputs General'!$A$43,E$8,E$9))*'DNSP Inputs General'!$D47","v":112.69058311919208},{"$f":"IF('DNSP Inputs General'!$B47='DNSP Inputs General'!$A$42,F$7,IF('DNSP Inputs General'!$B47='DNSP Inputs General'!$A$43,F$8,F$9))*'DNSP Inputs General'!$D47","v":119.23948500781863},{"$f":"IF('DNSP Inputs General'!$B47='DNSP Inputs General'!$A$42,G$7,IF('DNSP Inputs General'!$B47='DNSP Inputs General'!$A$43,G$8,G$9))*'DNSP Inputs General'!$D47","v":124.35169258773395},{"$f":"IF('DNSP Inputs General'!$B47='DNSP Inputs General'!$A$42,H$7,IF('DNSP Inputs General'!$B47='DNSP Inputs General'!$A$43,H$8,H$9))*'DNSP Inputs General'!$D47","v":128.13102506862472},null,{"$f":"IF('DNSP Inputs General'!$B47='DNSP Inputs General'!$A$42,J$7,IF('DNSP Inputs General'!$B47='DNSP Inputs General'!$A$43,J$8,J$9))*'DNSP Inputs General'!$D47","v":77.248254536189165},{"$f":"IF('DNSP Inputs General'!$B47='DNSP Inputs General'!$A$42,K$7,IF('DNSP Inputs General'!$B47='DNSP Inputs General'!$A$43,K$8,K$9))*'DNSP Inputs General'!$D47","v":78.945479870439968},{"$f":"IF('DNSP Inputs General'!$B47='DNSP Inputs General'!$A$42,L$7,IF('DNSP Inputs General'!$B47='DNSP Inputs General'!$A$43,L$8,L$9))*'DNSP Inputs General'!$D47","v":80.77400829643291},{"$f":"IF('DNSP Inputs General'!$B47='DNSP Inputs General'!$A$42,M$7,IF('DNSP Inputs General'!$B47='DNSP Inputs General'!$A$43,M$8,M$9))*'DNSP Inputs General'!$D47","v":82.88349545678922},{"$f":"IF('DNSP Inputs General'!$B47='DNSP Inputs General'!$A$42,N$7,IF('DNSP Inputs General'!$B47='DNSP Inputs General'!$A$43,N$8,N$9))*'DNSP Inputs General'!$D47","v":85.398001944461427},null,{"$f":"IF('DNSP Inputs General'!$B47='DNSP Inputs General'!$A$42,P$7,IF('DNSP Inputs General'!$B47='DNSP Inputs General'!$A$43,P$8,P$9))*'DNSP Inputs General'!$D47","v":32.785268181443307},{"$f":"IF('DNSP Inputs General'!$B47='DNSP Inputs General'!$A$42,Q$7,IF('DNSP Inputs General'!$B47='DNSP Inputs General'!$A$43,Q$8,Q$9))*'DNSP Inputs General'!$D47","v":33.745103248752109},{"$f":"IF('DNSP Inputs General'!$B47='DNSP Inputs General'!$A$42,R$7,IF('DNSP Inputs General'!$B47='DNSP Inputs General'!$A$43,R$8,R$9))*'DNSP Inputs General'!$D47","v":38.465476711385726},{"$f":"IF('DNSP Inputs General'!$B47='DNSP Inputs General'!$A$42,S$7,IF('DNSP Inputs General'!$B47='DNSP Inputs General'!$A$43,S$8,S$9))*'DNSP Inputs General'!$D47","v":41.468197130944738},{"$f":"IF('DNSP Inputs General'!$B47='DNSP Inputs General'!$A$42,T$7,IF('DNSP Inputs General'!$B47='DNSP Inputs General'!$A$43,T$8,T$9))*'DNSP Inputs General'!$D47","v":42.733023124163303},null,7.1054273576010019E-15,7.1054273576010019E-15,7.1054273576010019E-15,7.1054273576010019E-15,7.1054273576010019E-15]
[{"$f":"'DNSP Inputs General'!A48","v":"Mercury Vapour 400W"},null,{"$f":"'DNSP Inputs General'!E48","v":114.58},{"$f":"IF('DNSP Inputs General'!$B48='DNSP Inputs General'!$A$42,D$7,IF('DNSP Inputs General'!$B48='DNSP Inputs General'!$A$43,D$8,D$9))*'DNSP Inputs General'!$D48","v":114.22527596401848},{"$f":"IF('DNSP Inputs General'!$B48='DNSP Inputs General'!$A$42,E$7,IF('DNSP Inputs General'!$B48='DNSP Inputs General'!$A$43,E$8,E$9))*'DNSP Inputs General'!$D48","v":116.98355771420893},{"$f":"IF('DNSP Inputs General'!$B48='DNSP Inputs General'!$A$42,F$7,IF('DNSP Inputs General'!$B48='DNSP Inputs General'!$A$43,F$8,F$9))*'DNSP Inputs General'!$D48","v":123.78194157954506},{"$f":"IF('DNSP Inputs General'!$B48='DNSP Inputs General'!$A$42,G$7,IF('DNSP Inputs General'!$B48='DNSP Inputs General'!$A$43,G$8,G$9))*'DNSP Inputs General'!$D48","v":129.08889992440953},{"$f":"IF('DNSP Inputs General'!$B48='DNSP Inputs General'!$A$42,H$7,IF('DNSP Inputs General'!$B48='DNSP Inputs General'!$A$43,H$8,H$9))*'DNSP Inputs General'!$D48","v":133.01220697600093},null,{"$f":"IF('DNSP Inputs General'!$B48='DNSP Inputs General'!$A$42,J$7,IF('DNSP Inputs General'!$B48='DNSP Inputs General'!$A$43,J$8,J$9))*'DNSP Inputs General'!$D48","v":80.191045185186852},{"$f":"IF('DNSP Inputs General'!$B48='DNSP Inputs General'!$A$42,K$7,IF('DNSP Inputs General'!$B48='DNSP Inputs General'!$A$43,K$8,K$9))*'DNSP Inputs General'!$D48","v":81.952926722647206},{"$f":"IF('DNSP Inputs General'!$B48='DNSP Inputs General'!$A$42,L$7,IF('DNSP Inputs General'!$B48='DNSP Inputs General'!$A$43,L$8,L$9))*'DNSP Inputs General'!$D48","v":83.851113374392256},{"$f":"IF('DNSP Inputs General'!$B48='DNSP Inputs General'!$A$42,M$7,IF('DNSP Inputs General'!$B48='DNSP Inputs General'!$A$43,M$8,M$9))*'DNSP Inputs General'!$D48","v":86.040961950381188},{"$f":"IF('DNSP Inputs General'!$B48='DNSP Inputs General'!$A$42,N$7,IF('DNSP Inputs General'!$B48='DNSP Inputs General'!$A$43,N$8,N$9))*'DNSP Inputs General'!$D48","v":88.651259161393298},null,{"$f":"IF('DNSP Inputs General'!$B48='DNSP Inputs General'!$A$42,P$7,IF('DNSP Inputs General'!$B48='DNSP Inputs General'!$A$43,P$8,P$9))*'DNSP Inputs General'!$D48","v":34.034230778831621},{"$f":"IF('DNSP Inputs General'!$B48='DNSP Inputs General'!$A$42,Q$7,IF('DNSP Inputs General'!$B48='DNSP Inputs General'!$A$43,Q$8,Q$9))*'DNSP Inputs General'!$D48","v":35.030630991561715},{"$f":"IF('DNSP Inputs General'!$B48='DNSP Inputs General'!$A$42,R$7,IF('DNSP Inputs General'!$B48='DNSP Inputs General'!$A$43,R$8,R$9))*'DNSP Inputs General'!$D48","v":39.9308282051528},{"$f":"IF('DNSP Inputs General'!$B48='DNSP Inputs General'!$A$42,S$7,IF('DNSP Inputs General'!$B48='DNSP Inputs General'!$A$43,S$8,S$9))*'DNSP Inputs General'!$D48","v":43.047937974028343},{"$f":"IF('DNSP Inputs General'!$B48='DNSP Inputs General'!$A$42,T$7,IF('DNSP Inputs General'!$B48='DNSP Inputs General'!$A$43,T$8,T$9))*'DNSP Inputs General'!$D48","v":44.36094781460762},null,7.1054273576010019E-15,7.1054273576010019E-15,7.1054273576010019E-15,0,7.1054273576010019E-15]
[{"$f":"'DNSP Inputs General'!A49","v":"HP Sodium 100W"},null,{"$f":"'DNSP Inputs General'!E49","v":111.36},{"$f":"IF('DNSP Inputs General'!$B49='DNSP Inputs General'!$A$42,D$7,IF('DNSP Inputs General'!$B49='DNSP Inputs General'!$A$43,D$8,D$9))*'DNSP Inputs General'!$D49","v":110.26468186355032},{"$f":"IF('DNSP Inputs General'!$B49='DNSP Inputs General'!$A$42,E$7,IF('DNSP Inputs General'!$B49='DNSP Inputs General'!$A$43,E$8,E$9))*'DNSP Inputs General'!$D49","v":112.93092680158716},{"$f":"IF('DNSP Inputs General'!$B49='DNSP Inputs General'!$A$42,F$7,IF('DNSP Inputs General'!$B49='DNSP Inputs General'!$A$43,F$8,F$9))*'DNSP Inputs General'!$D49","v":119.33142727388966},{"$f":"IF('DNSP Inputs General'!$B49='DNSP Inputs General'!$A$42,G$7,IF('DNSP Inputs General'!$B49='DNSP Inputs General'!$A$43,G$8,G$9))*'DNSP Inputs General'!$D49","v":124.43660356262916},{"$f":"IF('DNSP Inputs General'!$B49='DNSP Inputs General'!$A$42,H$7,IF('DNSP Inputs General'!$B49='DNSP Inputs General'!$A$43,H$8,H$9))*'DNSP Inputs General'!$D49","v":128.22186943125615},null,{"$f":"IF('DNSP Inputs General'!$B49='DNSP Inputs General'!$A$42,J$7,IF('DNSP Inputs General'!$B49='DNSP Inputs General'!$A$43,J$8,J$9))*'DNSP Inputs General'!$D49","v":77.285782830351522},{"$f":"IF('DNSP Inputs General'!$B49='DNSP Inputs General'!$A$42,K$7,IF('DNSP Inputs General'!$B49='DNSP Inputs General'!$A$43,K$8,K$9))*'DNSP Inputs General'!$D49","v":78.983143951906214},{"$f":"IF('DNSP Inputs General'!$B49='DNSP Inputs General'!$A$42,L$7,IF('DNSP Inputs General'!$B49='DNSP Inputs General'!$A$43,L$8,L$9))*'DNSP Inputs General'!$D49","v":80.812242695624775},{"$f":"IF('DNSP Inputs General'!$B49='DNSP Inputs General'!$A$42,M$7,IF('DNSP Inputs General'!$B49='DNSP Inputs General'!$A$43,M$8,M$9))*'DNSP Inputs General'!$D49","v":82.92344331088492},{"$f":"IF('DNSP Inputs General'!$B49='DNSP Inputs General'!$A$42,N$7,IF('DNSP Inputs General'!$B49='DNSP Inputs General'!$A$43,N$8,N$9))*'DNSP Inputs General'!$D49","v":85.441377278744497},null,{"$f":"IF('DNSP Inputs General'!$B49='DNSP Inputs General'!$A$42,P$7,IF('DNSP Inputs General'!$B49='DNSP Inputs General'!$A$43,P$8,P$9))*'DNSP Inputs General'!$D49","v":32.9788990331988},{"$f":"IF('DNSP Inputs General'!$B49='DNSP Inputs General'!$A$42,Q$7,IF('DNSP Inputs General'!$B49='DNSP Inputs General'!$A$43,Q$8,Q$9))*'DNSP Inputs General'!$D49","v":33.947782849680941},{"$f":"IF('DNSP Inputs General'!$B49='DNSP Inputs General'!$A$42,R$7,IF('DNSP Inputs General'!$B49='DNSP Inputs General'!$A$43,R$8,R$9))*'DNSP Inputs General'!$D49","v":38.519184578264891},{"$f":"IF('DNSP Inputs General'!$B49='DNSP Inputs General'!$A$42,S$7,IF('DNSP Inputs General'!$B49='DNSP Inputs General'!$A$43,S$8,S$9))*'DNSP Inputs General'!$D49","v":41.513160251744239},{"$f":"IF('DNSP Inputs General'!$B49='DNSP Inputs General'!$A$42,T$7,IF('DNSP Inputs General'!$B49='DNSP Inputs General'!$A$43,T$8,T$9))*'DNSP Inputs General'!$D49","v":42.780492152511648},null,0,7.1054273576010019E-15,7.1054273576010019E-15,0,7.1054273576010019E-15]
[{"$f":"'DNSP Inputs General'!A50","v":"HP Sodium 400W"},null,{"$f":"'DNSP Inputs General'!E50","v":149.26},{"$f":"IF('DNSP Inputs General'!$B50='DNSP Inputs General'!$A$42,D$7,IF('DNSP Inputs General'!$B50='DNSP Inputs General'!$A$43,D$8,D$9))*'DNSP Inputs General'!$D50","v":148.80724024670295},{"$f":"IF('DNSP Inputs General'!$B50='DNSP Inputs General'!$A$42,E$7,IF('DNSP Inputs General'!$B50='DNSP Inputs General'!$A$43,E$8,E$9))*'DNSP Inputs General'!$D50","v":152.40059812309784},{"$f":"IF('DNSP Inputs General'!$B50='DNSP Inputs General'!$A$42,F$7,IF('DNSP Inputs General'!$B50='DNSP Inputs General'!$A$43,F$8,F$9))*'DNSP Inputs General'!$D50","v":161.25720829628804},{"$f":"IF('DNSP Inputs General'!$B50='DNSP Inputs General'!$A$42,G$7,IF('DNSP Inputs General'!$B50='DNSP Inputs General'!$A$43,G$8,G$9))*'DNSP Inputs General'!$D50","v":168.17086045198306},{"$f":"IF('DNSP Inputs General'!$B50='DNSP Inputs General'!$A$42,H$7,IF('DNSP Inputs General'!$B50='DNSP Inputs General'!$A$43,H$8,H$9))*'DNSP Inputs General'!$D50","v":173.2819577118544},null,{"$f":"IF('DNSP Inputs General'!$B50='DNSP Inputs General'!$A$42,J$7,IF('DNSP Inputs General'!$B50='DNSP Inputs General'!$A$43,J$8,J$9))*'DNSP Inputs General'!$D50","v":104.46906803941772},{"$f":"IF('DNSP Inputs General'!$B50='DNSP Inputs General'!$A$42,K$7,IF('DNSP Inputs General'!$B50='DNSP Inputs General'!$A$43,K$8,K$9))*'DNSP Inputs General'!$D50","v":106.7643632533569},{"$f":"IF('DNSP Inputs General'!$B50='DNSP Inputs General'!$A$42,L$7,IF('DNSP Inputs General'!$B50='DNSP Inputs General'!$A$43,L$8,L$9))*'DNSP Inputs General'!$D50","v":109.23723026755687},{"$f":"IF('DNSP Inputs General'!$B50='DNSP Inputs General'!$A$42,M$7,IF('DNSP Inputs General'!$B50='DNSP Inputs General'!$A$43,M$8,M$9))*'DNSP Inputs General'!$D50","v":112.09006052251493},{"$f":"IF('DNSP Inputs General'!$B50='DNSP Inputs General'!$A$42,N$7,IF('DNSP Inputs General'!$B50='DNSP Inputs General'!$A$43,N$8,N$9))*'DNSP Inputs General'!$D50","v":115.49063120108116},null,{"$f":"IF('DNSP Inputs General'!$B50='DNSP Inputs General'!$A$42,P$7,IF('DNSP Inputs General'!$B50='DNSP Inputs General'!$A$43,P$8,P$9))*'DNSP Inputs General'!$D50","v":44.338172207285226},{"$f":"IF('DNSP Inputs General'!$B50='DNSP Inputs General'!$A$42,Q$7,IF('DNSP Inputs General'!$B50='DNSP Inputs General'!$A$43,Q$8,Q$9))*'DNSP Inputs General'!$D50","v":45.636234869740946},{"$f":"IF('DNSP Inputs General'!$B50='DNSP Inputs General'!$A$42,R$7,IF('DNSP Inputs General'!$B50='DNSP Inputs General'!$A$43,R$8,R$9))*'DNSP Inputs General'!$D50","v":52.019978028731167},{"$f":"IF('DNSP Inputs General'!$B50='DNSP Inputs General'!$A$42,S$7,IF('DNSP Inputs General'!$B50='DNSP Inputs General'!$A$43,S$8,S$9))*'DNSP Inputs General'!$D50","v":56.080799929468114},{"$f":"IF('DNSP Inputs General'!$B50='DNSP Inputs General'!$A$42,T$7,IF('DNSP Inputs General'!$B50='DNSP Inputs General'!$A$43,T$8,T$9))*'DNSP Inputs General'!$D50","v":57.791326510773217},null,0,1.4210854715202004E-14,7.1054273576010019E-15,1.4210854715202004E-14,2.8421709430404007E-14]
[{"$f":"'DNSP Inputs General'!A51","v":"Metal Halide 70W"},null,{"$f":"'DNSP Inputs General'!E51","v":191.93},{"$f":"IF('DNSP Inputs General'!$B51='DNSP Inputs General'!$A$42,D$7,IF('DNSP Inputs General'!$B51='DNSP Inputs General'!$A$43,D$8,D$9))*'DNSP Inputs General'!$D51","v":227.90844858310308},{"$f":"IF('DNSP Inputs General'!$B51='DNSP Inputs General'!$A$42,E$7,IF('DNSP Inputs General'!$B51='DNSP Inputs General'!$A$43,E$8,E$9))*'DNSP Inputs General'!$D51","v":233.94546387775227},{"$f":"IF('DNSP Inputs General'!$B51='DNSP Inputs General'!$A$42,F$7,IF('DNSP Inputs General'!$B51='DNSP Inputs General'!$A$43,F$8,F$9))*'DNSP Inputs General'!$D51","v":217.11958359803259},{"$f":"IF('DNSP Inputs General'!$B51='DNSP Inputs General'!$A$42,G$7,IF('DNSP Inputs General'!$B51='DNSP Inputs General'!$A$43,G$8,G$9))*'DNSP Inputs General'!$D51","v":227.03726607792939},{"$f":"IF('DNSP Inputs General'!$B51='DNSP Inputs General'!$A$42,H$7,IF('DNSP Inputs General'!$B51='DNSP Inputs General'!$A$43,H$8,H$9))*'DNSP Inputs General'!$D51","v":233.82063726769312},null,{"$f":"IF('DNSP Inputs General'!$B51='DNSP Inputs General'!$A$42,J$7,IF('DNSP Inputs General'!$B51='DNSP Inputs General'!$A$43,J$8,J$9))*'DNSP Inputs General'!$D51","v":108.16361994933341},{"$f":"IF('DNSP Inputs General'!$B51='DNSP Inputs General'!$A$42,K$7,IF('DNSP Inputs General'!$B51='DNSP Inputs General'!$A$43,K$8,K$9))*'DNSP Inputs General'!$D51","v":110.56509293445794},{"$f":"IF('DNSP Inputs General'!$B51='DNSP Inputs General'!$A$42,L$7,IF('DNSP Inputs General'!$B51='DNSP Inputs General'!$A$43,L$8,L$9))*'DNSP Inputs General'!$D51","v":113.11900429831296},{"$f":"IF('DNSP Inputs General'!$B51='DNSP Inputs General'!$A$42,M$7,IF('DNSP Inputs General'!$B51='DNSP Inputs General'!$A$43,M$8,M$9))*'DNSP Inputs General'!$D51","v":115.98344432776778},{"$f":"IF('DNSP Inputs General'!$B51='DNSP Inputs General'!$A$42,N$7,IF('DNSP Inputs General'!$B51='DNSP Inputs General'!$A$43,N$8,N$9))*'DNSP Inputs General'!$D51","v":119.28613157979575},null,{"$f":"IF('DNSP Inputs General'!$B51='DNSP Inputs General'!$A$42,P$7,IF('DNSP Inputs General'!$B51='DNSP Inputs General'!$A$43,P$8,P$9))*'DNSP Inputs General'!$D51","v":119.74482863376967},{"$f":"IF('DNSP Inputs General'!$B51='DNSP Inputs General'!$A$42,Q$7,IF('DNSP Inputs General'!$B51='DNSP Inputs General'!$A$43,Q$8,Q$9))*'DNSP Inputs General'!$D51","v":123.38037094329435},{"$f":"IF('DNSP Inputs General'!$B51='DNSP Inputs General'!$A$42,R$7,IF('DNSP Inputs General'!$B51='DNSP Inputs General'!$A$43,R$8,R$9))*'DNSP Inputs General'!$D51","v":104.00057929971962},{"$f":"IF('DNSP Inputs General'!$B51='DNSP Inputs General'!$A$42,S$7,IF('DNSP Inputs General'!$B51='DNSP Inputs General'!$A$43,S$8,S$9))*'DNSP Inputs General'!$D51","v":111.05382175016159},{"$f":"IF('DNSP Inputs General'!$B51='DNSP Inputs General'!$A$42,T$7,IF('DNSP Inputs General'!$B51='DNSP Inputs General'!$A$43,T$8,T$9))*'DNSP Inputs General'!$D51","v":114.53450568789735},null,0,1.4210854715202004E-14,1.4210854715202004E-14,1.4210854715202004E-14,1.4210854715202004E-14]
[{"$f":"'DNSP Inputs General'!A52","v":"Metal Halide 100W"},null,{"$f":"'DNSP Inputs General'!E52","v":248.49},{"$f":"IF('DNSP Inputs General'!$B52='DNSP Inputs General'!$A$42,D$7,IF('DNSP Inputs General'!$B52='DNSP Inputs General'!$A$43,D$8,D$9))*'DNSP Inputs General'!$D52","v":246.05399779043424},{"$f":"IF('DNSP Inputs General'!$B52='DNSP Inputs General'!$A$42,E$7,IF('DNSP Inputs General'!$B52='DNSP Inputs General'!$A$43,E$8,E$9))*'DNSP Inputs General'!$D52","v":252.00368371891952},{"$f":"IF('DNSP Inputs General'!$B52='DNSP Inputs General'!$A$42,F$7,IF('DNSP Inputs General'!$B52='DNSP Inputs General'!$A$43,F$8,F$9))*'DNSP Inputs General'!$D52","v":266.28630533858239},{"$f":"IF('DNSP Inputs General'!$B52='DNSP Inputs General'!$A$42,G$7,IF('DNSP Inputs General'!$B52='DNSP Inputs General'!$A$43,G$8,G$9))*'DNSP Inputs General'!$D52","v":277.67843030588369},{"$f":"IF('DNSP Inputs General'!$B52='DNSP Inputs General'!$A$42,H$7,IF('DNSP Inputs General'!$B52='DNSP Inputs General'!$A$43,H$8,H$9))*'DNSP Inputs General'!$D52","v":286.12519479959451},null,{"$f":"IF('DNSP Inputs General'!$B52='DNSP Inputs General'!$A$42,J$7,IF('DNSP Inputs General'!$B52='DNSP Inputs General'!$A$43,J$8,J$9))*'DNSP Inputs General'!$D52","v":172.46207503961864},{"$f":"IF('DNSP Inputs General'!$B52='DNSP Inputs General'!$A$42,K$7,IF('DNSP Inputs General'!$B52='DNSP Inputs General'!$A$43,K$8,K$9))*'DNSP Inputs General'!$D52","v":176.24971114026425},{"$f":"IF('DNSP Inputs General'!$B52='DNSP Inputs General'!$A$42,L$7,IF('DNSP Inputs General'!$B52='DNSP Inputs General'!$A$43,L$8,L$9))*'DNSP Inputs General'!$D52","v":180.3313177856482},{"$f":"IF('DNSP Inputs General'!$B52='DNSP Inputs General'!$A$42,M$7,IF('DNSP Inputs General'!$B52='DNSP Inputs General'!$A$43,M$8,M$9))*'DNSP Inputs General'!$D52","v":185.04243056213281},{"$f":"IF('DNSP Inputs General'!$B52='DNSP Inputs General'!$A$42,N$7,IF('DNSP Inputs General'!$B52='DNSP Inputs General'!$A$43,N$8,N$9))*'DNSP Inputs General'!$D52","v":190.66116276625647},null,{"$f":"IF('DNSP Inputs General'!$B52='DNSP Inputs General'!$A$42,P$7,IF('DNSP Inputs General'!$B52='DNSP Inputs General'!$A$43,P$8,P$9))*'DNSP Inputs General'!$D52","v":73.591922750815584},{"$f":"IF('DNSP Inputs General'!$B52='DNSP Inputs General'!$A$42,Q$7,IF('DNSP Inputs General'!$B52='DNSP Inputs General'!$A$43,Q$8,Q$9))*'DNSP Inputs General'!$D52","v":75.753972578655251},{"$f":"IF('DNSP Inputs General'!$B52='DNSP Inputs General'!$A$42,R$7,IF('DNSP Inputs General'!$B52='DNSP Inputs General'!$A$43,R$8,R$9))*'DNSP Inputs General'!$D52","v":85.954987552934199},{"$f":"IF('DNSP Inputs General'!$B52='DNSP Inputs General'!$A$42,S$7,IF('DNSP Inputs General'!$B52='DNSP Inputs General'!$A$43,S$8,S$9))*'DNSP Inputs General'!$D52","v":92.635999743750872},{"$f":"IF('DNSP Inputs General'!$B52='DNSP Inputs General'!$A$42,T$7,IF('DNSP Inputs General'!$B52='DNSP Inputs General'!$A$43,T$8,T$9))*'DNSP Inputs General'!$D52","v":95.464032033337986},null,1.4210854715202004E-14,1.4210854715202004E-14,0,1.4210854715202004E-14,5.6843418860808015E-14]
[{"$f":"'DNSP Inputs General'!A53","v":"Metal Halide 150W"},null,{"$f":"'DNSP Inputs General'!E53","v":282.31},{"$f":"IF('DNSP Inputs General'!$B53='DNSP Inputs General'!$A$42,D$7,IF('DNSP Inputs General'!$B53='DNSP Inputs General'!$A$43,D$8,D$9))*'DNSP Inputs General'!$D53","v":279.53506733876009},{"$f":"IF('DNSP Inputs General'!$B53='DNSP Inputs General'!$A$42,E$7,IF('DNSP Inputs General'!$B53='DNSP Inputs General'!$A$43,E$8,E$9))*'DNSP Inputs General'!$D53","v":286.29433917176692},{"$f":"IF('DNSP Inputs General'!$B53='DNSP Inputs General'!$A$42,F$7,IF('DNSP Inputs General'!$B53='DNSP Inputs General'!$A$43,F$8,F$9))*'DNSP Inputs General'!$D53","v":302.52042625866289},{"$f":"IF('DNSP Inputs General'!$B53='DNSP Inputs General'!$A$42,G$7,IF('DNSP Inputs General'!$B53='DNSP Inputs General'!$A$43,G$8,G$9))*'DNSP Inputs General'!$D53","v":315.46270091570136},{"$f":"IF('DNSP Inputs General'!$B53='DNSP Inputs General'!$A$42,H$7,IF('DNSP Inputs General'!$B53='DNSP Inputs General'!$A$43,H$8,H$9))*'DNSP Inputs General'!$D53","v":325.0588338895501},null,{"$f":"IF('DNSP Inputs General'!$B53='DNSP Inputs General'!$A$42,J$7,IF('DNSP Inputs General'!$B53='DNSP Inputs General'!$A$43,J$8,J$9))*'DNSP Inputs General'!$D53","v":195.92934149617912},{"$f":"IF('DNSP Inputs General'!$B53='DNSP Inputs General'!$A$42,K$7,IF('DNSP Inputs General'!$B53='DNSP Inputs General'!$A$43,K$8,K$9))*'DNSP Inputs General'!$D53","v":200.23236896964639},{"$f":"IF('DNSP Inputs General'!$B53='DNSP Inputs General'!$A$42,L$7,IF('DNSP Inputs General'!$B53='DNSP Inputs General'!$A$43,L$8,L$9))*'DNSP Inputs General'!$D53","v":204.86936815971637},{"$f":"IF('DNSP Inputs General'!$B53='DNSP Inputs General'!$A$42,M$7,IF('DNSP Inputs General'!$B53='DNSP Inputs General'!$A$43,M$8,M$9))*'DNSP Inputs General'!$D53","v":210.22153166464244},{"$f":"IF('DNSP Inputs General'!$B53='DNSP Inputs General'!$A$42,N$7,IF('DNSP Inputs General'!$B53='DNSP Inputs General'!$A$43,N$8,N$9))*'DNSP Inputs General'!$D53","v":216.60481622470834},null,{"$f":"IF('DNSP Inputs General'!$B53='DNSP Inputs General'!$A$42,P$7,IF('DNSP Inputs General'!$B53='DNSP Inputs General'!$A$43,P$8,P$9))*'DNSP Inputs General'!$D53","v":83.605725842580938},{"$f":"IF('DNSP Inputs General'!$B53='DNSP Inputs General'!$A$42,Q$7,IF('DNSP Inputs General'!$B53='DNSP Inputs General'!$A$43,Q$8,Q$9))*'DNSP Inputs General'!$D53","v":86.06197020212052},{"$f":"IF('DNSP Inputs General'!$B53='DNSP Inputs General'!$A$42,R$7,IF('DNSP Inputs General'!$B53='DNSP Inputs General'!$A$43,R$8,R$9))*'DNSP Inputs General'!$D53","v":97.651058098946493},{"$f":"IF('DNSP Inputs General'!$B53='DNSP Inputs General'!$A$42,S$7,IF('DNSP Inputs General'!$B53='DNSP Inputs General'!$A$43,S$8,S$9))*'DNSP Inputs General'!$D53","v":105.24116925105889},{"$f":"IF('DNSP Inputs General'!$B53='DNSP Inputs General'!$A$42,T$7,IF('DNSP Inputs General'!$B53='DNSP Inputs General'!$A$43,T$8,T$9))*'DNSP Inputs General'!$D53","v":108.45401766484174},null,2.8421709430404007E-14,1.4210854715202004E-14,2.8421709430404007E-14,2.8421709430404007E-14,1.4210854715202004E-14]
[{"$f":"'DNSP Inputs General'!A54","v":"HP Sodium 50W"},null,{"$f":"'DNSP Inputs General'!E54","v":46.14},{"$f":"IF('DNSP Inputs General'!$B54='DNSP Inputs General'!$A$42,D$7,IF('DNSP Inputs General'!$B54='DNSP Inputs General'!$A$43,D$8,D$9))*'DNSP Inputs General'!$D54","v":45.687198856573445},{"$f":"IF('DNSP Inputs General'!$B54='DNSP Inputs General'!$A$42,E$7,IF('DNSP Inputs General'!$B54='DNSP Inputs General'!$A$43,E$8,E$9))*'DNSP Inputs General'!$D54","v":46.791933941513534},{"$f":"IF('DNSP Inputs General'!$B54='DNSP Inputs General'!$A$42,F$7,IF('DNSP Inputs General'!$B54='DNSP Inputs General'!$A$43,F$8,F$9))*'DNSP Inputs General'!$D54","v":49.44392488655194},{"$f":"IF('DNSP Inputs General'!$B54='DNSP Inputs General'!$A$42,G$7,IF('DNSP Inputs General'!$B54='DNSP Inputs General'!$A$43,G$8,G$9))*'DNSP Inputs General'!$D54","v":51.559209675475877},{"$f":"IF('DNSP Inputs General'!$B54='DNSP Inputs General'!$A$42,H$7,IF('DNSP Inputs General'!$B54='DNSP Inputs General'!$A$43,H$8,H$9))*'DNSP Inputs General'!$D54","v":53.127601217918894},null,{"$f":"IF('DNSP Inputs General'!$B54='DNSP Inputs General'!$A$42,J$7,IF('DNSP Inputs General'!$B54='DNSP Inputs General'!$A$43,J$8,J$9))*'DNSP Inputs General'!$D54","v":32.022682778205485},{"$f":"IF('DNSP Inputs General'!$B54='DNSP Inputs General'!$A$42,K$7,IF('DNSP Inputs General'!$B54='DNSP Inputs General'!$A$43,K$8,K$9))*'DNSP Inputs General'!$D54","v":32.725969395291528},{"$f":"IF('DNSP Inputs General'!$B54='DNSP Inputs General'!$A$42,L$7,IF('DNSP Inputs General'!$B54='DNSP Inputs General'!$A$43,L$8,L$9))*'DNSP Inputs General'!$D54","v":33.483840334746013},{"$f":"IF('DNSP Inputs General'!$B54='DNSP Inputs General'!$A$42,M$7,IF('DNSP Inputs General'!$B54='DNSP Inputs General'!$A$43,M$8,M$9))*'DNSP Inputs General'!$D54","v":34.35859769771443},{"$f":"IF('DNSP Inputs General'!$B54='DNSP Inputs General'!$A$42,N$7,IF('DNSP Inputs General'!$B54='DNSP Inputs General'!$A$43,N$8,N$9))*'DNSP Inputs General'!$D54","v":35.401881439644391},null,{"$f":"IF('DNSP Inputs General'!$B54='DNSP Inputs General'!$A$42,P$7,IF('DNSP Inputs General'!$B54='DNSP Inputs General'!$A$43,P$8,P$9))*'DNSP Inputs General'!$D54","v":13.664516078367958},{"$f":"IF('DNSP Inputs General'!$B54='DNSP Inputs General'!$A$42,Q$7,IF('DNSP Inputs General'!$B54='DNSP Inputs General'!$A$43,Q$8,Q$9))*'DNSP Inputs General'!$D54","v":14.065964546221998},{"$f":"IF('DNSP Inputs General'!$B54='DNSP Inputs General'!$A$42,R$7,IF('DNSP Inputs General'!$B54='DNSP Inputs General'!$A$43,R$8,R$9))*'DNSP Inputs General'!$D54","v":15.960084551805929},{"$f":"IF('DNSP Inputs General'!$B54='DNSP Inputs General'!$A$42,S$7,IF('DNSP Inputs General'!$B54='DNSP Inputs General'!$A$43,S$8,S$9))*'DNSP Inputs General'!$D54","v":17.200611977761451},{"$f":"IF('DNSP Inputs General'!$B54='DNSP Inputs General'!$A$42,T$7,IF('DNSP Inputs General'!$B54='DNSP Inputs General'!$A$43,T$8,T$9))*'DNSP Inputs General'!$D54","v":17.725719778274499},null,1.7763568394002505E-15,7.1054273576010019E-15,1.7763568394002505E-15,3.5527136788005009E-15,3.5527136788005009E-15]
[]
[]
[{"$f":"'DNSP Inputs General'!A$68","v":"Energy Efficient Lights"}]
[{"$f":"'DNSP Inputs General'!A69","v":"T5 2X14W"},null,{"$f":"'DNSP Inputs General'!E69","v":35.6},{"$f":"'Charges Summary'!D$89","v":45.862031652642571},{"$f":"'Charges Summary'!E$89","v":47.51958221149895},{"$f":"'Charges Summary'!F$89","v":49.109241124704781},{"$f":"'Charges Summary'!G$89","v":50.740963996647409},{"$f":"'Charges Summary'!H$89","v":52.487179283869708},null,{"$f":"SUM('Charges Summary'!D83,'Charges Summary'!D8)","v":29.40602585689383},{"$f":"SUM('Charges Summary'!E83,'Charges Summary'!E8)","v":30.055441256511877},{"$f":"SUM('Charges Summary'!F83,'Charges Summary'!F8)","v":30.74958306628584},{"$f":"SUM('Charges Summary'!G83,'Charges Summary'!G8)","v":31.536871305808546},{"$f":"SUM('Charges Summary'!H83,'Charges Summary'!H8)","v":32.456766298798591},null,{"$f":"SUM('Charges Summary'!D85,'Charges Summary'!D11)","v":16.456005795748744},{"$f":"SUM('Charges Summary'!E85,'Charges Summary'!E11)","v":17.464140954987073},{"$f":"SUM('Charges Summary'!F85,'Charges Summary'!F11)","v":18.359658058418937},{"$f":"SUM('Charges Summary'!G85,'Charges Summary'!G11)","v":19.204092690838859},{"$f":"SUM('Charges Summary'!H85,'Charges Summary'!H11)","v":20.03041298507112},null,{"$f":"ABS(D23-J23-P23)","v":3.5527136788005009E-15},{"$f":"ABS(E23-K23-Q23)","v":0},{"$f":"ABS(F23-L23-R23)","v":3.5527136788005009E-15},{"$f":"ABS(G23-M23-S23)","v":3.5527136788005009E-15},{"$f":"ABS(H23-N23-T23)","v":3.5527136788005009E-15}]
[{"$f":"'DNSP Inputs General'!A70","v":"T5 2X24W"},null,{"$f":"'DNSP Inputs General'!E70","v":42.08},{"$f":"'Charges Summary'!D$105","v":48.929410930041833},{"$f":"'Charges Summary'!E$105","v":50.665749091814533},{"$f":"'Charges Summary'!F$105","v":52.336586494717551},{"$f":"'Charges Summary'!G$105","v":54.059055119004015},{"$f":"'Charges Summary'!H$105","v":55.911309403370161},null,{"$f":"SUM('Charges Summary'!D99,'Charges Summary'!D8)","v":32.319089519765079},{"$f":"SUM('Charges Summary'!E99,'Charges Summary'!E8)","v":33.032866127223329},{"$f":"SUM('Charges Summary'!F99,'Charges Summary'!F8)","v":33.796274688137089},{"$f":"SUM('Charges Summary'!G99,'Charges Summary'!G8)","v":34.663280177172176},{"$f":"SUM('Charges Summary'!H99,'Charges Summary'!H8)","v":35.677980308871234},null,{"$f":"SUM('Charges Summary'!D101,'Charges Summary'!D11)","v":16.610321410276754},{"$f":"SUM('Charges Summary'!E101,'Charges Summary'!E11)","v":17.6328829645912},{"$f":"SUM('Charges Summary'!F101,'Charges Summary'!F11)","v":18.540311806580455},{"$f":"SUM('Charges Summary'!G101,'Charges Summary'!G11)","v":19.395774941831839},{"$f":"SUM('Charges Summary'!H101,'Charges Summary'!H11)","v":20.233329094498927},null,0,3.5527136788005009E-15,7.1054273576010019E-15,0,0]
[{"$f":"'DNSP Inputs General'!A71","v":"LED 18W"},null,{"$f":"'DNSP Inputs General'!E71","v":16.27},{"$f":"'Charges Summary'!D$121","v":26.769047141543808},{"$f":"'Charges Summary'!E$121","v":27.917477316138172},{"$f":"'Charges Summary'!F$121","v":28.988226835046845},{"$f":"'Charges Summary'!G$121","v":30.045444762434713},{"$f":"'Charges Summary'!H$121","v":31.125411638908716},null,{"$f":"SUM('Charges Summary'!D115,'Charges Summary'!D8)","v":11.523050873611828},{"$f":"SUM('Charges Summary'!E115,'Charges Summary'!E8)","v":11.776465196742031},{"$f":"SUM('Charges Summary'!F115,'Charges Summary'!F8)","v":12.045099159375216},{"$f":"SUM('Charges Summary'!G115,'Charges Summary'!G8)","v":12.344358431154976},{"$f":"SUM('Charges Summary'!H115,'Charges Summary'!H8)","v":12.686091211166563},null,{"$f":"SUM('Charges Summary'!D117,'Charges Summary'!D11)","v":15.245996267931979},{"$f":"SUM('Charges Summary'!E117,'Charges Summary'!E11)","v":16.141012119396141},{"$f":"SUM('Charges Summary'!F117,'Charges Summary'!F11)","v":16.943127675671626},{"$f":"SUM('Charges Summary'!G117,'Charges Summary'!G11)","v":17.701086331279736},{"$f":"SUM('Charges Summary'!H117,'Charges Summary'!H11)","v":18.439320427742153},null,1.7763568394002505E-15,0,3.5527136788005009E-15,0,0]
[{"$f":"'DNSP Inputs General'!A72","v":"LED 14W"},null,{"$f":"'DNSP Inputs General'!E72","v":16.27},{"$f":"'Charges Summary'!D$137","v":27.954492656466854},{"$f":"'Charges Summary'!E$137","v":29.128599443450089},{"$f":"'Charges Summary'!F$137","v":30.227371423786213},{"$f":"'Charges Summary'!G$137","v":31.317803950434264},{"$f":"'Charges Summary'!H$137","v":32.438557206888717},null,{"$f":"SUM('Charges Summary'!D131,'Charges Summary'!D$8)","v":12.708496388534879},{"$f":"SUM('Charges Summary'!E131,'Charges Summary'!E$8)","v":12.987587324053948},{"$f":"SUM('Charges Summary'!F131,'Charges Summary'!F$8)","v":13.284243748114587},{"$f":"SUM('Charges Summary'!G131,'Charges Summary'!G$8)","v":13.616717619154528},{"$f":"SUM('Charges Summary'!H131,'Charges Summary'!H$8)","v":13.99923677914656},null,{"$f":"SUM('Charges Summary'!D133,'Charges Summary'!D$11)","v":15.245996267931977},{"$f":"SUM('Charges Summary'!E133,'Charges Summary'!E$11)","v":16.141012119396141},{"$f":"SUM('Charges Summary'!F133,'Charges Summary'!F$11)","v":16.943127675671626},{"$f":"SUM('Charges Summary'!G133,'Charges Summary'!G$11)","v":17.701086331279736},{"$f":"SUM('Charges Summary'!H133,'Charges Summary'!H$11)","v":18.439320427742153},null,{"$f":"ABS(D26-J26-P26)","v":1.7763568394002505E-15},{"$f":"ABS(E26-K26-Q26)","v":0},{"$f":"ABS(F26-L26-R26)","v":0},{"$f":"ABS(G26-M26-S26)","v":0},{"$f":"ABS(H26-N26-T26)","v":3.5527136788005009E-15}]
[{"$f":"'DNSP Inputs General'!A73","v":"LED 70W-125W (L1)"},null,{"$f":"'DNSP Inputs General'!E73","v":23.59},{"$f":"'Charges Summary'!D$153","v":36.554849904111308},{"$f":"'Charges Summary'!E$153","v":38.222802851775192},{"$f":"'Charges Summary'!F$153","v":39.755105155663259},{"$f":"'Charges Summary'!G$153","v":41.277108956905366},{"$f":"'Charges Summary'!H$153","v":42.868566641964094},null,{"$f":"SUM('Charges Summary'!D147,'Charges Summary'!D$8)","v":16.996771925254883},{"$f":"SUM('Charges Summary'!E147,'Charges Summary'!E$8)","v":17.366588478192838},{"$f":"SUM('Charges Summary'!F147,'Charges Summary'!F$8)","v":17.763922389520921},{"$f":"SUM('Charges Summary'!G147,'Charges Summary'!G$8)","v":18.219795186531066},{"$f":"SUM('Charges Summary'!H147,'Charges Summary'!H$8)","v":18.759108120991002},null,{"$f":"SUM('Charges Summary'!D149,'Charges Summary'!D$11)","v":19.558077978856431},{"$f":"SUM('Charges Summary'!E149,'Charges Summary'!E$11)","v":20.856214373582354},{"$f":"SUM('Charges Summary'!F149,'Charges Summary'!F$11)","v":21.99118276614233},{"$f":"SUM('Charges Summary'!G149,'Charges Summary'!G$11)","v":23.057313770374297},{"$f":"SUM('Charges Summary'!H149,'Charges Summary'!H$11)","v":24.109458520973089},null,7.1054273576010019E-15,0,7.1054273576010019E-15,3.5527136788005009E-15,3.5527136788005009E-15]
[{"$f":"'DNSP Inputs General'!A74","v":"LED 155W-250W (L2)"},null,{"$f":"'DNSP Inputs General'!E74","v":24.3},{"$f":"'Charges Summary'!D$169","v":37.102068395345377},{"$f":"'Charges Summary'!E$169","v":38.8211787723572},{"$f":"'Charges Summary'!F$169","v":40.395721283895575},{"$f":"'Charges Summary'!G$169","v":41.956833251206703},{"$f":"'Charges Summary'!H$169","v":43.58812731369391},null,{"$f":"SUM('Charges Summary'!D163,'Charges Summary'!D$8)","v":16.996771925254883},{"$f":"SUM('Charges Summary'!E163,'Charges Summary'!E$8)","v":17.366588478192838},{"$f":"SUM('Charges Summary'!F163,'Charges Summary'!F$8)","v":17.763922389520921},{"$f":"SUM('Charges Summary'!G163,'Charges Summary'!G$8)","v":18.219795186531066},{"$f":"SUM('Charges Summary'!H163,'Charges Summary'!H$8)","v":18.759108120991002},null,{"$f":"SUM('Charges Summary'!D165,'Charges Summary'!D$11)","v":20.105296470090494},{"$f":"SUM('Charges Summary'!E165,'Charges Summary'!E$11)","v":21.454590294164362},{"$f":"SUM('Charges Summary'!F165,'Charges Summary'!F$11)","v":22.631798894374654},{"$f":"SUM('Charges Summary'!G165,'Charges Summary'!G$11)","v":23.737038064675634},{"$f":"SUM('Charges Summary'!H165,'Charges Summary'!H$11)","v":24.829019192702905},null,0,0,0,3.5527136788005009E-15,3.5527136788005009E-15]
[{"$f":"'DNSP Inputs General'!A75","v":"LED 275W-400W (L4)"},null,{"$f":"'DNSP Inputs General'!E75","v":25.83},{"$f":"'Charges Summary'!D$185","v":50.883751953721479},{"$f":"'Charges Summary'!E$185","v":53.253370277446571},{"$f":"'Charges Summary'!F$185","v":55.41612889763806},{"$f":"'Charges Summary'!G$185","v":57.576277799841421},{"$f":"'Charges Summary'!H$185","v":59.869811232582123},null,{"$f":"SUM('Charges Summary'!D179,'Charges Summary'!D$8)","v":25.878004450931666},{"$f":"SUM('Charges Summary'!E179,'Charges Summary'!E$8)","v":26.440203939286224},{"$f":"SUM('Charges Summary'!F179,'Charges Summary'!F$8)","v":27.047484451717299},{"$f":"SUM('Charges Summary'!G179,'Charges Summary'!G$8)","v":27.752172734838432},{"$f":"SUM('Charges Summary'!H179,'Charges Summary'!H$8)","v":28.596982312404386},null,{"$f":"SUM('Charges Summary'!D181,'Charges Summary'!D$11)","v":25.005747502789816},{"$f":"SUM('Charges Summary'!E181,'Charges Summary'!E$11)","v":26.81316633816035},{"$f":"SUM('Charges Summary'!F181,'Charges Summary'!F$11)","v":28.368644445920754},{"$f":"SUM('Charges Summary'!G181,'Charges Summary'!G$11)","v":29.824105065002993},{"$f":"SUM('Charges Summary'!H181,'Charges Summary'!H$11)","v":31.272828920177737},null,3.5527136788005009E-15,3.5527136788005009E-15,7.1054273576010019E-15,3.5527136788005009E-15,0]
[{"$f":"'DNSP Inputs General'!A76","v":"Compact Fluorescent 32W"},null,{"$f":"'DNSP Inputs General'!E76","v":31.59},{"$f":"IF('DNSP Inputs General'!$B76='DNSP Inputs General'!$A$69,D$23,D$24)*'DNSP Inputs General'!$D76","v":40.34069673313634},{"$f":"IF('DNSP Inputs General'!$B76='DNSP Inputs General'!$A$69,E$23,E$24)*'DNSP Inputs General'!$D76","v":41.798694602073162},{"$f":"IF('DNSP Inputs General'!$B76='DNSP Inputs General'!$A$69,F$23,F$24)*'DNSP Inputs General'!$D76","v":43.196974307875692},{"$f":"IF('DNSP Inputs General'!$B76='DNSP Inputs General'!$A$69,G$23,G$24)*'DNSP Inputs General'!$D76","v":44.632253887902039},{"$f":"IF('DNSP Inputs General'!$B76='DNSP Inputs General'!$A$69,H$23,H$24)*'DNSP Inputs General'!$D76","v":46.168242129027909},null,{"$f":"IF('DNSP Inputs General'!$B76='DNSP Inputs General'!$A$69,J$23,J$24)*'DNSP Inputs General'!$D76","v":25.865831243683409},{"$f":"IF('DNSP Inputs General'!$B76='DNSP Inputs General'!$A$69,K$23,K$24)*'DNSP Inputs General'!$D76","v":26.437063453548031},{"$f":"IF('DNSP Inputs General'!$B76='DNSP Inputs General'!$A$69,L$23,L$24)*'DNSP Inputs General'!$D76","v":27.047637456243098},{"$f":"IF('DNSP Inputs General'!$B76='DNSP Inputs General'!$A$69,M$23,M$24)*'DNSP Inputs General'!$D76","v":27.740143979998905},{"$f":"IF('DNSP Inputs General'!$B76='DNSP Inputs General'!$A$69,N$23,N$24)*'DNSP Inputs General'!$D76","v":28.549292715920721},null,{"$f":"IF('DNSP Inputs General'!$B76='DNSP Inputs General'!$A$69,P$23,P$24)*'DNSP Inputs General'!$D76","v":14.474865489452934},{"$f":"IF('DNSP Inputs General'!$B76='DNSP Inputs General'!$A$69,Q$23,Q$24)*'DNSP Inputs General'!$D76","v":15.361631148525131},{"$f":"IF('DNSP Inputs General'!$B76='DNSP Inputs General'!$A$69,R$23,R$24)*'DNSP Inputs General'!$D76","v":16.149336851632594},{"$f":"IF('DNSP Inputs General'!$B76='DNSP Inputs General'!$A$69,S$23,S$24)*'DNSP Inputs General'!$D76","v":16.892109907903134},{"$f":"IF('DNSP Inputs General'!$B76='DNSP Inputs General'!$A$69,T$23,T$24)*'DNSP Inputs General'!$D76","v":17.618949413107192},null,3.5527136788005009E-15,0,0,0,3.5527136788005009E-15]
[{"$f":"'DNSP Inputs General'!A77","v":"Compact Fluorescent 42W"},null,{"$f":"'DNSP Inputs General'!E77","v":31.59},{"$f":"IF('DNSP Inputs General'!$B77='DNSP Inputs General'!$A$69,D$23,D$24)*'DNSP Inputs General'!$D77","v":40.34069673313634},{"$f":"IF('DNSP Inputs General'!$B77='DNSP Inputs General'!$A$69,E$23,E$24)*'DNSP Inputs General'!$D77","v":41.798694602073162},{"$f":"IF('DNSP Inputs General'!$B77='DNSP Inputs General'!$A$69,F$23,F$24)*'DNSP Inputs General'!$D77","v":43.196974307875692},{"$f":"IF('DNSP Inputs General'!$B77='DNSP Inputs General'!$A$69,G$23,G$24)*'DNSP Inputs General'!$D77","v":44.632253887902039},{"$f":"IF('DNSP Inputs General'!$B77='DNSP Inputs General'!$A$69,H$23,H$24)*'DNSP Inputs General'!$D77","v":46.168242129027909},null,{"$f":"IF('DNSP Inputs General'!$B77='DNSP Inputs General'!$A$69,J$23,J$24)*'DNSP Inputs General'!$D77","v":25.865831243683409},{"$f":"IF('DNSP Inputs General'!$B77='DNSP Inputs General'!$A$69,K$23,K$24)*'DNSP Inputs General'!$D77","v":26.437063453548031},{"$f":"IF('DNSP Inputs General'!$B77='DNSP Inputs General'!$A$69,L$23,L$24)*'DNSP Inputs General'!$D77","v":27.047637456243098},{"$f":"IF('DNSP Inputs General'!$B77='DNSP Inputs General'!$A$69,M$23,M$24)*'DNSP Inputs General'!$D77","v":27.740143979998905},{"$f":"IF('DNSP Inputs General'!$B77='DNSP Inputs General'!$A$69,N$23,N$24)*'DNSP Inputs General'!$D77","v":28.549292715920721},null,{"$f":"IF('DNSP Inputs General'!$B77='DNSP Inputs General'!$A$69,P$23,P$24)*'DNSP Inputs General'!$D77","v":14.474865489452934},{"$f":"IF('DNSP Inputs General'!$B77='DNSP Inputs General'!$A$69,Q$23,Q$24)*'DNSP Inputs General'!$D77","v":15.361631148525131},{"$f":"IF('DNSP Inputs General'!$B77='DNSP Inputs General'!$A$69,R$23,R$24)*'DNSP Inputs General'!$D77","v":16.149336851632594},{"$f":"IF('DNSP Inputs General'!$B77='DNSP Inputs General'!$A$69,S$23,S$24)*'DNSP Inputs General'!$D77","v":16.892109907903134},{"$f":"IF('DNSP Inputs General'!$B77='DNSP Inputs General'!$A$69,T$23,T$24)*'DNSP Inputs General'!$D77","v":17.618949413107192},null,3.5527136788005009E-15,0,0,0,3.5527136788005009E-15]
[]
[]
[null,null,null,{"$f":"'DNSP Inputs General'!$B$83","v":"North & East"}]
["Public Lighting Tariffs",null,"Total Tariff",null,null,null,null,null,null,"Operations, maintenance and repair Tariff",null,null,null,null,null,"Replacement Tariff",null,null,null,null,null,"Check"]
[null,null,"Actual"]
[{"$f":"'DNSP Inputs General'!A$85","v":"Existing Lights"},null,{"$f":"'DNSP Inputs General'!P$2","v":"HY2021"},{"$f":"'DNSP Inputs General'!Q$2","v":44742},{"$f":"'DNSP Inputs General'!R$2","v":45107},{"$f":"'DNSP Inputs General'!S$2","v":45473},{"$f":"'DNSP Inputs General'!T$2","v":45838},{"$f":"'DNSP Inputs General'!U$2","v":46203},null,{"$f":"D37","v":44742},{"$f":"E37","v":45107},45473,45838,46203,null,{"$f":"J37","v":44742},{"$f":"K37","v":45107},45473,45838,46203,null,{"$f":"P37","v":44742},{"$f":"Q37","v":45107},{"$f":"R37","v":45473},{"$f":"S37","v":45838},{"$f":"T37","v":46203}]
[{"$f":"'DNSP Inputs General'!A86","v":"Mercury Vapour 80W"},null,{"$f":"'DNSP Inputs General'!E86","v":49.95},{"$f":"'Charges Summary'!K$31","v":57.63853987319014},{"$f":"'Charges Summary'!L$31","v":59.139989813476816},{"$f":"'Charges Summary'!M$31","v":53.687930303254731},{"$f":"'Charges Summary'!N$31","v":56.058933552189409},{"$f":"'Charges Summary'!O$31","v":57.72709766440267},null,{"$f":"SUM('Charges Summary'!K25,'Charges Summary'!K8)","v":28.517194225412155},{"$f":"SUM('Charges Summary'!L25,'Charges Summary'!L8)","v":29.151822405425218},{"$f":"SUM('Charges Summary'!M25,'Charges Summary'!M8)","v":29.826385143487659},{"$f":"SUM('Charges Summary'!N25,'Charges Summary'!N8)","v":30.58205109258742},{"$f":"SUM('Charges Summary'!O25,'Charges Summary'!O8)","v":31.452223447635902},null,{"$f":"SUM('Charges Summary'!K27,'Charges Summary'!K11)","v":29.121345647777982},{"$f":"SUM('Charges Summary'!L27,'Charges Summary'!L11)","v":29.988167408051595},{"$f":"SUM('Charges Summary'!M27,'Charges Summary'!M11)","v":23.861545159767076},{"$f":"SUM('Charges Summary'!N27,'Charges Summary'!N11)","v":25.476882459601992},{"$f":"SUM('Charges Summary'!O27,'Charges Summary'!O11)","v":26.274874216766772},null,{"$f":"ABS(D38-J38-P38)","v":3.5527136788005009E-15},{"$f":"ABS(E38-K38-Q38)","v":3.5527136788005009E-15},{"$f":"ABS(F38-L38-R38)","v":3.5527136788005009E-15},{"$f":"ABS(G38-M38-S38)","v":3.5527136788005009E-15},{"$f":"ABS(H38-N38-T38)","v":3.5527136788005009E-15}]
[{"$f":"'DNSP Inputs General'!A87","v":"HP Sodium 150W"},null,{"$f":"'DNSP Inputs General'!E87","v":118.4},{"$f":"'Charges Summary'!K$55","v":121.12923907901242},{"$f":"'Charges Summary'!L$55","v":124.01368064851816},{"$f":"'Charges Summary'!M$55","v":128.83548846949304},{"$f":"'Charges Summary'!N$55","v":134.06360996665103},{"$f":"'Charges Summary'!O$55","v":138.15462878388973},null,{"$f":"SUM('Charges Summary'!K49,'Charges Summary'!K8)","v":88.751170154083781},{"$f":"SUM('Charges Summary'!L49,'Charges Summary'!L8)","v":90.69899310395391},{"$f":"SUM('Charges Summary'!M49,'Charges Summary'!M8)","v":92.800149025174335},{"$f":"SUM('Charges Summary'!N49,'Charges Summary'!N8)","v":95.230649101338614},{"$f":"SUM('Charges Summary'!O49,'Charges Summary'!O8)","v":98.136642065180581},null,{"$f":"SUM('Charges Summary'!K51,'Charges Summary'!K11)","v":32.378068924928627},{"$f":"SUM('Charges Summary'!L51,'Charges Summary'!L11)","v":33.314687544564251},{"$f":"SUM('Charges Summary'!M51,'Charges Summary'!M11)","v":36.035339444318687},{"$f":"SUM('Charges Summary'!N51,'Charges Summary'!N11)","v":38.832960865312423},{"$f":"SUM('Charges Summary'!O51,'Charges Summary'!O11)","v":40.017986718709139},null,{"$f":"ABS(D39-J39-P39)","v":1.4210854715202004E-14},0,2.1316282072803006E-14,7.1054273576010019E-15,1.4210854715202004E-14]
[{"$f":"'DNSP Inputs General'!A88","v":"HP Sodium 250W"},null,{"$f":"'DNSP Inputs General'!E88","v":117.12},{"$f":"'Charges Summary'!K$71","v":120.01767712092358},{"$f":"'Charges Summary'!L$71","v":122.99396231576304},{"$f":"'Charges Summary'!M$71","v":128.26090658191023},{"$f":"'Charges Summary'!N$71","v":133.51662090621585},{"$f":"'Charges Summary'!O$71","v":137.58345230911758},null,{"$f":"SUM('Charges Summary'!K65,'Charges Summary'!K8)","v":87.48063950122787},{"$f":"SUM('Charges Summary'!L65,'Charges Summary'!L8)","v":89.516899119595848},{"$f":"SUM('Charges Summary'!M65,'Charges Summary'!M8)","v":91.591017717026688},{"$f":"SUM('Charges Summary'!N65,'Charges Summary'!N8)","v":93.987484993480692},{"$f":"SUM('Charges Summary'!O65,'Charges Summary'!O8)","v":96.849116696133848},null,{"$f":"SUM('Charges Summary'!K67,'Charges Summary'!K11)","v":32.53703761969571},{"$f":"SUM('Charges Summary'!L67,'Charges Summary'!L11)","v":33.477063196167201},{"$f":"SUM('Charges Summary'!M67,'Charges Summary'!M11)","v":36.669888864883525},{"$f":"SUM('Charges Summary'!N67,'Charges Summary'!N11)","v":39.529135912735136},{"$f":"SUM('Charges Summary'!O67,'Charges Summary'!O11)","v":40.734335612983742},null,0,7.1054273576010019E-15,2.1316282072803006E-14,2.1316282072803006E-14,1.4210854715202004E-14]
[{"$f":"'DNSP Inputs General'!A89","v":"Mercury Vapour 50W"},null,{"$f":"'DNSP Inputs General'!E89","v":73.930000000000007},{"$f":"IF('DNSP Inputs General'!$B89='DNSP Inputs General'!$A$86,D$38,IF('DNSP Inputs General'!$B89='DNSP Inputs General'!$A$87,D$39,D$40))*'DNSP Inputs General'!$D89","v":85.305039012321402},{"$f":"IF('DNSP Inputs General'!$B89='DNSP Inputs General'!$A$86,E$38,IF('DNSP Inputs General'!$B89='DNSP Inputs General'!$A$87,E$39,E$40))*'DNSP Inputs General'!$D89","v":87.527184923945683},{"$f":"IF('DNSP Inputs General'!$B89='DNSP Inputs General'!$A$86,F$38,IF('DNSP Inputs General'!$B89='DNSP Inputs General'!$A$87,F$39,F$40))*'DNSP Inputs General'!$D89","v":79.458136848817006},{"$f":"IF('DNSP Inputs General'!$B89='DNSP Inputs General'!$A$86,G$38,IF('DNSP Inputs General'!$B89='DNSP Inputs General'!$A$87,G$39,G$40))*'DNSP Inputs General'!$D89","v":82.96722165724033},{"$f":"IF('DNSP Inputs General'!$B89='DNSP Inputs General'!$A$86,H$38,IF('DNSP Inputs General'!$B89='DNSP Inputs General'!$A$87,H$39,H$40))*'DNSP Inputs General'!$D89","v":85.436104543315949},null,{"$f":"IF('DNSP Inputs General'!$B89='DNSP Inputs General'!$A$86,J$38,IF('DNSP Inputs General'!$B89='DNSP Inputs General'!$A$87,J$39,J$40))*'DNSP Inputs General'!$D89","v":42.205447453609992},{"$f":"IF('DNSP Inputs General'!$B89='DNSP Inputs General'!$A$86,K$38,IF('DNSP Inputs General'!$B89='DNSP Inputs General'!$A$87,K$39,K$40))*'DNSP Inputs General'!$D89","v":43.144697160029324},{"$f":"IF('DNSP Inputs General'!$B89='DNSP Inputs General'!$A$86,L$38,IF('DNSP Inputs General'!$B89='DNSP Inputs General'!$A$87,L$39,L$40))*'DNSP Inputs General'!$D89","v":44.143050012361734},{"$f":"IF('DNSP Inputs General'!$B89='DNSP Inputs General'!$A$86,M$38,IF('DNSP Inputs General'!$B89='DNSP Inputs General'!$A$87,M$39,M$40))*'DNSP Inputs General'!$D89","v":45.261435617029385},{"$f":"IF('DNSP Inputs General'!$B89='DNSP Inputs General'!$A$86,N$38,IF('DNSP Inputs General'!$B89='DNSP Inputs General'!$A$87,N$39,N$40))*'DNSP Inputs General'!$D89","v":46.549290702501132},null,{"$f":"IF('DNSP Inputs General'!$B89='DNSP Inputs General'!$A$86,P$38,IF('DNSP Inputs General'!$B89='DNSP Inputs General'!$A$87,P$39,P$40))*'DNSP Inputs General'!$D89","v":43.09959155871141},{"$f":"IF('DNSP Inputs General'!$B89='DNSP Inputs General'!$A$86,Q$38,IF('DNSP Inputs General'!$B89='DNSP Inputs General'!$A$87,Q$39,Q$40))*'DNSP Inputs General'!$D89","v":44.382487763916359},{"$f":"IF('DNSP Inputs General'!$B89='DNSP Inputs General'!$A$86,R$38,IF('DNSP Inputs General'!$B89='DNSP Inputs General'!$A$87,R$39,R$40))*'DNSP Inputs General'!$D89","v":35.315086836455272},{"$f":"IF('DNSP Inputs General'!$B89='DNSP Inputs General'!$A$86,S$38,IF('DNSP Inputs General'!$B89='DNSP Inputs General'!$A$87,S$39,S$40))*'DNSP Inputs General'!$D89","v":37.705786040210945},{"$f":"IF('DNSP Inputs General'!$B89='DNSP Inputs General'!$A$86,T$38,IF('DNSP Inputs General'!$B89='DNSP Inputs General'!$A$87,T$39,T$40))*'DNSP Inputs General'!$D89","v":38.886813840814824},null,0,0,0,0,7.1054273576010019E-15]
[{"$f":"'DNSP Inputs General'!A90","v":"Mercury Vapour 125W"},null,{"$f":"'DNSP Inputs General'!E90","v":73.930000000000007},{"$f":"IF('DNSP Inputs General'!$B90='DNSP Inputs General'!$A$86,D$38,IF('DNSP Inputs General'!$B90='DNSP Inputs General'!$A$87,D$39,D$40))*'DNSP Inputs General'!$D90","v":85.305039012321402},{"$f":"IF('DNSP Inputs General'!$B90='DNSP Inputs General'!$A$86,E$38,IF('DNSP Inputs General'!$B90='DNSP Inputs General'!$A$87,E$39,E$40))*'DNSP Inputs General'!$D90","v":87.527184923945683},{"$f":"IF('DNSP Inputs General'!$B90='DNSP Inputs General'!$A$86,F$38,IF('DNSP Inputs General'!$B90='DNSP Inputs General'!$A$87,F$39,F$40))*'DNSP Inputs General'!$D90","v":79.458136848817006},{"$f":"IF('DNSP Inputs General'!$B90='DNSP Inputs General'!$A$86,G$38,IF('DNSP Inputs General'!$B90='DNSP Inputs General'!$A$87,G$39,G$40))*'DNSP Inputs General'!$D90","v":82.96722165724033},{"$f":"IF('DNSP Inputs General'!$B90='DNSP Inputs General'!$A$86,H$38,IF('DNSP Inputs General'!$B90='DNSP Inputs General'!$A$87,H$39,H$40))*'DNSP Inputs General'!$D90","v":85.436104543315949},null,{"$f":"IF('DNSP Inputs General'!$B90='DNSP Inputs General'!$A$86,J$38,IF('DNSP Inputs General'!$B90='DNSP Inputs General'!$A$87,J$39,J$40))*'DNSP Inputs General'!$D90","v":42.205447453609992},{"$f":"IF('DNSP Inputs General'!$B90='DNSP Inputs General'!$A$86,K$38,IF('DNSP Inputs General'!$B90='DNSP Inputs General'!$A$87,K$39,K$40))*'DNSP Inputs General'!$D90","v":43.144697160029324},{"$f":"IF('DNSP Inputs General'!$B90='DNSP Inputs General'!$A$86,L$38,IF('DNSP Inputs General'!$B90='DNSP Inputs General'!$A$87,L$39,L$40))*'DNSP Inputs General'!$D90","v":44.143050012361734},{"$f":"IF('DNSP Inputs General'!$B90='DNSP Inputs General'!$A$86,M$38,IF('DNSP Inputs General'!$B90='DNSP Inputs General'!$A$87,M$39,M$40))*'DNSP Inputs General'!$D90","v":45.261435617029385},{"$f":"IF('DNSP Inputs General'!$B90='DNSP Inputs General'!$A$86,N$38,IF('DNSP Inputs General'!$B90='DNSP Inputs General'!$A$87,N$39,N$40))*'DNSP Inputs General'!$D90","v":46.549290702501132},null,{"$f":"IF('DNSP Inputs General'!$B90='DNSP Inputs General'!$A$86,P$38,IF('DNSP Inputs General'!$B90='DNSP Inputs General'!$A$87,P$39,P$40))*'DNSP Inputs General'!$D90","v":43.09959155871141},{"$f":"IF('DNSP Inputs General'!$B90='DNSP Inputs General'!$A$86,Q$38,IF('DNSP Inputs General'!$B90='DNSP Inputs General'!$A$87,Q$39,Q$40))*'DNSP Inputs General'!$D90","v":44.382487763916359},{"$f":"IF('DNSP Inputs General'!$B90='DNSP Inputs General'!$A$86,R$38,IF('DNSP Inputs General'!$B90='DNSP Inputs General'!$A$87,R$39,R$40))*'DNSP Inputs General'!$D90","v":35.315086836455272},{"$f":"IF('DNSP Inputs General'!$B90='DNSP Inputs General'!$A$86,S$38,IF('DNSP Inputs General'!$B90='DNSP Inputs General'!$A$87,S$39,S$40))*'DNSP Inputs General'!$D90","v":37.705786040210945},{"$f":"IF('DNSP Inputs General'!$B90='DNSP Inputs General'!$A$86,T$38,IF('DNSP Inputs General'!$B90='DNSP Inputs General'!$A$87,T$39,T$40))*'DNSP Inputs General'!$D90","v":38.886813840814824},null,0,0,0,0,7.1054273576010019E-15]
[{"$f":"'DNSP Inputs General'!A91","v":"Mercury Vapour 250W"},null,{"$f":"'DNSP Inputs General'!E91","v":121.81},{"$f":"IF('DNSP Inputs General'!$B91='DNSP Inputs General'!$A$86,D$38,IF('DNSP Inputs General'!$B91='DNSP Inputs General'!$A$87,D$39,D$40))*'DNSP Inputs General'!$D91","v":124.81838420576052},{"$f":"IF('DNSP Inputs General'!$B91='DNSP Inputs General'!$A$86,E$38,IF('DNSP Inputs General'!$B91='DNSP Inputs General'!$A$87,E$39,E$40))*'DNSP Inputs General'!$D91","v":127.91372080839356},{"$f":"IF('DNSP Inputs General'!$B91='DNSP Inputs General'!$A$86,F$38,IF('DNSP Inputs General'!$B91='DNSP Inputs General'!$A$87,F$39,F$40))*'DNSP Inputs General'!$D91","v":133.39134284518664},{"$f":"IF('DNSP Inputs General'!$B91='DNSP Inputs General'!$A$86,G$38,IF('DNSP Inputs General'!$B91='DNSP Inputs General'!$A$87,G$39,G$40))*'DNSP Inputs General'!$D91","v":138.85728574246448},{"$f":"IF('DNSP Inputs General'!$B91='DNSP Inputs General'!$A$86,H$38,IF('DNSP Inputs General'!$B91='DNSP Inputs General'!$A$87,H$39,H$40))*'DNSP Inputs General'!$D91","v":143.08679040148229},null,{"$f":"IF('DNSP Inputs General'!$B91='DNSP Inputs General'!$A$86,J$38,IF('DNSP Inputs General'!$B91='DNSP Inputs General'!$A$87,J$39,J$40))*'DNSP Inputs General'!$D91","v":90.979865081276984},{"$f":"IF('DNSP Inputs General'!$B91='DNSP Inputs General'!$A$86,K$38,IF('DNSP Inputs General'!$B91='DNSP Inputs General'!$A$87,K$39,K$40))*'DNSP Inputs General'!$D91","v":93.097575084379685},{"$f":"IF('DNSP Inputs General'!$B91='DNSP Inputs General'!$A$86,L$38,IF('DNSP Inputs General'!$B91='DNSP Inputs General'!$A$87,L$39,L$40))*'DNSP Inputs General'!$D91","v":95.25465842570776},{"$f":"IF('DNSP Inputs General'!$B91='DNSP Inputs General'!$A$86,M$38,IF('DNSP Inputs General'!$B91='DNSP Inputs General'!$A$87,M$39,M$40))*'DNSP Inputs General'!$D91","v":97.746984393219918},{"$f":"IF('DNSP Inputs General'!$B91='DNSP Inputs General'!$A$86,N$38,IF('DNSP Inputs General'!$B91='DNSP Inputs General'!$A$87,N$39,N$40))*'DNSP Inputs General'!$D91","v":100.7230813639792},null,{"$f":"IF('DNSP Inputs General'!$B91='DNSP Inputs General'!$A$86,P$38,IF('DNSP Inputs General'!$B91='DNSP Inputs General'!$A$87,P$39,P$40))*'DNSP Inputs General'!$D91","v":33.83851912448354},{"$f":"IF('DNSP Inputs General'!$B91='DNSP Inputs General'!$A$86,Q$38,IF('DNSP Inputs General'!$B91='DNSP Inputs General'!$A$87,Q$39,Q$40))*'DNSP Inputs General'!$D91","v":34.816145724013893},{"$f":"IF('DNSP Inputs General'!$B91='DNSP Inputs General'!$A$86,R$38,IF('DNSP Inputs General'!$B91='DNSP Inputs General'!$A$87,R$39,R$40))*'DNSP Inputs General'!$D91","v":38.136684419478868},{"$f":"IF('DNSP Inputs General'!$B91='DNSP Inputs General'!$A$86,S$38,IF('DNSP Inputs General'!$B91='DNSP Inputs General'!$A$87,S$39,S$40))*'DNSP Inputs General'!$D91","v":41.110301349244544},{"$f":"IF('DNSP Inputs General'!$B91='DNSP Inputs General'!$A$86,T$38,IF('DNSP Inputs General'!$B91='DNSP Inputs General'!$A$87,T$39,T$40))*'DNSP Inputs General'!$D91","v":42.363709037503092},null,0,1.4210854715202004E-14,1.4210854715202004E-14,2.1316282072803006E-14,7.1054273576010019E-15]
[{"$f":"'DNSP Inputs General'!A92","v":"Mercury Vapour 400W"},null,{"$f":"'DNSP Inputs General'!E92","v":125.32},{"$f":"IF('DNSP Inputs General'!$B92='DNSP Inputs General'!$A$86,D$38,IF('DNSP Inputs General'!$B92='DNSP Inputs General'!$A$87,D$39,D$40))*'DNSP Inputs General'!$D92","v":128.41891451938824},{"$f":"IF('DNSP Inputs General'!$B92='DNSP Inputs General'!$A$86,E$38,IF('DNSP Inputs General'!$B92='DNSP Inputs General'!$A$87,E$39,E$40))*'DNSP Inputs General'!$D92","v":131.60353967786645},{"$f":"IF('DNSP Inputs General'!$B92='DNSP Inputs General'!$A$86,F$38,IF('DNSP Inputs General'!$B92='DNSP Inputs General'!$A$87,F$39,F$40))*'DNSP Inputs General'!$D92","v":137.23917004264396},{"$f":"IF('DNSP Inputs General'!$B92='DNSP Inputs General'!$A$86,G$38,IF('DNSP Inputs General'!$B92='DNSP Inputs General'!$A$87,G$39,G$40))*'DNSP Inputs General'!$D92","v":142.86278436965097},{"$f":"IF('DNSP Inputs General'!$B92='DNSP Inputs General'!$A$86,H$38,IF('DNSP Inputs General'!$B92='DNSP Inputs General'!$A$87,H$39,H$40))*'DNSP Inputs General'!$D92","v":147.21429397075582},null,{"$f":"IF('DNSP Inputs General'!$B92='DNSP Inputs General'!$A$86,J$38,IF('DNSP Inputs General'!$B92='DNSP Inputs General'!$A$87,J$39,J$40))*'DNSP Inputs General'!$D92","v":93.604284266313826},{"$f":"IF('DNSP Inputs General'!$B92='DNSP Inputs General'!$A$86,K$38,IF('DNSP Inputs General'!$B92='DNSP Inputs General'!$A$87,K$39,K$40))*'DNSP Inputs General'!$D92","v":95.783082057967562},{"$f":"IF('DNSP Inputs General'!$B92='DNSP Inputs General'!$A$86,L$38,IF('DNSP Inputs General'!$B92='DNSP Inputs General'!$A$87,L$39,L$40))*'DNSP Inputs General'!$D92","v":98.002388957218557},{"$f":"IF('DNSP Inputs General'!$B92='DNSP Inputs General'!$A$86,M$38,IF('DNSP Inputs General'!$B92='DNSP Inputs General'!$A$87,M$39,M$40))*'DNSP Inputs General'!$D92","v":100.56660894302435},{"$f":"IF('DNSP Inputs General'!$B92='DNSP Inputs General'!$A$86,N$38,IF('DNSP Inputs General'!$B92='DNSP Inputs General'!$A$87,N$39,N$40))*'DNSP Inputs General'!$D92","v":103.62855486486322},null,{"$f":"IF('DNSP Inputs General'!$B92='DNSP Inputs General'!$A$86,P$38,IF('DNSP Inputs General'!$B92='DNSP Inputs General'!$A$87,P$39,P$40))*'DNSP Inputs General'!$D92","v":34.814630253074412},{"$f":"IF('DNSP Inputs General'!$B92='DNSP Inputs General'!$A$86,Q$38,IF('DNSP Inputs General'!$B92='DNSP Inputs General'!$A$87,Q$39,Q$40))*'DNSP Inputs General'!$D92","v":35.82045761989891},{"$f":"IF('DNSP Inputs General'!$B92='DNSP Inputs General'!$A$86,R$38,IF('DNSP Inputs General'!$B92='DNSP Inputs General'!$A$87,R$39,R$40))*'DNSP Inputs General'!$D92","v":39.236781085425378},{"$f":"IF('DNSP Inputs General'!$B92='DNSP Inputs General'!$A$86,S$38,IF('DNSP Inputs General'!$B92='DNSP Inputs General'!$A$87,S$39,S$40))*'DNSP Inputs General'!$D92","v":42.296175426626597},{"$f":"IF('DNSP Inputs General'!$B92='DNSP Inputs General'!$A$86,T$38,IF('DNSP Inputs General'!$B92='DNSP Inputs General'!$A$87,T$39,T$40))*'DNSP Inputs General'!$D92","v":43.585739105892607},null,0,2.1316282072803006E-14,2.8421709430404007E-14,2.1316282072803006E-14,7.1054273576010019E-15]
[{"$f":"'DNSP Inputs General'!A93","v":"HP Sodium 100W"},null,{"$f":"'DNSP Inputs General'!E93","v":126.69},{"$f":"IF('DNSP Inputs General'!$B93='DNSP Inputs General'!$A$86,D$38,IF('DNSP Inputs General'!$B93='DNSP Inputs General'!$A$87,D$39,D$40))*'DNSP Inputs General'!$D93","v":129.60828581454331},{"$f":"IF('DNSP Inputs General'!$B93='DNSP Inputs General'!$A$86,E$38,IF('DNSP Inputs General'!$B93='DNSP Inputs General'!$A$87,E$39,E$40))*'DNSP Inputs General'!$D93","v":132.69463829391444},{"$f":"IF('DNSP Inputs General'!$B93='DNSP Inputs General'!$A$86,F$38,IF('DNSP Inputs General'!$B93='DNSP Inputs General'!$A$87,F$39,F$40))*'DNSP Inputs General'!$D93","v":137.85397266235756},{"$f":"IF('DNSP Inputs General'!$B93='DNSP Inputs General'!$A$86,G$38,IF('DNSP Inputs General'!$B93='DNSP Inputs General'!$A$87,G$39,G$40))*'DNSP Inputs General'!$D93","v":143.44806266431661},{"$f":"IF('DNSP Inputs General'!$B93='DNSP Inputs General'!$A$86,H$38,IF('DNSP Inputs General'!$B93='DNSP Inputs General'!$A$87,H$39,H$40))*'DNSP Inputs General'!$D93","v":147.82545279876203},null,{"$f":"IF('DNSP Inputs General'!$B93='DNSP Inputs General'!$A$86,J$38,IF('DNSP Inputs General'!$B93='DNSP Inputs General'!$A$87,J$39,J$40))*'DNSP Inputs General'!$D93","v":94.963752064869652},{"$f":"IF('DNSP Inputs General'!$B93='DNSP Inputs General'!$A$86,K$38,IF('DNSP Inputs General'!$B93='DNSP Inputs General'!$A$87,K$39,K$40))*'DNSP Inputs General'!$D93","v":97.047922621230683},{"$f":"IF('DNSP Inputs General'!$B93='DNSP Inputs General'!$A$86,L$38,IF('DNSP Inputs General'!$B93='DNSP Inputs General'!$A$87,L$39,L$40))*'DNSP Inputs General'!$D93","v":99.29615945693655},{"$f":"IF('DNSP Inputs General'!$B93='DNSP Inputs General'!$A$86,M$38,IF('DNSP Inputs General'!$B93='DNSP Inputs General'!$A$87,M$39,M$40))*'DNSP Inputs General'!$D93","v":101.89679453843232},{"$f":"IF('DNSP Inputs General'!$B93='DNSP Inputs General'!$A$86,N$38,IF('DNSP Inputs General'!$B93='DNSP Inputs General'!$A$87,N$39,N$40))*'DNSP Inputs General'!$D93","v":105.00620700974322},null,{"$f":"IF('DNSP Inputs General'!$B93='DNSP Inputs General'!$A$86,P$38,IF('DNSP Inputs General'!$B93='DNSP Inputs General'!$A$87,P$39,P$40))*'DNSP Inputs General'!$D93","v":34.644533749673634},{"$f":"IF('DNSP Inputs General'!$B93='DNSP Inputs General'!$A$86,Q$38,IF('DNSP Inputs General'!$B93='DNSP Inputs General'!$A$87,Q$39,Q$40))*'DNSP Inputs General'!$D93","v":35.646715672683747},{"$f":"IF('DNSP Inputs General'!$B93='DNSP Inputs General'!$A$86,R$38,IF('DNSP Inputs General'!$B93='DNSP Inputs General'!$A$87,R$39,R$40))*'DNSP Inputs General'!$D93","v":38.557813205420999},{"$f":"IF('DNSP Inputs General'!$B93='DNSP Inputs General'!$A$86,S$38,IF('DNSP Inputs General'!$B93='DNSP Inputs General'!$A$87,S$39,S$40))*'DNSP Inputs General'!$D93","v":41.551268125884292},{"$f":"IF('DNSP Inputs General'!$B93='DNSP Inputs General'!$A$86,T$38,IF('DNSP Inputs General'!$B93='DNSP Inputs General'!$A$87,T$39,T$40))*'DNSP Inputs General'!$D93","v":42.81924578901878},null,2.1316282072803006E-14,7.1054273576010019E-15,1.4210854715202004E-14,0,2.8421709430404007E-14]
[{"$f":"'DNSP Inputs General'!A94","v":"HP Sodium 400W"},null,{"$f":"'DNSP Inputs General'!E94","v":166.31},{"$f":"IF('DNSP Inputs General'!$B94='DNSP Inputs General'!$A$86,D$38,IF('DNSP Inputs General'!$B94='DNSP Inputs General'!$A$87,D$39,D$40))*'DNSP Inputs General'!$D94","v":170.42510151171146},{"$f":"IF('DNSP Inputs General'!$B94='DNSP Inputs General'!$A$86,E$38,IF('DNSP Inputs General'!$B94='DNSP Inputs General'!$A$87,E$39,E$40))*'DNSP Inputs General'!$D94","v":174.65142648838352},{"$f":"IF('DNSP Inputs General'!$B94='DNSP Inputs General'!$A$86,F$38,IF('DNSP Inputs General'!$B94='DNSP Inputs General'!$A$87,F$39,F$40))*'DNSP Inputs General'!$D94","v":182.13048734631252},{"$f":"IF('DNSP Inputs General'!$B94='DNSP Inputs General'!$A$86,G$38,IF('DNSP Inputs General'!$B94='DNSP Inputs General'!$A$87,G$39,G$40))*'DNSP Inputs General'!$D94","v":189.5936016868265},{"$f":"IF('DNSP Inputs General'!$B94='DNSP Inputs General'!$A$86,H$38,IF('DNSP Inputs General'!$B94='DNSP Inputs General'!$A$87,H$39,H$40))*'DNSP Inputs General'!$D94","v":195.36850227894695},null,{"$f":"IF('DNSP Inputs General'!$B94='DNSP Inputs General'!$A$86,J$38,IF('DNSP Inputs General'!$B94='DNSP Inputs General'!$A$87,J$39,J$40))*'DNSP Inputs General'!$D94","v":124.22250809174356},{"$f":"IF('DNSP Inputs General'!$B94='DNSP Inputs General'!$A$86,K$38,IF('DNSP Inputs General'!$B94='DNSP Inputs General'!$A$87,K$39,K$40))*'DNSP Inputs General'!$D94","v":127.1139967498261},{"$f":"IF('DNSP Inputs General'!$B94='DNSP Inputs General'!$A$86,L$38,IF('DNSP Inputs General'!$B94='DNSP Inputs General'!$A$87,L$39,L$40))*'DNSP Inputs General'!$D94","v":130.0592451581779},{"$f":"IF('DNSP Inputs General'!$B94='DNSP Inputs General'!$A$86,M$38,IF('DNSP Inputs General'!$B94='DNSP Inputs General'!$A$87,M$39,M$40))*'DNSP Inputs General'!$D94","v":133.46222869074256},{"$f":"IF('DNSP Inputs General'!$B94='DNSP Inputs General'!$A$86,N$38,IF('DNSP Inputs General'!$B94='DNSP Inputs General'!$A$87,N$39,N$40))*'DNSP Inputs General'!$D94","v":137.52574570851004},null,{"$f":"IF('DNSP Inputs General'!$B94='DNSP Inputs General'!$A$86,P$38,IF('DNSP Inputs General'!$B94='DNSP Inputs General'!$A$87,P$39,P$40))*'DNSP Inputs General'!$D94","v":46.202593419967904},{"$f":"IF('DNSP Inputs General'!$B94='DNSP Inputs General'!$A$86,Q$38,IF('DNSP Inputs General'!$B94='DNSP Inputs General'!$A$87,Q$39,Q$40))*'DNSP Inputs General'!$D94","v":47.537429738557421},{"$f":"IF('DNSP Inputs General'!$B94='DNSP Inputs General'!$A$86,R$38,IF('DNSP Inputs General'!$B94='DNSP Inputs General'!$A$87,R$39,R$40))*'DNSP Inputs General'!$D94","v":52.071242188134605},{"$f":"IF('DNSP Inputs General'!$B94='DNSP Inputs General'!$A$86,S$38,IF('DNSP Inputs General'!$B94='DNSP Inputs General'!$A$87,S$39,S$40))*'DNSP Inputs General'!$D94","v":56.13137299608389},{"$f":"IF('DNSP Inputs General'!$B94='DNSP Inputs General'!$A$86,T$38,IF('DNSP Inputs General'!$B94='DNSP Inputs General'!$A$87,T$39,T$40))*'DNSP Inputs General'!$D94","v":57.842756570436912},null,7.1054273576010019E-15,0,1.4210854715202004E-14,4.9737991503207013E-14,7.1054273576010019E-15]
[{"$f":"'DNSP Inputs General'!A95","v":"Metal Halide 70W"},null,{"$f":"'DNSP Inputs General'!E95","v":190.05},{"$f":"IF('DNSP Inputs General'!$B95='DNSP Inputs General'!$A$86,D$38,IF('DNSP Inputs General'!$B95='DNSP Inputs General'!$A$87,D$39,D$40))*'DNSP Inputs General'!$D95","v":219.28248403543571},{"$f":"IF('DNSP Inputs General'!$B95='DNSP Inputs General'!$A$86,E$38,IF('DNSP Inputs General'!$B95='DNSP Inputs General'!$A$87,E$39,E$40))*'DNSP Inputs General'!$D95","v":224.99466330446785},{"$f":"IF('DNSP Inputs General'!$B95='DNSP Inputs General'!$A$86,F$38,IF('DNSP Inputs General'!$B95='DNSP Inputs General'!$A$87,F$39,F$40))*'DNSP Inputs General'!$D95","v":204.25261891644524},{"$f":"IF('DNSP Inputs General'!$B95='DNSP Inputs General'!$A$86,G$38,IF('DNSP Inputs General'!$B95='DNSP Inputs General'!$A$87,G$39,G$40))*'DNSP Inputs General'!$D95","v":213.27296334616804},{"$f":"IF('DNSP Inputs General'!$B95='DNSP Inputs General'!$A$86,H$38,IF('DNSP Inputs General'!$B95='DNSP Inputs General'!$A$87,H$39,H$40))*'DNSP Inputs General'!$D95","v":219.61939701901403},null,{"$f":"IF('DNSP Inputs General'!$B95='DNSP Inputs General'!$A$86,J$38,IF('DNSP Inputs General'!$B95='DNSP Inputs General'!$A$87,J$39,J$40))*'DNSP Inputs General'!$D95","v":108.49201248378633},{"$f":"IF('DNSP Inputs General'!$B95='DNSP Inputs General'!$A$86,K$38,IF('DNSP Inputs General'!$B95='DNSP Inputs General'!$A$87,K$39,K$40))*'DNSP Inputs General'!$D95","v":110.906418609589},{"$f":"IF('DNSP Inputs General'!$B95='DNSP Inputs General'!$A$86,L$38,IF('DNSP Inputs General'!$B95='DNSP Inputs General'!$A$87,L$39,L$40))*'DNSP Inputs General'!$D95","v":113.47275344675721},{"$f":"IF('DNSP Inputs General'!$B95='DNSP Inputs General'!$A$86,M$38,IF('DNSP Inputs General'!$B95='DNSP Inputs General'!$A$87,M$39,M$40))*'DNSP Inputs General'!$D95","v":116.34764074931822},{"$f":"IF('DNSP Inputs General'!$B95='DNSP Inputs General'!$A$86,N$38,IF('DNSP Inputs General'!$B95='DNSP Inputs General'!$A$87,N$39,N$40))*'DNSP Inputs General'!$D95","v":119.65816103615759},null,{"$f":"IF('DNSP Inputs General'!$B95='DNSP Inputs General'!$A$86,P$38,IF('DNSP Inputs General'!$B95='DNSP Inputs General'!$A$87,P$39,P$40))*'DNSP Inputs General'!$D95","v":110.79047155164938},{"$f":"IF('DNSP Inputs General'!$B95='DNSP Inputs General'!$A$86,Q$38,IF('DNSP Inputs General'!$B95='DNSP Inputs General'!$A$87,Q$39,Q$40))*'DNSP Inputs General'!$D95","v":114.08824469487884},{"$f":"IF('DNSP Inputs General'!$B95='DNSP Inputs General'!$A$86,R$38,IF('DNSP Inputs General'!$B95='DNSP Inputs General'!$A$87,R$39,R$40))*'DNSP Inputs General'!$D95","v":90.779865469688062},{"$f":"IF('DNSP Inputs General'!$B95='DNSP Inputs General'!$A$86,S$38,IF('DNSP Inputs General'!$B95='DNSP Inputs General'!$A$87,S$39,S$40))*'DNSP Inputs General'!$D95","v":96.925322596849824},{"$f":"IF('DNSP Inputs General'!$B95='DNSP Inputs General'!$A$86,T$38,IF('DNSP Inputs General'!$B95='DNSP Inputs General'!$A$87,T$39,T$40))*'DNSP Inputs General'!$D95","v":99.961235982856465},null,1.4210854715202004E-14,1.4210854715202004E-14,2.8421709430404007E-14,0,2.8421709430404007E-14]
[{"$f":"'DNSP Inputs General'!A96","v":"Metal Halide 100W"},null,{"$f":"'DNSP Inputs General'!E96","v":250.78},{"$f":"IF('DNSP Inputs General'!$B96='DNSP Inputs General'!$A$86,D$38,IF('DNSP Inputs General'!$B96='DNSP Inputs General'!$A$87,D$39,D$40))*'DNSP Inputs General'!$D96","v":256.55767699960262},{"$f":"IF('DNSP Inputs General'!$B96='DNSP Inputs General'!$A$86,E$38,IF('DNSP Inputs General'!$B96='DNSP Inputs General'!$A$87,E$39,E$40))*'DNSP Inputs General'!$D96","v":262.66706589810599},{"$f":"IF('DNSP Inputs General'!$B96='DNSP Inputs General'!$A$86,F$38,IF('DNSP Inputs General'!$B96='DNSP Inputs General'!$A$87,F$39,F$40))*'DNSP Inputs General'!$D96","v":272.87989166085094},{"$f":"IF('DNSP Inputs General'!$B96='DNSP Inputs General'!$A$86,G$38,IF('DNSP Inputs General'!$B96='DNSP Inputs General'!$A$87,G$39,G$40))*'DNSP Inputs General'!$D96","v":283.95330974372689},{"$f":"IF('DNSP Inputs General'!$B96='DNSP Inputs General'!$A$86,H$38,IF('DNSP Inputs General'!$B96='DNSP Inputs General'!$A$87,H$39,H$40))*'DNSP Inputs General'!$D96","v":292.61828850767159},null,{"$f":"IF('DNSP Inputs General'!$B96='DNSP Inputs General'!$A$86,J$38,IF('DNSP Inputs General'!$B96='DNSP Inputs General'!$A$87,J$39,J$40))*'DNSP Inputs General'!$D96","v":187.97933693676964},{"$f":"IF('DNSP Inputs General'!$B96='DNSP Inputs General'!$A$86,K$38,IF('DNSP Inputs General'!$B96='DNSP Inputs General'!$A$87,K$39,K$40))*'DNSP Inputs General'!$D96","v":192.10492160175065},{"$f":"IF('DNSP Inputs General'!$B96='DNSP Inputs General'!$A$86,L$38,IF('DNSP Inputs General'!$B96='DNSP Inputs General'!$A$87,L$39,L$40))*'DNSP Inputs General'!$D96","v":196.55527303020006},{"$f":"IF('DNSP Inputs General'!$B96='DNSP Inputs General'!$A$86,M$38,IF('DNSP Inputs General'!$B96='DNSP Inputs General'!$A$87,M$39,M$40))*'DNSP Inputs General'!$D96","v":201.70319155283946},{"$f":"IF('DNSP Inputs General'!$B96='DNSP Inputs General'!$A$86,N$38,IF('DNSP Inputs General'!$B96='DNSP Inputs General'!$A$87,N$39,N$40))*'DNSP Inputs General'!$D96","v":207.85822736293119},null,{"$f":"IF('DNSP Inputs General'!$B96='DNSP Inputs General'!$A$86,P$38,IF('DNSP Inputs General'!$B96='DNSP Inputs General'!$A$87,P$39,P$40))*'DNSP Inputs General'!$D96","v":68.578340062832964},{"$f":"IF('DNSP Inputs General'!$B96='DNSP Inputs General'!$A$86,Q$38,IF('DNSP Inputs General'!$B96='DNSP Inputs General'!$A$87,Q$39,Q$40))*'DNSP Inputs General'!$D96","v":70.562144296355342},{"$f":"IF('DNSP Inputs General'!$B96='DNSP Inputs General'!$A$86,R$38,IF('DNSP Inputs General'!$B96='DNSP Inputs General'!$A$87,R$39,R$40))*'DNSP Inputs General'!$D96","v":76.32461863065086},{"$f":"IF('DNSP Inputs General'!$B96='DNSP Inputs General'!$A$86,S$38,IF('DNSP Inputs General'!$B96='DNSP Inputs General'!$A$87,S$39,S$40))*'DNSP Inputs General'!$D96","v":82.250118190887449},{"$f":"IF('DNSP Inputs General'!$B96='DNSP Inputs General'!$A$86,T$38,IF('DNSP Inputs General'!$B96='DNSP Inputs General'!$A$87,T$39,T$40))*'DNSP Inputs General'!$D96","v":84.760061144740362},null,1.4210854715202004E-14,0,2.8421709430404007E-14,1.4210854715202004E-14,4.2632564145606011E-14]
[{"$f":"'DNSP Inputs General'!A97","v":"Metal Halide 150W"},null,{"$f":"'DNSP Inputs General'!E97","v":284.91000000000003},{"$f":"IF('DNSP Inputs General'!$B97='DNSP Inputs General'!$A$86,D$38,IF('DNSP Inputs General'!$B97='DNSP Inputs General'!$A$87,D$39,D$40))*'DNSP Inputs General'!$D97","v":291.4726614476582},{"$f":"IF('DNSP Inputs General'!$B97='DNSP Inputs General'!$A$86,E$38,IF('DNSP Inputs General'!$B97='DNSP Inputs General'!$A$87,E$39,E$40))*'DNSP Inputs General'!$D97","v":298.41347827641488},{"$f":"IF('DNSP Inputs General'!$B97='DNSP Inputs General'!$A$86,F$38,IF('DNSP Inputs General'!$B97='DNSP Inputs General'!$A$87,F$39,F$40))*'DNSP Inputs General'!$D97","v":310.01616949493996},{"$f":"IF('DNSP Inputs General'!$B97='DNSP Inputs General'!$A$86,G$38,IF('DNSP Inputs General'!$B97='DNSP Inputs General'!$A$87,G$39,G$40))*'DNSP Inputs General'!$D97","v":322.59657121078288},{"$f":"IF('DNSP Inputs General'!$B97='DNSP Inputs General'!$A$86,H$38,IF('DNSP Inputs General'!$B97='DNSP Inputs General'!$A$87,H$39,H$40))*'DNSP Inputs General'!$D97","v":332.44076862966705},null,{"$f":"IF('DNSP Inputs General'!$B97='DNSP Inputs General'!$A$86,J$38,IF('DNSP Inputs General'!$B97='DNSP Inputs General'!$A$87,J$39,J$40))*'DNSP Inputs General'!$D97","v":213.56148167108324},{"$f":"IF('DNSP Inputs General'!$B97='DNSP Inputs General'!$A$86,K$38,IF('DNSP Inputs General'!$B97='DNSP Inputs General'!$A$87,K$39,K$40))*'DNSP Inputs General'!$D97","v":218.24851796012607},{"$f":"IF('DNSP Inputs General'!$B97='DNSP Inputs General'!$A$86,L$38,IF('DNSP Inputs General'!$B97='DNSP Inputs General'!$A$87,L$39,L$40))*'DNSP Inputs General'!$D97","v":223.30451858500521},{"$f":"IF('DNSP Inputs General'!$B97='DNSP Inputs General'!$A$86,M$38,IF('DNSP Inputs General'!$B97='DNSP Inputs General'!$A$87,M$39,M$40))*'DNSP Inputs General'!$D97","v":229.15301834637359},{"$f":"IF('DNSP Inputs General'!$B97='DNSP Inputs General'!$A$86,N$38,IF('DNSP Inputs General'!$B97='DNSP Inputs General'!$A$87,N$39,N$40))*'DNSP Inputs General'!$D97","v":236.14569418384565},null,{"$f":"IF('DNSP Inputs General'!$B97='DNSP Inputs General'!$A$86,P$38,IF('DNSP Inputs General'!$B97='DNSP Inputs General'!$A$87,P$39,P$40))*'DNSP Inputs General'!$D97","v":77.911179776574954},{"$f":"IF('DNSP Inputs General'!$B97='DNSP Inputs General'!$A$86,Q$38,IF('DNSP Inputs General'!$B97='DNSP Inputs General'!$A$87,Q$39,Q$40))*'DNSP Inputs General'!$D97","v":80.164960316288827},{"$f":"IF('DNSP Inputs General'!$B97='DNSP Inputs General'!$A$86,R$38,IF('DNSP Inputs General'!$B97='DNSP Inputs General'!$A$87,R$39,R$40))*'DNSP Inputs General'!$D97","v":86.711650909934704},{"$f":"IF('DNSP Inputs General'!$B97='DNSP Inputs General'!$A$86,S$38,IF('DNSP Inputs General'!$B97='DNSP Inputs General'!$A$87,S$39,S$40))*'DNSP Inputs General'!$D97","v":93.443552864409284},{"$f":"IF('DNSP Inputs General'!$B97='DNSP Inputs General'!$A$86,T$38,IF('DNSP Inputs General'!$B97='DNSP Inputs General'!$A$87,T$39,T$40))*'DNSP Inputs General'!$D97","v":96.295074445821328},null,0,1.4210854715202004E-14,4.2632564145606011E-14,1.4210854715202004E-14,7.1054273576010019E-14]
[{"$f":"'DNSP Inputs General'!A98","v":"HP Sodium 50W"},null,{"$f":"'DNSP Inputs General'!E98","v":53.84},{"$f":"IF('DNSP Inputs General'!$B98='DNSP Inputs General'!$A$86,D$38,IF('DNSP Inputs General'!$B98='DNSP Inputs General'!$A$87,D$39,D$40))*'DNSP Inputs General'!$D98","v":55.081045430495145},{"$f":"IF('DNSP Inputs General'!$B98='DNSP Inputs General'!$A$86,E$38,IF('DNSP Inputs General'!$B98='DNSP Inputs General'!$A$87,E$39,E$40))*'DNSP Inputs General'!$D98","v":56.392686272455016},{"$f":"IF('DNSP Inputs General'!$B98='DNSP Inputs General'!$A$86,F$38,IF('DNSP Inputs General'!$B98='DNSP Inputs General'!$A$87,F$39,F$40))*'DNSP Inputs General'!$D98","v":58.585304814960594},{"$f":"IF('DNSP Inputs General'!$B98='DNSP Inputs General'!$A$86,G$38,IF('DNSP Inputs General'!$B98='DNSP Inputs General'!$A$87,G$39,G$40))*'DNSP Inputs General'!$D98","v":60.962686196125425},{"$f":"IF('DNSP Inputs General'!$B98='DNSP Inputs General'!$A$86,H$38,IF('DNSP Inputs General'!$B98='DNSP Inputs General'!$A$87,H$39,H$40))*'DNSP Inputs General'!$D98","v":62.82299337746872},null,{"$f":"IF('DNSP Inputs General'!$B98='DNSP Inputs General'!$A$86,J$38,IF('DNSP Inputs General'!$B98='DNSP Inputs General'!$A$87,J$39,J$40))*'DNSP Inputs General'!$D98","v":40.357780437124084},{"$f":"IF('DNSP Inputs General'!$B98='DNSP Inputs General'!$A$86,K$38,IF('DNSP Inputs General'!$B98='DNSP Inputs General'!$A$87,K$39,K$40))*'DNSP Inputs General'!$D98","v":41.243513107518993},{"$f":"IF('DNSP Inputs General'!$B98='DNSP Inputs General'!$A$86,L$38,IF('DNSP Inputs General'!$B98='DNSP Inputs General'!$A$87,L$39,L$40))*'DNSP Inputs General'!$D98","v":42.198970812308204},{"$f":"IF('DNSP Inputs General'!$B98='DNSP Inputs General'!$A$86,M$38,IF('DNSP Inputs General'!$B98='DNSP Inputs General'!$A$87,M$39,M$40))*'DNSP Inputs General'!$D98","v":43.30419103933118},{"$f":"IF('DNSP Inputs General'!$B98='DNSP Inputs General'!$A$86,N$38,IF('DNSP Inputs General'!$B98='DNSP Inputs General'!$A$87,N$39,N$40))*'DNSP Inputs General'!$D98","v":44.625631937326652},null,{"$f":"IF('DNSP Inputs General'!$B98='DNSP Inputs General'!$A$86,P$38,IF('DNSP Inputs General'!$B98='DNSP Inputs General'!$A$87,P$39,P$40))*'DNSP Inputs General'!$D98","v":14.723264993371055},{"$f":"IF('DNSP Inputs General'!$B98='DNSP Inputs General'!$A$86,Q$38,IF('DNSP Inputs General'!$B98='DNSP Inputs General'!$A$87,Q$39,Q$40))*'DNSP Inputs General'!$D98","v":15.149173164936018},{"$f":"IF('DNSP Inputs General'!$B98='DNSP Inputs General'!$A$86,R$38,IF('DNSP Inputs General'!$B98='DNSP Inputs General'!$A$87,R$39,R$40))*'DNSP Inputs General'!$D98","v":16.386334002652383},{"$f":"IF('DNSP Inputs General'!$B98='DNSP Inputs General'!$A$86,S$38,IF('DNSP Inputs General'!$B98='DNSP Inputs General'!$A$87,S$39,S$40))*'DNSP Inputs General'!$D98","v":17.658495156794249},{"$f":"IF('DNSP Inputs General'!$B98='DNSP Inputs General'!$A$86,T$38,IF('DNSP Inputs General'!$B98='DNSP Inputs General'!$A$87,T$39,T$40))*'DNSP Inputs General'!$D98","v":18.19736144014206},null,5.3290705182007514E-15,5.3290705182007514E-15,7.1054273576010019E-15,3.5527136788005009E-15,7.1054273576010019E-15]
[]
[]
[{"$f":"'DNSP Inputs General'!A$112","v":"Energy Efficient Lights"}]
[{"$f":"'DNSP Inputs General'!A113","v":"T5 2X14W"},null,{"$f":"'DNSP Inputs General'!E113","v":40.6},{"$f":"'Charges Summary'!K$89","v":50.652414968428332},{"$f":"'Charges Summary'!L$89","v":52.415434301208563},{"$f":"'Charges Summary'!M$89","v":54.117116393935902},{"$f":"'Charges Summary'!N$89","v":55.875518105221481},{"$f":"'Charges Summary'!O$89","v":57.76882978131804},null,{"$f":"SUM('Charges Summary'!K83,'Charges Summary'!K8)","v":34.157340588998565},{"$f":"SUM('Charges Summary'!L83,'Charges Summary'!L8)","v":34.913629651641024},{"$f":"SUM('Charges Summary'!M83,'Charges Summary'!M8)","v":35.721356814810314},{"$f":"SUM('Charges Summary'!N83,'Charges Summary'!N8)","v":36.635810578737711},{"$f":"SUM('Charges Summary'!O83,'Charges Summary'!O8)","v":37.702198444371099},null,{"$f":"SUM('Charges Summary'!K85,'Charges Summary'!K11)","v":16.495074379429767},{"$f":"SUM('Charges Summary'!L85,'Charges Summary'!L11)","v":17.501804649567539},{"$f":"SUM('Charges Summary'!M85,'Charges Summary'!M11)","v":18.395759579125588},{"$f":"SUM('Charges Summary'!N85,'Charges Summary'!N11)","v":19.23970752648377},{"$f":"SUM('Charges Summary'!O85,'Charges Summary'!O11)","v":20.066631336946944},null,{"$f":"ABS(D54-J54-P54)","v":0},{"$f":"ABS(E54-K54-Q54)","v":0},{"$f":"ABS(F54-L54-R54)","v":0},{"$f":"ABS(G54-M54-S54)","v":0},{"$f":"ABS(H54-N54-T54)","v":3.5527136788005009E-15}]
[{"$f":"'DNSP Inputs General'!A114","v":"T5 2X24W"},null,{"$f":"'DNSP Inputs General'!E114","v":47.91},{"$f":"'Charges Summary'!K$105","v":54.159959540232364},{"$f":"'Charges Summary'!L$105","v":56.011515309097618},{"$f":"'Charges Summary'!M$105","v":57.80484977051357},{"$f":"'Charges Summary'!N$105","v":59.666006698295909},{"$f":"'Charges Summary'!O$105","v":61.679580332320725},null,{"$f":"SUM('Charges Summary'!K99,'Charges Summary'!K8)","v":37.510569546274589},{"$f":"SUM('Charges Summary'!L99,'Charges Summary'!L8)","v":38.340968649925948},{"$f":"SUM('Charges Summary'!M99,'Charges Summary'!M8)","v":39.228436443226464},{"$f":"SUM('Charges Summary'!N99,'Charges Summary'!N8)","v":40.234616920819157},{"$f":"SUM('Charges Summary'!O99,'Charges Summary'!O8)","v":41.410032885945974},null,{"$f":"SUM('Charges Summary'!K101,'Charges Summary'!K11)","v":16.649389993957776},{"$f":"SUM('Charges Summary'!L101,'Charges Summary'!L11)","v":17.670546659171666},{"$f":"SUM('Charges Summary'!M101,'Charges Summary'!M11)","v":18.576413327287103},{"$f":"SUM('Charges Summary'!N101,'Charges Summary'!N11)","v":19.431389777476749},{"$f":"SUM('Charges Summary'!O101,'Charges Summary'!O11)","v":20.269547446374752},null,0,3.5527136788005009E-15,3.5527136788005009E-15,3.5527136788005009E-15,0]
[{"$f":"'DNSP Inputs General'!A115","v":"LED 18W"},null,{"$f":"'DNSP Inputs General'!E115","v":16.739999999999998},{"$f":"'Charges Summary'!K$121","v":28.898152109910715},{"$f":"'Charges Summary'!L$121","v":30.093092077871013},{"$f":"'Charges Summary'!M$121","v":31.212533429919084},{"$f":"'Charges Summary'!N$121","v":32.323845000223024},{"$f":"'Charges Summary'!O$121","v":33.464986461812373},null,{"$f":"SUM('Charges Summary'!K115,'Charges Summary'!K8)","v":13.613087258297714},{"$f":"SUM('Charges Summary'!L115,'Charges Summary'!L8)","v":13.914416263894408},{"$f":"SUM('Charges Summary'!M115,'Charges Summary'!M8)","v":14.233304233540807},{"$f":"SUM('Charges Summary'!N115,'Charges Summary'!N8)","v":14.587143833298375},{"$f":"SUM('Charges Summary'!O115,'Charges Summary'!O8)","v":14.989447682194392},null,{"$f":"SUM('Charges Summary'!K117,'Charges Summary'!K11)","v":15.285064851612999},{"$f":"SUM('Charges Summary'!L117,'Charges Summary'!L11)","v":16.178675813976607},{"$f":"SUM('Charges Summary'!M117,'Charges Summary'!M11)","v":16.979229196378277},{"$f":"SUM('Charges Summary'!N117,'Charges Summary'!N11)","v":17.73670116692465},{"$f":"SUM('Charges Summary'!O117,'Charges Summary'!O11)","v":18.475538779617978},null,1.7763568394002505E-15,3.5527136788005009E-15,0,3.5527136788005009E-15,3.5527136788005009E-15]
[{"$f":"'DNSP Inputs General'!A116","v":"LED 14W"},null,{"$f":"'DNSP Inputs General'!E116","v":16.739999999999998},{"$f":"'Charges Summary'!K$137","v":30.013340018288957},{"$f":"'Charges Summary'!L$137","v":31.232499318329808},{"$f":"'Charges Summary'!M$137","v":32.378323010831252},{"$f":"'Charges Summary'!N$137","v":33.520783612097588},{"$f":"'Charges Summary'!O$137","v":34.700017684254455},null,{"$f":"SUM('Charges Summary'!K131,'Charges Summary'!K$8)","v":14.728275166675958},{"$f":"SUM('Charges Summary'!L131,'Charges Summary'!L$8)","v":15.053823504353202},{"$f":"SUM('Charges Summary'!M131,'Charges Summary'!M$8)","v":15.399093814452971},{"$f":"SUM('Charges Summary'!N131,'Charges Summary'!N$8)","v":15.784082445172936},{"$f":"SUM('Charges Summary'!O131,'Charges Summary'!O$8)","v":16.224478904636477},null,{"$f":"SUM('Charges Summary'!K133,'Charges Summary'!K$11)","v":15.285064851612999},{"$f":"SUM('Charges Summary'!L133,'Charges Summary'!L$11)","v":16.178675813976607},{"$f":"SUM('Charges Summary'!M133,'Charges Summary'!M$11)","v":16.979229196378277},{"$f":"SUM('Charges Summary'!N133,'Charges Summary'!N$11)","v":17.73670116692465},{"$f":"SUM('Charges Summary'!O133,'Charges Summary'!O$11)","v":18.475538779617978},null,{"$f":"ABS(D57-J57-P57)","v":0},{"$f":"ABS(E57-K57-Q57)","v":3.5527136788005009E-15},{"$f":"ABS(F57-L57-R57)","v":3.5527136788005009E-15},{"$f":"ABS(G57-M57-S57)","v":3.5527136788005009E-15},{"$f":"ABS(H57-N57-T57)","v":0}]
[{"$f":"'DNSP Inputs General'!A117","v":"LED 70W-125W (L1)"},null,{"$f":"'DNSP Inputs General'!E117","v":24.09},{"$f":"'Charges Summary'!K$153","v":41.484386324989984},{"$f":"'Charges Summary'!L$153","v":43.259681185162925},{"$f":"'Charges Summary'!M$153","v":44.906930200098842},{"$f":"'Charges Summary'!N$153","v":46.561228509735045},{"$f":"'Charges Summary'!O$153","v":48.30946159675613},null,{"$f":"SUM('Charges Summary'!K147,'Charges Summary'!K$8)","v":21.887239762452531},{"$f":"SUM('Charges Summary'!L147,'Charges Summary'!L$8)","v":22.365803117000105},{"$f":"SUM('Charges Summary'!M147,'Charges Summary'!M$8)","v":22.87964591324986},{"$f":"SUM('Charges Summary'!N147,'Charges Summary'!N$8)","v":23.468299903715842},{"$f":"SUM('Charges Summary'!O147,'Charges Summary'!O$8)","v":24.163784723907217},null,{"$f":"SUM('Charges Summary'!K149,'Charges Summary'!K$11)","v":19.59714656253745},{"$f":"SUM('Charges Summary'!L149,'Charges Summary'!L$11)","v":20.89387806816282},{"$f":"SUM('Charges Summary'!M149,'Charges Summary'!M$11)","v":22.027284286848982},{"$f":"SUM('Charges Summary'!N149,'Charges Summary'!N$11)","v":23.092928606019207},{"$f":"SUM('Charges Summary'!O149,'Charges Summary'!O$11)","v":24.145676872848913},null,3.5527136788005009E-15,0,0,3.5527136788005009E-15,0]
[{"$f":"'DNSP Inputs General'!A118","v":"LED 155W-250W (L2)"},null,{"$f":"'DNSP Inputs General'!E118","v":24.89},{"$f":"'Charges Summary'!K$169","v":42.031604816224046},{"$f":"'Charges Summary'!L$169","v":43.858057105744933},{"$f":"'Charges Summary'!M$169","v":45.547546328331165},{"$f":"'Charges Summary'!N$169","v":47.24095280403639},{"$f":"'Charges Summary'!O$169","v":49.029022268485946},null,{"$f":"SUM('Charges Summary'!K163,'Charges Summary'!K$8)","v":21.887239762452531},{"$f":"SUM('Charges Summary'!L163,'Charges Summary'!L$8)","v":22.365803117000105},{"$f":"SUM('Charges Summary'!M163,'Charges Summary'!M$8)","v":22.87964591324986},{"$f":"SUM('Charges Summary'!N163,'Charges Summary'!N$8)","v":23.468299903715842},{"$f":"SUM('Charges Summary'!O163,'Charges Summary'!O$8)","v":24.163784723907217},null,{"$f":"SUM('Charges Summary'!K165,'Charges Summary'!K$11)","v":20.144365053771519},{"$f":"SUM('Charges Summary'!L165,'Charges Summary'!L$11)","v":21.492253988744828},{"$f":"SUM('Charges Summary'!M165,'Charges Summary'!M$11)","v":22.667900415081302},{"$f":"SUM('Charges Summary'!N165,'Charges Summary'!N$11)","v":23.772652900320548},{"$f":"SUM('Charges Summary'!O165,'Charges Summary'!O$11)","v":24.865237544578726},null,3.5527136788005009E-15,0,3.5527136788005009E-15,0,3.5527136788005009E-15]
[{"$f":"'DNSP Inputs General'!A119","v":"LED 275W-400W (L4)"},null,{"$f":"'DNSP Inputs General'!E119","v":26.37},{"$f":"'Charges Summary'!K$185","v":58.441259214170799},{"$f":"'Charges Summary'!L$185","v":60.975911537491299},{"$f":"'Charges Summary'!M$185","v":63.315985944648943},{"$f":"'Charges Summary'!N$185","v":65.680902102211093},{"$f":"'Charges Summary'!O$185","v":68.218325267808723},null,{"$f":"SUM('Charges Summary'!K179,'Charges Summary'!K$8)","v":33.396443127699953},{"$f":"SUM('Charges Summary'!L179,'Charges Summary'!L$8)","v":34.125081504750483},{"$f":"SUM('Charges Summary'!M179,'Charges Summary'!M$8)","v":34.911239978021541},{"$f":"SUM('Charges Summary'!N179,'Charges Summary'!N$8)","v":35.821182201563182},{"$f":"SUM('Charges Summary'!O179,'Charges Summary'!O$8)","v":36.909277995755168},null,{"$f":"SUM('Charges Summary'!K181,'Charges Summary'!K$11)","v":25.044816086470838},{"$f":"SUM('Charges Summary'!L181,'Charges Summary'!L$11)","v":26.850830032740816},{"$f":"SUM('Charges Summary'!M181,'Charges Summary'!M$11)","v":28.404745966627402},{"$f":"SUM('Charges Summary'!N181,'Charges Summary'!N$11)","v":29.859719900647903},{"$f":"SUM('Charges Summary'!O181,'Charges Summary'!O$11)","v":31.309047272053565},null,7.1054273576010019E-15,0,0,7.1054273576010019E-15,1.0658141036401503E-14]
[{"$f":"'DNSP Inputs General'!A120","v":"Compact Fluorescent 32W"},null,{"$f":"'DNSP Inputs General'!E120","v":36.130000000000003},{"$f":"IF('DNSP Inputs General'!$B120='DNSP Inputs General'!$A$113,D$54,D$55)*'DNSP Inputs General'!$D120","v":44.554365286706727},{"$f":"IF('DNSP Inputs General'!$B120='DNSP Inputs General'!$A$113,E$54,E$55)*'DNSP Inputs General'!$D120","v":46.105134532539857},{"$f":"IF('DNSP Inputs General'!$B120='DNSP Inputs General'!$A$113,F$54,F$55)*'DNSP Inputs General'!$D120","v":47.601950935242044},{"$f":"IF('DNSP Inputs General'!$B120='DNSP Inputs General'!$A$113,G$54,G$55)*'DNSP Inputs General'!$D120","v":49.148658475528521},{"$f":"IF('DNSP Inputs General'!$B120='DNSP Inputs General'!$A$113,H$54,H$55)*'DNSP Inputs General'!$D120","v":50.814034155463467},null,{"$f":"IF('DNSP Inputs General'!$B120='DNSP Inputs General'!$A$113,J$54,J$55)*'DNSP Inputs General'!$D120","v":30.045134684560871},{"$f":"IF('DNSP Inputs General'!$B120='DNSP Inputs General'!$A$113,K$54,K$55)*'DNSP Inputs General'!$D120","v":30.710374025672561},{"$f":"IF('DNSP Inputs General'!$B120='DNSP Inputs General'!$A$113,L$54,L$55)*'DNSP Inputs General'!$D120","v":31.420858828860542},{"$f":"IF('DNSP Inputs General'!$B120='DNSP Inputs General'!$A$113,M$54,M$55)*'DNSP Inputs General'!$D120","v":32.225221405871338},{"$f":"IF('DNSP Inputs General'!$B120='DNSP Inputs General'!$A$113,N$54,N$55)*'DNSP Inputs General'!$D120","v":33.163226721755208},null,{"$f":"IF('DNSP Inputs General'!$B120='DNSP Inputs General'!$A$113,P$54,P$55)*'DNSP Inputs General'!$D120","v":14.509230602145854},{"$f":"IF('DNSP Inputs General'!$B120='DNSP Inputs General'!$A$113,Q$54,Q$55)*'DNSP Inputs General'!$D120","v":15.394760506867295},{"$f":"IF('DNSP Inputs General'!$B120='DNSP Inputs General'!$A$113,R$54,R$55)*'DNSP Inputs General'!$D120","v":16.181092106381499},{"$f":"IF('DNSP Inputs General'!$B120='DNSP Inputs General'!$A$113,S$54,S$55)*'DNSP Inputs General'!$D120","v":16.923437069657187},{"$f":"IF('DNSP Inputs General'!$B120='DNSP Inputs General'!$A$113,T$54,T$55)*'DNSP Inputs General'!$D120","v":17.650807433708259},null,1.7763568394002505E-15,1.7763568394002505E-15,3.5527136788005009E-15,3.5527136788005009E-15,0]
[{"$f":"'DNSP Inputs General'!A121","v":"Compact Fluorescent 42W"},null,{"$f":"'DNSP Inputs General'!E121","v":36.130000000000003},{"$f":"IF('DNSP Inputs General'!$B121='DNSP Inputs General'!$A$113,D$54,D$55)*'DNSP Inputs General'!$D121","v":44.554365286706727},{"$f":"IF('DNSP Inputs General'!$B121='DNSP Inputs General'!$A$113,E$54,E$55)*'DNSP Inputs General'!$D121","v":46.105134532539857},{"$f":"IF('DNSP Inputs General'!$B121='DNSP Inputs General'!$A$113,F$54,F$55)*'DNSP Inputs General'!$D121","v":47.601950935242044},{"$f":"IF('DNSP Inputs General'!$B121='DNSP Inputs General'!$A$113,G$54,G$55)*'DNSP Inputs General'!$D121","v":49.148658475528521},{"$f":"IF('DNSP Inputs General'!$B121='DNSP Inputs General'!$A$113,H$54,H$55)*'DNSP Inputs General'!$D121","v":50.814034155463467},null,{"$f":"IF('DNSP Inputs General'!$B121='DNSP Inputs General'!$A$113,J$54,J$55)*'DNSP Inputs General'!$D121","v":30.045134684560871},{"$f":"IF('DNSP Inputs General'!$B121='DNSP Inputs General'!$A$113,K$54,K$55)*'DNSP Inputs General'!$D121","v":30.710374025672561},{"$f":"IF('DNSP Inputs General'!$B121='DNSP Inputs General'!$A$113,L$54,L$55)*'DNSP Inputs General'!$D121","v":31.420858828860542},{"$f":"IF('DNSP Inputs General'!$B121='DNSP Inputs General'!$A$113,M$54,M$55)*'DNSP Inputs General'!$D121","v":32.225221405871338},{"$f":"IF('DNSP Inputs General'!$B121='DNSP Inputs General'!$A$113,N$54,N$55)*'DNSP Inputs General'!$D121","v":33.163226721755208},null,{"$f":"IF('DNSP Inputs General'!$B121='DNSP Inputs General'!$A$113,P$54,P$55)*'DNSP Inputs General'!$D121","v":14.509230602145854},{"$f":"IF('DNSP Inputs General'!$B121='DNSP Inputs General'!$A$113,Q$54,Q$55)*'DNSP Inputs General'!$D121","v":15.394760506867295},{"$f":"IF('DNSP Inputs General'!$B121='DNSP Inputs General'!$A$113,R$54,R$55)*'DNSP Inputs General'!$D121","v":16.181092106381499},{"$f":"IF('DNSP Inputs General'!$B121='DNSP Inputs General'!$A$113,S$54,S$55)*'DNSP Inputs General'!$D121","v":16.923437069657187},{"$f":"IF('DNSP Inputs General'!$B121='DNSP Inputs General'!$A$113,T$54,T$55)*'DNSP Inputs General'!$D121","v":17.650807433708259},null,1.7763568394002505E-15,1.7763568394002505E-15,3.5527136788005009E-15,3.5527136788005009E-15,0]

{"sheet":"Cashflow Summary","index":9,"n_rows":360,"n_cols":15,"rows_kept":360,"cut":false,"hidden":false,"merged":[[305,3,305,7],[305,10,305,14],[209,2,209,7],[209,9,209,14],[250,3,250,7],[250,10,250,14],[149,3,149,7],[149,10,149,14],[53,2,53,7],[53,9,53,14],[94,3,94,7],[94,10,94,14],[3,2,3,7],[3,9,3,14],[9,3,9,7],[9,10,9,14],[29,3,29,7],[41,3,41,7],[15,3,15,7],[15,10,15,14],[22,3,22,7],[22,10,22,14]]}
[{"$f":"'DNSP Inputs O & M'!$A$3","v":"AusNet"},null,null,null,"Check",{"$f":"SUM(C21,C27,C50,C204,C360)","v":2.4214386940002441E-8}]
[null,null,{"$f":"'DNSP Inputs General'!O$2","v":2020},{"$f":"'DNSP Inputs General'!Q$2","v":"2022-06-30"},{"$f":"'DNSP Inputs General'!R$2","v":"2023-06-30"},{"$f":"'DNSP Inputs General'!S$2","v":"2024-06-30"},{"$f":"'DNSP Inputs General'!T$2","v":"2025-06-30"},{"$f":"'DNSP Inputs General'!U$2","v":"2026-06-30"},null,{"$f":"C2","v":2020},{"$f":"D2","v":"2022-06-30"},"2023-06-30","2024-06-30","2025-06-30","2026-06-30"]
[]
["Public Lighting - Revenue",null,"Revenue - Nominal ",null,null,null,null,null,null,"Revenue - Real 2021 $ "]
[null,null,{"$f":"C$2","v":2020},{"$f":"D$2","v":"2022-06-30"},"2023-06-30","2024-06-30","2025-06-30","2026-06-30",null,{"$f":"J$2","v":2020},"2022-06-30","2023-06-30","2024-06-30","2025-06-30","2026-06-30"]
[]
["Total Revenue",null,{"$f":"C92+C248","v":9759576.1428190023},10984432.721852854,11338271.751536995,11707049.818261474,12202626.553381693,12645766.932304835,null,{"$f":"J92+J248","v":9759576.1428190023},10729677.068008034,10818446.400033385,10911250.347551405,11109369.001603894,11245797.605188398]
[null,null,null,{"$f":"D7/C7-1","v":0.12550305065605638},{"$f":"E7/D7-1","v":3.2212772260892475E-2},3.2525068617665465E-2,4.2331479135519157E-2,3.6315163541601247E-2,null,null,{"$f":"K7/J7-1","v":9.9399903335230633E-2},8.2732529099154295E-3,8.578306356237464E-3,1.815728241419623E-2,1.2280499780393139E-2]
[]
["Public Lighting - O & M",null,null,"Forecast O & M - Nominal ",null,null,null,null,null,null,"Forecast O & M - Real 2021 $ "]
[null,null,null,{"$f":"D$2","v":"2022-06-30"},"2023-06-30","2024-06-30","2025-06-30","2026-06-30",null,null,{"$f":"K$2","v":"2022-06-30"},"2023-06-30","2024-06-30","2025-06-30","2026-06-30"]
[]
["Total O & M",null,null,{"$f":"D147+D303","v":6880202.1555367094},{"$f":"E147+E303","v":6996378.456881946},{"$f":"F147+F303","v":7123380.2901466656},{"$f":"G147+G303","v":7274813.4483487178},{"$f":"H147+H303","v":7462314.2403573226},null,null,{"$f":"K147+K303","v":6720633.569420171},{"$f":"L147+L303","v":6675615.7365751276},{"$f":"M147+M303","v":6639160.7512733703},{"$f":"N147+N303","v":6623048.4610822778},{"$f":"O147+O303","v":6636187.1179985702}]
[]
[]
["Public Lighting - Capital Charge",null,null,"Capital Charge - Nominal ",null,null,null,null,null,null,"Capital Charge - Real 2021 $ "]
[null,null,null,{"$f":"D$2","v":"2022-06-30"},"2023-06-30","2024-06-30","2025-06-30","2026-06-30",null,null,{"$f":"K$2","v":"2022-06-30"},"2023-06-30","2024-06-30","2025-06-30","2026-06-30"]
[]
["Total Capital Charge",null,null,{"$f":"D202+D358","v":4104230.5663161445},{"$f":"E202+E358","v":4341893.2946550502},{"$f":"F202+F358","v":4583669.5281148097},{"$f":"G202+G358","v":4927813.1050329767},{"$f":"H202+H358","v":5183452.6919475142},null,null,{"$f":"K202+K358","v":4009043.4985878607},{"$f":"L202+L358","v":4142830.6634582561},{"$f":"M202+M358","v":4272089.5962780351},{"$f":"N202+N358","v":4486320.5405216152},{"$f":"O202+O358","v":4609610.4871898275}]
[]
["Check",null,{"$f":"SUM(D21:O21)","v":5.5879354476928711E-9},{"$f":"ABS(D7-SUM(D13,D19))","v":0},{"$f":"ABS(E7-SUM(E13,E19))","v":0},{"$f":"ABS(F7-SUM(F13,F19))","v":0},{"$f":"ABS(G7-SUM(G13,G19))","v":1.862645149230957E-9},{"$f":"ABS(H7-SUM(H13,H19))","v":1.862645149230957E-9},null,null,{"$f":"ABS(K7-SUM(K13,K19))","v":1.862645149230957E-9},{"$f":"ABS(L7-SUM(L13,L19))","v":0},{"$f":"ABS(M7-SUM(M13,M19))","v":0},{"$f":"ABS(N7-SUM(N13,N19))","v":0},{"$f":"ABS(O7-SUM(O13,O19))","v":0}]
[]
["Public Lighting - Capital Expenditure",null,null,"Forecast Capital Expenditure - Nominal ",null,null,null,null,null,null,"Forecast Capital Expenditure - Real 2021 $ "]
[null,null,null,{"$f":"D$2","v":"2022-06-30"},"2023-06-30","2024-06-30","2025-06-30","2026-06-30",null,null,{"$f":"K$2","v":"2022-06-30"},"2023-06-30","2024-06-30","2025-06-30","2026-06-30"]
[]
["Total Capital Expenditure",null,null,{"$f":"K26*'Charges Summary'!K$4","v":5465291.726968131},{"$f":"L26*'Charges Summary'!L$4","v":5558880.1092025097},{"$f":"M26*'Charges Summary'!M$4","v":5653355.7850647764},{"$f":"N26*'Charges Summary'!N$4","v":4867230.4461259963},{"$f":"O26*'Charges Summary'!O$4","v":4064473.9762856443},null,null,{"$f":"'DNSP Inputs General'!Q14","v":5338538.3476528265},{"$f":"'DNSP Inputs General'!R14","v":5304022.3257540846},{"$f":"'DNSP Inputs General'!S14","v":5269062.7640790371},{"$f":"'DNSP Inputs General'!T14","v":4431165.6023653354},{"$f":"'DNSP Inputs General'!U14","v":3614510.0533283995}]
["Check",null,{"$f":"SUM(D27:H27)","v":1.3969838619232178E-9},{"$f":"ABS(D26-D34)","v":9.3132257461547852E-10},{"$f":"ABS(E26-E34)","v":0},{"$f":"ABS(F26-F34)","v":0},{"$f":"ABS(G26-G34)","v":0},{"$f":"ABS(H26-H34)","v":4.6566128730773926E-10}]
[]
[]
["Public Lighting - RAB",null,null,"RAB - Historical Cost ($)"]
[null,null,null,{"$f":"D$2","v":"2022-06-30"},"2023-06-30","2024-06-30","2025-06-30","2026-06-30"]
[]
["Opening RAB",null,null,{"$f":"'Total RAB'!T157","v":38048605.928051516},{"$f":"D36","v":41321782.531393737},{"$f":"E36","v":44608929.834059648},47907431.737449147,50210615.167315528]
["Capex",null,null,{"$f":"'Total RAB'!T158","v":5465291.7269681301},{"$f":"'Total RAB'!U158","v":5558880.1092025097},{"$f":"'Total RAB'!V158","v":5653355.7850647764},{"$f":"'Total RAB'!W158","v":4867230.4461259963},{"$f":"'Total RAB'!X158","v":4064473.9762856448}]
["Depreciation",null,null,{"$f":"'Total RAB'!T159","v":2192115.1236259113},{"$f":"'Total RAB'!U159","v":2271732.8065366028},{"$f":"'Total RAB'!V159","v":2354853.8816752792},{"$f":"'Total RAB'!W159","v":2564047.0162596181},{"$f":"'Total RAB'!X159","v":2732102.2884409758}]
["Closing RAB",null,null,{"$f":"D33+D34-D35","v":41321782.531393737},{"$f":"E33+E34-E35","v":44608929.834059648},{"$f":"F33+F34-F35","v":47907431.737449147},{"$f":"G33+G34-G35","v":50210615.167315528},{"$f":"H33+H34-H35","v":51542986.855160199}]
[]
["Average RAB",null,null,{"$f":"SUM(D33,D36)/2","v":39685194.229722627},{"$f":"SUM(E33,E36)/2","v":42965356.182726696},{"$f":"SUM(F33,F36)/2","v":46258180.785754398},{"$f":"SUM(G33,G36)/2","v":49059023.452382341},{"$f":"SUM(H33,H36)/2","v":50876801.01123786}]
[]
[{"$f":"WACC!A$8","v":"Nominal Pre Tax WACC"},null,null,{"$f":"WACC!E$8","v":4.8182086034950888E-2},{"$f":"WACC!F$8","v":4.8182086034950888E-2},{"$f":"WACC!G$8","v":4.8182086034950888E-2},{"$f":"WACC!H$8","v":4.8182086034950888E-2},{"$f":"WACC!I$8","v":4.8182086034950888E-2}]
[]
["Capital Charge",null,null,"Capital Charge - Nominal "]
[null,null,null,{"$f":"D$2","v":"2022-06-30"},"2023-06-30","2024-06-30","2025-06-30","2026-06-30"]
[]
["Depreciation",null,null,{"$f":"D35","v":2192115.1236259113},{"$f":"E35","v":2271732.8065366028},{"$f":"F35","v":2354853.8816752792},{"$f":"G35","v":2564047.0162596181},{"$f":"H35","v":2732102.2884409758}]
["Return",null,null,{"$f":"D40*D38","v":1912115.4426902321},{"$f":"E40*E38","v":2070160.4881184467},{"$f":"F40*F38","v":2228815.6464395304},{"$f":"G40*G38","v":2363766.0887733595},{"$f":"H40*H38","v":2451350.4035065388}]
[]
[null,null,null,{"$f":"SUM(D45:D47)","v":4104230.5663161436},{"$f":"SUM(E45:E47)","v":4341893.2946550492},{"$f":"SUM(F45:F47)","v":4583669.5281148097},{"$f":"SUM(G45:G47)","v":4927813.1050329776},{"$f":"SUM(H45:H47)","v":5183452.6919475142}]
[]
["Check",null,{"$f":"SUM(D50:H50)","v":2.7939677238464355E-9},{"$f":"ABS(D19-D48)*IF('DNSP Inputs General'!Q80=0,0,1)*IF('DNSP Inputs General'!Q124=0,0,1)","v":9.3132257461547852E-10},{"$f":"ABS(E19-E48)*IF('DNSP Inputs General'!R80=0,0,1)*IF('DNSP Inputs General'!R124=0,0,1)","v":9.3132257461547852E-10},{"$f":"ABS(F19-F48)*IF('DNSP Inputs General'!S80=0,0,1)*IF('DNSP Inputs General'!S124=0,0,1)","v":0},{"$f":"ABS(G19-G48)*IF('DNSP Inputs General'!T80=0,0,1)*IF('DNSP Inputs General'!T124=0,0,1)","v":9.3132257461547852E-10},{"$f":"ABS(H19-H48)*IF('DNSP Inputs General'!U80=0,0,1)*IF('DNSP Inputs General'!U124=0,0,1)","v":0}]
[]
[]
[{"$f":"'DNSP Inputs General'!$B$39","v":"Central"}]
["Public Lighting - Revenue",null,"Revenue - Nominal ",null,null,null,null,null,null,"Revenue - Real 2021 $ "]
[null,null,{"$f":"C$2","v":2020},{"$f":"D$2","v":"2022-06-30"},"2023-06-30","2024-06-30","2025-06-30","2026-06-30",null,{"$f":"J$2","v":2020},"2022-06-30","2023-06-30","2024-06-30","2025-06-30","2026-06-30"]
[{"$f":"'DNSP Inputs General'!A$41","v":"Existing Lights"}]
[{"$f":"'DNSP Inputs General'!A$42","v":"Mercury Vapour 80W"},null,{"$f":"IF('PL Tariffs'!C7=0,\"\",'DNSP Inputs General'!O42*'PL Tariffs'!C7)","v":760217.65733099997},{"$f":"'DNSP Inputs General'!Q42*'PL Tariffs'!D7","v":789869.24214331468},{"$f":"'DNSP Inputs General'!R42*'PL Tariffs'!E7","v":810791.90966721484},{"$f":"'DNSP Inputs General'!S42*'PL Tariffs'!F7","v":752477.94461869984},{"$f":"'DNSP Inputs General'!T42*'PL Tariffs'!G7","v":786849.95843791426},{"$f":"'DNSP Inputs General'!U42*'PL Tariffs'!H7","v":810359.29428810219},null,{"$f":"C57","v":760217.65733099997},{"$f":"D57/'Charges Summary'!D$4","v":771550.25741925044},{"$f":"E57/'Charges Summary'!E$4","v":773619.56112283387},{"$f":"F57/'Charges Summary'!F$4","v":701327.43622037757},{"$f":"G57/'Charges Summary'!G$4","v":716354.50769088604},{"$f":"H57/'Charges Summary'!H$4","v":720647.20628109237}]
[{"$f":"'DNSP Inputs General'!A$43","v":"HP Sodium 150W"},null,{"$f":"IF('PL Tariffs'!C8=0,\"\",'DNSP Inputs General'!O43*'PL Tariffs'!C8)","v":1871803.0199999998},{"$f":"'DNSP Inputs General'!Q43*'PL Tariffs'!D8","v":1763930.1464509154},{"$f":"'DNSP Inputs General'!R43*'PL Tariffs'!E8","v":1746968.0463306294},{"$f":"'DNSP Inputs General'!S43*'PL Tariffs'!F8","v":1784335.0298705362},{"$f":"'DNSP Inputs General'!T43*'PL Tariffs'!G8","v":1797763.8930050321},{"$f":"'DNSP Inputs General'!U43*'PL Tariffs'!H8","v":1788329.0047501959},null,1871803.0199999998,{"$f":"D58/'Charges Summary'!D$4","v":1723020.3253272721},{"$f":"E58/'Charges Summary'!E$4","v":1666874.8629381701},{"$f":"F58/'Charges Summary'!F$4","v":1663042.9114987981},{"$f":"G58/'Charges Summary'!G$4","v":1636698.6548169032},{"$f":"H58/'Charges Summary'!H$4","v":1590349.2565194075}]
[{"$f":"'DNSP Inputs General'!A$44","v":"HP Sodium 250W"},null,{"$f":"IF('PL Tariffs'!C9=0,\"\",'DNSP Inputs General'!O44*'PL Tariffs'!C9)","v":1296339.8400000001},{"$f":"'DNSP Inputs General'!Q44*'PL Tariffs'!D9","v":1226190.9071879897},{"$f":"'DNSP Inputs General'!R44*'PL Tariffs'!E9","v":1211192.8306552665},{"$f":"'DNSP Inputs General'!S44*'PL Tariffs'!F9","v":1235471.9860823981},{"$f":"'DNSP Inputs General'!T44*'PL Tariffs'!G9","v":1241471.2097546184},{"$f":"'DNSP Inputs General'!U44*'PL Tariffs'!H9","v":1231373.4664432628},null,1296339.8400000001,{"$f":"D59/'Charges Summary'!D$4","v":1197752.5641065312},{"$f":"E59/'Charges Summary'!E$4","v":1155663.314982062},{"$f":"F59/'Charges Summary'!F$4","v":1151489.4313086204},{"$f":"G59/'Charges Summary'!G$4","v":1130245.3380587557},{"$f":"H59/'Charges Summary'!H$4","v":1095052.3486752466}]
[{"$f":"'DNSP Inputs General'!A$45","v":"Mercury Vapour 50W"},null,{"$f":"IF('PL Tariffs'!C10=0,\"\",'DNSP Inputs General'!O45*'PL Tariffs'!C10)","v":1651.9830249999998},{"$f":"'DNSP Inputs General'!Q45*'PL Tariffs'!D10","v":1716.521703993056},{"$f":"'DNSP Inputs General'!R45*'PL Tariffs'!E10","v":1761.9902587791014},{"$f":"'DNSP Inputs General'!S45*'PL Tariffs'!F10","v":1635.2639839591654},{"$f":"'DNSP Inputs General'!T45*'PL Tariffs'!G10","v":1709.9602812482369},{"$f":"'DNSP Inputs General'!U45*'PL Tariffs'!H10","v":1761.0501111595879},null,1651.9830249999998,{"$f":"D60/'Charges Summary'!D$4","v":1676.7113997094666},{"$f":"E60/'Charges Summary'!E$4","v":1681.2083525338555},{"$f":"F60/'Charges Summary'!F$4","v":1524.1051324032408},{"$f":"G60/'Charges Summary'!G$4","v":1556.7615430473488},{"$f":"H60/'Charges Summary'!H$4","v":1566.0903153372979}]
[{"$f":"'DNSP Inputs General'!A$46","v":"Mercury Vapour 125W"},null,{"$f":"IF('PL Tariffs'!C11=0,\"\",'DNSP Inputs General'!O46*'PL Tariffs'!C11)","v":18855.356552999998},{"$f":"'DNSP Inputs General'!Q46*'PL Tariffs'!D11","v":19592.580673106626},{"$f":"'DNSP Inputs General'!R46*'PL Tariffs'!E11","v":20111.564106676287},{"$f":"'DNSP Inputs General'!S46*'PL Tariffs'!F11","v":18665.095496908023},{"$f":"'DNSP Inputs General'!T46*'PL Tariffs'!G11","v":19517.68782196517},{"$f":"'DNSP Inputs General'!U46*'PL Tariffs'!H11","v":20100.833151141556},null,18855.356552999998,{"$f":"D61/'Charges Summary'!D$4","v":19138.181176448528},{"$f":"E61/'Charges Summary'!E$4","v":19189.509925039376},{"$f":"F61/'Charges Summary'!F$4","v":17396.31528773675},{"$f":"G61/'Charges Summary'!G$4","v":17769.05940075927},{"$f":"H61/'Charges Summary'!H$4","v":17875.53910517937}]
[{"$f":"'DNSP Inputs General'!A$47","v":"Mercury Vapour 250W"},null,{"$f":"IF('PL Tariffs'!C12=0,\"\",'DNSP Inputs General'!O47*'PL Tariffs'!C12)","v":112319.44323599999},{"$f":"'DNSP Inputs General'!Q47*'PL Tariffs'!D12","v":97979.894969853267},{"$f":"'DNSP Inputs General'!R47*'PL Tariffs'!E12","v":100345.88755687102},{"$f":"'DNSP Inputs General'!S47*'PL Tariffs'!F12","v":106177.38966066288},{"$f":"'DNSP Inputs General'!T47*'PL Tariffs'!G12","v":110729.580205626},{"$f":"'DNSP Inputs General'!U47*'PL Tariffs'!H12","v":114094.90552093097},null,112319.44323599999,{"$f":"D62/'Charges Summary'!D$4","v":95707.503410020261},{"$f":"E62/'Charges Summary'!E$4","v":95745.333132505504},{"$f":"F62/'Charges Summary'!F$4","v":98959.865877554897},{"$f":"G62/'Charges Summary'!G$4","v":100809.09716573174},{"$f":"H62/'Charges Summary'!H$4","v":101463.85127450901}]
[{"$f":"'DNSP Inputs General'!A$48","v":"Mercury Vapour 400W"},null,{"$f":"IF('PL Tariffs'!C13=0,\"\",'DNSP Inputs General'!O48*'PL Tariffs'!C13)","v":23185.698403999999},{"$f":"'DNSP Inputs General'!Q48*'PL Tariffs'!D13","v":20224.678816446827},{"$f":"'DNSP Inputs General'!R48*'PL Tariffs'!E13","v":20713.059010865803},{"$f":"'DNSP Inputs General'!S48*'PL Tariffs'!F13","v":21916.777968749077},{"$f":"'DNSP Inputs General'!T48*'PL Tariffs'!G13","v":22856.425757833484},{"$f":"'DNSP Inputs General'!U48*'PL Tariffs'!H13","v":23551.084836982758},null,23185.698403999999,{"$f":"D63/'Charges Summary'!D$4","v":19755.619429753591},{"$f":"E63/'Charges Summary'!E$4","v":19763.428113231097},{"$f":"F63/'Charges Summary'!F$4","v":20426.961099601194},{"$f":"G63/'Charges Summary'!G$4","v":20808.673173003684},{"$f":"H63/'Charges Summary'!H$4","v":20943.825303528458}]
[{"$f":"'DNSP Inputs General'!A$49","v":"HP Sodium 100W"},null,{"$f":"IF('PL Tariffs'!C14=0,\"\",'DNSP Inputs General'!O49*'PL Tariffs'!C14)","v":278065.91999999998},{"$f":"'DNSP Inputs General'!Q49*'PL Tariffs'!D14","v":270190.02083512989},{"$f":"'DNSP Inputs General'!R49*'PL Tariffs'!E14","v":273213.19324390107},{"$f":"'DNSP Inputs General'!S49*'PL Tariffs'!F14","v":284988.81664325338},{"$f":"'DNSP Inputs General'!T49*'PL Tariffs'!G14","v":293313.30972046993},{"$f":"'DNSP Inputs General'!U49*'PL Tariffs'!H14","v":298250.26795790286},null,278065.91999999998,{"$f":"D64/'Charges Summary'!D$4","v":263923.658505534},{"$f":"E64/'Charges Summary'!E$4","v":260687.19745497656},{"$f":"F64/'Charges Summary'!F$4","v":265616.39122748206},{"$f":"G64/'Charges Summary'!G$4","v":267034.78767555993},{"$f":"H64/'Charges Summary'!H$4","v":265232.00744586752}]
[{"$f":"'DNSP Inputs General'!A50","v":"HP Sodium 400W"},null,{"$f":"IF('PL Tariffs'!C15=0,\"\",'DNSP Inputs General'!O50*'PL Tariffs'!C15)","v":66122.179999999993},{"$f":"'DNSP Inputs General'!Q50*'PL Tariffs'!D15","v":64690.740480722226},{"$f":"'DNSP Inputs General'!R50*'PL Tariffs'!E15","v":65412.482305092497},{"$f":"'DNSP Inputs General'!S50*'PL Tariffs'!F15","v":68324.632402327319},{"$f":"'DNSP Inputs General'!T50*'PL Tariffs'!G15","v":70326.588712244877},{"$f":"'DNSP Inputs General'!U50*'PL Tariffs'!H15","v":71508.434087433852},null,66122.179999999993,{"$f":"D65/'Charges Summary'!D$4","v":63190.405205684729},{"$f":"E65/'Charges Summary'!E$4","v":62413.518498958736},{"$f":"F65/'Charges Summary'!F$4","v":63680.191048928638},{"$f":"G65/'Charges Summary'!G$4","v":64025.889935297862},{"$f":"H65/'Charges Summary'!H$4","v":63591.981499904716}]
[{"$f":"'DNSP Inputs General'!A51","v":"Metal Halide 70W"},null,{"$f":"IF('PL Tariffs'!C16=0,\"\",'DNSP Inputs General'!O51*'PL Tariffs'!C16)","v":5949.83},{"$f":"'DNSP Inputs General'!Q51*'PL Tariffs'!D16","v":4415.7261912976219},{"$f":"'DNSP Inputs General'!R51*'PL Tariffs'!E16","v":2719.61601757887},{"$f":"'DNSP Inputs General'!S51*'PL Tariffs'!F16","v":841.3383864423763},{"$f":"'DNSP Inputs General'!T51*'PL Tariffs'!G16","v":0},{"$f":"'DNSP Inputs General'!U51*'PL Tariffs'!H16","v":0},null,{"$f":"C66","v":5949.83},{"$f":"D66/'Charges Summary'!D$4","v":4313.3147840316151},{"$f":"E66/'Charges Summary'!E$4","v":2594.929876403859},{"$f":"F66/'Charges Summary'!F$4","v":784.14749266361093},{"$f":"G66/'Charges Summary'!G$4","v":0},{"$f":"H66/'Charges Summary'!H$4","v":0}]
[{"$f":"'DNSP Inputs General'!A52","v":"Metal Halide 100W"},null,{"$f":"IF('PL Tariffs'!C17=0,\"\",'DNSP Inputs General'!O52*'PL Tariffs'!C17)","v":8448.66},{"$f":"'DNSP Inputs General'!Q52*'PL Tariffs'!D17","v":7320.106434265419},{"$f":"'DNSP Inputs General'!R52*'PL Tariffs'!E17","v":7497.1095906378559},{"$f":"'DNSP Inputs General'!S52*'PL Tariffs'!F17","v":7922.0175838228261},{"$f":"'DNSP Inputs General'!T52*'PL Tariffs'!G17","v":8260.9333016000401},{"$f":"'DNSP Inputs General'!U52*'PL Tariffs'!H17","v":8512.2245452879361},null,8448.66,{"$f":"D67/'Charges Summary'!D$4","v":7150.3354002852129},{"$f":"E67/'Charges Summary'!E$4","v":7153.3898674193588},{"$f":"F67/'Charges Summary'!F$4","v":7383.5098044907427},{"$f":"G67/'Charges Summary'!G$4","v":7520.8198778876567},{"$f":"H67/'Charges Summary'!H$4","v":7569.8654671296927}]
[{"$f":"'DNSP Inputs General'!A53","v":"Metal Halide 150W"},null,{"$f":"IF('PL Tariffs'!C18=0,\"\",'DNSP Inputs General'!O53*'PL Tariffs'!C18)","v":9316.23},{"$f":"'DNSP Inputs General'!Q53*'PL Tariffs'!D18","v":8071.5750694066974},{"$f":"'DNSP Inputs General'!R53*'PL Tariffs'!E18","v":8266.7490435847703},{"$f":"'DNSP Inputs General'!S53*'PL Tariffs'!F18","v":8735.2773082188905},{"$f":"'DNSP Inputs General'!T53*'PL Tariffs'!G18","v":9108.9854889408762},{"$f":"'DNSP Inputs General'!U53*'PL Tariffs'!H18","v":9386.0738285607586},null,9316.23,{"$f":"D68/'Charges Summary'!D$4","v":7884.3756539764026},{"$f":"E68/'Charges Summary'!E$4","v":7887.7436870769725},{"$f":"F68/'Charges Summary'!F$4","v":8141.4873127630945},{"$f":"G68/'Charges Summary'!G$4","v":8292.8933852241371},{"$f":"H68/'Charges Summary'!H$4","v":8346.9739042637611}]
[{"$f":"'DNSP Inputs General'!A54","v":"HP Sodium 50W"},null,{"$f":"IF('PL Tariffs'!C19=0,\"\",'DNSP Inputs General'!O54*'PL Tariffs'!C19)","v":0},{"$f":"'DNSP Inputs General'!Q54*'PL Tariffs'!D19","v":0},{"$f":"'DNSP Inputs General'!R54*'PL Tariffs'!E19","v":0},{"$f":"'DNSP Inputs General'!S54*'PL Tariffs'!F19","v":0},{"$f":"'DNSP Inputs General'!T54*'PL Tariffs'!G19","v":0},{"$f":"'DNSP Inputs General'!U54*'PL Tariffs'!H19","v":0},null,0,{"$f":"D69/'Charges Summary'!D$4","v":0},{"$f":"E69/'Charges Summary'!E$4","v":0},{"$f":"F69/'Charges Summary'!F$4","v":0},{"$f":"G69/'Charges Summary'!G$4","v":0},{"$f":"H69/'Charges Summary'!H$4","v":0}]
[]
[]
[]
[]
[]
[]
[]
[]
[]
[]
[]
[{"$f":"'DNSP Inputs General'!A$68","v":"Energy Efficient Lights"}]
[{"$f":"'DNSP Inputs General'!A$69","v":"T5 2X14W"},null,{"$f":"IF('PL Tariffs'!C23=0,\"\",'DNSP Inputs General'!O69*'PL Tariffs'!C23)","v":744894.4},{"$f":"'DNSP Inputs General'!Q69*'PL Tariffs'!D23","v":959617.15029989311},{"$f":"'DNSP Inputs General'!R69*'PL Tariffs'!E23","v":994299.73819340405},{"$f":"'DNSP Inputs General'!S69*'PL Tariffs'!F23","v":1027561.7612933228},{"$f":"'DNSP Inputs General'!T69*'PL Tariffs'!G23","v":1061703.9306658504},{"$f":"'DNSP Inputs General'!U69*'PL Tariffs'!H23","v":1098241.7393356897},null,{"$f":"C82","v":744894.4},{"$f":"D82/'Charges Summary'!D$4","v":937361.29961048975},{"$f":"E82/'Charges Summary'!E$4","v":948714.11260313122},{"$f":"F82/'Charges Summary'!F$4","v":957712.13064738712},{"$f":"G82/'Charges Summary'!G$4","v":966583.76658683515},{"$f":"H82/'Charges Summary'!H$4","v":976659.17680235149}]
[{"$f":"'DNSP Inputs General'!A$70","v":"T5 2X24W"},null,{"$f":"IF('PL Tariffs'!C24=0,\"\",'DNSP Inputs General'!O70*'PL Tariffs'!C24)","v":69389.919999999998},{"$f":"'DNSP Inputs General'!Q70*'PL Tariffs'!D24","v":80684.598623638987},{"$f":"'DNSP Inputs General'!R70*'PL Tariffs'!E24","v":83547.820252402162},{"$f":"'DNSP Inputs General'!S70*'PL Tariffs'!F24","v":86303.031129789248},{"$f":"'DNSP Inputs General'!T70*'PL Tariffs'!G24","v":89143.381891237615},{"$f":"'DNSP Inputs General'!U70*'PL Tariffs'!H24","v":92197.749206157401},null,{"$f":"C83","v":69389.919999999998},{"$f":"D83/'Charges Summary'!D$4","v":78813.32696145479},{"$f":"E83/'Charges Summary'!E$4","v":79717.40623677602},{"$f":"F83/'Charges Summary'!F$4","v":80436.488528541478},{"$f":"G83/'Charges Summary'!G$4","v":81156.849236380614},{"$f":"H83/'Charges Summary'!H$4","v":81990.85375974029}]
[{"$f":"'DNSP Inputs General'!A$71","v":"LED 18W"},null,{"$f":"IF('PL Tariffs'!C25=0,\"\",'DNSP Inputs General'!O71*'PL Tariffs'!C25)","v":542564.09616868326},{"$f":"'DNSP Inputs General'!Q71*'PL Tariffs'!D25","v":1044681.3189273808},{"$f":"'DNSP Inputs General'!R71*'PL Tariffs'!E25","v":1156954.7857852529},{"$f":"'DNSP Inputs General'!S71*'PL Tariffs'!F25","v":1273254.5917609234},{"$f":"'DNSP Inputs General'!T71*'PL Tariffs'!G25","v":1395373.8272480164},{"$f":"'DNSP Inputs General'!U71*'PL Tariffs'!H25","v":1524082.5149551129},null,{"$f":"C84","v":542564.09616868326},{"$f":"D84/'Charges Summary'!D$4","v":1020452.6237182647},{"$f":"E84/'Charges Summary'!E$4","v":1103911.9198728995},{"$f":"F84/'Charges Summary'!F$4","v":1186703.7231875309},{"$f":"G84/'Charges Summary'!G$4","v":1270359.5143442729},{"$f":"H84/'Charges Summary'!H$4","v":1355356.5860056416}]
[{"$f":"'DNSP Inputs General'!A$72","v":"LED 14W"},null,{"$f":"IF('PL Tariffs'!C26=0,\"\",'DNSP Inputs General'!O72*'PL Tariffs'!C26)","v":227.78},{"$f":"'DNSP Inputs General'!Q72*'PL Tariffs'!D26","v":391.36289719053593},{"$f":"'DNSP Inputs General'!R72*'PL Tariffs'!E26","v":407.80039220830122},{"$f":"'DNSP Inputs General'!S72*'PL Tariffs'!F26","v":423.18319993300696},{"$f":"'DNSP Inputs General'!T72*'PL Tariffs'!G26","v":438.44925530607969},{"$f":"'DNSP Inputs General'!U72*'PL Tariffs'!H26","v":454.13980089644201},null,{"$f":"C85","v":227.78},{"$f":"D85/'Charges Summary'!D$4","v":382.28624177381806},{"$f":"E85/'Charges Summary'!E$4","v":389.10398177923793},{"$f":"F85/'Charges Summary'!F$4","v":394.41686069741542},{"$f":"G85/'Charges Summary'!G$4","v":399.1677156033108},{"$f":"H85/'Charges Summary'!H$4","v":403.86354680436165}]
[{"$f":"'DNSP Inputs General'!A$73","v":"LED 70W-125W (L1)"},null,{"$f":"IF('PL Tariffs'!C27=0,\"\",'DNSP Inputs General'!O73*'PL Tariffs'!C27)","v":43250.419772978443},{"$f":"'DNSP Inputs General'!Q73*'PL Tariffs'!D27","v":96864.632709096913},{"$f":"'DNSP Inputs General'!R73*'PL Tariffs'!E27","v":128961.47695543994},{"$f":"'DNSP Inputs General'!S73*'PL Tariffs'!F27","v":163558.99032915803},{"$f":"'DNSP Inputs General'!T73*'PL Tariffs'!G27","v":194139.31106172729},{"$f":"'DNSP Inputs General'!U73*'PL Tariffs'!H27","v":228143.23301395227},null,43250.419772978443,{"$f":"D86/'Charges Summary'!D$4","v":94618.106787812751},{"$f":"E86/'Charges Summary'!E$4","v":123048.98459700809},{"$f":"F86/'Charges Summary'!F$4","v":152440.88970138208},{"$f":"G86/'Charges Summary'!G$4","v":176745.98455233296},{"$f":"H86/'Charges Summary'!H$4","v":202886.28101424477}]
[{"$f":"'DNSP Inputs General'!A$74","v":"LED 155W-250W (L2)"},null,{"$f":"IF('PL Tariffs'!C28=0,\"\",'DNSP Inputs General'!O74*'PL Tariffs'!C28)","v":27473.178707714062},{"$f":"'DNSP Inputs General'!Q74*'PL Tariffs'!D28","v":117359.07993111662},{"$f":"'DNSP Inputs General'!R74*'PL Tariffs'!E28","v":169229.18313786737},{"$f":"'DNSP Inputs General'!S74*'PL Tariffs'!F28","v":221954.80130377898},{"$f":"'DNSP Inputs General'!T74*'PL Tariffs'!G28","v":281147.52692785015},{"$f":"'DNSP Inputs General'!U74*'PL Tariffs'!H28","v":349077.4385631457},null,27473.178707714062,{"$f":"D87/'Charges Summary'!D$4","v":114637.23803909081},{"$f":"E87/'Charges Summary'!E$4","v":161470.53865156058},{"$f":"F87/'Charges Summary'!F$4","v":206867.18178040566},{"$f":"G87/'Charges Summary'!G$4","v":255958.96152900616},{"$f":"H87/'Charges Summary'!H$4","v":310432.27695350448}]
[{"$f":"'DNSP Inputs General'!A$75","v":"LED 275W-400W (L4)"},null,{"$f":"IF('PL Tariffs'!C29=0,\"\",'DNSP Inputs General'!O75*'PL Tariffs'!C29)","v":1236.1248609491997},{"$f":"'DNSP Inputs General'!Q75*'PL Tariffs'!D29","v":5617.4337625131075},{"$f":"'DNSP Inputs General'!R75*'PL Tariffs'!E29","v":7234.9841450247959},{"$f":"'DNSP Inputs General'!S75*'PL Tariffs'!F29","v":8970.7008698021182},{"$f":"'DNSP Inputs General'!T75*'PL Tariffs'!G29","v":10851.438159065283},{"$f":"'DNSP Inputs General'!U75*'PL Tariffs'!H29","v":12893.12047082655},null,1236.1248609491997,{"$f":"D88/'Charges Summary'!D$4","v":5487.1518401474705},{"$f":"E88/'Charges Summary'!E$4","v":6903.2820780143866},{"$f":"F88/'Charges Summary'!F$4","v":8360.9077011635818},{"$f":"G88/'Charges Summary'!G$4","v":9879.2362594865208},{"$f":"H88/'Charges Summary'!H$4","v":11465.767484914417}]
[{"$f":"'DNSP Inputs General'!A$76","v":"Compact Fluorescent 32W"},null,{"$f":"IF('PL Tariffs'!C30=0,\"\",'DNSP Inputs General'!O76*'PL Tariffs'!C30)","v":89999.91},{"$f":"'DNSP Inputs General'!Q76*'PL Tariffs'!D30","v":114930.64499270543},{"$f":"'DNSP Inputs General'!R76*'PL Tariffs'!E30","v":119084.48092130644},{"$f":"'DNSP Inputs General'!S76*'PL Tariffs'!F30","v":123068.17980313784},{"$f":"'DNSP Inputs General'!T76*'PL Tariffs'!G30","v":127157.29132663291},{"$f":"'DNSP Inputs General'!U76*'PL Tariffs'!H30","v":131533.32182560052},null,89999.91,{"$f":"D89/'Charges Summary'!D$4","v":112265.12440067026},{"$f":"E89/'Charges Summary'!E$4","v":113624.81885727526},{"$f":"F89/'Charges Summary'!F$4","v":114702.48615111128},{"$f":"G89/'Charges Summary'!G$4","v":115765.01701599066},{"$f":"H89/'Charges Summary'!H$4","v":116971.72053757063}]
[{"$f":"'DNSP Inputs General'!A$77","v":"Compact Fluorescent 42W"},null,{"$f":"IF('PL Tariffs'!C31=0,\"\",'DNSP Inputs General'!O77*'PL Tariffs'!C31)","v":42993.99},{"$f":"'DNSP Inputs General'!Q77*'PL Tariffs'!D31","v":54903.688253798558},{"$f":"'DNSP Inputs General'!R77*'PL Tariffs'!E31","v":56888.023353421573},{"$f":"'DNSP Inputs General'!S77*'PL Tariffs'!F31","v":58791.082033018814},{"$f":"'DNSP Inputs General'!T77*'PL Tariffs'!G31","v":60744.497541434677},{"$f":"'DNSP Inputs General'!U77*'PL Tariffs'!H31","v":62834.977537606988},null,42993.99,{"$f":"D90/'Charges Summary'!D$4","v":53630.338472907068},{"$f":"E90/'Charges Summary'!E$4","v":54279.88012100794},{"$f":"F90/'Charges Summary'!F$4","v":54794.694156427679},{"$f":"G90/'Charges Summary'!G$4","v":55302.277346003262},{"$f":"H90/'Charges Summary'!H$4","v":55878.73346845687}]
[]
["Total Revenue",null,{"$f":"IF(SUM(C57:C90)=0,0,SUM(C57:C90))","v":6014305.6380593255},{"$f":"SUM(D57:D90)","v":6749242.051353775},{"$f":"SUM(E57:E90)","v":6985602.7309234254},{"$f":"SUM(F57:F90)","v":7255377.8917288417},{"$f":"SUM(G57:G90)","v":7582608.1865646141},{"$f":"SUM(H57:H90)","v":7876684.874229948},null,{"$f":"IF(SUM(J57:J90)=0,0,SUM(J57:J90))","v":6014305.6380593255},{"$f":"SUM(K57:K90)","v":6592710.7478911104},{"$f":"SUM(L57:L90)","v":6665334.0449506622},{"$f":"SUM(M57:M90)","v":6762185.672026068},{"$f":"SUM(N57:N90)","v":6903267.2573089683},{"$f":"SUM(O57:O90)","v":7004684.2053646948}]
[]
[]
["Public Lighting - O & M",null,null,"Forecast O & M - Nominal ",null,null,null,null,null,null,"Forecast O & M - Real 2021 $ "]
[null,null,null,{"$f":"D$2","v":"2022-06-30"},"2023-06-30","2024-06-30","2025-06-30","2026-06-30",null,null,{"$f":"K$2","v":"2022-06-30"},"2023-06-30","2024-06-30","2025-06-30","2026-06-30"]
[]
["Unit cost"]
[{"$f":"'DNSP Inputs General'!A$42","v":"Mercury Vapour 80W"},null,null,{"$f":"SUM('Charges Summary'!D25,'Charges Summary'!D8)","v":24.779152657148156},{"$f":"SUM('Charges Summary'!E25,'Charges Summary'!E8)","v":25.329304970174405},{"$f":"SUM('Charges Summary'!F25,'Charges Summary'!F8)","v":25.914379319455918},{"$f":"SUM('Charges Summary'!G25,'Charges Summary'!G8)","v":26.570592534216622},{"$f":"SUM('Charges Summary'!H25,'Charges Summary'!H8)","v":27.32720359840949},null,null,{"$f":"D99/'Charges Summary'!D$4","v":24.204463968461138},{"$f":"E99/'Charges Summary'!E$4","v":24.168033204247809},{"$f":"F99/'Charges Summary'!F$4","v":24.152821141576268},{"$f":"G99/'Charges Summary'!G$4","v":24.1900803702028},{"$f":"H99/'Charges Summary'!H$4","v":24.301902955242692}]
[{"$f":"'DNSP Inputs General'!A$43","v":"HP Sodium 150W"},null,null,{"$f":"SUM('Charges Summary'!D49,'Charges Summary'!D8)","v":72.229703579767772},{"$f":"SUM('Charges Summary'!E49,'Charges Summary'!E8)","v":73.816022384959069},{"$f":"SUM('Charges Summary'!F49,'Charges Summary'!F8)","v":75.525460463200716},{"$f":"SUM('Charges Summary'!G49,'Charges Summary'!G8)","v":77.498545150359732},{"$f":"SUM('Charges Summary'!H49,'Charges Summary'!H8)","v":79.851754466116347},null,null,{"$f":"D100/'Charges Summary'!D$4","v":70.554521453532544},{"$f":"E100/'Charges Summary'!E$4","v":70.431781768424358},{"$f":"F100/'Charges Summary'!F$4","v":70.391534974304591},{"$f":"G100/'Charges Summary'!G$4","v":70.555296550004613},{"$f":"H100/'Charges Summary'!H$4","v":71.011641599302592}]
[{"$f":"'DNSP Inputs General'!A$44","v":"HP Sodium 250W"},null,null,{"$f":"SUM('Charges Summary'!D65,'Charges Summary'!D8)","v":73.569766224942057},{"$f":"SUM('Charges Summary'!E65,'Charges Summary'!E8)","v":75.18617130518092},{"$f":"SUM('Charges Summary'!F65,'Charges Summary'!F8)","v":76.927626948983715},{"$f":"SUM('Charges Summary'!G65,'Charges Summary'!G8)","v":78.936662339799256},{"$f":"SUM('Charges Summary'!H65,'Charges Summary'!H8)","v":81.331430423296595},null,null,{"$f":"D101/'Charges Summary'!D$4","v":71.863504793656759},{"$f":"E101/'Charges Summary'!E$4","v":71.739113518651138},{"$f":"F101/'Charges Summary'!F$4","v":71.698387665019169},{"$f":"G101/'Charges Summary'!G$4","v":71.864569963817772},{"$f":"H101/'Charges Summary'!H$4","v":72.327507724685901}]
[]
[{"$f":"'DNSP Inputs General'!A$69","v":"T5 2X14W"},null,null,{"$f":"SUM('Charges Summary'!D83,'Charges Summary'!D8)","v":29.40602585689383},{"$f":"SUM('Charges Summary'!E83,'Charges Summary'!E8)","v":30.055441256511877},{"$f":"SUM('Charges Summary'!F83,'Charges Summary'!F8)","v":30.74958306628584},{"$f":"SUM('Charges Summary'!G83,'Charges Summary'!G8)","v":31.536871305808546},{"$f":"SUM('Charges Summary'!H83,'Charges Summary'!H8)","v":32.456766298798591},null,null,{"$f":"D103/'Charges Summary'!D$4","v":28.724028749364816},{"$f":"E103/'Charges Summary'!E$4","v":28.677490484283787},{"$f":"F103/'Charges Summary'!F$4","v":28.659346643909405},{"$f":"G103/'Charges Summary'!G$4","v":28.711420361809523},{"$f":"H103/'Charges Summary'!H$4","v":28.863589426336425}]
[{"$f":"'DNSP Inputs General'!A$70","v":"T5 2X24W"},null,null,{"$f":"SUM('Charges Summary'!D99,'Charges Summary'!D8)","v":32.319089519765079},{"$f":"SUM('Charges Summary'!E99,'Charges Summary'!E8)","v":33.032866127223329},{"$f":"SUM('Charges Summary'!F99,'Charges Summary'!F8)","v":33.796274688137089},{"$f":"SUM('Charges Summary'!G99,'Charges Summary'!G8)","v":34.663280177172176},{"$f":"SUM('Charges Summary'!H99,'Charges Summary'!H8)","v":35.677980308871234},null,null,{"$f":"D104/'Charges Summary'!D$4","v":31.569531395939798},{"$f":"E104/'Charges Summary'!E$4","v":31.518409460277788},{"$f":"F104/'Charges Summary'!F$4","v":31.498936082228127},{"$f":"G104/'Charges Summary'!G$4","v":31.557728052201082},{"$f":"H104/'Charges Summary'!H$4","v":31.728193921595125}]
[{"$f":"'DNSP Inputs General'!A$71","v":"LED 18W"},null,null,{"$f":"SUM('Charges Summary'!D115,'Charges Summary'!D8)","v":11.523050873611828},{"$f":"SUM('Charges Summary'!E115,'Charges Summary'!E8)","v":11.776465196742031},{"$f":"SUM('Charges Summary'!F115,'Charges Summary'!F8)","v":12.045099159375216},{"$f":"SUM('Charges Summary'!G115,'Charges Summary'!G8)","v":12.344358431154976},{"$f":"SUM('Charges Summary'!H115,'Charges Summary'!H8)","v":12.686091211166563},null,null,{"$f":"D105/'Charges Summary'!D$4","v":11.255803357610933},{"$f":"E105/'Charges Summary'!E$4","v":11.236550005563393},{"$f":"F105/'Charges Summary'!F$4","v":11.226320416268734},{"$f":"G105/'Charges Summary'!G$4","v":11.238402838916342},{"$f":"H105/'Charges Summary'!H$4","v":11.281657721943807}]
[{"$f":"'DNSP Inputs General'!A$72","v":"LED 14W"},null,null,{"$f":"SUM('Charges Summary'!D131,'Charges Summary'!D$8)","v":12.708496388534879},{"$f":"SUM('Charges Summary'!E131,'Charges Summary'!E$8)","v":12.987587324053948},{"$f":"SUM('Charges Summary'!F131,'Charges Summary'!F$8)","v":13.284243748114587},{"$f":"SUM('Charges Summary'!G131,'Charges Summary'!G$8)","v":13.616717619154528},{"$f":"SUM('Charges Summary'!H131,'Charges Summary'!H$8)","v":13.99923677914656},null,null,{"$f":"D106/'Charges Summary'!D$4","v":12.413755513987502},{"$f":"E106/'Charges Summary'!E$4","v":12.392145858735834},{"$f":"F106/'Charges Summary'!F$4","v":12.381232801066014},{"$f":"G106/'Charges Summary'!G$4","v":12.396768839894293},{"$f":"H106/'Charges Summary'!H$4","v":12.449429464275113}]
[{"$f":"'DNSP Inputs General'!A$73","v":"LED 70W-125W (L1)"},null,null,{"$f":"SUM('Charges Summary'!D147,'Charges Summary'!D$8)","v":16.996771925254883},{"$f":"SUM('Charges Summary'!E147,'Charges Summary'!E$8)","v":17.366588478192838},{"$f":"SUM('Charges Summary'!F147,'Charges Summary'!F$8)","v":17.763922389520921},{"$f":"SUM('Charges Summary'!G147,'Charges Summary'!G$8)","v":18.219795186531066},{"$f":"SUM('Charges Summary'!H147,'Charges Summary'!H$8)","v":18.759108120991002},null,null,{"$f":"D107/'Charges Summary'!D$4","v":16.602575533441652},{"$f":"E107/'Charges Summary'!E$4","v":16.570383098931988},{"$f":"F107/'Charges Summary'!F$4","v":16.556400404497474},{"$f":"G107/'Charges Summary'!G$4","v":16.587447544621153},{"$f":"H107/'Charges Summary'!H$4","v":16.682351834556606}]
[{"$f":"'DNSP Inputs General'!A$74","v":"LED 155W-250W (L2)"},null,null,{"$f":"SUM('Charges Summary'!D163,'Charges Summary'!D$8)","v":16.996771925254883},{"$f":"SUM('Charges Summary'!E163,'Charges Summary'!E$8)","v":17.366588478192838},{"$f":"SUM('Charges Summary'!F163,'Charges Summary'!F$8)","v":17.763922389520921},{"$f":"SUM('Charges Summary'!G163,'Charges Summary'!G$8)","v":18.219795186531066},{"$f":"SUM('Charges Summary'!H163,'Charges Summary'!H$8)","v":18.759108120991002},null,null,{"$f":"D108/'Charges Summary'!D$4","v":16.602575533441652},{"$f":"E108/'Charges Summary'!E$4","v":16.570383098931988},{"$f":"F108/'Charges Summary'!F$4","v":16.556400404497474},{"$f":"G108/'Charges Summary'!G$4","v":16.587447544621153},{"$f":"H108/'Charges Summary'!H$4","v":16.682351834556606}]
[{"$f":"'DNSP Inputs General'!A$75","v":"LED 275W-400W (L4)"},null,null,{"$f":"SUM('Charges Summary'!D179,'Charges Summary'!D$8)","v":25.878004450931666},{"$f":"SUM('Charges Summary'!E179,'Charges Summary'!E$8)","v":26.440203939286224},{"$f":"SUM('Charges Summary'!F179,'Charges Summary'!F$8)","v":27.047484451717299},{"$f":"SUM('Charges Summary'!G179,'Charges Summary'!G$8)","v":27.752172734838432},{"$f":"SUM('Charges Summary'!H179,'Charges Summary'!H$8)","v":28.596982312404386},null,null,{"$f":"D109/'Charges Summary'!D$4","v":25.277830722252826},{"$f":"E109/'Charges Summary'!E$4","v":25.228000826875956},{"$f":"F109/'Charges Summary'!F$4","v":25.208902217520244},{"$f":"G109/'Charges Summary'!G$4","v":25.26580045360231},{"$f":"H109/'Charges Summary'!H$4","v":25.431108838713801}]
[]
[{"$f":"'DNSP Inputs General'!A$41","v":"Existing Lights"}]
[{"$f":"'DNSP Inputs General'!A$42","v":"Mercury Vapour 80W"},null,null,{"$f":"D99*'DNSP Inputs General'!Q42","v":374865.94748024439},{"$f":"E99*'DNSP Inputs General'!R42","v":383188.80544615386},{"$f":"F99*'DNSP Inputs General'!S42","v":392039.97373767867},{"$f":"G99*'DNSP Inputs General'!T42","v":401967.35067037476},{"$f":"H99*'DNSP Inputs General'!U42","v":413413.57433173456},null,null,{"$f":"D112/'Charges Summary'!D$4","v":366171.89636511507},{"$f":"E112/'Charges Summary'!E$4","v":365620.76158124179},{"$f":"F112/'Charges Summary'!F$4","v":365390.62924518512},{"$f":"G112/'Charges Summary'!G$4","v":365954.29727026739},{"$f":"H112/'Charges Summary'!H$4","v":367645.98059256119}]
[{"$f":"'DNSP Inputs General'!A$43","v":"HP Sodium 150W"},null,null,{"$f":"D100*'DNSP Inputs General'!Q43","v":1236358.9131397158},{"$f":"E100*'DNSP Inputs General'!R43","v":1221817.9075527894},{"$f":"F100*'DNSP Inputs General'!S43","v":1208366.6371746608},{"$f":"G100*'DNSP Inputs General'!T43","v":1198013.8319423669},{"$f":"H100*'DNSP Inputs General'!U43","v":1191663.2776540718},null,null,{"$f":"D113/'Charges Summary'!D$4","v":1207684.7493226652},{"$f":"E113/'Charges Summary'!E$4","v":1165801.2643478024},{"$f":"F113/'Charges Summary'!F$4","v":1126226.5980345435},{"$f":"G113/'Charges Summary'!G$4","v":1090681.3930468827},{"$f":"H113/'Charges Summary'!H$4","v":1059738.3381942967}]
[{"$f":"'DNSP Inputs General'!A$44","v":"HP Sodium 250W"},null,null,{"$f":"D101*'DNSP Inputs General'!Q44","v":860838.63325444388},{"$f":"E101*'DNSP Inputs General'!R44","v":848502.12488990149},{"$f":"F101*'DNSP Inputs General'!S44","v":836920.96160333545},{"$f":"G101*'DNSP Inputs General'!T44","v":827471.4338997372},{"$f":"H101*'DNSP Inputs General'!U44","v":820697.66963434347},null,null,{"$f":"D114/'Charges Summary'!D$4","v":840873.69610904832},{"$f":"E114/'Charges Summary'!E$4","v":809600.87741692038},{"$f":"F114/'Charges Summary'!F$4","v":780030.34709247982},{"$f":"G114/'Charges Summary'!G$4","v":753336.62447704026},{"$f":"H114/'Charges Summary'!H$4","v":729841.05568007927}]
[{"$f":"'DNSP Inputs General'!A$45","v":"Mercury Vapour 50W"},null,null,{"$f":"IF('DNSP Inputs General'!$B45='DNSP Inputs General'!$A$42,D$99,IF('DNSP Inputs General'!$B45='DNSP Inputs General'!$A$43,D$100,D$101))*'DNSP Inputs General'!$D45*'DNSP Inputs General'!Q45","v":814.64817289468476},{"$f":"IF('DNSP Inputs General'!$B45='DNSP Inputs General'!$A$42,E$99,IF('DNSP Inputs General'!$B45='DNSP Inputs General'!$A$43,E$100,E$101))*'DNSP Inputs General'!$D45*'DNSP Inputs General'!R45","v":832.7351746102712},{"$f":"IF('DNSP Inputs General'!$B45='DNSP Inputs General'!$A$42,F$99,IF('DNSP Inputs General'!$B45='DNSP Inputs General'!$A$43,F$100,F$101))*'DNSP Inputs General'!$D45*'DNSP Inputs General'!S45","v":851.97028552162976},{"$f":"IF('DNSP Inputs General'!$B45='DNSP Inputs General'!$A$42,G$99,IF('DNSP Inputs General'!$B45='DNSP Inputs General'!$A$43,G$100,G$101))*'DNSP Inputs General'!$D45*'DNSP Inputs General'!T45","v":873.54418289539421},{"$f":"IF('DNSP Inputs General'!$B45='DNSP Inputs General'!$A$42,H$99,IF('DNSP Inputs General'!$B45='DNSP Inputs General'!$A$43,H$100,H$101))*'DNSP Inputs General'!$D45*'DNSP Inputs General'!U45","v":898.41879542008098},null,null,{"$f":"D115/'Charges Summary'!D$4","v":795.75450462846709},{"$f":"E115/'Charges Summary'!E$4","v":794.55679395957611},{"$f":"F115/'Charges Summary'!F$4","v":794.05667681542684},{"$f":"G115/'Charges Summary'!G$4","v":795.28162437291792},{"$f":"H115/'Charges Summary'!H$4","v":798.95794316603974}]
[{"$f":"'DNSP Inputs General'!A$46","v":"Mercury Vapour 125W"},null,null,{"$f":"IF('DNSP Inputs General'!$B46='DNSP Inputs General'!$A$42,D$99,IF('DNSP Inputs General'!$B46='DNSP Inputs General'!$A$43,D$100,D$101))*'DNSP Inputs General'!$D46*'DNSP Inputs General'!Q46","v":9298.4900863814491},{"$f":"IF('DNSP Inputs General'!$B46='DNSP Inputs General'!$A$42,E$99,IF('DNSP Inputs General'!$B46='DNSP Inputs General'!$A$43,E$100,E$101))*'DNSP Inputs General'!$D46*'DNSP Inputs General'!R46","v":9504.9372518457076},{"$f":"IF('DNSP Inputs General'!$B46='DNSP Inputs General'!$A$42,F$99,IF('DNSP Inputs General'!$B46='DNSP Inputs General'!$A$43,F$100,F$101))*'DNSP Inputs General'!$D46*'DNSP Inputs General'!S46","v":9724.48907074218},{"$f":"IF('DNSP Inputs General'!$B46='DNSP Inputs General'!$A$42,G$99,IF('DNSP Inputs General'!$B46='DNSP Inputs General'!$A$43,G$100,G$101))*'DNSP Inputs General'!$D46*'DNSP Inputs General'!T46","v":9970.7360734719005},{"$f":"IF('DNSP Inputs General'!$B46='DNSP Inputs General'!$A$42,H$99,IF('DNSP Inputs General'!$B46='DNSP Inputs General'!$A$43,H$100,H$101))*'DNSP Inputs General'!$D46*'DNSP Inputs General'!U46","v":10254.657827253677},null,null,{"$f":"D116/'Charges Summary'!D$4","v":9082.835534006339},{"$f":"E116/'Charges Summary'!E$4","v":9069.1647235244782},{"$f":"F116/'Charges Summary'!F$4","v":9063.4563276038498},{"$f":"G116/'Charges Summary'!G$4","v":9077.4380231365303},{"$f":"H116/'Charges Summary'!H$4","v":9119.3999583493151}]
[{"$f":"'DNSP Inputs General'!A$47","v":"Mercury Vapour 250W"},null,null,{"$f":"IF('DNSP Inputs General'!$B47='DNSP Inputs General'!$A$42,D$99,IF('DNSP Inputs General'!$B47='DNSP Inputs General'!$A$43,D$100,D$101))*'DNSP Inputs General'!$D47*'DNSP Inputs General'!Q47","v":68786.090630609586},{"$f":"IF('DNSP Inputs General'!$B47='DNSP Inputs General'!$A$42,E$99,IF('DNSP Inputs General'!$B47='DNSP Inputs General'!$A$43,E$100,E$101))*'DNSP Inputs General'!$D47*'DNSP Inputs General'!R47","v":70297.393330758627},{"$f":"IF('DNSP Inputs General'!$B47='DNSP Inputs General'!$A$42,F$99,IF('DNSP Inputs General'!$B47='DNSP Inputs General'!$A$43,F$100,F$101))*'DNSP Inputs General'!$D47*'DNSP Inputs General'!S47","v":71925.615518899751},{"$f":"IF('DNSP Inputs General'!$B47='DNSP Inputs General'!$A$42,G$99,IF('DNSP Inputs General'!$B47='DNSP Inputs General'!$A$43,G$100,G$101))*'DNSP Inputs General'!$D47*'DNSP Inputs General'!T47","v":73804.018802800463},{"$f":"IF('DNSP Inputs General'!$B47='DNSP Inputs General'!$A$42,H$99,IF('DNSP Inputs General'!$B47='DNSP Inputs General'!$A$43,H$100,H$101))*'DNSP Inputs General'!$D47*'DNSP Inputs General'!U47","v":76043.073551555295},null,null,{"$f":"D117/'Charges Summary'!D$4","v":67190.774246253408},{"$f":"E117/'Charges Summary'!E$4","v":67074.47117835957},{"$f":"F117/'Charges Summary'!F$4","v":67036.393413502039},{"$f":"G117/'Charges Summary'!G$4","v":67191.770156597995},{"$f":"H117/'Charges Summary'!H$4","v":67624.606638340294}]
[{"$f":"'DNSP Inputs General'!A$48","v":"Mercury Vapour 400W"},null,null,{"$f":"IF('DNSP Inputs General'!$B48='DNSP Inputs General'!$A$42,D$99,IF('DNSP Inputs General'!$B48='DNSP Inputs General'!$A$43,D$100,D$101))*'DNSP Inputs General'!$D48*'DNSP Inputs General'!Q48","v":14198.59237929498},{"$f":"IF('DNSP Inputs General'!$B48='DNSP Inputs General'!$A$42,E$99,IF('DNSP Inputs General'!$B48='DNSP Inputs General'!$A$43,E$100,E$101))*'DNSP Inputs General'!$D48*'DNSP Inputs General'!R48","v":14510.550375518056},{"$f":"IF('DNSP Inputs General'!$B48='DNSP Inputs General'!$A$42,F$99,IF('DNSP Inputs General'!$B48='DNSP Inputs General'!$A$43,F$100,F$101))*'DNSP Inputs General'!$D48*'DNSP Inputs General'!S48","v":14846.642497346707},{"$f":"IF('DNSP Inputs General'!$B48='DNSP Inputs General'!$A$42,G$99,IF('DNSP Inputs General'!$B48='DNSP Inputs General'!$A$43,G$100,G$101))*'DNSP Inputs General'!$D48*'DNSP Inputs General'!T48","v":15234.376155525664},{"$f":"IF('DNSP Inputs General'!$B48='DNSP Inputs General'!$A$42,H$99,IF('DNSP Inputs General'!$B48='DNSP Inputs General'!$A$43,H$100,H$101))*'DNSP Inputs General'!$D48*'DNSP Inputs General'!U48","v":15696.554270331153},null,null,{"$f":"D118/'Charges Summary'!D$4","v":13869.292562285109},{"$f":"E118/'Charges Summary'!E$4","v":13845.285676033147},{"$f":"F118/'Charges Summary'!F$4","v":13837.425792487356},{"$f":"G118/'Charges Summary'!G$4","v":13869.498134732961},{"$f":"H118/'Charges Summary'!H$4","v":13958.842778610893}]
[{"$f":"'DNSP Inputs General'!A$49","v":"HP Sodium 100W"},null,null,{"$f":"IF('DNSP Inputs General'!$B49='DNSP Inputs General'!$A$42,D$99,IF('DNSP Inputs General'!$B49='DNSP Inputs General'!$A$43,D$100,D$101))*'DNSP Inputs General'!$D49*'DNSP Inputs General'!Q49","v":189379.29099575823},{"$f":"IF('DNSP Inputs General'!$B49='DNSP Inputs General'!$A$42,E$99,IF('DNSP Inputs General'!$B49='DNSP Inputs General'!$A$43,E$100,E$101))*'DNSP Inputs General'!$D49*'DNSP Inputs General'!R49","v":191083.50194855328},{"$f":"IF('DNSP Inputs General'!$B49='DNSP Inputs General'!$A$42,F$99,IF('DNSP Inputs General'!$B49='DNSP Inputs General'!$A$43,F$100,F$101))*'DNSP Inputs General'!$D49*'DNSP Inputs General'!S49","v":192996.81519147233},{"$f":"IF('DNSP Inputs General'!$B49='DNSP Inputs General'!$A$42,G$99,IF('DNSP Inputs General'!$B49='DNSP Inputs General'!$A$43,G$100,G$101))*'DNSP Inputs General'!$D49*'DNSP Inputs General'!T49","v":195461.37482522847},{"$f":"IF('DNSP Inputs General'!$B49='DNSP Inputs General'!$A$42,H$99,IF('DNSP Inputs General'!$B49='DNSP Inputs General'!$A$43,H$100,H$101))*'DNSP Inputs General'!$D49*'DNSP Inputs General'!U49","v":198740.77472985236},null,null,{"$f":"D119/'Charges Summary'!D$4","v":184987.12561735761},{"$f":"E119/'Charges Summary'!E$4","v":182322.90326617629},{"$f":"F119/'Charges Summary'!F$4","v":179877.64633489778},{"$f":"G119/'Charges Summary'!G$4","v":177949.60199716195},{"$f":"H119/'Charges Summary'!H$4","v":176738.86767600788}]
[{"$f":"'DNSP Inputs General'!A50","v":"HP Sodium 400W"},null,null,{"$f":"IF('DNSP Inputs General'!$B50='DNSP Inputs General'!$A$42,D$99,IF('DNSP Inputs General'!$B50='DNSP Inputs General'!$A$43,D$100,D$101))*'DNSP Inputs General'!$D50*'DNSP Inputs General'!Q50","v":45415.675726508358},{"$f":"IF('DNSP Inputs General'!$B50='DNSP Inputs General'!$A$42,E$99,IF('DNSP Inputs General'!$B50='DNSP Inputs General'!$A$43,E$100,E$101))*'DNSP Inputs General'!$D50*'DNSP Inputs General'!R50","v":45824.767803625982},{"$f":"IF('DNSP Inputs General'!$B50='DNSP Inputs General'!$A$42,F$99,IF('DNSP Inputs General'!$B50='DNSP Inputs General'!$A$43,F$100,F$101))*'DNSP Inputs General'!$D50*'DNSP Inputs General'!S50","v":46283.782793547281},{"$f":"IF('DNSP Inputs General'!$B50='DNSP Inputs General'!$A$42,G$99,IF('DNSP Inputs General'!$B50='DNSP Inputs General'!$A$43,G$100,G$101))*'DNSP Inputs General'!$D50*'DNSP Inputs General'!T50","v":46874.420240885367},{"$f":"IF('DNSP Inputs General'!$B50='DNSP Inputs General'!$A$42,H$99,IF('DNSP Inputs General'!$B50='DNSP Inputs General'!$A$43,H$100,H$101))*'DNSP Inputs General'!$D50*'DNSP Inputs General'!U50","v":47659.631146893873},null,null,{"$f":"D120/'Charges Summary'!D$4","v":44362.375983364283},{"$f":"E120/'Charges Summary'!E$4","v":43723.841264459021},{"$f":"F120/'Charges Summary'!F$4","v":43137.592214251155},{"$f":"G120/'Charges Summary'!G$4","v":42674.847821834941},{"$f":"H120/'Charges Summary'!H$4","v":42383.397439242122}]
[{"$f":"'DNSP Inputs General'!A51","v":"Metal Halide 70W"},null,null,{"$f":"IF('DNSP Inputs General'!$B51='DNSP Inputs General'!$A$42,D$99,IF('DNSP Inputs General'!$B51='DNSP Inputs General'!$A$43,D$100,D$101))*'DNSP Inputs General'!$D51*'DNSP Inputs General'!Q51","v":2095.6701365183349},{"$f":"IF('DNSP Inputs General'!$B51='DNSP Inputs General'!$A$42,E$99,IF('DNSP Inputs General'!$B51='DNSP Inputs General'!$A$43,E$100,E$101))*'DNSP Inputs General'!$D51*'DNSP Inputs General'!R51","v":1285.3192053630735},{"$f":"IF('DNSP Inputs General'!$B51='DNSP Inputs General'!$A$42,F$99,IF('DNSP Inputs General'!$B51='DNSP Inputs General'!$A$43,F$100,F$101))*'DNSP Inputs General'!$D51*'DNSP Inputs General'!S51","v":438.33614165596271},{"$f":"IF('DNSP Inputs General'!$B51='DNSP Inputs General'!$A$42,G$99,IF('DNSP Inputs General'!$B51='DNSP Inputs General'!$A$43,G$100,G$101))*'DNSP Inputs General'!$D51*'DNSP Inputs General'!T51","v":0},{"$f":"IF('DNSP Inputs General'!$B51='DNSP Inputs General'!$A$42,H$99,IF('DNSP Inputs General'!$B51='DNSP Inputs General'!$A$43,H$100,H$101))*'DNSP Inputs General'!$D51*'DNSP Inputs General'!U51","v":0},null,null,{"$f":"D121/'Charges Summary'!D$4","v":2047.066459897906},{"$f":"E121/'Charges Summary'!E$4","v":1226.3912203611594},{"$f":"F121/'Charges Summary'!F$4","v":408.53976469182072},{"$f":"G121/'Charges Summary'!G$4","v":0},{"$f":"H121/'Charges Summary'!H$4","v":0}]
[{"$f":"'DNSP Inputs General'!A52","v":"Metal Halide 100W"},null,null,{"$f":"IF('DNSP Inputs General'!$B52='DNSP Inputs General'!$A$42,D$99,IF('DNSP Inputs General'!$B52='DNSP Inputs General'!$A$43,D$100,D$101))*'DNSP Inputs General'!$D52*'DNSP Inputs General'!Q52","v":5130.7467324286545},{"$f":"IF('DNSP Inputs General'!$B52='DNSP Inputs General'!$A$42,E$99,IF('DNSP Inputs General'!$B52='DNSP Inputs General'!$A$43,E$100,E$101))*'DNSP Inputs General'!$D52*'DNSP Inputs General'!R52","v":5243.4289064228615},{"$f":"IF('DNSP Inputs General'!$B52='DNSP Inputs General'!$A$42,F$99,IF('DNSP Inputs General'!$B52='DNSP Inputs General'!$A$43,F$100,F$101))*'DNSP Inputs General'!$D52*'DNSP Inputs General'!S52","v":5364.8567041230335},{"$f":"IF('DNSP Inputs General'!$B52='DNSP Inputs General'!$A$42,G$99,IF('DNSP Inputs General'!$B52='DNSP Inputs General'!$A$43,G$100,G$101))*'DNSP Inputs General'!$D52*'DNSP Inputs General'!T52","v":5505.0123092234508},{"$f":"IF('DNSP Inputs General'!$B52='DNSP Inputs General'!$A$42,H$99,IF('DNSP Inputs General'!$B52='DNSP Inputs General'!$A$43,H$100,H$101))*'DNSP Inputs General'!$D52*'DNSP Inputs General'!U52","v":5672.1695922961298},null,null,{"$f":"D122/'Charges Summary'!D$4","v":5011.7522634715388},{"$f":"E122/'Charges Summary'!E$4","v":5003.0336033206968},{"$f":"F122/'Charges Summary'!F$4","v":5000.1747225945328},{"$f":"G122/'Charges Summary'!G$4","v":5011.8073214808392},{"$f":"H122/'Charges Summary'!H$4","v":5044.2232217892188}]
[{"$f":"'DNSP Inputs General'!A53","v":"Metal Halide 150W"},null,null,{"$f":"IF('DNSP Inputs General'!$B53='DNSP Inputs General'!$A$42,D$99,IF('DNSP Inputs General'!$B53='DNSP Inputs General'!$A$43,D$100,D$101))*'DNSP Inputs General'!$D53*'DNSP Inputs General'!Q53","v":5657.4597357021721},{"$f":"IF('DNSP Inputs General'!$B53='DNSP Inputs General'!$A$42,E$99,IF('DNSP Inputs General'!$B53='DNSP Inputs General'!$A$43,E$100,E$101))*'DNSP Inputs General'!$D53*'DNSP Inputs General'!R53","v":5781.7096539985396},{"$f":"IF('DNSP Inputs General'!$B53='DNSP Inputs General'!$A$42,F$99,IF('DNSP Inputs General'!$B53='DNSP Inputs General'!$A$43,F$100,F$101))*'DNSP Inputs General'!$D53*'DNSP Inputs General'!S53","v":5915.6030056118107},{"$f":"IF('DNSP Inputs General'!$B53='DNSP Inputs General'!$A$42,G$99,IF('DNSP Inputs General'!$B53='DNSP Inputs General'!$A$43,G$100,G$101))*'DNSP Inputs General'!$D53*'DNSP Inputs General'!T53","v":6070.1467268165507},{"$f":"IF('DNSP Inputs General'!$B53='DNSP Inputs General'!$A$42,H$99,IF('DNSP Inputs General'!$B53='DNSP Inputs General'!$A$43,H$100,H$101))*'DNSP Inputs General'!$D53*'DNSP Inputs General'!U53","v":6254.4640684884534},null,null,{"$f":"D123/'Charges Summary'!D$4","v":5526.2495138759477},{"$f":"E123/'Charges Summary'!E$4","v":5516.6358121430394},{"$f":"F123/'Charges Summary'!F$4","v":5513.4834439906181},{"$f":"G123/'Charges Summary'!G$4","v":5526.3102240390072},{"$f":"H123/'Charges Summary'!H$4","v":5562.0538809285736}]
[{"$f":"'DNSP Inputs General'!A54","v":"HP Sodium 50W"},null,null,{"$f":"IF('DNSP Inputs General'!$B54='DNSP Inputs General'!$A$42,D$99,IF('DNSP Inputs General'!$B54='DNSP Inputs General'!$A$43,D$100,D$101))*'DNSP Inputs General'!$D54*'DNSP Inputs General'!Q54","v":0},{"$f":"IF('DNSP Inputs General'!$B54='DNSP Inputs General'!$A$42,E$99,IF('DNSP Inputs General'!$B54='DNSP Inputs General'!$A$43,E$100,E$101))*'DNSP Inputs General'!$D54*'DNSP Inputs General'!R54","v":0},{"$f":"IF('DNSP Inputs General'!$B54='DNSP Inputs General'!$A$42,F$99,IF('DNSP Inputs General'!$B54='DNSP Inputs General'!$A$43,F$100,F$101))*'DNSP Inputs General'!$D54*'DNSP Inputs General'!S54","v":0},{"$f":"IF('DNSP Inputs General'!$B54='DNSP Inputs General'!$A$42,G$99,IF('DNSP Inputs General'!$B54='DNSP Inputs General'!$A$43,G$100,G$101))*'DNSP Inputs General'!$D54*'DNSP Inputs General'!T54","v":0},{"$f":"IF('DNSP Inputs General'!$B54='DNSP Inputs General'!$A$42,H$99,IF('DNSP Inputs General'!$B54='DNSP Inputs General'!$A$43,H$100,H$101))*'DNSP Inputs General'!$D54*'DNSP Inputs General'!U54","v":0},null,null,{"$f":"D124/'Charges Summary'!D$4","v":0},{"$f":"E124/'Charges Summary'!E$4","v":0},{"$f":"F124/'Charges Summary'!F$4","v":0},{"$f":"G124/'Charges Summary'!G$4","v":0},{"$f":"H124/'Charges Summary'!H$4","v":0}]
[]
[]
[]
[]
[]
[]
[]
[]
[]
[]
[]
[{"$f":"'DNSP Inputs General'!A$68","v":"Energy Efficient Lights"}]
[{"$f":"'DNSP Inputs General'!A$69","v":"T5 2X14W"},null,null,{"$f":"SUM('Charges Summary'!D83,'Charges Summary'!D8)*'DNSP Inputs General'!$D69*'DNSP Inputs General'!Q69","v":615291.6850296465},{"$f":"SUM('Charges Summary'!E83,'Charges Summary'!E8)*'DNSP Inputs General'!$D69*'DNSP Inputs General'!R69","v":628880.05285125447},{"$f":"SUM('Charges Summary'!F83,'Charges Summary'!F8)*'DNSP Inputs General'!$D69*'DNSP Inputs General'!S69","v":643404.27607896493},{"$f":"SUM('Charges Summary'!G83,'Charges Summary'!G8)*'DNSP Inputs General'!$D69*'DNSP Inputs General'!T69","v":659877.49520273798},{"$f":"SUM('Charges Summary'!H83,'Charges Summary'!H8)*'DNSP Inputs General'!$D69*'DNSP Inputs General'!U69","v":679125.37803606177},null,null,{"$f":"D137/'Charges Summary'!D$4","v":601021.57755170937},{"$f":"E137/'Charges Summary'!E$4","v":600047.81089315389},{"$f":"F137/'Charges Summary'!F$4","v":599668.16917716037},{"$f":"G137/'Charges Summary'!G$4","v":600757.75965050247},{"$f":"H137/'Charges Summary'!H$4","v":603941.74515666347}]
[{"$f":"'DNSP Inputs General'!A70","v":"T5 2X24W"},null,null,{"$f":"SUM('Charges Summary'!D99,'Charges Summary'!D8)*'DNSP Inputs General'!$D70*'DNSP Inputs General'!Q70","v":53294.178618092614},{"$f":"SUM('Charges Summary'!E99,'Charges Summary'!E8)*'DNSP Inputs General'!$D70*'DNSP Inputs General'!R70","v":54471.196243791266},{"$f":"SUM('Charges Summary'!F99,'Charges Summary'!F8)*'DNSP Inputs General'!$D70*'DNSP Inputs General'!S70","v":55730.05696073806},{"$f":"SUM('Charges Summary'!G99,'Charges Summary'!G8)*'DNSP Inputs General'!$D70*'DNSP Inputs General'!T70","v":57159.749012156921},{"$f":"SUM('Charges Summary'!H99,'Charges Summary'!H8)*'DNSP Inputs General'!$D70*'DNSP Inputs General'!U70","v":58832.989529328668},null,null,{"$f":"D138/'Charges Summary'!D$4","v":52058.157271904725},{"$f":"E138/'Charges Summary'!E$4","v":51973.857199998063},{"$f":"F138/'Charges Summary'!F$4","v":51941.745599594185},{"$f":"G138/'Charges Summary'!G$4","v":52038.693558079583},{"$f":"H138/'Charges Summary'!H$4","v":52319.791776710365}]
[{"$f":"'DNSP Inputs General'!A71","v":"LED 18W"},null,null,{"$f":"SUM('Charges Summary'!D115,'Charges Summary'!D8)*'DNSP Inputs General'!$D71*'DNSP Inputs General'!Q71","v":449695.34855165076},{"$f":"SUM('Charges Summary'!E115,'Charges Summary'!E8)*'DNSP Inputs General'!$D71*'DNSP Inputs General'!R71","v":488039.7184429015},{"$f":"SUM('Charges Summary'!F115,'Charges Summary'!F8)*'DNSP Inputs General'!$D71*'DNSP Inputs General'!S71","v":529058.84517049138},{"$f":"SUM('Charges Summary'!G115,'Charges Summary'!G8)*'DNSP Inputs General'!$D71*'DNSP Inputs General'!T71","v":573298.04252184485},{"$f":"SUM('Charges Summary'!H115,'Charges Summary'!H8)*'DNSP Inputs General'!$D71*'DNSP Inputs General'!U71","v":621185.35241780267},null,null,{"$f":"D139/'Charges Summary'!D$4","v":439265.82201603497},{"$f":"E139/'Charges Summary'!E$4","v":465664.57840862661},{"$f":"F139/'Charges Summary'!F$4","v":493095.49355782347},{"$f":"G139/'Charges Summary'!G$4","v":521935.13211361441},{"$f":"H139/'Charges Summary'!H$4","v":552416.06033023796}]
[{"$f":"'DNSP Inputs General'!A72","v":"LED 14W"},null,null,{"$f":"SUM('Charges Summary'!D131,'Charges Summary'!D$8)*'DNSP Inputs General'!$D72*'DNSP Inputs General'!Q72","v":177.9189494394883},{"$f":"SUM('Charges Summary'!E131,'Charges Summary'!E$8)*'DNSP Inputs General'!$D72*'DNSP Inputs General'!R72","v":181.82622253675527},{"$f":"SUM('Charges Summary'!F131,'Charges Summary'!F$8)*'DNSP Inputs General'!$D72*'DNSP Inputs General'!S72","v":185.97941247360421},{"$f":"SUM('Charges Summary'!G131,'Charges Summary'!G$8)*'DNSP Inputs General'!$D72*'DNSP Inputs General'!T72","v":190.63404666816339},{"$f":"SUM('Charges Summary'!H131,'Charges Summary'!H$8)*'DNSP Inputs General'!$D72*'DNSP Inputs General'!U72","v":195.98931490805185},null,null,{"$f":"D140/'Charges Summary'!D$4","v":173.792577195825},{"$f":"E140/'Charges Summary'!E$4","v":173.49004202230168},{"$f":"F140/'Charges Summary'!F$4","v":173.33725921492419},{"$f":"G140/'Charges Summary'!G$4","v":173.5547637585201},{"$f":"H140/'Charges Summary'!H$4","v":174.29201249985158}]
[{"$f":"'DNSP Inputs General'!A73","v":"LED 70W-125W (L1)"},null,null,{"$f":"SUM('Charges Summary'!D147,'Charges Summary'!D$8)*'DNSP Inputs General'!$D73*'DNSP Inputs General'!Q73","v":45038.78621027893},{"$f":"SUM('Charges Summary'!E147,'Charges Summary'!E$8)*'DNSP Inputs General'!$D73*'DNSP Inputs General'!R73","v":58593.842751671968},{"$f":"SUM('Charges Summary'!F147,'Charges Summary'!F$8)*'DNSP Inputs General'!$D73*'DNSP Inputs General'!S73","v":73083.675642137605},{"$f":"SUM('Charges Summary'!G147,'Charges Summary'!G$8)*'DNSP Inputs General'!$D73*'DNSP Inputs General'!T73","v":85693.464842507368},{"$f":"SUM('Charges Summary'!H147,'Charges Summary'!H$8)*'DNSP Inputs General'!$D73*'DNSP Inputs General'!U73","v":99834.538694179442},null,null,{"$f":"D141/'Charges Summary'!D$4","v":43994.227449720442},{"$f":"E141/'Charges Summary'!E$4","v":55907.492876506367},{"$f":"F141/'Charges Summary'!F$4","v":68115.733137712843},{"$f":"G141/'Charges Summary'!G$4","v":78016.017108837783},{"$f":"H141/'Charges Summary'!H$4","v":88782.200571322974}]
[{"$f":"'DNSP Inputs General'!A74","v":"LED 155W-250W (L2)"},null,null,{"$f":"SUM('Charges Summary'!D163,'Charges Summary'!D$8)*'DNSP Inputs General'!$D74*'DNSP Inputs General'!Q74","v":53763.188986983652},{"$f":"SUM('Charges Summary'!E163,'Charges Summary'!E$8)*'DNSP Inputs General'!$D74*'DNSP Inputs General'!R74","v":75704.388042661754},{"$f":"SUM('Charges Summary'!F163,'Charges Summary'!F$8)*'DNSP Inputs General'!$D74*'DNSP Inputs General'!S74","v":97604.096152473561},{"$f":"SUM('Charges Summary'!G163,'Charges Summary'!G$8)*'DNSP Inputs General'!$D74*'DNSP Inputs General'!T74","v":122088.58392995692},{"$f":"SUM('Charges Summary'!H163,'Charges Summary'!H$8)*'DNSP Inputs General'!$D74*'DNSP Inputs General'!U74","v":150233.14411920981},null,null,{"$f":"D142/'Charges Summary'!D$4","v":52516.290152061265},{"$f":"E142/'Charges Summary'!E$4","v":72233.571591353146},{"$f":"F142/'Charges Summary'!F$4","v":90969.351339470988},{"$f":"G142/'Charges Summary'!G$4","v":111150.4251832817},{"$f":"H142/'Charges Summary'!H$4","v":133601.349874618}]
[{"$f":"'DNSP Inputs General'!A75","v":"LED 275W-400W (L4)"},null,null,{"$f":"SUM('Charges Summary'!D179,'Charges Summary'!D$8)*'DNSP Inputs General'!$D75*'DNSP Inputs General'!Q75","v":2856.8643295278121},{"$f":"SUM('Charges Summary'!E179,'Charges Summary'!E$8)*'DNSP Inputs General'!$D75*'DNSP Inputs General'!R75","v":3592.1568023831433},{"$f":"SUM('Charges Summary'!F179,'Charges Summary'!F$8)*'DNSP Inputs General'!$D75*'DNSP Inputs General'!S75","v":4378.4164849400222},{"$f":"SUM('Charges Summary'!G179,'Charges Summary'!G$8)*'DNSP Inputs General'!$D75*'DNSP Inputs General'!T75","v":5230.4698691832818},{"$f":"SUM('Charges Summary'!H179,'Charges Summary'!H$8)*'DNSP Inputs General'!$D75*'DNSP Inputs General'!U75","v":6158.4349518588569},null,null,{"$f":"D143/'Charges Summary'!D$4","v":2790.6067121665728},{"$f":"E143/'Charges Summary'!E$4","v":3427.4673141283065},{"$f":"F143/'Charges Summary'!F$4","v":4080.7888524148416},{"$f":"G143/'Charges Summary'!G$4","v":4761.8616839851384},{"$f":"H143/'Charges Summary'!H$4","v":5476.6558172442974}]
[{"$f":"'DNSP Inputs General'!A76","v":"Compact Fluorescent 32W"},null,null,{"$f":"IF('DNSP Inputs General'!$B76='DNSP Inputs General'!$A$69,D$103,D$104)*'DNSP Inputs General'!$D76*'DNSP Inputs General'!Q76","v":73691.753213254036},{"$f":"IF('DNSP Inputs General'!$B76='DNSP Inputs General'!$A$69,E$103,E$104)*'DNSP Inputs General'!$D76*'DNSP Inputs General'!R76","v":75319.193779158348},{"$f":"IF('DNSP Inputs General'!$B76='DNSP Inputs General'!$A$69,F$103,F$104)*'DNSP Inputs General'!$D76*'DNSP Inputs General'!S76","v":77058.719112836581},{"$f":"IF('DNSP Inputs General'!$B76='DNSP Inputs General'!$A$69,G$103,G$104)*'DNSP Inputs General'!$D76*'DNSP Inputs General'!T76","v":79031.67019901688},{"$f":"IF('DNSP Inputs General'!$B76='DNSP Inputs General'!$A$69,H$103,H$104)*'DNSP Inputs General'!$D76*'DNSP Inputs General'!U76","v":81336.934947658141},null,null,{"$f":"D144/'Charges Summary'!D$4","v":71982.662607649501},{"$f":"E144/'Charges Summary'!E$4","v":71866.037315880603},{"$f":"F144/'Charges Summary'!F$4","v":71820.568696159025},{"$f":"G144/'Charges Summary'!G$4","v":71951.065880207883},{"$f":"H144/'Charges Summary'!H$4","v":72332.402862103365}]
[{"$f":"'DNSP Inputs General'!A77","v":"Compact Fluorescent 42W"},null,null,{"$f":"IF('DNSP Inputs General'!$B77='DNSP Inputs General'!$A$69,D$103,D$104)*'DNSP Inputs General'!$D77*'DNSP Inputs General'!Q77","v":35203.39632265312},{"$f":"IF('DNSP Inputs General'!$B77='DNSP Inputs General'!$A$69,E$103,E$104)*'DNSP Inputs General'!$D77*'DNSP Inputs General'!R77","v":35980.843360278872},{"$f":"IF('DNSP Inputs General'!$B77='DNSP Inputs General'!$A$69,F$103,F$104)*'DNSP Inputs General'!$D77*'DNSP Inputs General'!S77","v":36811.834577946858},{"$f":"IF('DNSP Inputs General'!$B77='DNSP Inputs General'!$A$69,G$103,G$104)*'DNSP Inputs General'!$D77*'DNSP Inputs General'!T77","v":37754.335956778508},{"$f":"IF('DNSP Inputs General'!$B77='DNSP Inputs General'!$A$69,H$103,H$104)*'DNSP Inputs General'!$D77*'DNSP Inputs General'!U77","v":38855.587386368104},null,null,{"$f":"D145/'Charges Summary'!D$4","v":34386.944123906971},{"$f":"E145/'Charges Summary'!E$4","v":34331.230883437522},{"$f":"F145/'Charges Summary'!F$4","v":34309.510001920833},{"$f":"G145/'Charges Summary'!G$4","v":34371.85000454999},{"$f":"H145/'Charges Summary'!H$4","v":34554.019057677317}]
[]
["Total O & M",null,null,{"$f":"SUM(D112:D145)","v":4141853.2786820265},{"$f":"SUM(E112:E145)","v":4218636.4000361804},{"$f":"SUM(F112:F145)","v":4302991.5833175993},{"$f":"SUM(G112:G145)","v":4401570.6914101774},{"$f":"SUM(H112:H145)","v":4522752.6149996165},null,null,{"$f":"SUM(K112:K145)","v":4045793.6489443188},{"$f":"SUM(L112:L145)","v":4025224.7234094073},{"$f":"SUM(M112:M145)","v":4010491.0406845137},{"$f":"SUM(N112:N145)","v":4007225.2300443654},{"$f":"SUM(O112:O145)","v":4022054.2414624486}]
[]
[]
["Public Lighting - Capital Charge",null,null,"Capital Charge - Nominal ",null,null,null,null,null,null,"Capital Charge - Real 2021 $ "]
[null,null,null,{"$f":"D$2","v":"2022-06-30"},"2023-06-30","2024-06-30","2025-06-30","2026-06-30",null,null,{"$f":"K$2","v":"2022-06-30"},"2023-06-30","2024-06-30","2025-06-30","2026-06-30"]
[]
["Unit cost"]
[{"$f":"'DNSP Inputs General'!A$42","v":"Mercury Vapour 80W"},null,null,{"$f":"SUM('Charges Summary'!D27,'Charges Summary'!D11)","v":27.432286290067999},{"$f":"SUM('Charges Summary'!E27,'Charges Summary'!E11)","v":28.265150962325006},{"$f":"SUM('Charges Summary'!F27,'Charges Summary'!F11)","v":23.825443639060424},{"$f":"SUM('Charges Summary'!G27,'Charges Summary'!G11)","v":25.441267623957081},{"$f":"SUM('Charges Summary'!H27,'Charges Summary'!H11)","v":26.238655864890944},null,null,{"$f":"D154/'Charges Summary'!D$4","v":26.796064993324897},{"$f":"E154/'Charges Summary'!E$4","v":26.969279567083362},{"$f":"F154/'Charges Summary'!F$4","v":22.205883140750995},{"$f":"G154/'Charges Summary'!G$4","v":23.161933921903966},{"$f":"H154/'Charges Summary'!H$4","v":23.333864594242712}]
[{"$f":"'DNSP Inputs General'!A$43","v":"HP Sodium 150W"},null,null,{"$f":"SUM('Charges Summary'!D51,'Charges Summary'!D11)","v":30.821400965606351},{"$f":"SUM('Charges Summary'!E51,'Charges Summary'!E11)","v":31.726899859514898},{"$f":"SUM('Charges Summary'!F51,'Charges Summary'!F11)","v":35.999237923612043},{"$f":"SUM('Charges Summary'!G51,'Charges Summary'!G11)","v":38.797346029667509},{"$f":"SUM('Charges Summary'!H51,'Charges Summary'!H11)","v":39.981768366833315},null,null,{"$f":"D155/'Charges Summary'!D$4","v":30.106577874215795},{"$f":"E155/'Charges Summary'!E$4","v":30.27231778272207},{"$f":"F155/'Charges Summary'!F$4","v":33.552150490799647},{"$f":"G155/'Charges Summary'!G$4","v":35.321414733211014},{"$f":"H155/'Charges Summary'!H$4","v":35.555524418397745}]
[{"$f":"'DNSP Inputs General'!A$44","v":"HP Sodium 250W"},null,null,{"$f":"SUM('Charges Summary'!D67,'Charges Summary'!D11)","v":31.224064934707908},{"$f":"SUM('Charges Summary'!E67,'Charges Summary'!E11)","v":32.138193570240105},{"$f":"SUM('Charges Summary'!F67,'Charges Summary'!F11)","v":36.633787344176881},{"$f":"SUM('Charges Summary'!G67,'Charges Summary'!G11)","v":39.493521077090222},{"$f":"SUM('Charges Summary'!H67,'Charges Summary'!H11)","v":40.698117261107903},null,null,{"$f":"D156/'Charges Summary'!D$4","v":30.499903088615515},{"$f":"E156/'Charges Summary'!E$4","v":30.664754924965404},{"$f":"F156/'Charges Summary'!F$4","v":34.14356572291701},{"$f":"G156/'Charges Summary'!G$4","v":35.955218075277948},{"$f":"H156/'Charges Summary'!H$4","v":36.192568792443012}]
[]
[{"$f":"'DNSP Inputs General'!A$69","v":"T5 2X14W"},null,null,{"$f":"SUM('Charges Summary'!D85,'Charges Summary'!D11)","v":16.456005795748744},{"$f":"SUM('Charges Summary'!E85,'Charges Summary'!E11)","v":17.464140954987073},{"$f":"SUM('Charges Summary'!F85,'Charges Summary'!F11)","v":18.359658058418937},{"$f":"SUM('Charges Summary'!G85,'Charges Summary'!G11)","v":19.204092690838859},{"$f":"SUM('Charges Summary'!H85,'Charges Summary'!H11)","v":20.03041298507112},null,null,{"$f":"D158/'Charges Summary'!D$4","v":16.074351082908645},{"$f":"E158/'Charges Summary'!E$4","v":16.663463090708145},{"$f":"F158/'Charges Summary'!F$4","v":17.111640292020013},{"$f":"G158/'Charges Summary'!G$4","v":17.4835598803447},{"$f":"H158/'Charges Summary'!H$4","v":17.812914913290399}]
[{"$f":"'DNSP Inputs General'!A$70","v":"T5 2X24W"},null,null,{"$f":"SUM('Charges Summary'!D101,'Charges Summary'!D11)","v":16.610321410276754},{"$f":"SUM('Charges Summary'!E101,'Charges Summary'!E11)","v":17.6328829645912},{"$f":"SUM('Charges Summary'!F101,'Charges Summary'!F11)","v":18.540311806580455},{"$f":"SUM('Charges Summary'!G101,'Charges Summary'!G11)","v":19.395774941831839},{"$f":"SUM('Charges Summary'!H101,'Charges Summary'!H11)","v":20.233329094498927},null,null,{"$f":"D159/'Charges Summary'!D$4","v":16.225087743814466},{"$f":"E159/'Charges Summary'!E$4","v":16.824468791254059},{"$f":"F159/'Charges Summary'!F$4","v":17.280013904758814},{"$f":"G159/'Charges Summary'!G$4","v":17.658068937720461},{"$f":"H159/'Charges Summary'!H$4","v":17.99336687873252}]
[{"$f":"'DNSP Inputs General'!A$71","v":"LED 18W"},null,null,{"$f":"SUM('Charges Summary'!D117,'Charges Summary'!D11)","v":15.245996267931979},{"$f":"SUM('Charges Summary'!E117,'Charges Summary'!E11)","v":16.141012119396141},{"$f":"SUM('Charges Summary'!F117,'Charges Summary'!F11)","v":16.943127675671626},{"$f":"SUM('Charges Summary'!G117,'Charges Summary'!G11)","v":17.701086331279736},{"$f":"SUM('Charges Summary'!H117,'Charges Summary'!H11)","v":18.439320427742153},null,null,{"$f":"D160/'Charges Summary'!D$4","v":14.892404612713797},{"$f":"E160/'Charges Summary'!E$4","v":15.400995696924021},{"$f":"F160/'Charges Summary'!F$4","v":15.791400105892231},{"$f":"G160/'Charges Summary'!G$4","v":16.115210846056481},{"$f":"H160/'Charges Summary'!H$4","v":16.397966736036434}]
[{"$f":"'DNSP Inputs General'!A$72","v":"LED 14W"},null,null,{"$f":"SUM('Charges Summary'!D133,'Charges Summary'!D$11)","v":15.245996267931977},{"$f":"SUM('Charges Summary'!E133,'Charges Summary'!E$11)","v":16.141012119396141},{"$f":"SUM('Charges Summary'!F133,'Charges Summary'!F$11)","v":16.943127675671626},{"$f":"SUM('Charges Summary'!G133,'Charges Summary'!G$11)","v":17.701086331279736},{"$f":"SUM('Charges Summary'!H133,'Charges Summary'!H$11)","v":18.439320427742153},null,null,{"$f":"D161/'Charges Summary'!D$4","v":14.892404612713795},{"$f":"E161/'Charges Summary'!E$4","v":15.400995696924021},{"$f":"F161/'Charges Summary'!F$4","v":15.791400105892231},{"$f":"G161/'Charges Summary'!G$4","v":16.115210846056481},{"$f":"H161/'Charges Summary'!H$4","v":16.397966736036434}]
[{"$f":"'DNSP Inputs General'!A$73","v":"LED 70W-125W (L1)"},null,null,{"$f":"SUM('Charges Summary'!D149,'Charges Summary'!D$11)","v":19.558077978856431},{"$f":"SUM('Charges Summary'!E149,'Charges Summary'!E$11)","v":20.856214373582354},{"$f":"SUM('Charges Summary'!F149,'Charges Summary'!F$11)","v":21.99118276614233},{"$f":"SUM('Charges Summary'!G149,'Charges Summary'!G$11)","v":23.057313770374297},{"$f":"SUM('Charges Summary'!H149,'Charges Summary'!H$11)","v":24.109458520973089},null,null,{"$f":"D162/'Charges Summary'!D$4","v":19.104478683415426},{"$f":"E162/'Charges Summary'!E$4","v":19.900020237001318},{"$f":"F162/'Charges Summary'!F$4","v":20.496308149799123},{"$f":"G162/'Charges Summary'!G$4","v":20.991563229464212},{"$f":"H162/'Charges Summary'!H$4","v":21.440383359029028}]
[{"$f":"'DNSP Inputs General'!A$74","v":"LED 155W-250W (L2)"},null,null,{"$f":"SUM('Charges Summary'!D165,'Charges Summary'!D$11)","v":20.105296470090494},{"$f":"SUM('Charges Summary'!E165,'Charges Summary'!E$11)","v":21.454590294164362},{"$f":"SUM('Charges Summary'!F165,'Charges Summary'!F$11)","v":22.631798894374654},{"$f":"SUM('Charges Summary'!G165,'Charges Summary'!G$11)","v":23.737038064675634},{"$f":"SUM('Charges Summary'!H165,'Charges Summary'!H$11)","v":24.829019192702905},null,null,{"$f":"D163/'Charges Summary'!D$4","v":19.639005849748116},{"$f":"E163/'Charges Summary'!E$4","v":20.470962437518743},{"$f":"F163/'Charges Summary'!F$4","v":21.093377698518271},{"$f":"G163/'Charges Summary'!G$4","v":21.6103896740591},{"$f":"H163/'Charges Summary'!H$4","v":22.080283945703215}]
[{"$f":"'DNSP Inputs General'!A$75","v":"LED 275W-400W (L4)"},null,null,{"$f":"SUM('Charges Summary'!D181,'Charges Summary'!D$11)","v":25.005747502789816},{"$f":"SUM('Charges Summary'!E181,'Charges Summary'!E$11)","v":26.81316633816035},{"$f":"SUM('Charges Summary'!F181,'Charges Summary'!F$11)","v":28.368644445920754},{"$f":"SUM('Charges Summary'!G181,'Charges Summary'!G$11)","v":29.824105065002993},{"$f":"SUM('Charges Summary'!H181,'Charges Summary'!H$11)","v":31.272828920177737},null,null,{"$f":"D164/'Charges Summary'!D$4","v":24.425803529690661},{"$f":"E164/'Charges Summary'!E$4","v":25.583864031592377},{"$f":"F164/'Charges Summary'!F$4","v":26.440254921207995},{"$f":"G164/'Charges Summary'!G$4","v":27.152104250695256},{"$f":"H164/'Charges Summary'!H$4","v":27.810721679487898}]
[]
[{"$f":"'DNSP Inputs General'!A$41","v":"Existing Lights"}]
[{"$f":"'DNSP Inputs General'!A$42","v":"Mercury Vapour 80W"},null,null,{"$f":"D154*'DNSP Inputs General'!Q42","v":415003.29466307035},{"$f":"E154*'DNSP Inputs General'!R42","v":427603.10422106105},{"$f":"F154*'DNSP Inputs General'!S42","v":360437.97088102123},{"$f":"G154*'DNSP Inputs General'!T42","v":384882.60776753945},{"$f":"H154*'DNSP Inputs General'!U42","v":396945.71995636763},null,null,{"$f":"D167/'Charges Summary'!D$4","v":405378.36105413549},{"$f":"E167/'Charges Summary'!E$4","v":407998.79954159207},{"$f":"F167/'Charges Summary'!F$4","v":335936.80697519245},{"$f":"G167/'Charges Summary'!G$4","v":350400.21042061853},{"$f":"H167/'Charges Summary'!H$4","v":353001.22568853112}]
[{"$f":"'DNSP Inputs General'!A$43","v":"HP Sodium 150W"},null,null,{"$f":"D155*'DNSP Inputs General'!Q43","v":527571.23331119958},{"$f":"E155*'DNSP Inputs General'!R43","v":525150.13877783983},{"$f":"F155*'DNSP Inputs General'!S43","v":575968.39269587537},{"$f":"G155*'DNSP Inputs General'!T43","v":599750.06106266496},{"$f":"H155*'DNSP Inputs General'!U43","v":596665.72709612397},null,null,{"$f":"D168/'Charges Summary'!D$4","v":515335.57600460702},{"$f":"E168/'Charges Summary'!E$4","v":501073.59859036776},{"$f":"F168/'Charges Summary'!F$4","v":536816.31346425449},{"$f":"G168/'Charges Summary'!G$4","v":546017.26177002024},{"$f":"H168/'Charges Summary'!H$4","v":530610.91832511057}]
[{"$f":"'DNSP Inputs General'!A$44","v":"HP Sodium 250W"},null,null,{"$f":"D156*'DNSP Inputs General'!Q44","v":365352.27393354586},{"$f":"E156*'DNSP Inputs General'!R44","v":362690.70576536498},{"$f":"F156*'DNSP Inputs General'!S44","v":398551.02447906276},{"$f":"G156*'DNSP Inputs General'!T44","v":413999.77585488127},{"$f":"H156*'DNSP Inputs General'!U44","v":410675.79680891923},null,null,{"$f":"D169/'Charges Summary'!D$4","v":356878.86799748288},{"$f":"E169/'Charges Summary'!E$4","v":346062.43756514165},{"$f":"F169/'Charges Summary'!F$4","v":371459.08421614062},{"$f":"G169/'Charges Summary'!G$4","v":376908.71358171554},{"$f":"H169/'Charges Summary'!H$4","v":365211.29299516743}]
[{"$f":"'DNSP Inputs General'!A$45","v":"Mercury Vapour 50W"},null,null,{"$f":"IF('DNSP Inputs General'!$B45='DNSP Inputs General'!$A$42,D$154,IF('DNSP Inputs General'!$B45='DNSP Inputs General'!$A$43,D$155,D$156))*'DNSP Inputs General'!$D45*'DNSP Inputs General'!Q45","v":901.8735310983717},{"$f":"IF('DNSP Inputs General'!$B45='DNSP Inputs General'!$A$42,E$154,IF('DNSP Inputs General'!$B45='DNSP Inputs General'!$A$43,E$155,E$156))*'DNSP Inputs General'!$D45*'DNSP Inputs General'!R45","v":929.25508416883031},{"$f":"IF('DNSP Inputs General'!$B45='DNSP Inputs General'!$A$42,F$154,IF('DNSP Inputs General'!$B45='DNSP Inputs General'!$A$43,F$155,F$156))*'DNSP Inputs General'!$D45*'DNSP Inputs General'!S45","v":783.29369843753545},{"$f":"IF('DNSP Inputs General'!$B45='DNSP Inputs General'!$A$42,G$154,IF('DNSP Inputs General'!$B45='DNSP Inputs General'!$A$43,G$155,G$156))*'DNSP Inputs General'!$D45*'DNSP Inputs General'!T45","v":836.4160983528426},{"$f":"IF('DNSP Inputs General'!$B45='DNSP Inputs General'!$A$42,H$154,IF('DNSP Inputs General'!$B45='DNSP Inputs General'!$A$43,H$155,H$156))*'DNSP Inputs General'!$D45*'DNSP Inputs General'!U45","v":862.63131573950693},null,null,{"$f":"D170/'Charges Summary'!D$4","v":880.95689508100008},{"$f":"E170/'Charges Summary'!E$4","v":886.65155857427953},{"$f":"F170/'Charges Summary'!F$4","v":730.04845558781369},{"$f":"G170/'Charges Summary'!G$4","v":761.47991867443079},{"$f":"H170/'Charges Summary'!H$4","v":767.13237217125823}]
[{"$f":"'DNSP Inputs General'!A$46","v":"Mercury Vapour 125W"},null,null,{"$f":"IF('DNSP Inputs General'!$B46='DNSP Inputs General'!$A$42,D$154,IF('DNSP Inputs General'!$B46='DNSP Inputs General'!$A$43,D$155,D$156))*'DNSP Inputs General'!$D46*'DNSP Inputs General'!Q46","v":10294.090586725179},{"$f":"IF('DNSP Inputs General'!$B46='DNSP Inputs General'!$A$42,E$154,IF('DNSP Inputs General'!$B46='DNSP Inputs General'!$A$43,E$155,E$156))*'DNSP Inputs General'!$D46*'DNSP Inputs General'!R46","v":10606.62685483058},{"$f":"IF('DNSP Inputs General'!$B46='DNSP Inputs General'!$A$42,F$154,IF('DNSP Inputs General'!$B46='DNSP Inputs General'!$A$43,F$155,F$156))*'DNSP Inputs General'!$D46*'DNSP Inputs General'!S46","v":8940.6064261658448},{"$f":"IF('DNSP Inputs General'!$B46='DNSP Inputs General'!$A$42,G$154,IF('DNSP Inputs General'!$B46='DNSP Inputs General'!$A$43,G$155,G$156))*'DNSP Inputs General'!$D46*'DNSP Inputs General'!T46","v":9546.9517484932694},{"$f":"IF('DNSP Inputs General'!$B46='DNSP Inputs General'!$A$42,H$154,IF('DNSP Inputs General'!$B46='DNSP Inputs General'!$A$43,H$155,H$156))*'DNSP Inputs General'!$D46*'DNSP Inputs General'!U46","v":9846.1753238878773},null,null,{"$f":"D171/'Charges Summary'!D$4","v":10055.345642442191},{"$f":"E171/'Charges Summary'!E$4","v":10120.345201514896},{"$f":"F171/'Charges Summary'!F$4","v":8332.858960132904},{"$f":"G171/'Charges Summary'!G$4","v":8691.6213776227396},{"$f":"H171/'Charges Summary'!H$4","v":8756.1391468300553}]
[{"$f":"'DNSP Inputs General'!A$47","v":"Mercury Vapour 250W"},null,null,{"$f":"IF('DNSP Inputs General'!$B47='DNSP Inputs General'!$A$42,D$154,IF('DNSP Inputs General'!$B47='DNSP Inputs General'!$A$43,D$155,D$156))*'DNSP Inputs General'!$D47*'DNSP Inputs General'!Q47","v":29193.804339243688},{"$f":"IF('DNSP Inputs General'!$B47='DNSP Inputs General'!$A$42,E$154,IF('DNSP Inputs General'!$B47='DNSP Inputs General'!$A$43,E$155,E$156))*'DNSP Inputs General'!$D47*'DNSP Inputs General'!R47","v":30048.494226112394},{"$f":"IF('DNSP Inputs General'!$B47='DNSP Inputs General'!$A$42,F$154,IF('DNSP Inputs General'!$B47='DNSP Inputs General'!$A$43,F$155,F$156))*'DNSP Inputs General'!$D47*'DNSP Inputs General'!S47","v":34251.774141763141},{"$f":"IF('DNSP Inputs General'!$B47='DNSP Inputs General'!$A$42,G$154,IF('DNSP Inputs General'!$B47='DNSP Inputs General'!$A$43,G$155,G$156))*'DNSP Inputs General'!$D47*'DNSP Inputs General'!T47","v":36925.561402825537},{"$f":"IF('DNSP Inputs General'!$B47='DNSP Inputs General'!$A$42,H$154,IF('DNSP Inputs General'!$B47='DNSP Inputs General'!$A$43,H$155,H$156))*'DNSP Inputs General'!$D47*'DNSP Inputs General'!U47","v":38051.831969375678},null,null,{"$f":"D172/'Charges Summary'!D$4","v":28516.729163766871},{"$f":"E172/'Charges Summary'!E$4","v":28670.861954145934},{"$f":"F172/'Charges Summary'!F$4","v":31923.472464052869},{"$f":"G172/'Charges Summary'!G$4","v":33617.327009133754},{"$f":"H172/'Charges Summary'!H$4","v":33839.244636168733}]
[{"$f":"'DNSP Inputs General'!A$48","v":"Mercury Vapour 400W"},null,null,{"$f":"IF('DNSP Inputs General'!$B48='DNSP Inputs General'!$A$42,D$154,IF('DNSP Inputs General'!$B48='DNSP Inputs General'!$A$43,D$155,D$156))*'DNSP Inputs General'!$D48*'DNSP Inputs General'!Q48","v":6026.0864371518455},{"$f":"IF('DNSP Inputs General'!$B48='DNSP Inputs General'!$A$42,E$154,IF('DNSP Inputs General'!$B48='DNSP Inputs General'!$A$43,E$155,E$156))*'DNSP Inputs General'!$D48*'DNSP Inputs General'!R48","v":6202.5086353477454},{"$f":"IF('DNSP Inputs General'!$B48='DNSP Inputs General'!$A$42,F$154,IF('DNSP Inputs General'!$B48='DNSP Inputs General'!$A$43,F$155,F$156))*'DNSP Inputs General'!$D48*'DNSP Inputs General'!S48","v":7070.1354714023673},{"$f":"IF('DNSP Inputs General'!$B48='DNSP Inputs General'!$A$42,G$154,IF('DNSP Inputs General'!$B48='DNSP Inputs General'!$A$43,G$155,G$156))*'DNSP Inputs General'!$D48*'DNSP Inputs General'!T48","v":7622.0496023078194},{"$f":"IF('DNSP Inputs General'!$B48='DNSP Inputs General'!$A$42,H$154,IF('DNSP Inputs General'!$B48='DNSP Inputs General'!$A$43,H$155,H$156))*'DNSP Inputs General'!$D48*'DNSP Inputs General'!U48","v":7854.5305666516042},null,null,{"$f":"D173/'Charges Summary'!D$4","v":5886.3268674684805},{"$f":"E173/'Charges Summary'!E$4","v":5918.1424371979483},{"$f":"F173/'Charges Summary'!F$4","v":6589.5353071138361},{"$f":"G173/'Charges Summary'!G$4","v":6939.1750382707241},{"$f":"H173/'Charges Summary'!H$4","v":6984.9825249175647}]
[{"$f":"'DNSP Inputs General'!A$49","v":"HP Sodium 100W"},null,null,{"$f":"IF('DNSP Inputs General'!$B49='DNSP Inputs General'!$A$42,D$154,IF('DNSP Inputs General'!$B49='DNSP Inputs General'!$A$43,D$155,D$156))*'DNSP Inputs General'!$D49*'DNSP Inputs General'!Q49","v":80810.729839371648},{"$f":"IF('DNSP Inputs General'!$B49='DNSP Inputs General'!$A$42,E$154,IF('DNSP Inputs General'!$B49='DNSP Inputs General'!$A$43,E$155,E$156))*'DNSP Inputs General'!$D49*'DNSP Inputs General'!R49","v":82129.691295347773},{"$f":"IF('DNSP Inputs General'!$B49='DNSP Inputs General'!$A$42,F$154,IF('DNSP Inputs General'!$B49='DNSP Inputs General'!$A$43,F$155,F$156))*'DNSP Inputs General'!$D49*'DNSP Inputs General'!S49","v":91992.001451781092},{"$f":"IF('DNSP Inputs General'!$B49='DNSP Inputs General'!$A$42,G$154,IF('DNSP Inputs General'!$B49='DNSP Inputs General'!$A$43,G$155,G$156))*'DNSP Inputs General'!$D49*'DNSP Inputs General'!T49","v":97851.934895241458},{"$f":"IF('DNSP Inputs General'!$B49='DNSP Inputs General'!$A$42,H$154,IF('DNSP Inputs General'!$B49='DNSP Inputs General'!$A$43,H$155,H$156))*'DNSP Inputs General'!$D49*'DNSP Inputs General'!U49","v":99509.493228050502},null,null,{"$f":"D174/'Charges Summary'!D$4","v":78936.532888176371},{"$f":"E174/'Charges Summary'!E$4","v":78364.294188800239},{"$f":"F174/'Charges Summary'!F$4","v":85738.744892584291},{"$f":"G174/'Charges Summary'!G$4","v":89085.185678397975},{"$f":"H174/'Charges Summary'!H$4","v":88493.13976985967}]
[{"$f":"'DNSP Inputs General'!A50","v":"HP Sodium 400W"},null,null,{"$f":"IF('DNSP Inputs General'!$B50='DNSP Inputs General'!$A$42,D$154,IF('DNSP Inputs General'!$B50='DNSP Inputs General'!$A$43,D$155,D$156))*'DNSP Inputs General'!$D50*'DNSP Inputs General'!Q50","v":19275.064754213869},{"$f":"IF('DNSP Inputs General'!$B50='DNSP Inputs General'!$A$42,E$154,IF('DNSP Inputs General'!$B50='DNSP Inputs General'!$A$43,E$155,E$156))*'DNSP Inputs General'!$D50*'DNSP Inputs General'!R50","v":19587.714501466522},{"$f":"IF('DNSP Inputs General'!$B50='DNSP Inputs General'!$A$42,F$154,IF('DNSP Inputs General'!$B50='DNSP Inputs General'!$A$43,F$155,F$156))*'DNSP Inputs General'!$D50*'DNSP Inputs General'!S50","v":22040.84960878003},{"$f":"IF('DNSP Inputs General'!$B50='DNSP Inputs General'!$A$42,G$154,IF('DNSP Inputs General'!$B50='DNSP Inputs General'!$A$43,G$155,G$156))*'DNSP Inputs General'!$D50*'DNSP Inputs General'!T50","v":23452.168471359502},{"$f":"IF('DNSP Inputs General'!$B50='DNSP Inputs General'!$A$42,H$154,IF('DNSP Inputs General'!$B50='DNSP Inputs General'!$A$43,H$155,H$156))*'DNSP Inputs General'!$D50*'DNSP Inputs General'!U50","v":23848.802940539965},null,null,{"$f":"D175/'Charges Summary'!D$4","v":18828.029222320445},{"$f":"E175/'Charges Summary'!E$4","v":18689.677234499719},{"$f":"F175/'Charges Summary'!F$4","v":20542.598834677479},{"$f":"G175/'Charges Summary'!G$4","v":21351.042113462918},{"$f":"H175/'Charges Summary'!H$4","v":21208.584060662586}]
[{"$f":"'DNSP Inputs General'!A51","v":"Metal Halide 70W"},null,null,{"$f":"IF('DNSP Inputs General'!$B51='DNSP Inputs General'!$A$42,D$154,IF('DNSP Inputs General'!$B51='DNSP Inputs General'!$A$43,D$155,D$156))*'DNSP Inputs General'!$D51*'DNSP Inputs General'!Q51","v":2320.0560547792875},{"$f":"IF('DNSP Inputs General'!$B51='DNSP Inputs General'!$A$42,E$154,IF('DNSP Inputs General'!$B51='DNSP Inputs General'!$A$43,E$155,E$156))*'DNSP Inputs General'!$D51*'DNSP Inputs General'!R51","v":1434.2968122157968},{"$f":"IF('DNSP Inputs General'!$B51='DNSP Inputs General'!$A$42,F$154,IF('DNSP Inputs General'!$B51='DNSP Inputs General'!$A$43,F$155,F$156))*'DNSP Inputs General'!$D51*'DNSP Inputs General'!S51","v":403.00224478641354},{"$f":"IF('DNSP Inputs General'!$B51='DNSP Inputs General'!$A$42,G$154,IF('DNSP Inputs General'!$B51='DNSP Inputs General'!$A$43,G$155,G$156))*'DNSP Inputs General'!$D51*'DNSP Inputs General'!T51","v":0},{"$f":"IF('DNSP Inputs General'!$B51='DNSP Inputs General'!$A$42,H$154,IF('DNSP Inputs General'!$B51='DNSP Inputs General'!$A$43,H$155,H$156))*'DNSP Inputs General'!$D51*'DNSP Inputs General'!U51","v":0},null,null,{"$f":"D176/'Charges Summary'!D$4","v":2266.2483241337095},{"$f":"E176/'Charges Summary'!E$4","v":1368.5386560426998},{"$f":"F176/'Charges Summary'!F$4","v":375.60772797179021},{"$f":"G176/'Charges Summary'!G$4","v":0},{"$f":"H176/'Charges Summary'!H$4","v":0}]
[{"$f":"'DNSP Inputs General'!A52","v":"Metal Halide 100W"},null,null,{"$f":"IF('DNSP Inputs General'!$B52='DNSP Inputs General'!$A$42,D$154,IF('DNSP Inputs General'!$B52='DNSP Inputs General'!$A$43,D$155,D$156))*'DNSP Inputs General'!$D52*'DNSP Inputs General'!Q52","v":2189.3597018367636},{"$f":"IF('DNSP Inputs General'!$B52='DNSP Inputs General'!$A$42,E$154,IF('DNSP Inputs General'!$B52='DNSP Inputs General'!$A$43,E$155,E$156))*'DNSP Inputs General'!$D52*'DNSP Inputs General'!R52","v":2253.6806842149936},{"$f":"IF('DNSP Inputs General'!$B52='DNSP Inputs General'!$A$42,F$154,IF('DNSP Inputs General'!$B52='DNSP Inputs General'!$A$43,F$155,F$156))*'DNSP Inputs General'!$D52*'DNSP Inputs General'!S52","v":2557.1608796997925},{"$f":"IF('DNSP Inputs General'!$B52='DNSP Inputs General'!$A$42,G$154,IF('DNSP Inputs General'!$B52='DNSP Inputs General'!$A$43,G$155,G$156))*'DNSP Inputs General'!$D52*'DNSP Inputs General'!T52","v":2755.9209923765884},{"$f":"IF('DNSP Inputs General'!$B52='DNSP Inputs General'!$A$42,H$154,IF('DNSP Inputs General'!$B52='DNSP Inputs General'!$A$43,H$155,H$156))*'DNSP Inputs General'!$D52*'DNSP Inputs General'!U52","v":2840.0549529918053},null,null,{"$f":"D177/'Charges Summary'!D$4","v":2138.5831368136728},{"$f":"E177/'Charges Summary'!E$4","v":2150.3562640986611},{"$f":"F177/'Charges Summary'!F$4","v":2383.3350818962099},{"$f":"G177/'Charges Summary'!G$4","v":2509.0125564068171},{"$f":"H177/'Charges Summary'!H$4","v":2525.642245340473}]
[{"$f":"'DNSP Inputs General'!A53","v":"Metal Halide 150W"},null,null,{"$f":"IF('DNSP Inputs General'!$B53='DNSP Inputs General'!$A$42,D$154,IF('DNSP Inputs General'!$B53='DNSP Inputs General'!$A$43,D$155,D$156))*'DNSP Inputs General'!$D53*'DNSP Inputs General'!Q53","v":2414.1153337045248},{"$f":"IF('DNSP Inputs General'!$B53='DNSP Inputs General'!$A$42,E$154,IF('DNSP Inputs General'!$B53='DNSP Inputs General'!$A$43,E$155,E$156))*'DNSP Inputs General'!$D53*'DNSP Inputs General'!R53","v":2485.0393895862298},{"$f":"IF('DNSP Inputs General'!$B53='DNSP Inputs General'!$A$42,F$154,IF('DNSP Inputs General'!$B53='DNSP Inputs General'!$A$43,F$155,F$156))*'DNSP Inputs General'!$D53*'DNSP Inputs General'!S53","v":2819.6743026070799},{"$f":"IF('DNSP Inputs General'!$B53='DNSP Inputs General'!$A$42,G$154,IF('DNSP Inputs General'!$B53='DNSP Inputs General'!$A$43,G$155,G$156))*'DNSP Inputs General'!$D53*'DNSP Inputs General'!T53","v":3038.8387621243255},{"$f":"IF('DNSP Inputs General'!$B53='DNSP Inputs General'!$A$42,H$154,IF('DNSP Inputs General'!$B53='DNSP Inputs General'!$A$43,H$155,H$156))*'DNSP Inputs General'!$D53*'DNSP Inputs General'!U53","v":3131.6097600723051},null,null,{"$f":"D178/'Charges Summary'!D$4","v":2358.1261401004544},{"$f":"E178/'Charges Summary'!E$4","v":2371.1078749339317},{"$f":"F178/'Charges Summary'!F$4","v":2628.0038687724764},{"$f":"G178/'Charges Summary'!G$4","v":2766.5831611851295},{"$f":"H178/'Charges Summary'!H$4","v":2784.9200233351885}]
[{"$f":"'DNSP Inputs General'!A54","v":"HP Sodium 50W"},null,null,{"$f":"IF('DNSP Inputs General'!$B54='DNSP Inputs General'!$A$42,D$154,IF('DNSP Inputs General'!$B54='DNSP Inputs General'!$A$43,D$155,D$156))*'DNSP Inputs General'!$D54*'DNSP Inputs General'!Q54","v":0},{"$f":"IF('DNSP Inputs General'!$B54='DNSP Inputs General'!$A$42,E$154,IF('DNSP Inputs General'!$B54='DNSP Inputs General'!$A$43,E$155,E$156))*'DNSP Inputs General'!$D54*'DNSP Inputs General'!R54","v":0},{"$f":"IF('DNSP Inputs General'!$B54='DNSP Inputs General'!$A$42,F$154,IF('DNSP Inputs General'!$B54='DNSP Inputs General'!$A$43,F$155,F$156))*'DNSP Inputs General'!$D54*'DNSP Inputs General'!S54","v":0},{"$f":"IF('DNSP Inputs General'!$B54='DNSP Inputs General'!$A$42,G$154,IF('DNSP Inputs General'!$B54='DNSP Inputs General'!$A$43,G$155,G$156))*'DNSP Inputs General'!$D54*'DNSP Inputs General'!T54","v":0},{"$f":"IF('DNSP Inputs General'!$B54='DNSP Inputs General'!$A$42,H$154,IF('DNSP Inputs General'!$B54='DNSP Inputs General'!$A$43,H$155,H$156))*'DNSP Inputs General'!$D54*'DNSP Inputs General'!U54","v":0},null,null,{"$f":"D179/'Charges Summary'!D$4","v":0},{"$f":"E179/'Charges Summary'!E$4","v":0},{"$f":"F179/'Charges Summary'!F$4","v":0},{"$f":"G179/'Charges Summary'!G$4","v":0},{"$f":"H179/'Charges Summary'!H$4","v":0}]
[]
[]
[]
[]
[]
[]
[]
[]
[]
[]
[]
[{"$f":"'DNSP Inputs General'!A$68","v":"Energy Efficient Lights"}]
[{"$f":"'DNSP Inputs General'!A$69","v":"T5 2X14W"},null,null,{"$f":"SUM('Charges Summary'!D85,'Charges Summary'!D11)*'DNSP Inputs General'!$D69*'DNSP Inputs General'!Q69","v":344325.46527024673},{"$f":"SUM('Charges Summary'!E85,'Charges Summary'!E11)*'DNSP Inputs General'!$D69*'DNSP Inputs General'!R69","v":365419.68534214952},{"$f":"SUM('Charges Summary'!F85,'Charges Summary'!F11)*'DNSP Inputs General'!$D69*'DNSP Inputs General'!S69","v":384157.48521435785},{"$f":"SUM('Charges Summary'!G85,'Charges Summary'!G11)*'DNSP Inputs General'!$D69*'DNSP Inputs General'!T69","v":401826.43546311231},{"$f":"SUM('Charges Summary'!H85,'Charges Summary'!H11)*'DNSP Inputs General'!$D69*'DNSP Inputs General'!U69","v":419116.3612996281},null,null,{"$f":"D192/'Charges Summary'!D$4","v":336339.72205878049},{"$f":"E192/'Charges Summary'!E$4","v":348666.30170997727},{"$f":"F192/'Charges Summary'!F$4","v":358043.96147022676},{"$f":"G192/'Charges Summary'!G$4","v":365826.00693633256},{"$f":"H192/'Charges Summary'!H$4","v":372717.43164568825}]
[{"$f":"'DNSP Inputs General'!A70","v":"T5 2X24W"},null,null,{"$f":"SUM('Charges Summary'!D101,'Charges Summary'!D11)*'DNSP Inputs General'!$D70*'DNSP Inputs General'!Q70","v":27390.420005546366},{"$f":"SUM('Charges Summary'!E101,'Charges Summary'!E11)*'DNSP Inputs General'!$D70*'DNSP Inputs General'!R70","v":29076.624008610888},{"$f":"SUM('Charges Summary'!F101,'Charges Summary'!F11)*'DNSP Inputs General'!$D70*'DNSP Inputs General'!S70","v":30572.974169051169},{"$f":"SUM('Charges Summary'!G101,'Charges Summary'!G11)*'DNSP Inputs General'!$D70*'DNSP Inputs General'!T70","v":31983.632879080702},{"$f":"SUM('Charges Summary'!H101,'Charges Summary'!H11)*'DNSP Inputs General'!$D70*'DNSP Inputs General'!U70","v":33364.759676828733},null,null,{"$f":"D193/'Charges Summary'!D$4","v":26755.169689550057},{"$f":"E193/'Charges Summary'!E$4","v":27743.549036777946},{"$f":"F193/'Charges Summary'!F$4","v":28494.742928947282},{"$f":"G193/'Charges Summary'!G$4","v":29118.155678301038},{"$f":"H193/'Charges Summary'!H$4","v":29671.061983029926}]
[{"$f":"'DNSP Inputs General'!A71","v":"LED 18W"},null,null,{"$f":"SUM('Charges Summary'!D117,'Charges Summary'!D11)*'DNSP Inputs General'!$D71*'DNSP Inputs General'!Q71","v":594985.97037573007},{"$f":"SUM('Charges Summary'!E117,'Charges Summary'!E11)*'DNSP Inputs General'!$D71*'DNSP Inputs General'!R71","v":668915.06734235142},{"$f":"SUM('Charges Summary'!F117,'Charges Summary'!F11)*'DNSP Inputs General'!$D71*'DNSP Inputs General'!S71","v":744195.74659043178},{"$f":"SUM('Charges Summary'!G117,'Charges Summary'!G11)*'DNSP Inputs General'!$D71*'DNSP Inputs General'!T71","v":822075.78472617141},{"$f":"SUM('Charges Summary'!H117,'Charges Summary'!H11)*'DNSP Inputs General'!$D71*'DNSP Inputs General'!U71","v":902897.16253731016},null,null,{"$f":"D194/'Charges Summary'!D$4","v":581186.80170222966},{"$f":"E194/'Charges Summary'!E$4","v":638247.34146427293},{"$f":"F194/'Charges Summary'!F$4","v":693608.22962970717},{"$f":"G194/'Charges Summary'!G$4","v":748424.38223065843},{"$f":"H194/'Charges Summary'!H$4","v":802940.52567540365}]
[{"$f":"'DNSP Inputs General'!A72","v":"LED 14W"},null,null,{"$f":"SUM('Charges Summary'!D133,'Charges Summary'!D$11)*'DNSP Inputs General'!$D72*'DNSP Inputs General'!Q72","v":213.44394775104769},{"$f":"SUM('Charges Summary'!E133,'Charges Summary'!E$11)*'DNSP Inputs General'!$D72*'DNSP Inputs General'!R72","v":225.97416967154598},{"$f":"SUM('Charges Summary'!F133,'Charges Summary'!F$11)*'DNSP Inputs General'!$D72*'DNSP Inputs General'!S72","v":237.20378745940275},{"$f":"SUM('Charges Summary'!G133,'Charges Summary'!G$11)*'DNSP Inputs General'!$D72*'DNSP Inputs General'!T72","v":247.8152086379163},{"$f":"SUM('Charges Summary'!H133,'Charges Summary'!H$11)*'DNSP Inputs General'!$D72*'DNSP Inputs General'!U72","v":258.15048598839013},null,null,{"$f":"D195/'Charges Summary'!D$4","v":208.49366457799314},{"$f":"E195/'Charges Summary'!E$4","v":215.6139397569363},{"$f":"F195/'Charges Summary'!F$4","v":221.07960148249123},{"$f":"G195/'Charges Summary'!G$4","v":225.61295184479073},{"$f":"H195/'Charges Summary'!H$4","v":229.57153430451007}]
[{"$f":"'DNSP Inputs General'!A73","v":"LED 70W-125W (L1)"},null,null,{"$f":"SUM('Charges Summary'!D149,'Charges Summary'!D$11)*'DNSP Inputs General'!$D73*'DNSP Inputs General'!Q73","v":51825.846498818006},{"$f":"SUM('Charges Summary'!E149,'Charges Summary'!E$11)*'DNSP Inputs General'!$D73*'DNSP Inputs General'!R73","v":70367.634203767971},{"$f":"SUM('Charges Summary'!F149,'Charges Summary'!F$11)*'DNSP Inputs General'!$D73*'DNSP Inputs General'!S73","v":90475.314687020393},{"$f":"SUM('Charges Summary'!G149,'Charges Summary'!G$11)*'DNSP Inputs General'!$D73*'DNSP Inputs General'!T73","v":108445.84621921989},{"$f":"SUM('Charges Summary'!H149,'Charges Summary'!H$11)*'DNSP Inputs General'!$D73*'DNSP Inputs General'!U73","v":128308.69431977281},null,null,{"$f":"D196/'Charges Summary'!D$4","v":50623.879338092331},{"$f":"E196/'Charges Summary'!E$4","v":67141.491720501726},{"$f":"F196/'Charges Summary'!F$4","v":84325.156563669225},{"$f":"G196/'Charges Summary'!G$4","v":98729.967443495159},{"$f":"H196/'Charges Summary'!H$4","v":114104.08044292178}]
[{"$f":"'DNSP Inputs General'!A74","v":"LED 155W-250W (L2)"},null,null,{"$f":"SUM('Charges Summary'!D165,'Charges Summary'!D$11)*'DNSP Inputs General'!$D74*'DNSP Inputs General'!Q74","v":63595.890944132974},{"$f":"SUM('Charges Summary'!E165,'Charges Summary'!E$11)*'DNSP Inputs General'!$D74*'DNSP Inputs General'!R74","v":93524.795095205598},{"$f":"SUM('Charges Summary'!F165,'Charges Summary'!F$11)*'DNSP Inputs General'!$D74*'DNSP Inputs General'!S74","v":124350.7051513054},{"$f":"SUM('Charges Summary'!G165,'Charges Summary'!G$11)*'DNSP Inputs General'!$D74*'DNSP Inputs General'!T74","v":159058.94299789317},{"$f":"SUM('Charges Summary'!H165,'Charges Summary'!H$11)*'DNSP Inputs General'!$D74*'DNSP Inputs General'!U74","v":198844.29444393583},null,null,{"$f":"D197/'Charges Summary'!D$4","v":62120.94788702955},{"$f":"E197/'Charges Summary'!E$4","v":89236.967060207418},{"$f":"F197/'Charges Summary'!F$4","v":115897.83044093467},{"$f":"G197/'Charges Summary'!G$4","v":144808.53634572442},{"$f":"H197/'Charges Summary'!H$4","v":176830.92707888645}]
[{"$f":"'DNSP Inputs General'!A75","v":"LED 275W-400W (L4)"},null,null,{"$f":"SUM('Charges Summary'!D181,'Charges Summary'!D$11)*'DNSP Inputs General'!$D75*'DNSP Inputs General'!Q75","v":2760.5694329852959},{"$f":"SUM('Charges Summary'!E181,'Charges Summary'!E$11)*'DNSP Inputs General'!$D75*'DNSP Inputs General'!R75","v":3642.8273426416536},{"$f":"SUM('Charges Summary'!F181,'Charges Summary'!F$11)*'DNSP Inputs General'!$D75*'DNSP Inputs General'!S75","v":4592.2843848620942},{"$f":"SUM('Charges Summary'!G181,'Charges Summary'!G$11)*'DNSP Inputs General'!$D75*'DNSP Inputs General'!T75","v":5620.968289882001},{"$f":"SUM('Charges Summary'!H181,'Charges Summary'!H$11)*'DNSP Inputs General'!$D75*'DNSP Inputs General'!U75","v":6734.6855189676926},null,null,{"$f":"D198/'Charges Summary'!D$4","v":2696.5451279808981},{"$f":"E198/'Charges Summary'!E$4","v":3475.814763886081},{"$f":"F198/'Charges Summary'!F$4","v":4280.1188487487379},{"$f":"G198/'Charges Summary'!G$4","v":5117.3745755013824},{"$f":"H198/'Charges Summary'!H$4","v":5989.1116676701185}]
[{"$f":"'DNSP Inputs General'!A76","v":"Compact Fluorescent 32W"},null,null,{"$f":"IF('DNSP Inputs General'!$B76='DNSP Inputs General'!$A$69,D$158,D$159)*'DNSP Inputs General'!$D76*'DNSP Inputs General'!Q76","v":41238.891779451413},{"$f":"IF('DNSP Inputs General'!$B76='DNSP Inputs General'!$A$69,E$158,E$159)*'DNSP Inputs General'!$D76*'DNSP Inputs General'!R76","v":43765.287142148096},{"$f":"IF('DNSP Inputs General'!$B76='DNSP Inputs General'!$A$69,F$158,F$159)*'DNSP Inputs General'!$D76*'DNSP Inputs General'!S76","v":46009.460690301261},{"$f":"IF('DNSP Inputs General'!$B76='DNSP Inputs General'!$A$69,G$158,G$159)*'DNSP Inputs General'!$D76*'DNSP Inputs General'!T76","v":48125.621127616025},{"$f":"IF('DNSP Inputs General'!$B76='DNSP Inputs General'!$A$69,H$158,H$159)*'DNSP Inputs General'!$D76*'DNSP Inputs General'!U76","v":50196.386877942386},null,null,{"$f":"D199/'Charges Summary'!D$4","v":40282.461793020775},{"$f":"E199/'Charges Summary'!E$4","v":41758.781541394652},{"$f":"F199/'Charges Summary'!F$4","v":42881.917454952258},{"$f":"G199/'Charges Summary'!G$4","v":43813.951135782772},{"$f":"H199/'Charges Summary'!H$4","v":44639.317675467268}]
[{"$f":"'DNSP Inputs General'!A77","v":"Compact Fluorescent 42W"},null,null,{"$f":"IF('DNSP Inputs General'!$B77='DNSP Inputs General'!$A$69,D$158,D$159)*'DNSP Inputs General'!$D77*'DNSP Inputs General'!Q77","v":19700.291931145443},{"$f":"IF('DNSP Inputs General'!$B77='DNSP Inputs General'!$A$69,E$158,E$159)*'DNSP Inputs General'!$D77*'DNSP Inputs General'!R77","v":20907.179993142705},{"$f":"IF('DNSP Inputs General'!$B77='DNSP Inputs General'!$A$69,F$158,F$159)*'DNSP Inputs General'!$D77*'DNSP Inputs General'!S77","v":21979.24745507196},{"$f":"IF('DNSP Inputs General'!$B77='DNSP Inputs General'!$A$69,G$158,G$159)*'DNSP Inputs General'!$D77*'DNSP Inputs General'!T77","v":22990.161584656165},{"$f":"IF('DNSP Inputs General'!$B77='DNSP Inputs General'!$A$69,H$158,H$159)*'DNSP Inputs General'!$D77*'DNSP Inputs General'!U77","v":23979.390151238887},null,null,{"$f":"D200/'Charges Summary'!D$4","v":19243.394349000097},{"$f":"E200/'Charges Summary'!E$4","v":19948.649237570422},{"$f":"F200/'Charges Summary'!F$4","v":20485.184154506853},{"$f":"G200/'Charges Summary'!G$4","v":20930.427341453265},{"$f":"H200/'Charges Summary'!H$4","v":21324.714410779558}]
[]
["Total Capital Charge",null,null,{"$f":"SUM(D167:D200)","v":2607388.7726717493},{"$f":"SUM(E167:E200)","v":2766966.3308872464},{"$f":"SUM(F167:F200)","v":2952386.3084112448},{"$f":"SUM(G167:G200)","v":3181037.4951544367},{"$f":"SUM(H167:H200)","v":3353932.2592303334},null,null,{"$f":"SUM(K167:K200)","v":2546917.0989467902},{"$f":"SUM(L167:L200)","v":2640109.3215412549},{"$f":"SUM(M167:M200)","v":2751694.6313415533},{"$f":"SUM(N167:N200)","v":2896042.0272646029},{"$f":"SUM(O167:O200)","v":2982629.9639022457}]
[]
["Check",null,{"$f":"SUM(D204:O204)","v":9.3132257461547852E-9},{"$f":"ABS(D92-SUM(D147,D202))","v":9.3132257461547852E-10},{"$f":"ABS(E92-SUM(E147,E202))","v":1.862645149230957E-9},{"$f":"ABS(F92-SUM(F147,F202))","v":2.7939677238464355E-9},{"$f":"ABS(G92-SUM(G147,G202))","v":0},{"$f":"ABS(H92-SUM(H147,H202))","v":1.862645149230957E-9},null,null,{"$f":"ABS(K92-SUM(K147,K202))","v":9.3132257461547852E-10},{"$f":"ABS(L92-SUM(L147,L202))","v":0},{"$f":"ABS(M92-SUM(M147,M202))","v":9.3132257461547852E-10},{"$f":"ABS(N92-SUM(N147,N202))","v":0},{"$f":"ABS(O92-SUM(O147,O202))","v":0}]
[]
[]
[]
[]
[{"$f":"'DNSP Inputs General'!$B$83","v":"North & East"}]
["Public Lighting - Revenue",null,"Revenue - Nominal ",null,null,null,null,null,null,"Revenue - Real 2021 $ "]
[null,null,{"$f":"C$2","v":2020},{"$f":"D$2","v":"2022-06-30"},"2023-06-30","2024-06-30","2025-06-30","2026-06-30",null,{"$f":"J$2","v":2020},"2022-06-30","2023-06-30","2024-06-30","2025-06-30","2026-06-30"]
[{"$f":"'DNSP Inputs General'!A$85","v":"Existing Lights"}]
[{"$f":"'DNSP Inputs General'!A$86","v":"Mercury Vapour 80W"},null,{"$f":"IF('PL Tariffs'!C41=0,\"\",'DNSP Inputs General'!O86*'PL Tariffs'!C41)","v":447272.04679343989},{"$f":"'DNSP Inputs General'!Q86*'PL Tariffs'!D41","v":451603.48829546891},{"$f":"'DNSP Inputs General'!R86*'PL Tariffs'!E41","v":463367.49258888571},{"$f":"'DNSP Inputs General'!S86*'PL Tariffs'!F41","v":420650.0833930982},{"$f":"'DNSP Inputs General'!T86*'PL Tariffs'!G41","v":439227.12126280379},{"$f":"'DNSP Inputs General'!U86*'PL Tariffs'!H41","v":452297.34708362189},null,{"$f":"C213","v":447272.04679343989},{"$f":"D213/'Charges Summary'!K$4","v":441129.70736817241},{"$f":"E213/'Charges Summary'!L$4","v":442123.49923710251},{"$f":"F213/'Charges Summary'!M$4","v":392055.93551510741},{"$f":"G213/'Charges Summary'!N$4","v":399875.89100384695},{"$f":"H213/'Charges Summary'!O$4","v":402225.06471096235}]
[{"$f":"'DNSP Inputs General'!A$87","v":"HP Sodium 150W"},null,{"$f":"IF('PL Tariffs'!C42=0,\"\",'DNSP Inputs General'!O87*'PL Tariffs'!C42)","v":1121721.6000000001},{"$f":"'DNSP Inputs General'!Q87*'PL Tariffs'!D42","v":1083865.5263419794},{"$f":"'DNSP Inputs General'!R87*'PL Tariffs'!E42","v":1067394.3252788307},{"$f":"'DNSP Inputs General'!S87*'PL Tariffs'!F42","v":1066022.9868875346},{"$f":"'DNSP Inputs General'!T87*'PL Tariffs'!G42","v":1065744.207496322},{"$f":"'DNSP Inputs General'!U87*'PL Tariffs'!H42","v":1053948.354497296},null,1121721.6000000001,{"$f":"D214/'Charges Summary'!K$4","v":1058728.0542635364},{"$f":"E214/'Charges Summary'!L$4","v":1018457.5346911638},{"$f":"F214/'Charges Summary'!M$4","v":993558.91251359927},{"$f":"G214/'Charges Summary'!N$4","v":970262.06699060358},{"$f":"H214/'Charges Summary'!O$4","v":937269.36013027502}]
[{"$f":"'DNSP Inputs General'!A$88","v":"HP Sodium 250W"},null,{"$f":"IF('PL Tariffs'!C43=0,\"\",'DNSP Inputs General'!O88*'PL Tariffs'!C43)","v":983808},{"$f":"'DNSP Inputs General'!Q88*'PL Tariffs'!D43","v":957430.64127871022},{"$f":"'DNSP Inputs General'!R88*'PL Tariffs'!E43","v":948086.31920548994},{"$f":"'DNSP Inputs General'!S88*'PL Tariffs'!F43","v":954927.40673995845},{"$f":"'DNSP Inputs General'!T88*'PL Tariffs'!G43","v":959674.75907607435},{"$f":"'DNSP Inputs General'!U88*'PL Tariffs'!H43","v":953863.00396463159},null,983808,{"$f":"D215/'Charges Summary'!K$4","v":935225.50104012713},{"$f":"E215/'Charges Summary'!L$4","v":904619.43863174214},{"$f":"F215/'Charges Summary'!M$4","v":890015.1755077308},{"$f":"G215/'Charges Summary'!N$4","v":873695.59114687925},{"$f":"H215/'Charges Summary'!O$4","v":848264.11423574726}]
[{"$f":"'DNSP Inputs General'!A$89","v":"Mercury Vapour 50W"},null,{"$f":"IF('PL Tariffs'!C44=0,\"\",'DNSP Inputs General'!O89*'PL Tariffs'!C44)","v":6919.5958343808998},{"$f":"'DNSP Inputs General'!Q89*'PL Tariffs'!D44","v":6986.2281012605072},{"$f":"'DNSP Inputs General'!R89*'PL Tariffs'!E44","v":7168.2152194030641},{"$f":"'DNSP Inputs General'!S89*'PL Tariffs'!F44","v":6507.384264214782},{"$f":"'DNSP Inputs General'!T89*'PL Tariffs'!G44","v":6794.7678371215643},{"$f":"'DNSP Inputs General'!U89*'PL Tariffs'!H44","v":6996.9619770824092},null,6919.5958343808998,{"$f":"D216/'Charges Summary'!K$4","v":6824.2005161395282},{"$f":"E216/'Charges Summary'!L$4","v":6839.574305008452},{"$f":"F216/'Charges Summary'!M$4","v":6065.0377265677607},{"$f":"G216/'Charges Summary'!N$4","v":6186.0110897103741},{"$f":"H216/'Charges Summary'!O$4","v":6222.3524019294991}]
[{"$f":"'DNSP Inputs General'!A$90","v":"Mercury Vapour 125W"},null,{"$f":"IF('PL Tariffs'!C45=0,\"\",'DNSP Inputs General'!O90*'PL Tariffs'!C45)","v":2282.7532649504001},{"$f":"'DNSP Inputs General'!Q90*'PL Tariffs'!D45","v":2304.7350437148066},{"$f":"'DNSP Inputs General'!R90*'PL Tariffs'!E45","v":2364.772031143279},{"$f":"'DNSP Inputs General'!S90*'PL Tariffs'!F45","v":2146.7659428337429},{"$f":"'DNSP Inputs General'!T90*'PL Tariffs'!G45","v":2241.5728947205162},{"$f":"'DNSP Inputs General'!U90*'PL Tariffs'!H45","v":2308.2761161508979},null,2282.7532649504001,{"$f":"D217/'Charges Summary'!K$4","v":2251.2826444996381},{"$f":"E217/'Charges Summary'!L$4","v":2256.3544098996958},{"$f":"F217/'Charges Summary'!M$4","v":2000.8371881460657},{"$f":"G217/'Charges Summary'!N$4","v":2040.7459265023915},{"$f":"H217/'Charges Summary'!O$4","v":2052.7348130076698}]
[{"$f":"'DNSP Inputs General'!A$91","v":"Mercury Vapour 250W"},null,{"$f":"IF('PL Tariffs'!C46=0,\"\",'DNSP Inputs General'!O91*'PL Tariffs'!C46)","v":51480.806480446197},{"$f":"'DNSP Inputs General'!Q91*'PL Tariffs'!D46","v":46158.215230164991},{"$f":"'DNSP Inputs General'!R91*'PL Tariffs'!E46","v":47302.880048759478},{"$f":"'DNSP Inputs General'!S91*'PL Tariffs'!F46","v":49328.521211578831},{"$f":"'DNSP Inputs General'!T91*'PL Tariffs'!G46","v":51349.843393353221},{"$f":"'DNSP Inputs General'!U91*'PL Tariffs'!H46","v":52913.926982563149},null,51480.806480446197,{"$f":"D218/'Charges Summary'!K$4","v":45087.694193800802},{"$f":"E218/'Charges Summary'!L$4","v":45134.186548787038},{"$f":"F218/'Charges Summary'!M$4","v":45975.361219908584},{"$f":"G218/'Charges Summary'!N$4","v":46749.308924252939},{"$f":"H218/'Charges Summary'!O$4","v":47056.008269572463}]
[{"$f":"'DNSP Inputs General'!A$92","v":"Mercury Vapour 400W"},null,{"$f":"IF('PL Tariffs'!C47=0,\"\",'DNSP Inputs General'!O92*'PL Tariffs'!C47)","v":17896.594158414398},{"$f":"'DNSP Inputs General'!Q92*'PL Tariffs'!D47","v":16046.748691273549},{"$f":"'DNSP Inputs General'!R92*'PL Tariffs'!E47","v":16444.687575784927},{"$f":"'DNSP Inputs General'!S92*'PL Tariffs'!F47","v":17148.894931211853},{"$f":"'DNSP Inputs General'!T92*'PL Tariffs'!G47","v":17851.600807366121},{"$f":"'DNSP Inputs General'!U92*'PL Tariffs'!H47","v":18395.349220580214},null,17896.594158414398,{"$f":"D219/'Charges Summary'!K$4","v":15674.585643946026},{"$f":"E219/'Charges Summary'!L$4","v":15690.748555202656},{"$f":"F219/'Charges Summary'!M$4","v":15983.180107974893},{"$f":"G219/'Charges Summary'!N$4","v":16252.240431253722},{"$f":"H219/'Charges Summary'!O$4","v":16358.86342985927}]
[{"$f":"'DNSP Inputs General'!A$93","v":"HP Sodium 100W"},null,{"$f":"IF('PL Tariffs'!C48=0,\"\",'DNSP Inputs General'!O93*'PL Tariffs'!C48)","v":98564.819999999992},{"$f":"'DNSP Inputs General'!Q93*'PL Tariffs'!D48","v":98952.483232781378},{"$f":"'DNSP Inputs General'!R93*'PL Tariffs'!E48","v":100023.76654355077},{"$f":"'DNSP Inputs General'!S93*'PL Tariffs'!F48","v":102577.78658708706},{"$f":"'DNSP Inputs General'!T93*'PL Tariffs'!G48","v":105351.17012447389},{"$f":"'DNSP Inputs General'!U93*'PL Tariffs'!H48","v":107134.41700583242},null,98564.819999999992,{"$f":"D220/'Charges Summary'!K$4","v":96657.53499067646},{"$f":"E220/'Charges Summary'!L$4","v":95437.980390103898},{"$f":"F220/'Charges Summary'!M$4","v":95604.949746051338},{"$f":"G220/'Charges Summary'!N$4","v":95912.549527231211},{"$f":"H220/'Charges Summary'!O$4","v":95273.934483138117}]
[{"$f":"'DNSP Inputs General'!A94","v":"HP Sodium 400W"},null,{"$f":"IF('PL Tariffs'!C49=0,\"\",'DNSP Inputs General'!O94*'PL Tariffs'!C49)","v":85982.27},{"$f":"'DNSP Inputs General'!Q94*'PL Tariffs'!D49","v":86464.620192816306},{"$f":"'DNSP Inputs General'!R94*'PL Tariffs'!E49","v":87484.862345291229},{"$f":"'DNSP Inputs General'!S94*'PL Tariffs'!F49","v":90059.106392049565},{"$f":"'DNSP Inputs General'!T94*'PL Tariffs'!G49","v":92529.304835587012},{"$f":"'DNSP Inputs General'!U94*'PL Tariffs'!H49","v":94090.393748221104},null,85982.27,{"$f":"D221/'Charges Summary'!K$4","v":84459.295802432185},{"$f":"E221/'Charges Summary'!L$4","v":83473.946897465503},{"$f":"F221/'Charges Summary'!M$4","v":83937.240481167348},{"$f":"G221/'Charges Summary'!N$4","v":84239.420618469681},{"$f":"H221/'Charges Summary'!O$4","v":83673.970139517944}]
[{"$f":"'DNSP Inputs General'!A95","v":"Metal Halide 70W"},null,{"$f":"IF('PL Tariffs'!C50=0,\"\",'DNSP Inputs General'!O95*'PL Tariffs'!C50)","v":0},{"$f":"'DNSP Inputs General'!Q95*'PL Tariffs'!D50","v":0},{"$f":"'DNSP Inputs General'!R95*'PL Tariffs'!E50","v":0},{"$f":"'DNSP Inputs General'!S95*'PL Tariffs'!F50","v":0},{"$f":"'DNSP Inputs General'!T95*'PL Tariffs'!G50","v":0},{"$f":"'DNSP Inputs General'!U95*'PL Tariffs'!H50","v":0},null,{"$f":"C222","v":0},{"$f":"D222/'Charges Summary'!K$4","v":0},{"$f":"E222/'Charges Summary'!L$4","v":0},{"$f":"F222/'Charges Summary'!M$4","v":0},{"$f":"G222/'Charges Summary'!N$4","v":0},{"$f":"H222/'Charges Summary'!O$4","v":0}]
[{"$f":"'DNSP Inputs General'!A96","v":"Metal Halide 100W"},null,{"$f":"IF('PL Tariffs'!C51=0,\"\",'DNSP Inputs General'!O96*'PL Tariffs'!C51)","v":0},{"$f":"'DNSP Inputs General'!Q96*'PL Tariffs'!D51","v":0},{"$f":"'DNSP Inputs General'!R96*'PL Tariffs'!E51","v":0},{"$f":"'DNSP Inputs General'!S96*'PL Tariffs'!F51","v":0},{"$f":"'DNSP Inputs General'!T96*'PL Tariffs'!G51","v":0},{"$f":"'DNSP Inputs General'!U96*'PL Tariffs'!H51","v":0},null,0,{"$f":"D223/'Charges Summary'!K$4","v":0},{"$f":"E223/'Charges Summary'!L$4","v":0},{"$f":"F223/'Charges Summary'!M$4","v":0},{"$f":"G223/'Charges Summary'!N$4","v":0},{"$f":"H223/'Charges Summary'!O$4","v":0}]
[{"$f":"'DNSP Inputs General'!A97","v":"Metal Halide 150W"},null,{"$f":"IF('PL Tariffs'!C52=0,\"\",'DNSP Inputs General'!O97*'PL Tariffs'!C52)","v":0},{"$f":"'DNSP Inputs General'!Q97*'PL Tariffs'!D52","v":0},{"$f":"'DNSP Inputs General'!R97*'PL Tariffs'!E52","v":0},{"$f":"'DNSP Inputs General'!S97*'PL Tariffs'!F52","v":0},{"$f":"'DNSP Inputs General'!T97*'PL Tariffs'!G52","v":0},{"$f":"'DNSP Inputs General'!U97*'PL Tariffs'!H52","v":0},null,0,{"$f":"D224/'Charges Summary'!K$4","v":0},{"$f":"E224/'Charges Summary'!L$4","v":0},{"$f":"F224/'Charges Summary'!M$4","v":0},{"$f":"G224/'Charges Summary'!N$4","v":0},{"$f":"H224/'Charges Summary'!O$4","v":0}]
[{"$f":"'DNSP Inputs General'!A98","v":"HP Sodium 50W"},null,{"$f":"IF('PL Tariffs'!C53=0,\"\",'DNSP Inputs General'!O98*'PL Tariffs'!C53)","v":0},{"$f":"'DNSP Inputs General'!Q98*'PL Tariffs'!D53","v":0},{"$f":"'DNSP Inputs General'!R98*'PL Tariffs'!E53","v":0},{"$f":"'DNSP Inputs General'!S98*'PL Tariffs'!F53","v":0},{"$f":"'DNSP Inputs General'!T98*'PL Tariffs'!G53","v":0},{"$f":"'DNSP Inputs General'!U98*'PL Tariffs'!H53","v":0},null,0,{"$f":"D225/'Charges Summary'!K$4","v":0},{"$f":"E225/'Charges Summary'!L$4","v":0},{"$f":"F225/'Charges Summary'!M$4","v":0},{"$f":"G225/'Charges Summary'!N$4","v":0},{"$f":"H225/'Charges Summary'!O$4","v":0}]
[]
[]
[]
[]
[]
[]
[]
[]
[]
[]
[]
[{"$f":"'DNSP Inputs General'!A$112","v":"Energy Efficient Lights"}]
[{"$f":"'DNSP Inputs General'!A$113","v":"T5 2X14W"},null,{"$f":"IF('PL Tariffs'!C57=0,\"\",'DNSP Inputs General'!O113*'PL Tariffs'!C57)","v":321592.60000000003},{"$f":"'DNSP Inputs General'!Q113*'PL Tariffs'!D57","v":401217.77896492084},{"$f":"'DNSP Inputs General'!R113*'PL Tariffs'!E57","v":415182.65509987302},{"$f":"'DNSP Inputs General'!S113*'PL Tariffs'!F57","v":428661.67895636626},{"$f":"'DNSP Inputs General'!T113*'PL Tariffs'!G57","v":442589.97891145933},{"$f":"'DNSP Inputs General'!U113*'PL Tariffs'!H57","v":457586.90069782018},null,{"$f":"C238","v":321592.60000000003},{"$f":"D238/'Charges Summary'!K$4","v":391912.56492223026},{"$f":"E238/'Charges Summary'!L$4","v":396147.79032021767},{"$f":"F238/'Charges Summary'!M$4","v":399522.93413826107},{"$f":"G238/'Charges Summary'!N$4","v":402937.46355589945},{"$f":"H238/'Charges Summary'!O$4","v":406929.03005252703}]
[{"$f":"'DNSP Inputs General'!A114","v":"T5 2X24W"},null,{"$f":"IF('PL Tariffs'!C58=0,\"\",'DNSP Inputs General'!O114*'PL Tariffs'!C58)","v":55096.499999999993},{"$f":"'DNSP Inputs General'!Q114*'PL Tariffs'!D58","v":62283.953471267218},{"$f":"'DNSP Inputs General'!R114*'PL Tariffs'!E58","v":64413.242605462263},{"$f":"'DNSP Inputs General'!S114*'PL Tariffs'!F58","v":66475.577236090612},{"$f":"'DNSP Inputs General'!T114*'PL Tariffs'!G58","v":68615.907703040299},{"$f":"'DNSP Inputs General'!U114*'PL Tariffs'!H58","v":70931.517382168837},null,{"$f":"C239","v":55096.499999999993},{"$f":"D239/'Charges Summary'!K$4","v":60839.43742820873},{"$f":"E239/'Charges Summary'!L$4","v":61460.090907159327},{"$f":"F239/'Charges Summary'!M$4","v":61956.827422870534},{"$f":"G239/'Charges Summary'!N$4","v":62468.472235743415},{"$f":"H239/'Charges Summary'!O$4","v":63078.933257184974}]
[{"$f":"'DNSP Inputs General'!A115","v":"LED 18W"},null,{"$f":"IF('PL Tariffs'!C59=0,\"\",'DNSP Inputs General'!O115*'PL Tariffs'!C59)","v":381785.18331289885},{"$f":"'DNSP Inputs General'!Q115*'PL Tariffs'!D59","v":725796.42983440496},{"$f":"'DNSP Inputs General'!R115*'PL Tariffs'!E59","v":780051.17014731525},{"$f":"'DNSP Inputs General'!S115*'PL Tariffs'!F59","v":834785.86038039532},{"$f":"'DNSP Inputs General'!T115*'PL Tariffs'!G59","v":891605.99286798667},{"$f":"'DNSP Inputs General'!U115*'PL Tariffs'!H59","v":951299.92282813543},null,{"$f":"C240","v":381785.18331289885},{"$f":"D240/'Charges Summary'!K$4","v":708963.44913137308},{"$f":"E240/'Charges Summary'!L$4","v":744288.19122086093},{"$f":"F240/'Charges Summary'!M$4","v":778040.38170217944},{"$f":"G240/'Charges Summary'!N$4","v":811725.24091273337},{"$f":"H240/'Charges Summary'!O$4","v":845984.78298909287}]
[{"$f":"'DNSP Inputs General'!A116","v":"LED 14W"},null,{"$f":"IF('PL Tariffs'!C60=0,\"\",'DNSP Inputs General'!O116*'PL Tariffs'!C60)","v":184.14},{"$f":"'DNSP Inputs General'!Q116*'PL Tariffs'!D60","v":330.14674020117855},{"$f":"'DNSP Inputs General'!R116*'PL Tariffs'!E60","v":343.55749250162791},{"$f":"'DNSP Inputs General'!S116*'PL Tariffs'!F60","v":356.16155311914378},{"$f":"'DNSP Inputs General'!T116*'PL Tariffs'!G60","v":368.72861973307346},{"$f":"'DNSP Inputs General'!U116*'PL Tariffs'!H60","v":381.70019452679901},null,{"$f":"C241","v":184.14},{"$f":"D241/'Charges Summary'!K$4","v":322.48983603558042},{"$f":"E241/'Charges Summary'!L$4","v":327.80642406589845},{"$f":"F241/'Charges Summary'!M$4","v":331.95108337147332},{"$f":"G241/'Charges Summary'!N$4","v":335.69349026186359},{"$f":"H241/'Charges Summary'!O$4","v":339.44347990027842}]
[{"$f":"'DNSP Inputs General'!A117","v":"LED 70W-125W (L1)"},null,{"$f":"IF('PL Tariffs'!C61=0,\"\",'DNSP Inputs General'!O117*'PL Tariffs'!C61)","v":11977.777724912577},{"$f":"'DNSP Inputs General'!Q117*'PL Tariffs'!D61","v":31478.174108598738},{"$f":"'DNSP Inputs General'!R117*'PL Tariffs'!E61","v":40450.13749138698},{"$f":"'DNSP Inputs General'!S117*'PL Tariffs'!F61","v":50080.647934196932},{"$f":"'DNSP Inputs General'!T117*'PL Tariffs'!G61","v":60679.053709592117},{"$f":"'DNSP Inputs General'!U117*'PL Tariffs'!H61","v":72323.322974924915},null,11977.777724912577,{"$f":"D242/'Charges Summary'!K$4","v":30748.118854045319},{"$f":"E242/'Charges Summary'!L$4","v":38595.621441621355},{"$f":"F242/'Charges Summary'!M$4","v":46676.361308826643},{"$f":"G242/'Charges Summary'!N$4","v":55242.696757050755},{"$f":"H242/'Charges Summary'!O$4","v":64316.65684371729}]
[{"$f":"'DNSP Inputs General'!A118","v":"LED 155W-250W (L2)"},null,{"$f":"IF('PL Tariffs'!C62=0,\"\",'DNSP Inputs General'!O118*'PL Tariffs'!C62)","v":13879.050668408074},{"$f":"'DNSP Inputs General'!Q118*'PL Tariffs'!D62","v":81532.623938002624},{"$f":"'DNSP Inputs General'!R118*'PL Tariffs'!E62","v":122314.74586185515},{"$f":"'DNSP Inputs General'!S118*'PL Tariffs'!F62","v":164260.25799678807},{"$f":"'DNSP Inputs General'!T118*'PL Tariffs'!G62","v":209997.45011468336},{"$f":"'DNSP Inputs General'!U118*'PL Tariffs'!H62","v":260898.91007956976},null,13879.050668408074,{"$f":"D243/'Charges Summary'!K$4","v":79641.684510635809},{"$f":"E243/'Charges Summary'!L$4","v":116706.98595319937},{"$f":"F243/'Charges Summary'!M$4","v":153094.48793500531},{"$f":"G243/'Charges Summary'!N$4","v":191183.36142749526},{"$f":"H243/'Charges Summary'!O$4","v":232015.68982533275}]
[{"$f":"'DNSP Inputs General'!A119","v":"LED 275W-400W (L4)"},null,{"$f":"IF('PL Tariffs'!C63=0,\"\",'DNSP Inputs General'!O119*'PL Tariffs'!C63)","v":1535.1865218241717},{"$f":"'DNSP Inputs General'!Q119*'PL Tariffs'!D63","v":6036.2643064336244},{"$f":"'DNSP Inputs General'!R119*'PL Tariffs'!E63","v":7423.2275219818403},{"$f":"'DNSP Inputs General'!S119*'PL Tariffs'!F63","v":8893.468716938738},{"$f":"'DNSP Inputs General'!T119*'PL Tariffs'!G63","v":10473.327648816427},{"$f":"'DNSP Inputs General'!U119*'PL Tariffs'!H63","v":12183.293861194328},null,1535.1865218241717,{"$f":"D244/'Charges Summary'!K$4","v":5896.2686872601053},{"$f":"E244/'Charges Summary'!L$4","v":7082.8950674009748},{"$f":"F244/'Charges Summary'!M$4","v":8288.9254880650933},{"$f":"G244/'Charges Summary'!N$4","v":9535.0014209160345},{"$f":"H244/'Charges Summary'!O$4","v":10834.523335830125}]
[{"$f":"'DNSP Inputs General'!A120","v":"Compact Fluorescent 32W"},null,{"$f":"IF('PL Tariffs'!C64=0,\"\",'DNSP Inputs General'!O120*'PL Tariffs'!C64)","v":24243.230000000003},{"$f":"'DNSP Inputs General'!Q120*'PL Tariffs'!D64","v":29895.979107380215},{"$f":"'DNSP Inputs General'!R120*'PL Tariffs'!E64","v":30936.545271334246},{"$f":"'DNSP Inputs General'!S120*'PL Tariffs'!F64","v":31940.909077547411},{"$f":"'DNSP Inputs General'!T120*'PL Tariffs'!G64","v":32978.749837079638},{"$f":"'DNSP Inputs General'!U120*'PL Tariffs'!H64","v":34096.216918315986},null,24243.230000000003,{"$f":"D245/'Charges Summary'!K$4","v":29202.618794864498},{"$f":"E245/'Charges Summary'!L$4","v":29518.198553916871},{"$f":"F245/'Charges Summary'!M$4","v":29769.69097114959},{"$f":"G245/'Charges Summary'!N$4","v":30024.118131368166},{"$f":"H245/'Charges Summary'!O$4","v":30321.542111174735}]
[{"$f":"'DNSP Inputs General'!A121","v":"Compact Fluorescent 42W"},null,{"$f":"IF('PL Tariffs'!C65=0,\"\",'DNSP Inputs General'!O121*'PL Tariffs'!C65)","v":119048.35},{"$f":"'DNSP Inputs General'!Q121*'PL Tariffs'!D65","v":146806.63361969867},{"$f":"'DNSP Inputs General'!R121*'PL Tariffs'!E65","v":151916.41828471882},{"$f":"'DNSP Inputs General'!S121*'PL Tariffs'!F65","v":156848.42833162253},{"$f":"'DNSP Inputs General'!T121*'PL Tariffs'!G65","v":161944.82967686647},{"$f":"'DNSP Inputs General'!U121*'PL Tariffs'!H65","v":167432.24254225212},null,119048.35,{"$f":"D246/'Charges Summary'!K$4","v":143401.83148893967},{"$f":"E246/'Charges Summary'!L$4","v":144951.51152780341},{"$f":"F246/'Charges Summary'!M$4","v":146186.48546935603},{"$f":"G246/'Charges Summary'!N$4","v":147435.87070470655},{"$f":"H246/'Charges Summary'!O$4","v":148896.39531493405}]
[]
["Total Revenue",null,{"$f":"IF(SUM(C213:C246)=0,0,SUM(C213:C246))","v":3745270.5047596758},{"$f":"SUM(D213:D246)","v":4235190.670499078},{"$f":"SUM(E213:E246)","v":4352669.0206135688},{"$f":"SUM(F213:F246)","v":4451671.9265326336},{"$f":"SUM(G213:G246)","v":4620018.3668170795},{"$f":"SUM(H213:H246)","v":4769082.0580748869},null,{"$f":"IF(SUM(J213:J246)=0,0,SUM(J213:J246))","v":3745270.5047596758},{"$f":"SUM(K213:K246)","v":4136966.3201169237},{"$f":"SUM(L213:L246)","v":4153112.3550827214},{"$f":"SUM(M213:M246)","v":4149064.6755253384},{"$f":"SUM(N213:N246)","v":4206101.7442949247},{"$f":"SUM(O213:O246)","v":4241113.3998237029}]
[]
[]
["Public Lighting - O & M",null,null,"Forecast O & M - Nominal ",null,null,null,null,null,null,"Forecast O & M - Real 2021 $ "]
[null,null,null,{"$f":"D$2","v":"2022-06-30"},"2023-06-30","2024-06-30","2025-06-30","2026-06-30",null,null,{"$f":"K$2","v":"2022-06-30"},"2023-06-30","2024-06-30","2025-06-30","2026-06-30"]
[]
["Unit cost"]
[{"$f":"'DNSP Inputs General'!A$86","v":"Mercury Vapour 80W"},null,null,{"$f":"SUM('Charges Summary'!K25,'Charges Summary'!K8)","v":28.517194225412155},{"$f":"SUM('Charges Summary'!L25,'Charges Summary'!L8)","v":29.151822405425218},{"$f":"SUM('Charges Summary'!M25,'Charges Summary'!M8)","v":29.826385143487659},{"$f":"SUM('Charges Summary'!N25,'Charges Summary'!N8)","v":30.58205109258742},{"$f":"SUM('Charges Summary'!O25,'Charges Summary'!O8)","v":31.452223447635902},null,null,{"$f":"D255/'Charges Summary'!K$4","v":27.85581128059594},{"$f":"E255/'Charges Summary'!L$4","v":27.815299815303252},{"$f":"F255/'Charges Summary'!M$4","v":27.798904106091086},{"$f":"G255/'Charges Summary'!N$4","v":27.842144388111553},{"$f":"H255/'Charges Summary'!O$4","v":27.970256056332943}]
[{"$f":"'DNSP Inputs General'!A$87","v":"HP Sodium 150W"},null,null,{"$f":"SUM('Charges Summary'!K49,'Charges Summary'!K8)","v":88.751170154083781},{"$f":"SUM('Charges Summary'!L49,'Charges Summary'!L8)","v":90.69899310395391},{"$f":"SUM('Charges Summary'!M49,'Charges Summary'!M8)","v":92.800149025174335},{"$f":"SUM('Charges Summary'!N49,'Charges Summary'!N8)","v":95.230649101338614},{"$f":"SUM('Charges Summary'!O49,'Charges Summary'!O8)","v":98.136642065180581},null,null,{"$f":"D256/'Charges Summary'!K$4","v":86.692815120681317},{"$f":"E256/'Charges Summary'!L$4","v":86.540719514780591},{"$f":"F256/'Charges Summary'!M$4","v":86.491957753889892},{"$f":"G256/'Charges Summary'!N$4","v":86.698746085599097},{"$f":"H256/'Charges Summary'!O$4","v":87.272272233526806}]
[{"$f":"'DNSP Inputs General'!A$88","v":"HP Sodium 250W"},null,null,{"$f":"SUM('Charges Summary'!K65,'Charges Summary'!K8)","v":87.48063950122787},{"$f":"SUM('Charges Summary'!L65,'Charges Summary'!L8)","v":89.516899119595848},{"$f":"SUM('Charges Summary'!M65,'Charges Summary'!M8)","v":91.591017717026688},{"$f":"SUM('Charges Summary'!N65,'Charges Summary'!N8)","v":93.987484993480692},{"$f":"SUM('Charges Summary'!O65,'Charges Summary'!O8)","v":96.849116696133848},null,null,{"$f":"D257/'Charges Summary'!K$4","v":85.451751157220684},{"$f":"E257/'Charges Summary'!L$4","v":85.412820952299398},{"$f":"F257/'Charges Summary'!M$4","v":85.365018464225145},{"$f":"G257/'Charges Summary'!N$4","v":85.566959519540831},{"$f":"H257/'Charges Summary'!O$4","v":86.12728436609612}]
[]
[{"$f":"'DNSP Inputs General'!A$113","v":"T5 2X14W"},null,null,{"$f":"SUM('Charges Summary'!K83,'Charges Summary'!K8)","v":34.157340588998565},{"$f":"SUM('Charges Summary'!L83,'Charges Summary'!L8)","v":34.913629651641024},{"$f":"SUM('Charges Summary'!M83,'Charges Summary'!M8)","v":35.721356814810314},{"$f":"SUM('Charges Summary'!N83,'Charges Summary'!N8)","v":36.635810578737711},{"$f":"SUM('Charges Summary'!O83,'Charges Summary'!O8)","v":37.702198444371099},null,null,{"$f":"D259/'Charges Summary'!K$4","v":33.365148961474738},{"$f":"E259/'Charges Summary'!L$4","v":33.312945684662466},{"$f":"F259/'Charges Summary'!M$4","v":33.293158653226591},{"$f":"G259/'Charges Summary'!N$4","v":33.353535536926621},{"$f":"H259/'Charges Summary'!O$4","v":33.528317835189533}]
[{"$f":"'DNSP Inputs General'!A$114","v":"T5 2X24W"},null,null,{"$f":"SUM('Charges Summary'!K99,'Charges Summary'!K8)","v":37.510569546274589},{"$f":"SUM('Charges Summary'!L99,'Charges Summary'!L8)","v":38.340968649925948},{"$f":"SUM('Charges Summary'!M99,'Charges Summary'!M8)","v":39.228436443226464},{"$f":"SUM('Charges Summary'!N99,'Charges Summary'!N8)","v":40.234616920819157},{"$f":"SUM('Charges Summary'!O99,'Charges Summary'!O8)","v":41.410032885945974},null,null,{"$f":"D260/'Charges Summary'!K$4","v":36.640608401003817},{"$f":"E260/'Charges Summary'!L$4","v":36.583151590837126},{"$f":"F260/'Charges Summary'!M$4","v":36.56184072159494},{"$f":"G260/'Charges Summary'!N$4","v":36.629917670280967},{"$f":"H260/'Charges Summary'!O$4","v":36.825670689050639}]
[{"$f":"'DNSP Inputs General'!A$115","v":"LED 18W"},null,null,{"$f":"SUM('Charges Summary'!K115,'Charges Summary'!K8)","v":13.613087258297714},{"$f":"SUM('Charges Summary'!L115,'Charges Summary'!L8)","v":13.914416263894408},{"$f":"SUM('Charges Summary'!M115,'Charges Summary'!M8)","v":14.233304233540807},{"$f":"SUM('Charges Summary'!N115,'Charges Summary'!N8)","v":14.587143833298375},{"$f":"SUM('Charges Summary'!O115,'Charges Summary'!O8)","v":14.989447682194392},null,null,{"$f":"D261/'Charges Summary'!K$4","v":13.297366726054403},{"$f":"E261/'Charges Summary'!L$4","v":13.276482504336569},{"$f":"F261/'Charges Summary'!M$4","v":13.265779865630565},{"$f":"G261/'Charges Summary'!N$4","v":13.280252641893117},{"$f":"H261/'Charges Summary'!O$4","v":13.330017526805308}]
[{"$f":"'DNSP Inputs General'!A$72","v":"LED 14W"},null,null,{"$f":"SUM('Charges Summary'!K131,'Charges Summary'!K$8)","v":14.728275166675958},{"$f":"SUM('Charges Summary'!L131,'Charges Summary'!L$8)","v":15.053823504353202},{"$f":"SUM('Charges Summary'!M131,'Charges Summary'!M$8)","v":15.399093814452971},{"$f":"SUM('Charges Summary'!N131,'Charges Summary'!N$8)","v":15.784082445172936},{"$f":"SUM('Charges Summary'!O131,'Charges Summary'!O$8)","v":16.224478904636477},null,null,{"$f":"D262/'Charges Summary'!K$4","v":14.386690720295912},{"$f":"E262/'Charges Summary'!L$4","v":14.363651380584614},{"$f":"F262/'Charges Summary'!M$4","v":14.352323629206062},{"$f":"G262/'Charges Summary'!N$4","v":14.369955145973849},{"$f":"H262/'Charges Summary'!O$4","v":14.428322693903679}]
[{"$f":"'DNSP Inputs General'!A$73","v":"LED 70W-125W (L1)"},null,null,{"$f":"SUM('Charges Summary'!K147,'Charges Summary'!K$8)","v":21.887239762452531},{"$f":"SUM('Charges Summary'!L147,'Charges Summary'!L$8)","v":22.365803117000105},{"$f":"SUM('Charges Summary'!M147,'Charges Summary'!M$8)","v":22.87964591324986},{"$f":"SUM('Charges Summary'!N147,'Charges Summary'!N$8)","v":23.468299903715842},{"$f":"SUM('Charges Summary'!O147,'Charges Summary'!O$8)","v":24.163784723907217},null,null,{"$f":"D263/'Charges Summary'!K$4","v":21.379621552415244},{"$f":"E263/'Charges Summary'!L$4","v":21.340398917689125},{"$f":"F263/'Charges Summary'!M$4","v":21.324377046161199},{"$f":"G263/'Charges Summary'!N$4","v":21.365728298751552},{"$f":"H263/'Charges Summary'!O$4","v":21.48869529504098}]
[{"$f":"'DNSP Inputs General'!A$74","v":"LED 155W-250W (L2)"},null,null,{"$f":"SUM('Charges Summary'!K163,'Charges Summary'!K$8)","v":21.887239762452531},{"$f":"SUM('Charges Summary'!L163,'Charges Summary'!L$8)","v":22.365803117000105},{"$f":"SUM('Charges Summary'!M163,'Charges Summary'!M$8)","v":22.87964591324986},{"$f":"SUM('Charges Summary'!N163,'Charges Summary'!N$8)","v":23.468299903715842},{"$f":"SUM('Charges Summary'!O163,'Charges Summary'!O$8)","v":24.163784723907217},null,null,{"$f":"D264/'Charges Summary'!K$4","v":21.379621552415244},{"$f":"E264/'Charges Summary'!L$4","v":21.340398917689125},{"$f":"F264/'Charges Summary'!M$4","v":21.324377046161199},{"$f":"G264/'Charges Summary'!N$4","v":21.365728298751552},{"$f":"H264/'Charges Summary'!O$4","v":21.48869529504098}]
[{"$f":"'DNSP Inputs General'!A$75","v":"LED 275W-400W (L4)"},null,null,{"$f":"SUM('Charges Summary'!K179,'Charges Summary'!K$8)","v":33.396443127699953},{"$f":"SUM('Charges Summary'!L179,'Charges Summary'!L$8)","v":34.125081504750483},{"$f":"SUM('Charges Summary'!M179,'Charges Summary'!M$8)","v":34.911239978021541},{"$f":"SUM('Charges Summary'!N179,'Charges Summary'!N$8)","v":35.821182201563182},{"$f":"SUM('Charges Summary'!O179,'Charges Summary'!O$8)","v":36.909277995755168},null,null,{"$f":"D265/'Charges Summary'!K$4","v":32.621898558988399},{"$f":"E265/'Charges Summary'!L$4","v":32.560550077296249},{"$f":"F265/'Charges Summary'!M$4","v":32.538110391351047},{"$f":"G265/'Charges Summary'!N$4","v":32.611891334211784},{"$f":"H265/'Charges Summary'!O$4","v":32.823178880005202}]
[]
[{"$f":"'DNSP Inputs General'!A$85","v":"Existing Lights"}]
[{"$f":"'DNSP Inputs General'!A$86","v":"Mercury Vapour 80W"},null,null,{"$f":"D255*'DNSP Inputs General'!Q86","v":223434.95197708489},{"$f":"E255*'DNSP Inputs General'!R86","v":228407.32463772219},{"$f":"F255*'DNSP Inputs General'!S86","v":233692.58839099153},{"$f":"G255*'DNSP Inputs General'!T86","v":239613.30358173652},{"$f":"H255*'DNSP Inputs General'!U86","v":246431.18744594877},null,null,{"$f":"D268/'Charges Summary'!K$4","v":218252.95316803697},{"$f":"E268/'Charges Summary'!L$4","v":217935.54195181967},{"$f":"F268/'Charges Summary'!M$4","v":217807.07999755119},{"$f":"G268/'Charges Summary'!N$4","v":218145.87175456452},{"$f":"H268/'Charges Summary'!O$4","v":219149.63896288414}]
[{"$f":"'DNSP Inputs General'!A$87","v":"HP Sodium 150W"},null,null,{"$f":"D256*'DNSP Inputs General'!Q87","v":794146.27288936544},{"$f":"E256*'DNSP Inputs General'!R87","v":780652.50576708047},{"$f":"F256*'DNSP Inputs General'!S87","v":767855.91627457237},{"$f":"G256*'DNSP Inputs General'!T87","v":757039.9803579282},{"$f":"H256*'DNSP Inputs General'!U87","v":748660.78198712016},null,null,{"$f":"D269/'Charges Summary'!K$4","v":775728.09344202187},{"$f":"E269/'Charges Summary'!L$4","v":744861.9574273359},{"$f":"F269/'Charges Summary'!M$4","v":715660.07349275332},{"$f":"G269/'Charges Summary'!N$4","v":689215.26476055861},{"$f":"H269/'Charges Summary'!O$4","v":665779.1238949172}]
[{"$f":"'DNSP Inputs General'!A$88","v":"HP Sodium 250W"},null,null,{"$f":"D257*'DNSP Inputs General'!Q88","v":697869.23715198576},{"$f":"E257*'DNSP Inputs General'!R88","v":690031.81778224406},{"$f":"F257*'DNSP Inputs General'!S88","v":681912.94884804392},{"$f":"G257*'DNSP Inputs General'!T88","v":675551.9755150245},{"$f":"H257*'DNSP Inputs General'!U88","v":671452.76435960864},null,null,{"$f":"D270/'Charges Summary'!K$4","v":681683.9558260648},{"$f":"E270/'Charges Summary'!L$4","v":658395.95297959412},{"$f":"F270/'Charges Summary'!M$4","v":635559.17294481618},{"$f":"G270/'Charges Summary'!N$4","v":615027.93213638489},{"$f":"H270/'Charges Summary'!O$4","v":597118.5401292349}]
[{"$f":"'DNSP Inputs General'!A$89","v":"Mercury Vapour 50W"},null,null,{"$f":"IF('DNSP Inputs General'!$B89='DNSP Inputs General'!$A$86,D$255,IF('DNSP Inputs General'!$B89='DNSP Inputs General'!$A$87,D$256,D$257))*'DNSP Inputs General'!$D89*'DNSP Inputs General'!Q89","v":3456.500183817921},{"$f":"IF('DNSP Inputs General'!$B89='DNSP Inputs General'!$A$86,E$255,IF('DNSP Inputs General'!$B89='DNSP Inputs General'!$A$87,E$256,E$257))*'DNSP Inputs General'!$D89*'DNSP Inputs General'!R89","v":3533.421931572349},{"$f":"IF('DNSP Inputs General'!$B89='DNSP Inputs General'!$A$86,F$255,IF('DNSP Inputs General'!$B89='DNSP Inputs General'!$A$87,F$256,F$257))*'DNSP Inputs General'!$D89*'DNSP Inputs General'!S89","v":3615.1840505830542},{"$f":"IF('DNSP Inputs General'!$B89='DNSP Inputs General'!$A$86,G$255,IF('DNSP Inputs General'!$B89='DNSP Inputs General'!$A$87,G$256,G$257))*'DNSP Inputs General'!$D89*'DNSP Inputs General'!T89","v":3706.7764937709157},{"$f":"IF('DNSP Inputs General'!$B89='DNSP Inputs General'!$A$86,H$255,IF('DNSP Inputs General'!$B89='DNSP Inputs General'!$A$87,H$256,H$257))*'DNSP Inputs General'!$D89*'DNSP Inputs General'!U89","v":3812.2479816530608},null,null,{"$f":"D271/'Charges Summary'!K$4","v":3376.3355556900201},{"$f":"E271/'Charges Summary'!L$4","v":3371.4252589012103},{"$f":"F271/'Charges Summary'!M$4","v":3369.4379746172895},{"$f":"G271/'Charges Summary'!N$4","v":3374.6790246859146},{"$f":"H271/'Charges Summary'!O$4","v":3390.2071303353068}]
[{"$f":"'DNSP Inputs General'!A$90","v":"Mercury Vapour 125W"},null,null,{"$f":"IF('DNSP Inputs General'!$B90='DNSP Inputs General'!$A$86,D$255,IF('DNSP Inputs General'!$B90='DNSP Inputs General'!$A$87,D$256,D$257))*'DNSP Inputs General'!$D90*'DNSP Inputs General'!Q90","v":1140.2887204347783},{"$f":"IF('DNSP Inputs General'!$B90='DNSP Inputs General'!$A$86,E$255,IF('DNSP Inputs General'!$B90='DNSP Inputs General'!$A$87,E$256,E$257))*'DNSP Inputs General'!$D90*'DNSP Inputs General'!R90","v":1165.6649671166513},{"$f":"IF('DNSP Inputs General'!$B90='DNSP Inputs General'!$A$86,F$255,IF('DNSP Inputs General'!$B90='DNSP Inputs General'!$A$87,F$256,F$257))*'DNSP Inputs General'!$D90*'DNSP Inputs General'!S90","v":1192.63803730575},{"$f":"IF('DNSP Inputs General'!$B90='DNSP Inputs General'!$A$86,G$255,IF('DNSP Inputs General'!$B90='DNSP Inputs General'!$A$87,G$256,G$257))*'DNSP Inputs General'!$D90*'DNSP Inputs General'!T90","v":1222.8541010378281},{"$f":"IF('DNSP Inputs General'!$B90='DNSP Inputs General'!$A$86,H$255,IF('DNSP Inputs General'!$B90='DNSP Inputs General'!$A$87,H$256,H$257))*'DNSP Inputs General'!$D90*'DNSP Inputs General'!U90","v":1257.6488186896697},null,null,{"$f":"D272/'Charges Summary'!K$4","v":1113.8426575472233},{"$f":"E272/'Charges Summary'!L$4","v":1112.2227658230797},{"$f":"F272/'Charges Summary'!M$4","v":1111.5671668840544},{"$f":"G272/'Charges Summary'!N$4","v":1113.2961730922607},{"$f":"H272/'Charges Summary'!O$4","v":1118.4188471209261}]
[{"$f":"'DNSP Inputs General'!A$91","v":"Mercury Vapour 250W"},null,null,{"$f":"IF('DNSP Inputs General'!$B91='DNSP Inputs General'!$A$86,D$255,IF('DNSP Inputs General'!$B91='DNSP Inputs General'!$A$87,D$256,D$257))*'DNSP Inputs General'!$D91*'DNSP Inputs General'!Q91","v":33644.62871999864},{"$f":"IF('DNSP Inputs General'!$B91='DNSP Inputs General'!$A$86,E$255,IF('DNSP Inputs General'!$B91='DNSP Inputs General'!$A$87,E$256,E$257))*'DNSP Inputs General'!$D91*'DNSP Inputs General'!R91","v":34427.764271226013},{"$f":"IF('DNSP Inputs General'!$B91='DNSP Inputs General'!$A$86,F$255,IF('DNSP Inputs General'!$B91='DNSP Inputs General'!$A$87,F$256,F$257))*'DNSP Inputs General'!$D91*'DNSP Inputs General'!S91","v":35225.460201773312},{"$f":"IF('DNSP Inputs General'!$B91='DNSP Inputs General'!$A$86,G$255,IF('DNSP Inputs General'!$B91='DNSP Inputs General'!$A$87,G$256,G$257))*'DNSP Inputs General'!$D91*'DNSP Inputs General'!T91","v":36147.12986737732},{"$f":"IF('DNSP Inputs General'!$B91='DNSP Inputs General'!$A$86,H$255,IF('DNSP Inputs General'!$B91='DNSP Inputs General'!$A$87,H$256,H$257))*'DNSP Inputs General'!$D91*'DNSP Inputs General'!U91","v":37247.699510192877},null,null,{"$f":"D273/'Charges Summary'!K$4","v":32864.328125059612},{"$f":"E273/'Charges Summary'!L$4","v":32849.35575748163},{"$f":"F273/'Charges Summary'!M$4","v":32830.971152930033},{"$f":"G273/'Charges Summary'!N$4","v":32908.636701194868},{"$f":"H273/'Charges Summary'!O$4","v":33124.134913512789}]
[{"$f":"'DNSP Inputs General'!A$92","v":"Mercury Vapour 400W"},null,null,{"$f":"IF('DNSP Inputs General'!$B92='DNSP Inputs General'!$A$86,D$255,IF('DNSP Inputs General'!$B92='DNSP Inputs General'!$A$87,D$256,D$257))*'DNSP Inputs General'!$D92*'DNSP Inputs General'!Q92","v":11696.442316690782},{"$f":"IF('DNSP Inputs General'!$B92='DNSP Inputs General'!$A$86,E$255,IF('DNSP Inputs General'!$B92='DNSP Inputs General'!$A$87,E$256,E$257))*'DNSP Inputs General'!$D92*'DNSP Inputs General'!R92","v":11968.6967641187},{"$f":"IF('DNSP Inputs General'!$B92='DNSP Inputs General'!$A$86,F$255,IF('DNSP Inputs General'!$B92='DNSP Inputs General'!$A$87,F$256,F$257))*'DNSP Inputs General'!$D92*'DNSP Inputs General'!S92","v":12246.013078575739},{"$f":"IF('DNSP Inputs General'!$B92='DNSP Inputs General'!$A$86,G$255,IF('DNSP Inputs General'!$B92='DNSP Inputs General'!$A$87,G$256,G$257))*'DNSP Inputs General'!$D92*'DNSP Inputs General'!T92","v":12566.428446166736},{"$f":"IF('DNSP Inputs General'!$B92='DNSP Inputs General'!$A$86,H$255,IF('DNSP Inputs General'!$B92='DNSP Inputs General'!$A$87,H$256,H$257))*'DNSP Inputs General'!$D92*'DNSP Inputs General'!U92","v":12949.037790731785},null,null,{"$f":"D274/'Charges Summary'!K$4","v":11425.173432306903},{"$f":"E274/'Charges Summary'!L$4","v":11419.968338941846},{"$f":"F274/'Charges Summary'!M$4","v":11413.576992838953},{"$f":"G274/'Charges Summary'!N$4","v":11440.577160171273},{"$f":"H274/'Charges Summary'!O$4","v":11515.494390814638}]
[{"$f":"'DNSP Inputs General'!A$93","v":"HP Sodium 100W"},null,null,{"$f":"IF('DNSP Inputs General'!$B93='DNSP Inputs General'!$A$86,D$255,IF('DNSP Inputs General'!$B93='DNSP Inputs General'!$A$87,D$256,D$257))*'DNSP Inputs General'!$D93*'DNSP Inputs General'!Q93","v":72502.302031577361},{"$f":"IF('DNSP Inputs General'!$B93='DNSP Inputs General'!$A$86,E$255,IF('DNSP Inputs General'!$B93='DNSP Inputs General'!$A$87,E$256,E$257))*'DNSP Inputs General'!$D93*'DNSP Inputs General'!R93","v":73153.662277609445},{"$f":"IF('DNSP Inputs General'!$B93='DNSP Inputs General'!$A$86,F$255,IF('DNSP Inputs General'!$B93='DNSP Inputs General'!$A$87,F$256,F$257))*'DNSP Inputs General'!$D93*'DNSP Inputs General'!S93","v":73886.737226197321},{"$f":"IF('DNSP Inputs General'!$B93='DNSP Inputs General'!$A$86,G$255,IF('DNSP Inputs General'!$B93='DNSP Inputs General'!$A$87,G$256,G$257))*'DNSP Inputs General'!$D93*'DNSP Inputs General'!T93","v":74835.075059032606},{"$f":"IF('DNSP Inputs General'!$B93='DNSP Inputs General'!$A$86,H$255,IF('DNSP Inputs General'!$B93='DNSP Inputs General'!$A$87,H$256,H$257))*'DNSP Inputs General'!$D93*'DNSP Inputs General'!U93","v":76101.771088752619},null,null,{"$f":"D275/'Charges Summary'!K$4","v":70820.797685653015},{"$f":"E275/'Charges Summary'!L$4","v":69799.788861929512},{"$f":"F275/'Charges Summary'!M$4","v":68864.205735352982},{"$f":"G275/'Charges Summary'!N$4","v":68130.452034781076},{"$f":"H275/'Charges Summary'!O$4","v":67676.805973246403}]
[{"$f":"'DNSP Inputs General'!A94","v":"HP Sodium 400W"},null,null,{"$f":"IF('DNSP Inputs General'!$B94='DNSP Inputs General'!$A$86,D$255,IF('DNSP Inputs General'!$B94='DNSP Inputs General'!$A$87,D$256,D$257))*'DNSP Inputs General'!$D94*'DNSP Inputs General'!Q94","v":63023.88489886601},{"$f":"IF('DNSP Inputs General'!$B94='DNSP Inputs General'!$A$86,E$255,IF('DNSP Inputs General'!$B94='DNSP Inputs General'!$A$87,E$256,E$257))*'DNSP Inputs General'!$D94*'DNSP Inputs General'!R94","v":63672.829540604915},{"$f":"IF('DNSP Inputs General'!$B94='DNSP Inputs General'!$A$86,F$255,IF('DNSP Inputs General'!$B94='DNSP Inputs General'!$A$87,F$256,F$257))*'DNSP Inputs General'!$D94*'DNSP Inputs General'!S94","v":64311.140697154384},{"$f":"IF('DNSP Inputs General'!$B94='DNSP Inputs General'!$A$86,G$255,IF('DNSP Inputs General'!$B94='DNSP Inputs General'!$A$87,G$256,G$257))*'DNSP Inputs General'!$D94*'DNSP Inputs General'!T94","v":65134.936689272246},{"$f":"IF('DNSP Inputs General'!$B94='DNSP Inputs General'!$A$86,H$255,IF('DNSP Inputs General'!$B94='DNSP Inputs General'!$A$87,H$256,H$257))*'DNSP Inputs General'!$D94*'DNSP Inputs General'!U94","v":66233.048896264416},null,null,{"$f":"D276/'Charges Summary'!K$4","v":61562.208050200941},{"$f":"E276/'Charges Summary'!L$4","v":60753.623534390827},{"$f":"F276/'Charges Summary'!M$4","v":59939.520816650933},{"$f":"G276/'Charges Summary'!N$4","v":59299.368329574987},{"$f":"H276/'Charges Summary'!O$4","v":58900.61604402669}]
[{"$f":"'DNSP Inputs General'!A95","v":"Metal Halide 70W"},null,null,{"$f":"IF('DNSP Inputs General'!$B95='DNSP Inputs General'!$A$86,D$255,IF('DNSP Inputs General'!$B95='DNSP Inputs General'!$A$87,D$256,D$257))*'DNSP Inputs General'!$D95*'DNSP Inputs General'!Q95","v":0},{"$f":"IF('DNSP Inputs General'!$B95='DNSP Inputs General'!$A$86,E$255,IF('DNSP Inputs General'!$B95='DNSP Inputs General'!$A$87,E$256,E$257))*'DNSP Inputs General'!$D95*'DNSP Inputs General'!R95","v":0},{"$f":"IF('DNSP Inputs General'!$B95='DNSP Inputs General'!$A$86,F$255,IF('DNSP Inputs General'!$B95='DNSP Inputs General'!$A$87,F$256,F$257))*'DNSP Inputs General'!$D95*'DNSP Inputs General'!S95","v":0},{"$f":"IF('DNSP Inputs General'!$B95='DNSP Inputs General'!$A$86,G$255,IF('DNSP Inputs General'!$B95='DNSP Inputs General'!$A$87,G$256,G$257))*'DNSP Inputs General'!$D95*'DNSP Inputs General'!T95","v":0},{"$f":"IF('DNSP Inputs General'!$B95='DNSP Inputs General'!$A$86,H$255,IF('DNSP Inputs General'!$B95='DNSP Inputs General'!$A$87,H$256,H$257))*'DNSP Inputs General'!$D95*'DNSP Inputs General'!U95","v":0},null,null,{"$f":"D277/'Charges Summary'!K$4","v":0},{"$f":"E277/'Charges Summary'!L$4","v":0},{"$f":"F277/'Charges Summary'!M$4","v":0},{"$f":"G277/'Charges Summary'!N$4","v":0},{"$f":"H277/'Charges Summary'!O$4","v":0}]
[{"$f":"'DNSP Inputs General'!A96","v":"Metal Halide 100W"},null,null,{"$f":"IF('DNSP Inputs General'!$B96='DNSP Inputs General'!$A$86,D$255,IF('DNSP Inputs General'!$B96='DNSP Inputs General'!$A$87,D$256,D$257))*'DNSP Inputs General'!$D96*'DNSP Inputs General'!Q96","v":0},{"$f":"IF('DNSP Inputs General'!$B96='DNSP Inputs General'!$A$86,E$255,IF('DNSP Inputs General'!$B96='DNSP Inputs General'!$A$87,E$256,E$257))*'DNSP Inputs General'!$D96*'DNSP Inputs General'!R96","v":0},{"$f":"IF('DNSP Inputs General'!$B96='DNSP Inputs General'!$A$86,F$255,IF('DNSP Inputs General'!$B96='DNSP Inputs General'!$A$87,F$256,F$257))*'DNSP Inputs General'!$D96*'DNSP Inputs General'!S96","v":0},{"$f":"IF('DNSP Inputs General'!$B96='DNSP Inputs General'!$A$86,G$255,IF('DNSP Inputs General'!$B96='DNSP Inputs General'!$A$87,G$256,G$257))*'DNSP Inputs General'!$D96*'DNSP Inputs General'!T96","v":0},{"$f":"IF('DNSP Inputs General'!$B96='DNSP Inputs General'!$A$86,H$255,IF('DNSP Inputs General'!$B96='DNSP Inputs General'!$A$87,H$256,H$257))*'DNSP Inputs General'!$D96*'DNSP Inputs General'!U96","v":0},null,null,{"$f":"D278/'Charges Summary'!K$4","v":0},{"$f":"E278/'Charges Summary'!L$4","v":0},{"$f":"F278/'Charges Summary'!M$4","v":0},{"$f":"G278/'Charges Summary'!N$4","v":0},{"$f":"H278/'Charges Summary'!O$4","v":0}]
[{"$f":"'DNSP Inputs General'!A97","v":"Metal Halide 150W"},null,null,{"$f":"IF('DNSP Inputs General'!$B97='DNSP Inputs General'!$A$86,D$255,IF('DNSP Inputs General'!$B97='DNSP Inputs General'!$A$87,D$256,D$257))*'DNSP Inputs General'!$D97*'DNSP Inputs General'!Q97","v":0},{"$f":"IF('DNSP Inputs General'!$B97='DNSP Inputs General'!$A$86,E$255,IF('DNSP Inputs General'!$B97='DNSP Inputs General'!$A$87,E$256,E$257))*'DNSP Inputs General'!$D97*'DNSP Inputs General'!R97","v":0},{"$f":"IF('DNSP Inputs General'!$B97='DNSP Inputs General'!$A$86,F$255,IF('DNSP Inputs General'!$B97='DNSP Inputs General'!$A$87,F$256,F$257))*'DNSP Inputs General'!$D97*'DNSP Inputs General'!S97","v":0},{"$f":"IF('DNSP Inputs General'!$B97='DNSP Inputs General'!$A$86,G$255,IF('DNSP Inputs General'!$B97='DNSP Inputs General'!$A$87,G$256,G$257))*'DNSP Inputs General'!$D97*'DNSP Inputs General'!T97","v":0},{"$f":"IF('DNSP Inputs General'!$B97='DNSP Inputs General'!$A$86,H$255,IF('DNSP Inputs General'!$B97='DNSP Inputs General'!$A$87,H$256,H$257))*'DNSP Inputs General'!$D97*'DNSP Inputs General'!U97","v":0},null,null,{"$f":"D279/'Charges Summary'!K$4","v":0},{"$f":"E279/'Charges Summary'!L$4","v":0},{"$f":"F279/'Charges Summary'!M$4","v":0},{"$f":"G279/'Charges Summary'!N$4","v":0},{"$f":"H279/'Charges Summary'!O$4","v":0}]
[{"$f":"'DNSP Inputs General'!A98","v":"HP Sodium 50W"},null,null,{"$f":"IF('DNSP Inputs General'!$B98='DNSP Inputs General'!$A$86,D$255,IF('DNSP Inputs General'!$B98='DNSP Inputs General'!$A$87,D$256,D$257))*'DNSP Inputs General'!$D98*'DNSP Inputs General'!Q98","v":0},{"$f":"IF('DNSP Inputs General'!$B98='DNSP Inputs General'!$A$86,E$255,IF('DNSP Inputs General'!$B98='DNSP Inputs General'!$A$87,E$256,E$257))*'DNSP Inputs General'!$D98*'DNSP Inputs General'!R98","v":0},{"$f":"IF('DNSP Inputs General'!$B98='DNSP Inputs General'!$A$86,F$255,IF('DNSP Inputs General'!$B98='DNSP Inputs General'!$A$87,F$256,F$257))*'DNSP Inputs General'!$D98*'DNSP Inputs General'!S98","v":0},{"$f":"IF('DNSP Inputs General'!$B98='DNSP Inputs General'!$A$86,G$255,IF('DNSP Inputs General'!$B98='DNSP Inputs General'!$A$87,G$256,G$257))*'DNSP Inputs General'!$D98*'DNSP Inputs General'!T98","v":0},{"$f":"IF('DNSP Inputs General'!$B98='DNSP Inputs General'!$A$86,H$255,IF('DNSP Inputs General'!$B98='DNSP Inputs General'!$A$87,H$256,H$257))*'DNSP Inputs General'!$D98*'DNSP Inputs General'!U98","v":0},null,null,{"$f":"D280/'Charges Summary'!K$4","v":0},{"$f":"E280/'Charges Summary'!L$4","v":0},{"$f":"F280/'Charges Summary'!M$4","v":0},{"$f":"G280/'Charges Summary'!N$4","v":0},{"$f":"H280/'Charges Summary'!O$4","v":0}]
[]
[]
[]
[]
[]
[]
[]
[]
[]
[]
[]
[{"$f":"'DNSP Inputs General'!A$112","v":"Energy Efficient Lights"}]
[{"$f":"'DNSP Inputs General'!A$113","v":"T5 2X14W"},null,null,{"$f":"SUM('Charges Summary'!K83,'Charges Summary'!K8)*'DNSP Inputs General'!$D113*'DNSP Inputs General'!Q113","v":270560.29480545764},{"$f":"SUM('Charges Summary'!L83,'Charges Summary'!L8)*'DNSP Inputs General'!$D113*'DNSP Inputs General'!R113","v":276550.86047064856},{"$f":"SUM('Charges Summary'!M83,'Charges Summary'!M8)*'DNSP Inputs General'!$D113*'DNSP Inputs General'!S113","v":282948.86733011249},{"$f":"SUM('Charges Summary'!N83,'Charges Summary'!N8)*'DNSP Inputs General'!$D113*'DNSP Inputs General'!T113","v":290192.25559418142},{"$f":"SUM('Charges Summary'!O83,'Charges Summary'!O8)*'DNSP Inputs General'!$D113*'DNSP Inputs General'!U113","v":298639.11387786345},null,null,{"$f":"D293/'Charges Summary'!K$4","v":264285.34492384142},{"$f":"E293/'Charges Summary'!L$4","v":263871.84276821144},{"$f":"F293/'Charges Summary'!M$4","v":263715.10969220783},{"$f":"G293/'Charges Summary'!N$4","v":264193.35498799576},{"$f":"H293/'Charges Summary'!O$4","v":265577.80557253625}]
[{"$f":"'DNSP Inputs General'!A114","v":"T5 2X24W"},null,null,{"$f":"SUM('Charges Summary'!K99,'Charges Summary'!K8)*'DNSP Inputs General'!$D114*'DNSP Inputs General'!Q114","v":43137.154978215774},{"$f":"SUM('Charges Summary'!L99,'Charges Summary'!L8)*'DNSP Inputs General'!$D114*'DNSP Inputs General'!R114","v":44092.113947414837},{"$f":"SUM('Charges Summary'!M99,'Charges Summary'!M8)*'DNSP Inputs General'!$D114*'DNSP Inputs General'!S114","v":45112.701909710435},{"$f":"SUM('Charges Summary'!N99,'Charges Summary'!N8)*'DNSP Inputs General'!$D114*'DNSP Inputs General'!T114","v":46269.809458942029},{"$f":"SUM('Charges Summary'!O99,'Charges Summary'!O8)*'DNSP Inputs General'!$D114*'DNSP Inputs General'!U114","v":47621.537818837867},null,null,{"$f":"D294/'Charges Summary'!K$4","v":42136.699661154387},{"$f":"E294/'Charges Summary'!L$4","v":42070.624329462691},{"$f":"F294/'Charges Summary'!M$4","v":42046.11682983418},{"$f":"G294/'Charges Summary'!N$4","v":42124.405320823105},{"$f":"H294/'Charges Summary'!O$4","v":42349.52129240823}]
[{"$f":"'DNSP Inputs General'!A115","v":"LED 18W"},null,null,{"$f":"SUM('Charges Summary'!K115,'Charges Summary'!K8)*'DNSP Inputs General'!$D115*'DNSP Inputs General'!Q115","v":341901.79681794316},{"$f":"SUM('Charges Summary'!L115,'Charges Summary'!L8)*'DNSP Inputs General'!$D115*'DNSP Inputs General'!R115","v":360679.34330181824},{"$f":"SUM('Charges Summary'!M115,'Charges Summary'!M8)*'DNSP Inputs General'!$D115*'DNSP Inputs General'!S115","v":380672.75594050001},{"$f":"SUM('Charges Summary'!N115,'Charges Summary'!N8)*'DNSP Inputs General'!$D115*'DNSP Inputs General'!T115","v":402365.02991851344},{"$f":"SUM('Charges Summary'!O115,'Charges Summary'!O8)*'DNSP Inputs General'!$D115*'DNSP Inputs General'!U115","v":426100.88725359802},null,null,{"$f":"D295/'Charges Summary'!K$4","v":333972.26436008658},{"$f":"E295/'Charges Summary'!L$4","v":344143.28996665782},{"$f":"F295/'Charges Summary'!M$4","v":354796.11046670633},{"$f":"G295/'Charges Summary'!N$4","v":366316.34764462954},{"$f":"H295/'Charges Summary'!O$4","v":378928.72477381612}]
[{"$f":"'DNSP Inputs General'!A116","v":"LED 14W"},null,null,{"$f":"SUM('Charges Summary'!K131,'Charges Summary'!K$8)*'DNSP Inputs General'!$D116*'DNSP Inputs General'!Q116","v":162.01102683343555},{"$f":"SUM('Charges Summary'!L131,'Charges Summary'!L$8)*'DNSP Inputs General'!$D116*'DNSP Inputs General'!R116","v":165.59205854788522},{"$f":"SUM('Charges Summary'!M131,'Charges Summary'!M$8)*'DNSP Inputs General'!$D116*'DNSP Inputs General'!S116","v":169.39003195898269},{"$f":"SUM('Charges Summary'!N131,'Charges Summary'!N$8)*'DNSP Inputs General'!$D116*'DNSP Inputs General'!T116","v":173.6249068969023},{"$f":"SUM('Charges Summary'!O131,'Charges Summary'!O$8)*'DNSP Inputs General'!$D116*'DNSP Inputs General'!U116","v":178.46926795100126},null,null,{"$f":"D296/'Charges Summary'!K$4","v":158.25359792325503},{"$f":"E296/'Charges Summary'!L$4","v":158.00016518643073},{"$f":"F296/'Charges Summary'!M$4","v":157.87555992126667},{"$f":"G296/'Charges Summary'!N$4","v":158.06950660571232},{"$f":"H296/'Charges Summary'!O$4","v":158.71154963294046}]
[{"$f":"'DNSP Inputs General'!A117","v":"LED 70W-125W (L1)"},null,null,{"$f":"SUM('Charges Summary'!K147,'Charges Summary'!K$8)*'DNSP Inputs General'!$D117*'DNSP Inputs General'!Q117","v":16607.943494733434},{"$f":"SUM('Charges Summary'!L147,'Charges Summary'!L$8)*'DNSP Inputs General'!$D117*'DNSP Inputs General'!R117","v":20913.23344052376},{"$f":"SUM('Charges Summary'!M147,'Charges Summary'!M$8)*'DNSP Inputs General'!$D117*'DNSP Inputs General'!S117","v":25515.604979786214},{"$f":"SUM('Charges Summary'!N147,'Charges Summary'!N$8)*'DNSP Inputs General'!$D117*'DNSP Inputs General'!T117","v":30584.120649493841},{"$f":"SUM('Charges Summary'!O147,'Charges Summary'!O$8)*'DNSP Inputs General'!$D117*'DNSP Inputs General'!U117","v":36175.215974691098},null,null,{"$f":"D297/'Charges Summary'!K$4","v":16222.764977903757},{"$f":"E297/'Charges Summary'!L$4","v":19954.425152759479},{"$f":"F297/'Charges Summary'!M$4","v":23781.153922262958},{"$f":"G297/'Charges Summary'!N$4","v":27844.028529303832},{"$f":"H297/'Charges Summary'!O$4","v":32170.382338464209}]
[{"$f":"'DNSP Inputs General'!A118","v":"LED 155W-250W (L2)"},null,null,{"$f":"SUM('Charges Summary'!K163,'Charges Summary'!K$8)*'DNSP Inputs General'!$D118*'DNSP Inputs General'!Q118","v":42456.720279786234},{"$f":"SUM('Charges Summary'!L163,'Charges Summary'!L$8)*'DNSP Inputs General'!$D118*'DNSP Inputs General'!R118","v":62375.483657569792},{"$f":"SUM('Charges Summary'!M163,'Charges Summary'!M$8)*'DNSP Inputs General'!$D118*'DNSP Inputs General'!S118","v":82511.942871616789},{"$f":"SUM('Charges Summary'!N163,'Charges Summary'!N$8)*'DNSP Inputs General'!$D118*'DNSP Inputs General'!T118","v":104322.26375175716},{"$f":"SUM('Charges Summary'!O163,'Charges Summary'!O$8)*'DNSP Inputs General'!$D118*'DNSP Inputs General'!U118","v":128583.12905654099},null,null,{"$f":"D298/'Charges Summary'!K$4","v":41472.045894784482},{"$f":"E298/'Charges Summary'!L$4","v":59515.757023031467},{"$f":"F298/'Charges Summary'!M$4","v":76903.103626560667},{"$f":"G298/'Charges Summary'!N$4","v":94975.82492022893},{"$f":"H298/'Charges Summary'!O$4","v":114348.1334546568}]
[{"$f":"'DNSP Inputs General'!A119","v":"LED 275W-400W (L4)"},null,null,{"$f":"SUM('Charges Summary'!K179,'Charges Summary'!K$8)*'DNSP Inputs General'!$D119*'DNSP Inputs General'!Q119","v":3449.4424029230086},{"$f":"SUM('Charges Summary'!L179,'Charges Summary'!L$8)*'DNSP Inputs General'!$D119*'DNSP Inputs General'!R119","v":4154.3986441298784},{"$f":"SUM('Charges Summary'!M179,'Charges Summary'!M$8)*'DNSP Inputs General'!$D119*'DNSP Inputs General'!S119","v":4903.6908449234306},{"$f":"SUM('Charges Summary'!N179,'Charges Summary'!N$8)*'DNSP Inputs General'!$D119*'DNSP Inputs General'!T119","v":5711.9644517229135},{"$f":"SUM('Charges Summary'!O179,'Charges Summary'!O$8)*'DNSP Inputs General'!$D119*'DNSP Inputs General'!U119","v":6591.7270507811036},null,null,{"$f":"D299/'Charges Summary'!K$4","v":3369.4414618631708},{"$f":"E299/'Charges Summary'!L$4","v":3963.9320736688042},{"$f":"F299/'Charges Summary'!M$4","v":4570.3571152908198},{"$f":"G299/'Charges Summary'!N$4","v":5200.2182104514513},{"$f":"H299/'Charges Summary'!O$4","v":5861.9796393969136}]
[{"$f":"'DNSP Inputs General'!A120","v":"Compact Fluorescent 32W"},null,null,{"$f":"IF('DNSP Inputs General'!$B120='DNSP Inputs General'!$A$113,D$259,D$260)*'DNSP Inputs General'!$D120*'DNSP Inputs General'!Q120","v":20160.285373340346},{"$f":"IF('DNSP Inputs General'!$B120='DNSP Inputs General'!$A$113,E$259,E$260)*'DNSP Inputs General'!$D120*'DNSP Inputs General'!R120","v":20606.660971226287},{"$f":"IF('DNSP Inputs General'!$B120='DNSP Inputs General'!$A$113,F$259,F$260)*'DNSP Inputs General'!$D120*'DNSP Inputs General'!S120","v":21083.396274165425},{"$f":"IF('DNSP Inputs General'!$B120='DNSP Inputs General'!$A$113,G$259,G$260)*'DNSP Inputs General'!$D120*'DNSP Inputs General'!T120","v":21623.123563339668},{"$f":"IF('DNSP Inputs General'!$B120='DNSP Inputs General'!$A$113,H$259,H$260)*'DNSP Inputs General'!$D120*'DNSP Inputs General'!U120","v":22252.525130297745},null,null,{"$f":"D300/'Charges Summary'!K$4","v":19692.719426874504},{"$f":"E300/'Charges Summary'!L$4","v":19661.908100822442},{"$f":"F300/'Charges Summary'!M$4","v":19650.229433995348},{"$f":"G300/'Charges Summary'!N$4","v":19685.864971901876},{"$f":"H300/'Charges Summary'!O$4","v":19789.024671996431}]
[{"$f":"'DNSP Inputs General'!A121","v":"Compact Fluorescent 42W"},null,null,{"$f":"IF('DNSP Inputs General'!$B121='DNSP Inputs General'!$A$113,D$259,D$260)*'DNSP Inputs General'!$D121*'DNSP Inputs General'!Q121","v":98998.718785628065},{"$f":"IF('DNSP Inputs General'!$B121='DNSP Inputs General'!$A$113,E$259,E$260)*'DNSP Inputs General'!$D121*'DNSP Inputs General'!R121","v":101190.68241459109},{"$f":"IF('DNSP Inputs General'!$B121='DNSP Inputs General'!$A$113,F$259,F$260)*'DNSP Inputs General'!$D121*'DNSP Inputs General'!S121","v":103531.72984109548},{"$f":"IF('DNSP Inputs General'!$B121='DNSP Inputs General'!$A$113,G$259,G$260)*'DNSP Inputs General'!$D121*'DNSP Inputs General'!T121","v":106182.10453234606},{"$f":"IF('DNSP Inputs General'!$B121='DNSP Inputs General'!$A$113,H$259,H$260)*'DNSP Inputs General'!$D121*'DNSP Inputs General'!U121","v":109272.83204818341},null,null,{"$f":"D301/'Charges Summary'!K$4","v":96702.698228839756},{"$f":"E301/'Charges Summary'!L$4","v":96551.396709701876},{"$f":"F301/'Charges Summary'!M$4","v":96494.047667682069},{"$f":"G301/'Charges Summary'!N$4","v":96669.038870963763},{"$f":"H301/'Charges Summary'!O$4","v":97175.612957121062}]
[]
["Total O & M",null,null,{"$f":"SUM(D268:D301)","v":2738348.8768546823},{"$f":"SUM(E268:E301)","v":2777742.0568457651},{"$f":"SUM(F268:F301)","v":2820388.7068290664},{"$f":"SUM(G268:G301)","v":2873242.7569385404},{"$f":"SUM(H268:H301)","v":2939561.6253577066},null,null,{"$f":"SUM(K268:K301)","v":2674839.9204758522},{"$f":"SUM(L268:L301)","v":2650391.0131657203},{"$f":"SUM(M268:M301)","v":2628669.7105888566},{"$f":"SUM(N268:N301)","v":2615823.231037912},{"$f":"SUM(O268:O301)","v":2614132.8765361216}]
[]
[]
["Public Lighting - Capital Charge",null,null,"Capital Charge - Nominal ",null,null,null,null,null,null,"Capital Charge - Real 2021 $ "]
[null,null,null,{"$f":"D$2","v":"2022-06-30"},"2023-06-30","2024-06-30","2025-06-30","2026-06-30",null,null,{"$f":"K$2","v":"2022-06-30"},"2023-06-30","2024-06-30","2025-06-30","2026-06-30"]
[]
["Unit cost"]
[{"$f":"'DNSP Inputs General'!A$86","v":"Mercury Vapour 80W"},null,null,{"$f":"SUM('Charges Summary'!K27,'Charges Summary'!K11)","v":29.121345647777982},{"$f":"SUM('Charges Summary'!L27,'Charges Summary'!L11)","v":29.988167408051595},{"$f":"SUM('Charges Summary'!M27,'Charges Summary'!M11)","v":23.861545159767076},{"$f":"SUM('Charges Summary'!N27,'Charges Summary'!N11)","v":25.476882459601992},{"$f":"SUM('Charges Summary'!O27,'Charges Summary'!O11)","v":26.274874216766772},null,null,{"$f":"D310/'Charges Summary'!K$4","v":28.445950965212226},{"$f":"E310/'Charges Summary'!L$4","v":28.613300937619158},{"$f":"F310/'Charges Summary'!M$4","v":22.239530621241183},{"$f":"G310/'Charges Summary'!N$4","v":23.194357953679415},{"$f":"H310/'Charges Summary'!O$4","v":23.366073337055184}]
[{"$f":"'DNSP Inputs General'!A$87","v":"HP Sodium 150W"},null,null,{"$f":"SUM('Charges Summary'!K51,'Charges Summary'!K11)","v":32.378068924928627},{"$f":"SUM('Charges Summary'!L51,'Charges Summary'!L11)","v":33.314687544564251},{"$f":"SUM('Charges Summary'!M51,'Charges Summary'!M11)","v":36.035339444318687},{"$f":"SUM('Charges Summary'!N51,'Charges Summary'!N11)","v":38.832960865312423},{"$f":"SUM('Charges Summary'!O51,'Charges Summary'!O11)","v":40.017986718709139},null,null,{"$f":"D311/'Charges Summary'!K$4","v":31.627142925555624},{"$f":"E311/'Charges Summary'!L$4","v":31.78731022087835},{"$f":"F311/'Charges Summary'!M$4","v":33.585797971289828},{"$f":"G311/'Charges Summary'!N$4","v":35.353838764986463},{"$f":"H311/'Charges Summary'!O$4","v":35.58773316121021}]
[{"$f":"'DNSP Inputs General'!A$88","v":"HP Sodium 250W"},null,null,{"$f":"SUM('Charges Summary'!K67,'Charges Summary'!K11)","v":32.53703761969571},{"$f":"SUM('Charges Summary'!L67,'Charges Summary'!L11)","v":33.477063196167201},{"$f":"SUM('Charges Summary'!M67,'Charges Summary'!M11)","v":36.669888864883525},{"$f":"SUM('Charges Summary'!N67,'Charges Summary'!N11)","v":39.529135912735136},{"$f":"SUM('Charges Summary'!O67,'Charges Summary'!O11)","v":40.734335612983742},null,null,{"$f":"D312/'Charges Summary'!K$4","v":31.782424750476832},{"$f":"E312/'Charges Summary'!L$4","v":31.942241441617426},{"$f":"F312/'Charges Summary'!M$4","v":34.177213203407192},{"$f":"G312/'Charges Summary'!N$4","v":35.987642107053397},{"$f":"H312/'Charges Summary'!O$4","v":36.224777535255498}]
[]
[{"$f":"'DNSP Inputs General'!A$113","v":"T5 2X14W"},null,null,{"$f":"SUM('Charges Summary'!K85,'Charges Summary'!K11)","v":16.495074379429767},{"$f":"SUM('Charges Summary'!L85,'Charges Summary'!L11)","v":17.501804649567539},{"$f":"SUM('Charges Summary'!M85,'Charges Summary'!M11)","v":18.395759579125588},{"$f":"SUM('Charges Summary'!N85,'Charges Summary'!N11)","v":19.23970752648377},{"$f":"SUM('Charges Summary'!O85,'Charges Summary'!O11)","v":20.066631336946944},null,null,{"$f":"D314/'Charges Summary'!K$4","v":16.11251357131534},{"$f":"E314/'Charges Summary'!L$4","v":16.699400019190282},{"$f":"F314/'Charges Summary'!M$4","v":17.145287772510198},{"$f":"G314/'Charges Summary'!N$4","v":17.515983912120149},{"$f":"H314/'Charges Summary'!O$4","v":17.845123656102867}]
[{"$f":"'DNSP Inputs General'!A$114","v":"T5 2X24W"},null,null,{"$f":"SUM('Charges Summary'!K101,'Charges Summary'!K11)","v":16.649389993957776},{"$f":"SUM('Charges Summary'!L101,'Charges Summary'!L11)","v":17.670546659171666},{"$f":"SUM('Charges Summary'!M101,'Charges Summary'!M11)","v":18.576413327287103},{"$f":"SUM('Charges Summary'!N101,'Charges Summary'!N11)","v":19.431389777476749},{"$f":"SUM('Charges Summary'!O101,'Charges Summary'!O11)","v":20.269547446374752},null,null,{"$f":"D315/'Charges Summary'!K$4","v":16.263250232221161},{"$f":"E315/'Charges Summary'!L$4","v":16.860405719736196},{"$f":"F315/'Charges Summary'!M$4","v":17.313661385248995},{"$f":"G315/'Charges Summary'!N$4","v":17.69049296949591},{"$f":"H315/'Charges Summary'!O$4","v":18.025575621544988}]
[{"$f":"'DNSP Inputs General'!A$115","v":"LED 18W"},null,null,{"$f":"SUM('Charges Summary'!K117,'Charges Summary'!K11)","v":15.285064851612999},{"$f":"SUM('Charges Summary'!L117,'Charges Summary'!L11)","v":16.178675813976607},{"$f":"SUM('Charges Summary'!M117,'Charges Summary'!M11)","v":16.979229196378277},{"$f":"SUM('Charges Summary'!N117,'Charges Summary'!N11)","v":17.73670116692465},{"$f":"SUM('Charges Summary'!O117,'Charges Summary'!O11)","v":18.475538779617978},null,null,{"$f":"D316/'Charges Summary'!K$4","v":14.930567101120488},{"$f":"E316/'Charges Summary'!L$4","v":15.436932625406156},{"$f":"F316/'Charges Summary'!M$4","v":15.825047586382418},{"$f":"G316/'Charges Summary'!N$4","v":16.147634877831933},{"$f":"H316/'Charges Summary'!O$4","v":16.430175478848902}]
[{"$f":"'DNSP Inputs General'!A$72","v":"LED 14W"},null,null,{"$f":"SUM('Charges Summary'!K133,'Charges Summary'!K$11)","v":15.285064851612999},{"$f":"SUM('Charges Summary'!L133,'Charges Summary'!L$11)","v":16.178675813976607},{"$f":"SUM('Charges Summary'!M133,'Charges Summary'!M$11)","v":16.979229196378277},{"$f":"SUM('Charges Summary'!N133,'Charges Summary'!N$11)","v":17.73670116692465},{"$f":"SUM('Charges Summary'!O133,'Charges Summary'!O$11)","v":18.475538779617978},null,null,{"$f":"D317/'Charges Summary'!K$4","v":14.930567101120488},{"$f":"E317/'Charges Summary'!L$4","v":15.436932625406156},{"$f":"F317/'Charges Summary'!M$4","v":15.825047586382418},{"$f":"G317/'Charges Summary'!N$4","v":16.147634877831933},{"$f":"H317/'Charges Summary'!O$4","v":16.430175478848902}]
[{"$f":"'DNSP Inputs General'!A$73","v":"LED 70W-125W (L1)"},null,null,{"$f":"SUM('Charges Summary'!K149,'Charges Summary'!K$11)","v":19.59714656253745},{"$f":"SUM('Charges Summary'!L149,'Charges Summary'!L$11)","v":20.89387806816282},{"$f":"SUM('Charges Summary'!M149,'Charges Summary'!M$11)","v":22.027284286848982},{"$f":"SUM('Charges Summary'!N149,'Charges Summary'!N$11)","v":23.092928606019207},{"$f":"SUM('Charges Summary'!O149,'Charges Summary'!O$11)","v":24.145676872848913},null,null,{"$f":"D318/'Charges Summary'!K$4","v":19.142641171822117},{"$f":"E318/'Charges Summary'!L$4","v":19.935957165483455},{"$f":"F318/'Charges Summary'!M$4","v":20.529955630289308},{"$f":"G318/'Charges Summary'!N$4","v":21.023987261239661},{"$f":"H318/'Charges Summary'!O$4","v":21.472592101841496}]
[{"$f":"'DNSP Inputs General'!A$74","v":"LED 155W-250W (L2)"},null,null,{"$f":"SUM('Charges Summary'!K165,'Charges Summary'!K$11)","v":20.144365053771519},{"$f":"SUM('Charges Summary'!L165,'Charges Summary'!L$11)","v":21.492253988744828},{"$f":"SUM('Charges Summary'!M165,'Charges Summary'!M$11)","v":22.667900415081302},{"$f":"SUM('Charges Summary'!N165,'Charges Summary'!N$11)","v":23.772652900320548},{"$f":"SUM('Charges Summary'!O165,'Charges Summary'!O$11)","v":24.865237544578726},null,null,{"$f":"D319/'Charges Summary'!K$4","v":19.677168338154814},{"$f":"E319/'Charges Summary'!L$4","v":20.506899366000876},{"$f":"F319/'Charges Summary'!M$4","v":21.127025179008456},{"$f":"G319/'Charges Summary'!N$4","v":21.642813705834552},{"$f":"H319/'Charges Summary'!O$4","v":22.11249268851568}]
[{"$f":"'DNSP Inputs General'!A$75","v":"LED 275W-400W (L4)"},null,null,{"$f":"SUM('Charges Summary'!K181,'Charges Summary'!K$11)","v":25.044816086470838},{"$f":"SUM('Charges Summary'!L181,'Charges Summary'!L$11)","v":26.850830032740816},{"$f":"SUM('Charges Summary'!M181,'Charges Summary'!M$11)","v":28.404745966627402},{"$f":"SUM('Charges Summary'!N181,'Charges Summary'!N$11)","v":29.859719900647903},{"$f":"SUM('Charges Summary'!O181,'Charges Summary'!O$11)","v":31.309047272053565},null,null,{"$f":"D320/'Charges Summary'!K$4","v":24.463966018097356},{"$f":"E320/'Charges Summary'!L$4","v":25.61980096007451},{"$f":"F320/'Charges Summary'!M$4","v":26.473902401698176},{"$f":"G320/'Charges Summary'!N$4","v":27.184528282470705},{"$f":"H320/'Charges Summary'!O$4","v":27.842930422300366}]
[]
[{"$f":"'DNSP Inputs General'!A$85","v":"Existing Lights"}]
[{"$f":"'DNSP Inputs General'!A$86","v":"Mercury Vapour 80W"},null,null,{"$f":"D310*'DNSP Inputs General'!Q86","v":228168.53631838397},{"$f":"E310*'DNSP Inputs General'!R86","v":234960.16795116352},{"$f":"F310*'DNSP Inputs General'!S86","v":186957.49500210668},{"$f":"G310*'DNSP Inputs General'!T86","v":199613.8176810673},{"$f":"H310*'DNSP Inputs General'!U86","v":205866.15963767315},null,null,{"$f":"D323/'Charges Summary'!K$4","v":222876.75420013536},{"$f":"E323/'Charges Summary'!L$4","v":224187.95728528281},{"$f":"F323/'Charges Summary'!M$4","v":174248.85551755625},{"$f":"G323/'Charges Summary'!N$4","v":181730.01924928243},{"$f":"H323/'Charges Summary'!O$4","v":183075.42574807824}]
[{"$f":"'DNSP Inputs General'!A$87","v":"HP Sodium 150W"},null,null,{"$f":"D311*'DNSP Inputs General'!Q87","v":289719.25345261383},{"$f":"E311*'DNSP Inputs General'!R87","v":286741.81951175019},{"$f":"F311*'DNSP Inputs General'!S87","v":298167.07061296212},{"$f":"G311*'DNSP Inputs General'!T87","v":308704.22713839379},{"$f":"H311*'DNSP Inputs General'!U87","v":305287.5725101757},null,null,{"$f":"D324/'Charges Summary'!K$4","v":282999.96082151431},{"$f":"E324/'Charges Summary'!L$4","v":273595.57726382784},{"$f":"F324/'Charges Summary'!M$4","v":277898.83902084583},{"$f":"G324/'Charges Summary'!N$4","v":281046.80223004491},{"$f":"H324/'Charges Summary'!O$4","v":271490.23623535759}]
[{"$f":"'DNSP Inputs General'!A$88","v":"HP Sodium 250W"},null,null,{"$f":"D312*'DNSP Inputs General'!Q88","v":259561.40412672452},{"$f":"E312*'DNSP Inputs General'!R88","v":258054.50142324597},{"$f":"F312*'DNSP Inputs General'!S88","v":273014.45789191447},{"$f":"G312*'DNSP Inputs General'!T88","v":284122.78356104973},{"$f":"H312*'DNSP Inputs General'!U88","v":282410.23960502294},null,null,{"$f":"D325/'Charges Summary'!K$4","v":253541.54521406238},{"$f":"E325/'Charges Summary'!L$4","v":246223.48565214811},{"$f":"F325/'Charges Summary'!M$4","v":254456.0025629146},{"$f":"G325/'Charges Summary'!N$4","v":258667.65901049419},{"$f":"H325/'Charges Summary'!O$4","v":251145.57410651242}]
[{"$f":"'DNSP Inputs General'!A$89","v":"Mercury Vapour 50W"},null,null,{"$f":"IF('DNSP Inputs General'!$B89='DNSP Inputs General'!$A$86,D$310,IF('DNSP Inputs General'!$B89='DNSP Inputs General'!$A$87,D$311,D$312))*'DNSP Inputs General'!$D89*'DNSP Inputs General'!Q89","v":3529.7279174425867},{"$f":"IF('DNSP Inputs General'!$B89='DNSP Inputs General'!$A$86,E$310,IF('DNSP Inputs General'!$B89='DNSP Inputs General'!$A$87,E$311,E$312))*'DNSP Inputs General'!$D89*'DNSP Inputs General'!R89","v":3634.7932878307147},{"$f":"IF('DNSP Inputs General'!$B89='DNSP Inputs General'!$A$86,F$310,IF('DNSP Inputs General'!$B89='DNSP Inputs General'!$A$87,F$311,F$312))*'DNSP Inputs General'!$D89*'DNSP Inputs General'!S89","v":2892.2002136317283},{"$f":"IF('DNSP Inputs General'!$B89='DNSP Inputs General'!$A$86,G$310,IF('DNSP Inputs General'!$B89='DNSP Inputs General'!$A$87,G$311,G$312))*'DNSP Inputs General'!$D89*'DNSP Inputs General'!T89","v":3087.991343350649},{"$f":"IF('DNSP Inputs General'!$B89='DNSP Inputs General'!$A$86,H$310,IF('DNSP Inputs General'!$B89='DNSP Inputs General'!$A$87,H$311,H$312))*'DNSP Inputs General'!$D89*'DNSP Inputs General'!U89","v":3184.7139954293489},null,null,{"$f":"D326/'Charges Summary'!K$4","v":3447.8649604495081},{"$f":"E326/'Charges Summary'!L$4","v":3468.1490461072412},{"$f":"F326/'Charges Summary'!M$4","v":2695.5997519504717},{"$f":"G326/'Charges Summary'!N$4","v":2811.3320650244596},{"$f":"H326/'Charges Summary'!O$4","v":2832.1452715941932}]
[{"$f":"'DNSP Inputs General'!A$90","v":"Mercury Vapour 125W"},null,null,{"$f":"IF('DNSP Inputs General'!$B90='DNSP Inputs General'!$A$86,D$310,IF('DNSP Inputs General'!$B90='DNSP Inputs General'!$A$87,D$311,D$312))*'DNSP Inputs General'!$D90*'DNSP Inputs General'!Q90","v":1164.4463232800285},{"$f":"IF('DNSP Inputs General'!$B90='DNSP Inputs General'!$A$86,E$310,IF('DNSP Inputs General'!$B90='DNSP Inputs General'!$A$87,E$311,E$312))*'DNSP Inputs General'!$D90*'DNSP Inputs General'!R90","v":1199.1070640266275},{"$f":"IF('DNSP Inputs General'!$B90='DNSP Inputs General'!$A$86,F$310,IF('DNSP Inputs General'!$B90='DNSP Inputs General'!$A$87,F$311,F$312))*'DNSP Inputs General'!$D90*'DNSP Inputs General'!S90","v":954.12790552799288},{"$f":"IF('DNSP Inputs General'!$B90='DNSP Inputs General'!$A$86,G$310,IF('DNSP Inputs General'!$B90='DNSP Inputs General'!$A$87,G$311,G$312))*'DNSP Inputs General'!$D90*'DNSP Inputs General'!T90","v":1018.7187936826883},{"$f":"IF('DNSP Inputs General'!$B90='DNSP Inputs General'!$A$86,H$310,IF('DNSP Inputs General'!$B90='DNSP Inputs General'!$A$87,H$311,H$312))*'DNSP Inputs General'!$D90*'DNSP Inputs General'!U90","v":1050.6272974612286},null,null,{"$f":"D327/'Charges Summary'!K$4","v":1137.439986952415},{"$f":"E327/'Charges Summary'!L$4","v":1144.1316440766157},{"$f":"F327/'Charges Summary'!M$4","v":889.27002126201137},{"$f":"G327/'Charges Summary'!N$4","v":927.44975341013105},{"$f":"H327/'Charges Summary'!O$4","v":934.31596588674415}]
[{"$f":"'DNSP Inputs General'!A$91","v":"Mercury Vapour 250W"},null,null,{"$f":"IF('DNSP Inputs General'!$B91='DNSP Inputs General'!$A$86,D$310,IF('DNSP Inputs General'!$B91='DNSP Inputs General'!$A$87,D$311,D$312))*'DNSP Inputs General'!$D91*'DNSP Inputs General'!Q91","v":12513.586510166349},{"$f":"IF('DNSP Inputs General'!$B91='DNSP Inputs General'!$A$86,E$310,IF('DNSP Inputs General'!$B91='DNSP Inputs General'!$A$87,E$311,E$312))*'DNSP Inputs General'!$D91*'DNSP Inputs General'!R91","v":12875.11577753347},{"$f":"IF('DNSP Inputs General'!$B91='DNSP Inputs General'!$A$86,F$310,IF('DNSP Inputs General'!$B91='DNSP Inputs General'!$A$87,F$311,F$312))*'DNSP Inputs General'!$D91*'DNSP Inputs General'!S91","v":14103.061009805513},{"$f":"IF('DNSP Inputs General'!$B91='DNSP Inputs General'!$A$86,G$310,IF('DNSP Inputs General'!$B91='DNSP Inputs General'!$A$87,G$311,G$312))*'DNSP Inputs General'!$D91*'DNSP Inputs General'!T91","v":15202.713525975898},{"$f":"IF('DNSP Inputs General'!$B91='DNSP Inputs General'!$A$86,H$310,IF('DNSP Inputs General'!$B91='DNSP Inputs General'!$A$87,H$311,H$312))*'DNSP Inputs General'!$D91*'DNSP Inputs General'!U91","v":15666.227472370274},null,null,{"$f":"D328/'Charges Summary'!K$4","v":12223.366068741185},{"$f":"E328/'Charges Summary'!L$4","v":12284.830791305412},{"$f":"F328/'Charges Summary'!M$4","v":13144.390066978543},{"$f":"G328/'Charges Summary'!N$4","v":13840.672223058071},{"$f":"H328/'Charges Summary'!O$4","v":13931.873356059681}]
[{"$f":"'DNSP Inputs General'!A$92","v":"Mercury Vapour 400W"},null,null,{"$f":"IF('DNSP Inputs General'!$B92='DNSP Inputs General'!$A$86,D$310,IF('DNSP Inputs General'!$B92='DNSP Inputs General'!$A$87,D$311,D$312))*'DNSP Inputs General'!$D92*'DNSP Inputs General'!Q92","v":4350.3063745827694},{"$f":"IF('DNSP Inputs General'!$B92='DNSP Inputs General'!$A$86,E$310,IF('DNSP Inputs General'!$B92='DNSP Inputs General'!$A$87,E$311,E$312))*'DNSP Inputs General'!$D92*'DNSP Inputs General'!R92","v":4475.9908116662282},{"$f":"IF('DNSP Inputs General'!$B92='DNSP Inputs General'!$A$86,F$310,IF('DNSP Inputs General'!$B92='DNSP Inputs General'!$A$87,F$311,F$312))*'DNSP Inputs General'!$D92*'DNSP Inputs General'!S92","v":4902.8818526361101},{"$f":"IF('DNSP Inputs General'!$B92='DNSP Inputs General'!$A$86,G$310,IF('DNSP Inputs General'!$B92='DNSP Inputs General'!$A$87,G$311,G$312))*'DNSP Inputs General'!$D92*'DNSP Inputs General'!T92","v":5285.172361199383},{"$f":"IF('DNSP Inputs General'!$B92='DNSP Inputs General'!$A$86,H$310,IF('DNSP Inputs General'!$B92='DNSP Inputs General'!$A$87,H$311,H$312))*'DNSP Inputs General'!$D92*'DNSP Inputs General'!U92","v":5446.3114298484297},null,null,{"$f":"D329/'Charges Summary'!K$4","v":4249.4122116391245},{"$f":"E329/'Charges Summary'!L$4","v":4270.7802162608114},{"$f":"F329/'Charges Summary'!M$4","v":4569.6031151359366},{"$f":"G329/'Charges Summary'!N$4","v":4811.663271082446},{"$f":"H329/'Charges Summary'!O$4","v":4843.3690390446327}]
[{"$f":"'DNSP Inputs General'!A$93","v":"HP Sodium 100W"},null,null,{"$f":"IF('DNSP Inputs General'!$B93='DNSP Inputs General'!$A$86,D$310,IF('DNSP Inputs General'!$B93='DNSP Inputs General'!$A$87,D$311,D$312))*'DNSP Inputs General'!$D93*'DNSP Inputs General'!Q93","v":26450.181201204003},{"$f":"IF('DNSP Inputs General'!$B93='DNSP Inputs General'!$A$86,E$310,IF('DNSP Inputs General'!$B93='DNSP Inputs General'!$A$87,E$311,E$312))*'DNSP Inputs General'!$D93*'DNSP Inputs General'!R93","v":26870.104265941325},{"$f":"IF('DNSP Inputs General'!$B93='DNSP Inputs General'!$A$86,F$310,IF('DNSP Inputs General'!$B93='DNSP Inputs General'!$A$87,F$311,F$312))*'DNSP Inputs General'!$D93*'DNSP Inputs General'!S93","v":28691.049360889716},{"$f":"IF('DNSP Inputs General'!$B93='DNSP Inputs General'!$A$86,G$310,IF('DNSP Inputs General'!$B93='DNSP Inputs General'!$A$87,G$311,G$312))*'DNSP Inputs General'!$D93*'DNSP Inputs General'!T93","v":30516.095065441295},{"$f":"IF('DNSP Inputs General'!$B93='DNSP Inputs General'!$A$86,H$310,IF('DNSP Inputs General'!$B93='DNSP Inputs General'!$A$87,H$311,H$312))*'DNSP Inputs General'!$D93*'DNSP Inputs General'!U93","v":31032.645917079775},null,null,{"$f":"D330/'Charges Summary'!K$4","v":25836.737305023435},{"$f":"E330/'Charges Summary'!L$4","v":25638.191528174379},{"$f":"F330/'Charges Summary'!M$4","v":26740.744010698327},{"$f":"G330/'Charges Summary'!N$4","v":27782.097492450139},{"$f":"H330/'Charges Summary'!O$4","v":27597.128509891681}]
[{"$f":"'DNSP Inputs General'!A94","v":"HP Sodium 400W"},null,null,{"$f":"IF('DNSP Inputs General'!$B94='DNSP Inputs General'!$A$86,D$310,IF('DNSP Inputs General'!$B94='DNSP Inputs General'!$A$87,D$311,D$312))*'DNSP Inputs General'!$D94*'DNSP Inputs General'!Q94","v":23440.735293950307},{"$f":"IF('DNSP Inputs General'!$B94='DNSP Inputs General'!$A$86,E$310,IF('DNSP Inputs General'!$B94='DNSP Inputs General'!$A$87,E$311,E$312))*'DNSP Inputs General'!$D94*'DNSP Inputs General'!R94","v":23812.032804686321},{"$f":"IF('DNSP Inputs General'!$B94='DNSP Inputs General'!$A$86,F$310,IF('DNSP Inputs General'!$B94='DNSP Inputs General'!$A$87,F$311,F$312))*'DNSP Inputs General'!$D94*'DNSP Inputs General'!S94","v":25747.965694895174},{"$f":"IF('DNSP Inputs General'!$B94='DNSP Inputs General'!$A$86,G$310,IF('DNSP Inputs General'!$B94='DNSP Inputs General'!$A$87,G$311,G$312))*'DNSP Inputs General'!$D94*'DNSP Inputs General'!T94","v":27394.368146314733},{"$f":"IF('DNSP Inputs General'!$B94='DNSP Inputs General'!$A$86,H$310,IF('DNSP Inputs General'!$B94='DNSP Inputs General'!$A$87,H$311,H$312))*'DNSP Inputs General'!$D94*'DNSP Inputs General'!U94","v":27857.344851956692},null,null,{"$f":"D331/'Charges Summary'!K$4","v":22897.087752231248},{"$f":"E331/'Charges Summary'!L$4","v":22720.323363074676},{"$f":"F331/'Charges Summary'!M$4","v":23997.719664516411},{"$f":"G331/'Charges Summary'!N$4","v":24940.052288894669},{"$f":"H331/'Charges Summary'!O$4","v":24773.354095491257}]
[{"$f":"'DNSP Inputs General'!A95","v":"Metal Halide 70W"},null,null,{"$f":"IF('DNSP Inputs General'!$B95='DNSP Inputs General'!$A$86,D$310,IF('DNSP Inputs General'!$B95='DNSP Inputs General'!$A$87,D$311,D$312))*'DNSP Inputs General'!$D95*'DNSP Inputs General'!Q95","v":0},{"$f":"IF('DNSP Inputs General'!$B95='DNSP Inputs General'!$A$86,E$310,IF('DNSP Inputs General'!$B95='DNSP Inputs General'!$A$87,E$311,E$312))*'DNSP Inputs General'!$D95*'DNSP Inputs General'!R95","v":0},{"$f":"IF('DNSP Inputs General'!$B95='DNSP Inputs General'!$A$86,F$310,IF('DNSP Inputs General'!$B95='DNSP Inputs General'!$A$87,F$311,F$312))*'DNSP Inputs General'!$D95*'DNSP Inputs General'!S95","v":0},{"$f":"IF('DNSP Inputs General'!$B95='DNSP Inputs General'!$A$86,G$310,IF('DNSP Inputs General'!$B95='DNSP Inputs General'!$A$87,G$311,G$312))*'DNSP Inputs General'!$D95*'DNSP Inputs General'!T95","v":0},{"$f":"IF('DNSP Inputs General'!$B95='DNSP Inputs General'!$A$86,H$310,IF('DNSP Inputs General'!$B95='DNSP Inputs General'!$A$87,H$311,H$312))*'DNSP Inputs General'!$D95*'DNSP Inputs General'!U95","v":0},null,null,{"$f":"D332/'Charges Summary'!K$4","v":0},{"$f":"E332/'Charges Summary'!L$4","v":0},{"$f":"F332/'Charges Summary'!M$4","v":0},{"$f":"G332/'Charges Summary'!N$4","v":0},{"$f":"H332/'Charges Summary'!O$4","v":0}]
[{"$f":"'DNSP Inputs General'!A96","v":"Metal Halide 100W"},null,null,{"$f":"IF('DNSP Inputs General'!$B96='DNSP Inputs General'!$A$86,D$310,IF('DNSP Inputs General'!$B96='DNSP Inputs General'!$A$87,D$311,D$312))*'DNSP Inputs General'!$D96*'DNSP Inputs General'!Q96","v":0},{"$f":"IF('DNSP Inputs General'!$B96='DNSP Inputs General'!$A$86,E$310,IF('DNSP Inputs General'!$B96='DNSP Inputs General'!$A$87,E$311,E$312))*'DNSP Inputs General'!$D96*'DNSP Inputs General'!R96","v":0},{"$f":"IF('DNSP Inputs General'!$B96='DNSP Inputs General'!$A$86,F$310,IF('DNSP Inputs General'!$B96='DNSP Inputs General'!$A$87,F$311,F$312))*'DNSP Inputs General'!$D96*'DNSP Inputs General'!S96","v":0},{"$f":"IF('DNSP Inputs General'!$B96='DNSP Inputs General'!$A$86,G$310,IF('DNSP Inputs General'!$B96='DNSP Inputs General'!$A$87,G$311,G$312))*'DNSP Inputs General'!$D96*'DNSP Inputs General'!T96","v":0},{"$f":"IF('DNSP Inputs General'!$B96='DNSP Inputs General'!$A$86,H$310,IF('DNSP Inputs General'!$B96='DNSP Inputs General'!$A$87,H$311,H$312))*'DNSP Inputs General'!$D96*'DNSP Inputs General'!U96","v":0},null,null,{"$f":"D333/'Charges Summary'!K$4","v":0},{"$f":"E333/'Charges Summary'!L$4","v":0},{"$f":"F333/'Charges Summary'!M$4","v":0},{"$f":"G333/'Charges Summary'!N$4","v":0},{"$f":"H333/'Charges Summary'!O$4","v":0}]
[{"$f":"'DNSP Inputs General'!A97","v":"Metal Halide 150W"},null,null,{"$f":"IF('DNSP Inputs General'!$B97='DNSP Inputs General'!$A$86,D$310,IF('DNSP Inputs General'!$B97='DNSP Inputs General'!$A$87,D$311,D$312))*'DNSP Inputs General'!$D97*'DNSP Inputs General'!Q97","v":0},{"$f":"IF('DNSP Inputs General'!$B97='DNSP Inputs General'!$A$86,E$310,IF('DNSP Inputs General'!$B97='DNSP Inputs General'!$A$87,E$311,E$312))*'DNSP Inputs General'!$D97*'DNSP Inputs General'!R97","v":0},{"$f":"IF('DNSP Inputs General'!$B97='DNSP Inputs General'!$A$86,F$310,IF('DNSP Inputs General'!$B97='DNSP Inputs General'!$A$87,F$311,F$312))*'DNSP Inputs General'!$D97*'DNSP Inputs General'!S97","v":0},{"$f":"IF('DNSP Inputs General'!$B97='DNSP Inputs General'!$A$86,G$310,IF('DNSP Inputs General'!$B97='DNSP Inputs General'!$A$87,G$311,G$312))*'DNSP Inputs General'!$D97*'DNSP Inputs General'!T97","v":0},{"$f":"IF('DNSP Inputs General'!$B97='DNSP Inputs General'!$A$86,H$310,IF('DNSP Inputs General'!$B97='DNSP Inputs General'!$A$87,H$311,H$312))*'DNSP Inputs General'!$D97*'DNSP Inputs General'!U97","v":0},null,null,{"$f":"D334/'Charges Summary'!K$4","v":0},{"$f":"E334/'Charges Summary'!L$4","v":0},{"$f":"F334/'Charges Summary'!M$4","v":0},{"$f":"G334/'Charges Summary'!N$4","v":0},{"$f":"H334/'Charges Summary'!O$4","v":0}]
[{"$f":"'DNSP Inputs General'!A98","v":"HP Sodium 50W"},null,null,{"$f":"IF('DNSP Inputs General'!$B98='DNSP Inputs General'!$A$86,D$310,IF('DNSP Inputs General'!$B98='DNSP Inputs General'!$A$87,D$311,D$312))*'DNSP Inputs General'!$D98*'DNSP Inputs General'!Q98","v":0},{"$f":"IF('DNSP Inputs General'!$B98='DNSP Inputs General'!$A$86,E$310,IF('DNSP Inputs General'!$B98='DNSP Inputs General'!$A$87,E$311,E$312))*'DNSP Inputs General'!$D98*'DNSP Inputs General'!R98","v":0},{"$f":"IF('DNSP Inputs General'!$B98='DNSP Inputs General'!$A$86,F$310,IF('DNSP Inputs General'!$B98='DNSP Inputs General'!$A$87,F$311,F$312))*'DNSP Inputs General'!$D98*'DNSP Inputs General'!S98","v":0},{"$f":"IF('DNSP Inputs General'!$B98='DNSP Inputs General'!$A$86,G$310,IF('DNSP Inputs General'!$B98='DNSP Inputs General'!$A$87,G$311,G$312))*'DNSP Inputs General'!$D98*'DNSP Inputs General'!T98","v":0},{"$f":"IF('DNSP Inputs General'!$B98='DNSP Inputs General'!$A$86,H$310,IF('DNSP Inputs General'!$B98='DNSP Inputs General'!$A$87,H$311,H$312))*'DNSP Inputs General'!$D98*'DNSP Inputs General'!U98","v":0},null,null,{"$f":"D335/'Charges Summary'!K$4","v":0},{"$f":"E335/'Charges Summary'!L$4","v":0},{"$f":"F335/'Charges Summary'!M$4","v":0},{"$f":"G335/'Charges Summary'!N$4","v":0},{"$f":"H335/'Charges Summary'!O$4","v":0}]
[]
[]
[]
[]
[]
[]
[]
[]
[]
[]
[]
[{"$f":"'DNSP Inputs General'!A$112","v":"Energy Efficient Lights"}]
[{"$f":"'DNSP Inputs General'!A$113","v":"T5 2X14W"},null,null,{"$f":"SUM('Charges Summary'!K85,'Charges Summary'!K11)*'DNSP Inputs General'!$D113*'DNSP Inputs General'!Q113","v":130657.48415946319},{"$f":"SUM('Charges Summary'!L85,'Charges Summary'!L11)*'DNSP Inputs General'!$D113*'DNSP Inputs General'!R113","v":138631.79462922449},{"$f":"SUM('Charges Summary'!M85,'Charges Summary'!M11)*'DNSP Inputs General'!$D113*'DNSP Inputs General'!S113","v":145712.8116262538},{"$f":"SUM('Charges Summary'!N85,'Charges Summary'!N11)*'DNSP Inputs General'!$D113*'DNSP Inputs General'!T113","v":152397.72331727794},{"$f":"SUM('Charges Summary'!O85,'Charges Summary'!O11)*'DNSP Inputs General'!$D113*'DNSP Inputs General'!U113","v":158947.78681995673},null,null,{"$f":"D348/'Charges Summary'!K$4","v":127627.21999838881},{"$f":"E348/'Charges Summary'!L$4","v":132275.94755200623},{"$f":"F348/'Charges Summary'!M$4","v":135807.82444605327},{"$f":"G348/'Charges Summary'!N$4","v":138744.10856790369},{"$f":"H348/'Charges Summary'!O$4","v":141351.22447999078}]
[{"$f":"'DNSP Inputs General'!A114","v":"T5 2X24W"},null,null,{"$f":"SUM('Charges Summary'!K101,'Charges Summary'!K11)*'DNSP Inputs General'!$D114*'DNSP Inputs General'!Q114","v":19146.798493051443},{"$f":"SUM('Charges Summary'!L101,'Charges Summary'!L11)*'DNSP Inputs General'!$D114*'DNSP Inputs General'!R114","v":20321.128658047415},{"$f":"SUM('Charges Summary'!M101,'Charges Summary'!M11)*'DNSP Inputs General'!$D114*'DNSP Inputs General'!S114","v":21362.87532638017},{"$f":"SUM('Charges Summary'!N101,'Charges Summary'!N11)*'DNSP Inputs General'!$D114*'DNSP Inputs General'!T114","v":22346.098244098263},{"$f":"SUM('Charges Summary'!O101,'Charges Summary'!O11)*'DNSP Inputs General'!$D114*'DNSP Inputs General'!U114","v":23309.979563330966},null,null,{"$f":"D349/'Charges Summary'!K$4","v":18702.737767054336},{"$f":"E349/'Charges Summary'!L$4","v":19389.466577696625},{"$f":"F349/'Charges Summary'!M$4","v":19910.710593036347},{"$f":"G349/'Charges Summary'!N$4","v":20344.066914920299},{"$f":"H349/'Charges Summary'!O$4","v":20729.411964776737}]
[{"$f":"'DNSP Inputs General'!A115","v":"LED 18W"},null,null,{"$f":"SUM('Charges Summary'!K117,'Charges Summary'!K11)*'DNSP Inputs General'!$D115*'DNSP Inputs General'!Q115","v":383894.63301646174},{"$f":"SUM('Charges Summary'!L117,'Charges Summary'!L11)*'DNSP Inputs General'!$D115*'DNSP Inputs General'!R115","v":419371.82684549701},{"$f":"SUM('Charges Summary'!M117,'Charges Summary'!M11)*'DNSP Inputs General'!$D115*'DNSP Inputs General'!S115","v":454113.10443989531},{"$f":"SUM('Charges Summary'!N117,'Charges Summary'!N11)*'DNSP Inputs General'!$D115*'DNSP Inputs General'!T115","v":489240.96294947335},{"$f":"SUM('Charges Summary'!O117,'Charges Summary'!O11)*'DNSP Inputs General'!$D115*'DNSP Inputs General'!U115","v":525199.03557453724},null,null,{"$f":"D350/'Charges Summary'!K$4","v":374991.1847712865},{"$f":"E350/'Charges Summary'!L$4","v":400144.90125420311},{"$f":"F350/'Charges Summary'!M$4","v":423244.2712354731},{"$f":"G350/'Charges Summary'!N$4","v":445408.89326810394},{"$f":"H350/'Charges Summary'!O$4","v":467056.05821527657}]
[{"$f":"'DNSP Inputs General'!A116","v":"LED 14W"},null,null,{"$f":"SUM('Charges Summary'!K133,'Charges Summary'!K$11)*'DNSP Inputs General'!$D116*'DNSP Inputs General'!Q116","v":168.13571336774299},{"$f":"SUM('Charges Summary'!L133,'Charges Summary'!L$11)*'DNSP Inputs General'!$D116*'DNSP Inputs General'!R116","v":177.96543395374269},{"$f":"SUM('Charges Summary'!M133,'Charges Summary'!M$11)*'DNSP Inputs General'!$D116*'DNSP Inputs General'!S116","v":186.77152116016106},{"$f":"SUM('Charges Summary'!N133,'Charges Summary'!N$11)*'DNSP Inputs General'!$D116*'DNSP Inputs General'!T116","v":195.10371283617116},{"$f":"SUM('Charges Summary'!O133,'Charges Summary'!O$11)*'DNSP Inputs General'!$D116*'DNSP Inputs General'!U116","v":203.23092657579775},null,null,{"$f":"D351/'Charges Summary'!K$4","v":164.23623811232537},{"$f":"E351/'Charges Summary'!L$4","v":169.80625887946772},{"$f":"F351/'Charges Summary'!M$4","v":174.07552345020659},{"$f":"G351/'Charges Summary'!N$4","v":177.62398365615127},{"$f":"H351/'Charges Summary'!O$4","v":180.73193026733793}]
[{"$f":"'DNSP Inputs General'!A117","v":"LED 70W-125W (L1)"},null,null,{"$f":"SUM('Charges Summary'!K149,'Charges Summary'!K$11)*'DNSP Inputs General'!$D117*'DNSP Inputs General'!Q117","v":14870.2306138653},{"$f":"SUM('Charges Summary'!L149,'Charges Summary'!L$11)*'DNSP Inputs General'!$D117*'DNSP Inputs General'!R117","v":19536.904050863224},{"$f":"SUM('Charges Summary'!M149,'Charges Summary'!M$11)*'DNSP Inputs General'!$D117*'DNSP Inputs General'!S117","v":24565.042954410721},{"$f":"SUM('Charges Summary'!N149,'Charges Summary'!N$11)*'DNSP Inputs General'!$D117*'DNSP Inputs General'!T117","v":30094.933060098276},{"$f":"SUM('Charges Summary'!O149,'Charges Summary'!O$11)*'DNSP Inputs General'!$D117*'DNSP Inputs General'!U117","v":36148.107000233817},null,null,{"$f":"D352/'Charges Summary'!K$4","v":14525.353876141558},{"$f":"E352/'Charges Summary'!L$4","v":18641.19628886188},{"$f":"F352/'Charges Summary'!M$4","v":22895.207386563688},{"$f":"G352/'Charges Summary'!N$4","v":27398.668227746923},{"$f":"H352/'Charges Summary'!O$4","v":32146.274505253081}]
[{"$f":"'DNSP Inputs General'!A118","v":"LED 155W-250W (L2)"},null,null,{"$f":"SUM('Charges Summary'!K165,'Charges Summary'!K$11)*'DNSP Inputs General'!$D118*'DNSP Inputs General'!Q118","v":39075.903658216404},{"$f":"SUM('Charges Summary'!L165,'Charges Summary'!L$11)*'DNSP Inputs General'!$D118*'DNSP Inputs General'!R118","v":59939.262204285362},{"$f":"SUM('Charges Summary'!M165,'Charges Summary'!M$11)*'DNSP Inputs General'!$D118*'DNSP Inputs General'!S118","v":81748.315125171284},{"$f":"SUM('Charges Summary'!N165,'Charges Summary'!N$11)*'DNSP Inputs General'!$D118*'DNSP Inputs General'!T118","v":105675.18636292621},{"$f":"SUM('Charges Summary'!O165,'Charges Summary'!O$11)*'DNSP Inputs General'!$D118*'DNSP Inputs General'!U118","v":132315.78102302877},null,null,{"$f":"D353/'Charges Summary'!K$4","v":38169.638615851341},{"$f":"E353/'Charges Summary'!L$4","v":57191.228930167912},{"$f":"F353/'Charges Summary'!M$4","v":76191.384308444642},{"$f":"G353/'Charges Summary'!N$4","v":96207.536507266326},{"$f":"H353/'Charges Summary'!O$4","v":117667.55637067597}]
[{"$f":"'DNSP Inputs General'!A119","v":"LED 275W-400W (L4)"},null,null,{"$f":"SUM('Charges Summary'!K181,'Charges Summary'!K$11)*'DNSP Inputs General'!$D119*'DNSP Inputs General'!Q119","v":2586.8219035106149},{"$f":"SUM('Charges Summary'!L181,'Charges Summary'!L$11)*'DNSP Inputs General'!$D119*'DNSP Inputs General'!R119","v":3268.8288778519618},{"$f":"SUM('Charges Summary'!M181,'Charges Summary'!M$11)*'DNSP Inputs General'!$D119*'DNSP Inputs General'!S119","v":3989.7778720153078},{"$f":"SUM('Charges Summary'!N181,'Charges Summary'!N$11)*'DNSP Inputs General'!$D119*'DNSP Inputs General'!T119","v":4761.3631970935121},{"$f":"SUM('Charges Summary'!O181,'Charges Summary'!O$11)*'DNSP Inputs General'!$D119*'DNSP Inputs General'!U119","v":5591.5668104132264},null,null,{"$f":"D354/'Charges Summary'!K$4","v":2526.8272253969335},{"$f":"E354/'Charges Summary'!L$4","v":3118.9629937321706},{"$f":"F354/'Charges Summary'!M$4","v":3718.5683727742744},{"$f":"G354/'Charges Summary'!N$4","v":4334.7832104645831},{"$f":"H354/'Charges Summary'!O$4","v":4972.5436964332139}]
[{"$f":"'DNSP Inputs General'!A120","v":"Compact Fluorescent 32W"},null,null,{"$f":"IF('DNSP Inputs General'!$B120='DNSP Inputs General'!$A$113,D$314,D$315)*'DNSP Inputs General'!$D120*'DNSP Inputs General'!Q120","v":9735.6937340398672},{"$f":"IF('DNSP Inputs General'!$B120='DNSP Inputs General'!$A$113,E$314,E$315)*'DNSP Inputs General'!$D120*'DNSP Inputs General'!R120","v":10329.884300107955},{"$f":"IF('DNSP Inputs General'!$B120='DNSP Inputs General'!$A$113,F$314,F$315)*'DNSP Inputs General'!$D120*'DNSP Inputs General'!S120","v":10857.512803381986},{"$f":"IF('DNSP Inputs General'!$B120='DNSP Inputs General'!$A$113,G$314,G$315)*'DNSP Inputs General'!$D120*'DNSP Inputs General'!T120","v":11355.626273739972},{"$f":"IF('DNSP Inputs General'!$B120='DNSP Inputs General'!$A$113,H$314,H$315)*'DNSP Inputs General'!$D120*'DNSP Inputs General'!U120","v":11843.691788018241},null,null,{"$f":"D355/'Charges Summary'!K$4","v":9509.8993679899941},{"$f":"E355/'Charges Summary'!L$4","v":9856.2904530944252},{"$f":"F355/'Charges Summary'!M$4","v":10119.46153715424},{"$f":"G355/'Charges Summary'!N$4","v":10338.253159466292},{"$f":"H355/'Charges Summary'!O$4","v":10532.517439178306}]
[{"$f":"'DNSP Inputs General'!A121","v":"Compact Fluorescent 42W"},null,null,{"$f":"IF('DNSP Inputs General'!$B121='DNSP Inputs General'!$A$113,D$314,D$315)*'DNSP Inputs General'!$D121*'DNSP Inputs General'!Q121","v":47807.914834070587},{"$f":"IF('DNSP Inputs General'!$B121='DNSP Inputs General'!$A$113,E$314,E$315)*'DNSP Inputs General'!$D121*'DNSP Inputs General'!R121","v":50725.735870127734},{"$f":"IF('DNSP Inputs General'!$B121='DNSP Inputs General'!$A$113,F$314,F$315)*'DNSP Inputs General'!$D121*'DNSP Inputs General'!S121","v":53316.698490527036},{"$f":"IF('DNSP Inputs General'!$B121='DNSP Inputs General'!$A$113,G$314,G$315)*'DNSP Inputs General'!$D121*'DNSP Inputs General'!T121","v":55762.725144520431},{"$f":"IF('DNSP Inputs General'!$B121='DNSP Inputs General'!$A$113,H$314,H$315)*'DNSP Inputs General'!$D121*'DNSP Inputs General'!U121","v":58159.41049406871},null,null,{"$f":"D356/'Charges Summary'!K$4","v":46699.133260099894},{"$f":"E356/'Charges Summary'!L$4","v":48400.114818101538},{"$f":"F356/'Charges Summary'!M$4","v":49692.43780167395},{"$f":"G356/'Charges Summary'!N$4","v":50766.831833742821},{"$f":"H356/'Charges Summary'!O$4","v":51720.78235781299}]
[]
["Total Capital Charge",null,null,{"$f":"SUM(D323:D356)","v":1496841.793644395},{"$f":"SUM(E323:E356)","v":1574926.9637678037},{"$f":"SUM(F323:F356)","v":1631283.2197035649},{"$f":"SUM(G323:G356)","v":1746775.6098785398},{"$f":"SUM(H323:H356)","v":1829520.432717181},null,null,{"$f":"SUM(K323:K356)","v":1462126.3996410707},{"$f":"SUM(L323:L356)","v":1502721.3419170012},{"$f":"SUM(M323:M356)","v":1520394.964936482},{"$f":"SUM(N323:N356)","v":1590278.5132570122},{"$f":"SUM(O323:O356)","v":1626980.5232875815}]
[]
["Check",null,{"$f":"SUM(D360:O360)","v":5.1222741603851318E-9},{"$f":"ABS(D248-SUM(D303,D358))","v":9.3132257461547852E-10},{"$f":"ABS(E248-SUM(E303,E358))","v":0},{"$f":"ABS(F248-SUM(F303,F358))","v":1.862645149230957E-9},{"$f":"ABS(G248-SUM(G303,G358))","v":9.3132257461547852E-10},{"$f":"ABS(H248-SUM(H303,H358))","v":9.3132257461547852E-10},null,null,{"$f":"ABS(K248-SUM(K303,K358))","v":4.6566128730773926E-10},{"$f":"ABS(L248-SUM(L303,L358))","v":0},{"$f":"ABS(M248-SUM(M303,M358))","v":0},{"$f":"ABS(N248-SUM(N303,N358))","v":0},{"$f":"ABS(O248-SUM(O303,O358))","v":0}]

{"sheet":"Charges Summary","index":10,"n_rows":185,"n_cols":15,"rows_kept":185,"cut":false,"hidden":false,"merged":[[1,3,1,7],[1,10,1,14]]}
[{"$f":"'DNSP Inputs O & M'!$A$3","v":"AusNet"},null,null,{"$f":"'DNSP Inputs General'!Q$2","v":"2022-06-30"},{"$f":"'DNSP Inputs General'!R$2","v":"2023-06-30"},{"$f":"'DNSP Inputs General'!S$2","v":"2024-06-30"},{"$f":"'DNSP Inputs General'!T$2","v":"2025-06-30"},{"$f":"'DNSP Inputs General'!U$2","v":"2026-06-30"},null,null,{"$f":"D1","v":"2022-06-30"},{"$f":"E1","v":"2023-06-30"},"2024-06-30","2025-06-30","2026-06-30"]
["Nominal $",null,null,{"$f":"'DNSP Inputs General'!$B$39","v":"Central"},null,null,null,null,null,null,{"$f":"'DNSP Inputs General'!$B$83","v":"North & East"}]
[]
[{"$f":"'Total RAB'!A20","v":"CPI Index"},null,null,{"$f":"(1+WACC!E6)","v":1.0237430867891084},{"$f":"D4*(1+WACC!F6)","v":1.0480499077484919},{"$f":"E4*(1+WACC!G6)","v":1.0729338476674815},{"$f":"F4*(1+WACC!H6)","v":1.0984086091316225},{"$f":"G4*(1+WACC!I6)","v":1.1244882200681385},null,null,{"$f":"D4","v":1.0237430867891084},{"$f":"E4","v":1.0480499077484919},1.0729338476674815,1.0984086091316225,1.1244882200681385]
[]
[{"$f":"'DNSP Inputs General'!$A$6","v":"Poles and Brackets"},null,null,{"$f":"D$1","v":"2022-06-30"},{"$f":"E$1","v":"2023-06-30"},"2024-06-30","2025-06-30","2026-06-30",null,null,{"$f":"K$1","v":"2022-06-30"},{"$f":"L$1","v":"2023-06-30"},"2024-06-30","2025-06-30","2026-06-30"]
["O & M"]
[{"$f":"'O & M 2022-2026'!A$10","v":"Dedicated poles - inspection"},null,null,{"$f":"'O & M 2022-2026'!$B$10*D$4","v":1.4217682753913246},{"$f":"'O & M 2022-2026'!$Y$10*E$4","v":1.4527473375379072},{"$f":"'O & M 2022-2026'!$AV$10*F$4","v":1.4864150949366566},{"$f":"'O & M 2022-2026'!$BS$10*G$4","v":1.5259746780422967},{"$f":"'O & M 2022-2026'!$CP$10*H$4","v":1.5741042891692851},null,null,{"$f":"'O & M 2022-2026'!$M$10*K$4","v":1.4283954568208264},{"$f":"'O & M 2022-2026'!$AJ$10*L$4","v":1.4595189193376485},{"$f":"'O & M 2022-2026'!$BG$10*M$4","v":1.4933436097194079},{"$f":"'O & M 2022-2026'!$CD$10*N$4","v":1.5330875889316811},{"$f":"'O & M 2022-2026'!$DA$10*O$4","v":1.5814415429917554}]
[]
["Capital Charge"]
["Depreciation and Return",null,null,{"$f":"'Depn & WACC Post 2004 Central'!H$84","v":10.758804639812624},{"$f":"'Depn & WACC Post 2004 Central'!H$137","v":11.234329570623686},{"$f":"'Depn & WACC Post 2004 Central'!H$190","v":11.690075424166579},{"$f":"'Depn & WACC Post 2004 Central'!H$243","v":12.12734711800875},{"$f":"'Depn & WACC Post 2004 Central'!H$296","v":12.538922919557676},null,null,{"$f":"'Depn & WACC Post 2004 N & E'!H$84","v":10.797873223493646},{"$f":"'Depn & WACC Post 2004 N & E'!H$137","v":11.27199326520415},{"$f":"'Depn & WACC Post 2004 N & E'!H$190","v":11.726176944873229},{"$f":"'Depn & WACC Post 2004 N & E'!H$243","v":12.162961953653662},{"$f":"'Depn & WACC Post 2004 N & E'!H$296","v":12.575141271433502}]
[]
["Total Charge",null,null,{"$f":"SUM(D8,D11)","v":12.180572915203948},{"$f":"SUM(E8,E11)","v":12.687076908161593},{"$f":"SUM(F8,F11)","v":13.176490519103236},{"$f":"SUM(G8,G11)","v":13.653321796051046},{"$f":"SUM(H8,H11)","v":14.113027208726962},null,null,{"$f":"SUM(K8,K11)","v":12.226268680314472},{"$f":"SUM(L8,L11)","v":12.731512184541799},{"$f":"SUM(M8,M11)","v":13.219520554592638},{"$f":"SUM(N8,N11)","v":13.696049542585342},{"$f":"SUM(O8,O11)","v":14.156582814425256}]
[]
[]
[]
[]
[{"$f":"'DNSP Inputs General'!$A$8","v":"Existing Lights"}]
[]
[{"$f":"'O & M 2022-2026'!$A$8","v":"MV80"},null,null,{"$f":"D$1","v":"2022-06-30"},{"$f":"E$1","v":"2023-06-30"},"2024-06-30","2025-06-30","2026-06-30",null,null,{"$f":"K$1","v":"2022-06-30"},{"$f":"L$1","v":"2023-06-30"},"2024-06-30","2025-06-30","2026-06-30"]
[]
["O & M Charge"]
[{"$f":"'O & M 2022-2026'!A$9","v":"Bulk change & repairs"},null,null,{"$f":"'O & M 2022-2026'!$B$9*D$4","v":22.175390382776758},{"$f":"'O & M 2022-2026'!$Y$9*E$4","v":22.673400384739107},{"$f":"'O & M 2022-2026'!$AV$9*F$4","v":23.203273264032898},{"$f":"'O & M 2022-2026'!$BS$9*G$4","v":23.79797339118161},{"$f":"'O & M 2022-2026'!$CP$9*H$4","v":24.485082001983997},null,null,{"$f":"'O & M 2022-2026'!$M$9*K$4","v":25.906804769611256},{"$f":"'O & M 2022-2026'!$AJ$9*L$4","v":26.48914623819018},{"$f":"'O & M 2022-2026'!$BG$9*M$4","v":27.108350573281889},{"$f":"'O & M 2022-2026'!$CD$9*N$4","v":27.802319038663022},{"$f":"'O & M 2022-2026'!$DA$9*O$4","v":28.602764597387939}]
[{"$f":"'O & M 2022-2026'!A$11","v":"Other costs"},null,null,{"$f":"'O & M 2022-2026'!$B$11*D$4","v":1.1819939989800707},{"$f":"'O & M 2022-2026'!$Y$11*E$4","v":1.2031572478973898},{"$f":"'O & M 2022-2026'!$AV$11*F$4","v":1.2246909604863621},{"$f":"'O & M 2022-2026'!$BS$11*G$4","v":1.2466444649927173},{"$f":"'O & M 2022-2026'!$CP$11*H$4","v":1.2680173072562093},null,null,{"$f":"'O & M 2022-2026'!$M$11*K$4","v":1.1819939989800707},{"$f":"'O & M 2022-2026'!$AJ$11*L$4","v":1.2031572478973898},{"$f":"'O & M 2022-2026'!$BG$11*M$4","v":1.2246909604863621},{"$f":"'O & M 2022-2026'!$CD$11*N$4","v":1.2466444649927173},{"$f":"'O & M 2022-2026'!$DA$11*O$4","v":1.2680173072562093}]
[null,null,null,{"$f":"SUM(D23:D24)","v":23.35738438175683},{"$f":"SUM(E23:E24)","v":23.876557632636498},{"$f":"SUM(F23:F24)","v":24.427964224519261},{"$f":"SUM(G23:G24)","v":25.044617856174327},{"$f":"SUM(H23:H24)","v":25.753099309240206},null,null,{"$f":"SUM(K23:K24)","v":27.088798768591328},{"$f":"SUM(L23:L24)","v":27.692303486087571},{"$f":"SUM(M23:M24)","v":28.333041533768252},{"$f":"SUM(N23:N24)","v":29.048963503655738},{"$f":"SUM(O23:O24)","v":29.870781904644147}]
["Capital Charge"]
["Depreciation and Return",null,null,{"$f":"'Depn & WACC Post 2004 Central'!H$40","v":16.673481650255376},{"$f":"'Depn & WACC Post 2004 Central'!H$93","v":17.03082139170132},{"$f":"'Depn & WACC Post 2004 Central'!H$146","v":12.135368214893843},{"$f":"'Depn & WACC Post 2004 Central'!H$199","v":13.313920505948332},{"$f":"'Depn & WACC Post 2004 Central'!H$252","v":13.699732945333269},null,null,{"$f":"'Depn & WACC Post 2004 N & E'!H$40","v":18.323472424284336},{"$f":"'Depn & WACC Post 2004 N & E'!H$93","v":18.716174142847443},{"$f":"'Depn & WACC Post 2004 N & E'!H$146","v":12.135368214893845},{"$f":"'Depn & WACC Post 2004 N & E'!H$199","v":13.31392050594833},{"$f":"'Depn & WACC Post 2004 N & E'!H$252","v":13.69973294533327}]
[]
["Poles & Brackets Charge",null,null,{"$f":"D$13","v":12.180572915203948},{"$f":"E$13","v":12.687076908161593},{"$f":"F$13","v":13.176490519103236},{"$f":"G$13","v":13.653321796051046},{"$f":"H$13","v":14.113027208726962},null,null,{"$f":"K$13","v":12.226268680314472},{"$f":"L$13","v":12.731512184541799},{"$f":"M$13","v":13.219520554592638},{"$f":"N$13","v":13.696049542585342},{"$f":"O$13","v":14.156582814425256}]
[]
["Total Charge",null,null,{"$f":"SUM(D25,D27,D29)","v":52.211438947216152},{"$f":"SUM(E25,E27,E29)","v":53.594455932499407},{"$f":"SUM(F25,F27,F29)","v":49.739822958516342},{"$f":"SUM(G25,G27,G29)","v":52.011860158173704},{"$f":"SUM(H25,H27,H29)","v":53.565859463300434},null,null,{"$f":"SUM(K25,K27,K29)","v":57.63853987319014},{"$f":"SUM(L25,L27,L29)","v":59.139989813476816},{"$f":"SUM(M25,M27,M29)","v":53.687930303254731},{"$f":"SUM(N25,N27,N29)","v":56.058933552189409},{"$f":"SUM(O25,O27,O29)","v":57.72709766440267}]
[]
["WDV RAB - MV 80 Luminaire"]
["RAB WDV",null,null,{"$f":"'Depn & WACC Post 2004 Central'!I$8","v":110.86258081721425},{"$f":"'Depn & WACC Post 2004 Central'!I$40","v":123.60125538896976},{"$f":"'Depn & WACC Post 2004 Central'!I$93","v":137.94478450126044},{"$f":"'Depn & WACC Post 2004 Central'!I$146","v":106.94250356679609},{"$f":"'Depn & WACC Post 2004 Central'!I$199","v":110.25078130361878},null,null,{"$f":"'Depn & WACC Post 2004 N & E'!I$8","v":121.83342898020975},{"$f":"'Depn & WACC Post 2004 N & E'!I$40","v":135.83270982230786},{"$f":"'Depn & WACC Post 2004 N & E'!I$93","v":151.59565997686977},{"$f":"'Depn & WACC Post 2004 N & E'!I$146","v":106.94250356679611},{"$f":"'Depn & WACC Post 2004 N & E'!I$199","v":110.25078130361877}]
[]
["Avoided Costs - MV 80 O & M"]
["Materials & labour - bulk lamp change",null,null,{"$f":"'O & M 2022-2026'!$G$9*D$4","v":-21.130123791237555},{"$f":"'O & M 2022-2026'!$AD$9*E$4","v":-21.601073094888413},{"$f":"'O & M 2022-2026'!$BA$9*F$4","v":-22.1048196098875},{"$f":"'O & M 2022-2026'!$BX$9*G$4","v":-22.676884330199375},{"$f":"'O & M 2022-2026'!$CU$9*H$4","v":-23.346980628800953},null,null,{"$f":"'O & M 2022-2026'!$R$9*K$4","v":-24.022869049320605},{"$f":"'O & M 2022-2026'!$AO$9*L$4","v":-24.55800793713831},{"$f":"'O & M 2022-2026'!$BL$9*M$4","v":-25.130626997128566},{"$f":"'O & M 2022-2026'!$CI$9*N$4","v":-25.781435688083747},{"$f":"'O & M 2022-2026'!$DF$9*O$4","v":-26.544487053501371}]
["Materials & Labour - repair of faults",null,null,{"$f":"'O & M 2022-2026'!$G$10*D$4","v":-3.5876252053013147},{"$f":"'O & M 2022-2026'!$AD$10*E$4","v":-3.6690918801735388},{"$f":"'O & M 2022-2026'!$BA$10*F$4","v":-3.7551044031412828},{"$f":"'O & M 2022-2026'!$BX$10*G$4","v":-3.8499682739228005},{"$f":"'O & M 2022-2026'!$CU$10*H$4","v":-3.9572876435933617},null,null,{"$f":"'O & M 2022-2026'!$R$10*K$4","v":-3.9556973554930206},{"$f":"'O & M 2022-2026'!$AO$10*L$4","v":-4.0453209471540843},{"$f":"'O & M 2022-2026'!$BL$10*M$4","v":-4.1400934117449602},{"$f":"'O & M 2022-2026'!$CI$10*N$4","v":-4.2449925186646738},{"$f":"'O & M 2022-2026'!$DF$10*O$4","v":-4.3641846933131196}]
[null,null,null,{"$f":"SUM(D37:D38)","v":-24.717748996538869},{"$f":"SUM(E37:E38)","v":-25.270164975061952},{"$f":"SUM(F37:F38)","v":-25.859924013028781},{"$f":"SUM(G37:G38)","v":-26.526852604122176},{"$f":"SUM(H37:H38)","v":-27.304268272394314},null,null,{"$f":"SUM(K37:K38)","v":-27.978566404813627},{"$f":"SUM(L37:L38)","v":-28.603328884292395},{"$f":"SUM(M37:M38)","v":-29.270720408873526},{"$f":"SUM(N37:N38)","v":-30.02642820674842},{"$f":"SUM(O37:O38)","v":-30.908671746814491}]
[]
[]
[]
[]
[{"$f":"'O & M 2022-2026'!$A$14","v":"S-HP 150"},null,null,{"$f":"D$1","v":"2022-06-30"},{"$f":"E$1","v":"2023-06-30"},"2024-06-30","2025-06-30","2026-06-30",null,null,{"$f":"K$1","v":"2022-06-30"},{"$f":"L$1","v":"2023-06-30"},"2024-06-30","2025-06-30","2026-06-30"]
[]
["O & M Charge"]
[{"$f":"'O & M 2022-2026'!A$15","v":"Patrols and repairs"},null,null,{"$f":"'O & M 2022-2026'!$B$15*D$4","v":69.625941305396367},{"$f":"'O & M 2022-2026'!$Y$15*E$4","v":71.160117799523775},{"$f":"'O & M 2022-2026'!$AV$15*F$4","v":72.814354407777699},{"$f":"'O & M 2022-2026'!$BS$15*G$4","v":74.725926007324716},{"$f":"'O & M 2022-2026'!$CP$15*H$4","v":77.009632869690847},null,null,{"$f":"'O & M 2022-2026'!$M$15*K$4","v":86.140780698282882},{"$f":"'O & M 2022-2026'!$AJ$15*L$4","v":88.036316936718862},{"$f":"'O & M 2022-2026'!$BG$15*M$4","v":90.082114454968576},{"$f":"'O & M 2022-2026'!$CD$15*N$4","v":92.450917047414222},{"$f":"'O & M 2022-2026'!$DA$15*O$4","v":95.287183214932611}]
[{"$f":"'O & M 2022-2026'!A$17","v":"Other costs"},null,null,{"$f":"'O & M 2022-2026'!$B$17*D$4","v":1.1819939989800707},{"$f":"'O & M 2022-2026'!$Y$17*E$4","v":1.2031572478973898},{"$f":"'O & M 2022-2026'!$AV$17*F$4","v":1.2246909604863621},{"$f":"'O & M 2022-2026'!$BS$17*G$4","v":1.2466444649927173},{"$f":"'O & M 2022-2026'!$CP$17*H$4","v":1.2680173072562093},null,null,{"$f":"'O & M 2022-2026'!$M$17*K$4","v":1.1819939989800707},{"$f":"'O & M 2022-2026'!$AJ$17*L$4","v":1.2031572478973898},{"$f":"'O & M 2022-2026'!$BG$17*M$4","v":1.2246909604863621},{"$f":"'O & M 2022-2026'!$CD$17*N$4","v":1.2466444649927173},{"$f":"'O & M 2022-2026'!$DA$17*O$4","v":1.2680173072562093}]
[null,null,null,{"$f":"SUM(D47:D48)","v":70.807935304376443},{"$f":"SUM(E47:E48)","v":72.363275047421169},{"$f":"SUM(F47:F48)","v":74.039045368264055},{"$f":"SUM(G47:G48)","v":75.972570472317429},{"$f":"SUM(H47:H48)","v":78.277650176947063},null,null,{"$f":"SUM(K47:K48)","v":87.322774697262957},{"$f":"SUM(L47:L48)","v":89.239474184616256},{"$f":"SUM(M47:M48)","v":91.306805415454932},{"$f":"SUM(N47:N48)","v":93.697561512406935},{"$f":"SUM(O47:O48)","v":96.555200522188827}]
["Capital Charge"]
["Depreciation and Return",null,null,{"$f":"'Depn & WACC Post 2004 Central'!H$41","v":20.062596325793727},{"$f":"'Depn & WACC Post 2004 Central'!H$94","v":20.492570288891212},{"$f":"'Depn & WACC Post 2004 Central'!H$147","v":24.30916249944546},{"$f":"'Depn & WACC Post 2004 Central'!H$200","v":26.669998911658759},{"$f":"'Depn & WACC Post 2004 Central'!H$253","v":27.442845447275641},null,null,{"$f":"'Depn & WACC Post 2004 N & E'!H$41","v":21.580195701434985},{"$f":"'Depn & WACC Post 2004 N & E'!H$94","v":22.042694279360102},{"$f":"'Depn & WACC Post 2004 N & E'!H$147","v":24.30916249944546},{"$f":"'Depn & WACC Post 2004 N & E'!H$200","v":26.669998911658759},{"$f":"'Depn & WACC Post 2004 N & E'!H$253","v":27.442845447275637}]
[]
["Poles & Brackets Charge",null,null,{"$f":"D$13","v":12.180572915203948},{"$f":"E$13","v":12.687076908161593},{"$f":"F$13","v":13.176490519103236},{"$f":"G$13","v":13.653321796051046},{"$f":"H$13","v":14.113027208726962},null,null,{"$f":"K$13","v":12.226268680314472},{"$f":"L$13","v":12.731512184541799},{"$f":"M$13","v":13.219520554592638},{"$f":"N$13","v":13.696049542585342},{"$f":"O$13","v":14.156582814425256}]
[]
["Total Charge",null,null,{"$f":"SUM(D49,D51,D53)","v":103.05110454537413},{"$f":"SUM(E49,E51,E53)","v":105.54292224447397},{"$f":"SUM(F49,F51,F53)","v":111.52469838681276},{"$f":"SUM(G49,G51,G53)","v":116.29589118002724},{"$f":"SUM(H49,H51,H53)","v":119.83352283294967},null,null,{"$f":"SUM(K49,K51,K53)","v":121.12923907901242},{"$f":"SUM(L49,L51,L53)","v":124.01368064851816},{"$f":"SUM(M49,M51,M53)","v":128.83548846949304},{"$f":"SUM(N49,N51,N53)","v":134.06360996665103},{"$f":"SUM(O49,O51,O53)","v":138.15462878388973}]
[]
[]
[]
[]
[{"$f":"'O & M 2022-2026'!$A$20","v":"S-HP 250"},null,null,{"$f":"D$1","v":"2022-06-30"},{"$f":"E$1","v":"2023-06-30"},"2024-06-30","2025-06-30","2026-06-30",null,null,{"$f":"K$1","v":"2022-06-30"},{"$f":"L$1","v":"2023-06-30"},"2024-06-30","2025-06-30","2026-06-30"]
[]
["O & M Charge"]
[{"$f":"'O & M 2022-2026'!A$21","v":"Patrols and repairs"},null,null,{"$f":"'O & M 2022-2026'!$B$21*D$4","v":70.966003950570652},{"$f":"'O & M 2022-2026'!$Y$21*E$4","v":72.530266719745626},{"$f":"'O & M 2022-2026'!$AV$21*F$4","v":74.216520893560698},{"$f":"'O & M 2022-2026'!$BS$21*G$4","v":76.16404319676424},{"$f":"'O & M 2022-2026'!$CP$21*H$4","v":78.489308826871095},null,null,{"$f":"'O & M 2022-2026'!$M$21*K$4","v":84.870250045426971},{"$f":"'O & M 2022-2026'!$AJ$21*L$4","v":86.8542229523608},{"$f":"'O & M 2022-2026'!$BG$21*M$4","v":88.872983146820928},{"$f":"'O & M 2022-2026'!$CD$21*N$4","v":91.2077529395563},{"$f":"'O & M 2022-2026'!$DA$21*O$4","v":93.999657845885878}]
[{"$f":"'O & M 2022-2026'!A$23","v":"Other costs"},null,null,{"$f":"'O & M 2022-2026'!$B$23*D$4","v":1.1819939989800707},{"$f":"'O & M 2022-2026'!$Y$23*E$4","v":1.2031572478973898},{"$f":"'O & M 2022-2026'!$AV$23*F$4","v":1.2246909604863621},{"$f":"'O & M 2022-2026'!$BS$23*G$4","v":1.2466444649927173},{"$f":"'O & M 2022-2026'!$CP$23*H$4","v":1.2680173072562093},null,null,{"$f":"'O & M 2022-2026'!$M$23*K$4","v":1.1819939989800707},{"$f":"'O & M 2022-2026'!$AJ$23*L$4","v":1.2031572478973898},{"$f":"'O & M 2022-2026'!$BG$23*M$4","v":1.2246909604863621},{"$f":"'O & M 2022-2026'!$CD$23*N$4","v":1.2466444649927173},{"$f":"'O & M 2022-2026'!$DA$23*O$4","v":1.2680173072562093}]
[null,null,null,{"$f":"SUM(D63:D64)","v":72.147997949550728},{"$f":"SUM(E63:E64)","v":73.73342396764302},{"$f":"SUM(F63:F64)","v":75.441211854047054},{"$f":"SUM(G63:G64)","v":77.410687661756953},{"$f":"SUM(H63:H64)","v":79.757326134127311},null,null,{"$f":"SUM(K63:K64)","v":86.052244044407047},{"$f":"SUM(L63:L64)","v":88.057380200258194},{"$f":"SUM(M63:M64)","v":90.097674107307284},{"$f":"SUM(N63:N64)","v":92.454397404549013},{"$f":"SUM(O63:O64)","v":95.267675153142093}]
["Capital Charge"]
["Depreciation and Return",null,null,{"$f":"'Depn & WACC Post 2004 Central'!H$42","v":20.465260294895284},{"$f":"'Depn & WACC Post 2004 Central'!H$95","v":20.903863999616416},{"$f":"'Depn & WACC Post 2004 Central'!H$148","v":24.943711920010301},{"$f":"'Depn & WACC Post 2004 Central'!H$201","v":27.366173959081475},{"$f":"'Depn & WACC Post 2004 Central'!H$254","v":28.159194341550229},null,null,{"$f":"'Depn & WACC Post 2004 N & E'!H$42","v":21.739164396202064},{"$f":"'Depn & WACC Post 2004 N & E'!H$95","v":22.205069930963052},{"$f":"'Depn & WACC Post 2004 N & E'!H$148","v":24.943711920010298},{"$f":"'Depn & WACC Post 2004 N & E'!H$201","v":27.366173959081475},{"$f":"'Depn & WACC Post 2004 N & E'!H$254","v":28.159194341550236}]
[]
["Poles & Brackets Charge",null,null,{"$f":"D$13","v":12.180572915203948},{"$f":"E$13","v":12.687076908161593},{"$f":"F$13","v":13.176490519103236},{"$f":"G$13","v":13.653321796051046},{"$f":"H$13","v":14.113027208726962},null,null,{"$f":"K$13","v":12.226268680314472},{"$f":"L$13","v":12.731512184541799},{"$f":"M$13","v":13.219520554592638},{"$f":"N$13","v":13.696049542585342},{"$f":"O$13","v":14.156582814425256}]
[]
["Total Charge",null,null,{"$f":"SUM(D65,D67,D69)","v":104.79383115964997},{"$f":"SUM(E65,E67,E69)","v":107.32436487542103},{"$f":"SUM(F65,F67,F69)","v":113.5614142931606},{"$f":"SUM(G65,G67,G69)","v":118.43018341688948},{"$f":"SUM(H65,H67,H69)","v":122.02954768440451},null,null,{"$f":"SUM(K65,K67,K69)","v":120.01767712092358},{"$f":"SUM(L65,L67,L69)","v":122.99396231576304},{"$f":"SUM(M65,M67,M69)","v":128.26090658191023},{"$f":"SUM(N65,N67,N69)","v":133.51662090621585},{"$f":"SUM(O65,O67,O69)","v":137.58345230911758}]
[]
[]
[]
[]
[{"$f":"'DNSP Inputs General'!$A$11","v":"Energy Efficient Lights"}]
[]
[{"$f":"'O & M 2022-2026'!$A$26","v":"T5 (2 X 14W)"},null,null,{"$f":"D$1","v":"2022-06-30"},{"$f":"E$1","v":"2023-06-30"},"2024-06-30","2025-06-30","2026-06-30",null,null,{"$f":"K$1","v":"2022-06-30"},{"$f":"L$1","v":"2023-06-30"},"2024-06-30","2025-06-30","2026-06-30"]
[]
["O & M Charge"]
[{"$f":"'O & M 2022-2026'!A$27","v":"Bulk change & repairs"},null,null,{"$f":"'O & M 2022-2026'!$B$27*D$4","v":26.802263582522432},{"$f":"'O & M 2022-2026'!$Y$27*E$4","v":27.399536671076579},{"$f":"'O & M 2022-2026'!$AV$27*F$4","v":28.03847701086282},{"$f":"'O & M 2022-2026'!$BS$27*G$4","v":28.764252162773534},{"$f":"'O & M 2022-2026'!$CP$27*H$4","v":29.614644702373095},null,null,{"$f":"'O & M 2022-2026'!$M$27*K$4","v":31.546951133197673},{"$f":"'O & M 2022-2026'!$AJ$27*L$4","v":32.25095348440599},{"$f":"'O & M 2022-2026'!$BG$27*M$4","v":33.00332224460454},{"$f":"'O & M 2022-2026'!$CD$27*N$4","v":33.856078524813313},{"$f":"'O & M 2022-2026'!$DA$27*O$4","v":34.852739594123136}]
[{"$f":"'O & M 2022-2026'!A$29","v":"Other costs"},null,null,{"$f":"'O & M 2022-2026'!$B$29*D$4","v":1.1819939989800707},{"$f":"'O & M 2022-2026'!$Y$29*E$4","v":1.2031572478973898},{"$f":"'O & M 2022-2026'!$AV$29*F$4","v":1.2246909604863621},{"$f":"'O & M 2022-2026'!$BS$29*G$4","v":1.2466444649927173},{"$f":"'O & M 2022-2026'!$CP$29*H$4","v":1.2680173072562093},null,null,{"$f":"'O & M 2022-2026'!$M$29*K$4","v":1.1819939989800707},{"$f":"'O & M 2022-2026'!$AJ$29*L$4","v":1.2031572478973898},{"$f":"'O & M 2022-2026'!$BG$29*M$4","v":1.2246909604863621},{"$f":"'O & M 2022-2026'!$CD$29*N$4","v":1.2466444649927173},{"$f":"'O & M 2022-2026'!$DA$29*O$4","v":1.2680173072562093}]
[null,null,null,{"$f":"SUM(D81:D82)","v":27.984257581502504},{"$f":"SUM(E81:E82)","v":28.602693918973969},{"$f":"SUM(F81:F82)","v":29.263167971349183},{"$f":"SUM(G81:G82)","v":30.01089662776625},{"$f":"SUM(H81:H82)","v":30.882662009629303},null,null,{"$f":"SUM(K81:K82)","v":32.728945132177742},{"$f":"SUM(L81:L82)","v":33.454110732303377},{"$f":"SUM(M81:M82)","v":34.228013205090903},{"$f":"SUM(N81:N82)","v":35.102722989806033},{"$f":"SUM(O81:O82)","v":36.120756901379345}]
["Capital Charge"]
["Depreciation and Return",null,null,{"$f":"'Depn & WACC Post 2004 Central'!$H$69","v":5.6972011559361224},{"$f":"'Depn & WACC Post 2004 Central'!$H$122","v":6.2298113843633889},{"$f":"'Depn & WACC Post 2004 Central'!$H$175","v":6.6695826342523583},{"$f":"'Depn & WACC Post 2004 Central'!$H$228","v":7.0767455728301103},{"$f":"'Depn & WACC Post 2004 Central'!$H$281","v":7.4914900655134433},null,null,{"$f":"'Depn & WACC Post 2004 N & E'!$H$69","v":5.6972011559361224},{"$f":"'Depn & WACC Post 2004 N & E'!$H$122","v":6.2298113843633889},{"$f":"'Depn & WACC Post 2004 N & E'!$H$175","v":6.6695826342523592},{"$f":"'Depn & WACC Post 2004 N & E'!$H$228","v":7.0767455728301085},{"$f":"'Depn & WACC Post 2004 N & E'!$H$281","v":7.4914900655134424}]
[]
["Poles & Brackets Charge",null,null,{"$f":"D$13","v":12.180572915203948},{"$f":"E$13","v":12.687076908161593},{"$f":"F$13","v":13.176490519103236},{"$f":"G$13","v":13.653321796051046},{"$f":"H$13","v":14.113027208726962},null,null,{"$f":"K$13","v":12.226268680314472},{"$f":"L$13","v":12.731512184541799},{"$f":"M$13","v":13.219520554592638},{"$f":"N$13","v":13.696049542585342},{"$f":"O$13","v":14.156582814425256}]
[]
["Total Charge",null,null,{"$f":"SUM(D83,D85,D87)","v":45.862031652642571},{"$f":"SUM(E83,E85,E87)","v":47.51958221149895},{"$f":"SUM(F83,F85,F87)","v":49.109241124704781},{"$f":"SUM(G83,G85,G87)","v":50.740963996647409},{"$f":"SUM(H83,H85,H87)","v":52.487179283869708},null,null,{"$f":"SUM(K83,K85,K87)","v":50.652414968428332},{"$f":"SUM(L83,L85,L87)","v":52.415434301208563},{"$f":"SUM(M83,M85,M87)","v":54.117116393935902},{"$f":"SUM(N83,N85,N87)","v":55.875518105221481},{"$f":"SUM(O83,O85,O87)","v":57.76882978131804}]
[]
[]
[]
[]
[{"$f":"'O & M 2022-2026'!$A$32","v":"T5 (2 X 24W)"},null,null,{"$f":"D$1","v":"2022-06-30"},{"$f":"E$1","v":"2023-06-30"},"2024-06-30","2025-06-30","2026-06-30",null,null,{"$f":"K$1","v":"2022-06-30"},{"$f":"L$1","v":"2023-06-30"},"2024-06-30","2025-06-30","2026-06-30"]
[]
["O & M Charge"]
[{"$f":"'O & M 2022-2026'!A$33","v":"Bulk change & repairs"},null,null,{"$f":"'O & M 2022-2026'!$B$33*D$4","v":29.715327245393681},{"$f":"'O & M 2022-2026'!$Y$33*E$4","v":30.376961541788035},{"$f":"'O & M 2022-2026'!$AV$33*F$4","v":31.085168632714076},{"$f":"'O & M 2022-2026'!$BS$33*G$4","v":31.890661034137164},{"$f":"'O & M 2022-2026'!$CP$33*H$4","v":32.835858712445742},null,null,{"$f":"'O & M 2022-2026'!$M$33*K$4","v":34.900180090473697},{"$f":"'O & M 2022-2026'!$AJ$33*L$4","v":35.678292482690914},{"$f":"'O & M 2022-2026'!$BG$33*M$4","v":36.51040187302069},{"$f":"'O & M 2022-2026'!$CD$33*N$4","v":37.454884866894758},{"$f":"'O & M 2022-2026'!$DA$33*O$4","v":38.560574035698011}]
[{"$f":"'O & M 2022-2026'!A$35","v":"Other costs"},null,null,{"$f":"'O & M 2022-2026'!$B$35*D$4","v":1.1819939989800707},{"$f":"'O & M 2022-2026'!$Y$35*E$4","v":1.2031572478973898},{"$f":"'O & M 2022-2026'!$AV$35*F$4","v":1.2246909604863621},{"$f":"'O & M 2022-2026'!$BS$35*G$4","v":1.2466444649927173},{"$f":"'O & M 2022-2026'!$CP$35*H$4","v":1.2680173072562093},null,null,{"$f":"'O & M 2022-2026'!$M$35*K$4","v":1.1819939989800707},{"$f":"'O & M 2022-2026'!$AJ$35*L$4","v":1.2031572478973898},{"$f":"'O & M 2022-2026'!$BG$35*M$4","v":1.2246909604863621},{"$f":"'O & M 2022-2026'!$CD$35*N$4","v":1.2466444649927173},{"$f":"'O & M 2022-2026'!$DA$35*O$4","v":1.2680173072562093}]
[null,null,null,{"$f":"SUM(D97:D98)","v":30.897321244373753},{"$f":"SUM(E97:E98)","v":31.580118789685425},{"$f":"SUM(F97:F98)","v":32.309859593200436},{"$f":"SUM(G97:G98)","v":33.13730549912988},{"$f":"SUM(H97:H98)","v":34.10387601970195},null,null,{"$f":"SUM(K97:K98)","v":36.082174089453765},{"$f":"SUM(L97:L98)","v":36.881449730588301},{"$f":"SUM(M97:M98)","v":37.735092833507053},{"$f":"SUM(N97:N98)","v":38.701529331887478},{"$f":"SUM(O97:O98)","v":39.828591342954219}]
["Capital Charge"]
["Depreciation and Return",null,null,{"$f":"'Depn & WACC Post 2004 Central'!$H$70","v":5.85151677046413},{"$f":"'Depn & WACC Post 2004 Central'!$H$123","v":6.3985533939675152},{"$f":"'Depn & WACC Post 2004 Central'!$H$176","v":6.8502363824138746},{"$f":"'Depn & WACC Post 2004 Central'!$H$229","v":7.2684278238230871},{"$f":"'Depn & WACC Post 2004 Central'!$H$282","v":7.6944061749412498},null,null,{"$f":"'Depn & WACC Post 2004 N & E'!$H$70","v":5.85151677046413},{"$f":"'Depn & WACC Post 2004 N & E'!$H$123","v":6.3985533939675152},{"$f":"'Depn & WACC Post 2004 N & E'!$H$176","v":6.8502363824138746},{"$f":"'Depn & WACC Post 2004 N & E'!$H$229","v":7.2684278238230871},{"$f":"'Depn & WACC Post 2004 N & E'!$H$282","v":7.6944061749412507}]
[]
["Poles & Brackets Charge",null,null,{"$f":"D$13","v":12.180572915203948},{"$f":"E$13","v":12.687076908161593},{"$f":"F$13","v":13.176490519103236},{"$f":"G$13","v":13.653321796051046},{"$f":"H$13","v":14.113027208726962},null,null,{"$f":"K$13","v":12.226268680314472},{"$f":"L$13","v":12.731512184541799},{"$f":"M$13","v":13.219520554592638},{"$f":"N$13","v":13.696049542585342},{"$f":"O$13","v":14.156582814425256}]
[]
["Total Charge",null,null,{"$f":"SUM(D99,D101,D103)","v":48.929410930041833},{"$f":"SUM(E99,E101,E103)","v":50.665749091814533},{"$f":"SUM(F99,F101,F103)","v":52.336586494717551},{"$f":"SUM(G99,G101,G103)","v":54.059055119004015},{"$f":"SUM(H99,H101,H103)","v":55.911309403370161},null,null,{"$f":"SUM(K99,K101,K103)","v":54.159959540232364},{"$f":"SUM(L99,L101,L103)","v":56.011515309097618},{"$f":"SUM(M99,M101,M103)","v":57.80484977051357},{"$f":"SUM(N99,N101,N103)","v":59.666006698295909},{"$f":"SUM(O99,O101,O103)","v":61.679580332320725}]
[]
[]
[]
[]
[{"$f":"'O & M 2022-2026'!$A$38","v":"LED 18W"},null,null,{"$f":"D$1","v":"2022-06-30"},{"$f":"E$1","v":"2023-06-30"},"2024-06-30","2025-06-30","2026-06-30",null,null,{"$f":"K$1","v":"2022-06-30"},{"$f":"L$1","v":"2023-06-30"},"2024-06-30","2025-06-30","2026-06-30"]
[]
["O & M Charge"]
[{"$f":"'O & M 2022-2026'!A$33","v":"Bulk change & repairs"},null,null,{"$f":"'O & M 2022-2026'!$B$39*D$4","v":8.9192885992404332},{"$f":"'O & M 2022-2026'!$Y$39*E$4","v":9.1205606113067343},{"$f":"'O & M 2022-2026'!$AV$39*F$4","v":9.3339931039521975},{"$f":"'O & M 2022-2026'!$BS$39*G$4","v":9.5717392881199626},{"$f":"'O & M 2022-2026'!$CP$39*H$4","v":9.8439696147410682},null,null,{"$f":"'O & M 2022-2026'!$M$39*K$4","v":11.002697802496817},{"$f":"'O & M 2022-2026'!$AJ$39*L$4","v":11.251740096659368},{"$f":"'O & M 2022-2026'!$BG$39*M$4","v":11.515269663335037},{"$f":"'O & M 2022-2026'!$CD$39*N$4","v":11.807411779373977},{"$f":"'O & M 2022-2026'!$DA$39*O$4","v":12.139988831946429}]
[{"$f":"'O & M 2022-2026'!A$35","v":"Other costs"},null,null,{"$f":"'O & M 2022-2026'!$B$41*D$4","v":1.1819939989800707},{"$f":"'O & M 2022-2026'!$Y$41*E$4","v":1.2031572478973898},{"$f":"'O & M 2022-2026'!$AV$41*F$4","v":1.2246909604863621},{"$f":"'O & M 2022-2026'!$BS$41*G$4","v":1.2466444649927173},{"$f":"'O & M 2022-2026'!$CP$41*H$4","v":1.2680173072562093},null,null,{"$f":"'O & M 2022-2026'!$M$41*K$4","v":1.1819939989800707},{"$f":"'O & M 2022-2026'!$AJ$41*L$4","v":1.2031572478973898},{"$f":"'O & M 2022-2026'!$BG$41*M$4","v":1.2246909604863621},{"$f":"'O & M 2022-2026'!$CD$41*N$4","v":1.2466444649927173},{"$f":"'O & M 2022-2026'!$DA$41*O$4","v":1.2680173072562093}]
[null,null,null,{"$f":"SUM(D113:D114)","v":10.101282598220504},{"$f":"SUM(E113:E114)","v":10.323717859204123},{"$f":"SUM(F113:F114)","v":10.558684064438559},{"$f":"SUM(G113:G114)","v":10.818383753112681},{"$f":"SUM(H113:H114)","v":11.111986921997278},null,null,{"$f":"SUM(K113:K114)","v":12.184691801476887},{"$f":"SUM(L113:L114)","v":12.454897344556759},{"$f":"SUM(M113:M114)","v":12.739960623821398},{"$f":"SUM(N113:N114)","v":13.054056244366695},{"$f":"SUM(O113:O114)","v":13.408006139202637}]
["Capital Charge"]
["Depreciation and Return",null,null,{"$f":"'Depn & WACC Post 2004 Central'!$H$71","v":4.487191628119354},{"$f":"'Depn & WACC Post 2004 Central'!$H$124","v":4.9066825487724559},{"$f":"'Depn & WACC Post 2004 Central'!$H$177","v":5.2530522515050482},{"$f":"'Depn & WACC Post 2004 Central'!$H$230","v":5.5737392132709855},{"$f":"'Depn & WACC Post 2004 Central'!$H$283","v":5.9003975081844775},null,null,{"$f":"'Depn & WACC Post 2004 N & E'!$H$71","v":4.4871916281193531},{"$f":"'Depn & WACC Post 2004 N & E'!$H$124","v":4.9066825487724559},{"$f":"'Depn & WACC Post 2004 N & E'!$H$177","v":5.2530522515050473},{"$f":"'Depn & WACC Post 2004 N & E'!$H$230","v":5.5737392132709873},{"$f":"'Depn & WACC Post 2004 N & E'!$H$283","v":5.9003975081844775}]
[]
["Poles & Brackets Charge",null,null,{"$f":"D$13","v":12.180572915203948},{"$f":"E$13","v":12.687076908161593},{"$f":"F$13","v":13.176490519103236},{"$f":"G$13","v":13.653321796051046},{"$f":"H$13","v":14.113027208726962},null,null,{"$f":"K$13","v":12.226268680314472},{"$f":"L$13","v":12.731512184541799},{"$f":"M$13","v":13.219520554592638},{"$f":"N$13","v":13.696049542585342},{"$f":"O$13","v":14.156582814425256}]
[]
["Total Charge",null,null,{"$f":"SUM(D115,D117,D119)","v":26.769047141543808},{"$f":"SUM(E115,E117,E119)","v":27.917477316138172},{"$f":"SUM(F115,F117,F119)","v":28.988226835046845},{"$f":"SUM(G115,G117,G119)","v":30.045444762434713},{"$f":"SUM(H115,H117,H119)","v":31.125411638908716},null,null,{"$f":"SUM(K115,K117,K119)","v":28.898152109910715},{"$f":"SUM(L115,L117,L119)","v":30.093092077871013},{"$f":"SUM(M115,M117,M119)","v":31.212533429919084},{"$f":"SUM(N115,N117,N119)","v":32.323845000223024},{"$f":"SUM(O115,O117,O119)","v":33.464986461812373}]
[]
[]
[]
[]
[{"$f":"'O & M 2022-2026'!A44","v":"LED 14W"},null,null,{"$f":"D$1","v":"2022-06-30"},{"$f":"E$1","v":"2023-06-30"},"2024-06-30","2025-06-30","2026-06-30",null,null,{"$f":"K$1","v":"2022-06-30"},{"$f":"L$1","v":"2023-06-30"},"2024-06-30","2025-06-30","2026-06-30"]
[]
["O & M Charge"]
[{"$f":"'O & M 2022-2026'!A$33","v":"Bulk change & repairs"},null,null,{"$f":"'O & M 2022-2026'!$B$45*D$4","v":10.104734114163485},{"$f":"'O & M 2022-2026'!$Y$45*E$4","v":10.33168273861865},{"$f":"'O & M 2022-2026'!$AV$45*F$4","v":10.573137692691569},{"$f":"'O & M 2022-2026'!$BS$45*G$4","v":10.844098476119512},{"$f":"'O & M 2022-2026'!$CP$45*H$4","v":11.157115182721068},null,null,{"$f":"'O & M 2022-2026'!$M$45*K$4","v":12.117885710875061},{"$f":"'O & M 2022-2026'!$AJ$45*L$4","v":12.391147337118163},{"$f":"'O & M 2022-2026'!$BG$45*M$4","v":12.681059244247201},{"$f":"'O & M 2022-2026'!$CD$45*N$4","v":13.004350391248538},{"$f":"'O & M 2022-2026'!$DA$45*O$4","v":13.375020054388512}]
[{"$f":"'O & M 2022-2026'!A$35","v":"Other costs"},null,null,{"$f":"'O & M 2022-2026'!$B$47*D$4","v":1.1819939989800707},{"$f":"'O & M 2022-2026'!$Y$47*E$4","v":1.2031572478973898},{"$f":"'O & M 2022-2026'!$AV$47*F$4","v":1.2246909604863621},{"$f":"'O & M 2022-2026'!$BS$47*G$4","v":1.2466444649927173},{"$f":"'O & M 2022-2026'!$CP$47*H$4","v":1.2680173072562093},null,null,{"$f":"'O & M 2022-2026'!$M$47*K$4","v":1.1819939989800707},{"$f":"'O & M 2022-2026'!$AJ$47*L$4","v":1.2031572478973898},{"$f":"'O & M 2022-2026'!$BG$47*M$4","v":1.2246909604863621},{"$f":"'O & M 2022-2026'!$CD$47*N$4","v":1.2466444649927173},{"$f":"'O & M 2022-2026'!$DA$47*O$4","v":1.2680173072562093}]
[null,null,null,{"$f":"SUM(D129:D130)","v":11.286728113143555},{"$f":"SUM(E129:E130)","v":11.53483998651604},{"$f":"SUM(F129:F130)","v":11.79782865317793},{"$f":"SUM(G129:G130)","v":12.09074294111223},{"$f":"SUM(H129:H130)","v":12.425132489977276},null,null,{"$f":"SUM(K129:K130)","v":13.299879709855132},{"$f":"SUM(L129:L130)","v":13.594304585015553},{"$f":"SUM(M129:M130)","v":13.905750204733563},{"$f":"SUM(N129:N130)","v":14.250994856241256},{"$f":"SUM(O129:O130)","v":14.643037361644723}]
["Capital Charge"]
["Depreciation and Return",null,null,{"$f":"'Depn & WACC Post 2004 Central'!$H$72","v":4.4871916281193531},{"$f":"'Depn & WACC Post 2004 Central'!$H$125","v":4.9066825487724559},{"$f":"'Depn & WACC Post 2004 Central'!$H$178","v":5.2530522515050473},{"$f":"'Depn & WACC Post 2004 Central'!$H$231","v":5.5737392132709873},{"$f":"'Depn & WACC Post 2004 Central'!$H$284","v":5.9003975081844775},null,null,{"$f":"'Depn & WACC Post 2004 N & E'!$H$72","v":4.4871916281193531},{"$f":"'Depn & WACC Post 2004 N & E'!$H$125","v":4.9066825487724559},{"$f":"'Depn & WACC Post 2004 N & E'!$H$178","v":5.2530522515050473},{"$f":"'Depn & WACC Post 2004 N & E'!$H$231","v":5.5737392132709873},{"$f":"'Depn & WACC Post 2004 N & E'!$H$284","v":5.9003975081844766}]
[]
["Poles & Brackets Charge",null,null,{"$f":"D$13","v":12.180572915203948},{"$f":"E$13","v":12.687076908161593},{"$f":"F$13","v":13.176490519103236},{"$f":"G$13","v":13.653321796051046},{"$f":"H$13","v":14.113027208726962},null,null,{"$f":"K$13","v":12.226268680314472},{"$f":"L$13","v":12.731512184541799},{"$f":"M$13","v":13.219520554592638},{"$f":"N$13","v":13.696049542585342},{"$f":"O$13","v":14.156582814425256}]
[]
["Total Charge",null,null,{"$f":"SUM(D131,D133,D135)","v":27.954492656466854},{"$f":"SUM(E131,E133,E135)","v":29.128599443450089},{"$f":"SUM(F131,F133,F135)","v":30.227371423786213},{"$f":"SUM(G131,G133,G135)","v":31.317803950434264},{"$f":"SUM(H131,H133,H135)","v":32.438557206888717},null,null,{"$f":"SUM(K131,K133,K135)","v":30.013340018288957},{"$f":"SUM(L131,L133,L135)","v":31.232499318329808},{"$f":"SUM(M131,M133,M135)","v":32.378323010831252},{"$f":"SUM(N131,N133,N135)","v":33.520783612097588},{"$f":"SUM(O131,O133,O135)","v":34.700017684254455}]
[]
[]
[]
[]
[{"$f":"'O & M 2022-2026'!A50","v":"LED 70W (L1)"},null,null,{"$f":"D$1","v":"2022-06-30"},{"$f":"E$1","v":"2023-06-30"},"2024-06-30","2025-06-30","2026-06-30",null,null,{"$f":"K$1","v":"2022-06-30"},{"$f":"L$1","v":"2023-06-30"},"2024-06-30","2025-06-30","2026-06-30"]
[]
["O & M Charge"]
[{"$f":"'O & M 2022-2026'!A$33","v":"Bulk change & repairs"},null,null,{"$f":"'O & M 2022-2026'!$B$51*D$4","v":14.393009650883487},{"$f":"'O & M 2022-2026'!$Y$51*E$4","v":14.710683892757542},{"$f":"'O & M 2022-2026'!$AV$51*F$4","v":15.052816334097903},{"$f":"'O & M 2022-2026'!$BS$51*G$4","v":15.447176043496054},{"$f":"'O & M 2022-2026'!$CP$51*H$4","v":15.916986524565509},null,null,{"$f":"'O & M 2022-2026'!$M$51*K$4","v":19.276850306651632},{"$f":"'O & M 2022-2026'!$AJ$51*L$4","v":19.703126949765068},{"$f":"'O & M 2022-2026'!$BG$51*M$4","v":20.16161134304409},{"$f":"'O & M 2022-2026'!$CD$51*N$4","v":20.688567849791443},{"$f":"'O & M 2022-2026'!$DA$51*O$4","v":21.314325873659254}]
[{"$f":"'O & M 2022-2026'!A$35","v":"Other costs"},null,null,{"$f":"'O & M 2022-2026'!$B$53*D$4","v":1.1819939989800707},{"$f":"'O & M 2022-2026'!$Y$53*E$4","v":1.2031572478973898},{"$f":"'O & M 2022-2026'!$AV$53*F$4","v":1.2246909604863621},{"$f":"'O & M 2022-2026'!$BS$53*G$4","v":1.2466444649927173},{"$f":"'O & M 2022-2026'!$CP$53*H$4","v":1.2680173072562093},null,null,{"$f":"'O & M 2022-2026'!$M$53*K$4","v":1.1819939989800707},{"$f":"'O & M 2022-2026'!$AJ$53*L$4","v":1.2031572478973898},{"$f":"'O & M 2022-2026'!$BG$53*M$4","v":1.2246909604863621},{"$f":"'O & M 2022-2026'!$CD$53*N$4","v":1.2466444649927173},{"$f":"'O & M 2022-2026'!$DA$53*O$4","v":1.2680173072562093}]
[null,null,null,{"$f":"SUM(D145:D146)","v":15.575003649863557},{"$f":"SUM(E145:E146)","v":15.913841140654931},{"$f":"SUM(F145:F146)","v":16.277507294584264},{"$f":"SUM(G145:G146)","v":16.69382050848877},{"$f":"SUM(H145:H146)","v":17.185003831821717},null,null,{"$f":"SUM(K145:K146)","v":20.458844305631704},{"$f":"SUM(L145:L146)","v":20.906284197662458},{"$f":"SUM(M145:M146)","v":21.386302303530453},{"$f":"SUM(N145:N146)","v":21.93521231478416},{"$f":"SUM(O145:O146)","v":22.582343180915462}]
["Capital Charge"]
["Depreciation and Return",null,null,{"$f":"'Depn & WACC Post 2004 Central'!$H$73","v":8.7992733390438058},{"$f":"'Depn & WACC Post 2004 Central'!$H$126","v":9.6218848029586699},{"$f":"'Depn & WACC Post 2004 Central'!$H$179","v":10.301107341975753},{"$f":"'Depn & WACC Post 2004 Central'!$H$232","v":10.929966652365547},{"$f":"'Depn & WACC Post 2004 Central'!$H$285","v":11.570535601415413},null,null,{"$f":"'Depn & WACC Post 2004 N & E'!$H$73","v":8.799273339043804},{"$f":"'Depn & WACC Post 2004 N & E'!$H$126","v":9.6218848029586699},{"$f":"'Depn & WACC Post 2004 N & E'!$H$179","v":10.301107341975751},{"$f":"'Depn & WACC Post 2004 N & E'!$H$232","v":10.929966652365543},{"$f":"'Depn & WACC Post 2004 N & E'!$H$285","v":11.570535601415411}]
[]
["Poles & Brackets Charge",null,null,{"$f":"D$13","v":12.180572915203948},{"$f":"E$13","v":12.687076908161593},{"$f":"F$13","v":13.176490519103236},{"$f":"G$13","v":13.653321796051046},{"$f":"H$13","v":14.113027208726962},null,null,{"$f":"K$13","v":12.226268680314472},{"$f":"L$13","v":12.731512184541799},{"$f":"M$13","v":13.219520554592638},{"$f":"N$13","v":13.696049542585342},{"$f":"O$13","v":14.156582814425256}]
[]
["Total Charge",null,null,{"$f":"SUM(D147,D149,D151)","v":36.554849904111308},{"$f":"SUM(E147,E149,E151)","v":38.222802851775192},{"$f":"SUM(F147,F149,F151)","v":39.755105155663259},{"$f":"SUM(G147,G149,G151)","v":41.277108956905366},{"$f":"SUM(H147,H149,H151)","v":42.868566641964094},null,null,{"$f":"SUM(K147,K149,K151)","v":41.484386324989984},{"$f":"SUM(L147,L149,L151)","v":43.259681185162925},{"$f":"SUM(M147,M149,M151)","v":44.906930200098842},{"$f":"SUM(N147,N149,N151)","v":46.561228509735045},{"$f":"SUM(O147,O149,O151)","v":48.30946159675613}]
[]
[]
[]
[]
[{"$f":"'O & M 2022-2026'!A56","v":"LED 155W (L2)"},null,null,{"$f":"D$1","v":"2022-06-30"},{"$f":"E$1","v":"2023-06-30"},"2024-06-30","2025-06-30","2026-06-30",null,null,{"$f":"K$1","v":"2022-06-30"},{"$f":"L$1","v":"2023-06-30"},"2024-06-30","2025-06-30","2026-06-30"]
[]
["O & M Charge"]
[{"$f":"'O & M 2022-2026'!A$33","v":"Bulk change & repairs"},null,null,{"$f":"'O & M 2022-2026'!$B$57*D$4","v":14.393009650883487},{"$f":"'O & M 2022-2026'!$Y$57*E$4","v":14.710683892757542},{"$f":"'O & M 2022-2026'!$AV$57*F$4","v":15.052816334097903},{"$f":"'O & M 2022-2026'!$BS$57*G$4","v":15.447176043496054},{"$f":"'O & M 2022-2026'!$CP$57*H$4","v":15.916986524565509},null,null,{"$f":"'O & M 2022-2026'!$M$57*K$4","v":19.276850306651632},{"$f":"'O & M 2022-2026'!$AJ$57*L$4","v":19.703126949765068},{"$f":"'O & M 2022-2026'!$BG$57*M$4","v":20.16161134304409},{"$f":"'O & M 2022-2026'!$CD$57*N$4","v":20.688567849791443},{"$f":"'O & M 2022-2026'!$DA$57*O$4","v":21.314325873659254}]
[{"$f":"'O & M 2022-2026'!A$35","v":"Other costs"},null,null,{"$f":"'O & M 2022-2026'!$B$59*D$4","v":1.1819939989800707},{"$f":"'O & M 2022-2026'!$Y$59*E$4","v":1.2031572478973898},{"$f":"'O & M 2022-2026'!$AV$59*F$4","v":1.2246909604863621},{"$f":"'O & M 2022-2026'!$BS$59*G$4","v":1.2466444649927173},{"$f":"'O & M 2022-2026'!$CP$59*H$4","v":1.2680173072562093},null,null,{"$f":"'O & M 2022-2026'!$M$59*K$4","v":1.1819939989800707},{"$f":"'O & M 2022-2026'!$AJ$59*L$4","v":1.2031572478973898},{"$f":"'O & M 2022-2026'!$BG$59*M$4","v":1.2246909604863621},{"$f":"'O & M 2022-2026'!$CD$59*N$4","v":1.2466444649927173},{"$f":"'O & M 2022-2026'!$DA$59*O$4","v":1.2680173072562093}]
[null,null,null,{"$f":"SUM(D161:D162)","v":15.575003649863557},{"$f":"SUM(E161:E162)","v":15.913841140654931},{"$f":"SUM(F161:F162)","v":16.277507294584264},{"$f":"SUM(G161:G162)","v":16.69382050848877},{"$f":"SUM(H161:H162)","v":17.185003831821717},null,null,{"$f":"SUM(K161:K162)","v":20.458844305631704},{"$f":"SUM(L161:L162)","v":20.906284197662458},{"$f":"SUM(M161:M162)","v":21.386302303530453},{"$f":"SUM(N161:N162)","v":21.93521231478416},{"$f":"SUM(O161:O162)","v":22.582343180915462}]
["Capital Charge"]
["Depreciation and Return",null,null,{"$f":"'Depn & WACC Post 2004 Central'!$H$74","v":9.3464918302778717},{"$f":"'Depn & WACC Post 2004 Central'!$H$127","v":10.220260723540678},{"$f":"'Depn & WACC Post 2004 Central'!$H$180","v":10.941723470208075},{"$f":"'Depn & WACC Post 2004 Central'!$H$233","v":11.609690946666884},{"$f":"'Depn & WACC Post 2004 Central'!$H$286","v":12.290096273145229},null,null,{"$f":"'Depn & WACC Post 2004 N & E'!$H$74","v":9.3464918302778734},{"$f":"'Depn & WACC Post 2004 N & E'!$H$127","v":10.220260723540676},{"$f":"'Depn & WACC Post 2004 N & E'!$H$180","v":10.941723470208073},{"$f":"'Depn & WACC Post 2004 N & E'!$H$233","v":11.609690946666886},{"$f":"'Depn & WACC Post 2004 N & E'!$H$286","v":12.290096273145226}]
[]
["Poles & Brackets Charge",null,null,{"$f":"D$13","v":12.180572915203948},{"$f":"E$13","v":12.687076908161593},{"$f":"F$13","v":13.176490519103236},{"$f":"G$13","v":13.653321796051046},{"$f":"H$13","v":14.113027208726962},null,null,{"$f":"K$13","v":12.226268680314472},{"$f":"L$13","v":12.731512184541799},{"$f":"M$13","v":13.219520554592638},{"$f":"N$13","v":13.696049542585342},{"$f":"O$13","v":14.156582814425256}]
[]
["Total Charge",null,null,{"$f":"SUM(D163,D165,D167)","v":37.102068395345377},{"$f":"SUM(E163,E165,E167)","v":38.8211787723572},{"$f":"SUM(F163,F165,F167)","v":40.395721283895575},{"$f":"SUM(G163,G165,G167)","v":41.956833251206703},{"$f":"SUM(H163,H165,H167)","v":43.58812731369391},null,null,{"$f":"SUM(K163,K165,K167)","v":42.031604816224046},{"$f":"SUM(L163,L165,L167)","v":43.858057105744933},{"$f":"SUM(M163,M165,M167)","v":45.547546328331165},{"$f":"SUM(N163,N165,N167)","v":47.24095280403639},{"$f":"SUM(O163,O165,O167)","v":49.029022268485946}]
[]
[]
[]
[]
[{"$f":"'O & M 2022-2026'!A62","v":"LED 275W (L4)"},null,null,{"$f":"D$1","v":"2022-06-30"},{"$f":"E$1","v":"2023-06-30"},"2024-06-30","2025-06-30","2026-06-30",null,null,{"$f":"K$1","v":"2022-06-30"},{"$f":"L$1","v":"2023-06-30"},"2024-06-30","2025-06-30","2026-06-30"]
[]
["O & M Charge"]
[{"$f":"'O & M 2022-2026'!A$33","v":"Bulk change & repairs"},null,null,{"$f":"'O & M 2022-2026'!$B$63*D$4","v":23.274242176560268},{"$f":"'O & M 2022-2026'!$Y$63*E$4","v":23.784299353850926},{"$f":"'O & M 2022-2026'!$AV$63*F$4","v":24.336378396294279},{"$f":"'O & M 2022-2026'!$BS$63*G$4","v":24.97955359180342},{"$f":"'O & M 2022-2026'!$CP$63*H$4","v":25.754860715978893},null,null,{"$f":"'O & M 2022-2026'!$M$63*K$4","v":30.786053671899055},{"$f":"'O & M 2022-2026'!$AJ$63*L$4","v":31.462405337515449},{"$f":"'O & M 2022-2026'!$BG$63*M$4","v":32.193205407815768},{"$f":"'O & M 2022-2026'!$CD$63*N$4","v":33.041450147638784},{"$f":"'O & M 2022-2026'!$DA$63*O$4","v":34.059819145507205}]
[{"$f":"'O & M 2022-2026'!A$35","v":"Other costs"},null,null,{"$f":"'O & M 2022-2026'!$B$65*D$4","v":1.1819939989800707},{"$f":"'O & M 2022-2026'!$Y$65*E$4","v":1.2031572478973898},{"$f":"'O & M 2022-2026'!$AV$65*F$4","v":1.2246909604863621},{"$f":"'O & M 2022-2026'!$BS$65*G$4","v":1.2466444649927173},{"$f":"'O & M 2022-2026'!$CP$65*H$4","v":1.2680173072562093},null,null,{"$f":"'O & M 2022-2026'!$M$65*K$4","v":1.1819939989800707},{"$f":"'O & M 2022-2026'!$AJ$65*L$4","v":1.2031572478973898},{"$f":"'O & M 2022-2026'!$BG$65*M$4","v":1.2246909604863621},{"$f":"'O & M 2022-2026'!$CD$65*N$4","v":1.2466444649927173},{"$f":"'O & M 2022-2026'!$DA$65*O$4","v":1.2680173072562093}]
[null,null,null,{"$f":"SUM(D177:D178)","v":24.45623617554034},{"$f":"SUM(E177:E178)","v":24.987456601748317},{"$f":"SUM(F177:F178)","v":25.561069356780642},{"$f":"SUM(G177:G178)","v":26.226198056796136},{"$f":"SUM(H177:H178)","v":27.022878023235101},null,null,{"$f":"SUM(K177:K178)","v":31.968047670879127},{"$f":"SUM(L177:L178)","v":32.665562585412836},{"$f":"SUM(M177:M178)","v":33.417896368302131},{"$f":"SUM(N177:N178)","v":34.288094612631504},{"$f":"SUM(O177:O178)","v":35.327836452763414}]
["Capital Charge"]
["Depreciation and Return",null,null,{"$f":"'Depn & WACC Post 2004 Central'!$H$75","v":14.246942862977193},{"$f":"'Depn & WACC Post 2004 Central'!$H$128","v":15.578836767536664},{"$f":"'Depn & WACC Post 2004 Central'!$H$181","v":16.678569021754175},{"$f":"'Depn & WACC Post 2004 Central'!$H$234","v":17.696757946994243},{"$f":"'Depn & WACC Post 2004 Central'!$H$287","v":18.73390600062006},null,null,{"$f":"'Depn & WACC Post 2004 N & E'!$H$75","v":14.246942862977193},{"$f":"'Depn & WACC Post 2004 N & E'!$H$128","v":15.578836767536664},{"$f":"'Depn & WACC Post 2004 N & E'!$H$181","v":16.678569021754171},{"$f":"'Depn & WACC Post 2004 N & E'!$H$234","v":17.696757946994243},{"$f":"'Depn & WACC Post 2004 N & E'!$H$287","v":18.733906000620063}]
[]
["Poles & Brackets Charge",null,null,{"$f":"D$13","v":12.180572915203948},{"$f":"E$13","v":12.687076908161593},{"$f":"F$13","v":13.176490519103236},{"$f":"G$13","v":13.653321796051046},{"$f":"H$13","v":14.113027208726962},null,null,{"$f":"K$13","v":12.226268680314472},{"$f":"L$13","v":12.731512184541799},{"$f":"M$13","v":13.219520554592638},{"$f":"N$13","v":13.696049542585342},{"$f":"O$13","v":14.156582814425256}]
[]
["Total Charge",null,null,{"$f":"SUM(D179,D181,D183)","v":50.883751953721479},{"$f":"SUM(E179,E181,E183)","v":53.253370277446571},{"$f":"SUM(F179,F181,F183)","v":55.41612889763806},{"$f":"SUM(G179,G181,G183)","v":57.576277799841421},{"$f":"SUM(H179,H181,H183)","v":59.869811232582123},null,null,{"$f":"SUM(K179,K181,K183)","v":58.441259214170799},{"$f":"SUM(L179,L181,L183)","v":60.975911537491299},{"$f":"SUM(M179,M181,M183)","v":63.315985944648943},{"$f":"SUM(N179,N181,N183)","v":65.680902102211093},{"$f":"SUM(O179,O181,O183)","v":68.218325267808723}]

{"sheet":"O & M 2022-2026","index":11,"n_rows":460,"n_cols":114,"rows_kept":460,"cut":false,"hidden":false,"merged":[[297,93,297,98],[297,107,297,112],[259,1,259,6],[259,8,259,13],[259,61,259,66],[221,1,221,6],[259,15,259,20],[221,61,221,66],[259,84,259,89],[259,70,259,75],[259,77,259,82],[221,70,221,75],[221,77,221,82],[221,84,221,89],[221,8,221,13],[221,15,221,20],[297,1,297,6],[297,15,297,20],[221,47,221,52],[221,54,221,59],[259,47,259,52],[102,77,102,82],[143,70,143,75],[143,84,143,89],[68,71,68,79],[102,61,102,66],[297,24,297,29],[297,38,297,43],[297,47,297,52],[143,8,143,13],[181,15,181,20],[259,54,259,59],[68,48,68,56],[68,58,68,66],[181,61,181,66],[143,61,143,66],[297,61,297,66],[297,70,297,75],[297,84,297,89],[181,84,181,89],[102,47,102,52],[102,54,102,59],[102,84,102,89],[143,47,143,52],[143,54,143,59],[68,104,68,112],[259,93,259,98],[259,100,259,105],[221,93,221,98],[221,100,221,105],[221,107,221,112],[102,93,102,98],[102,100,102,105],[102,107,102,112],[259,107,259,112],[181,107,181,112],[143,93,143,98],[143,100,143,105],[143,107,143,112],[68,94,68,102],[143,77,143,82],[68,81,68,89],[102,70,102,75],[332,1,332,6],[332,15,332,20],[68,25,68,33],[68,35,68,43],[102,24,102,29],[102,31,102,36],[102,38,102,43],[259,38,259,43],[181,38,181,43],[143,24,143,29],[143,31,143,36],[143,38,143,43],[259,24,259,29],[259,31,259,36],[221,24,221,29],[221,31,221,36],[221,38,221,43],[68,2,68,10],[68,12,68,20],[143,15,143,20],[102,1,102,6],[102,8,102,13],[102,15,102,20],[367,1,367,6],[367,15,367,20],[332,24,332,29],[332,54,332,59],[332,61,332,66],[332,70,332,75],[332,8,332,13],[367,54,367,59],[367,61,367,66],[367,70,367,75],[367,24,367,29],[367,38,367,43],[367,31,367,36],[367,8,367,13],[367,47,367,52],[332,31,332,36],[332,38,332,43],[332,47,332,52],[143,1,143,6],[437,1,437,6],[437,15,437,20],[402,8,402,13],[402,24,402,29],[402,70,402,75],[402,77,402,82],[402,84,402,89],[402,93,402,98],[402,100,402,105],[402,1,402,6],[402,15,402,20],[402,31,402,36],[402,38,402,43],[402,47,402,52],[402,54,402,59],[402,61,402,66],[437,8,437,13],[437,24,437,29],[437,31,437,36],[437,38,437,43],[437,47,437,52],[402,107,402,112],[332,100,332,105],[437,93,437,98],[437,100,437,105],[437,107,437,112],[437,54,437,59],[437,61,437,66],[437,70,437,75],[437,77,437,82],[437,84,437,89],[367,100,367,105],[367,107,367,112],[332,107,332,112],[332,77,332,82],[332,84,332,89],[332,93,332,98],[367,93,367,98],[367,77,367,82],[367,84,367,89]]}
[{"$f":"'DNSP Inputs O & M'!$A$3","v":"AusNet"}]
[]
["Public Lighting O & M Costs","Year",{"$f":"'DNSP Inputs General'!$Q2","v":"2022-06-30"},null,null,null,null,null,null,null,null,null,"Year",{"$f":"C3","v":"2022-06-30"},null,null,null,null,null,null,null,null,null,null,"Year",{"$f":"'DNSP Inputs General'!$R2","v":"2023-06-30"},null,null,null,null,null,null,null,null,null,"Year",{"$f":"Z3","v":"2023-06-30"},null,null,null,null,null,null,null,null,null,null,"Year",{"$f":"'DNSP Inputs General'!$S2","v":"2024-06-30"},null,null,null,null,null,null,null,null,null,"Year",{"$f":"AW3","v":"2024-06-30"},null,null,null,null,null,null,null,null,null,null,"Year",{"$f":"'DNSP Inputs General'!$T2","v":"2025-06-30"},null,null,null,null,null,null,null,null,null,"Year",{"$f":"BT3","v":"2025-06-30"},null,null,null,null,null,null,null,null,null,null,"Year",{"$f":"'DNSP Inputs General'!$U2","v":"2026-06-30"},null,null,null,null,null,null,null,null,null,"Year",{"$f":"CQ3","v":"2026-06-30"}]
[{"$f":"'DNSP Inputs O & M'!C5","v":"Real 2021 $ "}]
[]
["Summary"]
[null,{"$f":"'DNSP Inputs O & M'!$A$58","v":"SP AusNet - Central"},null,null,null,null,null,null,null,null,null,null,{"$f":"'DNSP Inputs O & M'!$A$63","v":"SP AusNet - North/East"},null,null,null,null,null,null,null,null,null,null,null,{"$f":"'DNSP Inputs O & M'!$A$58","v":"SP AusNet - Central"},null,null,null,null,null,null,null,null,null,null,{"$f":"'DNSP Inputs O & M'!$A$63","v":"SP AusNet - North/East"},null,null,null,null,null,null,null,null,null,null,null,{"$f":"'DNSP Inputs O & M'!$A$58","v":"SP AusNet - Central"},null,null,null,null,null,null,null,null,null,null,{"$f":"'DNSP Inputs O & M'!$A$63","v":"SP AusNet - North/East"},null,null,null,null,null,null,null,null,null,null,null,{"$f":"'DNSP Inputs O & M'!$A$58","v":"SP AusNet - Central"},null,null,null,null,null,null,null,null,null,null,{"$f":"'DNSP Inputs O & M'!$A$63","v":"SP AusNet - North/East"},null,null,null,null,null,null,null,null,null,null,null,{"$f":"'DNSP Inputs O & M'!$A$58","v":"SP AusNet - Central"},null,null,null,null,null,null,null,null,null,null,{"$f":"'DNSP Inputs O & M'!$A$63","v":"SP AusNet - North/East"}]
[{"$f":"$A$107","v":"MV80"},null,null,"Avoided Costs - MV 80 O & M",null,null,null,null,null,null,null,null,null,null,"Avoided Costs - MV 80 O & M",null,null,null,null,null,null,null,null,null,null,null,"Avoided Costs - MV 80 O & M",null,null,null,null,null,null,null,null,null,null,"Avoided Costs - MV 80 O & M",null,null,null,null,null,null,null,null,null,null,null,"Avoided Costs - MV 80 O & M",null,null,null,null,null,null,null,null,null,null,"Avoided Costs - MV 80 O & M",null,null,null,null,null,null,null,null,null,null,null,"Avoided Costs - MV 80 O & M",null,null,null,null,null,null,null,null,null,null,"Avoided Costs - MV 80 O & M",null,null,null,null,null,null,null,null,null,null,null,"Avoided Costs - MV 80 O & M",null,null,null,null,null,null,null,null,null,null,"Avoided Costs - MV 80 O & M"]
[{"$f":"$A$108","v":"Bulk change & repairs"},{"$f":"G128*C71+N128*C72+U128*C73","v":21.661089260517663},null,"Materials & labour - bulk lamp change",null,null,{"$f":"-((G110+G119)*C71+(N110+N119)*C72+(U110+U119)*C73)*2","v":-20.640064938079892},null,null,null,null,null,{"$f":"G128*M71+N128*M72+U128*M73+'DNSP Inputs O & M'!$D$55","v":25.305963091644369},null,"Materials & labour - bulk lamp change",null,null,{"$f":"-((G110+G119)*M71+(N110+N119)*M72+(U110+U119)*M73)*2","v":-23.465720412986123},null,null,null,null,null,null,{"$f":"AD128*Z71+AK128*Z72+AR128*Z73","v":21.633893784169107},null,"Materials & labour - bulk lamp change",null,null,{"$f":"-((AD110+AD119)*Z71+(AK110+AK119)*Z72+(AR110+AR119)*Z73)*2","v":-20.61072944636161},null,null,null,null,null,{"$f":"AD128*AJ71+AK128*AJ72+AR128*AJ73+'DNSP Inputs O & M'!$E$55","v":25.27469926990058},null,"Materials & labour - bulk lamp change",null,null,{"$f":"-((AD110+AD119)*AJ71+(AK110+AK119)*AJ72+(AR110+AR119)*AJ73)*2","v":-23.432097799517837},null,null,null,null,null,null,{"$f":"BA128*AW71+BH128*AW72+BO128*AW73","v":21.626005475058836},null,"Materials & labour - bulk lamp change",null,null,{"$f":"-((BA110+BA119)*AW71+(BH110+BH119)*AW72+(BO110+BO119)*AW73)*2","v":-20.602220405239859},null,null,null,null,null,{"$f":"BA128*BG71+BH128*BG72+BO128*BG73+'DNSP Inputs O & M'!$F$55","v":25.265630898134532},null,"Materials & labour - bulk lamp change",null,null,{"$f":"-((BA110+BA119)*BG71+(BH110+BH119)*BG72+(BO110+BO119)*BG73)*2","v":-23.422345237557394},null,null,null,null,null,null,{"$f":"BX128*BT71+CE128*BT72+CL128*BT73","v":21.665865683623657},null,"Materials & labour - bulk lamp change",null,null,{"$f":"-((BX110+BX119)*BT71+(CE110+CE119)*BT72+(CL110+CL119)*BT73)*2","v":-20.645217218505977},null,null,null,null,null,{"$f":"BX128*CD71+CE128*CD72+CL128*CD73+'DNSP Inputs O & M'!$G$55","v":25.311454050458433},null,"Materials & labour - bulk lamp change",null,null,{"$f":"-((BX110+BX119)*CD71+(CE110+CE119)*CD72+(CL110+CL119)*CD73)*2","v":-23.471625653467864},null,null,null,null,null,null,{"$f":"CU128*CQ71+DB128*CQ72+DI128*CQ73","v":21.77442285744916},null,"Materials & labour - bulk lamp change",null,null,{"$f":"-((CU110+CU119)*CQ71+(DB110+DB119)*CQ72+(DI110+DI119)*CQ73)*2","v":-20.762316769655655},null,null,null,null,null,{"$f":"CU128*DA71+DB128*DA72+DI128*DA73+'DNSP Inputs O & M'!$H$55","v":25.436250986830924},null,"Materials & labour - bulk lamp change",null,null,{"$f":"-((CU110+CU119)*DA71+(DB110+DB119)*DA72+(DI110+DI119)*DA73)*2","v":-23.605838264711128}]
[{"$f":"$A$130","v":"Dedicated poles - inspection"},{"$f":"(G131*C71+N131*C72+U131*C73)*C81","v":1.3887940184783973},null,"Materials & Labour - repair of faults",null,null,{"$f":"-((G114+G122+G124)*C71+(N114+N122+N124)*C72+(U114+U122+U124)*C73)/2","v":-3.5044194696870927},null,null,null,null,null,{"$f":"(G131*C71+N131*C72+U131*C73)*M81","v":1.3952674994864962},null,"Materials & Labour - repair of faults",null,null,{"$f":"-((G114+G122+G124)*M71+(N114+N122+N124)*M72+(U114+U122+U124)*M73)/2","v":-3.863955133411217},null,null,null,null,null,null,{"$f":"(AD131*Z71+AK131*Z72+AR131*Z73)*Z81","v":1.3861432807706839},null,"Materials & Labour - repair of faults",null,null,{"$f":"-((AD114+AD122+AD124)*Z71+(AK114+AK122+AK124)*Z72+(AR114+AR122+AR124)*Z73)/2","v":-3.5008751520772399},null,null,null,null,null,{"$f":"(AD131*Z71+AK131*Z72+AR131*Z73)*AJ81","v":1.392604406094657},null,"Materials & Labour - repair of faults",null,null,{"$f":"-((AD114+AD122+AD124)*AJ71+(AK114+AK122+AK124)*AJ72+(AR114+AR122+AR124)*AJ73)/2","v":-3.8598552580807715},null,null,null,null,null,null,{"$f":"(BA131*AW71+BH131*AW72+BO131*AW73)*AW81","v":1.3853744088399},null,"Materials & Labour - repair of faults",null,null,{"$f":"-((BA114+BA122+BA124)*AW71+(BH114+BH122+BH124)*AW72+(BO114+BO122+BO124)*AW73)/2","v":-3.4998470887135689},null,null,null,null,null,{"$f":"(BA131*AW71+BH131*AW72+BO131*AW73)*BG81","v":1.391831950279024},null,"Materials & Labour - repair of faults",null,null,{"$f":"-((BA114+BA122+BA124)*BG71+(BH114+BH122+BH124)*BG72+(BO114+BO122+BO124)*BG73)/2","v":-3.8586660498644632},null,null,null,null,null,null,{"$f":"(BX131*BT71+CE131*BT72+CL131*BT73)*BT81","v":1.3892595754950414},null,"Materials & Labour - repair of faults",null,null,{"$f":"-((BX114+BX122+BX124)*BT71+(CE114+CE122+CE124)*BT72+(CL114+CL122+CL124)*BT73)/2","v":-3.5050419688229684},null,null,null,null,null,{"$f":"(BX131*BT71+CE131*BT72+CL131*BT73)*CD81","v":1.3957352265690144},null,"Materials & Labour - repair of faults",null,null,{"$f":"-((BX114+BX122+BX124)*CD71+(CE114+CE122+CE124)*CD72+(CL114+CL122+CL124)*CD73)/2","v":-3.8646752068164059},null,null,null,null,null,null,{"$f":"(CU131*CQ71+DB131*CQ72+DI131*CQ73)*CQ81","v":1.3998406217842834},null,"Materials & Labour - repair of faults",null,null,{"$f":"-((CU114+CU122+CU124)*CQ71+(DB114+DB122+DB124)*CQ72+(DI114+DI122+DI124)*CQ73)/2","v":-3.5191899505657509},null,null,null,null,null,{"$f":"(CU131*CQ71+DB131*CQ72+DI131*CQ73)*DA81","v":1.4063655934927692},null,"Materials & Labour - repair of faults",null,null,{"$f":"-((CU114+CU122+CU124)*DA71+(DB114+DB122+DB124)*DA72+(DI114+DI122+DI124)*DA73)/2","v":-3.8810408285545854}]
["Other costs",{"$f":"IF(C89=0,0,C87/C89)","v":1.154580689465073},null,null,null,null,{"$f":"SUM(G9:G10)","v":-24.144484407766985},null,null,null,null,null,{"$f":"IF(C89=0,0,C87/C89)","v":1.154580689465073},null,null,null,null,{"$f":"SUM(R9:R10)","v":-27.32967554639734},null,null,null,null,null,null,{"$f":"IF(Z89=0,0,Z87/Z89)","v":1.1479961393080147},null,null,null,null,{"$f":"SUM(AD9:AD10)","v":-24.111604598438849},null,null,null,null,null,{"$f":"IF(Z89=0,0,Z87/Z89)","v":1.1479961393080147},null,null,null,null,{"$f":"SUM(AO9:AO10)","v":-27.291953057598608},null,null,null,null,null,null,{"$f":"IF(AW89=0,0,AW87/AW89)","v":1.1414412576775306},null,null,null,null,{"$f":"SUM(BA9:BA10)","v":-24.102067493953427},null,null,null,null,null,{"$f":"IF(AW89=0,0,AW87/AW89)","v":1.1414412576775306},null,null,null,null,{"$f":"SUM(BL9:BL10)","v":-27.281011287421858},null,null,null,null,null,null,{"$f":"IF(BT89=0,0,BT87/BT89)","v":1.1349551110841045},null,null,null,null,{"$f":"SUM(BX9:BX10)","v":-24.150259187328945},null,null,null,null,null,{"$f":"IF(BT89=0,0,BT87/BT89)","v":1.1349551110841045},null,null,null,null,{"$f":"SUM(CI9:CI10)","v":-27.336300860284268},null,null,null,null,null,null,{"$f":"IF(CQ89=0,0,CQ87/CQ89)","v":1.1276394760092494},null,null,null,null,{"$f":"SUM(CU9:CU10)","v":-24.281506720221405},null,null,null,null,null,{"$f":"IF(CQ89=0,0,CQ87/CQ89)","v":1.1276394760092494},null,null,null,null,{"$f":"SUM(DF9:DF10)","v":-27.486879093265713}]
[]
[]
[{"$f":"$A$148","v":"S-HP 150"}]
[{"$f":"$A$155","v":"Patrols and repairs"},{"$f":"G171*E71+N171*E72+U171*E73","v":68.011146745589059},null,null,null,null,null,null,null,null,null,null,{"$f":"G171*O71+N171*O72+U171*O73+'DNSP Inputs O & M'!$D$98","v":84.142966931729745},null,null,null,null,null,null,null,null,null,null,null,{"$f":"AD171*AB71+AK171*AB72+AR171*AB73","v":67.89764234834567},null,null,null,null,null,null,null,null,null,null,{"$f":"AD171*AL71+AK171*AL72+AR171*AL73+'DNSP Inputs O & M'!$E$98","v":84.000118969377908},null,null,null,null,null,null,null,null,null,null,null,{"$f":"BA171*AY71+BH171*AY72+BO171*AY73","v":67.864719307787169},null,null,null,null,null,null,null,null,null,null,{"$f":"BA171*BI71+BH171*BI72+BO171*BI73+'DNSP Inputs O & M'!$F$98","v":83.958684545933338},null,null,null,null,null,null,null,null,null,null,null,{"$f":"BX171*BV71+CE171*BV72+CL171*BV73","v":68.03108186342547},null,null,null,null,null,null,null,null,null,null,{"$f":"BX171*CF71+CE171*CF72+CL171*CF73+'DNSP Inputs O & M'!$G$98","v":84.168055747945985},null,null,null,null,null,null,null,null,null,null,null,{"$f":"CU171*CS71+DB171*CS72+DI171*CS73","v":68.48416150150905},null,null,null,null,null,null,null,null,null,null,{"$f":"CU171*DC71+DB171*DC72+DI171*DC73+'DNSP Inputs O & M'!$H$98","v":84.738267164024776}]
[{"$f":"$A$10","v":"Dedicated poles - inspection"},{"$f":"B10","v":1.3887940184783973},null,null,null,null,null,null,null,null,null,null,{"$f":"M10","v":1.3952674994864962},null,null,null,null,null,null,null,null,null,null,null,{"$f":"Y10","v":1.3861432807706839},null,null,null,null,null,null,null,null,null,null,{"$f":"AJ10","v":1.392604406094657},null,null,null,null,null,null,null,null,null,null,null,{"$f":"AV10","v":1.3853744088399},null,null,null,null,null,null,null,null,null,null,{"$f":"BG10","v":1.391831950279024},null,null,null,null,null,null,null,null,null,null,null,{"$f":"BS10","v":1.3892595754950414},null,null,null,null,null,null,null,null,null,null,{"$f":"CD10","v":1.3957352265690144},null,null,null,null,null,null,null,null,null,null,null,{"$f":"CP10","v":1.3998406217842834},null,null,null,null,null,null,null,null,null,null,{"$f":"DA10","v":1.4063655934927692}]
[{"$f":"$A$11","v":"Other costs"},{"$f":"B11","v":1.154580689465073},null,null,null,null,null,null,null,null,null,null,{"$f":"M11","v":1.154580689465073},null,null,null,null,null,null,null,null,null,null,null,{"$f":"Y11","v":1.1479961393080147},null,null,null,null,null,null,null,null,null,null,{"$f":"AJ11","v":1.1479961393080147},null,null,null,null,null,null,null,null,null,null,null,{"$f":"AV11","v":1.1414412576775306},null,null,null,null,null,null,null,null,null,null,{"$f":"BG11","v":1.1414412576775306},null,null,null,null,null,null,null,null,null,null,null,{"$f":"BS11","v":1.1349551110841045},null,null,null,null,null,null,null,null,null,null,{"$f":"CD11","v":1.1349551110841045},null,null,null,null,null,null,null,null,null,null,null,{"$f":"CP11","v":1.1276394760092494},null,null,null,null,null,null,null,null,null,null,{"$f":"DA11","v":1.1276394760092494}]
[]
[]
[{"$f":"$A$186","v":"S-HP 250"}]
[{"$f":"$A$193","v":"Patrols and repairs"},{"$f":"G209*G71+N209*G72+U209*G73","v":69.320130085713274},null,null,null,null,null,null,null,null,null,null,{"$f":"G209*Q71+N209*Q72+U209*Q73+'DNSP Inputs O & M'!$D$141","v":82.901902968269113},null,null,null,null,null,null,null,null,null,null,null,{"$f":"AD209*AD71+AK209*AD72+AR209*AD73","v":69.20497409857245},null,null,null,null,null,null,null,null,null,null,{"$f":"AD209*AN71+AK209*AN72+AR209*AN73+'DNSP Inputs O & M'!$E$141","v":82.872220406896716},null,null,null,null,null,null,null,null,null,null,null,{"$f":"BA209*BA71+BH209*BA72+BO209*BA73","v":69.171571998501747},null,null,null,null,null,null,null,null,null,null,{"$f":"BA209*BK71+BH209*BK72+BO209*BK73+'DNSP Inputs O & M'!$F$141","v":82.831745256268604},null,null,null,null,null,null,null,null,null,null,null,{"$f":"BX209*BX71+CE209*BX72+CL209*BX73","v":69.340355277238629},null,null,null,null,null,null,null,null,null,null,{"$f":"BX209*CH71+CE209*CH72+CL209*CH73+'DNSP Inputs O & M'!$G$141","v":83.036269181887718},null,null,null,null,null,null,null,null,null,null,null,{"$f":"CU209*CU71+DB209*CU72+DI209*CU73","v":69.800027626892373},null,null,null,null,null,null,null,null,null,null,{"$f":"CU209*DE71+DB209*DE72+DI209*DE73+'DNSP Inputs O & M'!$H$141","v":83.593279296594105}]
[{"$f":"$A$10","v":"Dedicated poles - inspection"},{"$f":"B10","v":1.3887940184783973},null,null,null,null,null,null,null,null,null,null,{"$f":"M10","v":1.3952674994864962},null,null,null,null,null,null,null,null,null,null,null,{"$f":"Y10","v":1.3861432807706839},null,null,null,null,null,null,null,null,null,null,{"$f":"AJ10","v":1.392604406094657},null,null,null,null,null,null,null,null,null,null,null,{"$f":"AV10","v":1.3853744088399},null,null,null,null,null,null,null,null,null,null,{"$f":"BG10","v":1.391831950279024},null,null,null,null,null,null,null,null,null,null,null,{"$f":"BS10","v":1.3892595754950414},null,null,null,null,null,null,null,null,null,null,{"$f":"CD10","v":1.3957352265690144},null,null,null,null,null,null,null,null,null,null,null,{"$f":"CP10","v":1.3998406217842834},null,null,null,null,null,null,null,null,null,null,{"$f":"DA10","v":1.4063655934927692}]
[{"$f":"$A$11","v":"Other costs"},{"$f":"B11","v":1.154580689465073},null,null,null,null,null,null,null,null,null,null,{"$f":"M11","v":1.154580689465073},null,null,null,null,null,null,null,null,null,null,null,{"$f":"Y11","v":1.1479961393080147},null,null,null,null,null,null,null,null,null,null,{"$f":"AJ11","v":1.1479961393080147},null,null,null,null,null,null,null,null,null,null,null,{"$f":"AV11","v":1.1414412576775306},null,null,null,null,null,null,null,null,null,null,{"$f":"BG11","v":1.1414412576775306},null,null,null,null,null,null,null,null,null,null,null,{"$f":"BS11","v":1.1349551110841045},null,null,null,null,null,null,null,null,null,null,{"$f":"CD11","v":1.1349551110841045},null,null,null,null,null,null,null,null,null,null,null,{"$f":"CP11","v":1.1276394760092494},null,null,null,null,null,null,null,null,null,null,{"$f":"DA11","v":1.1276394760092494}]
[]
[]
[{"$f":"$A$226","v":"T5 (2 X 14W)"}]
[{"$f":"$A$227","v":"Bulk change & repairs"},{"$f":"G247*I71+N247*I72+U247*I73","v":26.180654041421342},null,null,null,null,null,null,null,null,null,null,{"$f":"G247*S71+N247*S72+U247*S73+'DNSP Inputs O & M'!$D$214","v":30.815300772523177},null,null,null,null,null,null,null,null,null,null,null,{"$f":"AD247*AF71+AK247*AF72+AR247*AF73","v":26.143351064205085},null,null,null,null,null,null,null,null,null,null,{"$f":"AD247*AP71+AK247*AP72+AR247*AP73+'DNSP Inputs O & M'!$E$214","v":30.772345139259805},null,null,null,null,null,null,null,null,null,null,null,{"$f":"BA247*BC71+BH247*BC72+BO247*BC73","v":26.132530977391973},null,null,null,null,null,null,null,null,null,null,{"$f":"BA247*BM71+BH247*BM72+BO247*BM73+'DNSP Inputs O & M'!$F$214","v":30.759885445270037},null,null,null,null,null,null,null,null,null,null,null,{"$f":"BX247*BZ71+CE247*BZ72+CL247*BZ73","v":26.187205675230381},null,null,null,null,null,null,null,null,null,null,{"$f":"BX247*CJ71+CE247*CJ72+CL247*CJ73+'DNSP Inputs O & M'!$G$214","v":30.822845199273498},null,null,null,null,null,null,null,null,null,null,null,{"$f":"CU247*CW71+DB247*CW72+DI247*CW73","v":26.336109328542893},null,null,null,null,null,null,null,null,null,null,{"$f":"CU247*DG71+DB247*DG72+DI247*DG73+'DNSP Inputs O & M'!$H$214","v":30.994312765687514}]
[{"$f":"$A$10","v":"Dedicated poles - inspection"},{"$f":"B10","v":1.3887940184783973},null,null,null,null,null,null,null,null,null,null,{"$f":"M10","v":1.3952674994864962},null,null,null,null,null,null,null,null,null,null,null,{"$f":"Y10","v":1.3861432807706839},null,null,null,null,null,null,null,null,null,null,{"$f":"AJ10","v":1.392604406094657},null,null,null,null,null,null,null,null,null,null,null,{"$f":"AV10","v":1.3853744088399},null,null,null,null,null,null,null,null,null,null,{"$f":"BG10","v":1.391831950279024},null,null,null,null,null,null,null,null,null,null,null,{"$f":"BS10","v":1.3892595754950414},null,null,null,null,null,null,null,null,null,null,{"$f":"CD10","v":1.3957352265690144},null,null,null,null,null,null,null,null,null,null,null,{"$f":"CP10","v":1.3998406217842834},null,null,null,null,null,null,null,null,null,null,{"$f":"DA10","v":1.4063655934927692}]
[{"$f":"$A$11","v":"Other costs"},{"$f":"B11","v":1.154580689465073},null,null,null,null,null,null,null,null,null,null,{"$f":"M11","v":1.154580689465073},null,null,null,null,null,null,null,null,null,null,null,{"$f":"Y11","v":1.1479961393080147},null,null,null,null,null,null,null,null,null,null,{"$f":"AJ11","v":1.1479961393080147},null,null,null,null,null,null,null,null,null,null,null,{"$f":"AV11","v":1.1414412576775306},null,null,null,null,null,null,null,null,null,null,{"$f":"BG11","v":1.1414412576775306},null,null,null,null,null,null,null,null,null,null,null,{"$f":"BS11","v":1.1349551110841045},null,null,null,null,null,null,null,null,null,null,{"$f":"CD11","v":1.1349551110841045},null,null,null,null,null,null,null,null,null,null,null,{"$f":"CP11","v":1.1276394760092494},null,null,null,null,null,null,null,null,null,null,{"$f":"DA11","v":1.1276394760092494}]
[]
[]
[{"$f":"A264","v":"T5 (2 X 24W)"}]
[{"$f":"A265","v":"Bulk change & repairs"},{"$f":"G285*J71+N285*J72+U285*J73","v":29.026156687996323},null,null,null,null,null,null,null,null,null,null,{"$f":"G285*T71+N285*T72+U285*T73+'DNSP Inputs O & M'!$D$263","v":34.090760212052253},null,null,null,null,null,null,null,null,null,null,null,{"$f":"AD285*AG71+AK285*AG72+AR285*AG73","v":28.984270040199089},null,null,null,null,null,null,null,null,null,null,{"$f":"AD285*AQ71+AK285*AQ72+AR285*AQ73+'DNSP Inputs O & M'!$E$263","v":34.042551045434458},null,null,null,null,null,null,null,null,null,null,null,{"$f":"BA285*BD71+BH285*BD72+BO285*BD73","v":28.972120415710702},null,null,null,null,null,null,null,null,null,null,{"$f":"BA285*BN71+BH285*BN72+BO285*BN73+'DNSP Inputs O & M'!$F$263","v":34.028567513638379},null,null,null,null,null,null,null,null,null,null,null,{"$f":"BX285*CA71+CE285*CA72+CL285*CA73","v":29.033513365621936},null,null,null,null,null,null,null,null,null,null,{"$f":"BX285*CK71+CE285*CK72+CL285*CK73+'DNSP Inputs O & M'!$G$263","v":34.099227332627848},null,null,null,null,null,null,null,null,null,null,null,{"$f":"CU285*CX71+DB285*CX72+DI285*CX73","v":29.200713823801593},null,null,null,null,null,null,null,null,null,null,{"$f":"CU285*DH71+DB285*DH72+DI285*DH73+'DNSP Inputs O & M'!$H$263","v":34.291665619548624}]
[{"$f":"$A$10","v":"Dedicated poles - inspection"},{"$f":"B10","v":1.3887940184783973},null,null,null,null,null,null,null,null,null,null,{"$f":"M10","v":1.3952674994864962},null,null,null,null,null,null,null,null,null,null,null,{"$f":"Y10","v":1.3861432807706839},null,null,null,null,null,null,null,null,null,null,{"$f":"AJ10","v":1.392604406094657},null,null,null,null,null,null,null,null,null,null,null,{"$f":"AV10","v":1.3853744088399},null,null,null,null,null,null,null,null,null,null,{"$f":"BG10","v":1.391831950279024},null,null,null,null,null,null,null,null,null,null,null,{"$f":"BS10","v":1.3892595754950414},null,null,null,null,null,null,null,null,null,null,{"$f":"CD10","v":1.3957352265690144},null,null,null,null,null,null,null,null,null,null,null,{"$f":"CP10","v":1.3998406217842834},null,null,null,null,null,null,null,null,null,null,{"$f":"DA10","v":1.4063655934927692}]
[{"$f":"$A$11","v":"Other costs"},{"$f":"B11","v":1.154580689465073},null,null,null,null,null,null,null,null,null,null,{"$f":"M11","v":1.154580689465073},null,null,null,null,null,null,null,null,null,null,null,{"$f":"Y11","v":1.1479961393080147},null,null,null,null,null,null,null,null,null,null,{"$f":"AJ11","v":1.1479961393080147},null,null,null,null,null,null,null,null,null,null,null,{"$f":"AV11","v":1.1414412576775306},null,null,null,null,null,null,null,null,null,null,{"$f":"BG11","v":1.1414412576775306},null,null,null,null,null,null,null,null,null,null,null,{"$f":"BS11","v":1.1349551110841045},null,null,null,null,null,null,null,null,null,null,{"$f":"CD11","v":1.1349551110841045},null,null,null,null,null,null,null,null,null,null,null,{"$f":"CP11","v":1.1276394760092494},null,null,null,null,null,null,null,null,null,null,{"$f":"DA11","v":1.1276394760092494}]
[]
[]
[{"$f":"A302","v":"LED 18W"}]
[{"$f":"A303","v":"Bulk change & repairs"},{"$f":"G320*K71+N320*K72+U320*K73","v":8.7124286496674639},null,null,null,null,null,null,null,null,null,null,{"$f":"G320*U71+N320*U72+U320*U73+'DNSP Inputs O & M'!$D$309","v":10.747518537102833},null,null,null,null,null,null,null,null,null,null,null,{"$f":"AD320*AH71+AK320*AH72+AR320*AH73","v":8.7024105854846958},null,null,null,null,null,null,null,null,null,null,{"$f":"AD320*AR71+AK320*AR72+AR320*AR73+'DNSP Inputs O & M'!$E$309","v":10.735881958933895},null,null,null,null,null,null,null,null,null,null,null,{"$f":"BA320*BE71+BH320*BE72+BO320*BE73","v":8.6995047497513038},null,null,null,null,null,null,null,null,null,null,{"$f":"BA320*BO71+BH320*BO72+BO320*BO73+'DNSP Inputs O & M'!$F$309","v":10.73250665767401},null,null,null,null,null,null,null,null,null,null,null,{"$f":"BX320*CB71+CE320*CB72+CL320*CB73","v":8.7141881523371953},null,null,null,null,null,null,null,null,null,null,{"$f":"BX320*CL71+CE320*CL72+CL320*CL73+'DNSP Inputs O & M'!$G$309","v":10.749562304239999},null,null,null,null,null,null,null,null,null,null,null,{"$f":"CU320*CY71+DB320*CY72+DI320*CY73","v":8.7541776241502749},null,null,null,null,null,null,null,null,null,null,{"$f":"CU320*DI71+DB320*DI72+DI320*DI73+'DNSP Inputs O & M'!$H$309","v":10.796012457303291}]
[{"$f":"$A$10","v":"Dedicated poles - inspection"},{"$f":"B10","v":1.3887940184783973},null,null,null,null,null,null,null,null,null,null,{"$f":"M10","v":1.3952674994864962},null,null,null,null,null,null,null,null,null,null,null,{"$f":"Y10","v":1.3861432807706839},null,null,null,null,null,null,null,null,null,null,{"$f":"AJ10","v":1.392604406094657},null,null,null,null,null,null,null,null,null,null,null,{"$f":"AV10","v":1.3853744088399},null,null,null,null,null,null,null,null,null,null,{"$f":"BG10","v":1.391831950279024},null,null,null,null,null,null,null,null,null,null,null,{"$f":"BS10","v":1.3892595754950414},null,null,null,null,null,null,null,null,null,null,{"$f":"CD10","v":1.3957352265690144},null,null,null,null,null,null,null,null,null,null,null,{"$f":"CP10","v":1.3998406217842834},null,null,null,null,null,null,null,null,null,null,{"$f":"DA10","v":1.4063655934927692}]
[{"$f":"$A$11","v":"Other costs"},{"$f":"B11","v":1.154580689465073},null,null,null,null,null,null,null,null,null,null,{"$f":"M11","v":1.154580689465073},null,null,null,null,null,null,null,null,null,null,null,{"$f":"Y11","v":1.1479961393080147},null,null,null,null,null,null,null,null,null,null,{"$f":"AJ11","v":1.1479961393080147},null,null,null,null,null,null,null,null,null,null,null,{"$f":"AV11","v":1.1414412576775306},null,null,null,null,null,null,null,null,null,null,{"$f":"BG11","v":1.1414412576775306},null,null,null,null,null,null,null,null,null,null,null,{"$f":"BS11","v":1.1349551110841045},null,null,null,null,null,null,null,null,null,null,{"$f":"CD11","v":1.1349551110841045},null,null,null,null,null,null,null,null,null,null,null,{"$f":"CP11","v":1.1276394760092494},null,null,null,null,null,null,null,null,null,null,{"$f":"DA11","v":1.1276394760092494}]
[]
[]
[{"$f":"A337","v":"LED 14W"}]
[{"$f":"A338","v":"Bulk change & repairs"},{"$f":"G355*C76+N355*C77+U355*C78","v":9.8703808060440306},null,null,null,null,null,null,null,null,null,null,{"$f":"G355*M76+N355*M77+U355*M78+'DNSP Inputs O & M'!$D$355","v":11.836842531344343},null,null,null,null,null,null,null,null,null,null,null,{"$f":"AD355*Z76+AK355*Z77+AR355*Z78","v":9.8580064386571351},null,null,null,null,null,null,null,null,null,null,{"$f":"AD355*AJ76+AK355*AJ77+AR355*AJ78+'DNSP Inputs O & M'!$E$355","v":11.82305083518194},null,null,null,null,null,null,null,null,null,null,null,{"$f":"BA355*AW76+BH355*AW77+BO355*AW78","v":9.8544171345485836},null,null,null,null,null,null,null,null,null,null,{"$f":"BA355*BG76+BH355*BG77+BO355*BG78+'DNSP Inputs O & M'!$F$355","v":11.819050421249507},null,null,null,null,null,null,null,null,null,null,null,{"$f":"BX355*BT76+CE355*BT77+CL355*BT78","v":9.8725541533151464},null,null,null,null,null,null,null,null,null,null,{"$f":"BX355*CD76+CE355*CD77+CL355*CD78+'DNSP Inputs O & M'!$G$355","v":11.839264808320729},null,null,null,null,null,null,null,null,null,null,null,{"$f":"CU355*CQ76+DB355*CQ77+DI355*CQ78","v":9.9219493664815808},null,null,null,null,null,null,null,null,null,null,{"$f":"CU355*DA76+DB355*DA77+DI355*DA78+'DNSP Inputs O & M'!$H$355","v":11.89431762440166}]
[{"$f":"$A$10","v":"Dedicated poles - inspection"},{"$f":"B16","v":1.3887940184783973},null,null,null,null,null,null,null,null,null,null,{"$f":"M16","v":1.3952674994864962},null,null,null,null,null,null,null,null,null,null,null,{"$f":"Y16","v":1.3861432807706839},null,null,null,null,null,null,null,null,null,null,{"$f":"AJ16","v":1.392604406094657},null,null,null,null,null,null,null,null,null,null,null,{"$f":"AV16","v":1.3853744088399},null,null,null,null,null,null,null,null,null,null,{"$f":"BG16","v":1.391831950279024},null,null,null,null,null,null,null,null,null,null,null,{"$f":"BS16","v":1.3892595754950414},null,null,null,null,null,null,null,null,null,null,{"$f":"CD16","v":1.3957352265690144},null,null,null,null,null,null,null,null,null,null,null,{"$f":"CP16","v":1.3998406217842834},null,null,null,null,null,null,null,null,null,null,{"$f":"DA16","v":1.4063655934927692}]
[{"$f":"$A$11","v":"Other costs"},{"$f":"B17","v":1.154580689465073},null,null,null,null,null,null,null,null,null,null,{"$f":"M17","v":1.154580689465073},null,null,null,null,null,null,null,null,null,null,null,{"$f":"Y17","v":1.1479961393080147},null,null,null,null,null,null,null,null,null,null,{"$f":"AJ17","v":1.1479961393080147},null,null,null,null,null,null,null,null,null,null,null,{"$f":"AV17","v":1.1414412576775306},null,null,null,null,null,null,null,null,null,null,{"$f":"BG17","v":1.1414412576775306},null,null,null,null,null,null,null,null,null,null,null,{"$f":"BS17","v":1.1349551110841045},null,null,null,null,null,null,null,null,null,null,{"$f":"CD17","v":1.1349551110841045},null,null,null,null,null,null,null,null,null,null,null,{"$f":"CP17","v":1.1276394760092494},null,null,null,null,null,null,null,null,null,null,{"$f":"DA17","v":1.1276394760092494}]
[]
[]
[{"$f":"A372","v":"LED 70W (L1)"}]
[{"$f":"A373","v":"Patrols & repairs"},{"$f":"G390*E76+N390*E77+U390*E78","v":14.059200825498179},null,null,null,null,null,null,null,null,null,null,{"$f":"G390*O76+N390*O77+U390*O78+'DNSP Inputs O & M'!$D$401","v":18.829773363463673},null,null,null,null,null,null,null,null,null,null,null,{"$f":"AD390*AB76+AK390*AB77+AR390*AB78","v":14.036243678853289},null,null,null,null,null,null,null,null,null,null,{"$f":"AD390*AL76+AK390*AL77+AR390*AL78+'DNSP Inputs O & M'!$E$401","v":18.799798372286453},null,null,null,null,null,null,null,null,null,null,null,{"$f":"BA390*AY76+BH390*AY77+BO390*AY78","v":14.029584737980043},null,null,null,null,null,null,null,null,null,null,{"$f":"BA390*BI76+BH390*BI77+BO390*BI78+'DNSP Inputs O & M'!$F$401","v":18.791103838204645},null,null,null,null,null,null,null,null,null,null,null,{"$f":"BX390*BV76+CE390*BV77+CL390*BV78","v":14.063232858042007},null,null,null,null,null,null,null,null,null,null,{"$f":"BX390*CF76+CE390*CF77+CL390*CF78+'DNSP Inputs O & M'!$G$401","v":18.835037961098436},null,null,null,null,null,null,null,null,null,null,null,{"$f":"CU390*CS76+DB390*CS77+DI390*CS78","v":14.154871736763074},null,null,null,null,null,null,null,null,null,null,{"$f":"CU390*DC76+DB390*DC77+DI390*DC78+'DNSP Inputs O & M'!$H$401","v":18.954690225538965}]
[{"$f":"$A$10","v":"Dedicated poles - inspection"},{"$f":"B22","v":1.3887940184783973},null,null,null,null,null,null,null,null,null,null,{"$f":"M22","v":1.3952674994864962},null,null,null,null,null,null,null,null,null,null,null,{"$f":"Y22","v":1.3861432807706839},null,null,null,null,null,null,null,null,null,null,{"$f":"AJ22","v":1.392604406094657},null,null,null,null,null,null,null,null,null,null,null,{"$f":"AV22","v":1.3853744088399},null,null,null,null,null,null,null,null,null,null,{"$f":"BG22","v":1.391831950279024},null,null,null,null,null,null,null,null,null,null,null,{"$f":"BS22","v":1.3892595754950414},null,null,null,null,null,null,null,null,null,null,{"$f":"CD22","v":1.3957352265690144},null,null,null,null,null,null,null,null,null,null,null,{"$f":"CP22","v":1.3998406217842834},null,null,null,null,null,null,null,null,null,null,{"$f":"DA22","v":1.4063655934927692}]
[{"$f":"$A$11","v":"Other costs"},{"$f":"B23","v":1.154580689465073},null,null,null,null,null,null,null,null,null,null,{"$f":"M23","v":1.154580689465073},null,null,null,null,null,null,null,null,null,null,null,{"$f":"Y23","v":1.1479961393080147},null,null,null,null,null,null,null,null,null,null,{"$f":"AJ23","v":1.1479961393080147},null,null,null,null,null,null,null,null,null,null,null,{"$f":"AV23","v":1.1414412576775306},null,null,null,null,null,null,null,null,null,null,{"$f":"BG23","v":1.1414412576775306},null,null,null,null,null,null,null,null,null,null,null,{"$f":"BS23","v":1.1349551110841045},null,null,null,null,null,null,null,null,null,null,{"$f":"CD23","v":1.1349551110841045},null,null,null,null,null,null,null,null,null,null,null,{"$f":"CP23","v":1.1276394760092494},null,null,null,null,null,null,null,null,null,null,{"$f":"DA23","v":1.1276394760092494}]
[]
[]
[{"$f":"A407","v":"LED 155W (L2)"}]
[{"$f":"A408","v":"Patrols & repairs"},{"$f":"G425*G76+N425*G77+U425*G78","v":14.059200825498179},null,null,null,null,null,null,null,null,null,null,{"$f":"G425*Q76+N425*Q77+U425*Q78+'DNSP Inputs O & M'!$D$447","v":18.829773363463673},null,null,null,null,null,null,null,null,null,null,null,{"$f":"AD425*AD76+AK425*AD77+AR425*AD78","v":14.036243678853289},null,null,null,null,null,null,null,null,null,null,{"$f":"AD425*AN76+AK425*AN77+AR425*AN78+'DNSP Inputs O & M'!$E$447","v":18.799798372286453},null,null,null,null,null,null,null,null,null,null,null,{"$f":"BA425*BA76+BH425*BA77+BO425*BA78","v":14.029584737980043},null,null,null,null,null,null,null,null,null,null,{"$f":"BA425*BK76+BH425*BK77+BO425*BK78+'DNSP Inputs O & M'!$F$447","v":18.791103838204645},null,null,null,null,null,null,null,null,null,null,null,{"$f":"BX425*BX76+CE425*BX77+CL425*BX78","v":14.063232858042007},null,null,null,null,null,null,null,null,null,null,{"$f":"BX425*CH76+CE425*CH77+CL425*CH78+'DNSP Inputs O & M'!$G$447","v":18.835037961098436},null,null,null,null,null,null,null,null,null,null,null,{"$f":"CU425*CU76+DB425*CU77+DI425*CU78","v":14.154871736763074},null,null,null,null,null,null,null,null,null,null,{"$f":"CU425*DE76+DB425*DE77+DI425*DE78+'DNSP Inputs O & M'!$H$447","v":18.954690225538965}]
[{"$f":"$A$10","v":"Dedicated poles - inspection"},{"$f":"B28","v":1.3887940184783973},null,null,null,null,null,null,null,null,null,null,{"$f":"M28","v":1.3952674994864962},null,null,null,null,null,null,null,null,null,null,null,{"$f":"Y28","v":1.3861432807706839},null,null,null,null,null,null,null,null,null,null,{"$f":"AJ28","v":1.392604406094657},null,null,null,null,null,null,null,null,null,null,null,{"$f":"AV28","v":1.3853744088399},null,null,null,null,null,null,null,null,null,null,{"$f":"BG28","v":1.391831950279024},null,null,null,null,null,null,null,null,null,null,null,{"$f":"BS28","v":1.3892595754950414},null,null,null,null,null,null,null,null,null,null,{"$f":"CD28","v":1.3957352265690144},null,null,null,null,null,null,null,null,null,null,null,{"$f":"CP28","v":1.3998406217842834},null,null,null,null,null,null,null,null,null,null,{"$f":"DA28","v":1.4063655934927692}]
[{"$f":"$A$11","v":"Other costs"},{"$f":"B29","v":1.154580689465073},null,null,null,null,null,null,null,null,null,null,{"$f":"M29","v":1.154580689465073},null,null,null,null,null,null,null,null,null,null,null,{"$f":"Y29","v":1.1479961393080147},null,null,null,null,null,null,null,null,null,null,{"$f":"AJ29","v":1.1479961393080147},null,null,null,null,null,null,null,null,null,null,null,{"$f":"AV29","v":1.1414412576775306},null,null,null,null,null,null,null,null,null,null,{"$f":"BG29","v":1.1414412576775306},null,null,null,null,null,null,null,null,null,null,null,{"$f":"BS29","v":1.1349551110841045},null,null,null,null,null,null,null,null,null,null,{"$f":"CD29","v":1.1349551110841045},null,null,null,null,null,null,null,null,null,null,null,{"$f":"CP29","v":1.1276394760092494},null,null,null,null,null,null,null,null,null,null,{"$f":"DA29","v":1.1276394760092494}]
[]
[]
[{"$f":"A442","v":"LED 275W (L4)"}]
[{"$f":"A443","v":"Patrols & repairs"},{"$f":"G460*I76+N460*I77+U460*I78","v":22.734456014309352},null,null,null,null,null,null,null,null,null,null,{"$f":"G460*S76+N460*S77+U460*S78+'DNSP Inputs O & M'!$D$493","v":30.07205037003683},null,null,null,null,null,null,null,null,null,null,null,{"$f":"AD460*AF76+AK460*AF77+AR460*AF78","v":22.693861406797257},null,null,null,null,null,null,null,null,null,null,{"$f":"AD460*AP76+AK460*AP77+AR460*AP78+'DNSP Inputs O & M'!$E$493","v":30.01994953189358},null,null,null,null,null,null,null,null,null,null,null,{"$f":"BA460*BC76+BH460*BC77+BO460*BC78","v":22.682086551002811},null,null,null,null,null,null,null,null,null,null,{"$f":"BA460*BM76+BH460*BM77+BO460*BM78+'DNSP Inputs O & M'!$F$493","v":30.004837183394489},null,null,null,null,null,null,null,null,null,null,null,{"$f":"BX460*BZ76+CE460*BZ77+CL460*BZ78","v":22.741585767023167},null,null,null,null,null,null,null,null,null,null,{"$f":"BX460*CJ76+CE460*CJ77+CL460*CJ78+'DNSP Inputs O & M'!$G$493","v":30.081200996558668},null,null,null,null,null,null,null,null,null,null,null,{"$f":"CU460*CW76+DB460*CW77+DI460*CW78","v":22.903628740920269},null,null,null,null,null,null,null,null,null,null,{"$f":"CU460*DG76+DB460*DG77+DI460*DG78+'DNSP Inputs O & M'!$H$493","v":30.289173810503186}]
[{"$f":"$A$10","v":"Dedicated poles - inspection"},{"$f":"B34","v":1.3887940184783973},null,null,null,null,null,null,null,null,null,null,{"$f":"M34","v":1.3952674994864962},null,null,null,null,null,null,null,null,null,null,null,{"$f":"Y34","v":1.3861432807706839},null,null,null,null,null,null,null,null,null,null,{"$f":"AJ34","v":1.392604406094657},null,null,null,null,null,null,null,null,null,null,null,{"$f":"AV34","v":1.3853744088399},null,null,null,null,null,null,null,null,null,null,{"$f":"BG34","v":1.391831950279024},null,null,null,null,null,null,null,null,null,null,null,{"$f":"BS34","v":1.3892595754950414},null,null,null,null,null,null,null,null,null,null,{"$f":"CD34","v":1.3957352265690144},null,null,null,null,null,null,null,null,null,null,null,{"$f":"CP34","v":1.3998406217842834},null,null,null,null,null,null,null,null,null,null,{"$f":"DA34","v":1.4063655934927692}]
[{"$f":"$A$11","v":"Other costs"},{"$f":"B35","v":1.154580689465073},null,null,null,null,null,null,null,null,null,null,{"$f":"M35","v":1.154580689465073},null,null,null,null,null,null,null,null,null,null,null,{"$f":"Y35","v":1.1479961393080147},null,null,null,null,null,null,null,null,null,null,{"$f":"AJ35","v":1.1479961393080147},null,null,null,null,null,null,null,null,null,null,null,{"$f":"AV35","v":1.1414412576775306},null,null,null,null,null,null,null,null,null,null,{"$f":"BG35","v":1.1414412576775306},null,null,null,null,null,null,null,null,null,null,null,{"$f":"BS35","v":1.1349551110841045},null,null,null,null,null,null,null,null,null,null,{"$f":"CD35","v":1.1349551110841045},null,null,null,null,null,null,null,null,null,null,null,{"$f":"CP35","v":1.1276394760092494},null,null,null,null,null,null,null,null,null,null,{"$f":"DA35","v":1.1276394760092494}]
[]
[]
[]
[null,null,{"$f":"B7","v":"SP AusNet - Central"},null,null,null,null,null,null,null,null,null,{"$f":"M7","v":"SP AusNet - North/East"},null,null,null,null,null,null,null,null,null,null,null,null,{"$f":"Y7","v":"SP AusNet - Central"},null,null,null,null,null,null,null,null,null,{"$f":"AJ7","v":"SP AusNet - North/East"},null,null,null,null,null,null,null,null,null,null,null,null,{"$f":"AV7","v":"SP AusNet - Central"},null,null,null,null,null,null,null,null,null,{"$f":"BG7","v":"SP AusNet - North/East"},null,null,null,null,null,null,null,null,null,null,null,null,{"$f":"BS7","v":"SP AusNet - Central"},null,null,null,null,null,null,null,null,null,{"$f":"CD7","v":"SP AusNet - North/East"},null,null,null,null,null,null,null,null,null,null,null,null,{"$f":"CP7","v":"SP AusNet - Central"},null,null,null,null,null,null,null,null,null,{"$f":"DA7","v":"SP AusNet - North/East"}]
[{"$f":"'DNSP Inputs O & M'!A57","v":"Location of selected public lighting assets within distributors' areas (%)"},null,{"$f":"$A$107","v":"MV80"},null,{"$f":"$A$148","v":"S-HP 150"},null,{"$f":"$A$186","v":"S-HP 250"},null,{"$f":"$A$226","v":"T5 (2 X 14W)"},{"$f":"$A$264","v":"T5 (2 X 24W)"},{"$f":"$A$302","v":"LED 18W"},null,{"$f":"$A$107","v":"MV80"},null,{"$f":"$A$148","v":"S-HP 150"},null,{"$f":"$A$186","v":"S-HP 250"},null,{"$f":"$A$226","v":"T5 (2 X 14W)"},{"$f":"$A$264","v":"T5 (2 X 24W)"},{"$f":"$A$302","v":"LED 18W"},null,null,null,null,{"$f":"$A$107","v":"MV80"},null,{"$f":"$A$148","v":"S-HP 150"},null,{"$f":"$A$186","v":"S-HP 250"},null,{"$f":"$A$226","v":"T5 (2 X 14W)"},{"$f":"$A$264","v":"T5 (2 X 24W)"},{"$f":"$A$302","v":"LED 18W"},null,{"$f":"$A$107","v":"MV80"},null,{"$f":"$A$148","v":"S-HP 150"},null,{"$f":"$A$186","v":"S-HP 250"},null,{"$f":"$A$226","v":"T5 (2 X 14W)"},{"$f":"$A$264","v":"T5 (2 X 24W)"},{"$f":"$A$302","v":"LED 18W"},null,null,null,null,{"$f":"$A$107","v":"MV80"},null,{"$f":"$A$148","v":"S-HP 150"},null,{"$f":"$A$186","v":"S-HP 250"},null,{"$f":"$A$226","v":"T5 (2 X 14W)"},{"$f":"$A$264","v":"T5 (2 X 24W)"},{"$f":"$A$302","v":"LED 18W"},null,{"$f":"$A$107","v":"MV80"},null,{"$f":"$A$148","v":"S-HP 150"},null,{"$f":"$A$186","v":"S-HP 250"},null,{"$f":"$A$226","v":"T5 (2 X 14W)"},{"$f":"$A$264","v":"T5 (2 X 24W)"},{"$f":"$A$302","v":"LED 18W"},null,null,null,null,{"$f":"$A$107","v":"MV80"},null,{"$f":"$A$148","v":"S-HP 150"},null,{"$f":"$A$186","v":"S-HP 250"},null,{"$f":"$A$226","v":"T5 (2 X 14W)"},{"$f":"$A$264","v":"T5 (2 X 24W)"},{"$f":"$A$302","v":"LED 18W"},null,{"$f":"$A$107","v":"MV80"},null,{"$f":"$A$148","v":"S-HP 150"},null,{"$f":"$A$186","v":"S-HP 250"},null,{"$f":"$A$226","v":"T5 (2 X 14W)"},{"$f":"$A$264","v":"T5 (2 X 24W)"},{"$f":"$A$302","v":"LED 18W"},null,null,null,null,{"$f":"$A$107","v":"MV80"},null,{"$f":"$A$148","v":"S-HP 150"},null,{"$f":"$A$186","v":"S-HP 250"},null,{"$f":"$A$226","v":"T5 (2 X 14W)"},{"$f":"$A$264","v":"T5 (2 X 24W)"},{"$f":"$A$302","v":"LED 18W"},null,{"$f":"$A$107","v":"MV80"},null,{"$f":"$A$148","v":"S-HP 150"},null,{"$f":"$A$186","v":"S-HP 250"},null,{"$f":"$A$226","v":"T5 (2 X 14W)"},{"$f":"$A$264","v":"T5 (2 X 24W)"},{"$f":"$A$302","v":"LED 18W"}]
[{"$f":"'DNSP Inputs O & M'!A59","v":"Urban"},null,{"$f":"'DNSP Inputs O & M'!$D$59","v":0.96},null,{"$f":"'DNSP Inputs O & M'!$D$102","v":0.94},null,{"$f":"'DNSP Inputs O & M'!$D$145","v":0.9},null,{"$f":"'DNSP Inputs O & M'!$D$218","v":0.96},{"$f":"'DNSP Inputs O & M'!$D$267","v":0.96},{"$f":"'DNSP Inputs O & M'!$D$315","v":0.96},null,{"$f":"'DNSP Inputs O & M'!$D$64","v":0.35},null,{"$f":"'DNSP Inputs O & M'!$D$107","v":0.3},null,{"$f":"'DNSP Inputs O & M'!$D$150","v":0.37},null,{"$f":"'DNSP Inputs O & M'!$D$223","v":0.35},{"$f":"'DNSP Inputs O & M'!$D$272","v":0.35},{"$f":"'DNSP Inputs O & M'!$D$320","v":0.35},null,null,null,null,{"$f":"'DNSP Inputs O & M'!$E$59","v":0.96},null,{"$f":"'DNSP Inputs O & M'!$E$102","v":0.94},null,{"$f":"'DNSP Inputs O & M'!$E$145","v":0.9},null,{"$f":"'DNSP Inputs O & M'!$E$218","v":0.96},{"$f":"'DNSP Inputs O & M'!$E$267","v":0.96},{"$f":"'DNSP Inputs O & M'!$E$315","v":0.96},null,{"$f":"'DNSP Inputs O & M'!$E$64","v":0.35},null,{"$f":"'DNSP Inputs O & M'!$E$107","v":0.3},null,{"$f":"'DNSP Inputs O & M'!$E$150","v":0.37},null,{"$f":"'DNSP Inputs O & M'!$E$223","v":0.35},{"$f":"'DNSP Inputs O & M'!$E$272","v":0.35},{"$f":"'DNSP Inputs O & M'!$E$320","v":0.35},null,null,null,null,{"$f":"'DNSP Inputs O & M'!$F$59","v":0.96},null,{"$f":"'DNSP Inputs O & M'!$F$102","v":0.94},null,{"$f":"'DNSP Inputs O & M'!$F$145","v":0.9},null,{"$f":"'DNSP Inputs O & M'!$F$218","v":0.96},{"$f":"'DNSP Inputs O & M'!$F$267","v":0.96},{"$f":"'DNSP Inputs O & M'!$F$315","v":0.96},null,{"$f":"'DNSP Inputs O & M'!$F$64","v":0.35},null,{"$f":"'DNSP Inputs O & M'!$F$107","v":0.3},null,{"$f":"'DNSP Inputs O & M'!$F$150","v":0.37},null,{"$f":"'DNSP Inputs O & M'!$F$223","v":0.35},{"$f":"'DNSP Inputs O & M'!$F$272","v":0.35},{"$f":"'DNSP Inputs O & M'!$F$320","v":0.35},null,null,null,null,{"$f":"'DNSP Inputs O & M'!$G$59","v":0.96},null,{"$f":"'DNSP Inputs O & M'!$G$102","v":0.94},null,{"$f":"'DNSP Inputs O & M'!$G$145","v":0.9},null,{"$f":"'DNSP Inputs O & M'!$G$218","v":0.96},{"$f":"'DNSP Inputs O & M'!$G$267","v":0.96},{"$f":"'DNSP Inputs O & M'!$G$315","v":0.96},null,{"$f":"'DNSP Inputs O & M'!$G$64","v":0.35},null,{"$f":"'DNSP Inputs O & M'!$G$107","v":0.3},null,{"$f":"'DNSP Inputs O & M'!$G$150","v":0.37},null,{"$f":"'DNSP Inputs O & M'!$G$223","v":0.35},{"$f":"'DNSP Inputs O & M'!$G$272","v":0.35},{"$f":"'DNSP Inputs O & M'!$G$320","v":0.35},null,null,null,null,{"$f":"'DNSP Inputs O & M'!$H$59","v":0.96},null,{"$f":"'DNSP Inputs O & M'!$H$102","v":0.94},null,{"$f":"'DNSP Inputs O & M'!$H$145","v":0.9},null,{"$f":"'DNSP Inputs O & M'!$H$218","v":0.96},{"$f":"'DNSP Inputs O & M'!$H$267","v":0.96},{"$f":"'DNSP Inputs O & M'!$H$315","v":0.96},null,{"$f":"'DNSP Inputs O & M'!$H$64","v":0.35},null,{"$f":"'DNSP Inputs O & M'!$H$107","v":0.3},null,{"$f":"'DNSP Inputs O & M'!$H$150","v":0.37},null,{"$f":"'DNSP Inputs O & M'!$H$223","v":0.35},{"$f":"'DNSP Inputs O & M'!$H$272","v":0.35},{"$f":"'DNSP Inputs O & M'!$H$320","v":0.35}]
[{"$f":"'DNSP Inputs O & M'!A60","v":"Rural"},null,{"$f":"'DNSP Inputs O & M'!$D$60","v":0.04},null,{"$f":"'DNSP Inputs O & M'!$D$103","v":0.06},null,{"$f":"'DNSP Inputs O & M'!$D$146","v":0.1},null,{"$f":"'DNSP Inputs O & M'!$D$219","v":0.04},{"$f":"'DNSP Inputs O & M'!$D$268","v":0.04},{"$f":"'DNSP Inputs O & M'!$D$316","v":0.04},null,{"$f":"'DNSP Inputs O & M'!$D$65","v":0.53},null,{"$f":"'DNSP Inputs O & M'!$D$108","v":0.63},null,{"$f":"'DNSP Inputs O & M'!$D$151","v":0.56999999999999995},null,{"$f":"'DNSP Inputs O & M'!$D$224","v":0.53},{"$f":"'DNSP Inputs O & M'!$D$273","v":0.53},{"$f":"'DNSP Inputs O & M'!$D$321","v":0.53},null,null,null,null,{"$f":"'DNSP Inputs O & M'!$E$60","v":0.04},null,{"$f":"'DNSP Inputs O & M'!$E$103","v":0.06},null,{"$f":"'DNSP Inputs O & M'!$E$146","v":0.1},null,{"$f":"'DNSP Inputs O & M'!$E$219","v":0.04},{"$f":"'DNSP Inputs O & M'!$E$268","v":0.04},{"$f":"'DNSP Inputs O & M'!$E$316","v":0.04},null,{"$f":"'DNSP Inputs O & M'!$E$65","v":0.53},null,{"$f":"'DNSP Inputs O & M'!$E$108","v":0.63},null,{"$f":"'DNSP Inputs O & M'!$E$151","v":0.56999999999999995},null,{"$f":"'DNSP Inputs O & M'!$E$224","v":0.53},{"$f":"'DNSP Inputs O & M'!$E$273","v":0.53},{"$f":"'DNSP Inputs O & M'!$E$321","v":0.53},null,null,null,null,{"$f":"'DNSP Inputs O & M'!$F$60","v":0.04},null,{"$f":"'DNSP Inputs O & M'!$F$103","v":0.06},null,{"$f":"'DNSP Inputs O & M'!$F$146","v":0.1},null,{"$f":"'DNSP Inputs O & M'!$F$219","v":0.04},{"$f":"'DNSP Inputs O & M'!$F$268","v":0.04},{"$f":"'DNSP Inputs O & M'!$F$316","v":0.04},null,{"$f":"'DNSP Inputs O & M'!$F$65","v":0.53},null,{"$f":"'DNSP Inputs O & M'!$F$108","v":0.63},null,{"$f":"'DNSP Inputs O & M'!$F$151","v":0.56999999999999995},null,{"$f":"'DNSP Inputs O & M'!$F$224","v":0.53},{"$f":"'DNSP Inputs O & M'!$F$273","v":0.53},{"$f":"'DNSP Inputs O & M'!$F$321","v":0.53},null,null,null,null,{"$f":"'DNSP Inputs O & M'!$G$60","v":0.04},null,{"$f":"'DNSP Inputs O & M'!$G$103","v":0.06},null,{"$f":"'DNSP Inputs O & M'!$G$146","v":0.1},null,{"$f":"'DNSP Inputs O & M'!$G$219","v":0.04},{"$f":"'DNSP Inputs O & M'!$G$268","v":0.04},{"$f":"'DNSP Inputs O & M'!$G$316","v":0.04},null,{"$f":"'DNSP Inputs O & M'!$G$65","v":0.53},null,{"$f":"'DNSP Inputs O & M'!$G$108","v":0.63},null,{"$f":"'DNSP Inputs O & M'!$G$151","v":0.56999999999999995},null,{"$f":"'DNSP Inputs O & M'!$G$224","v":0.53},{"$f":"'DNSP Inputs O & M'!$G$273","v":0.53},{"$f":"'DNSP Inputs O & M'!$G$321","v":0.53},null,null,null,null,{"$f":"'DNSP Inputs O & M'!$H$60","v":0.04},null,{"$f":"'DNSP Inputs O & M'!$H$103","v":0.06},null,{"$f":"'DNSP Inputs O & M'!$H$146","v":0.1},null,{"$f":"'DNSP Inputs O & M'!$H$219","v":0.04},{"$f":"'DNSP Inputs O & M'!$H$268","v":0.04},{"$f":"'DNSP Inputs O & M'!$H$316","v":0.04},null,{"$f":"'DNSP Inputs O & M'!$H$65","v":0.53},null,{"$f":"'DNSP Inputs O & M'!$H$108","v":0.63},null,{"$f":"'DNSP Inputs O & M'!$H$151","v":0.56999999999999995},null,{"$f":"'DNSP Inputs O & M'!$H$224","v":0.53},{"$f":"'DNSP Inputs O & M'!$H$273","v":0.53},{"$f":"'DNSP Inputs O & M'!$H$321","v":0.53}]
[{"$f":"'DNSP Inputs O & M'!A61","v":"Remote"},null,{"$f":"'DNSP Inputs O & M'!$D$61","v":0},null,{"$f":"'DNSP Inputs O & M'!$D$104","v":0},null,{"$f":"'DNSP Inputs O & M'!$D$147","v":0},null,{"$f":"'DNSP Inputs O & M'!$D$220","v":0},{"$f":"'DNSP Inputs O & M'!$D$269","v":0},{"$f":"'DNSP Inputs O & M'!$D$317","v":0},null,{"$f":"'DNSP Inputs O & M'!$D$66","v":0.12},null,{"$f":"'DNSP Inputs O & M'!$D$109","v":7.0000000000000007E-2},null,{"$f":"'DNSP Inputs O & M'!$D$152","v":0.06},null,{"$f":"'DNSP Inputs O & M'!$D$225","v":0.12},{"$f":"'DNSP Inputs O & M'!$D$274","v":0.12},{"$f":"'DNSP Inputs O & M'!$D$322","v":0.12},null,null,null,null,{"$f":"'DNSP Inputs O & M'!$E$61","v":0},null,{"$f":"'DNSP Inputs O & M'!$E$104","v":0},null,{"$f":"'DNSP Inputs O & M'!$E$147","v":0},null,{"$f":"'DNSP Inputs O & M'!$E$220","v":0},{"$f":"'DNSP Inputs O & M'!$E$269","v":0},{"$f":"'DNSP Inputs O & M'!$E$317","v":0},null,{"$f":"'DNSP Inputs O & M'!$E$66","v":0.12},null,{"$f":"'DNSP Inputs O & M'!$E$109","v":7.0000000000000007E-2},null,{"$f":"'DNSP Inputs O & M'!$E$152","v":0.06},null,{"$f":"'DNSP Inputs O & M'!$E$225","v":0.12},{"$f":"'DNSP Inputs O & M'!$E$274","v":0.12},{"$f":"'DNSP Inputs O & M'!$E$322","v":0.12},null,null,null,null,{"$f":"'DNSP Inputs O & M'!$F$61","v":0},null,{"$f":"'DNSP Inputs O & M'!$F$104","v":0},null,{"$f":"'DNSP Inputs O & M'!$F$147","v":0},null,{"$f":"'DNSP Inputs O & M'!$F$220","v":0},{"$f":"'DNSP Inputs O & M'!$F$269","v":0},{"$f":"'DNSP Inputs O & M'!$F$317","v":0},null,{"$f":"'DNSP Inputs O & M'!$F$66","v":0.12},null,{"$f":"'DNSP Inputs O & M'!$F$109","v":7.0000000000000007E-2},null,{"$f":"'DNSP Inputs O & M'!$F$152","v":0.06},null,{"$f":"'DNSP Inputs O & M'!$F$225","v":0.12},{"$f":"'DNSP Inputs O & M'!$F$274","v":0.12},{"$f":"'DNSP Inputs O & M'!$F$322","v":0.12},null,null,null,null,{"$f":"'DNSP Inputs O & M'!$G$61","v":0},null,{"$f":"'DNSP Inputs O & M'!$G$104","v":0},null,{"$f":"'DNSP Inputs O & M'!$G$147","v":0},null,{"$f":"'DNSP Inputs O & M'!$G$220","v":0},{"$f":"'DNSP Inputs O & M'!$G$269","v":0},{"$f":"'DNSP Inputs O & M'!$G$317","v":0},null,{"$f":"'DNSP Inputs O & M'!$G$66","v":0.12},null,{"$f":"'DNSP Inputs O & M'!$G$109","v":7.0000000000000007E-2},null,{"$f":"'DNSP Inputs O & M'!$G$152","v":0.06},null,{"$f":"'DNSP Inputs O & M'!$G$225","v":0.12},{"$f":"'DNSP Inputs O & M'!$G$274","v":0.12},{"$f":"'DNSP Inputs O & M'!$G$322","v":0.12},null,null,null,null,{"$f":"'DNSP Inputs O & M'!$H$61","v":0},null,{"$f":"'DNSP Inputs O & M'!$H$104","v":0},null,{"$f":"'DNSP Inputs O & M'!$H$147","v":0},null,{"$f":"'DNSP Inputs O & M'!$H$220","v":0},{"$f":"'DNSP Inputs O & M'!$H$269","v":0},{"$f":"'DNSP Inputs O & M'!$H$317","v":0},null,{"$f":"'DNSP Inputs O & M'!$H$66","v":0.12},null,{"$f":"'DNSP Inputs O & M'!$H$109","v":7.0000000000000007E-2},null,{"$f":"'DNSP Inputs O & M'!$H$152","v":0.06},null,{"$f":"'DNSP Inputs O & M'!$H$225","v":0.12},{"$f":"'DNSP Inputs O & M'!$H$274","v":0.12},{"$f":"'DNSP Inputs O & M'!$H$322","v":0.12}]
[]
[null,null,{"$f":"$A$337","v":"LED 14W"},null,{"$f":"$A$372","v":"LED 70W (L1)"},null,{"$f":"$A$407","v":"LED 155W (L2)"},null,{"$f":"$A$442","v":"LED 275W (L4)"},null,null,null,{"$f":"$A$337","v":"LED 14W"},null,{"$f":"$A$372","v":"LED 70W (L1)"},null,{"$f":"$A$407","v":"LED 155W (L2)"},null,{"$f":"$A$442","v":"LED 275W (L4)"},null,null,null,null,null,null,{"$f":"$A$337","v":"LED 14W"},null,{"$f":"$A$372","v":"LED 70W (L1)"},null,{"$f":"$A$407","v":"LED 155W (L2)"},null,{"$f":"$A$442","v":"LED 275W (L4)"},null,null,null,{"$f":"$A$337","v":"LED 14W"},null,{"$f":"$A$372","v":"LED 70W (L1)"},null,{"$f":"$A$407","v":"LED 155W (L2)"},null,{"$f":"$A$442","v":"LED 275W (L4)"},null,null,null,null,null,null,{"$f":"$A$337","v":"LED 14W"},null,{"$f":"$A$372","v":"LED 70W (L1)"},null,{"$f":"$A$407","v":"LED 155W (L2)"},null,{"$f":"$A$442","v":"LED 275W (L4)"},null,null,null,{"$f":"$A$337","v":"LED 14W"},null,{"$f":"$A$372","v":"LED 70W (L1)"},null,{"$f":"$A$407","v":"LED 155W (L2)"},null,{"$f":"$A$442","v":"LED 275W (L4)"},null,null,null,null,null,null,{"$f":"$A$337","v":"LED 14W"},null,{"$f":"$A$372","v":"LED 70W (L1)"},null,{"$f":"$A$407","v":"LED 155W (L2)"},null,{"$f":"$A$442","v":"LED 275W (L4)"},null,null,null,{"$f":"$A$337","v":"LED 14W"},null,{"$f":"$A$372","v":"LED 70W (L1)"},null,{"$f":"$A$407","v":"LED 155W (L2)"},null,{"$f":"$A$442","v":"LED 275W (L4)"},null,null,null,null,null,null,{"$f":"$A$337","v":"LED 14W"},null,{"$f":"$A$372","v":"LED 70W (L1)"},null,{"$f":"$A$407","v":"LED 155W (L2)"},null,{"$f":"$A$442","v":"LED 275W (L4)"},null,null,null,{"$f":"$A$337","v":"LED 14W"},null,{"$f":"$A$372","v":"LED 70W (L1)"},null,{"$f":"$A$407","v":"LED 155W (L2)"},null,{"$f":"$A$442","v":"LED 275W (L4)"}]
[{"$f":"A71","v":"Urban"},null,{"$f":"'DNSP Inputs O & M'!$D$361","v":0.96},null,{"$f":"'DNSP Inputs O & M'!$D$407","v":0.96},null,{"$f":"'DNSP Inputs O & M'!$D$453","v":0.96},null,{"$f":"'DNSP Inputs O & M'!$D$499","v":0.96},null,null,null,{"$f":"'DNSP Inputs O & M'!$D$366","v":0.35},null,{"$f":"'DNSP Inputs O & M'!$D$412","v":0.35},null,{"$f":"'DNSP Inputs O & M'!$D$458","v":0.35},null,{"$f":"'DNSP Inputs O & M'!$D$504","v":0.35},null,null,null,null,null,null,{"$f":"'DNSP Inputs O & M'!$E$361","v":0.96},null,{"$f":"'DNSP Inputs O & M'!$E$407","v":0.96},null,{"$f":"'DNSP Inputs O & M'!$E$453","v":0.96},null,{"$f":"'DNSP Inputs O & M'!$E$499","v":0.96},null,null,null,{"$f":"'DNSP Inputs O & M'!$E$366","v":0.35},null,{"$f":"'DNSP Inputs O & M'!$E$412","v":0.35},null,{"$f":"'DNSP Inputs O & M'!$E$458","v":0.35},null,{"$f":"'DNSP Inputs O & M'!$E$504","v":0.35},null,null,null,null,null,null,{"$f":"'DNSP Inputs O & M'!$F$361","v":0.96},null,{"$f":"'DNSP Inputs O & M'!$F$407","v":0.96},null,{"$f":"'DNSP Inputs O & M'!$F$453","v":0.96},null,{"$f":"'DNSP Inputs O & M'!$F$499","v":0.96},null,null,null,{"$f":"'DNSP Inputs O & M'!$F$366","v":0.35},null,{"$f":"'DNSP Inputs O & M'!$F$412","v":0.35},null,{"$f":"'DNSP Inputs O & M'!$F$458","v":0.35},null,{"$f":"'DNSP Inputs O & M'!$F$504","v":0.35},null,null,null,null,null,null,{"$f":"'DNSP Inputs O & M'!$G$361","v":0.96},null,{"$f":"'DNSP Inputs O & M'!$G$407","v":0.96},null,{"$f":"'DNSP Inputs O & M'!$G$453","v":0.96},null,{"$f":"'DNSP Inputs O & M'!$G$499","v":0.96},null,null,null,{"$f":"'DNSP Inputs O & M'!$G$366","v":0.35},null,{"$f":"'DNSP Inputs O & M'!$G$412","v":0.35},null,{"$f":"'DNSP Inputs O & M'!$G$458","v":0.35},null,{"$f":"'DNSP Inputs O & M'!$G$504","v":0.35},null,null,null,null,null,null,{"$f":"'DNSP Inputs O & M'!$H$361","v":0.96},null,{"$f":"'DNSP Inputs O & M'!$H$407","v":0.96},null,{"$f":"'DNSP Inputs O & M'!$H$453","v":0.96},null,{"$f":"'DNSP Inputs O & M'!$H$499","v":0.96},null,null,null,{"$f":"'DNSP Inputs O & M'!$H$366","v":0.35},null,{"$f":"'DNSP Inputs O & M'!$H$412","v":0.35},null,{"$f":"'DNSP Inputs O & M'!$H$458","v":0.35},null,{"$f":"'DNSP Inputs O & M'!$H$504","v":0.35}]
[{"$f":"A72","v":"Rural"},null,{"$f":"'DNSP Inputs O & M'!$D$362","v":0.04},null,{"$f":"'DNSP Inputs O & M'!$D$408","v":0.04},null,{"$f":"'DNSP Inputs O & M'!$D$454","v":0.04},null,{"$f":"'DNSP Inputs O & M'!$D$500","v":0.04},null,null,null,{"$f":"'DNSP Inputs O & M'!$D$367","v":0.53},null,{"$f":"'DNSP Inputs O & M'!$D$413","v":0.53},null,{"$f":"'DNSP Inputs O & M'!$D$459","v":0.53},null,{"$f":"'DNSP Inputs O & M'!$D$505","v":0.53},null,null,null,null,null,null,{"$f":"'DNSP Inputs O & M'!$E$362","v":0.04},null,{"$f":"'DNSP Inputs O & M'!$E$408","v":0.04},null,{"$f":"'DNSP Inputs O & M'!$E$454","v":0.04},null,{"$f":"'DNSP Inputs O & M'!$E$500","v":0.04},null,null,null,{"$f":"'DNSP Inputs O & M'!$E$367","v":0.53},null,{"$f":"'DNSP Inputs O & M'!$E$413","v":0.53},null,{"$f":"'DNSP Inputs O & M'!$E$459","v":0.53},null,{"$f":"'DNSP Inputs O & M'!$E$505","v":0.53},null,null,null,null,null,null,{"$f":"'DNSP Inputs O & M'!$F$362","v":0.04},null,{"$f":"'DNSP Inputs O & M'!$F$408","v":0.04},null,{"$f":"'DNSP Inputs O & M'!$F$454","v":0.04},null,{"$f":"'DNSP Inputs O & M'!$F$500","v":0.04},null,null,null,{"$f":"'DNSP Inputs O & M'!$F$367","v":0.53},null,{"$f":"'DNSP Inputs O & M'!$F$413","v":0.53},null,{"$f":"'DNSP Inputs O & M'!$F$459","v":0.53},null,{"$f":"'DNSP Inputs O & M'!$F$505","v":0.53},null,null,null,null,null,null,{"$f":"'DNSP Inputs O & M'!$G$362","v":0.04},null,{"$f":"'DNSP Inputs O & M'!$G$408","v":0.04},null,{"$f":"'DNSP Inputs O & M'!$G$454","v":0.04},null,{"$f":"'DNSP Inputs O & M'!$G$500","v":0.04},null,null,null,{"$f":"'DNSP Inputs O & M'!$G$367","v":0.53},null,{"$f":"'DNSP Inputs O & M'!$G$413","v":0.53},null,{"$f":"'DNSP Inputs O & M'!$G$459","v":0.53},null,{"$f":"'DNSP Inputs O & M'!$G$505","v":0.53},null,null,null,null,null,null,{"$f":"'DNSP Inputs O & M'!$H$362","v":0.04},null,{"$f":"'DNSP Inputs O & M'!$H$408","v":0.04},null,{"$f":"'DNSP Inputs O & M'!$H$454","v":0.04},null,{"$f":"'DNSP Inputs O & M'!$H$500","v":0.04},null,null,null,{"$f":"'DNSP Inputs O & M'!$H$367","v":0.53},null,{"$f":"'DNSP Inputs O & M'!$H$413","v":0.53},null,{"$f":"'DNSP Inputs O & M'!$H$459","v":0.53},null,{"$f":"'DNSP Inputs O & M'!$H$505","v":0.53}]
["Remote",null,{"$f":"'DNSP Inputs O & M'!$D$363","v":0},null,{"$f":"'DNSP Inputs O & M'!$D$409","v":0},null,{"$f":"'DNSP Inputs O & M'!$D$455","v":0},null,{"$f":"'DNSP Inputs O & M'!$D$501","v":0},null,null,null,{"$f":"'DNSP Inputs O & M'!$D$368","v":0.12},null,{"$f":"'DNSP Inputs O & M'!$D$414","v":0.12},null,{"$f":"'DNSP Inputs O & M'!$D$460","v":0.12},null,{"$f":"'DNSP Inputs O & M'!$D$506","v":0.12},null,null,null,null,null,null,{"$f":"'DNSP Inputs O & M'!$E$363","v":0},null,{"$f":"'DNSP Inputs O & M'!$E$409","v":0},null,{"$f":"'DNSP Inputs O & M'!$E$455","v":0},null,{"$f":"'DNSP Inputs O & M'!$E$501","v":0},null,null,null,{"$f":"'DNSP Inputs O & M'!$E$368","v":0.12},null,{"$f":"'DNSP Inputs O & M'!$E$414","v":0.12},null,{"$f":"'DNSP Inputs O & M'!$E$460","v":0.12},null,{"$f":"'DNSP Inputs O & M'!$E$506","v":0.12},null,null,null,null,null,null,{"$f":"'DNSP Inputs O & M'!$F$363","v":0},null,{"$f":"'DNSP Inputs O & M'!$F$409","v":0},null,{"$f":"'DNSP Inputs O & M'!$F$455","v":0},null,{"$f":"'DNSP Inputs O & M'!$F$501","v":0},null,null,null,{"$f":"'DNSP Inputs O & M'!$F$368","v":0.12},null,{"$f":"'DNSP Inputs O & M'!$F$414","v":0.12},null,{"$f":"'DNSP Inputs O & M'!$F$460","v":0.12},null,{"$f":"'DNSP Inputs O & M'!$F$506","v":0.12},null,null,null,null,null,null,{"$f":"'DNSP Inputs O & M'!$G$363","v":0},null,{"$f":"'DNSP Inputs O & M'!$G$409","v":0},null,{"$f":"'DNSP Inputs O & M'!$G$455","v":0},null,{"$f":"'DNSP Inputs O & M'!$G$501","v":0},null,null,null,{"$f":"'DNSP Inputs O & M'!$G$368","v":0.12},null,{"$f":"'DNSP Inputs O & M'!$G$414","v":0.12},null,{"$f":"'DNSP Inputs O & M'!$G$460","v":0.12},null,{"$f":"'DNSP Inputs O & M'!$G$506","v":0.12},null,null,null,null,null,null,{"$f":"'DNSP Inputs O & M'!$H$363","v":0},null,{"$f":"'DNSP Inputs O & M'!$H$409","v":0},null,{"$f":"'DNSP Inputs O & M'!$H$455","v":0},null,{"$f":"'DNSP Inputs O & M'!$H$501","v":0},null,null,null,{"$f":"'DNSP Inputs O & M'!$H$368","v":0.12},null,{"$f":"'DNSP Inputs O & M'!$H$414","v":0.12},null,{"$f":"'DNSP Inputs O & M'!$H$460","v":0.12},null,{"$f":"'DNSP Inputs O & M'!$H$506","v":0.12}]
[]
[]
[{"$f":"'DNSP Inputs O & M'!A161","v":"Proportion of lights on dedicated poles"},null,{"$f":"'DNSP Inputs O & M'!$D$162","v":0.38119062500000001},null,null,null,null,null,null,null,null,null,{"$f":"'DNSP Inputs O & M'!$D$163","v":0.38296744016378254},null,null,null,null,null,null,null,null,null,null,null,null,{"$f":"'DNSP Inputs O & M'!$E$162","v":0.38119062500000001},null,null,null,null,null,null,null,null,null,{"$f":"'DNSP Inputs O & M'!$E$163","v":0.38296744016378254},null,null,null,null,null,null,null,null,null,null,null,null,{"$f":"'DNSP Inputs O & M'!$F$162","v":0.38119062500000001},null,null,null,null,null,null,null,null,null,{"$f":"'DNSP Inputs O & M'!$F$163","v":0.38296744016378254},null,null,null,null,null,null,null,null,null,null,null,null,{"$f":"'DNSP Inputs O & M'!$G$162","v":0.38119062500000001},null,null,null,null,null,null,null,null,null,{"$f":"'DNSP Inputs O & M'!$G$163","v":0.38296744016378254},null,null,null,null,null,null,null,null,null,null,null,null,{"$f":"'DNSP Inputs O & M'!$H$162","v":0.38119062500000001},null,null,null,null,null,null,null,null,null,{"$f":"'DNSP Inputs O & M'!$H$163","v":0.38296744016378254}]
[]
[{"$f":"'DNSP Inputs O & M'!A167","v":"Other direct costs"}]
[{"$f":"'DNSP Inputs O & M'!$A$168","v":"Call centre"},null,{"$f":"'DNSP Inputs O & M'!$D$171","v":62440},null,null,null,null,null,null,null,null,null,null,null,null,null,null,null,null,null,null,null,null,null,null,{"$f":"'DNSP Inputs O & M'!$E$171","v":66440},null,null,null,null,null,null,null,null,null,null,null,null,null,null,null,null,null,null,null,null,null,null,{"$f":"'DNSP Inputs O & M'!$F$171","v":70440},null,null,null,null,null,null,null,null,null,null,null,null,null,null,null,null,null,null,null,null,null,null,{"$f":"'DNSP Inputs O & M'!$G$171","v":74440},null,null,null,null,null,null,null,null,null,null,null,null,null,null,null,null,null,null,null,null,null,null,{"$f":"'DNSP Inputs O & M'!$H$171","v":78440}]
[{"$f":"'DNSP Inputs O & M'!$A$173","v":"GIS and other"},null,{"$f":"'DNSP Inputs O & M'!$D$173","v":118584.41510767433},null,null,null,null,null,null,null,null,null,null,null,null,null,null,null,null,null,null,null,null,null,null,{"$f":"'DNSP Inputs O & M'!$E$173","v":118584.41510767433},null,null,null,null,null,null,null,null,null,null,null,null,null,null,null,null,null,null,null,null,null,null,{"$f":"'DNSP Inputs O & M'!$F$173","v":118584.41510767433},null,null,null,null,null,null,null,null,null,null,null,null,null,null,null,null,null,null,null,null,null,null,{"$f":"'DNSP Inputs O & M'!$G$173","v":118584.41510767433},null,null,null,null,null,null,null,null,null,null,null,null,null,null,null,null,null,null,null,null,null,null,{"$f":"'DNSP Inputs O & M'!$H$173","v":118584.41510767433}]
[{"$f":"'DNSP Inputs O & M'!A174","v":"Complaints handling"},null,{"$f":"'DNSP Inputs O & M'!$D$174","v":35575.3245323023},null,null,null,null,null,null,null,null,null,null,null,null,null,null,null,null,null,null,null,null,null,null,{"$f":"'DNSP Inputs O & M'!$E$174","v":35575.3245323023},null,null,null,null,null,null,null,null,null,null,null,null,null,null,null,null,null,null,null,null,null,null,{"$f":"'DNSP Inputs O & M'!$F$174","v":35575.3245323023},null,null,null,null,null,null,null,null,null,null,null,null,null,null,null,null,null,null,null,null,null,null,{"$f":"'DNSP Inputs O & M'!$G$174","v":35575.3245323023},null,null,null,null,null,null,null,null,null,null,null,null,null,null,null,null,null,null,null,null,null,null,{"$f":"'DNSP Inputs O & M'!$H$174","v":35575.3245323023}]
[null,null,{"$f":"SUM(C84:C86)","v":216599.73963997661},null,null,null,null,null,null,null,null,null,null,null,null,null,null,null,null,null,null,null,null,null,null,{"$f":"SUM(Z84:Z86)","v":220599.73963997661},null,null,null,null,null,null,null,null,null,null,null,null,null,null,null,null,null,null,null,null,null,null,{"$f":"SUM(AW84:AW86)","v":224599.73963997661},null,null,null,null,null,null,null,null,null,null,null,null,null,null,null,null,null,null,null,null,null,null,{"$f":"SUM(BT84:BT86)","v":228599.73963997661},null,null,null,null,null,null,null,null,null,null,null,null,null,null,null,null,null,null,null,null,null,null,{"$f":"SUM(CQ84:CQ86)","v":232599.73963997661}]
[]
[{"$f":"'DNSP Inputs General'!A80","v":"Total Number of Lights"},null,{"$f":"SUM('DNSP Inputs General'!$Q$80,'DNSP Inputs General'!$Q$124)","v":187600.34843500552},null,null,null,null,null,null,null,null,null,null,null,null,null,null,null,null,null,null,null,null,null,null,{"$f":"SUM('DNSP Inputs General'!$R$80,'DNSP Inputs General'!$R$124)","v":192160.69818226827},null,null,null,null,null,null,null,null,null,null,null,null,null,null,null,null,null,null,null,null,null,null,{"$f":"SUM('DNSP Inputs General'!$S$80,'DNSP Inputs General'!$S$124)","v":196768.5486478433},null,null,null,null,null,null,null,null,null,null,null,null,null,null,null,null,null,null,null,null,null,null,{"$f":"SUM('DNSP Inputs General'!$T$80,'DNSP Inputs General'!$T$124)","v":201417.42823786137},null,null,null,null,null,null,null,null,null,null,null,null,null,null,null,null,null,null,null,null,null,null,{"$f":"SUM('DNSP Inputs General'!$U$80,'DNSP Inputs General'!$U$124)","v":206271.37005096188}]
[]
[]
[]
[]
[]
["Mercury Vapour 80 Watt Standard Light Type - Cost build-up"]
[]
["Additional assumptions"]
["Proportion of lamps that will fail before bulk change",null,null,{"$f":"'DNSP Inputs O & M'!$D$27","v":0.19416850184289608},null,null,null,null,null,null,null,null,null,null,null,null,null,null,null,null,null,null,null,null,null,null,{"$f":"'DNSP Inputs O & M'!$E$27","v":0.19416850184289608},null,null,null,null,null,null,null,null,null,null,null,null,null,null,null,null,null,null,null,null,null,null,{"$f":"'DNSP Inputs O & M'!$F$27","v":0.19416850184289608},null,null,null,null,null,null,null,null,null,null,null,null,null,null,null,null,null,null,null,null,null,null,{"$f":"'DNSP Inputs O & M'!$G$27","v":0.19416850184289608},null,null,null,null,null,null,null,null,null,null,null,null,null,null,null,null,null,null,null,null,null,null,{"$f":"'DNSP Inputs O & M'!$H$27","v":0.19416850184289608}]
["Proportion of lamps that will fail before bulk change (per year)",null,null,{"$f":"D98/'DNSP Inputs O & M'!$D$25","v":4.854212546072402E-2},null,null,null,null,null,null,null,null,null,null,null,null,null,null,null,null,null,null,null,null,null,null,{"$f":"AA98/'DNSP Inputs O & M'!$E$25","v":4.854212546072402E-2},null,null,null,null,null,null,null,null,null,null,null,null,null,null,null,null,null,null,null,null,null,null,{"$f":"AX98/'DNSP Inputs O & M'!$F$25","v":4.854212546072402E-2},null,null,null,null,null,null,null,null,null,null,null,null,null,null,null,null,null,null,null,null,null,null,{"$f":"BU98/'DNSP Inputs O & M'!$G$25","v":4.854212546072402E-2},null,null,null,null,null,null,null,null,null,null,null,null,null,null,null,null,null,null,null,null,null,null,{"$f":"CR98/'DNSP Inputs O & M'!$H$25","v":4.854212546072402E-2}]
["Overheads are applied to material and labour components"]
["All costs and charges are exclusive of GST"]
[]
[null,"Urban",null,null,null,null,null,null,"Rural",null,null,null,null,null,null,"Remote",null,null,null,null,null,null,null,null,"Urban",null,null,null,null,null,null,"Rural",null,null,null,null,null,null,"Remote",null,null,null,null,null,null,null,null,"Urban",null,null,null,null,null,null,"Rural",null,null,null,null,null,null,"Remote",null,null,null,null,null,null,null,null,"Urban",null,null,null,null,null,null,"Rural",null,null,null,null,null,null,"Remote",null,null,null,null,null,null,null,null,"Urban",null,null,null,null,null,null,"Rural",null,null,null,null,null,null,"Remote"]
[]
[null,"Unit rate","Number","Hours","Cost","Annualised","Annualised",null,"Unit rate","Number","Hours","Cost","Annualised","Annualised",null,"Unit rate","Number","Hours","Cost","Annualised","Annualised",null,null,null,"Unit rate","Number","Hours","Cost","Annualised","Annualised",null,"Unit rate","Number","Hours","Cost","Annualised","Annualised",null,"Unit rate","Number","Hours","Cost","Annualised","Annualised",null,null,null,"Unit rate","Number","Hours","Cost","Annualised","Annualised",null,"Unit rate","Number","Hours","Cost","Annualised","Annualised",null,"Unit rate","Number","Hours","Cost","Annualised","Annualised",null,null,null,"Unit rate","Number","Hours","Cost","Annualised","Annualised",null,"Unit rate","Number","Hours","Cost","Annualised","Annualised",null,"Unit rate","Number","Hours","Cost","Annualised","Annualised",null,null,null,"Unit rate","Number","Hours","Cost","Annualised","Annualised",null,"Unit rate","Number","Hours","Cost","Annualised","Annualised",null,"Unit rate","Number","Hours","Cost","Annualised","Annualised"]
[null,null,null,null,null," cost","unit cost",null,null,null,null,null," cost","unit cost",null,null,null,null,null," cost","unit cost",null,null,null,null,null,null,null," cost","unit cost",null,null,null,null,null," cost","unit cost",null,null,null,null,null," cost","unit cost",null,null,null,null,null,null,null," cost","unit cost",null,null,null,null,null," cost","unit cost",null,null,null,null,null," cost","unit cost",null,null,null,null,null,null,null," cost","unit cost",null,null,null,null,null," cost","unit cost",null,null,null,null,null," cost","unit cost",null,null,null,null,null,null,null," cost","unit cost",null,null,null,null,null," cost","unit cost",null,null,null,null,null," cost","unit cost"]
["MV80"]
["Bulk change & repairs"]
["Materials - bulk lamp change"]
["Lamp",{"$f":"'DNSP Inputs O & M'!$D$28","v":4.71},{"$f":"'DNSP Inputs O & M'!$D$34","v":86},null,{"$f":"B110*C110","v":405.06},{"$f":"E110/'DNSP Inputs O & M'!$D$25*0.8","v":81.012},{"$f":"(F110+F111+F112)/C110","v":3.101529134138421},null,{"$f":"'DNSP Inputs O & M'!$D$28*(1+'DNSP Inputs O & M'!$D$11)","v":4.9455},{"$f":"'DNSP Inputs O & M'!$D$35","v":72},null,{"$f":"I110*J110","v":356.07600000000002},{"$f":"L110/'DNSP Inputs O & M'!$D$25*0.8","v":71.21520000000001},{"$f":"(M110+M111+M112)/J110","v":3.256605590845342},null,{"$f":"'DNSP Inputs O & M'!$D$28*(1+'DNSP Inputs O & M'!$D$11)","v":4.9455},{"$f":"'DNSP Inputs O & M'!$D$36","v":60},null,{"$f":"P110*Q110","v":296.73},{"$f":"S110/'DNSP Inputs O & M'!$D$25*0.8","v":59.346000000000004},{"$f":"(T110+T111+T112)/Q110","v":3.2566055908453415},null,null,null,{"$f":"'DNSP Inputs O & M'!$E$28","v":4.71},{"$f":"'DNSP Inputs O & M'!$E$34","v":86},null,{"$f":"Y110*Z110","v":405.06},{"$f":"AB110/'DNSP Inputs O & M'!$E$25*0.8","v":81.012},{"$f":"(AC110+AC111+AC112)/Z110","v":3.101529134138421},null,{"$f":"'DNSP Inputs O & M'!$E$28*(1+'DNSP Inputs O & M'!$E$11)","v":4.9455},{"$f":"'DNSP Inputs O & M'!$E$35","v":72},null,{"$f":"AF110*AG110","v":356.07600000000002},{"$f":"AI110/'DNSP Inputs O & M'!$E$25*0.8","v":71.21520000000001},{"$f":"(AJ110+AJ111+AJ112)/AG110","v":3.256605590845342},null,{"$f":"'DNSP Inputs O & M'!$E$28*(1+'DNSP Inputs O & M'!$E$11)","v":4.9455},{"$f":"'DNSP Inputs O & M'!$E$36","v":60},null,{"$f":"AM110*AN110","v":296.73},{"$f":"AP110/'DNSP Inputs O & M'!$E$25*0.8","v":59.346000000000004},{"$f":"(AQ110+AQ111+AQ112)/AN110","v":3.2566055908453415},null,null,null,{"$f":"'DNSP Inputs O & M'!$F$28","v":4.71},{"$f":"'DNSP Inputs O & M'!$F$34","v":86},null,{"$f":"AV110*AW110","v":405.06},{"$f":"AY110/'DNSP Inputs O & M'!$F$25*0.8","v":81.012},{"$f":"(AZ110+AZ111+AZ112)/AW110","v":3.101529134138421},null,{"$f":"'DNSP Inputs O & M'!$F$28*(1+'DNSP Inputs O & M'!$F$11)","v":4.9455},{"$f":"'DNSP Inputs O & M'!$F$35","v":72},null,{"$f":"BC110*BD110","v":356.07600000000002},{"$f":"BF110/'DNSP Inputs O & M'!$F$25*0.8","v":71.21520000000001},{"$f":"(BG110+BG111+BG112)/BD110","v":3.256605590845342},null,{"$f":"'DNSP Inputs O & M'!$F$28*(1+'DNSP Inputs O & M'!$F$11)","v":4.9455},{"$f":"'DNSP Inputs O & M'!$F$36","v":60},null,{"$f":"BJ110*BK110","v":296.73},{"$f":"BM110/'DNSP Inputs O & M'!$F$25*0.8","v":59.346000000000004},{"$f":"(BN110+BN111+BN112)/BK110","v":3.2566055908453415},null,null,null,{"$f":"'DNSP Inputs O & M'!$G$28","v":4.71},{"$f":"'DNSP Inputs O & M'!$G$34","v":86},null,{"$f":"BS110*BT110","v":405.06},{"$f":"BV110/'DNSP Inputs O & M'!$G$25*0.8","v":81.012},{"$f":"(BW110+BW111+BW112)/BT110","v":3.101529134138421},null,{"$f":"'DNSP Inputs O & M'!$G$28*(1+'DNSP Inputs O & M'!$G$11)","v":4.9455},{"$f":"'DNSP Inputs O & M'!$G$35","v":72},null,{"$f":"BZ110*CA110","v":356.07600000000002},{"$f":"CC110/'DNSP Inputs O & M'!$G$25*0.8","v":71.21520000000001},{"$f":"(CD110+CD111+CD112)/CA110","v":3.256605590845342},null,{"$f":"'DNSP Inputs O & M'!$G$28*(1+'DNSP Inputs O & M'!$G$11)","v":4.9455},{"$f":"'DNSP Inputs O & M'!$G$36","v":60},null,{"$f":"CG110*CH110","v":296.73},{"$f":"CJ110/'DNSP Inputs O & M'!$G$25*0.8","v":59.346000000000004},{"$f":"(CK110+CK111+CK112)/CH110","v":3.2566055908453415},null,null,null,{"$f":"'DNSP Inputs O & M'!$H$28","v":4.71},{"$f":"'DNSP Inputs O & M'!$H$34","v":86},null,{"$f":"CP110*CQ110","v":405.06},{"$f":"CS110/'DNSP Inputs O & M'!$H$25*0.8","v":81.012},{"$f":"(CT110+CT111+CT112)/CQ110","v":3.101529134138421},null,{"$f":"'DNSP Inputs O & M'!$H$28*(1+'DNSP Inputs O & M'!$H$11)","v":4.9455},{"$f":"'DNSP Inputs O & M'!$H$35","v":72},null,{"$f":"CW110*CX110","v":356.07600000000002},{"$f":"CZ110/'DNSP Inputs O & M'!$H$25*0.8","v":71.21520000000001},{"$f":"(DA110+DA111+DA112)/CX110","v":3.256605590845342},null,{"$f":"'DNSP Inputs O & M'!$H$28*(1+'DNSP Inputs O & M'!$H$11)","v":4.9455},{"$f":"'DNSP Inputs O & M'!$H$36","v":60},null,{"$f":"DD110*DE110","v":296.73},{"$f":"DG110/'DNSP Inputs O & M'!$H$25*0.8","v":59.346000000000004},{"$f":"(DH110+DH111+DH112)/DE110","v":3.2566055908453415}]
["PE cell",{"$f":"'DNSP Inputs O & M'!$D$29","v":15.120000000000001},{"$f":"C110*'DNSP Inputs O & M'!$D$25/'DNSP Inputs O & M'!$D$26","v":43},null,{"$f":"B111*C111","v":650.16000000000008},{"$f":"E111/'DNSP Inputs O & M'!$D$25","v":162.54000000000002},null,null,{"$f":"'DNSP Inputs O & M'!$D$29*(1+'DNSP Inputs O & M'!$D$11)","v":15.876000000000001},{"$f":"J110*'DNSP Inputs O & M'!$D$25/'DNSP Inputs O & M'!$D$26","v":36},null,{"$f":"I111*J111","v":571.53600000000006},{"$f":"L111/'DNSP Inputs O & M'!$D$25","v":142.88400000000001},null,null,{"$f":"'DNSP Inputs O & M'!$D$29*(1+'DNSP Inputs O & M'!$D$11)","v":15.876000000000001},{"$f":"Q110*'DNSP Inputs O & M'!$D$25/'DNSP Inputs O & M'!$D$26","v":30},null,{"$f":"P111*Q111","v":476.28000000000003},{"$f":"S111/'DNSP Inputs O & M'!$D$25","v":119.07000000000001},null,null,null,null,{"$f":"'DNSP Inputs O & M'!$E$29","v":15.120000000000001},{"$f":"Z110*'DNSP Inputs O & M'!$E$25/'DNSP Inputs O & M'!$E$26","v":43},null,{"$f":"Y111*Z111","v":650.16000000000008},{"$f":"AB111/'DNSP Inputs O & M'!$E$25","v":162.54000000000002},null,null,{"$f":"'DNSP Inputs O & M'!$E$29*(1+'DNSP Inputs O & M'!$E$11)","v":15.876000000000001},{"$f":"AG110*'DNSP Inputs O & M'!$E$25/'DNSP Inputs O & M'!$E$26","v":36},null,{"$f":"AF111*AG111","v":571.53600000000006},{"$f":"AI111/'DNSP Inputs O & M'!$E$25","v":142.88400000000001},null,null,{"$f":"'DNSP Inputs O & M'!$E$29*(1+'DNSP Inputs O & M'!$E$11)","v":15.876000000000001},{"$f":"AN110*'DNSP Inputs O & M'!$E$25/'DNSP Inputs O & M'!$E$26","v":30},null,{"$f":"AM111*AN111","v":476.28000000000003},{"$f":"AP111/'DNSP Inputs O & M'!$E$25","v":119.07000000000001},null,null,null,null,{"$f":"'DNSP Inputs O & M'!$F$29","v":15.120000000000001},{"$f":"AW110*'DNSP Inputs O & M'!$F$25/'DNSP Inputs O & M'!$F$26","v":43},null,{"$f":"AV111*AW111","v":650.16000000000008},{"$f":"AY111/'DNSP Inputs O & M'!$F$25","v":162.54000000000002},null,null,{"$f":"'DNSP Inputs O & M'!$F$29*(1+'DNSP Inputs O & M'!$F$11)","v":15.876000000000001},{"$f":"BD110*'DNSP Inputs O & M'!$F$25/'DNSP Inputs O & M'!$F$26","v":36},null,{"$f":"BC111*BD111","v":571.53600000000006},{"$f":"BF111/'DNSP Inputs O & M'!$F$25","v":142.88400000000001},null,null,{"$f":"'DNSP Inputs O & M'!$F$29*(1+'DNSP Inputs O & M'!$F$11)","v":15.876000000000001},{"$f":"BK110*'DNSP Inputs O & M'!$F$25/'DNSP Inputs O & M'!$F$26","v":30},null,{"$f":"BJ111*BK111","v":476.28000000000003},{"$f":"BM111/'DNSP Inputs O & M'!$F$25","v":119.07000000000001},null,null,null,null,{"$f":"'DNSP Inputs O & M'!$G$29","v":15.120000000000001},{"$f":"BT110*'DNSP Inputs O & M'!$G$25/'DNSP Inputs O & M'!$G$26","v":43},null,{"$f":"BS111*BT111","v":650.16000000000008},{"$f":"BV111/'DNSP Inputs O & M'!$G$25","v":162.54000000000002},null,null,{"$f":"'DNSP Inputs O & M'!$G$29*(1+'DNSP Inputs O & M'!$G$11)","v":15.876000000000001},{"$f":"CA110*'DNSP Inputs O & M'!$G$25/'DNSP Inputs O & M'!$G$26","v":36},null,{"$f":"BZ111*CA111","v":571.53600000000006},{"$f":"CC111/'DNSP Inputs O & M'!$G$25","v":142.88400000000001},null,null,{"$f":"'DNSP Inputs O & M'!$G$29*(1+'DNSP Inputs O & M'!$G$11)","v":15.876000000000001},{"$f":"CH110*'DNSP Inputs O & M'!$G$25/'DNSP Inputs O & M'!$G$26","v":30},null,{"$f":"CG111*CH111","v":476.28000000000003},{"$f":"CJ111/'DNSP Inputs O & M'!$G$25","v":119.07000000000001},null,null,null,null,{"$f":"'DNSP Inputs O & M'!$H$29","v":15.120000000000001},{"$f":"CQ110*'DNSP Inputs O & M'!$H$25/'DNSP Inputs O & M'!$H$26","v":43},null,{"$f":"CP111*CQ111","v":650.16000000000008},{"$f":"CS111/'DNSP Inputs O & M'!$H$25","v":162.54000000000002},null,null,{"$f":"'DNSP Inputs O & M'!$H$29*(1+'DNSP Inputs O & M'!$H$11)","v":15.876000000000001},{"$f":"CX110*'DNSP Inputs O & M'!$H$25/'DNSP Inputs O & M'!$H$26","v":36},null,{"$f":"CW111*CX111","v":571.53600000000006},{"$f":"CZ111/'DNSP Inputs O & M'!$H$25","v":142.88400000000001},null,null,{"$f":"'DNSP Inputs O & M'!$H$29*(1+'DNSP Inputs O & M'!$H$11)","v":15.876000000000001},{"$f":"DE110*'DNSP Inputs O & M'!$H$25/'DNSP Inputs O & M'!$H$26","v":30},null,{"$f":"DD111*DE111","v":476.28000000000003},{"$f":"DG111/'DNSP Inputs O & M'!$H$25","v":119.07000000000001}]
["Miscellaneous",{"$f":"'DNSP Inputs O & M'!$D$31","v":1.3476456706921032},{"$f":"'DNSP Inputs O & M'!$D$34","v":86},null,{"$f":"B112*C112","v":115.89752767952088},{"$f":"E112/'DNSP Inputs O & M'!$D$25*0.8","v":23.179505535904177},null,null,{"$f":"'DNSP Inputs O & M'!$D$31*(1+'DNSP Inputs O & M'!$D$11)","v":1.4150279542267084},{"$f":"'DNSP Inputs O & M'!$D$35","v":72},null,{"$f":"I112*J112","v":101.882012704323},{"$f":"L112/'DNSP Inputs O & M'!$D$25*0.8","v":20.376402540864603},null,null,{"$f":"'DNSP Inputs O & M'!$D$31*(1+'DNSP Inputs O & M'!$D$11)","v":1.4150279542267084},{"$f":"'DNSP Inputs O & M'!$D$36","v":60},null,{"$f":"P112*Q112","v":84.9016772536025},{"$f":"S112/'DNSP Inputs O & M'!$D$25*0.8","v":16.980335450720499},null,null,null,null,{"$f":"'DNSP Inputs O & M'!$E$31","v":1.3476456706921032},{"$f":"'DNSP Inputs O & M'!$E$34","v":86},null,{"$f":"Y112*Z112","v":115.89752767952088},{"$f":"AB112/'DNSP Inputs O & M'!$E$25*0.8","v":23.179505535904177},null,null,{"$f":"'DNSP Inputs O & M'!$E$31*(1+'DNSP Inputs O & M'!$E$11)","v":1.4150279542267084},{"$f":"'DNSP Inputs O & M'!$E$35","v":72},null,{"$f":"AF112*AG112","v":101.882012704323},{"$f":"AI112/'DNSP Inputs O & M'!$E$25*0.8","v":20.376402540864603},null,null,{"$f":"'DNSP Inputs O & M'!$E$31*(1+'DNSP Inputs O & M'!$E$11)","v":1.4150279542267084},{"$f":"'DNSP Inputs O & M'!$E$36","v":60},null,{"$f":"AM112*AN112","v":84.9016772536025},{"$f":"AP112/'DNSP Inputs O & M'!$E$25*0.8","v":16.980335450720499},null,null,null,null,{"$f":"'DNSP Inputs O & M'!$F$31","v":1.3476456706921032},{"$f":"'DNSP Inputs O & M'!$F$34","v":86},null,{"$f":"AV112*AW112","v":115.89752767952088},{"$f":"AY112/'DNSP Inputs O & M'!$F$25*0.8","v":23.179505535904177},null,null,{"$f":"'DNSP Inputs O & M'!$F$31*(1+'DNSP Inputs O & M'!$F$11)","v":1.4150279542267084},{"$f":"'DNSP Inputs O & M'!$F$35","v":72},null,{"$f":"BC112*BD112","v":101.882012704323},{"$f":"BF112/'DNSP Inputs O & M'!$F$25*0.8","v":20.376402540864603},null,null,{"$f":"'DNSP Inputs O & M'!$F$31*(1+'DNSP Inputs O & M'!$F$11)","v":1.4150279542267084},{"$f":"'DNSP Inputs O & M'!$F$36","v":60},null,{"$f":"BJ112*BK112","v":84.9016772536025},{"$f":"BM112/'DNSP Inputs O & M'!$F$25*0.8","v":16.980335450720499},null,null,null,null,{"$f":"'DNSP Inputs O & M'!$G$31","v":1.3476456706921032},{"$f":"'DNSP Inputs O & M'!$G$34","v":86},null,{"$f":"BS112*BT112","v":115.89752767952088},{"$f":"BV112/'DNSP Inputs O & M'!$G$25*0.8","v":23.179505535904177},null,null,{"$f":"'DNSP Inputs O & M'!$G$31*(1+'DNSP Inputs O & M'!$G$11)","v":1.4150279542267084},{"$f":"'DNSP Inputs O & M'!$G$35","v":72},null,{"$f":"BZ112*CA112","v":101.882012704323},{"$f":"CC112/'DNSP Inputs O & M'!$G$25*0.8","v":20.376402540864603},null,null,{"$f":"'DNSP Inputs O & M'!$G$31*(1+'DNSP Inputs O & M'!$G$11)","v":1.4150279542267084},{"$f":"'DNSP Inputs O & M'!$G$36","v":60},null,{"$f":"CG112*CH112","v":84.9016772536025},{"$f":"CJ112/'DNSP Inputs O & M'!$G$25*0.8","v":16.980335450720499},null,null,null,null,{"$f":"'DNSP Inputs O & M'!$H$31","v":1.3476456706921032},{"$f":"'DNSP Inputs O & M'!$H$34","v":86},null,{"$f":"CP112*CQ112","v":115.89752767952088},{"$f":"CS112/'DNSP Inputs O & M'!$H$25*0.8","v":23.179505535904177},null,null,{"$f":"'DNSP Inputs O & M'!$H$31*(1+'DNSP Inputs O & M'!$H$11)","v":1.4150279542267084},{"$f":"'DNSP Inputs O & M'!$H$35","v":72},null,{"$f":"CW112*CX112","v":101.882012704323},{"$f":"CZ112/'DNSP Inputs O & M'!$H$25*0.8","v":20.376402540864603},null,null,{"$f":"'DNSP Inputs O & M'!$H$31*(1+'DNSP Inputs O & M'!$H$11)","v":1.4150279542267084},{"$f":"'DNSP Inputs O & M'!$H$36","v":60},null,{"$f":"DD112*DE112","v":84.9016772536025},{"$f":"DG112/'DNSP Inputs O & M'!$H$25*0.8","v":16.980335450720499}]
["Materials - repair of faults"]
["Lamp",{"$f":"'DNSP Inputs O & M'!$D$28","v":4.71},{"$f":"'DNSP Inputs O & M'!$D$37*'DNSP Inputs O & M'!$D$40","v":17.28},null,{"$f":"B114*C114","v":81.388800000000003},{"$f":"(E114+E115+E116+E117)/'DNSP Inputs O & M'!$D$37","v":29.261145670692105},{"$f":"F114*D99","v":1.4203982042712577},null,{"$f":"'DNSP Inputs O & M'!$D$28*(1+'DNSP Inputs O & M'!$D$11)","v":4.9455},{"$f":"'DNSP Inputs O & M'!$D$38*'DNSP Inputs O & M'!$D$40","v":14.399999999999999},null,{"$f":"I114*J114","v":71.215199999999996},{"$f":"(L114+L115+L116+L117)/'DNSP Inputs O & M'!$D$38","v":30.724202954226701},{"$f":"M114*D99","v":1.4914181144848202},null,{"$f":"'DNSP Inputs O & M'!$D$28*(1+'DNSP Inputs O & M'!$D$11)","v":4.9455},{"$f":"'DNSP Inputs O & M'!$D$39*'DNSP Inputs O & M'!$D$40","v":11.52},null,{"$f":"P114*Q114","v":56.972159999999995},{"$f":"(S114+S115+S116+S117)/'DNSP Inputs O & M'!$D$39","v":30.724202954226712},{"$f":"T114*D99","v":1.4914181144848206},null,null,null,{"$f":"'DNSP Inputs O & M'!$E$28","v":4.71},{"$f":"'DNSP Inputs O & M'!$E$37*'DNSP Inputs O & M'!$E$40","v":17.28},null,{"$f":"Y114*Z114","v":81.388800000000003},{"$f":"(AB114+AB115+AB116+AB117)/'DNSP Inputs O & M'!$E$37","v":29.261145670692105},{"$f":"AC114*AA99","v":1.4203982042712577},null,{"$f":"'DNSP Inputs O & M'!$E$28*(1+'DNSP Inputs O & M'!$E$11)","v":4.9455},{"$f":"'DNSP Inputs O & M'!$E$38*'DNSP Inputs O & M'!$E$40","v":14.399999999999999},null,{"$f":"AF114*AG114","v":71.215199999999996},{"$f":"(AI114+AI115+AI116+AI117)/'DNSP Inputs O & M'!$E$38","v":30.724202954226701},{"$f":"AJ114*AA99","v":1.4914181144848202},null,{"$f":"'DNSP Inputs O & M'!$E$28*(1+'DNSP Inputs O & M'!$E$11)","v":4.9455},{"$f":"'DNSP Inputs O & M'!$E$39*'DNSP Inputs O & M'!$E$40","v":11.52},null,{"$f":"AM114*AN114","v":56.972159999999995},{"$f":"(AP114+AP115+AP116+AP117)/'DNSP Inputs O & M'!$E$39","v":30.724202954226712},{"$f":"AQ114*AA99","v":1.4914181144848206},null,null,null,{"$f":"'DNSP Inputs O & M'!$F$28","v":4.71},{"$f":"'DNSP Inputs O & M'!$F$37*'DNSP Inputs O & M'!$F$40","v":17.28},null,{"$f":"AV114*AW114","v":81.388800000000003},{"$f":"(AY114+AY115+AY116+AY117)/'DNSP Inputs O & M'!$F$37","v":29.261145670692105},{"$f":"AZ114*AX99","v":1.4203982042712577},null,{"$f":"'DNSP Inputs O & M'!$F$28*(1+'DNSP Inputs O & M'!$F$11)","v":4.9455},{"$f":"'DNSP Inputs O & M'!$F$38*'DNSP Inputs O & M'!$F$40","v":14.399999999999999},null,{"$f":"BC114*BD114","v":71.215199999999996},{"$f":"(BF114+BF115+BF116+BF117)/'DNSP Inputs O & M'!$F$38","v":30.724202954226701},{"$f":"BG114*AX99","v":1.4914181144848202},null,{"$f":"'DNSP Inputs O & M'!$F$28*(1+'DNSP Inputs O & M'!$F$11)","v":4.9455},{"$f":"'DNSP Inputs O & M'!$F$39*'DNSP Inputs O & M'!$F$40","v":11.52},null,{"$f":"BJ114*BK114","v":56.972159999999995},{"$f":"(BM114+BM115+BM116+BM117)/'DNSP Inputs O & M'!$F$39","v":30.724202954226712},{"$f":"BN114*AX99","v":1.4914181144848206},null,null,null,{"$f":"'DNSP Inputs O & M'!$G$28","v":4.71},{"$f":"'DNSP Inputs O & M'!$G$37*'DNSP Inputs O & M'!$G$40","v":17.28},null,{"$f":"BS114*BT114","v":81.388800000000003},{"$f":"(BV114+BV115+BV116+BV117)/'DNSP Inputs O & M'!$G$37","v":29.261145670692105},{"$f":"BW114*BU99","v":1.4203982042712577},null,{"$f":"'DNSP Inputs O & M'!$G$28*(1+'DNSP Inputs O & M'!$G$11)","v":4.9455},{"$f":"'DNSP Inputs O & M'!$G$38*'DNSP Inputs O & M'!$G$40","v":14.399999999999999},null,{"$f":"BZ114*CA114","v":71.215199999999996},{"$f":"(CC114+CC115+CC116+CC117)/'DNSP Inputs O & M'!$G$38","v":30.724202954226701},{"$f":"CD114*BU99","v":1.4914181144848202},null,{"$f":"'DNSP Inputs O & M'!$G$28*(1+'DNSP Inputs O & M'!$G$11)","v":4.9455},{"$f":"'DNSP Inputs O & M'!$G$39*'DNSP Inputs O & M'!$G$40","v":11.52},null,{"$f":"CG114*CH114","v":56.972159999999995},{"$f":"(CJ114+CJ115+CJ116+CJ117)/'DNSP Inputs O & M'!$G$39","v":30.724202954226712},{"$f":"CK114*BU99","v":1.4914181144848206},null,null,null,{"$f":"'DNSP Inputs O & M'!$H$28","v":4.71},{"$f":"'DNSP Inputs O & M'!$H$37*'DNSP Inputs O & M'!$H$40","v":17.28},null,{"$f":"CP114*CQ114","v":81.388800000000003},{"$f":"(CS114+CS115+CS116+CS117)/'DNSP Inputs O & M'!$H$37","v":29.261145670692105},{"$f":"CT114*CR99","v":1.4203982042712577},null,{"$f":"'DNSP Inputs O & M'!$H$28*(1+'DNSP Inputs O & M'!$H$11)","v":4.9455},{"$f":"'DNSP Inputs O & M'!$H$38*'DNSP Inputs O & M'!$H$40","v":14.399999999999999},null,{"$f":"CW114*CX114","v":71.215199999999996},{"$f":"(CZ114+CZ115+CZ116+CZ117)/'DNSP Inputs O & M'!$H$38","v":30.724202954226701},{"$f":"DA114*CR99","v":1.4914181144848202},null,{"$f":"'DNSP Inputs O & M'!$H$28*(1+'DNSP Inputs O & M'!$H$11)","v":4.9455},{"$f":"'DNSP Inputs O & M'!$H$39*'DNSP Inputs O & M'!$H$40","v":11.52},null,{"$f":"DD114*DE114","v":56.972159999999995},{"$f":"(DG114+DG115+DG116+DG117)/'DNSP Inputs O & M'!$H$39","v":30.724202954226712},{"$f":"DH114*CR99","v":1.4914181144848206}]
["PE cell",{"$f":"'DNSP Inputs O & M'!$D$29","v":15.120000000000001},{"$f":"'DNSP Inputs O & M'!$D$37*'DNSP Inputs O & M'!$D$41","v":14.4},null,{"$f":"B115*C115","v":217.72800000000001},null,null,null,{"$f":"'DNSP Inputs O & M'!$D$29*(1+'DNSP Inputs O & M'!$D$11)","v":15.876000000000001},{"$f":"'DNSP Inputs O & M'!$D$38*'DNSP Inputs O & M'!$D$41","v":12},null,{"$f":"I115*J115","v":190.512},null,null,null,{"$f":"'DNSP Inputs O & M'!$D$29*(1+'DNSP Inputs O & M'!$D$11)","v":15.876000000000001},{"$f":"'DNSP Inputs O & M'!$D$39*'DNSP Inputs O & M'!$D$41","v":9.6},null,{"$f":"P115*Q115","v":152.40960000000001},null,null,null,null,null,{"$f":"'DNSP Inputs O & M'!$E$29","v":15.120000000000001},{"$f":"'DNSP Inputs O & M'!$E$37*'DNSP Inputs O & M'!$E$41","v":14.4},null,{"$f":"Y115*Z115","v":217.72800000000001},null,null,null,{"$f":"'DNSP Inputs O & M'!$E$29*(1+'DNSP Inputs O & M'!$E$11)","v":15.876000000000001},{"$f":"'DNSP Inputs O & M'!$E$38*'DNSP Inputs O & M'!$E$41","v":12},null,{"$f":"AF115*AG115","v":190.512},null,null,null,{"$f":"'DNSP Inputs O & M'!$E$29*(1+'DNSP Inputs O & M'!$E$11)","v":15.876000000000001},{"$f":"'DNSP Inputs O & M'!$E$39*'DNSP Inputs O & M'!$E$41","v":9.6},null,{"$f":"AM115*AN115","v":152.40960000000001},null,null,null,null,null,{"$f":"'DNSP Inputs O & M'!$F$29","v":15.120000000000001},{"$f":"'DNSP Inputs O & M'!$F$37*'DNSP Inputs O & M'!$F$41","v":14.4},null,{"$f":"AV115*AW115","v":217.72800000000001},null,null,null,{"$f":"'DNSP Inputs O & M'!$F$29*(1+'DNSP Inputs O & M'!$F$11)","v":15.876000000000001},{"$f":"'DNSP Inputs O & M'!$F$38*'DNSP Inputs O & M'!$F$41","v":12},null,{"$f":"BC115*BD115","v":190.512},null,null,null,{"$f":"'DNSP Inputs O & M'!$F$29*(1+'DNSP Inputs O & M'!$F$11)","v":15.876000000000001},{"$f":"'DNSP Inputs O & M'!$F$39*'DNSP Inputs O & M'!$F$41","v":9.6},null,{"$f":"BJ115*BK115","v":152.40960000000001},null,null,null,null,null,{"$f":"'DNSP Inputs O & M'!$G$29","v":15.120000000000001},{"$f":"'DNSP Inputs O & M'!$G$37*'DNSP Inputs O & M'!$G$41","v":14.4},null,{"$f":"BS115*BT115","v":217.72800000000001},null,null,null,{"$f":"'DNSP Inputs O & M'!$G$29*(1+'DNSP Inputs O & M'!$G$11)","v":15.876000000000001},{"$f":"'DNSP Inputs O & M'!$G$38*'DNSP Inputs O & M'!$G$41","v":12},null,{"$f":"BZ115*CA115","v":190.512},null,null,null,{"$f":"'DNSP Inputs O & M'!$G$29*(1+'DNSP Inputs O & M'!$G$11)","v":15.876000000000001},{"$f":"'DNSP Inputs O & M'!$G$39*'DNSP Inputs O & M'!$G$41","v":9.6},null,{"$f":"CG115*CH115","v":152.40960000000001},null,null,null,null,null,{"$f":"'DNSP Inputs O & M'!$H$29","v":15.120000000000001},{"$f":"'DNSP Inputs O & M'!$H$37*'DNSP Inputs O & M'!$H$41","v":14.4},null,{"$f":"CP115*CQ115","v":217.72800000000001},null,null,null,{"$f":"'DNSP Inputs O & M'!$H$29*(1+'DNSP Inputs O & M'!$H$11)","v":15.876000000000001},{"$f":"'DNSP Inputs O & M'!$H$38*'DNSP Inputs O & M'!$H$41","v":12},null,{"$f":"CW115*CX115","v":190.512},null,null,null,{"$f":"'DNSP Inputs O & M'!$H$29*(1+'DNSP Inputs O & M'!$H$11)","v":15.876000000000001},{"$f":"'DNSP Inputs O & M'!$H$39*'DNSP Inputs O & M'!$H$41","v":9.6},null,{"$f":"DD115*DE115","v":152.40960000000001}]
["Luminaire",{"$f":"'DNSP Inputs O & M'!$D$30","v":116.85},{"$f":"'DNSP Inputs O & M'!$D$37*'DNSP Inputs O & M'!$D$42","v":4.32},null,{"$f":"B116*C116","v":504.79200000000003},null,null,null,{"$f":"'DNSP Inputs O & M'!$D$30*(1+'DNSP Inputs O & M'!$D$11)","v":122.6925},{"$f":"'DNSP Inputs O & M'!$D$38*'DNSP Inputs O & M'!$D$42","v":3.5999999999999996},null,{"$f":"I116*J116","v":441.69299999999993},null,null,null,{"$f":"'DNSP Inputs O & M'!$D$30*(1+'DNSP Inputs O & M'!$D$11)","v":122.6925},{"$f":"'DNSP Inputs O & M'!$D$39*'DNSP Inputs O & M'!$D$42","v":2.88},null,{"$f":"P116*Q116","v":353.3544},null,null,null,null,null,{"$f":"'DNSP Inputs O & M'!$E$30","v":116.85},{"$f":"'DNSP Inputs O & M'!$E$37*'DNSP Inputs O & M'!$E$42","v":4.32},null,{"$f":"Y116*Z116","v":504.79200000000003},null,null,null,{"$f":"'DNSP Inputs O & M'!$E$30*(1+'DNSP Inputs O & M'!$E$11)","v":122.6925},{"$f":"'DNSP Inputs O & M'!$E$38*'DNSP Inputs O & M'!$E$42","v":3.5999999999999996},null,{"$f":"AF116*AG116","v":441.69299999999993},null,null,null,{"$f":"'DNSP Inputs O & M'!$E$30*(1+'DNSP Inputs O & M'!$E$11)","v":122.6925},{"$f":"'DNSP Inputs O & M'!$E$39*'DNSP Inputs O & M'!$E$42","v":2.88},null,{"$f":"AM116*AN116","v":353.3544},null,null,null,null,null,{"$f":"'DNSP Inputs O & M'!$F$30","v":116.85},{"$f":"'DNSP Inputs O & M'!$F$37*'DNSP Inputs O & M'!$F$42","v":4.32},null,{"$f":"AV116*AW116","v":504.79200000000003},null,null,null,{"$f":"'DNSP Inputs O & M'!$F$30*(1+'DNSP Inputs O & M'!$F$11)","v":122.6925},{"$f":"'DNSP Inputs O & M'!$F$38*'DNSP Inputs O & M'!$F$42","v":3.5999999999999996},null,{"$f":"BC116*BD116","v":441.69299999999993},null,null,null,{"$f":"'DNSP Inputs O & M'!$F$30*(1+'DNSP Inputs O & M'!$F$11)","v":122.6925},{"$f":"'DNSP Inputs O & M'!$F$39*'DNSP Inputs O & M'!$F$42","v":2.88},null,{"$f":"BJ116*BK116","v":353.3544},null,null,null,null,null,{"$f":"'DNSP Inputs O & M'!$G$30","v":116.85},{"$f":"'DNSP Inputs O & M'!$G$37*'DNSP Inputs O & M'!$G$42","v":4.32},null,{"$f":"BS116*BT116","v":504.79200000000003},null,null,null,{"$f":"'DNSP Inputs O & M'!$G$30*(1+'DNSP Inputs O & M'!$G$11)","v":122.6925},{"$f":"'DNSP Inputs O & M'!$G$38*'DNSP Inputs O & M'!$G$42","v":3.5999999999999996},null,{"$f":"BZ116*CA116","v":441.69299999999993},null,null,null,{"$f":"'DNSP Inputs O & M'!$G$30*(1+'DNSP Inputs O & M'!$G$11)","v":122.6925},{"$f":"'DNSP Inputs O & M'!$G$39*'DNSP Inputs O & M'!$G$42","v":2.88},null,{"$f":"CG116*CH116","v":353.3544},null,null,null,null,null,{"$f":"'DNSP Inputs O & M'!$H$30","v":116.85},{"$f":"'DNSP Inputs O & M'!$H$37*'DNSP Inputs O & M'!$H$42","v":4.32},null,{"$f":"CP116*CQ116","v":504.79200000000003},null,null,null,{"$f":"'DNSP Inputs O & M'!$H$30*(1+'DNSP Inputs O & M'!$H$11)","v":122.6925},{"$f":"'DNSP Inputs O & M'!$H$38*'DNSP Inputs O & M'!$H$42","v":3.5999999999999996},null,{"$f":"CW116*CX116","v":441.69299999999993},null,null,null,{"$f":"'DNSP Inputs O & M'!$H$30*(1+'DNSP Inputs O & M'!$H$11)","v":122.6925},{"$f":"'DNSP Inputs O & M'!$H$39*'DNSP Inputs O & M'!$H$42","v":2.88},null,{"$f":"DD116*DE116","v":353.3544}]
["Miscellaneous",{"$f":"'DNSP Inputs O & M'!$D$32","v":13.476456706921033},{"$f":"'DNSP Inputs O & M'!$D$37*'DNSP Inputs O & M'!$D$43","v":2.8800000000000003},null,{"$f":"B117*C117","v":38.812195315932577},null,null,null,{"$f":"'DNSP Inputs O & M'!$D$32*(1+'DNSP Inputs O & M'!$D$11)","v":14.150279542267084},{"$f":"'DNSP Inputs O & M'!$D$38*'DNSP Inputs O & M'!$D$43","v":2.4000000000000004},null,{"$f":"I117*J117","v":33.960670901441006},null,null,null,{"$f":"'DNSP Inputs O & M'!$D$32*(1+'DNSP Inputs O & M'!$D$11)","v":14.150279542267084},{"$f":"'DNSP Inputs O & M'!$D$39*'DNSP Inputs O & M'!$D$43","v":1.92},null,{"$f":"P117*Q117","v":27.168536721152801},null,null,null,null,null,{"$f":"'DNSP Inputs O & M'!$E$32","v":13.476456706921033},{"$f":"'DNSP Inputs O & M'!$E$37*'DNSP Inputs O & M'!$E$43","v":2.8800000000000003},null,{"$f":"Y117*Z117","v":38.812195315932577},null,null,null,{"$f":"'DNSP Inputs O & M'!$E$32*(1+'DNSP Inputs O & M'!$E$11)","v":14.150279542267084},{"$f":"'DNSP Inputs O & M'!$E$38*'DNSP Inputs O & M'!$E$43","v":2.4000000000000004},null,{"$f":"AF117*AG117","v":33.960670901441006},null,null,null,{"$f":"'DNSP Inputs O & M'!$E$32*(1+'DNSP Inputs O & M'!$E$11)","v":14.150279542267084},{"$f":"'DNSP Inputs O & M'!$E$39*'DNSP Inputs O & M'!$E$43","v":1.92},null,{"$f":"AM117*AN117","v":27.168536721152801},null,null,null,null,null,{"$f":"'DNSP Inputs O & M'!$F$32","v":13.476456706921033},{"$f":"'DNSP Inputs O & M'!$F$37*'DNSP Inputs O & M'!$F$43","v":2.8800000000000003},null,{"$f":"AV117*AW117","v":38.812195315932577},null,null,null,{"$f":"'DNSP Inputs O & M'!$F$32*(1+'DNSP Inputs O & M'!$F$11)","v":14.150279542267084},{"$f":"'DNSP Inputs O & M'!$F$38*'DNSP Inputs O & M'!$F$43","v":2.4000000000000004},null,{"$f":"BC117*BD117","v":33.960670901441006},null,null,null,{"$f":"'DNSP Inputs O & M'!$F$32*(1+'DNSP Inputs O & M'!$F$11)","v":14.150279542267084},{"$f":"'DNSP Inputs O & M'!$F$39*'DNSP Inputs O & M'!$F$43","v":1.92},null,{"$f":"BJ117*BK117","v":27.168536721152801},null,null,null,null,null,{"$f":"'DNSP Inputs O & M'!$G$32","v":13.476456706921033},{"$f":"'DNSP Inputs O & M'!$G$37*'DNSP Inputs O & M'!$G$43","v":2.8800000000000003},null,{"$f":"BS117*BT117","v":38.812195315932577},null,null,null,{"$f":"'DNSP Inputs O & M'!$G$32*(1+'DNSP Inputs O & M'!$G$11)","v":14.150279542267084},{"$f":"'DNSP Inputs O & M'!$G$38*'DNSP Inputs O & M'!$G$43","v":2.4000000000000004},null,{"$f":"BZ117*CA117","v":33.960670901441006},null,null,null,{"$f":"'DNSP Inputs O & M'!$G$32*(1+'DNSP Inputs O & M'!$G$11)","v":14.150279542267084},{"$f":"'DNSP Inputs O & M'!$G$39*'DNSP Inputs O & M'!$G$43","v":1.92},null,{"$f":"CG117*CH117","v":27.168536721152801},null,null,null,null,null,{"$f":"'DNSP Inputs O & M'!$H$32","v":13.476456706921033},{"$f":"'DNSP Inputs O & M'!$H$37*'DNSP Inputs O & M'!$H$43","v":2.8800000000000003},null,{"$f":"CP117*CQ117","v":38.812195315932577},null,null,null,{"$f":"'DNSP Inputs O & M'!$H$32*(1+'DNSP Inputs O & M'!$H$11)","v":14.150279542267084},{"$f":"'DNSP Inputs O & M'!$H$38*'DNSP Inputs O & M'!$H$43","v":2.4000000000000004},null,{"$f":"CW117*CX117","v":33.960670901441006},null,null,null,{"$f":"'DNSP Inputs O & M'!$H$32*(1+'DNSP Inputs O & M'!$H$11)","v":14.150279542267084},{"$f":"'DNSP Inputs O & M'!$H$39*'DNSP Inputs O & M'!$H$43","v":1.92},null,{"$f":"DD117*DE117","v":27.168536721152801}]
["Labour - bulk lamp change"]
["Crew costs",{"$f":"'DNSP Inputs O & M'!$D$12","v":111.36223236834823},{"$f":"'DNSP Inputs O & M'!$D$33","v":2},{"$f":"'DNSP Inputs O & M'!$D$17","v":7.5},{"$f":"B119*C119*D119","v":1670.4334855252234},{"$f":"E119/'DNSP Inputs O & M'!$D$25*(C110+C111)/C110*0.8","v":501.13004565756705},{"$f":"(F119+F120)/C110","v":7.1399423913670583},null,{"$f":"'DNSP Inputs O & M'!$D$12","v":111.36223236834823},{"$f":"'DNSP Inputs O & M'!$D$33","v":2},{"$f":"'DNSP Inputs O & M'!$D$17","v":7.5},{"$f":"I119*J119*K119","v":1670.4334855252234},{"$f":"L119/'DNSP Inputs O & M'!$D$25*(J110+J111)/J110*0.8","v":501.13004565756705},{"$f":"(M119+M120)/J110","v":8.9488895230217658},null,{"$f":"'DNSP Inputs O & M'!$D$12","v":111.36223236834823},{"$f":"'DNSP Inputs O & M'!$D$33","v":2},{"$f":"'DNSP Inputs O & M'!$D$17","v":7.5},{"$f":"P119*Q119*R119","v":1670.4334855252234},{"$f":"S119/'DNSP Inputs O & M'!$D$25*(Q110+Q111)/Q110*0.8","v":501.13004565756705},{"$f":"(T119+T120)/Q110","v":10.738667427626119},null,null,null,{"$f":"'DNSP Inputs O & M'!$E$12","v":111.08407886363248},{"$f":"'DNSP Inputs O & M'!$E$33","v":2},{"$f":"'DNSP Inputs O & M'!$E$17","v":7.5},{"$f":"Y119*Z119*AA119","v":1666.2611829544874},{"$f":"AB119/'DNSP Inputs O & M'!$E$25*(Z110+Z111)/Z110*0.8","v":499.87835488634619},{"$f":"(AC119+AC120)/Z110","v":7.1253878475156531},null,{"$f":"'DNSP Inputs O & M'!$E$12","v":111.08407886363248},{"$f":"'DNSP Inputs O & M'!$E$33","v":2},{"$f":"'DNSP Inputs O & M'!$E$17","v":7.5},{"$f":"AF119*AG119*AH119","v":1666.2611829544874},{"$f":"AI119/'DNSP Inputs O & M'!$E$25*(AG110+AG111)/AG110*0.8","v":499.8783548863463},{"$f":"(AJ119+AJ120)/AG110","v":8.9315049289770325},null,{"$f":"'DNSP Inputs O & M'!$E$12","v":111.08407886363248},{"$f":"'DNSP Inputs O & M'!$E$33","v":2},{"$f":"'DNSP Inputs O & M'!$E$17","v":7.5},{"$f":"AM119*AN119*AO119","v":1666.2611829544874},{"$f":"AP119/'DNSP Inputs O & M'!$E$25*(AN110+AN111)/AN110*0.8","v":499.87835488634619},{"$f":"(AQ119+AQ120)/AN110","v":10.717805914772438},null,null,null,{"$f":"'DNSP Inputs O & M'!$F$12","v":111.00339776810097},{"$f":"'DNSP Inputs O & M'!$F$33","v":2},{"$f":"'DNSP Inputs O & M'!$F$17","v":7.5},{"$f":"AV119*AW119*AX119","v":1665.0509665215145},{"$f":"AY119/'DNSP Inputs O & M'!$F$25*(AW110+AW111)/AW110*0.8","v":499.51528995645441},{"$f":"(AZ119+AZ120)/AW110","v":7.1211661622843536},null,{"$f":"'DNSP Inputs O & M'!$F$12","v":111.00339776810097},{"$f":"'DNSP Inputs O & M'!$F$33","v":2},{"$f":"'DNSP Inputs O & M'!$F$17","v":7.5},{"$f":"BC119*BD119*BE119","v":1665.0509665215145},{"$f":"BF119/'DNSP Inputs O & M'!$F$25*(BD110+BD111)/BD110*0.8","v":499.51528995645441},{"$f":"(BG119+BG120)/BD110","v":8.9264623605063118},null,{"$f":"'DNSP Inputs O & M'!$F$12","v":111.00339776810097},{"$f":"'DNSP Inputs O & M'!$F$33","v":2},{"$f":"'DNSP Inputs O & M'!$F$17","v":7.5},{"$f":"BJ119*BK119*BL119","v":1665.0509665215145},{"$f":"BM119/'DNSP Inputs O & M'!$F$25*(BK110+BK111)/BK110*0.8","v":499.51528995645441},{"$f":"(BN119+BN120)/BK110","v":10.711754832607573},null,null,null,{"$f":"'DNSP Inputs O & M'!$G$12","v":111.41108530292857},{"$f":"'DNSP Inputs O & M'!$G$33","v":2},{"$f":"'DNSP Inputs O & M'!$G$17","v":7.5},{"$f":"BS119*BT119*BU119","v":1671.1662795439286},{"$f":"BV119/'DNSP Inputs O & M'!$G$25*(BT110+BT111)/BT110*0.8","v":501.34988386317855},{"$f":"(BW119+BW120)/BT110","v":7.1424986495718432},null,{"$f":"'DNSP Inputs O & M'!$G$12","v":111.41108530292857},{"$f":"'DNSP Inputs O & M'!$G$33","v":2},{"$f":"'DNSP Inputs O & M'!$G$17","v":7.5},{"$f":"BZ119*CA119*CB119","v":1671.1662795439286},{"$f":"CC119/'DNSP Inputs O & M'!$G$25*(CA110+CA111)/CA110*0.8","v":501.34988386317855},{"$f":"(CD119+CD120)/CA110","v":8.9519428314330369},null,{"$f":"'DNSP Inputs O & M'!$G$12","v":111.41108530292857},{"$f":"'DNSP Inputs O & M'!$G$33","v":2},{"$f":"'DNSP Inputs O & M'!$G$17","v":7.5},{"$f":"CG119*CH119*CI119","v":1671.1662795439286},{"$f":"CJ119/'DNSP Inputs O & M'!$G$25*(CH110+CH111)/CH110*0.8","v":501.34988386317855},{"$f":"(CK119+CK120)/CH110","v":10.742331397719644},null,null,null,{"$f":"'DNSP Inputs O & M'!$H$12","v":112.5214007824073},{"$f":"'DNSP Inputs O & M'!$H$33","v":2},{"$f":"'DNSP Inputs O & M'!$H$17","v":7.5},{"$f":"CP119*CQ119*CR119","v":1687.8210117361095},{"$f":"CS119/'DNSP Inputs O & M'!$H$25*(CQ110+CQ111)/CQ110*0.8","v":506.34630352083286},{"$f":"(CT119+CT120)/CQ110","v":7.2005965525678235},null,{"$f":"'DNSP Inputs O & M'!$H$12","v":112.5214007824073},{"$f":"'DNSP Inputs O & M'!$H$33","v":2},{"$f":"'DNSP Inputs O & M'!$H$17","v":7.5},{"$f":"CW119*CX119*CY119","v":1687.8210117361095},{"$f":"CZ119/'DNSP Inputs O & M'!$H$25*(CX110+CX111)/CX110*0.8","v":506.34630352083286},{"$f":"(DA119+DA120)/CX110","v":9.0213375489004566},null,{"$f":"'DNSP Inputs O & M'!$H$12","v":112.5214007824073},{"$f":"'DNSP Inputs O & M'!$H$33","v":2},{"$f":"'DNSP Inputs O & M'!$H$17","v":7.5},{"$f":"DD119*DE119*DF119","v":1687.8210117361095},{"$f":"DG119/'DNSP Inputs O & M'!$H$25*(DE110+DE111)/DE110*0.8","v":506.34630352083286},{"$f":"(DH119+DH120)/DE110","v":10.825605058680548}]
["Elevated platform costs",{"$f":"'DNSP Inputs O & M'!$D$14","v":50.18},1,{"$f":"'DNSP Inputs O & M'!$D$17","v":7.5},{"$f":"B120*C120*D120","v":376.35},{"$f":"E120/'DNSP Inputs O & M'!$D$25*(C110+C111)/C110*0.8","v":112.905},null,null,{"$f":"'DNSP Inputs O & M'!$D$15","v":63.64},1,{"$f":"'DNSP Inputs O & M'!$D$17","v":7.5},{"$f":"I120*J120*K120","v":477.3},{"$f":"L120/'DNSP Inputs O & M'!$D$25*(J110+J111)/J110*0.8","v":143.19000000000003},null,null,{"$f":"'DNSP Inputs O & M'!$D$15","v":63.64},1,{"$f":"'DNSP Inputs O & M'!$D$17","v":7.5},{"$f":"P120*Q120*R120","v":477.3},{"$f":"S120/'DNSP Inputs O & M'!$D$25*(Q110+Q111)/Q110*0.8","v":143.19000000000003},null,null,null,null,{"$f":"'DNSP Inputs O & M'!$E$14","v":50.18},1,{"$f":"'DNSP Inputs O & M'!$E$17","v":7.5},{"$f":"Y120*Z120*AA120","v":376.35},{"$f":"AB120/'DNSP Inputs O & M'!$E$25*(Z110+Z111)/Z110*0.8","v":112.905},null,null,{"$f":"'DNSP Inputs O & M'!$E$15","v":63.64},1,{"$f":"'DNSP Inputs O & M'!$E$17","v":7.5},{"$f":"AF120*AG120*AH120","v":477.3},{"$f":"AI120/'DNSP Inputs O & M'!$E$25*(AG110+AG111)/AG110*0.8","v":143.19000000000003},null,null,{"$f":"'DNSP Inputs O & M'!$E$15","v":63.64},1,{"$f":"'DNSP Inputs O & M'!$E$17","v":7.5},{"$f":"AM120*AN120*AO120","v":477.3},{"$f":"AP120/'DNSP Inputs O & M'!$E$25*(AN110+AN111)/AN110*0.8","v":143.19000000000003},null,null,null,null,{"$f":"'DNSP Inputs O & M'!$F$14","v":50.18},1,{"$f":"'DNSP Inputs O & M'!$F$17","v":7.5},{"$f":"AV120*AW120*AX120","v":376.35},{"$f":"AY120/'DNSP Inputs O & M'!$F$25*(AW110+AW111)/AW110*0.8","v":112.905},null,null,{"$f":"'DNSP Inputs O & M'!$F$15","v":63.64},1,{"$f":"'DNSP Inputs O & M'!$F$17","v":7.5},{"$f":"BC120*BD120*BE120","v":477.3},{"$f":"BF120/'DNSP Inputs O & M'!$F$25*(BD110+BD111)/BD110*0.8","v":143.19000000000003},null,null,{"$f":"'DNSP Inputs O & M'!$F$15","v":63.64},1,{"$f":"'DNSP Inputs O & M'!$F$17","v":7.5},{"$f":"BJ120*BK120*BL120","v":477.3},{"$f":"BM120/'DNSP Inputs O & M'!$F$25*(BK110+BK111)/BK110*0.8","v":143.19000000000003},null,null,null,null,{"$f":"'DNSP Inputs O & M'!$G$14","v":50.18},1,{"$f":"'DNSP Inputs O & M'!$G$17","v":7.5},{"$f":"BS120*BT120*BU120","v":376.35},{"$f":"BV120/'DNSP Inputs O & M'!$G$25*(BT110+BT111)/BT110*0.8","v":112.905},null,null,{"$f":"'DNSP Inputs O & M'!$G$15","v":63.64},1,{"$f":"'DNSP Inputs O & M'!$G$17","v":7.5},{"$f":"BZ120*CA120*CB120","v":477.3},{"$f":"CC120/'DNSP Inputs O & M'!$G$25*(CA110+CA111)/CA110*0.8","v":143.19000000000003},null,null,{"$f":"'DNSP Inputs O & M'!$G$15","v":63.64},1,{"$f":"'DNSP Inputs O & M'!$G$17","v":7.5},{"$f":"CG120*CH120*CI120","v":477.3},{"$f":"CJ120/'DNSP Inputs O & M'!$G$25*(CH110+CH111)/CH110*0.8","v":143.19000000000003},null,null,null,null,{"$f":"'DNSP Inputs O & M'!$H$14","v":50.18},1,{"$f":"'DNSP Inputs O & M'!$H$17","v":7.5},{"$f":"CP120*CQ120*CR120","v":376.35},{"$f":"CS120/'DNSP Inputs O & M'!$H$25*(CQ110+CQ111)/CQ110*0.8","v":112.905},null,null,{"$f":"'DNSP Inputs O & M'!$H$15","v":63.64},1,{"$f":"'DNSP Inputs O & M'!$H$17","v":7.5},{"$f":"CW120*CX120*CY120","v":477.3},{"$f":"CZ120/'DNSP Inputs O & M'!$H$25*(CX110+CX111)/CX110*0.8","v":143.19000000000003},null,null,{"$f":"'DNSP Inputs O & M'!$H$15","v":63.64},1,{"$f":"'DNSP Inputs O & M'!$H$17","v":7.5},{"$f":"DD120*DE120*DF120","v":477.3},{"$f":"DG120/'DNSP Inputs O & M'!$H$25*(DE110+DE111)/DE110*0.8","v":143.19000000000003}]
["Labour - repair of faults"]
["Crew costs",{"$f":"'DNSP Inputs O & M'!$D$12","v":111.36223236834823},{"$f":"'DNSP Inputs O & M'!$D$33","v":2},{"$f":"'DNSP Inputs O & M'!$D$17","v":7.5},{"$f":"B122*C122*D122","v":1670.4334855252234},{"$f":"(E122+E123)/'DNSP Inputs O & M'!$D$37","v":71.068871025181366},{"$f":"F122*D99","v":3.4498340536563679},null,{"$f":"'DNSP Inputs O & M'!$D$12","v":111.36223236834823},{"$f":"'DNSP Inputs O & M'!$D$33","v":2},{"$f":"'DNSP Inputs O & M'!$D$17","v":7.5},{"$f":"I122*J122*K122","v":1670.4334855252234},{"$f":"(L122+L123)/'DNSP Inputs O & M'!$D$38","v":89.488895230217636},{"$f":"M122*D99","v":4.3439811796068115},null,{"$f":"'DNSP Inputs O & M'!$D$12","v":111.36223236834823},{"$f":"'DNSP Inputs O & M'!$D$33","v":2},{"$f":"'DNSP Inputs O & M'!$D$17","v":7.5},{"$f":"P122*Q122*R122","v":1670.4334855252234},{"$f":"(S122+S123)/'DNSP Inputs O & M'!$D$39","v":111.86111903777206},{"$f":"T122*D99","v":5.4299764745085151},null,null,null,{"$f":"'DNSP Inputs O & M'!$E$12","v":111.08407886363248},{"$f":"'DNSP Inputs O & M'!$E$33","v":2},{"$f":"'DNSP Inputs O & M'!$E$17","v":7.5},{"$f":"Y122*Z122*AA122","v":1666.2611829544874},{"$f":"(AB122+AB123)/'DNSP Inputs O & M'!$E$37","v":70.923999408141924},{"$f":"AC122*AA99","v":3.4428016774463415},null,{"$f":"'DNSP Inputs O & M'!$E$12","v":111.08407886363248},{"$f":"'DNSP Inputs O & M'!$E$33","v":2},{"$f":"'DNSP Inputs O & M'!$E$17","v":7.5},{"$f":"AF122*AG122*AH122","v":1666.2611829544874},{"$f":"(AI122+AI123)/'DNSP Inputs O & M'!$E$38","v":89.3150492897703},{"$f":"AJ122*AA99","v":4.33554232815478},null,{"$f":"'DNSP Inputs O & M'!$E$12","v":111.08407886363248},{"$f":"'DNSP Inputs O & M'!$E$33","v":2},{"$f":"'DNSP Inputs O & M'!$E$17","v":7.5},{"$f":"AM122*AN122*AO122","v":1666.2611829544874},{"$f":"(AP122+AP123)/'DNSP Inputs O & M'!$E$39","v":111.64381161221289},{"$f":"AQ122*AA99","v":5.419427910193475},null,null,null,{"$f":"'DNSP Inputs O & M'!$F$12","v":111.00339776810097},{"$f":"'DNSP Inputs O & M'!$F$33","v":2},{"$f":"'DNSP Inputs O & M'!$F$17","v":7.5},{"$f":"AV122*AW122*AX122","v":1665.0509665215145},{"$f":"(AY122+AY123)/'DNSP Inputs O & M'!$F$37","v":70.881978004219249},{"$f":"AZ122*AX99","v":3.4407618691850912},null,{"$f":"'DNSP Inputs O & M'!$F$12","v":111.00339776810097},{"$f":"'DNSP Inputs O & M'!$F$33","v":2},{"$f":"'DNSP Inputs O & M'!$F$17","v":7.5},{"$f":"BC122*BD122*BE122","v":1665.0509665215145},{"$f":"(BF122+BF123)/'DNSP Inputs O & M'!$F$38","v":89.264623605063107},{"$f":"BG122*AX99","v":4.3330945582412799},null,{"$f":"'DNSP Inputs O & M'!$F$12","v":111.00339776810097},{"$f":"'DNSP Inputs O & M'!$F$33","v":2},{"$f":"'DNSP Inputs O & M'!$F$17","v":7.5},{"$f":"BJ122*BK122*BL122","v":1665.0509665215145},{"$f":"(BM122+BM123)/'DNSP Inputs O & M'!$F$39","v":111.58077950632889},{"$f":"BN122*AX99","v":5.4163681978016012},null,null,null,{"$f":"'DNSP Inputs O & M'!$G$12","v":111.41108530292857},{"$f":"'DNSP Inputs O & M'!$G$33","v":2},{"$f":"'DNSP Inputs O & M'!$G$17","v":7.5},{"$f":"BS122*BT122*BU122","v":1671.1662795439286},{"$f":"(BV122+BV123)/'DNSP Inputs O & M'!$G$37","v":71.094315261941972},{"$f":"BW122*BU99","v":3.4510691709894536},null,{"$f":"'DNSP Inputs O & M'!$G$12","v":111.41108530292857},{"$f":"'DNSP Inputs O & M'!$G$33","v":2},{"$f":"'DNSP Inputs O & M'!$G$17","v":7.5},{"$f":"BZ122*CA122*CB122","v":1671.1662795439286},{"$f":"(CC122+CC123)/'DNSP Inputs O & M'!$G$38","v":89.519428314330355},{"$f":"CD122*BU99","v":4.3454633204065143},null,{"$f":"'DNSP Inputs O & M'!$G$12","v":111.41108530292857},{"$f":"'DNSP Inputs O & M'!$G$33","v":2},{"$f":"'DNSP Inputs O & M'!$G$17","v":7.5},{"$f":"CG122*CH122*CI122","v":1671.1662795439286},{"$f":"(CJ122+CJ123)/'DNSP Inputs O & M'!$G$39","v":111.89928539291294},{"$f":"CK122*BU99","v":5.4318291505081424},null,null,null,{"$f":"'DNSP Inputs O & M'!$H$12","v":112.5214007824073},{"$f":"'DNSP Inputs O & M'!$H$33","v":2},{"$f":"'DNSP Inputs O & M'!$H$17","v":7.5},{"$f":"CP122*CQ122*CR122","v":1687.8210117361095},{"$f":"(CS122+CS123)/'DNSP Inputs O & M'!$H$37","v":71.672604574170464},{"$f":"CT122*CR99","v":3.4791405633362449},null,{"$f":"'DNSP Inputs O & M'!$H$12","v":112.5214007824073},{"$f":"'DNSP Inputs O & M'!$H$33","v":2},{"$f":"'DNSP Inputs O & M'!$H$17","v":7.5},{"$f":"CW122*CX122*CY122","v":1687.8210117361095},{"$f":"(CZ122+CZ123)/'DNSP Inputs O & M'!$H$38","v":90.213375489004576},{"$f":"DA122*CR99","v":4.3791489912226655},null,{"$f":"'DNSP Inputs O & M'!$H$12","v":112.5214007824073},{"$f":"'DNSP Inputs O & M'!$H$33","v":2},{"$f":"'DNSP Inputs O & M'!$H$17","v":7.5},{"$f":"DD122*DE122*DF122","v":1687.8210117361095},{"$f":"(DG122+DG123)/'DNSP Inputs O & M'!$H$39","v":112.76671936125572},{"$f":"DH122*CR99","v":5.4739362390283315}]
["Elevated platform costs",{"$f":"'DNSP Inputs O & M'!$D$14","v":50.18},1,{"$f":"'DNSP Inputs O & M'!$D$17","v":7.5},{"$f":"B123*C123*D123","v":376.35},null,null,null,{"$f":"'DNSP Inputs O & M'!$D$15","v":63.64},1,{"$f":"'DNSP Inputs O & M'!$D$17","v":7.5},{"$f":"I123*J123*K123","v":477.3},null,null,null,{"$f":"'DNSP Inputs O & M'!$D$15","v":63.64},1,{"$f":"'DNSP Inputs O & M'!$D$17","v":7.5},{"$f":"P123*Q123*R123","v":477.3},null,null,null,null,null,{"$f":"'DNSP Inputs O & M'!$E$14","v":50.18},1,{"$f":"'DNSP Inputs O & M'!$E$17","v":7.5},{"$f":"Y123*Z123*AA123","v":376.35},null,null,null,{"$f":"'DNSP Inputs O & M'!$E$15","v":63.64},1,{"$f":"'DNSP Inputs O & M'!$E$17","v":7.5},{"$f":"AF123*AG123*AH123","v":477.3},null,null,null,{"$f":"'DNSP Inputs O & M'!$E$15","v":63.64},1,{"$f":"'DNSP Inputs O & M'!$E$17","v":7.5},{"$f":"AM123*AN123*AO123","v":477.3},null,null,null,null,null,{"$f":"'DNSP Inputs O & M'!$F$14","v":50.18},1,{"$f":"'DNSP Inputs O & M'!$F$17","v":7.5},{"$f":"AV123*AW123*AX123","v":376.35},null,null,null,{"$f":"'DNSP Inputs O & M'!$F$15","v":63.64},1,{"$f":"'DNSP Inputs O & M'!$F$17","v":7.5},{"$f":"BC123*BD123*BE123","v":477.3},null,null,null,{"$f":"'DNSP Inputs O & M'!$F$15","v":63.64},1,{"$f":"'DNSP Inputs O & M'!$F$17","v":7.5},{"$f":"BJ123*BK123*BL123","v":477.3},null,null,null,null,null,{"$f":"'DNSP Inputs O & M'!$G$14","v":50.18},1,{"$f":"'DNSP Inputs O & M'!$G$17","v":7.5},{"$f":"BS123*BT123*BU123","v":376.35},null,null,null,{"$f":"'DNSP Inputs O & M'!$G$15","v":63.64},1,{"$f":"'DNSP Inputs O & M'!$G$17","v":7.5},{"$f":"BZ123*CA123*CB123","v":477.3},null,null,null,{"$f":"'DNSP Inputs O & M'!$G$15","v":63.64},1,{"$f":"'DNSP Inputs O & M'!$G$17","v":7.5},{"$f":"CG123*CH123*CI123","v":477.3},null,null,null,null,null,{"$f":"'DNSP Inputs O & M'!$H$14","v":50.18},1,{"$f":"'DNSP Inputs O & M'!$H$17","v":7.5},{"$f":"CP123*CQ123*CR123","v":376.35},null,null,null,{"$f":"'DNSP Inputs O & M'!$H$15","v":63.64},1,{"$f":"'DNSP Inputs O & M'!$H$17","v":7.5},{"$f":"CW123*CX123*CY123","v":477.3},null,null,null,{"$f":"'DNSP Inputs O & M'!$H$15","v":63.64},1,{"$f":"'DNSP Inputs O & M'!$H$17","v":7.5},{"$f":"DD123*DE123*DF123","v":477.3}]
["Other Maintenance and Repair costs",null,null,null,null,null,{"$f":"'DNSP Inputs O & M'!$D$50","v":2.1},null,null,null,null,null,null,{"$f":"'DNSP Inputs O & M'!$D$50","v":2.1},null,null,null,null,null,null,{"$f":"'DNSP Inputs O & M'!$D$50","v":2.1},null,null,null,null,null,null,null,null,{"$f":"'DNSP Inputs O & M'!$E$50","v":2.1},null,null,null,null,null,null,{"$f":"'DNSP Inputs O & M'!$E$50","v":2.1},null,null,null,null,null,null,{"$f":"'DNSP Inputs O & M'!$E$50","v":2.1},null,null,null,null,null,null,null,null,{"$f":"'DNSP Inputs O & M'!$F$50","v":2.1},null,null,null,null,null,null,{"$f":"'DNSP Inputs O & M'!$F$50","v":2.1},null,null,null,null,null,null,{"$f":"'DNSP Inputs O & M'!$F$50","v":2.1},null,null,null,null,null,null,null,null,{"$f":"'DNSP Inputs O & M'!$G$50","v":2.1},null,null,null,null,null,null,{"$f":"'DNSP Inputs O & M'!$G$50","v":2.1},null,null,null,null,null,null,{"$f":"'DNSP Inputs O & M'!$G$50","v":2.1},null,null,null,null,null,null,null,null,{"$f":"'DNSP Inputs O & M'!$H$50","v":2.1},null,null,null,null,null,null,{"$f":"'DNSP Inputs O & M'!$H$50","v":2.1},null,null,null,null,null,null,{"$f":"'DNSP Inputs O & M'!$H$50","v":2.1}]
[]
["Overheads",{"$f":"'DNSP Inputs O & M'!$D$18","v":0.25},null,null,null,null,{"$f":"B126*SUM(G110:G124)","v":4.3029259458582763},null,{"$f":"'DNSP Inputs O & M'!$D$18","v":0.25},null,null,null,null,{"$f":"I126*SUM(N110:N124)","v":5.035223601989685},null,{"$f":"'DNSP Inputs O & M'!$D$18","v":0.25},null,null,null,null,{"$f":"P126*SUM(U110:U124)","v":5.7541669018661992},null,null,null,{"$f":"'DNSP Inputs O & M'!$E$18","v":0.25},null,null,null,null,{"$f":"Y126*SUM(AD110:AD124)","v":4.2975292158429186},null,{"$f":"'DNSP Inputs O & M'!$E$18","v":0.25},null,null,null,null,{"$f":"AF126*SUM(AK110:AK124)","v":5.0287677406154945},null,{"$f":"'DNSP Inputs O & M'!$E$18","v":0.25},null,null,null,null,{"$f":"AM126*SUM(AR110:AR124)","v":5.7463143825740186},null,null,null,{"$f":"'DNSP Inputs O & M'!$F$18","v":0.25},null,null,null,null,{"$f":"AV126*SUM(BA110:BA124)","v":4.2959638424697815},null,{"$f":"'DNSP Inputs O & M'!$F$18","v":0.25},null,null,null,null,{"$f":"BC126*SUM(BH110:BH124)","v":5.0268951560194388},null,{"$f":"'DNSP Inputs O & M'!$F$18","v":0.25},null,null,null,null,{"$f":"BJ126*SUM(BO110:BO124)","v":5.7440366839348345},null,null,null,{"$f":"'DNSP Inputs O & M'!$G$18","v":0.25},null,null,null,null,{"$f":"BS126*SUM(BX110:BX124)","v":4.3038737897427444},null,{"$f":"'DNSP Inputs O & M'!$G$18","v":0.25},null,null,null,null,{"$f":"BZ126*SUM(CE110:CE124)","v":5.0363574642924291},null,{"$f":"'DNSP Inputs O & M'!$G$18","v":0.25},null,null,null,null,{"$f":"CG126*SUM(CL110:CL124)","v":5.7555460633894873},null,null,null,{"$f":"'DNSP Inputs O & M'!$H$18","v":0.25},null,null,null,null,{"$f":"CP126*SUM(CU110:CU124)","v":4.325416113578437},null,{"$f":"'DNSP Inputs O & M'!$H$18","v":0.25},null,null,null,null,{"$f":"CW126*SUM(DB110:DB124)","v":5.0621275613633214},null,{"$f":"'DNSP Inputs O & M'!$H$18","v":0.25},null,null,null,null,{"$f":"DD126*SUM(DI110:DI124)","v":5.7868912507597603}]
[]
[null,null,null,null,null,null,{"$f":"SUM(G110,G114,G119,G122,G124,G126)","v":21.514629729291382},null,null,null,null,null,null,{"$f":"SUM(N110,N114,N119,N122,N124,N126)","v":25.176118009948425},null,null,null,null,null,null,{"$f":"SUM(U110,U114,U119,U122,U124,U126)","v":28.770834509330996},null,null,null,null,null,null,null,null,{"$f":"SUM(AD110,AD114,AD119,AD122,AD124,AD126)","v":21.487646079214592},null,null,null,null,null,null,{"$f":"SUM(AK110,AK114,AK119,AK122,AK124,AK126)","v":25.143838703077471},null,null,null,null,null,null,{"$f":"SUM(AR110,AR114,AR119,AR122,AR124,AR126)","v":28.731571912870095},null,null,null,null,null,null,null,null,{"$f":"SUM(BA110,BA114,BA119,BA122,BA124,BA126)","v":21.479819212348907},null,null,null,null,null,null,{"$f":"SUM(BH110,BH114,BH119,BH122,BH124,BH126)","v":25.134475780097194},null,null,null,null,null,null,{"$f":"SUM(BO110,BO114,BO119,BO122,BO124,BO126)","v":28.720183419674171},null,null,null,null,null,null,null,null,{"$f":"SUM(BX110,BX114,BX119,BX122,BX124,BX126)","v":21.519368948713723},null,null,null,null,null,null,{"$f":"SUM(CE110,CE114,CE119,CE122,CE124,CE126)","v":25.181787321462146},null,null,null,null,null,null,{"$f":"SUM(CL110,CL114,CL119,CL122,CL124,CL126)","v":28.777730316947437},null,null,null,null,null,null,null,null,{"$f":"SUM(CU110,CU114,CU119,CU122,CU124,CU126)","v":21.627080567892186},null,null,null,null,null,null,{"$f":"SUM(DB110,DB114,DB119,DB122,DB124,DB126)","v":25.310637806816608},null,null,null,null,null,null,{"$f":"SUM(DI110,DI114,DI119,DI122,DI124,DI126)","v":28.9344562537988}]
[]
["Dedicated poles - inspection"]
["Crew costs",{"$f":"'DNSP Inputs O & M'!$D$12","v":111.36223236834823},1,{"$f":"'DNSP Inputs O & M'!$D$17","v":7.5},{"$f":"B131*C131*D131","v":835.21674276261172},{"$f":"(E131+E132+E133)/'DNSP Inputs O & M'!$D$158","v":273.24793569065292},{"$f":"F131/'DNSP Inputs O & M'!$D$159","v":3.6433058092087056},null,{"$f":"'DNSP Inputs O & M'!$D$12","v":111.36223236834823},1,{"$f":"'DNSP Inputs O & M'!$D$17","v":7.5},{"$f":"I131*J131*K131","v":835.21674276261172},{"$f":"(L131+L132+L133)/'DNSP Inputs O & M'!$D$158","v":273.24793569065292},{"$f":"M131/'DNSP Inputs O & M'!$D$159","v":3.6433058092087056},null,{"$f":"'DNSP Inputs O & M'!$D$12","v":111.36223236834823},1,{"$f":"'DNSP Inputs O & M'!$D$17","v":7.5},{"$f":"P131*Q131*R131","v":835.21674276261172},{"$f":"(S131+S132+S133)/'DNSP Inputs O & M'!$D$158","v":273.24793569065292},{"$f":"T131/'DNSP Inputs O & M'!$D$159","v":3.6433058092087056},null,null,null,{"$f":"'DNSP Inputs O & M'!$E$12","v":111.08407886363248},1,{"$f":"'DNSP Inputs O & M'!$E$17","v":7.5},{"$f":"Y131*Z131*AA131","v":833.13059147724368},{"$f":"(AB131+AB132+AB133)/'DNSP Inputs O & M'!$E$158","v":272.72639786931092},{"$f":"AC131/'DNSP Inputs O & M'!$E$159","v":3.6363519715908121},null,{"$f":"'DNSP Inputs O & M'!$E$12","v":111.08407886363248},1,{"$f":"'DNSP Inputs O & M'!$E$17","v":7.5},{"$f":"AF131*AG131*AH131","v":833.13059147724368},{"$f":"(AI131+AI132+AI133)/'DNSP Inputs O & M'!$E$158","v":272.72639786931092},{"$f":"AJ131/'DNSP Inputs O & M'!$E$159","v":3.6363519715908121},null,{"$f":"'DNSP Inputs O & M'!$E$12","v":111.08407886363248},1,{"$f":"'DNSP Inputs O & M'!$E$17","v":7.5},{"$f":"AM131*AN131*AO131","v":833.13059147724368},{"$f":"(AP131+AP132+AP133)/'DNSP Inputs O & M'!$E$158","v":272.72639786931092},{"$f":"AQ131/'DNSP Inputs O & M'!$E$159","v":3.6363519715908121},null,null,null,{"$f":"'DNSP Inputs O & M'!$F$12","v":111.00339776810097},1,{"$f":"'DNSP Inputs O & M'!$F$17","v":7.5},{"$f":"AV131*AW131*AX131","v":832.52548326075726},{"$f":"(AY131+AY132+AY133)/'DNSP Inputs O & M'!$F$158","v":272.57512081518928},{"$f":"AZ131/'DNSP Inputs O & M'!$F$159","v":3.6343349442025237},null,{"$f":"'DNSP Inputs O & M'!$F$12","v":111.00339776810097},1,{"$f":"'DNSP Inputs O & M'!$F$17","v":7.5},{"$f":"BC131*BD131*BE131","v":832.52548326075726},{"$f":"(BF131+BF132+BF133)/'DNSP Inputs O & M'!$F$158","v":272.57512081518928},{"$f":"BG131/'DNSP Inputs O & M'!$F$159","v":3.6343349442025237},null,{"$f":"'DNSP Inputs O & M'!$F$12","v":111.00339776810097},1,{"$f":"'DNSP Inputs O & M'!$F$17","v":7.5},{"$f":"BJ131*BK131*BL131","v":832.52548326075726},{"$f":"(BM131+BM132+BM133)/'DNSP Inputs O & M'!$F$158","v":272.57512081518928},{"$f":"BN131/'DNSP Inputs O & M'!$F$159","v":3.6343349442025237},null,null,null,{"$f":"'DNSP Inputs O & M'!$G$12","v":111.41108530292857},1,{"$f":"'DNSP Inputs O & M'!$G$17","v":7.5},{"$f":"BS131*BT131*BU131","v":835.58313977196428},{"$f":"(BV131+BV132+BV133)/'DNSP Inputs O & M'!$G$158","v":273.33953494299107},{"$f":"BW131/'DNSP Inputs O & M'!$G$159","v":3.6445271325732143},null,{"$f":"'DNSP Inputs O & M'!$G$12","v":111.41108530292857},1,{"$f":"'DNSP Inputs O & M'!$G$17","v":7.5},{"$f":"BZ131*CA131*CB131","v":835.58313977196428},{"$f":"(CC131+CC132+CC133)/'DNSP Inputs O & M'!$G$158","v":273.33953494299107},{"$f":"CD131/'DNSP Inputs O & M'!$G$159","v":3.6445271325732143},null,{"$f":"'DNSP Inputs O & M'!$G$12","v":111.41108530292857},1,{"$f":"'DNSP Inputs O & M'!$G$17","v":7.5},{"$f":"CG131*CH131*CI131","v":835.58313977196428},{"$f":"(CJ131+CJ132+CJ133)/'DNSP Inputs O & M'!$G$158","v":273.33953494299107},{"$f":"CK131/'DNSP Inputs O & M'!$G$159","v":3.6445271325732143},null,null,null,{"$f":"'DNSP Inputs O & M'!$H$12","v":112.5214007824073},1,{"$f":"'DNSP Inputs O & M'!$H$17","v":7.5},{"$f":"CP131*CQ131*CR131","v":843.91050586805477},{"$f":"(CS131+CS132+CS133)/'DNSP Inputs O & M'!$H$158","v":275.42137646701372},{"$f":"CT131/'DNSP Inputs O & M'!$H$159","v":3.6722850195601828},null,{"$f":"'DNSP Inputs O & M'!$H$12","v":112.5214007824073},1,{"$f":"'DNSP Inputs O & M'!$H$17","v":7.5},{"$f":"CW131*CX131*CY131","v":843.91050586805477},{"$f":"(CZ131+CZ132+CZ133)/'DNSP Inputs O & M'!$H$158","v":275.42137646701372},{"$f":"DA131/'DNSP Inputs O & M'!$H$159","v":3.6722850195601828},null,{"$f":"'DNSP Inputs O & M'!$H$12","v":112.5214007824073},1,{"$f":"'DNSP Inputs O & M'!$H$17","v":7.5},{"$f":"DD131*DE131*DF131","v":843.91050586805477},{"$f":"(DG131+DG132+DG133)/'DNSP Inputs O & M'!$H$158","v":275.42137646701372},{"$f":"DH131/'DNSP Inputs O & M'!$H$159","v":3.6722850195601828}]
["Vehicle costs",{"$f":"'DNSP Inputs O & M'!$D$16","v":34.369999999999997},1,{"$f":"'DNSP Inputs O & M'!$D$17","v":7.5},{"$f":"B132*C132*D132","v":257.77499999999998},null,null,null,{"$f":"'DNSP Inputs O & M'!$D$16","v":34.369999999999997},1,{"$f":"'DNSP Inputs O & M'!$D$17","v":7.5},{"$f":"I132*J132*K132","v":257.77499999999998},null,null,null,{"$f":"'DNSP Inputs O & M'!$D$16","v":34.369999999999997},1,{"$f":"'DNSP Inputs O & M'!$D$17","v":7.5},{"$f":"P132*Q132*R132","v":257.77499999999998},null,null,null,null,null,{"$f":"'DNSP Inputs O & M'!$E$16","v":34.369999999999997},1,{"$f":"'DNSP Inputs O & M'!$E$17","v":7.5},{"$f":"Y132*Z132*AA132","v":257.77499999999998},null,null,null,{"$f":"'DNSP Inputs O & M'!$E$16","v":34.369999999999997},1,{"$f":"'DNSP Inputs O & M'!$E$17","v":7.5},{"$f":"AF132*AG132*AH132","v":257.77499999999998},null,null,null,{"$f":"'DNSP Inputs O & M'!$E$16","v":34.369999999999997},1,{"$f":"'DNSP Inputs O & M'!$E$17","v":7.5},{"$f":"AM132*AN132*AO132","v":257.77499999999998},null,null,null,null,null,{"$f":"'DNSP Inputs O & M'!$F$16","v":34.369999999999997},1,{"$f":"'DNSP Inputs O & M'!$F$17","v":7.5},{"$f":"AV132*AW132*AX132","v":257.77499999999998},null,null,null,{"$f":"'DNSP Inputs O & M'!$F$16","v":34.369999999999997},1,{"$f":"'DNSP Inputs O & M'!$F$17","v":7.5},{"$f":"BC132*BD132*BE132","v":257.77499999999998},null,null,null,{"$f":"'DNSP Inputs O & M'!$F$16","v":34.369999999999997},1,{"$f":"'DNSP Inputs O & M'!$F$17","v":7.5},{"$f":"BJ132*BK132*BL132","v":257.77499999999998},null,null,null,null,null,{"$f":"'DNSP Inputs O & M'!$G$16","v":34.369999999999997},1,{"$f":"'DNSP Inputs O & M'!$G$17","v":7.5},{"$f":"BS132*BT132*BU132","v":257.77499999999998},null,null,null,{"$f":"'DNSP Inputs O & M'!$G$16","v":34.369999999999997},1,{"$f":"'DNSP Inputs O & M'!$G$17","v":7.5},{"$f":"BZ132*CA132*CB132","v":257.77499999999998},null,null,null,{"$f":"'DNSP Inputs O & M'!$G$16","v":34.369999999999997},1,{"$f":"'DNSP Inputs O & M'!$G$17","v":7.5},{"$f":"CG132*CH132*CI132","v":257.77499999999998},null,null,null,null,null,{"$f":"'DNSP Inputs O & M'!$H$16","v":34.369999999999997},1,{"$f":"'DNSP Inputs O & M'!$H$17","v":7.5},{"$f":"CP132*CQ132*CR132","v":257.77499999999998},null,null,null,{"$f":"'DNSP Inputs O & M'!$H$16","v":34.369999999999997},1,{"$f":"'DNSP Inputs O & M'!$H$17","v":7.5},{"$f":"CW132*CX132*CY132","v":257.77499999999998},null,null,null,{"$f":"'DNSP Inputs O & M'!$H$16","v":34.369999999999997},1,{"$f":"'DNSP Inputs O & M'!$H$17","v":7.5},{"$f":"DD132*DE132*DF132","v":257.77499999999998}]
["Overheads",{"$f":"'DNSP Inputs O & M'!$D$18","v":0.25},null,null,{"$f":"B133*(E131+E132)","v":273.24793569065292},null,null,null,{"$f":"'DNSP Inputs O & M'!$D$18","v":0.25},null,null,{"$f":"I133*(L131+L132)","v":273.24793569065292},null,null,null,{"$f":"'DNSP Inputs O & M'!$D$18","v":0.25},null,null,{"$f":"P133*(S131+S132)","v":273.24793569065292},null,null,null,null,null,{"$f":"'DNSP Inputs O & M'!$E$18","v":0.25},null,null,{"$f":"Y133*(AB131+AB132)","v":272.72639786931092},null,null,null,{"$f":"'DNSP Inputs O & M'!$E$18","v":0.25},null,null,{"$f":"AF133*(AI131+AI132)","v":272.72639786931092},null,null,null,{"$f":"'DNSP Inputs O & M'!$E$18","v":0.25},null,null,{"$f":"AM133*(AP131+AP132)","v":272.72639786931092},null,null,null,null,null,{"$f":"'DNSP Inputs O & M'!$F$18","v":0.25},null,null,{"$f":"AV133*(AY131+AY132)","v":272.57512081518928},null,null,null,{"$f":"'DNSP Inputs O & M'!$F$18","v":0.25},null,null,{"$f":"BC133*(BF131+BF132)","v":272.57512081518928},null,null,null,{"$f":"'DNSP Inputs O & M'!$F$18","v":0.25},null,null,{"$f":"BJ133*(BM131+BM132)","v":272.57512081518928},null,null,null,null,null,{"$f":"'DNSP Inputs O & M'!$G$18","v":0.25},null,null,{"$f":"BS133*(BV131+BV132)","v":273.33953494299107},null,null,null,{"$f":"'DNSP Inputs O & M'!$G$18","v":0.25},null,null,{"$f":"BZ133*(CC131+CC132)","v":273.33953494299107},null,null,null,{"$f":"'DNSP Inputs O & M'!$G$18","v":0.25},null,null,{"$f":"CG133*(CJ131+CJ132)","v":273.33953494299107},null,null,null,null,null,{"$f":"'DNSP Inputs O & M'!$H$18","v":0.25},null,null,{"$f":"CP133*(CS131+CS132)","v":275.42137646701372},null,null,null,{"$f":"'DNSP Inputs O & M'!$H$18","v":0.25},null,null,{"$f":"CW133*(CZ131+CZ132)","v":275.42137646701372},null,null,null,{"$f":"'DNSP Inputs O & M'!$H$18","v":0.25},null,null,{"$f":"DD133*(DG131+DG132)","v":275.42137646701372}]
[]
[]
[]
[]
["Sodium High Pressure 150 Watt Standard Light Type - Cost build-up"]
[]
["Additional assumptions"]
["Overheads are applied to material and labour components"]
["All costs and charges are exclusive of GST"]
[]
[null,"Urban",null,null,null,null,null,null,"Rural",null,null,null,null,null,null,"Remote",null,null,null,null,null,null,null,null,"Urban",null,null,null,null,null,null,"Rural",null,null,null,null,null,null,"Remote",null,null,null,null,null,null,null,null,"Urban",null,null,null,null,null,null,"Rural",null,null,null,null,null,null,"Remote",null,null,null,null,null,null,null,null,"Urban",null,null,null,null,null,null,"Rural",null,null,null,null,null,null,"Remote",null,null,null,null,null,null,null,null,"Urban",null,null,null,null,null,null,"Rural",null,null,null,null,null,null,"Remote"]
[]
[null,"Unit rate","Number","Hours","Cost","Annualised","Annualised",null,"Unit rate","Number","Hours","Cost","Annualised","Annualised",null,"Unit rate","Number","Hours","Cost","Annualised","Annualised",null,null,null,"Unit rate","Number","Hours","Cost","Annualised","Annualised",null,"Unit rate","Number","Hours","Cost","Annualised","Annualised",null,"Unit rate","Number","Hours","Cost","Annualised","Annualised",null,null,null,"Unit rate","Number","Hours","Cost","Annualised","Annualised",null,"Unit rate","Number","Hours","Cost","Annualised","Annualised",null,"Unit rate","Number","Hours","Cost","Annualised","Annualised",null,null,null,"Unit rate","Number","Hours","Cost","Annualised","Annualised",null,"Unit rate","Number","Hours","Cost","Annualised","Annualised",null,"Unit rate","Number","Hours","Cost","Annualised","Annualised",null,null,null,"Unit rate","Number","Hours","Cost","Annualised","Annualised",null,"Unit rate","Number","Hours","Cost","Annualised","Annualised",null,"Unit rate","Number","Hours","Cost","Annualised","Annualised"]
[null,null,null,null,null," cost","unit cost",null,null,null,null,null," cost","unit cost",null,null,null,null,null," cost","unit cost",null,null,null,null,null,null,null," cost","unit cost",null,null,null,null,null," cost","unit cost",null,null,null,null,null," cost","unit cost",null,null,null,null,null,null,null," cost","unit cost",null,null,null,null,null," cost","unit cost",null,null,null,null,null," cost","unit cost",null,null,null,null,null,null,null," cost","unit cost",null,null,null,null,null," cost","unit cost",null,null,null,null,null," cost","unit cost",null,null,null,null,null,null,null," cost","unit cost",null,null,null,null,null," cost","unit cost",null,null,null,null,null," cost","unit cost"]
["S-HP 150"]
["Materials - bulk lamp change"]
["Lamp",{"$f":"'DNSP Inputs O & M'!$D$28","v":4.71},{"$f":"'DNSP Inputs O & M'!$D$34","v":86},null,{"$f":"B150*C150","v":405.06},{"$f":"E150/'DNSP Inputs O & M'!$D$25*0.8","v":81.012},{"$f":"(F150+F151+F152)/C150","v":3.101529134138421},null,{"$f":"'DNSP Inputs O & M'!$D$28*(1+'DNSP Inputs O & M'!$D$11)","v":4.9455},{"$f":"'DNSP Inputs O & M'!$D$35","v":72},null,{"$f":"I150*J150","v":356.07600000000002},{"$f":"L150/'DNSP Inputs O & M'!$D$25*0.8","v":71.21520000000001},{"$f":"(M150+M151+M152)/J150","v":3.256605590845342},null,{"$f":"'DNSP Inputs O & M'!$D$28*(1+'DNSP Inputs O & M'!$D$11)","v":4.9455},{"$f":"'DNSP Inputs O & M'!$D$36","v":60},null,{"$f":"P150*Q150","v":296.73},{"$f":"S150/'DNSP Inputs O & M'!$D$25*0.8","v":59.346000000000004},{"$f":"(T150+T151+T152)/Q150","v":3.2566055908453415},null,null,null,{"$f":"'DNSP Inputs O & M'!$E$76","v":19.329999999999998},{"$f":"'DNSP Inputs O & M'!$E$34","v":86},null,{"$f":"Y150*Z150","v":1662.3799999999999},{"$f":"AB150/'DNSP Inputs O & M'!$E$74*0.8","v":265.98079999999999},{"$f":"(AC150+AC151+AC152)/Z150","v":5.0360466146214726},null,{"$f":"'DNSP Inputs O & M'!$E$76*(1+'DNSP Inputs O & M'!$E$11)","v":20.296499999999998},{"$f":"'DNSP Inputs O & M'!$E$35","v":72},null,{"$f":"AF150*AG150","v":1461.348},{"$f":"AI150/'DNSP Inputs O & M'!$E$25*0.8","v":292.26960000000003},{"$f":"(AJ150+AJ151+AJ152)/AG150","v":6.6098111816906844},null,{"$f":"'DNSP Inputs O & M'!$E$76*(1+'DNSP Inputs O & M'!$E$11)","v":20.296499999999998},{"$f":"'DNSP Inputs O & M'!$E$36","v":60},null,{"$f":"AM150*AN150","v":1217.79},{"$f":"AP150/'DNSP Inputs O & M'!$E$25*0.8","v":243.55799999999999},{"$f":"(AQ150+AQ151+AQ152)/AN150","v":6.6098111816906835},null,null,null,{"$f":"'DNSP Inputs O & M'!$F$76","v":19.329999999999998},{"$f":"'DNSP Inputs O & M'!$F$34","v":86},null,{"$f":"AV150*AW150","v":1662.3799999999999},{"$f":"AY150/'DNSP Inputs O & M'!$F$74*0.8","v":265.98079999999999},{"$f":"(AZ150+AZ151+AZ152)/AW150","v":5.0360466146214726},null,{"$f":"'DNSP Inputs O & M'!$F$76*(1+'DNSP Inputs O & M'!$F$11)","v":20.296499999999998},{"$f":"'DNSP Inputs O & M'!$F$35","v":72},null,{"$f":"BC150*BD150","v":1461.348},{"$f":"BF150/'DNSP Inputs O & M'!$F$25*0.8","v":292.26960000000003},{"$f":"(BG150+BG151+BG152)/BD150","v":6.6098111816906844},null,{"$f":"'DNSP Inputs O & M'!$F$76*(1+'DNSP Inputs O & M'!$F$11)","v":20.296499999999998},{"$f":"'DNSP Inputs O & M'!$F$36","v":60},null,{"$f":"BJ150*BK150","v":1217.79},{"$f":"BM150/'DNSP Inputs O & M'!$E$25*0.8","v":243.55799999999999},{"$f":"(BN150+BN151+BN152)/BK150","v":6.6098111816906835},null,null,null,{"$f":"'DNSP Inputs O & M'!$G$76","v":19.329999999999998},{"$f":"'DNSP Inputs O & M'!$G$34","v":86},null,{"$f":"BS150*BT150","v":1662.3799999999999},{"$f":"BV150/'DNSP Inputs O & M'!$G$74*0.8","v":265.98079999999999},{"$f":"(BW150+BW151+BW152)/BT150","v":5.0360466146214726},null,{"$f":"'DNSP Inputs O & M'!$G$76*(1+'DNSP Inputs O & M'!$G$11)","v":20.296499999999998},{"$f":"'DNSP Inputs O & M'!$G$35","v":72},null,{"$f":"BZ150*CA150","v":1461.348},{"$f":"CC150/'DNSP Inputs O & M'!$G$25*0.8","v":292.26960000000003},{"$f":"(CD150+CD151+CD152)/CA150","v":6.6098111816906844},null,{"$f":"'DNSP Inputs O & M'!$G$76*(1+'DNSP Inputs O & M'!$G$11)","v":20.296499999999998},{"$f":"'DNSP Inputs O & M'!$G$36","v":60},null,{"$f":"CG150*CH150","v":1217.79},{"$f":"CJ150/'DNSP Inputs O & M'!$G$25*0.8","v":243.55799999999999},{"$f":"(CK150+CK151+CK152)/CH150","v":6.6098111816906835},null,null,null,{"$f":"'DNSP Inputs O & M'!$H$76","v":19.329999999999998},{"$f":"'DNSP Inputs O & M'!$H$34","v":86},null,{"$f":"CP150*CQ150","v":1662.3799999999999},{"$f":"CS150/'DNSP Inputs O & M'!$H$74*0.8","v":265.98079999999999},{"$f":"(CT150+CT151+CT152)/CQ150","v":5.0360466146214726},null,{"$f":"'DNSP Inputs O & M'!$H$76*(1+'DNSP Inputs O & M'!$H$11)","v":20.296499999999998},{"$f":"'DNSP Inputs O & M'!$H$35","v":72},null,{"$f":"CW150*CX150","v":1461.348},{"$f":"CZ150/'DNSP Inputs O & M'!$H$25*0.8","v":292.26960000000003},{"$f":"(DA150+DA151+DA152)/CX150","v":6.6098111816906844},null,{"$f":"'DNSP Inputs O & M'!$H$76*(1+'DNSP Inputs O & M'!$H$11)","v":20.296499999999998},{"$f":"'DNSP Inputs O & M'!$H$36","v":60},null,{"$f":"DD150*DE150","v":1217.79},{"$f":"DG150/'DNSP Inputs O & M'!$H$25*0.8","v":243.55799999999999},{"$f":"(DH150+DH151+DH152)/DE150","v":6.6098111816906835}]
["PE cell",{"$f":"'DNSP Inputs O & M'!$D$29","v":15.120000000000001},{"$f":"C150*'DNSP Inputs O & M'!$D$25/'DNSP Inputs O & M'!$D$26","v":43},null,{"$f":"B151*C151","v":650.16000000000008},{"$f":"E151/'DNSP Inputs O & M'!$D$25","v":162.54000000000002},null,null,{"$f":"'DNSP Inputs O & M'!$D$29*(1+'DNSP Inputs O & M'!$D$11)","v":15.876000000000001},{"$f":"J150*'DNSP Inputs O & M'!$D$25/'DNSP Inputs O & M'!$D$26","v":36},null,{"$f":"I151*J151","v":571.53600000000006},{"$f":"L151/'DNSP Inputs O & M'!$D$25","v":142.88400000000001},null,null,{"$f":"'DNSP Inputs O & M'!$D$29*(1+'DNSP Inputs O & M'!$D$11)","v":15.876000000000001},{"$f":"Q150*'DNSP Inputs O & M'!$D$25/'DNSP Inputs O & M'!$D$26","v":30},null,{"$f":"P151*Q151","v":476.28000000000003},{"$f":"S151/'DNSP Inputs O & M'!$D$25","v":119.07000000000001},null,null,null,null,{"$f":"'DNSP Inputs O & M'!$E$77","v":15.120000000000001},{"$f":"Z150*'DNSP Inputs O & M'!$E$74/'DNSP Inputs O & M'!$E$75","v":43},null,{"$f":"Y151*Z151","v":650.16000000000008},{"$f":"AB151/'DNSP Inputs O & M'!$E$74","v":130.03200000000001},null,null,{"$f":"'DNSP Inputs O & M'!$E$77*(1+'DNSP Inputs O & M'!$E$11)","v":15.876000000000001},{"$f":"AG150*'DNSP Inputs O & M'!$E$74/'DNSP Inputs O & M'!$E$75","v":36},null,{"$f":"AF151*AG151","v":571.53600000000006},{"$f":"AI151/'DNSP Inputs O & M'!$E$25","v":142.88400000000001},null,null,{"$f":"'DNSP Inputs O & M'!$E$77*(1+'DNSP Inputs O & M'!$E$11)","v":15.876000000000001},{"$f":"AN150*'DNSP Inputs O & M'!$E$74/'DNSP Inputs O & M'!$E$75","v":30},null,{"$f":"AM151*AN151","v":476.28000000000003},{"$f":"AP151/'DNSP Inputs O & M'!$E$25","v":119.07000000000001},null,null,null,null,{"$f":"'DNSP Inputs O & M'!$F$77","v":15.120000000000001},{"$f":"AW150*'DNSP Inputs O & M'!$F$74/'DNSP Inputs O & M'!$F$75","v":43},null,{"$f":"AV151*AW151","v":650.16000000000008},{"$f":"AY151/'DNSP Inputs O & M'!$F$74","v":130.03200000000001},null,null,{"$f":"'DNSP Inputs O & M'!$F$77*(1+'DNSP Inputs O & M'!$F$11)","v":15.876000000000001},{"$f":"BD150*'DNSP Inputs O & M'!$F$74/'DNSP Inputs O & M'!$F$75","v":36},null,{"$f":"BC151*BD151","v":571.53600000000006},{"$f":"BF151/'DNSP Inputs O & M'!$F$25","v":142.88400000000001},null,null,{"$f":"'DNSP Inputs O & M'!$F$77*(1+'DNSP Inputs O & M'!$F$11)","v":15.876000000000001},{"$f":"BK150*'DNSP Inputs O & M'!$F$74/'DNSP Inputs O & M'!$F$75","v":30},null,{"$f":"BJ151*BK151","v":476.28000000000003},{"$f":"BM151/'DNSP Inputs O & M'!$E$25","v":119.07000000000001},null,null,null,null,{"$f":"'DNSP Inputs O & M'!$G$77","v":15.120000000000001},{"$f":"BT150*'DNSP Inputs O & M'!$G$74/'DNSP Inputs O & M'!$G$75","v":43},null,{"$f":"BS151*BT151","v":650.16000000000008},{"$f":"BV151/'DNSP Inputs O & M'!$G$74","v":130.03200000000001},null,null,{"$f":"'DNSP Inputs O & M'!$G$77*(1+'DNSP Inputs O & M'!$G$11)","v":15.876000000000001},{"$f":"CA150*'DNSP Inputs O & M'!$G$74/'DNSP Inputs O & M'!$G$75","v":36},null,{"$f":"BZ151*CA151","v":571.53600000000006},{"$f":"CC151/'DNSP Inputs O & M'!$G$25","v":142.88400000000001},null,null,{"$f":"'DNSP Inputs O & M'!$G$77*(1+'DNSP Inputs O & M'!$G$11)","v":15.876000000000001},{"$f":"CH150*'DNSP Inputs O & M'!$G$74/'DNSP Inputs O & M'!$G$75","v":30},null,{"$f":"CG151*CH151","v":476.28000000000003},{"$f":"CJ151/'DNSP Inputs O & M'!$G$25","v":119.07000000000001},null,null,null,null,{"$f":"'DNSP Inputs O & M'!$H$77","v":15.120000000000001},{"$f":"CQ150*'DNSP Inputs O & M'!$H$74/'DNSP Inputs O & M'!$H$75","v":43},null,{"$f":"CP151*CQ151","v":650.16000000000008},{"$f":"CS151/'DNSP Inputs O & M'!$H$74","v":130.03200000000001},null,null,{"$f":"'DNSP Inputs O & M'!$H$77*(1+'DNSP Inputs O & M'!$H$11)","v":15.876000000000001},{"$f":"CX150*'DNSP Inputs O & M'!$H$74/'DNSP Inputs O & M'!$H$75","v":36},null,{"$f":"CW151*CX151","v":571.53600000000006},{"$f":"CZ151/'DNSP Inputs O & M'!$H$25","v":142.88400000000001},null,null,{"$f":"'DNSP Inputs O & M'!$H$77*(1+'DNSP Inputs O & M'!$H$11)","v":15.876000000000001},{"$f":"DE150*'DNSP Inputs O & M'!$H$74/'DNSP Inputs O & M'!$H$75","v":30},null,{"$f":"DD151*DE151","v":476.28000000000003},{"$f":"DG151/'DNSP Inputs O & M'!$H$25","v":119.07000000000001}]
["Miscellaneous",{"$f":"'DNSP Inputs O & M'!$D$31","v":1.3476456706921032},{"$f":"'DNSP Inputs O & M'!$D$34","v":86},null,{"$f":"B152*C152","v":115.89752767952088},{"$f":"E152/'DNSP Inputs O & M'!$D$25*0.8","v":23.179505535904177},null,null,{"$f":"'DNSP Inputs O & M'!$D$31*(1+'DNSP Inputs O & M'!$D$11)","v":1.4150279542267084},{"$f":"'DNSP Inputs O & M'!$D$35","v":72},null,{"$f":"I152*J152","v":101.882012704323},{"$f":"L152/'DNSP Inputs O & M'!$D$25*0.8","v":20.376402540864603},null,null,{"$f":"'DNSP Inputs O & M'!$D$31*(1+'DNSP Inputs O & M'!$D$11)","v":1.4150279542267084},{"$f":"'DNSP Inputs O & M'!$D$36","v":60},null,{"$f":"P152*Q152","v":84.9016772536025},{"$f":"S152/'DNSP Inputs O & M'!$D$25*0.8","v":16.980335450720499},null,null,null,null,{"$f":"'DNSP Inputs O & M'!E78","v":2.6952913413842063},{"$f":"'DNSP Inputs O & M'!$E$34","v":86},null,{"$f":"Y152*Z152","v":231.79505535904175},{"$f":"AB152/'DNSP Inputs O & M'!$E$74*0.8","v":37.087208857446683},null,null,{"$f":"'DNSP Inputs O & M'!E78*(1+'DNSP Inputs O & M'!$E$11)","v":2.8300559084534167},{"$f":"'DNSP Inputs O & M'!$E$35","v":72},null,{"$f":"AF152*AG152","v":203.76402540864601},{"$f":"AI152/'DNSP Inputs O & M'!$E$25*0.8","v":40.752805081729207},null,null,{"$f":"'DNSP Inputs O & M'!E78*(1+'DNSP Inputs O & M'!$E$11)","v":2.8300559084534167},{"$f":"'DNSP Inputs O & M'!$E$36","v":60},null,{"$f":"AM152*AN152","v":169.803354507205},{"$f":"AP152/'DNSP Inputs O & M'!$E$25*0.8","v":33.960670901440999},null,null,null,null,{"$f":"'DNSP Inputs O & M'!$F$78","v":2.6952913413842063},{"$f":"'DNSP Inputs O & M'!$F$34","v":86},null,{"$f":"AV152*AW152","v":231.79505535904175},{"$f":"AY152/'DNSP Inputs O & M'!$F$74*0.8","v":37.087208857446683},null,null,{"$f":"'DNSP Inputs O & M'!$F$78*(1+'DNSP Inputs O & M'!$E$11)","v":2.8300559084534167},{"$f":"'DNSP Inputs O & M'!$F$35","v":72},null,{"$f":"BC152*BD152","v":203.76402540864601},{"$f":"BF152/'DNSP Inputs O & M'!$F$25*0.8","v":40.752805081729207},null,null,{"$f":"'DNSP Inputs O & M'!$F$78*(1+'DNSP Inputs O & M'!$F$11)","v":2.8300559084534167},{"$f":"'DNSP Inputs O & M'!$F$36","v":60},null,{"$f":"BJ152*BK152","v":169.803354507205},{"$f":"BM152/'DNSP Inputs O & M'!$E$25*0.8","v":33.960670901440999},null,null,null,null,{"$f":"'DNSP Inputs O & M'!$G$78","v":2.6952913413842063},{"$f":"'DNSP Inputs O & M'!$G$34","v":86},null,{"$f":"BS152*BT152","v":231.79505535904175},{"$f":"BV152/'DNSP Inputs O & M'!$G$74*0.8","v":37.087208857446683},null,null,{"$f":"'DNSP Inputs O & M'!$G$78*(1+'DNSP Inputs O & M'!$G$11)","v":2.8300559084534167},{"$f":"'DNSP Inputs O & M'!$G$35","v":72},null,{"$f":"BZ152*CA152","v":203.76402540864601},{"$f":"CC152/'DNSP Inputs O & M'!$G$25*0.8","v":40.752805081729207},null,null,{"$f":"'DNSP Inputs O & M'!$G$78*(1+'DNSP Inputs O & M'!$G$11)","v":2.8300559084534167},{"$f":"'DNSP Inputs O & M'!$G$36","v":60},null,{"$f":"CG152*CH152","v":169.803354507205},{"$f":"CJ152/'DNSP Inputs O & M'!$G$25*0.8","v":33.960670901440999},null,null,null,null,{"$f":"'DNSP Inputs O & M'!$H$78","v":2.6952913413842063},{"$f":"'DNSP Inputs O & M'!$H$34","v":86},null,{"$f":"CP152*CQ152","v":231.79505535904175},{"$f":"CS152/'DNSP Inputs O & M'!$H$74*0.8","v":37.087208857446683},null,null,{"$f":"'DNSP Inputs O & M'!$H$78*(1+'DNSP Inputs O & M'!$H$11)","v":2.8300559084534167},{"$f":"'DNSP Inputs O & M'!$H$35","v":72},null,{"$f":"CW152*CX152","v":203.76402540864601},{"$f":"CZ152/'DNSP Inputs O & M'!$H$25*0.8","v":40.752805081729207},null,null,{"$f":"'DNSP Inputs O & M'!$H$78*(1+'DNSP Inputs O & M'!$H$11)","v":2.8300559084534167},{"$f":"'DNSP Inputs O & M'!$H$36","v":60},null,{"$f":"DD152*DE152","v":169.803354507205},{"$f":"DG152/'DNSP Inputs O & M'!$H$25*0.8","v":33.960670901440999}]
[]
[]
["Patrols and repairs"]
["Materials"]
["Lamp",{"$f":"'DNSP Inputs O & M'!$D$76","v":19.329999999999998},{"$f":"'DNSP Inputs O & M'!$D$84","v":15},null,{"$f":"B157*C157","v":289.95},{"$f":"(E157+E158+E159)/'DNSP Inputs O & M'!$D$84","v":29.58529134138421},{"$f":"F157/'DNSP Inputs O & M'!$D$74","v":5.9170582682768416},null,{"$f":"'DNSP Inputs O & M'!$D$76*(1+'DNSP Inputs O & M'!$D$11)","v":20.296499999999998},{"$f":"'DNSP Inputs O & M'!$D$85","v":11},null,{"$f":"I157*J157","v":223.26149999999998},{"$f":"(L157+L158+L159)/'DNSP Inputs O & M'!$D$85","v":31.064555908453418},{"$f":"M157/'DNSP Inputs O & M'!$D$74","v":6.2129111816906839},null,{"$f":"'DNSP Inputs O & M'!$D$76*(1+'DNSP Inputs O & M'!$D$11)","v":20.296499999999998},{"$f":"'DNSP Inputs O & M'!$D$86","v":9},null,{"$f":"P157*Q157","v":182.66849999999999},{"$f":"(S157+S158+S159)/'DNSP Inputs O & M'!$D$86","v":31.064555908453414},{"$f":"T157/'DNSP Inputs O & M'!$D$74","v":6.212911181690683},null,null,null,{"$f":"'DNSP Inputs O & M'!$E$76","v":19.329999999999998},{"$f":"'DNSP Inputs O & M'!$E$84","v":15},null,{"$f":"Y157*Z157","v":289.95},{"$f":"(AB157+AB158+AB159)/'DNSP Inputs O & M'!$E$84","v":29.58529134138421},{"$f":"AC157/'DNSP Inputs O & M'!$E$74","v":5.9170582682768416},{"$f":"AC157*AA99","v":1.4361329240855443},{"$f":"'DNSP Inputs O & M'!$E$76*(1+'DNSP Inputs O & M'!$E$11)","v":20.296499999999998},{"$f":"'DNSP Inputs O & M'!$E$85","v":11},null,{"$f":"AF157*AG157","v":223.26149999999998},{"$f":"(AI157+AI158+AI159)/'DNSP Inputs O & M'!$E$85","v":31.064555908453418},{"$f":"AJ157/'DNSP Inputs O & M'!$E$74","v":6.2129111816906839},{"$f":"AJ157*AA99","v":1.5079395702898215},{"$f":"'DNSP Inputs O & M'!$E$76*(1+'DNSP Inputs O & M'!$E$11)","v":20.296499999999998},{"$f":"'DNSP Inputs O & M'!$E$86","v":9},null,{"$f":"AM157*AN157","v":182.66849999999999},{"$f":"(AP157+AP158+AP159)/'DNSP Inputs O & M'!$E$86","v":31.064555908453414},{"$f":"AQ157/'DNSP Inputs O & M'!$E$74","v":6.212911181690683},{"$f":"AQ157*AA99","v":1.5079395702898213},null,null,{"$f":"'DNSP Inputs O & M'!$F$76","v":19.329999999999998},{"$f":"'DNSP Inputs O & M'!$F$84","v":15},null,{"$f":"AV157*AW157","v":289.95},{"$f":"(AY157+AY158+AY159)/'DNSP Inputs O & M'!$F$84","v":29.58529134138421},{"$f":"AZ157/'DNSP Inputs O & M'!$F$74","v":5.9170582682768416},{"$f":"AZ157*AX99","v":1.4361329240855443},{"$f":"'DNSP Inputs O & M'!$F$76*(1+'DNSP Inputs O & M'!$F$11)","v":20.296499999999998},{"$f":"'DNSP Inputs O & M'!$F$85","v":11},null,{"$f":"BC157*BD157","v":223.26149999999998},{"$f":"(BF157+BF158+BF159)/'DNSP Inputs O & M'!$F$85","v":31.064555908453418},{"$f":"BG157/'DNSP Inputs O & M'!$F$74","v":6.2129111816906839},{"$f":"BG157*AX99","v":1.5079395702898215},{"$f":"'DNSP Inputs O & M'!$F$76*(1+'DNSP Inputs O & M'!$F$11)","v":20.296499999999998},{"$f":"'DNSP Inputs O & M'!$F$86","v":9},null,{"$f":"BJ157*BK157","v":182.66849999999999},{"$f":"(BM157+BM158+BM159)/'DNSP Inputs O & M'!$F$86","v":31.064555908453414},{"$f":"BN157/'DNSP Inputs O & M'!$F$74","v":6.212911181690683},{"$f":"BN157*AX99","v":1.5079395702898213},null,null,{"$f":"'DNSP Inputs O & M'!$G$76","v":19.329999999999998},{"$f":"'DNSP Inputs O & M'!$G$84","v":15},null,{"$f":"BS157*BT157","v":289.95},{"$f":"(BV157+BV158+BV159)/'DNSP Inputs O & M'!$G$84","v":29.58529134138421},{"$f":"BW157/'DNSP Inputs O & M'!$G$74","v":5.9170582682768416},{"$f":"BW157*AX99","v":1.4361329240855443},{"$f":"'DNSP Inputs O & M'!$G$76*(1+'DNSP Inputs O & M'!$G$11)","v":20.296499999999998},{"$f":"'DNSP Inputs O & M'!$G$85","v":11},null,{"$f":"BZ157*CA157","v":223.26149999999998},{"$f":"(CC157+CC158+CC159)/'DNSP Inputs O & M'!$G$85","v":31.064555908453418},{"$f":"CD157/'DNSP Inputs O & M'!$G$74","v":6.2129111816906839},{"$f":"CD157*AX99","v":1.5079395702898215},{"$f":"'DNSP Inputs O & M'!$G$76*(1+'DNSP Inputs O & M'!$G$11)","v":20.296499999999998},{"$f":"'DNSP Inputs O & M'!$G$86","v":9},null,{"$f":"CG157*CH157","v":182.66849999999999},{"$f":"(CJ157+CJ158+CJ159)/'DNSP Inputs O & M'!$G$86","v":31.064555908453414},{"$f":"CK157/'DNSP Inputs O & M'!$G$74","v":6.212911181690683},{"$f":"CK157*AX99","v":1.5079395702898213},null,null,{"$f":"'DNSP Inputs O & M'!$H$76","v":19.329999999999998},{"$f":"'DNSP Inputs O & M'!$H$84","v":15},null,{"$f":"CP157*CQ157","v":289.95},{"$f":"(CS157+CS158+CS159)/'DNSP Inputs O & M'!$H$84","v":29.58529134138421},{"$f":"CT157/'DNSP Inputs O & M'!$H$74","v":5.9170582682768416},{"$f":"CT157*BU99","v":1.4361329240855443},{"$f":"'DNSP Inputs O & M'!$H$76*(1+'DNSP Inputs O & M'!$H$11)","v":20.296499999999998},{"$f":"'DNSP Inputs O & M'!$H$85","v":11},null,{"$f":"CW157*CX157","v":223.26149999999998},{"$f":"(CZ157+CZ158+CZ159)/'DNSP Inputs O & M'!$H$85","v":31.064555908453418},{"$f":"DA157/'DNSP Inputs O & M'!$H$74","v":6.2129111816906839},{"$f":"DA157*BU99","v":1.5079395702898215},{"$f":"'DNSP Inputs O & M'!$H$76*(1+'DNSP Inputs O & M'!$H$11)","v":20.296499999999998},{"$f":"'DNSP Inputs O & M'!$H$86","v":9},null,{"$f":"DD157*DE157","v":182.66849999999999},{"$f":"(DG157+DG158+DG159)/'DNSP Inputs O & M'!$H$86","v":31.064555908453414},{"$f":"DH157/'DNSP Inputs O & M'!$H$74","v":6.212911181690683},{"$f":"DH157*BU99","v":1.5079395702898213}]
["PE cell",{"$f":"'DNSP Inputs O & M'!$D$77","v":15.120000000000001},{"$f":"C157*'DNSP Inputs O & M'!$D$74/'DNSP Inputs O & M'!$D$75","v":7.5},null,{"$f":"B158*C158","v":113.4},null,null,null,{"$f":"'DNSP Inputs O & M'!$D$77*(1+'DNSP Inputs O & M'!$D$11)","v":15.876000000000001},{"$f":"J157*'DNSP Inputs O & M'!$D$74/'DNSP Inputs O & M'!$D$75","v":5.5},null,{"$f":"I158*J158","v":87.318000000000012},null,null,null,{"$f":"'DNSP Inputs O & M'!$D$77*(1+'DNSP Inputs O & M'!$D$11)","v":15.876000000000001},{"$f":"Q157*'DNSP Inputs O & M'!$D$74/'DNSP Inputs O & M'!$D$75","v":4.5},null,{"$f":"P158*Q158","v":71.442000000000007},null,null,null,null,null,{"$f":"'DNSP Inputs O & M'!$E$77","v":15.120000000000001},{"$f":"Z157*'DNSP Inputs O & M'!$E$74/'DNSP Inputs O & M'!$E$75","v":7.5},null,{"$f":"Y158*Z158","v":113.4},null,null,null,{"$f":"'DNSP Inputs O & M'!$E$77*(1+'DNSP Inputs O & M'!$E$11)","v":15.876000000000001},{"$f":"AG157*'DNSP Inputs O & M'!$E$74/'DNSP Inputs O & M'!$E$75","v":5.5},null,{"$f":"AF158*AG158","v":87.318000000000012},null,null,null,{"$f":"'DNSP Inputs O & M'!$E$77*(1+'DNSP Inputs O & M'!$E$11)","v":15.876000000000001},{"$f":"AN157*'DNSP Inputs O & M'!$E$74/'DNSP Inputs O & M'!$E$75","v":4.5},null,{"$f":"AM158*AN158","v":71.442000000000007},null,null,null,null,null,{"$f":"'DNSP Inputs O & M'!$F$77","v":15.120000000000001},{"$f":"AW157*'DNSP Inputs O & M'!$F$74/'DNSP Inputs O & M'!$F$75","v":7.5},null,{"$f":"AV158*AW158","v":113.4},null,null,null,{"$f":"'DNSP Inputs O & M'!$F$77*(1+'DNSP Inputs O & M'!$F$11)","v":15.876000000000001},{"$f":"BD157*'DNSP Inputs O & M'!$F$74/'DNSP Inputs O & M'!$F$75","v":5.5},null,{"$f":"BC158*BD158","v":87.318000000000012},null,null,null,{"$f":"'DNSP Inputs O & M'!$F$77*(1+'DNSP Inputs O & M'!$F$11)","v":15.876000000000001},{"$f":"BK157*'DNSP Inputs O & M'!$F$74/'DNSP Inputs O & M'!$F$75","v":4.5},null,{"$f":"BJ158*BK158","v":71.442000000000007},null,null,null,null,null,{"$f":"'DNSP Inputs O & M'!$G$77","v":15.120000000000001},{"$f":"BT157*'DNSP Inputs O & M'!$G$74/'DNSP Inputs O & M'!$G$75","v":7.5},null,{"$f":"BS158*BT158","v":113.4},null,null,null,{"$f":"'DNSP Inputs O & M'!$G$77*(1+'DNSP Inputs O & M'!$G$11)","v":15.876000000000001},{"$f":"CA157*'DNSP Inputs O & M'!$G$74/'DNSP Inputs O & M'!$G$75","v":5.5},null,{"$f":"BZ158*CA158","v":87.318000000000012},null,null,null,{"$f":"'DNSP Inputs O & M'!$G$77*(1+'DNSP Inputs O & M'!$G$11)","v":15.876000000000001},{"$f":"CH157*'DNSP Inputs O & M'!$G$74/'DNSP Inputs O & M'!$G$75","v":4.5},null,{"$f":"CG158*CH158","v":71.442000000000007},null,null,null,null,null,{"$f":"'DNSP Inputs O & M'!$H$77","v":15.120000000000001},{"$f":"CQ157*'DNSP Inputs O & M'!$H$74/'DNSP Inputs O & M'!$H$75","v":7.5},null,{"$f":"CP158*CQ158","v":113.4},null,null,null,{"$f":"'DNSP Inputs O & M'!$H$77*(1+'DNSP Inputs O & M'!$H$11)","v":15.876000000000001},{"$f":"CX157*'DNSP Inputs O & M'!$H$74/'DNSP Inputs O & M'!$H$75","v":5.5},null,{"$f":"CW158*CX158","v":87.318000000000012},null,null,null,{"$f":"'DNSP Inputs O & M'!$H$77*(1+'DNSP Inputs O & M'!$H$11)","v":15.876000000000001},{"$f":"DE157*'DNSP Inputs O & M'!$H$74/'DNSP Inputs O & M'!$H$75","v":4.5},null,{"$f":"DD158*DE158","v":71.442000000000007}]
["Miscellaneous",{"$f":"'DNSP Inputs O & M'!$D$78","v":2.6952913413842063},{"$f":"'DNSP Inputs O & M'!$D$84","v":15},null,{"$f":"B159*C159","v":40.429370120763096},null,null,null,{"$f":"'DNSP Inputs O & M'!$D$78*(1+'DNSP Inputs O & M'!$D$11)","v":2.8300559084534167},{"$f":"'DNSP Inputs O & M'!$D$85","v":11},null,{"$f":"I159*J159","v":31.130614992987585},null,null,null,{"$f":"'DNSP Inputs O & M'!$D$78*(1+'DNSP Inputs O & M'!$D$11)","v":2.8300559084534167},{"$f":"'DNSP Inputs O & M'!$D$86","v":9},null,{"$f":"P159*Q159","v":25.470503176080751},null,null,null,null,null,{"$f":"'DNSP Inputs O & M'!$E$78","v":2.6952913413842063},{"$f":"'DNSP Inputs O & M'!$E$84","v":15},null,{"$f":"Y159*Z159","v":40.429370120763096},null,null,null,{"$f":"'DNSP Inputs O & M'!$E$78*(1+'DNSP Inputs O & M'!$E$11)","v":2.8300559084534167},{"$f":"'DNSP Inputs O & M'!$E$85","v":11},null,{"$f":"AF159*AG159","v":31.130614992987585},null,null,null,{"$f":"'DNSP Inputs O & M'!$E$78*(1+'DNSP Inputs O & M'!$E$11)","v":2.8300559084534167},{"$f":"'DNSP Inputs O & M'!$E$86","v":9},null,{"$f":"AM159*AN159","v":25.470503176080751},null,null,null,null,null,{"$f":"'DNSP Inputs O & M'!$F$78","v":2.6952913413842063},{"$f":"'DNSP Inputs O & M'!$F$84","v":15},null,{"$f":"AV159*AW159","v":40.429370120763096},null,null,null,{"$f":"'DNSP Inputs O & M'!$F$78*(1+'DNSP Inputs O & M'!$F$11)","v":2.8300559084534167},{"$f":"'DNSP Inputs O & M'!$F$85","v":11},null,{"$f":"BC159*BD159","v":31.130614992987585},null,null,null,{"$f":"'DNSP Inputs O & M'!$F$78*(1+'DNSP Inputs O & M'!$F$11)","v":2.8300559084534167},{"$f":"'DNSP Inputs O & M'!$F$86","v":9},null,{"$f":"BJ159*BK159","v":25.470503176080751},null,null,null,null,null,{"$f":"'DNSP Inputs O & M'!$G$78","v":2.6952913413842063},{"$f":"'DNSP Inputs O & M'!$G$84","v":15},null,{"$f":"BS159*BT159","v":40.429370120763096},null,null,null,{"$f":"'DNSP Inputs O & M'!$G$78*(1+'DNSP Inputs O & M'!$G$11)","v":2.8300559084534167},{"$f":"'DNSP Inputs O & M'!$G$85","v":11},null,{"$f":"BZ159*CA159","v":31.130614992987585},null,null,null,{"$f":"'DNSP Inputs O & M'!$G$78*(1+'DNSP Inputs O & M'!$G$11)","v":2.8300559084534167},{"$f":"'DNSP Inputs O & M'!$G$86","v":9},null,{"$f":"CG159*CH159","v":25.470503176080751},null,null,null,null,null,{"$f":"'DNSP Inputs O & M'!$H$78","v":2.6952913413842063},{"$f":"'DNSP Inputs O & M'!$H$84","v":15},null,{"$f":"CP159*CQ159","v":40.429370120763096},null,null,null,{"$f":"'DNSP Inputs O & M'!$H$78*(1+'DNSP Inputs O & M'!$H$11)","v":2.8300559084534167},{"$f":"'DNSP Inputs O & M'!$H$85","v":11},null,{"$f":"CW159*CX159","v":31.130614992987585},null,null,null,{"$f":"'DNSP Inputs O & M'!$H$78*(1+'DNSP Inputs O & M'!$H$11)","v":2.8300559084534167},{"$f":"'DNSP Inputs O & M'!$H$86","v":9},null,{"$f":"DD159*DE159","v":25.470503176080751}]
["Labour - Patrol"]
["Crew costs",{"$f":"'DNSP Inputs O & M'!$D$13","v":143.47813587064053},{"$f":"'DNSP Inputs O & M'!$D$79","v":2},{"$f":"'DNSP Inputs O & M'!$D$17","v":7.5},{"$f":"B161*C161*D161","v":2152.172038059608},{"$f":"(E161+E162)/'DNSP Inputs O & M'!$D$81","v":0.80331567935320269},{"$f":"F161*'DNSP Inputs O & M'!$D$73","v":2.4099470380596082},null,{"$f":"'DNSP Inputs O & M'!$D$13","v":143.47813587064053},{"$f":"'DNSP Inputs O & M'!$D$79","v":2},{"$f":"'DNSP Inputs O & M'!$D$17","v":7.5},{"$f":"I161*J161*K161","v":2152.172038059608},{"$f":"(L161+L162)/'DNSP Inputs O & M'!$D$82","v":1.2049735190298041},{"$f":"M161*'DNSP Inputs O & M'!$D$73","v":3.6149205570894125},null,{"$f":"'DNSP Inputs O & M'!$D$13","v":143.47813587064053},{"$f":"'DNSP Inputs O & M'!$D$79","v":2},{"$f":"'DNSP Inputs O & M'!$D$17","v":7.5},{"$f":"P161*Q161*R161","v":2152.172038059608},{"$f":"(S161+S162)/'DNSP Inputs O & M'!$D$83","v":2.4099470380596082},{"$f":"T161*'DNSP Inputs O & M'!$D$73","v":7.229841114178825},null,null,null,{"$f":"'DNSP Inputs O & M'!$E$13","v":143.11976530376381},{"$f":"'DNSP Inputs O & M'!$E$79","v":2},{"$f":"'DNSP Inputs O & M'!$E$17","v":7.5},{"$f":"Y161*Z161*AA161","v":2146.7964795564571},{"$f":"(AB161+AB162)/'DNSP Inputs O & M'!$E$81","v":0.80152382651881904},{"$f":"AC161*'DNSP Inputs O & M'!$E$73","v":2.404571479556457},null,{"$f":"'DNSP Inputs O & M'!$E$13","v":143.11976530376381},{"$f":"'DNSP Inputs O & M'!$E$79","v":2},{"$f":"'DNSP Inputs O & M'!$E$17","v":7.5},{"$f":"AF161*AG161*AH161","v":2146.7964795564571},{"$f":"(AI161+AI162)/'DNSP Inputs O & M'!$E$82","v":1.2022857397782287},{"$f":"AJ161*'DNSP Inputs O & M'!$E$73","v":3.6068572193346862},null,{"$f":"'DNSP Inputs O & M'!$E$13","v":143.11976530376381},{"$f":"'DNSP Inputs O & M'!$E$79","v":2},{"$f":"'DNSP Inputs O & M'!$E$17","v":7.5},{"$f":"AM161*AN161*AO161","v":2146.7964795564571},{"$f":"(AP161+AP162)/'DNSP Inputs O & M'!$E$83","v":2.4045714795564574},{"$f":"AQ161*'DNSP Inputs O & M'!$E$73","v":7.2137144386693723},null,null,null,{"$f":"'DNSP Inputs O & M'!$F$13","v":143.01581647891828},{"$f":"'DNSP Inputs O & M'!$F$79","v":2},{"$f":"'DNSP Inputs O & M'!$F$17","v":7.5},{"$f":"AV161*AW161*AX161","v":2145.2372471837743},{"$f":"(AY161+AY162)/'DNSP Inputs O & M'!$F$81","v":0.80100408239459153},{"$f":"AZ161*'DNSP Inputs O & M'!$F$73","v":2.4030122471837747},null,{"$f":"'DNSP Inputs O & M'!$F$13","v":143.01581647891828},{"$f":"'DNSP Inputs O & M'!$F$79","v":2},{"$f":"'DNSP Inputs O & M'!$F$17","v":7.5},{"$f":"BC161*BD161*BE161","v":2145.2372471837743},{"$f":"(BF161+BF162)/'DNSP Inputs O & M'!$F$82","v":1.2015061235918871},{"$f":"BG161*'DNSP Inputs O & M'!$F$73","v":3.6045183707756614},null,{"$f":"'DNSP Inputs O & M'!$F$13","v":143.01581647891828},{"$f":"'DNSP Inputs O & M'!$F$79","v":2},{"$f":"'DNSP Inputs O & M'!$F$17","v":7.5},{"$f":"BJ161*BK161*BL161","v":2145.2372471837743},{"$f":"(BM161+BM162)/'DNSP Inputs O & M'!$F$83","v":2.4030122471837743},{"$f":"BN161*'DNSP Inputs O & M'!$F$73","v":7.2090367415513228},null,null,null,{"$f":"'DNSP Inputs O & M'!$G$13","v":143.54107756852432},{"$f":"'DNSP Inputs O & M'!$G$79","v":2},{"$f":"'DNSP Inputs O & M'!$G$17","v":7.5},{"$f":"BS161*BT161*BU161","v":2153.116163527865},{"$f":"(BV161+BV162)/'DNSP Inputs O & M'!$G$81","v":0.80363038784262164},{"$f":"BW161*'DNSP Inputs O & M'!$G$73","v":2.4108911635278649},null,{"$f":"'DNSP Inputs O & M'!$G$13","v":143.54107756852432},{"$f":"'DNSP Inputs O & M'!$G$79","v":2},{"$f":"'DNSP Inputs O & M'!$G$17","v":7.5},{"$f":"BZ161*CA161*CB161","v":2153.116163527865},{"$f":"(CC161+CC162)/'DNSP Inputs O & M'!$G$82","v":1.2054455817639325},{"$f":"CD161*'DNSP Inputs O & M'!$G$73","v":3.6163367452917976},null,{"$f":"'DNSP Inputs O & M'!$G$13","v":143.54107756852432},{"$f":"'DNSP Inputs O & M'!$G$79","v":2},{"$f":"'DNSP Inputs O & M'!$G$17","v":7.5},{"$f":"CG161*CH161*CI161","v":2153.116163527865},{"$f":"(CJ161+CJ162)/'DNSP Inputs O & M'!$G$83","v":2.4108911635278649},{"$f":"CK161*'DNSP Inputs O & M'!$G$73","v":7.2326734905835952},null,null,null,{"$f":"'DNSP Inputs O & M'!$H$13","v":144.97159841779208},{"$f":"'DNSP Inputs O & M'!$H$79","v":2},{"$f":"'DNSP Inputs O & M'!$H$17","v":7.5},{"$f":"CP161*CQ161*CR161","v":2174.5739762668813},{"$f":"(CS161+CS162)/'DNSP Inputs O & M'!$H$81","v":0.81078299208896043},{"$f":"CT161*'DNSP Inputs O & M'!$H$73","v":2.4323489762668813},null,{"$f":"'DNSP Inputs O & M'!$H$13","v":144.97159841779208},{"$f":"'DNSP Inputs O & M'!$H$79","v":2},{"$f":"'DNSP Inputs O & M'!$H$17","v":7.5},{"$f":"CW161*CX161*CY161","v":2174.5739762668813},{"$f":"(CZ161+CZ162)/'DNSP Inputs O & M'!$H$82","v":1.2161744881334406},{"$f":"DA161*'DNSP Inputs O & M'!$H$73","v":3.6485234644003217},null,{"$f":"'DNSP Inputs O & M'!$H$13","v":144.97159841779208},{"$f":"'DNSP Inputs O & M'!$H$79","v":2},{"$f":"'DNSP Inputs O & M'!$H$17","v":7.5},{"$f":"DD161*DE161*DF161","v":2174.5739762668813},{"$f":"(DG161+DG162)/'DNSP Inputs O & M'!$H$83","v":2.4323489762668813},{"$f":"DH161*'DNSP Inputs O & M'!$H$73","v":7.2970469288006434}]
["Vehicle costs",{"$f":"'DNSP Inputs O & M'!$D$16","v":34.369999999999997},1,{"$f":"'DNSP Inputs O & M'!$D$17","v":7.5},{"$f":"B162*C162*D162","v":257.77499999999998},null,null,null,{"$f":"'DNSP Inputs O & M'!$D$16","v":34.369999999999997},1,{"$f":"'DNSP Inputs O & M'!$D$17","v":7.5},{"$f":"I162*J162*K162","v":257.77499999999998},null,null,null,{"$f":"'DNSP Inputs O & M'!$D$16","v":34.369999999999997},1,{"$f":"'DNSP Inputs O & M'!$D$17","v":7.5},{"$f":"P162*Q162*R162","v":257.77499999999998},null,null,null,null,null,{"$f":"'DNSP Inputs O & M'!$E$16","v":34.369999999999997},1,{"$f":"'DNSP Inputs O & M'!$E$17","v":7.5},{"$f":"Y162*Z162*AA162","v":257.77499999999998},null,null,null,{"$f":"'DNSP Inputs O & M'!$E$16","v":34.369999999999997},1,{"$f":"'DNSP Inputs O & M'!$E$17","v":7.5},{"$f":"AF162*AG162*AH162","v":257.77499999999998},null,null,null,{"$f":"'DNSP Inputs O & M'!$E$16","v":34.369999999999997},1,{"$f":"'DNSP Inputs O & M'!$E$17","v":7.5},{"$f":"AM162*AN162*AO162","v":257.77499999999998},null,null,null,null,null,{"$f":"'DNSP Inputs O & M'!$F$16","v":34.369999999999997},1,{"$f":"'DNSP Inputs O & M'!$F$17","v":7.5},{"$f":"AV162*AW162*AX162","v":257.77499999999998},null,null,null,{"$f":"'DNSP Inputs O & M'!$F$16","v":34.369999999999997},1,{"$f":"'DNSP Inputs O & M'!$F$17","v":7.5},{"$f":"BC162*BD162*BE162","v":257.77499999999998},null,null,null,{"$f":"'DNSP Inputs O & M'!$F$16","v":34.369999999999997},1,{"$f":"'DNSP Inputs O & M'!$F$17","v":7.5},{"$f":"BJ162*BK162*BL162","v":257.77499999999998},null,null,null,null,null,{"$f":"'DNSP Inputs O & M'!$G$16","v":34.369999999999997},1,{"$f":"'DNSP Inputs O & M'!$G$17","v":7.5},{"$f":"BS162*BT162*BU162","v":257.77499999999998},null,null,null,{"$f":"'DNSP Inputs O & M'!$G$16","v":34.369999999999997},1,{"$f":"'DNSP Inputs O & M'!$G$17","v":7.5},{"$f":"BZ162*CA162*CB162","v":257.77499999999998},null,null,null,{"$f":"'DNSP Inputs O & M'!$G$16","v":34.369999999999997},1,{"$f":"'DNSP Inputs O & M'!$G$17","v":7.5},{"$f":"CG162*CH162*CI162","v":257.77499999999998},null,null,null,null,null,{"$f":"'DNSP Inputs O & M'!$H$16","v":34.369999999999997},1,{"$f":"'DNSP Inputs O & M'!$H$17","v":7.5},{"$f":"CP162*CQ162*CR162","v":257.77499999999998},null,null,null,{"$f":"'DNSP Inputs O & M'!$H$16","v":34.369999999999997},1,{"$f":"'DNSP Inputs O & M'!$H$17","v":7.5},{"$f":"CW162*CX162*CY162","v":257.77499999999998},null,null,null,{"$f":"'DNSP Inputs O & M'!$H$16","v":34.369999999999997},1,{"$f":"'DNSP Inputs O & M'!$H$17","v":7.5},{"$f":"DD162*DE162*DF162","v":257.77499999999998}]
["Labour - Repair of faults"]
["Crew costs",{"$f":"'DNSP Inputs O & M'!$D$12","v":111.36223236834823},{"$f":"'DNSP Inputs O & M'!$D$80","v":2},{"$f":"'DNSP Inputs O & M'!$D$17","v":7.5},{"$f":"B164*C164*D164","v":1670.4334855252234},{"$f":"(E164+E165)/'DNSP Inputs O & M'!$D$84*(C157+C158)/C157","v":214.77334855252232},{"$f":"F164/'DNSP Inputs O & M'!$D$74","v":42.954669710504461},null,{"$f":"'DNSP Inputs O & M'!$D$12","v":111.36223236834823},{"$f":"'DNSP Inputs O & M'!$D$80","v":2},{"$f":"'DNSP Inputs O & M'!$D$17","v":7.5},{"$f":"I164*J164*K164","v":1670.4334855252234},{"$f":"(L164+L165)/'DNSP Inputs O & M'!$D$85*(J157+J158)/J157","v":292.87274802616679},{"$f":"M164/'DNSP Inputs O & M'!$D$74","v":58.574549605233358},null,{"$f":"'DNSP Inputs O & M'!$D$12","v":111.36223236834823},{"$f":"'DNSP Inputs O & M'!$D$80","v":2},{"$f":"'DNSP Inputs O & M'!$D$17","v":7.5},{"$f":"P164*Q164*R164","v":1670.4334855252234},{"$f":"(S164+S165)/'DNSP Inputs O & M'!$D$86*(Q157+Q158)/Q157","v":357.95558092087055},{"$f":"T164/'DNSP Inputs O & M'!$D$74","v":71.591116184174112},null,null,null,{"$f":"'DNSP Inputs O & M'!$E$12","v":111.08407886363248},{"$f":"'DNSP Inputs O & M'!$E$80","v":2},{"$f":"'DNSP Inputs O & M'!$E$17","v":7.5},{"$f":"Y164*Z164*AA164","v":1666.2611829544874},{"$f":"(AB164+AB165)/'DNSP Inputs O & M'!$E$84*(Z157+Z158)/Z157","v":214.35611829544874},{"$f":"AC164/'DNSP Inputs O & M'!$E$74","v":42.87122365908975},{"$f":"AC164*AA99","v":10.405301587571472},{"$f":"'DNSP Inputs O & M'!$E$12","v":111.08407886363248},{"$f":"'DNSP Inputs O & M'!$E$80","v":2},{"$f":"'DNSP Inputs O & M'!$E$17","v":7.5},{"$f":"AF164*AG164*AH164","v":1666.2611829544874},{"$f":"(AI164+AI165)/'DNSP Inputs O & M'!$E$85*(AG157+AG158)/AG157","v":292.30379767561186},{"$f":"AJ164/'DNSP Inputs O & M'!$E$74","v":58.460759535122371},{"$f":"AJ164*AA99","v":14.189047619415641},{"$f":"'DNSP Inputs O & M'!$E$12","v":111.08407886363248},{"$f":"'DNSP Inputs O & M'!$E$80","v":2},{"$f":"'DNSP Inputs O & M'!$E$17","v":7.5},{"$f":"AM164*AN164*AO164","v":1666.2611829544874},{"$f":"(AP164+AP165)/'DNSP Inputs O & M'!$E$86*(AN157+AN158)/AN157","v":357.26019715908126},{"$f":"AQ164/'DNSP Inputs O & M'!$E$74","v":71.452039431816246},{"$f":"AQ164*AA99","v":17.34216931261912},null,null,{"$f":"'DNSP Inputs O & M'!$F$12","v":111.00339776810097},{"$f":"'DNSP Inputs O & M'!$F$80","v":2},{"$f":"'DNSP Inputs O & M'!$F$17","v":7.5},{"$f":"AV164*AW164*AX164","v":1665.0509665215145},{"$f":"(AY164+AY165)/'DNSP Inputs O & M'!$F$84*(AW157+AW158)/AW157","v":214.2350966521515},{"$f":"AZ164/'DNSP Inputs O & M'!$F$74","v":42.8470193304303},{"$f":"AZ164*AX99","v":10.399426939779074},{"$f":"'DNSP Inputs O & M'!$F$12","v":111.00339776810097},{"$f":"'DNSP Inputs O & M'!$F$80","v":2},{"$f":"'DNSP Inputs O & M'!$F$17","v":7.5},{"$f":"BC164*BD164*BE164","v":1665.0509665215145},{"$f":"(BF164+BF165)/'DNSP Inputs O & M'!$F$85*(BD157+BD158)/BD157","v":292.13876816202475},{"$f":"BG164/'DNSP Inputs O & M'!$F$74","v":58.427753632404951},{"$f":"BG164*AX99","v":14.181036736062373},{"$f":"'DNSP Inputs O & M'!$F$12","v":111.00339776810097},{"$f":"'DNSP Inputs O & M'!$F$80","v":2},{"$f":"'DNSP Inputs O & M'!$F$17","v":7.5},{"$f":"BJ164*BK164*BL164","v":1665.0509665215145},{"$f":"(BM164+BM165)/'DNSP Inputs O & M'!$F$86*(BK157+BK158)/BK157","v":357.05849442025249},{"$f":"BN164/'DNSP Inputs O & M'!$F$74","v":71.411698884050494},{"$f":"BN164*AX99","v":17.332378232965123},null,null,{"$f":"'DNSP Inputs O & M'!$G$12","v":111.41108530292857},{"$f":"'DNSP Inputs O & M'!$G$80","v":2},{"$f":"'DNSP Inputs O & M'!$G$17","v":7.5},{"$f":"BS164*BT164*BU164","v":1671.1662795439286},{"$f":"(BV164+BV165)/'DNSP Inputs O & M'!$G$84*(BT157+BT158)/BT157","v":214.84662795439283},{"$f":"BW164/'DNSP Inputs O & M'!$G$74","v":42.969325590878569},{"$f":"BW164*AX99","v":10.429111968975633},{"$f":"'DNSP Inputs O & M'!$G$12","v":111.41108530292857},{"$f":"'DNSP Inputs O & M'!$G$80","v":2},{"$f":"'DNSP Inputs O & M'!$G$17","v":7.5},{"$f":"BZ164*CA164*CB164","v":1671.1662795439286},{"$f":"(CC164+CC165)/'DNSP Inputs O & M'!$G$85*(CA157+CA158)/CA157","v":292.97267448326301},{"$f":"CD164/'DNSP Inputs O & M'!$G$74","v":58.594534896652604},{"$f":"CD164*AX99","v":14.221516321330412},{"$f":"'DNSP Inputs O & M'!$G$12","v":111.41108530292857},{"$f":"'DNSP Inputs O & M'!$G$80","v":2},{"$f":"'DNSP Inputs O & M'!$G$17","v":7.5},{"$f":"CG164*CH164*CI164","v":1671.1662795439286},{"$f":"(CJ164+CJ165)/'DNSP Inputs O & M'!$G$86*(CH157+CH158)/CH157","v":358.07771325732142},{"$f":"CK164/'DNSP Inputs O & M'!$G$74","v":71.615542651464281},{"$f":"CK164*AX99","v":17.381853281626057},null,null,{"$f":"'DNSP Inputs O & M'!$H$12","v":112.5214007824073},{"$f":"'DNSP Inputs O & M'!$H$80","v":2},{"$f":"'DNSP Inputs O & M'!$H$17","v":7.5},{"$f":"CP164*CQ164*CR164","v":1687.8210117361095},{"$f":"(CS164+CS165)/'DNSP Inputs O & M'!$H$84*(CQ157+CQ158)/CQ157","v":216.51210117361097},{"$f":"CT164/'DNSP Inputs O & M'!$H$74","v":43.302420234722192},{"$f":"CT164*BU99","v":10.509957578934396},{"$f":"'DNSP Inputs O & M'!$H$12","v":112.5214007824073},{"$f":"'DNSP Inputs O & M'!$H$80","v":2},{"$f":"'DNSP Inputs O & M'!$H$17","v":7.5},{"$f":"CW164*CX164*CY164","v":1687.8210117361095},{"$f":"(CZ164+CZ165)/'DNSP Inputs O & M'!$H$85*(CX157+CX158)/CX157","v":295.24377432765135},{"$f":"DA164/'DNSP Inputs O & M'!$H$74","v":59.04875486553027},{"$f":"DA164*BU99","v":14.331760334910541},{"$f":"'DNSP Inputs O & M'!$H$12","v":112.5214007824073},{"$f":"'DNSP Inputs O & M'!$H$80","v":2},{"$f":"'DNSP Inputs O & M'!$H$17","v":7.5},{"$f":"DD164*DE164*DF164","v":1687.8210117361095},{"$f":"(DG164+DG165)/'DNSP Inputs O & M'!$H$86*(DE157+DE158)/DE157","v":360.85350195601831},{"$f":"DH164/'DNSP Inputs O & M'!$H$74","v":72.170700391203667},{"$f":"DH164*BU99","v":17.516595964890662}]
["Elevated platform vehicle costs",{"$f":"'DNSP Inputs O & M'!$D$15","v":63.64},1,{"$f":"'DNSP Inputs O & M'!$D$17","v":7.5},{"$f":"B165*C165*D165","v":477.3},null,null,null,{"$f":"'DNSP Inputs O & M'!$D$15","v":63.64},1,{"$f":"'DNSP Inputs O & M'!$D$17","v":7.5},{"$f":"I165*J165*K165","v":477.3},null,null,null,{"$f":"'DNSP Inputs O & M'!$D$15","v":63.64},1,{"$f":"'DNSP Inputs O & M'!$D$17","v":7.5},{"$f":"P165*Q165*R165","v":477.3},null,null,null,null,null,{"$f":"'DNSP Inputs O & M'!$E$15","v":63.64},1,{"$f":"'DNSP Inputs O & M'!$E$17","v":7.5},{"$f":"Y165*Z165*AA165","v":477.3},null,null,null,{"$f":"'DNSP Inputs O & M'!$E$15","v":63.64},1,{"$f":"'DNSP Inputs O & M'!$E$17","v":7.5},{"$f":"AF165*AG165*AH165","v":477.3},null,null,null,{"$f":"'DNSP Inputs O & M'!$E$15","v":63.64},1,{"$f":"'DNSP Inputs O & M'!$E$17","v":7.5},{"$f":"AM165*AN165*AO165","v":477.3},null,null,null,null,null,{"$f":"'DNSP Inputs O & M'!$F$15","v":63.64},1,{"$f":"'DNSP Inputs O & M'!$F$17","v":7.5},{"$f":"AV165*AW165*AX165","v":477.3},null,null,null,{"$f":"'DNSP Inputs O & M'!$F$15","v":63.64},1,{"$f":"'DNSP Inputs O & M'!$F$17","v":7.5},{"$f":"BC165*BD165*BE165","v":477.3},null,null,null,{"$f":"'DNSP Inputs O & M'!$F$15","v":63.64},1,{"$f":"'DNSP Inputs O & M'!$F$17","v":7.5},{"$f":"BJ165*BK165*BL165","v":477.3},null,null,null,null,null,{"$f":"'DNSP Inputs O & M'!$G$15","v":63.64},1,{"$f":"'DNSP Inputs O & M'!$G$17","v":7.5},{"$f":"BS165*BT165*BU165","v":477.3},null,null,null,{"$f":"'DNSP Inputs O & M'!$G$15","v":63.64},1,{"$f":"'DNSP Inputs O & M'!$G$17","v":7.5},{"$f":"BZ165*CA165*CB165","v":477.3},null,null,null,{"$f":"'DNSP Inputs O & M'!$G$15","v":63.64},1,{"$f":"'DNSP Inputs O & M'!$G$17","v":7.5},{"$f":"CG165*CH165*CI165","v":477.3},null,null,null,null,null,{"$f":"'DNSP Inputs O & M'!$H$15","v":63.64},1,{"$f":"'DNSP Inputs O & M'!$H$17","v":7.5},{"$f":"CP165*CQ165*CR165","v":477.3},null,null,null,{"$f":"'DNSP Inputs O & M'!$H$15","v":63.64},1,{"$f":"'DNSP Inputs O & M'!$H$17","v":7.5},{"$f":"CW165*CX165*CY165","v":477.3},null,null,null,{"$f":"'DNSP Inputs O & M'!$H$15","v":63.64},1,{"$f":"'DNSP Inputs O & M'!$H$17","v":7.5},{"$f":"DD165*DE165*DF165","v":477.3}]
[]
["Other Maintenance and Repair costs",null,null,null,null,null,{"$f":"'DNSP Inputs O & M'!$D$93","v":2.1},null,null,null,null,null,null,{"$f":"'DNSP Inputs O & M'!$D$93","v":2.1},null,null,null,null,null,null,{"$f":"'DNSP Inputs O & M'!$D$93","v":2.1},null,null,null,null,null,null,null,null,{"$f":"'DNSP Inputs O & M'!$E$93","v":2.1},null,null,null,null,null,null,{"$f":"'DNSP Inputs O & M'!$E$93","v":2.1},null,null,null,null,null,null,{"$f":"'DNSP Inputs O & M'!$E$93","v":2.1},null,null,null,null,null,null,null,null,{"$f":"'DNSP Inputs O & M'!$F$93","v":2.1},null,null,null,null,null,null,{"$f":"'DNSP Inputs O & M'!$F$93","v":2.1},null,null,null,null,null,null,{"$f":"'DNSP Inputs O & M'!$F$93","v":2.1},null,null,null,null,null,null,null,null,{"$f":"'DNSP Inputs O & M'!$G$93","v":2.1},null,null,null,null,null,null,{"$f":"'DNSP Inputs O & M'!$G$93","v":2.1},null,null,null,null,null,null,{"$f":"'DNSP Inputs O & M'!$G$93","v":2.1},null,null,null,null,null,null,null,null,{"$f":"'DNSP Inputs O & M'!$H$93","v":2.1},null,null,null,null,null,null,{"$f":"'DNSP Inputs O & M'!$H$93","v":2.1},null,null,null,null,null,null,{"$f":"'DNSP Inputs O & M'!$H$93","v":2.1}]
[]
["Overheads",{"$f":"'DNSP Inputs O & M'!$D$18","v":0.25},null,null,null,null,{"$f":"B169*(G157+G161+G164+G167)","v":13.345418754210227},null,{"$f":"'DNSP Inputs O & M'!$D$18","v":0.25},null,null,null,null,{"$f":"I169*(N157+N161+N164+N167)","v":17.625595336003361},null,{"$f":"'DNSP Inputs O & M'!$D$18","v":0.25},null,null,null,null,{"$f":"P169*(U157+U161+U164+U167)","v":21.783467120010904},null,null,null,{"$f":"'DNSP Inputs O & M'!$E$18","v":0.25},null,null,null,null,{"$f":"Y169*(AD157+AD161+AD164+AD167)","v":13.323213351730763},null,{"$f":"'DNSP Inputs O & M'!$E$18","v":0.25},null,null,null,null,{"$f":"AF169*(AK157+AK161+AK164+AK167)","v":17.595131984036932},null,{"$f":"'DNSP Inputs O & M'!$E$18","v":0.25},null,null,null,null,{"$f":"AM169*(AR157+AR161+AR164+AR167)","v":21.744666263044074},null,null,null,{"$f":"'DNSP Inputs O & M'!$F$18","v":0.25},null,null,null,null,{"$f":"AV169*(BA157+BA161+BA164+BA167)","v":13.316772461472729},null,{"$f":"'DNSP Inputs O & M'!$F$18","v":0.25},null,null,null,null,{"$f":"BC169*(BH157+BH161+BH164+BH167)","v":17.586295796217822},null,{"$f":"'DNSP Inputs O & M'!$F$18","v":0.25},null,null,null,null,{"$f":"BJ169*(BO157+BO161+BO164+BO167)","v":21.733411701823123},null,null,null,{"$f":"'DNSP Inputs O & M'!$G$18","v":0.25},null,null,null,null,{"$f":"BS169*(BX157+BX161+BX164+BX167)","v":13.349318755670819},null,{"$f":"'DNSP Inputs O & M'!$G$18","v":0.25},null,null,null,null,{"$f":"BZ169*(CE157+CE161+CE164+CE167)","v":17.630945705908772},null,{"$f":"'DNSP Inputs O & M'!$G$18","v":0.25},null,null,null,null,{"$f":"CG169*(CL157+CL161+CL164+CL167)","v":21.790281830934639},null,null,null,{"$f":"'DNSP Inputs O & M'!$H$18","v":0.25},null,null,null,null,{"$f":"CP169*(CU157+CU161+CU164+CU167)","v":13.43795686981648},null,{"$f":"'DNSP Inputs O & M'!$H$18","v":0.25},null,null,null,null,{"$f":"CW169*(DB157+DB161+DB164+DB167)","v":17.752547377905316},null,{"$f":"'DNSP Inputs O & M'!$H$18","v":0.25},null,null,null,null,{"$f":"DD169*(DI157+DI161+DI164+DI167)","v":21.945164625423747}]
[]
[null,null,null,null,null,null,{"$f":"SUM(G157,G161,G164,G167,G169)","v":66.72709377105113},null,null,null,null,null,null,{"$f":"SUM(N157,N161,N164,N167,N169)","v":88.127976680016801},null,null,null,null,null,null,{"$f":"SUM(U157,U161,U164,U167,U169)","v":108.91733560005451},null,null,null,null,null,null,null,null,{"$f":"SUM(AD157,AD161,AD164,AD167,AD169)","v":66.616066758653815},null,null,null,null,null,null,{"$f":"SUM(AK157,AK161,AK164,AK167,AK169)","v":87.975659920184654},null,null,null,null,null,null,{"$f":"SUM(AR157,AR161,AR164,AR167,AR169)","v":108.72333131522038},null,null,null,null,null,null,null,null,{"$f":"SUM(BA157,BA161,BA164,BA167,BA169)","v":66.583862307363646},null,null,null,null,null,null,{"$f":"SUM(BH157,BH161,BH164,BH167,BH169)","v":87.931478981089114},null,null,null,null,null,null,{"$f":"SUM(BO157,BO161,BO164,BO167,BO169)","v":108.66705850911561},null,null,null,null,null,null,null,null,{"$f":"SUM(BX157,BX161,BX164,BX167,BX169)","v":66.746593778354097},null,null,null,null,null,null,{"$f":"SUM(CE157,CE161,CE164,CE167,CE169)","v":88.15472852954386},null,null,null,null,null,null,{"$f":"SUM(CL157,CL161,CL164,CL167,CL169)","v":108.9514091546732},null,null,null,null,null,null,null,null,{"$f":"SUM(CU157,CU161,CU164,CU167,CU169)","v":67.189784349082402},null,null,null,null,null,null,{"$f":"SUM(DB157,DB161,DB164,DB167,DB169)","v":88.762736889526579},null,null,null,null,null,null,{"$f":"SUM(DI157,DI161,DI164,DI167,DI169)","v":109.72582312711873}]
[]
[]
[]
[]
["Sodium High Pressure 250 Watt Standard Light Type - Cost build-up"]
[]
["Additional assumptions"]
["Overheads are applied to material and labour components"]
["All costs and charges are exclusive of GST"]
[]
[null,"Urban",null,null,null,null,null,null,"Rural",null,null,null,null,null,null,"Remote",null,null,null,null,null,null,null,null,"Urban",null,null,null,null,null,null,"Rural",null,null,null,null,null,null,"Remote",null,null,null,null,null,null,null,null,"Urban",null,null,null,null,null,null,"Rural",null,null,null,null,null,null,"Remote",null,null,null,null,null,null,null,null,"Urban",null,null,null,null,null,null,"Rural",null,null,null,null,null,null,"Remote",null,null,null,null,null,null,null,null,"Urban",null,null,null,null,null,null,"Rural",null,null,null,null,null,null,"Remote"]
[]
[null,"Unit rate","Number","Hours","Cost","Annualised","Annualised",null,"Unit rate","Number","Hours","Cost","Annualised","Annualised",null,"Unit rate","Number","Hours","Cost","Annualised","Annualised",null,null,null,"Unit rate","Number","Hours","Cost","Annualised","Annualised",null,"Unit rate","Number","Hours","Cost","Annualised","Annualised",null,"Unit rate","Number","Hours","Cost","Annualised","Annualised",null,null,null,"Unit rate","Number","Hours","Cost","Annualised","Annualised",null,"Unit rate","Number","Hours","Cost","Annualised","Annualised",null,"Unit rate","Number","Hours","Cost","Annualised","Annualised",null,null,null,"Unit rate","Number","Hours","Cost","Annualised","Annualised",null,"Unit rate","Number","Hours","Cost","Annualised","Annualised",null,"Unit rate","Number","Hours","Cost","Annualised","Annualised",null,null,null,"Unit rate","Number","Hours","Cost","Annualised","Annualised",null,"Unit rate","Number","Hours","Cost","Annualised","Annualised",null,"Unit rate","Number","Hours","Cost","Annualised","Annualised"]
[null,null,null,null,null," cost","unit cost",null,null,null,null,null," cost","unit cost",null,null,null,null,null," cost","unit cost",null,null,null,null,null,null,null," cost","unit cost",null,null,null,null,null," cost","unit cost",null,null,null,null,null," cost","unit cost",null,null,null,null,null,null,null," cost","unit cost",null,null,null,null,null," cost","unit cost",null,null,null,null,null," cost","unit cost",null,null,null,null,null,null,null," cost","unit cost",null,null,null,null,null," cost","unit cost",null,null,null,null,null," cost","unit cost",null,null,null,null,null,null,null," cost","unit cost",null,null,null,null,null," cost","unit cost",null,null,null,null,null," cost","unit cost"]
["S-HP 250"]
["Materials - bulk lamp change"]
["Lamp",null,null,null,null,null,null,null,null,null,null,null,null,null,null,null,null,null,null,null,null,null,null,null,{"$f":"'DNSP Inputs O & M'!$E$119","v":21.28},{"$f":"'DNSP Inputs O & M'!$E$34","v":86},null,{"$f":"Y188*Z188","v":1830.0800000000002},{"$f":"AB188/'DNSP Inputs O & M'!$E$74*0.8","v":292.81280000000004},{"$f":"(AC188+AC189+AC190)/Z188","v":5.3244911272681996},null,{"$f":"'DNSP Inputs O & M'!$E$119*(1+'DNSP Inputs O & M'!$E$11)","v":22.344000000000001},{"$f":"'DNSP Inputs O & M'!$E$35","v":72},null,{"$f":"AF188*AG188","v":1608.768},{"$f":"AI188/'DNSP Inputs O & M'!$E$25*0.8","v":321.75360000000001},{"$f":"(AJ188+AJ189+AJ190)/AG188","v":6.9883946045395113},null,{"$f":"'DNSP Inputs O & M'!$E$119*(1+'DNSP Inputs O & M'!$E$11)","v":22.344000000000001},{"$f":"'DNSP Inputs O & M'!$E$36","v":60},null,{"$f":"AM188*AN188","v":1340.64},{"$f":"AP188/'DNSP Inputs O & M'!$E$25*0.8","v":268.12800000000004},{"$f":"(AQ188+AQ189+AQ190)/AN188","v":6.9883946045395113},null,null,null,{"$f":"'DNSP Inputs O & M'!$F$119","v":21.28},{"$f":"'DNSP Inputs O & M'!$F$34","v":86},null,{"$f":"AV188*AW188","v":1830.0800000000002},{"$f":"AY188/'DNSP Inputs O & M'!$F$74*0.8","v":292.81280000000004},{"$f":"(AZ188+AZ189+AZ190)/AW188","v":5.3244911272681996},null,{"$f":"'DNSP Inputs O & M'!$F$119*(1+'DNSP Inputs O & M'!$F$11)","v":22.344000000000001},{"$f":"'DNSP Inputs O & M'!$F$35","v":72},null,{"$f":"BC188*BD188","v":1608.768},{"$f":"BF188/'DNSP Inputs O & M'!$F$25*0.8","v":321.75360000000001},{"$f":"(BG188+BG189+BG190)/BD188","v":6.9883946045395113},null,{"$f":"'DNSP Inputs O & M'!$F$119*(1+'DNSP Inputs O & M'!$F$11)","v":22.344000000000001},{"$f":"'DNSP Inputs O & M'!$F$36","v":60},null,{"$f":"BJ188*BK188","v":1340.64},{"$f":"BM188/'DNSP Inputs O & M'!$F$25*0.8","v":268.12800000000004},{"$f":"(BN188+BN189+BN190)/BK188","v":6.9883946045395113},null,null,null,{"$f":"'DNSP Inputs O & M'!$G$119","v":21.28},{"$f":"'DNSP Inputs O & M'!$G$34","v":86},null,{"$f":"BS188*BT188","v":1830.0800000000002},{"$f":"BV188/'DNSP Inputs O & M'!$G$74*0.8","v":292.81280000000004},{"$f":"(BW188+BW189+BW190)/BT188","v":5.3244911272681996},null,{"$f":"'DNSP Inputs O & M'!$G$119*(1+'DNSP Inputs O & M'!$G$11)","v":22.344000000000001},{"$f":"'DNSP Inputs O & M'!$G$35","v":72},null,{"$f":"BZ188*CA188","v":1608.768},{"$f":"CC188/'DNSP Inputs O & M'!$G$25*0.8","v":321.75360000000001},{"$f":"(CD188+CD189+CD190)/CA188","v":6.9883946045395113},null,{"$f":"'DNSP Inputs O & M'!$G$119*(1+'DNSP Inputs O & M'!$G$11)","v":22.344000000000001},{"$f":"'DNSP Inputs O & M'!$G$36","v":60},null,{"$f":"CG188*CH188","v":1340.64},{"$f":"CJ188/'DNSP Inputs O & M'!$G$25*0.8","v":268.12800000000004},{"$f":"(CK188+CK189+CK190)/CH188","v":6.9883946045395113},null,null,null,{"$f":"'DNSP Inputs O & M'!$H$119","v":21.28},{"$f":"'DNSP Inputs O & M'!$H$34","v":86},null,{"$f":"CP188*CQ188","v":1830.0800000000002},{"$f":"CS188/'DNSP Inputs O & M'!$H$74*0.8","v":292.81280000000004},{"$f":"(CT188+CT189+CT190)/CQ188","v":5.3244911272681996},null,{"$f":"'DNSP Inputs O & M'!$H$119*(1+'DNSP Inputs O & M'!$H$11)","v":22.344000000000001},{"$f":"'DNSP Inputs O & M'!$H$35","v":72},null,{"$f":"CW188*CX188","v":1608.768},{"$f":"CZ188/'DNSP Inputs O & M'!$H$25*0.8","v":321.75360000000001},{"$f":"(DA188+DA189+DA190)/CX188","v":6.9883946045395113},null,{"$f":"'DNSP Inputs O & M'!$H$119*(1+'DNSP Inputs O & M'!$H$11)","v":22.344000000000001},{"$f":"'DNSP Inputs O & M'!$H$36","v":60},null,{"$f":"DD188*DE188","v":1340.64},{"$f":"DG188/'DNSP Inputs O & M'!$H$25*0.8","v":268.12800000000004},{"$f":"(DH188+DH189+DH190)/DE188","v":6.9883946045395113}]
["PE cell",null,null,null,null,null,null,null,null,null,null,null,null,null,null,null,null,null,null,null,null,null,null,null,{"$f":"'DNSP Inputs O & M'!$E$120","v":15.120000000000001},{"$f":"Z188*'DNSP Inputs O & M'!$E$117/'DNSP Inputs O & M'!$E$118","v":43},null,{"$f":"Y189*Z189","v":650.16000000000008},{"$f":"AB189/'DNSP Inputs O & M'!$E$74","v":130.03200000000001},null,null,{"$f":"'DNSP Inputs O & M'!$E$120*(1+'DNSP Inputs O & M'!$E$11)","v":15.876000000000001},{"$f":"AG188*'DNSP Inputs O & M'!$E$117/'DNSP Inputs O & M'!$E$118","v":36},null,{"$f":"AF189*AG189","v":571.53600000000006},{"$f":"AI189/'DNSP Inputs O & M'!$E$25","v":142.88400000000001},null,null,{"$f":"'DNSP Inputs O & M'!$E$120*(1+'DNSP Inputs O & M'!$E$11)","v":15.876000000000001},{"$f":"AN188*'DNSP Inputs O & M'!$E$117/'DNSP Inputs O & M'!$E$118","v":30},null,{"$f":"AM189*AN189","v":476.28000000000003},{"$f":"AP189/'DNSP Inputs O & M'!$E$25","v":119.07000000000001},null,null,null,null,{"$f":"'DNSP Inputs O & M'!$F$120","v":15.120000000000001},{"$f":"AW188*'DNSP Inputs O & M'!$F$117/'DNSP Inputs O & M'!$F$118","v":43},null,{"$f":"AV189*AW189","v":650.16000000000008},{"$f":"AY189/'DNSP Inputs O & M'!$F$74","v":130.03200000000001},null,null,{"$f":"'DNSP Inputs O & M'!$F$120*(1+'DNSP Inputs O & M'!$F$11)","v":15.876000000000001},{"$f":"BD188*'DNSP Inputs O & M'!$F$117/'DNSP Inputs O & M'!$F$118","v":36},null,{"$f":"BC189*BD189","v":571.53600000000006},{"$f":"BF189/'DNSP Inputs O & M'!$F$25","v":142.88400000000001},null,null,{"$f":"'DNSP Inputs O & M'!$F$120*(1+'DNSP Inputs O & M'!$F$11)","v":15.876000000000001},{"$f":"BK188*'DNSP Inputs O & M'!$F$117/'DNSP Inputs O & M'!$F$118","v":30},null,{"$f":"BJ189*BK189","v":476.28000000000003},{"$f":"BM189/'DNSP Inputs O & M'!$F$25","v":119.07000000000001},null,null,null,null,{"$f":"'DNSP Inputs O & M'!$G$120","v":15.120000000000001},{"$f":"BT188*'DNSP Inputs O & M'!$G$117/'DNSP Inputs O & M'!$G$118","v":43},null,{"$f":"BS189*BT189","v":650.16000000000008},{"$f":"BV189/'DNSP Inputs O & M'!$G$74","v":130.03200000000001},null,null,{"$f":"'DNSP Inputs O & M'!$G$120*(1+'DNSP Inputs O & M'!$G$11)","v":15.876000000000001},{"$f":"CA188*'DNSP Inputs O & M'!$G$117/'DNSP Inputs O & M'!$G$118","v":36},null,{"$f":"BZ189*CA189","v":571.53600000000006},{"$f":"CC189/'DNSP Inputs O & M'!$G$25","v":142.88400000000001},null,null,{"$f":"'DNSP Inputs O & M'!$G$120*(1+'DNSP Inputs O & M'!$G$11)","v":15.876000000000001},{"$f":"CH188*'DNSP Inputs O & M'!$G$117/'DNSP Inputs O & M'!$G$118","v":30},null,{"$f":"CG189*CH189","v":476.28000000000003},{"$f":"CJ189/'DNSP Inputs O & M'!$G$25","v":119.07000000000001},null,null,null,null,{"$f":"'DNSP Inputs O & M'!$H$120","v":15.120000000000001},{"$f":"CQ188*'DNSP Inputs O & M'!$H$117/'DNSP Inputs O & M'!$H$118","v":43},null,{"$f":"CP189*CQ189","v":650.16000000000008},{"$f":"CS189/'DNSP Inputs O & M'!$H$74","v":130.03200000000001},null,null,{"$f":"'DNSP Inputs O & M'!$H$120*(1+'DNSP Inputs O & M'!$H$11)","v":15.876000000000001},{"$f":"CX188*'DNSP Inputs O & M'!$H$117/'DNSP Inputs O & M'!$H$118","v":36},null,{"$f":"CW189*CX189","v":571.53600000000006},{"$f":"CZ189/'DNSP Inputs O & M'!$H$25","v":142.88400000000001},null,null,{"$f":"'DNSP Inputs O & M'!$H$120*(1+'DNSP Inputs O & M'!$H$11)","v":15.876000000000001},{"$f":"DE188*'DNSP Inputs O & M'!$H$117/'DNSP Inputs O & M'!$H$118","v":30},null,{"$f":"DD189*DE189","v":476.28000000000003},{"$f":"DG189/'DNSP Inputs O & M'!$H$25","v":119.07000000000001}]
["Miscellaneous",null,null,null,null,null,null,null,null,null,null,null,null,null,null,null,null,null,null,null,null,null,null,null,{"$f":"'DNSP Inputs O & M'!$E$121","v":2.548069545426245},{"$f":"'DNSP Inputs O & M'!$E$34","v":86},null,{"$f":"Y190*Z190","v":219.13398090665706},{"$f":"AB190/'DNSP Inputs O & M'!$E$74*0.8","v":35.061436945065132},null,null,{"$f":"'DNSP Inputs O & M'!$E$121*(1+'DNSP Inputs O & M'!$E$11)","v":2.6754730226975574},{"$f":"'DNSP Inputs O & M'!$E$35","v":72},null,{"$f":"AF190*AG190","v":192.63405763422412},{"$f":"AI190/'DNSP Inputs O & M'!$E$25*0.8","v":38.526811526844824},null,null,{"$f":"'DNSP Inputs O & M'!$E$121*(1+'DNSP Inputs O & M'!$E$11)","v":2.6754730226975574},{"$f":"'DNSP Inputs O & M'!$E$36","v":60},null,{"$f":"AM190*AN190","v":160.52838136185343},{"$f":"AP190/'DNSP Inputs O & M'!$E$25*0.8","v":32.105676272370687},null,null,null,null,{"$f":"'DNSP Inputs O & M'!$F$121","v":2.548069545426245},{"$f":"'DNSP Inputs O & M'!$F$34","v":86},null,{"$f":"AV190*AW190","v":219.13398090665706},{"$f":"AY190/'DNSP Inputs O & M'!$F$74*0.8","v":35.061436945065132},null,null,{"$f":"'DNSP Inputs O & M'!$F$121*(1+'DNSP Inputs O & M'!$F$11)","v":2.6754730226975574},{"$f":"'DNSP Inputs O & M'!$F$35","v":72},null,{"$f":"BC190*BD190","v":192.63405763422412},{"$f":"BF190/'DNSP Inputs O & M'!$F$25*0.8","v":38.526811526844824},null,null,{"$f":"'DNSP Inputs O & M'!$F$121*(1+'DNSP Inputs O & M'!$F$11)","v":2.6754730226975574},{"$f":"'DNSP Inputs O & M'!$F$36","v":60},null,{"$f":"BJ190*BK190","v":160.52838136185343},{"$f":"BM190/'DNSP Inputs O & M'!$F$25*0.8","v":32.105676272370687},null,null,null,null,{"$f":"'DNSP Inputs O & M'!$G$121","v":2.548069545426245},{"$f":"'DNSP Inputs O & M'!$G$34","v":86},null,{"$f":"BS190*BT190","v":219.13398090665706},{"$f":"BV190/'DNSP Inputs O & M'!$G$74*0.8","v":35.061436945065132},null,null,{"$f":"'DNSP Inputs O & M'!$G$121*(1+'DNSP Inputs O & M'!$G$11)","v":2.6754730226975574},{"$f":"'DNSP Inputs O & M'!$G$35","v":72},null,{"$f":"BZ190*CA190","v":192.63405763422412},{"$f":"CC190/'DNSP Inputs O & M'!$G$25*0.8","v":38.526811526844824},null,null,{"$f":"'DNSP Inputs O & M'!$G$121*(1+'DNSP Inputs O & M'!$G$11)","v":2.6754730226975574},{"$f":"'DNSP Inputs O & M'!$G$36","v":60},null,{"$f":"CG190*CH190","v":160.52838136185343},{"$f":"CJ190/'DNSP Inputs O & M'!$G$25*0.8","v":32.105676272370687},null,null,null,null,{"$f":"'DNSP Inputs O & M'!$H$121","v":2.548069545426245},{"$f":"'DNSP Inputs O & M'!$H$34","v":86},null,{"$f":"CP190*CQ190","v":219.13398090665706},{"$f":"CS190/'DNSP Inputs O & M'!$H$74*0.8","v":35.061436945065132},null,null,{"$f":"'DNSP Inputs O & M'!$H$121*(1+'DNSP Inputs O & M'!$H$11)","v":2.6754730226975574},{"$f":"'DNSP Inputs O & M'!$H$35","v":72},null,{"$f":"CW190*CX190","v":192.63405763422412},{"$f":"CZ190/'DNSP Inputs O & M'!$H$25*0.8","v":38.526811526844824},null,null,{"$f":"'DNSP Inputs O & M'!$H$121*(1+'DNSP Inputs O & M'!$H$11)","v":2.6754730226975574},{"$f":"'DNSP Inputs O & M'!$H$36","v":60},null,{"$f":"DD190*DE190","v":160.52838136185343},{"$f":"DG190/'DNSP Inputs O & M'!$H$25*0.8","v":32.105676272370687}]
[]
[]
["Patrols and repairs"]
["Materials"]
["Lamp",{"$f":"'DNSP Inputs O & M'!$D$119","v":21.28},{"$f":"'DNSP Inputs O & M'!$D$84","v":15},null,{"$f":"B195*C195","v":319.20000000000005},{"$f":"(E195+E196+E197)/'DNSP Inputs O & M'!$D$84","v":31.388069545426244},{"$f":"F195/'DNSP Inputs O & M'!$D$74","v":6.2776139090852485},null,{"$f":"'DNSP Inputs O & M'!$D$119*(1+'DNSP Inputs O & M'!$D$11)","v":22.344000000000001},{"$f":"'DNSP Inputs O & M'!$D$85","v":11},null,{"$f":"I195*J195","v":245.78400000000002},{"$f":"(L195+L196+L197)/'DNSP Inputs O & M'!$D$85","v":32.957473022697563},{"$f":"M195/'DNSP Inputs O & M'!$D$74","v":6.5914946045395126},null,{"$f":"'DNSP Inputs O & M'!$D$119*(1+'DNSP Inputs O & M'!$D$11)","v":22.344000000000001},{"$f":"'DNSP Inputs O & M'!$D$85","v":11},null,{"$f":"P195*Q195","v":245.78400000000002},{"$f":"(S195+S196+S197)/'DNSP Inputs O & M'!$D$85","v":32.957473022697563},{"$f":"T195/'DNSP Inputs O & M'!$D$74","v":6.5914946045395126},null,null,null,{"$f":"'DNSP Inputs O & M'!$E$119","v":21.28},{"$f":"'DNSP Inputs O & M'!$E$84","v":15},null,{"$f":"Y195*Z195","v":319.20000000000005},{"$f":"(AB195+AB196+AB197)/'DNSP Inputs O & M'!$E$84","v":31.388069545426244},{"$f":"AC195/'DNSP Inputs O & M'!$E$74","v":6.2776139090852485},{"$f":"AC195*AA99","v":1.5236436098440116},{"$f":"'DNSP Inputs O & M'!$E$119*(1+'DNSP Inputs O & M'!$E$11)","v":22.344000000000001},{"$f":"'DNSP Inputs O & M'!$E$85","v":11},null,{"$f":"AF195*AG195","v":245.78400000000002},{"$f":"(AI195+AI196+AI197)/'DNSP Inputs O & M'!$E$85","v":32.957473022697563},{"$f":"AJ195/'DNSP Inputs O & M'!$E$74","v":6.5914946045395126},{"$f":"AJ195*AA99","v":1.5998257903362123},{"$f":"'DNSP Inputs O & M'!$E$119*(1+'DNSP Inputs O & M'!$E$11)","v":22.344000000000001},{"$f":"'DNSP Inputs O & M'!$E$85","v":11},null,{"$f":"AM195*AN195","v":245.78400000000002},{"$f":"(AP195+AP196+AP197)/'DNSP Inputs O & M'!$E$86","v":40.281355916630353},{"$f":"AQ195/'DNSP Inputs O & M'!$E$74","v":8.0562711833260714},{"$f":"AQ195*AA99","v":1.9553426326331484},null,null,{"$f":"'DNSP Inputs O & M'!$F$119","v":21.28},{"$f":"'DNSP Inputs O & M'!$F$84","v":15},null,{"$f":"AV195*AW195","v":319.20000000000005},{"$f":"(AY195+AY196+AY197)/'DNSP Inputs O & M'!$F$84","v":31.388069545426244},{"$f":"AZ195/'DNSP Inputs O & M'!$F$74","v":6.2776139090852485},{"$f":"AZ195*AX99","v":1.5236436098440116},{"$f":"'DNSP Inputs O & M'!$F$119*(1+'DNSP Inputs O & M'!$F$11)","v":22.344000000000001},{"$f":"'DNSP Inputs O & M'!$F$85","v":11},null,{"$f":"BC195*BD195","v":245.78400000000002},{"$f":"(BF195+BF196+BF197)/'DNSP Inputs O & M'!$F$85","v":32.957473022697563},{"$f":"BG195/'DNSP Inputs O & M'!$F$74","v":6.5914946045395126},{"$f":"BG195*AX99","v":1.5998257903362123},{"$f":"'DNSP Inputs O & M'!$F$119*(1+'DNSP Inputs O & M'!$F$11)","v":22.344000000000001},{"$f":"'DNSP Inputs O & M'!$F$85","v":11},null,{"$f":"BJ195*BK195","v":245.78400000000002},{"$f":"(BM195+BM196+BM197)/'DNSP Inputs O & M'!$F$86","v":40.281355916630353},{"$f":"BN195/'DNSP Inputs O & M'!$F$74","v":8.0562711833260714},{"$f":"BN195*AX99","v":1.9553426326331484},null,null,{"$f":"'DNSP Inputs O & M'!$G$119","v":21.28},{"$f":"'DNSP Inputs O & M'!$G$84","v":15},null,{"$f":"BS195*BT195","v":319.20000000000005},{"$f":"(BV195+BV196+BV197)/'DNSP Inputs O & M'!$G$84","v":31.388069545426244},{"$f":"BW195/'DNSP Inputs O & M'!$G$74","v":6.2776139090852485},{"$f":"BW195*AX99","v":1.5236436098440116},{"$f":"'DNSP Inputs O & M'!$G$119*(1+'DNSP Inputs O & M'!$G$11)","v":22.344000000000001},{"$f":"'DNSP Inputs O & M'!$G$85","v":11},null,{"$f":"BZ195*CA195","v":245.78400000000002},{"$f":"(CC195+CC196+CC197)/'DNSP Inputs O & M'!$G$85","v":32.957473022697563},{"$f":"CD195/'DNSP Inputs O & M'!$G$74","v":6.5914946045395126},{"$f":"CD195*AX99","v":1.5998257903362123},{"$f":"'DNSP Inputs O & M'!$G$119*(1+'DNSP Inputs O & M'!$G$11)","v":22.344000000000001},{"$f":"'DNSP Inputs O & M'!$G$85","v":11},null,{"$f":"CG195*CH195","v":245.78400000000002},{"$f":"(CJ195+CJ196+CJ197)/'DNSP Inputs O & M'!$G$86","v":40.281355916630353},{"$f":"CK195/'DNSP Inputs O & M'!$G$74","v":8.0562711833260714},{"$f":"CK195*AX99","v":1.9553426326331484},null,null,{"$f":"'DNSP Inputs O & M'!$H$119","v":21.28},{"$f":"'DNSP Inputs O & M'!$H$84","v":15},null,{"$f":"CP195*CQ195","v":319.20000000000005},{"$f":"(CS195+CS196+CS197)/'DNSP Inputs O & M'!$H$84","v":31.388069545426244},{"$f":"CT195/'DNSP Inputs O & M'!$H$74","v":6.2776139090852485},{"$f":"CT195*BU99","v":1.5236436098440116},{"$f":"'DNSP Inputs O & M'!$H$119*(1+'DNSP Inputs O & M'!$H$11)","v":22.344000000000001},{"$f":"'DNSP Inputs O & M'!$H$85","v":11},null,{"$f":"CW195*CX195","v":245.78400000000002},{"$f":"(CZ195+CZ196+CZ197)/'DNSP Inputs O & M'!$H$85","v":32.957473022697563},{"$f":"DA195/'DNSP Inputs O & M'!$H$74","v":6.5914946045395126},{"$f":"DA195*BU99","v":1.5998257903362123},{"$f":"'DNSP Inputs O & M'!$H$119*(1+'DNSP Inputs O & M'!$H$11)","v":22.344000000000001},{"$f":"'DNSP Inputs O & M'!$H$85","v":11},null,{"$f":"DD195*DE195","v":245.78400000000002},{"$f":"(DG195+DG196+DG197)/'DNSP Inputs O & M'!$H$86","v":40.281355916630353},{"$f":"DH195/'DNSP Inputs O & M'!$H$74","v":8.0562711833260714},{"$f":"DH195*BU99","v":1.9553426326331484}]
["PE cell",{"$f":"'DNSP Inputs O & M'!$D$120","v":15.120000000000001},{"$f":"C195*'DNSP Inputs O & M'!$D$74/'DNSP Inputs O & M'!$D$75","v":7.5},null,{"$f":"B196*C196","v":113.4},null,null,null,{"$f":"'DNSP Inputs O & M'!$D$120*(1+'DNSP Inputs O & M'!$D$11)","v":15.876000000000001},{"$f":"J195*'DNSP Inputs O & M'!$D$74/'DNSP Inputs O & M'!$D$75","v":5.5},null,{"$f":"I196*J196","v":87.318000000000012},null,null,null,{"$f":"'DNSP Inputs O & M'!$D$120*(1+'DNSP Inputs O & M'!$D$11)","v":15.876000000000001},{"$f":"Q195*'DNSP Inputs O & M'!$D$74/'DNSP Inputs O & M'!$D$75","v":5.5},null,{"$f":"P196*Q196","v":87.318000000000012},null,null,null,null,null,{"$f":"'DNSP Inputs O & M'!$E$120","v":15.120000000000001},{"$f":"Z195*'DNSP Inputs O & M'!$E$74/'DNSP Inputs O & M'!$E$75","v":7.5},null,{"$f":"Y196*Z196","v":113.4},null,null,null,{"$f":"'DNSP Inputs O & M'!$E$120*(1+'DNSP Inputs O & M'!$E$11)","v":15.876000000000001},{"$f":"AG195*'DNSP Inputs O & M'!$E$74/'DNSP Inputs O & M'!$E$75","v":5.5},null,{"$f":"AF196*AG196","v":87.318000000000012},null,null,null,{"$f":"'DNSP Inputs O & M'!$E$120*(1+'DNSP Inputs O & M'!$E$11)","v":15.876000000000001},{"$f":"AN195*'DNSP Inputs O & M'!$E$74/'DNSP Inputs O & M'!$E$75","v":5.5},null,{"$f":"AM196*AN196","v":87.318000000000012},null,null,null,null,null,{"$f":"'DNSP Inputs O & M'!$F$120","v":15.120000000000001},{"$f":"AW195*'DNSP Inputs O & M'!$F$74/'DNSP Inputs O & M'!$F$75","v":7.5},null,{"$f":"AV196*AW196","v":113.4},null,null,null,{"$f":"'DNSP Inputs O & M'!$F$120*(1+'DNSP Inputs O & M'!$F$11)","v":15.876000000000001},{"$f":"BD195*'DNSP Inputs O & M'!$F$74/'DNSP Inputs O & M'!$F$75","v":5.5},null,{"$f":"BC196*BD196","v":87.318000000000012},null,null,null,{"$f":"'DNSP Inputs O & M'!$F$120*(1+'DNSP Inputs O & M'!$F$11)","v":15.876000000000001},{"$f":"BK195*'DNSP Inputs O & M'!$F$74/'DNSP Inputs O & M'!$F$75","v":5.5},null,{"$f":"BJ196*BK196","v":87.318000000000012},null,null,null,null,null,{"$f":"'DNSP Inputs O & M'!$G$120","v":15.120000000000001},{"$f":"BT195*'DNSP Inputs O & M'!$G$74/'DNSP Inputs O & M'!$G$75","v":7.5},null,{"$f":"BS196*BT196","v":113.4},null,null,null,{"$f":"'DNSP Inputs O & M'!$G$120*(1+'DNSP Inputs O & M'!$G$11)","v":15.876000000000001},{"$f":"CA195*'DNSP Inputs O & M'!$G$74/'DNSP Inputs O & M'!$G$75","v":5.5},null,{"$f":"BZ196*CA196","v":87.318000000000012},null,null,null,{"$f":"'DNSP Inputs O & M'!$G$120*(1+'DNSP Inputs O & M'!$G$11)","v":15.876000000000001},{"$f":"CH195*'DNSP Inputs O & M'!$G$74/'DNSP Inputs O & M'!$G$75","v":5.5},null,{"$f":"CG196*CH196","v":87.318000000000012},null,null,null,null,null,{"$f":"'DNSP Inputs O & M'!$H$120","v":15.120000000000001},{"$f":"CQ195*'DNSP Inputs O & M'!$H$74/'DNSP Inputs O & M'!$H$75","v":7.5},null,{"$f":"CP196*CQ196","v":113.4},null,null,null,{"$f":"'DNSP Inputs O & M'!$H$120*(1+'DNSP Inputs O & M'!$H$11)","v":15.876000000000001},{"$f":"CX195*'DNSP Inputs O & M'!$H$74/'DNSP Inputs O & M'!$H$75","v":5.5},null,{"$f":"CW196*CX196","v":87.318000000000012},null,null,null,{"$f":"'DNSP Inputs O & M'!$H$120*(1+'DNSP Inputs O & M'!$H$11)","v":15.876000000000001},{"$f":"DE195*'DNSP Inputs O & M'!$H$74/'DNSP Inputs O & M'!$H$75","v":5.5},null,{"$f":"DD196*DE196","v":87.318000000000012}]
["Miscellaneous",{"$f":"'DNSP Inputs O & M'!$D$121","v":2.548069545426245},{"$f":"'DNSP Inputs O & M'!$D$84","v":15},null,{"$f":"B197*C197","v":38.221043181393675},null,null,null,{"$f":"'DNSP Inputs O & M'!$D$121*(1+'DNSP Inputs O & M'!$D$11)","v":2.6754730226975574},{"$f":"'DNSP Inputs O & M'!$D$85","v":11},null,{"$f":"I197*J197","v":29.430203249673131},null,null,null,{"$f":"'DNSP Inputs O & M'!$D$121*(1+'DNSP Inputs O & M'!$D$11)","v":2.6754730226975574},{"$f":"'DNSP Inputs O & M'!$D$85","v":11},null,{"$f":"P197*Q197","v":29.430203249673131},null,null,null,null,null,{"$f":"'DNSP Inputs O & M'!$E$121","v":2.548069545426245},{"$f":"'DNSP Inputs O & M'!$E$84","v":15},null,{"$f":"Y197*Z197","v":38.221043181393675},null,null,null,{"$f":"'DNSP Inputs O & M'!$E$121*(1+'DNSP Inputs O & M'!$E$11)","v":2.6754730226975574},{"$f":"'DNSP Inputs O & M'!$E$85","v":11},null,{"$f":"AF197*AG197","v":29.430203249673131},null,null,null,{"$f":"'DNSP Inputs O & M'!$E$121*(1+'DNSP Inputs O & M'!$E$11)","v":2.6754730226975574},{"$f":"'DNSP Inputs O & M'!$E$85","v":11},null,{"$f":"AM197*AN197","v":29.430203249673131},null,null,null,null,null,{"$f":"'DNSP Inputs O & M'!$F$121","v":2.548069545426245},{"$f":"'DNSP Inputs O & M'!$F$84","v":15},null,{"$f":"AV197*AW197","v":38.221043181393675},null,null,null,{"$f":"'DNSP Inputs O & M'!$F$121*(1+'DNSP Inputs O & M'!$F$11)","v":2.6754730226975574},{"$f":"'DNSP Inputs O & M'!$F$85","v":11},null,{"$f":"BC197*BD197","v":29.430203249673131},null,null,null,{"$f":"'DNSP Inputs O & M'!$F$121*(1+'DNSP Inputs O & M'!$F$11)","v":2.6754730226975574},{"$f":"'DNSP Inputs O & M'!$F$85","v":11},null,{"$f":"BJ197*BK197","v":29.430203249673131},null,null,null,null,null,{"$f":"'DNSP Inputs O & M'!$G$121","v":2.548069545426245},{"$f":"'DNSP Inputs O & M'!$G$84","v":15},null,{"$f":"BS197*BT197","v":38.221043181393675},null,null,null,{"$f":"'DNSP Inputs O & M'!$G$121*(1+'DNSP Inputs O & M'!$G$11)","v":2.6754730226975574},{"$f":"'DNSP Inputs O & M'!$G$85","v":11},null,{"$f":"BZ197*CA197","v":29.430203249673131},null,null,null,{"$f":"'DNSP Inputs O & M'!$G$121*(1+'DNSP Inputs O & M'!$G$11)","v":2.6754730226975574},{"$f":"'DNSP Inputs O & M'!$G$85","v":11},null,{"$f":"CG197*CH197","v":29.430203249673131},null,null,null,null,null,{"$f":"'DNSP Inputs O & M'!$H$121","v":2.548069545426245},{"$f":"'DNSP Inputs O & M'!$H$84","v":15},null,{"$f":"CP197*CQ197","v":38.221043181393675},null,null,null,{"$f":"'DNSP Inputs O & M'!$H$121*(1+'DNSP Inputs O & M'!$H$11)","v":2.6754730226975574},{"$f":"'DNSP Inputs O & M'!$H$85","v":11},null,{"$f":"CW197*CX197","v":29.430203249673131},null,null,null,{"$f":"'DNSP Inputs O & M'!$H$121*(1+'DNSP Inputs O & M'!$H$11)","v":2.6754730226975574},{"$f":"'DNSP Inputs O & M'!$H$85","v":11},null,{"$f":"DD197*DE197","v":29.430203249673131}]
["Labour - Patrol"]
["Crew costs",{"$f":"'DNSP Inputs O & M'!$D$13","v":143.47813587064053},{"$f":"'DNSP Inputs O & M'!$D$79","v":2},{"$f":"'DNSP Inputs O & M'!$D$17","v":7.5},{"$f":"B199*C199*D199","v":2152.172038059608},{"$f":"(E199+E200)/'DNSP Inputs O & M'!$D$81","v":0.80331567935320269},{"$f":"F199*'DNSP Inputs O & M'!$D$73","v":2.4099470380596082},null,{"$f":"'DNSP Inputs O & M'!$D$13","v":143.47813587064053},{"$f":"'DNSP Inputs O & M'!$D$79","v":2},{"$f":"'DNSP Inputs O & M'!$D$17","v":7.5},{"$f":"I199*J199*K199","v":2152.172038059608},{"$f":"(L199+L200)/'DNSP Inputs O & M'!$D$82","v":1.2049735190298041},{"$f":"M199*'DNSP Inputs O & M'!$D$73","v":3.6149205570894125},null,{"$f":"'DNSP Inputs O & M'!$D$13","v":143.47813587064053},{"$f":"'DNSP Inputs O & M'!$D$79","v":2},{"$f":"'DNSP Inputs O & M'!$D$17","v":7.5},{"$f":"P199*Q199*R199","v":2152.172038059608},{"$f":"(S199+S200)/'DNSP Inputs O & M'!$D$83","v":2.4099470380596082},{"$f":"T199*'DNSP Inputs O & M'!$D$73","v":7.229841114178825},null,null,null,{"$f":"'DNSP Inputs O & M'!$E$13","v":143.11976530376381},{"$f":"'DNSP Inputs O & M'!$E$79","v":2},{"$f":"'DNSP Inputs O & M'!$E$17","v":7.5},{"$f":"Y199*Z199*AA199","v":2146.7964795564571},{"$f":"(AB199+AB200)/'DNSP Inputs O & M'!$E$81","v":0.80152382651881904},{"$f":"AC199*'DNSP Inputs O & M'!$E$73","v":2.404571479556457},null,{"$f":"'DNSP Inputs O & M'!$E$13","v":143.11976530376381},{"$f":"'DNSP Inputs O & M'!$E$79","v":2},{"$f":"'DNSP Inputs O & M'!$E$17","v":7.5},{"$f":"AF199*AG199*AH199","v":2146.7964795564571},{"$f":"(AI199+AI200)/'DNSP Inputs O & M'!$E$82","v":1.2022857397782287},{"$f":"AJ199*'DNSP Inputs O & M'!$E$73","v":3.6068572193346862},null,{"$f":"'DNSP Inputs O & M'!$E$13","v":143.11976530376381},{"$f":"'DNSP Inputs O & M'!$E$79","v":2},{"$f":"'DNSP Inputs O & M'!$E$17","v":7.5},{"$f":"AM199*AN199*AO199","v":2146.7964795564571},{"$f":"(AP199+AP200)/'DNSP Inputs O & M'!$E$83","v":2.4045714795564574},{"$f":"AQ199*'DNSP Inputs O & M'!$E$73","v":7.2137144386693723},null,null,null,{"$f":"'DNSP Inputs O & M'!$F$13","v":143.01581647891828},{"$f":"'DNSP Inputs O & M'!$F$79","v":2},{"$f":"'DNSP Inputs O & M'!$F$17","v":7.5},{"$f":"AV199*AW199*AX199","v":2145.2372471837743},{"$f":"(AY199+AY200)/'DNSP Inputs O & M'!$F$81","v":0.80100408239459153},{"$f":"AZ199*'DNSP Inputs O & M'!$F$73","v":2.4030122471837747},null,{"$f":"'DNSP Inputs O & M'!$F$13","v":143.01581647891828},{"$f":"'DNSP Inputs O & M'!$F$79","v":2},{"$f":"'DNSP Inputs O & M'!$F$17","v":7.5},{"$f":"BC199*BD199*BE199","v":2145.2372471837743},{"$f":"(BF199+BF200)/'DNSP Inputs O & M'!$F$82","v":1.2015061235918871},{"$f":"BG199*'DNSP Inputs O & M'!$F$73","v":3.6045183707756614},null,{"$f":"'DNSP Inputs O & M'!$F$13","v":143.01581647891828},{"$f":"'DNSP Inputs O & M'!$F$79","v":2},{"$f":"'DNSP Inputs O & M'!$F$17","v":7.5},{"$f":"BJ199*BK199*BL199","v":2145.2372471837743},{"$f":"(BM199+BM200)/'DNSP Inputs O & M'!$F$83","v":2.4030122471837743},{"$f":"BN199*'DNSP Inputs O & M'!$F$73","v":7.2090367415513228},null,null,null,{"$f":"'DNSP Inputs O & M'!$G$13","v":143.54107756852432},{"$f":"'DNSP Inputs O & M'!$G$79","v":2},{"$f":"'DNSP Inputs O & M'!$G$17","v":7.5},{"$f":"BS199*BT199*BU199","v":2153.116163527865},{"$f":"(BV199+BV200)/'DNSP Inputs O & M'!$G$81","v":0.80363038784262164},{"$f":"BW199*'DNSP Inputs O & M'!$G$73","v":2.4108911635278649},null,{"$f":"'DNSP Inputs O & M'!$G$13","v":143.54107756852432},{"$f":"'DNSP Inputs O & M'!$G$79","v":2},{"$f":"'DNSP Inputs O & M'!$G$17","v":7.5},{"$f":"BZ199*CA199*CB199","v":2153.116163527865},{"$f":"(CC199+CC200)/'DNSP Inputs O & M'!$G$82","v":1.2054455817639325},{"$f":"CD199*'DNSP Inputs O & M'!$G$73","v":3.6163367452917976},null,{"$f":"'DNSP Inputs O & M'!$G$13","v":143.54107756852432},{"$f":"'DNSP Inputs O & M'!$G$79","v":2},{"$f":"'DNSP Inputs O & M'!$G$17","v":7.5},{"$f":"CG199*CH199*CI199","v":2153.116163527865},{"$f":"(CJ199+CJ200)/'DNSP Inputs O & M'!$G$83","v":2.4108911635278649},{"$f":"CK199*'DNSP Inputs O & M'!$G$73","v":7.2326734905835952},null,null,null,{"$f":"'DNSP Inputs O & M'!$H$13","v":144.97159841779208},{"$f":"'DNSP Inputs O & M'!$H$79","v":2},{"$f":"'DNSP Inputs O & M'!$H$17","v":7.5},{"$f":"CP199*CQ199*CR199","v":2174.5739762668813},{"$f":"(CS199+CS200)/'DNSP Inputs O & M'!$H$81","v":0.81078299208896043},{"$f":"CT199*'DNSP Inputs O & M'!$H$73","v":2.4323489762668813},null,{"$f":"'DNSP Inputs O & M'!$H$13","v":144.97159841779208},{"$f":"'DNSP Inputs O & M'!$H$79","v":2},{"$f":"'DNSP Inputs O & M'!$H$17","v":7.5},{"$f":"CW199*CX199*CY199","v":2174.5739762668813},{"$f":"(CZ199+CZ200)/'DNSP Inputs O & M'!$H$82","v":1.2161744881334406},{"$f":"DA199*'DNSP Inputs O & M'!$H$73","v":3.6485234644003217},null,{"$f":"'DNSP Inputs O & M'!$H$13","v":144.97159841779208},{"$f":"'DNSP Inputs O & M'!$H$79","v":2},{"$f":"'DNSP Inputs O & M'!$H$17","v":7.5},{"$f":"DD199*DE199*DF199","v":2174.5739762668813},{"$f":"(DG199+DG200)/'DNSP Inputs O & M'!$H$83","v":2.4323489762668813},{"$f":"DH199*'DNSP Inputs O & M'!$H$73","v":7.2970469288006434}]
["Vehicle costs",{"$f":"'DNSP Inputs O & M'!$D$16","v":34.369999999999997},1,{"$f":"'DNSP Inputs O & M'!$D$17","v":7.5},{"$f":"B200*C200*D200","v":257.77499999999998},null,null,null,{"$f":"'DNSP Inputs O & M'!$D$16","v":34.369999999999997},1,{"$f":"'DNSP Inputs O & M'!$D$17","v":7.5},{"$f":"I200*J200*K200","v":257.77499999999998},null,null,null,{"$f":"'DNSP Inputs O & M'!$D$16","v":34.369999999999997},1,{"$f":"'DNSP Inputs O & M'!$D$17","v":7.5},{"$f":"P200*Q200*R200","v":257.77499999999998},null,null,null,null,null,{"$f":"'DNSP Inputs O & M'!$E$16","v":34.369999999999997},1,{"$f":"'DNSP Inputs O & M'!$E$17","v":7.5},{"$f":"Y200*Z200*AA200","v":257.77499999999998},null,null,null,{"$f":"'DNSP Inputs O & M'!$E$16","v":34.369999999999997},1,{"$f":"'DNSP Inputs O & M'!$E$17","v":7.5},{"$f":"AF200*AG200*AH200","v":257.77499999999998},null,null,null,{"$f":"'DNSP Inputs O & M'!$E$16","v":34.369999999999997},1,{"$f":"'DNSP Inputs O & M'!$E$17","v":7.5},{"$f":"AM200*AN200*AO200","v":257.77499999999998},null,null,null,null,null,{"$f":"'DNSP Inputs O & M'!$F$16","v":34.369999999999997},1,{"$f":"'DNSP Inputs O & M'!$F$17","v":7.5},{"$f":"AV200*AW200*AX200","v":257.77499999999998},null,null,null,{"$f":"'DNSP Inputs O & M'!$F$16","v":34.369999999999997},1,{"$f":"'DNSP Inputs O & M'!$F$17","v":7.5},{"$f":"BC200*BD200*BE200","v":257.77499999999998},null,null,null,{"$f":"'DNSP Inputs O & M'!$F$16","v":34.369999999999997},1,{"$f":"'DNSP Inputs O & M'!$F$17","v":7.5},{"$f":"BJ200*BK200*BL200","v":257.77499999999998},null,null,null,null,null,{"$f":"'DNSP Inputs O & M'!$G$16","v":34.369999999999997},1,{"$f":"'DNSP Inputs O & M'!$G$17","v":7.5},{"$f":"BS200*BT200*BU200","v":257.77499999999998},null,null,null,{"$f":"'DNSP Inputs O & M'!$G$16","v":34.369999999999997},1,{"$f":"'DNSP Inputs O & M'!$G$17","v":7.5},{"$f":"BZ200*CA200*CB200","v":257.77499999999998},null,null,null,{"$f":"'DNSP Inputs O & M'!$G$16","v":34.369999999999997},1,{"$f":"'DNSP Inputs O & M'!$G$17","v":7.5},{"$f":"CG200*CH200*CI200","v":257.77499999999998},null,null,null,null,null,{"$f":"'DNSP Inputs O & M'!$H$16","v":34.369999999999997},1,{"$f":"'DNSP Inputs O & M'!$H$17","v":7.5},{"$f":"CP200*CQ200*CR200","v":257.77499999999998},null,null,null,{"$f":"'DNSP Inputs O & M'!$H$16","v":34.369999999999997},1,{"$f":"'DNSP Inputs O & M'!$H$17","v":7.5},{"$f":"CW200*CX200*CY200","v":257.77499999999998},null,null,null,{"$f":"'DNSP Inputs O & M'!$H$16","v":34.369999999999997},1,{"$f":"'DNSP Inputs O & M'!$H$17","v":7.5},{"$f":"DD200*DE200*DF200","v":257.77499999999998}]
["Labour - Repair of faults"]
["Crew costs",{"$f":"'DNSP Inputs O & M'!$D$12","v":111.36223236834823},{"$f":"'DNSP Inputs O & M'!$D$80","v":2},{"$f":"'DNSP Inputs O & M'!$D$17","v":7.5},{"$f":"B202*C202*D202","v":1670.4334855252234},{"$f":"(E202+E203)/'DNSP Inputs O & M'!$D$84*(C195+C196)/C195","v":214.77334855252232},{"$f":"F202/'DNSP Inputs O & M'!$D$74","v":42.954669710504461},null,{"$f":"'DNSP Inputs O & M'!$D$12","v":111.36223236834823},{"$f":"'DNSP Inputs O & M'!$D$80","v":2},{"$f":"'DNSP Inputs O & M'!$D$17","v":7.5},{"$f":"I202*J202*K202","v":1670.4334855252234},{"$f":"(L202+L203)/'DNSP Inputs O & M'!$D$85*(J195+J196)/J195","v":292.87274802616679},{"$f":"M202/'DNSP Inputs O & M'!$D$74","v":58.574549605233358},null,{"$f":"'DNSP Inputs O & M'!$D$12","v":111.36223236834823},{"$f":"'DNSP Inputs O & M'!$D$80","v":2},{"$f":"'DNSP Inputs O & M'!$D$17","v":7.5},{"$f":"P202*Q202*R202","v":1670.4334855252234},{"$f":"(S202+S203)/'DNSP Inputs O & M'!$D$86*(Q195+Q196)/Q195","v":357.95558092087055},{"$f":"T202/'DNSP Inputs O & M'!$D$74","v":71.591116184174112},null,null,null,{"$f":"'DNSP Inputs O & M'!$E$12","v":111.08407886363248},{"$f":"'DNSP Inputs O & M'!$E$80","v":2},{"$f":"'DNSP Inputs O & M'!$E$17","v":7.5},{"$f":"Y202*Z202*AA202","v":1666.2611829544874},{"$f":"(AB202+AB203)/'DNSP Inputs O & M'!$E$84*(Z195+Z196)/Z195","v":214.35611829544874},{"$f":"AC202/'DNSP Inputs O & M'!$E$74","v":42.87122365908975},{"$f":"AC202*AA99","v":10.405301587571472},{"$f":"'DNSP Inputs O & M'!$E$12","v":111.08407886363248},{"$f":"'DNSP Inputs O & M'!$E$80","v":2},{"$f":"'DNSP Inputs O & M'!$E$17","v":7.5},{"$f":"AF202*AG202*AH202","v":1666.2611829544874},{"$f":"(AI202+AI203)/'DNSP Inputs O & M'!$E$85*(AG195+AG196)/AG195","v":292.30379767561186},{"$f":"AJ202/'DNSP Inputs O & M'!$E$74","v":58.460759535122371},{"$f":"AJ202*AA99","v":14.189047619415641},{"$f":"'DNSP Inputs O & M'!$E$12","v":111.08407886363248},{"$f":"'DNSP Inputs O & M'!$E$80","v":2},{"$f":"'DNSP Inputs O & M'!$E$17","v":7.5},{"$f":"AM202*AN202*AO202","v":1666.2611829544874},{"$f":"(AP202+AP203)/'DNSP Inputs O & M'!$E$86*(AN195+AN196)/AN195","v":357.2601971590812},{"$f":"AQ202/'DNSP Inputs O & M'!$E$74","v":71.452039431816246},{"$f":"AQ202*AA99","v":17.34216931261912},null,null,{"$f":"'DNSP Inputs O & M'!$F$12","v":111.00339776810097},{"$f":"'DNSP Inputs O & M'!$F$80","v":2},{"$f":"'DNSP Inputs O & M'!$F$17","v":7.5},{"$f":"AV202*AW202*AX202","v":1665.0509665215145},{"$f":"(AY202+AY203)/'DNSP Inputs O & M'!$F$84*(AW195+AW196)/AW195","v":214.2350966521515},{"$f":"AZ202/'DNSP Inputs O & M'!$F$74","v":42.8470193304303},{"$f":"AZ202*AX99","v":10.399426939779074},{"$f":"'DNSP Inputs O & M'!$F$12","v":111.00339776810097},{"$f":"'DNSP Inputs O & M'!$F$80","v":2},{"$f":"'DNSP Inputs O & M'!$F$17","v":7.5},{"$f":"BC202*BD202*BE202","v":1665.0509665215145},{"$f":"(BF202+BF203)/'DNSP Inputs O & M'!$F$85*(BD195+BD196)/BD195","v":292.13876816202475},{"$f":"BG202/'DNSP Inputs O & M'!$F$74","v":58.427753632404951},{"$f":"BG202*AX99","v":14.181036736062373},{"$f":"'DNSP Inputs O & M'!$F$12","v":111.00339776810097},{"$f":"'DNSP Inputs O & M'!$F$80","v":2},{"$f":"'DNSP Inputs O & M'!$F$17","v":7.5},{"$f":"BJ202*BK202*BL202","v":1665.0509665215145},{"$f":"(BM202+BM203)/'DNSP Inputs O & M'!$F$86*(BK195+BK196)/BK195","v":357.05849442025243},{"$f":"BN202/'DNSP Inputs O & M'!$F$74","v":71.41169888405048},{"$f":"BN202*AX99","v":17.332378232965119},null,null,{"$f":"'DNSP Inputs O & M'!$G$12","v":111.41108530292857},{"$f":"'DNSP Inputs O & M'!$G$80","v":2},{"$f":"'DNSP Inputs O & M'!$G$17","v":7.5},{"$f":"BS202*BT202*BU202","v":1671.1662795439286},{"$f":"(BV202+BV203)/'DNSP Inputs O & M'!$G$84*(BT195+BT196)/BT195","v":214.84662795439283},{"$f":"BW202/'DNSP Inputs O & M'!$G$74","v":42.969325590878569},{"$f":"BW202*AX99","v":10.429111968975633},{"$f":"'DNSP Inputs O & M'!$G$12","v":111.41108530292857},{"$f":"'DNSP Inputs O & M'!$G$80","v":2},{"$f":"'DNSP Inputs O & M'!$G$17","v":7.5},{"$f":"BZ202*CA202*CB202","v":1671.1662795439286},{"$f":"(CC202+CC203)/'DNSP Inputs O & M'!$G$85*(CA195+CA196)/CA195","v":292.97267448326301},{"$f":"CD202/'DNSP Inputs O & M'!$G$74","v":58.594534896652604},{"$f":"CD202*AX99","v":14.221516321330412},{"$f":"'DNSP Inputs O & M'!$G$12","v":111.41108530292857},{"$f":"'DNSP Inputs O & M'!$G$80","v":2},{"$f":"'DNSP Inputs O & M'!$G$17","v":7.5},{"$f":"CG202*CH202*CI202","v":1671.1662795439286},{"$f":"(CJ202+CJ203)/'DNSP Inputs O & M'!$G$86*(CH195+CH196)/CH195","v":358.07771325732142},{"$f":"CK202/'DNSP Inputs O & M'!$G$74","v":71.615542651464281},{"$f":"CK202*AX99","v":17.381853281626057},null,null,{"$f":"'DNSP Inputs O & M'!$H$12","v":112.5214007824073},{"$f":"'DNSP Inputs O & M'!$H$80","v":2},{"$f":"'DNSP Inputs O & M'!$H$17","v":7.5},{"$f":"CP202*CQ202*CR202","v":1687.8210117361095},{"$f":"(CS202+CS203)/'DNSP Inputs O & M'!$H$84*(CQ195+CQ196)/CQ195","v":216.51210117361097},{"$f":"CT202/'DNSP Inputs O & M'!$H$74","v":43.302420234722192},{"$f":"CT202*BU99","v":10.509957578934396},{"$f":"'DNSP Inputs O & M'!$H$12","v":112.5214007824073},{"$f":"'DNSP Inputs O & M'!$H$80","v":2},{"$f":"'DNSP Inputs O & M'!$H$17","v":7.5},{"$f":"CW202*CX202*CY202","v":1687.8210117361095},{"$f":"(CZ202+CZ203)/'DNSP Inputs O & M'!$H$85*(CX195+CX196)/CX195","v":295.24377432765135},{"$f":"DA202/'DNSP Inputs O & M'!$H$74","v":59.04875486553027},{"$f":"DA202*BU99","v":14.331760334910541},{"$f":"'DNSP Inputs O & M'!$H$12","v":112.5214007824073},{"$f":"'DNSP Inputs O & M'!$H$80","v":2},{"$f":"'DNSP Inputs O & M'!$H$17","v":7.5},{"$f":"DD202*DE202*DF202","v":1687.8210117361095},{"$f":"(DG202+DG203)/'DNSP Inputs O & M'!$H$86*(DE195+DE196)/DE195","v":360.85350195601831},{"$f":"DH202/'DNSP Inputs O & M'!$H$74","v":72.170700391203667},{"$f":"DH202*BU99","v":17.516595964890662}]
["Elevated platform vehicle costs",{"$f":"'DNSP Inputs O & M'!$D$15","v":63.64},1,{"$f":"'DNSP Inputs O & M'!$D$17","v":7.5},{"$f":"B203*C203*D203","v":477.3},null,null,null,{"$f":"'DNSP Inputs O & M'!$D$15","v":63.64},1,{"$f":"'DNSP Inputs O & M'!$D$17","v":7.5},{"$f":"I203*J203*K203","v":477.3},null,null,null,{"$f":"'DNSP Inputs O & M'!$D$15","v":63.64},1,{"$f":"'DNSP Inputs O & M'!$D$17","v":7.5},{"$f":"P203*Q203*R203","v":477.3},null,null,null,null,null,{"$f":"'DNSP Inputs O & M'!$E$15","v":63.64},1,{"$f":"'DNSP Inputs O & M'!$E$17","v":7.5},{"$f":"Y203*Z203*AA203","v":477.3},null,null,null,{"$f":"'DNSP Inputs O & M'!$E$15","v":63.64},1,{"$f":"'DNSP Inputs O & M'!$E$17","v":7.5},{"$f":"AF203*AG203*AH203","v":477.3},null,null,null,{"$f":"'DNSP Inputs O & M'!$E$15","v":63.64},1,{"$f":"'DNSP Inputs O & M'!$E$17","v":7.5},{"$f":"AM203*AN203*AO203","v":477.3},null,null,null,null,null,{"$f":"'DNSP Inputs O & M'!$F$15","v":63.64},1,{"$f":"'DNSP Inputs O & M'!$F$17","v":7.5},{"$f":"AV203*AW203*AX203","v":477.3},null,null,null,{"$f":"'DNSP Inputs O & M'!$F$15","v":63.64},1,{"$f":"'DNSP Inputs O & M'!$F$17","v":7.5},{"$f":"BC203*BD203*BE203","v":477.3},null,null,null,{"$f":"'DNSP Inputs O & M'!$F$15","v":63.64},1,{"$f":"'DNSP Inputs O & M'!$F$17","v":7.5},{"$f":"BJ203*BK203*BL203","v":477.3},null,null,null,null,null,{"$f":"'DNSP Inputs O & M'!$G$15","v":63.64},1,{"$f":"'DNSP Inputs O & M'!$G$17","v":7.5},{"$f":"BS203*BT203*BU203","v":477.3},null,null,null,{"$f":"'DNSP Inputs O & M'!$G$15","v":63.64},1,{"$f":"'DNSP Inputs O & M'!$G$17","v":7.5},{"$f":"BZ203*CA203*CB203","v":477.3},null,null,null,{"$f":"'DNSP Inputs O & M'!$G$15","v":63.64},1,{"$f":"'DNSP Inputs O & M'!$G$17","v":7.5},{"$f":"CG203*CH203*CI203","v":477.3},null,null,null,null,null,{"$f":"'DNSP Inputs O & M'!$H$15","v":63.64},1,{"$f":"'DNSP Inputs O & M'!$H$17","v":7.5},{"$f":"CP203*CQ203*CR203","v":477.3},null,null,null,{"$f":"'DNSP Inputs O & M'!$H$15","v":63.64},1,{"$f":"'DNSP Inputs O & M'!$H$17","v":7.5},{"$f":"CW203*CX203*CY203","v":477.3},null,null,null,{"$f":"'DNSP Inputs O & M'!$H$15","v":63.64},1,{"$f":"'DNSP Inputs O & M'!$H$17","v":7.5},{"$f":"DD203*DE203*DF203","v":477.3}]
[]
["Other Maintenance and Repair costs",null,null,null,null,null,{"$f":"'DNSP Inputs O & M'!$D$136","v":2.1},null,null,null,null,null,null,{"$f":"'DNSP Inputs O & M'!$D$136","v":2.1},null,null,null,null,null,null,{"$f":"'DNSP Inputs O & M'!$D$136","v":2.1},null,null,null,null,null,null,null,null,{"$f":"'DNSP Inputs O & M'!$E$136","v":2.1},null,null,null,null,null,null,{"$f":"'DNSP Inputs O & M'!$E$136","v":2.1},null,null,null,null,null,null,{"$f":"'DNSP Inputs O & M'!$E$136","v":2.1},null,null,null,null,null,null,null,null,{"$f":"'DNSP Inputs O & M'!$F$136","v":2.1},null,null,null,null,null,null,{"$f":"'DNSP Inputs O & M'!$F$136","v":2.1},null,null,null,null,null,null,{"$f":"'DNSP Inputs O & M'!$F$136","v":2.1},null,null,null,null,null,null,null,null,{"$f":"'DNSP Inputs O & M'!$G$136","v":2.1},null,null,null,null,null,null,{"$f":"'DNSP Inputs O & M'!$G$136","v":2.1},null,null,null,null,null,null,{"$f":"'DNSP Inputs O & M'!$G$136","v":2.1},null,null,null,null,null,null,null,null,{"$f":"'DNSP Inputs O & M'!$H$136","v":2.1},null,null,null,null,null,null,{"$f":"'DNSP Inputs O & M'!$H$136","v":2.1},null,null,null,null,null,null,{"$f":"'DNSP Inputs O & M'!$H$136","v":2.1}]
[]
["Overheads",{"$f":"'DNSP Inputs O & M'!$D$18","v":0.25},null,null,null,null,{"$f":"B207*(G195+G199+G202+G205)","v":13.435557664412331},null,{"$f":"'DNSP Inputs O & M'!$D$18","v":0.25},null,null,null,null,{"$f":"I207*(N195+N199+N202+N205)","v":17.720241191715569},null,{"$f":"'DNSP Inputs O & M'!$D$18","v":0.25},null,null,null,null,{"$f":"P207*(U195+U199+U202+U205)","v":21.878112975723113},null,null,null,{"$f":"'DNSP Inputs O & M'!$E$18","v":0.25},null,null,null,null,{"$f":"Y207*(AD195+AD199+AD202+AD205)","v":13.413352261932864},null,{"$f":"'DNSP Inputs O & M'!$E$18","v":0.25},null,null,null,null,{"$f":"AF207*(AK195+AK199+AK202+AK205)","v":17.689777839749141},null,{"$f":"'DNSP Inputs O & M'!$E$18","v":0.25},null,null,null,null,{"$f":"AM207*(AR195+AR199+AR202+AR205)","v":22.205506263452921},null,null,null,{"$f":"'DNSP Inputs O & M'!$F$18","v":0.25},null,null,null,null,{"$f":"AV207*(BA195+BA199+BA202+BA205)","v":13.40691137167483},null,{"$f":"'DNSP Inputs O & M'!$F$18","v":0.25},null,null,null,null,{"$f":"BC207*(BH195+BH199+BH202+BH205)","v":17.680941651930031},null,{"$f":"'DNSP Inputs O & M'!$F$18","v":0.25},null,null,null,null,{"$f":"BJ207*(BO195+BO199+BO202+BO205)","v":22.194251702231966},null,null,null,{"$f":"'DNSP Inputs O & M'!$G$18","v":0.25},null,null,null,null,{"$f":"BS207*(BX195+BX199+BX202+BX205)","v":13.43945766587292},null,{"$f":"'DNSP Inputs O & M'!$G$18","v":0.25},null,null,null,null,{"$f":"BZ207*(CE195+CE199+CE202+CE205)","v":17.725591561620977},null,{"$f":"'DNSP Inputs O & M'!$G$18","v":0.25},null,null,null,null,{"$f":"CG207*(CL195+CL199+CL202+CL205)","v":22.251121831343486},null,null,null,{"$f":"'DNSP Inputs O & M'!$H$18","v":0.25},null,null,null,null,{"$f":"CP207*(CU195+CU199+CU202+CU205)","v":13.52809578001858},null,{"$f":"'DNSP Inputs O & M'!$H$18","v":0.25},null,null,null,null,{"$f":"CW207*(DB195+DB199+DB202+DB205)","v":17.847193233617524},null,{"$f":"'DNSP Inputs O & M'!$H$18","v":0.25},null,null,null,null,{"$f":"DD207*(DI195+DI199+DI202+DI205)","v":22.406004625832594}]
[]
[null,null,null,null,null,null,{"$f":"SUM(G195,G199,G202,G205,G207)","v":67.177788322061659},null,null,null,null,null,null,{"$f":"SUM(N195,N199,N202,N205,N207)","v":88.60120595857785},null,null,null,null,null,null,{"$f":"SUM(U195,U199,U202,U205,U207)","v":109.39056487861556},null,null,null,null,null,null,null,null,{"$f":"SUM(AD195,AD199,AD202,AD205,AD207)","v":67.066761309664315},null,null,null,null,null,null,{"$f":"SUM(AK195,AK199,AK202,AK205,AK207)","v":88.448889198745704},null,null,null,null,null,null,{"$f":"SUM(AR195,AR199,AR202,AR205,AR207)","v":111.0275313172646},null,null,null,null,null,null,null,null,{"$f":"SUM(BA195,BA199,BA202,BA205,BA207)","v":67.034556858374145},null,null,null,null,null,null,{"$f":"SUM(BH195,BH199,BH202,BH205,BH207)","v":88.40470825965015},null,null,null,null,null,null,{"$f":"SUM(BO195,BO199,BO202,BO205,BO207)","v":110.97125851115983},null,null,null,null,null,null,null,null,{"$f":"SUM(BX195,BX199,BX202,BX205,BX207)","v":67.197288329364596},null,null,null,null,null,null,{"$f":"SUM(CE195,CE199,CE202,CE205,CE207)","v":88.627957808104881},null,null,null,null,null,null,{"$f":"SUM(CL195,CL199,CL202,CL205,CL207)","v":111.25560915671743},null,null,null,null,null,null,null,null,{"$f":"SUM(CU195,CU199,CU202,CU205,CU207)","v":67.640478900092901},null,null,null,null,null,null,{"$f":"SUM(DB195,DB199,DB202,DB205,DB207)","v":89.235966168087629},null,null,null,null,null,null,{"$f":"SUM(DI195,DI199,DI202,DI205,DI207)","v":112.03002312916297}]
[]
[]
[]
[]
["T5 (2 X 14W) - Cost build-up"]
[]
["Additional assumptions"]
["Proportion of luminaire that will fail before bulk change",null,null,{"$f":"'DNSP Inputs O & M'!$D$186","v":0.41565636121546606},null,null,null,null,null,null,null,null,null,null,null,null,null,null,null,null,null,null,null,null,null,null,{"$f":"'DNSP Inputs O & M'!$E$186","v":0.41565636121546606},null,null,null,null,null,null,null,null,null,null,null,null,null,null,null,null,null,null,null,null,null,null,{"$f":"'DNSP Inputs O & M'!$F$186","v":0.41565636121546606},null,null,null,null,null,null,null,null,null,null,null,null,null,null,null,null,null,null,null,null,null,null,{"$f":"'DNSP Inputs O & M'!$G$186","v":0.41565636121546606},null,null,null,null,null,null,null,null,null,null,null,null,null,null,null,null,null,null,null,null,null,null,{"$f":"'DNSP Inputs O & M'!$H$186","v":0.41565636121546606}]
["Proportion of lamps that will fail before bulk change (per year)",null,null,{"$f":"D217/'DNSP Inputs O & M'!$D$183","v":0.10391409030386652},null,null,null,null,null,null,null,null,null,null,null,null,null,null,null,null,null,null,null,null,null,null,{"$f":"AA217/'DNSP Inputs O & M'!$E$183","v":0.10391409030386652},null,null,null,null,null,null,null,null,null,null,null,null,null,null,null,null,null,null,null,null,null,null,{"$f":"AX217/'DNSP Inputs O & M'!$F$183","v":0.10391409030386652},null,null,null,null,null,null,null,null,null,null,null,null,null,null,null,null,null,null,null,null,null,null,{"$f":"BU217/'DNSP Inputs O & M'!$G$183","v":0.10391409030386652},null,null,null,null,null,null,null,null,null,null,null,null,null,null,null,null,null,null,null,null,null,null,{"$f":"CR217/'DNSP Inputs O & M'!$H$183","v":0.10391409030386652}]
["Overheads are applied to material and labour components"]
["All costs and charges are exclusive of GST"]
[]
[null,"Urban",null,null,null,null,null,null,"Rural",null,null,null,null,null,null,"Remote",null,null,null,null,null,null,null,null,"Urban",null,null,null,null,null,null,"Rural",null,null,null,null,null,null,"Remote",null,null,null,null,null,null,null,null,"Urban",null,null,null,null,null,null,"Rural",null,null,null,null,null,null,"Remote",null,null,null,null,null,null,null,null,"Urban",null,null,null,null,null,null,"Rural",null,null,null,null,null,null,"Remote",null,null,null,null,null,null,null,null,"Urban",null,null,null,null,null,null,"Rural",null,null,null,null,null,null,"Remote"]
[]
[null,"Unit rate","Number","Hours","Cost","Annualised","Annualised",null,"Unit rate","Number","Hours","Cost","Annualised","Annualised",null,"Unit rate","Number","Hours","Cost","Annualised","Annualised",null,null,null,"Unit rate","Number","Hours","Cost","Annualised","Annualised",null,"Unit rate","Number","Hours","Cost","Annualised","Annualised",null,"Unit rate","Number","Hours","Cost","Annualised","Annualised",null,null,null,"Unit rate","Number","Hours","Cost","Annualised","Annualised",null,"Unit rate","Number","Hours","Cost","Annualised","Annualised",null,"Unit rate","Number","Hours","Cost","Annualised","Annualised",null,null,null,"Unit rate","Number","Hours","Cost","Annualised","Annualised",null,"Unit rate","Number","Hours","Cost","Annualised","Annualised",null,"Unit rate","Number","Hours","Cost","Annualised","Annualised",null,null,null,"Unit rate","Number","Hours","Cost","Annualised","Annualised",null,"Unit rate","Number","Hours","Cost","Annualised","Annualised",null,"Unit rate","Number","Hours","Cost","Annualised","Annualised"]
[null,null,null,null,null," cost","unit cost",null,null,null,null,null," cost","unit cost",null,null,null,null,null," cost","unit cost",null,null,null,null,null,null,null," cost","unit cost",null,null,null,null,null," cost","unit cost",null,null,null,null,null," cost","unit cost",null,null,null,null,null,null,null," cost","unit cost",null,null,null,null,null," cost","unit cost",null,null,null,null,null," cost","unit cost",null,null,null,null,null,null,null," cost","unit cost",null,null,null,null,null," cost","unit cost",null,null,null,null,null," cost","unit cost",null,null,null,null,null,null,null," cost","unit cost",null,null,null,null,null," cost","unit cost",null,null,null,null,null," cost","unit cost"]
["T5 (2 X 14W)"]
["Bulk change & repairs"]
["Materials - bulk lamp change"]
["Lamp",{"$f":"'DNSP Inputs O & M'!$D$187","v":8.1},{"$f":"'DNSP Inputs O & M'!$D$193","v":86},null,{"$f":"B229*C229","v":696.6},{"$f":"E229/'DNSP Inputs O & M'!$D$183*0.8","v":139.32000000000002},{"$f":"(F229+F230+F231)/C229","v":3.779529134138421},null,{"$f":"'DNSP Inputs O & M'!$D$187*(1+'DNSP Inputs O & M'!$D$11)","v":8.5050000000000008},{"$f":"'DNSP Inputs O & M'!$D$194","v":72},null,{"$f":"I229*J229","v":612.36},{"$f":"L229/'DNSP Inputs O & M'!$D$183*0.8","v":122.47200000000001},{"$f":"(M229+M230+M231)/J229","v":3.9685055908453415},null,{"$f":"'DNSP Inputs O & M'!$D$187*(1+'DNSP Inputs O & M'!$D$11)","v":8.5050000000000008},{"$f":"'DNSP Inputs O & M'!$D$195","v":60},null,{"$f":"P229*Q229","v":510.30000000000007},{"$f":"S229/'DNSP Inputs O & M'!$D$183*0.8","v":102.06000000000002},{"$f":"(T229+T230+T231)/Q229","v":3.9685055908453419},null,null,null,{"$f":"'DNSP Inputs O & M'!$E$187","v":8.1},{"$f":"'DNSP Inputs O & M'!$E$193","v":86},null,{"$f":"Y229*Z229","v":696.6},{"$f":"AB229/'DNSP Inputs O & M'!$E$183*0.8","v":139.32000000000002},{"$f":"(AC229+AC230+AC231)/Z229","v":3.779529134138421},null,{"$f":"'DNSP Inputs O & M'!$E$187*(1+'DNSP Inputs O & M'!$E$11)","v":8.5050000000000008},{"$f":"'DNSP Inputs O & M'!$E$194","v":72},null,{"$f":"AF229*AG229","v":612.36},{"$f":"AI229/'DNSP Inputs O & M'!$E$183*0.8","v":122.47200000000001},{"$f":"(AJ229+AJ230+AJ231)/AG229","v":3.9685055908453415},null,{"$f":"'DNSP Inputs O & M'!$E$187*(1+'DNSP Inputs O & M'!$E$11)","v":8.5050000000000008},{"$f":"'DNSP Inputs O & M'!$E$195","v":60},null,{"$f":"AM229*AN229","v":510.30000000000007},{"$f":"AP229/'DNSP Inputs O & M'!$E$183*0.8","v":102.06000000000002},{"$f":"(AQ229+AQ230+AQ231)/AN229","v":3.9685055908453419},null,null,null,{"$f":"'DNSP Inputs O & M'!$F$187","v":8.1},{"$f":"'DNSP Inputs O & M'!$F$193","v":86},null,{"$f":"AV229*AW229","v":696.6},{"$f":"AY229/'DNSP Inputs O & M'!$F$183*0.8","v":139.32000000000002},{"$f":"(AZ229+AZ230+AZ231)/AW229","v":3.779529134138421},null,{"$f":"'DNSP Inputs O & M'!$F$187*(1+'DNSP Inputs O & M'!$F$11)","v":8.5050000000000008},{"$f":"'DNSP Inputs O & M'!$F$194","v":72},null,{"$f":"BC229*BD229","v":612.36},{"$f":"BF229/'DNSP Inputs O & M'!$F$183*0.8","v":122.47200000000001},{"$f":"(BG229+BG230+BG231)/BD229","v":3.9685055908453415},null,{"$f":"'DNSP Inputs O & M'!$F$187*(1+'DNSP Inputs O & M'!$F$11)","v":8.5050000000000008},{"$f":"'DNSP Inputs O & M'!$F$195","v":60},null,{"$f":"BJ229*BK229","v":510.30000000000007},{"$f":"BM229/'DNSP Inputs O & M'!$F$183*0.8","v":102.06000000000002},{"$f":"(BN229+BN230+BN231)/BK229","v":3.9685055908453419},null,null,null,{"$f":"'DNSP Inputs O & M'!$G$187","v":8.1},{"$f":"'DNSP Inputs O & M'!$G$193","v":86},null,{"$f":"BS229*BT229","v":696.6},{"$f":"BV229/'DNSP Inputs O & M'!$G$183*0.8","v":139.32000000000002},{"$f":"(BW229+BW230+BW231)/BT229","v":3.779529134138421},null,{"$f":"'DNSP Inputs O & M'!$G$187*(1+'DNSP Inputs O & M'!$G$11)","v":8.5050000000000008},{"$f":"'DNSP Inputs O & M'!$G$194","v":72},null,{"$f":"BZ229*CA229","v":612.36},{"$f":"CC229/'DNSP Inputs O & M'!$G$183*0.8","v":122.47200000000001},{"$f":"(CD229+CD230+CD231)/CA229","v":3.9685055908453415},null,{"$f":"'DNSP Inputs O & M'!$G$187*(1+'DNSP Inputs O & M'!$G$11)","v":8.5050000000000008},{"$f":"'DNSP Inputs O & M'!$G$195","v":60},null,{"$f":"CG229*CH229","v":510.30000000000007},{"$f":"CJ229/'DNSP Inputs O & M'!$G$183*0.8","v":102.06000000000002},{"$f":"(CK229+CK230+CK231)/CH229","v":3.9685055908453419},null,null,null,{"$f":"'DNSP Inputs O & M'!$H$187","v":8.1},{"$f":"'DNSP Inputs O & M'!$H$193","v":86},null,{"$f":"CP229*CQ229","v":696.6},{"$f":"CS229/'DNSP Inputs O & M'!$H$183*0.8","v":139.32000000000002},{"$f":"(CT229+CT230+CT231)/CQ229","v":3.779529134138421},null,{"$f":"'DNSP Inputs O & M'!$H$187*(1+'DNSP Inputs O & M'!$H$11)","v":8.5050000000000008},{"$f":"'DNSP Inputs O & M'!$H$194","v":72},null,{"$f":"CW229*CX229","v":612.36},{"$f":"CZ229/'DNSP Inputs O & M'!$H$183*0.8","v":122.47200000000001},{"$f":"(DA229+DA230+DA231)/CX229","v":3.9685055908453415},null,{"$f":"'DNSP Inputs O & M'!$H$187*(1+'DNSP Inputs O & M'!$H$11)","v":8.5050000000000008},{"$f":"'DNSP Inputs O & M'!$H$195","v":60},null,{"$f":"DD229*DE229","v":510.30000000000007},{"$f":"DG229/'DNSP Inputs O & M'!$H$183*0.8","v":102.06000000000002},{"$f":"(DH229+DH230+DH231)/DE229","v":3.9685055908453419}]
["PE cell",{"$f":"'DNSP Inputs O & M'!$D$188","v":15.120000000000001},{"$f":"C229*'DNSP Inputs O & M'!$D$183/'DNSP Inputs O & M'!$D$184","v":43},null,{"$f":"B230*C230","v":650.16000000000008},{"$f":"E230/'DNSP Inputs O & M'!$D$183","v":162.54000000000002},null,null,{"$f":"'DNSP Inputs O & M'!$D$188*(1+'DNSP Inputs O & M'!$D$11)","v":15.876000000000001},{"$f":"J229*'DNSP Inputs O & M'!$D$183/'DNSP Inputs O & M'!$D$184","v":36},null,{"$f":"I230*J230","v":571.53600000000006},{"$f":"L230/'DNSP Inputs O & M'!$D$183","v":142.88400000000001},null,null,{"$f":"'DNSP Inputs O & M'!$D$188*(1+'DNSP Inputs O & M'!$D$11)","v":15.876000000000001},{"$f":"Q229*'DNSP Inputs O & M'!$D$183/'DNSP Inputs O & M'!$D$184","v":30},null,{"$f":"P230*Q230","v":476.28000000000003},{"$f":"S230/'DNSP Inputs O & M'!$D$183","v":119.07000000000001},null,null,null,null,{"$f":"'DNSP Inputs O & M'!$E$188","v":15.120000000000001},{"$f":"Z229*'DNSP Inputs O & M'!$E$183/'DNSP Inputs O & M'!$E$184","v":43},null,{"$f":"Y230*Z230","v":650.16000000000008},{"$f":"AB230/'DNSP Inputs O & M'!$E$183","v":162.54000000000002},null,null,{"$f":"'DNSP Inputs O & M'!$E$188*(1+'DNSP Inputs O & M'!$E$11)","v":15.876000000000001},{"$f":"AG229*'DNSP Inputs O & M'!$E$183/'DNSP Inputs O & M'!$E$184","v":36},null,{"$f":"AF230*AG230","v":571.53600000000006},{"$f":"AI230/'DNSP Inputs O & M'!$E$183","v":142.88400000000001},null,null,{"$f":"'DNSP Inputs O & M'!$E$188*(1+'DNSP Inputs O & M'!$E$11)","v":15.876000000000001},{"$f":"AN229*'DNSP Inputs O & M'!$E$183/'DNSP Inputs O & M'!$E$184","v":30},null,{"$f":"AM230*AN230","v":476.28000000000003},{"$f":"AP230/'DNSP Inputs O & M'!$E$183","v":119.07000000000001},null,null,null,null,{"$f":"'DNSP Inputs O & M'!$F$188","v":15.120000000000001},{"$f":"AW229*'DNSP Inputs O & M'!$F$183/'DNSP Inputs O & M'!$F$184","v":43},null,{"$f":"AV230*AW230","v":650.16000000000008},{"$f":"AY230/'DNSP Inputs O & M'!$F$183","v":162.54000000000002},null,null,{"$f":"'DNSP Inputs O & M'!$F$188*(1+'DNSP Inputs O & M'!$F$11)","v":15.876000000000001},{"$f":"BD229*'DNSP Inputs O & M'!$F$183/'DNSP Inputs O & M'!$F$184","v":36},null,{"$f":"BC230*BD230","v":571.53600000000006},{"$f":"BF230/'DNSP Inputs O & M'!$F$183","v":142.88400000000001},null,null,{"$f":"'DNSP Inputs O & M'!$F$188*(1+'DNSP Inputs O & M'!$F$11)","v":15.876000000000001},{"$f":"BK229*'DNSP Inputs O & M'!$F$183/'DNSP Inputs O & M'!$F$184","v":30},null,{"$f":"BJ230*BK230","v":476.28000000000003},{"$f":"BM230/'DNSP Inputs O & M'!$F$183","v":119.07000000000001},null,null,null,null,{"$f":"'DNSP Inputs O & M'!$G$188","v":15.120000000000001},{"$f":"BT229*'DNSP Inputs O & M'!$G$183/'DNSP Inputs O & M'!$G$184","v":43},null,{"$f":"BS230*BT230","v":650.16000000000008},{"$f":"BV230/'DNSP Inputs O & M'!$G$183","v":162.54000000000002},null,null,{"$f":"'DNSP Inputs O & M'!$G$188*(1+'DNSP Inputs O & M'!$G$11)","v":15.876000000000001},{"$f":"CA229*'DNSP Inputs O & M'!$G$183/'DNSP Inputs O & M'!$G$184","v":36},null,{"$f":"BZ230*CA230","v":571.53600000000006},{"$f":"CC230/'DNSP Inputs O & M'!$G$183","v":142.88400000000001},null,null,{"$f":"'DNSP Inputs O & M'!$G$188*(1+'DNSP Inputs O & M'!$G$11)","v":15.876000000000001},{"$f":"CH229*'DNSP Inputs O & M'!$G$183/'DNSP Inputs O & M'!$G$184","v":30},null,{"$f":"CG230*CH230","v":476.28000000000003},{"$f":"CJ230/'DNSP Inputs O & M'!$G$183","v":119.07000000000001},null,null,null,null,{"$f":"'DNSP Inputs O & M'!$H$188","v":15.120000000000001},{"$f":"CQ229*'DNSP Inputs O & M'!$H$183/'DNSP Inputs O & M'!$H$184","v":43},null,{"$f":"CP230*CQ230","v":650.16000000000008},{"$f":"CS230/'DNSP Inputs O & M'!$H$183","v":162.54000000000002},null,null,{"$f":"'DNSP Inputs O & M'!$H$188*(1+'DNSP Inputs O & M'!$H$11)","v":15.876000000000001},{"$f":"CX229*'DNSP Inputs O & M'!$H$183/'DNSP Inputs O & M'!$H$184","v":36},null,{"$f":"CW230*CX230","v":571.53600000000006},{"$f":"CZ230/'DNSP Inputs O & M'!$H$183","v":142.88400000000001},null,null,{"$f":"'DNSP Inputs O & M'!$H$188*(1+'DNSP Inputs O & M'!$H$11)","v":15.876000000000001},{"$f":"DE229*'DNSP Inputs O & M'!$H$183/'DNSP Inputs O & M'!$H$184","v":30},null,{"$f":"DD230*DE230","v":476.28000000000003},{"$f":"DG230/'DNSP Inputs O & M'!$H$183","v":119.07000000000001}]
["Miscellaneous",{"$f":"'DNSP Inputs O & M'!$D$190","v":1.3476456706921032},{"$f":"'DNSP Inputs O & M'!$D$193","v":86},null,{"$f":"B231*C231","v":115.89752767952088},{"$f":"E231/'DNSP Inputs O & M'!$D$183*0.8","v":23.179505535904177},null,null,{"$f":"'DNSP Inputs O & M'!$D$190*(1+'DNSP Inputs O & M'!$D$11)","v":1.4150279542267084},{"$f":"'DNSP Inputs O & M'!$D$194","v":72},null,{"$f":"I231*J231","v":101.882012704323},{"$f":"L231/'DNSP Inputs O & M'!$D$183*0.8","v":20.376402540864603},null,null,{"$f":"'DNSP Inputs O & M'!$D$190*(1+'DNSP Inputs O & M'!$D$11)","v":1.4150279542267084},{"$f":"'DNSP Inputs O & M'!$D$195","v":60},null,{"$f":"P231*Q231","v":84.9016772536025},{"$f":"S231/'DNSP Inputs O & M'!$D$183*0.8","v":16.980335450720499},null,null,null,null,{"$f":"'DNSP Inputs O & M'!$E$190","v":1.3476456706921032},{"$f":"'DNSP Inputs O & M'!$E$193","v":86},null,{"$f":"Y231*Z231","v":115.89752767952088},{"$f":"AB231/'DNSP Inputs O & M'!$E$183*0.8","v":23.179505535904177},null,null,{"$f":"'DNSP Inputs O & M'!$E$190*(1+'DNSP Inputs O & M'!$E$11)","v":1.4150279542267084},{"$f":"'DNSP Inputs O & M'!$E$194","v":72},null,{"$f":"AF231*AG231","v":101.882012704323},{"$f":"AI231/'DNSP Inputs O & M'!$E$183*0.8","v":20.376402540864603},null,null,{"$f":"'DNSP Inputs O & M'!$E$190*(1+'DNSP Inputs O & M'!$E$11)","v":1.4150279542267084},{"$f":"'DNSP Inputs O & M'!$E$195","v":60},null,{"$f":"AM231*AN231","v":84.9016772536025},{"$f":"AP231/'DNSP Inputs O & M'!$E$183*0.8","v":16.980335450720499},null,null,null,null,{"$f":"'DNSP Inputs O & M'!$F$190","v":1.3476456706921032},{"$f":"'DNSP Inputs O & M'!$F$193","v":86},null,{"$f":"AV231*AW231","v":115.89752767952088},{"$f":"AY231/'DNSP Inputs O & M'!$F$183*0.8","v":23.179505535904177},null,null,{"$f":"'DNSP Inputs O & M'!$F$190*(1+'DNSP Inputs O & M'!$F$11)","v":1.4150279542267084},{"$f":"'DNSP Inputs O & M'!$F$194","v":72},null,{"$f":"BC231*BD231","v":101.882012704323},{"$f":"BF231/'DNSP Inputs O & M'!$F$183*0.8","v":20.376402540864603},null,null,{"$f":"'DNSP Inputs O & M'!$F$190*(1+'DNSP Inputs O & M'!$F$11)","v":1.4150279542267084},{"$f":"'DNSP Inputs O & M'!$F$195","v":60},null,{"$f":"BJ231*BK231","v":84.9016772536025},{"$f":"BM231/'DNSP Inputs O & M'!$F$183*0.8","v":16.980335450720499},null,null,null,null,{"$f":"'DNSP Inputs O & M'!$G$190","v":1.3476456706921032},{"$f":"'DNSP Inputs O & M'!$G$193","v":86},null,{"$f":"BS231*BT231","v":115.89752767952088},{"$f":"BV231/'DNSP Inputs O & M'!$G$183*0.8","v":23.179505535904177},null,null,{"$f":"'DNSP Inputs O & M'!$G$190*(1+'DNSP Inputs O & M'!$G$11)","v":1.4150279542267084},{"$f":"'DNSP Inputs O & M'!$G$194","v":72},null,{"$f":"BZ231*CA231","v":101.882012704323},{"$f":"CC231/'DNSP Inputs O & M'!$G$183*0.8","v":20.376402540864603},null,null,{"$f":"'DNSP Inputs O & M'!$G$190*(1+'DNSP Inputs O & M'!$G$11)","v":1.4150279542267084},{"$f":"'DNSP Inputs O & M'!$G$195","v":60},null,{"$f":"CG231*CH231","v":84.9016772536025},{"$f":"CJ231/'DNSP Inputs O & M'!$G$183*0.8","v":16.980335450720499},null,null,null,null,{"$f":"'DNSP Inputs O & M'!$H$190","v":1.3476456706921032},{"$f":"'DNSP Inputs O & M'!$H$193","v":86},null,{"$f":"CP231*CQ231","v":115.89752767952088},{"$f":"CS231/'DNSP Inputs O & M'!$H$183*0.8","v":23.179505535904177},null,null,{"$f":"'DNSP Inputs O & M'!$H$190*(1+'DNSP Inputs O & M'!$H$11)","v":1.4150279542267084},{"$f":"'DNSP Inputs O & M'!$H$194","v":72},null,{"$f":"CW231*CX231","v":101.882012704323},{"$f":"CZ231/'DNSP Inputs O & M'!$H$183*0.8","v":20.376402540864603},null,null,{"$f":"'DNSP Inputs O & M'!$H$190*(1+'DNSP Inputs O & M'!$H$11)","v":1.4150279542267084},{"$f":"'DNSP Inputs O & M'!$H$195","v":60},null,{"$f":"DD231*DE231","v":84.9016772536025},{"$f":"DG231/'DNSP Inputs O & M'!$H$183*0.8","v":16.980335450720499}]
["Materials - repair of faults"]
["Lamp",{"$f":"'DNSP Inputs O & M'!$D$187","v":8.1},{"$f":"'DNSP Inputs O & M'!$D$196*'DNSP Inputs O & M'!$D$199","v":17.28},null,{"$f":"B233*C233","v":139.96799999999999},{"$f":"(E233+E234+E235+E236)/'DNSP Inputs O & M'!$D$196","v":13.767645670692104},{"$f":"F233*D218","v":1.4306523754959362},null,{"$f":"'DNSP Inputs O & M'!$D$187*(1+'DNSP Inputs O & M'!$D$11)","v":8.5050000000000008},{"$f":"'DNSP Inputs O & M'!$D$197*'DNSP Inputs O & M'!$D$199","v":14.399999999999999},null,{"$f":"I233*J233","v":122.47199999999999},{"$f":"(L233+L234+L235+L236)/'DNSP Inputs O & M'!$D$197","v":14.456027954226707},{"$f":"M233*D218","v":1.5021849942707328},null,{"$f":"'DNSP Inputs O & M'!$D$187*(1+'DNSP Inputs O & M'!$D$11)","v":8.5050000000000008},{"$f":"'DNSP Inputs O & M'!$D$198*'DNSP Inputs O & M'!$D$199","v":11.52},null,{"$f":"P233*Q233","v":97.97760000000001},{"$f":"(S233+S234+S235+S236)/'DNSP Inputs O & M'!$D$198","v":14.456027954226709},{"$f":"T233*D218","v":1.502184994270733},null,null,null,{"$f":"'DNSP Inputs O & M'!$E$187","v":8.1},{"$f":"'DNSP Inputs O & M'!$E$196*'DNSP Inputs O & M'!$E$199","v":17.28},null,{"$f":"Y233*Z233","v":139.96799999999999},{"$f":"(AB233+AB234+AB235+AB236)/'DNSP Inputs O & M'!$E$196","v":13.767645670692104},{"$f":"AC233*AA218","v":1.4306523754959362},null,{"$f":"'DNSP Inputs O & M'!$E$187*(1+'DNSP Inputs O & M'!$E$11)","v":8.5050000000000008},{"$f":"'DNSP Inputs O & M'!$E$197*'DNSP Inputs O & M'!$E$199","v":14.399999999999999},null,{"$f":"AF233*AG233","v":122.47199999999999},{"$f":"(AI233+AI234+AI235+AI236)/'DNSP Inputs O & M'!$E$197","v":14.456027954226707},{"$f":"AJ233*AA218","v":1.5021849942707328},null,{"$f":"'DNSP Inputs O & M'!$E$187*(1+'DNSP Inputs O & M'!$E$11)","v":8.5050000000000008},{"$f":"'DNSP Inputs O & M'!$E$198*'DNSP Inputs O & M'!$E$199","v":11.52},null,{"$f":"AM233*AN233","v":97.97760000000001},{"$f":"(AP233+AP234+AP235+AP236)/'DNSP Inputs O & M'!$E$198","v":14.456027954226709},{"$f":"AQ233*AA218","v":1.502184994270733},null,null,null,{"$f":"'DNSP Inputs O & M'!$F$187","v":8.1},{"$f":"'DNSP Inputs O & M'!$F$196*'DNSP Inputs O & M'!$F$199","v":17.28},null,{"$f":"AV233*AW233","v":139.96799999999999},{"$f":"(AY233+AY234+AY235+AY236)/'DNSP Inputs O & M'!$F$196","v":13.767645670692104},{"$f":"AZ233*AX218","v":1.4306523754959362},null,{"$f":"'DNSP Inputs O & M'!$F$187*(1+'DNSP Inputs O & M'!$F$11)","v":8.5050000000000008},{"$f":"'DNSP Inputs O & M'!$F$197*'DNSP Inputs O & M'!$F$199","v":14.399999999999999},null,{"$f":"BC233*BD233","v":122.47199999999999},{"$f":"(BF233+BF234+BF235+BF236)/'DNSP Inputs O & M'!$F$197","v":14.456027954226707},{"$f":"BG233*AX218","v":1.5021849942707328},null,{"$f":"'DNSP Inputs O & M'!$F$187*(1+'DNSP Inputs O & M'!$F$11)","v":8.5050000000000008},{"$f":"'DNSP Inputs O & M'!$F$198*'DNSP Inputs O & M'!$F$199","v":11.52},null,{"$f":"BJ233*BK233","v":97.97760000000001},{"$f":"(BM233+BM234+BM235+BM236)/'DNSP Inputs O & M'!$F$198","v":14.456027954226709},{"$f":"BN233*AX218","v":1.502184994270733},null,null,null,{"$f":"'DNSP Inputs O & M'!$G$187","v":8.1},{"$f":"'DNSP Inputs O & M'!$G$196*'DNSP Inputs O & M'!$G$199","v":17.28},null,{"$f":"BS233*BT233","v":139.96799999999999},{"$f":"(BV233+BV234+BV235+BV236)/'DNSP Inputs O & M'!$G$196","v":13.767645670692104},{"$f":"BW233*BU218","v":1.4306523754959362},null,{"$f":"'DNSP Inputs O & M'!$G$187*(1+'DNSP Inputs O & M'!$G$11)","v":8.5050000000000008},{"$f":"'DNSP Inputs O & M'!$G$197*'DNSP Inputs O & M'!$G$199","v":14.399999999999999},null,{"$f":"BZ233*CA233","v":122.47199999999999},{"$f":"(CC233+CC234+CC235+CC236)/'DNSP Inputs O & M'!$G$197","v":14.456027954226707},{"$f":"CD233*BU218","v":1.5021849942707328},null,{"$f":"'DNSP Inputs O & M'!$G$187*(1+'DNSP Inputs O & M'!$G$11)","v":8.5050000000000008},{"$f":"'DNSP Inputs O & M'!$G$198*'DNSP Inputs O & M'!$G$199","v":11.52},null,{"$f":"CG233*CH233","v":97.97760000000001},{"$f":"(CJ233+CJ234+CJ235+CJ236)/'DNSP Inputs O & M'!$G$198","v":14.456027954226709},{"$f":"CK233*BU218","v":1.502184994270733},null,null,null,{"$f":"'DNSP Inputs O & M'!$H$187","v":8.1},{"$f":"'DNSP Inputs O & M'!$H$196*'DNSP Inputs O & M'!$H$199","v":17.28},null,{"$f":"CP233*CQ233","v":139.96799999999999},{"$f":"(CS233+CS234+CS235+CS236)/'DNSP Inputs O & M'!$H$196","v":13.767645670692104},{"$f":"CT233*CR218","v":1.4306523754959362},null,{"$f":"'DNSP Inputs O & M'!$H$187*(1+'DNSP Inputs O & M'!$H$11)","v":8.5050000000000008},{"$f":"'DNSP Inputs O & M'!$H$197*'DNSP Inputs O & M'!$H$199","v":14.399999999999999},null,{"$f":"CW233*CX233","v":122.47199999999999},{"$f":"(CZ233+CZ234+CZ235+CZ236)/'DNSP Inputs O & M'!$H$197","v":14.456027954226707},{"$f":"DA233*CR218","v":1.5021849942707328},null,{"$f":"'DNSP Inputs O & M'!$H$187*(1+'DNSP Inputs O & M'!$H$11)","v":8.5050000000000008},{"$f":"'DNSP Inputs O & M'!$H$198*'DNSP Inputs O & M'!$H$199","v":11.52},null,{"$f":"DD233*DE233","v":97.97760000000001},{"$f":"(DG233+DG234+DG235+DG236)/'DNSP Inputs O & M'!$H$198","v":14.456027954226709},{"$f":"DH233*CR218","v":1.502184994270733}]
["PE cell",{"$f":"'DNSP Inputs O & M'!$D$188","v":15.120000000000001},{"$f":"'DNSP Inputs O & M'!$D$196*'DNSP Inputs O & M'!$D$200","v":14.4},null,{"$f":"B234*C234","v":217.72800000000001},null,null,null,{"$f":"'DNSP Inputs O & M'!$D$188*(1+'DNSP Inputs O & M'!$D$11)","v":15.876000000000001},{"$f":"'DNSP Inputs O & M'!$D$197*'DNSP Inputs O & M'!$D$200","v":12},null,{"$f":"I234*J234","v":190.512},null,null,null,{"$f":"'DNSP Inputs O & M'!$D$188*(1+'DNSP Inputs O & M'!$D$11)","v":15.876000000000001},{"$f":"'DNSP Inputs O & M'!$D$198*'DNSP Inputs O & M'!$D$200","v":9.6},null,{"$f":"P234*Q234","v":152.40960000000001},null,null,null,null,null,{"$f":"'DNSP Inputs O & M'!$E$188","v":15.120000000000001},{"$f":"'DNSP Inputs O & M'!$E$196*'DNSP Inputs O & M'!$E$200","v":14.4},null,{"$f":"Y234*Z234","v":217.72800000000001},null,null,null,{"$f":"'DNSP Inputs O & M'!$E$188*(1+'DNSP Inputs O & M'!$E$11)","v":15.876000000000001},{"$f":"'DNSP Inputs O & M'!$E$197*'DNSP Inputs O & M'!$E$200","v":12},null,{"$f":"AF234*AG234","v":190.512},null,null,null,{"$f":"'DNSP Inputs O & M'!$E$188*(1+'DNSP Inputs O & M'!$E$11)","v":15.876000000000001},{"$f":"'DNSP Inputs O & M'!$E$198*'DNSP Inputs O & M'!$E$200","v":9.6},null,{"$f":"AM234*AN234","v":152.40960000000001},null,null,null,null,null,{"$f":"'DNSP Inputs O & M'!$F$188","v":15.120000000000001},{"$f":"'DNSP Inputs O & M'!$F$196*'DNSP Inputs O & M'!$F$200","v":14.4},null,{"$f":"AV234*AW234","v":217.72800000000001},null,null,null,{"$f":"'DNSP Inputs O & M'!$F$188*(1+'DNSP Inputs O & M'!$F$11)","v":15.876000000000001},{"$f":"'DNSP Inputs O & M'!$F$197*'DNSP Inputs O & M'!$F$200","v":12},null,{"$f":"BC234*BD234","v":190.512},null,null,null,{"$f":"'DNSP Inputs O & M'!$F$188*(1+'DNSP Inputs O & M'!$F$11)","v":15.876000000000001},{"$f":"'DNSP Inputs O & M'!$F$198*'DNSP Inputs O & M'!$F$200","v":9.6},null,{"$f":"BJ234*BK234","v":152.40960000000001},null,null,null,null,null,{"$f":"'DNSP Inputs O & M'!$G$188","v":15.120000000000001},{"$f":"'DNSP Inputs O & M'!$G$196*'DNSP Inputs O & M'!$G$200","v":14.4},null,{"$f":"BS234*BT234","v":217.72800000000001},null,null,null,{"$f":"'DNSP Inputs O & M'!$G$188*(1+'DNSP Inputs O & M'!$G$11)","v":15.876000000000001},{"$f":"'DNSP Inputs O & M'!$G$197*'DNSP Inputs O & M'!$G$200","v":12},null,{"$f":"BZ234*CA234","v":190.512},null,null,null,{"$f":"'DNSP Inputs O & M'!$G$188*(1+'DNSP Inputs O & M'!$G$11)","v":15.876000000000001},{"$f":"'DNSP Inputs O & M'!$G$198*'DNSP Inputs O & M'!$G$200","v":9.6},null,{"$f":"CG234*CH234","v":152.40960000000001},null,null,null,null,null,{"$f":"'DNSP Inputs O & M'!$H$188","v":15.120000000000001},{"$f":"'DNSP Inputs O & M'!$H$196*'DNSP Inputs O & M'!$H$200","v":14.4},null,{"$f":"CP234*CQ234","v":217.72800000000001},null,null,null,{"$f":"'DNSP Inputs O & M'!$H$188*(1+'DNSP Inputs O & M'!$H$11)","v":15.876000000000001},{"$f":"'DNSP Inputs O & M'!$H$197*'DNSP Inputs O & M'!$H$200","v":12},null,{"$f":"CW234*CX234","v":190.512},null,null,null,{"$f":"'DNSP Inputs O & M'!$H$188*(1+'DNSP Inputs O & M'!$H$11)","v":15.876000000000001},{"$f":"'DNSP Inputs O & M'!$H$198*'DNSP Inputs O & M'!$H$200","v":9.6},null,{"$f":"DD234*DE234","v":152.40960000000001}]
["Luminaire",{"$f":"'DNSP Inputs O & M'!$D$189","v":260.27999999999997},{"$f":"'DNSP Inputs O & M'!$D$196*'DNSP Inputs O & M'!$D$201","v":0},null,{"$f":"B235*C235","v":0},null,null,null,{"$f":"'DNSP Inputs O & M'!$D$189*(1+'DNSP Inputs O & M'!$D$11)","v":273.29399999999998},{"$f":"'DNSP Inputs O & M'!$D$197*'DNSP Inputs O & M'!$D$201","v":0},null,{"$f":"I235*J235","v":0},null,null,null,{"$f":"'DNSP Inputs O & M'!$D$189*(1+'DNSP Inputs O & M'!$D$11)","v":273.29399999999998},{"$f":"'DNSP Inputs O & M'!$D$198*'DNSP Inputs O & M'!$D$201","v":0},null,{"$f":"P235*Q235","v":0},null,null,null,null,null,{"$f":"'DNSP Inputs O & M'!$E$189","v":260.27999999999997},{"$f":"'DNSP Inputs O & M'!$E$196*'DNSP Inputs O & M'!$E$201","v":0},null,{"$f":"Y235*Z235","v":0},null,null,null,{"$f":"'DNSP Inputs O & M'!$E$189*(1+'DNSP Inputs O & M'!$E$11)","v":273.29399999999998},{"$f":"'DNSP Inputs O & M'!$E$197*'DNSP Inputs O & M'!$E$201","v":0},null,{"$f":"AF235*AG235","v":0},null,null,null,{"$f":"'DNSP Inputs O & M'!$E$189*(1+'DNSP Inputs O & M'!$E$11)","v":273.29399999999998},{"$f":"'DNSP Inputs O & M'!$E$198*'DNSP Inputs O & M'!$E$201","v":0},null,{"$f":"AM235*AN235","v":0},null,null,null,null,null,{"$f":"'DNSP Inputs O & M'!$F$189","v":260.27999999999997},{"$f":"'DNSP Inputs O & M'!$F$196*'DNSP Inputs O & M'!$F$201","v":0},null,{"$f":"AV235*AW235","v":0},null,null,null,{"$f":"'DNSP Inputs O & M'!$F$189*(1+'DNSP Inputs O & M'!$F$11)","v":273.29399999999998},{"$f":"'DNSP Inputs O & M'!$F$197*'DNSP Inputs O & M'!$F$201","v":0},null,{"$f":"BC235*BD235","v":0},null,null,null,{"$f":"'DNSP Inputs O & M'!$F$189*(1+'DNSP Inputs O & M'!$F$11)","v":273.29399999999998},{"$f":"'DNSP Inputs O & M'!$F$198*'DNSP Inputs O & M'!$F$201","v":0},null,{"$f":"BJ235*BK235","v":0},null,null,null,null,null,{"$f":"'DNSP Inputs O & M'!$G$189","v":260.27999999999997},{"$f":"'DNSP Inputs O & M'!$G$196*'DNSP Inputs O & M'!$G$201","v":0},null,{"$f":"BS235*BT235","v":0},null,null,null,{"$f":"'DNSP Inputs O & M'!$G$189*(1+'DNSP Inputs O & M'!$G$11)","v":273.29399999999998},{"$f":"'DNSP Inputs O & M'!$G$197*'DNSP Inputs O & M'!$G$201","v":0},null,{"$f":"BZ235*CA235","v":0},null,null,null,{"$f":"'DNSP Inputs O & M'!$G$189*(1+'DNSP Inputs O & M'!$G$11)","v":273.29399999999998},{"$f":"'DNSP Inputs O & M'!$G$198*'DNSP Inputs O & M'!$G$201","v":0},null,{"$f":"CG235*CH235","v":0},null,null,null,null,null,{"$f":"'DNSP Inputs O & M'!$H$189","v":260.27999999999997},{"$f":"'DNSP Inputs O & M'!$H$196*'DNSP Inputs O & M'!$H$201","v":0},null,{"$f":"CP235*CQ235","v":0},null,null,null,{"$f":"'DNSP Inputs O & M'!$H$189*(1+'DNSP Inputs O & M'!$H$11)","v":273.29399999999998},{"$f":"'DNSP Inputs O & M'!$H$197*'DNSP Inputs O & M'!$H$201","v":0},null,{"$f":"CW235*CX235","v":0},null,null,null,{"$f":"'DNSP Inputs O & M'!$H$189*(1+'DNSP Inputs O & M'!$H$11)","v":273.29399999999998},{"$f":"'DNSP Inputs O & M'!$H$198*'DNSP Inputs O & M'!$H$201","v":0},null,{"$f":"DD235*DE235","v":0}]
["Miscellaneous",{"$f":"'DNSP Inputs O & M'!$D$191","v":13.476456706921033},{"$f":"'DNSP Inputs O & M'!$D$196*'DNSP Inputs O & M'!$D$202","v":2.8800000000000003},null,{"$f":"B236*C236","v":38.812195315932577},null,null,null,{"$f":"'DNSP Inputs O & M'!$D$191*(1+'DNSP Inputs O & M'!$D$11)","v":14.150279542267084},{"$f":"'DNSP Inputs O & M'!$D$197*'DNSP Inputs O & M'!$D$202","v":2.4000000000000004},null,{"$f":"I236*J236","v":33.960670901441006},null,null,null,{"$f":"'DNSP Inputs O & M'!$D$191*(1+'DNSP Inputs O & M'!$D$11)","v":14.150279542267084},{"$f":"'DNSP Inputs O & M'!$D$198*'DNSP Inputs O & M'!$D$202","v":1.92},null,{"$f":"P236*Q236","v":27.168536721152801},null,null,null,null,null,{"$f":"'DNSP Inputs O & M'!$E$191","v":13.476456706921033},{"$f":"'DNSP Inputs O & M'!$E$196*'DNSP Inputs O & M'!$E$202","v":2.8800000000000003},null,{"$f":"Y236*Z236","v":38.812195315932577},null,null,null,{"$f":"'DNSP Inputs O & M'!$E$191*(1+'DNSP Inputs O & M'!$E$11)","v":14.150279542267084},{"$f":"'DNSP Inputs O & M'!$E$197*'DNSP Inputs O & M'!$E$202","v":2.4000000000000004},null,{"$f":"AF236*AG236","v":33.960670901441006},null,null,null,{"$f":"'DNSP Inputs O & M'!$E$191*(1+'DNSP Inputs O & M'!$E$11)","v":14.150279542267084},{"$f":"'DNSP Inputs O & M'!$E$198*'DNSP Inputs O & M'!$E$202","v":1.92},null,{"$f":"AM236*AN236","v":27.168536721152801},null,null,null,null,null,{"$f":"'DNSP Inputs O & M'!$F$191","v":13.476456706921033},{"$f":"'DNSP Inputs O & M'!$F$196*'DNSP Inputs O & M'!$F$202","v":2.8800000000000003},null,{"$f":"AV236*AW236","v":38.812195315932577},null,null,null,{"$f":"'DNSP Inputs O & M'!$F$191*(1+'DNSP Inputs O & M'!$F$11)","v":14.150279542267084},{"$f":"'DNSP Inputs O & M'!$F$197*'DNSP Inputs O & M'!$F$202","v":2.4000000000000004},null,{"$f":"BC236*BD236","v":33.960670901441006},null,null,null,{"$f":"'DNSP Inputs O & M'!$F$191*(1+'DNSP Inputs O & M'!$F$11)","v":14.150279542267084},{"$f":"'DNSP Inputs O & M'!$F$198*'DNSP Inputs O & M'!$F$202","v":1.92},null,{"$f":"BJ236*BK236","v":27.168536721152801},null,null,null,null,null,{"$f":"'DNSP Inputs O & M'!$G$191","v":13.476456706921033},{"$f":"'DNSP Inputs O & M'!$G$196*'DNSP Inputs O & M'!$G$202","v":2.8800000000000003},null,{"$f":"BS236*BT236","v":38.812195315932577},null,null,null,{"$f":"'DNSP Inputs O & M'!$G$191*(1+'DNSP Inputs O & M'!$G$11)","v":14.150279542267084},{"$f":"'DNSP Inputs O & M'!$G$197*'DNSP Inputs O & M'!$G$202","v":2.4000000000000004},null,{"$f":"BZ236*CA236","v":33.960670901441006},null,null,null,{"$f":"'DNSP Inputs O & M'!$G$191*(1+'DNSP Inputs O & M'!$G$11)","v":14.150279542267084},{"$f":"'DNSP Inputs O & M'!$G$198*'DNSP Inputs O & M'!$G$202","v":1.92},null,{"$f":"CG236*CH236","v":27.168536721152801},null,null,null,null,null,{"$f":"'DNSP Inputs O & M'!$H$191","v":13.476456706921033},{"$f":"'DNSP Inputs O & M'!$H$196*'DNSP Inputs O & M'!$H$202","v":2.8800000000000003},null,{"$f":"CP236*CQ236","v":38.812195315932577},null,null,null,{"$f":"'DNSP Inputs O & M'!$H$191*(1+'DNSP Inputs O & M'!$H$11)","v":14.150279542267084},{"$f":"'DNSP Inputs O & M'!$H$197*'DNSP Inputs O & M'!$H$202","v":2.4000000000000004},null,{"$f":"CW236*CX236","v":33.960670901441006},null,null,null,{"$f":"'DNSP Inputs O & M'!$H$191*(1+'DNSP Inputs O & M'!$H$11)","v":14.150279542267084},{"$f":"'DNSP Inputs O & M'!$H$198*'DNSP Inputs O & M'!$H$202","v":1.92},null,{"$f":"DD236*DE236","v":27.168536721152801}]
["Labour - bulk lamp change"]
["Crew costs",{"$f":"'DNSP Inputs O & M'!$D$12","v":111.36223236834823},{"$f":"'DNSP Inputs O & M'!$D$192","v":2},{"$f":"'DNSP Inputs O & M'!$D$17","v":7.5},{"$f":"B238*C238*D238","v":1670.4334855252234},{"$f":"E238/'DNSP Inputs O & M'!$D$183*(C229+C230)/C229*0.8","v":501.13004565756705},{"$f":"(F238+F239)/C229","v":7.1399423913670583},null,{"$f":"'DNSP Inputs O & M'!$D$12","v":111.36223236834823},{"$f":"'DNSP Inputs O & M'!$D$192","v":2},{"$f":"'DNSP Inputs O & M'!$D$17","v":7.5},{"$f":"I238*J238*K238","v":1670.4334855252234},{"$f":"L238/'DNSP Inputs O & M'!$D$183*(J229+J230)/J229*0.8","v":501.13004565756705},{"$f":"(M238+M239)/J229","v":8.9488895230217658},null,{"$f":"'DNSP Inputs O & M'!$D$12","v":111.36223236834823},{"$f":"'DNSP Inputs O & M'!$D$192","v":2},{"$f":"'DNSP Inputs O & M'!$D$17","v":7.5},{"$f":"P238*Q238*R238","v":1670.4334855252234},{"$f":"S238/'DNSP Inputs O & M'!$D$183*(Q229+Q230)/Q229*0.8","v":501.13004565756705},{"$f":"(T238+T239)/Q229","v":10.738667427626119},null,null,null,{"$f":"'DNSP Inputs O & M'!$E$12","v":111.08407886363248},{"$f":"'DNSP Inputs O & M'!$E$192","v":2},{"$f":"'DNSP Inputs O & M'!$E$17","v":7.5},{"$f":"Y238*Z238*AA238","v":1666.2611829544874},{"$f":"AB238/'DNSP Inputs O & M'!$E$183*(Z229+Z230)/Z229*0.8","v":499.87835488634619},{"$f":"(AC238+AC239)/Z229","v":7.1253878475156531},null,{"$f":"'DNSP Inputs O & M'!$E$12","v":111.08407886363248},{"$f":"'DNSP Inputs O & M'!$E$192","v":2},{"$f":"'DNSP Inputs O & M'!$E$17","v":7.5},{"$f":"AF238*AG238*AH238","v":1666.2611829544874},{"$f":"AI238/'DNSP Inputs O & M'!$E$183*(AG229+AG230)/AG229*0.8","v":499.8783548863463},{"$f":"(AJ238+AJ239)/AG229","v":8.9315049289770325},null,{"$f":"'DNSP Inputs O & M'!$E$12","v":111.08407886363248},{"$f":"'DNSP Inputs O & M'!$E$192","v":2},{"$f":"'DNSP Inputs O & M'!$E$17","v":7.5},{"$f":"AM238*AN238*AO238","v":1666.2611829544874},{"$f":"AP238/'DNSP Inputs O & M'!$E$183*(AN229+AN230)/AN229*0.8","v":499.87835488634619},{"$f":"(AQ238+AQ239)/AN229","v":10.717805914772438},null,null,null,{"$f":"'DNSP Inputs O & M'!$F$12","v":111.00339776810097},{"$f":"'DNSP Inputs O & M'!$F$192","v":2},{"$f":"'DNSP Inputs O & M'!$F$17","v":7.5},{"$f":"AV238*AW238*AX238","v":1665.0509665215145},{"$f":"AY238/'DNSP Inputs O & M'!$F$183*(AW229+AW230)/AW229*0.8","v":499.51528995645441},{"$f":"(AZ238+AZ239)/AW229","v":7.1211661622843536},null,{"$f":"'DNSP Inputs O & M'!$F$12","v":111.00339776810097},{"$f":"'DNSP Inputs O & M'!$F$192","v":2},{"$f":"'DNSP Inputs O & M'!$F$17","v":7.5},{"$f":"BC238*BD238*BE238","v":1665.0509665215145},{"$f":"BF238/'DNSP Inputs O & M'!$F$183*(BD229+BD230)/BD229*0.8","v":499.51528995645441},{"$f":"(BG238+BG239)/BD229","v":8.9264623605063118},null,{"$f":"'DNSP Inputs O & M'!$F$12","v":111.00339776810097},{"$f":"'DNSP Inputs O & M'!$F$192","v":2},{"$f":"'DNSP Inputs O & M'!$F$17","v":7.5},{"$f":"BJ238*BK238*BL238","v":1665.0509665215145},{"$f":"BM238/'DNSP Inputs O & M'!$F$183*(BK229+BK230)/BK229*0.8","v":499.51528995645441},{"$f":"(BN238+BN239)/BK229","v":10.711754832607573},null,null,null,{"$f":"'DNSP Inputs O & M'!$G$12","v":111.41108530292857},{"$f":"'DNSP Inputs O & M'!$G$192","v":2},{"$f":"'DNSP Inputs O & M'!$G$17","v":7.5},{"$f":"BS238*BT238*BU238","v":1671.1662795439286},{"$f":"BV238/'DNSP Inputs O & M'!$G$183*(BT229+BT230)/BT229*0.8","v":501.34988386317855},{"$f":"(BW238+BW239)/BT229","v":7.1424986495718432},null,{"$f":"'DNSP Inputs O & M'!$G$12","v":111.41108530292857},{"$f":"'DNSP Inputs O & M'!$G$192","v":2},{"$f":"'DNSP Inputs O & M'!$G$17","v":7.5},{"$f":"BZ238*CA238*CB238","v":1671.1662795439286},{"$f":"CC238/'DNSP Inputs O & M'!$G$183*(CA229+CA230)/CA229*0.8","v":501.34988386317855},{"$f":"(CD238+CD239)/CA229","v":8.9519428314330369},null,{"$f":"'DNSP Inputs O & M'!$G$12","v":111.41108530292857},{"$f":"'DNSP Inputs O & M'!$G$192","v":2},{"$f":"'DNSP Inputs O & M'!$G$17","v":7.5},{"$f":"CG238*CH238*CI238","v":1671.1662795439286},{"$f":"CJ238/'DNSP Inputs O & M'!$G$183*(CH229+CH230)/CH229*0.8","v":501.34988386317855},{"$f":"(CK238+CK239)/CH229","v":10.742331397719644},null,null,null,{"$f":"'DNSP Inputs O & M'!$H$12","v":112.5214007824073},{"$f":"'DNSP Inputs O & M'!$H$192","v":2},{"$f":"'DNSP Inputs O & M'!$H$17","v":7.5},{"$f":"CP238*CQ238*CR238","v":1687.8210117361095},{"$f":"CS238/'DNSP Inputs O & M'!$H$183*(CQ229+CQ230)/CQ229*0.8","v":506.34630352083286},{"$f":"(CT238+CT239)/CQ229","v":7.2005965525678235},null,{"$f":"'DNSP Inputs O & M'!$H$12","v":112.5214007824073},{"$f":"'DNSP Inputs O & M'!$H$192","v":2},{"$f":"'DNSP Inputs O & M'!$H$17","v":7.5},{"$f":"CW238*CX238*CY238","v":1687.8210117361095},{"$f":"CZ238/'DNSP Inputs O & M'!$H$183*(CX229+CX230)/CX229*0.8","v":506.34630352083286},{"$f":"(DA238+DA239)/CX229","v":9.0213375489004566},null,{"$f":"'DNSP Inputs O & M'!$H$12","v":112.5214007824073},{"$f":"'DNSP Inputs O & M'!$H$192","v":2},{"$f":"'DNSP Inputs O & M'!$H$17","v":7.5},{"$f":"DD238*DE238*DF238","v":1687.8210117361095},{"$f":"DG238/'DNSP Inputs O & M'!$H$183*(DE229+DE230)/DE229*0.8","v":506.34630352083286},{"$f":"(DH238+DH239)/DE229","v":10.825605058680548}]
["Elevated platform vehicle costs",{"$f":"'DNSP Inputs O & M'!$D$14","v":50.18},1,{"$f":"'DNSP Inputs O & M'!$D$17","v":7.5},{"$f":"B239*C239*D239","v":376.35},{"$f":"E239/'DNSP Inputs O & M'!$D$183*(C229+C230)/C229*0.8","v":112.905},null,null,{"$f":"'DNSP Inputs O & M'!$D$15","v":63.64},1,{"$f":"'DNSP Inputs O & M'!$D$17","v":7.5},{"$f":"I239*J239*K239","v":477.3},{"$f":"L239/'DNSP Inputs O & M'!$D$183*(J229+J230)/J229*0.8","v":143.19000000000003},null,null,{"$f":"'DNSP Inputs O & M'!$D$15","v":63.64},1,{"$f":"'DNSP Inputs O & M'!$D$17","v":7.5},{"$f":"P239*Q239*R239","v":477.3},{"$f":"S239/'DNSP Inputs O & M'!$D$183*(Q229+Q230)/Q229*0.8","v":143.19000000000003},null,null,null,null,{"$f":"'DNSP Inputs O & M'!$E$14","v":50.18},1,{"$f":"'DNSP Inputs O & M'!$E$17","v":7.5},{"$f":"Y239*Z239*AA239","v":376.35},{"$f":"AB239/'DNSP Inputs O & M'!$E$183*(Z229+Z230)/Z229*0.8","v":112.905},null,null,{"$f":"'DNSP Inputs O & M'!$E$15","v":63.64},1,{"$f":"'DNSP Inputs O & M'!$E$17","v":7.5},{"$f":"AF239*AG239*AH239","v":477.3},{"$f":"AI239/'DNSP Inputs O & M'!$E$183*(AG229+AG230)/AG229*0.8","v":143.19000000000003},null,null,{"$f":"'DNSP Inputs O & M'!$E$15","v":63.64},1,{"$f":"'DNSP Inputs O & M'!$E$17","v":7.5},{"$f":"AM239*AN239*AO239","v":477.3},{"$f":"AP239/'DNSP Inputs O & M'!$E$183*(AN229+AN230)/AN229*0.8","v":143.19000000000003},null,null,null,null,{"$f":"'DNSP Inputs O & M'!$F$14","v":50.18},1,{"$f":"'DNSP Inputs O & M'!$F$17","v":7.5},{"$f":"AV239*AW239*AX239","v":376.35},{"$f":"AY239/'DNSP Inputs O & M'!$F$183*(AW229+AW230)/AW229*0.8","v":112.905},null,null,{"$f":"'DNSP Inputs O & M'!$F$15","v":63.64},1,{"$f":"'DNSP Inputs O & M'!$F$17","v":7.5},{"$f":"BC239*BD239*BE239","v":477.3},{"$f":"BF239/'DNSP Inputs O & M'!$F$183*(BD229+BD230)/BD229*0.8","v":143.19000000000003},null,null,{"$f":"'DNSP Inputs O & M'!$F$15","v":63.64},1,{"$f":"'DNSP Inputs O & M'!$F$17","v":7.5},{"$f":"BJ239*BK239*BL239","v":477.3},{"$f":"BM239/'DNSP Inputs O & M'!$F$183*(BK229+BK230)/BK229*0.8","v":143.19000000000003},null,null,null,null,{"$f":"'DNSP Inputs O & M'!$G$14","v":50.18},1,{"$f":"'DNSP Inputs O & M'!$G$17","v":7.5},{"$f":"BS239*BT239*BU239","v":376.35},{"$f":"BV239/'DNSP Inputs O & M'!$G$183*(BT229+BT230)/BT229*0.8","v":112.905},null,null,{"$f":"'DNSP Inputs O & M'!$G$15","v":63.64},1,{"$f":"'DNSP Inputs O & M'!$G$17","v":7.5},{"$f":"BZ239*CA239*CB239","v":477.3},{"$f":"CC239/'DNSP Inputs O & M'!$G$183*(CA229+CA230)/CA229*0.8","v":143.19000000000003},null,null,{"$f":"'DNSP Inputs O & M'!$G$15","v":63.64},1,{"$f":"'DNSP Inputs O & M'!$G$17","v":7.5},{"$f":"CG239*CH239*CI239","v":477.3},{"$f":"CJ239/'DNSP Inputs O & M'!$G$183*(CH229+CH230)/CH229*0.8","v":143.19000000000003},null,null,null,null,{"$f":"'DNSP Inputs O & M'!$H$14","v":50.18},1,{"$f":"'DNSP Inputs O & M'!$H$17","v":7.5},{"$f":"CP239*CQ239*CR239","v":376.35},{"$f":"CS239/'DNSP Inputs O & M'!$H$183*(CQ229+CQ230)/CQ229*0.8","v":112.905},null,null,{"$f":"'DNSP Inputs O & M'!$H$15","v":63.64},1,{"$f":"'DNSP Inputs O & M'!$H$17","v":7.5},{"$f":"CW239*CX239*CY239","v":477.3},{"$f":"CZ239/'DNSP Inputs O & M'!$H$183*(CX229+CX230)/CX229*0.8","v":143.19000000000003},null,null,{"$f":"'DNSP Inputs O & M'!$H$15","v":63.64},1,{"$f":"'DNSP Inputs O & M'!$H$17","v":7.5},{"$f":"DD239*DE239*DF239","v":477.3},{"$f":"DG239/'DNSP Inputs O & M'!$H$183*(DE229+DE230)/DE229*0.8","v":143.19000000000003}]
["Labour - repair of faults"]
["Crew costs",{"$f":"'DNSP Inputs O & M'!$D$12","v":111.36223236834823},{"$f":"'DNSP Inputs O & M'!$D$192","v":2},{"$f":"'DNSP Inputs O & M'!$D$17","v":7.5},{"$f":"B241*C241*D241","v":1670.4334855252234},{"$f":"(E241+E242)/'DNSP Inputs O & M'!$D$196","v":71.068871025181366},{"$f":"F241*D218","v":7.3850570815045389},null,{"$f":"'DNSP Inputs O & M'!$D$12","v":111.36223236834823},{"$f":"'DNSP Inputs O & M'!$D$192","v":2},{"$f":"'DNSP Inputs O & M'!$D$17","v":7.5},{"$f":"I241*J241*K241","v":1670.4334855252234},{"$f":"(L241+L242)/'DNSP Inputs O & M'!$D$197","v":89.488895230217636},{"$f":"M241*D218","v":9.2991571401460842},null,{"$f":"'DNSP Inputs O & M'!$D$12","v":111.36223236834823},{"$f":"'DNSP Inputs O & M'!$D$192","v":2},{"$f":"'DNSP Inputs O & M'!$D$17","v":7.5},{"$f":"P241*Q241*R241","v":1670.4334855252234},{"$f":"(S241+S242)/'DNSP Inputs O & M'!$D$198","v":111.86111903777206},{"$f":"T241*D218","v":11.623946425182607},null,null,null,{"$f":"'DNSP Inputs O & M'!$E$12","v":111.08407886363248},{"$f":"'DNSP Inputs O & M'!$E$192","v":2},{"$f":"'DNSP Inputs O & M'!$E$17","v":7.5},{"$f":"Y241*Z241*AA241","v":1666.2611829544874},{"$f":"(AB241+AB242)/'DNSP Inputs O & M'!$E$196","v":70.923999408141924},{"$f":"AC241*AA218","v":7.3700028792090349},null,{"$f":"'DNSP Inputs O & M'!$E$12","v":111.08407886363248},{"$f":"'DNSP Inputs O & M'!$E$192","v":2},{"$f":"'DNSP Inputs O & M'!$E$17","v":7.5},{"$f":"AF241*AG241*AH241","v":1666.2611829544874},{"$f":"(AI241+AI242)/'DNSP Inputs O & M'!$E$197","v":89.3150492897703},{"$f":"AJ241*AA218","v":9.2810920973914808},null,{"$f":"'DNSP Inputs O & M'!$E$12","v":111.08407886363248},{"$f":"'DNSP Inputs O & M'!$E$192","v":2},{"$f":"'DNSP Inputs O & M'!$E$17","v":7.5},{"$f":"AM241*AN241*AO241","v":1666.2611829544874},{"$f":"(AP241+AP242)/'DNSP Inputs O & M'!$E$198","v":111.64381161221289},{"$f":"AQ241*AA218","v":11.601365121739351},null,null,null,{"$f":"'DNSP Inputs O & M'!$F$12","v":111.00339776810097},{"$f":"'DNSP Inputs O & M'!$F$192","v":2},{"$f":"'DNSP Inputs O & M'!$F$17","v":7.5},{"$f":"AV241*AW241*AX241","v":1665.0509665215145},{"$f":"(AY241+AY242)/'DNSP Inputs O & M'!$F$196","v":70.881978004219249},{"$f":"AZ241*AX218","v":7.3656362632471195},null,{"$f":"'DNSP Inputs O & M'!$F$12","v":111.00339776810097},{"$f":"'DNSP Inputs O & M'!$F$192","v":2},{"$f":"'DNSP Inputs O & M'!$F$17","v":7.5},{"$f":"BC241*BD241*BE241","v":1665.0509665215145},{"$f":"(BF241+BF242)/'DNSP Inputs O & M'!$F$197","v":89.264623605063107},{"$f":"BG241*AX218","v":9.275852158237182},null,{"$f":"'DNSP Inputs O & M'!$F$12","v":111.00339776810097},{"$f":"'DNSP Inputs O & M'!$F$192","v":2},{"$f":"'DNSP Inputs O & M'!$F$17","v":7.5},{"$f":"BJ241*BK241*BL241","v":1665.0509665215145},{"$f":"(BM241+BM242)/'DNSP Inputs O & M'!$F$198","v":111.58077950632889},{"$f":"BN241*AX218","v":11.594815197796478},null,null,null,{"$f":"'DNSP Inputs O & M'!$G$12","v":111.41108530292857},{"$f":"'DNSP Inputs O & M'!$G$192","v":2},{"$f":"'DNSP Inputs O & M'!$G$17","v":7.5},{"$f":"BS241*BT241*BU241","v":1671.1662795439286},{"$f":"(BV241+BV242)/'DNSP Inputs O & M'!$G$196","v":71.094315261941972},{"$f":"BW241*BU218","v":7.3877010962209937},null,{"$f":"'DNSP Inputs O & M'!$G$12","v":111.41108530292857},{"$f":"'DNSP Inputs O & M'!$G$192","v":2},{"$f":"'DNSP Inputs O & M'!$G$17","v":7.5},{"$f":"BZ241*CA241*CB241","v":1671.1662795439286},{"$f":"(CC241+CC242)/'DNSP Inputs O & M'!$G$197","v":89.519428314330355},{"$f":"CD241*BU218","v":9.3023299578058296},null,{"$f":"'DNSP Inputs O & M'!$G$12","v":111.41108530292857},{"$f":"'DNSP Inputs O & M'!$G$192","v":2},{"$f":"'DNSP Inputs O & M'!$G$17","v":7.5},{"$f":"CG241*CH241*CI241","v":1671.1662795439286},{"$f":"(CJ241+CJ242)/'DNSP Inputs O & M'!$G$198","v":111.89928539291294},{"$f":"CK241*BU218","v":11.627912447257287},null,null,null,{"$f":"'DNSP Inputs O & M'!$H$12","v":112.5214007824073},{"$f":"'DNSP Inputs O & M'!$H$192","v":2},{"$f":"'DNSP Inputs O & M'!$H$17","v":7.5},{"$f":"CP241*CQ241*CR241","v":1687.8210117361095},{"$f":"(CS241+CS242)/'DNSP Inputs O & M'!$H$196","v":71.672604574170464},{"$f":"CT241*CR218","v":7.4477935040336662},null,{"$f":"'DNSP Inputs O & M'!$H$12","v":112.5214007824073},{"$f":"'DNSP Inputs O & M'!$H$192","v":2},{"$f":"'DNSP Inputs O & M'!$H$17","v":7.5},{"$f":"CW241*CX241*CY241","v":1687.8210117361095},{"$f":"(CZ241+CZ242)/'DNSP Inputs O & M'!$H$197","v":90.213375489004576},{"$f":"DA241*CR218","v":9.3744408471810399},null,{"$f":"'DNSP Inputs O & M'!$H$12","v":112.5214007824073},{"$f":"'DNSP Inputs O & M'!$H$192","v":2},{"$f":"'DNSP Inputs O & M'!$H$17","v":7.5},{"$f":"DD241*DE241*DF241","v":1687.8210117361095},{"$f":"(DG241+DG242)/'DNSP Inputs O & M'!$H$198","v":112.76671936125572},{"$f":"DH241*CR218","v":11.7180510589763}]
["Elevated platform vehicle costs",{"$f":"'DNSP Inputs O & M'!$D$14","v":50.18},1,{"$f":"'DNSP Inputs O & M'!$D$17","v":7.5},{"$f":"B242*C242*D242","v":376.35},null,null,null,{"$f":"'DNSP Inputs O & M'!$D$15","v":63.64},1,{"$f":"'DNSP Inputs O & M'!$D$17","v":7.5},{"$f":"I242*J242*K242","v":477.3},null,null,null,{"$f":"'DNSP Inputs O & M'!$D$15","v":63.64},1,{"$f":"'DNSP Inputs O & M'!$D$17","v":7.5},{"$f":"P242*Q242*R242","v":477.3},null,null,null,null,null,{"$f":"'DNSP Inputs O & M'!$E$14","v":50.18},1,{"$f":"'DNSP Inputs O & M'!$E$17","v":7.5},{"$f":"Y242*Z242*AA242","v":376.35},null,null,null,{"$f":"'DNSP Inputs O & M'!$E$15","v":63.64},1,{"$f":"'DNSP Inputs O & M'!$E$17","v":7.5},{"$f":"AF242*AG242*AH242","v":477.3},null,null,null,{"$f":"'DNSP Inputs O & M'!$E$15","v":63.64},1,{"$f":"'DNSP Inputs O & M'!$E$17","v":7.5},{"$f":"AM242*AN242*AO242","v":477.3},null,null,null,null,null,{"$f":"'DNSP Inputs O & M'!$F$14","v":50.18},1,{"$f":"'DNSP Inputs O & M'!$F$17","v":7.5},{"$f":"AV242*AW242*AX242","v":376.35},null,null,null,{"$f":"'DNSP Inputs O & M'!$F$15","v":63.64},1,{"$f":"'DNSP Inputs O & M'!$F$17","v":7.5},{"$f":"BC242*BD242*BE242","v":477.3},null,null,null,{"$f":"'DNSP Inputs O & M'!$F$15","v":63.64},1,{"$f":"'DNSP Inputs O & M'!$F$17","v":7.5},{"$f":"BJ242*BK242*BL242","v":477.3},null,null,null,null,null,{"$f":"'DNSP Inputs O & M'!$G$14","v":50.18},1,{"$f":"'DNSP Inputs O & M'!$G$17","v":7.5},{"$f":"BS242*BT242*BU242","v":376.35},null,null,null,{"$f":"'DNSP Inputs O & M'!$G$15","v":63.64},1,{"$f":"'DNSP Inputs O & M'!$G$17","v":7.5},{"$f":"BZ242*CA242*CB242","v":477.3},null,null,null,{"$f":"'DNSP Inputs O & M'!$G$15","v":63.64},1,{"$f":"'DNSP Inputs O & M'!$G$17","v":7.5},{"$f":"CG242*CH242*CI242","v":477.3},null,null,null,null,null,{"$f":"'DNSP Inputs O & M'!$H$14","v":50.18},1,{"$f":"'DNSP Inputs O & M'!$H$17","v":7.5},{"$f":"CP242*CQ242*CR242","v":376.35},null,null,null,{"$f":"'DNSP Inputs O & M'!$H$15","v":63.64},1,{"$f":"'DNSP Inputs O & M'!$H$17","v":7.5},{"$f":"CW242*CX242*CY242","v":477.3},null,null,null,{"$f":"'DNSP Inputs O & M'!$H$15","v":63.64},1,{"$f":"'DNSP Inputs O & M'!$H$17","v":7.5},{"$f":"DD242*DE242*DF242","v":477.3}]
["Other Maintenance and Repair costs",null,null,null,null,null,{"$f":"'DNSP Inputs O & M'!$D$209","v":1.05},null,null,null,null,null,null,{"$f":"'DNSP Inputs O & M'!$D$209","v":1.05},null,null,null,null,null,null,{"$f":"'DNSP Inputs O & M'!$D$209","v":1.05},null,null,null,null,null,null,null,null,{"$f":"'DNSP Inputs O & M'!$E$209","v":1.05},null,null,null,null,null,null,{"$f":"'DNSP Inputs O & M'!$E$209","v":1.05},null,null,null,null,null,null,{"$f":"'DNSP Inputs O & M'!$E$209","v":1.05},null,null,null,null,null,null,null,null,{"$f":"'DNSP Inputs O & M'!$F$209","v":1.05},null,null,null,null,null,null,{"$f":"'DNSP Inputs O & M'!$F$209","v":1.05},null,null,null,null,null,null,{"$f":"'DNSP Inputs O & M'!$F$209","v":1.05},null,null,null,null,null,null,null,null,{"$f":"'DNSP Inputs O & M'!$G$209","v":1.05},null,null,null,null,null,null,{"$f":"'DNSP Inputs O & M'!$G$209","v":1.05},null,null,null,null,null,null,{"$f":"'DNSP Inputs O & M'!$G$209","v":1.05},null,null,null,null,null,null,null,null,{"$f":"'DNSP Inputs O & M'!$H$209","v":1.05},null,null,null,null,null,null,{"$f":"'DNSP Inputs O & M'!$H$209","v":1.05},null,null,null,null,null,null,{"$f":"'DNSP Inputs O & M'!$H$209","v":1.05}]
[]
["Overheads",{"$f":"'DNSP Inputs O & M'!$D$18","v":0.25},null,null,null,null,{"$f":"B245*SUM(G229:G243)","v":5.196295245626489},null,{"$f":"'DNSP Inputs O & M'!$D$18","v":0.25},null,null,null,null,{"$f":"I245*SUM(N229:N243)","v":6.1921843120709807},null,{"$f":"'DNSP Inputs O & M'!$D$18","v":0.25},null,null,null,null,{"$f":"P245*SUM(U229:U243)","v":7.2208261094812007},null,null,null,{"$f":"'DNSP Inputs O & M'!$E$18","v":0.25},null,null,null,null,{"$f":"Y245*SUM(AD229:AD243)","v":5.1888930590897617},null,{"$f":"'DNSP Inputs O & M'!$E$18","v":0.25},null,null,null,null,{"$f":"AF245*SUM(AK229:AK243)","v":6.183321902871147},null,{"$f":"'DNSP Inputs O & M'!$E$18","v":0.25},null,null,null,null,{"$f":"AM245*SUM(AR229:AR243)","v":7.2099654054069662},null,null,null,{"$f":"'DNSP Inputs O & M'!$F$18","v":0.25},null,null,null,null,{"$f":"AV245*SUM(BA229:BA243)","v":5.1867459837914573},null,{"$f":"'DNSP Inputs O & M'!$F$18","v":0.25},null,null,null,null,{"$f":"BC245*SUM(BH229:BH243)","v":6.1807512759648917},null,{"$f":"'DNSP Inputs O & M'!$F$18","v":0.25},null,null,null,null,{"$f":"BJ245*SUM(BO229:BO243)","v":7.206815153880032},null,null,null,{"$f":"'DNSP Inputs O & M'!$G$18","v":0.25},null,null,null,null,{"$f":"BS245*SUM(BX229:BX243)","v":5.197595313856799},null,{"$f":"'DNSP Inputs O & M'!$G$18","v":0.25},null,null,null,null,{"$f":"BZ245*SUM(CE229:CE243)","v":6.1937408435887358},null,{"$f":"'DNSP Inputs O & M'!$G$18","v":0.25},null,null,null,null,{"$f":"CG245*SUM(CL229:CL243)","v":7.222733607523252},null,null,null,{"$f":"'DNSP Inputs O & M'!$H$18","v":0.25},null,null,null,null,{"$f":"CP245*SUM(CU229:CU243)","v":5.2271428915589615},null,{"$f":"'DNSP Inputs O & M'!$H$18","v":0.25},null,null,null,null,{"$f":"CW245*SUM(DB229:DB243)","v":6.2291172452993928},null,{"$f":"'DNSP Inputs O & M'!$H$18","v":0.25},null,null,null,null,{"$f":"DD245*SUM(DI229:DI243)","v":7.2660866756932307}]
[]
[null,null,null,null,null,null,{"$f":"SUM(G229,G233,G238,G241,G243,G245)","v":25.981476228132443},null,null,null,null,null,null,{"$f":"SUM(N229,N233,N238,N241,N243,N245)","v":30.960921560354905},null,null,null,null,null,null,{"$f":"SUM(U229,U233,U238,U241,U243,U245)","v":36.104130547406001},null,null,null,null,null,null,null,null,{"$f":"SUM(AD229,AD233,AD238,AD241,AD243,AD245)","v":25.944465295448808},null,null,null,null,null,null,{"$f":"SUM(AK229,AK233,AK238,AK241,AK243,AK245)","v":30.916609514355734},null,null,null,null,null,null,{"$f":"SUM(AR229,AR233,AR238,AR241,AR243,AR245)","v":36.04982702703483},null,null,null,null,null,null,null,null,{"$f":"SUM(BA229,BA233,BA238,BA241,BA243,BA245)","v":25.933729918957287},null,null,null,null,null,null,{"$f":"SUM(BH229,BH233,BH238,BH241,BH243,BH245)","v":30.903756379824458},null,null,null,null,null,null,{"$f":"SUM(BO229,BO233,BO238,BO241,BO243,BO245)","v":36.034075769400161},null,null,null,null,null,null,null,null,{"$f":"SUM(BX229,BX233,BX238,BX241,BX243,BX245)","v":25.987976569283994},null,null,null,null,null,null,{"$f":"SUM(CE229,CE233,CE238,CE241,CE243,CE245)","v":30.968704217943678},null,null,null,null,null,null,{"$f":"SUM(CL229,CL233,CL238,CL241,CL243,CL245)","v":36.113668037616257},null,null,null,null,null,null,null,null,{"$f":"SUM(CU229,CU233,CU238,CU241,CU243,CU245)","v":26.135714457794808},null,null,null,null,null,null,{"$f":"SUM(DB229,DB233,DB238,DB241,DB243,DB245)","v":31.145586226496963},null,null,null,null,null,null,{"$f":"SUM(DI229,DI233,DI238,DI241,DI243,DI245)","v":36.330433378466154}]
[]
[]
[]
[]
["T5 (2 X 24W) - Cost build-up"]
[]
["Additional assumptions"]
["Proportion of luminaire that will fail before bulk change",null,null,{"$f":"'DNSP Inputs O & M'!$D$235","v":0.41565636121546606},null,null,null,null,null,null,null,null,null,null,null,null,null,null,null,null,null,null,null,null,null,null,{"$f":"'DNSP Inputs O & M'!$E$235","v":0.41565636121546606},null,null,null,null,null,null,null,null,null,null,null,null,null,null,null,null,null,null,null,null,null,null,{"$f":"'DNSP Inputs O & M'!$F$235","v":0.41565636121546606},null,null,null,null,null,null,null,null,null,null,null,null,null,null,null,null,null,null,null,null,null,null,{"$f":"'DNSP Inputs O & M'!$G$235","v":0.41565636121546606},null,null,null,null,null,null,null,null,null,null,null,null,null,null,null,null,null,null,null,null,null,null,{"$f":"'DNSP Inputs O & M'!$H$235","v":0.41565636121546606}]
["Proportion of lamps that will fail before bulk change (per year)",null,null,{"$f":"D255/'DNSP Inputs O & M'!$D$232","v":0.10391409030386652},null,null,null,null,null,null,null,null,null,null,null,null,null,null,null,null,null,null,null,null,null,null,{"$f":"AA255/'DNSP Inputs O & M'!$E$232","v":0.10391409030386652},null,null,null,null,null,null,null,null,null,null,null,null,null,null,null,null,null,null,null,null,null,null,{"$f":"AX255/'DNSP Inputs O & M'!$F$232","v":0.10391409030386652},null,null,null,null,null,null,null,null,null,null,null,null,null,null,null,null,null,null,null,null,null,null,{"$f":"BU255/'DNSP Inputs O & M'!$G$232","v":0.10391409030386652},null,null,null,null,null,null,null,null,null,null,null,null,null,null,null,null,null,null,null,null,null,null,{"$f":"CR255/'DNSP Inputs O & M'!$H$232","v":0.10391409030386652}]
["Overheads are applied to material and labour components"]
["All costs and charges are exclusive of GST"]
[]
[null,"Urban",null,null,null,null,null,null,"Rural",null,null,null,null,null,null,"Remote",null,null,null,null,null,null,null,null,"Urban",null,null,null,null,null,null,"Rural",null,null,null,null,null,null,"Remote",null,null,null,null,null,null,null,null,"Urban",null,null,null,null,null,null,"Rural",null,null,null,null,null,null,"Remote",null,null,null,null,null,null,null,null,"Urban",null,null,null,null,null,null,"Rural",null,null,null,null,null,null,"Remote",null,null,null,null,null,null,null,null,"Urban",null,null,null,null,null,null,"Rural",null,null,null,null,null,null,"Remote"]
[]
[null,"Unit rate","Number","Hours","Cost","Annualised","Annualised",null,"Unit rate","Number","Hours","Cost","Annualised","Annualised",null,"Unit rate","Number","Hours","Cost","Annualised","Annualised",null,null,null,"Unit rate","Number","Hours","Cost","Annualised","Annualised",null,"Unit rate","Number","Hours","Cost","Annualised","Annualised",null,"Unit rate","Number","Hours","Cost","Annualised","Annualised",null,null,null,"Unit rate","Number","Hours","Cost","Annualised","Annualised",null,"Unit rate","Number","Hours","Cost","Annualised","Annualised",null,"Unit rate","Number","Hours","Cost","Annualised","Annualised",null,null,null,"Unit rate","Number","Hours","Cost","Annualised","Annualised",null,"Unit rate","Number","Hours","Cost","Annualised","Annualised",null,"Unit rate","Number","Hours","Cost","Annualised","Annualised",null,null,null,"Unit rate","Number","Hours","Cost","Annualised","Annualised",null,"Unit rate","Number","Hours","Cost","Annualised","Annualised",null,"Unit rate","Number","Hours","Cost","Annualised","Annualised"]
[null,null,null,null,null," cost","unit cost",null,null,null,null,null," cost","unit cost",null,null,null,null,null," cost","unit cost",null,null,null,null,null,null,null," cost","unit cost",null,null,null,null,null," cost","unit cost",null,null,null,null,null," cost","unit cost",null,null,null,null,null,null,null," cost","unit cost",null,null,null,null,null," cost","unit cost",null,null,null,null,null," cost","unit cost",null,null,null,null,null,null,null," cost","unit cost",null,null,null,null,null," cost","unit cost",null,null,null,null,null," cost","unit cost",null,null,null,null,null,null,null," cost","unit cost",null,null,null,null,null," cost","unit cost",null,null,null,null,null," cost","unit cost"]
["T5 (2 X 24W)"]
["Bulk change & repairs"]
["Materials - bulk lamp change"]
["Lamp",{"$f":"'DNSP Inputs O & M'!$D$236","v":8.1},{"$f":"'DNSP Inputs O & M'!$D$242","v":86},null,{"$f":"B267*C267","v":696.6},{"$f":"E267/'DNSP Inputs O & M'!$D$232","v":174.15},{"$f":"(F267+F268+F269)/C267","v":4.2519114176730266},null,{"$f":"'DNSP Inputs O & M'!$D$236*(1+'DNSP Inputs O & M'!$D$11)","v":8.5050000000000008},{"$f":"'DNSP Inputs O & M'!$D$243","v":72},null,{"$f":"I267*J267","v":612.36},{"$f":"L267/'DNSP Inputs O & M'!$D$232","v":153.09},{"$f":"(M267+M268+M269)/J267","v":4.4645069885566775},null,{"$f":"'DNSP Inputs O & M'!$D$236*(1+'DNSP Inputs O & M'!$D$11)","v":8.5050000000000008},{"$f":"'DNSP Inputs O & M'!$D$244","v":60},null,{"$f":"P267*Q267","v":510.30000000000007},{"$f":"S267/'DNSP Inputs O & M'!$D$232","v":127.57500000000002},{"$f":"(T267+T268+T269)/Q267","v":4.4645069885566775},null,null,null,{"$f":"'DNSP Inputs O & M'!$E$236","v":8.1},{"$f":"'DNSP Inputs O & M'!$E$242","v":86},null,{"$f":"Y267*Z267","v":696.6},{"$f":"AB267/'DNSP Inputs O & M'!$E$232","v":174.15},{"$f":"(AC267+AC268+AC269)/Z267","v":4.2519114176730266},null,{"$f":"'DNSP Inputs O & M'!$E$236*(1+'DNSP Inputs O & M'!$E$11)","v":8.5050000000000008},{"$f":"'DNSP Inputs O & M'!$E$243","v":72},null,{"$f":"AF267*AG267","v":612.36},{"$f":"AI267/'DNSP Inputs O & M'!$E$232","v":153.09},{"$f":"(AJ267+AJ268+AJ269)/AG267","v":4.4645069885566775},null,{"$f":"'DNSP Inputs O & M'!$E$236*(1+'DNSP Inputs O & M'!$E$11)","v":8.5050000000000008},{"$f":"'DNSP Inputs O & M'!$E$244","v":60},null,{"$f":"AM267*AN267","v":510.30000000000007},{"$f":"AP267/'DNSP Inputs O & M'!$E$232","v":127.57500000000002},{"$f":"(AQ267+AQ268+AQ269)/AN267","v":4.4645069885566775},null,null,null,{"$f":"'DNSP Inputs O & M'!$F$236","v":8.1},{"$f":"'DNSP Inputs O & M'!$F$242","v":86},null,{"$f":"AV267*AW267","v":696.6},{"$f":"AY267/'DNSP Inputs O & M'!$F$232","v":174.15},{"$f":"(AZ267+AZ268+AZ269)/AW267","v":4.2519114176730266},null,{"$f":"'DNSP Inputs O & M'!$F$236*(1+'DNSP Inputs O & M'!$F$11)","v":8.5050000000000008},{"$f":"'DNSP Inputs O & M'!$F$243","v":72},null,{"$f":"BC267*BD267","v":612.36},{"$f":"BF267/'DNSP Inputs O & M'!$F$232","v":153.09},{"$f":"(BG267+BG268+BG269)/BD267","v":4.4645069885566775},null,{"$f":"'DNSP Inputs O & M'!$F$236*(1+'DNSP Inputs O & M'!$F$11)","v":8.5050000000000008},{"$f":"'DNSP Inputs O & M'!$F$244","v":60},null,{"$f":"BJ267*BK267","v":510.30000000000007},{"$f":"BM267/'DNSP Inputs O & M'!$F$232","v":127.57500000000002},{"$f":"(BN267+BN268+BN269)/BK267","v":4.4645069885566775},null,null,null,{"$f":"'DNSP Inputs O & M'!$G$236","v":8.1},{"$f":"'DNSP Inputs O & M'!$G$242","v":86},null,{"$f":"BS267*BT267","v":696.6},{"$f":"BV267/'DNSP Inputs O & M'!$G$232","v":174.15},{"$f":"(BW267+BW268+BW269)/BT267","v":4.2519114176730266},null,{"$f":"'DNSP Inputs O & M'!$G$236*(1+'DNSP Inputs O & M'!$G$11)","v":8.5050000000000008},{"$f":"'DNSP Inputs O & M'!$G$243","v":72},null,{"$f":"BZ267*CA267","v":612.36},{"$f":"CC267/'DNSP Inputs O & M'!$G$232","v":153.09},{"$f":"(CD267+CD268+CD269)/CA267","v":4.4645069885566775},null,{"$f":"'DNSP Inputs O & M'!$G$236*(1+'DNSP Inputs O & M'!$G$11)","v":8.5050000000000008},{"$f":"'DNSP Inputs O & M'!$G$244","v":60},null,{"$f":"CG267*CH267","v":510.30000000000007},{"$f":"CJ267/'DNSP Inputs O & M'!$G$232","v":127.57500000000002},{"$f":"(CK267+CK268+CK269)/CH267","v":4.4645069885566775},null,null,null,{"$f":"'DNSP Inputs O & M'!$H$236","v":8.1},{"$f":"'DNSP Inputs O & M'!$H$242","v":86},null,{"$f":"CP267*CQ267","v":696.6},{"$f":"CS267/'DNSP Inputs O & M'!$H$232","v":174.15},{"$f":"(CT267+CT268+CT269)/CQ267","v":4.2519114176730266},null,{"$f":"'DNSP Inputs O & M'!$H$236*(1+'DNSP Inputs O & M'!$H$11)","v":8.5050000000000008},{"$f":"'DNSP Inputs O & M'!$H$243","v":72},null,{"$f":"CW267*CX267","v":612.36},{"$f":"CZ267/'DNSP Inputs O & M'!$H$232","v":153.09},{"$f":"(DA267+DA268+DA269)/CX267","v":4.4645069885566775},null,{"$f":"'DNSP Inputs O & M'!$H$236*(1+'DNSP Inputs O & M'!$H$11)","v":8.5050000000000008},{"$f":"'DNSP Inputs O & M'!$H$244","v":60},null,{"$f":"DD267*DE267","v":510.30000000000007},{"$f":"DG267/'DNSP Inputs O & M'!$H$232","v":127.57500000000002},{"$f":"(DH267+DH268+DH269)/DE267","v":4.4645069885566775}]
["PE cell",{"$f":"'DNSP Inputs O & M'!$D$237","v":15.120000000000001},{"$f":"C267*'DNSP Inputs O & M'!$D$232/'DNSP Inputs O & M'!$D$233","v":43},null,{"$f":"B268*C268","v":650.16000000000008},{"$f":"E268/'DNSP Inputs O & M'!$D$232","v":162.54000000000002},null,null,{"$f":"'DNSP Inputs O & M'!$D$237*(1+'DNSP Inputs O & M'!$D$11)","v":15.876000000000001},{"$f":"J267*'DNSP Inputs O & M'!$D$232/'DNSP Inputs O & M'!$D$233","v":36},null,{"$f":"I268*J268","v":571.53600000000006},{"$f":"L268/'DNSP Inputs O & M'!$D$232","v":142.88400000000001},null,null,{"$f":"'DNSP Inputs O & M'!$D$237*(1+'DNSP Inputs O & M'!$D$11)","v":15.876000000000001},{"$f":"Q267*'DNSP Inputs O & M'!$D$232/'DNSP Inputs O & M'!$D$233","v":30},null,{"$f":"P268*Q268","v":476.28000000000003},{"$f":"S268/'DNSP Inputs O & M'!$D$232","v":119.07000000000001},null,null,null,null,{"$f":"'DNSP Inputs O & M'!$E$237","v":15.120000000000001},{"$f":"Z267*'DNSP Inputs O & M'!$E$232/'DNSP Inputs O & M'!$E$233","v":43},null,{"$f":"Y268*Z268","v":650.16000000000008},{"$f":"AB268/'DNSP Inputs O & M'!$E$232","v":162.54000000000002},null,null,{"$f":"'DNSP Inputs O & M'!$E$237*(1+'DNSP Inputs O & M'!$E$11)","v":15.876000000000001},{"$f":"AG267*'DNSP Inputs O & M'!$E$232/'DNSP Inputs O & M'!$E$233","v":36},null,{"$f":"AF268*AG268","v":571.53600000000006},{"$f":"AI268/'DNSP Inputs O & M'!$E$232","v":142.88400000000001},null,null,{"$f":"'DNSP Inputs O & M'!$E$237*(1+'DNSP Inputs O & M'!$E$11)","v":15.876000000000001},{"$f":"AN267*'DNSP Inputs O & M'!$E$232/'DNSP Inputs O & M'!$E$233","v":30},null,{"$f":"AM268*AN268","v":476.28000000000003},{"$f":"AP268/'DNSP Inputs O & M'!$E$232","v":119.07000000000001},null,null,null,null,{"$f":"'DNSP Inputs O & M'!$F$237","v":15.120000000000001},{"$f":"AW267*'DNSP Inputs O & M'!$F$232/'DNSP Inputs O & M'!$F$233","v":43},null,{"$f":"AV268*AW268","v":650.16000000000008},{"$f":"AY268/'DNSP Inputs O & M'!$F$232","v":162.54000000000002},null,null,{"$f":"'DNSP Inputs O & M'!$F$237*(1+'DNSP Inputs O & M'!$F$11)","v":15.876000000000001},{"$f":"BD267*'DNSP Inputs O & M'!$F$232/'DNSP Inputs O & M'!$F$233","v":36},null,{"$f":"BC268*BD268","v":571.53600000000006},{"$f":"BF268/'DNSP Inputs O & M'!$F$232","v":142.88400000000001},null,null,{"$f":"'DNSP Inputs O & M'!$F$237*(1+'DNSP Inputs O & M'!$F$11)","v":15.876000000000001},{"$f":"BK267*'DNSP Inputs O & M'!$F$232/'DNSP Inputs O & M'!$F$233","v":30},null,{"$f":"BJ268*BK268","v":476.28000000000003},{"$f":"BM268/'DNSP Inputs O & M'!$F$232","v":119.07000000000001},null,null,null,null,{"$f":"'DNSP Inputs O & M'!$G$237","v":15.120000000000001},{"$f":"BT267*'DNSP Inputs O & M'!$G$232/'DNSP Inputs O & M'!$G$233","v":43},null,{"$f":"BS268*BT268","v":650.16000000000008},{"$f":"BV268/'DNSP Inputs O & M'!$G$232","v":162.54000000000002},null,null,{"$f":"'DNSP Inputs O & M'!$G$237*(1+'DNSP Inputs O & M'!$G$11)","v":15.876000000000001},{"$f":"CA267*'DNSP Inputs O & M'!$G$232/'DNSP Inputs O & M'!$G$233","v":36},null,{"$f":"BZ268*CA268","v":571.53600000000006},{"$f":"CC268/'DNSP Inputs O & M'!$G$232","v":142.88400000000001},null,null,{"$f":"'DNSP Inputs O & M'!$G$237*(1+'DNSP Inputs O & M'!$G$11)","v":15.876000000000001},{"$f":"CH267*'DNSP Inputs O & M'!$G$232/'DNSP Inputs O & M'!$G$233","v":30},null,{"$f":"CG268*CH268","v":476.28000000000003},{"$f":"CJ268/'DNSP Inputs O & M'!$G$232","v":119.07000000000001},null,null,null,null,{"$f":"'DNSP Inputs O & M'!$H$237","v":15.120000000000001},{"$f":"CQ267*'DNSP Inputs O & M'!$H$232/'DNSP Inputs O & M'!$H$233","v":43},null,{"$f":"CP268*CQ268","v":650.16000000000008},{"$f":"CS268/'DNSP Inputs O & M'!$H$232","v":162.54000000000002},null,null,{"$f":"'DNSP Inputs O & M'!$H$237*(1+'DNSP Inputs O & M'!$H$11)","v":15.876000000000001},{"$f":"CX267*'DNSP Inputs O & M'!$H$232/'DNSP Inputs O & M'!$H$233","v":36},null,{"$f":"CW268*CX268","v":571.53600000000006},{"$f":"CZ268/'DNSP Inputs O & M'!$H$232","v":142.88400000000001},null,null,{"$f":"'DNSP Inputs O & M'!$H$237*(1+'DNSP Inputs O & M'!$H$11)","v":15.876000000000001},{"$f":"DE267*'DNSP Inputs O & M'!$H$232/'DNSP Inputs O & M'!$H$233","v":30},null,{"$f":"DD268*DE268","v":476.28000000000003},{"$f":"DG268/'DNSP Inputs O & M'!$H$232","v":119.07000000000001}]
["Miscellaneous",{"$f":"'DNSP Inputs O & M'!$D$239","v":1.3476456706921032},{"$f":"'DNSP Inputs O & M'!$D$242","v":86},null,{"$f":"B269*C269","v":115.89752767952088},{"$f":"E269/'DNSP Inputs O & M'!$D$232","v":28.974381919880219},null,null,{"$f":"'DNSP Inputs O & M'!$D$239*(1+'DNSP Inputs O & M'!$D$11)","v":1.4150279542267084},{"$f":"'DNSP Inputs O & M'!$D$243","v":72},null,{"$f":"I269*J269","v":101.882012704323},{"$f":"L269/'DNSP Inputs O & M'!$D$232","v":25.470503176080751},null,null,{"$f":"'DNSP Inputs O & M'!$D$239*(1+'DNSP Inputs O & M'!$D$11)","v":1.4150279542267084},{"$f":"'DNSP Inputs O & M'!$D$244","v":60},null,{"$f":"P269*Q269","v":84.9016772536025},{"$f":"S269/'DNSP Inputs O & M'!$D$232","v":21.225419313400625},null,null,null,null,{"$f":"'DNSP Inputs O & M'!$E$239","v":1.3476456706921032},{"$f":"'DNSP Inputs O & M'!$E$242","v":86},null,{"$f":"Y269*Z269","v":115.89752767952088},{"$f":"AB269/'DNSP Inputs O & M'!$E$232","v":28.974381919880219},null,null,{"$f":"'DNSP Inputs O & M'!$E$239*(1+'DNSP Inputs O & M'!$E$11)","v":1.4150279542267084},{"$f":"'DNSP Inputs O & M'!$E$243","v":72},null,{"$f":"AF269*AG269","v":101.882012704323},{"$f":"AI269/'DNSP Inputs O & M'!$E$232","v":25.470503176080751},null,null,{"$f":"'DNSP Inputs O & M'!$E$239*(1+'DNSP Inputs O & M'!$E$11)","v":1.4150279542267084},{"$f":"'DNSP Inputs O & M'!$E$244","v":60},null,{"$f":"AM269*AN269","v":84.9016772536025},{"$f":"AP269/'DNSP Inputs O & M'!$E$232","v":21.225419313400625},null,null,null,null,{"$f":"'DNSP Inputs O & M'!$F$239","v":1.3476456706921032},{"$f":"'DNSP Inputs O & M'!$F$242","v":86},null,{"$f":"AV269*AW269","v":115.89752767952088},{"$f":"AY269/'DNSP Inputs O & M'!$F$232","v":28.974381919880219},null,null,{"$f":"'DNSP Inputs O & M'!$F$239*(1+'DNSP Inputs O & M'!$F$11)","v":1.4150279542267084},{"$f":"'DNSP Inputs O & M'!$F$243","v":72},null,{"$f":"BC269*BD269","v":101.882012704323},{"$f":"BF269/'DNSP Inputs O & M'!$F$232","v":25.470503176080751},null,null,{"$f":"'DNSP Inputs O & M'!$F$239*(1+'DNSP Inputs O & M'!$F$11)","v":1.4150279542267084},{"$f":"'DNSP Inputs O & M'!$F$244","v":60},null,{"$f":"BJ269*BK269","v":84.9016772536025},{"$f":"BM269/'DNSP Inputs O & M'!$F$232","v":21.225419313400625},null,null,null,null,{"$f":"'DNSP Inputs O & M'!$G$239","v":1.3476456706921032},{"$f":"'DNSP Inputs O & M'!$G$242","v":86},null,{"$f":"BS269*BT269","v":115.89752767952088},{"$f":"BV269/'DNSP Inputs O & M'!$G$232","v":28.974381919880219},null,null,{"$f":"'DNSP Inputs O & M'!$G$239*(1+'DNSP Inputs O & M'!$G$11)","v":1.4150279542267084},{"$f":"'DNSP Inputs O & M'!$G$243","v":72},null,{"$f":"BZ269*CA269","v":101.882012704323},{"$f":"CC269/'DNSP Inputs O & M'!$G$232","v":25.470503176080751},null,null,{"$f":"'DNSP Inputs O & M'!$G$239*(1+'DNSP Inputs O & M'!$G$11)","v":1.4150279542267084},{"$f":"'DNSP Inputs O & M'!$G$244","v":60},null,{"$f":"CG269*CH269","v":84.9016772536025},{"$f":"CJ269/'DNSP Inputs O & M'!$G$232","v":21.225419313400625},null,null,null,null,{"$f":"'DNSP Inputs O & M'!$H$239","v":1.3476456706921032},{"$f":"'DNSP Inputs O & M'!$H$242","v":86},null,{"$f":"CP269*CQ269","v":115.89752767952088},{"$f":"CS269/'DNSP Inputs O & M'!$H$232","v":28.974381919880219},null,null,{"$f":"'DNSP Inputs O & M'!$H$239*(1+'DNSP Inputs O & M'!$H$11)","v":1.4150279542267084},{"$f":"'DNSP Inputs O & M'!$H$243","v":72},null,{"$f":"CW269*CX269","v":101.882012704323},{"$f":"CZ269/'DNSP Inputs O & M'!$H$232","v":25.470503176080751},null,null,{"$f":"'DNSP Inputs O & M'!$H$239*(1+'DNSP Inputs O & M'!$H$11)","v":1.4150279542267084},{"$f":"'DNSP Inputs O & M'!$H$244","v":60},null,{"$f":"DD269*DE269","v":84.9016772536025},{"$f":"DG269/'DNSP Inputs O & M'!$H$232","v":21.225419313400625}]
["Materials - repair of faults"]
["Lamp",{"$f":"'DNSP Inputs O & M'!$D$236","v":8.1},{"$f":"'DNSP Inputs O & M'!$D$245*'DNSP Inputs O & M'!$D$248","v":17.28},null,{"$f":"B271*C271","v":139.96799999999999},{"$f":"(E271+E272+E273+E274)/'DNSP Inputs O & M'!$D$245","v":13.767645670692104},{"$f":"F271*D256","v":1.4306523754959362},null,{"$f":"'DNSP Inputs O & M'!$D$236*(1+'DNSP Inputs O & M'!$D$11)","v":8.5050000000000008},{"$f":"'DNSP Inputs O & M'!$D$246*'DNSP Inputs O & M'!$D$248","v":14.399999999999999},null,{"$f":"I271*J271","v":122.47199999999999},{"$f":"(L271+L272+L273+L274)/'DNSP Inputs O & M'!$D$246","v":14.456027954226707},{"$f":"M271*D256","v":1.5021849942707328},null,{"$f":"'DNSP Inputs O & M'!$D$236*(1+'DNSP Inputs O & M'!$D$11)","v":8.5050000000000008},{"$f":"'DNSP Inputs O & M'!$D$247*'DNSP Inputs O & M'!$D$248","v":11.52},null,{"$f":"P271*Q271","v":97.97760000000001},{"$f":"(S271+S272+S273+S274)/'DNSP Inputs O & M'!$D$247","v":14.456027954226709},{"$f":"T271*D256","v":1.502184994270733},null,null,null,{"$f":"'DNSP Inputs O & M'!$E$236","v":8.1},{"$f":"'DNSP Inputs O & M'!$E$245*'DNSP Inputs O & M'!$E$248","v":17.28},null,{"$f":"Y271*Z271","v":139.96799999999999},{"$f":"(AB271+AB272+AB273+AB274)/'DNSP Inputs O & M'!$E$245","v":13.767645670692104},{"$f":"AC271*AA256","v":1.4306523754959362},null,{"$f":"'DNSP Inputs O & M'!$E$236*(1+'DNSP Inputs O & M'!$E$11)","v":8.5050000000000008},{"$f":"'DNSP Inputs O & M'!$E$246*'DNSP Inputs O & M'!$E$248","v":14.399999999999999},null,{"$f":"AF271*AG271","v":122.47199999999999},{"$f":"(AI271+AI272+AI273+AI274)/'DNSP Inputs O & M'!$E$246","v":14.456027954226707},{"$f":"AJ271*AA256","v":1.5021849942707328},null,{"$f":"'DNSP Inputs O & M'!$E$236*(1+'DNSP Inputs O & M'!$E$11)","v":8.5050000000000008},{"$f":"'DNSP Inputs O & M'!$E$247*'DNSP Inputs O & M'!$E$248","v":11.52},null,{"$f":"AM271*AN271","v":97.97760000000001},{"$f":"(AP271+AP272+AP273+AP274)/'DNSP Inputs O & M'!$E$247","v":14.456027954226709},{"$f":"AQ271*AA256","v":1.502184994270733},null,null,null,{"$f":"'DNSP Inputs O & M'!$F$236","v":8.1},{"$f":"'DNSP Inputs O & M'!$F$245*'DNSP Inputs O & M'!$F$248","v":17.28},null,{"$f":"AV271*AW271","v":139.96799999999999},{"$f":"(AY271+AY272+AY273+AY274)/'DNSP Inputs O & M'!$F$245","v":13.767645670692104},{"$f":"AZ271*AX256","v":1.4306523754959362},null,{"$f":"'DNSP Inputs O & M'!$F$236*(1+'DNSP Inputs O & M'!$F$11)","v":8.5050000000000008},{"$f":"'DNSP Inputs O & M'!$F$246*'DNSP Inputs O & M'!$F$248","v":14.399999999999999},null,{"$f":"BC271*BD271","v":122.47199999999999},{"$f":"(BF271+BF272+BF273+BF274)/'DNSP Inputs O & M'!$F$246","v":14.456027954226707},{"$f":"BG271*AX256","v":1.5021849942707328},null,{"$f":"'DNSP Inputs O & M'!$F$236*(1+'DNSP Inputs O & M'!$F$11)","v":8.5050000000000008},{"$f":"'DNSP Inputs O & M'!$F$247*'DNSP Inputs O & M'!$F$248","v":11.52},null,{"$f":"BJ271*BK271","v":97.97760000000001},{"$f":"(BM271+BM272+BM273+BM274)/'DNSP Inputs O & M'!$F$247","v":14.456027954226709},{"$f":"BN271*AX256","v":1.502184994270733},null,null,null,{"$f":"'DNSP Inputs O & M'!$G$236","v":8.1},{"$f":"'DNSP Inputs O & M'!$G$245*'DNSP Inputs O & M'!$G$248","v":17.28},null,{"$f":"BS271*BT271","v":139.96799999999999},{"$f":"(BV271+BV272+BV273+BV274)/'DNSP Inputs O & M'!$G$245","v":13.767645670692104},{"$f":"BW271*BU256","v":1.4306523754959362},null,{"$f":"'DNSP Inputs O & M'!$G$236*(1+'DNSP Inputs O & M'!$G$11)","v":8.5050000000000008},{"$f":"'DNSP Inputs O & M'!$G$246*'DNSP Inputs O & M'!$G$248","v":14.399999999999999},null,{"$f":"BZ271*CA271","v":122.47199999999999},{"$f":"(CC271+CC272+CC273+CC274)/'DNSP Inputs O & M'!$G$246","v":14.456027954226707},{"$f":"CD271*BU256","v":1.5021849942707328},null,{"$f":"'DNSP Inputs O & M'!$G$236*(1+'DNSP Inputs O & M'!$G$11)","v":8.5050000000000008},{"$f":"'DNSP Inputs O & M'!$G$247*'DNSP Inputs O & M'!$G$248","v":11.52},null,{"$f":"CG271*CH271","v":97.97760000000001},{"$f":"(CJ271+CJ272+CJ273+CJ274)/'DNSP Inputs O & M'!$G$247","v":14.456027954226709},{"$f":"CK271*BU256","v":1.502184994270733},null,null,null,{"$f":"'DNSP Inputs O & M'!$H$236","v":8.1},{"$f":"'DNSP Inputs O & M'!$H$245*'DNSP Inputs O & M'!$H$248","v":17.28},null,{"$f":"CP271*CQ271","v":139.96799999999999},{"$f":"(CS271+CS272+CS273+CS274)/'DNSP Inputs O & M'!$H$245","v":13.767645670692104},{"$f":"CT271*CR256","v":1.4306523754959362},null,{"$f":"'DNSP Inputs O & M'!$H$236*(1+'DNSP Inputs O & M'!$H$11)","v":8.5050000000000008},{"$f":"'DNSP Inputs O & M'!$H$246*'DNSP Inputs O & M'!$H$248","v":14.399999999999999},null,{"$f":"CW271*CX271","v":122.47199999999999},{"$f":"(CZ271+CZ272+CZ273+CZ274)/'DNSP Inputs O & M'!$H$246","v":14.456027954226707},{"$f":"DA271*CR256","v":1.5021849942707328},null,{"$f":"'DNSP Inputs O & M'!$H$236*(1+'DNSP Inputs O & M'!$H$11)","v":8.5050000000000008},{"$f":"'DNSP Inputs O & M'!$H$247*'DNSP Inputs O & M'!$H$248","v":11.52},null,{"$f":"DD271*DE271","v":97.97760000000001},{"$f":"(DG271+DG272+DG273+DG274)/'DNSP Inputs O & M'!$H$247","v":14.456027954226709},{"$f":"DH271*CR256","v":1.502184994270733}]
["PE cell",{"$f":"'DNSP Inputs O & M'!$D$237","v":15.120000000000001},{"$f":"'DNSP Inputs O & M'!$D$245*'DNSP Inputs O & M'!$D$249","v":14.4},null,{"$f":"B272*C272","v":217.72800000000001},null,null,null,{"$f":"'DNSP Inputs O & M'!$D$237*(1+'DNSP Inputs O & M'!$D$11)","v":15.876000000000001},{"$f":"'DNSP Inputs O & M'!$D$246*'DNSP Inputs O & M'!$D$249","v":12},null,{"$f":"I272*J272","v":190.512},null,null,null,{"$f":"'DNSP Inputs O & M'!$D$237*(1+'DNSP Inputs O & M'!$D$11)","v":15.876000000000001},{"$f":"'DNSP Inputs O & M'!$D$247*'DNSP Inputs O & M'!$D$249","v":9.6},null,{"$f":"P272*Q272","v":152.40960000000001},null,null,null,null,null,{"$f":"'DNSP Inputs O & M'!$E$237","v":15.120000000000001},{"$f":"'DNSP Inputs O & M'!$E$245*'DNSP Inputs O & M'!$E$249","v":14.4},null,{"$f":"Y272*Z272","v":217.72800000000001},null,null,null,{"$f":"'DNSP Inputs O & M'!$E$237*(1+'DNSP Inputs O & M'!$E$11)","v":15.876000000000001},{"$f":"'DNSP Inputs O & M'!$E$246*'DNSP Inputs O & M'!$E$249","v":12},null,{"$f":"AF272*AG272","v":190.512},null,null,null,{"$f":"'DNSP Inputs O & M'!$E$237*(1+'DNSP Inputs O & M'!$E$11)","v":15.876000000000001},{"$f":"'DNSP Inputs O & M'!$E$247*'DNSP Inputs O & M'!$E$249","v":9.6},null,{"$f":"AM272*AN272","v":152.40960000000001},null,null,null,null,null,{"$f":"'DNSP Inputs O & M'!$F$237","v":15.120000000000001},{"$f":"'DNSP Inputs O & M'!$F$245*'DNSP Inputs O & M'!$F$249","v":14.4},null,{"$f":"AV272*AW272","v":217.72800000000001},null,null,null,{"$f":"'DNSP Inputs O & M'!$F$237*(1+'DNSP Inputs O & M'!$F$11)","v":15.876000000000001},{"$f":"'DNSP Inputs O & M'!$F$246*'DNSP Inputs O & M'!$F$249","v":12},null,{"$f":"BC272*BD272","v":190.512},null,null,null,{"$f":"'DNSP Inputs O & M'!$F$237*(1+'DNSP Inputs O & M'!$F$11)","v":15.876000000000001},{"$f":"'DNSP Inputs O & M'!$F$247*'DNSP Inputs O & M'!$F$249","v":9.6},null,{"$f":"BJ272*BK272","v":152.40960000000001},null,null,null,null,null,{"$f":"'DNSP Inputs O & M'!$G$237","v":15.120000000000001},{"$f":"'DNSP Inputs O & M'!$G$245*'DNSP Inputs O & M'!$G$249","v":14.4},null,{"$f":"BS272*BT272","v":217.72800000000001},null,null,null,{"$f":"'DNSP Inputs O & M'!$G$237*(1+'DNSP Inputs O & M'!$G$11)","v":15.876000000000001},{"$f":"'DNSP Inputs O & M'!$G$246*'DNSP Inputs O & M'!$G$249","v":12},null,{"$f":"BZ272*CA272","v":190.512},null,null,null,{"$f":"'DNSP Inputs O & M'!$G$237*(1+'DNSP Inputs O & M'!$G$11)","v":15.876000000000001},{"$f":"'DNSP Inputs O & M'!$G$247*'DNSP Inputs O & M'!$G$249","v":9.6},null,{"$f":"CG272*CH272","v":152.40960000000001},null,null,null,null,null,{"$f":"'DNSP Inputs O & M'!$H$237","v":15.120000000000001},{"$f":"'DNSP Inputs O & M'!$H$245*'DNSP Inputs O & M'!$H$249","v":14.4},null,{"$f":"CP272*CQ272","v":217.72800000000001},null,null,null,{"$f":"'DNSP Inputs O & M'!$H$237*(1+'DNSP Inputs O & M'!$H$11)","v":15.876000000000001},{"$f":"'DNSP Inputs O & M'!$H$246*'DNSP Inputs O & M'!$H$249","v":12},null,{"$f":"CW272*CX272","v":190.512},null,null,null,{"$f":"'DNSP Inputs O & M'!$H$237*(1+'DNSP Inputs O & M'!$H$11)","v":15.876000000000001},{"$f":"'DNSP Inputs O & M'!$H$247*'DNSP Inputs O & M'!$H$249","v":9.6},null,{"$f":"DD272*DE272","v":152.40960000000001}]
["Luminaire",{"$f":"'DNSP Inputs O & M'!$D$238","v":267.33},{"$f":"'DNSP Inputs O & M'!$D$245*'DNSP Inputs O & M'!$D$250","v":0},null,{"$f":"B273*C273","v":0},null,null,null,{"$f":"'DNSP Inputs O & M'!$D$238*(1+'DNSP Inputs O & M'!$D$11)","v":280.69650000000001},{"$f":"'DNSP Inputs O & M'!$D$246*'DNSP Inputs O & M'!$D$250","v":0},null,{"$f":"I273*J273","v":0},null,null,null,{"$f":"'DNSP Inputs O & M'!$D$238*(1+'DNSP Inputs O & M'!$D$11)","v":280.69650000000001},{"$f":"'DNSP Inputs O & M'!$D$247*'DNSP Inputs O & M'!$D$250","v":0},null,{"$f":"P273*Q273","v":0},null,null,null,null,null,{"$f":"'DNSP Inputs O & M'!$E$238","v":267.33},{"$f":"'DNSP Inputs O & M'!$E$245*'DNSP Inputs O & M'!$E$250","v":0},null,{"$f":"Y273*Z273","v":0},null,null,null,{"$f":"'DNSP Inputs O & M'!$E$238*(1+'DNSP Inputs O & M'!$E$11)","v":280.69650000000001},{"$f":"'DNSP Inputs O & M'!$E$246*'DNSP Inputs O & M'!$E$250","v":0},null,{"$f":"AF273*AG273","v":0},null,null,null,{"$f":"'DNSP Inputs O & M'!$E$238*(1+'DNSP Inputs O & M'!$E$11)","v":280.69650000000001},{"$f":"'DNSP Inputs O & M'!$E$247*'DNSP Inputs O & M'!$E$250","v":0},null,{"$f":"AM273*AN273","v":0},null,null,null,null,null,{"$f":"'DNSP Inputs O & M'!$F$238","v":267.33},{"$f":"'DNSP Inputs O & M'!$F$245*'DNSP Inputs O & M'!$F$250","v":0},null,{"$f":"AV273*AW273","v":0},null,null,null,{"$f":"'DNSP Inputs O & M'!$F$238*(1+'DNSP Inputs O & M'!$F$11)","v":280.69650000000001},{"$f":"'DNSP Inputs O & M'!$F$246*'DNSP Inputs O & M'!$F$250","v":0},null,{"$f":"BC273*BD273","v":0},null,null,null,{"$f":"'DNSP Inputs O & M'!$F$238*(1+'DNSP Inputs O & M'!$F$11)","v":280.69650000000001},{"$f":"'DNSP Inputs O & M'!$F$247*'DNSP Inputs O & M'!$F$250","v":0},null,{"$f":"BJ273*BK273","v":0},null,null,null,null,null,{"$f":"'DNSP Inputs O & M'!$G$238","v":267.33},{"$f":"'DNSP Inputs O & M'!$G$245*'DNSP Inputs O & M'!$G$250","v":0},null,{"$f":"BS273*BT273","v":0},null,null,null,{"$f":"'DNSP Inputs O & M'!$G$238*(1+'DNSP Inputs O & M'!$G$11)","v":280.69650000000001},{"$f":"'DNSP Inputs O & M'!$G$246*'DNSP Inputs O & M'!$G$250","v":0},null,{"$f":"BZ273*CA273","v":0},null,null,null,{"$f":"'DNSP Inputs O & M'!$G$238*(1+'DNSP Inputs O & M'!$G$11)","v":280.69650000000001},{"$f":"'DNSP Inputs O & M'!$G$247*'DNSP Inputs O & M'!$G$250","v":0},null,{"$f":"CG273*CH273","v":0},null,null,null,null,null,{"$f":"'DNSP Inputs O & M'!$H$238","v":267.33},{"$f":"'DNSP Inputs O & M'!$H$245*'DNSP Inputs O & M'!$H$250","v":0},null,{"$f":"CP273*CQ273","v":0},null,null,null,{"$f":"'DNSP Inputs O & M'!$H$238*(1+'DNSP Inputs O & M'!$H$11)","v":280.69650000000001},{"$f":"'DNSP Inputs O & M'!$H$246*'DNSP Inputs O & M'!$H$250","v":0},null,{"$f":"CW273*CX273","v":0},null,null,null,{"$f":"'DNSP Inputs O & M'!$H$238*(1+'DNSP Inputs O & M'!$H$11)","v":280.69650000000001},{"$f":"'DNSP Inputs O & M'!$H$247*'DNSP Inputs O & M'!$H$250","v":0},null,{"$f":"DD273*DE273","v":0}]
["Miscellaneous",{"$f":"'DNSP Inputs O & M'!$D$240","v":13.476456706921033},{"$f":"'DNSP Inputs O & M'!$D$245*'DNSP Inputs O & M'!$D$251","v":2.8800000000000003},null,{"$f":"B274*C274","v":38.812195315932577},null,null,null,{"$f":"'DNSP Inputs O & M'!$D$240*(1+'DNSP Inputs O & M'!$D$11)","v":14.150279542267084},{"$f":"'DNSP Inputs O & M'!$D$246*'DNSP Inputs O & M'!$D$251","v":2.4000000000000004},null,{"$f":"I274*J274","v":33.960670901441006},null,null,null,{"$f":"'DNSP Inputs O & M'!$D$240*(1+'DNSP Inputs O & M'!$D$11)","v":14.150279542267084},{"$f":"'DNSP Inputs O & M'!$D$247*'DNSP Inputs O & M'!$D$251","v":1.92},null,{"$f":"P274*Q274","v":27.168536721152801},null,null,null,null,null,{"$f":"'DNSP Inputs O & M'!$E$240","v":13.476456706921033},{"$f":"'DNSP Inputs O & M'!$E$245*'DNSP Inputs O & M'!$E$251","v":2.8800000000000003},null,{"$f":"Y274*Z274","v":38.812195315932577},null,null,null,{"$f":"'DNSP Inputs O & M'!$E$240*(1+'DNSP Inputs O & M'!$E$11)","v":14.150279542267084},{"$f":"'DNSP Inputs O & M'!$E$246*'DNSP Inputs O & M'!$E$251","v":2.4000000000000004},null,{"$f":"AF274*AG274","v":33.960670901441006},null,null,null,{"$f":"'DNSP Inputs O & M'!$E$240*(1+'DNSP Inputs O & M'!$E$11)","v":14.150279542267084},{"$f":"'DNSP Inputs O & M'!$E$247*'DNSP Inputs O & M'!$E$251","v":1.92},null,{"$f":"AM274*AN274","v":27.168536721152801},null,null,null,null,null,{"$f":"'DNSP Inputs O & M'!$F$240","v":13.476456706921033},{"$f":"'DNSP Inputs O & M'!$F$245*'DNSP Inputs O & M'!$F$251","v":2.8800000000000003},null,{"$f":"AV274*AW274","v":38.812195315932577},null,null,null,{"$f":"'DNSP Inputs O & M'!$F$240*(1+'DNSP Inputs O & M'!$F$11)","v":14.150279542267084},{"$f":"'DNSP Inputs O & M'!$F$246*'DNSP Inputs O & M'!$F$251","v":2.4000000000000004},null,{"$f":"BC274*BD274","v":33.960670901441006},null,null,null,{"$f":"'DNSP Inputs O & M'!$F$240*(1+'DNSP Inputs O & M'!$F$11)","v":14.150279542267084},{"$f":"'DNSP Inputs O & M'!$F$247*'DNSP Inputs O & M'!$F$251","v":1.92},null,{"$f":"BJ274*BK274","v":27.168536721152801},null,null,null,null,null,{"$f":"'DNSP Inputs O & M'!$G$240","v":13.476456706921033},{"$f":"'DNSP Inputs O & M'!$G$245*'DNSP Inputs O & M'!$G$251","v":2.8800000000000003},null,{"$f":"BS274*BT274","v":38.812195315932577},null,null,null,{"$f":"'DNSP Inputs O & M'!$G$240*(1+'DNSP Inputs O & M'!$G$11)","v":14.150279542267084},{"$f":"'DNSP Inputs O & M'!$G$246*'DNSP Inputs O & M'!$G$251","v":2.4000000000000004},null,{"$f":"BZ274*CA274","v":33.960670901441006},null,null,null,{"$f":"'DNSP Inputs O & M'!$G$240*(1+'DNSP Inputs O & M'!$G$11)","v":14.150279542267084},{"$f":"'DNSP Inputs O & M'!$G$247*'DNSP Inputs O & M'!$G$251","v":1.92},null,{"$f":"CG274*CH274","v":27.168536721152801},null,null,null,null,null,{"$f":"'DNSP Inputs O & M'!$H$240","v":13.476456706921033},{"$f":"'DNSP Inputs O & M'!$H$245*'DNSP Inputs O & M'!$H$251","v":2.8800000000000003},null,{"$f":"CP274*CQ274","v":38.812195315932577},null,null,null,{"$f":"'DNSP Inputs O & M'!$H$240*(1+'DNSP Inputs O & M'!$H$11)","v":14.150279542267084},{"$f":"'DNSP Inputs O & M'!$H$246*'DNSP Inputs O & M'!$H$251","v":2.4000000000000004},null,{"$f":"CW274*CX274","v":33.960670901441006},null,null,null,{"$f":"'DNSP Inputs O & M'!$H$240*(1+'DNSP Inputs O & M'!$H$11)","v":14.150279542267084},{"$f":"'DNSP Inputs O & M'!$H$247*'DNSP Inputs O & M'!$H$251","v":1.92},null,{"$f":"DD274*DE274","v":27.168536721152801}]
["Labour - bulk lamp change"]
["Crew costs",{"$f":"'DNSP Inputs O & M'!$D$12","v":111.36223236834823},{"$f":"'DNSP Inputs O & M'!$D$241","v":2},{"$f":"'DNSP Inputs O & M'!$D$17","v":7.5},{"$f":"B276*C276*D276","v":1670.4334855252234},{"$f":"E276/'DNSP Inputs O & M'!$D$232*(C267+C268)/C267","v":626.41255707195876},{"$f":"(F276+F277)/C267","v":8.9249279892088236},null,{"$f":"'DNSP Inputs O & M'!$D$12","v":111.36223236834823},{"$f":"'DNSP Inputs O & M'!$D$241","v":2},{"$f":"'DNSP Inputs O & M'!$D$17","v":7.5},{"$f":"I276*J276*K276","v":1670.4334855252234},{"$f":"L276/'DNSP Inputs O & M'!$D$232*(C267+C268)/C267","v":626.41255707195876},{"$f":"(M276+M277)/J267","v":11.186111903777206},null,{"$f":"'DNSP Inputs O & M'!$D$12","v":111.36223236834823},{"$f":"'DNSP Inputs O & M'!$D$241","v":2},{"$f":"'DNSP Inputs O & M'!$D$17","v":7.5},{"$f":"P276*Q276*R276","v":1670.4334855252234},{"$f":"S276/'DNSP Inputs O & M'!$D$232*(C267+C268)/C267","v":626.41255707195876},{"$f":"(T276+T277)/Q267","v":13.423334284532647},null,null,null,{"$f":"'DNSP Inputs O & M'!$E$12","v":111.08407886363248},{"$f":"'DNSP Inputs O & M'!$E$241","v":2},{"$f":"'DNSP Inputs O & M'!$E$17","v":7.5},{"$f":"Y276*Z276*AA276","v":1666.2611829544874},{"$f":"AB276/'DNSP Inputs O & M'!$E$232*(Z267+Z268)/Z267","v":624.84794360793273},{"$f":"(AC276+AC277)/Z267","v":8.9067348093945675},null,{"$f":"'DNSP Inputs O & M'!$E$12","v":111.08407886363248},{"$f":"'DNSP Inputs O & M'!$E$241","v":2},{"$f":"'DNSP Inputs O & M'!$E$17","v":7.5},{"$f":"AF276*AG276*AH276","v":1666.2611829544874},{"$f":"AI276/'DNSP Inputs O & M'!$E$232*(Z267+Z268)/Z267","v":624.84794360793273},{"$f":"(AJ276+AJ277)/AG267","v":11.164381161221289},null,{"$f":"'DNSP Inputs O & M'!$E$12","v":111.08407886363248},{"$f":"'DNSP Inputs O & M'!$E$241","v":2},{"$f":"'DNSP Inputs O & M'!$E$17","v":7.5},{"$f":"AM276*AN276*AO276","v":1666.2611829544874},{"$f":"AP276/'DNSP Inputs O & M'!$E$232*(Z267+Z268)/Z267","v":624.84794360793273},{"$f":"(AQ276+AQ277)/AN267","v":13.397257393465546},null,null,null,{"$f":"'DNSP Inputs O & M'!$F$12","v":111.00339776810097},{"$f":"'DNSP Inputs O & M'!$F$241","v":2},{"$f":"'DNSP Inputs O & M'!$F$17","v":7.5},{"$f":"AV276*AW276*AX276","v":1665.0509665215145},{"$f":"AY276/'DNSP Inputs O & M'!$F$232*(AW267+AW268)/AW267","v":624.394112445568},{"$f":"(AZ276+AZ277)/AW267","v":8.901457702855442},null,{"$f":"'DNSP Inputs O & M'!$F$12","v":111.00339776810097},{"$f":"'DNSP Inputs O & M'!$F$241","v":2},{"$f":"'DNSP Inputs O & M'!$F$17","v":7.5},{"$f":"BC276*BD276*BE276","v":1665.0509665215145},{"$f":"BF276/'DNSP Inputs O & M'!$F$232*(AW267+AW268)/AW267","v":624.394112445568},{"$f":"(BG276+BG277)/BD267","v":11.158077950632888},null,{"$f":"'DNSP Inputs O & M'!$F$12","v":111.00339776810097},{"$f":"'DNSP Inputs O & M'!$F$241","v":2},{"$f":"'DNSP Inputs O & M'!$F$17","v":7.5},{"$f":"BJ276*BK276*BL276","v":1665.0509665215145},{"$f":"BM276/'DNSP Inputs O & M'!$F$232*(AW267+AW268)/AW267","v":624.394112445568},{"$f":"(BN276+BN277)/BK267","v":13.389693540759465},null,null,null,{"$f":"'DNSP Inputs O & M'!$G$12","v":111.41108530292857},{"$f":"'DNSP Inputs O & M'!$G$241","v":2},{"$f":"'DNSP Inputs O & M'!$G$17","v":7.5},{"$f":"BS276*BT276*BU276","v":1671.1662795439286},{"$f":"BV276/'DNSP Inputs O & M'!$G$232*(BT267+BT268)/BT267","v":626.68735482897318},{"$f":"(BW276+BW277)/BT267","v":8.9281233119648054},null,{"$f":"'DNSP Inputs O & M'!$G$12","v":111.41108530292857},{"$f":"'DNSP Inputs O & M'!$G$241","v":2},{"$f":"'DNSP Inputs O & M'!$G$17","v":7.5},{"$f":"BZ276*CA276*CB276","v":1671.1662795439286},{"$f":"CC276/'DNSP Inputs O & M'!$G$232*(BT267+BT268)/BT267","v":626.68735482897318},{"$f":"(CD276+CD277)/CA267","v":11.189928539291294},null,{"$f":"'DNSP Inputs O & M'!$G$12","v":111.41108530292857},{"$f":"'DNSP Inputs O & M'!$G$241","v":2},{"$f":"'DNSP Inputs O & M'!$G$17","v":7.5},{"$f":"CG276*CH276*CI276","v":1671.1662795439286},{"$f":"CJ276/'DNSP Inputs O & M'!$G$232*(BT267+BT268)/BT267","v":626.68735482897318},{"$f":"(CK276+CK277)/CH267","v":13.427914247149552},null,null,null,{"$f":"'DNSP Inputs O & M'!$H$12","v":112.5214007824073},{"$f":"'DNSP Inputs O & M'!$H$241","v":2},{"$f":"'DNSP Inputs O & M'!$H$17","v":7.5},{"$f":"CP276*CQ276*CR276","v":1687.8210117361095},{"$f":"CS276/'DNSP Inputs O & M'!$H$232*(CQ267+CQ268)/CQ267","v":632.93287940104108},{"$f":"(CT276+CT277)/CQ267","v":9.0007456907097794},null,{"$f":"'DNSP Inputs O & M'!$H$12","v":112.5214007824073},{"$f":"'DNSP Inputs O & M'!$H$241","v":2},{"$f":"'DNSP Inputs O & M'!$H$17","v":7.5},{"$f":"CW276*CX276*CY276","v":1687.8210117361095},{"$f":"CZ276/'DNSP Inputs O & M'!$H$232*(CQ267+CQ268)/CQ267","v":632.93287940104108},{"$f":"(DA276+DA277)/CX267","v":11.276671936125572},null,{"$f":"'DNSP Inputs O & M'!$H$12","v":112.5214007824073},{"$f":"'DNSP Inputs O & M'!$H$241","v":2},{"$f":"'DNSP Inputs O & M'!$H$17","v":7.5},{"$f":"DD276*DE276*DF276","v":1687.8210117361095},{"$f":"DG276/'DNSP Inputs O & M'!$H$232*(CQ267+CQ268)/CQ267","v":632.93287940104108},{"$f":"(DH276+DH277)/DE267","v":13.532006323350686}]
["Elevated platform vehicle costs",{"$f":"'DNSP Inputs O & M'!$D$14","v":50.18},1,{"$f":"'DNSP Inputs O & M'!$D$17","v":7.5},{"$f":"B277*C277*D277","v":376.35},{"$f":"E277/'DNSP Inputs O & M'!$D$232*(C267+C268)/C267","v":141.13124999999999},null,null,{"$f":"'DNSP Inputs O & M'!$D$15","v":63.64},1,{"$f":"'DNSP Inputs O & M'!$D$17","v":7.5},{"$f":"I277*J277*K277","v":477.3},{"$f":"L277/'DNSP Inputs O & M'!$D$232*(C267+C268)/C267","v":178.98750000000001},null,null,{"$f":"'DNSP Inputs O & M'!$D$15","v":63.64},1,{"$f":"'DNSP Inputs O & M'!$D$17","v":7.5},{"$f":"P277*Q277*R277","v":477.3},{"$f":"S277/'DNSP Inputs O & M'!$D$232*(C267+C268)/C267","v":178.98750000000001},null,null,null,null,{"$f":"'DNSP Inputs O & M'!$E$14","v":50.18},1,{"$f":"'DNSP Inputs O & M'!$E$17","v":7.5},{"$f":"Y277*Z277*AA277","v":376.35},{"$f":"AB277/'DNSP Inputs O & M'!$E$232*(Z267+Z268)/Z267","v":141.13124999999999},null,null,{"$f":"'DNSP Inputs O & M'!$E$15","v":63.64},1,{"$f":"'DNSP Inputs O & M'!$E$17","v":7.5},{"$f":"AF277*AG277*AH277","v":477.3},{"$f":"AI277/'DNSP Inputs O & M'!$E$232*(Z267+Z268)/Z267","v":178.98750000000001},null,null,{"$f":"'DNSP Inputs O & M'!$E$15","v":63.64},1,{"$f":"'DNSP Inputs O & M'!$E$17","v":7.5},{"$f":"AM277*AN277*AO277","v":477.3},{"$f":"AP277/'DNSP Inputs O & M'!$E$232*(Z267+Z268)/Z267","v":178.98750000000001},null,null,null,null,{"$f":"'DNSP Inputs O & M'!$F$14","v":50.18},1,{"$f":"'DNSP Inputs O & M'!$F$17","v":7.5},{"$f":"AV277*AW277*AX277","v":376.35},{"$f":"AY277/'DNSP Inputs O & M'!$F$232*(AW267+AW268)/AW267","v":141.13124999999999},null,null,{"$f":"'DNSP Inputs O & M'!$F$15","v":63.64},1,{"$f":"'DNSP Inputs O & M'!$F$17","v":7.5},{"$f":"BC277*BD277*BE277","v":477.3},{"$f":"BF277/'DNSP Inputs O & M'!$F$232*(AW267+AW268)/AW267","v":178.98750000000001},null,null,{"$f":"'DNSP Inputs O & M'!$F$15","v":63.64},1,{"$f":"'DNSP Inputs O & M'!$F$17","v":7.5},{"$f":"BJ277*BK277*BL277","v":477.3},{"$f":"BM277/'DNSP Inputs O & M'!$F$232*(AW267+AW268)/AW267","v":178.98750000000001},null,null,null,null,{"$f":"'DNSP Inputs O & M'!$G$14","v":50.18},1,{"$f":"'DNSP Inputs O & M'!$G$17","v":7.5},{"$f":"BS277*BT277*BU277","v":376.35},{"$f":"BV277/'DNSP Inputs O & M'!$G$232*(BT267+BT268)/BT267","v":141.13124999999999},null,null,{"$f":"'DNSP Inputs O & M'!$G$15","v":63.64},1,{"$f":"'DNSP Inputs O & M'!$G$17","v":7.5},{"$f":"BZ277*CA277*CB277","v":477.3},{"$f":"CC277/'DNSP Inputs O & M'!$G$232*(BT267+BT268)/BT267","v":178.98750000000001},null,null,{"$f":"'DNSP Inputs O & M'!$G$15","v":63.64},1,{"$f":"'DNSP Inputs O & M'!$G$17","v":7.5},{"$f":"CG277*CH277*CI277","v":477.3},{"$f":"CJ277/'DNSP Inputs O & M'!$G$232*(BT267+BT268)/BT267","v":178.98750000000001},null,null,null,null,{"$f":"'DNSP Inputs O & M'!$H$14","v":50.18},1,{"$f":"'DNSP Inputs O & M'!$H$17","v":7.5},{"$f":"CP277*CQ277*CR277","v":376.35},{"$f":"CS277/'DNSP Inputs O & M'!$H$232*(CQ267+CQ268)/CQ267","v":141.13124999999999},null,null,{"$f":"'DNSP Inputs O & M'!$H$15","v":63.64},1,{"$f":"'DNSP Inputs O & M'!$H$17","v":7.5},{"$f":"CW277*CX277*CY277","v":477.3},{"$f":"CZ277/'DNSP Inputs O & M'!$H$232*(CQ267+CQ268)/CQ267","v":178.98750000000001},null,null,{"$f":"'DNSP Inputs O & M'!$H$15","v":63.64},1,{"$f":"'DNSP Inputs O & M'!$H$17","v":7.5},{"$f":"DD277*DE277*DF277","v":477.3},{"$f":"DG277/'DNSP Inputs O & M'!$H$232*(CQ267+CQ268)/CQ267","v":178.98750000000001}]
["Labour - repair of faults"]
["Crew costs",{"$f":"'DNSP Inputs O & M'!$D$12","v":111.36223236834823},{"$f":"'DNSP Inputs O & M'!$D$241","v":2},{"$f":"'DNSP Inputs O & M'!$D$17","v":7.5},{"$f":"B279*C279*D279","v":1670.4334855252234},{"$f":"(E279+E280)/'DNSP Inputs O & M'!$D$245","v":71.068871025181366},{"$f":"F279*D256","v":7.3850570815045389},null,{"$f":"'DNSP Inputs O & M'!$D$12","v":111.36223236834823},{"$f":"'DNSP Inputs O & M'!$D$241","v":2},{"$f":"'DNSP Inputs O & M'!$D$17","v":7.5},{"$f":"I279*J279*K279","v":1670.4334855252234},{"$f":"(L279+L280)/'DNSP Inputs O & M'!$D$246","v":89.488895230217636},{"$f":"M279*D256","v":9.2991571401460842},null,{"$f":"'DNSP Inputs O & M'!$D$12","v":111.36223236834823},{"$f":"'DNSP Inputs O & M'!$D$241","v":2},{"$f":"'DNSP Inputs O & M'!$D$17","v":7.5},{"$f":"P279*Q279*R279","v":1670.4334855252234},{"$f":"(S279+S280)/'DNSP Inputs O & M'!$D$247","v":111.86111903777206},{"$f":"T279*D256","v":11.623946425182607},null,null,null,{"$f":"'DNSP Inputs O & M'!$E$12","v":111.08407886363248},{"$f":"'DNSP Inputs O & M'!$E$241","v":2},{"$f":"'DNSP Inputs O & M'!$E$17","v":7.5},{"$f":"Y279*Z279*AA279","v":1666.2611829544874},{"$f":"(AB279+AB280)/'DNSP Inputs O & M'!$E$245","v":70.923999408141924},{"$f":"AC279*AA256","v":7.3700028792090349},null,{"$f":"'DNSP Inputs O & M'!$E$12","v":111.08407886363248},{"$f":"'DNSP Inputs O & M'!$E$241","v":2},{"$f":"'DNSP Inputs O & M'!$E$17","v":7.5},{"$f":"AF279*AG279*AH279","v":1666.2611829544874},{"$f":"(AI279+AI280)/'DNSP Inputs O & M'!$E$246","v":89.3150492897703},{"$f":"AJ279*AA256","v":9.2810920973914808},null,{"$f":"'DNSP Inputs O & M'!$E$12","v":111.08407886363248},{"$f":"'DNSP Inputs O & M'!$E$241","v":2},{"$f":"'DNSP Inputs O & M'!$E$17","v":7.5},{"$f":"AM279*AN279*AO279","v":1666.2611829544874},{"$f":"(AP279+AP280)/'DNSP Inputs O & M'!$E$247","v":111.64381161221289},{"$f":"AQ279*AA256","v":11.601365121739351},null,null,null,{"$f":"'DNSP Inputs O & M'!$F$12","v":111.00339776810097},{"$f":"'DNSP Inputs O & M'!$F$241","v":2},{"$f":"'DNSP Inputs O & M'!$F$17","v":7.5},{"$f":"AV279*AW279*AX279","v":1665.0509665215145},{"$f":"(AY279+AY280)/'DNSP Inputs O & M'!$F$245","v":70.881978004219249},{"$f":"AZ279*AX256","v":7.3656362632471195},null,{"$f":"'DNSP Inputs O & M'!$F$12","v":111.00339776810097},{"$f":"'DNSP Inputs O & M'!$F$241","v":2},{"$f":"'DNSP Inputs O & M'!$F$17","v":7.5},{"$f":"BC279*BD279*BE279","v":1665.0509665215145},{"$f":"(BF279+BF280)/'DNSP Inputs O & M'!$F$246","v":89.264623605063107},{"$f":"BG279*AX256","v":9.275852158237182},null,{"$f":"'DNSP Inputs O & M'!$F$12","v":111.00339776810097},{"$f":"'DNSP Inputs O & M'!$F$241","v":2},{"$f":"'DNSP Inputs O & M'!$F$17","v":7.5},{"$f":"BJ279*BK279*BL279","v":1665.0509665215145},{"$f":"(BM279+BM280)/'DNSP Inputs O & M'!$F$247","v":111.58077950632889},{"$f":"BN279*AX256","v":11.594815197796478},null,null,null,{"$f":"'DNSP Inputs O & M'!$G$12","v":111.41108530292857},{"$f":"'DNSP Inputs O & M'!$G$241","v":2},{"$f":"'DNSP Inputs O & M'!$G$17","v":7.5},{"$f":"BS279*BT279*BU279","v":1671.1662795439286},{"$f":"(BV279+BV280)/'DNSP Inputs O & M'!$G$245","v":71.094315261941972},{"$f":"BW279*BU256","v":7.3877010962209937},null,{"$f":"'DNSP Inputs O & M'!$G$12","v":111.41108530292857},{"$f":"'DNSP Inputs O & M'!$G$241","v":2},{"$f":"'DNSP Inputs O & M'!$G$17","v":7.5},{"$f":"BZ279*CA279*CB279","v":1671.1662795439286},{"$f":"(CC279+CC280)/'DNSP Inputs O & M'!$G$246","v":89.519428314330355},{"$f":"CD279*BU256","v":9.3023299578058296},null,{"$f":"'DNSP Inputs O & M'!$G$12","v":111.41108530292857},{"$f":"'DNSP Inputs O & M'!$G$241","v":2},{"$f":"'DNSP Inputs O & M'!$G$17","v":7.5},{"$f":"CG279*CH279*CI279","v":1671.1662795439286},{"$f":"(CJ279+CJ280)/'DNSP Inputs O & M'!$G$247","v":111.89928539291294},{"$f":"CK279*BU256","v":11.627912447257287},null,null,null,{"$f":"'DNSP Inputs O & M'!$H$12","v":112.5214007824073},{"$f":"'DNSP Inputs O & M'!$H$241","v":2},{"$f":"'DNSP Inputs O & M'!$H$17","v":7.5},{"$f":"CP279*CQ279*CR279","v":1687.8210117361095},{"$f":"(CS279+CS280)/'DNSP Inputs O & M'!$H$245","v":71.672604574170464},{"$f":"CT279*CR256","v":7.4477935040336662},null,{"$f":"'DNSP Inputs O & M'!$H$12","v":112.5214007824073},{"$f":"'DNSP Inputs O & M'!$H$241","v":2},{"$f":"'DNSP Inputs O & M'!$H$17","v":7.5},{"$f":"CW279*CX279*CY279","v":1687.8210117361095},{"$f":"(CZ279+CZ280)/'DNSP Inputs O & M'!$H$246","v":90.213375489004576},{"$f":"DA279*CR256","v":9.3744408471810399},null,{"$f":"'DNSP Inputs O & M'!$H$12","v":112.5214007824073},{"$f":"'DNSP Inputs O & M'!$H$241","v":2},{"$f":"'DNSP Inputs O & M'!$H$17","v":7.5},{"$f":"DD279*DE279*DF279","v":1687.8210117361095},{"$f":"(DG279+DG280)/'DNSP Inputs O & M'!$H$247","v":112.76671936125572},{"$f":"DH279*CR256","v":11.7180510589763}]
["Elevated platform vehicle costs",{"$f":"'DNSP Inputs O & M'!$D$14","v":50.18},1,{"$f":"'DNSP Inputs O & M'!$D$17","v":7.5},{"$f":"B280*C280*D280","v":376.35},null,null,null,{"$f":"'DNSP Inputs O & M'!$D$15","v":63.64},1,{"$f":"'DNSP Inputs O & M'!$D$17","v":7.5},{"$f":"I280*J280*K280","v":477.3},null,null,null,{"$f":"'DNSP Inputs O & M'!$D$15","v":63.64},1,{"$f":"'DNSP Inputs O & M'!$D$17","v":7.5},{"$f":"P280*Q280*R280","v":477.3},null,null,null,null,null,{"$f":"'DNSP Inputs O & M'!$E$14","v":50.18},1,{"$f":"'DNSP Inputs O & M'!$E$17","v":7.5},{"$f":"Y280*Z280*AA280","v":376.35},null,null,null,{"$f":"'DNSP Inputs O & M'!$E$15","v":63.64},1,{"$f":"'DNSP Inputs O & M'!$E$17","v":7.5},{"$f":"AF280*AG280*AH280","v":477.3},null,null,null,{"$f":"'DNSP Inputs O & M'!$E$15","v":63.64},1,{"$f":"'DNSP Inputs O & M'!$E$17","v":7.5},{"$f":"AM280*AN280*AO280","v":477.3},null,null,null,null,null,{"$f":"'DNSP Inputs O & M'!$F$14","v":50.18},1,{"$f":"'DNSP Inputs O & M'!$F$17","v":7.5},{"$f":"AV280*AW280*AX280","v":376.35},null,null,null,{"$f":"'DNSP Inputs O & M'!$F$15","v":63.64},1,{"$f":"'DNSP Inputs O & M'!$F$17","v":7.5},{"$f":"BC280*BD280*BE280","v":477.3},null,null,null,{"$f":"'DNSP Inputs O & M'!$F$15","v":63.64},1,{"$f":"'DNSP Inputs O & M'!$F$17","v":7.5},{"$f":"BJ280*BK280*BL280","v":477.3},null,null,null,null,null,{"$f":"'DNSP Inputs O & M'!$G$14","v":50.18},1,{"$f":"'DNSP Inputs O & M'!$G$17","v":7.5},{"$f":"BS280*BT280*BU280","v":376.35},null,null,null,{"$f":"'DNSP Inputs O & M'!$G$15","v":63.64},1,{"$f":"'DNSP Inputs O & M'!$G$17","v":7.5},{"$f":"BZ280*CA280*CB280","v":477.3},null,null,null,{"$f":"'DNSP Inputs O & M'!$G$15","v":63.64},1,{"$f":"'DNSP Inputs O & M'!$G$17","v":7.5},{"$f":"CG280*CH280*CI280","v":477.3},null,null,null,null,null,{"$f":"'DNSP Inputs O & M'!$H$14","v":50.18},1,{"$f":"'DNSP Inputs O & M'!$H$17","v":7.5},{"$f":"CP280*CQ280*CR280","v":376.35},null,null,null,{"$f":"'DNSP Inputs O & M'!$H$15","v":63.64},1,{"$f":"'DNSP Inputs O & M'!$H$17","v":7.5},{"$f":"CW280*CX280*CY280","v":477.3},null,null,null,{"$f":"'DNSP Inputs O & M'!$H$15","v":63.64},1,{"$f":"'DNSP Inputs O & M'!$H$17","v":7.5},{"$f":"DD280*DE280*DF280","v":477.3}]
["Other Maintenance and Repair costs",null,null,null,null,null,{"$f":"'DNSP Inputs O & M'!$D$258","v":1.05},null,null,null,null,null,null,{"$f":"'DNSP Inputs O & M'!$D$258","v":1.05},null,null,null,null,null,null,{"$f":"'DNSP Inputs O & M'!$D$258","v":1.05},null,null,null,null,null,null,null,null,{"$f":"'DNSP Inputs O & M'!$E$258","v":1.05},null,null,null,null,null,null,{"$f":"'DNSP Inputs O & M'!$E$258","v":1.05},null,null,null,null,null,null,{"$f":"'DNSP Inputs O & M'!$E$258","v":1.05},null,null,null,null,null,null,null,null,{"$f":"'DNSP Inputs O & M'!$F$258","v":1.05},null,null,null,null,null,null,{"$f":"'DNSP Inputs O & M'!$F$258","v":1.05},null,null,null,null,null,null,{"$f":"'DNSP Inputs O & M'!$F$258","v":1.05},null,null,null,null,null,null,null,null,{"$f":"'DNSP Inputs O & M'!$G$258","v":1.05},null,null,null,null,null,null,{"$f":"'DNSP Inputs O & M'!$G$258","v":1.05},null,null,null,null,null,null,{"$f":"'DNSP Inputs O & M'!$G$258","v":1.05},null,null,null,null,null,null,null,null,{"$f":"'DNSP Inputs O & M'!$H$258","v":1.05},null,null,null,null,null,null,{"$f":"'DNSP Inputs O & M'!$H$258","v":1.05},null,null,null,null,null,null,{"$f":"'DNSP Inputs O & M'!$H$258","v":1.05}]
[]
["Overheads",{"$f":"'DNSP Inputs O & M'!$D$18","v":0.25},null,null,null,null,{"$f":"B283*SUM(G267:G281)","v":5.760637215970581},null,{"$f":"'DNSP Inputs O & M'!$D$18","v":0.25},null,null,null,null,{"$f":"I283*SUM(N267:N281)","v":6.8754902566876757},null,{"$f":"'DNSP Inputs O & M'!$D$18","v":0.25},null,null,null,null,{"$f":"P283*SUM(U267:U281)","v":8.0159931731356657},null,null,null,{"$f":"'DNSP Inputs O & M'!$E$18","v":0.25},null,null,null,null,{"$f":"Y283*SUM(AD267:AD281)","v":5.7523253704431418},null,{"$f":"'DNSP Inputs O & M'!$E$18","v":0.25},null,null,null,null,{"$f":"AF283*SUM(AK267:AK281)","v":6.8655413103600447},null,{"$f":"'DNSP Inputs O & M'!$E$18","v":0.25},null,null,null,null,{"$f":"AM283*SUM(AR267:AR281)","v":8.0038286245080759},null,null,null,{"$f":"'DNSP Inputs O & M'!$F$18","v":0.25},null,null,null,null,{"$f":"AV283*SUM(BA267:BA281)","v":5.7499144398178812},null,{"$f":"'DNSP Inputs O & M'!$F$18","v":0.25},null,null,null,null,{"$f":"BC283*SUM(BH267:BH281)","v":6.8626555229243706},null,{"$f":"'DNSP Inputs O & M'!$F$18","v":0.25},null,null,null,null,{"$f":"BJ283*SUM(BO267:BO281)","v":8.0003001803458389},null,null,null,{"$f":"'DNSP Inputs O & M'!$G$18","v":0.25},null,null,null,null,{"$f":"BS283*SUM(BX267:BX281)","v":5.7620970503386904},null,{"$f":"'DNSP Inputs O & M'!$G$18","v":0.25},null,null,null,null,{"$f":"BZ283*SUM(CE267:CE281)","v":6.8772376199811331},null,{"$f":"'DNSP Inputs O & M'!$G$18","v":0.25},null,null,null,null,{"$f":"CG283*SUM(CL267:CL281)","v":8.0181296693085624},null,null,null,{"$f":"'DNSP Inputs O & M'!$H$18","v":0.25},null,null,null,null,{"$f":"CP283*SUM(CU267:CU281)","v":5.7952757469781018},null,{"$f":"'DNSP Inputs O & M'!$H$18","v":0.25},null,null,null,null,{"$f":"CW283*SUM(DB267:DB281)","v":6.9169511915335056},null,{"$f":"'DNSP Inputs O & M'!$H$18","v":0.25},null,null,null,null,{"$f":"DD283*SUM(DI267:DI281)","v":8.0666873412885991}]
[]
[null,null,null,null,null,null,{"$f":"SUM(G267,G271,G276,G279,G281,G283)","v":28.803186079852907},null,null,null,null,null,null,{"$f":"SUM(N267,N271,N276,N279,N281,N283)","v":34.377451283438376},null,null,null,null,null,null,{"$f":"SUM(U267,U271,U276,U279,U281,U283)","v":40.079965865678332},null,null,null,null,null,null,null,null,{"$f":"SUM(AD267,AD271,AD276,AD279,AD281,AD283)","v":28.761626852215709},null,null,null,null,null,null,{"$f":"SUM(AK267,AK271,AK276,AK279,AK281,AK283)","v":34.327706551800226},null,null,null,null,null,null,{"$f":"SUM(AR267,AR271,AR276,AR279,AR281,AR283)","v":40.019143122540378},null,null,null,null,null,null,null,null,{"$f":"SUM(BA267,BA271,BA276,BA279,BA281,BA283)","v":28.749572199089407},null,null,null,null,null,null,{"$f":"SUM(BH267,BH271,BH276,BH279,BH281,BH283)","v":34.313277614621853},null,null,null,null,null,null,{"$f":"SUM(BO267,BO271,BO276,BO279,BO281,BO283)","v":40.001500901729194},null,null,null,null,null,null,null,null,{"$f":"SUM(BX267,BX271,BX276,BX279,BX281,BX283)","v":28.81048525169345},null,null,null,null,null,null,{"$f":"SUM(CE267,CE271,CE276,CE279,CE281,CE283)","v":34.386188099905667},null,null,null,null,null,null,{"$f":"SUM(CL267,CL271,CL276,CL279,CL281,CL283)","v":40.090648346542814},null,null,null,null,null,null,null,null,{"$f":"SUM(CU267,CU271,CU276,CU279,CU281,CU283)","v":28.97637873489051},null,null,null,null,null,null,{"$f":"SUM(DB267,DB271,DB276,DB279,DB281,DB283)","v":34.584755957667525},null,null,null,null,null,null,{"$f":"SUM(DI267,DI271,DI276,DI279,DI281,DI283)","v":40.333436706442996}]
[]
[]
[]
[]
["Category P LED 18 Watt - Cost build-up"]
[]
["Additional assumptions"]
["Proportion of luminaire that will fail before bulk change",null,null,{"$f":"'DNSP Inputs O & M'!$D$284","v":4.2746393209543501E-2},null,null,null,null,null,null,null,null,null,null,null,null,null,null,null,null,null,null,null,null,null,null,{"$f":"'DNSP Inputs O & M'!$E$284","v":4.2746393209543501E-2},null,null,null,null,null,null,null,null,null,null,null,null,null,null,null,null,null,null,null,null,null,null,{"$f":"'DNSP Inputs O & M'!$F$284","v":4.2746393209543501E-2},null,null,null,null,null,null,null,null,null,null,null,null,null,null,null,null,null,null,null,null,null,null,{"$f":"'DNSP Inputs O & M'!$G$284","v":4.2746393209543501E-2},null,null,null,null,null,null,null,null,null,null,null,null,null,null,null,null,null,null,null,null,null,null,{"$f":"'DNSP Inputs O & M'!$H$284","v":4.2746393209543501E-2}]
["Proportion of lamps that will fail before bulk change (per year)",null,null,{"$f":"D293/'DNSP Inputs O & M'!$D$283","v":5.3432991511929376E-3},null,null,null,null,null,null,null,null,null,null,null,null,null,null,null,null,null,null,null,null,null,null,{"$f":"AA293/'DNSP Inputs O & M'!$E$283","v":5.3432991511929376E-3},null,null,null,null,null,null,null,null,null,null,null,null,null,null,null,null,null,null,null,null,null,null,{"$f":"AX293/'DNSP Inputs O & M'!$F$283","v":5.3432991511929376E-3},null,null,null,null,null,null,null,null,null,null,null,null,null,null,null,null,null,null,null,null,null,null,{"$f":"BU293/'DNSP Inputs O & M'!$G$283","v":5.3432991511929376E-3},null,null,null,null,null,null,null,null,null,null,null,null,null,null,null,null,null,null,null,null,null,null,{"$f":"CR293/'DNSP Inputs O & M'!$H$283","v":5.3432991511929376E-3}]
["Overheads are applied to material and labour components"]
["All costs and charges are exclusive of GST"]
[]
[null,"Urban",null,null,null,null,null,null,"Rural",null,null,null,null,null,null,"Remote",null,null,null,null,null,null,null,null,"Urban",null,null,null,null,null,null,"Rural",null,null,null,null,null,null,"Remote",null,null,null,null,null,null,null,null,"Urban",null,null,null,null,null,null,"Rural",null,null,null,null,null,null,"Remote",null,null,null,null,null,null,null,null,"Urban",null,null,null,null,null,null,"Rural",null,null,null,null,null,null,"Remote",null,null,null,null,null,null,null,null,"Urban",null,null,null,null,null,null,"Rural",null,null,null,null,null,null,"Remote"]
[]
[null,"Unit rate","Number","Hours","Cost","Annualised","Annualised",null,"Unit rate","Number","Hours","Cost","Annualised","Annualised",null,"Unit rate","Number","Hours","Cost","Annualised","Annualised",null,null,null,"Unit rate","Number","Hours","Cost","Annualised","Annualised",null,"Unit rate","Number","Hours","Cost","Annualised","Annualised",null,"Unit rate","Number","Hours","Cost","Annualised","Annualised",null,null,null,"Unit rate","Number","Hours","Cost","Annualised","Annualised",null,"Unit rate","Number","Hours","Cost","Annualised","Annualised",null,"Unit rate","Number","Hours","Cost","Annualised","Annualised",null,null,null,"Unit rate","Number","Hours","Cost","Annualised","Annualised",null,"Unit rate","Number","Hours","Cost","Annualised","Annualised",null,"Unit rate","Number","Hours","Cost","Annualised","Annualised",null,null,null,"Unit rate","Number","Hours","Cost","Annualised","Annualised",null,"Unit rate","Number","Hours","Cost","Annualised","Annualised",null,"Unit rate","Number","Hours","Cost","Annualised","Annualised"]
[null,null,null,null,null," cost","unit cost",null,null,null,null,null," cost","unit cost",null,null,null,null,null," cost","unit cost",null,null,null,null,null,null,null," cost","unit cost",null,null,null,null,null," cost","unit cost",null,null,null,null,null," cost","unit cost",null,null,null,null,null,null,null," cost","unit cost",null,null,null,null,null," cost","unit cost",null,null,null,null,null," cost","unit cost",null,null,null,null,null,null,null," cost","unit cost",null,null,null,null,null," cost","unit cost",null,null,null,null,null," cost","unit cost",null,null,null,null,null,null,null," cost","unit cost",null,null,null,null,null," cost","unit cost",null,null,null,null,null," cost","unit cost"]
["LED 18W"]
["Bulk change & repairs"]
["Materials - bulk PE cell change"]
["PE cell",{"$f":"'DNSP Inputs O & M'!$D$285","v":15.120000000000001},{"$f":"'DNSP Inputs O & M'!$D$289","v":73.92},null,{"$f":"B305*C305","v":1117.6704000000002},{"$f":"E305/'DNSP Inputs O & M'!$D$283","v":139.70880000000002},{"$f":"IFERROR(F305/C305,0)","v":1.8900000000000003},null,{"$f":"'DNSP Inputs O & M'!$D$285*(1+'DNSP Inputs O & M'!$D$11)","v":15.876000000000001},{"$f":"'DNSP Inputs O & M'!$D$290","v":61.44},null,{"$f":"I305*J305","v":975.42144000000008},{"$f":"L305/'DNSP Inputs O & M'!$D$283","v":121.92768000000001},{"$f":"IFERROR(M305/J305,0)","v":1.9845000000000002},null,{"$f":"'DNSP Inputs O & M'!$D$285*(1+'DNSP Inputs O & M'!$D$11)","v":15.876000000000001},{"$f":"'DNSP Inputs O & M'!$D$291","v":48.96},null,{"$f":"P305*Q305","v":777.28896000000009},{"$f":"S305/'DNSP Inputs O & M'!$D$283","v":97.161120000000011},{"$f":"IFERROR(T305/Q305,0)","v":1.9845000000000002},null,null,null,{"$f":"'DNSP Inputs O & M'!$E$285","v":15.120000000000001},{"$f":"'DNSP Inputs O & M'!$E$289","v":73.92},null,{"$f":"Y305*Z305","v":1117.6704000000002},{"$f":"AB305/'DNSP Inputs O & M'!$E$283","v":139.70880000000002},{"$f":"IFERROR(AC305/Z305,0)","v":1.8900000000000003},null,{"$f":"'DNSP Inputs O & M'!$E$285*(1+'DNSP Inputs O & M'!$E$11)","v":15.876000000000001},{"$f":"'DNSP Inputs O & M'!$E$290","v":61.44},null,{"$f":"AF305*AG305","v":975.42144000000008},{"$f":"AI305/'DNSP Inputs O & M'!$E$283","v":121.92768000000001},{"$f":"IFERROR(AJ305/AG305,0)","v":1.9845000000000002},null,{"$f":"'DNSP Inputs O & M'!$E$285*(1+'DNSP Inputs O & M'!$E$11)","v":15.876000000000001},{"$f":"'DNSP Inputs O & M'!$E$291","v":48.96},null,{"$f":"AM305*AN305","v":777.28896000000009},{"$f":"AP305/'DNSP Inputs O & M'!$E$283","v":97.161120000000011},{"$f":"IFERROR(AQ305/AN305,0)","v":1.9845000000000002},null,null,null,{"$f":"'DNSP Inputs O & M'!$F$285","v":15.120000000000001},{"$f":"'DNSP Inputs O & M'!$F$289","v":73.92},null,{"$f":"AV305*AW305","v":1117.6704000000002},{"$f":"AY305/'DNSP Inputs O & M'!$F$283","v":139.70880000000002},{"$f":"IFERROR(AZ305/AW305,0)","v":1.8900000000000003},null,{"$f":"'DNSP Inputs O & M'!$F$285*(1+'DNSP Inputs O & M'!$F$11)","v":15.876000000000001},{"$f":"'DNSP Inputs O & M'!$F$290","v":61.44},null,{"$f":"BC305*BD305","v":975.42144000000008},{"$f":"BF305/'DNSP Inputs O & M'!$F$283","v":121.92768000000001},{"$f":"IFERROR(BG305/BD305,0)","v":1.9845000000000002},null,{"$f":"'DNSP Inputs O & M'!$F$285*(1+'DNSP Inputs O & M'!$F$11)","v":15.876000000000001},{"$f":"'DNSP Inputs O & M'!$F$291","v":48.96},null,{"$f":"BJ305*BK305","v":777.28896000000009},{"$f":"BM305/'DNSP Inputs O & M'!$F$283","v":97.161120000000011},{"$f":"IFERROR(BN305/BK305,0)","v":1.9845000000000002},null,null,null,{"$f":"'DNSP Inputs O & M'!$G$285","v":15.120000000000001},{"$f":"'DNSP Inputs O & M'!$G$289","v":73.92},null,{"$f":"BS305*BT305","v":1117.6704000000002},{"$f":"BV305/'DNSP Inputs O & M'!$G$283","v":139.70880000000002},{"$f":"IFERROR(BW305/BT305,0)","v":1.8900000000000003},null,{"$f":"'DNSP Inputs O & M'!$G$285*(1+'DNSP Inputs O & M'!$G$11)","v":15.876000000000001},{"$f":"'DNSP Inputs O & M'!$G$290","v":61.44},null,{"$f":"BZ305*CA305","v":975.42144000000008},{"$f":"CC305/'DNSP Inputs O & M'!$G$283","v":121.92768000000001},{"$f":"IFERROR(CD305/CA305,0)","v":1.9845000000000002},null,{"$f":"'DNSP Inputs O & M'!$G$285*(1+'DNSP Inputs O & M'!$G$11)","v":15.876000000000001},{"$f":"'DNSP Inputs O & M'!$G$291","v":48.96},null,{"$f":"CG305*CH305","v":777.28896000000009},{"$f":"CJ305/'DNSP Inputs O & M'!$G$283","v":97.161120000000011},{"$f":"IFERROR(CK305/CH305,0)","v":1.9845000000000002},null,null,null,{"$f":"'DNSP Inputs O & M'!$H$285","v":15.120000000000001},{"$f":"'DNSP Inputs O & M'!$H$289","v":73.92},null,{"$f":"CP305*CQ305","v":1117.6704000000002},{"$f":"CS305/'DNSP Inputs O & M'!$H$283","v":139.70880000000002},{"$f":"IFERROR(CT305/CQ305,0)","v":1.8900000000000003},null,{"$f":"'DNSP Inputs O & M'!$H$285*(1+'DNSP Inputs O & M'!$H$11)","v":15.876000000000001},{"$f":"'DNSP Inputs O & M'!$H$290","v":61.44},null,{"$f":"CW305*CX305","v":975.42144000000008},{"$f":"CZ305/'DNSP Inputs O & M'!$H$283","v":121.92768000000001},{"$f":"IFERROR(DA305/CX305,0)","v":1.9845000000000002},null,{"$f":"'DNSP Inputs O & M'!$H$285*(1+'DNSP Inputs O & M'!$H$11)","v":15.876000000000001},{"$f":"'DNSP Inputs O & M'!$H$291","v":48.96},null,{"$f":"DD305*DE305","v":777.28896000000009},{"$f":"DG305/'DNSP Inputs O & M'!$H$283","v":97.161120000000011},{"$f":"IFERROR(DH305/DE305,0)","v":1.9845000000000002}]
["Materials - repair of faults"]
["PE cell",{"$f":"'DNSP Inputs O & M'!$D$285","v":15.120000000000001},{"$f":"'DNSP Inputs O & M'!$D$292*'DNSP Inputs O & M'!$D$295","v":22.464000000000002},null,{"$f":"B307*C307","v":339.65568000000007},{"$f":"(E307+E308+E309)/'DNSP Inputs O & M'!$D$292","v":15.926843842435392},{"$f":"F307*D294","v":8.5101891184467496E-2},null,{"$f":"'DNSP Inputs O & M'!$D$285*(1+'DNSP Inputs O & M'!$D$11)","v":15.876000000000001},{"$f":"'DNSP Inputs O & M'!$D$293*'DNSP Inputs O & M'!$D$295","v":18.144000000000002},null,{"$f":"I307*J307","v":288.05414400000006},{"$f":"(L307+L308+L309)/'DNSP Inputs O & M'!$D$293","v":16.723186034557159},{"$f":"M307*D294","v":8.9356985743690859E-2},null,{"$f":"'DNSP Inputs O & M'!$D$285*(1+'DNSP Inputs O & M'!$D$11)","v":15.876000000000001},{"$f":"'DNSP Inputs O & M'!$D$294*'DNSP Inputs O & M'!$D$295","v":14.688000000000001},null,{"$f":"P307*Q307","v":233.18668800000003},{"$f":"(S307+S308+S309)/'DNSP Inputs O & M'!$D$294","v":16.723186034557159},{"$f":"T307*D294","v":8.9356985743690859E-2},null,null,null,{"$f":"'DNSP Inputs O & M'!$E$285","v":15.120000000000001},{"$f":"'DNSP Inputs O & M'!$E$292*'DNSP Inputs O & M'!$E$295","v":22.464000000000002},null,{"$f":"Y307*Z307","v":339.65568000000007},{"$f":"(AB307+AB308+AB309)/'DNSP Inputs O & M'!$E$292","v":15.926843842435392},{"$f":"AC307*AA294","v":8.5101891184467496E-2},null,{"$f":"'DNSP Inputs O & M'!$E$285*(1+'DNSP Inputs O & M'!$E$11)","v":15.876000000000001},{"$f":"'DNSP Inputs O & M'!$E$293*'DNSP Inputs O & M'!$E$295","v":18.144000000000002},null,{"$f":"AF307*AG307","v":288.05414400000006},{"$f":"(AI307+AI308+AI309)/'DNSP Inputs O & M'!$E$293","v":16.723186034557159},{"$f":"AJ307*AA294","v":8.9356985743690859E-2},null,{"$f":"'DNSP Inputs O & M'!$E$285*(1+'DNSP Inputs O & M'!$E$11)","v":15.876000000000001},{"$f":"'DNSP Inputs O & M'!$E$294*'DNSP Inputs O & M'!$E$295","v":14.688000000000001},null,{"$f":"AM307*AN307","v":233.18668800000003},{"$f":"(AP307+AP308+AP309)/'DNSP Inputs O & M'!$E$294","v":16.723186034557159},{"$f":"AQ307*AA294","v":8.9356985743690859E-2},null,null,null,{"$f":"'DNSP Inputs O & M'!$F$285","v":15.120000000000001},{"$f":"'DNSP Inputs O & M'!$F$292*'DNSP Inputs O & M'!$F$295","v":22.464000000000002},null,{"$f":"AV307*AW307","v":339.65568000000007},{"$f":"(AY307+AY308+AY309)/'DNSP Inputs O & M'!$F$292","v":15.926843842435392},{"$f":"AZ307*AX294","v":8.5101891184467496E-2},null,{"$f":"'DNSP Inputs O & M'!$F$285*(1+'DNSP Inputs O & M'!$F$11)","v":15.876000000000001},{"$f":"'DNSP Inputs O & M'!$F$293*'DNSP Inputs O & M'!$F$295","v":18.144000000000002},null,{"$f":"BC307*BD307","v":288.05414400000006},{"$f":"(BF307+BF308+BF309)/'DNSP Inputs O & M'!$F$293","v":16.723186034557159},{"$f":"BG307*AX294","v":8.9356985743690859E-2},null,{"$f":"'DNSP Inputs O & M'!$F$285*(1+'DNSP Inputs O & M'!$F$11)","v":15.876000000000001},{"$f":"'DNSP Inputs O & M'!$F$294*'DNSP Inputs O & M'!$F$295","v":14.688000000000001},null,{"$f":"BJ307*BK307","v":233.18668800000003},{"$f":"(BM307+BM308+BM309)/'DNSP Inputs O & M'!$F$294","v":16.723186034557159},{"$f":"BN307*AX294","v":8.9356985743690859E-2},null,null,null,{"$f":"'DNSP Inputs O & M'!$G$285","v":15.120000000000001},{"$f":"'DNSP Inputs O & M'!$G$292*'DNSP Inputs O & M'!$G$295","v":22.464000000000002},null,{"$f":"BS307*BT307","v":339.65568000000007},{"$f":"(BV307+BV308+BV309)/'DNSP Inputs O & M'!$G$292","v":15.926843842435392},{"$f":"BW307*BU294","v":8.5101891184467496E-2},null,{"$f":"'DNSP Inputs O & M'!$G$285*(1+'DNSP Inputs O & M'!$G$11)","v":15.876000000000001},{"$f":"'DNSP Inputs O & M'!$G$293*'DNSP Inputs O & M'!$G$295","v":18.144000000000002},null,{"$f":"BZ307*CA307","v":288.05414400000006},{"$f":"(CC307+CC308+CC309)/'DNSP Inputs O & M'!$G$293","v":16.723186034557159},{"$f":"CD307*BU294","v":8.9356985743690859E-2},null,{"$f":"'DNSP Inputs O & M'!$G$285*(1+'DNSP Inputs O & M'!$G$11)","v":15.876000000000001},{"$f":"'DNSP Inputs O & M'!$G$294*'DNSP Inputs O & M'!$G$295","v":14.688000000000001},null,{"$f":"CG307*CH307","v":233.18668800000003},{"$f":"(CJ307+CJ308+CJ309)/'DNSP Inputs O & M'!$G$294","v":16.723186034557159},{"$f":"CK307*BU294","v":8.9356985743690859E-2},null,null,null,{"$f":"'DNSP Inputs O & M'!$H$285","v":15.120000000000001},{"$f":"'DNSP Inputs O & M'!$H$292*'DNSP Inputs O & M'!$H$295","v":22.464000000000002},null,{"$f":"CP307*CQ307","v":339.65568000000007},{"$f":"(CS307+CS308+CS309)/'DNSP Inputs O & M'!$H$292","v":15.926843842435392},{"$f":"CT307*CR294","v":8.5101891184467496E-2},null,{"$f":"'DNSP Inputs O & M'!$H$285*(1+'DNSP Inputs O & M'!$H$11)","v":15.876000000000001},{"$f":"'DNSP Inputs O & M'!$H$293*'DNSP Inputs O & M'!$H$295","v":18.144000000000002},null,{"$f":"CW307*CX307","v":288.05414400000006},{"$f":"(CZ307+CZ308+CZ309)/'DNSP Inputs O & M'!$H$293","v":16.723186034557159},{"$f":"DA307*CR294","v":8.9356985743690859E-2},null,{"$f":"'DNSP Inputs O & M'!$H$285*(1+'DNSP Inputs O & M'!$H$11)","v":15.876000000000001},{"$f":"'DNSP Inputs O & M'!$H$294*'DNSP Inputs O & M'!$H$295","v":14.688000000000001},null,{"$f":"DD307*DE307","v":233.18668800000003},{"$f":"(DG307+DG308+DG309)/'DNSP Inputs O & M'!$H$294","v":16.723186034557159},{"$f":"DH307*CR294","v":8.9356985743690859E-2}]
["Luminaire",{"$f":"'DNSP Inputs O & M'!$D$286","v":205},{"$f":"'DNSP Inputs O & M'!$D$292*'DNSP Inputs O & M'!$D$296","v":0},null,{"$f":"B308*C308","v":0},null,null,null,{"$f":"'DNSP Inputs O & M'!$D$286*(1+'DNSP Inputs O & M'!$D$11)","v":215.25},{"$f":"'DNSP Inputs O & M'!$D$293*'DNSP Inputs O & M'!$D$296","v":0},null,{"$f":"I308*J308","v":0},null,null,null,{"$f":"'DNSP Inputs O & M'!$D$286*(1+'DNSP Inputs O & M'!$D$11)","v":215.25},{"$f":"'DNSP Inputs O & M'!$D$294*'DNSP Inputs O & M'!$D$296","v":0},null,{"$f":"P308*Q308","v":0},null,null,null,null,null,{"$f":"'DNSP Inputs O & M'!$E$286","v":205},{"$f":"'DNSP Inputs O & M'!$E$292*'DNSP Inputs O & M'!$E$296","v":0},null,{"$f":"Y308*Z308","v":0},null,null,null,{"$f":"'DNSP Inputs O & M'!$E$286*(1+'DNSP Inputs O & M'!$E$11)","v":215.25},{"$f":"'DNSP Inputs O & M'!$E$293*'DNSP Inputs O & M'!$E$296","v":0},null,{"$f":"AF308*AG308","v":0},null,null,null,{"$f":"'DNSP Inputs O & M'!$E$286*(1+'DNSP Inputs O & M'!$E$11)","v":215.25},{"$f":"'DNSP Inputs O & M'!$E$294*'DNSP Inputs O & M'!$E$296","v":0},null,{"$f":"AM308*AN308","v":0},null,null,null,null,null,{"$f":"'DNSP Inputs O & M'!$F$286","v":205},{"$f":"'DNSP Inputs O & M'!$F$292*'DNSP Inputs O & M'!$F$296","v":0},null,{"$f":"AV308*AW308","v":0},null,null,null,{"$f":"'DNSP Inputs O & M'!$F$286*(1+'DNSP Inputs O & M'!$F$11)","v":215.25},{"$f":"'DNSP Inputs O & M'!$F$293*'DNSP Inputs O & M'!$F$296","v":0},null,{"$f":"BC308*BD308","v":0},null,null,null,{"$f":"'DNSP Inputs O & M'!$F$286*(1+'DNSP Inputs O & M'!$F$11)","v":215.25},{"$f":"'DNSP Inputs O & M'!$F$294*'DNSP Inputs O & M'!$F$296","v":0},null,{"$f":"BJ308*BK308","v":0},null,null,null,null,null,{"$f":"'DNSP Inputs O & M'!$G$286","v":205},{"$f":"'DNSP Inputs O & M'!$G$292*'DNSP Inputs O & M'!$G$296","v":0},null,{"$f":"BS308*BT308","v":0},null,null,null,{"$f":"'DNSP Inputs O & M'!$G$286*(1+'DNSP Inputs O & M'!$G$11)","v":215.25},{"$f":"'DNSP Inputs O & M'!$G$293*'DNSP Inputs O & M'!$G$296","v":0},null,{"$f":"BZ308*CA308","v":0},null,null,null,{"$f":"'DNSP Inputs O & M'!$G$286*(1+'DNSP Inputs O & M'!$G$11)","v":215.25},{"$f":"'DNSP Inputs O & M'!$G$294*'DNSP Inputs O & M'!$G$296","v":0},null,{"$f":"CG308*CH308","v":0},null,null,null,null,null,{"$f":"'DNSP Inputs O & M'!$H$286","v":205},{"$f":"'DNSP Inputs O & M'!$H$292*'DNSP Inputs O & M'!$H$296","v":0},null,{"$f":"CP308*CQ308","v":0},null,null,null,{"$f":"'DNSP Inputs O & M'!$H$286*(1+'DNSP Inputs O & M'!$H$11)","v":215.25},{"$f":"'DNSP Inputs O & M'!$H$293*'DNSP Inputs O & M'!$H$296","v":0},null,{"$f":"CW308*CX308","v":0},null,null,null,{"$f":"'DNSP Inputs O & M'!$H$286*(1+'DNSP Inputs O & M'!$H$11)","v":215.25},{"$f":"'DNSP Inputs O & M'!$H$294*'DNSP Inputs O & M'!$H$296","v":0},null,{"$f":"DD308*DE308","v":0}]
["Miscellaneous",{"$f":"'DNSP Inputs O & M'!$D$287","v":23.188438424353883},{"$f":"'DNSP Inputs O & M'!$D$292*'DNSP Inputs O & M'!$D$297","v":2.4960000000000004},null,{"$f":"B309*C309","v":57.878342307187303},null,null,null,{"$f":"'DNSP Inputs O & M'!$D$287*(1+'DNSP Inputs O & M'!$D$11)","v":24.347860345571579},{"$f":"'DNSP Inputs O & M'!$D$293*'DNSP Inputs O & M'!$D$297","v":2.016},null,{"$f":"I309*J309","v":49.085286456672307},null,null,null,{"$f":"'DNSP Inputs O & M'!$D$287*(1+'DNSP Inputs O & M'!$D$11)","v":24.347860345571579},{"$f":"'DNSP Inputs O & M'!$D$294*'DNSP Inputs O & M'!$D$297","v":1.6320000000000001},null,{"$f":"P309*Q309","v":39.735708083972817},null,null,null,null,null,{"$f":"'DNSP Inputs O & M'!$E$287","v":23.188438424353883},{"$f":"'DNSP Inputs O & M'!$E$292*'DNSP Inputs O & M'!$E$297","v":2.4960000000000004},null,{"$f":"Y309*Z309","v":57.878342307187303},null,null,null,{"$f":"'DNSP Inputs O & M'!$E$287*(1+'DNSP Inputs O & M'!$E$11)","v":24.347860345571579},{"$f":"'DNSP Inputs O & M'!$E$293*'DNSP Inputs O & M'!$E$297","v":2.016},null,{"$f":"AF309*AG309","v":49.085286456672307},null,null,null,{"$f":"'DNSP Inputs O & M'!$E$287*(1+'DNSP Inputs O & M'!$E$11)","v":24.347860345571579},{"$f":"'DNSP Inputs O & M'!$E$294*'DNSP Inputs O & M'!$E$297","v":1.6320000000000001},null,{"$f":"AM309*AN309","v":39.735708083972817},null,null,null,null,null,{"$f":"'DNSP Inputs O & M'!$F$287","v":23.188438424353883},{"$f":"'DNSP Inputs O & M'!$F$292*'DNSP Inputs O & M'!$F$297","v":2.4960000000000004},null,{"$f":"AV309*AW309","v":57.878342307187303},null,null,null,{"$f":"'DNSP Inputs O & M'!$F$287*(1+'DNSP Inputs O & M'!$F$11)","v":24.347860345571579},{"$f":"'DNSP Inputs O & M'!$F$293*'DNSP Inputs O & M'!$F$297","v":2.016},null,{"$f":"BC309*BD309","v":49.085286456672307},null,null,null,{"$f":"'DNSP Inputs O & M'!$F$287*(1+'DNSP Inputs O & M'!$F$11)","v":24.347860345571579},{"$f":"'DNSP Inputs O & M'!$F$294*'DNSP Inputs O & M'!$F$297","v":1.6320000000000001},null,{"$f":"BJ309*BK309","v":39.735708083972817},null,null,null,null,null,{"$f":"'DNSP Inputs O & M'!$G$287","v":23.188438424353883},{"$f":"'DNSP Inputs O & M'!$G$292*'DNSP Inputs O & M'!$G$297","v":2.4960000000000004},null,{"$f":"BS309*BT309","v":57.878342307187303},null,null,null,{"$f":"'DNSP Inputs O & M'!$G$287*(1+'DNSP Inputs O & M'!$G$11)","v":24.347860345571579},{"$f":"'DNSP Inputs O & M'!$G$293*'DNSP Inputs O & M'!$G$297","v":2.016},null,{"$f":"BZ309*CA309","v":49.085286456672307},null,null,null,{"$f":"'DNSP Inputs O & M'!$G$287*(1+'DNSP Inputs O & M'!$G$11)","v":24.347860345571579},{"$f":"'DNSP Inputs O & M'!$G$294*'DNSP Inputs O & M'!$G$297","v":1.6320000000000001},null,{"$f":"CG309*CH309","v":39.735708083972817},null,null,null,null,null,{"$f":"'DNSP Inputs O & M'!$H$287","v":23.188438424353883},{"$f":"'DNSP Inputs O & M'!$H$292*'DNSP Inputs O & M'!$H$297","v":2.4960000000000004},null,{"$f":"CP309*CQ309","v":57.878342307187303},null,null,null,{"$f":"'DNSP Inputs O & M'!$H$287*(1+'DNSP Inputs O & M'!$H$11)","v":24.347860345571579},{"$f":"'DNSP Inputs O & M'!$H$293*'DNSP Inputs O & M'!$H$297","v":2.016},null,{"$f":"CW309*CX309","v":49.085286456672307},null,null,null,{"$f":"'DNSP Inputs O & M'!$H$287*(1+'DNSP Inputs O & M'!$H$11)","v":24.347860345571579},{"$f":"'DNSP Inputs O & M'!$H$294*'DNSP Inputs O & M'!$H$297","v":1.6320000000000001},null,{"$f":"DD309*DE309","v":39.735708083972817}]
["Labour - bulk PE cell change"]
["Crew costs",{"$f":"'DNSP Inputs O & M'!$D$12","v":111.36223236834823},{"$f":"'DNSP Inputs O & M'!$D$288","v":2},{"$f":"'DNSP Inputs O & M'!$D$17","v":7.5},{"$f":"B311*C311*D311","v":1670.4334855252234},{"$f":"E311/'DNSP Inputs O & M'!$D$283","v":208.80418569065293},{"$f":"IFERROR((F311+F312)/C305,0)","v":3.4611463161614306},null,{"$f":"'DNSP Inputs O & M'!$D$12","v":111.36223236834823},{"$f":"'DNSP Inputs O & M'!$D$288","v":2},{"$f":"'DNSP Inputs O & M'!$D$17","v":7.5},{"$f":"I311*J311*K311","v":1670.4334855252234},{"$f":"L311/'DNSP Inputs O & M'!$D$283","v":208.80418569065293},{"$f":"IFERROR((M311+M312)/J305,0)","v":4.3695749624129707},null,{"$f":"'DNSP Inputs O & M'!$D$12","v":111.36223236834823},{"$f":"'DNSP Inputs O & M'!$D$288","v":2},{"$f":"'DNSP Inputs O & M'!$D$17","v":7.5},{"$f":"P311*Q311*R311","v":1670.4334855252234},{"$f":"S311/'DNSP Inputs O & M'!$D$283","v":208.80418569065293},{"$f":"IFERROR((T311+T312)/Q305,0)","v":5.4833881881260806},null,null,null,{"$f":"'DNSP Inputs O & M'!$E$12","v":111.08407886363248},{"$f":"'DNSP Inputs O & M'!$E$288","v":2},{"$f":"'DNSP Inputs O & M'!$E$17","v":7.5},{"$f":"Y311*Z311*AA311","v":1666.2611829544874},{"$f":"AB311/'DNSP Inputs O & M'!$E$283","v":208.28264786931092},{"$f":"IFERROR((AC311+AC312)/Z305,0)","v":3.4540908802666523},null,{"$f":"'DNSP Inputs O & M'!$E$12","v":111.08407886363248},{"$f":"'DNSP Inputs O & M'!$E$288","v":2},{"$f":"'DNSP Inputs O & M'!$E$17","v":7.5},{"$f":"AF311*AG311*AH311","v":1666.2611829544874},{"$f":"AI311/'DNSP Inputs O & M'!$E$283","v":208.28264786931092},{"$f":"IFERROR((AJ311+AJ312)/AG305,0)","v":4.3610863911020656},null,{"$f":"'DNSP Inputs O & M'!$E$12","v":111.08407886363248},{"$f":"'DNSP Inputs O & M'!$E$288","v":2},{"$f":"'DNSP Inputs O & M'!$E$17","v":7.5},{"$f":"AM311*AN311*AO311","v":1666.2611829544874},{"$f":"AP311/'DNSP Inputs O & M'!$E$283","v":208.28264786931092},{"$f":"IFERROR((AQ311+AQ312)/AN305,0)","v":5.4727358633437682},null,null,null,{"$f":"'DNSP Inputs O & M'!$F$12","v":111.00339776810097},{"$f":"'DNSP Inputs O & M'!$F$288","v":2},{"$f":"'DNSP Inputs O & M'!$F$17","v":7.5},{"$f":"AV311*AW311*AX311","v":1665.0509665215145},{"$f":"AY311/'DNSP Inputs O & M'!$F$283","v":208.13137081518931},{"$f":"IFERROR((AZ311+AZ312)/AW305,0)","v":3.4520443833223662},null,{"$f":"'DNSP Inputs O & M'!$F$12","v":111.00339776810097},{"$f":"'DNSP Inputs O & M'!$F$288","v":2},{"$f":"'DNSP Inputs O & M'!$F$17","v":7.5},{"$f":"BC311*BD311*BE311","v":1665.0509665215145},{"$f":"BF311/'DNSP Inputs O & M'!$F$283","v":208.13137081518931},{"$f":"IFERROR((BG311+BG312)/BD305,0)","v":4.3586241994659725},null,{"$f":"'DNSP Inputs O & M'!$F$12","v":111.00339776810097},{"$f":"'DNSP Inputs O & M'!$F$288","v":2},{"$f":"'DNSP Inputs O & M'!$F$17","v":7.5},{"$f":"BJ311*BK311*BL311","v":1665.0509665215145},{"$f":"BM311/'DNSP Inputs O & M'!$F$283","v":208.13137081518931},{"$f":"IFERROR((BN311+BN312)/BK305,0)","v":5.4696460542318084},null,null,null,{"$f":"'DNSP Inputs O & M'!$G$12","v":111.41108530292857},{"$f":"'DNSP Inputs O & M'!$G$288","v":2},{"$f":"'DNSP Inputs O & M'!$G$17","v":7.5},{"$f":"BS311*BT311*BU311","v":1671.1662795439286},{"$f":"BV311/'DNSP Inputs O & M'!$G$283","v":208.89578494299107},{"$f":"IFERROR((BW311+BW312)/BT305,0)","v":3.462385483536135},null,{"$f":"'DNSP Inputs O & M'!$G$12","v":111.41108530292857},{"$f":"'DNSP Inputs O & M'!$G$288","v":2},{"$f":"'DNSP Inputs O & M'!$G$17","v":7.5},{"$f":"BZ311*CA311*CB311","v":1671.1662795439286},{"$f":"CC311/'DNSP Inputs O & M'!$G$283","v":208.89578494299107},{"$f":"IFERROR((CD311+CD312)/CA305,0)","v":4.3710658356606622},null,{"$f":"'DNSP Inputs O & M'!$G$12","v":111.41108530292857},{"$f":"'DNSP Inputs O & M'!$G$288","v":2},{"$f":"'DNSP Inputs O & M'!$G$17","v":7.5},{"$f":"CG311*CH311*CI311","v":1671.1662795439286},{"$f":"CJ311/'DNSP Inputs O & M'!$G$283","v":208.89578494299107},{"$f":"IFERROR((CK311+CK312)/CH305,0)","v":5.4852590878878891},null,null,null,{"$f":"'DNSP Inputs O & M'!$H$12","v":112.5214007824073},{"$f":"'DNSP Inputs O & M'!$H$288","v":2},{"$f":"'DNSP Inputs O & M'!$H$17","v":7.5},{"$f":"CP311*CQ311*CR311","v":1687.8210117361095},{"$f":"CS311/'DNSP Inputs O & M'!$H$283","v":210.97762646701369},{"$f":"IFERROR((CT311+CT312)/CQ305,0)","v":3.4905489240667436},null,{"$f":"'DNSP Inputs O & M'!$H$12","v":112.5214007824073},{"$f":"'DNSP Inputs O & M'!$H$288","v":2},{"$f":"'DNSP Inputs O & M'!$H$17","v":7.5},{"$f":"CW311*CX311*CY311","v":1687.8210117361095},{"$f":"CZ311/'DNSP Inputs O & M'!$H$283","v":210.97762646701369},{"$f":"IFERROR((DA311+DA312)/CX305,0)","v":4.4049499750490515},null,{"$f":"'DNSP Inputs O & M'!$H$12","v":112.5214007824073},{"$f":"'DNSP Inputs O & M'!$H$288","v":2},{"$f":"'DNSP Inputs O & M'!$H$17","v":7.5},{"$f":"DD311*DE311*DF311","v":1687.8210117361095},{"$f":"DG311/'DNSP Inputs O & M'!$H$283","v":210.97762646701369},{"$f":"IFERROR((DH311+DH312)/DE305,0)","v":5.5277803608458687}]
["Elevated platform vehicle costs",{"$f":"'DNSP Inputs O & M'!$D$14","v":50.18},1,{"$f":"'DNSP Inputs O & M'!$D$17","v":7.5},{"$f":"B312*C312*D312","v":376.35},{"$f":"E312/'DNSP Inputs O & M'!$D$283","v":47.043750000000003},null,null,{"$f":"'DNSP Inputs O & M'!$D$15","v":63.64},1,{"$f":"'DNSP Inputs O & M'!$D$17","v":7.5},{"$f":"I312*J312*K312","v":477.3},{"$f":"L312/'DNSP Inputs O & M'!$D$283","v":59.662500000000001},null,null,{"$f":"'DNSP Inputs O & M'!$D$15","v":63.64},1,{"$f":"'DNSP Inputs O & M'!$D$17","v":7.5},{"$f":"P312*Q312*R312","v":477.3},{"$f":"S312/'DNSP Inputs O & M'!$D$283","v":59.662500000000001},null,null,null,null,{"$f":"'DNSP Inputs O & M'!$E$14","v":50.18},1,{"$f":"'DNSP Inputs O & M'!$E$17","v":7.5},{"$f":"Y312*Z312*AA312","v":376.35},{"$f":"AB312/'DNSP Inputs O & M'!$E$283","v":47.043750000000003},null,null,{"$f":"'DNSP Inputs O & M'!$E$15","v":63.64},1,{"$f":"'DNSP Inputs O & M'!$E$17","v":7.5},{"$f":"AF312*AG312*AH312","v":477.3},{"$f":"AI312/'DNSP Inputs O & M'!$E$283","v":59.662500000000001},null,null,{"$f":"'DNSP Inputs O & M'!$E$15","v":63.64},1,{"$f":"'DNSP Inputs O & M'!$E$17","v":7.5},{"$f":"AM312*AN312*AO312","v":477.3},{"$f":"AP312/'DNSP Inputs O & M'!$E$283","v":59.662500000000001},null,null,null,null,{"$f":"'DNSP Inputs O & M'!$F$14","v":50.18},1,{"$f":"'DNSP Inputs O & M'!$F$17","v":7.5},{"$f":"AV312*AW312*AX312","v":376.35},{"$f":"AY312/'DNSP Inputs O & M'!$F$283","v":47.043750000000003},null,null,{"$f":"'DNSP Inputs O & M'!$F$15","v":63.64},1,{"$f":"'DNSP Inputs O & M'!$F$17","v":7.5},{"$f":"BC312*BD312*BE312","v":477.3},{"$f":"BF312/'DNSP Inputs O & M'!$F$283","v":59.662500000000001},null,null,{"$f":"'DNSP Inputs O & M'!$F$15","v":63.64},1,{"$f":"'DNSP Inputs O & M'!$F$17","v":7.5},{"$f":"BJ312*BK312*BL312","v":477.3},{"$f":"BM312/'DNSP Inputs O & M'!$F$283","v":59.662500000000001},null,null,null,null,{"$f":"'DNSP Inputs O & M'!$G$14","v":50.18},1,{"$f":"'DNSP Inputs O & M'!$G$17","v":7.5},{"$f":"BS312*BT312*BU312","v":376.35},{"$f":"BV312/'DNSP Inputs O & M'!$G$283","v":47.043750000000003},null,null,{"$f":"'DNSP Inputs O & M'!$G$15","v":63.64},1,{"$f":"'DNSP Inputs O & M'!$G$17","v":7.5},{"$f":"BZ312*CA312*CB312","v":477.3},{"$f":"CC312/'DNSP Inputs O & M'!$G$283","v":59.662500000000001},null,null,{"$f":"'DNSP Inputs O & M'!$G$15","v":63.64},1,{"$f":"'DNSP Inputs O & M'!$G$17","v":7.5},{"$f":"CG312*CH312*CI312","v":477.3},{"$f":"CJ312/'DNSP Inputs O & M'!$G$283","v":59.662500000000001},null,null,null,null,{"$f":"'DNSP Inputs O & M'!$H$14","v":50.18},1,{"$f":"'DNSP Inputs O & M'!$H$17","v":7.5},{"$f":"CP312*CQ312*CR312","v":376.35},{"$f":"CS312/'DNSP Inputs O & M'!$H$283","v":47.043750000000003},null,null,{"$f":"'DNSP Inputs O & M'!$H$15","v":63.64},1,{"$f":"'DNSP Inputs O & M'!$H$17","v":7.5},{"$f":"CW312*CX312*CY312","v":477.3},{"$f":"CZ312/'DNSP Inputs O & M'!$H$283","v":59.662500000000001},null,null,{"$f":"'DNSP Inputs O & M'!$H$15","v":63.64},1,{"$f":"'DNSP Inputs O & M'!$H$17","v":7.5},{"$f":"DD312*DE312*DF312","v":477.3},{"$f":"DG312/'DNSP Inputs O & M'!$H$283","v":59.662500000000001}]
["Labour - repair of faults"]
["Crew costs",{"$f":"'DNSP Inputs O & M'!$D$12","v":111.36223236834823},{"$f":"'DNSP Inputs O & M'!$D$288","v":2},{"$f":"'DNSP Inputs O & M'!$D$17","v":7.5},{"$f":"B314*C314*D314","v":1670.4334855252234},{"$f":"(E314+E315)/'DNSP Inputs O & M'!$D$292","v":82.002543490593894},{"$f":"F314*D294","v":0.4381641210289523},null,{"$f":"'DNSP Inputs O & M'!$D$12","v":111.36223236834823},{"$f":"'DNSP Inputs O & M'!$D$288","v":2},{"$f":"'DNSP Inputs O & M'!$D$17","v":7.5},{"$f":"I314*J314*K314","v":1670.4334855252234},{"$f":"(L314+L315)/'DNSP Inputs O & M'!$D$293","v":106.53439908359243},{"$f":"M314*D294","v":0.56924516419620907},null,{"$f":"'DNSP Inputs O & M'!$D$12","v":111.36223236834823},{"$f":"'DNSP Inputs O & M'!$D$288","v":2},{"$f":"'DNSP Inputs O & M'!$D$17","v":7.5},{"$f":"P314*Q314*R314","v":1670.4334855252234},{"$f":"(S314+S315)/'DNSP Inputs O & M'!$D$294","v":131.60131651502593},{"$f":"T314*D294","v":0.70318520283061114},null,null,null,{"$f":"'DNSP Inputs O & M'!$E$12","v":111.08407886363248},{"$f":"'DNSP Inputs O & M'!$E$288","v":2},{"$f":"'DNSP Inputs O & M'!$E$17","v":7.5},{"$f":"Y314*Z314*AA314","v":1666.2611829544874},{"$f":"(AB314+AB315)/'DNSP Inputs O & M'!$E$292","v":81.835383932471458},{"$f":"AC314*AA294","v":0.43727093750392293},null,{"$f":"'DNSP Inputs O & M'!$E$12","v":111.08407886363248},{"$f":"'DNSP Inputs O & M'!$E$288","v":2},{"$f":"'DNSP Inputs O & M'!$E$17","v":7.5},{"$f":"AF314*AG314*AH314","v":1666.2611829544874},{"$f":"(AI314+AI315)/'DNSP Inputs O & M'!$E$293","v":106.32743963067894},{"$f":"AJ314*AA294","v":0.56813931792712513},null,{"$f":"'DNSP Inputs O & M'!$E$12","v":111.08407886363248},{"$f":"'DNSP Inputs O & M'!$E$288","v":2},{"$f":"'DNSP Inputs O & M'!$E$17","v":7.5},{"$f":"AM314*AN314*AO314","v":1666.2611829544874},{"$f":"(AP314+AP315)/'DNSP Inputs O & M'!$E$294","v":131.34566072025044},{"$f":"AQ314*AA294","v":0.70181915743938972},null,null,null,{"$f":"'DNSP Inputs O & M'!$F$12","v":111.00339776810097},{"$f":"'DNSP Inputs O & M'!$F$288","v":2},{"$f":"'DNSP Inputs O & M'!$F$17","v":7.5},{"$f":"AV314*AW314*AX314","v":1665.0509665215145},{"$f":"(AY314+AY315)/'DNSP Inputs O & M'!$F$292","v":81.786897697176059},{"$f":"AZ314*AX294","v":0.43701186104402445},null,{"$f":"'DNSP Inputs O & M'!$F$12","v":111.00339776810097},{"$f":"'DNSP Inputs O & M'!$F$288","v":2},{"$f":"'DNSP Inputs O & M'!$F$17","v":7.5},{"$f":"BC314*BD314*BE314","v":1665.0509665215145},{"$f":"(BF314+BF315)/'DNSP Inputs O & M'!$F$293","v":106.26740905364656},{"$f":"BG314*AX294","v":0.56781855659582237},null,{"$f":"'DNSP Inputs O & M'!$F$12","v":111.00339776810097},{"$f":"'DNSP Inputs O & M'!$F$288","v":2},{"$f":"'DNSP Inputs O & M'!$F$17","v":7.5},{"$f":"BJ314*BK314*BL314","v":1665.0509665215145},{"$f":"(BM314+BM315)/'DNSP Inputs O & M'!$F$294","v":131.27150530156339},{"$f":"BN314*AX294","v":0.70142292285366292},null,null,null,{"$f":"'DNSP Inputs O & M'!$G$12","v":111.41108530292857},{"$f":"'DNSP Inputs O & M'!$G$288","v":2},{"$f":"'DNSP Inputs O & M'!$G$17","v":7.5},{"$f":"BS314*BT314*BU314","v":1671.1662795439286},{"$f":"(BV314+BV315)/'DNSP Inputs O & M'!$G$292","v":82.031902225317651},{"$f":"BW314*BU294","v":0.43832099353128184},null,{"$f":"'DNSP Inputs O & M'!$G$12","v":111.41108530292857},{"$f":"'DNSP Inputs O & M'!$G$288","v":2},{"$f":"'DNSP Inputs O & M'!$G$17","v":7.5},{"$f":"BZ314*CA314*CB314","v":1671.1662795439286},{"$f":"(CC314+CC315)/'DNSP Inputs O & M'!$G$293","v":106.57074799325042},{"$f":"CD314*BU294","v":0.56943938729433141},null,{"$f":"'DNSP Inputs O & M'!$G$12","v":111.41108530292857},{"$f":"'DNSP Inputs O & M'!$G$288","v":2},{"$f":"'DNSP Inputs O & M'!$G$17","v":7.5},{"$f":"CG314*CH314*CI314","v":1671.1662795439286},{"$f":"(CJ314+CJ315)/'DNSP Inputs O & M'!$G$294","v":131.64621810930933},{"$f":"CK314*BU294","v":0.70342512548123293},null,null,null,{"$f":"'DNSP Inputs O & M'!$H$12","v":112.5214007824073},{"$f":"'DNSP Inputs O & M'!$H$288","v":2},{"$f":"'DNSP Inputs O & M'!$H$17","v":7.5},{"$f":"CP314*CQ314*CR314","v":1687.8210117361095},{"$f":"(CS314+CS315)/'DNSP Inputs O & M'!$H$292","v":82.699159124042851},{"$f":"CT314*CR294","v":0.44188634675186783},null,{"$f":"'DNSP Inputs O & M'!$H$12","v":112.5214007824073},{"$f":"'DNSP Inputs O & M'!$H$288","v":2},{"$f":"'DNSP Inputs O & M'!$H$17","v":7.5},{"$f":"CW314*CX314*CY314","v":1687.8210117361095},{"$f":"(CZ314+CZ315)/'DNSP Inputs O & M'!$H$293","v":107.3968755821483},{"$f":"DA314*CR294","v":0.57385363413886648},null,{"$f":"'DNSP Inputs O & M'!$H$12","v":112.5214007824073},{"$f":"'DNSP Inputs O & M'!$H$288","v":2},{"$f":"'DNSP Inputs O & M'!$H$17","v":7.5},{"$f":"DD314*DE314*DF314","v":1687.8210117361095},{"$f":"(DG314+DG315)/'DNSP Inputs O & M'!$H$294","v":132.66672866030083},{"$f":"DH314*CR294","v":0.70887801864212918}]
["Elevated platform vehicle costs",{"$f":"'DNSP Inputs O & M'!$D$14","v":50.18},1,{"$f":"'DNSP Inputs O & M'!$D$17","v":7.5},{"$f":"B315*C315*D315","v":376.35},null,null,null,{"$f":"'DNSP Inputs O & M'!$D$15","v":63.64},1,{"$f":"'DNSP Inputs O & M'!$D$17","v":7.5},{"$f":"I315*J315*K315","v":477.3},null,null,null,{"$f":"'DNSP Inputs O & M'!$D$15","v":63.64},1,{"$f":"'DNSP Inputs O & M'!$D$17","v":7.5},{"$f":"P315*Q315*R315","v":477.3},null,null,null,null,null,{"$f":"'DNSP Inputs O & M'!$E$14","v":50.18},1,{"$f":"'DNSP Inputs O & M'!$E$17","v":7.5},{"$f":"Y315*Z315*AA315","v":376.35},null,null,null,{"$f":"'DNSP Inputs O & M'!$E$15","v":63.64},1,{"$f":"'DNSP Inputs O & M'!$E$17","v":7.5},{"$f":"AF315*AG315*AH315","v":477.3},null,null,null,{"$f":"'DNSP Inputs O & M'!$E$15","v":63.64},1,{"$f":"'DNSP Inputs O & M'!$E$17","v":7.5},{"$f":"AM315*AN315*AO315","v":477.3},null,null,null,null,null,{"$f":"'DNSP Inputs O & M'!$F$14","v":50.18},1,{"$f":"'DNSP Inputs O & M'!$F$17","v":7.5},{"$f":"AV315*AW315*AX315","v":376.35},null,null,null,{"$f":"'DNSP Inputs O & M'!$F$15","v":63.64},1,{"$f":"'DNSP Inputs O & M'!$F$17","v":7.5},{"$f":"BC315*BD315*BE315","v":477.3},null,null,null,{"$f":"'DNSP Inputs O & M'!$F$15","v":63.64},1,{"$f":"'DNSP Inputs O & M'!$F$17","v":7.5},{"$f":"BJ315*BK315*BL315","v":477.3},null,null,null,null,null,{"$f":"'DNSP Inputs O & M'!$G$14","v":50.18},1,{"$f":"'DNSP Inputs O & M'!$G$17","v":7.5},{"$f":"BS315*BT315*BU315","v":376.35},null,null,null,{"$f":"'DNSP Inputs O & M'!$G$15","v":63.64},1,{"$f":"'DNSP Inputs O & M'!$G$17","v":7.5},{"$f":"BZ315*CA315*CB315","v":477.3},null,null,null,{"$f":"'DNSP Inputs O & M'!$G$15","v":63.64},1,{"$f":"'DNSP Inputs O & M'!$G$17","v":7.5},{"$f":"CG315*CH315*CI315","v":477.3},null,null,null,null,null,{"$f":"'DNSP Inputs O & M'!$H$14","v":50.18},1,{"$f":"'DNSP Inputs O & M'!$H$17","v":7.5},{"$f":"CP315*CQ315*CR315","v":376.35},null,null,null,{"$f":"'DNSP Inputs O & M'!$H$15","v":63.64},1,{"$f":"'DNSP Inputs O & M'!$H$17","v":7.5},{"$f":"CW315*CX315*CY315","v":477.3},null,null,null,{"$f":"'DNSP Inputs O & M'!$H$15","v":63.64},1,{"$f":"'DNSP Inputs O & M'!$H$17","v":7.5},{"$f":"DD315*DE315*DF315","v":477.3}]
["Other Maintenance and Repair costs",null,null,null,null,null,{"$f":"'DNSP Inputs O & M'!$D$304","v":1.05},null,null,null,null,null,null,{"$f":"'DNSP Inputs O & M'!$D$304","v":1.05},null,null,null,null,null,null,{"$f":"'DNSP Inputs O & M'!$D$304","v":1.05},null,null,null,null,null,null,null,null,{"$f":"'DNSP Inputs O & M'!$E$304","v":1.05},null,null,null,null,null,null,{"$f":"'DNSP Inputs O & M'!$E$304","v":1.05},null,null,null,null,null,null,{"$f":"'DNSP Inputs O & M'!$E$304","v":1.05},null,null,null,null,null,null,null,null,{"$f":"'DNSP Inputs O & M'!$F$304","v":1.05},null,null,null,null,null,null,{"$f":"'DNSP Inputs O & M'!$F$304","v":1.05},null,null,null,null,null,null,{"$f":"'DNSP Inputs O & M'!$F$304","v":1.05},null,null,null,null,null,null,null,null,{"$f":"'DNSP Inputs O & M'!$G$304","v":1.05},null,null,null,null,null,null,{"$f":"'DNSP Inputs O & M'!$G$304","v":1.05},null,null,null,null,null,null,{"$f":"'DNSP Inputs O & M'!$G$304","v":1.05},null,null,null,null,null,null,null,null,{"$f":"'DNSP Inputs O & M'!$H$304","v":1.05},null,null,null,null,null,null,{"$f":"'DNSP Inputs O & M'!$H$304","v":1.05},null,null,null,null,null,null,{"$f":"'DNSP Inputs O & M'!$H$304","v":1.05}]
[]
["Overheads",{"$f":"'DNSP Inputs O & M'!$D$18","v":0.25},null,null,null,null,{"$f":"B318*SUM(G305:G316)","v":1.7311030820937128},null,{"$f":"'DNSP Inputs O & M'!$D$18","v":0.25},null,null,null,null,{"$f":"I318*SUM(N305:N316)","v":2.0156692780882177},null,{"$f":"'DNSP Inputs O & M'!$D$18","v":0.25},null,null,null,null,{"$f":"P318*SUM(U305:U316)","v":2.3276075941750958},null,null,null,{"$f":"'DNSP Inputs O & M'!$E$18","v":0.25},null,null,null,null,{"$f":"Y318*SUM(AD305:AD316)","v":1.7291159272387608},null,{"$f":"'DNSP Inputs O & M'!$E$18","v":0.25},null,null,null,null,{"$f":"AF318*SUM(AK305:AK316)","v":2.0132706736932207},null,{"$f":"'DNSP Inputs O & M'!$E$18","v":0.25},null,null,null,null,{"$f":"AM318*SUM(AR305:AR316)","v":2.3246030016317123},null,null,null,{"$f":"'DNSP Inputs O & M'!$F$18","v":0.25},null,null,null,null,{"$f":"AV318*SUM(BA305:BA316)","v":1.7285395338877145},null,{"$f":"'DNSP Inputs O & M'!$F$18","v":0.25},null,null,null,null,{"$f":"BC318*SUM(BH305:BH316)","v":2.0125749354513718},null,{"$f":"'DNSP Inputs O & M'!$F$18","v":0.25},null,null,null,null,{"$f":"BJ318*SUM(BO305:BO316)","v":2.3237314907072908},null,null,null,{"$f":"'DNSP Inputs O & M'!$G$18","v":0.25},null,null,null,null,{"$f":"BS318*SUM(BX305:BX316)","v":1.7314520920629712},null,{"$f":"'DNSP Inputs O & M'!$G$18","v":0.25},null,null,null,null,{"$f":"BZ318*SUM(CE305:CE316)","v":2.016090552174671},null,{"$f":"'DNSP Inputs O & M'!$G$18","v":0.25},null,null,null,null,{"$f":"CG318*SUM(CL305:CL316)","v":2.3281352997782037},null,null,null,{"$f":"'DNSP Inputs O & M'!$H$18","v":0.25},null,null,null,null,{"$f":"CP318*SUM(CU305:CU316)","v":1.7393842905007697},null,{"$f":"'DNSP Inputs O & M'!$H$18","v":0.25},null,null,null,null,{"$f":"CW318*SUM(DB305:DB316)","v":2.025665148732902},null,{"$f":"'DNSP Inputs O & M'!$H$18","v":0.25},null,null,null,null,{"$f":"DD318*SUM(DI305:DI316)","v":2.3401288413079224}]
[]
[null,null,null,null,null,null,{"$f":"SUM(G305,G307,G311,G314,G316,G318)","v":8.6555154104685634},null,null,null,null,null,null,{"$f":"SUM(N305,N307,N311,N314,N316,N318)","v":10.078346390441089},null,null,null,null,null,null,{"$f":"SUM(U305,U307,U311,U314,U316,U318)","v":11.638037970875478},null,null,null,null,null,null,null,null,{"$f":"SUM(AD305,AD307,AD311,AD314,AD316,AD318)","v":8.6455796361938049},null,null,null,null,null,null,{"$f":"SUM(AK305,AK307,AK311,AK314,AK316,AK318)","v":10.066353368466103},null,null,null,null,null,null,{"$f":"SUM(AR305,AR307,AR311,AR314,AR316,AR318)","v":11.623015008158561},null,null,null,null,null,null,null,null,{"$f":"SUM(BA305,BA307,BA311,BA314,BA316,BA318)","v":8.6426976694385722},null,null,null,null,null,null,{"$f":"SUM(BH305,BH307,BH311,BH314,BH316,BH318)","v":10.062874677256859},null,null,null,null,null,null,{"$f":"SUM(BO305,BO307,BO311,BO314,BO316,BO318)","v":11.618657453536454},null,null,null,null,null,null,null,null,{"$f":"SUM(BX305,BX307,BX311,BX314,BX316,BX318)","v":8.6572604603148555},null,null,null,null,null,null,{"$f":"SUM(CE305,CE307,CE311,CE314,CE316,CE318)","v":10.080452760873355},null,null,null,null,null,null,{"$f":"SUM(CL305,CL307,CL311,CL314,CL316,CL318)","v":11.640676498891018},null,null,null,null,null,null,null,null,{"$f":"SUM(CU305,CU307,CU311,CU314,CU316,CU318)","v":8.6969214525038492},null,null,null,null,null,null,{"$f":"SUM(DB305,DB307,DB311,DB314,DB316,DB318)","v":10.12832574366451},null,null,null,null,null,null,{"$f":"SUM(DI305,DI307,DI311,DI314,DI316,DI318)","v":11.700644206539613}]
[]
[]
[]
["NEW"]
["Category P LED 14 Watt - Cost build-up"]
[]
["Additional assumptions"]
["Proportion of luminaire that will fail before bulk change",null,null,{"$f":"'DNSP Inputs O & M'!$D$330","v":4.2746393209543501E-2},null,null,null,null,null,null,null,null,null,null,null,null,null,null,null,null,null,null,null,null,null,null,{"$f":"'DNSP Inputs O & M'!$E$330","v":4.2746393209543501E-2},null,null,null,null,null,null,null,null,null,null,null,null,null,null,null,null,null,null,null,null,null,null,{"$f":"'DNSP Inputs O & M'!$F$330","v":4.2746393209543501E-2},null,null,null,null,null,null,null,null,null,null,null,null,null,null,null,null,null,null,null,null,null,null,{"$f":"'DNSP Inputs O & M'!$G$330","v":4.2746393209543501E-2},null,null,null,null,null,null,null,null,null,null,null,null,null,null,null,null,null,null,null,null,null,null,{"$f":"'DNSP Inputs O & M'!$H$330","v":4.2746393209543501E-2}]
["Proportion of lamps that will fail before bulk change (per year)",null,null,{"$f":"D328/'DNSP Inputs O & M'!$D$329","v":5.3432991511929376E-3},null,null,null,null,null,null,null,null,null,null,null,null,null,null,null,null,null,null,null,null,null,null,{"$f":"AA328/'DNSP Inputs O & M'!$E$329","v":5.3432991511929376E-3},null,null,null,null,null,null,null,null,null,null,null,null,null,null,null,null,null,null,null,null,null,null,{"$f":"AX328/'DNSP Inputs O & M'!$F$329","v":5.3432991511929376E-3},null,null,null,null,null,null,null,null,null,null,null,null,null,null,null,null,null,null,null,null,null,null,{"$f":"BU328/'DNSP Inputs O & M'!$G$329","v":5.3432991511929376E-3},null,null,null,null,null,null,null,null,null,null,null,null,null,null,null,null,null,null,null,null,null,null,{"$f":"CR328/'DNSP Inputs O & M'!$H$329","v":5.3432991511929376E-3}]
["Overheads are applied to material and labour components"]
["All costs and charges are exclusive of GST"]
[]
[null,"Urban",null,null,null,null,null,null,"Rural",null,null,null,null,null,null,"Remote",null,null,null,null,null,null,null,null,"Urban",null,null,null,null,null,null,"Rural",null,null,null,null,null,null,"Remote",null,null,null,null,null,null,null,null,"Urban",null,null,null,null,null,null,"Rural",null,null,null,null,null,null,"Remote",null,null,null,null,null,null,null,null,"Urban",null,null,null,null,null,null,"Rural",null,null,null,null,null,null,"Remote",null,null,null,null,null,null,null,null,"Urban",null,null,null,null,null,null,"Rural",null,null,null,null,null,null,"Remote"]
[]
[null,"Unit rate","Number","Hours","Cost","Annualised","Annualised",null,"Unit rate","Number","Hours","Cost","Annualised","Annualised",null,"Unit rate","Number","Hours","Cost","Annualised","Annualised",null,null,null,"Unit rate","Number","Hours","Cost","Annualised","Annualised",null,"Unit rate","Number","Hours","Cost","Annualised","Annualised",null,"Unit rate","Number","Hours","Cost","Annualised","Annualised",null,null,null,"Unit rate","Number","Hours","Cost","Annualised","Annualised",null,"Unit rate","Number","Hours","Cost","Annualised","Annualised",null,"Unit rate","Number","Hours","Cost","Annualised","Annualised",null,null,null,"Unit rate","Number","Hours","Cost","Annualised","Annualised",null,"Unit rate","Number","Hours","Cost","Annualised","Annualised",null,"Unit rate","Number","Hours","Cost","Annualised","Annualised",null,null,null,"Unit rate","Number","Hours","Cost","Annualised","Annualised",null,"Unit rate","Number","Hours","Cost","Annualised","Annualised",null,"Unit rate","Number","Hours","Cost","Annualised","Annualised"]
[null,null,null,null,null," cost","unit cost",null,null,null,null,null," cost","unit cost",null,null,null,null,null," cost","unit cost",null,null,null,null,null,null,null," cost","unit cost",null,null,null,null,null," cost","unit cost",null,null,null,null,null," cost","unit cost",null,null,null,null,null,null,null," cost","unit cost",null,null,null,null,null," cost","unit cost",null,null,null,null,null," cost","unit cost",null,null,null,null,null,null,null," cost","unit cost",null,null,null,null,null," cost","unit cost",null,null,null,null,null," cost","unit cost",null,null,null,null,null,null,null," cost","unit cost",null,null,null,null,null," cost","unit cost",null,null,null,null,null," cost","unit cost"]
["LED 14W"]
["Bulk change & repairs"]
["Materials - bulk PE cell change"]
["PE cell",{"$f":"'DNSP Inputs O & M'!$D$331","v":15.120000000000001},{"$f":"'DNSP Inputs O & M'!$D$335","v":73.92},null,{"$f":"B340*C340","v":1117.6704000000002},{"$f":"E340/'DNSP Inputs O & M'!$D$329","v":139.70880000000002},{"$f":"IFERROR(F340/C340,0)","v":1.8900000000000003},null,{"$f":"'DNSP Inputs O & M'!$D$331*(1+'DNSP Inputs O & M'!$D$11)","v":15.876000000000001},{"$f":"'DNSP Inputs O & M'!$D$336","v":61.44},null,{"$f":"I340*J340","v":975.42144000000008},{"$f":"L340/'DNSP Inputs O & M'!$D$329","v":121.92768000000001},{"$f":"IFERROR(M340/J340,0)","v":1.9845000000000002},null,{"$f":"'DNSP Inputs O & M'!$D$331*(1+'DNSP Inputs O & M'!$D$11)","v":15.876000000000001},{"$f":"'DNSP Inputs O & M'!$D$337","v":48.96},null,{"$f":"P340*Q340","v":777.28896000000009},{"$f":"S340/'DNSP Inputs O & M'!$D$329","v":97.161120000000011},{"$f":"IFERROR(T340/Q340,0)","v":1.9845000000000002},null,null,null,{"$f":"'DNSP Inputs O & M'!$E$331","v":15.120000000000001},{"$f":"'DNSP Inputs O & M'!$E$335","v":73.92},null,{"$f":"Y340*Z340","v":1117.6704000000002},{"$f":"AB340/'DNSP Inputs O & M'!$E$329","v":139.70880000000002},{"$f":"IFERROR(AC340/Z340,0)","v":1.8900000000000003},null,{"$f":"'DNSP Inputs O & M'!$E$331*(1+'DNSP Inputs O & M'!$E$11)","v":15.876000000000001},{"$f":"'DNSP Inputs O & M'!$E$336","v":61.44},null,{"$f":"AF340*AG340","v":975.42144000000008},{"$f":"AI340/'DNSP Inputs O & M'!$E$329","v":121.92768000000001},{"$f":"IFERROR(AJ340/AG340,0)","v":1.9845000000000002},null,{"$f":"'DNSP Inputs O & M'!$E$331*(1+'DNSP Inputs O & M'!$E$11)","v":15.876000000000001},{"$f":"'DNSP Inputs O & M'!$E$337","v":48.96},null,{"$f":"AM340*AN340","v":777.28896000000009},{"$f":"AP340/'DNSP Inputs O & M'!$E$329","v":97.161120000000011},{"$f":"IFERROR(AQ340/AN340,0)","v":1.9845000000000002},null,null,null,{"$f":"'DNSP Inputs O & M'!$F$331","v":15.120000000000001},{"$f":"'DNSP Inputs O & M'!$F$335","v":73.92},null,{"$f":"AV340*AW340","v":1117.6704000000002},{"$f":"AY340/'DNSP Inputs O & M'!$F$329","v":139.70880000000002},{"$f":"IFERROR(AZ340/AW340,0)","v":1.8900000000000003},null,{"$f":"'DNSP Inputs O & M'!$F$331*(1+'DNSP Inputs O & M'!$F$11)","v":15.876000000000001},{"$f":"'DNSP Inputs O & M'!$F$336","v":61.44},null,{"$f":"BC340*BD340","v":975.42144000000008},{"$f":"BF340/'DNSP Inputs O & M'!$F$329","v":121.92768000000001},{"$f":"IFERROR(BG340/BD340,0)","v":1.9845000000000002},null,{"$f":"'DNSP Inputs O & M'!$F$331*(1+'DNSP Inputs O & M'!$F$11)","v":15.876000000000001},{"$f":"'DNSP Inputs O & M'!$F$337","v":48.96},null,{"$f":"BJ340*BK340","v":777.28896000000009},{"$f":"BM340/'DNSP Inputs O & M'!$F$329","v":97.161120000000011},{"$f":"IFERROR(BN340/BK340,0)","v":1.9845000000000002},null,null,null,{"$f":"'DNSP Inputs O & M'!$G$331","v":15.120000000000001},{"$f":"'DNSP Inputs O & M'!$G$335","v":73.92},null,{"$f":"BS340*BT340","v":1117.6704000000002},{"$f":"BV340/'DNSP Inputs O & M'!$G$329","v":139.70880000000002},{"$f":"IFERROR(BW340/BT340,0)","v":1.8900000000000003},null,{"$f":"'DNSP Inputs O & M'!$G$331*(1+'DNSP Inputs O & M'!$G$11)","v":15.876000000000001},{"$f":"'DNSP Inputs O & M'!$G$336","v":61.44},null,{"$f":"BZ340*CA340","v":975.42144000000008},{"$f":"CC340/'DNSP Inputs O & M'!$G$329","v":121.92768000000001},{"$f":"IFERROR(CD340/CA340,0)","v":1.9845000000000002},null,{"$f":"'DNSP Inputs O & M'!$G$331*(1+'DNSP Inputs O & M'!$G$11)","v":15.876000000000001},{"$f":"'DNSP Inputs O & M'!$G$337","v":48.96},null,{"$f":"CG340*CH340","v":777.28896000000009},{"$f":"CJ340/'DNSP Inputs O & M'!$G$329","v":97.161120000000011},{"$f":"IFERROR(CK340/CH340,0)","v":1.9845000000000002},null,null,null,{"$f":"'DNSP Inputs O & M'!$H$331","v":15.120000000000001},{"$f":"'DNSP Inputs O & M'!$H$335","v":73.92},null,{"$f":"CP340*CQ340","v":1117.6704000000002},{"$f":"CS340/'DNSP Inputs O & M'!$H$329","v":139.70880000000002},{"$f":"IFERROR(CT340/CQ340,0)","v":1.8900000000000003},null,{"$f":"'DNSP Inputs O & M'!$H$331*(1+'DNSP Inputs O & M'!$H$11)","v":15.876000000000001},{"$f":"'DNSP Inputs O & M'!$H$336","v":61.44},null,{"$f":"CW340*CX340","v":975.42144000000008},{"$f":"CZ340/'DNSP Inputs O & M'!$H$329","v":121.92768000000001},{"$f":"IFERROR(DA340/CX340,0)","v":1.9845000000000002},null,{"$f":"'DNSP Inputs O & M'!$H$331*(1+'DNSP Inputs O & M'!$H$11)","v":15.876000000000001},{"$f":"'DNSP Inputs O & M'!$H$337","v":48.96},null,{"$f":"DD340*DE340","v":777.28896000000009},{"$f":"DG340/'DNSP Inputs O & M'!$H$329","v":97.161120000000011},{"$f":"IFERROR(DH340/DE340,0)","v":1.9845000000000002}]
["Materials - repair of faults"]
["PE cell",{"$f":"'DNSP Inputs O & M'!$D$331","v":15.120000000000001},{"$f":"'DNSP Inputs O & M'!$D$338*'DNSP Inputs O & M'!$D$341","v":22.464000000000002},null,{"$f":"B342*C342","v":339.65568000000007},{"$f":"(E342+E343+E344)/'DNSP Inputs O & M'!$D$338","v":15.926843842435392},{"$f":"F342*D329","v":8.5101891184467496E-2},null,{"$f":"'DNSP Inputs O & M'!$D$331*(1+'DNSP Inputs O & M'!$D$11)","v":15.876000000000001},{"$f":"'DNSP Inputs O & M'!$D$339*'DNSP Inputs O & M'!$D$341","v":18.144000000000002},null,{"$f":"I342*J342","v":288.05414400000006},{"$f":"(L342+L343+L344)/'DNSP Inputs O & M'!$D$339","v":16.723186034557159},{"$f":"M342*D329","v":8.9356985743690859E-2},null,{"$f":"'DNSP Inputs O & M'!$D$331*(1+'DNSP Inputs O & M'!$D$11)","v":15.876000000000001},{"$f":"'DNSP Inputs O & M'!$D$340*'DNSP Inputs O & M'!$D$341","v":14.688000000000001},null,{"$f":"P342*Q342","v":233.18668800000003},{"$f":"(S342+S343+S344)/'DNSP Inputs O & M'!$D$340","v":16.723186034557159},{"$f":"T342*D329","v":8.9356985743690859E-2},null,null,null,{"$f":"'DNSP Inputs O & M'!$E$331","v":15.120000000000001},{"$f":"'DNSP Inputs O & M'!$E$338*'DNSP Inputs O & M'!$E$341","v":22.464000000000002},null,{"$f":"Y342*Z342","v":339.65568000000007},{"$f":"(AB342+AB343+AB344)/'DNSP Inputs O & M'!$E$338","v":15.926843842435392},{"$f":"AC342*AA329","v":8.5101891184467496E-2},null,{"$f":"'DNSP Inputs O & M'!$E$331*(1+'DNSP Inputs O & M'!$E$11)","v":15.876000000000001},{"$f":"'DNSP Inputs O & M'!$E$339*'DNSP Inputs O & M'!$E$341","v":18.144000000000002},null,{"$f":"AF342*AG342","v":288.05414400000006},{"$f":"(AI342+AI343+AI344)/'DNSP Inputs O & M'!$E$339","v":16.723186034557159},{"$f":"AJ342*AA329","v":8.9356985743690859E-2},null,{"$f":"'DNSP Inputs O & M'!$E$331*(1+'DNSP Inputs O & M'!$E$11)","v":15.876000000000001},{"$f":"'DNSP Inputs O & M'!$E$340*'DNSP Inputs O & M'!$E$341","v":14.688000000000001},null,{"$f":"AM342*AN342","v":233.18668800000003},{"$f":"(AP342+AP343+AP344)/'DNSP Inputs O & M'!$E$340","v":16.723186034557159},{"$f":"AQ342*AA329","v":8.9356985743690859E-2},null,null,null,{"$f":"'DNSP Inputs O & M'!$F$331","v":15.120000000000001},{"$f":"'DNSP Inputs O & M'!$F$338*'DNSP Inputs O & M'!$F$341","v":22.464000000000002},null,{"$f":"AV342*AW342","v":339.65568000000007},{"$f":"(AY342+AY343+AY344)/'DNSP Inputs O & M'!$F$338","v":15.926843842435392},{"$f":"AZ342*AX329","v":8.5101891184467496E-2},null,{"$f":"'DNSP Inputs O & M'!$F$331*(1+'DNSP Inputs O & M'!$F$11)","v":15.876000000000001},{"$f":"'DNSP Inputs O & M'!$F$339*'DNSP Inputs O & M'!$F$341","v":18.144000000000002},null,{"$f":"BC342*BD342","v":288.05414400000006},{"$f":"(BF342+BF343+BF344)/'DNSP Inputs O & M'!$F$339","v":16.723186034557159},{"$f":"BG342*AX329","v":8.9356985743690859E-2},null,{"$f":"'DNSP Inputs O & M'!$F$331*(1+'DNSP Inputs O & M'!$F$11)","v":15.876000000000001},{"$f":"'DNSP Inputs O & M'!$F$340*'DNSP Inputs O & M'!$F$341","v":14.688000000000001},null,{"$f":"BJ342*BK342","v":233.18668800000003},{"$f":"(BM342+BM343+BM344)/'DNSP Inputs O & M'!$F$340","v":16.723186034557159},{"$f":"BN342*AX329","v":8.9356985743690859E-2},null,null,null,{"$f":"'DNSP Inputs O & M'!$G$331","v":15.120000000000001},{"$f":"'DNSP Inputs O & M'!$G$338*'DNSP Inputs O & M'!$G$341","v":22.464000000000002},null,{"$f":"BS342*BT342","v":339.65568000000007},{"$f":"(BV342+BV343+BV344)/'DNSP Inputs O & M'!$G$338","v":15.926843842435392},{"$f":"BW342*BU329","v":8.5101891184467496E-2},null,{"$f":"'DNSP Inputs O & M'!$G$331*(1+'DNSP Inputs O & M'!$G$11)","v":15.876000000000001},{"$f":"'DNSP Inputs O & M'!$G$339*'DNSP Inputs O & M'!$G$341","v":18.144000000000002},null,{"$f":"BZ342*CA342","v":288.05414400000006},{"$f":"(CC342+CC343+CC344)/'DNSP Inputs O & M'!$G$339","v":16.723186034557159},{"$f":"CD342*BU329","v":8.9356985743690859E-2},null,{"$f":"'DNSP Inputs O & M'!$G$331*(1+'DNSP Inputs O & M'!$G$11)","v":15.876000000000001},{"$f":"'DNSP Inputs O & M'!$G$340*'DNSP Inputs O & M'!$G$341","v":14.688000000000001},null,{"$f":"CG342*CH342","v":233.18668800000003},{"$f":"(CJ342+CJ343+CJ344)/'DNSP Inputs O & M'!$G$340","v":16.723186034557159},{"$f":"CK342*BU329","v":8.9356985743690859E-2},null,null,null,{"$f":"'DNSP Inputs O & M'!$H$331","v":15.120000000000001},{"$f":"'DNSP Inputs O & M'!$H$338*'DNSP Inputs O & M'!$H$341","v":22.464000000000002},null,{"$f":"CP342*CQ342","v":339.65568000000007},{"$f":"(CS342+CS343+CS344)/'DNSP Inputs O & M'!$H$338","v":15.926843842435392},{"$f":"CT342*CR329","v":8.5101891184467496E-2},null,{"$f":"'DNSP Inputs O & M'!$H$331*(1+'DNSP Inputs O & M'!$H$11)","v":15.876000000000001},{"$f":"'DNSP Inputs O & M'!$H$339*'DNSP Inputs O & M'!$H$341","v":18.144000000000002},null,{"$f":"CW342*CX342","v":288.05414400000006},{"$f":"(CZ342+CZ343+CZ344)/'DNSP Inputs O & M'!$H$339","v":16.723186034557159},{"$f":"DA342*CR329","v":8.9356985743690859E-2},null,{"$f":"'DNSP Inputs O & M'!$H$331*(1+'DNSP Inputs O & M'!$H$11)","v":15.876000000000001},{"$f":"'DNSP Inputs O & M'!$H$340*'DNSP Inputs O & M'!$H$341","v":14.688000000000001},null,{"$f":"DD342*DE342","v":233.18668800000003},{"$f":"(DG342+DG343+DG344)/'DNSP Inputs O & M'!$H$340","v":16.723186034557159},{"$f":"DH342*CR329","v":8.9356985743690859E-2}]
["Luminaire",{"$f":"'DNSP Inputs O & M'!$D$332","v":205},{"$f":"'DNSP Inputs O & M'!$D$338*'DNSP Inputs O & M'!$D$342","v":0},null,{"$f":"B343*C343","v":0},null,null,null,{"$f":"'DNSP Inputs O & M'!$D$332*(1+'DNSP Inputs O & M'!$D$11)","v":215.25},{"$f":"'DNSP Inputs O & M'!$D$339*'DNSP Inputs O & M'!$D$342","v":0},null,{"$f":"I343*J343","v":0},null,null,null,{"$f":"'DNSP Inputs O & M'!$D$332*(1+'DNSP Inputs O & M'!$D$11)","v":215.25},{"$f":"'DNSP Inputs O & M'!$D$340*'DNSP Inputs O & M'!$D$342","v":0},null,{"$f":"P343*Q343","v":0},null,null,null,null,null,{"$f":"'DNSP Inputs O & M'!$E$332","v":205},{"$f":"'DNSP Inputs O & M'!$E$338*'DNSP Inputs O & M'!$E$342","v":0},null,{"$f":"Y343*Z343","v":0},null,null,null,{"$f":"'DNSP Inputs O & M'!$E$332*(1+'DNSP Inputs O & M'!$E$11)","v":215.25},{"$f":"'DNSP Inputs O & M'!$E$339*'DNSP Inputs O & M'!$E$342","v":0},null,{"$f":"AF343*AG343","v":0},null,null,null,{"$f":"'DNSP Inputs O & M'!$E$332*(1+'DNSP Inputs O & M'!$E$11)","v":215.25},{"$f":"'DNSP Inputs O & M'!$E$340*'DNSP Inputs O & M'!$E$342","v":0},null,{"$f":"AM343*AN343","v":0},null,null,null,null,null,{"$f":"'DNSP Inputs O & M'!$F$332","v":205},{"$f":"'DNSP Inputs O & M'!$F$338*'DNSP Inputs O & M'!$F$342","v":0},null,{"$f":"AV343*AW343","v":0},null,null,null,{"$f":"'DNSP Inputs O & M'!$F$332*(1+'DNSP Inputs O & M'!$F$11)","v":215.25},{"$f":"'DNSP Inputs O & M'!$F$339*'DNSP Inputs O & M'!$F$342","v":0},null,{"$f":"BC343*BD343","v":0},null,null,null,{"$f":"'DNSP Inputs O & M'!$F$332*(1+'DNSP Inputs O & M'!$F$11)","v":215.25},{"$f":"'DNSP Inputs O & M'!$F$340*'DNSP Inputs O & M'!$F$342","v":0},null,{"$f":"BJ343*BK343","v":0},null,null,null,null,null,{"$f":"'DNSP Inputs O & M'!$G$332","v":205},{"$f":"'DNSP Inputs O & M'!$G$338*'DNSP Inputs O & M'!$G$342","v":0},null,{"$f":"BS343*BT343","v":0},null,null,null,{"$f":"'DNSP Inputs O & M'!$G$332*(1+'DNSP Inputs O & M'!$G$11)","v":215.25},{"$f":"'DNSP Inputs O & M'!$G$339*'DNSP Inputs O & M'!$G$342","v":0},null,{"$f":"BZ343*CA343","v":0},null,null,null,{"$f":"'DNSP Inputs O & M'!$G$332*(1+'DNSP Inputs O & M'!$G$11)","v":215.25},{"$f":"'DNSP Inputs O & M'!$G$340*'DNSP Inputs O & M'!$G$342","v":0},null,{"$f":"CG343*CH343","v":0},null,null,null,null,null,{"$f":"'DNSP Inputs O & M'!$H$332","v":205},{"$f":"'DNSP Inputs O & M'!$H$338*'DNSP Inputs O & M'!$H$342","v":0},null,{"$f":"CP343*CQ343","v":0},null,null,null,{"$f":"'DNSP Inputs O & M'!$H$332*(1+'DNSP Inputs O & M'!$H$11)","v":215.25},{"$f":"'DNSP Inputs O & M'!$H$339*'DNSP Inputs O & M'!$H$342","v":0},null,{"$f":"CW343*CX343","v":0},null,null,null,{"$f":"'DNSP Inputs O & M'!$H$332*(1+'DNSP Inputs O & M'!$H$11)","v":215.25},{"$f":"'DNSP Inputs O & M'!$H$340*'DNSP Inputs O & M'!$H$342","v":0},null,{"$f":"DD343*DE343","v":0}]
["Miscellaneous",{"$f":"'DNSP Inputs O & M'!$D$333","v":23.188438424353883},{"$f":"'DNSP Inputs O & M'!$D$338*'DNSP Inputs O & M'!$D$343","v":2.4960000000000004},null,{"$f":"B344*C344","v":57.878342307187303},null,null,null,{"$f":"'DNSP Inputs O & M'!$D$333*(1+'DNSP Inputs O & M'!$D$11)","v":24.347860345571579},{"$f":"'DNSP Inputs O & M'!$D$339*'DNSP Inputs O & M'!$D$343","v":2.016},null,{"$f":"I344*J344","v":49.085286456672307},null,null,null,{"$f":"'DNSP Inputs O & M'!$D$333*(1+'DNSP Inputs O & M'!$D$11)","v":24.347860345571579},{"$f":"'DNSP Inputs O & M'!$D$340*'DNSP Inputs O & M'!$D$343","v":1.6320000000000001},null,{"$f":"P344*Q344","v":39.735708083972817},null,null,null,null,null,{"$f":"'DNSP Inputs O & M'!$E$333","v":23.188438424353883},{"$f":"'DNSP Inputs O & M'!$E$338*'DNSP Inputs O & M'!$E$343","v":2.4960000000000004},null,{"$f":"Y344*Z344","v":57.878342307187303},null,null,null,{"$f":"'DNSP Inputs O & M'!$E$333*(1+'DNSP Inputs O & M'!$E$11)","v":24.347860345571579},{"$f":"'DNSP Inputs O & M'!$E$339*'DNSP Inputs O & M'!$E$343","v":2.016},null,{"$f":"AF344*AG344","v":49.085286456672307},null,null,null,{"$f":"'DNSP Inputs O & M'!$E$333*(1+'DNSP Inputs O & M'!$E$11)","v":24.347860345571579},{"$f":"'DNSP Inputs O & M'!$E$340*'DNSP Inputs O & M'!$E$343","v":1.6320000000000001},null,{"$f":"AM344*AN344","v":39.735708083972817},null,null,null,null,null,{"$f":"'DNSP Inputs O & M'!$F$333","v":23.188438424353883},{"$f":"'DNSP Inputs O & M'!$F$338*'DNSP Inputs O & M'!$F$343","v":2.4960000000000004},null,{"$f":"AV344*AW344","v":57.878342307187303},null,null,null,{"$f":"'DNSP Inputs O & M'!$F$333*(1+'DNSP Inputs O & M'!$F$11)","v":24.347860345571579},{"$f":"'DNSP Inputs O & M'!$F$339*'DNSP Inputs O & M'!$F$343","v":2.016},null,{"$f":"BC344*BD344","v":49.085286456672307},null,null,null,{"$f":"'DNSP Inputs O & M'!$F$333*(1+'DNSP Inputs O & M'!$F$11)","v":24.347860345571579},{"$f":"'DNSP Inputs O & M'!$F$340*'DNSP Inputs O & M'!$F$343","v":1.6320000000000001},null,{"$f":"BJ344*BK344","v":39.735708083972817},null,null,null,null,null,{"$f":"'DNSP Inputs O & M'!$G$333","v":23.188438424353883},{"$f":"'DNSP Inputs O & M'!$G$338*'DNSP Inputs O & M'!$G$343","v":2.4960000000000004},null,{"$f":"BS344*BT344","v":57.878342307187303},null,null,null,{"$f":"'DNSP Inputs O & M'!$G$333*(1+'DNSP Inputs O & M'!$G$11)","v":24.347860345571579},{"$f":"'DNSP Inputs O & M'!$G$339*'DNSP Inputs O & M'!$G$343","v":2.016},null,{"$f":"BZ344*CA344","v":49.085286456672307},null,null,null,{"$f":"'DNSP Inputs O & M'!$G$333*(1+'DNSP Inputs O & M'!$G$11)","v":24.347860345571579},{"$f":"'DNSP Inputs O & M'!$G$340*'DNSP Inputs O & M'!$G$343","v":1.6320000000000001},null,{"$f":"CG344*CH344","v":39.735708083972817},null,null,null,null,null,{"$f":"'DNSP Inputs O & M'!$H$333","v":23.188438424353883},{"$f":"'DNSP Inputs O & M'!$H$338*'DNSP Inputs O & M'!$H$343","v":2.4960000000000004},null,{"$f":"CP344*CQ344","v":57.878342307187303},null,null,null,{"$f":"'DNSP Inputs O & M'!$H$333*(1+'DNSP Inputs O & M'!$H$11)","v":24.347860345571579},{"$f":"'DNSP Inputs O & M'!$H$339*'DNSP Inputs O & M'!$H$343","v":2.016},null,{"$f":"CW344*CX344","v":49.085286456672307},null,null,null,{"$f":"'DNSP Inputs O & M'!$H$333*(1+'DNSP Inputs O & M'!$H$11)","v":24.347860345571579},{"$f":"'DNSP Inputs O & M'!$H$340*'DNSP Inputs O & M'!$H$343","v":1.6320000000000001},null,{"$f":"DD344*DE344","v":39.735708083972817}]
["Labour - bulk PE cell change"]
["Crew costs",{"$f":"'DNSP Inputs O & M'!$D$12","v":111.36223236834823},{"$f":"'DNSP Inputs O & M'!$D$334","v":2},{"$f":"'DNSP Inputs O & M'!$D$17","v":7.5},{"$f":"B346*C346*D346","v":1670.4334855252234},{"$f":"E346/'DNSP Inputs O & M'!$D$329","v":208.80418569065293},{"$f":"IFERROR((F346+F347)/C340,0)","v":3.4611463161614306},null,{"$f":"'DNSP Inputs O & M'!$D$12","v":111.36223236834823},{"$f":"'DNSP Inputs O & M'!$D$334","v":2},{"$f":"'DNSP Inputs O & M'!$D$17","v":7.5},{"$f":"I346*J346*K346","v":1670.4334855252234},{"$f":"L346/'DNSP Inputs O & M'!$D$329","v":208.80418569065293},{"$f":"IFERROR((M346+M347)/J340,0)","v":4.3695749624129707},null,{"$f":"'DNSP Inputs O & M'!$D$12","v":111.36223236834823},{"$f":"'DNSP Inputs O & M'!$D$334","v":2},{"$f":"'DNSP Inputs O & M'!$D$17","v":7.5},{"$f":"P346*Q346*R346","v":1670.4334855252234},{"$f":"S346/'DNSP Inputs O & M'!$D$329","v":208.80418569065293},{"$f":"IFERROR((T346+T347)/Q340,0)","v":5.4833881881260806},null,null,null,{"$f":"'DNSP Inputs O & M'!$E$12","v":111.08407886363248},{"$f":"'DNSP Inputs O & M'!$E$334","v":2},{"$f":"'DNSP Inputs O & M'!$E$17","v":7.5},{"$f":"Y346*Z346*AA346","v":1666.2611829544874},{"$f":"AB346/'DNSP Inputs O & M'!$E$329","v":208.28264786931092},{"$f":"IFERROR((AC346+AC347)/Z340,0)","v":3.4540908802666523},null,{"$f":"'DNSP Inputs O & M'!$E$12","v":111.08407886363248},{"$f":"'DNSP Inputs O & M'!$E$334","v":2},{"$f":"'DNSP Inputs O & M'!$E$17","v":7.5},{"$f":"AF346*AG346*AH346","v":1666.2611829544874},{"$f":"AI346/'DNSP Inputs O & M'!$E$329","v":208.28264786931092},{"$f":"IFERROR((AJ346+AJ347)/AG340,0)","v":4.3610863911020656},null,{"$f":"'DNSP Inputs O & M'!$E$12","v":111.08407886363248},{"$f":"'DNSP Inputs O & M'!$E$334","v":2},{"$f":"'DNSP Inputs O & M'!$E$17","v":7.5},{"$f":"AM346*AN346*AO346","v":1666.2611829544874},{"$f":"AP346/'DNSP Inputs O & M'!$E$329","v":208.28264786931092},{"$f":"IFERROR((AQ346+AQ347)/AN340,0)","v":5.4727358633437682},null,null,null,{"$f":"'DNSP Inputs O & M'!$F$12","v":111.00339776810097},{"$f":"'DNSP Inputs O & M'!$F$334","v":2},{"$f":"'DNSP Inputs O & M'!$F$17","v":7.5},{"$f":"AV346*AW346*AX346","v":1665.0509665215145},{"$f":"AY346/'DNSP Inputs O & M'!$F$329","v":208.13137081518931},{"$f":"IFERROR((AZ346+AZ347)/AW340,0)","v":3.4520443833223662},null,{"$f":"'DNSP Inputs O & M'!$F$12","v":111.00339776810097},{"$f":"'DNSP Inputs O & M'!$F$334","v":2},{"$f":"'DNSP Inputs O & M'!$F$17","v":7.5},{"$f":"BC346*BD346*BE346","v":1665.0509665215145},{"$f":"BF346/'DNSP Inputs O & M'!$F$329","v":208.13137081518931},{"$f":"IFERROR((BG346+BG347)/BD340,0)","v":4.3586241994659725},null,{"$f":"'DNSP Inputs O & M'!$F$12","v":111.00339776810097},{"$f":"'DNSP Inputs O & M'!$F$334","v":2},{"$f":"'DNSP Inputs O & M'!$F$17","v":7.5},{"$f":"BJ346*BK346*BL346","v":1665.0509665215145},{"$f":"BM346/'DNSP Inputs O & M'!$F$329","v":208.13137081518931},{"$f":"IFERROR((BN346+BN347)/BK340,0)","v":5.4696460542318084},null,null,null,{"$f":"'DNSP Inputs O & M'!$G$12","v":111.41108530292857},{"$f":"'DNSP Inputs O & M'!$G$334","v":2},{"$f":"'DNSP Inputs O & M'!$G$17","v":7.5},{"$f":"BS346*BT346*BU346","v":1671.1662795439286},{"$f":"BV346/'DNSP Inputs O & M'!$G$329","v":208.89578494299107},{"$f":"IFERROR((BW346+BW347)/BT340,0)","v":3.462385483536135},null,{"$f":"'DNSP Inputs O & M'!$G$12","v":111.41108530292857},{"$f":"'DNSP Inputs O & M'!$G$334","v":2},{"$f":"'DNSP Inputs O & M'!$G$17","v":7.5},{"$f":"BZ346*CA346*CB346","v":1671.1662795439286},{"$f":"CC346/'DNSP Inputs O & M'!$G$329","v":208.89578494299107},{"$f":"IFERROR((CD346+CD347)/CA340,0)","v":4.3710658356606622},null,{"$f":"'DNSP Inputs O & M'!$G$12","v":111.41108530292857},{"$f":"'DNSP Inputs O & M'!$G$334","v":2},{"$f":"'DNSP Inputs O & M'!$G$17","v":7.5},{"$f":"CG346*CH346*CI346","v":1671.1662795439286},{"$f":"CJ346/'DNSP Inputs O & M'!$G$329","v":208.89578494299107},{"$f":"IFERROR((CK346+CK347)/CH340,0)","v":5.4852590878878891},null,null,null,{"$f":"'DNSP Inputs O & M'!$H$12","v":112.5214007824073},{"$f":"'DNSP Inputs O & M'!$H$334","v":2},{"$f":"'DNSP Inputs O & M'!$H$17","v":7.5},{"$f":"CP346*CQ346*CR346","v":1687.8210117361095},{"$f":"CS346/'DNSP Inputs O & M'!$H$329","v":210.97762646701369},{"$f":"IFERROR((CT346+CT347)/CQ340,0)","v":3.4905489240667436},null,{"$f":"'DNSP Inputs O & M'!$H$12","v":112.5214007824073},{"$f":"'DNSP Inputs O & M'!$H$334","v":2},{"$f":"'DNSP Inputs O & M'!$H$17","v":7.5},{"$f":"CW346*CX346*CY346","v":1687.8210117361095},{"$f":"CZ346/'DNSP Inputs O & M'!$H$329","v":210.97762646701369},{"$f":"IFERROR((DA346+DA347)/CX340,0)","v":4.4049499750490515},null,{"$f":"'DNSP Inputs O & M'!$H$12","v":112.5214007824073},{"$f":"'DNSP Inputs O & M'!$H$334","v":2},{"$f":"'DNSP Inputs O & M'!$H$17","v":7.5},{"$f":"DD346*DE346*DF346","v":1687.8210117361095},{"$f":"DG346/'DNSP Inputs O & M'!$H$329","v":210.97762646701369},{"$f":"IFERROR((DH346+DH347)/DE340,0)","v":5.5277803608458687}]
["Elevated platform vehicle costs",{"$f":"'DNSP Inputs O & M'!$D$14","v":50.18},1,{"$f":"'DNSP Inputs O & M'!$D$17","v":7.5},{"$f":"B347*C347*D347","v":376.35},{"$f":"E347/'DNSP Inputs O & M'!$D$329","v":47.043750000000003},null,null,{"$f":"'DNSP Inputs O & M'!$D$15","v":63.64},1,{"$f":"'DNSP Inputs O & M'!$D$17","v":7.5},{"$f":"I347*J347*K347","v":477.3},{"$f":"L347/'DNSP Inputs O & M'!$D$329","v":59.662500000000001},null,null,{"$f":"'DNSP Inputs O & M'!$D$15","v":63.64},1,{"$f":"'DNSP Inputs O & M'!$D$17","v":7.5},{"$f":"P347*Q347*R347","v":477.3},{"$f":"S347/'DNSP Inputs O & M'!$D$329","v":59.662500000000001},null,null,null,null,{"$f":"'DNSP Inputs O & M'!$E$14","v":50.18},1,{"$f":"'DNSP Inputs O & M'!$E$17","v":7.5},{"$f":"Y347*Z347*AA347","v":376.35},{"$f":"AB347/'DNSP Inputs O & M'!$E$329","v":47.043750000000003},null,null,{"$f":"'DNSP Inputs O & M'!$E$15","v":63.64},1,{"$f":"'DNSP Inputs O & M'!$E$17","v":7.5},{"$f":"AF347*AG347*AH347","v":477.3},{"$f":"AI347/'DNSP Inputs O & M'!$E$329","v":59.662500000000001},null,null,{"$f":"'DNSP Inputs O & M'!$E$15","v":63.64},1,{"$f":"'DNSP Inputs O & M'!$E$17","v":7.5},{"$f":"AM347*AN347*AO347","v":477.3},{"$f":"AP347/'DNSP Inputs O & M'!$E$329","v":59.662500000000001},null,null,null,null,{"$f":"'DNSP Inputs O & M'!$F$14","v":50.18},1,{"$f":"'DNSP Inputs O & M'!$F$17","v":7.5},{"$f":"AV347*AW347*AX347","v":376.35},{"$f":"AY347/'DNSP Inputs O & M'!$F$329","v":47.043750000000003},null,null,{"$f":"'DNSP Inputs O & M'!$F$15","v":63.64},1,{"$f":"'DNSP Inputs O & M'!$F$17","v":7.5},{"$f":"BC347*BD347*BE347","v":477.3},{"$f":"BF347/'DNSP Inputs O & M'!$F$329","v":59.662500000000001},null,null,{"$f":"'DNSP Inputs O & M'!$F$15","v":63.64},1,{"$f":"'DNSP Inputs O & M'!$F$17","v":7.5},{"$f":"BJ347*BK347*BL347","v":477.3},{"$f":"BM347/'DNSP Inputs O & M'!$F$329","v":59.662500000000001},null,null,null,null,{"$f":"'DNSP Inputs O & M'!$G$14","v":50.18},1,{"$f":"'DNSP Inputs O & M'!$G$17","v":7.5},{"$f":"BS347*BT347*BU347","v":376.35},{"$f":"BV347/'DNSP Inputs O & M'!$G$329","v":47.043750000000003},null,null,{"$f":"'DNSP Inputs O & M'!$G$15","v":63.64},1,{"$f":"'DNSP Inputs O & M'!$G$17","v":7.5},{"$f":"BZ347*CA347*CB347","v":477.3},{"$f":"CC347/'DNSP Inputs O & M'!$G$329","v":59.662500000000001},null,null,{"$f":"'DNSP Inputs O & M'!$G$15","v":63.64},1,{"$f":"'DNSP Inputs O & M'!$G$17","v":7.5},{"$f":"CG347*CH347*CI347","v":477.3},{"$f":"CJ347/'DNSP Inputs O & M'!$G$329","v":59.662500000000001},null,null,null,null,{"$f":"'DNSP Inputs O & M'!$H$14","v":50.18},1,{"$f":"'DNSP Inputs O & M'!$H$17","v":7.5},{"$f":"CP347*CQ347*CR347","v":376.35},{"$f":"CS347/'DNSP Inputs O & M'!$H$329","v":47.043750000000003},null,null,{"$f":"'DNSP Inputs O & M'!$H$15","v":63.64},1,{"$f":"'DNSP Inputs O & M'!$H$17","v":7.5},{"$f":"CW347*CX347*CY347","v":477.3},{"$f":"CZ347/'DNSP Inputs O & M'!$H$329","v":59.662500000000001},null,null,{"$f":"'DNSP Inputs O & M'!$H$15","v":63.64},1,{"$f":"'DNSP Inputs O & M'!$H$17","v":7.5},{"$f":"DD347*DE347*DF347","v":477.3},{"$f":"DG347/'DNSP Inputs O & M'!$H$329","v":59.662500000000001}]
["Labour - repair of faults"]
["Crew costs",{"$f":"'DNSP Inputs O & M'!$D$12","v":111.36223236834823},{"$f":"'DNSP Inputs O & M'!$D$334","v":2},{"$f":"'DNSP Inputs O & M'!$D$17","v":7.5},{"$f":"B349*C349*D349","v":1670.4334855252234},{"$f":"(E349+E350)/'DNSP Inputs O & M'!$D$329","v":255.84793569065295},{"$f":"F349*D329","v":1.3670720576103312},null,{"$f":"'DNSP Inputs O & M'!$D$12","v":111.36223236834823},{"$f":"'DNSP Inputs O & M'!$D$334","v":2},{"$f":"'DNSP Inputs O & M'!$D$17","v":7.5},{"$f":"I349*J349*K349","v":1670.4334855252234},{"$f":"(L349+L350)/'DNSP Inputs O & M'!$D$329","v":268.46668569065292},{"$f":"M349*D329","v":1.4344978137744469},null,{"$f":"'DNSP Inputs O & M'!$D$12","v":111.36223236834823},{"$f":"'DNSP Inputs O & M'!$D$334","v":2},{"$f":"'DNSP Inputs O & M'!$D$17","v":7.5},{"$f":"P349*Q349*R349","v":1670.4334855252234},{"$f":"(S349+S350)/'DNSP Inputs O & M'!$D$329","v":268.46668569065292},{"$f":"T349*D329","v":1.4344978137744469},null,null,null,{"$f":"'DNSP Inputs O & M'!$E$12","v":111.08407886363248},{"$f":"'DNSP Inputs O & M'!$E$334","v":2},{"$f":"'DNSP Inputs O & M'!$E$17","v":7.5},{"$f":"Y349*Z349*AA349","v":1666.2611829544874},{"$f":"(AB349+AB350)/'DNSP Inputs O & M'!$E$329","v":255.32639786931094},{"$f":"AC349*AA329","v":1.3642853250122393},null,{"$f":"'DNSP Inputs O & M'!$E$12","v":111.08407886363248},{"$f":"'DNSP Inputs O & M'!$E$334","v":2},{"$f":"'DNSP Inputs O & M'!$E$17","v":7.5},{"$f":"AF349*AG349*AH349","v":1666.2611829544874},{"$f":"(AI349+AI350)/'DNSP Inputs O & M'!$E$329","v":267.94514786931092},{"$f":"AJ349*AA329","v":1.4317110811763551},null,{"$f":"'DNSP Inputs O & M'!$E$12","v":111.08407886363248},{"$f":"'DNSP Inputs O & M'!$E$334","v":2},{"$f":"'DNSP Inputs O & M'!$E$17","v":7.5},{"$f":"AM349*AN349*AO349","v":1666.2611829544874},{"$f":"(AP349+AP350)/'DNSP Inputs O & M'!$E$329","v":267.94514786931092},{"$f":"AQ349*AA329","v":1.4317110811763551},null,null,null,{"$f":"'DNSP Inputs O & M'!$F$12","v":111.00339776810097},{"$f":"'DNSP Inputs O & M'!$F$334","v":2},{"$f":"'DNSP Inputs O & M'!$F$17","v":7.5},{"$f":"AV349*AW349*AX349","v":1665.0509665215145},{"$f":"(AY349+AY350)/'DNSP Inputs O & M'!$F$329","v":255.1751208151893},{"$f":"AZ349*AX329","v":1.3634770064573563},null,{"$f":"'DNSP Inputs O & M'!$F$12","v":111.00339776810097},{"$f":"'DNSP Inputs O & M'!$F$334","v":2},{"$f":"'DNSP Inputs O & M'!$F$17","v":7.5},{"$f":"BC349*BD349*BE349","v":1665.0509665215145},{"$f":"(BF349+BF350)/'DNSP Inputs O & M'!$F$329","v":267.79387081518934},{"$f":"BG349*AX329","v":1.4309027626214723},null,{"$f":"'DNSP Inputs O & M'!$F$12","v":111.00339776810097},{"$f":"'DNSP Inputs O & M'!$F$334","v":2},{"$f":"'DNSP Inputs O & M'!$F$17","v":7.5},{"$f":"BJ349*BK349*BL349","v":1665.0509665215145},{"$f":"(BM349+BM350)/'DNSP Inputs O & M'!$F$329","v":267.79387081518934},{"$f":"BN349*AX329","v":1.4309027626214723},null,null,null,{"$f":"'DNSP Inputs O & M'!$G$12","v":111.41108530292857},{"$f":"'DNSP Inputs O & M'!$G$334","v":2},{"$f":"'DNSP Inputs O & M'!$G$17","v":7.5},{"$f":"BS349*BT349*BU349","v":1671.1662795439286},{"$f":"(BV349+BV350)/'DNSP Inputs O & M'!$G$329","v":255.93953494299109},{"$f":"BW349*BU329","v":1.3675614998175996},null,{"$f":"'DNSP Inputs O & M'!$G$12","v":111.41108530292857},{"$f":"'DNSP Inputs O & M'!$G$334","v":2},{"$f":"'DNSP Inputs O & M'!$G$17","v":7.5},{"$f":"BZ349*CA349*CB349","v":1671.1662795439286},{"$f":"(CC349+CC350)/'DNSP Inputs O & M'!$G$329","v":268.55828494299107},{"$f":"CD349*BU329","v":1.4349872559817152},null,{"$f":"'DNSP Inputs O & M'!$G$12","v":111.41108530292857},{"$f":"'DNSP Inputs O & M'!$G$334","v":2},{"$f":"'DNSP Inputs O & M'!$G$17","v":7.5},{"$f":"CG349*CH349*CI349","v":1671.1662795439286},{"$f":"(CJ349+CJ350)/'DNSP Inputs O & M'!$G$329","v":268.55828494299107},{"$f":"CK349*BU329","v":1.4349872559817152},null,null,null,{"$f":"'DNSP Inputs O & M'!$H$12","v":112.5214007824073},{"$f":"'DNSP Inputs O & M'!$H$334","v":2},{"$f":"'DNSP Inputs O & M'!$H$17","v":7.5},{"$f":"CP349*CQ349*CR349","v":1687.8210117361095},{"$f":"(CS349+CS350)/'DNSP Inputs O & M'!$H$329","v":258.02137646701368},{"$f":"CT349*CR329","v":1.3786854018658277},null,{"$f":"'DNSP Inputs O & M'!$H$12","v":112.5214007824073},{"$f":"'DNSP Inputs O & M'!$H$334","v":2},{"$f":"'DNSP Inputs O & M'!$H$17","v":7.5},{"$f":"CW349*CX349*CY349","v":1687.8210117361095},{"$f":"(CZ349+CZ350)/'DNSP Inputs O & M'!$H$329","v":270.64012646701372},{"$f":"DA349*CR329","v":1.4461111580299437},null,{"$f":"'DNSP Inputs O & M'!$H$12","v":112.5214007824073},{"$f":"'DNSP Inputs O & M'!$H$334","v":2},{"$f":"'DNSP Inputs O & M'!$H$17","v":7.5},{"$f":"DD349*DE349*DF349","v":1687.8210117361095},{"$f":"(DG349+DG350)/'DNSP Inputs O & M'!$H$329","v":270.64012646701372},{"$f":"DH349*CR329","v":1.4461111580299437}]
["Elevated platform vehicle costs",{"$f":"'DNSP Inputs O & M'!$D$14","v":50.18},1,{"$f":"'DNSP Inputs O & M'!$D$17","v":7.5},{"$f":"B350*C350*D350","v":376.35},null,null,null,{"$f":"'DNSP Inputs O & M'!$D$15","v":63.64},1,{"$f":"'DNSP Inputs O & M'!$D$17","v":7.5},{"$f":"I350*J350*K350","v":477.3},null,null,null,{"$f":"'DNSP Inputs O & M'!$D$15","v":63.64},1,{"$f":"'DNSP Inputs O & M'!$D$17","v":7.5},{"$f":"P350*Q350*R350","v":477.3},null,null,null,null,null,{"$f":"'DNSP Inputs O & M'!$E$14","v":50.18},1,{"$f":"'DNSP Inputs O & M'!$E$17","v":7.5},{"$f":"Y350*Z350*AA350","v":376.35},null,null,null,{"$f":"'DNSP Inputs O & M'!$E$15","v":63.64},1,{"$f":"'DNSP Inputs O & M'!$E$17","v":7.5},{"$f":"AF350*AG350*AH350","v":477.3},null,null,null,{"$f":"'DNSP Inputs O & M'!$E$15","v":63.64},1,{"$f":"'DNSP Inputs O & M'!$E$17","v":7.5},{"$f":"AM350*AN350*AO350","v":477.3},null,null,null,null,null,{"$f":"'DNSP Inputs O & M'!$F$14","v":50.18},1,{"$f":"'DNSP Inputs O & M'!$F$17","v":7.5},{"$f":"AV350*AW350*AX350","v":376.35},null,null,null,{"$f":"'DNSP Inputs O & M'!$F$15","v":63.64},1,{"$f":"'DNSP Inputs O & M'!$F$17","v":7.5},{"$f":"BC350*BD350*BE350","v":477.3},null,null,null,{"$f":"'DNSP Inputs O & M'!$F$15","v":63.64},1,{"$f":"'DNSP Inputs O & M'!$F$17","v":7.5},{"$f":"BJ350*BK350*BL350","v":477.3},null,null,null,null,null,{"$f":"'DNSP Inputs O & M'!$G$14","v":50.18},1,{"$f":"'DNSP Inputs O & M'!$G$17","v":7.5},{"$f":"BS350*BT350*BU350","v":376.35},null,null,null,{"$f":"'DNSP Inputs O & M'!$G$15","v":63.64},1,{"$f":"'DNSP Inputs O & M'!$G$17","v":7.5},{"$f":"BZ350*CA350*CB350","v":477.3},null,null,null,{"$f":"'DNSP Inputs O & M'!$G$15","v":63.64},1,{"$f":"'DNSP Inputs O & M'!$G$17","v":7.5},{"$f":"CG350*CH350*CI350","v":477.3},null,null,null,null,null,{"$f":"'DNSP Inputs O & M'!$H$14","v":50.18},1,{"$f":"'DNSP Inputs O & M'!$H$17","v":7.5},{"$f":"CP350*CQ350*CR350","v":376.35},null,null,null,{"$f":"'DNSP Inputs O & M'!$H$15","v":63.64},1,{"$f":"'DNSP Inputs O & M'!$H$17","v":7.5},{"$f":"CW350*CX350*CY350","v":477.3},null,null,null,{"$f":"'DNSP Inputs O & M'!$H$15","v":63.64},1,{"$f":"'DNSP Inputs O & M'!$H$17","v":7.5},{"$f":"DD350*DE350*DF350","v":477.3}]
["Other Maintenance and Repair costs",null,null,null,null,null,{"$f":"'DNSP Inputs O & M'!$D$350","v":1.05},null,null,null,null,null,null,{"$f":"'DNSP Inputs O & M'!$D$350","v":1.05},null,null,null,null,null,null,{"$f":"'DNSP Inputs O & M'!$D$350","v":1.05},null,null,null,null,null,null,null,null,{"$f":"'DNSP Inputs O & M'!$E$350","v":1.05},null,null,null,null,null,null,{"$f":"'DNSP Inputs O & M'!$E$350","v":1.05},null,null,null,null,null,null,{"$f":"'DNSP Inputs O & M'!$E$350","v":1.05},null,null,null,null,null,null,null,null,{"$f":"'DNSP Inputs O & M'!$F$350","v":1.05},null,null,null,null,null,null,{"$f":"'DNSP Inputs O & M'!$F$350","v":1.05},null,null,null,null,null,null,{"$f":"'DNSP Inputs O & M'!$F$350","v":1.05},null,null,null,null,null,null,null,null,{"$f":"'DNSP Inputs O & M'!$G$350","v":1.05},null,null,null,null,null,null,{"$f":"'DNSP Inputs O & M'!$G$350","v":1.05},null,null,null,null,null,null,{"$f":"'DNSP Inputs O & M'!$G$350","v":1.05},null,null,null,null,null,null,null,null,{"$f":"'DNSP Inputs O & M'!$H$350","v":1.05},null,null,null,null,null,null,{"$f":"'DNSP Inputs O & M'!$H$350","v":1.05},null,null,null,null,null,null,{"$f":"'DNSP Inputs O & M'!$H$350","v":1.05}]
[]
["Overheads",{"$f":"'DNSP Inputs O & M'!$D$18","v":0.25},null,null,null,null,{"$f":"B353*SUM(G340:G351)","v":1.9633300662390574},null,{"$f":"'DNSP Inputs O & M'!$D$18","v":0.25},null,null,null,null,{"$f":"I353*SUM(N340:N351)","v":2.2319824404827773},null,{"$f":"'DNSP Inputs O & M'!$D$18","v":0.25},null,null,null,null,{"$f":"P353*SUM(U340:U351)","v":2.510435746911055},null,null,null,{"$f":"'DNSP Inputs O & M'!$E$18","v":0.25},null,null,null,null,{"$f":"Y353*SUM(AD340:AD351)","v":1.9608695241158398},null,{"$f":"'DNSP Inputs O & M'!$E$18","v":0.25},null,null,null,null,{"$f":"AF353*SUM(AK340:AK351)","v":2.229163614505528},null,{"$f":"'DNSP Inputs O & M'!$E$18","v":0.25},null,null,null,null,{"$f":"AM353*SUM(AR340:AR351)","v":2.5070759825659534},null,null,null,{"$f":"'DNSP Inputs O & M'!$F$18","v":0.25},null,null,null,null,{"$f":"AV353*SUM(BA340:BA351)","v":1.9601558202410474},null,{"$f":"'DNSP Inputs O & M'!$F$18","v":0.25},null,null,null,null,{"$f":"BC353*SUM(BH340:BH351)","v":2.228345986957784},null,{"$f":"'DNSP Inputs O & M'!$F$18","v":0.25},null,null,null,null,{"$f":"BJ353*SUM(BO340:BO351)","v":2.5061014506492434},null,null,null,{"$f":"'DNSP Inputs O & M'!$G$18","v":0.25},null,null,null,null,{"$f":"BS353*SUM(BX340:BX351)","v":1.9637622186345507},null,{"$f":"'DNSP Inputs O & M'!$G$18","v":0.25},null,null,null,null,{"$f":"BZ353*SUM(CE340:CE351)","v":2.2324775193465172},null,{"$f":"'DNSP Inputs O & M'!$G$18","v":0.25},null,null,null,null,{"$f":"CG353*SUM(CL340:CL351)","v":2.5110258324033241},null,null,null,{"$f":"'DNSP Inputs O & M'!$H$18","v":0.25},null,null,null,null,{"$f":"CP353*SUM(CU340:CU351)","v":1.9735840542792598},null,{"$f":"'DNSP Inputs O & M'!$H$18","v":0.25},null,null,null,null,{"$f":"CW353*SUM(DB340:DB351)","v":2.2437295297056714},null,{"$f":"'DNSP Inputs O & M'!$H$18","v":0.25},null,null,null,null,{"$f":"DD353*SUM(DI340:DI351)","v":2.5244371261548757}]
[]
[null,null,null,null,null,null,{"$f":"SUM(G340,G342,G346,G349,G351,G353)","v":9.8166503311952873},null,null,null,null,null,null,{"$f":"SUM(N340,N342,N346,N349,N351,N353)","v":11.159912202413887},null,null,null,null,null,null,{"$f":"SUM(U340,U342,U346,U349,U351,U353)","v":12.552178734555275},null,null,null,null,null,null,null,null,{"$f":"SUM(AD340,AD342,AD346,AD349,AD351,AD353)","v":9.8043476205791986},null,null,null,null,null,null,{"$f":"SUM(AK340,AK342,AK346,AK349,AK351,AK353)","v":11.145818072527639},null,null,null,null,null,null,{"$f":"SUM(AR340,AR342,AR346,AR349,AR351,AR353)","v":12.535379912829768},null,null,null,null,null,null,null,null,{"$f":"SUM(BA340,BA342,BA346,BA349,BA351,BA353)","v":9.8007791012052365},null,null,null,null,null,null,{"$f":"SUM(BH340,BH342,BH346,BH349,BH351,BH353)","v":11.14172993478892},null,null,null,null,null,null,{"$f":"SUM(BO340,BO342,BO346,BO349,BO351,BO353)","v":12.530507253246217},null,null,null,null,null,null,null,null,{"$f":"SUM(BX340,BX342,BX346,BX349,BX351,BX353)","v":9.8188110931727532},null,null,null,null,null,null,{"$f":"SUM(CE340,CE342,CE346,CE349,CE351,CE353)","v":11.162387596732586},null,null,null,null,null,null,{"$f":"SUM(CL340,CL342,CL346,CL349,CL351,CL353)","v":12.55512916201662},null,null,null,null,null,null,null,null,{"$f":"SUM(CU340,CU342,CU346,CU349,CU351,CU353)","v":9.867920271396299},null,null,null,null,null,null,{"$f":"SUM(DB340,DB342,DB346,DB349,DB351,DB353)","v":11.218647648528357},null,null,null,null,null,null,{"$f":"SUM(DI340,DI342,DI346,DI349,DI351,DI353)","v":12.622185630774378}]
[]
[]
[]
["NEW"]
["Category P LED 70 Watt (L1) - Cost build-up"]
[]
["Additional assumptions"]
[]
[]
["Overheads are applied to material and labour components"]
["All costs and charges are exclusive of GST"]
[]
[null,"Urban",null,null,null,null,null,null,"Rural",null,null,null,null,null,null,"Remote",null,null,null,null,null,null,null,null,"Urban",null,null,null,null,null,null,"Rural",null,null,null,null,null,null,"Remote",null,null,null,null,null,null,null,null,"Urban",null,null,null,null,null,null,"Rural",null,null,null,null,null,null,"Remote",null,null,null,null,null,null,null,null,"Urban",null,null,null,null,null,null,"Rural",null,null,null,null,null,null,"Remote",null,null,null,null,null,null,null,null,"Urban",null,null,null,null,null,null,"Rural",null,null,null,null,null,null,"Remote"]
[]
[null,"Unit rate","Number","Hours","Cost","Annualised","Annualised",null,"Unit rate","Number","Hours","Cost","Annualised","Annualised",null,"Unit rate","Number","Hours","Cost","Annualised","Annualised",null,null,null,"Unit rate","Number","Hours","Cost","Annualised","Annualised",null,"Unit rate","Number","Hours","Cost","Annualised","Annualised",null,"Unit rate","Number","Hours","Cost","Annualised","Annualised",null,null,null,"Unit rate","Number","Hours","Cost","Annualised","Annualised",null,"Unit rate","Number","Hours","Cost","Annualised","Annualised",null,"Unit rate","Number","Hours","Cost","Annualised","Annualised",null,null,null,"Unit rate","Number","Hours","Cost","Annualised","Annualised",null,"Unit rate","Number","Hours","Cost","Annualised","Annualised",null,"Unit rate","Number","Hours","Cost","Annualised","Annualised",null,null,null,"Unit rate","Number","Hours","Cost","Annualised","Annualised",null,"Unit rate","Number","Hours","Cost","Annualised","Annualised",null,"Unit rate","Number","Hours","Cost","Annualised","Annualised"]
[null,null,null,null,null," cost","unit cost",null,null,null,null,null," cost","unit cost",null,null,null,null,null," cost","unit cost",null,null,null,null,null,null,null," cost","unit cost",null,null,null,null,null," cost","unit cost",null,null,null,null,null," cost","unit cost",null,null,null,null,null,null,null," cost","unit cost",null,null,null,null,null," cost","unit cost",null,null,null,null,null," cost","unit cost",null,null,null,null,null,null,null," cost","unit cost",null,null,null,null,null," cost","unit cost",null,null,null,null,null," cost","unit cost",null,null,null,null,null,null,null," cost","unit cost",null,null,null,null,null," cost","unit cost",null,null,null,null,null," cost","unit cost"]
["LED 70W (L1)"]
["Patrols & repairs"]
[]
[]
["Materials - repair of faults"]
["PE cell",{"$f":"'DNSP Inputs O & M'!$D$377","v":15.120000000000001},{"$f":"'DNSP Inputs O & M'!$D$384*'DNSP Inputs O & M'!$D$387","v":13.5},null,{"$f":"B377*C377","v":204.12},{"$f":"(E377+E378+E379)/'DNSP Inputs O & M'!$D$381","v":7.9634219212176935E-2},{"$f":"F377*'DNSP Inputs O & M'!$D$375","v":0.23890265763653079},null,{"$f":"'DNSP Inputs O & M'!$D$377*(1+'DNSP Inputs O & M'!$D$11)","v":15.876000000000001},{"$f":"'DNSP Inputs O & M'!$D$385*'DNSP Inputs O & M'!$D$387","v":9.9},null,{"$f":"I377*J377","v":157.17240000000001},{"$f":"(L377+L378+L379)/'DNSP Inputs O & M'!$D$382","v":9.1977523190064372E-2},{"$f":"M377*'DNSP Inputs O & M'!$D$375","v":0.27593256957019313},null,{"$f":"'DNSP Inputs O & M'!$D$377*(1+'DNSP Inputs O & M'!$D$11)","v":15.876000000000001},{"$f":"'DNSP Inputs O & M'!$D$386*'DNSP Inputs O & M'!$D$387","v":8.1},null,{"$f":"P377*Q377","v":128.59559999999999},{"$f":"(S377+S378+S379)/'DNSP Inputs O & M'!$D$383","v":0.15050867431101439},{"$f":"T377*'DNSP Inputs O & M'!$D$375","v":0.45152602293304317},null,null,null,{"$f":"'DNSP Inputs O & M'!$E$377","v":15.120000000000001},{"$f":"'DNSP Inputs O & M'!$E$384*'DNSP Inputs O & M'!$E$387","v":13.5},null,{"$f":"Y377*Z377","v":204.12},{"$f":"(AB377+AB378+AB379)/'DNSP Inputs O & M'!$E$381","v":7.9634219212176935E-2},{"$f":"AC377*'DNSP Inputs O & M'!$E$375","v":0.23890265763653079},null,{"$f":"'DNSP Inputs O & M'!$E$377*(1+'DNSP Inputs O & M'!$E$11)","v":15.876000000000001},{"$f":"'DNSP Inputs O & M'!$E$385*'DNSP Inputs O & M'!$E$387","v":9.9},null,{"$f":"AF377*AG377","v":157.17240000000001},{"$f":"(AI377+AI378+AI379)/'DNSP Inputs O & M'!$E$382","v":9.1977523190064372E-2},{"$f":"AJ377*'DNSP Inputs O & M'!$E$375","v":0.27593256957019313},null,{"$f":"'DNSP Inputs O & M'!$E$377*(1+'DNSP Inputs O & M'!$E$11)","v":15.876000000000001},{"$f":"'DNSP Inputs O & M'!$E$386*'DNSP Inputs O & M'!$E$387","v":8.1},null,{"$f":"AM377*AN377","v":128.59559999999999},{"$f":"(AP377+AP378+AP379)/'DNSP Inputs O & M'!$E$383","v":0.15050867431101439},{"$f":"AQ377*'DNSP Inputs O & M'!$E$375","v":0.45152602293304317},null,null,null,{"$f":"'DNSP Inputs O & M'!$F$377","v":15.120000000000001},{"$f":"'DNSP Inputs O & M'!$F$384*'DNSP Inputs O & M'!$F$387","v":13.5},null,{"$f":"AV377*AW377","v":204.12},{"$f":"(AY377+AY378+AY379)/'DNSP Inputs O & M'!$F$381","v":7.9634219212176935E-2},{"$f":"AZ377*'DNSP Inputs O & M'!$F$375","v":0.23890265763653079},null,{"$f":"'DNSP Inputs O & M'!$F$377*(1+'DNSP Inputs O & M'!$F$11)","v":15.876000000000001},{"$f":"'DNSP Inputs O & M'!$F$385*'DNSP Inputs O & M'!$F$387","v":9.9},null,{"$f":"BC377*BD377","v":157.17240000000001},{"$f":"(BF377+BF378+BF379)/'DNSP Inputs O & M'!$F$382","v":9.1977523190064372E-2},{"$f":"BG377*'DNSP Inputs O & M'!$F$375","v":0.27593256957019313},null,{"$f":"'DNSP Inputs O & M'!$F$377*(1+'DNSP Inputs O & M'!$F$11)","v":15.876000000000001},{"$f":"'DNSP Inputs O & M'!$F$386*'DNSP Inputs O & M'!$F$387","v":8.1},null,{"$f":"BJ377*BK377","v":128.59559999999999},{"$f":"(BM377+BM378+BM379)/'DNSP Inputs O & M'!$F$383","v":0.15050867431101439},{"$f":"BN377*'DNSP Inputs O & M'!$F$375","v":0.45152602293304317},null,null,null,{"$f":"'DNSP Inputs O & M'!$G$377","v":15.120000000000001},{"$f":"'DNSP Inputs O & M'!$G$384*'DNSP Inputs O & M'!$G$387","v":13.5},null,{"$f":"BS377*BT377","v":204.12},{"$f":"(BV377+BV378+BV379)/'DNSP Inputs O & M'!$G$381","v":7.9634219212176935E-2},{"$f":"BW377*'DNSP Inputs O & M'!$G$375","v":0.23890265763653079},null,{"$f":"'DNSP Inputs O & M'!$G$377*(1+'DNSP Inputs O & M'!$G$11)","v":15.876000000000001},{"$f":"'DNSP Inputs O & M'!$G$385*'DNSP Inputs O & M'!$G$387","v":9.9},null,{"$f":"BZ377*CA377","v":157.17240000000001},{"$f":"(CC377+CC378+CC379)/'DNSP Inputs O & M'!$G$382","v":9.1977523190064372E-2},{"$f":"CD377*'DNSP Inputs O & M'!$G$375","v":0.27593256957019313},null,{"$f":"'DNSP Inputs O & M'!$G$377*(1+'DNSP Inputs O & M'!$G$11)","v":15.876000000000001},{"$f":"'DNSP Inputs O & M'!$G$386*'DNSP Inputs O & M'!$G$387","v":8.1},null,{"$f":"CG377*CH377","v":128.59559999999999},{"$f":"(CJ377+CJ378+CJ379)/'DNSP Inputs O & M'!$G$383","v":0.15050867431101439},{"$f":"CK377*'DNSP Inputs O & M'!$G$375","v":0.45152602293304317},null,null,null,{"$f":"'DNSP Inputs O & M'!$H$377","v":15.120000000000001},{"$f":"'DNSP Inputs O & M'!$H$384*'DNSP Inputs O & M'!$H$387","v":13.5},null,{"$f":"CP377*CQ377","v":204.12},{"$f":"(CS377+CS378+CS379)/'DNSP Inputs O & M'!$H$381","v":7.9634219212176935E-2},{"$f":"CT377*'DNSP Inputs O & M'!$H$375","v":0.23890265763653079},null,{"$f":"'DNSP Inputs O & M'!$H$377*(1+'DNSP Inputs O & M'!$H$11)","v":15.876000000000001},{"$f":"'DNSP Inputs O & M'!$H$385*'DNSP Inputs O & M'!$H$387","v":9.9},null,{"$f":"CW377*CX377","v":157.17240000000001},{"$f":"(CZ377+CZ378+CZ379)/'DNSP Inputs O & M'!$H$382","v":9.1977523190064372E-2},{"$f":"DA377*'DNSP Inputs O & M'!$H$375","v":0.27593256957019313},null,{"$f":"'DNSP Inputs O & M'!$H$377*(1+'DNSP Inputs O & M'!$H$11)","v":15.876000000000001},{"$f":"'DNSP Inputs O & M'!$H$386*'DNSP Inputs O & M'!$H$387","v":8.1},null,{"$f":"DD377*DE377","v":128.59559999999999},{"$f":"(DG377+DG378+DG379)/'DNSP Inputs O & M'!$H$383","v":0.15050867431101439},{"$f":"DH377*'DNSP Inputs O & M'!$H$375","v":0.45152602293304317}]
["Luminaire",{"$f":"'DNSP Inputs O & M'!$D$378","v":402},{"$f":"'DNSP Inputs O & M'!$D$384*'DNSP Inputs O & M'!$D$388","v":0},null,{"$f":"B378*C378","v":0},null,null,null,{"$f":"'DNSP Inputs O & M'!$D$378*(1+'DNSP Inputs O & M'!$D$11)","v":422.1},{"$f":"'DNSP Inputs O & M'!$D$385*'DNSP Inputs O & M'!$D$388","v":0},null,{"$f":"I378*J378","v":0},null,null,null,{"$f":"'DNSP Inputs O & M'!$D$378*(1+'DNSP Inputs O & M'!$D$11)","v":422.1},{"$f":"'DNSP Inputs O & M'!$D$386*'DNSP Inputs O & M'!$D$388","v":0},null,{"$f":"P378*Q378","v":0},null,null,null,null,null,{"$f":"'DNSP Inputs O & M'!$E$378","v":402},{"$f":"'DNSP Inputs O & M'!$E$384*'DNSP Inputs O & M'!$E$388","v":0},null,{"$f":"Y378*Z378","v":0},null,null,null,{"$f":"'DNSP Inputs O & M'!$E$378*(1+'DNSP Inputs O & M'!$E$11)","v":422.1},{"$f":"'DNSP Inputs O & M'!$E$385*'DNSP Inputs O & M'!$E$388","v":0},null,{"$f":"AF378*AG378","v":0},null,null,null,{"$f":"'DNSP Inputs O & M'!$E$378*(1+'DNSP Inputs O & M'!$E$11)","v":422.1},{"$f":"'DNSP Inputs O & M'!$E$386*'DNSP Inputs O & M'!$E$388","v":0},null,{"$f":"AM378*AN378","v":0},null,null,null,null,null,{"$f":"'DNSP Inputs O & M'!$F$378","v":402},{"$f":"'DNSP Inputs O & M'!$F$384*'DNSP Inputs O & M'!$F$388","v":0},null,{"$f":"AV378*AW378","v":0},null,null,null,{"$f":"'DNSP Inputs O & M'!$F$378*(1+'DNSP Inputs O & M'!$F$11)","v":422.1},{"$f":"'DNSP Inputs O & M'!$F$385*'DNSP Inputs O & M'!$F$388","v":0},null,{"$f":"BC378*BD378","v":0},null,null,null,{"$f":"'DNSP Inputs O & M'!$F$378*(1+'DNSP Inputs O & M'!$F$11)","v":422.1},{"$f":"'DNSP Inputs O & M'!$F$386*'DNSP Inputs O & M'!$F$388","v":0},null,{"$f":"BJ378*BK378","v":0},null,null,null,null,null,{"$f":"'DNSP Inputs O & M'!$G$378","v":402},{"$f":"'DNSP Inputs O & M'!$G$384*'DNSP Inputs O & M'!$G$388","v":0},null,{"$f":"BS378*BT378","v":0},null,null,null,{"$f":"'DNSP Inputs O & M'!$G$378*(1+'DNSP Inputs O & M'!$G$11)","v":422.1},{"$f":"'DNSP Inputs O & M'!$G$385*'DNSP Inputs O & M'!$G$388","v":0},null,{"$f":"BZ378*CA378","v":0},null,null,null,{"$f":"'DNSP Inputs O & M'!$G$378*(1+'DNSP Inputs O & M'!$G$11)","v":422.1},{"$f":"'DNSP Inputs O & M'!$G$386*'DNSP Inputs O & M'!$G$388","v":0},null,{"$f":"CG378*CH378","v":0},null,null,null,null,null,{"$f":"'DNSP Inputs O & M'!$H$378","v":402},{"$f":"'DNSP Inputs O & M'!$H$384*'DNSP Inputs O & M'!$H$388","v":0},null,{"$f":"CP378*CQ378","v":0},null,null,null,{"$f":"'DNSP Inputs O & M'!$H$378*(1+'DNSP Inputs O & M'!$H$11)","v":422.1},{"$f":"'DNSP Inputs O & M'!$H$385*'DNSP Inputs O & M'!$H$388","v":0},null,{"$f":"CW378*CX378","v":0},null,null,null,{"$f":"'DNSP Inputs O & M'!$H$378*(1+'DNSP Inputs O & M'!$H$11)","v":422.1},{"$f":"'DNSP Inputs O & M'!$H$386*'DNSP Inputs O & M'!$H$388","v":0},null,{"$f":"DD378*DE378","v":0}]
["Miscellaneous",{"$f":"'DNSP Inputs O & M'!$D$379","v":23.188438424353883},{"$f":"'DNSP Inputs O & M'!$D$384*'DNSP Inputs O & M'!$D$389","v":1.5},null,{"$f":"B379*C379","v":34.782657636530828},null,null,null,{"$f":"'DNSP Inputs O & M'!$D$379*(1+'DNSP Inputs O & M'!$D$11)","v":24.347860345571579},{"$f":"'DNSP Inputs O & M'!$D$385*'DNSP Inputs O & M'!$D$389","v":1.1000000000000001},null,{"$f":"I379*J379","v":26.782646380128739},null,null,null,{"$f":"'DNSP Inputs O & M'!$D$379*(1+'DNSP Inputs O & M'!$D$11)","v":24.347860345571579},{"$f":"'DNSP Inputs O & M'!$D$386*'DNSP Inputs O & M'!$D$389","v":0.9},null,{"$f":"P379*Q379","v":21.913074311014423},null,null,null,null,null,{"$f":"'DNSP Inputs O & M'!$E$379","v":23.188438424353883},{"$f":"'DNSP Inputs O & M'!$E$384*'DNSP Inputs O & M'!$E$389","v":1.5},null,{"$f":"Y379*Z379","v":34.782657636530828},null,null,null,{"$f":"'DNSP Inputs O & M'!$E$379*(1+'DNSP Inputs O & M'!$E$11)","v":24.347860345571579},{"$f":"'DNSP Inputs O & M'!$E$385*'DNSP Inputs O & M'!$E$389","v":1.1000000000000001},null,{"$f":"AF379*AG379","v":26.782646380128739},null,null,null,{"$f":"'DNSP Inputs O & M'!$E$379*(1+'DNSP Inputs O & M'!$E$11)","v":24.347860345571579},{"$f":"'DNSP Inputs O & M'!$E$386*'DNSP Inputs O & M'!$E$389","v":0.9},null,{"$f":"AM379*AN379","v":21.913074311014423},null,null,null,null,null,{"$f":"'DNSP Inputs O & M'!$F$379","v":23.188438424353883},{"$f":"'DNSP Inputs O & M'!$F$384*'DNSP Inputs O & M'!$F$389","v":1.5},null,{"$f":"AV379*AW379","v":34.782657636530828},null,null,null,{"$f":"'DNSP Inputs O & M'!$F$379*(1+'DNSP Inputs O & M'!$F$11)","v":24.347860345571579},{"$f":"'DNSP Inputs O & M'!$F$385*'DNSP Inputs O & M'!$F$389","v":1.1000000000000001},null,{"$f":"BC379*BD379","v":26.782646380128739},null,null,null,{"$f":"'DNSP Inputs O & M'!$F$379*(1+'DNSP Inputs O & M'!$F$11)","v":24.347860345571579},{"$f":"'DNSP Inputs O & M'!$F$386*'DNSP Inputs O & M'!$F$389","v":0.9},null,{"$f":"BJ379*BK379","v":21.913074311014423},null,null,null,null,null,{"$f":"'DNSP Inputs O & M'!$G$379","v":23.188438424353883},{"$f":"'DNSP Inputs O & M'!$G$384*'DNSP Inputs O & M'!$G$389","v":1.5},null,{"$f":"BS379*BT379","v":34.782657636530828},null,null,null,{"$f":"'DNSP Inputs O & M'!$G$379*(1+'DNSP Inputs O & M'!$G$11)","v":24.347860345571579},{"$f":"'DNSP Inputs O & M'!$G$385*'DNSP Inputs O & M'!$G$389","v":1.1000000000000001},null,{"$f":"BZ379*CA379","v":26.782646380128739},null,null,null,{"$f":"'DNSP Inputs O & M'!$G$379*(1+'DNSP Inputs O & M'!$G$11)","v":24.347860345571579},{"$f":"'DNSP Inputs O & M'!$G$386*'DNSP Inputs O & M'!$G$389","v":0.9},null,{"$f":"CG379*CH379","v":21.913074311014423},null,null,null,null,null,{"$f":"'DNSP Inputs O & M'!$H$379","v":23.188438424353883},{"$f":"'DNSP Inputs O & M'!$H$384*'DNSP Inputs O & M'!$H$389","v":1.5},null,{"$f":"CP379*CQ379","v":34.782657636530828},null,null,null,{"$f":"'DNSP Inputs O & M'!$H$379*(1+'DNSP Inputs O & M'!$H$11)","v":24.347860345571579},{"$f":"'DNSP Inputs O & M'!$H$385*'DNSP Inputs O & M'!$H$389","v":1.1000000000000001},null,{"$f":"CW379*CX379","v":26.782646380128739},null,null,null,{"$f":"'DNSP Inputs O & M'!$H$379*(1+'DNSP Inputs O & M'!$H$11)","v":24.347860345571579},{"$f":"'DNSP Inputs O & M'!$H$386*'DNSP Inputs O & M'!$H$389","v":0.9},null,{"$f":"DD379*DE379","v":21.913074311014423}]
["Labour - Patrol"]
["Crew costs",{"$f":"'DNSP Inputs O & M'!$D$12","v":111.36223236834823},{"$f":"'DNSP Inputs O & M'!$D$380","v":2},{"$f":"'DNSP Inputs O & M'!$D$17","v":7.5},{"$f":"B381*C381*D381","v":1670.4334855252234},{"$f":"E381/'DNSP Inputs O & M'!$D$381","v":0.55681116184174118},{"$f":"(F381+F382)*'DNSP Inputs O & M'!$D$375","v":1.9282084855252237},null,{"$f":"'DNSP Inputs O & M'!$D$12","v":111.36223236834823},{"$f":"'DNSP Inputs O & M'!$D$380","v":2},{"$f":"'DNSP Inputs O & M'!$D$17","v":7.5},{"$f":"I381*J381*K381","v":1670.4334855252234},{"$f":"L381/'DNSP Inputs O & M'!$D$382","v":0.83521674276261171},{"$f":"(M381+M382)*'DNSP Inputs O & M'!$D$375","v":2.8923127282878349},null,{"$f":"'DNSP Inputs O & M'!$D$12","v":111.36223236834823},{"$f":"'DNSP Inputs O & M'!$D$380","v":2},{"$f":"'DNSP Inputs O & M'!$D$17","v":7.5},{"$f":"P381*Q381*R381","v":1670.4334855252234},{"$f":"S381/'DNSP Inputs O & M'!$D$383","v":1.6704334855252234},{"$f":"(T381+T382)*'DNSP Inputs O & M'!$D$375","v":5.7846254565756698},null,null,null,{"$f":"'DNSP Inputs O & M'!$E$12","v":111.08407886363248},{"$f":"'DNSP Inputs O & M'!$E$380","v":2},{"$f":"'DNSP Inputs O & M'!$E$17","v":7.5},{"$f":"Y381*Z381*AA381","v":1666.2611829544874},{"$f":"AB381/'DNSP Inputs O & M'!$E$381","v":0.55542039431816248},{"$f":"(AC381+AC382)*'DNSP Inputs O & M'!$E$375","v":1.9240361829544876},null,{"$f":"'DNSP Inputs O & M'!$E$12","v":111.08407886363248},{"$f":"'DNSP Inputs O & M'!$E$380","v":2},{"$f":"'DNSP Inputs O & M'!$E$17","v":7.5},{"$f":"AF381*AG381*AH381","v":1666.2611829544874},{"$f":"AI381/'DNSP Inputs O & M'!$E$382","v":0.83313059147724366},{"$f":"(AJ381+AJ382)*'DNSP Inputs O & M'!$E$375","v":2.8860542744317308},null,{"$f":"'DNSP Inputs O & M'!$E$12","v":111.08407886363248},{"$f":"'DNSP Inputs O & M'!$E$380","v":2},{"$f":"'DNSP Inputs O & M'!$E$17","v":7.5},{"$f":"AM381*AN381*AO381","v":1666.2611829544874},{"$f":"AP381/'DNSP Inputs O & M'!$E$383","v":1.6662611829544873},{"$f":"(AQ381+AQ382)*'DNSP Inputs O & M'!$E$375","v":5.7721085488634616},null,null,null,{"$f":"'DNSP Inputs O & M'!$F$12","v":111.00339776810097},{"$f":"'DNSP Inputs O & M'!$F$380","v":2},{"$f":"'DNSP Inputs O & M'!$F$17","v":7.5},{"$f":"AV381*AW381*AX381","v":1665.0509665215145},{"$f":"AY381/'DNSP Inputs O & M'!$F$381","v":0.55501698884050488},{"$f":"(AZ381+AZ382)*'DNSP Inputs O & M'!$F$375","v":1.9228259665215148},null,{"$f":"'DNSP Inputs O & M'!$F$12","v":111.00339776810097},{"$f":"'DNSP Inputs O & M'!$F$380","v":2},{"$f":"'DNSP Inputs O & M'!$F$17","v":7.5},{"$f":"BC381*BD381*BE381","v":1665.0509665215145},{"$f":"BF381/'DNSP Inputs O & M'!$F$382","v":0.83252548326075726},{"$f":"(BG381+BG382)*'DNSP Inputs O & M'!$F$375","v":2.8842389497822714},null,{"$f":"'DNSP Inputs O & M'!$F$12","v":111.00339776810097},{"$f":"'DNSP Inputs O & M'!$F$380","v":2},{"$f":"'DNSP Inputs O & M'!$F$17","v":7.5},{"$f":"BJ381*BK381*BL381","v":1665.0509665215145},{"$f":"BM381/'DNSP Inputs O & M'!$F$383","v":1.6650509665215145},{"$f":"(BN381+BN382)*'DNSP Inputs O & M'!$F$375","v":5.7684778995645427},null,null,null,{"$f":"'DNSP Inputs O & M'!$G$12","v":111.41108530292857},{"$f":"'DNSP Inputs O & M'!$G$380","v":2},{"$f":"'DNSP Inputs O & M'!$G$17","v":7.5},{"$f":"BS381*BT381*BU381","v":1671.1662795439286},{"$f":"BV381/'DNSP Inputs O & M'!$G$381","v":0.5570554265146429},{"$f":"(BW381+BW382)*'DNSP Inputs O & M'!$G$375","v":1.9289412795439289},null,{"$f":"'DNSP Inputs O & M'!$G$12","v":111.41108530292857},{"$f":"'DNSP Inputs O & M'!$G$380","v":2},{"$f":"'DNSP Inputs O & M'!$G$17","v":7.5},{"$f":"BZ381*CA381*CB381","v":1671.1662795439286},{"$f":"CC381/'DNSP Inputs O & M'!$G$382","v":0.8355831397719643},{"$f":"(CD381+CD382)*'DNSP Inputs O & M'!$G$375","v":2.8934119193158927},null,{"$f":"'DNSP Inputs O & M'!$G$12","v":111.41108530292857},{"$f":"'DNSP Inputs O & M'!$G$380","v":2},{"$f":"'DNSP Inputs O & M'!$G$17","v":7.5},{"$f":"CG381*CH381*CI381","v":1671.1662795439286},{"$f":"CJ381/'DNSP Inputs O & M'!$G$383","v":1.6711662795439286},{"$f":"(CK381+CK382)*'DNSP Inputs O & M'!$G$375","v":5.7868238386317854},null,null,null,{"$f":"'DNSP Inputs O & M'!$H$12","v":112.5214007824073},{"$f":"'DNSP Inputs O & M'!$H$380","v":2},{"$f":"'DNSP Inputs O & M'!$H$17","v":7.5},{"$f":"CP381*CQ381*CR381","v":1687.8210117361095},{"$f":"CS381/'DNSP Inputs O & M'!$H$381","v":0.56260700391203655},{"$f":"(CT381+CT382)*'DNSP Inputs O & M'!$H$375","v":1.9455960117361097},null,{"$f":"'DNSP Inputs O & M'!$H$12","v":112.5214007824073},{"$f":"'DNSP Inputs O & M'!$H$380","v":2},{"$f":"'DNSP Inputs O & M'!$H$17","v":7.5},{"$f":"CW381*CX381*CY381","v":1687.8210117361095},{"$f":"CZ381/'DNSP Inputs O & M'!$H$382","v":0.84391050586805472},{"$f":"(DA381+DA382)*'DNSP Inputs O & M'!$H$375","v":2.9183940176041645},null,{"$f":"'DNSP Inputs O & M'!$H$12","v":112.5214007824073},{"$f":"'DNSP Inputs O & M'!$H$380","v":2},{"$f":"'DNSP Inputs O & M'!$H$17","v":7.5},{"$f":"DD381*DE381*DF381","v":1687.8210117361095},{"$f":"DG381/'DNSP Inputs O & M'!$H$383","v":1.6878210117361094},{"$f":"(DH381+DH382)*'DNSP Inputs O & M'!$H$375","v":5.836788035208329}]
["Vehicle costs",{"$f":"'DNSP Inputs O & M'!$D$16","v":34.369999999999997},1,{"$f":"'DNSP Inputs O & M'!$D$17","v":7.5},{"$f":"B382*C382*D382","v":257.77499999999998},{"$f":"E382/'DNSP Inputs O & M'!$D$381","v":8.5924999999999987E-2},null,null,{"$f":"'DNSP Inputs O & M'!$D$16","v":34.369999999999997},1,{"$f":"'DNSP Inputs O & M'!$D$17","v":7.5},{"$f":"I382*J382*K382","v":257.77499999999998},{"$f":"L382/'DNSP Inputs O & M'!$D$382","v":0.12888749999999999},null,null,{"$f":"'DNSP Inputs O & M'!$D$16","v":34.369999999999997},1,{"$f":"'DNSP Inputs O & M'!$D$17","v":7.5},{"$f":"P382*Q382*R382","v":257.77499999999998},{"$f":"S382/'DNSP Inputs O & M'!$D$383","v":0.25777499999999998},null,null,null,null,{"$f":"'DNSP Inputs O & M'!$E$16","v":34.369999999999997},1,{"$f":"'DNSP Inputs O & M'!$E$17","v":7.5},{"$f":"Y382*Z382*AA382","v":257.77499999999998},{"$f":"AB382/'DNSP Inputs O & M'!$E$381","v":8.5924999999999987E-2},null,null,{"$f":"'DNSP Inputs O & M'!$E$16","v":34.369999999999997},1,{"$f":"'DNSP Inputs O & M'!$E$17","v":7.5},{"$f":"AF382*AG382*AH382","v":257.77499999999998},{"$f":"AI382/'DNSP Inputs O & M'!$E$382","v":0.12888749999999999},null,null,{"$f":"'DNSP Inputs O & M'!$E$16","v":34.369999999999997},1,{"$f":"'DNSP Inputs O & M'!$E$17","v":7.5},{"$f":"AM382*AN382*AO382","v":257.77499999999998},{"$f":"AP382/'DNSP Inputs O & M'!$E$383","v":0.25777499999999998},null,null,null,null,{"$f":"'DNSP Inputs O & M'!$F$16","v":34.369999999999997},1,{"$f":"'DNSP Inputs O & M'!$F$17","v":7.5},{"$f":"AV382*AW382*AX382","v":257.77499999999998},{"$f":"AY382/'DNSP Inputs O & M'!$F$381","v":8.5924999999999987E-2},null,null,{"$f":"'DNSP Inputs O & M'!$F$16","v":34.369999999999997},1,{"$f":"'DNSP Inputs O & M'!$F$17","v":7.5},{"$f":"BC382*BD382*BE382","v":257.77499999999998},{"$f":"BF382/'DNSP Inputs O & M'!$F$382","v":0.12888749999999999},null,null,{"$f":"'DNSP Inputs O & M'!$F$16","v":34.369999999999997},1,{"$f":"'DNSP Inputs O & M'!$F$17","v":7.5},{"$f":"BJ382*BK382*BL382","v":257.77499999999998},{"$f":"BM382/'DNSP Inputs O & M'!$F$383","v":0.25777499999999998},null,null,null,null,{"$f":"'DNSP Inputs O & M'!$G$16","v":34.369999999999997},1,{"$f":"'DNSP Inputs O & M'!$G$17","v":7.5},{"$f":"BS382*BT382*BU382","v":257.77499999999998},{"$f":"BV382/'DNSP Inputs O & M'!$G$381","v":8.5924999999999987E-2},null,null,{"$f":"'DNSP Inputs O & M'!$G$16","v":34.369999999999997},1,{"$f":"'DNSP Inputs O & M'!$G$17","v":7.5},{"$f":"BZ382*CA382*CB382","v":257.77499999999998},{"$f":"CC382/'DNSP Inputs O & M'!$G$382","v":0.12888749999999999},null,null,{"$f":"'DNSP Inputs O & M'!$G$16","v":34.369999999999997},1,{"$f":"'DNSP Inputs O & M'!$G$17","v":7.5},{"$f":"CG382*CH382*CI382","v":257.77499999999998},{"$f":"CJ382/'DNSP Inputs O & M'!$G$383","v":0.25777499999999998},null,null,null,null,{"$f":"'DNSP Inputs O & M'!$H$16","v":34.369999999999997},1,{"$f":"'DNSP Inputs O & M'!$H$17","v":7.5},{"$f":"CP382*CQ382*CR382","v":257.77499999999998},{"$f":"CS382/'DNSP Inputs O & M'!$H$381","v":8.5924999999999987E-2},null,null,{"$f":"'DNSP Inputs O & M'!$H$16","v":34.369999999999997},1,{"$f":"'DNSP Inputs O & M'!$H$17","v":7.5},{"$f":"CW382*CX382*CY382","v":257.77499999999998},{"$f":"CZ382/'DNSP Inputs O & M'!$H$382","v":0.12888749999999999},null,null,{"$f":"'DNSP Inputs O & M'!$H$16","v":34.369999999999997},1,{"$f":"'DNSP Inputs O & M'!$H$17","v":7.5},{"$f":"DD382*DE382*DF382","v":257.77499999999998},{"$f":"DG382/'DNSP Inputs O & M'!$H$383","v":0.25777499999999998}]
["Labour - repair of faults"]
["Crew costs",{"$f":"'DNSP Inputs O & M'!$D$12","v":111.36223236834823},{"$f":"'DNSP Inputs O & M'!$D$380","v":2},{"$f":"'DNSP Inputs O & M'!$D$17","v":7.5},{"$f":"B384*C384*D384","v":1670.4334855252234},{"$f":"(E384+E385)/'DNSP Inputs O & M'!$D$384","v":136.45223236834823},{"$f":"F384/'DNSP Inputs O & M'!$D$376","v":6.8226116184174117},null,{"$f":"'DNSP Inputs O & M'!$D$12","v":111.36223236834823},{"$f":"'DNSP Inputs O & M'!$D$380","v":2},{"$f":"'DNSP Inputs O & M'!$D$17","v":7.5},{"$f":"I384*J384*K384","v":1670.4334855252234},{"$f":"(L384+L385)/'DNSP Inputs O & M'!$D$385","v":195.24849868411121},{"$f":"M384/'DNSP Inputs O & M'!$D$376","v":9.7624249342055602},null,{"$f":"'DNSP Inputs O & M'!$D$12","v":111.36223236834823},{"$f":"'DNSP Inputs O & M'!$D$380","v":2},{"$f":"'DNSP Inputs O & M'!$D$17","v":7.5},{"$f":"P384*Q384*R384","v":1670.4334855252234},{"$f":"(S384+S385)/'DNSP Inputs O & M'!$D$386","v":238.63705394724704},{"$f":"T384/'DNSP Inputs O & M'!$D$376","v":11.931852697362352},null,null,null,{"$f":"'DNSP Inputs O & M'!$E$12","v":111.08407886363248},{"$f":"'DNSP Inputs O & M'!$E$380","v":2},{"$f":"'DNSP Inputs O & M'!$E$17","v":7.5},{"$f":"Y384*Z384*AA384","v":1666.2611829544874},{"$f":"(AB384+AB385)/'DNSP Inputs O & M'!$E$384","v":136.1740788636325},{"$f":"AC384/'DNSP Inputs O & M'!$E$376","v":6.8087039431816248},null,{"$f":"'DNSP Inputs O & M'!$E$12","v":111.08407886363248},{"$f":"'DNSP Inputs O & M'!$E$380","v":2},{"$f":"'DNSP Inputs O & M'!$E$17","v":7.5},{"$f":"AF384*AG384*AH384","v":1666.2611829544874},{"$f":"(AI384+AI385)/'DNSP Inputs O & M'!$E$385","v":194.86919845040794},{"$f":"AJ384/'DNSP Inputs O & M'!$E$376","v":9.7434599225203975},null,{"$f":"'DNSP Inputs O & M'!$E$12","v":111.08407886363248},{"$f":"'DNSP Inputs O & M'!$E$380","v":2},{"$f":"'DNSP Inputs O & M'!$E$17","v":7.5},{"$f":"AM384*AN384*AO384","v":1666.2611829544874},{"$f":"(AP384+AP385)/'DNSP Inputs O & M'!$E$386","v":238.17346477272082},{"$f":"AQ384/'DNSP Inputs O & M'!$E$376","v":11.908673238636041},null,null,null,{"$f":"'DNSP Inputs O & M'!$F$12","v":111.00339776810097},{"$f":"'DNSP Inputs O & M'!$F$380","v":2},{"$f":"'DNSP Inputs O & M'!$F$17","v":7.5},{"$f":"AV384*AW384*AX384","v":1665.0509665215145},{"$f":"(AY384+AY385)/'DNSP Inputs O & M'!$F$384","v":136.09339776810097},{"$f":"AZ384/'DNSP Inputs O & M'!$F$376","v":6.8046698884050487},null,{"$f":"'DNSP Inputs O & M'!$F$12","v":111.00339776810097},{"$f":"'DNSP Inputs O & M'!$F$380","v":2},{"$f":"'DNSP Inputs O & M'!$F$17","v":7.5},{"$f":"BC384*BD384*BE384","v":1665.0509665215145},{"$f":"(BF384+BF385)/'DNSP Inputs O & M'!$F$385","v":194.75917877468316},{"$f":"BG384/'DNSP Inputs O & M'!$F$376","v":9.7379589387341579},null,{"$f":"'DNSP Inputs O & M'!$F$12","v":111.00339776810097},{"$f":"'DNSP Inputs O & M'!$F$380","v":2},{"$f":"'DNSP Inputs O & M'!$F$17","v":7.5},{"$f":"BJ384*BK384*BL384","v":1665.0509665215145},{"$f":"(BM384+BM385)/'DNSP Inputs O & M'!$F$386","v":238.03899628016831},{"$f":"BN384/'DNSP Inputs O & M'!$F$376","v":11.901949814008415},null,null,null,{"$f":"'DNSP Inputs O & M'!$G$12","v":111.41108530292857},{"$f":"'DNSP Inputs O & M'!$G$380","v":2},{"$f":"'DNSP Inputs O & M'!$G$17","v":7.5},{"$f":"BS384*BT384*BU384","v":1671.1662795439286},{"$f":"(BV384+BV385)/'DNSP Inputs O & M'!$G$384","v":136.50108530292857},{"$f":"BW384/'DNSP Inputs O & M'!$G$376","v":6.825054265146429},null,{"$f":"'DNSP Inputs O & M'!$G$12","v":111.41108530292857},{"$f":"'DNSP Inputs O & M'!$G$380","v":2},{"$f":"'DNSP Inputs O & M'!$G$17","v":7.5},{"$f":"BZ384*CA384*CB384","v":1671.1662795439286},{"$f":"(CC384+CC385)/'DNSP Inputs O & M'!$G$385","v":195.31511632217533},{"$f":"CD384/'DNSP Inputs O & M'!$G$376","v":9.7657558161087668},null,{"$f":"'DNSP Inputs O & M'!$G$12","v":111.41108530292857},{"$f":"'DNSP Inputs O & M'!$G$380","v":2},{"$f":"'DNSP Inputs O & M'!$G$17","v":7.5},{"$f":"CG384*CH384*CI384","v":1671.1662795439286},{"$f":"(CJ384+CJ385)/'DNSP Inputs O & M'!$G$386","v":238.71847550488096},{"$f":"CK384/'DNSP Inputs O & M'!$G$376","v":11.935923775244047},null,null,null,{"$f":"'DNSP Inputs O & M'!$H$12","v":112.5214007824073},{"$f":"'DNSP Inputs O & M'!$H$380","v":2},{"$f":"'DNSP Inputs O & M'!$H$17","v":7.5},{"$f":"CP384*CQ384*CR384","v":1687.8210117361095},{"$f":"(CS384+CS385)/'DNSP Inputs O & M'!$H$384","v":137.61140078240729},{"$f":"CT384/'DNSP Inputs O & M'!$H$376","v":6.8805700391203644},null,{"$f":"'DNSP Inputs O & M'!$H$12","v":112.5214007824073},{"$f":"'DNSP Inputs O & M'!$H$380","v":2},{"$f":"'DNSP Inputs O & M'!$H$17","v":7.5},{"$f":"CW384*CX384*CY384","v":1687.8210117361095},{"$f":"(CZ384+CZ385)/'DNSP Inputs O & M'!$H$385","v":196.82918288510089},{"$f":"DA384/'DNSP Inputs O & M'!$H$376","v":9.8414591442550439},null,{"$f":"'DNSP Inputs O & M'!$H$12","v":112.5214007824073},{"$f":"'DNSP Inputs O & M'!$H$380","v":2},{"$f":"'DNSP Inputs O & M'!$H$17","v":7.5},{"$f":"DD384*DE384*DF384","v":1687.8210117361095},{"$f":"(DG384+DG385)/'DNSP Inputs O & M'!$H$386","v":240.5690013040122},{"$f":"DH384/'DNSP Inputs O & M'!$H$376","v":12.028450065200611}]
["Elevated platform vehicle costs",{"$f":"'DNSP Inputs O & M'!$D$14","v":50.18},1,{"$f":"'DNSP Inputs O & M'!$D$17","v":7.5},{"$f":"B385*C385*D385","v":376.35},null,null,null,{"$f":"'DNSP Inputs O & M'!$D$15","v":63.64},1,{"$f":"'DNSP Inputs O & M'!$D$17","v":7.5},{"$f":"I385*J385*K385","v":477.3},null,null,null,{"$f":"'DNSP Inputs O & M'!$D$15","v":63.64},1,{"$f":"'DNSP Inputs O & M'!$D$17","v":7.5},{"$f":"P385*Q385*R385","v":477.3},null,null,null,null,null,{"$f":"'DNSP Inputs O & M'!$E$14","v":50.18},1,{"$f":"'DNSP Inputs O & M'!$E$17","v":7.5},{"$f":"Y385*Z385*AA385","v":376.35},null,null,null,{"$f":"'DNSP Inputs O & M'!$E$15","v":63.64},1,{"$f":"'DNSP Inputs O & M'!$E$17","v":7.5},{"$f":"AF385*AG385*AH385","v":477.3},null,null,null,{"$f":"'DNSP Inputs O & M'!$E$15","v":63.64},1,{"$f":"'DNSP Inputs O & M'!$E$17","v":7.5},{"$f":"AM385*AN385*AO385","v":477.3},null,null,null,null,null,{"$f":"'DNSP Inputs O & M'!$F$14","v":50.18},1,{"$f":"'DNSP Inputs O & M'!$F$17","v":7.5},{"$f":"AV385*AW385*AX385","v":376.35},null,null,null,{"$f":"'DNSP Inputs O & M'!$F$15","v":63.64},1,{"$f":"'DNSP Inputs O & M'!$F$17","v":7.5},{"$f":"BC385*BD385*BE385","v":477.3},null,null,null,{"$f":"'DNSP Inputs O & M'!$F$15","v":63.64},1,{"$f":"'DNSP Inputs O & M'!$F$17","v":7.5},{"$f":"BJ385*BK385*BL385","v":477.3},null,null,null,null,null,{"$f":"'DNSP Inputs O & M'!$G$14","v":50.18},1,{"$f":"'DNSP Inputs O & M'!$G$17","v":7.5},{"$f":"BS385*BT385*BU385","v":376.35},null,null,null,{"$f":"'DNSP Inputs O & M'!$G$15","v":63.64},1,{"$f":"'DNSP Inputs O & M'!$G$17","v":7.5},{"$f":"BZ385*CA385*CB385","v":477.3},null,null,null,{"$f":"'DNSP Inputs O & M'!$G$15","v":63.64},1,{"$f":"'DNSP Inputs O & M'!$G$17","v":7.5},{"$f":"CG385*CH385*CI385","v":477.3},null,null,null,null,null,{"$f":"'DNSP Inputs O & M'!$H$14","v":50.18},1,{"$f":"'DNSP Inputs O & M'!$H$17","v":7.5},{"$f":"CP385*CQ385*CR385","v":376.35},null,null,null,{"$f":"'DNSP Inputs O & M'!$H$15","v":63.64},1,{"$f":"'DNSP Inputs O & M'!$H$17","v":7.5},{"$f":"CW385*CX385*CY385","v":477.3},null,null,null,{"$f":"'DNSP Inputs O & M'!$H$15","v":63.64},1,{"$f":"'DNSP Inputs O & M'!$H$17","v":7.5},{"$f":"DD385*DE385*DF385","v":477.3}]
["Other Maintenance and Repair costs",null,null,null,null,null,{"$f":"'DNSP Inputs O & M'!$D$396","v":2.1},null,null,null,null,null,null,{"$f":"'DNSP Inputs O & M'!$D$396","v":2.1},null,null,null,null,null,null,{"$f":"'DNSP Inputs O & M'!$D$396","v":2.1},null,null,null,null,null,null,null,null,{"$f":"'DNSP Inputs O & M'!$E$396","v":2.1},null,null,null,null,null,null,{"$f":"'DNSP Inputs O & M'!$E$396","v":2.1},null,null,null,null,null,null,{"$f":"'DNSP Inputs O & M'!$E$396","v":2.1},null,null,null,null,null,null,null,null,{"$f":"'DNSP Inputs O & M'!$F$396","v":2.1},null,null,null,null,null,null,{"$f":"'DNSP Inputs O & M'!$F$396","v":2.1},null,null,null,null,null,null,{"$f":"'DNSP Inputs O & M'!$F$396","v":2.1},null,null,null,null,null,null,null,null,{"$f":"'DNSP Inputs O & M'!$G$396","v":2.1},null,null,null,null,null,null,{"$f":"'DNSP Inputs O & M'!$G$396","v":2.1},null,null,null,null,null,null,{"$f":"'DNSP Inputs O & M'!$G$396","v":2.1},null,null,null,null,null,null,null,null,{"$f":"'DNSP Inputs O & M'!$H$396","v":2.1},null,null,null,null,null,null,{"$f":"'DNSP Inputs O & M'!$H$396","v":2.1},null,null,null,null,null,null,{"$f":"'DNSP Inputs O & M'!$H$396","v":2.1}]
[]
["Overheads",{"$f":"'DNSP Inputs O & M'!$D$18","v":0.25},null,null,null,null,{"$f":"B388*SUM(G375:G386)","v":2.7724306903947915},null,{"$f":"'DNSP Inputs O & M'!$D$18","v":0.25},null,null,null,null,{"$f":"I388*SUM(N375:N386)","v":3.7576675580158971},null,{"$f":"'DNSP Inputs O & M'!$D$18","v":0.25},null,null,null,null,{"$f":"P388*SUM(U375:U386)","v":5.0670010442177666},null,null,null,{"$f":"'DNSP Inputs O & M'!$E$18","v":0.25},null,null,null,null,{"$f":"Y388*SUM(AD375:AD386)","v":2.767910695943161},null,{"$f":"'DNSP Inputs O & M'!$E$18","v":0.25},null,null,null,null,{"$f":"AF388*SUM(AK375:AK386)","v":3.7513616916305801},null,{"$f":"'DNSP Inputs O & M'!$E$18","v":0.25},null,null,null,null,{"$f":"AM388*SUM(AR375:AR386)","v":5.0580769526081371},null,null,null,{"$f":"'DNSP Inputs O & M'!$F$18","v":0.25},null,null,null,null,{"$f":"AV388*SUM(BA375:BA386)","v":2.7665996281407734},null,{"$f":"'DNSP Inputs O & M'!$F$18","v":0.25},null,null,null,null,{"$f":"BC388*SUM(BH375:BH386)","v":3.7495326145216556},null,{"$f":"'DNSP Inputs O & M'!$F$18","v":0.25},null,null,null,null,{"$f":"BJ388*SUM(BO375:BO386)","v":5.0554884341265005},null,null,null,{"$f":"'DNSP Inputs O & M'!$G$18","v":0.25},null,null,null,null,{"$f":"BS388*SUM(BX375:BX386)","v":2.7732245505817219},null,{"$f":"'DNSP Inputs O & M'!$G$18","v":0.25},null,null,null,null,{"$f":"BZ388*SUM(CE375:CE386)","v":3.7587750762487131},null,{"$f":"'DNSP Inputs O & M'!$G$18","v":0.25},null,null,null,null,{"$f":"CG388*SUM(CL375:CL386)","v":5.0685684092022196},null,null,null,{"$f":"'DNSP Inputs O & M'!$H$18","v":0.25},null,null,null,null,{"$f":"CP388*SUM(CU375:CU386)","v":2.7912671771232511},null,{"$f":"'DNSP Inputs O & M'!$H$18","v":0.25},null,null,null,null,{"$f":"CW388*SUM(DB375:DB386)","v":3.7839464328573502},null,{"$f":"'DNSP Inputs O & M'!$H$18","v":0.25},null,null,null,null,{"$f":"DD388*SUM(DI375:DI386)","v":5.1041910308354961}]
[]
[null,null,null,null,null,null,{"$f":"SUM(G375,G377,G381,G384,G386,G388)","v":13.862153451973958},null,null,null,null,null,null,{"$f":"SUM(N375,N377,N381,N384,N386,N388)","v":18.788337790079485},null,null,null,null,null,null,{"$f":"SUM(U375,U377,U381,U384,U386,U388)","v":25.335005221088835},null,null,null,null,null,null,null,null,{"$f":"SUM(AD375,AD377,AD381,AD384,AD386,AD388)","v":13.839553479715805},null,null,null,null,null,null,{"$f":"SUM(AK375,AK377,AK381,AK384,AK386,AK388)","v":18.7568084581529},null,null,null,null,null,null,{"$f":"SUM(AR375,AR377,AR381,AR384,AR386,AR388)","v":25.290384763040684},null,null,null,null,null,null,null,null,{"$f":"SUM(BA375,BA377,BA381,BA384,BA386,BA388)","v":13.832998140703868},null,null,null,null,null,null,{"$f":"SUM(BH375,BH377,BH381,BH384,BH386,BH388)","v":18.74766307260828},null,null,null,null,null,null,{"$f":"SUM(BO375,BO377,BO381,BO384,BO386,BO388)","v":25.277442170632504},null,null,null,null,null,null,null,null,{"$f":"SUM(BX375,BX377,BX381,BX384,BX386,BX388)","v":13.866122752908609},null,null,null,null,null,null,{"$f":"SUM(CE375,CE377,CE381,CE384,CE386,CE388)","v":18.793875381243566},null,null,null,null,null,null,{"$f":"SUM(CL375,CL377,CL381,CL384,CL386,CL388)","v":25.3428420460111},null,null,null,null,null,null,null,null,{"$f":"SUM(CU375,CU377,CU381,CU384,CU386,CU388)","v":13.956335885616255},null,null,null,null,null,null,{"$f":"SUM(DB375,DB377,DB381,DB384,DB386,DB388)","v":18.919732164286749},null,null,null,null,null,null,{"$f":"SUM(DI375,DI377,DI381,DI384,DI386,DI388)","v":25.520955154177479}]
[]
[]
[]
["NEW"]
["Category P LED 155 Watt (L2) - Cost build-up"]
[]
["Additional assumptions"]
[]
[]
["Overheads are applied to material and labour components"]
["All costs and charges are exclusive of GST"]
[]
[null,"Urban",null,null,null,null,null,null,"Rural",null,null,null,null,null,null,"Remote",null,null,null,null,null,null,null,null,"Urban",null,null,null,null,null,null,"Rural",null,null,null,null,null,null,"Remote",null,null,null,null,null,null,null,null,"Urban",null,null,null,null,null,null,"Rural",null,null,null,null,null,null,"Remote",null,null,null,null,null,null,null,null,"Urban",null,null,null,null,null,null,"Rural",null,null,null,null,null,null,"Remote",null,null,null,null,null,null,null,null,"Urban",null,null,null,null,null,null,"Rural",null,null,null,null,null,null,"Remote"]
[]
[null,"Unit rate","Number","Hours","Cost","Annualised","Annualised",null,"Unit rate","Number","Hours","Cost","Annualised","Annualised",null,"Unit rate","Number","Hours","Cost","Annualised","Annualised",null,null,null,"Unit rate","Number","Hours","Cost","Annualised","Annualised",null,"Unit rate","Number","Hours","Cost","Annualised","Annualised",null,"Unit rate","Number","Hours","Cost","Annualised","Annualised",null,null,null,"Unit rate","Number","Hours","Cost","Annualised","Annualised",null,"Unit rate","Number","Hours","Cost","Annualised","Annualised",null,"Unit rate","Number","Hours","Cost","Annualised","Annualised",null,null,null,"Unit rate","Number","Hours","Cost","Annualised","Annualised",null,"Unit rate","Number","Hours","Cost","Annualised","Annualised",null,"Unit rate","Number","Hours","Cost","Annualised","Annualised",null,null,null,"Unit rate","Number","Hours","Cost","Annualised","Annualised",null,"Unit rate","Number","Hours","Cost","Annualised","Annualised",null,"Unit rate","Number","Hours","Cost","Annualised","Annualised"]
[null,null,null,null,null," cost","unit cost",null,null,null,null,null," cost","unit cost",null,null,null,null,null," cost","unit cost",null,null,null,null,null,null,null," cost","unit cost",null,null,null,null,null," cost","unit cost",null,null,null,null,null," cost","unit cost",null,null,null,null,null,null,null," cost","unit cost",null,null,null,null,null," cost","unit cost",null,null,null,null,null," cost","unit cost",null,null,null,null,null,null,null," cost","unit cost",null,null,null,null,null," cost","unit cost",null,null,null,null,null," cost","unit cost",null,null,null,null,null,null,null," cost","unit cost",null,null,null,null,null," cost","unit cost",null,null,null,null,null," cost","unit cost"]
["LED 155W (L2)"]
["Patrols & repairs"]
[]
[]
["Materials - repair of faults"]
["PE cell",{"$f":"'DNSP Inputs O & M'!$D$423","v":15.120000000000001},{"$f":"'DNSP Inputs O & M'!$D$430*'DNSP Inputs O & M'!$D$433","v":13.5},null,{"$f":"B412*C412","v":204.12},{"$f":"(E412+E413+E414)/'DNSP Inputs O & M'!$D$427","v":7.9634219212176935E-2},{"$f":"F412*'DNSP Inputs O & M'!$D$421","v":0.23890265763653079},null,{"$f":"'DNSP Inputs O & M'!$D$377*(1+'DNSP Inputs O & M'!$D$11)","v":15.876000000000001},{"$f":"'DNSP Inputs O & M'!$D$431*'DNSP Inputs O & M'!$D$433","v":9.9},null,{"$f":"I412*J412","v":157.17240000000001},{"$f":"(L412+L413+L414)/'DNSP Inputs O & M'!$D$428","v":9.1977523190064372E-2},{"$f":"M412*'DNSP Inputs O & M'!$D$421","v":0.27593256957019313},null,{"$f":"'DNSP Inputs O & M'!$D$377*(1+'DNSP Inputs O & M'!$D$11)","v":15.876000000000001},{"$f":"'DNSP Inputs O & M'!$D$432*'DNSP Inputs O & M'!$D$433","v":8.1},null,{"$f":"P412*Q412","v":128.59559999999999},{"$f":"(S412+S413+S414)/'DNSP Inputs O & M'!$D$429","v":0.15050867431101439},{"$f":"T412*'DNSP Inputs O & M'!$D$421","v":0.45152602293304317},null,null,null,{"$f":"'DNSP Inputs O & M'!$E$423","v":15.120000000000001},{"$f":"'DNSP Inputs O & M'!$E$430*'DNSP Inputs O & M'!$E$433","v":13.5},null,{"$f":"Y412*Z412","v":204.12},{"$f":"(AB412+AB413+AB414)/'DNSP Inputs O & M'!$E$427","v":7.9634219212176935E-2},{"$f":"AC412*'DNSP Inputs O & M'!$E$421","v":0.23890265763653079},null,{"$f":"'DNSP Inputs O & M'!$E$377*(1+'DNSP Inputs O & M'!$E$11)","v":15.876000000000001},{"$f":"'DNSP Inputs O & M'!$E$431*'DNSP Inputs O & M'!$E$433","v":9.9},null,{"$f":"AF412*AG412","v":157.17240000000001},{"$f":"(AI412+AI413+AI414)/'DNSP Inputs O & M'!$E$428","v":9.1977523190064372E-2},{"$f":"AJ412*'DNSP Inputs O & M'!$E$421","v":0.27593256957019313},null,{"$f":"'DNSP Inputs O & M'!$E$377*(1+'DNSP Inputs O & M'!$E$11)","v":15.876000000000001},{"$f":"'DNSP Inputs O & M'!$E$432*'DNSP Inputs O & M'!$E$433","v":8.1},null,{"$f":"AM412*AN412","v":128.59559999999999},{"$f":"(AP412+AP413+AP414)/'DNSP Inputs O & M'!$E$429","v":0.15050867431101439},{"$f":"AQ412*'DNSP Inputs O & M'!$E$421","v":0.45152602293304317},null,null,null,{"$f":"'DNSP Inputs O & M'!$F$423","v":15.120000000000001},{"$f":"'DNSP Inputs O & M'!$F$430*'DNSP Inputs O & M'!$F$433","v":13.5},null,{"$f":"AV412*AW412","v":204.12},{"$f":"(AY412+AY413+AY414)/'DNSP Inputs O & M'!$F$427","v":7.9634219212176935E-2},{"$f":"AZ412*'DNSP Inputs O & M'!$F$421","v":0.23890265763653079},null,{"$f":"'DNSP Inputs O & M'!$F$377*(1+'DNSP Inputs O & M'!$F$11)","v":15.876000000000001},{"$f":"'DNSP Inputs O & M'!$F$431*'DNSP Inputs O & M'!$F$433","v":9.9},null,{"$f":"BC412*BD412","v":157.17240000000001},{"$f":"(BF412+BF413+BF414)/'DNSP Inputs O & M'!$F$428","v":9.1977523190064372E-2},{"$f":"BG412*'DNSP Inputs O & M'!$F$421","v":0.27593256957019313},null,{"$f":"'DNSP Inputs O & M'!$F$377*(1+'DNSP Inputs O & M'!$F$11)","v":15.876000000000001},{"$f":"'DNSP Inputs O & M'!$F$432*'DNSP Inputs O & M'!$F$433","v":8.1},null,{"$f":"BJ412*BK412","v":128.59559999999999},{"$f":"(BM412+BM413+BM414)/'DNSP Inputs O & M'!$F$429","v":0.15050867431101439},{"$f":"BN412*'DNSP Inputs O & M'!$F$421","v":0.45152602293304317},null,null,null,{"$f":"'DNSP Inputs O & M'!$G$423","v":15.120000000000001},{"$f":"'DNSP Inputs O & M'!$G$430*'DNSP Inputs O & M'!$G$433","v":13.5},null,{"$f":"BS412*BT412","v":204.12},{"$f":"(BV412+BV413+BV414)/'DNSP Inputs O & M'!$G$427","v":7.9634219212176935E-2},{"$f":"BW412*'DNSP Inputs O & M'!$G$421","v":0.23890265763653079},null,{"$f":"'DNSP Inputs O & M'!$G$377*(1+'DNSP Inputs O & M'!$G$11)","v":15.876000000000001},{"$f":"'DNSP Inputs O & M'!$G$431*'DNSP Inputs O & M'!$G$433","v":9.9},null,{"$f":"BZ412*CA412","v":157.17240000000001},{"$f":"(CC412+CC413+CC414)/'DNSP Inputs O & M'!$G$428","v":9.1977523190064372E-2},{"$f":"CD412*'DNSP Inputs O & M'!$G$421","v":0.27593256957019313},null,{"$f":"'DNSP Inputs O & M'!$G$377*(1+'DNSP Inputs O & M'!$G$11)","v":15.876000000000001},{"$f":"'DNSP Inputs O & M'!$G$432*'DNSP Inputs O & M'!$G$433","v":8.1},null,{"$f":"CG412*CH412","v":128.59559999999999},{"$f":"(CJ412+CJ413+CJ414)/'DNSP Inputs O & M'!$G$429","v":0.15050867431101439},{"$f":"CK412*'DNSP Inputs O & M'!$G$421","v":0.45152602293304317},null,null,null,{"$f":"'DNSP Inputs O & M'!$H$423","v":15.120000000000001},{"$f":"'DNSP Inputs O & M'!$H$430*'DNSP Inputs O & M'!$H$433","v":13.5},null,{"$f":"CP412*CQ412","v":204.12},{"$f":"(CS412+CS413+CS414)/'DNSP Inputs O & M'!$H$427","v":7.9634219212176935E-2},{"$f":"CT412*'DNSP Inputs O & M'!$H$421","v":0.23890265763653079},null,{"$f":"'DNSP Inputs O & M'!$H$377*(1+'DNSP Inputs O & M'!$H$11)","v":15.876000000000001},{"$f":"'DNSP Inputs O & M'!$H$431*'DNSP Inputs O & M'!$H$433","v":9.9},null,{"$f":"CW412*CX412","v":157.17240000000001},{"$f":"(CZ412+CZ413+CZ414)/'DNSP Inputs O & M'!$H$428","v":9.1977523190064372E-2},{"$f":"DA412*'DNSP Inputs O & M'!$H$421","v":0.27593256957019313},null,{"$f":"'DNSP Inputs O & M'!$H$377*(1+'DNSP Inputs O & M'!$H$11)","v":15.876000000000001},{"$f":"'DNSP Inputs O & M'!$H$432*'DNSP Inputs O & M'!$H$433","v":8.1},null,{"$f":"DD412*DE412","v":128.59559999999999},{"$f":"(DG412+DG413+DG414)/'DNSP Inputs O & M'!$H$429","v":0.15050867431101439},{"$f":"DH412*'DNSP Inputs O & M'!$H$421","v":0.45152602293304317}]
["Luminaire",{"$f":"'DNSP Inputs O & M'!$D$424","v":427},{"$f":"'DNSP Inputs O & M'!$D$430*'DNSP Inputs O & M'!$D$434","v":0},null,{"$f":"B413*C413","v":0},null,null,null,{"$f":"'DNSP Inputs O & M'!$D$378*(1+'DNSP Inputs O & M'!$D$11)","v":422.1},{"$f":"'DNSP Inputs O & M'!$D$431*'DNSP Inputs O & M'!$D$434","v":0},null,{"$f":"I413*J413","v":0},null,null,null,{"$f":"'DNSP Inputs O & M'!$D$378*(1+'DNSP Inputs O & M'!$D$11)","v":422.1},{"$f":"'DNSP Inputs O & M'!$D$432*'DNSP Inputs O & M'!$D$434","v":0},null,{"$f":"P413*Q413","v":0},null,null,null,null,null,{"$f":"'DNSP Inputs O & M'!$E$424","v":427},{"$f":"'DNSP Inputs O & M'!$E$430*'DNSP Inputs O & M'!$E$434","v":0},null,{"$f":"Y413*Z413","v":0},null,null,null,{"$f":"'DNSP Inputs O & M'!$E$378*(1+'DNSP Inputs O & M'!$E$11)","v":422.1},{"$f":"'DNSP Inputs O & M'!$E$431*'DNSP Inputs O & M'!$E$434","v":0},null,{"$f":"AF413*AG413","v":0},null,null,null,{"$f":"'DNSP Inputs O & M'!$E$378*(1+'DNSP Inputs O & M'!$E$11)","v":422.1},{"$f":"'DNSP Inputs O & M'!$E$432*'DNSP Inputs O & M'!$E$434","v":0},null,{"$f":"AM413*AN413","v":0},null,null,null,null,null,{"$f":"'DNSP Inputs O & M'!$F$424","v":427},{"$f":"'DNSP Inputs O & M'!$F$430*'DNSP Inputs O & M'!$F$434","v":0},null,{"$f":"AV413*AW413","v":0},null,null,null,{"$f":"'DNSP Inputs O & M'!$F$378*(1+'DNSP Inputs O & M'!$F$11)","v":422.1},{"$f":"'DNSP Inputs O & M'!$F$431*'DNSP Inputs O & M'!$F$434","v":0},null,{"$f":"BC413*BD413","v":0},null,null,null,{"$f":"'DNSP Inputs O & M'!$F$378*(1+'DNSP Inputs O & M'!$F$11)","v":422.1},{"$f":"'DNSP Inputs O & M'!$F$432*'DNSP Inputs O & M'!$F$434","v":0},null,{"$f":"BJ413*BK413","v":0},null,null,null,null,null,{"$f":"'DNSP Inputs O & M'!$G$424","v":427},{"$f":"'DNSP Inputs O & M'!$G$430*'DNSP Inputs O & M'!$G$434","v":0},null,{"$f":"BS413*BT413","v":0},null,null,null,{"$f":"'DNSP Inputs O & M'!$G$378*(1+'DNSP Inputs O & M'!$G$11)","v":422.1},{"$f":"'DNSP Inputs O & M'!$G$431*'DNSP Inputs O & M'!$G$434","v":0},null,{"$f":"BZ413*CA413","v":0},null,null,null,{"$f":"'DNSP Inputs O & M'!$G$378*(1+'DNSP Inputs O & M'!$G$11)","v":422.1},{"$f":"'DNSP Inputs O & M'!$G$432*'DNSP Inputs O & M'!$G$434","v":0},null,{"$f":"CG413*CH413","v":0},null,null,null,null,null,{"$f":"'DNSP Inputs O & M'!$H$424","v":427},{"$f":"'DNSP Inputs O & M'!$H$430*'DNSP Inputs O & M'!$H$434","v":0},null,{"$f":"CP413*CQ413","v":0},null,null,null,{"$f":"'DNSP Inputs O & M'!$H$378*(1+'DNSP Inputs O & M'!$H$11)","v":422.1},{"$f":"'DNSP Inputs O & M'!$H$431*'DNSP Inputs O & M'!$H$434","v":0},null,{"$f":"CW413*CX413","v":0},null,null,null,{"$f":"'DNSP Inputs O & M'!$H$378*(1+'DNSP Inputs O & M'!$H$11)","v":422.1},{"$f":"'DNSP Inputs O & M'!$H$432*'DNSP Inputs O & M'!$H$434","v":0},null,{"$f":"DD413*DE413","v":0}]
["Miscellaneous",{"$f":"'DNSP Inputs O & M'!$D$425","v":23.188438424353883},{"$f":"'DNSP Inputs O & M'!$D$430*'DNSP Inputs O & M'!$D$435","v":1.5},null,{"$f":"B414*C414","v":34.782657636530828},null,null,null,{"$f":"'DNSP Inputs O & M'!$D$379*(1+'DNSP Inputs O & M'!$D$11)","v":24.347860345571579},{"$f":"'DNSP Inputs O & M'!$D$431*'DNSP Inputs O & M'!$D$435","v":1.1000000000000001},null,{"$f":"I414*J414","v":26.782646380128739},null,null,null,{"$f":"'DNSP Inputs O & M'!$D$379*(1+'DNSP Inputs O & M'!$D$11)","v":24.347860345571579},{"$f":"'DNSP Inputs O & M'!$D$432*'DNSP Inputs O & M'!$D$435","v":0.9},null,{"$f":"P414*Q414","v":21.913074311014423},null,null,null,null,null,{"$f":"'DNSP Inputs O & M'!$E$425","v":23.188438424353883},{"$f":"'DNSP Inputs O & M'!$E$430*'DNSP Inputs O & M'!$E$435","v":1.5},null,{"$f":"Y414*Z414","v":34.782657636530828},null,null,null,{"$f":"'DNSP Inputs O & M'!$E$379*(1+'DNSP Inputs O & M'!$E$11)","v":24.347860345571579},{"$f":"'DNSP Inputs O & M'!$E$431*'DNSP Inputs O & M'!$E$435","v":1.1000000000000001},null,{"$f":"AF414*AG414","v":26.782646380128739},null,null,null,{"$f":"'DNSP Inputs O & M'!$E$379*(1+'DNSP Inputs O & M'!$E$11)","v":24.347860345571579},{"$f":"'DNSP Inputs O & M'!$E$432*'DNSP Inputs O & M'!$E$435","v":0.9},null,{"$f":"AM414*AN414","v":21.913074311014423},null,null,null,null,null,{"$f":"'DNSP Inputs O & M'!$F$425","v":23.188438424353883},{"$f":"'DNSP Inputs O & M'!$F$430*'DNSP Inputs O & M'!$F$435","v":1.5},null,{"$f":"AV414*AW414","v":34.782657636530828},null,null,null,{"$f":"'DNSP Inputs O & M'!$F$379*(1+'DNSP Inputs O & M'!$F$11)","v":24.347860345571579},{"$f":"'DNSP Inputs O & M'!$F$431*'DNSP Inputs O & M'!$F$435","v":1.1000000000000001},null,{"$f":"BC414*BD414","v":26.782646380128739},null,null,null,{"$f":"'DNSP Inputs O & M'!$F$379*(1+'DNSP Inputs O & M'!$F$11)","v":24.347860345571579},{"$f":"'DNSP Inputs O & M'!$F$432*'DNSP Inputs O & M'!$F$435","v":0.9},null,{"$f":"BJ414*BK414","v":21.913074311014423},null,null,null,null,null,{"$f":"'DNSP Inputs O & M'!$G$425","v":23.188438424353883},{"$f":"'DNSP Inputs O & M'!$G$430*'DNSP Inputs O & M'!$G$435","v":1.5},null,{"$f":"BS414*BT414","v":34.782657636530828},null,null,null,{"$f":"'DNSP Inputs O & M'!$G$379*(1+'DNSP Inputs O & M'!$G$11)","v":24.347860345571579},{"$f":"'DNSP Inputs O & M'!$G$431*'DNSP Inputs O & M'!$G$435","v":1.1000000000000001},null,{"$f":"BZ414*CA414","v":26.782646380128739},null,null,null,{"$f":"'DNSP Inputs O & M'!$G$379*(1+'DNSP Inputs O & M'!$G$11)","v":24.347860345571579},{"$f":"'DNSP Inputs O & M'!$G$432*'DNSP Inputs O & M'!$G$435","v":0.9},null,{"$f":"CG414*CH414","v":21.913074311014423},null,null,null,null,null,{"$f":"'DNSP Inputs O & M'!$H$425","v":23.188438424353883},{"$f":"'DNSP Inputs O & M'!$H$430*'DNSP Inputs O & M'!$H$435","v":1.5},null,{"$f":"CP414*CQ414","v":34.782657636530828},null,null,null,{"$f":"'DNSP Inputs O & M'!$H$379*(1+'DNSP Inputs O & M'!$H$11)","v":24.347860345571579},{"$f":"'DNSP Inputs O & M'!$H$431*'DNSP Inputs O & M'!$H$435","v":1.1000000000000001},null,{"$f":"CW414*CX414","v":26.782646380128739},null,null,null,{"$f":"'DNSP Inputs O & M'!$H$379*(1+'DNSP Inputs O & M'!$H$11)","v":24.347860345571579},{"$f":"'DNSP Inputs O & M'!$H$432*'DNSP Inputs O & M'!$H$435","v":0.9},null,{"$f":"DD414*DE414","v":21.913074311014423}]
["Labour - Patrol"]
["Crew costs",{"$f":"'DNSP Inputs O & M'!$D$12","v":111.36223236834823},{"$f":"'DNSP Inputs O & M'!$D$426","v":2},{"$f":"'DNSP Inputs O & M'!$D$17","v":7.5},{"$f":"B416*C416*D416","v":1670.4334855252234},{"$f":"E416/'DNSP Inputs O & M'!$D$427","v":0.55681116184174118},{"$f":"(F416+F417)*'DNSP Inputs O & M'!$D$421","v":1.9282084855252237},null,{"$f":"'DNSP Inputs O & M'!$D$12","v":111.36223236834823},{"$f":"'DNSP Inputs O & M'!$D$426","v":2},{"$f":"'DNSP Inputs O & M'!$D$17","v":7.5},{"$f":"I416*J416*K416","v":1670.4334855252234},{"$f":"L416/'DNSP Inputs O & M'!$D$428","v":0.83521674276261171},{"$f":"(M416+M417)*'DNSP Inputs O & M'!$D$421","v":2.8923127282878349},null,{"$f":"'DNSP Inputs O & M'!$D$12","v":111.36223236834823},{"$f":"'DNSP Inputs O & M'!$D$426","v":2},{"$f":"'DNSP Inputs O & M'!$D$17","v":7.5},{"$f":"P416*Q416*R416","v":1670.4334855252234},{"$f":"S416/'DNSP Inputs O & M'!$D$429","v":1.6704334855252234},{"$f":"(T416+T417)*'DNSP Inputs O & M'!$D$421","v":5.7846254565756698},null,null,null,{"$f":"'DNSP Inputs O & M'!$E$12","v":111.08407886363248},{"$f":"'DNSP Inputs O & M'!$E$426","v":2},{"$f":"'DNSP Inputs O & M'!$E$17","v":7.5},{"$f":"Y416*Z416*AA416","v":1666.2611829544874},{"$f":"AB416/'DNSP Inputs O & M'!$E$427","v":0.55542039431816248},{"$f":"(AC416+AC417)*'DNSP Inputs O & M'!$E$421","v":1.9240361829544876},null,{"$f":"'DNSP Inputs O & M'!$E$12","v":111.08407886363248},{"$f":"'DNSP Inputs O & M'!$E$426","v":2},{"$f":"'DNSP Inputs O & M'!$E$17","v":7.5},{"$f":"AF416*AG416*AH416","v":1666.2611829544874},{"$f":"AI416/'DNSP Inputs O & M'!$E$428","v":0.83313059147724366},{"$f":"(AJ416+AJ417)*'DNSP Inputs O & M'!$E$421","v":2.8860542744317308},null,{"$f":"'DNSP Inputs O & M'!$E$12","v":111.08407886363248},{"$f":"'DNSP Inputs O & M'!$E$426","v":2},{"$f":"'DNSP Inputs O & M'!$E$17","v":7.5},{"$f":"AM416*AN416*AO416","v":1666.2611829544874},{"$f":"AP416/'DNSP Inputs O & M'!$E$429","v":1.6662611829544873},{"$f":"(AQ416+AQ417)*'DNSP Inputs O & M'!$E$421","v":5.7721085488634616},null,null,null,{"$f":"'DNSP Inputs O & M'!$F$12","v":111.00339776810097},{"$f":"'DNSP Inputs O & M'!$F$426","v":2},{"$f":"'DNSP Inputs O & M'!$F$17","v":7.5},{"$f":"AV416*AW416*AX416","v":1665.0509665215145},{"$f":"AY416/'DNSP Inputs O & M'!$F$427","v":0.55501698884050488},{"$f":"(AZ416+AZ417)*'DNSP Inputs O & M'!$F$421","v":1.9228259665215148},null,{"$f":"'DNSP Inputs O & M'!$F$12","v":111.00339776810097},{"$f":"'DNSP Inputs O & M'!$F$426","v":2},{"$f":"'DNSP Inputs O & M'!$F$17","v":7.5},{"$f":"BC416*BD416*BE416","v":1665.0509665215145},{"$f":"BF416/'DNSP Inputs O & M'!$F$428","v":0.83252548326075726},{"$f":"(BG416+BG417)*'DNSP Inputs O & M'!$F$421","v":2.8842389497822714},null,{"$f":"'DNSP Inputs O & M'!$F$12","v":111.00339776810097},{"$f":"'DNSP Inputs O & M'!$F$426","v":2},{"$f":"'DNSP Inputs O & M'!$F$17","v":7.5},{"$f":"BJ416*BK416*BL416","v":1665.0509665215145},{"$f":"BM416/'DNSP Inputs O & M'!$F$429","v":1.6650509665215145},{"$f":"(BN416+BN417)*'DNSP Inputs O & M'!$F$421","v":5.7684778995645427},null,null,null,{"$f":"'DNSP Inputs O & M'!$G$12","v":111.41108530292857},{"$f":"'DNSP Inputs O & M'!$G$426","v":2},{"$f":"'DNSP Inputs O & M'!$G$17","v":7.5},{"$f":"BS416*BT416*BU416","v":1671.1662795439286},{"$f":"BV416/'DNSP Inputs O & M'!$G$427","v":0.5570554265146429},{"$f":"(BW416+BW417)*'DNSP Inputs O & M'!$G$421","v":1.9289412795439289},null,{"$f":"'DNSP Inputs O & M'!$G$12","v":111.41108530292857},{"$f":"'DNSP Inputs O & M'!$G$426","v":2},{"$f":"'DNSP Inputs O & M'!$G$17","v":7.5},{"$f":"BZ416*CA416*CB416","v":1671.1662795439286},{"$f":"CC416/'DNSP Inputs O & M'!$G$428","v":0.8355831397719643},{"$f":"(CD416+CD417)*'DNSP Inputs O & M'!$G$421","v":2.8934119193158927},null,{"$f":"'DNSP Inputs O & M'!$G$12","v":111.41108530292857},{"$f":"'DNSP Inputs O & M'!$G$426","v":2},{"$f":"'DNSP Inputs O & M'!$G$17","v":7.5},{"$f":"CG416*CH416*CI416","v":1671.1662795439286},{"$f":"CJ416/'DNSP Inputs O & M'!$G$429","v":1.6711662795439286},{"$f":"(CK416+CK417)*'DNSP Inputs O & M'!$G$421","v":5.7868238386317854},null,null,null,{"$f":"'DNSP Inputs O & M'!$H$12","v":112.5214007824073},{"$f":"'DNSP Inputs O & M'!$H$426","v":2},{"$f":"'DNSP Inputs O & M'!$H$17","v":7.5},{"$f":"CP416*CQ416*CR416","v":1687.8210117361095},{"$f":"CS416/'DNSP Inputs O & M'!$H$427","v":0.56260700391203655},{"$f":"(CT416+CT417)*'DNSP Inputs O & M'!$H$421","v":1.9455960117361097},null,{"$f":"'DNSP Inputs O & M'!$H$12","v":112.5214007824073},{"$f":"'DNSP Inputs O & M'!$H$426","v":2},{"$f":"'DNSP Inputs O & M'!$H$17","v":7.5},{"$f":"CW416*CX416*CY416","v":1687.8210117361095},{"$f":"CZ416/'DNSP Inputs O & M'!$H$428","v":0.84391050586805472},{"$f":"(DA416+DA417)*'DNSP Inputs O & M'!$H$421","v":2.9183940176041645},null,{"$f":"'DNSP Inputs O & M'!$H$12","v":112.5214007824073},{"$f":"'DNSP Inputs O & M'!$H$426","v":2},{"$f":"'DNSP Inputs O & M'!$H$17","v":7.5},{"$f":"DD416*DE416*DF416","v":1687.8210117361095},{"$f":"DG416/'DNSP Inputs O & M'!$H$429","v":1.6878210117361094},{"$f":"(DH416+DH417)*'DNSP Inputs O & M'!$H$421","v":5.836788035208329}]
["Vehicle costs",{"$f":"'DNSP Inputs O & M'!$D$16","v":34.369999999999997},1,{"$f":"'DNSP Inputs O & M'!$D$17","v":7.5},{"$f":"B417*C417*D417","v":257.77499999999998},{"$f":"E417/'DNSP Inputs O & M'!$D$427","v":8.5924999999999987E-2},null,null,{"$f":"'DNSP Inputs O & M'!$D$16","v":34.369999999999997},1,{"$f":"'DNSP Inputs O & M'!$D$17","v":7.5},{"$f":"I417*J417*K417","v":257.77499999999998},{"$f":"L417/'DNSP Inputs O & M'!$D$428","v":0.12888749999999999},null,null,{"$f":"'DNSP Inputs O & M'!$D$16","v":34.369999999999997},1,{"$f":"'DNSP Inputs O & M'!$D$17","v":7.5},{"$f":"P417*Q417*R417","v":257.77499999999998},{"$f":"S417/'DNSP Inputs O & M'!$D$429","v":0.25777499999999998},null,null,null,null,{"$f":"'DNSP Inputs O & M'!$E$16","v":34.369999999999997},1,{"$f":"'DNSP Inputs O & M'!$E$17","v":7.5},{"$f":"Y417*Z417*AA417","v":257.77499999999998},{"$f":"AB417/'DNSP Inputs O & M'!$E$427","v":8.5924999999999987E-2},null,null,{"$f":"'DNSP Inputs O & M'!$E$16","v":34.369999999999997},1,{"$f":"'DNSP Inputs O & M'!$E$17","v":7.5},{"$f":"AF417*AG417*AH417","v":257.77499999999998},{"$f":"AI417/'DNSP Inputs O & M'!$E$428","v":0.12888749999999999},null,null,{"$f":"'DNSP Inputs O & M'!$E$16","v":34.369999999999997},1,{"$f":"'DNSP Inputs O & M'!$E$17","v":7.5},{"$f":"AM417*AN417*AO417","v":257.77499999999998},{"$f":"AP417/'DNSP Inputs O & M'!$E$429","v":0.25777499999999998},null,null,null,null,{"$f":"'DNSP Inputs O & M'!$F$16","v":34.369999999999997},1,{"$f":"'DNSP Inputs O & M'!$F$17","v":7.5},{"$f":"AV417*AW417*AX417","v":257.77499999999998},{"$f":"AY417/'DNSP Inputs O & M'!$F$427","v":8.5924999999999987E-2},null,null,{"$f":"'DNSP Inputs O & M'!$F$16","v":34.369999999999997},1,{"$f":"'DNSP Inputs O & M'!$F$17","v":7.5},{"$f":"BC417*BD417*BE417","v":257.77499999999998},{"$f":"BF417/'DNSP Inputs O & M'!$F$428","v":0.12888749999999999},null,null,{"$f":"'DNSP Inputs O & M'!$F$16","v":34.369999999999997},1,{"$f":"'DNSP Inputs O & M'!$F$17","v":7.5},{"$f":"BJ417*BK417*BL417","v":257.77499999999998},{"$f":"BM417/'DNSP Inputs O & M'!$F$429","v":0.25777499999999998},null,null,null,null,{"$f":"'DNSP Inputs O & M'!$G$16","v":34.369999999999997},1,{"$f":"'DNSP Inputs O & M'!$G$17","v":7.5},{"$f":"BS417*BT417*BU417","v":257.77499999999998},{"$f":"BV417/'DNSP Inputs O & M'!$G$427","v":8.5924999999999987E-2},null,null,{"$f":"'DNSP Inputs O & M'!$G$16","v":34.369999999999997},1,{"$f":"'DNSP Inputs O & M'!$G$17","v":7.5},{"$f":"BZ417*CA417*CB417","v":257.77499999999998},{"$f":"CC417/'DNSP Inputs O & M'!$G$428","v":0.12888749999999999},null,null,{"$f":"'DNSP Inputs O & M'!$G$16","v":34.369999999999997},1,{"$f":"'DNSP Inputs O & M'!$G$17","v":7.5},{"$f":"CG417*CH417*CI417","v":257.77499999999998},{"$f":"CJ417/'DNSP Inputs O & M'!$G$429","v":0.25777499999999998},null,null,null,null,{"$f":"'DNSP Inputs O & M'!$H$16","v":34.369999999999997},1,{"$f":"'DNSP Inputs O & M'!$H$17","v":7.5},{"$f":"CP417*CQ417*CR417","v":257.77499999999998},{"$f":"CS417/'DNSP Inputs O & M'!$H$427","v":8.5924999999999987E-2},null,null,{"$f":"'DNSP Inputs O & M'!$H$16","v":34.369999999999997},1,{"$f":"'DNSP Inputs O & M'!$H$17","v":7.5},{"$f":"CW417*CX417*CY417","v":257.77499999999998},{"$f":"CZ417/'DNSP Inputs O & M'!$H$428","v":0.12888749999999999},null,null,{"$f":"'DNSP Inputs O & M'!$H$16","v":34.369999999999997},1,{"$f":"'DNSP Inputs O & M'!$H$17","v":7.5},{"$f":"DD417*DE417*DF417","v":257.77499999999998},{"$f":"DG417/'DNSP Inputs O & M'!$H$429","v":0.25777499999999998}]
["Labour - repair of faults"]
["Crew costs",{"$f":"'DNSP Inputs O & M'!$D$12","v":111.36223236834823},{"$f":"'DNSP Inputs O & M'!$D$426","v":2},{"$f":"'DNSP Inputs O & M'!$D$17","v":7.5},{"$f":"B419*C419*D419","v":1670.4334855252234},{"$f":"(E419+E420)/'DNSP Inputs O & M'!$D$430","v":136.45223236834823},{"$f":"F419/'DNSP Inputs O & M'!$D$422","v":6.8226116184174117},null,{"$f":"'DNSP Inputs O & M'!$D$12","v":111.36223236834823},{"$f":"'DNSP Inputs O & M'!$D$426","v":2},{"$f":"'DNSP Inputs O & M'!$D$17","v":7.5},{"$f":"I419*J419*K419","v":1670.4334855252234},{"$f":"(L419+L420)/'DNSP Inputs O & M'!$D$431","v":195.24849868411121},{"$f":"M419/'DNSP Inputs O & M'!$D$422","v":9.7624249342055602},null,{"$f":"'DNSP Inputs O & M'!$D$12","v":111.36223236834823},{"$f":"'DNSP Inputs O & M'!$D$426","v":2},{"$f":"'DNSP Inputs O & M'!$D$17","v":7.5},{"$f":"P419*Q419*R419","v":1670.4334855252234},{"$f":"(S419+S420)/'DNSP Inputs O & M'!$D$432","v":238.63705394724704},{"$f":"T419/'DNSP Inputs O & M'!$D$422","v":11.931852697362352},null,null,null,{"$f":"'DNSP Inputs O & M'!$E$12","v":111.08407886363248},{"$f":"'DNSP Inputs O & M'!$E$426","v":2},{"$f":"'DNSP Inputs O & M'!$E$17","v":7.5},{"$f":"Y419*Z419*AA419","v":1666.2611829544874},{"$f":"(AB419+AB420)/'DNSP Inputs O & M'!$E$430","v":136.1740788636325},{"$f":"AC419/'DNSP Inputs O & M'!$E$422","v":6.8087039431816248},null,{"$f":"'DNSP Inputs O & M'!$E$12","v":111.08407886363248},{"$f":"'DNSP Inputs O & M'!$E$426","v":2},{"$f":"'DNSP Inputs O & M'!$E$17","v":7.5},{"$f":"AF419*AG419*AH419","v":1666.2611829544874},{"$f":"(AI419+AI420)/'DNSP Inputs O & M'!$E$431","v":194.86919845040794},{"$f":"AJ419/'DNSP Inputs O & M'!$E$422","v":9.7434599225203975},null,{"$f":"'DNSP Inputs O & M'!$E$12","v":111.08407886363248},{"$f":"'DNSP Inputs O & M'!$E$426","v":2},{"$f":"'DNSP Inputs O & M'!$E$17","v":7.5},{"$f":"AM419*AN419*AO419","v":1666.2611829544874},{"$f":"(AP419+AP420)/'DNSP Inputs O & M'!$E$432","v":238.17346477272082},{"$f":"AQ419/'DNSP Inputs O & M'!$E$422","v":11.908673238636041},null,null,null,{"$f":"'DNSP Inputs O & M'!$F$12","v":111.00339776810097},{"$f":"'DNSP Inputs O & M'!$F$426","v":2},{"$f":"'DNSP Inputs O & M'!$F$17","v":7.5},{"$f":"AV419*AW419*AX419","v":1665.0509665215145},{"$f":"(AY419+AY420)/'DNSP Inputs O & M'!$F$430","v":136.09339776810097},{"$f":"AZ419/'DNSP Inputs O & M'!$F$422","v":6.8046698884050487},null,{"$f":"'DNSP Inputs O & M'!$F$12","v":111.00339776810097},{"$f":"'DNSP Inputs O & M'!$F$426","v":2},{"$f":"'DNSP Inputs O & M'!$F$17","v":7.5},{"$f":"BC419*BD419*BE419","v":1665.0509665215145},{"$f":"(BF419+BF420)/'DNSP Inputs O & M'!$F$431","v":194.75917877468316},{"$f":"BG419/'DNSP Inputs O & M'!$F$422","v":9.7379589387341579},null,{"$f":"'DNSP Inputs O & M'!$F$12","v":111.00339776810097},{"$f":"'DNSP Inputs O & M'!$F$426","v":2},{"$f":"'DNSP Inputs O & M'!$F$17","v":7.5},{"$f":"BJ419*BK419*BL419","v":1665.0509665215145},{"$f":"(BM419+BM420)/'DNSP Inputs O & M'!$F$432","v":238.03899628016831},{"$f":"BN419/'DNSP Inputs O & M'!$F$422","v":11.901949814008415},null,null,null,{"$f":"'DNSP Inputs O & M'!$G$12","v":111.41108530292857},{"$f":"'DNSP Inputs O & M'!$G$426","v":2},{"$f":"'DNSP Inputs O & M'!$G$17","v":7.5},{"$f":"BS419*BT419*BU419","v":1671.1662795439286},{"$f":"(BV419+BV420)/'DNSP Inputs O & M'!$G$430","v":136.50108530292857},{"$f":"BW419/'DNSP Inputs O & M'!$G$422","v":6.825054265146429},null,{"$f":"'DNSP Inputs O & M'!$G$12","v":111.41108530292857},{"$f":"'DNSP Inputs O & M'!$G$426","v":2},{"$f":"'DNSP Inputs O & M'!$G$17","v":7.5},{"$f":"BZ419*CA419*CB419","v":1671.1662795439286},{"$f":"(CC419+CC420)/'DNSP Inputs O & M'!$G$431","v":195.31511632217533},{"$f":"CD419/'DNSP Inputs O & M'!$G$422","v":9.7657558161087668},null,{"$f":"'DNSP Inputs O & M'!$G$12","v":111.41108530292857},{"$f":"'DNSP Inputs O & M'!$G$426","v":2},{"$f":"'DNSP Inputs O & M'!$G$17","v":7.5},{"$f":"CG419*CH419*CI419","v":1671.1662795439286},{"$f":"(CJ419+CJ420)/'DNSP Inputs O & M'!$G$432","v":238.71847550488096},{"$f":"CK419/'DNSP Inputs O & M'!$G$422","v":11.935923775244047},null,null,null,{"$f":"'DNSP Inputs O & M'!$H$12","v":112.5214007824073},{"$f":"'DNSP Inputs O & M'!$H$426","v":2},{"$f":"'DNSP Inputs O & M'!$H$17","v":7.5},{"$f":"CP419*CQ419*CR419","v":1687.8210117361095},{"$f":"(CS419+CS420)/'DNSP Inputs O & M'!$H$430","v":137.61140078240729},{"$f":"CT419/'DNSP Inputs O & M'!$H$422","v":6.8805700391203644},null,{"$f":"'DNSP Inputs O & M'!$H$12","v":112.5214007824073},{"$f":"'DNSP Inputs O & M'!$H$426","v":2},{"$f":"'DNSP Inputs O & M'!$H$17","v":7.5},{"$f":"CW419*CX419*CY419","v":1687.8210117361095},{"$f":"(CZ419+CZ420)/'DNSP Inputs O & M'!$H$431","v":196.82918288510089},{"$f":"DA419/'DNSP Inputs O & M'!$H$422","v":9.8414591442550439},null,{"$f":"'DNSP Inputs O & M'!$H$12","v":112.5214007824073},{"$f":"'DNSP Inputs O & M'!$H$426","v":2},{"$f":"'DNSP Inputs O & M'!$H$17","v":7.5},{"$f":"DD419*DE419*DF419","v":1687.8210117361095},{"$f":"(DG419+DG420)/'DNSP Inputs O & M'!$H$432","v":240.5690013040122},{"$f":"DH419/'DNSP Inputs O & M'!$H$422","v":12.028450065200611}]
["Elevated platform vehicle costs",{"$f":"'DNSP Inputs O & M'!$D$14","v":50.18},1,{"$f":"'DNSP Inputs O & M'!$D$17","v":7.5},{"$f":"B420*C420*D420","v":376.35},null,null,null,{"$f":"'DNSP Inputs O & M'!$D$15","v":63.64},1,{"$f":"'DNSP Inputs O & M'!$D$17","v":7.5},{"$f":"I420*J420*K420","v":477.3},null,null,null,{"$f":"'DNSP Inputs O & M'!$D$15","v":63.64},1,{"$f":"'DNSP Inputs O & M'!$D$17","v":7.5},{"$f":"P420*Q420*R420","v":477.3},null,null,null,null,null,{"$f":"'DNSP Inputs O & M'!$E$14","v":50.18},1,{"$f":"'DNSP Inputs O & M'!$E$17","v":7.5},{"$f":"Y420*Z420*AA420","v":376.35},null,null,null,{"$f":"'DNSP Inputs O & M'!$E$15","v":63.64},1,{"$f":"'DNSP Inputs O & M'!$E$17","v":7.5},{"$f":"AF420*AG420*AH420","v":477.3},null,null,null,{"$f":"'DNSP Inputs O & M'!$E$15","v":63.64},1,{"$f":"'DNSP Inputs O & M'!$E$17","v":7.5},{"$f":"AM420*AN420*AO420","v":477.3},null,null,null,null,null,{"$f":"'DNSP Inputs O & M'!$F$14","v":50.18},1,{"$f":"'DNSP Inputs O & M'!$F$17","v":7.5},{"$f":"AV420*AW420*AX420","v":376.35},null,null,null,{"$f":"'DNSP Inputs O & M'!$F$15","v":63.64},1,{"$f":"'DNSP Inputs O & M'!$F$17","v":7.5},{"$f":"BC420*BD420*BE420","v":477.3},null,null,null,{"$f":"'DNSP Inputs O & M'!$F$15","v":63.64},1,{"$f":"'DNSP Inputs O & M'!$F$17","v":7.5},{"$f":"BJ420*BK420*BL420","v":477.3},null,null,null,null,null,{"$f":"'DNSP Inputs O & M'!$G$14","v":50.18},1,{"$f":"'DNSP Inputs O & M'!$G$17","v":7.5},{"$f":"BS420*BT420*BU420","v":376.35},null,null,null,{"$f":"'DNSP Inputs O & M'!$G$15","v":63.64},1,{"$f":"'DNSP Inputs O & M'!$G$17","v":7.5},{"$f":"BZ420*CA420*CB420","v":477.3},null,null,null,{"$f":"'DNSP Inputs O & M'!$G$15","v":63.64},1,{"$f":"'DNSP Inputs O & M'!$G$17","v":7.5},{"$f":"CG420*CH420*CI420","v":477.3},null,null,null,null,null,{"$f":"'DNSP Inputs O & M'!$H$14","v":50.18},1,{"$f":"'DNSP Inputs O & M'!$H$17","v":7.5},{"$f":"CP420*CQ420*CR420","v":376.35},null,null,null,{"$f":"'DNSP Inputs O & M'!$H$15","v":63.64},1,{"$f":"'DNSP Inputs O & M'!$H$17","v":7.5},{"$f":"CW420*CX420*CY420","v":477.3},null,null,null,{"$f":"'DNSP Inputs O & M'!$H$15","v":63.64},1,{"$f":"'DNSP Inputs O & M'!$H$17","v":7.5},{"$f":"DD420*DE420*DF420","v":477.3}]
["Other Maintenance and Repair costs",null,null,null,null,null,{"$f":"'DNSP Inputs O & M'!$D$442","v":2.1},null,null,null,null,null,null,{"$f":"'DNSP Inputs O & M'!$D$442","v":2.1},null,null,null,null,null,null,{"$f":"'DNSP Inputs O & M'!$D$442","v":2.1},null,null,null,null,null,null,null,null,{"$f":"'DNSP Inputs O & M'!$E$442","v":2.1},null,null,null,null,null,null,{"$f":"'DNSP Inputs O & M'!$E$442","v":2.1},null,null,null,null,null,null,{"$f":"'DNSP Inputs O & M'!$E$442","v":2.1},null,null,null,null,null,null,null,null,{"$f":"'DNSP Inputs O & M'!$F$442","v":2.1},null,null,null,null,null,null,{"$f":"'DNSP Inputs O & M'!$F$442","v":2.1},null,null,null,null,null,null,{"$f":"'DNSP Inputs O & M'!$F$442","v":2.1},null,null,null,null,null,null,null,null,{"$f":"'DNSP Inputs O & M'!$G$442","v":2.1},null,null,null,null,null,null,{"$f":"'DNSP Inputs O & M'!$G$442","v":2.1},null,null,null,null,null,null,{"$f":"'DNSP Inputs O & M'!$G$442","v":2.1},null,null,null,null,null,null,null,null,{"$f":"'DNSP Inputs O & M'!$H$442","v":2.1},null,null,null,null,null,null,{"$f":"'DNSP Inputs O & M'!$H$442","v":2.1},null,null,null,null,null,null,{"$f":"'DNSP Inputs O & M'!$H$442","v":2.1}]
[]
["Overheads",{"$f":"'DNSP Inputs O & M'!$D$18","v":0.25},null,null,null,null,{"$f":"B423*SUM(G410:G421)","v":2.7724306903947915},null,{"$f":"'DNSP Inputs O & M'!$D$18","v":0.25},null,null,null,null,{"$f":"I423*SUM(N410:N421)","v":3.7576675580158971},null,{"$f":"'DNSP Inputs O & M'!$D$18","v":0.25},null,null,null,null,{"$f":"P423*SUM(U410:U421)","v":5.0670010442177666},null,null,null,{"$f":"'DNSP Inputs O & M'!$E$18","v":0.25},null,null,null,null,{"$f":"Y423*SUM(AD410:AD421)","v":2.767910695943161},null,{"$f":"'DNSP Inputs O & M'!$E$18","v":0.25},null,null,null,null,{"$f":"AF423*SUM(AK410:AK421)","v":3.7513616916305801},null,{"$f":"'DNSP Inputs O & M'!$E$18","v":0.25},null,null,null,null,{"$f":"AM423*SUM(AR410:AR421)","v":5.0580769526081371},null,null,null,{"$f":"'DNSP Inputs O & M'!$F$18","v":0.25},null,null,null,null,{"$f":"AV423*SUM(BA410:BA421)","v":2.7665996281407734},null,{"$f":"'DNSP Inputs O & M'!$F$18","v":0.25},null,null,null,null,{"$f":"BC423*SUM(BH410:BH421)","v":3.7495326145216556},null,{"$f":"'DNSP Inputs O & M'!$F$18","v":0.25},null,null,null,null,{"$f":"BJ423*SUM(BO410:BO421)","v":5.0554884341265005},null,null,null,{"$f":"'DNSP Inputs O & M'!$G$18","v":0.25},null,null,null,null,{"$f":"BS423*SUM(BX410:BX421)","v":2.7732245505817219},null,{"$f":"'DNSP Inputs O & M'!$G$18","v":0.25},null,null,null,null,{"$f":"BZ423*SUM(CE410:CE421)","v":3.7587750762487131},null,{"$f":"'DNSP Inputs O & M'!$G$18","v":0.25},null,null,null,null,{"$f":"CG423*SUM(CL410:CL421)","v":5.0685684092022196},null,null,null,{"$f":"'DNSP Inputs O & M'!$H$18","v":0.25},null,null,null,null,{"$f":"CP423*SUM(CU410:CU421)","v":2.7912671771232511},null,{"$f":"'DNSP Inputs O & M'!$H$18","v":0.25},null,null,null,null,{"$f":"CW423*SUM(DB410:DB421)","v":3.7839464328573502},null,{"$f":"'DNSP Inputs O & M'!$H$18","v":0.25},null,null,null,null,{"$f":"DD423*SUM(DI410:DI421)","v":5.1041910308354961}]
[]
[null,null,null,null,null,null,{"$f":"SUM(G410,G412,G416,G419,G421,G423)","v":13.862153451973958},null,null,null,null,null,null,{"$f":"SUM(N410,N412,N416,N419,N421,N423)","v":18.788337790079485},null,null,null,null,null,null,{"$f":"SUM(U410,U412,U416,U419,U421,U423)","v":25.335005221088835},null,null,null,null,null,null,null,null,{"$f":"SUM(AD410,AD412,AD416,AD419,AD421,AD423)","v":13.839553479715805},null,null,null,null,null,null,{"$f":"SUM(AK410,AK412,AK416,AK419,AK421,AK423)","v":18.7568084581529},null,null,null,null,null,null,{"$f":"SUM(AR410,AR412,AR416,AR419,AR421,AR423)","v":25.290384763040684},null,null,null,null,null,null,null,null,{"$f":"SUM(BA410,BA412,BA416,BA419,BA421,BA423)","v":13.832998140703868},null,null,null,null,null,null,{"$f":"SUM(BH410,BH412,BH416,BH419,BH421,BH423)","v":18.74766307260828},null,null,null,null,null,null,{"$f":"SUM(BO410,BO412,BO416,BO419,BO421,BO423)","v":25.277442170632504},null,null,null,null,null,null,null,null,{"$f":"SUM(BX410,BX412,BX416,BX419,BX421,BX423)","v":13.866122752908609},null,null,null,null,null,null,{"$f":"SUM(CE410,CE412,CE416,CE419,CE421,CE423)","v":18.793875381243566},null,null,null,null,null,null,{"$f":"SUM(CL410,CL412,CL416,CL419,CL421,CL423)","v":25.3428420460111},null,null,null,null,null,null,null,null,{"$f":"SUM(CU410,CU412,CU416,CU419,CU421,CU423)","v":13.956335885616255},null,null,null,null,null,null,{"$f":"SUM(DB410,DB412,DB416,DB419,DB421,DB423)","v":18.919732164286749},null,null,null,null,null,null,{"$f":"SUM(DI410,DI412,DI416,DI419,DI421,DI423)","v":25.520955154177479}]
[]
[]
[]
["NEW"]
["Category P LED 275 Watt (L4) - Cost build-up"]
[]
["Additional assumptions"]
[]
[]
["Overheads are applied to material and labour components"]
["All costs and charges are exclusive of GST"]
[]
[null,"Urban",null,null,null,null,null,null,"Rural",null,null,null,null,null,null,"Remote",null,null,null,null,null,null,null,null,"Urban",null,null,null,null,null,null,"Rural",null,null,null,null,null,null,"Remote",null,null,null,null,null,null,null,null,"Urban",null,null,null,null,null,null,"Rural",null,null,null,null,null,null,"Remote",null,null,null,null,null,null,null,null,"Urban",null,null,null,null,null,null,"Rural",null,null,null,null,null,null,"Remote",null,null,null,null,null,null,null,null,"Urban",null,null,null,null,null,null,"Rural",null,null,null,null,null,null,"Remote"]
[]
[null,"Unit rate","Number","Hours","Cost","Annualised","Annualised",null,"Unit rate","Number","Hours","Cost","Annualised","Annualised",null,"Unit rate","Number","Hours","Cost","Annualised","Annualised",null,null,null,"Unit rate","Number","Hours","Cost","Annualised","Annualised",null,"Unit rate","Number","Hours","Cost","Annualised","Annualised",null,"Unit rate","Number","Hours","Cost","Annualised","Annualised",null,null,null,"Unit rate","Number","Hours","Cost","Annualised","Annualised",null,"Unit rate","Number","Hours","Cost","Annualised","Annualised",null,"Unit rate","Number","Hours","Cost","Annualised","Annualised",null,null,null,"Unit rate","Number","Hours","Cost","Annualised","Annualised",null,"Unit rate","Number","Hours","Cost","Annualised","Annualised",null,"Unit rate","Number","Hours","Cost","Annualised","Annualised",null,null,null,"Unit rate","Number","Hours","Cost","Annualised","Annualised",null,"Unit rate","Number","Hours","Cost","Annualised","Annualised",null,"Unit rate","Number","Hours","Cost","Annualised","Annualised"]
[null,null,null,null,null," cost","unit cost",null,null,null,null,null," cost","unit cost",null,null,null,null,null," cost","unit cost",null,null,null,null,null,null,null," cost","unit cost",null,null,null,null,null," cost","unit cost",null,null,null,null,null," cost","unit cost",null,null,null,null,null,null,null," cost","unit cost",null,null,null,null,null," cost","unit cost",null,null,null,null,null," cost","unit cost",null,null,null,null,null,null,null," cost","unit cost",null,null,null,null,null," cost","unit cost",null,null,null,null,null," cost","unit cost",null,null,null,null,null,null,null," cost","unit cost",null,null,null,null,null," cost","unit cost",null,null,null,null,null," cost","unit cost"]
["LED 275W (L4)"]
["Patrols & repairs"]
[]
[]
["Materials - repair of faults"]
["PE cell",{"$f":"'DNSP Inputs O & M'!$D$469","v":15.120000000000001},{"$f":"'DNSP Inputs O & M'!$D$476*'DNSP Inputs O & M'!$D$479","v":13.5},null,{"$f":"B447*C447","v":204.12},{"$f":"(E447+E448+E449)/'DNSP Inputs O & M'!$D$473","v":7.9634219212176935E-2},{"$f":"F447*'DNSP Inputs O & M'!$D$467","v":0.23890265763653079},null,{"$f":"'DNSP Inputs O & M'!$D$469*(1+'DNSP Inputs O & M'!$D$11)","v":15.876000000000001},{"$f":"'DNSP Inputs O & M'!$D$477*'DNSP Inputs O & M'!$D$479","v":9.9},null,{"$f":"I447*J447","v":157.17240000000001},{"$f":"(L447+L448+L449)/'DNSP Inputs O & M'!$D$474","v":9.1977523190064372E-2},{"$f":"M447*'DNSP Inputs O & M'!$D$467","v":0.27593256957019313},null,{"$f":"'DNSP Inputs O & M'!$D$469*(1+'DNSP Inputs O & M'!$D$11)","v":15.876000000000001},{"$f":"'DNSP Inputs O & M'!$D$478*'DNSP Inputs O & M'!$D$479","v":8.1},null,{"$f":"P447*Q447","v":128.59559999999999},{"$f":"(S447+S448+S449)/'DNSP Inputs O & M'!$D$475","v":0.15050867431101439},{"$f":"T447*'DNSP Inputs O & M'!$D$467","v":0.45152602293304317},null,null,null,{"$f":"'DNSP Inputs O & M'!$E$469","v":15.120000000000001},{"$f":"'DNSP Inputs O & M'!$E$476*'DNSP Inputs O & M'!$E$479","v":13.5},null,{"$f":"Y447*Z447","v":204.12},{"$f":"(AB447+AB448+AB449)/'DNSP Inputs O & M'!$E$473","v":7.9634219212176935E-2},{"$f":"AC447*'DNSP Inputs O & M'!$E$467","v":0.23890265763653079},null,{"$f":"'DNSP Inputs O & M'!$E$469*(1+'DNSP Inputs O & M'!$E$11)","v":15.876000000000001},{"$f":"'DNSP Inputs O & M'!$E$477*'DNSP Inputs O & M'!$E$479","v":9.9},null,{"$f":"AF447*AG447","v":157.17240000000001},{"$f":"(AI447+AI448+AI449)/'DNSP Inputs O & M'!$E$474","v":9.1977523190064372E-2},{"$f":"AJ447*'DNSP Inputs O & M'!$E$467","v":0.27593256957019313},null,{"$f":"'DNSP Inputs O & M'!$E$469*(1+'DNSP Inputs O & M'!$E$11)","v":15.876000000000001},{"$f":"'DNSP Inputs O & M'!$E$478*'DNSP Inputs O & M'!$E$479","v":8.1},null,{"$f":"AM447*AN447","v":128.59559999999999},{"$f":"(AP447+AP448+AP449)/'DNSP Inputs O & M'!$E$475","v":0.15050867431101439},{"$f":"AQ447*'DNSP Inputs O & M'!$E$467","v":0.45152602293304317},null,null,null,{"$f":"'DNSP Inputs O & M'!$F$469","v":15.120000000000001},{"$f":"'DNSP Inputs O & M'!$F$476*'DNSP Inputs O & M'!$F$479","v":13.5},null,{"$f":"AV447*AW447","v":204.12},{"$f":"(AY447+AY448+AY449)/'DNSP Inputs O & M'!$F$473","v":7.9634219212176935E-2},{"$f":"AZ447*'DNSP Inputs O & M'!$F$467","v":0.23890265763653079},null,{"$f":"'DNSP Inputs O & M'!$F$469*(1+'DNSP Inputs O & M'!$F$11)","v":15.876000000000001},{"$f":"'DNSP Inputs O & M'!$F$477*'DNSP Inputs O & M'!$F$479","v":9.9},null,{"$f":"BC447*BD447","v":157.17240000000001},{"$f":"(BF447+BF448+BF449)/'DNSP Inputs O & M'!$F$474","v":9.1977523190064372E-2},{"$f":"BG447*'DNSP Inputs O & M'!$F$467","v":0.27593256957019313},null,{"$f":"'DNSP Inputs O & M'!$F$469*(1+'DNSP Inputs O & M'!$F$11)","v":15.876000000000001},{"$f":"'DNSP Inputs O & M'!$F$478*'DNSP Inputs O & M'!$F$479","v":8.1},null,{"$f":"BJ447*BK447","v":128.59559999999999},{"$f":"(BM447+BM448+BM449)/'DNSP Inputs O & M'!$F$475","v":0.15050867431101439},{"$f":"BN447*'DNSP Inputs O & M'!$F$467","v":0.45152602293304317},null,null,null,{"$f":"'DNSP Inputs O & M'!$G$469","v":15.120000000000001},{"$f":"'DNSP Inputs O & M'!$G$476*'DNSP Inputs O & M'!$G$479","v":13.5},null,{"$f":"BS447*BT447","v":204.12},{"$f":"(BV447+BV448+BV449)/'DNSP Inputs O & M'!$G$473","v":7.9634219212176935E-2},{"$f":"BW447*'DNSP Inputs O & M'!$G$467","v":0.23890265763653079},null,{"$f":"'DNSP Inputs O & M'!$G$469*(1+'DNSP Inputs O & M'!$G$11)","v":15.876000000000001},{"$f":"'DNSP Inputs O & M'!$G$477*'DNSP Inputs O & M'!$G$479","v":9.9},null,{"$f":"BZ447*CA447","v":157.17240000000001},{"$f":"(CC447+CC448+CC449)/'DNSP Inputs O & M'!$G$474","v":9.1977523190064372E-2},{"$f":"CD447*'DNSP Inputs O & M'!$G$467","v":0.27593256957019313},null,{"$f":"'DNSP Inputs O & M'!$G$469*(1+'DNSP Inputs O & M'!$G$11)","v":15.876000000000001},{"$f":"'DNSP Inputs O & M'!$G$478*'DNSP Inputs O & M'!$G$479","v":8.1},null,{"$f":"CG447*CH447","v":128.59559999999999},{"$f":"(CJ447+CJ448+CJ449)/'DNSP Inputs O & M'!$G$475","v":0.15050867431101439},{"$f":"CK447*'DNSP Inputs O & M'!$G$467","v":0.45152602293304317},null,null,null,{"$f":"'DNSP Inputs O & M'!$H$469","v":15.120000000000001},{"$f":"'DNSP Inputs O & M'!$H$476*'DNSP Inputs O & M'!$H$479","v":13.5},null,{"$f":"CP447*CQ447","v":204.12},{"$f":"(CS447+CS448+CS449)/'DNSP Inputs O & M'!$H$473","v":7.9634219212176935E-2},{"$f":"CT447*'DNSP Inputs O & M'!$H$467","v":0.23890265763653079},null,{"$f":"'DNSP Inputs O & M'!$H$469*(1+'DNSP Inputs O & M'!$H$11)","v":15.876000000000001},{"$f":"'DNSP Inputs O & M'!$H$477*'DNSP Inputs O & M'!$H$479","v":9.9},null,{"$f":"CW447*CX447","v":157.17240000000001},{"$f":"(CZ447+CZ448+CZ449)/'DNSP Inputs O & M'!$H$474","v":9.1977523190064372E-2},{"$f":"DA447*'DNSP Inputs O & M'!$H$467","v":0.27593256957019313},null,{"$f":"'DNSP Inputs O & M'!$H$469*(1+'DNSP Inputs O & M'!$H$11)","v":15.876000000000001},{"$f":"'DNSP Inputs O & M'!$H$478*'DNSP Inputs O & M'!$H$479","v":8.1},null,{"$f":"DD447*DE447","v":128.59559999999999},{"$f":"(DG447+DG448+DG449)/'DNSP Inputs O & M'!$H$475","v":0.15050867431101439},{"$f":"DH447*'DNSP Inputs O & M'!$H$467","v":0.45152602293304317}]
["Luminaire",{"$f":"'DNSP Inputs O & M'!$D$470","v":650.88},{"$f":"'DNSP Inputs O & M'!$D$476*'DNSP Inputs O & M'!$D$480","v":0},null,{"$f":"B448*C448","v":0},null,null,null,{"$f":"'DNSP Inputs O & M'!$D$470*(1+'DNSP Inputs O & M'!$D$11)","v":683.42399999999998},{"$f":"'DNSP Inputs O & M'!$D$477*'DNSP Inputs O & M'!$D$480","v":0},null,{"$f":"I448*J448","v":0},null,null,null,{"$f":"'DNSP Inputs O & M'!$D$470*(1+'DNSP Inputs O & M'!$D$11)","v":683.42399999999998},{"$f":"'DNSP Inputs O & M'!$D$478*'DNSP Inputs O & M'!$D$480","v":0},null,{"$f":"P448*Q448","v":0},null,null,null,null,null,{"$f":"'DNSP Inputs O & M'!$E$470","v":650.88},{"$f":"'DNSP Inputs O & M'!$E$476*'DNSP Inputs O & M'!$E$480","v":0},null,{"$f":"Y448*Z448","v":0},null,null,null,{"$f":"'DNSP Inputs O & M'!$E$470*(1+'DNSP Inputs O & M'!$E$11)","v":683.42399999999998},{"$f":"'DNSP Inputs O & M'!$E$477*'DNSP Inputs O & M'!$E$480","v":0},null,{"$f":"AF448*AG448","v":0},null,null,null,{"$f":"'DNSP Inputs O & M'!$E$470*(1+'DNSP Inputs O & M'!$E$11)","v":683.42399999999998},{"$f":"'DNSP Inputs O & M'!$E$478*'DNSP Inputs O & M'!$E$480","v":0},null,{"$f":"AM448*AN448","v":0},null,null,null,null,null,{"$f":"'DNSP Inputs O & M'!$F$470","v":650.88},{"$f":"'DNSP Inputs O & M'!$F$476*'DNSP Inputs O & M'!$F$480","v":0},null,{"$f":"AV448*AW448","v":0},null,null,null,{"$f":"'DNSP Inputs O & M'!$F$470*(1+'DNSP Inputs O & M'!$F$11)","v":683.42399999999998},{"$f":"'DNSP Inputs O & M'!$F$477*'DNSP Inputs O & M'!$F$480","v":0},null,{"$f":"BC448*BD448","v":0},null,null,null,{"$f":"'DNSP Inputs O & M'!$F$470*(1+'DNSP Inputs O & M'!$F$11)","v":683.42399999999998},{"$f":"'DNSP Inputs O & M'!$F$478*'DNSP Inputs O & M'!$F$480","v":0},null,{"$f":"BJ448*BK448","v":0},null,null,null,null,null,{"$f":"'DNSP Inputs O & M'!$G$470","v":650.88},{"$f":"'DNSP Inputs O & M'!$G$476*'DNSP Inputs O & M'!$G$480","v":0},null,{"$f":"BS448*BT448","v":0},null,null,null,{"$f":"'DNSP Inputs O & M'!$G$470*(1+'DNSP Inputs O & M'!$G$11)","v":683.42399999999998},{"$f":"'DNSP Inputs O & M'!$G$477*'DNSP Inputs O & M'!$G$480","v":0},null,{"$f":"BZ448*CA448","v":0},null,null,null,{"$f":"'DNSP Inputs O & M'!$G$470*(1+'DNSP Inputs O & M'!$G$11)","v":683.42399999999998},{"$f":"'DNSP Inputs O & M'!$G$478*'DNSP Inputs O & M'!$G$480","v":0},null,{"$f":"CG448*CH448","v":0},null,null,null,null,null,{"$f":"'DNSP Inputs O & M'!$H$470","v":650.88},{"$f":"'DNSP Inputs O & M'!$H$476*'DNSP Inputs O & M'!$H$480","v":0},null,{"$f":"CP448*CQ448","v":0},null,null,null,{"$f":"'DNSP Inputs O & M'!$H$470*(1+'DNSP Inputs O & M'!$H$11)","v":683.42399999999998},{"$f":"'DNSP Inputs O & M'!$H$477*'DNSP Inputs O & M'!$H$480","v":0},null,{"$f":"CW448*CX448","v":0},null,null,null,{"$f":"'DNSP Inputs O & M'!$H$470*(1+'DNSP Inputs O & M'!$H$11)","v":683.42399999999998},{"$f":"'DNSP Inputs O & M'!$H$478*'DNSP Inputs O & M'!$H$480","v":0},null,{"$f":"DD448*DE448","v":0}]
["Miscellaneous",{"$f":"'DNSP Inputs O & M'!$D$471","v":23.188438424353883},{"$f":"'DNSP Inputs O & M'!$D$476*'DNSP Inputs O & M'!$D$481","v":1.5},null,{"$f":"B449*C449","v":34.782657636530828},null,null,null,{"$f":"'DNSP Inputs O & M'!$D$471*(1+'DNSP Inputs O & M'!$D$11)","v":24.347860345571579},{"$f":"'DNSP Inputs O & M'!$D$477*'DNSP Inputs O & M'!$D$481","v":1.1000000000000001},null,{"$f":"I449*J449","v":26.782646380128739},null,null,null,{"$f":"'DNSP Inputs O & M'!$D$471*(1+'DNSP Inputs O & M'!$D$11)","v":24.347860345571579},{"$f":"'DNSP Inputs O & M'!$D$478*'DNSP Inputs O & M'!$D$481","v":0.9},null,{"$f":"P449*Q449","v":21.913074311014423},null,null,null,null,null,{"$f":"'DNSP Inputs O & M'!$E$471","v":23.188438424353883},{"$f":"'DNSP Inputs O & M'!$E$476*'DNSP Inputs O & M'!$E$481","v":1.5},null,{"$f":"Y449*Z449","v":34.782657636530828},null,null,null,{"$f":"'DNSP Inputs O & M'!$E$471*(1+'DNSP Inputs O & M'!$E$11)","v":24.347860345571579},{"$f":"'DNSP Inputs O & M'!$E$477*'DNSP Inputs O & M'!$E$481","v":1.1000000000000001},null,{"$f":"AF449*AG449","v":26.782646380128739},null,null,null,{"$f":"'DNSP Inputs O & M'!$E$471*(1+'DNSP Inputs O & M'!$E$11)","v":24.347860345571579},{"$f":"'DNSP Inputs O & M'!$E$478*'DNSP Inputs O & M'!$E$481","v":0.9},null,{"$f":"AM449*AN449","v":21.913074311014423},null,null,null,null,null,{"$f":"'DNSP Inputs O & M'!$F$471","v":23.188438424353883},{"$f":"'DNSP Inputs O & M'!$F$476*'DNSP Inputs O & M'!$F$481","v":1.5},null,{"$f":"AV449*AW449","v":34.782657636530828},null,null,null,{"$f":"'DNSP Inputs O & M'!$F$471*(1+'DNSP Inputs O & M'!$F$11)","v":24.347860345571579},{"$f":"'DNSP Inputs O & M'!$F$477*'DNSP Inputs O & M'!$F$481","v":1.1000000000000001},null,{"$f":"BC449*BD449","v":26.782646380128739},null,null,null,{"$f":"'DNSP Inputs O & M'!$F$471*(1+'DNSP Inputs O & M'!$F$11)","v":24.347860345571579},{"$f":"'DNSP Inputs O & M'!$F$478*'DNSP Inputs O & M'!$F$481","v":0.9},null,{"$f":"BJ449*BK449","v":21.913074311014423},null,null,null,null,null,{"$f":"'DNSP Inputs O & M'!$G$471","v":23.188438424353883},{"$f":"'DNSP Inputs O & M'!$G$476*'DNSP Inputs O & M'!$G$481","v":1.5},null,{"$f":"BS449*BT449","v":34.782657636530828},null,null,null,{"$f":"'DNSP Inputs O & M'!$G$471*(1+'DNSP Inputs O & M'!$G$11)","v":24.347860345571579},{"$f":"'DNSP Inputs O & M'!$G$477*'DNSP Inputs O & M'!$G$481","v":1.1000000000000001},null,{"$f":"BZ449*CA449","v":26.782646380128739},null,null,null,{"$f":"'DNSP Inputs O & M'!$G$471*(1+'DNSP Inputs O & M'!$G$11)","v":24.347860345571579},{"$f":"'DNSP Inputs O & M'!$G$478*'DNSP Inputs O & M'!$G$481","v":0.9},null,{"$f":"CG449*CH449","v":21.913074311014423},null,null,null,null,null,{"$f":"'DNSP Inputs O & M'!$H$471","v":23.188438424353883},{"$f":"'DNSP Inputs O & M'!$H$476*'DNSP Inputs O & M'!$H$481","v":1.5},null,{"$f":"CP449*CQ449","v":34.782657636530828},null,null,null,{"$f":"'DNSP Inputs O & M'!$H$471*(1+'DNSP Inputs O & M'!$H$11)","v":24.347860345571579},{"$f":"'DNSP Inputs O & M'!$H$477*'DNSP Inputs O & M'!$H$481","v":1.1000000000000001},null,{"$f":"CW449*CX449","v":26.782646380128739},null,null,null,{"$f":"'DNSP Inputs O & M'!$H$471*(1+'DNSP Inputs O & M'!$H$11)","v":24.347860345571579},{"$f":"'DNSP Inputs O & M'!$H$478*'DNSP Inputs O & M'!$H$481","v":0.9},null,{"$f":"DD449*DE449","v":21.913074311014423}]
["Labour - Patrol"]
["Crew costs",{"$f":"'DNSP Inputs O & M'!$D$12","v":111.36223236834823},{"$f":"'DNSP Inputs O & M'!$D$472","v":2},{"$f":"'DNSP Inputs O & M'!$D$17","v":7.5},{"$f":"B451*C451*D451","v":1670.4334855252234},{"$f":"E451/'DNSP Inputs O & M'!$D$473","v":0.55681116184174118},{"$f":"(F451+F452)*'DNSP Inputs O & M'!$D$467","v":1.9282084855252237},null,{"$f":"'DNSP Inputs O & M'!$D$12","v":111.36223236834823},{"$f":"'DNSP Inputs O & M'!$D$472","v":2},{"$f":"'DNSP Inputs O & M'!$D$17","v":7.5},{"$f":"I451*J451*K451","v":1670.4334855252234},{"$f":"L451/'DNSP Inputs O & M'!$D$474","v":0.83521674276261171},{"$f":"(M451+M452)*'DNSP Inputs O & M'!$D$467","v":2.8923127282878349},null,{"$f":"'DNSP Inputs O & M'!$D$12","v":111.36223236834823},{"$f":"'DNSP Inputs O & M'!$D$472","v":2},{"$f":"'DNSP Inputs O & M'!$D$17","v":7.5},{"$f":"P451*Q451*R451","v":1670.4334855252234},{"$f":"S451/'DNSP Inputs O & M'!$D$475","v":1.6704334855252234},{"$f":"(T451+T452)*'DNSP Inputs O & M'!$D$467","v":5.7846254565756698},null,null,null,{"$f":"'DNSP Inputs O & M'!$E$12","v":111.08407886363248},{"$f":"'DNSP Inputs O & M'!$E$472","v":2},{"$f":"'DNSP Inputs O & M'!$E$17","v":7.5},{"$f":"Y451*Z451*AA451","v":1666.2611829544874},{"$f":"AB451/'DNSP Inputs O & M'!$E$473","v":0.55542039431816248},{"$f":"(AC451+AC452)*'DNSP Inputs O & M'!$E$467","v":1.9240361829544876},null,{"$f":"'DNSP Inputs O & M'!$E$12","v":111.08407886363248},{"$f":"'DNSP Inputs O & M'!$E$472","v":2},{"$f":"'DNSP Inputs O & M'!$E$17","v":7.5},{"$f":"AF451*AG451*AH451","v":1666.2611829544874},{"$f":"AI451/'DNSP Inputs O & M'!$E$474","v":0.83313059147724366},{"$f":"(AJ451+AJ452)*'DNSP Inputs O & M'!$E$467","v":2.8860542744317308},null,{"$f":"'DNSP Inputs O & M'!$E$12","v":111.08407886363248},{"$f":"'DNSP Inputs O & M'!$E$472","v":2},{"$f":"'DNSP Inputs O & M'!$E$17","v":7.5},{"$f":"AM451*AN451*AO451","v":1666.2611829544874},{"$f":"AP451/'DNSP Inputs O & M'!$E$475","v":1.6662611829544873},{"$f":"(AQ451+AQ452)*'DNSP Inputs O & M'!$E$467","v":5.7721085488634616},null,null,null,{"$f":"'DNSP Inputs O & M'!$F$12","v":111.00339776810097},{"$f":"'DNSP Inputs O & M'!$F$472","v":2},{"$f":"'DNSP Inputs O & M'!$F$17","v":7.5},{"$f":"AV451*AW451*AX451","v":1665.0509665215145},{"$f":"AY451/'DNSP Inputs O & M'!$F$473","v":0.55501698884050488},{"$f":"(AZ451+AZ452)*'DNSP Inputs O & M'!$F$467","v":1.9228259665215148},null,{"$f":"'DNSP Inputs O & M'!$F$12","v":111.00339776810097},{"$f":"'DNSP Inputs O & M'!$F$472","v":2},{"$f":"'DNSP Inputs O & M'!$F$17","v":7.5},{"$f":"BC451*BD451*BE451","v":1665.0509665215145},{"$f":"BF451/'DNSP Inputs O & M'!$F$474","v":0.83252548326075726},{"$f":"(BG451+BG452)*'DNSP Inputs O & M'!$F$467","v":2.8842389497822714},null,{"$f":"'DNSP Inputs O & M'!$F$12","v":111.00339776810097},{"$f":"'DNSP Inputs O & M'!$F$472","v":2},{"$f":"'DNSP Inputs O & M'!$F$17","v":7.5},{"$f":"BJ451*BK451*BL451","v":1665.0509665215145},{"$f":"BM451/'DNSP Inputs O & M'!$F$475","v":1.6650509665215145},{"$f":"(BN451+BN452)*'DNSP Inputs O & M'!$F$467","v":5.7684778995645427},null,null,null,{"$f":"'DNSP Inputs O & M'!$G$12","v":111.41108530292857},{"$f":"'DNSP Inputs O & M'!$G$472","v":2},{"$f":"'DNSP Inputs O & M'!$G$17","v":7.5},{"$f":"BS451*BT451*BU451","v":1671.1662795439286},{"$f":"BV451/'DNSP Inputs O & M'!$G$473","v":0.5570554265146429},{"$f":"(BW451+BW452)*'DNSP Inputs O & M'!$G$467","v":1.9289412795439289},null,{"$f":"'DNSP Inputs O & M'!$G$12","v":111.41108530292857},{"$f":"'DNSP Inputs O & M'!$G$472","v":2},{"$f":"'DNSP Inputs O & M'!$G$17","v":7.5},{"$f":"BZ451*CA451*CB451","v":1671.1662795439286},{"$f":"CC451/'DNSP Inputs O & M'!$G$474","v":0.8355831397719643},{"$f":"(CD451+CD452)*'DNSP Inputs O & M'!$G$467","v":2.8934119193158927},null,{"$f":"'DNSP Inputs O & M'!$G$12","v":111.41108530292857},{"$f":"'DNSP Inputs O & M'!$G$472","v":2},{"$f":"'DNSP Inputs O & M'!$G$17","v":7.5},{"$f":"CG451*CH451*CI451","v":1671.1662795439286},{"$f":"CJ451/'DNSP Inputs O & M'!$G$475","v":1.6711662795439286},{"$f":"(CK451+CK452)*'DNSP Inputs O & M'!$G$467","v":5.7868238386317854},null,null,null,{"$f":"'DNSP Inputs O & M'!$H$12","v":112.5214007824073},{"$f":"'DNSP Inputs O & M'!$H$472","v":2},{"$f":"'DNSP Inputs O & M'!$H$17","v":7.5},{"$f":"CP451*CQ451*CR451","v":1687.8210117361095},{"$f":"CS451/'DNSP Inputs O & M'!$H$473","v":0.56260700391203655},{"$f":"(CT451+CT452)*'DNSP Inputs O & M'!$H$467","v":1.9455960117361097},null,{"$f":"'DNSP Inputs O & M'!$H$12","v":112.5214007824073},{"$f":"'DNSP Inputs O & M'!$H$472","v":2},{"$f":"'DNSP Inputs O & M'!$H$17","v":7.5},{"$f":"CW451*CX451*CY451","v":1687.8210117361095},{"$f":"CZ451/'DNSP Inputs O & M'!$H$474","v":0.84391050586805472},{"$f":"(DA451+DA452)*'DNSP Inputs O & M'!$H$467","v":2.9183940176041645},null,{"$f":"'DNSP Inputs O & M'!$H$12","v":112.5214007824073},{"$f":"'DNSP Inputs O & M'!$H$472","v":2},{"$f":"'DNSP Inputs O & M'!$H$17","v":7.5},{"$f":"DD451*DE451*DF451","v":1687.8210117361095},{"$f":"DG451/'DNSP Inputs O & M'!$H$475","v":1.6878210117361094},{"$f":"(DH451+DH452)*'DNSP Inputs O & M'!$H$467","v":5.836788035208329}]
["Vehicle costs",{"$f":"'DNSP Inputs O & M'!$D$16","v":34.369999999999997},1,{"$f":"'DNSP Inputs O & M'!$D$17","v":7.5},{"$f":"B452*C452*D452","v":257.77499999999998},{"$f":"E452/'DNSP Inputs O & M'!$D$473","v":8.5924999999999987E-2},null,null,{"$f":"'DNSP Inputs O & M'!$D$16","v":34.369999999999997},1,{"$f":"'DNSP Inputs O & M'!$D$17","v":7.5},{"$f":"I452*J452*K452","v":257.77499999999998},{"$f":"L452/'DNSP Inputs O & M'!$D$474","v":0.12888749999999999},null,null,{"$f":"'DNSP Inputs O & M'!$D$16","v":34.369999999999997},1,{"$f":"'DNSP Inputs O & M'!$D$17","v":7.5},{"$f":"P452*Q452*R452","v":257.77499999999998},{"$f":"S452/'DNSP Inputs O & M'!$D$475","v":0.25777499999999998},null,null,null,null,{"$f":"'DNSP Inputs O & M'!$E$16","v":34.369999999999997},1,{"$f":"'DNSP Inputs O & M'!$E$17","v":7.5},{"$f":"Y452*Z452*AA452","v":257.77499999999998},{"$f":"AB452/'DNSP Inputs O & M'!$E$473","v":8.5924999999999987E-2},null,null,{"$f":"'DNSP Inputs O & M'!$E$16","v":34.369999999999997},1,{"$f":"'DNSP Inputs O & M'!$E$17","v":7.5},{"$f":"AF452*AG452*AH452","v":257.77499999999998},{"$f":"AI452/'DNSP Inputs O & M'!$E$474","v":0.12888749999999999},null,null,{"$f":"'DNSP Inputs O & M'!$E$16","v":34.369999999999997},1,{"$f":"'DNSP Inputs O & M'!$E$17","v":7.5},{"$f":"AM452*AN452*AO452","v":257.77499999999998},{"$f":"AP452/'DNSP Inputs O & M'!$E$475","v":0.25777499999999998},null,null,null,null,{"$f":"'DNSP Inputs O & M'!$F$16","v":34.369999999999997},1,{"$f":"'DNSP Inputs O & M'!$F$17","v":7.5},{"$f":"AV452*AW452*AX452","v":257.77499999999998},{"$f":"AY452/'DNSP Inputs O & M'!$F$473","v":8.5924999999999987E-2},null,null,{"$f":"'DNSP Inputs O & M'!$F$16","v":34.369999999999997},1,{"$f":"'DNSP Inputs O & M'!$F$17","v":7.5},{"$f":"BC452*BD452*BE452","v":257.77499999999998},{"$f":"BF452/'DNSP Inputs O & M'!$F$474","v":0.12888749999999999},null,null,{"$f":"'DNSP Inputs O & M'!$F$16","v":34.369999999999997},1,{"$f":"'DNSP Inputs O & M'!$F$17","v":7.5},{"$f":"BJ452*BK452*BL452","v":257.77499999999998},{"$f":"BM452/'DNSP Inputs O & M'!$F$475","v":0.25777499999999998},null,null,null,null,{"$f":"'DNSP Inputs O & M'!$G$16","v":34.369999999999997},1,{"$f":"'DNSP Inputs O & M'!$G$17","v":7.5},{"$f":"BS452*BT452*BU452","v":257.77499999999998},{"$f":"BV452/'DNSP Inputs O & M'!$G$473","v":8.5924999999999987E-2},null,null,{"$f":"'DNSP Inputs O & M'!$G$16","v":34.369999999999997},1,{"$f":"'DNSP Inputs O & M'!$G$17","v":7.5},{"$f":"BZ452*CA452*CB452","v":257.77499999999998},{"$f":"CC452/'DNSP Inputs O & M'!$G$474","v":0.12888749999999999},null,null,{"$f":"'DNSP Inputs O & M'!$G$16","v":34.369999999999997},1,{"$f":"'DNSP Inputs O & M'!$G$17","v":7.5},{"$f":"CG452*CH452*CI452","v":257.77499999999998},{"$f":"CJ452/'DNSP Inputs O & M'!$G$475","v":0.25777499999999998},null,null,null,null,{"$f":"'DNSP Inputs O & M'!$H$16","v":34.369999999999997},1,{"$f":"'DNSP Inputs O & M'!$H$17","v":7.5},{"$f":"CP452*CQ452*CR452","v":257.77499999999998},{"$f":"CS452/'DNSP Inputs O & M'!$H$473","v":8.5924999999999987E-2},null,null,{"$f":"'DNSP Inputs O & M'!$H$16","v":34.369999999999997},1,{"$f":"'DNSP Inputs O & M'!$H$17","v":7.5},{"$f":"CW452*CX452*CY452","v":257.77499999999998},{"$f":"CZ452/'DNSP Inputs O & M'!$H$474","v":0.12888749999999999},null,null,{"$f":"'DNSP Inputs O & M'!$H$16","v":34.369999999999997},1,{"$f":"'DNSP Inputs O & M'!$H$17","v":7.5},{"$f":"DD452*DE452*DF452","v":257.77499999999998},{"$f":"DG452/'DNSP Inputs O & M'!$H$475","v":0.25777499999999998}]
["Labour - repair of faults"]
["Crew costs",{"$f":"'DNSP Inputs O & M'!$D$12","v":111.36223236834823},{"$f":"'DNSP Inputs O & M'!$D$472","v":2},{"$f":"'DNSP Inputs O & M'!$D$17","v":7.5},{"$f":"B454*C454*D454","v":1670.4334855252234},{"$f":"(E454+E455)/'DNSP Inputs O & M'!$D$476","v":136.45223236834823},{"$f":"F454/'DNSP Inputs O & M'!$D$468","v":13.645223236834823},null,{"$f":"'DNSP Inputs O & M'!$D$12","v":111.36223236834823},{"$f":"'DNSP Inputs O & M'!$D$472","v":2},{"$f":"'DNSP Inputs O & M'!$D$17","v":7.5},{"$f":"I454*J454*K454","v":1670.4334855252234},{"$f":"(L454+L455)/'DNSP Inputs O & M'!$D$477","v":195.24849868411121},{"$f":"M454/'DNSP Inputs O & M'!$D$468","v":19.52484986841112},null,{"$f":"'DNSP Inputs O & M'!$D$12","v":111.36223236834823},{"$f":"'DNSP Inputs O & M'!$D$472","v":2},{"$f":"'DNSP Inputs O & M'!$D$17","v":7.5},{"$f":"P454*Q454*R454","v":1670.4334855252234},{"$f":"(S454+S455)/'DNSP Inputs O & M'!$D$478","v":238.63705394724704},{"$f":"T454/'DNSP Inputs O & M'!$D$468","v":23.863705394724704},null,null,null,{"$f":"'DNSP Inputs O & M'!$E$12","v":111.08407886363248},{"$f":"'DNSP Inputs O & M'!$E$472","v":2},{"$f":"'DNSP Inputs O & M'!$E$17","v":7.5},{"$f":"Y454*Z454*AA454","v":1666.2611829544874},{"$f":"(AB454+AB455)/'DNSP Inputs O & M'!$E$476","v":136.1740788636325},{"$f":"AC454/'DNSP Inputs O & M'!$E$468","v":13.61740788636325},null,{"$f":"'DNSP Inputs O & M'!$E$12","v":111.08407886363248},{"$f":"'DNSP Inputs O & M'!$E$472","v":2},{"$f":"'DNSP Inputs O & M'!$E$17","v":7.5},{"$f":"AF454*AG454*AH454","v":1666.2611829544874},{"$f":"(AI454+AI455)/'DNSP Inputs O & M'!$E$477","v":194.86919845040794},{"$f":"AJ454/'DNSP Inputs O & M'!$E$468","v":19.486919845040795},null,{"$f":"'DNSP Inputs O & M'!$E$12","v":111.08407886363248},{"$f":"'DNSP Inputs O & M'!$E$472","v":2},{"$f":"'DNSP Inputs O & M'!$E$17","v":7.5},{"$f":"AM454*AN454*AO454","v":1666.2611829544874},{"$f":"(AP454+AP455)/'DNSP Inputs O & M'!$E$478","v":238.17346477272082},{"$f":"AQ454/'DNSP Inputs O & M'!$E$468","v":23.817346477272082},null,null,null,{"$f":"'DNSP Inputs O & M'!$F$12","v":111.00339776810097},{"$f":"'DNSP Inputs O & M'!$F$472","v":2},{"$f":"'DNSP Inputs O & M'!$F$17","v":7.5},{"$f":"AV454*AW454*AX454","v":1665.0509665215145},{"$f":"(AY454+AY455)/'DNSP Inputs O & M'!$F$476","v":136.09339776810097},{"$f":"AZ454/'DNSP Inputs O & M'!$F$468","v":13.609339776810097},null,{"$f":"'DNSP Inputs O & M'!$F$12","v":111.00339776810097},{"$f":"'DNSP Inputs O & M'!$F$472","v":2},{"$f":"'DNSP Inputs O & M'!$F$17","v":7.5},{"$f":"BC454*BD454*BE454","v":1665.0509665215145},{"$f":"(BF454+BF455)/'DNSP Inputs O & M'!$F$477","v":194.75917877468316},{"$f":"BG454/'DNSP Inputs O & M'!$F$468","v":19.475917877468316},null,{"$f":"'DNSP Inputs O & M'!$F$12","v":111.00339776810097},{"$f":"'DNSP Inputs O & M'!$F$472","v":2},{"$f":"'DNSP Inputs O & M'!$F$17","v":7.5},{"$f":"BJ454*BK454*BL454","v":1665.0509665215145},{"$f":"(BM454+BM455)/'DNSP Inputs O & M'!$F$478","v":238.03899628016831},{"$f":"BN454/'DNSP Inputs O & M'!$F$468","v":23.803899628016829},null,null,null,{"$f":"'DNSP Inputs O & M'!$G$12","v":111.41108530292857},{"$f":"'DNSP Inputs O & M'!$G$472","v":2},{"$f":"'DNSP Inputs O & M'!$G$17","v":7.5},{"$f":"BS454*BT454*BU454","v":1671.1662795439286},{"$f":"(BV454+BV455)/'DNSP Inputs O & M'!$G$476","v":136.50108530292857},{"$f":"BW454/'DNSP Inputs O & M'!$G$468","v":13.650108530292858},null,{"$f":"'DNSP Inputs O & M'!$G$12","v":111.41108530292857},{"$f":"'DNSP Inputs O & M'!$G$472","v":2},{"$f":"'DNSP Inputs O & M'!$G$17","v":7.5},{"$f":"BZ454*CA454*CB454","v":1671.1662795439286},{"$f":"(CC454+CC455)/'DNSP Inputs O & M'!$G$477","v":195.31511632217533},{"$f":"CD454/'DNSP Inputs O & M'!$G$468","v":19.531511632217534},null,{"$f":"'DNSP Inputs O & M'!$G$12","v":111.41108530292857},{"$f":"'DNSP Inputs O & M'!$G$472","v":2},{"$f":"'DNSP Inputs O & M'!$G$17","v":7.5},{"$f":"CG454*CH454*CI454","v":1671.1662795439286},{"$f":"(CJ454+CJ455)/'DNSP Inputs O & M'!$G$478","v":238.71847550488096},{"$f":"CK454/'DNSP Inputs O & M'!$G$468","v":23.871847550488095},null,null,null,{"$f":"'DNSP Inputs O & M'!$H$12","v":112.5214007824073},{"$f":"'DNSP Inputs O & M'!$H$472","v":2},{"$f":"'DNSP Inputs O & M'!$H$17","v":7.5},{"$f":"CP454*CQ454*CR454","v":1687.8210117361095},{"$f":"(CS454+CS455)/'DNSP Inputs O & M'!$H$476","v":137.61140078240729},{"$f":"CT454/'DNSP Inputs O & M'!$H$468","v":13.761140078240729},null,{"$f":"'DNSP Inputs O & M'!$H$12","v":112.5214007824073},{"$f":"'DNSP Inputs O & M'!$H$472","v":2},{"$f":"'DNSP Inputs O & M'!$H$17","v":7.5},{"$f":"CW454*CX454*CY454","v":1687.8210117361095},{"$f":"(CZ454+CZ455)/'DNSP Inputs O & M'!$H$477","v":196.82918288510089},{"$f":"DA454/'DNSP Inputs O & M'!$H$468","v":19.682918288510088},null,{"$f":"'DNSP Inputs O & M'!$H$12","v":112.5214007824073},{"$f":"'DNSP Inputs O & M'!$H$472","v":2},{"$f":"'DNSP Inputs O & M'!$H$17","v":7.5},{"$f":"DD454*DE454*DF454","v":1687.8210117361095},{"$f":"(DG454+DG455)/'DNSP Inputs O & M'!$H$478","v":240.5690013040122},{"$f":"DH454/'DNSP Inputs O & M'!$H$468","v":24.056900130401221}]
["Elevated platform vehicle costs",{"$f":"'DNSP Inputs O & M'!$D$14","v":50.18},1,{"$f":"'DNSP Inputs O & M'!$D$17","v":7.5},{"$f":"B455*C455*D455","v":376.35},null,null,null,{"$f":"'DNSP Inputs O & M'!$D$15","v":63.64},1,{"$f":"'DNSP Inputs O & M'!$D$17","v":7.5},{"$f":"I455*J455*K455","v":477.3},null,null,null,{"$f":"'DNSP Inputs O & M'!$D$15","v":63.64},1,{"$f":"'DNSP Inputs O & M'!$D$17","v":7.5},{"$f":"P455*Q455*R455","v":477.3},null,null,null,null,null,{"$f":"'DNSP Inputs O & M'!$E$14","v":50.18},1,{"$f":"'DNSP Inputs O & M'!$E$17","v":7.5},{"$f":"Y455*Z455*AA455","v":376.35},null,null,null,{"$f":"'DNSP Inputs O & M'!$E$15","v":63.64},1,{"$f":"'DNSP Inputs O & M'!$E$17","v":7.5},{"$f":"AF455*AG455*AH455","v":477.3},null,null,null,{"$f":"'DNSP Inputs O & M'!$E$15","v":63.64},1,{"$f":"'DNSP Inputs O & M'!$E$17","v":7.5},{"$f":"AM455*AN455*AO455","v":477.3},null,null,null,null,null,{"$f":"'DNSP Inputs O & M'!$F$14","v":50.18},1,{"$f":"'DNSP Inputs O & M'!$F$17","v":7.5},{"$f":"AV455*AW455*AX455","v":376.35},null,null,null,{"$f":"'DNSP Inputs O & M'!$F$15","v":63.64},1,{"$f":"'DNSP Inputs O & M'!$F$17","v":7.5},{"$f":"BC455*BD455*BE455","v":477.3},null,null,null,{"$f":"'DNSP Inputs O & M'!$F$15","v":63.64},1,{"$f":"'DNSP Inputs O & M'!$F$17","v":7.5},{"$f":"BJ455*BK455*BL455","v":477.3},null,null,null,null,null,{"$f":"'DNSP Inputs O & M'!$G$14","v":50.18},1,{"$f":"'DNSP Inputs O & M'!$G$17","v":7.5},{"$f":"BS455*BT455*BU455","v":376.35},null,null,null,{"$f":"'DNSP Inputs O & M'!$G$15","v":63.64},1,{"$f":"'DNSP Inputs O & M'!$G$17","v":7.5},{"$f":"BZ455*CA455*CB455","v":477.3},null,null,null,{"$f":"'DNSP Inputs O & M'!$G$15","v":63.64},1,{"$f":"'DNSP Inputs O & M'!$G$17","v":7.5},{"$f":"CG455*CH455*CI455","v":477.3},null,null,null,null,null,{"$f":"'DNSP Inputs O & M'!$H$14","v":50.18},1,{"$f":"'DNSP Inputs O & M'!$H$17","v":7.5},{"$f":"CP455*CQ455*CR455","v":376.35},null,null,null,{"$f":"'DNSP Inputs O & M'!$H$15","v":63.64},1,{"$f":"'DNSP Inputs O & M'!$H$17","v":7.5},{"$f":"CW455*CX455*CY455","v":477.3},null,null,null,{"$f":"'DNSP Inputs O & M'!$H$15","v":63.64},1,{"$f":"'DNSP Inputs O & M'!$H$17","v":7.5},{"$f":"DD455*DE455*DF455","v":477.3}]
["Other Maintenance and Repair costs",null,null,null,null,null,{"$f":"'DNSP Inputs O & M'!$D$442","v":2.1},null,null,null,null,null,null,{"$f":"'DNSP Inputs O & M'!$D$442","v":2.1},null,null,null,null,null,null,{"$f":"'DNSP Inputs O & M'!$D$442","v":2.1},null,null,null,null,null,null,null,null,{"$f":"'DNSP Inputs O & M'!$E$442","v":2.1},null,null,null,null,null,null,{"$f":"'DNSP Inputs O & M'!$E$442","v":2.1},null,null,null,null,null,null,{"$f":"'DNSP Inputs O & M'!$E$442","v":2.1},null,null,null,null,null,null,null,null,{"$f":"'DNSP Inputs O & M'!$F$442","v":2.1},null,null,null,null,null,null,{"$f":"'DNSP Inputs O & M'!$F$442","v":2.1},null,null,null,null,null,null,{"$f":"'DNSP Inputs O & M'!$F$442","v":2.1},null,null,null,null,null,null,null,null,{"$f":"'DNSP Inputs O & M'!$G$442","v":2.1},null,null,null,null,null,null,{"$f":"'DNSP Inputs O & M'!$G$442","v":2.1},null,null,null,null,null,null,{"$f":"'DNSP Inputs O & M'!$G$442","v":2.1},null,null,null,null,null,null,null,null,{"$f":"'DNSP Inputs O & M'!$H$442","v":2.1},null,null,null,null,null,null,{"$f":"'DNSP Inputs O & M'!$H$442","v":2.1},null,null,null,null,null,null,{"$f":"'DNSP Inputs O & M'!$H$442","v":2.1}]
[]
["Overheads",{"$f":"'DNSP Inputs O & M'!$D$18","v":0.25},null,null,null,null,{"$f":"B458*SUM(G445:G456)","v":4.4780835949991449},null,{"$f":"'DNSP Inputs O & M'!$D$18","v":0.25},null,null,null,null,{"$f":"I458*SUM(N445:N456)","v":6.1982737915672876},null,{"$f":"'DNSP Inputs O & M'!$D$18","v":0.25},null,null,null,null,{"$f":"P458*SUM(U445:U456)","v":8.0499642185583546},null,null,null,{"$f":"'DNSP Inputs O & M'!$E$18","v":0.25},null,null,null,null,{"$f":"Y458*SUM(AD445:AD456)","v":4.4700866817385672},null,{"$f":"'DNSP Inputs O & M'!$E$18","v":0.25},null,null,null,null,{"$f":"AF458*SUM(AK445:AK456)","v":6.1872266722606799},null,{"$f":"'DNSP Inputs O & M'!$E$18","v":0.25},null,null,null,null,{"$f":"AM458*SUM(AR445:AR456)","v":8.0352452622671464},null,null,null,{"$f":"'DNSP Inputs O & M'!$F$18","v":0.25},null,null,null,null,{"$f":"AV458*SUM(BA445:BA456)","v":4.4677671002420363},null,{"$f":"'DNSP Inputs O & M'!$F$18","v":0.25},null,null,null,null,{"$f":"BC458*SUM(BH445:BH456)","v":6.1840223492051951},null,{"$f":"'DNSP Inputs O & M'!$F$18","v":0.25},null,null,null,null,{"$f":"BJ458*SUM(BO445:BO456)","v":8.0309758876286033},null,null,null,{"$f":"'DNSP Inputs O & M'!$G$18","v":0.25},null,null,null,null,{"$f":"BS458*SUM(BX445:BX456)","v":4.47948811686833},null,{"$f":"'DNSP Inputs O & M'!$G$18","v":0.25},null,null,null,null,{"$f":"BZ458*SUM(CE445:CE456)","v":6.2002140302759052},null,{"$f":"'DNSP Inputs O & M'!$G$18","v":0.25},null,null,null,null,{"$f":"CG458*SUM(CL445:CL456)","v":8.0525493530132302},null,null,null,{"$f":"'DNSP Inputs O & M'!$H$18","v":0.25},null,null,null,null,{"$f":"CP458*SUM(CU445:CU456)","v":4.5114096869033427},null,{"$f":"'DNSP Inputs O & M'!$H$18","v":0.25},null,null,null,null,{"$f":"CW458*SUM(DB445:DB456)","v":6.2443112189211121},null,{"$f":"'DNSP Inputs O & M'!$H$18","v":0.25},null,null,null,null,{"$f":"DD458*SUM(DI445:DI456)","v":8.1113035471356483}]
[]
[null,null,null,null,null,null,{"$f":"SUM(G445,G447,G451,G454,G456,G458)","v":22.390417974995724},null,null,null,null,null,null,{"$f":"SUM(N445,N447,N451,N454,N456,N458)","v":30.991368957836439},null,null,null,null,null,null,{"$f":"SUM(U445,U447,U451,U454,U456,U458)","v":40.249821092791777},null,null,null,null,null,null,null,null,{"$f":"SUM(AD445,AD447,AD451,AD454,AD456,AD458)","v":22.350433408692837},null,null,null,null,null,null,{"$f":"SUM(AK445,AK447,AK451,AK454,AK456,AK458)","v":30.936133361303398},null,null,null,null,null,null,{"$f":"SUM(AR445,AR447,AR451,AR454,AR456,AR458)","v":40.176226311335732},null,null,null,null,null,null,null,null,{"$f":"SUM(BA445,BA447,BA451,BA454,BA456,BA458)","v":22.33883550121018},null,null,null,null,null,null,{"$f":"SUM(BH445,BH447,BH451,BH454,BH456,BH458)","v":30.920111746025974},null,null,null,null,null,null,{"$f":"SUM(BO445,BO447,BO451,BO454,BO456,BO458)","v":40.154879438143013},null,null,null,null,null,null,null,null,{"$f":"SUM(BX445,BX447,BX451,BX454,BX456,BX458)","v":22.397440584341652},null,null,null,null,null,null,{"$f":"SUM(CE445,CE447,CE451,CE454,CE456,CE458)","v":31.001070151379526},null,null,null,null,null,null,{"$f":"SUM(CL445,CL447,CL451,CL454,CL456,CL458)","v":40.262746765066154},null,null,null,null,null,null,null,null,{"$f":"SUM(CU445,CU447,CU451,CU454,CU456,CU458)","v":22.557048434516712},null,null,null,null,null,null,{"$f":"SUM(DB445,DB447,DB451,DB454,DB456,DB458)","v":31.22155609460556},null,null,null,null,null,null,{"$f":"SUM(DI445,DI447,DI451,DI454,DI456,DI458)","v":40.556517735678241}]

{"sheet":"Capex 2022-2026","index":12,"n_rows":207,"n_cols":94,"rows_kept":207,"cut":false,"hidden":false,"merged":[[51,1,51,5],[51,7,51,11],[51,20,51,24],[51,26,51,30],[51,89,51,93],[51,13,51,17],[51,32,51,36],[51,51,51,55],[51,70,51,74],[51,77,51,81],[51,83,51,87],[51,39,51,43],[51,45,51,49],[51,58,51,62],[51,64,51,68]]}
[{"$f":"'DNSP Inputs O & M'!$A$3","v":"AusNet"}]
[]
["Public Lighting Capex Costs"]
[{"$f":"'DNSP Inputs Capex'!$C$5","v":"Real 2021 $ "}]
[]
["Summary",{"$f":"'DNSP Inputs General'!Q$2","v":"2022-06-30"},{"$f":"'DNSP Inputs General'!R$2","v":"2023-06-30"},{"$f":"'DNSP Inputs General'!S$2","v":"2024-06-30"},{"$f":"'DNSP Inputs General'!T$2","v":"2025-06-30"},{"$f":"'DNSP Inputs General'!U$2","v":"2026-06-30"}]
[]
["Existing Lights Luminaires - Real 2015 $ "]
["MV 80",{"$f":"SUM(F66,L66,R66)","v":1840623.5877024084},{"$f":"SUM(Y66,AE66,AK66)","v":1838637.8411982269},{"$f":"SUM(AR66,AX66,BD66)","v":1837933.0371918278},{"$f":"SUM(BK66,BQ66,BW66)","v":920357.15201862995},{"$f":"SUM(CD66,CJ66,CP66)","v":0}]
["S-HP 150 ",{"$f":"SUM(F79,L79,R79)","v":0},{"$f":"SUM(Y79,AE79,AK79)","v":0},{"$f":"SUM(AR79,AX79,BD79)","v":0},{"$f":"SUM(BK79,BQ79,BW79)","v":0},{"$f":"SUM(CD79,CJ79,CP79)","v":0}]
["S-HP 250 ",{"$f":"SUM(F92,L92,R92)","v":0},{"$f":"SUM(Y92,AE92,AK92)","v":0},{"$f":"SUM(AR92,AX92,BD92)","v":0},{"$f":"SUM(BK92,BQ92,BW92)","v":0},{"$f":"SUM(CD92,CJ92,CP92)","v":0}]
["Other Light types (excluding T5s)",{"$f":"'DNSP Inputs Capex'!D103","v":0},{"$f":"'DNSP Inputs Capex'!E103","v":0},{"$f":"'DNSP Inputs Capex'!F103","v":0},{"$f":"'DNSP Inputs Capex'!G103","v":0},{"$f":"'DNSP Inputs Capex'!H103","v":0}]
[null,{"$f":"SUM(B9:B12)","v":1840623.5877024084},{"$f":"SUM(C9:C12)","v":1838637.8411982269},{"$f":"SUM(D9:D12)","v":1837933.0371918278},{"$f":"SUM(E9:E12)","v":920357.15201862995},{"$f":"SUM(F9:F12)","v":0}]
[]
["Energy Efficient Luminaires - Real 2015 $ "]
[{"$f":"A119","v":"T5 (2 X 14W)"},{"$f":"SUM(F129,L129,R129)","v":174353.57574560036},{"$f":"SUM(Y129,AE129,AK129)","v":174233.18200440382},{"$f":"SUM(AR129,AX129,BD129)","v":174198.2606434639},{"$f":"SUM(BK129,BQ129,BW129)","v":174374.72085958545},{"$f":"SUM(CD129,CJ129,CP129)","v":174855.30094294454}]
[{"$f":"A132","v":"T5 (2x24W)"},{"$f":"SUM(F142,L142,R142)","v":17129.657930253958},{"$f":"SUM(Y142,AE142,AK142)","v":17117.141022541749},{"$f":"SUM(AR142,AX142,BD142)","v":17113.510373242829},{"$f":"SUM(BK142,BQ142,BW142)","v":17131.856312310076},{"$f":"SUM(CD142,CJ142,CP142)","v":17181.820508886616}]
[{"$f":"A145","v":"LED 18W"},{"$f":"SUM(F155,L155,R155)","v":231261.28079541927},{"$f":"SUM(Y155,AE155,AK155)","v":207267.36979075818},{"$f":"SUM(AR155,AX155,BD155)","v":183726.91780851208},{"$f":"SUM(BK155,BQ155,BW155)","v":167888.4861591277},{"$f":"SUM(CD155,CJ155,CP155)","v":163996.79206547071}]
[{"$f":"A158","v":"LED 14W"},{"$f":"SUM(F168,L168,R168)","v":0},{"$f":"SUM(Y168,AE168,AK168)","v":0},{"$f":"SUM(AR168,AX168,BD168)","v":332.58756040759465},{"$f":"SUM(BK168,BQ168,BW168)","v":380.51663688799454},{"$f":"SUM(CD168,CJ168,CP168)","v":334.01068823350687}]
[{"$f":"A171","v":"LED 70W-125W (L1)"},{"$f":"SUM(F181,L181,R181)","v":9273.0919501408425},{"$f":"SUM(Y181,AE181,AK181)","v":11895.168377558472},{"$f":"SUM(AR181,AX181,BD181)","v":14575.215689790481},{"$f":"SUM(BK181,BQ181,BW181)","v":16776.152854601361},{"$f":"SUM(CD181,CJ181,CP181)","v":17896.540081691346}]
[{"$f":"A184","v":"LED 155W-250W (L2)"},{"$f":"SUM(F194,L194,R194)","v":741460.55920632533},{"$f":"SUM(Y194,AE194,AK194)","v":731359.64023914991},{"$f":"SUM(AR194,AX194,BD194)","v":717178.82083778619},{"$f":"SUM(BK194,BQ194,BW194)","v":806426.21900172287},{"$f":"SUM(CD194,CJ194,CP194)","v":903931.14461726847}]
[{"$f":"A197","v":"LED 275W-400W (L4)"},{"$f":"SUM(F207,L207,R207)","v":10768.896540314921},{"$f":"SUM(Y207,AE207,AK207)","v":11469.389388516143},{"$f":"SUM(AR207,AX207,BD207)","v":12180.458497868201},{"$f":"SUM(BK207,BQ207,BW207)","v":12746.853491975979},{"$f":"SUM(CD207,CJ207,CP207)","v":12966.754176461738}]
[null,{"$f":"SUM(B16:B22)","v":1184247.0621680547},{"$f":"SUM(C16:C22)","v":1153341.8908229282},1119305.7714110713,1195724.8053162114,1291162.363080957]
[]
["Poles & Brackets - Real 2015 $ "]
["Dedicated poles",{"$f":"SUM(F105,L105,R105)","v":2111561.8551770328},{"$f":"SUM(Y105,AE105,AK105)","v":2110212.8751633354},{"$f":"SUM(AR105,AX105,BD105)","v":2110074.3293351065},{"$f":"SUM(BK105,BQ105,BW105)","v":2112929.305932309},{"$f":"SUM(CD105,CJ105,CP105)","v":2120091.1367750475}]
["Brackets",{"$f":"SUM(F115,L115,R115)","v":202105.84260533049},{"$f":"SUM(Y115,AE115,AK115)","v":201829.7185695938},{"$f":"SUM(AR115,AX115,BD115)","v":201749.62614103142},{"$f":"SUM(BK115,BQ115,BW115)","v":202154.33909818495},{"$f":"SUM(CD115,CJ115,CP115)","v":203256.55347239485}]
[null,{"$f":"SUM(B26:B27)","v":2313667.6977823633},{"$f":"SUM(C26:C27)","v":2312042.5937329293},{"$f":"SUM(D26:D27)","v":2311823.9554761378},{"$f":"SUM(E26:E27)","v":2315083.6450304938},{"$f":"SUM(F26:F27)","v":2323347.6902474426}]
[]
[]
["Customer Contributions - Real 2015 $ "]
["MV80 Lights replaced with T5 Energy Efficient Lights"]
["SP AusNet - Central"]
["WDV RAB - MV 80 Luminaire",{"$f":"'Charges Summary'!D34/'Charges Summary'!D$4","v":108.29140850652894},{"$f":"'Charges Summary'!E34/'Charges Summary'!E$4","v":117.93451292267204},{"$f":"'Charges Summary'!F34/'Charges Summary'!F$4","v":128.56783743112152},{"$f":"'Charges Summary'!G34/'Charges Summary'!G$4","v":97.361312245488008},{"$f":"'Charges Summary'!H34/'Charges Summary'!H$4","v":98.04529681683826}]
["Number of Lights MV80 replaced with T5",{"$f":"'DNSP Inputs Capex'!D37","v":0},{"$f":"'DNSP Inputs Capex'!E37","v":0},{"$f":"'DNSP Inputs Capex'!F37","v":0},{"$f":"'DNSP Inputs Capex'!G37","v":0},{"$f":"'DNSP Inputs Capex'!H37","v":0}]
[null,{"$f":"B34*B35","v":0},{"$f":"C34*C35","v":0},{"$f":"D34*D35","v":0},{"$f":"E34*E35","v":0},{"$f":"F34*F35","v":0}]
["SP AusNet - North/East"]
["WDV RAB - MV 80 Luminaire",{"$f":"'Charges Summary'!K34/'Charges Summary'!K$4","v":119.00781607456901},{"$f":"'Charges Summary'!L34/'Charges Summary'!L$4","v":129.60519228909146},{"$f":"'Charges Summary'!M34/'Charges Summary'!M$4","v":141.29077976842015},{"$f":"'Charges Summary'!N34/'Charges Summary'!N$4","v":97.361312245488023},{"$f":"'Charges Summary'!O34/'Charges Summary'!O$4","v":98.045296816838245}]
["Number of Lights MV80 replaced with T5",{"$f":"'DNSP Inputs Capex'!D38","v":0},{"$f":"'DNSP Inputs Capex'!E38","v":0},{"$f":"'DNSP Inputs Capex'!F38","v":0},{"$f":"'DNSP Inputs Capex'!G38","v":0},{"$f":"'DNSP Inputs Capex'!H38","v":0}]
[null,{"$f":"B38*B39","v":0},{"$f":"C38*C39","v":0},{"$f":"D38*D39","v":0},{"$f":"E38*E39","v":0},{"$f":"F38*F39","v":0}]
[]
["Total",{"$f":"SUM(B36,B40)","v":0},{"$f":"SUM(C36,C40)","v":0},{"$f":"SUM(D36,D40)","v":0},{"$f":"SUM(E36,E40)","v":0},{"$f":"SUM(F36,F40)","v":0}]
[]
[]
[]
[]
["Detailed calculations"]
[]
["Public Lighting Capex Costs","Year",{"$f":"'DNSP Inputs General'!$Q2","v":"2022-06-30"},null,null,null,null,null,null,null,null,null,null,null,null,null,null,null,null,null,"Year",{"$f":"'DNSP Inputs General'!$R2","v":"2023-06-30"},null,null,null,null,null,null,null,null,null,null,null,null,null,null,null,null,null,"Year",{"$f":"'DNSP Inputs General'!$S2","v":"2024-06-30"},null,null,null,null,null,null,null,null,null,null,null,null,null,null,null,null,null,"Year",{"$f":"'DNSP Inputs General'!$T2","v":"2025-06-30"},null,null,null,null,null,null,null,null,null,null,null,null,null,null,null,null,null,"Year",{"$f":"'DNSP Inputs General'!$U2","v":"2026-06-30"}]
[{"$f":"'DNSP Inputs Capex'!$C$5","v":"Real 2021 $ "}]
[]
[null,"Urban",null,null,null,null,null,"Rural",null,null,null,null,null,"Remote",null,null,null,null,null,null,"Urban",null,null,null,null,null,"Rural",null,null,null,null,null,"Remote",null,null,null,null,null,null,"Urban",null,null,null,null,null,"Rural",null,null,null,null,null,"Remote",null,null,null,null,null,null,"Urban",null,null,null,null,null,"Rural",null,null,null,null,null,"Remote",null,null,null,null,null,null,"Urban",null,null,null,null,null,"Rural",null,null,null,null,null,"Remote"]
[]
[null,"Unit rate","Number","Hours","Cost","Annualised",null,"Unit rate","Number","Hours","Cost","Annualised",null,"Unit rate","Number","Hours","Cost","Annualised",null,null,"Unit rate","Number","Hours","Cost","Annualised",null,"Unit rate","Number","Hours","Cost","Annualised",null,"Unit rate","Number","Hours","Cost","Annualised",null,null,"Unit rate","Number","Hours","Cost","Annualised",null,"Unit rate","Number","Hours","Cost","Annualised",null,"Unit rate","Number","Hours","Cost","Annualised",null,null,"Unit rate","Number","Hours","Cost","Annualised",null,"Unit rate","Number","Hours","Cost","Annualised",null,"Unit rate","Number","Hours","Cost","Annualised",null,null,"Unit rate","Number","Hours","Cost","Annualised",null,"Unit rate","Number","Hours","Cost","Annualised",null,"Unit rate","Number","Hours","Cost","Annualised"]
[null,null,null,null,null," cost",null,null,null,null,null," cost",null,null,null,null,null," cost",null,null,null,null,null,null," cost",null,null,null,null,null," cost",null,null,null,null,null," cost",null,null,null,null,null,null," cost",null,null,null,null,null," cost",null,null,null,null,null," cost",null,null,null,null,null,null," cost",null,null,null,null,null," cost",null,null,null,null,null," cost",null,null,null,null,null,null," cost",null,null,null,null,null," cost",null,null,null,null,null," cost"]
["MV80"]
["Luminaires "]
["Material & misc",{"$f":"'DNSP Inputs Capex'!$D$21+'DNSP Inputs Capex'!$D$22","v":118.1976456706921},{"$f":"'DNSP Inputs Capex'!$D$24","v":16},null,{"$f":"B58*C58","v":1891.1623307310736},{"$f":"(E58+E59+E60)/C58","v":246.12161351601856},null,{"$f":"('DNSP Inputs Capex'!$D$21+'DNSP Inputs Capex'!$D$22)*(1+'DNSP Inputs Capex'!$D$11)","v":124.10752795422671},{"$f":"'DNSP Inputs Capex'!$D$25","v":13},null,{"$f":"H58*I58","v":1613.3978634049472},{"$f":"(K58+K59+K60)/I58","v":289.31779607155164},null,{"$f":"('DNSP Inputs Capex'!$D$21+'DNSP Inputs Capex'!$D$22)*(1+'DNSP Inputs Capex'!$D$11)","v":124.10752795422671},{"$f":"'DNSP Inputs Capex'!$D$26","v":10},null,{"$f":"N58*O58","v":1241.075279542267},{"$f":"(Q58+Q59+Q60)/O58","v":338.88087650674908},null,null,{"$f":"'DNSP Inputs Capex'!$E$21+'DNSP Inputs Capex'!$E$22","v":118.1976456706921},{"$f":"'DNSP Inputs Capex'!$E$24","v":16},null,{"$f":"U58*V58","v":1891.1623307310736},{"$f":"(X58+X59+X60)/V58","v":245.86084460534755},null,{"$f":"('DNSP Inputs Capex'!$E$21+'DNSP Inputs Capex'!$E$22)*(1+'DNSP Inputs Capex'!$E$11)","v":124.10752795422671},{"$f":"'DNSP Inputs Capex'!$E$25","v":13},null,{"$f":"AA58*AB58","v":1613.3978634049472},{"$f":"(AD58+AD59+AD60)/AB58","v":288.99684971995651},null,{"$f":"('DNSP Inputs Capex'!$E$21+'DNSP Inputs Capex'!$E$22)*(1+'DNSP Inputs Capex'!$E$11)","v":124.10752795422671},{"$f":"'DNSP Inputs Capex'!$E$26","v":10},null,{"$f":"AG58*AH58","v":1241.075279542267},{"$f":"(AJ58+AJ59+AJ60)/AH58","v":338.46364624967543},null,null,{"$f":"'DNSP Inputs Capex'!$F$21+'DNSP Inputs Capex'!$F$22","v":118.1976456706921},{"$f":"'DNSP Inputs Capex'!$F$24","v":16},null,{"$f":"AN58*AO58","v":1891.1623307310736},{"$f":"(AQ58+AQ59+AQ60)/AO58","v":245.78520607828673},null,{"$f":"('DNSP Inputs Capex'!$F$21+'DNSP Inputs Capex'!$F$22)*(1+'DNSP Inputs Capex'!$F$11)","v":124.10752795422671},{"$f":"'DNSP Inputs Capex'!$F$25","v":13},null,{"$f":"AT58*AU58","v":1613.3978634049472},{"$f":"(AW58+AW59+AW60)/AU58","v":288.90375614818936},null,{"$f":"('DNSP Inputs Capex'!$F$21+'DNSP Inputs Capex'!$F$22)*(1+'DNSP Inputs Capex'!$F$11)","v":124.10752795422671},{"$f":"'DNSP Inputs Capex'!$F$26","v":10},null,{"$f":"AZ58*BA58","v":1241.075279542267},{"$f":"(BC58+BC59+BC60)/BA58","v":338.34262460637819},null,null,{"$f":"'DNSP Inputs Capex'!$G$21+'DNSP Inputs Capex'!$G$22","v":118.1976456706921},{"$f":"'DNSP Inputs Capex'!$G$24","v":16},null,{"$f":"BG58*BH58","v":1891.1623307310736},{"$f":"(BJ58+BJ59+BJ60)/BH58","v":246.16741314218763},null,{"$f":"('DNSP Inputs Capex'!$G$21+'DNSP Inputs Capex'!$G$22)*(1+'DNSP Inputs Capex'!$G$11)","v":124.10752795422671},{"$f":"'DNSP Inputs Capex'!$G$25","v":13},null,{"$f":"BM58*BN58","v":1613.3978634049472},{"$f":"(BP58+BP59+BP60)/BN58","v":289.37416484222126},null,{"$f":"('DNSP Inputs Capex'!$G$21+'DNSP Inputs Capex'!$G$22)*(1+'DNSP Inputs Capex'!$G$11)","v":124.10752795422671},{"$f":"'DNSP Inputs Capex'!$G$26","v":10},null,{"$f":"BS58*BT58","v":1241.075279542267},{"$f":"(BV58+BV59+BV60)/BT58","v":338.95415590861955},null,null,{"$f":"'DNSP Inputs Capex'!$H$21+'DNSP Inputs Capex'!$H$22","v":118.1976456706921},{"$f":"'DNSP Inputs Capex'!$H$24","v":16},null,{"$f":"BZ58*CA58","v":1891.1623307310736},{"$f":"(CC58+CC59+CC60)/CA58","v":247.20833390419895},null,{"$f":"('DNSP Inputs Capex'!$H$21+'DNSP Inputs Capex'!$H$22)*(1+'DNSP Inputs Capex'!$H$11)","v":124.10752795422671},{"$f":"'DNSP Inputs Capex'!$H$25","v":13},null,{"$f":"CF58*CG58","v":1613.3978634049472},{"$f":"(CI58+CI59+CI60)/CG58","v":290.65529808777359},null,{"$f":"('DNSP Inputs Capex'!$H$21+'DNSP Inputs Capex'!$H$22)*(1+'DNSP Inputs Capex'!$H$11)","v":124.10752795422671},{"$f":"'DNSP Inputs Capex'!$H$26","v":10},null,{"$f":"CL58*CM58","v":1241.075279542267},{"$f":"(CO58+CO59+CO60)/CM58","v":340.61962912783764}]
["Crew costs",{"$f":"'DNSP Inputs Capex'!$D$12","v":111.36223236834823},{"$f":"'DNSP Inputs Capex'!$D$23","v":2},{"$f":"'DNSP Inputs Capex'!$D$15","v":7.5},{"$f":"B59*C59*D59","v":1670.4334855252234},null,null,{"$f":"'DNSP Inputs Capex'!$D$12","v":111.36223236834823},{"$f":"'DNSP Inputs Capex'!$D$23","v":2},{"$f":"'DNSP Inputs Capex'!$D$15","v":7.5},{"$f":"H59*I59*J59","v":1670.4334855252234},null,null,{"$f":"'DNSP Inputs Capex'!$D$12","v":111.36223236834823},{"$f":"'DNSP Inputs Capex'!$D$23","v":2},{"$f":"'DNSP Inputs Capex'!$D$15","v":7.5},{"$f":"N59*O59*P59","v":1670.4334855252234},null,null,null,{"$f":"'DNSP Inputs Capex'!$E$12","v":111.08407886363248},{"$f":"'DNSP Inputs Capex'!$E$23","v":2},{"$f":"'DNSP Inputs Capex'!$E$15","v":7.5},{"$f":"U59*V59*W59","v":1666.2611829544874},null,null,{"$f":"'DNSP Inputs Capex'!$E$12","v":111.08407886363248},{"$f":"'DNSP Inputs Capex'!$E$23","v":2},{"$f":"'DNSP Inputs Capex'!$E$15","v":7.5},{"$f":"AA59*AB59*AC59","v":1666.2611829544874},null,null,{"$f":"'DNSP Inputs Capex'!$E$12","v":111.08407886363248},{"$f":"'DNSP Inputs Capex'!$E$23","v":2},{"$f":"'DNSP Inputs Capex'!$E$15","v":7.5},{"$f":"AG59*AH59*AI59","v":1666.2611829544874},null,null,null,{"$f":"'DNSP Inputs Capex'!$F$12","v":111.00339776810097},{"$f":"'DNSP Inputs Capex'!$F$23","v":2},{"$f":"'DNSP Inputs Capex'!$F$15","v":7.5},{"$f":"AN59*AO59*AP59","v":1665.0509665215145},null,null,{"$f":"'DNSP Inputs Capex'!$F$12","v":111.00339776810097},{"$f":"'DNSP Inputs Capex'!$F$23","v":2},{"$f":"'DNSP Inputs Capex'!$F$15","v":7.5},{"$f":"AT59*AU59*AV59","v":1665.0509665215145},null,null,{"$f":"'DNSP Inputs Capex'!$F$12","v":111.00339776810097},{"$f":"'DNSP Inputs Capex'!$F$23","v":2},{"$f":"'DNSP Inputs Capex'!$F$15","v":7.5},{"$f":"AZ59*BA59*BB59","v":1665.0509665215145},null,null,null,{"$f":"'DNSP Inputs Capex'!$G$12","v":111.41108530292857},{"$f":"'DNSP Inputs Capex'!$G$23","v":2},{"$f":"'DNSP Inputs Capex'!$G$15","v":7.5},{"$f":"BG59*BH59*BI59","v":1671.1662795439286},null,null,{"$f":"'DNSP Inputs Capex'!$G$12","v":111.41108530292857},{"$f":"'DNSP Inputs Capex'!$G$23","v":2},{"$f":"'DNSP Inputs Capex'!$G$15","v":7.5},{"$f":"BM59*BN59*BO59","v":1671.1662795439286},null,null,{"$f":"'DNSP Inputs Capex'!$G$12","v":111.41108530292857},{"$f":"'DNSP Inputs Capex'!$G$23","v":2},{"$f":"'DNSP Inputs Capex'!$G$15","v":7.5},{"$f":"BS59*BT59*BU59","v":1671.1662795439286},null,null,null,{"$f":"'DNSP Inputs Capex'!$H$12","v":112.5214007824073},{"$f":"'DNSP Inputs Capex'!$H$23","v":2},{"$f":"'DNSP Inputs Capex'!$H$15","v":7.5},{"$f":"BZ59*CA59*CB59","v":1687.8210117361095},null,null,{"$f":"'DNSP Inputs Capex'!$H$12","v":112.5214007824073},{"$f":"'DNSP Inputs Capex'!$H$23","v":2},{"$f":"'DNSP Inputs Capex'!$H$15","v":7.5},{"$f":"CF59*CG59*CH59","v":1687.8210117361095},null,null,{"$f":"'DNSP Inputs Capex'!$H$12","v":112.5214007824073},{"$f":"'DNSP Inputs Capex'!$H$23","v":2},{"$f":"'DNSP Inputs Capex'!$H$15","v":7.5},{"$f":"CL59*CM59*CN59","v":1687.8210117361095}]
["Elevated platform vehicle costs",{"$f":"'DNSP Inputs Capex'!$D$13","v":50.18},1,{"$f":"'DNSP Inputs Capex'!$D$15","v":7.5},{"$f":"B60*C60*D60","v":376.35},null,null,{"$f":"'DNSP Inputs Capex'!$D$14","v":63.64},1,{"$f":"'DNSP Inputs Capex'!$D$15","v":7.5},{"$f":"H60*I60*J60","v":477.3},null,null,{"$f":"'DNSP Inputs Capex'!$D$14","v":63.64},1,{"$f":"'DNSP Inputs Capex'!$D$15","v":7.5},{"$f":"N60*O60*P60","v":477.3},null,null,null,{"$f":"'DNSP Inputs Capex'!$E$13","v":50.18},1,{"$f":"'DNSP Inputs Capex'!$E$15","v":7.5},{"$f":"U60*V60*W60","v":376.35},null,null,{"$f":"'DNSP Inputs Capex'!$E$14","v":63.64},1,{"$f":"'DNSP Inputs Capex'!$E$15","v":7.5},{"$f":"AA60*AB60*AC60","v":477.3},null,null,{"$f":"'DNSP Inputs Capex'!$E$14","v":63.64},1,{"$f":"'DNSP Inputs Capex'!$E$15","v":7.5},{"$f":"AG60*AH60*AI60","v":477.3},null,null,null,{"$f":"'DNSP Inputs Capex'!$F$13","v":50.18},1,{"$f":"'DNSP Inputs Capex'!$F$15","v":7.5},{"$f":"AN60*AO60*AP60","v":376.35},null,null,{"$f":"'DNSP Inputs Capex'!$F$14","v":63.64},1,{"$f":"'DNSP Inputs Capex'!$F$15","v":7.5},{"$f":"AT60*AU60*AV60","v":477.3},null,null,{"$f":"'DNSP Inputs Capex'!$F$14","v":63.64},1,{"$f":"'DNSP Inputs Capex'!$F$15","v":7.5},{"$f":"AZ60*BA60*BB60","v":477.3},null,null,null,{"$f":"'DNSP Inputs Capex'!$G$13","v":50.18},1,{"$f":"'DNSP Inputs Capex'!$G$15","v":7.5},{"$f":"BG60*BH60*BI60","v":376.35},null,null,{"$f":"'DNSP Inputs Capex'!$G$14","v":63.64},1,{"$f":"'DNSP Inputs Capex'!$G$15","v":7.5},{"$f":"BM60*BN60*BO60","v":477.3},null,null,{"$f":"'DNSP Inputs Capex'!$G$14","v":63.64},1,{"$f":"'DNSP Inputs Capex'!$G$15","v":7.5},{"$f":"BS60*BT60*BU60","v":477.3},null,null,null,{"$f":"'DNSP Inputs Capex'!$H$13","v":50.18},1,{"$f":"'DNSP Inputs Capex'!$H$15","v":7.5},{"$f":"BZ60*CA60*CB60","v":376.35},null,null,{"$f":"'DNSP Inputs Capex'!$H$14","v":63.64},1,{"$f":"'DNSP Inputs Capex'!$H$15","v":7.5},{"$f":"CF60*CG60*CH60","v":477.3},null,null,{"$f":"'DNSP Inputs Capex'!$H$14","v":63.64},1,{"$f":"'DNSP Inputs Capex'!$H$15","v":7.5},{"$f":"CL60*CM60*CN60","v":477.3}]
[{"$f":"'DNSP Inputs Capex'!$A$28","v":"Other Capex unit costs Describe :………………………"},null,null,null,null,{"$f":"'DNSP Inputs Capex'!$D$28","v":0},null,null,null,null,null,{"$f":"'DNSP Inputs Capex'!$D$28","v":0},null,null,null,null,null,{"$f":"'DNSP Inputs Capex'!$D$28","v":0},null,null,null,null,null,null,{"$f":"'DNSP Inputs Capex'!$E$28","v":0},null,null,null,null,null,{"$f":"'DNSP Inputs Capex'!$E$28","v":0},null,null,null,null,null,{"$f":"'DNSP Inputs Capex'!$E$28","v":0},null,null,null,null,null,null,{"$f":"'DNSP Inputs Capex'!$F$28","v":0},null,null,null,null,null,{"$f":"'DNSP Inputs Capex'!$F$28","v":0},null,null,null,null,null,{"$f":"'DNSP Inputs Capex'!$F$28","v":0},null,null,null,null,null,null,{"$f":"'DNSP Inputs Capex'!$G$28","v":0},null,null,null,null,null,{"$f":"'DNSP Inputs Capex'!$G$28","v":0},null,null,null,null,null,{"$f":"'DNSP Inputs Capex'!$G$28","v":0},null,null,null,null,null,null,{"$f":"'DNSP Inputs Capex'!$H$28","v":0},null,null,null,null,null,{"$f":"'DNSP Inputs Capex'!$H$28","v":0},null,null,null,null,null,{"$f":"'DNSP Inputs Capex'!$H$28","v":0}]
[null,null,null,null,null,{"$f":"SUM(F58,F61)","v":246.12161351601856},null,null,null,null,null,{"$f":"SUM(L58,L61)","v":289.31779607155164},null,null,null,null,null,{"$f":"SUM(R58,R61)","v":338.88087650674908},null,null,null,null,null,null,{"$f":"SUM(Y58,Y61)","v":245.86084460534755},null,null,null,null,null,{"$f":"SUM(AE58,AE61)","v":288.99684971995651},null,null,null,null,null,{"$f":"SUM(AK58,AK61)","v":338.46364624967543},null,null,null,null,null,null,{"$f":"SUM(AR58,AR61)","v":245.78520607828673},null,null,null,null,null,{"$f":"SUM(AX58,AX61)","v":288.90375614818936},null,null,null,null,null,{"$f":"SUM(BD58,BD61)","v":338.34262460637819},null,null,null,null,null,null,{"$f":"SUM(BK58,BK61)","v":246.16741314218763},null,null,null,null,null,{"$f":"SUM(BQ58,BQ61)","v":289.37416484222126},null,null,null,null,null,{"$f":"SUM(BW58,BW61)","v":338.95415590861955},null,null,null,null,null,null,{"$f":"SUM(CD58,CD61)","v":247.20833390419895},null,null,null,null,null,{"$f":"SUM(CJ58,CJ61)","v":290.65529808777359},null,null,null,null,null,{"$f":"SUM(CP58,CP61)","v":340.61962912783764}]
[]
["Number of luminaires replaced",null,null,null,null,{"$f":"'DNSP Inputs Capex'!$D$31","v":5481.1572072765039},null,null,null,null,null,{"$f":"'DNSP Inputs Capex'!$D$32","v":1384.4305742837194},null,null,null,null,null,{"$f":"'DNSP Inputs Capex'!$D$33","v":268.6841768272796},null,null,null,null,null,null,{"$f":"'DNSP Inputs Capex'!$E$31","v":5481.1572072765002},null,null,null,null,null,{"$f":"'DNSP Inputs Capex'!$E$32","v":1384.4305742837184},null,null,null,null,null,{"$f":"'DNSP Inputs Capex'!$E$33","v":268.68417682727937},null,null,null,null,null,null,{"$f":"'DNSP Inputs Capex'!$F$31","v":5480.7730645609417},null,null,null,null,null,{"$f":"'DNSP Inputs Capex'!$F$32","v":1384.3335475245517},null,null,null,null,null,{"$f":"'DNSP Inputs Capex'!$F$33","v":268.66534630200698},null,null,null,null,null,null,{"$f":"'DNSP Inputs Capex'!$G$31","v":2740.1944609226907},null,null,null,null,null,{"$f":"'DNSP Inputs Capex'!$G$32","v":692.11826038269191},null,null,null,null,null,{"$f":"'DNSP Inputs Capex'!$G$33","v":134.32325788836718},null,null,null,null,null,null,{"$f":"'DNSP Inputs Capex'!$H$31","v":0},null,null,null,null,null,{"$f":"'DNSP Inputs Capex'!$H$32","v":0},null,null,null,null,null,{"$f":"'DNSP Inputs Capex'!$H$33","v":0}]
[]
["Capex",null,null,null,null,{"$f":"F62*F64","v":1349031.2557898473},null,null,null,null,null,{"$f":"L62*L64","v":400540.40256583825},null,null,null,null,null,{"$f":"R62*R64","v":91051.929346722871},null,null,null,null,null,null,{"$f":"Y62*Y64","v":1347601.9403956884},null,null,null,null,null,{"$f":"AE62*AE64","v":400096.07462398487},null,null,null,null,null,{"$f":"AK62*AK64","v":90939.826178553529},null,null,null,null,null,null,{"$f":"AR62*AR64","v":1347092.9371414343},null,null,null,null,null,{"$f":"AX62*AX64","v":399939.161641791},null,null,null,null,null,{"$f":"BD62*BD64","v":90900.938408602553},null,null,null,null,null,null,{"$f":"BK62*BK64","v":674546.58195189014},null,null,null,null,null,{"$f":"BQ62*BQ64","v":200281.14357029251},null,null,null,null,null,{"$f":"BW62*BW64","v":45529.426496447319},null,null,null,null,null,null,{"$f":"CD62*CD64","v":0},null,null,null,null,null,{"$f":"CJ62*CJ64","v":0},null,null,null,null,null,{"$f":"CP62*CP64","v":0}]
[]
[]
["S-HP 150"]
["Luminaires "]
["Material & misc",{"$f":"'DNSP Inputs Capex'!$D$44+'DNSP Inputs Capex'!$D$45","v":236.7652913413842},{"$f":"'DNSP Inputs Capex'!$D$47","v":16},null,{"$f":"B71*C71","v":3788.2446614621472},{"$f":"(E71+E72+E73)/C71","v":370.99863418671066},null,{"$f":"('DNSP Inputs Capex'!$D$44+'DNSP Inputs Capex'!$D$45)*(1+'DNSP Inputs Capex'!$D$11)","v":248.60355590845342},{"$f":"'DNSP Inputs Capex'!$D$48","v":13},null,{"$f":"H71*I71","v":3231.8462268098942},{"$f":"(K71+K72+K73)/I71","v":413.81382402577827},null,{"$f":"('DNSP Inputs Capex'!$D$44+'DNSP Inputs Capex'!$D$45)*(1+'DNSP Inputs Capex'!$D$11)","v":248.60355590845342},{"$f":"'DNSP Inputs Capex'!$D$49","v":10},null,{"$f":"N71*O71","v":2486.0355590845343},{"$f":"(Q71+Q72+Q73)/O71","v":463.37690446097577},null,null,{"$f":"'DNSP Inputs Capex'!$E$44+'DNSP Inputs Capex'!$E$45","v":236.7652913413842},{"$f":"'DNSP Inputs Capex'!$E$47","v":16},null,{"$f":"U71*V71","v":3788.2446614621472},{"$f":"(X71+X72+X73)/V71","v":370.73786527603966},null,{"$f":"('DNSP Inputs Capex'!$E$44+'DNSP Inputs Capex'!$E$45)*(1+'DNSP Inputs Capex'!$E$11)","v":248.60355590845342},{"$f":"'DNSP Inputs Capex'!$E$48","v":13},null,{"$f":"AA71*AB71","v":3231.8462268098942},{"$f":"(AD71+AD72+AD73)/AB71","v":413.49287767418321},null,{"$f":"('DNSP Inputs Capex'!$E$44+'DNSP Inputs Capex'!$E$45)*(1+'DNSP Inputs Capex'!$E$11)","v":248.60355590845342},{"$f":"'DNSP Inputs Capex'!$E$49","v":10},null,{"$f":"AG71*AH71","v":2486.0355590845343},{"$f":"(AJ71+AJ72+AJ73)/AH71","v":462.95967420390218},null,null,{"$f":"'DNSP Inputs Capex'!$F$44+'DNSP Inputs Capex'!$F$45","v":236.7652913413842},{"$f":"'DNSP Inputs Capex'!$F$47","v":16},null,{"$f":"AN71*AO71","v":3788.2446614621472},{"$f":"(AQ71+AQ72+AQ73)/AO71","v":370.66222674897887},null,{"$f":"('DNSP Inputs Capex'!$F$44+'DNSP Inputs Capex'!$F$45)*(1+'DNSP Inputs Capex'!$F$11)","v":248.60355590845342},{"$f":"'DNSP Inputs Capex'!$F$48","v":13},null,{"$f":"AT71*AU71","v":3231.8462268098942},{"$f":"(AW71+AW72+AW73)/AU71","v":413.39978410241605},null,{"$f":"('DNSP Inputs Capex'!$F$44+'DNSP Inputs Capex'!$F$45)*(1+'DNSP Inputs Capex'!$F$11)","v":248.60355590845342},{"$f":"'DNSP Inputs Capex'!$F$49","v":10},null,{"$f":"AZ71*BA71","v":2486.0355590845343},{"$f":"(BC71+BC72+BC73)/BA71","v":462.83865256060488},null,null,{"$f":"'DNSP Inputs Capex'!$G$44+'DNSP Inputs Capex'!$G$45","v":236.7652913413842},{"$f":"'DNSP Inputs Capex'!$G$47","v":16},null,{"$f":"BG71*BH71","v":3788.2446614621472},{"$f":"(BJ71+BJ72+BJ73)/BH71","v":371.04443381287973},null,{"$f":"('DNSP Inputs Capex'!$G$44+'DNSP Inputs Capex'!$G$45)*(1+'DNSP Inputs Capex'!$G$11)","v":248.60355590845342},{"$f":"'DNSP Inputs Capex'!$G$48","v":13},null,{"$f":"BM71*BN71","v":3231.8462268098942},{"$f":"(BP71+BP72+BP73)/BN71","v":413.8701927964479},null,{"$f":"('DNSP Inputs Capex'!$G$44+'DNSP Inputs Capex'!$G$45)*(1+'DNSP Inputs Capex'!$G$11)","v":248.60355590845342},{"$f":"'DNSP Inputs Capex'!$G$49","v":10},null,{"$f":"BS71*BT71","v":2486.0355590845343},{"$f":"(BV71+BV72+BV73)/BT71","v":463.4501838628463},null,null,{"$f":"'DNSP Inputs Capex'!$H$44+'DNSP Inputs Capex'!$H$45","v":236.7652913413842},{"$f":"'DNSP Inputs Capex'!$H$47","v":16},null,{"$f":"BZ71*CA71","v":3788.2446614621472},{"$f":"(CC71+CC72+CC73)/CA71","v":372.08535457489103},null,{"$f":"('DNSP Inputs Capex'!$H$44+'DNSP Inputs Capex'!$H$45)*(1+'DNSP Inputs Capex'!$H$11)","v":248.60355590845342},{"$f":"'DNSP Inputs Capex'!$H$48","v":13},null,{"$f":"CF71*CG71","v":3231.8462268098942},{"$f":"(CI71+CI72+CI73)/CG71","v":415.15132604200033},null,{"$f":"('DNSP Inputs Capex'!$H$44+'DNSP Inputs Capex'!$H$45)*(1+'DNSP Inputs Capex'!$H$11)","v":248.60355590845342},{"$f":"'DNSP Inputs Capex'!$H$49","v":10},null,{"$f":"CL71*CM71","v":2486.0355590845343},{"$f":"(CO71+CO72+CO73)/CM71","v":465.11565708206444}]
["Crew costs",{"$f":"'DNSP Inputs Capex'!$D$12","v":111.36223236834823},{"$f":"'DNSP Inputs Capex'!$D$46","v":2},{"$f":"'DNSP Inputs Capex'!$D$15","v":7.5},{"$f":"D72*C72*B72","v":1670.4334855252234},null,null,{"$f":"'DNSP Inputs Capex'!$D$12","v":111.36223236834823},{"$f":"'DNSP Inputs Capex'!$D$46","v":2},{"$f":"'DNSP Inputs Capex'!$D$15","v":7.5},{"$f":"J72*I72*H72","v":1670.4334855252234},null,null,{"$f":"'DNSP Inputs Capex'!$D$12","v":111.36223236834823},{"$f":"'DNSP Inputs Capex'!$D$46","v":2},{"$f":"'DNSP Inputs Capex'!$D$15","v":7.5},{"$f":"P72*O72*N72","v":1670.4334855252234},null,null,null,{"$f":"'DNSP Inputs Capex'!$E$12","v":111.08407886363248},{"$f":"'DNSP Inputs Capex'!$E$46","v":2},{"$f":"'DNSP Inputs Capex'!$E$15","v":7.5},{"$f":"W72*V72*U72","v":1666.2611829544874},null,null,{"$f":"'DNSP Inputs Capex'!$E$12","v":111.08407886363248},{"$f":"'DNSP Inputs Capex'!$E$46","v":2},{"$f":"'DNSP Inputs Capex'!$E$15","v":7.5},{"$f":"AC72*AB72*AA72","v":1666.2611829544874},null,null,{"$f":"'DNSP Inputs Capex'!$E$12","v":111.08407886363248},{"$f":"'DNSP Inputs Capex'!$E$46","v":2},{"$f":"'DNSP Inputs Capex'!$E$15","v":7.5},{"$f":"AI72*AH72*AG72","v":1666.2611829544874},null,null,null,{"$f":"'DNSP Inputs Capex'!$F$12","v":111.00339776810097},{"$f":"'DNSP Inputs Capex'!$F$46","v":2},{"$f":"'DNSP Inputs Capex'!$F$15","v":7.5},{"$f":"AP72*AO72*AN72","v":1665.0509665215145},null,null,{"$f":"'DNSP Inputs Capex'!$F$12","v":111.00339776810097},{"$f":"'DNSP Inputs Capex'!$F$46","v":2},{"$f":"'DNSP Inputs Capex'!$F$15","v":7.5},{"$f":"AV72*AU72*AT72","v":1665.0509665215145},null,null,{"$f":"'DNSP Inputs Capex'!$F$12","v":111.00339776810097},{"$f":"'DNSP Inputs Capex'!$F$46","v":2},{"$f":"'DNSP Inputs Capex'!$F$15","v":7.5},{"$f":"BB72*BA72*AZ72","v":1665.0509665215145},null,null,null,{"$f":"'DNSP Inputs Capex'!$G$12","v":111.41108530292857},{"$f":"'DNSP Inputs Capex'!$G$46","v":2},{"$f":"'DNSP Inputs Capex'!$G$15","v":7.5},{"$f":"BI72*BH72*BG72","v":1671.1662795439286},null,null,{"$f":"'DNSP Inputs Capex'!$G$12","v":111.41108530292857},{"$f":"'DNSP Inputs Capex'!$G$46","v":2},{"$f":"'DNSP Inputs Capex'!$G$15","v":7.5},{"$f":"BO72*BN72*BM72","v":1671.1662795439286},null,null,{"$f":"'DNSP Inputs Capex'!$G$12","v":111.41108530292857},{"$f":"'DNSP Inputs Capex'!$G$46","v":2},{"$f":"'DNSP Inputs Capex'!$G$15","v":7.5},{"$f":"BU72*BT72*BS72","v":1671.1662795439286},null,null,null,{"$f":"'DNSP Inputs Capex'!$H$12","v":112.5214007824073},{"$f":"'DNSP Inputs Capex'!$H$46","v":2},{"$f":"'DNSP Inputs Capex'!$H$15","v":7.5},{"$f":"CB72*CA72*BZ72","v":1687.8210117361095},null,null,{"$f":"'DNSP Inputs Capex'!$H$12","v":112.5214007824073},{"$f":"'DNSP Inputs Capex'!$H$46","v":2},{"$f":"'DNSP Inputs Capex'!$H$15","v":7.5},{"$f":"CH72*CG72*CF72","v":1687.8210117361095},null,null,{"$f":"'DNSP Inputs Capex'!$H$12","v":112.5214007824073},{"$f":"'DNSP Inputs Capex'!$H$46","v":2},{"$f":"'DNSP Inputs Capex'!$H$15","v":7.5},{"$f":"CN72*CM72*CL72","v":1687.8210117361095}]
["Elevated platform vehicle costs",{"$f":"'DNSP Inputs Capex'!$D$14","v":63.64},1,{"$f":"'DNSP Inputs Capex'!$D$15","v":7.5},{"$f":"B73*C73*D73","v":477.3},null,null,{"$f":"'DNSP Inputs Capex'!$D$14","v":63.64},1,{"$f":"'DNSP Inputs Capex'!$D$15","v":7.5},{"$f":"H73*I73*J73","v":477.3},null,null,{"$f":"'DNSP Inputs Capex'!$D$14","v":63.64},1,{"$f":"'DNSP Inputs Capex'!$D$15","v":7.5},{"$f":"N73*O73*P73","v":477.3},null,null,null,{"$f":"'DNSP Inputs Capex'!$E$14","v":63.64},1,{"$f":"'DNSP Inputs Capex'!$E$15","v":7.5},{"$f":"U73*V73*W73","v":477.3},null,null,{"$f":"'DNSP Inputs Capex'!$E$14","v":63.64},1,{"$f":"'DNSP Inputs Capex'!$E$15","v":7.5},{"$f":"AA73*AB73*AC73","v":477.3},null,null,{"$f":"'DNSP Inputs Capex'!$E$14","v":63.64},1,{"$f":"'DNSP Inputs Capex'!$E$15","v":7.5},{"$f":"AG73*AH73*AI73","v":477.3},null,null,null,{"$f":"'DNSP Inputs Capex'!$F$14","v":63.64},1,{"$f":"'DNSP Inputs Capex'!$F$15","v":7.5},{"$f":"AN73*AO73*AP73","v":477.3},null,null,{"$f":"'DNSP Inputs Capex'!$F$14","v":63.64},1,{"$f":"'DNSP Inputs Capex'!$F$15","v":7.5},{"$f":"AT73*AU73*AV73","v":477.3},null,null,{"$f":"'DNSP Inputs Capex'!$F$14","v":63.64},1,{"$f":"'DNSP Inputs Capex'!$F$15","v":7.5},{"$f":"AZ73*BA73*BB73","v":477.3},null,null,null,{"$f":"'DNSP Inputs Capex'!$G$14","v":63.64},1,{"$f":"'DNSP Inputs Capex'!$G$15","v":7.5},{"$f":"BG73*BH73*BI73","v":477.3},null,null,{"$f":"'DNSP Inputs Capex'!$G$14","v":63.64},1,{"$f":"'DNSP Inputs Capex'!$G$15","v":7.5},{"$f":"BM73*BN73*BO73","v":477.3},null,null,{"$f":"'DNSP Inputs Capex'!$G$14","v":63.64},1,{"$f":"'DNSP Inputs Capex'!$G$15","v":7.5},{"$f":"BS73*BT73*BU73","v":477.3},null,null,null,{"$f":"'DNSP Inputs Capex'!$H$14","v":63.64},1,{"$f":"'DNSP Inputs Capex'!$H$15","v":7.5},{"$f":"BZ73*CA73*CB73","v":477.3},null,null,{"$f":"'DNSP Inputs Capex'!$H$14","v":63.64},1,{"$f":"'DNSP Inputs Capex'!$H$15","v":7.5},{"$f":"CF73*CG73*CH73","v":477.3},null,null,{"$f":"'DNSP Inputs Capex'!$H$14","v":63.64},1,{"$f":"'DNSP Inputs Capex'!$H$15","v":7.5},{"$f":"CL73*CM73*CN73","v":477.3}]
[{"$f":"'DNSP Inputs Capex'!$A$51","v":"Other Capex unit costs Describe :………………………"},null,null,null,null,{"$f":"'DNSP Inputs Capex'!$D$51","v":0},null,null,null,null,null,{"$f":"'DNSP Inputs Capex'!$D$51","v":0},null,null,null,null,null,{"$f":"'DNSP Inputs Capex'!$D$51","v":0},null,null,null,null,null,null,{"$f":"'DNSP Inputs Capex'!$E$51","v":0},null,null,null,null,null,{"$f":"'DNSP Inputs Capex'!$E$51","v":0},null,null,null,null,null,{"$f":"'DNSP Inputs Capex'!$E$51","v":0},null,null,null,null,null,null,{"$f":"'DNSP Inputs Capex'!$F$51","v":0},null,null,null,null,null,{"$f":"'DNSP Inputs Capex'!$F$51","v":0},null,null,null,null,null,{"$f":"'DNSP Inputs Capex'!$F$51","v":0},null,null,null,null,null,null,{"$f":"'DNSP Inputs Capex'!$G$51","v":0},null,null,null,null,null,{"$f":"'DNSP Inputs Capex'!$G$51","v":0},null,null,null,null,null,{"$f":"'DNSP Inputs Capex'!$G$51","v":0},null,null,null,null,null,null,{"$f":"'DNSP Inputs Capex'!$H$51","v":0},null,null,null,null,null,{"$f":"'DNSP Inputs Capex'!$H$51","v":0},null,null,null,null,null,{"$f":"'DNSP Inputs Capex'!$H$51","v":0}]
[null,null,null,null,null,{"$f":"SUM(F71,F74)","v":370.99863418671066},null,null,null,null,null,{"$f":"SUM(L71,L74)","v":413.81382402577827},null,null,null,null,null,{"$f":"SUM(R71,R74)","v":463.37690446097577},null,null,null,null,null,null,{"$f":"SUM(Y71,Y74)","v":370.73786527603966},null,null,null,null,null,{"$f":"SUM(AE71,AE74)","v":413.49287767418321},null,null,null,null,null,{"$f":"SUM(AK71,AK74)","v":462.95967420390218},null,null,null,null,null,null,{"$f":"SUM(AR71,AR74)","v":370.66222674897887},null,null,null,null,null,{"$f":"SUM(AX71,AX74)","v":413.39978410241605},null,null,null,null,null,{"$f":"SUM(BD71,BD74)","v":462.83865256060488},null,null,null,null,null,null,{"$f":"SUM(BK71,BK74)","v":371.04443381287973},null,null,null,null,null,{"$f":"SUM(BQ71,BQ74)","v":413.8701927964479},null,null,null,null,null,{"$f":"SUM(BW71,BW74)","v":463.4501838628463},null,null,null,null,null,null,{"$f":"SUM(CD71,CD74)","v":372.08535457489103},null,null,null,null,null,{"$f":"SUM(CJ71,CJ74)","v":415.15132604200033},null,null,null,null,null,{"$f":"SUM(CP71,CP74)","v":465.11565708206444}]
[]
["Number of luminaires replaced",null,null,null,null,{"$f":"'DNSP Inputs Capex'!$D$54","v":0},null,null,null,null,null,{"$f":"'DNSP Inputs Capex'!$D$55","v":0},null,null,null,null,null,{"$f":"'DNSP Inputs Capex'!$D$56","v":0},null,null,null,null,null,null,{"$f":"'DNSP Inputs Capex'!$E$54","v":0},null,null,null,null,null,{"$f":"'DNSP Inputs Capex'!$E$55","v":0},null,null,null,null,null,{"$f":"'DNSP Inputs Capex'!$E$56","v":0},null,null,null,null,null,null,{"$f":"'DNSP Inputs Capex'!$F$54","v":0},null,null,null,null,null,{"$f":"'DNSP Inputs Capex'!$F$55","v":0},null,null,null,null,null,{"$f":"'DNSP Inputs Capex'!$F$56","v":0},null,null,null,null,null,null,{"$f":"'DNSP Inputs Capex'!$G$54","v":0},null,null,null,null,null,{"$f":"'DNSP Inputs Capex'!$G$55","v":0},null,null,null,null,null,{"$f":"'DNSP Inputs Capex'!$G$56","v":0},null,null,null,null,null,null,{"$f":"'DNSP Inputs Capex'!$H$54","v":0},null,null,null,null,null,{"$f":"'DNSP Inputs Capex'!$H$55","v":0},null,null,null,null,null,{"$f":"'DNSP Inputs Capex'!$H$56","v":0}]
[]
["Capex",null,null,null,null,{"$f":"F75*F77","v":0},null,null,null,null,null,{"$f":"L75*L77","v":0},null,null,null,null,null,{"$f":"R75*R77","v":0},null,null,null,null,null,null,{"$f":"Y75*Y77","v":0},null,null,null,null,null,{"$f":"AE75*AE77","v":0},null,null,null,null,null,{"$f":"AK75*AK77","v":0},null,null,null,null,null,null,{"$f":"AR75*AR77","v":0},null,null,null,null,null,{"$f":"AX75*AX77","v":0},null,null,null,null,null,{"$f":"BD75*BD77","v":0},null,null,null,null,null,null,{"$f":"BK75*BK77","v":0},null,null,null,null,null,{"$f":"BQ75*BQ77","v":0},null,null,null,null,null,{"$f":"BW75*BW77","v":0},null,null,null,null,null,null,{"$f":"CD75*CD77","v":0},null,null,null,null,null,{"$f":"CJ75*CJ77","v":0},null,null,null,null,null,{"$f":"CP75*CP77","v":0}]
[]
[]
["S-HP 250"]
["Luminaires "]
["Material & misc",{"$f":"'DNSP Inputs Capex'!$D$62+'DNSP Inputs Capex'!$D$63","v":242.72806954542625},{"$f":"'DNSP Inputs Capex'!$D$65","v":16},null,{"$f":"B84*C84","v":3883.64911272682},{"$f":"(E84+E85+E86)/C84","v":376.96141239075274},null,{"$f":"('DNSP Inputs Capex'!$D$62+'DNSP Inputs Capex'!$D$63)*(1+'DNSP Inputs Capex'!$D$11)","v":254.86447302269758},{"$f":"'DNSP Inputs Capex'!$D$66","v":13},null,{"$f":"H84*I84","v":3313.2381492950685},{"$f":"(K84+K85+K86)/I84","v":420.07474114002247},null,{"$f":"('DNSP Inputs Capex'!$D$62+'DNSP Inputs Capex'!$D$63)*(1+'DNSP Inputs Capex'!$D$11)","v":254.86447302269758},{"$f":"'DNSP Inputs Capex'!$D$67","v":10},null,{"$f":"N84*O84","v":2548.6447302269758},{"$f":"(Q84+Q85+Q86)/O84","v":469.6378215752199},null,null,{"$f":"'DNSP Inputs Capex'!$E$62+'DNSP Inputs Capex'!$E$63","v":242.72806954542625},{"$f":"'DNSP Inputs Capex'!$E$65","v":16},null,{"$f":"U84*V84","v":3883.64911272682},{"$f":"(X84+X85+X86)/V84","v":376.70064348008174},null,{"$f":"('DNSP Inputs Capex'!$E$62+'DNSP Inputs Capex'!$E$63)*(1+'DNSP Inputs Capex'!$E$11)","v":254.86447302269758},{"$f":"'DNSP Inputs Capex'!$E$66","v":13},null,{"$f":"AA84*AB84","v":3313.2381492950685},{"$f":"(AD84+AD85+AD86)/AB84","v":419.7537947884274},null,{"$f":"('DNSP Inputs Capex'!$E$62+'DNSP Inputs Capex'!$E$63)*(1+'DNSP Inputs Capex'!$E$11)","v":254.86447302269758},{"$f":"'DNSP Inputs Capex'!$E$67","v":10},null,{"$f":"AG84*AH84","v":2548.6447302269758},{"$f":"(AJ84+AJ85+AJ86)/AH84","v":469.22059131814632},null,null,{"$f":"'DNSP Inputs Capex'!$F$62+'DNSP Inputs Capex'!$F$63","v":242.72806954542625},{"$f":"'DNSP Inputs Capex'!$F$65","v":16},null,{"$f":"AN84*AO84","v":3883.64911272682},{"$f":"(AQ84+AQ85+AQ86)/AO84","v":376.62500495302089},null,{"$f":"('DNSP Inputs Capex'!$F$62+'DNSP Inputs Capex'!$F$63)*(1+'DNSP Inputs Capex'!$F$11)","v":254.86447302269758},{"$f":"'DNSP Inputs Capex'!$F$66","v":13},null,{"$f":"AT84*AU84","v":3313.2381492950685},{"$f":"(AW84+AW85+AW86)/AU84","v":419.66070121666024},null,{"$f":"('DNSP Inputs Capex'!$F$62+'DNSP Inputs Capex'!$F$63)*(1+'DNSP Inputs Capex'!$F$11)","v":254.86447302269758},{"$f":"'DNSP Inputs Capex'!$F$67","v":10},null,{"$f":"AZ84*BA84","v":2548.6447302269758},{"$f":"(BC84+BC85+BC86)/BA84","v":469.09956967484902},null,null,{"$f":"'DNSP Inputs Capex'!$G$62+'DNSP Inputs Capex'!$G$63","v":242.72806954542625},{"$f":"'DNSP Inputs Capex'!$G$65","v":16},null,{"$f":"BG84*BH84","v":3883.64911272682},{"$f":"(BJ84+BJ85+BJ86)/BH84","v":377.00721201692181},null,{"$f":"('DNSP Inputs Capex'!$G$62+'DNSP Inputs Capex'!$G$63)*(1+'DNSP Inputs Capex'!$G$11)","v":254.86447302269758},{"$f":"'DNSP Inputs Capex'!$G$66","v":13},null,{"$f":"BM84*BN84","v":3313.2381492950685},{"$f":"(BP84+BP85+BP86)/BN84","v":420.13110991069209},null,{"$f":"('DNSP Inputs Capex'!$G$62+'DNSP Inputs Capex'!$G$63)*(1+'DNSP Inputs Capex'!$G$11)","v":254.86447302269758},{"$f":"'DNSP Inputs Capex'!$G$67","v":10},null,{"$f":"BS84*BT84","v":2548.6447302269758},{"$f":"(BV84+BV85+BV86)/BT84","v":469.71110097709044},null,null,{"$f":"'DNSP Inputs Capex'!$H$62+'DNSP Inputs Capex'!$H$63","v":242.72806954542625},{"$f":"'DNSP Inputs Capex'!$H$65","v":16},null,{"$f":"BZ84*CA84","v":3883.64911272682},{"$f":"(CC84+CC85+CC86)/CA84","v":378.04813277893311},null,{"$f":"('DNSP Inputs Capex'!$H$62+'DNSP Inputs Capex'!$H$63)*(1+'DNSP Inputs Capex'!$H$11)","v":254.86447302269758},{"$f":"'DNSP Inputs Capex'!$H$66","v":13},null,{"$f":"CF84*CG84","v":3313.2381492950685},{"$f":"(CI84+CI85+CI86)/CG84","v":421.41224315624453},null,{"$f":"('DNSP Inputs Capex'!$H$62+'DNSP Inputs Capex'!$H$63)*(1+'DNSP Inputs Capex'!$H$11)","v":254.86447302269758},{"$f":"'DNSP Inputs Capex'!$H$67","v":10},null,{"$f":"CL84*CM84","v":2548.6447302269758},{"$f":"(CO84+CO85+CO86)/CM84","v":471.37657419630858}]
["Crew costs",{"$f":"'DNSP Inputs Capex'!$D$12","v":111.36223236834823},{"$f":"'DNSP Inputs Capex'!$D$64","v":2},{"$f":"'DNSP Inputs Capex'!$D$15","v":7.5},{"$f":"D85*C85*B85","v":1670.4334855252234},null,null,{"$f":"'DNSP Inputs Capex'!$D$12","v":111.36223236834823},{"$f":"'DNSP Inputs Capex'!$D$64","v":2},{"$f":"'DNSP Inputs Capex'!$D$15","v":7.5},{"$f":"J85*I85*H85","v":1670.4334855252234},null,null,{"$f":"'DNSP Inputs Capex'!$D$12","v":111.36223236834823},{"$f":"'DNSP Inputs Capex'!$D$64","v":2},{"$f":"'DNSP Inputs Capex'!$D$15","v":7.5},{"$f":"P85*O85*N85","v":1670.4334855252234},null,null,null,{"$f":"'DNSP Inputs Capex'!$E$12","v":111.08407886363248},{"$f":"'DNSP Inputs Capex'!$E$64","v":2},{"$f":"'DNSP Inputs Capex'!$E$15","v":7.5},{"$f":"W85*V85*U85","v":1666.2611829544874},null,null,{"$f":"'DNSP Inputs Capex'!$E$12","v":111.08407886363248},{"$f":"'DNSP Inputs Capex'!$E$64","v":2},{"$f":"'DNSP Inputs Capex'!$E$15","v":7.5},{"$f":"AC85*AB85*AA85","v":1666.2611829544874},null,null,{"$f":"'DNSP Inputs Capex'!$E$12","v":111.08407886363248},{"$f":"'DNSP Inputs Capex'!$E$64","v":2},{"$f":"'DNSP Inputs Capex'!$E$15","v":7.5},{"$f":"AI85*AH85*AG85","v":1666.2611829544874},null,null,null,{"$f":"'DNSP Inputs Capex'!$F$12","v":111.00339776810097},{"$f":"'DNSP Inputs Capex'!$F$64","v":2},{"$f":"'DNSP Inputs Capex'!$F$15","v":7.5},{"$f":"AP85*AO85*AN85","v":1665.0509665215145},null,null,{"$f":"'DNSP Inputs Capex'!$F$12","v":111.00339776810097},{"$f":"'DNSP Inputs Capex'!$F$64","v":2},{"$f":"'DNSP Inputs Capex'!$F$15","v":7.5},{"$f":"AV85*AU85*AT85","v":1665.0509665215145},null,null,{"$f":"'DNSP Inputs Capex'!$F$12","v":111.00339776810097},{"$f":"'DNSP Inputs Capex'!$F$64","v":2},{"$f":"'DNSP Inputs Capex'!$F$15","v":7.5},{"$f":"BB85*BA85*AZ85","v":1665.0509665215145},null,null,null,{"$f":"'DNSP Inputs Capex'!$G$12","v":111.41108530292857},{"$f":"'DNSP Inputs Capex'!$G$64","v":2},{"$f":"'DNSP Inputs Capex'!$G$15","v":7.5},{"$f":"BI85*BH85*BG85","v":1671.1662795439286},null,null,{"$f":"'DNSP Inputs Capex'!$G$12","v":111.41108530292857},{"$f":"'DNSP Inputs Capex'!$G$64","v":2},{"$f":"'DNSP Inputs Capex'!$G$15","v":7.5},{"$f":"BO85*BN85*BM85","v":1671.1662795439286},null,null,{"$f":"'DNSP Inputs Capex'!$G$12","v":111.41108530292857},{"$f":"'DNSP Inputs Capex'!$G$64","v":2},{"$f":"'DNSP Inputs Capex'!$G$15","v":7.5},{"$f":"BU85*BT85*BS85","v":1671.1662795439286},null,null,null,{"$f":"'DNSP Inputs Capex'!$H$12","v":112.5214007824073},{"$f":"'DNSP Inputs Capex'!$H$64","v":2},{"$f":"'DNSP Inputs Capex'!$H$15","v":7.5},{"$f":"CB85*CA85*BZ85","v":1687.8210117361095},null,null,{"$f":"'DNSP Inputs Capex'!$H$12","v":112.5214007824073},{"$f":"'DNSP Inputs Capex'!$H$64","v":2},{"$f":"'DNSP Inputs Capex'!$H$15","v":7.5},{"$f":"CH85*CG85*CF85","v":1687.8210117361095},null,null,{"$f":"'DNSP Inputs Capex'!$H$12","v":112.5214007824073},{"$f":"'DNSP Inputs Capex'!$H$64","v":2},{"$f":"'DNSP Inputs Capex'!$H$15","v":7.5},{"$f":"CN85*CM85*CL85","v":1687.8210117361095}]
["Elevated platform vehicle costs",{"$f":"'DNSP Inputs Capex'!$D$14","v":63.64},1,{"$f":"'DNSP Inputs Capex'!$D$15","v":7.5},{"$f":"B86*C86*D86","v":477.3},null,null,{"$f":"'DNSP Inputs Capex'!$D$14","v":63.64},1,{"$f":"'DNSP Inputs Capex'!$D$15","v":7.5},{"$f":"H86*I86*J86","v":477.3},null,null,{"$f":"'DNSP Inputs Capex'!$D$14","v":63.64},1,{"$f":"'DNSP Inputs Capex'!$D$15","v":7.5},{"$f":"N86*O86*P86","v":477.3},null,null,null,{"$f":"'DNSP Inputs Capex'!$E$14","v":63.64},1,{"$f":"'DNSP Inputs Capex'!$E$15","v":7.5},{"$f":"U86*V86*W86","v":477.3},null,null,{"$f":"'DNSP Inputs Capex'!$E$14","v":63.64},1,{"$f":"'DNSP Inputs Capex'!$E$15","v":7.5},{"$f":"AA86*AB86*AC86","v":477.3},null,null,{"$f":"'DNSP Inputs Capex'!$E$14","v":63.64},1,{"$f":"'DNSP Inputs Capex'!$E$15","v":7.5},{"$f":"AG86*AH86*AI86","v":477.3},null,null,null,{"$f":"'DNSP Inputs Capex'!$F$14","v":63.64},1,{"$f":"'DNSP Inputs Capex'!$F$15","v":7.5},{"$f":"AN86*AO86*AP86","v":477.3},null,null,{"$f":"'DNSP Inputs Capex'!$F$14","v":63.64},1,{"$f":"'DNSP Inputs Capex'!$F$15","v":7.5},{"$f":"AT86*AU86*AV86","v":477.3},null,null,{"$f":"'DNSP Inputs Capex'!$F$14","v":63.64},1,{"$f":"'DNSP Inputs Capex'!$F$15","v":7.5},{"$f":"AZ86*BA86*BB86","v":477.3},null,null,null,{"$f":"'DNSP Inputs Capex'!$G$14","v":63.64},1,{"$f":"'DNSP Inputs Capex'!$G$15","v":7.5},{"$f":"BG86*BH86*BI86","v":477.3},null,null,{"$f":"'DNSP Inputs Capex'!$G$14","v":63.64},1,{"$f":"'DNSP Inputs Capex'!$G$15","v":7.5},{"$f":"BM86*BN86*BO86","v":477.3},null,null,{"$f":"'DNSP Inputs Capex'!$G$14","v":63.64},1,{"$f":"'DNSP Inputs Capex'!$G$15","v":7.5},{"$f":"BS86*BT86*BU86","v":477.3},null,null,null,{"$f":"'DNSP Inputs Capex'!$H$14","v":63.64},1,{"$f":"'DNSP Inputs Capex'!$H$15","v":7.5},{"$f":"BZ86*CA86*CB86","v":477.3},null,null,{"$f":"'DNSP Inputs Capex'!$H$14","v":63.64},1,{"$f":"'DNSP Inputs Capex'!$H$15","v":7.5},{"$f":"CF86*CG86*CH86","v":477.3},null,null,{"$f":"'DNSP Inputs Capex'!$H$14","v":63.64},1,{"$f":"'DNSP Inputs Capex'!$H$15","v":7.5},{"$f":"CL86*CM86*CN86","v":477.3}]
[{"$f":"'DNSP Inputs Capex'!$A$69","v":"Other Capex unit costs Describe :………………………"},null,null,null,null,{"$f":"'DNSP Inputs Capex'!$D$69","v":0},null,null,null,null,null,{"$f":"'DNSP Inputs Capex'!$D$69","v":0},null,null,null,null,null,{"$f":"'DNSP Inputs Capex'!$D$69","v":0},null,null,null,null,null,null,{"$f":"'DNSP Inputs Capex'!$E$69","v":0},null,null,null,null,null,{"$f":"'DNSP Inputs Capex'!$E$69","v":0},null,null,null,null,null,{"$f":"'DNSP Inputs Capex'!$E$69","v":0},null,null,null,null,null,null,{"$f":"'DNSP Inputs Capex'!$F$69","v":0},null,null,null,null,null,{"$f":"'DNSP Inputs Capex'!$F$69","v":0},null,null,null,null,null,{"$f":"'DNSP Inputs Capex'!$F$69","v":0},null,null,null,null,null,null,{"$f":"'DNSP Inputs Capex'!$G$69","v":0},null,null,null,null,null,{"$f":"'DNSP Inputs Capex'!$G$69","v":0},null,null,null,null,null,{"$f":"'DNSP Inputs Capex'!$G$69","v":0},null,null,null,null,null,null,{"$f":"'DNSP Inputs Capex'!$H$69","v":0},null,null,null,null,null,{"$f":"'DNSP Inputs Capex'!$H$69","v":0},null,null,null,null,null,{"$f":"'DNSP Inputs Capex'!$H$69","v":0}]
[null,null,null,null,null,{"$f":"SUM(F84,F87)","v":376.96141239075274},null,null,null,null,null,{"$f":"SUM(L84,L87)","v":420.07474114002247},null,null,null,null,null,{"$f":"SUM(R84,R87)","v":469.6378215752199},null,null,null,null,null,null,{"$f":"SUM(Y84,Y87)","v":376.70064348008174},null,null,null,null,null,{"$f":"SUM(AE84,AE87)","v":419.7537947884274},null,null,null,null,null,{"$f":"SUM(AK84,AK87)","v":469.22059131814632},null,null,null,null,null,null,{"$f":"SUM(AR84,AR87)","v":376.62500495302089},null,null,null,null,null,{"$f":"SUM(AX84,AX87)","v":419.66070121666024},null,null,null,null,null,{"$f":"SUM(BD84,BD87)","v":469.09956967484902},null,null,null,null,null,null,{"$f":"SUM(BK84,BK87)","v":377.00721201692181},null,null,null,null,null,{"$f":"SUM(BQ84,BQ87)","v":420.13110991069209},null,null,null,null,null,{"$f":"SUM(BW84,BW87)","v":469.71110097709044},null,null,null,null,null,null,{"$f":"SUM(CD84,CD87)","v":378.04813277893311},null,null,null,null,null,{"$f":"SUM(CJ84,CJ87)","v":421.41224315624453},null,null,null,null,null,{"$f":"SUM(CP84,CP87)","v":471.37657419630858}]
[]
["Number of luminaires replaced",null,null,null,null,{"$f":"'DNSP Inputs Capex'!$D$72","v":0},null,null,null,null,null,{"$f":"'DNSP Inputs Capex'!$D$73","v":0},null,null,null,null,null,{"$f":"'DNSP Inputs Capex'!$D$74","v":0},null,null,null,null,null,null,{"$f":"'DNSP Inputs Capex'!$E$72","v":0},null,null,null,null,null,{"$f":"'DNSP Inputs Capex'!$E$73","v":0},null,null,null,null,null,{"$f":"'DNSP Inputs Capex'!$E$74","v":0},null,null,null,null,null,null,{"$f":"'DNSP Inputs Capex'!$F$72","v":0},null,null,null,null,null,{"$f":"'DNSP Inputs Capex'!$F$73","v":0},null,null,null,null,null,{"$f":"'DNSP Inputs Capex'!$F$74","v":0},null,null,null,null,null,null,{"$f":"'DNSP Inputs Capex'!$G$72","v":0},null,null,null,null,null,{"$f":"'DNSP Inputs Capex'!$G$73","v":0},null,null,null,null,null,{"$f":"'DNSP Inputs Capex'!$G$74","v":0},null,null,null,null,null,null,{"$f":"'DNSP Inputs Capex'!$H$72","v":0},null,null,null,null,null,{"$f":"'DNSP Inputs Capex'!$H$73","v":0},null,null,null,null,null,{"$f":"'DNSP Inputs Capex'!$H$74","v":0}]
[]
["Capex",null,null,null,null,{"$f":"F88*F90","v":0},null,null,null,null,null,{"$f":"L88*L90","v":0},null,null,null,null,null,{"$f":"R88*R90","v":0},null,null,null,null,null,null,{"$f":"Y88*Y90","v":0},null,null,null,null,null,{"$f":"AE88*AE90","v":0},null,null,null,null,null,{"$f":"AK88*AK90","v":0},null,null,null,null,null,null,{"$f":"AR88*AR90","v":0},null,null,null,null,null,{"$f":"AX88*AX90","v":0},null,null,null,null,null,{"$f":"BD88*BD90","v":0},null,null,null,null,null,null,{"$f":"BK88*BK90","v":0},null,null,null,null,null,{"$f":"BQ88*BQ90","v":0},null,null,null,null,null,{"$f":"BW88*BW90","v":0},null,null,null,null,null,null,{"$f":"CD88*CD90","v":0},null,null,null,null,null,{"$f":"CJ88*CJ90","v":0},null,null,null,null,null,{"$f":"CP88*CP90","v":0}]
[]
[]
["Dedicated poles"]
["Material",{"$f":"'DNSP Inputs Capex'!$D$80","v":1223.6275383044774},{"$f":"'DNSP Inputs Capex'!$D$82","v":4},null,{"$f":"C96*B96","v":4894.5101532179096},{"$f":"(E96+E97+E98)/C96","v":2152.9317810670891},null,{"$f":"'DNSP Inputs Capex'!$D$80*(1+'DNSP Inputs Capex'!$D$11)","v":1284.8089152197012},{"$f":"'DNSP Inputs Capex'!$D$82","v":4},null,{"$f":"I96*H96","v":5139.235660878805},{"$f":"(K96+K97+K98)/I96","v":2239.3506579823129},null,{"$f":"'DNSP Inputs Capex'!$D$80*(1+'DNSP Inputs Capex'!$D$11)","v":1284.8089152197012},{"$f":"'DNSP Inputs Capex'!$D$82","v":4},null,{"$f":"O96*N96","v":5139.235660878805},{"$f":"(Q96+Q97+Q98)/O96","v":2239.3506579823129},null,null,{"$f":"'DNSP Inputs Capex'!$E$80","v":1223.6275383044774},{"$f":"'DNSP Inputs Capex'!$E$82","v":4},null,{"$f":"V96*U96","v":4894.5101532179096},{"$f":"(X96+X97+X98)/V96","v":2150.8456297817211},null,{"$f":"'DNSP Inputs Capex'!$E$80*(1+'DNSP Inputs Capex'!$E$11)","v":1284.8089152197012},{"$f":"'DNSP Inputs Capex'!$E$82","v":4},null,{"$f":"AB96*AA96","v":5139.235660878805},{"$f":"(AD96+AD97+AD98)/AB96","v":2237.2645066969449},null,{"$f":"'DNSP Inputs Capex'!$E$80*(1+'DNSP Inputs Capex'!$E$11)","v":1284.8089152197012},{"$f":"'DNSP Inputs Capex'!$E$82","v":4},null,{"$f":"AH96*AG96","v":5139.235660878805},{"$f":"(AJ96+AJ97+AJ98)/AH96","v":2237.2645066969449},null,null,{"$f":"'DNSP Inputs Capex'!$F$80","v":1223.6275383044774},{"$f":"'DNSP Inputs Capex'!$F$82","v":4},null,{"$f":"AO96*AN96","v":4894.5101532179096},{"$f":"(AQ96+AQ97+AQ98)/AO96","v":2150.2405215652348},null,{"$f":"'DNSP Inputs Capex'!$F$80*(1+'DNSP Inputs Capex'!$F$11)","v":1284.8089152197012},{"$f":"'DNSP Inputs Capex'!$F$82","v":4},null,{"$f":"AU96*AT96","v":5139.235660878805},{"$f":"(AW96+AW97+AW98)/AU96","v":2236.6593984804585},null,{"$f":"'DNSP Inputs Capex'!$F$80*(1+'DNSP Inputs Capex'!$F$11)","v":1284.8089152197012},{"$f":"'DNSP Inputs Capex'!$F$82","v":4},null,{"$f":"BA96*AZ96","v":5139.235660878805},{"$f":"(BC96+BC97+BC98)/BA96","v":2236.6593984804585},null,null,{"$f":"'DNSP Inputs Capex'!$G$80","v":1223.6275383044774},{"$f":"'DNSP Inputs Capex'!$G$82","v":4},null,{"$f":"BH96*BG96","v":4894.5101532179096},{"$f":"(BJ96+BJ97+BJ98)/BH96","v":2153.2981780764417},null,{"$f":"'DNSP Inputs Capex'!$G$80*(1+'DNSP Inputs Capex'!$G$11)","v":1284.8089152197012},{"$f":"'DNSP Inputs Capex'!$G$82","v":4},null,{"$f":"BN96*BM96","v":5139.235660878805},{"$f":"(BP96+BP97+BP98)/BN96","v":2239.7170549916655},null,{"$f":"'DNSP Inputs Capex'!$G$80*(1+'DNSP Inputs Capex'!$G$11)","v":1284.8089152197012},{"$f":"'DNSP Inputs Capex'!$G$82","v":4},null,{"$f":"BT96*BS96","v":5139.235660878805},{"$f":"(BV96+BV97+BV98)/BT96","v":2239.7170549916655},null,null,{"$f":"'DNSP Inputs Capex'!$H$80","v":1223.6275383044774},{"$f":"'DNSP Inputs Capex'!$H$82","v":4},null,{"$f":"CA96*BZ96","v":4894.5101532179096},{"$f":"(CC96+CC97+CC98)/CA96","v":2161.625544172532},null,{"$f":"'DNSP Inputs Capex'!$H$80*(1+'DNSP Inputs Capex'!$H$11)","v":1284.8089152197012},{"$f":"'DNSP Inputs Capex'!$H$82","v":4},null,{"$f":"CG96*CF96","v":5139.235660878805},{"$f":"(CI96+CI97+CI98)/CG96","v":2248.0444210877558},null,{"$f":"'DNSP Inputs Capex'!$H$80*(1+'DNSP Inputs Capex'!$H$11)","v":1284.8089152197012},{"$f":"'DNSP Inputs Capex'!$H$82","v":4},null,{"$f":"CM96*CL96","v":5139.235660878805},{"$f":"(CO96+CO97+CO98)/CM96","v":2248.0444210877558}]
["Crew costs",{"$f":"'DNSP Inputs Capex'!$D$12","v":111.36223236834823},{"$f":"'DNSP Inputs Capex'!$D$81","v":4},{"$f":"'DNSP Inputs Capex'!$D$15","v":7.5},{"$f":"B97*C97*D97","v":3340.8669710504469},null,null,{"$f":"'DNSP Inputs Capex'!$D$12","v":111.36223236834823},{"$f":"'DNSP Inputs Capex'!$D$81","v":4},{"$f":"'DNSP Inputs Capex'!$D$15","v":7.5},{"$f":"H97*I97*J97","v":3340.8669710504469},null,null,{"$f":"'DNSP Inputs Capex'!$D$12","v":111.36223236834823},{"$f":"'DNSP Inputs Capex'!$D$81","v":4},{"$f":"'DNSP Inputs Capex'!$D$15","v":7.5},{"$f":"N97*O97*P97","v":3340.8669710504469},null,null,null,{"$f":"'DNSP Inputs Capex'!$E$12","v":111.08407886363248},{"$f":"'DNSP Inputs Capex'!$E$81","v":4},{"$f":"'DNSP Inputs Capex'!$E$15","v":7.5},{"$f":"U97*V97*W97","v":3332.5223659089747},null,null,{"$f":"'DNSP Inputs Capex'!$E$12","v":111.08407886363248},{"$f":"'DNSP Inputs Capex'!$E$81","v":4},{"$f":"'DNSP Inputs Capex'!$E$15","v":7.5},{"$f":"AA97*AB97*AC97","v":3332.5223659089747},null,null,{"$f":"'DNSP Inputs Capex'!$E$12","v":111.08407886363248},{"$f":"'DNSP Inputs Capex'!$E$81","v":4},{"$f":"'DNSP Inputs Capex'!$E$15","v":7.5},{"$f":"AG97*AH97*AI97","v":3332.5223659089747},null,null,null,{"$f":"'DNSP Inputs Capex'!$F$12","v":111.00339776810097},{"$f":"'DNSP Inputs Capex'!$F$81","v":4},{"$f":"'DNSP Inputs Capex'!$F$15","v":7.5},{"$f":"AN97*AO97*AP97","v":3330.101933043029},null,null,{"$f":"'DNSP Inputs Capex'!$F$12","v":111.00339776810097},{"$f":"'DNSP Inputs Capex'!$F$81","v":4},{"$f":"'DNSP Inputs Capex'!$F$15","v":7.5},{"$f":"AT97*AU97*AV97","v":3330.101933043029},null,null,{"$f":"'DNSP Inputs Capex'!$F$12","v":111.00339776810097},{"$f":"'DNSP Inputs Capex'!$F$81","v":4},{"$f":"'DNSP Inputs Capex'!$F$15","v":7.5},{"$f":"AZ97*BA97*BB97","v":3330.101933043029},null,null,null,{"$f":"'DNSP Inputs Capex'!$G$12","v":111.41108530292857},{"$f":"'DNSP Inputs Capex'!$G$81","v":4},{"$f":"'DNSP Inputs Capex'!$G$15","v":7.5},{"$f":"BG97*BH97*BI97","v":3342.3325590878571},null,null,{"$f":"'DNSP Inputs Capex'!$G$12","v":111.41108530292857},{"$f":"'DNSP Inputs Capex'!$G$81","v":4},{"$f":"'DNSP Inputs Capex'!$G$15","v":7.5},{"$f":"BM97*BN97*BO97","v":3342.3325590878571},null,null,{"$f":"'DNSP Inputs Capex'!$G$12","v":111.41108530292857},{"$f":"'DNSP Inputs Capex'!$G$81","v":4},{"$f":"'DNSP Inputs Capex'!$G$15","v":7.5},{"$f":"BS97*BT97*BU97","v":3342.3325590878571},null,null,null,{"$f":"'DNSP Inputs Capex'!$H$12","v":112.5214007824073},{"$f":"'DNSP Inputs Capex'!$H$81","v":4},{"$f":"'DNSP Inputs Capex'!$H$15","v":7.5},{"$f":"BZ97*CA97*CB97","v":3375.6420234722191},null,null,{"$f":"'DNSP Inputs Capex'!$H$12","v":112.5214007824073},{"$f":"'DNSP Inputs Capex'!$H$81","v":4},{"$f":"'DNSP Inputs Capex'!$H$15","v":7.5},{"$f":"CF97*CG97*CH97","v":3375.6420234722191},null,null,{"$f":"'DNSP Inputs Capex'!$H$12","v":112.5214007824073},{"$f":"'DNSP Inputs Capex'!$H$81","v":4},{"$f":"'DNSP Inputs Capex'!$H$15","v":7.5},{"$f":"CL97*CM97*CN97","v":3375.6420234722191}]
["Elevated platform vehicle costs",{"$f":"'DNSP Inputs Capex'!$D$13","v":50.18},1,{"$f":"'DNSP Inputs Capex'!$D$15","v":7.5},{"$f":"B98*C98*D98","v":376.35},null,null,{"$f":"'DNSP Inputs Capex'!$D$14","v":63.64},1,{"$f":"'DNSP Inputs Capex'!$D$15","v":7.5},{"$f":"H98*I98*J98","v":477.3},null,null,{"$f":"'DNSP Inputs Capex'!$D$14","v":63.64},1,{"$f":"'DNSP Inputs Capex'!$D$15","v":7.5},{"$f":"N98*O98*P98","v":477.3},null,null,null,{"$f":"'DNSP Inputs Capex'!$E$13","v":50.18},1,{"$f":"'DNSP Inputs Capex'!$E$15","v":7.5},{"$f":"U98*V98*W98","v":376.35},null,null,{"$f":"'DNSP Inputs Capex'!$E$14","v":63.64},1,{"$f":"'DNSP Inputs Capex'!$E$15","v":7.5},{"$f":"AA98*AB98*AC98","v":477.3},null,null,{"$f":"'DNSP Inputs Capex'!$E$14","v":63.64},1,{"$f":"'DNSP Inputs Capex'!$E$15","v":7.5},{"$f":"AG98*AH98*AI98","v":477.3},null,null,null,{"$f":"'DNSP Inputs Capex'!$F$13","v":50.18},1,{"$f":"'DNSP Inputs Capex'!$F$15","v":7.5},{"$f":"AN98*AO98*AP98","v":376.35},null,null,{"$f":"'DNSP Inputs Capex'!$F$14","v":63.64},1,{"$f":"'DNSP Inputs Capex'!$F$15","v":7.5},{"$f":"AT98*AU98*AV98","v":477.3},null,null,{"$f":"'DNSP Inputs Capex'!$F$14","v":63.64},1,{"$f":"'DNSP Inputs Capex'!$F$15","v":7.5},{"$f":"AZ98*BA98*BB98","v":477.3},null,null,null,{"$f":"'DNSP Inputs Capex'!$G$13","v":50.18},1,{"$f":"'DNSP Inputs Capex'!$G$15","v":7.5},{"$f":"BG98*BH98*BI98","v":376.35},null,null,{"$f":"'DNSP Inputs Capex'!$G$14","v":63.64},1,{"$f":"'DNSP Inputs Capex'!$G$15","v":7.5},{"$f":"BM98*BN98*BO98","v":477.3},null,null,{"$f":"'DNSP Inputs Capex'!$G$14","v":63.64},1,{"$f":"'DNSP Inputs Capex'!$G$15","v":7.5},{"$f":"BS98*BT98*BU98","v":477.3},null,null,null,{"$f":"'DNSP Inputs Capex'!$H$13","v":50.18},1,{"$f":"'DNSP Inputs Capex'!$H$15","v":7.5},{"$f":"BZ98*CA98*CB98","v":376.35},null,null,{"$f":"'DNSP Inputs Capex'!$H$14","v":63.64},1,{"$f":"'DNSP Inputs Capex'!$H$15","v":7.5},{"$f":"CF98*CG98*CH98","v":477.3},null,null,{"$f":"'DNSP Inputs Capex'!$H$14","v":63.64},1,{"$f":"'DNSP Inputs Capex'!$H$15","v":7.5},{"$f":"CL98*CM98*CN98","v":477.3}]
[{"$f":"'DNSP Inputs Capex'!A85","v":"Plant costs (including truck mounted crane & auger, and tipper truck)"},null,null,null,null,{"$f":"'DNSP Inputs Capex'!$D$85","v":387.05857996198068},null,null,null,null,null,{"$f":"'DNSP Inputs Capex'!$D$85","v":387.05857996198068},null,null,null,null,null,{"$f":"'DNSP Inputs Capex'!$D$85","v":387.05857996198068},null,null,null,null,null,null,{"$f":"'DNSP Inputs Capex'!$E$85","v":387.05857996198068},null,null,null,null,null,{"$f":"'DNSP Inputs Capex'!$E$85","v":387.05857996198068},null,null,null,null,null,{"$f":"'DNSP Inputs Capex'!$E$85","v":387.05857996198068},null,null,null,null,null,null,{"$f":"'DNSP Inputs Capex'!$F$85","v":387.05857996198068},null,null,null,null,null,{"$f":"'DNSP Inputs Capex'!$F$85","v":387.05857996198068},null,null,null,null,null,{"$f":"'DNSP Inputs Capex'!$F$85","v":387.05857996198068},null,null,null,null,null,null,{"$f":"'DNSP Inputs Capex'!$G$85","v":387.05857996198068},null,null,null,null,null,{"$f":"'DNSP Inputs Capex'!$G$85","v":387.05857996198068},null,null,null,null,null,{"$f":"'DNSP Inputs Capex'!$G$85","v":387.05857996198068},null,null,null,null,null,null,{"$f":"'DNSP Inputs Capex'!$H$85","v":387.05857996198068},null,null,null,null,null,{"$f":"'DNSP Inputs Capex'!$H$85","v":387.05857996198068},null,null,null,null,null,{"$f":"'DNSP Inputs Capex'!$H$85","v":387.05857996198068}]
[{"$f":"'DNSP Inputs Capex'!$A$69","v":"Other Capex unit costs Describe :………………………"},null,null,null,null,{"$f":"'DNSP Inputs Capex'!$D$86","v":20.530171694670301},null,null,null,null,null,{"$f":"'DNSP Inputs Capex'!$D$86","v":20.530171694670301},null,null,null,null,null,{"$f":"'DNSP Inputs Capex'!$D$86","v":20.530171694670301},null,null,null,null,null,null,{"$f":"'DNSP Inputs Capex'!$E$86","v":20.9657602949029},null,null,null,null,null,{"$f":"'DNSP Inputs Capex'!$E$86","v":20.9657602949029},null,null,null,null,null,{"$f":"'DNSP Inputs Capex'!$E$86","v":20.9657602949029},null,null,null,null,null,null,{"$f":"'DNSP Inputs Capex'!$F$86","v":21.401348895135499},null,null,null,null,null,{"$f":"'DNSP Inputs Capex'!$F$86","v":21.401348895135499},null,null,null,null,null,{"$f":"'DNSP Inputs Capex'!$F$86","v":21.401348895135499},null,null,null,null,null,null,{"$f":"'DNSP Inputs Capex'!$G$86","v":21.836937495368101},null,null,null,null,null,{"$f":"'DNSP Inputs Capex'!$G$86","v":21.836937495368101},null,null,null,null,null,{"$f":"'DNSP Inputs Capex'!$G$86","v":21.836937495368101},null,null,null,null,null,null,{"$f":"'DNSP Inputs Capex'!$H$86","v":22.2725260956007},null,null,null,null,null,{"$f":"'DNSP Inputs Capex'!$H$86","v":22.2725260956007},null,null,null,null,null,{"$f":"'DNSP Inputs Capex'!$H$86","v":22.2725260956007}]
[null,null,null,null,null,{"$f":"SUM(F96,F99,F100)","v":2560.52053272374},null,null,null,null,null,{"$f":"SUM(L96,L99,L100)","v":2646.9394096389638},null,null,null,null,null,{"$f":"SUM(R96,R99,R100)","v":2646.9394096389638},null,null,null,null,null,null,{"$f":"SUM(Y96,Y99,Y100)","v":2558.8699700386046},null,null,null,null,null,{"$f":"SUM(AE96,AE99,AE100)","v":2645.2888469538284},null,null,null,null,null,{"$f":"SUM(AK96,AK99,AK100)","v":2645.2888469538284},null,null,null,null,null,null,{"$f":"SUM(AR96,AR99,AR100)","v":2558.700450422351},null,null,null,null,null,{"$f":"SUM(AX96,AX99,AX100)","v":2645.1193273375748},null,null,null,null,null,{"$f":"SUM(BD96,BD99,BD100)","v":2645.1193273375748},null,null,null,null,null,null,{"$f":"SUM(BK96,BK99,BK100)","v":2562.1936955337906},null,null,null,null,null,{"$f":"SUM(BQ96,BQ99,BQ100)","v":2648.6125724490144},null,null,null,null,null,{"$f":"SUM(BW96,BW99,BW100)","v":2648.6125724490144},null,null,null,null,null,null,{"$f":"SUM(CD96,CD99,CD100)","v":2570.9566502301136},null,null,null,null,null,{"$f":"SUM(CJ96,CJ99,CJ100)","v":2657.3755271453374},null,null,null,null,null,{"$f":"SUM(CP96,CP99,CP100)","v":2657.3755271453374}]
[]
["Number of poles & brackets replaced",null,null,null,null,{"$f":"'DNSP Inputs Capex'!$D$90","v":598.73311242994885},null,null,null,null,null,{"$f":"'DNSP Inputs Capex'!$D$91","v":203.06238738354998},null,null,null,null,null,{"$f":"'DNSP Inputs Capex'!$D$92","v":15.489433285991614},null,null,null,null,null,null,{"$f":"'DNSP Inputs Capex'!$E$90","v":598.73311242994885},null,null,null,null,null,{"$f":"'DNSP Inputs Capex'!$E$91","v":203.06238738354998},null,null,null,null,null,{"$f":"'DNSP Inputs Capex'!$E$92","v":15.489433285991614},null,null,null,null,null,null,{"$f":"'DNSP Inputs Capex'!$F$90","v":598.73311242994885},null,null,null,null,null,{"$f":"'DNSP Inputs Capex'!$F$91","v":203.06238738354998},null,null,null,null,null,{"$f":"'DNSP Inputs Capex'!$F$92","v":15.489433285991614},null,null,null,null,null,null,{"$f":"'DNSP Inputs Capex'!$G$90","v":598.73311242994885},null,null,null,null,null,{"$f":"'DNSP Inputs Capex'!$G$91","v":203.06238738354998},null,null,null,null,null,{"$f":"'DNSP Inputs Capex'!$G$92","v":15.489433285991614},null,null,null,null,null,null,{"$f":"'DNSP Inputs Capex'!$H$90","v":598.73311242994885},null,null,null,null,null,{"$f":"'DNSP Inputs Capex'!$H$91","v":203.06238738354998},null,null,null,null,null,{"$f":"'DNSP Inputs Capex'!$H$92","v":15.489433285991614}]
[]
["Capex",null,null,null,null,{"$f":"F101*F103","v":1533068.4279984755},null,null,null,null,null,{"$f":"L101*L103","v":537493.83578089229},null,null,null,null,null,{"$f":"R101*R103","v":40999.591397664757},null,null,null,null,null,null,{"$f":"Y101*Y103","v":1532080.1814647438},null,null,null,null,null,{"$f":"AE101*AE103","v":537158.66858152254},null,null,null,null,null,{"$f":"AK101*AK103","v":40974.02511706901},null,null,null,null,null,null,{"$f":"AR101*AR103","v":1531978.6844572863},null,null,null,null,null,{"$f":"AX101*AX103","v":537124.24552353774},null,null,null,null,null,{"$f":"BD101*BD103","v":40971.399354282381},null,null,null,null,null,null,{"$f":"BK101*BK103","v":1534070.205975339},null,null,null,null,null,{"$f":"BQ101*BQ103","v":537833.59221558261},null,null,null,null,null,{"$f":"BW101*BW103","v":41025.507741387642},null,null,null,null,null,null,{"$f":"CD101*CD103","v":1539316.8771147514},null,null,null,null,null,{"$f":"CJ101*CJ103","v":539613.01871675183},null,null,null,null,null,{"$f":"CP101*CP103","v":41161.240943544501}]
[]
[]
["Brackets"]
["Material",{"$f":"'DNSP Inputs Capex'!$D$83","v":48.364296883852695},{"$f":"'DNSP Inputs Capex'!$D$84","v":20},null,{"$f":"C109*B109","v":967.28593767705388},{"$f":"(E109+E110+E111)/C109","v":150.70347116011388},null,{"$f":"'DNSP Inputs Capex'!$D$83*(1+'DNSP Inputs Capex'!$D$11)","v":50.782511728045336},{"$f":"'DNSP Inputs Capex'!$D$84","v":20},null,{"$f":"I109*H109","v":1015.6502345609067},{"$f":"(K109+K110+K111)/I109","v":158.16918600430651},null,{"$f":"'DNSP Inputs Capex'!$D$83*(1+'DNSP Inputs Capex'!$D$11)","v":50.782511728045336},{"$f":"'DNSP Inputs Capex'!$D$84","v":20},null,{"$f":"O109*N109","v":1015.6502345609067},{"$f":"(Q109+Q110+Q111)/O109","v":158.16918600430651},null,null,{"$f":"'DNSP Inputs Capex'!$E$83","v":48.364296883852695},{"$f":"'DNSP Inputs Capex'!$E$84","v":20},null,{"$f":"V109*U109","v":967.28593767705388},{"$f":"(X109+X110+X111)/V109","v":150.49485603157706},null,{"$f":"'DNSP Inputs Capex'!$E$83*(1+'DNSP Inputs Capex'!$E$11)","v":50.782511728045336},{"$f":"'DNSP Inputs Capex'!$E$84","v":20},null,{"$f":"AB109*AA109","v":1015.6502345609067},{"$f":"(AD109+AD110+AD111)/AB109","v":157.96057087576972},null,{"$f":"'DNSP Inputs Capex'!$E$83*(1+'DNSP Inputs Capex'!$E$11)","v":50.782511728045336},{"$f":"'DNSP Inputs Capex'!$E$84","v":20},null,{"$f":"AH109*AG109","v":1015.6502345609067},{"$f":"(AJ109+AJ110+AJ111)/AH109","v":157.96057087576972},null,null,{"$f":"'DNSP Inputs Capex'!$F$83","v":48.364296883852695},{"$f":"'DNSP Inputs Capex'!$F$84","v":20},null,{"$f":"AO109*AN109","v":967.28593767705388},{"$f":"(AQ109+AQ110+AQ111)/AO109","v":150.43434520992841},null,{"$f":"'DNSP Inputs Capex'!$F$83*(1+'DNSP Inputs Capex'!$F$11)","v":50.782511728045336},{"$f":"'DNSP Inputs Capex'!$F$84","v":20},null,{"$f":"AU109*AT109","v":1015.6502345609067},{"$f":"(AW109+AW110+AW111)/AU109","v":157.90006005412107},null,{"$f":"'DNSP Inputs Capex'!$F$83*(1+'DNSP Inputs Capex'!$F$11)","v":50.782511728045336},{"$f":"'DNSP Inputs Capex'!$F$84","v":20},null,{"$f":"BA109*AZ109","v":1015.6502345609067},{"$f":"(BC109+BC110+BC111)/BA109","v":157.90006005412107},null,null,{"$f":"'DNSP Inputs Capex'!$G$83","v":48.364296883852695},{"$f":"'DNSP Inputs Capex'!$G$84","v":20},null,{"$f":"BH109*BG109","v":967.28593767705388},{"$f":"(BJ109+BJ110+BJ111)/BH109","v":150.74011086104912},null,{"$f":"'DNSP Inputs Capex'!$G$83*(1+'DNSP Inputs Capex'!$G$11)","v":50.782511728045336},{"$f":"'DNSP Inputs Capex'!$G$84","v":20},null,{"$f":"BN109*BM109","v":1015.6502345609067},{"$f":"(BP109+BP110+BP111)/BN109","v":158.20582570524178},null,{"$f":"'DNSP Inputs Capex'!$G$83*(1+'DNSP Inputs Capex'!$G$11)","v":50.782511728045336},{"$f":"'DNSP Inputs Capex'!$G$84","v":20},null,{"$f":"BT109*BS109","v":1015.6502345609067},{"$f":"(BV109+BV110+BV111)/BT109","v":158.20582570524178},null,null,{"$f":"'DNSP Inputs Capex'!$H$83","v":48.364296883852695},{"$f":"'DNSP Inputs Capex'!$H$84","v":20},null,{"$f":"CA109*BZ109","v":967.28593767705388},{"$f":"(CC109+CC110+CC111)/CA109","v":151.57284747065816},null,{"$f":"'DNSP Inputs Capex'!$H$83*(1+'DNSP Inputs Capex'!$H$11)","v":50.782511728045336},{"$f":"'DNSP Inputs Capex'!$H$84","v":20},null,{"$f":"CG109*CF109","v":1015.6502345609067},{"$f":"(CI109+CI110+CI111)/CG109","v":159.03856231485082},null,{"$f":"'DNSP Inputs Capex'!$H$83*(1+'DNSP Inputs Capex'!$H$11)","v":50.782511728045336},{"$f":"'DNSP Inputs Capex'!$H$84","v":20},null,{"$f":"CM109*CL109","v":1015.6502345609067},{"$f":"(CO109+CO110+CO111)/CM109","v":159.03856231485082}]
["Crew costs",{"$f":"'DNSP Inputs Capex'!$D$12","v":111.36223236834823},{"$f":"'DNSP Inputs Capex'!$D$23","v":2},{"$f":"'DNSP Inputs Capex'!$D$15","v":7.5},{"$f":"B110*C110*D110","v":1670.4334855252234},null,null,{"$f":"'DNSP Inputs Capex'!$D$12","v":111.36223236834823},{"$f":"'DNSP Inputs Capex'!$D$23","v":2},{"$f":"'DNSP Inputs Capex'!$D$15","v":7.5},{"$f":"H110*I110*J110","v":1670.4334855252234},null,null,{"$f":"'DNSP Inputs Capex'!$D$12","v":111.36223236834823},{"$f":"'DNSP Inputs Capex'!$D$23","v":2},{"$f":"'DNSP Inputs Capex'!$D$15","v":7.5},{"$f":"N110*O110*P110","v":1670.4334855252234},null,null,null,{"$f":"'DNSP Inputs Capex'!$E$12","v":111.08407886363248},{"$f":"'DNSP Inputs Capex'!$E$23","v":2},{"$f":"'DNSP Inputs Capex'!$E$15","v":7.5},{"$f":"U110*V110*W110","v":1666.2611829544874},null,null,{"$f":"'DNSP Inputs Capex'!$E$12","v":111.08407886363248},{"$f":"'DNSP Inputs Capex'!$E$23","v":2},{"$f":"'DNSP Inputs Capex'!$E$15","v":7.5},{"$f":"AA110*AB110*AC110","v":1666.2611829544874},null,null,{"$f":"'DNSP Inputs Capex'!$E$12","v":111.08407886363248},{"$f":"'DNSP Inputs Capex'!$E$23","v":2},{"$f":"'DNSP Inputs Capex'!$E$15","v":7.5},{"$f":"AG110*AH110*AI110","v":1666.2611829544874},null,null,null,{"$f":"'DNSP Inputs Capex'!$F$12","v":111.00339776810097},{"$f":"'DNSP Inputs Capex'!$F$23","v":2},{"$f":"'DNSP Inputs Capex'!$F$15","v":7.5},{"$f":"AN110*AO110*AP110","v":1665.0509665215145},null,null,{"$f":"'DNSP Inputs Capex'!$F$12","v":111.00339776810097},{"$f":"'DNSP Inputs Capex'!$F$23","v":2},{"$f":"'DNSP Inputs Capex'!$F$15","v":7.5},{"$f":"AT110*AU110*AV110","v":1665.0509665215145},null,null,{"$f":"'DNSP Inputs Capex'!$F$12","v":111.00339776810097},{"$f":"'DNSP Inputs Capex'!$F$23","v":2},{"$f":"'DNSP Inputs Capex'!$F$15","v":7.5},{"$f":"AZ110*BA110*BB110","v":1665.0509665215145},null,null,null,{"$f":"'DNSP Inputs Capex'!$G$12","v":111.41108530292857},{"$f":"'DNSP Inputs Capex'!$G$23","v":2},{"$f":"'DNSP Inputs Capex'!$G$15","v":7.5},{"$f":"BG110*BH110*BI110","v":1671.1662795439286},null,null,{"$f":"'DNSP Inputs Capex'!$G$12","v":111.41108530292857},{"$f":"'DNSP Inputs Capex'!$G$23","v":2},{"$f":"'DNSP Inputs Capex'!$G$15","v":7.5},{"$f":"BM110*BN110*BO110","v":1671.1662795439286},null,null,{"$f":"'DNSP Inputs Capex'!$G$12","v":111.41108530292857},{"$f":"'DNSP Inputs Capex'!$G$23","v":2},{"$f":"'DNSP Inputs Capex'!$G$15","v":7.5},{"$f":"BS110*BT110*BU110","v":1671.1662795439286},null,null,null,{"$f":"'DNSP Inputs Capex'!$H$12","v":112.5214007824073},{"$f":"'DNSP Inputs Capex'!$H$23","v":2},{"$f":"'DNSP Inputs Capex'!$H$15","v":7.5},{"$f":"BZ110*CA110*CB110","v":1687.8210117361095},null,null,{"$f":"'DNSP Inputs Capex'!$H$12","v":112.5214007824073},{"$f":"'DNSP Inputs Capex'!$H$23","v":2},{"$f":"'DNSP Inputs Capex'!$H$15","v":7.5},{"$f":"CF110*CG110*CH110","v":1687.8210117361095},null,null,{"$f":"'DNSP Inputs Capex'!$H$12","v":112.5214007824073},{"$f":"'DNSP Inputs Capex'!$H$23","v":2},{"$f":"'DNSP Inputs Capex'!$H$15","v":7.5},{"$f":"CL110*CM110*CN110","v":1687.8210117361095}]
["Elevated platform costs",{"$f":"'DNSP Inputs Capex'!$D$13","v":50.18},1,{"$f":"'DNSP Inputs Capex'!$D$15","v":7.5},{"$f":"B111*C111*D111","v":376.35},null,null,{"$f":"'DNSP Inputs Capex'!$D$14","v":63.64},1,{"$f":"'DNSP Inputs Capex'!$D$15","v":7.5},{"$f":"H111*I111*J111","v":477.3},null,null,{"$f":"'DNSP Inputs Capex'!$D$14","v":63.64},1,{"$f":"'DNSP Inputs Capex'!$D$15","v":7.5},{"$f":"N111*O111*P111","v":477.3},null,null,null,{"$f":"'DNSP Inputs Capex'!$E$13","v":50.18},1,{"$f":"'DNSP Inputs Capex'!$E$15","v":7.5},{"$f":"U111*V111*W111","v":376.35},null,null,{"$f":"'DNSP Inputs Capex'!$E$14","v":63.64},1,{"$f":"'DNSP Inputs Capex'!$E$15","v":7.5},{"$f":"AA111*AB111*AC111","v":477.3},null,null,{"$f":"'DNSP Inputs Capex'!$E$14","v":63.64},1,{"$f":"'DNSP Inputs Capex'!$E$15","v":7.5},{"$f":"AG111*AH111*AI111","v":477.3},null,null,null,{"$f":"'DNSP Inputs Capex'!$F$13","v":50.18},1,{"$f":"'DNSP Inputs Capex'!$F$15","v":7.5},{"$f":"AN111*AO111*AP111","v":376.35},null,null,{"$f":"'DNSP Inputs Capex'!$F$14","v":63.64},1,{"$f":"'DNSP Inputs Capex'!$F$15","v":7.5},{"$f":"AT111*AU111*AV111","v":477.3},null,null,{"$f":"'DNSP Inputs Capex'!$F$14","v":63.64},1,{"$f":"'DNSP Inputs Capex'!$F$15","v":7.5},{"$f":"AZ111*BA111*BB111","v":477.3},null,null,null,{"$f":"'DNSP Inputs Capex'!$G$13","v":50.18},1,{"$f":"'DNSP Inputs Capex'!$G$15","v":7.5},{"$f":"BG111*BH111*BI111","v":376.35},null,null,{"$f":"'DNSP Inputs Capex'!$G$14","v":63.64},1,{"$f":"'DNSP Inputs Capex'!$G$15","v":7.5},{"$f":"BM111*BN111*BO111","v":477.3},null,null,{"$f":"'DNSP Inputs Capex'!$G$14","v":63.64},1,{"$f":"'DNSP Inputs Capex'!$G$15","v":7.5},{"$f":"BS111*BT111*BU111","v":477.3},null,null,null,{"$f":"'DNSP Inputs Capex'!$H$13","v":50.18},1,{"$f":"'DNSP Inputs Capex'!$H$15","v":7.5},{"$f":"BZ111*CA111*CB111","v":376.35},null,null,{"$f":"'DNSP Inputs Capex'!$H$14","v":63.64},1,{"$f":"'DNSP Inputs Capex'!$H$15","v":7.5},{"$f":"CF111*CG111*CH111","v":477.3},null,null,{"$f":"'DNSP Inputs Capex'!$H$14","v":63.64},1,{"$f":"'DNSP Inputs Capex'!$H$15","v":7.5},{"$f":"CL111*CM111*CN111","v":477.3}]
[]
["Number of brackets replaced",null,null,null,null,{"$f":"'DNSP Inputs Capex'!$D$95","v":970.79642797264523},null,null,null,null,null,{"$f":"'DNSP Inputs Capex'!$D$96","v":327.85222323621383},null,null,null,null,null,{"$f":"'DNSP Inputs Capex'!$D$97","v":24.956389678402683},null,null,null,null,null,null,{"$f":"'DNSP Inputs Capex'!$E$95","v":970.79642797264523},null,null,null,null,null,{"$f":"'DNSP Inputs Capex'!$E$96","v":327.85222323621383},null,null,null,null,null,{"$f":"'DNSP Inputs Capex'!$E$97","v":24.956389678402683},null,null,null,null,null,null,{"$f":"'DNSP Inputs Capex'!$F$95","v":970.79642797264523},null,null,null,null,null,{"$f":"'DNSP Inputs Capex'!$F$96","v":327.85222323621383},null,null,null,null,null,{"$f":"'DNSP Inputs Capex'!$F$97","v":24.956389678402683},null,null,null,null,null,null,{"$f":"'DNSP Inputs Capex'!$G$95","v":970.79642797264523},null,null,null,null,null,{"$f":"'DNSP Inputs Capex'!$G$96","v":327.85222323621383},null,null,null,null,null,{"$f":"'DNSP Inputs Capex'!$G$97","v":24.956389678402683},null,null,null,null,null,null,{"$f":"'DNSP Inputs Capex'!$H$95","v":970.79642797264523},null,null,null,null,null,{"$f":"'DNSP Inputs Capex'!$H$96","v":327.85222323621383},null,null,null,null,null,{"$f":"'DNSP Inputs Capex'!$H$97","v":24.956389678402683}]
[]
["Capex",null,null,null,null,{"$f":"F109*F113","v":146302.39148531712},null,null,null,null,null,{"$f":"L109*L113","v":51856.119278974125},null,null,null,null,null,{"$f":"R109*R113","v":3947.3318410392289},null,null,null,null,null,null,{"$f":"Y109*Y113","v":146099.86866371252},null,null,null,null,null,{"$f":"AE109*AE113","v":51787.72434528263},null,null,null,null,null,{"$f":"AK109*AK113","v":3942.1255605986548},null,null,null,null,null,null,{"$f":"AR109*AR113","v":146041.12497420231},null,null,null,null,null,{"$f":"AX109*AX113","v":51767.885737875273},null,null,null,null,null,{"$f":"BD109*BD113","v":3940.6154289538308},null,null,null,null,null,null,{"$f":"BK109*BK113","v":146337.96117610703},null,null,null,null,null,{"$f":"BQ109*BQ113","v":51868.131686384462},null,null,null,null,null,{"$f":"BW109*BW113","v":3948.2462356934698},null,null,null,null,null,null,{"$f":"CD109*CD113","v":147146.37890215754},null,null,null,null,null,{"$f":"CJ109*CJ113","v":52141.146235214976},null,null,null,null,null,{"$f":"CP109*CP113","v":3969.0283350223449}]
[]
[" "]
[]
["T5 (2 X 14W)"]
["Luminaires "]
["Material & misc",{"$f":"'DNSP Inputs Capex'!$D$109+'DNSP Inputs Capex'!$D$110","v":261.62764567069206},{"$f":"'DNSP Inputs Capex'!$D$112","v":16},null,{"$f":"B121*C121","v":4186.042330731073},{"$f":"IFERROR((E121+E122+E123)/C121,0)","v":389.55161351601856},null,{"$f":"('DNSP Inputs Capex'!$D$109+'DNSP Inputs Capex'!$D$110)*(1+'DNSP Inputs Capex'!$D$11)","v":274.70902795422666},{"$f":"'DNSP Inputs Capex'!$D$113","v":13},null,{"$f":"H121*I121","v":3571.2173634049464},{"$f":"IFERROR((K121+K122+K123)/I121,0)","v":439.91929607155151},null,{"$f":"('DNSP Inputs Capex'!$D$109+'DNSP Inputs Capex'!$D$110)*(1+'DNSP Inputs Capex'!$D$11)","v":274.70902795422666},{"$f":"'DNSP Inputs Capex'!$D$114","v":10},null,{"$f":"N121*O121","v":2747.0902795422667},{"$f":"IFERROR((Q121+Q122+Q123)/O121,0)","v":489.48237650674901},null,null,{"$f":"'DNSP Inputs Capex'!$E$109+'DNSP Inputs Capex'!$E$110","v":261.62764567069206},{"$f":"'DNSP Inputs Capex'!$E$112","v":16},null,{"$f":"U121*V121","v":4186.042330731073},{"$f":"IFERROR((X121+X122+X123)/V121,0)","v":389.29084460534756},null,{"$f":"('DNSP Inputs Capex'!$E$109+'DNSP Inputs Capex'!$E$110)*(1+'DNSP Inputs Capex'!$E$11)","v":274.70902795422666},{"$f":"'DNSP Inputs Capex'!$E$113","v":13},null,{"$f":"AA121*AB121","v":3571.2173634049464},{"$f":"IFERROR((AD121+AD122+AD123)/AB121,0)","v":439.59834971995645},null,{"$f":"('DNSP Inputs Capex'!$E$109+'DNSP Inputs Capex'!$E$110)*(1+'DNSP Inputs Capex'!$E$11)","v":274.70902795422666},{"$f":"'DNSP Inputs Capex'!$E$114","v":10},null,{"$f":"AG121*AH121","v":2747.0902795422667},{"$f":"IFERROR((AJ121+AJ122+AJ123)/AH121,0)","v":489.06514624967542},null,null,{"$f":"'DNSP Inputs Capex'!$F$109+'DNSP Inputs Capex'!$F$110","v":261.62764567069206},{"$f":"'DNSP Inputs Capex'!$F$112","v":16},null,{"$f":"AN121*AO121","v":4186.042330731073},{"$f":"IFERROR((AQ121+AQ122+AQ123)/AO121,0)","v":389.21520607828677},null,{"$f":"('DNSP Inputs Capex'!$F$109+'DNSP Inputs Capex'!$F$110)*(1+'DNSP Inputs Capex'!$F$11)","v":274.70902795422666},{"$f":"'DNSP Inputs Capex'!$F$113","v":13},null,{"$f":"AT121*AU121","v":3571.2173634049464},{"$f":"IFERROR((AW121+AW122+AW123)/AU121,0)","v":439.50525614818929},null,{"$f":"('DNSP Inputs Capex'!$F$109+'DNSP Inputs Capex'!$F$110)*(1+'DNSP Inputs Capex'!$F$11)","v":274.70902795422666},{"$f":"'DNSP Inputs Capex'!$F$114","v":10},null,{"$f":"AZ121*BA121","v":2747.0902795422667},{"$f":"IFERROR((BC121+BC122+BC123)/BA121,0)","v":488.94412460637813},null,null,{"$f":"'DNSP Inputs Capex'!$G$109+'DNSP Inputs Capex'!$G$110","v":261.62764567069206},{"$f":"'DNSP Inputs Capex'!$G$112","v":16},null,{"$f":"BG121*BH121","v":4186.042330731073},{"$f":"IFERROR((BJ121+BJ122+BJ123)/BH121,0)","v":389.59741314218763},null,{"$f":"('DNSP Inputs Capex'!$G$109+'DNSP Inputs Capex'!$G$110)*(1+'DNSP Inputs Capex'!$G$11)","v":274.70902795422666},{"$f":"'DNSP Inputs Capex'!$G$113","v":13},null,{"$f":"BM121*BN121","v":3571.2173634049464},{"$f":"IFERROR((BP121+BP122+BP123)/BN121,0)","v":439.97566484222114},null,{"$f":"('DNSP Inputs Capex'!$G$109+'DNSP Inputs Capex'!$G$110)*(1+'DNSP Inputs Capex'!$G$11)","v":274.70902795422666},{"$f":"'DNSP Inputs Capex'!$G$114","v":10},null,{"$f":"BS121*BT121","v":2747.0902795422667},{"$f":"IFERROR((BV121+BV122+BV123)/BT121,0)","v":489.55565590861954},null,null,{"$f":"'DNSP Inputs Capex'!$H$109+'DNSP Inputs Capex'!$H$110","v":261.62764567069206},{"$f":"'DNSP Inputs Capex'!$H$112","v":16},null,{"$f":"BZ121*CA121","v":4186.042330731073},{"$f":"IFERROR((CC121+CC122+CC123)/CA121,0)","v":390.63833390419893},null,{"$f":"('DNSP Inputs Capex'!$H$109+'DNSP Inputs Capex'!$H$110)*(1+'DNSP Inputs Capex'!$H$11)","v":274.70902795422666},{"$f":"'DNSP Inputs Capex'!$H$113","v":13},null,{"$f":"CF121*CG121","v":3571.2173634049464},{"$f":"IFERROR((CI121+CI122+CI123)/CG121,0)","v":441.25679808777352},null,{"$f":"('DNSP Inputs Capex'!$H$109+'DNSP Inputs Capex'!$H$110)*(1+'DNSP Inputs Capex'!$H$11)","v":274.70902795422666},{"$f":"'DNSP Inputs Capex'!$H$114","v":10},null,{"$f":"CL121*CM121","v":2747.0902795422667},{"$f":"IFERROR((CO121+CO122+CO123)/CM121,0)","v":491.22112912783768}]
["Crew costs",{"$f":"'DNSP Inputs Capex'!$D$12","v":111.36223236834823},{"$f":"'DNSP Inputs Capex'!$D$111","v":2},{"$f":"'DNSP Inputs Capex'!$D$15","v":7.5},{"$f":"B122*C122*D122","v":1670.4334855252234},null,null,{"$f":"'DNSP Inputs Capex'!$D$12","v":111.36223236834823},{"$f":"'DNSP Inputs Capex'!$D$111","v":2},{"$f":"'DNSP Inputs Capex'!$D$15","v":7.5},{"$f":"H122*I122*J122","v":1670.4334855252234},null,null,{"$f":"'DNSP Inputs Capex'!$D$12","v":111.36223236834823},{"$f":"'DNSP Inputs Capex'!$D$111","v":2},{"$f":"'DNSP Inputs Capex'!$D$15","v":7.5},{"$f":"N122*O122*P122","v":1670.4334855252234},null,null,null,{"$f":"'DNSP Inputs Capex'!$E$12","v":111.08407886363248},{"$f":"'DNSP Inputs Capex'!$E$111","v":2},{"$f":"'DNSP Inputs Capex'!$E$15","v":7.5},{"$f":"U122*V122*W122","v":1666.2611829544874},null,null,{"$f":"'DNSP Inputs Capex'!$E$12","v":111.08407886363248},{"$f":"'DNSP Inputs Capex'!$E$111","v":2},{"$f":"'DNSP Inputs Capex'!$E$15","v":7.5},{"$f":"AA122*AB122*AC122","v":1666.2611829544874},null,null,{"$f":"'DNSP Inputs Capex'!$E$12","v":111.08407886363248},{"$f":"'DNSP Inputs Capex'!$E$111","v":2},{"$f":"'DNSP Inputs Capex'!$E$15","v":7.5},{"$f":"AG122*AH122*AI122","v":1666.2611829544874},null,null,null,{"$f":"'DNSP Inputs Capex'!$F$12","v":111.00339776810097},{"$f":"'DNSP Inputs Capex'!$F$111","v":2},{"$f":"'DNSP Inputs Capex'!$F$15","v":7.5},{"$f":"AN122*AO122*AP122","v":1665.0509665215145},null,null,{"$f":"'DNSP Inputs Capex'!$F$12","v":111.00339776810097},{"$f":"'DNSP Inputs Capex'!$F$111","v":2},{"$f":"'DNSP Inputs Capex'!$F$15","v":7.5},{"$f":"AT122*AU122*AV122","v":1665.0509665215145},null,null,{"$f":"'DNSP Inputs Capex'!$F$12","v":111.00339776810097},{"$f":"'DNSP Inputs Capex'!$F$111","v":2},{"$f":"'DNSP Inputs Capex'!$F$15","v":7.5},{"$f":"AZ122*BA122*BB122","v":1665.0509665215145},null,null,null,{"$f":"'DNSP Inputs Capex'!$G$12","v":111.41108530292857},{"$f":"'DNSP Inputs Capex'!$G$111","v":2},{"$f":"'DNSP Inputs Capex'!$G$15","v":7.5},{"$f":"BG122*BH122*BI122","v":1671.1662795439286},null,null,{"$f":"'DNSP Inputs Capex'!$G$12","v":111.41108530292857},{"$f":"'DNSP Inputs Capex'!$G$111","v":2},{"$f":"'DNSP Inputs Capex'!$G$15","v":7.5},{"$f":"BM122*BN122*BO122","v":1671.1662795439286},null,null,{"$f":"'DNSP Inputs Capex'!$G$12","v":111.41108530292857},{"$f":"'DNSP Inputs Capex'!$G$111","v":2},{"$f":"'DNSP Inputs Capex'!$G$15","v":7.5},{"$f":"BS122*BT122*BU122","v":1671.1662795439286},null,null,null,{"$f":"'DNSP Inputs Capex'!$H$12","v":112.5214007824073},{"$f":"'DNSP Inputs Capex'!$H$111","v":2},{"$f":"'DNSP Inputs Capex'!$H$15","v":7.5},{"$f":"BZ122*CA122*CB122","v":1687.8210117361095},null,null,{"$f":"'DNSP Inputs Capex'!$H$12","v":112.5214007824073},{"$f":"'DNSP Inputs Capex'!$H$111","v":2},{"$f":"'DNSP Inputs Capex'!$H$15","v":7.5},{"$f":"CF122*CG122*CH122","v":1687.8210117361095},null,null,{"$f":"'DNSP Inputs Capex'!$H$12","v":112.5214007824073},{"$f":"'DNSP Inputs Capex'!$H$111","v":2},{"$f":"'DNSP Inputs Capex'!$H$15","v":7.5},{"$f":"CL122*CM122*CN122","v":1687.8210117361095}]
["Elevated platform vehicle costs",{"$f":"'DNSP Inputs Capex'!$D$13","v":50.18},1,{"$f":"'DNSP Inputs Capex'!$D$15","v":7.5},{"$f":"B123*C123*D123","v":376.35},null,null,{"$f":"'DNSP Inputs Capex'!$D$14","v":63.64},1,{"$f":"'DNSP Inputs Capex'!$D$15","v":7.5},{"$f":"H123*I123*J123","v":477.3},null,null,{"$f":"'DNSP Inputs Capex'!$D$14","v":63.64},1,{"$f":"'DNSP Inputs Capex'!$D$15","v":7.5},{"$f":"N123*O123*P123","v":477.3},null,null,null,{"$f":"'DNSP Inputs Capex'!$E$13","v":50.18},1,{"$f":"'DNSP Inputs Capex'!$E$15","v":7.5},{"$f":"U123*V123*W123","v":376.35},null,null,{"$f":"'DNSP Inputs Capex'!$E$14","v":63.64},1,{"$f":"'DNSP Inputs Capex'!$E$15","v":7.5},{"$f":"AA123*AB123*AC123","v":477.3},null,null,{"$f":"'DNSP Inputs Capex'!$E$14","v":63.64},1,{"$f":"'DNSP Inputs Capex'!$E$15","v":7.5},{"$f":"AG123*AH123*AI123","v":477.3},null,null,null,{"$f":"'DNSP Inputs Capex'!$F$13","v":50.18},1,{"$f":"'DNSP Inputs Capex'!$F$15","v":7.5},{"$f":"AN123*AO123*AP123","v":376.35},null,null,{"$f":"'DNSP Inputs Capex'!$F$14","v":63.64},1,{"$f":"'DNSP Inputs Capex'!$F$15","v":7.5},{"$f":"AT123*AU123*AV123","v":477.3},null,null,{"$f":"'DNSP Inputs Capex'!$F$14","v":63.64},1,{"$f":"'DNSP Inputs Capex'!$F$15","v":7.5},{"$f":"AZ123*BA123*BB123","v":477.3},null,null,null,{"$f":"'DNSP Inputs Capex'!$G$13","v":50.18},1,{"$f":"'DNSP Inputs Capex'!$G$15","v":7.5},{"$f":"BG123*BH123*BI123","v":376.35},null,null,{"$f":"'DNSP Inputs Capex'!$G$14","v":63.64},1,{"$f":"'DNSP Inputs Capex'!$G$15","v":7.5},{"$f":"BM123*BN123*BO123","v":477.3},null,null,{"$f":"'DNSP Inputs Capex'!$G$14","v":63.64},1,{"$f":"'DNSP Inputs Capex'!$G$15","v":7.5},{"$f":"BS123*BT123*BU123","v":477.3},null,null,null,{"$f":"'DNSP Inputs Capex'!$H$13","v":50.18},1,{"$f":"'DNSP Inputs Capex'!$H$15","v":7.5},{"$f":"BZ123*CA123*CB123","v":376.35},null,null,{"$f":"'DNSP Inputs Capex'!$H$14","v":63.64},1,{"$f":"'DNSP Inputs Capex'!$H$15","v":7.5},{"$f":"CF123*CG123*CH123","v":477.3},null,null,{"$f":"'DNSP Inputs Capex'!$H$14","v":63.64},1,{"$f":"'DNSP Inputs Capex'!$H$15","v":7.5},{"$f":"CL123*CM123*CN123","v":477.3}]
[{"$f":"'DNSP Inputs Capex'!$A$28","v":"Other Capex unit costs Describe :………………………"},null,null,null,null,{"$f":"'DNSP Inputs Capex'!$D$116","v":0},null,null,null,null,null,{"$f":"'DNSP Inputs Capex'!$D$116","v":0},null,null,null,null,null,{"$f":"'DNSP Inputs Capex'!$D$116","v":0},null,null,null,null,null,null,{"$f":"'DNSP Inputs Capex'!$E$116","v":0},null,null,null,null,null,{"$f":"'DNSP Inputs Capex'!$E$116","v":0},null,null,null,null,null,{"$f":"'DNSP Inputs Capex'!$E$116","v":0},null,null,null,null,null,null,{"$f":"'DNSP Inputs Capex'!$F$116","v":0},null,null,null,null,null,{"$f":"'DNSP Inputs Capex'!$F$116","v":0},null,null,null,null,null,{"$f":"'DNSP Inputs Capex'!$F$116","v":0},null,null,null,null,null,null,{"$f":"'DNSP Inputs Capex'!$G$116","v":0},null,null,null,null,null,{"$f":"'DNSP Inputs Capex'!$G$116","v":0},null,null,null,null,null,{"$f":"'DNSP Inputs Capex'!$G$116","v":0},null,null,null,null,null,null,{"$f":"'DNSP Inputs Capex'!$H$116","v":0},null,null,null,null,null,{"$f":"'DNSP Inputs Capex'!$H$116","v":0},null,null,null,null,null,{"$f":"'DNSP Inputs Capex'!$H$116","v":0}]
[null,null,null,null,null,{"$f":"SUM(F121,F124)","v":389.55161351601856},null,null,null,null,null,{"$f":"SUM(L121,L124)","v":439.91929607155151},null,null,null,null,null,{"$f":"SUM(R121,R124)","v":489.48237650674901},null,null,null,null,null,null,{"$f":"SUM(Y121,Y124)","v":389.29084460534756},null,null,null,null,null,{"$f":"SUM(AE121,AE124)","v":439.59834971995645},null,null,null,null,null,{"$f":"SUM(AK121,AK124)","v":489.06514624967542},null,null,null,null,null,null,{"$f":"SUM(AR121,AR124)","v":389.21520607828677},null,null,null,null,null,{"$f":"SUM(AX121,AX124)","v":439.50525614818929},null,null,null,null,null,{"$f":"SUM(BD121,BD124)","v":488.94412460637813},null,null,null,null,null,null,{"$f":"SUM(BK121,BK124)","v":389.59741314218763},null,null,null,null,null,{"$f":"SUM(BQ121,BQ124)","v":439.97566484222114},null,null,null,null,null,{"$f":"SUM(BW121,BW124)","v":489.55565590861954},null,null,null,null,null,null,{"$f":"SUM(CD121,CD124)","v":390.63833390419893},null,null,null,null,null,{"$f":"SUM(CJ121,CJ124)","v":441.25679808777352},null,null,null,null,null,{"$f":"SUM(CP121,CP124)","v":491.22112912783768}]
[]
["Number of luminaires replaced",null,null,null,null,{"$f":"'DNSP Inputs Capex'!$D$119","v":332.31684954821867},null,null,null,null,null,{"$f":"'DNSP Inputs Capex'!$D$120","v":83.93658299992417},null,null,null,null,null,{"$f":"'DNSP Inputs Capex'!$D$121","v":16.290041644520521},null,null,null,null,null,null,{"$f":"'DNSP Inputs Capex'!$E$119","v":332.31684954821867},null,null,null,null,null,{"$f":"'DNSP Inputs Capex'!$E$120","v":83.93658299992417},null,null,null,null,null,{"$f":"'DNSP Inputs Capex'!$E$121","v":16.290041644520521},null,null,null,null,null,null,{"$f":"'DNSP Inputs Capex'!$F$119","v":332.31684954821867},null,null,null,null,null,{"$f":"'DNSP Inputs Capex'!$F$120","v":83.93658299992417},null,null,null,null,null,{"$f":"'DNSP Inputs Capex'!$F$121","v":16.290041644520521},null,null,null,null,null,null,{"$f":"'DNSP Inputs Capex'!$G$119","v":332.31684954821867},null,null,null,null,null,{"$f":"'DNSP Inputs Capex'!$G$120","v":83.93658299992417},null,null,null,null,null,{"$f":"'DNSP Inputs Capex'!$G$121","v":16.290041644520521},null,null,null,null,null,null,{"$f":"'DNSP Inputs Capex'!$H$119","v":332.31684954821867},null,null,null,null,null,{"$f":"'DNSP Inputs Capex'!$H$120","v":83.93658299992417},null,null,null,null,null,{"$f":"'DNSP Inputs Capex'!$H$121","v":16.290041644520521}]
[]
["Capex",null,null,null,null,{"$f":"F125*F127","v":129454.56494006857},null,null,null,null,null,{"$f":"L125*L127","v":36925.322507977995},null,null,null,null,null,{"$f":"R125*R127","v":7973.6882975538147},null,null,null,null,null,null,{"$f":"Y125*Y127","v":129367.90703721426},null,null,null,null,null,{"$f":"AE125*AE127","v":36898.383367898816},null,null,null,null,null,{"$f":"AK125*AK127","v":7966.8915992907314},null,null,null,null,null,null,{"$f":"AR125*AR127","v":129342.77108019695},null,null,null,null,null,{"$f":"AX125*AX127","v":36890.56941158542},null,null,null,null,null,{"$f":"BD125*BD127","v":7964.9201516815301},null,null,null,null,null,null,{"$f":"BK125*BK127","v":129469.78492754756},null,null,null,null,null,{"$f":"BQ125*BQ127","v":36930.053909975912},null,null,null,null,null,{"$f":"BW125*BW127","v":7974.8820220619709},null,null,null,null,null,null,{"$f":"CD125*CD127","v":129815.70043580848},null,null,null,null,null,{"$f":"CJ125*CJ127","v":37037.58785697518},null,null,null,null,null,{"$f":"CP125*CP127","v":8002.0126501608684}]
[]
[]
["T5 (2x24W)"]
["Luminaires "]
["Material & misc",{"$f":"'DNSP Inputs Capex'!$D$127+'DNSP Inputs Capex'!$D$128","v":268.67764567069207},{"$f":"'DNSP Inputs Capex'!$D$130","v":16},null,{"$f":"B134*C134","v":4298.8423307310732},{"$f":"IFERROR((E134+E135+E136)/C134,0)","v":396.60161351601857},null,{"$f":"('DNSP Inputs Capex'!$D$127+'DNSP Inputs Capex'!$D$128)*(1+'DNSP Inputs Capex'!$D$11)","v":282.11152795422669},{"$f":"'DNSP Inputs Capex'!$D$131","v":13},null,{"$f":"H134*I134","v":3667.4498634049469},{"$f":"IFERROR((K134+K135+K136)/I134,0)","v":447.3217960715516},null,{"$f":"('DNSP Inputs Capex'!$D$127+'DNSP Inputs Capex'!$D$128)*(1+'DNSP Inputs Capex'!$D$11)","v":282.11152795422669},{"$f":"'DNSP Inputs Capex'!$D$132","v":10},null,{"$f":"N134*O134","v":2821.1152795422668},{"$f":"IFERROR((Q134+Q135+Q136)/O134,0)","v":496.88487650674904},null,null,{"$f":"'DNSP Inputs Capex'!$E$127+'DNSP Inputs Capex'!$E$128","v":268.67764567069207},{"$f":"'DNSP Inputs Capex'!$E$130","v":16},null,{"$f":"U134*V134","v":4298.8423307310732},{"$f":"IFERROR((X134+X135+X136)/V134,0)","v":396.34084460534757},null,{"$f":"('DNSP Inputs Capex'!$E$127+'DNSP Inputs Capex'!$E$128)*(1+'DNSP Inputs Capex'!$E$11)","v":282.11152795422669},{"$f":"'DNSP Inputs Capex'!$E$131","v":13},null,{"$f":"AA134*AB134","v":3667.4498634049469},{"$f":"IFERROR((AD134+AD135+AD136)/AB134,0)","v":447.00084971995653},null,{"$f":"('DNSP Inputs Capex'!$E$127+'DNSP Inputs Capex'!$E$128)*(1+'DNSP Inputs Capex'!$E$11)","v":282.11152795422669},{"$f":"'DNSP Inputs Capex'!$E$132","v":10},null,{"$f":"AG134*AH134","v":2821.1152795422668},{"$f":"IFERROR((AJ134+AJ135+AJ136)/AH134,0)","v":496.46764624967545},null,null,{"$f":"'DNSP Inputs Capex'!$F$127+'DNSP Inputs Capex'!$F$128","v":268.67764567069207},{"$f":"'DNSP Inputs Capex'!$F$130","v":16},null,{"$f":"AN134*AO134","v":4298.8423307310732},{"$f":"IFERROR((AQ134+AQ135+AQ136)/AO134,0)","v":396.26520607828672},null,{"$f":"('DNSP Inputs Capex'!$F$127+'DNSP Inputs Capex'!$F$128)*(1+'DNSP Inputs Capex'!$F$11)","v":282.11152795422669},{"$f":"'DNSP Inputs Capex'!$F$131","v":13},null,{"$f":"AT134*AU134","v":3667.4498634049469},{"$f":"IFERROR((AW134+AW135+AW136)/AU134,0)","v":446.90775614818932},null,{"$f":"('DNSP Inputs Capex'!$F$127+'DNSP Inputs Capex'!$F$128)*(1+'DNSP Inputs Capex'!$F$11)","v":282.11152795422669},{"$f":"'DNSP Inputs Capex'!$F$132","v":10},null,{"$f":"AZ134*BA134","v":2821.1152795422668},{"$f":"IFERROR((BC134+BC135+BC136)/BA134,0)","v":496.34662460637821},null,null,{"$f":"'DNSP Inputs Capex'!$G$127+'DNSP Inputs Capex'!$G$128","v":268.67764567069207},{"$f":"'DNSP Inputs Capex'!$G$130","v":16},null,{"$f":"BG134*BH134","v":4298.8423307310732},{"$f":"IFERROR((BJ134+BJ135+BJ136)/BH134,0)","v":396.64741314218765},null,{"$f":"('DNSP Inputs Capex'!$G$127+'DNSP Inputs Capex'!$G$128)*(1+'DNSP Inputs Capex'!$G$11)","v":282.11152795422669},{"$f":"'DNSP Inputs Capex'!$G$131","v":13},null,{"$f":"BM134*BN134","v":3667.4498634049469},{"$f":"IFERROR((BP134+BP135+BP136)/BN134,0)","v":447.37816484222122},null,{"$f":"('DNSP Inputs Capex'!$G$127+'DNSP Inputs Capex'!$G$128)*(1+'DNSP Inputs Capex'!$G$11)","v":282.11152795422669},{"$f":"'DNSP Inputs Capex'!$G$132","v":10},null,{"$f":"BS134*BT134","v":2821.1152795422668},{"$f":"IFERROR((BV134+BV135+BV136)/BT134,0)","v":496.95815590861957},null,null,{"$f":"'DNSP Inputs Capex'!$H$127+'DNSP Inputs Capex'!$H$128","v":268.67764567069207},{"$f":"'DNSP Inputs Capex'!$H$130","v":16},null,{"$f":"BZ134*CA134","v":4298.8423307310732},{"$f":"IFERROR((CC134+CC135+CC136)/CA134,0)","v":397.68833390419894},null,{"$f":"('DNSP Inputs Capex'!$H$127+'DNSP Inputs Capex'!$H$128)*(1+'DNSP Inputs Capex'!$H$11)","v":282.11152795422669},{"$f":"'DNSP Inputs Capex'!$H$131","v":13},null,{"$f":"CF134*CG134","v":3667.4498634049469},{"$f":"IFERROR((CI134+CI135+CI136)/CG134,0)","v":448.65929808777361},null,{"$f":"('DNSP Inputs Capex'!$H$127+'DNSP Inputs Capex'!$H$128)*(1+'DNSP Inputs Capex'!$H$11)","v":282.11152795422669},{"$f":"'DNSP Inputs Capex'!$H$132","v":10},null,{"$f":"CL134*CM134","v":2821.1152795422668},{"$f":"IFERROR((CO134+CO135+CO136)/CM134,0)","v":498.62362912783766}]
["Crew costs",{"$f":"'DNSP Inputs Capex'!$D$12","v":111.36223236834823},{"$f":"'DNSP Inputs Capex'!$D$129","v":2},{"$f":"'DNSP Inputs Capex'!$D$15","v":7.5},{"$f":"B135*C135*D135","v":1670.4334855252234},null,null,{"$f":"'DNSP Inputs Capex'!$D$12","v":111.36223236834823},{"$f":"'DNSP Inputs Capex'!$D$129","v":2},{"$f":"'DNSP Inputs Capex'!$D$15","v":7.5},{"$f":"H135*I135*J135","v":1670.4334855252234},null,null,{"$f":"'DNSP Inputs Capex'!$D$12","v":111.36223236834823},{"$f":"'DNSP Inputs Capex'!$D$129","v":2},{"$f":"'DNSP Inputs Capex'!$D$15","v":7.5},{"$f":"N135*O135*P135","v":1670.4334855252234},null,null,null,{"$f":"'DNSP Inputs Capex'!$E$12","v":111.08407886363248},{"$f":"'DNSP Inputs Capex'!$E$129","v":2},{"$f":"'DNSP Inputs Capex'!$E$15","v":7.5},{"$f":"U135*V135*W135","v":1666.2611829544874},null,null,{"$f":"'DNSP Inputs Capex'!$E$12","v":111.08407886363248},{"$f":"'DNSP Inputs Capex'!$E$129","v":2},{"$f":"'DNSP Inputs Capex'!$E$15","v":7.5},{"$f":"AA135*AB135*AC135","v":1666.2611829544874},null,null,{"$f":"'DNSP Inputs Capex'!$E$12","v":111.08407886363248},{"$f":"'DNSP Inputs Capex'!$E$129","v":2},{"$f":"'DNSP Inputs Capex'!$E$15","v":7.5},{"$f":"AG135*AH135*AI135","v":1666.2611829544874},null,null,null,{"$f":"'DNSP Inputs Capex'!$F$12","v":111.00339776810097},{"$f":"'DNSP Inputs Capex'!$F$129","v":2},{"$f":"'DNSP Inputs Capex'!$F$15","v":7.5},{"$f":"AN135*AO135*AP135","v":1665.0509665215145},null,null,{"$f":"'DNSP Inputs Capex'!$F$12","v":111.00339776810097},{"$f":"'DNSP Inputs Capex'!$F$129","v":2},{"$f":"'DNSP Inputs Capex'!$F$15","v":7.5},{"$f":"AT135*AU135*AV135","v":1665.0509665215145},null,null,{"$f":"'DNSP Inputs Capex'!$F$12","v":111.00339776810097},{"$f":"'DNSP Inputs Capex'!$F$129","v":2},{"$f":"'DNSP Inputs Capex'!$F$15","v":7.5},{"$f":"AZ135*BA135*BB135","v":1665.0509665215145},null,null,null,{"$f":"'DNSP Inputs Capex'!$G$12","v":111.41108530292857},{"$f":"'DNSP Inputs Capex'!$G$129","v":2},{"$f":"'DNSP Inputs Capex'!$G$15","v":7.5},{"$f":"BG135*BH135*BI135","v":1671.1662795439286},null,null,{"$f":"'DNSP Inputs Capex'!$G$12","v":111.41108530292857},{"$f":"'DNSP Inputs Capex'!$G$129","v":2},{"$f":"'DNSP Inputs Capex'!$G$15","v":7.5},{"$f":"BM135*BN135*BO135","v":1671.1662795439286},null,null,{"$f":"'DNSP Inputs Capex'!$G$12","v":111.41108530292857},{"$f":"'DNSP Inputs Capex'!$G$129","v":2},{"$f":"'DNSP Inputs Capex'!$G$15","v":7.5},{"$f":"BS135*BT135*BU135","v":1671.1662795439286},null,null,null,{"$f":"'DNSP Inputs Capex'!$H$12","v":112.5214007824073},{"$f":"'DNSP Inputs Capex'!$H$129","v":2},{"$f":"'DNSP Inputs Capex'!$H$15","v":7.5},{"$f":"BZ135*CA135*CB135","v":1687.8210117361095},null,null,{"$f":"'DNSP Inputs Capex'!$H$12","v":112.5214007824073},{"$f":"'DNSP Inputs Capex'!$H$129","v":2},{"$f":"'DNSP Inputs Capex'!$H$15","v":7.5},{"$f":"CF135*CG135*CH135","v":1687.8210117361095},null,null,{"$f":"'DNSP Inputs Capex'!$H$12","v":112.5214007824073},{"$f":"'DNSP Inputs Capex'!$H$129","v":2},{"$f":"'DNSP Inputs Capex'!$H$15","v":7.5},{"$f":"CL135*CM135*CN135","v":1687.8210117361095}]
["Elevated platform vehicle costs",{"$f":"'DNSP Inputs Capex'!$D$13","v":50.18},1,{"$f":"'DNSP Inputs Capex'!$D$15","v":7.5},{"$f":"B136*C136*D136","v":376.35},null,null,{"$f":"'DNSP Inputs Capex'!$D$14","v":63.64},1,{"$f":"'DNSP Inputs Capex'!$D$15","v":7.5},{"$f":"H136*I136*J136","v":477.3},null,null,{"$f":"'DNSP Inputs Capex'!$D$14","v":63.64},1,{"$f":"'DNSP Inputs Capex'!$D$15","v":7.5},{"$f":"N136*O136*P136","v":477.3},null,null,null,{"$f":"'DNSP Inputs Capex'!$E$13","v":50.18},1,{"$f":"'DNSP Inputs Capex'!$E$15","v":7.5},{"$f":"U136*V136*W136","v":376.35},null,null,{"$f":"'DNSP Inputs Capex'!$E$14","v":63.64},1,{"$f":"'DNSP Inputs Capex'!$E$15","v":7.5},{"$f":"AA136*AB136*AC136","v":477.3},null,null,{"$f":"'DNSP Inputs Capex'!$E$14","v":63.64},1,{"$f":"'DNSP Inputs Capex'!$E$15","v":7.5},{"$f":"AG136*AH136*AI136","v":477.3},null,null,null,{"$f":"'DNSP Inputs Capex'!$F$13","v":50.18},1,{"$f":"'DNSP Inputs Capex'!$F$15","v":7.5},{"$f":"AN136*AO136*AP136","v":376.35},null,null,{"$f":"'DNSP Inputs Capex'!$F$14","v":63.64},1,{"$f":"'DNSP Inputs Capex'!$F$15","v":7.5},{"$f":"AT136*AU136*AV136","v":477.3},null,null,{"$f":"'DNSP Inputs Capex'!$F$14","v":63.64},1,{"$f":"'DNSP Inputs Capex'!$F$15","v":7.5},{"$f":"AZ136*BA136*BB136","v":477.3},null,null,null,{"$f":"'DNSP Inputs Capex'!$G$13","v":50.18},1,{"$f":"'DNSP Inputs Capex'!$G$15","v":7.5},{"$f":"BG136*BH136*BI136","v":376.35},null,null,{"$f":"'DNSP Inputs Capex'!$G$14","v":63.64},1,{"$f":"'DNSP Inputs Capex'!$G$15","v":7.5},{"$f":"BM136*BN136*BO136","v":477.3},null,null,{"$f":"'DNSP Inputs Capex'!$G$14","v":63.64},1,{"$f":"'DNSP Inputs Capex'!$G$15","v":7.5},{"$f":"BS136*BT136*BU136","v":477.3},null,null,null,{"$f":"'DNSP Inputs Capex'!$H$13","v":50.18},1,{"$f":"'DNSP Inputs Capex'!$H$15","v":7.5},{"$f":"BZ136*CA136*CB136","v":376.35},null,null,{"$f":"'DNSP Inputs Capex'!$H$14","v":63.64},1,{"$f":"'DNSP Inputs Capex'!$H$15","v":7.5},{"$f":"CF136*CG136*CH136","v":477.3},null,null,{"$f":"'DNSP Inputs Capex'!$H$14","v":63.64},1,{"$f":"'DNSP Inputs Capex'!$H$15","v":7.5},{"$f":"CL136*CM136*CN136","v":477.3}]
[{"$f":"'DNSP Inputs Capex'!$A$28","v":"Other Capex unit costs Describe :………………………"},null,null,null,null,{"$f":"'DNSP Inputs Capex'!$D$134","v":0},null,null,null,null,null,{"$f":"'DNSP Inputs Capex'!$D$134","v":0},null,null,null,null,null,{"$f":"'DNSP Inputs Capex'!$D$134","v":0},null,null,null,null,null,null,{"$f":"'DNSP Inputs Capex'!$E$134","v":0},null,null,null,null,null,{"$f":"'DNSP Inputs Capex'!$E$134","v":0},null,null,null,null,null,{"$f":"'DNSP Inputs Capex'!$E$134","v":0},null,null,null,null,null,null,{"$f":"'DNSP Inputs Capex'!$F$134","v":0},null,null,null,null,null,{"$f":"'DNSP Inputs Capex'!$F$134","v":0},null,null,null,null,null,{"$f":"'DNSP Inputs Capex'!$F$134","v":0},null,null,null,null,null,null,{"$f":"'DNSP Inputs Capex'!$G$134","v":0},null,null,null,null,null,{"$f":"'DNSP Inputs Capex'!$G$134","v":0},null,null,null,null,null,{"$f":"'DNSP Inputs Capex'!$G$134","v":0},null,null,null,null,null,null,{"$f":"'DNSP Inputs Capex'!$H$134","v":0},null,null,null,null,null,{"$f":"'DNSP Inputs Capex'!$H$134","v":0},null,null,null,null,null,{"$f":"'DNSP Inputs Capex'!$H$134","v":0}]
[null,null,null,null,null,{"$f":"SUM(F134,F137)","v":396.60161351601857},null,null,null,null,null,{"$f":"SUM(L134,L137)","v":447.3217960715516},null,null,null,null,null,{"$f":"SUM(R134,R137)","v":496.88487650674904},null,null,null,null,null,null,{"$f":"SUM(Y134,Y137)","v":396.34084460534757},null,null,null,null,null,{"$f":"SUM(AE134,AE137)","v":447.00084971995653},null,null,null,null,null,{"$f":"SUM(AK134,AK137)","v":496.46764624967545},null,null,null,null,null,null,{"$f":"SUM(AR134,AR137)","v":396.26520607828672},null,null,null,null,null,{"$f":"SUM(AX134,AX137)","v":446.90775614818932},null,null,null,null,null,{"$f":"SUM(BD134,BD137)","v":496.34662460637821},null,null,null,null,null,null,{"$f":"SUM(BK134,BK137)","v":396.64741314218765},null,null,null,null,null,{"$f":"SUM(BQ134,BQ137)","v":447.37816484222122},null,null,null,null,null,{"$f":"SUM(BW134,BW137)","v":496.95815590861957},null,null,null,null,null,null,{"$f":"SUM(CD134,CD137)","v":397.68833390419894},null,null,null,null,null,{"$f":"SUM(CJ134,CJ137)","v":448.65929808777361},null,null,null,null,null,{"$f":"SUM(CP134,CP137)","v":498.62362912783766}]
[]
["Number of luminaires replaced",null,null,null,null,{"$f":"'DNSP Inputs Capex'!$D$130","v":16},null,null,null,null,null,{"$f":"'DNSP Inputs Capex'!$D$131","v":13},null,null,null,null,null,{"$f":"'DNSP Inputs Capex'!$D$132","v":10},null,null,null,null,null,null,{"$f":"'DNSP Inputs Capex'!$E$130","v":16},null,null,null,null,null,{"$f":"'DNSP Inputs Capex'!$E$131","v":13},null,null,null,null,null,{"$f":"'DNSP Inputs Capex'!$E$132","v":10},null,null,null,null,null,null,{"$f":"'DNSP Inputs Capex'!$F$130","v":16},null,null,null,null,null,{"$f":"'DNSP Inputs Capex'!$F$131","v":13},null,null,null,null,null,{"$f":"'DNSP Inputs Capex'!$F$132","v":10},null,null,null,null,null,null,{"$f":"'DNSP Inputs Capex'!$G$130","v":16},null,null,null,null,null,{"$f":"'DNSP Inputs Capex'!$G$131","v":13},null,null,null,null,null,{"$f":"'DNSP Inputs Capex'!$G$132","v":10},null,null,null,null,null,null,{"$f":"'DNSP Inputs Capex'!$H$130","v":16},null,null,null,null,null,{"$f":"'DNSP Inputs Capex'!$H$131","v":13},null,null,null,null,null,{"$f":"'DNSP Inputs Capex'!$H$132","v":10}]
[]
["Capex",null,null,null,null,{"$f":"F138*F140","v":6345.6258162562972},null,null,null,null,null,{"$f":"L138*L140","v":5815.1833489301707},null,null,null,null,null,{"$f":"R138*R140","v":4968.8487650674906},null,null,null,null,null,null,{"$f":"Y138*Y140","v":6341.4535136855611},null,null,null,null,null,{"$f":"AE138*AE140","v":5811.0110463594347},null,null,null,null,null,{"$f":"AK138*AK140","v":4964.6764624967545},null,null,null,null,null,null,{"$f":"AR138*AR140","v":6340.2432972525876},null,null,null,null,null,{"$f":"AX138*AX140","v":5809.8008299264611},null,null,null,null,null,{"$f":"BD138*BD140","v":4963.4662460637819},null,null,null,null,null,null,{"$f":"BK138*BK140","v":6346.3586102750023},null,null,null,null,null,{"$f":"BQ138*BQ140","v":5815.9161429488759},null,null,null,null,null,{"$f":"BW138*BW140","v":4969.5815590861957},null,null,null,null,null,null,{"$f":"CD138*CD140","v":6363.0133424671831},null,null,null,null,null,{"$f":"CJ138*CJ140","v":5832.5708751410566},null,null,null,null,null,{"$f":"CP138*CP140","v":4986.2362912783765}]
[]
[]
["LED 18W"]
["Luminaires "]
["Material",{"$f":"'DNSP Inputs Capex'!$D$145","v":205},{"$f":"'DNSP Inputs Capex'!$D$147","v":16},null,{"$f":"B147*C147","v":3280},{"$f":"IFERROR((E147+E148+E149)/C147,0)","v":332.9239678453265},null,{"$f":"'DNSP Inputs Capex'!$D$145*(1+'DNSP Inputs Capex'!$D$11)","v":215.25},{"$f":"'DNSP Inputs Capex'!$D$148","v":13},null,{"$f":"H147*I147","v":2798.25},{"$f":"IFERROR((K147+K148+K149)/I147,0)","v":380.46026811732492},null,{"$f":"'DNSP Inputs Capex'!$D$145*(1+'DNSP Inputs Capex'!$D$11)","v":215.25},{"$f":"'DNSP Inputs Capex'!$D$149","v":10},null,{"$f":"N147*O147","v":2152.5},{"$f":"IFERROR((Q147+Q148+Q149)/O147,0)","v":430.02334855252241},null,null,{"$f":"'DNSP Inputs Capex'!$E$145","v":205},{"$f":"'DNSP Inputs Capex'!$E$147","v":16},null,{"$f":"U147*V147","v":3280},{"$f":"IFERROR((X147+X148+X149)/V147,0)","v":332.6631989346555},null,{"$f":"'DNSP Inputs Capex'!$E$145*(1+'DNSP Inputs Capex'!$E$11)","v":215.25},{"$f":"'DNSP Inputs Capex'!$E$148","v":13},null,{"$f":"AA147*AB147","v":2798.25},{"$f":"IFERROR((AD147+AD148+AD149)/AB147,0)","v":380.13932176572985},null,{"$f":"'DNSP Inputs Capex'!$E$145*(1+'DNSP Inputs Capex'!$E$11)","v":215.25},{"$f":"'DNSP Inputs Capex'!$E$149","v":10},null,{"$f":"AG147*AH147","v":2152.5},{"$f":"IFERROR((AJ147+AJ148+AJ149)/AH147,0)","v":429.60611829544877},null,null,{"$f":"'DNSP Inputs Capex'!$F$145","v":205},{"$f":"'DNSP Inputs Capex'!$F$147","v":16},null,{"$f":"AN147*AO147","v":3280},{"$f":"IFERROR((AQ147+AQ148+AQ149)/AO147,0)","v":332.58756040759465},null,{"$f":"'DNSP Inputs Capex'!$F$145*(1+'DNSP Inputs Capex'!$F$11)","v":215.25},{"$f":"'DNSP Inputs Capex'!$F$148","v":13},null,{"$f":"AT147*AU147","v":2798.25},{"$f":"IFERROR((AW147+AW148+AW149)/AU147,0)","v":380.04622819396263},null,{"$f":"'DNSP Inputs Capex'!$F$145*(1+'DNSP Inputs Capex'!$F$11)","v":215.25},{"$f":"'DNSP Inputs Capex'!$F$149","v":10},null,{"$f":"AZ147*BA147","v":2152.5},{"$f":"IFERROR((BC147+BC148+BC149)/BA147,0)","v":429.48509665215141},null,null,{"$f":"'DNSP Inputs Capex'!$G$145","v":205},{"$f":"'DNSP Inputs Capex'!$G$147","v":16},null,{"$f":"BG147*BH147","v":3280},{"$f":"IFERROR((BJ147+BJ148+BJ149)/BH147,0)","v":332.96976747149557},null,{"$f":"'DNSP Inputs Capex'!$G$145*(1+'DNSP Inputs Capex'!$G$11)","v":215.25},{"$f":"'DNSP Inputs Capex'!$G$148","v":13},null,{"$f":"BM147*BN147","v":2798.25},{"$f":"IFERROR((BP147+BP148+BP149)/BN147,0)","v":380.51663688799454},null,{"$f":"'DNSP Inputs Capex'!$G$145*(1+'DNSP Inputs Capex'!$G$11)","v":215.25},{"$f":"'DNSP Inputs Capex'!$G$149","v":10},null,{"$f":"BS147*BT147","v":2152.5},{"$f":"IFERROR((BV147+BV148+BV149)/BT147,0)","v":430.09662795439289},null,null,{"$f":"'DNSP Inputs Capex'!$H$145","v":205},{"$f":"'DNSP Inputs Capex'!$H$147","v":16},null,{"$f":"BZ147*CA147","v":3280},{"$f":"IFERROR((CC147+CC148+CC149)/CA147,0)","v":334.01068823350687},null,{"$f":"'DNSP Inputs Capex'!$H$145*(1+'DNSP Inputs Capex'!$H$11)","v":215.25},{"$f":"'DNSP Inputs Capex'!$H$148","v":13},null,{"$f":"CF147*CG147","v":2798.25},{"$f":"IFERROR((CI147+CI148+CI149)/CG147,0)","v":381.79777013354692},null,{"$f":"'DNSP Inputs Capex'!$H$145*(1+'DNSP Inputs Capex'!$H$11)","v":215.25},{"$f":"'DNSP Inputs Capex'!$H$149","v":10},null,{"$f":"CL147*CM147","v":2152.5},{"$f":"IFERROR((CO147+CO148+CO149)/CM147,0)","v":431.76210117361097}]
["Crew costs",{"$f":"'DNSP Inputs Capex'!$D$12","v":111.36223236834823},{"$f":"'DNSP Inputs Capex'!$D$146","v":2},{"$f":"'DNSP Inputs Capex'!$D$15","v":7.5},{"$f":"D148*C148*B148","v":1670.4334855252234},null,null,{"$f":"'DNSP Inputs Capex'!$D$12","v":111.36223236834823},{"$f":"'DNSP Inputs Capex'!$D$146","v":2},{"$f":"'DNSP Inputs Capex'!$D$15","v":7.5},{"$f":"J148*I148*H148","v":1670.4334855252234},null,null,{"$f":"'DNSP Inputs Capex'!$D$12","v":111.36223236834823},{"$f":"'DNSP Inputs Capex'!$D$146","v":2},{"$f":"'DNSP Inputs Capex'!$D$15","v":7.5},{"$f":"P148*O148*N148","v":1670.4334855252234},null,null,null,{"$f":"'DNSP Inputs Capex'!$E$12","v":111.08407886363248},{"$f":"'DNSP Inputs Capex'!$E$146","v":2},{"$f":"'DNSP Inputs Capex'!$E$15","v":7.5},{"$f":"W148*V148*U148","v":1666.2611829544874},null,null,{"$f":"'DNSP Inputs Capex'!$E$12","v":111.08407886363248},{"$f":"'DNSP Inputs Capex'!$E$146","v":2},{"$f":"'DNSP Inputs Capex'!$E$15","v":7.5},{"$f":"AC148*AB148*AA148","v":1666.2611829544874},null,null,{"$f":"'DNSP Inputs Capex'!$E$12","v":111.08407886363248},{"$f":"'DNSP Inputs Capex'!$E$146","v":2},{"$f":"'DNSP Inputs Capex'!$E$15","v":7.5},{"$f":"AI148*AH148*AG148","v":1666.2611829544874},null,null,null,{"$f":"'DNSP Inputs Capex'!$F$12","v":111.00339776810097},{"$f":"'DNSP Inputs Capex'!$F$146","v":2},{"$f":"'DNSP Inputs Capex'!$F$15","v":7.5},{"$f":"AP148*AO148*AN148","v":1665.0509665215145},null,null,{"$f":"'DNSP Inputs Capex'!$F$12","v":111.00339776810097},{"$f":"'DNSP Inputs Capex'!$F$146","v":2},{"$f":"'DNSP Inputs Capex'!$F$15","v":7.5},{"$f":"AV148*AU148*AT148","v":1665.0509665215145},null,null,{"$f":"'DNSP Inputs Capex'!$F$12","v":111.00339776810097},{"$f":"'DNSP Inputs Capex'!$F$146","v":2},{"$f":"'DNSP Inputs Capex'!$F$15","v":7.5},{"$f":"BB148*BA148*AZ148","v":1665.0509665215145},null,null,null,{"$f":"'DNSP Inputs Capex'!$G$12","v":111.41108530292857},{"$f":"'DNSP Inputs Capex'!$G$146","v":2},{"$f":"'DNSP Inputs Capex'!$G$15","v":7.5},{"$f":"BI148*BH148*BG148","v":1671.1662795439286},null,null,{"$f":"'DNSP Inputs Capex'!$G$12","v":111.41108530292857},{"$f":"'DNSP Inputs Capex'!$G$146","v":2},{"$f":"'DNSP Inputs Capex'!$G$15","v":7.5},{"$f":"BO148*BN148*BM148","v":1671.1662795439286},null,null,{"$f":"'DNSP Inputs Capex'!$G$12","v":111.41108530292857},{"$f":"'DNSP Inputs Capex'!$G$146","v":2},{"$f":"'DNSP Inputs Capex'!$G$15","v":7.5},{"$f":"BU148*BT148*BS148","v":1671.1662795439286},null,null,null,{"$f":"'DNSP Inputs Capex'!$H$12","v":112.5214007824073},{"$f":"'DNSP Inputs Capex'!$H$146","v":2},{"$f":"'DNSP Inputs Capex'!$H$15","v":7.5},{"$f":"CB148*CA148*BZ148","v":1687.8210117361095},null,null,{"$f":"'DNSP Inputs Capex'!$H$12","v":112.5214007824073},{"$f":"'DNSP Inputs Capex'!$H$146","v":2},{"$f":"'DNSP Inputs Capex'!$H$15","v":7.5},{"$f":"CH148*CG148*CF148","v":1687.8210117361095},null,null,{"$f":"'DNSP Inputs Capex'!$H$12","v":112.5214007824073},{"$f":"'DNSP Inputs Capex'!$H$146","v":2},{"$f":"'DNSP Inputs Capex'!$H$15","v":7.5},{"$f":"CN148*CM148*CL148","v":1687.8210117361095}]
["Elevated platform vehicle costs",{"$f":"'DNSP Inputs Capex'!$D$13","v":50.18},1,{"$f":"'DNSP Inputs Capex'!$D$15","v":7.5},{"$f":"B149*C149*D149","v":376.35},null,null,{"$f":"'DNSP Inputs Capex'!$D$14","v":63.64},1,{"$f":"'DNSP Inputs Capex'!$D$15","v":7.5},{"$f":"H149*I149*J149","v":477.3},null,null,{"$f":"'DNSP Inputs Capex'!$D$14","v":63.64},1,{"$f":"'DNSP Inputs Capex'!$D$15","v":7.5},{"$f":"N149*O149*P149","v":477.3},null,null,null,{"$f":"'DNSP Inputs Capex'!$E$13","v":50.18},1,{"$f":"'DNSP Inputs Capex'!$E$15","v":7.5},{"$f":"U149*V149*W149","v":376.35},null,null,{"$f":"'DNSP Inputs Capex'!$E$14","v":63.64},1,{"$f":"'DNSP Inputs Capex'!$E$15","v":7.5},{"$f":"AA149*AB149*AC149","v":477.3},null,null,{"$f":"'DNSP Inputs Capex'!$E$14","v":63.64},1,{"$f":"'DNSP Inputs Capex'!$E$15","v":7.5},{"$f":"AG149*AH149*AI149","v":477.3},null,null,null,{"$f":"'DNSP Inputs Capex'!$F$13","v":50.18},1,{"$f":"'DNSP Inputs Capex'!$F$15","v":7.5},{"$f":"AN149*AO149*AP149","v":376.35},null,null,{"$f":"'DNSP Inputs Capex'!$F$14","v":63.64},1,{"$f":"'DNSP Inputs Capex'!$F$15","v":7.5},{"$f":"AT149*AU149*AV149","v":477.3},null,null,{"$f":"'DNSP Inputs Capex'!$F$14","v":63.64},1,{"$f":"'DNSP Inputs Capex'!$F$15","v":7.5},{"$f":"AZ149*BA149*BB149","v":477.3},null,null,null,{"$f":"'DNSP Inputs Capex'!$G$13","v":50.18},1,{"$f":"'DNSP Inputs Capex'!$G$15","v":7.5},{"$f":"BG149*BH149*BI149","v":376.35},null,null,{"$f":"'DNSP Inputs Capex'!$G$14","v":63.64},1,{"$f":"'DNSP Inputs Capex'!$G$15","v":7.5},{"$f":"BM149*BN149*BO149","v":477.3},null,null,{"$f":"'DNSP Inputs Capex'!$G$14","v":63.64},1,{"$f":"'DNSP Inputs Capex'!$G$15","v":7.5},{"$f":"BS149*BT149*BU149","v":477.3},null,null,null,{"$f":"'DNSP Inputs Capex'!$H$13","v":50.18},1,{"$f":"'DNSP Inputs Capex'!$H$15","v":7.5},{"$f":"BZ149*CA149*CB149","v":376.35},null,null,{"$f":"'DNSP Inputs Capex'!$H$14","v":63.64},1,{"$f":"'DNSP Inputs Capex'!$H$15","v":7.5},{"$f":"CF149*CG149*CH149","v":477.3},null,null,{"$f":"'DNSP Inputs Capex'!$H$14","v":63.64},1,{"$f":"'DNSP Inputs Capex'!$H$15","v":7.5},{"$f":"CL149*CM149*CN149","v":477.3}]
[{"$f":"'DNSP Inputs Capex'!$A$151","v":"Other Capex unit costs Describe :………………………"},null,null,null,null,{"$f":"'DNSP Inputs Capex'!$D$151","v":0},null,null,null,null,null,{"$f":"'DNSP Inputs Capex'!$D$151","v":0},null,null,null,null,null,{"$f":"'DNSP Inputs Capex'!$D$151","v":0},null,null,null,null,null,null,{"$f":"'DNSP Inputs Capex'!$E$151","v":0},null,null,null,null,null,{"$f":"'DNSP Inputs Capex'!$E$151","v":0},null,null,null,null,null,{"$f":"'DNSP Inputs Capex'!$E$151","v":0},null,null,null,null,null,null,{"$f":"'DNSP Inputs Capex'!$F$151","v":0},null,null,null,null,null,{"$f":"'DNSP Inputs Capex'!$F$151","v":0},null,null,null,null,null,{"$f":"'DNSP Inputs Capex'!$F$151","v":0},null,null,null,null,null,null,{"$f":"'DNSP Inputs Capex'!$G$151","v":0},null,null,null,null,null,{"$f":"'DNSP Inputs Capex'!$G$151","v":0},null,null,null,null,null,{"$f":"'DNSP Inputs Capex'!$G$151","v":0},null,null,null,null,null,null,{"$f":"'DNSP Inputs Capex'!$H$151","v":0},null,null,null,null,null,{"$f":"'DNSP Inputs Capex'!$H$151","v":0},null,null,null,null,null,{"$f":"'DNSP Inputs Capex'!$H$151","v":0}]
[null,null,null,null,null,{"$f":"SUM(F147,F150)","v":332.9239678453265},null,null,null,null,null,{"$f":"SUM(L147,L150)","v":380.46026811732492},null,null,null,null,null,{"$f":"SUM(R147,R150)","v":430.02334855252241},null,null,null,null,null,null,{"$f":"SUM(Y147,Y150)","v":332.6631989346555},null,null,null,null,null,{"$f":"SUM(AE147,AE150)","v":380.13932176572985},null,null,null,null,null,{"$f":"SUM(AK147,AK150)","v":429.60611829544877},null,null,null,null,null,null,{"$f":"SUM(AR147,AR150)","v":332.58756040759465},null,null,null,null,null,{"$f":"SUM(AX147,AX150)","v":380.04622819396263},null,null,null,null,null,{"$f":"SUM(BD147,BD150)","v":429.48509665215141},null,null,null,null,null,null,{"$f":"SUM(BK147,BK150)","v":332.96976747149557},null,null,null,null,null,{"$f":"SUM(BQ147,BQ150)","v":380.51663688799454},null,null,null,null,null,{"$f":"SUM(BW147,BW150)","v":430.09662795439289},null,null,null,null,null,null,{"$f":"SUM(CD147,CD150)","v":334.01068823350687},null,null,null,null,null,{"$f":"SUM(CJ147,CJ150)","v":381.79777013354692},null,null,null,null,null,{"$f":"SUM(CP147,CP150)","v":431.76210117361097}]
[]
["Number of luminaires replaced",null,null,null,null,{"$f":"'DNSP Inputs Capex'!$D$154","v":513.79956222186661},null,null,null,null,null,{"$f":"'DNSP Inputs Capex'!$D$155","v":129.77548282126091},null,null,null,null,null,{"$f":"'DNSP Inputs Capex'!$D$156","v":25.186253050091501},null,null,null,null,null,null,{"$f":"'DNSP Inputs Capex'!$E$154","v":460.86257740550832},null,null,null,null,null,{"$f":"'DNSP Inputs Capex'!$E$155","v":116.40466028895577},null,null,null,null,null,{"$f":"'DNSP Inputs Capex'!$E$156","v":22.591302813995505},null,null,null,null,null,null,{"$f":"'DNSP Inputs Capex'!$F$154","v":408.6154517194613},null,null,null,null,null,{"$f":"'DNSP Inputs Capex'!$F$155","v":103.20808236154608},null,null,null,null,null,{"$f":"'DNSP Inputs Capex'!$F$156","v":20.030169201934381},null,null,null,null,null,null,{"$f":"'DNSP Inputs Capex'!$G$154","v":372.94975467769837},null,null,null,null,null,{"$f":"'DNSP Inputs Capex'!$G$155","v":94.1996413388717},null,null,null,null,null,{"$f":"'DNSP Inputs Capex'!$G$156","v":18.281850719495015},null,null,null,null,null,null,{"$f":"'DNSP Inputs Capex'!$H$154","v":363.13811242951317},null,null,null,null,null,{"$f":"'DNSP Inputs Capex'!$H$155","v":91.72141694233575},null,null,null,null,null,{"$f":"'DNSP Inputs Capex'!$H$156","v":17.800887864191822}]
[]
["Capex",null,null,null,null,{"$f":"F151*F153","v":171056.18893209554},null,null,null,null,null,{"$f":"L151*L153","v":49374.414989232217},null,null,null,null,null,{"$f":"R151*R153","v":10830.676874091529},null,null,null,null,null,null,{"$f":"Y151*Y153","v":153312.01926898668},null,null,null,null,null,{"$f":"AE151*AE153","v":44249.98861261383},null,null,null,null,null,{"$f":"AK151*AK153","v":9705.3619091576566},null,null,null,null,null,null,{"$f":"AR151*AR153","v":135900.41623222292},null,null,null,null,null,{"$f":"AX151*AX153","v":39223.842420637433},null,null,null,null,null,{"$f":"BD151*BD153","v":8602.6591556517342},null,null,null,null,null,null,{"$f":"BK151*BK153","v":124180.99309358455},null,null,null,null,null,{"$f":"BQ151*BQ153","v":35844.530718322763},null,null,null,null,null,{"$f":"BW151*BW153","v":7862.9623472203975},null,null,null,null,null,null,{"$f":"CD151*CD153","v":121292.01085639829},null,null,null,null,null,{"$f":"CJ151*CJ153","v":35019.032462073119},null,null,null,null,null,{"$f":"CP151*CP153","v":7685.748746999293}]
[]
[]
[{"$f":"'DNSP Inputs General'!A$72","v":"LED 14W"}]
["Luminaires "]
["Material",{"$f":"'DNSP Inputs Capex'!$D$162","v":205},{"$f":"'DNSP Inputs Capex'!$D$164","v":16},null,{"$f":"B160*C160","v":3280},{"$f":"IFERROR((E160+E161+E162)/C160,0)","v":332.9239678453265},null,{"$f":"'DNSP Inputs Capex'!$D$162*(1+'DNSP Inputs Capex'!$D$11)","v":215.25},{"$f":"'DNSP Inputs Capex'!$D$165","v":13},null,{"$f":"H160*I160","v":2798.25},{"$f":"IFERROR((K160+K161+K162)/I160,0)","v":380.46026811732492},null,{"$f":"'DNSP Inputs Capex'!$D$162*(1+'DNSP Inputs Capex'!$D$11)","v":215.25},{"$f":"'DNSP Inputs Capex'!$D$166","v":10},null,{"$f":"N160*O160","v":2152.5},{"$f":"IFERROR((Q160+Q161+Q162)/O160,0)","v":430.02334855252241},null,null,{"$f":"'DNSP Inputs Capex'!$E$162","v":205},{"$f":"'DNSP Inputs Capex'!$E$164","v":16},null,{"$f":"U160*V160","v":3280},{"$f":"IFERROR((X160+X161+X162)/V160,0)","v":332.6631989346555},null,{"$f":"'DNSP Inputs Capex'!$E$162*(1+'DNSP Inputs Capex'!$E$11)","v":215.25},{"$f":"'DNSP Inputs Capex'!$E$165","v":13},null,{"$f":"AA160*AB160","v":2798.25},{"$f":"IFERROR((AD160+AD161+AD162)/AB160,0)","v":380.13932176572985},null,{"$f":"'DNSP Inputs Capex'!$E$162*(1+'DNSP Inputs Capex'!$E$11)","v":215.25},{"$f":"'DNSP Inputs Capex'!$E$166","v":10},null,{"$f":"AG160*AH160","v":2152.5},{"$f":"IFERROR((AJ160+AJ161+AJ162)/AH160,0)","v":429.60611829544877},null,null,{"$f":"'DNSP Inputs Capex'!$F$162","v":205},{"$f":"'DNSP Inputs Capex'!$F$164","v":16},null,{"$f":"AN160*AO160","v":3280},{"$f":"IFERROR((AQ160+AQ161+AQ162)/AO160,0)","v":332.58756040759465},null,{"$f":"'DNSP Inputs Capex'!$F$162*(1+'DNSP Inputs Capex'!$F$11)","v":215.25},{"$f":"'DNSP Inputs Capex'!$F$165","v":13},null,{"$f":"AT160*AU160","v":2798.25},{"$f":"IFERROR((AW160+AW161+AW162)/AU160,0)","v":380.04622819396263},null,{"$f":"'DNSP Inputs Capex'!$F$162*(1+'DNSP Inputs Capex'!$F$11)","v":215.25},{"$f":"'DNSP Inputs Capex'!$F$166","v":10},null,{"$f":"AZ160*BA160","v":2152.5},{"$f":"IFERROR((BC160+BC161+BC162)/BA160,0)","v":429.48509665215141},null,null,{"$f":"'DNSP Inputs Capex'!$G$162","v":205},{"$f":"'DNSP Inputs Capex'!$G$164","v":16},null,{"$f":"BG160*BH160","v":3280},{"$f":"IFERROR((BJ160+BJ161+BJ162)/BH160,0)","v":332.96976747149557},null,{"$f":"'DNSP Inputs Capex'!$G$162*(1+'DNSP Inputs Capex'!$G$11)","v":215.25},{"$f":"'DNSP Inputs Capex'!$G$165","v":13},null,{"$f":"BM160*BN160","v":2798.25},{"$f":"IFERROR((BP160+BP161+BP162)/BN160,0)","v":380.51663688799454},null,{"$f":"'DNSP Inputs Capex'!$G$162*(1+'DNSP Inputs Capex'!$G$11)","v":215.25},{"$f":"'DNSP Inputs Capex'!$G$166","v":10},null,{"$f":"BS160*BT160","v":2152.5},{"$f":"IFERROR((BV160+BV161+BV162)/BT160,0)","v":430.09662795439289},null,null,{"$f":"'DNSP Inputs Capex'!$H$162","v":205},{"$f":"'DNSP Inputs Capex'!$H$164","v":16},null,{"$f":"BZ160*CA160","v":3280},{"$f":"IFERROR((CC160+CC161+CC162)/CA160,0)","v":334.01068823350687},null,{"$f":"'DNSP Inputs Capex'!$H$162*(1+'DNSP Inputs Capex'!$H$11)","v":215.25},{"$f":"'DNSP Inputs Capex'!$H$165","v":13},null,{"$f":"CF160*CG160","v":2798.25},{"$f":"IFERROR((CI160+CI161+CI162)/CG160,0)","v":381.79777013354692},null,{"$f":"'DNSP Inputs Capex'!$H$162*(1+'DNSP Inputs Capex'!$H$11)","v":215.25},{"$f":"'DNSP Inputs Capex'!$H$166","v":10},null,{"$f":"CL160*CM160","v":2152.5},{"$f":"IFERROR((CO160+CO161+CO162)/CM160,0)","v":431.76210117361097}]
["Crew costs",{"$f":"'DNSP Inputs Capex'!$D$12","v":111.36223236834823},{"$f":"'DNSP Inputs Capex'!$D$163","v":2},{"$f":"'DNSP Inputs Capex'!$D$15","v":7.5},{"$f":"D161*C161*B161","v":1670.4334855252234},null,null,{"$f":"'DNSP Inputs Capex'!$D$12","v":111.36223236834823},{"$f":"'DNSP Inputs Capex'!$D$163","v":2},{"$f":"'DNSP Inputs Capex'!$D$15","v":7.5},{"$f":"J161*I161*H161","v":1670.4334855252234},null,null,{"$f":"'DNSP Inputs Capex'!$D$12","v":111.36223236834823},{"$f":"'DNSP Inputs Capex'!$D$163","v":2},{"$f":"'DNSP Inputs Capex'!$D$15","v":7.5},{"$f":"P161*O161*N161","v":1670.4334855252234},null,null,null,{"$f":"'DNSP Inputs Capex'!$E$12","v":111.08407886363248},{"$f":"'DNSP Inputs Capex'!$E$163","v":2},{"$f":"'DNSP Inputs Capex'!$E$15","v":7.5},{"$f":"W161*V161*U161","v":1666.2611829544874},null,null,{"$f":"'DNSP Inputs Capex'!$E$12","v":111.08407886363248},{"$f":"'DNSP Inputs Capex'!$E$163","v":2},{"$f":"'DNSP Inputs Capex'!$E$15","v":7.5},{"$f":"AC161*AB161*AA161","v":1666.2611829544874},null,null,{"$f":"'DNSP Inputs Capex'!$E$12","v":111.08407886363248},{"$f":"'DNSP Inputs Capex'!$E$163","v":2},{"$f":"'DNSP Inputs Capex'!$E$15","v":7.5},{"$f":"AI161*AH161*AG161","v":1666.2611829544874},null,null,null,{"$f":"'DNSP Inputs Capex'!$F$12","v":111.00339776810097},{"$f":"'DNSP Inputs Capex'!$F$163","v":2},{"$f":"'DNSP Inputs Capex'!$F$15","v":7.5},{"$f":"AP161*AO161*AN161","v":1665.0509665215145},null,null,{"$f":"'DNSP Inputs Capex'!$F$12","v":111.00339776810097},{"$f":"'DNSP Inputs Capex'!$F$163","v":2},{"$f":"'DNSP Inputs Capex'!$F$15","v":7.5},{"$f":"AV161*AU161*AT161","v":1665.0509665215145},null,null,{"$f":"'DNSP Inputs Capex'!$F$12","v":111.00339776810097},{"$f":"'DNSP Inputs Capex'!$F$163","v":2},{"$f":"'DNSP Inputs Capex'!$F$15","v":7.5},{"$f":"BB161*BA161*AZ161","v":1665.0509665215145},null,null,null,{"$f":"'DNSP Inputs Capex'!$G$12","v":111.41108530292857},{"$f":"'DNSP Inputs Capex'!$G$163","v":2},{"$f":"'DNSP Inputs Capex'!$G$15","v":7.5},{"$f":"BI161*BH161*BG161","v":1671.1662795439286},null,null,{"$f":"'DNSP Inputs Capex'!$G$12","v":111.41108530292857},{"$f":"'DNSP Inputs Capex'!$G$163","v":2},{"$f":"'DNSP Inputs Capex'!$G$15","v":7.5},{"$f":"BO161*BN161*BM161","v":1671.1662795439286},null,null,{"$f":"'DNSP Inputs Capex'!$G$12","v":111.41108530292857},{"$f":"'DNSP Inputs Capex'!$G$163","v":2},{"$f":"'DNSP Inputs Capex'!$G$15","v":7.5},{"$f":"BU161*BT161*BS161","v":1671.1662795439286},null,null,null,{"$f":"'DNSP Inputs Capex'!$H$12","v":112.5214007824073},{"$f":"'DNSP Inputs Capex'!$H$163","v":2},{"$f":"'DNSP Inputs Capex'!$H$15","v":7.5},{"$f":"CB161*CA161*BZ161","v":1687.8210117361095},null,null,{"$f":"'DNSP Inputs Capex'!$H$12","v":112.5214007824073},{"$f":"'DNSP Inputs Capex'!$H$163","v":2},{"$f":"'DNSP Inputs Capex'!$H$15","v":7.5},{"$f":"CH161*CG161*CF161","v":1687.8210117361095},null,null,{"$f":"'DNSP Inputs Capex'!$H$12","v":112.5214007824073},{"$f":"'DNSP Inputs Capex'!$H$163","v":2},{"$f":"'DNSP Inputs Capex'!$H$15","v":7.5},{"$f":"CN161*CM161*CL161","v":1687.8210117361095}]
["Elevated platform vehicle costs",{"$f":"'DNSP Inputs Capex'!$D$13","v":50.18},1,{"$f":"'DNSP Inputs Capex'!$D$15","v":7.5},{"$f":"B162*C162*D162","v":376.35},null,null,{"$f":"'DNSP Inputs Capex'!$D$14","v":63.64},1,{"$f":"'DNSP Inputs Capex'!$D$15","v":7.5},{"$f":"H162*I162*J162","v":477.3},null,null,{"$f":"'DNSP Inputs Capex'!$D$14","v":63.64},1,{"$f":"'DNSP Inputs Capex'!$D$15","v":7.5},{"$f":"N162*O162*P162","v":477.3},null,null,null,{"$f":"'DNSP Inputs Capex'!$E$13","v":50.18},1,{"$f":"'DNSP Inputs Capex'!$E$15","v":7.5},{"$f":"U162*V162*W162","v":376.35},null,null,{"$f":"'DNSP Inputs Capex'!$E$14","v":63.64},1,{"$f":"'DNSP Inputs Capex'!$E$15","v":7.5},{"$f":"AA162*AB162*AC162","v":477.3},null,null,{"$f":"'DNSP Inputs Capex'!$E$14","v":63.64},1,{"$f":"'DNSP Inputs Capex'!$E$15","v":7.5},{"$f":"AG162*AH162*AI162","v":477.3},null,null,null,{"$f":"'DNSP Inputs Capex'!$F$13","v":50.18},1,{"$f":"'DNSP Inputs Capex'!$F$15","v":7.5},{"$f":"AN162*AO162*AP162","v":376.35},null,null,{"$f":"'DNSP Inputs Capex'!$F$14","v":63.64},1,{"$f":"'DNSP Inputs Capex'!$F$15","v":7.5},{"$f":"AT162*AU162*AV162","v":477.3},null,null,{"$f":"'DNSP Inputs Capex'!$F$14","v":63.64},1,{"$f":"'DNSP Inputs Capex'!$F$15","v":7.5},{"$f":"AZ162*BA162*BB162","v":477.3},null,null,null,{"$f":"'DNSP Inputs Capex'!$G$13","v":50.18},1,{"$f":"'DNSP Inputs Capex'!$G$15","v":7.5},{"$f":"BG162*BH162*BI162","v":376.35},null,null,{"$f":"'DNSP Inputs Capex'!$G$14","v":63.64},1,{"$f":"'DNSP Inputs Capex'!$G$15","v":7.5},{"$f":"BM162*BN162*BO162","v":477.3},null,null,{"$f":"'DNSP Inputs Capex'!$G$14","v":63.64},1,{"$f":"'DNSP Inputs Capex'!$G$15","v":7.5},{"$f":"BS162*BT162*BU162","v":477.3},null,null,null,{"$f":"'DNSP Inputs Capex'!$H$13","v":50.18},1,{"$f":"'DNSP Inputs Capex'!$H$15","v":7.5},{"$f":"BZ162*CA162*CB162","v":376.35},null,null,{"$f":"'DNSP Inputs Capex'!$H$14","v":63.64},1,{"$f":"'DNSP Inputs Capex'!$H$15","v":7.5},{"$f":"CF162*CG162*CH162","v":477.3},null,null,{"$f":"'DNSP Inputs Capex'!$H$14","v":63.64},1,{"$f":"'DNSP Inputs Capex'!$H$15","v":7.5},{"$f":"CL162*CM162*CN162","v":477.3}]
[{"$f":"'DNSP Inputs Capex'!$A$151","v":"Other Capex unit costs Describe :………………………"},null,null,null,null,{"$f":"'DNSP Inputs Capex'!$D$168","v":0},null,null,null,null,null,{"$f":"'DNSP Inputs Capex'!$D$168","v":0},null,null,null,null,null,{"$f":"'DNSP Inputs Capex'!$D$168","v":0},null,null,null,null,null,null,{"$f":"'DNSP Inputs Capex'!$E$168","v":0},null,null,null,null,null,{"$f":"'DNSP Inputs Capex'!$E$168","v":0},null,null,null,null,null,{"$f":"'DNSP Inputs Capex'!$E$168","v":0},null,null,null,null,null,null,{"$f":"'DNSP Inputs Capex'!$F$168","v":0},null,null,null,null,null,{"$f":"'DNSP Inputs Capex'!$F$168","v":0},null,null,null,null,null,{"$f":"'DNSP Inputs Capex'!$F$168","v":0},null,null,null,null,null,null,{"$f":"'DNSP Inputs Capex'!$G$168","v":0},null,null,null,null,null,{"$f":"'DNSP Inputs Capex'!$G$168","v":0},null,null,null,null,null,{"$f":"'DNSP Inputs Capex'!$G$168","v":0},null,null,null,null,null,null,{"$f":"'DNSP Inputs Capex'!$H$168","v":0},null,null,null,null,null,{"$f":"'DNSP Inputs Capex'!$H$168","v":0},null,null,null,null,null,{"$f":"'DNSP Inputs Capex'!$H$168","v":0}]
[null,null,null,null,null,{"$f":"SUM(F160,F163)","v":332.9239678453265},null,null,null,null,null,{"$f":"SUM(L160,L163)","v":380.46026811732492},null,null,null,null,null,{"$f":"SUM(R160,R163)","v":430.02334855252241},null,null,null,null,null,null,{"$f":"SUM(Y160,Y163)","v":332.6631989346555},null,null,null,null,null,{"$f":"SUM(AE160,AE163)","v":380.13932176572985},null,null,null,null,null,{"$f":"SUM(AK160,AK163)","v":429.60611829544877},null,null,null,null,null,null,{"$f":"SUM(AR160,AR163)","v":332.58756040759465},null,null,null,null,null,{"$f":"SUM(AX160,AX163)","v":380.04622819396263},null,null,null,null,null,{"$f":"SUM(BD160,BD163)","v":429.48509665215141},null,null,null,null,null,null,{"$f":"SUM(BK160,BK163)","v":332.96976747149557},null,null,null,null,null,{"$f":"SUM(BQ160,BQ163)","v":380.51663688799454},null,null,null,null,null,{"$f":"SUM(BW160,BW163)","v":430.09662795439289},null,null,null,null,null,null,{"$f":"SUM(CD160,CD163)","v":334.01068823350687},null,null,null,null,null,{"$f":"SUM(CJ160,CJ163)","v":381.79777013354692},null,null,null,null,null,{"$f":"SUM(CP160,CP163)","v":431.76210117361097}]
[]
["Number of luminaires replaced",null,null,null,null,{"$f":"'DNSP Inputs Capex'!$D$171","v":0},null,null,null,null,null,{"$f":"'DNSP Inputs Capex'!$D$172","v":0},null,null,null,null,null,{"$f":"'DNSP Inputs Capex'!$D$173","v":0},null,null,null,null,null,null,{"$f":"'DNSP Inputs Capex'!$E$171","v":0},null,null,null,null,null,{"$f":"'DNSP Inputs Capex'!$E$172","v":0},null,null,null,null,null,{"$f":"'DNSP Inputs Capex'!$E$173","v":0},null,null,null,null,null,null,{"$f":"'DNSP Inputs Capex'!$F$171","v":1},null,null,null,null,null,{"$f":"'DNSP Inputs Capex'!$F$172","v":0},null,null,null,null,null,{"$f":"'DNSP Inputs Capex'!$F$173","v":0},null,null,null,null,null,null,{"$f":"'DNSP Inputs Capex'!$G$171","v":0},null,null,null,null,null,{"$f":"'DNSP Inputs Capex'!$G$172","v":1},null,null,null,null,null,{"$f":"'DNSP Inputs Capex'!$G$173","v":0},null,null,null,null,null,null,{"$f":"'DNSP Inputs Capex'!$H$171","v":1},null,null,null,null,null,{"$f":"'DNSP Inputs Capex'!$H$172","v":0},null,null,null,null,null,{"$f":"'DNSP Inputs Capex'!$H$173","v":0}]
[]
["Capex",null,null,null,null,{"$f":"F164*F166","v":0},null,null,null,null,null,{"$f":"L164*L166","v":0},null,null,null,null,null,{"$f":"R164*R166","v":0},null,null,null,null,null,null,{"$f":"Y164*Y166","v":0},null,null,null,null,null,{"$f":"AE164*AE166","v":0},null,null,null,null,null,{"$f":"AK164*AK166","v":0},null,null,null,null,null,null,{"$f":"AR164*AR166","v":332.58756040759465},null,null,null,null,null,{"$f":"AX164*AX166","v":0},null,null,null,null,null,{"$f":"BD164*BD166","v":0},null,null,null,null,null,null,{"$f":"BK164*BK166","v":0},null,null,null,null,null,{"$f":"BQ164*BQ166","v":380.51663688799454},null,null,null,null,null,{"$f":"BW164*BW166","v":0},null,null,null,null,null,null,{"$f":"CD164*CD166","v":334.01068823350687},null,null,null,null,null,{"$f":"CJ164*CJ166","v":0},null,null,null,null,null,{"$f":"CP164*CP166","v":0}]
[]
[]
[{"$f":"'DNSP Inputs General'!A$73","v":"LED 70W-125W (L1)"}]
["Luminaires "]
["Material",{"$f":"'DNSP Inputs Capex'!$D$179","v":402},{"$f":"'DNSP Inputs Capex'!$D$181","v":16},null,{"$f":"B173*C173","v":6432},{"$f":"IFERROR((E173+E174+E175)/C173,0)","v":529.9239678453265},null,{"$f":"'DNSP Inputs Capex'!$D$179*(1+'DNSP Inputs Capex'!$D$11)","v":422.1},{"$f":"'DNSP Inputs Capex'!$D$182","v":13},null,{"$f":"H173*I173","v":5487.3},{"$f":"IFERROR((K173+K174+K175)/I173,0)","v":587.31026811732488},null,{"$f":"'DNSP Inputs Capex'!$D$179*(1+'DNSP Inputs Capex'!$D$11)","v":422.1},{"$f":"'DNSP Inputs Capex'!$D$183","v":10},null,{"$f":"N173*O173","v":4221},{"$f":"IFERROR((Q173+Q174+Q175)/O173,0)","v":636.87334855252243},null,null,{"$f":"'DNSP Inputs Capex'!$E$179","v":402},{"$f":"'DNSP Inputs Capex'!$E$181","v":16},null,{"$f":"U173*V173","v":6432},{"$f":"IFERROR((X173+X174+X175)/V173,0)","v":529.6631989346555},null,{"$f":"'DNSP Inputs Capex'!$E$179*(1+'DNSP Inputs Capex'!$E$11)","v":422.1},{"$f":"'DNSP Inputs Capex'!$E$182","v":13},null,{"$f":"AA173*AB173","v":5487.3},{"$f":"IFERROR((AD173+AD174+AD175)/AB173,0)","v":586.98932176572987},null,{"$f":"'DNSP Inputs Capex'!$E$179*(1+'DNSP Inputs Capex'!$E$11)","v":422.1},{"$f":"'DNSP Inputs Capex'!$E$183","v":10},null,{"$f":"AG173*AH173","v":4221},{"$f":"IFERROR((AJ173+AJ174+AJ175)/AH173,0)","v":636.45611829544873},null,null,{"$f":"'DNSP Inputs Capex'!$F$179","v":402},{"$f":"'DNSP Inputs Capex'!$F$181","v":16},null,{"$f":"AN173*AO173","v":6432},{"$f":"IFERROR((AQ173+AQ174+AQ175)/AO173,0)","v":529.58756040759465},null,{"$f":"'DNSP Inputs Capex'!$F$179*(1+'DNSP Inputs Capex'!$F$11)","v":422.1},{"$f":"'DNSP Inputs Capex'!$F$182","v":13},null,{"$f":"AT173*AU173","v":5487.3},{"$f":"IFERROR((AW173+AW174+AW175)/AU173,0)","v":586.89622819396277},null,{"$f":"'DNSP Inputs Capex'!$F$179*(1+'DNSP Inputs Capex'!$F$11)","v":422.1},{"$f":"'DNSP Inputs Capex'!$F$183","v":10},null,{"$f":"AZ173*BA173","v":4221},{"$f":"IFERROR((BC173+BC174+BC175)/BA173,0)","v":636.33509665215138},null,null,{"$f":"'DNSP Inputs Capex'!$G$179","v":402},{"$f":"'DNSP Inputs Capex'!$G$181","v":16},null,{"$f":"BG173*BH173","v":6432},{"$f":"IFERROR((BJ173+BJ174+BJ175)/BH173,0)","v":529.96976747149552},null,{"$f":"'DNSP Inputs Capex'!$G$179*(1+'DNSP Inputs Capex'!$G$11)","v":422.1},{"$f":"'DNSP Inputs Capex'!$G$182","v":13},null,{"$f":"BM173*BN173","v":5487.3},{"$f":"IFERROR((BP173+BP174+BP175)/BN173,0)","v":587.36663688799456},null,{"$f":"'DNSP Inputs Capex'!$G$179*(1+'DNSP Inputs Capex'!$G$11)","v":422.1},{"$f":"'DNSP Inputs Capex'!$G$183","v":10},null,{"$f":"BS173*BT173","v":4221},{"$f":"IFERROR((BV173+BV174+BV175)/BT173,0)","v":636.94662795439285},null,null,{"$f":"'DNSP Inputs Capex'!$H$179","v":402},{"$f":"'DNSP Inputs Capex'!$H$181","v":16},null,{"$f":"BZ173*CA173","v":6432},{"$f":"IFERROR((CC173+CC174+CC175)/CA173,0)","v":531.01068823350681},null,{"$f":"'DNSP Inputs Capex'!$H$179*(1+'DNSP Inputs Capex'!$H$11)","v":422.1},{"$f":"'DNSP Inputs Capex'!$H$182","v":13},null,{"$f":"CF173*CG173","v":5487.3},{"$f":"IFERROR((CI173+CI174+CI175)/CG173,0)","v":588.64777013354694},null,{"$f":"'DNSP Inputs Capex'!$H$179*(1+'DNSP Inputs Capex'!$H$11)","v":422.1},{"$f":"'DNSP Inputs Capex'!$H$183","v":10},null,{"$f":"CL173*CM173","v":4221},{"$f":"IFERROR((CO173+CO174+CO175)/CM173,0)","v":638.61210117361099}]
["Crew costs",{"$f":"'DNSP Inputs Capex'!$D$12","v":111.36223236834823},{"$f":"'DNSP Inputs Capex'!$D$180","v":2},{"$f":"'DNSP Inputs Capex'!$D$15","v":7.5},{"$f":"D174*C174*B174","v":1670.4334855252234},null,null,{"$f":"'DNSP Inputs Capex'!$D$12","v":111.36223236834823},{"$f":"'DNSP Inputs Capex'!$D$180","v":2},{"$f":"'DNSP Inputs Capex'!$D$15","v":7.5},{"$f":"J174*I174*H174","v":1670.4334855252234},null,null,{"$f":"'DNSP Inputs Capex'!$D$12","v":111.36223236834823},{"$f":"'DNSP Inputs Capex'!$D$180","v":2},{"$f":"'DNSP Inputs Capex'!$D$15","v":7.5},{"$f":"P174*O174*N174","v":1670.4334855252234},null,null,null,{"$f":"'DNSP Inputs Capex'!$E$12","v":111.08407886363248},{"$f":"'DNSP Inputs Capex'!$E$180","v":2},{"$f":"'DNSP Inputs Capex'!$E$15","v":7.5},{"$f":"W174*V174*U174","v":1666.2611829544874},null,null,{"$f":"'DNSP Inputs Capex'!$E$12","v":111.08407886363248},{"$f":"'DNSP Inputs Capex'!$E$180","v":2},{"$f":"'DNSP Inputs Capex'!$E$15","v":7.5},{"$f":"AC174*AB174*AA174","v":1666.2611829544874},null,null,{"$f":"'DNSP Inputs Capex'!$E$12","v":111.08407886363248},{"$f":"'DNSP Inputs Capex'!$E$180","v":2},{"$f":"'DNSP Inputs Capex'!$E$15","v":7.5},{"$f":"AI174*AH174*AG174","v":1666.2611829544874},null,null,null,{"$f":"'DNSP Inputs Capex'!$F$12","v":111.00339776810097},{"$f":"'DNSP Inputs Capex'!$F$180","v":2},{"$f":"'DNSP Inputs Capex'!$F$15","v":7.5},{"$f":"AP174*AO174*AN174","v":1665.0509665215145},null,null,{"$f":"'DNSP Inputs Capex'!$F$12","v":111.00339776810097},{"$f":"'DNSP Inputs Capex'!$F$180","v":2},{"$f":"'DNSP Inputs Capex'!$F$15","v":7.5},{"$f":"AV174*AU174*AT174","v":1665.0509665215145},null,null,{"$f":"'DNSP Inputs Capex'!$F$12","v":111.00339776810097},{"$f":"'DNSP Inputs Capex'!$F$180","v":2},{"$f":"'DNSP Inputs Capex'!$F$15","v":7.5},{"$f":"BB174*BA174*AZ174","v":1665.0509665215145},null,null,null,{"$f":"'DNSP Inputs Capex'!$G$12","v":111.41108530292857},{"$f":"'DNSP Inputs Capex'!$G$180","v":2},{"$f":"'DNSP Inputs Capex'!$G$15","v":7.5},{"$f":"BI174*BH174*BG174","v":1671.1662795439286},null,null,{"$f":"'DNSP Inputs Capex'!$G$12","v":111.41108530292857},{"$f":"'DNSP Inputs Capex'!$G$180","v":2},{"$f":"'DNSP Inputs Capex'!$G$15","v":7.5},{"$f":"BO174*BN174*BM174","v":1671.1662795439286},null,null,{"$f":"'DNSP Inputs Capex'!$G$12","v":111.41108530292857},{"$f":"'DNSP Inputs Capex'!$G$180","v":2},{"$f":"'DNSP Inputs Capex'!$G$15","v":7.5},{"$f":"BU174*BT174*BS174","v":1671.1662795439286},null,null,null,{"$f":"'DNSP Inputs Capex'!$H$12","v":112.5214007824073},{"$f":"'DNSP Inputs Capex'!$H$180","v":2},{"$f":"'DNSP Inputs Capex'!$H$15","v":7.5},{"$f":"CB174*CA174*BZ174","v":1687.8210117361095},null,null,{"$f":"'DNSP Inputs Capex'!$H$12","v":112.5214007824073},{"$f":"'DNSP Inputs Capex'!$H$180","v":2},{"$f":"'DNSP Inputs Capex'!$H$15","v":7.5},{"$f":"CH174*CG174*CF174","v":1687.8210117361095},null,null,{"$f":"'DNSP Inputs Capex'!$H$12","v":112.5214007824073},{"$f":"'DNSP Inputs Capex'!$H$180","v":2},{"$f":"'DNSP Inputs Capex'!$H$15","v":7.5},{"$f":"CN174*CM174*CL174","v":1687.8210117361095}]
["Elevated platform vehicle costs",{"$f":"'DNSP Inputs Capex'!$D$13","v":50.18},1,{"$f":"'DNSP Inputs Capex'!$D$15","v":7.5},{"$f":"B175*C175*D175","v":376.35},null,null,{"$f":"'DNSP Inputs Capex'!$D$14","v":63.64},1,{"$f":"'DNSP Inputs Capex'!$D$15","v":7.5},{"$f":"H175*I175*J175","v":477.3},null,null,{"$f":"'DNSP Inputs Capex'!$D$14","v":63.64},1,{"$f":"'DNSP Inputs Capex'!$D$15","v":7.5},{"$f":"N175*O175*P175","v":477.3},null,null,null,{"$f":"'DNSP Inputs Capex'!$E$13","v":50.18},1,{"$f":"'DNSP Inputs Capex'!$E$15","v":7.5},{"$f":"U175*V175*W175","v":376.35},null,null,{"$f":"'DNSP Inputs Capex'!$E$14","v":63.64},1,{"$f":"'DNSP Inputs Capex'!$E$15","v":7.5},{"$f":"AA175*AB175*AC175","v":477.3},null,null,{"$f":"'DNSP Inputs Capex'!$E$14","v":63.64},1,{"$f":"'DNSP Inputs Capex'!$E$15","v":7.5},{"$f":"AG175*AH175*AI175","v":477.3},null,null,null,{"$f":"'DNSP Inputs Capex'!$F$13","v":50.18},1,{"$f":"'DNSP Inputs Capex'!$F$15","v":7.5},{"$f":"AN175*AO175*AP175","v":376.35},null,null,{"$f":"'DNSP Inputs Capex'!$F$14","v":63.64},1,{"$f":"'DNSP Inputs Capex'!$F$15","v":7.5},{"$f":"AT175*AU175*AV175","v":477.3},null,null,{"$f":"'DNSP Inputs Capex'!$F$14","v":63.64},1,{"$f":"'DNSP Inputs Capex'!$F$15","v":7.5},{"$f":"AZ175*BA175*BB175","v":477.3},null,null,null,{"$f":"'DNSP Inputs Capex'!$G$13","v":50.18},1,{"$f":"'DNSP Inputs Capex'!$G$15","v":7.5},{"$f":"BG175*BH175*BI175","v":376.35},null,null,{"$f":"'DNSP Inputs Capex'!$G$14","v":63.64},1,{"$f":"'DNSP Inputs Capex'!$G$15","v":7.5},{"$f":"BM175*BN175*BO175","v":477.3},null,null,{"$f":"'DNSP Inputs Capex'!$G$14","v":63.64},1,{"$f":"'DNSP Inputs Capex'!$G$15","v":7.5},{"$f":"BS175*BT175*BU175","v":477.3},null,null,null,{"$f":"'DNSP Inputs Capex'!$H$13","v":50.18},1,{"$f":"'DNSP Inputs Capex'!$H$15","v":7.5},{"$f":"BZ175*CA175*CB175","v":376.35},null,null,{"$f":"'DNSP Inputs Capex'!$H$14","v":63.64},1,{"$f":"'DNSP Inputs Capex'!$H$15","v":7.5},{"$f":"CF175*CG175*CH175","v":477.3},null,null,{"$f":"'DNSP Inputs Capex'!$H$14","v":63.64},1,{"$f":"'DNSP Inputs Capex'!$H$15","v":7.5},{"$f":"CL175*CM175*CN175","v":477.3}]
[{"$f":"'DNSP Inputs Capex'!$A$185","v":"Other Capex unit costs Describe :………………………"},null,null,null,null,{"$f":"'DNSP Inputs Capex'!$D$185","v":0},null,null,null,null,null,{"$f":"'DNSP Inputs Capex'!$D$185","v":0},null,null,null,null,null,{"$f":"'DNSP Inputs Capex'!$D$185","v":0},null,null,null,null,null,null,{"$f":"'DNSP Inputs Capex'!$E$185","v":0},null,null,null,null,null,{"$f":"'DNSP Inputs Capex'!$E$185","v":0},null,null,null,null,null,{"$f":"'DNSP Inputs Capex'!$E$185","v":0},null,null,null,null,null,null,{"$f":"'DNSP Inputs Capex'!$F$185","v":0},null,null,null,null,null,{"$f":"'DNSP Inputs Capex'!$F$185","v":0},null,null,null,null,null,{"$f":"'DNSP Inputs Capex'!$F$185","v":0},null,null,null,null,null,null,{"$f":"'DNSP Inputs Capex'!$G$185","v":0},null,null,null,null,null,{"$f":"'DNSP Inputs Capex'!$G$185","v":0},null,null,null,null,null,{"$f":"'DNSP Inputs Capex'!$G$185","v":0},null,null,null,null,null,null,{"$f":"'DNSP Inputs Capex'!$H$185","v":0},null,null,null,null,null,{"$f":"'DNSP Inputs Capex'!$H$185","v":0},null,null,null,null,null,{"$f":"'DNSP Inputs Capex'!$H$185","v":0}]
[null,null,null,null,null,{"$f":"SUM(F173,F176)","v":529.9239678453265},null,null,null,null,null,{"$f":"SUM(L173,L176)","v":587.31026811732488},null,null,null,null,null,{"$f":"SUM(R173,R176)","v":636.87334855252243},null,null,null,null,null,null,{"$f":"SUM(Y173,Y176)","v":529.6631989346555},null,null,null,null,null,{"$f":"SUM(AE173,AE176)","v":586.98932176572987},null,null,null,null,null,{"$f":"SUM(AK173,AK176)","v":636.45611829544873},null,null,null,null,null,null,{"$f":"SUM(AR173,AR176)","v":529.58756040759465},null,null,null,null,null,{"$f":"SUM(AX173,AX176)","v":586.89622819396277},null,null,null,null,null,{"$f":"SUM(BD173,BD176)","v":636.33509665215138},null,null,null,null,null,null,{"$f":"SUM(BK173,BK176)","v":529.96976747149552},null,null,null,null,null,{"$f":"SUM(BQ173,BQ176)","v":587.36663688799456},null,null,null,null,null,{"$f":"SUM(BW173,BW176)","v":636.94662795439285},null,null,null,null,null,null,{"$f":"SUM(CD173,CD176)","v":531.01068823350681},null,null,null,null,null,{"$f":"SUM(CJ173,CJ176)","v":588.64777013354694},null,null,null,null,null,{"$f":"SUM(CP173,CP176)","v":638.61210117361099}]
[]
["Number of luminaires replaced",null,null,null,null,{"$f":"'DNSP Inputs Capex'!$D$188","v":13.070153745257356},null,null,null,null,null,{"$f":"'DNSP Inputs Capex'!$D$189","v":3.3012591632112871},null,null,null,null,null,{"$f":"'DNSP Inputs Capex'!$D$190","v":0.64069381104202716},null,null,null,null,null,null,{"$f":"'DNSP Inputs Capex'!$E$188","v":16.774459874518993},null,null,null,null,null,{"$f":"'DNSP Inputs Capex'!$E$189","v":4.236892728883924},null,null,null,null,null,{"$f":"'DNSP Inputs Capex'!$E$190","v":0.82227744482936205},null,null,null,null,null,null,{"$f":"'DNSP Inputs Capex'!$F$188","v":20.556884892779266},null,null,null,null,null,{"$f":"'DNSP Inputs Capex'!$F$189","v":5.1922575619274776},null,null,null,null,null,{"$f":"'DNSP Inputs Capex'!$F$190","v":1.0076904359205521},null,null,null,null,null,null,{"$f":"'DNSP Inputs Capex'!$G$188","v":23.6433797191381},null,null,null,null,null,{"$f":"'DNSP Inputs Capex'!$G$189","v":5.9718443614644459},null,null,null,null,null,{"$f":"'DNSP Inputs Capex'!$G$190","v":1.1589892019185339},null,null,null,null,null,null,{"$f":"'DNSP Inputs Capex'!$H$188","v":25.171089559691605},null,null,null,null,null,{"$f":"'DNSP Inputs Capex'!$H$189","v":6.3577132814597723},null,null,null,null,null,{"$f":"'DNSP Inputs Capex'!$H$190","v":1.2338769392005686}]
[]
["Capex",null,null,null,null,{"$f":"F177*F179","v":6926.1877330352327},null,null,null,null,null,{"$f":"L177*L179","v":1938.8634042703966},null,null,null,null,null,{"$f":"R177*R179","v":408.04081283521293},null,null,null,null,null,null,{"$f":"Y177*Y179","v":8884.8140775387492},null,null,null,null,null,{"$f":"AE177*AE179","v":2487.0107893217269},null,null,null,null,null,{"$f":"AK177*AK179","v":523.34351069799573},null,null,null,null,null,null,{"$f":"AR177*AR179","v":10886.670519946709},null,null,null,null,null,{"$f":"AX177*AX179","v":3047.3163789068176},null,null,null,null,null,{"$f":"BD177*BD179","v":641.22879093695303},null,null,null,null,null,null,{"$f":"BK177*BK179","v":12530.276451991891},null,null,null,null,null,{"$f":"BQ177*BQ179","v":3507.662138611905},null,null,null,null,null,{"$f":"BW177*BW179","v":738.21426399756308},null,null,null,null,null,null,{"$f":"CD177*CD179","v":13366.117590679078},null,null,null,null,null,{"$f":"CJ177*CJ179","v":3742.4537462797307},null,null,null,null,null,{"$f":"CP177*CP179","v":787.96874473253899}]
[]
[]
[{"$f":"'DNSP Inputs General'!A$74","v":"LED 155W-250W (L2)"}]
["Luminaires "]
["Material",{"$f":"'DNSP Inputs Capex'!$D$196","v":427},{"$f":"'DNSP Inputs Capex'!$D$198","v":16},null,{"$f":"B186*C186","v":6832},{"$f":"IFERROR((E186+E187+E188)/C186,0)","v":554.9239678453265},null,{"$f":"'DNSP Inputs Capex'!$D$196*(1+'DNSP Inputs Capex'!$D$11)","v":448.35},{"$f":"'DNSP Inputs Capex'!$D$199","v":13},null,{"$f":"H186*I186","v":5828.55},{"$f":"IFERROR((K186+K187+K188)/I186,0)","v":613.56026811732488},null,{"$f":"'DNSP Inputs Capex'!$D$196*(1+'DNSP Inputs Capex'!$D$11)","v":448.35},{"$f":"'DNSP Inputs Capex'!$D$200","v":10},null,{"$f":"N186*O186","v":4483.5},{"$f":"IFERROR((Q186+Q187+Q188)/O186,0)","v":663.12334855252243},null,null,{"$f":"'DNSP Inputs Capex'!$E$196","v":427},{"$f":"'DNSP Inputs Capex'!$E$198","v":16},null,{"$f":"U186*V186","v":6832},{"$f":"IFERROR((X186+X187+X188)/V186,0)","v":554.6631989346555},null,{"$f":"'DNSP Inputs Capex'!$E$196*(1+'DNSP Inputs Capex'!$E$11)","v":448.35},{"$f":"'DNSP Inputs Capex'!$E$199","v":13},null,{"$f":"AA186*AB186","v":5828.55},{"$f":"IFERROR((AD186+AD187+AD188)/AB186,0)","v":613.23932176572987},null,{"$f":"'DNSP Inputs Capex'!$E$196*(1+'DNSP Inputs Capex'!$E$11)","v":448.35},{"$f":"'DNSP Inputs Capex'!$E$200","v":10},null,{"$f":"AG186*AH186","v":4483.5},{"$f":"IFERROR((AJ186+AJ187+AJ188)/AH186,0)","v":662.70611829544873},null,null,{"$f":"'DNSP Inputs Capex'!$F$196","v":427},{"$f":"'DNSP Inputs Capex'!$F$198","v":16},null,{"$f":"AN186*AO186","v":6832},{"$f":"IFERROR((AQ186+AQ187+AQ188)/AO186,0)","v":554.58756040759465},null,{"$f":"'DNSP Inputs Capex'!$F$196*(1+'DNSP Inputs Capex'!$F$11)","v":448.35},{"$f":"'DNSP Inputs Capex'!$F$199","v":13},null,{"$f":"AT186*AU186","v":5828.55},{"$f":"IFERROR((AW186+AW187+AW188)/AU186,0)","v":613.14622819396277},null,{"$f":"'DNSP Inputs Capex'!$F$196*(1+'DNSP Inputs Capex'!$F$11)","v":448.35},{"$f":"'DNSP Inputs Capex'!$F$200","v":10},null,{"$f":"AZ186*BA186","v":4483.5},{"$f":"IFERROR((BC186+BC187+BC188)/BA186,0)","v":662.58509665215138},null,null,{"$f":"'DNSP Inputs Capex'!$G$196","v":427},{"$f":"'DNSP Inputs Capex'!$G$198","v":16},null,{"$f":"BG186*BH186","v":6832},{"$f":"IFERROR((BJ186+BJ187+BJ188)/BH186,0)","v":554.96976747149552},null,{"$f":"'DNSP Inputs Capex'!$G$196*(1+'DNSP Inputs Capex'!$G$11)","v":448.35},{"$f":"'DNSP Inputs Capex'!$G$199","v":13},null,{"$f":"BM186*BN186","v":5828.55},{"$f":"IFERROR((BP186+BP187+BP188)/BN186,0)","v":613.61663688799456},null,{"$f":"'DNSP Inputs Capex'!$G$196*(1+'DNSP Inputs Capex'!$G$11)","v":448.35},{"$f":"'DNSP Inputs Capex'!$G$200","v":10},null,{"$f":"BS186*BT186","v":4483.5},{"$f":"IFERROR((BV186+BV187+BV188)/BT186,0)","v":663.19662795439285},null,null,{"$f":"'DNSP Inputs Capex'!$H$196","v":427},{"$f":"'DNSP Inputs Capex'!$H$198","v":16},null,{"$f":"BZ186*CA186","v":6832},{"$f":"IFERROR((CC186+CC187+CC188)/CA186,0)","v":556.01068823350681},null,{"$f":"'DNSP Inputs Capex'!$H$196*(1+'DNSP Inputs Capex'!$H$11)","v":448.35},{"$f":"'DNSP Inputs Capex'!$H$199","v":13},null,{"$f":"CF186*CG186","v":5828.55},{"$f":"IFERROR((CI186+CI187+CI188)/CG186,0)","v":614.89777013354694},null,{"$f":"'DNSP Inputs Capex'!$H$196*(1+'DNSP Inputs Capex'!$H$11)","v":448.35},{"$f":"'DNSP Inputs Capex'!$H$200","v":10},null,{"$f":"CL186*CM186","v":4483.5},{"$f":"IFERROR((CO186+CO187+CO188)/CM186,0)","v":664.86210117361099}]
["Crew costs",{"$f":"'DNSP Inputs Capex'!$D$12","v":111.36223236834823},{"$f":"'DNSP Inputs Capex'!$D$197","v":2},{"$f":"'DNSP Inputs Capex'!$D$15","v":7.5},{"$f":"D187*C187*B187","v":1670.4334855252234},null,null,{"$f":"'DNSP Inputs Capex'!$D$12","v":111.36223236834823},{"$f":"'DNSP Inputs Capex'!$D$197","v":2},{"$f":"'DNSP Inputs Capex'!$D$15","v":7.5},{"$f":"J187*I187*H187","v":1670.4334855252234},null,null,{"$f":"'DNSP Inputs Capex'!$D$12","v":111.36223236834823},{"$f":"'DNSP Inputs Capex'!$D$197","v":2},{"$f":"'DNSP Inputs Capex'!$D$15","v":7.5},{"$f":"P187*O187*N187","v":1670.4334855252234},null,null,null,{"$f":"'DNSP Inputs Capex'!$E$12","v":111.08407886363248},{"$f":"'DNSP Inputs Capex'!$E$197","v":2},{"$f":"'DNSP Inputs Capex'!$E$15","v":7.5},{"$f":"W187*V187*U187","v":1666.2611829544874},null,null,{"$f":"'DNSP Inputs Capex'!$E$12","v":111.08407886363248},{"$f":"'DNSP Inputs Capex'!$E$197","v":2},{"$f":"'DNSP Inputs Capex'!$E$15","v":7.5},{"$f":"AC187*AB187*AA187","v":1666.2611829544874},null,null,{"$f":"'DNSP Inputs Capex'!$E$12","v":111.08407886363248},{"$f":"'DNSP Inputs Capex'!$E$197","v":2},{"$f":"'DNSP Inputs Capex'!$E$15","v":7.5},{"$f":"AI187*AH187*AG187","v":1666.2611829544874},null,null,null,{"$f":"'DNSP Inputs Capex'!$F$12","v":111.00339776810097},{"$f":"'DNSP Inputs Capex'!$F$197","v":2},{"$f":"'DNSP Inputs Capex'!$F$15","v":7.5},{"$f":"AP187*AO187*AN187","v":1665.0509665215145},null,null,{"$f":"'DNSP Inputs Capex'!$F$12","v":111.00339776810097},{"$f":"'DNSP Inputs Capex'!$F$197","v":2},{"$f":"'DNSP Inputs Capex'!$F$15","v":7.5},{"$f":"AV187*AU187*AT187","v":1665.0509665215145},null,null,{"$f":"'DNSP Inputs Capex'!$F$12","v":111.00339776810097},{"$f":"'DNSP Inputs Capex'!$F$197","v":2},{"$f":"'DNSP Inputs Capex'!$F$15","v":7.5},{"$f":"BB187*BA187*AZ187","v":1665.0509665215145},null,null,null,{"$f":"'DNSP Inputs Capex'!$G$12","v":111.41108530292857},{"$f":"'DNSP Inputs Capex'!$G$197","v":2},{"$f":"'DNSP Inputs Capex'!$G$15","v":7.5},{"$f":"BI187*BH187*BG187","v":1671.1662795439286},null,null,{"$f":"'DNSP Inputs Capex'!$G$12","v":111.41108530292857},{"$f":"'DNSP Inputs Capex'!$G$197","v":2},{"$f":"'DNSP Inputs Capex'!$G$15","v":7.5},{"$f":"BO187*BN187*BM187","v":1671.1662795439286},null,null,{"$f":"'DNSP Inputs Capex'!$G$12","v":111.41108530292857},{"$f":"'DNSP Inputs Capex'!$G$197","v":2},{"$f":"'DNSP Inputs Capex'!$G$15","v":7.5},{"$f":"BU187*BT187*BS187","v":1671.1662795439286},null,null,null,{"$f":"'DNSP Inputs Capex'!$H$12","v":112.5214007824073},{"$f":"'DNSP Inputs Capex'!$H$197","v":2},{"$f":"'DNSP Inputs Capex'!$H$15","v":7.5},{"$f":"CB187*CA187*BZ187","v":1687.8210117361095},null,null,{"$f":"'DNSP Inputs Capex'!$H$12","v":112.5214007824073},{"$f":"'DNSP Inputs Capex'!$H$197","v":2},{"$f":"'DNSP Inputs Capex'!$H$15","v":7.5},{"$f":"CH187*CG187*CF187","v":1687.8210117361095},null,null,{"$f":"'DNSP Inputs Capex'!$H$12","v":112.5214007824073},{"$f":"'DNSP Inputs Capex'!$H$197","v":2},{"$f":"'DNSP Inputs Capex'!$H$15","v":7.5},{"$f":"CN187*CM187*CL187","v":1687.8210117361095}]
["Elevated platform vehicle costs",{"$f":"'DNSP Inputs Capex'!$D$13","v":50.18},1,{"$f":"'DNSP Inputs Capex'!$D$15","v":7.5},{"$f":"B188*C188*D188","v":376.35},null,null,{"$f":"'DNSP Inputs Capex'!$D$14","v":63.64},1,{"$f":"'DNSP Inputs Capex'!$D$15","v":7.5},{"$f":"H188*I188*J188","v":477.3},null,null,{"$f":"'DNSP Inputs Capex'!$D$14","v":63.64},1,{"$f":"'DNSP Inputs Capex'!$D$15","v":7.5},{"$f":"N188*O188*P188","v":477.3},null,null,null,{"$f":"'DNSP Inputs Capex'!$E$13","v":50.18},1,{"$f":"'DNSP Inputs Capex'!$E$15","v":7.5},{"$f":"U188*V188*W188","v":376.35},null,null,{"$f":"'DNSP Inputs Capex'!$E$14","v":63.64},1,{"$f":"'DNSP Inputs Capex'!$E$15","v":7.5},{"$f":"AA188*AB188*AC188","v":477.3},null,null,{"$f":"'DNSP Inputs Capex'!$E$14","v":63.64},1,{"$f":"'DNSP Inputs Capex'!$E$15","v":7.5},{"$f":"AG188*AH188*AI188","v":477.3},null,null,null,{"$f":"'DNSP Inputs Capex'!$F$13","v":50.18},1,{"$f":"'DNSP Inputs Capex'!$F$15","v":7.5},{"$f":"AN188*AO188*AP188","v":376.35},null,null,{"$f":"'DNSP Inputs Capex'!$F$14","v":63.64},1,{"$f":"'DNSP Inputs Capex'!$F$15","v":7.5},{"$f":"AT188*AU188*AV188","v":477.3},null,null,{"$f":"'DNSP Inputs Capex'!$F$14","v":63.64},1,{"$f":"'DNSP Inputs Capex'!$F$15","v":7.5},{"$f":"AZ188*BA188*BB188","v":477.3},null,null,null,{"$f":"'DNSP Inputs Capex'!$G$13","v":50.18},1,{"$f":"'DNSP Inputs Capex'!$G$15","v":7.5},{"$f":"BG188*BH188*BI188","v":376.35},null,null,{"$f":"'DNSP Inputs Capex'!$G$14","v":63.64},1,{"$f":"'DNSP Inputs Capex'!$G$15","v":7.5},{"$f":"BM188*BN188*BO188","v":477.3},null,null,{"$f":"'DNSP Inputs Capex'!$G$14","v":63.64},1,{"$f":"'DNSP Inputs Capex'!$G$15","v":7.5},{"$f":"BS188*BT188*BU188","v":477.3},null,null,null,{"$f":"'DNSP Inputs Capex'!$H$13","v":50.18},1,{"$f":"'DNSP Inputs Capex'!$H$15","v":7.5},{"$f":"BZ188*CA188*CB188","v":376.35},null,null,{"$f":"'DNSP Inputs Capex'!$H$14","v":63.64},1,{"$f":"'DNSP Inputs Capex'!$H$15","v":7.5},{"$f":"CF188*CG188*CH188","v":477.3},null,null,{"$f":"'DNSP Inputs Capex'!$H$14","v":63.64},1,{"$f":"'DNSP Inputs Capex'!$H$15","v":7.5},{"$f":"CL188*CM188*CN188","v":477.3}]
[{"$f":"'DNSP Inputs Capex'!$A$185","v":"Other Capex unit costs Describe :………………………"},null,null,null,null,{"$f":"'DNSP Inputs Capex'!$D$202","v":0},null,null,null,null,null,{"$f":"'DNSP Inputs Capex'!$D$202","v":0},null,null,null,null,null,{"$f":"'DNSP Inputs Capex'!$D$202","v":0},null,null,null,null,null,null,{"$f":"'DNSP Inputs Capex'!$E$202","v":0},null,null,null,null,null,{"$f":"'DNSP Inputs Capex'!$E$202","v":0},null,null,null,null,null,{"$f":"'DNSP Inputs Capex'!$E$202","v":0},null,null,null,null,null,null,{"$f":"'DNSP Inputs Capex'!$F$202","v":0},null,null,null,null,null,{"$f":"'DNSP Inputs Capex'!$F$202","v":0},null,null,null,null,null,{"$f":"'DNSP Inputs Capex'!$F$202","v":0},null,null,null,null,null,null,{"$f":"'DNSP Inputs Capex'!$G$202","v":0},null,null,null,null,null,{"$f":"'DNSP Inputs Capex'!$G$202","v":0},null,null,null,null,null,{"$f":"'DNSP Inputs Capex'!$G$202","v":0},null,null,null,null,null,null,{"$f":"'DNSP Inputs Capex'!$H$202","v":0},null,null,null,null,null,{"$f":"'DNSP Inputs Capex'!$H$202","v":0},null,null,null,null,null,{"$f":"'DNSP Inputs Capex'!$H$202","v":0}]
[null,null,null,null,null,{"$f":"SUM(F186,F189)","v":554.9239678453265},null,null,null,null,null,{"$f":"SUM(L186,L189)","v":613.56026811732488},null,null,null,null,null,{"$f":"SUM(R186,R189)","v":663.12334855252243},null,null,null,null,null,null,{"$f":"SUM(Y186,Y189)","v":554.6631989346555},null,null,null,null,null,{"$f":"SUM(AE186,AE189)","v":613.23932176572987},null,null,null,null,null,{"$f":"SUM(AK186,AK189)","v":662.70611829544873},null,null,null,null,null,null,{"$f":"SUM(AR186,AR189)","v":554.58756040759465},null,null,null,null,null,{"$f":"SUM(AX186,AX189)","v":613.14622819396277},null,null,null,null,null,{"$f":"SUM(BD186,BD189)","v":662.58509665215138},null,null,null,null,null,null,{"$f":"SUM(BK186,BK189)","v":554.96976747149552},null,null,null,null,null,{"$f":"SUM(BQ186,BQ189)","v":613.61663688799456},null,null,null,null,null,{"$f":"SUM(BW186,BW189)","v":663.19662795439285},null,null,null,null,null,null,{"$f":"SUM(CD186,CD189)","v":556.01068823350681},null,null,null,null,null,{"$f":"SUM(CJ186,CJ189)","v":614.89777013354694},null,null,null,null,null,{"$f":"SUM(CP186,CP189)","v":664.86210117361099}]
[]
["Number of luminaires replaced",null,null,null,null,{"$f":"'DNSP Inputs Capex'!$D$205","v":998.73048071578808},null,null,null,null,null,{"$f":"'DNSP Inputs Capex'!$D$206","v":252.25932420556154},null,null,null,null,null,{"$f":"'DNSP Inputs Capex'!$D$207","v":48.957376505675889},null,null,null,null,null,null,{"$f":"'DNSP Inputs Capex'!$E$205","v":985.60573970903238},null,null,null,null,null,{"$f":"'DNSP Inputs Capex'!$E$206","v":248.94427739296771},null,null,null,null,null,{"$f":"'DNSP Inputs Capex'!$E$207","v":48.314006848481988},null,null,null,null,null,null,{"$f":"'DNSP Inputs Capex'!$F$205","v":966.63206342909427},null,null,null,null,null,{"$f":"'DNSP Inputs Capex'!$F$206","v":244.15190662979441},null,null,null,null,null,{"$f":"'DNSP Inputs Capex'!$F$207","v":47.383924677896765},null,null,null,null,null,null,{"$f":"'DNSP Inputs Capex'!$G$205","v":1086.1446538134944},null,null,null,null,null,{"$f":"'DNSP Inputs Capex'!$G$206","v":274.33839424236612},null,null,null,null,null,{"$f":"'DNSP Inputs Capex'!$G$207","v":53.242384990857566},null,null,null,null,null,null,{"$f":"'DNSP Inputs Capex'!$H$205","v":1215.1035760599887},null,null,null,null,null,{"$f":"'DNSP Inputs Capex'!$H$206","v":306.91083616169476},null,null,null,null,null,{"$f":"'DNSP Inputs Capex'!$H$207","v":59.563900787254347}]
[]
["Capex",null,null,null,null,{"$f":"F190*F192","v":554219.48116687546},null,null,null,null,null,{"$f":"L190*L192","v":154776.29859465951},null,null,null,null,null,{"$f":"R190*R192","v":32464.779444790383},null,null,null,null,null,null,{"$f":"Y190*Y192","v":546679.23247536935},null,null,null,null,null,{"$f":"AE190*AE192","v":152662.41982592322},null,null,null,null,null,{"$f":"AK190*AK192","v":32017.987937857226},null,null,null,null,null,null,{"$f":"AR190*AR192","v":536082.11786890065},null,null,null,null,null,{"$f":"AX190*AX192","v":149700.82065642302},null,null,null,null,null,{"$f":"BD190*BD192","v":31395.882312462491},null,null,null,null,null,null,{"$f":"BK190*BK192","v":602777.44596728298},null,null,null,null,null,{"$f":"BQ190*BQ192","v":168338.60284425347},null,null,null,null,null,{"$f":"BW190*BW192","v":35310.170190186313},null,null,null,null,null,null,{"$f":"CD190*CD192","v":675610.57560010953},null,null,null,null,null,{"$f":"CJ190*CJ192","v":188718.78878564847},null,null,null,null,null,{"$f":"CP190*CP192","v":39601.780231510427}]
[]
[]
[{"$f":"'DNSP Inputs General'!A$75","v":"LED 275W-400W (L4)"}]
["Luminaires "]
["Material",{"$f":"'DNSP Inputs Capex'!$D$213","v":650.88},{"$f":"'DNSP Inputs Capex'!$D$215","v":16},null,{"$f":"B199*C199","v":10414.08},{"$f":"IFERROR((E199+E200+E201)/C199,0)","v":778.8039678453265},null,{"$f":"'DNSP Inputs Capex'!$D$213*(1+'DNSP Inputs Capex'!$D$11)","v":683.42399999999998},{"$f":"'DNSP Inputs Capex'!$D$216","v":13},null,{"$f":"H199*I199","v":8884.5119999999988},{"$f":"IFERROR((K199+K200+K201)/I199,0)","v":848.63426811732472},null,{"$f":"'DNSP Inputs Capex'!$D$213*(1+'DNSP Inputs Capex'!$D$11)","v":683.42399999999998},{"$f":"'DNSP Inputs Capex'!$D$217","v":10},null,{"$f":"N199*O199","v":6834.24},{"$f":"IFERROR((Q199+Q200+Q201)/O199,0)","v":898.19734855252227},null,null,{"$f":"'DNSP Inputs Capex'!$E$213","v":650.88},{"$f":"'DNSP Inputs Capex'!$E$215","v":16},null,{"$f":"U199*V199","v":10414.08},{"$f":"IFERROR((X199+X200+X201)/V199,0)","v":778.54319893465549},null,{"$f":"'DNSP Inputs Capex'!$E$213*(1+'DNSP Inputs Capex'!$E$11)","v":683.42399999999998},{"$f":"'DNSP Inputs Capex'!$E$216","v":13},null,{"$f":"AA199*AB199","v":8884.5119999999988},{"$f":"IFERROR((AD199+AD200+AD201)/AB199,0)","v":848.31332176572971},null,{"$f":"'DNSP Inputs Capex'!$E$213*(1+'DNSP Inputs Capex'!$E$11)","v":683.42399999999998},{"$f":"'DNSP Inputs Capex'!$E$217","v":10},null,{"$f":"AG199*AH199","v":6834.24},{"$f":"IFERROR((AJ199+AJ200+AJ201)/AH199,0)","v":897.78011829544869},null,null,{"$f":"'DNSP Inputs Capex'!$F$213","v":650.88},{"$f":"'DNSP Inputs Capex'!$F$215","v":16},null,{"$f":"AN199*AO199","v":10414.08},{"$f":"IFERROR((AQ199+AQ200+AQ201)/AO199,0)","v":778.46756040759465},null,{"$f":"'DNSP Inputs Capex'!$F$213*(1+'DNSP Inputs Capex'!$F$11)","v":683.42399999999998},{"$f":"'DNSP Inputs Capex'!$F$216","v":13},null,{"$f":"AT199*AU199","v":8884.5119999999988},{"$f":"IFERROR((AW199+AW200+AW201)/AU199,0)","v":848.2202281939625},null,{"$f":"'DNSP Inputs Capex'!$F$213*(1+'DNSP Inputs Capex'!$F$11)","v":683.42399999999998},{"$f":"'DNSP Inputs Capex'!$F$217","v":10},null,{"$f":"AZ199*BA199","v":6834.24},{"$f":"IFERROR((BC199+BC200+BC201)/BA199,0)","v":897.65909665215133},null,null,{"$f":"'DNSP Inputs Capex'!$G$213","v":650.88},{"$f":"'DNSP Inputs Capex'!$G$215","v":16},null,{"$f":"BG199*BH199","v":10414.08},{"$f":"IFERROR((BJ199+BJ200+BJ201)/BH199,0)","v":778.84976747149551},null,{"$f":"'DNSP Inputs Capex'!$G$213*(1+'DNSP Inputs Capex'!$G$11)","v":683.42399999999998},{"$f":"'DNSP Inputs Capex'!$G$216","v":13},null,{"$f":"BM199*BN199","v":8884.5119999999988},{"$f":"IFERROR((BP199+BP200+BP201)/BN199,0)","v":848.69063688799429},null,{"$f":"'DNSP Inputs Capex'!$G$213*(1+'DNSP Inputs Capex'!$G$11)","v":683.42399999999998},{"$f":"'DNSP Inputs Capex'!$G$217","v":10},null,{"$f":"BS199*BT199","v":6834.24},{"$f":"IFERROR((BV199+BV200+BV201)/BT199,0)","v":898.27062795439269},null,null,{"$f":"'DNSP Inputs Capex'!$H$213","v":650.88},{"$f":"'DNSP Inputs Capex'!$H$215","v":16},null,{"$f":"BZ199*CA199","v":10414.08},{"$f":"IFERROR((CC199+CC200+CC201)/CA199,0)","v":779.89068823350692},null,{"$f":"'DNSP Inputs Capex'!$H$213*(1+'DNSP Inputs Capex'!$H$11)","v":683.42399999999998},{"$f":"'DNSP Inputs Capex'!$H$216","v":13},null,{"$f":"CF199*CG199","v":8884.5119999999988},{"$f":"IFERROR((CI199+CI200+CI201)/CG199,0)","v":849.97177013354667},null,{"$f":"'DNSP Inputs Capex'!$H$213*(1+'DNSP Inputs Capex'!$H$11)","v":683.42399999999998},{"$f":"'DNSP Inputs Capex'!$H$217","v":10},null,{"$f":"CL199*CM199","v":6834.24},{"$f":"IFERROR((CO199+CO200+CO201)/CM199,0)","v":899.93610117361095}]
["Crew costs",{"$f":"'DNSP Inputs Capex'!$D$12","v":111.36223236834823},{"$f":"'DNSP Inputs Capex'!$D$214","v":2},{"$f":"'DNSP Inputs Capex'!$D$15","v":7.5},{"$f":"D200*C200*B200","v":1670.4334855252234},null,null,{"$f":"'DNSP Inputs Capex'!$D$12","v":111.36223236834823},{"$f":"'DNSP Inputs Capex'!$D$214","v":2},{"$f":"'DNSP Inputs Capex'!$D$15","v":7.5},{"$f":"J200*I200*H200","v":1670.4334855252234},null,null,{"$f":"'DNSP Inputs Capex'!$D$12","v":111.36223236834823},{"$f":"'DNSP Inputs Capex'!$D$214","v":2},{"$f":"'DNSP Inputs Capex'!$D$15","v":7.5},{"$f":"P200*O200*N200","v":1670.4334855252234},null,null,null,{"$f":"'DNSP Inputs Capex'!$E$12","v":111.08407886363248},{"$f":"'DNSP Inputs Capex'!$E$214","v":2},{"$f":"'DNSP Inputs Capex'!$E$15","v":7.5},{"$f":"W200*V200*U200","v":1666.2611829544874},null,null,{"$f":"'DNSP Inputs Capex'!$E$12","v":111.08407886363248},{"$f":"'DNSP Inputs Capex'!$E$214","v":2},{"$f":"'DNSP Inputs Capex'!$E$15","v":7.5},{"$f":"AC200*AB200*AA200","v":1666.2611829544874},null,null,{"$f":"'DNSP Inputs Capex'!$E$12","v":111.08407886363248},{"$f":"'DNSP Inputs Capex'!$E$214","v":2},{"$f":"'DNSP Inputs Capex'!$E$15","v":7.5},{"$f":"AI200*AH200*AG200","v":1666.2611829544874},null,null,null,{"$f":"'DNSP Inputs Capex'!$F$12","v":111.00339776810097},{"$f":"'DNSP Inputs Capex'!$F$214","v":2},{"$f":"'DNSP Inputs Capex'!$F$15","v":7.5},{"$f":"AP200*AO200*AN200","v":1665.0509665215145},null,null,{"$f":"'DNSP Inputs Capex'!$F$12","v":111.00339776810097},{"$f":"'DNSP Inputs Capex'!$F$214","v":2},{"$f":"'DNSP Inputs Capex'!$F$15","v":7.5},{"$f":"AV200*AU200*AT200","v":1665.0509665215145},null,null,{"$f":"'DNSP Inputs Capex'!$F$12","v":111.00339776810097},{"$f":"'DNSP Inputs Capex'!$F$214","v":2},{"$f":"'DNSP Inputs Capex'!$F$15","v":7.5},{"$f":"BB200*BA200*AZ200","v":1665.0509665215145},null,null,null,{"$f":"'DNSP Inputs Capex'!$G$12","v":111.41108530292857},{"$f":"'DNSP Inputs Capex'!$G$214","v":2},{"$f":"'DNSP Inputs Capex'!$G$15","v":7.5},{"$f":"BI200*BH200*BG200","v":1671.1662795439286},null,null,{"$f":"'DNSP Inputs Capex'!$G$12","v":111.41108530292857},{"$f":"'DNSP Inputs Capex'!$G$214","v":2},{"$f":"'DNSP Inputs Capex'!$G$15","v":7.5},{"$f":"BO200*BN200*BM200","v":1671.1662795439286},null,null,{"$f":"'DNSP Inputs Capex'!$G$12","v":111.41108530292857},{"$f":"'DNSP Inputs Capex'!$G$214","v":2},{"$f":"'DNSP Inputs Capex'!$G$15","v":7.5},{"$f":"BU200*BT200*BS200","v":1671.1662795439286},null,null,null,{"$f":"'DNSP Inputs Capex'!$H$12","v":112.5214007824073},{"$f":"'DNSP Inputs Capex'!$H$214","v":2},{"$f":"'DNSP Inputs Capex'!$H$15","v":7.5},{"$f":"CB200*CA200*BZ200","v":1687.8210117361095},null,null,{"$f":"'DNSP Inputs Capex'!$H$12","v":112.5214007824073},{"$f":"'DNSP Inputs Capex'!$H$214","v":2},{"$f":"'DNSP Inputs Capex'!$H$15","v":7.5},{"$f":"CH200*CG200*CF200","v":1687.8210117361095},null,null,{"$f":"'DNSP Inputs Capex'!$H$12","v":112.5214007824073},{"$f":"'DNSP Inputs Capex'!$H$214","v":2},{"$f":"'DNSP Inputs Capex'!$H$15","v":7.5},{"$f":"CN200*CM200*CL200","v":1687.8210117361095}]
["Elevated platform vehicle costs",{"$f":"'DNSP Inputs Capex'!$D$13","v":50.18},1,{"$f":"'DNSP Inputs Capex'!$D$15","v":7.5},{"$f":"B201*C201*D201","v":376.35},null,null,{"$f":"'DNSP Inputs Capex'!$D$14","v":63.64},1,{"$f":"'DNSP Inputs Capex'!$D$15","v":7.5},{"$f":"H201*I201*J201","v":477.3},null,null,{"$f":"'DNSP Inputs Capex'!$D$14","v":63.64},1,{"$f":"'DNSP Inputs Capex'!$D$15","v":7.5},{"$f":"N201*O201*P201","v":477.3},null,null,null,{"$f":"'DNSP Inputs Capex'!$E$13","v":50.18},1,{"$f":"'DNSP Inputs Capex'!$E$15","v":7.5},{"$f":"U201*V201*W201","v":376.35},null,null,{"$f":"'DNSP Inputs Capex'!$E$14","v":63.64},1,{"$f":"'DNSP Inputs Capex'!$E$15","v":7.5},{"$f":"AA201*AB201*AC201","v":477.3},null,null,{"$f":"'DNSP Inputs Capex'!$E$14","v":63.64},1,{"$f":"'DNSP Inputs Capex'!$E$15","v":7.5},{"$f":"AG201*AH201*AI201","v":477.3},null,null,null,{"$f":"'DNSP Inputs Capex'!$F$13","v":50.18},1,{"$f":"'DNSP Inputs Capex'!$F$15","v":7.5},{"$f":"AN201*AO201*AP201","v":376.35},null,null,{"$f":"'DNSP Inputs Capex'!$F$14","v":63.64},1,{"$f":"'DNSP Inputs Capex'!$F$15","v":7.5},{"$f":"AT201*AU201*AV201","v":477.3},null,null,{"$f":"'DNSP Inputs Capex'!$F$14","v":63.64},1,{"$f":"'DNSP Inputs Capex'!$F$15","v":7.5},{"$f":"AZ201*BA201*BB201","v":477.3},null,null,null,{"$f":"'DNSP Inputs Capex'!$G$13","v":50.18},1,{"$f":"'DNSP Inputs Capex'!$G$15","v":7.5},{"$f":"BG201*BH201*BI201","v":376.35},null,null,{"$f":"'DNSP Inputs Capex'!$G$14","v":63.64},1,{"$f":"'DNSP Inputs Capex'!$G$15","v":7.5},{"$f":"BM201*BN201*BO201","v":477.3},null,null,{"$f":"'DNSP Inputs Capex'!$G$14","v":63.64},1,{"$f":"'DNSP Inputs Capex'!$G$15","v":7.5},{"$f":"BS201*BT201*BU201","v":477.3},null,null,null,{"$f":"'DNSP Inputs Capex'!$H$13","v":50.18},1,{"$f":"'DNSP Inputs Capex'!$H$15","v":7.5},{"$f":"BZ201*CA201*CB201","v":376.35},null,null,{"$f":"'DNSP Inputs Capex'!$H$14","v":63.64},1,{"$f":"'DNSP Inputs Capex'!$H$15","v":7.5},{"$f":"CF201*CG201*CH201","v":477.3},null,null,{"$f":"'DNSP Inputs Capex'!$H$14","v":63.64},1,{"$f":"'DNSP Inputs Capex'!$H$15","v":7.5},{"$f":"CL201*CM201*CN201","v":477.3}]
[{"$f":"'DNSP Inputs Capex'!$A$185","v":"Other Capex unit costs Describe :………………………"},null,null,null,null,{"$f":"'DNSP Inputs Capex'!$D$219","v":0},null,null,null,null,null,{"$f":"'DNSP Inputs Capex'!$D$219","v":0},null,null,null,null,null,{"$f":"'DNSP Inputs Capex'!$D$219","v":0},null,null,null,null,null,null,{"$f":"'DNSP Inputs Capex'!$E$219","v":0},null,null,null,null,null,{"$f":"'DNSP Inputs Capex'!$E$219","v":0},null,null,null,null,null,{"$f":"'DNSP Inputs Capex'!$E$219","v":0},null,null,null,null,null,null,{"$f":"'DNSP Inputs Capex'!$F$219","v":0},null,null,null,null,null,{"$f":"'DNSP Inputs Capex'!$F$219","v":0},null,null,null,null,null,{"$f":"'DNSP Inputs Capex'!$F$219","v":0},null,null,null,null,null,null,{"$f":"'DNSP Inputs Capex'!$G$219","v":0},null,null,null,null,null,{"$f":"'DNSP Inputs Capex'!$G$219","v":0},null,null,null,null,null,{"$f":"'DNSP Inputs Capex'!$G$219","v":0},null,null,null,null,null,null,{"$f":"'DNSP Inputs Capex'!$H$219","v":0},null,null,null,null,null,{"$f":"'DNSP Inputs Capex'!$H$219","v":0},null,null,null,null,null,{"$f":"'DNSP Inputs Capex'!$H$219","v":0}]
[null,null,null,null,null,{"$f":"SUM(F199,F202)","v":778.8039678453265},null,null,null,null,null,{"$f":"SUM(L199,L202)","v":848.63426811732472},null,null,null,null,null,{"$f":"SUM(R199,R202)","v":898.19734855252227},null,null,null,null,null,null,{"$f":"SUM(Y199,Y202)","v":778.54319893465549},null,null,null,null,null,{"$f":"SUM(AE199,AE202)","v":848.31332176572971},null,null,null,null,null,{"$f":"SUM(AK199,AK202)","v":897.78011829544869},null,null,null,null,null,null,{"$f":"SUM(AR199,AR202)","v":778.46756040759465},null,null,null,null,null,{"$f":"SUM(AX199,AX202)","v":848.2202281939625},null,null,null,null,null,{"$f":"SUM(BD199,BD202)","v":897.65909665215133},null,null,null,null,null,null,{"$f":"SUM(BK199,BK202)","v":778.84976747149551},null,null,null,null,null,{"$f":"SUM(BQ199,BQ202)","v":848.69063688799429},null,null,null,null,null,{"$f":"SUM(BW199,BW202)","v":898.27062795439269},null,null,null,null,null,null,{"$f":"SUM(CD199,CD202)","v":779.89068823350692},null,null,null,null,null,{"$f":"SUM(CJ199,CJ202)","v":849.97177013354667},null,null,null,null,null,{"$f":"SUM(CP199,CP202)","v":899.93610117361095}]
[]
["Number of luminaires replaced",null,null,null,null,{"$f":"'DNSP Inputs Capex'!$D$222","v":10.382848971578634},null,null,null,null,null,{"$f":"'DNSP Inputs Capex'!$D$223","v":2.6224997789410431},null,null,null,null,null,{"$f":"'DNSP Inputs Capex'!$D$224","v":0.50896318488130554},null,null,null,null,null,null,{"$f":"'DNSP Inputs Capex'!$E$222","v":11.062094255549539},null,null,null,null,null,{"$f":"'DNSP Inputs Capex'!$E$223","v":2.7940635387469035},null,null,null,null,null,{"$f":"'DNSP Inputs Capex'!$E$224","v":0.54225952233085972},null,null,null,null,null,null,{"$f":"'DNSP Inputs Capex'!$F$222","v":11.749103044477225},null,null,null,null,null,{"$f":"'DNSP Inputs Capex'!$F$223","v":2.9675882044745108},null,null,null,null,null,{"$f":"'DNSP Inputs Capex'!$F$224","v":0.57593642374888343},null,null,null,null,null,null,{"$f":"'DNSP Inputs Capex'!$G$222","v":12.289145438341398},null,null,null,null,null,{"$f":"'DNSP Inputs Capex'!$G$223","v":3.1039921011703373},null,null,null,null,null,{"$f":"'DNSP Inputs Capex'!$G$224","v":0.60240909011477439},null,null,null,null,null,null,{"$f":"'DNSP Inputs Capex'!$H$222","v":12.48374491348592},null,null,null,null,null,{"$f":"'DNSP Inputs Capex'!$H$223","v":3.1531440325858391},null,null,null,null,null,{"$f":"'DNSP Inputs Capex'!$H$224","v":0.61194828007283908}]
[]
["Capex",null,null,null,null,{"$f":"F203*F205","v":8086.2039766042071},null,null,null,null,null,{"$f":"L203*L205","v":2225.5431805394778},null,null,null,null,null,{"$f":"R203*R205","v":457.14938317123585},null,null,null,null,null,null,{"$f":"Y203*Y205","v":8612.3182486322148},null,null,null,null,null,{"$f":"AE203*AE205","v":2370.2413217788953},null,null,null,null,null,{"$f":"AK203*AK205","v":486.82981810503276},null,null,null,null,null,null,{"$f":"AR203*AR205","v":9146.2955840116283},null,null,null,null,null,{"$f":"AX203*AX205","v":2517.1683439850808},null,null,null,null,null,{"$f":"BD203*BD205","v":516.99456987149335},null,null,null,null,null,null,{"$f":"BK203*BK205","v":9571.3980670755882},null,null,null,null,null,{"$f":"BQ203*BQ205","v":2634.3290332375573},null,null,null,null,null,{"$f":"BW203*BW205","v":541.1263916628327},null,null,null,null,null,null,{"$f":"CD203*CD205","v":9735.9564123100754},null,null,null,null,null,{"$f":"CJ203*CJ205","v":2680.0834148630152},null,null,null,null,null,{"$f":"CP203*CP205","v":550.71434928864767}]

{"sheet":"WACC","index":13,"n_rows":18,"n_cols":9,"rows_kept":18,"cut":false,"hidden":false,"merged":[]}
[{"$f":"'DNSP Inputs O & M'!$A$3","v":"AusNet"}]
[]
["WACC"]
[null,null,null,null,{"$f":"'DNSP Inputs General'!Q2","v":"2022-06-30"},{"$f":"'DNSP Inputs General'!R2","v":"2023-06-30"},{"$f":"'DNSP Inputs General'!S2","v":"2024-06-30"},{"$f":"'DNSP Inputs General'!T2","v":"2025-06-30"},{"$f":"'DNSP Inputs General'!U2","v":"2026-06-30"}]
[]
["CPI for Nominal pre tax WACC calculation",null,null,null,{"$f":"$C$14","v":2.3743086789108414E-2},{"$f":"$C$15","v":2.3743086789108414E-2},{"$f":"$C$16","v":2.3743086789108414E-2},{"$f":"$C$17","v":2.3743086789108414E-2},{"$f":"$C$18","v":2.3743086789108414E-2}]
["Real Pre Tax WACC",null,null,null,{"$f":"'DNSP Inputs General'!B$26","v":2.3872199540309946E-2},{"$f":"'DNSP Inputs General'!C$26","v":2.3872199540309946E-2},{"$f":"'DNSP Inputs General'!D$26","v":2.3872199540309946E-2},{"$f":"'DNSP Inputs General'!E$26","v":2.3872199540309946E-2},{"$f":"'DNSP Inputs General'!F$26","v":2.3872199540309946E-2}]
["Nominal Pre Tax WACC",null,null,null,{"$f":"(1+E6)*(1+E7)-1","v":4.8182086034950888E-2},4.8182086034950888E-2,4.8182086034950888E-2,4.8182086034950888E-2,4.8182086034950888E-2]
[]
[]
[]
[null,"CPI Index","CPI"]
[{"$f":"'DNSP Inputs General'!A30","v":"2019-12-31"},{"$f":"IF('DNSP Inputs General'!B30=\"\",\"\",'DNSP Inputs General'!B30)","v":116.2},null,{"$f":"IF(B13=\"\",\"Forecast\",\"Actual\")","v":"Actual"}]
[{"$f":"'DNSP Inputs General'!A31","v":"2020-12-31"},{"$f":"IF('DNSP Inputs General'!B31=\"\",\"\",'DNSP Inputs General'!B31)","v":""},{"$f":"'DNSP Inputs General'!D31","v":2.3743086789108414E-2},"Forecast"]
[{"$f":"'DNSP Inputs General'!A32","v":"2021-12-31"},{"$f":"IF('DNSP Inputs General'!B32=\"\",\"\",'DNSP Inputs General'!B32)","v":""},{"$f":"IF(B15=\"\",'DNSP Inputs General'!D32,B15/B14-1)","v":2.3743086789108414E-2},{"$f":"IF(B15=\"\",\"Forecast\",\"Actual\")","v":"Forecast"}]
[{"$f":"'DNSP Inputs General'!A33","v":"2022-12-31"},{"$f":"IF('DNSP Inputs General'!B33=\"\",\"\",'DNSP Inputs General'!B33)","v":""},{"$f":"IF(B16=\"\",'DNSP Inputs General'!D33,B16/B15-1)","v":2.3743086789108414E-2},{"$f":"IF(B16=\"\",\"Forecast\",\"Actual\")","v":"Forecast"}]
[{"$f":"'DNSP Inputs General'!A34","v":"2023-12-31"},{"$f":"IF('DNSP Inputs General'!B34=\"\",\"\",'DNSP Inputs General'!B34)","v":""},{"$f":"IF(B17=\"\",'DNSP Inputs General'!D34,B17/B16-1)","v":2.3743086789108414E-2},"Forecast"]
[{"$f":"'DNSP Inputs General'!A35","v":"2024-12-31"},{"$f":"IF('DNSP Inputs General'!B35=\"\",\"\",'DNSP Inputs General'!B35)","v":""},{"$f":"IF(B18=\"\",'DNSP Inputs General'!D35,B18/B17-1)","v":2.3743086789108414E-2},"Forecast"]

{"sheet":"Depn & WACC Post 2004 Central","index":14,"n_rows":296,"n_cols":9,"rows_kept":296,"cut":false,"hidden":false,"merged":[[38,3,38,4],[38,6,38,7],[226,6,226,7],[197,3,197,4],[2,3,2,4],[6,3,6,4],[6,6,6,7],[34,3,34,4],[87,3,87,4],[67,3,67,4],[67,6,67,7],[82,6,82,7],[82,3,82,5],[144,3,144,4],[144,6,144,7],[140,3,140,4],[246,3,246,4],[197,6,197,7],[226,3,226,4],[241,6,241,7],[173,3,173,4],[173,6,173,7],[188,6,188,7],[193,3,193,4],[188,3,188,5],[241,3,241,5],[294,6,294,7],[250,3,250,4],[250,6,250,7],[279,3,279,4],[279,6,279,7],[294,3,294,5],[135,3,135,5],[91,3,91,4],[91,6,91,7],[120,3,120,4],[120,6,120,7],[135,6,135,7]]}
[{"$f":"'DNSP Inputs O & M'!$A$3","v":"AusNet"},null,null,null,"Check",{"$f":"SUM(E33,E65,E80,E118,E133,E171,E186,E224,E239,E277,E292)","v":6.8685039877891541E-9}]
[]
[null,null,null,{"$f":"'DNSP Inputs General'!B$39","v":"Central"}]
["RAB WDV",null,null,"Year",{"$f":"'DNSP Inputs General'!$P$2","v":"HY2021"}]
[]
[]
[{"$f":"'DNSP Inputs General'!B$41","v":"Reference Light"},{"$f":"'DNSP Inputs General'!D$41","v":"Price Factor"},{"$f":"'DNSP Inputs General'!A$41","v":"Existing Lights"},"RAB for Return",null,"Volumes","Unitisation - Luminaires",null,"RAB WDV"]
[{"$f":"'DNSP Inputs General'!B$42","v":"Mercury Vapour 80W"},{"$f":"'DNSP Inputs General'!D$42","v":1},{"$f":"'DNSP Inputs General'!A$42","v":"Mercury Vapour 80W"},{"$f":"'RAB 2001 to 2004 Central'!$V$143","v":4.2735065734902831},{"$f":"F8*D8","v":64650.80194226712},{"$f":"'DNSP Inputs General'!P$42","v":15128.279512499999},null,null,{"$f":"IF(F8=0,0,E8/(E$32+'Depn & WACC Post 2004 N & E'!E$32)*I$32/F8)","v":110.86258081721425}]
[{"$f":"'DNSP Inputs General'!B$43","v":"HP Sodium 150W"},{"$f":"'DNSP Inputs General'!D$43","v":1},{"$f":"'DNSP Inputs General'!A$43","v":"HP Sodium 150W"},{"$f":"'RAB 2001 to 2004 Central'!$V$157","v":5.142155614406323},90986.638791823643,{"$f":"'DNSP Inputs General'!P$43","v":17694.26007585504},null,null,{"$f":"IF(F9=0,0,E9/(E$32+'Depn & WACC Post 2004 N & E'!E$32)*I$32/F9)","v":133.39692652238512}]
[{"$f":"'DNSP Inputs General'!B$44","v":"HP Sodium 250W"},{"$f":"'DNSP Inputs General'!D$44","v":1},{"$f":"'DNSP Inputs General'!A$44","v":"HP Sodium 250W"},{"$f":"'RAB 2001 to 2004 Central'!$V$171","v":5.2453606411043205},63582.241888615055,{"$f":"'DNSP Inputs General'!P$44","v":12121.614935370566},null,null,{"$f":"IF(F10=0,0,E10/(E$32+'Depn & WACC Post 2004 N & E'!E$32)*I$32/F10)","v":136.07425377490992}]
[{"$f":"'DNSP Inputs General'!B$45","v":"Mercury Vapour 80W"},{"$f":"'DNSP Inputs General'!D$45","v":1.53},{"$f":"'DNSP Inputs General'!A$45","v":"Mercury Vapour 50W"},{"$f":"B11*IF(A11=C8,D8,IF(A11=C9,D9,D10))","v":6.5384650574401331},140.4973111920753,{"$f":"'DNSP Inputs General'!P$45","v":21.487812499999997},null,null,{"$f":"IF(F11=0,0,E11/(E$32+'Depn & WACC Post 2004 N & E'!E$32)*I$32/F11)","v":169.61974865033784}]
[{"$f":"'DNSP Inputs General'!B$46","v":"Mercury Vapour 80W"},{"$f":"'DNSP Inputs General'!D$46","v":1.47},{"$f":"'DNSP Inputs General'!A$46","v":"Mercury Vapour 125W"},{"$f":"B12*IF(A12=C8,D8,IF(A12=C9,D9,D10))","v":6.2820546630307161},1603.6528390417818,{"$f":"'DNSP Inputs General'!P$46","v":255.27521249999998},null,null,{"$f":"IF(F12=0,0,E12/(E$32+'Depn & WACC Post 2004 N & E'!E$32)*I$32/F12)","v":162.96799380130497}]
[{"$f":"'DNSP Inputs General'!B$47","v":"HP Sodium 250W"},{"$f":"'DNSP Inputs General'!D$47","v":1.05},{"$f":"'DNSP Inputs General'!A$47","v":"Mercury Vapour 250W"},{"$f":"B13*IF(A13=C8,D8,IF(A13=C9,D9,D10))","v":5.5076286731595365},4904.295214776841,{"$f":"'DNSP Inputs General'!P$47","v":890.45494999999994},null,null,{"$f":"IF(F13=0,0,E13/(E$32+'Depn & WACC Post 2004 N & E'!E$32)*I$32/F13)","v":142.87796646365544}]
[{"$f":"'DNSP Inputs General'!B$48","v":"HP Sodium 250W"},{"$f":"'DNSP Inputs General'!D$48","v":1.0900000000000001},{"$f":"'DNSP Inputs General'!A$48","v":"Mercury Vapour 400W"},{"$f":"B14*IF(A14=C8,D8,IF(A14=C9,D9,D10))","v":5.7174430988037095},1012.3280451608678,{"$f":"'DNSP Inputs General'!P$48","v":177.059575},null,null,{"$f":"IF(F14=0,0,E14/(E$32+'Depn & WACC Post 2004 N & E'!E$32)*I$32/F14)","v":148.3209366146518}]
[{"$f":"'DNSP Inputs General'!B$49","v":"HP Sodium 150W"},{"$f":"'DNSP Inputs General'!D$49","v":1.07},{"$f":"'DNSP Inputs General'!A$49","v":"HP Sodium 100W"},{"$f":"B15*IF(A15=C8,D8,IF(A15=C9,D9,D10))","v":5.5021065074147657},13653.251387178909,{"$f":"'DNSP Inputs General'!P$49","v":2481.4589410036815},null,null,{"$f":"IF(F15=0,0,E15/(E$32+'Depn & WACC Post 2004 N & E'!E$32)*I$32/F15)","v":142.73471137895206}]
[{"$f":"'DNSP Inputs General'!B$50","v":"HP Sodium 250W"},{"$f":"'DNSP Inputs General'!D$50","v":1.42},{"$f":"'DNSP Inputs General'!A$50","v":"HP Sodium 400W"},{"$f":"B16*IF(A16=C8,D8,IF(A16=C9,D9,D10))","v":7.4484121103681344},3279.1099201465863,{"$f":"'DNSP Inputs General'!P$50","v":440.24281572472199},null,null,{"$f":"IF(F16=0,0,E16/(E$32+'Depn & WACC Post 2004 N & E'!E$32)*I$32/F16)","v":193.22544036037209}]
[{"$f":"'DNSP Inputs General'!B$51","v":"Mercury Vapour 80W"},{"$f":"'DNSP Inputs General'!D$51","v":4.3651056775797761},{"$f":"'DNSP Inputs General'!A$51","v":"Metal Halide 70W"},{"$f":"B17*IF(A17=C8,D8,IF(A17=C9,D9,D10))","v":18.654307807116929},505.9980992680467,{"$f":"'DNSP Inputs General'!P$51","v":27.125},null,null,{"$f":"IF(F17=0,0,E17/(E$32+'Depn & WACC Post 2004 N & E'!E$32)*I$32/F17)","v":483.92688095636873}]
[{"$f":"'DNSP Inputs General'!B$52","v":"HP Sodium 150W"},{"$f":"'DNSP Inputs General'!D$52","v":2.3876890876224905},{"$f":"'DNSP Inputs General'!A$52","v":"Metal Halide 100W"},{"$f":"B18*IF(A18=C8,D8,IF(A18=C9,D9,D10))","v":12.2778688473747},365.26659820939733,{"$f":"'DNSP Inputs General'!P$52","v":29.75},null,null,{"$f":"IF(F18=0,0,E18/(E$32+'Depn & WACC Post 2004 N & E'!E$32)*I$32/F18)","v":318.51038577987811}]
[{"$f":"'DNSP Inputs General'!B$53","v":"HP Sodium 150W"},{"$f":"'DNSP Inputs General'!D$53","v":2.7125868138140996},{"$f":"'DNSP Inputs General'!A$53","v":"Metal Halide 150W"},{"$f":"B19*IF(A19=C8,D8,IF(A19=C9,D9,D10))","v":13.948543514218731},402.76419397306586,{"$f":"'DNSP Inputs General'!P$53","v":28.875},null,null,{"$f":"IF(F19=0,0,E19/(E$32+'Depn & WACC Post 2004 N & E'!E$32)*I$32/F19)","v":361.85074388795016}]
[{"$f":"'DNSP Inputs General'!B$54","v":"HP Sodium 150W"},{"$f":"'DNSP Inputs General'!D$54","v":0.44334506707259064},{"$f":"'DNSP Inputs General'!A$54","v":"HP Sodium 50W"},{"$f":"B20*IF(A20=C8,D8,IF(A20=C9,D9,D10))","v":2.2797493257666699},0,{"$f":"'DNSP Inputs General'!P$54","v":0},null,null,{"$f":"IF(F20=0,0,E20/(E$32+'Depn & WACC Post 2004 N & E'!E$32)*I$32/F20)","v":0}]
[]
[]
[]
[]
[]
[]
[]
[]
[]
[]
[]
[null,null,null,null,{"$f":"SUM(E8:E31)","v":245086.84623165336},{"$f":"SUM(F8:F31)","v":49295.883830454004},null,null,{"$f":"'Total RAB'!S$128","v":10158795.214403903}]
[null,null,null,"Check",{"$f":"SUM(F33:I33)","v":0},{"$f":"ABS('DNSP Inputs General'!P$66-F32)","v":0},null,null,{"$f":"ABS(I32-SUMPRODUCT(F8:F31,I8:I31)-SUMPRODUCT('Depn & WACC Post 2004 N & E'!F8:F31,'Depn & WACC Post 2004 N & E'!I8:I31))*IF(F32=0,0,1)","v":0}]
[]
[null,null,null,{"$f":"'DNSP Inputs General'!B$39","v":"Central"}]
["DEPRECIATION AND RETURN",null,null,"Year",{"$f":"'DNSP Inputs General'!$Q$2","v":"2022-06-30"}]
[]
[]
[{"$f":"'DNSP Inputs General'!B$41","v":"Reference Light"},{"$f":"'DNSP Inputs General'!D$41","v":"Price Factor"},{"$f":"'DNSP Inputs General'!A$41","v":"Existing Lights"},"WACC and Dep",null,"Volumes","Unitisation - Luminaires",null,"RAB WDV"]
[{"$f":"'DNSP Inputs General'!B$42","v":"Mercury Vapour 80W"},{"$f":"'DNSP Inputs General'!D$42","v":1},{"$f":"'DNSP Inputs General'!A$42","v":"Mercury Vapour 80W"},{"$f":"'RAB 2001 to 2004 Central'!C$15","v":2.2397065174425594},{"$f":"F40*D40","v":33882.906221838995},{"$f":"IF('DNSP Inputs General'!Q$42=0,1/10^6,'DNSP Inputs General'!Q$42)","v":15128.279512499999},{"$f":"IF((E$64+'Depn & WACC Post 2004 N & E'!E$64)=0,0,E40/(E$64+'Depn & WACC Post 2004 N & E'!E$64)*G$64)","v":252241.09085160308},{"$f":"IF(F40=0,0,G40/F40)","v":16.673481650255376},{"$f":"IF(F40=0,0,E40/(E$64+'Depn & WACC Post 2004 N & E'!E$64)*I$64/F40)","v":123.60125538896976}]
[{"$f":"'DNSP Inputs General'!B$43","v":"HP Sodium 150W"},{"$f":"'DNSP Inputs General'!D$43","v":1},{"$f":"'DNSP Inputs General'!A$43","v":"HP Sodium 150W"},{"$f":"'RAB 2001 to 2004 Central'!C$20","v":2.6949576993123769},46129.705743561513,{"$f":"IF('DNSP Inputs General'!Q$43=0,1/10^6,'DNSP Inputs General'!Q$43)","v":17117.042599715605},{"$f":"IF((E$64+'Depn & WACC Post 2004 N & E'!E$64)=0,0,E41/(E$64+'Depn & WACC Post 2004 N & E'!E$64)*G$64)","v":343412.31596950901},20.062596325793727,{"$f":"IF(F41=0,0,E41/(E$64+'Depn & WACC Post 2004 N & E'!E$64)*I$64/F41)","v":148.72491206371743}]
[{"$f":"'DNSP Inputs General'!B$44","v":"HP Sodium 250W"},{"$f":"'DNSP Inputs General'!D$44","v":1},{"$f":"'DNSP Inputs General'!A$44","v":"HP Sodium 250W"},{"$f":"'RAB 2001 to 2004 Central'!C$25","v":2.7490465293991768},32166.548550463653,{"$f":"IF('DNSP Inputs General'!Q$44=0,1/10^6,'DNSP Inputs General'!Q$44)","v":11700.98367068886},{"$f":"IF((E$64+'Depn & WACC Post 2004 N & E'!E$64)=0,0,E42/(E$64+'Depn & WACC Post 2004 N & E'!E$64)*G$64)","v":239463.6765269668},20.465260294895284,{"$f":"IF(F42=0,0,E42/(E$64+'Depn & WACC Post 2004 N & E'!E$64)*I$64/F42)","v":151.70987783900262}]
[{"$f":"'DNSP Inputs General'!B$45","v":"Mercury Vapour 80W"},{"$f":"'DNSP Inputs General'!D$45","v":1.53},{"$f":"'DNSP Inputs General'!A$45","v":"Mercury Vapour 50W"},{"$f":"B43*IF(A43=C40,D40,IF(A43=C41,D41,D42))","v":3.4267509716871158},73.633382363805538,{"$f":"'DNSP Inputs General'!Q$45","v":21.487812499999997},{"$f":"IF((E$64+'Depn & WACC Post 2004 N & E'!E$64)=0,0,E43/(E$64+'Depn & WACC Post 2004 N & E'!E$64)*G$64)","v":548.16327055700322},25.510426924890716,{"$f":"IF(F43=0,0,E43/(E$64+'Depn & WACC Post 2004 N & E'!E$64)*I$64/F43)","v":189.1099207451237}]
[{"$f":"'DNSP Inputs General'!B$46","v":"Mercury Vapour 80W"},{"$f":"'DNSP Inputs General'!D$46","v":1.47},{"$f":"'DNSP Inputs General'!A$46","v":"Mercury Vapour 125W"},{"$f":"B44*IF(A44=C40,D40,IF(A44=C41,D41,D42))","v":3.2923685806405625},840.46008905134295,{"$f":"'DNSP Inputs General'!Q$46","v":255.27521249999998},{"$f":"IF((E$64+'Depn & WACC Post 2004 N & E'!E$64)=0,0,E44/(E$64+'Depn & WACC Post 2004 N & E'!E$64)*G$64)","v":6256.8000599341731},24.5100180258754,{"$f":"IF(F44=0,0,E44/(E$64+'Depn & WACC Post 2004 N & E'!E$64)*I$64/F44)","v":181.69384542178554}]
[{"$f":"'DNSP Inputs General'!B$47","v":"HP Sodium 250W"},{"$f":"'DNSP Inputs General'!D$47","v":1.05},{"$f":"'DNSP Inputs General'!A$47","v":"Mercury Vapour 250W"},{"$f":"B45*IF(A45=C40,D40,IF(A45=C41,D41,D42))","v":2.8864988558691356},2570.297194378008,{"$f":"'DNSP Inputs General'!Q$47","v":890.45494999999994},{"$f":"IF((E$64+'Depn & WACC Post 2004 N & E'!E$64)=0,0,E45/(E$64+'Depn & WACC Post 2004 N & E'!E$64)*G$64)","v":19134.561949259358},21.488523309640044,{"$f":"IF(F45=0,0,E45/(E$64+'Depn & WACC Post 2004 N & E'!E$64)*I$64/F45)","v":159.2953717309527}]
[{"$f":"'DNSP Inputs General'!B$48","v":"HP Sodium 250W"},{"$f":"'DNSP Inputs General'!D$48","v":1.0900000000000001},{"$f":"'DNSP Inputs General'!A$48","v":"Mercury Vapour 400W"},{"$f":"B46*IF(A46=C40,D40,IF(A46=C41,D41,D42))","v":2.9964607170451028},530.5520610642011,{"$f":"'DNSP Inputs General'!Q$48","v":177.059575},{"$f":"IF((E$64+'Depn & WACC Post 2004 N & E'!E$64)=0,0,E46/(E$64+'Depn & WACC Post 2004 N & E'!E$64)*G$64)","v":3949.6916161856007},22.307133721435854,{"$f":"IF(F46=0,0,E46/(E$64+'Depn & WACC Post 2004 N & E'!E$64)*I$64/F46)","v":165.36376684451281}]
[{"$f":"'DNSP Inputs General'!B$49","v":"HP Sodium 150W"},{"$f":"'DNSP Inputs General'!D$49","v":1.07},{"$f":"'DNSP Inputs General'!A$49","v":"HP Sodium 100W"},{"$f":"B47*IF(A47=C40,D40,IF(A47=C41,D41,D42))","v":2.8836047382642436},7065.918217367529,{"$f":"'DNSP Inputs General'!Q$49","v":2450.3768230110436},{"$f":"IF((E$64+'Depn & WACC Post 2004 N & E'!E$64)=0,0,E47/(E$64+'Depn & WACC Post 2004 N & E'!E$64)*G$64)","v":52602.185519382081},21.466978068599293,{"$f":"IF(F47=0,0,E47/(E$64+'Depn & WACC Post 2004 N & E'!E$64)*I$64/F47)","v":159.13565590817768}]
[{"$f":"'DNSP Inputs General'!B$50","v":"HP Sodium 250W"},{"$f":"'DNSP Inputs General'!D$50","v":1.42},{"$f":"'DNSP Inputs General'!A$50","v":"HP Sodium 400W"},{"$f":"B48*IF(A48=C40,D40,IF(A48=C41,D41,D42))","v":3.9036460717468309},1697.0259950880327,{"$f":"'DNSP Inputs General'!Q$50","v":434.72844717416598},{"$f":"IF((E$64+'Depn & WACC Post 2004 N & E'!E$64)=0,0,E48/(E$64+'Depn & WACC Post 2004 N & E'!E$64)*G$64)","v":12633.499777201212},29.060669618751295,{"$f":"IF(F48=0,0,E48/(E$64+'Depn & WACC Post 2004 N & E'!E$64)*I$64/F48)","v":215.42802653138364}]
[{"$f":"'DNSP Inputs General'!B$51","v":"Mercury Vapour 80W"},{"$f":"'DNSP Inputs General'!D$51","v":4.3651056775797761},{"$f":"'DNSP Inputs General'!A$51","v":"Metal Halide 70W"},{"$f":"B49*IF(A49=C40,D40,IF(A49=C41,D41,D42))","v":9.7765556354009444},189.42076543589329,{"$f":"'DNSP Inputs General'!Q$51","v":19.375},{"$f":"IF((E$64+'Depn & WACC Post 2004 N & E'!E$64)=0,0,E49/(E$64+'Depn & WACC Post 2004 N & E'!E$64)*G$64)","v":1410.141744945694},72.781509416551941,{"$f":"IF(F49=0,0,E49/(E$64+'Depn & WACC Post 2004 N & E'!E$64)*I$64/F49)","v":539.53254165437966}]
[{"$f":"'DNSP Inputs General'!B$52","v":"HP Sodium 150W"},{"$f":"'DNSP Inputs General'!D$52","v":2.3876890876224905},{"$f":"'DNSP Inputs General'!A$52","v":"Metal Halide 100W"},{"$f":"B50*IF(A50=C40,D40,IF(A50=C41,D41,D42))","v":6.4347210902523759},191.43295243500819,{"$f":"'DNSP Inputs General'!Q$52","v":29.75},{"$f":"IF((E$64+'Depn & WACC Post 2004 N & E'!E$64)=0,0,E50/(E$64+'Depn & WACC Post 2004 N & E'!E$64)*G$64)","v":1425.1214589150647},47.903242316472763,{"$f":"IF(F50=0,0,E50/(E$64+'Depn & WACC Post 2004 N & E'!E$64)*I$64/F50)","v":355.10884959215264}]
[{"$f":"'DNSP Inputs General'!B$53","v":"HP Sodium 150W"},{"$f":"'DNSP Inputs General'!D$53","v":2.7125868138140996},{"$f":"'DNSP Inputs General'!A$53","v":"Metal Halide 150W"},{"$f":"B51*IF(A51=C40,D40,IF(A51=C41,D41,D42))","v":7.3103067189415372},211.08510650943688,{"$f":"'DNSP Inputs General'!Q$53","v":28.875},{"$f":"IF((E$64+'Depn & WACC Post 2004 N & E'!E$64)=0,0,E51/(E$64+'Depn & WACC Post 2004 N & E'!E$64)*G$64)","v":1571.4218013019467},54.421534244223267,{"$f":"IF(F51=0,0,E51/(E$64+'Depn & WACC Post 2004 N & E'!E$64)*I$64/F51)","v":403.4292353497014}]
[{"$f":"'DNSP Inputs General'!B$54","v":"HP Sodium 150W"},{"$f":"'DNSP Inputs General'!D$54","v":0.44334506707259064},{"$f":"'DNSP Inputs General'!A$54","v":"HP Sodium 50W"},{"$f":"B52*IF(A52=C40,D40,IF(A52=C41,D41,D42))","v":1.1947962019594403},0,{"$f":"'DNSP Inputs General'!Q$54","v":0},{"$f":"IF((E$64+'Depn & WACC Post 2004 N & E'!E$64)=0,0,E52/(E$64+'Depn & WACC Post 2004 N & E'!E$64)*G$64)","v":0},0,{"$f":"IF(F52=0,0,E52/(E$64+'Depn & WACC Post 2004 N & E'!E$64)*I$64/F52)","v":0}]
[]
[]
[]
[]
[]
[]
[]
[]
[]
[]
[]
[null,null,null,null,{"$f":"SUM(E40:E63)","v":125548.98627955743},{"$f":"SUM(F40:F63)","v":48253.688603089671},{"$f":"'Total RAB'!T$134","v":1492248.7416285062},{"$f":"SUMPRODUCT(F40:F63,H40:H63)","v":934648.67054576101},{"$f":"'Total RAB'!T$128","v":11062105.784910781}]
[null,null,null,"Check",{"$f":"SUM(F65:I65)","v":0},{"$f":"ABS('DNSP Inputs General'!Q$66-F64)","v":0},{"$f":"ABS(G64-SUM(G40:G63)-SUM('Depn & WACC Post 2004 N & E'!G40:G63))*IF(F64=0,0,1)","v":0},{"$f":"ABS(H64+'Depn & WACC Post 2004 N & E'!H64-G64)*IF(F64=0,0,1)","v":0},{"$f":"ABS(I64-SUMPRODUCT(F40:F63,I40:I63)-SUMPRODUCT('Depn & WACC Post 2004 N & E'!F40:F63,'Depn & WACC Post 2004 N & E'!I40:I63))*IF(F64=0,0,1)","v":0}]
[]
[]
[{"$f":"'DNSP Inputs General'!B$68","v":"Reference Light"},{"$f":"'DNSP Inputs General'!D$68","v":"Price Factor"},{"$f":"'DNSP Inputs General'!A$68","v":"Energy Efficient Lights"},"Unit cost",null,"Volumes","Unitisation - Luminaires & Ballasts"]
[{"$f":"'DNSP Inputs General'!B$69","v":"T5 2X14W"},{"$f":"'DNSP Inputs General'!D$69","v":1},{"$f":"'DNSP Inputs General'!A$69","v":"T5 2X14W"},{"$f":"'DNSP Inputs O & M'!$D$189","v":260.27999999999997},{"$f":"F69*D69","v":5446098.7199999997},{"$f":"'DNSP Inputs General'!Q$69","v":20924},{"$f":"IF((E$79+'Depn & WACC Post 2004 N & E'!E$79)=0,0,E69/(E$79+'Depn & WACC Post 2004 N & E'!E$79)*G$79)","v":119208.23698680743},{"$f":"IF(F69=0,0,G69/F69)","v":5.6972011559361224}]
[{"$f":"'DNSP Inputs General'!B$70","v":"T5 2X24W"},{"$f":"'DNSP Inputs General'!D$70","v":1},{"$f":"'DNSP Inputs General'!A$70","v":"T5 2X24W"},{"$f":"'DNSP Inputs O & M'!$D$238","v":267.33},{"$f":"F70*D70","v":440827.17},{"$f":"'DNSP Inputs General'!Q$70","v":1649},{"$f":"IF((E$79+'Depn & WACC Post 2004 N & E'!E$79)=0,0,E70/(E$79+'Depn & WACC Post 2004 N & E'!E$79)*G$79)","v":9649.1511544953501},{"$f":"IF(F70=0,0,G70/F70)","v":5.85151677046413}]
[{"$f":"'DNSP Inputs General'!B$71","v":"LED 18W"},{"$f":"'DNSP Inputs General'!D$71","v":1},{"$f":"'DNSP Inputs General'!A$71","v":"LED 18W"},{"$f":"'DNSP Inputs O & M'!$D$286","v":205},{"$f":"F71*D71","v":8000272.4507795908},{"$f":"'DNSP Inputs General'!Q$71","v":39025.719272095565},{"$f":"IF((E$79+'Depn & WACC Post 2004 N & E'!E$79)=0,0,E71/(E$79+'Depn & WACC Post 2004 N & E'!E$79)*G$79)","v":175115.88079908333},{"$f":"IF(F71=0,0,G71/F71)","v":4.487191628119354}]
[{"$f":"'DNSP Inputs General'!B$72","v":"LED 14W"},{"$f":"'DNSP Inputs General'!D$72","v":1},{"$f":"'DNSP Inputs General'!A$72","v":"LED 14W"},{"$f":"'DNSP Inputs O & M'!$D$332","v":205},2870,{"$f":"'DNSP Inputs General'!Q$72","v":14},{"$f":"IF((E$79+'Depn & WACC Post 2004 N & E'!E$79)=0,0,E72/(E$79+'Depn & WACC Post 2004 N & E'!E$79)*G$79)","v":62.82068279367094},{"$f":"IF(F72=0,0,G72/F72)","v":4.4871916281193531}]
[{"$f":"'DNSP Inputs General'!B$73","v":"LED 70W-125W (L1)"},{"$f":"'DNSP Inputs General'!D$73","v":1},{"$f":"'DNSP Inputs General'!A$73","v":"LED 70W-125W (L1)"},{"$f":"'DNSP Inputs O & M'!$D$378","v":402},1065237.101265664,{"$f":"'DNSP Inputs General'!Q$73","v":2649.8435354867261},{"$f":"IF((E$79+'Depn & WACC Post 2004 N & E'!E$79)=0,0,E73/(E$79+'Depn & WACC Post 2004 N & E'!E$79)*G$79)","v":23316.697574445927},8.7992733390438058]
[{"$f":"'DNSP Inputs General'!B$74","v":"LED 155W-250W (L2)"},{"$f":"'DNSP Inputs General'!D$74","v":1},{"$f":"'DNSP Inputs General'!A$74","v":"LED 155W-250W (L2)"},{"$f":"'DNSP Inputs O & M'!$D$424","v":427},1350661.278412004,{"$f":"'DNSP Inputs General'!Q$74","v":3163.1411672412273},{"$f":"IF((E$79+'Depn & WACC Post 2004 N & E'!E$79)=0,0,E74/(E$79+'Depn & WACC Post 2004 N & E'!E$79)*G$79)","v":29564.273077635742},9.3464918302778717]
[{"$f":"'DNSP Inputs General'!B$75","v":"LED 275W-400W (L4)"},{"$f":"'DNSP Inputs General'!D$75","v":1},{"$f":"'DNSP Inputs General'!A$75","v":"LED 275W-400W (L4)"},{"$f":"'DNSP Inputs O & M'!$D$470","v":650.88},71855.457723909494,{"$f":"'DNSP Inputs General'!Q$75","v":110.39739694553451},{"$f":"IF((E$79+'Depn & WACC Post 2004 N & E'!E$79)=0,0,E75/(E$79+'Depn & WACC Post 2004 N & E'!E$79)*G$79)","v":1572.825406504443},14.246942862977193]
[{"$f":"'DNSP Inputs General'!B$76","v":"T5 2X14W"},{"$f":"'DNSP Inputs General'!D$76","v":0.87960989252886512},{"$f":"'DNSP Inputs General'!A$76","v":"Compact Fluorescent 32W"},{"$f":"D69*B76","v":228.94486282741298},652263.91419529961,{"$f":"'DNSP Inputs General'!Q$76","v":2849},{"$f":"IF((E$79+'Depn & WACC Post 2004 N & E'!E$79)=0,0,E76/(E$79+'Depn & WACC Post 2004 N & E'!E$79)*G$79)","v":14277.235000495164},5.011314496488299]
[{"$f":"'DNSP Inputs General'!B$77","v":"T5 2X14W"},{"$f":"'DNSP Inputs General'!D$77","v":0.87960989252886512},{"$f":"'DNSP Inputs General'!A$77","v":"Compact Fluorescent 42W"},{"$f":"D69*B77","v":228.94486282741298},311593.95830810908,{"$f":"'DNSP Inputs General'!Q$77","v":1361},{"$f":"IF((E$79+'Depn & WACC Post 2004 N & E'!E$79)=0,0,E77/(E$79+'Depn & WACC Post 2004 N & E'!E$79)*G$79)","v":6820.3990297205746},5.011314496488299]
[]
[null,null,null,null,{"$f":"SUM(E69:E78)","v":17341680.050684579},{"$f":"SUM(F69:F78)","v":71746.101371769051},{"$f":"'Total RAB'!T$149","v":590345.99439725792},{"$f":"SUMPRODUCT(F69:F78,H69:H78)","v":379587.51971198164}]
[null,null,null,"Check",{"$f":"SUM(F80:I80)","v":5.8207660913467407E-11},{"$f":"ABS('DNSP Inputs General'!Q$78-F79)","v":0},{"$f":"ABS(G79-SUM(G69:G78)-SUM('Depn & WACC Post 2004 N & E'!G69:G78))","v":5.8207660913467407E-11},{"$f":"ABS(H79+'Depn & WACC Post 2004 N & E'!H79-G79)","v":0}]
[]
[]
[null,null,{"$f":"'RAB 2001 to 2004 Central'!A$27","v":"Poles & Brackets"},"Weighted Average Volumes",null,null,"Unitisation Poles & Brackets"]
[null,null,"Total Poles & Brackets",{"$f":"'DNSP Inputs General'!$D$42*F40","v":15128.279512499999},{"$f":"SUMPRODUCT('DNSP Inputs General'!$D$42:$D$63,'DNSP Inputs General'!Q$42:Q$63)+SUMPRODUCT('DNSP Inputs General'!$D$69:$D$77,'DNSP Inputs General'!Q$69:Q$77)","v":120194.81956468793},{"$f":"IF(E84=0,0,D84/E84*G84)","v":162762.20381146725},{"$f":"'Total RAB'!T$119*('DNSP Inputs General'!Q$80/('DNSP Inputs General'!Q$80+'DNSP Inputs General'!Q$124))","v":1293152.5824140057},{"$f":"F84/F40","v":10.758804639812624}]
[]
[]
[]
[null,null,null,{"$f":"'DNSP Inputs General'!B$39","v":"Central"}]
["DEPRECIATION AND RETURN",null,null,"Year",{"$f":"'DNSP Inputs General'!$R$2","v":"2023-06-30"}]
[]
[]
[{"$f":"'DNSP Inputs General'!B$41","v":"Reference Light"},{"$f":"'DNSP Inputs General'!D$41","v":"Price Factor"},{"$f":"'DNSP Inputs General'!A$41","v":"Existing Lights"},{"$f":"D$39","v":"WACC and Dep"},null,{"$f":"F$39","v":"Volumes"},{"$f":"G$39","v":"Unitisation - Luminaires"},null,{"$f":"I$39","v":"RAB WDV"}]
[{"$f":"'DNSP Inputs General'!B$42","v":"Mercury Vapour 80W"},{"$f":"'DNSP Inputs General'!D$42","v":1},{"$f":"'DNSP Inputs General'!A$42","v":"Mercury Vapour 80W"},{"$f":"'RAB 2001 to 2004 Central'!D$15","v":1.1198532587212797},{"$f":"F93*D93","v":16941.453110919498},{"$f":"IF('DNSP Inputs General'!R$42=0,1/10^6,'DNSP Inputs General'!R$42)","v":15128.279512499999},{"$f":"IF((E$117+'Depn & WACC Post 2004 N & E'!E$117)=0,0,E93/(E$117+'Depn & WACC Post 2004 N & E'!E$117)*G$117)","v":257647.02634112182},{"$f":"IF(F93=0,0,G93/F93)","v":17.03082139170132},{"$f":"IF(F93=0,0,E93/(E$117+'Depn & WACC Post 2004 N & E'!E$117)*I$117/F93)","v":137.94478450126044}]
[{"$f":"'DNSP Inputs General'!B$43","v":"HP Sodium 150W"},{"$f":"'DNSP Inputs General'!D$43","v":1},{"$f":"'DNSP Inputs General'!A$43","v":"HP Sodium 150W"},{"$f":"'RAB 2001 to 2004 Central'!D$20","v":1.3474788496561885},22303.745655279756,{"$f":"IF('DNSP Inputs General'!R$43=0,1/10^6,'DNSP Inputs General'!R$43)","v":16552.2046308709},{"$f":"IF((E$117+'Depn & WACC Post 2004 N & E'!E$117)=0,0,E94/(E$117+'Depn & WACC Post 2004 N & E'!E$117)*G$117)","v":339197.2168342325},20.492570288891212,{"$f":"IF(F94=0,0,E94/(E$117+'Depn & WACC Post 2004 N & E'!E$117)*I$117/F94)","v":165.98396092366269}]
[{"$f":"'DNSP Inputs General'!B$44","v":"HP Sodium 250W"},{"$f":"'DNSP Inputs General'!D$44","v":1},{"$f":"'DNSP Inputs General'!A$44","v":"HP Sodium 250W"},{"$f":"'RAB 2001 to 2004 Central'!D$25","v":1.3745232646995884},15511.973685616294,{"$f":"IF('DNSP Inputs General'!R$44=0,1/10^6,'DNSP Inputs General'!R$44)","v":11285.348225085549},{"$f":"IF((E$117+'Depn & WACC Post 2004 N & E'!E$117)=0,0,E95/(E$117+'Depn & WACC Post 2004 N & E'!E$117)*G$117)","v":235907.38448550081},20.903863999616416,{"$f":"IF(F95=0,0,E95/(E$117+'Depn & WACC Post 2004 N & E'!E$117)*I$117/F95)","v":169.31532239988357}]
[{"$f":"'DNSP Inputs General'!B$45","v":"Mercury Vapour 80W"},{"$f":"'DNSP Inputs General'!D$45","v":1.53},{"$f":"'DNSP Inputs General'!A$45","v":"Mercury Vapour 50W"},{"$f":"B96*IF(A96=C93,D93,IF(A96=C94,D94,D95))","v":1.7133754858435579},36.816691181902769,{"$f":"'DNSP Inputs General'!R$45","v":21.487812499999997},{"$f":"IF((E$117+'Depn & WACC Post 2004 N & E'!E$117)=0,0,E96/(E$117+'Depn & WACC Post 2004 N & E'!E$117)*G$117)","v":559.91129808237633},26.057156729303014,{"$f":"IF(F96=0,0,E96/(E$117+'Depn & WACC Post 2004 N & E'!E$117)*I$117/F96)","v":211.05552028692844}]
[{"$f":"'DNSP Inputs General'!B$46","v":"Mercury Vapour 80W"},{"$f":"'DNSP Inputs General'!D$46","v":1.47},{"$f":"'DNSP Inputs General'!A$46","v":"Mercury Vapour 125W"},{"$f":"B97*IF(A97=C93,D93,IF(A97=C94,D94,D95))","v":1.6461842903202812},420.23004452567147,{"$f":"'DNSP Inputs General'!R$46","v":255.27521249999998},{"$f":"IF((E$117+'Depn & WACC Post 2004 N & E'!E$117)=0,0,E97/(E$117+'Depn & WACC Post 2004 N & E'!E$117)*G$117)","v":6390.8934282296668},25.035307445800939,{"$f":"IF(F97=0,0,E97/(E$117+'Depn & WACC Post 2004 N & E'!E$117)*I$117/F97)","v":202.77883321685283}]
[{"$f":"'DNSP Inputs General'!B$47","v":"HP Sodium 250W"},{"$f":"'DNSP Inputs General'!D$47","v":1.05},{"$f":"'DNSP Inputs General'!A$47","v":"Mercury Vapour 250W"},{"$f":"B98*IF(A98=C93,D93,IF(A98=C94,D94,D95))","v":1.4432494279345678},1285.148597189004,{"$f":"'DNSP Inputs General'!R$47","v":890.45494999999994},{"$f":"IF((E$117+'Depn & WACC Post 2004 N & E'!E$117)=0,0,E98/(E$117+'Depn & WACC Post 2004 N & E'!E$117)*G$117)","v":19544.646631214495},21.949057199597235,{"$f":"IF(F98=0,0,E98/(E$117+'Depn & WACC Post 2004 N & E'!E$117)*I$117/F98)","v":177.78108851987773}]
[{"$f":"'DNSP Inputs General'!B$48","v":"HP Sodium 250W"},{"$f":"'DNSP Inputs General'!D$48","v":1.0900000000000001},{"$f":"'DNSP Inputs General'!A$48","v":"Mercury Vapour 400W"},{"$f":"B99*IF(A99=C93,D93,IF(A99=C94,D94,D95))","v":1.4982303585225514},265.27603053210055,{"$f":"'DNSP Inputs General'!R$48","v":177.059575},{"$f":"IF((E$117+'Depn & WACC Post 2004 N & E'!E$117)=0,0,E99/(E$117+'Depn & WACC Post 2004 N & E'!E$117)*G$117)","v":4034.3399104365712},22.785211759581887,{"$f":"IF(F99=0,0,E99/(E$117+'Depn & WACC Post 2004 N & E'!E$117)*I$117/F99)","v":184.55370141587306}]
[{"$f":"'DNSP Inputs General'!B$49","v":"HP Sodium 150W"},{"$f":"'DNSP Inputs General'!D$49","v":1.07},{"$f":"'DNSP Inputs General'!A$49","v":"HP Sodium 100W"},{"$f":"B100*IF(A100=C93,D93,IF(A100=C94,D94,D95))","v":1.4418023691321218},3488.1448373243365,{"$f":"'DNSP Inputs General'!R$49","v":2419.2947050184066},{"$f":"IF((E$117+'Depn & WACC Post 2004 N & E'!E$117)=0,0,E100/(E$117+'Depn & WACC Post 2004 N & E'!E$117)*G$117)","v":53047.996467581273},21.927050209113599,{"$f":"IF(F100=0,0,E100/(E$117+'Depn & WACC Post 2004 N & E'!E$117)*I$117/F100)","v":177.60283818831911}]
[{"$f":"'DNSP Inputs General'!B$50","v":"HP Sodium 250W"},{"$f":"'DNSP Inputs General'!D$50","v":1.42},{"$f":"'DNSP Inputs General'!A$50","v":"HP Sodium 400W"},{"$f":"B101*IF(A101=C93,D93,IF(A101=C94,D94,D95))","v":1.9518230358734154},837.74992597874518,{"$f":"'DNSP Inputs General'!R$50","v":429.21407862360996},{"$f":"IF((E$117+'Depn & WACC Post 2004 N & E'!E$117)=0,0,E101/(E$117+'Depn & WACC Post 2004 N & E'!E$117)*G$117)","v":12740.570471301424},29.683486879455305,{"$f":"IF(F101=0,0,E101/(E$117+'Depn & WACC Post 2004 N & E'!E$117)*I$117/F101)","v":240.42775780783464}]
[{"$f":"'DNSP Inputs General'!B$51","v":"Mercury Vapour 80W"},{"$f":"'DNSP Inputs General'!D$51","v":4.3651056775797761},{"$f":"'DNSP Inputs General'!A$51","v":"Metal Halide 70W"},{"$f":"B102*IF(A102=C93,D93,IF(A102=C94,D94,D95))","v":4.8882778177004722},56.82622963076799,{"$f":"'DNSP Inputs General'!R$51","v":11.625},{"$f":"IF((E$117+'Depn & WACC Post 2004 N & E'!E$117)=0,0,E102/(E$117+'Depn & WACC Post 2004 N & E'!E$117)*G$117)","v":864.21802112761452},74.341335150762546,{"$f":"IF(F102=0,0,E102/(E$117+'Depn & WACC Post 2004 N & E'!E$117)*I$117/F102)","v":602.14356201897067}]
[{"$f":"'DNSP Inputs General'!B$52","v":"HP Sodium 150W"},{"$f":"'DNSP Inputs General'!D$52","v":2.3876890876224905},{"$f":"'DNSP Inputs General'!A$52","v":"Metal Halide 100W"},{"$f":"B103*IF(A103=C93,D93,IF(A103=C94,D94,D95))","v":3.217360545126188},95.716476217504095,{"$f":"'DNSP Inputs General'!R$52","v":29.75},{"$f":"IF((E$117+'Depn & WACC Post 2004 N & E'!E$117)=0,0,E103/(E$117+'Depn & WACC Post 2004 N & E'!E$117)*G$117)","v":1455.664122069642},48.929886456122418,{"$f":"IF(F103=0,0,E103/(E$117+'Depn & WACC Post 2004 N & E'!E$117)*I$117/F103)","v":396.3180922177873}]
[{"$f":"'DNSP Inputs General'!B$53","v":"HP Sodium 150W"},{"$f":"'DNSP Inputs General'!D$53","v":2.7125868138140996},{"$f":"'DNSP Inputs General'!A$53","v":"Metal Halide 150W"},{"$f":"B104*IF(A104=C93,D93,IF(A104=C94,D94,D95))","v":3.6551533594707686},105.54255325471844,{"$f":"'DNSP Inputs General'!R$53","v":28.875},{"$f":"IF((E$117+'Depn & WACC Post 2004 N & E'!E$117)=0,0,E104/(E$117+'Depn & WACC Post 2004 N & E'!E$117)*G$117)","v":1605.0999179639914},55.5878759468049,{"$f":"IF(F104=0,0,E104/(E$117+'Depn & WACC Post 2004 N & E'!E$117)*I$117/F104)","v":450.24590370616221}]
[{"$f":"'DNSP Inputs General'!B$54","v":"HP Sodium 150W"},{"$f":"'DNSP Inputs General'!D$54","v":0.44334506707259064},{"$f":"'DNSP Inputs General'!A$54","v":"HP Sodium 50W"},{"$f":"B105*IF(A105=C93,D93,IF(A105=C94,D94,D95))","v":0.59739810097972013},0,{"$f":"'DNSP Inputs General'!R$54","v":0},{"$f":"IF((E$117+'Depn & WACC Post 2004 N & E'!E$117)=0,0,E105/(E$117+'Depn & WACC Post 2004 N & E'!E$117)*G$117)","v":0},0,{"$f":"IF(F105=0,0,E105/(E$117+'Depn & WACC Post 2004 N & E'!E$117)*I$117/F105)","v":0}]
[]
[]
[]
[]
[]
[]
[]
[]
[]
[]
[]
[null,null,null,null,{"$f":"SUM(E93:E116)","v":61348.623837650288},{"$f":"SUM(F93:F116)","v":47228.868702098473},{"$f":"'Total RAB'!U$134","v":1488625.2213508135},{"$f":"SUMPRODUCT(F93:F116,H93:H116)","v":932994.96792886208},{"$f":"'Total RAB'!U$128","v":12057438.724737018}]
[null,null,null,"Check",{"$f":"SUM(F118:I118)","v":2.2118911147117615E-9},{"$f":"ABS('DNSP Inputs General'!R$66-F117)","v":0},{"$f":"ABS(G117-SUM(G93:G116)-SUM('Depn & WACC Post 2004 N & E'!G93:G116))*IF(F117=0,0,1)","v":1.1641532182693481E-10},{"$f":"ABS(H117+'Depn & WACC Post 2004 N & E'!H117-G117)*IF(F117=0,0,1)","v":2.3283064365386963E-10},{"$f":"ABS(I117-SUMPRODUCT(F93:F116,I93:I116)-SUMPRODUCT('Depn & WACC Post 2004 N & E'!F93:F116,'Depn & WACC Post 2004 N & E'!I93:I116))*IF(F117=0,0,1)","v":1.862645149230957E-9}]
[]
[]
[{"$f":"'DNSP Inputs General'!B$68","v":"Reference Light"},{"$f":"'DNSP Inputs General'!D$68","v":"Price Factor"},{"$f":"'DNSP Inputs General'!A$68","v":"Energy Efficient Lights"},{"$f":"D$68","v":"Unit cost"},null,{"$f":"F$68","v":"Volumes"},{"$f":"G$68","v":"Unitisation - Luminaires & Ballasts"}]
[{"$f":"'DNSP Inputs General'!B$69","v":"T5 2X14W"},{"$f":"'DNSP Inputs General'!D$69","v":1},{"$f":"'DNSP Inputs General'!A$69","v":"T5 2X14W"},{"$f":"'DNSP Inputs O & M'!$E$189","v":260.27999999999997},{"$f":"F122*D122","v":5446098.7199999997},{"$f":"'DNSP Inputs General'!R$69","v":20924},{"$f":"IF((E$132+'Depn & WACC Post 2004 N & E'!E$132)=0,0,E122/(E$132+'Depn & WACC Post 2004 N & E'!E$132)*G$132)","v":130352.57340641956},{"$f":"IF(F122=0,0,G122/F122)","v":6.2298113843633889}]
[{"$f":"'DNSP Inputs General'!B$70","v":"T5 2X24W"},{"$f":"'DNSP Inputs General'!D$70","v":1},{"$f":"'DNSP Inputs General'!A$70","v":"T5 2X24W"},{"$f":"'DNSP Inputs O & M'!$E$238","v":267.33},{"$f":"F123*D123","v":440827.17},{"$f":"'DNSP Inputs General'!R$70","v":1649},{"$f":"IF((E$132+'Depn & WACC Post 2004 N & E'!E$132)=0,0,E123/(E$132+'Depn & WACC Post 2004 N & E'!E$132)*G$132)","v":10551.214546652433},{"$f":"IF(F123=0,0,G123/F123)","v":6.3985533939675152}]
[{"$f":"'DNSP Inputs General'!B$71","v":"LED 18W"},{"$f":"'DNSP Inputs General'!D$71","v":1},{"$f":"'DNSP Inputs General'!A$71","v":"LED 18W"},{"$f":"'DNSP Inputs O & M'!$E$286","v":205},{"$f":"F124*D124","v":8495600.386818381},{"$f":"'DNSP Inputs General'!R$71","v":41441.95310643113},{"$f":"IF((E$132+'Depn & WACC Post 2004 N & E'!E$132)=0,0,E124/(E$132+'Depn & WACC Post 2004 N & E'!E$132)*G$132)","v":203342.50809437208},{"$f":"IF(F124=0,0,G124/F124)","v":4.9066825487724559}]
[{"$f":"'DNSP Inputs General'!B$72","v":"LED 14W"},{"$f":"'DNSP Inputs General'!D$72","v":1},{"$f":"'DNSP Inputs General'!A$72","v":"LED 14W"},{"$f":"'DNSP Inputs O & M'!$E$332","v":205},2870,{"$f":"'DNSP Inputs General'!R$72","v":14},{"$f":"IF((E$132+'Depn & WACC Post 2004 N & E'!E$132)=0,0,E125/(E$132+'Depn & WACC Post 2004 N & E'!E$132)*G$132)","v":68.693555682814377},{"$f":"IF(F125=0,0,G125/F125)","v":4.9066825487724559}]
[{"$f":"'DNSP Inputs General'!B$73","v":"LED 70W-125W (L1)"},{"$f":"'DNSP Inputs General'!D$73","v":1},{"$f":"'DNSP Inputs General'!A$73","v":"LED 70W-125W (L1)"},{"$f":"'DNSP Inputs O & M'!$E$378","v":402},1356324.232347056,{"$f":"'DNSP Inputs General'!R$73","v":3373.9408764852142},{"$f":"IF((E$132+'Depn & WACC Post 2004 N & E'!E$132)=0,0,E126/(E$132+'Depn & WACC Post 2004 N & E'!E$132)*G$132)","v":32463.670445534139},9.6218848029586699]
[{"$f":"'DNSP Inputs General'!B$74","v":"LED 155W-250W (L2)"},{"$f":"'DNSP Inputs General'!D$74","v":1},{"$f":"'DNSP Inputs General'!A$74","v":"LED 155W-250W (L2)"},{"$f":"'DNSP Inputs O & M'!$E$424","v":427},1861377.3070518672,{"$f":"'DNSP Inputs General'!R$74","v":4359.1974404024995},{"$f":"IF((E$132+'Depn & WACC Post 2004 N & E'!E$132)=0,0,E127/(E$132+'Depn & WACC Post 2004 N & E'!E$132)*G$132)","v":44552.134386304722},10.220260723540678]
[{"$f":"'DNSP Inputs General'!B$75","v":"LED 275W-400W (L4)"},{"$f":"'DNSP Inputs General'!D$75","v":1},{"$f":"'DNSP Inputs General'!A$75","v":"LED 275W-400W (L4)"},{"$f":"'DNSP Inputs O & M'!$E$470","v":650.88},88428.327743006739,{"$f":"'DNSP Inputs General'!R$75","v":135.85964808106985},{"$f":"IF((E$132+'Depn & WACC Post 2004 N & E'!E$132)=0,0,E128/(E$132+'Depn & WACC Post 2004 N & E'!E$132)*G$132)","v":2116.535280749963},15.578836767536664]
[{"$f":"'DNSP Inputs General'!B$76","v":"T5 2X14W"},{"$f":"'DNSP Inputs General'!D$76","v":0.87960989252886512},{"$f":"'DNSP Inputs General'!A$76","v":"Compact Fluorescent 32W"},{"$f":"D122*B129","v":228.94486282741298},652263.91419529961,{"$f":"'DNSP Inputs General'!R$76","v":2849},{"$f":"IF((E$132+'Depn & WACC Post 2004 N & E'!E$132)=0,0,E129/(E$132+'Depn & WACC Post 2004 N & E'!E$132)*G$132)","v":15611.960804761422},5.4798037222749816]
[{"$f":"'DNSP Inputs General'!B$77","v":"T5 2X14W"},{"$f":"'DNSP Inputs General'!D$77","v":0.87960989252886512},{"$f":"'DNSP Inputs General'!A$77","v":"Compact Fluorescent 42W"},{"$f":"D122*B130","v":228.94486282741298},311593.95830810908,{"$f":"'DNSP Inputs General'!R$77","v":1361},{"$f":"IF((E$132+'Depn & WACC Post 2004 N & E'!E$132)=0,0,E130/(E$132+'Depn & WACC Post 2004 N & E'!E$132)*G$132)","v":7458.0128660162491},5.4798037222749807]
[]
[null,null,null,null,{"$f":"SUM(E122:E131)","v":18655384.016463716},{"$f":"SUM(F122:F131)","v":76107.951071399904},{"$f":"'Total RAB'!U$149","v":691592.90385540552},{"$f":"SUMPRODUCT(F122:F131,H122:H131)","v":446517.30338649341}]
[null,null,null,"Check",{"$f":"SUM(F133:I133)","v":2.3283064365386963E-10},{"$f":"ABS('DNSP Inputs General'!R$78-F132)","v":0},{"$f":"ABS(G132-SUM(G122:G131)-SUM('Depn & WACC Post 2004 N & E'!G122:G131))","v":1.1641532182693481E-10},{"$f":"ABS(H132+'Depn & WACC Post 2004 N & E'!H132-G132)","v":1.1641532182693481E-10}]
[]
[]
[null,null,{"$f":"'RAB 2001 to 2004 Central'!A$27","v":"Poles & Brackets"},{"$f":"D$83","v":"Weighted Average Volumes"},null,null,{"$f":"G$83","v":"Unitisation Poles & Brackets"}]
[null,null,"Total Poles & Brackets",{"$f":"'DNSP Inputs General'!$D$42*F93","v":15128.279512499999},{"$f":"SUMPRODUCT('DNSP Inputs General'!$D$42:$D$63,'DNSP Inputs General'!R$42:R$63)+SUMPRODUCT('DNSP Inputs General'!$D$69:$D$77,'DNSP Inputs General'!R$69:R$77)","v":123501.27801127563},{"$f":"IF(E137=0,0,D137/E137*G137)","v":169956.07787993923},{"$f":"'Total RAB'!U$119*('DNSP Inputs General'!R$80/('DNSP Inputs General'!R$80+'DNSP Inputs General'!R$124))","v":1387454.0595718906},{"$f":"F137/F93","v":11.234329570623686}]
[]
[]
[]
[null,null,null,{"$f":"'DNSP Inputs General'!B$39","v":"Central"}]
["DEPRECIATION AND RETURN",null,null,"Year",{"$f":"'DNSP Inputs General'!$S$2","v":"2024-06-30"}]
[]
[]
[{"$f":"'DNSP Inputs General'!B$41","v":"Reference Light"},{"$f":"'DNSP Inputs General'!D$41","v":"Price Factor"},{"$f":"'DNSP Inputs General'!A$41","v":"Existing Lights"},{"$f":"D$39","v":"WACC and Dep"},null,{"$f":"F$39","v":"Volumes"},{"$f":"G$39","v":"Unitisation - Luminaires"},null,{"$f":"I$39","v":"RAB WDV"}]
[{"$f":"'DNSP Inputs General'!B$42","v":"Mercury Vapour 80W"},{"$f":"'DNSP Inputs General'!D$42","v":1},{"$f":"'DNSP Inputs General'!A$42","v":"Mercury Vapour 80W"},{"$f":"'DNSP Inputs Capex'!$F$21","v":116.85},{"$f":"F146*D146","v":1767739.4610356248},{"$f":"IF('DNSP Inputs General'!S$42=0,1/10^6,'DNSP Inputs General'!S$42)","v":15128.279512499999},{"$f":"IF((E$170+'Depn & WACC Post 2004 N & E'!E$170)=0,0,E146/(E$170+'Depn & WACC Post 2004 N & E'!E$170)*G$170)","v":183587.24234202222},{"$f":"IF(F146=0,0,G146/F146)","v":12.135368214893843},{"$f":"IF(F146=0,0,E146/(E$170+'Depn & WACC Post 2004 N & E'!E$170)*I$170/F146)","v":106.94250356679609}]
[{"$f":"'DNSP Inputs General'!B$43","v":"HP Sodium 150W"},{"$f":"'DNSP Inputs General'!D$43","v":1},{"$f":"'DNSP Inputs General'!A$43","v":"HP Sodium 150W"},{"$f":"'DNSP Inputs Capex'!$F$44","v":234.07},3744993.768045756,{"$f":"IF('DNSP Inputs General'!S$43=0,1/10^6,'DNSP Inputs General'!S$43)","v":15999.460708530594},{"$f":"IF((E$170+'Depn & WACC Post 2004 N & E'!E$170)=0,0,E147/(E$170+'Depn & WACC Post 2004 N & E'!E$170)*G$170)","v":388933.49026716303},24.30916249944546,{"$f":"IF(F147=0,0,E147/(E$170+'Depn & WACC Post 2004 N & E'!E$170)*I$170/F147)","v":214.223635514591}]
[{"$f":"'DNSP Inputs General'!B$44","v":"HP Sodium 250W"},{"$f":"'DNSP Inputs General'!D$44","v":1},{"$f":"'DNSP Inputs General'!A$44","v":"HP Sodium 250W"},{"$f":"'DNSP Inputs Capex'!$F$62","v":240.18},2612997.2355860467,{"$f":"IF('DNSP Inputs General'!S$44=0,1/10^6,'DNSP Inputs General'!S$44)","v":10879.328984869875},{"$f":"IF((E$170+'Depn & WACC Post 2004 N & E'!E$170)=0,0,E148/(E$170+'Depn & WACC Post 2004 N & E'!E$170)*G$170)","v":271370.84808161226},24.943711920010301,{"$f":"IF(F148=0,0,E148/(E$170+'Depn & WACC Post 2004 N & E'!E$170)*I$170/F148)","v":219.8155798602746}]
[{"$f":"'DNSP Inputs General'!B$45","v":"Mercury Vapour 80W"},{"$f":"'DNSP Inputs General'!D$45","v":1.53},{"$f":"'DNSP Inputs General'!A$45","v":"Mercury Vapour 50W"},{"$f":"B149*IF(A149=C146,D146,IF(A149=C147,D147,D148))","v":178.78049999999999},3841.6018626562491,{"$f":"'DNSP Inputs General'!S$45","v":21.487812499999997},{"$f":"IF((E$170+'Depn & WACC Post 2004 N & E'!E$170)=0,0,E149/(E$170+'Depn & WACC Post 2004 N & E'!E$170)*G$170)","v":398.96665073475077},18.567113368787577,{"$f":"IF(F149=0,0,E149/(E$170+'Depn & WACC Post 2004 N & E'!E$170)*I$170/F149)","v":163.62203045719801}]
[{"$f":"'DNSP Inputs General'!B$46","v":"Mercury Vapour 80W"},{"$f":"'DNSP Inputs General'!D$46","v":1.47},{"$f":"'DNSP Inputs General'!A$46","v":"Mercury Vapour 125W"},{"$f":"B150*IF(A150=C146,D146,IF(A150=C147,D147,D148))","v":171.76949999999999},43848.495613518746,{"$f":"'DNSP Inputs General'!S$46","v":255.27521249999998},{"$f":"IF((E$170+'Depn & WACC Post 2004 N & E'!E$170)=0,0,E150/(E$170+'Depn & WACC Post 2004 N & E'!E$170)*G$170)","v":4553.8522887394738},{"$f":"IF(F150=0,0,G150/F150)","v":17.83899127589395},{"$f":"IF(F150=0,0,E150/(E$170+'Depn & WACC Post 2004 N & E'!E$170)*I$170/F150)","v":157.20548024319027}]
[{"$f":"'DNSP Inputs General'!B$47","v":"HP Sodium 250W"},{"$f":"'DNSP Inputs General'!D$47","v":1.05},{"$f":"'DNSP Inputs General'!A$47","v":"Mercury Vapour 250W"},{"$f":"B151*IF(A151=C146,D146,IF(A151=C147,D147,D148))","v":252.18900000000002},224562.94338555,{"$f":"'DNSP Inputs General'!S$47","v":890.45494999999994},{"$f":"IF((E$170+'Depn & WACC Post 2004 N & E'!E$170)=0,0,E151/(E$170+'Depn & WACC Post 2004 N & E'!E$170)*G$170)","v":23321.814338074531},26.190897516010814,{"$f":"IF(F151=0,0,E151/(E$170+'Depn & WACC Post 2004 N & E'!E$170)*I$170/F151)","v":230.80635885328832}]
[{"$f":"'DNSP Inputs General'!B$48","v":"HP Sodium 250W"},{"$f":"'DNSP Inputs General'!D$48","v":1.0900000000000001},{"$f":"'DNSP Inputs General'!A$48","v":"Mercury Vapour 400W"},{"$f":"B152*IF(A152=C146,D146,IF(A152=C147,D147,D148))","v":261.7962},46353.523908614996,{"$f":"'DNSP Inputs General'!S$48","v":177.059575},{"$f":"IF((E$170+'Depn & WACC Post 2004 N & E'!E$170)=0,0,E152/(E$170+'Depn & WACC Post 2004 N & E'!E$170)*G$170)","v":4814.0101043126087},27.188645992811228,{"$f":"IF(F152=0,0,E152/(E$170+'Depn & WACC Post 2004 N & E'!E$170)*I$170/F152)","v":239.59898204769931}]
[{"$f":"'DNSP Inputs General'!B$49","v":"HP Sodium 150W"},{"$f":"'DNSP Inputs General'!D$49","v":1.07},{"$f":"'DNSP Inputs General'!A$49","v":"HP Sodium 100W"},{"$f":"B153*IF(A153=C146,D146,IF(A153=C147,D147,D148))","v":250.45490000000001},598139.54466228024,{"$f":"'DNSP Inputs General'!S$49","v":2388.2125870257687},{"$f":"IF((E$170+'Depn & WACC Post 2004 N & E'!E$170)=0,0,E153/(E$170+'Depn & WACC Post 2004 N & E'!E$170)*G$170)","v":62119.329211516582},26.010803874406644,{"$f":"IF(F153=0,0,E153/(E$170+'Depn & WACC Post 2004 N & E'!E$170)*I$170/F153)","v":229.2192900006124}]
[{"$f":"'DNSP Inputs General'!B$50","v":"HP Sodium 250W"},{"$f":"'DNSP Inputs General'!D$50","v":1.42},{"$f":"'DNSP Inputs General'!A$50","v":"HP Sodium 400W"},{"$f":"B154*IF(A154=C146,D146,IF(A154=C147,D147,D148))","v":341.05559999999997},144505.15883879145,{"$f":"'DNSP Inputs General'!S$50","v":423.69971007305395},{"$f":"IF((E$170+'Depn & WACC Post 2004 N & E'!E$170)=0,0,E154/(E$170+'Depn & WACC Post 2004 N & E'!E$170)*G$170)","v":15007.473782288884},35.420070926414624,{"$f":"IF(F154=0,0,E154/(E$170+'Depn & WACC Post 2004 N & E'!E$170)*I$170/F154)","v":312.13812340158995}]
[{"$f":"'DNSP Inputs General'!B$51","v":"Mercury Vapour 80W"},{"$f":"'DNSP Inputs General'!D$51","v":4.3651056775797761},{"$f":"'DNSP Inputs General'!A$51","v":"Metal Halide 70W"},{"$f":"B155*IF(A155=C146,D146,IF(A155=C147,D147,D148))","v":510.06259842519682},1976.4925688976377,{"$f":"'DNSP Inputs General'!S$51","v":3.875},{"$f":"IF((E$170+'Depn & WACC Post 2004 N & E'!E$170)=0,0,E155/(E$170+'Depn & WACC Post 2004 N & E'!E$170)*G$170)","v":205.2671381906228},52.972164694354269,{"$f":"IF(F155=0,0,E155/(E$170+'Depn & WACC Post 2004 N & E'!E$170)*I$170/F155)","v":466.81532949401708}]
[{"$f":"'DNSP Inputs General'!B$52","v":"HP Sodium 150W"},{"$f":"'DNSP Inputs General'!D$52","v":2.3876890876224905},{"$f":"'DNSP Inputs General'!A$52","v":"Metal Halide 100W"},{"$f":"B156*IF(A156=C146,D146,IF(A156=C147,D147,D148))","v":558.88638473979631},16626.869946008941,{"$f":"'DNSP Inputs General'!S$52","v":29.75},{"$f":"IF((E$170+'Depn & WACC Post 2004 N & E'!E$170)=0,0,E156/(E$170+'Depn & WACC Post 2004 N & E'!E$170)*G$170)","v":1726.7709803677419},58.042722029167798,{"$f":"IF(F156=0,0,E156/(E$170+'Depn & WACC Post 2004 N & E'!E$170)*I$170/F156)","v":511.49943682900681}]
[{"$f":"'DNSP Inputs General'!B$53","v":"HP Sodium 150W"},{"$f":"'DNSP Inputs General'!D$53","v":2.7125868138140996},{"$f":"'DNSP Inputs General'!A$53","v":"Metal Halide 150W"},{"$f":"B157*IF(A157=C146,D146,IF(A157=C147,D147,D148))","v":634.93519550946633},18333.753770335839,{"$f":"'DNSP Inputs General'!S$53","v":28.875},{"$f":"IF((E$170+'Depn & WACC Post 2004 N & E'!E$170)=0,0,E157/(E$170+'Depn & WACC Post 2004 N & E'!E$170)*G$170)","v":1904.0381066685813},65.940713650859962,{"$f":"IF(F157=0,0,E157/(E$170+'Depn & WACC Post 2004 N & E'!E$170)*I$170/F157)","v":581.10020890419753}]
[{"$f":"'DNSP Inputs General'!B$54","v":"HP Sodium 150W"},{"$f":"'DNSP Inputs General'!D$54","v":0.44334506707259064},{"$f":"'DNSP Inputs General'!A$54","v":"HP Sodium 50W"},{"$f":"B158*IF(A158=C146,D146,IF(A158=C147,D147,D148))","v":103.77377984968129},0,{"$f":"'DNSP Inputs General'!S$54","v":0},{"$f":"IF((E$170+'Depn & WACC Post 2004 N & E'!E$170)=0,0,E158/(E$170+'Depn & WACC Post 2004 N & E'!E$170)*G$170)","v":0},0,{"$f":"IF(F158=0,0,E158/(E$170+'Depn & WACC Post 2004 N & E'!E$170)*I$170/F158)","v":0}]
[]
[]
[]
[]
[]
[]
[]
[]
[]
[]
[]
[null,null,null,null,{"$f":"SUM(E146:E169)","v":9223918.8492240831},{"$f":"SUM(F146:F169)","v":46225.759052999289},{"$f":"'Total RAB'!V$134","v":1491630.4306606911},{"$f":"SUMPRODUCT(F146:F169,H146:H169)","v":957943.10329169128},{"$f":"'Total RAB'!V$128","v":13144940.460520502}]
[null,null,null,"Check",{"$f":"SUM(F171:I171)","v":1.9790604710578918E-9},{"$f":"ABS('DNSP Inputs General'!S$66-F170)","v":0},{"$f":"ABS(G170-SUM(G146:G169)-SUM('Depn & WACC Post 2004 N & E'!G146:G169))*IF(F170=0,0,1)","v":1.1641532182693481E-10},{"$f":"ABS(H170+'Depn & WACC Post 2004 N & E'!H170-G170)*IF(F170=0,0,1)","v":0},{"$f":"ABS(I170-SUMPRODUCT(F146:F169,I146:I169)-SUMPRODUCT('Depn & WACC Post 2004 N & E'!F146:F169,'Depn & WACC Post 2004 N & E'!I146:I169))*IF(F170=0,0,1)","v":1.862645149230957E-9}]
[]
[]
[{"$f":"'DNSP Inputs General'!B$68","v":"Reference Light"},{"$f":"'DNSP Inputs General'!D$68","v":"Price Factor"},{"$f":"'DNSP Inputs General'!A$68","v":"Energy Efficient Lights"},{"$f":"D$68","v":"Unit cost"},null,{"$f":"F$68","v":"Volumes"},{"$f":"G$68","v":"Unitisation - Luminaires & Ballasts"}]
[{"$f":"'DNSP Inputs General'!B$69","v":"T5 2X14W"},{"$f":"'DNSP Inputs General'!D$69","v":1},{"$f":"'DNSP Inputs General'!A$69","v":"T5 2X14W"},{"$f":"'DNSP Inputs O & M'!$F$189","v":260.27999999999997},{"$f":"F175*D175","v":5446098.7199999997},{"$f":"'DNSP Inputs General'!S$69","v":20924},{"$f":"IF((E$185+'Depn & WACC Post 2004 N & E'!E$185)=0,0,E175/(E$185+'Depn & WACC Post 2004 N & E'!E$185)*G$185)","v":139554.34703909635},{"$f":"IF(F175=0,0,G175/F175)","v":6.6695826342523583}]
[{"$f":"'DNSP Inputs General'!B$70","v":"T5 2X24W"},{"$f":"'DNSP Inputs General'!D$70","v":1},{"$f":"'DNSP Inputs General'!A$70","v":"T5 2X24W"},{"$f":"'DNSP Inputs O & M'!$F$238","v":267.33},{"$f":"F176*D176","v":440827.17},{"$f":"'DNSP Inputs General'!S$70","v":1649},{"$f":"IF((E$185+'Depn & WACC Post 2004 N & E'!E$185)=0,0,E176/(E$185+'Depn & WACC Post 2004 N & E'!E$185)*G$185)","v":11296.03979460048},{"$f":"IF(F176=0,0,G176/F176)","v":6.8502363824138746}]
[{"$f":"'DNSP Inputs General'!B$71","v":"LED 18W"},{"$f":"'DNSP Inputs General'!D$71","v":1},{"$f":"'DNSP Inputs General'!A$71","v":"LED 18W"},{"$f":"'DNSP Inputs O & M'!$F$286","v":205},{"$f":"F177*D177","v":9004248.2693497762},{"$f":"'DNSP Inputs General'!S$71","v":43923.1622895111},{"$f":"IF((E$185+'Depn & WACC Post 2004 N & E'!E$185)=0,0,E177/(E$185+'Depn & WACC Post 2004 N & E'!E$185)*G$185)","v":230730.66655813789},{"$f":"IF(F177=0,0,G177/F177)","v":5.2530522515050482}]
[{"$f":"'DNSP Inputs General'!B$72","v":"LED 14W"},{"$f":"'DNSP Inputs General'!D$72","v":1},{"$f":"'DNSP Inputs General'!A$72","v":"LED 14W"},{"$f":"'DNSP Inputs O & M'!$F$332","v":205},2870,{"$f":"'DNSP Inputs General'!S$72","v":14},{"$f":"IF((E$185+'Depn & WACC Post 2004 N & E'!E$185)=0,0,E178/(E$185+'Depn & WACC Post 2004 N & E'!E$185)*G$185)","v":73.542731521070664},{"$f":"IF(F178=0,0,G178/F178)","v":5.2530522515050473}]
[{"$f":"'DNSP Inputs General'!B$73","v":"LED 70W-125W (L1)"},{"$f":"'DNSP Inputs General'!D$73","v":1},{"$f":"'DNSP Inputs General'!A$73","v":"LED 70W-125W (L1)"},{"$f":"'DNSP Inputs O & M'!$F$378","v":402},1653893.6032207953,{"$f":"'DNSP Inputs General'!S$73","v":4114.1631920915306},{"$f":"IF((E$185+'Depn & WACC Post 2004 N & E'!E$185)=0,0,E179/(E$185+'Depn & WACC Post 2004 N & E'!E$185)*G$185)","v":42380.436664140463},10.301107341975753]
[{"$f":"'DNSP Inputs General'!B$74","v":"LED 155W-250W (L2)"},{"$f":"'DNSP Inputs General'!D$74","v":1},{"$f":"'DNSP Inputs General'!A$74","v":"LED 155W-250W (L2)"},{"$f":"'DNSP Inputs O & M'!$F$424","v":427},2346156.8984162966,{"$f":"'DNSP Inputs General'!S$74","v":5494.5126426611159},{"$f":"IF((E$185+'Depn & WACC Post 2004 N & E'!E$185)=0,0,E180/(E$185+'Depn & WACC Post 2004 N & E'!E$185)*G$185)","v":60119.437939560128},10.941723470208075]
[{"$f":"'DNSP Inputs General'!B$75","v":"LED 275W-400W (L4)"},{"$f":"'DNSP Inputs General'!D$75","v":1},{"$f":"'DNSP Inputs General'!A$75","v":"LED 275W-400W (L4)"},{"$f":"'DNSP Inputs O & M'!$F$470","v":650.88},105363.72529597001,{"$f":"'DNSP Inputs General'!S$75","v":161.87887981804636},{"$f":"IF((E$185+'Depn & WACC Post 2004 N & E'!E$185)=0,0,E181/(E$185+'Depn & WACC Post 2004 N & E'!E$185)*G$185)","v":2699.9080702095348},16.678569021754175]
[{"$f":"'DNSP Inputs General'!B$76","v":"T5 2X14W"},{"$f":"'DNSP Inputs General'!D$76","v":0.87960989252886512},{"$f":"'DNSP Inputs General'!A$76","v":"Compact Fluorescent 32W"},{"$f":"D175*B182","v":228.94486282741298},652263.91419529961,{"$f":"'DNSP Inputs General'!S$76","v":2849},{"$f":"IF((E$185+'Depn & WACC Post 2004 N & E'!E$185)=0,0,E182/(E$185+'Depn & WACC Post 2004 N & E'!E$185)*G$185)","v":16714.031331898113},5.8666308641271021]
[{"$f":"'DNSP Inputs General'!B$77","v":"T5 2X14W"},{"$f":"'DNSP Inputs General'!D$77","v":0.87960989252886512},{"$f":"'DNSP Inputs General'!A$77","v":"Compact Fluorescent 42W"},{"$f":"D175*B183","v":228.94486282741298},311593.95830810908,{"$f":"'DNSP Inputs General'!S$77","v":1361},{"$f":"IF((E$185+'Depn & WACC Post 2004 N & E'!E$185)=0,0,E183/(E$185+'Depn & WACC Post 2004 N & E'!E$185)*G$185)","v":7984.484606076986},5.8666308641271021]
[]
[null,null,null,null,{"$f":"SUM(E175:E184)","v":19963316.258786242},{"$f":"SUM(F175:F184)","v":80490.717004081773},{"$f":"'Total RAB'!V$149","v":789369.5215827683},{"$f":"SUMPRODUCT(F175:F184,H175:H184)","v":511552.89473524102}]
[null,null,null,"Check",{"$f":"SUM(F186:I186)","v":4.0745362639427185E-10},{"$f":"ABS('DNSP Inputs General'!S$78-F185)","v":0},{"$f":"ABS(G185-SUM(G175:G184)-SUM('Depn & WACC Post 2004 N & E'!G175:G184))","v":1.7462298274040222E-10},{"$f":"ABS(H185+'Depn & WACC Post 2004 N & E'!H185-G185)","v":2.3283064365386963E-10}]
[]
[]
[null,null,{"$f":"'RAB 2001 to 2004 Central'!A$27","v":"Poles & Brackets"},{"$f":"D$83","v":"Weighted Average Volumes"},null,null,{"$f":"G$83","v":"Unitisation Poles & Brackets"}]
[null,null,"Total Poles & Brackets",{"$f":"'DNSP Inputs General'!$D$42*F146","v":15128.279512499999},{"$f":"SUMPRODUCT('DNSP Inputs General'!$D$42:$D$63,'DNSP Inputs General'!S$42:S$63)+SUMPRODUCT('DNSP Inputs General'!$D$69:$D$77,'DNSP Inputs General'!S$69:S$77)","v":126850.36294280636},{"$f":"IF(E190=0,0,D190/E190*G190)","v":176850.72853899901},{"$f":"'Total RAB'!V$119*('DNSP Inputs General'!S$80/('DNSP Inputs General'!S$80+'DNSP Inputs General'!S$124))","v":1482890.3103843117},{"$f":"F190/F146","v":11.690075424166579}]
[]
[]
[]
[null,null,null,{"$f":"'DNSP Inputs General'!B$39","v":"Central"}]
["DEPRECIATION AND RETURN",null,null,"Year",{"$f":"'DNSP Inputs General'!$T$2","v":"2025-06-30"}]
[]
[]
[{"$f":"'DNSP Inputs General'!B$41","v":"Reference Light"},{"$f":"'DNSP Inputs General'!D$41","v":"Price Factor"},{"$f":"'DNSP Inputs General'!A$41","v":"Existing Lights"},{"$f":"D$39","v":"WACC and Dep"},null,{"$f":"F$39","v":"Volumes"},{"$f":"G$39","v":"Unitisation - Luminaires"},null,{"$f":"I$39","v":"RAB WDV"}]
[{"$f":"'DNSP Inputs General'!B$42","v":"Mercury Vapour 80W"},{"$f":"'DNSP Inputs General'!D$42","v":1},{"$f":"'DNSP Inputs General'!A$42","v":"Mercury Vapour 80W"},{"$f":"'DNSP Inputs Capex'!$G$21","v":116.85},{"$f":"F199*D199","v":1767739.4610356248},{"$f":"IF('DNSP Inputs General'!T$42=0,1/10^6,'DNSP Inputs General'!T$42)","v":15128.279512499999},{"$f":"IF((E$223+'Depn & WACC Post 2004 N & E'!E$223)=0,0,E199/(E$223+'Depn & WACC Post 2004 N & E'!E$223)*G$223)","v":201416.71082119178},{"$f":"IF(F199=0,0,G199/F199)","v":13.313920505948332},{"$f":"IF(F199=0,0,E199/(E$223+'Depn & WACC Post 2004 N & E'!E$223)*I$223/F199)","v":110.25078130361878}]
[{"$f":"'DNSP Inputs General'!B$43","v":"HP Sodium 150W"},{"$f":"'DNSP Inputs General'!D$43","v":1},{"$f":"'DNSP Inputs General'!A$43","v":"HP Sodium 150W"},{"$f":"'DNSP Inputs Capex'!$G$44","v":234.07},3618378.8624507901,{"$f":"IF('DNSP Inputs General'!T$43=0,1/10^6,'DNSP Inputs General'!T$43)","v":15458.533184307216},{"$f":"IF((E$223+'Depn & WACC Post 2004 N & E'!E$223)=0,0,E200/(E$223+'Depn & WACC Post 2004 N & E'!E$223)*G$223)","v":412279.06320131425},26.669998911658759,{"$f":"IF(F200=0,0,E200/(E$223+'Depn & WACC Post 2004 N & E'!E$223)*I$223/F200)","v":220.85066649326527}]
[{"$f":"'DNSP Inputs General'!B$44","v":"HP Sodium 250W"},{"$f":"'DNSP Inputs General'!D$44","v":1},{"$f":"'DNSP Inputs General'!A$44","v":"HP Sodium 250W"},{"$f":"'DNSP Inputs Capex'!$G$62","v":240.18},2517741.225724902,{"$f":"IF('DNSP Inputs General'!T$44=0,1/10^6,'DNSP Inputs General'!T$44)","v":10482.726395723632},{"$f":"IF((E$223+'Depn & WACC Post 2004 N & E'!E$223)=0,0,E201/(E$223+'Depn & WACC Post 2004 N & E'!E$223)*G$223)","v":286872.11411082809},27.366173959081475,{"$f":"IF(F201=0,0,E201/(E$223+'Depn & WACC Post 2004 N & E'!E$223)*I$223/F201)","v":226.6155982328041}]
[{"$f":"'DNSP Inputs General'!B$45","v":"Mercury Vapour 80W"},{"$f":"'DNSP Inputs General'!D$45","v":1.53},{"$f":"'DNSP Inputs General'!A$45","v":"Mercury Vapour 50W"},{"$f":"B202*IF(A202=C199,D199,IF(A202=C200,D200,D201))","v":178.78049999999999},3841.6018626562491,{"$f":"'DNSP Inputs General'!T$45","v":21.487812499999997},{"$f":"IF((E$223+'Depn & WACC Post 2004 N & E'!E$223)=0,0,E202/(E$223+'Depn & WACC Post 2004 N & E'!E$223)*G$223)","v":437.71315203173589},20.370298374100944,{"$f":"IF(F202=0,0,E202/(E$223+'Depn & WACC Post 2004 N & E'!E$223)*I$223/F202)","v":168.68369539453673}]
[{"$f":"'DNSP Inputs General'!B$46","v":"Mercury Vapour 80W"},{"$f":"'DNSP Inputs General'!D$46","v":1.47},{"$f":"'DNSP Inputs General'!A$46","v":"Mercury Vapour 125W"},{"$f":"B203*IF(A203=C199,D199,IF(A203=C200,D200,D201))","v":171.76949999999999},43848.495613518746,{"$f":"'DNSP Inputs General'!T$46","v":255.27521249999998},{"$f":"IF((E$223+'Depn & WACC Post 2004 N & E'!E$223)=0,0,E203/(E$223+'Depn & WACC Post 2004 N & E'!E$223)*G$223)","v":4996.1094129551793},{"$f":"IF(F203=0,0,G203/F203)","v":19.571463143744047},{"$f":"IF(F203=0,0,E203/(E$223+'Depn & WACC Post 2004 N & E'!E$223)*I$223/F203)","v":162.06864851631963}]
[{"$f":"'DNSP Inputs General'!B$47","v":"HP Sodium 250W"},{"$f":"'DNSP Inputs General'!D$47","v":1.05},{"$f":"'DNSP Inputs General'!A$47","v":"Mercury Vapour 250W"},{"$f":"B204*IF(A204=C199,D199,IF(A204=C200,D200,D201))","v":252.18900000000002},224562.94338555,{"$f":"'DNSP Inputs General'!T$47","v":890.45494999999994},{"$f":"IF((E$223+'Depn & WACC Post 2004 N & E'!E$223)=0,0,E204/(E$223+'Depn & WACC Post 2004 N & E'!E$223)*G$223)","v":25586.762317646455},28.734482657035549,{"$f":"IF(F204=0,0,E204/(E$223+'Depn & WACC Post 2004 N & E'!E$223)*I$223/F204)","v":237.94637814444431}]
[{"$f":"'DNSP Inputs General'!B$48","v":"HP Sodium 250W"},{"$f":"'DNSP Inputs General'!D$48","v":1.0900000000000001},{"$f":"'DNSP Inputs General'!A$48","v":"Mercury Vapour 400W"},{"$f":"B205*IF(A205=C199,D199,IF(A205=C200,D200,D201))","v":261.7962},46353.523908614996,{"$f":"'DNSP Inputs General'!T$48","v":177.059575},{"$f":"IF((E$223+'Depn & WACC Post 2004 N & E'!E$223)=0,0,E205/(E$223+'Depn & WACC Post 2004 N & E'!E$223)*G$223)","v":5281.5330123224257},29.829129615398806,{"$f":"IF(F205=0,0,E205/(E$223+'Depn & WACC Post 2004 N & E'!E$223)*I$223/F205)","v":247.01100207375643}]
[{"$f":"'DNSP Inputs General'!B$49","v":"HP Sodium 150W"},{"$f":"'DNSP Inputs General'!D$49","v":1.07},{"$f":"'DNSP Inputs General'!A$49","v":"HP Sodium 100W"},{"$f":"B206*IF(A206=C199,D199,IF(A206=C200,D200,D201))","v":250.45490000000001},590354.87590864615,{"$f":"'DNSP Inputs General'!T$49","v":2357.1304690331317},{"$f":"IF((E$223+'Depn & WACC Post 2004 N & E'!E$223)=0,0,E206/(E$223+'Depn & WACC Post 2004 N & E'!E$223)*G$223)","v":67265.193736813919},28.536898835474872,{"$f":"IF(F206=0,0,E206/(E$223+'Depn & WACC Post 2004 N & E'!E$223)*I$223/F206)","v":236.31021314779389}]
[{"$f":"'DNSP Inputs General'!B$50","v":"HP Sodium 250W"},{"$f":"'DNSP Inputs General'!D$50","v":1.42},{"$f":"'DNSP Inputs General'!A$50","v":"HP Sodium 400W"},{"$f":"B207*IF(A207=C199,D199,IF(A207=C200,D200,D201))","v":341.05559999999997},142624.45256416043,{"$f":"'DNSP Inputs General'!T$50","v":418.18534152249794},{"$f":"IF((E$223+'Depn & WACC Post 2004 N & E'!E$223)=0,0,E207/(E$223+'Depn & WACC Post 2004 N & E'!E$223)*G$223)","v":16250.668580604453},38.859967021895685,{"$f":"IF(F207=0,0,E207/(E$223+'Depn & WACC Post 2004 N & E'!E$223)*I$223/F207)","v":321.79414949058179}]
[{"$f":"'DNSP Inputs General'!B$51","v":"Mercury Vapour 80W"},{"$f":"'DNSP Inputs General'!D$51","v":4.3651056775797761},{"$f":"'DNSP Inputs General'!A$51","v":"Metal Halide 70W"},{"$f":"B208*IF(A208=C199,D199,IF(A208=C200,D200,D201))","v":510.06259842519682},0,{"$f":"'DNSP Inputs General'!T$51","v":0},{"$f":"IF((E$223+'Depn & WACC Post 2004 N & E'!E$223)=0,0,E208/(E$223+'Depn & WACC Post 2004 N & E'!E$223)*G$223)","v":0},0,{"$f":"IF(F208=0,0,E208/(E$223+'Depn & WACC Post 2004 N & E'!E$223)*I$223/F208)","v":0}]
[{"$f":"'DNSP Inputs General'!B$52","v":"HP Sodium 150W"},{"$f":"'DNSP Inputs General'!D$52","v":2.3876890876224905},{"$f":"'DNSP Inputs General'!A$52","v":"Metal Halide 100W"},{"$f":"B209*IF(A209=C199,D199,IF(A209=C200,D200,D201))","v":558.88638473979631},16626.869946008941,{"$f":"'DNSP Inputs General'!T$52","v":29.75},{"$f":"IF((E$223+'Depn & WACC Post 2004 N & E'!E$223)=0,0,E209/(E$223+'Depn & WACC Post 2004 N & E'!E$223)*G$223)","v":1894.4700447060716},63.679665368271316,{"$f":"IF(F209=0,0,E209/(E$223+'Depn & WACC Post 2004 N & E'!E$223)*I$223/F209)","v":527.32272638012353}]
[{"$f":"'DNSP Inputs General'!B$53","v":"HP Sodium 150W"},{"$f":"'DNSP Inputs General'!D$53","v":2.7125868138140996},{"$f":"'DNSP Inputs General'!A$53","v":"Metal Halide 150W"},{"$f":"B210*IF(A210=C199,D199,IF(A210=C200,D200,D201))","v":634.93519550946633},18333.753770335839,{"$f":"'DNSP Inputs General'!T$53","v":28.875},{"$f":"IF((E$223+'Depn & WACC Post 2004 N & E'!E$223)=0,0,E210/(E$223+'Depn & WACC Post 2004 N & E'!E$223)*G$223)","v":2088.9528478723309},72.344687372201932,{"$f":"IF(F210=0,0,E210/(E$223+'Depn & WACC Post 2004 N & E'!E$223)*I$223/F210)","v":599.07660575168677}]
[{"$f":"'DNSP Inputs General'!B$54","v":"HP Sodium 150W"},{"$f":"'DNSP Inputs General'!D$54","v":0.44334506707259064},{"$f":"'DNSP Inputs General'!A$54","v":"HP Sodium 50W"},{"$f":"B211*IF(A211=C199,D199,IF(A211=C200,D200,D201))","v":103.77377984968129},0,{"$f":"'DNSP Inputs General'!T$54","v":0},{"$f":"IF((E$223+'Depn & WACC Post 2004 N & E'!E$223)=0,0,E211/(E$223+'Depn & WACC Post 2004 N & E'!E$223)*G$223)","v":0},0,{"$f":"IF(F211=0,0,E211/(E$223+'Depn & WACC Post 2004 N & E'!E$223)*I$223/F211)","v":0}]
[]
[]
[]
[]
[]
[]
[]
[]
[]
[]
[]
[null,null,null,null,{"$f":"SUM(E199:E222)","v":8990406.0661708098},{"$f":"SUM(F199:F222)","v":45247.757453086473},{"$f":"'Total RAB'!W$134","v":1593651.9644644049},{"$f":"SUMPRODUCT(F199:F222,H199:H222)","v":1024369.2912382868},{"$f":"'Total RAB'!W$128","v":13196817.130592639}]
[null,null,null,"Check",{"$f":"SUM(F224:I224)","v":1.862645149230957E-9},{"$f":"ABS('DNSP Inputs General'!T$66-F223)","v":0},{"$f":"ABS(G223-SUM(G199:G222)-SUM('Depn & WACC Post 2004 N & E'!G199:G222))*IF(F223=0,0,1)","v":0},{"$f":"ABS(H223+'Depn & WACC Post 2004 N & E'!H223-G223)*IF(F223=0,0,1)","v":0},{"$f":"ABS(I223-SUMPRODUCT(F199:F222,I199:I222)-SUMPRODUCT('Depn & WACC Post 2004 N & E'!F199:F222,'Depn & WACC Post 2004 N & E'!I199:I222))*IF(F223=0,0,1)","v":1.862645149230957E-9}]
[]
[]
[{"$f":"'DNSP Inputs General'!B$68","v":"Reference Light"},{"$f":"'DNSP Inputs General'!D$68","v":"Price Factor"},{"$f":"'DNSP Inputs General'!A$68","v":"Energy Efficient Lights"},{"$f":"D$68","v":"Unit cost"},null,{"$f":"F$68","v":"Volumes"},{"$f":"G$68","v":"Unitisation - Luminaires & Ballasts"}]
[{"$f":"'DNSP Inputs General'!B$69","v":"T5 2X14W"},{"$f":"'DNSP Inputs General'!D$69","v":1},{"$f":"'DNSP Inputs General'!A$69","v":"T5 2X14W"},{"$f":"'DNSP Inputs O & M'!$G$189","v":260.27999999999997},{"$f":"F228*D228","v":5446098.7199999997},{"$f":"'DNSP Inputs General'!T$69","v":20924},{"$f":"IF((E$238+'Depn & WACC Post 2004 N & E'!E$238)=0,0,E228/(E$238+'Depn & WACC Post 2004 N & E'!E$238)*G$238)","v":148073.82436589722},{"$f":"IF(F228=0,0,G228/F228)","v":7.0767455728301103}]
[{"$f":"'DNSP Inputs General'!B$70","v":"T5 2X24W"},{"$f":"'DNSP Inputs General'!D$70","v":1},{"$f":"'DNSP Inputs General'!A$70","v":"T5 2X24W"},{"$f":"'DNSP Inputs O & M'!$G$238","v":267.33},{"$f":"F229*D229","v":440827.17},{"$f":"'DNSP Inputs General'!T$70","v":1649},{"$f":"IF((E$238+'Depn & WACC Post 2004 N & E'!E$238)=0,0,E229/(E$238+'Depn & WACC Post 2004 N & E'!E$238)*G$238)","v":11985.637481484271},{"$f":"IF(F229=0,0,G229/F229)","v":7.2684278238230871}]
[{"$f":"'DNSP Inputs General'!B$71","v":"LED 18W"},{"$f":"'DNSP Inputs General'!D$71","v":1},{"$f":"'DNSP Inputs General'!A$71","v":"LED 18W"},{"$f":"'DNSP Inputs O & M'!$G$286","v":205},{"$f":"F230*D230","v":9520632.3902879488},{"$f":"'DNSP Inputs General'!T$71","v":46442.109220916827},{"$f":"IF((E$238+'Depn & WACC Post 2004 N & E'!E$238)=0,0,E230/(E$238+'Depn & WACC Post 2004 N & E'!E$238)*G$238)","v":258856.20531163816},{"$f":"IF(F230=0,0,G230/F230)","v":5.5737392132709855}]
[{"$f":"'DNSP Inputs General'!B$72","v":"LED 14W"},{"$f":"'DNSP Inputs General'!D$72","v":1},{"$f":"'DNSP Inputs General'!A$72","v":"LED 14W"},{"$f":"'DNSP Inputs O & M'!$G$332","v":205},2870,{"$f":"'DNSP Inputs General'!T$72","v":14},{"$f":"IF((E$238+'Depn & WACC Post 2004 N & E'!E$238)=0,0,E231/(E$238+'Depn & WACC Post 2004 N & E'!E$238)*G$238)","v":78.032348985793817},{"$f":"IF(F231=0,0,G231/F231)","v":5.5737392132709873}]
[{"$f":"'DNSP Inputs General'!B$73","v":"LED 70W-125W (L1)"},{"$f":"'DNSP Inputs General'!D$73","v":1},{"$f":"'DNSP Inputs General'!A$73","v":"LED 70W-125W (L1)"},{"$f":"'DNSP Inputs O & M'!$G$378","v":402},1890733.2664284902,{"$f":"'DNSP Inputs General'!T$73","v":4703.3165831554479},{"$f":"IF((E$238+'Depn & WACC Post 2004 N & E'!E$238)=0,0,E232/(E$238+'Depn & WACC Post 2004 N & E'!E$238)*G$238)","v":51407.093409406909},10.929966652365547]
[{"$f":"'DNSP Inputs General'!B$74","v":"LED 155W-250W (L2)"},{"$f":"'DNSP Inputs General'!D$74","v":1},{"$f":"'DNSP Inputs General'!A$74","v":"LED 155W-250W (L2)"},{"$f":"'DNSP Inputs O & M'!$G$424","v":427},2861273.9498098157,{"$f":"'DNSP Inputs General'!T$74","v":6700.8757606787249},{"$f":"IF((E$238+'Depn & WACC Post 2004 N & E'!E$238)=0,0,E233/(E$238+'Depn & WACC Post 2004 N & E'!E$238)*G$238)","v":77795.09665349136},11.609690946666884]
[{"$f":"'DNSP Inputs General'!B$75","v":"LED 275W-400W (L4)"},{"$f":"'DNSP Inputs General'!D$75","v":1},{"$f":"'DNSP Inputs General'!A$75","v":"LED 275W-400W (L4)"},{"$f":"'DNSP Inputs O & M'!$G$470","v":650.88},122671.7728007048,{"$f":"'DNSP Inputs General'!T$75","v":188.47064405221363},{"$f":"IF((E$238+'Depn & WACC Post 2004 N & E'!E$238)=0,0,E234/(E$238+'Depn & WACC Post 2004 N & E'!E$238)*G$238)","v":3335.3193679061346},17.696757946994243]
[{"$f":"'DNSP Inputs General'!B$76","v":"T5 2X14W"},{"$f":"'DNSP Inputs General'!D$76","v":0.87960989252886512},{"$f":"'DNSP Inputs General'!A$76","v":"Compact Fluorescent 32W"},{"$f":"D228*B235","v":228.94486282741298},652263.91419529961,{"$f":"'DNSP Inputs General'!T$76","v":2849},{"$f":"IF((E$238+'Depn & WACC Post 2004 N & E'!E$238)=0,0,E235/(E$238+'Depn & WACC Post 2004 N & E'!E$238)*G$238)","v":17734.385150985192},6.2247754127712156]
[{"$f":"'DNSP Inputs General'!B$77","v":"T5 2X14W"},{"$f":"'DNSP Inputs General'!D$77","v":0.87960989252886512},{"$f":"'DNSP Inputs General'!A$77","v":"Compact Fluorescent 42W"},{"$f":"D228*B236","v":228.94486282741298},311593.95830810908,{"$f":"'DNSP Inputs General'!T$77","v":1361},{"$f":"IF((E$238+'Depn & WACC Post 2004 N & E'!E$238)=0,0,E236/(E$238+'Depn & WACC Post 2004 N & E'!E$238)*G$238)","v":8471.9193367816224},6.2247754127712138]
[]
[null,null,null,null,{"$f":"SUM(E228:E237)","v":21248965.141830366},{"$f":"SUM(F228:F237)","v":84831.772208803217},{"$f":"'Total RAB'!W$149","v":889317.12959415023},{"$f":"SUMPRODUCT(F228:F237,H228:H237)","v":577737.51342657651}]
[null,null,null,"Check",{"$f":"SUM(F239:I239)","v":5.8207660913467407E-11},{"$f":"ABS('DNSP Inputs General'!T$78-F238)","v":0},{"$f":"ABS(G238-SUM(G228:G237)-SUM('Depn & WACC Post 2004 N & E'!G228:G237))","v":5.8207660913467407E-11},{"$f":"ABS(H238+'Depn & WACC Post 2004 N & E'!H238-G238)","v":0}]
[]
[]
[null,null,{"$f":"'RAB 2001 to 2004 Central'!A$27","v":"Poles & Brackets"},{"$f":"D$83","v":"Weighted Average Volumes"},null,null,{"$f":"G$83","v":"Unitisation Poles & Brackets"}]
[null,null,"Total Poles & Brackets",{"$f":"'DNSP Inputs General'!$D$42*F199","v":15128.279512499999},{"$f":"SUMPRODUCT('DNSP Inputs General'!$D$42:$D$63,'DNSP Inputs General'!T$42:T$63)+SUMPRODUCT('DNSP Inputs General'!$D$69:$D$77,'DNSP Inputs General'!T$69:T$77)","v":130195.88498006365},{"$f":"IF(E243=0,0,D243/E243*G243)","v":183465.89694634767},{"$f":"'Total RAB'!W$119*('DNSP Inputs General'!T$80/('DNSP Inputs General'!T$80+'DNSP Inputs General'!T$124))","v":1578930.6904895734},{"$f":"F243/F199","v":12.12734711800875}]
[]
[]
[]
[null,null,null,{"$f":"'DNSP Inputs General'!B$39","v":"Central"}]
["DEPRECIATION AND RETURN",null,null,"Year",{"$f":"'DNSP Inputs General'!$U$2","v":"2026-06-30"}]
[]
[]
[{"$f":"'DNSP Inputs General'!B$41","v":"Reference Light"},{"$f":"'DNSP Inputs General'!D$41","v":"Price Factor"},{"$f":"'DNSP Inputs General'!A$41","v":"Existing Lights"},{"$f":"D$39","v":"WACC and Dep"},null,{"$f":"F$39","v":"Volumes"},{"$f":"G$39","v":"Unitisation - Luminaires"},null,{"$f":"I$39","v":"RAB WDV"}]
[{"$f":"'DNSP Inputs General'!B$42","v":"Mercury Vapour 80W"},{"$f":"'DNSP Inputs General'!D$42","v":1},{"$f":"'DNSP Inputs General'!A$42","v":"Mercury Vapour 80W"},{"$f":"'DNSP Inputs Capex'!$H$21","v":116.85},{"$f":"F252*D252","v":1767739.4610356248},{"$f":"IF('DNSP Inputs General'!U$42=0,1/10^6,'DNSP Inputs General'!U$42)","v":15128.279512499999},{"$f":"IF((E$276+'Depn & WACC Post 2004 N & E'!E$276)=0,0,E252/(E$276+'Depn & WACC Post 2004 N & E'!E$276)*G$276)","v":207253.38924360657},{"$f":"IF(F252=0,0,G252/F252)","v":13.699732945333269},{"$f":"IF(F252=0,0,E252/(E$276+'Depn & WACC Post 2004 N & E'!E$276)*I$276/F252)","v":104.79919605566174}]
[{"$f":"'DNSP Inputs General'!B$43","v":"HP Sodium 150W"},{"$f":"'DNSP Inputs General'!D$43","v":1},{"$f":"'DNSP Inputs General'!A$43","v":"HP Sodium 150W"},{"$f":"'DNSP Inputs Capex'!$H$44","v":234.07},3493130.8055209811,{"$f":"IF('DNSP Inputs General'!U$43=0,1/10^6,'DNSP Inputs General'!U$43)","v":14923.445146840608},{"$f":"IF((E$276+'Depn & WACC Post 2004 N & E'!E$276)=0,0,E253/(E$276+'Depn & WACC Post 2004 N & E'!E$276)*G$276)","v":409541.79870564252},27.442845447275641,{"$f":"IF(F253=0,0,E253/(E$276+'Depn & WACC Post 2004 N & E'!E$276)*I$276/F253)","v":209.93023381043}]
[{"$f":"'DNSP Inputs General'!B$44","v":"HP Sodium 250W"},{"$f":"'DNSP Inputs General'!D$44","v":1},{"$f":"'DNSP Inputs General'!A$44","v":"HP Sodium 250W"},{"$f":"'DNSP Inputs Capex'!$H$62","v":240.18},2423603.830239716,{"$f":"IF('DNSP Inputs General'!U$44=0,1/10^6,'DNSP Inputs General'!U$44)","v":10090.781206760414},{"$f":"IF((E$276+'Depn & WACC Post 2004 N & E'!E$276)=0,0,E254/(E$276+'Depn & WACC Post 2004 N & E'!E$276)*G$276)","v":284148.26905922923},28.159194341550229,{"$f":"IF(F254=0,0,E254/(E$276+'Depn & WACC Post 2004 N & E'!E$276)*I$276/F254)","v":215.41010619297248}]
[{"$f":"'DNSP Inputs General'!B$45","v":"Mercury Vapour 80W"},{"$f":"'DNSP Inputs General'!D$45","v":1.53},{"$f":"'DNSP Inputs General'!A$45","v":"Mercury Vapour 50W"},{"$f":"B255*IF(A255=C252,D252,IF(A255=C253,D253,D254))","v":178.78049999999999},3841.6018626562491,{"$f":"'DNSP Inputs General'!U$45","v":21.487812499999997},{"$f":"IF((E$276+'Depn & WACC Post 2004 N & E'!E$276)=0,0,E255/(E$276+'Depn & WACC Post 2004 N & E'!E$276)*G$276)","v":450.39725802897271},20.960591406359896,{"$f":"IF(F255=0,0,E255/(E$276+'Depn & WACC Post 2004 N & E'!E$276)*I$276/F255)","v":160.34276996516243}]
[{"$f":"'DNSP Inputs General'!B$46","v":"Mercury Vapour 80W"},{"$f":"'DNSP Inputs General'!D$46","v":1.47},{"$f":"'DNSP Inputs General'!A$46","v":"Mercury Vapour 125W"},{"$f":"B256*IF(A256=C252,D252,IF(A256=C253,D253,D254))","v":171.76949999999999},43848.495613518746,{"$f":"'DNSP Inputs General'!U$46","v":255.27521249999998},{"$f":"IF((E$276+'Depn & WACC Post 2004 N & E'!E$276)=0,0,E256/(E$276+'Depn & WACC Post 2004 N & E'!E$276)*G$276)","v":5140.8872910554055},{"$f":"IF(F256=0,0,G256/F256)","v":20.138607429639908},{"$f":"IF(F256=0,0,E256/(E$276+'Depn & WACC Post 2004 N & E'!E$276)*I$276/F256)","v":154.05481820182277}]
[{"$f":"'DNSP Inputs General'!B$47","v":"HP Sodium 250W"},{"$f":"'DNSP Inputs General'!D$47","v":1.05},{"$f":"'DNSP Inputs General'!A$47","v":"Mercury Vapour 250W"},{"$f":"B257*IF(A257=C252,D252,IF(A257=C253,D253,D254))","v":252.18900000000002},224562.94338555,{"$f":"'DNSP Inputs General'!U$47","v":890.45494999999994},{"$f":"IF((E$276+'Depn & WACC Post 2004 N & E'!E$276)=0,0,E257/(E$276+'Depn & WACC Post 2004 N & E'!E$276)*G$276)","v":26328.218688917663},29.567154058627743,{"$f":"IF(F257=0,0,E257/(E$276+'Depn & WACC Post 2004 N & E'!E$276)*I$276/F257)","v":226.18061150262108}]
[{"$f":"'DNSP Inputs General'!B$48","v":"HP Sodium 250W"},{"$f":"'DNSP Inputs General'!D$48","v":1.0900000000000001},{"$f":"'DNSP Inputs General'!A$48","v":"Mercury Vapour 400W"},{"$f":"B258*IF(A258=C252,D252,IF(A258=C253,D253,D254))","v":261.7962},46353.523908614996,{"$f":"'DNSP Inputs General'!U$48","v":177.059575},{"$f":"IF((E$276+'Depn & WACC Post 2004 N & E'!E$276)=0,0,E258/(E$276+'Depn & WACC Post 2004 N & E'!E$276)*G$276)","v":5434.5819308784448},30.693521832289754,{"$f":"IF(F258=0,0,E258/(E$276+'Depn & WACC Post 2004 N & E'!E$276)*I$276/F258)","v":234.79701575033999}]
[{"$f":"'DNSP Inputs General'!B$49","v":"HP Sodium 150W"},{"$f":"'DNSP Inputs General'!D$49","v":1.07},{"$f":"'DNSP Inputs General'!A$49","v":"HP Sodium 100W"},{"$f":"B259*IF(A259=C252,D252,IF(A259=C253,D253,D254))","v":250.45490000000001},582570.20715501183,{"$f":"'DNSP Inputs General'!U$49","v":2326.0483510404938},{"$f":"IF((E$276+'Depn & WACC Post 2004 N & E'!E$276)=0,0,E259/(E$276+'Depn & WACC Post 2004 N & E'!E$276)*G$276)","v":68301.722378529244},29.363844628584932,{"$f":"IF(F259=0,0,E259/(E$276+'Depn & WACC Post 2004 N & E'!E$276)*I$276/F259)","v":224.62535017716007}]
[{"$f":"'DNSP Inputs General'!B$50","v":"HP Sodium 250W"},{"$f":"'DNSP Inputs General'!D$50","v":1.42},{"$f":"'DNSP Inputs General'!A$50","v":"HP Sodium 400W"},{"$f":"B260*IF(A260=C252,D252,IF(A260=C253,D253,D254))","v":341.05559999999997},140743.74628952943,{"$f":"'DNSP Inputs General'!U$50","v":412.67097297194192},{"$f":"IF((E$276+'Depn & WACC Post 2004 N & E'!E$276)=0,0,E260/(E$276+'Depn & WACC Post 2004 N & E'!E$276)*G$276)","v":16501.084620387621},39.986055965001327,{"$f":"IF(F260=0,0,E260/(E$276+'Depn & WACC Post 2004 N & E'!E$276)*I$276/F260)","v":305.88235079402091}]
[{"$f":"'DNSP Inputs General'!B$51","v":"Mercury Vapour 80W"},{"$f":"'DNSP Inputs General'!D$51","v":4.3651056775797761},{"$f":"'DNSP Inputs General'!A$51","v":"Metal Halide 70W"},{"$f":"B261*IF(A261=C252,D252,IF(A261=C253,D253,D254))","v":510.06259842519682},0,{"$f":"'DNSP Inputs General'!U$51","v":0},{"$f":"IF((E$276+'Depn & WACC Post 2004 N & E'!E$276)=0,0,E261/(E$276+'Depn & WACC Post 2004 N & E'!E$276)*G$276)","v":0},0,{"$f":"IF(F261=0,0,E261/(E$276+'Depn & WACC Post 2004 N & E'!E$276)*I$276/F261)","v":0}]
[{"$f":"'DNSP Inputs General'!B$52","v":"HP Sodium 150W"},{"$f":"'DNSP Inputs General'!D$52","v":2.3876890876224905},{"$f":"'DNSP Inputs General'!A$52","v":"Metal Halide 100W"},{"$f":"B262*IF(A262=C252,D252,IF(A262=C253,D253,D254))","v":558.88638473979631},16626.869946008941,{"$f":"'DNSP Inputs General'!U$52","v":29.75},{"$f":"IF((E$276+'Depn & WACC Post 2004 N & E'!E$276)=0,0,E262/(E$276+'Depn & WACC Post 2004 N & E'!E$276)*G$276)","v":1949.3682325811747},65.524982607770582,{"$f":"IF(F262=0,0,E262/(E$276+'Depn & WACC Post 2004 N & E'!E$276)*I$276/F262)","v":501.24812843120156}]
[{"$f":"'DNSP Inputs General'!B$53","v":"HP Sodium 150W"},{"$f":"'DNSP Inputs General'!D$53","v":2.7125868138140996},{"$f":"'DNSP Inputs General'!A$53","v":"Metal Halide 150W"},{"$f":"B263*IF(A263=C252,D252,IF(A263=C253,D253,D254))","v":634.93519550946633},18333.753770335839,{"$f":"'DNSP Inputs General'!U$53","v":28.875},{"$f":"IF((E$276+'Depn & WACC Post 2004 N & E'!E$276)=0,0,E263/(E$276+'Depn & WACC Post 2004 N & E'!E$276)*G$276)","v":2149.4867825340002},74.441100693818186,{"$f":"IF(F263=0,0,E263/(E$276+'Depn & WACC Post 2004 N & E'!E$276)*I$276/F263)","v":569.4539840550832}]
[{"$f":"'DNSP Inputs General'!B$54","v":"HP Sodium 150W"},{"$f":"'DNSP Inputs General'!D$54","v":0.44334506707259064},{"$f":"'DNSP Inputs General'!A$54","v":"HP Sodium 50W"},{"$f":"B264*IF(A264=C252,D252,IF(A264=C253,D253,D254))","v":103.77377984968129},0,{"$f":"'DNSP Inputs General'!U$54","v":0},{"$f":"IF((E$276+'Depn & WACC Post 2004 N & E'!E$276)=0,0,E264/(E$276+'Depn & WACC Post 2004 N & E'!E$276)*G$276)","v":0},0,{"$f":"IF(F264=0,0,E264/(E$276+'Depn & WACC Post 2004 N & E'!E$276)*I$276/F264)","v":0}]
[]
[]
[]
[]
[]
[]
[]
[]
[]
[]
[]
[null,null,null,null,{"$f":"SUM(E252:E275)","v":8761355.2387275472},{"$f":"SUM(F252:F275)","v":44284.127740113465},{"$f":"'Total RAB'!X$134","v":1596461.5230283083},{"$f":"SUMPRODUCT(F252:F275,H252:H275)","v":1027199.2041913909},{"$f":"'Total RAB'!X$128","v":12212492.375930322}]
[null,null,null,"Check",{"$f":"SUM(F277:I277)","v":0},{"$f":"ABS('DNSP Inputs General'!U$66-F276)","v":0},{"$f":"ABS(G276-SUM(G252:G275)-SUM('Depn & WACC Post 2004 N & E'!G252:G275))*IF(F276=0,0,1)","v":0},{"$f":"ABS(H276+'Depn & WACC Post 2004 N & E'!H276-G276)*IF(F276=0,0,1)","v":0},{"$f":"ABS(I276-SUMPRODUCT(F252:F275,I252:I275)-SUMPRODUCT('Depn & WACC Post 2004 N & E'!F252:F275,'Depn & WACC Post 2004 N & E'!I252:I275))*IF(F276=0,0,1)","v":0}]
[]
[]
[{"$f":"'DNSP Inputs General'!B$68","v":"Reference Light"},{"$f":"'DNSP Inputs General'!D$68","v":"Price Factor"},{"$f":"'DNSP Inputs General'!A$68","v":"Energy Efficient Lights"},{"$f":"D$68","v":"Unit cost"},null,{"$f":"F$68","v":"Volumes"},{"$f":"G$68","v":"Unitisation - Luminaires & Ballasts"}]
[{"$f":"'DNSP Inputs General'!B$69","v":"T5 2X14W"},{"$f":"'DNSP Inputs General'!D$69","v":1},{"$f":"'DNSP Inputs General'!A$69","v":"T5 2X14W"},{"$f":"'DNSP Inputs O & M'!$H$189","v":260.27999999999997},{"$f":"F281*D281","v":5446098.7199999997},{"$f":"'DNSP Inputs General'!U$69","v":20924},{"$f":"IF((E$291+'Depn & WACC Post 2004 N & E'!E$291)=0,0,E281/(E$291+'Depn & WACC Post 2004 N & E'!E$291)*G$291)","v":156751.93813080329},{"$f":"IF(F281=0,0,G281/F281)","v":7.4914900655134433}]
[{"$f":"'DNSP Inputs General'!B$70","v":"T5 2X24W"},{"$f":"'DNSP Inputs General'!D$70","v":1},{"$f":"'DNSP Inputs General'!A$70","v":"T5 2X24W"},{"$f":"'DNSP Inputs O & M'!$H$238","v":267.33},{"$f":"F282*D282","v":440827.17},{"$f":"'DNSP Inputs General'!U$70","v":1649},{"$f":"IF((E$291+'Depn & WACC Post 2004 N & E'!E$291)=0,0,E282/(E$291+'Depn & WACC Post 2004 N & E'!E$291)*G$291)","v":12688.075782478121},{"$f":"IF(F282=0,0,G282/F282)","v":7.6944061749412498}]
[{"$f":"'DNSP Inputs General'!B$71","v":"LED 18W"},{"$f":"'DNSP Inputs General'!D$71","v":1},{"$f":"'DNSP Inputs General'!A$71","v":"LED 18W"},{"$f":"'DNSP Inputs O & M'!$H$286","v":205},{"$f":"F283*D283","v":10038001.077397235},{"$f":"'DNSP Inputs General'!U$71","v":48965.858914132856},{"$f":"IF((E$291+'Depn & WACC Post 2004 N & E'!E$291)=0,0,E283/(E$291+'Depn & WACC Post 2004 N & E'!E$291)*G$291)","v":288918.03192306217},{"$f":"IF(F283=0,0,G283/F283)","v":5.9003975081844775}]
[{"$f":"'DNSP Inputs General'!B$72","v":"LED 14W"},{"$f":"'DNSP Inputs General'!D$72","v":1},{"$f":"'DNSP Inputs General'!A$72","v":"LED 14W"},{"$f":"'DNSP Inputs O & M'!$H$332","v":205},2870,{"$f":"'DNSP Inputs General'!U$72","v":14},{"$f":"IF((E$291+'Depn & WACC Post 2004 N & E'!E$291)=0,0,E284/(E$291+'Depn & WACC Post 2004 N & E'!E$291)*G$291)","v":82.605565114582689},{"$f":"IF(F284=0,0,G284/F284)","v":5.9003975081844775}]
[{"$f":"'DNSP Inputs General'!B$73","v":"LED 70W-125W (L1)"},{"$f":"'DNSP Inputs General'!D$73","v":1},{"$f":"'DNSP Inputs General'!A$73","v":"LED 70W-125W (L1)"},{"$f":"'DNSP Inputs O & M'!$H$378","v":402},2139413.2544154222,{"$f":"'DNSP Inputs General'!U$73","v":5321.9235184463241},{"$f":"IF((E$291+'Depn & WACC Post 2004 N & E'!E$291)=0,0,E285/(E$291+'Depn & WACC Post 2004 N & E'!E$291)*G$291)","v":61577.505538193174},11.570535601415413]
[{"$f":"'DNSP Inputs General'!B$74","v":"LED 155W-250W (L2)"},{"$f":"'DNSP Inputs General'!D$74","v":1},{"$f":"'DNSP Inputs General'!A$74","v":"LED 155W-250W (L2)"},{"$f":"'DNSP Inputs O & M'!$H$424","v":427},3419648.3183078812,{"$f":"'DNSP Inputs General'!U$74","v":8008.5440709786444},{"$f":"IF((E$291+'Depn & WACC Post 2004 N & E'!E$291)=0,0,E286/(E$291+'Depn & WACC Post 2004 N & E'!E$291)*G$291)","v":98425.777640053959},12.290096273145229]
[{"$f":"'DNSP Inputs General'!B$75","v":"LED 275W-400W (L4)"},{"$f":"'DNSP Inputs General'!D$75","v":1},{"$f":"'DNSP Inputs General'!A$75","v":"LED 275W-400W (L4)"},{"$f":"'DNSP Inputs O & M'!$H$470","v":650.88},140168.71072886547,{"$f":"'DNSP Inputs General'!U$75","v":215.35261604115271},{"$f":"IF((E$291+'Depn & WACC Post 2004 N & E'!E$291)=0,0,E287/(E$291+'Depn & WACC Post 2004 N & E'!E$291)*G$291)","v":4034.3956659025789},18.73390600062006]
[{"$f":"'DNSP Inputs General'!B$76","v":"T5 2X14W"},{"$f":"'DNSP Inputs General'!D$76","v":0.87960989252886512},{"$f":"'DNSP Inputs General'!A$76","v":"Compact Fluorescent 32W"},{"$f":"D281*B288","v":228.94486282741298},652263.91419529961,{"$f":"'DNSP Inputs General'!U$76","v":2849},{"$f":"IF((E$291+'Depn & WACC Post 2004 N & E'!E$291)=0,0,E288/(E$291+'Depn & WACC Post 2004 N & E'!E$291)*G$291)","v":18773.738409739512},6.5895887714073398]
[{"$f":"'DNSP Inputs General'!B$77","v":"T5 2X14W"},{"$f":"'DNSP Inputs General'!D$77","v":0.87960989252886512},{"$f":"'DNSP Inputs General'!A$77","v":"Compact Fluorescent 42W"},{"$f":"D281*B289","v":228.94486282741298},311593.95830810908,{"$f":"'DNSP Inputs General'!U$77","v":1361},{"$f":"IF((E$291+'Depn & WACC Post 2004 N & E'!E$291)=0,0,E289/(E$291+'Depn & WACC Post 2004 N & E'!E$291)*G$291)","v":8968.4303178853879},6.5895887714073389]
[]
[null,null,null,null,{"$f":"SUM(E281:E290)","v":22590885.123352811},{"$f":"SUM(F281:F290)","v":89308.679119598979},{"$f":"'Total RAB'!X$149","v":998404.62765085348},{"$f":"SUMPRODUCT(F281:F290,H281:H290)","v":650220.49897323258}]
[null,null,null,"Check",{"$f":"SUM(F292:I292)","v":5.8207660913467407E-11},{"$f":"ABS('DNSP Inputs General'!U$78-F291)","v":0},{"$f":"ABS(G291-SUM(G281:G290)-SUM('Depn & WACC Post 2004 N & E'!G281:G290))","v":5.8207660913467407E-11},{"$f":"ABS(H291+'Depn & WACC Post 2004 N & E'!H291-G291)","v":0}]
[]
[]
[null,null,{"$f":"'RAB 2001 to 2004 Central'!A$27","v":"Poles & Brackets"},{"$f":"D$83","v":"Weighted Average Volumes"},null,null,{"$f":"G$83","v":"Unitisation Poles & Brackets"}]
[null,null,"Total Poles & Brackets",{"$f":"'DNSP Inputs General'!$D$42*F252","v":15128.279512499999},{"$f":"SUMPRODUCT('DNSP Inputs General'!$D$42:$D$63,'DNSP Inputs General'!U$42:U$63)+SUMPRODUCT('DNSP Inputs General'!$D$69:$D$77,'DNSP Inputs General'!U$69:U$77)","v":133704.67039483567},{"$f":"IF(E296=0,0,D296/E296*G296)","v":189692.33071276106},{"$f":"'Total RAB'!X$119*('DNSP Inputs General'!U$80/('DNSP Inputs General'!U$80+'DNSP Inputs General'!U$124))","v":1676512.5560657098},{"$f":"F296/F252","v":12.538922919557676}]

{"sheet":"Depn & WACC Post 2004 N & E","index":15,"n_rows":296,"n_cols":9,"rows_kept":296,"cut":false,"hidden":false,"merged":[[2,3,2,4],[6,3,6,4],[6,6,6,7],[38,3,38,4],[38,6,38,7],[34,3,34,4],[67,3,67,4],[82,3,82,5],[135,6,135,7],[91,6,91,7],[120,3,120,4],[120,6,120,7],[67,6,67,7],[82,6,82,7],[91,3,91,4],[135,3,135,5],[87,3,87,4],[226,6,226,7],[197,3,197,4],[188,6,188,7],[193,3,193,4],[188,3,188,5],[294,3,294,5],[246,3,246,4],[144,6,144,7],[140,3,140,4],[173,3,173,4],[173,6,173,7],[197,6,197,7],[226,3,226,4],[241,3,241,5],[241,6,241,7],[144,3,144,4],[294,6,294,7],[250,3,250,4],[250,6,250,7],[279,3,279,4],[279,6,279,7]]}
[{"$f":"'DNSP Inputs O & M'!$A$3","v":"AusNet"},null,null,null,"Check",{"$f":"SUM(E33,E65,E80,E118,E133,E171,E186,E224,E239,E277,E292)","v":6.8685039877891541E-9}]
[]
[null,null,null,{"$f":"'DNSP Inputs General'!B$83","v":"North & East"}]
["RAB WDV",null,null,"Year",{"$f":"'DNSP Inputs General'!$P$2","v":"HY2021"}]
[]
[]
[{"$f":"'DNSP Inputs General'!B$85","v":"Reference Light"},{"$f":"'DNSP Inputs General'!D$85","v":"Price Factor"},{"$f":"'DNSP Inputs General'!A$85","v":"Existing Lights"},"RAB for Return",null,"Volumes","Unitisation - Luminaires",null,"RAB WDV"]
[{"$f":"'DNSP Inputs General'!B$86","v":"Mercury Vapour 80W"},{"$f":"'DNSP Inputs General'!D$86","v":1},{"$f":"'DNSP Inputs General'!A$86","v":"Mercury Vapour 80W"},{"$f":"'RAB 2001 to 2004 N & E'!$V$143","v":4.6964084344764121},{"$f":"F8*D8","v":36796.810539198392},{"$f":"'DNSP Inputs General'!P$86","v":7835.0959147999984},null,null,{"$f":"IF(F8=0,0,E8/(E$32+'Depn & WACC Post 2004 Central'!E$32)*I$32/F8)","v":121.83342898020975}]
[{"$f":"'DNSP Inputs General'!B$87","v":"HP Sodium 150W"},{"$f":"'DNSP Inputs General'!D$87","v":1},{"$f":"'DNSP Inputs General'!A$87","v":"HP Sodium 150W"},{"$f":"'RAB 2001 to 2004 N & E'!$V$157","v":5.531124819744929},51424.359610399282,{"$f":"'DNSP Inputs General'!P$87","v":9297.2697753674529},null,null,{"$f":"IF(F9=0,0,E9/(E$32+'Depn & WACC Post 2004 Central'!E$32)*I$32/F9)","v":143.48749950284034}]
[{"$f":"'DNSP Inputs General'!B$88","v":"HP Sodium 250W"},{"$f":"'DNSP Inputs General'!D$88","v":1},{"$f":"'DNSP Inputs General'!A$88","v":"HP Sodium 250W"},{"$f":"'RAB 2001 to 2004 N & E'!$V$171","v":5.5718693850562708},46005.227319898608,{"$f":"'DNSP Inputs General'!P$88","v":8256.695220330259},null,null,{"$f":"IF(F10=0,0,E10/(E$32+'Depn & WACC Post 2004 Central'!E$32)*I$32/F10)","v":144.54448808751019}]
[{"$f":"'DNSP Inputs General'!B$89","v":"Mercury Vapour 80W"},{"$f":"'DNSP Inputs General'!D$89","v":1.48},{"$f":"'DNSP Inputs General'!A$89","v":"Mercury Vapour 50W"},{"$f":"B11*IF(A11=C8,D8,IF(A11=C9,D9,D10))","v":6.95068448302509},569.24031476371999,{"$f":"'DNSP Inputs General'!P$89","v":81.897015488749986},null,null,{"$f":"IF(F11=0,0,E11/(E$32+'Depn & WACC Post 2004 Central'!E$32)*I$32/F11)","v":180.31347489071047}]
[{"$f":"'DNSP Inputs General'!B$90","v":"Mercury Vapour 80W"},{"$f":"'DNSP Inputs General'!D$90","v":1.48},{"$f":"'DNSP Inputs General'!A$90","v":"Mercury Vapour 125W"},{"$f":"B12*IF(A12=C8,D8,IF(A12=C9,D9,D10))","v":6.95068448302509},187.79061930349528,{"$f":"'DNSP Inputs General'!P$90","v":27.017572119999997},null,null,{"$f":"IF(F12=0,0,E12/(E$32+'Depn & WACC Post 2004 Central'!E$32)*I$32/F12)","v":180.31347489071044}]
[{"$f":"'DNSP Inputs General'!B$91","v":"HP Sodium 250W"},{"$f":"'DNSP Inputs General'!D$91","v":1.04},{"$f":"'DNSP Inputs General'!A$91","v":"Mercury Vapour 250W"},{"$f":"B13*IF(A13=C8,D8,IF(A13=C9,D9,D10))","v":5.7947441604585217},2142.9138813498748,{"$f":"'DNSP Inputs General'!P$91","v":369.80301839250001},null,null,{"$f":"IF(F13=0,0,E13/(E$32+'Depn & WACC Post 2004 Central'!E$32)*I$32/F13)","v":150.32626761101062}]
[{"$f":"'DNSP Inputs General'!B$92","v":"HP Sodium 250W"},{"$f":"'DNSP Inputs General'!D$92","v":1.07},{"$f":"'DNSP Inputs General'!A$92","v":"Mercury Vapour 400W"},{"$f":"B14*IF(A14=C8,D8,IF(A14=C9,D9,D10))","v":5.9619002420102101},744.97682264349783,{"$f":"'DNSP Inputs General'!P$92","v":124.95627105499999},null,null,{"$f":"IF(F14=0,0,E14/(E$32+'Depn & WACC Post 2004 Central'!E$32)*I$32/F14)","v":154.66260225363592}]
[{"$f":"'DNSP Inputs General'!B$93","v":"HP Sodium 150W"},{"$f":"'DNSP Inputs General'!D$93","v":1.07},{"$f":"'DNSP Inputs General'!A$93","v":"HP Sodium 100W"},{"$f":"B15*IF(A15=C8,D8,IF(A15=C9,D9,D10))","v":5.9183035571270741},4575.7826278824768,{"$f":"'DNSP Inputs General'!P$93","v":773.15781181452303},null,null,{"$f":"IF(F15=0,0,E15/(E$32+'Depn & WACC Post 2004 Central'!E$32)*I$32/F15)","v":153.53162446803915}]
[{"$f":"'DNSP Inputs General'!B$94","v":"HP Sodium 250W"},{"$f":"'DNSP Inputs General'!D$94","v":1.42},{"$f":"'DNSP Inputs General'!A$94","v":"HP Sodium 400W"},{"$f":"B16*IF(A16=C$8,D$8,IF(A16=C$9,D$9,D$10))","v":7.9120545267799045},4065.0731586686002,{"$f":"'DNSP Inputs General'!P$94","v":513.78224769679741},null,null,{"$f":"IF(F16=0,0,E16/(E$32+'Depn & WACC Post 2004 Central'!E$32)*I$32/F16)","v":205.25317308426449}]
[{"$f":"'DNSP Inputs General'!B$95","v":"Mercury Vapour 80W"},{"$f":"'DNSP Inputs General'!D$95","v":3.8044420368364027},{"$f":"'DNSP Inputs General'!A$95","v":"Metal Halide 70W"},{"$f":"B17*IF(A17=C8,D8,IF(A17=C9,D9,D10))","v":17.867213670275103},0,{"$f":"'DNSP Inputs General'!P$95","v":0},null,null,{"$f":"IF(F17=0,0,E17/(E$32+'Depn & WACC Post 2004 Central'!E$32)*I$32/F17)","v":0}]
[{"$f":"'DNSP Inputs General'!B$96","v":"HP Sodium 150W"},{"$f":"'DNSP Inputs General'!D$96","v":2.1180491097797653},{"$f":"'DNSP Inputs General'!A$96","v":"Metal Halide 100W"},{"$f":"B18*IF(A18=C8,D8,IF(A18=C9,D9,D10))","v":11.715194000541512},0,{"$f":"'DNSP Inputs General'!P$96","v":0},null,null,{"$f":"IF(F18=0,0,E18/(E$32+'Depn & WACC Post 2004 Central'!E$32)*I$32/F18)","v":0}]
[{"$f":"'DNSP Inputs General'!B$97","v":"HP Sodium 150W"},{"$f":"'DNSP Inputs General'!D$97","v":2.4062948274407225},{"$f":"'DNSP Inputs General'!A$97","v":"Metal Halide 150W"},{"$f":"B19*IF(A19=C8,D8,IF(A19=C9,D9,D10))","v":13.309517043681222},0,{"$f":"'DNSP Inputs General'!P$97","v":0},null,null,{"$f":"IF(F19=0,0,E19/(E$32+'Depn & WACC Post 2004 Central'!E$32)*I$32/F19)","v":0}]
[{"$f":"'DNSP Inputs General'!B$98","v":"HP Sodium 150W"},{"$f":"'DNSP Inputs General'!D$98","v":0.45472955868703063},{"$f":"'DNSP Inputs General'!A$98","v":"HP Sodium 50W"},{"$f":"B20*IF(A20=C8,D8,IF(A20=C9,D9,D10))","v":2.5151659483254933},0,{"$f":"'DNSP Inputs General'!P$98","v":0},null,null,{"$f":"IF(F20=0,0,E20/(E$32+'Depn & WACC Post 2004 Central'!E$32)*I$32/F20)","v":0}]
[]
[]
[]
[]
[]
[]
[]
[]
[]
[]
[]
[null,null,null,null,{"$f":"SUM(E8:E31)","v":146512.17489410794},{"$f":"SUM(F8:F31)","v":27279.674847065282},null,null,{"$f":"'Total RAB'!S$128","v":10158795.214403903}]
[null,null,null,"Check",{"$f":"SUM(F33:I33)","v":0},{"$f":"ABS('DNSP Inputs General'!P$110-F32)","v":0},null,null,{"$f":"ABS(I32-SUMPRODUCT(F8:F31,I8:I31)-SUMPRODUCT('Depn & WACC Post 2004 Central'!F8:F31,'Depn & WACC Post 2004 Central'!I8:I31))*IF(F32=0,0,1)","v":0}]
[]
[null,null,null,{"$f":"'DNSP Inputs General'!B$83","v":"North & East"}]
["DEPRECIATION AND RETURN",null,null,"Year",{"$f":"'DNSP Inputs General'!$Q$2","v":"2022-06-30"}]
[]
[]
[{"$f":"'DNSP Inputs General'!B$85","v":"Reference Light"},{"$f":"'DNSP Inputs General'!D$85","v":"Price Factor"},{"$f":"'DNSP Inputs General'!A$85","v":"Existing Lights"},"WACC and Dep",null,"Volumes","Unitisation - Luminaires",null,"RAB WDV"]
[{"$f":"'DNSP Inputs General'!B$86","v":"Mercury Vapour 80W"},{"$f":"'DNSP Inputs General'!D$86","v":1},{"$f":"'DNSP Inputs General'!A$86","v":"Mercury Vapour 80W"},{"$f":"'RAB 2001 to 2004 N & E'!C$15","v":2.4613455948608118},{"$f":"F40*D40","v":19284.87881520492},{"$f":"IF('DNSP Inputs General'!Q$86=0,1/10^6,'DNSP Inputs General'!Q$86)","v":7835.0959147999984},{"$f":"IF((E$64+'Depn & WACC Post 2004 Central'!E$64)=0,0,E40/(E$64+'Depn & WACC Post 2004 Central'!E$64)*G$64)","v":143566.16393646062},{"$f":"IF(F40=0,0,G40/F40)","v":18.323472424284336},{"$f":"IF(F40=0,0,E40/(E$64+'Depn & WACC Post 2004 Central'!E$64)*I$64/F40)","v":135.83270982230786}]
[{"$f":"'DNSP Inputs General'!B$87","v":"HP Sodium 150W"},{"$f":"'DNSP Inputs General'!D$87","v":1},{"$f":"'DNSP Inputs General'!A$87","v":"HP Sodium 150W"},{"$f":"'RAB 2001 to 2004 N & E'!C$20","v":2.8988129758399657},25938.604714393292,{"$f":"IF('DNSP Inputs General'!Q$87=0,1/10^6,'DNSP Inputs General'!Q$87)","v":8948.0090404512121},{"$f":"IF((E$64+'Depn & WACC Post 2004 Central'!E$64)=0,0,E41/(E$64+'Depn & WACC Post 2004 Central'!E$64)*G$64)","v":193099.78623114663},21.580195701434985,{"$f":"IF(F41=0,0,E41/(E$64+'Depn & WACC Post 2004 Central'!E$64)*I$64/F41)","v":159.97494321746288}]
[{"$f":"'DNSP Inputs General'!B$88","v":"HP Sodium 250W"},{"$f":"'DNSP Inputs General'!D$88","v":1},{"$f":"'DNSP Inputs General'!A$88","v":"HP Sodium 250W"},{"$f":"'RAB 2001 to 2004 N & E'!C$25","v":2.9201668375712799},23295.378439292184,{"$f":"IF('DNSP Inputs General'!Q$88=0,1/10^6,'DNSP Inputs General'!Q$88)","v":7977.4135297923895},{"$f":"IF((E$64+'Depn & WACC Post 2004 Central'!E$64)=0,0,E42/(E$64+'Depn & WACC Post 2004 Central'!E$64)*G$64)","v":173422.30418064335},21.739164396202064,{"$f":"IF(F42=0,0,E42/(E$64+'Depn & WACC Post 2004 Central'!E$64)*I$64/F42)","v":161.15338516815504}]
[{"$f":"'DNSP Inputs General'!B$89","v":"Mercury Vapour 80W"},{"$f":"'DNSP Inputs General'!D$89","v":1.48},{"$f":"'DNSP Inputs General'!A$89","v":"Mercury Vapour 50W"},{"$f":"B43*IF(A43=C40,D40,IF(A43=C41,D41,D42))","v":3.6427914803940014},298.33375029211402,{"$f":"'DNSP Inputs General'!Q$89","v":81.897015488749986},{"$f":"IF((E$64+'Depn & WACC Post 2004 Central'!E$64)=0,0,E43/(E$64+'Depn & WACC Post 2004 Central'!E$64)*G$64)","v":2220.9438033101605},27.118739187940822,{"$f":"IF(F43=0,0,E43/(E$64+'Depn & WACC Post 2004 Central'!E$64)*I$64/F43)","v":201.03241053701561}]
[{"$f":"'DNSP Inputs General'!B$90","v":"Mercury Vapour 80W"},{"$f":"'DNSP Inputs General'!D$90","v":1.48},{"$f":"'DNSP Inputs General'!A$90","v":"Mercury Vapour 125W"},{"$f":"B44*IF(A44=C40,D40,IF(A44=C41,D41,D42))","v":3.6427914803940014},98.419381539666489,{"$f":"'DNSP Inputs General'!Q$90","v":27.017572119999997},{"$f":"IF((E$64+'Depn & WACC Post 2004 Central'!E$64)=0,0,E44/(E$64+'Depn & WACC Post 2004 Central'!E$64)*G$64)","v":732.68249181366116},{"$f":"IF(F44=0,0,G44/F44)","v":27.118739187940815},{"$f":"IF(F44=0,0,E44/(E$64+'Depn & WACC Post 2004 Central'!E$64)*I$64/F44)","v":201.03241053701561}]
[{"$f":"'DNSP Inputs General'!B$91","v":"HP Sodium 250W"},{"$f":"'DNSP Inputs General'!D$91","v":1.04},{"$f":"'DNSP Inputs General'!A$91","v":"Mercury Vapour 250W"},{"$f":"B45*IF(A45=C40,D40,IF(A45=C41,D41,D42))","v":3.0369735110741312},1123.0819711732822,{"$f":"'DNSP Inputs General'!Q$91","v":369.80301839250001},{"$f":"IF((E$64+'Depn & WACC Post 2004 Central'!E$64)=0,0,E45/(E$64+'Depn & WACC Post 2004 Central'!E$64)*G$64)","v":8360.7769554881434},22.608730972050143,{"$f":"IF(F45=0,0,E45/(E$64+'Depn & WACC Post 2004 Central'!E$64)*I$64/F45)","v":167.59952057488121}]
[{"$f":"'DNSP Inputs General'!B$92","v":"HP Sodium 250W"},{"$f":"'DNSP Inputs General'!D$92","v":1.07},{"$f":"'DNSP Inputs General'!A$92","v":"Mercury Vapour 400W"},{"$f":"B46*IF(A46=C40,D40,IF(A46=C41,D41,D42))","v":3.1245785162012698},390.43568000307556,{"$f":"'DNSP Inputs General'!Q$92","v":124.95627105499999},{"$f":"IF((E$64+'Depn & WACC Post 2004 Central'!E$64)=0,0,E46/(E$64+'Depn & WACC Post 2004 Central'!E$64)*G$64)","v":2906.5960631171024},23.260905903936209,{"$f":"IF(F46=0,0,E46/(E$64+'Depn & WACC Post 2004 Central'!E$64)*I$64/F46)","v":172.43412212992592}]
[{"$f":"'DNSP Inputs General'!B$93","v":"HP Sodium 150W"},{"$f":"'DNSP Inputs General'!D$93","v":1.07},{"$f":"'DNSP Inputs General'!A$93","v":"HP Sodium 100W"},{"$f":"B47*IF(A47=C40,D40,IF(A47=C41,D41,D42))","v":3.1017298841487633},2368.08837046904,{"$f":"'DNSP Inputs General'!Q$93","v":763.47343544356909},{"$f":"IF((E$64+'Depn & WACC Post 2004 Central'!E$64)=0,0,E47/(E$64+'Depn & WACC Post 2004 Central'!E$64)*G$64)","v":17629.219580199449},23.090809400535434,{"$f":"IF(F47=0,0,E47/(E$64+'Depn & WACC Post 2004 Central'!E$64)*I$64/F47)","v":171.17318924268531}]
[{"$f":"'DNSP Inputs General'!B$94","v":"HP Sodium 250W"},{"$f":"'DNSP Inputs General'!D$94","v":1.42},{"$f":"'DNSP Inputs General'!A$94","v":"HP Sodium 400W"},{"$f":"B48*IF(A48=C40,D40,IF(A48=C41,D41,D42))","v":4.1466369093512174},2103.7827307377506,{"$f":"'DNSP Inputs General'!Q$94","v":507.34674309039235},{"$f":"IF((E$64+'Depn & WACC Post 2004 Central'!E$64)=0,0,E48/(E$64+'Depn & WACC Post 2004 Central'!E$64)*G$64)","v":15661.597840566021},30.86961344260693,{"$f":"IF(F48=0,0,E48/(E$64+'Depn & WACC Post 2004 Central'!E$64)*I$64/F48)","v":228.83780693878015}]
[{"$f":"'DNSP Inputs General'!B$95","v":"Mercury Vapour 80W"},{"$f":"'DNSP Inputs General'!D$95","v":3.8044420368364027},{"$f":"'DNSP Inputs General'!A$95","v":"Metal Halide 70W"},{"$f":"B49*IF(A49=C40,D40,IF(A49=C41,D41,D42))","v":9.3640466482705751},0,{"$f":"'DNSP Inputs General'!Q$95","v":0},{"$f":"IF((E$64+'Depn & WACC Post 2004 Central'!E$64)=0,0,E49/(E$64+'Depn & WACC Post 2004 Central'!E$64)*G$64)","v":0},0,{"$f":"IF(F49=0,0,E49/(E$64+'Depn & WACC Post 2004 Central'!E$64)*I$64/F49)","v":0}]
[{"$f":"'DNSP Inputs General'!B$96","v":"HP Sodium 150W"},{"$f":"'DNSP Inputs General'!D$96","v":2.1180491097797653},{"$f":"'DNSP Inputs General'!A$96","v":"Metal Halide 100W"},{"$f":"B50*IF(A50=C40,D40,IF(A50=C41,D41,D42))","v":6.1398282428958719},0,{"$f":"'DNSP Inputs General'!Q$96","v":0},{"$f":"IF((E$64+'Depn & WACC Post 2004 Central'!E$64)=0,0,E50/(E$64+'Depn & WACC Post 2004 Central'!E$64)*G$64)","v":0},0,{"$f":"IF(F50=0,0,E50/(E$64+'Depn & WACC Post 2004 Central'!E$64)*I$64/F50)","v":0}]
[{"$f":"'DNSP Inputs General'!B$97","v":"HP Sodium 150W"},{"$f":"'DNSP Inputs General'!D$97","v":2.4062948274407225},{"$f":"'DNSP Inputs General'!A$97","v":"Metal Halide 150W"},{"$f":"B51*IF(A51=C40,D40,IF(A51=C41,D41,D42))","v":6.9753986694817574},0,{"$f":"'DNSP Inputs General'!Q$97","v":0},{"$f":"IF((E$64+'Depn & WACC Post 2004 Central'!E$64)=0,0,E51/(E$64+'Depn & WACC Post 2004 Central'!E$64)*G$64)","v":0},0,{"$f":"IF(F51=0,0,E51/(E$64+'Depn & WACC Post 2004 Central'!E$64)*I$64/F51)","v":0}]
[{"$f":"'DNSP Inputs General'!B$98","v":"HP Sodium 150W"},{"$f":"'DNSP Inputs General'!D$98","v":0.45472955868703063},{"$f":"'DNSP Inputs General'!A$98","v":"HP Sodium 50W"},{"$f":"B52*IF(A52=C40,D40,IF(A52=C41,D41,D42))","v":1.3181759452199455},0,{"$f":"'DNSP Inputs General'!Q$98","v":0},{"$f":"IF((E$64+'Depn & WACC Post 2004 Central'!E$64)=0,0,E52/(E$64+'Depn & WACC Post 2004 Central'!E$64)*G$64)","v":0},0,{"$f":"IF(F52=0,0,E52/(E$64+'Depn & WACC Post 2004 Central'!E$64)*I$64/F52)","v":0}]
[]
[]
[]
[]
[]
[]
[]
[]
[]
[]
[]
[null,null,null,null,{"$f":"SUM(E40:E63)","v":74901.003853105329},{"$f":"SUM(F40:F63)","v":26635.012540633812},{"$f":"'Total RAB'!T$134","v":1492248.7416285062},{"$f":"SUMPRODUCT(F40:F63,H40:H63)","v":557600.07108274521},{"$f":"'Total RAB'!T$128","v":11062105.784910781}]
[null,null,null,"Check",{"$f":"SUM(F65:I65)","v":0},{"$f":"ABS('DNSP Inputs General'!Q$110-F64)","v":0},{"$f":"ABS(G64-SUM(G40:G63)-SUM('Depn & WACC Post 2004 Central'!G40:G63))*IF(F64=0,0,1)","v":0},{"$f":"ABS(H64+'Depn & WACC Post 2004 Central'!H64-G64)*IF(F64=0,0,1)","v":0},{"$f":"ABS(I64-SUMPRODUCT(F40:F63,I40:I63)-SUMPRODUCT('Depn & WACC Post 2004 Central'!F40:F63,'Depn & WACC Post 2004 Central'!I40:I63))*IF(F64=0,0,1)","v":0}]
[]
[]
[{"$f":"'DNSP Inputs General'!A$112","v":"Energy Efficient Lights"},{"$f":"'DNSP Inputs General'!D$112","v":"Price Factor"},{"$f":"'DNSP Inputs General'!A$112","v":"Energy Efficient Lights"},"Unit cost",null,"Volumes","Unitisation - Luminaires & Ballasts"]
[{"$f":"'DNSP Inputs General'!B$113","v":"T5 2X14W"},{"$f":"'DNSP Inputs General'!D$113","v":1},{"$f":"'DNSP Inputs General'!A$113","v":"T5 2X14W"},{"$f":"'DNSP Inputs O & M'!$D$189","v":260.27999999999997},{"$f":"F69*D69","v":2061677.88},{"$f":"'DNSP Inputs General'!Q$113","v":7921},{"$f":"IF((E$79+'Depn & WACC Post 2004 Central'!E$79)=0,0,E69/(E$79+'Depn & WACC Post 2004 Central'!E$79)*G$79)","v":45127.530356170028},{"$f":"IF(F69=0,0,G69/F69)","v":5.6972011559361224}]
[{"$f":"'DNSP Inputs General'!B$114","v":"T5 2X24W"},{"$f":"'DNSP Inputs General'!D$114","v":1},{"$f":"'DNSP Inputs General'!A$114","v":"T5 2X24W"},{"$f":"'DNSP Inputs O & M'!$D$238","v":267.33},{"$f":"F70*D70","v":307429.5},{"$f":"'DNSP Inputs General'!Q$114","v":1150},{"$f":"IF((E$79+'Depn & WACC Post 2004 Central'!E$79)=0,0,E70/(E$79+'Depn & WACC Post 2004 Central'!E$79)*G$79)","v":6729.2442860337496},{"$f":"IF(F70=0,0,G70/F70)","v":5.85151677046413}]
[{"$f":"'DNSP Inputs General'!B$115","v":"LED 18W"},{"$f":"'DNSP Inputs General'!D$115","v":1},{"$f":"'DNSP Inputs General'!A$115","v":"LED 18W"},{"$f":"'DNSP Inputs O & M'!$D$286","v":205},{"$f":"F71*D71","v":5148712.1927434793},{"$f":"'DNSP Inputs General'!Q$115","v":25115.669232895023},{"$f":"IF((E$79+'Depn & WACC Post 2004 Central'!E$79)=0,0,E71/(E$79+'Depn & WACC Post 2004 Central'!E$79)*G$79)","v":112698.82071646136},{"$f":"IF(F71=0,0,G71/F71)","v":4.4871916281193531}]
[{"$f":"'DNSP Inputs General'!B$116","v":"LED 14W"},{"$f":"'DNSP Inputs General'!D$116","v":1},{"$f":"'DNSP Inputs General'!A$116","v":"LED 14W"},{"$f":"'DNSP Inputs O & M'!$D$332","v":205},2255,{"$f":"'DNSP Inputs General'!Q$116","v":11},{"$f":"IF((E$79+'Depn & WACC Post 2004 Central'!E$79)=0,0,E72/(E$79+'Depn & WACC Post 2004 Central'!E$79)*G$79)","v":49.359107909312883},4.4871916281193531]
[{"$f":"'DNSP Inputs General'!B$117","v":"LED 70W-125W (L1)"},{"$f":"'DNSP Inputs General'!D$117","v":1},{"$f":"'DNSP Inputs General'!A$117","v":"LED 70W-125W (L1)"},{"$f":"'DNSP Inputs O & M'!$D$378","v":402},305035.87283473567,{"$f":"'DNSP Inputs General'!Q$117","v":758.79570356899421},{"$f":"IF((E$79+'Depn & WACC Post 2004 Central'!E$79)=0,0,E73/(E$79+'Depn & WACC Post 2004 Central'!E$79)*G$79)","v":6676.8508041956366},8.799273339043804]
[{"$f":"'DNSP Inputs General'!B$118","v":"LED 155W-250W (L2)"},{"$f":"'DNSP Inputs General'!D$118","v":1},{"$f":"'DNSP Inputs General'!A$118","v":"LED 155W-250W (L2)"},{"$f":"'DNSP Inputs O & M'!$D$424","v":427},828291.72413823416,{"$f":"'DNSP Inputs General'!Q$118","v":1939.7932649607358},{"$f":"IF((E$79+'Depn & WACC Post 2004 Central'!E$79)=0,0,E74/(E$79+'Depn & WACC Post 2004 Central'!E$79)*G$79)","v":18130.261903383558},9.3464918302778734]
[{"$f":"'DNSP Inputs General'!B$119","v":"LED 275W-400W (L4)"},{"$f":"'DNSP Inputs General'!D$119","v":1},{"$f":"'DNSP Inputs General'!A$119","v":"LED 275W-400W (L4)"},{"$f":"'DNSP Inputs O & M'!$D$470","v":650.88},67227.90994925797,{"$f":"'DNSP Inputs General'!Q$119","v":103.28771808821591},{"$f":"IF((E$79+'Depn & WACC Post 2004 Central'!E$79)=0,0,E75/(E$79+'Depn & WACC Post 2004 Central'!E$79)*G$79)","v":1471.5342180501079},14.246942862977193]
[{"$f":"'DNSP Inputs General'!B$120","v":"T5 2X14W"},{"$f":"'DNSP Inputs General'!D$120","v":0.87960989252886512},{"$f":"'DNSP Inputs General'!A$120","v":"Compact Fluorescent 32W"},{"$f":"D69*B76","v":228.94486282741298},153622.00295719411,{"$f":"'DNSP Inputs General'!Q$120","v":671},{"$f":"IF((E$79+'Depn & WACC Post 2004 Central'!E$79)=0,0,E76/(E$79+'Depn & WACC Post 2004 Central'!E$79)*G$79)","v":3362.5920271436485},5.011314496488299]
[{"$f":"'DNSP Inputs General'!B$121","v":"T5 2X14W"},{"$f":"'DNSP Inputs General'!D$121","v":0.87960989252886512},{"$f":"'DNSP Inputs General'!A$121","v":"Compact Fluorescent 42W"},{"$f":"D69*B77","v":228.94486282741298},754373.32301632571,{"$f":"'DNSP Inputs General'!Q$121","v":3295},{"$f":"IF((E$79+'Depn & WACC Post 2004 Central'!E$79)=0,0,E77/(E$79+'Depn & WACC Post 2004 Central'!E$79)*G$79)","v":16512.281265928941},5.0113144964882981]
[]
[null,null,null,null,{"$f":"SUM(E69:E78)","v":9628625.4056392256},{"$f":"SUM(F69:F78)","v":40965.545919512973},{"$f":"'Total RAB'!T$149","v":590345.99439725792},{"$f":"SUMPRODUCT(F69:F78,H69:H78)","v":210758.47468527633}]
[null,null,null,"Check",{"$f":"SUM(F80:I80)","v":5.8207660913467407E-11},{"$f":"ABS('DNSP Inputs General'!Q$122-F79)","v":0},{"$f":"ABS(G79-SUM(G69:G78)-SUM('Depn & WACC Post 2004 Central'!G69:G78))","v":5.8207660913467407E-11},{"$f":"ABS(H79+'Depn & WACC Post 2004 Central'!H79-G79)","v":0}]
[]
[]
[null,null,{"$f":"'RAB 2001 to 2004 Central'!A$27","v":"Poles & Brackets"},"Weighted Average Volumes",null,null,"Unitisation Poles & Brackets"]
[null,null,"Total Poles & Brackets",{"$f":"'DNSP Inputs General'!$D$86*F40","v":7835.0959147999984},{"$f":"SUMPRODUCT('DNSP Inputs General'!$D$86:$D$107,'DNSP Inputs General'!Q$86:Q$107)+SUMPRODUCT('DNSP Inputs General'!$D$113:$D$121,'DNSP Inputs General'!Q$113:Q$121)","v":67465.438128257025},{"$f":"IF(E84=0,0,D84/E84*G84)","v":84602.372381923356},{"$f":"'Total RAB'!T$119-'Depn & WACC Post 2004 Central'!G$84","v":728483.24787637382},{"$f":"F84/F40","v":10.797873223493646}]
[]
[]
[]
[null,null,null,{"$f":"'DNSP Inputs General'!B$83","v":"North & East"}]
["DEPRECIATION AND RETURN",null,null,"Year",{"$f":"'DNSP Inputs General'!$R$2","v":"2023-06-30"}]
[]
[]
[{"$f":"'DNSP Inputs General'!B$85","v":"Reference Light"},{"$f":"'DNSP Inputs General'!D$85","v":"Price Factor"},{"$f":"'DNSP Inputs General'!A$85","v":"Existing Lights"},{"$f":"D$39","v":"WACC and Dep"},null,{"$f":"F$39","v":"Volumes"},{"$f":"G$39","v":"Unitisation - Luminaires"},null,{"$f":"I$39","v":"RAB WDV"}]
[{"$f":"'DNSP Inputs General'!B$86","v":"Mercury Vapour 80W"},{"$f":"'DNSP Inputs General'!D$86","v":1},{"$f":"'DNSP Inputs General'!A$86","v":"Mercury Vapour 80W"},{"$f":"'RAB 2001 to 2004 N & E'!D$15","v":1.2306727974304059},{"$f":"F93*D93","v":9642.4394076024601},{"$f":"IF('DNSP Inputs General'!R$86=0,1/10^6,'DNSP Inputs General'!R$86)","v":7835.0959147999984},{"$f":"IF((E$117+'Depn & WACC Post 2004 Central'!E$117)=0,0,E93/(E$117+'Depn & WACC Post 2004 Central'!E$117)*G$117)","v":146643.01956730935},{"$f":"IF(F93=0,0,G93/F93)","v":18.716174142847443},{"$f":"IF(F93=0,0,E93/(E$117+'Depn & WACC Post 2004 Central'!E$117)*I$117/F93)","v":151.59565997686977}]
[{"$f":"'DNSP Inputs General'!B$87","v":"HP Sodium 150W"},{"$f":"'DNSP Inputs General'!D$87","v":1},{"$f":"'DNSP Inputs General'!A$87","v":"HP Sodium 150W"},{"$f":"'RAB 2001 to 2004 N & E'!D$20","v":1.4494064879199828},12475.141872555943,{"$f":"IF('DNSP Inputs General'!R$87=0,1/10^6,'DNSP Inputs General'!R$87)","v":8607.0691531530229},{"$f":"IF((E$117+'Depn & WACC Post 2004 Central'!E$117)=0,0,E94/(E$117+'Depn & WACC Post 2004 Central'!E$117)*G$117)","v":189722.99398426292},22.042694279360102,{"$f":"IF(F94=0,0,E94/(E$117+'Depn & WACC Post 2004 Central'!E$117)*I$117/F94)","v":178.53952209698696}]
[{"$f":"'DNSP Inputs General'!B$88","v":"HP Sodium 250W"},{"$f":"'DNSP Inputs General'!D$88","v":1},{"$f":"'DNSP Inputs General'!A$88","v":"HP Sodium 250W"},{"$f":"'RAB 2001 to 2004 N & E'!D$25","v":1.46008341878564},11254.902990242423,{"$f":"IF('DNSP Inputs General'!R$88=0,1/10^6,'DNSP Inputs General'!R$88)","v":7708.3972363737903},{"$f":"IF((E$117+'Depn & WACC Post 2004 Central'!E$117)=0,0,E95/(E$117+'Depn & WACC Post 2004 Central'!E$117)*G$117)","v":171165.49968932234},22.205069930963052,{"$f":"IF(F95=0,0,E95/(E$117+'Depn & WACC Post 2004 Central'!E$117)*I$117/F95)","v":179.85471845501669}]
[{"$f":"'DNSP Inputs General'!B$89","v":"Mercury Vapour 80W"},{"$f":"'DNSP Inputs General'!D$89","v":1.48},{"$f":"'DNSP Inputs General'!A$89","v":"Mercury Vapour 50W"},{"$f":"B96*IF(A96=C93,D93,IF(A96=C94,D94,D95))","v":1.8213957401970007},149.16687514605701,{"$f":"'DNSP Inputs General'!R$89","v":81.897015488749986},{"$f":"IF((E$117+'Depn & WACC Post 2004 Central'!E$117)=0,0,E96/(E$117+'Depn & WACC Post 2004 Central'!E$117)*G$117)","v":2268.5422294270397},27.699937731414209,{"$f":"IF(F96=0,0,E96/(E$117+'Depn & WACC Post 2004 Central'!E$117)*I$117/F96)","v":224.36157676576724}]
[{"$f":"'DNSP Inputs General'!B$90","v":"Mercury Vapour 80W"},{"$f":"'DNSP Inputs General'!D$90","v":1.48},{"$f":"'DNSP Inputs General'!A$90","v":"Mercury Vapour 125W"},{"$f":"B97*IF(A97=C93,D93,IF(A97=C94,D94,D95))","v":1.8213957401970007},49.209690769833244,{"$f":"'DNSP Inputs General'!R$90","v":27.017572119999997},{"$f":"IF((E$117+'Depn & WACC Post 2004 Central'!E$117)=0,0,E97/(E$117+'Depn & WACC Post 2004 Central'!E$117)*G$117)","v":748.38506537799265},{"$f":"IF(F97=0,0,G97/F97)","v":27.699937731414213},{"$f":"IF(F97=0,0,E97/(E$117+'Depn & WACC Post 2004 Central'!E$117)*I$117/F97)","v":224.36157676576724}]
[{"$f":"'DNSP Inputs General'!B$91","v":"HP Sodium 250W"},{"$f":"'DNSP Inputs General'!D$91","v":1.04},{"$f":"'DNSP Inputs General'!A$91","v":"Mercury Vapour 250W"},{"$f":"B98*IF(A98=C93,D93,IF(A98=C94,D94,D95))","v":1.5184867555370656},561.54098558664111,{"$f":"'DNSP Inputs General'!R$91","v":369.80301839250001},{"$f":"IF((E$117+'Depn & WACC Post 2004 Central'!E$117)=0,0,E98/(E$117+'Depn & WACC Post 2004 Central'!E$117)*G$117)","v":8539.9619594501455},23.093272728201573,{"$f":"IF(F98=0,0,E98/(E$117+'Depn & WACC Post 2004 Central'!E$117)*I$117/F98)","v":187.04890719321733}]
[{"$f":"'DNSP Inputs General'!B$92","v":"HP Sodium 250W"},{"$f":"'DNSP Inputs General'!D$92","v":1.07},{"$f":"'DNSP Inputs General'!A$92","v":"Mercury Vapour 400W"},{"$f":"B99*IF(A99=C93,D93,IF(A99=C94,D94,D95))","v":1.5622892581006349},195.21784000153778,{"$f":"'DNSP Inputs General'!R$92","v":124.95627105499999},{"$f":"IF((E$117+'Depn & WACC Post 2004 Central'!E$117)=0,0,E99/(E$117+'Depn & WACC Post 2004 Central'!E$117)*G$117)","v":2968.8891286848543},23.759424826130466,{"$f":"IF(F99=0,0,E99/(E$117+'Depn & WACC Post 2004 Central'!E$117)*I$117/F99)","v":192.44454874686787}]
[{"$f":"'DNSP Inputs General'!B$93","v":"HP Sodium 150W"},{"$f":"'DNSP Inputs General'!D$93","v":1.07},{"$f":"'DNSP Inputs General'!A$93","v":"HP Sodium 100W"},{"$f":"B100*IF(A100=C93,D93,IF(A100=C94,D94,D95))","v":1.5508649420743816},1169.0250254349539,{"$f":"'DNSP Inputs General'!R$93","v":753.78905907261515},{"$f":"IF((E$117+'Depn & WACC Post 2004 Central'!E$117)=0,0,E100/(E$117+'Depn & WACC Post 2004 Central'!E$117)*G$117)","v":17778.62970488266},23.585682878915311,{"$f":"IF(F100=0,0,E100/(E$117+'Depn & WACC Post 2004 Central'!E$117)*I$117/F100)","v":191.03728864377604}]
[{"$f":"'DNSP Inputs General'!B$94","v":"HP Sodium 250W"},{"$f":"'DNSP Inputs General'!D$94","v":1.42},{"$f":"'DNSP Inputs General'!A$94","v":"HP Sodium 400W"},{"$f":"B101*IF(A101=C93,D93,IF(A101=C94,D94,D95))","v":2.0733184546756087},1038.5485149032656,{"$f":"'DNSP Inputs General'!R$94","v":500.91123848398718},{"$f":"IF((E$117+'Depn & WACC Post 2004 Central'!E$117)=0,0,E101/(E$117+'Depn & WACC Post 2004 Central'!E$117)*G$117)","v":15794.332093233987},31.531199301967529,{"$f":"IF(F101=0,0,E101/(E$117+'Depn & WACC Post 2004 Central'!E$117)*I$117/F101)","v":255.39370020612367}]
[{"$f":"'DNSP Inputs General'!B$95","v":"Mercury Vapour 80W"},{"$f":"'DNSP Inputs General'!D$95","v":3.8044420368364027},{"$f":"'DNSP Inputs General'!A$95","v":"Metal Halide 70W"},{"$f":"B102*IF(A102=C93,D93,IF(A102=C94,D94,D95))","v":4.6820233241352875},0,{"$f":"'DNSP Inputs General'!R$95","v":0},{"$f":"IF((E$117+'Depn & WACC Post 2004 Central'!E$117)=0,0,E102/(E$117+'Depn & WACC Post 2004 Central'!E$117)*G$117)","v":0},0,{"$f":"IF(F102=0,0,E102/(E$117+'Depn & WACC Post 2004 Central'!E$117)*I$117/F102)","v":0}]
[{"$f":"'DNSP Inputs General'!B$96","v":"HP Sodium 150W"},{"$f":"'DNSP Inputs General'!D$96","v":2.1180491097797653},{"$f":"'DNSP Inputs General'!A$96","v":"Metal Halide 100W"},{"$f":"B103*IF(A103=C93,D93,IF(A103=C94,D94,D95))","v":3.069914121447936},0,{"$f":"'DNSP Inputs General'!R$96","v":0},{"$f":"IF((E$117+'Depn & WACC Post 2004 Central'!E$117)=0,0,E103/(E$117+'Depn & WACC Post 2004 Central'!E$117)*G$117)","v":0},0,{"$f":"IF(F103=0,0,E103/(E$117+'Depn & WACC Post 2004 Central'!E$117)*I$117/F103)","v":0}]
[{"$f":"'DNSP Inputs General'!B$97","v":"HP Sodium 150W"},{"$f":"'DNSP Inputs General'!D$97","v":2.4062948274407225},{"$f":"'DNSP Inputs General'!A$97","v":"Metal Halide 150W"},{"$f":"B104*IF(A104=C93,D93,IF(A104=C94,D94,D95))","v":3.4876993347408787},0,{"$f":"'DNSP Inputs General'!R$97","v":0},{"$f":"IF((E$117+'Depn & WACC Post 2004 Central'!E$117)=0,0,E104/(E$117+'Depn & WACC Post 2004 Central'!E$117)*G$117)","v":0},0,{"$f":"IF(F104=0,0,E104/(E$117+'Depn & WACC Post 2004 Central'!E$117)*I$117/F104)","v":0}]
[{"$f":"'DNSP Inputs General'!B$98","v":"HP Sodium 150W"},{"$f":"'DNSP Inputs General'!D$98","v":0.45472955868703063},{"$f":"'DNSP Inputs General'!A$98","v":"HP Sodium 50W"},{"$f":"B105*IF(A105=C93,D93,IF(A105=C94,D94,D95))","v":0.65908797260997276},0,{"$f":"'DNSP Inputs General'!R$98","v":0},{"$f":"IF((E$117+'Depn & WACC Post 2004 Central'!E$117)=0,0,E105/(E$117+'Depn & WACC Post 2004 Central'!E$117)*G$117)","v":0},0,{"$f":"IF(F105=0,0,E105/(E$117+'Depn & WACC Post 2004 Central'!E$117)*I$117/F105)","v":0}]
[]
[]
[]
[]
[]
[]
[]
[]
[]
[]
[]
[null,null,null,null,{"$f":"SUM(E93:E116)","v":36535.193202243121},{"$f":"SUM(F93:F116)","v":26008.936478939668},{"$f":"'Total RAB'!U$134","v":1488625.2213508135},{"$f":"SUMPRODUCT(F93:F116,H93:H116)","v":555630.25342195132},{"$f":"'Total RAB'!U$128","v":12057438.724737018}]
[null,null,null,"Check",{"$f":"SUM(F118:I118)","v":2.2118911147117615E-9},{"$f":"ABS('DNSP Inputs General'!R$110-F117)","v":0},{"$f":"ABS(G117-SUM(G93:G116)-SUM('Depn & WACC Post 2004 Central'!G93:G116))*IF(F117=0,0,1)","v":1.1641532182693481E-10},{"$f":"ABS(H117+'Depn & WACC Post 2004 Central'!H117-G117)*IF(F117=0,0,1)","v":2.3283064365386963E-10},{"$f":"ABS(I117-SUMPRODUCT(F93:F116,I93:I116)-SUMPRODUCT('Depn & WACC Post 2004 Central'!F93:F116,'Depn & WACC Post 2004 Central'!I93:I116))*IF(F117=0,0,1)","v":1.862645149230957E-9}]
[]
[]
[{"$f":"'DNSP Inputs General'!A$112","v":"Energy Efficient Lights"},{"$f":"'DNSP Inputs General'!D$112","v":"Price Factor"},{"$f":"'DNSP Inputs General'!A$112","v":"Energy Efficient Lights"},{"$f":"D$68","v":"Unit cost"},null,{"$f":"F$68","v":"Volumes"},{"$f":"G$68","v":"Unitisation - Luminaires & Ballasts"}]
[{"$f":"'DNSP Inputs General'!B$113","v":"T5 2X14W"},{"$f":"'DNSP Inputs General'!D$113","v":1},{"$f":"'DNSP Inputs General'!A$113","v":"T5 2X14W"},{"$f":"'DNSP Inputs O & M'!$E$189","v":260.27999999999997},{"$f":"F122*D122","v":2061677.88},{"$f":"'DNSP Inputs General'!R$113","v":7921},{"$f":"IF((E$132+'Depn & WACC Post 2004 Central'!E$132)=0,0,E122/(E$132+'Depn & WACC Post 2004 Central'!E$132)*G$132)","v":49346.335975542403},{"$f":"IF(F122=0,0,G122/F122)","v":6.2298113843633889}]
[{"$f":"'DNSP Inputs General'!B$114","v":"T5 2X24W"},{"$f":"'DNSP Inputs General'!D$114","v":1},{"$f":"'DNSP Inputs General'!A$114","v":"T5 2X24W"},{"$f":"'DNSP Inputs O & M'!$E$238","v":267.33},{"$f":"F123*D123","v":307429.5},{"$f":"'DNSP Inputs General'!R$114","v":1150},{"$f":"IF((E$132+'Depn & WACC Post 2004 Central'!E$132)=0,0,E123/(E$132+'Depn & WACC Post 2004 Central'!E$132)*G$132)","v":7358.3364030626426},{"$f":"IF(F123=0,0,G123/F123)","v":6.3985533939675152}]
[{"$f":"'DNSP Inputs General'!B$115","v":"LED 18W"},{"$f":"'DNSP Inputs General'!D$115","v":1},{"$f":"'DNSP Inputs General'!A$115","v":"LED 18W"},{"$f":"'DNSP Inputs O & M'!$E$286","v":205},{"$f":"F124*D124","v":5313860.3858454935},{"$f":"'DNSP Inputs General'!R$115","v":25921.270174856065},{"$f":"IF((E$132+'Depn & WACC Post 2004 Central'!E$132)=0,0,E124/(E$132+'Depn & WACC Post 2004 Central'!E$132)*G$132)","v":127187.4440089822},{"$f":"IF(F124=0,0,G124/F124)","v":4.9066825487724559}]
[{"$f":"'DNSP Inputs General'!B$116","v":"LED 14W"},{"$f":"'DNSP Inputs General'!D$116","v":1},{"$f":"'DNSP Inputs General'!A$116","v":"LED 14W"},{"$f":"'DNSP Inputs O & M'!$E$332","v":205},2255,{"$f":"'DNSP Inputs General'!R$116","v":11},{"$f":"IF((E$132+'Depn & WACC Post 2004 Central'!E$132)=0,0,E125/(E$132+'Depn & WACC Post 2004 Central'!E$132)*G$132)","v":53.973508036497016},{"$f":"IF(F125=0,0,G125/F125)","v":4.9066825487724559}]
[{"$f":"'DNSP Inputs General'!B$117","v":"LED 70W-125W (L1)"},{"$f":"'DNSP Inputs General'!D$117","v":1},{"$f":"'DNSP Inputs General'!A$117","v":"LED 70W-125W (L1)"},{"$f":"'DNSP Inputs O & M'!$E$378","v":402},375891.70391562436,{"$f":"'DNSP Inputs General'!R$117","v":935.05398983986152},{"$f":"IF((E$132+'Depn & WACC Post 2004 Central'!E$132)=0,0,E126/(E$132+'Depn & WACC Post 2004 Central'!E$132)*G$132)","v":8996.9817747860343},9.6218848029586699]
[{"$f":"'DNSP Inputs General'!B$118","v":"LED 155W-250W (L2)"},{"$f":"'DNSP Inputs General'!D$118","v":1},{"$f":"'DNSP Inputs General'!A$118","v":"LED 155W-250W (L2)"},{"$f":"'DNSP Inputs O & M'!$E$424","v":427},1190850.6652970451,{"$f":"'DNSP Inputs General'!R$118","v":2788.8774362928457},{"$f":"IF((E$132+'Depn & WACC Post 2004 Central'!E$132)=0,0,E127/(E$132+'Depn & WACC Post 2004 Central'!E$132)*G$132)","v":28503.054524912586},10.220260723540676]
[{"$f":"'DNSP Inputs General'!B$119","v":"LED 275W-400W (L4)"},{"$f":"'DNSP Inputs General'!D$119","v":1},{"$f":"'DNSP Inputs General'!A$119","v":"LED 275W-400W (L4)"},{"$f":"'DNSP Inputs O & M'!$E$470","v":650.88},79238.345236328139,{"$f":"'DNSP Inputs General'!R$119","v":121.74032884145794},{"$f":"IF((E$132+'Depn & WACC Post 2004 Central'!E$132)=0,0,E128/(E$132+'Depn & WACC Post 2004 Central'!E$132)*G$132)","v":1896.5727110473092},15.578836767536664]
[{"$f":"'DNSP Inputs General'!B$120","v":"T5 2X14W"},{"$f":"'DNSP Inputs General'!D$120","v":0.87960989252886512},{"$f":"'DNSP Inputs General'!A$120","v":"Compact Fluorescent 32W"},{"$f":"D122*B129","v":228.94486282741298},153622.00295719411,{"$f":"'DNSP Inputs General'!R$120","v":671},{"$f":"IF((E$132+'Depn & WACC Post 2004 Central'!E$132)=0,0,E129/(E$132+'Depn & WACC Post 2004 Central'!E$132)*G$132)","v":3676.9482976465119},5.4798037222749807]
[{"$f":"'DNSP Inputs General'!B$121","v":"T5 2X14W"},{"$f":"'DNSP Inputs General'!D$121","v":0.87960989252886512},{"$f":"'DNSP Inputs General'!A$121","v":"Compact Fluorescent 42W"},{"$f":"D122*B130","v":228.94486282741298},754373.32301632571,{"$f":"'DNSP Inputs General'!R$121","v":3295},{"$f":"IF((E$132+'Depn & WACC Post 2004 Central'!E$132)=0,0,E130/(E$132+'Depn & WACC Post 2004 Central'!E$132)*G$132)","v":18055.953264896059},5.4798037222749798]
[]
[null,null,null,null,{"$f":"SUM(E122:E131)","v":10239198.806268008},{"$f":"SUM(F122:F131)","v":42814.941929830231},{"$f":"'Total RAB'!U$149","v":691592.90385540552},{"$f":"SUMPRODUCT(F122:F131,H122:H131)","v":245075.60046891222}]
[null,null,null,"Check",{"$f":"SUM(F133:I133)","v":2.3283064365386963E-10},{"$f":"ABS('DNSP Inputs General'!R$122-F132)","v":0},{"$f":"ABS(G132-SUM(G122:G131)-SUM('Depn & WACC Post 2004 Central'!G122:G131))","v":1.1641532182693481E-10},{"$f":"ABS(H132+'Depn & WACC Post 2004 Central'!H132-G132)","v":1.1641532182693481E-10}]
[]
[]
[null,null,{"$f":"'RAB 2001 to 2004 Central'!A$27","v":"Poles & Brackets"},{"$f":"D$83","v":"Weighted Average Volumes"},null,null,{"$f":"G$83","v":"Unitisation Poles & Brackets"}]
[null,null,"Total Poles & Brackets",{"$f":"'DNSP Inputs General'!$D$86*F93","v":7835.0959147999984},{"$f":"SUMPRODUCT('DNSP Inputs General'!$D$86:$D$107,'DNSP Inputs General'!R$86:R$107)+SUMPRODUCT('DNSP Inputs General'!$D$113:$D$121,'DNSP Inputs General'!R$113:R$121)","v":68685.377258599474},{"$f":"IF(E137=0,0,D137/E137*G137)","v":88317.148383854132},{"$f":"'Total RAB'!U$119-'Depn & WACC Post 2004 Central'!G$137","v":774221.10987693956},{"$f":"F137/F93","v":11.27199326520415}]
[]
[]
[]
[null,null,null,{"$f":"'DNSP Inputs General'!B$83","v":"North & East"}]
["DEPRECIATION AND RETURN",null,null,"Year",{"$f":"'DNSP Inputs General'!$S$2","v":"2024-06-30"}]
[]
[]
[{"$f":"'DNSP Inputs General'!B$85","v":"Reference Light"},{"$f":"'DNSP Inputs General'!D$85","v":"Price Factor"},{"$f":"'DNSP Inputs General'!A$85","v":"Existing Lights"},{"$f":"D$39","v":"WACC and Dep"},null,{"$f":"F$39","v":"Volumes"},{"$f":"G$39","v":"Unitisation - Luminaires"},null,{"$f":"I$39","v":"RAB WDV"}]
[{"$f":"'DNSP Inputs General'!B$86","v":"Mercury Vapour 80W"},{"$f":"'DNSP Inputs General'!D$86","v":1},{"$f":"'DNSP Inputs General'!A$86","v":"Mercury Vapour 80W"},{"$f":"'DNSP Inputs Capex'!$F$21","v":116.85},{"$f":"F146*D146","v":915530.95764437981},{"$f":"IF('DNSP Inputs General'!S$86=0,1/10^6,'DNSP Inputs General'!S$86)","v":7835.0959147999984},{"$f":"IF((E$170+'Depn & WACC Post 2004 Central'!E$170)=0,0,E146/(E$170+'Depn & WACC Post 2004 Central'!E$170)*G$170)","v":95081.773925108515},{"$f":"IF(F146=0,0,G146/F146)","v":12.135368214893845},{"$f":"IF(F146=0,0,E146/(E$170+'Depn & WACC Post 2004 Central'!E$170)*I$170/F146)","v":106.94250356679611}]
[{"$f":"'DNSP Inputs General'!B$87","v":"HP Sodium 150W"},{"$f":"'DNSP Inputs General'!D$87","v":1},{"$f":"'DNSP Inputs General'!A$87","v":"HP Sodium 150W"},{"$f":"'DNSP Inputs Capex'!$F$44","v":234.07},1936764.5010314842,{"$f":"IF('DNSP Inputs General'!S$87=0,1/10^6,'DNSP Inputs General'!S$87)","v":8274.2961551308763},{"$f":"IF((E$170+'Depn & WACC Post 2004 Central'!E$170)=0,0,E147/(E$170+'Depn & WACC Post 2004 Central'!E$170)*G$170)","v":201141.20980361325},24.30916249944546,{"$f":"IF(F147=0,0,E147/(E$170+'Depn & WACC Post 2004 Central'!E$170)*I$170/F147)","v":214.22363551459102}]
[{"$f":"'DNSP Inputs General'!B$88","v":"HP Sodium 250W"},{"$f":"'DNSP Inputs General'!D$88","v":1},{"$f":"'DNSP Inputs General'!A$88","v":"HP Sodium 250W"},{"$f":"'DNSP Inputs Capex'!$F$62","v":240.18},1788186.8346559084,{"$f":"IF('DNSP Inputs General'!S$88=0,1/10^6,'DNSP Inputs General'!S$88)","v":7445.1945817966043},{"$f":"IF((E$170+'Depn & WACC Post 2004 Central'!E$170)=0,0,E148/(E$170+'Depn & WACC Post 2004 Central'!E$170)*G$170)","v":185710.78883675605},24.943711920010298,{"$f":"IF(F148=0,0,E148/(E$170+'Depn & WACC Post 2004 Central'!E$170)*I$170/F148)","v":219.81557986027457}]
[{"$f":"'DNSP Inputs General'!B$89","v":"Mercury Vapour 80W"},{"$f":"'DNSP Inputs General'!D$89","v":1.48},{"$f":"'DNSP Inputs General'!A$89","v":"Mercury Vapour 50W"},{"$f":"B149*IF(A149=C146,D146,IF(A149=C147,D147,D148))","v":172.93799999999999},14163.106064593445,{"$f":"'DNSP Inputs General'!S$89","v":81.897015488749986},{"$f":"IF((E$170+'Depn & WACC Post 2004 Central'!E$170)=0,0,E149/(E$170+'Depn & WACC Post 2004 Central'!E$170)*G$170)","v":1470.898649212131},17.960344958042885,{"$f":"IF(F149=0,0,E149/(E$170+'Depn & WACC Post 2004 Central'!E$170)*I$170/F149)","v":158.2749052788582}]
[{"$f":"'DNSP Inputs General'!B$90","v":"Mercury Vapour 80W"},{"$f":"'DNSP Inputs General'!D$90","v":1.48},{"$f":"'DNSP Inputs General'!A$90","v":"Mercury Vapour 125W"},{"$f":"B150*IF(A150=C146,D146,IF(A150=C147,D147,D148))","v":172.93799999999999},4672.3648872885587,{"$f":"'DNSP Inputs General'!S$90","v":27.017572119999997},{"$f":"IF((E$170+'Depn & WACC Post 2004 Central'!E$170)=0,0,E150/(E$170+'Depn & WACC Post 2004 Central'!E$170)*G$170)","v":485.24491520400204},{"$f":"IF(F150=0,0,G150/F150)","v":17.960344958042889},{"$f":"IF(F150=0,0,E150/(E$170+'Depn & WACC Post 2004 Central'!E$170)*I$170/F150)","v":158.27490527885817}]
[{"$f":"'DNSP Inputs General'!B$91","v":"HP Sodium 250W"},{"$f":"'DNSP Inputs General'!D$91","v":1.04},{"$f":"'DNSP Inputs General'!A$91","v":"Mercury Vapour 250W"},{"$f":"B151*IF(A151=C146,D146,IF(A151=C147,D147,D148))","v":249.78720000000001},92372.060515811085,{"$f":"'DNSP Inputs General'!S$91","v":369.80301839250001},{"$f":"IF((E$170+'Depn & WACC Post 2004 Central'!E$170)=0,0,E151/(E$170+'Depn & WACC Post 2004 Central'!E$170)*G$170)","v":9593.2303562501038},25.941460396810715,{"$f":"IF(F151=0,0,E151/(E$170+'Depn & WACC Post 2004 Central'!E$170)*I$170/F151)","v":228.60820305468559}]
[{"$f":"'DNSP Inputs General'!B$92","v":"HP Sodium 250W"},{"$f":"'DNSP Inputs General'!D$92","v":1.07},{"$f":"'DNSP Inputs General'!A$92","v":"Mercury Vapour 400W"},{"$f":"B152*IF(A152=C146,D146,IF(A152=C147,D147,D148))","v":256.99260000000004},32112.836984729194,{"$f":"'DNSP Inputs General'!S$92","v":124.95627105499999},{"$f":"IF((E$170+'Depn & WACC Post 2004 Central'!E$170)=0,0,E152/(E$170+'Depn & WACC Post 2004 Central'!E$170)*G$170)","v":3335.0543537402659},26.689771754411019,{"$f":"IF(F152=0,0,E152/(E$170+'Depn & WACC Post 2004 Central'!E$170)*I$170/F152)","v":235.20267045049383}]
[{"$f":"'DNSP Inputs General'!B$93","v":"HP Sodium 150W"},{"$f":"'DNSP Inputs General'!D$93","v":1.07},{"$f":"'DNSP Inputs General'!A$93","v":"HP Sodium 100W"},{"$f":"B153*IF(A153=C146,D146,IF(A153=C147,D147,D148))","v":250.45490000000001},186364.66389557629,{"$f":"'DNSP Inputs General'!S$93","v":744.1046827016612},{"$f":"IF((E$170+'Depn & WACC Post 2004 Central'!E$170)=0,0,E153/(E$170+'Depn & WACC Post 2004 Central'!E$170)*G$170)","v":19354.760963780496},26.010803874406644,{"$f":"IF(F153=0,0,E153/(E$170+'Depn & WACC Post 2004 Central'!E$170)*I$170/F153)","v":229.21929000061238}]
[{"$f":"'DNSP Inputs General'!B$94","v":"HP Sodium 250W"},{"$f":"'DNSP Inputs General'!D$94","v":1.42},{"$f":"'DNSP Inputs General'!A$94","v":"HP Sodium 400W"},{"$f":"B154*IF(A154=C146,D146,IF(A154=C147,D147,D148))","v":341.05559999999997},168643.71810305907,{"$f":"'DNSP Inputs General'!S$94","v":494.47573387758212},{"$f":"IF((E$170+'Depn & WACC Post 2004 Central'!E$170)=0,0,E154/(E$170+'Depn & WACC Post 2004 Central'!E$170)*G$170)","v":17514.36556533488},35.420070926414624,{"$f":"IF(F154=0,0,E154/(E$170+'Depn & WACC Post 2004 Central'!E$170)*I$170/F154)","v":312.13812340158989}]
[{"$f":"'DNSP Inputs General'!B$95","v":"Mercury Vapour 80W"},{"$f":"'DNSP Inputs General'!D$95","v":3.8044420368364027},{"$f":"'DNSP Inputs General'!A$95","v":"Metal Halide 70W"},{"$f":"B155*IF(A155=C146,D146,IF(A155=C147,D147,D148))","v":444.54905200433365},0,{"$f":"'DNSP Inputs General'!S$95","v":0},{"$f":"IF((E$170+'Depn & WACC Post 2004 Central'!E$170)=0,0,E155/(E$170+'Depn & WACC Post 2004 Central'!E$170)*G$170)","v":0},0,{"$f":"IF(F155=0,0,E155/(E$170+'Depn & WACC Post 2004 Central'!E$170)*I$170/F155)","v":0}]
[{"$f":"'DNSP Inputs General'!B$96","v":"HP Sodium 150W"},{"$f":"'DNSP Inputs General'!D$96","v":2.1180491097797653},{"$f":"'DNSP Inputs General'!A$96","v":"Metal Halide 100W"},{"$f":"B156*IF(A156=C146,D146,IF(A156=C147,D147,D148))","v":495.77175512614969},0,{"$f":"'DNSP Inputs General'!S$96","v":0},{"$f":"IF((E$170+'Depn & WACC Post 2004 Central'!E$170)=0,0,E156/(E$170+'Depn & WACC Post 2004 Central'!E$170)*G$170)","v":0},0,{"$f":"IF(F156=0,0,E156/(E$170+'Depn & WACC Post 2004 Central'!E$170)*I$170/F156)","v":0}]
[{"$f":"'DNSP Inputs General'!B$97","v":"HP Sodium 150W"},{"$f":"'DNSP Inputs General'!D$97","v":2.4062948274407225},{"$f":"'DNSP Inputs General'!A$97","v":"Metal Halide 150W"},{"$f":"B157*IF(A157=C146,D146,IF(A157=C147,D147,D148))","v":563.24143025904993},0,{"$f":"'DNSP Inputs General'!S$97","v":0},{"$f":"IF((E$170+'Depn & WACC Post 2004 Central'!E$170)=0,0,E157/(E$170+'Depn & WACC Post 2004 Central'!E$170)*G$170)","v":0},0,{"$f":"IF(F157=0,0,E157/(E$170+'Depn & WACC Post 2004 Central'!E$170)*I$170/F157)","v":0}]
[{"$f":"'DNSP Inputs General'!B$98","v":"HP Sodium 150W"},{"$f":"'DNSP Inputs General'!D$98","v":0.45472955868703063},{"$f":"'DNSP Inputs General'!A$98","v":"HP Sodium 50W"},{"$f":"B158*IF(A158=C146,D146,IF(A158=C147,D147,D148))","v":106.43854780187326},0,{"$f":"'DNSP Inputs General'!S$98","v":0},{"$f":"IF((E$170+'Depn & WACC Post 2004 Central'!E$170)=0,0,E158/(E$170+'Depn & WACC Post 2004 Central'!E$170)*G$170)","v":0},0,{"$f":"IF(F158=0,0,E158/(E$170+'Depn & WACC Post 2004 Central'!E$170)*I$170/F158)","v":0}]
[]
[]
[]
[]
[]
[]
[]
[]
[]
[]
[]
[null,null,null,null,{"$f":"SUM(E146:E169)","v":5138811.0437828293},{"$f":"SUM(F146:F169)","v":25396.840945362972},{"$f":"'Total RAB'!V$134","v":1491630.4306606911},{"$f":"SUMPRODUCT(F146:F169,H146:H169)","v":533687.32736899971},{"$f":"'Total RAB'!V$128","v":13144940.460520502}]
[null,null,null,"Check",{"$f":"SUM(F171:I171)","v":1.9790604710578918E-9},{"$f":"ABS('DNSP Inputs General'!S$110-F170)","v":0},{"$f":"ABS(G170-SUM(G146:G169)-SUM('Depn & WACC Post 2004 Central'!G146:G169))*IF(F170=0,0,1)","v":1.1641532182693481E-10},{"$f":"ABS(H170+'Depn & WACC Post 2004 Central'!H170-G170)*IF(F170=0,0,1)","v":0},{"$f":"ABS(I170-SUMPRODUCT(F146:F169,I146:I169)-SUMPRODUCT('Depn & WACC Post 2004 Central'!F146:F169,'Depn & WACC Post 2004 Central'!I146:I169))*IF(F170=0,0,1)","v":1.862645149230957E-9}]
[]
[]
[{"$f":"'DNSP Inputs General'!A$112","v":"Energy Efficient Lights"},{"$f":"'DNSP Inputs General'!D$112","v":"Price Factor"},{"$f":"'DNSP Inputs General'!A$112","v":"Energy Efficient Lights"},{"$f":"D$68","v":"Unit cost"},null,{"$f":"F$68","v":"Volumes"},{"$f":"G$68","v":"Unitisation - Luminaires & Ballasts"}]
[{"$f":"'DNSP Inputs General'!B$113","v":"T5 2X14W"},{"$f":"'DNSP Inputs General'!D$113","v":1},{"$f":"'DNSP Inputs General'!A$113","v":"T5 2X14W"},{"$f":"'DNSP Inputs O & M'!$F$189","v":260.27999999999997},{"$f":"F175*D175","v":2061677.88},{"$f":"'DNSP Inputs General'!S$113","v":7921},{"$f":"IF((E$185+'Depn & WACC Post 2004 Central'!E$185)=0,0,E175/(E$185+'Depn & WACC Post 2004 Central'!E$185)*G$185)","v":52829.76404591294},{"$f":"IF(F175=0,0,G175/F175)","v":6.6695826342523592}]
[{"$f":"'DNSP Inputs General'!B$114","v":"T5 2X24W"},{"$f":"'DNSP Inputs General'!D$114","v":1},{"$f":"'DNSP Inputs General'!A$114","v":"T5 2X24W"},{"$f":"'DNSP Inputs O & M'!$F$238","v":267.33},{"$f":"F176*D176","v":307429.5},{"$f":"'DNSP Inputs General'!S$114","v":1150},{"$f":"IF((E$185+'Depn & WACC Post 2004 Central'!E$185)=0,0,E176/(E$185+'Depn & WACC Post 2004 Central'!E$185)*G$185)","v":7877.7718397759554},{"$f":"IF(F176=0,0,G176/F176)","v":6.8502363824138746}]
[{"$f":"'DNSP Inputs General'!B$115","v":"LED 18W"},{"$f":"'DNSP Inputs General'!D$115","v":1},{"$f":"'DNSP Inputs General'!A$115","v":"LED 18W"},{"$f":"'DNSP Inputs O & M'!$F$286","v":205},{"$f":"F177*D177","v":5482768.7013045093},{"$f":"'DNSP Inputs General'!S$115","v":26745.213177095167},{"$f":"IF((E$185+'Depn & WACC Post 2004 Central'!E$185)=0,0,E177/(E$185+'Depn & WACC Post 2004 Central'!E$185)*G$185)","v":140494.00229692223},{"$f":"IF(F177=0,0,G177/F177)","v":5.2530522515050473}]
[{"$f":"'DNSP Inputs General'!B$116","v":"LED 14W"},{"$f":"'DNSP Inputs General'!D$116","v":1},{"$f":"'DNSP Inputs General'!A$116","v":"LED 14W"},{"$f":"'DNSP Inputs O & M'!$F$332","v":205},2255,{"$f":"'DNSP Inputs General'!S$116","v":11},{"$f":"IF((E$185+'Depn & WACC Post 2004 Central'!E$185)=0,0,E178/(E$185+'Depn & WACC Post 2004 Central'!E$185)*G$185)","v":57.783574766555525},{"$f":"IF(F178=0,0,G178/F178)","v":5.2530522515050473}]
[{"$f":"'DNSP Inputs General'!B$117","v":"LED 70W-125W (L1)"},{"$f":"'DNSP Inputs General'!D$117","v":1},{"$f":"'DNSP Inputs General'!A$117","v":"LED 70W-125W (L1)"},{"$f":"'DNSP Inputs O & M'!$F$378","v":402},448314.33321850299,{"$f":"'DNSP Inputs General'!S$117","v":1115.2097841256293},{"$f":"IF((E$185+'Depn & WACC Post 2004 Central'!E$185)=0,0,E179/(E$185+'Depn & WACC Post 2004 Central'!E$185)*G$185)","v":11487.895695099713},10.301107341975751]
[{"$f":"'DNSP Inputs General'!B$118","v":"LED 155W-250W (L2)"},{"$f":"'DNSP Inputs General'!D$118","v":1},{"$f":"'DNSP Inputs General'!A$118","v":"LED 155W-250W (L2)"},{"$f":"'DNSP Inputs O & M'!$F$424","v":427},1539910.1777959235,{"$f":"'DNSP Inputs General'!S$118","v":3606.3470205993526},{"$f":"IF((E$185+'Depn & WACC Post 2004 Central'!E$185)=0,0,E180/(E$185+'Depn & WACC Post 2004 Central'!E$185)*G$185)","v":39459.651837006895},10.941723470208073]
[{"$f":"'DNSP Inputs General'!B$119","v":"LED 275W-400W (L4)"},{"$f":"'DNSP Inputs General'!D$119","v":1},{"$f":"'DNSP Inputs General'!A$119","v":"LED 275W-400W (L4)"},{"$f":"'DNSP Inputs O & M'!$F$470","v":650.88},91423.687590389629,{"$f":"'DNSP Inputs General'!S$119","v":140.46166357913845},{"$f":"IF((E$185+'Depn & WACC Post 2004 Central'!E$185)=0,0,E181/(E$185+'Depn & WACC Post 2004 Central'!E$185)*G$185)","v":2342.6995509150747},16.678569021754171]
[{"$f":"'DNSP Inputs General'!B$120","v":"T5 2X14W"},{"$f":"'DNSP Inputs General'!D$120","v":0.87960989252886512},{"$f":"'DNSP Inputs General'!A$120","v":"Compact Fluorescent 32W"},{"$f":"D175*B182","v":228.94486282741298},153622.00295719411,{"$f":"'DNSP Inputs General'!S$120","v":671},{"$f":"IF((E$185+'Depn & WACC Post 2004 Central'!E$185)=0,0,E182/(E$185+'Depn & WACC Post 2004 Central'!E$185)*G$185)","v":3936.5093098292855},5.8666308641271021]
[{"$f":"'DNSP Inputs General'!B$121","v":"T5 2X14W"},{"$f":"'DNSP Inputs General'!D$121","v":0.87960989252886512},{"$f":"'DNSP Inputs General'!A$121","v":"Compact Fluorescent 42W"},{"$f":"D175*B183","v":228.94486282741298},754373.32301632571,{"$f":"'DNSP Inputs General'!S$121","v":3295},{"$f":"IF((E$185+'Depn & WACC Post 2004 Central'!E$185)=0,0,E183/(E$185+'Depn & WACC Post 2004 Central'!E$185)*G$185)","v":19330.5486972988},5.8666308641271021]
[]
[null,null,null,null,{"$f":"SUM(E175:E184)","v":10841774.605882844},{"$f":"SUM(F175:F184)","v":44655.23164539929},{"$f":"'Total RAB'!V$149","v":789369.5215827683},{"$f":"SUMPRODUCT(F175:F184,H175:H184)","v":277816.62684752746}]
[null,null,null,"Check",{"$f":"SUM(F186:I186)","v":4.0745362639427185E-10},{"$f":"ABS('DNSP Inputs General'!S$122-F185)","v":0},{"$f":"ABS(G185-SUM(G175:G184)-SUM('Depn & WACC Post 2004 Central'!G175:G184))","v":1.7462298274040222E-10},{"$f":"ABS(H185+'Depn & WACC Post 2004 Central'!H185-G185)","v":2.3283064365386963E-10}]
[]
[]
[null,null,{"$f":"'RAB 2001 to 2004 Central'!A$27","v":"Poles & Brackets"},{"$f":"D$83","v":"Weighted Average Volumes"},null,null,{"$f":"G$83","v":"Unitisation Poles & Brackets"}]
[null,null,"Total Poles & Brackets",{"$f":"'DNSP Inputs General'!$D$86*F146","v":7835.0959147999984},{"$f":"SUMPRODUCT('DNSP Inputs General'!$D$86:$D$107,'DNSP Inputs General'!S$86:S$107)+SUMPRODUCT('DNSP Inputs General'!$D$113:$D$121,'DNSP Inputs General'!S$113:S$121)","v":69910.190622311187},{"$f":"IF(E190=0,0,D190/E190*G190)","v":91875.721076998161},{"$f":"'Total RAB'!V$119-'Depn & WACC Post 2004 Central'!G$190","v":819779.26548703806},{"$f":"F190/F146","v":11.726176944873229}]
[]
[]
[]
[null,null,null,{"$f":"'DNSP Inputs General'!B$83","v":"North & East"}]
["DEPRECIATION AND RETURN",null,null,"Year",{"$f":"'DNSP Inputs General'!$T$2","v":"2025-06-30"}]
[]
[]
[{"$f":"'DNSP Inputs General'!B$85","v":"Reference Light"},{"$f":"'DNSP Inputs General'!D$85","v":"Price Factor"},{"$f":"'DNSP Inputs General'!A$85","v":"Existing Lights"},{"$f":"D$39","v":"WACC and Dep"},null,{"$f":"F$39","v":"Volumes"},{"$f":"G$39","v":"Unitisation - Luminaires"},null,{"$f":"I$39","v":"RAB WDV"}]
[{"$f":"'DNSP Inputs General'!B$86","v":"Mercury Vapour 80W"},{"$f":"'DNSP Inputs General'!D$86","v":1},{"$f":"'DNSP Inputs General'!A$86","v":"Mercury Vapour 80W"},{"$f":"'DNSP Inputs Capex'!$G$21","v":116.85},{"$f":"F199*D199","v":915530.95764437981},{"$f":"IF('DNSP Inputs General'!T$86=0,1/10^6,'DNSP Inputs General'!T$86)","v":7835.0959147999984},{"$f":"IF((E$223+'Depn & WACC Post 2004 Central'!E$223)=0,0,E199/(E$223+'Depn & WACC Post 2004 Central'!E$223)*G$223)","v":104315.84416612769},{"$f":"IF(F199=0,0,G199/F199)","v":13.31392050594833},{"$f":"IF(F199=0,0,E199/(E$223+'Depn & WACC Post 2004 Central'!E$223)*I$223/F199)","v":110.25078130361877}]
[{"$f":"'DNSP Inputs General'!B$87","v":"HP Sodium 150W"},{"$f":"'DNSP Inputs General'!D$87","v":1},{"$f":"'DNSP Inputs General'!A$87","v":"HP Sodium 150W"},{"$f":"'DNSP Inputs Capex'!$G$44","v":234.07},1860749.1377467618,{"$f":"IF('DNSP Inputs General'!T$87=0,1/10^6,'DNSP Inputs General'!T$87)","v":7949.5413241626939},{"$f":"IF((E$223+'Depn & WACC Post 2004 Central'!E$223)=0,0,E200/(E$223+'Depn & WACC Post 2004 Central'!E$223)*G$223)","v":212014.25846360537},26.669998911658759,{"$f":"IF(F200=0,0,E200/(E$223+'Depn & WACC Post 2004 Central'!E$223)*I$223/F200)","v":220.85066649326527}]
[{"$f":"'DNSP Inputs General'!B$88","v":"HP Sodium 250W"},{"$f":"'DNSP Inputs General'!D$88","v":1},{"$f":"'DNSP Inputs General'!A$88","v":"HP Sodium 250W"},{"$f":"'DNSP Inputs Capex'!$G$62","v":240.18},1726337.0063626354,{"$f":"IF('DNSP Inputs General'!T$88=0,1/10^6,'DNSP Inputs General'!T$88)","v":7187.6800997694872},{"$f":"IF((E$223+'Depn & WACC Post 2004 Central'!E$223)=0,0,E201/(E$223+'Depn & WACC Post 2004 Central'!E$223)*G$223)","v":196699.30397251988},27.366173959081475,{"$f":"IF(F201=0,0,E201/(E$223+'Depn & WACC Post 2004 Central'!E$223)*I$223/F201)","v":226.6155982328041}]
[{"$f":"'DNSP Inputs General'!B$89","v":"Mercury Vapour 80W"},{"$f":"'DNSP Inputs General'!D$89","v":1.48},{"$f":"'DNSP Inputs General'!A$89","v":"Mercury Vapour 50W"},{"$f":"B202*IF(A202=C199,D199,IF(A202=C200,D200,D201))","v":172.93799999999999},14163.106064593445,{"$f":"'DNSP Inputs General'!T$89","v":81.897015488749986},{"$f":"IF((E$223+'Depn & WACC Post 2004 Central'!E$223)=0,0,E202/(E$223+'Depn & WACC Post 2004 Central'!E$223)*G$223)","v":1613.7481237596219},19.70460234880353,{"$f":"IF(F202=0,0,E202/(E$223+'Depn & WACC Post 2004 Central'!E$223)*I$223/F202)","v":163.17115632935577}]
[{"$f":"'DNSP Inputs General'!B$90","v":"Mercury Vapour 80W"},{"$f":"'DNSP Inputs General'!D$90","v":1.48},{"$f":"'DNSP Inputs General'!A$90","v":"Mercury Vapour 125W"},{"$f":"B203*IF(A203=C199,D199,IF(A203=C200,D200,D201))","v":172.93799999999999},4672.3648872885587,{"$f":"'DNSP Inputs General'!T$90","v":27.017572119999997},{"$f":"IF((E$223+'Depn & WACC Post 2004 Central'!E$223)=0,0,E203/(E$223+'Depn & WACC Post 2004 Central'!E$223)*G$223)","v":532.37051505472061},{"$f":"IF(F203=0,0,G203/F203)","v":19.704602348803526},{"$f":"IF(F203=0,0,E203/(E$223+'Depn & WACC Post 2004 Central'!E$223)*I$223/F203)","v":163.17115632935577}]
[{"$f":"'DNSP Inputs General'!B$91","v":"HP Sodium 250W"},{"$f":"'DNSP Inputs General'!D$91","v":1.04},{"$f":"'DNSP Inputs General'!A$91","v":"Mercury Vapour 250W"},{"$f":"B204*IF(A204=C199,D199,IF(A204=C200,D200,D201))","v":249.78720000000001},92372.060515811085,{"$f":"'DNSP Inputs General'!T$91","v":369.80301839250001},{"$f":"IF((E$223+'Depn & WACC Post 2004 Central'!E$223)=0,0,E204/(E$223+'Depn & WACC Post 2004 Central'!E$223)*G$223)","v":10524.897481199465},28.460820917444735,{"$f":"IF(F204=0,0,E204/(E$223+'Depn & WACC Post 2004 Central'!E$223)*I$223/F204)","v":235.68022216211631}]
[{"$f":"'DNSP Inputs General'!B$92","v":"HP Sodium 250W"},{"$f":"'DNSP Inputs General'!D$92","v":1.07},{"$f":"'DNSP Inputs General'!A$92","v":"Mercury Vapour 400W"},{"$f":"B205*IF(A205=C199,D199,IF(A205=C200,D200,D201))","v":256.99260000000004},32112.836984729194,{"$f":"'DNSP Inputs General'!T$92","v":124.95627105499999},{"$f":"IF((E$223+'Depn & WACC Post 2004 Central'!E$223)=0,0,E205/(E$223+'Depn & WACC Post 2004 Central'!E$223)*G$223)","v":3658.9453045371156},29.281806136217178,{"$f":"IF(F205=0,0,E205/(E$223+'Depn & WACC Post 2004 Central'!E$223)*I$223/F205)","v":242.4786901091004}]
[{"$f":"'DNSP Inputs General'!B$93","v":"HP Sodium 150W"},{"$f":"'DNSP Inputs General'!D$93","v":1.07},{"$f":"'DNSP Inputs General'!A$93","v":"HP Sodium 100W"},{"$f":"B206*IF(A206=C199,D199,IF(A206=C200,D200,D201))","v":250.45490000000001},183939.16438002666,{"$f":"'DNSP Inputs General'!T$93","v":734.42030633070726},{"$f":"IF((E$223+'Depn & WACC Post 2004 Central'!E$223)=0,0,E206/(E$223+'Depn & WACC Post 2004 Central'!E$223)*G$223)","v":20958.077984477859},28.536898835474872,{"$f":"IF(F206=0,0,E206/(E$223+'Depn & WACC Post 2004 Central'!E$223)*I$223/F206)","v":236.31021314779386}]
[{"$f":"'DNSP Inputs General'!B$94","v":"HP Sodium 250W"},{"$f":"'DNSP Inputs General'!D$94","v":1.42},{"$f":"'DNSP Inputs General'!A$94","v":"HP Sodium 400W"},{"$f":"B207*IF(A207=C199,D199,IF(A207=C200,D200,D201))","v":341.05559999999997},166448.85321821881,{"$f":"'DNSP Inputs General'!T$94","v":488.04022927117694},{"$f":"IF((E$223+'Depn & WACC Post 2004 Central'!E$223)=0,0,E207/(E$223+'Depn & WACC Post 2004 Central'!E$223)*G$223)","v":18965.227214836348},38.859967021895692,{"$f":"IF(F207=0,0,E207/(E$223+'Depn & WACC Post 2004 Central'!E$223)*I$223/F207)","v":321.79414949058184}]
[{"$f":"'DNSP Inputs General'!B$95","v":"Mercury Vapour 80W"},{"$f":"'DNSP Inputs General'!D$95","v":3.8044420368364027},{"$f":"'DNSP Inputs General'!A$95","v":"Metal Halide 70W"},{"$f":"B208*IF(A208=C199,D199,IF(A208=C200,D200,D201))","v":444.54905200433365},0,{"$f":"'DNSP Inputs General'!T$95","v":0},{"$f":"IF((E$223+'Depn & WACC Post 2004 Central'!E$223)=0,0,E208/(E$223+'Depn & WACC Post 2004 Central'!E$223)*G$223)","v":0},0,{"$f":"IF(F208=0,0,E208/(E$223+'Depn & WACC Post 2004 Central'!E$223)*I$223/F208)","v":0}]
[{"$f":"'DNSP Inputs General'!B$96","v":"HP Sodium 150W"},{"$f":"'DNSP Inputs General'!D$96","v":2.1180491097797653},{"$f":"'DNSP Inputs General'!A$96","v":"Metal Halide 100W"},{"$f":"B209*IF(A209=C199,D199,IF(A209=C200,D200,D201))","v":495.77175512614969},0,{"$f":"'DNSP Inputs General'!T$96","v":0},{"$f":"IF((E$223+'Depn & WACC Post 2004 Central'!E$223)=0,0,E209/(E$223+'Depn & WACC Post 2004 Central'!E$223)*G$223)","v":0},0,{"$f":"IF(F209=0,0,E209/(E$223+'Depn & WACC Post 2004 Central'!E$223)*I$223/F209)","v":0}]
[{"$f":"'DNSP Inputs General'!B$97","v":"HP Sodium 150W"},{"$f":"'DNSP Inputs General'!D$97","v":2.4062948274407225},{"$f":"'DNSP Inputs General'!A$97","v":"Metal Halide 150W"},{"$f":"B210*IF(A210=C199,D199,IF(A210=C200,D200,D201))","v":563.24143025904993},0,{"$f":"'DNSP Inputs General'!T$97","v":0},{"$f":"IF((E$223+'Depn & WACC Post 2004 Central'!E$223)=0,0,E210/(E$223+'Depn & WACC Post 2004 Central'!E$223)*G$223)","v":0},0,{"$f":"IF(F210=0,0,E210/(E$223+'Depn & WACC Post 2004 Central'!E$223)*I$223/F210)","v":0}]
[{"$f":"'DNSP Inputs General'!B$98","v":"HP Sodium 150W"},{"$f":"'DNSP Inputs General'!D$98","v":0.45472955868703063},{"$f":"'DNSP Inputs General'!A$98","v":"HP Sodium 50W"},{"$f":"B211*IF(A211=C199,D199,IF(A211=C200,D200,D201))","v":106.43854780187326},0,{"$f":"'DNSP Inputs General'!T$98","v":0},{"$f":"IF((E$223+'Depn & WACC Post 2004 Central'!E$223)=0,0,E211/(E$223+'Depn & WACC Post 2004 Central'!E$223)*G$223)","v":0},0,{"$f":"IF(F211=0,0,E211/(E$223+'Depn & WACC Post 2004 Central'!E$223)*I$223/F211)","v":0}]
[]
[]
[]
[]
[]
[]
[]
[]
[]
[]
[]
[null,null,null,null,{"$f":"SUM(E199:E222)","v":4996325.4878044454},{"$f":"SUM(F199:F222)","v":24798.451751390316},{"$f":"'Total RAB'!W$134","v":1593651.9644644049},{"$f":"SUMPRODUCT(F199:F222,H199:H222)","v":569282.67322611809},{"$f":"'Total RAB'!W$128","v":13196817.130592639}]
[null,null,null,"Check",{"$f":"SUM(F224:I224)","v":1.862645149230957E-9},{"$f":"ABS('DNSP Inputs General'!T$110-F223)","v":0},{"$f":"ABS(G223-SUM(G199:G222)-SUM('Depn & WACC Post 2004 Central'!G199:G222))*IF(F223=0,0,1)","v":0},{"$f":"ABS(H223+'Depn & WACC Post 2004 Central'!H223-G223)*IF(F223=0,0,1)","v":0},{"$f":"ABS(I223-SUMPRODUCT(F199:F222,I199:I222)-SUMPRODUCT('Depn & WACC Post 2004 Central'!F199:F222,'Depn & WACC Post 2004 Central'!I199:I222))*IF(F223=0,0,1)","v":1.862645149230957E-9}]
[]
[]
[{"$f":"'DNSP Inputs General'!A$112","v":"Energy Efficient Lights"},{"$f":"'DNSP Inputs General'!D$112","v":"Price Factor"},{"$f":"'DNSP Inputs General'!A$112","v":"Energy Efficient Lights"},{"$f":"D$68","v":"Unit cost"},null,{"$f":"F$68","v":"Volumes"},{"$f":"G$68","v":"Unitisation - Luminaires & Ballasts"}]
[{"$f":"'DNSP Inputs General'!B$113","v":"T5 2X14W"},{"$f":"'DNSP Inputs General'!D$113","v":1},{"$f":"'DNSP Inputs General'!A$113","v":"T5 2X14W"},{"$f":"'DNSP Inputs O & M'!$G$189","v":260.27999999999997},{"$f":"F228*D228","v":2061677.88},{"$f":"'DNSP Inputs General'!T$113","v":7921},{"$f":"IF((E$238+'Depn & WACC Post 2004 Central'!E$238)=0,0,E228/(E$238+'Depn & WACC Post 2004 Central'!E$238)*G$238)","v":56054.901682387288},{"$f":"IF(F228=0,0,G228/F228)","v":7.0767455728301085}]
[{"$f":"'DNSP Inputs General'!B$114","v":"T5 2X24W"},{"$f":"'DNSP Inputs General'!D$114","v":1},{"$f":"'DNSP Inputs General'!A$114","v":"T5 2X24W"},{"$f":"'DNSP Inputs O & M'!$G$238","v":267.33},{"$f":"F229*D229","v":307429.5},{"$f":"'DNSP Inputs General'!T$114","v":1150},{"$f":"IF((E$238+'Depn & WACC Post 2004 Central'!E$238)=0,0,E229/(E$238+'Depn & WACC Post 2004 Central'!E$238)*G$238)","v":8358.6919973965505},{"$f":"IF(F229=0,0,G229/F229)","v":7.2684278238230871}]
[{"$f":"'DNSP Inputs General'!B$115","v":"LED 18W"},{"$f":"'DNSP Inputs General'!D$115","v":1},{"$f":"'DNSP Inputs General'!A$115","v":"LED 18W"},{"$f":"'DNSP Inputs O & M'!$G$286","v":205},{"$f":"F230*D230","v":5654625.2011998007},{"$f":"'DNSP Inputs General'!T$115","v":27583.537566828294},{"$f":"IF((E$238+'Depn & WACC Post 2004 Central'!E$238)=0,0,E230/(E$238+'Depn & WACC Post 2004 Central'!E$238)*G$238)","v":153743.44497696427},{"$f":"IF(F230=0,0,G230/F230)","v":5.5737392132709873}]
[{"$f":"'DNSP Inputs General'!B$116","v":"LED 14W"},{"$f":"'DNSP Inputs General'!D$116","v":1},{"$f":"'DNSP Inputs General'!A$116","v":"LED 14W"},{"$f":"'DNSP Inputs O & M'!$G$332","v":205},2255,{"$f":"'DNSP Inputs General'!T$116","v":11},{"$f":"IF((E$238+'Depn & WACC Post 2004 Central'!E$238)=0,0,E231/(E$238+'Depn & WACC Post 2004 Central'!E$238)*G$238)","v":61.311131345980861},{"$f":"IF(F231=0,0,G231/F231)","v":5.5737392132709873}]
[{"$f":"'DNSP Inputs General'!B$117","v":"LED 70W-125W (L1)"},{"$f":"'DNSP Inputs General'!D$117","v":1},{"$f":"'DNSP Inputs General'!A$117","v":"LED 70W-125W (L1)"},{"$f":"'DNSP Inputs O & M'!$G$378","v":402},523890.37772394542,{"$f":"'DNSP Inputs General'!T$117","v":1303.2098948356852},{"$f":"IF((E$238+'Depn & WACC Post 2004 Central'!E$238)=0,0,E232/(E$238+'Depn & WACC Post 2004 Central'!E$238)*G$238)","v":14244.040691586846},10.929966652365543]
[{"$f":"'DNSP Inputs General'!B$118","v":"LED 155W-250W (L2)"},{"$f":"'DNSP Inputs General'!D$118","v":1},{"$f":"'DNSP Inputs General'!A$118","v":"LED 155W-250W (L2)"},{"$f":"'DNSP Inputs O & M'!$G$424","v":427},1898118.1766365275,{"$f":"'DNSP Inputs General'!T$118","v":4445.2416314672773},{"$f":"IF((E$238+'Depn & WACC Post 2004 Central'!E$238)=0,0,E233/(E$238+'Depn & WACC Post 2004 Central'!E$238)*G$238)","v":51607.881524592383},11.609690946666886]
[{"$f":"'DNSP Inputs General'!B$119","v":"LED 275W-400W (L4)"},{"$f":"'DNSP Inputs General'!D$119","v":1},{"$f":"'DNSP Inputs General'!A$119","v":"LED 275W-400W (L4)"},{"$f":"'DNSP Inputs O & M'!$G$470","v":650.88},103787.84824625835,{"$f":"'DNSP Inputs General'!T$119","v":159.45773145012652},{"$f":"IF((E$238+'Depn & WACC Post 2004 Central'!E$238)=0,0,E234/(E$238+'Depn & WACC Post 2004 Central'!E$238)*G$238)","v":2821.8848762497005},17.696757946994243]
[{"$f":"'DNSP Inputs General'!B$120","v":"T5 2X14W"},{"$f":"'DNSP Inputs General'!D$120","v":0.87960989252886512},{"$f":"'DNSP Inputs General'!A$120","v":"Compact Fluorescent 32W"},{"$f":"D228*B235","v":228.94486282741298},153622.00295719411,{"$f":"'DNSP Inputs General'!T$120","v":671},{"$f":"IF((E$238+'Depn & WACC Post 2004 Central'!E$238)=0,0,E235/(E$238+'Depn & WACC Post 2004 Central'!E$238)*G$238)","v":4176.8243019694846},6.2247754127712138]
[{"$f":"'DNSP Inputs General'!B$121","v":"T5 2X14W"},{"$f":"'DNSP Inputs General'!D$121","v":0.87960989252886512},{"$f":"'DNSP Inputs General'!A$121","v":"Compact Fluorescent 42W"},{"$f":"D228*B236","v":228.94486282741298},754373.32301632571,{"$f":"'DNSP Inputs General'!T$121","v":3295},{"$f":"IF((E$238+'Depn & WACC Post 2004 Central'!E$238)=0,0,E236/(E$238+'Depn & WACC Post 2004 Central'!E$238)*G$238)","v":20510.634985081146},6.2247754127712129]
[]
[null,null,null,null,{"$f":"SUM(E228:E237)","v":11459779.309780052},{"$f":"SUM(F228:F237)","v":46539.446824581384},{"$f":"'Total RAB'!W$149","v":889317.12959415023},{"$f":"SUMPRODUCT(F228:F237,H228:H237)","v":311579.61616757367}]
[null,null,null,"Check",{"$f":"SUM(F239:I239)","v":0},{"$f":"ABS('DNSP Inputs General'!T$122-F238)","v":0},{"$f":"ABS(G238-SUM(G228:G237)-SUM('Depn & WACC Post 2004 Central'!G228:G237))","v":0},{"$f":"ABS(H238+'Depn & WACC Post 2004 Central'!H238-G238)","v":0}]
[]
[]
[null,null,{"$f":"'RAB 2001 to 2004 Central'!A$27","v":"Poles & Brackets"},{"$f":"D$83","v":"Weighted Average Volumes"},null,null,{"$f":"G$83","v":"Unitisation Poles & Brackets"}]
[null,null,"Total Poles & Brackets",{"$f":"'DNSP Inputs General'!$D$86*F199","v":7835.0959147999984},{"$f":"SUMPRODUCT('DNSP Inputs General'!$D$86:$D$107,'DNSP Inputs General'!T$86:T$107)+SUMPRODUCT('DNSP Inputs General'!$D$113:$D$121,'DNSP Inputs General'!T$113:T$121)","v":71192.635789239968},{"$f":"IF(E243=0,0,D243/E243*G243)","v":95297.973514939615},{"$f":"'Total RAB'!W$119-'Depn & WACC Post 2004 Central'!G$243","v":865913.32048484776},{"$f":"F243/F199","v":12.162961953653662}]
[]
[]
[]
[null,null,null,{"$f":"'DNSP Inputs General'!B$83","v":"North & East"}]
["DEPRECIATION AND RETURN",null,null,"Year",{"$f":"'DNSP Inputs General'!$U$2","v":"2026-06-30"}]
[]
[]
[{"$f":"'DNSP Inputs General'!B$85","v":"Reference Light"},{"$f":"'DNSP Inputs General'!D$85","v":"Price Factor"},{"$f":"'DNSP Inputs General'!A$85","v":"Existing Lights"},{"$f":"D$39","v":"WACC and Dep"},null,{"$f":"F$39","v":"Volumes"},{"$f":"G$39","v":"Unitisation - Luminaires"},null,{"$f":"I$39","v":"RAB WDV"}]
[{"$f":"'DNSP Inputs General'!B$86","v":"Mercury Vapour 80W"},{"$f":"'DNSP Inputs General'!D$86","v":1},{"$f":"'DNSP Inputs General'!A$86","v":"Mercury Vapour 80W"},{"$f":"'DNSP Inputs Capex'!$H$21","v":116.85},{"$f":"F252*D252","v":915530.95764437981},{"$f":"IF('DNSP Inputs General'!U$86=0,1/10^6,'DNSP Inputs General'!U$86)","v":7835.0959147999984},{"$f":"IF((E$276+'Depn & WACC Post 2004 Central'!E$276)=0,0,E252/(E$276+'Depn & WACC Post 2004 Central'!E$276)*G$276)","v":107338.72163383165},{"$f":"IF(F252=0,0,G252/F252)","v":13.69973294533327},{"$f":"IF(F252=0,0,E252/(E$276+'Depn & WACC Post 2004 Central'!E$276)*I$276/F252)","v":104.79919605566174}]
[{"$f":"'DNSP Inputs General'!B$87","v":"HP Sodium 150W"},{"$f":"'DNSP Inputs General'!D$87","v":1},{"$f":"'DNSP Inputs General'!A$87","v":"HP Sodium 150W"},{"$f":"'DNSP Inputs Capex'!$H$44","v":234.07},1785663.5967158386,{"$f":"IF('DNSP Inputs General'!U$87=0,1/10^6,'DNSP Inputs General'!U$87)","v":7628.7589042416312},{"$f":"IF((E$276+'Depn & WACC Post 2004 Central'!E$276)=0,0,E253/(E$276+'Depn & WACC Post 2004 Central'!E$276)*G$276)","v":209354.85156363092},27.442845447275637,{"$f":"IF(F253=0,0,E253/(E$276+'Depn & WACC Post 2004 Central'!E$276)*I$276/F253)","v":209.93023381042994}]
[{"$f":"'DNSP Inputs General'!B$88","v":"HP Sodium 250W"},{"$f":"'DNSP Inputs General'!D$88","v":1},{"$f":"'DNSP Inputs General'!A$88","v":"HP Sodium 250W"},{"$f":"'DNSP Inputs Capex'!$H$62","v":240.18},1665162.579126843,{"$f":"IF('DNSP Inputs General'!U$88=0,1/10^6,'DNSP Inputs General'!U$88)","v":6932.9776797686854},{"$f":"IF((E$276+'Depn & WACC Post 2004 Central'!E$276)=0,0,E254/(E$276+'Depn & WACC Post 2004 Central'!E$276)*G$276)","v":195227.06585023645},28.159194341550236,{"$f":"IF(F254=0,0,E254/(E$276+'Depn & WACC Post 2004 Central'!E$276)*I$276/F254)","v":215.41010619297253}]
[{"$f":"'DNSP Inputs General'!B$89","v":"Mercury Vapour 80W"},{"$f":"'DNSP Inputs General'!D$89","v":1.48},{"$f":"'DNSP Inputs General'!A$89","v":"Mercury Vapour 50W"},{"$f":"B255*IF(A255=C252,D252,IF(A255=C253,D253,D254))","v":172.93799999999999},14163.106064593445,{"$f":"'DNSP Inputs General'!U$89","v":81.897015488749986},{"$f":"IF((E$276+'Depn & WACC Post 2004 Central'!E$276)=0,0,E255/(E$276+'Depn & WACC Post 2004 Central'!E$276)*G$276)","v":1660.5115169992316},20.275604759093234,{"$f":"IF(F255=0,0,E255/(E$276+'Depn & WACC Post 2004 Central'!E$276)*I$276/F255)","v":155.10281016237937}]
[{"$f":"'DNSP Inputs General'!B$90","v":"Mercury Vapour 80W"},{"$f":"'DNSP Inputs General'!D$90","v":1.48},{"$f":"'DNSP Inputs General'!A$90","v":"Mercury Vapour 125W"},{"$f":"B256*IF(A256=C252,D252,IF(A256=C253,D253,D254))","v":172.93799999999999},4672.3648872885587,{"$f":"'DNSP Inputs General'!U$90","v":27.017572119999997},{"$f":"IF((E$276+'Depn & WACC Post 2004 Central'!E$276)=0,0,E256/(E$276+'Depn & WACC Post 2004 Central'!E$276)*G$276)","v":547.79761385541667},{"$f":"IF(F256=0,0,G256/F256)","v":20.275604759093238},{"$f":"IF(F256=0,0,E256/(E$276+'Depn & WACC Post 2004 Central'!E$276)*I$276/F256)","v":155.10281016237934}]
[{"$f":"'DNSP Inputs General'!B$91","v":"HP Sodium 250W"},{"$f":"'DNSP Inputs General'!D$91","v":1.04},{"$f":"'DNSP Inputs General'!A$91","v":"Mercury Vapour 250W"},{"$f":"B257*IF(A257=C252,D252,IF(A257=C253,D253,D254))","v":249.78720000000001},92372.060515811085,{"$f":"'DNSP Inputs General'!U$91","v":369.80301839250001},{"$f":"IF((E$276+'Depn & WACC Post 2004 Central'!E$276)=0,0,E257/(E$276+'Depn & WACC Post 2004 Central'!E$276)*G$276)","v":10829.889265526535},29.285562115212244,{"$f":"IF(F257=0,0,E257/(E$276+'Depn & WACC Post 2004 Central'!E$276)*I$276/F257)","v":224.0265104406914}]
[{"$f":"'DNSP Inputs General'!B$92","v":"HP Sodium 250W"},{"$f":"'DNSP Inputs General'!D$92","v":1.07},{"$f":"'DNSP Inputs General'!A$92","v":"Mercury Vapour 400W"},{"$f":"B258*IF(A258=C252,D252,IF(A258=C253,D253,D254))","v":256.99260000000004},32112.836984729194,{"$f":"'DNSP Inputs General'!U$92","v":124.95627105499999},{"$f":"IF((E$276+'Depn & WACC Post 2004 Central'!E$276)=0,0,E258/(E$276+'Depn & WACC Post 2004 Central'!E$276)*G$276)","v":3764.9746752914957},30.130337945458756,{"$f":"IF(F258=0,0,E258/(E$276+'Depn & WACC Post 2004 Central'!E$276)*I$276/F258)","v":230.48881362648061}]
[{"$f":"'DNSP Inputs General'!B$93","v":"HP Sodium 150W"},{"$f":"'DNSP Inputs General'!D$93","v":1.07},{"$f":"'DNSP Inputs General'!A$93","v":"HP Sodium 100W"},{"$f":"B259*IF(A259=C252,D252,IF(A259=C253,D253,D254))","v":250.45490000000001},181513.66486447703,{"$f":"'DNSP Inputs General'!U$93","v":724.73592995975332},{"$f":"IF((E$276+'Depn & WACC Post 2004 Central'!E$276)=0,0,E259/(E$276+'Depn & WACC Post 2004 Central'!E$276)*G$276)","v":21281.03324409121},29.363844628584935,{"$f":"IF(F259=0,0,E259/(E$276+'Depn & WACC Post 2004 Central'!E$276)*I$276/F259)","v":224.6253501771601}]
[{"$f":"'DNSP Inputs General'!B$94","v":"HP Sodium 250W"},{"$f":"'DNSP Inputs General'!D$94","v":1.42},{"$f":"'DNSP Inputs General'!A$94","v":"HP Sodium 400W"},{"$f":"B260*IF(A260=C252,D252,IF(A260=C253,D253,D254))","v":341.05559999999997},164253.98833337857,{"$f":"'DNSP Inputs General'!U$94","v":481.60472466477188},{"$f":"IF((E$276+'Depn & WACC Post 2004 Central'!E$276)=0,0,E260/(E$276+'Depn & WACC Post 2004 Central'!E$276)*G$276)","v":19257.473473454622},39.986055965001327,{"$f":"IF(F260=0,0,E260/(E$276+'Depn & WACC Post 2004 Central'!E$276)*I$276/F260)","v":305.88235079402091}]
[{"$f":"'DNSP Inputs General'!B$95","v":"Mercury Vapour 80W"},{"$f":"'DNSP Inputs General'!D$95","v":3.8044420368364027},{"$f":"'DNSP Inputs General'!A$95","v":"Metal Halide 70W"},{"$f":"B261*IF(A261=C252,D252,IF(A261=C253,D253,D254))","v":444.54905200433365},0,{"$f":"'DNSP Inputs General'!U$95","v":0},{"$f":"IF((E$276+'Depn & WACC Post 2004 Central'!E$276)=0,0,E261/(E$276+'Depn & WACC Post 2004 Central'!E$276)*G$276)","v":0},0,{"$f":"IF(F261=0,0,E261/(E$276+'Depn & WACC Post 2004 Central'!E$276)*I$276/F261)","v":0}]
[{"$f":"'DNSP Inputs General'!B$96","v":"HP Sodium 150W"},{"$f":"'DNSP Inputs General'!D$96","v":2.1180491097797653},{"$f":"'DNSP Inputs General'!A$96","v":"Metal Halide 100W"},{"$f":"B262*IF(A262=C252,D252,IF(A262=C253,D253,D254))","v":495.77175512614969},0,{"$f":"'DNSP Inputs General'!U$96","v":0},{"$f":"IF((E$276+'Depn & WACC Post 2004 Central'!E$276)=0,0,E262/(E$276+'Depn & WACC Post 2004 Central'!E$276)*G$276)","v":0},0,{"$f":"IF(F262=0,0,E262/(E$276+'Depn & WACC Post 2004 Central'!E$276)*I$276/F262)","v":0}]
[{"$f":"'DNSP Inputs General'!B$97","v":"HP Sodium 150W"},{"$f":"'DNSP Inputs General'!D$97","v":2.4062948274407225},{"$f":"'DNSP Inputs General'!A$97","v":"Metal Halide 150W"},{"$f":"B263*IF(A263=C252,D252,IF(A263=C253,D253,D254))","v":563.24143025904993},0,{"$f":"'DNSP Inputs General'!U$97","v":0},{"$f":"IF((E$276+'Depn & WACC Post 2004 Central'!E$276)=0,0,E263/(E$276+'Depn & WACC Post 2004 Central'!E$276)*G$276)","v":0},0,{"$f":"IF(F263=0,0,E263/(E$276+'Depn & WACC Post 2004 Central'!E$276)*I$276/F263)","v":0}]
[{"$f":"'DNSP Inputs General'!B$98","v":"HP Sodium 150W"},{"$f":"'DNSP Inputs General'!D$98","v":0.45472955868703063},{"$f":"'DNSP Inputs General'!A$98","v":"HP Sodium 50W"},{"$f":"B264*IF(A264=C252,D252,IF(A264=C253,D253,D254))","v":106.43854780187326},0,{"$f":"'DNSP Inputs General'!U$98","v":0},{"$f":"IF((E$276+'Depn & WACC Post 2004 Central'!E$276)=0,0,E264/(E$276+'Depn & WACC Post 2004 Central'!E$276)*G$276)","v":0},0,{"$f":"IF(F264=0,0,E264/(E$276+'Depn & WACC Post 2004 Central'!E$276)*I$276/F264)","v":0}]
[]
[]
[]
[]
[]
[]
[]
[]
[]
[]
[]
[null,null,null,null,{"$f":"SUM(E252:E275)","v":4855445.1551373396},{"$f":"SUM(F252:F275)","v":24206.847030491092},{"$f":"'Total RAB'!X$134","v":1596461.5230283083},{"$f":"SUMPRODUCT(F252:F275,H252:H275)","v":569262.3188369174},{"$f":"'Total RAB'!X$128","v":12212492.375930322}]
[null,null,null,"Check",{"$f":"SUM(F277:I277)","v":0},{"$f":"ABS('DNSP Inputs General'!U$110-F276)","v":0},{"$f":"ABS(G276-SUM(G252:G275)-SUM('Depn & WACC Post 2004 Central'!G252:G275))*IF(F276=0,0,1)","v":0},{"$f":"ABS(H276+'Depn & WACC Post 2004 Central'!H276-G276)*IF(F276=0,0,1)","v":0},{"$f":"ABS(I276-SUMPRODUCT(F252:F275,I252:I275)-SUMPRODUCT('Depn & WACC Post 2004 Central'!F252:F275,'Depn & WACC Post 2004 Central'!I252:I275))*IF(F276=0,0,1)","v":0}]
[]
[]
[{"$f":"'DNSP Inputs General'!A$112","v":"Energy Efficient Lights"},{"$f":"'DNSP Inputs General'!D$112","v":"Price Factor"},{"$f":"'DNSP Inputs General'!A$112","v":"Energy Efficient Lights"},{"$f":"D$68","v":"Unit cost"},null,{"$f":"F$68","v":"Volumes"},{"$f":"G$68","v":"Unitisation - Luminaires & Ballasts"}]
[{"$f":"'DNSP Inputs General'!B$113","v":"T5 2X14W"},{"$f":"'DNSP Inputs General'!D$113","v":1},{"$f":"'DNSP Inputs General'!A$113","v":"T5 2X14W"},{"$f":"'DNSP Inputs O & M'!$H$189","v":260.27999999999997},{"$f":"F281*D281","v":2061677.88},{"$f":"'DNSP Inputs General'!U$113","v":7921},{"$f":"IF((E$291+'Depn & WACC Post 2004 Central'!E$291)=0,0,E281/(E$291+'Depn & WACC Post 2004 Central'!E$291)*G$291)","v":59340.092808931979},{"$f":"IF(F281=0,0,G281/F281)","v":7.4914900655134424}]
[{"$f":"'DNSP Inputs General'!B$114","v":"T5 2X24W"},{"$f":"'DNSP Inputs General'!D$114","v":1},{"$f":"'DNSP Inputs General'!A$114","v":"T5 2X24W"},{"$f":"'DNSP Inputs O & M'!$H$238","v":267.33},{"$f":"F282*D282","v":307429.5},{"$f":"'DNSP Inputs General'!U$114","v":1150},{"$f":"IF((E$291+'Depn & WACC Post 2004 Central'!E$291)=0,0,E282/(E$291+'Depn & WACC Post 2004 Central'!E$291)*G$291)","v":8848.5671011824379},{"$f":"IF(F282=0,0,G282/F282)","v":7.6944061749412507}]
[{"$f":"'DNSP Inputs General'!B$115","v":"LED 18W"},{"$f":"'DNSP Inputs General'!D$115","v":1},{"$f":"'DNSP Inputs General'!A$115","v":"LED 18W"},{"$f":"'DNSP Inputs O & M'!$H$286","v":205},{"$f":"F283*D283","v":5827478.3527047094},{"$f":"'DNSP Inputs General'!U$115","v":28426.723671730288},{"$f":"IF((E$291+'Depn & WACC Post 2004 Central'!E$291)=0,0,E283/(E$291+'Depn & WACC Post 2004 Central'!E$291)*G$291)","v":167728.96951852608},{"$f":"IF(F283=0,0,G283/F283)","v":5.9003975081844775}]
[{"$f":"'DNSP Inputs General'!B$116","v":"LED 14W"},{"$f":"'DNSP Inputs General'!D$116","v":1},{"$f":"'DNSP Inputs General'!A$116","v":"LED 14W"},{"$f":"'DNSP Inputs O & M'!$H$332","v":205},2255,{"$f":"'DNSP Inputs General'!U$116","v":11},{"$f":"IF((E$291+'Depn & WACC Post 2004 Central'!E$291)=0,0,E284/(E$291+'Depn & WACC Post 2004 Central'!E$291)*G$291)","v":64.90437259002924},{"$f":"IF(F284=0,0,G284/F284)","v":5.9003975081844766}]
[{"$f":"'DNSP Inputs General'!B$117","v":"LED 70W-125W (L1)"},{"$f":"'DNSP Inputs General'!D$117","v":1},{"$f":"'DNSP Inputs General'!A$117","v":"LED 70W-125W (L1)"},{"$f":"'DNSP Inputs O & M'!$H$378","v":402},601827.77607010351,{"$f":"'DNSP Inputs General'!U$117","v":1497.0840200748844},{"$f":"IF((E$291+'Depn & WACC Post 2004 Central'!E$291)=0,0,E285/(E$291+'Depn & WACC Post 2004 Central'!E$291)*G$291)","v":17322.063952586555},11.570535601415411]
[{"$f":"'DNSP Inputs General'!B$118","v":"LED 155W-250W (L2)"},{"$f":"'DNSP Inputs General'!D$118","v":1},{"$f":"'DNSP Inputs General'!A$118","v":"LED 155W-250W (L2)"},{"$f":"'DNSP Inputs O & M'!$H$424","v":427},2272201.8398393104,{"$f":"'DNSP Inputs General'!U$118","v":5321.3157841670036},{"$f":"IF((E$291+'Depn & WACC Post 2004 Central'!E$291)=0,0,E286/(E$291+'Depn & WACC Post 2004 Central'!E$291)*G$291)","v":65399.483287219758},12.290096273145226]
[{"$f":"'DNSP Inputs General'!B$119","v":"LED 275W-400W (L4)"},{"$f":"'DNSP Inputs General'!D$119","v":1},{"$f":"'DNSP Inputs General'!A$119","v":"LED 275W-400W (L4)"},{"$f":"'DNSP Inputs O & M'!$H$470","v":650.88},116242.40667362376,{"$f":"'DNSP Inputs General'!U$119","v":178.59268478617219},{"$f":"IF((E$291+'Depn & WACC Post 2004 Central'!E$291)=0,0,E287/(E$291+'Depn & WACC Post 2004 Central'!E$291)*G$291)","v":3345.7385691825184},18.733906000620063]
[{"$f":"'DNSP Inputs General'!B$120","v":"T5 2X14W"},{"$f":"'DNSP Inputs General'!D$120","v":0.87960989252886512},{"$f":"'DNSP Inputs General'!A$120","v":"Compact Fluorescent 32W"},{"$f":"D281*B288","v":228.94486282741298},153622.00295719411,{"$f":"'DNSP Inputs General'!U$120","v":671},{"$f":"IF((E$291+'Depn & WACC Post 2004 Central'!E$291)=0,0,E288/(E$291+'Depn & WACC Post 2004 Central'!E$291)*G$291)","v":4421.6140656143243},6.5895887714073389]
[{"$f":"'DNSP Inputs General'!B$121","v":"T5 2X14W"},{"$f":"'DNSP Inputs General'!D$121","v":0.87960989252886512},{"$f":"'DNSP Inputs General'!A$121","v":"Compact Fluorescent 42W"},{"$f":"D281*B289","v":228.94486282741298},754373.32301632571,{"$f":"'DNSP Inputs General'!U$121","v":3295},{"$f":"IF((E$291+'Depn & WACC Post 2004 Central'!E$291)=0,0,E289/(E$291+'Depn & WACC Post 2004 Central'!E$291)*G$291)","v":21712.695001787179},6.589588771407338]
[]
[null,null,null,null,{"$f":"SUM(E281:E290)","v":12097108.081261264},{"$f":"SUM(F281:F290)","v":48471.716160758348},{"$f":"'Total RAB'!X$149","v":998404.62765085348},{"$f":"SUMPRODUCT(F281:F290,H281:H290)","v":348184.12867762084}]
[null,null,null,"Check",{"$f":"SUM(F292:I292)","v":1.1641532182693481E-10},{"$f":"ABS('DNSP Inputs General'!U$122-F291)","v":0},{"$f":"ABS(G291-SUM(G281:G290)-SUM('Depn & WACC Post 2004 Central'!G281:G290))","v":1.1641532182693481E-10},{"$f":"ABS(H291+'Depn & WACC Post 2004 Central'!H291-G291)","v":0}]
[]
[]
[null,null,{"$f":"'RAB 2001 to 2004 Central'!A$27","v":"Poles & Brackets"},{"$f":"D$83","v":"Weighted Average Volumes"},null,null,{"$f":"G$83","v":"Unitisation Poles & Brackets"}]
[null,null,"Total Poles & Brackets",{"$f":"'DNSP Inputs General'!$D$86*F252","v":7835.0959147999984},{"$f":"SUMPRODUCT('DNSP Inputs General'!$D$86:$D$107,'DNSP Inputs General'!U$86:U$107)+SUMPRODUCT('DNSP Inputs General'!$D$113:$D$121,'DNSP Inputs General'!U$113:U$121)","v":72529.919586237054},{"$f":"IF(E296=0,0,D296/E296*G296)","v":98527.438003841482},{"$f":"'Total RAB'!X$119-'Depn & WACC Post 2004 Central'!G$296","v":912073.98520264262},{"$f":"F296/F252","v":12.575141271433502}]

{"sheet":"Total RAB","index":16,"n_rows":162,"n_cols":24,"rows_kept":162,"cut":false,"hidden":false,"merged":[]}
[{"$f":"'DNSP Inputs O & M'!$A$3","v":"AusNet"},null,null,null,"Check",{"$f":"SUM(B162)","v":6.1467289924621582E-8}]
[]
["Total Public Lighting RAB"]
["Historical cost ($)"]
[]
[null,"Life (years)",2005,2006,2007,2008,2009,2010,2011,2012,2013,2014,2015,2016,2017,2018,2019,2020,{"$f":"'DNSP Inputs General'!P2","v":"HY2021"},{"$f":"'DNSP Inputs General'!Q2","v":"2022-06-30"},{"$f":"'DNSP Inputs General'!R2","v":"2023-06-30"},{"$f":"'DNSP Inputs General'!S2","v":"2024-06-30"},{"$f":"'DNSP Inputs General'!T2","v":"2025-06-30"},{"$f":"'DNSP Inputs General'!U2","v":"2026-06-30"}]
[]
["Capital Expenditure (Nominal $)"]
["(Net of customer contributions)"]
[]
["Poles and Brackets",{"$f":"'DNSP Inputs O & M'!$C$160","v":35},382620.48073362443,679083.51279141498,342454.50012480229,822296.52427371382,{"$f":"'DNSP Inputs General'!D6","v":945891.23557411402},{"$f":"'DNSP Inputs General'!E6","v":957809.46514234785},{"$f":"'DNSP Inputs General'!F6","v":880178.8893283339},{"$f":"'DNSP Inputs General'!G6","v":925158.84987236292},{"$f":"'DNSP Inputs General'!H6","v":998447.23143259203},{"$f":"'DNSP Inputs General'!I6","v":775787.61765560566},{"$f":"'DNSP Inputs General'!J6","v":1086336.9712855413},{"$f":"'DNSP Inputs General'!K6","v":1960186},{"$f":"'DNSP Inputs General'!L6","v":3550606.6064872313},{"$f":"'DNSP Inputs General'!M6","v":4528111},{"$f":"'DNSP Inputs General'!N6","v":2280467.5760703757},{"$f":"'DNSP Inputs General'!O6","v":2317131.1779765785},{"$f":"'DNSP Inputs General'!P6","v":1181527.8287529736},{"$f":"'DNSP Inputs General'!Q6*T$20","v":2368601.3107319665},{"$f":"'DNSP Inputs General'!R6*U$20","v":2423136.0270723808},{"$f":"'DNSP Inputs General'!S6*V$20","v":2480434.1716788691},{"$f":"'DNSP Inputs General'!T6*W$20","v":2542907.8065613117},{"$f":"'DNSP Inputs General'!U6*X$20","v":2612577.1088057677}]
[]
["Existing Lights"]
["Luminaires",{"$f":"'DNSP Inputs O & M'!$C$24","v":20},181379.51926637554,321916.48720858502,162405.4206197157,389965.41978608596,{"$f":"'DNSP Inputs General'!D9","v":448491.44047919766},{"$f":"'DNSP Inputs General'!E9","v":418018.41375785205},{"$f":"'DNSP Inputs General'!F9","v":-892269.53277506784},{"$f":"'DNSP Inputs General'!G9","v":258757.31488222803},{"$f":"'DNSP Inputs General'!H9","v":398955.56933179055},{"$f":"'DNSP Inputs General'!I9","v":829176.38234439434},{"$f":"'DNSP Inputs General'!J9","v":1161608.1294883217},{"$f":"'DNSP Inputs General'!K9","v":3323078},{"$f":"'DNSP Inputs General'!L9","v":3418777},{"$f":"'DNSP Inputs General'!M9","v":1644455},{"$f":"'DNSP Inputs General'!N9","v":770681.18242161151},{"$f":"'DNSP Inputs General'!O9","v":442221.25990150566},{"$f":"'DNSP Inputs General'!P9","v":0},{"$f":"'DNSP Inputs General'!Q9*T$20","v":1884325.6732913067},{"$f":"'DNSP Inputs General'!R9*U$20","v":1926984.219850688},{"$f":"'DNSP Inputs General'!S9*V$20","v":1971980.5653494082},{"$f":"'DNSP Inputs General'!T9*W$20","v":1010928.2192531246},{"$f":"'DNSP Inputs General'!U9*X$20","v":0}]
[]
["Energy Efficient Lights"]
["Luminaires and Ballasts",{"$f":"'DNSP Inputs O & M'!$C$182","v":20},null,null,null,null,{"$f":"'DNSP Inputs General'!D12","v":0},{"$f":"'DNSP Inputs General'!E12","v":1941138.4570565673},{"$f":"'DNSP Inputs General'!F12","v":0},{"$f":"'DNSP Inputs General'!G12","v":0},{"$f":"'DNSP Inputs General'!H12","v":0},{"$f":"'DNSP Inputs General'!I12","v":0},{"$f":"'DNSP Inputs General'!J12","v":0},{"$f":"'DNSP Inputs General'!K12","v":0},{"$f":"'DNSP Inputs General'!L12","v":0},{"$f":"'DNSP Inputs General'!M12","v":483844},{"$f":"'DNSP Inputs General'!N12","v":350497.938939541},{"$f":"'DNSP Inputs General'!O12","v":640010.64768795366},{"$f":"'DNSP Inputs General'!P12","v":2682244.4062899249},{"$f":"'DNSP Inputs General'!Q12*T$20","v":1212364.7429448576},{"$f":"'DNSP Inputs General'!R12*U$20","v":1208759.8622794412},{"$f":"'DNSP Inputs General'!S12*V$20","v":1200941.0480364992},{"$f":"'DNSP Inputs General'!T12*W$20","v":1313394.4203115599},{"$f":"'DNSP Inputs General'!U12*X$20","v":1451896.8674798768}]
[]
[]
["CPI Index",null,null,null,null,null,null,null,null,null,null,null,null,null,null,null,null,null,1,{"$f":"S20*(1+WACC!E$6)","v":1.0237430867891084},{"$f":"T20*(1+WACC!F$6)","v":1.0480499077484919},{"$f":"U20*(1+WACC!G$6)","v":1.0729338476674815},{"$f":"V20*(1+WACC!H$6)","v":1.0984086091316225},{"$f":"W20*(1+WACC!I$6)","v":1.1244882200681385}]
[]
["Year counter",null,0.5,{"$f":"C22+1","v":1.5},{"$f":"D22+1","v":2.5},3.5,4.5,5.5,6.5,7.5,8.5,9.5,10.5,11.5,12.5,13.5,14.5,15.5,{"$f":"R22+0.5","v":16},17,18,19,20,21]
["Depreciation",null,{"$f":"$C$6","v":2005},{"$f":"$D$6","v":2006},{"$f":"$E$6","v":2007},{"$f":"$F$6","v":2008},{"$f":"G$6","v":2009},{"$f":"H$6","v":2010},2011,2012,2013,2014,2015,2016,2017,2018,2019,2020,"HY2021","2022-06-30","2023-06-30","2024-06-30","2025-06-30","2026-06-30"]
[{"$f":"$A$11","v":"Poles and Brackets"}]
["RAB 2001-04",null,{"$f":"SUM('RAB 2001 to 2004 Central'!F114,'RAB 2001 to 2004 N & E'!F114)","v":138807.09768723094},{"$f":"SUM('RAB 2001 to 2004 Central'!G114,'RAB 2001 to 2004 N & E'!G114)","v":138807.09768723094},{"$f":"SUM('RAB 2001 to 2004 Central'!H114,'RAB 2001 to 2004 N & E'!H114)","v":138807.09768723094},{"$f":"SUM('RAB 2001 to 2004 Central'!I114,'RAB 2001 to 2004 N & E'!I114)","v":138807.09768723094},{"$f":"SUM('RAB 2001 to 2004 Central'!J114,'RAB 2001 to 2004 N & E'!J114)","v":138807.09768723094},{"$f":"SUM('RAB 2001 to 2004 Central'!K114,'RAB 2001 to 2004 N & E'!K114)","v":138807.09768723094},{"$f":"SUM('RAB 2001 to 2004 Central'!L114,'RAB 2001 to 2004 N & E'!L114)","v":138807.09768723094},{"$f":"SUM('RAB 2001 to 2004 Central'!M114,'RAB 2001 to 2004 N & E'!M114)","v":138807.09768723094},{"$f":"SUM('RAB 2001 to 2004 Central'!N114,'RAB 2001 to 2004 N & E'!N114)","v":138807.09768723094},{"$f":"SUM('RAB 2001 to 2004 Central'!O114,'RAB 2001 to 2004 N & E'!O114)","v":138807.09768723094},{"$f":"SUM('RAB 2001 to 2004 Central'!P114,'RAB 2001 to 2004 N & E'!P114)","v":138807.09768723094},{"$f":"SUM('RAB 2001 to 2004 Central'!Q114,'RAB 2001 to 2004 N & E'!Q114)","v":138807.09768723094},{"$f":"SUM('RAB 2001 to 2004 Central'!R114,'RAB 2001 to 2004 N & E'!R114)","v":138807.09768723094},{"$f":"SUM('RAB 2001 to 2004 Central'!S114,'RAB 2001 to 2004 N & E'!S114)","v":138807.09768723094},{"$f":"SUM('RAB 2001 to 2004 Central'!T114,'RAB 2001 to 2004 N & E'!T114)","v":138807.09768723094},{"$f":"SUM('RAB 2001 to 2004 Central'!U114,'RAB 2001 to 2004 N & E'!U114)","v":138807.09768723094},{"$f":"SUM('RAB 2001 to 2004 Central'!V114,'RAB 2001 to 2004 N & E'!V114)","v":69403.54884361547},{"$f":"SUM('RAB 2001 to 2004 Central'!W114,'RAB 2001 to 2004 N & E'!W114)","v":138807.09768723094},{"$f":"SUM('RAB 2001 to 2004 Central'!X114,'RAB 2001 to 2004 N & E'!X114)","v":138807.09768723094},{"$f":"SUM('RAB 2001 to 2004 Central'!Y114,'RAB 2001 to 2004 N & E'!Y114)","v":138807.09768723094},{"$f":"SUM('RAB 2001 to 2004 Central'!Z114,'RAB 2001 to 2004 N & E'!Z114)","v":138807.09768723094},{"$f":"SUM('RAB 2001 to 2004 Central'!AA114,'RAB 2001 to 2004 N & E'!AA114)","v":138807.09768723094}]
["Depn Capex 2005",null,{"$f":"C$11/$B$11/2","v":5466.0068676232058},{"$f":"C26*2","v":10932.013735246412},{"$f":"D26","v":10932.013735246412},10932.013735246412,10932.013735246412,10932.013735246412,10932.013735246412,10932.013735246412,10932.013735246412,10932.013735246412,{"$f":"L26","v":10932.013735246412},{"$f":"M26","v":10932.013735246412},{"$f":"N26","v":10932.013735246412},{"$f":"O26","v":10932.013735246412},{"$f":"P26","v":10932.013735246412},{"$f":"Q26","v":10932.013735246412},{"$f":"R26*0.5","v":5466.0068676232058},{"$f":"S26*2","v":10932.013735246412},{"$f":"T26","v":10932.013735246412},{"$f":"U26","v":10932.013735246412},{"$f":"V26","v":10932.013735246412},{"$f":"W26","v":10932.013735246412}]
["Depn Capex 2006",null,null,{"$f":"D$11/$B$11/2","v":9701.1930398773566},{"$f":"D27*2","v":19402.386079754713},{"$f":"E27","v":19402.386079754713},19402.386079754713,19402.386079754713,19402.386079754713,19402.386079754713,19402.386079754713,19402.386079754713,19402.386079754713,19402.386079754713,19402.386079754713,19402.386079754713,19402.386079754713,19402.386079754713,{"$f":"R27*0.5","v":9701.1930398773566},{"$f":"S27*2","v":19402.386079754713},19402.386079754713,19402.386079754713,19402.386079754713,19402.386079754713]
["Depn Capex 2007",null,null,null,{"$f":"E$11/$B$11/2","v":4892.2071446400323},{"$f":"E28*2","v":9784.4142892800646},{"$f":"F28","v":9784.4142892800646},9784.4142892800646,9784.4142892800646,9784.4142892800646,9784.4142892800646,9784.4142892800646,9784.4142892800646,9784.4142892800646,9784.4142892800646,9784.4142892800646,9784.4142892800646,9784.4142892800646,4892.2071446400323,9784.4142892800646,9784.4142892800646,9784.4142892800646,9784.4142892800646,9784.4142892800646]
["Depn Capex 2008",null,null,null,null,{"$f":"F$11/$B$11/2","v":11747.093203910197},{"$f":"F29*2","v":23494.186407820394},{"$f":"G29","v":23494.186407820394},23494.186407820394,23494.186407820394,23494.186407820394,23494.186407820394,23494.186407820394,23494.186407820394,23494.186407820394,23494.186407820394,23494.186407820394,23494.186407820394,11747.093203910197,23494.186407820394,23494.186407820394,23494.186407820394,23494.186407820394,23494.186407820394]
["Depn Capex 2009",null,null,null,null,null,{"$f":"G$11/$B$11/2","v":13512.731936773058},{"$f":"G30*2","v":27025.463873546116},{"$f":"H30","v":27025.463873546116},{"$f":"I30","v":27025.463873546116},{"$f":"J30","v":27025.463873546116},{"$f":"K30","v":27025.463873546116},27025.463873546116,27025.463873546116,27025.463873546116,27025.463873546116,27025.463873546116,27025.463873546116,13512.731936773058,27025.463873546116,27025.463873546116,27025.463873546116,27025.463873546116,27025.463873546116]
["Depn Capex 2010",null,null,null,null,null,null,{"$f":"H$11/$B$11/2","v":13682.992359176398},{"$f":"H31*2","v":27365.984718352796},{"$f":"I31","v":27365.984718352796},{"$f":"J31","v":27365.984718352796},{"$f":"K31","v":27365.984718352796},27365.984718352796,27365.984718352796,27365.984718352796,27365.984718352796,27365.984718352796,27365.984718352796,13682.992359176398,27365.984718352796,27365.984718352796,27365.984718352796,27365.984718352796,27365.984718352796]
["Depn Capex 2011",null,null,null,null,null,null,null,{"$f":"I$11/$B$11/2","v":12573.984133261913},{"$f":"I32*2","v":25147.968266523825},{"$f":"J32","v":25147.968266523825},{"$f":"K32","v":25147.968266523825},25147.968266523825,25147.968266523825,25147.968266523825,25147.968266523825,25147.968266523825,25147.968266523825,12573.984133261913,25147.968266523825,25147.968266523825,25147.968266523825,25147.968266523825,25147.968266523825]
["Depn Capex 2012",null,null,null,null,null,null,null,null,{"$f":"J$11/$B$11/2","v":13216.554998176613},{"$f":"J33*2","v":26433.109996353225},{"$f":"K33","v":26433.109996353225},{"$f":"L33","v":26433.109996353225},26433.109996353225,26433.109996353225,26433.109996353225,26433.109996353225,26433.109996353225,13216.554998176613,26433.109996353225,{"$f":"T33","v":26433.109996353225},26433.109996353225,26433.109996353225,26433.109996353225]
["Depn Capex 2013",null,null,null,null,null,null,null,null,null,{"$f":"K$11/$B$11/2","v":14263.531877608457},{"$f":"K34*2","v":28527.063755216914},28527.063755216914,28527.063755216914,28527.063755216914,28527.063755216914,28527.063755216914,28527.063755216914,14263.531877608457,28527.063755216914,{"$f":"T34","v":28527.063755216914},28527.063755216914,28527.063755216914,28527.063755216914]
["Depn Capex 2014",null,null,null,null,null,null,null,null,null,null,{"$f":"L$11/$B$11/2","v":11082.680252222937},{"$f":"L35*2","v":22165.360504445875},22165.360504445875,22165.360504445875,22165.360504445875,22165.360504445875,22165.360504445875,11082.680252222937,22165.360504445875,{"$f":"T35","v":22165.360504445875},22165.360504445875,22165.360504445875,22165.360504445875]
["Depn Capex 2015",null,null,null,null,null,null,null,null,null,null,null,{"$f":"M$11/$B$11/2","v":15519.099589793448},{"$f":"M36*2","v":31038.199179586896},31038.199179586896,31038.199179586896,31038.199179586896,31038.199179586896,15519.099589793448,31038.199179586896,{"$f":"T36","v":31038.199179586896},31038.199179586896,31038.199179586896,31038.199179586896]
["Depn Capex 2016",null,null,null,null,null,null,null,null,null,null,null,null,{"$f":"N$11/$B$11/2","v":28002.657142857144},{"$f":"N37*2","v":56005.314285714288},56005.314285714288,56005.314285714288,56005.314285714288,28002.657142857144,56005.314285714288,{"$f":"T37","v":56005.314285714288},56005.314285714288,56005.314285714288,56005.314285714288]
["Depn Capex 2017",null,null,null,null,null,null,null,null,null,null,null,null,null,{"$f":"O$11/$B$11/2","v":50722.951521246163},{"$f":"O38*2","v":101445.90304249233},101445.90304249233,101445.90304249233,50722.951521246163,101445.90304249233,{"$f":"T38","v":101445.90304249233},101445.90304249233,101445.90304249233,101445.90304249233]
["Depn Capex 2018",null,null,null,null,null,null,null,null,null,null,null,null,null,null,{"$f":"P$11/$B$11/2","v":64687.3},{"$f":"P39*2","v":129374.6},129374.6,64687.3,129374.6,{"$f":"T39","v":129374.6},129374.6,129374.6,129374.6]
["Depn Capex 2019",null,null,null,null,null,null,null,null,null,null,null,null,null,null,null,{"$f":"Q$11/$B$11/2","v":32578.108229576796},{"$f":"Q40*2","v":65156.216459153591},32578.108229576796,65156.216459153591,{"$f":"T40","v":65156.216459153591},65156.216459153591,65156.216459153591,65156.216459153591]
["Depn Capex 2020",null,null,null,null,null,null,null,null,null,null,null,null,null,null,null,null,{"$f":"R$11/$B$11/2","v":33101.873971093977},{"$f":"R41*2*0.5","v":33101.873971093977},66203.747942187954,{"$f":"T41","v":66203.747942187954},66203.747942187954,66203.747942187954,66203.747942187954]
["Depn Capex HY2021",null,null,null,null,null,null,null,null,null,null,null,null,null,null,null,null,null,{"$f":"S$11/$B$11/2*0.5","v":8439.4844910926677},{"$f":"S42*2*2","v":33757.937964370671},{"$f":"T42","v":33757.937964370671},33757.937964370671,33757.937964370671,33757.937964370671]
["Depn Capex 2021-22",null,null,null,null,null,null,null,null,null,null,null,null,null,null,null,null,null,null,{"$f":"T$11/$B$11/2","v":33837.161581885237},{"$f":"T43*2","v":67674.323163770474},67674.323163770474,{"$f":"V43","v":67674.323163770474},67674.323163770474]
["Depn Capex 2022-23",null,null,null,null,null,null,null,null,null,null,null,null,null,null,null,null,null,null,null,{"$f":"U$11/$B$11/2","v":34616.228958176871},{"$f":"U44*2","v":69232.457916353742},{"$f":"V44","v":69232.457916353742},69232.457916353742]
["Depn Capex 2023-24",null,null,null,null,null,null,null,null,null,null,null,null,null,null,null,null,null,null,null,null,{"$f":"V$11/$B$11/2","v":35434.773881126697},{"$f":"V45*2","v":70869.547762253394},70869.547762253394]
["Depn Capex 2024-25",null,null,null,null,null,null,null,null,null,null,null,null,null,null,null,null,null,null,null,null,null,{"$f":"W$11/$B$11/2","v":36327.254379447309},{"$f":"W46*2","v":72654.508758894619}]
["Depn Capex 2025-26",null,null,null,null,null,null,null,null,null,null,null,null,null,null,null,null,null,null,null,null,null,null,{"$f":"X$11/$B$11/2","v":37322.530125796678}]
["Total Depreciation",null,{"$f":"SUM(C25:C41)","v":144273.10455485416},{"$f":"SUM(D25:D41)","v":159440.30446235472},{"$f":"SUM(E25:E47)","v":174033.70464687209},{"$f":"SUM(F25:F47)","v":190673.00499542232},215932.83013610559,243128.55443205504,269385.53092449333,295176.07005593192,322656.15693171695,348002.36906154832,374604.14890356467,418125.90563621529,496851.51430031861,612261.76582156483,709527.1740511416,775207.15625181235,412593.99960254581,875904.12976916216,944357.52030922438,1014408.5231485278,1086170.5514091018,1159820.3359143459]
[]
[{"$f":"$A$13","v":"Existing Lights"}]
[{"$f":"$A$14","v":"Luminaires"}]
[{"$f":"A25","v":"RAB 2001-04"},null,{"$f":"SUM('RAB 2001 to 2004 Central'!F77,'RAB 2001 to 2004 N & E'!F77)","v":289293.14017705631},{"$f":"SUM('RAB 2001 to 2004 Central'!G77,'RAB 2001 to 2004 N & E'!G77)","v":289293.14017705631},{"$f":"SUM('RAB 2001 to 2004 Central'!H77,'RAB 2001 to 2004 N & E'!H77)","v":289293.14017705631},{"$f":"SUM('RAB 2001 to 2004 Central'!I77,'RAB 2001 to 2004 N & E'!I77)","v":289293.14017705631},{"$f":"SUM('RAB 2001 to 2004 Central'!J77,'RAB 2001 to 2004 N & E'!J77)","v":289293.14017705631},{"$f":"SUM('RAB 2001 to 2004 Central'!K77,'RAB 2001 to 2004 N & E'!K77)","v":289293.14017705631},{"$f":"SUM('RAB 2001 to 2004 Central'!L77,'RAB 2001 to 2004 N & E'!L77)","v":289293.14017705631},{"$f":"SUM('RAB 2001 to 2004 Central'!M77,'RAB 2001 to 2004 N & E'!M77)","v":289293.14017705631},{"$f":"SUM('RAB 2001 to 2004 Central'!N77,'RAB 2001 to 2004 N & E'!N77)","v":289293.14017705631},{"$f":"SUM('RAB 2001 to 2004 Central'!O77,'RAB 2001 to 2004 N & E'!O77)","v":289293.14017705631},{"$f":"SUM('RAB 2001 to 2004 Central'!P77,'RAB 2001 to 2004 N & E'!P77)","v":289293.14017705631},{"$f":"SUM('RAB 2001 to 2004 Central'!Q77,'RAB 2001 to 2004 N & E'!Q77)","v":289293.14017705631},{"$f":"SUM('RAB 2001 to 2004 Central'!R77,'RAB 2001 to 2004 N & E'!R77)","v":289293.14017705631},{"$f":"SUM('RAB 2001 to 2004 Central'!S77,'RAB 2001 to 2004 N & E'!S77)","v":289293.14017705631},{"$f":"SUM('RAB 2001 to 2004 Central'!T77,'RAB 2001 to 2004 N & E'!T77)","v":289293.14017705631},{"$f":"SUM('RAB 2001 to 2004 Central'!U77,'RAB 2001 to 2004 N & E'!U77)","v":289293.14017705631},{"$f":"SUM('RAB 2001 to 2004 Central'!V77,'RAB 2001 to 2004 N & E'!V77)","v":144646.57008852815},{"$f":"SUM('RAB 2001 to 2004 Central'!W77,'RAB 2001 to 2004 N & E'!W77)","v":289293.14017705631},{"$f":"SUM('RAB 2001 to 2004 Central'!X77,'RAB 2001 to 2004 N & E'!X77)","v":144646.57008852815},{"$f":"SUM('RAB 2001 to 2004 Central'!Y77,'RAB 2001 to 2004 N & E'!Y77)","v":0},{"$f":"SUM('RAB 2001 to 2004 Central'!Z77,'RAB 2001 to 2004 N & E'!Z77)","v":0},{"$f":"SUM('RAB 2001 to 2004 Central'!AA77,'RAB 2001 to 2004 N & E'!AA77)","v":0}]
[{"$f":"A26","v":"Depn Capex 2005"},null,{"$f":"C$14/$B$14/2","v":4534.4879816593884},{"$f":"C53*2","v":9068.9759633187768},{"$f":"D53","v":9068.9759633187768},9068.9759633187768,9068.9759633187768,9068.9759633187768,9068.9759633187768,9068.9759633187768,9068.9759633187768,9068.9759633187768,{"$f":"L53","v":9068.9759633187768},{"$f":"M53","v":9068.9759633187768},{"$f":"N53","v":9068.9759633187768},{"$f":"O53","v":9068.9759633187768},{"$f":"P53","v":9068.9759633187768},{"$f":"Q53","v":9068.9759633187768},{"$f":"R53*0.5","v":4534.4879816593884},{"$f":"S53*2","v":9068.9759633187768},{"$f":"T53","v":9068.9759633187768},{"$f":"U53","v":9068.9759633187768},{"$f":"V53","v":9068.9759633187768},{"$f":"W53","v":9068.9759633187768}]
["Depn Capex 2006",null,null,{"$f":"D$14/$B$14/2","v":8047.9121802146256},{"$f":"D54*2","v":16095.824360429251},{"$f":"E54","v":16095.824360429251},16095.824360429251,16095.824360429251,16095.824360429251,16095.824360429251,16095.824360429251,16095.824360429251,16095.824360429251,16095.824360429251,16095.824360429251,16095.824360429251,16095.824360429251,16095.824360429251,{"$f":"R54*0.5","v":8047.9121802146256},{"$f":"S54*2","v":16095.824360429251},16095.824360429251,16095.824360429251,16095.824360429251,16095.824360429251]
["Depn Capex 2007",null,null,null,{"$f":"E$14/$B$14/2","v":4060.1355154928924},{"$f":"E55*2","v":8120.2710309857848},{"$f":"F55","v":8120.2710309857848},8120.2710309857848,8120.2710309857848,8120.2710309857848,8120.2710309857848,8120.2710309857848,8120.2710309857848,8120.2710309857848,8120.2710309857848,8120.2710309857848,8120.2710309857848,8120.2710309857848,4060.1355154928924,8120.2710309857848,8120.2710309857848,8120.2710309857848,8120.2710309857848,8120.2710309857848]
["Depn Capex 2008",null,null,null,null,{"$f":"F$14/$B$14/2","v":9749.1354946521496},{"$f":"F56*2","v":19498.270989304299},{"$f":"G56","v":19498.270989304299},19498.270989304299,19498.270989304299,19498.270989304299,19498.270989304299,19498.270989304299,19498.270989304299,19498.270989304299,19498.270989304299,19498.270989304299,19498.270989304299,9749.1354946521496,19498.270989304299,19498.270989304299,19498.270989304299,19498.270989304299,19498.270989304299]
["Depn Capex 2009",null,null,null,null,null,{"$f":"G$14/$B$14/2","v":11212.286011979941},{"$f":"G57*2","v":22424.572023959881},{"$f":"H57","v":22424.572023959881},{"$f":"I57","v":22424.572023959881},{"$f":"J57","v":22424.572023959881},{"$f":"K57","v":22424.572023959881},22424.572023959881,22424.572023959881,22424.572023959881,22424.572023959881,22424.572023959881,22424.572023959881,11212.286011979941,22424.572023959881,22424.572023959881,22424.572023959881,22424.572023959881,22424.572023959881]
["Depn Capex 2010",null,null,null,null,null,null,{"$f":"H$14/$B$14/2","v":10450.460343946301},{"$f":"H58*2","v":20900.920687892602},{"$f":"I58","v":20900.920687892602},{"$f":"J58","v":20900.920687892602},{"$f":"K58","v":20900.920687892602},20900.920687892602,20900.920687892602,20900.920687892602,20900.920687892602,20900.920687892602,20900.920687892602,10450.460343946301,20900.920687892602,20900.920687892602,20900.920687892602,20900.920687892602,20900.920687892602]
["Depn Capex 2011",null,null,null,null,null,null,null,{"$f":"I$14/$B$14/2","v":-22306.738319376695},{"$f":"I59*2","v":-44613.476638753389},{"$f":"J59","v":-44613.476638753389},{"$f":"K59","v":-44613.476638753389},-44613.476638753389,-44613.476638753389,-44613.476638753389,-44613.476638753389,-44613.476638753389,-44613.476638753389,-22306.738319376695,-44613.476638753389,-44613.476638753389,-44613.476638753389,-44613.476638753389,-44613.476638753389]
["Depn Capex 2012",null,null,null,null,null,null,null,null,{"$f":"J$14/$B$14/2","v":6468.9328720557005},{"$f":"J60*2","v":12937.865744111401},{"$f":"K60","v":12937.865744111401},12937.865744111401,12937.865744111401,12937.865744111401,12937.865744111401,12937.865744111401,12937.865744111401,6468.9328720557005,12937.865744111401,12937.865744111401,12937.865744111401,12937.865744111401,12937.865744111401]
["Depn Capex 2013",null,null,null,null,null,null,null,null,null,{"$f":"K$14/$B$14/2","v":9973.8892332947635},{"$f":"K61*2","v":19947.778466589527},19947.778466589527,19947.778466589527,19947.778466589527,19947.778466589527,19947.778466589527,19947.778466589527,9973.8892332947635,19947.778466589527,19947.778466589527,19947.778466589527,19947.778466589527,19947.778466589527]
["Depn Capex 2014",null,null,null,null,null,null,null,null,null,null,{"$f":"L$14/$B$14/2","v":20729.409558609859},{"$f":"L62*2","v":41458.819117219718},{"$f":"M62","v":41458.819117219718},{"$f":"N62","v":41458.819117219718},{"$f":"O62","v":41458.819117219718},{"$f":"P62","v":41458.819117219718},{"$f":"Q62","v":41458.819117219718},20729.409558609859,41458.819117219718,{"$f":"T62","v":41458.819117219718},{"$f":"U62","v":41458.819117219718},{"$f":"V62","v":41458.819117219718},{"$f":"W62","v":41458.819117219718}]
["Depn Capex 2015",null,null,null,null,null,null,null,null,null,null,null,{"$f":"M$14/$B$14/2","v":29040.203237208043},{"$f":"M63*2","v":58080.406474416086},58080.406474416086,58080.406474416086,{"$f":"P63","v":58080.406474416086},{"$f":"Q63","v":58080.406474416086},29040.203237208043,58080.406474416086,{"$f":"T63","v":58080.406474416086},{"$f":"U63","v":58080.406474416086},{"$f":"V63","v":58080.406474416086},{"$f":"W63","v":58080.406474416086}]
["Depn Capex 2016",null,null,null,null,null,null,null,null,null,null,null,null,{"$f":"N$14/$B$14/2","v":83076.95},{"$f":"N64*2","v":166153.9},166153.9,166153.9,166153.9,83076.95,166153.9,166153.9,166153.9,166153.9,166153.9]
["Depn Capex 2017",null,null,null,null,null,null,null,null,null,null,null,null,null,{"$f":"O$14/$B$14/2","v":85469.425000000003},{"$f":"O65*2","v":170938.85},170938.85,170938.85,85469.425000000003,170938.85,170938.85,170938.85,170938.85,170938.85]
["Depn Capex 2018",null,null,null,null,null,null,null,null,null,null,null,null,null,null,{"$f":"P$14/$B$14/2","v":41111.375},{"$f":"P66*2","v":82222.75},{"$f":"Q66","v":82222.75},41111.375,82222.75,{"$f":"T66","v":82222.75},{"$f":"U66","v":82222.75},{"$f":"V66","v":82222.75},{"$f":"W66","v":82222.75}]
["Depn Capex 2019",null,null,null,null,null,null,null,null,null,null,null,null,null,null,null,{"$f":"Q$14/$B$14/2","v":19267.029560540286},19267.029560540286,9633.5147802701431,19267.029560540286,19267.029560540286,19267.029560540286,19267.029560540286,19267.029560540286]
["Depn Capex 2020",null,null,null,null,null,null,null,null,null,null,null,null,null,null,null,null,{"$f":"R$14/$B$14/2","v":11055.531497537642},{"$f":"R68*2*0.5","v":11055.531497537642},22111.062995075285,{"$f":"T68","v":22111.062995075285},{"$f":"U68","v":22111.062995075285},{"$f":"V68","v":22111.062995075285},{"$f":"W68","v":22111.062995075285}]
["Depn Capex HY2021",null,null,null,null,null,null,null,null,null,null,null,null,null,null,null,null,null,{"$f":"S$14/$B$14/2*0.5","v":0},{"$f":"S69*2*2","v":0},{"$f":"T69","v":0},{"$f":"U69","v":0},{"$f":"V69","v":0},{"$f":"W69","v":0}]
["Depn Capex 2021-22",null,null,null,null,null,null,null,null,null,null,null,null,null,null,null,null,null,null,{"$f":"T$14/$B$14/2","v":47108.141832282665},{"$f":"T70*2","v":94216.28366456533},{"$f":"U70","v":94216.28366456533},{"$f":"V70","v":94216.28366456533},{"$f":"W70","v":94216.28366456533}]
["Depn Capex 2022-23",null,null,null,null,null,null,null,null,null,null,null,null,null,null,null,null,null,null,null,{"$f":"U$14/$B$14/2","v":48174.605496267199},{"$f":"U71*2","v":96349.210992534398},{"$f":"V71","v":96349.210992534398},{"$f":"W71","v":96349.210992534398}]
["Depn Capex 2023-24",null,null,null,null,null,null,null,null,null,null,null,null,null,null,null,null,null,null,null,null,{"$f":"V$14/$B$14/2","v":49299.514133735203},{"$f":"V72*2","v":98599.028267470407},98599.028267470407]
["Depn Capex 2024-25",null,null,null,null,null,null,null,null,null,null,null,null,null,null,null,null,null,null,null,null,null,{"$f":"W$14/$B$14/2","v":25273.205481328114},{"$f":"W73*2","v":50546.410962656228}]
["Depn Capex 2025-26",null,null,null,null,null,null,null,null,null,null,null,null,null,null,null,null,null,null,null,null,null,null,{"$f":"X$14/$B$14/2","v":0}]
["Total Depreciation",null,{"$f":"SUM(C52:C68)","v":293827.62815871567},306410.02832058968,{"$f":"SUM(E52:E74)","v":318518.07601629721},{"$f":"SUM(F52:F74)","v":332327.34702644229},353288.76853307436,374951.51488900062,363095.2369135702,347257.43146624923,363700.25357159972,394403.55236350436,444173.1651593222,556290.31839653023,724836.69339653035,851417.49339653028,911795.89795707061,922851.42945460824,466953.48047607293,981015.10278442851,931651.28002445016,884478.82956592448,959051.54918098776,984324.75466231594]
[]
[{"$f":"$A$16","v":"Energy Efficient Lights"}]
[{"$f":"$A$17","v":"Luminaires and Ballasts"}]
[{"$f":"A52","v":"RAB 2001-04"}]
[{"$f":"A53","v":"Depn Capex 2005"}]
["Depn Capex 2006"]
["Depn Capex 2007"]
["Depn Capex 2008"]
["Depn Capex 2009",null,null,null,null,null,{"$f":"G$17/$B$17/2","v":0},{"$f":"G84*2","v":0},{"$f":"H84","v":0},{"$f":"I84","v":0},{"$f":"J84","v":0},{"$f":"K84","v":0},{"$f":"L84","v":0},0,0,0,0,0,{"$f":"R84*0.5","v":0},{"$f":"S84*2","v":0},0,0,0,0]
["Depn Capex 2010",null,null,null,null,null,null,{"$f":"H$17/$B$17/2","v":48528.461426414186},{"$f":"H85*2","v":97056.922852828371},{"$f":"I85","v":97056.922852828371},{"$f":"J85","v":97056.922852828371},{"$f":"K85","v":97056.922852828371},{"$f":"L85","v":97056.922852828371},97056.922852828371,97056.922852828371,97056.922852828371,97056.922852828371,97056.922852828371,{"$f":"R85*0.5","v":48528.461426414186},{"$f":"S85*2","v":97056.922852828371},97056.922852828371,97056.922852828371,97056.922852828371,97056.922852828371]
["Depn Capex 2011",null,null,null,null,null,null,null,{"$f":"I$17/$B$17/2","v":0},{"$f":"I86*2","v":0},{"$f":"J86","v":0},{"$f":"K86","v":0},{"$f":"L86","v":0},0,0,0,0,0,0,0,0,0,0,0]
["Depn Capex 2012",null,null,null,null,null,null,null,null,{"$f":"J$17/$B$17/2","v":0},{"$f":"J87*2","v":0},{"$f":"K87","v":0},{"$f":"L87","v":0},0,0,0,0,0,0,0,0,0,0,0]
["Depn Capex 2013",null,null,null,null,null,null,null,null,null,{"$f":"K$17/$B$17/2","v":0},{"$f":"K88*2","v":0},{"$f":"L88","v":0},0,0,0,0,0,0,0,0,0,0,0]
["Depn Capex 2014",null,null,null,null,null,null,null,null,null,null,{"$f":"L$17/$B$17/2","v":0},{"$f":"L89","v":0},0,0,0,0,0,0,0,0,0,0,0]
["Depn Capex 2015",null,null,null,null,null,null,null,null,null,null,null,{"$f":"M$17/$B$17/2","v":0},{"$f":"M90*2","v":0},0,0,0,0,0,0,0,0,0,0]
["Depn Capex 2016",null,null,null,null,null,null,null,null,null,null,null,null,{"$f":"N$17/$B$17/2","v":0},{"$f":"N91*2","v":0},0,0,0,0,0,{"$f":"T91","v":0},0,0,0]
["Depn Capex 2017",null,null,null,null,null,null,null,null,null,null,null,null,null,{"$f":"O$17/$B$17/2","v":0},{"$f":"O92*2","v":0},0,0,0,0,{"$f":"T92","v":0},0,0,0]
["Depn Capex 2018",null,null,null,null,null,null,null,null,null,null,null,null,null,null,{"$f":"P$17/$B$17/2","v":12096.1},{"$f":"P93*2","v":24192.2},24192.2,12096.1,24192.2,{"$f":"T93","v":24192.2},24192.2,24192.2,24192.2]
["Depn Capex 2019",null,null,null,null,null,null,null,null,null,null,null,null,null,null,null,{"$f":"Q$17/$B$17/2","v":8762.4484734885245},{"$f":"Q94*2","v":17524.896946977049},8762.4484734885245,17524.896946977049,{"$f":"T94","v":17524.896946977049},17524.896946977049,17524.896946977049,17524.896946977049]
["Depn Capex 2020",null,null,null,null,null,null,null,null,null,null,null,null,null,null,null,null,{"$f":"R$17/$B$17/2","v":16000.266192198842},{"$f":"R95*2*0.5","v":16000.266192198842},{"$f":"S95*2","v":32000.532384397684},32000.532384397684,32000.532384397684,32000.532384397684,32000.532384397684]
["Depn Capex HY2021",null,null,null,null,null,null,null,null,null,null,null,null,null,null,null,null,null,{"$f":"S$17/$B$17/2*0.5","v":33528.055078624064},{"$f":"S96*2*2","v":134112.22031449626},134112.22031449626,134112.22031449626,134112.22031449626,134112.22031449626]
["Depn Capex 2021-22",null,null,null,null,null,null,null,null,null,null,null,null,null,null,null,null,null,null,{"$f":"T$17/$B$17/2","v":30309.118573621439},{"$f":"T97*2","v":60618.237147242879},{"$f":"U97","v":60618.237147242879},60618.237147242879,60618.237147242879]
["Depn Capex 2022-23",null,null,null,null,null,null,null,null,null,null,null,null,null,null,null,null,null,null,null,{"$f":"U$17/$B$17/2","v":30218.996556986029},{"$f":"U98*2","v":60437.993113972057},60437.993113972057,{"$f":"W98","v":60437.993113972057}]
["Depn Capex 2023-24",null,null,null,null,null,null,null,null,null,null,null,null,null,null,null,null,null,null,null,null,{"$f":"V$17/$B$17/2","v":30023.526200912478},{"$f":"V99*2","v":60047.052401824956},{"$f":"W99","v":60047.052401824956}]
["Depn Capex 2024-25",null,null,null,null,null,null,null,null,null,null,null,null,null,null,null,null,null,null,null,null,null,{"$f":"W$17/$B$17/2","v":32834.860507788995},{"$f":"W100*2","v":65669.72101557799}]
["Depn Capex 2025-26",null,null,null,null,null,null,null,null,null,null,null,null,null,null,null,null,null,null,null,null,null,null,{"$f":"X$17/$B$17/2","v":36297.421686996924}]
["Total Depreciation",null,{"$f":"SUM(C79:C95)","v":0},0,{"$f":"SUM(E79:E101)","v":0},{"$f":"SUM(F79:F101)","v":0},0,48528.461426414186,97056.922852828371,97056.922852828371,97056.922852828371,97056.922852828371,97056.922852828371,97056.922852828371,97056.922852828371,109153.02285282838,130011.57132631689,154774.28599200427,118915.33117072562,335195.89107232081,395724.00620292826,455966.52896082681,518824.9156695283,587957.19786431419]
[]
[]
["Nominal pre tax WACC",null,null,null,null,null,null,null,null,null,null,null,null,null,null,null,null,null,null,{"$f":"WACC!E$8","v":4.8182086034950888E-2},{"$f":"WACC!F$8","v":4.8182086034950888E-2},{"$f":"WACC!G$8","v":4.8182086034950888E-2},{"$f":"WACC!H$8","v":4.8182086034950888E-2},{"$f":"WACC!I$8","v":4.8182086034950888E-2}]
[]
[]
[{"$f":"$A$11","v":"Poles and Brackets"}]
["RAB",null,{"$f":"$C$6","v":2005},{"$f":"$D$6","v":2006},{"$f":"$E$6","v":2007},{"$f":"$F$6","v":2008},{"$f":"G$6","v":2009},{"$f":"H$6","v":2010},2011,2012,2013,2014,2015,2016,2017,2018,2019,2020,"HY2021","2022-06-30","2023-06-30","2024-06-30","2025-06-30","2026-06-30"]
["Opening RAB",null,{"$f":"SUM('RAB 2001 to 2004 Central'!E114,'RAB 2001 to 2004 N & E'!E114)","v":4580634.2236786205},{"$f":"C113","v":4818981.5998573909},5338624.808186451,5507045.6036643805,6138669.1229426721,6868627.5283806808,7583308.4390909737,8194101.7974948138,8824084.5773112457,9499875.6518121213,{"$f":"L113","v":9927660.9004061781},{"$f":"M113","v":10639393.722788153},{"$f":"N113","v":12181453.817151938},{"$f":"O113","v":15235208.909338851},{"$f":"P113","v":19151058.143517286},{"$f":"Q113","v":20721998.545536518},{"$f":"R113","v":22263922.567261286},{"$f":"S113","v":23032856.396411713},{"$f":"T113","v":24525553.577374518},{"$f":"U113","v":26004332.084137674},{"$f":"V113","v":27470357.732668012},{"$f":"W113","v":28927094.987820223}]
["Additional Capex",null,{"$f":"C$11","v":382620.48073362443},679083.51279141498,342454.50012480229,822296.52427371382,945891.23557411402,957809.46514234785,880178.8893283339,925158.84987236292,998447.23143259203,775787.61765560566,1086336.9712855413,1960186,3550606.6064872313,4528111,2280467.5760703757,2317131.1779765785,1181527.8287529736,2368601.3107319665,2423136.0270723808,2480434.1716788691,2542907.8065613117,2612577.1088057677]
["Depreciation",null,{"$f":"C$48","v":144273.10455485416},159440.30446235472,174033.70464687209,190673.00499542232,215932.83013610559,243128.55443205504,269385.53092449333,295176.07005593192,322656.15693171695,348002.36906154832,374604.14890356467,418125.90563621529,496851.51430031861,612261.76582156483,709527.1740511416,775207.15625181235,412593.99960254581,875904.12976916216,944357.52030922438,1014408.5231485278,1086170.5514091018,1159820.3359143459]
["Closing RAB",null,{"$f":"C110+C111-C112","v":4818981.5998573909},5338624.808186451,5507045.6036643805,6138669.1229426721,6868627.5283806808,7583308.4390909737,8194101.7974948138,8824084.5773112457,9499875.6518121213,9927660.9004061781,{"$f":"M110+M111-M112","v":10639393.722788153},12181453.817151938,15235208.909338851,19151058.143517286,20721998.545536518,22263922.567261286,23032856.396411713,{"$f":"T110+T111-T112","v":24525553.577374518},26004332.084137674,27470357.732668012,28927094.987820223,30379851.760711644]
["Average RAB",null,{"$f":"SUM(C110,C113)/2","v":4699807.9117680062},5078803.2040219214,5422835.2059254162,5822857.3633035263,{"$f":"SUM(G110,G113)/2","v":6503648.325661676},7225967.9837358277,7888705.1182928942,8509093.1874030307,9161980.1145616844,9713768.2761091497,{"$f":"SUM(M110,M113)/2","v":10283527.311597165},11410423.769970044,13708331.363245394,17193133.526428066,19936528.344526902,21492960.556398902,22648389.481836498,23779204.986893117,25264942.830756098,26737344.908402845,28198726.360244118,29653473.374265932]
[]
["Total Value to be recovered by change in unit rates",null,null,null,null,null,null,null,null,null,null,null,null,null,null,null,null,null,null,{"$f":"T$6","v":44742},45107,45473,45838,46203]
["Depreciation",null,null,null,null,null,null,null,null,null,null,null,null,null,null,null,null,null,null,{"$f":"T112","v":875904.12976916216},{"$f":"U112","v":944357.52030922438},{"$f":"V112","v":1014408.5231485278},{"$f":"W112","v":1086170.5514091018},{"$f":"X112","v":1159820.3359143459}]
["ROA",null,null,null,null,null,null,null,null,null,null,null,null,null,null,null,null,null,null,{"$f":"T$105*T114","v":1145731.7005212174},{"$f":"U$105*U114","v":1217317.6491396059},1288261.0527228219,1358673.4595653196,1428766.2053540065]
[null,null,null,null,null,null,null,null,null,null,null,null,null,null,null,null,null,null,null,{"$f":"SUM(T117:T118)","v":2021635.8302903795},2161675.1694488302,2302669.5758713498,2444844.0109744212,2588586.5412683524]
[]
[]
[{"$f":"$A$13","v":"Existing Lights"}]
[{"$f":"$A$14","v":"Luminaires"}]
["RAB",null,{"$f":"$C$6","v":2005},{"$f":"$D$6","v":2006},{"$f":"$E$6","v":2007},{"$f":"$F$6","v":2008},{"$f":"G$6","v":2009},{"$f":"H$6","v":2010},2011,2012,2013,2014,2015,2016,2017,2018,2019,2020,"HY2021","2022-06-30","2023-06-30","2024-06-30","2025-06-30","2026-06-30"]
["Opening RAB",null,{"$f":"SUM('RAB 2001 to 2004 Central'!E77,'RAB 2001 to 2004 N & E'!E77)","v":5207276.5231870133},{"$f":"C128","v":5094828.4142946731},5110334.8731826684,4954222.2177860867,5011860.2905457309,5107062.9624918541,5150129.8613607055,3894765.0916720675,3806264.9750880464,3841520.2908482375,{"$f":"L128","v":4276293.1208291268},{"$f":"M128","v":4993728.0851581264},{"$f":"N128","v":7760515.7667615963},{"$f":"O128","v":10454456.073365066},{"$f":"P128","v":11247493.579968536},{"$f":"Q128","v":11106378.864433078},{"$f":"R128","v":10625748.694879975},{"$f":"S128","v":10158795.214403903},{"$f":"T128","v":11062105.784910781},{"$f":"U128","v":12057438.724737018},{"$f":"V128","v":13144940.460520502},{"$f":"W128","v":13196817.130592639}]
["Additional Capex",null,{"$f":"C$14","v":181379.51926637554},321916.48720858502,162405.4206197157,389965.41978608596,448491.44047919766,418018.41375785205,-892269.53277506784,258757.31488222803,398955.56933179055,829176.38234439434,1161608.1294883217,3323078,3418777,1644455,770681.18242161151,442221.25990150566,0,1884325.6732913067,1926984.219850688,1971980.5653494082,1010928.2192531246,0]
["Depreciation",null,{"$f":"C$75","v":293827.62815871567},306410.02832058968,318518.07601629721,332327.34702644229,353288.76853307436,374951.51488900062,363095.2369135702,347257.43146624923,363700.25357159972,394403.55236350436,444173.1651593222,556290.31839653023,724836.69339653035,851417.49339653028,911795.89795707061,922851.42945460824,466953.48047607293,981015.10278442851,931651.28002445016,884478.82956592448,959051.54918098776,984324.75466231594]
["Closing RAB",null,{"$f":"C125+C126-C127","v":5094828.4142946731},5110334.8731826684,4954222.2177860867,5011860.2905457309,5107062.9624918541,5150129.8613607055,3894765.0916720675,3806264.9750880464,3841520.2908482375,4276293.1208291268,{"$f":"M125+M126-M127","v":4993728.0851581264},7760515.7667615963,10454456.073365066,11247493.579968536,11106378.864433078,10625748.694879975,10158795.214403903,{"$f":"T125+T126-T127","v":11062105.784910781},12057438.724737018,13144940.460520502,13196817.130592639,12212492.375930322]
["Average RAB",null,{"$f":"SUM(C125,C128)/2","v":5151052.4687408432},5102581.6437386703,5032278.5454843771,4983041.2541659083,5059461.6265187925,5128596.4119262798,4522447.4765163865,3850515.0333800567,3823892.6329681417,4058906.7058386821,{"$f":"SUM(M125,M128)/2","v":4635010.6029936261},6377121.9259598609,9107485.9200633317,10850974.826666802,11176936.222200807,10866063.779656526,10392271.954641938,10610450.499657342,11559772.254823901,12601189.59262876,13170878.795556571,12704654.75326148]
[]
["Total Value to be recovered by change in unit rates",null,null,null,null,null,null,null,null,null,null,null,null,null,null,null,null,null,null,{"$f":"T$6","v":"2022-06-30"},"2023-06-30","2024-06-30","2025-06-30","2026-06-30"]
["Depreciation",null,null,null,null,null,null,null,null,null,null,null,null,null,null,null,null,null,null,{"$f":"T127","v":981015.10278442851},{"$f":"U127","v":931651.28002445016},{"$f":"V127","v":884478.82956592448},{"$f":"W127","v":959051.54918098776},{"$f":"X127","v":984324.75466231594}]
["ROA",null,null,null,null,null,null,null,null,null,null,null,null,null,null,null,null,null,null,{"$f":"T$105*T129","v":511233.63884407771},{"$f":"U$105*U129","v":556973.94132636336},607151.60109476664,634600.4152834171,612136.76836599235]
[null,null,null,null,null,null,null,null,null,null,null,null,null,null,null,null,null,null,null,{"$f":"SUM(T132:T133)","v":1492248.7416285062},1488625.2213508135,1491630.4306606911,1593651.9644644049,1596461.5230283083]
[]
[]
[{"$f":"$A$16","v":"Energy Efficient Lights"}]
[{"$f":"$A$17","v":"Luminaires and Ballasts"}]
["RAB",null,{"$f":"$C$6","v":2005},{"$f":"$D$6","v":2006},{"$f":"$E$6","v":2007},{"$f":"$F$6","v":2008},{"$f":"G$6","v":2009},{"$f":"H$6","v":2010},2011,2012,2013,2014,2015,2016,2017,2018,2019,2020,"HY2021","2022-06-30","2023-06-30","2024-06-30","2025-06-30","2026-06-30"]
["Opening RAB",null,0,{"$f":"C143","v":0},0,0,0,0,1892609.9956301532,1795553.0727773248,1698496.1499244964,1601439.227071668,{"$f":"L143","v":1504382.3042188396},{"$f":"M143","v":1407325.3813660112},{"$f":"N143","v":1310268.4585131828},{"$f":"O143","v":1213211.5356603544},{"$f":"P143","v":1587902.5128075262},{"$f":"Q143","v":1808388.8804207505},{"$f":"R143","v":2293625.2421166995},{"$f":"S143","v":4856954.3172358992},{"$f":"T143","v":5734123.1691084364},{"$f":"U143","v":6547159.0251849499},{"$f":"V143","v":7292133.544260622},{"$f":"W143","v":8086703.0489026532}]
["Additional Capex",null,{"$f":"C$17","v":0},0,0,0,0,1941138.4570565673,0,0,0,0,0,0,0,483844,350497.938939541,640010.64768795366,2682244.4062899249,1212364.7429448576,1208759.8622794412,1200941.0480364992,1313394.4203115599,1451896.8674798768]
["Depreciation",null,{"$f":"C$102","v":0},0,0,0,0,48528.461426414186,97056.922852828371,97056.922852828371,97056.922852828371,97056.922852828371,97056.922852828371,97056.922852828371,97056.922852828371,109153.02285282838,130011.57132631689,154774.28599200427,118915.33117072562,335195.89107232081,395724.00620292826,455966.52896082681,518824.9156695283,587957.19786431419]
["Closing RAB",null,{"$f":"C140+C141-C142","v":0},0,0,0,0,1892609.9956301532,1795553.0727773248,1698496.1499244964,1601439.227071668,1504382.3042188396,{"$f":"M140+M141-M142","v":1407325.3813660112},1310268.4585131828,1213211.5356603544,1587902.5128075262,1808388.8804207505,2293625.2421166995,4856954.3172358992,{"$f":"T140+T141-T142","v":5734123.1691084364},6547159.0251849499,7292133.544260622,8086703.0489026532,8950642.7185182162]
["Average RAB",null,{"$f":"SUM(C140,C143)/2","v":0},0,0,0,{"$f":"SUM(G140,G143)/2","v":0},946304.99781507661,1844081.5342037389,1747024.6113509107,1649967.6884980821,1552910.7656452539,{"$f":"SUM(M140,M143)/2","v":1455853.8427924253},1358796.9199395971,1261739.9970867685,1400557.0242339403,1698145.6966141383,2051007.061268725,3575289.7796762995,5295538.7431721678,6140641.0971466936,6919646.2847227864,7689418.2965816371,8518672.8837104347]
[]
["Total Value to be recovered by change in unit rates",null,null,null,null,null,null,null,null,null,null,null,null,null,null,null,null,null,null,{"$f":"T$6","v":"2022-06-30"},"2023-06-30","2024-06-30","2025-06-30","2026-06-30"]
["Depreciation",null,null,null,null,null,null,null,null,null,null,null,null,null,null,null,null,null,null,{"$f":"T142","v":335195.89107232081},{"$f":"U142","v":395724.00620292826},{"$f":"V142","v":455966.52896082681},{"$f":"W142","v":518824.9156695283},{"$f":"X142","v":587957.19786431419}]
["ROA",null,null,null,null,null,null,null,null,null,null,null,null,null,null,null,null,null,null,{"$f":"T$105*T144","v":255150.10332493708},{"$f":"U$105*U144","v":295868.8976524772},333402.99262194155,370492.21392462193,410447.42978653935]
[null,null,null,null,null,null,null,null,null,null,null,null,null,null,null,null,null,null,null,{"$f":"SUM(T147:T148)","v":590345.99439725792},691592.90385540552,789369.5215827683,889317.12959415023,998404.62765085348]
[]
[]
[]
["Total Public Lighting RAB"]
["Historical cost ($)"]
[]
["RAB",null,{"$f":"C$6","v":2005},{"$f":"D$6","v":2006},{"$f":"E$6","v":2007},2008,2009,2010,2011,2012,2013,2014,2015,2016,2017,2018,2019,2020,"HY2021","2022-06-30","2023-06-30","2024-06-30","2025-06-30","2026-06-30"]
["Opening RAB",null,{"$f":"SUM(C110,C125,C140)","v":9787910.7468656339},{"$f":"C160","v":9913810.0141520649},{"$f":"D160","v":10448959.68136912},10461267.821450468,11150529.413488403,11975690.490872534,14626048.296081832,13884419.961944206,14328845.702323787,14942835.169732023,{"$f":"L160","v":15708336.325454142},{"$f":"M160","v":17040447.18931229},{"$f":"N160","v":21252238.042426717},{"$f":"O160","v":26902876.518364273},{"$f":"P160","v":31986454.236293349},{"$f":"Q160","v":33636766.29039035},{"$f":"R160","v":35183296.504257962},{"$f":"S160","v":38048605.928051516},{"$f":"T160","v":41321782.531393737},{"$f":"U160","v":44608929.834059648},{"$f":"V160","v":47907431.737449147},{"$f":"W160","v":50210615.167315528}]
["Capex",null,{"$f":"SUM(C111,C126,C141)","v":564000},{"$f":"SUM(D111,D126,D141)","v":1001000},504859.92074451799,1212261.9440597999,1394382.6760533117,3316966.3359567672,-12090.643446733942,1183916.164754591,1397402.8007643826,1604964,{"$f":"SUM(M111,M126,M141)","v":2247945.100773863},5283264,6969383.6064872313,6656410,3401646.6974315285,{"$f":"SUM(R111,R126,R141)","v":3399363.0855660383},3863772.2350428985,5465291.7269681301,5558880.1092025097,5653355.7850647764,4867230.4461259963,4064473.9762856448]
["Depreciation",null,{"$f":"SUM(C112,C127,C142)","v":438100.73271356983},465850.33278294443,492551.78066316934,523000.35202186462,569221.59866917995,666608.53074746986,729537.69069089193,739490.42437500949,783413.33335614507,839462.84427788109,{"$f":"SUM(M112,M127,M142)","v":915834.23691571527},1071473.1468855739,1318745.1305496774,1572832.2820709236,1751334.6433345289,{"$f":"SUM(R112,R127,R142)","v":1852832.8716984249},998462.81124934438,2192115.1236259113,2271732.8065366028,2354853.8816752792,2564047.0162596181,2732102.2884409758]
["Closing RAB",null,{"$f":"C157+C158-C159","v":9913810.0141520649},{"$f":"D157+D158-D159","v":10448959.68136912},{"$f":"E157+E158-E159","v":10461267.821450468},11150529.413488403,11975690.490872534,14626048.296081832,13884419.961944206,14328845.702323787,14942835.169732023,15708336.325454142,{"$f":"M157+M158-M159","v":17040447.18931229},21252238.042426717,26902876.518364273,31986454.236293349,33636766.29039035,35183296.504257962,38048605.928051516,41321782.531393737,44608929.834059648,47907431.737449147,50210615.167315528,51542986.855160199]
["Average RAB",null,{"$f":"SUM(C157,C160)/2","v":9850860.3805088494},{"$f":"SUM(D157,D160)/2","v":10181384.847760592},{"$f":"SUM(E157,E160)/2","v":10455113.751409795},10805898.617469436,11563109.952180468,13300869.393477183,14255234.129013019,14106632.832133997,14635840.436027905,15325585.747593082,{"$f":"SUM(M157,M160)/2","v":16374391.757383216},19146342.615869503,24077557.280395493,29444665.377328813,32811610.263341852,34410031.39732416,36615951.216154739,39685194.229722627,42965356.182726696,46258180.785754398,49059023.452382341,50876801.01123786]
["Check",{"$f":"SUM(C162:X162)","v":6.1467289924621582E-8},{"$f":"ABS(C160-SUM(C113,C128,C143))","v":0},1.862645149230957E-9,0,0,1.862645149230957E-9,0,0,1.862645149230957E-9,3.7252902984619141E-9,3.7252902984619141E-9,{"$f":"ABS(M160-SUM(M113,M128,M143))","v":0},0,0,3.7252902984619141E-9,0,0,0,0,0,7.4505805969238281E-9,1.4901161193847656E-8,2.2351741790771484E-8]

{"sheet":"RAB 2001 to 2004 Central","index":17,"n_rows":239,"n_cols":40,"rows_kept":239,"cut":false,"hidden":false,"merged":[[207,1,207,5],[207,7,207,11],[207,13,207,17],[207,19,207,23],[45,5,45,26],[52,5,52,26],[82,5,82,26],[89,5,89,26]]}
[{"$f":"'Inputs PL Final Decision 2004'!$A$126","v":"SP AusNet - Central"}]
[]
["Public Lighting RAB - Assets constructed between 1 January 2001 and 31 December 2004."]
["Historical cost ($)"]
[]
["Summary"]
[]
["Cost Per Unit",null,{"$f":"'DNSP Inputs General'!Q2","v":"2022-06-30"},{"$f":"'DNSP Inputs General'!R2","v":"2023-06-30"},{"$f":"'DNSP Inputs General'!S2","v":"2024-06-30"},{"$f":"'DNSP Inputs General'!T2","v":"2025-06-30"},{"$f":"'DNSP Inputs General'!U2","v":"2026-06-30"}]
["Rate of return (per annum) (Nominal Pre tax WACC)",null,{"$f":"WACC!E$8","v":4.8182086034950888E-2},{"$f":"WACC!F$8","v":4.8182086034950888E-2},{"$f":"WACC!G$8","v":4.8182086034950888E-2},{"$f":"WACC!H$8","v":4.8182086034950888E-2},{"$f":"WACC!I$8","v":4.8182086034950888E-2}]
[]
["Luminaires"]
[{"$f":"$A$134","v":"MV 80"}]
["Luminaire - depreciation",null,{"$f":"W144","v":2.1367532867451411},{"$f":"X144","v":1.0683766433725705},0,0,0]
["Luminaire - return on",null,{"$f":"W143*C$9","v":0.10295323069741849},{"$f":"X143*D$9","v":5.1476615348709245E-2},0,0,0]
["Capital Charge",null,{"$f":"SUM(C13:C14)","v":2.2397065174425594},{"$f":"SUM(D13:D14)","v":1.1198532587212797},0,0,0]
[]
[{"$f":"$A$148","v":"S-HP 150 "}]
["Luminaire - depreciation",null,{"$f":"W158","v":2.5710778072031615},{"$f":"X158","v":1.2855389036015807},0,0,0]
["Luminaire - return on",null,{"$f":"W157*C$9","v":0.1238798921092156},{"$f":"X157*D$9","v":6.19399460546078E-2},0,0,0]
["Capital Charge",null,{"$f":"SUM(C18:C19)","v":2.6949576993123769},{"$f":"SUM(D18:D19)","v":1.3474788496561885},0,0,0]
[]
[{"$f":"$A$162","v":"S-HP 250 "}]
["Luminaire - depreciation",null,{"$f":"W172","v":2.6226803205521598},{"$f":"X172","v":1.3113401602760799},0,0,0]
["Luminaire - return on",null,{"$f":"W171*C$9","v":0.12636620884701677},{"$f":"X171*D$9","v":6.3183104423508385E-2},0,0,0]
["Capital Charge",null,{"$f":"SUM(C23:C24)","v":2.7490465293991768},{"$f":"SUM(D23:D24)","v":1.3745232646995884},0,0,0]
[]
[{"$f":"$A$176","v":"Poles & Brackets"}]
[{"$f":"$A$177","v":"Dedicated poles"}]
["Dedicated poles - depreciation",null,{"$f":"W186","v":0.91476154288995293},{"$f":"X186","v":0.91476154288995293},0.91476154288995293,0.91476154288995293,0.91476154288995293]
["Dedicated poles - return on",null,{"$f":"W185*C$9","v":0.7052019097758101},{"$f":"X185*D$9","v":0.66112679041482192},0.61705167105383385,0.57297655169284567,0.5289014323318576]
["Capital Charge",null,{"$f":"SUM(C29:C30)","v":1.6199634526657629},{"$f":"SUM(D29:D30)","v":1.5758883333047748},1.5318132139437868,1.4877380945827987,1.4436629752218106]
[]
[{"$f":"A191","v":"Brackets"}]
["Brackets - depreciation",null,{"$f":"W200","v":0.18807135179628345},{"$f":"X200","v":0.18807135179628345},0.18807135179628345,0.18807135179628345,0.18807135179628345]
["Brackets - return on",null,{"$f":"W199*C$9","v":0.14498672084732872},{"$f":"X199*D$9","v":0.13592505079437067},0.12686338074141265,0.11780171068845458,0.10874004063549654]
["Capital Charge",null,{"$f":"SUM(C34:C35)","v":0.3330580726436122},0.3239964025906541,0.3149347325376961,0.305873062484738,0.29681139243178001]
[]
[]
[]
[]
["Closing RAB at 31 December 2004 and Depreciation per annum 2005 onwards"]
[]
["Note : Calculation of the closing $ value of RAB in 2004 is Unit WDV at 31 December 2004 multiplied by volumes at 31 December 2004."]
[]
["Luminaires"]
["Depreciation",null,null,null,"Closing RAB per unit","Depreciation per unit"]
[null,null,null,null,2004,2005,2006,2007,2008,2009,2010,2011,2012,2013,2014,2015,2016,2017,2018,2019,2020,{"$f":"'DNSP Inputs General'!P2","v":"HY2021"},{"$f":"'DNSP Inputs General'!Q2","v":"2022-06-30"},{"$f":"'DNSP Inputs General'!R2","v":"2023-06-30"},{"$f":"'DNSP Inputs General'!S2","v":"2024-06-30"},{"$f":"'DNSP Inputs General'!T2","v":"2025-06-30"},{"$f":"'DNSP Inputs General'!U2","v":"2026-06-30"}]
[{"$f":"'DNSP Inputs General'!A$42","v":"Mercury Vapour 80W"},null,null,null,{"$f":"F143+F144/2","v":38.461559161412552},{"$f":"F144","v":2.1367532867451411},{"$f":"G144","v":2.1367532867451411},2.1367532867451411,2.1367532867451411,2.1367532867451411,2.1367532867451411,2.1367532867451411,2.1367532867451411,2.1367532867451411,2.1367532867451411,2.1367532867451411,2.1367532867451411,2.1367532867451411,2.1367532867451411,2.1367532867451411,2.1367532867451411,{"$f":"V144","v":1.0683766433725705},2.1367532867451411,1.0683766433725705,0,0,0]
[{"$f":"'DNSP Inputs General'!A$43","v":"HP Sodium 150W"},null,null,null,{"$f":"F157+F158/2","v":46.279400529656911},{"$f":"F158","v":2.5710778072031615},{"$f":"G158","v":2.5710778072031615},2.5710778072031615,2.5710778072031615,2.5710778072031615,2.5710778072031615,2.5710778072031615,2.5710778072031615,2.5710778072031615,2.5710778072031615,2.5710778072031615,2.5710778072031615,2.5710778072031615,2.5710778072031615,2.5710778072031615,2.5710778072031615,{"$f":"V158","v":1.2855389036015807},2.5710778072031615,1.2855389036015807,0,0,0]
[{"$f":"'DNSP Inputs General'!A$44","v":"HP Sodium 250W"},null,null,null,{"$f":"F171+F172/2","v":47.208245769938877},{"$f":"F172","v":2.6226803205521598},{"$f":"G172","v":2.6226803205521598},2.6226803205521598,2.6226803205521598,2.6226803205521598,2.6226803205521598,2.6226803205521598,2.6226803205521598,2.6226803205521598,2.6226803205521598,2.6226803205521598,2.6226803205521598,2.6226803205521598,2.6226803205521598,2.6226803205521598,2.6226803205521598,{"$f":"V172","v":1.3113401602760799},2.6226803205521598,1.3113401602760799,0,0,0]
[]
[]
["Light Type",null,"Assumed",null,"Closing RAB","Depreciation"]
[null,null," 2004 Volumes",null,{"$f":"E$47","v":2004},2005,2006,2007,2008,2009,2010,2011,2012,2013,2014,2015,2016,2017,2018,2019,2020,{"$f":"V$47","v":"HY2021"},{"$f":"W$47","v":"2022-06-30"},"2023-06-30","2024-06-30","2025-06-30","2026-06-30"]
[{"$f":"'DNSP Inputs General'!A$42","v":"Mercury Vapour 80W"},null,{"$f":"54830.8388653408+5129.42975845582+3216.02650170813","v":63176.295125504752},null,{"$f":"E48*$C55","v":2429858.8125684606},{"$f":"F48*$C55","v":134992.15625380332},134992.15625380332,134992.15625380332,134992.15625380332,134992.15625380332,134992.15625380332,134992.15625380332,134992.15625380332,134992.15625380332,134992.15625380332,134992.15625380332,134992.15625380332,{"$f":"R48*$C55","v":134992.15625380332},{"$f":"S48*$C55","v":134992.15625380332},134992.15625380332,134992.15625380332,{"$f":"V48*$C55","v":67496.078126901659},134992.15625380332,67496.078126901659,0,0,0]
[{"$f":"'DNSP Inputs General'!A$43","v":"HP Sodium 150W"},null,11309.578750263752,null,{"$f":"E49*$C56","v":523400.52480515285},{"$f":"F49*$C56","v":29077.806933619599},29077.806933619599,29077.806933619599,29077.806933619599,29077.806933619599,29077.806933619599,29077.806933619599,29077.806933619599,29077.806933619599,29077.806933619599,29077.806933619599,29077.806933619599,{"$f":"R49*$C56","v":29077.806933619599},{"$f":"S49*$C56","v":29077.806933619599},29077.806933619599,29077.806933619599,{"$f":"V49*$C56","v":14538.903466809799},29077.806933619599,14538.903466809799,0,0,0]
[{"$f":"'DNSP Inputs General'!A$44","v":"HP Sodium 250W"},null,5935.0914346750506,null,{"$f":"E50*$C57","v":280185.2551151989},{"$f":"F50*$C57","v":15565.847506399939},15565.847506399939,15565.847506399939,15565.847506399939,15565.847506399939,15565.847506399939,15565.847506399939,15565.847506399939,15565.847506399939,15565.847506399939,15565.847506399939,15565.847506399939,{"$f":"R50*$C57","v":15565.847506399939},{"$f":"S50*$C57","v":15565.847506399939},15565.847506399939,15565.847506399939,{"$f":"V50*$C57","v":7782.9237531999697},15565.847506399939,7782.9237531999697,0,0,0]
[{"$f":"'DNSP Inputs General'!A$45","v":"Mercury Vapour 50W"},null,393.03223566379955,null,{"$f":"IF('DNSP Inputs General'!$B45='DNSP Inputs General'!$A$42,E$48,IF('DNSP Inputs General'!$B45='DNSP Inputs General'!$A$43,E$49,E$50))*'DNSP Inputs General'!$D45*$C58","v":23128.447854017966},{"$f":"IF('DNSP Inputs General'!$B45='DNSP Inputs General'!$A$42,F$48,IF('DNSP Inputs General'!$B45='DNSP Inputs General'!$A$43,F$49,F$50))*'DNSP Inputs General'!$D45*$C58","v":1284.9137696676644},{"$f":"IF('DNSP Inputs General'!$B45='DNSP Inputs General'!$A$42,G$48,IF('DNSP Inputs General'!$B45='DNSP Inputs General'!$A$43,G$49,G$50))*'DNSP Inputs General'!$D45*$C58","v":1284.9137696676644},{"$f":"IF('DNSP Inputs General'!$B45='DNSP Inputs General'!$A$42,H$48,IF('DNSP Inputs General'!$B45='DNSP Inputs General'!$A$43,H$49,H$50))*'DNSP Inputs General'!$D45*$C58","v":1284.9137696676644},{"$f":"IF('DNSP Inputs General'!$B45='DNSP Inputs General'!$A$42,I$48,IF('DNSP Inputs General'!$B45='DNSP Inputs General'!$A$43,I$49,I$50))*'DNSP Inputs General'!$D45*$C58","v":1284.9137696676644},{"$f":"IF('DNSP Inputs General'!$B45='DNSP Inputs General'!$A$42,J$48,IF('DNSP Inputs General'!$B45='DNSP Inputs General'!$A$43,J$49,J$50))*'DNSP Inputs General'!$D45*$C58","v":1284.9137696676644},{"$f":"IF('DNSP Inputs General'!$B45='DNSP Inputs General'!$A$42,K$48,IF('DNSP Inputs General'!$B45='DNSP Inputs General'!$A$43,K$49,K$50))*'DNSP Inputs General'!$D45*$C58","v":1284.9137696676644},{"$f":"IF('DNSP Inputs General'!$B45='DNSP Inputs General'!$A$42,L$48,IF('DNSP Inputs General'!$B45='DNSP Inputs General'!$A$43,L$49,L$50))*'DNSP Inputs General'!$D45*$C58","v":1284.9137696676644},{"$f":"IF('DNSP Inputs General'!$B45='DNSP Inputs General'!$A$42,M$48,IF('DNSP Inputs General'!$B45='DNSP Inputs General'!$A$43,M$49,M$50))*'DNSP Inputs General'!$D45*$C58","v":1284.9137696676644},{"$f":"IF('DNSP Inputs General'!$B45='DNSP Inputs General'!$A$42,N$48,IF('DNSP Inputs General'!$B45='DNSP Inputs General'!$A$43,N$49,N$50))*'DNSP Inputs General'!$D45*$C58","v":1284.9137696676644},{"$f":"IF('DNSP Inputs General'!$B45='DNSP Inputs General'!$A$42,O$48,IF('DNSP Inputs General'!$B45='DNSP Inputs General'!$A$43,O$49,O$50))*'DNSP Inputs General'!$D45*$C58","v":1284.9137696676644},{"$f":"IF('DNSP Inputs General'!$B45='DNSP Inputs General'!$A$42,P$48,IF('DNSP Inputs General'!$B45='DNSP Inputs General'!$A$43,P$49,P$50))*'DNSP Inputs General'!$D45*$C58","v":1284.9137696676644},{"$f":"IF('DNSP Inputs General'!$B45='DNSP Inputs General'!$A$42,Q$48,IF('DNSP Inputs General'!$B45='DNSP Inputs General'!$A$43,Q$49,Q$50))*'DNSP Inputs General'!$D45*$C58","v":1284.9137696676644},{"$f":"IF('DNSP Inputs General'!$B45='DNSP Inputs General'!$A$42,R$48,IF('DNSP Inputs General'!$B45='DNSP Inputs General'!$A$43,R$49,R$50))*'DNSP Inputs General'!$D45*$C58","v":1284.9137696676644},{"$f":"IF('DNSP Inputs General'!$B45='DNSP Inputs General'!$A$42,S$48,IF('DNSP Inputs General'!$B45='DNSP Inputs General'!$A$43,S$49,S$50))*'DNSP Inputs General'!$D45*$C58","v":1284.9137696676644},{"$f":"IF('DNSP Inputs General'!$B45='DNSP Inputs General'!$A$42,T$48,IF('DNSP Inputs General'!$B45='DNSP Inputs General'!$A$43,T$49,T$50))*'DNSP Inputs General'!$D45*$C58","v":1284.9137696676644},{"$f":"IF('DNSP Inputs General'!$B45='DNSP Inputs General'!$A$42,U$48,IF('DNSP Inputs General'!$B45='DNSP Inputs General'!$A$43,U$49,U$50))*'DNSP Inputs General'!$D45*$C58","v":1284.9137696676644},{"$f":"IF('DNSP Inputs General'!$B45='DNSP Inputs General'!$A$42,V$48,IF('DNSP Inputs General'!$B45='DNSP Inputs General'!$A$43,V$49,V$50))*'DNSP Inputs General'!$D45*$C58","v":642.45688483383219},{"$f":"IF('DNSP Inputs General'!$B45='DNSP Inputs General'!$A$42,W$48,IF('DNSP Inputs General'!$B45='DNSP Inputs General'!$A$43,W$49,W$50))*'DNSP Inputs General'!$D45*$C58","v":1284.9137696676644},{"$f":"IF('DNSP Inputs General'!$B45='DNSP Inputs General'!$A$42,X$48,IF('DNSP Inputs General'!$B45='DNSP Inputs General'!$A$43,X$49,X$50))*'DNSP Inputs General'!$D45*$C58","v":642.45688483383219},{"$f":"IF('DNSP Inputs General'!$B45='DNSP Inputs General'!$A$42,Y$48,IF('DNSP Inputs General'!$B45='DNSP Inputs General'!$A$43,Y$49,Y$50))*'DNSP Inputs General'!$D45*$C58","v":0},{"$f":"IF('DNSP Inputs General'!$B45='DNSP Inputs General'!$A$42,Z$48,IF('DNSP Inputs General'!$B45='DNSP Inputs General'!$A$43,Z$49,Z$50))*'DNSP Inputs General'!$D45*$C58","v":0},{"$f":"IF('DNSP Inputs General'!$B45='DNSP Inputs General'!$A$42,AA$48,IF('DNSP Inputs General'!$B45='DNSP Inputs General'!$A$43,AA$49,AA$50))*'DNSP Inputs General'!$D45*$C58","v":0}]
[{"$f":"'DNSP Inputs General'!A$46","v":"Mercury Vapour 125W"},null,908.95051917080264,null,{"$f":"IF('DNSP Inputs General'!$B46='DNSP Inputs General'!$A$42,E$48,IF('DNSP Inputs General'!$B46='DNSP Inputs General'!$A$43,E$49,E$50))*'DNSP Inputs General'!$D46*$C59","v":51390.691626790183},{"$f":"IF('DNSP Inputs General'!$B46='DNSP Inputs General'!$A$42,F$48,IF('DNSP Inputs General'!$B46='DNSP Inputs General'!$A$43,F$49,F$50))*'DNSP Inputs General'!$D46*$C59","v":2855.0384237105645},{"$f":"IF('DNSP Inputs General'!$B46='DNSP Inputs General'!$A$42,G$48,IF('DNSP Inputs General'!$B46='DNSP Inputs General'!$A$43,G$49,G$50))*'DNSP Inputs General'!$D46*$C59","v":2855.0384237105645},{"$f":"IF('DNSP Inputs General'!$B46='DNSP Inputs General'!$A$42,H$48,IF('DNSP Inputs General'!$B46='DNSP Inputs General'!$A$43,H$49,H$50))*'DNSP Inputs General'!$D46*$C59","v":2855.0384237105645},{"$f":"IF('DNSP Inputs General'!$B46='DNSP Inputs General'!$A$42,I$48,IF('DNSP Inputs General'!$B46='DNSP Inputs General'!$A$43,I$49,I$50))*'DNSP Inputs General'!$D46*$C59","v":2855.0384237105645},{"$f":"IF('DNSP Inputs General'!$B46='DNSP Inputs General'!$A$42,J$48,IF('DNSP Inputs General'!$B46='DNSP Inputs General'!$A$43,J$49,J$50))*'DNSP Inputs General'!$D46*$C59","v":2855.0384237105645},{"$f":"IF('DNSP Inputs General'!$B46='DNSP Inputs General'!$A$42,K$48,IF('DNSP Inputs General'!$B46='DNSP Inputs General'!$A$43,K$49,K$50))*'DNSP Inputs General'!$D46*$C59","v":2855.0384237105645},{"$f":"IF('DNSP Inputs General'!$B46='DNSP Inputs General'!$A$42,L$48,IF('DNSP Inputs General'!$B46='DNSP Inputs General'!$A$43,L$49,L$50))*'DNSP Inputs General'!$D46*$C59","v":2855.0384237105645},{"$f":"IF('DNSP Inputs General'!$B46='DNSP Inputs General'!$A$42,M$48,IF('DNSP Inputs General'!$B46='DNSP Inputs General'!$A$43,M$49,M$50))*'DNSP Inputs General'!$D46*$C59","v":2855.0384237105645},{"$f":"IF('DNSP Inputs General'!$B46='DNSP Inputs General'!$A$42,N$48,IF('DNSP Inputs General'!$B46='DNSP Inputs General'!$A$43,N$49,N$50))*'DNSP Inputs General'!$D46*$C59","v":2855.0384237105645},{"$f":"IF('DNSP Inputs General'!$B46='DNSP Inputs General'!$A$42,O$48,IF('DNSP Inputs General'!$B46='DNSP Inputs General'!$A$43,O$49,O$50))*'DNSP Inputs General'!$D46*$C59","v":2855.0384237105645},{"$f":"IF('DNSP Inputs General'!$B46='DNSP Inputs General'!$A$42,P$48,IF('DNSP Inputs General'!$B46='DNSP Inputs General'!$A$43,P$49,P$50))*'DNSP Inputs General'!$D46*$C59","v":2855.0384237105645},{"$f":"IF('DNSP Inputs General'!$B46='DNSP Inputs General'!$A$42,Q$48,IF('DNSP Inputs General'!$B46='DNSP Inputs General'!$A$43,Q$49,Q$50))*'DNSP Inputs General'!$D46*$C59","v":2855.0384237105645},{"$f":"IF('DNSP Inputs General'!$B46='DNSP Inputs General'!$A$42,R$48,IF('DNSP Inputs General'!$B46='DNSP Inputs General'!$A$43,R$49,R$50))*'DNSP Inputs General'!$D46*$C59","v":2855.0384237105645},{"$f":"IF('DNSP Inputs General'!$B46='DNSP Inputs General'!$A$42,S$48,IF('DNSP Inputs General'!$B46='DNSP Inputs General'!$A$43,S$49,S$50))*'DNSP Inputs General'!$D46*$C59","v":2855.0384237105645},{"$f":"IF('DNSP Inputs General'!$B46='DNSP Inputs General'!$A$42,T$48,IF('DNSP Inputs General'!$B46='DNSP Inputs General'!$A$43,T$49,T$50))*'DNSP Inputs General'!$D46*$C59","v":2855.0384237105645},{"$f":"IF('DNSP Inputs General'!$B46='DNSP Inputs General'!$A$42,U$48,IF('DNSP Inputs General'!$B46='DNSP Inputs General'!$A$43,U$49,U$50))*'DNSP Inputs General'!$D46*$C59","v":2855.0384237105645},{"$f":"IF('DNSP Inputs General'!$B46='DNSP Inputs General'!$A$42,V$48,IF('DNSP Inputs General'!$B46='DNSP Inputs General'!$A$43,V$49,V$50))*'DNSP Inputs General'!$D46*$C59","v":1427.5192118552823},{"$f":"IF('DNSP Inputs General'!$B46='DNSP Inputs General'!$A$42,W$48,IF('DNSP Inputs General'!$B46='DNSP Inputs General'!$A$43,W$49,W$50))*'DNSP Inputs General'!$D46*$C59","v":2855.0384237105645},{"$f":"IF('DNSP Inputs General'!$B46='DNSP Inputs General'!$A$42,X$48,IF('DNSP Inputs General'!$B46='DNSP Inputs General'!$A$43,X$49,X$50))*'DNSP Inputs General'!$D46*$C59","v":1427.5192118552823},{"$f":"IF('DNSP Inputs General'!$B46='DNSP Inputs General'!$A$42,Y$48,IF('DNSP Inputs General'!$B46='DNSP Inputs General'!$A$43,Y$49,Y$50))*'DNSP Inputs General'!$D46*$C59","v":0},{"$f":"IF('DNSP Inputs General'!$B46='DNSP Inputs General'!$A$42,Z$48,IF('DNSP Inputs General'!$B46='DNSP Inputs General'!$A$43,Z$49,Z$50))*'DNSP Inputs General'!$D46*$C59","v":0},{"$f":"IF('DNSP Inputs General'!$B46='DNSP Inputs General'!$A$42,AA$48,IF('DNSP Inputs General'!$B46='DNSP Inputs General'!$A$43,AA$49,AA$50))*'DNSP Inputs General'!$D46*$C59","v":0}]
[{"$f":"'DNSP Inputs General'!A$47","v":"Mercury Vapour 250W"},null,906.91934482628687,null,{"$f":"IF('DNSP Inputs General'!$B47='DNSP Inputs General'!$A$42,E$48,IF('DNSP Inputs General'!$B47='DNSP Inputs General'!$A$43,E$49,E$50))*'DNSP Inputs General'!$D47*$C60","v":44954.774890274864},{"$f":"IF('DNSP Inputs General'!$B47='DNSP Inputs General'!$A$42,F$48,IF('DNSP Inputs General'!$B47='DNSP Inputs General'!$A$43,F$49,F$50))*'DNSP Inputs General'!$D47*$C60","v":2497.4874939041588},{"$f":"IF('DNSP Inputs General'!$B47='DNSP Inputs General'!$A$42,G$48,IF('DNSP Inputs General'!$B47='DNSP Inputs General'!$A$43,G$49,G$50))*'DNSP Inputs General'!$D47*$C60","v":2497.4874939041588},{"$f":"IF('DNSP Inputs General'!$B47='DNSP Inputs General'!$A$42,H$48,IF('DNSP Inputs General'!$B47='DNSP Inputs General'!$A$43,H$49,H$50))*'DNSP Inputs General'!$D47*$C60","v":2497.4874939041588},{"$f":"IF('DNSP Inputs General'!$B47='DNSP Inputs General'!$A$42,I$48,IF('DNSP Inputs General'!$B47='DNSP Inputs General'!$A$43,I$49,I$50))*'DNSP Inputs General'!$D47*$C60","v":2497.4874939041588},{"$f":"IF('DNSP Inputs General'!$B47='DNSP Inputs General'!$A$42,J$48,IF('DNSP Inputs General'!$B47='DNSP Inputs General'!$A$43,J$49,J$50))*'DNSP Inputs General'!$D47*$C60","v":2497.4874939041588},{"$f":"IF('DNSP Inputs General'!$B47='DNSP Inputs General'!$A$42,K$48,IF('DNSP Inputs General'!$B47='DNSP Inputs General'!$A$43,K$49,K$50))*'DNSP Inputs General'!$D47*$C60","v":2497.4874939041588},{"$f":"IF('DNSP Inputs General'!$B47='DNSP Inputs General'!$A$42,L$48,IF('DNSP Inputs General'!$B47='DNSP Inputs General'!$A$43,L$49,L$50))*'DNSP Inputs General'!$D47*$C60","v":2497.4874939041588},{"$f":"IF('DNSP Inputs General'!$B47='DNSP Inputs General'!$A$42,M$48,IF('DNSP Inputs General'!$B47='DNSP Inputs General'!$A$43,M$49,M$50))*'DNSP Inputs General'!$D47*$C60","v":2497.4874939041588},{"$f":"IF('DNSP Inputs General'!$B47='DNSP Inputs General'!$A$42,N$48,IF('DNSP Inputs General'!$B47='DNSP Inputs General'!$A$43,N$49,N$50))*'DNSP Inputs General'!$D47*$C60","v":2497.4874939041588},{"$f":"IF('DNSP Inputs General'!$B47='DNSP Inputs General'!$A$42,O$48,IF('DNSP Inputs General'!$B47='DNSP Inputs General'!$A$43,O$49,O$50))*'DNSP Inputs General'!$D47*$C60","v":2497.4874939041588},{"$f":"IF('DNSP Inputs General'!$B47='DNSP Inputs General'!$A$42,P$48,IF('DNSP Inputs General'!$B47='DNSP Inputs General'!$A$43,P$49,P$50))*'DNSP Inputs General'!$D47*$C60","v":2497.4874939041588},{"$f":"IF('DNSP Inputs General'!$B47='DNSP Inputs General'!$A$42,Q$48,IF('DNSP Inputs General'!$B47='DNSP Inputs General'!$A$43,Q$49,Q$50))*'DNSP Inputs General'!$D47*$C60","v":2497.4874939041588},{"$f":"IF('DNSP Inputs General'!$B47='DNSP Inputs General'!$A$42,R$48,IF('DNSP Inputs General'!$B47='DNSP Inputs General'!$A$43,R$49,R$50))*'DNSP Inputs General'!$D47*$C60","v":2497.4874939041588},{"$f":"IF('DNSP Inputs General'!$B47='DNSP Inputs General'!$A$42,S$48,IF('DNSP Inputs General'!$B47='DNSP Inputs General'!$A$43,S$49,S$50))*'DNSP Inputs General'!$D47*$C60","v":2497.4874939041588},{"$f":"IF('DNSP Inputs General'!$B47='DNSP Inputs General'!$A$42,T$48,IF('DNSP Inputs General'!$B47='DNSP Inputs General'!$A$43,T$49,T$50))*'DNSP Inputs General'!$D47*$C60","v":2497.4874939041588},{"$f":"IF('DNSP Inputs General'!$B47='DNSP Inputs General'!$A$42,U$48,IF('DNSP Inputs General'!$B47='DNSP Inputs General'!$A$43,U$49,U$50))*'DNSP Inputs General'!$D47*$C60","v":2497.4874939041588},{"$f":"IF('DNSP Inputs General'!$B47='DNSP Inputs General'!$A$42,V$48,IF('DNSP Inputs General'!$B47='DNSP Inputs General'!$A$43,V$49,V$50))*'DNSP Inputs General'!$D47*$C60","v":1248.7437469520794},{"$f":"IF('DNSP Inputs General'!$B47='DNSP Inputs General'!$A$42,W$48,IF('DNSP Inputs General'!$B47='DNSP Inputs General'!$A$43,W$49,W$50))*'DNSP Inputs General'!$D47*$C60","v":2497.4874939041588},{"$f":"IF('DNSP Inputs General'!$B47='DNSP Inputs General'!$A$42,X$48,IF('DNSP Inputs General'!$B47='DNSP Inputs General'!$A$43,X$49,X$50))*'DNSP Inputs General'!$D47*$C60","v":1248.7437469520794},{"$f":"IF('DNSP Inputs General'!$B47='DNSP Inputs General'!$A$42,Y$48,IF('DNSP Inputs General'!$B47='DNSP Inputs General'!$A$43,Y$49,Y$50))*'DNSP Inputs General'!$D47*$C60","v":0},{"$f":"IF('DNSP Inputs General'!$B47='DNSP Inputs General'!$A$42,Z$48,IF('DNSP Inputs General'!$B47='DNSP Inputs General'!$A$43,Z$49,Z$50))*'DNSP Inputs General'!$D47*$C60","v":0},{"$f":"IF('DNSP Inputs General'!$B47='DNSP Inputs General'!$A$42,AA$48,IF('DNSP Inputs General'!$B47='DNSP Inputs General'!$A$43,AA$49,AA$50))*'DNSP Inputs General'!$D47*$C60","v":0}]
[{"$f":"'DNSP Inputs General'!A$48","v":"Mercury Vapour 400W"},null,156.40042452771351,null,{"$f":"IF('DNSP Inputs General'!$B48='DNSP Inputs General'!$A$42,E$48,IF('DNSP Inputs General'!$B48='DNSP Inputs General'!$A$43,E$49,E$50))*'DNSP Inputs General'!$D48*$C61","v":8047.8947507935136},{"$f":"IF('DNSP Inputs General'!$B48='DNSP Inputs General'!$A$42,F$48,IF('DNSP Inputs General'!$B48='DNSP Inputs General'!$A$43,F$49,F$50))*'DNSP Inputs General'!$D48*$C61","v":447.10526393297295},{"$f":"IF('DNSP Inputs General'!$B48='DNSP Inputs General'!$A$42,G$48,IF('DNSP Inputs General'!$B48='DNSP Inputs General'!$A$43,G$49,G$50))*'DNSP Inputs General'!$D48*$C61","v":447.10526393297295},{"$f":"IF('DNSP Inputs General'!$B48='DNSP Inputs General'!$A$42,H$48,IF('DNSP Inputs General'!$B48='DNSP Inputs General'!$A$43,H$49,H$50))*'DNSP Inputs General'!$D48*$C61","v":447.10526393297295},{"$f":"IF('DNSP Inputs General'!$B48='DNSP Inputs General'!$A$42,I$48,IF('DNSP Inputs General'!$B48='DNSP Inputs General'!$A$43,I$49,I$50))*'DNSP Inputs General'!$D48*$C61","v":447.10526393297295},{"$f":"IF('DNSP Inputs General'!$B48='DNSP Inputs General'!$A$42,J$48,IF('DNSP Inputs General'!$B48='DNSP Inputs General'!$A$43,J$49,J$50))*'DNSP Inputs General'!$D48*$C61","v":447.10526393297295},{"$f":"IF('DNSP Inputs General'!$B48='DNSP Inputs General'!$A$42,K$48,IF('DNSP Inputs General'!$B48='DNSP Inputs General'!$A$43,K$49,K$50))*'DNSP Inputs General'!$D48*$C61","v":447.10526393297295},{"$f":"IF('DNSP Inputs General'!$B48='DNSP Inputs General'!$A$42,L$48,IF('DNSP Inputs General'!$B48='DNSP Inputs General'!$A$43,L$49,L$50))*'DNSP Inputs General'!$D48*$C61","v":447.10526393297295},{"$f":"IF('DNSP Inputs General'!$B48='DNSP Inputs General'!$A$42,M$48,IF('DNSP Inputs General'!$B48='DNSP Inputs General'!$A$43,M$49,M$50))*'DNSP Inputs General'!$D48*$C61","v":447.10526393297295},{"$f":"IF('DNSP Inputs General'!$B48='DNSP Inputs General'!$A$42,N$48,IF('DNSP Inputs General'!$B48='DNSP Inputs General'!$A$43,N$49,N$50))*'DNSP Inputs General'!$D48*$C61","v":447.10526393297295},{"$f":"IF('DNSP Inputs General'!$B48='DNSP Inputs General'!$A$42,O$48,IF('DNSP Inputs General'!$B48='DNSP Inputs General'!$A$43,O$49,O$50))*'DNSP Inputs General'!$D48*$C61","v":447.10526393297295},{"$f":"IF('DNSP Inputs General'!$B48='DNSP Inputs General'!$A$42,P$48,IF('DNSP Inputs General'!$B48='DNSP Inputs General'!$A$43,P$49,P$50))*'DNSP Inputs General'!$D48*$C61","v":447.10526393297295},{"$f":"IF('DNSP Inputs General'!$B48='DNSP Inputs General'!$A$42,Q$48,IF('DNSP Inputs General'!$B48='DNSP Inputs General'!$A$43,Q$49,Q$50))*'DNSP Inputs General'!$D48*$C61","v":447.10526393297295},{"$f":"IF('DNSP Inputs General'!$B48='DNSP Inputs General'!$A$42,R$48,IF('DNSP Inputs General'!$B48='DNSP Inputs General'!$A$43,R$49,R$50))*'DNSP Inputs General'!$D48*$C61","v":447.10526393297295},{"$f":"IF('DNSP Inputs General'!$B48='DNSP Inputs General'!$A$42,S$48,IF('DNSP Inputs General'!$B48='DNSP Inputs General'!$A$43,S$49,S$50))*'DNSP Inputs General'!$D48*$C61","v":447.10526393297295},{"$f":"IF('DNSP Inputs General'!$B48='DNSP Inputs General'!$A$42,T$48,IF('DNSP Inputs General'!$B48='DNSP Inputs General'!$A$43,T$49,T$50))*'DNSP Inputs General'!$D48*$C61","v":447.10526393297295},{"$f":"IF('DNSP Inputs General'!$B48='DNSP Inputs General'!$A$42,U$48,IF('DNSP Inputs General'!$B48='DNSP Inputs General'!$A$43,U$49,U$50))*'DNSP Inputs General'!$D48*$C61","v":447.10526393297295},{"$f":"IF('DNSP Inputs General'!$B48='DNSP Inputs General'!$A$42,V$48,IF('DNSP Inputs General'!$B48='DNSP Inputs General'!$A$43,V$49,V$50))*'DNSP Inputs General'!$D48*$C61","v":223.55263196648647},{"$f":"IF('DNSP Inputs General'!$B48='DNSP Inputs General'!$A$42,W$48,IF('DNSP Inputs General'!$B48='DNSP Inputs General'!$A$43,W$49,W$50))*'DNSP Inputs General'!$D48*$C61","v":447.10526393297295},{"$f":"IF('DNSP Inputs General'!$B48='DNSP Inputs General'!$A$42,X$48,IF('DNSP Inputs General'!$B48='DNSP Inputs General'!$A$43,X$49,X$50))*'DNSP Inputs General'!$D48*$C61","v":223.55263196648647},{"$f":"IF('DNSP Inputs General'!$B48='DNSP Inputs General'!$A$42,Y$48,IF('DNSP Inputs General'!$B48='DNSP Inputs General'!$A$43,Y$49,Y$50))*'DNSP Inputs General'!$D48*$C61","v":0},{"$f":"IF('DNSP Inputs General'!$B48='DNSP Inputs General'!$A$42,Z$48,IF('DNSP Inputs General'!$B48='DNSP Inputs General'!$A$43,Z$49,Z$50))*'DNSP Inputs General'!$D48*$C61","v":0},{"$f":"IF('DNSP Inputs General'!$B48='DNSP Inputs General'!$A$42,AA$48,IF('DNSP Inputs General'!$B48='DNSP Inputs General'!$A$43,AA$49,AA$50))*'DNSP Inputs General'!$D48*$C61","v":0}]
[{"$f":"'DNSP Inputs General'!A$49","v":"HP Sodium 100W"},null,1699.0773391874332,null,{"$f":"IF('DNSP Inputs General'!$B49='DNSP Inputs General'!$A$42,E$48,IF('DNSP Inputs General'!$B49='DNSP Inputs General'!$A$43,E$49,E$50))*'DNSP Inputs General'!$D49*$C62","v":84136.540360897285},{"$f":"IF('DNSP Inputs General'!$B49='DNSP Inputs General'!$A$42,F$48,IF('DNSP Inputs General'!$B49='DNSP Inputs General'!$A$43,F$49,F$50))*'DNSP Inputs General'!$D49*$C62","v":4674.2522422720704},{"$f":"IF('DNSP Inputs General'!$B49='DNSP Inputs General'!$A$42,G$48,IF('DNSP Inputs General'!$B49='DNSP Inputs General'!$A$43,G$49,G$50))*'DNSP Inputs General'!$D49*$C62","v":4674.2522422720704},{"$f":"IF('DNSP Inputs General'!$B49='DNSP Inputs General'!$A$42,H$48,IF('DNSP Inputs General'!$B49='DNSP Inputs General'!$A$43,H$49,H$50))*'DNSP Inputs General'!$D49*$C62","v":4674.2522422720704},{"$f":"IF('DNSP Inputs General'!$B49='DNSP Inputs General'!$A$42,I$48,IF('DNSP Inputs General'!$B49='DNSP Inputs General'!$A$43,I$49,I$50))*'DNSP Inputs General'!$D49*$C62","v":4674.2522422720704},{"$f":"IF('DNSP Inputs General'!$B49='DNSP Inputs General'!$A$42,J$48,IF('DNSP Inputs General'!$B49='DNSP Inputs General'!$A$43,J$49,J$50))*'DNSP Inputs General'!$D49*$C62","v":4674.2522422720704},{"$f":"IF('DNSP Inputs General'!$B49='DNSP Inputs General'!$A$42,K$48,IF('DNSP Inputs General'!$B49='DNSP Inputs General'!$A$43,K$49,K$50))*'DNSP Inputs General'!$D49*$C62","v":4674.2522422720704},{"$f":"IF('DNSP Inputs General'!$B49='DNSP Inputs General'!$A$42,L$48,IF('DNSP Inputs General'!$B49='DNSP Inputs General'!$A$43,L$49,L$50))*'DNSP Inputs General'!$D49*$C62","v":4674.2522422720704},{"$f":"IF('DNSP Inputs General'!$B49='DNSP Inputs General'!$A$42,M$48,IF('DNSP Inputs General'!$B49='DNSP Inputs General'!$A$43,M$49,M$50))*'DNSP Inputs General'!$D49*$C62","v":4674.2522422720704},{"$f":"IF('DNSP Inputs General'!$B49='DNSP Inputs General'!$A$42,N$48,IF('DNSP Inputs General'!$B49='DNSP Inputs General'!$A$43,N$49,N$50))*'DNSP Inputs General'!$D49*$C62","v":4674.2522422720704},{"$f":"IF('DNSP Inputs General'!$B49='DNSP Inputs General'!$A$42,O$48,IF('DNSP Inputs General'!$B49='DNSP Inputs General'!$A$43,O$49,O$50))*'DNSP Inputs General'!$D49*$C62","v":4674.2522422720704},{"$f":"IF('DNSP Inputs General'!$B49='DNSP Inputs General'!$A$42,P$48,IF('DNSP Inputs General'!$B49='DNSP Inputs General'!$A$43,P$49,P$50))*'DNSP Inputs General'!$D49*$C62","v":4674.2522422720704},{"$f":"IF('DNSP Inputs General'!$B49='DNSP Inputs General'!$A$42,Q$48,IF('DNSP Inputs General'!$B49='DNSP Inputs General'!$A$43,Q$49,Q$50))*'DNSP Inputs General'!$D49*$C62","v":4674.2522422720704},{"$f":"IF('DNSP Inputs General'!$B49='DNSP Inputs General'!$A$42,R$48,IF('DNSP Inputs General'!$B49='DNSP Inputs General'!$A$43,R$49,R$50))*'DNSP Inputs General'!$D49*$C62","v":4674.2522422720704},{"$f":"IF('DNSP Inputs General'!$B49='DNSP Inputs General'!$A$42,S$48,IF('DNSP Inputs General'!$B49='DNSP Inputs General'!$A$43,S$49,S$50))*'DNSP Inputs General'!$D49*$C62","v":4674.2522422720704},{"$f":"IF('DNSP Inputs General'!$B49='DNSP Inputs General'!$A$42,T$48,IF('DNSP Inputs General'!$B49='DNSP Inputs General'!$A$43,T$49,T$50))*'DNSP Inputs General'!$D49*$C62","v":4674.2522422720704},{"$f":"IF('DNSP Inputs General'!$B49='DNSP Inputs General'!$A$42,U$48,IF('DNSP Inputs General'!$B49='DNSP Inputs General'!$A$43,U$49,U$50))*'DNSP Inputs General'!$D49*$C62","v":4674.2522422720704},{"$f":"IF('DNSP Inputs General'!$B49='DNSP Inputs General'!$A$42,V$48,IF('DNSP Inputs General'!$B49='DNSP Inputs General'!$A$43,V$49,V$50))*'DNSP Inputs General'!$D49*$C62","v":2337.1261211360352},{"$f":"IF('DNSP Inputs General'!$B49='DNSP Inputs General'!$A$42,W$48,IF('DNSP Inputs General'!$B49='DNSP Inputs General'!$A$43,W$49,W$50))*'DNSP Inputs General'!$D49*$C62","v":4674.2522422720704},{"$f":"IF('DNSP Inputs General'!$B49='DNSP Inputs General'!$A$42,X$48,IF('DNSP Inputs General'!$B49='DNSP Inputs General'!$A$43,X$49,X$50))*'DNSP Inputs General'!$D49*$C62","v":2337.1261211360352},{"$f":"IF('DNSP Inputs General'!$B49='DNSP Inputs General'!$A$42,Y$48,IF('DNSP Inputs General'!$B49='DNSP Inputs General'!$A$43,Y$49,Y$50))*'DNSP Inputs General'!$D49*$C62","v":0},{"$f":"IF('DNSP Inputs General'!$B49='DNSP Inputs General'!$A$42,Z$48,IF('DNSP Inputs General'!$B49='DNSP Inputs General'!$A$43,Z$49,Z$50))*'DNSP Inputs General'!$D49*$C62","v":0},{"$f":"IF('DNSP Inputs General'!$B49='DNSP Inputs General'!$A$42,AA$48,IF('DNSP Inputs General'!$B49='DNSP Inputs General'!$A$43,AA$49,AA$50))*'DNSP Inputs General'!$D49*$C62","v":0}]
[{"$f":"'DNSP Inputs General'!A$50","v":"HP Sodium 400W"},null,295.53586712704305,null,{"$f":"IF('DNSP Inputs General'!$B50='DNSP Inputs General'!$A$42,E$48,IF('DNSP Inputs General'!$B50='DNSP Inputs General'!$A$43,E$49,E$50))*'DNSP Inputs General'!$D50*$C63","v":19811.456385814938},{"$f":"IF('DNSP Inputs General'!$B50='DNSP Inputs General'!$A$42,F$48,IF('DNSP Inputs General'!$B50='DNSP Inputs General'!$A$43,F$49,F$50))*'DNSP Inputs General'!$D50*$C63","v":1100.6364658786074},{"$f":"IF('DNSP Inputs General'!$B50='DNSP Inputs General'!$A$42,G$48,IF('DNSP Inputs General'!$B50='DNSP Inputs General'!$A$43,G$49,G$50))*'DNSP Inputs General'!$D50*$C63","v":1100.6364658786074},{"$f":"IF('DNSP Inputs General'!$B50='DNSP Inputs General'!$A$42,H$48,IF('DNSP Inputs General'!$B50='DNSP Inputs General'!$A$43,H$49,H$50))*'DNSP Inputs General'!$D50*$C63","v":1100.6364658786074},{"$f":"IF('DNSP Inputs General'!$B50='DNSP Inputs General'!$A$42,I$48,IF('DNSP Inputs General'!$B50='DNSP Inputs General'!$A$43,I$49,I$50))*'DNSP Inputs General'!$D50*$C63","v":1100.6364658786074},{"$f":"IF('DNSP Inputs General'!$B50='DNSP Inputs General'!$A$42,J$48,IF('DNSP Inputs General'!$B50='DNSP Inputs General'!$A$43,J$49,J$50))*'DNSP Inputs General'!$D50*$C63","v":1100.6364658786074},{"$f":"IF('DNSP Inputs General'!$B50='DNSP Inputs General'!$A$42,K$48,IF('DNSP Inputs General'!$B50='DNSP Inputs General'!$A$43,K$49,K$50))*'DNSP Inputs General'!$D50*$C63","v":1100.6364658786074},{"$f":"IF('DNSP Inputs General'!$B50='DNSP Inputs General'!$A$42,L$48,IF('DNSP Inputs General'!$B50='DNSP Inputs General'!$A$43,L$49,L$50))*'DNSP Inputs General'!$D50*$C63","v":1100.6364658786074},{"$f":"IF('DNSP Inputs General'!$B50='DNSP Inputs General'!$A$42,M$48,IF('DNSP Inputs General'!$B50='DNSP Inputs General'!$A$43,M$49,M$50))*'DNSP Inputs General'!$D50*$C63","v":1100.6364658786074},{"$f":"IF('DNSP Inputs General'!$B50='DNSP Inputs General'!$A$42,N$48,IF('DNSP Inputs General'!$B50='DNSP Inputs General'!$A$43,N$49,N$50))*'DNSP Inputs General'!$D50*$C63","v":1100.6364658786074},{"$f":"IF('DNSP Inputs General'!$B50='DNSP Inputs General'!$A$42,O$48,IF('DNSP Inputs General'!$B50='DNSP Inputs General'!$A$43,O$49,O$50))*'DNSP Inputs General'!$D50*$C63","v":1100.6364658786074},{"$f":"IF('DNSP Inputs General'!$B50='DNSP Inputs General'!$A$42,P$48,IF('DNSP Inputs General'!$B50='DNSP Inputs General'!$A$43,P$49,P$50))*'DNSP Inputs General'!$D50*$C63","v":1100.6364658786074},{"$f":"IF('DNSP Inputs General'!$B50='DNSP Inputs General'!$A$42,Q$48,IF('DNSP Inputs General'!$B50='DNSP Inputs General'!$A$43,Q$49,Q$50))*'DNSP Inputs General'!$D50*$C63","v":1100.6364658786074},{"$f":"IF('DNSP Inputs General'!$B50='DNSP Inputs General'!$A$42,R$48,IF('DNSP Inputs General'!$B50='DNSP Inputs General'!$A$43,R$49,R$50))*'DNSP Inputs General'!$D50*$C63","v":1100.6364658786074},{"$f":"IF('DNSP Inputs General'!$B50='DNSP Inputs General'!$A$42,S$48,IF('DNSP Inputs General'!$B50='DNSP Inputs General'!$A$43,S$49,S$50))*'DNSP Inputs General'!$D50*$C63","v":1100.6364658786074},{"$f":"IF('DNSP Inputs General'!$B50='DNSP Inputs General'!$A$42,T$48,IF('DNSP Inputs General'!$B50='DNSP Inputs General'!$A$43,T$49,T$50))*'DNSP Inputs General'!$D50*$C63","v":1100.6364658786074},{"$f":"IF('DNSP Inputs General'!$B50='DNSP Inputs General'!$A$42,U$48,IF('DNSP Inputs General'!$B50='DNSP Inputs General'!$A$43,U$49,U$50))*'DNSP Inputs General'!$D50*$C63","v":1100.6364658786074},{"$f":"IF('DNSP Inputs General'!$B50='DNSP Inputs General'!$A$42,V$48,IF('DNSP Inputs General'!$B50='DNSP Inputs General'!$A$43,V$49,V$50))*'DNSP Inputs General'!$D50*$C63","v":550.3182329393037},{"$f":"IF('DNSP Inputs General'!$B50='DNSP Inputs General'!$A$42,W$48,IF('DNSP Inputs General'!$B50='DNSP Inputs General'!$A$43,W$49,W$50))*'DNSP Inputs General'!$D50*$C63","v":1100.6364658786074},{"$f":"IF('DNSP Inputs General'!$B50='DNSP Inputs General'!$A$42,X$48,IF('DNSP Inputs General'!$B50='DNSP Inputs General'!$A$43,X$49,X$50))*'DNSP Inputs General'!$D50*$C63","v":550.3182329393037},{"$f":"IF('DNSP Inputs General'!$B50='DNSP Inputs General'!$A$42,Y$48,IF('DNSP Inputs General'!$B50='DNSP Inputs General'!$A$43,Y$49,Y$50))*'DNSP Inputs General'!$D50*$C63","v":0},{"$f":"IF('DNSP Inputs General'!$B50='DNSP Inputs General'!$A$42,Z$48,IF('DNSP Inputs General'!$B50='DNSP Inputs General'!$A$43,Z$49,Z$50))*'DNSP Inputs General'!$D50*$C63","v":0},{"$f":"IF('DNSP Inputs General'!$B50='DNSP Inputs General'!$A$42,AA$48,IF('DNSP Inputs General'!$B50='DNSP Inputs General'!$A$43,AA$49,AA$50))*'DNSP Inputs General'!$D50*$C63","v":0}]
[]
[]
[]
[]
[]
[]
[]
[]
[]
[]
[]
[]
[]
[null,null,null,null,{"$f":"SUM(E55:E76)","v":3464914.3983574007},{"$f":"SUM(F55:F76)","v":192495.24435318893},192495.24435318893,192495.24435318893,192495.24435318893,192495.24435318893,192495.24435318893,192495.24435318893,192495.24435318893,192495.24435318893,192495.24435318893,192495.24435318893,192495.24435318893,{"$f":"SUM(R55:R76)","v":192495.24435318893},{"$f":"SUM(S55:S76)","v":192495.24435318893},192495.24435318893,192495.24435318893,{"$f":"SUM(V55:V76)","v":96247.622176594465},192495.24435318893,96247.622176594465,0,0,0]
[]
["WDV",null,null,null,{"$f":"E77","v":3464914.3983574007},{"$f":"E79-F77","v":3272419.1540042115},{"$f":"F79-G77","v":3079923.9096510224},2887428.6652978333,2694933.4209446441,2502438.176591455,2309942.9322382659,2117447.6878850767,1924952.4435318878,1732457.1991786989,1539961.95482551,1347466.7104723211,1154971.4661191322,962476.22176594334,769980.97741275444,577485.73305956554,384990.48870637664,288742.86652978219,96247.622176593257,-1.2078089639544487E-9,-1.2078089639544487E-9,-1.2078089639544487E-9,-1.2078089639544487E-9]
[]
[]
["Poles & Brackets"]
["Depreciation",null,null,null,"Closing RAB per unit","Depreciation per unit"]
[null,null,null,null,{"$f":"E$47","v":2004},2005,2006,2007,2008,2009,2010,2011,2012,2013,2014,2015,2016,2017,2018,2019,2020,{"$f":"V$47","v":"HY2021"},{"$f":"W$47","v":"2022-06-30"},"2023-06-30","2024-06-30","2025-06-30","2026-06-30",{"$f":"EOMONTH(AA84,12)","v":"2027-06-30"},{"$f":"EOMONTH(AB84,12)","v":"2028-06-30"},"2029-06-30","2030-06-30","2031-06-30","2032-06-30","2033-06-30","2034-06-30","2035-06-30","2036-06-30","2037-06-30","2038-06-30","2039-06-30"]
[{"$f":"'RAB 2001 to 2004 Central'!A$28","v":"Dedicated poles"},null,null,null,{"$f":"F185+F186/2","v":30.187130915368446},{"$f":"F186","v":0.91476154288995293},{"$f":"G186","v":0.91476154288995293},0.91476154288995293,0.91476154288995293,0.91476154288995293,0.91476154288995293,0.91476154288995293,0.91476154288995293,0.91476154288995293,0.91476154288995293,0.91476154288995293,0.91476154288995293,0.91476154288995293,0.91476154288995293,0.91476154288995293,0.91476154288995293,{"$f":"V186","v":0.45738077144497646},0.91476154288995293,0.91476154288995293,0.91476154288995293,0.91476154288995293,0.91476154288995293,{"$f":"AB186","v":0.91476154288995293},0.91476154288995293,0.91476154288995293,0.91476154288995293,0.91476154288995293,0.91476154288995293,0.91476154288995293,0.91476154288995293,0.91476154288995293,0.91476154288995293,0.91476154288995293,0.45738077144497646,0]
[{"$f":"'RAB 2001 to 2004 Central'!A$33","v":"Brackets"},null,null,null,{"$f":"F199+F200/2","v":6.2063546092773541},{"$f":"F200","v":0.18807135179628345},{"$f":"G200","v":0.18807135179628345},0.18807135179628345,0.18807135179628345,0.18807135179628345,0.18807135179628345,0.18807135179628345,0.18807135179628345,0.18807135179628345,0.18807135179628345,0.18807135179628345,0.18807135179628345,0.18807135179628345,0.18807135179628345,0.18807135179628345,0.18807135179628345,{"$f":"V200","v":9.4035675898141727E-2},0.18807135179628345,0.18807135179628345,0.18807135179628345,0.18807135179628345,0.18807135179628345,{"$f":"AB200","v":0.18807135179628345},0.18807135179628345,0.18807135179628345,0.18807135179628345,0.18807135179628345,0.18807135179628345,0.18807135179628345,0.18807135179628345,0.18807135179628345,0.18807135179628345,0.18807135179628345,9.4035675898141727E-2,0]
[null,null,null,null,{"$f":"SUM(E85:E86)","v":36.393485524645797},{"$f":"SUM(F85:F86)","v":1.1028328946862365},{"$f":"SUM(G85:G86)","v":1.1028328946862365},1.1028328946862365,1.1028328946862365,1.1028328946862365,1.1028328946862365,1.1028328946862365,1.1028328946862365,1.1028328946862365,1.1028328946862365,1.1028328946862365,1.1028328946862365,1.1028328946862365,1.1028328946862365,1.1028328946862365,1.1028328946862365,{"$f":"SUM(V85:V86)","v":0.55141644734311823},1.1028328946862365,1.1028328946862365,1.1028328946862365,1.1028328946862365,1.1028328946862365,{"$f":"SUM(AB85:AB86)","v":1.1028328946862365},1.1028328946862365,1.1028328946862365,1.1028328946862365,1.1028328946862365,1.1028328946862365,1.1028328946862365,1.1028328946862365,1.1028328946862365,1.1028328946862365,1.1028328946862365,0.55141644734311823,0]
[]
[]
["Light Type",null,"Assumed",null,"Closing RAB","Depreciation"]
[null,null," 2004 Volumes",null,{"$f":"E$47","v":2004},2005,2006,2007,2008,2009,2010,2011,2012,2013,2014,2015,2016,2017,2018,2019,2020,{"$f":"V$47","v":"HY2021"},{"$f":"W$47","v":"2022-06-30"},"2023-06-30","2024-06-30","2025-06-30","2026-06-30",{"$f":"AB$84","v":"2027-06-30"},"2028-06-30","2029-06-30","2030-06-30","2031-06-30","2032-06-30","2033-06-30","2034-06-30","2035-06-30","2036-06-30","2037-06-30","2038-06-30","2039-06-30"]
[{"$f":"'DNSP Inputs General'!A$42","v":"Mercury Vapour 80W"},null,{"$f":"C$55","v":63176.295125504752},null,{"$f":"E$87*$C92","v":2299205.5821508081},{"$f":"F$87*$C92","v":69672.896428812383},69672.896428812383,69672.896428812383,69672.896428812383,69672.896428812383,69672.896428812383,69672.896428812383,69672.896428812383,69672.896428812383,69672.896428812383,69672.896428812383,69672.896428812383,{"$f":"R$87*$C92","v":69672.896428812383},{"$f":"S$87*$C92","v":69672.896428812383},69672.896428812383,69672.896428812383,34836.448214406191,69672.896428812383,69672.896428812383,69672.896428812383,69672.896428812383,69672.896428812383,69672.896428812383,69672.896428812383,69672.896428812383,69672.896428812383,69672.896428812383,69672.896428812383,69672.896428812383,{"$f":"AI$87*$C92","v":69672.896428812383},69672.896428812383,69672.896428812383,69672.896428812383,34836.448214406191,0]
[{"$f":"'DNSP Inputs General'!A$43","v":"HP Sodium 150W"},null,{"$f":"C$56","v":11309.578750263752},null,{"$f":"E$87*$C93","v":411594.99053756555},12472.575470835323,12472.575470835323,12472.575470835323,12472.575470835323,12472.575470835323,12472.575470835323,12472.575470835323,12472.575470835323,12472.575470835323,12472.575470835323,12472.575470835323,12472.575470835323,{"$f":"R$87*$C93","v":12472.575470835323},12472.575470835323,12472.575470835323,12472.575470835323,6236.2877354176617,12472.575470835323,12472.575470835323,12472.575470835323,12472.575470835323,12472.575470835323,12472.575470835323,12472.575470835323,12472.575470835323,12472.575470835323,12472.575470835323,12472.575470835323,12472.575470835323,12472.575470835323,12472.575470835323,12472.575470835323,12472.575470835323,6236.2877354176617,0]
[{"$f":"'DNSP Inputs General'!A$44","v":"HP Sodium 250W"},null,{"$f":"C$57","v":5935.0914346750506},null,{"$f":"E$87*$C94","v":215998.66421529572},6545.4140671301739,6545.4140671301739,6545.4140671301739,6545.4140671301739,6545.4140671301739,6545.4140671301739,6545.4140671301739,6545.4140671301739,6545.4140671301739,6545.4140671301739,6545.4140671301739,6545.4140671301739,{"$f":"R$87*$C94","v":6545.4140671301739},6545.4140671301739,6545.4140671301739,6545.4140671301739,3272.7070335650869,6545.4140671301739,6545.4140671301739,6545.4140671301739,6545.4140671301739,6545.4140671301739,6545.4140671301739,6545.4140671301739,6545.4140671301739,6545.4140671301739,6545.4140671301739,6545.4140671301739,6545.4140671301739,6545.4140671301739,6545.4140671301739,6545.4140671301739,6545.4140671301739,3272.7070335650869,0]
[{"$f":"'DNSP Inputs General'!A$45","v":"Mercury Vapour 50W"},null,{"$f":"C$58","v":393.03223566379955},null,{"$f":"E$87*'DNSP Inputs General'!$D45*$C95","v":21884.833858404985},{"$f":"F$87*'DNSP Inputs General'!$D45*$C95","v":663.17678358803005},{"$f":"G$87*'DNSP Inputs General'!$D45*$C95","v":663.17678358803005},{"$f":"H$87*'DNSP Inputs General'!$D45*$C95","v":663.17678358803005},{"$f":"I$87*'DNSP Inputs General'!$D45*$C95","v":663.17678358803005},{"$f":"J$87*'DNSP Inputs General'!$D45*$C95","v":663.17678358803005},{"$f":"K$87*'DNSP Inputs General'!$D45*$C95","v":663.17678358803005},{"$f":"L$87*'DNSP Inputs General'!$D45*$C95","v":663.17678358803005},{"$f":"M$87*'DNSP Inputs General'!$D45*$C95","v":663.17678358803005},{"$f":"N$87*'DNSP Inputs General'!$D45*$C95","v":663.17678358803005},{"$f":"O$87*'DNSP Inputs General'!$D45*$C95","v":663.17678358803005},{"$f":"P$87*'DNSP Inputs General'!$D45*$C95","v":663.17678358803005},{"$f":"Q$87*'DNSP Inputs General'!$D45*$C95","v":663.17678358803005},{"$f":"R$87*'DNSP Inputs General'!$D45*$C95","v":663.17678358803005},{"$f":"S$87*'DNSP Inputs General'!$D45*$C95","v":663.17678358803005},{"$f":"T$87*'DNSP Inputs General'!$D45*$C95","v":663.17678358803005},{"$f":"U$87*'DNSP Inputs General'!$D45*$C95","v":663.17678358803005},{"$f":"V$87*'DNSP Inputs General'!$D45*$C95","v":331.58839179401502},{"$f":"W$87*'DNSP Inputs General'!$D45*$C95","v":663.17678358803005},{"$f":"X$87*'DNSP Inputs General'!$D45*$C95","v":663.17678358803005},{"$f":"Y$87*'DNSP Inputs General'!$D45*$C95","v":663.17678358803005},{"$f":"Z$87*'DNSP Inputs General'!$D45*$C95","v":663.17678358803005},{"$f":"AA$87*'DNSP Inputs General'!$D45*$C95","v":663.17678358803005},{"$f":"AB$87*'DNSP Inputs General'!$D45*$C95","v":663.17678358803005},{"$f":"AC$87*'DNSP Inputs General'!$D45*$C95","v":663.17678358803005},{"$f":"AD$87*'DNSP Inputs General'!$D45*$C95","v":663.17678358803005},{"$f":"AE$87*'DNSP Inputs General'!$D45*$C95","v":663.17678358803005},{"$f":"AF$87*'DNSP Inputs General'!$D45*$C95","v":663.17678358803005},{"$f":"AG$87*'DNSP Inputs General'!$D45*$C95","v":663.17678358803005},{"$f":"AH$87*'DNSP Inputs General'!$D45*$C95","v":663.17678358803005},{"$f":"AI$87*'DNSP Inputs General'!$D45*$C95","v":663.17678358803005},{"$f":"AJ$87*'DNSP Inputs General'!$D45*$C95","v":663.17678358803005},{"$f":"AK$87*'DNSP Inputs General'!$D45*$C95","v":663.17678358803005},{"$f":"AL$87*'DNSP Inputs General'!$D45*$C95","v":663.17678358803005},{"$f":"AM$87*'DNSP Inputs General'!$D45*$C95","v":331.58839179401502},{"$f":"AN$87*'DNSP Inputs General'!$D45*$C95","v":0}]
[{"$f":"'DNSP Inputs General'!A$46","v":"Mercury Vapour 125W"},null,{"$f":"C$59","v":908.95051917080264},null,{"$f":"E$87*'DNSP Inputs General'!$D46*$C96","v":48627.420016230979},{"$f":"F$87*'DNSP Inputs General'!$D46*$C96","v":1473.5581823100297},{"$f":"G$87*'DNSP Inputs General'!$D46*$C96","v":1473.5581823100297},{"$f":"H$87*'DNSP Inputs General'!$D46*$C96","v":1473.5581823100297},{"$f":"I$87*'DNSP Inputs General'!$D46*$C96","v":1473.5581823100297},{"$f":"J$87*'DNSP Inputs General'!$D46*$C96","v":1473.5581823100297},{"$f":"K$87*'DNSP Inputs General'!$D46*$C96","v":1473.5581823100297},{"$f":"L$87*'DNSP Inputs General'!$D46*$C96","v":1473.5581823100297},{"$f":"M$87*'DNSP Inputs General'!$D46*$C96","v":1473.5581823100297},{"$f":"N$87*'DNSP Inputs General'!$D46*$C96","v":1473.5581823100297},{"$f":"O$87*'DNSP Inputs General'!$D46*$C96","v":1473.5581823100297},{"$f":"P$87*'DNSP Inputs General'!$D46*$C96","v":1473.5581823100297},{"$f":"Q$87*'DNSP Inputs General'!$D46*$C96","v":1473.5581823100297},{"$f":"R$87*'DNSP Inputs General'!$D46*$C96","v":1473.5581823100297},{"$f":"S$87*'DNSP Inputs General'!$D46*$C96","v":1473.5581823100297},{"$f":"T$87*'DNSP Inputs General'!$D46*$C96","v":1473.5581823100297},{"$f":"U$87*'DNSP Inputs General'!$D46*$C96","v":1473.5581823100297},{"$f":"V$87*'DNSP Inputs General'!$D46*$C96","v":736.77909115501484},{"$f":"W$87*'DNSP Inputs General'!$D46*$C96","v":1473.5581823100297},{"$f":"X$87*'DNSP Inputs General'!$D46*$C96","v":1473.5581823100297},{"$f":"Y$87*'DNSP Inputs General'!$D46*$C96","v":1473.5581823100297},{"$f":"Z$87*'DNSP Inputs General'!$D46*$C96","v":1473.5581823100297},{"$f":"AA$87*'DNSP Inputs General'!$D46*$C96","v":1473.5581823100297},{"$f":"AB$87*'DNSP Inputs General'!$D46*$C96","v":1473.5581823100297},{"$f":"AC$87*'DNSP Inputs General'!$D46*$C96","v":1473.5581823100297},{"$f":"AD$87*'DNSP Inputs General'!$D46*$C96","v":1473.5581823100297},{"$f":"AE$87*'DNSP Inputs General'!$D46*$C96","v":1473.5581823100297},{"$f":"AF$87*'DNSP Inputs General'!$D46*$C96","v":1473.5581823100297},{"$f":"AG$87*'DNSP Inputs General'!$D46*$C96","v":1473.5581823100297},{"$f":"AH$87*'DNSP Inputs General'!$D46*$C96","v":1473.5581823100297},{"$f":"AI$87*'DNSP Inputs General'!$D46*$C96","v":1473.5581823100297},{"$f":"AJ$87*'DNSP Inputs General'!$D46*$C96","v":1473.5581823100297},{"$f":"AK$87*'DNSP Inputs General'!$D46*$C96","v":1473.5581823100297},{"$f":"AL$87*'DNSP Inputs General'!$D46*$C96","v":1473.5581823100297},{"$f":"AM$87*'DNSP Inputs General'!$D46*$C96","v":736.77909115501484},{"$f":"AN$87*'DNSP Inputs General'!$D46*$C96","v":0}]
[{"$f":"'DNSP Inputs General'!A$47","v":"Mercury Vapour 250W"},null,{"$f":"C$60","v":906.91934482628687},null,{"$f":"E$87*'DNSP Inputs General'!$D47*$C97","v":34656.253850354558},{"$f":"F$87*'DNSP Inputs General'!$D47*$C97","v":1050.1895106168049},{"$f":"G$87*'DNSP Inputs General'!$D47*$C97","v":1050.1895106168049},{"$f":"H$87*'DNSP Inputs General'!$D47*$C97","v":1050.1895106168049},{"$f":"I$87*'DNSP Inputs General'!$D47*$C97","v":1050.1895106168049},{"$f":"J$87*'DNSP Inputs General'!$D47*$C97","v":1050.1895106168049},{"$f":"K$87*'DNSP Inputs General'!$D47*$C97","v":1050.1895106168049},{"$f":"L$87*'DNSP Inputs General'!$D47*$C97","v":1050.1895106168049},{"$f":"M$87*'DNSP Inputs General'!$D47*$C97","v":1050.1895106168049},{"$f":"N$87*'DNSP Inputs General'!$D47*$C97","v":1050.1895106168049},{"$f":"O$87*'DNSP Inputs General'!$D47*$C97","v":1050.1895106168049},{"$f":"P$87*'DNSP Inputs General'!$D47*$C97","v":1050.1895106168049},{"$f":"Q$87*'DNSP Inputs General'!$D47*$C97","v":1050.1895106168049},{"$f":"R$87*'DNSP Inputs General'!$D47*$C97","v":1050.1895106168049},{"$f":"S$87*'DNSP Inputs General'!$D47*$C97","v":1050.1895106168049},{"$f":"T$87*'DNSP Inputs General'!$D47*$C97","v":1050.1895106168049},{"$f":"U$87*'DNSP Inputs General'!$D47*$C97","v":1050.1895106168049},{"$f":"V$87*'DNSP Inputs General'!$D47*$C97","v":525.09475530840245},{"$f":"W$87*'DNSP Inputs General'!$D47*$C97","v":1050.1895106168049},{"$f":"X$87*'DNSP Inputs General'!$D47*$C97","v":1050.1895106168049},{"$f":"Y$87*'DNSP Inputs General'!$D47*$C97","v":1050.1895106168049},{"$f":"Z$87*'DNSP Inputs General'!$D47*$C97","v":1050.1895106168049},{"$f":"AA$87*'DNSP Inputs General'!$D47*$C97","v":1050.1895106168049},{"$f":"AB$87*'DNSP Inputs General'!$D47*$C97","v":1050.1895106168049},{"$f":"AC$87*'DNSP Inputs General'!$D47*$C97","v":1050.1895106168049},{"$f":"AD$87*'DNSP Inputs General'!$D47*$C97","v":1050.1895106168049},{"$f":"AE$87*'DNSP Inputs General'!$D47*$C97","v":1050.1895106168049},{"$f":"AF$87*'DNSP Inputs General'!$D47*$C97","v":1050.1895106168049},{"$f":"AG$87*'DNSP Inputs General'!$D47*$C97","v":1050.1895106168049},{"$f":"AH$87*'DNSP Inputs General'!$D47*$C97","v":1050.1895106168049},{"$f":"AI$87*'DNSP Inputs General'!$D47*$C97","v":1050.1895106168049},{"$f":"AJ$87*'DNSP Inputs General'!$D47*$C97","v":1050.1895106168049},{"$f":"AK$87*'DNSP Inputs General'!$D47*$C97","v":1050.1895106168049},{"$f":"AL$87*'DNSP Inputs General'!$D47*$C97","v":1050.1895106168049},{"$f":"AM$87*'DNSP Inputs General'!$D47*$C97","v":525.09475530840245},{"$f":"AN$87*'DNSP Inputs General'!$D47*$C97","v":0}]
[{"$f":"'DNSP Inputs General'!A$48","v":"Mercury Vapour 400W"},null,{"$f":"C$61","v":156.40042452771351},null,{"$f":"E$87*'DNSP Inputs General'!$D48*$C98","v":6204.2326788466016},{"$f":"F$87*'DNSP Inputs General'!$D48*$C98","v":188.00705087413948},{"$f":"G$87*'DNSP Inputs General'!$D48*$C98","v":188.00705087413948},{"$f":"H$87*'DNSP Inputs General'!$D48*$C98","v":188.00705087413948},{"$f":"I$87*'DNSP Inputs General'!$D48*$C98","v":188.00705087413948},{"$f":"J$87*'DNSP Inputs General'!$D48*$C98","v":188.00705087413948},{"$f":"K$87*'DNSP Inputs General'!$D48*$C98","v":188.00705087413948},{"$f":"L$87*'DNSP Inputs General'!$D48*$C98","v":188.00705087413948},{"$f":"M$87*'DNSP Inputs General'!$D48*$C98","v":188.00705087413948},{"$f":"N$87*'DNSP Inputs General'!$D48*$C98","v":188.00705087413948},{"$f":"O$87*'DNSP Inputs General'!$D48*$C98","v":188.00705087413948},{"$f":"P$87*'DNSP Inputs General'!$D48*$C98","v":188.00705087413948},{"$f":"Q$87*'DNSP Inputs General'!$D48*$C98","v":188.00705087413948},{"$f":"R$87*'DNSP Inputs General'!$D48*$C98","v":188.00705087413948},{"$f":"S$87*'DNSP Inputs General'!$D48*$C98","v":188.00705087413948},{"$f":"T$87*'DNSP Inputs General'!$D48*$C98","v":188.00705087413948},{"$f":"U$87*'DNSP Inputs General'!$D48*$C98","v":188.00705087413948},{"$f":"V$87*'DNSP Inputs General'!$D48*$C98","v":94.00352543706974},{"$f":"W$87*'DNSP Inputs General'!$D48*$C98","v":188.00705087413948},{"$f":"X$87*'DNSP Inputs General'!$D48*$C98","v":188.00705087413948},{"$f":"Y$87*'DNSP Inputs General'!$D48*$C98","v":188.00705087413948},{"$f":"Z$87*'DNSP Inputs General'!$D48*$C98","v":188.00705087413948},{"$f":"AA$87*'DNSP Inputs General'!$D48*$C98","v":188.00705087413948},{"$f":"AB$87*'DNSP Inputs General'!$D48*$C98","v":188.00705087413948},{"$f":"AC$87*'DNSP Inputs General'!$D48*$C98","v":188.00705087413948},{"$f":"AD$87*'DNSP Inputs General'!$D48*$C98","v":188.00705087413948},{"$f":"AE$87*'DNSP Inputs General'!$D48*$C98","v":188.00705087413948},{"$f":"AF$87*'DNSP Inputs General'!$D48*$C98","v":188.00705087413948},{"$f":"AG$87*'DNSP Inputs General'!$D48*$C98","v":188.00705087413948},{"$f":"AH$87*'DNSP Inputs General'!$D48*$C98","v":188.00705087413948},{"$f":"AI$87*'DNSP Inputs General'!$D48*$C98","v":188.00705087413948},{"$f":"AJ$87*'DNSP Inputs General'!$D48*$C98","v":188.00705087413948},{"$f":"AK$87*'DNSP Inputs General'!$D48*$C98","v":188.00705087413948},{"$f":"AL$87*'DNSP Inputs General'!$D48*$C98","v":188.00705087413948},{"$f":"AM$87*'DNSP Inputs General'!$D48*$C98","v":94.00352543706974},{"$f":"AN$87*'DNSP Inputs General'!$D48*$C98","v":0}]
[{"$f":"'DNSP Inputs General'!A$49","v":"HP Sodium 100W"},null,{"$f":"C$62","v":1699.0773391874332},null,{"$f":"E$87*'DNSP Inputs General'!$D49*$C99","v":66163.820807399563},{"$f":"F$87*'DNSP Inputs General'!$D49*$C99","v":2004.9642668908962},{"$f":"G$87*'DNSP Inputs General'!$D49*$C99","v":2004.9642668908962},{"$f":"H$87*'DNSP Inputs General'!$D49*$C99","v":2004.9642668908962},{"$f":"I$87*'DNSP Inputs General'!$D49*$C99","v":2004.9642668908962},{"$f":"J$87*'DNSP Inputs General'!$D49*$C99","v":2004.9642668908962},{"$f":"K$87*'DNSP Inputs General'!$D49*$C99","v":2004.9642668908962},{"$f":"L$87*'DNSP Inputs General'!$D49*$C99","v":2004.9642668908962},{"$f":"M$87*'DNSP Inputs General'!$D49*$C99","v":2004.9642668908962},{"$f":"N$87*'DNSP Inputs General'!$D49*$C99","v":2004.9642668908962},{"$f":"O$87*'DNSP Inputs General'!$D49*$C99","v":2004.9642668908962},{"$f":"P$87*'DNSP Inputs General'!$D49*$C99","v":2004.9642668908962},{"$f":"Q$87*'DNSP Inputs General'!$D49*$C99","v":2004.9642668908962},{"$f":"R$87*'DNSP Inputs General'!$D49*$C99","v":2004.9642668908962},{"$f":"S$87*'DNSP Inputs General'!$D49*$C99","v":2004.9642668908962},{"$f":"T$87*'DNSP Inputs General'!$D49*$C99","v":2004.9642668908962},{"$f":"U$87*'DNSP Inputs General'!$D49*$C99","v":2004.9642668908962},{"$f":"V$87*'DNSP Inputs General'!$D49*$C99","v":1002.4821334454481},{"$f":"W$87*'DNSP Inputs General'!$D49*$C99","v":2004.9642668908962},{"$f":"X$87*'DNSP Inputs General'!$D49*$C99","v":2004.9642668908962},{"$f":"Y$87*'DNSP Inputs General'!$D49*$C99","v":2004.9642668908962},{"$f":"Z$87*'DNSP Inputs General'!$D49*$C99","v":2004.9642668908962},{"$f":"AA$87*'DNSP Inputs General'!$D49*$C99","v":2004.9642668908962},{"$f":"AB$87*'DNSP Inputs General'!$D49*$C99","v":2004.9642668908962},{"$f":"AC$87*'DNSP Inputs General'!$D49*$C99","v":2004.9642668908962},{"$f":"AD$87*'DNSP Inputs General'!$D49*$C99","v":2004.9642668908962},{"$f":"AE$87*'DNSP Inputs General'!$D49*$C99","v":2004.9642668908962},{"$f":"AF$87*'DNSP Inputs General'!$D49*$C99","v":2004.9642668908962},{"$f":"AG$87*'DNSP Inputs General'!$D49*$C99","v":2004.9642668908962},{"$f":"AH$87*'DNSP Inputs General'!$D49*$C99","v":2004.9642668908962},{"$f":"AI$87*'DNSP Inputs General'!$D49*$C99","v":2004.9642668908962},{"$f":"AJ$87*'DNSP Inputs General'!$D49*$C99","v":2004.9642668908962},{"$f":"AK$87*'DNSP Inputs General'!$D49*$C99","v":2004.9642668908962},{"$f":"AL$87*'DNSP Inputs General'!$D49*$C99","v":2004.9642668908962},{"$f":"AM$87*'DNSP Inputs General'!$D49*$C99","v":1002.4821334454481},{"$f":"AN$87*'DNSP Inputs General'!$D49*$C99","v":0}]
[{"$f":"'DNSP Inputs General'!A$50","v":"HP Sodium 400W"},null,{"$f":"C$63","v":295.53586712704305},null,{"$f":"E$87*'DNSP Inputs General'!$D50*$C100","v":15272.924029268392},{"$f":"F$87*'DNSP Inputs General'!$D50*$C100","v":462.81587967479982},{"$f":"G$87*'DNSP Inputs General'!$D50*$C100","v":462.81587967479982},{"$f":"H$87*'DNSP Inputs General'!$D50*$C100","v":462.81587967479982},{"$f":"I$87*'DNSP Inputs General'!$D50*$C100","v":462.81587967479982},{"$f":"J$87*'DNSP Inputs General'!$D50*$C100","v":462.81587967479982},{"$f":"K$87*'DNSP Inputs General'!$D50*$C100","v":462.81587967479982},{"$f":"L$87*'DNSP Inputs General'!$D50*$C100","v":462.81587967479982},{"$f":"M$87*'DNSP Inputs General'!$D50*$C100","v":462.81587967479982},{"$f":"N$87*'DNSP Inputs General'!$D50*$C100","v":462.81587967479982},{"$f":"O$87*'DNSP Inputs General'!$D50*$C100","v":462.81587967479982},{"$f":"P$87*'DNSP Inputs General'!$D50*$C100","v":462.81587967479982},{"$f":"Q$87*'DNSP Inputs General'!$D50*$C100","v":462.81587967479982},{"$f":"R$87*'DNSP Inputs General'!$D50*$C100","v":462.81587967479982},{"$f":"S$87*'DNSP Inputs General'!$D50*$C100","v":462.81587967479982},{"$f":"T$87*'DNSP Inputs General'!$D50*$C100","v":462.81587967479982},{"$f":"U$87*'DNSP Inputs General'!$D50*$C100","v":462.81587967479982},{"$f":"V$87*'DNSP Inputs General'!$D50*$C100","v":231.40793983739991},{"$f":"W$87*'DNSP Inputs General'!$D50*$C100","v":462.81587967479982},{"$f":"X$87*'DNSP Inputs General'!$D50*$C100","v":462.81587967479982},{"$f":"Y$87*'DNSP Inputs General'!$D50*$C100","v":462.81587967479982},{"$f":"Z$87*'DNSP Inputs General'!$D50*$C100","v":462.81587967479982},{"$f":"AA$87*'DNSP Inputs General'!$D50*$C100","v":462.81587967479982},{"$f":"AB$87*'DNSP Inputs General'!$D50*$C100","v":462.81587967479982},{"$f":"AC$87*'DNSP Inputs General'!$D50*$C100","v":462.81587967479982},{"$f":"AD$87*'DNSP Inputs General'!$D50*$C100","v":462.81587967479982},{"$f":"AE$87*'DNSP Inputs General'!$D50*$C100","v":462.81587967479982},{"$f":"AF$87*'DNSP Inputs General'!$D50*$C100","v":462.81587967479982},{"$f":"AG$87*'DNSP Inputs General'!$D50*$C100","v":462.81587967479982},{"$f":"AH$87*'DNSP Inputs General'!$D50*$C100","v":462.81587967479982},{"$f":"AI$87*'DNSP Inputs General'!$D50*$C100","v":462.81587967479982},{"$f":"AJ$87*'DNSP Inputs General'!$D50*$C100","v":462.81587967479982},{"$f":"AK$87*'DNSP Inputs General'!$D50*$C100","v":462.81587967479982},{"$f":"AL$87*'DNSP Inputs General'!$D50*$C100","v":462.81587967479982},{"$f":"AM$87*'DNSP Inputs General'!$D50*$C100","v":231.40793983739991},{"$f":"AN$87*'DNSP Inputs General'!$D50*$C100","v":0}]
[]
[]
[]
[]
[]
[]
[]
[]
[]
[]
[]
[]
[]
[null,null,null,null,{"$f":"SUM(E92:E113)","v":3119608.7221441739},{"$f":"SUM(F92:F113)","v":94533.59764073258},94533.59764073258,94533.59764073258,94533.59764073258,94533.59764073258,94533.59764073258,94533.59764073258,94533.59764073258,94533.59764073258,94533.59764073258,94533.59764073258,94533.59764073258,{"$f":"SUM(R92:R113)","v":94533.59764073258},{"$f":"SUM(S92:S113)","v":94533.59764073258},94533.59764073258,94533.59764073258,{"$f":"SUM(V92:V113)","v":47266.79882036629},94533.59764073258,94533.59764073258,94533.59764073258,94533.59764073258,94533.59764073258,{"$f":"SUM(AB92:AB113)","v":94533.59764073258},94533.59764073258,94533.59764073258,94533.59764073258,94533.59764073258,94533.59764073258,94533.59764073258,94533.59764073258,94533.59764073258,94533.59764073258,94533.59764073258,47266.79882036629,0]
[]
["WDV",null,null,null,{"$f":"E114","v":3119608.7221441739},{"$f":"E116-F114","v":3025075.1245034412},{"$f":"F116-G114","v":2930541.5268627084},2836007.9292219756,2741474.3315812428,2646940.7339405101,2552407.1362997773,2457873.5386590445,2363339.9410183118,2268806.343377579,2174272.7457368462,2079739.1480961137,1985205.5504553812,1890671.9528146486,1796138.3551739161,1701604.7575331836,1607071.159892451,1559804.3610720846,1465270.7634313521,1370737.1657906196,1276203.568149887,1181669.9705091545,1087136.372868422,992602.77522768942,898069.17758695688,803535.57994622434,709001.98230549181,614468.38466475927,519934.78702402668,425401.18938329408,330867.59174256149,236333.9941018289,141800.3964610963,47266.798820363721,-2.5684130378067493E-9,-2.5684130378067493E-9]
[]
[]
[]
[]
["Detailed calculations"]
[]
[]
["DEPRECIATION PROFILE"]
["Year Counter",1,{"$f":"B125+1","v":2},3,4,5,6,7,8,9,10,11,12,13,14,15,16,17,18,19,20,{"$f":"U125+0.5","v":20.5},21.5,22.5,23.5,24.5,25.5,26.5,27.5,28.5,29.5,30.5,31.5,32.5,33.5,34.5,35.5,36.5,37.5,38.5]
["Numerator",2001,{"$f":"B126+1","v":2002},2003,2004,2005,2006,2007,2008,2009,2010,2011,2012,2013,2014,2015,2016,2017,2018,2019,2020,{"$f":"V$91","v":"HY2021"},{"$f":"W$91","v":"2022-06-30"},"2023-06-30","2024-06-30","2025-06-30","2026-06-30","2027-06-30","2028-06-30","2029-06-30","2030-06-30","2031-06-30","2032-06-30","2033-06-30","2034-06-30","2035-06-30","2036-06-30","2037-06-30","2038-06-30","2039-06-30"]
[{"$f":"'Inputs PL Final Decision 2004'!$A$65","v":"20 year asset life"},10,29,47,64,{"$f":"E127+10-4","v":70},{"$f":"F127-4","v":66},{"$f":"IF(G127-4<0,0,G127-4)","v":62},58,54,50,46,42,38,34,30,26,22,18,14,10,{"$f":"IF(U127-4<0,0,U127-2)","v":8},{"$f":"IF(V127-4<0,0,V127-4)","v":4},{"$f":"IF(W127-2<0,0,W127-2)","v":2},{"$f":"IF(X127-2<0,0,X127-2)","v":0},0,0,0,0,0,0,0,0,0,0,0,0,0,0,0]
[]
[{"$f":"'Inputs PL Final Decision 2004'!$A$74","v":"35 year asset life"},17.5,51.5,84.5,116.5,{"$f":"E129+17.5-4","v":130},{"$f":"F129-4","v":126},{"$f":"IF(G129-4<0,0,G129-4)","v":122},118,114,110,106,102,98,94,90,86,82,78,74,70,{"$f":"IF(U129-2<0,0,U129-2)","v":68},{"$f":"IF(V129-4<0,0,V129-4)","v":64},60,56,52,48,44,40,36,32,28,24,20,16,{"$f":"IF(AI129-1<0,0,AI129-4)","v":12},{"$f":"IF(AJ129-4<0,0,AJ129-4)","v":8},{"$f":"IF(AK129-4<0,0,AK129-4)","v":4},{"$f":"IF(AL129-2<0,0,AL129-2)","v":2},{"$f":"IF(AM129-2<0,0,AM129-2)","v":0}]
[]
[]
[]
[]
["MV 80",null,null,{"$f":"'Inputs PL Final Decision 2004'!$B$88","v":"Location of selected public lighting assets within distributors' areas (%)"},null,null,null,null,null,{"$f":"'Inputs PL Final Decision 2004'!$B$107","v":"Proportion of lights installed at 1 January 2001 (%)"}]
["Luminaire",null,null,{"$f":"'Inputs PL Final Decision 2004'!$B$92","v":"CitiPower"},{"$f":"IF($A$1='Inputs PL Final Decision 2004'!$A$123,'Inputs PL Final Decision 2004'!$C$92,IF($A$1='Inputs PL Final Decision 2004'!$A$124,'Inputs PL Final Decision 2004'!$D$92,IF($A$1='Inputs PL Final Decision 2004'!$A$125,'Inputs PL Final Decision 2004'!$E$92,IF($A$1='Inputs PL Final Decision 2004'!$A$126,'Inputs PL Final Decision 2004'!$F$92,IF($A$1='Inputs PL Final Decision 2004'!$A$127,'Inputs PL Final Decision 2004'!$G$92,'Inputs PL Final Decision 2004'!$H$92)))))","v":0},null,null,null,null,{"$f":"IF($A$1='Inputs PL Final Decision 2004'!$A$123,'Inputs PL Final Decision 2004'!$C$110,IF($A$1='Inputs PL Final Decision 2004'!$A$124,'Inputs PL Final Decision 2004'!$D$110,IF($A$1='Inputs PL Final Decision 2004'!$A$125,'Inputs PL Final Decision 2004'!$E$110,IF($A$1='Inputs PL Final Decision 2004'!$A$126,'Inputs PL Final Decision 2004'!$F$110,IF($A$1='Inputs PL Final Decision 2004'!$A$127,'Inputs PL Final Decision 2004'!$G$110,'Inputs PL Final Decision 2004'!$H$110)))))","v":0.88453792189886593}]
["Capital cost",{"$f":"($F$214*E135+$L$214*E136+$R$214*E137+$X$214*E138)*J135","v":213.67532867451413},null,{"$f":"'Inputs PL Final Decision 2004'!$B$93","v":"Urban"},{"$f":"IF($A$1='Inputs PL Final Decision 2004'!$A$123,'Inputs PL Final Decision 2004'!$C$93,IF($A$1='Inputs PL Final Decision 2004'!$A$124,'Inputs PL Final Decision 2004'!$D$93,IF($A$1='Inputs PL Final Decision 2004'!$A$125,'Inputs PL Final Decision 2004'!$E$93,IF($A$1='Inputs PL Final Decision 2004'!$A$126,'Inputs PL Final Decision 2004'!$F$93,IF($A$1='Inputs PL Final Decision 2004'!$A$127,'Inputs PL Final Decision 2004'!$G$93,'Inputs PL Final Decision 2004'!$H$93)))))","v":0.96}]
[{"$f":"'Inputs PL Final Decision 2004'!$A$20","v":"Depreciation period"},{"$f":"'Inputs PL Final Decision 2004'!$B$20","v":20},null,{"$f":"'Inputs PL Final Decision 2004'!$B$94","v":"Rural"},{"$f":"IF($A$1='Inputs PL Final Decision 2004'!$A$123,'Inputs PL Final Decision 2004'!$C$94,IF($A$1='Inputs PL Final Decision 2004'!$A$124,'Inputs PL Final Decision 2004'!$D$94,IF($A$1='Inputs PL Final Decision 2004'!$A$125,'Inputs PL Final Decision 2004'!$E$94,IF($A$1='Inputs PL Final Decision 2004'!$A$126,'Inputs PL Final Decision 2004'!$F$94,IF($A$1='Inputs PL Final Decision 2004'!$A$127,'Inputs PL Final Decision 2004'!$G$94,'Inputs PL Final Decision 2004'!$H$94)))))","v":0.04}]
[{"$f":"'Inputs PL Final Decision 2004'!$A$16","v":"Number of years from 1 January 2001"},{"$f":"'Inputs PL Final Decision 2004'!$B$16","v":4},null,{"$f":"'Inputs PL Final Decision 2004'!$B$95","v":"Remote"},{"$f":"IF($A$1='Inputs PL Final Decision 2004'!$A$123,'Inputs PL Final Decision 2004'!$C$95,IF($A$1='Inputs PL Final Decision 2004'!$A$124,'Inputs PL Final Decision 2004'!$D$95,IF($A$1='Inputs PL Final Decision 2004'!$A$125,'Inputs PL Final Decision 2004'!$E$95,IF($A$1='Inputs PL Final Decision 2004'!$A$126,'Inputs PL Final Decision 2004'!$F$95,IF($A$1='Inputs PL Final Decision 2004'!$A$127,'Inputs PL Final Decision 2004'!$G$95,'Inputs PL Final Decision 2004'!$H$95)))))","v":0}]
[]
[]
[]
[null,null,null,null,2004,{"$f":"E142+1","v":2005},2006,2007,2008,2009,2010,2011,2012,2013,2014,2015,{"$f":"P142+1","v":2016},{"$f":"Q142+1","v":2017},{"$f":"R142+1","v":2018},{"$f":"S142+1","v":2019},{"$f":"T142+1","v":2020},{"$f":"V$91","v":"HY2021"},{"$f":"W$91","v":"2022-06-30"},"2023-06-30","2024-06-30","2025-06-30","2026-06-30","2027-06-30","2028-06-30","2029-06-30","2030-06-30","2031-06-30","2032-06-30","2033-06-30","2034-06-30","2035-06-30","2036-06-30","2037-06-30","2038-06-30","2039-06-30"]
["RAB for Return",null,null,null,{"$f":"E$127/$B137*$B136/$B137","v":34.188052587922265},37.393182518039978,35.256429231294831,33.119675944549691,30.982922657804551,28.84616937105941,26.709416084314267,24.572662797569123,22.435909510823983,20.299156224078843,18.162402937333702,16.025649650588559,{"$f":"Q$127/$B137*$B136/$B137","v":13.88889636384342},11.752143077098278,9.6153897903531362,7.4786365036079943,5.3418832168628532,4.2735065734902831,2.1367532867451415,1.0683766433725708,0,0,0,0,0,0,0,0,0,0,0,0,0,0,0,0]
["Depreciation",null,null,null,{"$f":"IF(E143=0,0,$B$136*$B$138/$B$137/$B$137)","v":2.1367532867451411},2.1367532867451411,2.1367532867451411,2.1367532867451411,2.1367532867451411,2.1367532867451411,2.1367532867451411,2.1367532867451411,2.1367532867451411,2.1367532867451411,2.1367532867451411,2.1367532867451411,{"$f":"IF(Q143=0,0,$B$136*$B$138/$B$137/$B$137)","v":2.1367532867451411},2.1367532867451411,2.1367532867451411,2.1367532867451411,2.1367532867451411,{"$f":"IF(V143=0,0,$B$136*$B$138/$B$137/$B$137)*0.5","v":1.0683766433725705},2.1367532867451411,{"$f":"IF(X143=0,0,$B$136*$B$138/$B$137/$B$137)/2","v":1.0683766433725705},0,0,{"$f":"IF(AA143=0,0,$B$136*$B$138/$B$137/$B$137)","v":0},0,0,0,0,0,0,0,0,0,0,0,0,0]
[]
[]
[]
["S-HP 150 ",null,null,{"$f":"'Inputs PL Final Decision 2004'!$B$88","v":"Location of selected public lighting assets within distributors' areas (%)"},null,null,null,null,null,{"$f":"'Inputs PL Final Decision 2004'!$B$107","v":"Proportion of lights installed at 1 January 2001 (%)"}]
["Luminaire",null,null,{"$f":"'Inputs PL Final Decision 2004'!$B$92","v":"CitiPower"},{"$f":"IF($A$1='Inputs PL Final Decision 2004'!$A$123,'Inputs PL Final Decision 2004'!$C$97,IF($A$1='Inputs PL Final Decision 2004'!$A$124,'Inputs PL Final Decision 2004'!$D$97,IF($A$1='Inputs PL Final Decision 2004'!$A$125,'Inputs PL Final Decision 2004'!$E$97,IF($A$1='Inputs PL Final Decision 2004'!$A$126,'Inputs PL Final Decision 2004'!$F$97,IF($A$1='Inputs PL Final Decision 2004'!$A$127,'Inputs PL Final Decision 2004'!$G$97,'Inputs PL Final Decision 2004'!$H$97)))))","v":0},null,null,null,null,{"$f":"IF($A$1='Inputs PL Final Decision 2004'!$A$123,'Inputs PL Final Decision 2004'!$C$111,IF($A$1='Inputs PL Final Decision 2004'!$A$124,'Inputs PL Final Decision 2004'!$D$111,IF($A$1='Inputs PL Final Decision 2004'!$A$125,'Inputs PL Final Decision 2004'!$E$111,IF($A$1='Inputs PL Final Decision 2004'!$A$126,'Inputs PL Final Decision 2004'!$F$111,IF($A$1='Inputs PL Final Decision 2004'!$A$127,'Inputs PL Final Decision 2004'!$G$111,'Inputs PL Final Decision 2004'!$H$111)))))","v":0.9271778402248092}]
["Capital cost",{"$f":"($F$220*E149+$L$220*E150+$R$220*E151+$X$220*E152)*J149","v":257.10778072031616},null,{"$f":"'Inputs PL Final Decision 2004'!$B$93","v":"Urban"},{"$f":"IF($A$1='Inputs PL Final Decision 2004'!$A$123,'Inputs PL Final Decision 2004'!$C$98,IF($A$1='Inputs PL Final Decision 2004'!$A$124,'Inputs PL Final Decision 2004'!$D$98,IF($A$1='Inputs PL Final Decision 2004'!$A$125,'Inputs PL Final Decision 2004'!$E$98,IF($A$1='Inputs PL Final Decision 2004'!$A$126,'Inputs PL Final Decision 2004'!$F$98,IF($A$1='Inputs PL Final Decision 2004'!$A$127,'Inputs PL Final Decision 2004'!$G$98,'Inputs PL Final Decision 2004'!$H$98)))))","v":0.94}]
[{"$f":"'Inputs PL Final Decision 2004'!$A$20","v":"Depreciation period"},{"$f":"'Inputs PL Final Decision 2004'!$B$30","v":20},null,{"$f":"'Inputs PL Final Decision 2004'!$B$94","v":"Rural"},{"$f":"IF($A$1='Inputs PL Final Decision 2004'!$A$123,'Inputs PL Final Decision 2004'!$C$99,IF($A$1='Inputs PL Final Decision 2004'!$A$124,'Inputs PL Final Decision 2004'!$D$99,IF($A$1='Inputs PL Final Decision 2004'!$A$125,'Inputs PL Final Decision 2004'!$E$99,IF($A$1='Inputs PL Final Decision 2004'!$A$126,'Inputs PL Final Decision 2004'!$F$99,IF($A$1='Inputs PL Final Decision 2004'!$A$127,'Inputs PL Final Decision 2004'!$G$99,'Inputs PL Final Decision 2004'!$H$99)))))","v":0.06}]
[{"$f":"'Inputs PL Final Decision 2004'!$A$16","v":"Number of years from 1 January 2001"},{"$f":"'Inputs PL Final Decision 2004'!$B$16","v":4},null,{"$f":"'Inputs PL Final Decision 2004'!$B$95","v":"Remote"},{"$f":"IF($A$1='Inputs PL Final Decision 2004'!$A$123,'Inputs PL Final Decision 2004'!$C$100,IF($A$1='Inputs PL Final Decision 2004'!$A$124,'Inputs PL Final Decision 2004'!$D$100,IF($A$1='Inputs PL Final Decision 2004'!$A$125,'Inputs PL Final Decision 2004'!$E$100,IF($A$1='Inputs PL Final Decision 2004'!$A$126,'Inputs PL Final Decision 2004'!$F$100,IF($A$1='Inputs PL Final Decision 2004'!$A$127,'Inputs PL Final Decision 2004'!$G$100,'Inputs PL Final Decision 2004'!$H$100)))))","v":0}]
[]
[]
[]
[null,null,null,null,2004,{"$f":"E156+1","v":2005},2006,2007,2008,2009,2010,2011,2012,2013,2014,2015,{"$f":"P156+1","v":2016},{"$f":"Q156+1","v":2017},{"$f":"R156+1","v":2018},{"$f":"S156+1","v":2019},{"$f":"T156+1","v":2020},{"$f":"V$91","v":"HY2021"},{"$f":"W$91","v":"2022-06-30"},"2023-06-30","2024-06-30","2025-06-30","2026-06-30","2027-06-30","2028-06-30","2029-06-30","2030-06-30","2031-06-30","2032-06-30","2033-06-30","2034-06-30","2035-06-30","2036-06-30","2037-06-30","2038-06-30","2039-06-30"]
["RAB for Return",null,null,null,{"$f":"E$127/$B151*$B150/$B151","v":41.137244915250584},44.993861626055327,42.42278381885216,39.851706011649,37.280628204445847,34.709550397242687,32.13847259003952,29.567394782836356,26.996316975633199,24.425239168430032,21.854161361226872,19.283083554023712,{"$f":"Q$127/$B151*$B150/$B151","v":16.712005746820552},14.14092793961739,11.569850132414228,8.9987723252110658,6.4276945180079039,5.142155614406323,2.5710778072031615,1.2855389036015807,0,0,0,0,0,0,0,0,0,0,0,0,0,0,0,0]
["Depreciation",null,null,null,{"$f":"IF(E157=0,0,$B$150*$B$152/$B$151/$B$151)","v":2.5710778072031615},2.5710778072031615,2.5710778072031615,2.5710778072031615,2.5710778072031615,2.5710778072031615,2.5710778072031615,2.5710778072031615,2.5710778072031615,2.5710778072031615,2.5710778072031615,2.5710778072031615,{"$f":"IF(Q157=0,0,$B$150*$B$152/$B$151/$B$151)","v":2.5710778072031615},2.5710778072031615,2.5710778072031615,2.5710778072031615,2.5710778072031615,{"$f":"IF(V157=0,0,$B$150*$B$152/$B$151/$B$151)*0.5","v":1.2855389036015807},2.5710778072031615,{"$f":"IF(X157=0,0,$B$150*$B$152/$B$151/$B$151)*0.5","v":1.2855389036015807},0,0,{"$f":"IF(AA157=0,0,$B$150*$B$152/$B$151/$B$151)","v":0},0,0,0,0,0,0,0,0,0,0,0,0,0]
[]
[]
[]
["S-HP 250 ",null,null,{"$f":"'Inputs PL Final Decision 2004'!$B$88","v":"Location of selected public lighting assets within distributors' areas (%)"},null,null,null,null,null,{"$f":"'Inputs PL Final Decision 2004'!$B$107","v":"Proportion of lights installed at 1 January 2001 (%)"}]
["Luminaire",null,null,{"$f":"'Inputs PL Final Decision 2004'!$B$92","v":"CitiPower"},{"$f":"IF($A$1='Inputs PL Final Decision 2004'!$A$123,'Inputs PL Final Decision 2004'!$C$102,IF($A$1='Inputs PL Final Decision 2004'!$A$124,'Inputs PL Final Decision 2004'!$D$102,IF($A$1='Inputs PL Final Decision 2004'!$A$125,'Inputs PL Final Decision 2004'!$E$102,IF($A$1='Inputs PL Final Decision 2004'!$A$126,'Inputs PL Final Decision 2004'!$F$102,IF($A$1='Inputs PL Final Decision 2004'!$A$127,'Inputs PL Final Decision 2004'!$G$102,'Inputs PL Final Decision 2004'!$H$102)))))","v":0},null,null,null,null,{"$f":"IF($A$1='Inputs PL Final Decision 2004'!$A$123,'Inputs PL Final Decision 2004'!$C$112,IF($A$1='Inputs PL Final Decision 2004'!$A$124,'Inputs PL Final Decision 2004'!$D$112,IF($A$1='Inputs PL Final Decision 2004'!$A$125,'Inputs PL Final Decision 2004'!$E$112,IF($A$1='Inputs PL Final Decision 2004'!$A$126,'Inputs PL Final Decision 2004'!$F$112,IF($A$1='Inputs PL Final Decision 2004'!$A$127,'Inputs PL Final Decision 2004'!$G$112,'Inputs PL Final Decision 2004'!$H$112)))))","v":0.93238356164383551}]
["Capital cost",{"$f":"($F$226*E163+$L$226*E164+$R$226*E165+$X$226*E166)*J163","v":262.268032055216},null,{"$f":"'Inputs PL Final Decision 2004'!$B$93","v":"Urban"},{"$f":"IF($A$1='Inputs PL Final Decision 2004'!$A$123,'Inputs PL Final Decision 2004'!$C$103,IF($A$1='Inputs PL Final Decision 2004'!$A$124,'Inputs PL Final Decision 2004'!$D$103,IF($A$1='Inputs PL Final Decision 2004'!$A$125,'Inputs PL Final Decision 2004'!$E$103,IF($A$1='Inputs PL Final Decision 2004'!$A$126,'Inputs PL Final Decision 2004'!$F$103,IF($A$1='Inputs PL Final Decision 2004'!$A$127,'Inputs PL Final Decision 2004'!$G$103,'Inputs PL Final Decision 2004'!$H$103)))))","v":0.9}]
[{"$f":"'Inputs PL Final Decision 2004'!$A$20","v":"Depreciation period"},{"$f":"'Inputs PL Final Decision 2004'!$B$41","v":20},null,{"$f":"'Inputs PL Final Decision 2004'!$B$94","v":"Rural"},{"$f":"IF($A$1='Inputs PL Final Decision 2004'!$A$123,'Inputs PL Final Decision 2004'!$C$104,IF($A$1='Inputs PL Final Decision 2004'!$A$124,'Inputs PL Final Decision 2004'!$D$104,IF($A$1='Inputs PL Final Decision 2004'!$A$125,'Inputs PL Final Decision 2004'!$E$104,IF($A$1='Inputs PL Final Decision 2004'!$A$126,'Inputs PL Final Decision 2004'!$F$104,IF($A$1='Inputs PL Final Decision 2004'!$A$127,'Inputs PL Final Decision 2004'!$G$104,'Inputs PL Final Decision 2004'!$H$104)))))","v":0.1}]
[{"$f":"'Inputs PL Final Decision 2004'!$A$16","v":"Number of years from 1 January 2001"},{"$f":"'Inputs PL Final Decision 2004'!$B$16","v":4},null,{"$f":"'Inputs PL Final Decision 2004'!$B$95","v":"Remote"},{"$f":"IF($A$1='Inputs PL Final Decision 2004'!$A$123,'Inputs PL Final Decision 2004'!$C$105,IF($A$1='Inputs PL Final Decision 2004'!$A$124,'Inputs PL Final Decision 2004'!$D$105,IF($A$1='Inputs PL Final Decision 2004'!$A$125,'Inputs PL Final Decision 2004'!$E$105,IF($A$1='Inputs PL Final Decision 2004'!$A$126,'Inputs PL Final Decision 2004'!$F$105,IF($A$1='Inputs PL Final Decision 2004'!$A$127,'Inputs PL Final Decision 2004'!$G$105,'Inputs PL Final Decision 2004'!$H$105)))))","v":0}]
[]
[]
[]
[null,null,null,null,2004,{"$f":"E170+1","v":2005},2006,2007,2008,2009,2010,2011,2012,2013,2014,2015,{"$f":"P170+1","v":2016},{"$f":"Q170+1","v":2017},{"$f":"R170+1","v":2018},{"$f":"S170+1","v":2019},{"$f":"T170+1","v":2020},{"$f":"V$91","v":"HY2021"},{"$f":"W$91","v":"2022-06-30"},"2023-06-30","2024-06-30","2025-06-30","2026-06-30","2027-06-30","2028-06-30","2029-06-30","2030-06-30","2031-06-30","2032-06-30","2033-06-30","2034-06-30","2035-06-30","2036-06-30","2037-06-30","2038-06-30","2039-06-30"]
["RAB for Return",null,null,null,{"$f":"E$127/$B165*$B164/$B165","v":41.962885128834564},45.896905609662795,43.274225289110639,40.651544968558483,38.028864648006319,35.406184327454163,32.783504006902,30.160823686349836,27.53814336579768,24.91546304524552,22.29278272469336,19.670102404141197,{"$f":"Q$127/$B165*$B164/$B165","v":17.047422083589041},14.424741763036881,11.802061442484719,9.1793811219325594,6.5567008013803996,5.2453606411043205,2.6226803205521603,1.3113401602760801,0,0,0,0,0,0,0,0,0,0,0,0,0,0,0,0]
["Depreciation",null,null,null,{"$f":"IF(E171=0,0,$B$164*$B$166/$B$165/$B$165)","v":2.6226803205521598},2.6226803205521598,2.6226803205521598,2.6226803205521598,2.6226803205521598,2.6226803205521598,2.6226803205521598,2.6226803205521598,2.6226803205521598,2.6226803205521598,2.6226803205521598,2.6226803205521598,{"$f":"IF(Q171=0,0,$B$164*$B$166/$B$165/$B$165)","v":2.6226803205521598},2.6226803205521598,2.6226803205521598,2.6226803205521598,2.6226803205521598,{"$f":"IF(V171=0,0,$B$164*$B$166/$B$165/$B$165)*0.5","v":1.3113401602760799},2.6226803205521598,{"$f":"IF(X171=0,0,$B$164*$B$166/$B$165/$B$165)/2","v":1.3113401602760799},0,0,{"$f":"IF(AA171=0,0,$B$164*$B$166/$B$165/$B$165)","v":0},0,0,0,0,0,0,0,0,0,0,0,0,0]
[]
[]
[]
["Poles & Brackets",null,null,{"$f":"'Inputs PL Final Decision 2004'!$B$88","v":"Location of selected public lighting assets within distributors' areas (%)"},null,null,null,null,null,{"$f":"'Inputs PL Final Decision 2004'!$A$114","v":"Proportion of lights on dedicated poles"},null,null,null,{"$f":"'Inputs PL Final Decision 2004'!$A$115","v":"Proportion of dedicated poles at 1 Jan 2001"}]
["Dedicated poles",null,null,{"$f":"'Inputs PL Final Decision 2004'!$B$92","v":"CitiPower"},{"$f":"IF($A$1='Inputs PL Final Decision 2004'!$A$123,'Inputs PL Final Decision 2004'!$C$92,IF($A$1='Inputs PL Final Decision 2004'!$A$124,'Inputs PL Final Decision 2004'!$D$92,IF($A$1='Inputs PL Final Decision 2004'!$A$125,'Inputs PL Final Decision 2004'!$E$92,IF($A$1='Inputs PL Final Decision 2004'!$A$126,'Inputs PL Final Decision 2004'!$F$92,IF($A$1='Inputs PL Final Decision 2004'!$A$127,'Inputs PL Final Decision 2004'!$G$92,'Inputs PL Final Decision 2004'!$H$92)))))","v":0},null,null,null,null,{"$f":"IF($A$1='Inputs PL Final Decision 2004'!$A$123,'Inputs PL Final Decision 2004'!$C$114,IF($A$1='Inputs PL Final Decision 2004'!$A$124,'Inputs PL Final Decision 2004'!$D$114,IF($A$1='Inputs PL Final Decision 2004'!$A$125,'Inputs PL Final Decision 2004'!$E$114,IF($A$1='Inputs PL Final Decision 2004'!$A$126,'Inputs PL Final Decision 2004'!$F$114,IF($A$1='Inputs PL Final Decision 2004'!$A$127,'Inputs PL Final Decision 2004'!$G$114,'Inputs PL Final Decision 2004'!$H$114)))))","v":0.38119062500000001},null,null,null,{"$f":"IF($A$1='Inputs PL Final Decision 2004'!$A$123,'Inputs PL Final Decision 2004'!$C$115,IF($A$1='Inputs PL Final Decision 2004'!$A$124,'Inputs PL Final Decision 2004'!$D$115,IF($A$1='Inputs PL Final Decision 2004'!$A$125,'Inputs PL Final Decision 2004'!$E$115,IF($A$1='Inputs PL Final Decision 2004'!$A$126,'Inputs PL Final Decision 2004'!$F$115,IF($A$1='Inputs PL Final Decision 2004'!$A$127,'Inputs PL Final Decision 2004'!$G$115,'Inputs PL Final Decision 2004'!$H$115)))))","v":0.89230769230769236}]
["Capital cost",{"$f":"($F$231*E177+$L$231*E178+$R$231*E179+$X$231*E180)*J177*N177","v":280.14572251004807},null,{"$f":"'Inputs PL Final Decision 2004'!$B$93","v":"Urban"},{"$f":"IF($A$1='Inputs PL Final Decision 2004'!$A$123,'Inputs PL Final Decision 2004'!$C$93,IF($A$1='Inputs PL Final Decision 2004'!$A$124,'Inputs PL Final Decision 2004'!$D$93,IF($A$1='Inputs PL Final Decision 2004'!$A$125,'Inputs PL Final Decision 2004'!$E$93,IF($A$1='Inputs PL Final Decision 2004'!$A$126,'Inputs PL Final Decision 2004'!$F$93,IF($A$1='Inputs PL Final Decision 2004'!$A$127,'Inputs PL Final Decision 2004'!$G$93,'Inputs PL Final Decision 2004'!$H$93)))))","v":0.96}]
[{"$f":"'Inputs PL Final Decision 2004'!$A$52","v":"Depreciation of dedicated street lighting pole & bracket"},{"$f":"'Inputs PL Final Decision 2004'!$B$52","v":35},null,{"$f":"'Inputs PL Final Decision 2004'!$B$94","v":"Rural"},{"$f":"IF($A$1='Inputs PL Final Decision 2004'!$A$123,'Inputs PL Final Decision 2004'!$C$94,IF($A$1='Inputs PL Final Decision 2004'!$A$124,'Inputs PL Final Decision 2004'!$D$94,IF($A$1='Inputs PL Final Decision 2004'!$A$125,'Inputs PL Final Decision 2004'!$E$94,IF($A$1='Inputs PL Final Decision 2004'!$A$126,'Inputs PL Final Decision 2004'!$F$94,IF($A$1='Inputs PL Final Decision 2004'!$A$127,'Inputs PL Final Decision 2004'!$G$94,'Inputs PL Final Decision 2004'!$H$94)))))","v":0.04}]
[{"$f":"'Inputs PL Final Decision 2004'!$A$16","v":"Number of years from 1 January 2001"},{"$f":"'Inputs PL Final Decision 2004'!$B$16","v":4},null,{"$f":"'Inputs PL Final Decision 2004'!$B$95","v":"Remote"},{"$f":"IF($A$1='Inputs PL Final Decision 2004'!$A$123,'Inputs PL Final Decision 2004'!$C$95,IF($A$1='Inputs PL Final Decision 2004'!$A$124,'Inputs PL Final Decision 2004'!$D$95,IF($A$1='Inputs PL Final Decision 2004'!$A$125,'Inputs PL Final Decision 2004'!$E$95,IF($A$1='Inputs PL Final Decision 2004'!$A$126,'Inputs PL Final Decision 2004'!$F$95,IF($A$1='Inputs PL Final Decision 2004'!$A$127,'Inputs PL Final Decision 2004'!$G$95,'Inputs PL Final Decision 2004'!$H$95)))))","v":0}]
[]
[]
[]
[null,null,null,null,2004,{"$f":"E184+1","v":2005},2006,2007,2008,2009,2010,2011,2012,2013,2014,2015,{"$f":"P184+1","v":2016},{"$f":"Q184+1","v":2017},{"$f":"R184+1","v":2018},{"$f":"S184+1","v":2019},{"$f":"T184+1","v":2020},{"$f":"V$91","v":"HY2021"},{"$f":"W$91","v":"2022-06-30"},"2023-06-30","2024-06-30","2025-06-30","2026-06-30","2027-06-30","2028-06-30","2029-06-30","2030-06-30","2031-06-30","2032-06-30","2033-06-30","2034-06-30","2035-06-30","2036-06-30","2037-06-30","2038-06-30","2039-06-30"]
["RAB for Return",null,null,null,{"$f":"E$129/$B179*$B178/$B179","v":26.642429936669881},29.729750143923468,28.814988601033516,27.900227058143564,26.985465515253608,26.070703972363656,25.155942429473704,24.241180886583749,23.3264193436938,22.411657800803845,21.496896257913892,20.582134715023944,{"$f":"Q$129/$B179*$B178/$B179","v":19.667373172133988},18.752611629244036,17.837850086354081,16.923088543464129,16.008327000574177,15.550946229129201,14.636184686239247,13.721423143349293,12.806661600459341,11.891900057569389,10.977138514679435,10.062376971789481,9.1476154288995293,8.2328538860095755,7.3180923431196234,6.4033308002296705,5.4885692573397176,4.5738077144497646,3.6590461715598117,2.7442846286698588,1.8295230857799059,0.91476154288995293,0.45738077144497646,0]
["Depreciation",null,null,null,{"$f":"IF(E185=0,0,$B$178*$B$180/$B$179/$B$179)","v":0.91476154288995293},0.91476154288995293,0.91476154288995293,0.91476154288995293,0.91476154288995293,0.91476154288995293,0.91476154288995293,0.91476154288995293,0.91476154288995293,0.91476154288995293,0.91476154288995293,0.91476154288995293,{"$f":"IF(Q185=0,0,$B$178*$B$180/$B$179/$B$179)","v":0.91476154288995293},0.91476154288995293,0.91476154288995293,0.91476154288995293,0.91476154288995293,{"$f":"IF(V185=0,0,$B$178*$B$180/$B$179/$B$179)*0.5","v":0.45738077144497646},0.91476154288995293,0.91476154288995293,0.91476154288995293,0.91476154288995293,0.91476154288995293,0.91476154288995293,0.91476154288995293,0.91476154288995293,0.91476154288995293,0.91476154288995293,0.91476154288995293,0.91476154288995293,0.91476154288995293,0.91476154288995293,0.91476154288995293,0.91476154288995293,{"$f":"IF(AM185=0,0,$B$178*$B$180/$B$179/$B$179)/2","v":0.45738077144497646},0]
[]
[]
[]
["Poles & Brackets",null,null,{"$f":"'Inputs PL Final Decision 2004'!$B$88","v":"Location of selected public lighting assets within distributors' areas (%)"},null,null,null,null,null,{"$f":"'Inputs PL Final Decision 2004'!$A$117","v":"Proportion of non-dedicated poles at 1 Jan 2001"}]
["Brackets",null,null,{"$f":"'Inputs PL Final Decision 2004'!$B$92","v":"CitiPower"},{"$f":"IF($A$1='Inputs PL Final Decision 2004'!$A$123,'Inputs PL Final Decision 2004'!$C$92,IF($A$1='Inputs PL Final Decision 2004'!$A$124,'Inputs PL Final Decision 2004'!$D$92,IF($A$1='Inputs PL Final Decision 2004'!$A$125,'Inputs PL Final Decision 2004'!$E$92,IF($A$1='Inputs PL Final Decision 2004'!$A$126,'Inputs PL Final Decision 2004'!$F$92,IF($A$1='Inputs PL Final Decision 2004'!$A$127,'Inputs PL Final Decision 2004'!$G$92,'Inputs PL Final Decision 2004'!$H$92)))))","v":0},null,null,null,null,{"$f":"IF($A$1='Inputs PL Final Decision 2004'!$A$123,'Inputs PL Final Decision 2004'!$C$117,IF($A$1='Inputs PL Final Decision 2004'!$A$124,'Inputs PL Final Decision 2004'!$D$117,IF($A$1='Inputs PL Final Decision 2004'!$A$125,'Inputs PL Final Decision 2004'!$E$117,IF($A$1='Inputs PL Final Decision 2004'!$A$126,'Inputs PL Final Decision 2004'!$F$117,IF($A$1='Inputs PL Final Decision 2004'!$A$127,'Inputs PL Final Decision 2004'!$G$117,'Inputs PL Final Decision 2004'!$H$117)))))","v":0.54998659800000005}]
["Capital cost",{"$f":"($F$236*E191+$L$236*E192+$R$236*E193+$X$236*E194)*J191","v":57.596851487611808},null,{"$f":"'Inputs PL Final Decision 2004'!$B$93","v":"Urban"},{"$f":"IF($A$1='Inputs PL Final Decision 2004'!$A$123,'Inputs PL Final Decision 2004'!$C$93,IF($A$1='Inputs PL Final Decision 2004'!$A$124,'Inputs PL Final Decision 2004'!$D$93,IF($A$1='Inputs PL Final Decision 2004'!$A$125,'Inputs PL Final Decision 2004'!$E$93,IF($A$1='Inputs PL Final Decision 2004'!$A$126,'Inputs PL Final Decision 2004'!$F$93,IF($A$1='Inputs PL Final Decision 2004'!$A$127,'Inputs PL Final Decision 2004'!$G$93,'Inputs PL Final Decision 2004'!$H$93)))))","v":0.96}]
[{"$f":"'Inputs PL Final Decision 2004'!$A$52","v":"Depreciation of dedicated street lighting pole & bracket"},{"$f":"'Inputs PL Final Decision 2004'!$B$52","v":35},null,{"$f":"'Inputs PL Final Decision 2004'!$B$94","v":"Rural"},{"$f":"IF($A$1='Inputs PL Final Decision 2004'!$A$123,'Inputs PL Final Decision 2004'!$C$94,IF($A$1='Inputs PL Final Decision 2004'!$A$124,'Inputs PL Final Decision 2004'!$D$94,IF($A$1='Inputs PL Final Decision 2004'!$A$125,'Inputs PL Final Decision 2004'!$E$94,IF($A$1='Inputs PL Final Decision 2004'!$A$126,'Inputs PL Final Decision 2004'!$F$94,IF($A$1='Inputs PL Final Decision 2004'!$A$127,'Inputs PL Final Decision 2004'!$G$94,'Inputs PL Final Decision 2004'!$H$94)))))","v":0.04}]
[{"$f":"'Inputs PL Final Decision 2004'!$A$16","v":"Number of years from 1 January 2001"},{"$f":"'Inputs PL Final Decision 2004'!$B$16","v":4},null,{"$f":"'Inputs PL Final Decision 2004'!$B$95","v":"Remote"},{"$f":"IF($A$1='Inputs PL Final Decision 2004'!$A$123,'Inputs PL Final Decision 2004'!$C$95,IF($A$1='Inputs PL Final Decision 2004'!$A$124,'Inputs PL Final Decision 2004'!$D$95,IF($A$1='Inputs PL Final Decision 2004'!$A$125,'Inputs PL Final Decision 2004'!$E$95,IF($A$1='Inputs PL Final Decision 2004'!$A$126,'Inputs PL Final Decision 2004'!$F$95,IF($A$1='Inputs PL Final Decision 2004'!$A$127,'Inputs PL Final Decision 2004'!$G$95,'Inputs PL Final Decision 2004'!$H$95)))))","v":0}]
[]
[]
[]
[null,null,null,null,2004,{"$f":"E198+1","v":2005},2006,2007,2008,2009,2010,2011,2012,2013,2014,2015,{"$f":"P198+1","v":2016},{"$f":"Q198+1","v":2017},{"$f":"R198+1","v":2018},{"$f":"S198+1","v":2019},{"$f":"T198+1","v":2020},{"$f":"V$91","v":"HY2021"},{"$f":"W$91","v":"2022-06-30"},"2023-06-30","2024-06-30","2025-06-30","2026-06-30","2027-06-30","2028-06-30","2029-06-30","2030-06-30","2031-06-30","2032-06-30","2033-06-30","2034-06-30","2035-06-30","2036-06-30","2037-06-30","2038-06-30","2039-06-30"]
["RAB for Return",null,null,null,{"$f":"E$129/$B193*$B192/$B193","v":5.477578121066756},6.1123189333792123,5.9242475815829287,5.7361762297866461,5.5481048779903626,5.3600335261940781,5.1719621743977946,4.9838908226015111,4.7958194708052275,4.6077481190089449,4.4196767672126613,4.2316054154163778,{"$f":"Q$129/$B193*$B192/$B193","v":4.0435340636200943},3.8554627118238112,3.6673913600275276,3.4793200082312437,3.2912486564349606,3.1972129805368188,3.0091416287405353,2.8210702769442517,2.6329989251479686,2.4449275733516846,2.2568562215554016,2.068784869759118,1.8807135179628343,1.6926421661665509,1.5045708143702676,1.3164994625739843,1.1284281107777008,0.94035675898141713,0.75228540718513381,0.56421405538885039,0.37614270359256691,0.18807135179628345,9.4035675898141727E-2,0]
["Depreciation",null,null,null,{"$f":"IF(E199=0,0,$B$192*$B$194/$B$193/$B$193)","v":0.18807135179628345},0.18807135179628345,0.18807135179628345,0.18807135179628345,0.18807135179628345,0.18807135179628345,0.18807135179628345,0.18807135179628345,0.18807135179628345,0.18807135179628345,0.18807135179628345,0.18807135179628345,{"$f":"IF(Q199=0,0,$B$192*$B$194/$B$193/$B$193)","v":0.18807135179628345},0.18807135179628345,0.18807135179628345,0.18807135179628345,0.18807135179628345,{"$f":"IF(V199=0,0,$B$192*$B$194/$B$193/$B$193)*0.5","v":9.4035675898141727E-2},0.18807135179628345,0.18807135179628345,0.18807135179628345,0.18807135179628345,0.18807135179628345,0.18807135179628345,0.18807135179628345,0.18807135179628345,0.18807135179628345,0.18807135179628345,0.18807135179628345,0.18807135179628345,0.18807135179628345,0.18807135179628345,0.18807135179628345,0.18807135179628345,{"$f":"IF(AM199=0,0,$B$192*$B$194/$B$193/$B$193)/2","v":9.4035675898141727E-2},0]
[]
[]
[]
[]
[]
[]
[]
[null,"CitiPower",null,null,null,null,null,"Urban",null,null,null,null,null,"Rural",null,null,null,null,null,"Remote"]
[]
[null,"Unit rate","Number","Hours","Cost","Annualised",null,"Unit rate","Number","Hours","Cost","Annualised",null,"Unit rate","Number","Hours","Cost","Annualised",null,"Unit rate","Number","Hours","Cost","Annualised"]
[null,null,null,null,null," cost",null,null,null,null,null," cost",null,null,null,null,null," cost",null,null,null,null,null," cost"]
["MV80"]
["Luminaires "]
["Material & misc",{"$f":"'Inputs PL Final Decision 2004'!$B$21+'Inputs PL Final Decision 2004'!$B$22","v":159.55000000000001},{"$f":"'Inputs PL Final Decision 2004'!$B$24","v":16},null,{"$f":"B214*C214","v":2552.8000000000002},{"$f":"(E214+E215+E216)/C214","v":240.24687500000002},null,{"$f":"'Inputs PL Final Decision 2004'!$B$21+'Inputs PL Final Decision 2004'!$B$22","v":159.55000000000001},{"$f":"'Inputs PL Final Decision 2004'!$B$24","v":16},null,{"$f":"H214*I214","v":2552.8000000000002},{"$f":"(K214+K215+K216)/I214","v":240.24687500000002},null,{"$f":"('Inputs PL Final Decision 2004'!$B$21+'Inputs PL Final Decision 2004'!$B$22)*(1+'Inputs PL Final Decision 2004'!$B$10)","v":167.52750000000003},{"$f":"'Inputs PL Final Decision 2004'!$B$25","v":13},null,{"$f":"N214*O214","v":2177.8575000000005},{"$f":"(Q214+Q215+Q216)/O214","v":273.2544230769231},null,{"$f":"('Inputs PL Final Decision 2004'!$B$21+'Inputs PL Final Decision 2004'!$B$22)*(1+'Inputs PL Final Decision 2004'!$B$10)","v":167.52750000000003},{"$f":"'Inputs PL Final Decision 2004'!$B$26","v":10},null,{"$f":"T214*U214","v":1675.2750000000003},{"$f":"(W214+W215+W216)/U214","v":304.97250000000003}]
["Crew costs",{"$f":"'Inputs PL Final Decision 2004'!$B$11","v":60},{"$f":"'Inputs PL Final Decision 2004'!$B$23","v":2},{"$f":"'Inputs PL Final Decision 2004'!$B$14","v":8.33},{"$f":"B215*C215*D215","v":999.6},null,null,{"$f":"'Inputs PL Final Decision 2004'!$B$11","v":60},{"$f":"'Inputs PL Final Decision 2004'!$B$23","v":2},{"$f":"'Inputs PL Final Decision 2004'!$B$14","v":8.33},{"$f":"H215*I215*J215","v":999.6},null,null,{"$f":"'Inputs PL Final Decision 2004'!$B$11","v":60},{"$f":"'Inputs PL Final Decision 2004'!$B$23","v":2},{"$f":"'Inputs PL Final Decision 2004'!$B$14","v":8.33},{"$f":"N215*O215*P215","v":999.6},null,null,{"$f":"'Inputs PL Final Decision 2004'!$B$11","v":60},{"$f":"'Inputs PL Final Decision 2004'!$B$23","v":2},{"$f":"'Inputs PL Final Decision 2004'!$B$14","v":8.33},{"$f":"T215*U215*V215","v":999.6}]
["Elevated platform costs",{"$f":"'Inputs PL Final Decision 2004'!$B$12","v":35},1,{"$f":"'Inputs PL Final Decision 2004'!$B$14","v":8.33},{"$f":"B216*C216*D216","v":291.55},null,null,{"$f":"'Inputs PL Final Decision 2004'!$B$12","v":35},1,{"$f":"'Inputs PL Final Decision 2004'!$B$14","v":8.33},{"$f":"H216*I216*J216","v":291.55},null,null,{"$f":"'Inputs PL Final Decision 2004'!$B$13","v":45},1,{"$f":"'Inputs PL Final Decision 2004'!$B$14","v":8.33},{"$f":"N216*O216*P216","v":374.85},null,null,{"$f":"'Inputs PL Final Decision 2004'!$B$13","v":45},1,{"$f":"'Inputs PL Final Decision 2004'!$B$14","v":8.33},{"$f":"T216*U216*V216","v":374.85}]
[]
["S-HP 150"]
["Luminaires "]
["Material & misc",{"$f":"'Inputs PL Final Decision 2004'!$B$31+'Inputs PL Final Decision 2004'!$B$32","v":189.64},{"$f":"'Inputs PL Final Decision 2004'!$B$35","v":16},null,{"$f":"B220*C220","v":3034.24},{"$f":"(E220+E221+E222)/C220","v":291.16187500000001},null,{"$f":"'Inputs PL Final Decision 2004'!$B$31+'Inputs PL Final Decision 2004'!$B$32","v":189.64},{"$f":"'Inputs PL Final Decision 2004'!$B$35","v":16},null,{"$f":"H220*I220","v":3034.24},{"$f":"(K220+K221+K222)/I220","v":275.54312499999997},null,{"$f":"('Inputs PL Final Decision 2004'!$B$31+'Inputs PL Final Decision 2004'!$B$32)*(1+'Inputs PL Final Decision 2004'!$B$10)","v":199.12199999999999},{"$f":"'Inputs PL Final Decision 2004'!$B$36","v":13},null,{"$f":"N220*O220","v":2588.5859999999998},{"$f":"(Q220+Q221+Q222)/O220","v":304.84892307692303},null,{"$f":"('Inputs PL Final Decision 2004'!$B$31+'Inputs PL Final Decision 2004'!$B$32)*(1+'Inputs PL Final Decision 2004'!$B$10)","v":199.12199999999999},{"$f":"'Inputs PL Final Decision 2004'!$B$37","v":10},null,{"$f":"T220*U220","v":1991.2199999999998},{"$f":"(W220+W221+W222)/U220","v":336.56699999999995}]
["Crew costs",{"$f":"'Inputs PL Final Decision 2004'!$B$11","v":60},{"$f":"'Inputs PL Final Decision 2004'!$B$34","v":2.5},{"$f":"'Inputs PL Final Decision 2004'!$B$14","v":8.33},{"$f":"D221*C221*B221","v":1249.5},null,null,{"$f":"'Inputs PL Final Decision 2004'!$B$11","v":60},{"$f":"'Inputs PL Final Decision 2004'!$B$33","v":2},{"$f":"'Inputs PL Final Decision 2004'!$B$14","v":8.33},{"$f":"J221*I221*H221","v":999.6},null,null,{"$f":"'Inputs PL Final Decision 2004'!$B$11","v":60},{"$f":"'Inputs PL Final Decision 2004'!$B$33","v":2},{"$f":"'Inputs PL Final Decision 2004'!$B$14","v":8.33},{"$f":"P221*O221*N221","v":999.6},null,null,{"$f":"'Inputs PL Final Decision 2004'!$B$11","v":60},{"$f":"'Inputs PL Final Decision 2004'!$B$33","v":2},{"$f":"'Inputs PL Final Decision 2004'!$B$14","v":8.33},{"$f":"V221*U221*T221","v":999.6}]
["Elevated platform vehicle costs",{"$f":"'Inputs PL Final Decision 2004'!$B$13","v":45},1,{"$f":"'Inputs PL Final Decision 2004'!$B$14","v":8.33},{"$f":"D222*C222*B222","v":374.85},null,null,{"$f":"'Inputs PL Final Decision 2004'!$B$13","v":45},1,{"$f":"'Inputs PL Final Decision 2004'!$B$14","v":8.33},{"$f":"J222*I222*H222","v":374.85},null,null,{"$f":"'Inputs PL Final Decision 2004'!$B$13","v":45},1,{"$f":"'Inputs PL Final Decision 2004'!$B$14","v":8.33},{"$f":"P222*O222*N222","v":374.85},null,null,{"$f":"'Inputs PL Final Decision 2004'!$B$13","v":45},1,{"$f":"'Inputs PL Final Decision 2004'!$B$14","v":8.33},{"$f":"V222*U222*T222","v":374.85}]
[]
["S-HP 250"]
["Luminaires "]
["Material & misc",{"$f":"'Inputs PL Final Decision 2004'!$B$42+'Inputs PL Final Decision 2004'!$B$43","v":192.44},{"$f":"'Inputs PL Final Decision 2004'!$B$46","v":16},null,{"$f":"B226*C226","v":3079.04},{"$f":"(E226+E227+E228)/C226","v":293.96187500000002},null,{"$f":"'Inputs PL Final Decision 2004'!$B$42+'Inputs PL Final Decision 2004'!$B$43","v":192.44},{"$f":"'Inputs PL Final Decision 2004'!$B$46","v":16},null,{"$f":"H226*I226","v":3079.04},{"$f":"(K226+K227+K228)/I226","v":278.34312499999999},null,{"$f":"('Inputs PL Final Decision 2004'!$B$42+'Inputs PL Final Decision 2004'!$B$43)*(1+'Inputs PL Final Decision 2004'!$B$10)","v":202.06200000000001},{"$f":"'Inputs PL Final Decision 2004'!$B$47","v":13},null,{"$f":"N226*O226","v":2626.806},{"$f":"(Q226+Q227+Q228)/O226","v":307.78892307692308},null,{"$f":"('Inputs PL Final Decision 2004'!$B$42+'Inputs PL Final Decision 2004'!$B$43)*(1+'Inputs PL Final Decision 2004'!$B$10)","v":202.06200000000001},{"$f":"'Inputs PL Final Decision 2004'!$B$48","v":10},null,{"$f":"T226*U226","v":2020.6200000000001},{"$f":"(W226+W227+W228)/U226","v":339.50700000000001}]
["Crew costs",{"$f":"'Inputs PL Final Decision 2004'!$B$11","v":60},{"$f":"'Inputs PL Final Decision 2004'!$B$45","v":2.5},{"$f":"'Inputs PL Final Decision 2004'!$B$14","v":8.33},{"$f":"D227*C227*B227","v":1249.5},null,null,{"$f":"'Inputs PL Final Decision 2004'!$B$11","v":60},{"$f":"'Inputs PL Final Decision 2004'!$B$44","v":2},{"$f":"'Inputs PL Final Decision 2004'!$B$14","v":8.33},{"$f":"J227*I227*H227","v":999.6},null,null,{"$f":"'Inputs PL Final Decision 2004'!$B$11","v":60},{"$f":"'Inputs PL Final Decision 2004'!$B$44","v":2},{"$f":"'Inputs PL Final Decision 2004'!$B$14","v":8.33},{"$f":"P227*O227*N227","v":999.6},null,null,{"$f":"'Inputs PL Final Decision 2004'!$B$11","v":60},{"$f":"'Inputs PL Final Decision 2004'!$B$44","v":2},{"$f":"'Inputs PL Final Decision 2004'!$B$14","v":8.33},{"$f":"V227*U227*T227","v":999.6}]
["Elevated platform vehicle costs",{"$f":"'Inputs PL Final Decision 2004'!$B$13","v":45},1,{"$f":"'Inputs PL Final Decision 2004'!$B$14","v":8.33},{"$f":"D228*C228*B228","v":374.85},null,null,{"$f":"'Inputs PL Final Decision 2004'!$B$13","v":45},1,{"$f":"'Inputs PL Final Decision 2004'!$B$14","v":8.33},{"$f":"J228*I228*H228","v":374.85},null,null,{"$f":"'Inputs PL Final Decision 2004'!$B$13","v":45},1,{"$f":"'Inputs PL Final Decision 2004'!$B$14","v":8.33},{"$f":"P228*O228*N228","v":374.85},null,null,{"$f":"'Inputs PL Final Decision 2004'!$B$13","v":45},1,{"$f":"'Inputs PL Final Decision 2004'!$B$14","v":8.33},{"$f":"V228*U228*T228","v":374.85}]
[]
["Dedicated poles"]
["Material",{"$f":"'Inputs PL Final Decision 2004'!$B$53","v":500},{"$f":"'Inputs PL Final Decision 2004'!$B$54","v":4},null,{"$f":"C231*B231","v":2000},{"$f":"(E231+E232+E233)/C231","v":822.78750000000002},null,{"$f":"'Inputs PL Final Decision 2004'!$B$53","v":500},{"$f":"'Inputs PL Final Decision 2004'!$B$54","v":4},null,{"$f":"I231*H231","v":2000},{"$f":"(K231+K232+K233)/I231","v":822.78750000000002},null,{"$f":"'Inputs PL Final Decision 2004'!$B$53","v":500},{"$f":"'Inputs PL Final Decision 2004'!$B$54","v":4},null,{"$f":"O231*N231","v":2000},{"$f":"(Q231+Q232+Q233)/O231","v":843.61249999999995},null,{"$f":"'Inputs PL Final Decision 2004'!$B$53","v":500},{"$f":"'Inputs PL Final Decision 2004'!$B$54","v":4},null,{"$f":"U231*T231","v":2000},{"$f":"(W231+W232+W233)/U231","v":843.61249999999995}]
["Crew costs",{"$f":"'Inputs PL Final Decision 2004'!$B$11","v":60},{"$f":"'Inputs PL Final Decision 2004'!$B$23","v":2},{"$f":"'Inputs PL Final Decision 2004'!$B$14","v":8.33},{"$f":"B232*C232*D232","v":999.6},null,null,{"$f":"'Inputs PL Final Decision 2004'!$B$11","v":60},{"$f":"'Inputs PL Final Decision 2004'!$B$23","v":2},{"$f":"'Inputs PL Final Decision 2004'!$B$14","v":8.33},{"$f":"H232*I232*J232","v":999.6},null,null,{"$f":"'Inputs PL Final Decision 2004'!$B$11","v":60},{"$f":"'Inputs PL Final Decision 2004'!$B$23","v":2},{"$f":"'Inputs PL Final Decision 2004'!$B$14","v":8.33},{"$f":"N232*O232*P232","v":999.6},null,null,{"$f":"'Inputs PL Final Decision 2004'!$B$11","v":60},{"$f":"'Inputs PL Final Decision 2004'!$B$23","v":2},{"$f":"'Inputs PL Final Decision 2004'!$B$14","v":8.33},{"$f":"T232*U232*V232","v":999.6}]
["Elevated platform costs",{"$f":"'Inputs PL Final Decision 2004'!$B$12","v":35},1,{"$f":"'Inputs PL Final Decision 2004'!$B$14","v":8.33},{"$f":"B233*C233*D233","v":291.55},null,null,{"$f":"'Inputs PL Final Decision 2004'!$B$12","v":35},1,{"$f":"'Inputs PL Final Decision 2004'!$B$14","v":8.33},{"$f":"H233*I233*J233","v":291.55},null,null,{"$f":"'Inputs PL Final Decision 2004'!$B$13","v":45},1,{"$f":"'Inputs PL Final Decision 2004'!$B$14","v":8.33},{"$f":"N233*O233*P233","v":374.85},null,null,{"$f":"'Inputs PL Final Decision 2004'!$B$13","v":45},1,{"$f":"'Inputs PL Final Decision 2004'!$B$14","v":8.33},{"$f":"T233*U233*V233","v":374.85}]
[]
["Brackets"]
["Material",{"$f":"'Inputs PL Final Decision 2004'!$B$55","v":40},{"$f":"'Inputs PL Final Decision 2004'!$B$56","v":20},null,{"$f":"C236*B236","v":800},{"$f":"(E236+E237+E238)/C236","v":104.5575},null,{"$f":"'Inputs PL Final Decision 2004'!$B$55","v":40},{"$f":"'Inputs PL Final Decision 2004'!$B$56","v":20},null,{"$f":"I236*H236","v":800},{"$f":"(K236+K237+K238)/I236","v":104.5575},null,{"$f":"'Inputs PL Final Decision 2004'!$B$55","v":40},{"$f":"'Inputs PL Final Decision 2004'!$B$56","v":20},null,{"$f":"O236*N236","v":800},{"$f":"(Q236+Q237+Q238)/O236","v":108.7225},null,{"$f":"'Inputs PL Final Decision 2004'!$B$55","v":40},{"$f":"'Inputs PL Final Decision 2004'!$B$56","v":20},null,{"$f":"U236*T236","v":800},{"$f":"(W236+W237+W238)/U236","v":108.7225}]
["Crew costs",{"$f":"'Inputs PL Final Decision 2004'!$B$11","v":60},{"$f":"'Inputs PL Final Decision 2004'!$B$23","v":2},{"$f":"'Inputs PL Final Decision 2004'!$B$14","v":8.33},{"$f":"B237*C237*D237","v":999.6},null,null,{"$f":"'Inputs PL Final Decision 2004'!$B$11","v":60},{"$f":"'Inputs PL Final Decision 2004'!$B$23","v":2},{"$f":"'Inputs PL Final Decision 2004'!$B$14","v":8.33},{"$f":"H237*I237*J237","v":999.6},null,null,{"$f":"'Inputs PL Final Decision 2004'!$B$11","v":60},{"$f":"'Inputs PL Final Decision 2004'!$B$23","v":2},{"$f":"'Inputs PL Final Decision 2004'!$B$14","v":8.33},{"$f":"N237*O237*P237","v":999.6},null,null,{"$f":"'Inputs PL Final Decision 2004'!$B$11","v":60},{"$f":"'Inputs PL Final Decision 2004'!$B$23","v":2},{"$f":"'Inputs PL Final Decision 2004'!$B$14","v":8.33},{"$f":"T237*U237*V237","v":999.6}]
["Elevated platform costs",{"$f":"'Inputs PL Final Decision 2004'!$B$12","v":35},1,{"$f":"'Inputs PL Final Decision 2004'!$B$14","v":8.33},{"$f":"B238*C238*D238","v":291.55},null,null,{"$f":"'Inputs PL Final Decision 2004'!$B$12","v":35},1,{"$f":"'Inputs PL Final Decision 2004'!$B$14","v":8.33},{"$f":"H238*I238*J238","v":291.55},null,null,{"$f":"'Inputs PL Final Decision 2004'!$B$13","v":45},1,{"$f":"'Inputs PL Final Decision 2004'!$B$14","v":8.33},{"$f":"N238*O238*P238","v":374.85},null,null,{"$f":"'Inputs PL Final Decision 2004'!$B$13","v":45},1,{"$f":"'Inputs PL Final Decision 2004'!$B$14","v":8.33},{"$f":"T238*U238*V238","v":374.85}]
[" "]

{"sheet":"RAB 2001 to 2004 N & E","index":18,"n_rows":239,"n_cols":40,"rows_kept":239,"cut":false,"hidden":false,"merged":[[207,1,207,5],[207,7,207,11],[207,13,207,17],[207,19,207,23],[45,5,45,26],[52,5,52,26],[82,5,82,26],[89,5,89,26]]}
[{"$f":"'Inputs PL Final Decision 2004'!$A$127","v":"SP AusNet - North/East"}]
[]
["Public Lighting RAB - Assets constructed between 1 January 2001 and 31 December 2004."]
["Historical cost ($)"]
[]
["Summary"]
[]
["Cost Per Unit",null,{"$f":"'DNSP Inputs General'!Q2","v":"2022-06-30"},{"$f":"'DNSP Inputs General'!R2","v":"2023-06-30"},{"$f":"'DNSP Inputs General'!S2","v":"2024-06-30"},{"$f":"'DNSP Inputs General'!T2","v":"2025-06-30"},{"$f":"'DNSP Inputs General'!U2","v":"2026-06-30"}]
["Rate of return (per annum) (Nominal Pre tax WACC)",null,{"$f":"WACC!E$8","v":4.8182086034950888E-2},{"$f":"WACC!F$8","v":4.8182086034950888E-2},{"$f":"WACC!G$8","v":4.8182086034950888E-2},{"$f":"WACC!H$8","v":4.8182086034950888E-2},{"$f":"WACC!I$8","v":4.8182086034950888E-2}]
[]
["Luminaires"]
[{"$f":"$A$134","v":"MV 80"}]
["Luminaire - depreciation",null,{"$f":"W144","v":2.348204217238206},{"$f":"X144","v":1.174102108619103},0,0,0]
["Luminaire - return on",null,{"$f":"W143*C$9","v":0.11314137762260575},{"$f":"X143*D$9","v":5.6570688811302873E-2},0,0,0]
["Capital Charge",null,{"$f":"SUM(C13:C14)","v":2.4613455948608118},{"$f":"SUM(D13:D14)","v":1.2306727974304059},0,0,0]
[]
[{"$f":"$A$148","v":"S-HP 150 "}]
["Luminaire - depreciation",null,{"$f":"W158","v":2.7655624098724645},{"$f":"X158","v":1.3827812049362322},0,0,0]
["Luminaire - return on",null,{"$f":"W157*C$9","v":0.13325056596750121},{"$f":"X157*D$9","v":6.6625282983750603E-2},0,0,0]
["Capital Charge",null,{"$f":"SUM(C18:C19)","v":2.8988129758399657},{"$f":"SUM(D18:D19)","v":1.4494064879199828},0,0,0]
[]
[{"$f":"$A$162","v":"S-HP 250 "}]
["Luminaire - depreciation",null,{"$f":"W172","v":2.785934692528135},{"$f":"X172","v":1.3929673462640675},0,0,0]
["Luminaire - return on",null,{"$f":"W171*C$9","v":0.13423214504314507},{"$f":"X171*D$9","v":6.7116072521572534E-2},0,0,0]
["Capital Charge",null,{"$f":"SUM(C23:C24)","v":2.9201668375712799},{"$f":"SUM(D23:D24)","v":1.46008341878564},0,0,0]
[]
[{"$f":"$A$176","v":"Poles & Brackets"}]
[{"$f":"$A$177","v":"Dedicated poles"}]
["Dedicated poles - depreciation",null,{"$f":"W186","v":0.92962471672939739},{"$f":"X186","v":0.92962471672939739},0.92962471672939739,0.92962471672939739,0.92962471672939739]
["Dedicated poles - return on",null,{"$f":"W185*C$9","v":0.71666012930676282},{"$f":"X185*D$9","v":0.67186887122509009},0.62707761314341748,0.58228635506174486,0.53749509698007214]
["Capital Charge",null,{"$f":"SUM(C29:C30)","v":1.6462848460361603},{"$f":"SUM(D29:D30)","v":1.6014935879544874},1.5567023298728149,1.5119110717911424,1.4671198137094694]
[]
[{"$f":"A191","v":"Brackets"}]
["Brackets - depreciation",null,{"$f":"W200","v":0.19258177577179436},{"$f":"X200","v":0.19258177577179436},0.19258177577179436,0.19258177577179436,0.19258177577179436]
["Brackets - return on",null,{"$f":"W199*C$9","v":0.14846386702400344},{"$f":"X199*D$9","v":0.13918487533500323},0.12990588364600303,0.12062689195700282,0.11134790026800259]
["Capital Charge",null,{"$f":"SUM(C34:C35)","v":0.3410456427957978},{"$f":"SUM(D34:D35)","v":0.33176665110679759},0.32248765941779739,0.31320866772879719,0.30392967603979693]
[]
[]
[]
[]
["Closing RAB at 31 December 2004 and Depreciation per annum 2005 onwards"]
[]
["Note : Calculation of the closing $ value of RAB in 2004 is Unit WDV at 31 December 2004 multiplied by volumes at 31 December 2004."]
[]
["Luminaires"]
["Depreciation",null,null,null,"Closing RAB per unit","Depreciation per unit"]
[null,null,null,null,2004,2005,2006,2007,2008,2009,2010,2011,2012,2013,2014,2015,2016,2017,2018,2019,2020,{"$f":"'DNSP Inputs General'!P2","v":"HY2021"},{"$f":"'DNSP Inputs General'!Q2","v":"2022-06-30"},{"$f":"'DNSP Inputs General'!R2","v":"2023-06-30"},{"$f":"'DNSP Inputs General'!S2","v":"2024-06-30"},{"$f":"'DNSP Inputs General'!T2","v":"2025-06-30"},{"$f":"'DNSP Inputs General'!U2","v":"2026-06-30"}]
[{"$f":"'DNSP Inputs General'!A$86","v":"Mercury Vapour 80W"},null,null,null,{"$f":"F143+F144/2","v":42.267675910287707},{"$f":"F144","v":2.348204217238206},{"$f":"G144","v":2.348204217238206},2.348204217238206,2.348204217238206,2.348204217238206,2.348204217238206,2.348204217238206,2.348204217238206,2.348204217238206,2.348204217238206,2.348204217238206,2.348204217238206,2.348204217238206,2.348204217238206,2.348204217238206,2.348204217238206,{"$f":"V144","v":1.174102108619103},2.348204217238206,1.174102108619103,0,0,0]
[{"$f":"'DNSP Inputs General'!A$87","v":"HP Sodium 150W"},null,null,null,{"$f":"F157+F158/2","v":49.780123377704356},{"$f":"F158","v":2.7655624098724645},{"$f":"G158","v":2.7655624098724645},2.7655624098724645,2.7655624098724645,2.7655624098724645,2.7655624098724645,2.7655624098724645,2.7655624098724645,2.7655624098724645,2.7655624098724645,2.7655624098724645,2.7655624098724645,2.7655624098724645,2.7655624098724645,2.7655624098724645,2.7655624098724645,{"$f":"V158","v":1.3827812049362322},2.7655624098724645,1.3827812049362322,0,0,0]
[{"$f":"'DNSP Inputs General'!A$88","v":"HP Sodium 250W"},null,null,null,{"$f":"F171+F172/2","v":50.146824465506434},{"$f":"F172","v":2.785934692528135},{"$f":"G172","v":2.785934692528135},2.785934692528135,2.785934692528135,2.785934692528135,2.785934692528135,2.785934692528135,2.785934692528135,2.785934692528135,2.785934692528135,2.785934692528135,2.785934692528135,2.785934692528135,2.785934692528135,2.785934692528135,2.785934692528135,{"$f":"V172","v":1.3929673462640675},2.785934692528135,1.3929673462640675,0,0,0]
[]
[]
["Light Type",null,"Assumed",null,"Closing RAB","Depreciation"]
[null,null," 2004 Volumes",null,{"$f":"E$47","v":2004},2005,2006,2007,2008,2009,2010,2011,2012,2013,2014,2015,2016,2017,2018,2019,2020,{"$f":"V$47","v":"HY2021"},{"$f":"W$47","v":"2022-06-30"},"2023-06-30","2024-06-30","2025-06-30","2026-06-30"]
[{"$f":"'DNSP Inputs General'!A$86","v":"Mercury Vapour 80W"},null,{"$f":"25106.4810513172+2278.72731269898+1469.46836533056","v":28854.676729346738},null,{"$f":"E48*$C55","v":1219620.1244921484},{"$f":"F48*$C55","v":67756.673582897143},67756.673582897143,67756.673582897143,67756.673582897143,67756.673582897143,67756.673582897143,67756.673582897143,67756.673582897143,67756.673582897143,67756.673582897143,67756.673582897143,67756.673582897143,{"$f":"R48*$C55","v":67756.673582897143},{"$f":"S48*$C55","v":67756.673582897143},67756.673582897143,67756.673582897143,{"$f":"V48*$C55","v":33878.336791448572},67756.673582897143,33878.336791448572,0,0,0]
[{"$f":"'DNSP Inputs General'!A$87","v":"HP Sodium 150W"},null,4252.263490243743,null,{"$f":"E49*$C56","v":211678.20117884126},{"$f":"F49*$C56","v":11759.900065491183},11759.900065491183,11759.900065491183,11759.900065491183,11759.900065491183,11759.900065491183,11759.900065491183,11759.900065491183,11759.900065491183,11759.900065491183,11759.900065491183,11759.900065491183,{"$f":"R49*$C56","v":11759.900065491183},{"$f":"S49*$C56","v":11759.900065491183},11759.900065491183,11759.900065491183,{"$f":"V49*$C56","v":5879.9500327455917},11759.900065491183,5879.9500327455917,0,0,0]
[{"$f":"'DNSP Inputs General'!A$88","v":"HP Sodium 250W"},null,4329.4481153353427,null,{"$f":"E50*$C57","v":217108.07467223908},{"$f":"F50*$C57","v":12061.559704013282},12061.559704013282,12061.559704013282,12061.559704013282,12061.559704013282,12061.559704013282,12061.559704013282,12061.559704013282,12061.559704013282,12061.559704013282,12061.559704013282,12061.559704013282,{"$f":"R50*$C57","v":12061.559704013282},{"$f":"S50*$C57","v":12061.559704013282},12061.559704013282,12061.559704013282,{"$f":"V50*$C57","v":6030.7798520066408},12061.559704013282,6030.7798520066408,0,0,0]
[{"$f":"'DNSP Inputs General'!A$89","v":"Mercury Vapour 50W"},null,546.38589867473945,null,{"$f":"IF('DNSP Inputs General'!$B89='DNSP Inputs General'!$A$86,E$48,IF('DNSP Inputs General'!$B89='DNSP Inputs General'!$A$87,E$49,E$50))*'DNSP Inputs General'!$D89*$C58","v":34179.803888960072},{"$f":"IF('DNSP Inputs General'!$B89='DNSP Inputs General'!$A$86,F$48,IF('DNSP Inputs General'!$B89='DNSP Inputs General'!$A$87,F$49,F$50))*'DNSP Inputs General'!$D89*$C58","v":1898.8779938311152},{"$f":"IF('DNSP Inputs General'!$B89='DNSP Inputs General'!$A$86,G$48,IF('DNSP Inputs General'!$B89='DNSP Inputs General'!$A$87,G$49,G$50))*'DNSP Inputs General'!$D89*$C58","v":1898.8779938311152},{"$f":"IF('DNSP Inputs General'!$B89='DNSP Inputs General'!$A$86,H$48,IF('DNSP Inputs General'!$B89='DNSP Inputs General'!$A$87,H$49,H$50))*'DNSP Inputs General'!$D89*$C58","v":1898.8779938311152},{"$f":"IF('DNSP Inputs General'!$B89='DNSP Inputs General'!$A$86,I$48,IF('DNSP Inputs General'!$B89='DNSP Inputs General'!$A$87,I$49,I$50))*'DNSP Inputs General'!$D89*$C58","v":1898.8779938311152},{"$f":"IF('DNSP Inputs General'!$B89='DNSP Inputs General'!$A$86,J$48,IF('DNSP Inputs General'!$B89='DNSP Inputs General'!$A$87,J$49,J$50))*'DNSP Inputs General'!$D89*$C58","v":1898.8779938311152},{"$f":"IF('DNSP Inputs General'!$B89='DNSP Inputs General'!$A$86,K$48,IF('DNSP Inputs General'!$B89='DNSP Inputs General'!$A$87,K$49,K$50))*'DNSP Inputs General'!$D89*$C58","v":1898.8779938311152},{"$f":"IF('DNSP Inputs General'!$B89='DNSP Inputs General'!$A$86,L$48,IF('DNSP Inputs General'!$B89='DNSP Inputs General'!$A$87,L$49,L$50))*'DNSP Inputs General'!$D89*$C58","v":1898.8779938311152},{"$f":"IF('DNSP Inputs General'!$B89='DNSP Inputs General'!$A$86,M$48,IF('DNSP Inputs General'!$B89='DNSP Inputs General'!$A$87,M$49,M$50))*'DNSP Inputs General'!$D89*$C58","v":1898.8779938311152},{"$f":"IF('DNSP Inputs General'!$B89='DNSP Inputs General'!$A$86,N$48,IF('DNSP Inputs General'!$B89='DNSP Inputs General'!$A$87,N$49,N$50))*'DNSP Inputs General'!$D89*$C58","v":1898.8779938311152},{"$f":"IF('DNSP Inputs General'!$B89='DNSP Inputs General'!$A$86,O$48,IF('DNSP Inputs General'!$B89='DNSP Inputs General'!$A$87,O$49,O$50))*'DNSP Inputs General'!$D89*$C58","v":1898.8779938311152},{"$f":"IF('DNSP Inputs General'!$B89='DNSP Inputs General'!$A$86,P$48,IF('DNSP Inputs General'!$B89='DNSP Inputs General'!$A$87,P$49,P$50))*'DNSP Inputs General'!$D89*$C58","v":1898.8779938311152},{"$f":"IF('DNSP Inputs General'!$B89='DNSP Inputs General'!$A$86,Q$48,IF('DNSP Inputs General'!$B89='DNSP Inputs General'!$A$87,Q$49,Q$50))*'DNSP Inputs General'!$D89*$C58","v":1898.8779938311152},{"$f":"IF('DNSP Inputs General'!$B89='DNSP Inputs General'!$A$86,R$48,IF('DNSP Inputs General'!$B89='DNSP Inputs General'!$A$87,R$49,R$50))*'DNSP Inputs General'!$D89*$C58","v":1898.8779938311152},{"$f":"IF('DNSP Inputs General'!$B89='DNSP Inputs General'!$A$86,S$48,IF('DNSP Inputs General'!$B89='DNSP Inputs General'!$A$87,S$49,S$50))*'DNSP Inputs General'!$D89*$C58","v":1898.8779938311152},{"$f":"IF('DNSP Inputs General'!$B89='DNSP Inputs General'!$A$86,T$48,IF('DNSP Inputs General'!$B89='DNSP Inputs General'!$A$87,T$49,T$50))*'DNSP Inputs General'!$D89*$C58","v":1898.8779938311152},{"$f":"IF('DNSP Inputs General'!$B89='DNSP Inputs General'!$A$86,U$48,IF('DNSP Inputs General'!$B89='DNSP Inputs General'!$A$87,U$49,U$50))*'DNSP Inputs General'!$D89*$C58","v":1898.8779938311152},{"$f":"IF('DNSP Inputs General'!$B89='DNSP Inputs General'!$A$86,V$48,IF('DNSP Inputs General'!$B89='DNSP Inputs General'!$A$87,V$49,V$50))*'DNSP Inputs General'!$D89*$C58","v":949.4389969155576},{"$f":"IF('DNSP Inputs General'!$B89='DNSP Inputs General'!$A$86,W$48,IF('DNSP Inputs General'!$B89='DNSP Inputs General'!$A$87,W$49,W$50))*'DNSP Inputs General'!$D89*$C58","v":1898.8779938311152},{"$f":"IF('DNSP Inputs General'!$B89='DNSP Inputs General'!$A$86,X$48,IF('DNSP Inputs General'!$B89='DNSP Inputs General'!$A$87,X$49,X$50))*'DNSP Inputs General'!$D89*$C58","v":949.4389969155576},{"$f":"IF('DNSP Inputs General'!$B89='DNSP Inputs General'!$A$86,Y$48,IF('DNSP Inputs General'!$B89='DNSP Inputs General'!$A$87,Y$49,Y$50))*'DNSP Inputs General'!$D89*$C58","v":0},{"$f":"IF('DNSP Inputs General'!$B89='DNSP Inputs General'!$A$86,Z$48,IF('DNSP Inputs General'!$B89='DNSP Inputs General'!$A$87,Z$49,Z$50))*'DNSP Inputs General'!$D89*$C58","v":0},{"$f":"IF('DNSP Inputs General'!$B89='DNSP Inputs General'!$A$86,AA$48,IF('DNSP Inputs General'!$B89='DNSP Inputs General'!$A$87,AA$49,AA$50))*'DNSP Inputs General'!$D89*$C58","v":0}]
[{"$f":"'DNSP Inputs General'!A$90","v":"Mercury Vapour 125W"},null,61.950817507730676,null,{"$f":"IF('DNSP Inputs General'!$B90='DNSP Inputs General'!$A$86,E$48,IF('DNSP Inputs General'!$B90='DNSP Inputs General'!$A$87,E$49,E$50))*'DNSP Inputs General'!$D90*$C59","v":3875.405273655324},{"$f":"IF('DNSP Inputs General'!$B90='DNSP Inputs General'!$A$86,F$48,IF('DNSP Inputs General'!$B90='DNSP Inputs General'!$A$87,F$49,F$50))*'DNSP Inputs General'!$D90*$C59","v":215.30029298085134},{"$f":"IF('DNSP Inputs General'!$B90='DNSP Inputs General'!$A$86,G$48,IF('DNSP Inputs General'!$B90='DNSP Inputs General'!$A$87,G$49,G$50))*'DNSP Inputs General'!$D90*$C59","v":215.30029298085134},{"$f":"IF('DNSP Inputs General'!$B90='DNSP Inputs General'!$A$86,H$48,IF('DNSP Inputs General'!$B90='DNSP Inputs General'!$A$87,H$49,H$50))*'DNSP Inputs General'!$D90*$C59","v":215.30029298085134},{"$f":"IF('DNSP Inputs General'!$B90='DNSP Inputs General'!$A$86,I$48,IF('DNSP Inputs General'!$B90='DNSP Inputs General'!$A$87,I$49,I$50))*'DNSP Inputs General'!$D90*$C59","v":215.30029298085134},{"$f":"IF('DNSP Inputs General'!$B90='DNSP Inputs General'!$A$86,J$48,IF('DNSP Inputs General'!$B90='DNSP Inputs General'!$A$87,J$49,J$50))*'DNSP Inputs General'!$D90*$C59","v":215.30029298085134},{"$f":"IF('DNSP Inputs General'!$B90='DNSP Inputs General'!$A$86,K$48,IF('DNSP Inputs General'!$B90='DNSP Inputs General'!$A$87,K$49,K$50))*'DNSP Inputs General'!$D90*$C59","v":215.30029298085134},{"$f":"IF('DNSP Inputs General'!$B90='DNSP Inputs General'!$A$86,L$48,IF('DNSP Inputs General'!$B90='DNSP Inputs General'!$A$87,L$49,L$50))*'DNSP Inputs General'!$D90*$C59","v":215.30029298085134},{"$f":"IF('DNSP Inputs General'!$B90='DNSP Inputs General'!$A$86,M$48,IF('DNSP Inputs General'!$B90='DNSP Inputs General'!$A$87,M$49,M$50))*'DNSP Inputs General'!$D90*$C59","v":215.30029298085134},{"$f":"IF('DNSP Inputs General'!$B90='DNSP Inputs General'!$A$86,N$48,IF('DNSP Inputs General'!$B90='DNSP Inputs General'!$A$87,N$49,N$50))*'DNSP Inputs General'!$D90*$C59","v":215.30029298085134},{"$f":"IF('DNSP Inputs General'!$B90='DNSP Inputs General'!$A$86,O$48,IF('DNSP Inputs General'!$B90='DNSP Inputs General'!$A$87,O$49,O$50))*'DNSP Inputs General'!$D90*$C59","v":215.30029298085134},{"$f":"IF('DNSP Inputs General'!$B90='DNSP Inputs General'!$A$86,P$48,IF('DNSP Inputs General'!$B90='DNSP Inputs General'!$A$87,P$49,P$50))*'DNSP Inputs General'!$D90*$C59","v":215.30029298085134},{"$f":"IF('DNSP Inputs General'!$B90='DNSP Inputs General'!$A$86,Q$48,IF('DNSP Inputs General'!$B90='DNSP Inputs General'!$A$87,Q$49,Q$50))*'DNSP Inputs General'!$D90*$C59","v":215.30029298085134},{"$f":"IF('DNSP Inputs General'!$B90='DNSP Inputs General'!$A$86,R$48,IF('DNSP Inputs General'!$B90='DNSP Inputs General'!$A$87,R$49,R$50))*'DNSP Inputs General'!$D90*$C59","v":215.30029298085134},{"$f":"IF('DNSP Inputs General'!$B90='DNSP Inputs General'!$A$86,S$48,IF('DNSP Inputs General'!$B90='DNSP Inputs General'!$A$87,S$49,S$50))*'DNSP Inputs General'!$D90*$C59","v":215.30029298085134},{"$f":"IF('DNSP Inputs General'!$B90='DNSP Inputs General'!$A$86,T$48,IF('DNSP Inputs General'!$B90='DNSP Inputs General'!$A$87,T$49,T$50))*'DNSP Inputs General'!$D90*$C59","v":215.30029298085134},{"$f":"IF('DNSP Inputs General'!$B90='DNSP Inputs General'!$A$86,U$48,IF('DNSP Inputs General'!$B90='DNSP Inputs General'!$A$87,U$49,U$50))*'DNSP Inputs General'!$D90*$C59","v":215.30029298085134},{"$f":"IF('DNSP Inputs General'!$B90='DNSP Inputs General'!$A$86,V$48,IF('DNSP Inputs General'!$B90='DNSP Inputs General'!$A$87,V$49,V$50))*'DNSP Inputs General'!$D90*$C59","v":107.65014649042567},{"$f":"IF('DNSP Inputs General'!$B90='DNSP Inputs General'!$A$86,W$48,IF('DNSP Inputs General'!$B90='DNSP Inputs General'!$A$87,W$49,W$50))*'DNSP Inputs General'!$D90*$C59","v":215.30029298085134},{"$f":"IF('DNSP Inputs General'!$B90='DNSP Inputs General'!$A$86,X$48,IF('DNSP Inputs General'!$B90='DNSP Inputs General'!$A$87,X$49,X$50))*'DNSP Inputs General'!$D90*$C59","v":107.65014649042567},{"$f":"IF('DNSP Inputs General'!$B90='DNSP Inputs General'!$A$86,Y$48,IF('DNSP Inputs General'!$B90='DNSP Inputs General'!$A$87,Y$49,Y$50))*'DNSP Inputs General'!$D90*$C59","v":0},{"$f":"IF('DNSP Inputs General'!$B90='DNSP Inputs General'!$A$86,Z$48,IF('DNSP Inputs General'!$B90='DNSP Inputs General'!$A$87,Z$49,Z$50))*'DNSP Inputs General'!$D90*$C59","v":0},{"$f":"IF('DNSP Inputs General'!$B90='DNSP Inputs General'!$A$86,AA$48,IF('DNSP Inputs General'!$B90='DNSP Inputs General'!$A$87,AA$49,AA$50))*'DNSP Inputs General'!$D90*$C59","v":0}]
[{"$f":"'DNSP Inputs General'!A$91","v":"Mercury Vapour 250W"},null,450.92070448249871,null,{"$f":"IF('DNSP Inputs General'!$B91='DNSP Inputs General'!$A$86,E$48,IF('DNSP Inputs General'!$B91='DNSP Inputs General'!$A$87,E$49,E$50))*'DNSP Inputs General'!$D91*$C60","v":23516.731072168219},{"$f":"IF('DNSP Inputs General'!$B91='DNSP Inputs General'!$A$86,F$48,IF('DNSP Inputs General'!$B91='DNSP Inputs General'!$A$87,F$49,F$50))*'DNSP Inputs General'!$D91*$C60","v":1306.4850595649009},{"$f":"IF('DNSP Inputs General'!$B91='DNSP Inputs General'!$A$86,G$48,IF('DNSP Inputs General'!$B91='DNSP Inputs General'!$A$87,G$49,G$50))*'DNSP Inputs General'!$D91*$C60","v":1306.4850595649009},{"$f":"IF('DNSP Inputs General'!$B91='DNSP Inputs General'!$A$86,H$48,IF('DNSP Inputs General'!$B91='DNSP Inputs General'!$A$87,H$49,H$50))*'DNSP Inputs General'!$D91*$C60","v":1306.4850595649009},{"$f":"IF('DNSP Inputs General'!$B91='DNSP Inputs General'!$A$86,I$48,IF('DNSP Inputs General'!$B91='DNSP Inputs General'!$A$87,I$49,I$50))*'DNSP Inputs General'!$D91*$C60","v":1306.4850595649009},{"$f":"IF('DNSP Inputs General'!$B91='DNSP Inputs General'!$A$86,J$48,IF('DNSP Inputs General'!$B91='DNSP Inputs General'!$A$87,J$49,J$50))*'DNSP Inputs General'!$D91*$C60","v":1306.4850595649009},{"$f":"IF('DNSP Inputs General'!$B91='DNSP Inputs General'!$A$86,K$48,IF('DNSP Inputs General'!$B91='DNSP Inputs General'!$A$87,K$49,K$50))*'DNSP Inputs General'!$D91*$C60","v":1306.4850595649009},{"$f":"IF('DNSP Inputs General'!$B91='DNSP Inputs General'!$A$86,L$48,IF('DNSP Inputs General'!$B91='DNSP Inputs General'!$A$87,L$49,L$50))*'DNSP Inputs General'!$D91*$C60","v":1306.4850595649009},{"$f":"IF('DNSP Inputs General'!$B91='DNSP Inputs General'!$A$86,M$48,IF('DNSP Inputs General'!$B91='DNSP Inputs General'!$A$87,M$49,M$50))*'DNSP Inputs General'!$D91*$C60","v":1306.4850595649009},{"$f":"IF('DNSP Inputs General'!$B91='DNSP Inputs General'!$A$86,N$48,IF('DNSP Inputs General'!$B91='DNSP Inputs General'!$A$87,N$49,N$50))*'DNSP Inputs General'!$D91*$C60","v":1306.4850595649009},{"$f":"IF('DNSP Inputs General'!$B91='DNSP Inputs General'!$A$86,O$48,IF('DNSP Inputs General'!$B91='DNSP Inputs General'!$A$87,O$49,O$50))*'DNSP Inputs General'!$D91*$C60","v":1306.4850595649009},{"$f":"IF('DNSP Inputs General'!$B91='DNSP Inputs General'!$A$86,P$48,IF('DNSP Inputs General'!$B91='DNSP Inputs General'!$A$87,P$49,P$50))*'DNSP Inputs General'!$D91*$C60","v":1306.4850595649009},{"$f":"IF('DNSP Inputs General'!$B91='DNSP Inputs General'!$A$86,Q$48,IF('DNSP Inputs General'!$B91='DNSP Inputs General'!$A$87,Q$49,Q$50))*'DNSP Inputs General'!$D91*$C60","v":1306.4850595649009},{"$f":"IF('DNSP Inputs General'!$B91='DNSP Inputs General'!$A$86,R$48,IF('DNSP Inputs General'!$B91='DNSP Inputs General'!$A$87,R$49,R$50))*'DNSP Inputs General'!$D91*$C60","v":1306.4850595649009},{"$f":"IF('DNSP Inputs General'!$B91='DNSP Inputs General'!$A$86,S$48,IF('DNSP Inputs General'!$B91='DNSP Inputs General'!$A$87,S$49,S$50))*'DNSP Inputs General'!$D91*$C60","v":1306.4850595649009},{"$f":"IF('DNSP Inputs General'!$B91='DNSP Inputs General'!$A$86,T$48,IF('DNSP Inputs General'!$B91='DNSP Inputs General'!$A$87,T$49,T$50))*'DNSP Inputs General'!$D91*$C60","v":1306.4850595649009},{"$f":"IF('DNSP Inputs General'!$B91='DNSP Inputs General'!$A$86,U$48,IF('DNSP Inputs General'!$B91='DNSP Inputs General'!$A$87,U$49,U$50))*'DNSP Inputs General'!$D91*$C60","v":1306.4850595649009},{"$f":"IF('DNSP Inputs General'!$B91='DNSP Inputs General'!$A$86,V$48,IF('DNSP Inputs General'!$B91='DNSP Inputs General'!$A$87,V$49,V$50))*'DNSP Inputs General'!$D91*$C60","v":653.24252978245045},{"$f":"IF('DNSP Inputs General'!$B91='DNSP Inputs General'!$A$86,W$48,IF('DNSP Inputs General'!$B91='DNSP Inputs General'!$A$87,W$49,W$50))*'DNSP Inputs General'!$D91*$C60","v":1306.4850595649009},{"$f":"IF('DNSP Inputs General'!$B91='DNSP Inputs General'!$A$86,X$48,IF('DNSP Inputs General'!$B91='DNSP Inputs General'!$A$87,X$49,X$50))*'DNSP Inputs General'!$D91*$C60","v":653.24252978245045},{"$f":"IF('DNSP Inputs General'!$B91='DNSP Inputs General'!$A$86,Y$48,IF('DNSP Inputs General'!$B91='DNSP Inputs General'!$A$87,Y$49,Y$50))*'DNSP Inputs General'!$D91*$C60","v":0},{"$f":"IF('DNSP Inputs General'!$B91='DNSP Inputs General'!$A$86,Z$48,IF('DNSP Inputs General'!$B91='DNSP Inputs General'!$A$87,Z$49,Z$50))*'DNSP Inputs General'!$D91*$C60","v":0},{"$f":"IF('DNSP Inputs General'!$B91='DNSP Inputs General'!$A$86,AA$48,IF('DNSP Inputs General'!$B91='DNSP Inputs General'!$A$87,AA$49,AA$50))*'DNSP Inputs General'!$D91*$C60","v":0}]
[{"$f":"'DNSP Inputs General'!A$92","v":"Mercury Vapour 400W"},null,137.1042682548138,null,{"$f":"IF('DNSP Inputs General'!$B92='DNSP Inputs General'!$A$86,E$48,IF('DNSP Inputs General'!$B92='DNSP Inputs General'!$A$87,E$49,E$50))*'DNSP Inputs General'!$D92*$C61","v":7356.6177308010647},{"$f":"IF('DNSP Inputs General'!$B92='DNSP Inputs General'!$A$86,F$48,IF('DNSP Inputs General'!$B92='DNSP Inputs General'!$A$87,F$49,F$50))*'DNSP Inputs General'!$D92*$C61","v":408.70098504450351},{"$f":"IF('DNSP Inputs General'!$B92='DNSP Inputs General'!$A$86,G$48,IF('DNSP Inputs General'!$B92='DNSP Inputs General'!$A$87,G$49,G$50))*'DNSP Inputs General'!$D92*$C61","v":408.70098504450351},{"$f":"IF('DNSP Inputs General'!$B92='DNSP Inputs General'!$A$86,H$48,IF('DNSP Inputs General'!$B92='DNSP Inputs General'!$A$87,H$49,H$50))*'DNSP Inputs General'!$D92*$C61","v":408.70098504450351},{"$f":"IF('DNSP Inputs General'!$B92='DNSP Inputs General'!$A$86,I$48,IF('DNSP Inputs General'!$B92='DNSP Inputs General'!$A$87,I$49,I$50))*'DNSP Inputs General'!$D92*$C61","v":408.70098504450351},{"$f":"IF('DNSP Inputs General'!$B92='DNSP Inputs General'!$A$86,J$48,IF('DNSP Inputs General'!$B92='DNSP Inputs General'!$A$87,J$49,J$50))*'DNSP Inputs General'!$D92*$C61","v":408.70098504450351},{"$f":"IF('DNSP Inputs General'!$B92='DNSP Inputs General'!$A$86,K$48,IF('DNSP Inputs General'!$B92='DNSP Inputs General'!$A$87,K$49,K$50))*'DNSP Inputs General'!$D92*$C61","v":408.70098504450351},{"$f":"IF('DNSP Inputs General'!$B92='DNSP Inputs General'!$A$86,L$48,IF('DNSP Inputs General'!$B92='DNSP Inputs General'!$A$87,L$49,L$50))*'DNSP Inputs General'!$D92*$C61","v":408.70098504450351},{"$f":"IF('DNSP Inputs General'!$B92='DNSP Inputs General'!$A$86,M$48,IF('DNSP Inputs General'!$B92='DNSP Inputs General'!$A$87,M$49,M$50))*'DNSP Inputs General'!$D92*$C61","v":408.70098504450351},{"$f":"IF('DNSP Inputs General'!$B92='DNSP Inputs General'!$A$86,N$48,IF('DNSP Inputs General'!$B92='DNSP Inputs General'!$A$87,N$49,N$50))*'DNSP Inputs General'!$D92*$C61","v":408.70098504450351},{"$f":"IF('DNSP Inputs General'!$B92='DNSP Inputs General'!$A$86,O$48,IF('DNSP Inputs General'!$B92='DNSP Inputs General'!$A$87,O$49,O$50))*'DNSP Inputs General'!$D92*$C61","v":408.70098504450351},{"$f":"IF('DNSP Inputs General'!$B92='DNSP Inputs General'!$A$86,P$48,IF('DNSP Inputs General'!$B92='DNSP Inputs General'!$A$87,P$49,P$50))*'DNSP Inputs General'!$D92*$C61","v":408.70098504450351},{"$f":"IF('DNSP Inputs General'!$B92='DNSP Inputs General'!$A$86,Q$48,IF('DNSP Inputs General'!$B92='DNSP Inputs General'!$A$87,Q$49,Q$50))*'DNSP Inputs General'!$D92*$C61","v":408.70098504450351},{"$f":"IF('DNSP Inputs General'!$B92='DNSP Inputs General'!$A$86,R$48,IF('DNSP Inputs General'!$B92='DNSP Inputs General'!$A$87,R$49,R$50))*'DNSP Inputs General'!$D92*$C61","v":408.70098504450351},{"$f":"IF('DNSP Inputs General'!$B92='DNSP Inputs General'!$A$86,S$48,IF('DNSP Inputs General'!$B92='DNSP Inputs General'!$A$87,S$49,S$50))*'DNSP Inputs General'!$D92*$C61","v":408.70098504450351},{"$f":"IF('DNSP Inputs General'!$B92='DNSP Inputs General'!$A$86,T$48,IF('DNSP Inputs General'!$B92='DNSP Inputs General'!$A$87,T$49,T$50))*'DNSP Inputs General'!$D92*$C61","v":408.70098504450351},{"$f":"IF('DNSP Inputs General'!$B92='DNSP Inputs General'!$A$86,U$48,IF('DNSP Inputs General'!$B92='DNSP Inputs General'!$A$87,U$49,U$50))*'DNSP Inputs General'!$D92*$C61","v":408.70098504450351},{"$f":"IF('DNSP Inputs General'!$B92='DNSP Inputs General'!$A$86,V$48,IF('DNSP Inputs General'!$B92='DNSP Inputs General'!$A$87,V$49,V$50))*'DNSP Inputs General'!$D92*$C61","v":204.35049252225176},{"$f":"IF('DNSP Inputs General'!$B92='DNSP Inputs General'!$A$86,W$48,IF('DNSP Inputs General'!$B92='DNSP Inputs General'!$A$87,W$49,W$50))*'DNSP Inputs General'!$D92*$C61","v":408.70098504450351},{"$f":"IF('DNSP Inputs General'!$B92='DNSP Inputs General'!$A$86,X$48,IF('DNSP Inputs General'!$B92='DNSP Inputs General'!$A$87,X$49,X$50))*'DNSP Inputs General'!$D92*$C61","v":204.35049252225176},{"$f":"IF('DNSP Inputs General'!$B92='DNSP Inputs General'!$A$86,Y$48,IF('DNSP Inputs General'!$B92='DNSP Inputs General'!$A$87,Y$49,Y$50))*'DNSP Inputs General'!$D92*$C61","v":0},{"$f":"IF('DNSP Inputs General'!$B92='DNSP Inputs General'!$A$86,Z$48,IF('DNSP Inputs General'!$B92='DNSP Inputs General'!$A$87,Z$49,Z$50))*'DNSP Inputs General'!$D92*$C61","v":0},{"$f":"IF('DNSP Inputs General'!$B92='DNSP Inputs General'!$A$86,AA$48,IF('DNSP Inputs General'!$B92='DNSP Inputs General'!$A$87,AA$49,AA$50))*'DNSP Inputs General'!$D92*$C61","v":0}]
[{"$f":"'DNSP Inputs General'!A$93","v":"HP Sodium 100W"},null,92.418432675467074,null,{"$f":"IF('DNSP Inputs General'!$B93='DNSP Inputs General'!$A$86,E$48,IF('DNSP Inputs General'!$B93='DNSP Inputs General'!$A$87,E$49,E$50))*'DNSP Inputs General'!$D93*$C62","v":4922.6430496259318},{"$f":"IF('DNSP Inputs General'!$B93='DNSP Inputs General'!$A$86,F$48,IF('DNSP Inputs General'!$B93='DNSP Inputs General'!$A$87,F$49,F$50))*'DNSP Inputs General'!$D93*$C62","v":273.48016942366291},{"$f":"IF('DNSP Inputs General'!$B93='DNSP Inputs General'!$A$86,G$48,IF('DNSP Inputs General'!$B93='DNSP Inputs General'!$A$87,G$49,G$50))*'DNSP Inputs General'!$D93*$C62","v":273.48016942366291},{"$f":"IF('DNSP Inputs General'!$B93='DNSP Inputs General'!$A$86,H$48,IF('DNSP Inputs General'!$B93='DNSP Inputs General'!$A$87,H$49,H$50))*'DNSP Inputs General'!$D93*$C62","v":273.48016942366291},{"$f":"IF('DNSP Inputs General'!$B93='DNSP Inputs General'!$A$86,I$48,IF('DNSP Inputs General'!$B93='DNSP Inputs General'!$A$87,I$49,I$50))*'DNSP Inputs General'!$D93*$C62","v":273.48016942366291},{"$f":"IF('DNSP Inputs General'!$B93='DNSP Inputs General'!$A$86,J$48,IF('DNSP Inputs General'!$B93='DNSP Inputs General'!$A$87,J$49,J$50))*'DNSP Inputs General'!$D93*$C62","v":273.48016942366291},{"$f":"IF('DNSP Inputs General'!$B93='DNSP Inputs General'!$A$86,K$48,IF('DNSP Inputs General'!$B93='DNSP Inputs General'!$A$87,K$49,K$50))*'DNSP Inputs General'!$D93*$C62","v":273.48016942366291},{"$f":"IF('DNSP Inputs General'!$B93='DNSP Inputs General'!$A$86,L$48,IF('DNSP Inputs General'!$B93='DNSP Inputs General'!$A$87,L$49,L$50))*'DNSP Inputs General'!$D93*$C62","v":273.48016942366291},{"$f":"IF('DNSP Inputs General'!$B93='DNSP Inputs General'!$A$86,M$48,IF('DNSP Inputs General'!$B93='DNSP Inputs General'!$A$87,M$49,M$50))*'DNSP Inputs General'!$D93*$C62","v":273.48016942366291},{"$f":"IF('DNSP Inputs General'!$B93='DNSP Inputs General'!$A$86,N$48,IF('DNSP Inputs General'!$B93='DNSP Inputs General'!$A$87,N$49,N$50))*'DNSP Inputs General'!$D93*$C62","v":273.48016942366291},{"$f":"IF('DNSP Inputs General'!$B93='DNSP Inputs General'!$A$86,O$48,IF('DNSP Inputs General'!$B93='DNSP Inputs General'!$A$87,O$49,O$50))*'DNSP Inputs General'!$D93*$C62","v":273.48016942366291},{"$f":"IF('DNSP Inputs General'!$B93='DNSP Inputs General'!$A$86,P$48,IF('DNSP Inputs General'!$B93='DNSP Inputs General'!$A$87,P$49,P$50))*'DNSP Inputs General'!$D93*$C62","v":273.48016942366291},{"$f":"IF('DNSP Inputs General'!$B93='DNSP Inputs General'!$A$86,Q$48,IF('DNSP Inputs General'!$B93='DNSP Inputs General'!$A$87,Q$49,Q$50))*'DNSP Inputs General'!$D93*$C62","v":273.48016942366291},{"$f":"IF('DNSP Inputs General'!$B93='DNSP Inputs General'!$A$86,R$48,IF('DNSP Inputs General'!$B93='DNSP Inputs General'!$A$87,R$49,R$50))*'DNSP Inputs General'!$D93*$C62","v":273.48016942366291},{"$f":"IF('DNSP Inputs General'!$B93='DNSP Inputs General'!$A$86,S$48,IF('DNSP Inputs General'!$B93='DNSP Inputs General'!$A$87,S$49,S$50))*'DNSP Inputs General'!$D93*$C62","v":273.48016942366291},{"$f":"IF('DNSP Inputs General'!$B93='DNSP Inputs General'!$A$86,T$48,IF('DNSP Inputs General'!$B93='DNSP Inputs General'!$A$87,T$49,T$50))*'DNSP Inputs General'!$D93*$C62","v":273.48016942366291},{"$f":"IF('DNSP Inputs General'!$B93='DNSP Inputs General'!$A$86,U$48,IF('DNSP Inputs General'!$B93='DNSP Inputs General'!$A$87,U$49,U$50))*'DNSP Inputs General'!$D93*$C62","v":273.48016942366291},{"$f":"IF('DNSP Inputs General'!$B93='DNSP Inputs General'!$A$86,V$48,IF('DNSP Inputs General'!$B93='DNSP Inputs General'!$A$87,V$49,V$50))*'DNSP Inputs General'!$D93*$C62","v":136.74008471183146},{"$f":"IF('DNSP Inputs General'!$B93='DNSP Inputs General'!$A$86,W$48,IF('DNSP Inputs General'!$B93='DNSP Inputs General'!$A$87,W$49,W$50))*'DNSP Inputs General'!$D93*$C62","v":273.48016942366291},{"$f":"IF('DNSP Inputs General'!$B93='DNSP Inputs General'!$A$86,X$48,IF('DNSP Inputs General'!$B93='DNSP Inputs General'!$A$87,X$49,X$50))*'DNSP Inputs General'!$D93*$C62","v":136.74008471183146},{"$f":"IF('DNSP Inputs General'!$B93='DNSP Inputs General'!$A$86,Y$48,IF('DNSP Inputs General'!$B93='DNSP Inputs General'!$A$87,Y$49,Y$50))*'DNSP Inputs General'!$D93*$C62","v":0},{"$f":"IF('DNSP Inputs General'!$B93='DNSP Inputs General'!$A$86,Z$48,IF('DNSP Inputs General'!$B93='DNSP Inputs General'!$A$87,Z$49,Z$50))*'DNSP Inputs General'!$D93*$C62","v":0},{"$f":"IF('DNSP Inputs General'!$B93='DNSP Inputs General'!$A$86,AA$48,IF('DNSP Inputs General'!$B93='DNSP Inputs General'!$A$87,AA$49,AA$50))*'DNSP Inputs General'!$D93*$C62","v":0}]
[{"$f":"'DNSP Inputs General'!A$94","v":"HP Sodium 400W"},null,282.33323388769065,null,{"$f":"IF('DNSP Inputs General'!$B94='DNSP Inputs General'!$A$86,E$48,IF('DNSP Inputs General'!$B94='DNSP Inputs General'!$A$87,E$49,E$50))*'DNSP Inputs General'!$D94*$C63","v":20104.523471173608},{"$f":"IF('DNSP Inputs General'!$B94='DNSP Inputs General'!$A$86,F$48,IF('DNSP Inputs General'!$B94='DNSP Inputs General'!$A$87,F$49,F$50))*'DNSP Inputs General'!$D94*$C63","v":1116.917970620756},{"$f":"IF('DNSP Inputs General'!$B94='DNSP Inputs General'!$A$86,G$48,IF('DNSP Inputs General'!$B94='DNSP Inputs General'!$A$87,G$49,G$50))*'DNSP Inputs General'!$D94*$C63","v":1116.917970620756},{"$f":"IF('DNSP Inputs General'!$B94='DNSP Inputs General'!$A$86,H$48,IF('DNSP Inputs General'!$B94='DNSP Inputs General'!$A$87,H$49,H$50))*'DNSP Inputs General'!$D94*$C63","v":1116.917970620756},{"$f":"IF('DNSP Inputs General'!$B94='DNSP Inputs General'!$A$86,I$48,IF('DNSP Inputs General'!$B94='DNSP Inputs General'!$A$87,I$49,I$50))*'DNSP Inputs General'!$D94*$C63","v":1116.917970620756},{"$f":"IF('DNSP Inputs General'!$B94='DNSP Inputs General'!$A$86,J$48,IF('DNSP Inputs General'!$B94='DNSP Inputs General'!$A$87,J$49,J$50))*'DNSP Inputs General'!$D94*$C63","v":1116.917970620756},{"$f":"IF('DNSP Inputs General'!$B94='DNSP Inputs General'!$A$86,K$48,IF('DNSP Inputs General'!$B94='DNSP Inputs General'!$A$87,K$49,K$50))*'DNSP Inputs General'!$D94*$C63","v":1116.917970620756},{"$f":"IF('DNSP Inputs General'!$B94='DNSP Inputs General'!$A$86,L$48,IF('DNSP Inputs General'!$B94='DNSP Inputs General'!$A$87,L$49,L$50))*'DNSP Inputs General'!$D94*$C63","v":1116.917970620756},{"$f":"IF('DNSP Inputs General'!$B94='DNSP Inputs General'!$A$86,M$48,IF('DNSP Inputs General'!$B94='DNSP Inputs General'!$A$87,M$49,M$50))*'DNSP Inputs General'!$D94*$C63","v":1116.917970620756},{"$f":"IF('DNSP Inputs General'!$B94='DNSP Inputs General'!$A$86,N$48,IF('DNSP Inputs General'!$B94='DNSP Inputs General'!$A$87,N$49,N$50))*'DNSP Inputs General'!$D94*$C63","v":1116.917970620756},{"$f":"IF('DNSP Inputs General'!$B94='DNSP Inputs General'!$A$86,O$48,IF('DNSP Inputs General'!$B94='DNSP Inputs General'!$A$87,O$49,O$50))*'DNSP Inputs General'!$D94*$C63","v":1116.917970620756},{"$f":"IF('DNSP Inputs General'!$B94='DNSP Inputs General'!$A$86,P$48,IF('DNSP Inputs General'!$B94='DNSP Inputs General'!$A$87,P$49,P$50))*'DNSP Inputs General'!$D94*$C63","v":1116.917970620756},{"$f":"IF('DNSP Inputs General'!$B94='DNSP Inputs General'!$A$86,Q$48,IF('DNSP Inputs General'!$B94='DNSP Inputs General'!$A$87,Q$49,Q$50))*'DNSP Inputs General'!$D94*$C63","v":1116.917970620756},{"$f":"IF('DNSP Inputs General'!$B94='DNSP Inputs General'!$A$86,R$48,IF('DNSP Inputs General'!$B94='DNSP Inputs General'!$A$87,R$49,R$50))*'DNSP Inputs General'!$D94*$C63","v":1116.917970620756},{"$f":"IF('DNSP Inputs General'!$B94='DNSP Inputs General'!$A$86,S$48,IF('DNSP Inputs General'!$B94='DNSP Inputs General'!$A$87,S$49,S$50))*'DNSP Inputs General'!$D94*$C63","v":1116.917970620756},{"$f":"IF('DNSP Inputs General'!$B94='DNSP Inputs General'!$A$86,T$48,IF('DNSP Inputs General'!$B94='DNSP Inputs General'!$A$87,T$49,T$50))*'DNSP Inputs General'!$D94*$C63","v":1116.917970620756},{"$f":"IF('DNSP Inputs General'!$B94='DNSP Inputs General'!$A$86,U$48,IF('DNSP Inputs General'!$B94='DNSP Inputs General'!$A$87,U$49,U$50))*'DNSP Inputs General'!$D94*$C63","v":1116.917970620756},{"$f":"IF('DNSP Inputs General'!$B94='DNSP Inputs General'!$A$86,V$48,IF('DNSP Inputs General'!$B94='DNSP Inputs General'!$A$87,V$49,V$50))*'DNSP Inputs General'!$D94*$C63","v":558.45898531037801},{"$f":"IF('DNSP Inputs General'!$B94='DNSP Inputs General'!$A$86,W$48,IF('DNSP Inputs General'!$B94='DNSP Inputs General'!$A$87,W$49,W$50))*'DNSP Inputs General'!$D94*$C63","v":1116.917970620756},{"$f":"IF('DNSP Inputs General'!$B94='DNSP Inputs General'!$A$86,X$48,IF('DNSP Inputs General'!$B94='DNSP Inputs General'!$A$87,X$49,X$50))*'DNSP Inputs General'!$D94*$C63","v":558.45898531037801},{"$f":"IF('DNSP Inputs General'!$B94='DNSP Inputs General'!$A$86,Y$48,IF('DNSP Inputs General'!$B94='DNSP Inputs General'!$A$87,Y$49,Y$50))*'DNSP Inputs General'!$D94*$C63","v":0},{"$f":"IF('DNSP Inputs General'!$B94='DNSP Inputs General'!$A$86,Z$48,IF('DNSP Inputs General'!$B94='DNSP Inputs General'!$A$87,Z$49,Z$50))*'DNSP Inputs General'!$D94*$C63","v":0},{"$f":"IF('DNSP Inputs General'!$B94='DNSP Inputs General'!$A$86,AA$48,IF('DNSP Inputs General'!$B94='DNSP Inputs General'!$A$87,AA$49,AA$50))*'DNSP Inputs General'!$D94*$C63","v":0}]
[]
[]
[]
[]
[]
[]
[]
[]
[]
[]
[]
[]
[]
[null,null,null,null,{"$f":"SUM(E55:E76)","v":1742362.1248296131},{"$f":"SUM(F55:F76)","v":96797.895823867409},96797.895823867409,96797.895823867409,96797.895823867409,96797.895823867409,96797.895823867409,96797.895823867409,96797.895823867409,96797.895823867409,96797.895823867409,96797.895823867409,96797.895823867409,{"$f":"SUM(R55:R76)","v":96797.895823867409},{"$f":"SUM(S55:S76)","v":96797.895823867409},96797.895823867409,96797.895823867409,{"$f":"SUM(V55:V76)","v":48398.947911933705},96797.895823867409,48398.947911933705,0,0,0]
[]
["`",null,null,null,{"$f":"E77","v":1742362.1248296131},{"$f":"E79-F77","v":1645564.2290057456},{"$f":"F79-G77","v":1548766.3331818781},1451968.4373580106,1355170.541534143,1258372.6457102755,1161574.749886408,1064776.8540625405,967978.95823867305,871181.06241480564,774383.16659093823,677585.27076707082,580787.37494320341,483989.479119336,387191.58329546859,290393.68747160118,193595.79164773377,145196.84373580007,48398.947911932657,-1.0477378964424133E-9,-1.0477378964424133E-9,-1.0477378964424133E-9,-1.0477378964424133E-9]
[]
[]
["Poles & Brackets"]
["Depreciation",null,null,null,"Closing RAB per unit","Depreciation per unit"]
[null,null,null,null,{"$f":"E$47","v":2004},2005,2006,2007,2008,2009,2010,2011,2012,2013,2014,2015,2016,2017,2018,2019,2020,{"$f":"V$47","v":"HY2021"},{"$f":"W$47","v":"2022-06-30"},"2023-06-30","2024-06-30","2025-06-30","2026-06-30",{"$f":"EOMONTH(AA84,12)","v":"2027-06-30"},{"$f":"EOMONTH(AB84,12)","v":"2028-06-30"},"2029-06-30","2030-06-30","2031-06-30","2032-06-30","2033-06-30","2034-06-30","2035-06-30","2036-06-30","2037-06-30","2038-06-30","2039-06-30"]
[{"$f":"'RAB 2001 to 2004 N & E'!A$28","v":"Dedicated poles"},null,null,null,{"$f":"F185+F186/2","v":30.677615652070116},{"$f":"F186","v":0.92962471672939739},{"$f":"G186","v":0.92962471672939739},0.92962471672939739,0.92962471672939739,0.92962471672939739,0.92962471672939739,0.92962471672939739,0.92962471672939739,0.92962471672939739,0.92962471672939739,0.92962471672939739,0.92962471672939739,0.92962471672939739,0.92962471672939739,0.92962471672939739,0.92962471672939739,{"$f":"V186","v":0.4648123583646987},0.92962471672939739,0.92962471672939739,0.92962471672939739,0.92962471672939739,0.92962471672939739,{"$f":"AB186","v":0.92962471672939739},0.92962471672939739,0.92962471672939739,0.92962471672939739,0.92962471672939739,0.92962471672939739,0.92962471672939739,0.92962471672939739,0.92962471672939739,0.92962471672939739,0.92962471672939739,0.4648123583646987,0]
[{"$f":"'RAB 2001 to 2004 N & E'!A$33","v":"Brackets"},null,null,null,{"$f":"F199+F200/2","v":6.3551986004692136},{"$f":"F200","v":0.19258177577179436},{"$f":"G200","v":0.19258177577179436},0.19258177577179436,0.19258177577179436,0.19258177577179436,0.19258177577179436,0.19258177577179436,0.19258177577179436,0.19258177577179436,0.19258177577179436,0.19258177577179436,0.19258177577179436,0.19258177577179436,0.19258177577179436,0.19258177577179436,0.19258177577179436,{"$f":"V200","v":9.6290887885897181E-2},0.19258177577179436,0.19258177577179436,0.19258177577179436,0.19258177577179436,0.19258177577179436,{"$f":"AB200","v":0.19258177577179436},0.19258177577179436,0.19258177577179436,0.19258177577179436,0.19258177577179436,0.19258177577179436,0.19258177577179436,0.19258177577179436,0.19258177577179436,0.19258177577179436,0.19258177577179436,9.6290887885897181E-2,0]
[null,null,null,null,{"$f":"SUM(E85:E86)","v":37.032814252539332},{"$f":"SUM(F85:F86)","v":1.1222064925011916},{"$f":"SUM(G85:G86)","v":1.1222064925011916},1.1222064925011916,1.1222064925011916,1.1222064925011916,1.1222064925011916,1.1222064925011916,1.1222064925011916,1.1222064925011916,1.1222064925011916,1.1222064925011916,1.1222064925011916,1.1222064925011916,1.1222064925011916,1.1222064925011916,1.1222064925011916,{"$f":"SUM(V85:V86)","v":0.56110324625059582},1.1222064925011916,1.1222064925011916,1.1222064925011916,1.1222064925011916,1.1222064925011916,{"$f":"SUM(AB85:AB86)","v":1.1222064925011916},1.1222064925011916,1.1222064925011916,1.1222064925011916,1.1222064925011916,1.1222064925011916,1.1222064925011916,1.1222064925011916,1.1222064925011916,1.1222064925011916,1.1222064925011916,0.56110324625059582,0]
[]
[]
["Light Type",null,"Assumed",null,"Closing RAB","Depreciation"]
[null,null," 2004 Volumes",null,{"$f":"E$47","v":2004},2005,2006,2007,2008,2009,2010,2011,2012,2013,2014,2015,2016,2017,2018,2019,2020,{"$f":"V$47","v":"HY2021"},{"$f":"W$47","v":"2022-06-30"},"2023-06-30","2024-06-30","2025-06-30","2026-06-30",{"$f":"AB$84","v":"2027-06-30"},"2028-06-30","2029-06-30","2030-06-30","2031-06-30","2032-06-30","2033-06-30","2034-06-30","2035-06-30","2036-06-30","2037-06-30","2038-06-30","2039-06-30"]
[{"$f":"'DNSP Inputs General'!A$86","v":"Mercury Vapour 80W"},null,{"$f":"C$55","v":28854.676729346738},null,{"$f":"E$87*$C92","v":1068569.8836349668},{"$f":"F$87*$C92","v":32380.90556469596},32380.90556469596,32380.90556469596,32380.90556469596,32380.90556469596,32380.90556469596,32380.90556469596,32380.90556469596,32380.90556469596,32380.90556469596,32380.90556469596,32380.90556469596,{"$f":"R$87*$C92","v":32380.90556469596},{"$f":"S$87*$C92","v":32380.90556469596},32380.90556469596,32380.90556469596,16190.45278234798,32380.90556469596,32380.90556469596,32380.90556469596,32380.90556469596,32380.90556469596,32380.90556469596,32380.90556469596,32380.90556469596,32380.90556469596,32380.90556469596,32380.90556469596,32380.90556469596,{"$f":"AI$87*$C92","v":32380.90556469596},32380.90556469596,32380.90556469596,32380.90556469596,16190.45278234798,0]
[{"$f":"'DNSP Inputs General'!A$87","v":"HP Sodium 150W"},null,{"$f":"C$56","v":4252.263490243743},null,{"$f":"E$87*$C93","v":157473.28398705114},4771.9176965773058,4771.9176965773058,4771.9176965773058,4771.9176965773058,4771.9176965773058,4771.9176965773058,4771.9176965773058,4771.9176965773058,4771.9176965773058,4771.9176965773058,4771.9176965773058,4771.9176965773058,{"$f":"R$87*$C93","v":4771.9176965773058},4771.9176965773058,4771.9176965773058,4771.9176965773058,2385.9588482886529,4771.9176965773058,4771.9176965773058,4771.9176965773058,4771.9176965773058,4771.9176965773058,{"$f":"AB$87*$C93","v":4771.9176965773058},4771.9176965773058,4771.9176965773058,4771.9176965773058,4771.9176965773058,4771.9176965773058,4771.9176965773058,4771.9176965773058,4771.9176965773058,4771.9176965773058,4771.9176965773058,2385.9588482886529,0]
[{"$f":"'DNSP Inputs General'!A$88","v":"HP Sodium 250W"},null,{"$f":"C$57","v":4329.4481153353427},null,{"$f":"E$87*$C94","v":160331.64787122022},4858.5347839763699,4858.5347839763699,4858.5347839763699,4858.5347839763699,4858.5347839763699,4858.5347839763699,4858.5347839763699,4858.5347839763699,4858.5347839763699,4858.5347839763699,4858.5347839763699,4858.5347839763699,{"$f":"R$87*$C94","v":4858.5347839763699},4858.5347839763699,4858.5347839763699,4858.5347839763699,2429.267391988185,4858.5347839763699,4858.5347839763699,4858.5347839763699,4858.5347839763699,4858.5347839763699,4858.5347839763699,4858.5347839763699,4858.5347839763699,4858.5347839763699,4858.5347839763699,4858.5347839763699,4858.5347839763699,4858.5347839763699,4858.5347839763699,4858.5347839763699,4858.5347839763699,2429.267391988185,0]
[{"$f":"'DNSP Inputs General'!A$89","v":"Mercury Vapour 50W"},null,{"$f":"C$58","v":546.38589867473945},null,{"$f":"E$87*'DNSP Inputs General'!$D89*$C95","v":29946.627093826035},{"$f":"F$87*'DNSP Inputs General'!$D89*$C95","v":907.4735482977585},{"$f":"G$87*'DNSP Inputs General'!$D89*$C95","v":907.4735482977585},{"$f":"H$87*'DNSP Inputs General'!$D89*$C95","v":907.4735482977585},{"$f":"I$87*'DNSP Inputs General'!$D89*$C95","v":907.4735482977585},{"$f":"J$87*'DNSP Inputs General'!$D89*$C95","v":907.4735482977585},{"$f":"K$87*'DNSP Inputs General'!$D89*$C95","v":907.4735482977585},{"$f":"L$87*'DNSP Inputs General'!$D89*$C95","v":907.4735482977585},{"$f":"M$87*'DNSP Inputs General'!$D89*$C95","v":907.4735482977585},{"$f":"N$87*'DNSP Inputs General'!$D89*$C95","v":907.4735482977585},{"$f":"O$87*'DNSP Inputs General'!$D89*$C95","v":907.4735482977585},{"$f":"P$87*'DNSP Inputs General'!$D89*$C95","v":907.4735482977585},{"$f":"Q$87*'DNSP Inputs General'!$D89*$C95","v":907.4735482977585},{"$f":"R$87*'DNSP Inputs General'!$D89*$C95","v":907.4735482977585},{"$f":"S$87*'DNSP Inputs General'!$D89*$C95","v":907.4735482977585},{"$f":"T$87*'DNSP Inputs General'!$D89*$C95","v":907.4735482977585},{"$f":"U$87*'DNSP Inputs General'!$D89*$C95","v":907.4735482977585},{"$f":"V$87*'DNSP Inputs General'!$D89*$C95","v":453.73677414887925},{"$f":"W$87*'DNSP Inputs General'!$D89*$C95","v":907.4735482977585},{"$f":"X$87*'DNSP Inputs General'!$D89*$C95","v":907.4735482977585},{"$f":"Y$87*'DNSP Inputs General'!$D89*$C95","v":907.4735482977585},{"$f":"Z$87*'DNSP Inputs General'!$D89*$C95","v":907.4735482977585},{"$f":"AA$87*'DNSP Inputs General'!$D89*$C95","v":907.4735482977585},{"$f":"AB$87*'DNSP Inputs General'!$D89*$C95","v":907.4735482977585},{"$f":"AC$87*'DNSP Inputs General'!$D89*$C95","v":907.4735482977585},{"$f":"AD$87*'DNSP Inputs General'!$D89*$C95","v":907.4735482977585},{"$f":"AE$87*'DNSP Inputs General'!$D89*$C95","v":907.4735482977585},{"$f":"AF$87*'DNSP Inputs General'!$D89*$C95","v":907.4735482977585},{"$f":"AG$87*'DNSP Inputs General'!$D89*$C95","v":907.4735482977585},{"$f":"AH$87*'DNSP Inputs General'!$D89*$C95","v":907.4735482977585},{"$f":"AI$87*'DNSP Inputs General'!$D89*$C95","v":907.4735482977585},{"$f":"AJ$87*'DNSP Inputs General'!$D89*$C95","v":907.4735482977585},{"$f":"AK$87*'DNSP Inputs General'!$D89*$C95","v":907.4735482977585},{"$f":"AL$87*'DNSP Inputs General'!$D89*$C95","v":907.4735482977585},{"$f":"AM$87*'DNSP Inputs General'!$D89*$C95","v":453.73677414887925},{"$f":"AN$87*'DNSP Inputs General'!$D89*$C95","v":0}]
[{"$f":"'DNSP Inputs General'!A$90","v":"Mercury Vapour 125W"},null,{"$f":"C$59","v":61.950817507730676},null,{"$f":"E$87*'DNSP Inputs General'!$D90*$C96","v":3395.4354139839925},{"$f":"F$87*'DNSP Inputs General'!$D90*$C96","v":102.89198224193915},{"$f":"G$87*'DNSP Inputs General'!$D90*$C96","v":102.89198224193915},{"$f":"H$87*'DNSP Inputs General'!$D90*$C96","v":102.89198224193915},{"$f":"I$87*'DNSP Inputs General'!$D90*$C96","v":102.89198224193915},{"$f":"J$87*'DNSP Inputs General'!$D90*$C96","v":102.89198224193915},{"$f":"K$87*'DNSP Inputs General'!$D90*$C96","v":102.89198224193915},{"$f":"L$87*'DNSP Inputs General'!$D90*$C96","v":102.89198224193915},{"$f":"M$87*'DNSP Inputs General'!$D90*$C96","v":102.89198224193915},{"$f":"N$87*'DNSP Inputs General'!$D90*$C96","v":102.89198224193915},{"$f":"O$87*'DNSP Inputs General'!$D90*$C96","v":102.89198224193915},{"$f":"P$87*'DNSP Inputs General'!$D90*$C96","v":102.89198224193915},{"$f":"Q$87*'DNSP Inputs General'!$D90*$C96","v":102.89198224193915},{"$f":"R$87*'DNSP Inputs General'!$D90*$C96","v":102.89198224193915},{"$f":"S$87*'DNSP Inputs General'!$D90*$C96","v":102.89198224193915},{"$f":"T$87*'DNSP Inputs General'!$D90*$C96","v":102.89198224193915},{"$f":"U$87*'DNSP Inputs General'!$D90*$C96","v":102.89198224193915},{"$f":"V$87*'DNSP Inputs General'!$D90*$C96","v":51.445991120969573},{"$f":"W$87*'DNSP Inputs General'!$D90*$C96","v":102.89198224193915},{"$f":"X$87*'DNSP Inputs General'!$D90*$C96","v":102.89198224193915},{"$f":"Y$87*'DNSP Inputs General'!$D90*$C96","v":102.89198224193915},{"$f":"Z$87*'DNSP Inputs General'!$D90*$C96","v":102.89198224193915},{"$f":"AA$87*'DNSP Inputs General'!$D90*$C96","v":102.89198224193915},{"$f":"AB$87*'DNSP Inputs General'!$D90*$C96","v":102.89198224193915},{"$f":"AC$87*'DNSP Inputs General'!$D90*$C96","v":102.89198224193915},{"$f":"AD$87*'DNSP Inputs General'!$D90*$C96","v":102.89198224193915},{"$f":"AE$87*'DNSP Inputs General'!$D90*$C96","v":102.89198224193915},{"$f":"AF$87*'DNSP Inputs General'!$D90*$C96","v":102.89198224193915},{"$f":"AG$87*'DNSP Inputs General'!$D90*$C96","v":102.89198224193915},{"$f":"AH$87*'DNSP Inputs General'!$D90*$C96","v":102.89198224193915},{"$f":"AI$87*'DNSP Inputs General'!$D90*$C96","v":102.89198224193915},{"$f":"AJ$87*'DNSP Inputs General'!$D90*$C96","v":102.89198224193915},{"$f":"AK$87*'DNSP Inputs General'!$D90*$C96","v":102.89198224193915},{"$f":"AL$87*'DNSP Inputs General'!$D90*$C96","v":102.89198224193915},{"$f":"AM$87*'DNSP Inputs General'!$D90*$C96","v":51.445991120969573},{"$f":"AN$87*'DNSP Inputs General'!$D90*$C96","v":0}]
[{"$f":"'DNSP Inputs General'!A$91","v":"Mercury Vapour 250W"},null,{"$f":"C$60","v":450.92070448249871},null,{"$f":"E$87*'DNSP Inputs General'!$D91*$C97","v":17366.817199393536},{"$f":"F$87*'DNSP Inputs General'!$D91*$C97","v":526.2671878604101},{"$f":"G$87*'DNSP Inputs General'!$D91*$C97","v":526.2671878604101},{"$f":"H$87*'DNSP Inputs General'!$D91*$C97","v":526.2671878604101},{"$f":"I$87*'DNSP Inputs General'!$D91*$C97","v":526.2671878604101},{"$f":"J$87*'DNSP Inputs General'!$D91*$C97","v":526.2671878604101},{"$f":"K$87*'DNSP Inputs General'!$D91*$C97","v":526.2671878604101},{"$f":"L$87*'DNSP Inputs General'!$D91*$C97","v":526.2671878604101},{"$f":"M$87*'DNSP Inputs General'!$D91*$C97","v":526.2671878604101},{"$f":"N$87*'DNSP Inputs General'!$D91*$C97","v":526.2671878604101},{"$f":"O$87*'DNSP Inputs General'!$D91*$C97","v":526.2671878604101},{"$f":"P$87*'DNSP Inputs General'!$D91*$C97","v":526.2671878604101},{"$f":"Q$87*'DNSP Inputs General'!$D91*$C97","v":526.2671878604101},{"$f":"R$87*'DNSP Inputs General'!$D91*$C97","v":526.2671878604101},{"$f":"S$87*'DNSP Inputs General'!$D91*$C97","v":526.2671878604101},{"$f":"T$87*'DNSP Inputs General'!$D91*$C97","v":526.2671878604101},{"$f":"U$87*'DNSP Inputs General'!$D91*$C97","v":526.2671878604101},{"$f":"V$87*'DNSP Inputs General'!$D91*$C97","v":263.13359393020505},{"$f":"W$87*'DNSP Inputs General'!$D91*$C97","v":526.2671878604101},{"$f":"X$87*'DNSP Inputs General'!$D91*$C97","v":526.2671878604101},{"$f":"Y$87*'DNSP Inputs General'!$D91*$C97","v":526.2671878604101},{"$f":"Z$87*'DNSP Inputs General'!$D91*$C97","v":526.2671878604101},{"$f":"AA$87*'DNSP Inputs General'!$D91*$C97","v":526.2671878604101},{"$f":"AB$87*'DNSP Inputs General'!$D91*$C97","v":526.2671878604101},{"$f":"AC$87*'DNSP Inputs General'!$D91*$C97","v":526.2671878604101},{"$f":"AD$87*'DNSP Inputs General'!$D91*$C97","v":526.2671878604101},{"$f":"AE$87*'DNSP Inputs General'!$D91*$C97","v":526.2671878604101},{"$f":"AF$87*'DNSP Inputs General'!$D91*$C97","v":526.2671878604101},{"$f":"AG$87*'DNSP Inputs General'!$D91*$C97","v":526.2671878604101},{"$f":"AH$87*'DNSP Inputs General'!$D91*$C97","v":526.2671878604101},{"$f":"AI$87*'DNSP Inputs General'!$D91*$C97","v":526.2671878604101},{"$f":"AJ$87*'DNSP Inputs General'!$D91*$C97","v":526.2671878604101},{"$f":"AK$87*'DNSP Inputs General'!$D91*$C97","v":526.2671878604101},{"$f":"AL$87*'DNSP Inputs General'!$D91*$C97","v":526.2671878604101},{"$f":"AM$87*'DNSP Inputs General'!$D91*$C97","v":263.13359393020505},{"$f":"AN$87*'DNSP Inputs General'!$D91*$C97","v":0}]
[{"$f":"'DNSP Inputs General'!A$92","v":"Mercury Vapour 400W"},null,{"$f":"C$61","v":137.1042682548138},null,{"$f":"E$87*'DNSP Inputs General'!$D92*$C98","v":5432.7718824766043},{"$f":"F$87*'DNSP Inputs General'!$D92*$C98","v":164.62945098413948},{"$f":"G$87*'DNSP Inputs General'!$D92*$C98","v":164.62945098413948},{"$f":"H$87*'DNSP Inputs General'!$D92*$C98","v":164.62945098413948},{"$f":"I$87*'DNSP Inputs General'!$D92*$C98","v":164.62945098413948},{"$f":"J$87*'DNSP Inputs General'!$D92*$C98","v":164.62945098413948},{"$f":"K$87*'DNSP Inputs General'!$D92*$C98","v":164.62945098413948},{"$f":"L$87*'DNSP Inputs General'!$D92*$C98","v":164.62945098413948},{"$f":"M$87*'DNSP Inputs General'!$D92*$C98","v":164.62945098413948},{"$f":"N$87*'DNSP Inputs General'!$D92*$C98","v":164.62945098413948},{"$f":"O$87*'DNSP Inputs General'!$D92*$C98","v":164.62945098413948},{"$f":"P$87*'DNSP Inputs General'!$D92*$C98","v":164.62945098413948},{"$f":"Q$87*'DNSP Inputs General'!$D92*$C98","v":164.62945098413948},{"$f":"R$87*'DNSP Inputs General'!$D92*$C98","v":164.62945098413948},{"$f":"S$87*'DNSP Inputs General'!$D92*$C98","v":164.62945098413948},{"$f":"T$87*'DNSP Inputs General'!$D92*$C98","v":164.62945098413948},{"$f":"U$87*'DNSP Inputs General'!$D92*$C98","v":164.62945098413948},{"$f":"V$87*'DNSP Inputs General'!$D92*$C98","v":82.314725492069741},{"$f":"W$87*'DNSP Inputs General'!$D92*$C98","v":164.62945098413948},{"$f":"X$87*'DNSP Inputs General'!$D92*$C98","v":164.62945098413948},{"$f":"Y$87*'DNSP Inputs General'!$D92*$C98","v":164.62945098413948},{"$f":"Z$87*'DNSP Inputs General'!$D92*$C98","v":164.62945098413948},{"$f":"AA$87*'DNSP Inputs General'!$D92*$C98","v":164.62945098413948},{"$f":"AB$87*'DNSP Inputs General'!$D92*$C98","v":164.62945098413948},{"$f":"AC$87*'DNSP Inputs General'!$D92*$C98","v":164.62945098413948},{"$f":"AD$87*'DNSP Inputs General'!$D92*$C98","v":164.62945098413948},{"$f":"AE$87*'DNSP Inputs General'!$D92*$C98","v":164.62945098413948},{"$f":"AF$87*'DNSP Inputs General'!$D92*$C98","v":164.62945098413948},{"$f":"AG$87*'DNSP Inputs General'!$D92*$C98","v":164.62945098413948},{"$f":"AH$87*'DNSP Inputs General'!$D92*$C98","v":164.62945098413948},{"$f":"AI$87*'DNSP Inputs General'!$D92*$C98","v":164.62945098413948},{"$f":"AJ$87*'DNSP Inputs General'!$D92*$C98","v":164.62945098413948},{"$f":"AK$87*'DNSP Inputs General'!$D92*$C98","v":164.62945098413948},{"$f":"AL$87*'DNSP Inputs General'!$D92*$C98","v":164.62945098413948},{"$f":"AM$87*'DNSP Inputs General'!$D92*$C98","v":82.314725492069741},{"$f":"AN$87*'DNSP Inputs General'!$D92*$C98","v":0}]
[{"$f":"'DNSP Inputs General'!A$93","v":"HP Sodium 100W"},null,{"$f":"C$62","v":92.418432675467074},null,{"$f":"E$87*'DNSP Inputs General'!$D93*$C99","v":3662.0906763360808},{"$f":"F$87*'DNSP Inputs General'!$D93*$C99","v":110.97244473745698},{"$f":"G$87*'DNSP Inputs General'!$D93*$C99","v":110.97244473745698},{"$f":"H$87*'DNSP Inputs General'!$D93*$C99","v":110.97244473745698},{"$f":"I$87*'DNSP Inputs General'!$D93*$C99","v":110.97244473745698},{"$f":"J$87*'DNSP Inputs General'!$D93*$C99","v":110.97244473745698},{"$f":"K$87*'DNSP Inputs General'!$D93*$C99","v":110.97244473745698},{"$f":"L$87*'DNSP Inputs General'!$D93*$C99","v":110.97244473745698},{"$f":"M$87*'DNSP Inputs General'!$D93*$C99","v":110.97244473745698},{"$f":"N$87*'DNSP Inputs General'!$D93*$C99","v":110.97244473745698},{"$f":"O$87*'DNSP Inputs General'!$D93*$C99","v":110.97244473745698},{"$f":"P$87*'DNSP Inputs General'!$D93*$C99","v":110.97244473745698},{"$f":"Q$87*'DNSP Inputs General'!$D93*$C99","v":110.97244473745698},{"$f":"R$87*'DNSP Inputs General'!$D93*$C99","v":110.97244473745698},{"$f":"S$87*'DNSP Inputs General'!$D93*$C99","v":110.97244473745698},{"$f":"T$87*'DNSP Inputs General'!$D93*$C99","v":110.97244473745698},{"$f":"U$87*'DNSP Inputs General'!$D93*$C99","v":110.97244473745698},{"$f":"V$87*'DNSP Inputs General'!$D93*$C99","v":55.486222368728491},{"$f":"W$87*'DNSP Inputs General'!$D93*$C99","v":110.97244473745698},{"$f":"X$87*'DNSP Inputs General'!$D93*$C99","v":110.97244473745698},{"$f":"Y$87*'DNSP Inputs General'!$D93*$C99","v":110.97244473745698},{"$f":"Z$87*'DNSP Inputs General'!$D93*$C99","v":110.97244473745698},{"$f":"AA$87*'DNSP Inputs General'!$D93*$C99","v":110.97244473745698},{"$f":"AB$87*'DNSP Inputs General'!$D93*$C99","v":110.97244473745698},{"$f":"AC$87*'DNSP Inputs General'!$D93*$C99","v":110.97244473745698},{"$f":"AD$87*'DNSP Inputs General'!$D93*$C99","v":110.97244473745698},{"$f":"AE$87*'DNSP Inputs General'!$D93*$C99","v":110.97244473745698},{"$f":"AF$87*'DNSP Inputs General'!$D93*$C99","v":110.97244473745698},{"$f":"AG$87*'DNSP Inputs General'!$D93*$C99","v":110.97244473745698},{"$f":"AH$87*'DNSP Inputs General'!$D93*$C99","v":110.97244473745698},{"$f":"AI$87*'DNSP Inputs General'!$D93*$C99","v":110.97244473745698},{"$f":"AJ$87*'DNSP Inputs General'!$D93*$C99","v":110.97244473745698},{"$f":"AK$87*'DNSP Inputs General'!$D93*$C99","v":110.97244473745698},{"$f":"AL$87*'DNSP Inputs General'!$D93*$C99","v":110.97244473745698},{"$f":"AM$87*'DNSP Inputs General'!$D93*$C99","v":55.486222368728491},{"$f":"AN$87*'DNSP Inputs General'!$D93*$C99","v":0}]
[{"$f":"'DNSP Inputs General'!A$94","v":"HP Sodium 400W"},null,{"$f":"C$63","v":282.33323388769065},null,{"$f":"E$87*'DNSP Inputs General'!$D94*$C100","v":14846.943775191859},{"$f":"F$87*'DNSP Inputs General'!$D94*$C100","v":449.90738712702591},{"$f":"G$87*'DNSP Inputs General'!$D94*$C100","v":449.90738712702591},{"$f":"H$87*'DNSP Inputs General'!$D94*$C100","v":449.90738712702591},{"$f":"I$87*'DNSP Inputs General'!$D94*$C100","v":449.90738712702591},{"$f":"J$87*'DNSP Inputs General'!$D94*$C100","v":449.90738712702591},{"$f":"K$87*'DNSP Inputs General'!$D94*$C100","v":449.90738712702591},{"$f":"L$87*'DNSP Inputs General'!$D94*$C100","v":449.90738712702591},{"$f":"M$87*'DNSP Inputs General'!$D94*$C100","v":449.90738712702591},{"$f":"N$87*'DNSP Inputs General'!$D94*$C100","v":449.90738712702591},{"$f":"O$87*'DNSP Inputs General'!$D94*$C100","v":449.90738712702591},{"$f":"P$87*'DNSP Inputs General'!$D94*$C100","v":449.90738712702591},{"$f":"Q$87*'DNSP Inputs General'!$D94*$C100","v":449.90738712702591},{"$f":"R$87*'DNSP Inputs General'!$D94*$C100","v":449.90738712702591},{"$f":"S$87*'DNSP Inputs General'!$D94*$C100","v":449.90738712702591},{"$f":"T$87*'DNSP Inputs General'!$D94*$C100","v":449.90738712702591},{"$f":"U$87*'DNSP Inputs General'!$D94*$C100","v":449.90738712702591},{"$f":"V$87*'DNSP Inputs General'!$D94*$C100","v":224.95369356351296},{"$f":"W$87*'DNSP Inputs General'!$D94*$C100","v":449.90738712702591},{"$f":"X$87*'DNSP Inputs General'!$D94*$C100","v":449.90738712702591},{"$f":"Y$87*'DNSP Inputs General'!$D94*$C100","v":449.90738712702591},{"$f":"Z$87*'DNSP Inputs General'!$D94*$C100","v":449.90738712702591},{"$f":"AA$87*'DNSP Inputs General'!$D94*$C100","v":449.90738712702591},{"$f":"AB$87*'DNSP Inputs General'!$D94*$C100","v":449.90738712702591},{"$f":"AC$87*'DNSP Inputs General'!$D94*$C100","v":449.90738712702591},{"$f":"AD$87*'DNSP Inputs General'!$D94*$C100","v":449.90738712702591},{"$f":"AE$87*'DNSP Inputs General'!$D94*$C100","v":449.90738712702591},{"$f":"AF$87*'DNSP Inputs General'!$D94*$C100","v":449.90738712702591},{"$f":"AG$87*'DNSP Inputs General'!$D94*$C100","v":449.90738712702591},{"$f":"AH$87*'DNSP Inputs General'!$D94*$C100","v":449.90738712702591},{"$f":"AI$87*'DNSP Inputs General'!$D94*$C100","v":449.90738712702591},{"$f":"AJ$87*'DNSP Inputs General'!$D94*$C100","v":449.90738712702591},{"$f":"AK$87*'DNSP Inputs General'!$D94*$C100","v":449.90738712702591},{"$f":"AL$87*'DNSP Inputs General'!$D94*$C100","v":449.90738712702591},{"$f":"AM$87*'DNSP Inputs General'!$D94*$C100","v":224.95369356351296},{"$f":"AN$87*'DNSP Inputs General'!$D94*$C100","v":0}]
[]
[]
[]
[]
[]
[]
[]
[]
[]
[]
[]
[]
[]
[null,null,null,null,{"$f":"SUM(E92:E113)","v":1461025.5015344461},{"$f":"SUM(F92:F113)","v":44273.50004649836},44273.50004649836,44273.50004649836,44273.50004649836,44273.50004649836,44273.50004649836,44273.50004649836,44273.50004649836,44273.50004649836,44273.50004649836,44273.50004649836,44273.50004649836,{"$f":"SUM(R92:R113)","v":44273.50004649836},{"$f":"SUM(S92:S113)","v":44273.50004649836},44273.50004649836,44273.50004649836,{"$f":"SUM(V92:V113)","v":22136.75002324918},44273.50004649836,44273.50004649836,44273.50004649836,44273.50004649836,44273.50004649836,{"$f":"SUM(AB92:AB113)","v":44273.50004649836},44273.50004649836,44273.50004649836,44273.50004649836,44273.50004649836,44273.50004649836,44273.50004649836,44273.50004649836,44273.50004649836,44273.50004649836,44273.50004649836,22136.75002324918,0]
[]
["WDV",null,null,null,{"$f":"E114","v":1461025.5015344461},{"$f":"E116-F114","v":1416752.0014879478},{"$f":"F116-G114","v":1372478.5014414494},1328205.001394951,1283931.5013484526,1239658.0013019543,1195384.5012554559,1151111.0012089575,1106837.5011624591,1062564.0011159608,1018290.5010694624,974017.00102296402,929743.50097646564,885470.00092996727,841196.50088346889,796923.00083697052,752649.50079047214,730512.75076722295,686239.25072072458,641965.7506742262,597692.25062772783,553418.75058122945,509145.25053473108,464871.7504882327,420598.25044173433,376324.75039523595,332051.25034873758,287777.7503022392,243504.25025574083,199230.75020924245,154957.25016274408,110683.75011624572,66410.250069747359,22136.750023248998,-1.8189894035458565E-10,-1.8189894035458565E-10]
[]
[]
[]
[]
["Detailed calculations"]
[]
[]
["DEPRECIATION PROFILE"]
["Year Counter",1,{"$f":"B125+1","v":2},3,4,5,6,7,8,9,10,11,12,13,14,15,16,17,18,19,20,{"$f":"U125+0.5","v":20.5},21.5,22.5,23.5,24.5,25.5,26.5,27.5,28.5,29.5,30.5,31.5,32.5,33.5,34.5,35.5,36.5,37.5,38.5]
["Numerator",2001,{"$f":"B126+1","v":2002},2003,2004,2005,2006,2007,2008,2009,2010,2011,2012,2013,2014,2015,2016,2017,2018,2019,2020,{"$f":"V$91","v":"HY2021"},{"$f":"W$91","v":"2022-06-30"},{"$f":"X$91","v":"2023-06-30"},"2024-06-30","2025-06-30","2026-06-30","2027-06-30","2028-06-30","2029-06-30","2030-06-30","2031-06-30","2032-06-30","2033-06-30","2034-06-30","2035-06-30","2036-06-30","2037-06-30","2038-06-30","2039-06-30"]
[{"$f":"'Inputs PL Final Decision 2004'!$A$65","v":"20 year asset life"},10,29,47,64,{"$f":"E127+10-4","v":70},{"$f":"F127-4","v":66},{"$f":"IF(G127-4<0,0,G127-4)","v":62},58,54,50,46,42,38,34,30,26,22,18,14,10,{"$f":"IF(U127-4<0,0,U127-2)","v":8},{"$f":"IF(V127-4<0,0,V127-4)","v":4},{"$f":"IF(W127-2<0,0,W127-2)","v":2},{"$f":"IF(X127-2<0,0,X127-2)","v":0},0,0,0,0,0,0,0,0,0,0,0,0,0,0,0]
[]
[{"$f":"'Inputs PL Final Decision 2004'!$A$74","v":"35 year asset life"},17.5,51.5,84.5,116.5,{"$f":"E129+17.5-4","v":130},{"$f":"F129-4","v":126},{"$f":"IF(G129-4<0,0,G129-4)","v":122},118,114,110,106,102,98,94,90,86,82,78,74,70,{"$f":"IF(U129-2<0,0,U129-2)","v":68},64,60,56,52,48,44,40,36,32,28,24,20,16,{"$f":"IF(AI129-1<0,0,AI129-4)","v":12},{"$f":"IF(AJ129-4<0,0,AJ129-4)","v":8},{"$f":"IF(AK129-4<0,0,AK129-4)","v":4},{"$f":"IF(AL129-2<0,0,AL129-2)","v":2},{"$f":"IF(AM129-2<0,0,AM129-2)","v":0}]
[]
[]
[]
[]
["MV 80",null,null,{"$f":"'Inputs PL Final Decision 2004'!$B$88","v":"Location of selected public lighting assets within distributors' areas (%)"},null,null,null,null,null,{"$f":"'Inputs PL Final Decision 2004'!$B$107","v":"Proportion of lights installed at 1 January 2001 (%)"}]
["Luminaire",null,null,{"$f":"'Inputs PL Final Decision 2004'!$B$92","v":"CitiPower"},{"$f":"IF($A$1='Inputs PL Final Decision 2004'!$A$123,'Inputs PL Final Decision 2004'!$C$92,IF($A$1='Inputs PL Final Decision 2004'!$A$124,'Inputs PL Final Decision 2004'!$D$92,IF($A$1='Inputs PL Final Decision 2004'!$A$125,'Inputs PL Final Decision 2004'!$E$92,IF($A$1='Inputs PL Final Decision 2004'!$A$126,'Inputs PL Final Decision 2004'!$F$92,IF($A$1='Inputs PL Final Decision 2004'!$A$127,'Inputs PL Final Decision 2004'!$G$92,'Inputs PL Final Decision 2004'!$H$92)))))","v":0},null,null,null,null,{"$f":"IF($A$1='Inputs PL Final Decision 2004'!$A$123,'Inputs PL Final Decision 2004'!$C$110,IF($A$1='Inputs PL Final Decision 2004'!$A$124,'Inputs PL Final Decision 2004'!$D$110,IF($A$1='Inputs PL Final Decision 2004'!$A$125,'Inputs PL Final Decision 2004'!$E$110,IF($A$1='Inputs PL Final Decision 2004'!$A$126,'Inputs PL Final Decision 2004'!$F$110,IF($A$1='Inputs PL Final Decision 2004'!$A$127,'Inputs PL Final Decision 2004'!$G$110,'Inputs PL Final Decision 2004'!$H$110)))))","v":0.88441954863731531}]
["Capital cost",{"$f":"($F$214*E135+$L$214*E136+$R$214*E137+$X$214*E138)*J135","v":234.8204217238206},null,{"$f":"'Inputs PL Final Decision 2004'!$B$93","v":"Urban"},{"$f":"IF($A$1='Inputs PL Final Decision 2004'!$A$123,'Inputs PL Final Decision 2004'!$C$93,IF($A$1='Inputs PL Final Decision 2004'!$A$124,'Inputs PL Final Decision 2004'!$D$93,IF($A$1='Inputs PL Final Decision 2004'!$A$125,'Inputs PL Final Decision 2004'!$E$93,IF($A$1='Inputs PL Final Decision 2004'!$A$126,'Inputs PL Final Decision 2004'!$F$93,IF($A$1='Inputs PL Final Decision 2004'!$A$127,'Inputs PL Final Decision 2004'!$G$93,'Inputs PL Final Decision 2004'!$H$93)))))","v":0.35}]
[{"$f":"'Inputs PL Final Decision 2004'!$A$20","v":"Depreciation period"},{"$f":"'Inputs PL Final Decision 2004'!$B$20","v":20},null,{"$f":"'Inputs PL Final Decision 2004'!$B$94","v":"Rural"},{"$f":"IF($A$1='Inputs PL Final Decision 2004'!$A$123,'Inputs PL Final Decision 2004'!$C$94,IF($A$1='Inputs PL Final Decision 2004'!$A$124,'Inputs PL Final Decision 2004'!$D$94,IF($A$1='Inputs PL Final Decision 2004'!$A$125,'Inputs PL Final Decision 2004'!$E$94,IF($A$1='Inputs PL Final Decision 2004'!$A$126,'Inputs PL Final Decision 2004'!$F$94,IF($A$1='Inputs PL Final Decision 2004'!$A$127,'Inputs PL Final Decision 2004'!$G$94,'Inputs PL Final Decision 2004'!$H$94)))))","v":0.53}]
[{"$f":"'Inputs PL Final Decision 2004'!$A$16","v":"Number of years from 1 January 2001"},{"$f":"'Inputs PL Final Decision 2004'!$B$16","v":4},null,{"$f":"'Inputs PL Final Decision 2004'!$B$95","v":"Remote"},{"$f":"IF($A$1='Inputs PL Final Decision 2004'!$A$123,'Inputs PL Final Decision 2004'!$C$95,IF($A$1='Inputs PL Final Decision 2004'!$A$124,'Inputs PL Final Decision 2004'!$D$95,IF($A$1='Inputs PL Final Decision 2004'!$A$125,'Inputs PL Final Decision 2004'!$E$95,IF($A$1='Inputs PL Final Decision 2004'!$A$126,'Inputs PL Final Decision 2004'!$F$95,IF($A$1='Inputs PL Final Decision 2004'!$A$127,'Inputs PL Final Decision 2004'!$G$95,'Inputs PL Final Decision 2004'!$H$95)))))","v":0.12}]
[]
[]
[]
[null,null,null,null,2004,{"$f":"E142+1","v":2005},2006,2007,2008,2009,2010,2011,2012,2013,2014,2015,{"$f":"P142+1","v":2016},{"$f":"Q142+1","v":2017},{"$f":"R142+1","v":2018},{"$f":"S142+1","v":2019},{"$f":"T142+1","v":2020},{"$f":"V$91","v":"HY2021"},{"$f":"W$91","v":"2022-06-30"},{"$f":"X$91","v":"2023-06-30"},"2024-06-30","2025-06-30","2026-06-30","2027-06-30","2028-06-30","2029-06-30","2030-06-30","2031-06-30","2032-06-30","2033-06-30","2034-06-30","2035-06-30","2036-06-30","2037-06-30","2038-06-30","2039-06-30"]
["RAB for Return",null,null,null,{"$f":"E$127/$B137*$B136/$B137","v":37.571267475811297},41.093573801668605,38.745369584430399,36.397165367192194,34.048961149953989,31.700756932715784,29.352552715477579,27.00434849823937,24.656144281001165,22.307940063762956,19.959735846524751,17.611531629286546,{"$f":"Q$127/$B137*$B136/$B137","v":15.263327412048341},12.915123194810135,10.566918977571927,8.2187147603337216,5.8705105430955147,4.6964084344764121,2.348204217238206,1.174102108619103,0,0,0,0,0,0,0,0,0,0,0,0,0,0,0,0]
["Depreciation",null,null,null,{"$f":"IF(E143=0,0,$B$136*$B$138/$B$137/$B$137)","v":2.348204217238206},2.348204217238206,2.348204217238206,2.348204217238206,2.348204217238206,2.348204217238206,2.348204217238206,2.348204217238206,2.348204217238206,2.348204217238206,2.348204217238206,2.348204217238206,{"$f":"IF(Q143=0,0,$B$136*$B$138/$B$137/$B$137)","v":2.348204217238206},{"$f":"IF(R143=0,0,$B$136*$B$138/$B$137/$B$137)","v":2.348204217238206},{"$f":"IF(S143=0,0,$B$136*$B$138/$B$137/$B$137)","v":2.348204217238206},{"$f":"IF(T143=0,0,$B$136*$B$138/$B$137/$B$137)","v":2.348204217238206},{"$f":"IF(U143=0,0,$B$136*$B$138/$B$137/$B$137)","v":2.348204217238206},{"$f":"IF(V143=0,0,$B$136*$B$138/$B$137/$B$137)*0.5","v":1.174102108619103},{"$f":"IF(W143=0,0,$B$136*$B$138/$B$137/$B$137)","v":2.348204217238206},{"$f":"IF(X143=0,0,$B$136*$B$138/$B$137/$B$137)*0.5","v":1.174102108619103},{"$f":"IF(Y143=0,0,$B$136*$B$138/$B$137/$B$137)","v":0},0,0,0,0,0,0,0,0,0,0,0,0,0,0,0]
[]
[]
[]
["S-HP 150 ",null,null,{"$f":"'Inputs PL Final Decision 2004'!$B$88","v":"Location of selected public lighting assets within distributors' areas (%)"},null,null,null,null,null,{"$f":"'Inputs PL Final Decision 2004'!$B$107","v":"Proportion of lights installed at 1 January 2001 (%)"}]
["Luminaire",null,null,{"$f":"'Inputs PL Final Decision 2004'!$B$92","v":"CitiPower"},{"$f":"IF($A$1='Inputs PL Final Decision 2004'!$A$123,'Inputs PL Final Decision 2004'!$C$97,IF($A$1='Inputs PL Final Decision 2004'!$A$124,'Inputs PL Final Decision 2004'!$D$97,IF($A$1='Inputs PL Final Decision 2004'!$A$125,'Inputs PL Final Decision 2004'!$E$97,IF($A$1='Inputs PL Final Decision 2004'!$A$126,'Inputs PL Final Decision 2004'!$F$97,IF($A$1='Inputs PL Final Decision 2004'!$A$127,'Inputs PL Final Decision 2004'!$G$97,'Inputs PL Final Decision 2004'!$H$97)))))","v":0},null,null,null,null,{"$f":"IF($A$1='Inputs PL Final Decision 2004'!$A$123,'Inputs PL Final Decision 2004'!$C$111,IF($A$1='Inputs PL Final Decision 2004'!$A$124,'Inputs PL Final Decision 2004'!$D$111,IF($A$1='Inputs PL Final Decision 2004'!$A$125,'Inputs PL Final Decision 2004'!$E$111,IF($A$1='Inputs PL Final Decision 2004'!$A$126,'Inputs PL Final Decision 2004'!$F$111,IF($A$1='Inputs PL Final Decision 2004'!$A$127,'Inputs PL Final Decision 2004'!$G$111,'Inputs PL Final Decision 2004'!$H$111)))))","v":0.92717784022480954}]
["Capital cost",{"$f":"($F$220*E149+$L$220*E150+$R$220*E151+$X$220*E152)*J149","v":276.55624098724644},null,{"$f":"'Inputs PL Final Decision 2004'!$B$93","v":"Urban"},{"$f":"IF($A$1='Inputs PL Final Decision 2004'!$A$123,'Inputs PL Final Decision 2004'!$C$98,IF($A$1='Inputs PL Final Decision 2004'!$A$124,'Inputs PL Final Decision 2004'!$D$98,IF($A$1='Inputs PL Final Decision 2004'!$A$125,'Inputs PL Final Decision 2004'!$E$98,IF($A$1='Inputs PL Final Decision 2004'!$A$126,'Inputs PL Final Decision 2004'!$F$98,IF($A$1='Inputs PL Final Decision 2004'!$A$127,'Inputs PL Final Decision 2004'!$G$98,'Inputs PL Final Decision 2004'!$H$98)))))","v":0.3}]
[{"$f":"'Inputs PL Final Decision 2004'!$A$20","v":"Depreciation period"},{"$f":"'Inputs PL Final Decision 2004'!$B$30","v":20},null,{"$f":"'Inputs PL Final Decision 2004'!$B$94","v":"Rural"},{"$f":"IF($A$1='Inputs PL Final Decision 2004'!$A$123,'Inputs PL Final Decision 2004'!$C$99,IF($A$1='Inputs PL Final Decision 2004'!$A$124,'Inputs PL Final Decision 2004'!$D$99,IF($A$1='Inputs PL Final Decision 2004'!$A$125,'Inputs PL Final Decision 2004'!$E$99,IF($A$1='Inputs PL Final Decision 2004'!$A$126,'Inputs PL Final Decision 2004'!$F$99,IF($A$1='Inputs PL Final Decision 2004'!$A$127,'Inputs PL Final Decision 2004'!$G$99,'Inputs PL Final Decision 2004'!$H$99)))))","v":0.63}]
[{"$f":"'Inputs PL Final Decision 2004'!$A$16","v":"Number of years from 1 January 2001"},{"$f":"'Inputs PL Final Decision 2004'!$B$16","v":4},null,{"$f":"'Inputs PL Final Decision 2004'!$B$95","v":"Remote"},{"$f":"IF($A$1='Inputs PL Final Decision 2004'!$A$123,'Inputs PL Final Decision 2004'!$C$100,IF($A$1='Inputs PL Final Decision 2004'!$A$124,'Inputs PL Final Decision 2004'!$D$100,IF($A$1='Inputs PL Final Decision 2004'!$A$125,'Inputs PL Final Decision 2004'!$E$100,IF($A$1='Inputs PL Final Decision 2004'!$A$126,'Inputs PL Final Decision 2004'!$F$100,IF($A$1='Inputs PL Final Decision 2004'!$A$127,'Inputs PL Final Decision 2004'!$G$100,'Inputs PL Final Decision 2004'!$H$100)))))","v":7.0000000000000007E-2}]
[]
[]
[]
[null,null,null,null,2004,{"$f":"E156+1","v":2005},2006,2007,2008,2009,2010,2011,2012,2013,2014,2015,{"$f":"P156+1","v":2016},{"$f":"Q156+1","v":2017},{"$f":"R156+1","v":2018},{"$f":"S156+1","v":2019},{"$f":"T156+1","v":2020},{"$f":"V$91","v":"HY2021"},{"$f":"W$91","v":"2022-06-30"},{"$f":"X$91","v":"2023-06-30"},"2024-06-30","2025-06-30","2026-06-30","2027-06-30","2028-06-30","2029-06-30","2030-06-30","2031-06-30","2032-06-30","2033-06-30","2034-06-30","2035-06-30","2036-06-30","2037-06-30","2038-06-30","2039-06-30"]
["RAB for Return",null,null,null,{"$f":"E$127/$B151*$B150/$B151","v":44.248998557959432},48.397342172768127,45.631779762895661,42.866217353023202,40.10065494315073,37.335092533278271,34.569530123405805,31.803967713533336,29.038405303660873,26.272842893788415,23.507280483915945,20.741718074043483,{"$f":"Q$127/$B151*$B150/$B151","v":17.976155664171021},15.210593254298555,12.445030844426089,9.679468434553625,6.913906024681161,5.531124819744929,2.7655624098724645,1.3827812049362322,0,0,0,0,0,0,0,0,0,0,0,0,0,0,0,0]
["Depreciation",null,null,null,{"$f":"IF(E157=0,0,$B$150*$B$152/$B$151/$B$151)","v":2.7655624098724645},2.7655624098724645,2.7655624098724645,2.7655624098724645,2.7655624098724645,2.7655624098724645,2.7655624098724645,2.7655624098724645,2.7655624098724645,2.7655624098724645,2.7655624098724645,2.7655624098724645,{"$f":"IF(Q157=0,0,$B$150*$B$152/$B$151/$B$151)","v":2.7655624098724645},{"$f":"IF(R157=0,0,$B$150*$B$152/$B$151/$B$151)","v":2.7655624098724645},{"$f":"IF(S157=0,0,$B$150*$B$152/$B$151/$B$151)","v":2.7655624098724645},{"$f":"IF(T157=0,0,$B$150*$B$152/$B$151/$B$151)","v":2.7655624098724645},{"$f":"IF(U157=0,0,$B$150*$B$152/$B$151/$B$151)","v":2.7655624098724645},{"$f":"IF(V157=0,0,$B$150*$B$152/$B$151/$B$151)*0.5","v":1.3827812049362322},{"$f":"IF(W157=0,0,$B$150*$B$152/$B$151/$B$151)","v":2.7655624098724645},{"$f":"IF(X157=0,0,$B$150*$B$152/$B$151/$B$151)*0.5","v":1.3827812049362322},{"$f":"IF(Y157=0,0,$B$150*$B$152/$B$151/$B$151)","v":0},0,0,0,0,0,0,0,0,0,0,0,0,0,0,0]
[]
[]
[]
["S-HP 250 ",null,null,{"$f":"'Inputs PL Final Decision 2004'!$B$88","v":"Location of selected public lighting assets within distributors' areas (%)"},null,null,null,null,null,{"$f":"'Inputs PL Final Decision 2004'!$B$107","v":"Proportion of lights installed at 1 January 2001 (%)"}]
["Luminaire",null,null,{"$f":"'Inputs PL Final Decision 2004'!$B$92","v":"CitiPower"},{"$f":"IF($A$1='Inputs PL Final Decision 2004'!$A$123,'Inputs PL Final Decision 2004'!$C$102,IF($A$1='Inputs PL Final Decision 2004'!$A$124,'Inputs PL Final Decision 2004'!$D$102,IF($A$1='Inputs PL Final Decision 2004'!$A$125,'Inputs PL Final Decision 2004'!$E$102,IF($A$1='Inputs PL Final Decision 2004'!$A$126,'Inputs PL Final Decision 2004'!$F$102,IF($A$1='Inputs PL Final Decision 2004'!$A$127,'Inputs PL Final Decision 2004'!$G$102,'Inputs PL Final Decision 2004'!$H$102)))))","v":0},null,null,null,null,{"$f":"IF($A$1='Inputs PL Final Decision 2004'!$A$123,'Inputs PL Final Decision 2004'!$C$112,IF($A$1='Inputs PL Final Decision 2004'!$A$124,'Inputs PL Final Decision 2004'!$D$112,IF($A$1='Inputs PL Final Decision 2004'!$A$125,'Inputs PL Final Decision 2004'!$E$112,IF($A$1='Inputs PL Final Decision 2004'!$A$126,'Inputs PL Final Decision 2004'!$F$112,IF($A$1='Inputs PL Final Decision 2004'!$A$127,'Inputs PL Final Decision 2004'!$G$112,'Inputs PL Final Decision 2004'!$H$112)))))","v":0.93238356164383573}]
["Capital cost",{"$f":"($F$226*E163+$L$226*E164+$R$226*E165+$X$226*E166)*J163","v":278.59346925281352},null,{"$f":"'Inputs PL Final Decision 2004'!$B$93","v":"Urban"},{"$f":"IF($A$1='Inputs PL Final Decision 2004'!$A$123,'Inputs PL Final Decision 2004'!$C$103,IF($A$1='Inputs PL Final Decision 2004'!$A$124,'Inputs PL Final Decision 2004'!$D$103,IF($A$1='Inputs PL Final Decision 2004'!$A$125,'Inputs PL Final Decision 2004'!$E$103,IF($A$1='Inputs PL Final Decision 2004'!$A$126,'Inputs PL Final Decision 2004'!$F$103,IF($A$1='Inputs PL Final Decision 2004'!$A$127,'Inputs PL Final Decision 2004'!$G$103,'Inputs PL Final Decision 2004'!$H$103)))))","v":0.37}]
[{"$f":"'Inputs PL Final Decision 2004'!$A$20","v":"Depreciation period"},{"$f":"'Inputs PL Final Decision 2004'!$B$41","v":20},null,{"$f":"'Inputs PL Final Decision 2004'!$B$94","v":"Rural"},{"$f":"IF($A$1='Inputs PL Final Decision 2004'!$A$123,'Inputs PL Final Decision 2004'!$C$104,IF($A$1='Inputs PL Final Decision 2004'!$A$124,'Inputs PL Final Decision 2004'!$D$104,IF($A$1='Inputs PL Final Decision 2004'!$A$125,'Inputs PL Final Decision 2004'!$E$104,IF($A$1='Inputs PL Final Decision 2004'!$A$126,'Inputs PL Final Decision 2004'!$F$104,IF($A$1='Inputs PL Final Decision 2004'!$A$127,'Inputs PL Final Decision 2004'!$G$104,'Inputs PL Final Decision 2004'!$H$104)))))","v":0.56999999999999995}]
[{"$f":"'Inputs PL Final Decision 2004'!$A$16","v":"Number of years from 1 January 2001"},{"$f":"'Inputs PL Final Decision 2004'!$B$16","v":4},null,{"$f":"'Inputs PL Final Decision 2004'!$B$95","v":"Remote"},{"$f":"IF($A$1='Inputs PL Final Decision 2004'!$A$123,'Inputs PL Final Decision 2004'!$C$105,IF($A$1='Inputs PL Final Decision 2004'!$A$124,'Inputs PL Final Decision 2004'!$D$105,IF($A$1='Inputs PL Final Decision 2004'!$A$125,'Inputs PL Final Decision 2004'!$E$105,IF($A$1='Inputs PL Final Decision 2004'!$A$126,'Inputs PL Final Decision 2004'!$F$105,IF($A$1='Inputs PL Final Decision 2004'!$A$127,'Inputs PL Final Decision 2004'!$G$105,'Inputs PL Final Decision 2004'!$H$105)))))","v":0.06}]
[]
[]
[]
[null,null,null,null,2004,{"$f":"E170+1","v":2005},2006,2007,2008,2009,2010,2011,2012,2013,2014,2015,{"$f":"P170+1","v":2016},{"$f":"Q170+1","v":2017},{"$f":"R170+1","v":2018},{"$f":"S170+1","v":2019},{"$f":"T170+1","v":2020},{"$f":"V$91","v":"HY2021"},{"$f":"W$91","v":"2022-06-30"},{"$f":"X$91","v":"2023-06-30"},"2024-06-30","2025-06-30","2026-06-30","2027-06-30","2028-06-30","2029-06-30","2030-06-30","2031-06-30","2032-06-30","2033-06-30","2034-06-30","2035-06-30","2036-06-30","2037-06-30","2038-06-30","2039-06-30"]
["RAB for Return",null,null,null,{"$f":"E$127/$B165*$B164/$B165","v":44.574955080450167},48.753857119242369,45.967922426714225,43.181987734186094,40.396053041657964,37.610118349129827,34.82418365660169,32.038248964073553,29.252314271545419,26.466379579017286,23.680444886489148,20.894510193961015,{"$f":"Q$127/$B165*$B164/$B165","v":18.108575501432878},15.322640808904746,12.536706116376608,9.7507714238484731,6.9648367313203376,5.5718693850562708,2.7859346925281354,1.3929673462640677,0,0,0,0,0,0,0,0,0,0,0,0,0,0,0,0]
["Depreciation",null,null,null,{"$f":"IF(E171=0,0,$B$164*$B$166/$B$165/$B$165)","v":2.785934692528135},2.785934692528135,2.785934692528135,2.785934692528135,2.785934692528135,2.785934692528135,2.785934692528135,2.785934692528135,2.785934692528135,2.785934692528135,2.785934692528135,2.785934692528135,{"$f":"IF(Q171=0,0,$B$164*$B$166/$B$165/$B$165)","v":2.785934692528135},{"$f":"IF(R171=0,0,$B$164*$B$166/$B$165/$B$165)","v":2.785934692528135},{"$f":"IF(S171=0,0,$B$164*$B$166/$B$165/$B$165)","v":2.785934692528135},{"$f":"IF(T171=0,0,$B$164*$B$166/$B$165/$B$165)","v":2.785934692528135},{"$f":"IF(U171=0,0,$B$164*$B$166/$B$165/$B$165)","v":2.785934692528135},{"$f":"IF(V171=0,0,$B$164*$B$166/$B$165/$B$165)*0.5","v":1.3929673462640675},{"$f":"IF(W171=0,0,$B$164*$B$166/$B$165/$B$165)","v":2.785934692528135},{"$f":"IF(X171=0,0,$B$164*$B$166/$B$165/$B$165)*0.5","v":1.3929673462640675},{"$f":"IF(Y171=0,0,$B$164*$B$166/$B$165/$B$165)","v":0},0,0,0,0,0,0,0,0,0,0,0,0,0,0,0]
[]
[]
[]
["Poles & Brackets",null,null,{"$f":"'Inputs PL Final Decision 2004'!$B$88","v":"Location of selected public lighting assets within distributors' areas (%)"},null,null,null,null,null,{"$f":"'Inputs PL Final Decision 2004'!$A$114","v":"Proportion of lights on dedicated poles"},null,null,null,{"$f":"'Inputs PL Final Decision 2004'!$A$115","v":"Proportion of dedicated poles at 1 Jan 2001"}]
["Dedicated poles",null,null,{"$f":"'Inputs PL Final Decision 2004'!$B$92","v":"CitiPower"},{"$f":"IF($A$1='Inputs PL Final Decision 2004'!$A$123,'Inputs PL Final Decision 2004'!$C$92,IF($A$1='Inputs PL Final Decision 2004'!$A$124,'Inputs PL Final Decision 2004'!$D$92,IF($A$1='Inputs PL Final Decision 2004'!$A$125,'Inputs PL Final Decision 2004'!$E$92,IF($A$1='Inputs PL Final Decision 2004'!$A$126,'Inputs PL Final Decision 2004'!$F$92,IF($A$1='Inputs PL Final Decision 2004'!$A$127,'Inputs PL Final Decision 2004'!$G$92,'Inputs PL Final Decision 2004'!$H$92)))))","v":0},null,null,null,null,{"$f":"IF($A$1='Inputs PL Final Decision 2004'!$A$123,'Inputs PL Final Decision 2004'!$C$114,IF($A$1='Inputs PL Final Decision 2004'!$A$124,'Inputs PL Final Decision 2004'!$D$114,IF($A$1='Inputs PL Final Decision 2004'!$A$125,'Inputs PL Final Decision 2004'!$E$114,IF($A$1='Inputs PL Final Decision 2004'!$A$126,'Inputs PL Final Decision 2004'!$F$114,IF($A$1='Inputs PL Final Decision 2004'!$A$127,'Inputs PL Final Decision 2004'!$G$114,'Inputs PL Final Decision 2004'!$H$114)))))","v":0.38296744016378254},null,null,null,{"$f":"IF($A$1='Inputs PL Final Decision 2004'!$A$123,'Inputs PL Final Decision 2004'!$C$115,IF($A$1='Inputs PL Final Decision 2004'!$A$124,'Inputs PL Final Decision 2004'!$D$115,IF($A$1='Inputs PL Final Decision 2004'!$A$125,'Inputs PL Final Decision 2004'!$E$115,IF($A$1='Inputs PL Final Decision 2004'!$A$126,'Inputs PL Final Decision 2004'!$F$115,IF($A$1='Inputs PL Final Decision 2004'!$A$127,'Inputs PL Final Decision 2004'!$G$115,'Inputs PL Final Decision 2004'!$H$115)))))","v":0.88888888888888884}]
["Capital cost",{"$f":"($F$231*E177+$L$231*E178+$R$231*E179+$X$231*E180)*J177*N177","v":284.69756949837796},null,{"$f":"'Inputs PL Final Decision 2004'!$B$93","v":"Urban"},{"$f":"IF($A$1='Inputs PL Final Decision 2004'!$A$123,'Inputs PL Final Decision 2004'!$C$93,IF($A$1='Inputs PL Final Decision 2004'!$A$124,'Inputs PL Final Decision 2004'!$D$93,IF($A$1='Inputs PL Final Decision 2004'!$A$125,'Inputs PL Final Decision 2004'!$E$93,IF($A$1='Inputs PL Final Decision 2004'!$A$126,'Inputs PL Final Decision 2004'!$F$93,IF($A$1='Inputs PL Final Decision 2004'!$A$127,'Inputs PL Final Decision 2004'!$G$93,'Inputs PL Final Decision 2004'!$H$93)))))","v":0.35}]
[{"$f":"'Inputs PL Final Decision 2004'!$A$52","v":"Depreciation of dedicated street lighting pole & bracket"},{"$f":"'Inputs PL Final Decision 2004'!$B$52","v":35},null,{"$f":"'Inputs PL Final Decision 2004'!$B$94","v":"Rural"},{"$f":"IF($A$1='Inputs PL Final Decision 2004'!$A$123,'Inputs PL Final Decision 2004'!$C$94,IF($A$1='Inputs PL Final Decision 2004'!$A$124,'Inputs PL Final Decision 2004'!$D$94,IF($A$1='Inputs PL Final Decision 2004'!$A$125,'Inputs PL Final Decision 2004'!$E$94,IF($A$1='Inputs PL Final Decision 2004'!$A$126,'Inputs PL Final Decision 2004'!$F$94,IF($A$1='Inputs PL Final Decision 2004'!$A$127,'Inputs PL Final Decision 2004'!$G$94,'Inputs PL Final Decision 2004'!$H$94)))))","v":0.53}]
[{"$f":"'Inputs PL Final Decision 2004'!$A$16","v":"Number of years from 1 January 2001"},{"$f":"'Inputs PL Final Decision 2004'!$B$16","v":4},null,{"$f":"'Inputs PL Final Decision 2004'!$B$95","v":"Remote"},{"$f":"IF($A$1='Inputs PL Final Decision 2004'!$A$123,'Inputs PL Final Decision 2004'!$C$95,IF($A$1='Inputs PL Final Decision 2004'!$A$124,'Inputs PL Final Decision 2004'!$D$95,IF($A$1='Inputs PL Final Decision 2004'!$A$125,'Inputs PL Final Decision 2004'!$E$95,IF($A$1='Inputs PL Final Decision 2004'!$A$126,'Inputs PL Final Decision 2004'!$F$95,IF($A$1='Inputs PL Final Decision 2004'!$A$127,'Inputs PL Final Decision 2004'!$G$95,'Inputs PL Final Decision 2004'!$H$95)))))","v":0.12}]
[]
[]
[]
[null,null,null,null,2004,{"$f":"E184+1","v":2005},2006,2007,2008,2009,2010,2011,2012,2013,2014,2015,{"$f":"P184+1","v":2016},{"$f":"Q184+1","v":2017},{"$f":"R184+1","v":2018},{"$f":"S184+1","v":2019},{"$f":"T184+1","v":2020},{"$f":"V$91","v":"HY2021"},{"$f":"W$91","v":"2022-06-30"},{"$f":"X$91","v":"2023-06-30"},"2024-06-30","2025-06-30","2026-06-30","2027-06-30","2028-06-30","2029-06-30","2030-06-30","2031-06-30","2032-06-30","2033-06-30","2034-06-30","2035-06-30","2036-06-30","2037-06-30","2038-06-30","2039-06-30"]
["RAB for Return",null,null,null,{"$f":"E$129/$B179*$B178/$B179","v":27.075319874743702},30.212803293705417,29.283178576976017,28.35355386024662,27.423929143517224,26.494304426787824,25.564679710058428,24.635054993329032,23.705430276599632,22.775805559870236,21.846180843140836,20.916556126411443,{"$f":"Q$129/$B179*$B178/$B179","v":19.986931409682047},19.057306692952647,18.127681976223251,17.198057259493851,16.268432542764454,15.803620184399756,14.873995467670358,13.94437075094096,13.014746034211564,12.085121317482168,11.15549660075277,10.225871884023372,9.2962471672939753,8.3666224505645754,7.4369977338351791,6.507373017105782,5.5777483003763848,4.6481235836469876,3.7184988669175896,2.7888741501881924,1.8592494334587948,0.92962471672939739,0.4648123583646987,0]
["Depreciation",null,null,null,{"$f":"IF(E185=0,0,$B$178*$B$180/$B$179/$B$179)","v":0.92962471672939739},0.92962471672939739,0.92962471672939739,0.92962471672939739,0.92962471672939739,0.92962471672939739,0.92962471672939739,0.92962471672939739,0.92962471672939739,0.92962471672939739,0.92962471672939739,0.92962471672939739,{"$f":"IF(Q185=0,0,$B$178*$B$180/$B$179/$B$179)","v":0.92962471672939739},{"$f":"IF(R185=0,0,$B$178*$B$180/$B$179/$B$179)","v":0.92962471672939739},{"$f":"IF(S185=0,0,$B$178*$B$180/$B$179/$B$179)","v":0.92962471672939739},{"$f":"IF(T185=0,0,$B$178*$B$180/$B$179/$B$179)","v":0.92962471672939739},{"$f":"IF(U185=0,0,$B$178*$B$180/$B$179/$B$179)","v":0.92962471672939739},{"$f":"IF(V185=0,0,$B$178*$B$180/$B$179/$B$179)*0.5","v":0.4648123583646987},{"$f":"IF(W185=0,0,$B$178*$B$180/$B$179/$B$179)","v":0.92962471672939739},0.92962471672939739,0.92962471672939739,0.92962471672939739,0.92962471672939739,0.92962471672939739,0.92962471672939739,0.92962471672939739,0.92962471672939739,0.92962471672939739,0.92962471672939739,0.92962471672939739,0.92962471672939739,0.92962471672939739,0.92962471672939739,0.92962471672939739,{"$f":"IF(AM185=0,0,$B$178*$B$180/$B$179/$B$179)*0.5","v":0.4648123583646987},{"$f":"IF(AN185=0,0,$B$178*$B$180/$B$179/$B$179)","v":0}]
[]
[]
[]
["Poles & Brackets",null,null,{"$f":"'Inputs PL Final Decision 2004'!$B$88","v":"Location of selected public lighting assets within distributors' areas (%)"},null,null,null,null,null,{"$f":"'Inputs PL Final Decision 2004'!$A$117","v":"Proportion of non-dedicated poles at 1 Jan 2001"}]
["Brackets",null,null,{"$f":"'Inputs PL Final Decision 2004'!$B$92","v":"CitiPower"},{"$f":"IF($A$1='Inputs PL Final Decision 2004'!$A$123,'Inputs PL Final Decision 2004'!$C$92,IF($A$1='Inputs PL Final Decision 2004'!$A$124,'Inputs PL Final Decision 2004'!$D$92,IF($A$1='Inputs PL Final Decision 2004'!$A$125,'Inputs PL Final Decision 2004'!$E$92,IF($A$1='Inputs PL Final Decision 2004'!$A$126,'Inputs PL Final Decision 2004'!$F$92,IF($A$1='Inputs PL Final Decision 2004'!$A$127,'Inputs PL Final Decision 2004'!$G$92,'Inputs PL Final Decision 2004'!$H$92)))))","v":0},null,null,null,null,{"$f":"IF($A$1='Inputs PL Final Decision 2004'!$A$123,'Inputs PL Final Decision 2004'!$C$117,IF($A$1='Inputs PL Final Decision 2004'!$A$124,'Inputs PL Final Decision 2004'!$D$117,IF($A$1='Inputs PL Final Decision 2004'!$A$125,'Inputs PL Final Decision 2004'!$E$117,IF($A$1='Inputs PL Final Decision 2004'!$A$126,'Inputs PL Final Decision 2004'!$F$117,IF($A$1='Inputs PL Final Decision 2004'!$A$127,'Inputs PL Final Decision 2004'!$G$117,'Inputs PL Final Decision 2004'!$H$117)))))","v":0.54983737742466199}]
["Capital cost",{"$f":"($F$236*E191+$L$236*E192+$R$236*E193+$X$236*E194)*J191","v":58.978168830112018},null,{"$f":"'Inputs PL Final Decision 2004'!$B$93","v":"Urban"},{"$f":"IF($A$1='Inputs PL Final Decision 2004'!$A$123,'Inputs PL Final Decision 2004'!$C$93,IF($A$1='Inputs PL Final Decision 2004'!$A$124,'Inputs PL Final Decision 2004'!$D$93,IF($A$1='Inputs PL Final Decision 2004'!$A$125,'Inputs PL Final Decision 2004'!$E$93,IF($A$1='Inputs PL Final Decision 2004'!$A$126,'Inputs PL Final Decision 2004'!$F$93,IF($A$1='Inputs PL Final Decision 2004'!$A$127,'Inputs PL Final Decision 2004'!$G$93,'Inputs PL Final Decision 2004'!$H$93)))))","v":0.35}]
[{"$f":"'Inputs PL Final Decision 2004'!$A$52","v":"Depreciation of dedicated street lighting pole & bracket"},{"$f":"'Inputs PL Final Decision 2004'!$B$52","v":35},null,{"$f":"'Inputs PL Final Decision 2004'!$B$94","v":"Rural"},{"$f":"IF($A$1='Inputs PL Final Decision 2004'!$A$123,'Inputs PL Final Decision 2004'!$C$94,IF($A$1='Inputs PL Final Decision 2004'!$A$124,'Inputs PL Final Decision 2004'!$D$94,IF($A$1='Inputs PL Final Decision 2004'!$A$125,'Inputs PL Final Decision 2004'!$E$94,IF($A$1='Inputs PL Final Decision 2004'!$A$126,'Inputs PL Final Decision 2004'!$F$94,IF($A$1='Inputs PL Final Decision 2004'!$A$127,'Inputs PL Final Decision 2004'!$G$94,'Inputs PL Final Decision 2004'!$H$94)))))","v":0.53}]
[{"$f":"'Inputs PL Final Decision 2004'!$A$16","v":"Number of years from 1 January 2001"},{"$f":"'Inputs PL Final Decision 2004'!$B$16","v":4},null,{"$f":"'Inputs PL Final Decision 2004'!$B$95","v":"Remote"},{"$f":"IF($A$1='Inputs PL Final Decision 2004'!$A$123,'Inputs PL Final Decision 2004'!$C$95,IF($A$1='Inputs PL Final Decision 2004'!$A$124,'Inputs PL Final Decision 2004'!$D$95,IF($A$1='Inputs PL Final Decision 2004'!$A$125,'Inputs PL Final Decision 2004'!$E$95,IF($A$1='Inputs PL Final Decision 2004'!$A$126,'Inputs PL Final Decision 2004'!$F$95,IF($A$1='Inputs PL Final Decision 2004'!$A$127,'Inputs PL Final Decision 2004'!$G$95,'Inputs PL Final Decision 2004'!$H$95)))))","v":0.12}]
[]
[]
[]
[null,null,null,null,2004,{"$f":"E198+1","v":2005},2006,2007,2008,2009,2010,2011,2012,2013,2014,2015,{"$f":"P198+1","v":2016},{"$f":"Q198+1","v":2017},{"$f":"R198+1","v":2018},{"$f":"S198+1","v":2019},{"$f":"T198+1","v":2020},{"$f":"V$91","v":"HY2021"},{"$f":"W$91","v":"2022-06-30"},{"$f":"X$91","v":"2023-06-30"},"2024-06-30","2025-06-30","2026-06-30","2027-06-30","2028-06-30","2029-06-30","2030-06-30","2031-06-30","2032-06-30","2033-06-30","2034-06-30","2035-06-30","2036-06-30","2037-06-30","2038-06-30","2039-06-30"]
["RAB for Return",null,null,null,{"$f":"E$129/$B193*$B192/$B193","v":5.6089442193535106},6.2589077125833166,6.0663259368115217,5.8737441610397276,5.6811623852679327,5.4885806094961396,5.2959988337243447,5.1034170579525506,4.9108352821807557,4.7182535064089608,4.5256717306371668,4.3330899548653727,{"$f":"Q$129/$B193*$B192/$B193","v":4.1405081790935787},3.9479264033217842,3.7553446275499898,3.5627628517781957,3.3701810760064013,3.2738901881205038,3.0813084123487093,2.8887266365769149,2.6961448608051213,2.5035630850333268,2.3109813092615323,2.1183995334897379,1.9258177577179432,1.7332359819461489,1.5406542061743547,1.3480724304025606,1.1554906546307662,0.96290887885897158,0.77032710308717733,0.57774532731538308,0.38516355154358867,0.19258177577179433,9.6290887885897167E-2,0]
["Depreciation",null,null,null,{"$f":"IF(E199=0,0,$B$192*$B$194/$B$193/$B$193)","v":0.19258177577179436},0.19258177577179436,0.19258177577179436,0.19258177577179436,0.19258177577179436,0.19258177577179436,0.19258177577179436,0.19258177577179436,0.19258177577179436,0.19258177577179436,0.19258177577179436,0.19258177577179436,{"$f":"IF(Q199=0,0,$B$192*$B$194/$B$193/$B$193)","v":0.19258177577179436},{"$f":"IF(R199=0,0,$B$192*$B$194/$B$193/$B$193)","v":0.19258177577179436},{"$f":"IF(S199=0,0,$B$192*$B$194/$B$193/$B$193)","v":0.19258177577179436},{"$f":"IF(T199=0,0,$B$192*$B$194/$B$193/$B$193)","v":0.19258177577179436},{"$f":"IF(U199=0,0,$B$192*$B$194/$B$193/$B$193)","v":0.19258177577179436},{"$f":"IF(V199=0,0,$B$192*$B$194/$B$193/$B$193)*0.5","v":9.6290887885897181E-2},{"$f":"IF(W199=0,0,$B$192*$B$194/$B$193/$B$193)","v":0.19258177577179436},0.19258177577179436,0.19258177577179436,0.19258177577179436,0.19258177577179436,0.19258177577179436,0.19258177577179436,0.19258177577179436,0.19258177577179436,0.19258177577179436,0.19258177577179436,0.19258177577179436,0.19258177577179436,0.19258177577179436,0.19258177577179436,0.19258177577179436,{"$f":"IF(AM199=0,0,$B$192*$B$194/$B$193/$B$193)*0.5","v":9.6290887885897181E-2},{"$f":"IF(AN199=0,0,$B$192*$B$194/$B$193/$B$193)","v":0}]
[]
[]
[]
[]
[]
[]
[]
[null,"CitiPower",null,null,null,null,null,"Urban",null,null,null,null,null,"Rural",null,null,null,null,null,"Remote"]
[]
[null,"Unit rate","Number","Hours","Cost","Annualised",null,"Unit rate","Number","Hours","Cost","Annualised",null,"Unit rate","Number","Hours","Cost","Annualised",null,"Unit rate","Number","Hours","Cost","Annualised"]
[null,null,null,null,null," cost",null,null,null,null,null," cost",null,null,null,null,null," cost",null,null,null,null,null," cost"]
["MV80"]
["Luminaires "]
["Material & misc",{"$f":"'Inputs PL Final Decision 2004'!$B$21+'Inputs PL Final Decision 2004'!$B$22","v":159.55000000000001},{"$f":"'Inputs PL Final Decision 2004'!$B$24","v":16},null,{"$f":"B214*C214","v":2552.8000000000002},{"$f":"(E214+E215+E216)/C214","v":240.24687500000002},null,{"$f":"'Inputs PL Final Decision 2004'!$B$21+'Inputs PL Final Decision 2004'!$B$22","v":159.55000000000001},{"$f":"'Inputs PL Final Decision 2004'!$B$24","v":16},null,{"$f":"H214*I214","v":2552.8000000000002},{"$f":"(K214+K215+K216)/I214","v":240.24687500000002},null,{"$f":"('Inputs PL Final Decision 2004'!$B$21+'Inputs PL Final Decision 2004'!$B$22)*(1+'Inputs PL Final Decision 2004'!$B$10)","v":167.52750000000003},{"$f":"'Inputs PL Final Decision 2004'!$B$25","v":13},null,{"$f":"N214*O214","v":2177.8575000000005},{"$f":"(Q214+Q215+Q216)/O214","v":273.2544230769231},null,{"$f":"('Inputs PL Final Decision 2004'!$B$21+'Inputs PL Final Decision 2004'!$B$22)*(1+'Inputs PL Final Decision 2004'!$B$10)","v":167.52750000000003},{"$f":"'Inputs PL Final Decision 2004'!$B$26","v":10},null,{"$f":"T214*U214","v":1675.2750000000003},{"$f":"(W214+W215+W216)/U214","v":304.97250000000003}]
["Crew costs",{"$f":"'Inputs PL Final Decision 2004'!$B$11","v":60},{"$f":"'Inputs PL Final Decision 2004'!$B$23","v":2},{"$f":"'Inputs PL Final Decision 2004'!$B$14","v":8.33},{"$f":"B215*C215*D215","v":999.6},null,null,{"$f":"'Inputs PL Final Decision 2004'!$B$11","v":60},{"$f":"'Inputs PL Final Decision 2004'!$B$23","v":2},{"$f":"'Inputs PL Final Decision 2004'!$B$14","v":8.33},{"$f":"H215*I215*J215","v":999.6},null,null,{"$f":"'Inputs PL Final Decision 2004'!$B$11","v":60},{"$f":"'Inputs PL Final Decision 2004'!$B$23","v":2},{"$f":"'Inputs PL Final Decision 2004'!$B$14","v":8.33},{"$f":"N215*O215*P215","v":999.6},null,null,{"$f":"'Inputs PL Final Decision 2004'!$B$11","v":60},{"$f":"'Inputs PL Final Decision 2004'!$B$23","v":2},{"$f":"'Inputs PL Final Decision 2004'!$B$14","v":8.33},{"$f":"T215*U215*V215","v":999.6}]
["Elevated platform costs",{"$f":"'Inputs PL Final Decision 2004'!$B$12","v":35},1,{"$f":"'Inputs PL Final Decision 2004'!$B$14","v":8.33},{"$f":"B216*C216*D216","v":291.55},null,null,{"$f":"'Inputs PL Final Decision 2004'!$B$12","v":35},1,{"$f":"'Inputs PL Final Decision 2004'!$B$14","v":8.33},{"$f":"H216*I216*J216","v":291.55},null,null,{"$f":"'Inputs PL Final Decision 2004'!$B$13","v":45},1,{"$f":"'Inputs PL Final Decision 2004'!$B$14","v":8.33},{"$f":"N216*O216*P216","v":374.85},null,null,{"$f":"'Inputs PL Final Decision 2004'!$B$13","v":45},1,{"$f":"'Inputs PL Final Decision 2004'!$B$14","v":8.33},{"$f":"T216*U216*V216","v":374.85}]
[]
["S-HP 150"]
["Luminaires "]
["Material & misc",{"$f":"'Inputs PL Final Decision 2004'!$B$31+'Inputs PL Final Decision 2004'!$B$32","v":189.64},{"$f":"'Inputs PL Final Decision 2004'!$B$35","v":16},null,{"$f":"B220*C220","v":3034.24},{"$f":"(E220+E221+E222)/C220","v":291.16187500000001},null,{"$f":"'Inputs PL Final Decision 2004'!$B$31+'Inputs PL Final Decision 2004'!$B$32","v":189.64},{"$f":"'Inputs PL Final Decision 2004'!$B$35","v":16},null,{"$f":"H220*I220","v":3034.24},{"$f":"(K220+K221+K222)/I220","v":275.54312499999997},null,{"$f":"('Inputs PL Final Decision 2004'!$B$31+'Inputs PL Final Decision 2004'!$B$32)*(1+'Inputs PL Final Decision 2004'!$B$10)","v":199.12199999999999},{"$f":"'Inputs PL Final Decision 2004'!$B$36","v":13},null,{"$f":"N220*O220","v":2588.5859999999998},{"$f":"(Q220+Q221+Q222)/O220","v":304.84892307692303},null,{"$f":"('Inputs PL Final Decision 2004'!$B$31+'Inputs PL Final Decision 2004'!$B$32)*(1+'Inputs PL Final Decision 2004'!$B$10)","v":199.12199999999999},{"$f":"'Inputs PL Final Decision 2004'!$B$37","v":10},null,{"$f":"T220*U220","v":1991.2199999999998},{"$f":"(W220+W221+W222)/U220","v":336.56699999999995}]
["Crew costs",{"$f":"'Inputs PL Final Decision 2004'!$B$11","v":60},{"$f":"'Inputs PL Final Decision 2004'!$B$34","v":2.5},{"$f":"'Inputs PL Final Decision 2004'!$B$14","v":8.33},{"$f":"D221*C221*B221","v":1249.5},null,null,{"$f":"'Inputs PL Final Decision 2004'!$B$11","v":60},{"$f":"'Inputs PL Final Decision 2004'!$B$33","v":2},{"$f":"'Inputs PL Final Decision 2004'!$B$14","v":8.33},{"$f":"J221*I221*H221","v":999.6},null,null,{"$f":"'Inputs PL Final Decision 2004'!$B$11","v":60},{"$f":"'Inputs PL Final Decision 2004'!$B$33","v":2},{"$f":"'Inputs PL Final Decision 2004'!$B$14","v":8.33},{"$f":"P221*O221*N221","v":999.6},null,null,{"$f":"'Inputs PL Final Decision 2004'!$B$11","v":60},{"$f":"'Inputs PL Final Decision 2004'!$B$33","v":2},{"$f":"'Inputs PL Final Decision 2004'!$B$14","v":8.33},{"$f":"V221*U221*T221","v":999.6}]
["Elevated platform vehicle costs",{"$f":"'Inputs PL Final Decision 2004'!$B$13","v":45},1,{"$f":"'Inputs PL Final Decision 2004'!$B$14","v":8.33},{"$f":"D222*C222*B222","v":374.85},null,null,{"$f":"'Inputs PL Final Decision 2004'!$B$13","v":45},1,{"$f":"'Inputs PL Final Decision 2004'!$B$14","v":8.33},{"$f":"J222*I222*H222","v":374.85},null,null,{"$f":"'Inputs PL Final Decision 2004'!$B$13","v":45},1,{"$f":"'Inputs PL Final Decision 2004'!$B$14","v":8.33},{"$f":"P222*O222*N222","v":374.85},null,null,{"$f":"'Inputs PL Final Decision 2004'!$B$13","v":45},1,{"$f":"'Inputs PL Final Decision 2004'!$B$14","v":8.33},{"$f":"V222*U222*T222","v":374.85}]
[]
["S-HP 250"]
["Luminaires "]
["Material & misc",{"$f":"'Inputs PL Final Decision 2004'!$B$42+'Inputs PL Final Decision 2004'!$B$43","v":192.44},{"$f":"'Inputs PL Final Decision 2004'!$B$46","v":16},null,{"$f":"B226*C226","v":3079.04},{"$f":"(E226+E227+E228)/C226","v":293.96187500000002},null,{"$f":"'Inputs PL Final Decision 2004'!$B$42+'Inputs PL Final Decision 2004'!$B$43","v":192.44},{"$f":"'Inputs PL Final Decision 2004'!$B$46","v":16},null,{"$f":"H226*I226","v":3079.04},{"$f":"(K226+K227+K228)/I226","v":278.34312499999999},null,{"$f":"('Inputs PL Final Decision 2004'!$B$42+'Inputs PL Final Decision 2004'!$B$43)*(1+'Inputs PL Final Decision 2004'!$B$10)","v":202.06200000000001},{"$f":"'Inputs PL Final Decision 2004'!$B$47","v":13},null,{"$f":"N226*O226","v":2626.806},{"$f":"(Q226+Q227+Q228)/O226","v":307.78892307692308},null,{"$f":"('Inputs PL Final Decision 2004'!$B$42+'Inputs PL Final Decision 2004'!$B$43)*(1+'Inputs PL Final Decision 2004'!$B$10)","v":202.06200000000001},{"$f":"'Inputs PL Final Decision 2004'!$B$48","v":10},null,{"$f":"T226*U226","v":2020.6200000000001},{"$f":"(W226+W227+W228)/U226","v":339.50700000000001}]
["Crew costs",{"$f":"'Inputs PL Final Decision 2004'!$B$11","v":60},{"$f":"'Inputs PL Final Decision 2004'!$B$45","v":2.5},{"$f":"'Inputs PL Final Decision 2004'!$B$14","v":8.33},{"$f":"D227*C227*B227","v":1249.5},null,null,{"$f":"'Inputs PL Final Decision 2004'!$B$11","v":60},{"$f":"'Inputs PL Final Decision 2004'!$B$44","v":2},{"$f":"'Inputs PL Final Decision 2004'!$B$14","v":8.33},{"$f":"J227*I227*H227","v":999.6},null,null,{"$f":"'Inputs PL Final Decision 2004'!$B$11","v":60},{"$f":"'Inputs PL Final Decision 2004'!$B$44","v":2},{"$f":"'Inputs PL Final Decision 2004'!$B$14","v":8.33},{"$f":"P227*O227*N227","v":999.6},null,null,{"$f":"'Inputs PL Final Decision 2004'!$B$11","v":60},{"$f":"'Inputs PL Final Decision 2004'!$B$44","v":2},{"$f":"'Inputs PL Final Decision 2004'!$B$14","v":8.33},{"$f":"V227*U227*T227","v":999.6}]
["Elevated platform vehicle costs",{"$f":"'Inputs PL Final Decision 2004'!$B$13","v":45},1,{"$f":"'Inputs PL Final Decision 2004'!$B$14","v":8.33},{"$f":"D228*C228*B228","v":374.85},null,null,{"$f":"'Inputs PL Final Decision 2004'!$B$13","v":45},1,{"$f":"'Inputs PL Final Decision 2004'!$B$14","v":8.33},{"$f":"J228*I228*H228","v":374.85},null,null,{"$f":"'Inputs PL Final Decision 2004'!$B$13","v":45},1,{"$f":"'Inputs PL Final Decision 2004'!$B$14","v":8.33},{"$f":"P228*O228*N228","v":374.85},null,null,{"$f":"'Inputs PL Final Decision 2004'!$B$13","v":45},1,{"$f":"'Inputs PL Final Decision 2004'!$B$14","v":8.33},{"$f":"V228*U228*T228","v":374.85}]
[]
["Dedicated poles"]
["Material",{"$f":"'Inputs PL Final Decision 2004'!$B$53","v":500},{"$f":"'Inputs PL Final Decision 2004'!$B$54","v":4},null,{"$f":"C231*B231","v":2000},{"$f":"(E231+E232+E233)/C231","v":822.78750000000002},null,{"$f":"'Inputs PL Final Decision 2004'!$B$53","v":500},{"$f":"'Inputs PL Final Decision 2004'!$B$54","v":4},null,{"$f":"I231*H231","v":2000},{"$f":"(K231+K232+K233)/I231","v":822.78750000000002},null,{"$f":"'Inputs PL Final Decision 2004'!$B$53","v":500},{"$f":"'Inputs PL Final Decision 2004'!$B$54","v":4},null,{"$f":"O231*N231","v":2000},{"$f":"(Q231+Q232+Q233)/O231","v":843.61249999999995},null,{"$f":"'Inputs PL Final Decision 2004'!$B$53","v":500},{"$f":"'Inputs PL Final Decision 2004'!$B$54","v":4},null,{"$f":"U231*T231","v":2000},{"$f":"(W231+W232+W233)/U231","v":843.61249999999995}]
["Crew costs",{"$f":"'Inputs PL Final Decision 2004'!$B$11","v":60},{"$f":"'Inputs PL Final Decision 2004'!$B$23","v":2},{"$f":"'Inputs PL Final Decision 2004'!$B$14","v":8.33},{"$f":"B232*C232*D232","v":999.6},null,null,{"$f":"'Inputs PL Final Decision 2004'!$B$11","v":60},{"$f":"'Inputs PL Final Decision 2004'!$B$23","v":2},{"$f":"'Inputs PL Final Decision 2004'!$B$14","v":8.33},{"$f":"H232*I232*J232","v":999.6},null,null,{"$f":"'Inputs PL Final Decision 2004'!$B$11","v":60},{"$f":"'Inputs PL Final Decision 2004'!$B$23","v":2},{"$f":"'Inputs PL Final Decision 2004'!$B$14","v":8.33},{"$f":"N232*O232*P232","v":999.6},null,null,{"$f":"'Inputs PL Final Decision 2004'!$B$11","v":60},{"$f":"'Inputs PL Final Decision 2004'!$B$23","v":2},{"$f":"'Inputs PL Final Decision 2004'!$B$14","v":8.33},{"$f":"T232*U232*V232","v":999.6}]
["Elevated platform costs",{"$f":"'Inputs PL Final Decision 2004'!$B$12","v":35},1,{"$f":"'Inputs PL Final Decision 2004'!$B$14","v":8.33},{"$f":"B233*C233*D233","v":291.55},null,null,{"$f":"'Inputs PL Final Decision 2004'!$B$12","v":35},1,{"$f":"'Inputs PL Final Decision 2004'!$B$14","v":8.33},{"$f":"H233*I233*J233","v":291.55},null,null,{"$f":"'Inputs PL Final Decision 2004'!$B$13","v":45},1,{"$f":"'Inputs PL Final Decision 2004'!$B$14","v":8.33},{"$f":"N233*O233*P233","v":374.85},null,null,{"$f":"'Inputs PL Final Decision 2004'!$B$13","v":45},1,{"$f":"'Inputs PL Final Decision 2004'!$B$14","v":8.33},{"$f":"T233*U233*V233","v":374.85}]
[]
["Brackets"]
["Material",{"$f":"'Inputs PL Final Decision 2004'!$B$55","v":40},{"$f":"'Inputs PL Final Decision 2004'!$B$56","v":20},null,{"$f":"C236*B236","v":800},{"$f":"(E236+E237+E238)/C236","v":104.5575},null,{"$f":"'Inputs PL Final Decision 2004'!$B$55","v":40},{"$f":"'Inputs PL Final Decision 2004'!$B$56","v":20},null,{"$f":"I236*H236","v":800},{"$f":"(K236+K237+K238)/I236","v":104.5575},null,{"$f":"'Inputs PL Final Decision 2004'!$B$55","v":40},{"$f":"'Inputs PL Final Decision 2004'!$B$56","v":20},null,{"$f":"O236*N236","v":800},{"$f":"(Q236+Q237+Q238)/O236","v":108.7225},null,{"$f":"'Inputs PL Final Decision 2004'!$B$55","v":40},{"$f":"'Inputs PL Final Decision 2004'!$B$56","v":20},null,{"$f":"U236*T236","v":800},{"$f":"(W236+W237+W238)/U236","v":108.7225}]
["Crew costs",{"$f":"'Inputs PL Final Decision 2004'!$B$11","v":60},{"$f":"'Inputs PL Final Decision 2004'!$B$23","v":2},{"$f":"'Inputs PL Final Decision 2004'!$B$14","v":8.33},{"$f":"B237*C237*D237","v":999.6},null,null,{"$f":"'Inputs PL Final Decision 2004'!$B$11","v":60},{"$f":"'Inputs PL Final Decision 2004'!$B$23","v":2},{"$f":"'Inputs PL Final Decision 2004'!$B$14","v":8.33},{"$f":"H237*I237*J237","v":999.6},null,null,{"$f":"'Inputs PL Final Decision 2004'!$B$11","v":60},{"$f":"'Inputs PL Final Decision 2004'!$B$23","v":2},{"$f":"'Inputs PL Final Decision 2004'!$B$14","v":8.33},{"$f":"N237*O237*P237","v":999.6},null,null,{"$f":"'Inputs PL Final Decision 2004'!$B$11","v":60},{"$f":"'Inputs PL Final Decision 2004'!$B$23","v":2},{"$f":"'Inputs PL Final Decision 2004'!$B$14","v":8.33},{"$f":"T237*U237*V237","v":999.6}]
["Elevated platform costs",{"$f":"'Inputs PL Final Decision 2004'!$B$12","v":35},1,{"$f":"'Inputs PL Final Decision 2004'!$B$14","v":8.33},{"$f":"B238*C238*D238","v":291.55},null,null,{"$f":"'Inputs PL Final Decision 2004'!$B$12","v":35},1,{"$f":"'Inputs PL Final Decision 2004'!$B$14","v":8.33},{"$f":"H238*I238*J238","v":291.55},null,null,{"$f":"'Inputs PL Final Decision 2004'!$B$13","v":45},1,{"$f":"'Inputs PL Final Decision 2004'!$B$14","v":8.33},{"$f":"N238*O238*P238","v":374.85},null,null,{"$f":"'Inputs PL Final Decision 2004'!$B$13","v":45},1,{"$f":"'Inputs PL Final Decision 2004'!$B$14","v":8.33},{"$f":"T238*U238*V238","v":374.85}]
[" "]

{"sheet":"Inputs PL Final Decision 2004","index":19,"n_rows":128,"n_cols":8,"rows_kept":128,"cut":false,"hidden":false,"merged":[[88,5,88,6],[88,7,89,7],[88,1,89,1],[88,2,89,2],[88,3,89,3],[88,4,89,4],[116,0,116,1],[107,5,107,6],[107,7,108,7],[113,0,113,1],[114,0,114,1],[107,1,108,1],[107,2,108,2],[107,3,108,3],[107,4,108,4]]}
[{"$f":"'Inputs PL Final Decision 2004'!$A$127","v":"SP AusNet - North/East"}]
[]
["Final Decision - Cost Build-up Model 2004"]
[]
[]
[]
["Input parameters"]
[]
["Inputs - all lamps"]
["Material premium for rural areas",0.05]
["Labour rate (per hour)",60]
["Elevated platform vehicle (per hour) - urban MV",35]
["Elevated platform vehicle (per hour) - rural MV, S-HP",45]
["Number of hours in a day",8.33]
["Rate of return (per annum)",9.5000000000000001E-2]
["Number of years from 1 January 2001",4]
[]
["Inputs - MV80"]
[]
["Depreciation period",20,"years"]
["Unit cost - luminaire",158.55000000000001]
["Unit cost - miscellaneous materials (bulk lamp)",1]
["Number of men in crew",2]
["Number of luminaires replaced per day - urban",16]
["Number of luminaires replaced per day - rural",13]
["Number of luminaires replaced per day - remote",10]
[]
["Inputs - S-HP150"]
[]
["Depreciation period ",20,"years"]
["Unit cost - luminaire",187.64]
["Unit cost - miscellaneous materials",2]
["Number of men in crew - repairs (exc CitiPower)",2]
["Number of men in crew - repairs (CitiPower)",2.5]
["Number of luminaires replaced per day - urban",16]
["Number of luminaires replaced per day - rural",13]
["Number of luminaires replaced per day - remote",10]
[]
["Inputs - S-HP250"]
[]
["Depreciation period ",{"$f":"B30","v":20},"years"]
["Unit cost - luminaire",190.44]
["Unit cost - miscellaneous materials",2]
["Number of men in crew - repairs (exc CitiPower)",{"$f":"B33","v":2}]
["Number of men in crew - repairs (CitiPower)",{"$f":"B34","v":2.5}]
["Number of luminaires replaced per day - urban",{"$f":"B35","v":16}]
["Number of luminaires replaced per day - rural",{"$f":"B36","v":13}]
["Number of luminaires replaced per day - remote",{"$f":"B37","v":10}]
[]
["Dedicated street lighting poles"]
[]
["Depreciation of dedicated street lighting pole & bracket",35,"years"]
["Cost of pole & bracket",500]
["Number of poles & brackets replaced per day",4]
["Cost of bracket",40]
["Number of brackets replaced per day",20]
[]
[]
[]
[]
[]
[]
["DEPRECIATION PROFILE"]
[]
["20 year asset life"]
[null,2001,2002,2003,2004]
["New assets in 2001","10/20","19/20","18/20","17/20","Assume half the asset base in first year"]
["New assets in 2002",null,"10/20","19/20","18/20","In subsequent years - depreciation of 1/20 per year"]
["New assets in 2003",null,null,"10/20","19/20"]
["New assets in 2004",null,null,null,"10/20"]
[]
["Total","10/20","29/20","47/20","64/20"]
[]
["35 year asset life"]
[null,2001,2002,2003,2004]
["New assets in 2001","17.5/35","34/35","33/35","32/35","Assume half the asset base in first year"]
["New assets in 2002",null,"17.5/35","34/35","33/35","In subsequent years - depreciation of 1/35 per year"]
["New assets in 2003",null,null,"17.5/35","34/35"]
["New assets in 2004",null,null,null,"17.5/35"]
[]
["Total","17.5/35","51.5/35","84.5/35","116.5/35"]
[]
[]
[]
[]
[]
[]
[null,"Location of selected public lighting assets within distributors' areas (%)"]
[null,null,"AGL (%)","CitiPower (%)","Powercor (%)","TXU (%)",null,"United Energy (%)"]
[null,null,null,null,null,"central","north/east"]
[null,"MV 80 Watt"]
[null,"CitiPower",0,1,0,0,0,0]
[null,"Urban",0.97,0,0.39,0.96,0.35,0.84]
[null,"Rural",0.03,0,0.57099999999999995,0.04,0.53,0.16]
[null,"Remote",0,0,3.9E-2,0,0.12,0]
[null,"S-HP 150 Watt"]
[null,"CitiPower",0,1,0,0,0,0]
[null,"Urban",0.98,0,0.52,0.94,0.3,0.84]
[null,"Rural",0.02,0,0.441,0.06,0.63,0.16]
[null,"Remote",0,0,3.9E-2,0,7.0000000000000007E-2,0]
[null,"S-HP 250 Watt"]
[null,"CitiPower",0,1,0,0,0,0]
[null,"Urban",0.96,0,0.48,0.9,0.37,0.84]
[null,"Rural",0.04,0,0.48099999999999998,0.1,0.56999999999999995,0.16]
[null,"Remote",0,0,3.9E-2,0,0.06,0]
[]
[null,"Proportion of lights installed at 1 January 2001 (%)"]
[null,null,"AGL","CitiPower","Powercor","TXU",null,"United Energy"]
[null,null,null,null,null,"central","north/east"]
[null,"MV 80 Watt",0.905787037037037,1,0.86777777777777776,0.88453792189886593,0.88441954863731531,0.89212199870214148]
[null,"S-HP 150 Watt",0.92852830188679247,0.97046808510638294,0.79574999999999996,0.9271778402248092,0.92717784022480954,0.76780200027653589]
[null,"S-HP 250 Watt",0.97372093023255812,1,0.8570165745856354,0.93238356164383551,0.93238356164383573,0.79881039340498805]
[]
["Proportion of lights on dedicated poles",null,0.1908204,0.19633080440438641,0.28800286795458091,0.38119062500000001,0.38296744016378254,0.2370560408218817]
["Proportion of dedicated poles at 1 Jan 2001",null,0.91293333333333337,0.91293333333333337,0.88888888888888884,0.89230769230769236,0.88888888888888884,0.91293333333333337]
[]
["Proportion of non-dedicated poles at 1 Jan 2001",null,0.74134150899999995,0.85329845683448124,0.6107644460365671,0.54998659800000005,0.54983737742466199,0.66538387625035467]
[]
[]
[]
[]
[]
["Jemena",{"$f":"C108","v":"AGL"}]
["Citipower",{"$f":"D108","v":"CitiPower"}]
["Powercor",{"$f":"E108","v":"Powercor"}]
["SP AusNet - Central",{"$f":"F108","v":"TXU"},{"$f":"F109","v":"central"}]
["SP AusNet - North/East",{"$f":"F108","v":"TXU"},{"$f":"G109","v":"north/east"}]
["United Energy",{"$f":"H108","v":"United Energy"}]